{"text_format":"1","workbook":"xlsx","n_sheets":6,"sheets":["ProjectInformation","DataInput","DataInformation","Tabfill","107_28","107_28SheetTemplate"],"not_rendered":{"charts":0,"images":0,"macros":1,"external_links":0,"defined_names":99,"comments":1,"pivot_tables":0},"unopened":[],"bounds":{"document_bytes":16777216,"sheet_cells":100000,"rows_first":2000,"rows_last":500,"rows_between":2000,"halvings":0,"cell_chars":16384,"cell_head_chars":4096},"cells_cut":0,"cells_raw":0,"read":"whole","date_system":"1900"}

{"sheet":"ProjectInformation","index":0,"n_rows":12,"n_cols":2,"rows_kept":12,"cut":false,"hidden":false,"merged":[[0,0,0,1],[1,0,1,1],[3,0,4,0],[10,0,10,1]]}
["CPN DATA"]
["INFORMATION ADDED BY DESIGNER"]
["Section Engineer","WHKS & CO."]
["Design Team"]
[]
["County","SCOTT"]
["Project Number","BRF-461-1(6)--38-82"]
["English or Metric","ENGLISH"]
["Revised"]
["Project Path"]
["Bridge Block"]
["File No."]

{"sheet":"DataInput","index":1,"n_rows":161,"n_cols":36,"rows_kept":161,"cut":false,"hidden":false,"merged":[[2,29,9,29],[2,15,9,15],[2,14,9,14],[2,7,9,7],[2,8,9,8],[2,11,9,11],[2,12,9,12],[2,13,9,13],[2,20,9,20],[2,21,9,21],[2,22,9,22],[2,23,9,23],[2,16,9,16],[2,17,9,17],[2,18,9,18],[2,10,9,10],[2,0,9,0],[2,1,9,1],[2,2,9,2],[2,3,9,3],[2,9,9,9],[2,4,9,4],[2,5,9,5],[2,6,9,6],[0,1,0,18],[0,19,0,20],[0,21,0,22],[0,23,0,35],[2,34,9,34],[2,35,9,35],[2,30,9,30],[2,31,9,31],[2,32,9,32],[2,33,9,33],[2,24,9,24],[2,25,9,25],[2,26,9,26],[2,27,9,27],[2,28,9,28],[2,19,9,19]]}
[null,"Cut and Fill",null,null,null,null,null,null,null,null,null,null,null,null,null,null,null,null,null,"Topsoil Stripping",null,"Existing Pavement Cut",null,"Plowing and Shaping"]
[null,"Column 1","Column 2","Column 3","Column 4","Column 5","Column 6","Column 7","Column 8","Column 9","Column 10","Column 11","Column 12","Column 13","Column 14","Column 15","Column 16","Column 17","Column 18","Column 1","Column 2","Column 1","Column 2","Column 1","Column 2","Column 3","Column 4","Column 5","Column 6","Column 7","Column 8","Column 9","Column 10","Column 11","Column 12","Column 13"]
[{"$f":"\"Station\"","v":"Station"},{"$f":"\"Template Cut\"&CHAR(10)&\"End Area\"","v":"Template Cut\nEnd Area"},{"$f":"\"Template Cut\"&CHAR(10)&\"Volume\"","v":"Template Cut\nVolume"},{"$f":"\"Template\"&CHAR(10)&\"Class 10\"&CHAR(10)&\"Volume\"","v":"Template\nClass 10\nVolume"},{"$f":"\"Template\"&CHAR(10)&\"Topsoil Cut\"&CHAR(10)&\"Volume\"","v":"Template\nTopsoil Cut\nVolume"},{"$f":"\"Template\"&CHAR(10)&\"Unsuitable\"&CHAR(10)&\"Type A\"&CHAR(10)&\"Volume\"","v":"Template\nUnsuitable\nType A\nVolume"},{"$f":"\"Template\"&CHAR(10)&\"Unsuitable\"&CHAR(10)&\"Type B\"&CHAR(10)&\"Volume\"","v":"Template\nUnsuitable\nType B\nVolume"},{"$f":"\"Template\"&CHAR(10)&\"Unsuitable\"&CHAR(10)&\"Type C\"&CHAR(10)&\"Volume\"","v":"Template\nUnsuitable\nType C\nVolume"},{"$f":"\"Template\"&CHAR(10)&\"Pavement\"&CHAR(10)&\"Removal\"&CHAR(10)&\"Volume\"","v":"Template\nPavement\nRemoval\nVolume"},{"$f":"\"Template\"&CHAR(10)&\"Select Loam\"&CHAR(10)&\"Volume\"","v":"Template\nSelect Loam\nVolume"},{"$f":"\"Template\"&CHAR(10)&\"Select Sand\"&CHAR(10)&\"Volume\"","v":"Template\nSelect Sand\nVolume"},{"$f":"\"Template\"&CHAR(10)&\"Rock\"&CHAR(10)&\"Volume\"","v":"Template\nRock\nVolume"},{"$f":"\"Template\"&CHAR(10)&\"B & W Rock\"&CHAR(10)&\"Volume\"","v":"Template\nB & W Rock\nVolume"},{"$f":"\"Template\"&CHAR(10)&\"Waste\"&CHAR(10)&\"Volume\"","v":"Template\nWaste\nVolume"},{"$f":"\"Template\"&CHAR(10)&\"Shale\"&CHAR(10)&\"Volume\"","v":"Template\nShale\nVolume"},{"$f":"\"Template\"&CHAR(10)&\"Rock Undercut\"&CHAR(10)&\"Volume\"","v":"Template\nRock Undercut\nVolume"},{"$f":"\"Template Fill\"&CHAR(10)&\"End Area\"","v":"Template Fill\nEnd Area"},{"$f":"\"Template Fill\"&CHAR(10)&\"Volume\"","v":"Template Fill\nVolume"},{"$f":"\"Template\"&CHAR(10)&\"Topsoil\"&CHAR(10)&\"Replacement\"&CHAR(10)&\"Volume\"","v":"Template\nTopsoil\nReplacement\nVolume"},{"$f":"\"Total\"&CHAR(10)&\"Topsoil Cut\"&CHAR(10)&\"End Area\"","v":"Total\nTopsoil Cut\nEnd Area"},{"$f":"\"Total\"&CHAR(10)&\"Topsoil Cut\"&CHAR(10)&\"Volume\"","v":"Total\nTopsoil Cut\nVolume"},{"$f":"\"Total Existing\"&CHAR(10)&\"Pavement Cut\"&CHAR(10)&\"End Area\"","v":"Total Existing\nPavement Cut\nEnd Area"},{"$f":"\"Total Existing\"&CHAR(10)&\"Pavement Cut\"&CHAR(10)&\"Volume\"","v":"Total Existing\nPavement Cut\nVolume"},{"$f":"\"Plowing &\"&CHAR(10)&\"Shaping\"&CHAR(10)&CHAR(10)&\"+ Fill\"","v":"Plowing &\nShaping\n\n+ Fill"},{"$f":"\"Plowing &\"&CHAR(10)&\"Shaping\"&CHAR(10)&\"Class 10\"&CHAR(10)&\"Volume\"","v":"Plowing &\nShaping\nClass 10\nVolume"},{"$f":"\"Template\"&CHAR(10)&\"Topsoil Cut\"&CHAR(10)&\"Volume\"","v":"Template\nTopsoil Cut\nVolume"},{"$f":"\"Plowing &\"&CHAR(10)&\"Shaping\"&CHAR(10)&\"Unsuitable\"&CHAR(10)&\"Type A\"&CHAR(10)&\"Volume\"","v":"Plowing &\nShaping\nUnsuitable\nType A\nVolume"},{"$f":"\"Plowing &\"&CHAR(10)&\"Shaping\"&CHAR(10)&\"Unsuitable\"&CHAR(10)&\"Type B\"&CHAR(10)&\"Volume\"","v":"Plowing &\nShaping\nUnsuitable\nType B\nVolume"},{"$f":"\"Plowing &\"&CHAR(10)&\"Shaping\"&CHAR(10)&\"Unsuitable\"&CHAR(10)&\"Type C\"&CHAR(10)&\"Volume\"","v":"Plowing &\nShaping\nUnsuitable\nType C\nVolume"},{"$f":"\"Plowing &\"&CHAR(10)&\"Shaping\"&CHAR(10)&\"Existing\"&CHAR(10)&\"Pavement\"&CHAR(10)&\"Volume\"","v":"Plowing &\nShaping\nExisting\nPavement\nVolume"},{"$f":"\"Plowing &\"&CHAR(10)&\"Shaping\"&CHAR(10)&\"Select Loam\"&CHAR(10)&\"Volume\"","v":"Plowing &\nShaping\nSelect Loam\nVolume"},{"$f":"\"Plowing &\"&CHAR(10)&\"Shaping\"&CHAR(10)&\"Select Sand\"&CHAR(10)&\"Volume\"","v":"Plowing &\nShaping\nSelect Sand\nVolume"},{"$f":"\"Plowing &\"&CHAR(10)&\"Shaping\"&CHAR(10)&\"Rock\"&CHAR(10)&\"Volume\"","v":"Plowing &\nShaping\nRock\nVolume"},{"$f":"\"Plowing &\"&CHAR(10)&\"Shaping\"&CHAR(10)&\"Broken &\"&CHAR(10)&\"Weathered\"&CHAR(10)&\"Rock\"&CHAR(10)&\"Volume\"","v":"Plowing &\nShaping\nBroken &\nWeathered\nRock\nVolume"},{"$f":"\"Plowing &\"&CHAR(10)&\"Shaping\"&CHAR(10)&\"Waste\"&CHAR(10)&\"Volume\"","v":"Plowing &\nShaping\nWaste\nVolume"},{"$f":"\"Plowing &\"&CHAR(10)&\"Shaping\"&CHAR(10)&\"Shale\"&CHAR(10)&\"Volume\"","v":"Plowing &\nShaping\nShale\nVolume"}]
[]
[]
[]
[]
[]
[]
[]
["ML461"]
[4320.3900000000003,1147,199,199,{"$f":"S12","v":16},0,0,0,0,0,0,0,0,0,0,0,223,37,16,null,{"$f":"S12*1.4","v":22.4},58,10]
[4325,1184,1168,1168,{"$f":"S13","v":101},0,0,0,0,0,0,0,0,0,0,0,289,237,101,null,{"$f":"S13*1.4","v":141.39999999999998},58,54]
[4350,1340,1185,1185,123,0,0,0,0,0,0,0,0,0,0,0,279,263,123,null,172.2,58,53]
[4375,1220,1138,1138,134,0,0,0,0,0,0,0,0,0,0,0,240,240,134,null,187.6,58,53]
[4400,1238,834,834,129,0,0,0,0,0,0,0,0,0,0,0,211,209,129,null,180.6,58,53]
[4425,564,668,668,119,0,0,0,0,0,0,0,0,0,0,0,199,190,119,null,166.6,58,53]
[4450,879,710,710,113,0,0,0,0,0,0,0,0,0,0,0,153,163,113,null,158.19999999999999,58,53]
[4475,654,518,518,101,0,0,0,0,0,0,0,0,0,0,0,118,126,101,null,141.39999999999998,58,53]
[4500,465,null,null,null,null,null,null,null,null,null,null,null,null,null,null,null,null,null,null,null,57]
["ML461"]
[4525,497,420,420,{"$f":"S22","v":62},0,0,0,0,0,0,0,0,0,0,0,37,51,62,null,{"$f":"S22*1.4","v":86.8},57,53]
[4550,410,358,358,{"$f":"S23","v":43},0,0,0,0,0,0,0,0,0,0,0,35,33,43,null,{"$f":"S23*1.4","v":60.199999999999996},57,53]
[4575,364,357,357,45,0,0,0,0,0,0,0,0,0,0,0,33,32,45,null,62.999999999999993,57,53]
[4600,406,437,437,58,0,0,0,0,0,0,0,0,0,0,0,34,31,58,null,81.199999999999989,57,53]
[4625,537,503,503,67,0,0,0,0,0,0,0,0,0,0,0,34,32,67,null,93.8,57,53]
[4650,549,506,506,64,0,0,0,0,0,0,0,0,0,0,0,40,34,64,null,89.6,57,53]
[4675,544,473,473,62,0,0,0,0,0,0,0,0,0,0,0,54,44,62,null,86.8,58,53]
[4700,479,319,319,67,0,0,0,0,0,0,0,0,0,0,0,64,55,67,null,93.8,58,53]
[4725,209,261,261,65,0,0,0,0,0,0,0,0,0,0,0,79,66,65,null,91,57,53]
[4750,353,334,334,64,0,0,0,0,0,0,0,0,0,0,0,103,84,64,null,89.6,57,53]
[4775,368,313,313,68,0,0,0,0,0,0,0,0,0,0,0,113,100,68,null,95.199999999999989,57,53]
[4800,308,281,281,62,0,0,0,0,0,0,0,0,0,0,0,131,113,62,null,86.8,57,53]
[4825,299,260,260,55,0,0,0,0,0,0,0,0,0,0,0,159,134,55,null,77,57,53]
[4850,262,263,263,48,0,0,0,0,0,0,0,0,0,0,0,219,175,48,null,67.199999999999989,57,53]
[4875,306,301,301,54,0,0,0,0,0,0,0,0,0,0,0,252,218,54,null,75.599999999999994,57,53]
[4900,345,336,336,64,0,0,0,0,0,0,0,0,0,0,0,293,252,64,null,89.6,57,53]
[4925,381,366,366,66,0,0,0,0,0,0,0,0,0,0,0,317,282,66,null,92.399999999999991,57,53]
[4950,410,388,388,67,0,0,0,0,0,0,0,0,0,0,0,387,326,67,null,93.8,58,53]
[4975,428,377,377,66,0,0,0,0,0,0,0,0,0,0,0,418,373,66,null,92.399999999999991,58,53]
[5000,385,301,301,65,0,0,0,0,0,0,0,0,0,0,0,442,398,65,null,91,58,56]
[5025,266,177,177,60,0,0,0,0,0,0,0,0,0,0,0,488,430,60,null,84,63,57]
[5050,115,76,76,56,0,0,0,0,0,0,0,0,0,0,0,564,487,56,null,78.399999999999991,60,55]
[5075,48,23,23,67,0,0,0,0,0,0,0,0,0,0,0,1346,884,67,null,93.8,58,51]
[5300,1,1,1,78,0,0,0,0,0,0,0,0,0,0,0,1279,1215,78,null,109.19999999999999,52,49]
[5325,2,1,1,76,0,0,0,0,0,0,0,0,0,0,0,1215,1155,76,null,106.39999999999999,53,50]
[5350,1,1,1,75,0,0,0,0,0,0,0,0,0,0,0,1218,1126,75,null,105,55,52]
[5375,1,1,1,74,0,0,0,0,0,0,0,0,0,0,0,1040,1045,74,null,103.6,57,53]
[5400,2,1,1,71,0,0,0,0,0,0,0,0,0,0,0,947,920,71,null,99.399999999999991,58,55]
[5425,2,2,2,68,0,0,0,0,0,0,0,0,0,0,0,811,814,68,null,95.199999999999989,60,57]
[5450,2,2,2,64,0,0,0,0,0,0,0,0,0,0,0,617,661,64,null,89.6,62,59]
[5475,1,1,1,61,0,0,0,0,0,0,0,0,0,0,0,468,503,61,null,85.399999999999991,65,61]
[5500,1,1,1,58,0,0,0,0,0,0,0,0,0,0,0,431,416,58,null,81.199999999999989,67,63]
[5525,2,2,2,54,0,0,0,0,0,0,0,0,0,0,0,366,369,54,null,75.599999999999994,70,66]
[5550,2,5,5,51,0,0,0,0,0,0,0,0,0,0,0,310,313,51,null,71.399999999999991,72,68]
[5575,8,14,14,49,0,0,0,0,0,0,0,0,0,0,0,262,265,49,null,68.599999999999994,75,71]
[5600,22,32,32,45,0,0,0,0,0,0,0,0,0,0,0,210,219,45,null,62.999999999999993,77,73]
[5625,46,54,54,41,0,0,0,0,0,0,0,0,0,0,0,153,168,41,null,57.4,80,75]
[5650,70,72,72,38,0,0,0,0,0,0,0,0,0,0,0,99,117,38,null,53.199999999999996,82,78]
[5675,85,97,97,55,0,0,0,0,0,0,0,0,0,0,0,50,69,55,null,77,85,77]
[5700,123,138,138,69,0,0,0,0,0,0,0,0,0,0,0,8,27,69,null,96.6,81,78]
[5725,176,190,190,50,0,0,0,0,0,0,0,0,0,0,0,0,4,50,null,70,87,86]
[5750,235,147,147,18,0,0,0,0,0,0,0,0,0,0,0,0,0,18,null,25.2,99,93]
[5775,82,77,77,0,0,0,0,0,0,0,0,0,0,0,0,0,0,0,null,0,102,96]
[5800,84,79,79,0,0,0,0,0,0,0,0,0,0,0,0,0,0,0,null,0,106,105]
[5825,87,82,82,0,0,0,0,0,0,0,0,0,0,0,0,0,0,0,null,0,120,92]
[5850,91,96,96,0,0,0,0,0,0,0,0,0,0,0,0,0,0,0,null,0,79,62]
[5875,116,117,117,0,0,0,0,0,0,0,0,0,0,0,0,0,0,0,null,0,56,51]
[5900,138,115,115,0,0,0,0,0,0,0,0,0,0,0,0,1,0,0,null,0,56,61]
[5925,111,94,94,0,0,0,0,0,0,0,0,0,0,0,0,0,0,0,null,0,75,89]
[5950,93,87,87,0,0,0,0,0,0,0,0,0,0,0,0,0,0,0,null,0,117,110]
[5975,95,85,85,0,0,0,0,0,0,0,0,0,0,0,0,0,0,0,null,0,120,101]
[6000,90,82,82,0,0,0,0,0,0,0,0,0,0,0,0,0,0,0,null,0,98,85]
[6025,88,141,141,14,0,0,0,0,0,0,0,0,0,0,0,0,0,14,null,19.599999999999998,84,77]
[6050,217,210,210,29,0,0,0,0,0,0,0,0,0,0,0,0,0,29,null,40.599999999999994,81,74]
[6075,238,null,null,null,null,null,null,null,null,null,null,null,null,null,null,null,null,null,null,null,79]
[]
["SR022"]
[49372.65,138,12,12,{"$f":"S79","v":4},0,0,0,0,0,0,0,0,0,0,0,103,9,4,null,{"$f":"S79*1.4","v":5.6},100,9]
[49375,139,128,128,{"$f":"S80","v":37},0,0,0,0,0,0,0,0,0,0,0,103,101,37,null,{"$f":"S80*1.4","v":51.8},103,77]
[49400,138,126,126,36,0,0,0,0,0,0,0,0,0,0,0,107,103,36,null,50.4,64,56]
[49425,133,122,122,47,0,0,0,0,0,0,0,0,0,0,0,107,104,47,null,65.8,58,53]
[49450,131,119,119,51,0,0,0,0,0,0,0,0,0,0,0,98,100,51,null,71.399999999999991,57,52]
[49475,127,116,116,53,0,0,0,0,0,0,0,0,0,0,0,82,89,53,null,74.199999999999989,56,52]
[49500,124,120,120,37,0,0,0,0,0,0,0,0,0,0,0,46,64,37,null,51.8,56,77]
[49525,135,118,118,35,0,0,0,0,0,0,0,0,0,0,0,76,62,35,null,49,110,77]
[49550,121,114,114,40,0,0,0,0,0,0,0,0,0,0,0,58,65,40,null,56,56,51]
[49575,125,123,123,35,0,0,0,0,0,0,0,0,0,0,0,31,43,35,null,49,55,50]
[49600,142,123,123,34,0,0,0,0,0,0,0,0,0,0,0,16,27,34,null,47.599999999999994,54,50]
[49625,125,116,116,39,0,0,0,0,0,0,0,0,0,0,0,56,38,39,null,54.599999999999994,53,49]
[49650,126,118,118,48,0,0,0,0,0,0,0,0,0,0,0,41,50,48,null,67.199999999999989,53,49]
[49675,129,117,117,47,0,0,0,0,0,0,0,0,0,0,0,26,36,47,null,65.8,53,49]
[49700,124,114,114,36,0,0,0,0,0,0,0,0,0,0,0,19,26,36,null,50.4,53,50]
[49725,122,113,113,32,0,0,0,0,0,0,0,0,0,0,0,44,34,32,null,44.8,54,51]
[49750,122,113,113,37,0,0,0,0,0,0,0,0,0,0,0,53,50,37,null,51.8,56,52]
[49775,122,112,112,38,0,0,0,0,0,0,0,0,0,0,0,54,55,38,null,53.199999999999996,56,52]
[49800,120,109,109,36,0,0,0,0,0,0,0,0,0,0,0,48,53,36,null,50.4,56,52]
[49825,116,110,110,37,0,0,0,0,0,0,0,0,0,0,0,54,53,37,null,51.8,55,51]
[49850,121,111,111,36,0,0,0,0,0,0,0,0,0,0,0,79,68,36,null,50.4,55,51]
[49875,119,115,115,37,0,0,0,0,0,0,0,0,0,0,0,74,76,37,null,51.8,55,51]
[49900,129,110,110,27,0,0,0,0,0,0,0,0,0,0,0,24,46,27,null,37.799999999999997,55,48]
[49923.51,125,7,7,1,0,0,0,0,0,0,0,0,0,0,0,25,2,1,null,1.4,56,3]
[49925,125,117,117,19,0,0,0,0,0,0,0,0,0,0,0,15,23,19,null,26.599999999999998,56,56]
[49950,128,97,97,18,0,0,0,0,0,0,0,0,0,0,0,15,18,18,null,25.2,65,67]
[49975,82,99,99,18,0,0,0,0,0,0,0,0,0,0,0,12,17,18,null,25.2,80,87]
[50000,132,132,132,23,0,0,0,0,0,0,0,0,0,0,0,13,16,23,null,32.199999999999996,107,124]
[50025,153,146,146,27,0,0,0,0,0,0,0,0,0,0,0,17,18,27,null,37.799999999999997,161,141]
[50050,161,142,142,26,0,0,0,0,0,0,0,0,0,0,0,19,19,26,null,36.4,144,102]
[50075,146,125,125,23,0,0,0,0,0,0,0,0,0,0,0,21,20,23,null,32.199999999999996,75,63]
[50100,124,113,113,19,0,0,0,0,0,0,0,0,0,0,0,14,20,19,null,26.599999999999998,62,56]
[50125,120,110,110,14,0,0,0,0,0,0,0,0,0,0,0,3,12,14,null,19.599999999999998,58,53]
[50150,118,15,15,2,0,0,0,0,0,0,0,0,0,0,0,3,1,2,null,2.8,57,7]
[50153.51,110,null,null,null,null,null,null,null,null,null,null,null,null,null,null,null,null,null,null,null,57]
[]
["SR022A"]
[100336.9,108,54,54,{"$f":"S116","v":6},0,0,0,0,0,0,0,0,0,0,0,0,0,6,null,{"$f":"S116*1.4","v":8.3999999999999986},32,16]
[100350,114,111,111,{"$f":"S117","v":16},0,0,0,0,0,0,0,0,0,0,0,0,0,16,null,{"$f":"S117*1.4","v":22.4},33,31]
[100375,125,118,118,17,0,0,0,0,0,0,0,0,0,0,0,0,0,17,null,23.799999999999997,34,32]
[100400,129,122,122,17,0,0,0,0,0,0,0,0,0,0,0,0,0,17,null,23.799999999999997,36,34]
[100425,135,130,130,20,0,0,0,0,0,0,0,0,0,0,0,0,0,20,null,28,37,36]
[100450,146,139,139,23,0,0,0,0,0,0,0,0,0,0,0,3,1,23,null,32.199999999999996,40,37]
[100475,155,148,148,26,0,0,0,0,0,0,0,0,0,0,0,9,6,26,null,36.4,40,37]
[100500,165,151,151,27,0,0,0,0,0,0,0,0,0,0,0,11,9,27,null,37.799999999999997,40,37]
[100525,162,147,147,27,0,0,0,0,0,0,0,0,0,0,0,15,12,27,null,37.799999999999997,40,37]
[100550,156,131,131,27,0,0,0,0,0,0,0,0,0,0,0,14,14,27,null,37.799999999999997,40,37]
[100575,126,118,118,31,0,0,0,0,0,0,0,0,0,0,0,7,10,31,null,43.4,39,36]
[100600,129,126,126,36,0,0,0,0,0,0,0,0,0,0,0,1,3,36,null,50.4,39,37]
[100625,142,148,148,37,0,0,0,0,0,0,0,0,0,0,0,11,5,37,null,51.8,41,41]
[100650,178,22,22,7,0,0,0,0,0,0,0,0,0,0,0,11,2,7,null,9.7999999999999989,48,8]
[100653.92,128,136,136,35,0,0,0,0,0,0,0,0,0,0,0,7,7,35,null,49,62,42]
[100675,220,163,163,49,0,0,0,0,0,0,0,0,0,0,0,1,4,49,null,68.599999999999994,47,43]
[100700,132,218,218,56,0,0,0,0,0,0,0,0,0,0,0,1,1,56,null,78.399999999999991,46,40]
[100725,339,376,376,59,0,0,0,0,0,0,0,0,0,0,0,0,0,59,null,82.6,40,37]
[100750,473,557,557,81,0,0,0,0,0,0,0,0,0,0,0,168,78,81,null,113.39999999999999,41,41]
[100775,729,793,793,104,0,0,0,0,0,0,0,0,0,0,0,300,217,104,null,145.6,48,49]
[100800,984,552,552,78,0,0,0,0,0,0,0,0,0,0,0,0,139,78,null,109.19999999999999,59,50]
[100825,207,null,null,null,null,null,null,null,null,null,null,null,null,null,null,null,null,null,null,null,49]
[]
["SR022B"]
[200480.26,122,90,90,{"$f":"S140","v":17},0,0,0,0,0,0,0,0,0,0,0,2,2,17,null,{"$f":"S140*1.4","v":23.799999999999997},33,25]
[200500,124,114,114,{"$f":"S141","v":17},0,0,0,0,0,0,0,0,0,0,0,0,1,17,null,{"$f":"S141*1.4","v":23.799999999999997},35,33]
[200525,121,124,124,16,0,0,0,0,0,0,0,0,0,0,0,0,0,16,null,22.4,36,34]
[200550,147,138,138,23,0,0,0,0,0,0,0,0,0,0,0,1,0,23,null,32.199999999999996,38,36]
[200575,152,145,145,25,0,0,0,0,0,0,0,0,0,0,0,5,3,25,null,35,39,37]
[200600,161,148,148,27,0,0,0,0,0,0,0,0,0,0,0,9,7,27,null,37.799999999999997,41,38]
[200625,158,152,152,28,0,0,0,0,0,0,0,0,0,0,0,15,11,28,null,39.199999999999996,41,38]
[200650,170,137,137,25,0,0,0,0,0,0,0,0,0,0,0,13,11,25,null,35,41,33]
[200671.76,170,20,20,4,0,0,0,0,0,0,0,0,0,0,0,12,1,4,null,5.6,41,5]
[200675,169,153,153,29,0,0,0,0,0,0,0,0,0,0,0,12,11,29,null,40.599999999999994,41,37]
[200700,162,146,146,29,0,0,0,0,0,0,0,0,0,0,0,7,9,29,null,40.599999999999994,40,37]
[200725,153,134,134,27,0,0,0,0,0,0,0,0,0,0,0,1,4,27,null,37.799999999999997,39,36]
[200750,138,120,120,24,0,0,0,0,0,0,0,0,0,0,0,0,1,24,null,33.599999999999994,39,38]
[200775,122,144,144,30,0,0,0,0,0,0,0,0,0,0,0,8,4,30,null,42,43,41]
[200800,188,210,210,38,0,0,0,0,0,0,0,0,0,0,0,1,4,38,null,53.199999999999996,46,43]
[200825,266,304,304,43,0,0,0,0,0,0,0,0,0,0,0,0,1,43,null,60.199999999999996,47,43]
[200850,391,401,401,50,0,0,0,0,0,0,0,0,0,0,0,10,4,50,null,70,46,40]
[200875,475,504,504,64,0,0,0,0,0,0,0,0,0,0,0,120,60,64,null,89.6,39,37]
[200900,613,684,684,84,0,0,0,0,0,0,0,0,0,0,0,241,167,84,null,117.6,41,38]
[200925,865,974,974,111,0,0,0,0,0,0,0,0,0,0,0,396,295,111,null,155.39999999999998,42,41]
[200950,1240,966,966,114,0,0,0,0,0,0,0,0,0,0,0,504,416,114,null,159.6,46,49]
[200975,847,null,null,null,null,null,null,null,null,null,null,null,null,null,null,null,null,null,null,null,60]

{"sheet":"DataInformation","index":2,"n_rows":161,"n_cols":36,"rows_kept":161,"cut":false,"hidden":false,"merged":[[6,0,9,0],[6,25,9,25],[6,19,9,19],[6,23,9,23],[6,18,9,18],[6,17,9,17],[6,6,9,6],[6,16,9,16],[6,2,9,2],[6,9,9,9],[6,13,9,13],[6,12,9,12],[6,14,9,14],[6,11,9,11],[6,10,9,10],[6,5,9,5],[0,0,5,0],[0,1,0,26],[6,24,9,24],[6,21,9,21],[6,22,9,22],[1,26,4,26],[6,26,9,26],[1,25,4,25],[1,19,2,22],[3,22,4,22],[3,20,4,20],[3,19,4,19],[6,1,9,1],[6,15,9,15],[6,20,9,20],[6,8,9,8],[6,4,9,4],[6,3,9,3],[6,7,9,7],[1,23,2,24],[3,23,4,23],[3,24,4,24],[3,7,4,7],[3,21,4,21],[3,13,4,13],[3,12,4,12],[1,1,2,14],[1,15,2,16],[3,1,4,1],[1,17,4,17],[3,11,4,11],[1,18,3,18],[6,32,9,32],[6,33,9,33],[6,34,9,34],[0,32,0,35],[0,27,0,31],[6,35,9,35],[6,29,9,29],[1,35,4,35],[1,34,3,34],[5,30,9,30],[5,28,9,28],[1,32,4,32],[1,33,4,33],[5,27,9,27],[1,27,4,31],[6,31,9,31]]}
[null,"Total Cut and Fill Adjustment",null,null,null,null,null,null,null,null,null,null,null,null,null,null,null,null,null,null,null,null,null,null,null,null,null,"Unsuitable Placement Check",null,null,null,null,"Topsoil"]
[null,"Unadjusted Total Cut",null,null,null,null,null,null,null,null,null,null,null,null,null,"Add Quantities",null,"Combined Material to be Placed as Fill","Weighted\nAverage\nShrink Factor","Unadjusted Total Fill",null,null,null,"Add Quantities",null,null,null,"Refer to Standard Road Plan EW-102",null,null,null,null,"Typical thickness is 12\"","Typical Thickness is 8\"","Topsoil Cut\nShrink Factor"]
[]
[null,null,"Shrink Factor","Shrink Factor","Shrink Factor","Shrink Factor","Shrink Factor",null,"Shrink Factor","Shrink Factor","Swell Factor",null,null,null,"Swell Factor","Shrink Factor","Shrink Factor"]
[null,null,1.3,1.4,1.3,1.3,1.3,null,1.3,1.2,1.1000000000000001,null,null,null,0,1.3,1.3,null,{"$f":"IF(ISERROR(ROUNDUP(SUM((C6*C5),(E6*E5),(F6*F5),(G6*G5),(I6*I5),(J6*J5),(K6*(-K5)),(O6*(-O5)),(P6*P5),(Q6*Q5))/SUM(C6,E6,F6,G6,I6,J6,K6,O6,P6,Q6),1)),\"\",ROUNDUP(SUM((C6*C5),(E6*E5),(F6*F5),(G6*G5),(I6*I5),(J6*J5),(K6*(-K5)),(O6*O5),(P6*P5),(Q6*Q5))/SUM(C6,E6,F6,G6,I6,J6,K6,O6,P6,Q6),1))","v":1.3},null,null,null,null,null,null,null,null,null,null,null,null,null,null,null,1.4]
[null,{"$f":"SUM(B11:B161)","v":32235.799999999992},29827,8430.8000000000029,0,0,0,7360,0,0,0,0,0,0,0,0,0,29827,{"$f":"IF(ISERROR(ROUNDUP($R$6/$S$5,0)),\"\",ROUNDUP($R$6/$S$5,0))","v":22944},{"$f":"SUM(T11:T161)","v":18543},0,2408.7999999999993,7360,0,0,28311.799999999992,-5363.7999999999947,{"$f":"\"5' Minimum\"&CHAR(10)&\"Class 10\"&CHAR(10)&\"End Area\"&CHAR(10)&\"Sq. Ft.\"","v":"5' Minimum\nClass 10\nEnd Area\nSq. Ft."},{"$f":"\"20' Maximum\"&CHAR(10)&\"End Area\"&CHAR(10)&CHAR(10)&\"Sq. Ft.\"","v":"20' Maximum\nEnd Area\n\nSq. Ft."},{"$f":"SUM(AD11:AD161)","v":0},{"$f":"\"3' Minimum\"&CHAR(10)&\"Class 10\"&CHAR(10)&\"End Area\"&CHAR(10)&\"Sq. Ft.\"","v":"3' Minimum\nClass 10\nEnd Area\nSq. Ft."},{"$f":"SUM(AF11:AF161)","v":27981},{"$f":"SUM(AG11:AG161)","v":8430.8000000000029},{"$f":"SUM(AH11:AH161)","v":6022},{"$f":"SUM(AI11:AI161)","v":6022},{"$f":"SUM(AJ11:AJ161)","v":0}]
["Station",{"$f":"DataInput!C3","v":"Template Cut\nVolume"},{"$f":"DataInput!D3","v":"Template\nClass 10\nVolume"},{"$f":"DataInput!E3","v":"Template\nTopsoil Cut\nVolume"},{"$f":"DataInput!F3","v":"Template\nUnsuitable\nType A\nVolume"},{"$f":"DataInput!G3","v":"Template\nUnsuitable\nType B\nVolume"},{"$f":"DataInput!H3","v":"Template\nUnsuitable\nType C\nVolume"},{"$f":"DataInput!I3","v":"Template\nPavement\nRemoval\nVolume"},{"$f":"DataInput!J3","v":"Template\nSelect Loam\nVolume"},{"$f":"DataInput!K3","v":"Template\nSelect Sand\nVolume"},{"$f":"DataInput!L3","v":"Template\nRock\nVolume"},{"$f":"DataInput!M3","v":"Template\nB & W Rock\nVolume"},{"$f":"DataInput!N3","v":"Template\nWaste\nVolume"},{"$f":"DataInput!O3","v":"Template\nShale\nVolume"},{"$f":"DataInput!P3","v":"Template\nRock Undercut\nVolume"},{"$f":"\"Add\"&CHAR(10)&\"Quantity\"&CHAR(10)&CHAR(10)&\"+Cut\"","v":"Add\nQuantity\n\n+Cut"},{"$f":"\"Add\"&CHAR(10)&\"Quantity\"&CHAR(10)&CHAR(10)&\"+Cut\"","v":"Add\nQuantity\n\n+Cut"},{"$f":"\"Total\"&CHAR(10)&\"Cut\"&CHAR(10)&\"Adjusted\"","v":"Total\nCut\nAdjusted"},{"$f":"IF(AND(S5=\"\",S6=\"\"),\"\",\"Total Cut\"&CHAR(10)&\"Adjusted w/ \"&CHAR(10)&\"Weighted Average\"&CHAR(10)&$S$5&\" Shrink Factor\")","v":"Total Cut\nAdjusted w/ \nWeighted Average\n1.3 Shrink Factor"},{"$f":"DataInput!R3","v":"Template Fill\nVolume"},{"$f":"DataInput!X3","v":"Plowing &\nShaping\n\n+ Fill"},{"$f":"\"Topsoil\"&CHAR(10)&\"Stripping\"&CHAR(10)&CHAR(10)&\"+ Fill\"","v":"Topsoil\nStripping\n\n+ Fill"},{"$f":"\"Non-Template\"&CHAR(10)&\"Existing Pavement\"&CHAR(10)&\"Removal\"&CHAR(10)&\"+Fill\"","v":"Non-Template\nExisting Pavement\nRemoval\n+Fill"},{"$f":"\"Add\"&CHAR(10)&\"Quantity\"&CHAR(10)&CHAR(10)&\"+Fill\"","v":"Add\nQuantity\n\n+Fill"},{"$f":"\"Add\"&CHAR(10)&\"Quantity\"&CHAR(10)&CHAR(10)&\"+Fill\"","v":"Add\nQuantity\n\n+Fill"},{"$f":"\"Total\"&CHAR(10)&\"Fill\"&CHAR(10)&\"Adjusted\"","v":"Total\nFill\nAdjusted"},{"$f":"\"Total Cut Adjusted\"&CHAR(10)&\"w/ \"&$S$5&\" Shrink\"&CHAR(10)&\" Factor Minus Fill\"","v":"Total Cut Adjusted\nw/ 1.3 Shrink\n Factor Minus Fill"},null,null,{"$f":"\"Approx. Fill\"&CHAR(10)&\"Volume Below\"&CHAR(10)&\"5' And Above 20'\"&CHAR(10)&\"Cu. Yds.\"","v":"Approx. Fill\nVolume Below\n5' And Above 20'\nCu. Yds."},null,{"$f":"\"Approx. Fill\"&CHAR(10)&\"Volume Below 3'\"&CHAR(10)&CHAR(10)&\"Cu. Yds.\"","v":"Approx. Fill\nVolume Below 3'\n\nCu. Yds."},{"$f":"DataInput!U3","v":"Total\nTopsoil Cut\nVolume"},{"$f":"DataInput!S3","v":"Template\nTopsoil\nReplacement\nVolume"},{"$f":"\"Topsoil Cut\"&CHAR(10)&\"With\"&CHAR(10)&$AI$5&\" Shrink\"&CHAR(10)&\"Factor\"","v":"Topsoil Cut\nWith\n1.4 Shrink\nFactor"},{"$f":"\"Topsoil Cut\"&CHAR(10)&\"With Shrink\"&CHAR(10)&\"Minus Topsoil\"&CHAR(10)&\"Replacement\"","v":"Topsoil Cut\nWith Shrink\nMinus Topsoil\nReplacement"}]
[]
[]
[]
[{"$f":"IF(DataInput!A11<>\"\",DataInput!A11,\"\")","v":"ML461"}]
[{"$f":"IF(DataInput!A12<>\"\",DataInput!A12,\"\")","v":4320.3900000000003},{"$f":"SUM(DataInput!C12,DataInput!X12)+(DataInput!U12-DataInput!E12)","v":205.4},{"$f":"SUM(DataInput!D12,DataInput!Y12)","v":199},{"$f":"DataInput!U12","v":22.4},{"$f":"SUM(DataInput!F12,DataInput!AA12)","v":0},{"$f":"SUM(DataInput!G12,DataInput!AB12)","v":0},{"$f":"SUM(DataInput!H12,DataInput!AC12)","v":0},{"$f":"DataInput!W12","v":10},{"$f":"SUM(DataInput!J12,DataInput!AD12)","v":0},{"$f":"SUM(DataInput!K12,DataInput!AE12)","v":0},{"$f":"SUM(DataInput!L12,DataInput!AF12)","v":0},{"$f":"SUM(DataInput!M12,DataInput!AG12)","v":0},{"$f":"SUM(DataInput!N12,DataInput!AH12)","v":0},{"$f":"SUM(DataInput!O12,DataInput!AI12)","v":0},{"$f":"DataInput!P12","v":0},null,null,{"$f":"SUM(C12,E12:G12,I12:L12,N12:Q12)","v":199},{"$f":"IF(ISERROR(ROUND((R12/$S$5),0)),0,ROUND((R12/$S$5),0))","v":153},{"$f":"DataInput!R12","v":37},{"$f":"DataInput!X12","v":0},{"$f":"IF(DataInput!U12-DataInput!E12>0,DataInput!U12-DataInput!E12,\"\")","v":6.3999999999999986},{"$f":"IF(DataInput!W12-DataInput!I12>0,DataInput!W12-DataInput!I12,\"\")","v":10},null,null,{"$f":"SUM(T12:Y12)","v":53.4},{"$f":"SUM(S12-Z12)","v":99.6},null,null,0,null,0,{"$f":"DataInput!U12","v":22.4},{"$f":"DataInput!S12","v":16},{"$f":"ROUNDUP(AG12/$AI$5,0)","v":16},{"$f":"AI12-AH12","v":0}]
[{"$f":"IF(DataInput!A13<>\"\",DataInput!A13,\"\")","v":4325},{"$f":"SUM(DataInput!C13,DataInput!X13)+(DataInput!U13-DataInput!E13)","v":1208.4000000000001},{"$f":"SUM(DataInput!D13,DataInput!Y13)","v":1168},{"$f":"DataInput!U13","v":141.39999999999998},{"$f":"SUM(DataInput!F13,DataInput!AA13)","v":0},{"$f":"SUM(DataInput!G13,DataInput!AB13)","v":0},{"$f":"SUM(DataInput!H13,DataInput!AC13)","v":0},{"$f":"DataInput!W13","v":54},{"$f":"SUM(DataInput!J13,DataInput!AD13)","v":0},{"$f":"SUM(DataInput!K13,DataInput!AE13)","v":0},{"$f":"SUM(DataInput!L13,DataInput!AF13)","v":0},{"$f":"SUM(DataInput!M13,DataInput!AG13)","v":0},{"$f":"SUM(DataInput!N13,DataInput!AH13)","v":0},{"$f":"SUM(DataInput!O13,DataInput!AI13)","v":0},{"$f":"DataInput!P13","v":0},null,null,{"$f":"SUM(C13,E13:G13,I13:L13,N13:Q13)","v":1168},{"$f":"IF(ISERROR(ROUND((R13/$S$5),0)),0,ROUND((R13/$S$5),0))","v":898},{"$f":"DataInput!R13","v":237},{"$f":"DataInput!X13","v":0},{"$f":"IF(DataInput!U13-DataInput!E13>0,DataInput!U13-DataInput!E13,\"\")","v":40.399999999999977},{"$f":"IF(DataInput!W13-DataInput!I13>0,DataInput!W13-DataInput!I13,\"\")","v":54},null,null,{"$f":"SUM(T13:Y13)","v":331.4},{"$f":"SUM(S13-Z13)","v":566.6},{"$f":"AB12","v":0},{"$f":"AC12","v":0},{"$f":"IF(AC13>0,IFERROR(IF(AVERAGE(DataInput!Q12:Q13)>AVERAGE(AC13,AC12),ROUNDDOWN(((((AC12-AB12)+(AC13-AB13))/2)*(A13-A12))/27,0),IF(((((DataInput!Q13-AB13)+(DataInput!Q12-AB12))/2)*(A13-A12))/27>0,ROUNDDOWN(((((DataInput!Q13-AB12)+(DataInput!Q12-AB12))/2)*(A13-A12))/27,0),0)),0),0)","v":0},{"$f":"AE12","v":0},{"$f":"IFERROR(IF(((((DataInput!Q12-AE12)+(DataInput!Q13-AE13))/2)*(A13-A12))/27>0,ROUNDDOWN(((((DataInput!Q12-AE12)+(DataInput!Q13-AE13))/2)*(A13-A12))/27,0),0),0)","v":43},{"$f":"DataInput!U13","v":141.39999999999998},{"$f":"DataInput!S13","v":101},{"$f":"ROUNDUP(AG13/$AI$5,0)","v":101},{"$f":"AI13-AH13","v":0}]
[{"$f":"IF(DataInput!A14<>\"\",DataInput!A14,\"\")","v":4350},{"$f":"SUM(DataInput!C14,DataInput!X14)+(DataInput!U14-DataInput!E14)","v":1234.2},{"$f":"SUM(DataInput!D14,DataInput!Y14)","v":1185},{"$f":"DataInput!U14","v":172.2},{"$f":"SUM(DataInput!F14,DataInput!AA14)","v":0},{"$f":"SUM(DataInput!G14,DataInput!AB14)","v":0},{"$f":"SUM(DataInput!H14,DataInput!AC14)","v":0},{"$f":"DataInput!W14","v":53},{"$f":"SUM(DataInput!J14,DataInput!AD14)","v":0},{"$f":"SUM(DataInput!K14,DataInput!AE14)","v":0},{"$f":"SUM(DataInput!L14,DataInput!AF14)","v":0},{"$f":"SUM(DataInput!M14,DataInput!AG14)","v":0},{"$f":"SUM(DataInput!N14,DataInput!AH14)","v":0},{"$f":"SUM(DataInput!O14,DataInput!AI14)","v":0},{"$f":"DataInput!P14","v":0},null,null,1185,912,{"$f":"DataInput!R14","v":263},{"$f":"DataInput!X14","v":0},{"$f":"IF(DataInput!U14-DataInput!E14>0,DataInput!U14-DataInput!E14,\"\")","v":49.199999999999989},{"$f":"IF(DataInput!W14-DataInput!I14>0,DataInput!W14-DataInput!I14,\"\")","v":53},null,null,365.2,546.79999999999995,{"$f":"AB13","v":0},{"$f":"AC13","v":0},{"$f":"IF(AC14>0,IFERROR(IF(AVERAGE(DataInput!Q13:Q14)>AVERAGE(AC14,AC13),ROUNDDOWN(((((AC13-AB13)+(AC14-AB14))/2)*(A14-A13))/27,0),IF(((((DataInput!Q14-AB14)+(DataInput!Q13-AB13))/2)*(A14-A13))/27>0,ROUNDDOWN(((((DataInput!Q14-AB13)+(DataInput!Q13-AB13))/2)*(A14-A13))/27,0),0)),0),0)","v":0},{"$f":"AE13","v":0},{"$f":"IFERROR(IF(((((DataInput!Q13-AE13)+(DataInput!Q14-AE14))/2)*(A14-A13))/27>0,ROUNDDOWN(((((DataInput!Q13-AE13)+(DataInput!Q14-AE14))/2)*(A14-A13))/27,0),0),0)","v":262},{"$f":"DataInput!U14","v":172.2},{"$f":"DataInput!S14","v":123},123,0]
[{"$f":"IF(DataInput!A15<>\"\",DataInput!A15,\"\")","v":4375},{"$f":"SUM(DataInput!C15,DataInput!X15)+(DataInput!U15-DataInput!E15)","v":1191.5999999999999},{"$f":"SUM(DataInput!D15,DataInput!Y15)","v":1138},{"$f":"DataInput!U15","v":187.6},{"$f":"SUM(DataInput!F15,DataInput!AA15)","v":0},{"$f":"SUM(DataInput!G15,DataInput!AB15)","v":0},{"$f":"SUM(DataInput!H15,DataInput!AC15)","v":0},{"$f":"DataInput!W15","v":53},{"$f":"SUM(DataInput!J15,DataInput!AD15)","v":0},{"$f":"SUM(DataInput!K15,DataInput!AE15)","v":0},{"$f":"SUM(DataInput!L15,DataInput!AF15)","v":0},{"$f":"SUM(DataInput!M15,DataInput!AG15)","v":0},{"$f":"SUM(DataInput!N15,DataInput!AH15)","v":0},{"$f":"SUM(DataInput!O15,DataInput!AI15)","v":0},{"$f":"DataInput!P15","v":0},null,null,1138,875,{"$f":"DataInput!R15","v":240},{"$f":"DataInput!X15","v":0},{"$f":"IF(DataInput!U15-DataInput!E15>0,DataInput!U15-DataInput!E15,\"\")","v":53.599999999999994},{"$f":"IF(DataInput!W15-DataInput!I15>0,DataInput!W15-DataInput!I15,\"\")","v":53},null,null,346.6,528.4,0,0,{"$f":"IF(AC15>0,IFERROR(IF(AVERAGE(DataInput!Q14:Q15)>AVERAGE(AC15,AC14),ROUNDDOWN(((((AC14-AB14)+(AC15-AB15))/2)*(A15-A14))/27,0),IF(((((DataInput!Q15-AB15)+(DataInput!Q14-AB14))/2)*(A15-A14))/27>0,ROUNDDOWN(((((DataInput!Q15-AB14)+(DataInput!Q14-AB14))/2)*(A15-A14))/27,0),0)),0),0)","v":0},0,{"$f":"IFERROR(IF(((((DataInput!Q14-AE14)+(DataInput!Q15-AE15))/2)*(A15-A14))/27>0,ROUNDDOWN(((((DataInput!Q14-AE14)+(DataInput!Q15-AE15))/2)*(A15-A14))/27,0),0),0)","v":240},{"$f":"DataInput!U15","v":187.6},{"$f":"DataInput!S15","v":134},134,0]
[{"$f":"IF(DataInput!A16<>\"\",DataInput!A16,\"\")","v":4400},{"$f":"SUM(DataInput!C16,DataInput!X16)+(DataInput!U16-DataInput!E16)","v":885.6},{"$f":"SUM(DataInput!D16,DataInput!Y16)","v":834},{"$f":"DataInput!U16","v":180.6},{"$f":"SUM(DataInput!F16,DataInput!AA16)","v":0},{"$f":"SUM(DataInput!G16,DataInput!AB16)","v":0},{"$f":"SUM(DataInput!H16,DataInput!AC16)","v":0},{"$f":"DataInput!W16","v":53},{"$f":"SUM(DataInput!J16,DataInput!AD16)","v":0},{"$f":"SUM(DataInput!K16,DataInput!AE16)","v":0},{"$f":"SUM(DataInput!L16,DataInput!AF16)","v":0},{"$f":"SUM(DataInput!M16,DataInput!AG16)","v":0},{"$f":"SUM(DataInput!N16,DataInput!AH16)","v":0},{"$f":"SUM(DataInput!O16,DataInput!AI16)","v":0},{"$f":"DataInput!P16","v":0},null,null,834,642,{"$f":"DataInput!R16","v":209},{"$f":"DataInput!X16","v":0},{"$f":"IF(DataInput!U16-DataInput!E16>0,DataInput!U16-DataInput!E16,\"\")","v":51.599999999999994},{"$f":"IF(DataInput!W16-DataInput!I16>0,DataInput!W16-DataInput!I16,\"\")","v":53},null,null,313.60000000000002,328.4,0,0,{"$f":"IF(AC16>0,IFERROR(IF(AVERAGE(DataInput!Q15:Q16)>AVERAGE(AC16,AC15),ROUNDDOWN(((((AC15-AB15)+(AC16-AB16))/2)*(A16-A15))/27,0),IF(((((DataInput!Q16-AB16)+(DataInput!Q15-AB15))/2)*(A16-A15))/27>0,ROUNDDOWN(((((DataInput!Q16-AB15)+(DataInput!Q15-AB15))/2)*(A16-A15))/27,0),0)),0),0)","v":0},0,{"$f":"IFERROR(IF(((((DataInput!Q15-AE15)+(DataInput!Q16-AE16))/2)*(A16-A15))/27>0,ROUNDDOWN(((((DataInput!Q15-AE15)+(DataInput!Q16-AE16))/2)*(A16-A15))/27,0),0),0)","v":208},{"$f":"DataInput!U16","v":180.6},{"$f":"DataInput!S16","v":129},129,0]
[{"$f":"IF(DataInput!A17<>\"\",DataInput!A17,\"\")","v":4425},{"$f":"SUM(DataInput!C17,DataInput!X17)+(DataInput!U17-DataInput!E17)","v":715.6},{"$f":"SUM(DataInput!D17,DataInput!Y17)","v":668},{"$f":"DataInput!U17","v":166.6},{"$f":"SUM(DataInput!F17,DataInput!AA17)","v":0},{"$f":"SUM(DataInput!G17,DataInput!AB17)","v":0},{"$f":"SUM(DataInput!H17,DataInput!AC17)","v":0},{"$f":"DataInput!W17","v":53},{"$f":"SUM(DataInput!J17,DataInput!AD17)","v":0},{"$f":"SUM(DataInput!K17,DataInput!AE17)","v":0},{"$f":"SUM(DataInput!L17,DataInput!AF17)","v":0},{"$f":"SUM(DataInput!M17,DataInput!AG17)","v":0},{"$f":"SUM(DataInput!N17,DataInput!AH17)","v":0},{"$f":"SUM(DataInput!O17,DataInput!AI17)","v":0},{"$f":"DataInput!P17","v":0},null,null,668,514,{"$f":"DataInput!R17","v":190},{"$f":"DataInput!X17","v":0},{"$f":"IF(DataInput!U17-DataInput!E17>0,DataInput!U17-DataInput!E17,\"\")","v":47.599999999999994},{"$f":"IF(DataInput!W17-DataInput!I17>0,DataInput!W17-DataInput!I17,\"\")","v":53},null,null,290.60000000000002,223.39999999999998,0,0,{"$f":"IF(AC17>0,IFERROR(IF(AVERAGE(DataInput!Q16:Q17)>AVERAGE(AC17,AC16),ROUNDDOWN(((((AC16-AB16)+(AC17-AB17))/2)*(A17-A16))/27,0),IF(((((DataInput!Q17-AB17)+(DataInput!Q16-AB16))/2)*(A17-A16))/27>0,ROUNDDOWN(((((DataInput!Q17-AB16)+(DataInput!Q16-AB16))/2)*(A17-A16))/27,0),0)),0),0)","v":0},0,{"$f":"IFERROR(IF(((((DataInput!Q16-AE16)+(DataInput!Q17-AE17))/2)*(A17-A16))/27>0,ROUNDDOWN(((((DataInput!Q16-AE16)+(DataInput!Q17-AE17))/2)*(A17-A16))/27,0),0),0)","v":189},{"$f":"DataInput!U17","v":166.6},{"$f":"DataInput!S17","v":119},119,0]
[{"$f":"IF(DataInput!A18<>\"\",DataInput!A18,\"\")","v":4450},{"$f":"SUM(DataInput!C18,DataInput!X18)+(DataInput!U18-DataInput!E18)","v":755.2},{"$f":"SUM(DataInput!D18,DataInput!Y18)","v":710},{"$f":"DataInput!U18","v":158.19999999999999},{"$f":"SUM(DataInput!F18,DataInput!AA18)","v":0},{"$f":"SUM(DataInput!G18,DataInput!AB18)","v":0},{"$f":"SUM(DataInput!H18,DataInput!AC18)","v":0},{"$f":"DataInput!W18","v":53},{"$f":"SUM(DataInput!J18,DataInput!AD18)","v":0},{"$f":"SUM(DataInput!K18,DataInput!AE18)","v":0},{"$f":"SUM(DataInput!L18,DataInput!AF18)","v":0},{"$f":"SUM(DataInput!M18,DataInput!AG18)","v":0},{"$f":"SUM(DataInput!N18,DataInput!AH18)","v":0},{"$f":"SUM(DataInput!O18,DataInput!AI18)","v":0},{"$f":"DataInput!P18","v":0},null,null,710,546,{"$f":"DataInput!R18","v":163},{"$f":"DataInput!X18","v":0},{"$f":"IF(DataInput!U18-DataInput!E18>0,DataInput!U18-DataInput!E18,\"\")","v":45.199999999999989},{"$f":"IF(DataInput!W18-DataInput!I18>0,DataInput!W18-DataInput!I18,\"\")","v":53},null,null,261.2,284.8,0,0,{"$f":"IF(AC18>0,IFERROR(IF(AVERAGE(DataInput!Q17:Q18)>AVERAGE(AC18,AC17),ROUNDDOWN(((((AC17-AB17)+(AC18-AB18))/2)*(A18-A17))/27,0),IF(((((DataInput!Q18-AB18)+(DataInput!Q17-AB17))/2)*(A18-A17))/27>0,ROUNDDOWN(((((DataInput!Q18-AB17)+(DataInput!Q17-AB17))/2)*(A18-A17))/27,0),0)),0),0)","v":0},0,{"$f":"IFERROR(IF(((((DataInput!Q17-AE17)+(DataInput!Q18-AE18))/2)*(A18-A17))/27>0,ROUNDDOWN(((((DataInput!Q17-AE17)+(DataInput!Q18-AE18))/2)*(A18-A17))/27,0),0),0)","v":162},{"$f":"DataInput!U18","v":158.19999999999999},{"$f":"DataInput!S18","v":113},113,0]
[{"$f":"IF(DataInput!A19<>\"\",DataInput!A19,\"\")","v":4475},{"$f":"SUM(DataInput!C19,DataInput!X19)+(DataInput!U19-DataInput!E19)","v":558.4},{"$f":"SUM(DataInput!D19,DataInput!Y19)","v":518},{"$f":"DataInput!U19","v":141.39999999999998},{"$f":"SUM(DataInput!F19,DataInput!AA19)","v":0},{"$f":"SUM(DataInput!G19,DataInput!AB19)","v":0},{"$f":"SUM(DataInput!H19,DataInput!AC19)","v":0},{"$f":"DataInput!W19","v":53},{"$f":"SUM(DataInput!J19,DataInput!AD19)","v":0},{"$f":"SUM(DataInput!K19,DataInput!AE19)","v":0},{"$f":"SUM(DataInput!L19,DataInput!AF19)","v":0},{"$f":"SUM(DataInput!M19,DataInput!AG19)","v":0},{"$f":"SUM(DataInput!N19,DataInput!AH19)","v":0},{"$f":"SUM(DataInput!O19,DataInput!AI19)","v":0},{"$f":"DataInput!P19","v":0},null,null,518,398,{"$f":"DataInput!R19","v":126},{"$f":"DataInput!X19","v":0},{"$f":"IF(DataInput!U19-DataInput!E19>0,DataInput!U19-DataInput!E19,\"\")","v":40.399999999999977},{"$f":"IF(DataInput!W19-DataInput!I19>0,DataInput!W19-DataInput!I19,\"\")","v":53},null,null,219.39999999999998,178.60000000000002,0,0,{"$f":"IF(AC19>0,IFERROR(IF(AVERAGE(DataInput!Q18:Q19)>AVERAGE(AC19,AC18),ROUNDDOWN(((((AC18-AB18)+(AC19-AB19))/2)*(A19-A18))/27,0),IF(((((DataInput!Q19-AB19)+(DataInput!Q18-AB18))/2)*(A19-A18))/27>0,ROUNDDOWN(((((DataInput!Q19-AB18)+(DataInput!Q18-AB18))/2)*(A19-A18))/27,0),0)),0),0)","v":0},0,{"$f":"IFERROR(IF(((((DataInput!Q18-AE18)+(DataInput!Q19-AE19))/2)*(A19-A18))/27>0,ROUNDDOWN(((((DataInput!Q18-AE18)+(DataInput!Q19-AE19))/2)*(A19-A18))/27,0),0),0)","v":125},{"$f":"DataInput!U19","v":141.39999999999998},{"$f":"DataInput!S19","v":101},101,0]
[{"$f":"IF(DataInput!A20<>\"\",DataInput!A20,\"\")","v":4500},{"$f":"SUM(DataInput!C20,DataInput!X20)+(DataInput!U20-DataInput!E20)","v":0},{"$f":"SUM(DataInput!D20,DataInput!Y20)","v":0},{"$f":"DataInput!U20","v":0},{"$f":"SUM(DataInput!F20,DataInput!AA20)","v":0},{"$f":"SUM(DataInput!G20,DataInput!AB20)","v":0},{"$f":"SUM(DataInput!H20,DataInput!AC20)","v":0},{"$f":"DataInput!W20","v":0},{"$f":"SUM(DataInput!J20,DataInput!AD20)","v":0},{"$f":"SUM(DataInput!K20,DataInput!AE20)","v":0},{"$f":"SUM(DataInput!L20,DataInput!AF20)","v":0},{"$f":"SUM(DataInput!M20,DataInput!AG20)","v":0},{"$f":"SUM(DataInput!N20,DataInput!AH20)","v":0},{"$f":"SUM(DataInput!O20,DataInput!AI20)","v":0},{"$f":"DataInput!P20","v":0},null,null,0,0,{"$f":"DataInput!R20","v":0},{"$f":"DataInput!X20","v":0},{"$f":"IF(DataInput!U20-DataInput!E20>0,DataInput!U20-DataInput!E20,\"\")","v":""},{"$f":"IF(DataInput!W20-DataInput!I20>0,DataInput!W20-DataInput!I20,\"\")","v":""},null,null,0,0,0,0,{"$f":"IF(AC20>0,IFERROR(IF(AVERAGE(DataInput!Q19:Q20)>AVERAGE(AC20,AC19),ROUNDDOWN(((((AC19-AB19)+(AC20-AB20))/2)*(A20-A19))/27,0),IF(((((DataInput!Q20-AB20)+(DataInput!Q19-AB19))/2)*(A20-A19))/27>0,ROUNDDOWN(((((DataInput!Q20-AB19)+(DataInput!Q19-AB19))/2)*(A20-A19))/27,0),0)),0),0)","v":0},0,{"$f":"IFERROR(IF(((((DataInput!Q19-AE19)+(DataInput!Q20-AE20))/2)*(A20-A19))/27>0,ROUNDDOWN(((((DataInput!Q19-AE19)+(DataInput!Q20-AE20))/2)*(A20-A19))/27,0),0),0)","v":54},{"$f":"DataInput!U20","v":0},{"$f":"DataInput!S20","v":0},0,0]
[{"$f":"IF(DataInput!A21<>\"\",DataInput!A21,\"\")","v":"ML461"}]
[{"$f":"IF(DataInput!A22<>\"\",DataInput!A22,\"\")","v":4525},{"$f":"SUM(DataInput!C22,DataInput!X22)+(DataInput!U22-DataInput!E22)","v":444.8},{"$f":"SUM(DataInput!D22,DataInput!Y22)","v":420},{"$f":"DataInput!U22","v":86.8},{"$f":"SUM(DataInput!F22,DataInput!AA22)","v":0},{"$f":"SUM(DataInput!G22,DataInput!AB22)","v":0},{"$f":"SUM(DataInput!H22,DataInput!AC22)","v":0},{"$f":"DataInput!W22","v":53},{"$f":"SUM(DataInput!J22,DataInput!AD22)","v":0},{"$f":"SUM(DataInput!K22,DataInput!AE22)","v":0},{"$f":"SUM(DataInput!L22,DataInput!AF22)","v":0},{"$f":"SUM(DataInput!M22,DataInput!AG22)","v":0},{"$f":"SUM(DataInput!N22,DataInput!AH22)","v":0},{"$f":"SUM(DataInput!O22,DataInput!AI22)","v":0},{"$f":"DataInput!P22","v":0},null,null,{"$f":"SUM(C22,E22:G22,I22:L22,N22:Q22)","v":420},{"$f":"IF(ISERROR(ROUND((R22/$S$5),0)),0,ROUND((R22/$S$5),0))","v":323},{"$f":"DataInput!R22","v":51},{"$f":"DataInput!X22","v":0},{"$f":"IF(DataInput!U22-DataInput!E22>0,DataInput!U22-DataInput!E22,\"\")","v":24.799999999999997},{"$f":"IF(DataInput!W22-DataInput!I22>0,DataInput!W22-DataInput!I22,\"\")","v":53},null,null,{"$f":"SUM(T22:Y22)","v":128.80000000000001},{"$f":"SUM(S22-Z22)","v":194.2},null,null,0,null,0,{"$f":"DataInput!U22","v":86.8},{"$f":"DataInput!S22","v":62},{"$f":"ROUNDUP(AG22/$AI$5,0)","v":62},{"$f":"AI22-AH22","v":0}]
[{"$f":"IF(DataInput!A23<>\"\",DataInput!A23,\"\")","v":4550},{"$f":"SUM(DataInput!C23,DataInput!X23)+(DataInput!U23-DataInput!E23)","v":375.2},{"$f":"SUM(DataInput!D23,DataInput!Y23)","v":358},{"$f":"DataInput!U23","v":60.199999999999996},{"$f":"SUM(DataInput!F23,DataInput!AA23)","v":0},{"$f":"SUM(DataInput!G23,DataInput!AB23)","v":0},{"$f":"SUM(DataInput!H23,DataInput!AC23)","v":0},{"$f":"DataInput!W23","v":53},{"$f":"SUM(DataInput!J23,DataInput!AD23)","v":0},{"$f":"SUM(DataInput!K23,DataInput!AE23)","v":0},{"$f":"SUM(DataInput!L23,DataInput!AF23)","v":0},{"$f":"SUM(DataInput!M23,DataInput!AG23)","v":0},{"$f":"SUM(DataInput!N23,DataInput!AH23)","v":0},{"$f":"SUM(DataInput!O23,DataInput!AI23)","v":0},{"$f":"DataInput!P23","v":0},null,null,{"$f":"SUM(C23,E23:G23,I23:L23,N23:Q23)","v":358},{"$f":"IF(ISERROR(ROUND((R23/$S$5),0)),0,ROUND((R23/$S$5),0))","v":275},{"$f":"DataInput!R23","v":33},{"$f":"DataInput!X23","v":0},{"$f":"IF(DataInput!U23-DataInput!E23>0,DataInput!U23-DataInput!E23,\"\")","v":17.199999999999996},{"$f":"IF(DataInput!W23-DataInput!I23>0,DataInput!W23-DataInput!I23,\"\")","v":53},null,null,{"$f":"SUM(T23:Y23)","v":103.19999999999999},{"$f":"SUM(S23-Z23)","v":171.8},{"$f":"AB22","v":0},{"$f":"AC22","v":0},{"$f":"IF(AC23>0,IFERROR(IF(AVERAGE(DataInput!Q22:Q23)>AVERAGE(AC23,AC22),ROUNDDOWN(((((AC22-AB22)+(AC23-AB23))/2)*(A23-A22))/27,0),IF(((((DataInput!Q23-AB23)+(DataInput!Q22-AB22))/2)*(A23-A22))/27>0,ROUNDDOWN(((((DataInput!Q23-AB22)+(DataInput!Q22-AB22))/2)*(A23-A22))/27,0),0)),0),0)","v":0},{"$f":"AE22","v":0},{"$f":"IFERROR(IF(((((DataInput!Q22-AE22)+(DataInput!Q23-AE23))/2)*(A23-A22))/27>0,ROUNDDOWN(((((DataInput!Q22-AE22)+(DataInput!Q23-AE23))/2)*(A23-A22))/27,0),0),0)","v":33},{"$f":"DataInput!U23","v":60.199999999999996},{"$f":"DataInput!S23","v":43},{"$f":"ROUNDUP(AG23/$AI$5,0)","v":43},{"$f":"AI23-AH23","v":0}]
[{"$f":"IF(DataInput!A24<>\"\",DataInput!A24,\"\")","v":4575},{"$f":"SUM(DataInput!C24,DataInput!X24)+(DataInput!U24-DataInput!E24)","v":375},{"$f":"SUM(DataInput!D24,DataInput!Y24)","v":357},{"$f":"DataInput!U24","v":62.999999999999993},{"$f":"SUM(DataInput!F24,DataInput!AA24)","v":0},{"$f":"SUM(DataInput!G24,DataInput!AB24)","v":0},{"$f":"SUM(DataInput!H24,DataInput!AC24)","v":0},{"$f":"DataInput!W24","v":53},{"$f":"SUM(DataInput!J24,DataInput!AD24)","v":0},{"$f":"SUM(DataInput!K24,DataInput!AE24)","v":0},{"$f":"SUM(DataInput!L24,DataInput!AF24)","v":0},{"$f":"SUM(DataInput!M24,DataInput!AG24)","v":0},{"$f":"SUM(DataInput!N24,DataInput!AH24)","v":0},{"$f":"SUM(DataInput!O24,DataInput!AI24)","v":0},{"$f":"DataInput!P24","v":0},null,null,357,275,{"$f":"DataInput!R24","v":32},{"$f":"DataInput!X24","v":0},{"$f":"IF(DataInput!U24-DataInput!E24>0,DataInput!U24-DataInput!E24,\"\")","v":17.999999999999993},{"$f":"IF(DataInput!W24-DataInput!I24>0,DataInput!W24-DataInput!I24,\"\")","v":53},null,null,103,172,{"$f":"AB23","v":0},{"$f":"AC23","v":0},{"$f":"IF(AC24>0,IFERROR(IF(AVERAGE(DataInput!Q23:Q24)>AVERAGE(AC24,AC23),ROUNDDOWN(((((AC23-AB23)+(AC24-AB24))/2)*(A24-A23))/27,0),IF(((((DataInput!Q24-AB24)+(DataInput!Q23-AB23))/2)*(A24-A23))/27>0,ROUNDDOWN(((((DataInput!Q24-AB23)+(DataInput!Q23-AB23))/2)*(A24-A23))/27,0),0)),0),0)","v":0},{"$f":"AE23","v":0},{"$f":"IFERROR(IF(((((DataInput!Q23-AE23)+(DataInput!Q24-AE24))/2)*(A24-A23))/27>0,ROUNDDOWN(((((DataInput!Q23-AE23)+(DataInput!Q24-AE24))/2)*(A24-A23))/27,0),0),0)","v":31},{"$f":"DataInput!U24","v":62.999999999999993},{"$f":"DataInput!S24","v":45},45,0]
[{"$f":"IF(DataInput!A25<>\"\",DataInput!A25,\"\")","v":4600},{"$f":"SUM(DataInput!C25,DataInput!X25)+(DataInput!U25-DataInput!E25)","v":460.2},{"$f":"SUM(DataInput!D25,DataInput!Y25)","v":437},{"$f":"DataInput!U25","v":81.199999999999989},{"$f":"SUM(DataInput!F25,DataInput!AA25)","v":0},{"$f":"SUM(DataInput!G25,DataInput!AB25)","v":0},{"$f":"SUM(DataInput!H25,DataInput!AC25)","v":0},{"$f":"DataInput!W25","v":53},{"$f":"SUM(DataInput!J25,DataInput!AD25)","v":0},{"$f":"SUM(DataInput!K25,DataInput!AE25)","v":0},{"$f":"SUM(DataInput!L25,DataInput!AF25)","v":0},{"$f":"SUM(DataInput!M25,DataInput!AG25)","v":0},{"$f":"SUM(DataInput!N25,DataInput!AH25)","v":0},{"$f":"SUM(DataInput!O25,DataInput!AI25)","v":0},{"$f":"DataInput!P25","v":0},null,null,437,336,{"$f":"DataInput!R25","v":31},{"$f":"DataInput!X25","v":0},{"$f":"IF(DataInput!U25-DataInput!E25>0,DataInput!U25-DataInput!E25,\"\")","v":23.199999999999989},{"$f":"IF(DataInput!W25-DataInput!I25>0,DataInput!W25-DataInput!I25,\"\")","v":53},null,null,107.19999999999999,228.8,0,0,{"$f":"IF(AC25>0,IFERROR(IF(AVERAGE(DataInput!Q24:Q25)>AVERAGE(AC25,AC24),ROUNDDOWN(((((AC24-AB24)+(AC25-AB25))/2)*(A25-A24))/27,0),IF(((((DataInput!Q25-AB25)+(DataInput!Q24-AB24))/2)*(A25-A24))/27>0,ROUNDDOWN(((((DataInput!Q25-AB24)+(DataInput!Q24-AB24))/2)*(A25-A24))/27,0),0)),0),0)","v":0},0,{"$f":"IFERROR(IF(((((DataInput!Q24-AE24)+(DataInput!Q25-AE25))/2)*(A25-A24))/27>0,ROUNDDOWN(((((DataInput!Q24-AE24)+(DataInput!Q25-AE25))/2)*(A25-A24))/27,0),0),0)","v":31},{"$f":"DataInput!U25","v":81.199999999999989},{"$f":"DataInput!S25","v":58},58,0]
[{"$f":"IF(DataInput!A26<>\"\",DataInput!A26,\"\")","v":4625},{"$f":"SUM(DataInput!C26,DataInput!X26)+(DataInput!U26-DataInput!E26)","v":529.79999999999995},{"$f":"SUM(DataInput!D26,DataInput!Y26)","v":503},{"$f":"DataInput!U26","v":93.8},{"$f":"SUM(DataInput!F26,DataInput!AA26)","v":0},{"$f":"SUM(DataInput!G26,DataInput!AB26)","v":0},{"$f":"SUM(DataInput!H26,DataInput!AC26)","v":0},{"$f":"DataInput!W26","v":53},{"$f":"SUM(DataInput!J26,DataInput!AD26)","v":0},{"$f":"SUM(DataInput!K26,DataInput!AE26)","v":0},{"$f":"SUM(DataInput!L26,DataInput!AF26)","v":0},{"$f":"SUM(DataInput!M26,DataInput!AG26)","v":0},{"$f":"SUM(DataInput!N26,DataInput!AH26)","v":0},{"$f":"SUM(DataInput!O26,DataInput!AI26)","v":0},{"$f":"DataInput!P26","v":0},null,null,503,387,{"$f":"DataInput!R26","v":32},{"$f":"DataInput!X26","v":0},{"$f":"IF(DataInput!U26-DataInput!E26>0,DataInput!U26-DataInput!E26,\"\")","v":26.799999999999997},{"$f":"IF(DataInput!W26-DataInput!I26>0,DataInput!W26-DataInput!I26,\"\")","v":53},null,null,111.8,275.2,0,0,{"$f":"IF(AC26>0,IFERROR(IF(AVERAGE(DataInput!Q25:Q26)>AVERAGE(AC26,AC25),ROUNDDOWN(((((AC25-AB25)+(AC26-AB26))/2)*(A26-A25))/27,0),IF(((((DataInput!Q26-AB26)+(DataInput!Q25-AB25))/2)*(A26-A25))/27>0,ROUNDDOWN(((((DataInput!Q26-AB25)+(DataInput!Q25-AB25))/2)*(A26-A25))/27,0),0)),0),0)","v":0},0,{"$f":"IFERROR(IF(((((DataInput!Q25-AE25)+(DataInput!Q26-AE26))/2)*(A26-A25))/27>0,ROUNDDOWN(((((DataInput!Q25-AE25)+(DataInput!Q26-AE26))/2)*(A26-A25))/27,0),0),0)","v":31},{"$f":"DataInput!U26","v":93.8},{"$f":"DataInput!S26","v":67},67,0]
[{"$f":"IF(DataInput!A27<>\"\",DataInput!A27,\"\")","v":4650},{"$f":"SUM(DataInput!C27,DataInput!X27)+(DataInput!U27-DataInput!E27)","v":531.6},{"$f":"SUM(DataInput!D27,DataInput!Y27)","v":506},{"$f":"DataInput!U27","v":89.6},{"$f":"SUM(DataInput!F27,DataInput!AA27)","v":0},{"$f":"SUM(DataInput!G27,DataInput!AB27)","v":0},{"$f":"SUM(DataInput!H27,DataInput!AC27)","v":0},{"$f":"DataInput!W27","v":53},{"$f":"SUM(DataInput!J27,DataInput!AD27)","v":0},{"$f":"SUM(DataInput!K27,DataInput!AE27)","v":0},{"$f":"SUM(DataInput!L27,DataInput!AF27)","v":0},{"$f":"SUM(DataInput!M27,DataInput!AG27)","v":0},{"$f":"SUM(DataInput!N27,DataInput!AH27)","v":0},{"$f":"SUM(DataInput!O27,DataInput!AI27)","v":0},{"$f":"DataInput!P27","v":0},null,null,506,389,{"$f":"DataInput!R27","v":34},{"$f":"DataInput!X27","v":0},{"$f":"IF(DataInput!U27-DataInput!E27>0,DataInput!U27-DataInput!E27,\"\")","v":25.599999999999994},{"$f":"IF(DataInput!W27-DataInput!I27>0,DataInput!W27-DataInput!I27,\"\")","v":53},null,null,112.6,276.39999999999998,0,0,{"$f":"IF(AC27>0,IFERROR(IF(AVERAGE(DataInput!Q26:Q27)>AVERAGE(AC27,AC26),ROUNDDOWN(((((AC26-AB26)+(AC27-AB27))/2)*(A27-A26))/27,0),IF(((((DataInput!Q27-AB27)+(DataInput!Q26-AB26))/2)*(A27-A26))/27>0,ROUNDDOWN(((((DataInput!Q27-AB26)+(DataInput!Q26-AB26))/2)*(A27-A26))/27,0),0)),0),0)","v":0},0,{"$f":"IFERROR(IF(((((DataInput!Q26-AE26)+(DataInput!Q27-AE27))/2)*(A27-A26))/27>0,ROUNDDOWN(((((DataInput!Q26-AE26)+(DataInput!Q27-AE27))/2)*(A27-A26))/27,0),0),0)","v":34},{"$f":"DataInput!U27","v":89.6},{"$f":"DataInput!S27","v":64},64,0]
[{"$f":"IF(DataInput!A28<>\"\",DataInput!A28,\"\")","v":4675},{"$f":"SUM(DataInput!C28,DataInput!X28)+(DataInput!U28-DataInput!E28)","v":497.8},{"$f":"SUM(DataInput!D28,DataInput!Y28)","v":473},{"$f":"DataInput!U28","v":86.8},{"$f":"SUM(DataInput!F28,DataInput!AA28)","v":0},{"$f":"SUM(DataInput!G28,DataInput!AB28)","v":0},{"$f":"SUM(DataInput!H28,DataInput!AC28)","v":0},{"$f":"DataInput!W28","v":53},{"$f":"SUM(DataInput!J28,DataInput!AD28)","v":0},{"$f":"SUM(DataInput!K28,DataInput!AE28)","v":0},{"$f":"SUM(DataInput!L28,DataInput!AF28)","v":0},{"$f":"SUM(DataInput!M28,DataInput!AG28)","v":0},{"$f":"SUM(DataInput!N28,DataInput!AH28)","v":0},{"$f":"SUM(DataInput!O28,DataInput!AI28)","v":0},{"$f":"DataInput!P28","v":0},null,null,473,364,{"$f":"DataInput!R28","v":44},{"$f":"DataInput!X28","v":0},{"$f":"IF(DataInput!U28-DataInput!E28>0,DataInput!U28-DataInput!E28,\"\")","v":24.799999999999997},{"$f":"IF(DataInput!W28-DataInput!I28>0,DataInput!W28-DataInput!I28,\"\")","v":53},null,null,121.8,242.2,0,0,{"$f":"IF(AC28>0,IFERROR(IF(AVERAGE(DataInput!Q27:Q28)>AVERAGE(AC28,AC27),ROUNDDOWN(((((AC27-AB27)+(AC28-AB28))/2)*(A28-A27))/27,0),IF(((((DataInput!Q28-AB28)+(DataInput!Q27-AB27))/2)*(A28-A27))/27>0,ROUNDDOWN(((((DataInput!Q28-AB27)+(DataInput!Q27-AB27))/2)*(A28-A27))/27,0),0)),0),0)","v":0},0,{"$f":"IFERROR(IF(((((DataInput!Q27-AE27)+(DataInput!Q28-AE28))/2)*(A28-A27))/27>0,ROUNDDOWN(((((DataInput!Q27-AE27)+(DataInput!Q28-AE28))/2)*(A28-A27))/27,0),0),0)","v":43},{"$f":"DataInput!U28","v":86.8},{"$f":"DataInput!S28","v":62},62,0]
[{"$f":"IF(DataInput!A29<>\"\",DataInput!A29,\"\")","v":4700},{"$f":"SUM(DataInput!C29,DataInput!X29)+(DataInput!U29-DataInput!E29)","v":345.8},{"$f":"SUM(DataInput!D29,DataInput!Y29)","v":319},{"$f":"DataInput!U29","v":93.8},{"$f":"SUM(DataInput!F29,DataInput!AA29)","v":0},{"$f":"SUM(DataInput!G29,DataInput!AB29)","v":0},{"$f":"SUM(DataInput!H29,DataInput!AC29)","v":0},{"$f":"DataInput!W29","v":53},{"$f":"SUM(DataInput!J29,DataInput!AD29)","v":0},{"$f":"SUM(DataInput!K29,DataInput!AE29)","v":0},{"$f":"SUM(DataInput!L29,DataInput!AF29)","v":0},{"$f":"SUM(DataInput!M29,DataInput!AG29)","v":0},{"$f":"SUM(DataInput!N29,DataInput!AH29)","v":0},{"$f":"SUM(DataInput!O29,DataInput!AI29)","v":0},{"$f":"DataInput!P29","v":0},null,null,319,245,{"$f":"DataInput!R29","v":55},{"$f":"DataInput!X29","v":0},{"$f":"IF(DataInput!U29-DataInput!E29>0,DataInput!U29-DataInput!E29,\"\")","v":26.799999999999997},{"$f":"IF(DataInput!W29-DataInput!I29>0,DataInput!W29-DataInput!I29,\"\")","v":53},null,null,134.80000000000001,110.19999999999999,0,0,{"$f":"IF(AC29>0,IFERROR(IF(AVERAGE(DataInput!Q28:Q29)>AVERAGE(AC29,AC28),ROUNDDOWN(((((AC28-AB28)+(AC29-AB29))/2)*(A29-A28))/27,0),IF(((((DataInput!Q29-AB29)+(DataInput!Q28-AB28))/2)*(A29-A28))/27>0,ROUNDDOWN(((((DataInput!Q29-AB28)+(DataInput!Q28-AB28))/2)*(A29-A28))/27,0),0)),0),0)","v":0},0,{"$f":"IFERROR(IF(((((DataInput!Q28-AE28)+(DataInput!Q29-AE29))/2)*(A29-A28))/27>0,ROUNDDOWN(((((DataInput!Q28-AE28)+(DataInput!Q29-AE29))/2)*(A29-A28))/27,0),0),0)","v":54},{"$f":"DataInput!U29","v":93.8},{"$f":"DataInput!S29","v":67},67,0]
[{"$f":"IF(DataInput!A30<>\"\",DataInput!A30,\"\")","v":4725},{"$f":"SUM(DataInput!C30,DataInput!X30)+(DataInput!U30-DataInput!E30)","v":287},{"$f":"SUM(DataInput!D30,DataInput!Y30)","v":261},{"$f":"DataInput!U30","v":91},{"$f":"SUM(DataInput!F30,DataInput!AA30)","v":0},{"$f":"SUM(DataInput!G30,DataInput!AB30)","v":0},{"$f":"SUM(DataInput!H30,DataInput!AC30)","v":0},{"$f":"DataInput!W30","v":53},{"$f":"SUM(DataInput!J30,DataInput!AD30)","v":0},{"$f":"SUM(DataInput!K30,DataInput!AE30)","v":0},{"$f":"SUM(DataInput!L30,DataInput!AF30)","v":0},{"$f":"SUM(DataInput!M30,DataInput!AG30)","v":0},{"$f":"SUM(DataInput!N30,DataInput!AH30)","v":0},{"$f":"SUM(DataInput!O30,DataInput!AI30)","v":0},{"$f":"DataInput!P30","v":0},null,null,261,201,{"$f":"DataInput!R30","v":66},{"$f":"DataInput!X30","v":0},{"$f":"IF(DataInput!U30-DataInput!E30>0,DataInput!U30-DataInput!E30,\"\")","v":26},{"$f":"IF(DataInput!W30-DataInput!I30>0,DataInput!W30-DataInput!I30,\"\")","v":53},null,null,145,56,0,0,{"$f":"IF(AC30>0,IFERROR(IF(AVERAGE(DataInput!Q29:Q30)>AVERAGE(AC30,AC29),ROUNDDOWN(((((AC29-AB29)+(AC30-AB30))/2)*(A30-A29))/27,0),IF(((((DataInput!Q30-AB30)+(DataInput!Q29-AB29))/2)*(A30-A29))/27>0,ROUNDDOWN(((((DataInput!Q30-AB29)+(DataInput!Q29-AB29))/2)*(A30-A29))/27,0),0)),0),0)","v":0},0,{"$f":"IFERROR(IF(((((DataInput!Q29-AE29)+(DataInput!Q30-AE30))/2)*(A30-A29))/27>0,ROUNDDOWN(((((DataInput!Q29-AE29)+(DataInput!Q30-AE30))/2)*(A30-A29))/27,0),0),0)","v":66},{"$f":"DataInput!U30","v":91},{"$f":"DataInput!S30","v":65},65,0]
[{"$f":"IF(DataInput!A31<>\"\",DataInput!A31,\"\")","v":4750},{"$f":"SUM(DataInput!C31,DataInput!X31)+(DataInput!U31-DataInput!E31)","v":359.6},{"$f":"SUM(DataInput!D31,DataInput!Y31)","v":334},{"$f":"DataInput!U31","v":89.6},{"$f":"SUM(DataInput!F31,DataInput!AA31)","v":0},{"$f":"SUM(DataInput!G31,DataInput!AB31)","v":0},{"$f":"SUM(DataInput!H31,DataInput!AC31)","v":0},{"$f":"DataInput!W31","v":53},{"$f":"SUM(DataInput!J31,DataInput!AD31)","v":0},{"$f":"SUM(DataInput!K31,DataInput!AE31)","v":0},{"$f":"SUM(DataInput!L31,DataInput!AF31)","v":0},{"$f":"SUM(DataInput!M31,DataInput!AG31)","v":0},{"$f":"SUM(DataInput!N31,DataInput!AH31)","v":0},{"$f":"SUM(DataInput!O31,DataInput!AI31)","v":0},{"$f":"DataInput!P31","v":0},null,null,334,257,{"$f":"DataInput!R31","v":84},{"$f":"DataInput!X31","v":0},{"$f":"IF(DataInput!U31-DataInput!E31>0,DataInput!U31-DataInput!E31,\"\")","v":25.599999999999994},{"$f":"IF(DataInput!W31-DataInput!I31>0,DataInput!W31-DataInput!I31,\"\")","v":53},null,null,162.6,94.4,0,0,{"$f":"IF(AC31>0,IFERROR(IF(AVERAGE(DataInput!Q30:Q31)>AVERAGE(AC31,AC30),ROUNDDOWN(((((AC30-AB30)+(AC31-AB31))/2)*(A31-A30))/27,0),IF(((((DataInput!Q31-AB31)+(DataInput!Q30-AB30))/2)*(A31-A30))/27>0,ROUNDDOWN(((((DataInput!Q31-AB30)+(DataInput!Q30-AB30))/2)*(A31-A30))/27,0),0)),0),0)","v":0},0,{"$f":"IFERROR(IF(((((DataInput!Q30-AE30)+(DataInput!Q31-AE31))/2)*(A31-A30))/27>0,ROUNDDOWN(((((DataInput!Q30-AE30)+(DataInput!Q31-AE31))/2)*(A31-A30))/27,0),0),0)","v":84},{"$f":"DataInput!U31","v":89.6},{"$f":"DataInput!S31","v":64},64,0]
[{"$f":"IF(DataInput!A32<>\"\",DataInput!A32,\"\")","v":4775},{"$f":"SUM(DataInput!C32,DataInput!X32)+(DataInput!U32-DataInput!E32)","v":340.2},{"$f":"SUM(DataInput!D32,DataInput!Y32)","v":313},{"$f":"DataInput!U32","v":95.199999999999989},{"$f":"SUM(DataInput!F32,DataInput!AA32)","v":0},{"$f":"SUM(DataInput!G32,DataInput!AB32)","v":0},{"$f":"SUM(DataInput!H32,DataInput!AC32)","v":0},{"$f":"DataInput!W32","v":53},{"$f":"SUM(DataInput!J32,DataInput!AD32)","v":0},{"$f":"SUM(DataInput!K32,DataInput!AE32)","v":0},{"$f":"SUM(DataInput!L32,DataInput!AF32)","v":0},{"$f":"SUM(DataInput!M32,DataInput!AG32)","v":0},{"$f":"SUM(DataInput!N32,DataInput!AH32)","v":0},{"$f":"SUM(DataInput!O32,DataInput!AI32)","v":0},{"$f":"DataInput!P32","v":0},null,null,313,241,{"$f":"DataInput!R32","v":100},{"$f":"DataInput!X32","v":0},{"$f":"IF(DataInput!U32-DataInput!E32>0,DataInput!U32-DataInput!E32,\"\")","v":27.199999999999989},{"$f":"IF(DataInput!W32-DataInput!I32>0,DataInput!W32-DataInput!I32,\"\")","v":53},null,null,180.2,60.800000000000011,0,0,{"$f":"IF(AC32>0,IFERROR(IF(AVERAGE(DataInput!Q31:Q32)>AVERAGE(AC32,AC31),ROUNDDOWN(((((AC31-AB31)+(AC32-AB32))/2)*(A32-A31))/27,0),IF(((((DataInput!Q32-AB32)+(DataInput!Q31-AB31))/2)*(A32-A31))/27>0,ROUNDDOWN(((((DataInput!Q32-AB31)+(DataInput!Q31-AB31))/2)*(A32-A31))/27,0),0)),0),0)","v":0},0,{"$f":"IFERROR(IF(((((DataInput!Q31-AE31)+(DataInput!Q32-AE32))/2)*(A32-A31))/27>0,ROUNDDOWN(((((DataInput!Q31-AE31)+(DataInput!Q32-AE32))/2)*(A32-A31))/27,0),0),0)","v":100},{"$f":"DataInput!U32","v":95.199999999999989},{"$f":"DataInput!S32","v":68},68,0]
[{"$f":"IF(DataInput!A33<>\"\",DataInput!A33,\"\")","v":4800},{"$f":"SUM(DataInput!C33,DataInput!X33)+(DataInput!U33-DataInput!E33)","v":305.8},{"$f":"SUM(DataInput!D33,DataInput!Y33)","v":281},{"$f":"DataInput!U33","v":86.8},{"$f":"SUM(DataInput!F33,DataInput!AA33)","v":0},{"$f":"SUM(DataInput!G33,DataInput!AB33)","v":0},{"$f":"SUM(DataInput!H33,DataInput!AC33)","v":0},{"$f":"DataInput!W33","v":53},{"$f":"SUM(DataInput!J33,DataInput!AD33)","v":0},{"$f":"SUM(DataInput!K33,DataInput!AE33)","v":0},{"$f":"SUM(DataInput!L33,DataInput!AF33)","v":0},{"$f":"SUM(DataInput!M33,DataInput!AG33)","v":0},{"$f":"SUM(DataInput!N33,DataInput!AH33)","v":0},{"$f":"SUM(DataInput!O33,DataInput!AI33)","v":0},{"$f":"DataInput!P33","v":0},null,null,281,216,{"$f":"DataInput!R33","v":113},{"$f":"DataInput!X33","v":0},{"$f":"IF(DataInput!U33-DataInput!E33>0,DataInput!U33-DataInput!E33,\"\")","v":24.799999999999997},{"$f":"IF(DataInput!W33-DataInput!I33>0,DataInput!W33-DataInput!I33,\"\")","v":53},null,null,190.8,25.199999999999989,0,0,{"$f":"IF(AC33>0,IFERROR(IF(AVERAGE(DataInput!Q32:Q33)>AVERAGE(AC33,AC32),ROUNDDOWN(((((AC32-AB32)+(AC33-AB33))/2)*(A33-A32))/27,0),IF(((((DataInput!Q33-AB33)+(DataInput!Q32-AB32))/2)*(A33-A32))/27>0,ROUNDDOWN(((((DataInput!Q33-AB32)+(DataInput!Q32-AB32))/2)*(A33-A32))/27,0),0)),0),0)","v":0},0,{"$f":"IFERROR(IF(((((DataInput!Q32-AE32)+(DataInput!Q33-AE33))/2)*(A33-A32))/27>0,ROUNDDOWN(((((DataInput!Q32-AE32)+(DataInput!Q33-AE33))/2)*(A33-A32))/27,0),0),0)","v":112},{"$f":"DataInput!U33","v":86.8},{"$f":"DataInput!S33","v":62},62,0]
[{"$f":"IF(DataInput!A34<>\"\",DataInput!A34,\"\")","v":4825},{"$f":"SUM(DataInput!C34,DataInput!X34)+(DataInput!U34-DataInput!E34)","v":282},{"$f":"SUM(DataInput!D34,DataInput!Y34)","v":260},{"$f":"DataInput!U34","v":77},{"$f":"SUM(DataInput!F34,DataInput!AA34)","v":0},{"$f":"SUM(DataInput!G34,DataInput!AB34)","v":0},{"$f":"SUM(DataInput!H34,DataInput!AC34)","v":0},{"$f":"DataInput!W34","v":53},{"$f":"SUM(DataInput!J34,DataInput!AD34)","v":0},{"$f":"SUM(DataInput!K34,DataInput!AE34)","v":0},{"$f":"SUM(DataInput!L34,DataInput!AF34)","v":0},{"$f":"SUM(DataInput!M34,DataInput!AG34)","v":0},{"$f":"SUM(DataInput!N34,DataInput!AH34)","v":0},{"$f":"SUM(DataInput!O34,DataInput!AI34)","v":0},{"$f":"DataInput!P34","v":0},null,null,260,200,{"$f":"DataInput!R34","v":134},{"$f":"DataInput!X34","v":0},{"$f":"IF(DataInput!U34-DataInput!E34>0,DataInput!U34-DataInput!E34,\"\")","v":22},{"$f":"IF(DataInput!W34-DataInput!I34>0,DataInput!W34-DataInput!I34,\"\")","v":53},null,null,209,-9,0,0,{"$f":"IF(AC34>0,IFERROR(IF(AVERAGE(DataInput!Q33:Q34)>AVERAGE(AC34,AC33),ROUNDDOWN(((((AC33-AB33)+(AC34-AB34))/2)*(A34-A33))/27,0),IF(((((DataInput!Q34-AB34)+(DataInput!Q33-AB33))/2)*(A34-A33))/27>0,ROUNDDOWN(((((DataInput!Q34-AB33)+(DataInput!Q33-AB33))/2)*(A34-A33))/27,0),0)),0),0)","v":0},0,{"$f":"IFERROR(IF(((((DataInput!Q33-AE33)+(DataInput!Q34-AE34))/2)*(A34-A33))/27>0,ROUNDDOWN(((((DataInput!Q33-AE33)+(DataInput!Q34-AE34))/2)*(A34-A33))/27,0),0),0)","v":134},{"$f":"DataInput!U34","v":77},{"$f":"DataInput!S34","v":55},55,0]
[{"$f":"IF(DataInput!A35<>\"\",DataInput!A35,\"\")","v":4850},{"$f":"SUM(DataInput!C35,DataInput!X35)+(DataInput!U35-DataInput!E35)","v":282.2},{"$f":"SUM(DataInput!D35,DataInput!Y35)","v":263},{"$f":"DataInput!U35","v":67.199999999999989},{"$f":"SUM(DataInput!F35,DataInput!AA35)","v":0},{"$f":"SUM(DataInput!G35,DataInput!AB35)","v":0},{"$f":"SUM(DataInput!H35,DataInput!AC35)","v":0},{"$f":"DataInput!W35","v":53},{"$f":"SUM(DataInput!J35,DataInput!AD35)","v":0},{"$f":"SUM(DataInput!K35,DataInput!AE35)","v":0},{"$f":"SUM(DataInput!L35,DataInput!AF35)","v":0},{"$f":"SUM(DataInput!M35,DataInput!AG35)","v":0},{"$f":"SUM(DataInput!N35,DataInput!AH35)","v":0},{"$f":"SUM(DataInput!O35,DataInput!AI35)","v":0},{"$f":"DataInput!P35","v":0},null,null,263,202,{"$f":"DataInput!R35","v":175},{"$f":"DataInput!X35","v":0},{"$f":"IF(DataInput!U35-DataInput!E35>0,DataInput!U35-DataInput!E35,\"\")","v":19.199999999999989},{"$f":"IF(DataInput!W35-DataInput!I35>0,DataInput!W35-DataInput!I35,\"\")","v":53},null,null,247.2,-45.199999999999989,0,0,{"$f":"IF(AC35>0,IFERROR(IF(AVERAGE(DataInput!Q34:Q35)>AVERAGE(AC35,AC34),ROUNDDOWN(((((AC34-AB34)+(AC35-AB35))/2)*(A35-A34))/27,0),IF(((((DataInput!Q35-AB35)+(DataInput!Q34-AB34))/2)*(A35-A34))/27>0,ROUNDDOWN(((((DataInput!Q35-AB34)+(DataInput!Q34-AB34))/2)*(A35-A34))/27,0),0)),0),0)","v":0},0,{"$f":"IFERROR(IF(((((DataInput!Q34-AE34)+(DataInput!Q35-AE35))/2)*(A35-A34))/27>0,ROUNDDOWN(((((DataInput!Q34-AE34)+(DataInput!Q35-AE35))/2)*(A35-A34))/27,0),0),0)","v":175},{"$f":"DataInput!U35","v":67.199999999999989},{"$f":"DataInput!S35","v":48},48,0]
[{"$f":"IF(DataInput!A36<>\"\",DataInput!A36,\"\")","v":4875},{"$f":"SUM(DataInput!C36,DataInput!X36)+(DataInput!U36-DataInput!E36)","v":322.60000000000002},{"$f":"SUM(DataInput!D36,DataInput!Y36)","v":301},{"$f":"DataInput!U36","v":75.599999999999994},{"$f":"SUM(DataInput!F36,DataInput!AA36)","v":0},{"$f":"SUM(DataInput!G36,DataInput!AB36)","v":0},{"$f":"SUM(DataInput!H36,DataInput!AC36)","v":0},{"$f":"DataInput!W36","v":53},{"$f":"SUM(DataInput!J36,DataInput!AD36)","v":0},{"$f":"SUM(DataInput!K36,DataInput!AE36)","v":0},{"$f":"SUM(DataInput!L36,DataInput!AF36)","v":0},{"$f":"SUM(DataInput!M36,DataInput!AG36)","v":0},{"$f":"SUM(DataInput!N36,DataInput!AH36)","v":0},{"$f":"SUM(DataInput!O36,DataInput!AI36)","v":0},{"$f":"DataInput!P36","v":0},null,null,301,232,{"$f":"DataInput!R36","v":218},{"$f":"DataInput!X36","v":0},{"$f":"IF(DataInput!U36-DataInput!E36>0,DataInput!U36-DataInput!E36,\"\")","v":21.599999999999994},{"$f":"IF(DataInput!W36-DataInput!I36>0,DataInput!W36-DataInput!I36,\"\")","v":53},null,null,292.60000000000002,-60.600000000000023,0,0,{"$f":"IF(AC36>0,IFERROR(IF(AVERAGE(DataInput!Q35:Q36)>AVERAGE(AC36,AC35),ROUNDDOWN(((((AC35-AB35)+(AC36-AB36))/2)*(A36-A35))/27,0),IF(((((DataInput!Q36-AB36)+(DataInput!Q35-AB35))/2)*(A36-A35))/27>0,ROUNDDOWN(((((DataInput!Q36-AB35)+(DataInput!Q35-AB35))/2)*(A36-A35))/27,0),0)),0),0)","v":0},0,{"$f":"IFERROR(IF(((((DataInput!Q35-AE35)+(DataInput!Q36-AE36))/2)*(A36-A35))/27>0,ROUNDDOWN(((((DataInput!Q35-AE35)+(DataInput!Q36-AE36))/2)*(A36-A35))/27,0),0),0)","v":218},{"$f":"DataInput!U36","v":75.599999999999994},{"$f":"DataInput!S36","v":54},54,0]
[{"$f":"IF(DataInput!A37<>\"\",DataInput!A37,\"\")","v":4900},{"$f":"SUM(DataInput!C37,DataInput!X37)+(DataInput!U37-DataInput!E37)","v":361.6},{"$f":"SUM(DataInput!D37,DataInput!Y37)","v":336},{"$f":"DataInput!U37","v":89.6},{"$f":"SUM(DataInput!F37,DataInput!AA37)","v":0},{"$f":"SUM(DataInput!G37,DataInput!AB37)","v":0},{"$f":"SUM(DataInput!H37,DataInput!AC37)","v":0},{"$f":"DataInput!W37","v":53},{"$f":"SUM(DataInput!J37,DataInput!AD37)","v":0},{"$f":"SUM(DataInput!K37,DataInput!AE37)","v":0},{"$f":"SUM(DataInput!L37,DataInput!AF37)","v":0},{"$f":"SUM(DataInput!M37,DataInput!AG37)","v":0},{"$f":"SUM(DataInput!N37,DataInput!AH37)","v":0},{"$f":"SUM(DataInput!O37,DataInput!AI37)","v":0},{"$f":"DataInput!P37","v":0},null,null,336,258,{"$f":"DataInput!R37","v":252},{"$f":"DataInput!X37","v":0},{"$f":"IF(DataInput!U37-DataInput!E37>0,DataInput!U37-DataInput!E37,\"\")","v":25.599999999999994},{"$f":"IF(DataInput!W37-DataInput!I37>0,DataInput!W37-DataInput!I37,\"\")","v":53},null,null,330.6,-72.600000000000023,0,0,{"$f":"IF(AC37>0,IFERROR(IF(AVERAGE(DataInput!Q36:Q37)>AVERAGE(AC37,AC36),ROUNDDOWN(((((AC36-AB36)+(AC37-AB37))/2)*(A37-A36))/27,0),IF(((((DataInput!Q37-AB37)+(DataInput!Q36-AB36))/2)*(A37-A36))/27>0,ROUNDDOWN(((((DataInput!Q37-AB36)+(DataInput!Q36-AB36))/2)*(A37-A36))/27,0),0)),0),0)","v":0},0,{"$f":"IFERROR(IF(((((DataInput!Q36-AE36)+(DataInput!Q37-AE37))/2)*(A37-A36))/27>0,ROUNDDOWN(((((DataInput!Q36-AE36)+(DataInput!Q37-AE37))/2)*(A37-A36))/27,0),0),0)","v":252},{"$f":"DataInput!U37","v":89.6},{"$f":"DataInput!S37","v":64},64,0]
[{"$f":"IF(DataInput!A38<>\"\",DataInput!A38,\"\")","v":4925},{"$f":"SUM(DataInput!C38,DataInput!X38)+(DataInput!U38-DataInput!E38)","v":392.4},{"$f":"SUM(DataInput!D38,DataInput!Y38)","v":366},{"$f":"DataInput!U38","v":92.399999999999991},{"$f":"SUM(DataInput!F38,DataInput!AA38)","v":0},{"$f":"SUM(DataInput!G38,DataInput!AB38)","v":0},{"$f":"SUM(DataInput!H38,DataInput!AC38)","v":0},{"$f":"DataInput!W38","v":53},{"$f":"SUM(DataInput!J38,DataInput!AD38)","v":0},{"$f":"SUM(DataInput!K38,DataInput!AE38)","v":0},{"$f":"SUM(DataInput!L38,DataInput!AF38)","v":0},{"$f":"SUM(DataInput!M38,DataInput!AG38)","v":0},{"$f":"SUM(DataInput!N38,DataInput!AH38)","v":0},{"$f":"SUM(DataInput!O38,DataInput!AI38)","v":0},{"$f":"DataInput!P38","v":0},null,null,366,282,{"$f":"DataInput!R38","v":282},{"$f":"DataInput!X38","v":0},{"$f":"IF(DataInput!U38-DataInput!E38>0,DataInput!U38-DataInput!E38,\"\")","v":26.399999999999991},{"$f":"IF(DataInput!W38-DataInput!I38>0,DataInput!W38-DataInput!I38,\"\")","v":53},null,null,361.4,-79.399999999999977,0,0,{"$f":"IF(AC38>0,IFERROR(IF(AVERAGE(DataInput!Q37:Q38)>AVERAGE(AC38,AC37),ROUNDDOWN(((((AC37-AB37)+(AC38-AB38))/2)*(A38-A37))/27,0),IF(((((DataInput!Q38-AB38)+(DataInput!Q37-AB37))/2)*(A38-A37))/27>0,ROUNDDOWN(((((DataInput!Q38-AB37)+(DataInput!Q37-AB37))/2)*(A38-A37))/27,0),0)),0),0)","v":0},0,{"$f":"IFERROR(IF(((((DataInput!Q37-AE37)+(DataInput!Q38-AE38))/2)*(A38-A37))/27>0,ROUNDDOWN(((((DataInput!Q37-AE37)+(DataInput!Q38-AE38))/2)*(A38-A37))/27,0),0),0)","v":282},{"$f":"DataInput!U38","v":92.399999999999991},{"$f":"DataInput!S38","v":66},66,0]
[{"$f":"IF(DataInput!A39<>\"\",DataInput!A39,\"\")","v":4950},{"$f":"SUM(DataInput!C39,DataInput!X39)+(DataInput!U39-DataInput!E39)","v":414.8},{"$f":"SUM(DataInput!D39,DataInput!Y39)","v":388},{"$f":"DataInput!U39","v":93.8},{"$f":"SUM(DataInput!F39,DataInput!AA39)","v":0},{"$f":"SUM(DataInput!G39,DataInput!AB39)","v":0},{"$f":"SUM(DataInput!H39,DataInput!AC39)","v":0},{"$f":"DataInput!W39","v":53},{"$f":"SUM(DataInput!J39,DataInput!AD39)","v":0},{"$f":"SUM(DataInput!K39,DataInput!AE39)","v":0},{"$f":"SUM(DataInput!L39,DataInput!AF39)","v":0},{"$f":"SUM(DataInput!M39,DataInput!AG39)","v":0},{"$f":"SUM(DataInput!N39,DataInput!AH39)","v":0},{"$f":"SUM(DataInput!O39,DataInput!AI39)","v":0},{"$f":"DataInput!P39","v":0},null,null,388,298,{"$f":"DataInput!R39","v":326},{"$f":"DataInput!X39","v":0},{"$f":"IF(DataInput!U39-DataInput!E39>0,DataInput!U39-DataInput!E39,\"\")","v":26.799999999999997},{"$f":"IF(DataInput!W39-DataInput!I39>0,DataInput!W39-DataInput!I39,\"\")","v":53},null,null,405.8,-107.80000000000001,0,0,{"$f":"IF(AC39>0,IFERROR(IF(AVERAGE(DataInput!Q38:Q39)>AVERAGE(AC39,AC38),ROUNDDOWN(((((AC38-AB38)+(AC39-AB39))/2)*(A39-A38))/27,0),IF(((((DataInput!Q39-AB39)+(DataInput!Q38-AB38))/2)*(A39-A38))/27>0,ROUNDDOWN(((((DataInput!Q39-AB38)+(DataInput!Q38-AB38))/2)*(A39-A38))/27,0),0)),0),0)","v":0},0,{"$f":"IFERROR(IF(((((DataInput!Q38-AE38)+(DataInput!Q39-AE39))/2)*(A39-A38))/27>0,ROUNDDOWN(((((DataInput!Q38-AE38)+(DataInput!Q39-AE39))/2)*(A39-A38))/27,0),0),0)","v":325},{"$f":"DataInput!U39","v":93.8},{"$f":"DataInput!S39","v":67},67,0]
[{"$f":"IF(DataInput!A40<>\"\",DataInput!A40,\"\")","v":4975},{"$f":"SUM(DataInput!C40,DataInput!X40)+(DataInput!U40-DataInput!E40)","v":403.4},{"$f":"SUM(DataInput!D40,DataInput!Y40)","v":377},{"$f":"DataInput!U40","v":92.399999999999991},{"$f":"SUM(DataInput!F40,DataInput!AA40)","v":0},{"$f":"SUM(DataInput!G40,DataInput!AB40)","v":0},{"$f":"SUM(DataInput!H40,DataInput!AC40)","v":0},{"$f":"DataInput!W40","v":53},{"$f":"SUM(DataInput!J40,DataInput!AD40)","v":0},{"$f":"SUM(DataInput!K40,DataInput!AE40)","v":0},{"$f":"SUM(DataInput!L40,DataInput!AF40)","v":0},{"$f":"SUM(DataInput!M40,DataInput!AG40)","v":0},{"$f":"SUM(DataInput!N40,DataInput!AH40)","v":0},{"$f":"SUM(DataInput!O40,DataInput!AI40)","v":0},{"$f":"DataInput!P40","v":0},null,null,377,290,{"$f":"DataInput!R40","v":373},{"$f":"DataInput!X40","v":0},{"$f":"IF(DataInput!U40-DataInput!E40>0,DataInput!U40-DataInput!E40,\"\")","v":26.399999999999991},{"$f":"IF(DataInput!W40-DataInput!I40>0,DataInput!W40-DataInput!I40,\"\")","v":53},null,null,452.4,-162.39999999999998,0,0,{"$f":"IF(AC40>0,IFERROR(IF(AVERAGE(DataInput!Q39:Q40)>AVERAGE(AC40,AC39),ROUNDDOWN(((((AC39-AB39)+(AC40-AB40))/2)*(A40-A39))/27,0),IF(((((DataInput!Q40-AB40)+(DataInput!Q39-AB39))/2)*(A40-A39))/27>0,ROUNDDOWN(((((DataInput!Q40-AB39)+(DataInput!Q39-AB39))/2)*(A40-A39))/27,0),0)),0),0)","v":0},0,{"$f":"IFERROR(IF(((((DataInput!Q39-AE39)+(DataInput!Q40-AE40))/2)*(A40-A39))/27>0,ROUNDDOWN(((((DataInput!Q39-AE39)+(DataInput!Q40-AE40))/2)*(A40-A39))/27,0),0),0)","v":372},{"$f":"DataInput!U40","v":92.399999999999991},{"$f":"DataInput!S40","v":66},66,0]
[{"$f":"IF(DataInput!A41<>\"\",DataInput!A41,\"\")","v":5000},{"$f":"SUM(DataInput!C41,DataInput!X41)+(DataInput!U41-DataInput!E41)","v":327},{"$f":"SUM(DataInput!D41,DataInput!Y41)","v":301},{"$f":"DataInput!U41","v":91},{"$f":"SUM(DataInput!F41,DataInput!AA41)","v":0},{"$f":"SUM(DataInput!G41,DataInput!AB41)","v":0},{"$f":"SUM(DataInput!H41,DataInput!AC41)","v":0},{"$f":"DataInput!W41","v":56},{"$f":"SUM(DataInput!J41,DataInput!AD41)","v":0},{"$f":"SUM(DataInput!K41,DataInput!AE41)","v":0},{"$f":"SUM(DataInput!L41,DataInput!AF41)","v":0},{"$f":"SUM(DataInput!M41,DataInput!AG41)","v":0},{"$f":"SUM(DataInput!N41,DataInput!AH41)","v":0},{"$f":"SUM(DataInput!O41,DataInput!AI41)","v":0},{"$f":"DataInput!P41","v":0},null,null,301,232,{"$f":"DataInput!R41","v":398},{"$f":"DataInput!X41","v":0},{"$f":"IF(DataInput!U41-DataInput!E41>0,DataInput!U41-DataInput!E41,\"\")","v":26},{"$f":"IF(DataInput!W41-DataInput!I41>0,DataInput!W41-DataInput!I41,\"\")","v":56},null,null,480,-248,0,0,{"$f":"IF(AC41>0,IFERROR(IF(AVERAGE(DataInput!Q40:Q41)>AVERAGE(AC41,AC40),ROUNDDOWN(((((AC40-AB40)+(AC41-AB41))/2)*(A41-A40))/27,0),IF(((((DataInput!Q41-AB41)+(DataInput!Q40-AB40))/2)*(A41-A40))/27>0,ROUNDDOWN(((((DataInput!Q41-AB40)+(DataInput!Q40-AB40))/2)*(A41-A40))/27,0),0)),0),0)","v":0},0,{"$f":"IFERROR(IF(((((DataInput!Q40-AE40)+(DataInput!Q41-AE41))/2)*(A41-A40))/27>0,ROUNDDOWN(((((DataInput!Q40-AE40)+(DataInput!Q41-AE41))/2)*(A41-A40))/27,0),0),0)","v":398},{"$f":"DataInput!U41","v":91},{"$f":"DataInput!S41","v":65},65,0]
[{"$f":"IF(DataInput!A42<>\"\",DataInput!A42,\"\")","v":5025},{"$f":"SUM(DataInput!C42,DataInput!X42)+(DataInput!U42-DataInput!E42)","v":201},{"$f":"SUM(DataInput!D42,DataInput!Y42)","v":177},{"$f":"DataInput!U42","v":84},{"$f":"SUM(DataInput!F42,DataInput!AA42)","v":0},{"$f":"SUM(DataInput!G42,DataInput!AB42)","v":0},{"$f":"SUM(DataInput!H42,DataInput!AC42)","v":0},{"$f":"DataInput!W42","v":57},{"$f":"SUM(DataInput!J42,DataInput!AD42)","v":0},{"$f":"SUM(DataInput!K42,DataInput!AE42)","v":0},{"$f":"SUM(DataInput!L42,DataInput!AF42)","v":0},{"$f":"SUM(DataInput!M42,DataInput!AG42)","v":0},{"$f":"SUM(DataInput!N42,DataInput!AH42)","v":0},{"$f":"SUM(DataInput!O42,DataInput!AI42)","v":0},{"$f":"DataInput!P42","v":0},null,null,177,136,{"$f":"DataInput!R42","v":430},{"$f":"DataInput!X42","v":0},{"$f":"IF(DataInput!U42-DataInput!E42>0,DataInput!U42-DataInput!E42,\"\")","v":24},{"$f":"IF(DataInput!W42-DataInput!I42>0,DataInput!W42-DataInput!I42,\"\")","v":57},null,null,511,-375,0,0,{"$f":"IF(AC42>0,IFERROR(IF(AVERAGE(DataInput!Q41:Q42)>AVERAGE(AC42,AC41),ROUNDDOWN(((((AC41-AB41)+(AC42-AB42))/2)*(A42-A41))/27,0),IF(((((DataInput!Q42-AB42)+(DataInput!Q41-AB41))/2)*(A42-A41))/27>0,ROUNDDOWN(((((DataInput!Q42-AB41)+(DataInput!Q41-AB41))/2)*(A42-A41))/27,0),0)),0),0)","v":0},0,{"$f":"IFERROR(IF(((((DataInput!Q41-AE41)+(DataInput!Q42-AE42))/2)*(A42-A41))/27>0,ROUNDDOWN(((((DataInput!Q41-AE41)+(DataInput!Q42-AE42))/2)*(A42-A41))/27,0),0),0)","v":430},{"$f":"DataInput!U42","v":84},{"$f":"DataInput!S42","v":60},60,0]
[{"$f":"IF(DataInput!A43<>\"\",DataInput!A43,\"\")","v":5050},{"$f":"SUM(DataInput!C43,DataInput!X43)+(DataInput!U43-DataInput!E43)","v":98.399999999999991},{"$f":"SUM(DataInput!D43,DataInput!Y43)","v":76},{"$f":"DataInput!U43","v":78.399999999999991},{"$f":"SUM(DataInput!F43,DataInput!AA43)","v":0},{"$f":"SUM(DataInput!G43,DataInput!AB43)","v":0},{"$f":"SUM(DataInput!H43,DataInput!AC43)","v":0},{"$f":"DataInput!W43","v":55},{"$f":"SUM(DataInput!J43,DataInput!AD43)","v":0},{"$f":"SUM(DataInput!K43,DataInput!AE43)","v":0},{"$f":"SUM(DataInput!L43,DataInput!AF43)","v":0},{"$f":"SUM(DataInput!M43,DataInput!AG43)","v":0},{"$f":"SUM(DataInput!N43,DataInput!AH43)","v":0},{"$f":"SUM(DataInput!O43,DataInput!AI43)","v":0},{"$f":"DataInput!P43","v":0},null,null,76,58,{"$f":"DataInput!R43","v":487},{"$f":"DataInput!X43","v":0},{"$f":"IF(DataInput!U43-DataInput!E43>0,DataInput!U43-DataInput!E43,\"\")","v":22.399999999999991},{"$f":"IF(DataInput!W43-DataInput!I43>0,DataInput!W43-DataInput!I43,\"\")","v":55},null,null,564.4,-506.4,0,0,{"$f":"IF(AC43>0,IFERROR(IF(AVERAGE(DataInput!Q42:Q43)>AVERAGE(AC43,AC42),ROUNDDOWN(((((AC42-AB42)+(AC43-AB43))/2)*(A43-A42))/27,0),IF(((((DataInput!Q43-AB43)+(DataInput!Q42-AB42))/2)*(A43-A42))/27>0,ROUNDDOWN(((((DataInput!Q43-AB42)+(DataInput!Q42-AB42))/2)*(A43-A42))/27,0),0)),0),0)","v":0},0,{"$f":"IFERROR(IF(((((DataInput!Q42-AE42)+(DataInput!Q43-AE43))/2)*(A43-A42))/27>0,ROUNDDOWN(((((DataInput!Q42-AE42)+(DataInput!Q43-AE43))/2)*(A43-A42))/27,0),0),0)","v":487},{"$f":"DataInput!U43","v":78.399999999999991},{"$f":"DataInput!S43","v":56},56,0]
[{"$f":"IF(DataInput!A44<>\"\",DataInput!A44,\"\")","v":5075},{"$f":"SUM(DataInput!C44,DataInput!X44)+(DataInput!U44-DataInput!E44)","v":49.8},{"$f":"SUM(DataInput!D44,DataInput!Y44)","v":23},{"$f":"DataInput!U44","v":93.8},{"$f":"SUM(DataInput!F44,DataInput!AA44)","v":0},{"$f":"SUM(DataInput!G44,DataInput!AB44)","v":0},{"$f":"SUM(DataInput!H44,DataInput!AC44)","v":0},{"$f":"DataInput!W44","v":51},{"$f":"SUM(DataInput!J44,DataInput!AD44)","v":0},{"$f":"SUM(DataInput!K44,DataInput!AE44)","v":0},{"$f":"SUM(DataInput!L44,DataInput!AF44)","v":0},{"$f":"SUM(DataInput!M44,DataInput!AG44)","v":0},{"$f":"SUM(DataInput!N44,DataInput!AH44)","v":0},{"$f":"SUM(DataInput!O44,DataInput!AI44)","v":0},{"$f":"DataInput!P44","v":0},null,null,23,18,{"$f":"DataInput!R44","v":884},{"$f":"DataInput!X44","v":0},{"$f":"IF(DataInput!U44-DataInput!E44>0,DataInput!U44-DataInput!E44,\"\")","v":26.799999999999997},{"$f":"IF(DataInput!W44-DataInput!I44>0,DataInput!W44-DataInput!I44,\"\")","v":51},null,null,961.8,-943.8,0,0,{"$f":"IF(AC44>0,IFERROR(IF(AVERAGE(DataInput!Q43:Q44)>AVERAGE(AC44,AC43),ROUNDDOWN(((((AC43-AB43)+(AC44-AB44))/2)*(A44-A43))/27,0),IF(((((DataInput!Q44-AB44)+(DataInput!Q43-AB43))/2)*(A44-A43))/27>0,ROUNDDOWN(((((DataInput!Q44-AB43)+(DataInput!Q43-AB43))/2)*(A44-A43))/27,0),0)),0),0)","v":0},0,{"$f":"IFERROR(IF(((((DataInput!Q43-AE43)+(DataInput!Q44-AE44))/2)*(A44-A43))/27>0,ROUNDDOWN(((((DataInput!Q43-AE43)+(DataInput!Q44-AE44))/2)*(A44-A43))/27,0),0),0)","v":884},{"$f":"DataInput!U44","v":93.8},{"$f":"DataInput!S44","v":67},67,0]
[{"$f":"IF(DataInput!A45<>\"\",DataInput!A45,\"\")","v":5300},{"$f":"SUM(DataInput!C45,DataInput!X45)+(DataInput!U45-DataInput!E45)","v":32.199999999999989},{"$f":"SUM(DataInput!D45,DataInput!Y45)","v":1},{"$f":"DataInput!U45","v":109.19999999999999},{"$f":"SUM(DataInput!F45,DataInput!AA45)","v":0},{"$f":"SUM(DataInput!G45,DataInput!AB45)","v":0},{"$f":"SUM(DataInput!H45,DataInput!AC45)","v":0},{"$f":"DataInput!W45","v":49},{"$f":"SUM(DataInput!J45,DataInput!AD45)","v":0},{"$f":"SUM(DataInput!K45,DataInput!AE45)","v":0},{"$f":"SUM(DataInput!L45,DataInput!AF45)","v":0},{"$f":"SUM(DataInput!M45,DataInput!AG45)","v":0},{"$f":"SUM(DataInput!N45,DataInput!AH45)","v":0},{"$f":"SUM(DataInput!O45,DataInput!AI45)","v":0},{"$f":"DataInput!P45","v":0},null,null,1,1,{"$f":"DataInput!R45","v":1215},{"$f":"DataInput!X45","v":0},{"$f":"IF(DataInput!U45-DataInput!E45>0,DataInput!U45-DataInput!E45,\"\")","v":31.199999999999989},{"$f":"IF(DataInput!W45-DataInput!I45>0,DataInput!W45-DataInput!I45,\"\")","v":49},null,null,1295.2,-1294.2,0,0,{"$f":"IF(AC45>0,IFERROR(IF(AVERAGE(DataInput!Q44:Q45)>AVERAGE(AC45,AC44),ROUNDDOWN(((((AC44-AB44)+(AC45-AB45))/2)*(A45-A44))/27,0),IF(((((DataInput!Q45-AB45)+(DataInput!Q44-AB44))/2)*(A45-A44))/27>0,ROUNDDOWN(((((DataInput!Q45-AB44)+(DataInput!Q44-AB44))/2)*(A45-A44))/27,0),0)),0),0)","v":0},0,{"$f":"IFERROR(IF(((((DataInput!Q44-AE44)+(DataInput!Q45-AE45))/2)*(A45-A44))/27>0,ROUNDDOWN(((((DataInput!Q44-AE44)+(DataInput!Q45-AE45))/2)*(A45-A44))/27,0),0),0)","v":10937},{"$f":"DataInput!U45","v":109.19999999999999},{"$f":"DataInput!S45","v":78},78,0]
[{"$f":"IF(DataInput!A46<>\"\",DataInput!A46,\"\")","v":5325},{"$f":"SUM(DataInput!C46,DataInput!X46)+(DataInput!U46-DataInput!E46)","v":31.399999999999991},{"$f":"SUM(DataInput!D46,DataInput!Y46)","v":1},{"$f":"DataInput!U46","v":106.39999999999999},{"$f":"SUM(DataInput!F46,DataInput!AA46)","v":0},{"$f":"SUM(DataInput!G46,DataInput!AB46)","v":0},{"$f":"SUM(DataInput!H46,DataInput!AC46)","v":0},{"$f":"DataInput!W46","v":50},{"$f":"SUM(DataInput!J46,DataInput!AD46)","v":0},{"$f":"SUM(DataInput!K46,DataInput!AE46)","v":0},{"$f":"SUM(DataInput!L46,DataInput!AF46)","v":0},{"$f":"SUM(DataInput!M46,DataInput!AG46)","v":0},{"$f":"SUM(DataInput!N46,DataInput!AH46)","v":0},{"$f":"SUM(DataInput!O46,DataInput!AI46)","v":0},{"$f":"DataInput!P46","v":0},null,null,1,1,{"$f":"DataInput!R46","v":1155},{"$f":"DataInput!X46","v":0},{"$f":"IF(DataInput!U46-DataInput!E46>0,DataInput!U46-DataInput!E46,\"\")","v":30.399999999999991},{"$f":"IF(DataInput!W46-DataInput!I46>0,DataInput!W46-DataInput!I46,\"\")","v":50},null,null,1235.4000000000001,-1234.4000000000001,0,0,{"$f":"IF(AC46>0,IFERROR(IF(AVERAGE(DataInput!Q45:Q46)>AVERAGE(AC46,AC45),ROUNDDOWN(((((AC45-AB45)+(AC46-AB46))/2)*(A46-A45))/27,0),IF(((((DataInput!Q46-AB46)+(DataInput!Q45-AB45))/2)*(A46-A45))/27>0,ROUNDDOWN(((((DataInput!Q46-AB45)+(DataInput!Q45-AB45))/2)*(A46-A45))/27,0),0)),0),0)","v":0},0,{"$f":"IFERROR(IF(((((DataInput!Q45-AE45)+(DataInput!Q46-AE46))/2)*(A46-A45))/27>0,ROUNDDOWN(((((DataInput!Q45-AE45)+(DataInput!Q46-AE46))/2)*(A46-A45))/27,0),0),0)","v":1154},{"$f":"DataInput!U46","v":106.39999999999999},{"$f":"DataInput!S46","v":76},76,0]
[{"$f":"IF(DataInput!A47<>\"\",DataInput!A47,\"\")","v":5350},{"$f":"SUM(DataInput!C47,DataInput!X47)+(DataInput!U47-DataInput!E47)","v":31},{"$f":"SUM(DataInput!D47,DataInput!Y47)","v":1},{"$f":"DataInput!U47","v":105},{"$f":"SUM(DataInput!F47,DataInput!AA47)","v":0},{"$f":"SUM(DataInput!G47,DataInput!AB47)","v":0},{"$f":"SUM(DataInput!H47,DataInput!AC47)","v":0},{"$f":"DataInput!W47","v":52},{"$f":"SUM(DataInput!J47,DataInput!AD47)","v":0},{"$f":"SUM(DataInput!K47,DataInput!AE47)","v":0},{"$f":"SUM(DataInput!L47,DataInput!AF47)","v":0},{"$f":"SUM(DataInput!M47,DataInput!AG47)","v":0},{"$f":"SUM(DataInput!N47,DataInput!AH47)","v":0},{"$f":"SUM(DataInput!O47,DataInput!AI47)","v":0},{"$f":"DataInput!P47","v":0},null,null,1,1,{"$f":"DataInput!R47","v":1126},{"$f":"DataInput!X47","v":0},{"$f":"IF(DataInput!U47-DataInput!E47>0,DataInput!U47-DataInput!E47,\"\")","v":30},{"$f":"IF(DataInput!W47-DataInput!I47>0,DataInput!W47-DataInput!I47,\"\")","v":52},null,null,1208,-1207,0,0,{"$f":"IF(AC47>0,IFERROR(IF(AVERAGE(DataInput!Q46:Q47)>AVERAGE(AC47,AC46),ROUNDDOWN(((((AC46-AB46)+(AC47-AB47))/2)*(A47-A46))/27,0),IF(((((DataInput!Q47-AB47)+(DataInput!Q46-AB46))/2)*(A47-A46))/27>0,ROUNDDOWN(((((DataInput!Q47-AB46)+(DataInput!Q46-AB46))/2)*(A47-A46))/27,0),0)),0),0)","v":0},0,{"$f":"IFERROR(IF(((((DataInput!Q46-AE46)+(DataInput!Q47-AE47))/2)*(A47-A46))/27>0,ROUNDDOWN(((((DataInput!Q46-AE46)+(DataInput!Q47-AE47))/2)*(A47-A46))/27,0),0),0)","v":1126},{"$f":"DataInput!U47","v":105},{"$f":"DataInput!S47","v":75},75,0]
[{"$f":"IF(DataInput!A48<>\"\",DataInput!A48,\"\")","v":5375},{"$f":"SUM(DataInput!C48,DataInput!X48)+(DataInput!U48-DataInput!E48)","v":30.599999999999994},{"$f":"SUM(DataInput!D48,DataInput!Y48)","v":1},{"$f":"DataInput!U48","v":103.6},{"$f":"SUM(DataInput!F48,DataInput!AA48)","v":0},{"$f":"SUM(DataInput!G48,DataInput!AB48)","v":0},{"$f":"SUM(DataInput!H48,DataInput!AC48)","v":0},{"$f":"DataInput!W48","v":53},{"$f":"SUM(DataInput!J48,DataInput!AD48)","v":0},{"$f":"SUM(DataInput!K48,DataInput!AE48)","v":0},{"$f":"SUM(DataInput!L48,DataInput!AF48)","v":0},{"$f":"SUM(DataInput!M48,DataInput!AG48)","v":0},{"$f":"SUM(DataInput!N48,DataInput!AH48)","v":0},{"$f":"SUM(DataInput!O48,DataInput!AI48)","v":0},{"$f":"DataInput!P48","v":0},null,null,1,1,{"$f":"DataInput!R48","v":1045},{"$f":"DataInput!X48","v":0},{"$f":"IF(DataInput!U48-DataInput!E48>0,DataInput!U48-DataInput!E48,\"\")","v":29.599999999999994},{"$f":"IF(DataInput!W48-DataInput!I48>0,DataInput!W48-DataInput!I48,\"\")","v":53},null,null,1127.5999999999999,-1126.5999999999999,0,0,{"$f":"IF(AC48>0,IFERROR(IF(AVERAGE(DataInput!Q47:Q48)>AVERAGE(AC48,AC47),ROUNDDOWN(((((AC47-AB47)+(AC48-AB48))/2)*(A48-A47))/27,0),IF(((((DataInput!Q48-AB48)+(DataInput!Q47-AB47))/2)*(A48-A47))/27>0,ROUNDDOWN(((((DataInput!Q48-AB47)+(DataInput!Q47-AB47))/2)*(A48-A47))/27,0),0)),0),0)","v":0},0,{"$f":"IFERROR(IF(((((DataInput!Q47-AE47)+(DataInput!Q48-AE48))/2)*(A48-A47))/27>0,ROUNDDOWN(((((DataInput!Q47-AE47)+(DataInput!Q48-AE48))/2)*(A48-A47))/27,0),0),0)","v":1045},{"$f":"DataInput!U48","v":103.6},{"$f":"DataInput!S48","v":74},74,0]
[{"$f":"IF(DataInput!A49<>\"\",DataInput!A49,\"\")","v":5400},{"$f":"SUM(DataInput!C49,DataInput!X49)+(DataInput!U49-DataInput!E49)","v":29.399999999999991},{"$f":"SUM(DataInput!D49,DataInput!Y49)","v":1},{"$f":"DataInput!U49","v":99.399999999999991},{"$f":"SUM(DataInput!F49,DataInput!AA49)","v":0},{"$f":"SUM(DataInput!G49,DataInput!AB49)","v":0},{"$f":"SUM(DataInput!H49,DataInput!AC49)","v":0},{"$f":"DataInput!W49","v":55},{"$f":"SUM(DataInput!J49,DataInput!AD49)","v":0},{"$f":"SUM(DataInput!K49,DataInput!AE49)","v":0},{"$f":"SUM(DataInput!L49,DataInput!AF49)","v":0},{"$f":"SUM(DataInput!M49,DataInput!AG49)","v":0},{"$f":"SUM(DataInput!N49,DataInput!AH49)","v":0},{"$f":"SUM(DataInput!O49,DataInput!AI49)","v":0},{"$f":"DataInput!P49","v":0},null,null,1,1,{"$f":"DataInput!R49","v":920},{"$f":"DataInput!X49","v":0},{"$f":"IF(DataInput!U49-DataInput!E49>0,DataInput!U49-DataInput!E49,\"\")","v":28.399999999999991},{"$f":"IF(DataInput!W49-DataInput!I49>0,DataInput!W49-DataInput!I49,\"\")","v":55},null,null,1003.4,-1002.4,0,0,{"$f":"IF(AC49>0,IFERROR(IF(AVERAGE(DataInput!Q48:Q49)>AVERAGE(AC49,AC48),ROUNDDOWN(((((AC48-AB48)+(AC49-AB49))/2)*(A49-A48))/27,0),IF(((((DataInput!Q49-AB49)+(DataInput!Q48-AB48))/2)*(A49-A48))/27>0,ROUNDDOWN(((((DataInput!Q49-AB48)+(DataInput!Q48-AB48))/2)*(A49-A48))/27,0),0)),0),0)","v":0},0,{"$f":"IFERROR(IF(((((DataInput!Q48-AE48)+(DataInput!Q49-AE49))/2)*(A49-A48))/27>0,ROUNDDOWN(((((DataInput!Q48-AE48)+(DataInput!Q49-AE49))/2)*(A49-A48))/27,0),0),0)","v":919},{"$f":"DataInput!U49","v":99.399999999999991},{"$f":"DataInput!S49","v":71},71,0]
[{"$f":"IF(DataInput!A50<>\"\",DataInput!A50,\"\")","v":5425},{"$f":"SUM(DataInput!C50,DataInput!X50)+(DataInput!U50-DataInput!E50)","v":29.199999999999989},{"$f":"SUM(DataInput!D50,DataInput!Y50)","v":2},{"$f":"DataInput!U50","v":95.199999999999989},{"$f":"SUM(DataInput!F50,DataInput!AA50)","v":0},{"$f":"SUM(DataInput!G50,DataInput!AB50)","v":0},{"$f":"SUM(DataInput!H50,DataInput!AC50)","v":0},{"$f":"DataInput!W50","v":57},{"$f":"SUM(DataInput!J50,DataInput!AD50)","v":0},{"$f":"SUM(DataInput!K50,DataInput!AE50)","v":0},{"$f":"SUM(DataInput!L50,DataInput!AF50)","v":0},{"$f":"SUM(DataInput!M50,DataInput!AG50)","v":0},{"$f":"SUM(DataInput!N50,DataInput!AH50)","v":0},{"$f":"SUM(DataInput!O50,DataInput!AI50)","v":0},{"$f":"DataInput!P50","v":0},null,null,2,2,{"$f":"DataInput!R50","v":814},{"$f":"DataInput!X50","v":0},{"$f":"IF(DataInput!U50-DataInput!E50>0,DataInput!U50-DataInput!E50,\"\")","v":27.199999999999989},{"$f":"IF(DataInput!W50-DataInput!I50>0,DataInput!W50-DataInput!I50,\"\")","v":57},null,null,898.2,-896.2,0,0,{"$f":"IF(AC50>0,IFERROR(IF(AVERAGE(DataInput!Q49:Q50)>AVERAGE(AC50,AC49),ROUNDDOWN(((((AC49-AB49)+(AC50-AB50))/2)*(A50-A49))/27,0),IF(((((DataInput!Q50-AB50)+(DataInput!Q49-AB49))/2)*(A50-A49))/27>0,ROUNDDOWN(((((DataInput!Q50-AB49)+(DataInput!Q49-AB49))/2)*(A50-A49))/27,0),0)),0),0)","v":0},0,{"$f":"IFERROR(IF(((((DataInput!Q49-AE49)+(DataInput!Q50-AE50))/2)*(A50-A49))/27>0,ROUNDDOWN(((((DataInput!Q49-AE49)+(DataInput!Q50-AE50))/2)*(A50-A49))/27,0),0),0)","v":813},{"$f":"DataInput!U50","v":95.199999999999989},{"$f":"DataInput!S50","v":68},68,0]
[{"$f":"IF(DataInput!A51<>\"\",DataInput!A51,\"\")","v":5450},{"$f":"SUM(DataInput!C51,DataInput!X51)+(DataInput!U51-DataInput!E51)","v":27.599999999999994},{"$f":"SUM(DataInput!D51,DataInput!Y51)","v":2},{"$f":"DataInput!U51","v":89.6},{"$f":"SUM(DataInput!F51,DataInput!AA51)","v":0},{"$f":"SUM(DataInput!G51,DataInput!AB51)","v":0},{"$f":"SUM(DataInput!H51,DataInput!AC51)","v":0},{"$f":"DataInput!W51","v":59},{"$f":"SUM(DataInput!J51,DataInput!AD51)","v":0},{"$f":"SUM(DataInput!K51,DataInput!AE51)","v":0},{"$f":"SUM(DataInput!L51,DataInput!AF51)","v":0},{"$f":"SUM(DataInput!M51,DataInput!AG51)","v":0},{"$f":"SUM(DataInput!N51,DataInput!AH51)","v":0},{"$f":"SUM(DataInput!O51,DataInput!AI51)","v":0},{"$f":"DataInput!P51","v":0},null,null,2,2,{"$f":"DataInput!R51","v":661},{"$f":"DataInput!X51","v":0},{"$f":"IF(DataInput!U51-DataInput!E51>0,DataInput!U51-DataInput!E51,\"\")","v":25.599999999999994},{"$f":"IF(DataInput!W51-DataInput!I51>0,DataInput!W51-DataInput!I51,\"\")","v":59},null,null,745.6,-743.6,0,0,{"$f":"IF(AC51>0,IFERROR(IF(AVERAGE(DataInput!Q50:Q51)>AVERAGE(AC51,AC50),ROUNDDOWN(((((AC50-AB50)+(AC51-AB51))/2)*(A51-A50))/27,0),IF(((((DataInput!Q51-AB51)+(DataInput!Q50-AB50))/2)*(A51-A50))/27>0,ROUNDDOWN(((((DataInput!Q51-AB50)+(DataInput!Q50-AB50))/2)*(A51-A50))/27,0),0)),0),0)","v":0},0,{"$f":"IFERROR(IF(((((DataInput!Q50-AE50)+(DataInput!Q51-AE51))/2)*(A51-A50))/27>0,ROUNDDOWN(((((DataInput!Q50-AE50)+(DataInput!Q51-AE51))/2)*(A51-A50))/27,0),0),0)","v":661},{"$f":"DataInput!U51","v":89.6},{"$f":"DataInput!S51","v":64},64,0]
[{"$f":"IF(DataInput!A52<>\"\",DataInput!A52,\"\")","v":5475},{"$f":"SUM(DataInput!C52,DataInput!X52)+(DataInput!U52-DataInput!E52)","v":25.399999999999991},{"$f":"SUM(DataInput!D52,DataInput!Y52)","v":1},{"$f":"DataInput!U52","v":85.399999999999991},{"$f":"SUM(DataInput!F52,DataInput!AA52)","v":0},{"$f":"SUM(DataInput!G52,DataInput!AB52)","v":0},{"$f":"SUM(DataInput!H52,DataInput!AC52)","v":0},{"$f":"DataInput!W52","v":61},{"$f":"SUM(DataInput!J52,DataInput!AD52)","v":0},{"$f":"SUM(DataInput!K52,DataInput!AE52)","v":0},{"$f":"SUM(DataInput!L52,DataInput!AF52)","v":0},{"$f":"SUM(DataInput!M52,DataInput!AG52)","v":0},{"$f":"SUM(DataInput!N52,DataInput!AH52)","v":0},{"$f":"SUM(DataInput!O52,DataInput!AI52)","v":0},{"$f":"DataInput!P52","v":0},null,null,1,1,{"$f":"DataInput!R52","v":503},{"$f":"DataInput!X52","v":0},{"$f":"IF(DataInput!U52-DataInput!E52>0,DataInput!U52-DataInput!E52,\"\")","v":24.399999999999991},{"$f":"IF(DataInput!W52-DataInput!I52>0,DataInput!W52-DataInput!I52,\"\")","v":61},null,null,588.4,-587.4,0,0,{"$f":"IF(AC52>0,IFERROR(IF(AVERAGE(DataInput!Q51:Q52)>AVERAGE(AC52,AC51),ROUNDDOWN(((((AC51-AB51)+(AC52-AB52))/2)*(A52-A51))/27,0),IF(((((DataInput!Q52-AB52)+(DataInput!Q51-AB51))/2)*(A52-A51))/27>0,ROUNDDOWN(((((DataInput!Q52-AB51)+(DataInput!Q51-AB51))/2)*(A52-A51))/27,0),0)),0),0)","v":0},0,{"$f":"IFERROR(IF(((((DataInput!Q51-AE51)+(DataInput!Q52-AE52))/2)*(A52-A51))/27>0,ROUNDDOWN(((((DataInput!Q51-AE51)+(DataInput!Q52-AE52))/2)*(A52-A51))/27,0),0),0)","v":502},{"$f":"DataInput!U52","v":85.399999999999991},{"$f":"DataInput!S52","v":61},61,0]
[{"$f":"IF(DataInput!A53<>\"\",DataInput!A53,\"\")","v":5500},{"$f":"SUM(DataInput!C53,DataInput!X53)+(DataInput!U53-DataInput!E53)","v":24.199999999999989},{"$f":"SUM(DataInput!D53,DataInput!Y53)","v":1},{"$f":"DataInput!U53","v":81.199999999999989},{"$f":"SUM(DataInput!F53,DataInput!AA53)","v":0},{"$f":"SUM(DataInput!G53,DataInput!AB53)","v":0},{"$f":"SUM(DataInput!H53,DataInput!AC53)","v":0},{"$f":"DataInput!W53","v":63},{"$f":"SUM(DataInput!J53,DataInput!AD53)","v":0},{"$f":"SUM(DataInput!K53,DataInput!AE53)","v":0},{"$f":"SUM(DataInput!L53,DataInput!AF53)","v":0},{"$f":"SUM(DataInput!M53,DataInput!AG53)","v":0},{"$f":"SUM(DataInput!N53,DataInput!AH53)","v":0},{"$f":"SUM(DataInput!O53,DataInput!AI53)","v":0},{"$f":"DataInput!P53","v":0},null,null,1,1,{"$f":"DataInput!R53","v":416},{"$f":"DataInput!X53","v":0},{"$f":"IF(DataInput!U53-DataInput!E53>0,DataInput!U53-DataInput!E53,\"\")","v":23.199999999999989},{"$f":"IF(DataInput!W53-DataInput!I53>0,DataInput!W53-DataInput!I53,\"\")","v":63},null,null,502.2,-501.2,0,0,{"$f":"IF(AC53>0,IFERROR(IF(AVERAGE(DataInput!Q52:Q53)>AVERAGE(AC53,AC52),ROUNDDOWN(((((AC52-AB52)+(AC53-AB53))/2)*(A53-A52))/27,0),IF(((((DataInput!Q53-AB53)+(DataInput!Q52-AB52))/2)*(A53-A52))/27>0,ROUNDDOWN(((((DataInput!Q53-AB52)+(DataInput!Q52-AB52))/2)*(A53-A52))/27,0),0)),0),0)","v":0},0,{"$f":"IFERROR(IF(((((DataInput!Q52-AE52)+(DataInput!Q53-AE53))/2)*(A53-A52))/27>0,ROUNDDOWN(((((DataInput!Q52-AE52)+(DataInput!Q53-AE53))/2)*(A53-A52))/27,0),0),0)","v":416},{"$f":"DataInput!U53","v":81.199999999999989},{"$f":"DataInput!S53","v":58},58,0]
[{"$f":"IF(DataInput!A54<>\"\",DataInput!A54,\"\")","v":5525},{"$f":"SUM(DataInput!C54,DataInput!X54)+(DataInput!U54-DataInput!E54)","v":23.599999999999994},{"$f":"SUM(DataInput!D54,DataInput!Y54)","v":2},{"$f":"DataInput!U54","v":75.599999999999994},{"$f":"SUM(DataInput!F54,DataInput!AA54)","v":0},{"$f":"SUM(DataInput!G54,DataInput!AB54)","v":0},{"$f":"SUM(DataInput!H54,DataInput!AC54)","v":0},{"$f":"DataInput!W54","v":66},{"$f":"SUM(DataInput!J54,DataInput!AD54)","v":0},{"$f":"SUM(DataInput!K54,DataInput!AE54)","v":0},{"$f":"SUM(DataInput!L54,DataInput!AF54)","v":0},{"$f":"SUM(DataInput!M54,DataInput!AG54)","v":0},{"$f":"SUM(DataInput!N54,DataInput!AH54)","v":0},{"$f":"SUM(DataInput!O54,DataInput!AI54)","v":0},{"$f":"DataInput!P54","v":0},null,null,2,2,{"$f":"DataInput!R54","v":369},{"$f":"DataInput!X54","v":0},{"$f":"IF(DataInput!U54-DataInput!E54>0,DataInput!U54-DataInput!E54,\"\")","v":21.599999999999994},{"$f":"IF(DataInput!W54-DataInput!I54>0,DataInput!W54-DataInput!I54,\"\")","v":66},null,null,456.6,-454.6,0,0,{"$f":"IF(AC54>0,IFERROR(IF(AVERAGE(DataInput!Q53:Q54)>AVERAGE(AC54,AC53),ROUNDDOWN(((((AC53-AB53)+(AC54-AB54))/2)*(A54-A53))/27,0),IF(((((DataInput!Q54-AB54)+(DataInput!Q53-AB53))/2)*(A54-A53))/27>0,ROUNDDOWN(((((DataInput!Q54-AB53)+(DataInput!Q53-AB53))/2)*(A54-A53))/27,0),0)),0),0)","v":0},0,{"$f":"IFERROR(IF(((((DataInput!Q53-AE53)+(DataInput!Q54-AE54))/2)*(A54-A53))/27>0,ROUNDDOWN(((((DataInput!Q53-AE53)+(DataInput!Q54-AE54))/2)*(A54-A53))/27,0),0),0)","v":368},{"$f":"DataInput!U54","v":75.599999999999994},{"$f":"DataInput!S54","v":54},54,0]
[{"$f":"IF(DataInput!A55<>\"\",DataInput!A55,\"\")","v":5550},{"$f":"SUM(DataInput!C55,DataInput!X55)+(DataInput!U55-DataInput!E55)","v":25.399999999999991},{"$f":"SUM(DataInput!D55,DataInput!Y55)","v":5},{"$f":"DataInput!U55","v":71.399999999999991},{"$f":"SUM(DataInput!F55,DataInput!AA55)","v":0},{"$f":"SUM(DataInput!G55,DataInput!AB55)","v":0},{"$f":"SUM(DataInput!H55,DataInput!AC55)","v":0},{"$f":"DataInput!W55","v":68},{"$f":"SUM(DataInput!J55,DataInput!AD55)","v":0},{"$f":"SUM(DataInput!K55,DataInput!AE55)","v":0},{"$f":"SUM(DataInput!L55,DataInput!AF55)","v":0},{"$f":"SUM(DataInput!M55,DataInput!AG55)","v":0},{"$f":"SUM(DataInput!N55,DataInput!AH55)","v":0},{"$f":"SUM(DataInput!O55,DataInput!AI55)","v":0},{"$f":"DataInput!P55","v":0},null,null,5,4,{"$f":"DataInput!R55","v":313},{"$f":"DataInput!X55","v":0},{"$f":"IF(DataInput!U55-DataInput!E55>0,DataInput!U55-DataInput!E55,\"\")","v":20.399999999999991},{"$f":"IF(DataInput!W55-DataInput!I55>0,DataInput!W55-DataInput!I55,\"\")","v":68},null,null,401.4,-397.4,0,0,{"$f":"IF(AC55>0,IFERROR(IF(AVERAGE(DataInput!Q54:Q55)>AVERAGE(AC55,AC54),ROUNDDOWN(((((AC54-AB54)+(AC55-AB55))/2)*(A55-A54))/27,0),IF(((((DataInput!Q55-AB55)+(DataInput!Q54-AB54))/2)*(A55-A54))/27>0,ROUNDDOWN(((((DataInput!Q55-AB54)+(DataInput!Q54-AB54))/2)*(A55-A54))/27,0),0)),0),0)","v":0},0,{"$f":"IFERROR(IF(((((DataInput!Q54-AE54)+(DataInput!Q55-AE55))/2)*(A55-A54))/27>0,ROUNDDOWN(((((DataInput!Q54-AE54)+(DataInput!Q55-AE55))/2)*(A55-A54))/27,0),0),0)","v":312},{"$f":"DataInput!U55","v":71.399999999999991},{"$f":"DataInput!S55","v":51},51,0]
[{"$f":"IF(DataInput!A56<>\"\",DataInput!A56,\"\")","v":5575},{"$f":"SUM(DataInput!C56,DataInput!X56)+(DataInput!U56-DataInput!E56)","v":33.599999999999994},{"$f":"SUM(DataInput!D56,DataInput!Y56)","v":14},{"$f":"DataInput!U56","v":68.599999999999994},{"$f":"SUM(DataInput!F56,DataInput!AA56)","v":0},{"$f":"SUM(DataInput!G56,DataInput!AB56)","v":0},{"$f":"SUM(DataInput!H56,DataInput!AC56)","v":0},{"$f":"DataInput!W56","v":71},{"$f":"SUM(DataInput!J56,DataInput!AD56)","v":0},{"$f":"SUM(DataInput!K56,DataInput!AE56)","v":0},{"$f":"SUM(DataInput!L56,DataInput!AF56)","v":0},{"$f":"SUM(DataInput!M56,DataInput!AG56)","v":0},{"$f":"SUM(DataInput!N56,DataInput!AH56)","v":0},{"$f":"SUM(DataInput!O56,DataInput!AI56)","v":0},{"$f":"DataInput!P56","v":0},null,null,14,11,{"$f":"DataInput!R56","v":265},{"$f":"DataInput!X56","v":0},{"$f":"IF(DataInput!U56-DataInput!E56>0,DataInput!U56-DataInput!E56,\"\")","v":19.599999999999994},{"$f":"IF(DataInput!W56-DataInput!I56>0,DataInput!W56-DataInput!I56,\"\")","v":71},null,null,355.6,-344.6,0,0,{"$f":"IF(AC56>0,IFERROR(IF(AVERAGE(DataInput!Q55:Q56)>AVERAGE(AC56,AC55),ROUNDDOWN(((((AC55-AB55)+(AC56-AB56))/2)*(A56-A55))/27,0),IF(((((DataInput!Q56-AB56)+(DataInput!Q55-AB55))/2)*(A56-A55))/27>0,ROUNDDOWN(((((DataInput!Q56-AB55)+(DataInput!Q55-AB55))/2)*(A56-A55))/27,0),0)),0),0)","v":0},0,{"$f":"IFERROR(IF(((((DataInput!Q55-AE55)+(DataInput!Q56-AE56))/2)*(A56-A55))/27>0,ROUNDDOWN(((((DataInput!Q55-AE55)+(DataInput!Q56-AE56))/2)*(A56-A55))/27,0),0),0)","v":264},{"$f":"DataInput!U56","v":68.599999999999994},{"$f":"DataInput!S56","v":49},49,0]
[{"$f":"IF(DataInput!A57<>\"\",DataInput!A57,\"\")","v":5600},{"$f":"SUM(DataInput!C57,DataInput!X57)+(DataInput!U57-DataInput!E57)","v":49.999999999999993},{"$f":"SUM(DataInput!D57,DataInput!Y57)","v":32},{"$f":"DataInput!U57","v":62.999999999999993},{"$f":"SUM(DataInput!F57,DataInput!AA57)","v":0},{"$f":"SUM(DataInput!G57,DataInput!AB57)","v":0},{"$f":"SUM(DataInput!H57,DataInput!AC57)","v":0},{"$f":"DataInput!W57","v":73},{"$f":"SUM(DataInput!J57,DataInput!AD57)","v":0},{"$f":"SUM(DataInput!K57,DataInput!AE57)","v":0},{"$f":"SUM(DataInput!L57,DataInput!AF57)","v":0},{"$f":"SUM(DataInput!M57,DataInput!AG57)","v":0},{"$f":"SUM(DataInput!N57,DataInput!AH57)","v":0},{"$f":"SUM(DataInput!O57,DataInput!AI57)","v":0},{"$f":"DataInput!P57","v":0},null,null,32,25,{"$f":"DataInput!R57","v":219},{"$f":"DataInput!X57","v":0},{"$f":"IF(DataInput!U57-DataInput!E57>0,DataInput!U57-DataInput!E57,\"\")","v":17.999999999999993},{"$f":"IF(DataInput!W57-DataInput!I57>0,DataInput!W57-DataInput!I57,\"\")","v":73},null,null,310,-285,0,0,{"$f":"IF(AC57>0,IFERROR(IF(AVERAGE(DataInput!Q56:Q57)>AVERAGE(AC57,AC56),ROUNDDOWN(((((AC56-AB56)+(AC57-AB57))/2)*(A57-A56))/27,0),IF(((((DataInput!Q57-AB57)+(DataInput!Q56-AB56))/2)*(A57-A56))/27>0,ROUNDDOWN(((((DataInput!Q57-AB56)+(DataInput!Q56-AB56))/2)*(A57-A56))/27,0),0)),0),0)","v":0},0,{"$f":"IFERROR(IF(((((DataInput!Q56-AE56)+(DataInput!Q57-AE57))/2)*(A57-A56))/27>0,ROUNDDOWN(((((DataInput!Q56-AE56)+(DataInput!Q57-AE57))/2)*(A57-A56))/27,0),0),0)","v":218},{"$f":"DataInput!U57","v":62.999999999999993},{"$f":"DataInput!S57","v":45},45,0]
[{"$f":"IF(DataInput!A58<>\"\",DataInput!A58,\"\")","v":5625},{"$f":"SUM(DataInput!C58,DataInput!X58)+(DataInput!U58-DataInput!E58)","v":70.400000000000006},{"$f":"SUM(DataInput!D58,DataInput!Y58)","v":54},{"$f":"DataInput!U58","v":57.4},{"$f":"SUM(DataInput!F58,DataInput!AA58)","v":0},{"$f":"SUM(DataInput!G58,DataInput!AB58)","v":0},{"$f":"SUM(DataInput!H58,DataInput!AC58)","v":0},{"$f":"DataInput!W58","v":75},{"$f":"SUM(DataInput!J58,DataInput!AD58)","v":0},{"$f":"SUM(DataInput!K58,DataInput!AE58)","v":0},{"$f":"SUM(DataInput!L58,DataInput!AF58)","v":0},{"$f":"SUM(DataInput!M58,DataInput!AG58)","v":0},{"$f":"SUM(DataInput!N58,DataInput!AH58)","v":0},{"$f":"SUM(DataInput!O58,DataInput!AI58)","v":0},{"$f":"DataInput!P58","v":0},null,null,54,42,{"$f":"DataInput!R58","v":168},{"$f":"DataInput!X58","v":0},{"$f":"IF(DataInput!U58-DataInput!E58>0,DataInput!U58-DataInput!E58,\"\")","v":16.399999999999999},{"$f":"IF(DataInput!W58-DataInput!I58>0,DataInput!W58-DataInput!I58,\"\")","v":75},null,null,259.39999999999998,-217.39999999999998,0,0,{"$f":"IF(AC58>0,IFERROR(IF(AVERAGE(DataInput!Q57:Q58)>AVERAGE(AC58,AC57),ROUNDDOWN(((((AC57-AB57)+(AC58-AB58))/2)*(A58-A57))/27,0),IF(((((DataInput!Q58-AB58)+(DataInput!Q57-AB57))/2)*(A58-A57))/27>0,ROUNDDOWN(((((DataInput!Q58-AB57)+(DataInput!Q57-AB57))/2)*(A58-A57))/27,0),0)),0),0)","v":0},0,{"$f":"IFERROR(IF(((((DataInput!Q57-AE57)+(DataInput!Q58-AE58))/2)*(A58-A57))/27>0,ROUNDDOWN(((((DataInput!Q57-AE57)+(DataInput!Q58-AE58))/2)*(A58-A57))/27,0),0),0)","v":168},{"$f":"DataInput!U58","v":57.4},{"$f":"DataInput!S58","v":41},41,0]
[{"$f":"IF(DataInput!A59<>\"\",DataInput!A59,\"\")","v":5650},{"$f":"SUM(DataInput!C59,DataInput!X59)+(DataInput!U59-DataInput!E59)","v":87.199999999999989},{"$f":"SUM(DataInput!D59,DataInput!Y59)","v":72},{"$f":"DataInput!U59","v":53.199999999999996},{"$f":"SUM(DataInput!F59,DataInput!AA59)","v":0},{"$f":"SUM(DataInput!G59,DataInput!AB59)","v":0},{"$f":"SUM(DataInput!H59,DataInput!AC59)","v":0},{"$f":"DataInput!W59","v":78},{"$f":"SUM(DataInput!J59,DataInput!AD59)","v":0},{"$f":"SUM(DataInput!K59,DataInput!AE59)","v":0},{"$f":"SUM(DataInput!L59,DataInput!AF59)","v":0},{"$f":"SUM(DataInput!M59,DataInput!AG59)","v":0},{"$f":"SUM(DataInput!N59,DataInput!AH59)","v":0},{"$f":"SUM(DataInput!O59,DataInput!AI59)","v":0},{"$f":"DataInput!P59","v":0},null,null,72,55,{"$f":"DataInput!R59","v":117},{"$f":"DataInput!X59","v":0},{"$f":"IF(DataInput!U59-DataInput!E59>0,DataInput!U59-DataInput!E59,\"\")","v":15.199999999999996},{"$f":"IF(DataInput!W59-DataInput!I59>0,DataInput!W59-DataInput!I59,\"\")","v":78},null,null,210.2,-155.19999999999999,0,0,{"$f":"IF(AC59>0,IFERROR(IF(AVERAGE(DataInput!Q58:Q59)>AVERAGE(AC59,AC58),ROUNDDOWN(((((AC58-AB58)+(AC59-AB59))/2)*(A59-A58))/27,0),IF(((((DataInput!Q59-AB59)+(DataInput!Q58-AB58))/2)*(A59-A58))/27>0,ROUNDDOWN(((((DataInput!Q59-AB58)+(DataInput!Q58-AB58))/2)*(A59-A58))/27,0),0)),0),0)","v":0},0,{"$f":"IFERROR(IF(((((DataInput!Q58-AE58)+(DataInput!Q59-AE59))/2)*(A59-A58))/27>0,ROUNDDOWN(((((DataInput!Q58-AE58)+(DataInput!Q59-AE59))/2)*(A59-A58))/27,0),0),0)","v":116},{"$f":"DataInput!U59","v":53.199999999999996},{"$f":"DataInput!S59","v":38},38,0]
[{"$f":"IF(DataInput!A60<>\"\",DataInput!A60,\"\")","v":5675},{"$f":"SUM(DataInput!C60,DataInput!X60)+(DataInput!U60-DataInput!E60)","v":119},{"$f":"SUM(DataInput!D60,DataInput!Y60)","v":97},{"$f":"DataInput!U60","v":77},{"$f":"SUM(DataInput!F60,DataInput!AA60)","v":0},{"$f":"SUM(DataInput!G60,DataInput!AB60)","v":0},{"$f":"SUM(DataInput!H60,DataInput!AC60)","v":0},{"$f":"DataInput!W60","v":77},{"$f":"SUM(DataInput!J60,DataInput!AD60)","v":0},{"$f":"SUM(DataInput!K60,DataInput!AE60)","v":0},{"$f":"SUM(DataInput!L60,DataInput!AF60)","v":0},{"$f":"SUM(DataInput!M60,DataInput!AG60)","v":0},{"$f":"SUM(DataInput!N60,DataInput!AH60)","v":0},{"$f":"SUM(DataInput!O60,DataInput!AI60)","v":0},{"$f":"DataInput!P60","v":0},null,null,97,75,{"$f":"DataInput!R60","v":69},{"$f":"DataInput!X60","v":0},{"$f":"IF(DataInput!U60-DataInput!E60>0,DataInput!U60-DataInput!E60,\"\")","v":22},{"$f":"IF(DataInput!W60-DataInput!I60>0,DataInput!W60-DataInput!I60,\"\")","v":77},null,null,168,-93,0,0,{"$f":"IF(AC60>0,IFERROR(IF(AVERAGE(DataInput!Q59:Q60)>AVERAGE(AC60,AC59),ROUNDDOWN(((((AC59-AB59)+(AC60-AB60))/2)*(A60-A59))/27,0),IF(((((DataInput!Q60-AB60)+(DataInput!Q59-AB59))/2)*(A60-A59))/27>0,ROUNDDOWN(((((DataInput!Q60-AB59)+(DataInput!Q59-AB59))/2)*(A60-A59))/27,0),0)),0),0)","v":0},0,{"$f":"IFERROR(IF(((((DataInput!Q59-AE59)+(DataInput!Q60-AE60))/2)*(A60-A59))/27>0,ROUNDDOWN(((((DataInput!Q59-AE59)+(DataInput!Q60-AE60))/2)*(A60-A59))/27,0),0),0)","v":68},{"$f":"DataInput!U60","v":77},{"$f":"DataInput!S60","v":55},55,0]
[{"$f":"IF(DataInput!A61<>\"\",DataInput!A61,\"\")","v":5700},{"$f":"SUM(DataInput!C61,DataInput!X61)+(DataInput!U61-DataInput!E61)","v":165.6},{"$f":"SUM(DataInput!D61,DataInput!Y61)","v":138},{"$f":"DataInput!U61","v":96.6},{"$f":"SUM(DataInput!F61,DataInput!AA61)","v":0},{"$f":"SUM(DataInput!G61,DataInput!AB61)","v":0},{"$f":"SUM(DataInput!H61,DataInput!AC61)","v":0},{"$f":"DataInput!W61","v":78},{"$f":"SUM(DataInput!J61,DataInput!AD61)","v":0},{"$f":"SUM(DataInput!K61,DataInput!AE61)","v":0},{"$f":"SUM(DataInput!L61,DataInput!AF61)","v":0},{"$f":"SUM(DataInput!M61,DataInput!AG61)","v":0},{"$f":"SUM(DataInput!N61,DataInput!AH61)","v":0},{"$f":"SUM(DataInput!O61,DataInput!AI61)","v":0},{"$f":"DataInput!P61","v":0},null,null,138,106,{"$f":"DataInput!R61","v":27},{"$f":"DataInput!X61","v":0},{"$f":"IF(DataInput!U61-DataInput!E61>0,DataInput!U61-DataInput!E61,\"\")","v":27.599999999999994},{"$f":"IF(DataInput!W61-DataInput!I61>0,DataInput!W61-DataInput!I61,\"\")","v":78},null,null,132.6,-26.599999999999994,0,0,{"$f":"IF(AC61>0,IFERROR(IF(AVERAGE(DataInput!Q60:Q61)>AVERAGE(AC61,AC60),ROUNDDOWN(((((AC60-AB60)+(AC61-AB61))/2)*(A61-A60))/27,0),IF(((((DataInput!Q61-AB61)+(DataInput!Q60-AB60))/2)*(A61-A60))/27>0,ROUNDDOWN(((((DataInput!Q61-AB60)+(DataInput!Q60-AB60))/2)*(A61-A60))/27,0),0)),0),0)","v":0},0,{"$f":"IFERROR(IF(((((DataInput!Q60-AE60)+(DataInput!Q61-AE61))/2)*(A61-A60))/27>0,ROUNDDOWN(((((DataInput!Q60-AE60)+(DataInput!Q61-AE61))/2)*(A61-A60))/27,0),0),0)","v":26},{"$f":"DataInput!U61","v":96.6},{"$f":"DataInput!S61","v":69},69,0]
[{"$f":"IF(DataInput!A62<>\"\",DataInput!A62,\"\")","v":5725},{"$f":"SUM(DataInput!C62,DataInput!X62)+(DataInput!U62-DataInput!E62)","v":210},{"$f":"SUM(DataInput!D62,DataInput!Y62)","v":190},{"$f":"DataInput!U62","v":70},{"$f":"SUM(DataInput!F62,DataInput!AA62)","v":0},{"$f":"SUM(DataInput!G62,DataInput!AB62)","v":0},{"$f":"SUM(DataInput!H62,DataInput!AC62)","v":0},{"$f":"DataInput!W62","v":86},{"$f":"SUM(DataInput!J62,DataInput!AD62)","v":0},{"$f":"SUM(DataInput!K62,DataInput!AE62)","v":0},{"$f":"SUM(DataInput!L62,DataInput!AF62)","v":0},{"$f":"SUM(DataInput!M62,DataInput!AG62)","v":0},{"$f":"SUM(DataInput!N62,DataInput!AH62)","v":0},{"$f":"SUM(DataInput!O62,DataInput!AI62)","v":0},{"$f":"DataInput!P62","v":0},null,null,190,146,{"$f":"DataInput!R62","v":4},{"$f":"DataInput!X62","v":0},{"$f":"IF(DataInput!U62-DataInput!E62>0,DataInput!U62-DataInput!E62,\"\")","v":20},{"$f":"IF(DataInput!W62-DataInput!I62>0,DataInput!W62-DataInput!I62,\"\")","v":86},null,null,110,36,0,0,{"$f":"IF(AC62>0,IFERROR(IF(AVERAGE(DataInput!Q61:Q62)>AVERAGE(AC62,AC61),ROUNDDOWN(((((AC61-AB61)+(AC62-AB62))/2)*(A62-A61))/27,0),IF(((((DataInput!Q62-AB62)+(DataInput!Q61-AB61))/2)*(A62-A61))/27>0,ROUNDDOWN(((((DataInput!Q62-AB61)+(DataInput!Q61-AB61))/2)*(A62-A61))/27,0),0)),0),0)","v":0},0,{"$f":"IFERROR(IF(((((DataInput!Q61-AE61)+(DataInput!Q62-AE62))/2)*(A62-A61))/27>0,ROUNDDOWN(((((DataInput!Q61-AE61)+(DataInput!Q62-AE62))/2)*(A62-A61))/27,0),0),0)","v":3},{"$f":"DataInput!U62","v":70},{"$f":"DataInput!S62","v":50},50,0]
[{"$f":"IF(DataInput!A63<>\"\",DataInput!A63,\"\")","v":5750},{"$f":"SUM(DataInput!C63,DataInput!X63)+(DataInput!U63-DataInput!E63)","v":154.19999999999999},{"$f":"SUM(DataInput!D63,DataInput!Y63)","v":147},{"$f":"DataInput!U63","v":25.2},{"$f":"SUM(DataInput!F63,DataInput!AA63)","v":0},{"$f":"SUM(DataInput!G63,DataInput!AB63)","v":0},{"$f":"SUM(DataInput!H63,DataInput!AC63)","v":0},{"$f":"DataInput!W63","v":93},{"$f":"SUM(DataInput!J63,DataInput!AD63)","v":0},{"$f":"SUM(DataInput!K63,DataInput!AE63)","v":0},{"$f":"SUM(DataInput!L63,DataInput!AF63)","v":0},{"$f":"SUM(DataInput!M63,DataInput!AG63)","v":0},{"$f":"SUM(DataInput!N63,DataInput!AH63)","v":0},{"$f":"SUM(DataInput!O63,DataInput!AI63)","v":0},{"$f":"DataInput!P63","v":0},null,null,147,113,{"$f":"DataInput!R63","v":0},{"$f":"DataInput!X63","v":0},{"$f":"IF(DataInput!U63-DataInput!E63>0,DataInput!U63-DataInput!E63,\"\")","v":7.1999999999999993},{"$f":"IF(DataInput!W63-DataInput!I63>0,DataInput!W63-DataInput!I63,\"\")","v":93},null,null,100.2,12.799999999999997,0,0,{"$f":"IF(AC63>0,IFERROR(IF(AVERAGE(DataInput!Q62:Q63)>AVERAGE(AC63,AC62),ROUNDDOWN(((((AC62-AB62)+(AC63-AB63))/2)*(A63-A62))/27,0),IF(((((DataInput!Q63-AB63)+(DataInput!Q62-AB62))/2)*(A63-A62))/27>0,ROUNDDOWN(((((DataInput!Q63-AB62)+(DataInput!Q62-AB62))/2)*(A63-A62))/27,0),0)),0),0)","v":0},0,{"$f":"IFERROR(IF(((((DataInput!Q62-AE62)+(DataInput!Q63-AE63))/2)*(A63-A62))/27>0,ROUNDDOWN(((((DataInput!Q62-AE62)+(DataInput!Q63-AE63))/2)*(A63-A62))/27,0),0),0)","v":0},{"$f":"DataInput!U63","v":25.2},{"$f":"DataInput!S63","v":18},18,0]
[{"$f":"IF(DataInput!A64<>\"\",DataInput!A64,\"\")","v":5775},{"$f":"SUM(DataInput!C64,DataInput!X64)+(DataInput!U64-DataInput!E64)","v":77},{"$f":"SUM(DataInput!D64,DataInput!Y64)","v":77},{"$f":"DataInput!U64","v":0},{"$f":"SUM(DataInput!F64,DataInput!AA64)","v":0},{"$f":"SUM(DataInput!G64,DataInput!AB64)","v":0},{"$f":"SUM(DataInput!H64,DataInput!AC64)","v":0},{"$f":"DataInput!W64","v":96},{"$f":"SUM(DataInput!J64,DataInput!AD64)","v":0},{"$f":"SUM(DataInput!K64,DataInput!AE64)","v":0},{"$f":"SUM(DataInput!L64,DataInput!AF64)","v":0},{"$f":"SUM(DataInput!M64,DataInput!AG64)","v":0},{"$f":"SUM(DataInput!N64,DataInput!AH64)","v":0},{"$f":"SUM(DataInput!O64,DataInput!AI64)","v":0},{"$f":"DataInput!P64","v":0},null,null,77,59,{"$f":"DataInput!R64","v":0},{"$f":"DataInput!X64","v":0},{"$f":"IF(DataInput!U64-DataInput!E64>0,DataInput!U64-DataInput!E64,\"\")","v":""},{"$f":"IF(DataInput!W64-DataInput!I64>0,DataInput!W64-DataInput!I64,\"\")","v":96},null,null,96,-37,0,0,{"$f":"IF(AC64>0,IFERROR(IF(AVERAGE(DataInput!Q63:Q64)>AVERAGE(AC64,AC63),ROUNDDOWN(((((AC63-AB63)+(AC64-AB64))/2)*(A64-A63))/27,0),IF(((((DataInput!Q64-AB64)+(DataInput!Q63-AB63))/2)*(A64-A63))/27>0,ROUNDDOWN(((((DataInput!Q64-AB63)+(DataInput!Q63-AB63))/2)*(A64-A63))/27,0),0)),0),0)","v":0},0,{"$f":"IFERROR(IF(((((DataInput!Q63-AE63)+(DataInput!Q64-AE64))/2)*(A64-A63))/27>0,ROUNDDOWN(((((DataInput!Q63-AE63)+(DataInput!Q64-AE64))/2)*(A64-A63))/27,0),0),0)","v":0},{"$f":"DataInput!U64","v":0},{"$f":"DataInput!S64","v":0},0,0]
[{"$f":"IF(DataInput!A65<>\"\",DataInput!A65,\"\")","v":5800},{"$f":"SUM(DataInput!C65,DataInput!X65)+(DataInput!U65-DataInput!E65)","v":79},{"$f":"SUM(DataInput!D65,DataInput!Y65)","v":79},{"$f":"DataInput!U65","v":0},{"$f":"SUM(DataInput!F65,DataInput!AA65)","v":0},{"$f":"SUM(DataInput!G65,DataInput!AB65)","v":0},{"$f":"SUM(DataInput!H65,DataInput!AC65)","v":0},{"$f":"DataInput!W65","v":105},{"$f":"SUM(DataInput!J65,DataInput!AD65)","v":0},{"$f":"SUM(DataInput!K65,DataInput!AE65)","v":0},{"$f":"SUM(DataInput!L65,DataInput!AF65)","v":0},{"$f":"SUM(DataInput!M65,DataInput!AG65)","v":0},{"$f":"SUM(DataInput!N65,DataInput!AH65)","v":0},{"$f":"SUM(DataInput!O65,DataInput!AI65)","v":0},{"$f":"DataInput!P65","v":0},null,null,79,61,{"$f":"DataInput!R65","v":0},{"$f":"DataInput!X65","v":0},{"$f":"IF(DataInput!U65-DataInput!E65>0,DataInput!U65-DataInput!E65,\"\")","v":""},{"$f":"IF(DataInput!W65-DataInput!I65>0,DataInput!W65-DataInput!I65,\"\")","v":105},null,null,105,-44,0,0,{"$f":"IF(AC65>0,IFERROR(IF(AVERAGE(DataInput!Q64:Q65)>AVERAGE(AC65,AC64),ROUNDDOWN(((((AC64-AB64)+(AC65-AB65))/2)*(A65-A64))/27,0),IF(((((DataInput!Q65-AB65)+(DataInput!Q64-AB64))/2)*(A65-A64))/27>0,ROUNDDOWN(((((DataInput!Q65-AB64)+(DataInput!Q64-AB64))/2)*(A65-A64))/27,0),0)),0),0)","v":0},0,{"$f":"IFERROR(IF(((((DataInput!Q64-AE64)+(DataInput!Q65-AE65))/2)*(A65-A64))/27>0,ROUNDDOWN(((((DataInput!Q64-AE64)+(DataInput!Q65-AE65))/2)*(A65-A64))/27,0),0),0)","v":0},{"$f":"DataInput!U65","v":0},{"$f":"DataInput!S65","v":0},0,0]
[{"$f":"IF(DataInput!A66<>\"\",DataInput!A66,\"\")","v":5825},{"$f":"SUM(DataInput!C66,DataInput!X66)+(DataInput!U66-DataInput!E66)","v":82},{"$f":"SUM(DataInput!D66,DataInput!Y66)","v":82},{"$f":"DataInput!U66","v":0},{"$f":"SUM(DataInput!F66,DataInput!AA66)","v":0},{"$f":"SUM(DataInput!G66,DataInput!AB66)","v":0},{"$f":"SUM(DataInput!H66,DataInput!AC66)","v":0},{"$f":"DataInput!W66","v":92},{"$f":"SUM(DataInput!J66,DataInput!AD66)","v":0},{"$f":"SUM(DataInput!K66,DataInput!AE66)","v":0},{"$f":"SUM(DataInput!L66,DataInput!AF66)","v":0},{"$f":"SUM(DataInput!M66,DataInput!AG66)","v":0},{"$f":"SUM(DataInput!N66,DataInput!AH66)","v":0},{"$f":"SUM(DataInput!O66,DataInput!AI66)","v":0},{"$f":"DataInput!P66","v":0},null,null,82,63,{"$f":"DataInput!R66","v":0},{"$f":"DataInput!X66","v":0},{"$f":"IF(DataInput!U66-DataInput!E66>0,DataInput!U66-DataInput!E66,\"\")","v":""},{"$f":"IF(DataInput!W66-DataInput!I66>0,DataInput!W66-DataInput!I66,\"\")","v":92},null,null,92,-29,0,0,{"$f":"IF(AC66>0,IFERROR(IF(AVERAGE(DataInput!Q65:Q66)>AVERAGE(AC66,AC65),ROUNDDOWN(((((AC65-AB65)+(AC66-AB66))/2)*(A66-A65))/27,0),IF(((((DataInput!Q66-AB66)+(DataInput!Q65-AB65))/2)*(A66-A65))/27>0,ROUNDDOWN(((((DataInput!Q66-AB65)+(DataInput!Q65-AB65))/2)*(A66-A65))/27,0),0)),0),0)","v":0},0,{"$f":"IFERROR(IF(((((DataInput!Q65-AE65)+(DataInput!Q66-AE66))/2)*(A66-A65))/27>0,ROUNDDOWN(((((DataInput!Q65-AE65)+(DataInput!Q66-AE66))/2)*(A66-A65))/27,0),0),0)","v":0},{"$f":"DataInput!U66","v":0},{"$f":"DataInput!S66","v":0},0,0]
[{"$f":"IF(DataInput!A67<>\"\",DataInput!A67,\"\")","v":5850},{"$f":"SUM(DataInput!C67,DataInput!X67)+(DataInput!U67-DataInput!E67)","v":96},{"$f":"SUM(DataInput!D67,DataInput!Y67)","v":96},{"$f":"DataInput!U67","v":0},{"$f":"SUM(DataInput!F67,DataInput!AA67)","v":0},{"$f":"SUM(DataInput!G67,DataInput!AB67)","v":0},{"$f":"SUM(DataInput!H67,DataInput!AC67)","v":0},{"$f":"DataInput!W67","v":62},{"$f":"SUM(DataInput!J67,DataInput!AD67)","v":0},{"$f":"SUM(DataInput!K67,DataInput!AE67)","v":0},{"$f":"SUM(DataInput!L67,DataInput!AF67)","v":0},{"$f":"SUM(DataInput!M67,DataInput!AG67)","v":0},{"$f":"SUM(DataInput!N67,DataInput!AH67)","v":0},{"$f":"SUM(DataInput!O67,DataInput!AI67)","v":0},{"$f":"DataInput!P67","v":0},null,null,96,74,{"$f":"DataInput!R67","v":0},{"$f":"DataInput!X67","v":0},{"$f":"IF(DataInput!U67-DataInput!E67>0,DataInput!U67-DataInput!E67,\"\")","v":""},{"$f":"IF(DataInput!W67-DataInput!I67>0,DataInput!W67-DataInput!I67,\"\")","v":62},null,null,62,12,0,0,{"$f":"IF(AC67>0,IFERROR(IF(AVERAGE(DataInput!Q66:Q67)>AVERAGE(AC67,AC66),ROUNDDOWN(((((AC66-AB66)+(AC67-AB67))/2)*(A67-A66))/27,0),IF(((((DataInput!Q67-AB67)+(DataInput!Q66-AB66))/2)*(A67-A66))/27>0,ROUNDDOWN(((((DataInput!Q67-AB66)+(DataInput!Q66-AB66))/2)*(A67-A66))/27,0),0)),0),0)","v":0},0,{"$f":"IFERROR(IF(((((DataInput!Q66-AE66)+(DataInput!Q67-AE67))/2)*(A67-A66))/27>0,ROUNDDOWN(((((DataInput!Q66-AE66)+(DataInput!Q67-AE67))/2)*(A67-A66))/27,0),0),0)","v":0},{"$f":"DataInput!U67","v":0},{"$f":"DataInput!S67","v":0},0,0]
[{"$f":"IF(DataInput!A68<>\"\",DataInput!A68,\"\")","v":5875},{"$f":"SUM(DataInput!C68,DataInput!X68)+(DataInput!U68-DataInput!E68)","v":117},{"$f":"SUM(DataInput!D68,DataInput!Y68)","v":117},{"$f":"DataInput!U68","v":0},{"$f":"SUM(DataInput!F68,DataInput!AA68)","v":0},{"$f":"SUM(DataInput!G68,DataInput!AB68)","v":0},{"$f":"SUM(DataInput!H68,DataInput!AC68)","v":0},{"$f":"DataInput!W68","v":51},{"$f":"SUM(DataInput!J68,DataInput!AD68)","v":0},{"$f":"SUM(DataInput!K68,DataInput!AE68)","v":0},{"$f":"SUM(DataInput!L68,DataInput!AF68)","v":0},{"$f":"SUM(DataInput!M68,DataInput!AG68)","v":0},{"$f":"SUM(DataInput!N68,DataInput!AH68)","v":0},{"$f":"SUM(DataInput!O68,DataInput!AI68)","v":0},{"$f":"DataInput!P68","v":0},null,null,117,90,{"$f":"DataInput!R68","v":0},{"$f":"DataInput!X68","v":0},{"$f":"IF(DataInput!U68-DataInput!E68>0,DataInput!U68-DataInput!E68,\"\")","v":""},{"$f":"IF(DataInput!W68-DataInput!I68>0,DataInput!W68-DataInput!I68,\"\")","v":51},null,null,51,39,0,0,{"$f":"IF(AC68>0,IFERROR(IF(AVERAGE(DataInput!Q67:Q68)>AVERAGE(AC68,AC67),ROUNDDOWN(((((AC67-AB67)+(AC68-AB68))/2)*(A68-A67))/27,0),IF(((((DataInput!Q68-AB68)+(DataInput!Q67-AB67))/2)*(A68-A67))/27>0,ROUNDDOWN(((((DataInput!Q68-AB67)+(DataInput!Q67-AB67))/2)*(A68-A67))/27,0),0)),0),0)","v":0},0,{"$f":"IFERROR(IF(((((DataInput!Q67-AE67)+(DataInput!Q68-AE68))/2)*(A68-A67))/27>0,ROUNDDOWN(((((DataInput!Q67-AE67)+(DataInput!Q68-AE68))/2)*(A68-A67))/27,0),0),0)","v":0},{"$f":"DataInput!U68","v":0},{"$f":"DataInput!S68","v":0},0,0]
[{"$f":"IF(DataInput!A69<>\"\",DataInput!A69,\"\")","v":5900},{"$f":"SUM(DataInput!C69,DataInput!X69)+(DataInput!U69-DataInput!E69)","v":115},{"$f":"SUM(DataInput!D69,DataInput!Y69)","v":115},{"$f":"DataInput!U69","v":0},{"$f":"SUM(DataInput!F69,DataInput!AA69)","v":0},{"$f":"SUM(DataInput!G69,DataInput!AB69)","v":0},{"$f":"SUM(DataInput!H69,DataInput!AC69)","v":0},{"$f":"DataInput!W69","v":61},{"$f":"SUM(DataInput!J69,DataInput!AD69)","v":0},{"$f":"SUM(DataInput!K69,DataInput!AE69)","v":0},{"$f":"SUM(DataInput!L69,DataInput!AF69)","v":0},{"$f":"SUM(DataInput!M69,DataInput!AG69)","v":0},{"$f":"SUM(DataInput!N69,DataInput!AH69)","v":0},{"$f":"SUM(DataInput!O69,DataInput!AI69)","v":0},{"$f":"DataInput!P69","v":0},null,null,115,88,{"$f":"DataInput!R69","v":0},{"$f":"DataInput!X69","v":0},{"$f":"IF(DataInput!U69-DataInput!E69>0,DataInput!U69-DataInput!E69,\"\")","v":""},{"$f":"IF(DataInput!W69-DataInput!I69>0,DataInput!W69-DataInput!I69,\"\")","v":61},null,null,61,27,0,0,{"$f":"IF(AC69>0,IFERROR(IF(AVERAGE(DataInput!Q68:Q69)>AVERAGE(AC69,AC68),ROUNDDOWN(((((AC68-AB68)+(AC69-AB69))/2)*(A69-A68))/27,0),IF(((((DataInput!Q69-AB69)+(DataInput!Q68-AB68))/2)*(A69-A68))/27>0,ROUNDDOWN(((((DataInput!Q69-AB68)+(DataInput!Q68-AB68))/2)*(A69-A68))/27,0),0)),0),0)","v":0},0,{"$f":"IFERROR(IF(((((DataInput!Q68-AE68)+(DataInput!Q69-AE69))/2)*(A69-A68))/27>0,ROUNDDOWN(((((DataInput!Q68-AE68)+(DataInput!Q69-AE69))/2)*(A69-A68))/27,0),0),0)","v":0},{"$f":"DataInput!U69","v":0},{"$f":"DataInput!S69","v":0},0,0]
[{"$f":"IF(DataInput!A70<>\"\",DataInput!A70,\"\")","v":5925},{"$f":"SUM(DataInput!C70,DataInput!X70)+(DataInput!U70-DataInput!E70)","v":94},{"$f":"SUM(DataInput!D70,DataInput!Y70)","v":94},{"$f":"DataInput!U70","v":0},{"$f":"SUM(DataInput!F70,DataInput!AA70)","v":0},{"$f":"SUM(DataInput!G70,DataInput!AB70)","v":0},{"$f":"SUM(DataInput!H70,DataInput!AC70)","v":0},{"$f":"DataInput!W70","v":89},{"$f":"SUM(DataInput!J70,DataInput!AD70)","v":0},{"$f":"SUM(DataInput!K70,DataInput!AE70)","v":0},{"$f":"SUM(DataInput!L70,DataInput!AF70)","v":0},{"$f":"SUM(DataInput!M70,DataInput!AG70)","v":0},{"$f":"SUM(DataInput!N70,DataInput!AH70)","v":0},{"$f":"SUM(DataInput!O70,DataInput!AI70)","v":0},{"$f":"DataInput!P70","v":0},null,null,94,72,{"$f":"DataInput!R70","v":0},{"$f":"DataInput!X70","v":0},{"$f":"IF(DataInput!U70-DataInput!E70>0,DataInput!U70-DataInput!E70,\"\")","v":""},{"$f":"IF(DataInput!W70-DataInput!I70>0,DataInput!W70-DataInput!I70,\"\")","v":89},null,null,89,-17,0,0,{"$f":"IF(AC70>0,IFERROR(IF(AVERAGE(DataInput!Q69:Q70)>AVERAGE(AC70,AC69),ROUNDDOWN(((((AC69-AB69)+(AC70-AB70))/2)*(A70-A69))/27,0),IF(((((DataInput!Q70-AB70)+(DataInput!Q69-AB69))/2)*(A70-A69))/27>0,ROUNDDOWN(((((DataInput!Q70-AB69)+(DataInput!Q69-AB69))/2)*(A70-A69))/27,0),0)),0),0)","v":0},0,{"$f":"IFERROR(IF(((((DataInput!Q69-AE69)+(DataInput!Q70-AE70))/2)*(A70-A69))/27>0,ROUNDDOWN(((((DataInput!Q69-AE69)+(DataInput!Q70-AE70))/2)*(A70-A69))/27,0),0),0)","v":0},{"$f":"DataInput!U70","v":0},{"$f":"DataInput!S70","v":0},0,0]
[{"$f":"IF(DataInput!A71<>\"\",DataInput!A71,\"\")","v":5950},{"$f":"SUM(DataInput!C71,DataInput!X71)+(DataInput!U71-DataInput!E71)","v":87},{"$f":"SUM(DataInput!D71,DataInput!Y71)","v":87},{"$f":"DataInput!U71","v":0},{"$f":"SUM(DataInput!F71,DataInput!AA71)","v":0},{"$f":"SUM(DataInput!G71,DataInput!AB71)","v":0},{"$f":"SUM(DataInput!H71,DataInput!AC71)","v":0},{"$f":"DataInput!W71","v":110},{"$f":"SUM(DataInput!J71,DataInput!AD71)","v":0},{"$f":"SUM(DataInput!K71,DataInput!AE71)","v":0},{"$f":"SUM(DataInput!L71,DataInput!AF71)","v":0},{"$f":"SUM(DataInput!M71,DataInput!AG71)","v":0},{"$f":"SUM(DataInput!N71,DataInput!AH71)","v":0},{"$f":"SUM(DataInput!O71,DataInput!AI71)","v":0},{"$f":"DataInput!P71","v":0},null,null,87,67,{"$f":"DataInput!R71","v":0},{"$f":"DataInput!X71","v":0},{"$f":"IF(DataInput!U71-DataInput!E71>0,DataInput!U71-DataInput!E71,\"\")","v":""},{"$f":"IF(DataInput!W71-DataInput!I71>0,DataInput!W71-DataInput!I71,\"\")","v":110},null,null,110,-43,0,0,{"$f":"IF(AC71>0,IFERROR(IF(AVERAGE(DataInput!Q70:Q71)>AVERAGE(AC71,AC70),ROUNDDOWN(((((AC70-AB70)+(AC71-AB71))/2)*(A71-A70))/27,0),IF(((((DataInput!Q71-AB71)+(DataInput!Q70-AB70))/2)*(A71-A70))/27>0,ROUNDDOWN(((((DataInput!Q71-AB70)+(DataInput!Q70-AB70))/2)*(A71-A70))/27,0),0)),0),0)","v":0},0,{"$f":"IFERROR(IF(((((DataInput!Q70-AE70)+(DataInput!Q71-AE71))/2)*(A71-A70))/27>0,ROUNDDOWN(((((DataInput!Q70-AE70)+(DataInput!Q71-AE71))/2)*(A71-A70))/27,0),0),0)","v":0},{"$f":"DataInput!U71","v":0},{"$f":"DataInput!S71","v":0},0,0]
[{"$f":"IF(DataInput!A72<>\"\",DataInput!A72,\"\")","v":5975},{"$f":"SUM(DataInput!C72,DataInput!X72)+(DataInput!U72-DataInput!E72)","v":85},{"$f":"SUM(DataInput!D72,DataInput!Y72)","v":85},{"$f":"DataInput!U72","v":0},{"$f":"SUM(DataInput!F72,DataInput!AA72)","v":0},{"$f":"SUM(DataInput!G72,DataInput!AB72)","v":0},{"$f":"SUM(DataInput!H72,DataInput!AC72)","v":0},{"$f":"DataInput!W72","v":101},{"$f":"SUM(DataInput!J72,DataInput!AD72)","v":0},{"$f":"SUM(DataInput!K72,DataInput!AE72)","v":0},{"$f":"SUM(DataInput!L72,DataInput!AF72)","v":0},{"$f":"SUM(DataInput!M72,DataInput!AG72)","v":0},{"$f":"SUM(DataInput!N72,DataInput!AH72)","v":0},{"$f":"SUM(DataInput!O72,DataInput!AI72)","v":0},{"$f":"DataInput!P72","v":0},null,null,85,65,{"$f":"DataInput!R72","v":0},{"$f":"DataInput!X72","v":0},{"$f":"IF(DataInput!U72-DataInput!E72>0,DataInput!U72-DataInput!E72,\"\")","v":""},{"$f":"IF(DataInput!W72-DataInput!I72>0,DataInput!W72-DataInput!I72,\"\")","v":101},null,null,101,-36,0,0,{"$f":"IF(AC72>0,IFERROR(IF(AVERAGE(DataInput!Q71:Q72)>AVERAGE(AC72,AC71),ROUNDDOWN(((((AC71-AB71)+(AC72-AB72))/2)*(A72-A71))/27,0),IF(((((DataInput!Q72-AB72)+(DataInput!Q71-AB71))/2)*(A72-A71))/27>0,ROUNDDOWN(((((DataInput!Q72-AB71)+(DataInput!Q71-AB71))/2)*(A72-A71))/27,0),0)),0),0)","v":0},0,{"$f":"IFERROR(IF(((((DataInput!Q71-AE71)+(DataInput!Q72-AE72))/2)*(A72-A71))/27>0,ROUNDDOWN(((((DataInput!Q71-AE71)+(DataInput!Q72-AE72))/2)*(A72-A71))/27,0),0),0)","v":0},{"$f":"DataInput!U72","v":0},{"$f":"DataInput!S72","v":0},0,0]
[{"$f":"IF(DataInput!A73<>\"\",DataInput!A73,\"\")","v":6000},{"$f":"SUM(DataInput!C73,DataInput!X73)+(DataInput!U73-DataInput!E73)","v":82},{"$f":"SUM(DataInput!D73,DataInput!Y73)","v":82},{"$f":"DataInput!U73","v":0},{"$f":"SUM(DataInput!F73,DataInput!AA73)","v":0},{"$f":"SUM(DataInput!G73,DataInput!AB73)","v":0},{"$f":"SUM(DataInput!H73,DataInput!AC73)","v":0},{"$f":"DataInput!W73","v":85},{"$f":"SUM(DataInput!J73,DataInput!AD73)","v":0},{"$f":"SUM(DataInput!K73,DataInput!AE73)","v":0},{"$f":"SUM(DataInput!L73,DataInput!AF73)","v":0},{"$f":"SUM(DataInput!M73,DataInput!AG73)","v":0},{"$f":"SUM(DataInput!N73,DataInput!AH73)","v":0},{"$f":"SUM(DataInput!O73,DataInput!AI73)","v":0},{"$f":"DataInput!P73","v":0},null,null,82,63,{"$f":"DataInput!R73","v":0},{"$f":"DataInput!X73","v":0},{"$f":"IF(DataInput!U73-DataInput!E73>0,DataInput!U73-DataInput!E73,\"\")","v":""},{"$f":"IF(DataInput!W73-DataInput!I73>0,DataInput!W73-DataInput!I73,\"\")","v":85},null,null,85,-22,0,0,{"$f":"IF(AC73>0,IFERROR(IF(AVERAGE(DataInput!Q72:Q73)>AVERAGE(AC73,AC72),ROUNDDOWN(((((AC72-AB72)+(AC73-AB73))/2)*(A73-A72))/27,0),IF(((((DataInput!Q73-AB73)+(DataInput!Q72-AB72))/2)*(A73-A72))/27>0,ROUNDDOWN(((((DataInput!Q73-AB72)+(DataInput!Q72-AB72))/2)*(A73-A72))/27,0),0)),0),0)","v":0},0,{"$f":"IFERROR(IF(((((DataInput!Q72-AE72)+(DataInput!Q73-AE73))/2)*(A73-A72))/27>0,ROUNDDOWN(((((DataInput!Q72-AE72)+(DataInput!Q73-AE73))/2)*(A73-A72))/27,0),0),0)","v":0},{"$f":"DataInput!U73","v":0},{"$f":"DataInput!S73","v":0},0,0]
[{"$f":"IF(DataInput!A74<>\"\",DataInput!A74,\"\")","v":6025},{"$f":"SUM(DataInput!C74,DataInput!X74)+(DataInput!U74-DataInput!E74)","v":146.6},{"$f":"SUM(DataInput!D74,DataInput!Y74)","v":141},{"$f":"DataInput!U74","v":19.599999999999998},{"$f":"SUM(DataInput!F74,DataInput!AA74)","v":0},{"$f":"SUM(DataInput!G74,DataInput!AB74)","v":0},{"$f":"SUM(DataInput!H74,DataInput!AC74)","v":0},{"$f":"DataInput!W74","v":77},{"$f":"SUM(DataInput!J74,DataInput!AD74)","v":0},{"$f":"SUM(DataInput!K74,DataInput!AE74)","v":0},{"$f":"SUM(DataInput!L74,DataInput!AF74)","v":0},{"$f":"SUM(DataInput!M74,DataInput!AG74)","v":0},{"$f":"SUM(DataInput!N74,DataInput!AH74)","v":0},{"$f":"SUM(DataInput!O74,DataInput!AI74)","v":0},{"$f":"DataInput!P74","v":0},null,null,141,108,{"$f":"DataInput!R74","v":0},{"$f":"DataInput!X74","v":0},{"$f":"IF(DataInput!U74-DataInput!E74>0,DataInput!U74-DataInput!E74,\"\")","v":5.5999999999999979},{"$f":"IF(DataInput!W74-DataInput!I74>0,DataInput!W74-DataInput!I74,\"\")","v":77},null,null,82.6,25.400000000000006,0,0,{"$f":"IF(AC74>0,IFERROR(IF(AVERAGE(DataInput!Q73:Q74)>AVERAGE(AC74,AC73),ROUNDDOWN(((((AC73-AB73)+(AC74-AB74))/2)*(A74-A73))/27,0),IF(((((DataInput!Q74-AB74)+(DataInput!Q73-AB73))/2)*(A74-A73))/27>0,ROUNDDOWN(((((DataInput!Q74-AB73)+(DataInput!Q73-AB73))/2)*(A74-A73))/27,0),0)),0),0)","v":0},0,{"$f":"IFERROR(IF(((((DataInput!Q73-AE73)+(DataInput!Q74-AE74))/2)*(A74-A73))/27>0,ROUNDDOWN(((((DataInput!Q73-AE73)+(DataInput!Q74-AE74))/2)*(A74-A73))/27,0),0),0)","v":0},{"$f":"DataInput!U74","v":19.599999999999998},{"$f":"DataInput!S74","v":14},14,0]
[{"$f":"IF(DataInput!A75<>\"\",DataInput!A75,\"\")","v":6050},{"$f":"SUM(DataInput!C75,DataInput!X75)+(DataInput!U75-DataInput!E75)","v":221.6},{"$f":"SUM(DataInput!D75,DataInput!Y75)","v":210},{"$f":"DataInput!U75","v":40.599999999999994},{"$f":"SUM(DataInput!F75,DataInput!AA75)","v":0},{"$f":"SUM(DataInput!G75,DataInput!AB75)","v":0},{"$f":"SUM(DataInput!H75,DataInput!AC75)","v":0},{"$f":"DataInput!W75","v":74},{"$f":"SUM(DataInput!J75,DataInput!AD75)","v":0},{"$f":"SUM(DataInput!K75,DataInput!AE75)","v":0},{"$f":"SUM(DataInput!L75,DataInput!AF75)","v":0},{"$f":"SUM(DataInput!M75,DataInput!AG75)","v":0},{"$f":"SUM(DataInput!N75,DataInput!AH75)","v":0},{"$f":"SUM(DataInput!O75,DataInput!AI75)","v":0},{"$f":"DataInput!P75","v":0},null,null,210,162,{"$f":"DataInput!R75","v":0},{"$f":"DataInput!X75","v":0},{"$f":"IF(DataInput!U75-DataInput!E75>0,DataInput!U75-DataInput!E75,\"\")","v":11.599999999999994},{"$f":"IF(DataInput!W75-DataInput!I75>0,DataInput!W75-DataInput!I75,\"\")","v":74},null,null,85.6,76.400000000000006,0,0,{"$f":"IF(AC75>0,IFERROR(IF(AVERAGE(DataInput!Q74:Q75)>AVERAGE(AC75,AC74),ROUNDDOWN(((((AC74-AB74)+(AC75-AB75))/2)*(A75-A74))/27,0),IF(((((DataInput!Q75-AB75)+(DataInput!Q74-AB74))/2)*(A75-A74))/27>0,ROUNDDOWN(((((DataInput!Q75-AB74)+(DataInput!Q74-AB74))/2)*(A75-A74))/27,0),0)),0),0)","v":0},0,{"$f":"IFERROR(IF(((((DataInput!Q74-AE74)+(DataInput!Q75-AE75))/2)*(A75-A74))/27>0,ROUNDDOWN(((((DataInput!Q74-AE74)+(DataInput!Q75-AE75))/2)*(A75-A74))/27,0),0),0)","v":0},{"$f":"DataInput!U75","v":40.599999999999994},{"$f":"DataInput!S75","v":29},29,0]
[{"$f":"IF(DataInput!A76<>\"\",DataInput!A76,\"\")","v":6075},{"$f":"SUM(DataInput!C76,DataInput!X76)+(DataInput!U76-DataInput!E76)","v":0},{"$f":"SUM(DataInput!D76,DataInput!Y76)","v":0},{"$f":"DataInput!U76","v":0},{"$f":"SUM(DataInput!F76,DataInput!AA76)","v":0},{"$f":"SUM(DataInput!G76,DataInput!AB76)","v":0},{"$f":"SUM(DataInput!H76,DataInput!AC76)","v":0},{"$f":"DataInput!W76","v":0},{"$f":"SUM(DataInput!J76,DataInput!AD76)","v":0},{"$f":"SUM(DataInput!K76,DataInput!AE76)","v":0},{"$f":"SUM(DataInput!L76,DataInput!AF76)","v":0},{"$f":"SUM(DataInput!M76,DataInput!AG76)","v":0},{"$f":"SUM(DataInput!N76,DataInput!AH76)","v":0},{"$f":"SUM(DataInput!O76,DataInput!AI76)","v":0},{"$f":"DataInput!P76","v":0},null,null,0,0,{"$f":"DataInput!R76","v":0},{"$f":"DataInput!X76","v":0},{"$f":"IF(DataInput!U76-DataInput!E76>0,DataInput!U76-DataInput!E76,\"\")","v":""},{"$f":"IF(DataInput!W76-DataInput!I76>0,DataInput!W76-DataInput!I76,\"\")","v":""},null,null,0,0,0,0,{"$f":"IF(AC76>0,IFERROR(IF(AVERAGE(DataInput!Q75:Q76)>AVERAGE(AC76,AC75),ROUNDDOWN(((((AC75-AB75)+(AC76-AB76))/2)*(A76-A75))/27,0),IF(((((DataInput!Q76-AB76)+(DataInput!Q75-AB75))/2)*(A76-A75))/27>0,ROUNDDOWN(((((DataInput!Q76-AB75)+(DataInput!Q75-AB75))/2)*(A76-A75))/27,0),0)),0),0)","v":0},0,{"$f":"IFERROR(IF(((((DataInput!Q75-AE75)+(DataInput!Q76-AE76))/2)*(A76-A75))/27>0,ROUNDDOWN(((((DataInput!Q75-AE75)+(DataInput!Q76-AE76))/2)*(A76-A75))/27,0),0),0)","v":0},{"$f":"DataInput!U76","v":0},{"$f":"DataInput!S76","v":0},0,0]
[]
[{"$f":"IF(DataInput!A78<>\"\",DataInput!A78,\"\")","v":"SR022"}]
[{"$f":"IF(DataInput!A79<>\"\",DataInput!A79,\"\")","v":49372.65},{"$f":"SUM(DataInput!C79,DataInput!X79)+(DataInput!U79-DataInput!E79)","v":13.6},{"$f":"SUM(DataInput!D79,DataInput!Y79)","v":12},{"$f":"DataInput!U79","v":5.6},{"$f":"SUM(DataInput!F79,DataInput!AA79)","v":0},{"$f":"SUM(DataInput!G79,DataInput!AB79)","v":0},{"$f":"SUM(DataInput!H79,DataInput!AC79)","v":0},{"$f":"DataInput!W79","v":9},{"$f":"SUM(DataInput!J79,DataInput!AD79)","v":0},{"$f":"SUM(DataInput!K79,DataInput!AE79)","v":0},{"$f":"SUM(DataInput!L79,DataInput!AF79)","v":0},{"$f":"SUM(DataInput!M79,DataInput!AG79)","v":0},{"$f":"SUM(DataInput!N79,DataInput!AH79)","v":0},{"$f":"SUM(DataInput!O79,DataInput!AI79)","v":0},{"$f":"DataInput!P79","v":0},null,null,{"$f":"SUM(C79,E79:G79,I79:L79,N79:Q79)","v":12},{"$f":"IF(ISERROR(ROUND((R79/$S$5),0)),0,ROUND((R79/$S$5),0))","v":9},{"$f":"DataInput!R79","v":9},{"$f":"DataInput!X79","v":0},{"$f":"IF(DataInput!U79-DataInput!E79>0,DataInput!U79-DataInput!E79,\"\")","v":1.5999999999999996},{"$f":"IF(DataInput!W79-DataInput!I79>0,DataInput!W79-DataInput!I79,\"\")","v":9},null,null,{"$f":"SUM(T79:Y79)","v":19.600000000000001},{"$f":"SUM(S79-Z79)","v":-10.600000000000001},null,null,0,null,0,{"$f":"DataInput!U79","v":5.6},{"$f":"DataInput!S79","v":4},{"$f":"ROUNDUP(AG79/$AI$5,0)","v":4},{"$f":"AI79-AH79","v":0}]
[{"$f":"IF(DataInput!A80<>\"\",DataInput!A80,\"\")","v":49375},{"$f":"SUM(DataInput!C80,DataInput!X80)+(DataInput!U80-DataInput!E80)","v":142.80000000000001},{"$f":"SUM(DataInput!D80,DataInput!Y80)","v":128},{"$f":"DataInput!U80","v":51.8},{"$f":"SUM(DataInput!F80,DataInput!AA80)","v":0},{"$f":"SUM(DataInput!G80,DataInput!AB80)","v":0},{"$f":"SUM(DataInput!H80,DataInput!AC80)","v":0},{"$f":"DataInput!W80","v":77},{"$f":"SUM(DataInput!J80,DataInput!AD80)","v":0},{"$f":"SUM(DataInput!K80,DataInput!AE80)","v":0},{"$f":"SUM(DataInput!L80,DataInput!AF80)","v":0},{"$f":"SUM(DataInput!M80,DataInput!AG80)","v":0},{"$f":"SUM(DataInput!N80,DataInput!AH80)","v":0},{"$f":"SUM(DataInput!O80,DataInput!AI80)","v":0},{"$f":"DataInput!P80","v":0},null,null,{"$f":"SUM(C80,E80:G80,I80:L80,N80:Q80)","v":128},{"$f":"IF(ISERROR(ROUND((R80/$S$5),0)),0,ROUND((R80/$S$5),0))","v":98},{"$f":"DataInput!R80","v":101},{"$f":"DataInput!X80","v":0},{"$f":"IF(DataInput!U80-DataInput!E80>0,DataInput!U80-DataInput!E80,\"\")","v":14.799999999999997},{"$f":"IF(DataInput!W80-DataInput!I80>0,DataInput!W80-DataInput!I80,\"\")","v":77},null,null,{"$f":"SUM(T80:Y80)","v":192.8},{"$f":"SUM(S80-Z80)","v":-94.800000000000011},{"$f":"AB79","v":0},{"$f":"AC79","v":0},{"$f":"IF(AC80>0,IFERROR(IF(AVERAGE(DataInput!Q79:Q80)>AVERAGE(AC80,AC79),ROUNDDOWN(((((AC79-AB79)+(AC80-AB80))/2)*(A80-A79))/27,0),IF(((((DataInput!Q80-AB80)+(DataInput!Q79-AB79))/2)*(A80-A79))/27>0,ROUNDDOWN(((((DataInput!Q80-AB79)+(DataInput!Q79-AB79))/2)*(A80-A79))/27,0),0)),0),0)","v":0},{"$f":"AE79","v":0},{"$f":"IFERROR(IF(((((DataInput!Q79-AE79)+(DataInput!Q80-AE80))/2)*(A80-A79))/27>0,ROUNDDOWN(((((DataInput!Q79-AE79)+(DataInput!Q80-AE80))/2)*(A80-A79))/27,0),0),0)","v":8},{"$f":"DataInput!U80","v":51.8},{"$f":"DataInput!S80","v":37},{"$f":"ROUNDUP(AG80/$AI$5,0)","v":37},{"$f":"AI80-AH80","v":0}]
[{"$f":"IF(DataInput!A81<>\"\",DataInput!A81,\"\")","v":49400},{"$f":"SUM(DataInput!C81,DataInput!X81)+(DataInput!U81-DataInput!E81)","v":140.4},{"$f":"SUM(DataInput!D81,DataInput!Y81)","v":126},{"$f":"DataInput!U81","v":50.4},{"$f":"SUM(DataInput!F81,DataInput!AA81)","v":0},{"$f":"SUM(DataInput!G81,DataInput!AB81)","v":0},{"$f":"SUM(DataInput!H81,DataInput!AC81)","v":0},{"$f":"DataInput!W81","v":56},{"$f":"SUM(DataInput!J81,DataInput!AD81)","v":0},{"$f":"SUM(DataInput!K81,DataInput!AE81)","v":0},{"$f":"SUM(DataInput!L81,DataInput!AF81)","v":0},{"$f":"SUM(DataInput!M81,DataInput!AG81)","v":0},{"$f":"SUM(DataInput!N81,DataInput!AH81)","v":0},{"$f":"SUM(DataInput!O81,DataInput!AI81)","v":0},{"$f":"DataInput!P81","v":0},null,null,126,97,{"$f":"DataInput!R81","v":103},{"$f":"DataInput!X81","v":0},{"$f":"IF(DataInput!U81-DataInput!E81>0,DataInput!U81-DataInput!E81,\"\")","v":14.399999999999999},{"$f":"IF(DataInput!W81-DataInput!I81>0,DataInput!W81-DataInput!I81,\"\")","v":56},null,null,173.4,-76.400000000000006,{"$f":"AB80","v":0},{"$f":"AC80","v":0},{"$f":"IF(AC81>0,IFERROR(IF(AVERAGE(DataInput!Q80:Q81)>AVERAGE(AC81,AC80),ROUNDDOWN(((((AC80-AB80)+(AC81-AB81))/2)*(A81-A80))/27,0),IF(((((DataInput!Q81-AB81)+(DataInput!Q80-AB80))/2)*(A81-A80))/27>0,ROUNDDOWN(((((DataInput!Q81-AB80)+(DataInput!Q80-AB80))/2)*(A81-A80))/27,0),0)),0),0)","v":0},{"$f":"AE80","v":0},{"$f":"IFERROR(IF(((((DataInput!Q80-AE80)+(DataInput!Q81-AE81))/2)*(A81-A80))/27>0,ROUNDDOWN(((((DataInput!Q80-AE80)+(DataInput!Q81-AE81))/2)*(A81-A80))/27,0),0),0)","v":97},{"$f":"DataInput!U81","v":50.4},{"$f":"DataInput!S81","v":36},36,0]
[{"$f":"IF(DataInput!A82<>\"\",DataInput!A82,\"\")","v":49425},{"$f":"SUM(DataInput!C82,DataInput!X82)+(DataInput!U82-DataInput!E82)","v":140.80000000000001},{"$f":"SUM(DataInput!D82,DataInput!Y82)","v":122},{"$f":"DataInput!U82","v":65.8},{"$f":"SUM(DataInput!F82,DataInput!AA82)","v":0},{"$f":"SUM(DataInput!G82,DataInput!AB82)","v":0},{"$f":"SUM(DataInput!H82,DataInput!AC82)","v":0},{"$f":"DataInput!W82","v":53},{"$f":"SUM(DataInput!J82,DataInput!AD82)","v":0},{"$f":"SUM(DataInput!K82,DataInput!AE82)","v":0},{"$f":"SUM(DataInput!L82,DataInput!AF82)","v":0},{"$f":"SUM(DataInput!M82,DataInput!AG82)","v":0},{"$f":"SUM(DataInput!N82,DataInput!AH82)","v":0},{"$f":"SUM(DataInput!O82,DataInput!AI82)","v":0},{"$f":"DataInput!P82","v":0},null,null,122,94,{"$f":"DataInput!R82","v":104},{"$f":"DataInput!X82","v":0},{"$f":"IF(DataInput!U82-DataInput!E82>0,DataInput!U82-DataInput!E82,\"\")","v":18.799999999999997},{"$f":"IF(DataInput!W82-DataInput!I82>0,DataInput!W82-DataInput!I82,\"\")","v":53},null,null,175.8,-81.800000000000011,0,0,{"$f":"IF(AC82>0,IFERROR(IF(AVERAGE(DataInput!Q81:Q82)>AVERAGE(AC82,AC81),ROUNDDOWN(((((AC81-AB81)+(AC82-AB82))/2)*(A82-A81))/27,0),IF(((((DataInput!Q82-AB82)+(DataInput!Q81-AB81))/2)*(A82-A81))/27>0,ROUNDDOWN(((((DataInput!Q82-AB81)+(DataInput!Q81-AB81))/2)*(A82-A81))/27,0),0)),0),0)","v":0},0,{"$f":"IFERROR(IF(((((DataInput!Q81-AE81)+(DataInput!Q82-AE82))/2)*(A82-A81))/27>0,ROUNDDOWN(((((DataInput!Q81-AE81)+(DataInput!Q82-AE82))/2)*(A82-A81))/27,0),0),0)","v":99},{"$f":"DataInput!U82","v":65.8},{"$f":"DataInput!S82","v":47},47,0]
[{"$f":"IF(DataInput!A83<>\"\",DataInput!A83,\"\")","v":49450},{"$f":"SUM(DataInput!C83,DataInput!X83)+(DataInput!U83-DataInput!E83)","v":139.39999999999998},{"$f":"SUM(DataInput!D83,DataInput!Y83)","v":119},{"$f":"DataInput!U83","v":71.399999999999991},{"$f":"SUM(DataInput!F83,DataInput!AA83)","v":0},{"$f":"SUM(DataInput!G83,DataInput!AB83)","v":0},{"$f":"SUM(DataInput!H83,DataInput!AC83)","v":0},{"$f":"DataInput!W83","v":52},{"$f":"SUM(DataInput!J83,DataInput!AD83)","v":0},{"$f":"SUM(DataInput!K83,DataInput!AE83)","v":0},{"$f":"SUM(DataInput!L83,DataInput!AF83)","v":0},{"$f":"SUM(DataInput!M83,DataInput!AG83)","v":0},{"$f":"SUM(DataInput!N83,DataInput!AH83)","v":0},{"$f":"SUM(DataInput!O83,DataInput!AI83)","v":0},{"$f":"DataInput!P83","v":0},null,null,119,92,{"$f":"DataInput!R83","v":100},{"$f":"DataInput!X83","v":0},{"$f":"IF(DataInput!U83-DataInput!E83>0,DataInput!U83-DataInput!E83,\"\")","v":20.399999999999991},{"$f":"IF(DataInput!W83-DataInput!I83>0,DataInput!W83-DataInput!I83,\"\")","v":52},null,null,172.39999999999998,-80.399999999999977,0,0,{"$f":"IF(AC83>0,IFERROR(IF(AVERAGE(DataInput!Q82:Q83)>AVERAGE(AC83,AC82),ROUNDDOWN(((((AC82-AB82)+(AC83-AB83))/2)*(A83-A82))/27,0),IF(((((DataInput!Q83-AB83)+(DataInput!Q82-AB82))/2)*(A83-A82))/27>0,ROUNDDOWN(((((DataInput!Q83-AB82)+(DataInput!Q82-AB82))/2)*(A83-A82))/27,0),0)),0),0)","v":0},0,{"$f":"IFERROR(IF(((((DataInput!Q82-AE82)+(DataInput!Q83-AE83))/2)*(A83-A82))/27>0,ROUNDDOWN(((((DataInput!Q82-AE82)+(DataInput!Q83-AE83))/2)*(A83-A82))/27,0),0),0)","v":94},{"$f":"DataInput!U83","v":71.399999999999991},{"$f":"DataInput!S83","v":51},51,0]
[{"$f":"IF(DataInput!A84<>\"\",DataInput!A84,\"\")","v":49475},{"$f":"SUM(DataInput!C84,DataInput!X84)+(DataInput!U84-DataInput!E84)","v":137.19999999999999},{"$f":"SUM(DataInput!D84,DataInput!Y84)","v":116},{"$f":"DataInput!U84","v":74.199999999999989},{"$f":"SUM(DataInput!F84,DataInput!AA84)","v":0},{"$f":"SUM(DataInput!G84,DataInput!AB84)","v":0},{"$f":"SUM(DataInput!H84,DataInput!AC84)","v":0},{"$f":"DataInput!W84","v":52},{"$f":"SUM(DataInput!J84,DataInput!AD84)","v":0},{"$f":"SUM(DataInput!K84,DataInput!AE84)","v":0},{"$f":"SUM(DataInput!L84,DataInput!AF84)","v":0},{"$f":"SUM(DataInput!M84,DataInput!AG84)","v":0},{"$f":"SUM(DataInput!N84,DataInput!AH84)","v":0},{"$f":"SUM(DataInput!O84,DataInput!AI84)","v":0},{"$f":"DataInput!P84","v":0},null,null,116,89,{"$f":"DataInput!R84","v":89},{"$f":"DataInput!X84","v":0},{"$f":"IF(DataInput!U84-DataInput!E84>0,DataInput!U84-DataInput!E84,\"\")","v":21.199999999999989},{"$f":"IF(DataInput!W84-DataInput!I84>0,DataInput!W84-DataInput!I84,\"\")","v":52},null,null,162.19999999999999,-73.199999999999989,0,0,{"$f":"IF(AC84>0,IFERROR(IF(AVERAGE(DataInput!Q83:Q84)>AVERAGE(AC84,AC83),ROUNDDOWN(((((AC83-AB83)+(AC84-AB84))/2)*(A84-A83))/27,0),IF(((((DataInput!Q84-AB84)+(DataInput!Q83-AB83))/2)*(A84-A83))/27>0,ROUNDDOWN(((((DataInput!Q84-AB83)+(DataInput!Q83-AB83))/2)*(A84-A83))/27,0),0)),0),0)","v":0},0,{"$f":"IFERROR(IF(((((DataInput!Q83-AE83)+(DataInput!Q84-AE84))/2)*(A84-A83))/27>0,ROUNDDOWN(((((DataInput!Q83-AE83)+(DataInput!Q84-AE84))/2)*(A84-A83))/27,0),0),0)","v":83},{"$f":"DataInput!U84","v":74.199999999999989},{"$f":"DataInput!S84","v":53},53,0]
[{"$f":"IF(DataInput!A85<>\"\",DataInput!A85,\"\")","v":49500},{"$f":"SUM(DataInput!C85,DataInput!X85)+(DataInput!U85-DataInput!E85)","v":134.80000000000001},{"$f":"SUM(DataInput!D85,DataInput!Y85)","v":120},{"$f":"DataInput!U85","v":51.8},{"$f":"SUM(DataInput!F85,DataInput!AA85)","v":0},{"$f":"SUM(DataInput!G85,DataInput!AB85)","v":0},{"$f":"SUM(DataInput!H85,DataInput!AC85)","v":0},{"$f":"DataInput!W85","v":77},{"$f":"SUM(DataInput!J85,DataInput!AD85)","v":0},{"$f":"SUM(DataInput!K85,DataInput!AE85)","v":0},{"$f":"SUM(DataInput!L85,DataInput!AF85)","v":0},{"$f":"SUM(DataInput!M85,DataInput!AG85)","v":0},{"$f":"SUM(DataInput!N85,DataInput!AH85)","v":0},{"$f":"SUM(DataInput!O85,DataInput!AI85)","v":0},{"$f":"DataInput!P85","v":0},null,null,120,92,{"$f":"DataInput!R85","v":64},{"$f":"DataInput!X85","v":0},{"$f":"IF(DataInput!U85-DataInput!E85>0,DataInput!U85-DataInput!E85,\"\")","v":14.799999999999997},{"$f":"IF(DataInput!W85-DataInput!I85>0,DataInput!W85-DataInput!I85,\"\")","v":77},null,null,155.80000000000001,-63.800000000000011,0,0,{"$f":"IF(AC85>0,IFERROR(IF(AVERAGE(DataInput!Q84:Q85)>AVERAGE(AC85,AC84),ROUNDDOWN(((((AC84-AB84)+(AC85-AB85))/2)*(A85-A84))/27,0),IF(((((DataInput!Q85-AB85)+(DataInput!Q84-AB84))/2)*(A85-A84))/27>0,ROUNDDOWN(((((DataInput!Q85-AB84)+(DataInput!Q84-AB84))/2)*(A85-A84))/27,0),0)),0),0)","v":0},0,{"$f":"IFERROR(IF(((((DataInput!Q84-AE84)+(DataInput!Q85-AE85))/2)*(A85-A84))/27>0,ROUNDDOWN(((((DataInput!Q84-AE84)+(DataInput!Q85-AE85))/2)*(A85-A84))/27,0),0),0)","v":59},{"$f":"DataInput!U85","v":51.8},{"$f":"DataInput!S85","v":37},37,0]
[{"$f":"IF(DataInput!A86<>\"\",DataInput!A86,\"\")","v":49525},{"$f":"SUM(DataInput!C86,DataInput!X86)+(DataInput!U86-DataInput!E86)","v":132},{"$f":"SUM(DataInput!D86,DataInput!Y86)","v":118},{"$f":"DataInput!U86","v":49},{"$f":"SUM(DataInput!F86,DataInput!AA86)","v":0},{"$f":"SUM(DataInput!G86,DataInput!AB86)","v":0},{"$f":"SUM(DataInput!H86,DataInput!AC86)","v":0},{"$f":"DataInput!W86","v":77},{"$f":"SUM(DataInput!J86,DataInput!AD86)","v":0},{"$f":"SUM(DataInput!K86,DataInput!AE86)","v":0},{"$f":"SUM(DataInput!L86,DataInput!AF86)","v":0},{"$f":"SUM(DataInput!M86,DataInput!AG86)","v":0},{"$f":"SUM(DataInput!N86,DataInput!AH86)","v":0},{"$f":"SUM(DataInput!O86,DataInput!AI86)","v":0},{"$f":"DataInput!P86","v":0},null,null,118,91,{"$f":"DataInput!R86","v":62},{"$f":"DataInput!X86","v":0},{"$f":"IF(DataInput!U86-DataInput!E86>0,DataInput!U86-DataInput!E86,\"\")","v":14},{"$f":"IF(DataInput!W86-DataInput!I86>0,DataInput!W86-DataInput!I86,\"\")","v":77},null,null,153,-62,0,0,{"$f":"IF(AC86>0,IFERROR(IF(AVERAGE(DataInput!Q85:Q86)>AVERAGE(AC86,AC85),ROUNDDOWN(((((AC85-AB85)+(AC86-AB86))/2)*(A86-A85))/27,0),IF(((((DataInput!Q86-AB86)+(DataInput!Q85-AB85))/2)*(A86-A85))/27>0,ROUNDDOWN(((((DataInput!Q86-AB85)+(DataInput!Q85-AB85))/2)*(A86-A85))/27,0),0)),0),0)","v":0},0,{"$f":"IFERROR(IF(((((DataInput!Q85-AE85)+(DataInput!Q86-AE86))/2)*(A86-A85))/27>0,ROUNDDOWN(((((DataInput!Q85-AE85)+(DataInput!Q86-AE86))/2)*(A86-A85))/27,0),0),0)","v":56},{"$f":"DataInput!U86","v":49},{"$f":"DataInput!S86","v":35},35,0]
[{"$f":"IF(DataInput!A87<>\"\",DataInput!A87,\"\")","v":49550},{"$f":"SUM(DataInput!C87,DataInput!X87)+(DataInput!U87-DataInput!E87)","v":130},{"$f":"SUM(DataInput!D87,DataInput!Y87)","v":114},{"$f":"DataInput!U87","v":56},{"$f":"SUM(DataInput!F87,DataInput!AA87)","v":0},{"$f":"SUM(DataInput!G87,DataInput!AB87)","v":0},{"$f":"SUM(DataInput!H87,DataInput!AC87)","v":0},{"$f":"DataInput!W87","v":51},{"$f":"SUM(DataInput!J87,DataInput!AD87)","v":0},{"$f":"SUM(DataInput!K87,DataInput!AE87)","v":0},{"$f":"SUM(DataInput!L87,DataInput!AF87)","v":0},{"$f":"SUM(DataInput!M87,DataInput!AG87)","v":0},{"$f":"SUM(DataInput!N87,DataInput!AH87)","v":0},{"$f":"SUM(DataInput!O87,DataInput!AI87)","v":0},{"$f":"DataInput!P87","v":0},null,null,114,88,{"$f":"DataInput!R87","v":65},{"$f":"DataInput!X87","v":0},{"$f":"IF(DataInput!U87-DataInput!E87>0,DataInput!U87-DataInput!E87,\"\")","v":16},{"$f":"IF(DataInput!W87-DataInput!I87>0,DataInput!W87-DataInput!I87,\"\")","v":51},null,null,132,-44,0,0,{"$f":"IF(AC87>0,IFERROR(IF(AVERAGE(DataInput!Q86:Q87)>AVERAGE(AC87,AC86),ROUNDDOWN(((((AC86-AB86)+(AC87-AB87))/2)*(A87-A86))/27,0),IF(((((DataInput!Q87-AB87)+(DataInput!Q86-AB86))/2)*(A87-A86))/27>0,ROUNDDOWN(((((DataInput!Q87-AB86)+(DataInput!Q86-AB86))/2)*(A87-A86))/27,0),0)),0),0)","v":0},0,{"$f":"IFERROR(IF(((((DataInput!Q86-AE86)+(DataInput!Q87-AE87))/2)*(A87-A86))/27>0,ROUNDDOWN(((((DataInput!Q86-AE86)+(DataInput!Q87-AE87))/2)*(A87-A86))/27,0),0),0)","v":62},{"$f":"DataInput!U87","v":56},{"$f":"DataInput!S87","v":40},40,0]
[{"$f":"IF(DataInput!A88<>\"\",DataInput!A88,\"\")","v":49575},{"$f":"SUM(DataInput!C88,DataInput!X88)+(DataInput!U88-DataInput!E88)","v":137},{"$f":"SUM(DataInput!D88,DataInput!Y88)","v":123},{"$f":"DataInput!U88","v":49},{"$f":"SUM(DataInput!F88,DataInput!AA88)","v":0},{"$f":"SUM(DataInput!G88,DataInput!AB88)","v":0},{"$f":"SUM(DataInput!H88,DataInput!AC88)","v":0},{"$f":"DataInput!W88","v":50},{"$f":"SUM(DataInput!J88,DataInput!AD88)","v":0},{"$f":"SUM(DataInput!K88,DataInput!AE88)","v":0},{"$f":"SUM(DataInput!L88,DataInput!AF88)","v":0},{"$f":"SUM(DataInput!M88,DataInput!AG88)","v":0},{"$f":"SUM(DataInput!N88,DataInput!AH88)","v":0},{"$f":"SUM(DataInput!O88,DataInput!AI88)","v":0},{"$f":"DataInput!P88","v":0},null,null,123,95,{"$f":"DataInput!R88","v":43},{"$f":"DataInput!X88","v":0},{"$f":"IF(DataInput!U88-DataInput!E88>0,DataInput!U88-DataInput!E88,\"\")","v":14},{"$f":"IF(DataInput!W88-DataInput!I88>0,DataInput!W88-DataInput!I88,\"\")","v":50},null,null,107,-12,0,0,{"$f":"IF(AC88>0,IFERROR(IF(AVERAGE(DataInput!Q87:Q88)>AVERAGE(AC88,AC87),ROUNDDOWN(((((AC87-AB87)+(AC88-AB88))/2)*(A88-A87))/27,0),IF(((((DataInput!Q88-AB88)+(DataInput!Q87-AB87))/2)*(A88-A87))/27>0,ROUNDDOWN(((((DataInput!Q88-AB87)+(DataInput!Q87-AB87))/2)*(A88-A87))/27,0),0)),0),0)","v":0},0,{"$f":"IFERROR(IF(((((DataInput!Q87-AE87)+(DataInput!Q88-AE88))/2)*(A88-A87))/27>0,ROUNDDOWN(((((DataInput!Q87-AE87)+(DataInput!Q88-AE88))/2)*(A88-A87))/27,0),0),0)","v":41},{"$f":"DataInput!U88","v":49},{"$f":"DataInput!S88","v":35},35,0]
[{"$f":"IF(DataInput!A89<>\"\",DataInput!A89,\"\")","v":49600},{"$f":"SUM(DataInput!C89,DataInput!X89)+(DataInput!U89-DataInput!E89)","v":136.6},{"$f":"SUM(DataInput!D89,DataInput!Y89)","v":123},{"$f":"DataInput!U89","v":47.599999999999994},{"$f":"SUM(DataInput!F89,DataInput!AA89)","v":0},{"$f":"SUM(DataInput!G89,DataInput!AB89)","v":0},{"$f":"SUM(DataInput!H89,DataInput!AC89)","v":0},{"$f":"DataInput!W89","v":50},{"$f":"SUM(DataInput!J89,DataInput!AD89)","v":0},{"$f":"SUM(DataInput!K89,DataInput!AE89)","v":0},{"$f":"SUM(DataInput!L89,DataInput!AF89)","v":0},{"$f":"SUM(DataInput!M89,DataInput!AG89)","v":0},{"$f":"SUM(DataInput!N89,DataInput!AH89)","v":0},{"$f":"SUM(DataInput!O89,DataInput!AI89)","v":0},{"$f":"DataInput!P89","v":0},null,null,123,95,{"$f":"DataInput!R89","v":27},{"$f":"DataInput!X89","v":0},{"$f":"IF(DataInput!U89-DataInput!E89>0,DataInput!U89-DataInput!E89,\"\")","v":13.599999999999994},{"$f":"IF(DataInput!W89-DataInput!I89>0,DataInput!W89-DataInput!I89,\"\")","v":50},null,null,90.6,4.4000000000000057,0,0,{"$f":"IF(AC89>0,IFERROR(IF(AVERAGE(DataInput!Q88:Q89)>AVERAGE(AC89,AC88),ROUNDDOWN(((((AC88-AB88)+(AC89-AB89))/2)*(A89-A88))/27,0),IF(((((DataInput!Q89-AB89)+(DataInput!Q88-AB88))/2)*(A89-A88))/27>0,ROUNDDOWN(((((DataInput!Q89-AB88)+(DataInput!Q88-AB88))/2)*(A89-A88))/27,0),0)),0),0)","v":0},0,{"$f":"IFERROR(IF(((((DataInput!Q88-AE88)+(DataInput!Q89-AE89))/2)*(A89-A88))/27>0,ROUNDDOWN(((((DataInput!Q88-AE88)+(DataInput!Q89-AE89))/2)*(A89-A88))/27,0),0),0)","v":21},{"$f":"DataInput!U89","v":47.599999999999994},{"$f":"DataInput!S89","v":34},34,0]
[{"$f":"IF(DataInput!A90<>\"\",DataInput!A90,\"\")","v":49625},{"$f":"SUM(DataInput!C90,DataInput!X90)+(DataInput!U90-DataInput!E90)","v":131.6},{"$f":"SUM(DataInput!D90,DataInput!Y90)","v":116},{"$f":"DataInput!U90","v":54.599999999999994},{"$f":"SUM(DataInput!F90,DataInput!AA90)","v":0},{"$f":"SUM(DataInput!G90,DataInput!AB90)","v":0},{"$f":"SUM(DataInput!H90,DataInput!AC90)","v":0},{"$f":"DataInput!W90","v":49},{"$f":"SUM(DataInput!J90,DataInput!AD90)","v":0},{"$f":"SUM(DataInput!K90,DataInput!AE90)","v":0},{"$f":"SUM(DataInput!L90,DataInput!AF90)","v":0},{"$f":"SUM(DataInput!M90,DataInput!AG90)","v":0},{"$f":"SUM(DataInput!N90,DataInput!AH90)","v":0},{"$f":"SUM(DataInput!O90,DataInput!AI90)","v":0},{"$f":"DataInput!P90","v":0},null,null,116,89,{"$f":"DataInput!R90","v":38},{"$f":"DataInput!X90","v":0},{"$f":"IF(DataInput!U90-DataInput!E90>0,DataInput!U90-DataInput!E90,\"\")","v":15.599999999999994},{"$f":"IF(DataInput!W90-DataInput!I90>0,DataInput!W90-DataInput!I90,\"\")","v":49},null,null,102.6,-13.599999999999994,0,0,{"$f":"IF(AC90>0,IFERROR(IF(AVERAGE(DataInput!Q89:Q90)>AVERAGE(AC90,AC89),ROUNDDOWN(((((AC89-AB89)+(AC90-AB90))/2)*(A90-A89))/27,0),IF(((((DataInput!Q90-AB90)+(DataInput!Q89-AB89))/2)*(A90-A89))/27>0,ROUNDDOWN(((((DataInput!Q90-AB89)+(DataInput!Q89-AB89))/2)*(A90-A89))/27,0),0)),0),0)","v":0},0,{"$f":"IFERROR(IF(((((DataInput!Q89-AE89)+(DataInput!Q90-AE90))/2)*(A90-A89))/27>0,ROUNDDOWN(((((DataInput!Q89-AE89)+(DataInput!Q90-AE90))/2)*(A90-A89))/27,0),0),0)","v":33},{"$f":"DataInput!U90","v":54.599999999999994},{"$f":"DataInput!S90","v":39},39,0]
[{"$f":"IF(DataInput!A91<>\"\",DataInput!A91,\"\")","v":49650},{"$f":"SUM(DataInput!C91,DataInput!X91)+(DataInput!U91-DataInput!E91)","v":137.19999999999999},{"$f":"SUM(DataInput!D91,DataInput!Y91)","v":118},{"$f":"DataInput!U91","v":67.199999999999989},{"$f":"SUM(DataInput!F91,DataInput!AA91)","v":0},{"$f":"SUM(DataInput!G91,DataInput!AB91)","v":0},{"$f":"SUM(DataInput!H91,DataInput!AC91)","v":0},{"$f":"DataInput!W91","v":49},{"$f":"SUM(DataInput!J91,DataInput!AD91)","v":0},{"$f":"SUM(DataInput!K91,DataInput!AE91)","v":0},{"$f":"SUM(DataInput!L91,DataInput!AF91)","v":0},{"$f":"SUM(DataInput!M91,DataInput!AG91)","v":0},{"$f":"SUM(DataInput!N91,DataInput!AH91)","v":0},{"$f":"SUM(DataInput!O91,DataInput!AI91)","v":0},{"$f":"DataInput!P91","v":0},null,null,118,91,{"$f":"DataInput!R91","v":50},{"$f":"DataInput!X91","v":0},{"$f":"IF(DataInput!U91-DataInput!E91>0,DataInput!U91-DataInput!E91,\"\")","v":19.199999999999989},{"$f":"IF(DataInput!W91-DataInput!I91>0,DataInput!W91-DataInput!I91,\"\")","v":49},null,null,118.19999999999999,-27.199999999999989,0,0,{"$f":"IF(AC91>0,IFERROR(IF(AVERAGE(DataInput!Q90:Q91)>AVERAGE(AC91,AC90),ROUNDDOWN(((((AC90-AB90)+(AC91-AB91))/2)*(A91-A90))/27,0),IF(((((DataInput!Q91-AB91)+(DataInput!Q90-AB90))/2)*(A91-A90))/27>0,ROUNDDOWN(((((DataInput!Q91-AB90)+(DataInput!Q90-AB90))/2)*(A91-A90))/27,0),0)),0),0)","v":0},0,{"$f":"IFERROR(IF(((((DataInput!Q90-AE90)+(DataInput!Q91-AE91))/2)*(A91-A90))/27>0,ROUNDDOWN(((((DataInput!Q90-AE90)+(DataInput!Q91-AE91))/2)*(A91-A90))/27,0),0),0)","v":44},{"$f":"DataInput!U91","v":67.199999999999989},{"$f":"DataInput!S91","v":48},48,0]
[{"$f":"IF(DataInput!A92<>\"\",DataInput!A92,\"\")","v":49675},{"$f":"SUM(DataInput!C92,DataInput!X92)+(DataInput!U92-DataInput!E92)","v":135.80000000000001},{"$f":"SUM(DataInput!D92,DataInput!Y92)","v":117},{"$f":"DataInput!U92","v":65.8},{"$f":"SUM(DataInput!F92,DataInput!AA92)","v":0},{"$f":"SUM(DataInput!G92,DataInput!AB92)","v":0},{"$f":"SUM(DataInput!H92,DataInput!AC92)","v":0},{"$f":"DataInput!W92","v":49},{"$f":"SUM(DataInput!J92,DataInput!AD92)","v":0},{"$f":"SUM(DataInput!K92,DataInput!AE92)","v":0},{"$f":"SUM(DataInput!L92,DataInput!AF92)","v":0},{"$f":"SUM(DataInput!M92,DataInput!AG92)","v":0},{"$f":"SUM(DataInput!N92,DataInput!AH92)","v":0},{"$f":"SUM(DataInput!O92,DataInput!AI92)","v":0},{"$f":"DataInput!P92","v":0},null,null,117,90,{"$f":"DataInput!R92","v":36},{"$f":"DataInput!X92","v":0},{"$f":"IF(DataInput!U92-DataInput!E92>0,DataInput!U92-DataInput!E92,\"\")","v":18.799999999999997},{"$f":"IF(DataInput!W92-DataInput!I92>0,DataInput!W92-DataInput!I92,\"\")","v":49},null,null,103.8,-13.799999999999997,0,0,{"$f":"IF(AC92>0,IFERROR(IF(AVERAGE(DataInput!Q91:Q92)>AVERAGE(AC92,AC91),ROUNDDOWN(((((AC91-AB91)+(AC92-AB92))/2)*(A92-A91))/27,0),IF(((((DataInput!Q92-AB92)+(DataInput!Q91-AB91))/2)*(A92-A91))/27>0,ROUNDDOWN(((((DataInput!Q92-AB91)+(DataInput!Q91-AB91))/2)*(A92-A91))/27,0),0)),0),0)","v":0},0,{"$f":"IFERROR(IF(((((DataInput!Q91-AE91)+(DataInput!Q92-AE92))/2)*(A92-A91))/27>0,ROUNDDOWN(((((DataInput!Q91-AE91)+(DataInput!Q92-AE92))/2)*(A92-A91))/27,0),0),0)","v":31},{"$f":"DataInput!U92","v":65.8},{"$f":"DataInput!S92","v":47},47,0]
[{"$f":"IF(DataInput!A93<>\"\",DataInput!A93,\"\")","v":49700},{"$f":"SUM(DataInput!C93,DataInput!X93)+(DataInput!U93-DataInput!E93)","v":128.4},{"$f":"SUM(DataInput!D93,DataInput!Y93)","v":114},{"$f":"DataInput!U93","v":50.4},{"$f":"SUM(DataInput!F93,DataInput!AA93)","v":0},{"$f":"SUM(DataInput!G93,DataInput!AB93)","v":0},{"$f":"SUM(DataInput!H93,DataInput!AC93)","v":0},{"$f":"DataInput!W93","v":50},{"$f":"SUM(DataInput!J93,DataInput!AD93)","v":0},{"$f":"SUM(DataInput!K93,DataInput!AE93)","v":0},{"$f":"SUM(DataInput!L93,DataInput!AF93)","v":0},{"$f":"SUM(DataInput!M93,DataInput!AG93)","v":0},{"$f":"SUM(DataInput!N93,DataInput!AH93)","v":0},{"$f":"SUM(DataInput!O93,DataInput!AI93)","v":0},{"$f":"DataInput!P93","v":0},null,null,114,88,{"$f":"DataInput!R93","v":26},{"$f":"DataInput!X93","v":0},{"$f":"IF(DataInput!U93-DataInput!E93>0,DataInput!U93-DataInput!E93,\"\")","v":14.399999999999999},{"$f":"IF(DataInput!W93-DataInput!I93>0,DataInput!W93-DataInput!I93,\"\")","v":50},null,null,90.4,-2.4000000000000057,0,0,{"$f":"IF(AC93>0,IFERROR(IF(AVERAGE(DataInput!Q92:Q93)>AVERAGE(AC93,AC92),ROUNDDOWN(((((AC92-AB92)+(AC93-AB93))/2)*(A93-A92))/27,0),IF(((((DataInput!Q93-AB93)+(DataInput!Q92-AB92))/2)*(A93-A92))/27>0,ROUNDDOWN(((((DataInput!Q93-AB92)+(DataInput!Q92-AB92))/2)*(A93-A92))/27,0),0)),0),0)","v":0},0,{"$f":"IFERROR(IF(((((DataInput!Q92-AE92)+(DataInput!Q93-AE93))/2)*(A93-A92))/27>0,ROUNDDOWN(((((DataInput!Q92-AE92)+(DataInput!Q93-AE93))/2)*(A93-A92))/27,0),0),0)","v":20},{"$f":"DataInput!U93","v":50.4},{"$f":"DataInput!S93","v":36},36,0]
[{"$f":"IF(DataInput!A94<>\"\",DataInput!A94,\"\")","v":49725},{"$f":"SUM(DataInput!C94,DataInput!X94)+(DataInput!U94-DataInput!E94)","v":125.8},{"$f":"SUM(DataInput!D94,DataInput!Y94)","v":113},{"$f":"DataInput!U94","v":44.8},{"$f":"SUM(DataInput!F94,DataInput!AA94)","v":0},{"$f":"SUM(DataInput!G94,DataInput!AB94)","v":0},{"$f":"SUM(DataInput!H94,DataInput!AC94)","v":0},{"$f":"DataInput!W94","v":51},{"$f":"SUM(DataInput!J94,DataInput!AD94)","v":0},{"$f":"SUM(DataInput!K94,DataInput!AE94)","v":0},{"$f":"SUM(DataInput!L94,DataInput!AF94)","v":0},{"$f":"SUM(DataInput!M94,DataInput!AG94)","v":0},{"$f":"SUM(DataInput!N94,DataInput!AH94)","v":0},{"$f":"SUM(DataInput!O94,DataInput!AI94)","v":0},{"$f":"DataInput!P94","v":0},null,null,113,87,{"$f":"DataInput!R94","v":34},{"$f":"DataInput!X94","v":0},{"$f":"IF(DataInput!U94-DataInput!E94>0,DataInput!U94-DataInput!E94,\"\")","v":12.799999999999997},{"$f":"IF(DataInput!W94-DataInput!I94>0,DataInput!W94-DataInput!I94,\"\")","v":51},null,null,97.8,-10.799999999999997,0,0,{"$f":"IF(AC94>0,IFERROR(IF(AVERAGE(DataInput!Q93:Q94)>AVERAGE(AC94,AC93),ROUNDDOWN(((((AC93-AB93)+(AC94-AB94))/2)*(A94-A93))/27,0),IF(((((DataInput!Q94-AB94)+(DataInput!Q93-AB93))/2)*(A94-A93))/27>0,ROUNDDOWN(((((DataInput!Q94-AB93)+(DataInput!Q93-AB93))/2)*(A94-A93))/27,0),0)),0),0)","v":0},0,{"$f":"IFERROR(IF(((((DataInput!Q93-AE93)+(DataInput!Q94-AE94))/2)*(A94-A93))/27>0,ROUNDDOWN(((((DataInput!Q93-AE93)+(DataInput!Q94-AE94))/2)*(A94-A93))/27,0),0),0)","v":29},{"$f":"DataInput!U94","v":44.8},{"$f":"DataInput!S94","v":32},32,0]
[{"$f":"IF(DataInput!A95<>\"\",DataInput!A95,\"\")","v":49750},{"$f":"SUM(DataInput!C95,DataInput!X95)+(DataInput!U95-DataInput!E95)","v":127.8},{"$f":"SUM(DataInput!D95,DataInput!Y95)","v":113},{"$f":"DataInput!U95","v":51.8},{"$f":"SUM(DataInput!F95,DataInput!AA95)","v":0},{"$f":"SUM(DataInput!G95,DataInput!AB95)","v":0},{"$f":"SUM(DataInput!H95,DataInput!AC95)","v":0},{"$f":"DataInput!W95","v":52},{"$f":"SUM(DataInput!J95,DataInput!AD95)","v":0},{"$f":"SUM(DataInput!K95,DataInput!AE95)","v":0},{"$f":"SUM(DataInput!L95,DataInput!AF95)","v":0},{"$f":"SUM(DataInput!M95,DataInput!AG95)","v":0},{"$f":"SUM(DataInput!N95,DataInput!AH95)","v":0},{"$f":"SUM(DataInput!O95,DataInput!AI95)","v":0},{"$f":"DataInput!P95","v":0},null,null,113,87,{"$f":"DataInput!R95","v":50},{"$f":"DataInput!X95","v":0},{"$f":"IF(DataInput!U95-DataInput!E95>0,DataInput!U95-DataInput!E95,\"\")","v":14.799999999999997},{"$f":"IF(DataInput!W95-DataInput!I95>0,DataInput!W95-DataInput!I95,\"\")","v":52},null,null,116.8,-29.799999999999997,0,0,{"$f":"IF(AC95>0,IFERROR(IF(AVERAGE(DataInput!Q94:Q95)>AVERAGE(AC95,AC94),ROUNDDOWN(((((AC94-AB94)+(AC95-AB95))/2)*(A95-A94))/27,0),IF(((((DataInput!Q95-AB95)+(DataInput!Q94-AB94))/2)*(A95-A94))/27>0,ROUNDDOWN(((((DataInput!Q95-AB94)+(DataInput!Q94-AB94))/2)*(A95-A94))/27,0),0)),0),0)","v":0},0,{"$f":"IFERROR(IF(((((DataInput!Q94-AE94)+(DataInput!Q95-AE95))/2)*(A95-A94))/27>0,ROUNDDOWN(((((DataInput!Q94-AE94)+(DataInput!Q95-AE95))/2)*(A95-A94))/27,0),0),0)","v":44},{"$f":"DataInput!U95","v":51.8},{"$f":"DataInput!S95","v":37},37,0]
[{"$f":"IF(DataInput!A96<>\"\",DataInput!A96,\"\")","v":49775},{"$f":"SUM(DataInput!C96,DataInput!X96)+(DataInput!U96-DataInput!E96)","v":127.19999999999999},{"$f":"SUM(DataInput!D96,DataInput!Y96)","v":112},{"$f":"DataInput!U96","v":53.199999999999996},{"$f":"SUM(DataInput!F96,DataInput!AA96)","v":0},{"$f":"SUM(DataInput!G96,DataInput!AB96)","v":0},{"$f":"SUM(DataInput!H96,DataInput!AC96)","v":0},{"$f":"DataInput!W96","v":52},{"$f":"SUM(DataInput!J96,DataInput!AD96)","v":0},{"$f":"SUM(DataInput!K96,DataInput!AE96)","v":0},{"$f":"SUM(DataInput!L96,DataInput!AF96)","v":0},{"$f":"SUM(DataInput!M96,DataInput!AG96)","v":0},{"$f":"SUM(DataInput!N96,DataInput!AH96)","v":0},{"$f":"SUM(DataInput!O96,DataInput!AI96)","v":0},{"$f":"DataInput!P96","v":0},null,null,112,86,{"$f":"DataInput!R96","v":55},{"$f":"DataInput!X96","v":0},{"$f":"IF(DataInput!U96-DataInput!E96>0,DataInput!U96-DataInput!E96,\"\")","v":15.199999999999996},{"$f":"IF(DataInput!W96-DataInput!I96>0,DataInput!W96-DataInput!I96,\"\")","v":52},null,null,122.19999999999999,-36.199999999999989,0,0,{"$f":"IF(AC96>0,IFERROR(IF(AVERAGE(DataInput!Q95:Q96)>AVERAGE(AC96,AC95),ROUNDDOWN(((((AC95-AB95)+(AC96-AB96))/2)*(A96-A95))/27,0),IF(((((DataInput!Q96-AB96)+(DataInput!Q95-AB95))/2)*(A96-A95))/27>0,ROUNDDOWN(((((DataInput!Q96-AB95)+(DataInput!Q95-AB95))/2)*(A96-A95))/27,0),0)),0),0)","v":0},0,{"$f":"IFERROR(IF(((((DataInput!Q95-AE95)+(DataInput!Q96-AE96))/2)*(A96-A95))/27>0,ROUNDDOWN(((((DataInput!Q95-AE95)+(DataInput!Q96-AE96))/2)*(A96-A95))/27,0),0),0)","v":49},{"$f":"DataInput!U96","v":53.199999999999996},{"$f":"DataInput!S96","v":38},38,0]
[{"$f":"IF(DataInput!A97<>\"\",DataInput!A97,\"\")","v":49800},{"$f":"SUM(DataInput!C97,DataInput!X97)+(DataInput!U97-DataInput!E97)","v":123.4},{"$f":"SUM(DataInput!D97,DataInput!Y97)","v":109},{"$f":"DataInput!U97","v":50.4},{"$f":"SUM(DataInput!F97,DataInput!AA97)","v":0},{"$f":"SUM(DataInput!G97,DataInput!AB97)","v":0},{"$f":"SUM(DataInput!H97,DataInput!AC97)","v":0},{"$f":"DataInput!W97","v":52},{"$f":"SUM(DataInput!J97,DataInput!AD97)","v":0},{"$f":"SUM(DataInput!K97,DataInput!AE97)","v":0},{"$f":"SUM(DataInput!L97,DataInput!AF97)","v":0},{"$f":"SUM(DataInput!M97,DataInput!AG97)","v":0},{"$f":"SUM(DataInput!N97,DataInput!AH97)","v":0},{"$f":"SUM(DataInput!O97,DataInput!AI97)","v":0},{"$f":"DataInput!P97","v":0},null,null,109,84,{"$f":"DataInput!R97","v":53},{"$f":"DataInput!X97","v":0},{"$f":"IF(DataInput!U97-DataInput!E97>0,DataInput!U97-DataInput!E97,\"\")","v":14.399999999999999},{"$f":"IF(DataInput!W97-DataInput!I97>0,DataInput!W97-DataInput!I97,\"\")","v":52},null,null,119.4,-35.400000000000006,0,0,{"$f":"IF(AC97>0,IFERROR(IF(AVERAGE(DataInput!Q96:Q97)>AVERAGE(AC97,AC96),ROUNDDOWN(((((AC96-AB96)+(AC97-AB97))/2)*(A97-A96))/27,0),IF(((((DataInput!Q97-AB97)+(DataInput!Q96-AB96))/2)*(A97-A96))/27>0,ROUNDDOWN(((((DataInput!Q97-AB96)+(DataInput!Q96-AB96))/2)*(A97-A96))/27,0),0)),0),0)","v":0},0,{"$f":"IFERROR(IF(((((DataInput!Q96-AE96)+(DataInput!Q97-AE97))/2)*(A97-A96))/27>0,ROUNDDOWN(((((DataInput!Q96-AE96)+(DataInput!Q97-AE97))/2)*(A97-A96))/27,0),0),0)","v":47},{"$f":"DataInput!U97","v":50.4},{"$f":"DataInput!S97","v":36},36,0]
[{"$f":"IF(DataInput!A98<>\"\",DataInput!A98,\"\")","v":49825},{"$f":"SUM(DataInput!C98,DataInput!X98)+(DataInput!U98-DataInput!E98)","v":124.8},{"$f":"SUM(DataInput!D98,DataInput!Y98)","v":110},{"$f":"DataInput!U98","v":51.8},{"$f":"SUM(DataInput!F98,DataInput!AA98)","v":0},{"$f":"SUM(DataInput!G98,DataInput!AB98)","v":0},{"$f":"SUM(DataInput!H98,DataInput!AC98)","v":0},{"$f":"DataInput!W98","v":51},{"$f":"SUM(DataInput!J98,DataInput!AD98)","v":0},{"$f":"SUM(DataInput!K98,DataInput!AE98)","v":0},{"$f":"SUM(DataInput!L98,DataInput!AF98)","v":0},{"$f":"SUM(DataInput!M98,DataInput!AG98)","v":0},{"$f":"SUM(DataInput!N98,DataInput!AH98)","v":0},{"$f":"SUM(DataInput!O98,DataInput!AI98)","v":0},{"$f":"DataInput!P98","v":0},null,null,110,85,{"$f":"DataInput!R98","v":53},{"$f":"DataInput!X98","v":0},{"$f":"IF(DataInput!U98-DataInput!E98>0,DataInput!U98-DataInput!E98,\"\")","v":14.799999999999997},{"$f":"IF(DataInput!W98-DataInput!I98>0,DataInput!W98-DataInput!I98,\"\")","v":51},null,null,118.8,-33.799999999999997,0,0,{"$f":"IF(AC98>0,IFERROR(IF(AVERAGE(DataInput!Q97:Q98)>AVERAGE(AC98,AC97),ROUNDDOWN(((((AC97-AB97)+(AC98-AB98))/2)*(A98-A97))/27,0),IF(((((DataInput!Q98-AB98)+(DataInput!Q97-AB97))/2)*(A98-A97))/27>0,ROUNDDOWN(((((DataInput!Q98-AB97)+(DataInput!Q97-AB97))/2)*(A98-A97))/27,0),0)),0),0)","v":0},0,{"$f":"IFERROR(IF(((((DataInput!Q97-AE97)+(DataInput!Q98-AE98))/2)*(A98-A97))/27>0,ROUNDDOWN(((((DataInput!Q97-AE97)+(DataInput!Q98-AE98))/2)*(A98-A97))/27,0),0),0)","v":47},{"$f":"DataInput!U98","v":51.8},{"$f":"DataInput!S98","v":37},37,0]
[{"$f":"IF(DataInput!A99<>\"\",DataInput!A99,\"\")","v":49850},{"$f":"SUM(DataInput!C99,DataInput!X99)+(DataInput!U99-DataInput!E99)","v":125.4},{"$f":"SUM(DataInput!D99,DataInput!Y99)","v":111},{"$f":"DataInput!U99","v":50.4},{"$f":"SUM(DataInput!F99,DataInput!AA99)","v":0},{"$f":"SUM(DataInput!G99,DataInput!AB99)","v":0},{"$f":"SUM(DataInput!H99,DataInput!AC99)","v":0},{"$f":"DataInput!W99","v":51},{"$f":"SUM(DataInput!J99,DataInput!AD99)","v":0},{"$f":"SUM(DataInput!K99,DataInput!AE99)","v":0},{"$f":"SUM(DataInput!L99,DataInput!AF99)","v":0},{"$f":"SUM(DataInput!M99,DataInput!AG99)","v":0},{"$f":"SUM(DataInput!N99,DataInput!AH99)","v":0},{"$f":"SUM(DataInput!O99,DataInput!AI99)","v":0},{"$f":"DataInput!P99","v":0},null,null,111,85,{"$f":"DataInput!R99","v":68},{"$f":"DataInput!X99","v":0},{"$f":"IF(DataInput!U99-DataInput!E99>0,DataInput!U99-DataInput!E99,\"\")","v":14.399999999999999},{"$f":"IF(DataInput!W99-DataInput!I99>0,DataInput!W99-DataInput!I99,\"\")","v":51},null,null,133.4,-48.400000000000006,0,0,{"$f":"IF(AC99>0,IFERROR(IF(AVERAGE(DataInput!Q98:Q99)>AVERAGE(AC99,AC98),ROUNDDOWN(((((AC98-AB98)+(AC99-AB99))/2)*(A99-A98))/27,0),IF(((((DataInput!Q99-AB99)+(DataInput!Q98-AB98))/2)*(A99-A98))/27>0,ROUNDDOWN(((((DataInput!Q99-AB98)+(DataInput!Q98-AB98))/2)*(A99-A98))/27,0),0)),0),0)","v":0},0,{"$f":"IFERROR(IF(((((DataInput!Q98-AE98)+(DataInput!Q99-AE99))/2)*(A99-A98))/27>0,ROUNDDOWN(((((DataInput!Q98-AE98)+(DataInput!Q99-AE99))/2)*(A99-A98))/27,0),0),0)","v":61},{"$f":"DataInput!U99","v":50.4},{"$f":"DataInput!S99","v":36},36,0]
[{"$f":"IF(DataInput!A100<>\"\",DataInput!A100,\"\")","v":49875},{"$f":"SUM(DataInput!C100,DataInput!X100)+(DataInput!U100-DataInput!E100)","v":129.80000000000001},{"$f":"SUM(DataInput!D100,DataInput!Y100)","v":115},{"$f":"DataInput!U100","v":51.8},{"$f":"SUM(DataInput!F100,DataInput!AA100)","v":0},{"$f":"SUM(DataInput!G100,DataInput!AB100)","v":0},{"$f":"SUM(DataInput!H100,DataInput!AC100)","v":0},{"$f":"DataInput!W100","v":51},{"$f":"SUM(DataInput!J100,DataInput!AD100)","v":0},{"$f":"SUM(DataInput!K100,DataInput!AE100)","v":0},{"$f":"SUM(DataInput!L100,DataInput!AF100)","v":0},{"$f":"SUM(DataInput!M100,DataInput!AG100)","v":0},{"$f":"SUM(DataInput!N100,DataInput!AH100)","v":0},{"$f":"SUM(DataInput!O100,DataInput!AI100)","v":0},{"$f":"DataInput!P100","v":0},null,null,115,88,{"$f":"DataInput!R100","v":76},{"$f":"DataInput!X100","v":0},{"$f":"IF(DataInput!U100-DataInput!E100>0,DataInput!U100-DataInput!E100,\"\")","v":14.799999999999997},{"$f":"IF(DataInput!W100-DataInput!I100>0,DataInput!W100-DataInput!I100,\"\")","v":51},null,null,141.80000000000001,-53.800000000000011,0,0,{"$f":"IF(AC100>0,IFERROR(IF(AVERAGE(DataInput!Q99:Q100)>AVERAGE(AC100,AC99),ROUNDDOWN(((((AC99-AB99)+(AC100-AB100))/2)*(A100-A99))/27,0),IF(((((DataInput!Q100-AB100)+(DataInput!Q99-AB99))/2)*(A100-A99))/27>0,ROUNDDOWN(((((DataInput!Q100-AB99)+(DataInput!Q99-AB99))/2)*(A100-A99))/27,0),0)),0),0)","v":0},0,{"$f":"IFERROR(IF(((((DataInput!Q99-AE99)+(DataInput!Q100-AE100))/2)*(A100-A99))/27>0,ROUNDDOWN(((((DataInput!Q99-AE99)+(DataInput!Q100-AE100))/2)*(A100-A99))/27,0),0),0)","v":70},{"$f":"DataInput!U100","v":51.8},{"$f":"DataInput!S100","v":37},37,0]
[{"$f":"IF(DataInput!A101<>\"\",DataInput!A101,\"\")","v":49900},{"$f":"SUM(DataInput!C101,DataInput!X101)+(DataInput!U101-DataInput!E101)","v":120.8},{"$f":"SUM(DataInput!D101,DataInput!Y101)","v":110},{"$f":"DataInput!U101","v":37.799999999999997},{"$f":"SUM(DataInput!F101,DataInput!AA101)","v":0},{"$f":"SUM(DataInput!G101,DataInput!AB101)","v":0},{"$f":"SUM(DataInput!H101,DataInput!AC101)","v":0},{"$f":"DataInput!W101","v":48},{"$f":"SUM(DataInput!J101,DataInput!AD101)","v":0},{"$f":"SUM(DataInput!K101,DataInput!AE101)","v":0},{"$f":"SUM(DataInput!L101,DataInput!AF101)","v":0},{"$f":"SUM(DataInput!M101,DataInput!AG101)","v":0},{"$f":"SUM(DataInput!N101,DataInput!AH101)","v":0},{"$f":"SUM(DataInput!O101,DataInput!AI101)","v":0},{"$f":"DataInput!P101","v":0},null,null,110,85,{"$f":"DataInput!R101","v":46},{"$f":"DataInput!X101","v":0},{"$f":"IF(DataInput!U101-DataInput!E101>0,DataInput!U101-DataInput!E101,\"\")","v":10.799999999999997},{"$f":"IF(DataInput!W101-DataInput!I101>0,DataInput!W101-DataInput!I101,\"\")","v":48},null,null,104.8,-19.799999999999997,0,0,{"$f":"IF(AC101>0,IFERROR(IF(AVERAGE(DataInput!Q100:Q101)>AVERAGE(AC101,AC100),ROUNDDOWN(((((AC100-AB100)+(AC101-AB101))/2)*(A101-A100))/27,0),IF(((((DataInput!Q101-AB101)+(DataInput!Q100-AB100))/2)*(A101-A100))/27>0,ROUNDDOWN(((((DataInput!Q101-AB100)+(DataInput!Q100-AB100))/2)*(A101-A100))/27,0),0)),0),0)","v":0},0,{"$f":"IFERROR(IF(((((DataInput!Q100-AE100)+(DataInput!Q101-AE101))/2)*(A101-A100))/27>0,ROUNDDOWN(((((DataInput!Q100-AE100)+(DataInput!Q101-AE101))/2)*(A101-A100))/27,0),0),0)","v":45},{"$f":"DataInput!U101","v":37.799999999999997},{"$f":"DataInput!S101","v":27},27,0]
[{"$f":"IF(DataInput!A102<>\"\",DataInput!A102,\"\")","v":49923.51},{"$f":"SUM(DataInput!C102,DataInput!X102)+(DataInput!U102-DataInput!E102)","v":7.4},{"$f":"SUM(DataInput!D102,DataInput!Y102)","v":7},{"$f":"DataInput!U102","v":1.4},{"$f":"SUM(DataInput!F102,DataInput!AA102)","v":0},{"$f":"SUM(DataInput!G102,DataInput!AB102)","v":0},{"$f":"SUM(DataInput!H102,DataInput!AC102)","v":0},{"$f":"DataInput!W102","v":3},{"$f":"SUM(DataInput!J102,DataInput!AD102)","v":0},{"$f":"SUM(DataInput!K102,DataInput!AE102)","v":0},{"$f":"SUM(DataInput!L102,DataInput!AF102)","v":0},{"$f":"SUM(DataInput!M102,DataInput!AG102)","v":0},{"$f":"SUM(DataInput!N102,DataInput!AH102)","v":0},{"$f":"SUM(DataInput!O102,DataInput!AI102)","v":0},{"$f":"DataInput!P102","v":0},null,null,7,5,{"$f":"DataInput!R102","v":2},{"$f":"DataInput!X102","v":0},{"$f":"IF(DataInput!U102-DataInput!E102>0,DataInput!U102-DataInput!E102,\"\")","v":0.39999999999999991},{"$f":"IF(DataInput!W102-DataInput!I102>0,DataInput!W102-DataInput!I102,\"\")","v":3},null,null,5.4,-0.40000000000000036,0,0,{"$f":"IF(AC102>0,IFERROR(IF(AVERAGE(DataInput!Q101:Q102)>AVERAGE(AC102,AC101),ROUNDDOWN(((((AC101-AB101)+(AC102-AB102))/2)*(A102-A101))/27,0),IF(((((DataInput!Q102-AB102)+(DataInput!Q101-AB101))/2)*(A102-A101))/27>0,ROUNDDOWN(((((DataInput!Q102-AB101)+(DataInput!Q101-AB101))/2)*(A102-A101))/27,0),0)),0),0)","v":0},0,{"$f":"IFERROR(IF(((((DataInput!Q101-AE101)+(DataInput!Q102-AE102))/2)*(A102-A101))/27>0,ROUNDDOWN(((((DataInput!Q101-AE101)+(DataInput!Q102-AE102))/2)*(A102-A101))/27,0),0),0)","v":21},{"$f":"DataInput!U102","v":1.4},{"$f":"DataInput!S102","v":1},1,0]
[{"$f":"IF(DataInput!A103<>\"\",DataInput!A103,\"\")","v":49925},{"$f":"SUM(DataInput!C103,DataInput!X103)+(DataInput!U103-DataInput!E103)","v":124.6},{"$f":"SUM(DataInput!D103,DataInput!Y103)","v":117},{"$f":"DataInput!U103","v":26.599999999999998},{"$f":"SUM(DataInput!F103,DataInput!AA103)","v":0},{"$f":"SUM(DataInput!G103,DataInput!AB103)","v":0},{"$f":"SUM(DataInput!H103,DataInput!AC103)","v":0},{"$f":"DataInput!W103","v":56},{"$f":"SUM(DataInput!J103,DataInput!AD103)","v":0},{"$f":"SUM(DataInput!K103,DataInput!AE103)","v":0},{"$f":"SUM(DataInput!L103,DataInput!AF103)","v":0},{"$f":"SUM(DataInput!M103,DataInput!AG103)","v":0},{"$f":"SUM(DataInput!N103,DataInput!AH103)","v":0},{"$f":"SUM(DataInput!O103,DataInput!AI103)","v":0},{"$f":"DataInput!P103","v":0},null,null,117,90,{"$f":"DataInput!R103","v":23},{"$f":"DataInput!X103","v":0},{"$f":"IF(DataInput!U103-DataInput!E103>0,DataInput!U103-DataInput!E103,\"\")","v":7.5999999999999979},{"$f":"IF(DataInput!W103-DataInput!I103>0,DataInput!W103-DataInput!I103,\"\")","v":56},null,null,86.6,3.4000000000000057,0,0,{"$f":"IF(AC103>0,IFERROR(IF(AVERAGE(DataInput!Q102:Q103)>AVERAGE(AC103,AC102),ROUNDDOWN(((((AC102-AB102)+(AC103-AB103))/2)*(A103-A102))/27,0),IF(((((DataInput!Q103-AB103)+(DataInput!Q102-AB102))/2)*(A103-A102))/27>0,ROUNDDOWN(((((DataInput!Q103-AB102)+(DataInput!Q102-AB102))/2)*(A103-A102))/27,0),0)),0),0)","v":0},0,{"$f":"IFERROR(IF(((((DataInput!Q102-AE102)+(DataInput!Q103-AE103))/2)*(A103-A102))/27>0,ROUNDDOWN(((((DataInput!Q102-AE102)+(DataInput!Q103-AE103))/2)*(A103-A102))/27,0),0),0)","v":1},{"$f":"DataInput!U103","v":26.599999999999998},{"$f":"DataInput!S103","v":19},19,0]
[{"$f":"IF(DataInput!A104<>\"\",DataInput!A104,\"\")","v":49950},{"$f":"SUM(DataInput!C104,DataInput!X104)+(DataInput!U104-DataInput!E104)","v":104.2},{"$f":"SUM(DataInput!D104,DataInput!Y104)","v":97},{"$f":"DataInput!U104","v":25.2},{"$f":"SUM(DataInput!F104,DataInput!AA104)","v":0},{"$f":"SUM(DataInput!G104,DataInput!AB104)","v":0},{"$f":"SUM(DataInput!H104,DataInput!AC104)","v":0},{"$f":"DataInput!W104","v":67},{"$f":"SUM(DataInput!J104,DataInput!AD104)","v":0},{"$f":"SUM(DataInput!K104,DataInput!AE104)","v":0},{"$f":"SUM(DataInput!L104,DataInput!AF104)","v":0},{"$f":"SUM(DataInput!M104,DataInput!AG104)","v":0},{"$f":"SUM(DataInput!N104,DataInput!AH104)","v":0},{"$f":"SUM(DataInput!O104,DataInput!AI104)","v":0},{"$f":"DataInput!P104","v":0},null,null,97,75,{"$f":"DataInput!R104","v":18},{"$f":"DataInput!X104","v":0},{"$f":"IF(DataInput!U104-DataInput!E104>0,DataInput!U104-DataInput!E104,\"\")","v":7.1999999999999993},{"$f":"IF(DataInput!W104-DataInput!I104>0,DataInput!W104-DataInput!I104,\"\")","v":67},null,null,92.2,-17.200000000000003,0,0,{"$f":"IF(AC104>0,IFERROR(IF(AVERAGE(DataInput!Q103:Q104)>AVERAGE(AC104,AC103),ROUNDDOWN(((((AC103-AB103)+(AC104-AB104))/2)*(A104-A103))/27,0),IF(((((DataInput!Q104-AB104)+(DataInput!Q103-AB103))/2)*(A104-A103))/27>0,ROUNDDOWN(((((DataInput!Q104-AB103)+(DataInput!Q103-AB103))/2)*(A104-A103))/27,0),0)),0),0)","v":0},0,{"$f":"IFERROR(IF(((((DataInput!Q103-AE103)+(DataInput!Q104-AE104))/2)*(A104-A103))/27>0,ROUNDDOWN(((((DataInput!Q103-AE103)+(DataInput!Q104-AE104))/2)*(A104-A103))/27,0),0),0)","v":13},{"$f":"DataInput!U104","v":25.2},{"$f":"DataInput!S104","v":18},18,0]
[{"$f":"IF(DataInput!A105<>\"\",DataInput!A105,\"\")","v":49975},{"$f":"SUM(DataInput!C105,DataInput!X105)+(DataInput!U105-DataInput!E105)","v":106.2},{"$f":"SUM(DataInput!D105,DataInput!Y105)","v":99},{"$f":"DataInput!U105","v":25.2},{"$f":"SUM(DataInput!F105,DataInput!AA105)","v":0},{"$f":"SUM(DataInput!G105,DataInput!AB105)","v":0},{"$f":"SUM(DataInput!H105,DataInput!AC105)","v":0},{"$f":"DataInput!W105","v":87},{"$f":"SUM(DataInput!J105,DataInput!AD105)","v":0},{"$f":"SUM(DataInput!K105,DataInput!AE105)","v":0},{"$f":"SUM(DataInput!L105,DataInput!AF105)","v":0},{"$f":"SUM(DataInput!M105,DataInput!AG105)","v":0},{"$f":"SUM(DataInput!N105,DataInput!AH105)","v":0},{"$f":"SUM(DataInput!O105,DataInput!AI105)","v":0},{"$f":"DataInput!P105","v":0},null,null,99,76,{"$f":"DataInput!R105","v":17},{"$f":"DataInput!X105","v":0},{"$f":"IF(DataInput!U105-DataInput!E105>0,DataInput!U105-DataInput!E105,\"\")","v":7.1999999999999993},{"$f":"IF(DataInput!W105-DataInput!I105>0,DataInput!W105-DataInput!I105,\"\")","v":87},null,null,111.2,-35.200000000000003,0,0,{"$f":"IF(AC105>0,IFERROR(IF(AVERAGE(DataInput!Q104:Q105)>AVERAGE(AC105,AC104),ROUNDDOWN(((((AC104-AB104)+(AC105-AB105))/2)*(A105-A104))/27,0),IF(((((DataInput!Q105-AB105)+(DataInput!Q104-AB104))/2)*(A105-A104))/27>0,ROUNDDOWN(((((DataInput!Q105-AB104)+(DataInput!Q104-AB104))/2)*(A105-A104))/27,0),0)),0),0)","v":0},0,{"$f":"IFERROR(IF(((((DataInput!Q104-AE104)+(DataInput!Q105-AE105))/2)*(A105-A104))/27>0,ROUNDDOWN(((((DataInput!Q104-AE104)+(DataInput!Q105-AE105))/2)*(A105-A104))/27,0),0),0)","v":12},{"$f":"DataInput!U105","v":25.2},{"$f":"DataInput!S105","v":18},18,0]
[{"$f":"IF(DataInput!A106<>\"\",DataInput!A106,\"\")","v":50000},{"$f":"SUM(DataInput!C106,DataInput!X106)+(DataInput!U106-DataInput!E106)","v":141.19999999999999},{"$f":"SUM(DataInput!D106,DataInput!Y106)","v":132},{"$f":"DataInput!U106","v":32.199999999999996},{"$f":"SUM(DataInput!F106,DataInput!AA106)","v":0},{"$f":"SUM(DataInput!G106,DataInput!AB106)","v":0},{"$f":"SUM(DataInput!H106,DataInput!AC106)","v":0},{"$f":"DataInput!W106","v":124},{"$f":"SUM(DataInput!J106,DataInput!AD106)","v":0},{"$f":"SUM(DataInput!K106,DataInput!AE106)","v":0},{"$f":"SUM(DataInput!L106,DataInput!AF106)","v":0},{"$f":"SUM(DataInput!M106,DataInput!AG106)","v":0},{"$f":"SUM(DataInput!N106,DataInput!AH106)","v":0},{"$f":"SUM(DataInput!O106,DataInput!AI106)","v":0},{"$f":"DataInput!P106","v":0},null,null,132,102,{"$f":"DataInput!R106","v":16},{"$f":"DataInput!X106","v":0},{"$f":"IF(DataInput!U106-DataInput!E106>0,DataInput!U106-DataInput!E106,\"\")","v":9.1999999999999957},{"$f":"IF(DataInput!W106-DataInput!I106>0,DataInput!W106-DataInput!I106,\"\")","v":124},null,null,149.19999999999999,-47.199999999999989,0,0,{"$f":"IF(AC106>0,IFERROR(IF(AVERAGE(DataInput!Q105:Q106)>AVERAGE(AC106,AC105),ROUNDDOWN(((((AC105-AB105)+(AC106-AB106))/2)*(A106-A105))/27,0),IF(((((DataInput!Q106-AB106)+(DataInput!Q105-AB105))/2)*(A106-A105))/27>0,ROUNDDOWN(((((DataInput!Q106-AB105)+(DataInput!Q105-AB105))/2)*(A106-A105))/27,0),0)),0),0)","v":0},0,{"$f":"IFERROR(IF(((((DataInput!Q105-AE105)+(DataInput!Q106-AE106))/2)*(A106-A105))/27>0,ROUNDDOWN(((((DataInput!Q105-AE105)+(DataInput!Q106-AE106))/2)*(A106-A105))/27,0),0),0)","v":11},{"$f":"DataInput!U106","v":32.199999999999996},{"$f":"DataInput!S106","v":23},23,0]
[{"$f":"IF(DataInput!A107<>\"\",DataInput!A107,\"\")","v":50025},{"$f":"SUM(DataInput!C107,DataInput!X107)+(DataInput!U107-DataInput!E107)","v":156.80000000000001},{"$f":"SUM(DataInput!D107,DataInput!Y107)","v":146},{"$f":"DataInput!U107","v":37.799999999999997},{"$f":"SUM(DataInput!F107,DataInput!AA107)","v":0},{"$f":"SUM(DataInput!G107,DataInput!AB107)","v":0},{"$f":"SUM(DataInput!H107,DataInput!AC107)","v":0},{"$f":"DataInput!W107","v":141},{"$f":"SUM(DataInput!J107,DataInput!AD107)","v":0},{"$f":"SUM(DataInput!K107,DataInput!AE107)","v":0},{"$f":"SUM(DataInput!L107,DataInput!AF107)","v":0},{"$f":"SUM(DataInput!M107,DataInput!AG107)","v":0},{"$f":"SUM(DataInput!N107,DataInput!AH107)","v":0},{"$f":"SUM(DataInput!O107,DataInput!AI107)","v":0},{"$f":"DataInput!P107","v":0},null,null,146,112,{"$f":"DataInput!R107","v":18},{"$f":"DataInput!X107","v":0},{"$f":"IF(DataInput!U107-DataInput!E107>0,DataInput!U107-DataInput!E107,\"\")","v":10.799999999999997},{"$f":"IF(DataInput!W107-DataInput!I107>0,DataInput!W107-DataInput!I107,\"\")","v":141},null,null,169.8,-57.800000000000011,0,0,{"$f":"IF(AC107>0,IFERROR(IF(AVERAGE(DataInput!Q106:Q107)>AVERAGE(AC107,AC106),ROUNDDOWN(((((AC106-AB106)+(AC107-AB107))/2)*(A107-A106))/27,0),IF(((((DataInput!Q107-AB107)+(DataInput!Q106-AB106))/2)*(A107-A106))/27>0,ROUNDDOWN(((((DataInput!Q107-AB106)+(DataInput!Q106-AB106))/2)*(A107-A106))/27,0),0)),0),0)","v":0},0,{"$f":"IFERROR(IF(((((DataInput!Q106-AE106)+(DataInput!Q107-AE107))/2)*(A107-A106))/27>0,ROUNDDOWN(((((DataInput!Q106-AE106)+(DataInput!Q107-AE107))/2)*(A107-A106))/27,0),0),0)","v":13},{"$f":"DataInput!U107","v":37.799999999999997},{"$f":"DataInput!S107","v":27},27,0]
[{"$f":"IF(DataInput!A108<>\"\",DataInput!A108,\"\")","v":50050},{"$f":"SUM(DataInput!C108,DataInput!X108)+(DataInput!U108-DataInput!E108)","v":152.4},{"$f":"SUM(DataInput!D108,DataInput!Y108)","v":142},{"$f":"DataInput!U108","v":36.4},{"$f":"SUM(DataInput!F108,DataInput!AA108)","v":0},{"$f":"SUM(DataInput!G108,DataInput!AB108)","v":0},{"$f":"SUM(DataInput!H108,DataInput!AC108)","v":0},{"$f":"DataInput!W108","v":102},{"$f":"SUM(DataInput!J108,DataInput!AD108)","v":0},{"$f":"SUM(DataInput!K108,DataInput!AE108)","v":0},{"$f":"SUM(DataInput!L108,DataInput!AF108)","v":0},{"$f":"SUM(DataInput!M108,DataInput!AG108)","v":0},{"$f":"SUM(DataInput!N108,DataInput!AH108)","v":0},{"$f":"SUM(DataInput!O108,DataInput!AI108)","v":0},{"$f":"DataInput!P108","v":0},null,null,142,109,{"$f":"DataInput!R108","v":19},{"$f":"DataInput!X108","v":0},{"$f":"IF(DataInput!U108-DataInput!E108>0,DataInput!U108-DataInput!E108,\"\")","v":10.399999999999999},{"$f":"IF(DataInput!W108-DataInput!I108>0,DataInput!W108-DataInput!I108,\"\")","v":102},null,null,131.4,-22.400000000000006,0,0,{"$f":"IF(AC108>0,IFERROR(IF(AVERAGE(DataInput!Q107:Q108)>AVERAGE(AC108,AC107),ROUNDDOWN(((((AC107-AB107)+(AC108-AB108))/2)*(A108-A107))/27,0),IF(((((DataInput!Q108-AB108)+(DataInput!Q107-AB107))/2)*(A108-A107))/27>0,ROUNDDOWN(((((DataInput!Q108-AB107)+(DataInput!Q107-AB107))/2)*(A108-A107))/27,0),0)),0),0)","v":0},0,{"$f":"IFERROR(IF(((((DataInput!Q107-AE107)+(DataInput!Q108-AE108))/2)*(A108-A107))/27>0,ROUNDDOWN(((((DataInput!Q107-AE107)+(DataInput!Q108-AE108))/2)*(A108-A107))/27,0),0),0)","v":16},{"$f":"DataInput!U108","v":36.4},{"$f":"DataInput!S108","v":26},26,0]
[{"$f":"IF(DataInput!A109<>\"\",DataInput!A109,\"\")","v":50075},{"$f":"SUM(DataInput!C109,DataInput!X109)+(DataInput!U109-DataInput!E109)","v":134.19999999999999},{"$f":"SUM(DataInput!D109,DataInput!Y109)","v":125},{"$f":"DataInput!U109","v":32.199999999999996},{"$f":"SUM(DataInput!F109,DataInput!AA109)","v":0},{"$f":"SUM(DataInput!G109,DataInput!AB109)","v":0},{"$f":"SUM(DataInput!H109,DataInput!AC109)","v":0},{"$f":"DataInput!W109","v":63},{"$f":"SUM(DataInput!J109,DataInput!AD109)","v":0},{"$f":"SUM(DataInput!K109,DataInput!AE109)","v":0},{"$f":"SUM(DataInput!L109,DataInput!AF109)","v":0},{"$f":"SUM(DataInput!M109,DataInput!AG109)","v":0},{"$f":"SUM(DataInput!N109,DataInput!AH109)","v":0},{"$f":"SUM(DataInput!O109,DataInput!AI109)","v":0},{"$f":"DataInput!P109","v":0},null,null,125,96,{"$f":"DataInput!R109","v":20},{"$f":"DataInput!X109","v":0},{"$f":"IF(DataInput!U109-DataInput!E109>0,DataInput!U109-DataInput!E109,\"\")","v":9.1999999999999957},{"$f":"IF(DataInput!W109-DataInput!I109>0,DataInput!W109-DataInput!I109,\"\")","v":63},null,null,92.199999999999989,3.8000000000000114,0,0,{"$f":"IF(AC109>0,IFERROR(IF(AVERAGE(DataInput!Q108:Q109)>AVERAGE(AC109,AC108),ROUNDDOWN(((((AC108-AB108)+(AC109-AB109))/2)*(A109-A108))/27,0),IF(((((DataInput!Q109-AB109)+(DataInput!Q108-AB108))/2)*(A109-A108))/27>0,ROUNDDOWN(((((DataInput!Q109-AB108)+(DataInput!Q108-AB108))/2)*(A109-A108))/27,0),0)),0),0)","v":0},0,{"$f":"IFERROR(IF(((((DataInput!Q108-AE108)+(DataInput!Q109-AE109))/2)*(A109-A108))/27>0,ROUNDDOWN(((((DataInput!Q108-AE108)+(DataInput!Q109-AE109))/2)*(A109-A108))/27,0),0),0)","v":18},{"$f":"DataInput!U109","v":32.199999999999996},{"$f":"DataInput!S109","v":23},23,0]
[{"$f":"IF(DataInput!A110<>\"\",DataInput!A110,\"\")","v":50100},{"$f":"SUM(DataInput!C110,DataInput!X110)+(DataInput!U110-DataInput!E110)","v":120.6},{"$f":"SUM(DataInput!D110,DataInput!Y110)","v":113},{"$f":"DataInput!U110","v":26.599999999999998},{"$f":"SUM(DataInput!F110,DataInput!AA110)","v":0},{"$f":"SUM(DataInput!G110,DataInput!AB110)","v":0},{"$f":"SUM(DataInput!H110,DataInput!AC110)","v":0},{"$f":"DataInput!W110","v":56},{"$f":"SUM(DataInput!J110,DataInput!AD110)","v":0},{"$f":"SUM(DataInput!K110,DataInput!AE110)","v":0},{"$f":"SUM(DataInput!L110,DataInput!AF110)","v":0},{"$f":"SUM(DataInput!M110,DataInput!AG110)","v":0},{"$f":"SUM(DataInput!N110,DataInput!AH110)","v":0},{"$f":"SUM(DataInput!O110,DataInput!AI110)","v":0},{"$f":"DataInput!P110","v":0},null,null,113,87,{"$f":"DataInput!R110","v":20},{"$f":"DataInput!X110","v":0},{"$f":"IF(DataInput!U110-DataInput!E110>0,DataInput!U110-DataInput!E110,\"\")","v":7.5999999999999979},{"$f":"IF(DataInput!W110-DataInput!I110>0,DataInput!W110-DataInput!I110,\"\")","v":56},null,null,83.6,3.4000000000000057,0,0,{"$f":"IF(AC110>0,IFERROR(IF(AVERAGE(DataInput!Q109:Q110)>AVERAGE(AC110,AC109),ROUNDDOWN(((((AC109-AB109)+(AC110-AB110))/2)*(A110-A109))/27,0),IF(((((DataInput!Q110-AB110)+(DataInput!Q109-AB109))/2)*(A110-A109))/27>0,ROUNDDOWN(((((DataInput!Q110-AB109)+(DataInput!Q109-AB109))/2)*(A110-A109))/27,0),0)),0),0)","v":0},0,{"$f":"IFERROR(IF(((((DataInput!Q109-AE109)+(DataInput!Q110-AE110))/2)*(A110-A109))/27>0,ROUNDDOWN(((((DataInput!Q109-AE109)+(DataInput!Q110-AE110))/2)*(A110-A109))/27,0),0),0)","v":16},{"$f":"DataInput!U110","v":26.599999999999998},{"$f":"DataInput!S110","v":19},19,0]
[{"$f":"IF(DataInput!A111<>\"\",DataInput!A111,\"\")","v":50125},{"$f":"SUM(DataInput!C111,DataInput!X111)+(DataInput!U111-DataInput!E111)","v":115.6},{"$f":"SUM(DataInput!D111,DataInput!Y111)","v":110},{"$f":"DataInput!U111","v":19.599999999999998},{"$f":"SUM(DataInput!F111,DataInput!AA111)","v":0},{"$f":"SUM(DataInput!G111,DataInput!AB111)","v":0},{"$f":"SUM(DataInput!H111,DataInput!AC111)","v":0},{"$f":"DataInput!W111","v":53},{"$f":"SUM(DataInput!J111,DataInput!AD111)","v":0},{"$f":"SUM(DataInput!K111,DataInput!AE111)","v":0},{"$f":"SUM(DataInput!L111,DataInput!AF111)","v":0},{"$f":"SUM(DataInput!M111,DataInput!AG111)","v":0},{"$f":"SUM(DataInput!N111,DataInput!AH111)","v":0},{"$f":"SUM(DataInput!O111,DataInput!AI111)","v":0},{"$f":"DataInput!P111","v":0},null,null,110,85,{"$f":"DataInput!R111","v":12},{"$f":"DataInput!X111","v":0},{"$f":"IF(DataInput!U111-DataInput!E111>0,DataInput!U111-DataInput!E111,\"\")","v":5.5999999999999979},{"$f":"IF(DataInput!W111-DataInput!I111>0,DataInput!W111-DataInput!I111,\"\")","v":53},null,null,70.599999999999994,14.400000000000006,0,0,{"$f":"IF(AC111>0,IFERROR(IF(AVERAGE(DataInput!Q110:Q111)>AVERAGE(AC111,AC110),ROUNDDOWN(((((AC110-AB110)+(AC111-AB111))/2)*(A111-A110))/27,0),IF(((((DataInput!Q111-AB111)+(DataInput!Q110-AB110))/2)*(A111-A110))/27>0,ROUNDDOWN(((((DataInput!Q111-AB110)+(DataInput!Q110-AB110))/2)*(A111-A110))/27,0),0)),0),0)","v":0},0,{"$f":"IFERROR(IF(((((DataInput!Q110-AE110)+(DataInput!Q111-AE111))/2)*(A111-A110))/27>0,ROUNDDOWN(((((DataInput!Q110-AE110)+(DataInput!Q111-AE111))/2)*(A111-A110))/27,0),0),0)","v":7},{"$f":"DataInput!U111","v":19.599999999999998},{"$f":"DataInput!S111","v":14},14,0]
[{"$f":"IF(DataInput!A112<>\"\",DataInput!A112,\"\")","v":50150},{"$f":"SUM(DataInput!C112,DataInput!X112)+(DataInput!U112-DataInput!E112)","v":15.8},{"$f":"SUM(DataInput!D112,DataInput!Y112)","v":15},{"$f":"DataInput!U112","v":2.8},{"$f":"SUM(DataInput!F112,DataInput!AA112)","v":0},{"$f":"SUM(DataInput!G112,DataInput!AB112)","v":0},{"$f":"SUM(DataInput!H112,DataInput!AC112)","v":0},{"$f":"DataInput!W112","v":7},{"$f":"SUM(DataInput!J112,DataInput!AD112)","v":0},{"$f":"SUM(DataInput!K112,DataInput!AE112)","v":0},{"$f":"SUM(DataInput!L112,DataInput!AF112)","v":0},{"$f":"SUM(DataInput!M112,DataInput!AG112)","v":0},{"$f":"SUM(DataInput!N112,DataInput!AH112)","v":0},{"$f":"SUM(DataInput!O112,DataInput!AI112)","v":0},{"$f":"DataInput!P112","v":0},null,null,15,12,{"$f":"DataInput!R112","v":1},{"$f":"DataInput!X112","v":0},{"$f":"IF(DataInput!U112-DataInput!E112>0,DataInput!U112-DataInput!E112,\"\")","v":0.79999999999999982},{"$f":"IF(DataInput!W112-DataInput!I112>0,DataInput!W112-DataInput!I112,\"\")","v":7},null,null,8.8000000000000007,3.1999999999999993,0,0,{"$f":"IF(AC112>0,IFERROR(IF(AVERAGE(DataInput!Q111:Q112)>AVERAGE(AC112,AC111),ROUNDDOWN(((((AC111-AB111)+(AC112-AB112))/2)*(A112-A111))/27,0),IF(((((DataInput!Q112-AB112)+(DataInput!Q111-AB111))/2)*(A112-A111))/27>0,ROUNDDOWN(((((DataInput!Q112-AB111)+(DataInput!Q111-AB111))/2)*(A112-A111))/27,0),0)),0),0)","v":0},0,{"$f":"IFERROR(IF(((((DataInput!Q111-AE111)+(DataInput!Q112-AE112))/2)*(A112-A111))/27>0,ROUNDDOWN(((((DataInput!Q111-AE111)+(DataInput!Q112-AE112))/2)*(A112-A111))/27,0),0),0)","v":2},{"$f":"DataInput!U112","v":2.8},{"$f":"DataInput!S112","v":2},2,0]
[{"$f":"IF(DataInput!A113<>\"\",DataInput!A113,\"\")","v":50153.51},{"$f":"SUM(DataInput!C113,DataInput!X113)+(DataInput!U113-DataInput!E113)","v":0},{"$f":"SUM(DataInput!D113,DataInput!Y113)","v":0},{"$f":"DataInput!U113","v":0},{"$f":"SUM(DataInput!F113,DataInput!AA113)","v":0},{"$f":"SUM(DataInput!G113,DataInput!AB113)","v":0},{"$f":"SUM(DataInput!H113,DataInput!AC113)","v":0},{"$f":"DataInput!W113","v":0},{"$f":"SUM(DataInput!J113,DataInput!AD113)","v":0},{"$f":"SUM(DataInput!K113,DataInput!AE113)","v":0},{"$f":"SUM(DataInput!L113,DataInput!AF113)","v":0},{"$f":"SUM(DataInput!M113,DataInput!AG113)","v":0},{"$f":"SUM(DataInput!N113,DataInput!AH113)","v":0},{"$f":"SUM(DataInput!O113,DataInput!AI113)","v":0},{"$f":"DataInput!P113","v":0},null,null,0,0,{"$f":"DataInput!R113","v":0},{"$f":"DataInput!X113","v":0},{"$f":"IF(DataInput!U113-DataInput!E113>0,DataInput!U113-DataInput!E113,\"\")","v":""},{"$f":"IF(DataInput!W113-DataInput!I113>0,DataInput!W113-DataInput!I113,\"\")","v":""},null,null,0,0,0,0,{"$f":"IF(AC113>0,IFERROR(IF(AVERAGE(DataInput!Q112:Q113)>AVERAGE(AC113,AC112),ROUNDDOWN(((((AC112-AB112)+(AC113-AB113))/2)*(A113-A112))/27,0),IF(((((DataInput!Q113-AB113)+(DataInput!Q112-AB112))/2)*(A113-A112))/27>0,ROUNDDOWN(((((DataInput!Q113-AB112)+(DataInput!Q112-AB112))/2)*(A113-A112))/27,0),0)),0),0)","v":0},0,{"$f":"IFERROR(IF(((((DataInput!Q112-AE112)+(DataInput!Q113-AE113))/2)*(A113-A112))/27>0,ROUNDDOWN(((((DataInput!Q112-AE112)+(DataInput!Q113-AE113))/2)*(A113-A112))/27,0),0),0)","v":0},{"$f":"DataInput!U113","v":0},{"$f":"DataInput!S113","v":0},0,0]
[]
[{"$f":"IF(DataInput!A115<>\"\",DataInput!A115,\"\")","v":"SR022A"}]
[{"$f":"IF(DataInput!A116<>\"\",DataInput!A116,\"\")","v":100336.9},{"$f":"SUM(DataInput!C116,DataInput!X116)+(DataInput!U116-DataInput!E116)","v":56.4},{"$f":"SUM(DataInput!D116,DataInput!Y116)","v":54},{"$f":"DataInput!U116","v":8.3999999999999986},{"$f":"SUM(DataInput!F116,DataInput!AA116)","v":0},{"$f":"SUM(DataInput!G116,DataInput!AB116)","v":0},{"$f":"SUM(DataInput!H116,DataInput!AC116)","v":0},{"$f":"DataInput!W116","v":16},{"$f":"SUM(DataInput!J116,DataInput!AD116)","v":0},{"$f":"SUM(DataInput!K116,DataInput!AE116)","v":0},{"$f":"SUM(DataInput!L116,DataInput!AF116)","v":0},{"$f":"SUM(DataInput!M116,DataInput!AG116)","v":0},{"$f":"SUM(DataInput!N116,DataInput!AH116)","v":0},{"$f":"SUM(DataInput!O116,DataInput!AI116)","v":0},{"$f":"DataInput!P116","v":0},null,null,{"$f":"SUM(C116,E116:G116,I116:L116,N116:Q116)","v":54},{"$f":"IF(ISERROR(ROUND((R116/$S$5),0)),0,ROUND((R116/$S$5),0))","v":42},{"$f":"DataInput!R116","v":0},{"$f":"DataInput!X116","v":0},{"$f":"IF(DataInput!U116-DataInput!E116>0,DataInput!U116-DataInput!E116,\"\")","v":2.3999999999999986},{"$f":"IF(DataInput!W116-DataInput!I116>0,DataInput!W116-DataInput!I116,\"\")","v":16},null,null,{"$f":"SUM(T116:Y116)","v":18.399999999999999},{"$f":"SUM(S116-Z116)","v":23.6},null,null,0,null,0,{"$f":"DataInput!U116","v":8.3999999999999986},{"$f":"DataInput!S116","v":6},{"$f":"ROUNDUP(AG116/$AI$5,0)","v":6},{"$f":"AI116-AH116","v":0}]
[{"$f":"IF(DataInput!A117<>\"\",DataInput!A117,\"\")","v":100350},{"$f":"SUM(DataInput!C117,DataInput!X117)+(DataInput!U117-DataInput!E117)","v":117.4},{"$f":"SUM(DataInput!D117,DataInput!Y117)","v":111},{"$f":"DataInput!U117","v":22.4},{"$f":"SUM(DataInput!F117,DataInput!AA117)","v":0},{"$f":"SUM(DataInput!G117,DataInput!AB117)","v":0},{"$f":"SUM(DataInput!H117,DataInput!AC117)","v":0},{"$f":"DataInput!W117","v":31},{"$f":"SUM(DataInput!J117,DataInput!AD117)","v":0},{"$f":"SUM(DataInput!K117,DataInput!AE117)","v":0},{"$f":"SUM(DataInput!L117,DataInput!AF117)","v":0},{"$f":"SUM(DataInput!M117,DataInput!AG117)","v":0},{"$f":"SUM(DataInput!N117,DataInput!AH117)","v":0},{"$f":"SUM(DataInput!O117,DataInput!AI117)","v":0},{"$f":"DataInput!P117","v":0},null,null,{"$f":"SUM(C117,E117:G117,I117:L117,N117:Q117)","v":111},{"$f":"IF(ISERROR(ROUND((R117/$S$5),0)),0,ROUND((R117/$S$5),0))","v":85},{"$f":"DataInput!R117","v":0},{"$f":"DataInput!X117","v":0},{"$f":"IF(DataInput!U117-DataInput!E117>0,DataInput!U117-DataInput!E117,\"\")","v":6.3999999999999986},{"$f":"IF(DataInput!W117-DataInput!I117>0,DataInput!W117-DataInput!I117,\"\")","v":31},null,null,{"$f":"SUM(T117:Y117)","v":37.4},{"$f":"SUM(S117-Z117)","v":47.6},{"$f":"AB116","v":0},{"$f":"AC116","v":0},{"$f":"IF(AC117>0,IFERROR(IF(AVERAGE(DataInput!Q116:Q117)>AVERAGE(AC117,AC116),ROUNDDOWN(((((AC116-AB116)+(AC117-AB117))/2)*(A117-A116))/27,0),IF(((((DataInput!Q117-AB117)+(DataInput!Q116-AB116))/2)*(A117-A116))/27>0,ROUNDDOWN(((((DataInput!Q117-AB116)+(DataInput!Q116-AB116))/2)*(A117-A116))/27,0),0)),0),0)","v":0},{"$f":"AE116","v":0},{"$f":"IFERROR(IF(((((DataInput!Q116-AE116)+(DataInput!Q117-AE117))/2)*(A117-A116))/27>0,ROUNDDOWN(((((DataInput!Q116-AE116)+(DataInput!Q117-AE117))/2)*(A117-A116))/27,0),0),0)","v":0},{"$f":"DataInput!U117","v":22.4},{"$f":"DataInput!S117","v":16},{"$f":"ROUNDUP(AG117/$AI$5,0)","v":16},{"$f":"AI117-AH117","v":0}]
[{"$f":"IF(DataInput!A118<>\"\",DataInput!A118,\"\")","v":100375},{"$f":"SUM(DataInput!C118,DataInput!X118)+(DataInput!U118-DataInput!E118)","v":124.8},{"$f":"SUM(DataInput!D118,DataInput!Y118)","v":118},{"$f":"DataInput!U118","v":23.799999999999997},{"$f":"SUM(DataInput!F118,DataInput!AA118)","v":0},{"$f":"SUM(DataInput!G118,DataInput!AB118)","v":0},{"$f":"SUM(DataInput!H118,DataInput!AC118)","v":0},{"$f":"DataInput!W118","v":32},{"$f":"SUM(DataInput!J118,DataInput!AD118)","v":0},{"$f":"SUM(DataInput!K118,DataInput!AE118)","v":0},{"$f":"SUM(DataInput!L118,DataInput!AF118)","v":0},{"$f":"SUM(DataInput!M118,DataInput!AG118)","v":0},{"$f":"SUM(DataInput!N118,DataInput!AH118)","v":0},{"$f":"SUM(DataInput!O118,DataInput!AI118)","v":0},{"$f":"DataInput!P118","v":0},null,null,118,91,{"$f":"DataInput!R118","v":0},{"$f":"DataInput!X118","v":0},{"$f":"IF(DataInput!U118-DataInput!E118>0,DataInput!U118-DataInput!E118,\"\")","v":6.7999999999999972},{"$f":"IF(DataInput!W118-DataInput!I118>0,DataInput!W118-DataInput!I118,\"\")","v":32},null,null,38.799999999999997,52.2,{"$f":"AB117","v":0},{"$f":"AC117","v":0},{"$f":"IF(AC118>0,IFERROR(IF(AVERAGE(DataInput!Q117:Q118)>AVERAGE(AC118,AC117),ROUNDDOWN(((((AC117-AB117)+(AC118-AB118))/2)*(A118-A117))/27,0),IF(((((DataInput!Q118-AB118)+(DataInput!Q117-AB117))/2)*(A118-A117))/27>0,ROUNDDOWN(((((DataInput!Q118-AB117)+(DataInput!Q117-AB117))/2)*(A118-A117))/27,0),0)),0),0)","v":0},{"$f":"AE117","v":0},{"$f":"IFERROR(IF(((((DataInput!Q117-AE117)+(DataInput!Q118-AE118))/2)*(A118-A117))/27>0,ROUNDDOWN(((((DataInput!Q117-AE117)+(DataInput!Q118-AE118))/2)*(A118-A117))/27,0),0),0)","v":0},{"$f":"DataInput!U118","v":23.799999999999997},{"$f":"DataInput!S118","v":17},17,0]
[{"$f":"IF(DataInput!A119<>\"\",DataInput!A119,\"\")","v":100400},{"$f":"SUM(DataInput!C119,DataInput!X119)+(DataInput!U119-DataInput!E119)","v":128.80000000000001},{"$f":"SUM(DataInput!D119,DataInput!Y119)","v":122},{"$f":"DataInput!U119","v":23.799999999999997},{"$f":"SUM(DataInput!F119,DataInput!AA119)","v":0},{"$f":"SUM(DataInput!G119,DataInput!AB119)","v":0},{"$f":"SUM(DataInput!H119,DataInput!AC119)","v":0},{"$f":"DataInput!W119","v":34},{"$f":"SUM(DataInput!J119,DataInput!AD119)","v":0},{"$f":"SUM(DataInput!K119,DataInput!AE119)","v":0},{"$f":"SUM(DataInput!L119,DataInput!AF119)","v":0},{"$f":"SUM(DataInput!M119,DataInput!AG119)","v":0},{"$f":"SUM(DataInput!N119,DataInput!AH119)","v":0},{"$f":"SUM(DataInput!O119,DataInput!AI119)","v":0},{"$f":"DataInput!P119","v":0},null,null,122,94,{"$f":"DataInput!R119","v":0},{"$f":"DataInput!X119","v":0},{"$f":"IF(DataInput!U119-DataInput!E119>0,DataInput!U119-DataInput!E119,\"\")","v":6.7999999999999972},{"$f":"IF(DataInput!W119-DataInput!I119>0,DataInput!W119-DataInput!I119,\"\")","v":34},null,null,40.799999999999997,53.2,0,0,{"$f":"IF(AC119>0,IFERROR(IF(AVERAGE(DataInput!Q118:Q119)>AVERAGE(AC119,AC118),ROUNDDOWN(((((AC118-AB118)+(AC119-AB119))/2)*(A119-A118))/27,0),IF(((((DataInput!Q119-AB119)+(DataInput!Q118-AB118))/2)*(A119-A118))/27>0,ROUNDDOWN(((((DataInput!Q119-AB118)+(DataInput!Q118-AB118))/2)*(A119-A118))/27,0),0)),0),0)","v":0},0,{"$f":"IFERROR(IF(((((DataInput!Q118-AE118)+(DataInput!Q119-AE119))/2)*(A119-A118))/27>0,ROUNDDOWN(((((DataInput!Q118-AE118)+(DataInput!Q119-AE119))/2)*(A119-A118))/27,0),0),0)","v":0},{"$f":"DataInput!U119","v":23.799999999999997},{"$f":"DataInput!S119","v":17},17,0]
[{"$f":"IF(DataInput!A120<>\"\",DataInput!A120,\"\")","v":100425},{"$f":"SUM(DataInput!C120,DataInput!X120)+(DataInput!U120-DataInput!E120)","v":138},{"$f":"SUM(DataInput!D120,DataInput!Y120)","v":130},{"$f":"DataInput!U120","v":28},{"$f":"SUM(DataInput!F120,DataInput!AA120)","v":0},{"$f":"SUM(DataInput!G120,DataInput!AB120)","v":0},{"$f":"SUM(DataInput!H120,DataInput!AC120)","v":0},{"$f":"DataInput!W120","v":36},{"$f":"SUM(DataInput!J120,DataInput!AD120)","v":0},{"$f":"SUM(DataInput!K120,DataInput!AE120)","v":0},{"$f":"SUM(DataInput!L120,DataInput!AF120)","v":0},{"$f":"SUM(DataInput!M120,DataInput!AG120)","v":0},{"$f":"SUM(DataInput!N120,DataInput!AH120)","v":0},{"$f":"SUM(DataInput!O120,DataInput!AI120)","v":0},{"$f":"DataInput!P120","v":0},null,null,130,100,{"$f":"DataInput!R120","v":0},{"$f":"DataInput!X120","v":0},{"$f":"IF(DataInput!U120-DataInput!E120>0,DataInput!U120-DataInput!E120,\"\")","v":8},{"$f":"IF(DataInput!W120-DataInput!I120>0,DataInput!W120-DataInput!I120,\"\")","v":36},null,null,44,56,0,0,{"$f":"IF(AC120>0,IFERROR(IF(AVERAGE(DataInput!Q119:Q120)>AVERAGE(AC120,AC119),ROUNDDOWN(((((AC119-AB119)+(AC120-AB120))/2)*(A120-A119))/27,0),IF(((((DataInput!Q120-AB120)+(DataInput!Q119-AB119))/2)*(A120-A119))/27>0,ROUNDDOWN(((((DataInput!Q120-AB119)+(DataInput!Q119-AB119))/2)*(A120-A119))/27,0),0)),0),0)","v":0},0,{"$f":"IFERROR(IF(((((DataInput!Q119-AE119)+(DataInput!Q120-AE120))/2)*(A120-A119))/27>0,ROUNDDOWN(((((DataInput!Q119-AE119)+(DataInput!Q120-AE120))/2)*(A120-A119))/27,0),0),0)","v":0},{"$f":"DataInput!U120","v":28},{"$f":"DataInput!S120","v":20},20,0]
[{"$f":"IF(DataInput!A121<>\"\",DataInput!A121,\"\")","v":100450},{"$f":"SUM(DataInput!C121,DataInput!X121)+(DataInput!U121-DataInput!E121)","v":148.19999999999999},{"$f":"SUM(DataInput!D121,DataInput!Y121)","v":139},{"$f":"DataInput!U121","v":32.199999999999996},{"$f":"SUM(DataInput!F121,DataInput!AA121)","v":0},{"$f":"SUM(DataInput!G121,DataInput!AB121)","v":0},{"$f":"SUM(DataInput!H121,DataInput!AC121)","v":0},{"$f":"DataInput!W121","v":37},{"$f":"SUM(DataInput!J121,DataInput!AD121)","v":0},{"$f":"SUM(DataInput!K121,DataInput!AE121)","v":0},{"$f":"SUM(DataInput!L121,DataInput!AF121)","v":0},{"$f":"SUM(DataInput!M121,DataInput!AG121)","v":0},{"$f":"SUM(DataInput!N121,DataInput!AH121)","v":0},{"$f":"SUM(DataInput!O121,DataInput!AI121)","v":0},{"$f":"DataInput!P121","v":0},null,null,139,107,{"$f":"DataInput!R121","v":1},{"$f":"DataInput!X121","v":0},{"$f":"IF(DataInput!U121-DataInput!E121>0,DataInput!U121-DataInput!E121,\"\")","v":9.1999999999999957},{"$f":"IF(DataInput!W121-DataInput!I121>0,DataInput!W121-DataInput!I121,\"\")","v":37},null,null,47.199999999999996,59.800000000000004,0,0,{"$f":"IF(AC121>0,IFERROR(IF(AVERAGE(DataInput!Q120:Q121)>AVERAGE(AC121,AC120),ROUNDDOWN(((((AC120-AB120)+(AC121-AB121))/2)*(A121-A120))/27,0),IF(((((DataInput!Q121-AB121)+(DataInput!Q120-AB120))/2)*(A121-A120))/27>0,ROUNDDOWN(((((DataInput!Q121-AB120)+(DataInput!Q120-AB120))/2)*(A121-A120))/27,0),0)),0),0)","v":0},0,{"$f":"IFERROR(IF(((((DataInput!Q120-AE120)+(DataInput!Q121-AE121))/2)*(A121-A120))/27>0,ROUNDDOWN(((((DataInput!Q120-AE120)+(DataInput!Q121-AE121))/2)*(A121-A120))/27,0),0),0)","v":1},{"$f":"DataInput!U121","v":32.199999999999996},{"$f":"DataInput!S121","v":23},23,0]
[{"$f":"IF(DataInput!A122<>\"\",DataInput!A122,\"\")","v":100475},{"$f":"SUM(DataInput!C122,DataInput!X122)+(DataInput!U122-DataInput!E122)","v":158.4},{"$f":"SUM(DataInput!D122,DataInput!Y122)","v":148},{"$f":"DataInput!U122","v":36.4},{"$f":"SUM(DataInput!F122,DataInput!AA122)","v":0},{"$f":"SUM(DataInput!G122,DataInput!AB122)","v":0},{"$f":"SUM(DataInput!H122,DataInput!AC122)","v":0},{"$f":"DataInput!W122","v":37},{"$f":"SUM(DataInput!J122,DataInput!AD122)","v":0},{"$f":"SUM(DataInput!K122,DataInput!AE122)","v":0},{"$f":"SUM(DataInput!L122,DataInput!AF122)","v":0},{"$f":"SUM(DataInput!M122,DataInput!AG122)","v":0},{"$f":"SUM(DataInput!N122,DataInput!AH122)","v":0},{"$f":"SUM(DataInput!O122,DataInput!AI122)","v":0},{"$f":"DataInput!P122","v":0},null,null,148,114,{"$f":"DataInput!R122","v":6},{"$f":"DataInput!X122","v":0},{"$f":"IF(DataInput!U122-DataInput!E122>0,DataInput!U122-DataInput!E122,\"\")","v":10.399999999999999},{"$f":"IF(DataInput!W122-DataInput!I122>0,DataInput!W122-DataInput!I122,\"\")","v":37},null,null,53.4,60.6,0,0,{"$f":"IF(AC122>0,IFERROR(IF(AVERAGE(DataInput!Q121:Q122)>AVERAGE(AC122,AC121),ROUNDDOWN(((((AC121-AB121)+(AC122-AB122))/2)*(A122-A121))/27,0),IF(((((DataInput!Q122-AB122)+(DataInput!Q121-AB121))/2)*(A122-A121))/27>0,ROUNDDOWN(((((DataInput!Q122-AB121)+(DataInput!Q121-AB121))/2)*(A122-A121))/27,0),0)),0),0)","v":0},0,{"$f":"IFERROR(IF(((((DataInput!Q121-AE121)+(DataInput!Q122-AE122))/2)*(A122-A121))/27>0,ROUNDDOWN(((((DataInput!Q121-AE121)+(DataInput!Q122-AE122))/2)*(A122-A121))/27,0),0),0)","v":5},{"$f":"DataInput!U122","v":36.4},{"$f":"DataInput!S122","v":26},26,0]
[{"$f":"IF(DataInput!A123<>\"\",DataInput!A123,\"\")","v":100500},{"$f":"SUM(DataInput!C123,DataInput!X123)+(DataInput!U123-DataInput!E123)","v":161.80000000000001},{"$f":"SUM(DataInput!D123,DataInput!Y123)","v":151},{"$f":"DataInput!U123","v":37.799999999999997},{"$f":"SUM(DataInput!F123,DataInput!AA123)","v":0},{"$f":"SUM(DataInput!G123,DataInput!AB123)","v":0},{"$f":"SUM(DataInput!H123,DataInput!AC123)","v":0},{"$f":"DataInput!W123","v":37},{"$f":"SUM(DataInput!J123,DataInput!AD123)","v":0},{"$f":"SUM(DataInput!K123,DataInput!AE123)","v":0},{"$f":"SUM(DataInput!L123,DataInput!AF123)","v":0},{"$f":"SUM(DataInput!M123,DataInput!AG123)","v":0},{"$f":"SUM(DataInput!N123,DataInput!AH123)","v":0},{"$f":"SUM(DataInput!O123,DataInput!AI123)","v":0},{"$f":"DataInput!P123","v":0},null,null,151,116,{"$f":"DataInput!R123","v":9},{"$f":"DataInput!X123","v":0},{"$f":"IF(DataInput!U123-DataInput!E123>0,DataInput!U123-DataInput!E123,\"\")","v":10.799999999999997},{"$f":"IF(DataInput!W123-DataInput!I123>0,DataInput!W123-DataInput!I123,\"\")","v":37},null,null,56.8,59.2,0,0,{"$f":"IF(AC123>0,IFERROR(IF(AVERAGE(DataInput!Q122:Q123)>AVERAGE(AC123,AC122),ROUNDDOWN(((((AC122-AB122)+(AC123-AB123))/2)*(A123-A122))/27,0),IF(((((DataInput!Q123-AB123)+(DataInput!Q122-AB122))/2)*(A123-A122))/27>0,ROUNDDOWN(((((DataInput!Q123-AB122)+(DataInput!Q122-AB122))/2)*(A123-A122))/27,0),0)),0),0)","v":0},0,{"$f":"IFERROR(IF(((((DataInput!Q122-AE122)+(DataInput!Q123-AE123))/2)*(A123-A122))/27>0,ROUNDDOWN(((((DataInput!Q122-AE122)+(DataInput!Q123-AE123))/2)*(A123-A122))/27,0),0),0)","v":9},{"$f":"DataInput!U123","v":37.799999999999997},{"$f":"DataInput!S123","v":27},27,0]
[{"$f":"IF(DataInput!A124<>\"\",DataInput!A124,\"\")","v":100525},{"$f":"SUM(DataInput!C124,DataInput!X124)+(DataInput!U124-DataInput!E124)","v":157.80000000000001},{"$f":"SUM(DataInput!D124,DataInput!Y124)","v":147},{"$f":"DataInput!U124","v":37.799999999999997},{"$f":"SUM(DataInput!F124,DataInput!AA124)","v":0},{"$f":"SUM(DataInput!G124,DataInput!AB124)","v":0},{"$f":"SUM(DataInput!H124,DataInput!AC124)","v":0},{"$f":"DataInput!W124","v":37},{"$f":"SUM(DataInput!J124,DataInput!AD124)","v":0},{"$f":"SUM(DataInput!K124,DataInput!AE124)","v":0},{"$f":"SUM(DataInput!L124,DataInput!AF124)","v":0},{"$f":"SUM(DataInput!M124,DataInput!AG124)","v":0},{"$f":"SUM(DataInput!N124,DataInput!AH124)","v":0},{"$f":"SUM(DataInput!O124,DataInput!AI124)","v":0},{"$f":"DataInput!P124","v":0},null,null,147,113,{"$f":"DataInput!R124","v":12},{"$f":"DataInput!X124","v":0},{"$f":"IF(DataInput!U124-DataInput!E124>0,DataInput!U124-DataInput!E124,\"\")","v":10.799999999999997},{"$f":"IF(DataInput!W124-DataInput!I124>0,DataInput!W124-DataInput!I124,\"\")","v":37},null,null,59.8,53.2,0,0,{"$f":"IF(AC124>0,IFERROR(IF(AVERAGE(DataInput!Q123:Q124)>AVERAGE(AC124,AC123),ROUNDDOWN(((((AC123-AB123)+(AC124-AB124))/2)*(A124-A123))/27,0),IF(((((DataInput!Q124-AB124)+(DataInput!Q123-AB123))/2)*(A124-A123))/27>0,ROUNDDOWN(((((DataInput!Q124-AB123)+(DataInput!Q123-AB123))/2)*(A124-A123))/27,0),0)),0),0)","v":0},0,{"$f":"IFERROR(IF(((((DataInput!Q123-AE123)+(DataInput!Q124-AE124))/2)*(A124-A123))/27>0,ROUNDDOWN(((((DataInput!Q123-AE123)+(DataInput!Q124-AE124))/2)*(A124-A123))/27,0),0),0)","v":12},{"$f":"DataInput!U124","v":37.799999999999997},{"$f":"DataInput!S124","v":27},27,0]
[{"$f":"IF(DataInput!A125<>\"\",DataInput!A125,\"\")","v":100550},{"$f":"SUM(DataInput!C125,DataInput!X125)+(DataInput!U125-DataInput!E125)","v":141.80000000000001},{"$f":"SUM(DataInput!D125,DataInput!Y125)","v":131},{"$f":"DataInput!U125","v":37.799999999999997},{"$f":"SUM(DataInput!F125,DataInput!AA125)","v":0},{"$f":"SUM(DataInput!G125,DataInput!AB125)","v":0},{"$f":"SUM(DataInput!H125,DataInput!AC125)","v":0},{"$f":"DataInput!W125","v":37},{"$f":"SUM(DataInput!J125,DataInput!AD125)","v":0},{"$f":"SUM(DataInput!K125,DataInput!AE125)","v":0},{"$f":"SUM(DataInput!L125,DataInput!AF125)","v":0},{"$f":"SUM(DataInput!M125,DataInput!AG125)","v":0},{"$f":"SUM(DataInput!N125,DataInput!AH125)","v":0},{"$f":"SUM(DataInput!O125,DataInput!AI125)","v":0},{"$f":"DataInput!P125","v":0},null,null,131,101,{"$f":"DataInput!R125","v":14},{"$f":"DataInput!X125","v":0},{"$f":"IF(DataInput!U125-DataInput!E125>0,DataInput!U125-DataInput!E125,\"\")","v":10.799999999999997},{"$f":"IF(DataInput!W125-DataInput!I125>0,DataInput!W125-DataInput!I125,\"\")","v":37},null,null,61.8,39.200000000000003,0,0,{"$f":"IF(AC125>0,IFERROR(IF(AVERAGE(DataInput!Q124:Q125)>AVERAGE(AC125,AC124),ROUNDDOWN(((((AC124-AB124)+(AC125-AB125))/2)*(A125-A124))/27,0),IF(((((DataInput!Q125-AB125)+(DataInput!Q124-AB124))/2)*(A125-A124))/27>0,ROUNDDOWN(((((DataInput!Q125-AB124)+(DataInput!Q124-AB124))/2)*(A125-A124))/27,0),0)),0),0)","v":0},0,{"$f":"IFERROR(IF(((((DataInput!Q124-AE124)+(DataInput!Q125-AE125))/2)*(A125-A124))/27>0,ROUNDDOWN(((((DataInput!Q124-AE124)+(DataInput!Q125-AE125))/2)*(A125-A124))/27,0),0),0)","v":13},{"$f":"DataInput!U125","v":37.799999999999997},{"$f":"DataInput!S125","v":27},27,0]
[{"$f":"IF(DataInput!A126<>\"\",DataInput!A126,\"\")","v":100575},{"$f":"SUM(DataInput!C126,DataInput!X126)+(DataInput!U126-DataInput!E126)","v":130.4},{"$f":"SUM(DataInput!D126,DataInput!Y126)","v":118},{"$f":"DataInput!U126","v":43.4},{"$f":"SUM(DataInput!F126,DataInput!AA126)","v":0},{"$f":"SUM(DataInput!G126,DataInput!AB126)","v":0},{"$f":"SUM(DataInput!H126,DataInput!AC126)","v":0},{"$f":"DataInput!W126","v":36},{"$f":"SUM(DataInput!J126,DataInput!AD126)","v":0},{"$f":"SUM(DataInput!K126,DataInput!AE126)","v":0},{"$f":"SUM(DataInput!L126,DataInput!AF126)","v":0},{"$f":"SUM(DataInput!M126,DataInput!AG126)","v":0},{"$f":"SUM(DataInput!N126,DataInput!AH126)","v":0},{"$f":"SUM(DataInput!O126,DataInput!AI126)","v":0},{"$f":"DataInput!P126","v":0},null,null,118,91,{"$f":"DataInput!R126","v":10},{"$f":"DataInput!X126","v":0},{"$f":"IF(DataInput!U126-DataInput!E126>0,DataInput!U126-DataInput!E126,\"\")","v":12.399999999999999},{"$f":"IF(DataInput!W126-DataInput!I126>0,DataInput!W126-DataInput!I126,\"\")","v":36},null,null,58.4,32.6,0,0,{"$f":"IF(AC126>0,IFERROR(IF(AVERAGE(DataInput!Q125:Q126)>AVERAGE(AC126,AC125),ROUNDDOWN(((((AC125-AB125)+(AC126-AB126))/2)*(A126-A125))/27,0),IF(((((DataInput!Q126-AB126)+(DataInput!Q125-AB125))/2)*(A126-A125))/27>0,ROUNDDOWN(((((DataInput!Q126-AB125)+(DataInput!Q125-AB125))/2)*(A126-A125))/27,0),0)),0),0)","v":0},0,{"$f":"IFERROR(IF(((((DataInput!Q125-AE125)+(DataInput!Q126-AE126))/2)*(A126-A125))/27>0,ROUNDDOWN(((((DataInput!Q125-AE125)+(DataInput!Q126-AE126))/2)*(A126-A125))/27,0),0),0)","v":9},{"$f":"DataInput!U126","v":43.4},{"$f":"DataInput!S126","v":31},31,0]
[{"$f":"IF(DataInput!A127<>\"\",DataInput!A127,\"\")","v":100600},{"$f":"SUM(DataInput!C127,DataInput!X127)+(DataInput!U127-DataInput!E127)","v":140.4},{"$f":"SUM(DataInput!D127,DataInput!Y127)","v":126},{"$f":"DataInput!U127","v":50.4},{"$f":"SUM(DataInput!F127,DataInput!AA127)","v":0},{"$f":"SUM(DataInput!G127,DataInput!AB127)","v":0},{"$f":"SUM(DataInput!H127,DataInput!AC127)","v":0},{"$f":"DataInput!W127","v":37},{"$f":"SUM(DataInput!J127,DataInput!AD127)","v":0},{"$f":"SUM(DataInput!K127,DataInput!AE127)","v":0},{"$f":"SUM(DataInput!L127,DataInput!AF127)","v":0},{"$f":"SUM(DataInput!M127,DataInput!AG127)","v":0},{"$f":"SUM(DataInput!N127,DataInput!AH127)","v":0},{"$f":"SUM(DataInput!O127,DataInput!AI127)","v":0},{"$f":"DataInput!P127","v":0},null,null,126,97,{"$f":"DataInput!R127","v":3},{"$f":"DataInput!X127","v":0},{"$f":"IF(DataInput!U127-DataInput!E127>0,DataInput!U127-DataInput!E127,\"\")","v":14.399999999999999},{"$f":"IF(DataInput!W127-DataInput!I127>0,DataInput!W127-DataInput!I127,\"\")","v":37},null,null,54.4,42.6,0,0,{"$f":"IF(AC127>0,IFERROR(IF(AVERAGE(DataInput!Q126:Q127)>AVERAGE(AC127,AC126),ROUNDDOWN(((((AC126-AB126)+(AC127-AB127))/2)*(A127-A126))/27,0),IF(((((DataInput!Q127-AB127)+(DataInput!Q126-AB126))/2)*(A127-A126))/27>0,ROUNDDOWN(((((DataInput!Q127-AB126)+(DataInput!Q126-AB126))/2)*(A127-A126))/27,0),0)),0),0)","v":0},0,{"$f":"IFERROR(IF(((((DataInput!Q126-AE126)+(DataInput!Q127-AE127))/2)*(A127-A126))/27>0,ROUNDDOWN(((((DataInput!Q126-AE126)+(DataInput!Q127-AE127))/2)*(A127-A126))/27,0),0),0)","v":3},{"$f":"DataInput!U127","v":50.4},{"$f":"DataInput!S127","v":36},36,0]
[{"$f":"IF(DataInput!A128<>\"\",DataInput!A128,\"\")","v":100625},{"$f":"SUM(DataInput!C128,DataInput!X128)+(DataInput!U128-DataInput!E128)","v":162.80000000000001},{"$f":"SUM(DataInput!D128,DataInput!Y128)","v":148},{"$f":"DataInput!U128","v":51.8},{"$f":"SUM(DataInput!F128,DataInput!AA128)","v":0},{"$f":"SUM(DataInput!G128,DataInput!AB128)","v":0},{"$f":"SUM(DataInput!H128,DataInput!AC128)","v":0},{"$f":"DataInput!W128","v":41},{"$f":"SUM(DataInput!J128,DataInput!AD128)","v":0},{"$f":"SUM(DataInput!K128,DataInput!AE128)","v":0},{"$f":"SUM(DataInput!L128,DataInput!AF128)","v":0},{"$f":"SUM(DataInput!M128,DataInput!AG128)","v":0},{"$f":"SUM(DataInput!N128,DataInput!AH128)","v":0},{"$f":"SUM(DataInput!O128,DataInput!AI128)","v":0},{"$f":"DataInput!P128","v":0},null,null,148,114,{"$f":"DataInput!R128","v":5},{"$f":"DataInput!X128","v":0},{"$f":"IF(DataInput!U128-DataInput!E128>0,DataInput!U128-DataInput!E128,\"\")","v":14.799999999999997},{"$f":"IF(DataInput!W128-DataInput!I128>0,DataInput!W128-DataInput!I128,\"\")","v":41},null,null,60.8,53.2,0,0,{"$f":"IF(AC128>0,IFERROR(IF(AVERAGE(DataInput!Q127:Q128)>AVERAGE(AC128,AC127),ROUNDDOWN(((((AC127-AB127)+(AC128-AB128))/2)*(A128-A127))/27,0),IF(((((DataInput!Q128-AB128)+(DataInput!Q127-AB127))/2)*(A128-A127))/27>0,ROUNDDOWN(((((DataInput!Q128-AB127)+(DataInput!Q127-AB127))/2)*(A128-A127))/27,0),0)),0),0)","v":0},0,{"$f":"IFERROR(IF(((((DataInput!Q127-AE127)+(DataInput!Q128-AE128))/2)*(A128-A127))/27>0,ROUNDDOWN(((((DataInput!Q127-AE127)+(DataInput!Q128-AE128))/2)*(A128-A127))/27,0),0),0)","v":5},{"$f":"DataInput!U128","v":51.8},{"$f":"DataInput!S128","v":37},37,0]
[{"$f":"IF(DataInput!A129<>\"\",DataInput!A129,\"\")","v":100650},{"$f":"SUM(DataInput!C129,DataInput!X129)+(DataInput!U129-DataInput!E129)","v":24.799999999999997},{"$f":"SUM(DataInput!D129,DataInput!Y129)","v":22},{"$f":"DataInput!U129","v":9.7999999999999989},{"$f":"SUM(DataInput!F129,DataInput!AA129)","v":0},{"$f":"SUM(DataInput!G129,DataInput!AB129)","v":0},{"$f":"SUM(DataInput!H129,DataInput!AC129)","v":0},{"$f":"DataInput!W129","v":8},{"$f":"SUM(DataInput!J129,DataInput!AD129)","v":0},{"$f":"SUM(DataInput!K129,DataInput!AE129)","v":0},{"$f":"SUM(DataInput!L129,DataInput!AF129)","v":0},{"$f":"SUM(DataInput!M129,DataInput!AG129)","v":0},{"$f":"SUM(DataInput!N129,DataInput!AH129)","v":0},{"$f":"SUM(DataInput!O129,DataInput!AI129)","v":0},{"$f":"DataInput!P129","v":0},null,null,22,17,{"$f":"DataInput!R129","v":2},{"$f":"DataInput!X129","v":0},{"$f":"IF(DataInput!U129-DataInput!E129>0,DataInput!U129-DataInput!E129,\"\")","v":2.7999999999999989},{"$f":"IF(DataInput!W129-DataInput!I129>0,DataInput!W129-DataInput!I129,\"\")","v":8},null,null,12.799999999999999,4.2000000000000011,0,0,{"$f":"IF(AC129>0,IFERROR(IF(AVERAGE(DataInput!Q128:Q129)>AVERAGE(AC129,AC128),ROUNDDOWN(((((AC128-AB128)+(AC129-AB129))/2)*(A129-A128))/27,0),IF(((((DataInput!Q129-AB129)+(DataInput!Q128-AB128))/2)*(A129-A128))/27>0,ROUNDDOWN(((((DataInput!Q129-AB128)+(DataInput!Q128-AB128))/2)*(A129-A128))/27,0),0)),0),0)","v":0},0,{"$f":"IFERROR(IF(((((DataInput!Q128-AE128)+(DataInput!Q129-AE129))/2)*(A129-A128))/27>0,ROUNDDOWN(((((DataInput!Q128-AE128)+(DataInput!Q129-AE129))/2)*(A129-A128))/27,0),0),0)","v":10},{"$f":"DataInput!U129","v":9.7999999999999989},{"$f":"DataInput!S129","v":7},7,0]
[{"$f":"IF(DataInput!A130<>\"\",DataInput!A130,\"\")","v":100653.92},{"$f":"SUM(DataInput!C130,DataInput!X130)+(DataInput!U130-DataInput!E130)","v":150},{"$f":"SUM(DataInput!D130,DataInput!Y130)","v":136},{"$f":"DataInput!U130","v":49},{"$f":"SUM(DataInput!F130,DataInput!AA130)","v":0},{"$f":"SUM(DataInput!G130,DataInput!AB130)","v":0},{"$f":"SUM(DataInput!H130,DataInput!AC130)","v":0},{"$f":"DataInput!W130","v":42},{"$f":"SUM(DataInput!J130,DataInput!AD130)","v":0},{"$f":"SUM(DataInput!K130,DataInput!AE130)","v":0},{"$f":"SUM(DataInput!L130,DataInput!AF130)","v":0},{"$f":"SUM(DataInput!M130,DataInput!AG130)","v":0},{"$f":"SUM(DataInput!N130,DataInput!AH130)","v":0},{"$f":"SUM(DataInput!O130,DataInput!AI130)","v":0},{"$f":"DataInput!P130","v":0},null,null,136,105,{"$f":"DataInput!R130","v":7},{"$f":"DataInput!X130","v":0},{"$f":"IF(DataInput!U130-DataInput!E130>0,DataInput!U130-DataInput!E130,\"\")","v":14},{"$f":"IF(DataInput!W130-DataInput!I130>0,DataInput!W130-DataInput!I130,\"\")","v":42},null,null,63,42,0,0,{"$f":"IF(AC130>0,IFERROR(IF(AVERAGE(DataInput!Q129:Q130)>AVERAGE(AC130,AC129),ROUNDDOWN(((((AC129-AB129)+(AC130-AB130))/2)*(A130-A129))/27,0),IF(((((DataInput!Q130-AB130)+(DataInput!Q129-AB129))/2)*(A130-A129))/27>0,ROUNDDOWN(((((DataInput!Q130-AB129)+(DataInput!Q129-AB129))/2)*(A130-A129))/27,0),0)),0),0)","v":0},0,{"$f":"IFERROR(IF(((((DataInput!Q129-AE129)+(DataInput!Q130-AE130))/2)*(A130-A129))/27>0,ROUNDDOWN(((((DataInput!Q129-AE129)+(DataInput!Q130-AE130))/2)*(A130-A129))/27,0),0),0)","v":1},{"$f":"DataInput!U130","v":49},{"$f":"DataInput!S130","v":35},35,0]
[{"$f":"IF(DataInput!A131<>\"\",DataInput!A131,\"\")","v":100675},{"$f":"SUM(DataInput!C131,DataInput!X131)+(DataInput!U131-DataInput!E131)","v":182.6},{"$f":"SUM(DataInput!D131,DataInput!Y131)","v":163},{"$f":"DataInput!U131","v":68.599999999999994},{"$f":"SUM(DataInput!F131,DataInput!AA131)","v":0},{"$f":"SUM(DataInput!G131,DataInput!AB131)","v":0},{"$f":"SUM(DataInput!H131,DataInput!AC131)","v":0},{"$f":"DataInput!W131","v":43},{"$f":"SUM(DataInput!J131,DataInput!AD131)","v":0},{"$f":"SUM(DataInput!K131,DataInput!AE131)","v":0},{"$f":"SUM(DataInput!L131,DataInput!AF131)","v":0},{"$f":"SUM(DataInput!M131,DataInput!AG131)","v":0},{"$f":"SUM(DataInput!N131,DataInput!AH131)","v":0},{"$f":"SUM(DataInput!O131,DataInput!AI131)","v":0},{"$f":"DataInput!P131","v":0},null,null,163,125,{"$f":"DataInput!R131","v":4},{"$f":"DataInput!X131","v":0},{"$f":"IF(DataInput!U131-DataInput!E131>0,DataInput!U131-DataInput!E131,\"\")","v":19.599999999999994},{"$f":"IF(DataInput!W131-DataInput!I131>0,DataInput!W131-DataInput!I131,\"\")","v":43},null,null,66.599999999999994,58.400000000000006,0,0,{"$f":"IF(AC131>0,IFERROR(IF(AVERAGE(DataInput!Q130:Q131)>AVERAGE(AC131,AC130),ROUNDDOWN(((((AC130-AB130)+(AC131-AB131))/2)*(A131-A130))/27,0),IF(((((DataInput!Q131-AB131)+(DataInput!Q130-AB130))/2)*(A131-A130))/27>0,ROUNDDOWN(((((DataInput!Q131-AB130)+(DataInput!Q130-AB130))/2)*(A131-A130))/27,0),0)),0),0)","v":0},0,{"$f":"IFERROR(IF(((((DataInput!Q130-AE130)+(DataInput!Q131-AE131))/2)*(A131-A130))/27>0,ROUNDDOWN(((((DataInput!Q130-AE130)+(DataInput!Q131-AE131))/2)*(A131-A130))/27,0),0),0)","v":3},{"$f":"DataInput!U131","v":68.599999999999994},{"$f":"DataInput!S131","v":49},49,0]
[{"$f":"IF(DataInput!A132<>\"\",DataInput!A132,\"\")","v":100700},{"$f":"SUM(DataInput!C132,DataInput!X132)+(DataInput!U132-DataInput!E132)","v":240.39999999999998},{"$f":"SUM(DataInput!D132,DataInput!Y132)","v":218},{"$f":"DataInput!U132","v":78.399999999999991},{"$f":"SUM(DataInput!F132,DataInput!AA132)","v":0},{"$f":"SUM(DataInput!G132,DataInput!AB132)","v":0},{"$f":"SUM(DataInput!H132,DataInput!AC132)","v":0},{"$f":"DataInput!W132","v":40},{"$f":"SUM(DataInput!J132,DataInput!AD132)","v":0},{"$f":"SUM(DataInput!K132,DataInput!AE132)","v":0},{"$f":"SUM(DataInput!L132,DataInput!AF132)","v":0},{"$f":"SUM(DataInput!M132,DataInput!AG132)","v":0},{"$f":"SUM(DataInput!N132,DataInput!AH132)","v":0},{"$f":"SUM(DataInput!O132,DataInput!AI132)","v":0},{"$f":"DataInput!P132","v":0},null,null,218,168,{"$f":"DataInput!R132","v":1},{"$f":"DataInput!X132","v":0},{"$f":"IF(DataInput!U132-DataInput!E132>0,DataInput!U132-DataInput!E132,\"\")","v":22.399999999999991},{"$f":"IF(DataInput!W132-DataInput!I132>0,DataInput!W132-DataInput!I132,\"\")","v":40},null,null,63.399999999999991,104.60000000000001,0,0,{"$f":"IF(AC132>0,IFERROR(IF(AVERAGE(DataInput!Q131:Q132)>AVERAGE(AC132,AC131),ROUNDDOWN(((((AC131-AB131)+(AC132-AB132))/2)*(A132-A131))/27,0),IF(((((DataInput!Q132-AB132)+(DataInput!Q131-AB131))/2)*(A132-A131))/27>0,ROUNDDOWN(((((DataInput!Q132-AB131)+(DataInput!Q131-AB131))/2)*(A132-A131))/27,0),0)),0),0)","v":0},0,{"$f":"IFERROR(IF(((((DataInput!Q131-AE131)+(DataInput!Q132-AE132))/2)*(A132-A131))/27>0,ROUNDDOWN(((((DataInput!Q131-AE131)+(DataInput!Q132-AE132))/2)*(A132-A131))/27,0),0),0)","v":0},{"$f":"DataInput!U132","v":78.399999999999991},{"$f":"DataInput!S132","v":56},56,0]
[{"$f":"IF(DataInput!A133<>\"\",DataInput!A133,\"\")","v":100725},{"$f":"SUM(DataInput!C133,DataInput!X133)+(DataInput!U133-DataInput!E133)","v":399.6},{"$f":"SUM(DataInput!D133,DataInput!Y133)","v":376},{"$f":"DataInput!U133","v":82.6},{"$f":"SUM(DataInput!F133,DataInput!AA133)","v":0},{"$f":"SUM(DataInput!G133,DataInput!AB133)","v":0},{"$f":"SUM(DataInput!H133,DataInput!AC133)","v":0},{"$f":"DataInput!W133","v":37},{"$f":"SUM(DataInput!J133,DataInput!AD133)","v":0},{"$f":"SUM(DataInput!K133,DataInput!AE133)","v":0},{"$f":"SUM(DataInput!L133,DataInput!AF133)","v":0},{"$f":"SUM(DataInput!M133,DataInput!AG133)","v":0},{"$f":"SUM(DataInput!N133,DataInput!AH133)","v":0},{"$f":"SUM(DataInput!O133,DataInput!AI133)","v":0},{"$f":"DataInput!P133","v":0},null,null,376,289,{"$f":"DataInput!R133","v":0},{"$f":"DataInput!X133","v":0},{"$f":"IF(DataInput!U133-DataInput!E133>0,DataInput!U133-DataInput!E133,\"\")","v":23.599999999999994},{"$f":"IF(DataInput!W133-DataInput!I133>0,DataInput!W133-DataInput!I133,\"\")","v":37},null,null,60.599999999999994,228.4,0,0,{"$f":"IF(AC133>0,IFERROR(IF(AVERAGE(DataInput!Q132:Q133)>AVERAGE(AC133,AC132),ROUNDDOWN(((((AC132-AB132)+(AC133-AB133))/2)*(A133-A132))/27,0),IF(((((DataInput!Q133-AB133)+(DataInput!Q132-AB132))/2)*(A133-A132))/27>0,ROUNDDOWN(((((DataInput!Q133-AB132)+(DataInput!Q132-AB132))/2)*(A133-A132))/27,0),0)),0),0)","v":0},0,{"$f":"IFERROR(IF(((((DataInput!Q132-AE132)+(DataInput!Q133-AE133))/2)*(A133-A132))/27>0,ROUNDDOWN(((((DataInput!Q132-AE132)+(DataInput!Q133-AE133))/2)*(A133-A132))/27,0),0),0)","v":0},{"$f":"DataInput!U133","v":82.6},{"$f":"DataInput!S133","v":59},59,0]
[{"$f":"IF(DataInput!A134<>\"\",DataInput!A134,\"\")","v":100750},{"$f":"SUM(DataInput!C134,DataInput!X134)+(DataInput!U134-DataInput!E134)","v":589.4},{"$f":"SUM(DataInput!D134,DataInput!Y134)","v":557},{"$f":"DataInput!U134","v":113.39999999999999},{"$f":"SUM(DataInput!F134,DataInput!AA134)","v":0},{"$f":"SUM(DataInput!G134,DataInput!AB134)","v":0},{"$f":"SUM(DataInput!H134,DataInput!AC134)","v":0},{"$f":"DataInput!W134","v":41},{"$f":"SUM(DataInput!J134,DataInput!AD134)","v":0},{"$f":"SUM(DataInput!K134,DataInput!AE134)","v":0},{"$f":"SUM(DataInput!L134,DataInput!AF134)","v":0},{"$f":"SUM(DataInput!M134,DataInput!AG134)","v":0},{"$f":"SUM(DataInput!N134,DataInput!AH134)","v":0},{"$f":"SUM(DataInput!O134,DataInput!AI134)","v":0},{"$f":"DataInput!P134","v":0},null,null,557,428,{"$f":"DataInput!R134","v":78},{"$f":"DataInput!X134","v":0},{"$f":"IF(DataInput!U134-DataInput!E134>0,DataInput!U134-DataInput!E134,\"\")","v":32.399999999999991},{"$f":"IF(DataInput!W134-DataInput!I134>0,DataInput!W134-DataInput!I134,\"\")","v":41},null,null,151.39999999999998,276.60000000000002,0,0,{"$f":"IF(AC134>0,IFERROR(IF(AVERAGE(DataInput!Q133:Q134)>AVERAGE(AC134,AC133),ROUNDDOWN(((((AC133-AB133)+(AC134-AB134))/2)*(A134-A133))/27,0),IF(((((DataInput!Q134-AB134)+(DataInput!Q133-AB133))/2)*(A134-A133))/27>0,ROUNDDOWN(((((DataInput!Q134-AB133)+(DataInput!Q133-AB133))/2)*(A134-A133))/27,0),0)),0),0)","v":0},0,{"$f":"IFERROR(IF(((((DataInput!Q133-AE133)+(DataInput!Q134-AE134))/2)*(A134-A133))/27>0,ROUNDDOWN(((((DataInput!Q133-AE133)+(DataInput!Q134-AE134))/2)*(A134-A133))/27,0),0),0)","v":77},{"$f":"DataInput!U134","v":113.39999999999999},{"$f":"DataInput!S134","v":81},81,0]
[{"$f":"IF(DataInput!A135<>\"\",DataInput!A135,\"\")","v":100775},{"$f":"SUM(DataInput!C135,DataInput!X135)+(DataInput!U135-DataInput!E135)","v":834.6},{"$f":"SUM(DataInput!D135,DataInput!Y135)","v":793},{"$f":"DataInput!U135","v":145.6},{"$f":"SUM(DataInput!F135,DataInput!AA135)","v":0},{"$f":"SUM(DataInput!G135,DataInput!AB135)","v":0},{"$f":"SUM(DataInput!H135,DataInput!AC135)","v":0},{"$f":"DataInput!W135","v":49},{"$f":"SUM(DataInput!J135,DataInput!AD135)","v":0},{"$f":"SUM(DataInput!K135,DataInput!AE135)","v":0},{"$f":"SUM(DataInput!L135,DataInput!AF135)","v":0},{"$f":"SUM(DataInput!M135,DataInput!AG135)","v":0},{"$f":"SUM(DataInput!N135,DataInput!AH135)","v":0},{"$f":"SUM(DataInput!O135,DataInput!AI135)","v":0},{"$f":"DataInput!P135","v":0},null,null,793,610,{"$f":"DataInput!R135","v":217},{"$f":"DataInput!X135","v":0},{"$f":"IF(DataInput!U135-DataInput!E135>0,DataInput!U135-DataInput!E135,\"\")","v":41.599999999999994},{"$f":"IF(DataInput!W135-DataInput!I135>0,DataInput!W135-DataInput!I135,\"\")","v":49},null,null,307.60000000000002,302.39999999999998,0,0,{"$f":"IF(AC135>0,IFERROR(IF(AVERAGE(DataInput!Q134:Q135)>AVERAGE(AC135,AC134),ROUNDDOWN(((((AC134-AB134)+(AC135-AB135))/2)*(A135-A134))/27,0),IF(((((DataInput!Q135-AB135)+(DataInput!Q134-AB134))/2)*(A135-A134))/27>0,ROUNDDOWN(((((DataInput!Q135-AB134)+(DataInput!Q134-AB134))/2)*(A135-A134))/27,0),0)),0),0)","v":0},0,{"$f":"IFERROR(IF(((((DataInput!Q134-AE134)+(DataInput!Q135-AE135))/2)*(A135-A134))/27>0,ROUNDDOWN(((((DataInput!Q134-AE134)+(DataInput!Q135-AE135))/2)*(A135-A134))/27,0),0),0)","v":216},{"$f":"DataInput!U135","v":145.6},{"$f":"DataInput!S135","v":104},104,0]
[{"$f":"IF(DataInput!A136<>\"\",DataInput!A136,\"\")","v":100800},{"$f":"SUM(DataInput!C136,DataInput!X136)+(DataInput!U136-DataInput!E136)","v":583.20000000000005},{"$f":"SUM(DataInput!D136,DataInput!Y136)","v":552},{"$f":"DataInput!U136","v":109.19999999999999},{"$f":"SUM(DataInput!F136,DataInput!AA136)","v":0},{"$f":"SUM(DataInput!G136,DataInput!AB136)","v":0},{"$f":"SUM(DataInput!H136,DataInput!AC136)","v":0},{"$f":"DataInput!W136","v":50},{"$f":"SUM(DataInput!J136,DataInput!AD136)","v":0},{"$f":"SUM(DataInput!K136,DataInput!AE136)","v":0},{"$f":"SUM(DataInput!L136,DataInput!AF136)","v":0},{"$f":"SUM(DataInput!M136,DataInput!AG136)","v":0},{"$f":"SUM(DataInput!N136,DataInput!AH136)","v":0},{"$f":"SUM(DataInput!O136,DataInput!AI136)","v":0},{"$f":"DataInput!P136","v":0},null,null,552,425,{"$f":"DataInput!R136","v":139},{"$f":"DataInput!X136","v":0},{"$f":"IF(DataInput!U136-DataInput!E136>0,DataInput!U136-DataInput!E136,\"\")","v":31.199999999999989},{"$f":"IF(DataInput!W136-DataInput!I136>0,DataInput!W136-DataInput!I136,\"\")","v":50},null,null,220.2,204.8,0,0,{"$f":"IF(AC136>0,IFERROR(IF(AVERAGE(DataInput!Q135:Q136)>AVERAGE(AC136,AC135),ROUNDDOWN(((((AC135-AB135)+(AC136-AB136))/2)*(A136-A135))/27,0),IF(((((DataInput!Q136-AB136)+(DataInput!Q135-AB135))/2)*(A136-A135))/27>0,ROUNDDOWN(((((DataInput!Q136-AB135)+(DataInput!Q135-AB135))/2)*(A136-A135))/27,0),0)),0),0)","v":0},0,{"$f":"IFERROR(IF(((((DataInput!Q135-AE135)+(DataInput!Q136-AE136))/2)*(A136-A135))/27>0,ROUNDDOWN(((((DataInput!Q135-AE135)+(DataInput!Q136-AE136))/2)*(A136-A135))/27,0),0),0)","v":138},{"$f":"DataInput!U136","v":109.19999999999999},{"$f":"DataInput!S136","v":78},78,0]
[{"$f":"IF(DataInput!A137<>\"\",DataInput!A137,\"\")","v":100825},{"$f":"SUM(DataInput!C137,DataInput!X137)+(DataInput!U137-DataInput!E137)","v":0},{"$f":"SUM(DataInput!D137,DataInput!Y137)","v":0},{"$f":"DataInput!U137","v":0},{"$f":"SUM(DataInput!F137,DataInput!AA137)","v":0},{"$f":"SUM(DataInput!G137,DataInput!AB137)","v":0},{"$f":"SUM(DataInput!H137,DataInput!AC137)","v":0},{"$f":"DataInput!W137","v":0},{"$f":"SUM(DataInput!J137,DataInput!AD137)","v":0},{"$f":"SUM(DataInput!K137,DataInput!AE137)","v":0},{"$f":"SUM(DataInput!L137,DataInput!AF137)","v":0},{"$f":"SUM(DataInput!M137,DataInput!AG137)","v":0},{"$f":"SUM(DataInput!N137,DataInput!AH137)","v":0},{"$f":"SUM(DataInput!O137,DataInput!AI137)","v":0},{"$f":"DataInput!P137","v":0},null,null,0,0,{"$f":"DataInput!R137","v":0},{"$f":"DataInput!X137","v":0},{"$f":"IF(DataInput!U137-DataInput!E137>0,DataInput!U137-DataInput!E137,\"\")","v":""},{"$f":"IF(DataInput!W137-DataInput!I137>0,DataInput!W137-DataInput!I137,\"\")","v":""},null,null,0,0,0,0,{"$f":"IF(AC137>0,IFERROR(IF(AVERAGE(DataInput!Q136:Q137)>AVERAGE(AC137,AC136),ROUNDDOWN(((((AC136-AB136)+(AC137-AB137))/2)*(A137-A136))/27,0),IF(((((DataInput!Q137-AB137)+(DataInput!Q136-AB136))/2)*(A137-A136))/27>0,ROUNDDOWN(((((DataInput!Q137-AB136)+(DataInput!Q136-AB136))/2)*(A137-A136))/27,0),0)),0),0)","v":0},0,{"$f":"IFERROR(IF(((((DataInput!Q136-AE136)+(DataInput!Q137-AE137))/2)*(A137-A136))/27>0,ROUNDDOWN(((((DataInput!Q136-AE136)+(DataInput!Q137-AE137))/2)*(A137-A136))/27,0),0),0)","v":0},{"$f":"DataInput!U137","v":0},{"$f":"DataInput!S137","v":0},0,0]
[]
[{"$f":"IF(DataInput!A139<>\"\",DataInput!A139,\"\")","v":"SR022B"}]
[{"$f":"IF(DataInput!A140<>\"\",DataInput!A140,\"\")","v":200480.26},{"$f":"SUM(DataInput!C140,DataInput!X140)+(DataInput!U140-DataInput!E140)","v":96.8},{"$f":"SUM(DataInput!D140,DataInput!Y140)","v":90},{"$f":"DataInput!U140","v":23.799999999999997},{"$f":"SUM(DataInput!F140,DataInput!AA140)","v":0},{"$f":"SUM(DataInput!G140,DataInput!AB140)","v":0},{"$f":"SUM(DataInput!H140,DataInput!AC140)","v":0},{"$f":"DataInput!W140","v":25},{"$f":"SUM(DataInput!J140,DataInput!AD140)","v":0},{"$f":"SUM(DataInput!K140,DataInput!AE140)","v":0},{"$f":"SUM(DataInput!L140,DataInput!AF140)","v":0},{"$f":"SUM(DataInput!M140,DataInput!AG140)","v":0},{"$f":"SUM(DataInput!N140,DataInput!AH140)","v":0},{"$f":"SUM(DataInput!O140,DataInput!AI140)","v":0},{"$f":"DataInput!P140","v":0},null,null,{"$f":"SUM(C140,E140:G140,I140:L140,N140:Q140)","v":90},{"$f":"IF(ISERROR(ROUND((R140/$S$5),0)),0,ROUND((R140/$S$5),0))","v":69},{"$f":"DataInput!R140","v":2},{"$f":"DataInput!X140","v":0},{"$f":"IF(DataInput!U140-DataInput!E140>0,DataInput!U140-DataInput!E140,\"\")","v":6.7999999999999972},{"$f":"IF(DataInput!W140-DataInput!I140>0,DataInput!W140-DataInput!I140,\"\")","v":25},null,null,{"$f":"SUM(T140:Y140)","v":33.799999999999997},{"$f":"SUM(S140-Z140)","v":35.200000000000003},null,null,0,null,0,{"$f":"DataInput!U140","v":23.799999999999997},{"$f":"DataInput!S140","v":17},{"$f":"ROUNDUP(AG140/$AI$5,0)","v":17},{"$f":"AI140-AH140","v":0}]
[{"$f":"IF(DataInput!A141<>\"\",DataInput!A141,\"\")","v":200500},{"$f":"SUM(DataInput!C141,DataInput!X141)+(DataInput!U141-DataInput!E141)","v":120.8},{"$f":"SUM(DataInput!D141,DataInput!Y141)","v":114},{"$f":"DataInput!U141","v":23.799999999999997},{"$f":"SUM(DataInput!F141,DataInput!AA141)","v":0},{"$f":"SUM(DataInput!G141,DataInput!AB141)","v":0},{"$f":"SUM(DataInput!H141,DataInput!AC141)","v":0},{"$f":"DataInput!W141","v":33},{"$f":"SUM(DataInput!J141,DataInput!AD141)","v":0},{"$f":"SUM(DataInput!K141,DataInput!AE141)","v":0},{"$f":"SUM(DataInput!L141,DataInput!AF141)","v":0},{"$f":"SUM(DataInput!M141,DataInput!AG141)","v":0},{"$f":"SUM(DataInput!N141,DataInput!AH141)","v":0},{"$f":"SUM(DataInput!O141,DataInput!AI141)","v":0},{"$f":"DataInput!P141","v":0},null,null,{"$f":"SUM(C141,E141:G141,I141:L141,N141:Q141)","v":114},{"$f":"IF(ISERROR(ROUND((R141/$S$5),0)),0,ROUND((R141/$S$5),0))","v":88},{"$f":"DataInput!R141","v":1},{"$f":"DataInput!X141","v":0},{"$f":"IF(DataInput!U141-DataInput!E141>0,DataInput!U141-DataInput!E141,\"\")","v":6.7999999999999972},{"$f":"IF(DataInput!W141-DataInput!I141>0,DataInput!W141-DataInput!I141,\"\")","v":33},null,null,{"$f":"SUM(T141:Y141)","v":40.799999999999997},{"$f":"SUM(S141-Z141)","v":47.2},{"$f":"AB140","v":0},{"$f":"AC140","v":0},{"$f":"IF(AC141>0,IFERROR(IF(AVERAGE(DataInput!Q140:Q141)>AVERAGE(AC141,AC140),ROUNDDOWN(((((AC140-AB140)+(AC141-AB141))/2)*(A141-A140))/27,0),IF(((((DataInput!Q141-AB141)+(DataInput!Q140-AB140))/2)*(A141-A140))/27>0,ROUNDDOWN(((((DataInput!Q141-AB140)+(DataInput!Q140-AB140))/2)*(A141-A140))/27,0),0)),0),0)","v":0},{"$f":"AE140","v":0},{"$f":"IFERROR(IF(((((DataInput!Q140-AE140)+(DataInput!Q141-AE141))/2)*(A141-A140))/27>0,ROUNDDOWN(((((DataInput!Q140-AE140)+(DataInput!Q141-AE141))/2)*(A141-A140))/27,0),0),0)","v":0},{"$f":"DataInput!U141","v":23.799999999999997},{"$f":"DataInput!S141","v":17},{"$f":"ROUNDUP(AG141/$AI$5,0)","v":17},{"$f":"AI141-AH141","v":0}]
[{"$f":"IF(DataInput!A142<>\"\",DataInput!A142,\"\")","v":200525},{"$f":"SUM(DataInput!C142,DataInput!X142)+(DataInput!U142-DataInput!E142)","v":130.4},{"$f":"SUM(DataInput!D142,DataInput!Y142)","v":124},{"$f":"DataInput!U142","v":22.4},{"$f":"SUM(DataInput!F142,DataInput!AA142)","v":0},{"$f":"SUM(DataInput!G142,DataInput!AB142)","v":0},{"$f":"SUM(DataInput!H142,DataInput!AC142)","v":0},{"$f":"DataInput!W142","v":34},{"$f":"SUM(DataInput!J142,DataInput!AD142)","v":0},{"$f":"SUM(DataInput!K142,DataInput!AE142)","v":0},{"$f":"SUM(DataInput!L142,DataInput!AF142)","v":0},{"$f":"SUM(DataInput!M142,DataInput!AG142)","v":0},{"$f":"SUM(DataInput!N142,DataInput!AH142)","v":0},{"$f":"SUM(DataInput!O142,DataInput!AI142)","v":0},{"$f":"DataInput!P142","v":0},null,null,124,95,{"$f":"DataInput!R142","v":0},{"$f":"DataInput!X142","v":0},{"$f":"IF(DataInput!U142-DataInput!E142>0,DataInput!U142-DataInput!E142,\"\")","v":6.3999999999999986},{"$f":"IF(DataInput!W142-DataInput!I142>0,DataInput!W142-DataInput!I142,\"\")","v":34},null,null,40.4,54.6,{"$f":"AB141","v":0},{"$f":"AC141","v":0},{"$f":"IF(AC142>0,IFERROR(IF(AVERAGE(DataInput!Q141:Q142)>AVERAGE(AC142,AC141),ROUNDDOWN(((((AC141-AB141)+(AC142-AB142))/2)*(A142-A141))/27,0),IF(((((DataInput!Q142-AB142)+(DataInput!Q141-AB141))/2)*(A142-A141))/27>0,ROUNDDOWN(((((DataInput!Q142-AB141)+(DataInput!Q141-AB141))/2)*(A142-A141))/27,0),0)),0),0)","v":0},{"$f":"AE141","v":0},{"$f":"IFERROR(IF(((((DataInput!Q141-AE141)+(DataInput!Q142-AE142))/2)*(A142-A141))/27>0,ROUNDDOWN(((((DataInput!Q141-AE141)+(DataInput!Q142-AE142))/2)*(A142-A141))/27,0),0),0)","v":0},{"$f":"DataInput!U142","v":22.4},{"$f":"DataInput!S142","v":16},16,0]
[{"$f":"IF(DataInput!A143<>\"\",DataInput!A143,\"\")","v":200550},{"$f":"SUM(DataInput!C143,DataInput!X143)+(DataInput!U143-DataInput!E143)","v":147.19999999999999},{"$f":"SUM(DataInput!D143,DataInput!Y143)","v":138},{"$f":"DataInput!U143","v":32.199999999999996},{"$f":"SUM(DataInput!F143,DataInput!AA143)","v":0},{"$f":"SUM(DataInput!G143,DataInput!AB143)","v":0},{"$f":"SUM(DataInput!H143,DataInput!AC143)","v":0},{"$f":"DataInput!W143","v":36},{"$f":"SUM(DataInput!J143,DataInput!AD143)","v":0},{"$f":"SUM(DataInput!K143,DataInput!AE143)","v":0},{"$f":"SUM(DataInput!L143,DataInput!AF143)","v":0},{"$f":"SUM(DataInput!M143,DataInput!AG143)","v":0},{"$f":"SUM(DataInput!N143,DataInput!AH143)","v":0},{"$f":"SUM(DataInput!O143,DataInput!AI143)","v":0},{"$f":"DataInput!P143","v":0},null,null,138,106,{"$f":"DataInput!R143","v":0},{"$f":"DataInput!X143","v":0},{"$f":"IF(DataInput!U143-DataInput!E143>0,DataInput!U143-DataInput!E143,\"\")","v":9.1999999999999957},{"$f":"IF(DataInput!W143-DataInput!I143>0,DataInput!W143-DataInput!I143,\"\")","v":36},null,null,45.199999999999996,60.800000000000004,0,0,{"$f":"IF(AC143>0,IFERROR(IF(AVERAGE(DataInput!Q142:Q143)>AVERAGE(AC143,AC142),ROUNDDOWN(((((AC142-AB142)+(AC143-AB143))/2)*(A143-A142))/27,0),IF(((((DataInput!Q143-AB143)+(DataInput!Q142-AB142))/2)*(A143-A142))/27>0,ROUNDDOWN(((((DataInput!Q143-AB142)+(DataInput!Q142-AB142))/2)*(A143-A142))/27,0),0)),0),0)","v":0},0,{"$f":"IFERROR(IF(((((DataInput!Q142-AE142)+(DataInput!Q143-AE143))/2)*(A143-A142))/27>0,ROUNDDOWN(((((DataInput!Q142-AE142)+(DataInput!Q143-AE143))/2)*(A143-A142))/27,0),0),0)","v":0},{"$f":"DataInput!U143","v":32.199999999999996},{"$f":"DataInput!S143","v":23},23,0]
[{"$f":"IF(DataInput!A144<>\"\",DataInput!A144,\"\")","v":200575},{"$f":"SUM(DataInput!C144,DataInput!X144)+(DataInput!U144-DataInput!E144)","v":155},{"$f":"SUM(DataInput!D144,DataInput!Y144)","v":145},{"$f":"DataInput!U144","v":35},{"$f":"SUM(DataInput!F144,DataInput!AA144)","v":0},{"$f":"SUM(DataInput!G144,DataInput!AB144)","v":0},{"$f":"SUM(DataInput!H144,DataInput!AC144)","v":0},{"$f":"DataInput!W144","v":37},{"$f":"SUM(DataInput!J144,DataInput!AD144)","v":0},{"$f":"SUM(DataInput!K144,DataInput!AE144)","v":0},{"$f":"SUM(DataInput!L144,DataInput!AF144)","v":0},{"$f":"SUM(DataInput!M144,DataInput!AG144)","v":0},{"$f":"SUM(DataInput!N144,DataInput!AH144)","v":0},{"$f":"SUM(DataInput!O144,DataInput!AI144)","v":0},{"$f":"DataInput!P144","v":0},null,null,145,112,{"$f":"DataInput!R144","v":3},{"$f":"DataInput!X144","v":0},{"$f":"IF(DataInput!U144-DataInput!E144>0,DataInput!U144-DataInput!E144,\"\")","v":10},{"$f":"IF(DataInput!W144-DataInput!I144>0,DataInput!W144-DataInput!I144,\"\")","v":37},null,null,50,62,0,0,{"$f":"IF(AC144>0,IFERROR(IF(AVERAGE(DataInput!Q143:Q144)>AVERAGE(AC144,AC143),ROUNDDOWN(((((AC143-AB143)+(AC144-AB144))/2)*(A144-A143))/27,0),IF(((((DataInput!Q144-AB144)+(DataInput!Q143-AB143))/2)*(A144-A143))/27>0,ROUNDDOWN(((((DataInput!Q144-AB143)+(DataInput!Q143-AB143))/2)*(A144-A143))/27,0),0)),0),0)","v":0},0,{"$f":"IFERROR(IF(((((DataInput!Q143-AE143)+(DataInput!Q144-AE144))/2)*(A144-A143))/27>0,ROUNDDOWN(((((DataInput!Q143-AE143)+(DataInput!Q144-AE144))/2)*(A144-A143))/27,0),0),0)","v":2},{"$f":"DataInput!U144","v":35},{"$f":"DataInput!S144","v":25},25,0]
[{"$f":"IF(DataInput!A145<>\"\",DataInput!A145,\"\")","v":200600},{"$f":"SUM(DataInput!C145,DataInput!X145)+(DataInput!U145-DataInput!E145)","v":158.80000000000001},{"$f":"SUM(DataInput!D145,DataInput!Y145)","v":148},{"$f":"DataInput!U145","v":37.799999999999997},{"$f":"SUM(DataInput!F145,DataInput!AA145)","v":0},{"$f":"SUM(DataInput!G145,DataInput!AB145)","v":0},{"$f":"SUM(DataInput!H145,DataInput!AC145)","v":0},{"$f":"DataInput!W145","v":38},{"$f":"SUM(DataInput!J145,DataInput!AD145)","v":0},{"$f":"SUM(DataInput!K145,DataInput!AE145)","v":0},{"$f":"SUM(DataInput!L145,DataInput!AF145)","v":0},{"$f":"SUM(DataInput!M145,DataInput!AG145)","v":0},{"$f":"SUM(DataInput!N145,DataInput!AH145)","v":0},{"$f":"SUM(DataInput!O145,DataInput!AI145)","v":0},{"$f":"DataInput!P145","v":0},null,null,148,114,{"$f":"DataInput!R145","v":7},{"$f":"DataInput!X145","v":0},{"$f":"IF(DataInput!U145-DataInput!E145>0,DataInput!U145-DataInput!E145,\"\")","v":10.799999999999997},{"$f":"IF(DataInput!W145-DataInput!I145>0,DataInput!W145-DataInput!I145,\"\")","v":38},null,null,55.8,58.2,0,0,{"$f":"IF(AC145>0,IFERROR(IF(AVERAGE(DataInput!Q144:Q145)>AVERAGE(AC145,AC144),ROUNDDOWN(((((AC144-AB144)+(AC145-AB145))/2)*(A145-A144))/27,0),IF(((((DataInput!Q145-AB145)+(DataInput!Q144-AB144))/2)*(A145-A144))/27>0,ROUNDDOWN(((((DataInput!Q145-AB144)+(DataInput!Q144-AB144))/2)*(A145-A144))/27,0),0)),0),0)","v":0},0,{"$f":"IFERROR(IF(((((DataInput!Q144-AE144)+(DataInput!Q145-AE145))/2)*(A145-A144))/27>0,ROUNDDOWN(((((DataInput!Q144-AE144)+(DataInput!Q145-AE145))/2)*(A145-A144))/27,0),0),0)","v":6},{"$f":"DataInput!U145","v":37.799999999999997},{"$f":"DataInput!S145","v":27},27,0]
[{"$f":"IF(DataInput!A146<>\"\",DataInput!A146,\"\")","v":200625},{"$f":"SUM(DataInput!C146,DataInput!X146)+(DataInput!U146-DataInput!E146)","v":163.19999999999999},{"$f":"SUM(DataInput!D146,DataInput!Y146)","v":152},{"$f":"DataInput!U146","v":39.199999999999996},{"$f":"SUM(DataInput!F146,DataInput!AA146)","v":0},{"$f":"SUM(DataInput!G146,DataInput!AB146)","v":0},{"$f":"SUM(DataInput!H146,DataInput!AC146)","v":0},{"$f":"DataInput!W146","v":38},{"$f":"SUM(DataInput!J146,DataInput!AD146)","v":0},{"$f":"SUM(DataInput!K146,DataInput!AE146)","v":0},{"$f":"SUM(DataInput!L146,DataInput!AF146)","v":0},{"$f":"SUM(DataInput!M146,DataInput!AG146)","v":0},{"$f":"SUM(DataInput!N146,DataInput!AH146)","v":0},{"$f":"SUM(DataInput!O146,DataInput!AI146)","v":0},{"$f":"DataInput!P146","v":0},null,null,152,117,{"$f":"DataInput!R146","v":11},{"$f":"DataInput!X146","v":0},{"$f":"IF(DataInput!U146-DataInput!E146>0,DataInput!U146-DataInput!E146,\"\")","v":11.199999999999996},{"$f":"IF(DataInput!W146-DataInput!I146>0,DataInput!W146-DataInput!I146,\"\")","v":38},null,null,60.199999999999996,56.800000000000004,0,0,{"$f":"IF(AC146>0,IFERROR(IF(AVERAGE(DataInput!Q145:Q146)>AVERAGE(AC146,AC145),ROUNDDOWN(((((AC145-AB145)+(AC146-AB146))/2)*(A146-A145))/27,0),IF(((((DataInput!Q146-AB146)+(DataInput!Q145-AB145))/2)*(A146-A145))/27>0,ROUNDDOWN(((((DataInput!Q146-AB145)+(DataInput!Q145-AB145))/2)*(A146-A145))/27,0),0)),0),0)","v":0},0,{"$f":"IFERROR(IF(((((DataInput!Q145-AE145)+(DataInput!Q146-AE146))/2)*(A146-A145))/27>0,ROUNDDOWN(((((DataInput!Q145-AE145)+(DataInput!Q146-AE146))/2)*(A146-A145))/27,0),0),0)","v":11},{"$f":"DataInput!U146","v":39.199999999999996},{"$f":"DataInput!S146","v":28},28,0]
[{"$f":"IF(DataInput!A147<>\"\",DataInput!A147,\"\")","v":200650},{"$f":"SUM(DataInput!C147,DataInput!X147)+(DataInput!U147-DataInput!E147)","v":147},{"$f":"SUM(DataInput!D147,DataInput!Y147)","v":137},{"$f":"DataInput!U147","v":35},{"$f":"SUM(DataInput!F147,DataInput!AA147)","v":0},{"$f":"SUM(DataInput!G147,DataInput!AB147)","v":0},{"$f":"SUM(DataInput!H147,DataInput!AC147)","v":0},{"$f":"DataInput!W147","v":33},{"$f":"SUM(DataInput!J147,DataInput!AD147)","v":0},{"$f":"SUM(DataInput!K147,DataInput!AE147)","v":0},{"$f":"SUM(DataInput!L147,DataInput!AF147)","v":0},{"$f":"SUM(DataInput!M147,DataInput!AG147)","v":0},{"$f":"SUM(DataInput!N147,DataInput!AH147)","v":0},{"$f":"SUM(DataInput!O147,DataInput!AI147)","v":0},{"$f":"DataInput!P147","v":0},null,null,137,105,{"$f":"DataInput!R147","v":11},{"$f":"DataInput!X147","v":0},{"$f":"IF(DataInput!U147-DataInput!E147>0,DataInput!U147-DataInput!E147,\"\")","v":10},{"$f":"IF(DataInput!W147-DataInput!I147>0,DataInput!W147-DataInput!I147,\"\")","v":33},null,null,54,51,0,0,{"$f":"IF(AC147>0,IFERROR(IF(AVERAGE(DataInput!Q146:Q147)>AVERAGE(AC147,AC146),ROUNDDOWN(((((AC146-AB146)+(AC147-AB147))/2)*(A147-A146))/27,0),IF(((((DataInput!Q147-AB147)+(DataInput!Q146-AB146))/2)*(A147-A146))/27>0,ROUNDDOWN(((((DataInput!Q147-AB146)+(DataInput!Q146-AB146))/2)*(A147-A146))/27,0),0)),0),0)","v":0},0,{"$f":"IFERROR(IF(((((DataInput!Q146-AE146)+(DataInput!Q147-AE147))/2)*(A147-A146))/27>0,ROUNDDOWN(((((DataInput!Q146-AE146)+(DataInput!Q147-AE147))/2)*(A147-A146))/27,0),0),0)","v":12},{"$f":"DataInput!U147","v":35},{"$f":"DataInput!S147","v":25},25,0]
[{"$f":"IF(DataInput!A148<>\"\",DataInput!A148,\"\")","v":200671.76},{"$f":"SUM(DataInput!C148,DataInput!X148)+(DataInput!U148-DataInput!E148)","v":21.6},{"$f":"SUM(DataInput!D148,DataInput!Y148)","v":20},{"$f":"DataInput!U148","v":5.6},{"$f":"SUM(DataInput!F148,DataInput!AA148)","v":0},{"$f":"SUM(DataInput!G148,DataInput!AB148)","v":0},{"$f":"SUM(DataInput!H148,DataInput!AC148)","v":0},{"$f":"DataInput!W148","v":5},{"$f":"SUM(DataInput!J148,DataInput!AD148)","v":0},{"$f":"SUM(DataInput!K148,DataInput!AE148)","v":0},{"$f":"SUM(DataInput!L148,DataInput!AF148)","v":0},{"$f":"SUM(DataInput!M148,DataInput!AG148)","v":0},{"$f":"SUM(DataInput!N148,DataInput!AH148)","v":0},{"$f":"SUM(DataInput!O148,DataInput!AI148)","v":0},{"$f":"DataInput!P148","v":0},null,null,20,15,{"$f":"DataInput!R148","v":1},{"$f":"DataInput!X148","v":0},{"$f":"IF(DataInput!U148-DataInput!E148>0,DataInput!U148-DataInput!E148,\"\")","v":1.5999999999999996},{"$f":"IF(DataInput!W148-DataInput!I148>0,DataInput!W148-DataInput!I148,\"\")","v":5},null,null,7.6,7.4,0,0,{"$f":"IF(AC148>0,IFERROR(IF(AVERAGE(DataInput!Q147:Q148)>AVERAGE(AC148,AC147),ROUNDDOWN(((((AC147-AB147)+(AC148-AB148))/2)*(A148-A147))/27,0),IF(((((DataInput!Q148-AB148)+(DataInput!Q147-AB147))/2)*(A148-A147))/27>0,ROUNDDOWN(((((DataInput!Q148-AB147)+(DataInput!Q147-AB147))/2)*(A148-A147))/27,0),0)),0),0)","v":0},0,{"$f":"IFERROR(IF(((((DataInput!Q147-AE147)+(DataInput!Q148-AE148))/2)*(A148-A147))/27>0,ROUNDDOWN(((((DataInput!Q147-AE147)+(DataInput!Q148-AE148))/2)*(A148-A147))/27,0),0),0)","v":10},{"$f":"DataInput!U148","v":5.6},{"$f":"DataInput!S148","v":4},4,0]
[{"$f":"IF(DataInput!A149<>\"\",DataInput!A149,\"\")","v":200675},{"$f":"SUM(DataInput!C149,DataInput!X149)+(DataInput!U149-DataInput!E149)","v":164.6},{"$f":"SUM(DataInput!D149,DataInput!Y149)","v":153},{"$f":"DataInput!U149","v":40.599999999999994},{"$f":"SUM(DataInput!F149,DataInput!AA149)","v":0},{"$f":"SUM(DataInput!G149,DataInput!AB149)","v":0},{"$f":"SUM(DataInput!H149,DataInput!AC149)","v":0},{"$f":"DataInput!W149","v":37},{"$f":"SUM(DataInput!J149,DataInput!AD149)","v":0},{"$f":"SUM(DataInput!K149,DataInput!AE149)","v":0},{"$f":"SUM(DataInput!L149,DataInput!AF149)","v":0},{"$f":"SUM(DataInput!M149,DataInput!AG149)","v":0},{"$f":"SUM(DataInput!N149,DataInput!AH149)","v":0},{"$f":"SUM(DataInput!O149,DataInput!AI149)","v":0},{"$f":"DataInput!P149","v":0},null,null,153,118,{"$f":"DataInput!R149","v":11},{"$f":"DataInput!X149","v":0},{"$f":"IF(DataInput!U149-DataInput!E149>0,DataInput!U149-DataInput!E149,\"\")","v":11.599999999999994},{"$f":"IF(DataInput!W149-DataInput!I149>0,DataInput!W149-DataInput!I149,\"\")","v":37},null,null,59.599999999999994,58.400000000000006,0,0,{"$f":"IF(AC149>0,IFERROR(IF(AVERAGE(DataInput!Q148:Q149)>AVERAGE(AC149,AC148),ROUNDDOWN(((((AC148-AB148)+(AC149-AB149))/2)*(A149-A148))/27,0),IF(((((DataInput!Q149-AB149)+(DataInput!Q148-AB148))/2)*(A149-A148))/27>0,ROUNDDOWN(((((DataInput!Q149-AB148)+(DataInput!Q148-AB148))/2)*(A149-A148))/27,0),0)),0),0)","v":0},0,{"$f":"IFERROR(IF(((((DataInput!Q148-AE148)+(DataInput!Q149-AE149))/2)*(A149-A148))/27>0,ROUNDDOWN(((((DataInput!Q148-AE148)+(DataInput!Q149-AE149))/2)*(A149-A148))/27,0),0),0)","v":1},{"$f":"DataInput!U149","v":40.599999999999994},{"$f":"DataInput!S149","v":29},29,0]
[{"$f":"IF(DataInput!A150<>\"\",DataInput!A150,\"\")","v":200700},{"$f":"SUM(DataInput!C150,DataInput!X150)+(DataInput!U150-DataInput!E150)","v":157.6},{"$f":"SUM(DataInput!D150,DataInput!Y150)","v":146},{"$f":"DataInput!U150","v":40.599999999999994},{"$f":"SUM(DataInput!F150,DataInput!AA150)","v":0},{"$f":"SUM(DataInput!G150,DataInput!AB150)","v":0},{"$f":"SUM(DataInput!H150,DataInput!AC150)","v":0},{"$f":"DataInput!W150","v":37},{"$f":"SUM(DataInput!J150,DataInput!AD150)","v":0},{"$f":"SUM(DataInput!K150,DataInput!AE150)","v":0},{"$f":"SUM(DataInput!L150,DataInput!AF150)","v":0},{"$f":"SUM(DataInput!M150,DataInput!AG150)","v":0},{"$f":"SUM(DataInput!N150,DataInput!AH150)","v":0},{"$f":"SUM(DataInput!O150,DataInput!AI150)","v":0},{"$f":"DataInput!P150","v":0},null,null,146,112,{"$f":"DataInput!R150","v":9},{"$f":"DataInput!X150","v":0},{"$f":"IF(DataInput!U150-DataInput!E150>0,DataInput!U150-DataInput!E150,\"\")","v":11.599999999999994},{"$f":"IF(DataInput!W150-DataInput!I150>0,DataInput!W150-DataInput!I150,\"\")","v":37},null,null,57.599999999999994,54.400000000000006,0,0,{"$f":"IF(AC150>0,IFERROR(IF(AVERAGE(DataInput!Q149:Q150)>AVERAGE(AC150,AC149),ROUNDDOWN(((((AC149-AB149)+(AC150-AB150))/2)*(A150-A149))/27,0),IF(((((DataInput!Q150-AB150)+(DataInput!Q149-AB149))/2)*(A150-A149))/27>0,ROUNDDOWN(((((DataInput!Q150-AB149)+(DataInput!Q149-AB149))/2)*(A150-A149))/27,0),0)),0),0)","v":0},0,{"$f":"IFERROR(IF(((((DataInput!Q149-AE149)+(DataInput!Q150-AE150))/2)*(A150-A149))/27>0,ROUNDDOWN(((((DataInput!Q149-AE149)+(DataInput!Q150-AE150))/2)*(A150-A149))/27,0),0),0)","v":8},{"$f":"DataInput!U150","v":40.599999999999994},{"$f":"DataInput!S150","v":29},29,0]
[{"$f":"IF(DataInput!A151<>\"\",DataInput!A151,\"\")","v":200725},{"$f":"SUM(DataInput!C151,DataInput!X151)+(DataInput!U151-DataInput!E151)","v":144.80000000000001},{"$f":"SUM(DataInput!D151,DataInput!Y151)","v":134},{"$f":"DataInput!U151","v":37.799999999999997},{"$f":"SUM(DataInput!F151,DataInput!AA151)","v":0},{"$f":"SUM(DataInput!G151,DataInput!AB151)","v":0},{"$f":"SUM(DataInput!H151,DataInput!AC151)","v":0},{"$f":"DataInput!W151","v":36},{"$f":"SUM(DataInput!J151,DataInput!AD151)","v":0},{"$f":"SUM(DataInput!K151,DataInput!AE151)","v":0},{"$f":"SUM(DataInput!L151,DataInput!AF151)","v":0},{"$f":"SUM(DataInput!M151,DataInput!AG151)","v":0},{"$f":"SUM(DataInput!N151,DataInput!AH151)","v":0},{"$f":"SUM(DataInput!O151,DataInput!AI151)","v":0},{"$f":"DataInput!P151","v":0},null,null,134,103,{"$f":"DataInput!R151","v":4},{"$f":"DataInput!X151","v":0},{"$f":"IF(DataInput!U151-DataInput!E151>0,DataInput!U151-DataInput!E151,\"\")","v":10.799999999999997},{"$f":"IF(DataInput!W151-DataInput!I151>0,DataInput!W151-DataInput!I151,\"\")","v":36},null,null,50.8,52.2,0,0,{"$f":"IF(AC151>0,IFERROR(IF(AVERAGE(DataInput!Q150:Q151)>AVERAGE(AC151,AC150),ROUNDDOWN(((((AC150-AB150)+(AC151-AB151))/2)*(A151-A150))/27,0),IF(((((DataInput!Q151-AB151)+(DataInput!Q150-AB150))/2)*(A151-A150))/27>0,ROUNDDOWN(((((DataInput!Q151-AB150)+(DataInput!Q150-AB150))/2)*(A151-A150))/27,0),0)),0),0)","v":0},0,{"$f":"IFERROR(IF(((((DataInput!Q150-AE150)+(DataInput!Q151-AE151))/2)*(A151-A150))/27>0,ROUNDDOWN(((((DataInput!Q150-AE150)+(DataInput!Q151-AE151))/2)*(A151-A150))/27,0),0),0)","v":3},{"$f":"DataInput!U151","v":37.799999999999997},{"$f":"DataInput!S151","v":27},27,0]
[{"$f":"IF(DataInput!A152<>\"\",DataInput!A152,\"\")","v":200750},{"$f":"SUM(DataInput!C152,DataInput!X152)+(DataInput!U152-DataInput!E152)","v":129.6},{"$f":"SUM(DataInput!D152,DataInput!Y152)","v":120},{"$f":"DataInput!U152","v":33.599999999999994},{"$f":"SUM(DataInput!F152,DataInput!AA152)","v":0},{"$f":"SUM(DataInput!G152,DataInput!AB152)","v":0},{"$f":"SUM(DataInput!H152,DataInput!AC152)","v":0},{"$f":"DataInput!W152","v":38},{"$f":"SUM(DataInput!J152,DataInput!AD152)","v":0},{"$f":"SUM(DataInput!K152,DataInput!AE152)","v":0},{"$f":"SUM(DataInput!L152,DataInput!AF152)","v":0},{"$f":"SUM(DataInput!M152,DataInput!AG152)","v":0},{"$f":"SUM(DataInput!N152,DataInput!AH152)","v":0},{"$f":"SUM(DataInput!O152,DataInput!AI152)","v":0},{"$f":"DataInput!P152","v":0},null,null,120,92,{"$f":"DataInput!R152","v":1},{"$f":"DataInput!X152","v":0},{"$f":"IF(DataInput!U152-DataInput!E152>0,DataInput!U152-DataInput!E152,\"\")","v":9.5999999999999943},{"$f":"IF(DataInput!W152-DataInput!I152>0,DataInput!W152-DataInput!I152,\"\")","v":38},null,null,48.599999999999994,43.400000000000006,0,0,{"$f":"IF(AC152>0,IFERROR(IF(AVERAGE(DataInput!Q151:Q152)>AVERAGE(AC152,AC151),ROUNDDOWN(((((AC151-AB151)+(AC152-AB152))/2)*(A152-A151))/27,0),IF(((((DataInput!Q152-AB152)+(DataInput!Q151-AB151))/2)*(A152-A151))/27>0,ROUNDDOWN(((((DataInput!Q152-AB151)+(DataInput!Q151-AB151))/2)*(A152-A151))/27,0),0)),0),0)","v":0},0,{"$f":"IFERROR(IF(((((DataInput!Q151-AE151)+(DataInput!Q152-AE152))/2)*(A152-A151))/27>0,ROUNDDOWN(((((DataInput!Q151-AE151)+(DataInput!Q152-AE152))/2)*(A152-A151))/27,0),0),0)","v":0},{"$f":"DataInput!U152","v":33.599999999999994},{"$f":"DataInput!S152","v":24},24,0]
[{"$f":"IF(DataInput!A153<>\"\",DataInput!A153,\"\")","v":200775},{"$f":"SUM(DataInput!C153,DataInput!X153)+(DataInput!U153-DataInput!E153)","v":156},{"$f":"SUM(DataInput!D153,DataInput!Y153)","v":144},{"$f":"DataInput!U153","v":42},{"$f":"SUM(DataInput!F153,DataInput!AA153)","v":0},{"$f":"SUM(DataInput!G153,DataInput!AB153)","v":0},{"$f":"SUM(DataInput!H153,DataInput!AC153)","v":0},{"$f":"DataInput!W153","v":41},{"$f":"SUM(DataInput!J153,DataInput!AD153)","v":0},{"$f":"SUM(DataInput!K153,DataInput!AE153)","v":0},{"$f":"SUM(DataInput!L153,DataInput!AF153)","v":0},{"$f":"SUM(DataInput!M153,DataInput!AG153)","v":0},{"$f":"SUM(DataInput!N153,DataInput!AH153)","v":0},{"$f":"SUM(DataInput!O153,DataInput!AI153)","v":0},{"$f":"DataInput!P153","v":0},null,null,144,111,{"$f":"DataInput!R153","v":4},{"$f":"DataInput!X153","v":0},{"$f":"IF(DataInput!U153-DataInput!E153>0,DataInput!U153-DataInput!E153,\"\")","v":12},{"$f":"IF(DataInput!W153-DataInput!I153>0,DataInput!W153-DataInput!I153,\"\")","v":41},null,null,57,54,0,0,{"$f":"IF(AC153>0,IFERROR(IF(AVERAGE(DataInput!Q152:Q153)>AVERAGE(AC153,AC152),ROUNDDOWN(((((AC152-AB152)+(AC153-AB153))/2)*(A153-A152))/27,0),IF(((((DataInput!Q153-AB153)+(DataInput!Q152-AB152))/2)*(A153-A152))/27>0,ROUNDDOWN(((((DataInput!Q153-AB152)+(DataInput!Q152-AB152))/2)*(A153-A152))/27,0),0)),0),0)","v":0},0,{"$f":"IFERROR(IF(((((DataInput!Q152-AE152)+(DataInput!Q153-AE153))/2)*(A153-A152))/27>0,ROUNDDOWN(((((DataInput!Q152-AE152)+(DataInput!Q153-AE153))/2)*(A153-A152))/27,0),0),0)","v":3},{"$f":"DataInput!U153","v":42},{"$f":"DataInput!S153","v":30},30,0]
[{"$f":"IF(DataInput!A154<>\"\",DataInput!A154,\"\")","v":200800},{"$f":"SUM(DataInput!C154,DataInput!X154)+(DataInput!U154-DataInput!E154)","v":225.2},{"$f":"SUM(DataInput!D154,DataInput!Y154)","v":210},{"$f":"DataInput!U154","v":53.199999999999996},{"$f":"SUM(DataInput!F154,DataInput!AA154)","v":0},{"$f":"SUM(DataInput!G154,DataInput!AB154)","v":0},{"$f":"SUM(DataInput!H154,DataInput!AC154)","v":0},{"$f":"DataInput!W154","v":43},{"$f":"SUM(DataInput!J154,DataInput!AD154)","v":0},{"$f":"SUM(DataInput!K154,DataInput!AE154)","v":0},{"$f":"SUM(DataInput!L154,DataInput!AF154)","v":0},{"$f":"SUM(DataInput!M154,DataInput!AG154)","v":0},{"$f":"SUM(DataInput!N154,DataInput!AH154)","v":0},{"$f":"SUM(DataInput!O154,DataInput!AI154)","v":0},{"$f":"DataInput!P154","v":0},null,null,210,162,{"$f":"DataInput!R154","v":4},{"$f":"DataInput!X154","v":0},{"$f":"IF(DataInput!U154-DataInput!E154>0,DataInput!U154-DataInput!E154,\"\")","v":15.199999999999996},{"$f":"IF(DataInput!W154-DataInput!I154>0,DataInput!W154-DataInput!I154,\"\")","v":43},null,null,62.199999999999996,99.800000000000011,0,0,{"$f":"IF(AC154>0,IFERROR(IF(AVERAGE(DataInput!Q153:Q154)>AVERAGE(AC154,AC153),ROUNDDOWN(((((AC153-AB153)+(AC154-AB154))/2)*(A154-A153))/27,0),IF(((((DataInput!Q154-AB154)+(DataInput!Q153-AB153))/2)*(A154-A153))/27>0,ROUNDDOWN(((((DataInput!Q154-AB153)+(DataInput!Q153-AB153))/2)*(A154-A153))/27,0),0)),0),0)","v":0},0,{"$f":"IFERROR(IF(((((DataInput!Q153-AE153)+(DataInput!Q154-AE154))/2)*(A154-A153))/27>0,ROUNDDOWN(((((DataInput!Q153-AE153)+(DataInput!Q154-AE154))/2)*(A154-A153))/27,0),0),0)","v":4},{"$f":"DataInput!U154","v":53.199999999999996},{"$f":"DataInput!S154","v":38},38,0]
[{"$f":"IF(DataInput!A155<>\"\",DataInput!A155,\"\")","v":200825},{"$f":"SUM(DataInput!C155,DataInput!X155)+(DataInput!U155-DataInput!E155)","v":321.2},{"$f":"SUM(DataInput!D155,DataInput!Y155)","v":304},{"$f":"DataInput!U155","v":60.199999999999996},{"$f":"SUM(DataInput!F155,DataInput!AA155)","v":0},{"$f":"SUM(DataInput!G155,DataInput!AB155)","v":0},{"$f":"SUM(DataInput!H155,DataInput!AC155)","v":0},{"$f":"DataInput!W155","v":43},{"$f":"SUM(DataInput!J155,DataInput!AD155)","v":0},{"$f":"SUM(DataInput!K155,DataInput!AE155)","v":0},{"$f":"SUM(DataInput!L155,DataInput!AF155)","v":0},{"$f":"SUM(DataInput!M155,DataInput!AG155)","v":0},{"$f":"SUM(DataInput!N155,DataInput!AH155)","v":0},{"$f":"SUM(DataInput!O155,DataInput!AI155)","v":0},{"$f":"DataInput!P155","v":0},null,null,304,234,{"$f":"DataInput!R155","v":1},{"$f":"DataInput!X155","v":0},{"$f":"IF(DataInput!U155-DataInput!E155>0,DataInput!U155-DataInput!E155,\"\")","v":17.199999999999996},{"$f":"IF(DataInput!W155-DataInput!I155>0,DataInput!W155-DataInput!I155,\"\")","v":43},null,null,61.199999999999996,172.8,0,0,{"$f":"IF(AC155>0,IFERROR(IF(AVERAGE(DataInput!Q154:Q155)>AVERAGE(AC155,AC154),ROUNDDOWN(((((AC154-AB154)+(AC155-AB155))/2)*(A155-A154))/27,0),IF(((((DataInput!Q155-AB155)+(DataInput!Q154-AB154))/2)*(A155-A154))/27>0,ROUNDDOWN(((((DataInput!Q155-AB154)+(DataInput!Q154-AB154))/2)*(A155-A154))/27,0),0)),0),0)","v":0},0,{"$f":"IFERROR(IF(((((DataInput!Q154-AE154)+(DataInput!Q155-AE155))/2)*(A155-A154))/27>0,ROUNDDOWN(((((DataInput!Q154-AE154)+(DataInput!Q155-AE155))/2)*(A155-A154))/27,0),0),0)","v":0},{"$f":"DataInput!U155","v":60.199999999999996},{"$f":"DataInput!S155","v":43},43,0]
[{"$f":"IF(DataInput!A156<>\"\",DataInput!A156,\"\")","v":200850},{"$f":"SUM(DataInput!C156,DataInput!X156)+(DataInput!U156-DataInput!E156)","v":421},{"$f":"SUM(DataInput!D156,DataInput!Y156)","v":401},{"$f":"DataInput!U156","v":70},{"$f":"SUM(DataInput!F156,DataInput!AA156)","v":0},{"$f":"SUM(DataInput!G156,DataInput!AB156)","v":0},{"$f":"SUM(DataInput!H156,DataInput!AC156)","v":0},{"$f":"DataInput!W156","v":40},{"$f":"SUM(DataInput!J156,DataInput!AD156)","v":0},{"$f":"SUM(DataInput!K156,DataInput!AE156)","v":0},{"$f":"SUM(DataInput!L156,DataInput!AF156)","v":0},{"$f":"SUM(DataInput!M156,DataInput!AG156)","v":0},{"$f":"SUM(DataInput!N156,DataInput!AH156)","v":0},{"$f":"SUM(DataInput!O156,DataInput!AI156)","v":0},{"$f":"DataInput!P156","v":0},null,null,401,308,{"$f":"DataInput!R156","v":4},{"$f":"DataInput!X156","v":0},{"$f":"IF(DataInput!U156-DataInput!E156>0,DataInput!U156-DataInput!E156,\"\")","v":20},{"$f":"IF(DataInput!W156-DataInput!I156>0,DataInput!W156-DataInput!I156,\"\")","v":40},null,null,64,244,0,0,{"$f":"IF(AC156>0,IFERROR(IF(AVERAGE(DataInput!Q155:Q156)>AVERAGE(AC156,AC155),ROUNDDOWN(((((AC155-AB155)+(AC156-AB156))/2)*(A156-A155))/27,0),IF(((((DataInput!Q156-AB156)+(DataInput!Q155-AB155))/2)*(A156-A155))/27>0,ROUNDDOWN(((((DataInput!Q156-AB155)+(DataInput!Q155-AB155))/2)*(A156-A155))/27,0),0)),0),0)","v":0},0,{"$f":"IFERROR(IF(((((DataInput!Q155-AE155)+(DataInput!Q156-AE156))/2)*(A156-A155))/27>0,ROUNDDOWN(((((DataInput!Q155-AE155)+(DataInput!Q156-AE156))/2)*(A156-A155))/27,0),0),0)","v":4},{"$f":"DataInput!U156","v":70},{"$f":"DataInput!S156","v":50},50,0]
[{"$f":"IF(DataInput!A157<>\"\",DataInput!A157,\"\")","v":200875},{"$f":"SUM(DataInput!C157,DataInput!X157)+(DataInput!U157-DataInput!E157)","v":529.6},{"$f":"SUM(DataInput!D157,DataInput!Y157)","v":504},{"$f":"DataInput!U157","v":89.6},{"$f":"SUM(DataInput!F157,DataInput!AA157)","v":0},{"$f":"SUM(DataInput!G157,DataInput!AB157)","v":0},{"$f":"SUM(DataInput!H157,DataInput!AC157)","v":0},{"$f":"DataInput!W157","v":37},{"$f":"SUM(DataInput!J157,DataInput!AD157)","v":0},{"$f":"SUM(DataInput!K157,DataInput!AE157)","v":0},{"$f":"SUM(DataInput!L157,DataInput!AF157)","v":0},{"$f":"SUM(DataInput!M157,DataInput!AG157)","v":0},{"$f":"SUM(DataInput!N157,DataInput!AH157)","v":0},{"$f":"SUM(DataInput!O157,DataInput!AI157)","v":0},{"$f":"DataInput!P157","v":0},null,null,504,388,{"$f":"DataInput!R157","v":60},{"$f":"DataInput!X157","v":0},{"$f":"IF(DataInput!U157-DataInput!E157>0,DataInput!U157-DataInput!E157,\"\")","v":25.599999999999994},{"$f":"IF(DataInput!W157-DataInput!I157>0,DataInput!W157-DataInput!I157,\"\")","v":37},null,null,122.6,265.39999999999998,0,0,{"$f":"IF(AC157>0,IFERROR(IF(AVERAGE(DataInput!Q156:Q157)>AVERAGE(AC157,AC156),ROUNDDOWN(((((AC156-AB156)+(AC157-AB157))/2)*(A157-A156))/27,0),IF(((((DataInput!Q157-AB157)+(DataInput!Q156-AB156))/2)*(A157-A156))/27>0,ROUNDDOWN(((((DataInput!Q157-AB156)+(DataInput!Q156-AB156))/2)*(A157-A156))/27,0),0)),0),0)","v":0},0,{"$f":"IFERROR(IF(((((DataInput!Q156-AE156)+(DataInput!Q157-AE157))/2)*(A157-A156))/27>0,ROUNDDOWN(((((DataInput!Q156-AE156)+(DataInput!Q157-AE157))/2)*(A157-A156))/27,0),0),0)","v":60},{"$f":"DataInput!U157","v":89.6},{"$f":"DataInput!S157","v":64},64,0]
[{"$f":"IF(DataInput!A158<>\"\",DataInput!A158,\"\")","v":200900},{"$f":"SUM(DataInput!C158,DataInput!X158)+(DataInput!U158-DataInput!E158)","v":717.6},{"$f":"SUM(DataInput!D158,DataInput!Y158)","v":684},{"$f":"DataInput!U158","v":117.6},{"$f":"SUM(DataInput!F158,DataInput!AA158)","v":0},{"$f":"SUM(DataInput!G158,DataInput!AB158)","v":0},{"$f":"SUM(DataInput!H158,DataInput!AC158)","v":0},{"$f":"DataInput!W158","v":38},{"$f":"SUM(DataInput!J158,DataInput!AD158)","v":0},{"$f":"SUM(DataInput!K158,DataInput!AE158)","v":0},{"$f":"SUM(DataInput!L158,DataInput!AF158)","v":0},{"$f":"SUM(DataInput!M158,DataInput!AG158)","v":0},{"$f":"SUM(DataInput!N158,DataInput!AH158)","v":0},{"$f":"SUM(DataInput!O158,DataInput!AI158)","v":0},{"$f":"DataInput!P158","v":0},null,null,684,526,{"$f":"DataInput!R158","v":167},{"$f":"DataInput!X158","v":0},{"$f":"IF(DataInput!U158-DataInput!E158>0,DataInput!U158-DataInput!E158,\"\")","v":33.599999999999994},{"$f":"IF(DataInput!W158-DataInput!I158>0,DataInput!W158-DataInput!I158,\"\")","v":38},null,null,238.6,287.39999999999998,0,0,{"$f":"IF(AC158>0,IFERROR(IF(AVERAGE(DataInput!Q157:Q158)>AVERAGE(AC158,AC157),ROUNDDOWN(((((AC157-AB157)+(AC158-AB158))/2)*(A158-A157))/27,0),IF(((((DataInput!Q158-AB158)+(DataInput!Q157-AB157))/2)*(A158-A157))/27>0,ROUNDDOWN(((((DataInput!Q158-AB157)+(DataInput!Q157-AB157))/2)*(A158-A157))/27,0),0)),0),0)","v":0},0,{"$f":"IFERROR(IF(((((DataInput!Q157-AE157)+(DataInput!Q158-AE158))/2)*(A158-A157))/27>0,ROUNDDOWN(((((DataInput!Q157-AE157)+(DataInput!Q158-AE158))/2)*(A158-A157))/27,0),0),0)","v":167},{"$f":"DataInput!U158","v":117.6},{"$f":"DataInput!S158","v":84},84,0]
[{"$f":"IF(DataInput!A159<>\"\",DataInput!A159,\"\")","v":200925},{"$f":"SUM(DataInput!C159,DataInput!X159)+(DataInput!U159-DataInput!E159)","v":1018.4},{"$f":"SUM(DataInput!D159,DataInput!Y159)","v":974},{"$f":"DataInput!U159","v":155.39999999999998},{"$f":"SUM(DataInput!F159,DataInput!AA159)","v":0},{"$f":"SUM(DataInput!G159,DataInput!AB159)","v":0},{"$f":"SUM(DataInput!H159,DataInput!AC159)","v":0},{"$f":"DataInput!W159","v":41},{"$f":"SUM(DataInput!J159,DataInput!AD159)","v":0},{"$f":"SUM(DataInput!K159,DataInput!AE159)","v":0},{"$f":"SUM(DataInput!L159,DataInput!AF159)","v":0},{"$f":"SUM(DataInput!M159,DataInput!AG159)","v":0},{"$f":"SUM(DataInput!N159,DataInput!AH159)","v":0},{"$f":"SUM(DataInput!O159,DataInput!AI159)","v":0},{"$f":"DataInput!P159","v":0},null,null,974,749,{"$f":"DataInput!R159","v":295},{"$f":"DataInput!X159","v":0},{"$f":"IF(DataInput!U159-DataInput!E159>0,DataInput!U159-DataInput!E159,\"\")","v":44.399999999999977},{"$f":"IF(DataInput!W159-DataInput!I159>0,DataInput!W159-DataInput!I159,\"\")","v":41},null,null,380.4,368.6,0,0,{"$f":"IF(AC159>0,IFERROR(IF(AVERAGE(DataInput!Q158:Q159)>AVERAGE(AC159,AC158),ROUNDDOWN(((((AC158-AB158)+(AC159-AB159))/2)*(A159-A158))/27,0),IF(((((DataInput!Q159-AB159)+(DataInput!Q158-AB158))/2)*(A159-A158))/27>0,ROUNDDOWN(((((DataInput!Q159-AB158)+(DataInput!Q158-AB158))/2)*(A159-A158))/27,0),0)),0),0)","v":0},0,{"$f":"IFERROR(IF(((((DataInput!Q158-AE158)+(DataInput!Q159-AE159))/2)*(A159-A158))/27>0,ROUNDDOWN(((((DataInput!Q158-AE158)+(DataInput!Q159-AE159))/2)*(A159-A158))/27,0),0),0)","v":294},{"$f":"DataInput!U159","v":155.39999999999998},{"$f":"DataInput!S159","v":111},111,0]
[{"$f":"IF(DataInput!A160<>\"\",DataInput!A160,\"\")","v":200950},{"$f":"SUM(DataInput!C160,DataInput!X160)+(DataInput!U160-DataInput!E160)","v":1011.6},{"$f":"SUM(DataInput!D160,DataInput!Y160)","v":966},{"$f":"DataInput!U160","v":159.6},{"$f":"SUM(DataInput!F160,DataInput!AA160)","v":0},{"$f":"SUM(DataInput!G160,DataInput!AB160)","v":0},{"$f":"SUM(DataInput!H160,DataInput!AC160)","v":0},{"$f":"DataInput!W160","v":49},{"$f":"SUM(DataInput!J160,DataInput!AD160)","v":0},{"$f":"SUM(DataInput!K160,DataInput!AE160)","v":0},{"$f":"SUM(DataInput!L160,DataInput!AF160)","v":0},{"$f":"SUM(DataInput!M160,DataInput!AG160)","v":0},{"$f":"SUM(DataInput!N160,DataInput!AH160)","v":0},{"$f":"SUM(DataInput!O160,DataInput!AI160)","v":0},{"$f":"DataInput!P160","v":0},null,null,966,743,{"$f":"DataInput!R160","v":416},{"$f":"DataInput!X160","v":0},{"$f":"IF(DataInput!U160-DataInput!E160>0,DataInput!U160-DataInput!E160,\"\")","v":45.599999999999994},{"$f":"IF(DataInput!W160-DataInput!I160>0,DataInput!W160-DataInput!I160,\"\")","v":49},null,null,510.6,232.39999999999998,0,0,{"$f":"IF(AC160>0,IFERROR(IF(AVERAGE(DataInput!Q159:Q160)>AVERAGE(AC160,AC159),ROUNDDOWN(((((AC159-AB159)+(AC160-AB160))/2)*(A160-A159))/27,0),IF(((((DataInput!Q160-AB160)+(DataInput!Q159-AB159))/2)*(A160-A159))/27>0,ROUNDDOWN(((((DataInput!Q160-AB159)+(DataInput!Q159-AB159))/2)*(A160-A159))/27,0),0)),0),0)","v":0},0,{"$f":"IFERROR(IF(((((DataInput!Q159-AE159)+(DataInput!Q160-AE160))/2)*(A160-A159))/27>0,ROUNDDOWN(((((DataInput!Q159-AE159)+(DataInput!Q160-AE160))/2)*(A160-A159))/27,0),0),0)","v":416},{"$f":"DataInput!U160","v":159.6},{"$f":"DataInput!S160","v":114},114,0]
[{"$f":"IF(DataInput!A161<>\"\",DataInput!A161,\"\")","v":200975},{"$f":"SUM(DataInput!C161,DataInput!X161)+(DataInput!U161-DataInput!E161)","v":0},{"$f":"SUM(DataInput!D161,DataInput!Y161)","v":0},{"$f":"DataInput!U161","v":0},{"$f":"SUM(DataInput!F161,DataInput!AA161)","v":0},{"$f":"SUM(DataInput!G161,DataInput!AB161)","v":0},{"$f":"SUM(DataInput!H161,DataInput!AC161)","v":0},{"$f":"DataInput!W161","v":0},{"$f":"SUM(DataInput!J161,DataInput!AD161)","v":0},{"$f":"SUM(DataInput!K161,DataInput!AE161)","v":0},{"$f":"SUM(DataInput!L161,DataInput!AF161)","v":0},{"$f":"SUM(DataInput!M161,DataInput!AG161)","v":0},{"$f":"SUM(DataInput!N161,DataInput!AH161)","v":0},{"$f":"SUM(DataInput!O161,DataInput!AI161)","v":0},{"$f":"DataInput!P161","v":0},null,null,0,0,{"$f":"DataInput!R161","v":0},{"$f":"DataInput!X161","v":0},{"$f":"IF(DataInput!U161-DataInput!E161>0,DataInput!U161-DataInput!E161,\"\")","v":""},{"$f":"IF(DataInput!W161-DataInput!I161>0,DataInput!W161-DataInput!I161,\"\")","v":""},null,null,0,0,0,0,{"$f":"IF(AC161>0,IFERROR(IF(AVERAGE(DataInput!Q160:Q161)>AVERAGE(AC161,AC160),ROUNDDOWN(((((AC160-AB160)+(AC161-AB161))/2)*(A161-A160))/27,0),IF(((((DataInput!Q161-AB161)+(DataInput!Q160-AB160))/2)*(A161-A160))/27>0,ROUNDDOWN(((((DataInput!Q161-AB160)+(DataInput!Q160-AB160))/2)*(A161-A160))/27,0),0)),0),0)","v":0},0,{"$f":"IFERROR(IF(((((DataInput!Q160-AE160)+(DataInput!Q161-AE161))/2)*(A161-A160))/27>0,ROUNDDOWN(((((DataInput!Q160-AE160)+(DataInput!Q161-AE161))/2)*(A161-A160))/27,0),0),0)","v":233},{"$f":"DataInput!U161","v":0},{"$f":"DataInput!S161","v":0},0,0]

{"sheet":"Tabfill","index":3,"n_rows":172,"n_cols":22,"rows_kept":172,"cut":false,"hidden":false,"merged":[]}
[{"$f":"IF(DataInformation!$A$7<>\"\",DataInformation!$A$7,\"\")","v":"Station"},{"$f":"IF(DataInformation!$B$7<>\"\",DataInformation!$B$7,\"\")","v":"Template Cut\nVolume"},{"$f":"IF(DataInformation!$C$7<>\"\",DataInformation!$C$7,\"\")","v":"Template\nClass 10\nVolume"},{"$f":"IF(DataInformation!$D$7<>\"\",DataInformation!$D$7,\"\")","v":"Template\nTopsoil Cut\nVolume"},{"$f":"IF(DataInformation!$H$7<>\"\",DataInformation!$H$7,\"\")","v":"Template\nPavement\nRemoval\nVolume"},{"$f":"IF(DataInformation!$R$7<>\"\",DataInformation!$R$7,\"\")","v":"Total\nCut\nAdjusted"},{"$f":"IF(DataInformation!$S$7<>\"\",DataInformation!$S$7,\"\")","v":"Total Cut\nAdjusted w/ \nWeighted Average\n1.3 Shrink Factor"},null,{"$f":"IF(DataInformation!$T$7<>\"\",DataInformation!$T$7,\"\")","v":"Template Fill\nVolume"},{"$f":"IF(DataInformation!$V$7<>\"\",DataInformation!$V$7,\"\")","v":"Topsoil\nStripping\n\n+ Fill"},{"$f":"IF(DataInformation!$W$7<>\"\",DataInformation!$W$7,\"\")","v":"Non-Template\nExisting Pavement\nRemoval\n+Fill"},{"$f":"IF(DataInformation!$Z$7<>\"\",DataInformation!$Z$7,\"\")","v":"Total\nFill\nAdjusted"},{"$f":"IF(DataInformation!$AA$7<>\"\",DataInformation!$AA$7,\"\")","v":"Total Cut Adjusted\nw/ 1.3 Shrink\n Factor Minus Fill"},null,{"$f":"IF(DataInformation!$AD$7<>\"\",DataInformation!$AD$7,\"\")","v":"Approx. Fill\nVolume Below\n5' And Above 20'\nCu. Yds."},{"$f":"IF(DataInformation!$AF$7<>\"\",DataInformation!$AF$7,\"\")","v":"Approx. Fill\nVolume Below 3'\n\nCu. Yds."},null,{"$f":"IF(DataInformation!$AG$7<>\"\",DataInformation!$AG$7,\"\")","v":"Total\nTopsoil Cut\nVolume"},{"$f":"IF(DataInformation!$AH$7<>\"\",DataInformation!$AH$7,\"\")","v":"Template\nTopsoil\nReplacement\nVolume"},{"$f":"IF(DataInformation!$AI$7<>\"\",DataInformation!$AI$7,\"\")","v":"Topsoil Cut\nWith\n1.4 Shrink\nFactor"},{"$f":"IF(DataInformation!$AJ$7<>\"\",DataInformation!$AJ$7,\"\")","v":"Topsoil Cut\nWith Shrink\nMinus Topsoil\nReplacement"}]
[{"$f":"IF(DataInformation!A11<>\"\",DataInformation!A11,\"\")","v":"ML461"},{"$f":"IF(DataInformation!B11<>\"\",DataInformation!B11,\"\")","v":""},{"$f":"IF(DataInformation!C11<>\"\",DataInformation!C11,\"\")","v":""},{"$f":"IF(DataInformation!D11<>\"\",DataInformation!D11,\"\")","v":""},{"$f":"IF(DataInformation!H11<>\"\",DataInformation!H11,\"\")","v":""},{"$f":"IF(DataInformation!R11<>\"\",DataInformation!R11,\"\")","v":""},{"$f":"IF(DataInformation!S11<>\"\",DataInformation!S11,\"\")","v":""},null,{"$f":"IF(DataInformation!T11<>\"\",DataInformation!T11,\"\")","v":""},{"$f":"IF(DataInformation!V11<>\"\",DataInformation!V11,\"\")","v":""},{"$f":"IF(DataInformation!W11<>\"\",DataInformation!W11,\"\")","v":""},{"$f":"IF(DataInformation!Z11<>\"\",DataInformation!Z11,\"\")","v":""},{"$f":"IF(DataInformation!AA11<>\"\",DataInformation!AA11,\"\")","v":""},null,{"$f":"IF(DataInformation!AD11<>\"\",DataInformation!AD11,\"\")","v":""},{"$f":"IF(DataInformation!AF11<>\"\",DataInformation!AF11,\"\")","v":""},null,{"$f":"IF(DataInformation!AG11<>\"\",DataInformation!AG11,\"\")","v":""},{"$f":"IF(DataInformation!AH11<>\"\",DataInformation!AH11,\"\")","v":""},{"$f":"IF(DataInformation!AI11<>\"\",DataInformation!AI11,\"\")","v":""},{"$f":"IF(DataInformation!AJ11<>\"\",DataInformation!AJ11,\"\")","v":""}]
[{"$f":"IF(DataInformation!A12<>\"\",DataInformation!A12,\"\")","v":4320.3900000000003},{"$f":"IF(DataInformation!B12<>\"\",DataInformation!B12,\"\")","v":205.4},{"$f":"IF(DataInformation!C12<>\"\",DataInformation!C12,\"\")","v":199},{"$f":"IF(DataInformation!D12<>\"\",DataInformation!D12,\"\")","v":22.4},{"$f":"IF(DataInformation!H12<>\"\",DataInformation!H12,\"\")","v":10},{"$f":"IF(DataInformation!R12<>\"\",DataInformation!R12,\"\")","v":199},{"$f":"IF(DataInformation!S12<>\"\",DataInformation!S12,\"\")","v":153},null,{"$f":"IF(DataInformation!T12<>\"\",DataInformation!T12,\"\")","v":37},{"$f":"IF(DataInformation!V12<>\"\",DataInformation!V12,\"\")","v":6.3999999999999986},{"$f":"IF(DataInformation!W12<>\"\",DataInformation!W12,\"\")","v":10},{"$f":"IF(DataInformation!Z12<>\"\",DataInformation!Z12,\"\")","v":53.4},{"$f":"IF(DataInformation!AA12<>\"\",DataInformation!AA12,\"\")","v":99.6},null,{"$f":"IF(DataInformation!AD12<>\"\",DataInformation!AD12,\"\")","v":0},{"$f":"IF(DataInformation!AF12<>\"\",DataInformation!AF12,\"\")","v":0},null,{"$f":"IF(DataInformation!AG12<>\"\",DataInformation!AG12,\"\")","v":22.4},{"$f":"IF(DataInformation!AH12<>\"\",DataInformation!AH12,\"\")","v":16},{"$f":"IF(DataInformation!AI12<>\"\",DataInformation!AI12,\"\")","v":16},{"$f":"IF(DataInformation!AJ12<>\"\",DataInformation!AJ12,\"\")","v":0}]
[{"$f":"IF(DataInformation!A13<>\"\",DataInformation!A13,\"\")","v":4325},{"$f":"IF(DataInformation!B13<>\"\",DataInformation!B13,\"\")","v":1208.4000000000001},{"$f":"IF(DataInformation!C13<>\"\",DataInformation!C13,\"\")","v":1168},{"$f":"IF(DataInformation!D13<>\"\",DataInformation!D13,\"\")","v":141.39999999999998},{"$f":"IF(DataInformation!H13<>\"\",DataInformation!H13,\"\")","v":54},{"$f":"IF(DataInformation!R13<>\"\",DataInformation!R13,\"\")","v":1168},{"$f":"IF(DataInformation!S13<>\"\",DataInformation!S13,\"\")","v":898},null,{"$f":"IF(DataInformation!T13<>\"\",DataInformation!T13,\"\")","v":237},{"$f":"IF(DataInformation!V13<>\"\",DataInformation!V13,\"\")","v":40.399999999999977},{"$f":"IF(DataInformation!W13<>\"\",DataInformation!W13,\"\")","v":54},{"$f":"IF(DataInformation!Z13<>\"\",DataInformation!Z13,\"\")","v":331.4},{"$f":"IF(DataInformation!AA13<>\"\",DataInformation!AA13,\"\")","v":566.6},null,{"$f":"IF(DataInformation!AD13<>\"\",DataInformation!AD13,\"\")","v":0},{"$f":"IF(DataInformation!AF13<>\"\",DataInformation!AF13,\"\")","v":43},null,{"$f":"IF(DataInformation!AG13<>\"\",DataInformation!AG13,\"\")","v":141.39999999999998},{"$f":"IF(DataInformation!AH13<>\"\",DataInformation!AH13,\"\")","v":101},{"$f":"IF(DataInformation!AI13<>\"\",DataInformation!AI13,\"\")","v":101},{"$f":"IF(DataInformation!AJ13<>\"\",DataInformation!AJ13,\"\")","v":0}]
[{"$f":"IF(DataInformation!A14<>\"\",DataInformation!A14,\"\")","v":4350},{"$f":"IF(DataInformation!B14<>\"\",DataInformation!B14,\"\")","v":1234.2},{"$f":"IF(DataInformation!C14<>\"\",DataInformation!C14,\"\")","v":1185},{"$f":"IF(DataInformation!D14<>\"\",DataInformation!D14,\"\")","v":172.2},{"$f":"IF(DataInformation!H14<>\"\",DataInformation!H14,\"\")","v":53},{"$f":"IF(DataInformation!R14<>\"\",DataInformation!R14,\"\")","v":1185},{"$f":"IF(DataInformation!S14<>\"\",DataInformation!S14,\"\")","v":912},null,{"$f":"IF(DataInformation!T14<>\"\",DataInformation!T14,\"\")","v":263},{"$f":"IF(DataInformation!V14<>\"\",DataInformation!V14,\"\")","v":49.199999999999989},{"$f":"IF(DataInformation!W14<>\"\",DataInformation!W14,\"\")","v":53},{"$f":"IF(DataInformation!Z14<>\"\",DataInformation!Z14,\"\")","v":365.2},{"$f":"IF(DataInformation!AA14<>\"\",DataInformation!AA14,\"\")","v":546.79999999999995},null,{"$f":"IF(DataInformation!AD14<>\"\",DataInformation!AD14,\"\")","v":0},{"$f":"IF(DataInformation!AF14<>\"\",DataInformation!AF14,\"\")","v":262},null,{"$f":"IF(DataInformation!AG14<>\"\",DataInformation!AG14,\"\")","v":172.2},{"$f":"IF(DataInformation!AH14<>\"\",DataInformation!AH14,\"\")","v":123},{"$f":"IF(DataInformation!AI14<>\"\",DataInformation!AI14,\"\")","v":123},{"$f":"IF(DataInformation!AJ14<>\"\",DataInformation!AJ14,\"\")","v":0}]
[{"$f":"IF(DataInformation!A15<>\"\",DataInformation!A15,\"\")","v":4375},{"$f":"IF(DataInformation!B15<>\"\",DataInformation!B15,\"\")","v":1191.5999999999999},{"$f":"IF(DataInformation!C15<>\"\",DataInformation!C15,\"\")","v":1138},{"$f":"IF(DataInformation!D15<>\"\",DataInformation!D15,\"\")","v":187.6},{"$f":"IF(DataInformation!H15<>\"\",DataInformation!H15,\"\")","v":53},{"$f":"IF(DataInformation!R15<>\"\",DataInformation!R15,\"\")","v":1138},{"$f":"IF(DataInformation!S15<>\"\",DataInformation!S15,\"\")","v":875},null,{"$f":"IF(DataInformation!T15<>\"\",DataInformation!T15,\"\")","v":240},{"$f":"IF(DataInformation!V15<>\"\",DataInformation!V15,\"\")","v":53.599999999999994},{"$f":"IF(DataInformation!W15<>\"\",DataInformation!W15,\"\")","v":53},{"$f":"IF(DataInformation!Z15<>\"\",DataInformation!Z15,\"\")","v":346.6},{"$f":"IF(DataInformation!AA15<>\"\",DataInformation!AA15,\"\")","v":528.4},null,{"$f":"IF(DataInformation!AD15<>\"\",DataInformation!AD15,\"\")","v":0},{"$f":"IF(DataInformation!AF15<>\"\",DataInformation!AF15,\"\")","v":240},null,{"$f":"IF(DataInformation!AG15<>\"\",DataInformation!AG15,\"\")","v":187.6},{"$f":"IF(DataInformation!AH15<>\"\",DataInformation!AH15,\"\")","v":134},{"$f":"IF(DataInformation!AI15<>\"\",DataInformation!AI15,\"\")","v":134},{"$f":"IF(DataInformation!AJ15<>\"\",DataInformation!AJ15,\"\")","v":0}]
[{"$f":"IF(DataInformation!A16<>\"\",DataInformation!A16,\"\")","v":4400},{"$f":"IF(DataInformation!B16<>\"\",DataInformation!B16,\"\")","v":885.6},{"$f":"IF(DataInformation!C16<>\"\",DataInformation!C16,\"\")","v":834},{"$f":"IF(DataInformation!D16<>\"\",DataInformation!D16,\"\")","v":180.6},{"$f":"IF(DataInformation!H16<>\"\",DataInformation!H16,\"\")","v":53},{"$f":"IF(DataInformation!R16<>\"\",DataInformation!R16,\"\")","v":834},{"$f":"IF(DataInformation!S16<>\"\",DataInformation!S16,\"\")","v":642},null,{"$f":"IF(DataInformation!T16<>\"\",DataInformation!T16,\"\")","v":209},{"$f":"IF(DataInformation!V16<>\"\",DataInformation!V16,\"\")","v":51.599999999999994},{"$f":"IF(DataInformation!W16<>\"\",DataInformation!W16,\"\")","v":53},{"$f":"IF(DataInformation!Z16<>\"\",DataInformation!Z16,\"\")","v":313.60000000000002},{"$f":"IF(DataInformation!AA16<>\"\",DataInformation!AA16,\"\")","v":328.4},null,{"$f":"IF(DataInformation!AD16<>\"\",DataInformation!AD16,\"\")","v":0},{"$f":"IF(DataInformation!AF16<>\"\",DataInformation!AF16,\"\")","v":208},null,{"$f":"IF(DataInformation!AG16<>\"\",DataInformation!AG16,\"\")","v":180.6},{"$f":"IF(DataInformation!AH16<>\"\",DataInformation!AH16,\"\")","v":129},{"$f":"IF(DataInformation!AI16<>\"\",DataInformation!AI16,\"\")","v":129},{"$f":"IF(DataInformation!AJ16<>\"\",DataInformation!AJ16,\"\")","v":0}]
[{"$f":"IF(DataInformation!A17<>\"\",DataInformation!A17,\"\")","v":4425},{"$f":"IF(DataInformation!B17<>\"\",DataInformation!B17,\"\")","v":715.6},{"$f":"IF(DataInformation!C17<>\"\",DataInformation!C17,\"\")","v":668},{"$f":"IF(DataInformation!D17<>\"\",DataInformation!D17,\"\")","v":166.6},{"$f":"IF(DataInformation!H17<>\"\",DataInformation!H17,\"\")","v":53},{"$f":"IF(DataInformation!R17<>\"\",DataInformation!R17,\"\")","v":668},{"$f":"IF(DataInformation!S17<>\"\",DataInformation!S17,\"\")","v":514},null,{"$f":"IF(DataInformation!T17<>\"\",DataInformation!T17,\"\")","v":190},{"$f":"IF(DataInformation!V17<>\"\",DataInformation!V17,\"\")","v":47.599999999999994},{"$f":"IF(DataInformation!W17<>\"\",DataInformation!W17,\"\")","v":53},{"$f":"IF(DataInformation!Z17<>\"\",DataInformation!Z17,\"\")","v":290.60000000000002},{"$f":"IF(DataInformation!AA17<>\"\",DataInformation!AA17,\"\")","v":223.39999999999998},null,{"$f":"IF(DataInformation!AD17<>\"\",DataInformation!AD17,\"\")","v":0},{"$f":"IF(DataInformation!AF17<>\"\",DataInformation!AF17,\"\")","v":189},null,{"$f":"IF(DataInformation!AG17<>\"\",DataInformation!AG17,\"\")","v":166.6},{"$f":"IF(DataInformation!AH17<>\"\",DataInformation!AH17,\"\")","v":119},{"$f":"IF(DataInformation!AI17<>\"\",DataInformation!AI17,\"\")","v":119},{"$f":"IF(DataInformation!AJ17<>\"\",DataInformation!AJ17,\"\")","v":0}]
[{"$f":"IF(DataInformation!A18<>\"\",DataInformation!A18,\"\")","v":4450},{"$f":"IF(DataInformation!B18<>\"\",DataInformation!B18,\"\")","v":755.2},{"$f":"IF(DataInformation!C18<>\"\",DataInformation!C18,\"\")","v":710},{"$f":"IF(DataInformation!D18<>\"\",DataInformation!D18,\"\")","v":158.19999999999999},{"$f":"IF(DataInformation!H18<>\"\",DataInformation!H18,\"\")","v":53},{"$f":"IF(DataInformation!R18<>\"\",DataInformation!R18,\"\")","v":710},{"$f":"IF(DataInformation!S18<>\"\",DataInformation!S18,\"\")","v":546},null,{"$f":"IF(DataInformation!T18<>\"\",DataInformation!T18,\"\")","v":163},{"$f":"IF(DataInformation!V18<>\"\",DataInformation!V18,\"\")","v":45.199999999999989},{"$f":"IF(DataInformation!W18<>\"\",DataInformation!W18,\"\")","v":53},{"$f":"IF(DataInformation!Z18<>\"\",DataInformation!Z18,\"\")","v":261.2},{"$f":"IF(DataInformation!AA18<>\"\",DataInformation!AA18,\"\")","v":284.8},null,{"$f":"IF(DataInformation!AD18<>\"\",DataInformation!AD18,\"\")","v":0},{"$f":"IF(DataInformation!AF18<>\"\",DataInformation!AF18,\"\")","v":162},null,{"$f":"IF(DataInformation!AG18<>\"\",DataInformation!AG18,\"\")","v":158.19999999999999},{"$f":"IF(DataInformation!AH18<>\"\",DataInformation!AH18,\"\")","v":113},{"$f":"IF(DataInformation!AI18<>\"\",DataInformation!AI18,\"\")","v":113},{"$f":"IF(DataInformation!AJ18<>\"\",DataInformation!AJ18,\"\")","v":0}]
[{"$f":"IF(DataInformation!A19<>\"\",DataInformation!A19,\"\")","v":4475},{"$f":"IF(DataInformation!B19<>\"\",DataInformation!B19,\"\")","v":558.4},{"$f":"IF(DataInformation!C19<>\"\",DataInformation!C19,\"\")","v":518},{"$f":"IF(DataInformation!D19<>\"\",DataInformation!D19,\"\")","v":141.39999999999998},{"$f":"IF(DataInformation!H19<>\"\",DataInformation!H19,\"\")","v":53},{"$f":"IF(DataInformation!R19<>\"\",DataInformation!R19,\"\")","v":518},{"$f":"IF(DataInformation!S19<>\"\",DataInformation!S19,\"\")","v":398},null,{"$f":"IF(DataInformation!T19<>\"\",DataInformation!T19,\"\")","v":126},{"$f":"IF(DataInformation!V19<>\"\",DataInformation!V19,\"\")","v":40.399999999999977},{"$f":"IF(DataInformation!W19<>\"\",DataInformation!W19,\"\")","v":53},{"$f":"IF(DataInformation!Z19<>\"\",DataInformation!Z19,\"\")","v":219.39999999999998},{"$f":"IF(DataInformation!AA19<>\"\",DataInformation!AA19,\"\")","v":178.60000000000002},null,{"$f":"IF(DataInformation!AD19<>\"\",DataInformation!AD19,\"\")","v":0},{"$f":"IF(DataInformation!AF19<>\"\",DataInformation!AF19,\"\")","v":125},null,{"$f":"IF(DataInformation!AG19<>\"\",DataInformation!AG19,\"\")","v":141.39999999999998},{"$f":"IF(DataInformation!AH19<>\"\",DataInformation!AH19,\"\")","v":101},{"$f":"IF(DataInformation!AI19<>\"\",DataInformation!AI19,\"\")","v":101},{"$f":"IF(DataInformation!AJ19<>\"\",DataInformation!AJ19,\"\")","v":0}]
[{"$f":"IF(DataInformation!A20<>\"\",DataInformation!A20,\"\")","v":4500},{"$f":"IF(DataInformation!B20<>\"\",DataInformation!B20,\"\")","v":0},{"$f":"IF(DataInformation!C20<>\"\",DataInformation!C20,\"\")","v":0},{"$f":"IF(DataInformation!D20<>\"\",DataInformation!D20,\"\")","v":0},{"$f":"IF(DataInformation!H20<>\"\",DataInformation!H20,\"\")","v":0},{"$f":"IF(DataInformation!R20<>\"\",DataInformation!R20,\"\")","v":0},{"$f":"IF(DataInformation!S20<>\"\",DataInformation!S20,\"\")","v":0},null,{"$f":"IF(DataInformation!T20<>\"\",DataInformation!T20,\"\")","v":0},{"$f":"IF(DataInformation!V20<>\"\",DataInformation!V20,\"\")","v":""},{"$f":"IF(DataInformation!W20<>\"\",DataInformation!W20,\"\")","v":""},{"$f":"IF(DataInformation!Z20<>\"\",DataInformation!Z20,\"\")","v":0},{"$f":"IF(DataInformation!AA20<>\"\",DataInformation!AA20,\"\")","v":0},null,{"$f":"IF(DataInformation!AD20<>\"\",DataInformation!AD20,\"\")","v":0},{"$f":"IF(DataInformation!AF20<>\"\",DataInformation!AF20,\"\")","v":54},null,{"$f":"IF(DataInformation!AG20<>\"\",DataInformation!AG20,\"\")","v":0},{"$f":"IF(DataInformation!AH20<>\"\",DataInformation!AH20,\"\")","v":0},{"$f":"IF(DataInformation!AI20<>\"\",DataInformation!AI20,\"\")","v":0},{"$f":"IF(DataInformation!AJ20<>\"\",DataInformation!AJ20,\"\")","v":0}]
[{"$f":"IF(DataInformation!A22<>\"\",DataInformation!A22,\"\")","v":4525},{"$f":"IF(DataInformation!B22<>\"\",DataInformation!B22,\"\")","v":444.8},{"$f":"IF(DataInformation!C22<>\"\",DataInformation!C22,\"\")","v":420},{"$f":"IF(DataInformation!D22<>\"\",DataInformation!D22,\"\")","v":86.8},{"$f":"IF(DataInformation!H22<>\"\",DataInformation!H22,\"\")","v":53},{"$f":"IF(DataInformation!R22<>\"\",DataInformation!R22,\"\")","v":420},{"$f":"IF(DataInformation!S22<>\"\",DataInformation!S22,\"\")","v":323},null,{"$f":"IF(DataInformation!T22<>\"\",DataInformation!T22,\"\")","v":51},{"$f":"IF(DataInformation!V22<>\"\",DataInformation!V22,\"\")","v":24.799999999999997},{"$f":"IF(DataInformation!W22<>\"\",DataInformation!W22,\"\")","v":53},{"$f":"IF(DataInformation!Z22<>\"\",DataInformation!Z22,\"\")","v":128.80000000000001},{"$f":"IF(DataInformation!AA22<>\"\",DataInformation!AA22,\"\")","v":194.2},null,{"$f":"IF(DataInformation!AD22<>\"\",DataInformation!AD22,\"\")","v":0},{"$f":"IF(DataInformation!AF22<>\"\",DataInformation!AF22,\"\")","v":0},null,{"$f":"IF(DataInformation!AG22<>\"\",DataInformation!AG22,\"\")","v":86.8},{"$f":"IF(DataInformation!AH22<>\"\",DataInformation!AH22,\"\")","v":62},{"$f":"IF(DataInformation!AI22<>\"\",DataInformation!AI22,\"\")","v":62},{"$f":"IF(DataInformation!AJ22<>\"\",DataInformation!AJ22,\"\")","v":0}]
[{"$f":"IF(DataInformation!A23<>\"\",DataInformation!A23,\"\")","v":4550},{"$f":"IF(DataInformation!B23<>\"\",DataInformation!B23,\"\")","v":375.2},{"$f":"IF(DataInformation!C23<>\"\",DataInformation!C23,\"\")","v":358},{"$f":"IF(DataInformation!D23<>\"\",DataInformation!D23,\"\")","v":60.199999999999996},{"$f":"IF(DataInformation!H23<>\"\",DataInformation!H23,\"\")","v":53},{"$f":"IF(DataInformation!R23<>\"\",DataInformation!R23,\"\")","v":358},{"$f":"IF(DataInformation!S23<>\"\",DataInformation!S23,\"\")","v":275},null,{"$f":"IF(DataInformation!T23<>\"\",DataInformation!T23,\"\")","v":33},{"$f":"IF(DataInformation!V23<>\"\",DataInformation!V23,\"\")","v":17.199999999999996},{"$f":"IF(DataInformation!W23<>\"\",DataInformation!W23,\"\")","v":53},{"$f":"IF(DataInformation!Z23<>\"\",DataInformation!Z23,\"\")","v":103.19999999999999},{"$f":"IF(DataInformation!AA23<>\"\",DataInformation!AA23,\"\")","v":171.8},null,{"$f":"IF(DataInformation!AD23<>\"\",DataInformation!AD23,\"\")","v":0},{"$f":"IF(DataInformation!AF23<>\"\",DataInformation!AF23,\"\")","v":33},null,{"$f":"IF(DataInformation!AG23<>\"\",DataInformation!AG23,\"\")","v":60.199999999999996},{"$f":"IF(DataInformation!AH23<>\"\",DataInformation!AH23,\"\")","v":43},{"$f":"IF(DataInformation!AI23<>\"\",DataInformation!AI23,\"\")","v":43},{"$f":"IF(DataInformation!AJ23<>\"\",DataInformation!AJ23,\"\")","v":0}]
[{"$f":"IF(DataInformation!A24<>\"\",DataInformation!A24,\"\")","v":4575},{"$f":"IF(DataInformation!B24<>\"\",DataInformation!B24,\"\")","v":375},{"$f":"IF(DataInformation!C24<>\"\",DataInformation!C24,\"\")","v":357},{"$f":"IF(DataInformation!D24<>\"\",DataInformation!D24,\"\")","v":62.999999999999993},{"$f":"IF(DataInformation!H24<>\"\",DataInformation!H24,\"\")","v":53},{"$f":"IF(DataInformation!R24<>\"\",DataInformation!R24,\"\")","v":357},{"$f":"IF(DataInformation!S24<>\"\",DataInformation!S24,\"\")","v":275},null,{"$f":"IF(DataInformation!T24<>\"\",DataInformation!T24,\"\")","v":32},{"$f":"IF(DataInformation!V24<>\"\",DataInformation!V24,\"\")","v":17.999999999999993},{"$f":"IF(DataInformation!W24<>\"\",DataInformation!W24,\"\")","v":53},{"$f":"IF(DataInformation!Z24<>\"\",DataInformation!Z24,\"\")","v":103},{"$f":"IF(DataInformation!AA24<>\"\",DataInformation!AA24,\"\")","v":172},null,{"$f":"IF(DataInformation!AD24<>\"\",DataInformation!AD24,\"\")","v":0},{"$f":"IF(DataInformation!AF24<>\"\",DataInformation!AF24,\"\")","v":31},null,{"$f":"IF(DataInformation!AG24<>\"\",DataInformation!AG24,\"\")","v":62.999999999999993},{"$f":"IF(DataInformation!AH24<>\"\",DataInformation!AH24,\"\")","v":45},{"$f":"IF(DataInformation!AI24<>\"\",DataInformation!AI24,\"\")","v":45},{"$f":"IF(DataInformation!AJ24<>\"\",DataInformation!AJ24,\"\")","v":0}]
[{"$f":"IF(DataInformation!A25<>\"\",DataInformation!A25,\"\")","v":4600},{"$f":"IF(DataInformation!B25<>\"\",DataInformation!B25,\"\")","v":460.2},{"$f":"IF(DataInformation!C25<>\"\",DataInformation!C25,\"\")","v":437},{"$f":"IF(DataInformation!D25<>\"\",DataInformation!D25,\"\")","v":81.199999999999989},{"$f":"IF(DataInformation!H25<>\"\",DataInformation!H25,\"\")","v":53},{"$f":"IF(DataInformation!R25<>\"\",DataInformation!R25,\"\")","v":437},{"$f":"IF(DataInformation!S25<>\"\",DataInformation!S25,\"\")","v":336},null,{"$f":"IF(DataInformation!T25<>\"\",DataInformation!T25,\"\")","v":31},{"$f":"IF(DataInformation!V25<>\"\",DataInformation!V25,\"\")","v":23.199999999999989},{"$f":"IF(DataInformation!W25<>\"\",DataInformation!W25,\"\")","v":53},{"$f":"IF(DataInformation!Z25<>\"\",DataInformation!Z25,\"\")","v":107.19999999999999},{"$f":"IF(DataInformation!AA25<>\"\",DataInformation!AA25,\"\")","v":228.8},null,{"$f":"IF(DataInformation!AD25<>\"\",DataInformation!AD25,\"\")","v":0},{"$f":"IF(DataInformation!AF25<>\"\",DataInformation!AF25,\"\")","v":31},null,{"$f":"IF(DataInformation!AG25<>\"\",DataInformation!AG25,\"\")","v":81.199999999999989},{"$f":"IF(DataInformation!AH25<>\"\",DataInformation!AH25,\"\")","v":58},{"$f":"IF(DataInformation!AI25<>\"\",DataInformation!AI25,\"\")","v":58},{"$f":"IF(DataInformation!AJ25<>\"\",DataInformation!AJ25,\"\")","v":0}]
[{"$f":"IF(DataInformation!A26<>\"\",DataInformation!A26,\"\")","v":4625},{"$f":"IF(DataInformation!B26<>\"\",DataInformation!B26,\"\")","v":529.79999999999995},{"$f":"IF(DataInformation!C26<>\"\",DataInformation!C26,\"\")","v":503},{"$f":"IF(DataInformation!D26<>\"\",DataInformation!D26,\"\")","v":93.8},{"$f":"IF(DataInformation!H26<>\"\",DataInformation!H26,\"\")","v":53},{"$f":"IF(DataInformation!R26<>\"\",DataInformation!R26,\"\")","v":503},{"$f":"IF(DataInformation!S26<>\"\",DataInformation!S26,\"\")","v":387},null,{"$f":"IF(DataInformation!T26<>\"\",DataInformation!T26,\"\")","v":32},{"$f":"IF(DataInformation!V26<>\"\",DataInformation!V26,\"\")","v":26.799999999999997},{"$f":"IF(DataInformation!W26<>\"\",DataInformation!W26,\"\")","v":53},{"$f":"IF(DataInformation!Z26<>\"\",DataInformation!Z26,\"\")","v":111.8},{"$f":"IF(DataInformation!AA26<>\"\",DataInformation!AA26,\"\")","v":275.2},null,{"$f":"IF(DataInformation!AD26<>\"\",DataInformation!AD26,\"\")","v":0},{"$f":"IF(DataInformation!AF26<>\"\",DataInformation!AF26,\"\")","v":31},null,{"$f":"IF(DataInformation!AG26<>\"\",DataInformation!AG26,\"\")","v":93.8},{"$f":"IF(DataInformation!AH26<>\"\",DataInformation!AH26,\"\")","v":67},{"$f":"IF(DataInformation!AI26<>\"\",DataInformation!AI26,\"\")","v":67},{"$f":"IF(DataInformation!AJ26<>\"\",DataInformation!AJ26,\"\")","v":0}]
[{"$f":"IF(DataInformation!A27<>\"\",DataInformation!A27,\"\")","v":4650},{"$f":"IF(DataInformation!B27<>\"\",DataInformation!B27,\"\")","v":531.6},{"$f":"IF(DataInformation!C27<>\"\",DataInformation!C27,\"\")","v":506},{"$f":"IF(DataInformation!D27<>\"\",DataInformation!D27,\"\")","v":89.6},{"$f":"IF(DataInformation!H27<>\"\",DataInformation!H27,\"\")","v":53},{"$f":"IF(DataInformation!R27<>\"\",DataInformation!R27,\"\")","v":506},{"$f":"IF(DataInformation!S27<>\"\",DataInformation!S27,\"\")","v":389},null,{"$f":"IF(DataInformation!T27<>\"\",DataInformation!T27,\"\")","v":34},{"$f":"IF(DataInformation!V27<>\"\",DataInformation!V27,\"\")","v":25.599999999999994},{"$f":"IF(DataInformation!W27<>\"\",DataInformation!W27,\"\")","v":53},{"$f":"IF(DataInformation!Z27<>\"\",DataInformation!Z27,\"\")","v":112.6},{"$f":"IF(DataInformation!AA27<>\"\",DataInformation!AA27,\"\")","v":276.39999999999998},null,{"$f":"IF(DataInformation!AD27<>\"\",DataInformation!AD27,\"\")","v":0},{"$f":"IF(DataInformation!AF27<>\"\",DataInformation!AF27,\"\")","v":34},null,{"$f":"IF(DataInformation!AG27<>\"\",DataInformation!AG27,\"\")","v":89.6},{"$f":"IF(DataInformation!AH27<>\"\",DataInformation!AH27,\"\")","v":64},{"$f":"IF(DataInformation!AI27<>\"\",DataInformation!AI27,\"\")","v":64},{"$f":"IF(DataInformation!AJ27<>\"\",DataInformation!AJ27,\"\")","v":0}]
[{"$f":"IF(DataInformation!A28<>\"\",DataInformation!A28,\"\")","v":4675},{"$f":"IF(DataInformation!B28<>\"\",DataInformation!B28,\"\")","v":497.8},{"$f":"IF(DataInformation!C28<>\"\",DataInformation!C28,\"\")","v":473},{"$f":"IF(DataInformation!D28<>\"\",DataInformation!D28,\"\")","v":86.8},{"$f":"IF(DataInformation!H28<>\"\",DataInformation!H28,\"\")","v":53},{"$f":"IF(DataInformation!R28<>\"\",DataInformation!R28,\"\")","v":473},{"$f":"IF(DataInformation!S28<>\"\",DataInformation!S28,\"\")","v":364},null,{"$f":"IF(DataInformation!T28<>\"\",DataInformation!T28,\"\")","v":44},{"$f":"IF(DataInformation!V28<>\"\",DataInformation!V28,\"\")","v":24.799999999999997},{"$f":"IF(DataInformation!W28<>\"\",DataInformation!W28,\"\")","v":53},{"$f":"IF(DataInformation!Z28<>\"\",DataInformation!Z28,\"\")","v":121.8},{"$f":"IF(DataInformation!AA28<>\"\",DataInformation!AA28,\"\")","v":242.2},null,{"$f":"IF(DataInformation!AD28<>\"\",DataInformation!AD28,\"\")","v":0},{"$f":"IF(DataInformation!AF28<>\"\",DataInformation!AF28,\"\")","v":43},null,{"$f":"IF(DataInformation!AG28<>\"\",DataInformation!AG28,\"\")","v":86.8},{"$f":"IF(DataInformation!AH28<>\"\",DataInformation!AH28,\"\")","v":62},{"$f":"IF(DataInformation!AI28<>\"\",DataInformation!AI28,\"\")","v":62},{"$f":"IF(DataInformation!AJ28<>\"\",DataInformation!AJ28,\"\")","v":0}]
[{"$f":"IF(DataInformation!A29<>\"\",DataInformation!A29,\"\")","v":4700},{"$f":"IF(DataInformation!B29<>\"\",DataInformation!B29,\"\")","v":345.8},{"$f":"IF(DataInformation!C29<>\"\",DataInformation!C29,\"\")","v":319},{"$f":"IF(DataInformation!D29<>\"\",DataInformation!D29,\"\")","v":93.8},{"$f":"IF(DataInformation!H29<>\"\",DataInformation!H29,\"\")","v":53},{"$f":"IF(DataInformation!R29<>\"\",DataInformation!R29,\"\")","v":319},{"$f":"IF(DataInformation!S29<>\"\",DataInformation!S29,\"\")","v":245},null,{"$f":"IF(DataInformation!T29<>\"\",DataInformation!T29,\"\")","v":55},{"$f":"IF(DataInformation!V29<>\"\",DataInformation!V29,\"\")","v":26.799999999999997},{"$f":"IF(DataInformation!W29<>\"\",DataInformation!W29,\"\")","v":53},{"$f":"IF(DataInformation!Z29<>\"\",DataInformation!Z29,\"\")","v":134.80000000000001},{"$f":"IF(DataInformation!AA29<>\"\",DataInformation!AA29,\"\")","v":110.19999999999999},null,{"$f":"IF(DataInformation!AD29<>\"\",DataInformation!AD29,\"\")","v":0},{"$f":"IF(DataInformation!AF29<>\"\",DataInformation!AF29,\"\")","v":54},null,{"$f":"IF(DataInformation!AG29<>\"\",DataInformation!AG29,\"\")","v":93.8},{"$f":"IF(DataInformation!AH29<>\"\",DataInformation!AH29,\"\")","v":67},{"$f":"IF(DataInformation!AI29<>\"\",DataInformation!AI29,\"\")","v":67},{"$f":"IF(DataInformation!AJ29<>\"\",DataInformation!AJ29,\"\")","v":0}]
[{"$f":"IF(DataInformation!A30<>\"\",DataInformation!A30,\"\")","v":4725},{"$f":"IF(DataInformation!B30<>\"\",DataInformation!B30,\"\")","v":287},{"$f":"IF(DataInformation!C30<>\"\",DataInformation!C30,\"\")","v":261},{"$f":"IF(DataInformation!D30<>\"\",DataInformation!D30,\"\")","v":91},{"$f":"IF(DataInformation!H30<>\"\",DataInformation!H30,\"\")","v":53},{"$f":"IF(DataInformation!R30<>\"\",DataInformation!R30,\"\")","v":261},{"$f":"IF(DataInformation!S30<>\"\",DataInformation!S30,\"\")","v":201},null,{"$f":"IF(DataInformation!T30<>\"\",DataInformation!T30,\"\")","v":66},{"$f":"IF(DataInformation!V30<>\"\",DataInformation!V30,\"\")","v":26},{"$f":"IF(DataInformation!W30<>\"\",DataInformation!W30,\"\")","v":53},{"$f":"IF(DataInformation!Z30<>\"\",DataInformation!Z30,\"\")","v":145},{"$f":"IF(DataInformation!AA30<>\"\",DataInformation!AA30,\"\")","v":56},null,{"$f":"IF(DataInformation!AD30<>\"\",DataInformation!AD30,\"\")","v":0},{"$f":"IF(DataInformation!AF30<>\"\",DataInformation!AF30,\"\")","v":66},null,{"$f":"IF(DataInformation!AG30<>\"\",DataInformation!AG30,\"\")","v":91},{"$f":"IF(DataInformation!AH30<>\"\",DataInformation!AH30,\"\")","v":65},{"$f":"IF(DataInformation!AI30<>\"\",DataInformation!AI30,\"\")","v":65},{"$f":"IF(DataInformation!AJ30<>\"\",DataInformation!AJ30,\"\")","v":0}]
[{"$f":"IF(DataInformation!A31<>\"\",DataInformation!A31,\"\")","v":4750},{"$f":"IF(DataInformation!B31<>\"\",DataInformation!B31,\"\")","v":359.6},{"$f":"IF(DataInformation!C31<>\"\",DataInformation!C31,\"\")","v":334},{"$f":"IF(DataInformation!D31<>\"\",DataInformation!D31,\"\")","v":89.6},{"$f":"IF(DataInformation!H31<>\"\",DataInformation!H31,\"\")","v":53},{"$f":"IF(DataInformation!R31<>\"\",DataInformation!R31,\"\")","v":334},{"$f":"IF(DataInformation!S31<>\"\",DataInformation!S31,\"\")","v":257},null,{"$f":"IF(DataInformation!T31<>\"\",DataInformation!T31,\"\")","v":84},{"$f":"IF(DataInformation!V31<>\"\",DataInformation!V31,\"\")","v":25.599999999999994},{"$f":"IF(DataInformation!W31<>\"\",DataInformation!W31,\"\")","v":53},{"$f":"IF(DataInformation!Z31<>\"\",DataInformation!Z31,\"\")","v":162.6},{"$f":"IF(DataInformation!AA31<>\"\",DataInformation!AA31,\"\")","v":94.4},null,{"$f":"IF(DataInformation!AD31<>\"\",DataInformation!AD31,\"\")","v":0},{"$f":"IF(DataInformation!AF31<>\"\",DataInformation!AF31,\"\")","v":84},null,{"$f":"IF(DataInformation!AG31<>\"\",DataInformation!AG31,\"\")","v":89.6},{"$f":"IF(DataInformation!AH31<>\"\",DataInformation!AH31,\"\")","v":64},{"$f":"IF(DataInformation!AI31<>\"\",DataInformation!AI31,\"\")","v":64},{"$f":"IF(DataInformation!AJ31<>\"\",DataInformation!AJ31,\"\")","v":0}]
[{"$f":"IF(DataInformation!A32<>\"\",DataInformation!A32,\"\")","v":4775},{"$f":"IF(DataInformation!B32<>\"\",DataInformation!B32,\"\")","v":340.2},{"$f":"IF(DataInformation!C32<>\"\",DataInformation!C32,\"\")","v":313},{"$f":"IF(DataInformation!D32<>\"\",DataInformation!D32,\"\")","v":95.199999999999989},{"$f":"IF(DataInformation!H32<>\"\",DataInformation!H32,\"\")","v":53},{"$f":"IF(DataInformation!R32<>\"\",DataInformation!R32,\"\")","v":313},{"$f":"IF(DataInformation!S32<>\"\",DataInformation!S32,\"\")","v":241},null,{"$f":"IF(DataInformation!T32<>\"\",DataInformation!T32,\"\")","v":100},{"$f":"IF(DataInformation!V32<>\"\",DataInformation!V32,\"\")","v":27.199999999999989},{"$f":"IF(DataInformation!W32<>\"\",DataInformation!W32,\"\")","v":53},{"$f":"IF(DataInformation!Z32<>\"\",DataInformation!Z32,\"\")","v":180.2},{"$f":"IF(DataInformation!AA32<>\"\",DataInformation!AA32,\"\")","v":60.800000000000011},null,{"$f":"IF(DataInformation!AD32<>\"\",DataInformation!AD32,\"\")","v":0},{"$f":"IF(DataInformation!AF32<>\"\",DataInformation!AF32,\"\")","v":100},null,{"$f":"IF(DataInformation!AG32<>\"\",DataInformation!AG32,\"\")","v":95.199999999999989},{"$f":"IF(DataInformation!AH32<>\"\",DataInformation!AH32,\"\")","v":68},{"$f":"IF(DataInformation!AI32<>\"\",DataInformation!AI32,\"\")","v":68},{"$f":"IF(DataInformation!AJ32<>\"\",DataInformation!AJ32,\"\")","v":0}]
[{"$f":"IF(DataInformation!A33<>\"\",DataInformation!A33,\"\")","v":4800},{"$f":"IF(DataInformation!B33<>\"\",DataInformation!B33,\"\")","v":305.8},{"$f":"IF(DataInformation!C33<>\"\",DataInformation!C33,\"\")","v":281},{"$f":"IF(DataInformation!D33<>\"\",DataInformation!D33,\"\")","v":86.8},{"$f":"IF(DataInformation!H33<>\"\",DataInformation!H33,\"\")","v":53},{"$f":"IF(DataInformation!R33<>\"\",DataInformation!R33,\"\")","v":281},{"$f":"IF(DataInformation!S33<>\"\",DataInformation!S33,\"\")","v":216},null,{"$f":"IF(DataInformation!T33<>\"\",DataInformation!T33,\"\")","v":113},{"$f":"IF(DataInformation!V33<>\"\",DataInformation!V33,\"\")","v":24.799999999999997},{"$f":"IF(DataInformation!W33<>\"\",DataInformation!W33,\"\")","v":53},{"$f":"IF(DataInformation!Z33<>\"\",DataInformation!Z33,\"\")","v":190.8},{"$f":"IF(DataInformation!AA33<>\"\",DataInformation!AA33,\"\")","v":25.199999999999989},null,{"$f":"IF(DataInformation!AD33<>\"\",DataInformation!AD33,\"\")","v":0},{"$f":"IF(DataInformation!AF33<>\"\",DataInformation!AF33,\"\")","v":112},null,{"$f":"IF(DataInformation!AG33<>\"\",DataInformation!AG33,\"\")","v":86.8},{"$f":"IF(DataInformation!AH33<>\"\",DataInformation!AH33,\"\")","v":62},{"$f":"IF(DataInformation!AI33<>\"\",DataInformation!AI33,\"\")","v":62},{"$f":"IF(DataInformation!AJ33<>\"\",DataInformation!AJ33,\"\")","v":0}]
[{"$f":"IF(DataInformation!A34<>\"\",DataInformation!A34,\"\")","v":4825},{"$f":"IF(DataInformation!B34<>\"\",DataInformation!B34,\"\")","v":282},{"$f":"IF(DataInformation!C34<>\"\",DataInformation!C34,\"\")","v":260},{"$f":"IF(DataInformation!D34<>\"\",DataInformation!D34,\"\")","v":77},{"$f":"IF(DataInformation!H34<>\"\",DataInformation!H34,\"\")","v":53},{"$f":"IF(DataInformation!R34<>\"\",DataInformation!R34,\"\")","v":260},{"$f":"IF(DataInformation!S34<>\"\",DataInformation!S34,\"\")","v":200},null,{"$f":"IF(DataInformation!T34<>\"\",DataInformation!T34,\"\")","v":134},{"$f":"IF(DataInformation!V34<>\"\",DataInformation!V34,\"\")","v":22},{"$f":"IF(DataInformation!W34<>\"\",DataInformation!W34,\"\")","v":53},{"$f":"IF(DataInformation!Z34<>\"\",DataInformation!Z34,\"\")","v":209},{"$f":"IF(DataInformation!AA34<>\"\",DataInformation!AA34,\"\")","v":-9},null,{"$f":"IF(DataInformation!AD34<>\"\",DataInformation!AD34,\"\")","v":0},{"$f":"IF(DataInformation!AF34<>\"\",DataInformation!AF34,\"\")","v":134},null,{"$f":"IF(DataInformation!AG34<>\"\",DataInformation!AG34,\"\")","v":77},{"$f":"IF(DataInformation!AH34<>\"\",DataInformation!AH34,\"\")","v":55},{"$f":"IF(DataInformation!AI34<>\"\",DataInformation!AI34,\"\")","v":55},{"$f":"IF(DataInformation!AJ34<>\"\",DataInformation!AJ34,\"\")","v":0}]
[{"$f":"IF(DataInformation!A35<>\"\",DataInformation!A35,\"\")","v":4850},{"$f":"IF(DataInformation!B35<>\"\",DataInformation!B35,\"\")","v":282.2},{"$f":"IF(DataInformation!C35<>\"\",DataInformation!C35,\"\")","v":263},{"$f":"IF(DataInformation!D35<>\"\",DataInformation!D35,\"\")","v":67.199999999999989},{"$f":"IF(DataInformation!H35<>\"\",DataInformation!H35,\"\")","v":53},{"$f":"IF(DataInformation!R35<>\"\",DataInformation!R35,\"\")","v":263},{"$f":"IF(DataInformation!S35<>\"\",DataInformation!S35,\"\")","v":202},null,{"$f":"IF(DataInformation!T35<>\"\",DataInformation!T35,\"\")","v":175},{"$f":"IF(DataInformation!V35<>\"\",DataInformation!V35,\"\")","v":19.199999999999989},{"$f":"IF(DataInformation!W35<>\"\",DataInformation!W35,\"\")","v":53},{"$f":"IF(DataInformation!Z35<>\"\",DataInformation!Z35,\"\")","v":247.2},{"$f":"IF(DataInformation!AA35<>\"\",DataInformation!AA35,\"\")","v":-45.199999999999989},null,{"$f":"IF(DataInformation!AD35<>\"\",DataInformation!AD35,\"\")","v":0},{"$f":"IF(DataInformation!AF35<>\"\",DataInformation!AF35,\"\")","v":175},null,{"$f":"IF(DataInformation!AG35<>\"\",DataInformation!AG35,\"\")","v":67.199999999999989},{"$f":"IF(DataInformation!AH35<>\"\",DataInformation!AH35,\"\")","v":48},{"$f":"IF(DataInformation!AI35<>\"\",DataInformation!AI35,\"\")","v":48},{"$f":"IF(DataInformation!AJ35<>\"\",DataInformation!AJ35,\"\")","v":0}]
[{"$f":"IF(DataInformation!A36<>\"\",DataInformation!A36,\"\")","v":4875},{"$f":"IF(DataInformation!B36<>\"\",DataInformation!B36,\"\")","v":322.60000000000002},{"$f":"IF(DataInformation!C36<>\"\",DataInformation!C36,\"\")","v":301},{"$f":"IF(DataInformation!D36<>\"\",DataInformation!D36,\"\")","v":75.599999999999994},{"$f":"IF(DataInformation!H36<>\"\",DataInformation!H36,\"\")","v":53},{"$f":"IF(DataInformation!R36<>\"\",DataInformation!R36,\"\")","v":301},{"$f":"IF(DataInformation!S36<>\"\",DataInformation!S36,\"\")","v":232},null,{"$f":"IF(DataInformation!T36<>\"\",DataInformation!T36,\"\")","v":218},{"$f":"IF(DataInformation!V36<>\"\",DataInformation!V36,\"\")","v":21.599999999999994},{"$f":"IF(DataInformation!W36<>\"\",DataInformation!W36,\"\")","v":53},{"$f":"IF(DataInformation!Z36<>\"\",DataInformation!Z36,\"\")","v":292.60000000000002},{"$f":"IF(DataInformation!AA36<>\"\",DataInformation!AA36,\"\")","v":-60.600000000000023},null,{"$f":"IF(DataInformation!AD36<>\"\",DataInformation!AD36,\"\")","v":0},{"$f":"IF(DataInformation!AF36<>\"\",DataInformation!AF36,\"\")","v":218},null,{"$f":"IF(DataInformation!AG36<>\"\",DataInformation!AG36,\"\")","v":75.599999999999994},{"$f":"IF(DataInformation!AH36<>\"\",DataInformation!AH36,\"\")","v":54},{"$f":"IF(DataInformation!AI36<>\"\",DataInformation!AI36,\"\")","v":54},{"$f":"IF(DataInformation!AJ36<>\"\",DataInformation!AJ36,\"\")","v":0}]
[{"$f":"IF(DataInformation!A37<>\"\",DataInformation!A37,\"\")","v":4900},{"$f":"IF(DataInformation!B37<>\"\",DataInformation!B37,\"\")","v":361.6},{"$f":"IF(DataInformation!C37<>\"\",DataInformation!C37,\"\")","v":336},{"$f":"IF(DataInformation!D37<>\"\",DataInformation!D37,\"\")","v":89.6},{"$f":"IF(DataInformation!H37<>\"\",DataInformation!H37,\"\")","v":53},{"$f":"IF(DataInformation!R37<>\"\",DataInformation!R37,\"\")","v":336},{"$f":"IF(DataInformation!S37<>\"\",DataInformation!S37,\"\")","v":258},null,{"$f":"IF(DataInformation!T37<>\"\",DataInformation!T37,\"\")","v":252},{"$f":"IF(DataInformation!V37<>\"\",DataInformation!V37,\"\")","v":25.599999999999994},{"$f":"IF(DataInformation!W37<>\"\",DataInformation!W37,\"\")","v":53},{"$f":"IF(DataInformation!Z37<>\"\",DataInformation!Z37,\"\")","v":330.6},{"$f":"IF(DataInformation!AA37<>\"\",DataInformation!AA37,\"\")","v":-72.600000000000023},null,{"$f":"IF(DataInformation!AD37<>\"\",DataInformation!AD37,\"\")","v":0},{"$f":"IF(DataInformation!AF37<>\"\",DataInformation!AF37,\"\")","v":252},null,{"$f":"IF(DataInformation!AG37<>\"\",DataInformation!AG37,\"\")","v":89.6},{"$f":"IF(DataInformation!AH37<>\"\",DataInformation!AH37,\"\")","v":64},{"$f":"IF(DataInformation!AI37<>\"\",DataInformation!AI37,\"\")","v":64},{"$f":"IF(DataInformation!AJ37<>\"\",DataInformation!AJ37,\"\")","v":0}]
[{"$f":"IF(DataInformation!A38<>\"\",DataInformation!A38,\"\")","v":4925},{"$f":"IF(DataInformation!B38<>\"\",DataInformation!B38,\"\")","v":392.4},{"$f":"IF(DataInformation!C38<>\"\",DataInformation!C38,\"\")","v":366},{"$f":"IF(DataInformation!D38<>\"\",DataInformation!D38,\"\")","v":92.399999999999991},{"$f":"IF(DataInformation!H38<>\"\",DataInformation!H38,\"\")","v":53},{"$f":"IF(DataInformation!R38<>\"\",DataInformation!R38,\"\")","v":366},{"$f":"IF(DataInformation!S38<>\"\",DataInformation!S38,\"\")","v":282},null,{"$f":"IF(DataInformation!T38<>\"\",DataInformation!T38,\"\")","v":282},{"$f":"IF(DataInformation!V38<>\"\",DataInformation!V38,\"\")","v":26.399999999999991},{"$f":"IF(DataInformation!W38<>\"\",DataInformation!W38,\"\")","v":53},{"$f":"IF(DataInformation!Z38<>\"\",DataInformation!Z38,\"\")","v":361.4},{"$f":"IF(DataInformation!AA38<>\"\",DataInformation!AA38,\"\")","v":-79.399999999999977},null,{"$f":"IF(DataInformation!AD38<>\"\",DataInformation!AD38,\"\")","v":0},{"$f":"IF(DataInformation!AF38<>\"\",DataInformation!AF38,\"\")","v":282},null,{"$f":"IF(DataInformation!AG38<>\"\",DataInformation!AG38,\"\")","v":92.399999999999991},{"$f":"IF(DataInformation!AH38<>\"\",DataInformation!AH38,\"\")","v":66},{"$f":"IF(DataInformation!AI38<>\"\",DataInformation!AI38,\"\")","v":66},{"$f":"IF(DataInformation!AJ38<>\"\",DataInformation!AJ38,\"\")","v":0}]
[{"$f":"IF(DataInformation!A39<>\"\",DataInformation!A39,\"\")","v":4950},{"$f":"IF(DataInformation!B39<>\"\",DataInformation!B39,\"\")","v":414.8},{"$f":"IF(DataInformation!C39<>\"\",DataInformation!C39,\"\")","v":388},{"$f":"IF(DataInformation!D39<>\"\",DataInformation!D39,\"\")","v":93.8},{"$f":"IF(DataInformation!H39<>\"\",DataInformation!H39,\"\")","v":53},{"$f":"IF(DataInformation!R39<>\"\",DataInformation!R39,\"\")","v":388},{"$f":"IF(DataInformation!S39<>\"\",DataInformation!S39,\"\")","v":298},null,{"$f":"IF(DataInformation!T39<>\"\",DataInformation!T39,\"\")","v":326},{"$f":"IF(DataInformation!V39<>\"\",DataInformation!V39,\"\")","v":26.799999999999997},{"$f":"IF(DataInformation!W39<>\"\",DataInformation!W39,\"\")","v":53},{"$f":"IF(DataInformation!Z39<>\"\",DataInformation!Z39,\"\")","v":405.8},{"$f":"IF(DataInformation!AA39<>\"\",DataInformation!AA39,\"\")","v":-107.80000000000001},null,{"$f":"IF(DataInformation!AD39<>\"\",DataInformation!AD39,\"\")","v":0},{"$f":"IF(DataInformation!AF39<>\"\",DataInformation!AF39,\"\")","v":325},null,{"$f":"IF(DataInformation!AG39<>\"\",DataInformation!AG39,\"\")","v":93.8},{"$f":"IF(DataInformation!AH39<>\"\",DataInformation!AH39,\"\")","v":67},{"$f":"IF(DataInformation!AI39<>\"\",DataInformation!AI39,\"\")","v":67},{"$f":"IF(DataInformation!AJ39<>\"\",DataInformation!AJ39,\"\")","v":0}]
[{"$f":"IF(DataInformation!A40<>\"\",DataInformation!A40,\"\")","v":4975},{"$f":"IF(DataInformation!B40<>\"\",DataInformation!B40,\"\")","v":403.4},{"$f":"IF(DataInformation!C40<>\"\",DataInformation!C40,\"\")","v":377},{"$f":"IF(DataInformation!D40<>\"\",DataInformation!D40,\"\")","v":92.399999999999991},{"$f":"IF(DataInformation!H40<>\"\",DataInformation!H40,\"\")","v":53},{"$f":"IF(DataInformation!R40<>\"\",DataInformation!R40,\"\")","v":377},{"$f":"IF(DataInformation!S40<>\"\",DataInformation!S40,\"\")","v":290},null,{"$f":"IF(DataInformation!T40<>\"\",DataInformation!T40,\"\")","v":373},{"$f":"IF(DataInformation!V40<>\"\",DataInformation!V40,\"\")","v":26.399999999999991},{"$f":"IF(DataInformation!W40<>\"\",DataInformation!W40,\"\")","v":53},{"$f":"IF(DataInformation!Z40<>\"\",DataInformation!Z40,\"\")","v":452.4},{"$f":"IF(DataInformation!AA40<>\"\",DataInformation!AA40,\"\")","v":-162.39999999999998},null,{"$f":"IF(DataInformation!AD40<>\"\",DataInformation!AD40,\"\")","v":0},{"$f":"IF(DataInformation!AF40<>\"\",DataInformation!AF40,\"\")","v":372},null,{"$f":"IF(DataInformation!AG40<>\"\",DataInformation!AG40,\"\")","v":92.399999999999991},{"$f":"IF(DataInformation!AH40<>\"\",DataInformation!AH40,\"\")","v":66},{"$f":"IF(DataInformation!AI40<>\"\",DataInformation!AI40,\"\")","v":66},{"$f":"IF(DataInformation!AJ40<>\"\",DataInformation!AJ40,\"\")","v":0}]
[{"$f":"IF(DataInformation!A41<>\"\",DataInformation!A41,\"\")","v":5000},{"$f":"IF(DataInformation!B41<>\"\",DataInformation!B41,\"\")","v":327},{"$f":"IF(DataInformation!C41<>\"\",DataInformation!C41,\"\")","v":301},{"$f":"IF(DataInformation!D41<>\"\",DataInformation!D41,\"\")","v":91},{"$f":"IF(DataInformation!H41<>\"\",DataInformation!H41,\"\")","v":56},{"$f":"IF(DataInformation!R41<>\"\",DataInformation!R41,\"\")","v":301},{"$f":"IF(DataInformation!S41<>\"\",DataInformation!S41,\"\")","v":232},null,{"$f":"IF(DataInformation!T41<>\"\",DataInformation!T41,\"\")","v":398},{"$f":"IF(DataInformation!V41<>\"\",DataInformation!V41,\"\")","v":26},{"$f":"IF(DataInformation!W41<>\"\",DataInformation!W41,\"\")","v":56},{"$f":"IF(DataInformation!Z41<>\"\",DataInformation!Z41,\"\")","v":480},{"$f":"IF(DataInformation!AA41<>\"\",DataInformation!AA41,\"\")","v":-248},null,{"$f":"IF(DataInformation!AD41<>\"\",DataInformation!AD41,\"\")","v":0},{"$f":"IF(DataInformation!AF41<>\"\",DataInformation!AF41,\"\")","v":398},null,{"$f":"IF(DataInformation!AG41<>\"\",DataInformation!AG41,\"\")","v":91},{"$f":"IF(DataInformation!AH41<>\"\",DataInformation!AH41,\"\")","v":65},{"$f":"IF(DataInformation!AI41<>\"\",DataInformation!AI41,\"\")","v":65},{"$f":"IF(DataInformation!AJ41<>\"\",DataInformation!AJ41,\"\")","v":0}]
[{"$f":"IF(DataInformation!A42<>\"\",DataInformation!A42,\"\")","v":5025},{"$f":"IF(DataInformation!B42<>\"\",DataInformation!B42,\"\")","v":201},{"$f":"IF(DataInformation!C42<>\"\",DataInformation!C42,\"\")","v":177},{"$f":"IF(DataInformation!D42<>\"\",DataInformation!D42,\"\")","v":84},{"$f":"IF(DataInformation!H42<>\"\",DataInformation!H42,\"\")","v":57},{"$f":"IF(DataInformation!R42<>\"\",DataInformation!R42,\"\")","v":177},{"$f":"IF(DataInformation!S42<>\"\",DataInformation!S42,\"\")","v":136},null,{"$f":"IF(DataInformation!T42<>\"\",DataInformation!T42,\"\")","v":430},{"$f":"IF(DataInformation!V42<>\"\",DataInformation!V42,\"\")","v":24},{"$f":"IF(DataInformation!W42<>\"\",DataInformation!W42,\"\")","v":57},{"$f":"IF(DataInformation!Z42<>\"\",DataInformation!Z42,\"\")","v":511},{"$f":"IF(DataInformation!AA42<>\"\",DataInformation!AA42,\"\")","v":-375},null,{"$f":"IF(DataInformation!AD42<>\"\",DataInformation!AD42,\"\")","v":0},{"$f":"IF(DataInformation!AF42<>\"\",DataInformation!AF42,\"\")","v":430},null,{"$f":"IF(DataInformation!AG42<>\"\",DataInformation!AG42,\"\")","v":84},{"$f":"IF(DataInformation!AH42<>\"\",DataInformation!AH42,\"\")","v":60},{"$f":"IF(DataInformation!AI42<>\"\",DataInformation!AI42,\"\")","v":60},{"$f":"IF(DataInformation!AJ42<>\"\",DataInformation!AJ42,\"\")","v":0}]
[{"$f":"IF(DataInformation!A43<>\"\",DataInformation!A43,\"\")","v":5050},{"$f":"IF(DataInformation!B43<>\"\",DataInformation!B43,\"\")","v":98.399999999999991},{"$f":"IF(DataInformation!C43<>\"\",DataInformation!C43,\"\")","v":76},{"$f":"IF(DataInformation!D43<>\"\",DataInformation!D43,\"\")","v":78.399999999999991},{"$f":"IF(DataInformation!H43<>\"\",DataInformation!H43,\"\")","v":55},{"$f":"IF(DataInformation!R43<>\"\",DataInformation!R43,\"\")","v":76},{"$f":"IF(DataInformation!S43<>\"\",DataInformation!S43,\"\")","v":58},null,{"$f":"IF(DataInformation!T43<>\"\",DataInformation!T43,\"\")","v":487},{"$f":"IF(DataInformation!V43<>\"\",DataInformation!V43,\"\")","v":22.399999999999991},{"$f":"IF(DataInformation!W43<>\"\",DataInformation!W43,\"\")","v":55},{"$f":"IF(DataInformation!Z43<>\"\",DataInformation!Z43,\"\")","v":564.4},{"$f":"IF(DataInformation!AA43<>\"\",DataInformation!AA43,\"\")","v":-506.4},null,{"$f":"IF(DataInformation!AD43<>\"\",DataInformation!AD43,\"\")","v":0},{"$f":"IF(DataInformation!AF43<>\"\",DataInformation!AF43,\"\")","v":487},null,{"$f":"IF(DataInformation!AG43<>\"\",DataInformation!AG43,\"\")","v":78.399999999999991},{"$f":"IF(DataInformation!AH43<>\"\",DataInformation!AH43,\"\")","v":56},{"$f":"IF(DataInformation!AI43<>\"\",DataInformation!AI43,\"\")","v":56},{"$f":"IF(DataInformation!AJ43<>\"\",DataInformation!AJ43,\"\")","v":0}]
[{"$f":"IF(DataInformation!A44<>\"\",DataInformation!A44,\"\")","v":5075},{"$f":"IF(DataInformation!B44<>\"\",DataInformation!B44,\"\")","v":49.8},{"$f":"IF(DataInformation!C44<>\"\",DataInformation!C44,\"\")","v":23},{"$f":"IF(DataInformation!D44<>\"\",DataInformation!D44,\"\")","v":93.8},{"$f":"IF(DataInformation!H44<>\"\",DataInformation!H44,\"\")","v":51},{"$f":"IF(DataInformation!R44<>\"\",DataInformation!R44,\"\")","v":23},{"$f":"IF(DataInformation!S44<>\"\",DataInformation!S44,\"\")","v":18},null,{"$f":"IF(DataInformation!T44<>\"\",DataInformation!T44,\"\")","v":884},{"$f":"IF(DataInformation!V44<>\"\",DataInformation!V44,\"\")","v":26.799999999999997},{"$f":"IF(DataInformation!W44<>\"\",DataInformation!W44,\"\")","v":51},{"$f":"IF(DataInformation!Z44<>\"\",DataInformation!Z44,\"\")","v":961.8},{"$f":"IF(DataInformation!AA44<>\"\",DataInformation!AA44,\"\")","v":-943.8},null,{"$f":"IF(DataInformation!AD44<>\"\",DataInformation!AD44,\"\")","v":0},{"$f":"IF(DataInformation!AF44<>\"\",DataInformation!AF44,\"\")","v":884},null,{"$f":"IF(DataInformation!AG44<>\"\",DataInformation!AG44,\"\")","v":93.8},{"$f":"IF(DataInformation!AH44<>\"\",DataInformation!AH44,\"\")","v":67},{"$f":"IF(DataInformation!AI44<>\"\",DataInformation!AI44,\"\")","v":67},{"$f":"IF(DataInformation!AJ44<>\"\",DataInformation!AJ44,\"\")","v":0}]
[{"$f":"IF(DataInformation!A45<>\"\",DataInformation!A45,\"\")","v":5300},{"$f":"IF(DataInformation!B45<>\"\",DataInformation!B45,\"\")","v":32.199999999999989},{"$f":"IF(DataInformation!C45<>\"\",DataInformation!C45,\"\")","v":1},{"$f":"IF(DataInformation!D45<>\"\",DataInformation!D45,\"\")","v":109.19999999999999},{"$f":"IF(DataInformation!H45<>\"\",DataInformation!H45,\"\")","v":49},{"$f":"IF(DataInformation!R45<>\"\",DataInformation!R45,\"\")","v":1},{"$f":"IF(DataInformation!S45<>\"\",DataInformation!S45,\"\")","v":1},null,{"$f":"IF(DataInformation!T45<>\"\",DataInformation!T45,\"\")","v":1215},{"$f":"IF(DataInformation!V45<>\"\",DataInformation!V45,\"\")","v":31.199999999999989},{"$f":"IF(DataInformation!W45<>\"\",DataInformation!W45,\"\")","v":49},{"$f":"IF(DataInformation!Z45<>\"\",DataInformation!Z45,\"\")","v":1295.2},{"$f":"IF(DataInformation!AA45<>\"\",DataInformation!AA45,\"\")","v":-1294.2},null,{"$f":"IF(DataInformation!AD45<>\"\",DataInformation!AD45,\"\")","v":0},{"$f":"IF(DataInformation!AF45<>\"\",DataInformation!AF45,\"\")","v":10937},null,{"$f":"IF(DataInformation!AG45<>\"\",DataInformation!AG45,\"\")","v":109.19999999999999},{"$f":"IF(DataInformation!AH45<>\"\",DataInformation!AH45,\"\")","v":78},{"$f":"IF(DataInformation!AI45<>\"\",DataInformation!AI45,\"\")","v":78},{"$f":"IF(DataInformation!AJ45<>\"\",DataInformation!AJ45,\"\")","v":0}]
[{"$f":"IF(DataInformation!A46<>\"\",DataInformation!A46,\"\")","v":5325},{"$f":"IF(DataInformation!B46<>\"\",DataInformation!B46,\"\")","v":31.399999999999991},{"$f":"IF(DataInformation!C46<>\"\",DataInformation!C46,\"\")","v":1},{"$f":"IF(DataInformation!D46<>\"\",DataInformation!D46,\"\")","v":106.39999999999999},{"$f":"IF(DataInformation!H46<>\"\",DataInformation!H46,\"\")","v":50},{"$f":"IF(DataInformation!R46<>\"\",DataInformation!R46,\"\")","v":1},{"$f":"IF(DataInformation!S46<>\"\",DataInformation!S46,\"\")","v":1},null,{"$f":"IF(DataInformation!T46<>\"\",DataInformation!T46,\"\")","v":1155},{"$f":"IF(DataInformation!V46<>\"\",DataInformation!V46,\"\")","v":30.399999999999991},{"$f":"IF(DataInformation!W46<>\"\",DataInformation!W46,\"\")","v":50},{"$f":"IF(DataInformation!Z46<>\"\",DataInformation!Z46,\"\")","v":1235.4000000000001},{"$f":"IF(DataInformation!AA46<>\"\",DataInformation!AA46,\"\")","v":-1234.4000000000001},null,{"$f":"IF(DataInformation!AD46<>\"\",DataInformation!AD46,\"\")","v":0},{"$f":"IF(DataInformation!AF46<>\"\",DataInformation!AF46,\"\")","v":1154},null,{"$f":"IF(DataInformation!AG46<>\"\",DataInformation!AG46,\"\")","v":106.39999999999999},{"$f":"IF(DataInformation!AH46<>\"\",DataInformation!AH46,\"\")","v":76},{"$f":"IF(DataInformation!AI46<>\"\",DataInformation!AI46,\"\")","v":76},{"$f":"IF(DataInformation!AJ46<>\"\",DataInformation!AJ46,\"\")","v":0}]
[{"$f":"IF(DataInformation!A47<>\"\",DataInformation!A47,\"\")","v":5350},{"$f":"IF(DataInformation!B47<>\"\",DataInformation!B47,\"\")","v":31},{"$f":"IF(DataInformation!C47<>\"\",DataInformation!C47,\"\")","v":1},{"$f":"IF(DataInformation!D47<>\"\",DataInformation!D47,\"\")","v":105},{"$f":"IF(DataInformation!H47<>\"\",DataInformation!H47,\"\")","v":52},{"$f":"IF(DataInformation!R47<>\"\",DataInformation!R47,\"\")","v":1},{"$f":"IF(DataInformation!S47<>\"\",DataInformation!S47,\"\")","v":1},null,{"$f":"IF(DataInformation!T47<>\"\",DataInformation!T47,\"\")","v":1126},{"$f":"IF(DataInformation!V47<>\"\",DataInformation!V47,\"\")","v":30},{"$f":"IF(DataInformation!W47<>\"\",DataInformation!W47,\"\")","v":52},{"$f":"IF(DataInformation!Z47<>\"\",DataInformation!Z47,\"\")","v":1208},{"$f":"IF(DataInformation!AA47<>\"\",DataInformation!AA47,\"\")","v":-1207},null,{"$f":"IF(DataInformation!AD47<>\"\",DataInformation!AD47,\"\")","v":0},{"$f":"IF(DataInformation!AF47<>\"\",DataInformation!AF47,\"\")","v":1126},null,{"$f":"IF(DataInformation!AG47<>\"\",DataInformation!AG47,\"\")","v":105},{"$f":"IF(DataInformation!AH47<>\"\",DataInformation!AH47,\"\")","v":75},{"$f":"IF(DataInformation!AI47<>\"\",DataInformation!AI47,\"\")","v":75},{"$f":"IF(DataInformation!AJ47<>\"\",DataInformation!AJ47,\"\")","v":0}]
[{"$f":"IF(DataInformation!A48<>\"\",DataInformation!A48,\"\")","v":5375},{"$f":"IF(DataInformation!B48<>\"\",DataInformation!B48,\"\")","v":30.599999999999994},{"$f":"IF(DataInformation!C48<>\"\",DataInformation!C48,\"\")","v":1},{"$f":"IF(DataInformation!D48<>\"\",DataInformation!D48,\"\")","v":103.6},{"$f":"IF(DataInformation!H48<>\"\",DataInformation!H48,\"\")","v":53},{"$f":"IF(DataInformation!R48<>\"\",DataInformation!R48,\"\")","v":1},{"$f":"IF(DataInformation!S48<>\"\",DataInformation!S48,\"\")","v":1},null,{"$f":"IF(DataInformation!T48<>\"\",DataInformation!T48,\"\")","v":1045},{"$f":"IF(DataInformation!V48<>\"\",DataInformation!V48,\"\")","v":29.599999999999994},{"$f":"IF(DataInformation!W48<>\"\",DataInformation!W48,\"\")","v":53},{"$f":"IF(DataInformation!Z48<>\"\",DataInformation!Z48,\"\")","v":1127.5999999999999},{"$f":"IF(DataInformation!AA48<>\"\",DataInformation!AA48,\"\")","v":-1126.5999999999999},null,{"$f":"IF(DataInformation!AD48<>\"\",DataInformation!AD48,\"\")","v":0},{"$f":"IF(DataInformation!AF48<>\"\",DataInformation!AF48,\"\")","v":1045},null,{"$f":"IF(DataInformation!AG48<>\"\",DataInformation!AG48,\"\")","v":103.6},{"$f":"IF(DataInformation!AH48<>\"\",DataInformation!AH48,\"\")","v":74},{"$f":"IF(DataInformation!AI48<>\"\",DataInformation!AI48,\"\")","v":74},{"$f":"IF(DataInformation!AJ48<>\"\",DataInformation!AJ48,\"\")","v":0}]
[{"$f":"IF(DataInformation!A49<>\"\",DataInformation!A49,\"\")","v":5400},{"$f":"IF(DataInformation!B49<>\"\",DataInformation!B49,\"\")","v":29.399999999999991},{"$f":"IF(DataInformation!C49<>\"\",DataInformation!C49,\"\")","v":1},{"$f":"IF(DataInformation!D49<>\"\",DataInformation!D49,\"\")","v":99.399999999999991},{"$f":"IF(DataInformation!H49<>\"\",DataInformation!H49,\"\")","v":55},{"$f":"IF(DataInformation!R49<>\"\",DataInformation!R49,\"\")","v":1},{"$f":"IF(DataInformation!S49<>\"\",DataInformation!S49,\"\")","v":1},null,{"$f":"IF(DataInformation!T49<>\"\",DataInformation!T49,\"\")","v":920},{"$f":"IF(DataInformation!V49<>\"\",DataInformation!V49,\"\")","v":28.399999999999991},{"$f":"IF(DataInformation!W49<>\"\",DataInformation!W49,\"\")","v":55},{"$f":"IF(DataInformation!Z49<>\"\",DataInformation!Z49,\"\")","v":1003.4},{"$f":"IF(DataInformation!AA49<>\"\",DataInformation!AA49,\"\")","v":-1002.4},null,{"$f":"IF(DataInformation!AD49<>\"\",DataInformation!AD49,\"\")","v":0},{"$f":"IF(DataInformation!AF49<>\"\",DataInformation!AF49,\"\")","v":919},null,{"$f":"IF(DataInformation!AG49<>\"\",DataInformation!AG49,\"\")","v":99.399999999999991},{"$f":"IF(DataInformation!AH49<>\"\",DataInformation!AH49,\"\")","v":71},{"$f":"IF(DataInformation!AI49<>\"\",DataInformation!AI49,\"\")","v":71},{"$f":"IF(DataInformation!AJ49<>\"\",DataInformation!AJ49,\"\")","v":0}]
[{"$f":"IF(DataInformation!A50<>\"\",DataInformation!A50,\"\")","v":5425},{"$f":"IF(DataInformation!B50<>\"\",DataInformation!B50,\"\")","v":29.199999999999989},{"$f":"IF(DataInformation!C50<>\"\",DataInformation!C50,\"\")","v":2},{"$f":"IF(DataInformation!D50<>\"\",DataInformation!D50,\"\")","v":95.199999999999989},{"$f":"IF(DataInformation!H50<>\"\",DataInformation!H50,\"\")","v":57},{"$f":"IF(DataInformation!R50<>\"\",DataInformation!R50,\"\")","v":2},{"$f":"IF(DataInformation!S50<>\"\",DataInformation!S50,\"\")","v":2},null,{"$f":"IF(DataInformation!T50<>\"\",DataInformation!T50,\"\")","v":814},{"$f":"IF(DataInformation!V50<>\"\",DataInformation!V50,\"\")","v":27.199999999999989},{"$f":"IF(DataInformation!W50<>\"\",DataInformation!W50,\"\")","v":57},{"$f":"IF(DataInformation!Z50<>\"\",DataInformation!Z50,\"\")","v":898.2},{"$f":"IF(DataInformation!AA50<>\"\",DataInformation!AA50,\"\")","v":-896.2},null,{"$f":"IF(DataInformation!AD50<>\"\",DataInformation!AD50,\"\")","v":0},{"$f":"IF(DataInformation!AF50<>\"\",DataInformation!AF50,\"\")","v":813},null,{"$f":"IF(DataInformation!AG50<>\"\",DataInformation!AG50,\"\")","v":95.199999999999989},{"$f":"IF(DataInformation!AH50<>\"\",DataInformation!AH50,\"\")","v":68},{"$f":"IF(DataInformation!AI50<>\"\",DataInformation!AI50,\"\")","v":68},{"$f":"IF(DataInformation!AJ50<>\"\",DataInformation!AJ50,\"\")","v":0}]
[{"$f":"IF(DataInformation!A51<>\"\",DataInformation!A51,\"\")","v":5450},{"$f":"IF(DataInformation!B51<>\"\",DataInformation!B51,\"\")","v":27.599999999999994},{"$f":"IF(DataInformation!C51<>\"\",DataInformation!C51,\"\")","v":2},{"$f":"IF(DataInformation!D51<>\"\",DataInformation!D51,\"\")","v":89.6},{"$f":"IF(DataInformation!H51<>\"\",DataInformation!H51,\"\")","v":59},{"$f":"IF(DataInformation!R51<>\"\",DataInformation!R51,\"\")","v":2},{"$f":"IF(DataInformation!S51<>\"\",DataInformation!S51,\"\")","v":2},null,{"$f":"IF(DataInformation!T51<>\"\",DataInformation!T51,\"\")","v":661},{"$f":"IF(DataInformation!V51<>\"\",DataInformation!V51,\"\")","v":25.599999999999994},{"$f":"IF(DataInformation!W51<>\"\",DataInformation!W51,\"\")","v":59},{"$f":"IF(DataInformation!Z51<>\"\",DataInformation!Z51,\"\")","v":745.6},{"$f":"IF(DataInformation!AA51<>\"\",DataInformation!AA51,\"\")","v":-743.6},null,{"$f":"IF(DataInformation!AD51<>\"\",DataInformation!AD51,\"\")","v":0},{"$f":"IF(DataInformation!AF51<>\"\",DataInformation!AF51,\"\")","v":661},null,{"$f":"IF(DataInformation!AG51<>\"\",DataInformation!AG51,\"\")","v":89.6},{"$f":"IF(DataInformation!AH51<>\"\",DataInformation!AH51,\"\")","v":64},{"$f":"IF(DataInformation!AI51<>\"\",DataInformation!AI51,\"\")","v":64},{"$f":"IF(DataInformation!AJ51<>\"\",DataInformation!AJ51,\"\")","v":0}]
[{"$f":"IF(DataInformation!A52<>\"\",DataInformation!A52,\"\")","v":5475},{"$f":"IF(DataInformation!B52<>\"\",DataInformation!B52,\"\")","v":25.399999999999991},{"$f":"IF(DataInformation!C52<>\"\",DataInformation!C52,\"\")","v":1},{"$f":"IF(DataInformation!D52<>\"\",DataInformation!D52,\"\")","v":85.399999999999991},{"$f":"IF(DataInformation!H52<>\"\",DataInformation!H52,\"\")","v":61},{"$f":"IF(DataInformation!R52<>\"\",DataInformation!R52,\"\")","v":1},{"$f":"IF(DataInformation!S52<>\"\",DataInformation!S52,\"\")","v":1},null,{"$f":"IF(DataInformation!T52<>\"\",DataInformation!T52,\"\")","v":503},{"$f":"IF(DataInformation!V52<>\"\",DataInformation!V52,\"\")","v":24.399999999999991},{"$f":"IF(DataInformation!W52<>\"\",DataInformation!W52,\"\")","v":61},{"$f":"IF(DataInformation!Z52<>\"\",DataInformation!Z52,\"\")","v":588.4},{"$f":"IF(DataInformation!AA52<>\"\",DataInformation!AA52,\"\")","v":-587.4},null,{"$f":"IF(DataInformation!AD52<>\"\",DataInformation!AD52,\"\")","v":0},{"$f":"IF(DataInformation!AF52<>\"\",DataInformation!AF52,\"\")","v":502},null,{"$f":"IF(DataInformation!AG52<>\"\",DataInformation!AG52,\"\")","v":85.399999999999991},{"$f":"IF(DataInformation!AH52<>\"\",DataInformation!AH52,\"\")","v":61},{"$f":"IF(DataInformation!AI52<>\"\",DataInformation!AI52,\"\")","v":61},{"$f":"IF(DataInformation!AJ52<>\"\",DataInformation!AJ52,\"\")","v":0}]
[{"$f":"IF(DataInformation!A53<>\"\",DataInformation!A53,\"\")","v":5500},{"$f":"IF(DataInformation!B53<>\"\",DataInformation!B53,\"\")","v":24.199999999999989},{"$f":"IF(DataInformation!C53<>\"\",DataInformation!C53,\"\")","v":1},{"$f":"IF(DataInformation!D53<>\"\",DataInformation!D53,\"\")","v":81.199999999999989},{"$f":"IF(DataInformation!H53<>\"\",DataInformation!H53,\"\")","v":63},{"$f":"IF(DataInformation!R53<>\"\",DataInformation!R53,\"\")","v":1},{"$f":"IF(DataInformation!S53<>\"\",DataInformation!S53,\"\")","v":1},null,{"$f":"IF(DataInformation!T53<>\"\",DataInformation!T53,\"\")","v":416},{"$f":"IF(DataInformation!V53<>\"\",DataInformation!V53,\"\")","v":23.199999999999989},{"$f":"IF(DataInformation!W53<>\"\",DataInformation!W53,\"\")","v":63},{"$f":"IF(DataInformation!Z53<>\"\",DataInformation!Z53,\"\")","v":502.2},{"$f":"IF(DataInformation!AA53<>\"\",DataInformation!AA53,\"\")","v":-501.2},null,{"$f":"IF(DataInformation!AD53<>\"\",DataInformation!AD53,\"\")","v":0},{"$f":"IF(DataInformation!AF53<>\"\",DataInformation!AF53,\"\")","v":416},null,{"$f":"IF(DataInformation!AG53<>\"\",DataInformation!AG53,\"\")","v":81.199999999999989},{"$f":"IF(DataInformation!AH53<>\"\",DataInformation!AH53,\"\")","v":58},{"$f":"IF(DataInformation!AI53<>\"\",DataInformation!AI53,\"\")","v":58},{"$f":"IF(DataInformation!AJ53<>\"\",DataInformation!AJ53,\"\")","v":0}]
[{"$f":"IF(DataInformation!A54<>\"\",DataInformation!A54,\"\")","v":5525},{"$f":"IF(DataInformation!B54<>\"\",DataInformation!B54,\"\")","v":23.599999999999994},{"$f":"IF(DataInformation!C54<>\"\",DataInformation!C54,\"\")","v":2},{"$f":"IF(DataInformation!D54<>\"\",DataInformation!D54,\"\")","v":75.599999999999994},{"$f":"IF(DataInformation!H54<>\"\",DataInformation!H54,\"\")","v":66},{"$f":"IF(DataInformation!R54<>\"\",DataInformation!R54,\"\")","v":2},{"$f":"IF(DataInformation!S54<>\"\",DataInformation!S54,\"\")","v":2},null,{"$f":"IF(DataInformation!T54<>\"\",DataInformation!T54,\"\")","v":369},{"$f":"IF(DataInformation!V54<>\"\",DataInformation!V54,\"\")","v":21.599999999999994},{"$f":"IF(DataInformation!W54<>\"\",DataInformation!W54,\"\")","v":66},{"$f":"IF(DataInformation!Z54<>\"\",DataInformation!Z54,\"\")","v":456.6},{"$f":"IF(DataInformation!AA54<>\"\",DataInformation!AA54,\"\")","v":-454.6},null,{"$f":"IF(DataInformation!AD54<>\"\",DataInformation!AD54,\"\")","v":0},{"$f":"IF(DataInformation!AF54<>\"\",DataInformation!AF54,\"\")","v":368},null,{"$f":"IF(DataInformation!AG54<>\"\",DataInformation!AG54,\"\")","v":75.599999999999994},{"$f":"IF(DataInformation!AH54<>\"\",DataInformation!AH54,\"\")","v":54},{"$f":"IF(DataInformation!AI54<>\"\",DataInformation!AI54,\"\")","v":54},{"$f":"IF(DataInformation!AJ54<>\"\",DataInformation!AJ54,\"\")","v":0}]
[{"$f":"IF(DataInformation!A55<>\"\",DataInformation!A55,\"\")","v":5550},{"$f":"IF(DataInformation!B55<>\"\",DataInformation!B55,\"\")","v":25.399999999999991},{"$f":"IF(DataInformation!C55<>\"\",DataInformation!C55,\"\")","v":5},{"$f":"IF(DataInformation!D55<>\"\",DataInformation!D55,\"\")","v":71.399999999999991},{"$f":"IF(DataInformation!H55<>\"\",DataInformation!H55,\"\")","v":68},{"$f":"IF(DataInformation!R55<>\"\",DataInformation!R55,\"\")","v":5},{"$f":"IF(DataInformation!S55<>\"\",DataInformation!S55,\"\")","v":4},null,{"$f":"IF(DataInformation!T55<>\"\",DataInformation!T55,\"\")","v":313},{"$f":"IF(DataInformation!V55<>\"\",DataInformation!V55,\"\")","v":20.399999999999991},{"$f":"IF(DataInformation!W55<>\"\",DataInformation!W55,\"\")","v":68},{"$f":"IF(DataInformation!Z55<>\"\",DataInformation!Z55,\"\")","v":401.4},{"$f":"IF(DataInformation!AA55<>\"\",DataInformation!AA55,\"\")","v":-397.4},null,{"$f":"IF(DataInformation!AD55<>\"\",DataInformation!AD55,\"\")","v":0},{"$f":"IF(DataInformation!AF55<>\"\",DataInformation!AF55,\"\")","v":312},null,{"$f":"IF(DataInformation!AG55<>\"\",DataInformation!AG55,\"\")","v":71.399999999999991},{"$f":"IF(DataInformation!AH55<>\"\",DataInformation!AH55,\"\")","v":51},{"$f":"IF(DataInformation!AI55<>\"\",DataInformation!AI55,\"\")","v":51},{"$f":"IF(DataInformation!AJ55<>\"\",DataInformation!AJ55,\"\")","v":0}]
[{"$f":"IF(DataInformation!A56<>\"\",DataInformation!A56,\"\")","v":5575},{"$f":"IF(DataInformation!B56<>\"\",DataInformation!B56,\"\")","v":33.599999999999994},{"$f":"IF(DataInformation!C56<>\"\",DataInformation!C56,\"\")","v":14},{"$f":"IF(DataInformation!D56<>\"\",DataInformation!D56,\"\")","v":68.599999999999994},{"$f":"IF(DataInformation!H56<>\"\",DataInformation!H56,\"\")","v":71},{"$f":"IF(DataInformation!R56<>\"\",DataInformation!R56,\"\")","v":14},{"$f":"IF(DataInformation!S56<>\"\",DataInformation!S56,\"\")","v":11},null,{"$f":"IF(DataInformation!T56<>\"\",DataInformation!T56,\"\")","v":265},{"$f":"IF(DataInformation!V56<>\"\",DataInformation!V56,\"\")","v":19.599999999999994},{"$f":"IF(DataInformation!W56<>\"\",DataInformation!W56,\"\")","v":71},{"$f":"IF(DataInformation!Z56<>\"\",DataInformation!Z56,\"\")","v":355.6},{"$f":"IF(DataInformation!AA56<>\"\",DataInformation!AA56,\"\")","v":-344.6},null,{"$f":"IF(DataInformation!AD56<>\"\",DataInformation!AD56,\"\")","v":0},{"$f":"IF(DataInformation!AF56<>\"\",DataInformation!AF56,\"\")","v":264},null,{"$f":"IF(DataInformation!AG56<>\"\",DataInformation!AG56,\"\")","v":68.599999999999994},{"$f":"IF(DataInformation!AH56<>\"\",DataInformation!AH56,\"\")","v":49},{"$f":"IF(DataInformation!AI56<>\"\",DataInformation!AI56,\"\")","v":49},{"$f":"IF(DataInformation!AJ56<>\"\",DataInformation!AJ56,\"\")","v":0}]
[{"$f":"IF(DataInformation!A57<>\"\",DataInformation!A57,\"\")","v":5600},{"$f":"IF(DataInformation!B57<>\"\",DataInformation!B57,\"\")","v":49.999999999999993},{"$f":"IF(DataInformation!C57<>\"\",DataInformation!C57,\"\")","v":32},{"$f":"IF(DataInformation!D57<>\"\",DataInformation!D57,\"\")","v":62.999999999999993},{"$f":"IF(DataInformation!H57<>\"\",DataInformation!H57,\"\")","v":73},{"$f":"IF(DataInformation!R57<>\"\",DataInformation!R57,\"\")","v":32},{"$f":"IF(DataInformation!S57<>\"\",DataInformation!S57,\"\")","v":25},null,{"$f":"IF(DataInformation!T57<>\"\",DataInformation!T57,\"\")","v":219},{"$f":"IF(DataInformation!V57<>\"\",DataInformation!V57,\"\")","v":17.999999999999993},{"$f":"IF(DataInformation!W57<>\"\",DataInformation!W57,\"\")","v":73},{"$f":"IF(DataInformation!Z57<>\"\",DataInformation!Z57,\"\")","v":310},{"$f":"IF(DataInformation!AA57<>\"\",DataInformation!AA57,\"\")","v":-285},null,{"$f":"IF(DataInformation!AD57<>\"\",DataInformation!AD57,\"\")","v":0},{"$f":"IF(DataInformation!AF57<>\"\",DataInformation!AF57,\"\")","v":218},null,{"$f":"IF(DataInformation!AG57<>\"\",DataInformation!AG57,\"\")","v":62.999999999999993},{"$f":"IF(DataInformation!AH57<>\"\",DataInformation!AH57,\"\")","v":45},{"$f":"IF(DataInformation!AI57<>\"\",DataInformation!AI57,\"\")","v":45},{"$f":"IF(DataInformation!AJ57<>\"\",DataInformation!AJ57,\"\")","v":0}]
[{"$f":"IF(DataInformation!A58<>\"\",DataInformation!A58,\"\")","v":5625},{"$f":"IF(DataInformation!B58<>\"\",DataInformation!B58,\"\")","v":70.400000000000006},{"$f":"IF(DataInformation!C58<>\"\",DataInformation!C58,\"\")","v":54},{"$f":"IF(DataInformation!D58<>\"\",DataInformation!D58,\"\")","v":57.4},{"$f":"IF(DataInformation!H58<>\"\",DataInformation!H58,\"\")","v":75},{"$f":"IF(DataInformation!R58<>\"\",DataInformation!R58,\"\")","v":54},{"$f":"IF(DataInformation!S58<>\"\",DataInformation!S58,\"\")","v":42},null,{"$f":"IF(DataInformation!T58<>\"\",DataInformation!T58,\"\")","v":168},{"$f":"IF(DataInformation!V58<>\"\",DataInformation!V58,\"\")","v":16.399999999999999},{"$f":"IF(DataInformation!W58<>\"\",DataInformation!W58,\"\")","v":75},{"$f":"IF(DataInformation!Z58<>\"\",DataInformation!Z58,\"\")","v":259.39999999999998},{"$f":"IF(DataInformation!AA58<>\"\",DataInformation!AA58,\"\")","v":-217.39999999999998},null,{"$f":"IF(DataInformation!AD58<>\"\",DataInformation!AD58,\"\")","v":0},{"$f":"IF(DataInformation!AF58<>\"\",DataInformation!AF58,\"\")","v":168},null,{"$f":"IF(DataInformation!AG58<>\"\",DataInformation!AG58,\"\")","v":57.4},{"$f":"IF(DataInformation!AH58<>\"\",DataInformation!AH58,\"\")","v":41},{"$f":"IF(DataInformation!AI58<>\"\",DataInformation!AI58,\"\")","v":41},{"$f":"IF(DataInformation!AJ58<>\"\",DataInformation!AJ58,\"\")","v":0}]
[{"$f":"IF(DataInformation!A59<>\"\",DataInformation!A59,\"\")","v":5650},{"$f":"IF(DataInformation!B59<>\"\",DataInformation!B59,\"\")","v":87.199999999999989},{"$f":"IF(DataInformation!C59<>\"\",DataInformation!C59,\"\")","v":72},{"$f":"IF(DataInformation!D59<>\"\",DataInformation!D59,\"\")","v":53.199999999999996},{"$f":"IF(DataInformation!H59<>\"\",DataInformation!H59,\"\")","v":78},{"$f":"IF(DataInformation!R59<>\"\",DataInformation!R59,\"\")","v":72},{"$f":"IF(DataInformation!S59<>\"\",DataInformation!S59,\"\")","v":55},null,{"$f":"IF(DataInformation!T59<>\"\",DataInformation!T59,\"\")","v":117},{"$f":"IF(DataInformation!V59<>\"\",DataInformation!V59,\"\")","v":15.199999999999996},{"$f":"IF(DataInformation!W59<>\"\",DataInformation!W59,\"\")","v":78},{"$f":"IF(DataInformation!Z59<>\"\",DataInformation!Z59,\"\")","v":210.2},{"$f":"IF(DataInformation!AA59<>\"\",DataInformation!AA59,\"\")","v":-155.19999999999999},null,{"$f":"IF(DataInformation!AD59<>\"\",DataInformation!AD59,\"\")","v":0},{"$f":"IF(DataInformation!AF59<>\"\",DataInformation!AF59,\"\")","v":116},null,{"$f":"IF(DataInformation!AG59<>\"\",DataInformation!AG59,\"\")","v":53.199999999999996},{"$f":"IF(DataInformation!AH59<>\"\",DataInformation!AH59,\"\")","v":38},{"$f":"IF(DataInformation!AI59<>\"\",DataInformation!AI59,\"\")","v":38},{"$f":"IF(DataInformation!AJ59<>\"\",DataInformation!AJ59,\"\")","v":0}]
[{"$f":"IF(DataInformation!A60<>\"\",DataInformation!A60,\"\")","v":5675},{"$f":"IF(DataInformation!B60<>\"\",DataInformation!B60,\"\")","v":119},{"$f":"IF(DataInformation!C60<>\"\",DataInformation!C60,\"\")","v":97},{"$f":"IF(DataInformation!D60<>\"\",DataInformation!D60,\"\")","v":77},{"$f":"IF(DataInformation!H60<>\"\",DataInformation!H60,\"\")","v":77},{"$f":"IF(DataInformation!R60<>\"\",DataInformation!R60,\"\")","v":97},{"$f":"IF(DataInformation!S60<>\"\",DataInformation!S60,\"\")","v":75},null,{"$f":"IF(DataInformation!T60<>\"\",DataInformation!T60,\"\")","v":69},{"$f":"IF(DataInformation!V60<>\"\",DataInformation!V60,\"\")","v":22},{"$f":"IF(DataInformation!W60<>\"\",DataInformation!W60,\"\")","v":77},{"$f":"IF(DataInformation!Z60<>\"\",DataInformation!Z60,\"\")","v":168},{"$f":"IF(DataInformation!AA60<>\"\",DataInformation!AA60,\"\")","v":-93},null,{"$f":"IF(DataInformation!AD60<>\"\",DataInformation!AD60,\"\")","v":0},{"$f":"IF(DataInformation!AF60<>\"\",DataInformation!AF60,\"\")","v":68},null,{"$f":"IF(DataInformation!AG60<>\"\",DataInformation!AG60,\"\")","v":77},{"$f":"IF(DataInformation!AH60<>\"\",DataInformation!AH60,\"\")","v":55},{"$f":"IF(DataInformation!AI60<>\"\",DataInformation!AI60,\"\")","v":55},{"$f":"IF(DataInformation!AJ60<>\"\",DataInformation!AJ60,\"\")","v":0}]
[{"$f":"IF(DataInformation!A61<>\"\",DataInformation!A61,\"\")","v":5700},{"$f":"IF(DataInformation!B61<>\"\",DataInformation!B61,\"\")","v":165.6},{"$f":"IF(DataInformation!C61<>\"\",DataInformation!C61,\"\")","v":138},{"$f":"IF(DataInformation!D61<>\"\",DataInformation!D61,\"\")","v":96.6},{"$f":"IF(DataInformation!H61<>\"\",DataInformation!H61,\"\")","v":78},{"$f":"IF(DataInformation!R61<>\"\",DataInformation!R61,\"\")","v":138},{"$f":"IF(DataInformation!S61<>\"\",DataInformation!S61,\"\")","v":106},null,{"$f":"IF(DataInformation!T61<>\"\",DataInformation!T61,\"\")","v":27},{"$f":"IF(DataInformation!V61<>\"\",DataInformation!V61,\"\")","v":27.599999999999994},{"$f":"IF(DataInformation!W61<>\"\",DataInformation!W61,\"\")","v":78},{"$f":"IF(DataInformation!Z61<>\"\",DataInformation!Z61,\"\")","v":132.6},{"$f":"IF(DataInformation!AA61<>\"\",DataInformation!AA61,\"\")","v":-26.599999999999994},null,{"$f":"IF(DataInformation!AD61<>\"\",DataInformation!AD61,\"\")","v":0},{"$f":"IF(DataInformation!AF61<>\"\",DataInformation!AF61,\"\")","v":26},null,{"$f":"IF(DataInformation!AG61<>\"\",DataInformation!AG61,\"\")","v":96.6},{"$f":"IF(DataInformation!AH61<>\"\",DataInformation!AH61,\"\")","v":69},{"$f":"IF(DataInformation!AI61<>\"\",DataInformation!AI61,\"\")","v":69},{"$f":"IF(DataInformation!AJ61<>\"\",DataInformation!AJ61,\"\")","v":0}]
[{"$f":"IF(DataInformation!A62<>\"\",DataInformation!A62,\"\")","v":5725},{"$f":"IF(DataInformation!B62<>\"\",DataInformation!B62,\"\")","v":210},{"$f":"IF(DataInformation!C62<>\"\",DataInformation!C62,\"\")","v":190},{"$f":"IF(DataInformation!D62<>\"\",DataInformation!D62,\"\")","v":70},{"$f":"IF(DataInformation!H62<>\"\",DataInformation!H62,\"\")","v":86},{"$f":"IF(DataInformation!R62<>\"\",DataInformation!R62,\"\")","v":190},{"$f":"IF(DataInformation!S62<>\"\",DataInformation!S62,\"\")","v":146},null,{"$f":"IF(DataInformation!T62<>\"\",DataInformation!T62,\"\")","v":4},{"$f":"IF(DataInformation!V62<>\"\",DataInformation!V62,\"\")","v":20},{"$f":"IF(DataInformation!W62<>\"\",DataInformation!W62,\"\")","v":86},{"$f":"IF(DataInformation!Z62<>\"\",DataInformation!Z62,\"\")","v":110},{"$f":"IF(DataInformation!AA62<>\"\",DataInformation!AA62,\"\")","v":36},null,{"$f":"IF(DataInformation!AD62<>\"\",DataInformation!AD62,\"\")","v":0},{"$f":"IF(DataInformation!AF62<>\"\",DataInformation!AF62,\"\")","v":3},null,{"$f":"IF(DataInformation!AG62<>\"\",DataInformation!AG62,\"\")","v":70},{"$f":"IF(DataInformation!AH62<>\"\",DataInformation!AH62,\"\")","v":50},{"$f":"IF(DataInformation!AI62<>\"\",DataInformation!AI62,\"\")","v":50},{"$f":"IF(DataInformation!AJ62<>\"\",DataInformation!AJ62,\"\")","v":0}]
[{"$f":"IF(DataInformation!A63<>\"\",DataInformation!A63,\"\")","v":5750},{"$f":"IF(DataInformation!B63<>\"\",DataInformation!B63,\"\")","v":154.19999999999999},{"$f":"IF(DataInformation!C63<>\"\",DataInformation!C63,\"\")","v":147},{"$f":"IF(DataInformation!D63<>\"\",DataInformation!D63,\"\")","v":25.2},{"$f":"IF(DataInformation!H63<>\"\",DataInformation!H63,\"\")","v":93},{"$f":"IF(DataInformation!R63<>\"\",DataInformation!R63,\"\")","v":147},{"$f":"IF(DataInformation!S63<>\"\",DataInformation!S63,\"\")","v":113},null,{"$f":"IF(DataInformation!T63<>\"\",DataInformation!T63,\"\")","v":0},{"$f":"IF(DataInformation!V63<>\"\",DataInformation!V63,\"\")","v":7.1999999999999993},{"$f":"IF(DataInformation!W63<>\"\",DataInformation!W63,\"\")","v":93},{"$f":"IF(DataInformation!Z63<>\"\",DataInformation!Z63,\"\")","v":100.2},{"$f":"IF(DataInformation!AA63<>\"\",DataInformation!AA63,\"\")","v":12.799999999999997},null,{"$f":"IF(DataInformation!AD63<>\"\",DataInformation!AD63,\"\")","v":0},{"$f":"IF(DataInformation!AF63<>\"\",DataInformation!AF63,\"\")","v":0},null,{"$f":"IF(DataInformation!AG63<>\"\",DataInformation!AG63,\"\")","v":25.2},{"$f":"IF(DataInformation!AH63<>\"\",DataInformation!AH63,\"\")","v":18},{"$f":"IF(DataInformation!AI63<>\"\",DataInformation!AI63,\"\")","v":18},{"$f":"IF(DataInformation!AJ63<>\"\",DataInformation!AJ63,\"\")","v":0}]
[{"$f":"IF(DataInformation!A64<>\"\",DataInformation!A64,\"\")","v":5775},{"$f":"IF(DataInformation!B64<>\"\",DataInformation!B64,\"\")","v":77},{"$f":"IF(DataInformation!C64<>\"\",DataInformation!C64,\"\")","v":77},{"$f":"IF(DataInformation!D64<>\"\",DataInformation!D64,\"\")","v":0},{"$f":"IF(DataInformation!H64<>\"\",DataInformation!H64,\"\")","v":96},{"$f":"IF(DataInformation!R64<>\"\",DataInformation!R64,\"\")","v":77},{"$f":"IF(DataInformation!S64<>\"\",DataInformation!S64,\"\")","v":59},null,{"$f":"IF(DataInformation!T64<>\"\",DataInformation!T64,\"\")","v":0},{"$f":"IF(DataInformation!V64<>\"\",DataInformation!V64,\"\")","v":""},{"$f":"IF(DataInformation!W64<>\"\",DataInformation!W64,\"\")","v":96},{"$f":"IF(DataInformation!Z64<>\"\",DataInformation!Z64,\"\")","v":96},{"$f":"IF(DataInformation!AA64<>\"\",DataInformation!AA64,\"\")","v":-37},null,{"$f":"IF(DataInformation!AD64<>\"\",DataInformation!AD64,\"\")","v":0},{"$f":"IF(DataInformation!AF64<>\"\",DataInformation!AF64,\"\")","v":0},null,{"$f":"IF(DataInformation!AG64<>\"\",DataInformation!AG64,\"\")","v":0},{"$f":"IF(DataInformation!AH64<>\"\",DataInformation!AH64,\"\")","v":0},{"$f":"IF(DataInformation!AI64<>\"\",DataInformation!AI64,\"\")","v":0},{"$f":"IF(DataInformation!AJ64<>\"\",DataInformation!AJ64,\"\")","v":0}]
[{"$f":"IF(DataInformation!A65<>\"\",DataInformation!A65,\"\")","v":5800},{"$f":"IF(DataInformation!B65<>\"\",DataInformation!B65,\"\")","v":79},{"$f":"IF(DataInformation!C65<>\"\",DataInformation!C65,\"\")","v":79},{"$f":"IF(DataInformation!D65<>\"\",DataInformation!D65,\"\")","v":0},{"$f":"IF(DataInformation!H65<>\"\",DataInformation!H65,\"\")","v":105},{"$f":"IF(DataInformation!R65<>\"\",DataInformation!R65,\"\")","v":79},{"$f":"IF(DataInformation!S65<>\"\",DataInformation!S65,\"\")","v":61},null,{"$f":"IF(DataInformation!T65<>\"\",DataInformation!T65,\"\")","v":0},{"$f":"IF(DataInformation!V65<>\"\",DataInformation!V65,\"\")","v":""},{"$f":"IF(DataInformation!W65<>\"\",DataInformation!W65,\"\")","v":105},{"$f":"IF(DataInformation!Z65<>\"\",DataInformation!Z65,\"\")","v":105},{"$f":"IF(DataInformation!AA65<>\"\",DataInformation!AA65,\"\")","v":-44},null,{"$f":"IF(DataInformation!AD65<>\"\",DataInformation!AD65,\"\")","v":0},{"$f":"IF(DataInformation!AF65<>\"\",DataInformation!AF65,\"\")","v":0},null,{"$f":"IF(DataInformation!AG65<>\"\",DataInformation!AG65,\"\")","v":0},{"$f":"IF(DataInformation!AH65<>\"\",DataInformation!AH65,\"\")","v":0},{"$f":"IF(DataInformation!AI65<>\"\",DataInformation!AI65,\"\")","v":0},{"$f":"IF(DataInformation!AJ65<>\"\",DataInformation!AJ65,\"\")","v":0}]
[{"$f":"IF(DataInformation!A66<>\"\",DataInformation!A66,\"\")","v":5825},{"$f":"IF(DataInformation!B66<>\"\",DataInformation!B66,\"\")","v":82},{"$f":"IF(DataInformation!C66<>\"\",DataInformation!C66,\"\")","v":82},{"$f":"IF(DataInformation!D66<>\"\",DataInformation!D66,\"\")","v":0},{"$f":"IF(DataInformation!H66<>\"\",DataInformation!H66,\"\")","v":92},{"$f":"IF(DataInformation!R66<>\"\",DataInformation!R66,\"\")","v":82},{"$f":"IF(DataInformation!S66<>\"\",DataInformation!S66,\"\")","v":63},null,{"$f":"IF(DataInformation!T66<>\"\",DataInformation!T66,\"\")","v":0},{"$f":"IF(DataInformation!V66<>\"\",DataInformation!V66,\"\")","v":""},{"$f":"IF(DataInformation!W66<>\"\",DataInformation!W66,\"\")","v":92},{"$f":"IF(DataInformation!Z66<>\"\",DataInformation!Z66,\"\")","v":92},{"$f":"IF(DataInformation!AA66<>\"\",DataInformation!AA66,\"\")","v":-29},null,{"$f":"IF(DataInformation!AD66<>\"\",DataInformation!AD66,\"\")","v":0},{"$f":"IF(DataInformation!AF66<>\"\",DataInformation!AF66,\"\")","v":0},null,{"$f":"IF(DataInformation!AG66<>\"\",DataInformation!AG66,\"\")","v":0},{"$f":"IF(DataInformation!AH66<>\"\",DataInformation!AH66,\"\")","v":0},{"$f":"IF(DataInformation!AI66<>\"\",DataInformation!AI66,\"\")","v":0},{"$f":"IF(DataInformation!AJ66<>\"\",DataInformation!AJ66,\"\")","v":0}]
[{"$f":"IF(DataInformation!A67<>\"\",DataInformation!A67,\"\")","v":5850},{"$f":"IF(DataInformation!B67<>\"\",DataInformation!B67,\"\")","v":96},{"$f":"IF(DataInformation!C67<>\"\",DataInformation!C67,\"\")","v":96},{"$f":"IF(DataInformation!D67<>\"\",DataInformation!D67,\"\")","v":0},{"$f":"IF(DataInformation!H67<>\"\",DataInformation!H67,\"\")","v":62},{"$f":"IF(DataInformation!R67<>\"\",DataInformation!R67,\"\")","v":96},{"$f":"IF(DataInformation!S67<>\"\",DataInformation!S67,\"\")","v":74},null,{"$f":"IF(DataInformation!T67<>\"\",DataInformation!T67,\"\")","v":0},{"$f":"IF(DataInformation!V67<>\"\",DataInformation!V67,\"\")","v":""},{"$f":"IF(DataInformation!W67<>\"\",DataInformation!W67,\"\")","v":62},{"$f":"IF(DataInformation!Z67<>\"\",DataInformation!Z67,\"\")","v":62},{"$f":"IF(DataInformation!AA67<>\"\",DataInformation!AA67,\"\")","v":12},null,{"$f":"IF(DataInformation!AD67<>\"\",DataInformation!AD67,\"\")","v":0},{"$f":"IF(DataInformation!AF67<>\"\",DataInformation!AF67,\"\")","v":0},null,{"$f":"IF(DataInformation!AG67<>\"\",DataInformation!AG67,\"\")","v":0},{"$f":"IF(DataInformation!AH67<>\"\",DataInformation!AH67,\"\")","v":0},{"$f":"IF(DataInformation!AI67<>\"\",DataInformation!AI67,\"\")","v":0},{"$f":"IF(DataInformation!AJ67<>\"\",DataInformation!AJ67,\"\")","v":0}]
[{"$f":"IF(DataInformation!A68<>\"\",DataInformation!A68,\"\")","v":5875},{"$f":"IF(DataInformation!B68<>\"\",DataInformation!B68,\"\")","v":117},{"$f":"IF(DataInformation!C68<>\"\",DataInformation!C68,\"\")","v":117},{"$f":"IF(DataInformation!D68<>\"\",DataInformation!D68,\"\")","v":0},{"$f":"IF(DataInformation!H68<>\"\",DataInformation!H68,\"\")","v":51},{"$f":"IF(DataInformation!R68<>\"\",DataInformation!R68,\"\")","v":117},{"$f":"IF(DataInformation!S68<>\"\",DataInformation!S68,\"\")","v":90},null,{"$f":"IF(DataInformation!T68<>\"\",DataInformation!T68,\"\")","v":0},{"$f":"IF(DataInformation!V68<>\"\",DataInformation!V68,\"\")","v":""},{"$f":"IF(DataInformation!W68<>\"\",DataInformation!W68,\"\")","v":51},{"$f":"IF(DataInformation!Z68<>\"\",DataInformation!Z68,\"\")","v":51},{"$f":"IF(DataInformation!AA68<>\"\",DataInformation!AA68,\"\")","v":39},null,{"$f":"IF(DataInformation!AD68<>\"\",DataInformation!AD68,\"\")","v":0},{"$f":"IF(DataInformation!AF68<>\"\",DataInformation!AF68,\"\")","v":0},null,{"$f":"IF(DataInformation!AG68<>\"\",DataInformation!AG68,\"\")","v":0},{"$f":"IF(DataInformation!AH68<>\"\",DataInformation!AH68,\"\")","v":0},{"$f":"IF(DataInformation!AI68<>\"\",DataInformation!AI68,\"\")","v":0},{"$f":"IF(DataInformation!AJ68<>\"\",DataInformation!AJ68,\"\")","v":0}]
[{"$f":"IF(DataInformation!A69<>\"\",DataInformation!A69,\"\")","v":5900},{"$f":"IF(DataInformation!B69<>\"\",DataInformation!B69,\"\")","v":115},{"$f":"IF(DataInformation!C69<>\"\",DataInformation!C69,\"\")","v":115},{"$f":"IF(DataInformation!D69<>\"\",DataInformation!D69,\"\")","v":0},{"$f":"IF(DataInformation!H69<>\"\",DataInformation!H69,\"\")","v":61},{"$f":"IF(DataInformation!R69<>\"\",DataInformation!R69,\"\")","v":115},{"$f":"IF(DataInformation!S69<>\"\",DataInformation!S69,\"\")","v":88},null,{"$f":"IF(DataInformation!T69<>\"\",DataInformation!T69,\"\")","v":0},{"$f":"IF(DataInformation!V69<>\"\",DataInformation!V69,\"\")","v":""},{"$f":"IF(DataInformation!W69<>\"\",DataInformation!W69,\"\")","v":61},{"$f":"IF(DataInformation!Z69<>\"\",DataInformation!Z69,\"\")","v":61},{"$f":"IF(DataInformation!AA69<>\"\",DataInformation!AA69,\"\")","v":27},null,{"$f":"IF(DataInformation!AD69<>\"\",DataInformation!AD69,\"\")","v":0},{"$f":"IF(DataInformation!AF69<>\"\",DataInformation!AF69,\"\")","v":0},null,{"$f":"IF(DataInformation!AG69<>\"\",DataInformation!AG69,\"\")","v":0},{"$f":"IF(DataInformation!AH69<>\"\",DataInformation!AH69,\"\")","v":0},{"$f":"IF(DataInformation!AI69<>\"\",DataInformation!AI69,\"\")","v":0},{"$f":"IF(DataInformation!AJ69<>\"\",DataInformation!AJ69,\"\")","v":0}]
[{"$f":"IF(DataInformation!A70<>\"\",DataInformation!A70,\"\")","v":5925},{"$f":"IF(DataInformation!B70<>\"\",DataInformation!B70,\"\")","v":94},{"$f":"IF(DataInformation!C70<>\"\",DataInformation!C70,\"\")","v":94},{"$f":"IF(DataInformation!D70<>\"\",DataInformation!D70,\"\")","v":0},{"$f":"IF(DataInformation!H70<>\"\",DataInformation!H70,\"\")","v":89},{"$f":"IF(DataInformation!R70<>\"\",DataInformation!R70,\"\")","v":94},{"$f":"IF(DataInformation!S70<>\"\",DataInformation!S70,\"\")","v":72},null,{"$f":"IF(DataInformation!T70<>\"\",DataInformation!T70,\"\")","v":0},{"$f":"IF(DataInformation!V70<>\"\",DataInformation!V70,\"\")","v":""},{"$f":"IF(DataInformation!W70<>\"\",DataInformation!W70,\"\")","v":89},{"$f":"IF(DataInformation!Z70<>\"\",DataInformation!Z70,\"\")","v":89},{"$f":"IF(DataInformation!AA70<>\"\",DataInformation!AA70,\"\")","v":-17},null,{"$f":"IF(DataInformation!AD70<>\"\",DataInformation!AD70,\"\")","v":0},{"$f":"IF(DataInformation!AF70<>\"\",DataInformation!AF70,\"\")","v":0},null,{"$f":"IF(DataInformation!AG70<>\"\",DataInformation!AG70,\"\")","v":0},{"$f":"IF(DataInformation!AH70<>\"\",DataInformation!AH70,\"\")","v":0},{"$f":"IF(DataInformation!AI70<>\"\",DataInformation!AI70,\"\")","v":0},{"$f":"IF(DataInformation!AJ70<>\"\",DataInformation!AJ70,\"\")","v":0}]
[{"$f":"IF(DataInformation!A71<>\"\",DataInformation!A71,\"\")","v":5950},{"$f":"IF(DataInformation!B71<>\"\",DataInformation!B71,\"\")","v":87},{"$f":"IF(DataInformation!C71<>\"\",DataInformation!C71,\"\")","v":87},{"$f":"IF(DataInformation!D71<>\"\",DataInformation!D71,\"\")","v":0},{"$f":"IF(DataInformation!H71<>\"\",DataInformation!H71,\"\")","v":110},{"$f":"IF(DataInformation!R71<>\"\",DataInformation!R71,\"\")","v":87},{"$f":"IF(DataInformation!S71<>\"\",DataInformation!S71,\"\")","v":67},null,{"$f":"IF(DataInformation!T71<>\"\",DataInformation!T71,\"\")","v":0},{"$f":"IF(DataInformation!V71<>\"\",DataInformation!V71,\"\")","v":""},{"$f":"IF(DataInformation!W71<>\"\",DataInformation!W71,\"\")","v":110},{"$f":"IF(DataInformation!Z71<>\"\",DataInformation!Z71,\"\")","v":110},{"$f":"IF(DataInformation!AA71<>\"\",DataInformation!AA71,\"\")","v":-43},null,{"$f":"IF(DataInformation!AD71<>\"\",DataInformation!AD71,\"\")","v":0},{"$f":"IF(DataInformation!AF71<>\"\",DataInformation!AF71,\"\")","v":0},null,{"$f":"IF(DataInformation!AG71<>\"\",DataInformation!AG71,\"\")","v":0},{"$f":"IF(DataInformation!AH71<>\"\",DataInformation!AH71,\"\")","v":0},{"$f":"IF(DataInformation!AI71<>\"\",DataInformation!AI71,\"\")","v":0},{"$f":"IF(DataInformation!AJ71<>\"\",DataInformation!AJ71,\"\")","v":0}]
[{"$f":"IF(DataInformation!A72<>\"\",DataInformation!A72,\"\")","v":5975},{"$f":"IF(DataInformation!B72<>\"\",DataInformation!B72,\"\")","v":85},{"$f":"IF(DataInformation!C72<>\"\",DataInformation!C72,\"\")","v":85},{"$f":"IF(DataInformation!D72<>\"\",DataInformation!D72,\"\")","v":0},{"$f":"IF(DataInformation!H72<>\"\",DataInformation!H72,\"\")","v":101},{"$f":"IF(DataInformation!R72<>\"\",DataInformation!R72,\"\")","v":85},{"$f":"IF(DataInformation!S72<>\"\",DataInformation!S72,\"\")","v":65},null,{"$f":"IF(DataInformation!T72<>\"\",DataInformation!T72,\"\")","v":0},{"$f":"IF(DataInformation!V72<>\"\",DataInformation!V72,\"\")","v":""},{"$f":"IF(DataInformation!W72<>\"\",DataInformation!W72,\"\")","v":101},{"$f":"IF(DataInformation!Z72<>\"\",DataInformation!Z72,\"\")","v":101},{"$f":"IF(DataInformation!AA72<>\"\",DataInformation!AA72,\"\")","v":-36},null,{"$f":"IF(DataInformation!AD72<>\"\",DataInformation!AD72,\"\")","v":0},{"$f":"IF(DataInformation!AF72<>\"\",DataInformation!AF72,\"\")","v":0},null,{"$f":"IF(DataInformation!AG72<>\"\",DataInformation!AG72,\"\")","v":0},{"$f":"IF(DataInformation!AH72<>\"\",DataInformation!AH72,\"\")","v":0},{"$f":"IF(DataInformation!AI72<>\"\",DataInformation!AI72,\"\")","v":0},{"$f":"IF(DataInformation!AJ72<>\"\",DataInformation!AJ72,\"\")","v":0}]
[{"$f":"IF(DataInformation!A73<>\"\",DataInformation!A73,\"\")","v":6000},{"$f":"IF(DataInformation!B73<>\"\",DataInformation!B73,\"\")","v":82},{"$f":"IF(DataInformation!C73<>\"\",DataInformation!C73,\"\")","v":82},{"$f":"IF(DataInformation!D73<>\"\",DataInformation!D73,\"\")","v":0},{"$f":"IF(DataInformation!H73<>\"\",DataInformation!H73,\"\")","v":85},{"$f":"IF(DataInformation!R73<>\"\",DataInformation!R73,\"\")","v":82},{"$f":"IF(DataInformation!S73<>\"\",DataInformation!S73,\"\")","v":63},null,{"$f":"IF(DataInformation!T73<>\"\",DataInformation!T73,\"\")","v":0},{"$f":"IF(DataInformation!V73<>\"\",DataInformation!V73,\"\")","v":""},{"$f":"IF(DataInformation!W73<>\"\",DataInformation!W73,\"\")","v":85},{"$f":"IF(DataInformation!Z73<>\"\",DataInformation!Z73,\"\")","v":85},{"$f":"IF(DataInformation!AA73<>\"\",DataInformation!AA73,\"\")","v":-22},null,{"$f":"IF(DataInformation!AD73<>\"\",DataInformation!AD73,\"\")","v":0},{"$f":"IF(DataInformation!AF73<>\"\",DataInformation!AF73,\"\")","v":0},null,{"$f":"IF(DataInformation!AG73<>\"\",DataInformation!AG73,\"\")","v":0},{"$f":"IF(DataInformation!AH73<>\"\",DataInformation!AH73,\"\")","v":0},{"$f":"IF(DataInformation!AI73<>\"\",DataInformation!AI73,\"\")","v":0},{"$f":"IF(DataInformation!AJ73<>\"\",DataInformation!AJ73,\"\")","v":0}]
[{"$f":"IF(DataInformation!A74<>\"\",DataInformation!A74,\"\")","v":6025},{"$f":"IF(DataInformation!B74<>\"\",DataInformation!B74,\"\")","v":146.6},{"$f":"IF(DataInformation!C74<>\"\",DataInformation!C74,\"\")","v":141},{"$f":"IF(DataInformation!D74<>\"\",DataInformation!D74,\"\")","v":19.599999999999998},{"$f":"IF(DataInformation!H74<>\"\",DataInformation!H74,\"\")","v":77},{"$f":"IF(DataInformation!R74<>\"\",DataInformation!R74,\"\")","v":141},{"$f":"IF(DataInformation!S74<>\"\",DataInformation!S74,\"\")","v":108},null,{"$f":"IF(DataInformation!T74<>\"\",DataInformation!T74,\"\")","v":0},{"$f":"IF(DataInformation!V74<>\"\",DataInformation!V74,\"\")","v":5.5999999999999979},{"$f":"IF(DataInformation!W74<>\"\",DataInformation!W74,\"\")","v":77},{"$f":"IF(DataInformation!Z74<>\"\",DataInformation!Z74,\"\")","v":82.6},{"$f":"IF(DataInformation!AA74<>\"\",DataInformation!AA74,\"\")","v":25.400000000000006},null,{"$f":"IF(DataInformation!AD74<>\"\",DataInformation!AD74,\"\")","v":0},{"$f":"IF(DataInformation!AF74<>\"\",DataInformation!AF74,\"\")","v":0},null,{"$f":"IF(DataInformation!AG74<>\"\",DataInformation!AG74,\"\")","v":19.599999999999998},{"$f":"IF(DataInformation!AH74<>\"\",DataInformation!AH74,\"\")","v":14},{"$f":"IF(DataInformation!AI74<>\"\",DataInformation!AI74,\"\")","v":14},{"$f":"IF(DataInformation!AJ74<>\"\",DataInformation!AJ74,\"\")","v":0}]
[{"$f":"IF(DataInformation!A75<>\"\",DataInformation!A75,\"\")","v":6050},{"$f":"IF(DataInformation!B75<>\"\",DataInformation!B75,\"\")","v":221.6},{"$f":"IF(DataInformation!C75<>\"\",DataInformation!C75,\"\")","v":210},{"$f":"IF(DataInformation!D75<>\"\",DataInformation!D75,\"\")","v":40.599999999999994},{"$f":"IF(DataInformation!H75<>\"\",DataInformation!H75,\"\")","v":74},{"$f":"IF(DataInformation!R75<>\"\",DataInformation!R75,\"\")","v":210},{"$f":"IF(DataInformation!S75<>\"\",DataInformation!S75,\"\")","v":162},null,{"$f":"IF(DataInformation!T75<>\"\",DataInformation!T75,\"\")","v":0},{"$f":"IF(DataInformation!V75<>\"\",DataInformation!V75,\"\")","v":11.599999999999994},{"$f":"IF(DataInformation!W75<>\"\",DataInformation!W75,\"\")","v":74},{"$f":"IF(DataInformation!Z75<>\"\",DataInformation!Z75,\"\")","v":85.6},{"$f":"IF(DataInformation!AA75<>\"\",DataInformation!AA75,\"\")","v":76.400000000000006},null,{"$f":"IF(DataInformation!AD75<>\"\",DataInformation!AD75,\"\")","v":0},{"$f":"IF(DataInformation!AF75<>\"\",DataInformation!AF75,\"\")","v":0},null,{"$f":"IF(DataInformation!AG75<>\"\",DataInformation!AG75,\"\")","v":40.599999999999994},{"$f":"IF(DataInformation!AH75<>\"\",DataInformation!AH75,\"\")","v":29},{"$f":"IF(DataInformation!AI75<>\"\",DataInformation!AI75,\"\")","v":29},{"$f":"IF(DataInformation!AJ75<>\"\",DataInformation!AJ75,\"\")","v":0}]
[{"$f":"IF(DataInformation!A76<>\"\",DataInformation!A76,\"\")","v":6075},{"$f":"IF(DataInformation!B76<>\"\",DataInformation!B76,\"\")","v":0},{"$f":"IF(DataInformation!C76<>\"\",DataInformation!C76,\"\")","v":0},{"$f":"IF(DataInformation!D76<>\"\",DataInformation!D76,\"\")","v":0},{"$f":"IF(DataInformation!H76<>\"\",DataInformation!H76,\"\")","v":0},{"$f":"IF(DataInformation!R76<>\"\",DataInformation!R76,\"\")","v":0},{"$f":"IF(DataInformation!S76<>\"\",DataInformation!S76,\"\")","v":0},null,{"$f":"IF(DataInformation!T76<>\"\",DataInformation!T76,\"\")","v":0},{"$f":"IF(DataInformation!V76<>\"\",DataInformation!V76,\"\")","v":""},{"$f":"IF(DataInformation!W76<>\"\",DataInformation!W76,\"\")","v":""},{"$f":"IF(DataInformation!Z76<>\"\",DataInformation!Z76,\"\")","v":0},{"$f":"IF(DataInformation!AA76<>\"\",DataInformation!AA76,\"\")","v":0},null,{"$f":"IF(DataInformation!AD76<>\"\",DataInformation!AD76,\"\")","v":0},{"$f":"IF(DataInformation!AF76<>\"\",DataInformation!AF76,\"\")","v":0},null,{"$f":"IF(DataInformation!AG76<>\"\",DataInformation!AG76,\"\")","v":0},{"$f":"IF(DataInformation!AH76<>\"\",DataInformation!AH76,\"\")","v":0},{"$f":"IF(DataInformation!AI76<>\"\",DataInformation!AI76,\"\")","v":0},{"$f":"IF(DataInformation!AJ76<>\"\",DataInformation!AJ76,\"\")","v":0}]
[]
["Subtotals:",{"$f":"SUBTOTAL(9,B3:B66)","v":17224.599999999999},15877,4716.6000000000004,3875,15877,12215,0,15505,1347.5999999999997,3875,20727.599999999999,-8512.6000000000022,0,0,24975,0,4716.6000000000004,3369,3369,0]
["","","","","","","","","","","","","","","","","","","","","",""]
[{"$f":"IF(DataInformation!A77<>\"\",DataInformation!A77,\"\")","v":""},{"$f":"IF(DataInformation!B77<>\"\",DataInformation!B77,\"\")","v":""},{"$f":"IF(DataInformation!C77<>\"\",DataInformation!C77,\"\")","v":""},{"$f":"IF(DataInformation!D77<>\"\",DataInformation!D77,\"\")","v":""},{"$f":"IF(DataInformation!H77<>\"\",DataInformation!H77,\"\")","v":""},{"$f":"IF(DataInformation!R77<>\"\",DataInformation!R77,\"\")","v":""},{"$f":"IF(DataInformation!S77<>\"\",DataInformation!S77,\"\")","v":""},null,{"$f":"IF(DataInformation!T77<>\"\",DataInformation!T77,\"\")","v":""},{"$f":"IF(DataInformation!V77<>\"\",DataInformation!V77,\"\")","v":""},{"$f":"IF(DataInformation!W77<>\"\",DataInformation!W77,\"\")","v":""},{"$f":"IF(DataInformation!Z77<>\"\",DataInformation!Z77,\"\")","v":""},{"$f":"IF(DataInformation!AA77<>\"\",DataInformation!AA77,\"\")","v":""},null,{"$f":"IF(DataInformation!AD77<>\"\",DataInformation!AD77,\"\")","v":""},{"$f":"IF(DataInformation!AF77<>\"\",DataInformation!AF77,\"\")","v":""},null,{"$f":"IF(DataInformation!AG77<>\"\",DataInformation!AG77,\"\")","v":""},{"$f":"IF(DataInformation!AH77<>\"\",DataInformation!AH77,\"\")","v":""},{"$f":"IF(DataInformation!AI77<>\"\",DataInformation!AI77,\"\")","v":""},{"$f":"IF(DataInformation!AJ77<>\"\",DataInformation!AJ77,\"\")","v":""}]
[]
[]
[{"$f":"IF(DataInformation!A78<>\"\",DataInformation!A78,\"\")","v":"SR022"},{"$f":"IF(DataInformation!B78<>\"\",DataInformation!B78,\"\")","v":""},{"$f":"IF(DataInformation!C78<>\"\",DataInformation!C78,\"\")","v":""},{"$f":"IF(DataInformation!D78<>\"\",DataInformation!D78,\"\")","v":""},{"$f":"IF(DataInformation!H78<>\"\",DataInformation!H78,\"\")","v":""},{"$f":"IF(DataInformation!R78<>\"\",DataInformation!R78,\"\")","v":""},{"$f":"IF(DataInformation!S78<>\"\",DataInformation!S78,\"\")","v":""},null,{"$f":"IF(DataInformation!T78<>\"\",DataInformation!T78,\"\")","v":""},{"$f":"IF(DataInformation!V78<>\"\",DataInformation!V78,\"\")","v":""},{"$f":"IF(DataInformation!W78<>\"\",DataInformation!W78,\"\")","v":""},{"$f":"IF(DataInformation!Z78<>\"\",DataInformation!Z78,\"\")","v":""},{"$f":"IF(DataInformation!AA78<>\"\",DataInformation!AA78,\"\")","v":""},null,{"$f":"IF(DataInformation!AD78<>\"\",DataInformation!AD78,\"\")","v":""},{"$f":"IF(DataInformation!AF78<>\"\",DataInformation!AF78,\"\")","v":""},null,{"$f":"IF(DataInformation!AG78<>\"\",DataInformation!AG78,\"\")","v":""},{"$f":"IF(DataInformation!AH78<>\"\",DataInformation!AH78,\"\")","v":""},{"$f":"IF(DataInformation!AI78<>\"\",DataInformation!AI78,\"\")","v":""},{"$f":"IF(DataInformation!AJ78<>\"\",DataInformation!AJ78,\"\")","v":""}]
[{"$f":"IF(DataInformation!A79<>\"\",DataInformation!A79,\"\")","v":49372.65},{"$f":"IF(DataInformation!B79<>\"\",DataInformation!B79,\"\")","v":13.6},{"$f":"IF(DataInformation!C79<>\"\",DataInformation!C79,\"\")","v":12},{"$f":"IF(DataInformation!D79<>\"\",DataInformation!D79,\"\")","v":5.6},{"$f":"IF(DataInformation!H79<>\"\",DataInformation!H79,\"\")","v":9},{"$f":"IF(DataInformation!R79<>\"\",DataInformation!R79,\"\")","v":12},{"$f":"IF(DataInformation!S79<>\"\",DataInformation!S79,\"\")","v":9},null,{"$f":"IF(DataInformation!T79<>\"\",DataInformation!T79,\"\")","v":9},{"$f":"IF(DataInformation!V79<>\"\",DataInformation!V79,\"\")","v":1.5999999999999996},{"$f":"IF(DataInformation!W79<>\"\",DataInformation!W79,\"\")","v":9},{"$f":"IF(DataInformation!Z79<>\"\",DataInformation!Z79,\"\")","v":19.600000000000001},{"$f":"IF(DataInformation!AA79<>\"\",DataInformation!AA79,\"\")","v":-10.600000000000001},null,{"$f":"IF(DataInformation!AD79<>\"\",DataInformation!AD79,\"\")","v":0},{"$f":"IF(DataInformation!AF79<>\"\",DataInformation!AF79,\"\")","v":0},null,{"$f":"IF(DataInformation!AG79<>\"\",DataInformation!AG79,\"\")","v":5.6},{"$f":"IF(DataInformation!AH79<>\"\",DataInformation!AH79,\"\")","v":4},{"$f":"IF(DataInformation!AI79<>\"\",DataInformation!AI79,\"\")","v":4},{"$f":"IF(DataInformation!AJ79<>\"\",DataInformation!AJ79,\"\")","v":0}]
[{"$f":"IF(DataInformation!A80<>\"\",DataInformation!A80,\"\")","v":49375},{"$f":"IF(DataInformation!B80<>\"\",DataInformation!B80,\"\")","v":142.80000000000001},{"$f":"IF(DataInformation!C80<>\"\",DataInformation!C80,\"\")","v":128},{"$f":"IF(DataInformation!D80<>\"\",DataInformation!D80,\"\")","v":51.8},{"$f":"IF(DataInformation!H80<>\"\",DataInformation!H80,\"\")","v":77},{"$f":"IF(DataInformation!R80<>\"\",DataInformation!R80,\"\")","v":128},{"$f":"IF(DataInformation!S80<>\"\",DataInformation!S80,\"\")","v":98},null,{"$f":"IF(DataInformation!T80<>\"\",DataInformation!T80,\"\")","v":101},{"$f":"IF(DataInformation!V80<>\"\",DataInformation!V80,\"\")","v":14.799999999999997},{"$f":"IF(DataInformation!W80<>\"\",DataInformation!W80,\"\")","v":77},{"$f":"IF(DataInformation!Z80<>\"\",DataInformation!Z80,\"\")","v":192.8},{"$f":"IF(DataInformation!AA80<>\"\",DataInformation!AA80,\"\")","v":-94.800000000000011},null,{"$f":"IF(DataInformation!AD80<>\"\",DataInformation!AD80,\"\")","v":0},{"$f":"IF(DataInformation!AF80<>\"\",DataInformation!AF80,\"\")","v":8},null,{"$f":"IF(DataInformation!AG80<>\"\",DataInformation!AG80,\"\")","v":51.8},{"$f":"IF(DataInformation!AH80<>\"\",DataInformation!AH80,\"\")","v":37},{"$f":"IF(DataInformation!AI80<>\"\",DataInformation!AI80,\"\")","v":37},{"$f":"IF(DataInformation!AJ80<>\"\",DataInformation!AJ80,\"\")","v":0}]
[{"$f":"IF(DataInformation!A81<>\"\",DataInformation!A81,\"\")","v":49400},{"$f":"IF(DataInformation!B81<>\"\",DataInformation!B81,\"\")","v":140.4},{"$f":"IF(DataInformation!C81<>\"\",DataInformation!C81,\"\")","v":126},{"$f":"IF(DataInformation!D81<>\"\",DataInformation!D81,\"\")","v":50.4},{"$f":"IF(DataInformation!H81<>\"\",DataInformation!H81,\"\")","v":56},{"$f":"IF(DataInformation!R81<>\"\",DataInformation!R81,\"\")","v":126},{"$f":"IF(DataInformation!S81<>\"\",DataInformation!S81,\"\")","v":97},null,{"$f":"IF(DataInformation!T81<>\"\",DataInformation!T81,\"\")","v":103},{"$f":"IF(DataInformation!V81<>\"\",DataInformation!V81,\"\")","v":14.399999999999999},{"$f":"IF(DataInformation!W81<>\"\",DataInformation!W81,\"\")","v":56},{"$f":"IF(DataInformation!Z81<>\"\",DataInformation!Z81,\"\")","v":173.4},{"$f":"IF(DataInformation!AA81<>\"\",DataInformation!AA81,\"\")","v":-76.400000000000006},null,{"$f":"IF(DataInformation!AD81<>\"\",DataInformation!AD81,\"\")","v":0},{"$f":"IF(DataInformation!AF81<>\"\",DataInformation!AF81,\"\")","v":97},null,{"$f":"IF(DataInformation!AG81<>\"\",DataInformation!AG81,\"\")","v":50.4},{"$f":"IF(DataInformation!AH81<>\"\",DataInformation!AH81,\"\")","v":36},{"$f":"IF(DataInformation!AI81<>\"\",DataInformation!AI81,\"\")","v":36},{"$f":"IF(DataInformation!AJ81<>\"\",DataInformation!AJ81,\"\")","v":0}]
[{"$f":"IF(DataInformation!A82<>\"\",DataInformation!A82,\"\")","v":49425},{"$f":"IF(DataInformation!B82<>\"\",DataInformation!B82,\"\")","v":140.80000000000001},{"$f":"IF(DataInformation!C82<>\"\",DataInformation!C82,\"\")","v":122},{"$f":"IF(DataInformation!D82<>\"\",DataInformation!D82,\"\")","v":65.8},{"$f":"IF(DataInformation!H82<>\"\",DataInformation!H82,\"\")","v":53},{"$f":"IF(DataInformation!R82<>\"\",DataInformation!R82,\"\")","v":122},{"$f":"IF(DataInformation!S82<>\"\",DataInformation!S82,\"\")","v":94},null,{"$f":"IF(DataInformation!T82<>\"\",DataInformation!T82,\"\")","v":104},{"$f":"IF(DataInformation!V82<>\"\",DataInformation!V82,\"\")","v":18.799999999999997},{"$f":"IF(DataInformation!W82<>\"\",DataInformation!W82,\"\")","v":53},{"$f":"IF(DataInformation!Z82<>\"\",DataInformation!Z82,\"\")","v":175.8},{"$f":"IF(DataInformation!AA82<>\"\",DataInformation!AA82,\"\")","v":-81.800000000000011},null,{"$f":"IF(DataInformation!AD82<>\"\",DataInformation!AD82,\"\")","v":0},{"$f":"IF(DataInformation!AF82<>\"\",DataInformation!AF82,\"\")","v":99},null,{"$f":"IF(DataInformation!AG82<>\"\",DataInformation!AG82,\"\")","v":65.8},{"$f":"IF(DataInformation!AH82<>\"\",DataInformation!AH82,\"\")","v":47},{"$f":"IF(DataInformation!AI82<>\"\",DataInformation!AI82,\"\")","v":47},{"$f":"IF(DataInformation!AJ82<>\"\",DataInformation!AJ82,\"\")","v":0}]
[{"$f":"IF(DataInformation!A83<>\"\",DataInformation!A83,\"\")","v":49450},{"$f":"IF(DataInformation!B83<>\"\",DataInformation!B83,\"\")","v":139.39999999999998},{"$f":"IF(DataInformation!C83<>\"\",DataInformation!C83,\"\")","v":119},{"$f":"IF(DataInformation!D83<>\"\",DataInformation!D83,\"\")","v":71.399999999999991},{"$f":"IF(DataInformation!H83<>\"\",DataInformation!H83,\"\")","v":52},{"$f":"IF(DataInformation!R83<>\"\",DataInformation!R83,\"\")","v":119},{"$f":"IF(DataInformation!S83<>\"\",DataInformation!S83,\"\")","v":92},null,{"$f":"IF(DataInformation!T83<>\"\",DataInformation!T83,\"\")","v":100},{"$f":"IF(DataInformation!V83<>\"\",DataInformation!V83,\"\")","v":20.399999999999991},{"$f":"IF(DataInformation!W83<>\"\",DataInformation!W83,\"\")","v":52},{"$f":"IF(DataInformation!Z83<>\"\",DataInformation!Z83,\"\")","v":172.39999999999998},{"$f":"IF(DataInformation!AA83<>\"\",DataInformation!AA83,\"\")","v":-80.399999999999977},null,{"$f":"IF(DataInformation!AD83<>\"\",DataInformation!AD83,\"\")","v":0},{"$f":"IF(DataInformation!AF83<>\"\",DataInformation!AF83,\"\")","v":94},null,{"$f":"IF(DataInformation!AG83<>\"\",DataInformation!AG83,\"\")","v":71.399999999999991},{"$f":"IF(DataInformation!AH83<>\"\",DataInformation!AH83,\"\")","v":51},{"$f":"IF(DataInformation!AI83<>\"\",DataInformation!AI83,\"\")","v":51},{"$f":"IF(DataInformation!AJ83<>\"\",DataInformation!AJ83,\"\")","v":0}]
[{"$f":"IF(DataInformation!A84<>\"\",DataInformation!A84,\"\")","v":49475},{"$f":"IF(DataInformation!B84<>\"\",DataInformation!B84,\"\")","v":137.19999999999999},{"$f":"IF(DataInformation!C84<>\"\",DataInformation!C84,\"\")","v":116},{"$f":"IF(DataInformation!D84<>\"\",DataInformation!D84,\"\")","v":74.199999999999989},{"$f":"IF(DataInformation!H84<>\"\",DataInformation!H84,\"\")","v":52},{"$f":"IF(DataInformation!R84<>\"\",DataInformation!R84,\"\")","v":116},{"$f":"IF(DataInformation!S84<>\"\",DataInformation!S84,\"\")","v":89},null,{"$f":"IF(DataInformation!T84<>\"\",DataInformation!T84,\"\")","v":89},{"$f":"IF(DataInformation!V84<>\"\",DataInformation!V84,\"\")","v":21.199999999999989},{"$f":"IF(DataInformation!W84<>\"\",DataInformation!W84,\"\")","v":52},{"$f":"IF(DataInformation!Z84<>\"\",DataInformation!Z84,\"\")","v":162.19999999999999},{"$f":"IF(DataInformation!AA84<>\"\",DataInformation!AA84,\"\")","v":-73.199999999999989},null,{"$f":"IF(DataInformation!AD84<>\"\",DataInformation!AD84,\"\")","v":0},{"$f":"IF(DataInformation!AF84<>\"\",DataInformation!AF84,\"\")","v":83},null,{"$f":"IF(DataInformation!AG84<>\"\",DataInformation!AG84,\"\")","v":74.199999999999989},{"$f":"IF(DataInformation!AH84<>\"\",DataInformation!AH84,\"\")","v":53},{"$f":"IF(DataInformation!AI84<>\"\",DataInformation!AI84,\"\")","v":53},{"$f":"IF(DataInformation!AJ84<>\"\",DataInformation!AJ84,\"\")","v":0}]
[{"$f":"IF(DataInformation!A85<>\"\",DataInformation!A85,\"\")","v":49500},{"$f":"IF(DataInformation!B85<>\"\",DataInformation!B85,\"\")","v":134.80000000000001},{"$f":"IF(DataInformation!C85<>\"\",DataInformation!C85,\"\")","v":120},{"$f":"IF(DataInformation!D85<>\"\",DataInformation!D85,\"\")","v":51.8},{"$f":"IF(DataInformation!H85<>\"\",DataInformation!H85,\"\")","v":77},{"$f":"IF(DataInformation!R85<>\"\",DataInformation!R85,\"\")","v":120},{"$f":"IF(DataInformation!S85<>\"\",DataInformation!S85,\"\")","v":92},null,{"$f":"IF(DataInformation!T85<>\"\",DataInformation!T85,\"\")","v":64},{"$f":"IF(DataInformation!V85<>\"\",DataInformation!V85,\"\")","v":14.799999999999997},{"$f":"IF(DataInformation!W85<>\"\",DataInformation!W85,\"\")","v":77},{"$f":"IF(DataInformation!Z85<>\"\",DataInformation!Z85,\"\")","v":155.80000000000001},{"$f":"IF(DataInformation!AA85<>\"\",DataInformation!AA85,\"\")","v":-63.800000000000011},null,{"$f":"IF(DataInformation!AD85<>\"\",DataInformation!AD85,\"\")","v":0},{"$f":"IF(DataInformation!AF85<>\"\",DataInformation!AF85,\"\")","v":59},null,{"$f":"IF(DataInformation!AG85<>\"\",DataInformation!AG85,\"\")","v":51.8},{"$f":"IF(DataInformation!AH85<>\"\",DataInformation!AH85,\"\")","v":37},{"$f":"IF(DataInformation!AI85<>\"\",DataInformation!AI85,\"\")","v":37},{"$f":"IF(DataInformation!AJ85<>\"\",DataInformation!AJ85,\"\")","v":0}]
[{"$f":"IF(DataInformation!A86<>\"\",DataInformation!A86,\"\")","v":49525},{"$f":"IF(DataInformation!B86<>\"\",DataInformation!B86,\"\")","v":132},{"$f":"IF(DataInformation!C86<>\"\",DataInformation!C86,\"\")","v":118},{"$f":"IF(DataInformation!D86<>\"\",DataInformation!D86,\"\")","v":49},{"$f":"IF(DataInformation!H86<>\"\",DataInformation!H86,\"\")","v":77},{"$f":"IF(DataInformation!R86<>\"\",DataInformation!R86,\"\")","v":118},{"$f":"IF(DataInformation!S86<>\"\",DataInformation!S86,\"\")","v":91},null,{"$f":"IF(DataInformation!T86<>\"\",DataInformation!T86,\"\")","v":62},{"$f":"IF(DataInformation!V86<>\"\",DataInformation!V86,\"\")","v":14},{"$f":"IF(DataInformation!W86<>\"\",DataInformation!W86,\"\")","v":77},{"$f":"IF(DataInformation!Z86<>\"\",DataInformation!Z86,\"\")","v":153},{"$f":"IF(DataInformation!AA86<>\"\",DataInformation!AA86,\"\")","v":-62},null,{"$f":"IF(DataInformation!AD86<>\"\",DataInformation!AD86,\"\")","v":0},{"$f":"IF(DataInformation!AF86<>\"\",DataInformation!AF86,\"\")","v":56},null,{"$f":"IF(DataInformation!AG86<>\"\",DataInformation!AG86,\"\")","v":49},{"$f":"IF(DataInformation!AH86<>\"\",DataInformation!AH86,\"\")","v":35},{"$f":"IF(DataInformation!AI86<>\"\",DataInformation!AI86,\"\")","v":35},{"$f":"IF(DataInformation!AJ86<>\"\",DataInformation!AJ86,\"\")","v":0}]
[{"$f":"IF(DataInformation!A87<>\"\",DataInformation!A87,\"\")","v":49550},{"$f":"IF(DataInformation!B87<>\"\",DataInformation!B87,\"\")","v":130},{"$f":"IF(DataInformation!C87<>\"\",DataInformation!C87,\"\")","v":114},{"$f":"IF(DataInformation!D87<>\"\",DataInformation!D87,\"\")","v":56},{"$f":"IF(DataInformation!H87<>\"\",DataInformation!H87,\"\")","v":51},{"$f":"IF(DataInformation!R87<>\"\",DataInformation!R87,\"\")","v":114},{"$f":"IF(DataInformation!S87<>\"\",DataInformation!S87,\"\")","v":88},null,{"$f":"IF(DataInformation!T87<>\"\",DataInformation!T87,\"\")","v":65},{"$f":"IF(DataInformation!V87<>\"\",DataInformation!V87,\"\")","v":16},{"$f":"IF(DataInformation!W87<>\"\",DataInformation!W87,\"\")","v":51},{"$f":"IF(DataInformation!Z87<>\"\",DataInformation!Z87,\"\")","v":132},{"$f":"IF(DataInformation!AA87<>\"\",DataInformation!AA87,\"\")","v":-44},null,{"$f":"IF(DataInformation!AD87<>\"\",DataInformation!AD87,\"\")","v":0},{"$f":"IF(DataInformation!AF87<>\"\",DataInformation!AF87,\"\")","v":62},null,{"$f":"IF(DataInformation!AG87<>\"\",DataInformation!AG87,\"\")","v":56},{"$f":"IF(DataInformation!AH87<>\"\",DataInformation!AH87,\"\")","v":40},{"$f":"IF(DataInformation!AI87<>\"\",DataInformation!AI87,\"\")","v":40},{"$f":"IF(DataInformation!AJ87<>\"\",DataInformation!AJ87,\"\")","v":0}]
[{"$f":"IF(DataInformation!A88<>\"\",DataInformation!A88,\"\")","v":49575},{"$f":"IF(DataInformation!B88<>\"\",DataInformation!B88,\"\")","v":137},{"$f":"IF(DataInformation!C88<>\"\",DataInformation!C88,\"\")","v":123},{"$f":"IF(DataInformation!D88<>\"\",DataInformation!D88,\"\")","v":49},{"$f":"IF(DataInformation!H88<>\"\",DataInformation!H88,\"\")","v":50},{"$f":"IF(DataInformation!R88<>\"\",DataInformation!R88,\"\")","v":123},{"$f":"IF(DataInformation!S88<>\"\",DataInformation!S88,\"\")","v":95},null,{"$f":"IF(DataInformation!T88<>\"\",DataInformation!T88,\"\")","v":43},{"$f":"IF(DataInformation!V88<>\"\",DataInformation!V88,\"\")","v":14},{"$f":"IF(DataInformation!W88<>\"\",DataInformation!W88,\"\")","v":50},{"$f":"IF(DataInformation!Z88<>\"\",DataInformation!Z88,\"\")","v":107},{"$f":"IF(DataInformation!AA88<>\"\",DataInformation!AA88,\"\")","v":-12},null,{"$f":"IF(DataInformation!AD88<>\"\",DataInformation!AD88,\"\")","v":0},{"$f":"IF(DataInformation!AF88<>\"\",DataInformation!AF88,\"\")","v":41},null,{"$f":"IF(DataInformation!AG88<>\"\",DataInformation!AG88,\"\")","v":49},{"$f":"IF(DataInformation!AH88<>\"\",DataInformation!AH88,\"\")","v":35},{"$f":"IF(DataInformation!AI88<>\"\",DataInformation!AI88,\"\")","v":35},{"$f":"IF(DataInformation!AJ88<>\"\",DataInformation!AJ88,\"\")","v":0}]
[{"$f":"IF(DataInformation!A89<>\"\",DataInformation!A89,\"\")","v":49600},{"$f":"IF(DataInformation!B89<>\"\",DataInformation!B89,\"\")","v":136.6},{"$f":"IF(DataInformation!C89<>\"\",DataInformation!C89,\"\")","v":123},{"$f":"IF(DataInformation!D89<>\"\",DataInformation!D89,\"\")","v":47.599999999999994},{"$f":"IF(DataInformation!H89<>\"\",DataInformation!H89,\"\")","v":50},{"$f":"IF(DataInformation!R89<>\"\",DataInformation!R89,\"\")","v":123},{"$f":"IF(DataInformation!S89<>\"\",DataInformation!S89,\"\")","v":95},null,{"$f":"IF(DataInformation!T89<>\"\",DataInformation!T89,\"\")","v":27},{"$f":"IF(DataInformation!V89<>\"\",DataInformation!V89,\"\")","v":13.599999999999994},{"$f":"IF(DataInformation!W89<>\"\",DataInformation!W89,\"\")","v":50},{"$f":"IF(DataInformation!Z89<>\"\",DataInformation!Z89,\"\")","v":90.6},{"$f":"IF(DataInformation!AA89<>\"\",DataInformation!AA89,\"\")","v":4.4000000000000057},null,{"$f":"IF(DataInformation!AD89<>\"\",DataInformation!AD89,\"\")","v":0},{"$f":"IF(DataInformation!AF89<>\"\",DataInformation!AF89,\"\")","v":21},null,{"$f":"IF(DataInformation!AG89<>\"\",DataInformation!AG89,\"\")","v":47.599999999999994},{"$f":"IF(DataInformation!AH89<>\"\",DataInformation!AH89,\"\")","v":34},{"$f":"IF(DataInformation!AI89<>\"\",DataInformation!AI89,\"\")","v":34},{"$f":"IF(DataInformation!AJ89<>\"\",DataInformation!AJ89,\"\")","v":0}]
[{"$f":"IF(DataInformation!A90<>\"\",DataInformation!A90,\"\")","v":49625},{"$f":"IF(DataInformation!B90<>\"\",DataInformation!B90,\"\")","v":131.6},{"$f":"IF(DataInformation!C90<>\"\",DataInformation!C90,\"\")","v":116},{"$f":"IF(DataInformation!D90<>\"\",DataInformation!D90,\"\")","v":54.599999999999994},{"$f":"IF(DataInformation!H90<>\"\",DataInformation!H90,\"\")","v":49},{"$f":"IF(DataInformation!R90<>\"\",DataInformation!R90,\"\")","v":116},{"$f":"IF(DataInformation!S90<>\"\",DataInformation!S90,\"\")","v":89},null,{"$f":"IF(DataInformation!T90<>\"\",DataInformation!T90,\"\")","v":38},{"$f":"IF(DataInformation!V90<>\"\",DataInformation!V90,\"\")","v":15.599999999999994},{"$f":"IF(DataInformation!W90<>\"\",DataInformation!W90,\"\")","v":49},{"$f":"IF(DataInformation!Z90<>\"\",DataInformation!Z90,\"\")","v":102.6},{"$f":"IF(DataInformation!AA90<>\"\",DataInformation!AA90,\"\")","v":-13.599999999999994},null,{"$f":"IF(DataInformation!AD90<>\"\",DataInformation!AD90,\"\")","v":0},{"$f":"IF(DataInformation!AF90<>\"\",DataInformation!AF90,\"\")","v":33},null,{"$f":"IF(DataInformation!AG90<>\"\",DataInformation!AG90,\"\")","v":54.599999999999994},{"$f":"IF(DataInformation!AH90<>\"\",DataInformation!AH90,\"\")","v":39},{"$f":"IF(DataInformation!AI90<>\"\",DataInformation!AI90,\"\")","v":39},{"$f":"IF(DataInformation!AJ90<>\"\",DataInformation!AJ90,\"\")","v":0}]
[{"$f":"IF(DataInformation!A91<>\"\",DataInformation!A91,\"\")","v":49650},{"$f":"IF(DataInformation!B91<>\"\",DataInformation!B91,\"\")","v":137.19999999999999},{"$f":"IF(DataInformation!C91<>\"\",DataInformation!C91,\"\")","v":118},{"$f":"IF(DataInformation!D91<>\"\",DataInformation!D91,\"\")","v":67.199999999999989},{"$f":"IF(DataInformation!H91<>\"\",DataInformation!H91,\"\")","v":49},{"$f":"IF(DataInformation!R91<>\"\",DataInformation!R91,\"\")","v":118},{"$f":"IF(DataInformation!S91<>\"\",DataInformation!S91,\"\")","v":91},null,{"$f":"IF(DataInformation!T91<>\"\",DataInformation!T91,\"\")","v":50},{"$f":"IF(DataInformation!V91<>\"\",DataInformation!V91,\"\")","v":19.199999999999989},{"$f":"IF(DataInformation!W91<>\"\",DataInformation!W91,\"\")","v":49},{"$f":"IF(DataInformation!Z91<>\"\",DataInformation!Z91,\"\")","v":118.19999999999999},{"$f":"IF(DataInformation!AA91<>\"\",DataInformation!AA91,\"\")","v":-27.199999999999989},null,{"$f":"IF(DataInformation!AD91<>\"\",DataInformation!AD91,\"\")","v":0},{"$f":"IF(DataInformation!AF91<>\"\",DataInformation!AF91,\"\")","v":44},null,{"$f":"IF(DataInformation!AG91<>\"\",DataInformation!AG91,\"\")","v":67.199999999999989},{"$f":"IF(DataInformation!AH91<>\"\",DataInformation!AH91,\"\")","v":48},{"$f":"IF(DataInformation!AI91<>\"\",DataInformation!AI91,\"\")","v":48},{"$f":"IF(DataInformation!AJ91<>\"\",DataInformation!AJ91,\"\")","v":0}]
[{"$f":"IF(DataInformation!A92<>\"\",DataInformation!A92,\"\")","v":49675},{"$f":"IF(DataInformation!B92<>\"\",DataInformation!B92,\"\")","v":135.80000000000001},{"$f":"IF(DataInformation!C92<>\"\",DataInformation!C92,\"\")","v":117},{"$f":"IF(DataInformation!D92<>\"\",DataInformation!D92,\"\")","v":65.8},{"$f":"IF(DataInformation!H92<>\"\",DataInformation!H92,\"\")","v":49},{"$f":"IF(DataInformation!R92<>\"\",DataInformation!R92,\"\")","v":117},{"$f":"IF(DataInformation!S92<>\"\",DataInformation!S92,\"\")","v":90},null,{"$f":"IF(DataInformation!T92<>\"\",DataInformation!T92,\"\")","v":36},{"$f":"IF(DataInformation!V92<>\"\",DataInformation!V92,\"\")","v":18.799999999999997},{"$f":"IF(DataInformation!W92<>\"\",DataInformation!W92,\"\")","v":49},{"$f":"IF(DataInformation!Z92<>\"\",DataInformation!Z92,\"\")","v":103.8},{"$f":"IF(DataInformation!AA92<>\"\",DataInformation!AA92,\"\")","v":-13.799999999999997},null,{"$f":"IF(DataInformation!AD92<>\"\",DataInformation!AD92,\"\")","v":0},{"$f":"IF(DataInformation!AF92<>\"\",DataInformation!AF92,\"\")","v":31},null,{"$f":"IF(DataInformation!AG92<>\"\",DataInformation!AG92,\"\")","v":65.8},{"$f":"IF(DataInformation!AH92<>\"\",DataInformation!AH92,\"\")","v":47},{"$f":"IF(DataInformation!AI92<>\"\",DataInformation!AI92,\"\")","v":47},{"$f":"IF(DataInformation!AJ92<>\"\",DataInformation!AJ92,\"\")","v":0}]
[{"$f":"IF(DataInformation!A93<>\"\",DataInformation!A93,\"\")","v":49700},{"$f":"IF(DataInformation!B93<>\"\",DataInformation!B93,\"\")","v":128.4},{"$f":"IF(DataInformation!C93<>\"\",DataInformation!C93,\"\")","v":114},{"$f":"IF(DataInformation!D93<>\"\",DataInformation!D93,\"\")","v":50.4},{"$f":"IF(DataInformation!H93<>\"\",DataInformation!H93,\"\")","v":50},{"$f":"IF(DataInformation!R93<>\"\",DataInformation!R93,\"\")","v":114},{"$f":"IF(DataInformation!S93<>\"\",DataInformation!S93,\"\")","v":88},null,{"$f":"IF(DataInformation!T93<>\"\",DataInformation!T93,\"\")","v":26},{"$f":"IF(DataInformation!V93<>\"\",DataInformation!V93,\"\")","v":14.399999999999999},{"$f":"IF(DataInformation!W93<>\"\",DataInformation!W93,\"\")","v":50},{"$f":"IF(DataInformation!Z93<>\"\",DataInformation!Z93,\"\")","v":90.4},{"$f":"IF(DataInformation!AA93<>\"\",DataInformation!AA93,\"\")","v":-2.4000000000000057},null,{"$f":"IF(DataInformation!AD93<>\"\",DataInformation!AD93,\"\")","v":0},{"$f":"IF(DataInformation!AF93<>\"\",DataInformation!AF93,\"\")","v":20},null,{"$f":"IF(DataInformation!AG93<>\"\",DataInformation!AG93,\"\")","v":50.4},{"$f":"IF(DataInformation!AH93<>\"\",DataInformation!AH93,\"\")","v":36},{"$f":"IF(DataInformation!AI93<>\"\",DataInformation!AI93,\"\")","v":36},{"$f":"IF(DataInformation!AJ93<>\"\",DataInformation!AJ93,\"\")","v":0}]
[{"$f":"IF(DataInformation!A94<>\"\",DataInformation!A94,\"\")","v":49725},{"$f":"IF(DataInformation!B94<>\"\",DataInformation!B94,\"\")","v":125.8},{"$f":"IF(DataInformation!C94<>\"\",DataInformation!C94,\"\")","v":113},{"$f":"IF(DataInformation!D94<>\"\",DataInformation!D94,\"\")","v":44.8},{"$f":"IF(DataInformation!H94<>\"\",DataInformation!H94,\"\")","v":51},{"$f":"IF(DataInformation!R94<>\"\",DataInformation!R94,\"\")","v":113},{"$f":"IF(DataInformation!S94<>\"\",DataInformation!S94,\"\")","v":87},null,{"$f":"IF(DataInformation!T94<>\"\",DataInformation!T94,\"\")","v":34},{"$f":"IF(DataInformation!V94<>\"\",DataInformation!V94,\"\")","v":12.799999999999997},{"$f":"IF(DataInformation!W94<>\"\",DataInformation!W94,\"\")","v":51},{"$f":"IF(DataInformation!Z94<>\"\",DataInformation!Z94,\"\")","v":97.8},{"$f":"IF(DataInformation!AA94<>\"\",DataInformation!AA94,\"\")","v":-10.799999999999997},null,{"$f":"IF(DataInformation!AD94<>\"\",DataInformation!AD94,\"\")","v":0},{"$f":"IF(DataInformation!AF94<>\"\",DataInformation!AF94,\"\")","v":29},null,{"$f":"IF(DataInformation!AG94<>\"\",DataInformation!AG94,\"\")","v":44.8},{"$f":"IF(DataInformation!AH94<>\"\",DataInformation!AH94,\"\")","v":32},{"$f":"IF(DataInformation!AI94<>\"\",DataInformation!AI94,\"\")","v":32},{"$f":"IF(DataInformation!AJ94<>\"\",DataInformation!AJ94,\"\")","v":0}]
[{"$f":"IF(DataInformation!A95<>\"\",DataInformation!A95,\"\")","v":49750},{"$f":"IF(DataInformation!B95<>\"\",DataInformation!B95,\"\")","v":127.8},{"$f":"IF(DataInformation!C95<>\"\",DataInformation!C95,\"\")","v":113},{"$f":"IF(DataInformation!D95<>\"\",DataInformation!D95,\"\")","v":51.8},{"$f":"IF(DataInformation!H95<>\"\",DataInformation!H95,\"\")","v":52},{"$f":"IF(DataInformation!R95<>\"\",DataInformation!R95,\"\")","v":113},{"$f":"IF(DataInformation!S95<>\"\",DataInformation!S95,\"\")","v":87},null,{"$f":"IF(DataInformation!T95<>\"\",DataInformation!T95,\"\")","v":50},{"$f":"IF(DataInformation!V95<>\"\",DataInformation!V95,\"\")","v":14.799999999999997},{"$f":"IF(DataInformation!W95<>\"\",DataInformation!W95,\"\")","v":52},{"$f":"IF(DataInformation!Z95<>\"\",DataInformation!Z95,\"\")","v":116.8},{"$f":"IF(DataInformation!AA95<>\"\",DataInformation!AA95,\"\")","v":-29.799999999999997},null,{"$f":"IF(DataInformation!AD95<>\"\",DataInformation!AD95,\"\")","v":0},{"$f":"IF(DataInformation!AF95<>\"\",DataInformation!AF95,\"\")","v":44},null,{"$f":"IF(DataInformation!AG95<>\"\",DataInformation!AG95,\"\")","v":51.8},{"$f":"IF(DataInformation!AH95<>\"\",DataInformation!AH95,\"\")","v":37},{"$f":"IF(DataInformation!AI95<>\"\",DataInformation!AI95,\"\")","v":37},{"$f":"IF(DataInformation!AJ95<>\"\",DataInformation!AJ95,\"\")","v":0}]
[{"$f":"IF(DataInformation!A96<>\"\",DataInformation!A96,\"\")","v":49775},{"$f":"IF(DataInformation!B96<>\"\",DataInformation!B96,\"\")","v":127.19999999999999},{"$f":"IF(DataInformation!C96<>\"\",DataInformation!C96,\"\")","v":112},{"$f":"IF(DataInformation!D96<>\"\",DataInformation!D96,\"\")","v":53.199999999999996},{"$f":"IF(DataInformation!H96<>\"\",DataInformation!H96,\"\")","v":52},{"$f":"IF(DataInformation!R96<>\"\",DataInformation!R96,\"\")","v":112},{"$f":"IF(DataInformation!S96<>\"\",DataInformation!S96,\"\")","v":86},null,{"$f":"IF(DataInformation!T96<>\"\",DataInformation!T96,\"\")","v":55},{"$f":"IF(DataInformation!V96<>\"\",DataInformation!V96,\"\")","v":15.199999999999996},{"$f":"IF(DataInformation!W96<>\"\",DataInformation!W96,\"\")","v":52},{"$f":"IF(DataInformation!Z96<>\"\",DataInformation!Z96,\"\")","v":122.19999999999999},{"$f":"IF(DataInformation!AA96<>\"\",DataInformation!AA96,\"\")","v":-36.199999999999989},null,{"$f":"IF(DataInformation!AD96<>\"\",DataInformation!AD96,\"\")","v":0},{"$f":"IF(DataInformation!AF96<>\"\",DataInformation!AF96,\"\")","v":49},null,{"$f":"IF(DataInformation!AG96<>\"\",DataInformation!AG96,\"\")","v":53.199999999999996},{"$f":"IF(DataInformation!AH96<>\"\",DataInformation!AH96,\"\")","v":38},{"$f":"IF(DataInformation!AI96<>\"\",DataInformation!AI96,\"\")","v":38},{"$f":"IF(DataInformation!AJ96<>\"\",DataInformation!AJ96,\"\")","v":0}]
[{"$f":"IF(DataInformation!A97<>\"\",DataInformation!A97,\"\")","v":49800},{"$f":"IF(DataInformation!B97<>\"\",DataInformation!B97,\"\")","v":123.4},{"$f":"IF(DataInformation!C97<>\"\",DataInformation!C97,\"\")","v":109},{"$f":"IF(DataInformation!D97<>\"\",DataInformation!D97,\"\")","v":50.4},{"$f":"IF(DataInformation!H97<>\"\",DataInformation!H97,\"\")","v":52},{"$f":"IF(DataInformation!R97<>\"\",DataInformation!R97,\"\")","v":109},{"$f":"IF(DataInformation!S97<>\"\",DataInformation!S97,\"\")","v":84},null,{"$f":"IF(DataInformation!T97<>\"\",DataInformation!T97,\"\")","v":53},{"$f":"IF(DataInformation!V97<>\"\",DataInformation!V97,\"\")","v":14.399999999999999},{"$f":"IF(DataInformation!W97<>\"\",DataInformation!W97,\"\")","v":52},{"$f":"IF(DataInformation!Z97<>\"\",DataInformation!Z97,\"\")","v":119.4},{"$f":"IF(DataInformation!AA97<>\"\",DataInformation!AA97,\"\")","v":-35.400000000000006},null,{"$f":"IF(DataInformation!AD97<>\"\",DataInformation!AD97,\"\")","v":0},{"$f":"IF(DataInformation!AF97<>\"\",DataInformation!AF97,\"\")","v":47},null,{"$f":"IF(DataInformation!AG97<>\"\",DataInformation!AG97,\"\")","v":50.4},{"$f":"IF(DataInformation!AH97<>\"\",DataInformation!AH97,\"\")","v":36},{"$f":"IF(DataInformation!AI97<>\"\",DataInformation!AI97,\"\")","v":36},{"$f":"IF(DataInformation!AJ97<>\"\",DataInformation!AJ97,\"\")","v":0}]
[{"$f":"IF(DataInformation!A98<>\"\",DataInformation!A98,\"\")","v":49825},{"$f":"IF(DataInformation!B98<>\"\",DataInformation!B98,\"\")","v":124.8},{"$f":"IF(DataInformation!C98<>\"\",DataInformation!C98,\"\")","v":110},{"$f":"IF(DataInformation!D98<>\"\",DataInformation!D98,\"\")","v":51.8},{"$f":"IF(DataInformation!H98<>\"\",DataInformation!H98,\"\")","v":51},{"$f":"IF(DataInformation!R98<>\"\",DataInformation!R98,\"\")","v":110},{"$f":"IF(DataInformation!S98<>\"\",DataInformation!S98,\"\")","v":85},null,{"$f":"IF(DataInformation!T98<>\"\",DataInformation!T98,\"\")","v":53},{"$f":"IF(DataInformation!V98<>\"\",DataInformation!V98,\"\")","v":14.799999999999997},{"$f":"IF(DataInformation!W98<>\"\",DataInformation!W98,\"\")","v":51},{"$f":"IF(DataInformation!Z98<>\"\",DataInformation!Z98,\"\")","v":118.8},{"$f":"IF(DataInformation!AA98<>\"\",DataInformation!AA98,\"\")","v":-33.799999999999997},null,{"$f":"IF(DataInformation!AD98<>\"\",DataInformation!AD98,\"\")","v":0},{"$f":"IF(DataInformation!AF98<>\"\",DataInformation!AF98,\"\")","v":47},null,{"$f":"IF(DataInformation!AG98<>\"\",DataInformation!AG98,\"\")","v":51.8},{"$f":"IF(DataInformation!AH98<>\"\",DataInformation!AH98,\"\")","v":37},{"$f":"IF(DataInformation!AI98<>\"\",DataInformation!AI98,\"\")","v":37},{"$f":"IF(DataInformation!AJ98<>\"\",DataInformation!AJ98,\"\")","v":0}]
[{"$f":"IF(DataInformation!A99<>\"\",DataInformation!A99,\"\")","v":49850},{"$f":"IF(DataInformation!B99<>\"\",DataInformation!B99,\"\")","v":125.4},{"$f":"IF(DataInformation!C99<>\"\",DataInformation!C99,\"\")","v":111},{"$f":"IF(DataInformation!D99<>\"\",DataInformation!D99,\"\")","v":50.4},{"$f":"IF(DataInformation!H99<>\"\",DataInformation!H99,\"\")","v":51},{"$f":"IF(DataInformation!R99<>\"\",DataInformation!R99,\"\")","v":111},{"$f":"IF(DataInformation!S99<>\"\",DataInformation!S99,\"\")","v":85},null,{"$f":"IF(DataInformation!T99<>\"\",DataInformation!T99,\"\")","v":68},{"$f":"IF(DataInformation!V99<>\"\",DataInformation!V99,\"\")","v":14.399999999999999},{"$f":"IF(DataInformation!W99<>\"\",DataInformation!W99,\"\")","v":51},{"$f":"IF(DataInformation!Z99<>\"\",DataInformation!Z99,\"\")","v":133.4},{"$f":"IF(DataInformation!AA99<>\"\",DataInformation!AA99,\"\")","v":-48.400000000000006},null,{"$f":"IF(DataInformation!AD99<>\"\",DataInformation!AD99,\"\")","v":0},{"$f":"IF(DataInformation!AF99<>\"\",DataInformation!AF99,\"\")","v":61},null,{"$f":"IF(DataInformation!AG99<>\"\",DataInformation!AG99,\"\")","v":50.4},{"$f":"IF(DataInformation!AH99<>\"\",DataInformation!AH99,\"\")","v":36},{"$f":"IF(DataInformation!AI99<>\"\",DataInformation!AI99,\"\")","v":36},{"$f":"IF(DataInformation!AJ99<>\"\",DataInformation!AJ99,\"\")","v":0}]
[{"$f":"IF(DataInformation!A100<>\"\",DataInformation!A100,\"\")","v":49875},{"$f":"IF(DataInformation!B100<>\"\",DataInformation!B100,\"\")","v":129.80000000000001},{"$f":"IF(DataInformation!C100<>\"\",DataInformation!C100,\"\")","v":115},{"$f":"IF(DataInformation!D100<>\"\",DataInformation!D100,\"\")","v":51.8},{"$f":"IF(DataInformation!H100<>\"\",DataInformation!H100,\"\")","v":51},{"$f":"IF(DataInformation!R100<>\"\",DataInformation!R100,\"\")","v":115},{"$f":"IF(DataInformation!S100<>\"\",DataInformation!S100,\"\")","v":88},null,{"$f":"IF(DataInformation!T100<>\"\",DataInformation!T100,\"\")","v":76},{"$f":"IF(DataInformation!V100<>\"\",DataInformation!V100,\"\")","v":14.799999999999997},{"$f":"IF(DataInformation!W100<>\"\",DataInformation!W100,\"\")","v":51},{"$f":"IF(DataInformation!Z100<>\"\",DataInformation!Z100,\"\")","v":141.80000000000001},{"$f":"IF(DataInformation!AA100<>\"\",DataInformation!AA100,\"\")","v":-53.800000000000011},null,{"$f":"IF(DataInformation!AD100<>\"\",DataInformation!AD100,\"\")","v":0},{"$f":"IF(DataInformation!AF100<>\"\",DataInformation!AF100,\"\")","v":70},null,{"$f":"IF(DataInformation!AG100<>\"\",DataInformation!AG100,\"\")","v":51.8},{"$f":"IF(DataInformation!AH100<>\"\",DataInformation!AH100,\"\")","v":37},{"$f":"IF(DataInformation!AI100<>\"\",DataInformation!AI100,\"\")","v":37},{"$f":"IF(DataInformation!AJ100<>\"\",DataInformation!AJ100,\"\")","v":0}]
[{"$f":"IF(DataInformation!A101<>\"\",DataInformation!A101,\"\")","v":49900},{"$f":"IF(DataInformation!B101<>\"\",DataInformation!B101,\"\")","v":120.8},{"$f":"IF(DataInformation!C101<>\"\",DataInformation!C101,\"\")","v":110},{"$f":"IF(DataInformation!D101<>\"\",DataInformation!D101,\"\")","v":37.799999999999997},{"$f":"IF(DataInformation!H101<>\"\",DataInformation!H101,\"\")","v":48},{"$f":"IF(DataInformation!R101<>\"\",DataInformation!R101,\"\")","v":110},{"$f":"IF(DataInformation!S101<>\"\",DataInformation!S101,\"\")","v":85},null,{"$f":"IF(DataInformation!T101<>\"\",DataInformation!T101,\"\")","v":46},{"$f":"IF(DataInformation!V101<>\"\",DataInformation!V101,\"\")","v":10.799999999999997},{"$f":"IF(DataInformation!W101<>\"\",DataInformation!W101,\"\")","v":48},{"$f":"IF(DataInformation!Z101<>\"\",DataInformation!Z101,\"\")","v":104.8},{"$f":"IF(DataInformation!AA101<>\"\",DataInformation!AA101,\"\")","v":-19.799999999999997},null,{"$f":"IF(DataInformation!AD101<>\"\",DataInformation!AD101,\"\")","v":0},{"$f":"IF(DataInformation!AF101<>\"\",DataInformation!AF101,\"\")","v":45},null,{"$f":"IF(DataInformation!AG101<>\"\",DataInformation!AG101,\"\")","v":37.799999999999997},{"$f":"IF(DataInformation!AH101<>\"\",DataInformation!AH101,\"\")","v":27},{"$f":"IF(DataInformation!AI101<>\"\",DataInformation!AI101,\"\")","v":27},{"$f":"IF(DataInformation!AJ101<>\"\",DataInformation!AJ101,\"\")","v":0}]
[{"$f":"IF(DataInformation!A102<>\"\",DataInformation!A102,\"\")","v":49923.51},{"$f":"IF(DataInformation!B102<>\"\",DataInformation!B102,\"\")","v":7.4},{"$f":"IF(DataInformation!C102<>\"\",DataInformation!C102,\"\")","v":7},{"$f":"IF(DataInformation!D102<>\"\",DataInformation!D102,\"\")","v":1.4},{"$f":"IF(DataInformation!H102<>\"\",DataInformation!H102,\"\")","v":3},{"$f":"IF(DataInformation!R102<>\"\",DataInformation!R102,\"\")","v":7},{"$f":"IF(DataInformation!S102<>\"\",DataInformation!S102,\"\")","v":5},null,{"$f":"IF(DataInformation!T102<>\"\",DataInformation!T102,\"\")","v":2},{"$f":"IF(DataInformation!V102<>\"\",DataInformation!V102,\"\")","v":0.39999999999999991},{"$f":"IF(DataInformation!W102<>\"\",DataInformation!W102,\"\")","v":3},{"$f":"IF(DataInformation!Z102<>\"\",DataInformation!Z102,\"\")","v":5.4},{"$f":"IF(DataInformation!AA102<>\"\",DataInformation!AA102,\"\")","v":-0.40000000000000036},null,{"$f":"IF(DataInformation!AD102<>\"\",DataInformation!AD102,\"\")","v":0},{"$f":"IF(DataInformation!AF102<>\"\",DataInformation!AF102,\"\")","v":21},null,{"$f":"IF(DataInformation!AG102<>\"\",DataInformation!AG102,\"\")","v":1.4},{"$f":"IF(DataInformation!AH102<>\"\",DataInformation!AH102,\"\")","v":1},{"$f":"IF(DataInformation!AI102<>\"\",DataInformation!AI102,\"\")","v":1},{"$f":"IF(DataInformation!AJ102<>\"\",DataInformation!AJ102,\"\")","v":0}]
[{"$f":"IF(DataInformation!A103<>\"\",DataInformation!A103,\"\")","v":49925},{"$f":"IF(DataInformation!B103<>\"\",DataInformation!B103,\"\")","v":124.6},{"$f":"IF(DataInformation!C103<>\"\",DataInformation!C103,\"\")","v":117},{"$f":"IF(DataInformation!D103<>\"\",DataInformation!D103,\"\")","v":26.599999999999998},{"$f":"IF(DataInformation!H103<>\"\",DataInformation!H103,\"\")","v":56},{"$f":"IF(DataInformation!R103<>\"\",DataInformation!R103,\"\")","v":117},{"$f":"IF(DataInformation!S103<>\"\",DataInformation!S103,\"\")","v":90},null,{"$f":"IF(DataInformation!T103<>\"\",DataInformation!T103,\"\")","v":23},{"$f":"IF(DataInformation!V103<>\"\",DataInformation!V103,\"\")","v":7.5999999999999979},{"$f":"IF(DataInformation!W103<>\"\",DataInformation!W103,\"\")","v":56},{"$f":"IF(DataInformation!Z103<>\"\",DataInformation!Z103,\"\")","v":86.6},{"$f":"IF(DataInformation!AA103<>\"\",DataInformation!AA103,\"\")","v":3.4000000000000057},null,{"$f":"IF(DataInformation!AD103<>\"\",DataInformation!AD103,\"\")","v":0},{"$f":"IF(DataInformation!AF103<>\"\",DataInformation!AF103,\"\")","v":1},null,{"$f":"IF(DataInformation!AG103<>\"\",DataInformation!AG103,\"\")","v":26.599999999999998},{"$f":"IF(DataInformation!AH103<>\"\",DataInformation!AH103,\"\")","v":19},{"$f":"IF(DataInformation!AI103<>\"\",DataInformation!AI103,\"\")","v":19},{"$f":"IF(DataInformation!AJ103<>\"\",DataInformation!AJ103,\"\")","v":0}]
[{"$f":"IF(DataInformation!A104<>\"\",DataInformation!A104,\"\")","v":49950},{"$f":"IF(DataInformation!B104<>\"\",DataInformation!B104,\"\")","v":104.2},{"$f":"IF(DataInformation!C104<>\"\",DataInformation!C104,\"\")","v":97},{"$f":"IF(DataInformation!D104<>\"\",DataInformation!D104,\"\")","v":25.2},{"$f":"IF(DataInformation!H104<>\"\",DataInformation!H104,\"\")","v":67},{"$f":"IF(DataInformation!R104<>\"\",DataInformation!R104,\"\")","v":97},{"$f":"IF(DataInformation!S104<>\"\",DataInformation!S104,\"\")","v":75},null,{"$f":"IF(DataInformation!T104<>\"\",DataInformation!T104,\"\")","v":18},{"$f":"IF(DataInformation!V104<>\"\",DataInformation!V104,\"\")","v":7.1999999999999993},{"$f":"IF(DataInformation!W104<>\"\",DataInformation!W104,\"\")","v":67},{"$f":"IF(DataInformation!Z104<>\"\",DataInformation!Z104,\"\")","v":92.2},{"$f":"IF(DataInformation!AA104<>\"\",DataInformation!AA104,\"\")","v":-17.200000000000003},null,{"$f":"IF(DataInformation!AD104<>\"\",DataInformation!AD104,\"\")","v":0},{"$f":"IF(DataInformation!AF104<>\"\",DataInformation!AF104,\"\")","v":13},null,{"$f":"IF(DataInformation!AG104<>\"\",DataInformation!AG104,\"\")","v":25.2},{"$f":"IF(DataInformation!AH104<>\"\",DataInformation!AH104,\"\")","v":18},{"$f":"IF(DataInformation!AI104<>\"\",DataInformation!AI104,\"\")","v":18},{"$f":"IF(DataInformation!AJ104<>\"\",DataInformation!AJ104,\"\")","v":0}]
[{"$f":"IF(DataInformation!A105<>\"\",DataInformation!A105,\"\")","v":49975},{"$f":"IF(DataInformation!B105<>\"\",DataInformation!B105,\"\")","v":106.2},{"$f":"IF(DataInformation!C105<>\"\",DataInformation!C105,\"\")","v":99},{"$f":"IF(DataInformation!D105<>\"\",DataInformation!D105,\"\")","v":25.2},{"$f":"IF(DataInformation!H105<>\"\",DataInformation!H105,\"\")","v":87},{"$f":"IF(DataInformation!R105<>\"\",DataInformation!R105,\"\")","v":99},{"$f":"IF(DataInformation!S105<>\"\",DataInformation!S105,\"\")","v":76},null,{"$f":"IF(DataInformation!T105<>\"\",DataInformation!T105,\"\")","v":17},{"$f":"IF(DataInformation!V105<>\"\",DataInformation!V105,\"\")","v":7.1999999999999993},{"$f":"IF(DataInformation!W105<>\"\",DataInformation!W105,\"\")","v":87},{"$f":"IF(DataInformation!Z105<>\"\",DataInformation!Z105,\"\")","v":111.2},{"$f":"IF(DataInformation!AA105<>\"\",DataInformation!AA105,\"\")","v":-35.200000000000003},null,{"$f":"IF(DataInformation!AD105<>\"\",DataInformation!AD105,\"\")","v":0},{"$f":"IF(DataInformation!AF105<>\"\",DataInformation!AF105,\"\")","v":12},null,{"$f":"IF(DataInformation!AG105<>\"\",DataInformation!AG105,\"\")","v":25.2},{"$f":"IF(DataInformation!AH105<>\"\",DataInformation!AH105,\"\")","v":18},{"$f":"IF(DataInformation!AI105<>\"\",DataInformation!AI105,\"\")","v":18},{"$f":"IF(DataInformation!AJ105<>\"\",DataInformation!AJ105,\"\")","v":0}]
[{"$f":"IF(DataInformation!A106<>\"\",DataInformation!A106,\"\")","v":50000},{"$f":"IF(DataInformation!B106<>\"\",DataInformation!B106,\"\")","v":141.19999999999999},{"$f":"IF(DataInformation!C106<>\"\",DataInformation!C106,\"\")","v":132},{"$f":"IF(DataInformation!D106<>\"\",DataInformation!D106,\"\")","v":32.199999999999996},{"$f":"IF(DataInformation!H106<>\"\",DataInformation!H106,\"\")","v":124},{"$f":"IF(DataInformation!R106<>\"\",DataInformation!R106,\"\")","v":132},{"$f":"IF(DataInformation!S106<>\"\",DataInformation!S106,\"\")","v":102},null,{"$f":"IF(DataInformation!T106<>\"\",DataInformation!T106,\"\")","v":16},{"$f":"IF(DataInformation!V106<>\"\",DataInformation!V106,\"\")","v":9.1999999999999957},{"$f":"IF(DataInformation!W106<>\"\",DataInformation!W106,\"\")","v":124},{"$f":"IF(DataInformation!Z106<>\"\",DataInformation!Z106,\"\")","v":149.19999999999999},{"$f":"IF(DataInformation!AA106<>\"\",DataInformation!AA106,\"\")","v":-47.199999999999989},null,{"$f":"IF(DataInformation!AD106<>\"\",DataInformation!AD106,\"\")","v":0},{"$f":"IF(DataInformation!AF106<>\"\",DataInformation!AF106,\"\")","v":11},null,{"$f":"IF(DataInformation!AG106<>\"\",DataInformation!AG106,\"\")","v":32.199999999999996},{"$f":"IF(DataInformation!AH106<>\"\",DataInformation!AH106,\"\")","v":23},{"$f":"IF(DataInformation!AI106<>\"\",DataInformation!AI106,\"\")","v":23},{"$f":"IF(DataInformation!AJ106<>\"\",DataInformation!AJ106,\"\")","v":0}]
[{"$f":"IF(DataInformation!A107<>\"\",DataInformation!A107,\"\")","v":50025},{"$f":"IF(DataInformation!B107<>\"\",DataInformation!B107,\"\")","v":156.80000000000001},{"$f":"IF(DataInformation!C107<>\"\",DataInformation!C107,\"\")","v":146},{"$f":"IF(DataInformation!D107<>\"\",DataInformation!D107,\"\")","v":37.799999999999997},{"$f":"IF(DataInformation!H107<>\"\",DataInformation!H107,\"\")","v":141},{"$f":"IF(DataInformation!R107<>\"\",DataInformation!R107,\"\")","v":146},{"$f":"IF(DataInformation!S107<>\"\",DataInformation!S107,\"\")","v":112},null,{"$f":"IF(DataInformation!T107<>\"\",DataInformation!T107,\"\")","v":18},{"$f":"IF(DataInformation!V107<>\"\",DataInformation!V107,\"\")","v":10.799999999999997},{"$f":"IF(DataInformation!W107<>\"\",DataInformation!W107,\"\")","v":141},{"$f":"IF(DataInformation!Z107<>\"\",DataInformation!Z107,\"\")","v":169.8},{"$f":"IF(DataInformation!AA107<>\"\",DataInformation!AA107,\"\")","v":-57.800000000000011},null,{"$f":"IF(DataInformation!AD107<>\"\",DataInformation!AD107,\"\")","v":0},{"$f":"IF(DataInformation!AF107<>\"\",DataInformation!AF107,\"\")","v":13},null,{"$f":"IF(DataInformation!AG107<>\"\",DataInformation!AG107,\"\")","v":37.799999999999997},{"$f":"IF(DataInformation!AH107<>\"\",DataInformation!AH107,\"\")","v":27},{"$f":"IF(DataInformation!AI107<>\"\",DataInformation!AI107,\"\")","v":27},{"$f":"IF(DataInformation!AJ107<>\"\",DataInformation!AJ107,\"\")","v":0}]
[{"$f":"IF(DataInformation!A108<>\"\",DataInformation!A108,\"\")","v":50050},{"$f":"IF(DataInformation!B108<>\"\",DataInformation!B108,\"\")","v":152.4},{"$f":"IF(DataInformation!C108<>\"\",DataInformation!C108,\"\")","v":142},{"$f":"IF(DataInformation!D108<>\"\",DataInformation!D108,\"\")","v":36.4},{"$f":"IF(DataInformation!H108<>\"\",DataInformation!H108,\"\")","v":102},{"$f":"IF(DataInformation!R108<>\"\",DataInformation!R108,\"\")","v":142},{"$f":"IF(DataInformation!S108<>\"\",DataInformation!S108,\"\")","v":109},null,{"$f":"IF(DataInformation!T108<>\"\",DataInformation!T108,\"\")","v":19},{"$f":"IF(DataInformation!V108<>\"\",DataInformation!V108,\"\")","v":10.399999999999999},{"$f":"IF(DataInformation!W108<>\"\",DataInformation!W108,\"\")","v":102},{"$f":"IF(DataInformation!Z108<>\"\",DataInformation!Z108,\"\")","v":131.4},{"$f":"IF(DataInformation!AA108<>\"\",DataInformation!AA108,\"\")","v":-22.400000000000006},null,{"$f":"IF(DataInformation!AD108<>\"\",DataInformation!AD108,\"\")","v":0},{"$f":"IF(DataInformation!AF108<>\"\",DataInformation!AF108,\"\")","v":16},null,{"$f":"IF(DataInformation!AG108<>\"\",DataInformation!AG108,\"\")","v":36.4},{"$f":"IF(DataInformation!AH108<>\"\",DataInformation!AH108,\"\")","v":26},{"$f":"IF(DataInformation!AI108<>\"\",DataInformation!AI108,\"\")","v":26},{"$f":"IF(DataInformation!AJ108<>\"\",DataInformation!AJ108,\"\")","v":0}]
[{"$f":"IF(DataInformation!A109<>\"\",DataInformation!A109,\"\")","v":50075},{"$f":"IF(DataInformation!B109<>\"\",DataInformation!B109,\"\")","v":134.19999999999999},{"$f":"IF(DataInformation!C109<>\"\",DataInformation!C109,\"\")","v":125},{"$f":"IF(DataInformation!D109<>\"\",DataInformation!D109,\"\")","v":32.199999999999996},{"$f":"IF(DataInformation!H109<>\"\",DataInformation!H109,\"\")","v":63},{"$f":"IF(DataInformation!R109<>\"\",DataInformation!R109,\"\")","v":125},{"$f":"IF(DataInformation!S109<>\"\",DataInformation!S109,\"\")","v":96},null,{"$f":"IF(DataInformation!T109<>\"\",DataInformation!T109,\"\")","v":20},{"$f":"IF(DataInformation!V109<>\"\",DataInformation!V109,\"\")","v":9.1999999999999957},{"$f":"IF(DataInformation!W109<>\"\",DataInformation!W109,\"\")","v":63},{"$f":"IF(DataInformation!Z109<>\"\",DataInformation!Z109,\"\")","v":92.199999999999989},{"$f":"IF(DataInformation!AA109<>\"\",DataInformation!AA109,\"\")","v":3.8000000000000114},null,{"$f":"IF(DataInformation!AD109<>\"\",DataInformation!AD109,\"\")","v":0},{"$f":"IF(DataInformation!AF109<>\"\",DataInformation!AF109,\"\")","v":18},null,{"$f":"IF(DataInformation!AG109<>\"\",DataInformation!AG109,\"\")","v":32.199999999999996},{"$f":"IF(DataInformation!AH109<>\"\",DataInformation!AH109,\"\")","v":23},{"$f":"IF(DataInformation!AI109<>\"\",DataInformation!AI109,\"\")","v":23},{"$f":"IF(DataInformation!AJ109<>\"\",DataInformation!AJ109,\"\")","v":0}]
[{"$f":"IF(DataInformation!A110<>\"\",DataInformation!A110,\"\")","v":50100},{"$f":"IF(DataInformation!B110<>\"\",DataInformation!B110,\"\")","v":120.6},{"$f":"IF(DataInformation!C110<>\"\",DataInformation!C110,\"\")","v":113},{"$f":"IF(DataInformation!D110<>\"\",DataInformation!D110,\"\")","v":26.599999999999998},{"$f":"IF(DataInformation!H110<>\"\",DataInformation!H110,\"\")","v":56},{"$f":"IF(DataInformation!R110<>\"\",DataInformation!R110,\"\")","v":113},{"$f":"IF(DataInformation!S110<>\"\",DataInformation!S110,\"\")","v":87},null,{"$f":"IF(DataInformation!T110<>\"\",DataInformation!T110,\"\")","v":20},{"$f":"IF(DataInformation!V110<>\"\",DataInformation!V110,\"\")","v":7.5999999999999979},{"$f":"IF(DataInformation!W110<>\"\",DataInformation!W110,\"\")","v":56},{"$f":"IF(DataInformation!Z110<>\"\",DataInformation!Z110,\"\")","v":83.6},{"$f":"IF(DataInformation!AA110<>\"\",DataInformation!AA110,\"\")","v":3.4000000000000057},null,{"$f":"IF(DataInformation!AD110<>\"\",DataInformation!AD110,\"\")","v":0},{"$f":"IF(DataInformation!AF110<>\"\",DataInformation!AF110,\"\")","v":16},null,{"$f":"IF(DataInformation!AG110<>\"\",DataInformation!AG110,\"\")","v":26.599999999999998},{"$f":"IF(DataInformation!AH110<>\"\",DataInformation!AH110,\"\")","v":19},{"$f":"IF(DataInformation!AI110<>\"\",DataInformation!AI110,\"\")","v":19},{"$f":"IF(DataInformation!AJ110<>\"\",DataInformation!AJ110,\"\")","v":0}]
[{"$f":"IF(DataInformation!A111<>\"\",DataInformation!A111,\"\")","v":50125},{"$f":"IF(DataInformation!B111<>\"\",DataInformation!B111,\"\")","v":115.6},{"$f":"IF(DataInformation!C111<>\"\",DataInformation!C111,\"\")","v":110},{"$f":"IF(DataInformation!D111<>\"\",DataInformation!D111,\"\")","v":19.599999999999998},{"$f":"IF(DataInformation!H111<>\"\",DataInformation!H111,\"\")","v":53},{"$f":"IF(DataInformation!R111<>\"\",DataInformation!R111,\"\")","v":110},{"$f":"IF(DataInformation!S111<>\"\",DataInformation!S111,\"\")","v":85},null,{"$f":"IF(DataInformation!T111<>\"\",DataInformation!T111,\"\")","v":12},{"$f":"IF(DataInformation!V111<>\"\",DataInformation!V111,\"\")","v":5.5999999999999979},{"$f":"IF(DataInformation!W111<>\"\",DataInformation!W111,\"\")","v":53},{"$f":"IF(DataInformation!Z111<>\"\",DataInformation!Z111,\"\")","v":70.599999999999994},{"$f":"IF(DataInformation!AA111<>\"\",DataInformation!AA111,\"\")","v":14.400000000000006},null,{"$f":"IF(DataInformation!AD111<>\"\",DataInformation!AD111,\"\")","v":0},{"$f":"IF(DataInformation!AF111<>\"\",DataInformation!AF111,\"\")","v":7},null,{"$f":"IF(DataInformation!AG111<>\"\",DataInformation!AG111,\"\")","v":19.599999999999998},{"$f":"IF(DataInformation!AH111<>\"\",DataInformation!AH111,\"\")","v":14},{"$f":"IF(DataInformation!AI111<>\"\",DataInformation!AI111,\"\")","v":14},{"$f":"IF(DataInformation!AJ111<>\"\",DataInformation!AJ111,\"\")","v":0}]
[{"$f":"IF(DataInformation!A112<>\"\",DataInformation!A112,\"\")","v":50150},{"$f":"IF(DataInformation!B112<>\"\",DataInformation!B112,\"\")","v":15.8},{"$f":"IF(DataInformation!C112<>\"\",DataInformation!C112,\"\")","v":15},{"$f":"IF(DataInformation!D112<>\"\",DataInformation!D112,\"\")","v":2.8},{"$f":"IF(DataInformation!H112<>\"\",DataInformation!H112,\"\")","v":7},{"$f":"IF(DataInformation!R112<>\"\",DataInformation!R112,\"\")","v":15},{"$f":"IF(DataInformation!S112<>\"\",DataInformation!S112,\"\")","v":12},null,{"$f":"IF(DataInformation!T112<>\"\",DataInformation!T112,\"\")","v":1},{"$f":"IF(DataInformation!V112<>\"\",DataInformation!V112,\"\")","v":0.79999999999999982},{"$f":"IF(DataInformation!W112<>\"\",DataInformation!W112,\"\")","v":7},{"$f":"IF(DataInformation!Z112<>\"\",DataInformation!Z112,\"\")","v":8.8000000000000007},{"$f":"IF(DataInformation!AA112<>\"\",DataInformation!AA112,\"\")","v":3.1999999999999993},null,{"$f":"IF(DataInformation!AD112<>\"\",DataInformation!AD112,\"\")","v":0},{"$f":"IF(DataInformation!AF112<>\"\",DataInformation!AF112,\"\")","v":2},null,{"$f":"IF(DataInformation!AG112<>\"\",DataInformation!AG112,\"\")","v":2.8},{"$f":"IF(DataInformation!AH112<>\"\",DataInformation!AH112,\"\")","v":2},{"$f":"IF(DataInformation!AI112<>\"\",DataInformation!AI112,\"\")","v":2},{"$f":"IF(DataInformation!AJ112<>\"\",DataInformation!AJ112,\"\")","v":0}]
[{"$f":"IF(DataInformation!A113<>\"\",DataInformation!A113,\"\")","v":50153.51},{"$f":"IF(DataInformation!B113<>\"\",DataInformation!B113,\"\")","v":0},{"$f":"IF(DataInformation!C113<>\"\",DataInformation!C113,\"\")","v":0},{"$f":"IF(DataInformation!D113<>\"\",DataInformation!D113,\"\")","v":0},{"$f":"IF(DataInformation!H113<>\"\",DataInformation!H113,\"\")","v":0},{"$f":"IF(DataInformation!R113<>\"\",DataInformation!R113,\"\")","v":0},{"$f":"IF(DataInformation!S113<>\"\",DataInformation!S113,\"\")","v":0},null,{"$f":"IF(DataInformation!T113<>\"\",DataInformation!T113,\"\")","v":0},{"$f":"IF(DataInformation!V113<>\"\",DataInformation!V113,\"\")","v":""},{"$f":"IF(DataInformation!W113<>\"\",DataInformation!W113,\"\")","v":""},{"$f":"IF(DataInformation!Z113<>\"\",DataInformation!Z113,\"\")","v":0},{"$f":"IF(DataInformation!AA113<>\"\",DataInformation!AA113,\"\")","v":0},null,{"$f":"IF(DataInformation!AD113<>\"\",DataInformation!AD113,\"\")","v":0},{"$f":"IF(DataInformation!AF113<>\"\",DataInformation!AF113,\"\")","v":0},null,{"$f":"IF(DataInformation!AG113<>\"\",DataInformation!AG113,\"\")","v":0},{"$f":"IF(DataInformation!AH113<>\"\",DataInformation!AH113,\"\")","v":0},{"$f":"IF(DataInformation!AI113<>\"\",DataInformation!AI113,\"\")","v":0},{"$f":"IF(DataInformation!AJ113<>\"\",DataInformation!AJ113,\"\")","v":0}]
[]
["Subtotals:",{"$f":"SUBTOTAL(9,B73:B108)","v":4101.5999999999995},3682,1468.6,1968,3682,2834,0,1518,419.59999999999991,1968,3905.6,-1071.5999999999997,0,0,1270,0,1468.6,1049,1049,0]
["","","","","","","","","","","","","","","","","","","","","",""]
[{"$f":"IF(DataInformation!A114<>\"\",DataInformation!A114,\"\")","v":""},{"$f":"IF(DataInformation!B114<>\"\",DataInformation!B114,\"\")","v":""},{"$f":"IF(DataInformation!C114<>\"\",DataInformation!C114,\"\")","v":""},{"$f":"IF(DataInformation!D114<>\"\",DataInformation!D114,\"\")","v":""},{"$f":"IF(DataInformation!H114<>\"\",DataInformation!H114,\"\")","v":""},{"$f":"IF(DataInformation!R114<>\"\",DataInformation!R114,\"\")","v":""},{"$f":"IF(DataInformation!S114<>\"\",DataInformation!S114,\"\")","v":""},null,{"$f":"IF(DataInformation!T114<>\"\",DataInformation!T114,\"\")","v":""},{"$f":"IF(DataInformation!V114<>\"\",DataInformation!V114,\"\")","v":""},{"$f":"IF(DataInformation!W114<>\"\",DataInformation!W114,\"\")","v":""},{"$f":"IF(DataInformation!Z114<>\"\",DataInformation!Z114,\"\")","v":""},{"$f":"IF(DataInformation!AA114<>\"\",DataInformation!AA114,\"\")","v":""},null,{"$f":"IF(DataInformation!AD114<>\"\",DataInformation!AD114,\"\")","v":""},{"$f":"IF(DataInformation!AF114<>\"\",DataInformation!AF114,\"\")","v":""},null,{"$f":"IF(DataInformation!AG114<>\"\",DataInformation!AG114,\"\")","v":""},{"$f":"IF(DataInformation!AH114<>\"\",DataInformation!AH114,\"\")","v":""},{"$f":"IF(DataInformation!AI114<>\"\",DataInformation!AI114,\"\")","v":""},{"$f":"IF(DataInformation!AJ114<>\"\",DataInformation!AJ114,\"\")","v":""}]
[{"$f":"IF(DataInformation!A115<>\"\",DataInformation!A115,\"\")","v":"SR022A"},{"$f":"IF(DataInformation!B115<>\"\",DataInformation!B115,\"\")","v":""},{"$f":"IF(DataInformation!C115<>\"\",DataInformation!C115,\"\")","v":""},{"$f":"IF(DataInformation!D115<>\"\",DataInformation!D115,\"\")","v":""},{"$f":"IF(DataInformation!H115<>\"\",DataInformation!H115,\"\")","v":""},{"$f":"IF(DataInformation!R115<>\"\",DataInformation!R115,\"\")","v":""},{"$f":"IF(DataInformation!S115<>\"\",DataInformation!S115,\"\")","v":""},null,{"$f":"IF(DataInformation!T115<>\"\",DataInformation!T115,\"\")","v":""},{"$f":"IF(DataInformation!V115<>\"\",DataInformation!V115,\"\")","v":""},{"$f":"IF(DataInformation!W115<>\"\",DataInformation!W115,\"\")","v":""},{"$f":"IF(DataInformation!Z115<>\"\",DataInformation!Z115,\"\")","v":""},{"$f":"IF(DataInformation!AA115<>\"\",DataInformation!AA115,\"\")","v":""},null,{"$f":"IF(DataInformation!AD115<>\"\",DataInformation!AD115,\"\")","v":""},{"$f":"IF(DataInformation!AF115<>\"\",DataInformation!AF115,\"\")","v":""},null,{"$f":"IF(DataInformation!AG115<>\"\",DataInformation!AG115,\"\")","v":""},{"$f":"IF(DataInformation!AH115<>\"\",DataInformation!AH115,\"\")","v":""},{"$f":"IF(DataInformation!AI115<>\"\",DataInformation!AI115,\"\")","v":""},{"$f":"IF(DataInformation!AJ115<>\"\",DataInformation!AJ115,\"\")","v":""}]
[{"$f":"IF(DataInformation!A116<>\"\",DataInformation!A116,\"\")","v":100336.9},{"$f":"IF(DataInformation!B116<>\"\",DataInformation!B116,\"\")","v":56.4},{"$f":"IF(DataInformation!C116<>\"\",DataInformation!C116,\"\")","v":54},{"$f":"IF(DataInformation!D116<>\"\",DataInformation!D116,\"\")","v":8.3999999999999986},{"$f":"IF(DataInformation!H116<>\"\",DataInformation!H116,\"\")","v":16},{"$f":"IF(DataInformation!R116<>\"\",DataInformation!R116,\"\")","v":54},{"$f":"IF(DataInformation!S116<>\"\",DataInformation!S116,\"\")","v":42},null,{"$f":"IF(DataInformation!T116<>\"\",DataInformation!T116,\"\")","v":0},{"$f":"IF(DataInformation!V116<>\"\",DataInformation!V116,\"\")","v":2.3999999999999986},{"$f":"IF(DataInformation!W116<>\"\",DataInformation!W116,\"\")","v":16},{"$f":"IF(DataInformation!Z116<>\"\",DataInformation!Z116,\"\")","v":18.399999999999999},{"$f":"IF(DataInformation!AA116<>\"\",DataInformation!AA116,\"\")","v":23.6},null,{"$f":"IF(DataInformation!AD116<>\"\",DataInformation!AD116,\"\")","v":0},{"$f":"IF(DataInformation!AF116<>\"\",DataInformation!AF116,\"\")","v":0},null,{"$f":"IF(DataInformation!AG116<>\"\",DataInformation!AG116,\"\")","v":8.3999999999999986},{"$f":"IF(DataInformation!AH116<>\"\",DataInformation!AH116,\"\")","v":6},{"$f":"IF(DataInformation!AI116<>\"\",DataInformation!AI116,\"\")","v":6},{"$f":"IF(DataInformation!AJ116<>\"\",DataInformation!AJ116,\"\")","v":0}]
[{"$f":"IF(DataInformation!A117<>\"\",DataInformation!A117,\"\")","v":100350},{"$f":"IF(DataInformation!B117<>\"\",DataInformation!B117,\"\")","v":117.4},{"$f":"IF(DataInformation!C117<>\"\",DataInformation!C117,\"\")","v":111},{"$f":"IF(DataInformation!D117<>\"\",DataInformation!D117,\"\")","v":22.4},{"$f":"IF(DataInformation!H117<>\"\",DataInformation!H117,\"\")","v":31},{"$f":"IF(DataInformation!R117<>\"\",DataInformation!R117,\"\")","v":111},{"$f":"IF(DataInformation!S117<>\"\",DataInformation!S117,\"\")","v":85},null,{"$f":"IF(DataInformation!T117<>\"\",DataInformation!T117,\"\")","v":0},{"$f":"IF(DataInformation!V117<>\"\",DataInformation!V117,\"\")","v":6.3999999999999986},{"$f":"IF(DataInformation!W117<>\"\",DataInformation!W117,\"\")","v":31},{"$f":"IF(DataInformation!Z117<>\"\",DataInformation!Z117,\"\")","v":37.4},{"$f":"IF(DataInformation!AA117<>\"\",DataInformation!AA117,\"\")","v":47.6},null,{"$f":"IF(DataInformation!AD117<>\"\",DataInformation!AD117,\"\")","v":0},{"$f":"IF(DataInformation!AF117<>\"\",DataInformation!AF117,\"\")","v":0},null,{"$f":"IF(DataInformation!AG117<>\"\",DataInformation!AG117,\"\")","v":22.4},{"$f":"IF(DataInformation!AH117<>\"\",DataInformation!AH117,\"\")","v":16},{"$f":"IF(DataInformation!AI117<>\"\",DataInformation!AI117,\"\")","v":16},{"$f":"IF(DataInformation!AJ117<>\"\",DataInformation!AJ117,\"\")","v":0}]
[{"$f":"IF(DataInformation!A118<>\"\",DataInformation!A118,\"\")","v":100375},{"$f":"IF(DataInformation!B118<>\"\",DataInformation!B118,\"\")","v":124.8},{"$f":"IF(DataInformation!C118<>\"\",DataInformation!C118,\"\")","v":118},{"$f":"IF(DataInformation!D118<>\"\",DataInformation!D118,\"\")","v":23.799999999999997},{"$f":"IF(DataInformation!H118<>\"\",DataInformation!H118,\"\")","v":32},{"$f":"IF(DataInformation!R118<>\"\",DataInformation!R118,\"\")","v":118},{"$f":"IF(DataInformation!S118<>\"\",DataInformation!S118,\"\")","v":91},null,{"$f":"IF(DataInformation!T118<>\"\",DataInformation!T118,\"\")","v":0},{"$f":"IF(DataInformation!V118<>\"\",DataInformation!V118,\"\")","v":6.7999999999999972},{"$f":"IF(DataInformation!W118<>\"\",DataInformation!W118,\"\")","v":32},{"$f":"IF(DataInformation!Z118<>\"\",DataInformation!Z118,\"\")","v":38.799999999999997},{"$f":"IF(DataInformation!AA118<>\"\",DataInformation!AA118,\"\")","v":52.2},null,{"$f":"IF(DataInformation!AD118<>\"\",DataInformation!AD118,\"\")","v":0},{"$f":"IF(DataInformation!AF118<>\"\",DataInformation!AF118,\"\")","v":0},null,{"$f":"IF(DataInformation!AG118<>\"\",DataInformation!AG118,\"\")","v":23.799999999999997},{"$f":"IF(DataInformation!AH118<>\"\",DataInformation!AH118,\"\")","v":17},{"$f":"IF(DataInformation!AI118<>\"\",DataInformation!AI118,\"\")","v":17},{"$f":"IF(DataInformation!AJ118<>\"\",DataInformation!AJ118,\"\")","v":0}]
[{"$f":"IF(DataInformation!A119<>\"\",DataInformation!A119,\"\")","v":100400},{"$f":"IF(DataInformation!B119<>\"\",DataInformation!B119,\"\")","v":128.80000000000001},{"$f":"IF(DataInformation!C119<>\"\",DataInformation!C119,\"\")","v":122},{"$f":"IF(DataInformation!D119<>\"\",DataInformation!D119,\"\")","v":23.799999999999997},{"$f":"IF(DataInformation!H119<>\"\",DataInformation!H119,\"\")","v":34},{"$f":"IF(DataInformation!R119<>\"\",DataInformation!R119,\"\")","v":122},{"$f":"IF(DataInformation!S119<>\"\",DataInformation!S119,\"\")","v":94},null,{"$f":"IF(DataInformation!T119<>\"\",DataInformation!T119,\"\")","v":0},{"$f":"IF(DataInformation!V119<>\"\",DataInformation!V119,\"\")","v":6.7999999999999972},{"$f":"IF(DataInformation!W119<>\"\",DataInformation!W119,\"\")","v":34},{"$f":"IF(DataInformation!Z119<>\"\",DataInformation!Z119,\"\")","v":40.799999999999997},{"$f":"IF(DataInformation!AA119<>\"\",DataInformation!AA119,\"\")","v":53.2},null,{"$f":"IF(DataInformation!AD119<>\"\",DataInformation!AD119,\"\")","v":0},{"$f":"IF(DataInformation!AF119<>\"\",DataInformation!AF119,\"\")","v":0},null,{"$f":"IF(DataInformation!AG119<>\"\",DataInformation!AG119,\"\")","v":23.799999999999997},{"$f":"IF(DataInformation!AH119<>\"\",DataInformation!AH119,\"\")","v":17},{"$f":"IF(DataInformation!AI119<>\"\",DataInformation!AI119,\"\")","v":17},{"$f":"IF(DataInformation!AJ119<>\"\",DataInformation!AJ119,\"\")","v":0}]
[{"$f":"IF(DataInformation!A120<>\"\",DataInformation!A120,\"\")","v":100425},{"$f":"IF(DataInformation!B120<>\"\",DataInformation!B120,\"\")","v":138},{"$f":"IF(DataInformation!C120<>\"\",DataInformation!C120,\"\")","v":130},{"$f":"IF(DataInformation!D120<>\"\",DataInformation!D120,\"\")","v":28},{"$f":"IF(DataInformation!H120<>\"\",DataInformation!H120,\"\")","v":36},{"$f":"IF(DataInformation!R120<>\"\",DataInformation!R120,\"\")","v":130},{"$f":"IF(DataInformation!S120<>\"\",DataInformation!S120,\"\")","v":100},null,{"$f":"IF(DataInformation!T120<>\"\",DataInformation!T120,\"\")","v":0},{"$f":"IF(DataInformation!V120<>\"\",DataInformation!V120,\"\")","v":8},{"$f":"IF(DataInformation!W120<>\"\",DataInformation!W120,\"\")","v":36},{"$f":"IF(DataInformation!Z120<>\"\",DataInformation!Z120,\"\")","v":44},{"$f":"IF(DataInformation!AA120<>\"\",DataInformation!AA120,\"\")","v":56},null,{"$f":"IF(DataInformation!AD120<>\"\",DataInformation!AD120,\"\")","v":0},{"$f":"IF(DataInformation!AF120<>\"\",DataInformation!AF120,\"\")","v":0},null,{"$f":"IF(DataInformation!AG120<>\"\",DataInformation!AG120,\"\")","v":28},{"$f":"IF(DataInformation!AH120<>\"\",DataInformation!AH120,\"\")","v":20},{"$f":"IF(DataInformation!AI120<>\"\",DataInformation!AI120,\"\")","v":20},{"$f":"IF(DataInformation!AJ120<>\"\",DataInformation!AJ120,\"\")","v":0}]
[{"$f":"IF(DataInformation!A121<>\"\",DataInformation!A121,\"\")","v":100450},{"$f":"IF(DataInformation!B121<>\"\",DataInformation!B121,\"\")","v":148.19999999999999},{"$f":"IF(DataInformation!C121<>\"\",DataInformation!C121,\"\")","v":139},{"$f":"IF(DataInformation!D121<>\"\",DataInformation!D121,\"\")","v":32.199999999999996},{"$f":"IF(DataInformation!H121<>\"\",DataInformation!H121,\"\")","v":37},{"$f":"IF(DataInformation!R121<>\"\",DataInformation!R121,\"\")","v":139},{"$f":"IF(DataInformation!S121<>\"\",DataInformation!S121,\"\")","v":107},null,{"$f":"IF(DataInformation!T121<>\"\",DataInformation!T121,\"\")","v":1},{"$f":"IF(DataInformation!V121<>\"\",DataInformation!V121,\"\")","v":9.1999999999999957},{"$f":"IF(DataInformation!W121<>\"\",DataInformation!W121,\"\")","v":37},{"$f":"IF(DataInformation!Z121<>\"\",DataInformation!Z121,\"\")","v":47.199999999999996},{"$f":"IF(DataInformation!AA121<>\"\",DataInformation!AA121,\"\")","v":59.800000000000004},null,{"$f":"IF(DataInformation!AD121<>\"\",DataInformation!AD121,\"\")","v":0},{"$f":"IF(DataInformation!AF121<>\"\",DataInformation!AF121,\"\")","v":1},null,{"$f":"IF(DataInformation!AG121<>\"\",DataInformation!AG121,\"\")","v":32.199999999999996},{"$f":"IF(DataInformation!AH121<>\"\",DataInformation!AH121,\"\")","v":23},{"$f":"IF(DataInformation!AI121<>\"\",DataInformation!AI121,\"\")","v":23},{"$f":"IF(DataInformation!AJ121<>\"\",DataInformation!AJ121,\"\")","v":0}]
[{"$f":"IF(DataInformation!A122<>\"\",DataInformation!A122,\"\")","v":100475},{"$f":"IF(DataInformation!B122<>\"\",DataInformation!B122,\"\")","v":158.4},{"$f":"IF(DataInformation!C122<>\"\",DataInformation!C122,\"\")","v":148},{"$f":"IF(DataInformation!D122<>\"\",DataInformation!D122,\"\")","v":36.4},{"$f":"IF(DataInformation!H122<>\"\",DataInformation!H122,\"\")","v":37},{"$f":"IF(DataInformation!R122<>\"\",DataInformation!R122,\"\")","v":148},{"$f":"IF(DataInformation!S122<>\"\",DataInformation!S122,\"\")","v":114},null,{"$f":"IF(DataInformation!T122<>\"\",DataInformation!T122,\"\")","v":6},{"$f":"IF(DataInformation!V122<>\"\",DataInformation!V122,\"\")","v":10.399999999999999},{"$f":"IF(DataInformation!W122<>\"\",DataInformation!W122,\"\")","v":37},{"$f":"IF(DataInformation!Z122<>\"\",DataInformation!Z122,\"\")","v":53.4},{"$f":"IF(DataInformation!AA122<>\"\",DataInformation!AA122,\"\")","v":60.6},null,{"$f":"IF(DataInformation!AD122<>\"\",DataInformation!AD122,\"\")","v":0},{"$f":"IF(DataInformation!AF122<>\"\",DataInformation!AF122,\"\")","v":5},null,{"$f":"IF(DataInformation!AG122<>\"\",DataInformation!AG122,\"\")","v":36.4},{"$f":"IF(DataInformation!AH122<>\"\",DataInformation!AH122,\"\")","v":26},{"$f":"IF(DataInformation!AI122<>\"\",DataInformation!AI122,\"\")","v":26},{"$f":"IF(DataInformation!AJ122<>\"\",DataInformation!AJ122,\"\")","v":0}]
[{"$f":"IF(DataInformation!A123<>\"\",DataInformation!A123,\"\")","v":100500},{"$f":"IF(DataInformation!B123<>\"\",DataInformation!B123,\"\")","v":161.80000000000001},{"$f":"IF(DataInformation!C123<>\"\",DataInformation!C123,\"\")","v":151},{"$f":"IF(DataInformation!D123<>\"\",DataInformation!D123,\"\")","v":37.799999999999997},{"$f":"IF(DataInformation!H123<>\"\",DataInformation!H123,\"\")","v":37},{"$f":"IF(DataInformation!R123<>\"\",DataInformation!R123,\"\")","v":151},{"$f":"IF(DataInformation!S123<>\"\",DataInformation!S123,\"\")","v":116},null,{"$f":"IF(DataInformation!T123<>\"\",DataInformation!T123,\"\")","v":9},{"$f":"IF(DataInformation!V123<>\"\",DataInformation!V123,\"\")","v":10.799999999999997},{"$f":"IF(DataInformation!W123<>\"\",DataInformation!W123,\"\")","v":37},{"$f":"IF(DataInformation!Z123<>\"\",DataInformation!Z123,\"\")","v":56.8},{"$f":"IF(DataInformation!AA123<>\"\",DataInformation!AA123,\"\")","v":59.2},null,{"$f":"IF(DataInformation!AD123<>\"\",DataInformation!AD123,\"\")","v":0},{"$f":"IF(DataInformation!AF123<>\"\",DataInformation!AF123,\"\")","v":9},null,{"$f":"IF(DataInformation!AG123<>\"\",DataInformation!AG123,\"\")","v":37.799999999999997},{"$f":"IF(DataInformation!AH123<>\"\",DataInformation!AH123,\"\")","v":27},{"$f":"IF(DataInformation!AI123<>\"\",DataInformation!AI123,\"\")","v":27},{"$f":"IF(DataInformation!AJ123<>\"\",DataInformation!AJ123,\"\")","v":0}]
[{"$f":"IF(DataInformation!A124<>\"\",DataInformation!A124,\"\")","v":100525},{"$f":"IF(DataInformation!B124<>\"\",DataInformation!B124,\"\")","v":157.80000000000001},{"$f":"IF(DataInformation!C124<>\"\",DataInformation!C124,\"\")","v":147},{"$f":"IF(DataInformation!D124<>\"\",DataInformation!D124,\"\")","v":37.799999999999997},{"$f":"IF(DataInformation!H124<>\"\",DataInformation!H124,\"\")","v":37},{"$f":"IF(DataInformation!R124<>\"\",DataInformation!R124,\"\")","v":147},{"$f":"IF(DataInformation!S124<>\"\",DataInformation!S124,\"\")","v":113},null,{"$f":"IF(DataInformation!T124<>\"\",DataInformation!T124,\"\")","v":12},{"$f":"IF(DataInformation!V124<>\"\",DataInformation!V124,\"\")","v":10.799999999999997},{"$f":"IF(DataInformation!W124<>\"\",DataInformation!W124,\"\")","v":37},{"$f":"IF(DataInformation!Z124<>\"\",DataInformation!Z124,\"\")","v":59.8},{"$f":"IF(DataInformation!AA124<>\"\",DataInformation!AA124,\"\")","v":53.2},null,{"$f":"IF(DataInformation!AD124<>\"\",DataInformation!AD124,\"\")","v":0},{"$f":"IF(DataInformation!AF124<>\"\",DataInformation!AF124,\"\")","v":12},null,{"$f":"IF(DataInformation!AG124<>\"\",DataInformation!AG124,\"\")","v":37.799999999999997},{"$f":"IF(DataInformation!AH124<>\"\",DataInformation!AH124,\"\")","v":27},{"$f":"IF(DataInformation!AI124<>\"\",DataInformation!AI124,\"\")","v":27},{"$f":"IF(DataInformation!AJ124<>\"\",DataInformation!AJ124,\"\")","v":0}]
[{"$f":"IF(DataInformation!A125<>\"\",DataInformation!A125,\"\")","v":100550},{"$f":"IF(DataInformation!B125<>\"\",DataInformation!B125,\"\")","v":141.80000000000001},{"$f":"IF(DataInformation!C125<>\"\",DataInformation!C125,\"\")","v":131},{"$f":"IF(DataInformation!D125<>\"\",DataInformation!D125,\"\")","v":37.799999999999997},{"$f":"IF(DataInformation!H125<>\"\",DataInformation!H125,\"\")","v":37},{"$f":"IF(DataInformation!R125<>\"\",DataInformation!R125,\"\")","v":131},{"$f":"IF(DataInformation!S125<>\"\",DataInformation!S125,\"\")","v":101},null,{"$f":"IF(DataInformation!T125<>\"\",DataInformation!T125,\"\")","v":14},{"$f":"IF(DataInformation!V125<>\"\",DataInformation!V125,\"\")","v":10.799999999999997},{"$f":"IF(DataInformation!W125<>\"\",DataInformation!W125,\"\")","v":37},{"$f":"IF(DataInformation!Z125<>\"\",DataInformation!Z125,\"\")","v":61.8},{"$f":"IF(DataInformation!AA125<>\"\",DataInformation!AA125,\"\")","v":39.200000000000003},null,{"$f":"IF(DataInformation!AD125<>\"\",DataInformation!AD125,\"\")","v":0},{"$f":"IF(DataInformation!AF125<>\"\",DataInformation!AF125,\"\")","v":13},null,{"$f":"IF(DataInformation!AG125<>\"\",DataInformation!AG125,\"\")","v":37.799999999999997},{"$f":"IF(DataInformation!AH125<>\"\",DataInformation!AH125,\"\")","v":27},{"$f":"IF(DataInformation!AI125<>\"\",DataInformation!AI125,\"\")","v":27},{"$f":"IF(DataInformation!AJ125<>\"\",DataInformation!AJ125,\"\")","v":0}]
[{"$f":"IF(DataInformation!A126<>\"\",DataInformation!A126,\"\")","v":100575},{"$f":"IF(DataInformation!B126<>\"\",DataInformation!B126,\"\")","v":130.4},{"$f":"IF(DataInformation!C126<>\"\",DataInformation!C126,\"\")","v":118},{"$f":"IF(DataInformation!D126<>\"\",DataInformation!D126,\"\")","v":43.4},{"$f":"IF(DataInformation!H126<>\"\",DataInformation!H126,\"\")","v":36},{"$f":"IF(DataInformation!R126<>\"\",DataInformation!R126,\"\")","v":118},{"$f":"IF(DataInformation!S126<>\"\",DataInformation!S126,\"\")","v":91},null,{"$f":"IF(DataInformation!T126<>\"\",DataInformation!T126,\"\")","v":10},{"$f":"IF(DataInformation!V126<>\"\",DataInformation!V126,\"\")","v":12.399999999999999},{"$f":"IF(DataInformation!W126<>\"\",DataInformation!W126,\"\")","v":36},{"$f":"IF(DataInformation!Z126<>\"\",DataInformation!Z126,\"\")","v":58.4},{"$f":"IF(DataInformation!AA126<>\"\",DataInformation!AA126,\"\")","v":32.6},null,{"$f":"IF(DataInformation!AD126<>\"\",DataInformation!AD126,\"\")","v":0},{"$f":"IF(DataInformation!AF126<>\"\",DataInformation!AF126,\"\")","v":9},null,{"$f":"IF(DataInformation!AG126<>\"\",DataInformation!AG126,\"\")","v":43.4},{"$f":"IF(DataInformation!AH126<>\"\",DataInformation!AH126,\"\")","v":31},{"$f":"IF(DataInformation!AI126<>\"\",DataInformation!AI126,\"\")","v":31},{"$f":"IF(DataInformation!AJ126<>\"\",DataInformation!AJ126,\"\")","v":0}]
[{"$f":"IF(DataInformation!A127<>\"\",DataInformation!A127,\"\")","v":100600},{"$f":"IF(DataInformation!B127<>\"\",DataInformation!B127,\"\")","v":140.4},{"$f":"IF(DataInformation!C127<>\"\",DataInformation!C127,\"\")","v":126},{"$f":"IF(DataInformation!D127<>\"\",DataInformation!D127,\"\")","v":50.4},{"$f":"IF(DataInformation!H127<>\"\",DataInformation!H127,\"\")","v":37},{"$f":"IF(DataInformation!R127<>\"\",DataInformation!R127,\"\")","v":126},{"$f":"IF(DataInformation!S127<>\"\",DataInformation!S127,\"\")","v":97},null,{"$f":"IF(DataInformation!T127<>\"\",DataInformation!T127,\"\")","v":3},{"$f":"IF(DataInformation!V127<>\"\",DataInformation!V127,\"\")","v":14.399999999999999},{"$f":"IF(DataInformation!W127<>\"\",DataInformation!W127,\"\")","v":37},{"$f":"IF(DataInformation!Z127<>\"\",DataInformation!Z127,\"\")","v":54.4},{"$f":"IF(DataInformation!AA127<>\"\",DataInformation!AA127,\"\")","v":42.6},null,{"$f":"IF(DataInformation!AD127<>\"\",DataInformation!AD127,\"\")","v":0},{"$f":"IF(DataInformation!AF127<>\"\",DataInformation!AF127,\"\")","v":3},null,{"$f":"IF(DataInformation!AG127<>\"\",DataInformation!AG127,\"\")","v":50.4},{"$f":"IF(DataInformation!AH127<>\"\",DataInformation!AH127,\"\")","v":36},{"$f":"IF(DataInformation!AI127<>\"\",DataInformation!AI127,\"\")","v":36},{"$f":"IF(DataInformation!AJ127<>\"\",DataInformation!AJ127,\"\")","v":0}]
[{"$f":"IF(DataInformation!A128<>\"\",DataInformation!A128,\"\")","v":100625},{"$f":"IF(DataInformation!B128<>\"\",DataInformation!B128,\"\")","v":162.80000000000001},{"$f":"IF(DataInformation!C128<>\"\",DataInformation!C128,\"\")","v":148},{"$f":"IF(DataInformation!D128<>\"\",DataInformation!D128,\"\")","v":51.8},{"$f":"IF(DataInformation!H128<>\"\",DataInformation!H128,\"\")","v":41},{"$f":"IF(DataInformation!R128<>\"\",DataInformation!R128,\"\")","v":148},{"$f":"IF(DataInformation!S128<>\"\",DataInformation!S128,\"\")","v":114},null,{"$f":"IF(DataInformation!T128<>\"\",DataInformation!T128,\"\")","v":5},{"$f":"IF(DataInformation!V128<>\"\",DataInformation!V128,\"\")","v":14.799999999999997},{"$f":"IF(DataInformation!W128<>\"\",DataInformation!W128,\"\")","v":41},{"$f":"IF(DataInformation!Z128<>\"\",DataInformation!Z128,\"\")","v":60.8},{"$f":"IF(DataInformation!AA128<>\"\",DataInformation!AA128,\"\")","v":53.2},null,{"$f":"IF(DataInformation!AD128<>\"\",DataInformation!AD128,\"\")","v":0},{"$f":"IF(DataInformation!AF128<>\"\",DataInformation!AF128,\"\")","v":5},null,{"$f":"IF(DataInformation!AG128<>\"\",DataInformation!AG128,\"\")","v":51.8},{"$f":"IF(DataInformation!AH128<>\"\",DataInformation!AH128,\"\")","v":37},{"$f":"IF(DataInformation!AI128<>\"\",DataInformation!AI128,\"\")","v":37},{"$f":"IF(DataInformation!AJ128<>\"\",DataInformation!AJ128,\"\")","v":0}]
[{"$f":"IF(DataInformation!A129<>\"\",DataInformation!A129,\"\")","v":100650},{"$f":"IF(DataInformation!B129<>\"\",DataInformation!B129,\"\")","v":24.799999999999997},{"$f":"IF(DataInformation!C129<>\"\",DataInformation!C129,\"\")","v":22},{"$f":"IF(DataInformation!D129<>\"\",DataInformation!D129,\"\")","v":9.7999999999999989},{"$f":"IF(DataInformation!H129<>\"\",DataInformation!H129,\"\")","v":8},{"$f":"IF(DataInformation!R129<>\"\",DataInformation!R129,\"\")","v":22},{"$f":"IF(DataInformation!S129<>\"\",DataInformation!S129,\"\")","v":17},null,{"$f":"IF(DataInformation!T129<>\"\",DataInformation!T129,\"\")","v":2},{"$f":"IF(DataInformation!V129<>\"\",DataInformation!V129,\"\")","v":2.7999999999999989},{"$f":"IF(DataInformation!W129<>\"\",DataInformation!W129,\"\")","v":8},{"$f":"IF(DataInformation!Z129<>\"\",DataInformation!Z129,\"\")","v":12.799999999999999},{"$f":"IF(DataInformation!AA129<>\"\",DataInformation!AA129,\"\")","v":4.2000000000000011},null,{"$f":"IF(DataInformation!AD129<>\"\",DataInformation!AD129,\"\")","v":0},{"$f":"IF(DataInformation!AF129<>\"\",DataInformation!AF129,\"\")","v":10},null,{"$f":"IF(DataInformation!AG129<>\"\",DataInformation!AG129,\"\")","v":9.7999999999999989},{"$f":"IF(DataInformation!AH129<>\"\",DataInformation!AH129,\"\")","v":7},{"$f":"IF(DataInformation!AI129<>\"\",DataInformation!AI129,\"\")","v":7},{"$f":"IF(DataInformation!AJ129<>\"\",DataInformation!AJ129,\"\")","v":0}]
[{"$f":"IF(DataInformation!A130<>\"\",DataInformation!A130,\"\")","v":100653.92},{"$f":"IF(DataInformation!B130<>\"\",DataInformation!B130,\"\")","v":150},{"$f":"IF(DataInformation!C130<>\"\",DataInformation!C130,\"\")","v":136},{"$f":"IF(DataInformation!D130<>\"\",DataInformation!D130,\"\")","v":49},{"$f":"IF(DataInformation!H130<>\"\",DataInformation!H130,\"\")","v":42},{"$f":"IF(DataInformation!R130<>\"\",DataInformation!R130,\"\")","v":136},{"$f":"IF(DataInformation!S130<>\"\",DataInformation!S130,\"\")","v":105},null,{"$f":"IF(DataInformation!T130<>\"\",DataInformation!T130,\"\")","v":7},{"$f":"IF(DataInformation!V130<>\"\",DataInformation!V130,\"\")","v":14},{"$f":"IF(DataInformation!W130<>\"\",DataInformation!W130,\"\")","v":42},{"$f":"IF(DataInformation!Z130<>\"\",DataInformation!Z130,\"\")","v":63},{"$f":"IF(DataInformation!AA130<>\"\",DataInformation!AA130,\"\")","v":42},null,{"$f":"IF(DataInformation!AD130<>\"\",DataInformation!AD130,\"\")","v":0},{"$f":"IF(DataInformation!AF130<>\"\",DataInformation!AF130,\"\")","v":1},null,{"$f":"IF(DataInformation!AG130<>\"\",DataInformation!AG130,\"\")","v":49},{"$f":"IF(DataInformation!AH130<>\"\",DataInformation!AH130,\"\")","v":35},{"$f":"IF(DataInformation!AI130<>\"\",DataInformation!AI130,\"\")","v":35},{"$f":"IF(DataInformation!AJ130<>\"\",DataInformation!AJ130,\"\")","v":0}]
[{"$f":"IF(DataInformation!A131<>\"\",DataInformation!A131,\"\")","v":100675},{"$f":"IF(DataInformation!B131<>\"\",DataInformation!B131,\"\")","v":182.6},{"$f":"IF(DataInformation!C131<>\"\",DataInformation!C131,\"\")","v":163},{"$f":"IF(DataInformation!D131<>\"\",DataInformation!D131,\"\")","v":68.599999999999994},{"$f":"IF(DataInformation!H131<>\"\",DataInformation!H131,\"\")","v":43},{"$f":"IF(DataInformation!R131<>\"\",DataInformation!R131,\"\")","v":163},{"$f":"IF(DataInformation!S131<>\"\",DataInformation!S131,\"\")","v":125},null,{"$f":"IF(DataInformation!T131<>\"\",DataInformation!T131,\"\")","v":4},{"$f":"IF(DataInformation!V131<>\"\",DataInformation!V131,\"\")","v":19.599999999999994},{"$f":"IF(DataInformation!W131<>\"\",DataInformation!W131,\"\")","v":43},{"$f":"IF(DataInformation!Z131<>\"\",DataInformation!Z131,\"\")","v":66.599999999999994},{"$f":"IF(DataInformation!AA131<>\"\",DataInformation!AA131,\"\")","v":58.400000000000006},null,{"$f":"IF(DataInformation!AD131<>\"\",DataInformation!AD131,\"\")","v":0},{"$f":"IF(DataInformation!AF131<>\"\",DataInformation!AF131,\"\")","v":3},null,{"$f":"IF(DataInformation!AG131<>\"\",DataInformation!AG131,\"\")","v":68.599999999999994},{"$f":"IF(DataInformation!AH131<>\"\",DataInformation!AH131,\"\")","v":49},{"$f":"IF(DataInformation!AI131<>\"\",DataInformation!AI131,\"\")","v":49},{"$f":"IF(DataInformation!AJ131<>\"\",DataInformation!AJ131,\"\")","v":0}]
[{"$f":"IF(DataInformation!A132<>\"\",DataInformation!A132,\"\")","v":100700},{"$f":"IF(DataInformation!B132<>\"\",DataInformation!B132,\"\")","v":240.39999999999998},{"$f":"IF(DataInformation!C132<>\"\",DataInformation!C132,\"\")","v":218},{"$f":"IF(DataInformation!D132<>\"\",DataInformation!D132,\"\")","v":78.399999999999991},{"$f":"IF(DataInformation!H132<>\"\",DataInformation!H132,\"\")","v":40},{"$f":"IF(DataInformation!R132<>\"\",DataInformation!R132,\"\")","v":218},{"$f":"IF(DataInformation!S132<>\"\",DataInformation!S132,\"\")","v":168},null,{"$f":"IF(DataInformation!T132<>\"\",DataInformation!T132,\"\")","v":1},{"$f":"IF(DataInformation!V132<>\"\",DataInformation!V132,\"\")","v":22.399999999999991},{"$f":"IF(DataInformation!W132<>\"\",DataInformation!W132,\"\")","v":40},{"$f":"IF(DataInformation!Z132<>\"\",DataInformation!Z132,\"\")","v":63.399999999999991},{"$f":"IF(DataInformation!AA132<>\"\",DataInformation!AA132,\"\")","v":104.60000000000001},null,{"$f":"IF(DataInformation!AD132<>\"\",DataInformation!AD132,\"\")","v":0},{"$f":"IF(DataInformation!AF132<>\"\",DataInformation!AF132,\"\")","v":0},null,{"$f":"IF(DataInformation!AG132<>\"\",DataInformation!AG132,\"\")","v":78.399999999999991},{"$f":"IF(DataInformation!AH132<>\"\",DataInformation!AH132,\"\")","v":56},{"$f":"IF(DataInformation!AI132<>\"\",DataInformation!AI132,\"\")","v":56},{"$f":"IF(DataInformation!AJ132<>\"\",DataInformation!AJ132,\"\")","v":0}]
[{"$f":"IF(DataInformation!A133<>\"\",DataInformation!A133,\"\")","v":100725},{"$f":"IF(DataInformation!B133<>\"\",DataInformation!B133,\"\")","v":399.6},{"$f":"IF(DataInformation!C133<>\"\",DataInformation!C133,\"\")","v":376},{"$f":"IF(DataInformation!D133<>\"\",DataInformation!D133,\"\")","v":82.6},{"$f":"IF(DataInformation!H133<>\"\",DataInformation!H133,\"\")","v":37},{"$f":"IF(DataInformation!R133<>\"\",DataInformation!R133,\"\")","v":376},{"$f":"IF(DataInformation!S133<>\"\",DataInformation!S133,\"\")","v":289},null,{"$f":"IF(DataInformation!T133<>\"\",DataInformation!T133,\"\")","v":0},{"$f":"IF(DataInformation!V133<>\"\",DataInformation!V133,\"\")","v":23.599999999999994},{"$f":"IF(DataInformation!W133<>\"\",DataInformation!W133,\"\")","v":37},{"$f":"IF(DataInformation!Z133<>\"\",DataInformation!Z133,\"\")","v":60.599999999999994},{"$f":"IF(DataInformation!AA133<>\"\",DataInformation!AA133,\"\")","v":228.4},null,{"$f":"IF(DataInformation!AD133<>\"\",DataInformation!AD133,\"\")","v":0},{"$f":"IF(DataInformation!AF133<>\"\",DataInformation!AF133,\"\")","v":0},null,{"$f":"IF(DataInformation!AG133<>\"\",DataInformation!AG133,\"\")","v":82.6},{"$f":"IF(DataInformation!AH133<>\"\",DataInformation!AH133,\"\")","v":59},{"$f":"IF(DataInformation!AI133<>\"\",DataInformation!AI133,\"\")","v":59},{"$f":"IF(DataInformation!AJ133<>\"\",DataInformation!AJ133,\"\")","v":0}]
[{"$f":"IF(DataInformation!A134<>\"\",DataInformation!A134,\"\")","v":100750},{"$f":"IF(DataInformation!B134<>\"\",DataInformation!B134,\"\")","v":589.4},{"$f":"IF(DataInformation!C134<>\"\",DataInformation!C134,\"\")","v":557},{"$f":"IF(DataInformation!D134<>\"\",DataInformation!D134,\"\")","v":113.39999999999999},{"$f":"IF(DataInformation!H134<>\"\",DataInformation!H134,\"\")","v":41},{"$f":"IF(DataInformation!R134<>\"\",DataInformation!R134,\"\")","v":557},{"$f":"IF(DataInformation!S134<>\"\",DataInformation!S134,\"\")","v":428},null,{"$f":"IF(DataInformation!T134<>\"\",DataInformation!T134,\"\")","v":78},{"$f":"IF(DataInformation!V134<>\"\",DataInformation!V134,\"\")","v":32.399999999999991},{"$f":"IF(DataInformation!W134<>\"\",DataInformation!W134,\"\")","v":41},{"$f":"IF(DataInformation!Z134<>\"\",DataInformation!Z134,\"\")","v":151.39999999999998},{"$f":"IF(DataInformation!AA134<>\"\",DataInformation!AA134,\"\")","v":276.60000000000002},null,{"$f":"IF(DataInformation!AD134<>\"\",DataInformation!AD134,\"\")","v":0},{"$f":"IF(DataInformation!AF134<>\"\",DataInformation!AF134,\"\")","v":77},null,{"$f":"IF(DataInformation!AG134<>\"\",DataInformation!AG134,\"\")","v":113.39999999999999},{"$f":"IF(DataInformation!AH134<>\"\",DataInformation!AH134,\"\")","v":81},{"$f":"IF(DataInformation!AI134<>\"\",DataInformation!AI134,\"\")","v":81},{"$f":"IF(DataInformation!AJ134<>\"\",DataInformation!AJ134,\"\")","v":0}]
[{"$f":"IF(DataInformation!A135<>\"\",DataInformation!A135,\"\")","v":100775},{"$f":"IF(DataInformation!B135<>\"\",DataInformation!B135,\"\")","v":834.6},{"$f":"IF(DataInformation!C135<>\"\",DataInformation!C135,\"\")","v":793},{"$f":"IF(DataInformation!D135<>\"\",DataInformation!D135,\"\")","v":145.6},{"$f":"IF(DataInformation!H135<>\"\",DataInformation!H135,\"\")","v":49},{"$f":"IF(DataInformation!R135<>\"\",DataInformation!R135,\"\")","v":793},{"$f":"IF(DataInformation!S135<>\"\",DataInformation!S135,\"\")","v":610},null,{"$f":"IF(DataInformation!T135<>\"\",DataInformation!T135,\"\")","v":217},{"$f":"IF(DataInformation!V135<>\"\",DataInformation!V135,\"\")","v":41.599999999999994},{"$f":"IF(DataInformation!W135<>\"\",DataInformation!W135,\"\")","v":49},{"$f":"IF(DataInformation!Z135<>\"\",DataInformation!Z135,\"\")","v":307.60000000000002},{"$f":"IF(DataInformation!AA135<>\"\",DataInformation!AA135,\"\")","v":302.39999999999998},null,{"$f":"IF(DataInformation!AD135<>\"\",DataInformation!AD135,\"\")","v":0},{"$f":"IF(DataInformation!AF135<>\"\",DataInformation!AF135,\"\")","v":216},null,{"$f":"IF(DataInformation!AG135<>\"\",DataInformation!AG135,\"\")","v":145.6},{"$f":"IF(DataInformation!AH135<>\"\",DataInformation!AH135,\"\")","v":104},{"$f":"IF(DataInformation!AI135<>\"\",DataInformation!AI135,\"\")","v":104},{"$f":"IF(DataInformation!AJ135<>\"\",DataInformation!AJ135,\"\")","v":0}]
[{"$f":"IF(DataInformation!A136<>\"\",DataInformation!A136,\"\")","v":100800},{"$f":"IF(DataInformation!B136<>\"\",DataInformation!B136,\"\")","v":583.20000000000005},{"$f":"IF(DataInformation!C136<>\"\",DataInformation!C136,\"\")","v":552},{"$f":"IF(DataInformation!D136<>\"\",DataInformation!D136,\"\")","v":109.19999999999999},{"$f":"IF(DataInformation!H136<>\"\",DataInformation!H136,\"\")","v":50},{"$f":"IF(DataInformation!R136<>\"\",DataInformation!R136,\"\")","v":552},{"$f":"IF(DataInformation!S136<>\"\",DataInformation!S136,\"\")","v":425},null,{"$f":"IF(DataInformation!T136<>\"\",DataInformation!T136,\"\")","v":139},{"$f":"IF(DataInformation!V136<>\"\",DataInformation!V136,\"\")","v":31.199999999999989},{"$f":"IF(DataInformation!W136<>\"\",DataInformation!W136,\"\")","v":50},{"$f":"IF(DataInformation!Z136<>\"\",DataInformation!Z136,\"\")","v":220.2},{"$f":"IF(DataInformation!AA136<>\"\",DataInformation!AA136,\"\")","v":204.8},null,{"$f":"IF(DataInformation!AD136<>\"\",DataInformation!AD136,\"\")","v":0},{"$f":"IF(DataInformation!AF136<>\"\",DataInformation!AF136,\"\")","v":138},null,{"$f":"IF(DataInformation!AG136<>\"\",DataInformation!AG136,\"\")","v":109.19999999999999},{"$f":"IF(DataInformation!AH136<>\"\",DataInformation!AH136,\"\")","v":78},{"$f":"IF(DataInformation!AI136<>\"\",DataInformation!AI136,\"\")","v":78},{"$f":"IF(DataInformation!AJ136<>\"\",DataInformation!AJ136,\"\")","v":0}]
[{"$f":"IF(DataInformation!A137<>\"\",DataInformation!A137,\"\")","v":100825},{"$f":"IF(DataInformation!B137<>\"\",DataInformation!B137,\"\")","v":0},{"$f":"IF(DataInformation!C137<>\"\",DataInformation!C137,\"\")","v":0},{"$f":"IF(DataInformation!D137<>\"\",DataInformation!D137,\"\")","v":0},{"$f":"IF(DataInformation!H137<>\"\",DataInformation!H137,\"\")","v":0},{"$f":"IF(DataInformation!R137<>\"\",DataInformation!R137,\"\")","v":0},{"$f":"IF(DataInformation!S137<>\"\",DataInformation!S137,\"\")","v":0},null,{"$f":"IF(DataInformation!T137<>\"\",DataInformation!T137,\"\")","v":0},{"$f":"IF(DataInformation!V137<>\"\",DataInformation!V137,\"\")","v":""},{"$f":"IF(DataInformation!W137<>\"\",DataInformation!W137,\"\")","v":""},{"$f":"IF(DataInformation!Z137<>\"\",DataInformation!Z137,\"\")","v":0},{"$f":"IF(DataInformation!AA137<>\"\",DataInformation!AA137,\"\")","v":0},null,{"$f":"IF(DataInformation!AD137<>\"\",DataInformation!AD137,\"\")","v":0},{"$f":"IF(DataInformation!AF137<>\"\",DataInformation!AF137,\"\")","v":0},null,{"$f":"IF(DataInformation!AG137<>\"\",DataInformation!AG137,\"\")","v":0},{"$f":"IF(DataInformation!AH137<>\"\",DataInformation!AH137,\"\")","v":0},{"$f":"IF(DataInformation!AI137<>\"\",DataInformation!AI137,\"\")","v":0},{"$f":"IF(DataInformation!AJ137<>\"\",DataInformation!AJ137,\"\")","v":0}]
[]
["Subtotals:",{"$f":"SUBTOTAL(9,B113:B135)","v":4771.6000000000004},4460,1090.5999999999999,758,4460,3432,0,508,311.59999999999997,758,1577.5999999999997,1854.4000000000003,0,0,502,0,1090.5999999999999,779,779,0]
["","","","","","","","","","","","","","","","","","","","","",""]
[{"$f":"IF(DataInformation!A138<>\"\",DataInformation!A138,\"\")","v":""},{"$f":"IF(DataInformation!B138<>\"\",DataInformation!B138,\"\")","v":""},{"$f":"IF(DataInformation!C138<>\"\",DataInformation!C138,\"\")","v":""},{"$f":"IF(DataInformation!D138<>\"\",DataInformation!D138,\"\")","v":""},{"$f":"IF(DataInformation!H138<>\"\",DataInformation!H138,\"\")","v":""},{"$f":"IF(DataInformation!R138<>\"\",DataInformation!R138,\"\")","v":""},{"$f":"IF(DataInformation!S138<>\"\",DataInformation!S138,\"\")","v":""},null,{"$f":"IF(DataInformation!T138<>\"\",DataInformation!T138,\"\")","v":""},{"$f":"IF(DataInformation!V138<>\"\",DataInformation!V138,\"\")","v":""},{"$f":"IF(DataInformation!W138<>\"\",DataInformation!W138,\"\")","v":""},{"$f":"IF(DataInformation!Z138<>\"\",DataInformation!Z138,\"\")","v":""},{"$f":"IF(DataInformation!AA138<>\"\",DataInformation!AA138,\"\")","v":""},null,{"$f":"IF(DataInformation!AD138<>\"\",DataInformation!AD138,\"\")","v":""},{"$f":"IF(DataInformation!AF138<>\"\",DataInformation!AF138,\"\")","v":""},null,{"$f":"IF(DataInformation!AG138<>\"\",DataInformation!AG138,\"\")","v":""},{"$f":"IF(DataInformation!AH138<>\"\",DataInformation!AH138,\"\")","v":""},{"$f":"IF(DataInformation!AI138<>\"\",DataInformation!AI138,\"\")","v":""},{"$f":"IF(DataInformation!AJ138<>\"\",DataInformation!AJ138,\"\")","v":""}]
[]
[]
[]
[{"$f":"IF(DataInformation!A139<>\"\",DataInformation!A139,\"\")","v":"SR022B"},{"$f":"IF(DataInformation!B139<>\"\",DataInformation!B139,\"\")","v":""},{"$f":"IF(DataInformation!C139<>\"\",DataInformation!C139,\"\")","v":""},{"$f":"IF(DataInformation!D139<>\"\",DataInformation!D139,\"\")","v":""},{"$f":"IF(DataInformation!H139<>\"\",DataInformation!H139,\"\")","v":""},{"$f":"IF(DataInformation!R139<>\"\",DataInformation!R139,\"\")","v":""},{"$f":"IF(DataInformation!S139<>\"\",DataInformation!S139,\"\")","v":""},null,{"$f":"IF(DataInformation!T139<>\"\",DataInformation!T139,\"\")","v":""},{"$f":"IF(DataInformation!V139<>\"\",DataInformation!V139,\"\")","v":""},{"$f":"IF(DataInformation!W139<>\"\",DataInformation!W139,\"\")","v":""},{"$f":"IF(DataInformation!Z139<>\"\",DataInformation!Z139,\"\")","v":""},{"$f":"IF(DataInformation!AA139<>\"\",DataInformation!AA139,\"\")","v":""},null,{"$f":"IF(DataInformation!AD139<>\"\",DataInformation!AD139,\"\")","v":""},{"$f":"IF(DataInformation!AF139<>\"\",DataInformation!AF139,\"\")","v":""},null,{"$f":"IF(DataInformation!AG139<>\"\",DataInformation!AG139,\"\")","v":""},{"$f":"IF(DataInformation!AH139<>\"\",DataInformation!AH139,\"\")","v":""},{"$f":"IF(DataInformation!AI139<>\"\",DataInformation!AI139,\"\")","v":""},{"$f":"IF(DataInformation!AJ139<>\"\",DataInformation!AJ139,\"\")","v":""}]
[{"$f":"IF(DataInformation!A140<>\"\",DataInformation!A140,\"\")","v":200480.26},{"$f":"IF(DataInformation!B140<>\"\",DataInformation!B140,\"\")","v":96.8},{"$f":"IF(DataInformation!C140<>\"\",DataInformation!C140,\"\")","v":90},{"$f":"IF(DataInformation!D140<>\"\",DataInformation!D140,\"\")","v":23.799999999999997},{"$f":"IF(DataInformation!H140<>\"\",DataInformation!H140,\"\")","v":25},{"$f":"IF(DataInformation!R140<>\"\",DataInformation!R140,\"\")","v":90},{"$f":"IF(DataInformation!S140<>\"\",DataInformation!S140,\"\")","v":69},null,{"$f":"IF(DataInformation!T140<>\"\",DataInformation!T140,\"\")","v":2},{"$f":"IF(DataInformation!V140<>\"\",DataInformation!V140,\"\")","v":6.7999999999999972},{"$f":"IF(DataInformation!W140<>\"\",DataInformation!W140,\"\")","v":25},{"$f":"IF(DataInformation!Z140<>\"\",DataInformation!Z140,\"\")","v":33.799999999999997},{"$f":"IF(DataInformation!AA140<>\"\",DataInformation!AA140,\"\")","v":35.200000000000003},null,{"$f":"IF(DataInformation!AD140<>\"\",DataInformation!AD140,\"\")","v":0},{"$f":"IF(DataInformation!AF140<>\"\",DataInformation!AF140,\"\")","v":0},null,{"$f":"IF(DataInformation!AG140<>\"\",DataInformation!AG140,\"\")","v":23.799999999999997},{"$f":"IF(DataInformation!AH140<>\"\",DataInformation!AH140,\"\")","v":17},{"$f":"IF(DataInformation!AI140<>\"\",DataInformation!AI140,\"\")","v":17},{"$f":"IF(DataInformation!AJ140<>\"\",DataInformation!AJ140,\"\")","v":0}]
[{"$f":"IF(DataInformation!A141<>\"\",DataInformation!A141,\"\")","v":200500},{"$f":"IF(DataInformation!B141<>\"\",DataInformation!B141,\"\")","v":120.8},{"$f":"IF(DataInformation!C141<>\"\",DataInformation!C141,\"\")","v":114},{"$f":"IF(DataInformation!D141<>\"\",DataInformation!D141,\"\")","v":23.799999999999997},{"$f":"IF(DataInformation!H141<>\"\",DataInformation!H141,\"\")","v":33},{"$f":"IF(DataInformation!R141<>\"\",DataInformation!R141,\"\")","v":114},{"$f":"IF(DataInformation!S141<>\"\",DataInformation!S141,\"\")","v":88},null,{"$f":"IF(DataInformation!T141<>\"\",DataInformation!T141,\"\")","v":1},{"$f":"IF(DataInformation!V141<>\"\",DataInformation!V141,\"\")","v":6.7999999999999972},{"$f":"IF(DataInformation!W141<>\"\",DataInformation!W141,\"\")","v":33},{"$f":"IF(DataInformation!Z141<>\"\",DataInformation!Z141,\"\")","v":40.799999999999997},{"$f":"IF(DataInformation!AA141<>\"\",DataInformation!AA141,\"\")","v":47.2},null,{"$f":"IF(DataInformation!AD141<>\"\",DataInformation!AD141,\"\")","v":0},{"$f":"IF(DataInformation!AF141<>\"\",DataInformation!AF141,\"\")","v":0},null,{"$f":"IF(DataInformation!AG141<>\"\",DataInformation!AG141,\"\")","v":23.799999999999997},{"$f":"IF(DataInformation!AH141<>\"\",DataInformation!AH141,\"\")","v":17},{"$f":"IF(DataInformation!AI141<>\"\",DataInformation!AI141,\"\")","v":17},{"$f":"IF(DataInformation!AJ141<>\"\",DataInformation!AJ141,\"\")","v":0}]
[{"$f":"IF(DataInformation!A142<>\"\",DataInformation!A142,\"\")","v":200525},{"$f":"IF(DataInformation!B142<>\"\",DataInformation!B142,\"\")","v":130.4},{"$f":"IF(DataInformation!C142<>\"\",DataInformation!C142,\"\")","v":124},{"$f":"IF(DataInformation!D142<>\"\",DataInformation!D142,\"\")","v":22.4},{"$f":"IF(DataInformation!H142<>\"\",DataInformation!H142,\"\")","v":34},{"$f":"IF(DataInformation!R142<>\"\",DataInformation!R142,\"\")","v":124},{"$f":"IF(DataInformation!S142<>\"\",DataInformation!S142,\"\")","v":95},null,{"$f":"IF(DataInformation!T142<>\"\",DataInformation!T142,\"\")","v":0},{"$f":"IF(DataInformation!V142<>\"\",DataInformation!V142,\"\")","v":6.3999999999999986},{"$f":"IF(DataInformation!W142<>\"\",DataInformation!W142,\"\")","v":34},{"$f":"IF(DataInformation!Z142<>\"\",DataInformation!Z142,\"\")","v":40.4},{"$f":"IF(DataInformation!AA142<>\"\",DataInformation!AA142,\"\")","v":54.6},null,{"$f":"IF(DataInformation!AD142<>\"\",DataInformation!AD142,\"\")","v":0},{"$f":"IF(DataInformation!AF142<>\"\",DataInformation!AF142,\"\")","v":0},null,{"$f":"IF(DataInformation!AG142<>\"\",DataInformation!AG142,\"\")","v":22.4},{"$f":"IF(DataInformation!AH142<>\"\",DataInformation!AH142,\"\")","v":16},{"$f":"IF(DataInformation!AI142<>\"\",DataInformation!AI142,\"\")","v":16},{"$f":"IF(DataInformation!AJ142<>\"\",DataInformation!AJ142,\"\")","v":0}]
[{"$f":"IF(DataInformation!A143<>\"\",DataInformation!A143,\"\")","v":200550},{"$f":"IF(DataInformation!B143<>\"\",DataInformation!B143,\"\")","v":147.19999999999999},{"$f":"IF(DataInformation!C143<>\"\",DataInformation!C143,\"\")","v":138},{"$f":"IF(DataInformation!D143<>\"\",DataInformation!D143,\"\")","v":32.199999999999996},{"$f":"IF(DataInformation!H143<>\"\",DataInformation!H143,\"\")","v":36},{"$f":"IF(DataInformation!R143<>\"\",DataInformation!R143,\"\")","v":138},{"$f":"IF(DataInformation!S143<>\"\",DataInformation!S143,\"\")","v":106},null,{"$f":"IF(DataInformation!T143<>\"\",DataInformation!T143,\"\")","v":0},{"$f":"IF(DataInformation!V143<>\"\",DataInformation!V143,\"\")","v":9.1999999999999957},{"$f":"IF(DataInformation!W143<>\"\",DataInformation!W143,\"\")","v":36},{"$f":"IF(DataInformation!Z143<>\"\",DataInformation!Z143,\"\")","v":45.199999999999996},{"$f":"IF(DataInformation!AA143<>\"\",DataInformation!AA143,\"\")","v":60.800000000000004},null,{"$f":"IF(DataInformation!AD143<>\"\",DataInformation!AD143,\"\")","v":0},{"$f":"IF(DataInformation!AF143<>\"\",DataInformation!AF143,\"\")","v":0},null,{"$f":"IF(DataInformation!AG143<>\"\",DataInformation!AG143,\"\")","v":32.199999999999996},{"$f":"IF(DataInformation!AH143<>\"\",DataInformation!AH143,\"\")","v":23},{"$f":"IF(DataInformation!AI143<>\"\",DataInformation!AI143,\"\")","v":23},{"$f":"IF(DataInformation!AJ143<>\"\",DataInformation!AJ143,\"\")","v":0}]
[{"$f":"IF(DataInformation!A144<>\"\",DataInformation!A144,\"\")","v":200575},{"$f":"IF(DataInformation!B144<>\"\",DataInformation!B144,\"\")","v":155},{"$f":"IF(DataInformation!C144<>\"\",DataInformation!C144,\"\")","v":145},{"$f":"IF(DataInformation!D144<>\"\",DataInformation!D144,\"\")","v":35},{"$f":"IF(DataInformation!H144<>\"\",DataInformation!H144,\"\")","v":37},{"$f":"IF(DataInformation!R144<>\"\",DataInformation!R144,\"\")","v":145},{"$f":"IF(DataInformation!S144<>\"\",DataInformation!S144,\"\")","v":112},null,{"$f":"IF(DataInformation!T144<>\"\",DataInformation!T144,\"\")","v":3},{"$f":"IF(DataInformation!V144<>\"\",DataInformation!V144,\"\")","v":10},{"$f":"IF(DataInformation!W144<>\"\",DataInformation!W144,\"\")","v":37},{"$f":"IF(DataInformation!Z144<>\"\",DataInformation!Z144,\"\")","v":50},{"$f":"IF(DataInformation!AA144<>\"\",DataInformation!AA144,\"\")","v":62},null,{"$f":"IF(DataInformation!AD144<>\"\",DataInformation!AD144,\"\")","v":0},{"$f":"IF(DataInformation!AF144<>\"\",DataInformation!AF144,\"\")","v":2},null,{"$f":"IF(DataInformation!AG144<>\"\",DataInformation!AG144,\"\")","v":35},{"$f":"IF(DataInformation!AH144<>\"\",DataInformation!AH144,\"\")","v":25},{"$f":"IF(DataInformation!AI144<>\"\",DataInformation!AI144,\"\")","v":25},{"$f":"IF(DataInformation!AJ144<>\"\",DataInformation!AJ144,\"\")","v":0}]
[{"$f":"IF(DataInformation!A145<>\"\",DataInformation!A145,\"\")","v":200600},{"$f":"IF(DataInformation!B145<>\"\",DataInformation!B145,\"\")","v":158.80000000000001},{"$f":"IF(DataInformation!C145<>\"\",DataInformation!C145,\"\")","v":148},{"$f":"IF(DataInformation!D145<>\"\",DataInformation!D145,\"\")","v":37.799999999999997},{"$f":"IF(DataInformation!H145<>\"\",DataInformation!H145,\"\")","v":38},{"$f":"IF(DataInformation!R145<>\"\",DataInformation!R145,\"\")","v":148},{"$f":"IF(DataInformation!S145<>\"\",DataInformation!S145,\"\")","v":114},null,{"$f":"IF(DataInformation!T145<>\"\",DataInformation!T145,\"\")","v":7},{"$f":"IF(DataInformation!V145<>\"\",DataInformation!V145,\"\")","v":10.799999999999997},{"$f":"IF(DataInformation!W145<>\"\",DataInformation!W145,\"\")","v":38},{"$f":"IF(DataInformation!Z145<>\"\",DataInformation!Z145,\"\")","v":55.8},{"$f":"IF(DataInformation!AA145<>\"\",DataInformation!AA145,\"\")","v":58.2},null,{"$f":"IF(DataInformation!AD145<>\"\",DataInformation!AD145,\"\")","v":0},{"$f":"IF(DataInformation!AF145<>\"\",DataInformation!AF145,\"\")","v":6},null,{"$f":"IF(DataInformation!AG145<>\"\",DataInformation!AG145,\"\")","v":37.799999999999997},{"$f":"IF(DataInformation!AH145<>\"\",DataInformation!AH145,\"\")","v":27},{"$f":"IF(DataInformation!AI145<>\"\",DataInformation!AI145,\"\")","v":27},{"$f":"IF(DataInformation!AJ145<>\"\",DataInformation!AJ145,\"\")","v":0}]
[{"$f":"IF(DataInformation!A146<>\"\",DataInformation!A146,\"\")","v":200625},{"$f":"IF(DataInformation!B146<>\"\",DataInformation!B146,\"\")","v":163.19999999999999},{"$f":"IF(DataInformation!C146<>\"\",DataInformation!C146,\"\")","v":152},{"$f":"IF(DataInformation!D146<>\"\",DataInformation!D146,\"\")","v":39.199999999999996},{"$f":"IF(DataInformation!H146<>\"\",DataInformation!H146,\"\")","v":38},{"$f":"IF(DataInformation!R146<>\"\",DataInformation!R146,\"\")","v":152},{"$f":"IF(DataInformation!S146<>\"\",DataInformation!S146,\"\")","v":117},null,{"$f":"IF(DataInformation!T146<>\"\",DataInformation!T146,\"\")","v":11},{"$f":"IF(DataInformation!V146<>\"\",DataInformation!V146,\"\")","v":11.199999999999996},{"$f":"IF(DataInformation!W146<>\"\",DataInformation!W146,\"\")","v":38},{"$f":"IF(DataInformation!Z146<>\"\",DataInformation!Z146,\"\")","v":60.199999999999996},{"$f":"IF(DataInformation!AA146<>\"\",DataInformation!AA146,\"\")","v":56.800000000000004},null,{"$f":"IF(DataInformation!AD146<>\"\",DataInformation!AD146,\"\")","v":0},{"$f":"IF(DataInformation!AF146<>\"\",DataInformation!AF146,\"\")","v":11},null,{"$f":"IF(DataInformation!AG146<>\"\",DataInformation!AG146,\"\")","v":39.199999999999996},{"$f":"IF(DataInformation!AH146<>\"\",DataInformation!AH146,\"\")","v":28},{"$f":"IF(DataInformation!AI146<>\"\",DataInformation!AI146,\"\")","v":28},{"$f":"IF(DataInformation!AJ146<>\"\",DataInformation!AJ146,\"\")","v":0}]
[{"$f":"IF(DataInformation!A147<>\"\",DataInformation!A147,\"\")","v":200650},{"$f":"IF(DataInformation!B147<>\"\",DataInformation!B147,\"\")","v":147},{"$f":"IF(DataInformation!C147<>\"\",DataInformation!C147,\"\")","v":137},{"$f":"IF(DataInformation!D147<>\"\",DataInformation!D147,\"\")","v":35},{"$f":"IF(DataInformation!H147<>\"\",DataInformation!H147,\"\")","v":33},{"$f":"IF(DataInformation!R147<>\"\",DataInformation!R147,\"\")","v":137},{"$f":"IF(DataInformation!S147<>\"\",DataInformation!S147,\"\")","v":105},null,{"$f":"IF(DataInformation!T147<>\"\",DataInformation!T147,\"\")","v":11},{"$f":"IF(DataInformation!V147<>\"\",DataInformation!V147,\"\")","v":10},{"$f":"IF(DataInformation!W147<>\"\",DataInformation!W147,\"\")","v":33},{"$f":"IF(DataInformation!Z147<>\"\",DataInformation!Z147,\"\")","v":54},{"$f":"IF(DataInformation!AA147<>\"\",DataInformation!AA147,\"\")","v":51},null,{"$f":"IF(DataInformation!AD147<>\"\",DataInformation!AD147,\"\")","v":0},{"$f":"IF(DataInformation!AF147<>\"\",DataInformation!AF147,\"\")","v":12},null,{"$f":"IF(DataInformation!AG147<>\"\",DataInformation!AG147,\"\")","v":35},{"$f":"IF(DataInformation!AH147<>\"\",DataInformation!AH147,\"\")","v":25},{"$f":"IF(DataInformation!AI147<>\"\",DataInformation!AI147,\"\")","v":25},{"$f":"IF(DataInformation!AJ147<>\"\",DataInformation!AJ147,\"\")","v":0}]
[{"$f":"IF(DataInformation!A148<>\"\",DataInformation!A148,\"\")","v":200671.76},{"$f":"IF(DataInformation!B148<>\"\",DataInformation!B148,\"\")","v":21.6},{"$f":"IF(DataInformation!C148<>\"\",DataInformation!C148,\"\")","v":20},{"$f":"IF(DataInformation!D148<>\"\",DataInformation!D148,\"\")","v":5.6},{"$f":"IF(DataInformation!H148<>\"\",DataInformation!H148,\"\")","v":5},{"$f":"IF(DataInformation!R148<>\"\",DataInformation!R148,\"\")","v":20},{"$f":"IF(DataInformation!S148<>\"\",DataInformation!S148,\"\")","v":15},null,{"$f":"IF(DataInformation!T148<>\"\",DataInformation!T148,\"\")","v":1},{"$f":"IF(DataInformation!V148<>\"\",DataInformation!V148,\"\")","v":1.5999999999999996},{"$f":"IF(DataInformation!W148<>\"\",DataInformation!W148,\"\")","v":5},{"$f":"IF(DataInformation!Z148<>\"\",DataInformation!Z148,\"\")","v":7.6},{"$f":"IF(DataInformation!AA148<>\"\",DataInformation!AA148,\"\")","v":7.4},null,{"$f":"IF(DataInformation!AD148<>\"\",DataInformation!AD148,\"\")","v":0},{"$f":"IF(DataInformation!AF148<>\"\",DataInformation!AF148,\"\")","v":10},null,{"$f":"IF(DataInformation!AG148<>\"\",DataInformation!AG148,\"\")","v":5.6},{"$f":"IF(DataInformation!AH148<>\"\",DataInformation!AH148,\"\")","v":4},{"$f":"IF(DataInformation!AI148<>\"\",DataInformation!AI148,\"\")","v":4},{"$f":"IF(DataInformation!AJ148<>\"\",DataInformation!AJ148,\"\")","v":0}]
[{"$f":"IF(DataInformation!A149<>\"\",DataInformation!A149,\"\")","v":200675},{"$f":"IF(DataInformation!B149<>\"\",DataInformation!B149,\"\")","v":164.6},{"$f":"IF(DataInformation!C149<>\"\",DataInformation!C149,\"\")","v":153},{"$f":"IF(DataInformation!D149<>\"\",DataInformation!D149,\"\")","v":40.599999999999994},{"$f":"IF(DataInformation!H149<>\"\",DataInformation!H149,\"\")","v":37},{"$f":"IF(DataInformation!R149<>\"\",DataInformation!R149,\"\")","v":153},{"$f":"IF(DataInformation!S149<>\"\",DataInformation!S149,\"\")","v":118},null,{"$f":"IF(DataInformation!T149<>\"\",DataInformation!T149,\"\")","v":11},{"$f":"IF(DataInformation!V149<>\"\",DataInformation!V149,\"\")","v":11.599999999999994},{"$f":"IF(DataInformation!W149<>\"\",DataInformation!W149,\"\")","v":37},{"$f":"IF(DataInformation!Z149<>\"\",DataInformation!Z149,\"\")","v":59.599999999999994},{"$f":"IF(DataInformation!AA149<>\"\",DataInformation!AA149,\"\")","v":58.400000000000006},null,{"$f":"IF(DataInformation!AD149<>\"\",DataInformation!AD149,\"\")","v":0},{"$f":"IF(DataInformation!AF149<>\"\",DataInformation!AF149,\"\")","v":1},null,{"$f":"IF(DataInformation!AG149<>\"\",DataInformation!AG149,\"\")","v":40.599999999999994},{"$f":"IF(DataInformation!AH149<>\"\",DataInformation!AH149,\"\")","v":29},{"$f":"IF(DataInformation!AI149<>\"\",DataInformation!AI149,\"\")","v":29},{"$f":"IF(DataInformation!AJ149<>\"\",DataInformation!AJ149,\"\")","v":0}]
[{"$f":"IF(DataInformation!A150<>\"\",DataInformation!A150,\"\")","v":200700},{"$f":"IF(DataInformation!B150<>\"\",DataInformation!B150,\"\")","v":157.6},{"$f":"IF(DataInformation!C150<>\"\",DataInformation!C150,\"\")","v":146},{"$f":"IF(DataInformation!D150<>\"\",DataInformation!D150,\"\")","v":40.599999999999994},{"$f":"IF(DataInformation!H150<>\"\",DataInformation!H150,\"\")","v":37},{"$f":"IF(DataInformation!R150<>\"\",DataInformation!R150,\"\")","v":146},{"$f":"IF(DataInformation!S150<>\"\",DataInformation!S150,\"\")","v":112},null,{"$f":"IF(DataInformation!T150<>\"\",DataInformation!T150,\"\")","v":9},{"$f":"IF(DataInformation!V150<>\"\",DataInformation!V150,\"\")","v":11.599999999999994},{"$f":"IF(DataInformation!W150<>\"\",DataInformation!W150,\"\")","v":37},{"$f":"IF(DataInformation!Z150<>\"\",DataInformation!Z150,\"\")","v":57.599999999999994},{"$f":"IF(DataInformation!AA150<>\"\",DataInformation!AA150,\"\")","v":54.400000000000006},null,{"$f":"IF(DataInformation!AD150<>\"\",DataInformation!AD150,\"\")","v":0},{"$f":"IF(DataInformation!AF150<>\"\",DataInformation!AF150,\"\")","v":8},null,{"$f":"IF(DataInformation!AG150<>\"\",DataInformation!AG150,\"\")","v":40.599999999999994},{"$f":"IF(DataInformation!AH150<>\"\",DataInformation!AH150,\"\")","v":29},{"$f":"IF(DataInformation!AI150<>\"\",DataInformation!AI150,\"\")","v":29},{"$f":"IF(DataInformation!AJ150<>\"\",DataInformation!AJ150,\"\")","v":0}]
[{"$f":"IF(DataInformation!A151<>\"\",DataInformation!A151,\"\")","v":200725},{"$f":"IF(DataInformation!B151<>\"\",DataInformation!B151,\"\")","v":144.80000000000001},{"$f":"IF(DataInformation!C151<>\"\",DataInformation!C151,\"\")","v":134},{"$f":"IF(DataInformation!D151<>\"\",DataInformation!D151,\"\")","v":37.799999999999997},{"$f":"IF(DataInformation!H151<>\"\",DataInformation!H151,\"\")","v":36},{"$f":"IF(DataInformation!R151<>\"\",DataInformation!R151,\"\")","v":134},{"$f":"IF(DataInformation!S151<>\"\",DataInformation!S151,\"\")","v":103},null,{"$f":"IF(DataInformation!T151<>\"\",DataInformation!T151,\"\")","v":4},{"$f":"IF(DataInformation!V151<>\"\",DataInformation!V151,\"\")","v":10.799999999999997},{"$f":"IF(DataInformation!W151<>\"\",DataInformation!W151,\"\")","v":36},{"$f":"IF(DataInformation!Z151<>\"\",DataInformation!Z151,\"\")","v":50.8},{"$f":"IF(DataInformation!AA151<>\"\",DataInformation!AA151,\"\")","v":52.2},null,{"$f":"IF(DataInformation!AD151<>\"\",DataInformation!AD151,\"\")","v":0},{"$f":"IF(DataInformation!AF151<>\"\",DataInformation!AF151,\"\")","v":3},null,{"$f":"IF(DataInformation!AG151<>\"\",DataInformation!AG151,\"\")","v":37.799999999999997},{"$f":"IF(DataInformation!AH151<>\"\",DataInformation!AH151,\"\")","v":27},{"$f":"IF(DataInformation!AI151<>\"\",DataInformation!AI151,\"\")","v":27},{"$f":"IF(DataInformation!AJ151<>\"\",DataInformation!AJ151,\"\")","v":0}]
[{"$f":"IF(DataInformation!A152<>\"\",DataInformation!A152,\"\")","v":200750},{"$f":"IF(DataInformation!B152<>\"\",DataInformation!B152,\"\")","v":129.6},{"$f":"IF(DataInformation!C152<>\"\",DataInformation!C152,\"\")","v":120},{"$f":"IF(DataInformation!D152<>\"\",DataInformation!D152,\"\")","v":33.599999999999994},{"$f":"IF(DataInformation!H152<>\"\",DataInformation!H152,\"\")","v":38},{"$f":"IF(DataInformation!R152<>\"\",DataInformation!R152,\"\")","v":120},{"$f":"IF(DataInformation!S152<>\"\",DataInformation!S152,\"\")","v":92},null,{"$f":"IF(DataInformation!T152<>\"\",DataInformation!T152,\"\")","v":1},{"$f":"IF(DataInformation!V152<>\"\",DataInformation!V152,\"\")","v":9.5999999999999943},{"$f":"IF(DataInformation!W152<>\"\",DataInformation!W152,\"\")","v":38},{"$f":"IF(DataInformation!Z152<>\"\",DataInformation!Z152,\"\")","v":48.599999999999994},{"$f":"IF(DataInformation!AA152<>\"\",DataInformation!AA152,\"\")","v":43.400000000000006},null,{"$f":"IF(DataInformation!AD152<>\"\",DataInformation!AD152,\"\")","v":0},{"$f":"IF(DataInformation!AF152<>\"\",DataInformation!AF152,\"\")","v":0},null,{"$f":"IF(DataInformation!AG152<>\"\",DataInformation!AG152,\"\")","v":33.599999999999994},{"$f":"IF(DataInformation!AH152<>\"\",DataInformation!AH152,\"\")","v":24},{"$f":"IF(DataInformation!AI152<>\"\",DataInformation!AI152,\"\")","v":24},{"$f":"IF(DataInformation!AJ152<>\"\",DataInformation!AJ152,\"\")","v":0}]
[{"$f":"IF(DataInformation!A153<>\"\",DataInformation!A153,\"\")","v":200775},{"$f":"IF(DataInformation!B153<>\"\",DataInformation!B153,\"\")","v":156},{"$f":"IF(DataInformation!C153<>\"\",DataInformation!C153,\"\")","v":144},{"$f":"IF(DataInformation!D153<>\"\",DataInformation!D153,\"\")","v":42},{"$f":"IF(DataInformation!H153<>\"\",DataInformation!H153,\"\")","v":41},{"$f":"IF(DataInformation!R153<>\"\",DataInformation!R153,\"\")","v":144},{"$f":"IF(DataInformation!S153<>\"\",DataInformation!S153,\"\")","v":111},null,{"$f":"IF(DataInformation!T153<>\"\",DataInformation!T153,\"\")","v":4},{"$f":"IF(DataInformation!V153<>\"\",DataInformation!V153,\"\")","v":12},{"$f":"IF(DataInformation!W153<>\"\",DataInformation!W153,\"\")","v":41},{"$f":"IF(DataInformation!Z153<>\"\",DataInformation!Z153,\"\")","v":57},{"$f":"IF(DataInformation!AA153<>\"\",DataInformation!AA153,\"\")","v":54},null,{"$f":"IF(DataInformation!AD153<>\"\",DataInformation!AD153,\"\")","v":0},{"$f":"IF(DataInformation!AF153<>\"\",DataInformation!AF153,\"\")","v":3},null,{"$f":"IF(DataInformation!AG153<>\"\",DataInformation!AG153,\"\")","v":42},{"$f":"IF(DataInformation!AH153<>\"\",DataInformation!AH153,\"\")","v":30},{"$f":"IF(DataInformation!AI153<>\"\",DataInformation!AI153,\"\")","v":30},{"$f":"IF(DataInformation!AJ153<>\"\",DataInformation!AJ153,\"\")","v":0}]
[{"$f":"IF(DataInformation!A154<>\"\",DataInformation!A154,\"\")","v":200800},{"$f":"IF(DataInformation!B154<>\"\",DataInformation!B154,\"\")","v":225.2},{"$f":"IF(DataInformation!C154<>\"\",DataInformation!C154,\"\")","v":210},{"$f":"IF(DataInformation!D154<>\"\",DataInformation!D154,\"\")","v":53.199999999999996},{"$f":"IF(DataInformation!H154<>\"\",DataInformation!H154,\"\")","v":43},{"$f":"IF(DataInformation!R154<>\"\",DataInformation!R154,\"\")","v":210},{"$f":"IF(DataInformation!S154<>\"\",DataInformation!S154,\"\")","v":162},null,{"$f":"IF(DataInformation!T154<>\"\",DataInformation!T154,\"\")","v":4},{"$f":"IF(DataInformation!V154<>\"\",DataInformation!V154,\"\")","v":15.199999999999996},{"$f":"IF(DataInformation!W154<>\"\",DataInformation!W154,\"\")","v":43},{"$f":"IF(DataInformation!Z154<>\"\",DataInformation!Z154,\"\")","v":62.199999999999996},{"$f":"IF(DataInformation!AA154<>\"\",DataInformation!AA154,\"\")","v":99.800000000000011},null,{"$f":"IF(DataInformation!AD154<>\"\",DataInformation!AD154,\"\")","v":0},{"$f":"IF(DataInformation!AF154<>\"\",DataInformation!AF154,\"\")","v":4},null,{"$f":"IF(DataInformation!AG154<>\"\",DataInformation!AG154,\"\")","v":53.199999999999996},{"$f":"IF(DataInformation!AH154<>\"\",DataInformation!AH154,\"\")","v":38},{"$f":"IF(DataInformation!AI154<>\"\",DataInformation!AI154,\"\")","v":38},{"$f":"IF(DataInformation!AJ154<>\"\",DataInformation!AJ154,\"\")","v":0}]
[{"$f":"IF(DataInformation!A155<>\"\",DataInformation!A155,\"\")","v":200825},{"$f":"IF(DataInformation!B155<>\"\",DataInformation!B155,\"\")","v":321.2},{"$f":"IF(DataInformation!C155<>\"\",DataInformation!C155,\"\")","v":304},{"$f":"IF(DataInformation!D155<>\"\",DataInformation!D155,\"\")","v":60.199999999999996},{"$f":"IF(DataInformation!H155<>\"\",DataInformation!H155,\"\")","v":43},{"$f":"IF(DataInformation!R155<>\"\",DataInformation!R155,\"\")","v":304},{"$f":"IF(DataInformation!S155<>\"\",DataInformation!S155,\"\")","v":234},null,{"$f":"IF(DataInformation!T155<>\"\",DataInformation!T155,\"\")","v":1},{"$f":"IF(DataInformation!V155<>\"\",DataInformation!V155,\"\")","v":17.199999999999996},{"$f":"IF(DataInformation!W155<>\"\",DataInformation!W155,\"\")","v":43},{"$f":"IF(DataInformation!Z155<>\"\",DataInformation!Z155,\"\")","v":61.199999999999996},{"$f":"IF(DataInformation!AA155<>\"\",DataInformation!AA155,\"\")","v":172.8},null,{"$f":"IF(DataInformation!AD155<>\"\",DataInformation!AD155,\"\")","v":0},{"$f":"IF(DataInformation!AF155<>\"\",DataInformation!AF155,\"\")","v":0},null,{"$f":"IF(DataInformation!AG155<>\"\",DataInformation!AG155,\"\")","v":60.199999999999996},{"$f":"IF(DataInformation!AH155<>\"\",DataInformation!AH155,\"\")","v":43},{"$f":"IF(DataInformation!AI155<>\"\",DataInformation!AI155,\"\")","v":43},{"$f":"IF(DataInformation!AJ155<>\"\",DataInformation!AJ155,\"\")","v":0}]
[{"$f":"IF(DataInformation!A156<>\"\",DataInformation!A156,\"\")","v":200850},{"$f":"IF(DataInformation!B156<>\"\",DataInformation!B156,\"\")","v":421},{"$f":"IF(DataInformation!C156<>\"\",DataInformation!C156,\"\")","v":401},{"$f":"IF(DataInformation!D156<>\"\",DataInformation!D156,\"\")","v":70},{"$f":"IF(DataInformation!H156<>\"\",DataInformation!H156,\"\")","v":40},{"$f":"IF(DataInformation!R156<>\"\",DataInformation!R156,\"\")","v":401},{"$f":"IF(DataInformation!S156<>\"\",DataInformation!S156,\"\")","v":308},null,{"$f":"IF(DataInformation!T156<>\"\",DataInformation!T156,\"\")","v":4},{"$f":"IF(DataInformation!V156<>\"\",DataInformation!V156,\"\")","v":20},{"$f":"IF(DataInformation!W156<>\"\",DataInformation!W156,\"\")","v":40},{"$f":"IF(DataInformation!Z156<>\"\",DataInformation!Z156,\"\")","v":64},{"$f":"IF(DataInformation!AA156<>\"\",DataInformation!AA156,\"\")","v":244},null,{"$f":"IF(DataInformation!AD156<>\"\",DataInformation!AD156,\"\")","v":0},{"$f":"IF(DataInformation!AF156<>\"\",DataInformation!AF156,\"\")","v":4},null,{"$f":"IF(DataInformation!AG156<>\"\",DataInformation!AG156,\"\")","v":70},{"$f":"IF(DataInformation!AH156<>\"\",DataInformation!AH156,\"\")","v":50},{"$f":"IF(DataInformation!AI156<>\"\",DataInformation!AI156,\"\")","v":50},{"$f":"IF(DataInformation!AJ156<>\"\",DataInformation!AJ156,\"\")","v":0}]
[{"$f":"IF(DataInformation!A157<>\"\",DataInformation!A157,\"\")","v":200875},{"$f":"IF(DataInformation!B157<>\"\",DataInformation!B157,\"\")","v":529.6},{"$f":"IF(DataInformation!C157<>\"\",DataInformation!C157,\"\")","v":504},{"$f":"IF(DataInformation!D157<>\"\",DataInformation!D157,\"\")","v":89.6},{"$f":"IF(DataInformation!H157<>\"\",DataInformation!H157,\"\")","v":37},{"$f":"IF(DataInformation!R157<>\"\",DataInformation!R157,\"\")","v":504},{"$f":"IF(DataInformation!S157<>\"\",DataInformation!S157,\"\")","v":388},null,{"$f":"IF(DataInformation!T157<>\"\",DataInformation!T157,\"\")","v":60},{"$f":"IF(DataInformation!V157<>\"\",DataInformation!V157,\"\")","v":25.599999999999994},{"$f":"IF(DataInformation!W157<>\"\",DataInformation!W157,\"\")","v":37},{"$f":"IF(DataInformation!Z157<>\"\",DataInformation!Z157,\"\")","v":122.6},{"$f":"IF(DataInformation!AA157<>\"\",DataInformation!AA157,\"\")","v":265.39999999999998},null,{"$f":"IF(DataInformation!AD157<>\"\",DataInformation!AD157,\"\")","v":0},{"$f":"IF(DataInformation!AF157<>\"\",DataInformation!AF157,\"\")","v":60},null,{"$f":"IF(DataInformation!AG157<>\"\",DataInformation!AG157,\"\")","v":89.6},{"$f":"IF(DataInformation!AH157<>\"\",DataInformation!AH157,\"\")","v":64},{"$f":"IF(DataInformation!AI157<>\"\",DataInformation!AI157,\"\")","v":64},{"$f":"IF(DataInformation!AJ157<>\"\",DataInformation!AJ157,\"\")","v":0}]
[{"$f":"IF(DataInformation!A158<>\"\",DataInformation!A158,\"\")","v":200900},{"$f":"IF(DataInformation!B158<>\"\",DataInformation!B158,\"\")","v":717.6},{"$f":"IF(DataInformation!C158<>\"\",DataInformation!C158,\"\")","v":684},{"$f":"IF(DataInformation!D158<>\"\",DataInformation!D158,\"\")","v":117.6},{"$f":"IF(DataInformation!H158<>\"\",DataInformation!H158,\"\")","v":38},{"$f":"IF(DataInformation!R158<>\"\",DataInformation!R158,\"\")","v":684},{"$f":"IF(DataInformation!S158<>\"\",DataInformation!S158,\"\")","v":526},null,{"$f":"IF(DataInformation!T158<>\"\",DataInformation!T158,\"\")","v":167},{"$f":"IF(DataInformation!V158<>\"\",DataInformation!V158,\"\")","v":33.599999999999994},{"$f":"IF(DataInformation!W158<>\"\",DataInformation!W158,\"\")","v":38},{"$f":"IF(DataInformation!Z158<>\"\",DataInformation!Z158,\"\")","v":238.6},{"$f":"IF(DataInformation!AA158<>\"\",DataInformation!AA158,\"\")","v":287.39999999999998},null,{"$f":"IF(DataInformation!AD158<>\"\",DataInformation!AD158,\"\")","v":0},{"$f":"IF(DataInformation!AF158<>\"\",DataInformation!AF158,\"\")","v":167},null,{"$f":"IF(DataInformation!AG158<>\"\",DataInformation!AG158,\"\")","v":117.6},{"$f":"IF(DataInformation!AH158<>\"\",DataInformation!AH158,\"\")","v":84},{"$f":"IF(DataInformation!AI158<>\"\",DataInformation!AI158,\"\")","v":84},{"$f":"IF(DataInformation!AJ158<>\"\",DataInformation!AJ158,\"\")","v":0}]
[{"$f":"IF(DataInformation!A159<>\"\",DataInformation!A159,\"\")","v":200925},{"$f":"IF(DataInformation!B159<>\"\",DataInformation!B159,\"\")","v":1018.4},{"$f":"IF(DataInformation!C159<>\"\",DataInformation!C159,\"\")","v":974},{"$f":"IF(DataInformation!D159<>\"\",DataInformation!D159,\"\")","v":155.39999999999998},{"$f":"IF(DataInformation!H159<>\"\",DataInformation!H159,\"\")","v":41},{"$f":"IF(DataInformation!R159<>\"\",DataInformation!R159,\"\")","v":974},{"$f":"IF(DataInformation!S159<>\"\",DataInformation!S159,\"\")","v":749},null,{"$f":"IF(DataInformation!T159<>\"\",DataInformation!T159,\"\")","v":295},{"$f":"IF(DataInformation!V159<>\"\",DataInformation!V159,\"\")","v":44.399999999999977},{"$f":"IF(DataInformation!W159<>\"\",DataInformation!W159,\"\")","v":41},{"$f":"IF(DataInformation!Z159<>\"\",DataInformation!Z159,\"\")","v":380.4},{"$f":"IF(DataInformation!AA159<>\"\",DataInformation!AA159,\"\")","v":368.6},null,{"$f":"IF(DataInformation!AD159<>\"\",DataInformation!AD159,\"\")","v":0},{"$f":"IF(DataInformation!AF159<>\"\",DataInformation!AF159,\"\")","v":294},null,{"$f":"IF(DataInformation!AG159<>\"\",DataInformation!AG159,\"\")","v":155.39999999999998},{"$f":"IF(DataInformation!AH159<>\"\",DataInformation!AH159,\"\")","v":111},{"$f":"IF(DataInformation!AI159<>\"\",DataInformation!AI159,\"\")","v":111},{"$f":"IF(DataInformation!AJ159<>\"\",DataInformation!AJ159,\"\")","v":0}]
[{"$f":"IF(DataInformation!A160<>\"\",DataInformation!A160,\"\")","v":200950},{"$f":"IF(DataInformation!B160<>\"\",DataInformation!B160,\"\")","v":1011.6},{"$f":"IF(DataInformation!C160<>\"\",DataInformation!C160,\"\")","v":966},{"$f":"IF(DataInformation!D160<>\"\",DataInformation!D160,\"\")","v":159.6},{"$f":"IF(DataInformation!H160<>\"\",DataInformation!H160,\"\")","v":49},{"$f":"IF(DataInformation!R160<>\"\",DataInformation!R160,\"\")","v":966},{"$f":"IF(DataInformation!S160<>\"\",DataInformation!S160,\"\")","v":743},null,{"$f":"IF(DataInformation!T160<>\"\",DataInformation!T160,\"\")","v":416},{"$f":"IF(DataInformation!V160<>\"\",DataInformation!V160,\"\")","v":45.599999999999994},{"$f":"IF(DataInformation!W160<>\"\",DataInformation!W160,\"\")","v":49},{"$f":"IF(DataInformation!Z160<>\"\",DataInformation!Z160,\"\")","v":510.6},{"$f":"IF(DataInformation!AA160<>\"\",DataInformation!AA160,\"\")","v":232.39999999999998},null,{"$f":"IF(DataInformation!AD160<>\"\",DataInformation!AD160,\"\")","v":0},{"$f":"IF(DataInformation!AF160<>\"\",DataInformation!AF160,\"\")","v":416},null,{"$f":"IF(DataInformation!AG160<>\"\",DataInformation!AG160,\"\")","v":159.6},{"$f":"IF(DataInformation!AH160<>\"\",DataInformation!AH160,\"\")","v":114},{"$f":"IF(DataInformation!AI160<>\"\",DataInformation!AI160,\"\")","v":114},{"$f":"IF(DataInformation!AJ160<>\"\",DataInformation!AJ160,\"\")","v":0}]
[{"$f":"IF(DataInformation!A161<>\"\",DataInformation!A161,\"\")","v":200975},{"$f":"IF(DataInformation!B161<>\"\",DataInformation!B161,\"\")","v":0},{"$f":"IF(DataInformation!C161<>\"\",DataInformation!C161,\"\")","v":0},{"$f":"IF(DataInformation!D161<>\"\",DataInformation!D161,\"\")","v":0},{"$f":"IF(DataInformation!H161<>\"\",DataInformation!H161,\"\")","v":0},{"$f":"IF(DataInformation!R161<>\"\",DataInformation!R161,\"\")","v":0},{"$f":"IF(DataInformation!S161<>\"\",DataInformation!S161,\"\")","v":0},null,{"$f":"IF(DataInformation!T161<>\"\",DataInformation!T161,\"\")","v":0},{"$f":"IF(DataInformation!V161<>\"\",DataInformation!V161,\"\")","v":""},{"$f":"IF(DataInformation!W161<>\"\",DataInformation!W161,\"\")","v":""},{"$f":"IF(DataInformation!Z161<>\"\",DataInformation!Z161,\"\")","v":0},{"$f":"IF(DataInformation!AA161<>\"\",DataInformation!AA161,\"\")","v":0},null,{"$f":"IF(DataInformation!AD161<>\"\",DataInformation!AD161,\"\")","v":0},{"$f":"IF(DataInformation!AF161<>\"\",DataInformation!AF161,\"\")","v":233},null,{"$f":"IF(DataInformation!AG161<>\"\",DataInformation!AG161,\"\")","v":0},{"$f":"IF(DataInformation!AH161<>\"\",DataInformation!AH161,\"\")","v":0},{"$f":"IF(DataInformation!AI161<>\"\",DataInformation!AI161,\"\")","v":0},{"$f":"IF(DataInformation!AJ161<>\"\",DataInformation!AJ161,\"\")","v":0}]
[]
["Subtotals:",{"$f":"SUBTOTAL(9,B143:B165)","v":6137.9999999999991},5808,1155,759,5808,4467,0,1012,329.99999999999989,759,2101,2366,0,0,1234,0,1155,825,825,0]
["","","","","","","","","","","","","","","","","","","","","",""]
[]
[]
[]
["Project Totals:",{"$f":"IF(SUBTOTAL(9,B3:B168)<>0,SUBTOTAL(9,B3:B168),\"\")","v":32235.799999999992},29827,8430.8000000000029,7360,29827,22948,"",18543,2408.7999999999993,7360,28311.799999999992,-5363.7999999999947,"","",27981,"",8430.8000000000029,6022,6022,""]

{"sheet":"107_28","index":4,"n_rows":561,"n_cols":194,"rows_kept":561,"cut":false,"hidden":false,"merged":[[382,2,391,16],[382,65,384,104],[382,105,384,120],[382,121,384,152],[385,113,387,120],[385,121,387,128],[385,129,387,136],[385,137,387,144],[385,145,387,152],[385,153,387,160],[385,161,387,168],[385,169,387,176],[388,17,391,24],[388,25,391,32],[388,33,391,40],[388,41,391,48],[388,49,391,56],[388,57,391,64],[388,65,391,72],[388,73,391,80],[388,81,391,88],[388,89,391,96],[388,97,391,104],[388,105,391,112],[388,113,391,120],[388,121,391,128],[388,129,391,136],[559,1,560,193],[8,17,10,64],[195,17,197,64],[382,17,384,64],[378,2,381,57],[378,58,381,136],[378,137,379,192],[380,137,381,192],[550,145,551,152],[550,153,551,160],[550,161,551,168],[550,169,551,176],[550,177,551,184],[550,185,551,192],[551,2,552,16],[552,17,552,192],[555,1,558,7],[555,8,558,14],[555,15,558,21],[555,22,558,30],[555,31,558,72],[555,73,558,115],[555,116,558,121],[382,153,384,160],[382,161,384,168],[382,169,384,176],[382,177,384,184],[382,185,384,192],[385,17,387,24],[385,25,387,32],[385,33,387,40],[385,41,387,48],[550,129,551,136],[550,137,551,144],[555,122,558,133],[555,134,558,163],[555,164,558,173],[555,174,558,179],[555,180,558,185],[555,186,558,193],[548,73,549,80],[548,81,549,88],[548,89,549,96],[548,97,549,104],[548,105,549,112],[548,113,549,120],[548,121,549,128],[548,129,549,136],[548,137,549,144],[548,145,549,152],[548,153,549,160],[548,161,549,168],[548,169,549,176],[548,177,549,184],[548,185,549,192],[548,57,549,64],[548,65,549,72],[549,2,550,16],[550,17,551,24],[550,25,551,32],[550,33,551,40],[550,41,551,48],[550,49,551,56],[550,57,551,64],[550,65,551,72],[550,73,551,80],[550,81,551,88],[550,89,551,96],[550,97,551,104],[550,105,551,112],[550,113,551,120],[550,121,551,128],[544,169,545,176],[544,177,545,184],[544,185,545,192],[545,2,546,16],[546,17,547,24],[546,25,547,32],[546,33,547,40],[546,41,547,48],[546,49,547,56],[546,57,547,64],[546,65,547,72],[546,73,547,80],[546,81,547,88],[546,89,547,96],[546,97,547,104],[546,105,547,112],[546,113,547,120],[546,121,547,128],[546,129,547,136],[546,137,547,144],[546,145,547,152],[546,153,547,160],[546,161,547,168],[546,169,547,176],[546,177,547,184],[546,185,547,192],[547,2,548,16],[548,17,549,24],[548,25,549,32],[548,33,549,40],[548,41,549,48],[548,49,549,56],[540,41,541,48],[540,49,541,56],[539,2,540,16],[540,17,541,24],[540,25,541,32],[540,33,541,40],[542,145,543,152],[542,153,543,160],[542,161,543,168],[542,169,543,176],[542,177,543,184],[542,185,543,192],[543,2,544,16],[544,17,545,24],[544,25,545,32],[544,33,545,40],[544,41,545,48],[544,49,545,56],[544,57,545,64],[544,65,545,72],[544,73,545,80],[544,81,545,88],[544,89,545,96],[544,97,545,104],[544,105,545,112],[544,113,545,120],[544,121,545,128],[544,129,545,136],[544,137,545,144],[544,145,545,152],[544,153,545,160],[544,161,545,168],[538,161,539,168],[538,169,539,176],[538,177,539,184],[538,185,539,192],[541,2,542,16],[542,17,543,24],[542,25,543,32],[542,33,543,40],[542,41,543,48],[542,49,543,56],[542,57,543,64],[542,65,543,72],[542,73,543,80],[542,81,543,88],[542,89,543,96],[542,97,543,104],[542,105,543,112],[542,113,543,120],[542,121,543,128],[542,129,543,136],[542,137,543,144],[540,57,541,64],[540,65,541,72],[540,73,541,80],[540,81,541,88],[540,89,541,96],[540,97,541,104],[540,105,541,112],[540,113,541,120],[540,121,541,128],[540,129,541,136],[540,137,541,144],[536,129,537,136],[536,137,537,144],[536,145,537,152],[540,145,541,152],[536,153,537,160],[540,153,541,160],[540,161,541,168],[540,169,541,176],[540,177,541,184],[540,185,541,192],[536,169,537,176],[536,177,537,184],[536,185,537,192],[537,2,538,16],[538,17,539,24],[538,25,539,32],[538,33,539,40],[538,41,539,48],[538,49,539,56],[538,57,539,64],[538,65,539,72],[538,73,539,80],[538,81,539,88],[538,89,539,96],[538,97,539,104],[538,105,539,112],[538,113,539,120],[538,121,539,128],[538,129,539,136],[538,137,539,144],[538,145,539,152],[538,153,539,160],[536,161,537,168],[532,145,533,152],[532,153,533,160],[532,161,533,168],[532,169,533,176],[532,177,533,184],[532,185,533,192],[533,2,534,16],[534,17,535,24],[534,25,535,32],[534,33,535,40],[534,41,535,48],[534,49,535,56],[534,57,535,64],[534,65,535,72],[534,73,535,80],[534,81,535,88],[534,89,535,96],[534,97,535,104],[534,105,535,112],[534,113,535,120],[534,121,535,128],[534,129,535,136],[534,137,535,144],[534,145,535,152],[534,153,535,160],[534,161,535,168],[534,169,535,176],[534,177,535,184],[534,185,535,192],[535,2,536,16],[536,17,537,24],[536,25,537,32],[531,2,532,16],[532,17,533,24],[532,25,533,32],[532,33,533,40],[532,41,533,48],[532,49,533,56],[532,57,533,64],[532,65,533,72],[532,73,533,80],[532,81,533,88],[532,89,533,96],[532,97,533,104],[532,105,533,112],[532,113,533,120],[532,121,533,128],[530,41,531,48],[530,49,531,56],[536,33,537,40],[536,41,537,48],[536,49,537,56],[536,57,537,64],[536,65,537,72],[536,73,537,80],[536,81,537,88],[536,89,537,96],[536,97,537,104],[536,105,537,112],[536,113,537,120],[536,121,537,128],[532,129,533,136],[532,137,533,144],[530,57,531,64],[530,65,531,72],[530,73,531,80],[530,81,531,88],[530,89,531,96],[530,97,531,104],[530,105,531,112],[530,113,531,120],[530,121,531,128],[530,129,531,136],[530,137,531,144],[530,145,531,152],[530,153,531,160],[530,161,531,168],[530,169,531,176],[530,177,531,184],[530,185,531,192],[526,169,527,176],[526,177,527,184],[526,185,527,192],[527,2,528,16],[528,17,529,24],[528,25,529,32],[528,33,529,40],[528,41,529,48],[528,49,529,56],[528,57,529,64],[528,65,529,72],[528,73,529,80],[528,81,529,88],[528,89,529,96],[528,97,529,104],[528,105,529,112],[528,113,529,120],[528,121,529,128],[528,129,529,136],[528,137,529,144],[528,145,529,152],[528,153,529,160],[528,161,529,168],[528,169,529,176],[528,177,529,184],[528,185,529,192],[529,2,530,16],[530,17,531,24],[530,25,531,32],[530,33,531,40],[524,169,525,176],[524,177,525,184],[524,185,525,192],[525,2,526,16],[526,17,527,24],[526,25,527,32],[526,33,527,40],[526,41,527,48],[526,49,527,56],[526,57,527,64],[526,65,527,72],[526,73,527,80],[526,81,527,88],[526,89,527,96],[526,97,527,104],[526,105,527,112],[526,113,527,120],[526,121,527,128],[526,129,527,136],[526,137,527,144],[526,145,527,152],[526,153,527,160],[526,161,527,168],[520,41,521,48],[520,49,521,56],[519,2,520,16],[520,17,521,24],[520,25,521,32],[520,33,521,40],[522,145,523,152],[522,153,523,160],[522,161,523,168],[522,169,523,176],[522,177,523,184],[522,185,523,192],[523,2,524,16],[524,17,525,24],[524,25,525,32],[524,33,525,40],[524,41,525,48],[524,49,525,56],[524,57,525,64],[524,65,525,72],[524,73,525,80],[524,81,525,88],[524,89,525,96],[524,97,525,104],[524,105,525,112],[524,113,525,120],[524,121,525,128],[524,129,525,136],[524,137,525,144],[524,145,525,152],[524,153,525,160],[524,161,525,168],[518,161,519,168],[518,169,519,176],[518,177,519,184],[518,185,519,192],[521,2,522,16],[522,17,523,24],[522,25,523,32],[522,33,523,40],[522,41,523,48],[522,49,523,56],[522,57,523,64],[522,65,523,72],[522,73,523,80],[522,81,523,88],[522,89,523,96],[522,97,523,104],[522,105,523,112],[522,113,523,120],[522,121,523,128],[522,129,523,136],[522,137,523,144],[520,57,521,64],[520,65,521,72],[520,73,521,80],[520,81,521,88],[520,89,521,96],[520,97,521,104],[520,105,521,112],[520,113,521,120],[520,121,521,128],[520,129,521,136],[520,137,521,144],[516,129,517,136],[516,137,517,144],[516,145,517,152],[520,145,521,152],[516,153,517,160],[520,153,521,160],[520,161,521,168],[520,169,521,176],[520,177,521,184],[520,185,521,192],[516,169,517,176],[516,177,517,184],[516,185,517,192],[517,2,518,16],[518,17,519,24],[518,25,519,32],[518,33,519,40],[518,41,519,48],[518,49,519,56],[518,57,519,64],[518,65,519,72],[518,73,519,80],[518,81,519,88],[518,89,519,96],[518,97,519,104],[518,105,519,112],[518,113,519,120],[518,121,519,128],[518,129,519,136],[518,137,519,144],[518,145,519,152],[518,153,519,160],[516,161,517,168],[512,145,513,152],[512,153,513,160],[512,161,513,168],[512,169,513,176],[512,177,513,184],[512,185,513,192],[513,2,514,16],[514,17,515,24],[514,25,515,32],[514,33,515,40],[514,41,515,48],[514,49,515,56],[514,57,515,64],[514,65,515,72],[514,73,515,80],[514,81,515,88],[514,89,515,96],[514,97,515,104],[514,105,515,112],[514,113,515,120],[514,121,515,128],[514,129,515,136],[514,137,515,144],[514,145,515,152],[514,153,515,160],[514,161,515,168],[514,169,515,176],[514,177,515,184],[514,185,515,192],[515,2,516,16],[516,17,517,24],[516,25,517,32],[511,2,512,16],[512,17,513,24],[512,25,513,32],[512,33,513,40],[512,41,513,48],[512,49,513,56],[512,57,513,64],[512,65,513,72],[512,73,513,80],[512,81,513,88],[512,89,513,96],[512,97,513,104],[512,105,513,112],[512,113,513,120],[512,121,513,128],[510,41,511,48],[510,49,511,56],[516,33,517,40],[516,41,517,48],[516,49,517,56],[516,57,517,64],[516,65,517,72],[516,73,517,80],[516,81,517,88],[516,89,517,96],[516,97,517,104],[516,105,517,112],[516,113,517,120],[516,121,517,128],[512,129,513,136],[512,137,513,144],[510,57,511,64],[510,65,511,72],[510,73,511,80],[510,81,511,88],[510,89,511,96],[510,97,511,104],[510,105,511,112],[510,113,511,120],[510,121,511,128],[510,129,511,136],[510,137,511,144],[510,145,511,152],[510,153,511,160],[510,161,511,168],[510,169,511,176],[510,177,511,184],[510,185,511,192],[506,169,507,176],[506,177,507,184],[506,185,507,192],[507,2,508,16],[508,17,509,24],[508,25,509,32],[508,33,509,40],[508,41,509,48],[508,49,509,56],[508,57,509,64],[508,65,509,72],[508,73,509,80],[508,81,509,88],[508,89,509,96],[508,97,509,104],[508,105,509,112],[508,113,509,120],[508,121,509,128],[508,129,509,136],[508,137,509,144],[508,145,509,152],[508,153,509,160],[508,161,509,168],[508,169,509,176],[508,177,509,184],[508,185,509,192],[509,2,510,16],[510,17,511,24],[510,25,511,32],[510,33,511,40],[504,169,505,176],[504,177,505,184],[504,185,505,192],[505,2,506,16],[506,17,507,24],[506,25,507,32],[506,33,507,40],[506,41,507,48],[506,49,507,56],[506,57,507,64],[506,65,507,72],[506,73,507,80],[506,81,507,88],[506,89,507,96],[506,97,507,104],[506,105,507,112],[506,113,507,120],[506,121,507,128],[506,129,507,136],[506,137,507,144],[506,145,507,152],[506,153,507,160],[506,161,507,168],[500,41,501,48],[500,49,501,56],[499,2,500,16],[500,17,501,24],[500,25,501,32],[500,33,501,40],[502,145,503,152],[502,153,503,160],[502,161,503,168],[502,169,503,176],[502,177,503,184],[502,185,503,192],[503,2,504,16],[504,17,505,24],[504,25,505,32],[504,33,505,40],[504,41,505,48],[504,49,505,56],[504,57,505,64],[504,65,505,72],[504,73,505,80],[504,81,505,88],[504,89,505,96],[504,97,505,104],[504,105,505,112],[504,113,505,120],[504,121,505,128],[504,129,505,136],[504,137,505,144],[504,145,505,152],[504,153,505,160],[504,161,505,168],[498,161,499,168],[498,169,499,176],[498,177,499,184],[498,185,499,192],[501,2,502,16],[502,17,503,24],[502,25,503,32],[502,33,503,40],[502,41,503,48],[502,49,503,56],[502,57,503,64],[502,65,503,72],[502,73,503,80],[502,81,503,88],[502,89,503,96],[502,97,503,104],[502,105,503,112],[502,113,503,120],[502,121,503,128],[502,129,503,136],[502,137,503,144],[500,57,501,64],[500,65,501,72],[500,73,501,80],[500,81,501,88],[500,89,501,96],[500,97,501,104],[500,105,501,112],[500,113,501,120],[500,121,501,128],[500,129,501,136],[500,137,501,144],[496,129,497,136],[496,137,497,144],[496,145,497,152],[500,145,501,152],[496,153,497,160],[500,153,501,160],[500,161,501,168],[500,169,501,176],[500,177,501,184],[500,185,501,192],[496,169,497,176],[496,177,497,184],[496,185,497,192],[497,2,498,16],[498,17,499,24],[498,25,499,32],[498,33,499,40],[498,41,499,48],[498,49,499,56],[498,57,499,64],[498,65,499,72],[498,73,499,80],[498,81,499,88],[498,89,499,96],[498,97,499,104],[498,105,499,112],[498,113,499,120],[498,121,499,128],[498,129,499,136],[498,137,499,144],[498,145,499,152],[498,153,499,160],[496,161,497,168],[492,145,493,152],[492,153,493,160],[492,161,493,168],[492,169,493,176],[492,177,493,184],[492,185,493,192],[493,2,494,16],[494,17,495,24],[494,25,495,32],[494,33,495,40],[494,41,495,48],[494,49,495,56],[494,57,495,64],[494,65,495,72],[494,73,495,80],[494,81,495,88],[494,89,495,96],[494,97,495,104],[494,105,495,112],[494,113,495,120],[494,121,495,128],[494,129,495,136],[494,137,495,144],[494,145,495,152],[494,153,495,160],[494,161,495,168],[494,169,495,176],[494,177,495,184],[494,185,495,192],[495,2,496,16],[496,17,497,24],[496,25,497,32],[491,2,492,16],[492,17,493,24],[492,25,493,32],[492,33,493,40],[492,41,493,48],[492,49,493,56],[492,57,493,64],[492,65,493,72],[492,73,493,80],[492,81,493,88],[492,89,493,96],[492,97,493,104],[492,105,493,112],[492,113,493,120],[492,121,493,128],[490,41,491,48],[490,49,491,56],[496,33,497,40],[496,41,497,48],[496,49,497,56],[496,57,497,64],[496,65,497,72],[496,73,497,80],[496,81,497,88],[496,89,497,96],[496,97,497,104],[496,105,497,112],[496,113,497,120],[496,121,497,128],[492,129,493,136],[492,137,493,144],[490,57,491,64],[490,65,491,72],[490,73,491,80],[490,81,491,88],[490,89,491,96],[490,97,491,104],[490,105,491,112],[490,113,491,120],[490,121,491,128],[490,129,491,136],[490,137,491,144],[490,145,491,152],[490,153,491,160],[490,161,491,168],[490,169,491,176],[490,177,491,184],[490,185,491,192],[486,169,487,176],[486,177,487,184],[486,185,487,192],[487,2,488,16],[488,17,489,24],[488,25,489,32],[488,33,489,40],[488,41,489,48],[488,49,489,56],[488,57,489,64],[488,65,489,72],[488,73,489,80],[488,81,489,88],[488,89,489,96],[488,97,489,104],[488,105,489,112],[488,113,489,120],[488,121,489,128],[488,129,489,136],[488,137,489,144],[488,145,489,152],[488,153,489,160],[488,161,489,168],[488,169,489,176],[488,177,489,184],[488,185,489,192],[489,2,490,16],[490,17,491,24],[490,25,491,32],[490,33,491,40],[484,169,485,176],[484,177,485,184],[484,185,485,192],[485,2,486,16],[486,17,487,24],[486,25,487,32],[486,33,487,40],[486,41,487,48],[486,49,487,56],[486,57,487,64],[486,65,487,72],[486,73,487,80],[486,81,487,88],[486,89,487,96],[486,97,487,104],[486,105,487,112],[486,113,487,120],[486,121,487,128],[486,129,487,136],[486,137,487,144],[486,145,487,152],[486,153,487,160],[486,161,487,168],[480,41,481,48],[480,49,481,56],[479,2,480,16],[480,17,481,24],[480,25,481,32],[480,33,481,40],[482,145,483,152],[482,153,483,160],[482,161,483,168],[482,169,483,176],[482,177,483,184],[482,185,483,192],[483,2,484,16],[484,17,485,24],[484,25,485,32],[484,33,485,40],[484,41,485,48],[484,49,485,56],[484,57,485,64],[484,65,485,72],[484,73,485,80],[484,81,485,88],[484,89,485,96],[484,97,485,104],[484,105,485,112],[484,113,485,120],[484,121,485,128],[484,129,485,136],[484,137,485,144],[484,145,485,152],[484,153,485,160],[484,161,485,168],[478,161,479,168],[478,169,479,176],[478,177,479,184],[478,185,479,192],[481,2,482,16],[482,17,483,24],[482,25,483,32],[482,33,483,40],[482,41,483,48],[482,49,483,56],[482,57,483,64],[482,65,483,72],[482,73,483,80],[482,81,483,88],[482,89,483,96],[482,97,483,104],[482,105,483,112],[482,113,483,120],[482,121,483,128],[482,129,483,136],[482,137,483,144],[480,57,481,64],[480,65,481,72],[480,73,481,80],[480,81,481,88],[480,89,481,96],[480,97,481,104],[480,105,481,112],[480,113,481,120],[480,121,481,128],[480,129,481,136],[480,137,481,144],[476,129,477,136],[476,137,477,144],[476,145,477,152],[480,145,481,152],[476,153,477,160],[480,153,481,160],[480,161,481,168],[480,169,481,176],[480,177,481,184],[480,185,481,192],[476,169,477,176],[476,177,477,184],[476,185,477,192],[477,2,478,16],[478,17,479,24],[478,25,479,32],[478,33,479,40],[478,41,479,48],[478,49,479,56],[478,57,479,64],[478,65,479,72],[478,73,479,80],[478,81,479,88],[478,89,479,96],[478,97,479,104],[478,105,479,112],[478,113,479,120],[478,121,479,128],[478,129,479,136],[478,137,479,144],[478,145,479,152],[478,153,479,160],[476,161,477,168],[472,145,473,152],[472,153,473,160],[472,161,473,168],[472,169,473,176],[472,177,473,184],[472,185,473,192],[473,2,474,16],[474,17,475,24],[474,25,475,32],[474,33,475,40],[474,41,475,48],[474,49,475,56],[474,57,475,64],[474,65,475,72],[474,73,475,80],[474,81,475,88],[474,89,475,96],[474,97,475,104],[474,105,475,112],[474,113,475,120],[474,121,475,128],[474,129,475,136],[474,137,475,144],[474,145,475,152],[474,153,475,160],[474,161,475,168],[474,169,475,176],[474,177,475,184],[474,185,475,192],[475,2,476,16],[476,17,477,24],[476,25,477,32],[471,2,472,16],[472,17,473,24],[472,25,473,32],[472,33,473,40],[472,41,473,48],[472,49,473,56],[472,57,473,64],[472,65,473,72],[472,73,473,80],[472,81,473,88],[472,89,473,96],[472,97,473,104],[472,105,473,112],[472,113,473,120],[472,121,473,128],[470,41,471,48],[470,49,471,56],[476,33,477,40],[476,41,477,48],[476,49,477,56],[476,57,477,64],[476,65,477,72],[476,73,477,80],[476,81,477,88],[476,89,477,96],[476,97,477,104],[476,105,477,112],[476,113,477,120],[476,121,477,128],[472,129,473,136],[472,137,473,144],[470,57,471,64],[470,65,471,72],[470,73,471,80],[470,81,471,88],[470,89,471,96],[470,97,471,104],[470,105,471,112],[470,113,471,120],[470,121,471,128],[470,129,471,136],[470,137,471,144],[470,145,471,152],[470,153,471,160],[470,161,471,168],[470,169,471,176],[470,177,471,184],[470,185,471,192],[466,169,467,176],[466,177,467,184]],"merged_total":5121,"flags":["merged_cut"]}
[]
[]
[null,null,null,null,null,null,null,null,null,null,null,null,null,null,null,null,null,null,null,null,null,null,null,null,null,"",null,null,null,null,null,null,null,"",null,null,null,null,null,null,null,"",null,null,null,null,null,null,null,"",null,null,null,null,null,null,null,"",null,null,null,null,null,null,null,"",null,null,null,null,null,null,null,"",null,null,null,null,null,null,null,"",null,null,null,null,null,null,null,null,null,null,null,null,null,null,null,"",null,null,null,null,null,null,null,"",null,null,null,null,null,null,null,null,null,null,null,null,null,null,null,"",null,null,null,null,null,null,null,null,null,null,null,null,null,null,null,null,"",null,null,null,null,null,null,null,null,null,null,null,null,null,null,"",null,null,null,null,null,null,null,null,null,null,null,null,null,null,null,"",null,null,null,null,null,null,null,"",null,null,null,null,null,null,null,"",null,null,null,null,null,null,null,""]
[]
[null,null,"Refer to Standard Road Plans EW-101 and EW-102.",null,null,null,null,null,null,null,null,null,null,null,null,null,null,null,null,null,null,null,null,null,null,null,null,null,null,null,null,null,null,null,null,null,null,null,null,null,null,null,null,null,null,null,null,null,null,null,null,null,null,null,null,null,null,null,"TABULATION OF TEMPLATE QUANTITIES AND ADJUSTMENTS",null,null,null,null,null,null,null,null,null,null,null,null,null,null,null,null,null,null,null,null,null,null,null,null,null,null,null,null,null,null,null,null,null,null,null,null,null,null,null,null,null,null,null,null,null,null,null,null,null,null,null,null,null,null,null,null,null,null,null,null,null,null,null,null,null,null,null,null,null,null,null,null,null,null,null,null,null,null,"107-28"]
[]
[null,null,null,null,null,null,null,null,null,null,null,null,null,null,null,null,null,null,null,null,null,null,null,null,null,null,null,null,null,null,null,null,null,null,null,null,null,null,null,null,null,null,null,null,null,null,null,null,null,null,null,null,null,null,null,null,null,null,null,null,null,null,null,null,null,null,null,null,null,null,null,null,null,null,null,null,null,null,null,null,null,null,null,null,null,null,null,null,null,null,null,null,null,null,null,null,null,null,null,null,null,null,null,null,null,null,null,null,null,null,null,null,null,null,null,null,null,null,null,null,null,null,null,null,null,null,null,null,null,null,null,null,null,null,null,null,null,"2015-04-21"]
[]
[null,null,null,null,null,null,null,null,null,null,null,null,null,null,null,null,null,"Cut",null,null,null,null,null,null,null,null,null,null,null,null,null,null,null,null,null,null,null,null,null,null,null,null,null,null,null,null,null,null,null,null,null,null,null,null,null,null,null,null,null,null,null,null,null,null,null,"Fill",null,null,null,null,null,null,null,null,null,null,null,null,null,null,null,null,null,null,null,null,null,null,null,null,null,null,null,null,null,null,null,null,null,null,null,null,null,null,null,"Checks (EW-102)",null,null,null,null,null,null,null,null,null,null,null,null,null,null,null,"Topsoil"]
[]
[]
[null,null,null,null,null,null,null,null,null,null,null,null,null,null,null,null,null,"[1]",null,null,null,null,null,null,null,"[2]",null,null,null,null,null,null,null,"[3]",null,null,null,null,null,null,null,"[4]",null,null,null,null,null,null,null,"[5]",null,null,null,null,null,null,null,"[6]",null,null,null,null,null,null,null,"[7]",null,null,null,null,null,null,null,"[8]",null,null,null,null,null,null,null,"[9]",null,null,null,null,null,null,null,"[10]",null,null,null,null,null,null,null,"[11]",null,null,null,null,null,null,null,"[12]",null,null,null,null,null,null,null,"[13]",null,null,null,null,null,null,null,"[14]",null,null,null,null,null,null,null,"[15]",null,null,null,null,null,null,null,"[16]",null,null,null,null,null,null,null,"[17]",null,null,null,null,null,null,null,"[18]",null,null,null,null,null,null,null,"[19]",null,null,null,null,null,null,null,"[20]",null,null,null,null,null,null,null,"[21]",null,null,null,null,null,null,null,"[22]"]
[]
[]
[]
[]
[]
[]
[null,null,{"$f":"IF(Tabfill!A1<>\"\",Tabfill!A1,\"\")","v":"Station"},null,null,null,null,null,null,null,null,null,null,null,null,null,null,{"$f":"IF(Tabfill!$B$1<>\"\",Tabfill!$B$1,\"\")","v":"Template Cut\nVolume"},null,null,null,null,null,null,null,{"$f":"IF(Tabfill!$C$1<>\"\",Tabfill!$C$1,\"\")","v":"Template\nClass 10\nVolume"},null,null,null,null,null,null,null,{"$f":"IF(Tabfill!$D$1<>\"\",Tabfill!$D$1,\"\")","v":"Template\nTopsoil Cut\nVolume"},null,null,null,null,null,null,null,{"$f":"IF(Tabfill!$E$1<>\"\",Tabfill!$E$1,\"\")","v":"Template\nPavement\nRemoval\nVolume"},null,null,null,null,null,null,null,{"$f":"IF(Tabfill!$F$1<>\"\",Tabfill!$F$1,\"\")","v":"Total\nCut\nAdjusted"},null,null,null,null,null,null,null,{"$f":"IF(Tabfill!$G$1<>\"\",Tabfill!$G$1,\"\")","v":"Total Cut\nAdjusted w/ \nWeighted Average\n1.3 Shrink Factor"},null,null,null,null,null,null,null,{"$f":"IF(Tabfill!$I$1<>\"\",Tabfill!$I$1,\"\")","v":"Template Fill\nVolume"},null,null,null,null,null,null,null,{"$f":"IF(Tabfill!$J$1<>\"\",Tabfill!$J$1,\"\")","v":"Topsoil\nStripping\n\n+ Fill"},null,null,null,null,null,null,null,{"$f":"IF(Tabfill!$K$1<>\"\",Tabfill!$K$1,\"\")","v":"Non-Template\nExisting Pavement\nRemoval\n+Fill"},null,null,null,null,null,null,null,{"$f":"IF(Tabfill!$L$1<>\"\",Tabfill!$L$1,\"\")","v":"Total\nFill\nAdjusted"},null,null,null,null,null,null,null,{"$f":"IF(Tabfill!$M$1<>\"\",Tabfill!$M$1,\"\")","v":"Total Cut Adjusted\nw/ 1.3 Shrink\n Factor Minus Fill"},null,null,null,null,null,null,null,{"$f":"IF(Tabfill!$O$1<>\"\",Tabfill!$O$1,\"\")","v":"Approx. Fill\nVolume Below\n5' And Above 20'\nCu. Yds."},null,null,null,null,null,null,null,{"$f":"IF(Tabfill!$P$1<>\"\",Tabfill!$P$1,\"\")","v":"Approx. Fill\nVolume Below 3'\n\nCu. Yds."},null,null,null,null,null,null,null,{"$f":"IF(Tabfill!$R$1<>\"\",Tabfill!$R$1,\"\")","v":"Total\nTopsoil Cut\nVolume"},null,null,null,null,null,null,null,{"$f":"IF(Tabfill!$S$1<>\"\",Tabfill!$S$1,\"\")","v":"Template\nTopsoil\nReplacement\nVolume"},null,null,null,null,null,null,null,{"$f":"IF(Tabfill!$T$1<>\"\",Tabfill!$T$1,\"\")","v":"Topsoil Cut\nWith\n1.4 Shrink\nFactor"},null,null,null,null,null,null,null,{"$f":"IF(Tabfill!$U$1<>\"\",Tabfill!$U$1,\"\")","v":"Topsoil Cut\nWith Shrink\nMinus Topsoil\nReplacement"}]
[]
[]
[]
[]
[]
[]
[]
[]
[]
[]
[]
[]
[]
[]
[]
[]
[]
[]
[null,null,{"$f":"IF(Tabfill!A2<>\"\",Tabfill!A2,\"\")","v":"ML461"}]
[null,null,null,null,null,null,null,null,null,null,null,null,null,null,null,null,null,{"$f":"IF(Tabfill!$B$2<>\"\",Tabfill!$B$2,\"\")","v":""},null,null,null,null,null,null,null,{"$f":"IF(Tabfill!$C$2<>\"\",Tabfill!$C$2,\"\")","v":""},null,null,null,null,null,null,null,{"$f":"IF(Tabfill!$D$2<>\"\",Tabfill!$D$2,\"\")","v":""},null,null,null,null,null,null,null,{"$f":"IF(Tabfill!$E$2<>\"\",Tabfill!$E$2,\"\")","v":""},null,null,null,null,null,null,null,{"$f":"IF(Tabfill!$F$2<>\"\",Tabfill!$F$2,\"\")","v":""},null,null,null,null,null,null,null,{"$f":"IF(Tabfill!$G$2<>\"\",Tabfill!$G$2,\"\")","v":""},null,null,null,null,null,null,null,{"$f":"IF(Tabfill!$I$2<>\"\",Tabfill!$I$2,\"\")","v":""},null,null,null,null,null,null,null,{"$f":"IF(Tabfill!$J$2<>\"\",Tabfill!$J$2,\"\")","v":""},null,null,null,null,null,null,null,{"$f":"IF(Tabfill!$K$2<>\"\",Tabfill!$K$2,\"\")","v":""},null,null,null,null,null,null,null,{"$f":"IF(Tabfill!$L$2<>\"\",Tabfill!$L$2,\"\")","v":""},null,null,null,null,null,null,null,{"$f":"IF(Tabfill!$M$2<>\"\",Tabfill!$M$2,\"\")","v":""},null,null,null,null,null,null,null,{"$f":"IF(Tabfill!$O$2<>\"\",Tabfill!$O$2,\"\")","v":""},null,null,null,null,null,null,null,{"$f":"IF(Tabfill!$P$2<>\"\",Tabfill!$P$2,\"\")","v":""},null,null,null,null,null,null,null,{"$f":"IF(Tabfill!$R$2<>\"\",Tabfill!$R$2,\"\")","v":""},null,null,null,null,null,null,null,{"$f":"IF(Tabfill!$S$2<>\"\",Tabfill!$S$2,\"\")","v":""},null,null,null,null,null,null,null,{"$f":"IF(Tabfill!$T$2<>\"\",Tabfill!$T$2,\"\")","v":""},null,null,null,null,null,null,null,{"$f":"IF(Tabfill!$U$2<>\"\",Tabfill!$U$2,\"\")","v":""}]
[null,null,{"$f":"IF(Tabfill!A3<>\"\",Tabfill!A3,\"\")","v":4320.3900000000003}]
[null,null,null,null,null,null,null,null,null,null,null,null,null,null,null,null,null,{"$f":"IF(Tabfill!$B$3<>\"\",Tabfill!$B$3,\"\")","v":205.4},null,null,null,null,null,null,null,{"$f":"IF(Tabfill!$C$3<>\"\",Tabfill!$C$3,\"\")","v":199},null,null,null,null,null,null,null,{"$f":"IF(Tabfill!$D$3<>\"\",Tabfill!$D$3,\"\")","v":22.4},null,null,null,null,null,null,null,{"$f":"IF(Tabfill!$E$3<>\"\",Tabfill!$E$3,\"\")","v":10},null,null,null,null,null,null,null,{"$f":"IF(Tabfill!$F$3<>\"\",Tabfill!$F$3,\"\")","v":199},null,null,null,null,null,null,null,{"$f":"IF(Tabfill!$G$3<>\"\",Tabfill!$G$3,\"\")","v":153},null,null,null,null,null,null,null,{"$f":"IF(Tabfill!$I$3<>\"\",Tabfill!$I$3,\"\")","v":37},null,null,null,null,null,null,null,{"$f":"IF(Tabfill!$J$3<>\"\",Tabfill!$J$3,\"\")","v":6.3999999999999986},null,null,null,null,null,null,null,{"$f":"IF(Tabfill!$K$3<>\"\",Tabfill!$K$3,\"\")","v":10},null,null,null,null,null,null,null,{"$f":"IF(Tabfill!$L$3<>\"\",Tabfill!$L$3,\"\")","v":53.4},null,null,null,null,null,null,null,{"$f":"IF(Tabfill!$M$3<>\"\",Tabfill!$M$3,\"\")","v":99.6},null,null,null,null,null,null,null,{"$f":"IF(Tabfill!$O$3<>\"\",Tabfill!$O$3,\"\")","v":0},null,null,null,null,null,null,null,{"$f":"IF(Tabfill!$P$3<>\"\",Tabfill!$P$3,\"\")","v":0},null,null,null,null,null,null,null,{"$f":"IF(Tabfill!$R$3<>\"\",Tabfill!$R$3,\"\")","v":22.4},null,null,null,null,null,null,null,{"$f":"IF(Tabfill!$S$3<>\"\",Tabfill!$S$3,\"\")","v":16},null,null,null,null,null,null,null,{"$f":"IF(Tabfill!$T$3<>\"\",Tabfill!$T$3,\"\")","v":16},null,null,null,null,null,null,null,{"$f":"IF(Tabfill!$U$3<>\"\",Tabfill!$U$3,\"\")","v":0}]
[null,null,{"$f":"IF(Tabfill!A4<>\"\",Tabfill!A4,\"\")","v":4325}]
[null,null,null,null,null,null,null,null,null,null,null,null,null,null,null,null,null,{"$f":"IF(Tabfill!$B$4<>\"\",Tabfill!$B$4,\"\")","v":1208.4000000000001},null,null,null,null,null,null,null,{"$f":"IF(Tabfill!$C$4<>\"\",Tabfill!$C$4,\"\")","v":1168},null,null,null,null,null,null,null,{"$f":"IF(Tabfill!$D$4<>\"\",Tabfill!$D$4,\"\")","v":141.39999999999998},null,null,null,null,null,null,null,{"$f":"IF(Tabfill!$E$4<>\"\",Tabfill!$E$4,\"\")","v":54},null,null,null,null,null,null,null,{"$f":"IF(Tabfill!$F$4<>\"\",Tabfill!$F$4,\"\")","v":1168},null,null,null,null,null,null,null,{"$f":"IF(Tabfill!$G$4<>\"\",Tabfill!$G$4,\"\")","v":898},null,null,null,null,null,null,null,{"$f":"IF(Tabfill!$I$4<>\"\",Tabfill!$I$4,\"\")","v":237},null,null,null,null,null,null,null,{"$f":"IF(Tabfill!$J$4<>\"\",Tabfill!$J$4,\"\")","v":40.399999999999977},null,null,null,null,null,null,null,{"$f":"IF(Tabfill!$K$4<>\"\",Tabfill!$K$4,\"\")","v":54},null,null,null,null,null,null,null,{"$f":"IF(Tabfill!$L$4<>\"\",Tabfill!$L$4,\"\")","v":331.4},null,null,null,null,null,null,null,{"$f":"IF(Tabfill!$M$4<>\"\",Tabfill!$M$4,\"\")","v":566.6},null,null,null,null,null,null,null,{"$f":"IF(Tabfill!$O$4<>\"\",Tabfill!$O$4,\"\")","v":0},null,null,null,null,null,null,null,{"$f":"IF(Tabfill!$P$4<>\"\",Tabfill!$P$4,\"\")","v":43},null,null,null,null,null,null,null,{"$f":"IF(Tabfill!$R$4<>\"\",Tabfill!$R$4,\"\")","v":141.39999999999998},null,null,null,null,null,null,null,{"$f":"IF(Tabfill!$S$4<>\"\",Tabfill!$S$4,\"\")","v":101},null,null,null,null,null,null,null,{"$f":"IF(Tabfill!$T$4<>\"\",Tabfill!$T$4,\"\")","v":101},null,null,null,null,null,null,null,{"$f":"IF(Tabfill!$U$4<>\"\",Tabfill!$U$4,\"\")","v":0}]
[null,null,{"$f":"IF(Tabfill!A5<>\"\",Tabfill!A5,\"\")","v":4350}]
[null,null,null,null,null,null,null,null,null,null,null,null,null,null,null,null,null,{"$f":"IF(Tabfill!$B$5<>\"\",Tabfill!$B$5,\"\")","v":1234.2},null,null,null,null,null,null,null,{"$f":"IF(Tabfill!$C$5<>\"\",Tabfill!$C$5,\"\")","v":1185},null,null,null,null,null,null,null,{"$f":"IF(Tabfill!$D$5<>\"\",Tabfill!$D$5,\"\")","v":172.2},null,null,null,null,null,null,null,{"$f":"IF(Tabfill!$E$5<>\"\",Tabfill!$E$5,\"\")","v":53},null,null,null,null,null,null,null,{"$f":"IF(Tabfill!$F$5<>\"\",Tabfill!$F$5,\"\")","v":1185},null,null,null,null,null,null,null,{"$f":"IF(Tabfill!$G$5<>\"\",Tabfill!$G$5,\"\")","v":912},null,null,null,null,null,null,null,{"$f":"IF(Tabfill!$I$5<>\"\",Tabfill!$I$5,\"\")","v":263},null,null,null,null,null,null,null,{"$f":"IF(Tabfill!$J$5<>\"\",Tabfill!$J$5,\"\")","v":49.199999999999989},null,null,null,null,null,null,null,{"$f":"IF(Tabfill!$K$5<>\"\",Tabfill!$K$5,\"\")","v":53},null,null,null,null,null,null,null,{"$f":"IF(Tabfill!$L$5<>\"\",Tabfill!$L$5,\"\")","v":365.2},null,null,null,null,null,null,null,{"$f":"IF(Tabfill!$M$5<>\"\",Tabfill!$M$5,\"\")","v":546.79999999999995},null,null,null,null,null,null,null,{"$f":"IF(Tabfill!$O$5<>\"\",Tabfill!$O$5,\"\")","v":0},null,null,null,null,null,null,null,{"$f":"IF(Tabfill!$P$5<>\"\",Tabfill!$P$5,\"\")","v":262},null,null,null,null,null,null,null,{"$f":"IF(Tabfill!$R$5<>\"\",Tabfill!$R$5,\"\")","v":172.2},null,null,null,null,null,null,null,{"$f":"IF(Tabfill!$S$5<>\"\",Tabfill!$S$5,\"\")","v":123},null,null,null,null,null,null,null,{"$f":"IF(Tabfill!$T$5<>\"\",Tabfill!$T$5,\"\")","v":123},null,null,null,null,null,null,null,{"$f":"IF(Tabfill!$U$5<>\"\",Tabfill!$U$5,\"\")","v":0}]
[null,null,{"$f":"IF(Tabfill!A6<>\"\",Tabfill!A6,\"\")","v":4375}]
[null,null,null,null,null,null,null,null,null,null,null,null,null,null,null,null,null,{"$f":"IF(Tabfill!$B$6<>\"\",Tabfill!$B$6,\"\")","v":1191.5999999999999},null,null,null,null,null,null,null,{"$f":"IF(Tabfill!$C$6<>\"\",Tabfill!$C$6,\"\")","v":1138},null,null,null,null,null,null,null,{"$f":"IF(Tabfill!$D$6<>\"\",Tabfill!$D$6,\"\")","v":187.6},null,null,null,null,null,null,null,{"$f":"IF(Tabfill!$E$6<>\"\",Tabfill!$E$6,\"\")","v":53},null,null,null,null,null,null,null,{"$f":"IF(Tabfill!$F$6<>\"\",Tabfill!$F$6,\"\")","v":1138},null,null,null,null,null,null,null,{"$f":"IF(Tabfill!$G$6<>\"\",Tabfill!$G$6,\"\")","v":875},null,null,null,null,null,null,null,{"$f":"IF(Tabfill!$I$6<>\"\",Tabfill!$I$6,\"\")","v":240},null,null,null,null,null,null,null,{"$f":"IF(Tabfill!$J$6<>\"\",Tabfill!$J$6,\"\")","v":53.599999999999994},null,null,null,null,null,null,null,{"$f":"IF(Tabfill!$K$6<>\"\",Tabfill!$K$6,\"\")","v":53},null,null,null,null,null,null,null,{"$f":"IF(Tabfill!$L$6<>\"\",Tabfill!$L$6,\"\")","v":346.6},null,null,null,null,null,null,null,{"$f":"IF(Tabfill!$M$6<>\"\",Tabfill!$M$6,\"\")","v":528.4},null,null,null,null,null,null,null,{"$f":"IF(Tabfill!$O$6<>\"\",Tabfill!$O$6,\"\")","v":0},null,null,null,null,null,null,null,{"$f":"IF(Tabfill!$P$6<>\"\",Tabfill!$P$6,\"\")","v":240},null,null,null,null,null,null,null,{"$f":"IF(Tabfill!$R$6<>\"\",Tabfill!$R$6,\"\")","v":187.6},null,null,null,null,null,null,null,{"$f":"IF(Tabfill!$S$6<>\"\",Tabfill!$S$6,\"\")","v":134},null,null,null,null,null,null,null,{"$f":"IF(Tabfill!$T$6<>\"\",Tabfill!$T$6,\"\")","v":134},null,null,null,null,null,null,null,{"$f":"IF(Tabfill!$U$6<>\"\",Tabfill!$U$6,\"\")","v":0}]
[null,null,{"$f":"IF(Tabfill!A7<>\"\",Tabfill!A7,\"\")","v":4400}]
[null,null,null,null,null,null,null,null,null,null,null,null,null,null,null,null,null,{"$f":"IF(Tabfill!$B$7<>\"\",Tabfill!$B$7,\"\")","v":885.6},null,null,null,null,null,null,null,{"$f":"IF(Tabfill!$C$7<>\"\",Tabfill!$C$7,\"\")","v":834},null,null,null,null,null,null,null,{"$f":"IF(Tabfill!$D$7<>\"\",Tabfill!$D$7,\"\")","v":180.6},null,null,null,null,null,null,null,{"$f":"IF(Tabfill!$E$7<>\"\",Tabfill!$E$7,\"\")","v":53},null,null,null,null,null,null,null,{"$f":"IF(Tabfill!$F$7<>\"\",Tabfill!$F$7,\"\")","v":834},null,null,null,null,null,null,null,{"$f":"IF(Tabfill!$G$7<>\"\",Tabfill!$G$7,\"\")","v":642},null,null,null,null,null,null,null,{"$f":"IF(Tabfill!$I$7<>\"\",Tabfill!$I$7,\"\")","v":209},null,null,null,null,null,null,null,{"$f":"IF(Tabfill!$J$7<>\"\",Tabfill!$J$7,\"\")","v":51.599999999999994},null,null,null,null,null,null,null,{"$f":"IF(Tabfill!$K$7<>\"\",Tabfill!$K$7,\"\")","v":53},null,null,null,null,null,null,null,{"$f":"IF(Tabfill!$L$7<>\"\",Tabfill!$L$7,\"\")","v":313.60000000000002},null,null,null,null,null,null,null,{"$f":"IF(Tabfill!$M$7<>\"\",Tabfill!$M$7,\"\")","v":328.4},null,null,null,null,null,null,null,{"$f":"IF(Tabfill!$O$7<>\"\",Tabfill!$O$7,\"\")","v":0},null,null,null,null,null,null,null,{"$f":"IF(Tabfill!$P$7<>\"\",Tabfill!$P$7,\"\")","v":208},null,null,null,null,null,null,null,{"$f":"IF(Tabfill!$R$7<>\"\",Tabfill!$R$7,\"\")","v":180.6},null,null,null,null,null,null,null,{"$f":"IF(Tabfill!$S$7<>\"\",Tabfill!$S$7,\"\")","v":129},null,null,null,null,null,null,null,{"$f":"IF(Tabfill!$T$7<>\"\",Tabfill!$T$7,\"\")","v":129},null,null,null,null,null,null,null,{"$f":"IF(Tabfill!$U$7<>\"\",Tabfill!$U$7,\"\")","v":0}]
[null,null,{"$f":"IF(Tabfill!A8<>\"\",Tabfill!A8,\"\")","v":4425}]
[null,null,null,null,null,null,null,null,null,null,null,null,null,null,null,null,null,{"$f":"IF(Tabfill!$B$8<>\"\",Tabfill!$B$8,\"\")","v":715.6},null,null,null,null,null,null,null,{"$f":"IF(Tabfill!$C$8<>\"\",Tabfill!$C$8,\"\")","v":668},null,null,null,null,null,null,null,{"$f":"IF(Tabfill!$D$8<>\"\",Tabfill!$D$8,\"\")","v":166.6},null,null,null,null,null,null,null,{"$f":"IF(Tabfill!$E$8<>\"\",Tabfill!$E$8,\"\")","v":53},null,null,null,null,null,null,null,{"$f":"IF(Tabfill!$F$8<>\"\",Tabfill!$F$8,\"\")","v":668},null,null,null,null,null,null,null,{"$f":"IF(Tabfill!$G$8<>\"\",Tabfill!$G$8,\"\")","v":514},null,null,null,null,null,null,null,{"$f":"IF(Tabfill!$I$8<>\"\",Tabfill!$I$8,\"\")","v":190},null,null,null,null,null,null,null,{"$f":"IF(Tabfill!$J$8<>\"\",Tabfill!$J$8,\"\")","v":47.599999999999994},null,null,null,null,null,null,null,{"$f":"IF(Tabfill!$K$8<>\"\",Tabfill!$K$8,\"\")","v":53},null,null,null,null,null,null,null,{"$f":"IF(Tabfill!$L$8<>\"\",Tabfill!$L$8,\"\")","v":290.60000000000002},null,null,null,null,null,null,null,{"$f":"IF(Tabfill!$M$8<>\"\",Tabfill!$M$8,\"\")","v":223.39999999999998},null,null,null,null,null,null,null,{"$f":"IF(Tabfill!$O$8<>\"\",Tabfill!$O$8,\"\")","v":0},null,null,null,null,null,null,null,{"$f":"IF(Tabfill!$P$8<>\"\",Tabfill!$P$8,\"\")","v":189},null,null,null,null,null,null,null,{"$f":"IF(Tabfill!$R$8<>\"\",Tabfill!$R$8,\"\")","v":166.6},null,null,null,null,null,null,null,{"$f":"IF(Tabfill!$S$8<>\"\",Tabfill!$S$8,\"\")","v":119},null,null,null,null,null,null,null,{"$f":"IF(Tabfill!$T$8<>\"\",Tabfill!$T$8,\"\")","v":119},null,null,null,null,null,null,null,{"$f":"IF(Tabfill!$U$8<>\"\",Tabfill!$U$8,\"\")","v":0}]
[null,null,{"$f":"IF(Tabfill!A9<>\"\",Tabfill!A9,\"\")","v":4450}]
[null,null,null,null,null,null,null,null,null,null,null,null,null,null,null,null,null,{"$f":"IF(Tabfill!$B$9<>\"\",Tabfill!$B$9,\"\")","v":755.2},null,null,null,null,null,null,null,{"$f":"IF(Tabfill!$C$9<>\"\",Tabfill!$C$9,\"\")","v":710},null,null,null,null,null,null,null,{"$f":"IF(Tabfill!$D$9<>\"\",Tabfill!$D$9,\"\")","v":158.19999999999999},null,null,null,null,null,null,null,{"$f":"IF(Tabfill!$E$9<>\"\",Tabfill!$E$9,\"\")","v":53},null,null,null,null,null,null,null,{"$f":"IF(Tabfill!$F$9<>\"\",Tabfill!$F$9,\"\")","v":710},null,null,null,null,null,null,null,{"$f":"IF(Tabfill!$G$9<>\"\",Tabfill!$G$9,\"\")","v":546},null,null,null,null,null,null,null,{"$f":"IF(Tabfill!$I$9<>\"\",Tabfill!$I$9,\"\")","v":163},null,null,null,null,null,null,null,{"$f":"IF(Tabfill!$J$9<>\"\",Tabfill!$J$9,\"\")","v":45.199999999999989},null,null,null,null,null,null,null,{"$f":"IF(Tabfill!$K$9<>\"\",Tabfill!$K$9,\"\")","v":53},null,null,null,null,null,null,null,{"$f":"IF(Tabfill!$L$9<>\"\",Tabfill!$L$9,\"\")","v":261.2},null,null,null,null,null,null,null,{"$f":"IF(Tabfill!$M$9<>\"\",Tabfill!$M$9,\"\")","v":284.8},null,null,null,null,null,null,null,{"$f":"IF(Tabfill!$O$9<>\"\",Tabfill!$O$9,\"\")","v":0},null,null,null,null,null,null,null,{"$f":"IF(Tabfill!$P$9<>\"\",Tabfill!$P$9,\"\")","v":162},null,null,null,null,null,null,null,{"$f":"IF(Tabfill!$R$9<>\"\",Tabfill!$R$9,\"\")","v":158.19999999999999},null,null,null,null,null,null,null,{"$f":"IF(Tabfill!$S$9<>\"\",Tabfill!$S$9,\"\")","v":113},null,null,null,null,null,null,null,{"$f":"IF(Tabfill!$T$9<>\"\",Tabfill!$T$9,\"\")","v":113},null,null,null,null,null,null,null,{"$f":"IF(Tabfill!$U$9<>\"\",Tabfill!$U$9,\"\")","v":0}]
[null,null,{"$f":"IF(Tabfill!A10<>\"\",Tabfill!A10,\"\")","v":4475}]
[null,null,null,null,null,null,null,null,null,null,null,null,null,null,null,null,null,{"$f":"IF(Tabfill!$B$10<>\"\",Tabfill!$B$10,\"\")","v":558.4},null,null,null,null,null,null,null,{"$f":"IF(Tabfill!$C$10<>\"\",Tabfill!$C$10,\"\")","v":518},null,null,null,null,null,null,null,{"$f":"IF(Tabfill!$D$10<>\"\",Tabfill!$D$10,\"\")","v":141.39999999999998},null,null,null,null,null,null,null,{"$f":"IF(Tabfill!$E$10<>\"\",Tabfill!$E$10,\"\")","v":53},null,null,null,null,null,null,null,{"$f":"IF(Tabfill!$F$10<>\"\",Tabfill!$F$10,\"\")","v":518},null,null,null,null,null,null,null,{"$f":"IF(Tabfill!$G$10<>\"\",Tabfill!$G$10,\"\")","v":398},null,null,null,null,null,null,null,{"$f":"IF(Tabfill!$I$10<>\"\",Tabfill!$I$10,\"\")","v":126},null,null,null,null,null,null,null,{"$f":"IF(Tabfill!$J$10<>\"\",Tabfill!$J$10,\"\")","v":40.399999999999977},null,null,null,null,null,null,null,{"$f":"IF(Tabfill!$K$10<>\"\",Tabfill!$K$10,\"\")","v":53},null,null,null,null,null,null,null,{"$f":"IF(Tabfill!$L$10<>\"\",Tabfill!$L$10,\"\")","v":219.39999999999998},null,null,null,null,null,null,null,{"$f":"IF(Tabfill!$M$10<>\"\",Tabfill!$M$10,\"\")","v":178.60000000000002},null,null,null,null,null,null,null,{"$f":"IF(Tabfill!$O$10<>\"\",Tabfill!$O$10,\"\")","v":0},null,null,null,null,null,null,null,{"$f":"IF(Tabfill!$P$10<>\"\",Tabfill!$P$10,\"\")","v":125},null,null,null,null,null,null,null,{"$f":"IF(Tabfill!$R$10<>\"\",Tabfill!$R$10,\"\")","v":141.39999999999998},null,null,null,null,null,null,null,{"$f":"IF(Tabfill!$S$10<>\"\",Tabfill!$S$10,\"\")","v":101},null,null,null,null,null,null,null,{"$f":"IF(Tabfill!$T$10<>\"\",Tabfill!$T$10,\"\")","v":101},null,null,null,null,null,null,null,{"$f":"IF(Tabfill!$U$10<>\"\",Tabfill!$U$10,\"\")","v":0}]
[null,null,{"$f":"IF(Tabfill!A11<>\"\",Tabfill!A11,\"\")","v":4500}]
[null,null,null,null,null,null,null,null,null,null,null,null,null,null,null,null,null,{"$f":"IF(Tabfill!$B$11<>\"\",Tabfill!$B$11,\"\")","v":0},null,null,null,null,null,null,null,{"$f":"IF(Tabfill!$C$11<>\"\",Tabfill!$C$11,\"\")","v":0},null,null,null,null,null,null,null,{"$f":"IF(Tabfill!$D$11<>\"\",Tabfill!$D$11,\"\")","v":0},null,null,null,null,null,null,null,{"$f":"IF(Tabfill!$E$11<>\"\",Tabfill!$E$11,\"\")","v":0},null,null,null,null,null,null,null,{"$f":"IF(Tabfill!$F$11<>\"\",Tabfill!$F$11,\"\")","v":0},null,null,null,null,null,null,null,{"$f":"IF(Tabfill!$G$11<>\"\",Tabfill!$G$11,\"\")","v":0},null,null,null,null,null,null,null,{"$f":"IF(Tabfill!$I$11<>\"\",Tabfill!$I$11,\"\")","v":0},null,null,null,null,null,null,null,{"$f":"IF(Tabfill!$J$11<>\"\",Tabfill!$J$11,\"\")","v":""},null,null,null,null,null,null,null,{"$f":"IF(Tabfill!$K$11<>\"\",Tabfill!$K$11,\"\")","v":""},null,null,null,null,null,null,null,{"$f":"IF(Tabfill!$L$11<>\"\",Tabfill!$L$11,\"\")","v":0},null,null,null,null,null,null,null,{"$f":"IF(Tabfill!$M$11<>\"\",Tabfill!$M$11,\"\")","v":0},null,null,null,null,null,null,null,{"$f":"IF(Tabfill!$O$11<>\"\",Tabfill!$O$11,\"\")","v":0},null,null,null,null,null,null,null,{"$f":"IF(Tabfill!$P$11<>\"\",Tabfill!$P$11,\"\")","v":54},null,null,null,null,null,null,null,{"$f":"IF(Tabfill!$R$11<>\"\",Tabfill!$R$11,\"\")","v":0},null,null,null,null,null,null,null,{"$f":"IF(Tabfill!$S$11<>\"\",Tabfill!$S$11,\"\")","v":0},null,null,null,null,null,null,null,{"$f":"IF(Tabfill!$T$11<>\"\",Tabfill!$T$11,\"\")","v":0},null,null,null,null,null,null,null,{"$f":"IF(Tabfill!$U$11<>\"\",Tabfill!$U$11,\"\")","v":0}]
[null,null,{"$f":"IF(Tabfill!A12<>\"\",Tabfill!A12,\"\")","v":4525}]
[null,null,null,null,null,null,null,null,null,null,null,null,null,null,null,null,null,{"$f":"IF(Tabfill!$B$12<>\"\",Tabfill!$B$12,\"\")","v":444.8},null,null,null,null,null,null,null,{"$f":"IF(Tabfill!$C$12<>\"\",Tabfill!$C$12,\"\")","v":420},null,null,null,null,null,null,null,{"$f":"IF(Tabfill!$D$12<>\"\",Tabfill!$D$12,\"\")","v":86.8},null,null,null,null,null,null,null,{"$f":"IF(Tabfill!$E$12<>\"\",Tabfill!$E$12,\"\")","v":53},null,null,null,null,null,null,null,{"$f":"IF(Tabfill!$F$12<>\"\",Tabfill!$F$12,\"\")","v":420},null,null,null,null,null,null,null,{"$f":"IF(Tabfill!$G$12<>\"\",Tabfill!$G$12,\"\")","v":323},null,null,null,null,null,null,null,{"$f":"IF(Tabfill!$I$12<>\"\",Tabfill!$I$12,\"\")","v":51},null,null,null,null,null,null,null,{"$f":"IF(Tabfill!$J$12<>\"\",Tabfill!$J$12,\"\")","v":24.799999999999997},null,null,null,null,null,null,null,{"$f":"IF(Tabfill!$K$12<>\"\",Tabfill!$K$12,\"\")","v":53},null,null,null,null,null,null,null,{"$f":"IF(Tabfill!$L$12<>\"\",Tabfill!$L$12,\"\")","v":128.80000000000001},null,null,null,null,null,null,null,{"$f":"IF(Tabfill!$M$12<>\"\",Tabfill!$M$12,\"\")","v":194.2},null,null,null,null,null,null,null,{"$f":"IF(Tabfill!$O$12<>\"\",Tabfill!$O$12,\"\")","v":0},null,null,null,null,null,null,null,{"$f":"IF(Tabfill!$P$12<>\"\",Tabfill!$P$12,\"\")","v":0},null,null,null,null,null,null,null,{"$f":"IF(Tabfill!$R$12<>\"\",Tabfill!$R$12,\"\")","v":86.8},null,null,null,null,null,null,null,{"$f":"IF(Tabfill!$S$12<>\"\",Tabfill!$S$12,\"\")","v":62},null,null,null,null,null,null,null,{"$f":"IF(Tabfill!$T$12<>\"\",Tabfill!$T$12,\"\")","v":62},null,null,null,null,null,null,null,{"$f":"IF(Tabfill!$U$12<>\"\",Tabfill!$U$12,\"\")","v":0}]
[null,null,{"$f":"IF(Tabfill!A13<>\"\",Tabfill!A13,\"\")","v":4550}]
[null,null,null,null,null,null,null,null,null,null,null,null,null,null,null,null,null,{"$f":"IF(Tabfill!$B$13<>\"\",Tabfill!$B$13,\"\")","v":375.2},null,null,null,null,null,null,null,{"$f":"IF(Tabfill!$C$13<>\"\",Tabfill!$C$13,\"\")","v":358},null,null,null,null,null,null,null,{"$f":"IF(Tabfill!$D$13<>\"\",Tabfill!$D$13,\"\")","v":60.199999999999996},null,null,null,null,null,null,null,{"$f":"IF(Tabfill!$E$13<>\"\",Tabfill!$E$13,\"\")","v":53},null,null,null,null,null,null,null,{"$f":"IF(Tabfill!$F$13<>\"\",Tabfill!$F$13,\"\")","v":358},null,null,null,null,null,null,null,{"$f":"IF(Tabfill!$G$13<>\"\",Tabfill!$G$13,\"\")","v":275},null,null,null,null,null,null,null,{"$f":"IF(Tabfill!$I$13<>\"\",Tabfill!$I$13,\"\")","v":33},null,null,null,null,null,null,null,{"$f":"IF(Tabfill!$J$13<>\"\",Tabfill!$J$13,\"\")","v":17.199999999999996},null,null,null,null,null,null,null,{"$f":"IF(Tabfill!$K$13<>\"\",Tabfill!$K$13,\"\")","v":53},null,null,null,null,null,null,null,{"$f":"IF(Tabfill!$L$13<>\"\",Tabfill!$L$13,\"\")","v":103.19999999999999},null,null,null,null,null,null,null,{"$f":"IF(Tabfill!$M$13<>\"\",Tabfill!$M$13,\"\")","v":171.8},null,null,null,null,null,null,null,{"$f":"IF(Tabfill!$O$13<>\"\",Tabfill!$O$13,\"\")","v":0},null,null,null,null,null,null,null,{"$f":"IF(Tabfill!$P$13<>\"\",Tabfill!$P$13,\"\")","v":33},null,null,null,null,null,null,null,{"$f":"IF(Tabfill!$R$13<>\"\",Tabfill!$R$13,\"\")","v":60.199999999999996},null,null,null,null,null,null,null,{"$f":"IF(Tabfill!$S$13<>\"\",Tabfill!$S$13,\"\")","v":43},null,null,null,null,null,null,null,{"$f":"IF(Tabfill!$T$13<>\"\",Tabfill!$T$13,\"\")","v":43},null,null,null,null,null,null,null,{"$f":"IF(Tabfill!$U$13<>\"\",Tabfill!$U$13,\"\")","v":0}]
[null,null,{"$f":"IF(Tabfill!A14<>\"\",Tabfill!A14,\"\")","v":4575}]
[null,null,null,null,null,null,null,null,null,null,null,null,null,null,null,null,null,{"$f":"IF(Tabfill!$B$14<>\"\",Tabfill!$B$14,\"\")","v":375},null,null,null,null,null,null,null,{"$f":"IF(Tabfill!$C$14<>\"\",Tabfill!$C$14,\"\")","v":357},null,null,null,null,null,null,null,{"$f":"IF(Tabfill!$D$14<>\"\",Tabfill!$D$14,\"\")","v":62.999999999999993},null,null,null,null,null,null,null,{"$f":"IF(Tabfill!$E$14<>\"\",Tabfill!$E$14,\"\")","v":53},null,null,null,null,null,null,null,{"$f":"IF(Tabfill!$F$14<>\"\",Tabfill!$F$14,\"\")","v":357},null,null,null,null,null,null,null,{"$f":"IF(Tabfill!$G$14<>\"\",Tabfill!$G$14,\"\")","v":275},null,null,null,null,null,null,null,{"$f":"IF(Tabfill!$I$14<>\"\",Tabfill!$I$14,\"\")","v":32},null,null,null,null,null,null,null,{"$f":"IF(Tabfill!$J$14<>\"\",Tabfill!$J$14,\"\")","v":17.999999999999993},null,null,null,null,null,null,null,{"$f":"IF(Tabfill!$K$14<>\"\",Tabfill!$K$14,\"\")","v":53},null,null,null,null,null,null,null,{"$f":"IF(Tabfill!$L$14<>\"\",Tabfill!$L$14,\"\")","v":103},null,null,null,null,null,null,null,{"$f":"IF(Tabfill!$M$14<>\"\",Tabfill!$M$14,\"\")","v":172},null,null,null,null,null,null,null,{"$f":"IF(Tabfill!$O$14<>\"\",Tabfill!$O$14,\"\")","v":0},null,null,null,null,null,null,null,{"$f":"IF(Tabfill!$P$14<>\"\",Tabfill!$P$14,\"\")","v":31},null,null,null,null,null,null,null,{"$f":"IF(Tabfill!$R$14<>\"\",Tabfill!$R$14,\"\")","v":62.999999999999993},null,null,null,null,null,null,null,{"$f":"IF(Tabfill!$S$14<>\"\",Tabfill!$S$14,\"\")","v":45},null,null,null,null,null,null,null,{"$f":"IF(Tabfill!$T$14<>\"\",Tabfill!$T$14,\"\")","v":45},null,null,null,null,null,null,null,{"$f":"IF(Tabfill!$U$14<>\"\",Tabfill!$U$14,\"\")","v":0}]
[null,null,{"$f":"IF(Tabfill!A15<>\"\",Tabfill!A15,\"\")","v":4600}]
[null,null,null,null,null,null,null,null,null,null,null,null,null,null,null,null,null,{"$f":"IF(Tabfill!$B$15<>\"\",Tabfill!$B$15,\"\")","v":460.2},null,null,null,null,null,null,null,{"$f":"IF(Tabfill!$C$15<>\"\",Tabfill!$C$15,\"\")","v":437},null,null,null,null,null,null,null,{"$f":"IF(Tabfill!$D$15<>\"\",Tabfill!$D$15,\"\")","v":81.199999999999989},null,null,null,null,null,null,null,{"$f":"IF(Tabfill!$E$15<>\"\",Tabfill!$E$15,\"\")","v":53},null,null,null,null,null,null,null,{"$f":"IF(Tabfill!$F$15<>\"\",Tabfill!$F$15,\"\")","v":437},null,null,null,null,null,null,null,{"$f":"IF(Tabfill!$G$15<>\"\",Tabfill!$G$15,\"\")","v":336},null,null,null,null,null,null,null,{"$f":"IF(Tabfill!$I$15<>\"\",Tabfill!$I$15,\"\")","v":31},null,null,null,null,null,null,null,{"$f":"IF(Tabfill!$J$15<>\"\",Tabfill!$J$15,\"\")","v":23.199999999999989},null,null,null,null,null,null,null,{"$f":"IF(Tabfill!$K$15<>\"\",Tabfill!$K$15,\"\")","v":53},null,null,null,null,null,null,null,{"$f":"IF(Tabfill!$L$15<>\"\",Tabfill!$L$15,\"\")","v":107.19999999999999},null,null,null,null,null,null,null,{"$f":"IF(Tabfill!$M$15<>\"\",Tabfill!$M$15,\"\")","v":228.8},null,null,null,null,null,null,null,{"$f":"IF(Tabfill!$O$15<>\"\",Tabfill!$O$15,\"\")","v":0},null,null,null,null,null,null,null,{"$f":"IF(Tabfill!$P$15<>\"\",Tabfill!$P$15,\"\")","v":31},null,null,null,null,null,null,null,{"$f":"IF(Tabfill!$R$15<>\"\",Tabfill!$R$15,\"\")","v":81.199999999999989},null,null,null,null,null,null,null,{"$f":"IF(Tabfill!$S$15<>\"\",Tabfill!$S$15,\"\")","v":58},null,null,null,null,null,null,null,{"$f":"IF(Tabfill!$T$15<>\"\",Tabfill!$T$15,\"\")","v":58},null,null,null,null,null,null,null,{"$f":"IF(Tabfill!$U$15<>\"\",Tabfill!$U$15,\"\")","v":0}]
[null,null,{"$f":"IF(Tabfill!A16<>\"\",Tabfill!A16,\"\")","v":4625}]
[null,null,null,null,null,null,null,null,null,null,null,null,null,null,null,null,null,{"$f":"IF(Tabfill!$B$16<>\"\",Tabfill!$B$16,\"\")","v":529.79999999999995},null,null,null,null,null,null,null,{"$f":"IF(Tabfill!$C$16<>\"\",Tabfill!$C$16,\"\")","v":503},null,null,null,null,null,null,null,{"$f":"IF(Tabfill!$D$16<>\"\",Tabfill!$D$16,\"\")","v":93.8},null,null,null,null,null,null,null,{"$f":"IF(Tabfill!$E$16<>\"\",Tabfill!$E$16,\"\")","v":53},null,null,null,null,null,null,null,{"$f":"IF(Tabfill!$F$16<>\"\",Tabfill!$F$16,\"\")","v":503},null,null,null,null,null,null,null,{"$f":"IF(Tabfill!$G$16<>\"\",Tabfill!$G$16,\"\")","v":387},null,null,null,null,null,null,null,{"$f":"IF(Tabfill!$I$16<>\"\",Tabfill!$I$16,\"\")","v":32},null,null,null,null,null,null,null,{"$f":"IF(Tabfill!$J$16<>\"\",Tabfill!$J$16,\"\")","v":26.799999999999997},null,null,null,null,null,null,null,{"$f":"IF(Tabfill!$K$16<>\"\",Tabfill!$K$16,\"\")","v":53},null,null,null,null,null,null,null,{"$f":"IF(Tabfill!$L$16<>\"\",Tabfill!$L$16,\"\")","v":111.8},null,null,null,null,null,null,null,{"$f":"IF(Tabfill!$M$16<>\"\",Tabfill!$M$16,\"\")","v":275.2},null,null,null,null,null,null,null,{"$f":"IF(Tabfill!$O$16<>\"\",Tabfill!$O$16,\"\")","v":0},null,null,null,null,null,null,null,{"$f":"IF(Tabfill!$P$16<>\"\",Tabfill!$P$16,\"\")","v":31},null,null,null,null,null,null,null,{"$f":"IF(Tabfill!$R$16<>\"\",Tabfill!$R$16,\"\")","v":93.8},null,null,null,null,null,null,null,{"$f":"IF(Tabfill!$S$16<>\"\",Tabfill!$S$16,\"\")","v":67},null,null,null,null,null,null,null,{"$f":"IF(Tabfill!$T$16<>\"\",Tabfill!$T$16,\"\")","v":67},null,null,null,null,null,null,null,{"$f":"IF(Tabfill!$U$16<>\"\",Tabfill!$U$16,\"\")","v":0}]
[null,null,{"$f":"IF(Tabfill!A17<>\"\",Tabfill!A17,\"\")","v":4650}]
[null,null,null,null,null,null,null,null,null,null,null,null,null,null,null,null,null,{"$f":"IF(Tabfill!$B$17<>\"\",Tabfill!$B$17,\"\")","v":531.6},null,null,null,null,null,null,null,{"$f":"IF(Tabfill!$C$17<>\"\",Tabfill!$C$17,\"\")","v":506},null,null,null,null,null,null,null,{"$f":"IF(Tabfill!$D$17<>\"\",Tabfill!$D$17,\"\")","v":89.6},null,null,null,null,null,null,null,{"$f":"IF(Tabfill!$E$17<>\"\",Tabfill!$E$17,\"\")","v":53},null,null,null,null,null,null,null,{"$f":"IF(Tabfill!$F$17<>\"\",Tabfill!$F$17,\"\")","v":506},null,null,null,null,null,null,null,{"$f":"IF(Tabfill!$G$17<>\"\",Tabfill!$G$17,\"\")","v":389},null,null,null,null,null,null,null,{"$f":"IF(Tabfill!$I$17<>\"\",Tabfill!$I$17,\"\")","v":34},null,null,null,null,null,null,null,{"$f":"IF(Tabfill!$J$17<>\"\",Tabfill!$J$17,\"\")","v":25.599999999999994},null,null,null,null,null,null,null,{"$f":"IF(Tabfill!$K$17<>\"\",Tabfill!$K$17,\"\")","v":53},null,null,null,null,null,null,null,{"$f":"IF(Tabfill!$L$17<>\"\",Tabfill!$L$17,\"\")","v":112.6},null,null,null,null,null,null,null,{"$f":"IF(Tabfill!$M$17<>\"\",Tabfill!$M$17,\"\")","v":276.39999999999998},null,null,null,null,null,null,null,{"$f":"IF(Tabfill!$O$17<>\"\",Tabfill!$O$17,\"\")","v":0},null,null,null,null,null,null,null,{"$f":"IF(Tabfill!$P$17<>\"\",Tabfill!$P$17,\"\")","v":34},null,null,null,null,null,null,null,{"$f":"IF(Tabfill!$R$17<>\"\",Tabfill!$R$17,\"\")","v":89.6},null,null,null,null,null,null,null,{"$f":"IF(Tabfill!$S$17<>\"\",Tabfill!$S$17,\"\")","v":64},null,null,null,null,null,null,null,{"$f":"IF(Tabfill!$T$17<>\"\",Tabfill!$T$17,\"\")","v":64},null,null,null,null,null,null,null,{"$f":"IF(Tabfill!$U$17<>\"\",Tabfill!$U$17,\"\")","v":0}]
[null,null,{"$f":"IF(Tabfill!A18<>\"\",Tabfill!A18,\"\")","v":4675}]
[null,null,null,null,null,null,null,null,null,null,null,null,null,null,null,null,null,{"$f":"IF(Tabfill!$B$18<>\"\",Tabfill!$B$18,\"\")","v":497.8},null,null,null,null,null,null,null,{"$f":"IF(Tabfill!$C$18<>\"\",Tabfill!$C$18,\"\")","v":473},null,null,null,null,null,null,null,{"$f":"IF(Tabfill!$D$18<>\"\",Tabfill!$D$18,\"\")","v":86.8},null,null,null,null,null,null,null,{"$f":"IF(Tabfill!$E$18<>\"\",Tabfill!$E$18,\"\")","v":53},null,null,null,null,null,null,null,{"$f":"IF(Tabfill!$F$18<>\"\",Tabfill!$F$18,\"\")","v":473},null,null,null,null,null,null,null,{"$f":"IF(Tabfill!$G$18<>\"\",Tabfill!$G$18,\"\")","v":364},null,null,null,null,null,null,null,{"$f":"IF(Tabfill!$I$18<>\"\",Tabfill!$I$18,\"\")","v":44},null,null,null,null,null,null,null,{"$f":"IF(Tabfill!$J$18<>\"\",Tabfill!$J$18,\"\")","v":24.799999999999997},null,null,null,null,null,null,null,{"$f":"IF(Tabfill!$K$18<>\"\",Tabfill!$K$18,\"\")","v":53},null,null,null,null,null,null,null,{"$f":"IF(Tabfill!$L$18<>\"\",Tabfill!$L$18,\"\")","v":121.8},null,null,null,null,null,null,null,{"$f":"IF(Tabfill!$M$18<>\"\",Tabfill!$M$18,\"\")","v":242.2},null,null,null,null,null,null,null,{"$f":"IF(Tabfill!$O$18<>\"\",Tabfill!$O$18,\"\")","v":0},null,null,null,null,null,null,null,{"$f":"IF(Tabfill!$P$18<>\"\",Tabfill!$P$18,\"\")","v":43},null,null,null,null,null,null,null,{"$f":"IF(Tabfill!$R$18<>\"\",Tabfill!$R$18,\"\")","v":86.8},null,null,null,null,null,null,null,{"$f":"IF(Tabfill!$S$18<>\"\",Tabfill!$S$18,\"\")","v":62},null,null,null,null,null,null,null,{"$f":"IF(Tabfill!$T$18<>\"\",Tabfill!$T$18,\"\")","v":62},null,null,null,null,null,null,null,{"$f":"IF(Tabfill!$U$18<>\"\",Tabfill!$U$18,\"\")","v":0}]
[null,null,{"$f":"IF(Tabfill!A19<>\"\",Tabfill!A19,\"\")","v":4700}]
[null,null,null,null,null,null,null,null,null,null,null,null,null,null,null,null,null,{"$f":"IF(Tabfill!$B$19<>\"\",Tabfill!$B$19,\"\")","v":345.8},null,null,null,null,null,null,null,{"$f":"IF(Tabfill!$C$19<>\"\",Tabfill!$C$19,\"\")","v":319},null,null,null,null,null,null,null,{"$f":"IF(Tabfill!$D$19<>\"\",Tabfill!$D$19,\"\")","v":93.8},null,null,null,null,null,null,null,{"$f":"IF(Tabfill!$E$19<>\"\",Tabfill!$E$19,\"\")","v":53},null,null,null,null,null,null,null,{"$f":"IF(Tabfill!$F$19<>\"\",Tabfill!$F$19,\"\")","v":319},null,null,null,null,null,null,null,{"$f":"IF(Tabfill!$G$19<>\"\",Tabfill!$G$19,\"\")","v":245},null,null,null,null,null,null,null,{"$f":"IF(Tabfill!$I$19<>\"\",Tabfill!$I$19,\"\")","v":55},null,null,null,null,null,null,null,{"$f":"IF(Tabfill!$J$19<>\"\",Tabfill!$J$19,\"\")","v":26.799999999999997},null,null,null,null,null,null,null,{"$f":"IF(Tabfill!$K$19<>\"\",Tabfill!$K$19,\"\")","v":53},null,null,null,null,null,null,null,{"$f":"IF(Tabfill!$L$19<>\"\",Tabfill!$L$19,\"\")","v":134.80000000000001},null,null,null,null,null,null,null,{"$f":"IF(Tabfill!$M$19<>\"\",Tabfill!$M$19,\"\")","v":110.19999999999999},null,null,null,null,null,null,null,{"$f":"IF(Tabfill!$O$19<>\"\",Tabfill!$O$19,\"\")","v":0},null,null,null,null,null,null,null,{"$f":"IF(Tabfill!$P$19<>\"\",Tabfill!$P$19,\"\")","v":54},null,null,null,null,null,null,null,{"$f":"IF(Tabfill!$R$19<>\"\",Tabfill!$R$19,\"\")","v":93.8},null,null,null,null,null,null,null,{"$f":"IF(Tabfill!$S$19<>\"\",Tabfill!$S$19,\"\")","v":67},null,null,null,null,null,null,null,{"$f":"IF(Tabfill!$T$19<>\"\",Tabfill!$T$19,\"\")","v":67},null,null,null,null,null,null,null,{"$f":"IF(Tabfill!$U$19<>\"\",Tabfill!$U$19,\"\")","v":0}]
[null,null,{"$f":"IF(Tabfill!A20<>\"\",Tabfill!A20,\"\")","v":4725}]
[null,null,null,null,null,null,null,null,null,null,null,null,null,null,null,null,null,{"$f":"IF(Tabfill!$B$20<>\"\",Tabfill!$B$20,\"\")","v":287},null,null,null,null,null,null,null,{"$f":"IF(Tabfill!$C$20<>\"\",Tabfill!$C$20,\"\")","v":261},null,null,null,null,null,null,null,{"$f":"IF(Tabfill!$D$20<>\"\",Tabfill!$D$20,\"\")","v":91},null,null,null,null,null,null,null,{"$f":"IF(Tabfill!$E$20<>\"\",Tabfill!$E$20,\"\")","v":53},null,null,null,null,null,null,null,{"$f":"IF(Tabfill!$F$20<>\"\",Tabfill!$F$20,\"\")","v":261},null,null,null,null,null,null,null,{"$f":"IF(Tabfill!$G$20<>\"\",Tabfill!$G$20,\"\")","v":201},null,null,null,null,null,null,null,{"$f":"IF(Tabfill!$I$20<>\"\",Tabfill!$I$20,\"\")","v":66},null,null,null,null,null,null,null,{"$f":"IF(Tabfill!$J$20<>\"\",Tabfill!$J$20,\"\")","v":26},null,null,null,null,null,null,null,{"$f":"IF(Tabfill!$K$20<>\"\",Tabfill!$K$20,\"\")","v":53},null,null,null,null,null,null,null,{"$f":"IF(Tabfill!$L$20<>\"\",Tabfill!$L$20,\"\")","v":145},null,null,null,null,null,null,null,{"$f":"IF(Tabfill!$M$20<>\"\",Tabfill!$M$20,\"\")","v":56},null,null,null,null,null,null,null,{"$f":"IF(Tabfill!$O$20<>\"\",Tabfill!$O$20,\"\")","v":0},null,null,null,null,null,null,null,{"$f":"IF(Tabfill!$P$20<>\"\",Tabfill!$P$20,\"\")","v":66},null,null,null,null,null,null,null,{"$f":"IF(Tabfill!$R$20<>\"\",Tabfill!$R$20,\"\")","v":91},null,null,null,null,null,null,null,{"$f":"IF(Tabfill!$S$20<>\"\",Tabfill!$S$20,\"\")","v":65},null,null,null,null,null,null,null,{"$f":"IF(Tabfill!$T$20<>\"\",Tabfill!$T$20,\"\")","v":65},null,null,null,null,null,null,null,{"$f":"IF(Tabfill!$U$20<>\"\",Tabfill!$U$20,\"\")","v":0}]
[null,null,{"$f":"IF(Tabfill!A21<>\"\",Tabfill!A21,\"\")","v":4750}]
[null,null,null,null,null,null,null,null,null,null,null,null,null,null,null,null,null,{"$f":"IF(Tabfill!$B$21<>\"\",Tabfill!$B$21,\"\")","v":359.6},null,null,null,null,null,null,null,{"$f":"IF(Tabfill!$C$21<>\"\",Tabfill!$C$21,\"\")","v":334},null,null,null,null,null,null,null,{"$f":"IF(Tabfill!$D$21<>\"\",Tabfill!$D$21,\"\")","v":89.6},null,null,null,null,null,null,null,{"$f":"IF(Tabfill!$E$21<>\"\",Tabfill!$E$21,\"\")","v":53},null,null,null,null,null,null,null,{"$f":"IF(Tabfill!$F$21<>\"\",Tabfill!$F$21,\"\")","v":334},null,null,null,null,null,null,null,{"$f":"IF(Tabfill!$G$21<>\"\",Tabfill!$G$21,\"\")","v":257},null,null,null,null,null,null,null,{"$f":"IF(Tabfill!$I$21<>\"\",Tabfill!$I$21,\"\")","v":84},null,null,null,null,null,null,null,{"$f":"IF(Tabfill!$J$21<>\"\",Tabfill!$J$21,\"\")","v":25.599999999999994},null,null,null,null,null,null,null,{"$f":"IF(Tabfill!$K$21<>\"\",Tabfill!$K$21,\"\")","v":53},null,null,null,null,null,null,null,{"$f":"IF(Tabfill!$L$21<>\"\",Tabfill!$L$21,\"\")","v":162.6},null,null,null,null,null,null,null,{"$f":"IF(Tabfill!$M$21<>\"\",Tabfill!$M$21,\"\")","v":94.4},null,null,null,null,null,null,null,{"$f":"IF(Tabfill!$O$21<>\"\",Tabfill!$O$21,\"\")","v":0},null,null,null,null,null,null,null,{"$f":"IF(Tabfill!$P$21<>\"\",Tabfill!$P$21,\"\")","v":84},null,null,null,null,null,null,null,{"$f":"IF(Tabfill!$R$21<>\"\",Tabfill!$R$21,\"\")","v":89.6},null,null,null,null,null,null,null,{"$f":"IF(Tabfill!$S$21<>\"\",Tabfill!$S$21,\"\")","v":64},null,null,null,null,null,null,null,{"$f":"IF(Tabfill!$T$21<>\"\",Tabfill!$T$21,\"\")","v":64},null,null,null,null,null,null,null,{"$f":"IF(Tabfill!$U$21<>\"\",Tabfill!$U$21,\"\")","v":0}]
[null,null,{"$f":"IF(Tabfill!A22<>\"\",Tabfill!A22,\"\")","v":4775}]
[null,null,null,null,null,null,null,null,null,null,null,null,null,null,null,null,null,{"$f":"IF(Tabfill!$B$22<>\"\",Tabfill!$B$22,\"\")","v":340.2},null,null,null,null,null,null,null,{"$f":"IF(Tabfill!$C$22<>\"\",Tabfill!$C$22,\"\")","v":313},null,null,null,null,null,null,null,{"$f":"IF(Tabfill!$D$22<>\"\",Tabfill!$D$22,\"\")","v":95.199999999999989},null,null,null,null,null,null,null,{"$f":"IF(Tabfill!$E$22<>\"\",Tabfill!$E$22,\"\")","v":53},null,null,null,null,null,null,null,{"$f":"IF(Tabfill!$F$22<>\"\",Tabfill!$F$22,\"\")","v":313},null,null,null,null,null,null,null,{"$f":"IF(Tabfill!$G$22<>\"\",Tabfill!$G$22,\"\")","v":241},null,null,null,null,null,null,null,{"$f":"IF(Tabfill!$I$22<>\"\",Tabfill!$I$22,\"\")","v":100},null,null,null,null,null,null,null,{"$f":"IF(Tabfill!$J$22<>\"\",Tabfill!$J$22,\"\")","v":27.199999999999989},null,null,null,null,null,null,null,{"$f":"IF(Tabfill!$K$22<>\"\",Tabfill!$K$22,\"\")","v":53},null,null,null,null,null,null,null,{"$f":"IF(Tabfill!$L$22<>\"\",Tabfill!$L$22,\"\")","v":180.2},null,null,null,null,null,null,null,{"$f":"IF(Tabfill!$M$22<>\"\",Tabfill!$M$22,\"\")","v":60.800000000000011},null,null,null,null,null,null,null,{"$f":"IF(Tabfill!$O$22<>\"\",Tabfill!$O$22,\"\")","v":0},null,null,null,null,null,null,null,{"$f":"IF(Tabfill!$P$22<>\"\",Tabfill!$P$22,\"\")","v":100},null,null,null,null,null,null,null,{"$f":"IF(Tabfill!$R$22<>\"\",Tabfill!$R$22,\"\")","v":95.199999999999989},null,null,null,null,null,null,null,{"$f":"IF(Tabfill!$S$22<>\"\",Tabfill!$S$22,\"\")","v":68},null,null,null,null,null,null,null,{"$f":"IF(Tabfill!$T$22<>\"\",Tabfill!$T$22,\"\")","v":68},null,null,null,null,null,null,null,{"$f":"IF(Tabfill!$U$22<>\"\",Tabfill!$U$22,\"\")","v":0}]
[null,null,{"$f":"IF(Tabfill!A23<>\"\",Tabfill!A23,\"\")","v":4800}]
[null,null,null,null,null,null,null,null,null,null,null,null,null,null,null,null,null,{"$f":"IF(Tabfill!$B$23<>\"\",Tabfill!$B$23,\"\")","v":305.8},null,null,null,null,null,null,null,{"$f":"IF(Tabfill!$C$23<>\"\",Tabfill!$C$23,\"\")","v":281},null,null,null,null,null,null,null,{"$f":"IF(Tabfill!$D$23<>\"\",Tabfill!$D$23,\"\")","v":86.8},null,null,null,null,null,null,null,{"$f":"IF(Tabfill!$E$23<>\"\",Tabfill!$E$23,\"\")","v":53},null,null,null,null,null,null,null,{"$f":"IF(Tabfill!$F$23<>\"\",Tabfill!$F$23,\"\")","v":281},null,null,null,null,null,null,null,{"$f":"IF(Tabfill!$G$23<>\"\",Tabfill!$G$23,\"\")","v":216},null,null,null,null,null,null,null,{"$f":"IF(Tabfill!$I$23<>\"\",Tabfill!$I$23,\"\")","v":113},null,null,null,null,null,null,null,{"$f":"IF(Tabfill!$J$23<>\"\",Tabfill!$J$23,\"\")","v":24.799999999999997},null,null,null,null,null,null,null,{"$f":"IF(Tabfill!$K$23<>\"\",Tabfill!$K$23,\"\")","v":53},null,null,null,null,null,null,null,{"$f":"IF(Tabfill!$L$23<>\"\",Tabfill!$L$23,\"\")","v":190.8},null,null,null,null,null,null,null,{"$f":"IF(Tabfill!$M$23<>\"\",Tabfill!$M$23,\"\")","v":25.199999999999989},null,null,null,null,null,null,null,{"$f":"IF(Tabfill!$O$23<>\"\",Tabfill!$O$23,\"\")","v":0},null,null,null,null,null,null,null,{"$f":"IF(Tabfill!$P$23<>\"\",Tabfill!$P$23,\"\")","v":112},null,null,null,null,null,null,null,{"$f":"IF(Tabfill!$R$23<>\"\",Tabfill!$R$23,\"\")","v":86.8},null,null,null,null,null,null,null,{"$f":"IF(Tabfill!$S$23<>\"\",Tabfill!$S$23,\"\")","v":62},null,null,null,null,null,null,null,{"$f":"IF(Tabfill!$T$23<>\"\",Tabfill!$T$23,\"\")","v":62},null,null,null,null,null,null,null,{"$f":"IF(Tabfill!$U$23<>\"\",Tabfill!$U$23,\"\")","v":0}]
[null,null,{"$f":"IF(Tabfill!A24<>\"\",Tabfill!A24,\"\")","v":4825}]
[null,null,null,null,null,null,null,null,null,null,null,null,null,null,null,null,null,{"$f":"IF(Tabfill!$B$24<>\"\",Tabfill!$B$24,\"\")","v":282},null,null,null,null,null,null,null,{"$f":"IF(Tabfill!$C$24<>\"\",Tabfill!$C$24,\"\")","v":260},null,null,null,null,null,null,null,{"$f":"IF(Tabfill!$D$24<>\"\",Tabfill!$D$24,\"\")","v":77},null,null,null,null,null,null,null,{"$f":"IF(Tabfill!$E$24<>\"\",Tabfill!$E$24,\"\")","v":53},null,null,null,null,null,null,null,{"$f":"IF(Tabfill!$F$24<>\"\",Tabfill!$F$24,\"\")","v":260},null,null,null,null,null,null,null,{"$f":"IF(Tabfill!$G$24<>\"\",Tabfill!$G$24,\"\")","v":200},null,null,null,null,null,null,null,{"$f":"IF(Tabfill!$I$24<>\"\",Tabfill!$I$24,\"\")","v":134},null,null,null,null,null,null,null,{"$f":"IF(Tabfill!$J$24<>\"\",Tabfill!$J$24,\"\")","v":22},null,null,null,null,null,null,null,{"$f":"IF(Tabfill!$K$24<>\"\",Tabfill!$K$24,\"\")","v":53},null,null,null,null,null,null,null,{"$f":"IF(Tabfill!$L$24<>\"\",Tabfill!$L$24,\"\")","v":209},null,null,null,null,null,null,null,{"$f":"IF(Tabfill!$M$24<>\"\",Tabfill!$M$24,\"\")","v":-9},null,null,null,null,null,null,null,{"$f":"IF(Tabfill!$O$24<>\"\",Tabfill!$O$24,\"\")","v":0},null,null,null,null,null,null,null,{"$f":"IF(Tabfill!$P$24<>\"\",Tabfill!$P$24,\"\")","v":134},null,null,null,null,null,null,null,{"$f":"IF(Tabfill!$R$24<>\"\",Tabfill!$R$24,\"\")","v":77},null,null,null,null,null,null,null,{"$f":"IF(Tabfill!$S$24<>\"\",Tabfill!$S$24,\"\")","v":55},null,null,null,null,null,null,null,{"$f":"IF(Tabfill!$T$24<>\"\",Tabfill!$T$24,\"\")","v":55},null,null,null,null,null,null,null,{"$f":"IF(Tabfill!$U$24<>\"\",Tabfill!$U$24,\"\")","v":0}]
[null,null,{"$f":"IF(Tabfill!A25<>\"\",Tabfill!A25,\"\")","v":4850}]
[null,null,null,null,null,null,null,null,null,null,null,null,null,null,null,null,null,{"$f":"IF(Tabfill!$B$25<>\"\",Tabfill!$B$25,\"\")","v":282.2},null,null,null,null,null,null,null,{"$f":"IF(Tabfill!$C$25<>\"\",Tabfill!$C$25,\"\")","v":263},null,null,null,null,null,null,null,{"$f":"IF(Tabfill!$D$25<>\"\",Tabfill!$D$25,\"\")","v":67.199999999999989},null,null,null,null,null,null,null,{"$f":"IF(Tabfill!$E$25<>\"\",Tabfill!$E$25,\"\")","v":53},null,null,null,null,null,null,null,{"$f":"IF(Tabfill!$F$25<>\"\",Tabfill!$F$25,\"\")","v":263},null,null,null,null,null,null,null,{"$f":"IF(Tabfill!$G$25<>\"\",Tabfill!$G$25,\"\")","v":202},null,null,null,null,null,null,null,{"$f":"IF(Tabfill!$I$25<>\"\",Tabfill!$I$25,\"\")","v":175},null,null,null,null,null,null,null,{"$f":"IF(Tabfill!$J$25<>\"\",Tabfill!$J$25,\"\")","v":19.199999999999989},null,null,null,null,null,null,null,{"$f":"IF(Tabfill!$K$25<>\"\",Tabfill!$K$25,\"\")","v":53},null,null,null,null,null,null,null,{"$f":"IF(Tabfill!$L$25<>\"\",Tabfill!$L$25,\"\")","v":247.2},null,null,null,null,null,null,null,{"$f":"IF(Tabfill!$M$25<>\"\",Tabfill!$M$25,\"\")","v":-45.199999999999989},null,null,null,null,null,null,null,{"$f":"IF(Tabfill!$O$25<>\"\",Tabfill!$O$25,\"\")","v":0},null,null,null,null,null,null,null,{"$f":"IF(Tabfill!$P$25<>\"\",Tabfill!$P$25,\"\")","v":175},null,null,null,null,null,null,null,{"$f":"IF(Tabfill!$R$25<>\"\",Tabfill!$R$25,\"\")","v":67.199999999999989},null,null,null,null,null,null,null,{"$f":"IF(Tabfill!$S$25<>\"\",Tabfill!$S$25,\"\")","v":48},null,null,null,null,null,null,null,{"$f":"IF(Tabfill!$T$25<>\"\",Tabfill!$T$25,\"\")","v":48},null,null,null,null,null,null,null,{"$f":"IF(Tabfill!$U$25<>\"\",Tabfill!$U$25,\"\")","v":0}]
[null,null,{"$f":"IF(Tabfill!A26<>\"\",Tabfill!A26,\"\")","v":4875}]
[null,null,null,null,null,null,null,null,null,null,null,null,null,null,null,null,null,{"$f":"IF(Tabfill!$B$26<>\"\",Tabfill!$B$26,\"\")","v":322.60000000000002},null,null,null,null,null,null,null,{"$f":"IF(Tabfill!$C$26<>\"\",Tabfill!$C$26,\"\")","v":301},null,null,null,null,null,null,null,{"$f":"IF(Tabfill!$D$26<>\"\",Tabfill!$D$26,\"\")","v":75.599999999999994},null,null,null,null,null,null,null,{"$f":"IF(Tabfill!$E$26<>\"\",Tabfill!$E$26,\"\")","v":53},null,null,null,null,null,null,null,{"$f":"IF(Tabfill!$F$26<>\"\",Tabfill!$F$26,\"\")","v":301},null,null,null,null,null,null,null,{"$f":"IF(Tabfill!$G$26<>\"\",Tabfill!$G$26,\"\")","v":232},null,null,null,null,null,null,null,{"$f":"IF(Tabfill!$I$26<>\"\",Tabfill!$I$26,\"\")","v":218},null,null,null,null,null,null,null,{"$f":"IF(Tabfill!$J$26<>\"\",Tabfill!$J$26,\"\")","v":21.599999999999994},null,null,null,null,null,null,null,{"$f":"IF(Tabfill!$K$26<>\"\",Tabfill!$K$26,\"\")","v":53},null,null,null,null,null,null,null,{"$f":"IF(Tabfill!$L$26<>\"\",Tabfill!$L$26,\"\")","v":292.60000000000002},null,null,null,null,null,null,null,{"$f":"IF(Tabfill!$M$26<>\"\",Tabfill!$M$26,\"\")","v":-60.600000000000023},null,null,null,null,null,null,null,{"$f":"IF(Tabfill!$O$26<>\"\",Tabfill!$O$26,\"\")","v":0},null,null,null,null,null,null,null,{"$f":"IF(Tabfill!$P$26<>\"\",Tabfill!$P$26,\"\")","v":218},null,null,null,null,null,null,null,{"$f":"IF(Tabfill!$R$26<>\"\",Tabfill!$R$26,\"\")","v":75.599999999999994},null,null,null,null,null,null,null,{"$f":"IF(Tabfill!$S$26<>\"\",Tabfill!$S$26,\"\")","v":54},null,null,null,null,null,null,null,{"$f":"IF(Tabfill!$T$26<>\"\",Tabfill!$T$26,\"\")","v":54},null,null,null,null,null,null,null,{"$f":"IF(Tabfill!$U$26<>\"\",Tabfill!$U$26,\"\")","v":0}]
[null,null,{"$f":"IF(Tabfill!A27<>\"\",Tabfill!A27,\"\")","v":4900}]
[null,null,null,null,null,null,null,null,null,null,null,null,null,null,null,null,null,{"$f":"IF(Tabfill!$B$27<>\"\",Tabfill!$B$27,\"\")","v":361.6},null,null,null,null,null,null,null,{"$f":"IF(Tabfill!$C$27<>\"\",Tabfill!$C$27,\"\")","v":336},null,null,null,null,null,null,null,{"$f":"IF(Tabfill!$D$27<>\"\",Tabfill!$D$27,\"\")","v":89.6},null,null,null,null,null,null,null,{"$f":"IF(Tabfill!$E$27<>\"\",Tabfill!$E$27,\"\")","v":53},null,null,null,null,null,null,null,{"$f":"IF(Tabfill!$F$27<>\"\",Tabfill!$F$27,\"\")","v":336},null,null,null,null,null,null,null,{"$f":"IF(Tabfill!$G$27<>\"\",Tabfill!$G$27,\"\")","v":258},null,null,null,null,null,null,null,{"$f":"IF(Tabfill!$I$27<>\"\",Tabfill!$I$27,\"\")","v":252},null,null,null,null,null,null,null,{"$f":"IF(Tabfill!$J$27<>\"\",Tabfill!$J$27,\"\")","v":25.599999999999994},null,null,null,null,null,null,null,{"$f":"IF(Tabfill!$K$27<>\"\",Tabfill!$K$27,\"\")","v":53},null,null,null,null,null,null,null,{"$f":"IF(Tabfill!$L$27<>\"\",Tabfill!$L$27,\"\")","v":330.6},null,null,null,null,null,null,null,{"$f":"IF(Tabfill!$M$27<>\"\",Tabfill!$M$27,\"\")","v":-72.600000000000023},null,null,null,null,null,null,null,{"$f":"IF(Tabfill!$O$27<>\"\",Tabfill!$O$27,\"\")","v":0},null,null,null,null,null,null,null,{"$f":"IF(Tabfill!$P$27<>\"\",Tabfill!$P$27,\"\")","v":252},null,null,null,null,null,null,null,{"$f":"IF(Tabfill!$R$27<>\"\",Tabfill!$R$27,\"\")","v":89.6},null,null,null,null,null,null,null,{"$f":"IF(Tabfill!$S$27<>\"\",Tabfill!$S$27,\"\")","v":64},null,null,null,null,null,null,null,{"$f":"IF(Tabfill!$T$27<>\"\",Tabfill!$T$27,\"\")","v":64},null,null,null,null,null,null,null,{"$f":"IF(Tabfill!$U$27<>\"\",Tabfill!$U$27,\"\")","v":0}]
[null,null,{"$f":"IF(Tabfill!A28<>\"\",Tabfill!A28,\"\")","v":4925}]
[null,null,null,null,null,null,null,null,null,null,null,null,null,null,null,null,null,{"$f":"IF(Tabfill!$B$28<>\"\",Tabfill!$B$28,\"\")","v":392.4},null,null,null,null,null,null,null,{"$f":"IF(Tabfill!$C$28<>\"\",Tabfill!$C$28,\"\")","v":366},null,null,null,null,null,null,null,{"$f":"IF(Tabfill!$D$28<>\"\",Tabfill!$D$28,\"\")","v":92.399999999999991},null,null,null,null,null,null,null,{"$f":"IF(Tabfill!$E$28<>\"\",Tabfill!$E$28,\"\")","v":53},null,null,null,null,null,null,null,{"$f":"IF(Tabfill!$F$28<>\"\",Tabfill!$F$28,\"\")","v":366},null,null,null,null,null,null,null,{"$f":"IF(Tabfill!$G$28<>\"\",Tabfill!$G$28,\"\")","v":282},null,null,null,null,null,null,null,{"$f":"IF(Tabfill!$I$28<>\"\",Tabfill!$I$28,\"\")","v":282},null,null,null,null,null,null,null,{"$f":"IF(Tabfill!$J$28<>\"\",Tabfill!$J$28,\"\")","v":26.399999999999991},null,null,null,null,null,null,null,{"$f":"IF(Tabfill!$K$28<>\"\",Tabfill!$K$28,\"\")","v":53},null,null,null,null,null,null,null,{"$f":"IF(Tabfill!$L$28<>\"\",Tabfill!$L$28,\"\")","v":361.4},null,null,null,null,null,null,null,{"$f":"IF(Tabfill!$M$28<>\"\",Tabfill!$M$28,\"\")","v":-79.399999999999977},null,null,null,null,null,null,null,{"$f":"IF(Tabfill!$O$28<>\"\",Tabfill!$O$28,\"\")","v":0},null,null,null,null,null,null,null,{"$f":"IF(Tabfill!$P$28<>\"\",Tabfill!$P$28,\"\")","v":282},null,null,null,null,null,null,null,{"$f":"IF(Tabfill!$R$28<>\"\",Tabfill!$R$28,\"\")","v":92.399999999999991},null,null,null,null,null,null,null,{"$f":"IF(Tabfill!$S$28<>\"\",Tabfill!$S$28,\"\")","v":66},null,null,null,null,null,null,null,{"$f":"IF(Tabfill!$T$28<>\"\",Tabfill!$T$28,\"\")","v":66},null,null,null,null,null,null,null,{"$f":"IF(Tabfill!$U$28<>\"\",Tabfill!$U$28,\"\")","v":0}]
[null,null,{"$f":"IF(Tabfill!A29<>\"\",Tabfill!A29,\"\")","v":4950}]
[null,null,null,null,null,null,null,null,null,null,null,null,null,null,null,null,null,{"$f":"IF(Tabfill!$B$29<>\"\",Tabfill!$B$29,\"\")","v":414.8},null,null,null,null,null,null,null,{"$f":"IF(Tabfill!$C$29<>\"\",Tabfill!$C$29,\"\")","v":388},null,null,null,null,null,null,null,{"$f":"IF(Tabfill!$D$29<>\"\",Tabfill!$D$29,\"\")","v":93.8},null,null,null,null,null,null,null,{"$f":"IF(Tabfill!$E$29<>\"\",Tabfill!$E$29,\"\")","v":53},null,null,null,null,null,null,null,{"$f":"IF(Tabfill!$F$29<>\"\",Tabfill!$F$29,\"\")","v":388},null,null,null,null,null,null,null,{"$f":"IF(Tabfill!$G$29<>\"\",Tabfill!$G$29,\"\")","v":298},null,null,null,null,null,null,null,{"$f":"IF(Tabfill!$I$29<>\"\",Tabfill!$I$29,\"\")","v":326},null,null,null,null,null,null,null,{"$f":"IF(Tabfill!$J$29<>\"\",Tabfill!$J$29,\"\")","v":26.799999999999997},null,null,null,null,null,null,null,{"$f":"IF(Tabfill!$K$29<>\"\",Tabfill!$K$29,\"\")","v":53},null,null,null,null,null,null,null,{"$f":"IF(Tabfill!$L$29<>\"\",Tabfill!$L$29,\"\")","v":405.8},null,null,null,null,null,null,null,{"$f":"IF(Tabfill!$M$29<>\"\",Tabfill!$M$29,\"\")","v":-107.80000000000001},null,null,null,null,null,null,null,{"$f":"IF(Tabfill!$O$29<>\"\",Tabfill!$O$29,\"\")","v":0},null,null,null,null,null,null,null,{"$f":"IF(Tabfill!$P$29<>\"\",Tabfill!$P$29,\"\")","v":325},null,null,null,null,null,null,null,{"$f":"IF(Tabfill!$R$29<>\"\",Tabfill!$R$29,\"\")","v":93.8},null,null,null,null,null,null,null,{"$f":"IF(Tabfill!$S$29<>\"\",Tabfill!$S$29,\"\")","v":67},null,null,null,null,null,null,null,{"$f":"IF(Tabfill!$T$29<>\"\",Tabfill!$T$29,\"\")","v":67},null,null,null,null,null,null,null,{"$f":"IF(Tabfill!$U$29<>\"\",Tabfill!$U$29,\"\")","v":0}]
[null,null,{"$f":"IF(Tabfill!A30<>\"\",Tabfill!A30,\"\")","v":4975}]
[null,null,null,null,null,null,null,null,null,null,null,null,null,null,null,null,null,{"$f":"IF(Tabfill!$B$30<>\"\",Tabfill!$B$30,\"\")","v":403.4},null,null,null,null,null,null,null,{"$f":"IF(Tabfill!$C$30<>\"\",Tabfill!$C$30,\"\")","v":377},null,null,null,null,null,null,null,{"$f":"IF(Tabfill!$D$30<>\"\",Tabfill!$D$30,\"\")","v":92.399999999999991},null,null,null,null,null,null,null,{"$f":"IF(Tabfill!$E$30<>\"\",Tabfill!$E$30,\"\")","v":53},null,null,null,null,null,null,null,{"$f":"IF(Tabfill!$F$30<>\"\",Tabfill!$F$30,\"\")","v":377},null,null,null,null,null,null,null,{"$f":"IF(Tabfill!$G$30<>\"\",Tabfill!$G$30,\"\")","v":290},null,null,null,null,null,null,null,{"$f":"IF(Tabfill!$I$30<>\"\",Tabfill!$I$30,\"\")","v":373},null,null,null,null,null,null,null,{"$f":"IF(Tabfill!$J$30<>\"\",Tabfill!$J$30,\"\")","v":26.399999999999991},null,null,null,null,null,null,null,{"$f":"IF(Tabfill!$K$30<>\"\",Tabfill!$K$30,\"\")","v":53},null,null,null,null,null,null,null,{"$f":"IF(Tabfill!$L$30<>\"\",Tabfill!$L$30,\"\")","v":452.4},null,null,null,null,null,null,null,{"$f":"IF(Tabfill!$M$30<>\"\",Tabfill!$M$30,\"\")","v":-162.39999999999998},null,null,null,null,null,null,null,{"$f":"IF(Tabfill!$O$30<>\"\",Tabfill!$O$30,\"\")","v":0},null,null,null,null,null,null,null,{"$f":"IF(Tabfill!$P$30<>\"\",Tabfill!$P$30,\"\")","v":372},null,null,null,null,null,null,null,{"$f":"IF(Tabfill!$R$30<>\"\",Tabfill!$R$30,\"\")","v":92.399999999999991},null,null,null,null,null,null,null,{"$f":"IF(Tabfill!$S$30<>\"\",Tabfill!$S$30,\"\")","v":66},null,null,null,null,null,null,null,{"$f":"IF(Tabfill!$T$30<>\"\",Tabfill!$T$30,\"\")","v":66},null,null,null,null,null,null,null,{"$f":"IF(Tabfill!$U$30<>\"\",Tabfill!$U$30,\"\")","v":0}]
[null,null,{"$f":"IF(Tabfill!A31<>\"\",Tabfill!A31,\"\")","v":5000}]
[null,null,null,null,null,null,null,null,null,null,null,null,null,null,null,null,null,{"$f":"IF(Tabfill!$B$31<>\"\",Tabfill!$B$31,\"\")","v":327},null,null,null,null,null,null,null,{"$f":"IF(Tabfill!$C$31<>\"\",Tabfill!$C$31,\"\")","v":301},null,null,null,null,null,null,null,{"$f":"IF(Tabfill!$D$31<>\"\",Tabfill!$D$31,\"\")","v":91},null,null,null,null,null,null,null,{"$f":"IF(Tabfill!$E$31<>\"\",Tabfill!$E$31,\"\")","v":56},null,null,null,null,null,null,null,{"$f":"IF(Tabfill!$F$31<>\"\",Tabfill!$F$31,\"\")","v":301},null,null,null,null,null,null,null,{"$f":"IF(Tabfill!$G$31<>\"\",Tabfill!$G$31,\"\")","v":232},null,null,null,null,null,null,null,{"$f":"IF(Tabfill!$I$31<>\"\",Tabfill!$I$31,\"\")","v":398},null,null,null,null,null,null,null,{"$f":"IF(Tabfill!$J$31<>\"\",Tabfill!$J$31,\"\")","v":26},null,null,null,null,null,null,null,{"$f":"IF(Tabfill!$K$31<>\"\",Tabfill!$K$31,\"\")","v":56},null,null,null,null,null,null,null,{"$f":"IF(Tabfill!$L$31<>\"\",Tabfill!$L$31,\"\")","v":480},null,null,null,null,null,null,null,{"$f":"IF(Tabfill!$M$31<>\"\",Tabfill!$M$31,\"\")","v":-248},null,null,null,null,null,null,null,{"$f":"IF(Tabfill!$O$31<>\"\",Tabfill!$O$31,\"\")","v":0},null,null,null,null,null,null,null,{"$f":"IF(Tabfill!$P$31<>\"\",Tabfill!$P$31,\"\")","v":398},null,null,null,null,null,null,null,{"$f":"IF(Tabfill!$R$31<>\"\",Tabfill!$R$31,\"\")","v":91},null,null,null,null,null,null,null,{"$f":"IF(Tabfill!$S$31<>\"\",Tabfill!$S$31,\"\")","v":65},null,null,null,null,null,null,null,{"$f":"IF(Tabfill!$T$31<>\"\",Tabfill!$T$31,\"\")","v":65},null,null,null,null,null,null,null,{"$f":"IF(Tabfill!$U$31<>\"\",Tabfill!$U$31,\"\")","v":0}]
[null,null,{"$f":"IF(Tabfill!A32<>\"\",Tabfill!A32,\"\")","v":5025}]
[null,null,null,null,null,null,null,null,null,null,null,null,null,null,null,null,null,{"$f":"IF(Tabfill!$B$32<>\"\",Tabfill!$B$32,\"\")","v":201},null,null,null,null,null,null,null,{"$f":"IF(Tabfill!$C$32<>\"\",Tabfill!$C$32,\"\")","v":177},null,null,null,null,null,null,null,{"$f":"IF(Tabfill!$D$32<>\"\",Tabfill!$D$32,\"\")","v":84},null,null,null,null,null,null,null,{"$f":"IF(Tabfill!$E$32<>\"\",Tabfill!$E$32,\"\")","v":57},null,null,null,null,null,null,null,{"$f":"IF(Tabfill!$F$32<>\"\",Tabfill!$F$32,\"\")","v":177},null,null,null,null,null,null,null,{"$f":"IF(Tabfill!$G$32<>\"\",Tabfill!$G$32,\"\")","v":136},null,null,null,null,null,null,null,{"$f":"IF(Tabfill!$I$32<>\"\",Tabfill!$I$32,\"\")","v":430},null,null,null,null,null,null,null,{"$f":"IF(Tabfill!$J$32<>\"\",Tabfill!$J$32,\"\")","v":24},null,null,null,null,null,null,null,{"$f":"IF(Tabfill!$K$32<>\"\",Tabfill!$K$32,\"\")","v":57},null,null,null,null,null,null,null,{"$f":"IF(Tabfill!$L$32<>\"\",Tabfill!$L$32,\"\")","v":511},null,null,null,null,null,null,null,{"$f":"IF(Tabfill!$M$32<>\"\",Tabfill!$M$32,\"\")","v":-375},null,null,null,null,null,null,null,{"$f":"IF(Tabfill!$O$32<>\"\",Tabfill!$O$32,\"\")","v":0},null,null,null,null,null,null,null,{"$f":"IF(Tabfill!$P$32<>\"\",Tabfill!$P$32,\"\")","v":430},null,null,null,null,null,null,null,{"$f":"IF(Tabfill!$R$32<>\"\",Tabfill!$R$32,\"\")","v":84},null,null,null,null,null,null,null,{"$f":"IF(Tabfill!$S$32<>\"\",Tabfill!$S$32,\"\")","v":60},null,null,null,null,null,null,null,{"$f":"IF(Tabfill!$T$32<>\"\",Tabfill!$T$32,\"\")","v":60},null,null,null,null,null,null,null,{"$f":"IF(Tabfill!$U$32<>\"\",Tabfill!$U$32,\"\")","v":0}]
[null,null,{"$f":"IF(Tabfill!A33<>\"\",Tabfill!A33,\"\")","v":5050}]
[null,null,null,null,null,null,null,null,null,null,null,null,null,null,null,null,null,{"$f":"IF(Tabfill!$B$33<>\"\",Tabfill!$B$33,\"\")","v":98.399999999999991},null,null,null,null,null,null,null,{"$f":"IF(Tabfill!$C$33<>\"\",Tabfill!$C$33,\"\")","v":76},null,null,null,null,null,null,null,{"$f":"IF(Tabfill!$D$33<>\"\",Tabfill!$D$33,\"\")","v":78.399999999999991},null,null,null,null,null,null,null,{"$f":"IF(Tabfill!$E$33<>\"\",Tabfill!$E$33,\"\")","v":55},null,null,null,null,null,null,null,{"$f":"IF(Tabfill!$F$33<>\"\",Tabfill!$F$33,\"\")","v":76},null,null,null,null,null,null,null,{"$f":"IF(Tabfill!$G$33<>\"\",Tabfill!$G$33,\"\")","v":58},null,null,null,null,null,null,null,{"$f":"IF(Tabfill!$I$33<>\"\",Tabfill!$I$33,\"\")","v":487},null,null,null,null,null,null,null,{"$f":"IF(Tabfill!$J$33<>\"\",Tabfill!$J$33,\"\")","v":22.399999999999991},null,null,null,null,null,null,null,{"$f":"IF(Tabfill!$K$33<>\"\",Tabfill!$K$33,\"\")","v":55},null,null,null,null,null,null,null,{"$f":"IF(Tabfill!$L$33<>\"\",Tabfill!$L$33,\"\")","v":564.4},null,null,null,null,null,null,null,{"$f":"IF(Tabfill!$M$33<>\"\",Tabfill!$M$33,\"\")","v":-506.4},null,null,null,null,null,null,null,{"$f":"IF(Tabfill!$O$33<>\"\",Tabfill!$O$33,\"\")","v":0},null,null,null,null,null,null,null,{"$f":"IF(Tabfill!$P$33<>\"\",Tabfill!$P$33,\"\")","v":487},null,null,null,null,null,null,null,{"$f":"IF(Tabfill!$R$33<>\"\",Tabfill!$R$33,\"\")","v":78.399999999999991},null,null,null,null,null,null,null,{"$f":"IF(Tabfill!$S$33<>\"\",Tabfill!$S$33,\"\")","v":56},null,null,null,null,null,null,null,{"$f":"IF(Tabfill!$T$33<>\"\",Tabfill!$T$33,\"\")","v":56},null,null,null,null,null,null,null,{"$f":"IF(Tabfill!$U$33<>\"\",Tabfill!$U$33,\"\")","v":0}]
[null,null,{"$f":"IF(Tabfill!A34<>\"\",Tabfill!A34,\"\")","v":5075}]
[null,null,null,null,null,null,null,null,null,null,null,null,null,null,null,null,null,{"$f":"IF(Tabfill!$B$34<>\"\",Tabfill!$B$34,\"\")","v":49.8},null,null,null,null,null,null,null,{"$f":"IF(Tabfill!$C$34<>\"\",Tabfill!$C$34,\"\")","v":23},null,null,null,null,null,null,null,{"$f":"IF(Tabfill!$D$34<>\"\",Tabfill!$D$34,\"\")","v":93.8},null,null,null,null,null,null,null,{"$f":"IF(Tabfill!$E$34<>\"\",Tabfill!$E$34,\"\")","v":51},null,null,null,null,null,null,null,{"$f":"IF(Tabfill!$F$34<>\"\",Tabfill!$F$34,\"\")","v":23},null,null,null,null,null,null,null,{"$f":"IF(Tabfill!$G$34<>\"\",Tabfill!$G$34,\"\")","v":18},null,null,null,null,null,null,null,{"$f":"IF(Tabfill!$I$34<>\"\",Tabfill!$I$34,\"\")","v":884},null,null,null,null,null,null,null,{"$f":"IF(Tabfill!$J$34<>\"\",Tabfill!$J$34,\"\")","v":26.799999999999997},null,null,null,null,null,null,null,{"$f":"IF(Tabfill!$K$34<>\"\",Tabfill!$K$34,\"\")","v":51},null,null,null,null,null,null,null,{"$f":"IF(Tabfill!$L$34<>\"\",Tabfill!$L$34,\"\")","v":961.8},null,null,null,null,null,null,null,{"$f":"IF(Tabfill!$M$34<>\"\",Tabfill!$M$34,\"\")","v":-943.8},null,null,null,null,null,null,null,{"$f":"IF(Tabfill!$O$34<>\"\",Tabfill!$O$34,\"\")","v":0},null,null,null,null,null,null,null,{"$f":"IF(Tabfill!$P$34<>\"\",Tabfill!$P$34,\"\")","v":884},null,null,null,null,null,null,null,{"$f":"IF(Tabfill!$R$34<>\"\",Tabfill!$R$34,\"\")","v":93.8},null,null,null,null,null,null,null,{"$f":"IF(Tabfill!$S$34<>\"\",Tabfill!$S$34,\"\")","v":67},null,null,null,null,null,null,null,{"$f":"IF(Tabfill!$T$34<>\"\",Tabfill!$T$34,\"\")","v":67},null,null,null,null,null,null,null,{"$f":"IF(Tabfill!$U$34<>\"\",Tabfill!$U$34,\"\")","v":0}]
[null,null,{"$f":"IF(Tabfill!A35<>\"\",Tabfill!A35,\"\")","v":5300}]
[null,null,null,null,null,null,null,null,null,null,null,null,null,null,null,null,null,{"$f":"IF(Tabfill!$B$35<>\"\",Tabfill!$B$35,\"\")","v":32.199999999999989},null,null,null,null,null,null,null,{"$f":"IF(Tabfill!$C$35<>\"\",Tabfill!$C$35,\"\")","v":1},null,null,null,null,null,null,null,{"$f":"IF(Tabfill!$D$35<>\"\",Tabfill!$D$35,\"\")","v":109.19999999999999},null,null,null,null,null,null,null,{"$f":"IF(Tabfill!$E$35<>\"\",Tabfill!$E$35,\"\")","v":49},null,null,null,null,null,null,null,{"$f":"IF(Tabfill!$F$35<>\"\",Tabfill!$F$35,\"\")","v":1},null,null,null,null,null,null,null,{"$f":"IF(Tabfill!$G$35<>\"\",Tabfill!$G$35,\"\")","v":1},null,null,null,null,null,null,null,{"$f":"IF(Tabfill!$I$35<>\"\",Tabfill!$I$35,\"\")","v":1215},null,null,null,null,null,null,null,{"$f":"IF(Tabfill!$J$35<>\"\",Tabfill!$J$35,\"\")","v":31.199999999999989},null,null,null,null,null,null,null,{"$f":"IF(Tabfill!$K$35<>\"\",Tabfill!$K$35,\"\")","v":49},null,null,null,null,null,null,null,{"$f":"IF(Tabfill!$L$35<>\"\",Tabfill!$L$35,\"\")","v":1295.2},null,null,null,null,null,null,null,{"$f":"IF(Tabfill!$M$35<>\"\",Tabfill!$M$35,\"\")","v":-1294.2},null,null,null,null,null,null,null,{"$f":"IF(Tabfill!$O$35<>\"\",Tabfill!$O$35,\"\")","v":0},null,null,null,null,null,null,null,{"$f":"IF(Tabfill!$P$35<>\"\",Tabfill!$P$35,\"\")","v":10937},null,null,null,null,null,null,null,{"$f":"IF(Tabfill!$R$35<>\"\",Tabfill!$R$35,\"\")","v":109.19999999999999},null,null,null,null,null,null,null,{"$f":"IF(Tabfill!$S$35<>\"\",Tabfill!$S$35,\"\")","v":78},null,null,null,null,null,null,null,{"$f":"IF(Tabfill!$T$35<>\"\",Tabfill!$T$35,\"\")","v":78},null,null,null,null,null,null,null,{"$f":"IF(Tabfill!$U$35<>\"\",Tabfill!$U$35,\"\")","v":0}]
[null,null,{"$f":"IF(Tabfill!A36<>\"\",Tabfill!A36,\"\")","v":5325}]
[null,null,null,null,null,null,null,null,null,null,null,null,null,null,null,null,null,{"$f":"IF(Tabfill!$B$36<>\"\",Tabfill!$B$36,\"\")","v":31.399999999999991},null,null,null,null,null,null,null,{"$f":"IF(Tabfill!$C$36<>\"\",Tabfill!$C$36,\"\")","v":1},null,null,null,null,null,null,null,{"$f":"IF(Tabfill!$D$36<>\"\",Tabfill!$D$36,\"\")","v":106.39999999999999},null,null,null,null,null,null,null,{"$f":"IF(Tabfill!$E$36<>\"\",Tabfill!$E$36,\"\")","v":50},null,null,null,null,null,null,null,{"$f":"IF(Tabfill!$F$36<>\"\",Tabfill!$F$36,\"\")","v":1},null,null,null,null,null,null,null,{"$f":"IF(Tabfill!$G$36<>\"\",Tabfill!$G$36,\"\")","v":1},null,null,null,null,null,null,null,{"$f":"IF(Tabfill!$I$36<>\"\",Tabfill!$I$36,\"\")","v":1155},null,null,null,null,null,null,null,{"$f":"IF(Tabfill!$J$36<>\"\",Tabfill!$J$36,\"\")","v":30.399999999999991},null,null,null,null,null,null,null,{"$f":"IF(Tabfill!$K$36<>\"\",Tabfill!$K$36,\"\")","v":50},null,null,null,null,null,null,null,{"$f":"IF(Tabfill!$L$36<>\"\",Tabfill!$L$36,\"\")","v":1235.4000000000001},null,null,null,null,null,null,null,{"$f":"IF(Tabfill!$M$36<>\"\",Tabfill!$M$36,\"\")","v":-1234.4000000000001},null,null,null,null,null,null,null,{"$f":"IF(Tabfill!$O$36<>\"\",Tabfill!$O$36,\"\")","v":0},null,null,null,null,null,null,null,{"$f":"IF(Tabfill!$P$36<>\"\",Tabfill!$P$36,\"\")","v":1154},null,null,null,null,null,null,null,{"$f":"IF(Tabfill!$R$36<>\"\",Tabfill!$R$36,\"\")","v":106.39999999999999},null,null,null,null,null,null,null,{"$f":"IF(Tabfill!$S$36<>\"\",Tabfill!$S$36,\"\")","v":76},null,null,null,null,null,null,null,{"$f":"IF(Tabfill!$T$36<>\"\",Tabfill!$T$36,\"\")","v":76},null,null,null,null,null,null,null,{"$f":"IF(Tabfill!$U$36<>\"\",Tabfill!$U$36,\"\")","v":0}]
[null,null,{"$f":"IF(Tabfill!A37<>\"\",Tabfill!A37,\"\")","v":5350}]
[null,null,null,null,null,null,null,null,null,null,null,null,null,null,null,null,null,{"$f":"IF(Tabfill!$B$37<>\"\",Tabfill!$B$37,\"\")","v":31},null,null,null,null,null,null,null,{"$f":"IF(Tabfill!$C$37<>\"\",Tabfill!$C$37,\"\")","v":1},null,null,null,null,null,null,null,{"$f":"IF(Tabfill!$D$37<>\"\",Tabfill!$D$37,\"\")","v":105},null,null,null,null,null,null,null,{"$f":"IF(Tabfill!$E$37<>\"\",Tabfill!$E$37,\"\")","v":52},null,null,null,null,null,null,null,{"$f":"IF(Tabfill!$F$37<>\"\",Tabfill!$F$37,\"\")","v":1},null,null,null,null,null,null,null,{"$f":"IF(Tabfill!$G$37<>\"\",Tabfill!$G$37,\"\")","v":1},null,null,null,null,null,null,null,{"$f":"IF(Tabfill!$I$37<>\"\",Tabfill!$I$37,\"\")","v":1126},null,null,null,null,null,null,null,{"$f":"IF(Tabfill!$J$37<>\"\",Tabfill!$J$37,\"\")","v":30},null,null,null,null,null,null,null,{"$f":"IF(Tabfill!$K$37<>\"\",Tabfill!$K$37,\"\")","v":52},null,null,null,null,null,null,null,{"$f":"IF(Tabfill!$L$37<>\"\",Tabfill!$L$37,\"\")","v":1208},null,null,null,null,null,null,null,{"$f":"IF(Tabfill!$M$37<>\"\",Tabfill!$M$37,\"\")","v":-1207},null,null,null,null,null,null,null,{"$f":"IF(Tabfill!$O$37<>\"\",Tabfill!$O$37,\"\")","v":0},null,null,null,null,null,null,null,{"$f":"IF(Tabfill!$P$37<>\"\",Tabfill!$P$37,\"\")","v":1126},null,null,null,null,null,null,null,{"$f":"IF(Tabfill!$R$37<>\"\",Tabfill!$R$37,\"\")","v":105},null,null,null,null,null,null,null,{"$f":"IF(Tabfill!$S$37<>\"\",Tabfill!$S$37,\"\")","v":75},null,null,null,null,null,null,null,{"$f":"IF(Tabfill!$T$37<>\"\",Tabfill!$T$37,\"\")","v":75},null,null,null,null,null,null,null,{"$f":"IF(Tabfill!$U$37<>\"\",Tabfill!$U$37,\"\")","v":0}]
[null,null,{"$f":"IF(Tabfill!A38<>\"\",Tabfill!A38,\"\")","v":5375}]
[null,null,null,null,null,null,null,null,null,null,null,null,null,null,null,null,null,{"$f":"IF(Tabfill!$B$38<>\"\",Tabfill!$B$38,\"\")","v":30.599999999999994},null,null,null,null,null,null,null,{"$f":"IF(Tabfill!$C$38<>\"\",Tabfill!$C$38,\"\")","v":1},null,null,null,null,null,null,null,{"$f":"IF(Tabfill!$D$38<>\"\",Tabfill!$D$38,\"\")","v":103.6},null,null,null,null,null,null,null,{"$f":"IF(Tabfill!$E$38<>\"\",Tabfill!$E$38,\"\")","v":53},null,null,null,null,null,null,null,{"$f":"IF(Tabfill!$F$38<>\"\",Tabfill!$F$38,\"\")","v":1},null,null,null,null,null,null,null,{"$f":"IF(Tabfill!$G$38<>\"\",Tabfill!$G$38,\"\")","v":1},null,null,null,null,null,null,null,{"$f":"IF(Tabfill!$I$38<>\"\",Tabfill!$I$38,\"\")","v":1045},null,null,null,null,null,null,null,{"$f":"IF(Tabfill!$J$38<>\"\",Tabfill!$J$38,\"\")","v":29.599999999999994},null,null,null,null,null,null,null,{"$f":"IF(Tabfill!$K$38<>\"\",Tabfill!$K$38,\"\")","v":53},null,null,null,null,null,null,null,{"$f":"IF(Tabfill!$L$38<>\"\",Tabfill!$L$38,\"\")","v":1127.5999999999999},null,null,null,null,null,null,null,{"$f":"IF(Tabfill!$M$38<>\"\",Tabfill!$M$38,\"\")","v":-1126.5999999999999},null,null,null,null,null,null,null,{"$f":"IF(Tabfill!$O$38<>\"\",Tabfill!$O$38,\"\")","v":0},null,null,null,null,null,null,null,{"$f":"IF(Tabfill!$P$38<>\"\",Tabfill!$P$38,\"\")","v":1045},null,null,null,null,null,null,null,{"$f":"IF(Tabfill!$R$38<>\"\",Tabfill!$R$38,\"\")","v":103.6},null,null,null,null,null,null,null,{"$f":"IF(Tabfill!$S$38<>\"\",Tabfill!$S$38,\"\")","v":74},null,null,null,null,null,null,null,{"$f":"IF(Tabfill!$T$38<>\"\",Tabfill!$T$38,\"\")","v":74},null,null,null,null,null,null,null,{"$f":"IF(Tabfill!$U$38<>\"\",Tabfill!$U$38,\"\")","v":0}]
[null,null,{"$f":"IF(Tabfill!A39<>\"\",Tabfill!A39,\"\")","v":5400}]
[null,null,null,null,null,null,null,null,null,null,null,null,null,null,null,null,null,{"$f":"IF(Tabfill!$B$39<>\"\",Tabfill!$B$39,\"\")","v":29.399999999999991},null,null,null,null,null,null,null,{"$f":"IF(Tabfill!$C$39<>\"\",Tabfill!$C$39,\"\")","v":1},null,null,null,null,null,null,null,{"$f":"IF(Tabfill!$D$39<>\"\",Tabfill!$D$39,\"\")","v":99.399999999999991},null,null,null,null,null,null,null,{"$f":"IF(Tabfill!$E$39<>\"\",Tabfill!$E$39,\"\")","v":55},null,null,null,null,null,null,null,{"$f":"IF(Tabfill!$F$39<>\"\",Tabfill!$F$39,\"\")","v":1},null,null,null,null,null,null,null,{"$f":"IF(Tabfill!$G$39<>\"\",Tabfill!$G$39,\"\")","v":1},null,null,null,null,null,null,null,{"$f":"IF(Tabfill!$I$39<>\"\",Tabfill!$I$39,\"\")","v":920},null,null,null,null,null,null,null,{"$f":"IF(Tabfill!$J$39<>\"\",Tabfill!$J$39,\"\")","v":28.399999999999991},null,null,null,null,null,null,null,{"$f":"IF(Tabfill!$K$39<>\"\",Tabfill!$K$39,\"\")","v":55},null,null,null,null,null,null,null,{"$f":"IF(Tabfill!$L$39<>\"\",Tabfill!$L$39,\"\")","v":1003.4},null,null,null,null,null,null,null,{"$f":"IF(Tabfill!$M$39<>\"\",Tabfill!$M$39,\"\")","v":-1002.4},null,null,null,null,null,null,null,{"$f":"IF(Tabfill!$O$39<>\"\",Tabfill!$O$39,\"\")","v":0},null,null,null,null,null,null,null,{"$f":"IF(Tabfill!$P$39<>\"\",Tabfill!$P$39,\"\")","v":919},null,null,null,null,null,null,null,{"$f":"IF(Tabfill!$R$39<>\"\",Tabfill!$R$39,\"\")","v":99.399999999999991},null,null,null,null,null,null,null,{"$f":"IF(Tabfill!$S$39<>\"\",Tabfill!$S$39,\"\")","v":71},null,null,null,null,null,null,null,{"$f":"IF(Tabfill!$T$39<>\"\",Tabfill!$T$39,\"\")","v":71},null,null,null,null,null,null,null,{"$f":"IF(Tabfill!$U$39<>\"\",Tabfill!$U$39,\"\")","v":0}]
[null,null,{"$f":"IF(Tabfill!A40<>\"\",Tabfill!A40,\"\")","v":5425}]
[null,null,null,null,null,null,null,null,null,null,null,null,null,null,null,null,null,{"$f":"IF(Tabfill!$B$40<>\"\",Tabfill!$B$40,\"\")","v":29.199999999999989},null,null,null,null,null,null,null,{"$f":"IF(Tabfill!$C$40<>\"\",Tabfill!$C$40,\"\")","v":2},null,null,null,null,null,null,null,{"$f":"IF(Tabfill!$D$40<>\"\",Tabfill!$D$40,\"\")","v":95.199999999999989},null,null,null,null,null,null,null,{"$f":"IF(Tabfill!$E$40<>\"\",Tabfill!$E$40,\"\")","v":57},null,null,null,null,null,null,null,{"$f":"IF(Tabfill!$F$40<>\"\",Tabfill!$F$40,\"\")","v":2},null,null,null,null,null,null,null,{"$f":"IF(Tabfill!$G$40<>\"\",Tabfill!$G$40,\"\")","v":2},null,null,null,null,null,null,null,{"$f":"IF(Tabfill!$I$40<>\"\",Tabfill!$I$40,\"\")","v":814},null,null,null,null,null,null,null,{"$f":"IF(Tabfill!$J$40<>\"\",Tabfill!$J$40,\"\")","v":27.199999999999989},null,null,null,null,null,null,null,{"$f":"IF(Tabfill!$K$40<>\"\",Tabfill!$K$40,\"\")","v":57},null,null,null,null,null,null,null,{"$f":"IF(Tabfill!$L$40<>\"\",Tabfill!$L$40,\"\")","v":898.2},null,null,null,null,null,null,null,{"$f":"IF(Tabfill!$M$40<>\"\",Tabfill!$M$40,\"\")","v":-896.2},null,null,null,null,null,null,null,{"$f":"IF(Tabfill!$O$40<>\"\",Tabfill!$O$40,\"\")","v":0},null,null,null,null,null,null,null,{"$f":"IF(Tabfill!$P$40<>\"\",Tabfill!$P$40,\"\")","v":813},null,null,null,null,null,null,null,{"$f":"IF(Tabfill!$R$40<>\"\",Tabfill!$R$40,\"\")","v":95.199999999999989},null,null,null,null,null,null,null,{"$f":"IF(Tabfill!$S$40<>\"\",Tabfill!$S$40,\"\")","v":68},null,null,null,null,null,null,null,{"$f":"IF(Tabfill!$T$40<>\"\",Tabfill!$T$40,\"\")","v":68},null,null,null,null,null,null,null,{"$f":"IF(Tabfill!$U$40<>\"\",Tabfill!$U$40,\"\")","v":0}]
[null,null,{"$f":"IF(Tabfill!A41<>\"\",Tabfill!A41,\"\")","v":5450}]
[null,null,null,null,null,null,null,null,null,null,null,null,null,null,null,null,null,{"$f":"IF(Tabfill!$B$41<>\"\",Tabfill!$B$41,\"\")","v":27.599999999999994},null,null,null,null,null,null,null,{"$f":"IF(Tabfill!$C$41<>\"\",Tabfill!$C$41,\"\")","v":2},null,null,null,null,null,null,null,{"$f":"IF(Tabfill!$D$41<>\"\",Tabfill!$D$41,\"\")","v":89.6},null,null,null,null,null,null,null,{"$f":"IF(Tabfill!$E$41<>\"\",Tabfill!$E$41,\"\")","v":59},null,null,null,null,null,null,null,{"$f":"IF(Tabfill!$F$41<>\"\",Tabfill!$F$41,\"\")","v":2},null,null,null,null,null,null,null,{"$f":"IF(Tabfill!$G$41<>\"\",Tabfill!$G$41,\"\")","v":2},null,null,null,null,null,null,null,{"$f":"IF(Tabfill!$I$41<>\"\",Tabfill!$I$41,\"\")","v":661},null,null,null,null,null,null,null,{"$f":"IF(Tabfill!$J$41<>\"\",Tabfill!$J$41,\"\")","v":25.599999999999994},null,null,null,null,null,null,null,{"$f":"IF(Tabfill!$K$41<>\"\",Tabfill!$K$41,\"\")","v":59},null,null,null,null,null,null,null,{"$f":"IF(Tabfill!$L$41<>\"\",Tabfill!$L$41,\"\")","v":745.6},null,null,null,null,null,null,null,{"$f":"IF(Tabfill!$M$41<>\"\",Tabfill!$M$41,\"\")","v":-743.6},null,null,null,null,null,null,null,{"$f":"IF(Tabfill!$O$41<>\"\",Tabfill!$O$41,\"\")","v":0},null,null,null,null,null,null,null,{"$f":"IF(Tabfill!$P$41<>\"\",Tabfill!$P$41,\"\")","v":661},null,null,null,null,null,null,null,{"$f":"IF(Tabfill!$R$41<>\"\",Tabfill!$R$41,\"\")","v":89.6},null,null,null,null,null,null,null,{"$f":"IF(Tabfill!$S$41<>\"\",Tabfill!$S$41,\"\")","v":64},null,null,null,null,null,null,null,{"$f":"IF(Tabfill!$T$41<>\"\",Tabfill!$T$41,\"\")","v":64},null,null,null,null,null,null,null,{"$f":"IF(Tabfill!$U$41<>\"\",Tabfill!$U$41,\"\")","v":0}]
[null,null,{"$f":"IF(Tabfill!A42<>\"\",Tabfill!A42,\"\")","v":5475}]
[null,null,null,null,null,null,null,null,null,null,null,null,null,null,null,null,null,{"$f":"IF(Tabfill!$B$42<>\"\",Tabfill!$B$42,\"\")","v":25.399999999999991},null,null,null,null,null,null,null,{"$f":"IF(Tabfill!$C$42<>\"\",Tabfill!$C$42,\"\")","v":1},null,null,null,null,null,null,null,{"$f":"IF(Tabfill!$D$42<>\"\",Tabfill!$D$42,\"\")","v":85.399999999999991},null,null,null,null,null,null,null,{"$f":"IF(Tabfill!$E$42<>\"\",Tabfill!$E$42,\"\")","v":61},null,null,null,null,null,null,null,{"$f":"IF(Tabfill!$F$42<>\"\",Tabfill!$F$42,\"\")","v":1},null,null,null,null,null,null,null,{"$f":"IF(Tabfill!$G$42<>\"\",Tabfill!$G$42,\"\")","v":1},null,null,null,null,null,null,null,{"$f":"IF(Tabfill!$I$42<>\"\",Tabfill!$I$42,\"\")","v":503},null,null,null,null,null,null,null,{"$f":"IF(Tabfill!$J$42<>\"\",Tabfill!$J$42,\"\")","v":24.399999999999991},null,null,null,null,null,null,null,{"$f":"IF(Tabfill!$K$42<>\"\",Tabfill!$K$42,\"\")","v":61},null,null,null,null,null,null,null,{"$f":"IF(Tabfill!$L$42<>\"\",Tabfill!$L$42,\"\")","v":588.4},null,null,null,null,null,null,null,{"$f":"IF(Tabfill!$M$42<>\"\",Tabfill!$M$42,\"\")","v":-587.4},null,null,null,null,null,null,null,{"$f":"IF(Tabfill!$O$42<>\"\",Tabfill!$O$42,\"\")","v":0},null,null,null,null,null,null,null,{"$f":"IF(Tabfill!$P$42<>\"\",Tabfill!$P$42,\"\")","v":502},null,null,null,null,null,null,null,{"$f":"IF(Tabfill!$R$42<>\"\",Tabfill!$R$42,\"\")","v":85.399999999999991},null,null,null,null,null,null,null,{"$f":"IF(Tabfill!$S$42<>\"\",Tabfill!$S$42,\"\")","v":61},null,null,null,null,null,null,null,{"$f":"IF(Tabfill!$T$42<>\"\",Tabfill!$T$42,\"\")","v":61},null,null,null,null,null,null,null,{"$f":"IF(Tabfill!$U$42<>\"\",Tabfill!$U$42,\"\")","v":0}]
[null,null,{"$f":"IF(Tabfill!A43<>\"\",Tabfill!A43,\"\")","v":5500}]
[null,null,null,null,null,null,null,null,null,null,null,null,null,null,null,null,null,{"$f":"IF(Tabfill!$B$43<>\"\",Tabfill!$B$43,\"\")","v":24.199999999999989},null,null,null,null,null,null,null,{"$f":"IF(Tabfill!$C$43<>\"\",Tabfill!$C$43,\"\")","v":1},null,null,null,null,null,null,null,{"$f":"IF(Tabfill!$D$43<>\"\",Tabfill!$D$43,\"\")","v":81.199999999999989},null,null,null,null,null,null,null,{"$f":"IF(Tabfill!$E$43<>\"\",Tabfill!$E$43,\"\")","v":63},null,null,null,null,null,null,null,{"$f":"IF(Tabfill!$F$43<>\"\",Tabfill!$F$43,\"\")","v":1},null,null,null,null,null,null,null,{"$f":"IF(Tabfill!$G$43<>\"\",Tabfill!$G$43,\"\")","v":1},null,null,null,null,null,null,null,{"$f":"IF(Tabfill!$I$43<>\"\",Tabfill!$I$43,\"\")","v":416},null,null,null,null,null,null,null,{"$f":"IF(Tabfill!$J$43<>\"\",Tabfill!$J$43,\"\")","v":23.199999999999989},null,null,null,null,null,null,null,{"$f":"IF(Tabfill!$K$43<>\"\",Tabfill!$K$43,\"\")","v":63},null,null,null,null,null,null,null,{"$f":"IF(Tabfill!$L$43<>\"\",Tabfill!$L$43,\"\")","v":502.2},null,null,null,null,null,null,null,{"$f":"IF(Tabfill!$M$43<>\"\",Tabfill!$M$43,\"\")","v":-501.2},null,null,null,null,null,null,null,{"$f":"IF(Tabfill!$O$43<>\"\",Tabfill!$O$43,\"\")","v":0},null,null,null,null,null,null,null,{"$f":"IF(Tabfill!$P$43<>\"\",Tabfill!$P$43,\"\")","v":416},null,null,null,null,null,null,null,{"$f":"IF(Tabfill!$R$43<>\"\",Tabfill!$R$43,\"\")","v":81.199999999999989},null,null,null,null,null,null,null,{"$f":"IF(Tabfill!$S$43<>\"\",Tabfill!$S$43,\"\")","v":58},null,null,null,null,null,null,null,{"$f":"IF(Tabfill!$T$43<>\"\",Tabfill!$T$43,\"\")","v":58},null,null,null,null,null,null,null,{"$f":"IF(Tabfill!$U$43<>\"\",Tabfill!$U$43,\"\")","v":0}]
[null,null,{"$f":"IF(Tabfill!A44<>\"\",Tabfill!A44,\"\")","v":5525}]
[null,null,null,null,null,null,null,null,null,null,null,null,null,null,null,null,null,{"$f":"IF(Tabfill!$B$44<>\"\",Tabfill!$B$44,\"\")","v":23.599999999999994},null,null,null,null,null,null,null,{"$f":"IF(Tabfill!$C$44<>\"\",Tabfill!$C$44,\"\")","v":2},null,null,null,null,null,null,null,{"$f":"IF(Tabfill!$D$44<>\"\",Tabfill!$D$44,\"\")","v":75.599999999999994},null,null,null,null,null,null,null,{"$f":"IF(Tabfill!$E$44<>\"\",Tabfill!$E$44,\"\")","v":66},null,null,null,null,null,null,null,{"$f":"IF(Tabfill!$F$44<>\"\",Tabfill!$F$44,\"\")","v":2},null,null,null,null,null,null,null,{"$f":"IF(Tabfill!$G$44<>\"\",Tabfill!$G$44,\"\")","v":2},null,null,null,null,null,null,null,{"$f":"IF(Tabfill!$I$44<>\"\",Tabfill!$I$44,\"\")","v":369},null,null,null,null,null,null,null,{"$f":"IF(Tabfill!$J$44<>\"\",Tabfill!$J$44,\"\")","v":21.599999999999994},null,null,null,null,null,null,null,{"$f":"IF(Tabfill!$K$44<>\"\",Tabfill!$K$44,\"\")","v":66},null,null,null,null,null,null,null,{"$f":"IF(Tabfill!$L$44<>\"\",Tabfill!$L$44,\"\")","v":456.6},null,null,null,null,null,null,null,{"$f":"IF(Tabfill!$M$44<>\"\",Tabfill!$M$44,\"\")","v":-454.6},null,null,null,null,null,null,null,{"$f":"IF(Tabfill!$O$44<>\"\",Tabfill!$O$44,\"\")","v":0},null,null,null,null,null,null,null,{"$f":"IF(Tabfill!$P$44<>\"\",Tabfill!$P$44,\"\")","v":368},null,null,null,null,null,null,null,{"$f":"IF(Tabfill!$R$44<>\"\",Tabfill!$R$44,\"\")","v":75.599999999999994},null,null,null,null,null,null,null,{"$f":"IF(Tabfill!$S$44<>\"\",Tabfill!$S$44,\"\")","v":54},null,null,null,null,null,null,null,{"$f":"IF(Tabfill!$T$44<>\"\",Tabfill!$T$44,\"\")","v":54},null,null,null,null,null,null,null,{"$f":"IF(Tabfill!$U$44<>\"\",Tabfill!$U$44,\"\")","v":0}]
[null,null,{"$f":"IF(Tabfill!A45<>\"\",Tabfill!A45,\"\")","v":5550}]
[null,null,null,null,null,null,null,null,null,null,null,null,null,null,null,null,null,{"$f":"IF(Tabfill!$B$45<>\"\",Tabfill!$B$45,\"\")","v":25.399999999999991},null,null,null,null,null,null,null,{"$f":"IF(Tabfill!$C$45<>\"\",Tabfill!$C$45,\"\")","v":5},null,null,null,null,null,null,null,{"$f":"IF(Tabfill!$D$45<>\"\",Tabfill!$D$45,\"\")","v":71.399999999999991},null,null,null,null,null,null,null,{"$f":"IF(Tabfill!$E$45<>\"\",Tabfill!$E$45,\"\")","v":68},null,null,null,null,null,null,null,{"$f":"IF(Tabfill!$F$45<>\"\",Tabfill!$F$45,\"\")","v":5},null,null,null,null,null,null,null,{"$f":"IF(Tabfill!$G$45<>\"\",Tabfill!$G$45,\"\")","v":4},null,null,null,null,null,null,null,{"$f":"IF(Tabfill!$I$45<>\"\",Tabfill!$I$45,\"\")","v":313},null,null,null,null,null,null,null,{"$f":"IF(Tabfill!$J$45<>\"\",Tabfill!$J$45,\"\")","v":20.399999999999991},null,null,null,null,null,null,null,{"$f":"IF(Tabfill!$K$45<>\"\",Tabfill!$K$45,\"\")","v":68},null,null,null,null,null,null,null,{"$f":"IF(Tabfill!$L$45<>\"\",Tabfill!$L$45,\"\")","v":401.4},null,null,null,null,null,null,null,{"$f":"IF(Tabfill!$M$45<>\"\",Tabfill!$M$45,\"\")","v":-397.4},null,null,null,null,null,null,null,{"$f":"IF(Tabfill!$O$45<>\"\",Tabfill!$O$45,\"\")","v":0},null,null,null,null,null,null,null,{"$f":"IF(Tabfill!$P$45<>\"\",Tabfill!$P$45,\"\")","v":312},null,null,null,null,null,null,null,{"$f":"IF(Tabfill!$R$45<>\"\",Tabfill!$R$45,\"\")","v":71.399999999999991},null,null,null,null,null,null,null,{"$f":"IF(Tabfill!$S$45<>\"\",Tabfill!$S$45,\"\")","v":51},null,null,null,null,null,null,null,{"$f":"IF(Tabfill!$T$45<>\"\",Tabfill!$T$45,\"\")","v":51},null,null,null,null,null,null,null,{"$f":"IF(Tabfill!$U$45<>\"\",Tabfill!$U$45,\"\")","v":0}]
[null,null,{"$f":"IF(Tabfill!A46<>\"\",Tabfill!A46,\"\")","v":5575}]
[null,null,null,null,null,null,null,null,null,null,null,null,null,null,null,null,null,{"$f":"IF(Tabfill!$B$46<>\"\",Tabfill!$B$46,\"\")","v":33.599999999999994},null,null,null,null,null,null,null,{"$f":"IF(Tabfill!$C$46<>\"\",Tabfill!$C$46,\"\")","v":14},null,null,null,null,null,null,null,{"$f":"IF(Tabfill!$D$46<>\"\",Tabfill!$D$46,\"\")","v":68.599999999999994},null,null,null,null,null,null,null,{"$f":"IF(Tabfill!$E$46<>\"\",Tabfill!$E$46,\"\")","v":71},null,null,null,null,null,null,null,{"$f":"IF(Tabfill!$F$46<>\"\",Tabfill!$F$46,\"\")","v":14},null,null,null,null,null,null,null,{"$f":"IF(Tabfill!$G$46<>\"\",Tabfill!$G$46,\"\")","v":11},null,null,null,null,null,null,null,{"$f":"IF(Tabfill!$I$46<>\"\",Tabfill!$I$46,\"\")","v":265},null,null,null,null,null,null,null,{"$f":"IF(Tabfill!$J$46<>\"\",Tabfill!$J$46,\"\")","v":19.599999999999994},null,null,null,null,null,null,null,{"$f":"IF(Tabfill!$K$46<>\"\",Tabfill!$K$46,\"\")","v":71},null,null,null,null,null,null,null,{"$f":"IF(Tabfill!$L$46<>\"\",Tabfill!$L$46,\"\")","v":355.6},null,null,null,null,null,null,null,{"$f":"IF(Tabfill!$M$46<>\"\",Tabfill!$M$46,\"\")","v":-344.6},null,null,null,null,null,null,null,{"$f":"IF(Tabfill!$O$46<>\"\",Tabfill!$O$46,\"\")","v":0},null,null,null,null,null,null,null,{"$f":"IF(Tabfill!$P$46<>\"\",Tabfill!$P$46,\"\")","v":264},null,null,null,null,null,null,null,{"$f":"IF(Tabfill!$R$46<>\"\",Tabfill!$R$46,\"\")","v":68.599999999999994},null,null,null,null,null,null,null,{"$f":"IF(Tabfill!$S$46<>\"\",Tabfill!$S$46,\"\")","v":49},null,null,null,null,null,null,null,{"$f":"IF(Tabfill!$T$46<>\"\",Tabfill!$T$46,\"\")","v":49},null,null,null,null,null,null,null,{"$f":"IF(Tabfill!$U$46<>\"\",Tabfill!$U$46,\"\")","v":0}]
[null,null,{"$f":"IF(Tabfill!A47<>\"\",Tabfill!A47,\"\")","v":5600}]
[null,null,null,null,null,null,null,null,null,null,null,null,null,null,null,null,null,{"$f":"IF(Tabfill!$B$47<>\"\",Tabfill!$B$47,\"\")","v":49.999999999999993},null,null,null,null,null,null,null,{"$f":"IF(Tabfill!$C$47<>\"\",Tabfill!$C$47,\"\")","v":32},null,null,null,null,null,null,null,{"$f":"IF(Tabfill!$D$47<>\"\",Tabfill!$D$47,\"\")","v":62.999999999999993},null,null,null,null,null,null,null,{"$f":"IF(Tabfill!$E$47<>\"\",Tabfill!$E$47,\"\")","v":73},null,null,null,null,null,null,null,{"$f":"IF(Tabfill!$F$47<>\"\",Tabfill!$F$47,\"\")","v":32},null,null,null,null,null,null,null,{"$f":"IF(Tabfill!$G$47<>\"\",Tabfill!$G$47,\"\")","v":25},null,null,null,null,null,null,null,{"$f":"IF(Tabfill!$I$47<>\"\",Tabfill!$I$47,\"\")","v":219},null,null,null,null,null,null,null,{"$f":"IF(Tabfill!$J$47<>\"\",Tabfill!$J$47,\"\")","v":17.999999999999993},null,null,null,null,null,null,null,{"$f":"IF(Tabfill!$K$47<>\"\",Tabfill!$K$47,\"\")","v":73},null,null,null,null,null,null,null,{"$f":"IF(Tabfill!$L$47<>\"\",Tabfill!$L$47,\"\")","v":310},null,null,null,null,null,null,null,{"$f":"IF(Tabfill!$M$47<>\"\",Tabfill!$M$47,\"\")","v":-285},null,null,null,null,null,null,null,{"$f":"IF(Tabfill!$O$47<>\"\",Tabfill!$O$47,\"\")","v":0},null,null,null,null,null,null,null,{"$f":"IF(Tabfill!$P$47<>\"\",Tabfill!$P$47,\"\")","v":218},null,null,null,null,null,null,null,{"$f":"IF(Tabfill!$R$47<>\"\",Tabfill!$R$47,\"\")","v":62.999999999999993},null,null,null,null,null,null,null,{"$f":"IF(Tabfill!$S$47<>\"\",Tabfill!$S$47,\"\")","v":45},null,null,null,null,null,null,null,{"$f":"IF(Tabfill!$T$47<>\"\",Tabfill!$T$47,\"\")","v":45},null,null,null,null,null,null,null,{"$f":"IF(Tabfill!$U$47<>\"\",Tabfill!$U$47,\"\")","v":0}]
[null,null,{"$f":"IF(Tabfill!A48<>\"\",Tabfill!A48,\"\")","v":5625}]
[null,null,null,null,null,null,null,null,null,null,null,null,null,null,null,null,null,{"$f":"IF(Tabfill!$B$48<>\"\",Tabfill!$B$48,\"\")","v":70.400000000000006},null,null,null,null,null,null,null,{"$f":"IF(Tabfill!$C$48<>\"\",Tabfill!$C$48,\"\")","v":54},null,null,null,null,null,null,null,{"$f":"IF(Tabfill!$D$48<>\"\",Tabfill!$D$48,\"\")","v":57.4},null,null,null,null,null,null,null,{"$f":"IF(Tabfill!$E$48<>\"\",Tabfill!$E$48,\"\")","v":75},null,null,null,null,null,null,null,{"$f":"IF(Tabfill!$F$48<>\"\",Tabfill!$F$48,\"\")","v":54},null,null,null,null,null,null,null,{"$f":"IF(Tabfill!$G$48<>\"\",Tabfill!$G$48,\"\")","v":42},null,null,null,null,null,null,null,{"$f":"IF(Tabfill!$I$48<>\"\",Tabfill!$I$48,\"\")","v":168},null,null,null,null,null,null,null,{"$f":"IF(Tabfill!$J$48<>\"\",Tabfill!$J$48,\"\")","v":16.399999999999999},null,null,null,null,null,null,null,{"$f":"IF(Tabfill!$K$48<>\"\",Tabfill!$K$48,\"\")","v":75},null,null,null,null,null,null,null,{"$f":"IF(Tabfill!$L$48<>\"\",Tabfill!$L$48,\"\")","v":259.39999999999998},null,null,null,null,null,null,null,{"$f":"IF(Tabfill!$M$48<>\"\",Tabfill!$M$48,\"\")","v":-217.39999999999998},null,null,null,null,null,null,null,{"$f":"IF(Tabfill!$O$48<>\"\",Tabfill!$O$48,\"\")","v":0},null,null,null,null,null,null,null,{"$f":"IF(Tabfill!$P$48<>\"\",Tabfill!$P$48,\"\")","v":168},null,null,null,null,null,null,null,{"$f":"IF(Tabfill!$R$48<>\"\",Tabfill!$R$48,\"\")","v":57.4},null,null,null,null,null,null,null,{"$f":"IF(Tabfill!$S$48<>\"\",Tabfill!$S$48,\"\")","v":41},null,null,null,null,null,null,null,{"$f":"IF(Tabfill!$T$48<>\"\",Tabfill!$T$48,\"\")","v":41},null,null,null,null,null,null,null,{"$f":"IF(Tabfill!$U$48<>\"\",Tabfill!$U$48,\"\")","v":0}]
[null,null,{"$f":"IF(Tabfill!A49<>\"\",Tabfill!A49,\"\")","v":5650}]
[null,null,null,null,null,null,null,null,null,null,null,null,null,null,null,null,null,{"$f":"IF(Tabfill!$B$49<>\"\",Tabfill!$B$49,\"\")","v":87.199999999999989},null,null,null,null,null,null,null,{"$f":"IF(Tabfill!$C$49<>\"\",Tabfill!$C$49,\"\")","v":72},null,null,null,null,null,null,null,{"$f":"IF(Tabfill!$D$49<>\"\",Tabfill!$D$49,\"\")","v":53.199999999999996},null,null,null,null,null,null,null,{"$f":"IF(Tabfill!$E$49<>\"\",Tabfill!$E$49,\"\")","v":78},null,null,null,null,null,null,null,{"$f":"IF(Tabfill!$F$49<>\"\",Tabfill!$F$49,\"\")","v":72},null,null,null,null,null,null,null,{"$f":"IF(Tabfill!$G$49<>\"\",Tabfill!$G$49,\"\")","v":55},null,null,null,null,null,null,null,{"$f":"IF(Tabfill!$I$49<>\"\",Tabfill!$I$49,\"\")","v":117},null,null,null,null,null,null,null,{"$f":"IF(Tabfill!$J$49<>\"\",Tabfill!$J$49,\"\")","v":15.199999999999996},null,null,null,null,null,null,null,{"$f":"IF(Tabfill!$K$49<>\"\",Tabfill!$K$49,\"\")","v":78},null,null,null,null,null,null,null,{"$f":"IF(Tabfill!$L$49<>\"\",Tabfill!$L$49,\"\")","v":210.2},null,null,null,null,null,null,null,{"$f":"IF(Tabfill!$M$49<>\"\",Tabfill!$M$49,\"\")","v":-155.19999999999999},null,null,null,null,null,null,null,{"$f":"IF(Tabfill!$O$49<>\"\",Tabfill!$O$49,\"\")","v":0},null,null,null,null,null,null,null,{"$f":"IF(Tabfill!$P$49<>\"\",Tabfill!$P$49,\"\")","v":116},null,null,null,null,null,null,null,{"$f":"IF(Tabfill!$R$49<>\"\",Tabfill!$R$49,\"\")","v":53.199999999999996},null,null,null,null,null,null,null,{"$f":"IF(Tabfill!$S$49<>\"\",Tabfill!$S$49,\"\")","v":38},null,null,null,null,null,null,null,{"$f":"IF(Tabfill!$T$49<>\"\",Tabfill!$T$49,\"\")","v":38},null,null,null,null,null,null,null,{"$f":"IF(Tabfill!$U$49<>\"\",Tabfill!$U$49,\"\")","v":0}]
[null,null,{"$f":"IF(Tabfill!A50<>\"\",Tabfill!A50,\"\")","v":5675}]
[null,null,null,null,null,null,null,null,null,null,null,null,null,null,null,null,null,{"$f":"IF(Tabfill!$B$50<>\"\",Tabfill!$B$50,\"\")","v":119},null,null,null,null,null,null,null,{"$f":"IF(Tabfill!$C$50<>\"\",Tabfill!$C$50,\"\")","v":97},null,null,null,null,null,null,null,{"$f":"IF(Tabfill!$D$50<>\"\",Tabfill!$D$50,\"\")","v":77},null,null,null,null,null,null,null,{"$f":"IF(Tabfill!$E$50<>\"\",Tabfill!$E$50,\"\")","v":77},null,null,null,null,null,null,null,{"$f":"IF(Tabfill!$F$50<>\"\",Tabfill!$F$50,\"\")","v":97},null,null,null,null,null,null,null,{"$f":"IF(Tabfill!$G$50<>\"\",Tabfill!$G$50,\"\")","v":75},null,null,null,null,null,null,null,{"$f":"IF(Tabfill!$I$50<>\"\",Tabfill!$I$50,\"\")","v":69},null,null,null,null,null,null,null,{"$f":"IF(Tabfill!$J$50<>\"\",Tabfill!$J$50,\"\")","v":22},null,null,null,null,null,null,null,{"$f":"IF(Tabfill!$K$50<>\"\",Tabfill!$K$50,\"\")","v":77},null,null,null,null,null,null,null,{"$f":"IF(Tabfill!$L$50<>\"\",Tabfill!$L$50,\"\")","v":168},null,null,null,null,null,null,null,{"$f":"IF(Tabfill!$M$50<>\"\",Tabfill!$M$50,\"\")","v":-93},null,null,null,null,null,null,null,{"$f":"IF(Tabfill!$O$50<>\"\",Tabfill!$O$50,\"\")","v":0},null,null,null,null,null,null,null,{"$f":"IF(Tabfill!$P$50<>\"\",Tabfill!$P$50,\"\")","v":68},null,null,null,null,null,null,null,{"$f":"IF(Tabfill!$R$50<>\"\",Tabfill!$R$50,\"\")","v":77},null,null,null,null,null,null,null,{"$f":"IF(Tabfill!$S$50<>\"\",Tabfill!$S$50,\"\")","v":55},null,null,null,null,null,null,null,{"$f":"IF(Tabfill!$T$50<>\"\",Tabfill!$T$50,\"\")","v":55},null,null,null,null,null,null,null,{"$f":"IF(Tabfill!$U$50<>\"\",Tabfill!$U$50,\"\")","v":0}]
[null,null,{"$f":"IF(Tabfill!A51<>\"\",Tabfill!A51,\"\")","v":5700}]
[null,null,null,null,null,null,null,null,null,null,null,null,null,null,null,null,null,{"$f":"IF(Tabfill!$B$51<>\"\",Tabfill!$B$51,\"\")","v":165.6},null,null,null,null,null,null,null,{"$f":"IF(Tabfill!$C$51<>\"\",Tabfill!$C$51,\"\")","v":138},null,null,null,null,null,null,null,{"$f":"IF(Tabfill!$D$51<>\"\",Tabfill!$D$51,\"\")","v":96.6},null,null,null,null,null,null,null,{"$f":"IF(Tabfill!$E$51<>\"\",Tabfill!$E$51,\"\")","v":78},null,null,null,null,null,null,null,{"$f":"IF(Tabfill!$F$51<>\"\",Tabfill!$F$51,\"\")","v":138},null,null,null,null,null,null,null,{"$f":"IF(Tabfill!$G$51<>\"\",Tabfill!$G$51,\"\")","v":106},null,null,null,null,null,null,null,{"$f":"IF(Tabfill!$I$51<>\"\",Tabfill!$I$51,\"\")","v":27},null,null,null,null,null,null,null,{"$f":"IF(Tabfill!$J$51<>\"\",Tabfill!$J$51,\"\")","v":27.599999999999994},null,null,null,null,null,null,null,{"$f":"IF(Tabfill!$K$51<>\"\",Tabfill!$K$51,\"\")","v":78},null,null,null,null,null,null,null,{"$f":"IF(Tabfill!$L$51<>\"\",Tabfill!$L$51,\"\")","v":132.6},null,null,null,null,null,null,null,{"$f":"IF(Tabfill!$M$51<>\"\",Tabfill!$M$51,\"\")","v":-26.599999999999994},null,null,null,null,null,null,null,{"$f":"IF(Tabfill!$O$51<>\"\",Tabfill!$O$51,\"\")","v":0},null,null,null,null,null,null,null,{"$f":"IF(Tabfill!$P$51<>\"\",Tabfill!$P$51,\"\")","v":26},null,null,null,null,null,null,null,{"$f":"IF(Tabfill!$R$51<>\"\",Tabfill!$R$51,\"\")","v":96.6},null,null,null,null,null,null,null,{"$f":"IF(Tabfill!$S$51<>\"\",Tabfill!$S$51,\"\")","v":69},null,null,null,null,null,null,null,{"$f":"IF(Tabfill!$T$51<>\"\",Tabfill!$T$51,\"\")","v":69},null,null,null,null,null,null,null,{"$f":"IF(Tabfill!$U$51<>\"\",Tabfill!$U$51,\"\")","v":0}]
[null,null,{"$f":"IF(Tabfill!A52<>\"\",Tabfill!A52,\"\")","v":5725}]
[null,null,null,null,null,null,null,null,null,null,null,null,null,null,null,null,null,{"$f":"IF(Tabfill!$B$52<>\"\",Tabfill!$B$52,\"\")","v":210},null,null,null,null,null,null,null,{"$f":"IF(Tabfill!$C$52<>\"\",Tabfill!$C$52,\"\")","v":190},null,null,null,null,null,null,null,{"$f":"IF(Tabfill!$D$52<>\"\",Tabfill!$D$52,\"\")","v":70},null,null,null,null,null,null,null,{"$f":"IF(Tabfill!$E$52<>\"\",Tabfill!$E$52,\"\")","v":86},null,null,null,null,null,null,null,{"$f":"IF(Tabfill!$F$52<>\"\",Tabfill!$F$52,\"\")","v":190},null,null,null,null,null,null,null,{"$f":"IF(Tabfill!$G$52<>\"\",Tabfill!$G$52,\"\")","v":146},null,null,null,null,null,null,null,{"$f":"IF(Tabfill!$I$52<>\"\",Tabfill!$I$52,\"\")","v":4},null,null,null,null,null,null,null,{"$f":"IF(Tabfill!$J$52<>\"\",Tabfill!$J$52,\"\")","v":20},null,null,null,null,null,null,null,{"$f":"IF(Tabfill!$K$52<>\"\",Tabfill!$K$52,\"\")","v":86},null,null,null,null,null,null,null,{"$f":"IF(Tabfill!$L$52<>\"\",Tabfill!$L$52,\"\")","v":110},null,null,null,null,null,null,null,{"$f":"IF(Tabfill!$M$52<>\"\",Tabfill!$M$52,\"\")","v":36},null,null,null,null,null,null,null,{"$f":"IF(Tabfill!$O$52<>\"\",Tabfill!$O$52,\"\")","v":0},null,null,null,null,null,null,null,{"$f":"IF(Tabfill!$P$52<>\"\",Tabfill!$P$52,\"\")","v":3},null,null,null,null,null,null,null,{"$f":"IF(Tabfill!$R$52<>\"\",Tabfill!$R$52,\"\")","v":70},null,null,null,null,null,null,null,{"$f":"IF(Tabfill!$S$52<>\"\",Tabfill!$S$52,\"\")","v":50},null,null,null,null,null,null,null,{"$f":"IF(Tabfill!$T$52<>\"\",Tabfill!$T$52,\"\")","v":50},null,null,null,null,null,null,null,{"$f":"IF(Tabfill!$U$52<>\"\",Tabfill!$U$52,\"\")","v":0}]
[null,null,{"$f":"IF(Tabfill!A53<>\"\",Tabfill!A53,\"\")","v":5750}]
[null,null,null,null,null,null,null,null,null,null,null,null,null,null,null,null,null,{"$f":"IF(Tabfill!$B$53<>\"\",Tabfill!$B$53,\"\")","v":154.19999999999999},null,null,null,null,null,null,null,{"$f":"IF(Tabfill!$C$53<>\"\",Tabfill!$C$53,\"\")","v":147},null,null,null,null,null,null,null,{"$f":"IF(Tabfill!$D$53<>\"\",Tabfill!$D$53,\"\")","v":25.2},null,null,null,null,null,null,null,{"$f":"IF(Tabfill!$E$53<>\"\",Tabfill!$E$53,\"\")","v":93},null,null,null,null,null,null,null,{"$f":"IF(Tabfill!$F$53<>\"\",Tabfill!$F$53,\"\")","v":147},null,null,null,null,null,null,null,{"$f":"IF(Tabfill!$G$53<>\"\",Tabfill!$G$53,\"\")","v":113},null,null,null,null,null,null,null,{"$f":"IF(Tabfill!$I$53<>\"\",Tabfill!$I$53,\"\")","v":0},null,null,null,null,null,null,null,{"$f":"IF(Tabfill!$J$53<>\"\",Tabfill!$J$53,\"\")","v":7.1999999999999993},null,null,null,null,null,null,null,{"$f":"IF(Tabfill!$K$53<>\"\",Tabfill!$K$53,\"\")","v":93},null,null,null,null,null,null,null,{"$f":"IF(Tabfill!$L$53<>\"\",Tabfill!$L$53,\"\")","v":100.2},null,null,null,null,null,null,null,{"$f":"IF(Tabfill!$M$53<>\"\",Tabfill!$M$53,\"\")","v":12.799999999999997},null,null,null,null,null,null,null,{"$f":"IF(Tabfill!$O$53<>\"\",Tabfill!$O$53,\"\")","v":0},null,null,null,null,null,null,null,{"$f":"IF(Tabfill!$P$53<>\"\",Tabfill!$P$53,\"\")","v":0},null,null,null,null,null,null,null,{"$f":"IF(Tabfill!$R$53<>\"\",Tabfill!$R$53,\"\")","v":25.2},null,null,null,null,null,null,null,{"$f":"IF(Tabfill!$S$53<>\"\",Tabfill!$S$53,\"\")","v":18},null,null,null,null,null,null,null,{"$f":"IF(Tabfill!$T$53<>\"\",Tabfill!$T$53,\"\")","v":18},null,null,null,null,null,null,null,{"$f":"IF(Tabfill!$U$53<>\"\",Tabfill!$U$53,\"\")","v":0}]
[null,null,{"$f":"IF(Tabfill!A54<>\"\",Tabfill!A54,\"\")","v":5775}]
[null,null,null,null,null,null,null,null,null,null,null,null,null,null,null,null,null,{"$f":"IF(Tabfill!$B$54<>\"\",Tabfill!$B$54,\"\")","v":77},null,null,null,null,null,null,null,{"$f":"IF(Tabfill!$C$54<>\"\",Tabfill!$C$54,\"\")","v":77},null,null,null,null,null,null,null,{"$f":"IF(Tabfill!$D$54<>\"\",Tabfill!$D$54,\"\")","v":0},null,null,null,null,null,null,null,{"$f":"IF(Tabfill!$E$54<>\"\",Tabfill!$E$54,\"\")","v":96},null,null,null,null,null,null,null,{"$f":"IF(Tabfill!$F$54<>\"\",Tabfill!$F$54,\"\")","v":77},null,null,null,null,null,null,null,{"$f":"IF(Tabfill!$G$54<>\"\",Tabfill!$G$54,\"\")","v":59},null,null,null,null,null,null,null,{"$f":"IF(Tabfill!$I$54<>\"\",Tabfill!$I$54,\"\")","v":0},null,null,null,null,null,null,null,{"$f":"IF(Tabfill!$J$54<>\"\",Tabfill!$J$54,\"\")","v":""},null,null,null,null,null,null,null,{"$f":"IF(Tabfill!$K$54<>\"\",Tabfill!$K$54,\"\")","v":96},null,null,null,null,null,null,null,{"$f":"IF(Tabfill!$L$54<>\"\",Tabfill!$L$54,\"\")","v":96},null,null,null,null,null,null,null,{"$f":"IF(Tabfill!$M$54<>\"\",Tabfill!$M$54,\"\")","v":-37},null,null,null,null,null,null,null,{"$f":"IF(Tabfill!$O$54<>\"\",Tabfill!$O$54,\"\")","v":0},null,null,null,null,null,null,null,{"$f":"IF(Tabfill!$P$54<>\"\",Tabfill!$P$54,\"\")","v":0},null,null,null,null,null,null,null,{"$f":"IF(Tabfill!$R$54<>\"\",Tabfill!$R$54,\"\")","v":0},null,null,null,null,null,null,null,{"$f":"IF(Tabfill!$S$54<>\"\",Tabfill!$S$54,\"\")","v":0},null,null,null,null,null,null,null,{"$f":"IF(Tabfill!$T$54<>\"\",Tabfill!$T$54,\"\")","v":0},null,null,null,null,null,null,null,{"$f":"IF(Tabfill!$U$54<>\"\",Tabfill!$U$54,\"\")","v":0}]
[null,null,{"$f":"IF(Tabfill!A55<>\"\",Tabfill!A55,\"\")","v":5800}]
[null,null,null,null,null,null,null,null,null,null,null,null,null,null,null,null,null,{"$f":"IF(Tabfill!$B$55<>\"\",Tabfill!$B$55,\"\")","v":79},null,null,null,null,null,null,null,{"$f":"IF(Tabfill!$C$55<>\"\",Tabfill!$C$55,\"\")","v":79},null,null,null,null,null,null,null,{"$f":"IF(Tabfill!$D$55<>\"\",Tabfill!$D$55,\"\")","v":0},null,null,null,null,null,null,null,{"$f":"IF(Tabfill!$E$55<>\"\",Tabfill!$E$55,\"\")","v":105},null,null,null,null,null,null,null,{"$f":"IF(Tabfill!$F$55<>\"\",Tabfill!$F$55,\"\")","v":79},null,null,null,null,null,null,null,{"$f":"IF(Tabfill!$G$55<>\"\",Tabfill!$G$55,\"\")","v":61},null,null,null,null,null,null,null,{"$f":"IF(Tabfill!$I$55<>\"\",Tabfill!$I$55,\"\")","v":0},null,null,null,null,null,null,null,{"$f":"IF(Tabfill!$J$55<>\"\",Tabfill!$J$55,\"\")","v":""},null,null,null,null,null,null,null,{"$f":"IF(Tabfill!$K$55<>\"\",Tabfill!$K$55,\"\")","v":105},null,null,null,null,null,null,null,{"$f":"IF(Tabfill!$L$55<>\"\",Tabfill!$L$55,\"\")","v":105},null,null,null,null,null,null,null,{"$f":"IF(Tabfill!$M$55<>\"\",Tabfill!$M$55,\"\")","v":-44},null,null,null,null,null,null,null,{"$f":"IF(Tabfill!$O$55<>\"\",Tabfill!$O$55,\"\")","v":0},null,null,null,null,null,null,null,{"$f":"IF(Tabfill!$P$55<>\"\",Tabfill!$P$55,\"\")","v":0},null,null,null,null,null,null,null,{"$f":"IF(Tabfill!$R$55<>\"\",Tabfill!$R$55,\"\")","v":0},null,null,null,null,null,null,null,{"$f":"IF(Tabfill!$S$55<>\"\",Tabfill!$S$55,\"\")","v":0},null,null,null,null,null,null,null,{"$f":"IF(Tabfill!$T$55<>\"\",Tabfill!$T$55,\"\")","v":0},null,null,null,null,null,null,null,{"$f":"IF(Tabfill!$U$55<>\"\",Tabfill!$U$55,\"\")","v":0}]
[null,null,{"$f":"IF(Tabfill!A56<>\"\",Tabfill!A56,\"\")","v":5825}]
[null,null,null,null,null,null,null,null,null,null,null,null,null,null,null,null,null,{"$f":"IF(Tabfill!$B$56<>\"\",Tabfill!$B$56,\"\")","v":82},null,null,null,null,null,null,null,{"$f":"IF(Tabfill!$C$56<>\"\",Tabfill!$C$56,\"\")","v":82},null,null,null,null,null,null,null,{"$f":"IF(Tabfill!$D$56<>\"\",Tabfill!$D$56,\"\")","v":0},null,null,null,null,null,null,null,{"$f":"IF(Tabfill!$E$56<>\"\",Tabfill!$E$56,\"\")","v":92},null,null,null,null,null,null,null,{"$f":"IF(Tabfill!$F$56<>\"\",Tabfill!$F$56,\"\")","v":82},null,null,null,null,null,null,null,{"$f":"IF(Tabfill!$G$56<>\"\",Tabfill!$G$56,\"\")","v":63},null,null,null,null,null,null,null,{"$f":"IF(Tabfill!$I$56<>\"\",Tabfill!$I$56,\"\")","v":0},null,null,null,null,null,null,null,{"$f":"IF(Tabfill!$J$56<>\"\",Tabfill!$J$56,\"\")","v":""},null,null,null,null,null,null,null,{"$f":"IF(Tabfill!$K$56<>\"\",Tabfill!$K$56,\"\")","v":92},null,null,null,null,null,null,null,{"$f":"IF(Tabfill!$L$56<>\"\",Tabfill!$L$56,\"\")","v":92},null,null,null,null,null,null,null,{"$f":"IF(Tabfill!$M$56<>\"\",Tabfill!$M$56,\"\")","v":-29},null,null,null,null,null,null,null,{"$f":"IF(Tabfill!$O$56<>\"\",Tabfill!$O$56,\"\")","v":0},null,null,null,null,null,null,null,{"$f":"IF(Tabfill!$P$56<>\"\",Tabfill!$P$56,\"\")","v":0},null,null,null,null,null,null,null,{"$f":"IF(Tabfill!$R$56<>\"\",Tabfill!$R$56,\"\")","v":0},null,null,null,null,null,null,null,{"$f":"IF(Tabfill!$S$56<>\"\",Tabfill!$S$56,\"\")","v":0},null,null,null,null,null,null,null,{"$f":"IF(Tabfill!$T$56<>\"\",Tabfill!$T$56,\"\")","v":0},null,null,null,null,null,null,null,{"$f":"IF(Tabfill!$U$56<>\"\",Tabfill!$U$56,\"\")","v":0}]
[null,null,{"$f":"IF(Tabfill!A57<>\"\",Tabfill!A57,\"\")","v":5850}]
[null,null,null,null,null,null,null,null,null,null,null,null,null,null,null,null,null,{"$f":"IF(Tabfill!$B$57<>\"\",Tabfill!$B$57,\"\")","v":96},null,null,null,null,null,null,null,{"$f":"IF(Tabfill!$C$57<>\"\",Tabfill!$C$57,\"\")","v":96},null,null,null,null,null,null,null,{"$f":"IF(Tabfill!$D$57<>\"\",Tabfill!$D$57,\"\")","v":0},null,null,null,null,null,null,null,{"$f":"IF(Tabfill!$E$57<>\"\",Tabfill!$E$57,\"\")","v":62},null,null,null,null,null,null,null,{"$f":"IF(Tabfill!$F$57<>\"\",Tabfill!$F$57,\"\")","v":96},null,null,null,null,null,null,null,{"$f":"IF(Tabfill!$G$57<>\"\",Tabfill!$G$57,\"\")","v":74},null,null,null,null,null,null,null,{"$f":"IF(Tabfill!$I$57<>\"\",Tabfill!$I$57,\"\")","v":0},null,null,null,null,null,null,null,{"$f":"IF(Tabfill!$J$57<>\"\",Tabfill!$J$57,\"\")","v":""},null,null,null,null,null,null,null,{"$f":"IF(Tabfill!$K$57<>\"\",Tabfill!$K$57,\"\")","v":62},null,null,null,null,null,null,null,{"$f":"IF(Tabfill!$L$57<>\"\",Tabfill!$L$57,\"\")","v":62},null,null,null,null,null,null,null,{"$f":"IF(Tabfill!$M$57<>\"\",Tabfill!$M$57,\"\")","v":12},null,null,null,null,null,null,null,{"$f":"IF(Tabfill!$O$57<>\"\",Tabfill!$O$57,\"\")","v":0},null,null,null,null,null,null,null,{"$f":"IF(Tabfill!$P$57<>\"\",Tabfill!$P$57,\"\")","v":0},null,null,null,null,null,null,null,{"$f":"IF(Tabfill!$R$57<>\"\",Tabfill!$R$57,\"\")","v":0},null,null,null,null,null,null,null,{"$f":"IF(Tabfill!$S$57<>\"\",Tabfill!$S$57,\"\")","v":0},null,null,null,null,null,null,null,{"$f":"IF(Tabfill!$T$57<>\"\",Tabfill!$T$57,\"\")","v":0},null,null,null,null,null,null,null,{"$f":"IF(Tabfill!$U$57<>\"\",Tabfill!$U$57,\"\")","v":0}]
[null,null,{"$f":"IF(Tabfill!A58<>\"\",Tabfill!A58,\"\")","v":5875}]
[null,null,null,null,null,null,null,null,null,null,null,null,null,null,null,null,null,{"$f":"IF(Tabfill!$B$58<>\"\",Tabfill!$B$58,\"\")","v":117},null,null,null,null,null,null,null,{"$f":"IF(Tabfill!$C$58<>\"\",Tabfill!$C$58,\"\")","v":117},null,null,null,null,null,null,null,{"$f":"IF(Tabfill!$D$58<>\"\",Tabfill!$D$58,\"\")","v":0},null,null,null,null,null,null,null,{"$f":"IF(Tabfill!$E$58<>\"\",Tabfill!$E$58,\"\")","v":51},null,null,null,null,null,null,null,{"$f":"IF(Tabfill!$F$58<>\"\",Tabfill!$F$58,\"\")","v":117},null,null,null,null,null,null,null,{"$f":"IF(Tabfill!$G$58<>\"\",Tabfill!$G$58,\"\")","v":90},null,null,null,null,null,null,null,{"$f":"IF(Tabfill!$I$58<>\"\",Tabfill!$I$58,\"\")","v":0},null,null,null,null,null,null,null,{"$f":"IF(Tabfill!$J$58<>\"\",Tabfill!$J$58,\"\")","v":""},null,null,null,null,null,null,null,{"$f":"IF(Tabfill!$K$58<>\"\",Tabfill!$K$58,\"\")","v":51},null,null,null,null,null,null,null,{"$f":"IF(Tabfill!$L$58<>\"\",Tabfill!$L$58,\"\")","v":51},null,null,null,null,null,null,null,{"$f":"IF(Tabfill!$M$58<>\"\",Tabfill!$M$58,\"\")","v":39},null,null,null,null,null,null,null,{"$f":"IF(Tabfill!$O$58<>\"\",Tabfill!$O$58,\"\")","v":0},null,null,null,null,null,null,null,{"$f":"IF(Tabfill!$P$58<>\"\",Tabfill!$P$58,\"\")","v":0},null,null,null,null,null,null,null,{"$f":"IF(Tabfill!$R$58<>\"\",Tabfill!$R$58,\"\")","v":0},null,null,null,null,null,null,null,{"$f":"IF(Tabfill!$S$58<>\"\",Tabfill!$S$58,\"\")","v":0},null,null,null,null,null,null,null,{"$f":"IF(Tabfill!$T$58<>\"\",Tabfill!$T$58,\"\")","v":0},null,null,null,null,null,null,null,{"$f":"IF(Tabfill!$U$58<>\"\",Tabfill!$U$58,\"\")","v":0}]
[null,null,{"$f":"IF(Tabfill!A59<>\"\",Tabfill!A59,\"\")","v":5900}]
[null,null,null,null,null,null,null,null,null,null,null,null,null,null,null,null,null,{"$f":"IF(Tabfill!$B$59<>\"\",Tabfill!$B$59,\"\")","v":115},null,null,null,null,null,null,null,{"$f":"IF(Tabfill!$C$59<>\"\",Tabfill!$C$59,\"\")","v":115},null,null,null,null,null,null,null,{"$f":"IF(Tabfill!$D$59<>\"\",Tabfill!$D$59,\"\")","v":0},null,null,null,null,null,null,null,{"$f":"IF(Tabfill!$E$59<>\"\",Tabfill!$E$59,\"\")","v":61},null,null,null,null,null,null,null,{"$f":"IF(Tabfill!$F$59<>\"\",Tabfill!$F$59,\"\")","v":115},null,null,null,null,null,null,null,{"$f":"IF(Tabfill!$G$59<>\"\",Tabfill!$G$59,\"\")","v":88},null,null,null,null,null,null,null,{"$f":"IF(Tabfill!$I$59<>\"\",Tabfill!$I$59,\"\")","v":0},null,null,null,null,null,null,null,{"$f":"IF(Tabfill!$J$59<>\"\",Tabfill!$J$59,\"\")","v":""},null,null,null,null,null,null,null,{"$f":"IF(Tabfill!$K$59<>\"\",Tabfill!$K$59,\"\")","v":61},null,null,null,null,null,null,null,{"$f":"IF(Tabfill!$L$59<>\"\",Tabfill!$L$59,\"\")","v":61},null,null,null,null,null,null,null,{"$f":"IF(Tabfill!$M$59<>\"\",Tabfill!$M$59,\"\")","v":27},null,null,null,null,null,null,null,{"$f":"IF(Tabfill!$O$59<>\"\",Tabfill!$O$59,\"\")","v":0},null,null,null,null,null,null,null,{"$f":"IF(Tabfill!$P$59<>\"\",Tabfill!$P$59,\"\")","v":0},null,null,null,null,null,null,null,{"$f":"IF(Tabfill!$R$59<>\"\",Tabfill!$R$59,\"\")","v":0},null,null,null,null,null,null,null,{"$f":"IF(Tabfill!$S$59<>\"\",Tabfill!$S$59,\"\")","v":0},null,null,null,null,null,null,null,{"$f":"IF(Tabfill!$T$59<>\"\",Tabfill!$T$59,\"\")","v":0},null,null,null,null,null,null,null,{"$f":"IF(Tabfill!$U$59<>\"\",Tabfill!$U$59,\"\")","v":0}]
[null,null,{"$f":"IF(Tabfill!A60<>\"\",Tabfill!A60,\"\")","v":5925}]
[null,null,null,null,null,null,null,null,null,null,null,null,null,null,null,null,null,{"$f":"IF(Tabfill!$B$60<>\"\",Tabfill!$B$60,\"\")","v":94},null,null,null,null,null,null,null,{"$f":"IF(Tabfill!$C$60<>\"\",Tabfill!$C$60,\"\")","v":94},null,null,null,null,null,null,null,{"$f":"IF(Tabfill!$D$60<>\"\",Tabfill!$D$60,\"\")","v":0},null,null,null,null,null,null,null,{"$f":"IF(Tabfill!$E$60<>\"\",Tabfill!$E$60,\"\")","v":89},null,null,null,null,null,null,null,{"$f":"IF(Tabfill!$F$60<>\"\",Tabfill!$F$60,\"\")","v":94},null,null,null,null,null,null,null,{"$f":"IF(Tabfill!$G$60<>\"\",Tabfill!$G$60,\"\")","v":72},null,null,null,null,null,null,null,{"$f":"IF(Tabfill!$I$60<>\"\",Tabfill!$I$60,\"\")","v":0},null,null,null,null,null,null,null,{"$f":"IF(Tabfill!$J$60<>\"\",Tabfill!$J$60,\"\")","v":""},null,null,null,null,null,null,null,{"$f":"IF(Tabfill!$K$60<>\"\",Tabfill!$K$60,\"\")","v":89},null,null,null,null,null,null,null,{"$f":"IF(Tabfill!$L$60<>\"\",Tabfill!$L$60,\"\")","v":89},null,null,null,null,null,null,null,{"$f":"IF(Tabfill!$M$60<>\"\",Tabfill!$M$60,\"\")","v":-17},null,null,null,null,null,null,null,{"$f":"IF(Tabfill!$O$60<>\"\",Tabfill!$O$60,\"\")","v":0},null,null,null,null,null,null,null,{"$f":"IF(Tabfill!$P$60<>\"\",Tabfill!$P$60,\"\")","v":0},null,null,null,null,null,null,null,{"$f":"IF(Tabfill!$R$60<>\"\",Tabfill!$R$60,\"\")","v":0},null,null,null,null,null,null,null,{"$f":"IF(Tabfill!$S$60<>\"\",Tabfill!$S$60,\"\")","v":0},null,null,null,null,null,null,null,{"$f":"IF(Tabfill!$T$60<>\"\",Tabfill!$T$60,\"\")","v":0},null,null,null,null,null,null,null,{"$f":"IF(Tabfill!$U$60<>\"\",Tabfill!$U$60,\"\")","v":0}]
[null,null,{"$f":"IF(Tabfill!A61<>\"\",Tabfill!A61,\"\")","v":5950}]
[null,null,null,null,null,null,null,null,null,null,null,null,null,null,null,null,null,{"$f":"IF(Tabfill!$B$61<>\"\",Tabfill!$B$61,\"\")","v":87},null,null,null,null,null,null,null,{"$f":"IF(Tabfill!$C$61<>\"\",Tabfill!$C$61,\"\")","v":87},null,null,null,null,null,null,null,{"$f":"IF(Tabfill!$D$61<>\"\",Tabfill!$D$61,\"\")","v":0},null,null,null,null,null,null,null,{"$f":"IF(Tabfill!$E$61<>\"\",Tabfill!$E$61,\"\")","v":110},null,null,null,null,null,null,null,{"$f":"IF(Tabfill!$F$61<>\"\",Tabfill!$F$61,\"\")","v":87},null,null,null,null,null,null,null,{"$f":"IF(Tabfill!$G$61<>\"\",Tabfill!$G$61,\"\")","v":67},null,null,null,null,null,null,null,{"$f":"IF(Tabfill!$I$61<>\"\",Tabfill!$I$61,\"\")","v":0},null,null,null,null,null,null,null,{"$f":"IF(Tabfill!$J$61<>\"\",Tabfill!$J$61,\"\")","v":""},null,null,null,null,null,null,null,{"$f":"IF(Tabfill!$K$61<>\"\",Tabfill!$K$61,\"\")","v":110},null,null,null,null,null,null,null,{"$f":"IF(Tabfill!$L$61<>\"\",Tabfill!$L$61,\"\")","v":110},null,null,null,null,null,null,null,{"$f":"IF(Tabfill!$M$61<>\"\",Tabfill!$M$61,\"\")","v":-43},null,null,null,null,null,null,null,{"$f":"IF(Tabfill!$O$61<>\"\",Tabfill!$O$61,\"\")","v":0},null,null,null,null,null,null,null,{"$f":"IF(Tabfill!$P$61<>\"\",Tabfill!$P$61,\"\")","v":0},null,null,null,null,null,null,null,{"$f":"IF(Tabfill!$R$61<>\"\",Tabfill!$R$61,\"\")","v":0},null,null,null,null,null,null,null,{"$f":"IF(Tabfill!$S$61<>\"\",Tabfill!$S$61,\"\")","v":0},null,null,null,null,null,null,null,{"$f":"IF(Tabfill!$T$61<>\"\",Tabfill!$T$61,\"\")","v":0},null,null,null,null,null,null,null,{"$f":"IF(Tabfill!$U$61<>\"\",Tabfill!$U$61,\"\")","v":0}]
[null,null,{"$f":"IF(Tabfill!A62<>\"\",Tabfill!A62,\"\")","v":5975}]
[null,null,null,null,null,null,null,null,null,null,null,null,null,null,null,null,null,{"$f":"IF(Tabfill!$B$62<>\"\",Tabfill!$B$62,\"\")","v":85},null,null,null,null,null,null,null,{"$f":"IF(Tabfill!$C$62<>\"\",Tabfill!$C$62,\"\")","v":85},null,null,null,null,null,null,null,{"$f":"IF(Tabfill!$D$62<>\"\",Tabfill!$D$62,\"\")","v":0},null,null,null,null,null,null,null,{"$f":"IF(Tabfill!$E$62<>\"\",Tabfill!$E$62,\"\")","v":101},null,null,null,null,null,null,null,{"$f":"IF(Tabfill!$F$62<>\"\",Tabfill!$F$62,\"\")","v":85},null,null,null,null,null,null,null,{"$f":"IF(Tabfill!$G$62<>\"\",Tabfill!$G$62,\"\")","v":65},null,null,null,null,null,null,null,{"$f":"IF(Tabfill!$I$62<>\"\",Tabfill!$I$62,\"\")","v":0},null,null,null,null,null,null,null,{"$f":"IF(Tabfill!$J$62<>\"\",Tabfill!$J$62,\"\")","v":""},null,null,null,null,null,null,null,{"$f":"IF(Tabfill!$K$62<>\"\",Tabfill!$K$62,\"\")","v":101},null,null,null,null,null,null,null,{"$f":"IF(Tabfill!$L$62<>\"\",Tabfill!$L$62,\"\")","v":101},null,null,null,null,null,null,null,{"$f":"IF(Tabfill!$M$62<>\"\",Tabfill!$M$62,\"\")","v":-36},null,null,null,null,null,null,null,{"$f":"IF(Tabfill!$O$62<>\"\",Tabfill!$O$62,\"\")","v":0},null,null,null,null,null,null,null,{"$f":"IF(Tabfill!$P$62<>\"\",Tabfill!$P$62,\"\")","v":0},null,null,null,null,null,null,null,{"$f":"IF(Tabfill!$R$62<>\"\",Tabfill!$R$62,\"\")","v":0},null,null,null,null,null,null,null,{"$f":"IF(Tabfill!$S$62<>\"\",Tabfill!$S$62,\"\")","v":0},null,null,null,null,null,null,null,{"$f":"IF(Tabfill!$T$62<>\"\",Tabfill!$T$62,\"\")","v":0},null,null,null,null,null,null,null,{"$f":"IF(Tabfill!$U$62<>\"\",Tabfill!$U$62,\"\")","v":0}]
[null,null,{"$f":"IF(Tabfill!A63<>\"\",Tabfill!A63,\"\")","v":6000}]
[null,null,null,null,null,null,null,null,null,null,null,null,null,null,null,null,null,{"$f":"IF(Tabfill!$B$63<>\"\",Tabfill!$B$63,\"\")","v":82},null,null,null,null,null,null,null,{"$f":"IF(Tabfill!$C$63<>\"\",Tabfill!$C$63,\"\")","v":82},null,null,null,null,null,null,null,{"$f":"IF(Tabfill!$D$63<>\"\",Tabfill!$D$63,\"\")","v":0},null,null,null,null,null,null,null,{"$f":"IF(Tabfill!$E$63<>\"\",Tabfill!$E$63,\"\")","v":85},null,null,null,null,null,null,null,{"$f":"IF(Tabfill!$F$63<>\"\",Tabfill!$F$63,\"\")","v":82},null,null,null,null,null,null,null,{"$f":"IF(Tabfill!$G$63<>\"\",Tabfill!$G$63,\"\")","v":63},null,null,null,null,null,null,null,{"$f":"IF(Tabfill!$I$63<>\"\",Tabfill!$I$63,\"\")","v":0},null,null,null,null,null,null,null,{"$f":"IF(Tabfill!$J$63<>\"\",Tabfill!$J$63,\"\")","v":""},null,null,null,null,null,null,null,{"$f":"IF(Tabfill!$K$63<>\"\",Tabfill!$K$63,\"\")","v":85},null,null,null,null,null,null,null,{"$f":"IF(Tabfill!$L$63<>\"\",Tabfill!$L$63,\"\")","v":85},null,null,null,null,null,null,null,{"$f":"IF(Tabfill!$M$63<>\"\",Tabfill!$M$63,\"\")","v":-22},null,null,null,null,null,null,null,{"$f":"IF(Tabfill!$O$63<>\"\",Tabfill!$O$63,\"\")","v":0},null,null,null,null,null,null,null,{"$f":"IF(Tabfill!$P$63<>\"\",Tabfill!$P$63,\"\")","v":0},null,null,null,null,null,null,null,{"$f":"IF(Tabfill!$R$63<>\"\",Tabfill!$R$63,\"\")","v":0},null,null,null,null,null,null,null,{"$f":"IF(Tabfill!$S$63<>\"\",Tabfill!$S$63,\"\")","v":0},null,null,null,null,null,null,null,{"$f":"IF(Tabfill!$T$63<>\"\",Tabfill!$T$63,\"\")","v":0},null,null,null,null,null,null,null,{"$f":"IF(Tabfill!$U$63<>\"\",Tabfill!$U$63,\"\")","v":0}]
[null,null,{"$f":"IF(Tabfill!A64<>\"\",Tabfill!A64,\"\")","v":6025}]
[null,null,null,null,null,null,null,null,null,null,null,null,null,null,null,null,null,{"$f":"IF(Tabfill!$B$64<>\"\",Tabfill!$B$64,\"\")","v":146.6},null,null,null,null,null,null,null,{"$f":"IF(Tabfill!$C$64<>\"\",Tabfill!$C$64,\"\")","v":141},null,null,null,null,null,null,null,{"$f":"IF(Tabfill!$D$64<>\"\",Tabfill!$D$64,\"\")","v":19.599999999999998},null,null,null,null,null,null,null,{"$f":"IF(Tabfill!$E$64<>\"\",Tabfill!$E$64,\"\")","v":77},null,null,null,null,null,null,null,{"$f":"IF(Tabfill!$F$64<>\"\",Tabfill!$F$64,\"\")","v":141},null,null,null,null,null,null,null,{"$f":"IF(Tabfill!$G$64<>\"\",Tabfill!$G$64,\"\")","v":108},null,null,null,null,null,null,null,{"$f":"IF(Tabfill!$I$64<>\"\",Tabfill!$I$64,\"\")","v":0},null,null,null,null,null,null,null,{"$f":"IF(Tabfill!$J$64<>\"\",Tabfill!$J$64,\"\")","v":5.5999999999999979},null,null,null,null,null,null,null,{"$f":"IF(Tabfill!$K$64<>\"\",Tabfill!$K$64,\"\")","v":77},null,null,null,null,null,null,null,{"$f":"IF(Tabfill!$L$64<>\"\",Tabfill!$L$64,\"\")","v":82.6},null,null,null,null,null,null,null,{"$f":"IF(Tabfill!$M$64<>\"\",Tabfill!$M$64,\"\")","v":25.400000000000006},null,null,null,null,null,null,null,{"$f":"IF(Tabfill!$O$64<>\"\",Tabfill!$O$64,\"\")","v":0},null,null,null,null,null,null,null,{"$f":"IF(Tabfill!$P$64<>\"\",Tabfill!$P$64,\"\")","v":0},null,null,null,null,null,null,null,{"$f":"IF(Tabfill!$R$64<>\"\",Tabfill!$R$64,\"\")","v":19.599999999999998},null,null,null,null,null,null,null,{"$f":"IF(Tabfill!$S$64<>\"\",Tabfill!$S$64,\"\")","v":14},null,null,null,null,null,null,null,{"$f":"IF(Tabfill!$T$64<>\"\",Tabfill!$T$64,\"\")","v":14},null,null,null,null,null,null,null,{"$f":"IF(Tabfill!$U$64<>\"\",Tabfill!$U$64,\"\")","v":0}]
[null,null,{"$f":"IF(Tabfill!A65<>\"\",Tabfill!A65,\"\")","v":6050}]
[null,null,null,null,null,null,null,null,null,null,null,null,null,null,null,null,null,{"$f":"IF(Tabfill!$B$65<>\"\",Tabfill!$B$65,\"\")","v":221.6},null,null,null,null,null,null,null,{"$f":"IF(Tabfill!$C$65<>\"\",Tabfill!$C$65,\"\")","v":210},null,null,null,null,null,null,null,{"$f":"IF(Tabfill!$D$65<>\"\",Tabfill!$D$65,\"\")","v":40.599999999999994},null,null,null,null,null,null,null,{"$f":"IF(Tabfill!$E$65<>\"\",Tabfill!$E$65,\"\")","v":74},null,null,null,null,null,null,null,{"$f":"IF(Tabfill!$F$65<>\"\",Tabfill!$F$65,\"\")","v":210},null,null,null,null,null,null,null,{"$f":"IF(Tabfill!$G$65<>\"\",Tabfill!$G$65,\"\")","v":162},null,null,null,null,null,null,null,{"$f":"IF(Tabfill!$I$65<>\"\",Tabfill!$I$65,\"\")","v":0},null,null,null,null,null,null,null,{"$f":"IF(Tabfill!$J$65<>\"\",Tabfill!$J$65,\"\")","v":11.599999999999994},null,null,null,null,null,null,null,{"$f":"IF(Tabfill!$K$65<>\"\",Tabfill!$K$65,\"\")","v":74},null,null,null,null,null,null,null,{"$f":"IF(Tabfill!$L$65<>\"\",Tabfill!$L$65,\"\")","v":85.6},null,null,null,null,null,null,null,{"$f":"IF(Tabfill!$M$65<>\"\",Tabfill!$M$65,\"\")","v":76.400000000000006},null,null,null,null,null,null,null,{"$f":"IF(Tabfill!$O$65<>\"\",Tabfill!$O$65,\"\")","v":0},null,null,null,null,null,null,null,{"$f":"IF(Tabfill!$P$65<>\"\",Tabfill!$P$65,\"\")","v":0},null,null,null,null,null,null,null,{"$f":"IF(Tabfill!$R$65<>\"\",Tabfill!$R$65,\"\")","v":40.599999999999994},null,null,null,null,null,null,null,{"$f":"IF(Tabfill!$S$65<>\"\",Tabfill!$S$65,\"\")","v":29},null,null,null,null,null,null,null,{"$f":"IF(Tabfill!$T$65<>\"\",Tabfill!$T$65,\"\")","v":29},null,null,null,null,null,null,null,{"$f":"IF(Tabfill!$U$65<>\"\",Tabfill!$U$65,\"\")","v":0}]
[null,null,{"$f":"IF(Tabfill!A66<>\"\",Tabfill!A66,\"\")","v":6075}]
[null,null,null,null,null,null,null,null,null,null,null,null,null,null,null,null,null,{"$f":"IF(Tabfill!$B$66<>\"\",Tabfill!$B$66,\"\")","v":0},null,null,null,null,null,null,null,{"$f":"IF(Tabfill!$C$66<>\"\",Tabfill!$C$66,\"\")","v":0},null,null,null,null,null,null,null,{"$f":"IF(Tabfill!$D$66<>\"\",Tabfill!$D$66,\"\")","v":0},null,null,null,null,null,null,null,{"$f":"IF(Tabfill!$E$66<>\"\",Tabfill!$E$66,\"\")","v":0},null,null,null,null,null,null,null,{"$f":"IF(Tabfill!$F$66<>\"\",Tabfill!$F$66,\"\")","v":0},null,null,null,null,null,null,null,{"$f":"IF(Tabfill!$G$66<>\"\",Tabfill!$G$66,\"\")","v":0},null,null,null,null,null,null,null,{"$f":"IF(Tabfill!$I$66<>\"\",Tabfill!$I$66,\"\")","v":0},null,null,null,null,null,null,null,{"$f":"IF(Tabfill!$J$66<>\"\",Tabfill!$J$66,\"\")","v":""},null,null,null,null,null,null,null,{"$f":"IF(Tabfill!$K$66<>\"\",Tabfill!$K$66,\"\")","v":""},null,null,null,null,null,null,null,{"$f":"IF(Tabfill!$L$66<>\"\",Tabfill!$L$66,\"\")","v":0},null,null,null,null,null,null,null,{"$f":"IF(Tabfill!$M$66<>\"\",Tabfill!$M$66,\"\")","v":0},null,null,null,null,null,null,null,{"$f":"IF(Tabfill!$O$66<>\"\",Tabfill!$O$66,\"\")","v":0},null,null,null,null,null,null,null,{"$f":"IF(Tabfill!$P$66<>\"\",Tabfill!$P$66,\"\")","v":0},null,null,null,null,null,null,null,{"$f":"IF(Tabfill!$R$66<>\"\",Tabfill!$R$66,\"\")","v":0},null,null,null,null,null,null,null,{"$f":"IF(Tabfill!$S$66<>\"\",Tabfill!$S$66,\"\")","v":0},null,null,null,null,null,null,null,{"$f":"IF(Tabfill!$T$66<>\"\",Tabfill!$T$66,\"\")","v":0},null,null,null,null,null,null,null,{"$f":"IF(Tabfill!$U$66<>\"\",Tabfill!$U$66,\"\")","v":0}]
[null,null,{"$f":"IF(Tabfill!A67<>\"\",Tabfill!A67,\"\")","v":""}]
[null,null,null,null,null,null,null,null,null,null,null,null,null,null,null,null,null,{"$f":"IF(Tabfill!$B$67<>\"\",Tabfill!$B$67,\"\")","v":""},null,null,null,null,null,null,null,{"$f":"IF(Tabfill!$C$67<>\"\",Tabfill!$C$67,\"\")","v":""},null,null,null,null,null,null,null,{"$f":"IF(Tabfill!$D$67<>\"\",Tabfill!$D$67,\"\")","v":""},null,null,null,null,null,null,null,{"$f":"IF(Tabfill!$E$67<>\"\",Tabfill!$E$67,\"\")","v":""},null,null,null,null,null,null,null,{"$f":"IF(Tabfill!$F$67<>\"\",Tabfill!$F$67,\"\")","v":""},null,null,null,null,null,null,null,{"$f":"IF(Tabfill!$G$67<>\"\",Tabfill!$G$67,\"\")","v":""},null,null,null,null,null,null,null,{"$f":"IF(Tabfill!$I$67<>\"\",Tabfill!$I$67,\"\")","v":""},null,null,null,null,null,null,null,{"$f":"IF(Tabfill!$J$67<>\"\",Tabfill!$J$67,\"\")","v":""},null,null,null,null,null,null,null,{"$f":"IF(Tabfill!$K$67<>\"\",Tabfill!$K$67,\"\")","v":""},null,null,null,null,null,null,null,{"$f":"IF(Tabfill!$L$67<>\"\",Tabfill!$L$67,\"\")","v":""},null,null,null,null,null,null,null,{"$f":"IF(Tabfill!$M$67<>\"\",Tabfill!$M$67,\"\")","v":""},null,null,null,null,null,null,null,{"$f":"IF(Tabfill!$O$67<>\"\",Tabfill!$O$67,\"\")","v":""},null,null,null,null,null,null,null,{"$f":"IF(Tabfill!$P$67<>\"\",Tabfill!$P$67,\"\")","v":""},null,null,null,null,null,null,null,{"$f":"IF(Tabfill!$R$67<>\"\",Tabfill!$R$67,\"\")","v":""},null,null,null,null,null,null,null,{"$f":"IF(Tabfill!$S$67<>\"\",Tabfill!$S$67,\"\")","v":""},null,null,null,null,null,null,null,{"$f":"IF(Tabfill!$T$67<>\"\",Tabfill!$T$67,\"\")","v":""},null,null,null,null,null,null,null,{"$f":"IF(Tabfill!$U$67<>\"\",Tabfill!$U$67,\"\")","v":""}]
[null,null,{"$f":"IF(Tabfill!A68<>\"\",Tabfill!A68,\"\")","v":"Subtotals:"}]
[null,null,null,null,null,null,null,null,null,null,null,null,null,null,null,null,null,{"$f":"IF(Tabfill!$B$68<>\"\",Tabfill!$B$68,\"\")","v":17224.599999999999},null,null,null,null,null,null,null,{"$f":"IF(Tabfill!$C$68<>\"\",Tabfill!$C$68,\"\")","v":15877},null,null,null,null,null,null,null,{"$f":"IF(Tabfill!$D$68<>\"\",Tabfill!$D$68,\"\")","v":4716.6000000000004},null,null,null,null,null,null,null,{"$f":"IF(Tabfill!$E$68<>\"\",Tabfill!$E$68,\"\")","v":3875},null,null,null,null,null,null,null,{"$f":"IF(Tabfill!$F$68<>\"\",Tabfill!$F$68,\"\")","v":15877},null,null,null,null,null,null,null,{"$f":"IF(Tabfill!$G$68<>\"\",Tabfill!$G$68,\"\")","v":12215},null,null,null,null,null,null,null,{"$f":"IF(Tabfill!$I$68<>\"\",Tabfill!$I$68,\"\")","v":15505},null,null,null,null,null,null,null,{"$f":"IF(Tabfill!$J$68<>\"\",Tabfill!$J$68,\"\")","v":1347.5999999999997},null,null,null,null,null,null,null,{"$f":"IF(Tabfill!$K$68<>\"\",Tabfill!$K$68,\"\")","v":3875},null,null,null,null,null,null,null,{"$f":"IF(Tabfill!$L$68<>\"\",Tabfill!$L$68,\"\")","v":20727.599999999999},null,null,null,null,null,null,null,{"$f":"IF(Tabfill!$M$68<>\"\",Tabfill!$M$68,\"\")","v":-8512.6000000000022},null,null,null,null,null,null,null,{"$f":"IF(Tabfill!$O$68<>\"\",Tabfill!$O$68,\"\")","v":0},null,null,null,null,null,null,null,{"$f":"IF(Tabfill!$P$68<>\"\",Tabfill!$P$68,\"\")","v":24975},null,null,null,null,null,null,null,{"$f":"IF(Tabfill!$R$68<>\"\",Tabfill!$R$68,\"\")","v":4716.6000000000004},null,null,null,null,null,null,null,{"$f":"IF(Tabfill!$S$68<>\"\",Tabfill!$S$68,\"\")","v":3369},null,null,null,null,null,null,null,{"$f":"IF(Tabfill!$T$68<>\"\",Tabfill!$T$68,\"\")","v":3369},null,null,null,null,null,null,null,{"$f":"IF(Tabfill!$U$68<>\"\",Tabfill!$U$68,\"\")","v":0}]
[null,null,{"$f":"IF(Tabfill!A69<>\"\",Tabfill!A69,\"\")","v":""}]
[null,null,null,null,null,null,null,null,null,null,null,null,null,null,null,null,null,{"$f":"IF(Tabfill!$B$69<>\"\",Tabfill!$B$69,\"\")","v":""},null,null,null,null,null,null,null,{"$f":"IF(Tabfill!$C$69<>\"\",Tabfill!$C$69,\"\")","v":""},null,null,null,null,null,null,null,{"$f":"IF(Tabfill!$D$69<>\"\",Tabfill!$D$69,\"\")","v":""},null,null,null,null,null,null,null,{"$f":"IF(Tabfill!$E$69<>\"\",Tabfill!$E$69,\"\")","v":""},null,null,null,null,null,null,null,{"$f":"IF(Tabfill!$F$69<>\"\",Tabfill!$F$69,\"\")","v":""},null,null,null,null,null,null,null,{"$f":"IF(Tabfill!$G$69<>\"\",Tabfill!$G$69,\"\")","v":""},null,null,null,null,null,null,null,{"$f":"IF(Tabfill!$I$69<>\"\",Tabfill!$I$69,\"\")","v":""},null,null,null,null,null,null,null,{"$f":"IF(Tabfill!$J$69<>\"\",Tabfill!$J$69,\"\")","v":""},null,null,null,null,null,null,null,{"$f":"IF(Tabfill!$K$69<>\"\",Tabfill!$K$69,\"\")","v":""},null,null,null,null,null,null,null,{"$f":"IF(Tabfill!$L$69<>\"\",Tabfill!$L$69,\"\")","v":""},null,null,null,null,null,null,null,{"$f":"IF(Tabfill!$M$69<>\"\",Tabfill!$M$69,\"\")","v":""},null,null,null,null,null,null,null,{"$f":"IF(Tabfill!$O$69<>\"\",Tabfill!$O$69,\"\")","v":""},null,null,null,null,null,null,null,{"$f":"IF(Tabfill!$P$69<>\"\",Tabfill!$P$69,\"\")","v":""},null,null,null,null,null,null,null,{"$f":"IF(Tabfill!$R$69<>\"\",Tabfill!$R$69,\"\")","v":""},null,null,null,null,null,null,null,{"$f":"IF(Tabfill!$S$69<>\"\",Tabfill!$S$69,\"\")","v":""},null,null,null,null,null,null,null,{"$f":"IF(Tabfill!$T$69<>\"\",Tabfill!$T$69,\"\")","v":""},null,null,null,null,null,null,null,{"$f":"IF(Tabfill!$U$69<>\"\",Tabfill!$U$69,\"\")","v":""}]
[null,null,{"$f":"IF(Tabfill!A70<>\"\",Tabfill!A70,\"\")","v":""}]
[null,null,null,null,null,null,null,null,null,null,null,null,null,null,null,null,null,{"$f":"IF(Tabfill!$B$70<>\"\",Tabfill!$B$70,\"\")","v":""},null,null,null,null,null,null,null,{"$f":"IF(Tabfill!$C$70<>\"\",Tabfill!$C$70,\"\")","v":""},null,null,null,null,null,null,null,{"$f":"IF(Tabfill!$D$70<>\"\",Tabfill!$D$70,\"\")","v":""},null,null,null,null,null,null,null,{"$f":"IF(Tabfill!$E$70<>\"\",Tabfill!$E$70,\"\")","v":""},null,null,null,null,null,null,null,{"$f":"IF(Tabfill!$F$70<>\"\",Tabfill!$F$70,\"\")","v":""},null,null,null,null,null,null,null,{"$f":"IF(Tabfill!$G$70<>\"\",Tabfill!$G$70,\"\")","v":""},null,null,null,null,null,null,null,{"$f":"IF(Tabfill!$I$70<>\"\",Tabfill!$I$70,\"\")","v":""},null,null,null,null,null,null,null,{"$f":"IF(Tabfill!$J$70<>\"\",Tabfill!$J$70,\"\")","v":""},null,null,null,null,null,null,null,{"$f":"IF(Tabfill!$K$70<>\"\",Tabfill!$K$70,\"\")","v":""},null,null,null,null,null,null,null,{"$f":"IF(Tabfill!$L$70<>\"\",Tabfill!$L$70,\"\")","v":""},null,null,null,null,null,null,null,{"$f":"IF(Tabfill!$M$70<>\"\",Tabfill!$M$70,\"\")","v":""},null,null,null,null,null,null,null,{"$f":"IF(Tabfill!$O$70<>\"\",Tabfill!$O$70,\"\")","v":""},null,null,null,null,null,null,null,{"$f":"IF(Tabfill!$P$70<>\"\",Tabfill!$P$70,\"\")","v":""},null,null,null,null,null,null,null,{"$f":"IF(Tabfill!$R$70<>\"\",Tabfill!$R$70,\"\")","v":""},null,null,null,null,null,null,null,{"$f":"IF(Tabfill!$S$70<>\"\",Tabfill!$S$70,\"\")","v":""},null,null,null,null,null,null,null,{"$f":"IF(Tabfill!$T$70<>\"\",Tabfill!$T$70,\"\")","v":""},null,null,null,null,null,null,null,{"$f":"IF(Tabfill!$U$70<>\"\",Tabfill!$U$70,\"\")","v":""}]
[null,null,{"$f":"IF(Tabfill!A71<>\"\",Tabfill!A71,\"\")","v":""}]
[null,null,null,null,null,null,null,null,null,null,null,null,null,null,null,null,null,{"$f":"IF(Tabfill!$B$71<>\"\",Tabfill!$B$71,\"\")","v":""},null,null,null,null,null,null,null,{"$f":"IF(Tabfill!$C$71<>\"\",Tabfill!$C$71,\"\")","v":""},null,null,null,null,null,null,null,{"$f":"IF(Tabfill!$D$71<>\"\",Tabfill!$D$71,\"\")","v":""},null,null,null,null,null,null,null,{"$f":"IF(Tabfill!$E$71<>\"\",Tabfill!$E$71,\"\")","v":""},null,null,null,null,null,null,null,{"$f":"IF(Tabfill!$F$71<>\"\",Tabfill!$F$71,\"\")","v":""},null,null,null,null,null,null,null,{"$f":"IF(Tabfill!$G$71<>\"\",Tabfill!$G$71,\"\")","v":""},null,null,null,null,null,null,null,{"$f":"IF(Tabfill!$I$71<>\"\",Tabfill!$I$71,\"\")","v":""},null,null,null,null,null,null,null,{"$f":"IF(Tabfill!$J$71<>\"\",Tabfill!$J$71,\"\")","v":""},null,null,null,null,null,null,null,{"$f":"IF(Tabfill!$K$71<>\"\",Tabfill!$K$71,\"\")","v":""},null,null,null,null,null,null,null,{"$f":"IF(Tabfill!$L$71<>\"\",Tabfill!$L$71,\"\")","v":""},null,null,null,null,null,null,null,{"$f":"IF(Tabfill!$M$71<>\"\",Tabfill!$M$71,\"\")","v":""},null,null,null,null,null,null,null,{"$f":"IF(Tabfill!$O$71<>\"\",Tabfill!$O$71,\"\")","v":""},null,null,null,null,null,null,null,{"$f":"IF(Tabfill!$P$71<>\"\",Tabfill!$P$71,\"\")","v":""},null,null,null,null,null,null,null,{"$f":"IF(Tabfill!$R$71<>\"\",Tabfill!$R$71,\"\")","v":""},null,null,null,null,null,null,null,{"$f":"IF(Tabfill!$S$71<>\"\",Tabfill!$S$71,\"\")","v":""},null,null,null,null,null,null,null,{"$f":"IF(Tabfill!$T$71<>\"\",Tabfill!$T$71,\"\")","v":""},null,null,null,null,null,null,null,{"$f":"IF(Tabfill!$U$71<>\"\",Tabfill!$U$71,\"\")","v":""}]
[null,null,{"$f":"IF(Tabfill!A72<>\"\",Tabfill!A72,\"\")","v":""}]
[]
[null,""]
[]
[null,"FILE NO.",null,null,null,null,null,null,{"$f":"IF(ProjectInformation!$B$12<>\"\",ProjectInformation!$B$12,\"\")","v":""},null,null,null,null,null,null,{"$f":"UPPER(ProjectInformation!$B$8)","v":"ENGLISH"},null,null,null,null,null,null,"DESIGN TEAM",null,null,null,null,null,null,null,null,{"$f":"IF(AND(ProjectInformation!$B$3<>\"\",ProjectInformation!$B$4<>\"\",ProjectInformation!$B$5<>\"\"),ProjectInformation!$B$3&\"\\\"&ProjectInformation!$B$4&\"\\\"&ProjectInformation!$B$5,IF(AND(ProjectInformation!$B$3<>\"\",ProjectInformation!$B$4<>\"\"),ProjectInformation!$B$3&\"\\\"&ProjectInformation!$B$4,IF(ProjectInformation!$B$3<>\"\",ProjectInformation!$B$3,\"\")))","v":"WHKS & CO."},null,null,null,null,null,null,null,null,null,null,null,null,null,null,null,null,null,null,null,null,null,null,null,null,null,null,null,null,null,null,null,null,null,null,null,null,null,null,null,null,null,{"$f":"IF(ProjectInformation!$B$6<>\"\",ProjectInformation!$B$6,\"\")","v":"SCOTT"},null,null,null,null,null,null,null,null,null,null,null,null,null,null,null,null,null,null,null,null,null,null,null,null,null,null,null,null,null,null,null,null,null,null,null,null,null,null,null,null,null,null,"COUNTY",null,null,null,null,null,"PROJECT NUMBER",null,null,null,null,null,null,null,null,null,null,null,{"$f":"IF(ProjectInformation!$B$7<>\"\",ProjectInformation!$B$7,\"\")","v":"BRF-461-1(6)--38-82"},null,null,null,null,null,null,null,null,null,null,null,null,null,null,null,null,null,null,null,null,null,null,null,null,null,null,null,null,null,"SHEET NUMBER",null,null,null,null,null,null,null,null,null,"T.1",null,null,null,null,null,{"$f":"IF(GE182<>\"\",\"REVISED\",\"\")","v":""},null,null,null,null,null,{"$f":"IF(ProjectInformation!$B$9<>\"\",ProjectInformation!$B$9,\"\")","v":""}]
[]
[]
[]
[null,"9/1/2016     8:28:08 AM     lfatka     L:\\Dept\\6\\8000.10\\Design\\82461006t01.xlsm"]
[""]
[]
[]
[null,null,null,null,null,null,null,null,null,null,null,null,null,null,null,null,null,null,null,null,null,null,null,null,null,"",null,null,null,null,null,null,null,"",null,null,null,null,null,null,null,"",null,null,null,null,null,null,null,"",null,null,null,null,null,null,null,"",null,null,null,null,null,null,null,"",null,null,null,null,null,null,null,"",null,null,null,null,null,null,null,"",null,null,null,null,null,null,null,null,null,null,null,null,null,null,null,"",null,null,null,null,null,null,null,"",null,null,null,null,null,null,null,null,null,null,null,null,null,null,null,"",null,null,null,null,null,null,null,null,null,null,null,null,null,null,null,null,"",null,null,null,null,null,null,null,null,null,null,null,null,null,null,"",null,null,null,null,null,null,null,null,null,null,null,null,null,null,null,"",null,null,null,null,null,null,null,"",null,null,null,null,null,null,null,"",null,null,null,null,null,null,null,""]
[]
[null,null,"Refer to Standard Road Plans EW-101 and EW-102.",null,null,null,null,null,null,null,null,null,null,null,null,null,null,null,null,null,null,null,null,null,null,null,null,null,null,null,null,null,null,null,null,null,null,null,null,null,null,null,null,null,null,null,null,null,null,null,null,null,null,null,null,null,null,null,"TABULATION OF TEMPLATE QUANTITIES AND ADJUSTMENTS",null,null,null,null,null,null,null,null,null,null,null,null,null,null,null,null,null,null,null,null,null,null,null,null,null,null,null,null,null,null,null,null,null,null,null,null,null,null,null,null,null,null,null,null,null,null,null,null,null,null,null,null,null,null,null,null,null,null,null,null,null,null,null,null,null,null,null,null,null,null,null,null,null,null,null,null,null,null,"107-28"]
[]
[null,null,null,null,null,null,null,null,null,null,null,null,null,null,null,null,null,null,null,null,null,null,null,null,null,null,null,null,null,null,null,null,null,null,null,null,null,null,null,null,null,null,null,null,null,null,null,null,null,null,null,null,null,null,null,null,null,null,null,null,null,null,null,null,null,null,null,null,null,null,null,null,null,null,null,null,null,null,null,null,null,null,null,null,null,null,null,null,null,null,null,null,null,null,null,null,null,null,null,null,null,null,null,null,null,null,null,null,null,null,null,null,null,null,null,null,null,null,null,null,null,null,null,null,null,null,null,null,null,null,null,null,null,null,null,null,null,"2015-04-21"]
[]
[null,null,null,null,null,null,null,null,null,null,null,null,null,null,null,null,null,"Cut",null,null,null,null,null,null,null,null,null,null,null,null,null,null,null,null,null,null,null,null,null,null,null,null,null,null,null,null,null,null,null,null,null,null,null,null,null,null,null,null,null,null,null,null,null,null,null,"Fill",null,null,null,null,null,null,null,null,null,null,null,null,null,null,null,null,null,null,null,null,null,null,null,null,null,null,null,null,null,null,null,null,null,null,null,null,null,null,null,"Checks (EW-102)",null,null,null,null,null,null,null,null,null,null,null,null,null,null,null,"Topsoil"]
[]
[]
[null,null,null,null,null,null,null,null,null,null,null,null,null,null,null,null,null,"[1]",null,null,null,null,null,null,null,"[2]",null,null,null,null,null,null,null,"[3]",null,null,null,null,null,null,null,"[4]",null,null,null,null,null,null,null,"[5]",null,null,null,null,null,null,null,"[6]",null,null,null,null,null,null,null,"[7]",null,null,null,null,null,null,null,"[8]",null,null,null,null,null,null,null,"[9]",null,null,null,null,null,null,null,"[10]",null,null,null,null,null,null,null,"[11]",null,null,null,null,null,null,null,"[12]",null,null,null,null,null,null,null,"[13]",null,null,null,null,null,null,null,"[14]",null,null,null,null,null,null,null,"[15]",null,null,null,null,null,null,null,"[16]",null,null,null,null,null,null,null,"[17]",null,null,null,null,null,null,null,"[18]",null,null,null,null,null,null,null,"[19]",null,null,null,null,null,null,null,"[20]",null,null,null,null,null,null,null,"[21]",null,null,null,null,null,null,null,"[22]"]
[]
[]
[null,null,null,null,null,null,null,null,null,null,null,null,null,null,null,null,null,{"$f":"IF('107_28'!$R$15<>\"\",'107_28'!$R$15,\"\")","v":""},null,null,null,null,null,null,null,{"$f":"IF('107_28'!$Z$15<>\"\",'107_28'!$Z$15,\"\")","v":""},null,null,null,null,null,null,null,{"$f":"IF('107_28'!$AH$15<>\"\",'107_28'!$AH$15,\"\")","v":""},null,null,null,null,null,null,null,{"$f":"IF('107_28'!$AP$15<>\"\",'107_28'!$AP$15,\"\")","v":""},null,null,null,null,null,null,null,{"$f":"IF('107_28'!$AX$15<>\"\",'107_28'!$AX$15,\"\")","v":""},null,null,null,null,null,null,null,{"$f":"IF('107_28'!$BF$15<>\"\",'107_28'!$BF$15,\"\")","v":""},null,null,null,null,null,null,null,{"$f":"IF('107_28'!$BN$15<>\"\",'107_28'!$BN$15,\"\")","v":""},null,null,null,null,null,null,null,{"$f":"IF('107_28'!$BV$15<>\"\",'107_28'!$BV$15,\"\")","v":""},null,null,null,null,null,null,null,{"$f":"IF('107_28'!$CD$15<>\"\",'107_28'!$CD$15,\"\")","v":""},null,null,null,null,null,null,null,{"$f":"IF('107_28'!$CL$15<>\"\",'107_28'!$CL$15,\"\")","v":""},null,null,null,null,null,null,null,{"$f":"IF('107_28'!$CT$15<>\"\",'107_28'!$CT$15,\"\")","v":""},null,null,null,null,null,null,null,{"$f":"IF('107_28'!$DB$15<>\"\",'107_28'!$DB$15,\"\")","v":""},null,null,null,null,null,null,null,{"$f":"IF('107_28'!$DJ$15<>\"\",'107_28'!$DJ$15,\"\")","v":""},null,null,null,null,null,null,null,{"$f":"IF('107_28'!$DR$15<>\"\",'107_28'!$DR$15,\"\")","v":""},null,null,null,null,null,null,null,{"$f":"IF('107_28'!$DZ$15<>\"\",'107_28'!$DZ$15,\"\")","v":""},null,null,null,null,null,null,null,{"$f":"IF('107_28'!$EH$15<>\"\",'107_28'!$EH$15,\"\")","v":""},null,null,null,null,null,null,null,{"$f":"IF('107_28'!$EP$15<>\"\",'107_28'!$EP$15,\"\")","v":""},null,null,null,null,null,null,null,{"$f":"IF('107_28'!$EX$15<>\"\",'107_28'!$EX$15,\"\")","v":""},null,null,null,null,null,null,null,{"$f":"IF('107_28'!$FF$15<>\"\",'107_28'!$FF$15,\"\")","v":""},null,null,null,null,null,null,null,{"$f":"IF('107_28'!$FN$15<>\"\",'107_28'!$FN$15,\"\")","v":""},null,null,null,null,null,null,null,{"$f":"IF('107_28'!$FV$15<>\"\",'107_28'!$FV$15,\"\")","v":""},null,null,null,null,null,null,null,{"$f":"IF('107_28'!$GD$15<>\"\",'107_28'!$GD$15,\"\")","v":""}]
[]
[]
[]
[null,null,{"$f":"IF(Tabfill!A1<>\"\",Tabfill!A1,\"\")","v":"Station"},null,null,null,null,null,null,null,null,null,null,null,null,null,null,{"$f":"IF(Tabfill!$B$1<>\"\",Tabfill!$B$1,\"\")","v":"Template Cut\nVolume"},null,null,null,null,null,null,null,{"$f":"IF(Tabfill!$C$1<>\"\",Tabfill!$C$1,\"\")","v":"Template\nClass 10\nVolume"},null,null,null,null,null,null,null,{"$f":"IF(Tabfill!$D$1<>\"\",Tabfill!$D$1,\"\")","v":"Template\nTopsoil Cut\nVolume"},null,null,null,null,null,null,null,{"$f":"IF(Tabfill!$E$1<>\"\",Tabfill!$E$1,\"\")","v":"Template\nPavement\nRemoval\nVolume"},null,null,null,null,null,null,null,{"$f":"IF(Tabfill!$F$1<>\"\",Tabfill!$F$1,\"\")","v":"Total\nCut\nAdjusted"},null,null,null,null,null,null,null,{"$f":"IF(Tabfill!$G$1<>\"\",Tabfill!$G$1,\"\")","v":"Total Cut\nAdjusted w/ \nWeighted Average\n1.3 Shrink Factor"},null,null,null,null,null,null,null,{"$f":"IF(Tabfill!$I$1<>\"\",Tabfill!$I$1,\"\")","v":"Template Fill\nVolume"},null,null,null,null,null,null,null,{"$f":"IF(Tabfill!$J$1<>\"\",Tabfill!$J$1,\"\")","v":"Topsoil\nStripping\n\n+ Fill"},null,null,null,null,null,null,null,{"$f":"IF(Tabfill!$K$1<>\"\",Tabfill!$K$1,\"\")","v":"Non-Template\nExisting Pavement\nRemoval\n+Fill"},null,null,null,null,null,null,null,{"$f":"IF(Tabfill!$L$1<>\"\",Tabfill!$L$1,\"\")","v":"Total\nFill\nAdjusted"},null,null,null,null,null,null,null,{"$f":"IF(Tabfill!$M$1<>\"\",Tabfill!$M$1,\"\")","v":"Total Cut Adjusted\nw/ 1.3 Shrink\n Factor Minus Fill"},null,null,null,null,null,null,null,{"$f":"IF(Tabfill!$O$1<>\"\",Tabfill!$O$1,\"\")","v":"Approx. Fill\nVolume Below\n5' And Above 20'\nCu. Yds."},null,null,null,null,null,null,null,{"$f":"IF(Tabfill!$P$1<>\"\",Tabfill!$P$1,\"\")","v":"Approx. Fill\nVolume Below 3'\n\nCu. Yds."},null,null,null,null,null,null,null,{"$f":"IF(Tabfill!$R$1<>\"\",Tabfill!$R$1,\"\")","v":"Total\nTopsoil Cut\nVolume"},null,null,null,null,null,null,null,{"$f":"IF(Tabfill!$S$1<>\"\",Tabfill!$S$1,\"\")","v":"Template\nTopsoil\nReplacement\nVolume"},null,null,null,null,null,null,null,{"$f":"IF(Tabfill!$T$1<>\"\",Tabfill!$T$1,\"\")","v":"Topsoil Cut\nWith\n1.4 Shrink\nFactor"},null,null,null,null,null,null,null,{"$f":"IF(Tabfill!$U$1<>\"\",Tabfill!$U$1,\"\")","v":"Topsoil Cut\nWith Shrink\nMinus Topsoil\nReplacement"}]
[]
[]
[]
[]
[]
[]
[]
[]
[]
[]
[]
[]
[]
[]
[]
[]
[]
[]
[null,null,{"$f":"IF(Tabfill!A72<>\"\",Tabfill!A72,\"\")","v":""}]
[null,null,null,null,null,null,null,null,null,null,null,null,null,null,null,null,null,{"$f":"IF(Tabfill!$B$72<>\"\",Tabfill!$B$72,\"\")","v":""},null,null,null,null,null,null,null,{"$f":"IF(Tabfill!$C$72<>\"\",Tabfill!$C$72,\"\")","v":""},null,null,null,null,null,null,null,{"$f":"IF(Tabfill!$D$72<>\"\",Tabfill!$D$72,\"\")","v":""},null,null,null,null,null,null,null,{"$f":"IF(Tabfill!$E$72<>\"\",Tabfill!$E$72,\"\")","v":""},null,null,null,null,null,null,null,{"$f":"IF(Tabfill!$F$72<>\"\",Tabfill!$F$72,\"\")","v":""},null,null,null,null,null,null,null,{"$f":"IF(Tabfill!$G$72<>\"\",Tabfill!$G$72,\"\")","v":""},null,null,null,null,null,null,null,{"$f":"IF(Tabfill!$I$72<>\"\",Tabfill!$I$72,\"\")","v":""},null,null,null,null,null,null,null,{"$f":"IF(Tabfill!$J$72<>\"\",Tabfill!$J$72,\"\")","v":""},null,null,null,null,null,null,null,{"$f":"IF(Tabfill!$K$72<>\"\",Tabfill!$K$72,\"\")","v":""},null,null,null,null,null,null,null,{"$f":"IF(Tabfill!$L$72<>\"\",Tabfill!$L$72,\"\")","v":""},null,null,null,null,null,null,null,{"$f":"IF(Tabfill!$M$72<>\"\",Tabfill!$M$72,\"\")","v":""},null,null,null,null,null,null,null,{"$f":"IF(Tabfill!$O$72<>\"\",Tabfill!$O$72,\"\")","v":""},null,null,null,null,null,null,null,{"$f":"IF(Tabfill!$P$72<>\"\",Tabfill!$P$72,\"\")","v":""},null,null,null,null,null,null,null,{"$f":"IF(Tabfill!$R$72<>\"\",Tabfill!$R$72,\"\")","v":""},null,null,null,null,null,null,null,{"$f":"IF(Tabfill!$S$72<>\"\",Tabfill!$S$72,\"\")","v":""},null,null,null,null,null,null,null,{"$f":"IF(Tabfill!$T$72<>\"\",Tabfill!$T$72,\"\")","v":""},null,null,null,null,null,null,null,{"$f":"IF(Tabfill!$U$72<>\"\",Tabfill!$U$72,\"\")","v":""}]
[null,null,{"$f":"IF(Tabfill!A73<>\"\",Tabfill!A73,\"\")","v":"SR022"}]
[null,null,null,null,null,null,null,null,null,null,null,null,null,null,null,null,null,{"$f":"IF(Tabfill!$B$73<>\"\",Tabfill!$B$73,\"\")","v":""},null,null,null,null,null,null,null,{"$f":"IF(Tabfill!$C$73<>\"\",Tabfill!$C$73,\"\")","v":""},null,null,null,null,null,null,null,{"$f":"IF(Tabfill!$D$73<>\"\",Tabfill!$D$73,\"\")","v":""},null,null,null,null,null,null,null,{"$f":"IF(Tabfill!$E$73<>\"\",Tabfill!$E$73,\"\")","v":""},null,null,null,null,null,null,null,{"$f":"IF(Tabfill!$F$73<>\"\",Tabfill!$F$73,\"\")","v":""},null,null,null,null,null,null,null,{"$f":"IF(Tabfill!$G$73<>\"\",Tabfill!$G$73,\"\")","v":""},null,null,null,null,null,null,null,{"$f":"IF(Tabfill!$I$73<>\"\",Tabfill!$I$73,\"\")","v":""},null,null,null,null,null,null,null,{"$f":"IF(Tabfill!$J$73<>\"\",Tabfill!$J$73,\"\")","v":""},null,null,null,null,null,null,null,{"$f":"IF(Tabfill!$K$73<>\"\",Tabfill!$K$73,\"\")","v":""},null,null,null,null,null,null,null,{"$f":"IF(Tabfill!$L$73<>\"\",Tabfill!$L$73,\"\")","v":""},null,null,null,null,null,null,null,{"$f":"IF(Tabfill!$M$73<>\"\",Tabfill!$M$73,\"\")","v":""},null,null,null,null,null,null,null,{"$f":"IF(Tabfill!$O$73<>\"\",Tabfill!$O$73,\"\")","v":""},null,null,null,null,null,null,null,{"$f":"IF(Tabfill!$P$73<>\"\",Tabfill!$P$73,\"\")","v":""},null,null,null,null,null,null,null,{"$f":"IF(Tabfill!$R$73<>\"\",Tabfill!$R$73,\"\")","v":""},null,null,null,null,null,null,null,{"$f":"IF(Tabfill!$S$73<>\"\",Tabfill!$S$73,\"\")","v":""},null,null,null,null,null,null,null,{"$f":"IF(Tabfill!$T$73<>\"\",Tabfill!$T$73,\"\")","v":""},null,null,null,null,null,null,null,{"$f":"IF(Tabfill!$U$73<>\"\",Tabfill!$U$73,\"\")","v":""}]
[null,null,{"$f":"IF(Tabfill!A74<>\"\",Tabfill!A74,\"\")","v":49372.65}]
[null,null,null,null,null,null,null,null,null,null,null,null,null,null,null,null,null,{"$f":"IF(Tabfill!$B$74<>\"\",Tabfill!$B$74,\"\")","v":13.6},null,null,null,null,null,null,null,{"$f":"IF(Tabfill!$C$74<>\"\",Tabfill!$C$74,\"\")","v":12},null,null,null,null,null,null,null,{"$f":"IF(Tabfill!$D$74<>\"\",Tabfill!$D$74,\"\")","v":5.6},null,null,null,null,null,null,null,{"$f":"IF(Tabfill!$E$74<>\"\",Tabfill!$E$74,\"\")","v":9},null,null,null,null,null,null,null,{"$f":"IF(Tabfill!$F$74<>\"\",Tabfill!$F$74,\"\")","v":12},null,null,null,null,null,null,null,{"$f":"IF(Tabfill!$G$74<>\"\",Tabfill!$G$74,\"\")","v":9},null,null,null,null,null,null,null,{"$f":"IF(Tabfill!$I$74<>\"\",Tabfill!$I$74,\"\")","v":9},null,null,null,null,null,null,null,{"$f":"IF(Tabfill!$J$74<>\"\",Tabfill!$J$74,\"\")","v":1.5999999999999996},null,null,null,null,null,null,null,{"$f":"IF(Tabfill!$K$74<>\"\",Tabfill!$K$74,\"\")","v":9},null,null,null,null,null,null,null,{"$f":"IF(Tabfill!$L$74<>\"\",Tabfill!$L$74,\"\")","v":19.600000000000001},null,null,null,null,null,null,null,{"$f":"IF(Tabfill!$M$74<>\"\",Tabfill!$M$74,\"\")","v":-10.600000000000001},null,null,null,null,null,null,null,{"$f":"IF(Tabfill!$O$74<>\"\",Tabfill!$O$74,\"\")","v":0},null,null,null,null,null,null,null,{"$f":"IF(Tabfill!$P$74<>\"\",Tabfill!$P$74,\"\")","v":0},null,null,null,null,null,null,null,{"$f":"IF(Tabfill!$R$74<>\"\",Tabfill!$R$74,\"\")","v":5.6},null,null,null,null,null,null,null,{"$f":"IF(Tabfill!$S$74<>\"\",Tabfill!$S$74,\"\")","v":4},null,null,null,null,null,null,null,{"$f":"IF(Tabfill!$T$74<>\"\",Tabfill!$T$74,\"\")","v":4},null,null,null,null,null,null,null,{"$f":"IF(Tabfill!$U$74<>\"\",Tabfill!$U$74,\"\")","v":0}]
[null,null,{"$f":"IF(Tabfill!A75<>\"\",Tabfill!A75,\"\")","v":49375}]
[null,null,null,null,null,null,null,null,null,null,null,null,null,null,null,null,null,{"$f":"IF(Tabfill!$B$75<>\"\",Tabfill!$B$75,\"\")","v":142.80000000000001},null,null,null,null,null,null,null,{"$f":"IF(Tabfill!$C$75<>\"\",Tabfill!$C$75,\"\")","v":128},null,null,null,null,null,null,null,{"$f":"IF(Tabfill!$D$75<>\"\",Tabfill!$D$75,\"\")","v":51.8},null,null,null,null,null,null,null,{"$f":"IF(Tabfill!$E$75<>\"\",Tabfill!$E$75,\"\")","v":77},null,null,null,null,null,null,null,{"$f":"IF(Tabfill!$F$75<>\"\",Tabfill!$F$75,\"\")","v":128},null,null,null,null,null,null,null,{"$f":"IF(Tabfill!$G$75<>\"\",Tabfill!$G$75,\"\")","v":98},null,null,null,null,null,null,null,{"$f":"IF(Tabfill!$I$75<>\"\",Tabfill!$I$75,\"\")","v":101},null,null,null,null,null,null,null,{"$f":"IF(Tabfill!$J$75<>\"\",Tabfill!$J$75,\"\")","v":14.799999999999997},null,null,null,null,null,null,null,{"$f":"IF(Tabfill!$K$75<>\"\",Tabfill!$K$75,\"\")","v":77},null,null,null,null,null,null,null,{"$f":"IF(Tabfill!$L$75<>\"\",Tabfill!$L$75,\"\")","v":192.8},null,null,null,null,null,null,null,{"$f":"IF(Tabfill!$M$75<>\"\",Tabfill!$M$75,\"\")","v":-94.800000000000011},null,null,null,null,null,null,null,{"$f":"IF(Tabfill!$O$75<>\"\",Tabfill!$O$75,\"\")","v":0},null,null,null,null,null,null,null,{"$f":"IF(Tabfill!$P$75<>\"\",Tabfill!$P$75,\"\")","v":8},null,null,null,null,null,null,null,{"$f":"IF(Tabfill!$R$75<>\"\",Tabfill!$R$75,\"\")","v":51.8},null,null,null,null,null,null,null,{"$f":"IF(Tabfill!$S$75<>\"\",Tabfill!$S$75,\"\")","v":37},null,null,null,null,null,null,null,{"$f":"IF(Tabfill!$T$75<>\"\",Tabfill!$T$75,\"\")","v":37},null,null,null,null,null,null,null,{"$f":"IF(Tabfill!$U$75<>\"\",Tabfill!$U$75,\"\")","v":0}]
[null,null,{"$f":"IF(Tabfill!A76<>\"\",Tabfill!A76,\"\")","v":49400}]
[null,null,null,null,null,null,null,null,null,null,null,null,null,null,null,null,null,{"$f":"IF(Tabfill!$B$76<>\"\",Tabfill!$B$76,\"\")","v":140.4},null,null,null,null,null,null,null,{"$f":"IF(Tabfill!$C$76<>\"\",Tabfill!$C$76,\"\")","v":126},null,null,null,null,null,null,null,{"$f":"IF(Tabfill!$D$76<>\"\",Tabfill!$D$76,\"\")","v":50.4},null,null,null,null,null,null,null,{"$f":"IF(Tabfill!$E$76<>\"\",Tabfill!$E$76,\"\")","v":56},null,null,null,null,null,null,null,{"$f":"IF(Tabfill!$F$76<>\"\",Tabfill!$F$76,\"\")","v":126},null,null,null,null,null,null,null,{"$f":"IF(Tabfill!$G$76<>\"\",Tabfill!$G$76,\"\")","v":97},null,null,null,null,null,null,null,{"$f":"IF(Tabfill!$I$76<>\"\",Tabfill!$I$76,\"\")","v":103},null,null,null,null,null,null,null,{"$f":"IF(Tabfill!$J$76<>\"\",Tabfill!$J$76,\"\")","v":14.399999999999999},null,null,null,null,null,null,null,{"$f":"IF(Tabfill!$K$76<>\"\",Tabfill!$K$76,\"\")","v":56},null,null,null,null,null,null,null,{"$f":"IF(Tabfill!$L$76<>\"\",Tabfill!$L$76,\"\")","v":173.4},null,null,null,null,null,null,null,{"$f":"IF(Tabfill!$M$76<>\"\",Tabfill!$M$76,\"\")","v":-76.400000000000006},null,null,null,null,null,null,null,{"$f":"IF(Tabfill!$O$76<>\"\",Tabfill!$O$76,\"\")","v":0},null,null,null,null,null,null,null,{"$f":"IF(Tabfill!$P$76<>\"\",Tabfill!$P$76,\"\")","v":97},null,null,null,null,null,null,null,{"$f":"IF(Tabfill!$R$76<>\"\",Tabfill!$R$76,\"\")","v":50.4},null,null,null,null,null,null,null,{"$f":"IF(Tabfill!$S$76<>\"\",Tabfill!$S$76,\"\")","v":36},null,null,null,null,null,null,null,{"$f":"IF(Tabfill!$T$76<>\"\",Tabfill!$T$76,\"\")","v":36},null,null,null,null,null,null,null,{"$f":"IF(Tabfill!$U$76<>\"\",Tabfill!$U$76,\"\")","v":0}]
[null,null,{"$f":"IF(Tabfill!A77<>\"\",Tabfill!A77,\"\")","v":49425}]
[null,null,null,null,null,null,null,null,null,null,null,null,null,null,null,null,null,{"$f":"IF(Tabfill!$B$77<>\"\",Tabfill!$B$77,\"\")","v":140.80000000000001},null,null,null,null,null,null,null,{"$f":"IF(Tabfill!$C$77<>\"\",Tabfill!$C$77,\"\")","v":122},null,null,null,null,null,null,null,{"$f":"IF(Tabfill!$D$77<>\"\",Tabfill!$D$77,\"\")","v":65.8},null,null,null,null,null,null,null,{"$f":"IF(Tabfill!$E$77<>\"\",Tabfill!$E$77,\"\")","v":53},null,null,null,null,null,null,null,{"$f":"IF(Tabfill!$F$77<>\"\",Tabfill!$F$77,\"\")","v":122},null,null,null,null,null,null,null,{"$f":"IF(Tabfill!$G$77<>\"\",Tabfill!$G$77,\"\")","v":94},null,null,null,null,null,null,null,{"$f":"IF(Tabfill!$I$77<>\"\",Tabfill!$I$77,\"\")","v":104},null,null,null,null,null,null,null,{"$f":"IF(Tabfill!$J$77<>\"\",Tabfill!$J$77,\"\")","v":18.799999999999997},null,null,null,null,null,null,null,{"$f":"IF(Tabfill!$K$77<>\"\",Tabfill!$K$77,\"\")","v":53},null,null,null,null,null,null,null,{"$f":"IF(Tabfill!$L$77<>\"\",Tabfill!$L$77,\"\")","v":175.8},null,null,null,null,null,null,null,{"$f":"IF(Tabfill!$M$77<>\"\",Tabfill!$M$77,\"\")","v":-81.800000000000011},null,null,null,null,null,null,null,{"$f":"IF(Tabfill!$O$77<>\"\",Tabfill!$O$77,\"\")","v":0},null,null,null,null,null,null,null,{"$f":"IF(Tabfill!$P$77<>\"\",Tabfill!$P$77,\"\")","v":99},null,null,null,null,null,null,null,{"$f":"IF(Tabfill!$R$77<>\"\",Tabfill!$R$77,\"\")","v":65.8},null,null,null,null,null,null,null,{"$f":"IF(Tabfill!$S$77<>\"\",Tabfill!$S$77,\"\")","v":47},null,null,null,null,null,null,null,{"$f":"IF(Tabfill!$T$77<>\"\",Tabfill!$T$77,\"\")","v":47},null,null,null,null,null,null,null,{"$f":"IF(Tabfill!$U$77<>\"\",Tabfill!$U$77,\"\")","v":0}]
[null,null,{"$f":"IF(Tabfill!A78<>\"\",Tabfill!A78,\"\")","v":49450}]
[null,null,null,null,null,null,null,null,null,null,null,null,null,null,null,null,null,{"$f":"IF(Tabfill!$B$78<>\"\",Tabfill!$B$78,\"\")","v":139.39999999999998},null,null,null,null,null,null,null,{"$f":"IF(Tabfill!$C$78<>\"\",Tabfill!$C$78,\"\")","v":119},null,null,null,null,null,null,null,{"$f":"IF(Tabfill!$D$78<>\"\",Tabfill!$D$78,\"\")","v":71.399999999999991},null,null,null,null,null,null,null,{"$f":"IF(Tabfill!$E$78<>\"\",Tabfill!$E$78,\"\")","v":52},null,null,null,null,null,null,null,{"$f":"IF(Tabfill!$F$78<>\"\",Tabfill!$F$78,\"\")","v":119},null,null,null,null,null,null,null,{"$f":"IF(Tabfill!$G$78<>\"\",Tabfill!$G$78,\"\")","v":92},null,null,null,null,null,null,null,{"$f":"IF(Tabfill!$I$78<>\"\",Tabfill!$I$78,\"\")","v":100},null,null,null,null,null,null,null,{"$f":"IF(Tabfill!$J$78<>\"\",Tabfill!$J$78,\"\")","v":20.399999999999991},null,null,null,null,null,null,null,{"$f":"IF(Tabfill!$K$78<>\"\",Tabfill!$K$78,\"\")","v":52},null,null,null,null,null,null,null,{"$f":"IF(Tabfill!$L$78<>\"\",Tabfill!$L$78,\"\")","v":172.39999999999998},null,null,null,null,null,null,null,{"$f":"IF(Tabfill!$M$78<>\"\",Tabfill!$M$78,\"\")","v":-80.399999999999977},null,null,null,null,null,null,null,{"$f":"IF(Tabfill!$O$78<>\"\",Tabfill!$O$78,\"\")","v":0},null,null,null,null,null,null,null,{"$f":"IF(Tabfill!$P$78<>\"\",Tabfill!$P$78,\"\")","v":94},null,null,null,null,null,null,null,{"$f":"IF(Tabfill!$R$78<>\"\",Tabfill!$R$78,\"\")","v":71.399999999999991},null,null,null,null,null,null,null,{"$f":"IF(Tabfill!$S$78<>\"\",Tabfill!$S$78,\"\")","v":51},null,null,null,null,null,null,null,{"$f":"IF(Tabfill!$T$78<>\"\",Tabfill!$T$78,\"\")","v":51},null,null,null,null,null,null,null,{"$f":"IF(Tabfill!$U$78<>\"\",Tabfill!$U$78,\"\")","v":0}]
[null,null,{"$f":"IF(Tabfill!A79<>\"\",Tabfill!A79,\"\")","v":49475}]
[null,null,null,null,null,null,null,null,null,null,null,null,null,null,null,null,null,{"$f":"IF(Tabfill!$B$79<>\"\",Tabfill!$B$79,\"\")","v":137.19999999999999},null,null,null,null,null,null,null,{"$f":"IF(Tabfill!$C$79<>\"\",Tabfill!$C$79,\"\")","v":116},null,null,null,null,null,null,null,{"$f":"IF(Tabfill!$D$79<>\"\",Tabfill!$D$79,\"\")","v":74.199999999999989},null,null,null,null,null,null,null,{"$f":"IF(Tabfill!$E$79<>\"\",Tabfill!$E$79,\"\")","v":52},null,null,null,null,null,null,null,{"$f":"IF(Tabfill!$F$79<>\"\",Tabfill!$F$79,\"\")","v":116},null,null,null,null,null,null,null,{"$f":"IF(Tabfill!$G$79<>\"\",Tabfill!$G$79,\"\")","v":89},null,null,null,null,null,null,null,{"$f":"IF(Tabfill!$I$79<>\"\",Tabfill!$I$79,\"\")","v":89},null,null,null,null,null,null,null,{"$f":"IF(Tabfill!$J$79<>\"\",Tabfill!$J$79,\"\")","v":21.199999999999989},null,null,null,null,null,null,null,{"$f":"IF(Tabfill!$K$79<>\"\",Tabfill!$K$79,\"\")","v":52},null,null,null,null,null,null,null,{"$f":"IF(Tabfill!$L$79<>\"\",Tabfill!$L$79,\"\")","v":162.19999999999999},null,null,null,null,null,null,null,{"$f":"IF(Tabfill!$M$79<>\"\",Tabfill!$M$79,\"\")","v":-73.199999999999989},null,null,null,null,null,null,null,{"$f":"IF(Tabfill!$O$79<>\"\",Tabfill!$O$79,\"\")","v":0},null,null,null,null,null,null,null,{"$f":"IF(Tabfill!$P$79<>\"\",Tabfill!$P$79,\"\")","v":83},null,null,null,null,null,null,null,{"$f":"IF(Tabfill!$R$79<>\"\",Tabfill!$R$79,\"\")","v":74.199999999999989},null,null,null,null,null,null,null,{"$f":"IF(Tabfill!$S$79<>\"\",Tabfill!$S$79,\"\")","v":53},null,null,null,null,null,null,null,{"$f":"IF(Tabfill!$T$79<>\"\",Tabfill!$T$79,\"\")","v":53},null,null,null,null,null,null,null,{"$f":"IF(Tabfill!$U$79<>\"\",Tabfill!$U$79,\"\")","v":0}]
[null,null,{"$f":"IF(Tabfill!A80<>\"\",Tabfill!A80,\"\")","v":49500}]
[null,null,null,null,null,null,null,null,null,null,null,null,null,null,null,null,null,{"$f":"IF(Tabfill!$B$80<>\"\",Tabfill!$B$80,\"\")","v":134.80000000000001},null,null,null,null,null,null,null,{"$f":"IF(Tabfill!$C$80<>\"\",Tabfill!$C$80,\"\")","v":120},null,null,null,null,null,null,null,{"$f":"IF(Tabfill!$D$80<>\"\",Tabfill!$D$80,\"\")","v":51.8},null,null,null,null,null,null,null,{"$f":"IF(Tabfill!$E$80<>\"\",Tabfill!$E$80,\"\")","v":77},null,null,null,null,null,null,null,{"$f":"IF(Tabfill!$F$80<>\"\",Tabfill!$F$80,\"\")","v":120},null,null,null,null,null,null,null,{"$f":"IF(Tabfill!$G$80<>\"\",Tabfill!$G$80,\"\")","v":92},null,null,null,null,null,null,null,{"$f":"IF(Tabfill!$I$80<>\"\",Tabfill!$I$80,\"\")","v":64},null,null,null,null,null,null,null,{"$f":"IF(Tabfill!$J$80<>\"\",Tabfill!$J$80,\"\")","v":14.799999999999997},null,null,null,null,null,null,null,{"$f":"IF(Tabfill!$K$80<>\"\",Tabfill!$K$80,\"\")","v":77},null,null,null,null,null,null,null,{"$f":"IF(Tabfill!$L$80<>\"\",Tabfill!$L$80,\"\")","v":155.80000000000001},null,null,null,null,null,null,null,{"$f":"IF(Tabfill!$M$80<>\"\",Tabfill!$M$80,\"\")","v":-63.800000000000011},null,null,null,null,null,null,null,{"$f":"IF(Tabfill!$O$80<>\"\",Tabfill!$O$80,\"\")","v":0},null,null,null,null,null,null,null,{"$f":"IF(Tabfill!$P$80<>\"\",Tabfill!$P$80,\"\")","v":59},null,null,null,null,null,null,null,{"$f":"IF(Tabfill!$R$80<>\"\",Tabfill!$R$80,\"\")","v":51.8},null,null,null,null,null,null,null,{"$f":"IF(Tabfill!$S$80<>\"\",Tabfill!$S$80,\"\")","v":37},null,null,null,null,null,null,null,{"$f":"IF(Tabfill!$T$80<>\"\",Tabfill!$T$80,\"\")","v":37},null,null,null,null,null,null,null,{"$f":"IF(Tabfill!$U$80<>\"\",Tabfill!$U$80,\"\")","v":0}]
[null,null,{"$f":"IF(Tabfill!A81<>\"\",Tabfill!A81,\"\")","v":49525}]
[null,null,null,null,null,null,null,null,null,null,null,null,null,null,null,null,null,{"$f":"IF(Tabfill!$B$81<>\"\",Tabfill!$B$81,\"\")","v":132},null,null,null,null,null,null,null,{"$f":"IF(Tabfill!$C$81<>\"\",Tabfill!$C$81,\"\")","v":118},null,null,null,null,null,null,null,{"$f":"IF(Tabfill!$D$81<>\"\",Tabfill!$D$81,\"\")","v":49},null,null,null,null,null,null,null,{"$f":"IF(Tabfill!$E$81<>\"\",Tabfill!$E$81,\"\")","v":77},null,null,null,null,null,null,null,{"$f":"IF(Tabfill!$F$81<>\"\",Tabfill!$F$81,\"\")","v":118},null,null,null,null,null,null,null,{"$f":"IF(Tabfill!$G$81<>\"\",Tabfill!$G$81,\"\")","v":91},null,null,null,null,null,null,null,{"$f":"IF(Tabfill!$I$81<>\"\",Tabfill!$I$81,\"\")","v":62},null,null,null,null,null,null,null,{"$f":"IF(Tabfill!$J$81<>\"\",Tabfill!$J$81,\"\")","v":14},null,null,null,null,null,null,null,{"$f":"IF(Tabfill!$K$81<>\"\",Tabfill!$K$81,\"\")","v":77},null,null,null,null,null,null,null,{"$f":"IF(Tabfill!$L$81<>\"\",Tabfill!$L$81,\"\")","v":153},null,null,null,null,null,null,null,{"$f":"IF(Tabfill!$M$81<>\"\",Tabfill!$M$81,\"\")","v":-62},null,null,null,null,null,null,null,{"$f":"IF(Tabfill!$O$81<>\"\",Tabfill!$O$81,\"\")","v":0},null,null,null,null,null,null,null,{"$f":"IF(Tabfill!$P$81<>\"\",Tabfill!$P$81,\"\")","v":56},null,null,null,null,null,null,null,{"$f":"IF(Tabfill!$R$81<>\"\",Tabfill!$R$81,\"\")","v":49},null,null,null,null,null,null,null,{"$f":"IF(Tabfill!$S$81<>\"\",Tabfill!$S$81,\"\")","v":35},null,null,null,null,null,null,null,{"$f":"IF(Tabfill!$T$81<>\"\",Tabfill!$T$81,\"\")","v":35},null,null,null,null,null,null,null,{"$f":"IF(Tabfill!$U$81<>\"\",Tabfill!$U$81,\"\")","v":0}]
[null,null,{"$f":"IF(Tabfill!A82<>\"\",Tabfill!A82,\"\")","v":49550}]
[null,null,null,null,null,null,null,null,null,null,null,null,null,null,null,null,null,{"$f":"IF(Tabfill!$B$82<>\"\",Tabfill!$B$82,\"\")","v":130},null,null,null,null,null,null,null,{"$f":"IF(Tabfill!$C$82<>\"\",Tabfill!$C$82,\"\")","v":114},null,null,null,null,null,null,null,{"$f":"IF(Tabfill!$D$82<>\"\",Tabfill!$D$82,\"\")","v":56},null,null,null,null,null,null,null,{"$f":"IF(Tabfill!$E$82<>\"\",Tabfill!$E$82,\"\")","v":51},null,null,null,null,null,null,null,{"$f":"IF(Tabfill!$F$82<>\"\",Tabfill!$F$82,\"\")","v":114},null,null,null,null,null,null,null,{"$f":"IF(Tabfill!$G$82<>\"\",Tabfill!$G$82,\"\")","v":88},null,null,null,null,null,null,null,{"$f":"IF(Tabfill!$I$82<>\"\",Tabfill!$I$82,\"\")","v":65},null,null,null,null,null,null,null,{"$f":"IF(Tabfill!$J$82<>\"\",Tabfill!$J$82,\"\")","v":16},null,null,null,null,null,null,null,{"$f":"IF(Tabfill!$K$82<>\"\",Tabfill!$K$82,\"\")","v":51},null,null,null,null,null,null,null,{"$f":"IF(Tabfill!$L$82<>\"\",Tabfill!$L$82,\"\")","v":132},null,null,null,null,null,null,null,{"$f":"IF(Tabfill!$M$82<>\"\",Tabfill!$M$82,\"\")","v":-44},null,null,null,null,null,null,null,{"$f":"IF(Tabfill!$O$82<>\"\",Tabfill!$O$82,\"\")","v":0},null,null,null,null,null,null,null,{"$f":"IF(Tabfill!$P$82<>\"\",Tabfill!$P$82,\"\")","v":62},null,null,null,null,null,null,null,{"$f":"IF(Tabfill!$R$82<>\"\",Tabfill!$R$82,\"\")","v":56},null,null,null,null,null,null,null,{"$f":"IF(Tabfill!$S$82<>\"\",Tabfill!$S$82,\"\")","v":40},null,null,null,null,null,null,null,{"$f":"IF(Tabfill!$T$82<>\"\",Tabfill!$T$82,\"\")","v":40},null,null,null,null,null,null,null,{"$f":"IF(Tabfill!$U$82<>\"\",Tabfill!$U$82,\"\")","v":0}]
[null,null,{"$f":"IF(Tabfill!A83<>\"\",Tabfill!A83,\"\")","v":49575}]
[null,null,null,null,null,null,null,null,null,null,null,null,null,null,null,null,null,{"$f":"IF(Tabfill!$B$83<>\"\",Tabfill!$B$83,\"\")","v":137},null,null,null,null,null,null,null,{"$f":"IF(Tabfill!$C$83<>\"\",Tabfill!$C$83,\"\")","v":123},null,null,null,null,null,null,null,{"$f":"IF(Tabfill!$D$83<>\"\",Tabfill!$D$83,\"\")","v":49},null,null,null,null,null,null,null,{"$f":"IF(Tabfill!$E$83<>\"\",Tabfill!$E$83,\"\")","v":50},null,null,null,null,null,null,null,{"$f":"IF(Tabfill!$F$83<>\"\",Tabfill!$F$83,\"\")","v":123},null,null,null,null,null,null,null,{"$f":"IF(Tabfill!$G$83<>\"\",Tabfill!$G$83,\"\")","v":95},null,null,null,null,null,null,null,{"$f":"IF(Tabfill!$I$83<>\"\",Tabfill!$I$83,\"\")","v":43},null,null,null,null,null,null,null,{"$f":"IF(Tabfill!$J$83<>\"\",Tabfill!$J$83,\"\")","v":14},null,null,null,null,null,null,null,{"$f":"IF(Tabfill!$K$83<>\"\",Tabfill!$K$83,\"\")","v":50},null,null,null,null,null,null,null,{"$f":"IF(Tabfill!$L$83<>\"\",Tabfill!$L$83,\"\")","v":107},null,null,null,null,null,null,null,{"$f":"IF(Tabfill!$M$83<>\"\",Tabfill!$M$83,\"\")","v":-12},null,null,null,null,null,null,null,{"$f":"IF(Tabfill!$O$83<>\"\",Tabfill!$O$83,\"\")","v":0},null,null,null,null,null,null,null,{"$f":"IF(Tabfill!$P$83<>\"\",Tabfill!$P$83,\"\")","v":41},null,null,null,null,null,null,null,{"$f":"IF(Tabfill!$R$83<>\"\",Tabfill!$R$83,\"\")","v":49},null,null,null,null,null,null,null,{"$f":"IF(Tabfill!$S$83<>\"\",Tabfill!$S$83,\"\")","v":35},null,null,null,null,null,null,null,{"$f":"IF(Tabfill!$T$83<>\"\",Tabfill!$T$83,\"\")","v":35},null,null,null,null,null,null,null,{"$f":"IF(Tabfill!$U$83<>\"\",Tabfill!$U$83,\"\")","v":0}]
[null,null,{"$f":"IF(Tabfill!A84<>\"\",Tabfill!A84,\"\")","v":49600}]
[null,null,null,null,null,null,null,null,null,null,null,null,null,null,null,null,null,{"$f":"IF(Tabfill!$B$84<>\"\",Tabfill!$B$84,\"\")","v":136.6},null,null,null,null,null,null,null,{"$f":"IF(Tabfill!$C$84<>\"\",Tabfill!$C$84,\"\")","v":123},null,null,null,null,null,null,null,{"$f":"IF(Tabfill!$D$84<>\"\",Tabfill!$D$84,\"\")","v":47.599999999999994},null,null,null,null,null,null,null,{"$f":"IF(Tabfill!$E$84<>\"\",Tabfill!$E$84,\"\")","v":50},null,null,null,null,null,null,null,{"$f":"IF(Tabfill!$F$84<>\"\",Tabfill!$F$84,\"\")","v":123},null,null,null,null,null,null,null,{"$f":"IF(Tabfill!$G$84<>\"\",Tabfill!$G$84,\"\")","v":95},null,null,null,null,null,null,null,{"$f":"IF(Tabfill!$I$84<>\"\",Tabfill!$I$84,\"\")","v":27},null,null,null,null,null,null,null,{"$f":"IF(Tabfill!$J$84<>\"\",Tabfill!$J$84,\"\")","v":13.599999999999994},null,null,null,null,null,null,null,{"$f":"IF(Tabfill!$K$84<>\"\",Tabfill!$K$84,\"\")","v":50},null,null,null,null,null,null,null,{"$f":"IF(Tabfill!$L$84<>\"\",Tabfill!$L$84,\"\")","v":90.6},null,null,null,null,null,null,null,{"$f":"IF(Tabfill!$M$84<>\"\",Tabfill!$M$84,\"\")","v":4.4000000000000057},null,null,null,null,null,null,null,{"$f":"IF(Tabfill!$O$84<>\"\",Tabfill!$O$84,\"\")","v":0},null,null,null,null,null,null,null,{"$f":"IF(Tabfill!$P$84<>\"\",Tabfill!$P$84,\"\")","v":21},null,null,null,null,null,null,null,{"$f":"IF(Tabfill!$R$84<>\"\",Tabfill!$R$84,\"\")","v":47.599999999999994},null,null,null,null,null,null,null,{"$f":"IF(Tabfill!$S$84<>\"\",Tabfill!$S$84,\"\")","v":34},null,null,null,null,null,null,null,{"$f":"IF(Tabfill!$T$84<>\"\",Tabfill!$T$84,\"\")","v":34},null,null,null,null,null,null,null,{"$f":"IF(Tabfill!$U$84<>\"\",Tabfill!$U$84,\"\")","v":0}]
[null,null,{"$f":"IF(Tabfill!A85<>\"\",Tabfill!A85,\"\")","v":49625}]
[null,null,null,null,null,null,null,null,null,null,null,null,null,null,null,null,null,{"$f":"IF(Tabfill!$B$85<>\"\",Tabfill!$B$85,\"\")","v":131.6},null,null,null,null,null,null,null,{"$f":"IF(Tabfill!$C$85<>\"\",Tabfill!$C$85,\"\")","v":116},null,null,null,null,null,null,null,{"$f":"IF(Tabfill!$D$85<>\"\",Tabfill!$D$85,\"\")","v":54.599999999999994},null,null,null,null,null,null,null,{"$f":"IF(Tabfill!$E$85<>\"\",Tabfill!$E$85,\"\")","v":49},null,null,null,null,null,null,null,{"$f":"IF(Tabfill!$F$85<>\"\",Tabfill!$F$85,\"\")","v":116},null,null,null,null,null,null,null,{"$f":"IF(Tabfill!$G$85<>\"\",Tabfill!$G$85,\"\")","v":89},null,null,null,null,null,null,null,{"$f":"IF(Tabfill!$I$85<>\"\",Tabfill!$I$85,\"\")","v":38},null,null,null,null,null,null,null,{"$f":"IF(Tabfill!$J$85<>\"\",Tabfill!$J$85,\"\")","v":15.599999999999994},null,null,null,null,null,null,null,{"$f":"IF(Tabfill!$K$85<>\"\",Tabfill!$K$85,\"\")","v":49},null,null,null,null,null,null,null,{"$f":"IF(Tabfill!$L$85<>\"\",Tabfill!$L$85,\"\")","v":102.6},null,null,null,null,null,null,null,{"$f":"IF(Tabfill!$M$85<>\"\",Tabfill!$M$85,\"\")","v":-13.599999999999994},null,null,null,null,null,null,null,{"$f":"IF(Tabfill!$O$85<>\"\",Tabfill!$O$85,\"\")","v":0},null,null,null,null,null,null,null,{"$f":"IF(Tabfill!$P$85<>\"\",Tabfill!$P$85,\"\")","v":33},null,null,null,null,null,null,null,{"$f":"IF(Tabfill!$R$85<>\"\",Tabfill!$R$85,\"\")","v":54.599999999999994},null,null,null,null,null,null,null,{"$f":"IF(Tabfill!$S$85<>\"\",Tabfill!$S$85,\"\")","v":39},null,null,null,null,null,null,null,{"$f":"IF(Tabfill!$T$85<>\"\",Tabfill!$T$85,\"\")","v":39},null,null,null,null,null,null,null,{"$f":"IF(Tabfill!$U$85<>\"\",Tabfill!$U$85,\"\")","v":0}]
[null,null,{"$f":"IF(Tabfill!A86<>\"\",Tabfill!A86,\"\")","v":49650}]
[null,null,null,null,null,null,null,null,null,null,null,null,null,null,null,null,null,{"$f":"IF(Tabfill!$B$86<>\"\",Tabfill!$B$86,\"\")","v":137.19999999999999},null,null,null,null,null,null,null,{"$f":"IF(Tabfill!$C$86<>\"\",Tabfill!$C$86,\"\")","v":118},null,null,null,null,null,null,null,{"$f":"IF(Tabfill!$D$86<>\"\",Tabfill!$D$86,\"\")","v":67.199999999999989},null,null,null,null,null,null,null,{"$f":"IF(Tabfill!$E$86<>\"\",Tabfill!$E$86,\"\")","v":49},null,null,null,null,null,null,null,{"$f":"IF(Tabfill!$F$86<>\"\",Tabfill!$F$86,\"\")","v":118},null,null,null,null,null,null,null,{"$f":"IF(Tabfill!$G$86<>\"\",Tabfill!$G$86,\"\")","v":91},null,null,null,null,null,null,null,{"$f":"IF(Tabfill!$I$86<>\"\",Tabfill!$I$86,\"\")","v":50},null,null,null,null,null,null,null,{"$f":"IF(Tabfill!$J$86<>\"\",Tabfill!$J$86,\"\")","v":19.199999999999989},null,null,null,null,null,null,null,{"$f":"IF(Tabfill!$K$86<>\"\",Tabfill!$K$86,\"\")","v":49},null,null,null,null,null,null,null,{"$f":"IF(Tabfill!$L$86<>\"\",Tabfill!$L$86,\"\")","v":118.19999999999999},null,null,null,null,null,null,null,{"$f":"IF(Tabfill!$M$86<>\"\",Tabfill!$M$86,\"\")","v":-27.199999999999989},null,null,null,null,null,null,null,{"$f":"IF(Tabfill!$O$86<>\"\",Tabfill!$O$86,\"\")","v":0},null,null,null,null,null,null,null,{"$f":"IF(Tabfill!$P$86<>\"\",Tabfill!$P$86,\"\")","v":44},null,null,null,null,null,null,null,{"$f":"IF(Tabfill!$R$86<>\"\",Tabfill!$R$86,\"\")","v":67.199999999999989},null,null,null,null,null,null,null,{"$f":"IF(Tabfill!$S$86<>\"\",Tabfill!$S$86,\"\")","v":48},null,null,null,null,null,null,null,{"$f":"IF(Tabfill!$T$86<>\"\",Tabfill!$T$86,\"\")","v":48},null,null,null,null,null,null,null,{"$f":"IF(Tabfill!$U$86<>\"\",Tabfill!$U$86,\"\")","v":0}]
[null,null,{"$f":"IF(Tabfill!A87<>\"\",Tabfill!A87,\"\")","v":49675}]
[null,null,null,null,null,null,null,null,null,null,null,null,null,null,null,null,null,{"$f":"IF(Tabfill!$B$87<>\"\",Tabfill!$B$87,\"\")","v":135.80000000000001},null,null,null,null,null,null,null,{"$f":"IF(Tabfill!$C$87<>\"\",Tabfill!$C$87,\"\")","v":117},null,null,null,null,null,null,null,{"$f":"IF(Tabfill!$D$87<>\"\",Tabfill!$D$87,\"\")","v":65.8},null,null,null,null,null,null,null,{"$f":"IF(Tabfill!$E$87<>\"\",Tabfill!$E$87,\"\")","v":49},null,null,null,null,null,null,null,{"$f":"IF(Tabfill!$F$87<>\"\",Tabfill!$F$87,\"\")","v":117},null,null,null,null,null,null,null,{"$f":"IF(Tabfill!$G$87<>\"\",Tabfill!$G$87,\"\")","v":90},null,null,null,null,null,null,null,{"$f":"IF(Tabfill!$I$87<>\"\",Tabfill!$I$87,\"\")","v":36},null,null,null,null,null,null,null,{"$f":"IF(Tabfill!$J$87<>\"\",Tabfill!$J$87,\"\")","v":18.799999999999997},null,null,null,null,null,null,null,{"$f":"IF(Tabfill!$K$87<>\"\",Tabfill!$K$87,\"\")","v":49},null,null,null,null,null,null,null,{"$f":"IF(Tabfill!$L$87<>\"\",Tabfill!$L$87,\"\")","v":103.8},null,null,null,null,null,null,null,{"$f":"IF(Tabfill!$M$87<>\"\",Tabfill!$M$87,\"\")","v":-13.799999999999997},null,null,null,null,null,null,null,{"$f":"IF(Tabfill!$O$87<>\"\",Tabfill!$O$87,\"\")","v":0},null,null,null,null,null,null,null,{"$f":"IF(Tabfill!$P$87<>\"\",Tabfill!$P$87,\"\")","v":31},null,null,null,null,null,null,null,{"$f":"IF(Tabfill!$R$87<>\"\",Tabfill!$R$87,\"\")","v":65.8},null,null,null,null,null,null,null,{"$f":"IF(Tabfill!$S$87<>\"\",Tabfill!$S$87,\"\")","v":47},null,null,null,null,null,null,null,{"$f":"IF(Tabfill!$T$87<>\"\",Tabfill!$T$87,\"\")","v":47},null,null,null,null,null,null,null,{"$f":"IF(Tabfill!$U$87<>\"\",Tabfill!$U$87,\"\")","v":0}]
[null,null,{"$f":"IF(Tabfill!A88<>\"\",Tabfill!A88,\"\")","v":49700}]
[null,null,null,null,null,null,null,null,null,null,null,null,null,null,null,null,null,{"$f":"IF(Tabfill!$B$88<>\"\",Tabfill!$B$88,\"\")","v":128.4},null,null,null,null,null,null,null,{"$f":"IF(Tabfill!$C$88<>\"\",Tabfill!$C$88,\"\")","v":114},null,null,null,null,null,null,null,{"$f":"IF(Tabfill!$D$88<>\"\",Tabfill!$D$88,\"\")","v":50.4},null,null,null,null,null,null,null,{"$f":"IF(Tabfill!$E$88<>\"\",Tabfill!$E$88,\"\")","v":50},null,null,null,null,null,null,null,{"$f":"IF(Tabfill!$F$88<>\"\",Tabfill!$F$88,\"\")","v":114},null,null,null,null,null,null,null,{"$f":"IF(Tabfill!$G$88<>\"\",Tabfill!$G$88,\"\")","v":88},null,null,null,null,null,null,null,{"$f":"IF(Tabfill!$I$88<>\"\",Tabfill!$I$88,\"\")","v":26},null,null,null,null,null,null,null,{"$f":"IF(Tabfill!$J$88<>\"\",Tabfill!$J$88,\"\")","v":14.399999999999999},null,null,null,null,null,null,null,{"$f":"IF(Tabfill!$K$88<>\"\",Tabfill!$K$88,\"\")","v":50},null,null,null,null,null,null,null,{"$f":"IF(Tabfill!$L$88<>\"\",Tabfill!$L$88,\"\")","v":90.4},null,null,null,null,null,null,null,{"$f":"IF(Tabfill!$M$88<>\"\",Tabfill!$M$88,\"\")","v":-2.4000000000000057},null,null,null,null,null,null,null,{"$f":"IF(Tabfill!$O$88<>\"\",Tabfill!$O$88,\"\")","v":0},null,null,null,null,null,null,null,{"$f":"IF(Tabfill!$P$88<>\"\",Tabfill!$P$88,\"\")","v":20},null,null,null,null,null,null,null,{"$f":"IF(Tabfill!$R$88<>\"\",Tabfill!$R$88,\"\")","v":50.4},null,null,null,null,null,null,null,{"$f":"IF(Tabfill!$S$88<>\"\",Tabfill!$S$88,\"\")","v":36},null,null,null,null,null,null,null,{"$f":"IF(Tabfill!$T$88<>\"\",Tabfill!$T$88,\"\")","v":36},null,null,null,null,null,null,null,{"$f":"IF(Tabfill!$U$88<>\"\",Tabfill!$U$88,\"\")","v":0}]
[null,null,{"$f":"IF(Tabfill!A89<>\"\",Tabfill!A89,\"\")","v":49725}]
[null,null,null,null,null,null,null,null,null,null,null,null,null,null,null,null,null,{"$f":"IF(Tabfill!$B$89<>\"\",Tabfill!$B$89,\"\")","v":125.8},null,null,null,null,null,null,null,{"$f":"IF(Tabfill!$C$89<>\"\",Tabfill!$C$89,\"\")","v":113},null,null,null,null,null,null,null,{"$f":"IF(Tabfill!$D$89<>\"\",Tabfill!$D$89,\"\")","v":44.8},null,null,null,null,null,null,null,{"$f":"IF(Tabfill!$E$89<>\"\",Tabfill!$E$89,\"\")","v":51},null,null,null,null,null,null,null,{"$f":"IF(Tabfill!$F$89<>\"\",Tabfill!$F$89,\"\")","v":113},null,null,null,null,null,null,null,{"$f":"IF(Tabfill!$G$89<>\"\",Tabfill!$G$89,\"\")","v":87},null,null,null,null,null,null,null,{"$f":"IF(Tabfill!$I$89<>\"\",Tabfill!$I$89,\"\")","v":34},null,null,null,null,null,null,null,{"$f":"IF(Tabfill!$J$89<>\"\",Tabfill!$J$89,\"\")","v":12.799999999999997},null,null,null,null,null,null,null,{"$f":"IF(Tabfill!$K$89<>\"\",Tabfill!$K$89,\"\")","v":51},null,null,null,null,null,null,null,{"$f":"IF(Tabfill!$L$89<>\"\",Tabfill!$L$89,\"\")","v":97.8},null,null,null,null,null,null,null,{"$f":"IF(Tabfill!$M$89<>\"\",Tabfill!$M$89,\"\")","v":-10.799999999999997},null,null,null,null,null,null,null,{"$f":"IF(Tabfill!$O$89<>\"\",Tabfill!$O$89,\"\")","v":0},null,null,null,null,null,null,null,{"$f":"IF(Tabfill!$P$89<>\"\",Tabfill!$P$89,\"\")","v":29},null,null,null,null,null,null,null,{"$f":"IF(Tabfill!$R$89<>\"\",Tabfill!$R$89,\"\")","v":44.8},null,null,null,null,null,null,null,{"$f":"IF(Tabfill!$S$89<>\"\",Tabfill!$S$89,\"\")","v":32},null,null,null,null,null,null,null,{"$f":"IF(Tabfill!$T$89<>\"\",Tabfill!$T$89,\"\")","v":32},null,null,null,null,null,null,null,{"$f":"IF(Tabfill!$U$89<>\"\",Tabfill!$U$89,\"\")","v":0}]
[null,null,{"$f":"IF(Tabfill!A90<>\"\",Tabfill!A90,\"\")","v":49750}]
[null,null,null,null,null,null,null,null,null,null,null,null,null,null,null,null,null,{"$f":"IF(Tabfill!$B$90<>\"\",Tabfill!$B$90,\"\")","v":127.8},null,null,null,null,null,null,null,{"$f":"IF(Tabfill!$C$90<>\"\",Tabfill!$C$90,\"\")","v":113},null,null,null,null,null,null,null,{"$f":"IF(Tabfill!$D$90<>\"\",Tabfill!$D$90,\"\")","v":51.8},null,null,null,null,null,null,null,{"$f":"IF(Tabfill!$E$90<>\"\",Tabfill!$E$90,\"\")","v":52},null,null,null,null,null,null,null,{"$f":"IF(Tabfill!$F$90<>\"\",Tabfill!$F$90,\"\")","v":113},null,null,null,null,null,null,null,{"$f":"IF(Tabfill!$G$90<>\"\",Tabfill!$G$90,\"\")","v":87},null,null,null,null,null,null,null,{"$f":"IF(Tabfill!$I$90<>\"\",Tabfill!$I$90,\"\")","v":50},null,null,null,null,null,null,null,{"$f":"IF(Tabfill!$J$90<>\"\",Tabfill!$J$90,\"\")","v":14.799999999999997},null,null,null,null,null,null,null,{"$f":"IF(Tabfill!$K$90<>\"\",Tabfill!$K$90,\"\")","v":52},null,null,null,null,null,null,null,{"$f":"IF(Tabfill!$L$90<>\"\",Tabfill!$L$90,\"\")","v":116.8},null,null,null,null,null,null,null,{"$f":"IF(Tabfill!$M$90<>\"\",Tabfill!$M$90,\"\")","v":-29.799999999999997},null,null,null,null,null,null,null,{"$f":"IF(Tabfill!$O$90<>\"\",Tabfill!$O$90,\"\")","v":0},null,null,null,null,null,null,null,{"$f":"IF(Tabfill!$P$90<>\"\",Tabfill!$P$90,\"\")","v":44},null,null,null,null,null,null,null,{"$f":"IF(Tabfill!$R$90<>\"\",Tabfill!$R$90,\"\")","v":51.8},null,null,null,null,null,null,null,{"$f":"IF(Tabfill!$S$90<>\"\",Tabfill!$S$90,\"\")","v":37},null,null,null,null,null,null,null,{"$f":"IF(Tabfill!$T$90<>\"\",Tabfill!$T$90,\"\")","v":37},null,null,null,null,null,null,null,{"$f":"IF(Tabfill!$U$90<>\"\",Tabfill!$U$90,\"\")","v":0}]
[null,null,{"$f":"IF(Tabfill!A91<>\"\",Tabfill!A91,\"\")","v":49775}]
[null,null,null,null,null,null,null,null,null,null,null,null,null,null,null,null,null,{"$f":"IF(Tabfill!$B$91<>\"\",Tabfill!$B$91,\"\")","v":127.19999999999999},null,null,null,null,null,null,null,{"$f":"IF(Tabfill!$C$91<>\"\",Tabfill!$C$91,\"\")","v":112},null,null,null,null,null,null,null,{"$f":"IF(Tabfill!$D$91<>\"\",Tabfill!$D$91,\"\")","v":53.199999999999996},null,null,null,null,null,null,null,{"$f":"IF(Tabfill!$E$91<>\"\",Tabfill!$E$91,\"\")","v":52},null,null,null,null,null,null,null,{"$f":"IF(Tabfill!$F$91<>\"\",Tabfill!$F$91,\"\")","v":112},null,null,null,null,null,null,null,{"$f":"IF(Tabfill!$G$91<>\"\",Tabfill!$G$91,\"\")","v":86},null,null,null,null,null,null,null,{"$f":"IF(Tabfill!$I$91<>\"\",Tabfill!$I$91,\"\")","v":55},null,null,null,null,null,null,null,{"$f":"IF(Tabfill!$J$91<>\"\",Tabfill!$J$91,\"\")","v":15.199999999999996},null,null,null,null,null,null,null,{"$f":"IF(Tabfill!$K$91<>\"\",Tabfill!$K$91,\"\")","v":52},null,null,null,null,null,null,null,{"$f":"IF(Tabfill!$L$91<>\"\",Tabfill!$L$91,\"\")","v":122.19999999999999},null,null,null,null,null,null,null,{"$f":"IF(Tabfill!$M$91<>\"\",Tabfill!$M$91,\"\")","v":-36.199999999999989},null,null,null,null,null,null,null,{"$f":"IF(Tabfill!$O$91<>\"\",Tabfill!$O$91,\"\")","v":0},null,null,null,null,null,null,null,{"$f":"IF(Tabfill!$P$91<>\"\",Tabfill!$P$91,\"\")","v":49},null,null,null,null,null,null,null,{"$f":"IF(Tabfill!$R$91<>\"\",Tabfill!$R$91,\"\")","v":53.199999999999996},null,null,null,null,null,null,null,{"$f":"IF(Tabfill!$S$91<>\"\",Tabfill!$S$91,\"\")","v":38},null,null,null,null,null,null,null,{"$f":"IF(Tabfill!$T$91<>\"\",Tabfill!$T$91,\"\")","v":38},null,null,null,null,null,null,null,{"$f":"IF(Tabfill!$U$91<>\"\",Tabfill!$U$91,\"\")","v":0}]
[null,null,{"$f":"IF(Tabfill!A92<>\"\",Tabfill!A92,\"\")","v":49800}]
[null,null,null,null,null,null,null,null,null,null,null,null,null,null,null,null,null,{"$f":"IF(Tabfill!$B$92<>\"\",Tabfill!$B$92,\"\")","v":123.4},null,null,null,null,null,null,null,{"$f":"IF(Tabfill!$C$92<>\"\",Tabfill!$C$92,\"\")","v":109},null,null,null,null,null,null,null,{"$f":"IF(Tabfill!$D$92<>\"\",Tabfill!$D$92,\"\")","v":50.4},null,null,null,null,null,null,null,{"$f":"IF(Tabfill!$E$92<>\"\",Tabfill!$E$92,\"\")","v":52},null,null,null,null,null,null,null,{"$f":"IF(Tabfill!$F$92<>\"\",Tabfill!$F$92,\"\")","v":109},null,null,null,null,null,null,null,{"$f":"IF(Tabfill!$G$92<>\"\",Tabfill!$G$92,\"\")","v":84},null,null,null,null,null,null,null,{"$f":"IF(Tabfill!$I$92<>\"\",Tabfill!$I$92,\"\")","v":53},null,null,null,null,null,null,null,{"$f":"IF(Tabfill!$J$92<>\"\",Tabfill!$J$92,\"\")","v":14.399999999999999},null,null,null,null,null,null,null,{"$f":"IF(Tabfill!$K$92<>\"\",Tabfill!$K$92,\"\")","v":52},null,null,null,null,null,null,null,{"$f":"IF(Tabfill!$L$92<>\"\",Tabfill!$L$92,\"\")","v":119.4},null,null,null,null,null,null,null,{"$f":"IF(Tabfill!$M$92<>\"\",Tabfill!$M$92,\"\")","v":-35.400000000000006},null,null,null,null,null,null,null,{"$f":"IF(Tabfill!$O$92<>\"\",Tabfill!$O$92,\"\")","v":0},null,null,null,null,null,null,null,{"$f":"IF(Tabfill!$P$92<>\"\",Tabfill!$P$92,\"\")","v":47},null,null,null,null,null,null,null,{"$f":"IF(Tabfill!$R$92<>\"\",Tabfill!$R$92,\"\")","v":50.4},null,null,null,null,null,null,null,{"$f":"IF(Tabfill!$S$92<>\"\",Tabfill!$S$92,\"\")","v":36},null,null,null,null,null,null,null,{"$f":"IF(Tabfill!$T$92<>\"\",Tabfill!$T$92,\"\")","v":36},null,null,null,null,null,null,null,{"$f":"IF(Tabfill!$U$92<>\"\",Tabfill!$U$92,\"\")","v":0}]
[null,null,{"$f":"IF(Tabfill!A93<>\"\",Tabfill!A93,\"\")","v":49825}]
[null,null,null,null,null,null,null,null,null,null,null,null,null,null,null,null,null,{"$f":"IF(Tabfill!$B$93<>\"\",Tabfill!$B$93,\"\")","v":124.8},null,null,null,null,null,null,null,{"$f":"IF(Tabfill!$C$93<>\"\",Tabfill!$C$93,\"\")","v":110},null,null,null,null,null,null,null,{"$f":"IF(Tabfill!$D$93<>\"\",Tabfill!$D$93,\"\")","v":51.8},null,null,null,null,null,null,null,{"$f":"IF(Tabfill!$E$93<>\"\",Tabfill!$E$93,\"\")","v":51},null,null,null,null,null,null,null,{"$f":"IF(Tabfill!$F$93<>\"\",Tabfill!$F$93,\"\")","v":110},null,null,null,null,null,null,null,{"$f":"IF(Tabfill!$G$93<>\"\",Tabfill!$G$93,\"\")","v":85},null,null,null,null,null,null,null,{"$f":"IF(Tabfill!$I$93<>\"\",Tabfill!$I$93,\"\")","v":53},null,null,null,null,null,null,null,{"$f":"IF(Tabfill!$J$93<>\"\",Tabfill!$J$93,\"\")","v":14.799999999999997},null,null,null,null,null,null,null,{"$f":"IF(Tabfill!$K$93<>\"\",Tabfill!$K$93,\"\")","v":51},null,null,null,null,null,null,null,{"$f":"IF(Tabfill!$L$93<>\"\",Tabfill!$L$93,\"\")","v":118.8},null,null,null,null,null,null,null,{"$f":"IF(Tabfill!$M$93<>\"\",Tabfill!$M$93,\"\")","v":-33.799999999999997},null,null,null,null,null,null,null,{"$f":"IF(Tabfill!$O$93<>\"\",Tabfill!$O$93,\"\")","v":0},null,null,null,null,null,null,null,{"$f":"IF(Tabfill!$P$93<>\"\",Tabfill!$P$93,\"\")","v":47},null,null,null,null,null,null,null,{"$f":"IF(Tabfill!$R$93<>\"\",Tabfill!$R$93,\"\")","v":51.8},null,null,null,null,null,null,null,{"$f":"IF(Tabfill!$S$93<>\"\",Tabfill!$S$93,\"\")","v":37},null,null,null,null,null,null,null,{"$f":"IF(Tabfill!$T$93<>\"\",Tabfill!$T$93,\"\")","v":37},null,null,null,null,null,null,null,{"$f":"IF(Tabfill!$U$93<>\"\",Tabfill!$U$93,\"\")","v":0}]
[null,null,{"$f":"IF(Tabfill!A94<>\"\",Tabfill!A94,\"\")","v":49850}]
[null,null,null,null,null,null,null,null,null,null,null,null,null,null,null,null,null,{"$f":"IF(Tabfill!$B$94<>\"\",Tabfill!$B$94,\"\")","v":125.4},null,null,null,null,null,null,null,{"$f":"IF(Tabfill!$C$94<>\"\",Tabfill!$C$94,\"\")","v":111},null,null,null,null,null,null,null,{"$f":"IF(Tabfill!$D$94<>\"\",Tabfill!$D$94,\"\")","v":50.4},null,null,null,null,null,null,null,{"$f":"IF(Tabfill!$E$94<>\"\",Tabfill!$E$94,\"\")","v":51},null,null,null,null,null,null,null,{"$f":"IF(Tabfill!$F$94<>\"\",Tabfill!$F$94,\"\")","v":111},null,null,null,null,null,null,null,{"$f":"IF(Tabfill!$G$94<>\"\",Tabfill!$G$94,\"\")","v":85},null,null,null,null,null,null,null,{"$f":"IF(Tabfill!$I$94<>\"\",Tabfill!$I$94,\"\")","v":68},null,null,null,null,null,null,null,{"$f":"IF(Tabfill!$J$94<>\"\",Tabfill!$J$94,\"\")","v":14.399999999999999},null,null,null,null,null,null,null,{"$f":"IF(Tabfill!$K$94<>\"\",Tabfill!$K$94,\"\")","v":51},null,null,null,null,null,null,null,{"$f":"IF(Tabfill!$L$94<>\"\",Tabfill!$L$94,\"\")","v":133.4},null,null,null,null,null,null,null,{"$f":"IF(Tabfill!$M$94<>\"\",Tabfill!$M$94,\"\")","v":-48.400000000000006},null,null,null,null,null,null,null,{"$f":"IF(Tabfill!$O$94<>\"\",Tabfill!$O$94,\"\")","v":0},null,null,null,null,null,null,null,{"$f":"IF(Tabfill!$P$94<>\"\",Tabfill!$P$94,\"\")","v":61},null,null,null,null,null,null,null,{"$f":"IF(Tabfill!$R$94<>\"\",Tabfill!$R$94,\"\")","v":50.4},null,null,null,null,null,null,null,{"$f":"IF(Tabfill!$S$94<>\"\",Tabfill!$S$94,\"\")","v":36},null,null,null,null,null,null,null,{"$f":"IF(Tabfill!$T$94<>\"\",Tabfill!$T$94,\"\")","v":36},null,null,null,null,null,null,null,{"$f":"IF(Tabfill!$U$94<>\"\",Tabfill!$U$94,\"\")","v":0}]
[null,null,{"$f":"IF(Tabfill!A95<>\"\",Tabfill!A95,\"\")","v":49875}]
[null,null,null,null,null,null,null,null,null,null,null,null,null,null,null,null,null,{"$f":"IF(Tabfill!$B$95<>\"\",Tabfill!$B$95,\"\")","v":129.80000000000001},null,null,null,null,null,null,null,{"$f":"IF(Tabfill!$C$95<>\"\",Tabfill!$C$95,\"\")","v":115},null,null,null,null,null,null,null,{"$f":"IF(Tabfill!$D$95<>\"\",Tabfill!$D$95,\"\")","v":51.8},null,null,null,null,null,null,null,{"$f":"IF(Tabfill!$E$95<>\"\",Tabfill!$E$95,\"\")","v":51},null,null,null,null,null,null,null,{"$f":"IF(Tabfill!$F$95<>\"\",Tabfill!$F$95,\"\")","v":115},null,null,null,null,null,null,null,{"$f":"IF(Tabfill!$G$95<>\"\",Tabfill!$G$95,\"\")","v":88},null,null,null,null,null,null,null,{"$f":"IF(Tabfill!$I$95<>\"\",Tabfill!$I$95,\"\")","v":76},null,null,null,null,null,null,null,{"$f":"IF(Tabfill!$J$95<>\"\",Tabfill!$J$95,\"\")","v":14.799999999999997},null,null,null,null,null,null,null,{"$f":"IF(Tabfill!$K$95<>\"\",Tabfill!$K$95,\"\")","v":51},null,null,null,null,null,null,null,{"$f":"IF(Tabfill!$L$95<>\"\",Tabfill!$L$95,\"\")","v":141.80000000000001},null,null,null,null,null,null,null,{"$f":"IF(Tabfill!$M$95<>\"\",Tabfill!$M$95,\"\")","v":-53.800000000000011},null,null,null,null,null,null,null,{"$f":"IF(Tabfill!$O$95<>\"\",Tabfill!$O$95,\"\")","v":0},null,null,null,null,null,null,null,{"$f":"IF(Tabfill!$P$95<>\"\",Tabfill!$P$95,\"\")","v":70},null,null,null,null,null,null,null,{"$f":"IF(Tabfill!$R$95<>\"\",Tabfill!$R$95,\"\")","v":51.8},null,null,null,null,null,null,null,{"$f":"IF(Tabfill!$S$95<>\"\",Tabfill!$S$95,\"\")","v":37},null,null,null,null,null,null,null,{"$f":"IF(Tabfill!$T$95<>\"\",Tabfill!$T$95,\"\")","v":37},null,null,null,null,null,null,null,{"$f":"IF(Tabfill!$U$95<>\"\",Tabfill!$U$95,\"\")","v":0}]
[null,null,{"$f":"IF(Tabfill!A96<>\"\",Tabfill!A96,\"\")","v":49900}]
[null,null,null,null,null,null,null,null,null,null,null,null,null,null,null,null,null,{"$f":"IF(Tabfill!$B$96<>\"\",Tabfill!$B$96,\"\")","v":120.8},null,null,null,null,null,null,null,{"$f":"IF(Tabfill!$C$96<>\"\",Tabfill!$C$96,\"\")","v":110},null,null,null,null,null,null,null,{"$f":"IF(Tabfill!$D$96<>\"\",Tabfill!$D$96,\"\")","v":37.799999999999997},null,null,null,null,null,null,null,{"$f":"IF(Tabfill!$E$96<>\"\",Tabfill!$E$96,\"\")","v":48},null,null,null,null,null,null,null,{"$f":"IF(Tabfill!$F$96<>\"\",Tabfill!$F$96,\"\")","v":110},null,null,null,null,null,null,null,{"$f":"IF(Tabfill!$G$96<>\"\",Tabfill!$G$96,\"\")","v":85},null,null,null,null,null,null,null,{"$f":"IF(Tabfill!$I$96<>\"\",Tabfill!$I$96,\"\")","v":46},null,null,null,null,null,null,null,{"$f":"IF(Tabfill!$J$96<>\"\",Tabfill!$J$96,\"\")","v":10.799999999999997},null,null,null,null,null,null,null,{"$f":"IF(Tabfill!$K$96<>\"\",Tabfill!$K$96,\"\")","v":48},null,null,null,null,null,null,null,{"$f":"IF(Tabfill!$L$96<>\"\",Tabfill!$L$96,\"\")","v":104.8},null,null,null,null,null,null,null,{"$f":"IF(Tabfill!$M$96<>\"\",Tabfill!$M$96,\"\")","v":-19.799999999999997},null,null,null,null,null,null,null,{"$f":"IF(Tabfill!$O$96<>\"\",Tabfill!$O$96,\"\")","v":0},null,null,null,null,null,null,null,{"$f":"IF(Tabfill!$P$96<>\"\",Tabfill!$P$96,\"\")","v":45},null,null,null,null,null,null,null,{"$f":"IF(Tabfill!$R$96<>\"\",Tabfill!$R$96,\"\")","v":37.799999999999997},null,null,null,null,null,null,null,{"$f":"IF(Tabfill!$S$96<>\"\",Tabfill!$S$96,\"\")","v":27},null,null,null,null,null,null,null,{"$f":"IF(Tabfill!$T$96<>\"\",Tabfill!$T$96,\"\")","v":27},null,null,null,null,null,null,null,{"$f":"IF(Tabfill!$U$96<>\"\",Tabfill!$U$96,\"\")","v":0}]
[null,null,{"$f":"IF(Tabfill!A97<>\"\",Tabfill!A97,\"\")","v":49923.51}]
[null,null,null,null,null,null,null,null,null,null,null,null,null,null,null,null,null,{"$f":"IF(Tabfill!$B$97<>\"\",Tabfill!$B$97,\"\")","v":7.4},null,null,null,null,null,null,null,{"$f":"IF(Tabfill!$C$97<>\"\",Tabfill!$C$97,\"\")","v":7},null,null,null,null,null,null,null,{"$f":"IF(Tabfill!$D$97<>\"\",Tabfill!$D$97,\"\")","v":1.4},null,null,null,null,null,null,null,{"$f":"IF(Tabfill!$E$97<>\"\",Tabfill!$E$97,\"\")","v":3},null,null,null,null,null,null,null,{"$f":"IF(Tabfill!$F$97<>\"\",Tabfill!$F$97,\"\")","v":7},null,null,null,null,null,null,null,{"$f":"IF(Tabfill!$G$97<>\"\",Tabfill!$G$97,\"\")","v":5},null,null,null,null,null,null,null,{"$f":"IF(Tabfill!$I$97<>\"\",Tabfill!$I$97,\"\")","v":2},null,null,null,null,null,null,null,{"$f":"IF(Tabfill!$J$97<>\"\",Tabfill!$J$97,\"\")","v":0.39999999999999991},null,null,null,null,null,null,null,{"$f":"IF(Tabfill!$K$97<>\"\",Tabfill!$K$97,\"\")","v":3},null,null,null,null,null,null,null,{"$f":"IF(Tabfill!$L$97<>\"\",Tabfill!$L$97,\"\")","v":5.4},null,null,null,null,null,null,null,{"$f":"IF(Tabfill!$M$97<>\"\",Tabfill!$M$97,\"\")","v":-0.40000000000000036},null,null,null,null,null,null,null,{"$f":"IF(Tabfill!$O$97<>\"\",Tabfill!$O$97,\"\")","v":0},null,null,null,null,null,null,null,{"$f":"IF(Tabfill!$P$97<>\"\",Tabfill!$P$97,\"\")","v":21},null,null,null,null,null,null,null,{"$f":"IF(Tabfill!$R$97<>\"\",Tabfill!$R$97,\"\")","v":1.4},null,null,null,null,null,null,null,{"$f":"IF(Tabfill!$S$97<>\"\",Tabfill!$S$97,\"\")","v":1},null,null,null,null,null,null,null,{"$f":"IF(Tabfill!$T$97<>\"\",Tabfill!$T$97,\"\")","v":1},null,null,null,null,null,null,null,{"$f":"IF(Tabfill!$U$97<>\"\",Tabfill!$U$97,\"\")","v":0}]
[null,null,{"$f":"IF(Tabfill!A98<>\"\",Tabfill!A98,\"\")","v":49925}]
[null,null,null,null,null,null,null,null,null,null,null,null,null,null,null,null,null,{"$f":"IF(Tabfill!$B$98<>\"\",Tabfill!$B$98,\"\")","v":124.6},null,null,null,null,null,null,null,{"$f":"IF(Tabfill!$C$98<>\"\",Tabfill!$C$98,\"\")","v":117},null,null,null,null,null,null,null,{"$f":"IF(Tabfill!$D$98<>\"\",Tabfill!$D$98,\"\")","v":26.599999999999998},null,null,null,null,null,null,null,{"$f":"IF(Tabfill!$E$98<>\"\",Tabfill!$E$98,\"\")","v":56},null,null,null,null,null,null,null,{"$f":"IF(Tabfill!$F$98<>\"\",Tabfill!$F$98,\"\")","v":117},null,null,null,null,null,null,null,{"$f":"IF(Tabfill!$G$98<>\"\",Tabfill!$G$98,\"\")","v":90},null,null,null,null,null,null,null,{"$f":"IF(Tabfill!$I$98<>\"\",Tabfill!$I$98,\"\")","v":23},null,null,null,null,null,null,null,{"$f":"IF(Tabfill!$J$98<>\"\",Tabfill!$J$98,\"\")","v":7.5999999999999979},null,null,null,null,null,null,null,{"$f":"IF(Tabfill!$K$98<>\"\",Tabfill!$K$98,\"\")","v":56},null,null,null,null,null,null,null,{"$f":"IF(Tabfill!$L$98<>\"\",Tabfill!$L$98,\"\")","v":86.6},null,null,null,null,null,null,null,{"$f":"IF(Tabfill!$M$98<>\"\",Tabfill!$M$98,\"\")","v":3.4000000000000057},null,null,null,null,null,null,null,{"$f":"IF(Tabfill!$O$98<>\"\",Tabfill!$O$98,\"\")","v":0},null,null,null,null,null,null,null,{"$f":"IF(Tabfill!$P$98<>\"\",Tabfill!$P$98,\"\")","v":1},null,null,null,null,null,null,null,{"$f":"IF(Tabfill!$R$98<>\"\",Tabfill!$R$98,\"\")","v":26.599999999999998},null,null,null,null,null,null,null,{"$f":"IF(Tabfill!$S$98<>\"\",Tabfill!$S$98,\"\")","v":19},null,null,null,null,null,null,null,{"$f":"IF(Tabfill!$T$98<>\"\",Tabfill!$T$98,\"\")","v":19},null,null,null,null,null,null,null,{"$f":"IF(Tabfill!$U$98<>\"\",Tabfill!$U$98,\"\")","v":0}]
[null,null,{"$f":"IF(Tabfill!A99<>\"\",Tabfill!A99,\"\")","v":49950}]
[null,null,null,null,null,null,null,null,null,null,null,null,null,null,null,null,null,{"$f":"IF(Tabfill!$B$99<>\"\",Tabfill!$B$99,\"\")","v":104.2},null,null,null,null,null,null,null,{"$f":"IF(Tabfill!$C$99<>\"\",Tabfill!$C$99,\"\")","v":97},null,null,null,null,null,null,null,{"$f":"IF(Tabfill!$D$99<>\"\",Tabfill!$D$99,\"\")","v":25.2},null,null,null,null,null,null,null,{"$f":"IF(Tabfill!$E$99<>\"\",Tabfill!$E$99,\"\")","v":67},null,null,null,null,null,null,null,{"$f":"IF(Tabfill!$F$99<>\"\",Tabfill!$F$99,\"\")","v":97},null,null,null,null,null,null,null,{"$f":"IF(Tabfill!$G$99<>\"\",Tabfill!$G$99,\"\")","v":75},null,null,null,null,null,null,null,{"$f":"IF(Tabfill!$I$99<>\"\",Tabfill!$I$99,\"\")","v":18},null,null,null,null,null,null,null,{"$f":"IF(Tabfill!$J$99<>\"\",Tabfill!$J$99,\"\")","v":7.1999999999999993},null,null,null,null,null,null,null,{"$f":"IF(Tabfill!$K$99<>\"\",Tabfill!$K$99,\"\")","v":67},null,null,null,null,null,null,null,{"$f":"IF(Tabfill!$L$99<>\"\",Tabfill!$L$99,\"\")","v":92.2},null,null,null,null,null,null,null,{"$f":"IF(Tabfill!$M$99<>\"\",Tabfill!$M$99,\"\")","v":-17.200000000000003},null,null,null,null,null,null,null,{"$f":"IF(Tabfill!$O$99<>\"\",Tabfill!$O$99,\"\")","v":0},null,null,null,null,null,null,null,{"$f":"IF(Tabfill!$P$99<>\"\",Tabfill!$P$99,\"\")","v":13},null,null,null,null,null,null,null,{"$f":"IF(Tabfill!$R$99<>\"\",Tabfill!$R$99,\"\")","v":25.2},null,null,null,null,null,null,null,{"$f":"IF(Tabfill!$S$99<>\"\",Tabfill!$S$99,\"\")","v":18},null,null,null,null,null,null,null,{"$f":"IF(Tabfill!$T$99<>\"\",Tabfill!$T$99,\"\")","v":18},null,null,null,null,null,null,null,{"$f":"IF(Tabfill!$U$99<>\"\",Tabfill!$U$99,\"\")","v":0}]
[null,null,{"$f":"IF(Tabfill!A100<>\"\",Tabfill!A100,\"\")","v":49975}]
[null,null,null,null,null,null,null,null,null,null,null,null,null,null,null,null,null,{"$f":"IF(Tabfill!$B$100<>\"\",Tabfill!$B$100,\"\")","v":106.2},null,null,null,null,null,null,null,{"$f":"IF(Tabfill!$C$100<>\"\",Tabfill!$C$100,\"\")","v":99},null,null,null,null,null,null,null,{"$f":"IF(Tabfill!$D$100<>\"\",Tabfill!$D$100,\"\")","v":25.2},null,null,null,null,null,null,null,{"$f":"IF(Tabfill!$E$100<>\"\",Tabfill!$E$100,\"\")","v":87},null,null,null,null,null,null,null,{"$f":"IF(Tabfill!$F$100<>\"\",Tabfill!$F$100,\"\")","v":99},null,null,null,null,null,null,null,{"$f":"IF(Tabfill!$G$100<>\"\",Tabfill!$G$100,\"\")","v":76},null,null,null,null,null,null,null,{"$f":"IF(Tabfill!$I$100<>\"\",Tabfill!$I$100,\"\")","v":17},null,null,null,null,null,null,null,{"$f":"IF(Tabfill!$J$100<>\"\",Tabfill!$J$100,\"\")","v":7.1999999999999993},null,null,null,null,null,null,null,{"$f":"IF(Tabfill!$K$100<>\"\",Tabfill!$K$100,\"\")","v":87},null,null,null,null,null,null,null,{"$f":"IF(Tabfill!$L$100<>\"\",Tabfill!$L$100,\"\")","v":111.2},null,null,null,null,null,null,null,{"$f":"IF(Tabfill!$M$100<>\"\",Tabfill!$M$100,\"\")","v":-35.200000000000003},null,null,null,null,null,null,null,{"$f":"IF(Tabfill!$O$100<>\"\",Tabfill!$O$100,\"\")","v":0},null,null,null,null,null,null,null,{"$f":"IF(Tabfill!$P$100<>\"\",Tabfill!$P$100,\"\")","v":12},null,null,null,null,null,null,null,{"$f":"IF(Tabfill!$R$100<>\"\",Tabfill!$R$100,\"\")","v":25.2},null,null,null,null,null,null,null,{"$f":"IF(Tabfill!$S$100<>\"\",Tabfill!$S$100,\"\")","v":18},null,null,null,null,null,null,null,{"$f":"IF(Tabfill!$T$100<>\"\",Tabfill!$T$100,\"\")","v":18},null,null,null,null,null,null,null,{"$f":"IF(Tabfill!$U$100<>\"\",Tabfill!$U$100,\"\")","v":0}]
[null,null,{"$f":"IF(Tabfill!A101<>\"\",Tabfill!A101,\"\")","v":50000}]
[null,null,null,null,null,null,null,null,null,null,null,null,null,null,null,null,null,{"$f":"IF(Tabfill!$B$101<>\"\",Tabfill!$B$101,\"\")","v":141.19999999999999},null,null,null,null,null,null,null,{"$f":"IF(Tabfill!$C$101<>\"\",Tabfill!$C$101,\"\")","v":132},null,null,null,null,null,null,null,{"$f":"IF(Tabfill!$D$101<>\"\",Tabfill!$D$101,\"\")","v":32.199999999999996},null,null,null,null,null,null,null,{"$f":"IF(Tabfill!$E$101<>\"\",Tabfill!$E$101,\"\")","v":124},null,null,null,null,null,null,null,{"$f":"IF(Tabfill!$F$101<>\"\",Tabfill!$F$101,\"\")","v":132},null,null,null,null,null,null,null,{"$f":"IF(Tabfill!$G$101<>\"\",Tabfill!$G$101,\"\")","v":102},null,null,null,null,null,null,null,{"$f":"IF(Tabfill!$I$101<>\"\",Tabfill!$I$101,\"\")","v":16},null,null,null,null,null,null,null,{"$f":"IF(Tabfill!$J$101<>\"\",Tabfill!$J$101,\"\")","v":9.1999999999999957},null,null,null,null,null,null,null,{"$f":"IF(Tabfill!$K$101<>\"\",Tabfill!$K$101,\"\")","v":124},null,null,null,null,null,null,null,{"$f":"IF(Tabfill!$L$101<>\"\",Tabfill!$L$101,\"\")","v":149.19999999999999},null,null,null,null,null,null,null,{"$f":"IF(Tabfill!$M$101<>\"\",Tabfill!$M$101,\"\")","v":-47.199999999999989},null,null,null,null,null,null,null,{"$f":"IF(Tabfill!$O$101<>\"\",Tabfill!$O$101,\"\")","v":0},null,null,null,null,null,null,null,{"$f":"IF(Tabfill!$P$101<>\"\",Tabfill!$P$101,\"\")","v":11},null,null,null,null,null,null,null,{"$f":"IF(Tabfill!$R$101<>\"\",Tabfill!$R$101,\"\")","v":32.199999999999996},null,null,null,null,null,null,null,{"$f":"IF(Tabfill!$S$101<>\"\",Tabfill!$S$101,\"\")","v":23},null,null,null,null,null,null,null,{"$f":"IF(Tabfill!$T$101<>\"\",Tabfill!$T$101,\"\")","v":23},null,null,null,null,null,null,null,{"$f":"IF(Tabfill!$U$101<>\"\",Tabfill!$U$101,\"\")","v":0}]
[null,null,{"$f":"IF(Tabfill!A102<>\"\",Tabfill!A102,\"\")","v":50025}]
[null,null,null,null,null,null,null,null,null,null,null,null,null,null,null,null,null,{"$f":"IF(Tabfill!$B$102<>\"\",Tabfill!$B$102,\"\")","v":156.80000000000001},null,null,null,null,null,null,null,{"$f":"IF(Tabfill!$C$102<>\"\",Tabfill!$C$102,\"\")","v":146},null,null,null,null,null,null,null,{"$f":"IF(Tabfill!$D$102<>\"\",Tabfill!$D$102,\"\")","v":37.799999999999997},null,null,null,null,null,null,null,{"$f":"IF(Tabfill!$E$102<>\"\",Tabfill!$E$102,\"\")","v":141},null,null,null,null,null,null,null,{"$f":"IF(Tabfill!$F$102<>\"\",Tabfill!$F$102,\"\")","v":146},null,null,null,null,null,null,null,{"$f":"IF(Tabfill!$G$102<>\"\",Tabfill!$G$102,\"\")","v":112},null,null,null,null,null,null,null,{"$f":"IF(Tabfill!$I$102<>\"\",Tabfill!$I$102,\"\")","v":18},null,null,null,null,null,null,null,{"$f":"IF(Tabfill!$J$102<>\"\",Tabfill!$J$102,\"\")","v":10.799999999999997},null,null,null,null,null,null,null,{"$f":"IF(Tabfill!$K$102<>\"\",Tabfill!$K$102,\"\")","v":141},null,null,null,null,null,null,null,{"$f":"IF(Tabfill!$L$102<>\"\",Tabfill!$L$102,\"\")","v":169.8},null,null,null,null,null,null,null,{"$f":"IF(Tabfill!$M$102<>\"\",Tabfill!$M$102,\"\")","v":-57.800000000000011},null,null,null,null,null,null,null,{"$f":"IF(Tabfill!$O$102<>\"\",Tabfill!$O$102,\"\")","v":0},null,null,null,null,null,null,null,{"$f":"IF(Tabfill!$P$102<>\"\",Tabfill!$P$102,\"\")","v":13},null,null,null,null,null,null,null,{"$f":"IF(Tabfill!$R$102<>\"\",Tabfill!$R$102,\"\")","v":37.799999999999997},null,null,null,null,null,null,null,{"$f":"IF(Tabfill!$S$102<>\"\",Tabfill!$S$102,\"\")","v":27},null,null,null,null,null,null,null,{"$f":"IF(Tabfill!$T$102<>\"\",Tabfill!$T$102,\"\")","v":27},null,null,null,null,null,null,null,{"$f":"IF(Tabfill!$U$102<>\"\",Tabfill!$U$102,\"\")","v":0}]
[null,null,{"$f":"IF(Tabfill!A103<>\"\",Tabfill!A103,\"\")","v":50050}]
[null,null,null,null,null,null,null,null,null,null,null,null,null,null,null,null,null,{"$f":"IF(Tabfill!$B$103<>\"\",Tabfill!$B$103,\"\")","v":152.4},null,null,null,null,null,null,null,{"$f":"IF(Tabfill!$C$103<>\"\",Tabfill!$C$103,\"\")","v":142},null,null,null,null,null,null,null,{"$f":"IF(Tabfill!$D$103<>\"\",Tabfill!$D$103,\"\")","v":36.4},null,null,null,null,null,null,null,{"$f":"IF(Tabfill!$E$103<>\"\",Tabfill!$E$103,\"\")","v":102},null,null,null,null,null,null,null,{"$f":"IF(Tabfill!$F$103<>\"\",Tabfill!$F$103,\"\")","v":142},null,null,null,null,null,null,null,{"$f":"IF(Tabfill!$G$103<>\"\",Tabfill!$G$103,\"\")","v":109},null,null,null,null,null,null,null,{"$f":"IF(Tabfill!$I$103<>\"\",Tabfill!$I$103,\"\")","v":19},null,null,null,null,null,null,null,{"$f":"IF(Tabfill!$J$103<>\"\",Tabfill!$J$103,\"\")","v":10.399999999999999},null,null,null,null,null,null,null,{"$f":"IF(Tabfill!$K$103<>\"\",Tabfill!$K$103,\"\")","v":102},null,null,null,null,null,null,null,{"$f":"IF(Tabfill!$L$103<>\"\",Tabfill!$L$103,\"\")","v":131.4},null,null,null,null,null,null,null,{"$f":"IF(Tabfill!$M$103<>\"\",Tabfill!$M$103,\"\")","v":-22.400000000000006},null,null,null,null,null,null,null,{"$f":"IF(Tabfill!$O$103<>\"\",Tabfill!$O$103,\"\")","v":0},null,null,null,null,null,null,null,{"$f":"IF(Tabfill!$P$103<>\"\",Tabfill!$P$103,\"\")","v":16},null,null,null,null,null,null,null,{"$f":"IF(Tabfill!$R$103<>\"\",Tabfill!$R$103,\"\")","v":36.4},null,null,null,null,null,null,null,{"$f":"IF(Tabfill!$S$103<>\"\",Tabfill!$S$103,\"\")","v":26},null,null,null,null,null,null,null,{"$f":"IF(Tabfill!$T$103<>\"\",Tabfill!$T$103,\"\")","v":26},null,null,null,null,null,null,null,{"$f":"IF(Tabfill!$U$103<>\"\",Tabfill!$U$103,\"\")","v":0}]
[null,null,{"$f":"IF(Tabfill!A104<>\"\",Tabfill!A104,\"\")","v":50075}]
[null,null,null,null,null,null,null,null,null,null,null,null,null,null,null,null,null,{"$f":"IF(Tabfill!$B$104<>\"\",Tabfill!$B$104,\"\")","v":134.19999999999999},null,null,null,null,null,null,null,{"$f":"IF(Tabfill!$C$104<>\"\",Tabfill!$C$104,\"\")","v":125},null,null,null,null,null,null,null,{"$f":"IF(Tabfill!$D$104<>\"\",Tabfill!$D$104,\"\")","v":32.199999999999996},null,null,null,null,null,null,null,{"$f":"IF(Tabfill!$E$104<>\"\",Tabfill!$E$104,\"\")","v":63},null,null,null,null,null,null,null,{"$f":"IF(Tabfill!$F$104<>\"\",Tabfill!$F$104,\"\")","v":125},null,null,null,null,null,null,null,{"$f":"IF(Tabfill!$G$104<>\"\",Tabfill!$G$104,\"\")","v":96},null,null,null,null,null,null,null,{"$f":"IF(Tabfill!$I$104<>\"\",Tabfill!$I$104,\"\")","v":20},null,null,null,null,null,null,null,{"$f":"IF(Tabfill!$J$104<>\"\",Tabfill!$J$104,\"\")","v":9.1999999999999957},null,null,null,null,null,null,null,{"$f":"IF(Tabfill!$K$104<>\"\",Tabfill!$K$104,\"\")","v":63},null,null,null,null,null,null,null,{"$f":"IF(Tabfill!$L$104<>\"\",Tabfill!$L$104,\"\")","v":92.199999999999989},null,null,null,null,null,null,null,{"$f":"IF(Tabfill!$M$104<>\"\",Tabfill!$M$104,\"\")","v":3.8000000000000114},null,null,null,null,null,null,null,{"$f":"IF(Tabfill!$O$104<>\"\",Tabfill!$O$104,\"\")","v":0},null,null,null,null,null,null,null,{"$f":"IF(Tabfill!$P$104<>\"\",Tabfill!$P$104,\"\")","v":18},null,null,null,null,null,null,null,{"$f":"IF(Tabfill!$R$104<>\"\",Tabfill!$R$104,\"\")","v":32.199999999999996},null,null,null,null,null,null,null,{"$f":"IF(Tabfill!$S$104<>\"\",Tabfill!$S$104,\"\")","v":23},null,null,null,null,null,null,null,{"$f":"IF(Tabfill!$T$104<>\"\",Tabfill!$T$104,\"\")","v":23},null,null,null,null,null,null,null,{"$f":"IF(Tabfill!$U$104<>\"\",Tabfill!$U$104,\"\")","v":0}]
[null,null,{"$f":"IF(Tabfill!A105<>\"\",Tabfill!A105,\"\")","v":50100}]
[null,null,null,null,null,null,null,null,null,null,null,null,null,null,null,null,null,{"$f":"IF(Tabfill!$B$105<>\"\",Tabfill!$B$105,\"\")","v":120.6},null,null,null,null,null,null,null,{"$f":"IF(Tabfill!$C$105<>\"\",Tabfill!$C$105,\"\")","v":113},null,null,null,null,null,null,null,{"$f":"IF(Tabfill!$D$105<>\"\",Tabfill!$D$105,\"\")","v":26.599999999999998},null,null,null,null,null,null,null,{"$f":"IF(Tabfill!$E$105<>\"\",Tabfill!$E$105,\"\")","v":56},null,null,null,null,null,null,null,{"$f":"IF(Tabfill!$F$105<>\"\",Tabfill!$F$105,\"\")","v":113},null,null,null,null,null,null,null,{"$f":"IF(Tabfill!$G$105<>\"\",Tabfill!$G$105,\"\")","v":87},null,null,null,null,null,null,null,{"$f":"IF(Tabfill!$I$105<>\"\",Tabfill!$I$105,\"\")","v":20},null,null,null,null,null,null,null,{"$f":"IF(Tabfill!$J$105<>\"\",Tabfill!$J$105,\"\")","v":7.5999999999999979},null,null,null,null,null,null,null,{"$f":"IF(Tabfill!$K$105<>\"\",Tabfill!$K$105,\"\")","v":56},null,null,null,null,null,null,null,{"$f":"IF(Tabfill!$L$105<>\"\",Tabfill!$L$105,\"\")","v":83.6},null,null,null,null,null,null,null,{"$f":"IF(Tabfill!$M$105<>\"\",Tabfill!$M$105,\"\")","v":3.4000000000000057},null,null,null,null,null,null,null,{"$f":"IF(Tabfill!$O$105<>\"\",Tabfill!$O$105,\"\")","v":0},null,null,null,null,null,null,null,{"$f":"IF(Tabfill!$P$105<>\"\",Tabfill!$P$105,\"\")","v":16},null,null,null,null,null,null,null,{"$f":"IF(Tabfill!$R$105<>\"\",Tabfill!$R$105,\"\")","v":26.599999999999998},null,null,null,null,null,null,null,{"$f":"IF(Tabfill!$S$105<>\"\",Tabfill!$S$105,\"\")","v":19},null,null,null,null,null,null,null,{"$f":"IF(Tabfill!$T$105<>\"\",Tabfill!$T$105,\"\")","v":19},null,null,null,null,null,null,null,{"$f":"IF(Tabfill!$U$105<>\"\",Tabfill!$U$105,\"\")","v":0}]
[null,null,{"$f":"IF(Tabfill!A106<>\"\",Tabfill!A106,\"\")","v":50125}]
[null,null,null,null,null,null,null,null,null,null,null,null,null,null,null,null,null,{"$f":"IF(Tabfill!$B$106<>\"\",Tabfill!$B$106,\"\")","v":115.6},null,null,null,null,null,null,null,{"$f":"IF(Tabfill!$C$106<>\"\",Tabfill!$C$106,\"\")","v":110},null,null,null,null,null,null,null,{"$f":"IF(Tabfill!$D$106<>\"\",Tabfill!$D$106,\"\")","v":19.599999999999998},null,null,null,null,null,null,null,{"$f":"IF(Tabfill!$E$106<>\"\",Tabfill!$E$106,\"\")","v":53},null,null,null,null,null,null,null,{"$f":"IF(Tabfill!$F$106<>\"\",Tabfill!$F$106,\"\")","v":110},null,null,null,null,null,null,null,{"$f":"IF(Tabfill!$G$106<>\"\",Tabfill!$G$106,\"\")","v":85},null,null,null,null,null,null,null,{"$f":"IF(Tabfill!$I$106<>\"\",Tabfill!$I$106,\"\")","v":12},null,null,null,null,null,null,null,{"$f":"IF(Tabfill!$J$106<>\"\",Tabfill!$J$106,\"\")","v":5.5999999999999979},null,null,null,null,null,null,null,{"$f":"IF(Tabfill!$K$106<>\"\",Tabfill!$K$106,\"\")","v":53},null,null,null,null,null,null,null,{"$f":"IF(Tabfill!$L$106<>\"\",Tabfill!$L$106,\"\")","v":70.599999999999994},null,null,null,null,null,null,null,{"$f":"IF(Tabfill!$M$106<>\"\",Tabfill!$M$106,\"\")","v":14.400000000000006},null,null,null,null,null,null,null,{"$f":"IF(Tabfill!$O$106<>\"\",Tabfill!$O$106,\"\")","v":0},null,null,null,null,null,null,null,{"$f":"IF(Tabfill!$P$106<>\"\",Tabfill!$P$106,\"\")","v":7},null,null,null,null,null,null,null,{"$f":"IF(Tabfill!$R$106<>\"\",Tabfill!$R$106,\"\")","v":19.599999999999998},null,null,null,null,null,null,null,{"$f":"IF(Tabfill!$S$106<>\"\",Tabfill!$S$106,\"\")","v":14},null,null,null,null,null,null,null,{"$f":"IF(Tabfill!$T$106<>\"\",Tabfill!$T$106,\"\")","v":14},null,null,null,null,null,null,null,{"$f":"IF(Tabfill!$U$106<>\"\",Tabfill!$U$106,\"\")","v":0}]
[null,null,{"$f":"IF(Tabfill!A107<>\"\",Tabfill!A107,\"\")","v":50150}]
[null,null,null,null,null,null,null,null,null,null,null,null,null,null,null,null,null,{"$f":"IF(Tabfill!$B$107<>\"\",Tabfill!$B$107,\"\")","v":15.8},null,null,null,null,null,null,null,{"$f":"IF(Tabfill!$C$107<>\"\",Tabfill!$C$107,\"\")","v":15},null,null,null,null,null,null,null,{"$f":"IF(Tabfill!$D$107<>\"\",Tabfill!$D$107,\"\")","v":2.8},null,null,null,null,null,null,null,{"$f":"IF(Tabfill!$E$107<>\"\",Tabfill!$E$107,\"\")","v":7},null,null,null,null,null,null,null,{"$f":"IF(Tabfill!$F$107<>\"\",Tabfill!$F$107,\"\")","v":15},null,null,null,null,null,null,null,{"$f":"IF(Tabfill!$G$107<>\"\",Tabfill!$G$107,\"\")","v":12},null,null,null,null,null,null,null,{"$f":"IF(Tabfill!$I$107<>\"\",Tabfill!$I$107,\"\")","v":1},null,null,null,null,null,null,null,{"$f":"IF(Tabfill!$J$107<>\"\",Tabfill!$J$107,\"\")","v":0.79999999999999982},null,null,null,null,null,null,null,{"$f":"IF(Tabfill!$K$107<>\"\",Tabfill!$K$107,\"\")","v":7},null,null,null,null,null,null,null,{"$f":"IF(Tabfill!$L$107<>\"\",Tabfill!$L$107,\"\")","v":8.8000000000000007},null,null,null,null,null,null,null,{"$f":"IF(Tabfill!$M$107<>\"\",Tabfill!$M$107,\"\")","v":3.1999999999999993},null,null,null,null,null,null,null,{"$f":"IF(Tabfill!$O$107<>\"\",Tabfill!$O$107,\"\")","v":0},null,null,null,null,null,null,null,{"$f":"IF(Tabfill!$P$107<>\"\",Tabfill!$P$107,\"\")","v":2},null,null,null,null,null,null,null,{"$f":"IF(Tabfill!$R$107<>\"\",Tabfill!$R$107,\"\")","v":2.8},null,null,null,null,null,null,null,{"$f":"IF(Tabfill!$S$107<>\"\",Tabfill!$S$107,\"\")","v":2},null,null,null,null,null,null,null,{"$f":"IF(Tabfill!$T$107<>\"\",Tabfill!$T$107,\"\")","v":2},null,null,null,null,null,null,null,{"$f":"IF(Tabfill!$U$107<>\"\",Tabfill!$U$107,\"\")","v":0}]
[null,null,{"$f":"IF(Tabfill!A108<>\"\",Tabfill!A108,\"\")","v":50153.51}]
[null,null,null,null,null,null,null,null,null,null,null,null,null,null,null,null,null,{"$f":"IF(Tabfill!$B$108<>\"\",Tabfill!$B$108,\"\")","v":0},null,null,null,null,null,null,null,{"$f":"IF(Tabfill!$C$108<>\"\",Tabfill!$C$108,\"\")","v":0},null,null,null,null,null,null,null,{"$f":"IF(Tabfill!$D$108<>\"\",Tabfill!$D$108,\"\")","v":0},null,null,null,null,null,null,null,{"$f":"IF(Tabfill!$E$108<>\"\",Tabfill!$E$108,\"\")","v":0},null,null,null,null,null,null,null,{"$f":"IF(Tabfill!$F$108<>\"\",Tabfill!$F$108,\"\")","v":0},null,null,null,null,null,null,null,{"$f":"IF(Tabfill!$G$108<>\"\",Tabfill!$G$108,\"\")","v":0},null,null,null,null,null,null,null,{"$f":"IF(Tabfill!$I$108<>\"\",Tabfill!$I$108,\"\")","v":0},null,null,null,null,null,null,null,{"$f":"IF(Tabfill!$J$108<>\"\",Tabfill!$J$108,\"\")","v":""},null,null,null,null,null,null,null,{"$f":"IF(Tabfill!$K$108<>\"\",Tabfill!$K$108,\"\")","v":""},null,null,null,null,null,null,null,{"$f":"IF(Tabfill!$L$108<>\"\",Tabfill!$L$108,\"\")","v":0},null,null,null,null,null,null,null,{"$f":"IF(Tabfill!$M$108<>\"\",Tabfill!$M$108,\"\")","v":0},null,null,null,null,null,null,null,{"$f":"IF(Tabfill!$O$108<>\"\",Tabfill!$O$108,\"\")","v":0},null,null,null,null,null,null,null,{"$f":"IF(Tabfill!$P$108<>\"\",Tabfill!$P$108,\"\")","v":0},null,null,null,null,null,null,null,{"$f":"IF(Tabfill!$R$108<>\"\",Tabfill!$R$108,\"\")","v":0},null,null,null,null,null,null,null,{"$f":"IF(Tabfill!$S$108<>\"\",Tabfill!$S$108,\"\")","v":0},null,null,null,null,null,null,null,{"$f":"IF(Tabfill!$T$108<>\"\",Tabfill!$T$108,\"\")","v":0},null,null,null,null,null,null,null,{"$f":"IF(Tabfill!$U$108<>\"\",Tabfill!$U$108,\"\")","v":0}]
[null,null,{"$f":"IF(Tabfill!A109<>\"\",Tabfill!A109,\"\")","v":""}]
[null,null,null,null,null,null,null,null,null,null,null,null,null,null,null,null,null,{"$f":"IF(Tabfill!$B$109<>\"\",Tabfill!$B$109,\"\")","v":""},null,null,null,null,null,null,null,{"$f":"IF(Tabfill!$C$109<>\"\",Tabfill!$C$109,\"\")","v":""},null,null,null,null,null,null,null,{"$f":"IF(Tabfill!$D$109<>\"\",Tabfill!$D$109,\"\")","v":""},null,null,null,null,null,null,null,{"$f":"IF(Tabfill!$E$109<>\"\",Tabfill!$E$109,\"\")","v":""},null,null,null,null,null,null,null,{"$f":"IF(Tabfill!$F$109<>\"\",Tabfill!$F$109,\"\")","v":""},null,null,null,null,null,null,null,{"$f":"IF(Tabfill!$G$109<>\"\",Tabfill!$G$109,\"\")","v":""},null,null,null,null,null,null,null,{"$f":"IF(Tabfill!$I$109<>\"\",Tabfill!$I$109,\"\")","v":""},null,null,null,null,null,null,null,{"$f":"IF(Tabfill!$J$109<>\"\",Tabfill!$J$109,\"\")","v":""},null,null,null,null,null,null,null,{"$f":"IF(Tabfill!$K$109<>\"\",Tabfill!$K$109,\"\")","v":""},null,null,null,null,null,null,null,{"$f":"IF(Tabfill!$L$109<>\"\",Tabfill!$L$109,\"\")","v":""},null,null,null,null,null,null,null,{"$f":"IF(Tabfill!$M$109<>\"\",Tabfill!$M$109,\"\")","v":""},null,null,null,null,null,null,null,{"$f":"IF(Tabfill!$O$109<>\"\",Tabfill!$O$109,\"\")","v":""},null,null,null,null,null,null,null,{"$f":"IF(Tabfill!$P$109<>\"\",Tabfill!$P$109,\"\")","v":""},null,null,null,null,null,null,null,{"$f":"IF(Tabfill!$R$109<>\"\",Tabfill!$R$109,\"\")","v":""},null,null,null,null,null,null,null,{"$f":"IF(Tabfill!$S$109<>\"\",Tabfill!$S$109,\"\")","v":""},null,null,null,null,null,null,null,{"$f":"IF(Tabfill!$T$109<>\"\",Tabfill!$T$109,\"\")","v":""},null,null,null,null,null,null,null,{"$f":"IF(Tabfill!$U$109<>\"\",Tabfill!$U$109,\"\")","v":""}]
[null,null,{"$f":"IF(Tabfill!A110<>\"\",Tabfill!A110,\"\")","v":"Subtotals:"}]
[null,null,null,null,null,null,null,null,null,null,null,null,null,null,null,null,null,{"$f":"IF(Tabfill!$B$110<>\"\",Tabfill!$B$110,\"\")","v":4101.5999999999995},null,null,null,null,null,null,null,{"$f":"IF(Tabfill!$C$110<>\"\",Tabfill!$C$110,\"\")","v":3682},null,null,null,null,null,null,null,{"$f":"IF(Tabfill!$D$110<>\"\",Tabfill!$D$110,\"\")","v":1468.6},null,null,null,null,null,null,null,{"$f":"IF(Tabfill!$E$110<>\"\",Tabfill!$E$110,\"\")","v":1968},null,null,null,null,null,null,null,{"$f":"IF(Tabfill!$F$110<>\"\",Tabfill!$F$110,\"\")","v":3682},null,null,null,null,null,null,null,{"$f":"IF(Tabfill!$G$110<>\"\",Tabfill!$G$110,\"\")","v":2834},null,null,null,null,null,null,null,{"$f":"IF(Tabfill!$I$110<>\"\",Tabfill!$I$110,\"\")","v":1518},null,null,null,null,null,null,null,{"$f":"IF(Tabfill!$J$110<>\"\",Tabfill!$J$110,\"\")","v":419.59999999999991},null,null,null,null,null,null,null,{"$f":"IF(Tabfill!$K$110<>\"\",Tabfill!$K$110,\"\")","v":1968},null,null,null,null,null,null,null,{"$f":"IF(Tabfill!$L$110<>\"\",Tabfill!$L$110,\"\")","v":3905.6},null,null,null,null,null,null,null,{"$f":"IF(Tabfill!$M$110<>\"\",Tabfill!$M$110,\"\")","v":-1071.5999999999997},null,null,null,null,null,null,null,{"$f":"IF(Tabfill!$O$110<>\"\",Tabfill!$O$110,\"\")","v":0},null,null,null,null,null,null,null,{"$f":"IF(Tabfill!$P$110<>\"\",Tabfill!$P$110,\"\")","v":1270},null,null,null,null,null,null,null,{"$f":"IF(Tabfill!$R$110<>\"\",Tabfill!$R$110,\"\")","v":1468.6},null,null,null,null,null,null,null,{"$f":"IF(Tabfill!$S$110<>\"\",Tabfill!$S$110,\"\")","v":1049},null,null,null,null,null,null,null,{"$f":"IF(Tabfill!$T$110<>\"\",Tabfill!$T$110,\"\")","v":1049},null,null,null,null,null,null,null,{"$f":"IF(Tabfill!$U$110<>\"\",Tabfill!$U$110,\"\")","v":0}]
[null,null,{"$f":"IF(Tabfill!A111<>\"\",Tabfill!A111,\"\")","v":""}]
[null,null,null,null,null,null,null,null,null,null,null,null,null,null,null,null,null,{"$f":"IF(Tabfill!$B$111<>\"\",Tabfill!$B$111,\"\")","v":""},null,null,null,null,null,null,null,{"$f":"IF(Tabfill!$C$111<>\"\",Tabfill!$C$111,\"\")","v":""},null,null,null,null,null,null,null,{"$f":"IF(Tabfill!$D$111<>\"\",Tabfill!$D$111,\"\")","v":""},null,null,null,null,null,null,null,{"$f":"IF(Tabfill!$E$111<>\"\",Tabfill!$E$111,\"\")","v":""},null,null,null,null,null,null,null,{"$f":"IF(Tabfill!$F$111<>\"\",Tabfill!$F$111,\"\")","v":""},null,null,null,null,null,null,null,{"$f":"IF(Tabfill!$G$111<>\"\",Tabfill!$G$111,\"\")","v":""},null,null,null,null,null,null,null,{"$f":"IF(Tabfill!$I$111<>\"\",Tabfill!$I$111,\"\")","v":""},null,null,null,null,null,null,null,{"$f":"IF(Tabfill!$J$111<>\"\",Tabfill!$J$111,\"\")","v":""},null,null,null,null,null,null,null,{"$f":"IF(Tabfill!$K$111<>\"\",Tabfill!$K$111,\"\")","v":""},null,null,null,null,null,null,null,{"$f":"IF(Tabfill!$L$111<>\"\",Tabfill!$L$111,\"\")","v":""},null,null,null,null,null,null,null,{"$f":"IF(Tabfill!$M$111<>\"\",Tabfill!$M$111,\"\")","v":""},null,null,null,null,null,null,null,{"$f":"IF(Tabfill!$O$111<>\"\",Tabfill!$O$111,\"\")","v":""},null,null,null,null,null,null,null,{"$f":"IF(Tabfill!$P$111<>\"\",Tabfill!$P$111,\"\")","v":""},null,null,null,null,null,null,null,{"$f":"IF(Tabfill!$R$111<>\"\",Tabfill!$R$111,\"\")","v":""},null,null,null,null,null,null,null,{"$f":"IF(Tabfill!$S$111<>\"\",Tabfill!$S$111,\"\")","v":""},null,null,null,null,null,null,null,{"$f":"IF(Tabfill!$T$111<>\"\",Tabfill!$T$111,\"\")","v":""},null,null,null,null,null,null,null,{"$f":"IF(Tabfill!$U$111<>\"\",Tabfill!$U$111,\"\")","v":""}]
[null,null,{"$f":"IF(Tabfill!A112<>\"\",Tabfill!A112,\"\")","v":""}]
[null,null,null,null,null,null,null,null,null,null,null,null,null,null,null,null,null,{"$f":"IF(Tabfill!$B$112<>\"\",Tabfill!$B$112,\"\")","v":""},null,null,null,null,null,null,null,{"$f":"IF(Tabfill!$C$112<>\"\",Tabfill!$C$112,\"\")","v":""},null,null,null,null,null,null,null,{"$f":"IF(Tabfill!$D$112<>\"\",Tabfill!$D$112,\"\")","v":""},null,null,null,null,null,null,null,{"$f":"IF(Tabfill!$E$112<>\"\",Tabfill!$E$112,\"\")","v":""},null,null,null,null,null,null,null,{"$f":"IF(Tabfill!$F$112<>\"\",Tabfill!$F$112,\"\")","v":""},null,null,null,null,null,null,null,{"$f":"IF(Tabfill!$G$112<>\"\",Tabfill!$G$112,\"\")","v":""},null,null,null,null,null,null,null,{"$f":"IF(Tabfill!$I$112<>\"\",Tabfill!$I$112,\"\")","v":""},null,null,null,null,null,null,null,{"$f":"IF(Tabfill!$J$112<>\"\",Tabfill!$J$112,\"\")","v":""},null,null,null,null,null,null,null,{"$f":"IF(Tabfill!$K$112<>\"\",Tabfill!$K$112,\"\")","v":""},null,null,null,null,null,null,null,{"$f":"IF(Tabfill!$L$112<>\"\",Tabfill!$L$112,\"\")","v":""},null,null,null,null,null,null,null,{"$f":"IF(Tabfill!$M$112<>\"\",Tabfill!$M$112,\"\")","v":""},null,null,null,null,null,null,null,{"$f":"IF(Tabfill!$O$112<>\"\",Tabfill!$O$112,\"\")","v":""},null,null,null,null,null,null,null,{"$f":"IF(Tabfill!$P$112<>\"\",Tabfill!$P$112,\"\")","v":""},null,null,null,null,null,null,null,{"$f":"IF(Tabfill!$R$112<>\"\",Tabfill!$R$112,\"\")","v":""},null,null,null,null,null,null,null,{"$f":"IF(Tabfill!$S$112<>\"\",Tabfill!$S$112,\"\")","v":""},null,null,null,null,null,null,null,{"$f":"IF(Tabfill!$T$112<>\"\",Tabfill!$T$112,\"\")","v":""},null,null,null,null,null,null,null,{"$f":"IF(Tabfill!$U$112<>\"\",Tabfill!$U$112,\"\")","v":""}]
[null,null,{"$f":"IF(Tabfill!A113<>\"\",Tabfill!A113,\"\")","v":"SR022A"}]
[null,null,null,null,null,null,null,null,null,null,null,null,null,null,null,null,null,{"$f":"IF(Tabfill!$B$113<>\"\",Tabfill!$B$113,\"\")","v":""},null,null,null,null,null,null,null,{"$f":"IF(Tabfill!$C$113<>\"\",Tabfill!$C$113,\"\")","v":""},null,null,null,null,null,null,null,{"$f":"IF(Tabfill!$D$113<>\"\",Tabfill!$D$113,\"\")","v":""},null,null,null,null,null,null,null,{"$f":"IF(Tabfill!$E$113<>\"\",Tabfill!$E$113,\"\")","v":""},null,null,null,null,null,null,null,{"$f":"IF(Tabfill!$F$113<>\"\",Tabfill!$F$113,\"\")","v":""},null,null,null,null,null,null,null,{"$f":"IF(Tabfill!$G$113<>\"\",Tabfill!$G$113,\"\")","v":""},null,null,null,null,null,null,null,{"$f":"IF(Tabfill!$I$113<>\"\",Tabfill!$I$113,\"\")","v":""},null,null,null,null,null,null,null,{"$f":"IF(Tabfill!$J$113<>\"\",Tabfill!$J$113,\"\")","v":""},null,null,null,null,null,null,null,{"$f":"IF(Tabfill!$K$113<>\"\",Tabfill!$K$113,\"\")","v":""},null,null,null,null,null,null,null,{"$f":"IF(Tabfill!$L$113<>\"\",Tabfill!$L$113,\"\")","v":""},null,null,null,null,null,null,null,{"$f":"IF(Tabfill!$M$113<>\"\",Tabfill!$M$113,\"\")","v":""},null,null,null,null,null,null,null,{"$f":"IF(Tabfill!$O$113<>\"\",Tabfill!$O$113,\"\")","v":""},null,null,null,null,null,null,null,{"$f":"IF(Tabfill!$P$113<>\"\",Tabfill!$P$113,\"\")","v":""},null,null,null,null,null,null,null,{"$f":"IF(Tabfill!$R$113<>\"\",Tabfill!$R$113,\"\")","v":""},null,null,null,null,null,null,null,{"$f":"IF(Tabfill!$S$113<>\"\",Tabfill!$S$113,\"\")","v":""},null,null,null,null,null,null,null,{"$f":"IF(Tabfill!$T$113<>\"\",Tabfill!$T$113,\"\")","v":""},null,null,null,null,null,null,null,{"$f":"IF(Tabfill!$U$113<>\"\",Tabfill!$U$113,\"\")","v":""}]
[null,null,{"$f":"IF(Tabfill!A114<>\"\",Tabfill!A114,\"\")","v":100336.9}]
[null,null,null,null,null,null,null,null,null,null,null,null,null,null,null,null,null,{"$f":"IF(Tabfill!$B$114<>\"\",Tabfill!$B$114,\"\")","v":56.4},null,null,null,null,null,null,null,{"$f":"IF(Tabfill!$C$114<>\"\",Tabfill!$C$114,\"\")","v":54},null,null,null,null,null,null,null,{"$f":"IF(Tabfill!$D$114<>\"\",Tabfill!$D$114,\"\")","v":8.3999999999999986},null,null,null,null,null,null,null,{"$f":"IF(Tabfill!$E$114<>\"\",Tabfill!$E$114,\"\")","v":16},null,null,null,null,null,null,null,{"$f":"IF(Tabfill!$F$114<>\"\",Tabfill!$F$114,\"\")","v":54},null,null,null,null,null,null,null,{"$f":"IF(Tabfill!$G$114<>\"\",Tabfill!$G$114,\"\")","v":42},null,null,null,null,null,null,null,{"$f":"IF(Tabfill!$I$114<>\"\",Tabfill!$I$114,\"\")","v":0},null,null,null,null,null,null,null,{"$f":"IF(Tabfill!$J$114<>\"\",Tabfill!$J$114,\"\")","v":2.3999999999999986},null,null,null,null,null,null,null,{"$f":"IF(Tabfill!$K$114<>\"\",Tabfill!$K$114,\"\")","v":16},null,null,null,null,null,null,null,{"$f":"IF(Tabfill!$L$114<>\"\",Tabfill!$L$114,\"\")","v":18.399999999999999},null,null,null,null,null,null,null,{"$f":"IF(Tabfill!$M$114<>\"\",Tabfill!$M$114,\"\")","v":23.6},null,null,null,null,null,null,null,{"$f":"IF(Tabfill!$O$114<>\"\",Tabfill!$O$114,\"\")","v":0},null,null,null,null,null,null,null,{"$f":"IF(Tabfill!$P$114<>\"\",Tabfill!$P$114,\"\")","v":0},null,null,null,null,null,null,null,{"$f":"IF(Tabfill!$R$114<>\"\",Tabfill!$R$114,\"\")","v":8.3999999999999986},null,null,null,null,null,null,null,{"$f":"IF(Tabfill!$S$114<>\"\",Tabfill!$S$114,\"\")","v":6},null,null,null,null,null,null,null,{"$f":"IF(Tabfill!$T$114<>\"\",Tabfill!$T$114,\"\")","v":6},null,null,null,null,null,null,null,{"$f":"IF(Tabfill!$U$114<>\"\",Tabfill!$U$114,\"\")","v":0}]
[null,null,{"$f":"IF(Tabfill!A115<>\"\",Tabfill!A115,\"\")","v":100350}]
[null,null,null,null,null,null,null,null,null,null,null,null,null,null,null,null,null,{"$f":"IF(Tabfill!$B$115<>\"\",Tabfill!$B$115,\"\")","v":117.4},null,null,null,null,null,null,null,{"$f":"IF(Tabfill!$C$115<>\"\",Tabfill!$C$115,\"\")","v":111},null,null,null,null,null,null,null,{"$f":"IF(Tabfill!$D$115<>\"\",Tabfill!$D$115,\"\")","v":22.4},null,null,null,null,null,null,null,{"$f":"IF(Tabfill!$E$115<>\"\",Tabfill!$E$115,\"\")","v":31},null,null,null,null,null,null,null,{"$f":"IF(Tabfill!$F$115<>\"\",Tabfill!$F$115,\"\")","v":111},null,null,null,null,null,null,null,{"$f":"IF(Tabfill!$G$115<>\"\",Tabfill!$G$115,\"\")","v":85},null,null,null,null,null,null,null,{"$f":"IF(Tabfill!$I$115<>\"\",Tabfill!$I$115,\"\")","v":0},null,null,null,null,null,null,null,{"$f":"IF(Tabfill!$J$115<>\"\",Tabfill!$J$115,\"\")","v":6.3999999999999986},null,null,null,null,null,null,null,{"$f":"IF(Tabfill!$K$115<>\"\",Tabfill!$K$115,\"\")","v":31},null,null,null,null,null,null,null,{"$f":"IF(Tabfill!$L$115<>\"\",Tabfill!$L$115,\"\")","v":37.4},null,null,null,null,null,null,null,{"$f":"IF(Tabfill!$M$115<>\"\",Tabfill!$M$115,\"\")","v":47.6},null,null,null,null,null,null,null,{"$f":"IF(Tabfill!$O$115<>\"\",Tabfill!$O$115,\"\")","v":0},null,null,null,null,null,null,null,{"$f":"IF(Tabfill!$P$115<>\"\",Tabfill!$P$115,\"\")","v":0},null,null,null,null,null,null,null,{"$f":"IF(Tabfill!$R$115<>\"\",Tabfill!$R$115,\"\")","v":22.4},null,null,null,null,null,null,null,{"$f":"IF(Tabfill!$S$115<>\"\",Tabfill!$S$115,\"\")","v":16},null,null,null,null,null,null,null,{"$f":"IF(Tabfill!$T$115<>\"\",Tabfill!$T$115,\"\")","v":16},null,null,null,null,null,null,null,{"$f":"IF(Tabfill!$U$115<>\"\",Tabfill!$U$115,\"\")","v":0}]
[null,null,{"$f":"IF(Tabfill!A116<>\"\",Tabfill!A116,\"\")","v":100375}]
[null,null,null,null,null,null,null,null,null,null,null,null,null,null,null,null,null,{"$f":"IF(Tabfill!$B$116<>\"\",Tabfill!$B$116,\"\")","v":124.8},null,null,null,null,null,null,null,{"$f":"IF(Tabfill!$C$116<>\"\",Tabfill!$C$116,\"\")","v":118},null,null,null,null,null,null,null,{"$f":"IF(Tabfill!$D$116<>\"\",Tabfill!$D$116,\"\")","v":23.799999999999997},null,null,null,null,null,null,null,{"$f":"IF(Tabfill!$E$116<>\"\",Tabfill!$E$116,\"\")","v":32},null,null,null,null,null,null,null,{"$f":"IF(Tabfill!$F$116<>\"\",Tabfill!$F$116,\"\")","v":118},null,null,null,null,null,null,null,{"$f":"IF(Tabfill!$G$116<>\"\",Tabfill!$G$116,\"\")","v":91},null,null,null,null,null,null,null,{"$f":"IF(Tabfill!$I$116<>\"\",Tabfill!$I$116,\"\")","v":0},null,null,null,null,null,null,null,{"$f":"IF(Tabfill!$J$116<>\"\",Tabfill!$J$116,\"\")","v":6.7999999999999972},null,null,null,null,null,null,null,{"$f":"IF(Tabfill!$K$116<>\"\",Tabfill!$K$116,\"\")","v":32},null,null,null,null,null,null,null,{"$f":"IF(Tabfill!$L$116<>\"\",Tabfill!$L$116,\"\")","v":38.799999999999997},null,null,null,null,null,null,null,{"$f":"IF(Tabfill!$M$116<>\"\",Tabfill!$M$116,\"\")","v":52.2},null,null,null,null,null,null,null,{"$f":"IF(Tabfill!$O$116<>\"\",Tabfill!$O$116,\"\")","v":0},null,null,null,null,null,null,null,{"$f":"IF(Tabfill!$P$116<>\"\",Tabfill!$P$116,\"\")","v":0},null,null,null,null,null,null,null,{"$f":"IF(Tabfill!$R$116<>\"\",Tabfill!$R$116,\"\")","v":23.799999999999997},null,null,null,null,null,null,null,{"$f":"IF(Tabfill!$S$116<>\"\",Tabfill!$S$116,\"\")","v":17},null,null,null,null,null,null,null,{"$f":"IF(Tabfill!$T$116<>\"\",Tabfill!$T$116,\"\")","v":17},null,null,null,null,null,null,null,{"$f":"IF(Tabfill!$U$116<>\"\",Tabfill!$U$116,\"\")","v":0}]
[null,null,{"$f":"IF(Tabfill!A117<>\"\",Tabfill!A117,\"\")","v":100400}]
[null,null,null,null,null,null,null,null,null,null,null,null,null,null,null,null,null,{"$f":"IF(Tabfill!$B$117<>\"\",Tabfill!$B$117,\"\")","v":128.80000000000001},null,null,null,null,null,null,null,{"$f":"IF(Tabfill!$C$117<>\"\",Tabfill!$C$117,\"\")","v":122},null,null,null,null,null,null,null,{"$f":"IF(Tabfill!$D$117<>\"\",Tabfill!$D$117,\"\")","v":23.799999999999997},null,null,null,null,null,null,null,{"$f":"IF(Tabfill!$E$117<>\"\",Tabfill!$E$117,\"\")","v":34},null,null,null,null,null,null,null,{"$f":"IF(Tabfill!$F$117<>\"\",Tabfill!$F$117,\"\")","v":122},null,null,null,null,null,null,null,{"$f":"IF(Tabfill!$G$117<>\"\",Tabfill!$G$117,\"\")","v":94},null,null,null,null,null,null,null,{"$f":"IF(Tabfill!$I$117<>\"\",Tabfill!$I$117,\"\")","v":0},null,null,null,null,null,null,null,{"$f":"IF(Tabfill!$J$117<>\"\",Tabfill!$J$117,\"\")","v":6.7999999999999972},null,null,null,null,null,null,null,{"$f":"IF(Tabfill!$K$117<>\"\",Tabfill!$K$117,\"\")","v":34},null,null,null,null,null,null,null,{"$f":"IF(Tabfill!$L$117<>\"\",Tabfill!$L$117,\"\")","v":40.799999999999997},null,null,null,null,null,null,null,{"$f":"IF(Tabfill!$M$117<>\"\",Tabfill!$M$117,\"\")","v":53.2},null,null,null,null,null,null,null,{"$f":"IF(Tabfill!$O$117<>\"\",Tabfill!$O$117,\"\")","v":0},null,null,null,null,null,null,null,{"$f":"IF(Tabfill!$P$117<>\"\",Tabfill!$P$117,\"\")","v":0},null,null,null,null,null,null,null,{"$f":"IF(Tabfill!$R$117<>\"\",Tabfill!$R$117,\"\")","v":23.799999999999997},null,null,null,null,null,null,null,{"$f":"IF(Tabfill!$S$117<>\"\",Tabfill!$S$117,\"\")","v":17},null,null,null,null,null,null,null,{"$f":"IF(Tabfill!$T$117<>\"\",Tabfill!$T$117,\"\")","v":17},null,null,null,null,null,null,null,{"$f":"IF(Tabfill!$U$117<>\"\",Tabfill!$U$117,\"\")","v":0}]
[null,null,{"$f":"IF(Tabfill!A118<>\"\",Tabfill!A118,\"\")","v":100425}]
[null,null,null,null,null,null,null,null,null,null,null,null,null,null,null,null,null,{"$f":"IF(Tabfill!$B$118<>\"\",Tabfill!$B$118,\"\")","v":138},null,null,null,null,null,null,null,{"$f":"IF(Tabfill!$C$118<>\"\",Tabfill!$C$118,\"\")","v":130},null,null,null,null,null,null,null,{"$f":"IF(Tabfill!$D$118<>\"\",Tabfill!$D$118,\"\")","v":28},null,null,null,null,null,null,null,{"$f":"IF(Tabfill!$E$118<>\"\",Tabfill!$E$118,\"\")","v":36},null,null,null,null,null,null,null,{"$f":"IF(Tabfill!$F$118<>\"\",Tabfill!$F$118,\"\")","v":130},null,null,null,null,null,null,null,{"$f":"IF(Tabfill!$G$118<>\"\",Tabfill!$G$118,\"\")","v":100},null,null,null,null,null,null,null,{"$f":"IF(Tabfill!$I$118<>\"\",Tabfill!$I$118,\"\")","v":0},null,null,null,null,null,null,null,{"$f":"IF(Tabfill!$J$118<>\"\",Tabfill!$J$118,\"\")","v":8},null,null,null,null,null,null,null,{"$f":"IF(Tabfill!$K$118<>\"\",Tabfill!$K$118,\"\")","v":36},null,null,null,null,null,null,null,{"$f":"IF(Tabfill!$L$118<>\"\",Tabfill!$L$118,\"\")","v":44},null,null,null,null,null,null,null,{"$f":"IF(Tabfill!$M$118<>\"\",Tabfill!$M$118,\"\")","v":56},null,null,null,null,null,null,null,{"$f":"IF(Tabfill!$O$118<>\"\",Tabfill!$O$118,\"\")","v":0},null,null,null,null,null,null,null,{"$f":"IF(Tabfill!$P$118<>\"\",Tabfill!$P$118,\"\")","v":0},null,null,null,null,null,null,null,{"$f":"IF(Tabfill!$R$118<>\"\",Tabfill!$R$118,\"\")","v":28},null,null,null,null,null,null,null,{"$f":"IF(Tabfill!$S$118<>\"\",Tabfill!$S$118,\"\")","v":20},null,null,null,null,null,null,null,{"$f":"IF(Tabfill!$T$118<>\"\",Tabfill!$T$118,\"\")","v":20},null,null,null,null,null,null,null,{"$f":"IF(Tabfill!$U$118<>\"\",Tabfill!$U$118,\"\")","v":0}]
[null,null,{"$f":"IF(Tabfill!A119<>\"\",Tabfill!A119,\"\")","v":100450}]
[null,null,null,null,null,null,null,null,null,null,null,null,null,null,null,null,null,{"$f":"IF(Tabfill!$B$119<>\"\",Tabfill!$B$119,\"\")","v":148.19999999999999},null,null,null,null,null,null,null,{"$f":"IF(Tabfill!$C$119<>\"\",Tabfill!$C$119,\"\")","v":139},null,null,null,null,null,null,null,{"$f":"IF(Tabfill!$D$119<>\"\",Tabfill!$D$119,\"\")","v":32.199999999999996},null,null,null,null,null,null,null,{"$f":"IF(Tabfill!$E$119<>\"\",Tabfill!$E$119,\"\")","v":37},null,null,null,null,null,null,null,{"$f":"IF(Tabfill!$F$119<>\"\",Tabfill!$F$119,\"\")","v":139},null,null,null,null,null,null,null,{"$f":"IF(Tabfill!$G$119<>\"\",Tabfill!$G$119,\"\")","v":107},null,null,null,null,null,null,null,{"$f":"IF(Tabfill!$I$119<>\"\",Tabfill!$I$119,\"\")","v":1},null,null,null,null,null,null,null,{"$f":"IF(Tabfill!$J$119<>\"\",Tabfill!$J$119,\"\")","v":9.1999999999999957},null,null,null,null,null,null,null,{"$f":"IF(Tabfill!$K$119<>\"\",Tabfill!$K$119,\"\")","v":37},null,null,null,null,null,null,null,{"$f":"IF(Tabfill!$L$119<>\"\",Tabfill!$L$119,\"\")","v":47.199999999999996},null,null,null,null,null,null,null,{"$f":"IF(Tabfill!$M$119<>\"\",Tabfill!$M$119,\"\")","v":59.800000000000004},null,null,null,null,null,null,null,{"$f":"IF(Tabfill!$O$119<>\"\",Tabfill!$O$119,\"\")","v":0},null,null,null,null,null,null,null,{"$f":"IF(Tabfill!$P$119<>\"\",Tabfill!$P$119,\"\")","v":1},null,null,null,null,null,null,null,{"$f":"IF(Tabfill!$R$119<>\"\",Tabfill!$R$119,\"\")","v":32.199999999999996},null,null,null,null,null,null,null,{"$f":"IF(Tabfill!$S$119<>\"\",Tabfill!$S$119,\"\")","v":23},null,null,null,null,null,null,null,{"$f":"IF(Tabfill!$T$119<>\"\",Tabfill!$T$119,\"\")","v":23},null,null,null,null,null,null,null,{"$f":"IF(Tabfill!$U$119<>\"\",Tabfill!$U$119,\"\")","v":0}]
[null,null,{"$f":"IF(Tabfill!A120<>\"\",Tabfill!A120,\"\")","v":100475}]
[null,null,null,null,null,null,null,null,null,null,null,null,null,null,null,null,null,{"$f":"IF(Tabfill!$B$120<>\"\",Tabfill!$B$120,\"\")","v":158.4},null,null,null,null,null,null,null,{"$f":"IF(Tabfill!$C$120<>\"\",Tabfill!$C$120,\"\")","v":148},null,null,null,null,null,null,null,{"$f":"IF(Tabfill!$D$120<>\"\",Tabfill!$D$120,\"\")","v":36.4},null,null,null,null,null,null,null,{"$f":"IF(Tabfill!$E$120<>\"\",Tabfill!$E$120,\"\")","v":37},null,null,null,null,null,null,null,{"$f":"IF(Tabfill!$F$120<>\"\",Tabfill!$F$120,\"\")","v":148},null,null,null,null,null,null,null,{"$f":"IF(Tabfill!$G$120<>\"\",Tabfill!$G$120,\"\")","v":114},null,null,null,null,null,null,null,{"$f":"IF(Tabfill!$I$120<>\"\",Tabfill!$I$120,\"\")","v":6},null,null,null,null,null,null,null,{"$f":"IF(Tabfill!$J$120<>\"\",Tabfill!$J$120,\"\")","v":10.399999999999999},null,null,null,null,null,null,null,{"$f":"IF(Tabfill!$K$120<>\"\",Tabfill!$K$120,\"\")","v":37},null,null,null,null,null,null,null,{"$f":"IF(Tabfill!$L$120<>\"\",Tabfill!$L$120,\"\")","v":53.4},null,null,null,null,null,null,null,{"$f":"IF(Tabfill!$M$120<>\"\",Tabfill!$M$120,\"\")","v":60.6},null,null,null,null,null,null,null,{"$f":"IF(Tabfill!$O$120<>\"\",Tabfill!$O$120,\"\")","v":0},null,null,null,null,null,null,null,{"$f":"IF(Tabfill!$P$120<>\"\",Tabfill!$P$120,\"\")","v":5},null,null,null,null,null,null,null,{"$f":"IF(Tabfill!$R$120<>\"\",Tabfill!$R$120,\"\")","v":36.4},null,null,null,null,null,null,null,{"$f":"IF(Tabfill!$S$120<>\"\",Tabfill!$S$120,\"\")","v":26},null,null,null,null,null,null,null,{"$f":"IF(Tabfill!$T$120<>\"\",Tabfill!$T$120,\"\")","v":26},null,null,null,null,null,null,null,{"$f":"IF(Tabfill!$U$120<>\"\",Tabfill!$U$120,\"\")","v":0}]
[null,null,{"$f":"IF(Tabfill!A121<>\"\",Tabfill!A121,\"\")","v":100500}]
[null,null,null,null,null,null,null,null,null,null,null,null,null,null,null,null,null,{"$f":"IF(Tabfill!$B$121<>\"\",Tabfill!$B$121,\"\")","v":161.80000000000001},null,null,null,null,null,null,null,{"$f":"IF(Tabfill!$C$121<>\"\",Tabfill!$C$121,\"\")","v":151},null,null,null,null,null,null,null,{"$f":"IF(Tabfill!$D$121<>\"\",Tabfill!$D$121,\"\")","v":37.799999999999997},null,null,null,null,null,null,null,{"$f":"IF(Tabfill!$E$121<>\"\",Tabfill!$E$121,\"\")","v":37},null,null,null,null,null,null,null,{"$f":"IF(Tabfill!$F$121<>\"\",Tabfill!$F$121,\"\")","v":151},null,null,null,null,null,null,null,{"$f":"IF(Tabfill!$G$121<>\"\",Tabfill!$G$121,\"\")","v":116},null,null,null,null,null,null,null,{"$f":"IF(Tabfill!$I$121<>\"\",Tabfill!$I$121,\"\")","v":9},null,null,null,null,null,null,null,{"$f":"IF(Tabfill!$J$121<>\"\",Tabfill!$J$121,\"\")","v":10.799999999999997},null,null,null,null,null,null,null,{"$f":"IF(Tabfill!$K$121<>\"\",Tabfill!$K$121,\"\")","v":37},null,null,null,null,null,null,null,{"$f":"IF(Tabfill!$L$121<>\"\",Tabfill!$L$121,\"\")","v":56.8},null,null,null,null,null,null,null,{"$f":"IF(Tabfill!$M$121<>\"\",Tabfill!$M$121,\"\")","v":59.2},null,null,null,null,null,null,null,{"$f":"IF(Tabfill!$O$121<>\"\",Tabfill!$O$121,\"\")","v":0},null,null,null,null,null,null,null,{"$f":"IF(Tabfill!$P$121<>\"\",Tabfill!$P$121,\"\")","v":9},null,null,null,null,null,null,null,{"$f":"IF(Tabfill!$R$121<>\"\",Tabfill!$R$121,\"\")","v":37.799999999999997},null,null,null,null,null,null,null,{"$f":"IF(Tabfill!$S$121<>\"\",Tabfill!$S$121,\"\")","v":27},null,null,null,null,null,null,null,{"$f":"IF(Tabfill!$T$121<>\"\",Tabfill!$T$121,\"\")","v":27},null,null,null,null,null,null,null,{"$f":"IF(Tabfill!$U$121<>\"\",Tabfill!$U$121,\"\")","v":0}]
[null,null,{"$f":"IF(Tabfill!A122<>\"\",Tabfill!A122,\"\")","v":100525}]
[null,null,null,null,null,null,null,null,null,null,null,null,null,null,null,null,null,{"$f":"IF(Tabfill!$B$122<>\"\",Tabfill!$B$122,\"\")","v":157.80000000000001},null,null,null,null,null,null,null,{"$f":"IF(Tabfill!$C$122<>\"\",Tabfill!$C$122,\"\")","v":147},null,null,null,null,null,null,null,{"$f":"IF(Tabfill!$D$122<>\"\",Tabfill!$D$122,\"\")","v":37.799999999999997},null,null,null,null,null,null,null,{"$f":"IF(Tabfill!$E$122<>\"\",Tabfill!$E$122,\"\")","v":37},null,null,null,null,null,null,null,{"$f":"IF(Tabfill!$F$122<>\"\",Tabfill!$F$122,\"\")","v":147},null,null,null,null,null,null,null,{"$f":"IF(Tabfill!$G$122<>\"\",Tabfill!$G$122,\"\")","v":113},null,null,null,null,null,null,null,{"$f":"IF(Tabfill!$I$122<>\"\",Tabfill!$I$122,\"\")","v":12},null,null,null,null,null,null,null,{"$f":"IF(Tabfill!$J$122<>\"\",Tabfill!$J$122,\"\")","v":10.799999999999997},null,null,null,null,null,null,null,{"$f":"IF(Tabfill!$K$122<>\"\",Tabfill!$K$122,\"\")","v":37},null,null,null,null,null,null,null,{"$f":"IF(Tabfill!$L$122<>\"\",Tabfill!$L$122,\"\")","v":59.8},null,null,null,null,null,null,null,{"$f":"IF(Tabfill!$M$122<>\"\",Tabfill!$M$122,\"\")","v":53.2},null,null,null,null,null,null,null,{"$f":"IF(Tabfill!$O$122<>\"\",Tabfill!$O$122,\"\")","v":0},null,null,null,null,null,null,null,{"$f":"IF(Tabfill!$P$122<>\"\",Tabfill!$P$122,\"\")","v":12},null,null,null,null,null,null,null,{"$f":"IF(Tabfill!$R$122<>\"\",Tabfill!$R$122,\"\")","v":37.799999999999997},null,null,null,null,null,null,null,{"$f":"IF(Tabfill!$S$122<>\"\",Tabfill!$S$122,\"\")","v":27},null,null,null,null,null,null,null,{"$f":"IF(Tabfill!$T$122<>\"\",Tabfill!$T$122,\"\")","v":27},null,null,null,null,null,null,null,{"$f":"IF(Tabfill!$U$122<>\"\",Tabfill!$U$122,\"\")","v":0}]
[null,null,{"$f":"IF(Tabfill!A123<>\"\",Tabfill!A123,\"\")","v":100550}]
[null,null,null,null,null,null,null,null,null,null,null,null,null,null,null,null,null,{"$f":"IF(Tabfill!$B$123<>\"\",Tabfill!$B$123,\"\")","v":141.80000000000001},null,null,null,null,null,null,null,{"$f":"IF(Tabfill!$C$123<>\"\",Tabfill!$C$123,\"\")","v":131},null,null,null,null,null,null,null,{"$f":"IF(Tabfill!$D$123<>\"\",Tabfill!$D$123,\"\")","v":37.799999999999997},null,null,null,null,null,null,null,{"$f":"IF(Tabfill!$E$123<>\"\",Tabfill!$E$123,\"\")","v":37},null,null,null,null,null,null,null,{"$f":"IF(Tabfill!$F$123<>\"\",Tabfill!$F$123,\"\")","v":131},null,null,null,null,null,null,null,{"$f":"IF(Tabfill!$G$123<>\"\",Tabfill!$G$123,\"\")","v":101},null,null,null,null,null,null,null,{"$f":"IF(Tabfill!$I$123<>\"\",Tabfill!$I$123,\"\")","v":14},null,null,null,null,null,null,null,{"$f":"IF(Tabfill!$J$123<>\"\",Tabfill!$J$123,\"\")","v":10.799999999999997},null,null,null,null,null,null,null,{"$f":"IF(Tabfill!$K$123<>\"\",Tabfill!$K$123,\"\")","v":37},null,null,null,null,null,null,null,{"$f":"IF(Tabfill!$L$123<>\"\",Tabfill!$L$123,\"\")","v":61.8},null,null,null,null,null,null,null,{"$f":"IF(Tabfill!$M$123<>\"\",Tabfill!$M$123,\"\")","v":39.200000000000003},null,null,null,null,null,null,null,{"$f":"IF(Tabfill!$O$123<>\"\",Tabfill!$O$123,\"\")","v":0},null,null,null,null,null,null,null,{"$f":"IF(Tabfill!$P$123<>\"\",Tabfill!$P$123,\"\")","v":13},null,null,null,null,null,null,null,{"$f":"IF(Tabfill!$R$123<>\"\",Tabfill!$R$123,\"\")","v":37.799999999999997},null,null,null,null,null,null,null,{"$f":"IF(Tabfill!$S$123<>\"\",Tabfill!$S$123,\"\")","v":27},null,null,null,null,null,null,null,{"$f":"IF(Tabfill!$T$123<>\"\",Tabfill!$T$123,\"\")","v":27},null,null,null,null,null,null,null,{"$f":"IF(Tabfill!$U$123<>\"\",Tabfill!$U$123,\"\")","v":0}]
[null,null,{"$f":"IF(Tabfill!A124<>\"\",Tabfill!A124,\"\")","v":100575}]
[null,null,null,null,null,null,null,null,null,null,null,null,null,null,null,null,null,{"$f":"IF(Tabfill!$B$124<>\"\",Tabfill!$B$124,\"\")","v":130.4},null,null,null,null,null,null,null,{"$f":"IF(Tabfill!$C$124<>\"\",Tabfill!$C$124,\"\")","v":118},null,null,null,null,null,null,null,{"$f":"IF(Tabfill!$D$124<>\"\",Tabfill!$D$124,\"\")","v":43.4},null,null,null,null,null,null,null,{"$f":"IF(Tabfill!$E$124<>\"\",Tabfill!$E$124,\"\")","v":36},null,null,null,null,null,null,null,{"$f":"IF(Tabfill!$F$124<>\"\",Tabfill!$F$124,\"\")","v":118},null,null,null,null,null,null,null,{"$f":"IF(Tabfill!$G$124<>\"\",Tabfill!$G$124,\"\")","v":91},null,null,null,null,null,null,null,{"$f":"IF(Tabfill!$I$124<>\"\",Tabfill!$I$124,\"\")","v":10},null,null,null,null,null,null,null,{"$f":"IF(Tabfill!$J$124<>\"\",Tabfill!$J$124,\"\")","v":12.399999999999999},null,null,null,null,null,null,null,{"$f":"IF(Tabfill!$K$124<>\"\",Tabfill!$K$124,\"\")","v":36},null,null,null,null,null,null,null,{"$f":"IF(Tabfill!$L$124<>\"\",Tabfill!$L$124,\"\")","v":58.4},null,null,null,null,null,null,null,{"$f":"IF(Tabfill!$M$124<>\"\",Tabfill!$M$124,\"\")","v":32.6},null,null,null,null,null,null,null,{"$f":"IF(Tabfill!$O$124<>\"\",Tabfill!$O$124,\"\")","v":0},null,null,null,null,null,null,null,{"$f":"IF(Tabfill!$P$124<>\"\",Tabfill!$P$124,\"\")","v":9},null,null,null,null,null,null,null,{"$f":"IF(Tabfill!$R$124<>\"\",Tabfill!$R$124,\"\")","v":43.4},null,null,null,null,null,null,null,{"$f":"IF(Tabfill!$S$124<>\"\",Tabfill!$S$124,\"\")","v":31},null,null,null,null,null,null,null,{"$f":"IF(Tabfill!$T$124<>\"\",Tabfill!$T$124,\"\")","v":31},null,null,null,null,null,null,null,{"$f":"IF(Tabfill!$U$124<>\"\",Tabfill!$U$124,\"\")","v":0}]
[null,null,{"$f":"IF(Tabfill!A125<>\"\",Tabfill!A125,\"\")","v":100600}]
[null,null,null,null,null,null,null,null,null,null,null,null,null,null,null,null,null,{"$f":"IF(Tabfill!$B$125<>\"\",Tabfill!$B$125,\"\")","v":140.4},null,null,null,null,null,null,null,{"$f":"IF(Tabfill!$C$125<>\"\",Tabfill!$C$125,\"\")","v":126},null,null,null,null,null,null,null,{"$f":"IF(Tabfill!$D$125<>\"\",Tabfill!$D$125,\"\")","v":50.4},null,null,null,null,null,null,null,{"$f":"IF(Tabfill!$E$125<>\"\",Tabfill!$E$125,\"\")","v":37},null,null,null,null,null,null,null,{"$f":"IF(Tabfill!$F$125<>\"\",Tabfill!$F$125,\"\")","v":126},null,null,null,null,null,null,null,{"$f":"IF(Tabfill!$G$125<>\"\",Tabfill!$G$125,\"\")","v":97},null,null,null,null,null,null,null,{"$f":"IF(Tabfill!$I$125<>\"\",Tabfill!$I$125,\"\")","v":3},null,null,null,null,null,null,null,{"$f":"IF(Tabfill!$J$125<>\"\",Tabfill!$J$125,\"\")","v":14.399999999999999},null,null,null,null,null,null,null,{"$f":"IF(Tabfill!$K$125<>\"\",Tabfill!$K$125,\"\")","v":37},null,null,null,null,null,null,null,{"$f":"IF(Tabfill!$L$125<>\"\",Tabfill!$L$125,\"\")","v":54.4},null,null,null,null,null,null,null,{"$f":"IF(Tabfill!$M$125<>\"\",Tabfill!$M$125,\"\")","v":42.6},null,null,null,null,null,null,null,{"$f":"IF(Tabfill!$O$125<>\"\",Tabfill!$O$125,\"\")","v":0},null,null,null,null,null,null,null,{"$f":"IF(Tabfill!$P$125<>\"\",Tabfill!$P$125,\"\")","v":3},null,null,null,null,null,null,null,{"$f":"IF(Tabfill!$R$125<>\"\",Tabfill!$R$125,\"\")","v":50.4},null,null,null,null,null,null,null,{"$f":"IF(Tabfill!$S$125<>\"\",Tabfill!$S$125,\"\")","v":36},null,null,null,null,null,null,null,{"$f":"IF(Tabfill!$T$125<>\"\",Tabfill!$T$125,\"\")","v":36},null,null,null,null,null,null,null,{"$f":"IF(Tabfill!$U$125<>\"\",Tabfill!$U$125,\"\")","v":0}]
[null,null,{"$f":"IF(Tabfill!A126<>\"\",Tabfill!A126,\"\")","v":100625}]
[null,null,null,null,null,null,null,null,null,null,null,null,null,null,null,null,null,{"$f":"IF(Tabfill!$B$126<>\"\",Tabfill!$B$126,\"\")","v":162.80000000000001},null,null,null,null,null,null,null,{"$f":"IF(Tabfill!$C$126<>\"\",Tabfill!$C$126,\"\")","v":148},null,null,null,null,null,null,null,{"$f":"IF(Tabfill!$D$126<>\"\",Tabfill!$D$126,\"\")","v":51.8},null,null,null,null,null,null,null,{"$f":"IF(Tabfill!$E$126<>\"\",Tabfill!$E$126,\"\")","v":41},null,null,null,null,null,null,null,{"$f":"IF(Tabfill!$F$126<>\"\",Tabfill!$F$126,\"\")","v":148},null,null,null,null,null,null,null,{"$f":"IF(Tabfill!$G$126<>\"\",Tabfill!$G$126,\"\")","v":114},null,null,null,null,null,null,null,{"$f":"IF(Tabfill!$I$126<>\"\",Tabfill!$I$126,\"\")","v":5},null,null,null,null,null,null,null,{"$f":"IF(Tabfill!$J$126<>\"\",Tabfill!$J$126,\"\")","v":14.799999999999997},null,null,null,null,null,null,null,{"$f":"IF(Tabfill!$K$126<>\"\",Tabfill!$K$126,\"\")","v":41},null,null,null,null,null,null,null,{"$f":"IF(Tabfill!$L$126<>\"\",Tabfill!$L$126,\"\")","v":60.8},null,null,null,null,null,null,null,{"$f":"IF(Tabfill!$M$126<>\"\",Tabfill!$M$126,\"\")","v":53.2},null,null,null,null,null,null,null,{"$f":"IF(Tabfill!$O$126<>\"\",Tabfill!$O$126,\"\")","v":0},null,null,null,null,null,null,null,{"$f":"IF(Tabfill!$P$126<>\"\",Tabfill!$P$126,\"\")","v":5},null,null,null,null,null,null,null,{"$f":"IF(Tabfill!$R$126<>\"\",Tabfill!$R$126,\"\")","v":51.8},null,null,null,null,null,null,null,{"$f":"IF(Tabfill!$S$126<>\"\",Tabfill!$S$126,\"\")","v":37},null,null,null,null,null,null,null,{"$f":"IF(Tabfill!$T$126<>\"\",Tabfill!$T$126,\"\")","v":37},null,null,null,null,null,null,null,{"$f":"IF(Tabfill!$U$126<>\"\",Tabfill!$U$126,\"\")","v":0}]
[null,null,{"$f":"IF(Tabfill!A127<>\"\",Tabfill!A127,\"\")","v":100650}]
[null,null,null,null,null,null,null,null,null,null,null,null,null,null,null,null,null,{"$f":"IF(Tabfill!$B$127<>\"\",Tabfill!$B$127,\"\")","v":24.799999999999997},null,null,null,null,null,null,null,{"$f":"IF(Tabfill!$C$127<>\"\",Tabfill!$C$127,\"\")","v":22},null,null,null,null,null,null,null,{"$f":"IF(Tabfill!$D$127<>\"\",Tabfill!$D$127,\"\")","v":9.7999999999999989},null,null,null,null,null,null,null,{"$f":"IF(Tabfill!$E$127<>\"\",Tabfill!$E$127,\"\")","v":8},null,null,null,null,null,null,null,{"$f":"IF(Tabfill!$F$127<>\"\",Tabfill!$F$127,\"\")","v":22},null,null,null,null,null,null,null,{"$f":"IF(Tabfill!$G$127<>\"\",Tabfill!$G$127,\"\")","v":17},null,null,null,null,null,null,null,{"$f":"IF(Tabfill!$I$127<>\"\",Tabfill!$I$127,\"\")","v":2},null,null,null,null,null,null,null,{"$f":"IF(Tabfill!$J$127<>\"\",Tabfill!$J$127,\"\")","v":2.7999999999999989},null,null,null,null,null,null,null,{"$f":"IF(Tabfill!$K$127<>\"\",Tabfill!$K$127,\"\")","v":8},null,null,null,null,null,null,null,{"$f":"IF(Tabfill!$L$127<>\"\",Tabfill!$L$127,\"\")","v":12.799999999999999},null,null,null,null,null,null,null,{"$f":"IF(Tabfill!$M$127<>\"\",Tabfill!$M$127,\"\")","v":4.2000000000000011},null,null,null,null,null,null,null,{"$f":"IF(Tabfill!$O$127<>\"\",Tabfill!$O$127,\"\")","v":0},null,null,null,null,null,null,null,{"$f":"IF(Tabfill!$P$127<>\"\",Tabfill!$P$127,\"\")","v":10},null,null,null,null,null,null,null,{"$f":"IF(Tabfill!$R$127<>\"\",Tabfill!$R$127,\"\")","v":9.7999999999999989},null,null,null,null,null,null,null,{"$f":"IF(Tabfill!$S$127<>\"\",Tabfill!$S$127,\"\")","v":7},null,null,null,null,null,null,null,{"$f":"IF(Tabfill!$T$127<>\"\",Tabfill!$T$127,\"\")","v":7},null,null,null,null,null,null,null,{"$f":"IF(Tabfill!$U$127<>\"\",Tabfill!$U$127,\"\")","v":0}]
[null,null,{"$f":"IF(Tabfill!A128<>\"\",Tabfill!A128,\"\")","v":100653.92}]
[null,null,null,null,null,null,null,null,null,null,null,null,null,null,null,null,null,{"$f":"IF(Tabfill!$B$128<>\"\",Tabfill!$B$128,\"\")","v":150},null,null,null,null,null,null,null,{"$f":"IF(Tabfill!$C$128<>\"\",Tabfill!$C$128,\"\")","v":136},null,null,null,null,null,null,null,{"$f":"IF(Tabfill!$D$128<>\"\",Tabfill!$D$128,\"\")","v":49},null,null,null,null,null,null,null,{"$f":"IF(Tabfill!$E$128<>\"\",Tabfill!$E$128,\"\")","v":42},null,null,null,null,null,null,null,{"$f":"IF(Tabfill!$F$128<>\"\",Tabfill!$F$128,\"\")","v":136},null,null,null,null,null,null,null,{"$f":"IF(Tabfill!$G$128<>\"\",Tabfill!$G$128,\"\")","v":105},null,null,null,null,null,null,null,{"$f":"IF(Tabfill!$I$128<>\"\",Tabfill!$I$128,\"\")","v":7},null,null,null,null,null,null,null,{"$f":"IF(Tabfill!$J$128<>\"\",Tabfill!$J$128,\"\")","v":14},null,null,null,null,null,null,null,{"$f":"IF(Tabfill!$K$128<>\"\",Tabfill!$K$128,\"\")","v":42},null,null,null,null,null,null,null,{"$f":"IF(Tabfill!$L$128<>\"\",Tabfill!$L$128,\"\")","v":63},null,null,null,null,null,null,null,{"$f":"IF(Tabfill!$M$128<>\"\",Tabfill!$M$128,\"\")","v":42},null,null,null,null,null,null,null,{"$f":"IF(Tabfill!$O$128<>\"\",Tabfill!$O$128,\"\")","v":0},null,null,null,null,null,null,null,{"$f":"IF(Tabfill!$P$128<>\"\",Tabfill!$P$128,\"\")","v":1},null,null,null,null,null,null,null,{"$f":"IF(Tabfill!$R$128<>\"\",Tabfill!$R$128,\"\")","v":49},null,null,null,null,null,null,null,{"$f":"IF(Tabfill!$S$128<>\"\",Tabfill!$S$128,\"\")","v":35},null,null,null,null,null,null,null,{"$f":"IF(Tabfill!$T$128<>\"\",Tabfill!$T$128,\"\")","v":35},null,null,null,null,null,null,null,{"$f":"IF(Tabfill!$U$128<>\"\",Tabfill!$U$128,\"\")","v":0}]
[null,null,{"$f":"IF(Tabfill!A129<>\"\",Tabfill!A129,\"\")","v":100675}]
[null,null,null,null,null,null,null,null,null,null,null,null,null,null,null,null,null,{"$f":"IF(Tabfill!$B$129<>\"\",Tabfill!$B$129,\"\")","v":182.6},null,null,null,null,null,null,null,{"$f":"IF(Tabfill!$C$129<>\"\",Tabfill!$C$129,\"\")","v":163},null,null,null,null,null,null,null,{"$f":"IF(Tabfill!$D$129<>\"\",Tabfill!$D$129,\"\")","v":68.599999999999994},null,null,null,null,null,null,null,{"$f":"IF(Tabfill!$E$129<>\"\",Tabfill!$E$129,\"\")","v":43},null,null,null,null,null,null,null,{"$f":"IF(Tabfill!$F$129<>\"\",Tabfill!$F$129,\"\")","v":163},null,null,null,null,null,null,null,{"$f":"IF(Tabfill!$G$129<>\"\",Tabfill!$G$129,\"\")","v":125},null,null,null,null,null,null,null,{"$f":"IF(Tabfill!$I$129<>\"\",Tabfill!$I$129,\"\")","v":4},null,null,null,null,null,null,null,{"$f":"IF(Tabfill!$J$129<>\"\",Tabfill!$J$129,\"\")","v":19.599999999999994},null,null,null,null,null,null,null,{"$f":"IF(Tabfill!$K$129<>\"\",Tabfill!$K$129,\"\")","v":43},null,null,null,null,null,null,null,{"$f":"IF(Tabfill!$L$129<>\"\",Tabfill!$L$129,\"\")","v":66.599999999999994},null,null,null,null,null,null,null,{"$f":"IF(Tabfill!$M$129<>\"\",Tabfill!$M$129,\"\")","v":58.400000000000006},null,null,null,null,null,null,null,{"$f":"IF(Tabfill!$O$129<>\"\",Tabfill!$O$129,\"\")","v":0},null,null,null,null,null,null,null,{"$f":"IF(Tabfill!$P$129<>\"\",Tabfill!$P$129,\"\")","v":3},null,null,null,null,null,null,null,{"$f":"IF(Tabfill!$R$129<>\"\",Tabfill!$R$129,\"\")","v":68.599999999999994},null,null,null,null,null,null,null,{"$f":"IF(Tabfill!$S$129<>\"\",Tabfill!$S$129,\"\")","v":49},null,null,null,null,null,null,null,{"$f":"IF(Tabfill!$T$129<>\"\",Tabfill!$T$129,\"\")","v":49},null,null,null,null,null,null,null,{"$f":"IF(Tabfill!$U$129<>\"\",Tabfill!$U$129,\"\")","v":0}]
[null,null,{"$f":"IF(Tabfill!A130<>\"\",Tabfill!A130,\"\")","v":100700}]
[null,null,null,null,null,null,null,null,null,null,null,null,null,null,null,null,null,{"$f":"IF(Tabfill!$B$130<>\"\",Tabfill!$B$130,\"\")","v":240.39999999999998},null,null,null,null,null,null,null,{"$f":"IF(Tabfill!$C$130<>\"\",Tabfill!$C$130,\"\")","v":218},null,null,null,null,null,null,null,{"$f":"IF(Tabfill!$D$130<>\"\",Tabfill!$D$130,\"\")","v":78.399999999999991},null,null,null,null,null,null,null,{"$f":"IF(Tabfill!$E$130<>\"\",Tabfill!$E$130,\"\")","v":40},null,null,null,null,null,null,null,{"$f":"IF(Tabfill!$F$130<>\"\",Tabfill!$F$130,\"\")","v":218},null,null,null,null,null,null,null,{"$f":"IF(Tabfill!$G$130<>\"\",Tabfill!$G$130,\"\")","v":168},null,null,null,null,null,null,null,{"$f":"IF(Tabfill!$I$130<>\"\",Tabfill!$I$130,\"\")","v":1},null,null,null,null,null,null,null,{"$f":"IF(Tabfill!$J$130<>\"\",Tabfill!$J$130,\"\")","v":22.399999999999991},null,null,null,null,null,null,null,{"$f":"IF(Tabfill!$K$130<>\"\",Tabfill!$K$130,\"\")","v":40},null,null,null,null,null,null,null,{"$f":"IF(Tabfill!$L$130<>\"\",Tabfill!$L$130,\"\")","v":63.399999999999991},null,null,null,null,null,null,null,{"$f":"IF(Tabfill!$M$130<>\"\",Tabfill!$M$130,\"\")","v":104.60000000000001},null,null,null,null,null,null,null,{"$f":"IF(Tabfill!$O$130<>\"\",Tabfill!$O$130,\"\")","v":0},null,null,null,null,null,null,null,{"$f":"IF(Tabfill!$P$130<>\"\",Tabfill!$P$130,\"\")","v":0},null,null,null,null,null,null,null,{"$f":"IF(Tabfill!$R$130<>\"\",Tabfill!$R$130,\"\")","v":78.399999999999991},null,null,null,null,null,null,null,{"$f":"IF(Tabfill!$S$130<>\"\",Tabfill!$S$130,\"\")","v":56},null,null,null,null,null,null,null,{"$f":"IF(Tabfill!$T$130<>\"\",Tabfill!$T$130,\"\")","v":56},null,null,null,null,null,null,null,{"$f":"IF(Tabfill!$U$130<>\"\",Tabfill!$U$130,\"\")","v":0}]
[null,null,{"$f":"IF(Tabfill!A131<>\"\",Tabfill!A131,\"\")","v":100725}]
[null,null,null,null,null,null,null,null,null,null,null,null,null,null,null,null,null,{"$f":"IF(Tabfill!$B$131<>\"\",Tabfill!$B$131,\"\")","v":399.6},null,null,null,null,null,null,null,{"$f":"IF(Tabfill!$C$131<>\"\",Tabfill!$C$131,\"\")","v":376},null,null,null,null,null,null,null,{"$f":"IF(Tabfill!$D$131<>\"\",Tabfill!$D$131,\"\")","v":82.6},null,null,null,null,null,null,null,{"$f":"IF(Tabfill!$E$131<>\"\",Tabfill!$E$131,\"\")","v":37},null,null,null,null,null,null,null,{"$f":"IF(Tabfill!$F$131<>\"\",Tabfill!$F$131,\"\")","v":376},null,null,null,null,null,null,null,{"$f":"IF(Tabfill!$G$131<>\"\",Tabfill!$G$131,\"\")","v":289},null,null,null,null,null,null,null,{"$f":"IF(Tabfill!$I$131<>\"\",Tabfill!$I$131,\"\")","v":0},null,null,null,null,null,null,null,{"$f":"IF(Tabfill!$J$131<>\"\",Tabfill!$J$131,\"\")","v":23.599999999999994},null,null,null,null,null,null,null,{"$f":"IF(Tabfill!$K$131<>\"\",Tabfill!$K$131,\"\")","v":37},null,null,null,null,null,null,null,{"$f":"IF(Tabfill!$L$131<>\"\",Tabfill!$L$131,\"\")","v":60.599999999999994},null,null,null,null,null,null,null,{"$f":"IF(Tabfill!$M$131<>\"\",Tabfill!$M$131,\"\")","v":228.4},null,null,null,null,null,null,null,{"$f":"IF(Tabfill!$O$131<>\"\",Tabfill!$O$131,\"\")","v":0},null,null,null,null,null,null,null,{"$f":"IF(Tabfill!$P$131<>\"\",Tabfill!$P$131,\"\")","v":0},null,null,null,null,null,null,null,{"$f":"IF(Tabfill!$R$131<>\"\",Tabfill!$R$131,\"\")","v":82.6},null,null,null,null,null,null,null,{"$f":"IF(Tabfill!$S$131<>\"\",Tabfill!$S$131,\"\")","v":59},null,null,null,null,null,null,null,{"$f":"IF(Tabfill!$T$131<>\"\",Tabfill!$T$131,\"\")","v":59},null,null,null,null,null,null,null,{"$f":"IF(Tabfill!$U$131<>\"\",Tabfill!$U$131,\"\")","v":0}]
[null,null,{"$f":"IF(Tabfill!A132<>\"\",Tabfill!A132,\"\")","v":100750}]
[null,null,null,null,null,null,null,null,null,null,null,null,null,null,null,null,null,{"$f":"IF(Tabfill!$B$132<>\"\",Tabfill!$B$132,\"\")","v":589.4},null,null,null,null,null,null,null,{"$f":"IF(Tabfill!$C$132<>\"\",Tabfill!$C$132,\"\")","v":557},null,null,null,null,null,null,null,{"$f":"IF(Tabfill!$D$132<>\"\",Tabfill!$D$132,\"\")","v":113.39999999999999},null,null,null,null,null,null,null,{"$f":"IF(Tabfill!$E$132<>\"\",Tabfill!$E$132,\"\")","v":41},null,null,null,null,null,null,null,{"$f":"IF(Tabfill!$F$132<>\"\",Tabfill!$F$132,\"\")","v":557},null,null,null,null,null,null,null,{"$f":"IF(Tabfill!$G$132<>\"\",Tabfill!$G$132,\"\")","v":428},null,null,null,null,null,null,null,{"$f":"IF(Tabfill!$I$132<>\"\",Tabfill!$I$132,\"\")","v":78},null,null,null,null,null,null,null,{"$f":"IF(Tabfill!$J$132<>\"\",Tabfill!$J$132,\"\")","v":32.399999999999991},null,null,null,null,null,null,null,{"$f":"IF(Tabfill!$K$132<>\"\",Tabfill!$K$132,\"\")","v":41},null,null,null,null,null,null,null,{"$f":"IF(Tabfill!$L$132<>\"\",Tabfill!$L$132,\"\")","v":151.39999999999998},null,null,null,null,null,null,null,{"$f":"IF(Tabfill!$M$132<>\"\",Tabfill!$M$132,\"\")","v":276.60000000000002},null,null,null,null,null,null,null,{"$f":"IF(Tabfill!$O$132<>\"\",Tabfill!$O$132,\"\")","v":0},null,null,null,null,null,null,null,{"$f":"IF(Tabfill!$P$132<>\"\",Tabfill!$P$132,\"\")","v":77},null,null,null,null,null,null,null,{"$f":"IF(Tabfill!$R$132<>\"\",Tabfill!$R$132,\"\")","v":113.39999999999999},null,null,null,null,null,null,null,{"$f":"IF(Tabfill!$S$132<>\"\",Tabfill!$S$132,\"\")","v":81},null,null,null,null,null,null,null,{"$f":"IF(Tabfill!$T$132<>\"\",Tabfill!$T$132,\"\")","v":81},null,null,null,null,null,null,null,{"$f":"IF(Tabfill!$U$132<>\"\",Tabfill!$U$132,\"\")","v":0}]
[null,null,{"$f":"IF(Tabfill!A133<>\"\",Tabfill!A133,\"\")","v":100775}]
[null,null,null,null,null,null,null,null,null,null,null,null,null,null,null,null,null,{"$f":"IF(Tabfill!$B$133<>\"\",Tabfill!$B$133,\"\")","v":834.6},null,null,null,null,null,null,null,{"$f":"IF(Tabfill!$C$133<>\"\",Tabfill!$C$133,\"\")","v":793},null,null,null,null,null,null,null,{"$f":"IF(Tabfill!$D$133<>\"\",Tabfill!$D$133,\"\")","v":145.6},null,null,null,null,null,null,null,{"$f":"IF(Tabfill!$E$133<>\"\",Tabfill!$E$133,\"\")","v":49},null,null,null,null,null,null,null,{"$f":"IF(Tabfill!$F$133<>\"\",Tabfill!$F$133,\"\")","v":793},null,null,null,null,null,null,null,{"$f":"IF(Tabfill!$G$133<>\"\",Tabfill!$G$133,\"\")","v":610},null,null,null,null,null,null,null,{"$f":"IF(Tabfill!$I$133<>\"\",Tabfill!$I$133,\"\")","v":217},null,null,null,null,null,null,null,{"$f":"IF(Tabfill!$J$133<>\"\",Tabfill!$J$133,\"\")","v":41.599999999999994},null,null,null,null,null,null,null,{"$f":"IF(Tabfill!$K$133<>\"\",Tabfill!$K$133,\"\")","v":49},null,null,null,null,null,null,null,{"$f":"IF(Tabfill!$L$133<>\"\",Tabfill!$L$133,\"\")","v":307.60000000000002},null,null,null,null,null,null,null,{"$f":"IF(Tabfill!$M$133<>\"\",Tabfill!$M$133,\"\")","v":302.39999999999998},null,null,null,null,null,null,null,{"$f":"IF(Tabfill!$O$133<>\"\",Tabfill!$O$133,\"\")","v":0},null,null,null,null,null,null,null,{"$f":"IF(Tabfill!$P$133<>\"\",Tabfill!$P$133,\"\")","v":216},null,null,null,null,null,null,null,{"$f":"IF(Tabfill!$R$133<>\"\",Tabfill!$R$133,\"\")","v":145.6},null,null,null,null,null,null,null,{"$f":"IF(Tabfill!$S$133<>\"\",Tabfill!$S$133,\"\")","v":104},null,null,null,null,null,null,null,{"$f":"IF(Tabfill!$T$133<>\"\",Tabfill!$T$133,\"\")","v":104},null,null,null,null,null,null,null,{"$f":"IF(Tabfill!$U$133<>\"\",Tabfill!$U$133,\"\")","v":0}]
[null,null,{"$f":"IF(Tabfill!A134<>\"\",Tabfill!A134,\"\")","v":100800}]
[null,null,null,null,null,null,null,null,null,null,null,null,null,null,null,null,null,{"$f":"IF(Tabfill!$B$134<>\"\",Tabfill!$B$134,\"\")","v":583.20000000000005},null,null,null,null,null,null,null,{"$f":"IF(Tabfill!$C$134<>\"\",Tabfill!$C$134,\"\")","v":552},null,null,null,null,null,null,null,{"$f":"IF(Tabfill!$D$134<>\"\",Tabfill!$D$134,\"\")","v":109.19999999999999},null,null,null,null,null,null,null,{"$f":"IF(Tabfill!$E$134<>\"\",Tabfill!$E$134,\"\")","v":50},null,null,null,null,null,null,null,{"$f":"IF(Tabfill!$F$134<>\"\",Tabfill!$F$134,\"\")","v":552},null,null,null,null,null,null,null,{"$f":"IF(Tabfill!$G$134<>\"\",Tabfill!$G$134,\"\")","v":425},null,null,null,null,null,null,null,{"$f":"IF(Tabfill!$I$134<>\"\",Tabfill!$I$134,\"\")","v":139},null,null,null,null,null,null,null,{"$f":"IF(Tabfill!$J$134<>\"\",Tabfill!$J$134,\"\")","v":31.199999999999989},null,null,null,null,null,null,null,{"$f":"IF(Tabfill!$K$134<>\"\",Tabfill!$K$134,\"\")","v":50},null,null,null,null,null,null,null,{"$f":"IF(Tabfill!$L$134<>\"\",Tabfill!$L$134,\"\")","v":220.2},null,null,null,null,null,null,null,{"$f":"IF(Tabfill!$M$134<>\"\",Tabfill!$M$134,\"\")","v":204.8},null,null,null,null,null,null,null,{"$f":"IF(Tabfill!$O$134<>\"\",Tabfill!$O$134,\"\")","v":0},null,null,null,null,null,null,null,{"$f":"IF(Tabfill!$P$134<>\"\",Tabfill!$P$134,\"\")","v":138},null,null,null,null,null,null,null,{"$f":"IF(Tabfill!$R$134<>\"\",Tabfill!$R$134,\"\")","v":109.19999999999999},null,null,null,null,null,null,null,{"$f":"IF(Tabfill!$S$134<>\"\",Tabfill!$S$134,\"\")","v":78},null,null,null,null,null,null,null,{"$f":"IF(Tabfill!$T$134<>\"\",Tabfill!$T$134,\"\")","v":78},null,null,null,null,null,null,null,{"$f":"IF(Tabfill!$U$134<>\"\",Tabfill!$U$134,\"\")","v":0}]
[null,null,{"$f":"IF(Tabfill!A135<>\"\",Tabfill!A135,\"\")","v":100825}]
[null,null,null,null,null,null,null,null,null,null,null,null,null,null,null,null,null,{"$f":"IF(Tabfill!$B$135<>\"\",Tabfill!$B$135,\"\")","v":0},null,null,null,null,null,null,null,{"$f":"IF(Tabfill!$C$135<>\"\",Tabfill!$C$135,\"\")","v":0},null,null,null,null,null,null,null,{"$f":"IF(Tabfill!$D$135<>\"\",Tabfill!$D$135,\"\")","v":0},null,null,null,null,null,null,null,{"$f":"IF(Tabfill!$E$135<>\"\",Tabfill!$E$135,\"\")","v":0},null,null,null,null,null,null,null,{"$f":"IF(Tabfill!$F$135<>\"\",Tabfill!$F$135,\"\")","v":0},null,null,null,null,null,null,null,{"$f":"IF(Tabfill!$G$135<>\"\",Tabfill!$G$135,\"\")","v":0},null,null,null,null,null,null,null,{"$f":"IF(Tabfill!$I$135<>\"\",Tabfill!$I$135,\"\")","v":0},null,null,null,null,null,null,null,{"$f":"IF(Tabfill!$J$135<>\"\",Tabfill!$J$135,\"\")","v":""},null,null,null,null,null,null,null,{"$f":"IF(Tabfill!$K$135<>\"\",Tabfill!$K$135,\"\")","v":""},null,null,null,null,null,null,null,{"$f":"IF(Tabfill!$L$135<>\"\",Tabfill!$L$135,\"\")","v":0},null,null,null,null,null,null,null,{"$f":"IF(Tabfill!$M$135<>\"\",Tabfill!$M$135,\"\")","v":0},null,null,null,null,null,null,null,{"$f":"IF(Tabfill!$O$135<>\"\",Tabfill!$O$135,\"\")","v":0},null,null,null,null,null,null,null,{"$f":"IF(Tabfill!$P$135<>\"\",Tabfill!$P$135,\"\")","v":0},null,null,null,null,null,null,null,{"$f":"IF(Tabfill!$R$135<>\"\",Tabfill!$R$135,\"\")","v":0},null,null,null,null,null,null,null,{"$f":"IF(Tabfill!$S$135<>\"\",Tabfill!$S$135,\"\")","v":0},null,null,null,null,null,null,null,{"$f":"IF(Tabfill!$T$135<>\"\",Tabfill!$T$135,\"\")","v":0},null,null,null,null,null,null,null,{"$f":"IF(Tabfill!$U$135<>\"\",Tabfill!$U$135,\"\")","v":0}]
[null,null,{"$f":"IF(Tabfill!A136<>\"\",Tabfill!A136,\"\")","v":""}]
[null,null,null,null,null,null,null,null,null,null,null,null,null,null,null,null,null,{"$f":"IF(Tabfill!$B$136<>\"\",Tabfill!$B$136,\"\")","v":""},null,null,null,null,null,null,null,{"$f":"IF(Tabfill!$C$136<>\"\",Tabfill!$C$136,\"\")","v":""},null,null,null,null,null,null,null,{"$f":"IF(Tabfill!$D$136<>\"\",Tabfill!$D$136,\"\")","v":""},null,null,null,null,null,null,null,{"$f":"IF(Tabfill!$E$136<>\"\",Tabfill!$E$136,\"\")","v":""},null,null,null,null,null,null,null,{"$f":"IF(Tabfill!$F$136<>\"\",Tabfill!$F$136,\"\")","v":""},null,null,null,null,null,null,null,{"$f":"IF(Tabfill!$G$136<>\"\",Tabfill!$G$136,\"\")","v":""},null,null,null,null,null,null,null,{"$f":"IF(Tabfill!$I$136<>\"\",Tabfill!$I$136,\"\")","v":""},null,null,null,null,null,null,null,{"$f":"IF(Tabfill!$J$136<>\"\",Tabfill!$J$136,\"\")","v":""},null,null,null,null,null,null,null,{"$f":"IF(Tabfill!$K$136<>\"\",Tabfill!$K$136,\"\")","v":""},null,null,null,null,null,null,null,{"$f":"IF(Tabfill!$L$136<>\"\",Tabfill!$L$136,\"\")","v":""},null,null,null,null,null,null,null,{"$f":"IF(Tabfill!$M$136<>\"\",Tabfill!$M$136,\"\")","v":""},null,null,null,null,null,null,null,{"$f":"IF(Tabfill!$O$136<>\"\",Tabfill!$O$136,\"\")","v":""},null,null,null,null,null,null,null,{"$f":"IF(Tabfill!$P$136<>\"\",Tabfill!$P$136,\"\")","v":""},null,null,null,null,null,null,null,{"$f":"IF(Tabfill!$R$136<>\"\",Tabfill!$R$136,\"\")","v":""},null,null,null,null,null,null,null,{"$f":"IF(Tabfill!$S$136<>\"\",Tabfill!$S$136,\"\")","v":""},null,null,null,null,null,null,null,{"$f":"IF(Tabfill!$T$136<>\"\",Tabfill!$T$136,\"\")","v":""},null,null,null,null,null,null,null,{"$f":"IF(Tabfill!$U$136<>\"\",Tabfill!$U$136,\"\")","v":""}]
[null,null,{"$f":"IF(Tabfill!A137<>\"\",Tabfill!A137,\"\")","v":"Subtotals:"}]
[null,null,null,null,null,null,null,null,null,null,null,null,null,null,null,null,null,{"$f":"IF(Tabfill!$B$137<>\"\",Tabfill!$B$137,\"\")","v":4771.6000000000004},null,null,null,null,null,null,null,{"$f":"IF(Tabfill!$C$137<>\"\",Tabfill!$C$137,\"\")","v":4460},null,null,null,null,null,null,null,{"$f":"IF(Tabfill!$D$137<>\"\",Tabfill!$D$137,\"\")","v":1090.5999999999999},null,null,null,null,null,null,null,{"$f":"IF(Tabfill!$E$137<>\"\",Tabfill!$E$137,\"\")","v":758},null,null,null,null,null,null,null,{"$f":"IF(Tabfill!$F$137<>\"\",Tabfill!$F$137,\"\")","v":4460},null,null,null,null,null,null,null,{"$f":"IF(Tabfill!$G$137<>\"\",Tabfill!$G$137,\"\")","v":3432},null,null,null,null,null,null,null,{"$f":"IF(Tabfill!$I$137<>\"\",Tabfill!$I$137,\"\")","v":508},null,null,null,null,null,null,null,{"$f":"IF(Tabfill!$J$137<>\"\",Tabfill!$J$137,\"\")","v":311.59999999999997},null,null,null,null,null,null,null,{"$f":"IF(Tabfill!$K$137<>\"\",Tabfill!$K$137,\"\")","v":758},null,null,null,null,null,null,null,{"$f":"IF(Tabfill!$L$137<>\"\",Tabfill!$L$137,\"\")","v":1577.5999999999997},null,null,null,null,null,null,null,{"$f":"IF(Tabfill!$M$137<>\"\",Tabfill!$M$137,\"\")","v":1854.4000000000003},null,null,null,null,null,null,null,{"$f":"IF(Tabfill!$O$137<>\"\",Tabfill!$O$137,\"\")","v":0},null,null,null,null,null,null,null,{"$f":"IF(Tabfill!$P$137<>\"\",Tabfill!$P$137,\"\")","v":502},null,null,null,null,null,null,null,{"$f":"IF(Tabfill!$R$137<>\"\",Tabfill!$R$137,\"\")","v":1090.5999999999999},null,null,null,null,null,null,null,{"$f":"IF(Tabfill!$S$137<>\"\",Tabfill!$S$137,\"\")","v":779},null,null,null,null,null,null,null,{"$f":"IF(Tabfill!$T$137<>\"\",Tabfill!$T$137,\"\")","v":779},null,null,null,null,null,null,null,{"$f":"IF(Tabfill!$U$137<>\"\",Tabfill!$U$137,\"\")","v":0}]
[null,null,{"$f":"IF(Tabfill!A138<>\"\",Tabfill!A138,\"\")","v":""}]
[null,null,null,null,null,null,null,null,null,null,null,null,null,null,null,null,null,{"$f":"IF(Tabfill!$B$138<>\"\",Tabfill!$B$138,\"\")","v":""},null,null,null,null,null,null,null,{"$f":"IF(Tabfill!$C$138<>\"\",Tabfill!$C$138,\"\")","v":""},null,null,null,null,null,null,null,{"$f":"IF(Tabfill!$D$138<>\"\",Tabfill!$D$138,\"\")","v":""},null,null,null,null,null,null,null,{"$f":"IF(Tabfill!$E$138<>\"\",Tabfill!$E$138,\"\")","v":""},null,null,null,null,null,null,null,{"$f":"IF(Tabfill!$F$138<>\"\",Tabfill!$F$138,\"\")","v":""},null,null,null,null,null,null,null,{"$f":"IF(Tabfill!$G$138<>\"\",Tabfill!$G$138,\"\")","v":""},null,null,null,null,null,null,null,{"$f":"IF(Tabfill!$I$138<>\"\",Tabfill!$I$138,\"\")","v":""},null,null,null,null,null,null,null,{"$f":"IF(Tabfill!$J$138<>\"\",Tabfill!$J$138,\"\")","v":""},null,null,null,null,null,null,null,{"$f":"IF(Tabfill!$K$138<>\"\",Tabfill!$K$138,\"\")","v":""},null,null,null,null,null,null,null,{"$f":"IF(Tabfill!$L$138<>\"\",Tabfill!$L$138,\"\")","v":""},null,null,null,null,null,null,null,{"$f":"IF(Tabfill!$M$138<>\"\",Tabfill!$M$138,\"\")","v":""},null,null,null,null,null,null,null,{"$f":"IF(Tabfill!$O$138<>\"\",Tabfill!$O$138,\"\")","v":""},null,null,null,null,null,null,null,{"$f":"IF(Tabfill!$P$138<>\"\",Tabfill!$P$138,\"\")","v":""},null,null,null,null,null,null,null,{"$f":"IF(Tabfill!$R$138<>\"\",Tabfill!$R$138,\"\")","v":""},null,null,null,null,null,null,null,{"$f":"IF(Tabfill!$S$138<>\"\",Tabfill!$S$138,\"\")","v":""},null,null,null,null,null,null,null,{"$f":"IF(Tabfill!$T$138<>\"\",Tabfill!$T$138,\"\")","v":""},null,null,null,null,null,null,null,{"$f":"IF(Tabfill!$U$138<>\"\",Tabfill!$U$138,\"\")","v":""}]
[null,null,{"$f":"IF(Tabfill!A139<>\"\",Tabfill!A139,\"\")","v":""}]
[null,null,null,null,null,null,null,null,null,null,null,null,null,null,null,null,null,{"$f":"IF(Tabfill!$B$139<>\"\",Tabfill!$B$139,\"\")","v":""},null,null,null,null,null,null,null,{"$f":"IF(Tabfill!$C$139<>\"\",Tabfill!$C$139,\"\")","v":""},null,null,null,null,null,null,null,{"$f":"IF(Tabfill!$D$139<>\"\",Tabfill!$D$139,\"\")","v":""},null,null,null,null,null,null,null,{"$f":"IF(Tabfill!$E$139<>\"\",Tabfill!$E$139,\"\")","v":""},null,null,null,null,null,null,null,{"$f":"IF(Tabfill!$F$139<>\"\",Tabfill!$F$139,\"\")","v":""},null,null,null,null,null,null,null,{"$f":"IF(Tabfill!$G$139<>\"\",Tabfill!$G$139,\"\")","v":""},null,null,null,null,null,null,null,{"$f":"IF(Tabfill!$I$139<>\"\",Tabfill!$I$139,\"\")","v":""},null,null,null,null,null,null,null,{"$f":"IF(Tabfill!$J$139<>\"\",Tabfill!$J$139,\"\")","v":""},null,null,null,null,null,null,null,{"$f":"IF(Tabfill!$K$139<>\"\",Tabfill!$K$139,\"\")","v":""},null,null,null,null,null,null,null,{"$f":"IF(Tabfill!$L$139<>\"\",Tabfill!$L$139,\"\")","v":""},null,null,null,null,null,null,null,{"$f":"IF(Tabfill!$M$139<>\"\",Tabfill!$M$139,\"\")","v":""},null,null,null,null,null,null,null,{"$f":"IF(Tabfill!$O$139<>\"\",Tabfill!$O$139,\"\")","v":""},null,null,null,null,null,null,null,{"$f":"IF(Tabfill!$P$139<>\"\",Tabfill!$P$139,\"\")","v":""},null,null,null,null,null,null,null,{"$f":"IF(Tabfill!$R$139<>\"\",Tabfill!$R$139,\"\")","v":""},null,null,null,null,null,null,null,{"$f":"IF(Tabfill!$S$139<>\"\",Tabfill!$S$139,\"\")","v":""},null,null,null,null,null,null,null,{"$f":"IF(Tabfill!$T$139<>\"\",Tabfill!$T$139,\"\")","v":""},null,null,null,null,null,null,null,{"$f":"IF(Tabfill!$U$139<>\"\",Tabfill!$U$139,\"\")","v":""}]
[null,null,{"$f":"IF(Tabfill!A140<>\"\",Tabfill!A140,\"\")","v":""}]
[null,null,null,null,null,null,null,null,null,null,null,null,null,null,null,null,null,{"$f":"IF(Tabfill!$B$140<>\"\",Tabfill!$B$140,\"\")","v":""},null,null,null,null,null,null,null,{"$f":"IF(Tabfill!$C$140<>\"\",Tabfill!$C$140,\"\")","v":""},null,null,null,null,null,null,null,{"$f":"IF(Tabfill!$D$140<>\"\",Tabfill!$D$140,\"\")","v":""},null,null,null,null,null,null,null,{"$f":"IF(Tabfill!$E$140<>\"\",Tabfill!$E$140,\"\")","v":""},null,null,null,null,null,null,null,{"$f":"IF(Tabfill!$F$140<>\"\",Tabfill!$F$140,\"\")","v":""},null,null,null,null,null,null,null,{"$f":"IF(Tabfill!$G$140<>\"\",Tabfill!$G$140,\"\")","v":""},null,null,null,null,null,null,null,{"$f":"IF(Tabfill!$I$140<>\"\",Tabfill!$I$140,\"\")","v":""},null,null,null,null,null,null,null,{"$f":"IF(Tabfill!$J$140<>\"\",Tabfill!$J$140,\"\")","v":""},null,null,null,null,null,null,null,{"$f":"IF(Tabfill!$K$140<>\"\",Tabfill!$K$140,\"\")","v":""},null,null,null,null,null,null,null,{"$f":"IF(Tabfill!$L$140<>\"\",Tabfill!$L$140,\"\")","v":""},null,null,null,null,null,null,null,{"$f":"IF(Tabfill!$M$140<>\"\",Tabfill!$M$140,\"\")","v":""},null,null,null,null,null,null,null,{"$f":"IF(Tabfill!$O$140<>\"\",Tabfill!$O$140,\"\")","v":""},null,null,null,null,null,null,null,{"$f":"IF(Tabfill!$P$140<>\"\",Tabfill!$P$140,\"\")","v":""},null,null,null,null,null,null,null,{"$f":"IF(Tabfill!$R$140<>\"\",Tabfill!$R$140,\"\")","v":""},null,null,null,null,null,null,null,{"$f":"IF(Tabfill!$S$140<>\"\",Tabfill!$S$140,\"\")","v":""},null,null,null,null,null,null,null,{"$f":"IF(Tabfill!$T$140<>\"\",Tabfill!$T$140,\"\")","v":""},null,null,null,null,null,null,null,{"$f":"IF(Tabfill!$U$140<>\"\",Tabfill!$U$140,\"\")","v":""}]
[null,null,{"$f":"IF(Tabfill!A141<>\"\",Tabfill!A141,\"\")","v":""}]
[null,null,null,null,null,null,null,null,null,null,null,null,null,null,null,null,null,{"$f":"IF(Tabfill!$B$141<>\"\",Tabfill!$B$141,\"\")","v":""},null,null,null,null,null,null,null,{"$f":"IF(Tabfill!$C$141<>\"\",Tabfill!$C$141,\"\")","v":""},null,null,null,null,null,null,null,{"$f":"IF(Tabfill!$D$141<>\"\",Tabfill!$D$141,\"\")","v":""},null,null,null,null,null,null,null,{"$f":"IF(Tabfill!$E$141<>\"\",Tabfill!$E$141,\"\")","v":""},null,null,null,null,null,null,null,{"$f":"IF(Tabfill!$F$141<>\"\",Tabfill!$F$141,\"\")","v":""},null,null,null,null,null,null,null,{"$f":"IF(Tabfill!$G$141<>\"\",Tabfill!$G$141,\"\")","v":""},null,null,null,null,null,null,null,{"$f":"IF(Tabfill!$I$141<>\"\",Tabfill!$I$141,\"\")","v":""},null,null,null,null,null,null,null,{"$f":"IF(Tabfill!$J$141<>\"\",Tabfill!$J$141,\"\")","v":""},null,null,null,null,null,null,null,{"$f":"IF(Tabfill!$K$141<>\"\",Tabfill!$K$141,\"\")","v":""},null,null,null,null,null,null,null,{"$f":"IF(Tabfill!$L$141<>\"\",Tabfill!$L$141,\"\")","v":""},null,null,null,null,null,null,null,{"$f":"IF(Tabfill!$M$141<>\"\",Tabfill!$M$141,\"\")","v":""},null,null,null,null,null,null,null,{"$f":"IF(Tabfill!$O$141<>\"\",Tabfill!$O$141,\"\")","v":""},null,null,null,null,null,null,null,{"$f":"IF(Tabfill!$P$141<>\"\",Tabfill!$P$141,\"\")","v":""},null,null,null,null,null,null,null,{"$f":"IF(Tabfill!$R$141<>\"\",Tabfill!$R$141,\"\")","v":""},null,null,null,null,null,null,null,{"$f":"IF(Tabfill!$S$141<>\"\",Tabfill!$S$141,\"\")","v":""},null,null,null,null,null,null,null,{"$f":"IF(Tabfill!$T$141<>\"\",Tabfill!$T$141,\"\")","v":""},null,null,null,null,null,null,null,{"$f":"IF(Tabfill!$U$141<>\"\",Tabfill!$U$141,\"\")","v":""}]
[null,null,{"$f":"IF(Tabfill!A142<>\"\",Tabfill!A142,\"\")","v":""}]
[]
[null,"","",null,null,null,null,null,null,null,null,null,null,null,null,null,null,"",null,null,null,null,null,null,null,"",null,null,null,null,null,null,null,"",null,null,null,null,null,null,null,"",null,null,null,null,null,null,null,"",null,null,null,null,null,null,null,"",null,null,null,null,null,null,null,"",null,null,null,null,null,null,null,"",null,null,null,null,null,null,null,"",null,null,null,null,null,null,null,null,null,null,null,null,null,null,null,"",null,null,null,null,null,null,null,"",null,null,null,null,null,null,null,null,null,null,null,null,null,null,null,"",null,null,null,null,null,null,null,null,null,null,null,null,null,null,null,null,"",null,null,null,null,null,null,null,null,null,null,null,null,null,null,"",null,null,null,null,null,null,null,"",null,null,null,null,null,null,null,"",null,null,null,null,null,null,null,"",null,null,null,null,null,null,null,"",null,null,null,null,null,null,null,""]
[]
[null,"FILE NO.",null,null,null,null,null,null,{"$f":"IF(ProjectInformation!$B$12<>\"\",ProjectInformation!$B$12,\"\")","v":""},null,null,null,null,null,null,{"$f":"UPPER(ProjectInformation!$B$8)","v":"ENGLISH"},null,null,null,null,null,null,"DESIGN TEAM",null,null,null,null,null,null,null,null,{"$f":"IF(AND(ProjectInformation!$B$3<>\"\",ProjectInformation!$B$4<>\"\",ProjectInformation!$B$5<>\"\"),ProjectInformation!$B$3&\"\\\"&ProjectInformation!$B$4&\"\\\"&ProjectInformation!$B$5,IF(AND(ProjectInformation!$B$3<>\"\",ProjectInformation!$B$4<>\"\"),ProjectInformation!$B$3&\"\\\"&ProjectInformation!$B$4,IF(ProjectInformation!$B$3<>\"\",ProjectInformation!$B$3,\"\")))","v":"WHKS & CO."},null,null,null,null,null,null,null,null,null,null,null,null,null,null,null,null,null,null,null,null,null,null,null,null,null,null,null,null,null,null,null,null,null,null,null,null,null,null,null,null,null,{"$f":"IF(ProjectInformation!$B$6<>\"\",ProjectInformation!$B$6,\"\")","v":"SCOTT"},null,null,null,null,null,null,null,null,null,null,null,null,null,null,null,null,null,null,null,null,null,null,null,null,null,null,null,null,null,null,null,null,null,null,null,null,null,null,null,null,null,null,"COUNTY",null,null,null,null,null,"PROJECT NUMBER",null,null,null,null,null,null,null,null,null,null,null,{"$f":"IF(ProjectInformation!$B$7<>\"\",ProjectInformation!$B$7,\"\")","v":"BRF-461-1(6)--38-82"},null,null,null,null,null,null,null,null,null,null,null,null,null,null,null,null,null,null,null,null,null,null,null,null,null,null,null,null,null,"SHEET NUMBER",null,null,null,null,null,null,null,null,null,"T.2",null,null,null,null,null,{"$f":"IF(GE369<>\"\",\"REVISED\",\"\")","v":""},null,null,null,null,null,{"$f":"IF(ProjectInformation!$B$9<>\"\",ProjectInformation!$B$9,\"\")","v":""}]
[]
[]
[]
[null,"9/1/2016     8:28:08 AM     lfatka     L:\\Dept\\6\\8000.10\\Design\\82461006t01.xlsm"]
[""]
[]
[]
[null,null,null,null,null,null,null,null,null,null,null,null,null,null,null,null,null,null,null,null,null,null,null,null,null,"",null,null,null,null,null,null,null,"",null,null,null,null,null,null,null,"",null,null,null,null,null,null,null,"",null,null,null,null,null,null,null,"",null,null,null,null,null,null,null,"",null,null,null,null,null,null,null,"",null,null,null,null,null,null,null,"",null,null,null,null,null,null,null,null,null,null,null,null,null,null,null,"",null,null,null,null,null,null,null,"",null,null,null,null,null,null,null,null,null,null,null,null,null,null,null,"",null,null,null,null,null,null,null,null,null,null,null,null,null,null,null,null,"",null,null,null,null,null,null,null,null,null,null,null,null,null,null,"",null,null,null,null,null,null,null,null,null,null,null,null,null,null,null,"",null,null,null,null,null,null,null,"",null,null,null,null,null,null,null,"",null,null,null,null,null,null,null,""]
[]
[null,null,"Refer to Standard Road Plans EW-101 and EW-102.",null,null,null,null,null,null,null,null,null,null,null,null,null,null,null,null,null,null,null,null,null,null,null,null,null,null,null,null,null,null,null,null,null,null,null,null,null,null,null,null,null,null,null,null,null,null,null,null,null,null,null,null,null,null,null,"TABULATION OF TEMPLATE QUANTITIES AND ADJUSTMENTS",null,null,null,null,null,null,null,null,null,null,null,null,null,null,null,null,null,null,null,null,null,null,null,null,null,null,null,null,null,null,null,null,null,null,null,null,null,null,null,null,null,null,null,null,null,null,null,null,null,null,null,null,null,null,null,null,null,null,null,null,null,null,null,null,null,null,null,null,null,null,null,null,null,null,null,null,null,null,"107-28"]
[]
[null,null,null,null,null,null,null,null,null,null,null,null,null,null,null,null,null,null,null,null,null,null,null,null,null,null,null,null,null,null,null,null,null,null,null,null,null,null,null,null,null,null,null,null,null,null,null,null,null,null,null,null,null,null,null,null,null,null,null,null,null,null,null,null,null,null,null,null,null,null,null,null,null,null,null,null,null,null,null,null,null,null,null,null,null,null,null,null,null,null,null,null,null,null,null,null,null,null,null,null,null,null,null,null,null,null,null,null,null,null,null,null,null,null,null,null,null,null,null,null,null,null,null,null,null,null,null,null,null,null,null,null,null,null,null,null,null,"2015-04-21"]
[]
[null,null,null,null,null,null,null,null,null,null,null,null,null,null,null,null,null,"Cut",null,null,null,null,null,null,null,null,null,null,null,null,null,null,null,null,null,null,null,null,null,null,null,null,null,null,null,null,null,null,null,null,null,null,null,null,null,null,null,null,null,null,null,null,null,null,null,"Fill",null,null,null,null,null,null,null,null,null,null,null,null,null,null,null,null,null,null,null,null,null,null,null,null,null,null,null,null,null,null,null,null,null,null,null,null,null,null,null,"Checks (EW-102)",null,null,null,null,null,null,null,null,null,null,null,null,null,null,null,"Topsoil"]
[]
[]
[null,null,null,null,null,null,null,null,null,null,null,null,null,null,null,null,null,"[1]",null,null,null,null,null,null,null,"[2]",null,null,null,null,null,null,null,"[3]",null,null,null,null,null,null,null,"[4]",null,null,null,null,null,null,null,"[5]",null,null,null,null,null,null,null,"[6]",null,null,null,null,null,null,null,"[7]",null,null,null,null,null,null,null,"[8]",null,null,null,null,null,null,null,"[9]",null,null,null,null,null,null,null,"[10]",null,null,null,null,null,null,null,"[11]",null,null,null,null,null,null,null,"[12]",null,null,null,null,null,null,null,"[13]",null,null,null,null,null,null,null,"[14]",null,null,null,null,null,null,null,"[15]",null,null,null,null,null,null,null,"[16]",null,null,null,null,null,null,null,"[17]",null,null,null,null,null,null,null,"[18]",null,null,null,null,null,null,null,"[19]",null,null,null,null,null,null,null,"[20]",null,null,null,null,null,null,null,"[21]",null,null,null,null,null,null,null,"[22]"]
[]
[]
[null,null,null,null,null,null,null,null,null,null,null,null,null,null,null,null,null,{"$f":"IF('107_28'!$R$15<>\"\",'107_28'!$R$15,\"\")","v":""},null,null,null,null,null,null,null,{"$f":"IF('107_28'!$Z$15<>\"\",'107_28'!$Z$15,\"\")","v":""},null,null,null,null,null,null,null,{"$f":"IF('107_28'!$AH$15<>\"\",'107_28'!$AH$15,\"\")","v":""},null,null,null,null,null,null,null,{"$f":"IF('107_28'!$AP$15<>\"\",'107_28'!$AP$15,\"\")","v":""},null,null,null,null,null,null,null,{"$f":"IF('107_28'!$AX$15<>\"\",'107_28'!$AX$15,\"\")","v":""},null,null,null,null,null,null,null,{"$f":"IF('107_28'!$BF$15<>\"\",'107_28'!$BF$15,\"\")","v":""},null,null,null,null,null,null,null,{"$f":"IF('107_28'!$BN$15<>\"\",'107_28'!$BN$15,\"\")","v":""},null,null,null,null,null,null,null,{"$f":"IF('107_28'!$BV$15<>\"\",'107_28'!$BV$15,\"\")","v":""},null,null,null,null,null,null,null,{"$f":"IF('107_28'!$CD$15<>\"\",'107_28'!$CD$15,\"\")","v":""},null,null,null,null,null,null,null,{"$f":"IF('107_28'!$CL$15<>\"\",'107_28'!$CL$15,\"\")","v":""},null,null,null,null,null,null,null,{"$f":"IF('107_28'!$CT$15<>\"\",'107_28'!$CT$15,\"\")","v":""},null,null,null,null,null,null,null,{"$f":"IF('107_28'!$DB$15<>\"\",'107_28'!$DB$15,\"\")","v":""},null,null,null,null,null,null,null,{"$f":"IF('107_28'!$DJ$15<>\"\",'107_28'!$DJ$15,\"\")","v":""},null,null,null,null,null,null,null,{"$f":"IF('107_28'!$DR$15<>\"\",'107_28'!$DR$15,\"\")","v":""},null,null,null,null,null,null,null,{"$f":"IF('107_28'!$DZ$15<>\"\",'107_28'!$DZ$15,\"\")","v":""},null,null,null,null,null,null,null,{"$f":"IF('107_28'!$EH$15<>\"\",'107_28'!$EH$15,\"\")","v":""},null,null,null,null,null,null,null,{"$f":"IF('107_28'!$EP$15<>\"\",'107_28'!$EP$15,\"\")","v":""},null,null,null,null,null,null,null,{"$f":"IF('107_28'!$EX$15<>\"\",'107_28'!$EX$15,\"\")","v":""},null,null,null,null,null,null,null,{"$f":"IF('107_28'!$FF$15<>\"\",'107_28'!$FF$15,\"\")","v":""},null,null,null,null,null,null,null,{"$f":"IF('107_28'!$FN$15<>\"\",'107_28'!$FN$15,\"\")","v":""},null,null,null,null,null,null,null,{"$f":"IF('107_28'!$FV$15<>\"\",'107_28'!$FV$15,\"\")","v":""},null,null,null,null,null,null,null,{"$f":"IF('107_28'!$GD$15<>\"\",'107_28'!$GD$15,\"\")","v":""}]
[]
[]
[]
[null,null,{"$f":"IF(Tabfill!A1<>\"\",Tabfill!A1,\"\")","v":"Station"},null,null,null,null,null,null,null,null,null,null,null,null,null,null,{"$f":"IF(Tabfill!$B$1<>\"\",Tabfill!$B$1,\"\")","v":"Template Cut\nVolume"},null,null,null,null,null,null,null,{"$f":"IF(Tabfill!$C$1<>\"\",Tabfill!$C$1,\"\")","v":"Template\nClass 10\nVolume"},null,null,null,null,null,null,null,{"$f":"IF(Tabfill!$D$1<>\"\",Tabfill!$D$1,\"\")","v":"Template\nTopsoil Cut\nVolume"},null,null,null,null,null,null,null,{"$f":"IF(Tabfill!$E$1<>\"\",Tabfill!$E$1,\"\")","v":"Template\nPavement\nRemoval\nVolume"},null,null,null,null,null,null,null,{"$f":"IF(Tabfill!$F$1<>\"\",Tabfill!$F$1,\"\")","v":"Total\nCut\nAdjusted"},null,null,null,null,null,null,null,{"$f":"IF(Tabfill!$G$1<>\"\",Tabfill!$G$1,\"\")","v":"Total Cut\nAdjusted w/ \nWeighted Average\n1.3 Shrink Factor"},null,null,null,null,null,null,null,{"$f":"IF(Tabfill!$I$1<>\"\",Tabfill!$I$1,\"\")","v":"Template Fill\nVolume"},null,null,null,null,null,null,null,{"$f":"IF(Tabfill!$J$1<>\"\",Tabfill!$J$1,\"\")","v":"Topsoil\nStripping\n\n+ Fill"},null,null,null,null,null,null,null,{"$f":"IF(Tabfill!$K$1<>\"\",Tabfill!$K$1,\"\")","v":"Non-Template\nExisting Pavement\nRemoval\n+Fill"},null,null,null,null,null,null,null,{"$f":"IF(Tabfill!$L$1<>\"\",Tabfill!$L$1,\"\")","v":"Total\nFill\nAdjusted"},null,null,null,null,null,null,null,{"$f":"IF(Tabfill!$M$1<>\"\",Tabfill!$M$1,\"\")","v":"Total Cut Adjusted\nw/ 1.3 Shrink\n Factor Minus Fill"},null,null,null,null,null,null,null,{"$f":"IF(Tabfill!$O$1<>\"\",Tabfill!$O$1,\"\")","v":"Approx. Fill\nVolume Below\n5' And Above 20'\nCu. Yds."},null,null,null,null,null,null,null,{"$f":"IF(Tabfill!$P$1<>\"\",Tabfill!$P$1,\"\")","v":"Approx. Fill\nVolume Below 3'\n\nCu. Yds."},null,null,null,null,null,null,null,{"$f":"IF(Tabfill!$R$1<>\"\",Tabfill!$R$1,\"\")","v":"Total\nTopsoil Cut\nVolume"},null,null,null,null,null,null,null,{"$f":"IF(Tabfill!$S$1<>\"\",Tabfill!$S$1,\"\")","v":"Template\nTopsoil\nReplacement\nVolume"},null,null,null,null,null,null,null,{"$f":"IF(Tabfill!$T$1<>\"\",Tabfill!$T$1,\"\")","v":"Topsoil Cut\nWith\n1.4 Shrink\nFactor"},null,null,null,null,null,null,null,{"$f":"IF(Tabfill!$U$1<>\"\",Tabfill!$U$1,\"\")","v":"Topsoil Cut\nWith Shrink\nMinus Topsoil\nReplacement"}]
[]
[]
[]
[]
[]
[]
[]
[]
[]
[]
[]
[]
[]
[]
[]
[]
[]
[]
[null,null,{"$f":"IF(Tabfill!A142<>\"\",Tabfill!A142,\"\")","v":""}]
[null,null,null,null,null,null,null,null,null,null,null,null,null,null,null,null,null,{"$f":"IF(Tabfill!$B$142<>\"\",Tabfill!$B$142,\"\")","v":""},null,null,null,null,null,null,null,{"$f":"IF(Tabfill!$C$142<>\"\",Tabfill!$C$142,\"\")","v":""},null,null,null,null,null,null,null,{"$f":"IF(Tabfill!$D$142<>\"\",Tabfill!$D$142,\"\")","v":""},null,null,null,null,null,null,null,{"$f":"IF(Tabfill!$E$142<>\"\",Tabfill!$E$142,\"\")","v":""},null,null,null,null,null,null,null,{"$f":"IF(Tabfill!$F$142<>\"\",Tabfill!$F$142,\"\")","v":""},null,null,null,null,null,null,null,{"$f":"IF(Tabfill!$G$142<>\"\",Tabfill!$G$142,\"\")","v":""},null,null,null,null,null,null,null,{"$f":"IF(Tabfill!$I$142<>\"\",Tabfill!$I$142,\"\")","v":""},null,null,null,null,null,null,null,{"$f":"IF(Tabfill!$J$142<>\"\",Tabfill!$J$142,\"\")","v":""},null,null,null,null,null,null,null,{"$f":"IF(Tabfill!$K$142<>\"\",Tabfill!$K$142,\"\")","v":""},null,null,null,null,null,null,null,{"$f":"IF(Tabfill!$L$142<>\"\",Tabfill!$L$142,\"\")","v":""},null,null,null,null,null,null,null,{"$f":"IF(Tabfill!$M$142<>\"\",Tabfill!$M$142,\"\")","v":""},null,null,null,null,null,null,null,{"$f":"IF(Tabfill!$O$142<>\"\",Tabfill!$O$142,\"\")","v":""},null,null,null,null,null,null,null,{"$f":"IF(Tabfill!$P$142<>\"\",Tabfill!$P$142,\"\")","v":""},null,null,null,null,null,null,null,{"$f":"IF(Tabfill!$R$142<>\"\",Tabfill!$R$142,\"\")","v":""},null,null,null,null,null,null,null,{"$f":"IF(Tabfill!$S$142<>\"\",Tabfill!$S$142,\"\")","v":""},null,null,null,null,null,null,null,{"$f":"IF(Tabfill!$T$142<>\"\",Tabfill!$T$142,\"\")","v":""},null,null,null,null,null,null,null,{"$f":"IF(Tabfill!$U$142<>\"\",Tabfill!$U$142,\"\")","v":""}]
[null,null,{"$f":"IF(Tabfill!A143<>\"\",Tabfill!A143,\"\")","v":"SR022B"}]
[null,null,null,null,null,null,null,null,null,null,null,null,null,null,null,null,null,{"$f":"IF(Tabfill!$B$143<>\"\",Tabfill!$B$143,\"\")","v":""},null,null,null,null,null,null,null,{"$f":"IF(Tabfill!$C$143<>\"\",Tabfill!$C$143,\"\")","v":""},null,null,null,null,null,null,null,{"$f":"IF(Tabfill!$D$143<>\"\",Tabfill!$D$143,\"\")","v":""},null,null,null,null,null,null,null,{"$f":"IF(Tabfill!$E$143<>\"\",Tabfill!$E$143,\"\")","v":""},null,null,null,null,null,null,null,{"$f":"IF(Tabfill!$F$143<>\"\",Tabfill!$F$143,\"\")","v":""},null,null,null,null,null,null,null,{"$f":"IF(Tabfill!$G$143<>\"\",Tabfill!$G$143,\"\")","v":""},null,null,null,null,null,null,null,{"$f":"IF(Tabfill!$I$143<>\"\",Tabfill!$I$143,\"\")","v":""},null,null,null,null,null,null,null,{"$f":"IF(Tabfill!$J$143<>\"\",Tabfill!$J$143,\"\")","v":""},null,null,null,null,null,null,null,{"$f":"IF(Tabfill!$K$143<>\"\",Tabfill!$K$143,\"\")","v":""},null,null,null,null,null,null,null,{"$f":"IF(Tabfill!$L$143<>\"\",Tabfill!$L$143,\"\")","v":""},null,null,null,null,null,null,null,{"$f":"IF(Tabfill!$M$143<>\"\",Tabfill!$M$143,\"\")","v":""},null,null,null,null,null,null,null,{"$f":"IF(Tabfill!$O$143<>\"\",Tabfill!$O$143,\"\")","v":""},null,null,null,null,null,null,null,{"$f":"IF(Tabfill!$P$143<>\"\",Tabfill!$P$143,\"\")","v":""},null,null,null,null,null,null,null,{"$f":"IF(Tabfill!$R$143<>\"\",Tabfill!$R$143,\"\")","v":""},null,null,null,null,null,null,null,{"$f":"IF(Tabfill!$S$143<>\"\",Tabfill!$S$143,\"\")","v":""},null,null,null,null,null,null,null,{"$f":"IF(Tabfill!$T$143<>\"\",Tabfill!$T$143,\"\")","v":""},null,null,null,null,null,null,null,{"$f":"IF(Tabfill!$U$143<>\"\",Tabfill!$U$143,\"\")","v":""}]
[null,null,{"$f":"IF(Tabfill!A144<>\"\",Tabfill!A144,\"\")","v":200480.26}]
[null,null,null,null,null,null,null,null,null,null,null,null,null,null,null,null,null,{"$f":"IF(Tabfill!$B$144<>\"\",Tabfill!$B$144,\"\")","v":96.8},null,null,null,null,null,null,null,{"$f":"IF(Tabfill!$C$144<>\"\",Tabfill!$C$144,\"\")","v":90},null,null,null,null,null,null,null,{"$f":"IF(Tabfill!$D$144<>\"\",Tabfill!$D$144,\"\")","v":23.799999999999997},null,null,null,null,null,null,null,{"$f":"IF(Tabfill!$E$144<>\"\",Tabfill!$E$144,\"\")","v":25},null,null,null,null,null,null,null,{"$f":"IF(Tabfill!$F$144<>\"\",Tabfill!$F$144,\"\")","v":90},null,null,null,null,null,null,null,{"$f":"IF(Tabfill!$G$144<>\"\",Tabfill!$G$144,\"\")","v":69},null,null,null,null,null,null,null,{"$f":"IF(Tabfill!$I$144<>\"\",Tabfill!$I$144,\"\")","v":2},null,null,null,null,null,null,null,{"$f":"IF(Tabfill!$J$144<>\"\",Tabfill!$J$144,\"\")","v":6.7999999999999972},null,null,null,null,null,null,null,{"$f":"IF(Tabfill!$K$144<>\"\",Tabfill!$K$144,\"\")","v":25},null,null,null,null,null,null,null,{"$f":"IF(Tabfill!$L$144<>\"\",Tabfill!$L$144,\"\")","v":33.799999999999997},null,null,null,null,null,null,null,{"$f":"IF(Tabfill!$M$144<>\"\",Tabfill!$M$144,\"\")","v":35.200000000000003},null,null,null,null,null,null,null,{"$f":"IF(Tabfill!$O$144<>\"\",Tabfill!$O$144,\"\")","v":0},null,null,null,null,null,null,null,{"$f":"IF(Tabfill!$P$144<>\"\",Tabfill!$P$144,\"\")","v":0},null,null,null,null,null,null,null,{"$f":"IF(Tabfill!$R$144<>\"\",Tabfill!$R$144,\"\")","v":23.799999999999997},null,null,null,null,null,null,null,{"$f":"IF(Tabfill!$S$144<>\"\",Tabfill!$S$144,\"\")","v":17},null,null,null,null,null,null,null,{"$f":"IF(Tabfill!$T$144<>\"\",Tabfill!$T$144,\"\")","v":17},null,null,null,null,null,null,null,{"$f":"IF(Tabfill!$U$144<>\"\",Tabfill!$U$144,\"\")","v":0}]
[null,null,{"$f":"IF(Tabfill!A145<>\"\",Tabfill!A145,\"\")","v":200500}]
[null,null,null,null,null,null,null,null,null,null,null,null,null,null,null,null,null,{"$f":"IF(Tabfill!$B$145<>\"\",Tabfill!$B$145,\"\")","v":120.8},null,null,null,null,null,null,null,{"$f":"IF(Tabfill!$C$145<>\"\",Tabfill!$C$145,\"\")","v":114},null,null,null,null,null,null,null,{"$f":"IF(Tabfill!$D$145<>\"\",Tabfill!$D$145,\"\")","v":23.799999999999997},null,null,null,null,null,null,null,{"$f":"IF(Tabfill!$E$145<>\"\",Tabfill!$E$145,\"\")","v":33},null,null,null,null,null,null,null,{"$f":"IF(Tabfill!$F$145<>\"\",Tabfill!$F$145,\"\")","v":114},null,null,null,null,null,null,null,{"$f":"IF(Tabfill!$G$145<>\"\",Tabfill!$G$145,\"\")","v":88},null,null,null,null,null,null,null,{"$f":"IF(Tabfill!$I$145<>\"\",Tabfill!$I$145,\"\")","v":1},null,null,null,null,null,null,null,{"$f":"IF(Tabfill!$J$145<>\"\",Tabfill!$J$145,\"\")","v":6.7999999999999972},null,null,null,null,null,null,null,{"$f":"IF(Tabfill!$K$145<>\"\",Tabfill!$K$145,\"\")","v":33},null,null,null,null,null,null,null,{"$f":"IF(Tabfill!$L$145<>\"\",Tabfill!$L$145,\"\")","v":40.799999999999997},null,null,null,null,null,null,null,{"$f":"IF(Tabfill!$M$145<>\"\",Tabfill!$M$145,\"\")","v":47.2},null,null,null,null,null,null,null,{"$f":"IF(Tabfill!$O$145<>\"\",Tabfill!$O$145,\"\")","v":0},null,null,null,null,null,null,null,{"$f":"IF(Tabfill!$P$145<>\"\",Tabfill!$P$145,\"\")","v":0},null,null,null,null,null,null,null,{"$f":"IF(Tabfill!$R$145<>\"\",Tabfill!$R$145,\"\")","v":23.799999999999997},null,null,null,null,null,null,null,{"$f":"IF(Tabfill!$S$145<>\"\",Tabfill!$S$145,\"\")","v":17},null,null,null,null,null,null,null,{"$f":"IF(Tabfill!$T$145<>\"\",Tabfill!$T$145,\"\")","v":17},null,null,null,null,null,null,null,{"$f":"IF(Tabfill!$U$145<>\"\",Tabfill!$U$145,\"\")","v":0}]
[null,null,{"$f":"IF(Tabfill!A146<>\"\",Tabfill!A146,\"\")","v":200525}]
[null,null,null,null,null,null,null,null,null,null,null,null,null,null,null,null,null,{"$f":"IF(Tabfill!$B$146<>\"\",Tabfill!$B$146,\"\")","v":130.4},null,null,null,null,null,null,null,{"$f":"IF(Tabfill!$C$146<>\"\",Tabfill!$C$146,\"\")","v":124},null,null,null,null,null,null,null,{"$f":"IF(Tabfill!$D$146<>\"\",Tabfill!$D$146,\"\")","v":22.4},null,null,null,null,null,null,null,{"$f":"IF(Tabfill!$E$146<>\"\",Tabfill!$E$146,\"\")","v":34},null,null,null,null,null,null,null,{"$f":"IF(Tabfill!$F$146<>\"\",Tabfill!$F$146,\"\")","v":124},null,null,null,null,null,null,null,{"$f":"IF(Tabfill!$G$146<>\"\",Tabfill!$G$146,\"\")","v":95},null,null,null,null,null,null,null,{"$f":"IF(Tabfill!$I$146<>\"\",Tabfill!$I$146,\"\")","v":0},null,null,null,null,null,null,null,{"$f":"IF(Tabfill!$J$146<>\"\",Tabfill!$J$146,\"\")","v":6.3999999999999986},null,null,null,null,null,null,null,{"$f":"IF(Tabfill!$K$146<>\"\",Tabfill!$K$146,\"\")","v":34},null,null,null,null,null,null,null,{"$f":"IF(Tabfill!$L$146<>\"\",Tabfill!$L$146,\"\")","v":40.4},null,null,null,null,null,null,null,{"$f":"IF(Tabfill!$M$146<>\"\",Tabfill!$M$146,\"\")","v":54.6},null,null,null,null,null,null,null,{"$f":"IF(Tabfill!$O$146<>\"\",Tabfill!$O$146,\"\")","v":0},null,null,null,null,null,null,null,{"$f":"IF(Tabfill!$P$146<>\"\",Tabfill!$P$146,\"\")","v":0},null,null,null,null,null,null,null,{"$f":"IF(Tabfill!$R$146<>\"\",Tabfill!$R$146,\"\")","v":22.4},null,null,null,null,null,null,null,{"$f":"IF(Tabfill!$S$146<>\"\",Tabfill!$S$146,\"\")","v":16},null,null,null,null,null,null,null,{"$f":"IF(Tabfill!$T$146<>\"\",Tabfill!$T$146,\"\")","v":16},null,null,null,null,null,null,null,{"$f":"IF(Tabfill!$U$146<>\"\",Tabfill!$U$146,\"\")","v":0}]
[null,null,{"$f":"IF(Tabfill!A147<>\"\",Tabfill!A147,\"\")","v":200550}]
[null,null,null,null,null,null,null,null,null,null,null,null,null,null,null,null,null,{"$f":"IF(Tabfill!$B$147<>\"\",Tabfill!$B$147,\"\")","v":147.19999999999999},null,null,null,null,null,null,null,{"$f":"IF(Tabfill!$C$147<>\"\",Tabfill!$C$147,\"\")","v":138},null,null,null,null,null,null,null,{"$f":"IF(Tabfill!$D$147<>\"\",Tabfill!$D$147,\"\")","v":32.199999999999996},null,null,null,null,null,null,null,{"$f":"IF(Tabfill!$E$147<>\"\",Tabfill!$E$147,\"\")","v":36},null,null,null,null,null,null,null,{"$f":"IF(Tabfill!$F$147<>\"\",Tabfill!$F$147,\"\")","v":138},null,null,null,null,null,null,null,{"$f":"IF(Tabfill!$G$147<>\"\",Tabfill!$G$147,\"\")","v":106},null,null,null,null,null,null,null,{"$f":"IF(Tabfill!$I$147<>\"\",Tabfill!$I$147,\"\")","v":0},null,null,null,null,null,null,null,{"$f":"IF(Tabfill!$J$147<>\"\",Tabfill!$J$147,\"\")","v":9.1999999999999957},null,null,null,null,null,null,null,{"$f":"IF(Tabfill!$K$147<>\"\",Tabfill!$K$147,\"\")","v":36},null,null,null,null,null,null,null,{"$f":"IF(Tabfill!$L$147<>\"\",Tabfill!$L$147,\"\")","v":45.199999999999996},null,null,null,null,null,null,null,{"$f":"IF(Tabfill!$M$147<>\"\",Tabfill!$M$147,\"\")","v":60.800000000000004},null,null,null,null,null,null,null,{"$f":"IF(Tabfill!$O$147<>\"\",Tabfill!$O$147,\"\")","v":0},null,null,null,null,null,null,null,{"$f":"IF(Tabfill!$P$147<>\"\",Tabfill!$P$147,\"\")","v":0},null,null,null,null,null,null,null,{"$f":"IF(Tabfill!$R$147<>\"\",Tabfill!$R$147,\"\")","v":32.199999999999996},null,null,null,null,null,null,null,{"$f":"IF(Tabfill!$S$147<>\"\",Tabfill!$S$147,\"\")","v":23},null,null,null,null,null,null,null,{"$f":"IF(Tabfill!$T$147<>\"\",Tabfill!$T$147,\"\")","v":23},null,null,null,null,null,null,null,{"$f":"IF(Tabfill!$U$147<>\"\",Tabfill!$U$147,\"\")","v":0}]
[null,null,{"$f":"IF(Tabfill!A148<>\"\",Tabfill!A148,\"\")","v":200575}]
[null,null,null,null,null,null,null,null,null,null,null,null,null,null,null,null,null,{"$f":"IF(Tabfill!$B$148<>\"\",Tabfill!$B$148,\"\")","v":155},null,null,null,null,null,null,null,{"$f":"IF(Tabfill!$C$148<>\"\",Tabfill!$C$148,\"\")","v":145},null,null,null,null,null,null,null,{"$f":"IF(Tabfill!$D$148<>\"\",Tabfill!$D$148,\"\")","v":35},null,null,null,null,null,null,null,{"$f":"IF(Tabfill!$E$148<>\"\",Tabfill!$E$148,\"\")","v":37},null,null,null,null,null,null,null,{"$f":"IF(Tabfill!$F$148<>\"\",Tabfill!$F$148,\"\")","v":145},null,null,null,null,null,null,null,{"$f":"IF(Tabfill!$G$148<>\"\",Tabfill!$G$148,\"\")","v":112},null,null,null,null,null,null,null,{"$f":"IF(Tabfill!$I$148<>\"\",Tabfill!$I$148,\"\")","v":3},null,null,null,null,null,null,null,{"$f":"IF(Tabfill!$J$148<>\"\",Tabfill!$J$148,\"\")","v":10},null,null,null,null,null,null,null,{"$f":"IF(Tabfill!$K$148<>\"\",Tabfill!$K$148,\"\")","v":37},null,null,null,null,null,null,null,{"$f":"IF(Tabfill!$L$148<>\"\",Tabfill!$L$148,\"\")","v":50},null,null,null,null,null,null,null,{"$f":"IF(Tabfill!$M$148<>\"\",Tabfill!$M$148,\"\")","v":62},null,null,null,null,null,null,null,{"$f":"IF(Tabfill!$O$148<>\"\",Tabfill!$O$148,\"\")","v":0},null,null,null,null,null,null,null,{"$f":"IF(Tabfill!$P$148<>\"\",Tabfill!$P$148,\"\")","v":2},null,null,null,null,null,null,null,{"$f":"IF(Tabfill!$R$148<>\"\",Tabfill!$R$148,\"\")","v":35},null,null,null,null,null,null,null,{"$f":"IF(Tabfill!$S$148<>\"\",Tabfill!$S$148,\"\")","v":25},null,null,null,null,null,null,null,{"$f":"IF(Tabfill!$T$148<>\"\",Tabfill!$T$148,\"\")","v":25},null,null,null,null,null,null,null,{"$f":"IF(Tabfill!$U$148<>\"\",Tabfill!$U$148,\"\")","v":0}]
[null,null,{"$f":"IF(Tabfill!A149<>\"\",Tabfill!A149,\"\")","v":200600}]
[null,null,null,null,null,null,null,null,null,null,null,null,null,null,null,null,null,{"$f":"IF(Tabfill!$B$149<>\"\",Tabfill!$B$149,\"\")","v":158.80000000000001},null,null,null,null,null,null,null,{"$f":"IF(Tabfill!$C$149<>\"\",Tabfill!$C$149,\"\")","v":148},null,null,null,null,null,null,null,{"$f":"IF(Tabfill!$D$149<>\"\",Tabfill!$D$149,\"\")","v":37.799999999999997},null,null,null,null,null,null,null,{"$f":"IF(Tabfill!$E$149<>\"\",Tabfill!$E$149,\"\")","v":38},null,null,null,null,null,null,null,{"$f":"IF(Tabfill!$F$149<>\"\",Tabfill!$F$149,\"\")","v":148},null,null,null,null,null,null,null,{"$f":"IF(Tabfill!$G$149<>\"\",Tabfill!$G$149,\"\")","v":114},null,null,null,null,null,null,null,{"$f":"IF(Tabfill!$I$149<>\"\",Tabfill!$I$149,\"\")","v":7},null,null,null,null,null,null,null,{"$f":"IF(Tabfill!$J$149<>\"\",Tabfill!$J$149,\"\")","v":10.799999999999997},null,null,null,null,null,null,null,{"$f":"IF(Tabfill!$K$149<>\"\",Tabfill!$K$149,\"\")","v":38},null,null,null,null,null,null,null,{"$f":"IF(Tabfill!$L$149<>\"\",Tabfill!$L$149,\"\")","v":55.8},null,null,null,null,null,null,null,{"$f":"IF(Tabfill!$M$149<>\"\",Tabfill!$M$149,\"\")","v":58.2},null,null,null,null,null,null,null,{"$f":"IF(Tabfill!$O$149<>\"\",Tabfill!$O$149,\"\")","v":0},null,null,null,null,null,null,null,{"$f":"IF(Tabfill!$P$149<>\"\",Tabfill!$P$149,\"\")","v":6},null,null,null,null,null,null,null,{"$f":"IF(Tabfill!$R$149<>\"\",Tabfill!$R$149,\"\")","v":37.799999999999997},null,null,null,null,null,null,null,{"$f":"IF(Tabfill!$S$149<>\"\",Tabfill!$S$149,\"\")","v":27},null,null,null,null,null,null,null,{"$f":"IF(Tabfill!$T$149<>\"\",Tabfill!$T$149,\"\")","v":27},null,null,null,null,null,null,null,{"$f":"IF(Tabfill!$U$149<>\"\",Tabfill!$U$149,\"\")","v":0}]
[null,null,{"$f":"IF(Tabfill!A150<>\"\",Tabfill!A150,\"\")","v":200625}]
[null,null,null,null,null,null,null,null,null,null,null,null,null,null,null,null,null,{"$f":"IF(Tabfill!$B$150<>\"\",Tabfill!$B$150,\"\")","v":163.19999999999999},null,null,null,null,null,null,null,{"$f":"IF(Tabfill!$C$150<>\"\",Tabfill!$C$150,\"\")","v":152},null,null,null,null,null,null,null,{"$f":"IF(Tabfill!$D$150<>\"\",Tabfill!$D$150,\"\")","v":39.199999999999996},null,null,null,null,null,null,null,{"$f":"IF(Tabfill!$E$150<>\"\",Tabfill!$E$150,\"\")","v":38},null,null,null,null,null,null,null,{"$f":"IF(Tabfill!$F$150<>\"\",Tabfill!$F$150,\"\")","v":152},null,null,null,null,null,null,null,{"$f":"IF(Tabfill!$G$150<>\"\",Tabfill!$G$150,\"\")","v":117},null,null,null,null,null,null,null,{"$f":"IF(Tabfill!$I$150<>\"\",Tabfill!$I$150,\"\")","v":11},null,null,null,null,null,null,null,{"$f":"IF(Tabfill!$J$150<>\"\",Tabfill!$J$150,\"\")","v":11.199999999999996},null,null,null,null,null,null,null,{"$f":"IF(Tabfill!$K$150<>\"\",Tabfill!$K$150,\"\")","v":38},null,null,null,null,null,null,null,{"$f":"IF(Tabfill!$L$150<>\"\",Tabfill!$L$150,\"\")","v":60.199999999999996},null,null,null,null,null,null,null,{"$f":"IF(Tabfill!$M$150<>\"\",Tabfill!$M$150,\"\")","v":56.800000000000004},null,null,null,null,null,null,null,{"$f":"IF(Tabfill!$O$150<>\"\",Tabfill!$O$150,\"\")","v":0},null,null,null,null,null,null,null,{"$f":"IF(Tabfill!$P$150<>\"\",Tabfill!$P$150,\"\")","v":11},null,null,null,null,null,null,null,{"$f":"IF(Tabfill!$R$150<>\"\",Tabfill!$R$150,\"\")","v":39.199999999999996},null,null,null,null,null,null,null,{"$f":"IF(Tabfill!$S$150<>\"\",Tabfill!$S$150,\"\")","v":28},null,null,null,null,null,null,null,{"$f":"IF(Tabfill!$T$150<>\"\",Tabfill!$T$150,\"\")","v":28},null,null,null,null,null,null,null,{"$f":"IF(Tabfill!$U$150<>\"\",Tabfill!$U$150,\"\")","v":0}]
[null,null,{"$f":"IF(Tabfill!A151<>\"\",Tabfill!A151,\"\")","v":200650}]
[null,null,null,null,null,null,null,null,null,null,null,null,null,null,null,null,null,{"$f":"IF(Tabfill!$B$151<>\"\",Tabfill!$B$151,\"\")","v":147},null,null,null,null,null,null,null,{"$f":"IF(Tabfill!$C$151<>\"\",Tabfill!$C$151,\"\")","v":137},null,null,null,null,null,null,null,{"$f":"IF(Tabfill!$D$151<>\"\",Tabfill!$D$151,\"\")","v":35},null,null,null,null,null,null,null,{"$f":"IF(Tabfill!$E$151<>\"\",Tabfill!$E$151,\"\")","v":33},null,null,null,null,null,null,null,{"$f":"IF(Tabfill!$F$151<>\"\",Tabfill!$F$151,\"\")","v":137},null,null,null,null,null,null,null,{"$f":"IF(Tabfill!$G$151<>\"\",Tabfill!$G$151,\"\")","v":105},null,null,null,null,null,null,null,{"$f":"IF(Tabfill!$I$151<>\"\",Tabfill!$I$151,\"\")","v":11},null,null,null,null,null,null,null,{"$f":"IF(Tabfill!$J$151<>\"\",Tabfill!$J$151,\"\")","v":10},null,null,null,null,null,null,null,{"$f":"IF(Tabfill!$K$151<>\"\",Tabfill!$K$151,\"\")","v":33},null,null,null,null,null,null,null,{"$f":"IF(Tabfill!$L$151<>\"\",Tabfill!$L$151,\"\")","v":54},null,null,null,null,null,null,null,{"$f":"IF(Tabfill!$M$151<>\"\",Tabfill!$M$151,\"\")","v":51},null,null,null,null,null,null,null,{"$f":"IF(Tabfill!$O$151<>\"\",Tabfill!$O$151,\"\")","v":0},null,null,null,null,null,null,null,{"$f":"IF(Tabfill!$P$151<>\"\",Tabfill!$P$151,\"\")","v":12},null,null,null,null,null,null,null,{"$f":"IF(Tabfill!$R$151<>\"\",Tabfill!$R$151,\"\")","v":35},null,null,null,null,null,null,null,{"$f":"IF(Tabfill!$S$151<>\"\",Tabfill!$S$151,\"\")","v":25},null,null,null,null,null,null,null,{"$f":"IF(Tabfill!$T$151<>\"\",Tabfill!$T$151,\"\")","v":25},null,null,null,null,null,null,null,{"$f":"IF(Tabfill!$U$151<>\"\",Tabfill!$U$151,\"\")","v":0}]
[null,null,{"$f":"IF(Tabfill!A152<>\"\",Tabfill!A152,\"\")","v":200671.76}]
[null,null,null,null,null,null,null,null,null,null,null,null,null,null,null,null,null,{"$f":"IF(Tabfill!$B$152<>\"\",Tabfill!$B$152,\"\")","v":21.6},null,null,null,null,null,null,null,{"$f":"IF(Tabfill!$C$152<>\"\",Tabfill!$C$152,\"\")","v":20},null,null,null,null,null,null,null,{"$f":"IF(Tabfill!$D$152<>\"\",Tabfill!$D$152,\"\")","v":5.6},null,null,null,null,null,null,null,{"$f":"IF(Tabfill!$E$152<>\"\",Tabfill!$E$152,\"\")","v":5},null,null,null,null,null,null,null,{"$f":"IF(Tabfill!$F$152<>\"\",Tabfill!$F$152,\"\")","v":20},null,null,null,null,null,null,null,{"$f":"IF(Tabfill!$G$152<>\"\",Tabfill!$G$152,\"\")","v":15},null,null,null,null,null,null,null,{"$f":"IF(Tabfill!$I$152<>\"\",Tabfill!$I$152,\"\")","v":1},null,null,null,null,null,null,null,{"$f":"IF(Tabfill!$J$152<>\"\",Tabfill!$J$152,\"\")","v":1.5999999999999996},null,null,null,null,null,null,null,{"$f":"IF(Tabfill!$K$152<>\"\",Tabfill!$K$152,\"\")","v":5},null,null,null,null,null,null,null,{"$f":"IF(Tabfill!$L$152<>\"\",Tabfill!$L$152,\"\")","v":7.6},null,null,null,null,null,null,null,{"$f":"IF(Tabfill!$M$152<>\"\",Tabfill!$M$152,\"\")","v":7.4},null,null,null,null,null,null,null,{"$f":"IF(Tabfill!$O$152<>\"\",Tabfill!$O$152,\"\")","v":0},null,null,null,null,null,null,null,{"$f":"IF(Tabfill!$P$152<>\"\",Tabfill!$P$152,\"\")","v":10},null,null,null,null,null,null,null,{"$f":"IF(Tabfill!$R$152<>\"\",Tabfill!$R$152,\"\")","v":5.6},null,null,null,null,null,null,null,{"$f":"IF(Tabfill!$S$152<>\"\",Tabfill!$S$152,\"\")","v":4},null,null,null,null,null,null,null,{"$f":"IF(Tabfill!$T$152<>\"\",Tabfill!$T$152,\"\")","v":4},null,null,null,null,null,null,null,{"$f":"IF(Tabfill!$U$152<>\"\",Tabfill!$U$152,\"\")","v":0}]
[null,null,{"$f":"IF(Tabfill!A153<>\"\",Tabfill!A153,\"\")","v":200675}]
[null,null,null,null,null,null,null,null,null,null,null,null,null,null,null,null,null,{"$f":"IF(Tabfill!$B$153<>\"\",Tabfill!$B$153,\"\")","v":164.6},null,null,null,null,null,null,null,{"$f":"IF(Tabfill!$C$153<>\"\",Tabfill!$C$153,\"\")","v":153},null,null,null,null,null,null,null,{"$f":"IF(Tabfill!$D$153<>\"\",Tabfill!$D$153,\"\")","v":40.599999999999994},null,null,null,null,null,null,null,{"$f":"IF(Tabfill!$E$153<>\"\",Tabfill!$E$153,\"\")","v":37},null,null,null,null,null,null,null,{"$f":"IF(Tabfill!$F$153<>\"\",Tabfill!$F$153,\"\")","v":153},null,null,null,null,null,null,null,{"$f":"IF(Tabfill!$G$153<>\"\",Tabfill!$G$153,\"\")","v":118},null,null,null,null,null,null,null,{"$f":"IF(Tabfill!$I$153<>\"\",Tabfill!$I$153,\"\")","v":11},null,null,null,null,null,null,null,{"$f":"IF(Tabfill!$J$153<>\"\",Tabfill!$J$153,\"\")","v":11.599999999999994},null,null,null,null,null,null,null,{"$f":"IF(Tabfill!$K$153<>\"\",Tabfill!$K$153,\"\")","v":37},null,null,null,null,null,null,null,{"$f":"IF(Tabfill!$L$153<>\"\",Tabfill!$L$153,\"\")","v":59.599999999999994},null,null,null,null,null,null,null,{"$f":"IF(Tabfill!$M$153<>\"\",Tabfill!$M$153,\"\")","v":58.400000000000006},null,null,null,null,null,null,null,{"$f":"IF(Tabfill!$O$153<>\"\",Tabfill!$O$153,\"\")","v":0},null,null,null,null,null,null,null,{"$f":"IF(Tabfill!$P$153<>\"\",Tabfill!$P$153,\"\")","v":1},null,null,null,null,null,null,null,{"$f":"IF(Tabfill!$R$153<>\"\",Tabfill!$R$153,\"\")","v":40.599999999999994},null,null,null,null,null,null,null,{"$f":"IF(Tabfill!$S$153<>\"\",Tabfill!$S$153,\"\")","v":29},null,null,null,null,null,null,null,{"$f":"IF(Tabfill!$T$153<>\"\",Tabfill!$T$153,\"\")","v":29},null,null,null,null,null,null,null,{"$f":"IF(Tabfill!$U$153<>\"\",Tabfill!$U$153,\"\")","v":0}]
[null,null,{"$f":"IF(Tabfill!A154<>\"\",Tabfill!A154,\"\")","v":200700}]
[null,null,null,null,null,null,null,null,null,null,null,null,null,null,null,null,null,{"$f":"IF(Tabfill!$B$154<>\"\",Tabfill!$B$154,\"\")","v":157.6},null,null,null,null,null,null,null,{"$f":"IF(Tabfill!$C$154<>\"\",Tabfill!$C$154,\"\")","v":146},null,null,null,null,null,null,null,{"$f":"IF(Tabfill!$D$154<>\"\",Tabfill!$D$154,\"\")","v":40.599999999999994},null,null,null,null,null,null,null,{"$f":"IF(Tabfill!$E$154<>\"\",Tabfill!$E$154,\"\")","v":37},null,null,null,null,null,null,null,{"$f":"IF(Tabfill!$F$154<>\"\",Tabfill!$F$154,\"\")","v":146},null,null,null,null,null,null,null,{"$f":"IF(Tabfill!$G$154<>\"\",Tabfill!$G$154,\"\")","v":112},null,null,null,null,null,null,null,{"$f":"IF(Tabfill!$I$154<>\"\",Tabfill!$I$154,\"\")","v":9},null,null,null,null,null,null,null,{"$f":"IF(Tabfill!$J$154<>\"\",Tabfill!$J$154,\"\")","v":11.599999999999994},null,null,null,null,null,null,null,{"$f":"IF(Tabfill!$K$154<>\"\",Tabfill!$K$154,\"\")","v":37},null,null,null,null,null,null,null,{"$f":"IF(Tabfill!$L$154<>\"\",Tabfill!$L$154,\"\")","v":57.599999999999994},null,null,null,null,null,null,null,{"$f":"IF(Tabfill!$M$154<>\"\",Tabfill!$M$154,\"\")","v":54.400000000000006},null,null,null,null,null,null,null,{"$f":"IF(Tabfill!$O$154<>\"\",Tabfill!$O$154,\"\")","v":0},null,null,null,null,null,null,null,{"$f":"IF(Tabfill!$P$154<>\"\",Tabfill!$P$154,\"\")","v":8},null,null,null,null,null,null,null,{"$f":"IF(Tabfill!$R$154<>\"\",Tabfill!$R$154,\"\")","v":40.599999999999994},null,null,null,null,null,null,null,{"$f":"IF(Tabfill!$S$154<>\"\",Tabfill!$S$154,\"\")","v":29},null,null,null,null,null,null,null,{"$f":"IF(Tabfill!$T$154<>\"\",Tabfill!$T$154,\"\")","v":29},null,null,null,null,null,null,null,{"$f":"IF(Tabfill!$U$154<>\"\",Tabfill!$U$154,\"\")","v":0}]
[null,null,{"$f":"IF(Tabfill!A155<>\"\",Tabfill!A155,\"\")","v":200725}]
[null,null,null,null,null,null,null,null,null,null,null,null,null,null,null,null,null,{"$f":"IF(Tabfill!$B$155<>\"\",Tabfill!$B$155,\"\")","v":144.80000000000001},null,null,null,null,null,null,null,{"$f":"IF(Tabfill!$C$155<>\"\",Tabfill!$C$155,\"\")","v":134},null,null,null,null,null,null,null,{"$f":"IF(Tabfill!$D$155<>\"\",Tabfill!$D$155,\"\")","v":37.799999999999997},null,null,null,null,null,null,null,{"$f":"IF(Tabfill!$E$155<>\"\",Tabfill!$E$155,\"\")","v":36},null,null,null,null,null,null,null,{"$f":"IF(Tabfill!$F$155<>\"\",Tabfill!$F$155,\"\")","v":134},null,null,null,null,null,null,null,{"$f":"IF(Tabfill!$G$155<>\"\",Tabfill!$G$155,\"\")","v":103},null,null,null,null,null,null,null,{"$f":"IF(Tabfill!$I$155<>\"\",Tabfill!$I$155,\"\")","v":4},null,null,null,null,null,null,null,{"$f":"IF(Tabfill!$J$155<>\"\",Tabfill!$J$155,\"\")","v":10.799999999999997},null,null,null,null,null,null,null,{"$f":"IF(Tabfill!$K$155<>\"\",Tabfill!$K$155,\"\")","v":36},null,null,null,null,null,null,null,{"$f":"IF(Tabfill!$L$155<>\"\",Tabfill!$L$155,\"\")","v":50.8},null,null,null,null,null,null,null,{"$f":"IF(Tabfill!$M$155<>\"\",Tabfill!$M$155,\"\")","v":52.2},null,null,null,null,null,null,null,{"$f":"IF(Tabfill!$O$155<>\"\",Tabfill!$O$155,\"\")","v":0},null,null,null,null,null,null,null,{"$f":"IF(Tabfill!$P$155<>\"\",Tabfill!$P$155,\"\")","v":3},null,null,null,null,null,null,null,{"$f":"IF(Tabfill!$R$155<>\"\",Tabfill!$R$155,\"\")","v":37.799999999999997},null,null,null,null,null,null,null,{"$f":"IF(Tabfill!$S$155<>\"\",Tabfill!$S$155,\"\")","v":27},null,null,null,null,null,null,null,{"$f":"IF(Tabfill!$T$155<>\"\",Tabfill!$T$155,\"\")","v":27},null,null,null,null,null,null,null,{"$f":"IF(Tabfill!$U$155<>\"\",Tabfill!$U$155,\"\")","v":0}]
[null,null,{"$f":"IF(Tabfill!A156<>\"\",Tabfill!A156,\"\")","v":200750}]
[null,null,null,null,null,null,null,null,null,null,null,null,null,null,null,null,null,{"$f":"IF(Tabfill!$B$156<>\"\",Tabfill!$B$156,\"\")","v":129.6},null,null,null,null,null,null,null,{"$f":"IF(Tabfill!$C$156<>\"\",Tabfill!$C$156,\"\")","v":120},null,null,null,null,null,null,null,{"$f":"IF(Tabfill!$D$156<>\"\",Tabfill!$D$156,\"\")","v":33.599999999999994},null,null,null,null,null,null,null,{"$f":"IF(Tabfill!$E$156<>\"\",Tabfill!$E$156,\"\")","v":38},null,null,null,null,null,null,null,{"$f":"IF(Tabfill!$F$156<>\"\",Tabfill!$F$156,\"\")","v":120},null,null,null,null,null,null,null,{"$f":"IF(Tabfill!$G$156<>\"\",Tabfill!$G$156,\"\")","v":92},null,null,null,null,null,null,null,{"$f":"IF(Tabfill!$I$156<>\"\",Tabfill!$I$156,\"\")","v":1},null,null,null,null,null,null,null,{"$f":"IF(Tabfill!$J$156<>\"\",Tabfill!$J$156,\"\")","v":9.5999999999999943},null,null,null,null,null,null,null,{"$f":"IF(Tabfill!$K$156<>\"\",Tabfill!$K$156,\"\")","v":38},null,null,null,null,null,null,null,{"$f":"IF(Tabfill!$L$156<>\"\",Tabfill!$L$156,\"\")","v":48.599999999999994},null,null,null,null,null,null,null,{"$f":"IF(Tabfill!$M$156<>\"\",Tabfill!$M$156,\"\")","v":43.400000000000006},null,null,null,null,null,null,null,{"$f":"IF(Tabfill!$O$156<>\"\",Tabfill!$O$156,\"\")","v":0},null,null,null,null,null,null,null,{"$f":"IF(Tabfill!$P$156<>\"\",Tabfill!$P$156,\"\")","v":0},null,null,null,null,null,null,null,{"$f":"IF(Tabfill!$R$156<>\"\",Tabfill!$R$156,\"\")","v":33.599999999999994},null,null,null,null,null,null,null,{"$f":"IF(Tabfill!$S$156<>\"\",Tabfill!$S$156,\"\")","v":24},null,null,null,null,null,null,null,{"$f":"IF(Tabfill!$T$156<>\"\",Tabfill!$T$156,\"\")","v":24},null,null,null,null,null,null,null,{"$f":"IF(Tabfill!$U$156<>\"\",Tabfill!$U$156,\"\")","v":0}]
[null,null,{"$f":"IF(Tabfill!A157<>\"\",Tabfill!A157,\"\")","v":200775}]
[null,null,null,null,null,null,null,null,null,null,null,null,null,null,null,null,null,{"$f":"IF(Tabfill!$B$157<>\"\",Tabfill!$B$157,\"\")","v":156},null,null,null,null,null,null,null,{"$f":"IF(Tabfill!$C$157<>\"\",Tabfill!$C$157,\"\")","v":144},null,null,null,null,null,null,null,{"$f":"IF(Tabfill!$D$157<>\"\",Tabfill!$D$157,\"\")","v":42},null,null,null,null,null,null,null,{"$f":"IF(Tabfill!$E$157<>\"\",Tabfill!$E$157,\"\")","v":41},null,null,null,null,null,null,null,{"$f":"IF(Tabfill!$F$157<>\"\",Tabfill!$F$157,\"\")","v":144},null,null,null,null,null,null,null,{"$f":"IF(Tabfill!$G$157<>\"\",Tabfill!$G$157,\"\")","v":111},null,null,null,null,null,null,null,{"$f":"IF(Tabfill!$I$157<>\"\",Tabfill!$I$157,\"\")","v":4},null,null,null,null,null,null,null,{"$f":"IF(Tabfill!$J$157<>\"\",Tabfill!$J$157,\"\")","v":12},null,null,null,null,null,null,null,{"$f":"IF(Tabfill!$K$157<>\"\",Tabfill!$K$157,\"\")","v":41},null,null,null,null,null,null,null,{"$f":"IF(Tabfill!$L$157<>\"\",Tabfill!$L$157,\"\")","v":57},null,null,null,null,null,null,null,{"$f":"IF(Tabfill!$M$157<>\"\",Tabfill!$M$157,\"\")","v":54},null,null,null,null,null,null,null,{"$f":"IF(Tabfill!$O$157<>\"\",Tabfill!$O$157,\"\")","v":0},null,null,null,null,null,null,null,{"$f":"IF(Tabfill!$P$157<>\"\",Tabfill!$P$157,\"\")","v":3},null,null,null,null,null,null,null,{"$f":"IF(Tabfill!$R$157<>\"\",Tabfill!$R$157,\"\")","v":42},null,null,null,null,null,null,null,{"$f":"IF(Tabfill!$S$157<>\"\",Tabfill!$S$157,\"\")","v":30},null,null,null,null,null,null,null,{"$f":"IF(Tabfill!$T$157<>\"\",Tabfill!$T$157,\"\")","v":30},null,null,null,null,null,null,null,{"$f":"IF(Tabfill!$U$157<>\"\",Tabfill!$U$157,\"\")","v":0}]
[null,null,{"$f":"IF(Tabfill!A158<>\"\",Tabfill!A158,\"\")","v":200800}]
[null,null,null,null,null,null,null,null,null,null,null,null,null,null,null,null,null,{"$f":"IF(Tabfill!$B$158<>\"\",Tabfill!$B$158,\"\")","v":225.2},null,null,null,null,null,null,null,{"$f":"IF(Tabfill!$C$158<>\"\",Tabfill!$C$158,\"\")","v":210},null,null,null,null,null,null,null,{"$f":"IF(Tabfill!$D$158<>\"\",Tabfill!$D$158,\"\")","v":53.199999999999996},null,null,null,null,null,null,null,{"$f":"IF(Tabfill!$E$158<>\"\",Tabfill!$E$158,\"\")","v":43},null,null,null,null,null,null,null,{"$f":"IF(Tabfill!$F$158<>\"\",Tabfill!$F$158,\"\")","v":210},null,null,null,null,null,null,null,{"$f":"IF(Tabfill!$G$158<>\"\",Tabfill!$G$158,\"\")","v":162},null,null,null,null,null,null,null,{"$f":"IF(Tabfill!$I$158<>\"\",Tabfill!$I$158,\"\")","v":4},null,null,null,null,null,null,null,{"$f":"IF(Tabfill!$J$158<>\"\",Tabfill!$J$158,\"\")","v":15.199999999999996},null,null,null,null,null,null,null,{"$f":"IF(Tabfill!$K$158<>\"\",Tabfill!$K$158,\"\")","v":43},null,null,null,null,null,null,null,{"$f":"IF(Tabfill!$L$158<>\"\",Tabfill!$L$158,\"\")","v":62.199999999999996},null,null,null,null,null,null,null,{"$f":"IF(Tabfill!$M$158<>\"\",Tabfill!$M$158,\"\")","v":99.800000000000011},null,null,null,null,null,null,null,{"$f":"IF(Tabfill!$O$158<>\"\",Tabfill!$O$158,\"\")","v":0},null,null,null,null,null,null,null,{"$f":"IF(Tabfill!$P$158<>\"\",Tabfill!$P$158,\"\")","v":4},null,null,null,null,null,null,null,{"$f":"IF(Tabfill!$R$158<>\"\",Tabfill!$R$158,\"\")","v":53.199999999999996},null,null,null,null,null,null,null,{"$f":"IF(Tabfill!$S$158<>\"\",Tabfill!$S$158,\"\")","v":38},null,null,null,null,null,null,null,{"$f":"IF(Tabfill!$T$158<>\"\",Tabfill!$T$158,\"\")","v":38},null,null,null,null,null,null,null,{"$f":"IF(Tabfill!$U$158<>\"\",Tabfill!$U$158,\"\")","v":0}]
[null,null,{"$f":"IF(Tabfill!A159<>\"\",Tabfill!A159,\"\")","v":200825}]
[null,null,null,null,null,null,null,null,null,null,null,null,null,null,null,null,null,{"$f":"IF(Tabfill!$B$159<>\"\",Tabfill!$B$159,\"\")","v":321.2},null,null,null,null,null,null,null,{"$f":"IF(Tabfill!$C$159<>\"\",Tabfill!$C$159,\"\")","v":304},null,null,null,null,null,null,null,{"$f":"IF(Tabfill!$D$159<>\"\",Tabfill!$D$159,\"\")","v":60.199999999999996},null,null,null,null,null,null,null,{"$f":"IF(Tabfill!$E$159<>\"\",Tabfill!$E$159,\"\")","v":43},null,null,null,null,null,null,null,{"$f":"IF(Tabfill!$F$159<>\"\",Tabfill!$F$159,\"\")","v":304},null,null,null,null,null,null,null,{"$f":"IF(Tabfill!$G$159<>\"\",Tabfill!$G$159,\"\")","v":234},null,null,null,null,null,null,null,{"$f":"IF(Tabfill!$I$159<>\"\",Tabfill!$I$159,\"\")","v":1},null,null,null,null,null,null,null,{"$f":"IF(Tabfill!$J$159<>\"\",Tabfill!$J$159,\"\")","v":17.199999999999996},null,null,null,null,null,null,null,{"$f":"IF(Tabfill!$K$159<>\"\",Tabfill!$K$159,\"\")","v":43},null,null,null,null,null,null,null,{"$f":"IF(Tabfill!$L$159<>\"\",Tabfill!$L$159,\"\")","v":61.199999999999996},null,null,null,null,null,null,null,{"$f":"IF(Tabfill!$M$159<>\"\",Tabfill!$M$159,\"\")","v":172.8},null,null,null,null,null,null,null,{"$f":"IF(Tabfill!$O$159<>\"\",Tabfill!$O$159,\"\")","v":0},null,null,null,null,null,null,null,{"$f":"IF(Tabfill!$P$159<>\"\",Tabfill!$P$159,\"\")","v":0},null,null,null,null,null,null,null,{"$f":"IF(Tabfill!$R$159<>\"\",Tabfill!$R$159,\"\")","v":60.199999999999996},null,null,null,null,null,null,null,{"$f":"IF(Tabfill!$S$159<>\"\",Tabfill!$S$159,\"\")","v":43},null,null,null,null,null,null,null,{"$f":"IF(Tabfill!$T$159<>\"\",Tabfill!$T$159,\"\")","v":43},null,null,null,null,null,null,null,{"$f":"IF(Tabfill!$U$159<>\"\",Tabfill!$U$159,\"\")","v":0}]
[null,null,{"$f":"IF(Tabfill!A160<>\"\",Tabfill!A160,\"\")","v":200850}]
[null,null,null,null,null,null,null,null,null,null,null,null,null,null,null,null,null,{"$f":"IF(Tabfill!$B$160<>\"\",Tabfill!$B$160,\"\")","v":421},null,null,null,null,null,null,null,{"$f":"IF(Tabfill!$C$160<>\"\",Tabfill!$C$160,\"\")","v":401},null,null,null,null,null,null,null,{"$f":"IF(Tabfill!$D$160<>\"\",Tabfill!$D$160,\"\")","v":70},null,null,null,null,null,null,null,{"$f":"IF(Tabfill!$E$160<>\"\",Tabfill!$E$160,\"\")","v":40},null,null,null,null,null,null,null,{"$f":"IF(Tabfill!$F$160<>\"\",Tabfill!$F$160,\"\")","v":401},null,null,null,null,null,null,null,{"$f":"IF(Tabfill!$G$160<>\"\",Tabfill!$G$160,\"\")","v":308},null,null,null,null,null,null,null,{"$f":"IF(Tabfill!$I$160<>\"\",Tabfill!$I$160,\"\")","v":4},null,null,null,null,null,null,null,{"$f":"IF(Tabfill!$J$160<>\"\",Tabfill!$J$160,\"\")","v":20},null,null,null,null,null,null,null,{"$f":"IF(Tabfill!$K$160<>\"\",Tabfill!$K$160,\"\")","v":40},null,null,null,null,null,null,null,{"$f":"IF(Tabfill!$L$160<>\"\",Tabfill!$L$160,\"\")","v":64},null,null,null,null,null,null,null,{"$f":"IF(Tabfill!$M$160<>\"\",Tabfill!$M$160,\"\")","v":244},null,null,null,null,null,null,null,{"$f":"IF(Tabfill!$O$160<>\"\",Tabfill!$O$160,\"\")","v":0},null,null,null,null,null,null,null,{"$f":"IF(Tabfill!$P$160<>\"\",Tabfill!$P$160,\"\")","v":4},null,null,null,null,null,null,null,{"$f":"IF(Tabfill!$R$160<>\"\",Tabfill!$R$160,\"\")","v":70},null,null,null,null,null,null,null,{"$f":"IF(Tabfill!$S$160<>\"\",Tabfill!$S$160,\"\")","v":50},null,null,null,null,null,null,null,{"$f":"IF(Tabfill!$T$160<>\"\",Tabfill!$T$160,\"\")","v":50},null,null,null,null,null,null,null,{"$f":"IF(Tabfill!$U$160<>\"\",Tabfill!$U$160,\"\")","v":0}]
[null,null,{"$f":"IF(Tabfill!A161<>\"\",Tabfill!A161,\"\")","v":200875}]
[null,null,null,null,null,null,null,null,null,null,null,null,null,null,null,null,null,{"$f":"IF(Tabfill!$B$161<>\"\",Tabfill!$B$161,\"\")","v":529.6},null,null,null,null,null,null,null,{"$f":"IF(Tabfill!$C$161<>\"\",Tabfill!$C$161,\"\")","v":504},null,null,null,null,null,null,null,{"$f":"IF(Tabfill!$D$161<>\"\",Tabfill!$D$161,\"\")","v":89.6},null,null,null,null,null,null,null,{"$f":"IF(Tabfill!$E$161<>\"\",Tabfill!$E$161,\"\")","v":37},null,null,null,null,null,null,null,{"$f":"IF(Tabfill!$F$161<>\"\",Tabfill!$F$161,\"\")","v":504},null,null,null,null,null,null,null,{"$f":"IF(Tabfill!$G$161<>\"\",Tabfill!$G$161,\"\")","v":388},null,null,null,null,null,null,null,{"$f":"IF(Tabfill!$I$161<>\"\",Tabfill!$I$161,\"\")","v":60},null,null,null,null,null,null,null,{"$f":"IF(Tabfill!$J$161<>\"\",Tabfill!$J$161,\"\")","v":25.599999999999994},null,null,null,null,null,null,null,{"$f":"IF(Tabfill!$K$161<>\"\",Tabfill!$K$161,\"\")","v":37},null,null,null,null,null,null,null,{"$f":"IF(Tabfill!$L$161<>\"\",Tabfill!$L$161,\"\")","v":122.6},null,null,null,null,null,null,null,{"$f":"IF(Tabfill!$M$161<>\"\",Tabfill!$M$161,\"\")","v":265.39999999999998},null,null,null,null,null,null,null,{"$f":"IF(Tabfill!$O$161<>\"\",Tabfill!$O$161,\"\")","v":0},null,null,null,null,null,null,null,{"$f":"IF(Tabfill!$P$161<>\"\",Tabfill!$P$161,\"\")","v":60},null,null,null,null,null,null,null,{"$f":"IF(Tabfill!$R$161<>\"\",Tabfill!$R$161,\"\")","v":89.6},null,null,null,null,null,null,null,{"$f":"IF(Tabfill!$S$161<>\"\",Tabfill!$S$161,\"\")","v":64},null,null,null,null,null,null,null,{"$f":"IF(Tabfill!$T$161<>\"\",Tabfill!$T$161,\"\")","v":64},null,null,null,null,null,null,null,{"$f":"IF(Tabfill!$U$161<>\"\",Tabfill!$U$161,\"\")","v":0}]
[null,null,{"$f":"IF(Tabfill!A162<>\"\",Tabfill!A162,\"\")","v":200900}]
[null,null,null,null,null,null,null,null,null,null,null,null,null,null,null,null,null,{"$f":"IF(Tabfill!$B$162<>\"\",Tabfill!$B$162,\"\")","v":717.6},null,null,null,null,null,null,null,{"$f":"IF(Tabfill!$C$162<>\"\",Tabfill!$C$162,\"\")","v":684},null,null,null,null,null,null,null,{"$f":"IF(Tabfill!$D$162<>\"\",Tabfill!$D$162,\"\")","v":117.6},null,null,null,null,null,null,null,{"$f":"IF(Tabfill!$E$162<>\"\",Tabfill!$E$162,\"\")","v":38},null,null,null,null,null,null,null,{"$f":"IF(Tabfill!$F$162<>\"\",Tabfill!$F$162,\"\")","v":684},null,null,null,null,null,null,null,{"$f":"IF(Tabfill!$G$162<>\"\",Tabfill!$G$162,\"\")","v":526},null,null,null,null,null,null,null,{"$f":"IF(Tabfill!$I$162<>\"\",Tabfill!$I$162,\"\")","v":167},null,null,null,null,null,null,null,{"$f":"IF(Tabfill!$J$162<>\"\",Tabfill!$J$162,\"\")","v":33.599999999999994},null,null,null,null,null,null,null,{"$f":"IF(Tabfill!$K$162<>\"\",Tabfill!$K$162,\"\")","v":38},null,null,null,null,null,null,null,{"$f":"IF(Tabfill!$L$162<>\"\",Tabfill!$L$162,\"\")","v":238.6},null,null,null,null,null,null,null,{"$f":"IF(Tabfill!$M$162<>\"\",Tabfill!$M$162,\"\")","v":287.39999999999998},null,null,null,null,null,null,null,{"$f":"IF(Tabfill!$O$162<>\"\",Tabfill!$O$162,\"\")","v":0},null,null,null,null,null,null,null,{"$f":"IF(Tabfill!$P$162<>\"\",Tabfill!$P$162,\"\")","v":167},null,null,null,null,null,null,null,{"$f":"IF(Tabfill!$R$162<>\"\",Tabfill!$R$162,\"\")","v":117.6},null,null,null,null,null,null,null,{"$f":"IF(Tabfill!$S$162<>\"\",Tabfill!$S$162,\"\")","v":84},null,null,null,null,null,null,null,{"$f":"IF(Tabfill!$T$162<>\"\",Tabfill!$T$162,\"\")","v":84},null,null,null,null,null,null,null,{"$f":"IF(Tabfill!$U$162<>\"\",Tabfill!$U$162,\"\")","v":0}]
[null,null,{"$f":"IF(Tabfill!A163<>\"\",Tabfill!A163,\"\")","v":200925}]
[null,null,null,null,null,null,null,null,null,null,null,null,null,null,null,null,null,{"$f":"IF(Tabfill!$B$163<>\"\",Tabfill!$B$163,\"\")","v":1018.4},null,null,null,null,null,null,null,{"$f":"IF(Tabfill!$C$163<>\"\",Tabfill!$C$163,\"\")","v":974},null,null,null,null,null,null,null,{"$f":"IF(Tabfill!$D$163<>\"\",Tabfill!$D$163,\"\")","v":155.39999999999998},null,null,null,null,null,null,null,{"$f":"IF(Tabfill!$E$163<>\"\",Tabfill!$E$163,\"\")","v":41},null,null,null,null,null,null,null,{"$f":"IF(Tabfill!$F$163<>\"\",Tabfill!$F$163,\"\")","v":974},null,null,null,null,null,null,null,{"$f":"IF(Tabfill!$G$163<>\"\",Tabfill!$G$163,\"\")","v":749},null,null,null,null,null,null,null,{"$f":"IF(Tabfill!$I$163<>\"\",Tabfill!$I$163,\"\")","v":295},null,null,null,null,null,null,null,{"$f":"IF(Tabfill!$J$163<>\"\",Tabfill!$J$163,\"\")","v":44.399999999999977},null,null,null,null,null,null,null,{"$f":"IF(Tabfill!$K$163<>\"\",Tabfill!$K$163,\"\")","v":41},null,null,null,null,null,null,null,{"$f":"IF(Tabfill!$L$163<>\"\",Tabfill!$L$163,\"\")","v":380.4},null,null,null,null,null,null,null,{"$f":"IF(Tabfill!$M$163<>\"\",Tabfill!$M$163,\"\")","v":368.6},null,null,null,null,null,null,null,{"$f":"IF(Tabfill!$O$163<>\"\",Tabfill!$O$163,\"\")","v":0},null,null,null,null,null,null,null,{"$f":"IF(Tabfill!$P$163<>\"\",Tabfill!$P$163,\"\")","v":294},null,null,null,null,null,null,null,{"$f":"IF(Tabfill!$R$163<>\"\",Tabfill!$R$163,\"\")","v":155.39999999999998},null,null,null,null,null,null,null,{"$f":"IF(Tabfill!$S$163<>\"\",Tabfill!$S$163,\"\")","v":111},null,null,null,null,null,null,null,{"$f":"IF(Tabfill!$T$163<>\"\",Tabfill!$T$163,\"\")","v":111},null,null,null,null,null,null,null,{"$f":"IF(Tabfill!$U$163<>\"\",Tabfill!$U$163,\"\")","v":0}]
[null,null,{"$f":"IF(Tabfill!A164<>\"\",Tabfill!A164,\"\")","v":200950}]
[null,null,null,null,null,null,null,null,null,null,null,null,null,null,null,null,null,{"$f":"IF(Tabfill!$B$164<>\"\",Tabfill!$B$164,\"\")","v":1011.6},null,null,null,null,null,null,null,{"$f":"IF(Tabfill!$C$164<>\"\",Tabfill!$C$164,\"\")","v":966},null,null,null,null,null,null,null,{"$f":"IF(Tabfill!$D$164<>\"\",Tabfill!$D$164,\"\")","v":159.6},null,null,null,null,null,null,null,{"$f":"IF(Tabfill!$E$164<>\"\",Tabfill!$E$164,\"\")","v":49},null,null,null,null,null,null,null,{"$f":"IF(Tabfill!$F$164<>\"\",Tabfill!$F$164,\"\")","v":966},null,null,null,null,null,null,null,{"$f":"IF(Tabfill!$G$164<>\"\",Tabfill!$G$164,\"\")","v":743},null,null,null,null,null,null,null,{"$f":"IF(Tabfill!$I$164<>\"\",Tabfill!$I$164,\"\")","v":416},null,null,null,null,null,null,null,{"$f":"IF(Tabfill!$J$164<>\"\",Tabfill!$J$164,\"\")","v":45.599999999999994},null,null,null,null,null,null,null,{"$f":"IF(Tabfill!$K$164<>\"\",Tabfill!$K$164,\"\")","v":49},null,null,null,null,null,null,null,{"$f":"IF(Tabfill!$L$164<>\"\",Tabfill!$L$164,\"\")","v":510.6},null,null,null,null,null,null,null,{"$f":"IF(Tabfill!$M$164<>\"\",Tabfill!$M$164,\"\")","v":232.39999999999998},null,null,null,null,null,null,null,{"$f":"IF(Tabfill!$O$164<>\"\",Tabfill!$O$164,\"\")","v":0},null,null,null,null,null,null,null,{"$f":"IF(Tabfill!$P$164<>\"\",Tabfill!$P$164,\"\")","v":416},null,null,null,null,null,null,null,{"$f":"IF(Tabfill!$R$164<>\"\",Tabfill!$R$164,\"\")","v":159.6},null,null,null,null,null,null,null,{"$f":"IF(Tabfill!$S$164<>\"\",Tabfill!$S$164,\"\")","v":114},null,null,null,null,null,null,null,{"$f":"IF(Tabfill!$T$164<>\"\",Tabfill!$T$164,\"\")","v":114},null,null,null,null,null,null,null,{"$f":"IF(Tabfill!$U$164<>\"\",Tabfill!$U$164,\"\")","v":0}]
[null,null,{"$f":"IF(Tabfill!A165<>\"\",Tabfill!A165,\"\")","v":200975}]
[null,null,null,null,null,null,null,null,null,null,null,null,null,null,null,null,null,{"$f":"IF(Tabfill!$B$165<>\"\",Tabfill!$B$165,\"\")","v":0},null,null,null,null,null,null,null,{"$f":"IF(Tabfill!$C$165<>\"\",Tabfill!$C$165,\"\")","v":0},null,null,null,null,null,null,null,{"$f":"IF(Tabfill!$D$165<>\"\",Tabfill!$D$165,\"\")","v":0},null,null,null,null,null,null,null,{"$f":"IF(Tabfill!$E$165<>\"\",Tabfill!$E$165,\"\")","v":0},null,null,null,null,null,null,null,{"$f":"IF(Tabfill!$F$165<>\"\",Tabfill!$F$165,\"\")","v":0},null,null,null,null,null,null,null,{"$f":"IF(Tabfill!$G$165<>\"\",Tabfill!$G$165,\"\")","v":0},null,null,null,null,null,null,null,{"$f":"IF(Tabfill!$I$165<>\"\",Tabfill!$I$165,\"\")","v":0},null,null,null,null,null,null,null,{"$f":"IF(Tabfill!$J$165<>\"\",Tabfill!$J$165,\"\")","v":""},null,null,null,null,null,null,null,{"$f":"IF(Tabfill!$K$165<>\"\",Tabfill!$K$165,\"\")","v":""},null,null,null,null,null,null,null,{"$f":"IF(Tabfill!$L$165<>\"\",Tabfill!$L$165,\"\")","v":0},null,null,null,null,null,null,null,{"$f":"IF(Tabfill!$M$165<>\"\",Tabfill!$M$165,\"\")","v":0},null,null,null,null,null,null,null,{"$f":"IF(Tabfill!$O$165<>\"\",Tabfill!$O$165,\"\")","v":0},null,null,null,null,null,null,null,{"$f":"IF(Tabfill!$P$165<>\"\",Tabfill!$P$165,\"\")","v":233},null,null,null,null,null,null,null,{"$f":"IF(Tabfill!$R$165<>\"\",Tabfill!$R$165,\"\")","v":0},null,null,null,null,null,null,null,{"$f":"IF(Tabfill!$S$165<>\"\",Tabfill!$S$165,\"\")","v":0},null,null,null,null,null,null,null,{"$f":"IF(Tabfill!$T$165<>\"\",Tabfill!$T$165,\"\")","v":0},null,null,null,null,null,null,null,{"$f":"IF(Tabfill!$U$165<>\"\",Tabfill!$U$165,\"\")","v":0}]
[null,null,{"$f":"IF(Tabfill!A166<>\"\",Tabfill!A166,\"\")","v":""}]
[null,null,null,null,null,null,null,null,null,null,null,null,null,null,null,null,null,{"$f":"IF(Tabfill!$B$166<>\"\",Tabfill!$B$166,\"\")","v":""},null,null,null,null,null,null,null,{"$f":"IF(Tabfill!$C$166<>\"\",Tabfill!$C$166,\"\")","v":""},null,null,null,null,null,null,null,{"$f":"IF(Tabfill!$D$166<>\"\",Tabfill!$D$166,\"\")","v":""},null,null,null,null,null,null,null,{"$f":"IF(Tabfill!$E$166<>\"\",Tabfill!$E$166,\"\")","v":""},null,null,null,null,null,null,null,{"$f":"IF(Tabfill!$F$166<>\"\",Tabfill!$F$166,\"\")","v":""},null,null,null,null,null,null,null,{"$f":"IF(Tabfill!$G$166<>\"\",Tabfill!$G$166,\"\")","v":""},null,null,null,null,null,null,null,{"$f":"IF(Tabfill!$I$166<>\"\",Tabfill!$I$166,\"\")","v":""},null,null,null,null,null,null,null,{"$f":"IF(Tabfill!$J$166<>\"\",Tabfill!$J$166,\"\")","v":""},null,null,null,null,null,null,null,{"$f":"IF(Tabfill!$K$166<>\"\",Tabfill!$K$166,\"\")","v":""},null,null,null,null,null,null,null,{"$f":"IF(Tabfill!$L$166<>\"\",Tabfill!$L$166,\"\")","v":""},null,null,null,null,null,null,null,{"$f":"IF(Tabfill!$M$166<>\"\",Tabfill!$M$166,\"\")","v":""},null,null,null,null,null,null,null,{"$f":"IF(Tabfill!$O$166<>\"\",Tabfill!$O$166,\"\")","v":""},null,null,null,null,null,null,null,{"$f":"IF(Tabfill!$P$166<>\"\",Tabfill!$P$166,\"\")","v":""},null,null,null,null,null,null,null,{"$f":"IF(Tabfill!$R$166<>\"\",Tabfill!$R$166,\"\")","v":""},null,null,null,null,null,null,null,{"$f":"IF(Tabfill!$S$166<>\"\",Tabfill!$S$166,\"\")","v":""},null,null,null,null,null,null,null,{"$f":"IF(Tabfill!$T$166<>\"\",Tabfill!$T$166,\"\")","v":""},null,null,null,null,null,null,null,{"$f":"IF(Tabfill!$U$166<>\"\",Tabfill!$U$166,\"\")","v":""}]
[null,null,{"$f":"IF(Tabfill!A167<>\"\",Tabfill!A167,\"\")","v":"Subtotals:"}]
[null,null,null,null,null,null,null,null,null,null,null,null,null,null,null,null,null,{"$f":"IF(Tabfill!$B$167<>\"\",Tabfill!$B$167,\"\")","v":6137.9999999999991},null,null,null,null,null,null,null,{"$f":"IF(Tabfill!$C$167<>\"\",Tabfill!$C$167,\"\")","v":5808},null,null,null,null,null,null,null,{"$f":"IF(Tabfill!$D$167<>\"\",Tabfill!$D$167,\"\")","v":1155},null,null,null,null,null,null,null,{"$f":"IF(Tabfill!$E$167<>\"\",Tabfill!$E$167,\"\")","v":759},null,null,null,null,null,null,null,{"$f":"IF(Tabfill!$F$167<>\"\",Tabfill!$F$167,\"\")","v":5808},null,null,null,null,null,null,null,{"$f":"IF(Tabfill!$G$167<>\"\",Tabfill!$G$167,\"\")","v":4467},null,null,null,null,null,null,null,{"$f":"IF(Tabfill!$I$167<>\"\",Tabfill!$I$167,\"\")","v":1012},null,null,null,null,null,null,null,{"$f":"IF(Tabfill!$J$167<>\"\",Tabfill!$J$167,\"\")","v":329.99999999999989},null,null,null,null,null,null,null,{"$f":"IF(Tabfill!$K$167<>\"\",Tabfill!$K$167,\"\")","v":759},null,null,null,null,null,null,null,{"$f":"IF(Tabfill!$L$167<>\"\",Tabfill!$L$167,\"\")","v":2101},null,null,null,null,null,null,null,{"$f":"IF(Tabfill!$M$167<>\"\",Tabfill!$M$167,\"\")","v":2366},null,null,null,null,null,null,null,{"$f":"IF(Tabfill!$O$167<>\"\",Tabfill!$O$167,\"\")","v":0},null,null,null,null,null,null,null,{"$f":"IF(Tabfill!$P$167<>\"\",Tabfill!$P$167,\"\")","v":1234},null,null,null,null,null,null,null,{"$f":"IF(Tabfill!$R$167<>\"\",Tabfill!$R$167,\"\")","v":1155},null,null,null,null,null,null,null,{"$f":"IF(Tabfill!$S$167<>\"\",Tabfill!$S$167,\"\")","v":825},null,null,null,null,null,null,null,{"$f":"IF(Tabfill!$T$167<>\"\",Tabfill!$T$167,\"\")","v":825},null,null,null,null,null,null,null,{"$f":"IF(Tabfill!$U$167<>\"\",Tabfill!$U$167,\"\")","v":0}]
[null,null,{"$f":"IF(Tabfill!A168<>\"\",Tabfill!A168,\"\")","v":""}]
[null,null,null,null,null,null,null,null,null,null,null,null,null,null,null,null,null,{"$f":"IF(Tabfill!$B$168<>\"\",Tabfill!$B$168,\"\")","v":""},null,null,null,null,null,null,null,{"$f":"IF(Tabfill!$C$168<>\"\",Tabfill!$C$168,\"\")","v":""},null,null,null,null,null,null,null,{"$f":"IF(Tabfill!$D$168<>\"\",Tabfill!$D$168,\"\")","v":""},null,null,null,null,null,null,null,{"$f":"IF(Tabfill!$E$168<>\"\",Tabfill!$E$168,\"\")","v":""},null,null,null,null,null,null,null,{"$f":"IF(Tabfill!$F$168<>\"\",Tabfill!$F$168,\"\")","v":""},null,null,null,null,null,null,null,{"$f":"IF(Tabfill!$G$168<>\"\",Tabfill!$G$168,\"\")","v":""},null,null,null,null,null,null,null,{"$f":"IF(Tabfill!$I$168<>\"\",Tabfill!$I$168,\"\")","v":""},null,null,null,null,null,null,null,{"$f":"IF(Tabfill!$J$168<>\"\",Tabfill!$J$168,\"\")","v":""},null,null,null,null,null,null,null,{"$f":"IF(Tabfill!$K$168<>\"\",Tabfill!$K$168,\"\")","v":""},null,null,null,null,null,null,null,{"$f":"IF(Tabfill!$L$168<>\"\",Tabfill!$L$168,\"\")","v":""},null,null,null,null,null,null,null,{"$f":"IF(Tabfill!$M$168<>\"\",Tabfill!$M$168,\"\")","v":""},null,null,null,null,null,null,null,{"$f":"IF(Tabfill!$O$168<>\"\",Tabfill!$O$168,\"\")","v":""},null,null,null,null,null,null,null,{"$f":"IF(Tabfill!$P$168<>\"\",Tabfill!$P$168,\"\")","v":""},null,null,null,null,null,null,null,{"$f":"IF(Tabfill!$R$168<>\"\",Tabfill!$R$168,\"\")","v":""},null,null,null,null,null,null,null,{"$f":"IF(Tabfill!$S$168<>\"\",Tabfill!$S$168,\"\")","v":""},null,null,null,null,null,null,null,{"$f":"IF(Tabfill!$T$168<>\"\",Tabfill!$T$168,\"\")","v":""},null,null,null,null,null,null,null,{"$f":"IF(Tabfill!$U$168<>\"\",Tabfill!$U$168,\"\")","v":""}]
[null,null,{"$f":"IF(Tabfill!A169<>\"\",Tabfill!A169,\"\")","v":""}]
[null,null,null,null,null,null,null,null,null,null,null,null,null,null,null,null,null,{"$f":"IF(Tabfill!$B$169<>\"\",Tabfill!$B$169,\"\")","v":""},null,null,null,null,null,null,null,{"$f":"IF(Tabfill!$C$169<>\"\",Tabfill!$C$169,\"\")","v":""},null,null,null,null,null,null,null,{"$f":"IF(Tabfill!$D$169<>\"\",Tabfill!$D$169,\"\")","v":""},null,null,null,null,null,null,null,{"$f":"IF(Tabfill!$E$169<>\"\",Tabfill!$E$169,\"\")","v":""},null,null,null,null,null,null,null,{"$f":"IF(Tabfill!$F$169<>\"\",Tabfill!$F$169,\"\")","v":""},null,null,null,null,null,null,null,{"$f":"IF(Tabfill!$G$169<>\"\",Tabfill!$G$169,\"\")","v":""},null,null,null,null,null,null,null,{"$f":"IF(Tabfill!$I$169<>\"\",Tabfill!$I$169,\"\")","v":""},null,null,null,null,null,null,null,{"$f":"IF(Tabfill!$J$169<>\"\",Tabfill!$J$169,\"\")","v":""},null,null,null,null,null,null,null,{"$f":"IF(Tabfill!$K$169<>\"\",Tabfill!$K$169,\"\")","v":""},null,null,null,null,null,null,null,{"$f":"IF(Tabfill!$L$169<>\"\",Tabfill!$L$169,\"\")","v":""},null,null,null,null,null,null,null,{"$f":"IF(Tabfill!$M$169<>\"\",Tabfill!$M$169,\"\")","v":""},null,null,null,null,null,null,null,{"$f":"IF(Tabfill!$O$169<>\"\",Tabfill!$O$169,\"\")","v":""},null,null,null,null,null,null,null,{"$f":"IF(Tabfill!$P$169<>\"\",Tabfill!$P$169,\"\")","v":""},null,null,null,null,null,null,null,{"$f":"IF(Tabfill!$R$169<>\"\",Tabfill!$R$169,\"\")","v":""},null,null,null,null,null,null,null,{"$f":"IF(Tabfill!$S$169<>\"\",Tabfill!$S$169,\"\")","v":""},null,null,null,null,null,null,null,{"$f":"IF(Tabfill!$T$169<>\"\",Tabfill!$T$169,\"\")","v":""},null,null,null,null,null,null,null,{"$f":"IF(Tabfill!$U$169<>\"\",Tabfill!$U$169,\"\")","v":""}]
[null,null,{"$f":"IF(Tabfill!A170<>\"\",Tabfill!A170,\"\")","v":""}]
[null,null,null,null,null,null,null,null,null,null,null,null,null,null,null,null,null,{"$f":"IF(Tabfill!$B$170<>\"\",Tabfill!$B$170,\"\")","v":""},null,null,null,null,null,null,null,{"$f":"IF(Tabfill!$C$170<>\"\",Tabfill!$C$170,\"\")","v":""},null,null,null,null,null,null,null,{"$f":"IF(Tabfill!$D$170<>\"\",Tabfill!$D$170,\"\")","v":""},null,null,null,null,null,null,null,{"$f":"IF(Tabfill!$E$170<>\"\",Tabfill!$E$170,\"\")","v":""},null,null,null,null,null,null,null,{"$f":"IF(Tabfill!$F$170<>\"\",Tabfill!$F$170,\"\")","v":""},null,null,null,null,null,null,null,{"$f":"IF(Tabfill!$G$170<>\"\",Tabfill!$G$170,\"\")","v":""},null,null,null,null,null,null,null,{"$f":"IF(Tabfill!$I$170<>\"\",Tabfill!$I$170,\"\")","v":""},null,null,null,null,null,null,null,{"$f":"IF(Tabfill!$J$170<>\"\",Tabfill!$J$170,\"\")","v":""},null,null,null,null,null,null,null,{"$f":"IF(Tabfill!$K$170<>\"\",Tabfill!$K$170,\"\")","v":""},null,null,null,null,null,null,null,{"$f":"IF(Tabfill!$L$170<>\"\",Tabfill!$L$170,\"\")","v":""},null,null,null,null,null,null,null,{"$f":"IF(Tabfill!$M$170<>\"\",Tabfill!$M$170,\"\")","v":""},null,null,null,null,null,null,null,{"$f":"IF(Tabfill!$O$170<>\"\",Tabfill!$O$170,\"\")","v":""},null,null,null,null,null,null,null,{"$f":"IF(Tabfill!$P$170<>\"\",Tabfill!$P$170,\"\")","v":""},null,null,null,null,null,null,null,{"$f":"IF(Tabfill!$R$170<>\"\",Tabfill!$R$170,\"\")","v":""},null,null,null,null,null,null,null,{"$f":"IF(Tabfill!$S$170<>\"\",Tabfill!$S$170,\"\")","v":""},null,null,null,null,null,null,null,{"$f":"IF(Tabfill!$T$170<>\"\",Tabfill!$T$170,\"\")","v":""},null,null,null,null,null,null,null,{"$f":"IF(Tabfill!$U$170<>\"\",Tabfill!$U$170,\"\")","v":""}]
[null,null,{"$f":"IF(Tabfill!A171<>\"\",Tabfill!A171,\"\")","v":""}]
[null,null,null,null,null,null,null,null,null,null,null,null,null,null,null,null,null,{"$f":"IF(Tabfill!$B$171<>\"\",Tabfill!$B$171,\"\")","v":""},null,null,null,null,null,null,null,{"$f":"IF(Tabfill!$C$171<>\"\",Tabfill!$C$171,\"\")","v":""},null,null,null,null,null,null,null,{"$f":"IF(Tabfill!$D$171<>\"\",Tabfill!$D$171,\"\")","v":""},null,null,null,null,null,null,null,{"$f":"IF(Tabfill!$E$171<>\"\",Tabfill!$E$171,\"\")","v":""},null,null,null,null,null,null,null,{"$f":"IF(Tabfill!$F$171<>\"\",Tabfill!$F$171,\"\")","v":""},null,null,null,null,null,null,null,{"$f":"IF(Tabfill!$G$171<>\"\",Tabfill!$G$171,\"\")","v":""},null,null,null,null,null,null,null,{"$f":"IF(Tabfill!$I$171<>\"\",Tabfill!$I$171,\"\")","v":""},null,null,null,null,null,null,null,{"$f":"IF(Tabfill!$J$171<>\"\",Tabfill!$J$171,\"\")","v":""},null,null,null,null,null,null,null,{"$f":"IF(Tabfill!$K$171<>\"\",Tabfill!$K$171,\"\")","v":""},null,null,null,null,null,null,null,{"$f":"IF(Tabfill!$L$171<>\"\",Tabfill!$L$171,\"\")","v":""},null,null,null,null,null,null,null,{"$f":"IF(Tabfill!$M$171<>\"\",Tabfill!$M$171,\"\")","v":""},null,null,null,null,null,null,null,{"$f":"IF(Tabfill!$O$171<>\"\",Tabfill!$O$171,\"\")","v":""},null,null,null,null,null,null,null,{"$f":"IF(Tabfill!$P$171<>\"\",Tabfill!$P$171,\"\")","v":""},null,null,null,null,null,null,null,{"$f":"IF(Tabfill!$R$171<>\"\",Tabfill!$R$171,\"\")","v":""},null,null,null,null,null,null,null,{"$f":"IF(Tabfill!$S$171<>\"\",Tabfill!$S$171,\"\")","v":""},null,null,null,null,null,null,null,{"$f":"IF(Tabfill!$T$171<>\"\",Tabfill!$T$171,\"\")","v":""},null,null,null,null,null,null,null,{"$f":"IF(Tabfill!$U$171<>\"\",Tabfill!$U$171,\"\")","v":""}]
[null,null,{"$f":"IF(Tabfill!A172<>\"\",Tabfill!A172,\"\")","v":"Project Totals:"}]
[null,null,null,null,null,null,null,null,null,null,null,null,null,null,null,null,null,{"$f":"IF(Tabfill!$B$172<>\"\",Tabfill!$B$172,\"\")","v":32235.799999999992},null,null,null,null,null,null,null,{"$f":"IF(Tabfill!$C$172<>\"\",Tabfill!$C$172,\"\")","v":29827},null,null,null,null,null,null,null,{"$f":"IF(Tabfill!$D$172<>\"\",Tabfill!$D$172,\"\")","v":8430.8000000000029},null,null,null,null,null,null,null,{"$f":"IF(Tabfill!$E$172<>\"\",Tabfill!$E$172,\"\")","v":7360},null,null,null,null,null,null,null,{"$f":"IF(Tabfill!$F$172<>\"\",Tabfill!$F$172,\"\")","v":29827},null,null,null,null,null,null,null,{"$f":"IF(Tabfill!$G$172<>\"\",Tabfill!$G$172,\"\")","v":22948},null,null,null,null,null,null,null,{"$f":"IF(Tabfill!$I$172<>\"\",Tabfill!$I$172,\"\")","v":18543},null,null,null,null,null,null,null,{"$f":"IF(Tabfill!$J$172<>\"\",Tabfill!$J$172,\"\")","v":2408.7999999999993},null,null,null,null,null,null,null,{"$f":"IF(Tabfill!$K$172<>\"\",Tabfill!$K$172,\"\")","v":7360},null,null,null,null,null,null,null,{"$f":"IF(Tabfill!$L$172<>\"\",Tabfill!$L$172,\"\")","v":28311.799999999992},null,null,null,null,null,null,null,{"$f":"IF(Tabfill!$M$172<>\"\",Tabfill!$M$172,\"\")","v":-5363.7999999999947},null,null,null,null,null,null,null,{"$f":"IF(Tabfill!$O$172<>\"\",Tabfill!$O$172,\"\")","v":""},null,null,null,null,null,null,null,{"$f":"IF(Tabfill!$P$172<>\"\",Tabfill!$P$172,\"\")","v":27981},null,null,null,null,null,null,null,{"$f":"IF(Tabfill!$R$172<>\"\",Tabfill!$R$172,\"\")","v":8430.8000000000029},null,null,null,null,null,null,null,{"$f":"IF(Tabfill!$S$172<>\"\",Tabfill!$S$172,\"\")","v":6022},null,null,null,null,null,null,null,{"$f":"IF(Tabfill!$T$172<>\"\",Tabfill!$T$172,\"\")","v":6022},null,null,null,null,null,null,null,{"$f":"IF(Tabfill!$U$172<>\"\",Tabfill!$U$172,\"\")","v":""}]
[null,null,{"$f":"IF(Tabfill!A173<>\"\",Tabfill!A173,\"\")","v":""}]
[null,null,null,null,null,null,null,null,null,null,null,null,null,null,null,null,null,{"$f":"IF(Tabfill!$B$173<>\"\",Tabfill!$B$173,\"\")","v":""},null,null,null,null,null,null,null,{"$f":"IF(Tabfill!$C$173<>\"\",Tabfill!$C$173,\"\")","v":""},null,null,null,null,null,null,null,{"$f":"IF(Tabfill!$D$173<>\"\",Tabfill!$D$173,\"\")","v":""},null,null,null,null,null,null,null,{"$f":"IF(Tabfill!$E$173<>\"\",Tabfill!$E$173,\"\")","v":""},null,null,null,null,null,null,null,{"$f":"IF(Tabfill!$F$173<>\"\",Tabfill!$F$173,\"\")","v":""},null,null,null,null,null,null,null,{"$f":"IF(Tabfill!$G$173<>\"\",Tabfill!$G$173,\"\")","v":""},null,null,null,null,null,null,null,{"$f":"IF(Tabfill!$I$173<>\"\",Tabfill!$I$173,\"\")","v":""},null,null,null,null,null,null,null,{"$f":"IF(Tabfill!$J$173<>\"\",Tabfill!$J$173,\"\")","v":""},null,null,null,null,null,null,null,{"$f":"IF(Tabfill!$K$173<>\"\",Tabfill!$K$173,\"\")","v":""},null,null,null,null,null,null,null,{"$f":"IF(Tabfill!$L$173<>\"\",Tabfill!$L$173,\"\")","v":""},null,null,null,null,null,null,null,{"$f":"IF(Tabfill!$M$173<>\"\",Tabfill!$M$173,\"\")","v":""},null,null,null,null,null,null,null,{"$f":"IF(Tabfill!$O$173<>\"\",Tabfill!$O$173,\"\")","v":""},null,null,null,null,null,null,null,{"$f":"IF(Tabfill!$P$173<>\"\",Tabfill!$P$173,\"\")","v":""},null,null,null,null,null,null,null,{"$f":"IF(Tabfill!$R$173<>\"\",Tabfill!$R$173,\"\")","v":""},null,null,null,null,null,null,null,{"$f":"IF(Tabfill!$S$173<>\"\",Tabfill!$S$173,\"\")","v":""},null,null,null,null,null,null,null,{"$f":"IF(Tabfill!$T$173<>\"\",Tabfill!$T$173,\"\")","v":""},null,null,null,null,null,null,null,{"$f":"IF(Tabfill!$U$173<>\"\",Tabfill!$U$173,\"\")","v":""}]
[null,null,{"$f":"IF(Tabfill!A174<>\"\",Tabfill!A174,\"\")","v":""}]
[null,null,null,null,null,null,null,null,null,null,null,null,null,null,null,null,null,{"$f":"IF(Tabfill!$B$174<>\"\",Tabfill!$B$174,\"\")","v":""},null,null,null,null,null,null,null,{"$f":"IF(Tabfill!$C$174<>\"\",Tabfill!$C$174,\"\")","v":""},null,null,null,null,null,null,null,{"$f":"IF(Tabfill!$D$174<>\"\",Tabfill!$D$174,\"\")","v":""},null,null,null,null,null,null,null,{"$f":"IF(Tabfill!$E$174<>\"\",Tabfill!$E$174,\"\")","v":""},null,null,null,null,null,null,null,{"$f":"IF(Tabfill!$F$174<>\"\",Tabfill!$F$174,\"\")","v":""},null,null,null,null,null,null,null,{"$f":"IF(Tabfill!$G$174<>\"\",Tabfill!$G$174,\"\")","v":""},null,null,null,null,null,null,null,{"$f":"IF(Tabfill!$I$174<>\"\",Tabfill!$I$174,\"\")","v":""},null,null,null,null,null,null,null,{"$f":"IF(Tabfill!$J$174<>\"\",Tabfill!$J$174,\"\")","v":""},null,null,null,null,null,null,null,{"$f":"IF(Tabfill!$K$174<>\"\",Tabfill!$K$174,\"\")","v":""},null,null,null,null,null,null,null,{"$f":"IF(Tabfill!$L$174<>\"\",Tabfill!$L$174,\"\")","v":""},null,null,null,null,null,null,null,{"$f":"IF(Tabfill!$M$174<>\"\",Tabfill!$M$174,\"\")","v":""},null,null,null,null,null,null,null,{"$f":"IF(Tabfill!$O$174<>\"\",Tabfill!$O$174,\"\")","v":""},null,null,null,null,null,null,null,{"$f":"IF(Tabfill!$P$174<>\"\",Tabfill!$P$174,\"\")","v":""},null,null,null,null,null,null,null,{"$f":"IF(Tabfill!$R$174<>\"\",Tabfill!$R$174,\"\")","v":""},null,null,null,null,null,null,null,{"$f":"IF(Tabfill!$S$174<>\"\",Tabfill!$S$174,\"\")","v":""},null,null,null,null,null,null,null,{"$f":"IF(Tabfill!$T$174<>\"\",Tabfill!$T$174,\"\")","v":""},null,null,null,null,null,null,null,{"$f":"IF(Tabfill!$U$174<>\"\",Tabfill!$U$174,\"\")","v":""}]
[null,null,{"$f":"IF(Tabfill!A175<>\"\",Tabfill!A175,\"\")","v":""}]
[null,null,null,null,null,null,null,null,null,null,null,null,null,null,null,null,null,{"$f":"IF(Tabfill!$B$175<>\"\",Tabfill!$B$175,\"\")","v":""},null,null,null,null,null,null,null,{"$f":"IF(Tabfill!$C$175<>\"\",Tabfill!$C$175,\"\")","v":""},null,null,null,null,null,null,null,{"$f":"IF(Tabfill!$D$175<>\"\",Tabfill!$D$175,\"\")","v":""},null,null,null,null,null,null,null,{"$f":"IF(Tabfill!$E$175<>\"\",Tabfill!$E$175,\"\")","v":""},null,null,null,null,null,null,null,{"$f":"IF(Tabfill!$F$175<>\"\",Tabfill!$F$175,\"\")","v":""},null,null,null,null,null,null,null,{"$f":"IF(Tabfill!$G$175<>\"\",Tabfill!$G$175,\"\")","v":""},null,null,null,null,null,null,null,{"$f":"IF(Tabfill!$I$175<>\"\",Tabfill!$I$175,\"\")","v":""},null,null,null,null,null,null,null,{"$f":"IF(Tabfill!$J$175<>\"\",Tabfill!$J$175,\"\")","v":""},null,null,null,null,null,null,null,{"$f":"IF(Tabfill!$K$175<>\"\",Tabfill!$K$175,\"\")","v":""},null,null,null,null,null,null,null,{"$f":"IF(Tabfill!$L$175<>\"\",Tabfill!$L$175,\"\")","v":""},null,null,null,null,null,null,null,{"$f":"IF(Tabfill!$M$175<>\"\",Tabfill!$M$175,\"\")","v":""},null,null,null,null,null,null,null,{"$f":"IF(Tabfill!$O$175<>\"\",Tabfill!$O$175,\"\")","v":""},null,null,null,null,null,null,null,{"$f":"IF(Tabfill!$P$175<>\"\",Tabfill!$P$175,\"\")","v":""},null,null,null,null,null,null,null,{"$f":"IF(Tabfill!$R$175<>\"\",Tabfill!$R$175,\"\")","v":""},null,null,null,null,null,null,null,{"$f":"IF(Tabfill!$S$175<>\"\",Tabfill!$S$175,\"\")","v":""},null,null,null,null,null,null,null,{"$f":"IF(Tabfill!$T$175<>\"\",Tabfill!$T$175,\"\")","v":""},null,null,null,null,null,null,null,{"$f":"IF(Tabfill!$U$175<>\"\",Tabfill!$U$175,\"\")","v":""}]
[null,null,{"$f":"IF(Tabfill!A176<>\"\",Tabfill!A176,\"\")","v":""}]
[null,null,null,null,null,null,null,null,null,null,null,null,null,null,null,null,null,{"$f":"IF(Tabfill!$B$176<>\"\",Tabfill!$B$176,\"\")","v":""},null,null,null,null,null,null,null,{"$f":"IF(Tabfill!$C$176<>\"\",Tabfill!$C$176,\"\")","v":""},null,null,null,null,null,null,null,{"$f":"IF(Tabfill!$D$176<>\"\",Tabfill!$D$176,\"\")","v":""},null,null,null,null,null,null,null,{"$f":"IF(Tabfill!$E$176<>\"\",Tabfill!$E$176,\"\")","v":""},null,null,null,null,null,null,null,{"$f":"IF(Tabfill!$F$176<>\"\",Tabfill!$F$176,\"\")","v":""},null,null,null,null,null,null,null,{"$f":"IF(Tabfill!$G$176<>\"\",Tabfill!$G$176,\"\")","v":""},null,null,null,null,null,null,null,{"$f":"IF(Tabfill!$I$176<>\"\",Tabfill!$I$176,\"\")","v":""},null,null,null,null,null,null,null,{"$f":"IF(Tabfill!$J$176<>\"\",Tabfill!$J$176,\"\")","v":""},null,null,null,null,null,null,null,{"$f":"IF(Tabfill!$K$176<>\"\",Tabfill!$K$176,\"\")","v":""},null,null,null,null,null,null,null,{"$f":"IF(Tabfill!$L$176<>\"\",Tabfill!$L$176,\"\")","v":""},null,null,null,null,null,null,null,{"$f":"IF(Tabfill!$M$176<>\"\",Tabfill!$M$176,\"\")","v":""},null,null,null,null,null,null,null,{"$f":"IF(Tabfill!$O$176<>\"\",Tabfill!$O$176,\"\")","v":""},null,null,null,null,null,null,null,{"$f":"IF(Tabfill!$P$176<>\"\",Tabfill!$P$176,\"\")","v":""},null,null,null,null,null,null,null,{"$f":"IF(Tabfill!$R$176<>\"\",Tabfill!$R$176,\"\")","v":""},null,null,null,null,null,null,null,{"$f":"IF(Tabfill!$S$176<>\"\",Tabfill!$S$176,\"\")","v":""},null,null,null,null,null,null,null,{"$f":"IF(Tabfill!$T$176<>\"\",Tabfill!$T$176,\"\")","v":""},null,null,null,null,null,null,null,{"$f":"IF(Tabfill!$U$176<>\"\",Tabfill!$U$176,\"\")","v":""}]
[null,null,{"$f":"IF(Tabfill!A177<>\"\",Tabfill!A177,\"\")","v":""}]
[null,null,null,null,null,null,null,null,null,null,null,null,null,null,null,null,null,{"$f":"IF(Tabfill!$B$177<>\"\",Tabfill!$B$177,\"\")","v":""},null,null,null,null,null,null,null,{"$f":"IF(Tabfill!$C$177<>\"\",Tabfill!$C$177,\"\")","v":""},null,null,null,null,null,null,null,{"$f":"IF(Tabfill!$D$177<>\"\",Tabfill!$D$177,\"\")","v":""},null,null,null,null,null,null,null,{"$f":"IF(Tabfill!$E$177<>\"\",Tabfill!$E$177,\"\")","v":""},null,null,null,null,null,null,null,{"$f":"IF(Tabfill!$F$177<>\"\",Tabfill!$F$177,\"\")","v":""},null,null,null,null,null,null,null,{"$f":"IF(Tabfill!$G$177<>\"\",Tabfill!$G$177,\"\")","v":""},null,null,null,null,null,null,null,{"$f":"IF(Tabfill!$I$177<>\"\",Tabfill!$I$177,\"\")","v":""},null,null,null,null,null,null,null,{"$f":"IF(Tabfill!$J$177<>\"\",Tabfill!$J$177,\"\")","v":""},null,null,null,null,null,null,null,{"$f":"IF(Tabfill!$K$177<>\"\",Tabfill!$K$177,\"\")","v":""},null,null,null,null,null,null,null,{"$f":"IF(Tabfill!$L$177<>\"\",Tabfill!$L$177,\"\")","v":""},null,null,null,null,null,null,null,{"$f":"IF(Tabfill!$M$177<>\"\",Tabfill!$M$177,\"\")","v":""},null,null,null,null,null,null,null,{"$f":"IF(Tabfill!$O$177<>\"\",Tabfill!$O$177,\"\")","v":""},null,null,null,null,null,null,null,{"$f":"IF(Tabfill!$P$177<>\"\",Tabfill!$P$177,\"\")","v":""},null,null,null,null,null,null,null,{"$f":"IF(Tabfill!$R$177<>\"\",Tabfill!$R$177,\"\")","v":""},null,null,null,null,null,null,null,{"$f":"IF(Tabfill!$S$177<>\"\",Tabfill!$S$177,\"\")","v":""},null,null,null,null,null,null,null,{"$f":"IF(Tabfill!$T$177<>\"\",Tabfill!$T$177,\"\")","v":""},null,null,null,null,null,null,null,{"$f":"IF(Tabfill!$U$177<>\"\",Tabfill!$U$177,\"\")","v":""}]
[null,null,{"$f":"IF(Tabfill!A178<>\"\",Tabfill!A178,\"\")","v":""}]
[null,null,null,null,null,null,null,null,null,null,null,null,null,null,null,null,null,{"$f":"IF(Tabfill!$B$178<>\"\",Tabfill!$B$178,\"\")","v":""},null,null,null,null,null,null,null,{"$f":"IF(Tabfill!$C$178<>\"\",Tabfill!$C$178,\"\")","v":""},null,null,null,null,null,null,null,{"$f":"IF(Tabfill!$D$178<>\"\",Tabfill!$D$178,\"\")","v":""},null,null,null,null,null,null,null,{"$f":"IF(Tabfill!$E$178<>\"\",Tabfill!$E$178,\"\")","v":""},null,null,null,null,null,null,null,{"$f":"IF(Tabfill!$F$178<>\"\",Tabfill!$F$178,\"\")","v":""},null,null,null,null,null,null,null,{"$f":"IF(Tabfill!$G$178<>\"\",Tabfill!$G$178,\"\")","v":""},null,null,null,null,null,null,null,{"$f":"IF(Tabfill!$I$178<>\"\",Tabfill!$I$178,\"\")","v":""},null,null,null,null,null,null,null,{"$f":"IF(Tabfill!$J$178<>\"\",Tabfill!$J$178,\"\")","v":""},null,null,null,null,null,null,null,{"$f":"IF(Tabfill!$K$178<>\"\",Tabfill!$K$178,\"\")","v":""},null,null,null,null,null,null,null,{"$f":"IF(Tabfill!$L$178<>\"\",Tabfill!$L$178,\"\")","v":""},null,null,null,null,null,null,null,{"$f":"IF(Tabfill!$M$178<>\"\",Tabfill!$M$178,\"\")","v":""},null,null,null,null,null,null,null,{"$f":"IF(Tabfill!$O$178<>\"\",Tabfill!$O$178,\"\")","v":""},null,null,null,null,null,null,null,{"$f":"IF(Tabfill!$P$178<>\"\",Tabfill!$P$178,\"\")","v":""},null,null,null,null,null,null,null,{"$f":"IF(Tabfill!$R$178<>\"\",Tabfill!$R$178,\"\")","v":""},null,null,null,null,null,null,null,{"$f":"IF(Tabfill!$S$178<>\"\",Tabfill!$S$178,\"\")","v":""},null,null,null,null,null,null,null,{"$f":"IF(Tabfill!$T$178<>\"\",Tabfill!$T$178,\"\")","v":""},null,null,null,null,null,null,null,{"$f":"IF(Tabfill!$U$178<>\"\",Tabfill!$U$178,\"\")","v":""}]
[null,null,{"$f":"IF(Tabfill!A179<>\"\",Tabfill!A179,\"\")","v":""}]
[null,null,null,null,null,null,null,null,null,null,null,null,null,null,null,null,null,{"$f":"IF(Tabfill!$B$179<>\"\",Tabfill!$B$179,\"\")","v":""},null,null,null,null,null,null,null,{"$f":"IF(Tabfill!$C$179<>\"\",Tabfill!$C$179,\"\")","v":""},null,null,null,null,null,null,null,{"$f":"IF(Tabfill!$D$179<>\"\",Tabfill!$D$179,\"\")","v":""},null,null,null,null,null,null,null,{"$f":"IF(Tabfill!$E$179<>\"\",Tabfill!$E$179,\"\")","v":""},null,null,null,null,null,null,null,{"$f":"IF(Tabfill!$F$179<>\"\",Tabfill!$F$179,\"\")","v":""},null,null,null,null,null,null,null,{"$f":"IF(Tabfill!$G$179<>\"\",Tabfill!$G$179,\"\")","v":""},null,null,null,null,null,null,null,{"$f":"IF(Tabfill!$I$179<>\"\",Tabfill!$I$179,\"\")","v":""},null,null,null,null,null,null,null,{"$f":"IF(Tabfill!$J$179<>\"\",Tabfill!$J$179,\"\")","v":""},null,null,null,null,null,null,null,{"$f":"IF(Tabfill!$K$179<>\"\",Tabfill!$K$179,\"\")","v":""},null,null,null,null,null,null,null,{"$f":"IF(Tabfill!$L$179<>\"\",Tabfill!$L$179,\"\")","v":""},null,null,null,null,null,null,null,{"$f":"IF(Tabfill!$M$179<>\"\",Tabfill!$M$179,\"\")","v":""},null,null,null,null,null,null,null,{"$f":"IF(Tabfill!$O$179<>\"\",Tabfill!$O$179,\"\")","v":""},null,null,null,null,null,null,null,{"$f":"IF(Tabfill!$P$179<>\"\",Tabfill!$P$179,\"\")","v":""},null,null,null,null,null,null,null,{"$f":"IF(Tabfill!$R$179<>\"\",Tabfill!$R$179,\"\")","v":""},null,null,null,null,null,null,null,{"$f":"IF(Tabfill!$S$179<>\"\",Tabfill!$S$179,\"\")","v":""},null,null,null,null,null,null,null,{"$f":"IF(Tabfill!$T$179<>\"\",Tabfill!$T$179,\"\")","v":""},null,null,null,null,null,null,null,{"$f":"IF(Tabfill!$U$179<>\"\",Tabfill!$U$179,\"\")","v":""}]
[null,null,{"$f":"IF(Tabfill!A180<>\"\",Tabfill!A180,\"\")","v":""}]
[null,null,null,null,null,null,null,null,null,null,null,null,null,null,null,null,null,{"$f":"IF(Tabfill!$B$180<>\"\",Tabfill!$B$180,\"\")","v":""},null,null,null,null,null,null,null,{"$f":"IF(Tabfill!$C$180<>\"\",Tabfill!$C$180,\"\")","v":""},null,null,null,null,null,null,null,{"$f":"IF(Tabfill!$D$180<>\"\",Tabfill!$D$180,\"\")","v":""},null,null,null,null,null,null,null,{"$f":"IF(Tabfill!$E$180<>\"\",Tabfill!$E$180,\"\")","v":""},null,null,null,null,null,null,null,{"$f":"IF(Tabfill!$F$180<>\"\",Tabfill!$F$180,\"\")","v":""},null,null,null,null,null,null,null,{"$f":"IF(Tabfill!$G$180<>\"\",Tabfill!$G$180,\"\")","v":""},null,null,null,null,null,null,null,{"$f":"IF(Tabfill!$I$180<>\"\",Tabfill!$I$180,\"\")","v":""},null,null,null,null,null,null,null,{"$f":"IF(Tabfill!$J$180<>\"\",Tabfill!$J$180,\"\")","v":""},null,null,null,null,null,null,null,{"$f":"IF(Tabfill!$K$180<>\"\",Tabfill!$K$180,\"\")","v":""},null,null,null,null,null,null,null,{"$f":"IF(Tabfill!$L$180<>\"\",Tabfill!$L$180,\"\")","v":""},null,null,null,null,null,null,null,{"$f":"IF(Tabfill!$M$180<>\"\",Tabfill!$M$180,\"\")","v":""},null,null,null,null,null,null,null,{"$f":"IF(Tabfill!$O$180<>\"\",Tabfill!$O$180,\"\")","v":""},null,null,null,null,null,null,null,{"$f":"IF(Tabfill!$P$180<>\"\",Tabfill!$P$180,\"\")","v":""},null,null,null,null,null,null,null,{"$f":"IF(Tabfill!$R$180<>\"\",Tabfill!$R$180,\"\")","v":""},null,null,null,null,null,null,null,{"$f":"IF(Tabfill!$S$180<>\"\",Tabfill!$S$180,\"\")","v":""},null,null,null,null,null,null,null,{"$f":"IF(Tabfill!$T$180<>\"\",Tabfill!$T$180,\"\")","v":""},null,null,null,null,null,null,null,{"$f":"IF(Tabfill!$U$180<>\"\",Tabfill!$U$180,\"\")","v":""}]
[null,null,{"$f":"IF(Tabfill!A181<>\"\",Tabfill!A181,\"\")","v":""}]
[null,null,null,null,null,null,null,null,null,null,null,null,null,null,null,null,null,{"$f":"IF(Tabfill!$B$181<>\"\",Tabfill!$B$181,\"\")","v":""},null,null,null,null,null,null,null,{"$f":"IF(Tabfill!$C$181<>\"\",Tabfill!$C$181,\"\")","v":""},null,null,null,null,null,null,null,{"$f":"IF(Tabfill!$D$181<>\"\",Tabfill!$D$181,\"\")","v":""},null,null,null,null,null,null,null,{"$f":"IF(Tabfill!$E$181<>\"\",Tabfill!$E$181,\"\")","v":""},null,null,null,null,null,null,null,{"$f":"IF(Tabfill!$F$181<>\"\",Tabfill!$F$181,\"\")","v":""},null,null,null,null,null,null,null,{"$f":"IF(Tabfill!$G$181<>\"\",Tabfill!$G$181,\"\")","v":""},null,null,null,null,null,null,null,{"$f":"IF(Tabfill!$I$181<>\"\",Tabfill!$I$181,\"\")","v":""},null,null,null,null,null,null,null,{"$f":"IF(Tabfill!$J$181<>\"\",Tabfill!$J$181,\"\")","v":""},null,null,null,null,null,null,null,{"$f":"IF(Tabfill!$K$181<>\"\",Tabfill!$K$181,\"\")","v":""},null,null,null,null,null,null,null,{"$f":"IF(Tabfill!$L$181<>\"\",Tabfill!$L$181,\"\")","v":""},null,null,null,null,null,null,null,{"$f":"IF(Tabfill!$M$181<>\"\",Tabfill!$M$181,\"\")","v":""},null,null,null,null,null,null,null,{"$f":"IF(Tabfill!$O$181<>\"\",Tabfill!$O$181,\"\")","v":""},null,null,null,null,null,null,null,{"$f":"IF(Tabfill!$P$181<>\"\",Tabfill!$P$181,\"\")","v":""},null,null,null,null,null,null,null,{"$f":"IF(Tabfill!$R$181<>\"\",Tabfill!$R$181,\"\")","v":""},null,null,null,null,null,null,null,{"$f":"IF(Tabfill!$S$181<>\"\",Tabfill!$S$181,\"\")","v":""},null,null,null,null,null,null,null,{"$f":"IF(Tabfill!$T$181<>\"\",Tabfill!$T$181,\"\")","v":""},null,null,null,null,null,null,null,{"$f":"IF(Tabfill!$U$181<>\"\",Tabfill!$U$181,\"\")","v":""}]
[null,null,{"$f":"IF(Tabfill!A182<>\"\",Tabfill!A182,\"\")","v":""}]
[null,null,null,null,null,null,null,null,null,null,null,null,null,null,null,null,null,{"$f":"IF(Tabfill!$B$182<>\"\",Tabfill!$B$182,\"\")","v":""},null,null,null,null,null,null,null,{"$f":"IF(Tabfill!$C$182<>\"\",Tabfill!$C$182,\"\")","v":""},null,null,null,null,null,null,null,{"$f":"IF(Tabfill!$D$182<>\"\",Tabfill!$D$182,\"\")","v":""},null,null,null,null,null,null,null,{"$f":"IF(Tabfill!$E$182<>\"\",Tabfill!$E$182,\"\")","v":""},null,null,null,null,null,null,null,{"$f":"IF(Tabfill!$F$182<>\"\",Tabfill!$F$182,\"\")","v":""},null,null,null,null,null,null,null,{"$f":"IF(Tabfill!$G$182<>\"\",Tabfill!$G$182,\"\")","v":""},null,null,null,null,null,null,null,{"$f":"IF(Tabfill!$I$182<>\"\",Tabfill!$I$182,\"\")","v":""},null,null,null,null,null,null,null,{"$f":"IF(Tabfill!$J$182<>\"\",Tabfill!$J$182,\"\")","v":""},null,null,null,null,null,null,null,{"$f":"IF(Tabfill!$K$182<>\"\",Tabfill!$K$182,\"\")","v":""},null,null,null,null,null,null,null,{"$f":"IF(Tabfill!$L$182<>\"\",Tabfill!$L$182,\"\")","v":""},null,null,null,null,null,null,null,{"$f":"IF(Tabfill!$M$182<>\"\",Tabfill!$M$182,\"\")","v":""},null,null,null,null,null,null,null,{"$f":"IF(Tabfill!$O$182<>\"\",Tabfill!$O$182,\"\")","v":""},null,null,null,null,null,null,null,{"$f":"IF(Tabfill!$P$182<>\"\",Tabfill!$P$182,\"\")","v":""},null,null,null,null,null,null,null,{"$f":"IF(Tabfill!$R$182<>\"\",Tabfill!$R$182,\"\")","v":""},null,null,null,null,null,null,null,{"$f":"IF(Tabfill!$S$182<>\"\",Tabfill!$S$182,\"\")","v":""},null,null,null,null,null,null,null,{"$f":"IF(Tabfill!$T$182<>\"\",Tabfill!$T$182,\"\")","v":""},null,null,null,null,null,null,null,{"$f":"IF(Tabfill!$U$182<>\"\",Tabfill!$U$182,\"\")","v":""}]
[null,null,{"$f":"IF(Tabfill!A183<>\"\",Tabfill!A183,\"\")","v":""}]
[null,null,null,null,null,null,null,null,null,null,null,null,null,null,null,null,null,{"$f":"IF(Tabfill!$B$183<>\"\",Tabfill!$B$183,\"\")","v":""},null,null,null,null,null,null,null,{"$f":"IF(Tabfill!$C$183<>\"\",Tabfill!$C$183,\"\")","v":""},null,null,null,null,null,null,null,{"$f":"IF(Tabfill!$D$183<>\"\",Tabfill!$D$183,\"\")","v":""},null,null,null,null,null,null,null,{"$f":"IF(Tabfill!$E$183<>\"\",Tabfill!$E$183,\"\")","v":""},null,null,null,null,null,null,null,{"$f":"IF(Tabfill!$F$183<>\"\",Tabfill!$F$183,\"\")","v":""},null,null,null,null,null,null,null,{"$f":"IF(Tabfill!$G$183<>\"\",Tabfill!$G$183,\"\")","v":""},null,null,null,null,null,null,null,{"$f":"IF(Tabfill!$I$183<>\"\",Tabfill!$I$183,\"\")","v":""},null,null,null,null,null,null,null,{"$f":"IF(Tabfill!$J$183<>\"\",Tabfill!$J$183,\"\")","v":""},null,null,null,null,null,null,null,{"$f":"IF(Tabfill!$K$183<>\"\",Tabfill!$K$183,\"\")","v":""},null,null,null,null,null,null,null,{"$f":"IF(Tabfill!$L$183<>\"\",Tabfill!$L$183,\"\")","v":""},null,null,null,null,null,null,null,{"$f":"IF(Tabfill!$M$183<>\"\",Tabfill!$M$183,\"\")","v":""},null,null,null,null,null,null,null,{"$f":"IF(Tabfill!$O$183<>\"\",Tabfill!$O$183,\"\")","v":""},null,null,null,null,null,null,null,{"$f":"IF(Tabfill!$P$183<>\"\",Tabfill!$P$183,\"\")","v":""},null,null,null,null,null,null,null,{"$f":"IF(Tabfill!$R$183<>\"\",Tabfill!$R$183,\"\")","v":""},null,null,null,null,null,null,null,{"$f":"IF(Tabfill!$S$183<>\"\",Tabfill!$S$183,\"\")","v":""},null,null,null,null,null,null,null,{"$f":"IF(Tabfill!$T$183<>\"\",Tabfill!$T$183,\"\")","v":""},null,null,null,null,null,null,null,{"$f":"IF(Tabfill!$U$183<>\"\",Tabfill!$U$183,\"\")","v":""}]
[null,null,{"$f":"IF(Tabfill!A184<>\"\",Tabfill!A184,\"\")","v":""}]
[null,null,null,null,null,null,null,null,null,null,null,null,null,null,null,null,null,{"$f":"IF(Tabfill!$B$184<>\"\",Tabfill!$B$184,\"\")","v":""},null,null,null,null,null,null,null,{"$f":"IF(Tabfill!$C$184<>\"\",Tabfill!$C$184,\"\")","v":""},null,null,null,null,null,null,null,{"$f":"IF(Tabfill!$D$184<>\"\",Tabfill!$D$184,\"\")","v":""},null,null,null,null,null,null,null,{"$f":"IF(Tabfill!$E$184<>\"\",Tabfill!$E$184,\"\")","v":""},null,null,null,null,null,null,null,{"$f":"IF(Tabfill!$F$184<>\"\",Tabfill!$F$184,\"\")","v":""},null,null,null,null,null,null,null,{"$f":"IF(Tabfill!$G$184<>\"\",Tabfill!$G$184,\"\")","v":""},null,null,null,null,null,null,null,{"$f":"IF(Tabfill!$I$184<>\"\",Tabfill!$I$184,\"\")","v":""},null,null,null,null,null,null,null,{"$f":"IF(Tabfill!$J$184<>\"\",Tabfill!$J$184,\"\")","v":""},null,null,null,null,null,null,null,{"$f":"IF(Tabfill!$K$184<>\"\",Tabfill!$K$184,\"\")","v":""},null,null,null,null,null,null,null,{"$f":"IF(Tabfill!$L$184<>\"\",Tabfill!$L$184,\"\")","v":""},null,null,null,null,null,null,null,{"$f":"IF(Tabfill!$M$184<>\"\",Tabfill!$M$184,\"\")","v":""},null,null,null,null,null,null,null,{"$f":"IF(Tabfill!$O$184<>\"\",Tabfill!$O$184,\"\")","v":""},null,null,null,null,null,null,null,{"$f":"IF(Tabfill!$P$184<>\"\",Tabfill!$P$184,\"\")","v":""},null,null,null,null,null,null,null,{"$f":"IF(Tabfill!$R$184<>\"\",Tabfill!$R$184,\"\")","v":""},null,null,null,null,null,null,null,{"$f":"IF(Tabfill!$S$184<>\"\",Tabfill!$S$184,\"\")","v":""},null,null,null,null,null,null,null,{"$f":"IF(Tabfill!$T$184<>\"\",Tabfill!$T$184,\"\")","v":""},null,null,null,null,null,null,null,{"$f":"IF(Tabfill!$U$184<>\"\",Tabfill!$U$184,\"\")","v":""}]
[null,null,{"$f":"IF(Tabfill!A185<>\"\",Tabfill!A185,\"\")","v":""}]
[null,null,null,null,null,null,null,null,null,null,null,null,null,null,null,null,null,{"$f":"IF(Tabfill!$B$185<>\"\",Tabfill!$B$185,\"\")","v":""},null,null,null,null,null,null,null,{"$f":"IF(Tabfill!$C$185<>\"\",Tabfill!$C$185,\"\")","v":""},null,null,null,null,null,null,null,{"$f":"IF(Tabfill!$D$185<>\"\",Tabfill!$D$185,\"\")","v":""},null,null,null,null,null,null,null,{"$f":"IF(Tabfill!$E$185<>\"\",Tabfill!$E$185,\"\")","v":""},null,null,null,null,null,null,null,{"$f":"IF(Tabfill!$F$185<>\"\",Tabfill!$F$185,\"\")","v":""},null,null,null,null,null,null,null,{"$f":"IF(Tabfill!$G$185<>\"\",Tabfill!$G$185,\"\")","v":""},null,null,null,null,null,null,null,{"$f":"IF(Tabfill!$I$185<>\"\",Tabfill!$I$185,\"\")","v":""},null,null,null,null,null,null,null,{"$f":"IF(Tabfill!$J$185<>\"\",Tabfill!$J$185,\"\")","v":""},null,null,null,null,null,null,null,{"$f":"IF(Tabfill!$K$185<>\"\",Tabfill!$K$185,\"\")","v":""},null,null,null,null,null,null,null,{"$f":"IF(Tabfill!$L$185<>\"\",Tabfill!$L$185,\"\")","v":""},null,null,null,null,null,null,null,{"$f":"IF(Tabfill!$M$185<>\"\",Tabfill!$M$185,\"\")","v":""},null,null,null,null,null,null,null,{"$f":"IF(Tabfill!$O$185<>\"\",Tabfill!$O$185,\"\")","v":""},null,null,null,null,null,null,null,{"$f":"IF(Tabfill!$P$185<>\"\",Tabfill!$P$185,\"\")","v":""},null,null,null,null,null,null,null,{"$f":"IF(Tabfill!$R$185<>\"\",Tabfill!$R$185,\"\")","v":""},null,null,null,null,null,null,null,{"$f":"IF(Tabfill!$S$185<>\"\",Tabfill!$S$185,\"\")","v":""},null,null,null,null,null,null,null,{"$f":"IF(Tabfill!$T$185<>\"\",Tabfill!$T$185,\"\")","v":""},null,null,null,null,null,null,null,{"$f":"IF(Tabfill!$U$185<>\"\",Tabfill!$U$185,\"\")","v":""}]
[null,null,{"$f":"IF(Tabfill!A186<>\"\",Tabfill!A186,\"\")","v":""}]
[null,null,null,null,null,null,null,null,null,null,null,null,null,null,null,null,null,{"$f":"IF(Tabfill!$B$186<>\"\",Tabfill!$B$186,\"\")","v":""},null,null,null,null,null,null,null,{"$f":"IF(Tabfill!$C$186<>\"\",Tabfill!$C$186,\"\")","v":""},null,null,null,null,null,null,null,{"$f":"IF(Tabfill!$D$186<>\"\",Tabfill!$D$186,\"\")","v":""},null,null,null,null,null,null,null,{"$f":"IF(Tabfill!$E$186<>\"\",Tabfill!$E$186,\"\")","v":""},null,null,null,null,null,null,null,{"$f":"IF(Tabfill!$F$186<>\"\",Tabfill!$F$186,\"\")","v":""},null,null,null,null,null,null,null,{"$f":"IF(Tabfill!$G$186<>\"\",Tabfill!$G$186,\"\")","v":""},null,null,null,null,null,null,null,{"$f":"IF(Tabfill!$I$186<>\"\",Tabfill!$I$186,\"\")","v":""},null,null,null,null,null,null,null,{"$f":"IF(Tabfill!$J$186<>\"\",Tabfill!$J$186,\"\")","v":""},null,null,null,null,null,null,null,{"$f":"IF(Tabfill!$K$186<>\"\",Tabfill!$K$186,\"\")","v":""},null,null,null,null,null,null,null,{"$f":"IF(Tabfill!$L$186<>\"\",Tabfill!$L$186,\"\")","v":""},null,null,null,null,null,null,null,{"$f":"IF(Tabfill!$M$186<>\"\",Tabfill!$M$186,\"\")","v":""},null,null,null,null,null,null,null,{"$f":"IF(Tabfill!$O$186<>\"\",Tabfill!$O$186,\"\")","v":""},null,null,null,null,null,null,null,{"$f":"IF(Tabfill!$P$186<>\"\",Tabfill!$P$186,\"\")","v":""},null,null,null,null,null,null,null,{"$f":"IF(Tabfill!$R$186<>\"\",Tabfill!$R$186,\"\")","v":""},null,null,null,null,null,null,null,{"$f":"IF(Tabfill!$S$186<>\"\",Tabfill!$S$186,\"\")","v":""},null,null,null,null,null,null,null,{"$f":"IF(Tabfill!$T$186<>\"\",Tabfill!$T$186,\"\")","v":""},null,null,null,null,null,null,null,{"$f":"IF(Tabfill!$U$186<>\"\",Tabfill!$U$186,\"\")","v":""}]
[null,null,{"$f":"IF(Tabfill!A187<>\"\",Tabfill!A187,\"\")","v":""}]
[null,null,null,null,null,null,null,null,null,null,null,null,null,null,null,null,null,{"$f":"IF(Tabfill!$B$187<>\"\",Tabfill!$B$187,\"\")","v":""},null,null,null,null,null,null,null,{"$f":"IF(Tabfill!$C$187<>\"\",Tabfill!$C$187,\"\")","v":""},null,null,null,null,null,null,null,{"$f":"IF(Tabfill!$D$187<>\"\",Tabfill!$D$187,\"\")","v":""},null,null,null,null,null,null,null,{"$f":"IF(Tabfill!$E$187<>\"\",Tabfill!$E$187,\"\")","v":""},null,null,null,null,null,null,null,{"$f":"IF(Tabfill!$F$187<>\"\",Tabfill!$F$187,\"\")","v":""},null,null,null,null,null,null,null,{"$f":"IF(Tabfill!$G$187<>\"\",Tabfill!$G$187,\"\")","v":""},null,null,null,null,null,null,null,{"$f":"IF(Tabfill!$I$187<>\"\",Tabfill!$I$187,\"\")","v":""},null,null,null,null,null,null,null,{"$f":"IF(Tabfill!$J$187<>\"\",Tabfill!$J$187,\"\")","v":""},null,null,null,null,null,null,null,{"$f":"IF(Tabfill!$K$187<>\"\",Tabfill!$K$187,\"\")","v":""},null,null,null,null,null,null,null,{"$f":"IF(Tabfill!$L$187<>\"\",Tabfill!$L$187,\"\")","v":""},null,null,null,null,null,null,null,{"$f":"IF(Tabfill!$M$187<>\"\",Tabfill!$M$187,\"\")","v":""},null,null,null,null,null,null,null,{"$f":"IF(Tabfill!$O$187<>\"\",Tabfill!$O$187,\"\")","v":""},null,null,null,null,null,null,null,{"$f":"IF(Tabfill!$P$187<>\"\",Tabfill!$P$187,\"\")","v":""},null,null,null,null,null,null,null,{"$f":"IF(Tabfill!$R$187<>\"\",Tabfill!$R$187,\"\")","v":""},null,null,null,null,null,null,null,{"$f":"IF(Tabfill!$S$187<>\"\",Tabfill!$S$187,\"\")","v":""},null,null,null,null,null,null,null,{"$f":"IF(Tabfill!$T$187<>\"\",Tabfill!$T$187,\"\")","v":""},null,null,null,null,null,null,null,{"$f":"IF(Tabfill!$U$187<>\"\",Tabfill!$U$187,\"\")","v":""}]
[null,null,{"$f":"IF(Tabfill!A188<>\"\",Tabfill!A188,\"\")","v":""}]
[null,null,null,null,null,null,null,null,null,null,null,null,null,null,null,null,null,{"$f":"IF(Tabfill!$B$188<>\"\",Tabfill!$B$188,\"\")","v":""},null,null,null,null,null,null,null,{"$f":"IF(Tabfill!$C$188<>\"\",Tabfill!$C$188,\"\")","v":""},null,null,null,null,null,null,null,{"$f":"IF(Tabfill!$D$188<>\"\",Tabfill!$D$188,\"\")","v":""},null,null,null,null,null,null,null,{"$f":"IF(Tabfill!$E$188<>\"\",Tabfill!$E$188,\"\")","v":""},null,null,null,null,null,null,null,{"$f":"IF(Tabfill!$F$188<>\"\",Tabfill!$F$188,\"\")","v":""},null,null,null,null,null,null,null,{"$f":"IF(Tabfill!$G$188<>\"\",Tabfill!$G$188,\"\")","v":""},null,null,null,null,null,null,null,{"$f":"IF(Tabfill!$I$188<>\"\",Tabfill!$I$188,\"\")","v":""},null,null,null,null,null,null,null,{"$f":"IF(Tabfill!$J$188<>\"\",Tabfill!$J$188,\"\")","v":""},null,null,null,null,null,null,null,{"$f":"IF(Tabfill!$K$188<>\"\",Tabfill!$K$188,\"\")","v":""},null,null,null,null,null,null,null,{"$f":"IF(Tabfill!$L$188<>\"\",Tabfill!$L$188,\"\")","v":""},null,null,null,null,null,null,null,{"$f":"IF(Tabfill!$M$188<>\"\",Tabfill!$M$188,\"\")","v":""},null,null,null,null,null,null,null,{"$f":"IF(Tabfill!$O$188<>\"\",Tabfill!$O$188,\"\")","v":""},null,null,null,null,null,null,null,{"$f":"IF(Tabfill!$P$188<>\"\",Tabfill!$P$188,\"\")","v":""},null,null,null,null,null,null,null,{"$f":"IF(Tabfill!$R$188<>\"\",Tabfill!$R$188,\"\")","v":""},null,null,null,null,null,null,null,{"$f":"IF(Tabfill!$S$188<>\"\",Tabfill!$S$188,\"\")","v":""},null,null,null,null,null,null,null,{"$f":"IF(Tabfill!$T$188<>\"\",Tabfill!$T$188,\"\")","v":""},null,null,null,null,null,null,null,{"$f":"IF(Tabfill!$U$188<>\"\",Tabfill!$U$188,\"\")","v":""}]
[null,null,{"$f":"IF(Tabfill!A189<>\"\",Tabfill!A189,\"\")","v":""}]
[null,null,null,null,null,null,null,null,null,null,null,null,null,null,null,null,null,{"$f":"IF(Tabfill!$B$189<>\"\",Tabfill!$B$189,\"\")","v":""},null,null,null,null,null,null,null,{"$f":"IF(Tabfill!$C$189<>\"\",Tabfill!$C$189,\"\")","v":""},null,null,null,null,null,null,null,{"$f":"IF(Tabfill!$D$189<>\"\",Tabfill!$D$189,\"\")","v":""},null,null,null,null,null,null,null,{"$f":"IF(Tabfill!$E$189<>\"\",Tabfill!$E$189,\"\")","v":""},null,null,null,null,null,null,null,{"$f":"IF(Tabfill!$F$189<>\"\",Tabfill!$F$189,\"\")","v":""},null,null,null,null,null,null,null,{"$f":"IF(Tabfill!$G$189<>\"\",Tabfill!$G$189,\"\")","v":""},null,null,null,null,null,null,null,{"$f":"IF(Tabfill!$I$189<>\"\",Tabfill!$I$189,\"\")","v":""},null,null,null,null,null,null,null,{"$f":"IF(Tabfill!$J$189<>\"\",Tabfill!$J$189,\"\")","v":""},null,null,null,null,null,null,null,{"$f":"IF(Tabfill!$K$189<>\"\",Tabfill!$K$189,\"\")","v":""},null,null,null,null,null,null,null,{"$f":"IF(Tabfill!$L$189<>\"\",Tabfill!$L$189,\"\")","v":""},null,null,null,null,null,null,null,{"$f":"IF(Tabfill!$M$189<>\"\",Tabfill!$M$189,\"\")","v":""},null,null,null,null,null,null,null,{"$f":"IF(Tabfill!$O$189<>\"\",Tabfill!$O$189,\"\")","v":""},null,null,null,null,null,null,null,{"$f":"IF(Tabfill!$P$189<>\"\",Tabfill!$P$189,\"\")","v":""},null,null,null,null,null,null,null,{"$f":"IF(Tabfill!$R$189<>\"\",Tabfill!$R$189,\"\")","v":""},null,null,null,null,null,null,null,{"$f":"IF(Tabfill!$S$189<>\"\",Tabfill!$S$189,\"\")","v":""},null,null,null,null,null,null,null,{"$f":"IF(Tabfill!$T$189<>\"\",Tabfill!$T$189,\"\")","v":""},null,null,null,null,null,null,null,{"$f":"IF(Tabfill!$U$189<>\"\",Tabfill!$U$189,\"\")","v":""}]
[null,null,{"$f":"IF(Tabfill!A190<>\"\",Tabfill!A190,\"\")","v":""}]
[null,null,null,null,null,null,null,null,null,null,null,null,null,null,null,null,null,{"$f":"IF(Tabfill!$B$190<>\"\",Tabfill!$B$190,\"\")","v":""},null,null,null,null,null,null,null,{"$f":"IF(Tabfill!$C$190<>\"\",Tabfill!$C$190,\"\")","v":""},null,null,null,null,null,null,null,{"$f":"IF(Tabfill!$D$190<>\"\",Tabfill!$D$190,\"\")","v":""},null,null,null,null,null,null,null,{"$f":"IF(Tabfill!$E$190<>\"\",Tabfill!$E$190,\"\")","v":""},null,null,null,null,null,null,null,{"$f":"IF(Tabfill!$F$190<>\"\",Tabfill!$F$190,\"\")","v":""},null,null,null,null,null,null,null,{"$f":"IF(Tabfill!$G$190<>\"\",Tabfill!$G$190,\"\")","v":""},null,null,null,null,null,null,null,{"$f":"IF(Tabfill!$I$190<>\"\",Tabfill!$I$190,\"\")","v":""},null,null,null,null,null,null,null,{"$f":"IF(Tabfill!$J$190<>\"\",Tabfill!$J$190,\"\")","v":""},null,null,null,null,null,null,null,{"$f":"IF(Tabfill!$K$190<>\"\",Tabfill!$K$190,\"\")","v":""},null,null,null,null,null,null,null,{"$f":"IF(Tabfill!$L$190<>\"\",Tabfill!$L$190,\"\")","v":""},null,null,null,null,null,null,null,{"$f":"IF(Tabfill!$M$190<>\"\",Tabfill!$M$190,\"\")","v":""},null,null,null,null,null,null,null,{"$f":"IF(Tabfill!$O$190<>\"\",Tabfill!$O$190,\"\")","v":""},null,null,null,null,null,null,null,{"$f":"IF(Tabfill!$P$190<>\"\",Tabfill!$P$190,\"\")","v":""},null,null,null,null,null,null,null,{"$f":"IF(Tabfill!$R$190<>\"\",Tabfill!$R$190,\"\")","v":""},null,null,null,null,null,null,null,{"$f":"IF(Tabfill!$S$190<>\"\",Tabfill!$S$190,\"\")","v":""},null,null,null,null,null,null,null,{"$f":"IF(Tabfill!$T$190<>\"\",Tabfill!$T$190,\"\")","v":""},null,null,null,null,null,null,null,{"$f":"IF(Tabfill!$U$190<>\"\",Tabfill!$U$190,\"\")","v":""}]
[null,null,{"$f":"IF(Tabfill!A191<>\"\",Tabfill!A191,\"\")","v":""}]
[null,null,null,null,null,null,null,null,null,null,null,null,null,null,null,null,null,{"$f":"IF(Tabfill!$B$191<>\"\",Tabfill!$B$191,\"\")","v":""},null,null,null,null,null,null,null,{"$f":"IF(Tabfill!$C$191<>\"\",Tabfill!$C$191,\"\")","v":""},null,null,null,null,null,null,null,{"$f":"IF(Tabfill!$D$191<>\"\",Tabfill!$D$191,\"\")","v":""},null,null,null,null,null,null,null,{"$f":"IF(Tabfill!$E$191<>\"\",Tabfill!$E$191,\"\")","v":""},null,null,null,null,null,null,null,{"$f":"IF(Tabfill!$F$191<>\"\",Tabfill!$F$191,\"\")","v":""},null,null,null,null,null,null,null,{"$f":"IF(Tabfill!$G$191<>\"\",Tabfill!$G$191,\"\")","v":""},null,null,null,null,null,null,null,{"$f":"IF(Tabfill!$I$191<>\"\",Tabfill!$I$191,\"\")","v":""},null,null,null,null,null,null,null,{"$f":"IF(Tabfill!$J$191<>\"\",Tabfill!$J$191,\"\")","v":""},null,null,null,null,null,null,null,{"$f":"IF(Tabfill!$K$191<>\"\",Tabfill!$K$191,\"\")","v":""},null,null,null,null,null,null,null,{"$f":"IF(Tabfill!$L$191<>\"\",Tabfill!$L$191,\"\")","v":""},null,null,null,null,null,null,null,{"$f":"IF(Tabfill!$M$191<>\"\",Tabfill!$M$191,\"\")","v":""},null,null,null,null,null,null,null,{"$f":"IF(Tabfill!$O$191<>\"\",Tabfill!$O$191,\"\")","v":""},null,null,null,null,null,null,null,{"$f":"IF(Tabfill!$P$191<>\"\",Tabfill!$P$191,\"\")","v":""},null,null,null,null,null,null,null,{"$f":"IF(Tabfill!$R$191<>\"\",Tabfill!$R$191,\"\")","v":""},null,null,null,null,null,null,null,{"$f":"IF(Tabfill!$S$191<>\"\",Tabfill!$S$191,\"\")","v":""},null,null,null,null,null,null,null,{"$f":"IF(Tabfill!$T$191<>\"\",Tabfill!$T$191,\"\")","v":""},null,null,null,null,null,null,null,{"$f":"IF(Tabfill!$U$191<>\"\",Tabfill!$U$191,\"\")","v":""}]
[null,null,{"$f":"IF(Tabfill!A192<>\"\",Tabfill!A192,\"\")","v":""}]
[null,null,null,null,null,null,null,null,null,null,null,null,null,null,null,null,null,{"$f":"IF(Tabfill!$B$192<>\"\",Tabfill!$B$192,\"\")","v":""},null,null,null,null,null,null,null,{"$f":"IF(Tabfill!$C$192<>\"\",Tabfill!$C$192,\"\")","v":""},null,null,null,null,null,null,null,{"$f":"IF(Tabfill!$D$192<>\"\",Tabfill!$D$192,\"\")","v":""},null,null,null,null,null,null,null,{"$f":"IF(Tabfill!$E$192<>\"\",Tabfill!$E$192,\"\")","v":""},null,null,null,null,null,null,null,{"$f":"IF(Tabfill!$F$192<>\"\",Tabfill!$F$192,\"\")","v":""},null,null,null,null,null,null,null,{"$f":"IF(Tabfill!$G$192<>\"\",Tabfill!$G$192,\"\")","v":""},null,null,null,null,null,null,null,{"$f":"IF(Tabfill!$I$192<>\"\",Tabfill!$I$192,\"\")","v":""},null,null,null,null,null,null,null,{"$f":"IF(Tabfill!$J$192<>\"\",Tabfill!$J$192,\"\")","v":""},null,null,null,null,null,null,null,{"$f":"IF(Tabfill!$K$192<>\"\",Tabfill!$K$192,\"\")","v":""},null,null,null,null,null,null,null,{"$f":"IF(Tabfill!$L$192<>\"\",Tabfill!$L$192,\"\")","v":""},null,null,null,null,null,null,null,{"$f":"IF(Tabfill!$M$192<>\"\",Tabfill!$M$192,\"\")","v":""},null,null,null,null,null,null,null,{"$f":"IF(Tabfill!$O$192<>\"\",Tabfill!$O$192,\"\")","v":""},null,null,null,null,null,null,null,{"$f":"IF(Tabfill!$P$192<>\"\",Tabfill!$P$192,\"\")","v":""},null,null,null,null,null,null,null,{"$f":"IF(Tabfill!$R$192<>\"\",Tabfill!$R$192,\"\")","v":""},null,null,null,null,null,null,null,{"$f":"IF(Tabfill!$S$192<>\"\",Tabfill!$S$192,\"\")","v":""},null,null,null,null,null,null,null,{"$f":"IF(Tabfill!$T$192<>\"\",Tabfill!$T$192,\"\")","v":""},null,null,null,null,null,null,null,{"$f":"IF(Tabfill!$U$192<>\"\",Tabfill!$U$192,\"\")","v":""}]
[null,null,{"$f":"IF(Tabfill!A193<>\"\",Tabfill!A193,\"\")","v":""}]
[null,null,null,null,null,null,null,null,null,null,null,null,null,null,null,null,null,{"$f":"IF(Tabfill!$B$193<>\"\",Tabfill!$B$193,\"\")","v":""},null,null,null,null,null,null,null,{"$f":"IF(Tabfill!$C$193<>\"\",Tabfill!$C$193,\"\")","v":""},null,null,null,null,null,null,null,{"$f":"IF(Tabfill!$D$193<>\"\",Tabfill!$D$193,\"\")","v":""},null,null,null,null,null,null,null,{"$f":"IF(Tabfill!$E$193<>\"\",Tabfill!$E$193,\"\")","v":""},null,null,null,null,null,null,null,{"$f":"IF(Tabfill!$F$193<>\"\",Tabfill!$F$193,\"\")","v":""},null,null,null,null,null,null,null,{"$f":"IF(Tabfill!$G$193<>\"\",Tabfill!$G$193,\"\")","v":""},null,null,null,null,null,null,null,{"$f":"IF(Tabfill!$I$193<>\"\",Tabfill!$I$193,\"\")","v":""},null,null,null,null,null,null,null,{"$f":"IF(Tabfill!$J$193<>\"\",Tabfill!$J$193,\"\")","v":""},null,null,null,null,null,null,null,{"$f":"IF(Tabfill!$K$193<>\"\",Tabfill!$K$193,\"\")","v":""},null,null,null,null,null,null,null,{"$f":"IF(Tabfill!$L$193<>\"\",Tabfill!$L$193,\"\")","v":""},null,null,null,null,null,null,null,{"$f":"IF(Tabfill!$M$193<>\"\",Tabfill!$M$193,\"\")","v":""},null,null,null,null,null,null,null,{"$f":"IF(Tabfill!$O$193<>\"\",Tabfill!$O$193,\"\")","v":""},null,null,null,null,null,null,null,{"$f":"IF(Tabfill!$P$193<>\"\",Tabfill!$P$193,\"\")","v":""},null,null,null,null,null,null,null,{"$f":"IF(Tabfill!$R$193<>\"\",Tabfill!$R$193,\"\")","v":""},null,null,null,null,null,null,null,{"$f":"IF(Tabfill!$S$193<>\"\",Tabfill!$S$193,\"\")","v":""},null,null,null,null,null,null,null,{"$f":"IF(Tabfill!$T$193<>\"\",Tabfill!$T$193,\"\")","v":""},null,null,null,null,null,null,null,{"$f":"IF(Tabfill!$U$193<>\"\",Tabfill!$U$193,\"\")","v":""}]
[null,null,{"$f":"IF(Tabfill!A194<>\"\",Tabfill!A194,\"\")","v":""}]
[null,null,null,null,null,null,null,null,null,null,null,null,null,null,null,null,null,{"$f":"IF(Tabfill!$B$194<>\"\",Tabfill!$B$194,\"\")","v":""},null,null,null,null,null,null,null,{"$f":"IF(Tabfill!$C$194<>\"\",Tabfill!$C$194,\"\")","v":""},null,null,null,null,null,null,null,{"$f":"IF(Tabfill!$D$194<>\"\",Tabfill!$D$194,\"\")","v":""},null,null,null,null,null,null,null,{"$f":"IF(Tabfill!$E$194<>\"\",Tabfill!$E$194,\"\")","v":""},null,null,null,null,null,null,null,{"$f":"IF(Tabfill!$F$194<>\"\",Tabfill!$F$194,\"\")","v":""},null,null,null,null,null,null,null,{"$f":"IF(Tabfill!$G$194<>\"\",Tabfill!$G$194,\"\")","v":""},null,null,null,null,null,null,null,{"$f":"IF(Tabfill!$I$194<>\"\",Tabfill!$I$194,\"\")","v":""},null,null,null,null,null,null,null,{"$f":"IF(Tabfill!$J$194<>\"\",Tabfill!$J$194,\"\")","v":""},null,null,null,null,null,null,null,{"$f":"IF(Tabfill!$K$194<>\"\",Tabfill!$K$194,\"\")","v":""},null,null,null,null,null,null,null,{"$f":"IF(Tabfill!$L$194<>\"\",Tabfill!$L$194,\"\")","v":""},null,null,null,null,null,null,null,{"$f":"IF(Tabfill!$M$194<>\"\",Tabfill!$M$194,\"\")","v":""},null,null,null,null,null,null,null,{"$f":"IF(Tabfill!$O$194<>\"\",Tabfill!$O$194,\"\")","v":""},null,null,null,null,null,null,null,{"$f":"IF(Tabfill!$P$194<>\"\",Tabfill!$P$194,\"\")","v":""},null,null,null,null,null,null,null,{"$f":"IF(Tabfill!$R$194<>\"\",Tabfill!$R$194,\"\")","v":""},null,null,null,null,null,null,null,{"$f":"IF(Tabfill!$S$194<>\"\",Tabfill!$S$194,\"\")","v":""},null,null,null,null,null,null,null,{"$f":"IF(Tabfill!$T$194<>\"\",Tabfill!$T$194,\"\")","v":""},null,null,null,null,null,null,null,{"$f":"IF(Tabfill!$U$194<>\"\",Tabfill!$U$194,\"\")","v":""}]
[null,null,{"$f":"IF(Tabfill!A195<>\"\",Tabfill!A195,\"\")","v":""}]
[null,null,null,null,null,null,null,null,null,null,null,null,null,null,null,null,null,{"$f":"IF(Tabfill!$B$195<>\"\",Tabfill!$B$195,\"\")","v":""},null,null,null,null,null,null,null,{"$f":"IF(Tabfill!$C$195<>\"\",Tabfill!$C$195,\"\")","v":""},null,null,null,null,null,null,null,{"$f":"IF(Tabfill!$D$195<>\"\",Tabfill!$D$195,\"\")","v":""},null,null,null,null,null,null,null,{"$f":"IF(Tabfill!$E$195<>\"\",Tabfill!$E$195,\"\")","v":""},null,null,null,null,null,null,null,{"$f":"IF(Tabfill!$F$195<>\"\",Tabfill!$F$195,\"\")","v":""},null,null,null,null,null,null,null,{"$f":"IF(Tabfill!$G$195<>\"\",Tabfill!$G$195,\"\")","v":""},null,null,null,null,null,null,null,{"$f":"IF(Tabfill!$I$195<>\"\",Tabfill!$I$195,\"\")","v":""},null,null,null,null,null,null,null,{"$f":"IF(Tabfill!$J$195<>\"\",Tabfill!$J$195,\"\")","v":""},null,null,null,null,null,null,null,{"$f":"IF(Tabfill!$K$195<>\"\",Tabfill!$K$195,\"\")","v":""},null,null,null,null,null,null,null,{"$f":"IF(Tabfill!$L$195<>\"\",Tabfill!$L$195,\"\")","v":""},null,null,null,null,null,null,null,{"$f":"IF(Tabfill!$M$195<>\"\",Tabfill!$M$195,\"\")","v":""},null,null,null,null,null,null,null,{"$f":"IF(Tabfill!$O$195<>\"\",Tabfill!$O$195,\"\")","v":""},null,null,null,null,null,null,null,{"$f":"IF(Tabfill!$P$195<>\"\",Tabfill!$P$195,\"\")","v":""},null,null,null,null,null,null,null,{"$f":"IF(Tabfill!$R$195<>\"\",Tabfill!$R$195,\"\")","v":""},null,null,null,null,null,null,null,{"$f":"IF(Tabfill!$S$195<>\"\",Tabfill!$S$195,\"\")","v":""},null,null,null,null,null,null,null,{"$f":"IF(Tabfill!$T$195<>\"\",Tabfill!$T$195,\"\")","v":""},null,null,null,null,null,null,null,{"$f":"IF(Tabfill!$U$195<>\"\",Tabfill!$U$195,\"\")","v":""}]
[null,null,{"$f":"IF(Tabfill!A196<>\"\",Tabfill!A196,\"\")","v":""}]
[null,null,null,null,null,null,null,null,null,null,null,null,null,null,null,null,null,{"$f":"IF(Tabfill!$B$196<>\"\",Tabfill!$B$196,\"\")","v":""},null,null,null,null,null,null,null,{"$f":"IF(Tabfill!$C$196<>\"\",Tabfill!$C$196,\"\")","v":""},null,null,null,null,null,null,null,{"$f":"IF(Tabfill!$D$196<>\"\",Tabfill!$D$196,\"\")","v":""},null,null,null,null,null,null,null,{"$f":"IF(Tabfill!$E$196<>\"\",Tabfill!$E$196,\"\")","v":""},null,null,null,null,null,null,null,{"$f":"IF(Tabfill!$F$196<>\"\",Tabfill!$F$196,\"\")","v":""},null,null,null,null,null,null,null,{"$f":"IF(Tabfill!$G$196<>\"\",Tabfill!$G$196,\"\")","v":""},null,null,null,null,null,null,null,{"$f":"IF(Tabfill!$I$196<>\"\",Tabfill!$I$196,\"\")","v":""},null,null,null,null,null,null,null,{"$f":"IF(Tabfill!$J$196<>\"\",Tabfill!$J$196,\"\")","v":""},null,null,null,null,null,null,null,{"$f":"IF(Tabfill!$K$196<>\"\",Tabfill!$K$196,\"\")","v":""},null,null,null,null,null,null,null,{"$f":"IF(Tabfill!$L$196<>\"\",Tabfill!$L$196,\"\")","v":""},null,null,null,null,null,null,null,{"$f":"IF(Tabfill!$M$196<>\"\",Tabfill!$M$196,\"\")","v":""},null,null,null,null,null,null,null,{"$f":"IF(Tabfill!$O$196<>\"\",Tabfill!$O$196,\"\")","v":""},null,null,null,null,null,null,null,{"$f":"IF(Tabfill!$P$196<>\"\",Tabfill!$P$196,\"\")","v":""},null,null,null,null,null,null,null,{"$f":"IF(Tabfill!$R$196<>\"\",Tabfill!$R$196,\"\")","v":""},null,null,null,null,null,null,null,{"$f":"IF(Tabfill!$S$196<>\"\",Tabfill!$S$196,\"\")","v":""},null,null,null,null,null,null,null,{"$f":"IF(Tabfill!$T$196<>\"\",Tabfill!$T$196,\"\")","v":""},null,null,null,null,null,null,null,{"$f":"IF(Tabfill!$U$196<>\"\",Tabfill!$U$196,\"\")","v":""}]
[null,null,{"$f":"IF(Tabfill!A197<>\"\",Tabfill!A197,\"\")","v":""}]
[null,null,null,null,null,null,null,null,null,null,null,null,null,null,null,null,null,{"$f":"IF(Tabfill!$B$197<>\"\",Tabfill!$B$197,\"\")","v":""},null,null,null,null,null,null,null,{"$f":"IF(Tabfill!$C$197<>\"\",Tabfill!$C$197,\"\")","v":""},null,null,null,null,null,null,null,{"$f":"IF(Tabfill!$D$197<>\"\",Tabfill!$D$197,\"\")","v":""},null,null,null,null,null,null,null,{"$f":"IF(Tabfill!$E$197<>\"\",Tabfill!$E$197,\"\")","v":""},null,null,null,null,null,null,null,{"$f":"IF(Tabfill!$F$197<>\"\",Tabfill!$F$197,\"\")","v":""},null,null,null,null,null,null,null,{"$f":"IF(Tabfill!$G$197<>\"\",Tabfill!$G$197,\"\")","v":""},null,null,null,null,null,null,null,{"$f":"IF(Tabfill!$I$197<>\"\",Tabfill!$I$197,\"\")","v":""},null,null,null,null,null,null,null,{"$f":"IF(Tabfill!$J$197<>\"\",Tabfill!$J$197,\"\")","v":""},null,null,null,null,null,null,null,{"$f":"IF(Tabfill!$K$197<>\"\",Tabfill!$K$197,\"\")","v":""},null,null,null,null,null,null,null,{"$f":"IF(Tabfill!$L$197<>\"\",Tabfill!$L$197,\"\")","v":""},null,null,null,null,null,null,null,{"$f":"IF(Tabfill!$M$197<>\"\",Tabfill!$M$197,\"\")","v":""},null,null,null,null,null,null,null,{"$f":"IF(Tabfill!$O$197<>\"\",Tabfill!$O$197,\"\")","v":""},null,null,null,null,null,null,null,{"$f":"IF(Tabfill!$P$197<>\"\",Tabfill!$P$197,\"\")","v":""},null,null,null,null,null,null,null,{"$f":"IF(Tabfill!$R$197<>\"\",Tabfill!$R$197,\"\")","v":""},null,null,null,null,null,null,null,{"$f":"IF(Tabfill!$S$197<>\"\",Tabfill!$S$197,\"\")","v":""},null,null,null,null,null,null,null,{"$f":"IF(Tabfill!$T$197<>\"\",Tabfill!$T$197,\"\")","v":""},null,null,null,null,null,null,null,{"$f":"IF(Tabfill!$U$197<>\"\",Tabfill!$U$197,\"\")","v":""}]
[null,null,{"$f":"IF(Tabfill!A198<>\"\",Tabfill!A198,\"\")","v":""}]
[null,null,null,null,null,null,null,null,null,null,null,null,null,null,null,null,null,{"$f":"IF(Tabfill!$B$198<>\"\",Tabfill!$B$198,\"\")","v":""},null,null,null,null,null,null,null,{"$f":"IF(Tabfill!$C$198<>\"\",Tabfill!$C$198,\"\")","v":""},null,null,null,null,null,null,null,{"$f":"IF(Tabfill!$D$198<>\"\",Tabfill!$D$198,\"\")","v":""},null,null,null,null,null,null,null,{"$f":"IF(Tabfill!$E$198<>\"\",Tabfill!$E$198,\"\")","v":""},null,null,null,null,null,null,null,{"$f":"IF(Tabfill!$F$198<>\"\",Tabfill!$F$198,\"\")","v":""},null,null,null,null,null,null,null,{"$f":"IF(Tabfill!$G$198<>\"\",Tabfill!$G$198,\"\")","v":""},null,null,null,null,null,null,null,{"$f":"IF(Tabfill!$I$198<>\"\",Tabfill!$I$198,\"\")","v":""},null,null,null,null,null,null,null,{"$f":"IF(Tabfill!$J$198<>\"\",Tabfill!$J$198,\"\")","v":""},null,null,null,null,null,null,null,{"$f":"IF(Tabfill!$K$198<>\"\",Tabfill!$K$198,\"\")","v":""},null,null,null,null,null,null,null,{"$f":"IF(Tabfill!$L$198<>\"\",Tabfill!$L$198,\"\")","v":""},null,null,null,null,null,null,null,{"$f":"IF(Tabfill!$M$198<>\"\",Tabfill!$M$198,\"\")","v":""},null,null,null,null,null,null,null,{"$f":"IF(Tabfill!$O$198<>\"\",Tabfill!$O$198,\"\")","v":""},null,null,null,null,null,null,null,{"$f":"IF(Tabfill!$P$198<>\"\",Tabfill!$P$198,\"\")","v":""},null,null,null,null,null,null,null,{"$f":"IF(Tabfill!$R$198<>\"\",Tabfill!$R$198,\"\")","v":""},null,null,null,null,null,null,null,{"$f":"IF(Tabfill!$S$198<>\"\",Tabfill!$S$198,\"\")","v":""},null,null,null,null,null,null,null,{"$f":"IF(Tabfill!$T$198<>\"\",Tabfill!$T$198,\"\")","v":""},null,null,null,null,null,null,null,{"$f":"IF(Tabfill!$U$198<>\"\",Tabfill!$U$198,\"\")","v":""}]
[null,null,{"$f":"IF(Tabfill!A199<>\"\",Tabfill!A199,\"\")","v":""}]
[null,null,null,null,null,null,null,null,null,null,null,null,null,null,null,null,null,{"$f":"IF(Tabfill!$B$199<>\"\",Tabfill!$B$199,\"\")","v":""},null,null,null,null,null,null,null,{"$f":"IF(Tabfill!$C$199<>\"\",Tabfill!$C$199,\"\")","v":""},null,null,null,null,null,null,null,{"$f":"IF(Tabfill!$D$199<>\"\",Tabfill!$D$199,\"\")","v":""},null,null,null,null,null,null,null,{"$f":"IF(Tabfill!$E$199<>\"\",Tabfill!$E$199,\"\")","v":""},null,null,null,null,null,null,null,{"$f":"IF(Tabfill!$F$199<>\"\",Tabfill!$F$199,\"\")","v":""},null,null,null,null,null,null,null,{"$f":"IF(Tabfill!$G$199<>\"\",Tabfill!$G$199,\"\")","v":""},null,null,null,null,null,null,null,{"$f":"IF(Tabfill!$I$199<>\"\",Tabfill!$I$199,\"\")","v":""},null,null,null,null,null,null,null,{"$f":"IF(Tabfill!$J$199<>\"\",Tabfill!$J$199,\"\")","v":""},null,null,null,null,null,null,null,{"$f":"IF(Tabfill!$K$199<>\"\",Tabfill!$K$199,\"\")","v":""},null,null,null,null,null,null,null,{"$f":"IF(Tabfill!$L$199<>\"\",Tabfill!$L$199,\"\")","v":""},null,null,null,null,null,null,null,{"$f":"IF(Tabfill!$M$199<>\"\",Tabfill!$M$199,\"\")","v":""},null,null,null,null,null,null,null,{"$f":"IF(Tabfill!$O$199<>\"\",Tabfill!$O$199,\"\")","v":""},null,null,null,null,null,null,null,{"$f":"IF(Tabfill!$P$199<>\"\",Tabfill!$P$199,\"\")","v":""},null,null,null,null,null,null,null,{"$f":"IF(Tabfill!$R$199<>\"\",Tabfill!$R$199,\"\")","v":""},null,null,null,null,null,null,null,{"$f":"IF(Tabfill!$S$199<>\"\",Tabfill!$S$199,\"\")","v":""},null,null,null,null,null,null,null,{"$f":"IF(Tabfill!$T$199<>\"\",Tabfill!$T$199,\"\")","v":""},null,null,null,null,null,null,null,{"$f":"IF(Tabfill!$U$199<>\"\",Tabfill!$U$199,\"\")","v":""}]
[null,null,{"$f":"IF(Tabfill!A200<>\"\",Tabfill!A200,\"\")","v":""}]
[null,null,null,null,null,null,null,null,null,null,null,null,null,null,null,null,null,{"$f":"IF(Tabfill!$B$200<>\"\",Tabfill!$B$200,\"\")","v":""},null,null,null,null,null,null,null,{"$f":"IF(Tabfill!$C$200<>\"\",Tabfill!$C$200,\"\")","v":""},null,null,null,null,null,null,null,{"$f":"IF(Tabfill!$D$200<>\"\",Tabfill!$D$200,\"\")","v":""},null,null,null,null,null,null,null,{"$f":"IF(Tabfill!$E$200<>\"\",Tabfill!$E$200,\"\")","v":""},null,null,null,null,null,null,null,{"$f":"IF(Tabfill!$F$200<>\"\",Tabfill!$F$200,\"\")","v":""},null,null,null,null,null,null,null,{"$f":"IF(Tabfill!$G$200<>\"\",Tabfill!$G$200,\"\")","v":""},null,null,null,null,null,null,null,{"$f":"IF(Tabfill!$I$200<>\"\",Tabfill!$I$200,\"\")","v":""},null,null,null,null,null,null,null,{"$f":"IF(Tabfill!$J$200<>\"\",Tabfill!$J$200,\"\")","v":""},null,null,null,null,null,null,null,{"$f":"IF(Tabfill!$K$200<>\"\",Tabfill!$K$200,\"\")","v":""},null,null,null,null,null,null,null,{"$f":"IF(Tabfill!$L$200<>\"\",Tabfill!$L$200,\"\")","v":""},null,null,null,null,null,null,null,{"$f":"IF(Tabfill!$M$200<>\"\",Tabfill!$M$200,\"\")","v":""},null,null,null,null,null,null,null,{"$f":"IF(Tabfill!$O$200<>\"\",Tabfill!$O$200,\"\")","v":""},null,null,null,null,null,null,null,{"$f":"IF(Tabfill!$P$200<>\"\",Tabfill!$P$200,\"\")","v":""},null,null,null,null,null,null,null,{"$f":"IF(Tabfill!$R$200<>\"\",Tabfill!$R$200,\"\")","v":""},null,null,null,null,null,null,null,{"$f":"IF(Tabfill!$S$200<>\"\",Tabfill!$S$200,\"\")","v":""},null,null,null,null,null,null,null,{"$f":"IF(Tabfill!$T$200<>\"\",Tabfill!$T$200,\"\")","v":""},null,null,null,null,null,null,null,{"$f":"IF(Tabfill!$U$200<>\"\",Tabfill!$U$200,\"\")","v":""}]
[null,null,{"$f":"IF(Tabfill!A201<>\"\",Tabfill!A201,\"\")","v":""}]
[null,null,null,null,null,null,null,null,null,null,null,null,null,null,null,null,null,{"$f":"IF(Tabfill!$B$201<>\"\",Tabfill!$B$201,\"\")","v":""},null,null,null,null,null,null,null,{"$f":"IF(Tabfill!$C$201<>\"\",Tabfill!$C$201,\"\")","v":""},null,null,null,null,null,null,null,{"$f":"IF(Tabfill!$D$201<>\"\",Tabfill!$D$201,\"\")","v":""},null,null,null,null,null,null,null,{"$f":"IF(Tabfill!$E$201<>\"\",Tabfill!$E$201,\"\")","v":""},null,null,null,null,null,null,null,{"$f":"IF(Tabfill!$F$201<>\"\",Tabfill!$F$201,\"\")","v":""},null,null,null,null,null,null,null,{"$f":"IF(Tabfill!$G$201<>\"\",Tabfill!$G$201,\"\")","v":""},null,null,null,null,null,null,null,{"$f":"IF(Tabfill!$I$201<>\"\",Tabfill!$I$201,\"\")","v":""},null,null,null,null,null,null,null,{"$f":"IF(Tabfill!$J$201<>\"\",Tabfill!$J$201,\"\")","v":""},null,null,null,null,null,null,null,{"$f":"IF(Tabfill!$K$201<>\"\",Tabfill!$K$201,\"\")","v":""},null,null,null,null,null,null,null,{"$f":"IF(Tabfill!$L$201<>\"\",Tabfill!$L$201,\"\")","v":""},null,null,null,null,null,null,null,{"$f":"IF(Tabfill!$M$201<>\"\",Tabfill!$M$201,\"\")","v":""},null,null,null,null,null,null,null,{"$f":"IF(Tabfill!$O$201<>\"\",Tabfill!$O$201,\"\")","v":""},null,null,null,null,null,null,null,{"$f":"IF(Tabfill!$P$201<>\"\",Tabfill!$P$201,\"\")","v":""},null,null,null,null,null,null,null,{"$f":"IF(Tabfill!$R$201<>\"\",Tabfill!$R$201,\"\")","v":""},null,null,null,null,null,null,null,{"$f":"IF(Tabfill!$S$201<>\"\",Tabfill!$S$201,\"\")","v":""},null,null,null,null,null,null,null,{"$f":"IF(Tabfill!$T$201<>\"\",Tabfill!$T$201,\"\")","v":""},null,null,null,null,null,null,null,{"$f":"IF(Tabfill!$U$201<>\"\",Tabfill!$U$201,\"\")","v":""}]
[null,null,{"$f":"IF(Tabfill!A202<>\"\",Tabfill!A202,\"\")","v":""}]
[null,null,null,null,null,null,null,null,null,null,null,null,null,null,null,null,null,{"$f":"IF(Tabfill!$B$202<>\"\",Tabfill!$B$202,\"\")","v":""},null,null,null,null,null,null,null,{"$f":"IF(Tabfill!$C$202<>\"\",Tabfill!$C$202,\"\")","v":""},null,null,null,null,null,null,null,{"$f":"IF(Tabfill!$D$202<>\"\",Tabfill!$D$202,\"\")","v":""},null,null,null,null,null,null,null,{"$f":"IF(Tabfill!$E$202<>\"\",Tabfill!$E$202,\"\")","v":""},null,null,null,null,null,null,null,{"$f":"IF(Tabfill!$F$202<>\"\",Tabfill!$F$202,\"\")","v":""},null,null,null,null,null,null,null,{"$f":"IF(Tabfill!$G$202<>\"\",Tabfill!$G$202,\"\")","v":""},null,null,null,null,null,null,null,{"$f":"IF(Tabfill!$I$202<>\"\",Tabfill!$I$202,\"\")","v":""},null,null,null,null,null,null,null,{"$f":"IF(Tabfill!$J$202<>\"\",Tabfill!$J$202,\"\")","v":""},null,null,null,null,null,null,null,{"$f":"IF(Tabfill!$K$202<>\"\",Tabfill!$K$202,\"\")","v":""},null,null,null,null,null,null,null,{"$f":"IF(Tabfill!$L$202<>\"\",Tabfill!$L$202,\"\")","v":""},null,null,null,null,null,null,null,{"$f":"IF(Tabfill!$M$202<>\"\",Tabfill!$M$202,\"\")","v":""},null,null,null,null,null,null,null,{"$f":"IF(Tabfill!$O$202<>\"\",Tabfill!$O$202,\"\")","v":""},null,null,null,null,null,null,null,{"$f":"IF(Tabfill!$P$202<>\"\",Tabfill!$P$202,\"\")","v":""},null,null,null,null,null,null,null,{"$f":"IF(Tabfill!$R$202<>\"\",Tabfill!$R$202,\"\")","v":""},null,null,null,null,null,null,null,{"$f":"IF(Tabfill!$S$202<>\"\",Tabfill!$S$202,\"\")","v":""},null,null,null,null,null,null,null,{"$f":"IF(Tabfill!$T$202<>\"\",Tabfill!$T$202,\"\")","v":""},null,null,null,null,null,null,null,{"$f":"IF(Tabfill!$U$202<>\"\",Tabfill!$U$202,\"\")","v":""}]
[null,null,{"$f":"IF(Tabfill!A203<>\"\",Tabfill!A203,\"\")","v":""}]
[null,null,null,null,null,null,null,null,null,null,null,null,null,null,null,null,null,{"$f":"IF(Tabfill!$B$203<>\"\",Tabfill!$B$203,\"\")","v":""},null,null,null,null,null,null,null,{"$f":"IF(Tabfill!$C$203<>\"\",Tabfill!$C$203,\"\")","v":""},null,null,null,null,null,null,null,{"$f":"IF(Tabfill!$D$203<>\"\",Tabfill!$D$203,\"\")","v":""},null,null,null,null,null,null,null,{"$f":"IF(Tabfill!$E$203<>\"\",Tabfill!$E$203,\"\")","v":""},null,null,null,null,null,null,null,{"$f":"IF(Tabfill!$F$203<>\"\",Tabfill!$F$203,\"\")","v":""},null,null,null,null,null,null,null,{"$f":"IF(Tabfill!$G$203<>\"\",Tabfill!$G$203,\"\")","v":""},null,null,null,null,null,null,null,{"$f":"IF(Tabfill!$I$203<>\"\",Tabfill!$I$203,\"\")","v":""},null,null,null,null,null,null,null,{"$f":"IF(Tabfill!$J$203<>\"\",Tabfill!$J$203,\"\")","v":""},null,null,null,null,null,null,null,{"$f":"IF(Tabfill!$K$203<>\"\",Tabfill!$K$203,\"\")","v":""},null,null,null,null,null,null,null,{"$f":"IF(Tabfill!$L$203<>\"\",Tabfill!$L$203,\"\")","v":""},null,null,null,null,null,null,null,{"$f":"IF(Tabfill!$M$203<>\"\",Tabfill!$M$203,\"\")","v":""},null,null,null,null,null,null,null,{"$f":"IF(Tabfill!$O$203<>\"\",Tabfill!$O$203,\"\")","v":""},null,null,null,null,null,null,null,{"$f":"IF(Tabfill!$P$203<>\"\",Tabfill!$P$203,\"\")","v":""},null,null,null,null,null,null,null,{"$f":"IF(Tabfill!$R$203<>\"\",Tabfill!$R$203,\"\")","v":""},null,null,null,null,null,null,null,{"$f":"IF(Tabfill!$S$203<>\"\",Tabfill!$S$203,\"\")","v":""},null,null,null,null,null,null,null,{"$f":"IF(Tabfill!$T$203<>\"\",Tabfill!$T$203,\"\")","v":""},null,null,null,null,null,null,null,{"$f":"IF(Tabfill!$U$203<>\"\",Tabfill!$U$203,\"\")","v":""}]
[null,null,{"$f":"IF(Tabfill!A204<>\"\",Tabfill!A204,\"\")","v":""}]
[null,null,null,null,null,null,null,null,null,null,null,null,null,null,null,null,null,{"$f":"IF(Tabfill!$B$204<>\"\",Tabfill!$B$204,\"\")","v":""},null,null,null,null,null,null,null,{"$f":"IF(Tabfill!$C$204<>\"\",Tabfill!$C$204,\"\")","v":""},null,null,null,null,null,null,null,{"$f":"IF(Tabfill!$D$204<>\"\",Tabfill!$D$204,\"\")","v":""},null,null,null,null,null,null,null,{"$f":"IF(Tabfill!$E$204<>\"\",Tabfill!$E$204,\"\")","v":""},null,null,null,null,null,null,null,{"$f":"IF(Tabfill!$F$204<>\"\",Tabfill!$F$204,\"\")","v":""},null,null,null,null,null,null,null,{"$f":"IF(Tabfill!$G$204<>\"\",Tabfill!$G$204,\"\")","v":""},null,null,null,null,null,null,null,{"$f":"IF(Tabfill!$I$204<>\"\",Tabfill!$I$204,\"\")","v":""},null,null,null,null,null,null,null,{"$f":"IF(Tabfill!$J$204<>\"\",Tabfill!$J$204,\"\")","v":""},null,null,null,null,null,null,null,{"$f":"IF(Tabfill!$K$204<>\"\",Tabfill!$K$204,\"\")","v":""},null,null,null,null,null,null,null,{"$f":"IF(Tabfill!$L$204<>\"\",Tabfill!$L$204,\"\")","v":""},null,null,null,null,null,null,null,{"$f":"IF(Tabfill!$M$204<>\"\",Tabfill!$M$204,\"\")","v":""},null,null,null,null,null,null,null,{"$f":"IF(Tabfill!$O$204<>\"\",Tabfill!$O$204,\"\")","v":""},null,null,null,null,null,null,null,{"$f":"IF(Tabfill!$P$204<>\"\",Tabfill!$P$204,\"\")","v":""},null,null,null,null,null,null,null,{"$f":"IF(Tabfill!$R$204<>\"\",Tabfill!$R$204,\"\")","v":""},null,null,null,null,null,null,null,{"$f":"IF(Tabfill!$S$204<>\"\",Tabfill!$S$204,\"\")","v":""},null,null,null,null,null,null,null,{"$f":"IF(Tabfill!$T$204<>\"\",Tabfill!$T$204,\"\")","v":""},null,null,null,null,null,null,null,{"$f":"IF(Tabfill!$U$204<>\"\",Tabfill!$U$204,\"\")","v":""}]
[null,null,{"$f":"IF(Tabfill!A205<>\"\",Tabfill!A205,\"\")","v":""}]
[null,null,null,null,null,null,null,null,null,null,null,null,null,null,null,null,null,{"$f":"IF(Tabfill!$B$205<>\"\",Tabfill!$B$205,\"\")","v":""},null,null,null,null,null,null,null,{"$f":"IF(Tabfill!$C$205<>\"\",Tabfill!$C$205,\"\")","v":""},null,null,null,null,null,null,null,{"$f":"IF(Tabfill!$D$205<>\"\",Tabfill!$D$205,\"\")","v":""},null,null,null,null,null,null,null,{"$f":"IF(Tabfill!$E$205<>\"\",Tabfill!$E$205,\"\")","v":""},null,null,null,null,null,null,null,{"$f":"IF(Tabfill!$F$205<>\"\",Tabfill!$F$205,\"\")","v":""},null,null,null,null,null,null,null,{"$f":"IF(Tabfill!$G$205<>\"\",Tabfill!$G$205,\"\")","v":""},null,null,null,null,null,null,null,{"$f":"IF(Tabfill!$I$205<>\"\",Tabfill!$I$205,\"\")","v":""},null,null,null,null,null,null,null,{"$f":"IF(Tabfill!$J$205<>\"\",Tabfill!$J$205,\"\")","v":""},null,null,null,null,null,null,null,{"$f":"IF(Tabfill!$K$205<>\"\",Tabfill!$K$205,\"\")","v":""},null,null,null,null,null,null,null,{"$f":"IF(Tabfill!$L$205<>\"\",Tabfill!$L$205,\"\")","v":""},null,null,null,null,null,null,null,{"$f":"IF(Tabfill!$M$205<>\"\",Tabfill!$M$205,\"\")","v":""},null,null,null,null,null,null,null,{"$f":"IF(Tabfill!$O$205<>\"\",Tabfill!$O$205,\"\")","v":""},null,null,null,null,null,null,null,{"$f":"IF(Tabfill!$P$205<>\"\",Tabfill!$P$205,\"\")","v":""},null,null,null,null,null,null,null,{"$f":"IF(Tabfill!$R$205<>\"\",Tabfill!$R$205,\"\")","v":""},null,null,null,null,null,null,null,{"$f":"IF(Tabfill!$S$205<>\"\",Tabfill!$S$205,\"\")","v":""},null,null,null,null,null,null,null,{"$f":"IF(Tabfill!$T$205<>\"\",Tabfill!$T$205,\"\")","v":""},null,null,null,null,null,null,null,{"$f":"IF(Tabfill!$U$205<>\"\",Tabfill!$U$205,\"\")","v":""}]
[null,null,{"$f":"IF(Tabfill!A206<>\"\",Tabfill!A206,\"\")","v":""}]
[null,null,null,null,null,null,null,null,null,null,null,null,null,null,null,null,null,{"$f":"IF(Tabfill!$B$206<>\"\",Tabfill!$B$206,\"\")","v":""},null,null,null,null,null,null,null,{"$f":"IF(Tabfill!$C$206<>\"\",Tabfill!$C$206,\"\")","v":""},null,null,null,null,null,null,null,{"$f":"IF(Tabfill!$D$206<>\"\",Tabfill!$D$206,\"\")","v":""},null,null,null,null,null,null,null,{"$f":"IF(Tabfill!$E$206<>\"\",Tabfill!$E$206,\"\")","v":""},null,null,null,null,null,null,null,{"$f":"IF(Tabfill!$F$206<>\"\",Tabfill!$F$206,\"\")","v":""},null,null,null,null,null,null,null,{"$f":"IF(Tabfill!$G$206<>\"\",Tabfill!$G$206,\"\")","v":""},null,null,null,null,null,null,null,{"$f":"IF(Tabfill!$I$206<>\"\",Tabfill!$I$206,\"\")","v":""},null,null,null,null,null,null,null,{"$f":"IF(Tabfill!$J$206<>\"\",Tabfill!$J$206,\"\")","v":""},null,null,null,null,null,null,null,{"$f":"IF(Tabfill!$K$206<>\"\",Tabfill!$K$206,\"\")","v":""},null,null,null,null,null,null,null,{"$f":"IF(Tabfill!$L$206<>\"\",Tabfill!$L$206,\"\")","v":""},null,null,null,null,null,null,null,{"$f":"IF(Tabfill!$M$206<>\"\",Tabfill!$M$206,\"\")","v":""},null,null,null,null,null,null,null,{"$f":"IF(Tabfill!$O$206<>\"\",Tabfill!$O$206,\"\")","v":""},null,null,null,null,null,null,null,{"$f":"IF(Tabfill!$P$206<>\"\",Tabfill!$P$206,\"\")","v":""},null,null,null,null,null,null,null,{"$f":"IF(Tabfill!$R$206<>\"\",Tabfill!$R$206,\"\")","v":""},null,null,null,null,null,null,null,{"$f":"IF(Tabfill!$S$206<>\"\",Tabfill!$S$206,\"\")","v":""},null,null,null,null,null,null,null,{"$f":"IF(Tabfill!$T$206<>\"\",Tabfill!$T$206,\"\")","v":""},null,null,null,null,null,null,null,{"$f":"IF(Tabfill!$U$206<>\"\",Tabfill!$U$206,\"\")","v":""}]
[null,null,{"$f":"IF(Tabfill!A207<>\"\",Tabfill!A207,\"\")","v":""}]
[null,null,null,null,null,null,null,null,null,null,null,null,null,null,null,null,null,{"$f":"IF(Tabfill!$B$207<>\"\",Tabfill!$B$207,\"\")","v":""},null,null,null,null,null,null,null,{"$f":"IF(Tabfill!$C$207<>\"\",Tabfill!$C$207,\"\")","v":""},null,null,null,null,null,null,null,{"$f":"IF(Tabfill!$D$207<>\"\",Tabfill!$D$207,\"\")","v":""},null,null,null,null,null,null,null,{"$f":"IF(Tabfill!$E$207<>\"\",Tabfill!$E$207,\"\")","v":""},null,null,null,null,null,null,null,{"$f":"IF(Tabfill!$F$207<>\"\",Tabfill!$F$207,\"\")","v":""},null,null,null,null,null,null,null,{"$f":"IF(Tabfill!$G$207<>\"\",Tabfill!$G$207,\"\")","v":""},null,null,null,null,null,null,null,{"$f":"IF(Tabfill!$I$207<>\"\",Tabfill!$I$207,\"\")","v":""},null,null,null,null,null,null,null,{"$f":"IF(Tabfill!$J$207<>\"\",Tabfill!$J$207,\"\")","v":""},null,null,null,null,null,null,null,{"$f":"IF(Tabfill!$K$207<>\"\",Tabfill!$K$207,\"\")","v":""},null,null,null,null,null,null,null,{"$f":"IF(Tabfill!$L$207<>\"\",Tabfill!$L$207,\"\")","v":""},null,null,null,null,null,null,null,{"$f":"IF(Tabfill!$M$207<>\"\",Tabfill!$M$207,\"\")","v":""},null,null,null,null,null,null,null,{"$f":"IF(Tabfill!$O$207<>\"\",Tabfill!$O$207,\"\")","v":""},null,null,null,null,null,null,null,{"$f":"IF(Tabfill!$P$207<>\"\",Tabfill!$P$207,\"\")","v":""},null,null,null,null,null,null,null,{"$f":"IF(Tabfill!$R$207<>\"\",Tabfill!$R$207,\"\")","v":""},null,null,null,null,null,null,null,{"$f":"IF(Tabfill!$S$207<>\"\",Tabfill!$S$207,\"\")","v":""},null,null,null,null,null,null,null,{"$f":"IF(Tabfill!$T$207<>\"\",Tabfill!$T$207,\"\")","v":""},null,null,null,null,null,null,null,{"$f":"IF(Tabfill!$U$207<>\"\",Tabfill!$U$207,\"\")","v":""}]
[null,null,{"$f":"IF(Tabfill!A208<>\"\",Tabfill!A208,\"\")","v":""}]
[null,null,null,null,null,null,null,null,null,null,null,null,null,null,null,null,null,{"$f":"IF(Tabfill!$B$208<>\"\",Tabfill!$B$208,\"\")","v":""},null,null,null,null,null,null,null,{"$f":"IF(Tabfill!$C$208<>\"\",Tabfill!$C$208,\"\")","v":""},null,null,null,null,null,null,null,{"$f":"IF(Tabfill!$D$208<>\"\",Tabfill!$D$208,\"\")","v":""},null,null,null,null,null,null,null,{"$f":"IF(Tabfill!$E$208<>\"\",Tabfill!$E$208,\"\")","v":""},null,null,null,null,null,null,null,{"$f":"IF(Tabfill!$F$208<>\"\",Tabfill!$F$208,\"\")","v":""},null,null,null,null,null,null,null,{"$f":"IF(Tabfill!$G$208<>\"\",Tabfill!$G$208,\"\")","v":""},null,null,null,null,null,null,null,{"$f":"IF(Tabfill!$I$208<>\"\",Tabfill!$I$208,\"\")","v":""},null,null,null,null,null,null,null,{"$f":"IF(Tabfill!$J$208<>\"\",Tabfill!$J$208,\"\")","v":""},null,null,null,null,null,null,null,{"$f":"IF(Tabfill!$K$208<>\"\",Tabfill!$K$208,\"\")","v":""},null,null,null,null,null,null,null,{"$f":"IF(Tabfill!$L$208<>\"\",Tabfill!$L$208,\"\")","v":""},null,null,null,null,null,null,null,{"$f":"IF(Tabfill!$M$208<>\"\",Tabfill!$M$208,\"\")","v":""},null,null,null,null,null,null,null,{"$f":"IF(Tabfill!$O$208<>\"\",Tabfill!$O$208,\"\")","v":""},null,null,null,null,null,null,null,{"$f":"IF(Tabfill!$P$208<>\"\",Tabfill!$P$208,\"\")","v":""},null,null,null,null,null,null,null,{"$f":"IF(Tabfill!$R$208<>\"\",Tabfill!$R$208,\"\")","v":""},null,null,null,null,null,null,null,{"$f":"IF(Tabfill!$S$208<>\"\",Tabfill!$S$208,\"\")","v":""},null,null,null,null,null,null,null,{"$f":"IF(Tabfill!$T$208<>\"\",Tabfill!$T$208,\"\")","v":""},null,null,null,null,null,null,null,{"$f":"IF(Tabfill!$U$208<>\"\",Tabfill!$U$208,\"\")","v":""}]
[null,null,{"$f":"IF(Tabfill!A209<>\"\",Tabfill!A209,\"\")","v":""}]
[null,null,null,null,null,null,null,null,null,null,null,null,null,null,null,null,null,{"$f":"IF(Tabfill!$B$209<>\"\",Tabfill!$B$209,\"\")","v":""},null,null,null,null,null,null,null,{"$f":"IF(Tabfill!$C$209<>\"\",Tabfill!$C$209,\"\")","v":""},null,null,null,null,null,null,null,{"$f":"IF(Tabfill!$D$209<>\"\",Tabfill!$D$209,\"\")","v":""},null,null,null,null,null,null,null,{"$f":"IF(Tabfill!$E$209<>\"\",Tabfill!$E$209,\"\")","v":""},null,null,null,null,null,null,null,{"$f":"IF(Tabfill!$F$209<>\"\",Tabfill!$F$209,\"\")","v":""},null,null,null,null,null,null,null,{"$f":"IF(Tabfill!$G$209<>\"\",Tabfill!$G$209,\"\")","v":""},null,null,null,null,null,null,null,{"$f":"IF(Tabfill!$I$209<>\"\",Tabfill!$I$209,\"\")","v":""},null,null,null,null,null,null,null,{"$f":"IF(Tabfill!$J$209<>\"\",Tabfill!$J$209,\"\")","v":""},null,null,null,null,null,null,null,{"$f":"IF(Tabfill!$K$209<>\"\",Tabfill!$K$209,\"\")","v":""},null,null,null,null,null,null,null,{"$f":"IF(Tabfill!$L$209<>\"\",Tabfill!$L$209,\"\")","v":""},null,null,null,null,null,null,null,{"$f":"IF(Tabfill!$M$209<>\"\",Tabfill!$M$209,\"\")","v":""},null,null,null,null,null,null,null,{"$f":"IF(Tabfill!$O$209<>\"\",Tabfill!$O$209,\"\")","v":""},null,null,null,null,null,null,null,{"$f":"IF(Tabfill!$P$209<>\"\",Tabfill!$P$209,\"\")","v":""},null,null,null,null,null,null,null,{"$f":"IF(Tabfill!$R$209<>\"\",Tabfill!$R$209,\"\")","v":""},null,null,null,null,null,null,null,{"$f":"IF(Tabfill!$S$209<>\"\",Tabfill!$S$209,\"\")","v":""},null,null,null,null,null,null,null,{"$f":"IF(Tabfill!$T$209<>\"\",Tabfill!$T$209,\"\")","v":""},null,null,null,null,null,null,null,{"$f":"IF(Tabfill!$U$209<>\"\",Tabfill!$U$209,\"\")","v":""}]
[null,null,{"$f":"IF(Tabfill!A210<>\"\",Tabfill!A210,\"\")","v":""}]
[null,null,null,null,null,null,null,null,null,null,null,null,null,null,null,null,null,{"$f":"IF(Tabfill!$B$210<>\"\",Tabfill!$B$210,\"\")","v":""},null,null,null,null,null,null,null,{"$f":"IF(Tabfill!$C$210<>\"\",Tabfill!$C$210,\"\")","v":""},null,null,null,null,null,null,null,{"$f":"IF(Tabfill!$D$210<>\"\",Tabfill!$D$210,\"\")","v":""},null,null,null,null,null,null,null,{"$f":"IF(Tabfill!$E$210<>\"\",Tabfill!$E$210,\"\")","v":""},null,null,null,null,null,null,null,{"$f":"IF(Tabfill!$F$210<>\"\",Tabfill!$F$210,\"\")","v":""},null,null,null,null,null,null,null,{"$f":"IF(Tabfill!$G$210<>\"\",Tabfill!$G$210,\"\")","v":""},null,null,null,null,null,null,null,{"$f":"IF(Tabfill!$I$210<>\"\",Tabfill!$I$210,\"\")","v":""},null,null,null,null,null,null,null,{"$f":"IF(Tabfill!$J$210<>\"\",Tabfill!$J$210,\"\")","v":""},null,null,null,null,null,null,null,{"$f":"IF(Tabfill!$K$210<>\"\",Tabfill!$K$210,\"\")","v":""},null,null,null,null,null,null,null,{"$f":"IF(Tabfill!$L$210<>\"\",Tabfill!$L$210,\"\")","v":""},null,null,null,null,null,null,null,{"$f":"IF(Tabfill!$M$210<>\"\",Tabfill!$M$210,\"\")","v":""},null,null,null,null,null,null,null,{"$f":"IF(Tabfill!$O$210<>\"\",Tabfill!$O$210,\"\")","v":""},null,null,null,null,null,null,null,{"$f":"IF(Tabfill!$P$210<>\"\",Tabfill!$P$210,\"\")","v":""},null,null,null,null,null,null,null,{"$f":"IF(Tabfill!$R$210<>\"\",Tabfill!$R$210,\"\")","v":""},null,null,null,null,null,null,null,{"$f":"IF(Tabfill!$S$210<>\"\",Tabfill!$S$210,\"\")","v":""},null,null,null,null,null,null,null,{"$f":"IF(Tabfill!$T$210<>\"\",Tabfill!$T$210,\"\")","v":""},null,null,null,null,null,null,null,{"$f":"IF(Tabfill!$U$210<>\"\",Tabfill!$U$210,\"\")","v":""}]
[null,null,{"$f":"IF(Tabfill!A211<>\"\",Tabfill!A211,\"\")","v":""}]
[null,null,null,null,null,null,null,null,null,null,null,null,null,null,null,null,null,{"$f":"IF(Tabfill!$B$211<>\"\",Tabfill!$B$211,\"\")","v":""},null,null,null,null,null,null,null,{"$f":"IF(Tabfill!$C$211<>\"\",Tabfill!$C$211,\"\")","v":""},null,null,null,null,null,null,null,{"$f":"IF(Tabfill!$D$211<>\"\",Tabfill!$D$211,\"\")","v":""},null,null,null,null,null,null,null,{"$f":"IF(Tabfill!$E$211<>\"\",Tabfill!$E$211,\"\")","v":""},null,null,null,null,null,null,null,{"$f":"IF(Tabfill!$F$211<>\"\",Tabfill!$F$211,\"\")","v":""},null,null,null,null,null,null,null,{"$f":"IF(Tabfill!$G$211<>\"\",Tabfill!$G$211,\"\")","v":""},null,null,null,null,null,null,null,{"$f":"IF(Tabfill!$I$211<>\"\",Tabfill!$I$211,\"\")","v":""},null,null,null,null,null,null,null,{"$f":"IF(Tabfill!$J$211<>\"\",Tabfill!$J$211,\"\")","v":""},null,null,null,null,null,null,null,{"$f":"IF(Tabfill!$K$211<>\"\",Tabfill!$K$211,\"\")","v":""},null,null,null,null,null,null,null,{"$f":"IF(Tabfill!$L$211<>\"\",Tabfill!$L$211,\"\")","v":""},null,null,null,null,null,null,null,{"$f":"IF(Tabfill!$M$211<>\"\",Tabfill!$M$211,\"\")","v":""},null,null,null,null,null,null,null,{"$f":"IF(Tabfill!$O$211<>\"\",Tabfill!$O$211,\"\")","v":""},null,null,null,null,null,null,null,{"$f":"IF(Tabfill!$P$211<>\"\",Tabfill!$P$211,\"\")","v":""},null,null,null,null,null,null,null,{"$f":"IF(Tabfill!$R$211<>\"\",Tabfill!$R$211,\"\")","v":""},null,null,null,null,null,null,null,{"$f":"IF(Tabfill!$S$211<>\"\",Tabfill!$S$211,\"\")","v":""},null,null,null,null,null,null,null,{"$f":"IF(Tabfill!$T$211<>\"\",Tabfill!$T$211,\"\")","v":""},null,null,null,null,null,null,null,{"$f":"IF(Tabfill!$U$211<>\"\",Tabfill!$U$211,\"\")","v":""}]
[null,null,{"$f":"IF(Tabfill!A212<>\"\",Tabfill!A212,\"\")","v":""}]
[]
[null,"","",null,null,null,null,null,null,null,null,null,null,null,null,null,null,"",null,null,null,null,null,null,null,"",null,null,null,null,null,null,null,"",null,null,null,null,null,null,null,"",null,null,null,null,null,null,null,"",null,null,null,null,null,null,null,"",null,null,null,null,null,null,null,"",null,null,null,null,null,null,null,"",null,null,null,null,null,null,null,"",null,null,null,null,null,null,null,null,null,null,null,null,null,null,null,"",null,null,null,null,null,null,null,"",null,null,null,null,null,null,null,null,null,null,null,null,null,null,null,"",null,null,null,null,null,null,null,null,null,null,null,null,null,null,null,null,"",null,null,null,null,null,null,null,null,null,null,null,null,null,null,"",null,null,null,null,null,null,null,"",null,null,null,null,null,null,null,"",null,null,null,null,null,null,null,"",null,null,null,null,null,null,null,"",null,null,null,null,null,null,null,""]
[]
[null,"FILE NO.",null,null,null,null,null,null,{"$f":"IF(ProjectInformation!$B$12<>\"\",ProjectInformation!$B$12,\"\")","v":""},null,null,null,null,null,null,{"$f":"UPPER(ProjectInformation!$B$8)","v":"ENGLISH"},null,null,null,null,null,null,"DESIGN TEAM",null,null,null,null,null,null,null,null,{"$f":"IF(AND(ProjectInformation!$B$3<>\"\",ProjectInformation!$B$4<>\"\",ProjectInformation!$B$5<>\"\"),ProjectInformation!$B$3&\"\\\"&ProjectInformation!$B$4&\"\\\"&ProjectInformation!$B$5,IF(AND(ProjectInformation!$B$3<>\"\",ProjectInformation!$B$4<>\"\"),ProjectInformation!$B$3&\"\\\"&ProjectInformation!$B$4,IF(ProjectInformation!$B$3<>\"\",ProjectInformation!$B$3,\"\")))","v":"WHKS & CO."},null,null,null,null,null,null,null,null,null,null,null,null,null,null,null,null,null,null,null,null,null,null,null,null,null,null,null,null,null,null,null,null,null,null,null,null,null,null,null,null,null,{"$f":"IF(ProjectInformation!$B$6<>\"\",ProjectInformation!$B$6,\"\")","v":"SCOTT"},null,null,null,null,null,null,null,null,null,null,null,null,null,null,null,null,null,null,null,null,null,null,null,null,null,null,null,null,null,null,null,null,null,null,null,null,null,null,null,null,null,null,"COUNTY",null,null,null,null,null,"PROJECT NUMBER",null,null,null,null,null,null,null,null,null,null,null,{"$f":"IF(ProjectInformation!$B$7<>\"\",ProjectInformation!$B$7,\"\")","v":"BRF-461-1(6)--38-82"},null,null,null,null,null,null,null,null,null,null,null,null,null,null,null,null,null,null,null,null,null,null,null,null,null,null,null,null,null,"SHEET NUMBER",null,null,null,null,null,null,null,null,null,"T.3",null,null,null,null,null,{"$f":"IF(GE556<>\"\",\"REVISED\",\"\")","v":""},null,null,null,null,null,{"$f":"IF(ProjectInformation!$B$9<>\"\",ProjectInformation!$B$9,\"\")","v":""}]
[]
[]
[]
[null,"9/1/2016     8:28:09 AM     lfatka     L:\\Dept\\6\\8000.10\\Design\\82461006t01.xlsm"]
[""]

{"sheet":"107_28SheetTemplate","index":5,"n_rows":187,"n_cols":389,"rows_kept":187,"cut":false,"hidden":true,"merged":[[177,197,178,211],[178,212,178,387],[181,196,184,202],[181,203,184,209],[181,210,184,216],[181,217,184,225],[181,226,184,267],[181,268,184,310],[181,311,184,316],[181,317,184,328],[181,329,184,358],[181,359,184,368],[181,369,184,374],[181,375,184,380],[181,381,184,388],[185,196,186,388],[176,252,177,259],[176,260,177,267],[176,268,177,275],[176,276,177,283],[176,284,177,291],[176,292,177,299],[176,300,177,307],[176,308,177,315],[176,316,177,323],[176,324,177,331],[176,332,177,339],[176,340,177,347],[176,348,177,355],[176,356,177,363],[176,364,177,371],[176,372,177,379],[176,380,177,387],[172,364,173,371],[172,372,173,379],[172,380,173,387],[173,197,174,211],[174,212,175,219],[174,220,175,227],[174,228,175,235],[174,236,175,243],[174,244,175,251],[174,252,175,259],[174,260,175,267],[174,268,175,275],[174,276,175,283],[174,284,175,291],[174,292,175,299],[174,300,175,307],[174,308,175,315],[174,316,175,323],[174,324,175,331],[174,332,175,339],[174,340,175,347],[174,348,175,355],[174,356,175,363],[174,364,175,371],[174,372,175,379],[174,380,175,387],[175,197,176,211],[176,212,177,219],[176,220,177,227],[176,228,177,235],[176,236,177,243],[176,244,177,251],[172,228,173,235],[172,236,173,243],[172,244,173,251],[172,252,173,259],[172,260,173,267],[172,268,173,275],[172,276,173,283],[172,284,173,291],[172,292,173,299],[172,300,173,307],[172,308,173,315],[172,316,173,323],[172,324,173,331],[172,332,173,339],[172,340,173,347],[172,348,173,355],[172,356,173,363],[168,340,169,347],[168,348,169,355],[168,356,169,363],[168,364,169,371],[168,372,169,379],[168,380,169,387],[169,197,170,211],[170,212,171,219],[170,220,171,227],[170,228,171,235],[170,236,171,243],[170,244,171,251],[170,252,171,259],[170,260,171,267],[170,268,171,275],[170,276,171,283],[170,284,171,291],[170,292,171,299],[170,300,171,307],[170,308,171,315],[170,316,171,323],[170,324,171,331],[170,332,171,339],[170,340,171,347],[170,348,171,355],[170,356,171,363],[170,364,171,371],[170,372,171,379],[170,380,171,387],[171,197,172,211],[172,212,173,219],[172,220,173,227],[167,197,168,211],[168,212,169,219],[168,220,169,227],[168,228,169,235],[168,236,169,243],[168,244,169,251],[168,252,169,259],[168,260,169,267],[168,268,169,275],[168,276,169,283],[168,284,169,291],[168,292,169,299],[168,300,169,307],[168,308,169,315],[168,316,169,323],[168,324,169,331],[166,244,167,251],[168,332,169,339],[166,252,167,259],[166,260,167,267],[166,268,167,275],[166,276,167,283],[166,284,167,291],[166,292,167,299],[166,300,167,307],[166,308,167,315],[166,316,167,323],[166,324,167,331],[166,332,167,339],[166,340,167,347],[166,348,167,355],[166,356,167,363],[166,364,167,371],[166,372,167,379],[166,380,167,387],[162,364,163,371],[162,372,163,379],[162,380,163,387],[163,197,164,211],[164,212,165,219],[164,220,165,227],[164,228,165,235],[164,236,165,243],[164,244,165,251],[164,252,165,259],[164,260,165,267],[164,268,165,275],[164,276,165,283],[164,284,165,291],[164,292,165,299],[164,300,165,307],[164,308,165,315],[164,316,165,323],[164,324,165,331],[164,332,165,339],[164,340,165,347],[164,348,165,355],[164,356,165,363],[164,364,165,371],[164,372,165,379],[164,380,165,387],[165,197,166,211],[166,212,167,219],[166,220,167,227],[166,228,167,235],[166,236,167,243],[160,364,161,371],[160,372,161,379],[160,380,161,387],[161,197,162,211],[162,212,163,219],[162,220,163,227],[162,228,163,235],[162,236,163,243],[162,244,163,251],[162,252,163,259],[162,260,163,267],[162,268,163,275],[162,276,163,283],[162,284,163,291],[162,292,163,299],[162,300,163,307],[162,308,163,315],[162,316,163,323],[162,324,163,331],[162,332,163,339],[162,340,163,347],[162,348,163,355],[162,356,163,363],[156,236,157,243],[156,244,157,251],[155,197,156,211],[156,212,157,219],[156,220,157,227],[156,228,157,235],[158,340,159,347],[158,348,159,355],[158,356,159,363],[158,364,159,371],[158,372,159,379],[158,380,159,387],[159,197,160,211],[160,212,161,219],[160,220,161,227],[160,228,161,235],[160,236,161,243],[160,244,161,251],[160,252,161,259],[160,260,161,267],[160,268,161,275],[160,276,161,283],[160,284,161,291],[160,292,161,299],[160,300,161,307],[160,308,161,315],[160,316,161,323],[160,324,161,331],[160,332,161,339],[160,340,161,347],[160,348,161,355],[160,356,161,363],[154,356,155,363],[154,364,155,371],[154,372,155,379],[154,380,155,387],[157,197,158,211],[158,212,159,219],[158,220,159,227],[158,228,159,235],[158,236,159,243],[158,244,159,251],[158,252,159,259],[158,260,159,267],[158,268,159,275],[158,276,159,283],[158,284,159,291],[158,292,159,299],[158,300,159,307],[158,308,159,315],[158,316,159,323],[158,324,159,331],[158,332,159,339],[156,252,157,259],[156,260,157,267],[156,268,157,275],[156,276,157,283],[156,284,157,291],[156,292,157,299],[156,300,157,307],[156,308,157,315],[156,316,157,323],[156,324,157,331],[156,332,157,339],[152,324,153,331],[152,332,153,339],[152,340,153,347],[156,340,157,347],[152,348,153,355],[156,348,157,355],[156,356,157,363],[156,364,157,371],[156,372,157,379],[156,380,157,387],[152,364,153,371],[152,372,153,379],[152,380,153,387],[153,197,154,211],[154,212,155,219],[154,220,155,227],[154,228,155,235],[154,236,155,243],[154,244,155,251],[154,252,155,259],[154,260,155,267],[154,268,155,275],[154,276,155,283],[154,284,155,291],[154,292,155,299],[154,300,155,307],[154,308,155,315],[154,316,155,323],[154,324,155,331],[154,332,155,339],[154,340,155,347],[154,348,155,355],[152,356,153,363],[148,340,149,347],[148,348,149,355],[148,356,149,363],[148,364,149,371],[148,372,149,379],[148,380,149,387],[149,197,150,211],[150,212,151,219],[150,220,151,227],[150,228,151,235],[150,236,151,243],[150,244,151,251],[150,252,151,259],[150,260,151,267],[150,268,151,275],[150,276,151,283],[150,284,151,291],[150,292,151,299],[150,300,151,307],[150,308,151,315],[150,316,151,323],[150,324,151,331],[150,332,151,339],[150,340,151,347],[150,348,151,355],[150,356,151,363],[150,364,151,371],[150,372,151,379],[150,380,151,387],[151,197,152,211],[152,212,153,219],[152,220,153,227],[147,197,148,211],[148,212,149,219],[148,220,149,227],[148,228,149,235],[148,236,149,243],[148,244,149,251],[148,252,149,259],[148,260,149,267],[148,268,149,275],[148,276,149,283],[148,284,149,291],[148,292,149,299],[148,300,149,307],[148,308,149,315],[148,316,149,323],[146,236,147,243],[146,244,147,251],[152,228,153,235],[152,236,153,243],[152,244,153,251],[152,252,153,259],[152,260,153,267],[152,268,153,275],[152,276,153,283],[152,284,153,291],[152,292,153,299],[152,300,153,307],[152,308,153,315],[152,316,153,323],[148,324,149,331],[148,332,149,339],[146,252,147,259],[146,260,147,267],[146,268,147,275],[146,276,147,283],[146,284,147,291],[146,292,147,299],[146,300,147,307],[146,308,147,315],[146,316,147,323],[146,324,147,331],[146,332,147,339],[146,340,147,347],[146,348,147,355],[146,356,147,363],[146,364,147,371],[146,372,147,379],[146,380,147,387],[142,364,143,371],[142,372,143,379],[142,380,143,387],[143,197,144,211],[144,212,145,219],[144,220,145,227],[144,228,145,235],[144,236,145,243],[144,244,145,251],[144,252,145,259],[144,260,145,267],[144,268,145,275],[144,276,145,283],[144,284,145,291],[144,292,145,299],[144,300,145,307],[144,308,145,315],[144,316,145,323],[144,324,145,331],[144,332,145,339],[144,340,145,347],[144,348,145,355],[144,356,145,363],[144,364,145,371],[144,372,145,379],[144,380,145,387],[145,197,146,211],[146,212,147,219],[146,220,147,227],[146,228,147,235],[140,364,141,371],[140,372,141,379],[140,380,141,387],[141,197,142,211],[142,212,143,219],[142,220,143,227],[142,228,143,235],[142,236,143,243],[142,244,143,251],[142,252,143,259],[142,260,143,267],[142,268,143,275],[142,276,143,283],[142,284,143,291],[142,292,143,299],[142,300,143,307],[142,308,143,315],[142,316,143,323],[142,324,143,331],[142,332,143,339],[142,340,143,347],[142,348,143,355],[142,356,143,363],[136,236,137,243],[136,244,137,251],[135,197,136,211],[136,212,137,219],[136,220,137,227],[136,228,137,235],[138,340,139,347],[138,348,139,355],[138,356,139,363],[138,364,139,371],[138,372,139,379],[138,380,139,387],[139,197,140,211],[140,212,141,219],[140,220,141,227],[140,228,141,235],[140,236,141,243],[140,244,141,251],[140,252,141,259],[140,260,141,267],[140,268,141,275],[140,276,141,283],[140,284,141,291],[140,292,141,299],[140,300,141,307],[140,308,141,315],[140,316,141,323],[140,324,141,331],[140,332,141,339],[140,340,141,347],[140,348,141,355],[140,356,141,363],[134,356,135,363],[134,364,135,371],[134,372,135,379],[134,380,135,387],[137,197,138,211],[138,212,139,219],[138,220,139,227],[138,228,139,235],[138,236,139,243],[138,244,139,251],[138,252,139,259],[138,260,139,267],[138,268,139,275],[138,276,139,283],[138,284,139,291],[138,292,139,299],[138,300,139,307],[138,308,139,315],[138,316,139,323],[138,324,139,331],[138,332,139,339],[136,252,137,259],[136,260,137,267],[136,268,137,275],[136,276,137,283],[136,284,137,291],[136,292,137,299],[136,300,137,307],[136,308,137,315],[136,316,137,323],[136,324,137,331],[136,332,137,339],[132,324,133,331],[132,332,133,339],[132,340,133,347],[136,340,137,347],[132,348,133,355],[136,348,137,355],[136,356,137,363],[136,364,137,371],[136,372,137,379],[136,380,137,387],[132,364,133,371],[132,372,133,379],[132,380,133,387],[133,197,134,211],[134,212,135,219],[134,220,135,227],[134,228,135,235],[134,236,135,243],[134,244,135,251],[134,252,135,259],[134,260,135,267],[134,268,135,275],[134,276,135,283],[134,284,135,291],[134,292,135,299],[134,300,135,307],[134,308,135,315],[134,316,135,323],[134,324,135,331],[134,332,135,339],[134,340,135,347],[134,348,135,355],[132,356,133,363],[128,340,129,347],[128,348,129,355],[128,356,129,363],[128,364,129,371],[128,372,129,379],[128,380,129,387],[129,197,130,211],[130,212,131,219],[130,220,131,227],[130,228,131,235],[130,236,131,243],[130,244,131,251],[130,252,131,259],[130,260,131,267],[130,268,131,275],[130,276,131,283],[130,284,131,291],[130,292,131,299],[130,300,131,307],[130,308,131,315],[130,316,131,323],[130,324,131,331],[130,332,131,339],[130,340,131,347],[130,348,131,355],[130,356,131,363],[130,364,131,371],[130,372,131,379],[130,380,131,387],[131,197,132,211],[132,212,133,219],[132,220,133,227],[127,197,128,211],[128,212,129,219],[128,220,129,227],[128,228,129,235],[128,236,129,243],[128,244,129,251],[128,252,129,259],[128,260,129,267],[128,268,129,275],[128,276,129,283],[128,284,129,291],[128,292,129,299],[128,300,129,307],[128,308,129,315],[128,316,129,323],[126,236,127,243],[126,244,127,251],[132,228,133,235],[132,236,133,243],[132,244,133,251],[132,252,133,259],[132,260,133,267],[132,268,133,275],[132,276,133,283],[132,284,133,291],[132,292,133,299],[132,300,133,307],[132,308,133,315],[132,316,133,323],[128,324,129,331],[128,332,129,339],[126,252,127,259],[126,260,127,267],[126,268,127,275],[126,276,127,283],[126,284,127,291],[126,292,127,299],[126,300,127,307],[126,308,127,315],[126,316,127,323],[126,324,127,331],[126,332,127,339],[126,340,127,347],[126,348,127,355],[126,356,127,363],[126,364,127,371],[126,372,127,379],[126,380,127,387],[122,364,123,371],[122,372,123,379],[122,380,123,387],[123,197,124,211],[124,212,125,219],[124,220,125,227],[124,228,125,235],[124,236,125,243],[124,244,125,251],[124,252,125,259],[124,260,125,267],[124,268,125,275],[124,276,125,283],[124,284,125,291],[124,292,125,299],[124,300,125,307],[124,308,125,315],[124,316,125,323],[124,324,125,331],[124,332,125,339],[124,340,125,347],[124,348,125,355],[124,356,125,363],[124,364,125,371],[124,372,125,379],[124,380,125,387],[125,197,126,211],[126,212,127,219],[126,220,127,227],[126,228,127,235],[120,364,121,371],[120,372,121,379],[120,380,121,387],[121,197,122,211],[122,212,123,219],[122,220,123,227],[122,228,123,235],[122,236,123,243],[122,244,123,251],[122,252,123,259],[122,260,123,267],[122,268,123,275],[122,276,123,283],[122,284,123,291],[122,292,123,299],[122,300,123,307],[122,308,123,315],[122,316,123,323],[122,324,123,331],[122,332,123,339],[122,340,123,347],[122,348,123,355],[122,356,123,363],[116,236,117,243],[116,244,117,251],[115,197,116,211],[116,212,117,219],[116,220,117,227],[116,228,117,235],[118,340,119,347],[118,348,119,355],[118,356,119,363],[118,364,119,371],[118,372,119,379],[118,380,119,387],[119,197,120,211],[120,212,121,219],[120,220,121,227],[120,228,121,235],[120,236,121,243],[120,244,121,251],[120,252,121,259],[120,260,121,267],[120,268,121,275],[120,276,121,283],[120,284,121,291],[120,292,121,299],[120,300,121,307],[120,308,121,315],[120,316,121,323],[120,324,121,331],[120,332,121,339],[120,340,121,347],[120,348,121,355],[120,356,121,363],[114,356,115,363],[114,364,115,371],[114,372,115,379],[114,380,115,387],[117,197,118,211],[118,212,119,219],[118,220,119,227],[118,228,119,235],[118,236,119,243],[118,244,119,251],[118,252,119,259],[118,260,119,267],[118,268,119,275],[118,276,119,283],[118,284,119,291],[118,292,119,299],[118,300,119,307],[118,308,119,315],[118,316,119,323],[118,324,119,331],[118,332,119,339],[116,252,117,259],[116,260,117,267],[116,268,117,275],[116,276,117,283],[116,284,117,291],[116,292,117,299],[116,300,117,307],[116,308,117,315],[116,316,117,323],[116,324,117,331],[116,332,117,339],[112,324,113,331],[112,332,113,339],[112,340,113,347],[116,340,117,347],[112,348,113,355],[116,348,117,355],[116,356,117,363],[116,364,117,371],[116,372,117,379],[116,380,117,387],[112,364,113,371],[112,372,113,379],[112,380,113,387],[113,197,114,211],[114,212,115,219],[114,220,115,227],[114,228,115,235],[114,236,115,243],[114,244,115,251],[114,252,115,259],[114,260,115,267],[114,268,115,275],[114,276,115,283],[114,284,115,291],[114,292,115,299],[114,300,115,307],[114,308,115,315],[114,316,115,323],[114,324,115,331],[114,332,115,339],[114,340,115,347],[114,348,115,355],[112,356,113,363],[108,340,109,347],[108,348,109,355],[108,356,109,363],[108,364,109,371],[108,372,109,379],[108,380,109,387],[109,197,110,211],[110,212,111,219],[110,220,111,227],[110,228,111,235],[110,236,111,243],[110,244,111,251],[110,252,111,259],[110,260,111,267],[110,268,111,275],[110,276,111,283],[110,284,111,291],[110,292,111,299],[110,300,111,307],[110,308,111,315],[110,316,111,323],[110,324,111,331],[110,332,111,339],[110,340,111,347],[110,348,111,355],[110,356,111,363],[110,364,111,371],[110,372,111,379],[110,380,111,387],[111,197,112,211],[112,212,113,219],[112,220,113,227],[107,197,108,211],[108,212,109,219],[108,220,109,227],[108,228,109,235],[108,236,109,243],[108,244,109,251],[108,252,109,259],[108,260,109,267],[108,268,109,275],[108,276,109,283],[108,284,109,291],[108,292,109,299],[108,300,109,307],[108,308,109,315],[108,316,109,323],[106,236,107,243],[106,244,107,251],[112,228,113,235],[112,236,113,243],[112,244,113,251],[112,252,113,259],[112,260,113,267],[112,268,113,275],[112,276,113,283],[112,284,113,291],[112,292,113,299],[112,300,113,307],[112,308,113,315],[112,316,113,323],[108,324,109,331],[108,332,109,339],[106,252,107,259],[106,260,107,267],[106,268,107,275],[106,276,107,283],[106,284,107,291],[106,292,107,299],[106,300,107,307],[106,308,107,315],[106,316,107,323],[106,324,107,331],[106,332,107,339],[106,340,107,347],[106,348,107,355],[106,356,107,363],[106,364,107,371],[106,372,107,379],[106,380,107,387],[102,364,103,371],[102,372,103,379],[102,380,103,387],[103,197,104,211],[104,212,105,219],[104,220,105,227],[104,228,105,235],[104,236,105,243],[104,244,105,251],[104,252,105,259],[104,260,105,267],[104,268,105,275],[104,276,105,283],[104,284,105,291],[104,292,105,299],[104,300,105,307],[104,308,105,315],[104,316,105,323],[104,324,105,331],[104,332,105,339],[104,340,105,347],[104,348,105,355],[104,356,105,363],[104,364,105,371],[104,372,105,379],[104,380,105,387],[105,197,106,211],[106,212,107,219],[106,220,107,227],[106,228,107,235],[100,364,101,371],[100,372,101,379],[100,380,101,387],[101,197,102,211],[102,212,103,219],[102,220,103,227],[102,228,103,235],[102,236,103,243],[102,244,103,251],[102,252,103,259],[102,260,103,267],[102,268,103,275],[102,276,103,283],[102,284,103,291],[102,292,103,299],[102,300,103,307],[102,308,103,315],[102,316,103,323],[102,324,103,331],[102,332,103,339],[102,340,103,347],[102,348,103,355],[102,356,103,363],[96,236,97,243],[96,244,97,251],[95,197,96,211],[96,212,97,219],[96,220,97,227],[96,228,97,235],[98,340,99,347],[98,348,99,355],[98,356,99,363],[98,364,99,371],[98,372,99,379],[98,380,99,387],[99,197,100,211],[100,212,101,219],[100,220,101,227],[100,228,101,235],[100,236,101,243],[100,244,101,251],[100,252,101,259],[100,260,101,267],[100,268,101,275],[100,276,101,283],[100,284,101,291],[100,292,101,299],[100,300,101,307],[100,308,101,315],[100,316,101,323],[100,324,101,331],[100,332,101,339],[100,340,101,347],[100,348,101,355],[100,356,101,363],[94,356,95,363],[94,364,95,371],[94,372,95,379],[94,380,95,387],[97,197,98,211],[98,212,99,219],[98,220,99,227],[98,228,99,235],[98,236,99,243],[98,244,99,251],[98,252,99,259],[98,260,99,267],[98,268,99,275],[98,276,99,283],[98,284,99,291],[98,292,99,299],[98,300,99,307],[98,308,99,315],[98,316,99,323],[98,324,99,331],[98,332,99,339],[96,252,97,259],[96,260,97,267],[96,268,97,275],[96,276,97,283],[96,284,97,291],[96,292,97,299],[96,300,97,307],[96,308,97,315],[96,316,97,323],[96,324,97,331],[96,332,97,339],[92,324,93,331],[92,332,93,339],[92,340,93,347],[96,340,97,347],[92,348,93,355],[96,348,97,355],[96,356,97,363],[96,364,97,371],[96,372,97,379],[96,380,97,387],[92,364,93,371],[92,372,93,379],[92,380,93,387],[93,197,94,211],[94,212,95,219],[94,220,95,227],[94,228,95,235],[94,236,95,243],[94,244,95,251],[94,252,95,259],[94,260,95,267],[94,268,95,275],[94,276,95,283],[94,284,95,291],[94,292,95,299],[94,300,95,307],[94,308,95,315],[94,316,95,323],[94,324,95,331],[94,332,95,339],[94,340,95,347],[94,348,95,355],[92,356,93,363],[88,340,89,347],[88,348,89,355],[88,356,89,363],[88,364,89,371],[88,372,89,379],[88,380,89,387],[89,197,90,211],[90,212,91,219],[90,220,91,227],[90,228,91,235]],"merged_total":3440,"flags":["merged_cut"]}
[]
[]
[null,null,null,null,null,null,null,null,null,null,null,null,null,null,null,null,null,null,null,null,null,null,null,null,null,"",null,null,null,null,null,null,null,"",null,null,null,null,null,null,null,"",null,null,null,null,null,null,null,"",null,null,null,null,null,null,null,"",null,null,null,null,null,null,null,"",null,null,null,null,null,null,null,"",null,null,null,null,null,null,null,"",null,null,null,null,null,null,null,null,null,null,null,null,null,null,null,"",null,null,null,null,null,null,null,"",null,null,null,null,null,null,null,null,null,null,null,null,null,null,null,"",null,null,null,null,null,null,null,null,null,null,null,null,null,null,null,null,"",null,null,null,null,null,null,null,null,null,null,null,null,null,null,"",null,null,null,null,null,null,null,null,null,null,null,null,null,null,null,"",null,null,null,null,null,null,null,"",null,null,null,null,null,null,null,"",null,null,null,null,null,null,null,"",null,null,null,null,null,null,null,null,null,null,null,null,null,null,null,null,null,null,null,null,null,null,null,null,null,null,"",null,null,null,null,null,null,null,"",null,null,null,null,null,null,null,"",null,null,null,null,null,null,null,"",null,null,null,null,null,null,null,"",null,null,null,null,null,null,null,"",null,null,null,null,null,null,null,"",null,null,null,null,null,null,null,"",null,null,null,null,null,null,null,null,null,null,null,null,null,null,null,"",null,null,null,null,null,null,null,"",null,null,null,null,null,null,null,null,null,null,null,null,null,null,null,"",null,null,null,null,null,null,null,null,null,null,null,null,null,null,null,null,"",null,null,null,null,null,null,null,null,null,null,null,null,null,null,"",null,null,null,null,null,null,null,null,null,null,null,null,null,null,null,"",null,null,null,null,null,null,null,"",null,null,null,null,null,null,null,"",null,null,null,null,null,null,null,""]
[]
[null,null,"Refer to Standard Road Plans EW-101 and EW-102.",null,null,null,null,null,null,null,null,null,null,null,null,null,null,null,null,null,null,null,null,null,null,null,null,null,null,null,null,null,null,null,null,null,null,null,null,null,null,null,null,null,null,null,null,null,null,null,null,null,null,null,null,null,null,null,"TABULATION OF TEMPLATE QUANTITIES AND ADJUSTMENTS",null,null,null,null,null,null,null,null,null,null,null,null,null,null,null,null,null,null,null,null,null,null,null,null,null,null,null,null,null,null,null,null,null,null,null,null,null,null,null,null,null,null,null,null,null,null,null,null,null,null,null,null,null,null,null,null,null,null,null,null,null,null,null,null,null,null,null,null,null,null,null,null,null,null,null,null,null,null,"107-28",null,null,null,null,null,null,null,null,null,null,null,null,null,null,null,null,null,null,null,null,null,null,null,null,null,null,null,null,null,null,null,null,null,null,null,null,null,null,null,null,null,null,null,null,null,null,null,null,null,null,null,null,null,null,null,null,null,null,null,"Refer to Standard Road Plans EW-101 and EW-102.",null,null,null,null,null,null,null,null,null,null,null,null,null,null,null,null,null,null,null,null,null,null,null,null,null,null,null,null,null,null,null,null,null,null,null,null,null,null,null,null,null,null,null,null,null,null,null,null,null,null,null,null,null,null,null,"TABULATION OF TEMPLATE QUANTITIES AND ADJUSTMENTS",null,null,null,null,null,null,null,null,null,null,null,null,null,null,null,null,null,null,null,null,null,null,null,null,null,null,null,null,null,null,null,null,null,null,null,null,null,null,null,null,null,null,null,null,null,null,null,null,null,null,null,null,null,null,null,null,null,null,null,null,null,null,null,null,null,null,null,null,null,null,null,null,null,null,null,null,null,null,"107-28"]
[]
[null,null,null,null,null,null,null,null,null,null,null,null,null,null,null,null,null,null,null,null,null,null,null,null,null,null,null,null,null,null,null,null,null,null,null,null,null,null,null,null,null,null,null,null,null,null,null,null,null,null,null,null,null,null,null,null,null,null,null,null,null,null,null,null,null,null,null,null,null,null,null,null,null,null,null,null,null,null,null,null,null,null,null,null,null,null,null,null,null,null,null,null,null,null,null,null,null,null,null,null,null,null,null,null,null,null,null,null,null,null,null,null,null,null,null,null,null,null,null,null,null,null,null,null,null,null,null,null,null,null,null,null,null,null,null,null,null,"2015-04-21",null,null,null,null,null,null,null,null,null,null,null,null,null,null,null,null,null,null,null,null,null,null,null,null,null,null,null,null,null,null,null,null,null,null,null,null,null,null,null,null,null,null,null,null,null,null,null,null,null,null,null,null,null,null,null,null,null,null,null,null,null,null,null,null,null,null,null,null,null,null,null,null,null,null,null,null,null,null,null,null,null,null,null,null,null,null,null,null,null,null,null,null,null,null,null,null,null,null,null,null,null,null,null,null,null,null,null,null,null,null,null,null,null,null,null,null,null,null,null,null,null,null,null,null,null,null,null,null,null,null,null,null,null,null,null,null,null,null,null,null,null,null,null,null,null,null,null,null,null,null,null,null,null,null,null,null,null,null,null,null,null,null,null,null,null,null,null,null,null,null,null,null,null,null,null,null,null,null,null,null,null,null,null,null,null,null,null,null,null,null,null,null,null,null,"2015-04-21"]
[]
[]
[]
[]
[null,null,null,null,null,null,null,null,null,null,null,null,null,null,null,null,null,"[1]",null,null,null,null,null,null,null,"[2]",null,null,null,null,null,null,null,"[3]",null,null,null,null,null,null,null,"[4]",null,null,null,null,null,null,null,"[5]",null,null,null,null,null,null,null,"[6]",null,null,null,null,null,null,null,"[7]",null,null,null,null,null,null,null,"[8]",null,null,null,null,null,null,null,"[9]",null,null,null,null,null,null,null,"[10]",null,null,null,null,null,null,null,"[11]",null,null,null,null,null,null,null,"[12]",null,null,null,null,null,null,null,"[13]",null,null,null,null,null,null,null,"[14]",null,null,null,null,null,null,null,"[15]",null,null,null,null,null,null,null,"[16]",null,null,null,null,null,null,null,"[17]",null,null,null,null,null,null,null,"[18]",null,null,null,null,null,null,null,"[19]",null,null,null,null,null,null,null,"[20]",null,null,null,null,null,null,null,"[21]",null,null,null,null,null,null,null,"[22]",null,null,null,null,null,null,null,null,null,null,null,null,null,null,null,null,null,null,null,null,null,null,null,null,null,null,"[23]",null,null,null,null,null,null,null,"[24]",null,null,null,null,null,null,null,"[25]",null,null,null,null,null,null,null,"[26]",null,null,null,null,null,null,null,"[27]",null,null,null,null,null,null,null,"[28]",null,null,null,null,null,null,null,"[29]",null,null,null,null,null,null,null,"[30]",null,null,null,null,null,null,null,"[31]",null,null,null,null,null,null,null,"[32]",null,null,null,null,null,null,null,"[33]",null,null,null,null,null,null,null,"[34]",null,null,null,null,null,null,null,"[35]",null,null,null,null,null,null,null,"[36]",null,null,null,null,null,null,null,"[37]",null,null,null,null,null,null,null,"[38]",null,null,null,null,null,null,null,"[39]",null,null,null,null,null,null,null,"[40]",null,null,null,null,null,null,null,"[41]",null,null,null,null,null,null,null,"[42]",null,null,null,null,null,null,null,"[43]",null,null,null,null,null,null,null,"[44]"]
[]
[]
[null,null,null,null,null,null,null,null,null,null,null,null,null,null,null,null,null,{"$f":"IF('107_28'!$R$15<>\"\",'107_28'!$R$15,\"\")","v":""},null,null,null,null,null,null,null,{"$f":"IF('107_28'!$Z$15<>\"\",'107_28'!$Z$15,\"\")","v":""},null,null,null,null,null,null,null,{"$f":"IF('107_28'!$AH$15<>\"\",'107_28'!$AH$15,\"\")","v":""},null,null,null,null,null,null,null,{"$f":"IF('107_28'!$AP$15<>\"\",'107_28'!$AP$15,\"\")","v":""},null,null,null,null,null,null,null,{"$f":"IF('107_28'!$AX$15<>\"\",'107_28'!$AX$15,\"\")","v":""},null,null,null,null,null,null,null,{"$f":"IF('107_28'!$BF$15<>\"\",'107_28'!$BF$15,\"\")","v":""},null,null,null,null,null,null,null,{"$f":"IF('107_28'!$BN$15<>\"\",'107_28'!$BN$15,\"\")","v":""},null,null,null,null,null,null,null,{"$f":"IF('107_28'!$BV$15<>\"\",'107_28'!$BV$15,\"\")","v":""},null,null,null,null,null,null,null,{"$f":"IF('107_28'!$CD$15<>\"\",'107_28'!$CD$15,\"\")","v":""},null,null,null,null,null,null,null,{"$f":"IF('107_28'!$CL$15<>\"\",'107_28'!$CL$15,\"\")","v":""},null,null,null,null,null,null,null,{"$f":"IF('107_28'!$CT$15<>\"\",'107_28'!$CT$15,\"\")","v":""},null,null,null,null,null,null,null,{"$f":"IF('107_28'!$DB$15<>\"\",'107_28'!$DB$15,\"\")","v":""},null,null,null,null,null,null,null,{"$f":"IF('107_28'!$DJ$15<>\"\",'107_28'!$DJ$15,\"\")","v":""},null,null,null,null,null,null,null,{"$f":"IF('107_28'!$DR$15<>\"\",'107_28'!$DR$15,\"\")","v":""},null,null,null,null,null,null,null,{"$f":"IF('107_28'!$DZ$15<>\"\",'107_28'!$DZ$15,\"\")","v":""},null,null,null,null,null,null,null,{"$f":"IF('107_28'!$EH$15<>\"\",'107_28'!$EH$15,\"\")","v":""},null,null,null,null,null,null,null,{"$f":"IF('107_28'!$EP$15<>\"\",'107_28'!$EP$15,\"\")","v":""},null,null,null,null,null,null,null,{"$f":"IF('107_28'!$EX$15<>\"\",'107_28'!$EX$15,\"\")","v":""},null,null,null,null,null,null,null,{"$f":"IF('107_28'!$FF$15<>\"\",'107_28'!$FF$15,\"\")","v":""},null,null,null,null,null,null,null,{"$f":"IF('107_28'!$FN$15<>\"\",'107_28'!$FN$15,\"\")","v":""},null,null,null,null,null,null,null,{"$f":"IF('107_28'!$FV$15<>\"\",'107_28'!$FV$15,\"\")","v":""},null,null,null,null,null,null,null,{"$f":"IF('107_28'!$GD$15<>\"\",'107_28'!$GD$15,\"\")","v":""},null,null,null,null,null,null,null,null,null,null,null,null,null,null,null,null,null,null,null,null,null,null,null,null,null,null,{"$f":"IF('107_28'!$HE$15355<>\"\",'107_28'!$HE$15355,\"\")","v":""},null,null,null,null,null,null,null,{"$f":"IF('107_28'!$HM$15355<>\"\",'107_28'!$HM$15355,\"\")","v":""},null,null,null,null,null,null,null,{"$f":"IF('107_28'!$HU$15355<>\"\",'107_28'!$HU$15355,\"\")","v":""},null,null,null,null,null,null,null,{"$f":"IF('107_28'!$IC$15355<>\"\",'107_28'!$IC$15355,\"\")","v":""},null,null,null,null,null,null,null,{"$f":"IF('107_28'!$IK$15355<>\"\",'107_28'!$IK$15355,\"\")","v":""},null,null,null,null,null,null,null,{"$f":"IF('107_28'!$IS$15355<>\"\",'107_28'!$IS$15355,\"\")","v":""},null,null,null,null,null,null,null,{"$f":"IF('107_28'!$JA$15355<>\"\",'107_28'!$JA$15355,\"\")","v":""},null,null,null,null,null,null,null,{"$f":"IF('107_28'!$JI$15355<>\"\",'107_28'!$JI$15355,\"\")","v":""},null,null,null,null,null,null,null,{"$f":"IF('107_28'!$JQ$15355<>\"\",'107_28'!$JQ$15355,\"\")","v":""},null,null,null,null,null,null,null,{"$f":"IF('107_28'!$JY$15355<>\"\",'107_28'!$JY$15355,\"\")","v":""},null,null,null,null,null,null,null,{"$f":"IF('107_28'!$KG$15355<>\"\",'107_28'!$KG$15355,\"\")","v":""},null,null,null,null,null,null,null,{"$f":"IF('107_28'!$KO$15355<>\"\",'107_28'!$KO$15355,\"\")","v":""},null,null,null,null,null,null,null,{"$f":"IF('107_28'!$KW$15355<>\"\",'107_28'!$KW$15355,\"\")","v":""},null,null,null,null,null,null,null,{"$f":"IF('107_28'!$LE$15355<>\"\",'107_28'!$LE$15355,\"\")","v":""},null,null,null,null,null,null,null,{"$f":"IF('107_28'!$LM$15355<>\"\",'107_28'!$LM$15355,\"\")","v":""},null,null,null,null,null,null,null,{"$f":"IF('107_28'!$LU$15355<>\"\",'107_28'!$LU$15355,\"\")","v":""},null,null,null,null,null,null,null,{"$f":"IF('107_28'!$MC$15355<>\"\",'107_28'!$MC$15355,\"\")","v":""},null,null,null,null,null,null,null,{"$f":"IF('107_28'!$MK$15355<>\"\",'107_28'!$MK$15355,\"\")","v":""},null,null,null,null,null,null,null,{"$f":"IF('107_28'!$MS$15355<>\"\",'107_28'!$MS$15355,\"\")","v":""},null,null,null,null,null,null,null,{"$f":"IF('107_28'!$NA$15355<>\"\",'107_28'!$NA$15355,\"\")","v":""},null,null,null,null,null,null,null,{"$f":"IF('107_28'!$NI$15355<>\"\",'107_28'!$NI$15355,\"\")","v":""},null,null,null,null,null,null,null,{"$f":"IF('107_28'!$NQ$15355<>\"\",'107_28'!$NQ$15355,\"\")","v":""}]
[]
[]
[]
[null,null,null,null,null,null,null,null,null,null,null,null,null,null,null,null,null,null,null,null,null,null,null,null,null,null,null,null,null,null,null,null,null,null,null,null,null,null,null,null,null,null,null,null,null,null,null,null,null,null,null,null,null,null,null,null,null,null,null,null,null,null,null,null,null,null,null,null,null,null,null,null,null,null,null,null,null,null,null,null,null,null,null,null,null,null,null,null,null,null,null,null,null,null,null,null,null,null,null,null,null,null,null,null,null,null,null,null,null,null,null,null,null,null,null,null,null,null,null,null,null,null,null,null,null,null,null,null,null,null,null,null,null,null,null,null,null,null,null,null,null,null,null,null,null,null,null,null,null,null,null,null,null,null,null,null,null,null,null,null,null,null,null,null,null,null,null,null,null,null,null,null,null,null,null,null,null,null,null,null,null,null,null,null,null,null,null,null,null,null,null,null,null,null,null,null,null,{"$f":"IF(C19<>\"\",C19,\"\")","v":""}]
[]
[]
[]
[]
[]
[]
[]
[]
[]
[]
[]
[]
[]
[]
[]
[]
[]
[]
[null,null,null,null,null,null,null,null,null,null,null,null,null,null,null,null,null,null,null,null,null,null,null,null,null,null,null,null,null,null,null,null,null,null,null,null,null,null,null,null,null,null,null,null,null,null,null,null,null,null,null,null,null,null,null,null,null,null,null,null,null,null,null,null,null,null,null,null,null,null,null,null,null,null,null,null,null,null,null,null,null,null,null,null,null,null,null,null,null,null,null,null,null,null,null,null,null,null,null,null,null,null,null,null,null,null,null,null,null,null,null,null,null,null,null,null,null,null,null,null,null,null,null,null,null,null,null,null,null,null,null,null,null,null,null,null,null,null,null,null,null,null,null,null,null,null,null,null,null,null,null,null,null,null,null,null,null,null,null,null,null,null,null,null,null,null,null,null,null,null,null,null,null,null,null,null,null,null,null,null,null,null,null,null,null,null,null,null,null,null,null,null,null,null,null,null,null,{"$f":"IF(C38<>\"\",C38,\"\")","v":""}]
[]
[null,null,null,null,null,null,null,null,null,null,null,null,null,null,null,null,null,null,null,null,null,null,null,null,null,null,null,null,null,null,null,null,null,null,null,null,null,null,null,null,null,null,null,null,null,null,null,null,null,null,null,null,null,null,null,null,null,null,null,null,null,null,null,null,null,null,null,null,null,null,null,null,null,null,null,null,null,null,null,null,null,null,null,null,null,null,null,null,null,null,null,null,null,null,null,null,null,null,null,null,null,null,null,null,null,null,null,null,null,null,null,null,null,null,null,null,null,null,null,null,null,null,null,null,null,null,null,null,null,null,null,null,null,null,null,null,null,null,null,null,null,null,null,null,null,null,null,null,null,null,null,null,null,null,null,null,null,null,null,null,null,null,null,null,null,null,null,null,null,null,null,null,null,null,null,null,null,null,null,null,null,null,null,null,null,null,null,null,null,null,null,null,null,null,null,null,null,{"$f":"IF(C40<>\"\",C40,\"\")","v":""}]
[]
[null,null,null,null,null,null,null,null,null,null,null,null,null,null,null,null,null,null,null,null,null,null,null,null,null,null,null,null,null,null,null,null,null,null,null,null,null,null,null,null,null,null,null,null,null,null,null,null,null,null,null,null,null,null,null,null,null,null,null,null,null,null,null,null,null,null,null,null,null,null,null,null,null,null,null,null,null,null,null,null,null,null,null,null,null,null,null,null,null,null,null,null,null,null,null,null,null,null,null,null,null,null,null,null,null,null,null,null,null,null,null,null,null,null,null,null,null,null,null,null,null,null,null,null,null,null,null,null,null,null,null,null,null,null,null,null,null,null,null,null,null,null,null,null,null,null,null,null,null,null,null,null,null,null,null,null,null,null,null,null,null,null,null,null,null,null,null,null,null,null,null,null,null,null,null,null,null,null,null,null,null,null,null,null,null,null,null,null,null,null,null,null,null,null,null,null,null,{"$f":"IF(C42<>\"\",C42,\"\")","v":""}]
[]
[null,null,null,null,null,null,null,null,null,null,null,null,null,null,null,null,null,null,null,null,null,null,null,null,null,null,null,null,null,null,null,null,null,null,null,null,null,null,null,null,null,null,null,null,null,null,null,null,null,null,null,null,null,null,null,null,null,null,null,null,null,null,null,null,null,null,null,null,null,null,null,null,null,null,null,null,null,null,null,null,null,null,null,null,null,null,null,null,null,null,null,null,null,null,null,null,null,null,null,null,null,null,null,null,null,null,null,null,null,null,null,null,null,null,null,null,null,null,null,null,null,null,null,null,null,null,null,null,null,null,null,null,null,null,null,null,null,null,null,null,null,null,null,null,null,null,null,null,null,null,null,null,null,null,null,null,null,null,null,null,null,null,null,null,null,null,null,null,null,null,null,null,null,null,null,null,null,null,null,null,null,null,null,null,null,null,null,null,null,null,null,null,null,null,null,null,null,{"$f":"IF(C44<>\"\",C44,\"\")","v":""}]
[]
[null,null,null,null,null,null,null,null,null,null,null,null,null,null,null,null,null,null,null,null,null,null,null,null,null,null,null,null,null,null,null,null,null,null,null,null,null,null,null,null,null,null,null,null,null,null,null,null,null,null,null,null,null,null,null,null,null,null,null,null,null,null,null,null,null,null,null,null,null,null,null,null,null,null,null,null,null,null,null,null,null,null,null,null,null,null,null,null,null,null,null,null,null,null,null,null,null,null,null,null,null,null,null,null,null,null,null,null,null,null,null,null,null,null,null,null,null,null,null,null,null,null,null,null,null,null,null,null,null,null,null,null,null,null,null,null,null,null,null,null,null,null,null,null,null,null,null,null,null,null,null,null,null,null,null,null,null,null,null,null,null,null,null,null,null,null,null,null,null,null,null,null,null,null,null,null,null,null,null,null,null,null,null,null,null,null,null,null,null,null,null,null,null,null,null,null,null,{"$f":"IF(C46<>\"\",C46,\"\")","v":""}]
[]
[null,null,null,null,null,null,null,null,null,null,null,null,null,null,null,null,null,null,null,null,null,null,null,null,null,null,null,null,null,null,null,null,null,null,null,null,null,null,null,null,null,null,null,null,null,null,null,null,null,null,null,null,null,null,null,null,null,null,null,null,null,null,null,null,null,null,null,null,null,null,null,null,null,null,null,null,null,null,null,null,null,null,null,null,null,null,null,null,null,null,null,null,null,null,null,null,null,null,null,null,null,null,null,null,null,null,null,null,null,null,null,null,null,null,null,null,null,null,null,null,null,null,null,null,null,null,null,null,null,null,null,null,null,null,null,null,null,null,null,null,null,null,null,null,null,null,null,null,null,null,null,null,null,null,null,null,null,null,null,null,null,null,null,null,null,null,null,null,null,null,null,null,null,null,null,null,null,null,null,null,null,null,null,null,null,null,null,null,null,null,null,null,null,null,null,null,null,{"$f":"IF(C48<>\"\",C48,\"\")","v":""}]
[]
[null,null,null,null,null,null,null,null,null,null,null,null,null,null,null,null,null,null,null,null,null,null,null,null,null,null,null,null,null,null,null,null,null,null,null,null,null,null,null,null,null,null,null,null,null,null,null,null,null,null,null,null,null,null,null,null,null,null,null,null,null,null,null,null,null,null,null,null,null,null,null,null,null,null,null,null,null,null,null,null,null,null,null,null,null,null,null,null,null,null,null,null,null,null,null,null,null,null,null,null,null,null,null,null,null,null,null,null,null,null,null,null,null,null,null,null,null,null,null,null,null,null,null,null,null,null,null,null,null,null,null,null,null,null,null,null,null,null,null,null,null,null,null,null,null,null,null,null,null,null,null,null,null,null,null,null,null,null,null,null,null,null,null,null,null,null,null,null,null,null,null,null,null,null,null,null,null,null,null,null,null,null,null,null,null,null,null,null,null,null,null,null,null,null,null,null,null,{"$f":"IF(C50<>\"\",C50,\"\")","v":""}]
[]
[null,null,null,null,null,null,null,null,null,null,null,null,null,null,null,null,null,null,null,null,null,null,null,null,null,null,null,null,null,null,null,null,null,null,null,null,null,null,null,null,null,null,null,null,null,null,null,null,null,null,null,null,null,null,null,null,null,null,null,null,null,null,null,null,null,null,null,null,null,null,null,null,null,null,null,null,null,null,null,null,null,null,null,null,null,null,null,null,null,null,null,null,null,null,null,null,null,null,null,null,null,null,null,null,null,null,null,null,null,null,null,null,null,null,null,null,null,null,null,null,null,null,null,null,null,null,null,null,null,null,null,null,null,null,null,null,null,null,null,null,null,null,null,null,null,null,null,null,null,null,null,null,null,null,null,null,null,null,null,null,null,null,null,null,null,null,null,null,null,null,null,null,null,null,null,null,null,null,null,null,null,null,null,null,null,null,null,null,null,null,null,null,null,null,null,null,null,{"$f":"IF(C52<>\"\",C52,\"\")","v":""}]
[]
[null,null,null,null,null,null,null,null,null,null,null,null,null,null,null,null,null,null,null,null,null,null,null,null,null,null,null,null,null,null,null,null,null,null,null,null,null,null,null,null,null,null,null,null,null,null,null,null,null,null,null,null,null,null,null,null,null,null,null,null,null,null,null,null,null,null,null,null,null,null,null,null,null,null,null,null,null,null,null,null,null,null,null,null,null,null,null,null,null,null,null,null,null,null,null,null,null,null,null,null,null,null,null,null,null,null,null,null,null,null,null,null,null,null,null,null,null,null,null,null,null,null,null,null,null,null,null,null,null,null,null,null,null,null,null,null,null,null,null,null,null,null,null,null,null,null,null,null,null,null,null,null,null,null,null,null,null,null,null,null,null,null,null,null,null,null,null,null,null,null,null,null,null,null,null,null,null,null,null,null,null,null,null,null,null,null,null,null,null,null,null,null,null,null,null,null,null,{"$f":"IF(C54<>\"\",C54,\"\")","v":""}]
[]
[null,null,null,null,null,null,null,null,null,null,null,null,null,null,null,null,null,null,null,null,null,null,null,null,null,null,null,null,null,null,null,null,null,null,null,null,null,null,null,null,null,null,null,null,null,null,null,null,null,null,null,null,null,null,null,null,null,null,null,null,null,null,null,null,null,null,null,null,null,null,null,null,null,null,null,null,null,null,null,null,null,null,null,null,null,null,null,null,null,null,null,null,null,null,null,null,null,null,null,null,null,null,null,null,null,null,null,null,null,null,null,null,null,null,null,null,null,null,null,null,null,null,null,null,null,null,null,null,null,null,null,null,null,null,null,null,null,null,null,null,null,null,null,null,null,null,null,null,null,null,null,null,null,null,null,null,null,null,null,null,null,null,null,null,null,null,null,null,null,null,null,null,null,null,null,null,null,null,null,null,null,null,null,null,null,null,null,null,null,null,null,null,null,null,null,null,null,{"$f":"IF(C56<>\"\",C56,\"\")","v":""}]
[]
[null,null,null,null,null,null,null,null,null,null,null,null,null,null,null,null,null,null,null,null,null,null,null,null,null,null,null,null,null,null,null,null,null,null,null,null,null,null,null,null,null,null,null,null,null,null,null,null,null,null,null,null,null,null,null,null,null,null,null,null,null,null,null,null,null,null,null,null,null,null,null,null,null,null,null,null,null,null,null,null,null,null,null,null,null,null,null,null,null,null,null,null,null,null,null,null,null,null,null,null,null,null,null,null,null,null,null,null,null,null,null,null,null,null,null,null,null,null,null,null,null,null,null,null,null,null,null,null,null,null,null,null,null,null,null,null,null,null,null,null,null,null,null,null,null,null,null,null,null,null,null,null,null,null,null,null,null,null,null,null,null,null,null,null,null,null,null,null,null,null,null,null,null,null,null,null,null,null,null,null,null,null,null,null,null,null,null,null,null,null,null,null,null,null,null,null,null,{"$f":"IF(C58<>\"\",C58,\"\")","v":""}]
[]
[null,null,null,null,null,null,null,null,null,null,null,null,null,null,null,null,null,null,null,null,null,null,null,null,null,null,null,null,null,null,null,null,null,null,null,null,null,null,null,null,null,null,null,null,null,null,null,null,null,null,null,null,null,null,null,null,null,null,null,null,null,null,null,null,null,null,null,null,null,null,null,null,null,null,null,null,null,null,null,null,null,null,null,null,null,null,null,null,null,null,null,null,null,null,null,null,null,null,null,null,null,null,null,null,null,null,null,null,null,null,null,null,null,null,null,null,null,null,null,null,null,null,null,null,null,null,null,null,null,null,null,null,null,null,null,null,null,null,null,null,null,null,null,null,null,null,null,null,null,null,null,null,null,null,null,null,null,null,null,null,null,null,null,null,null,null,null,null,null,null,null,null,null,null,null,null,null,null,null,null,null,null,null,null,null,null,null,null,null,null,null,null,null,null,null,null,null,{"$f":"IF(C60<>\"\",C60,\"\")","v":""}]
[]
[null,null,null,null,null,null,null,null,null,null,null,null,null,null,null,null,null,null,null,null,null,null,null,null,null,null,null,null,null,null,null,null,null,null,null,null,null,null,null,null,null,null,null,null,null,null,null,null,null,null,null,null,null,null,null,null,null,null,null,null,null,null,null,null,null,null,null,null,null,null,null,null,null,null,null,null,null,null,null,null,null,null,null,null,null,null,null,null,null,null,null,null,null,null,null,null,null,null,null,null,null,null,null,null,null,null,null,null,null,null,null,null,null,null,null,null,null,null,null,null,null,null,null,null,null,null,null,null,null,null,null,null,null,null,null,null,null,null,null,null,null,null,null,null,null,null,null,null,null,null,null,null,null,null,null,null,null,null,null,null,null,null,null,null,null,null,null,null,null,null,null,null,null,null,null,null,null,null,null,null,null,null,null,null,null,null,null,null,null,null,null,null,null,null,null,null,null,{"$f":"IF(C62<>\"\",C62,\"\")","v":""}]
[]
[null,null,null,null,null,null,null,null,null,null,null,null,null,null,null,null,null,null,null,null,null,null,null,null,null,null,null,null,null,null,null,null,null,null,null,null,null,null,null,null,null,null,null,null,null,null,null,null,null,null,null,null,null,null,null,null,null,null,null,null,null,null,null,null,null,null,null,null,null,null,null,null,null,null,null,null,null,null,null,null,null,null,null,null,null,null,null,null,null,null,null,null,null,null,null,null,null,null,null,null,null,null,null,null,null,null,null,null,null,null,null,null,null,null,null,null,null,null,null,null,null,null,null,null,null,null,null,null,null,null,null,null,null,null,null,null,null,null,null,null,null,null,null,null,null,null,null,null,null,null,null,null,null,null,null,null,null,null,null,null,null,null,null,null,null,null,null,null,null,null,null,null,null,null,null,null,null,null,null,null,null,null,null,null,null,null,null,null,null,null,null,null,null,null,null,null,null,{"$f":"IF(C64<>\"\",C64,\"\")","v":""}]
[]
[null,null,null,null,null,null,null,null,null,null,null,null,null,null,null,null,null,null,null,null,null,null,null,null,null,null,null,null,null,null,null,null,null,null,null,null,null,null,null,null,null,null,null,null,null,null,null,null,null,null,null,null,null,null,null,null,null,null,null,null,null,null,null,null,null,null,null,null,null,null,null,null,null,null,null,null,null,null,null,null,null,null,null,null,null,null,null,null,null,null,null,null,null,null,null,null,null,null,null,null,null,null,null,null,null,null,null,null,null,null,null,null,null,null,null,null,null,null,null,null,null,null,null,null,null,null,null,null,null,null,null,null,null,null,null,null,null,null,null,null,null,null,null,null,null,null,null,null,null,null,null,null,null,null,null,null,null,null,null,null,null,null,null,null,null,null,null,null,null,null,null,null,null,null,null,null,null,null,null,null,null,null,null,null,null,null,null,null,null,null,null,null,null,null,null,null,null,{"$f":"IF(C66<>\"\",C66,\"\")","v":""}]
[]
[null,null,null,null,null,null,null,null,null,null,null,null,null,null,null,null,null,null,null,null,null,null,null,null,null,null,null,null,null,null,null,null,null,null,null,null,null,null,null,null,null,null,null,null,null,null,null,null,null,null,null,null,null,null,null,null,null,null,null,null,null,null,null,null,null,null,null,null,null,null,null,null,null,null,null,null,null,null,null,null,null,null,null,null,null,null,null,null,null,null,null,null,null,null,null,null,null,null,null,null,null,null,null,null,null,null,null,null,null,null,null,null,null,null,null,null,null,null,null,null,null,null,null,null,null,null,null,null,null,null,null,null,null,null,null,null,null,null,null,null,null,null,null,null,null,null,null,null,null,null,null,null,null,null,null,null,null,null,null,null,null,null,null,null,null,null,null,null,null,null,null,null,null,null,null,null,null,null,null,null,null,null,null,null,null,null,null,null,null,null,null,null,null,null,null,null,null,{"$f":"IF(C68<>\"\",C68,\"\")","v":""}]
[]
[null,null,null,null,null,null,null,null,null,null,null,null,null,null,null,null,null,null,null,null,null,null,null,null,null,null,null,null,null,null,null,null,null,null,null,null,null,null,null,null,null,null,null,null,null,null,null,null,null,null,null,null,null,null,null,null,null,null,null,null,null,null,null,null,null,null,null,null,null,null,null,null,null,null,null,null,null,null,null,null,null,null,null,null,null,null,null,null,null,null,null,null,null,null,null,null,null,null,null,null,null,null,null,null,null,null,null,null,null,null,null,null,null,null,null,null,null,null,null,null,null,null,null,null,null,null,null,null,null,null,null,null,null,null,null,null,null,null,null,null,null,null,null,null,null,null,null,null,null,null,null,null,null,null,null,null,null,null,null,null,null,null,null,null,null,null,null,null,null,null,null,null,null,null,null,null,null,null,null,null,null,null,null,null,null,null,null,null,null,null,null,null,null,null,null,null,null,{"$f":"IF(C70<>\"\",C70,\"\")","v":""}]
[]
[null,null,null,null,null,null,null,null,null,null,null,null,null,null,null,null,null,null,null,null,null,null,null,null,null,null,null,null,null,null,null,null,null,null,null,null,null,null,null,null,null,null,null,null,null,null,null,null,null,null,null,null,null,null,null,null,null,null,null,null,null,null,null,null,null,null,null,null,null,null,null,null,null,null,null,null,null,null,null,null,null,null,null,null,null,null,null,null,null,null,null,null,null,null,null,null,null,null,null,null,null,null,null,null,null,null,null,null,null,null,null,null,null,null,null,null,null,null,null,null,null,null,null,null,null,null,null,null,null,null,null,null,null,null,null,null,null,null,null,null,null,null,null,null,null,null,null,null,null,null,null,null,null,null,null,null,null,null,null,null,null,null,null,null,null,null,null,null,null,null,null,null,null,null,null,null,null,null,null,null,null,null,null,null,null,null,null,null,null,null,null,null,null,null,null,null,null,{"$f":"IF(C72<>\"\",C72,\"\")","v":""}]
[]
[null,null,null,null,null,null,null,null,null,null,null,null,null,null,null,null,null,null,null,null,null,null,null,null,null,null,null,null,null,null,null,null,null,null,null,null,null,null,null,null,null,null,null,null,null,null,null,null,null,null,null,null,null,null,null,null,null,null,null,null,null,null,null,null,null,null,null,null,null,null,null,null,null,null,null,null,null,null,null,null,null,null,null,null,null,null,null,null,null,null,null,null,null,null,null,null,null,null,null,null,null,null,null,null,null,null,null,null,null,null,null,null,null,null,null,null,null,null,null,null,null,null,null,null,null,null,null,null,null,null,null,null,null,null,null,null,null,null,null,null,null,null,null,null,null,null,null,null,null,null,null,null,null,null,null,null,null,null,null,null,null,null,null,null,null,null,null,null,null,null,null,null,null,null,null,null,null,null,null,null,null,null,null,null,null,null,null,null,null,null,null,null,null,null,null,null,null,{"$f":"IF(C74<>\"\",C74,\"\")","v":""}]
[]
[null,null,null,null,null,null,null,null,null,null,null,null,null,null,null,null,null,null,null,null,null,null,null,null,null,null,null,null,null,null,null,null,null,null,null,null,null,null,null,null,null,null,null,null,null,null,null,null,null,null,null,null,null,null,null,null,null,null,null,null,null,null,null,null,null,null,null,null,null,null,null,null,null,null,null,null,null,null,null,null,null,null,null,null,null,null,null,null,null,null,null,null,null,null,null,null,null,null,null,null,null,null,null,null,null,null,null,null,null,null,null,null,null,null,null,null,null,null,null,null,null,null,null,null,null,null,null,null,null,null,null,null,null,null,null,null,null,null,null,null,null,null,null,null,null,null,null,null,null,null,null,null,null,null,null,null,null,null,null,null,null,null,null,null,null,null,null,null,null,null,null,null,null,null,null,null,null,null,null,null,null,null,null,null,null,null,null,null,null,null,null,null,null,null,null,null,null,{"$f":"IF(C76<>\"\",C76,\"\")","v":""}]
[]
[null,null,null,null,null,null,null,null,null,null,null,null,null,null,null,null,null,null,null,null,null,null,null,null,null,null,null,null,null,null,null,null,null,null,null,null,null,null,null,null,null,null,null,null,null,null,null,null,null,null,null,null,null,null,null,null,null,null,null,null,null,null,null,null,null,null,null,null,null,null,null,null,null,null,null,null,null,null,null,null,null,null,null,null,null,null,null,null,null,null,null,null,null,null,null,null,null,null,null,null,null,null,null,null,null,null,null,null,null,null,null,null,null,null,null,null,null,null,null,null,null,null,null,null,null,null,null,null,null,null,null,null,null,null,null,null,null,null,null,null,null,null,null,null,null,null,null,null,null,null,null,null,null,null,null,null,null,null,null,null,null,null,null,null,null,null,null,null,null,null,null,null,null,null,null,null,null,null,null,null,null,null,null,null,null,null,null,null,null,null,null,null,null,null,null,null,null,{"$f":"IF(C78<>\"\",C78,\"\")","v":""}]
[]
[null,null,null,null,null,null,null,null,null,null,null,null,null,null,null,null,null,null,null,null,null,null,null,null,null,null,null,null,null,null,null,null,null,null,null,null,null,null,null,null,null,null,null,null,null,null,null,null,null,null,null,null,null,null,null,null,null,null,null,null,null,null,null,null,null,null,null,null,null,null,null,null,null,null,null,null,null,null,null,null,null,null,null,null,null,null,null,null,null,null,null,null,null,null,null,null,null,null,null,null,null,null,null,null,null,null,null,null,null,null,null,null,null,null,null,null,null,null,null,null,null,null,null,null,null,null,null,null,null,null,null,null,null,null,null,null,null,null,null,null,null,null,null,null,null,null,null,null,null,null,null,null,null,null,null,null,null,null,null,null,null,null,null,null,null,null,null,null,null,null,null,null,null,null,null,null,null,null,null,null,null,null,null,null,null,null,null,null,null,null,null,null,null,null,null,null,null,{"$f":"IF(C80<>\"\",C80,\"\")","v":""}]
[]
[null,null,null,null,null,null,null,null,null,null,null,null,null,null,null,null,null,null,null,null,null,null,null,null,null,null,null,null,null,null,null,null,null,null,null,null,null,null,null,null,null,null,null,null,null,null,null,null,null,null,null,null,null,null,null,null,null,null,null,null,null,null,null,null,null,null,null,null,null,null,null,null,null,null,null,null,null,null,null,null,null,null,null,null,null,null,null,null,null,null,null,null,null,null,null,null,null,null,null,null,null,null,null,null,null,null,null,null,null,null,null,null,null,null,null,null,null,null,null,null,null,null,null,null,null,null,null,null,null,null,null,null,null,null,null,null,null,null,null,null,null,null,null,null,null,null,null,null,null,null,null,null,null,null,null,null,null,null,null,null,null,null,null,null,null,null,null,null,null,null,null,null,null,null,null,null,null,null,null,null,null,null,null,null,null,null,null,null,null,null,null,null,null,null,null,null,null,{"$f":"IF(C82<>\"\",C82,\"\")","v":""}]
[]
[null,null,null,null,null,null,null,null,null,null,null,null,null,null,null,null,null,null,null,null,null,null,null,null,null,null,null,null,null,null,null,null,null,null,null,null,null,null,null,null,null,null,null,null,null,null,null,null,null,null,null,null,null,null,null,null,null,null,null,null,null,null,null,null,null,null,null,null,null,null,null,null,null,null,null,null,null,null,null,null,null,null,null,null,null,null,null,null,null,null,null,null,null,null,null,null,null,null,null,null,null,null,null,null,null,null,null,null,null,null,null,null,null,null,null,null,null,null,null,null,null,null,null,null,null,null,null,null,null,null,null,null,null,null,null,null,null,null,null,null,null,null,null,null,null,null,null,null,null,null,null,null,null,null,null,null,null,null,null,null,null,null,null,null,null,null,null,null,null,null,null,null,null,null,null,null,null,null,null,null,null,null,null,null,null,null,null,null,null,null,null,null,null,null,null,null,null,{"$f":"IF(C84<>\"\",C84,\"\")","v":""}]
[]
[null,null,null,null,null,null,null,null,null,null,null,null,null,null,null,null,null,null,null,null,null,null,null,null,null,null,null,null,null,null,null,null,null,null,null,null,null,null,null,null,null,null,null,null,null,null,null,null,null,null,null,null,null,null,null,null,null,null,null,null,null,null,null,null,null,null,null,null,null,null,null,null,null,null,null,null,null,null,null,null,null,null,null,null,null,null,null,null,null,null,null,null,null,null,null,null,null,null,null,null,null,null,null,null,null,null,null,null,null,null,null,null,null,null,null,null,null,null,null,null,null,null,null,null,null,null,null,null,null,null,null,null,null,null,null,null,null,null,null,null,null,null,null,null,null,null,null,null,null,null,null,null,null,null,null,null,null,null,null,null,null,null,null,null,null,null,null,null,null,null,null,null,null,null,null,null,null,null,null,null,null,null,null,null,null,null,null,null,null,null,null,null,null,null,null,null,null,{"$f":"IF(C86<>\"\",C86,\"\")","v":""}]
[]
[null,null,null,null,null,null,null,null,null,null,null,null,null,null,null,null,null,null,null,null,null,null,null,null,null,null,null,null,null,null,null,null,null,null,null,null,null,null,null,null,null,null,null,null,null,null,null,null,null,null,null,null,null,null,null,null,null,null,null,null,null,null,null,null,null,null,null,null,null,null,null,null,null,null,null,null,null,null,null,null,null,null,null,null,null,null,null,null,null,null,null,null,null,null,null,null,null,null,null,null,null,null,null,null,null,null,null,null,null,null,null,null,null,null,null,null,null,null,null,null,null,null,null,null,null,null,null,null,null,null,null,null,null,null,null,null,null,null,null,null,null,null,null,null,null,null,null,null,null,null,null,null,null,null,null,null,null,null,null,null,null,null,null,null,null,null,null,null,null,null,null,null,null,null,null,null,null,null,null,null,null,null,null,null,null,null,null,null,null,null,null,null,null,null,null,null,null,{"$f":"IF(C88<>\"\",C88,\"\")","v":""}]
[]
[null,null,null,null,null,null,null,null,null,null,null,null,null,null,null,null,null,null,null,null,null,null,null,null,null,null,null,null,null,null,null,null,null,null,null,null,null,null,null,null,null,null,null,null,null,null,null,null,null,null,null,null,null,null,null,null,null,null,null,null,null,null,null,null,null,null,null,null,null,null,null,null,null,null,null,null,null,null,null,null,null,null,null,null,null,null,null,null,null,null,null,null,null,null,null,null,null,null,null,null,null,null,null,null,null,null,null,null,null,null,null,null,null,null,null,null,null,null,null,null,null,null,null,null,null,null,null,null,null,null,null,null,null,null,null,null,null,null,null,null,null,null,null,null,null,null,null,null,null,null,null,null,null,null,null,null,null,null,null,null,null,null,null,null,null,null,null,null,null,null,null,null,null,null,null,null,null,null,null,null,null,null,null,null,null,null,null,null,null,null,null,null,null,null,null,null,null,{"$f":"IF(C90<>\"\",C90,\"\")","v":""}]
[]
[null,null,null,null,null,null,null,null,null,null,null,null,null,null,null,null,null,null,null,null,null,null,null,null,null,null,null,null,null,null,null,null,null,null,null,null,null,null,null,null,null,null,null,null,null,null,null,null,null,null,null,null,null,null,null,null,null,null,null,null,null,null,null,null,null,null,null,null,null,null,null,null,null,null,null,null,null,null,null,null,null,null,null,null,null,null,null,null,null,null,null,null,null,null,null,null,null,null,null,null,null,null,null,null,null,null,null,null,null,null,null,null,null,null,null,null,null,null,null,null,null,null,null,null,null,null,null,null,null,null,null,null,null,null,null,null,null,null,null,null,null,null,null,null,null,null,null,null,null,null,null,null,null,null,null,null,null,null,null,null,null,null,null,null,null,null,null,null,null,null,null,null,null,null,null,null,null,null,null,null,null,null,null,null,null,null,null,null,null,null,null,null,null,null,null,null,null,{"$f":"IF(C92<>\"\",C92,\"\")","v":""}]
[]
[null,null,null,null,null,null,null,null,null,null,null,null,null,null,null,null,null,null,null,null,null,null,null,null,null,null,null,null,null,null,null,null,null,null,null,null,null,null,null,null,null,null,null,null,null,null,null,null,null,null,null,null,null,null,null,null,null,null,null,null,null,null,null,null,null,null,null,null,null,null,null,null,null,null,null,null,null,null,null,null,null,null,null,null,null,null,null,null,null,null,null,null,null,null,null,null,null,null,null,null,null,null,null,null,null,null,null,null,null,null,null,null,null,null,null,null,null,null,null,null,null,null,null,null,null,null,null,null,null,null,null,null,null,null,null,null,null,null,null,null,null,null,null,null,null,null,null,null,null,null,null,null,null,null,null,null,null,null,null,null,null,null,null,null,null,null,null,null,null,null,null,null,null,null,null,null,null,null,null,null,null,null,null,null,null,null,null,null,null,null,null,null,null,null,null,null,null,{"$f":"IF(C94<>\"\",C94,\"\")","v":""}]
[]
[null,null,null,null,null,null,null,null,null,null,null,null,null,null,null,null,null,null,null,null,null,null,null,null,null,null,null,null,null,null,null,null,null,null,null,null,null,null,null,null,null,null,null,null,null,null,null,null,null,null,null,null,null,null,null,null,null,null,null,null,null,null,null,null,null,null,null,null,null,null,null,null,null,null,null,null,null,null,null,null,null,null,null,null,null,null,null,null,null,null,null,null,null,null,null,null,null,null,null,null,null,null,null,null,null,null,null,null,null,null,null,null,null,null,null,null,null,null,null,null,null,null,null,null,null,null,null,null,null,null,null,null,null,null,null,null,null,null,null,null,null,null,null,null,null,null,null,null,null,null,null,null,null,null,null,null,null,null,null,null,null,null,null,null,null,null,null,null,null,null,null,null,null,null,null,null,null,null,null,null,null,null,null,null,null,null,null,null,null,null,null,null,null,null,null,null,null,{"$f":"IF(C96<>\"\",C96,\"\")","v":""}]
[]
[null,null,null,null,null,null,null,null,null,null,null,null,null,null,null,null,null,null,null,null,null,null,null,null,null,null,null,null,null,null,null,null,null,null,null,null,null,null,null,null,null,null,null,null,null,null,null,null,null,null,null,null,null,null,null,null,null,null,null,null,null,null,null,null,null,null,null,null,null,null,null,null,null,null,null,null,null,null,null,null,null,null,null,null,null,null,null,null,null,null,null,null,null,null,null,null,null,null,null,null,null,null,null,null,null,null,null,null,null,null,null,null,null,null,null,null,null,null,null,null,null,null,null,null,null,null,null,null,null,null,null,null,null,null,null,null,null,null,null,null,null,null,null,null,null,null,null,null,null,null,null,null,null,null,null,null,null,null,null,null,null,null,null,null,null,null,null,null,null,null,null,null,null,null,null,null,null,null,null,null,null,null,null,null,null,null,null,null,null,null,null,null,null,null,null,null,null,{"$f":"IF(C98<>\"\",C98,\"\")","v":""}]
[]
[null,null,null,null,null,null,null,null,null,null,null,null,null,null,null,null,null,null,null,null,null,null,null,null,null,null,null,null,null,null,null,null,null,null,null,null,null,null,null,null,null,null,null,null,null,null,null,null,null,null,null,null,null,null,null,null,null,null,null,null,null,null,null,null,null,null,null,null,null,null,null,null,null,null,null,null,null,null,null,null,null,null,null,null,null,null,null,null,null,null,null,null,null,null,null,null,null,null,null,null,null,null,null,null,null,null,null,null,null,null,null,null,null,null,null,null,null,null,null,null,null,null,null,null,null,null,null,null,null,null,null,null,null,null,null,null,null,null,null,null,null,null,null,null,null,null,null,null,null,null,null,null,null,null,null,null,null,null,null,null,null,null,null,null,null,null,null,null,null,null,null,null,null,null,null,null,null,null,null,null,null,null,null,null,null,null,null,null,null,null,null,null,null,null,null,null,null,{"$f":"IF(C100<>\"\",C100,\"\")","v":""}]
[]
[null,null,null,null,null,null,null,null,null,null,null,null,null,null,null,null,null,null,null,null,null,null,null,null,null,null,null,null,null,null,null,null,null,null,null,null,null,null,null,null,null,null,null,null,null,null,null,null,null,null,null,null,null,null,null,null,null,null,null,null,null,null,null,null,null,null,null,null,null,null,null,null,null,null,null,null,null,null,null,null,null,null,null,null,null,null,null,null,null,null,null,null,null,null,null,null,null,null,null,null,null,null,null,null,null,null,null,null,null,null,null,null,null,null,null,null,null,null,null,null,null,null,null,null,null,null,null,null,null,null,null,null,null,null,null,null,null,null,null,null,null,null,null,null,null,null,null,null,null,null,null,null,null,null,null,null,null,null,null,null,null,null,null,null,null,null,null,null,null,null,null,null,null,null,null,null,null,null,null,null,null,null,null,null,null,null,null,null,null,null,null,null,null,null,null,null,null,{"$f":"IF(C102<>\"\",C102,\"\")","v":""}]
[]
[null,null,null,null,null,null,null,null,null,null,null,null,null,null,null,null,null,null,null,null,null,null,null,null,null,null,null,null,null,null,null,null,null,null,null,null,null,null,null,null,null,null,null,null,null,null,null,null,null,null,null,null,null,null,null,null,null,null,null,null,null,null,null,null,null,null,null,null,null,null,null,null,null,null,null,null,null,null,null,null,null,null,null,null,null,null,null,null,null,null,null,null,null,null,null,null,null,null,null,null,null,null,null,null,null,null,null,null,null,null,null,null,null,null,null,null,null,null,null,null,null,null,null,null,null,null,null,null,null,null,null,null,null,null,null,null,null,null,null,null,null,null,null,null,null,null,null,null,null,null,null,null,null,null,null,null,null,null,null,null,null,null,null,null,null,null,null,null,null,null,null,null,null,null,null,null,null,null,null,null,null,null,null,null,null,null,null,null,null,null,null,null,null,null,null,null,null,{"$f":"IF(C104<>\"\",C104,\"\")","v":""}]
[]
[null,null,null,null,null,null,null,null,null,null,null,null,null,null,null,null,null,null,null,null,null,null,null,null,null,null,null,null,null,null,null,null,null,null,null,null,null,null,null,null,null,null,null,null,null,null,null,null,null,null,null,null,null,null,null,null,null,null,null,null,null,null,null,null,null,null,null,null,null,null,null,null,null,null,null,null,null,null,null,null,null,null,null,null,null,null,null,null,null,null,null,null,null,null,null,null,null,null,null,null,null,null,null,null,null,null,null,null,null,null,null,null,null,null,null,null,null,null,null,null,null,null,null,null,null,null,null,null,null,null,null,null,null,null,null,null,null,null,null,null,null,null,null,null,null,null,null,null,null,null,null,null,null,null,null,null,null,null,null,null,null,null,null,null,null,null,null,null,null,null,null,null,null,null,null,null,null,null,null,null,null,null,null,null,null,null,null,null,null,null,null,null,null,null,null,null,null,{"$f":"IF(C106<>\"\",C106,\"\")","v":""}]
[]
[null,null,null,null,null,null,null,null,null,null,null,null,null,null,null,null,null,null,null,null,null,null,null,null,null,null,null,null,null,null,null,null,null,null,null,null,null,null,null,null,null,null,null,null,null,null,null,null,null,null,null,null,null,null,null,null,null,null,null,null,null,null,null,null,null,null,null,null,null,null,null,null,null,null,null,null,null,null,null,null,null,null,null,null,null,null,null,null,null,null,null,null,null,null,null,null,null,null,null,null,null,null,null,null,null,null,null,null,null,null,null,null,null,null,null,null,null,null,null,null,null,null,null,null,null,null,null,null,null,null,null,null,null,null,null,null,null,null,null,null,null,null,null,null,null,null,null,null,null,null,null,null,null,null,null,null,null,null,null,null,null,null,null,null,null,null,null,null,null,null,null,null,null,null,null,null,null,null,null,null,null,null,null,null,null,null,null,null,null,null,null,null,null,null,null,null,null,{"$f":"IF(C108<>\"\",C108,\"\")","v":""}]
[]
[null,null,null,null,null,null,null,null,null,null,null,null,null,null,null,null,null,null,null,null,null,null,null,null,null,null,null,null,null,null,null,null,null,null,null,null,null,null,null,null,null,null,null,null,null,null,null,null,null,null,null,null,null,null,null,null,null,null,null,null,null,null,null,null,null,null,null,null,null,null,null,null,null,null,null,null,null,null,null,null,null,null,null,null,null,null,null,null,null,null,null,null,null,null,null,null,null,null,null,null,null,null,null,null,null,null,null,null,null,null,null,null,null,null,null,null,null,null,null,null,null,null,null,null,null,null,null,null,null,null,null,null,null,null,null,null,null,null,null,null,null,null,null,null,null,null,null,null,null,null,null,null,null,null,null,null,null,null,null,null,null,null,null,null,null,null,null,null,null,null,null,null,null,null,null,null,null,null,null,null,null,null,null,null,null,null,null,null,null,null,null,null,null,null,null,null,null,{"$f":"IF(C110<>\"\",C110,\"\")","v":""}]
[]
[null,null,null,null,null,null,null,null,null,null,null,null,null,null,null,null,null,null,null,null,null,null,null,null,null,null,null,null,null,null,null,null,null,null,null,null,null,null,null,null,null,null,null,null,null,null,null,null,null,null,null,null,null,null,null,null,null,null,null,null,null,null,null,null,null,null,null,null,null,null,null,null,null,null,null,null,null,null,null,null,null,null,null,null,null,null,null,null,null,null,null,null,null,null,null,null,null,null,null,null,null,null,null,null,null,null,null,null,null,null,null,null,null,null,null,null,null,null,null,null,null,null,null,null,null,null,null,null,null,null,null,null,null,null,null,null,null,null,null,null,null,null,null,null,null,null,null,null,null,null,null,null,null,null,null,null,null,null,null,null,null,null,null,null,null,null,null,null,null,null,null,null,null,null,null,null,null,null,null,null,null,null,null,null,null,null,null,null,null,null,null,null,null,null,null,null,null,{"$f":"IF(C112<>\"\",C112,\"\")","v":""}]
[]
[null,null,null,null,null,null,null,null,null,null,null,null,null,null,null,null,null,null,null,null,null,null,null,null,null,null,null,null,null,null,null,null,null,null,null,null,null,null,null,null,null,null,null,null,null,null,null,null,null,null,null,null,null,null,null,null,null,null,null,null,null,null,null,null,null,null,null,null,null,null,null,null,null,null,null,null,null,null,null,null,null,null,null,null,null,null,null,null,null,null,null,null,null,null,null,null,null,null,null,null,null,null,null,null,null,null,null,null,null,null,null,null,null,null,null,null,null,null,null,null,null,null,null,null,null,null,null,null,null,null,null,null,null,null,null,null,null,null,null,null,null,null,null,null,null,null,null,null,null,null,null,null,null,null,null,null,null,null,null,null,null,null,null,null,null,null,null,null,null,null,null,null,null,null,null,null,null,null,null,null,null,null,null,null,null,null,null,null,null,null,null,null,null,null,null,null,null,{"$f":"IF(C114<>\"\",C114,\"\")","v":""}]
[]
[null,null,null,null,null,null,null,null,null,null,null,null,null,null,null,null,null,null,null,null,null,null,null,null,null,null,null,null,null,null,null,null,null,null,null,null,null,null,null,null,null,null,null,null,null,null,null,null,null,null,null,null,null,null,null,null,null,null,null,null,null,null,null,null,null,null,null,null,null,null,null,null,null,null,null,null,null,null,null,null,null,null,null,null,null,null,null,null,null,null,null,null,null,null,null,null,null,null,null,null,null,null,null,null,null,null,null,null,null,null,null,null,null,null,null,null,null,null,null,null,null,null,null,null,null,null,null,null,null,null,null,null,null,null,null,null,null,null,null,null,null,null,null,null,null,null,null,null,null,null,null,null,null,null,null,null,null,null,null,null,null,null,null,null,null,null,null,null,null,null,null,null,null,null,null,null,null,null,null,null,null,null,null,null,null,null,null,null,null,null,null,null,null,null,null,null,null,{"$f":"IF(C116<>\"\",C116,\"\")","v":""}]
[]
[null,null,null,null,null,null,null,null,null,null,null,null,null,null,null,null,null,null,null,null,null,null,null,null,null,null,null,null,null,null,null,null,null,null,null,null,null,null,null,null,null,null,null,null,null,null,null,null,null,null,null,null,null,null,null,null,null,null,null,null,null,null,null,null,null,null,null,null,null,null,null,null,null,null,null,null,null,null,null,null,null,null,null,null,null,null,null,null,null,null,null,null,null,null,null,null,null,null,null,null,null,null,null,null,null,null,null,null,null,null,null,null,null,null,null,null,null,null,null,null,null,null,null,null,null,null,null,null,null,null,null,null,null,null,null,null,null,null,null,null,null,null,null,null,null,null,null,null,null,null,null,null,null,null,null,null,null,null,null,null,null,null,null,null,null,null,null,null,null,null,null,null,null,null,null,null,null,null,null,null,null,null,null,null,null,null,null,null,null,null,null,null,null,null,null,null,null,{"$f":"IF(C118<>\"\",C118,\"\")","v":""}]
[]
[null,null,null,null,null,null,null,null,null,null,null,null,null,null,null,null,null,null,null,null,null,null,null,null,null,null,null,null,null,null,null,null,null,null,null,null,null,null,null,null,null,null,null,null,null,null,null,null,null,null,null,null,null,null,null,null,null,null,null,null,null,null,null,null,null,null,null,null,null,null,null,null,null,null,null,null,null,null,null,null,null,null,null,null,null,null,null,null,null,null,null,null,null,null,null,null,null,null,null,null,null,null,null,null,null,null,null,null,null,null,null,null,null,null,null,null,null,null,null,null,null,null,null,null,null,null,null,null,null,null,null,null,null,null,null,null,null,null,null,null,null,null,null,null,null,null,null,null,null,null,null,null,null,null,null,null,null,null,null,null,null,null,null,null,null,null,null,null,null,null,null,null,null,null,null,null,null,null,null,null,null,null,null,null,null,null,null,null,null,null,null,null,null,null,null,null,null,{"$f":"IF(C120<>\"\",C120,\"\")","v":""}]
[]
[null,null,null,null,null,null,null,null,null,null,null,null,null,null,null,null,null,null,null,null,null,null,null,null,null,null,null,null,null,null,null,null,null,null,null,null,null,null,null,null,null,null,null,null,null,null,null,null,null,null,null,null,null,null,null,null,null,null,null,null,null,null,null,null,null,null,null,null,null,null,null,null,null,null,null,null,null,null,null,null,null,null,null,null,null,null,null,null,null,null,null,null,null,null,null,null,null,null,null,null,null,null,null,null,null,null,null,null,null,null,null,null,null,null,null,null,null,null,null,null,null,null,null,null,null,null,null,null,null,null,null,null,null,null,null,null,null,null,null,null,null,null,null,null,null,null,null,null,null,null,null,null,null,null,null,null,null,null,null,null,null,null,null,null,null,null,null,null,null,null,null,null,null,null,null,null,null,null,null,null,null,null,null,null,null,null,null,null,null,null,null,null,null,null,null,null,null,{"$f":"IF(C122<>\"\",C122,\"\")","v":""}]
[]
[null,null,null,null,null,null,null,null,null,null,null,null,null,null,null,null,null,null,null,null,null,null,null,null,null,null,null,null,null,null,null,null,null,null,null,null,null,null,null,null,null,null,null,null,null,null,null,null,null,null,null,null,null,null,null,null,null,null,null,null,null,null,null,null,null,null,null,null,null,null,null,null,null,null,null,null,null,null,null,null,null,null,null,null,null,null,null,null,null,null,null,null,null,null,null,null,null,null,null,null,null,null,null,null,null,null,null,null,null,null,null,null,null,null,null,null,null,null,null,null,null,null,null,null,null,null,null,null,null,null,null,null,null,null,null,null,null,null,null,null,null,null,null,null,null,null,null,null,null,null,null,null,null,null,null,null,null,null,null,null,null,null,null,null,null,null,null,null,null,null,null,null,null,null,null,null,null,null,null,null,null,null,null,null,null,null,null,null,null,null,null,null,null,null,null,null,null,{"$f":"IF(C124<>\"\",C124,\"\")","v":""}]
[]
[null,null,null,null,null,null,null,null,null,null,null,null,null,null,null,null,null,null,null,null,null,null,null,null,null,null,null,null,null,null,null,null,null,null,null,null,null,null,null,null,null,null,null,null,null,null,null,null,null,null,null,null,null,null,null,null,null,null,null,null,null,null,null,null,null,null,null,null,null,null,null,null,null,null,null,null,null,null,null,null,null,null,null,null,null,null,null,null,null,null,null,null,null,null,null,null,null,null,null,null,null,null,null,null,null,null,null,null,null,null,null,null,null,null,null,null,null,null,null,null,null,null,null,null,null,null,null,null,null,null,null,null,null,null,null,null,null,null,null,null,null,null,null,null,null,null,null,null,null,null,null,null,null,null,null,null,null,null,null,null,null,null,null,null,null,null,null,null,null,null,null,null,null,null,null,null,null,null,null,null,null,null,null,null,null,null,null,null,null,null,null,null,null,null,null,null,null,{"$f":"IF(C126<>\"\",C126,\"\")","v":""}]
[]
[null,null,null,null,null,null,null,null,null,null,null,null,null,null,null,null,null,null,null,null,null,null,null,null,null,null,null,null,null,null,null,null,null,null,null,null,null,null,null,null,null,null,null,null,null,null,null,null,null,null,null,null,null,null,null,null,null,null,null,null,null,null,null,null,null,null,null,null,null,null,null,null,null,null,null,null,null,null,null,null,null,null,null,null,null,null,null,null,null,null,null,null,null,null,null,null,null,null,null,null,null,null,null,null,null,null,null,null,null,null,null,null,null,null,null,null,null,null,null,null,null,null,null,null,null,null,null,null,null,null,null,null,null,null,null,null,null,null,null,null,null,null,null,null,null,null,null,null,null,null,null,null,null,null,null,null,null,null,null,null,null,null,null,null,null,null,null,null,null,null,null,null,null,null,null,null,null,null,null,null,null,null,null,null,null,null,null,null,null,null,null,null,null,null,null,null,null,{"$f":"IF(C128<>\"\",C128,\"\")","v":""}]
[]
[null,null,null,null,null,null,null,null,null,null,null,null,null,null,null,null,null,null,null,null,null,null,null,null,null,null,null,null,null,null,null,null,null,null,null,null,null,null,null,null,null,null,null,null,null,null,null,null,null,null,null,null,null,null,null,null,null,null,null,null,null,null,null,null,null,null,null,null,null,null,null,null,null,null,null,null,null,null,null,null,null,null,null,null,null,null,null,null,null,null,null,null,null,null,null,null,null,null,null,null,null,null,null,null,null,null,null,null,null,null,null,null,null,null,null,null,null,null,null,null,null,null,null,null,null,null,null,null,null,null,null,null,null,null,null,null,null,null,null,null,null,null,null,null,null,null,null,null,null,null,null,null,null,null,null,null,null,null,null,null,null,null,null,null,null,null,null,null,null,null,null,null,null,null,null,null,null,null,null,null,null,null,null,null,null,null,null,null,null,null,null,null,null,null,null,null,null,{"$f":"IF(C130<>\"\",C130,\"\")","v":""}]
[]
[null,null,null,null,null,null,null,null,null,null,null,null,null,null,null,null,null,null,null,null,null,null,null,null,null,null,null,null,null,null,null,null,null,null,null,null,null,null,null,null,null,null,null,null,null,null,null,null,null,null,null,null,null,null,null,null,null,null,null,null,null,null,null,null,null,null,null,null,null,null,null,null,null,null,null,null,null,null,null,null,null,null,null,null,null,null,null,null,null,null,null,null,null,null,null,null,null,null,null,null,null,null,null,null,null,null,null,null,null,null,null,null,null,null,null,null,null,null,null,null,null,null,null,null,null,null,null,null,null,null,null,null,null,null,null,null,null,null,null,null,null,null,null,null,null,null,null,null,null,null,null,null,null,null,null,null,null,null,null,null,null,null,null,null,null,null,null,null,null,null,null,null,null,null,null,null,null,null,null,null,null,null,null,null,null,null,null,null,null,null,null,null,null,null,null,null,null,{"$f":"IF(C132<>\"\",C132,\"\")","v":""}]
[]
[null,null,null,null,null,null,null,null,null,null,null,null,null,null,null,null,null,null,null,null,null,null,null,null,null,null,null,null,null,null,null,null,null,null,null,null,null,null,null,null,null,null,null,null,null,null,null,null,null,null,null,null,null,null,null,null,null,null,null,null,null,null,null,null,null,null,null,null,null,null,null,null,null,null,null,null,null,null,null,null,null,null,null,null,null,null,null,null,null,null,null,null,null,null,null,null,null,null,null,null,null,null,null,null,null,null,null,null,null,null,null,null,null,null,null,null,null,null,null,null,null,null,null,null,null,null,null,null,null,null,null,null,null,null,null,null,null,null,null,null,null,null,null,null,null,null,null,null,null,null,null,null,null,null,null,null,null,null,null,null,null,null,null,null,null,null,null,null,null,null,null,null,null,null,null,null,null,null,null,null,null,null,null,null,null,null,null,null,null,null,null,null,null,null,null,null,null,{"$f":"IF(C134<>\"\",C134,\"\")","v":""}]
[]
[null,null,null,null,null,null,null,null,null,null,null,null,null,null,null,null,null,null,null,null,null,null,null,null,null,null,null,null,null,null,null,null,null,null,null,null,null,null,null,null,null,null,null,null,null,null,null,null,null,null,null,null,null,null,null,null,null,null,null,null,null,null,null,null,null,null,null,null,null,null,null,null,null,null,null,null,null,null,null,null,null,null,null,null,null,null,null,null,null,null,null,null,null,null,null,null,null,null,null,null,null,null,null,null,null,null,null,null,null,null,null,null,null,null,null,null,null,null,null,null,null,null,null,null,null,null,null,null,null,null,null,null,null,null,null,null,null,null,null,null,null,null,null,null,null,null,null,null,null,null,null,null,null,null,null,null,null,null,null,null,null,null,null,null,null,null,null,null,null,null,null,null,null,null,null,null,null,null,null,null,null,null,null,null,null,null,null,null,null,null,null,null,null,null,null,null,null,{"$f":"IF(C136<>\"\",C136,\"\")","v":""}]
[]
[null,null,null,null,null,null,null,null,null,null,null,null,null,null,null,null,null,null,null,null,null,null,null,null,null,null,null,null,null,null,null,null,null,null,null,null,null,null,null,null,null,null,null,null,null,null,null,null,null,null,null,null,null,null,null,null,null,null,null,null,null,null,null,null,null,null,null,null,null,null,null,null,null,null,null,null,null,null,null,null,null,null,null,null,null,null,null,null,null,null,null,null,null,null,null,null,null,null,null,null,null,null,null,null,null,null,null,null,null,null,null,null,null,null,null,null,null,null,null,null,null,null,null,null,null,null,null,null,null,null,null,null,null,null,null,null,null,null,null,null,null,null,null,null,null,null,null,null,null,null,null,null,null,null,null,null,null,null,null,null,null,null,null,null,null,null,null,null,null,null,null,null,null,null,null,null,null,null,null,null,null,null,null,null,null,null,null,null,null,null,null,null,null,null,null,null,null,{"$f":"IF(C138<>\"\",C138,\"\")","v":""}]
[]
[null,null,null,null,null,null,null,null,null,null,null,null,null,null,null,null,null,null,null,null,null,null,null,null,null,null,null,null,null,null,null,null,null,null,null,null,null,null,null,null,null,null,null,null,null,null,null,null,null,null,null,null,null,null,null,null,null,null,null,null,null,null,null,null,null,null,null,null,null,null,null,null,null,null,null,null,null,null,null,null,null,null,null,null,null,null,null,null,null,null,null,null,null,null,null,null,null,null,null,null,null,null,null,null,null,null,null,null,null,null,null,null,null,null,null,null,null,null,null,null,null,null,null,null,null,null,null,null,null,null,null,null,null,null,null,null,null,null,null,null,null,null,null,null,null,null,null,null,null,null,null,null,null,null,null,null,null,null,null,null,null,null,null,null,null,null,null,null,null,null,null,null,null,null,null,null,null,null,null,null,null,null,null,null,null,null,null,null,null,null,null,null,null,null,null,null,null,{"$f":"IF(C140<>\"\",C140,\"\")","v":""}]
[]
[null,null,null,null,null,null,null,null,null,null,null,null,null,null,null,null,null,null,null,null,null,null,null,null,null,null,null,null,null,null,null,null,null,null,null,null,null,null,null,null,null,null,null,null,null,null,null,null,null,null,null,null,null,null,null,null,null,null,null,null,null,null,null,null,null,null,null,null,null,null,null,null,null,null,null,null,null,null,null,null,null,null,null,null,null,null,null,null,null,null,null,null,null,null,null,null,null,null,null,null,null,null,null,null,null,null,null,null,null,null,null,null,null,null,null,null,null,null,null,null,null,null,null,null,null,null,null,null,null,null,null,null,null,null,null,null,null,null,null,null,null,null,null,null,null,null,null,null,null,null,null,null,null,null,null,null,null,null,null,null,null,null,null,null,null,null,null,null,null,null,null,null,null,null,null,null,null,null,null,null,null,null,null,null,null,null,null,null,null,null,null,null,null,null,null,null,null,{"$f":"IF(C142<>\"\",C142,\"\")","v":""}]
[]
[null,null,null,null,null,null,null,null,null,null,null,null,null,null,null,null,null,null,null,null,null,null,null,null,null,null,null,null,null,null,null,null,null,null,null,null,null,null,null,null,null,null,null,null,null,null,null,null,null,null,null,null,null,null,null,null,null,null,null,null,null,null,null,null,null,null,null,null,null,null,null,null,null,null,null,null,null,null,null,null,null,null,null,null,null,null,null,null,null,null,null,null,null,null,null,null,null,null,null,null,null,null,null,null,null,null,null,null,null,null,null,null,null,null,null,null,null,null,null,null,null,null,null,null,null,null,null,null,null,null,null,null,null,null,null,null,null,null,null,null,null,null,null,null,null,null,null,null,null,null,null,null,null,null,null,null,null,null,null,null,null,null,null,null,null,null,null,null,null,null,null,null,null,null,null,null,null,null,null,null,null,null,null,null,null,null,null,null,null,null,null,null,null,null,null,null,null,{"$f":"IF(C144<>\"\",C144,\"\")","v":""}]
[]
[null,null,null,null,null,null,null,null,null,null,null,null,null,null,null,null,null,null,null,null,null,null,null,null,null,null,null,null,null,null,null,null,null,null,null,null,null,null,null,null,null,null,null,null,null,null,null,null,null,null,null,null,null,null,null,null,null,null,null,null,null,null,null,null,null,null,null,null,null,null,null,null,null,null,null,null,null,null,null,null,null,null,null,null,null,null,null,null,null,null,null,null,null,null,null,null,null,null,null,null,null,null,null,null,null,null,null,null,null,null,null,null,null,null,null,null,null,null,null,null,null,null,null,null,null,null,null,null,null,null,null,null,null,null,null,null,null,null,null,null,null,null,null,null,null,null,null,null,null,null,null,null,null,null,null,null,null,null,null,null,null,null,null,null,null,null,null,null,null,null,null,null,null,null,null,null,null,null,null,null,null,null,null,null,null,null,null,null,null,null,null,null,null,null,null,null,null,{"$f":"IF(C146<>\"\",C146,\"\")","v":""}]
[]
[null,null,null,null,null,null,null,null,null,null,null,null,null,null,null,null,null,null,null,null,null,null,null,null,null,null,null,null,null,null,null,null,null,null,null,null,null,null,null,null,null,null,null,null,null,null,null,null,null,null,null,null,null,null,null,null,null,null,null,null,null,null,null,null,null,null,null,null,null,null,null,null,null,null,null,null,null,null,null,null,null,null,null,null,null,null,null,null,null,null,null,null,null,null,null,null,null,null,null,null,null,null,null,null,null,null,null,null,null,null,null,null,null,null,null,null,null,null,null,null,null,null,null,null,null,null,null,null,null,null,null,null,null,null,null,null,null,null,null,null,null,null,null,null,null,null,null,null,null,null,null,null,null,null,null,null,null,null,null,null,null,null,null,null,null,null,null,null,null,null,null,null,null,null,null,null,null,null,null,null,null,null,null,null,null,null,null,null,null,null,null,null,null,null,null,null,null,{"$f":"IF(C148<>\"\",C148,\"\")","v":""}]
[]
[null,null,null,null,null,null,null,null,null,null,null,null,null,null,null,null,null,null,null,null,null,null,null,null,null,null,null,null,null,null,null,null,null,null,null,null,null,null,null,null,null,null,null,null,null,null,null,null,null,null,null,null,null,null,null,null,null,null,null,null,null,null,null,null,null,null,null,null,null,null,null,null,null,null,null,null,null,null,null,null,null,null,null,null,null,null,null,null,null,null,null,null,null,null,null,null,null,null,null,null,null,null,null,null,null,null,null,null,null,null,null,null,null,null,null,null,null,null,null,null,null,null,null,null,null,null,null,null,null,null,null,null,null,null,null,null,null,null,null,null,null,null,null,null,null,null,null,null,null,null,null,null,null,null,null,null,null,null,null,null,null,null,null,null,null,null,null,null,null,null,null,null,null,null,null,null,null,null,null,null,null,null,null,null,null,null,null,null,null,null,null,null,null,null,null,null,null,{"$f":"IF(C150<>\"\",C150,\"\")","v":""}]
[]
[null,null,null,null,null,null,null,null,null,null,null,null,null,null,null,null,null,null,null,null,null,null,null,null,null,null,null,null,null,null,null,null,null,null,null,null,null,null,null,null,null,null,null,null,null,null,null,null,null,null,null,null,null,null,null,null,null,null,null,null,null,null,null,null,null,null,null,null,null,null,null,null,null,null,null,null,null,null,null,null,null,null,null,null,null,null,null,null,null,null,null,null,null,null,null,null,null,null,null,null,null,null,null,null,null,null,null,null,null,null,null,null,null,null,null,null,null,null,null,null,null,null,null,null,null,null,null,null,null,null,null,null,null,null,null,null,null,null,null,null,null,null,null,null,null,null,null,null,null,null,null,null,null,null,null,null,null,null,null,null,null,null,null,null,null,null,null,null,null,null,null,null,null,null,null,null,null,null,null,null,null,null,null,null,null,null,null,null,null,null,null,null,null,null,null,null,null,{"$f":"IF(C152<>\"\",C152,\"\")","v":""}]
[]
[null,null,null,null,null,null,null,null,null,null,null,null,null,null,null,null,null,null,null,null,null,null,null,null,null,null,null,null,null,null,null,null,null,null,null,null,null,null,null,null,null,null,null,null,null,null,null,null,null,null,null,null,null,null,null,null,null,null,null,null,null,null,null,null,null,null,null,null,null,null,null,null,null,null,null,null,null,null,null,null,null,null,null,null,null,null,null,null,null,null,null,null,null,null,null,null,null,null,null,null,null,null,null,null,null,null,null,null,null,null,null,null,null,null,null,null,null,null,null,null,null,null,null,null,null,null,null,null,null,null,null,null,null,null,null,null,null,null,null,null,null,null,null,null,null,null,null,null,null,null,null,null,null,null,null,null,null,null,null,null,null,null,null,null,null,null,null,null,null,null,null,null,null,null,null,null,null,null,null,null,null,null,null,null,null,null,null,null,null,null,null,null,null,null,null,null,null,{"$f":"IF(C154<>\"\",C154,\"\")","v":""}]
[]
[null,null,null,null,null,null,null,null,null,null,null,null,null,null,null,null,null,null,null,null,null,null,null,null,null,null,null,null,null,null,null,null,null,null,null,null,null,null,null,null,null,null,null,null,null,null,null,null,null,null,null,null,null,null,null,null,null,null,null,null,null,null,null,null,null,null,null,null,null,null,null,null,null,null,null,null,null,null,null,null,null,null,null,null,null,null,null,null,null,null,null,null,null,null,null,null,null,null,null,null,null,null,null,null,null,null,null,null,null,null,null,null,null,null,null,null,null,null,null,null,null,null,null,null,null,null,null,null,null,null,null,null,null,null,null,null,null,null,null,null,null,null,null,null,null,null,null,null,null,null,null,null,null,null,null,null,null,null,null,null,null,null,null,null,null,null,null,null,null,null,null,null,null,null,null,null,null,null,null,null,null,null,null,null,null,null,null,null,null,null,null,null,null,null,null,null,null,{"$f":"IF(C156<>\"\",C156,\"\")","v":""}]
[]
[null,null,null,null,null,null,null,null,null,null,null,null,null,null,null,null,null,null,null,null,null,null,null,null,null,null,null,null,null,null,null,null,null,null,null,null,null,null,null,null,null,null,null,null,null,null,null,null,null,null,null,null,null,null,null,null,null,null,null,null,null,null,null,null,null,null,null,null,null,null,null,null,null,null,null,null,null,null,null,null,null,null,null,null,null,null,null,null,null,null,null,null,null,null,null,null,null,null,null,null,null,null,null,null,null,null,null,null,null,null,null,null,null,null,null,null,null,null,null,null,null,null,null,null,null,null,null,null,null,null,null,null,null,null,null,null,null,null,null,null,null,null,null,null,null,null,null,null,null,null,null,null,null,null,null,null,null,null,null,null,null,null,null,null,null,null,null,null,null,null,null,null,null,null,null,null,null,null,null,null,null,null,null,null,null,null,null,null,null,null,null,null,null,null,null,null,null,{"$f":"IF(C158<>\"\",C158,\"\")","v":""}]
[]
[null,null,null,null,null,null,null,null,null,null,null,null,null,null,null,null,null,null,null,null,null,null,null,null,null,null,null,null,null,null,null,null,null,null,null,null,null,null,null,null,null,null,null,null,null,null,null,null,null,null,null,null,null,null,null,null,null,null,null,null,null,null,null,null,null,null,null,null,null,null,null,null,null,null,null,null,null,null,null,null,null,null,null,null,null,null,null,null,null,null,null,null,null,null,null,null,null,null,null,null,null,null,null,null,null,null,null,null,null,null,null,null,null,null,null,null,null,null,null,null,null,null,null,null,null,null,null,null,null,null,null,null,null,null,null,null,null,null,null,null,null,null,null,null,null,null,null,null,null,null,null,null,null,null,null,null,null,null,null,null,null,null,null,null,null,null,null,null,null,null,null,null,null,null,null,null,null,null,null,null,null,null,null,null,null,null,null,null,null,null,null,null,null,null,null,null,null,{"$f":"IF(C160<>\"\",C160,\"\")","v":""}]
[]
[null,null,null,null,null,null,null,null,null,null,null,null,null,null,null,null,null,null,null,null,null,null,null,null,null,null,null,null,null,null,null,null,null,null,null,null,null,null,null,null,null,null,null,null,null,null,null,null,null,null,null,null,null,null,null,null,null,null,null,null,null,null,null,null,null,null,null,null,null,null,null,null,null,null,null,null,null,null,null,null,null,null,null,null,null,null,null,null,null,null,null,null,null,null,null,null,null,null,null,null,null,null,null,null,null,null,null,null,null,null,null,null,null,null,null,null,null,null,null,null,null,null,null,null,null,null,null,null,null,null,null,null,null,null,null,null,null,null,null,null,null,null,null,null,null,null,null,null,null,null,null,null,null,null,null,null,null,null,null,null,null,null,null,null,null,null,null,null,null,null,null,null,null,null,null,null,null,null,null,null,null,null,null,null,null,null,null,null,null,null,null,null,null,null,null,null,null,{"$f":"IF(C162<>\"\",C162,\"\")","v":""}]
[]
[null,null,null,null,null,null,null,null,null,null,null,null,null,null,null,null,null,null,null,null,null,null,null,null,null,null,null,null,null,null,null,null,null,null,null,null,null,null,null,null,null,null,null,null,null,null,null,null,null,null,null,null,null,null,null,null,null,null,null,null,null,null,null,null,null,null,null,null,null,null,null,null,null,null,null,null,null,null,null,null,null,null,null,null,null,null,null,null,null,null,null,null,null,null,null,null,null,null,null,null,null,null,null,null,null,null,null,null,null,null,null,null,null,null,null,null,null,null,null,null,null,null,null,null,null,null,null,null,null,null,null,null,null,null,null,null,null,null,null,null,null,null,null,null,null,null,null,null,null,null,null,null,null,null,null,null,null,null,null,null,null,null,null,null,null,null,null,null,null,null,null,null,null,null,null,null,null,null,null,null,null,null,null,null,null,null,null,null,null,null,null,null,null,null,null,null,null,{"$f":"IF(C164<>\"\",C164,\"\")","v":""}]
[]
[null,null,null,null,null,null,null,null,null,null,null,null,null,null,null,null,null,null,null,null,null,null,null,null,null,null,null,null,null,null,null,null,null,null,null,null,null,null,null,null,null,null,null,null,null,null,null,null,null,null,null,null,null,null,null,null,null,null,null,null,null,null,null,null,null,null,null,null,null,null,null,null,null,null,null,null,null,null,null,null,null,null,null,null,null,null,null,null,null,null,null,null,null,null,null,null,null,null,null,null,null,null,null,null,null,null,null,null,null,null,null,null,null,null,null,null,null,null,null,null,null,null,null,null,null,null,null,null,null,null,null,null,null,null,null,null,null,null,null,null,null,null,null,null,null,null,null,null,null,null,null,null,null,null,null,null,null,null,null,null,null,null,null,null,null,null,null,null,null,null,null,null,null,null,null,null,null,null,null,null,null,null,null,null,null,null,null,null,null,null,null,null,null,null,null,null,null,{"$f":"IF(C166<>\"\",C166,\"\")","v":""}]
[]
[null,null,null,null,null,null,null,null,null,null,null,null,null,null,null,null,null,null,null,null,null,null,null,null,null,null,null,null,null,null,null,null,null,null,null,null,null,null,null,null,null,null,null,null,null,null,null,null,null,null,null,null,null,null,null,null,null,null,null,null,null,null,null,null,null,null,null,null,null,null,null,null,null,null,null,null,null,null,null,null,null,null,null,null,null,null,null,null,null,null,null,null,null,null,null,null,null,null,null,null,null,null,null,null,null,null,null,null,null,null,null,null,null,null,null,null,null,null,null,null,null,null,null,null,null,null,null,null,null,null,null,null,null,null,null,null,null,null,null,null,null,null,null,null,null,null,null,null,null,null,null,null,null,null,null,null,null,null,null,null,null,null,null,null,null,null,null,null,null,null,null,null,null,null,null,null,null,null,null,null,null,null,null,null,null,null,null,null,null,null,null,null,null,null,null,null,null,{"$f":"IF(C168<>\"\",C168,\"\")","v":""}]
[]
[null,null,null,null,null,null,null,null,null,null,null,null,null,null,null,null,null,null,null,null,null,null,null,null,null,null,null,null,null,null,null,null,null,null,null,null,null,null,null,null,null,null,null,null,null,null,null,null,null,null,null,null,null,null,null,null,null,null,null,null,null,null,null,null,null,null,null,null,null,null,null,null,null,null,null,null,null,null,null,null,null,null,null,null,null,null,null,null,null,null,null,null,null,null,null,null,null,null,null,null,null,null,null,null,null,null,null,null,null,null,null,null,null,null,null,null,null,null,null,null,null,null,null,null,null,null,null,null,null,null,null,null,null,null,null,null,null,null,null,null,null,null,null,null,null,null,null,null,null,null,null,null,null,null,null,null,null,null,null,null,null,null,null,null,null,null,null,null,null,null,null,null,null,null,null,null,null,null,null,null,null,null,null,null,null,null,null,null,null,null,null,null,null,null,null,null,null,{"$f":"IF(C170<>\"\",C170,\"\")","v":""}]
[]
[null,null,null,null,null,null,null,null,null,null,null,null,null,null,null,null,null,null,null,null,null,null,null,null,null,null,null,null,null,null,null,null,null,null,null,null,null,null,null,null,null,null,null,null,null,null,null,null,null,null,null,null,null,null,null,null,null,null,null,null,null,null,null,null,null,null,null,null,null,null,null,null,null,null,null,null,null,null,null,null,null,null,null,null,null,null,null,null,null,null,null,null,null,null,null,null,null,null,null,null,null,null,null,null,null,null,null,null,null,null,null,null,null,null,null,null,null,null,null,null,null,null,null,null,null,null,null,null,null,null,null,null,null,null,null,null,null,null,null,null,null,null,null,null,null,null,null,null,null,null,null,null,null,null,null,null,null,null,null,null,null,null,null,null,null,null,null,null,null,null,null,null,null,null,null,null,null,null,null,null,null,null,null,null,null,null,null,null,null,null,null,null,null,null,null,null,null,{"$f":"IF(C172<>\"\",C172,\"\")","v":""}]
[]
[null,null,null,null,null,null,null,null,null,null,null,null,null,null,null,null,null,null,null,null,null,null,null,null,null,null,null,null,null,null,null,null,null,null,null,null,null,null,null,null,null,null,null,null,null,null,null,null,null,null,null,null,null,null,null,null,null,null,null,null,null,null,null,null,null,null,null,null,null,null,null,null,null,null,null,null,null,null,null,null,null,null,null,null,null,null,null,null,null,null,null,null,null,null,null,null,null,null,null,null,null,null,null,null,null,null,null,null,null,null,null,null,null,null,null,null,null,null,null,null,null,null,null,null,null,null,null,null,null,null,null,null,null,null,null,null,null,null,null,null,null,null,null,null,null,null,null,null,null,null,null,null,null,null,null,null,null,null,null,null,null,null,null,null,null,null,null,null,null,null,null,null,null,null,null,null,null,null,null,null,null,null,null,null,null,null,null,null,null,null,null,null,null,null,null,null,null,{"$f":"IF(C174<>\"\",C174,\"\")","v":""}]
[]
[null,null,null,null,null,null,null,null,null,null,null,null,null,null,null,null,null,null,null,null,null,null,null,null,null,null,null,null,null,null,null,null,null,null,null,null,null,null,null,null,null,null,null,null,null,null,null,null,null,null,null,null,null,null,null,null,null,null,null,null,null,null,null,null,null,null,null,null,null,null,null,null,null,null,null,null,null,null,null,null,null,null,null,null,null,null,null,null,null,null,null,null,null,null,null,null,null,null,null,null,null,null,null,null,null,null,null,null,null,null,null,null,null,null,null,null,null,null,null,null,null,null,null,null,null,null,null,null,null,null,null,null,null,null,null,null,null,null,null,null,null,null,null,null,null,null,null,null,null,null,null,null,null,null,null,null,null,null,null,null,null,null,null,null,null,null,null,null,null,null,null,null,null,null,null,null,null,null,null,null,null,null,null,null,null,null,null,null,null,null,null,null,null,null,null,null,null,{"$f":"IF(C176<>\"\",C176,\"\")","v":""}]
[]
[null,null,null,null,null,null,null,null,null,null,null,null,null,null,null,null,null,null,null,null,null,null,null,null,null,null,null,null,null,null,null,null,null,null,null,null,null,null,null,null,null,null,null,null,null,null,null,null,null,null,null,null,null,null,null,null,null,null,null,null,null,null,null,null,null,null,null,null,null,null,null,null,null,null,null,null,null,null,null,null,null,null,null,null,null,null,null,null,null,null,null,null,null,null,null,null,null,null,null,null,null,null,null,null,null,null,null,null,null,null,null,null,null,null,null,null,null,null,null,null,null,null,null,null,null,null,null,null,null,null,null,null,null,null,null,null,null,null,null,null,null,null,null,null,null,null,null,null,null,null,null,null,null,null,null,null,null,null,null,null,null,null,null,null,null,null,null,null,null,null,null,null,null,null,null,null,null,null,null,null,null,null,null,null,null,null,null,null,null,null,null,null,null,null,null,null,null,{"$f":"IF(C178<>\"\",C178,\"\")","v":""}]
[]
[null,"","",null,null,null,null,null,null,null,null,null,null,null,null,null,null,"",null,null,null,null,null,null,null,"",null,null,null,null,null,null,null,"",null,null,null,null,null,null,null,"",null,null,null,null,null,null,null,"",null,null,null,null,null,null,null,"",null,null,null,null,null,null,null,"",null,null,null,null,null,null,null,"",null,null,null,null,null,null,null,"",null,null,null,null,null,null,null,null,null,null,null,null,null,null,null,"",null,null,null,null,null,null,null,"",null,null,null,null,null,null,null,null,null,null,null,null,null,null,null,"",null,null,null,null,null,null,null,null,null,null,null,null,null,null,null,null,"",null,null,null,null,null,null,null,null,null,null,null,null,null,null,"",null,null,null,null,null,null,null,"",null,null,null,null,null,null,null,"",null,null,null,null,null,null,null,"",null,null,null,null,null,null,null,"",null,null,null,null,null,null,null,"",null,null,"","",null,null,null,null,null,null,null,null,null,null,null,null,null,null,"",null,null,null,null,null,null,null,"",null,null,null,null,null,null,null,"",null,null,null,null,null,null,null,"",null,null,null,null,null,null,null,"",null,null,null,null,null,null,null,"",null,null,null,null,null,null,null,"",null,null,null,null,null,null,null,"",null,null,null,null,null,null,null,"",null,null,null,null,null,null,null,null,null,null,null,null,null,null,null,"",null,null,null,null,null,null,null,"",null,null,null,null,null,null,null,null,null,null,null,null,null,null,null,"",null,null,null,null,null,null,null,null,null,null,null,null,null,null,null,null,"",null,null,null,null,null,null,null,null,null,null,null,null,null,null,"",null,null,null,null,null,null,null,"",null,null,null,null,null,null,null,"",null,null,null,null,null,null,null,"",null,null,null,null,null,null,null,"",null,null,null,null,null,null,null,""]
[]
[null,"FILE NO.",null,null,null,null,null,null,{"$f":"IF(ProjectInformation!$B$12<>\"\",ProjectInformation!$B$12,\"\")","v":""},null,null,null,null,null,null,{"$f":"UPPER(ProjectInformation!$B$8)","v":"ENGLISH"},null,null,null,null,null,null,"DESIGN TEAM",null,null,null,null,null,null,null,null,{"$f":"IF(AND(ProjectInformation!$B$3<>\"\",ProjectInformation!$B$4<>\"\",ProjectInformation!$B$5<>\"\"),ProjectInformation!$B$3&\"\\\"&ProjectInformation!$B$4&\"\\\"&ProjectInformation!$B$5,IF(AND(ProjectInformation!$B$3<>\"\",ProjectInformation!$B$4<>\"\"),ProjectInformation!$B$3&\"\\\"&ProjectInformation!$B$4,IF(ProjectInformation!$B$3<>\"\",ProjectInformation!$B$3,\"\")))","v":"WHKS & CO."},null,null,null,null,null,null,null,null,null,null,null,null,null,null,null,null,null,null,null,null,null,null,null,null,null,null,null,null,null,null,null,null,null,null,null,null,null,null,null,null,null,{"$f":"IF(ProjectInformation!$B$6<>\"\",ProjectInformation!$B$6,\"\")","v":"SCOTT"},null,null,null,null,null,null,null,null,null,null,null,null,null,null,null,null,null,null,null,null,null,null,null,null,null,null,null,null,null,null,null,null,null,null,null,null,null,null,null,null,null,null,"COUNTY",null,null,null,null,null,"PROJECT NUMBER",null,null,null,null,null,null,null,null,null,null,null,{"$f":"IF(ProjectInformation!$B$7<>\"\",ProjectInformation!$B$7,\"\")","v":"BRF-461-1(6)--38-82"},null,null,null,null,null,null,null,null,null,null,null,null,null,null,null,null,null,null,null,null,null,null,null,null,null,null,null,null,null,"SHEET NUMBER",null,null,null,null,null,null,null,null,null,"T.1",null,null,null,null,null,{"$f":"IF(GE182<>\"\",\"REVISED\",\"\")","v":""},null,null,null,null,null,{"$f":"IF(ProjectInformation!$B$9<>\"\",ProjectInformation!$B$9,\"\")","v":""},null,null,null,null,null,null,null,null,null,"FILE NO.",null,null,null,null,null,null,{"$f":"IF(ProjectInformation!$B$12<>\"\",ProjectInformation!$B$12,\"\")","v":""},null,null,null,null,null,null,{"$f":"UPPER(ProjectInformation!$B$8)","v":"ENGLISH"},null,null,null,null,null,null,"DESIGN TEAM",null,null,null,null,null,null,null,null,{"$f":"IF(AND(ProjectInformation!$B$3<>\"\",ProjectInformation!$B$4<>\"\",ProjectInformation!$B$5<>\"\"),ProjectInformation!$B$3&\"\\\"&ProjectInformation!$B$4&\"\\\"&ProjectInformation!$B$5,IF(AND(ProjectInformation!$B$3<>\"\",ProjectInformation!$B$4<>\"\"),ProjectInformation!$B$3&\"\\\"&ProjectInformation!$B$4,IF(ProjectInformation!$B$3<>\"\",ProjectInformation!$B$3,\"\")))","v":"WHKS & CO."},null,null,null,null,null,null,null,null,null,null,null,null,null,null,null,null,null,null,null,null,null,null,null,null,null,null,null,null,null,null,null,null,null,null,null,null,null,null,null,null,null,{"$f":"IF(ProjectInformation!$B$6<>\"\",ProjectInformation!$B$6,\"\")","v":"SCOTT"},null,null,null,null,null,null,null,null,null,null,null,null,null,null,null,null,null,null,null,null,null,null,null,null,null,null,null,null,null,null,null,null,null,null,null,null,null,null,null,null,null,null,"COUNTY",null,null,null,null,null,"PROJECT NUMBER",null,null,null,null,null,null,null,null,null,null,null,{"$f":"IF(ProjectInformation!$B$7<>\"\",ProjectInformation!$B$7,\"\")","v":"BRF-461-1(6)--38-82"},null,null,null,null,null,null,null,null,null,null,null,null,null,null,null,null,null,null,null,null,null,null,null,null,null,null,null,null,null,"SHEET NUMBER",null,null,null,null,null,null,null,null,null,"T.1",null,null,null,null,null,{"$f":"IF(NR182<>\"\",\"REVISED\",\"\")","v":""},null,null,null,null,null,{"$f":"IF(ProjectInformation!$B$9<>\"\",ProjectInformation!$B$9,\"\")","v":""}]
[]
[]
[]
[]
["",null,null,null,null,null,null,null,null,null,null,null,null,null,null,null,null,null,null,null,null,null,null,null,null,null,null,null,null,null,null,null,null,null,null,null,null,null,null,null,null,null,null,null,null,null,null,null,null,null,null,null,null,null,null,null,null,null,null,null,null,null,null,null,null,null,null,null,null,null,null,null,null,null,null,null,null,null,null,null,null,null,null,null,null,null,null,null,null,null,null,null,null,null,null,null,null,null,null,null,null,null,null,null,null,null,null,null,null,null,null,null,null,null,null,null,null,null,null,null,null,null,null,null,null,null,null,null,null,null,null,null,null,null,null,null,null,null,null,null,null,null,null,null,null,null,null,null,null,null,null,null,null,null,null,null,null,null,null,null,null,null,null,null,null,null,null,null,null,null,null,null,null,null,null,null,null,null,null,null,null,null,null,null,null,null,null,null,null,null,null,null,null,null,null,""]