{"text_format":"1","workbook":"xlsx","n_sheets":20,"sheets":["ProjectInformation","PrintSheets","PrintSheetTemplate","Note1","BridgeBlock","DE103_6","DE103_5","DE103_7","DE103_10","DE104_5C","DE104_9","DE107_31","103_6","103_5","103_7","103_10","104_5C","104_9","107_31","Index"],"not_rendered":{"charts":0,"images":18,"macros":1,"external_links":0,"defined_names":9,"comments":2,"pivot_tables":0},"unopened":[],"bounds":{"document_bytes":16777216,"sheet_cells":100000,"rows_first":2000,"rows_last":500,"rows_between":2000,"halvings":0,"cell_chars":16384,"cell_head_chars":4096},"cells_cut":0,"cells_raw":0,"read":"whole","date_system":"1900"}

{"sheet":"ProjectInformation","index":0,"n_rows":11,"n_cols":2,"rows_kept":11,"cut":false,"hidden":false,"merged":[[0,0,0,1],[1,0,1,1],[9,0,9,1],[3,0,4,0]]}
["CPN DATA"]
["INFORMATION ADDED BY DESIGNER"]
["Section Engineer","HDR"]
["Design Team"]
[]
["County","BENTON"]
["Project Number","NHSX-030-6(231)--3H-06 "]
["English or Metric","ENGLISH"]
["Revised"]
["Bridge Block"]
["File No."]

{"sheet":"PrintSheets","index":1,"n_rows":380,"n_cols":179,"rows_kept":380,"cut":false,"hidden":false,"merged":[[378,159,378,164],[378,165,378,170],[378,171,378,178],[379,1,379,178],[378,65,378,100],[378,101,378,106],[378,107,378,118],[378,119,378,148],[378,149,378,158],[378,1,378,7],[378,8,378,14],[378,15,378,21],[378,22,378,30],[378,31,378,64],[93,171,93,178],[94,1,94,178],[93,101,93,106],[93,107,93,118],[93,119,93,148],[93,149,93,158],[93,159,93,164],[93,165,93,170],[93,1,93,7],[93,8,93,14],[93,15,93,21],[93,22,93,30],[93,31,93,64],[93,65,93,100],[188,159,188,164],[188,165,188,170],[188,171,188,178],[189,1,189,178],[188,65,188,100],[188,101,188,106],[188,107,188,118],[188,119,188,148],[188,149,188,158],[188,1,188,7],[188,8,188,14],[188,15,188,21],[188,22,188,30],[188,31,188,64],[359,135,360,177],[361,149,361,177],[362,149,362,177],[363,149,363,177],[364,149,364,177],[365,149,366,171],[365,172,366,177],[367,149,367,153],[367,172,367,174],[368,149,369,177],[370,149,370,158],[371,149,371,166],[371,167,371,168],[373,136,373,153],[373,154,373,176],[284,1,284,178],[374,136,374,176],[375,136,375,176],[283,1,283,7],[283,8,283,14],[283,15,283,21],[283,22,283,30],[283,31,283,64],[283,65,283,100],[283,101,283,106],[283,107,283,118],[283,119,283,148],[283,149,283,158],[283,159,283,164],[283,165,283,170],[283,171,283,178]]}
[" "]
[]
[]
[]
[]
[]
[]
[]
[]
[]
[]
[]
[]
[]
[]
[]
[]
[]
[]
[]
[]
[]
[]
[]
[]
[]
[]
[]
[]
[]
[]
[]
[]
[]
[]
[]
[]
[]
[]
[]
[]
[]
[]
[]
[]
[]
[]
[]
[]
[]
[]
[]
[]
[]
[]
[]
[]
[]
[]
[]
[]
[]
[]
[]
[]
[]
[]
[]
[]
[]
[]
[]
[]
[null,null,null,null,null,null,null,null,null,null,null,null,null,null,null,null,null,null,null,null,null,null,null,null,null,null,null,null,null,null,null,null,null,null,null,null,null,null,null,null,null,null,null,null,null,null,null,null,null,null,null,null,null,null,null,null,null,null,null,null,null,null,null,null,null,null,null,null,null,null,null,null,null,null,null,null,null,null,null,null,null,null,null,null,null,null,null,null,null,null,null,null,null,null,null,null,null,null,null,null,null,null,null,null,null,null,null,null,null,null,null,null,null,null,null,null,null,null,null,null,null,null,null,null,null,null,null,null,null,null,null,null,null,null,null,"","","","","","","","","","","","","","","","","","","","","","","","","","","","","","","","","","","","","","","","","","",""]
[]
[]
[]
[]
[]
[]
[]
[]
[]
[]
[]
[]
[]
[]
[]
[]
[]
[]
[null,"","","","","","","","","","","","","","","","","","","","","","","","","","","","","","","","","","","","","","","","","","","","","","","","","","","","","","","","","","","","","","","","","","","","","","","","","","","","","","","","","","","","","","","","","","","","","","","","","","","","","","","","","","","","","","","","","","","","","","","","","","","","","","","","","","","","","","","","","","","","","","","","","","","","","","","",null,"","","","","","","","","","","","","","","","","","","","","","","","","",""]
[null,"FILE NO.",null,null,null,null,null,null,{"$f":"IF(ProjectInformation!$B$11<>\"\",ProjectInformation!$B$11,\"\")","v":""},null,null,null,null,null,null,{"$f":"UPPER(ProjectInformation!B8)","v":"ENGLISH"},null,null,null,null,null,null,"DESIGN TEAM",null,null,null,null,null,null,null,null,{"$f":"IF(AND(ProjectInformation!$B$3<>\"\",ProjectInformation!$B$4<>\"\",ProjectInformation!$B$5<>\"\"),ProjectInformation!$B$3&\"\\\"&ProjectInformation!$B$4&\"\\\"&ProjectInformation!$B$5,IF(AND(ProjectInformation!$B$3<>\"\",ProjectInformation!$B$4<>\"\"),ProjectInformation!$B$3&\"\\\"&ProjectInformation!$B$4,IF(ProjectInformation!$B$3<>\"\",ProjectInformation!$B$3,\"\")))","v":"HDR"},null,null,null,null,null,null,null,null,null,null,null,null,null,null,null,null,null,null,null,null,null,null,null,null,null,null,null,null,null,null,null,null,null,{"$f":"IF(ProjectInformation!$B$6<>\"\",ProjectInformation!$B$6,\"\")","v":"BENTON"},null,null,null,null,null,null,null,null,null,null,null,null,null,null,null,null,null,null,null,null,null,null,null,null,null,null,null,null,null,null,null,null,null,null,null,"COUNTY",null,null,null,null,null,"PROJECT NUMBER",null,null,null,null,null,null,null,null,null,null,null,{"$f":"IF(ProjectInformation!$B$7<>\"\",ProjectInformation!$B$7,\"\")","v":"NHSX-030-6(231)--3H-06 "},null,null,null,null,null,null,null,null,null,null,null,null,null,null,null,null,null,null,null,null,null,null,null,null,null,null,null,null,null,"SHEET NUMBER",null,null,null,null,null,null,null,null,null,"CS.2",null,null,null,null,null,{"$f":"IF(FP94<>\"\",\"REVISED\",\"\")","v":""},null,null,null,null,null,{"$f":"IF(ProjectInformation!$B$9<>\"\",ProjectInformation!$B$9,\"\")","v":""}]
["","2/14/2018     2:32:48 PM     BHAVENS     G:\\Projects\\134 - 221364 US 30 Benton Co Iowa DOT\\S2 S3 & S4 Supplemental at US 218\\S3\\Plan Sheet Preparation\\CS Sheet\\06030231CS1 revised 021418.xlsm"]
[" "]
[]
[]
[]
[]
[]
[]
[]
[]
[]
[]
[]
[]
[]
[]
[]
[]
[]
[]
[]
[]
[]
[]
[]
[]
[]
[]
[]
[]
[]
[]
[]
[]
[]
[]
[]
[]
[]
[]
[]
[]
[]
[]
[]
[]
[]
[]
[]
[]
[]
[]
[]
[]
[]
[]
[]
[]
[]
[]
[]
[]
[]
[]
[]
[]
[]
[]
[]
[]
[]
[]
[]
[]
[]
[]
[]
[]
[]
[]
[]
[]
[]
[]
[]
[]
[]
[]
[]
[]
[]
[]
[]
[null,"","","","","","","","","","","","","","","","","","","","","","","","","","","","","","","","","","","","","","","","","","","","","","","","","","","","","","","","","","","","","","","","","","","","","","","","","","","","","","","","","","","","","","","","","","","","","","","","","","","","","","","","","","","","","","","","","","","","","","","","","","","","","","","","","","","","","","","","","","","","","","","","","","","","","","","",null,"","","","","","","","","","","","","","","","","","","","","","","","","",""]
[null,"FILE NO.",null,null,null,null,null,null,{"$f":"IF(ProjectInformation!$B$11<>\"\",ProjectInformation!$B$11,\"\")","v":""},null,null,null,null,null,null,{"$f":"UPPER(ProjectInformation!B8)","v":"ENGLISH"},null,null,null,null,null,null,"DESIGN TEAM",null,null,null,null,null,null,null,null,{"$f":"IF(AND(ProjectInformation!$B$3<>\"\",ProjectInformation!$B$4<>\"\",ProjectInformation!$B$5<>\"\"),ProjectInformation!$B$3&\"\\\"&ProjectInformation!$B$4&\"\\\"&ProjectInformation!$B$5,IF(AND(ProjectInformation!$B$3<>\"\",ProjectInformation!$B$4<>\"\"),ProjectInformation!$B$3&\"\\\"&ProjectInformation!$B$4,IF(ProjectInformation!$B$3<>\"\",ProjectInformation!$B$3,\"\")))","v":"HDR"},null,null,null,null,null,null,null,null,null,null,null,null,null,null,null,null,null,null,null,null,null,null,null,null,null,null,null,null,null,null,null,null,null,{"$f":"IF(ProjectInformation!$B$6<>\"\",ProjectInformation!$B$6,\"\")","v":"BENTON"},null,null,null,null,null,null,null,null,null,null,null,null,null,null,null,null,null,null,null,null,null,null,null,null,null,null,null,null,null,null,null,null,null,null,null,"COUNTY",null,null,null,null,null,"PROJECT NUMBER",null,null,null,null,null,null,null,null,null,null,null,{"$f":"IF(ProjectInformation!$B$7<>\"\",ProjectInformation!$B$7,\"\")","v":"NHSX-030-6(231)--3H-06 "},null,null,null,null,null,null,null,null,null,null,null,null,null,null,null,null,null,null,null,null,null,null,null,null,null,null,null,null,null,"SHEET NUMBER",null,null,null,null,null,null,null,null,null,"CS.3",null,null,null,null,null,{"$f":"IF(FP189<>\"\",\"REVISED\",\"\")","v":""},null,null,null,null,null,{"$f":"IF(ProjectInformation!$B$9<>\"\",ProjectInformation!$B$9,\"\")","v":""}]
["","2/14/2018     2:32:48 PM     BHAVENS     G:\\Projects\\134 - 221364 US 30 Benton Co Iowa DOT\\S2 S3 & S4 Supplemental at US 218\\S3\\Plan Sheet Preparation\\CS Sheet\\06030231CS1 revised 021418.xlsm"]
[" "]
[]
[]
[]
[]
[]
[]
[]
[]
[]
[]
[]
[]
[]
[]
[]
[]
[]
[]
[]
[]
[]
[]
[]
[]
[]
[]
[]
[]
[]
[]
[]
[]
[]
[]
[]
[]
[]
[]
[]
[]
[]
[]
[]
[]
[]
[]
[]
[]
[]
[]
[]
[]
[]
[]
[]
[]
[]
[]
[]
[]
[]
[]
[]
[]
[]
[]
[]
[]
[]
[]
[]
[]
[]
[]
[]
[]
[]
[]
[]
[]
[]
[]
[]
[]
[]
[]
[]
[]
[]
[]
[]
[null,"","","","","","","","","","","","","","","","","","","","","","","","","","","","","","","","","","","","","","","","","","","","","","","","","","","","","","","","","","","","","","","","","","","","","","","","","","","","","","","","","","","","","","","","","","","","","","","","","","","","","","","","","","","","","","","","","","","","","","","","","","","","","","","","","","","","","","","","","","","","","","","","","","","","","","","",null,"","","","","","","","","","","","","","","","","","","","","","","","","",""]
[null,"FILE NO.",null,null,null,null,null,null,{"$f":"IF(ProjectInformation!$B$11<>\"\",ProjectInformation!$B$11,\"\")","v":""},null,null,null,null,null,null,{"$f":"UPPER(ProjectInformation!B8)","v":"ENGLISH"},null,null,null,null,null,null,"DESIGN TEAM",null,null,null,null,null,null,null,null,{"$f":"IF(AND(ProjectInformation!$B$3<>\"\",ProjectInformation!$B$4<>\"\",ProjectInformation!$B$5<>\"\"),ProjectInformation!$B$3&\"\\\"&ProjectInformation!$B$4&\"\\\"&ProjectInformation!$B$5,IF(AND(ProjectInformation!$B$3<>\"\",ProjectInformation!$B$4<>\"\"),ProjectInformation!$B$3&\"\\\"&ProjectInformation!$B$4,IF(ProjectInformation!$B$3<>\"\",ProjectInformation!$B$3,\"\")))","v":"HDR"},null,null,null,null,null,null,null,null,null,null,null,null,null,null,null,null,null,null,null,null,null,null,null,null,null,null,null,null,null,null,null,null,null,{"$f":"IF(ProjectInformation!$B$6<>\"\",ProjectInformation!$B$6,\"\")","v":"BENTON"},null,null,null,null,null,null,null,null,null,null,null,null,null,null,null,null,null,null,null,null,null,null,null,null,null,null,null,null,null,null,null,null,null,null,null,"COUNTY",null,null,null,null,null,"PROJECT NUMBER",null,null,null,null,null,null,null,null,null,null,null,{"$f":"IF(ProjectInformation!$B$7<>\"\",ProjectInformation!$B$7,\"\")","v":"NHSX-030-6(231)--3H-06 "},null,null,null,null,null,null,null,null,null,null,null,null,null,null,null,null,null,null,null,null,null,null,null,null,null,null,null,null,null,"SHEET NUMBER",null,null,null,null,null,null,null,null,null,"CS.4",null,null,null,null,null,{"$f":"IF(FP284<>\"\",\"REVISED\",\"\")","v":""},null,null,null,null,null,{"$f":"IF(ProjectInformation!$B$9<>\"\",ProjectInformation!$B$9,\"\")","v":""}]
["","2/14/2018     2:32:48 PM     BHAVENS     G:\\Projects\\134 - 221364 US 30 Benton Co Iowa DOT\\S2 S3 & S4 Supplemental at US 218\\S3\\Plan Sheet Preparation\\CS Sheet\\06030231CS1 revised 021418.xlsm"]
[" "]
[]
[]
[]
[]
[]
[]
[]
[]
[]
[]
[]
[]
[]
[]
[]
[]
[]
[]
[]
[]
[]
[]
[]
[]
[]
[]
[]
[]
[]
[]
[]
[]
[]
[]
[]
[]
[]
[]
[]
[]
[]
[]
[]
[]
[]
[]
[]
[]
[]
[]
[]
[]
[]
[]
[]
[]
[]
[]
[]
[]
[]
[]
[]
[]
[]
[]
[]
[]
[]
[]
[]
[]
[]
[]
[]
[null,null,null,null,null,null,null,null,null,null,null,null,null,null,null,null,null,null,null,null,null,null,null,null,null,null,null,null,null,null,null,null,null,null,null,null,null,null,null,null,null,null,null,null,null,null,null,null,null,null,null,null,null,null,null,null,null,null,null,null,null,null,null,null,null,null,null,null,null,null,null,null,null,null,null,null,null,null,null,null,null,null,null,null,null,null,null,null,null,null,null,null,null,null,null,null,null,null,null,null,null,null,null,null,null,null,null,null,null,null,null,null,null,null,null,null,null,null,null,null,null,null,null,null,null,null,null,null,null,null,null,null,null,null,null,null,null,null,null,null,null,null,null,null,null,null,null,null,null,"I hereby certify that this engineering document was prepared"]
[null,null,null,null,null,null,null,null,null,null,null,null,null,null,null,null,null,null,null,null,null,null,null,null,null,null,null,null,null,null,null,null,null,null,null,null,null,null,null,null,null,null,null,null,null,null,null,null,null,null,null,null,null,null,null,null,null,null,null,null,null,null,null,null,null,null,null,null,null,null,null,null,null,null,null,null,null,null,null,null,null,null,null,null,null,null,null,null,null,null,null,null,null,null,null,null,null,null,null,null,null,null,null,null,null,null,null,null,null,null,null,null,null,null,null,null,null,null,null,null,null,null,null,null,null,null,null,null,null,null,null,null,null,null,null,null,null,null,null,null,null,null,null,null,null,null,null,null,null,"by me or under my direct personal supervision and that I"]
[null,null,null,null,null,null,null,null,null,null,null,null,null,null,null,null,null,null,null,null,null,null,null,null,null,null,null,null,null,null,null,null,null,null,null,null,null,null,null,null,null,null,null,null,null,null,null,null,null,null,null,null,null,null,null,null,null,null,null,null,null,null,null,null,null,null,null,null,null,null,null,null,null,null,null,null,null,null,null,null,null,null,null,null,null,null,null,null,null,null,null,null,null,null,null,null,null,null,null,null,null,null,null,null,null,null,null,null,null,null,null,null,null,null,null,null,null,null,null,null,null,null,null,null,null,null,null,null,null,null,null,null,null,null,null,null,null,null,null,null,null,null,null,null,null,null,null,null,null,"am a duly licensed Professional Engineer under the laws of"]
[null,null,null,null,null,null,null,null,null,null,null,null,null,null,null,null,null,null,null,null,null,null,null,null,null,null,null,null,null,null,null,null,null,null,null,null,null,null,null,null,null,null,null,null,null,null,null,null,null,null,null,null,null,null,null,null,null,null,null,null,null,null,null,null,null,null,null,null,null,null,null,null,null,null,null,null,null,null,null,null,null,null,null,null,null,null,null,null,null,null,null,null,null,null,null,null,null,null,null,null,null,null,null,null,null,null,null,null,null,null,null,null,null,null,null,null,null,null,null,null,null,null,null,null,null,null,null,null,null,null,null,null,null,null,null,null,null,null,null,null,null,null,null,null,null,null,null,null,null,"the State of Iowa."]
[]
[]
[null,null,null,null,null,null,null,null,null,null,null,null,null,null,null,null,null,null,null,null,null,null,null,null,null,null,null,null,null,null,null,null,null,null,null,null,null,null,null,null,null,null,null,null,null,null,null,null,null,null,null,null,null,null,null,null,null,null,null,null,null,null,null,null,null,null,null,null,null,null,null,null,null,null,null,null,null,null,null,null,null,null,null,null,null,null,null,null,null,null,null,null,null,null,null,null,null,null,null,null,null,null,null,null,null,null,null,null,null,null,null,null,null,null,null,null,null,null,null,null,null,null,null,null,null,null,null,null,null,null,null,null,null,null,null,null,null,null,null,null,null,null,null,null,null,null,null,null,null,"Signature",null,null,null,null,null,null,null,null,null,null,null,null,null,null,null,null,null,null,null,null,null,null,"Date"]
[null,null,null,null,null,null,null,null,null,null,null,null,null,null,null,null,null,null,null,null,null,null,null,null,null,null,null,null,null,null,null,null,null,null,null,null,null,null,null,null,null,null,null,null,null,null,null,null,null,null,null,null,null,null,null,null,null,null,null,null,null,null,null,null,null,null,null,null,null,null,null,null,null,null,null,null,null,null,null,null,null,null,null,null,null,null,null,null,null,null,null,null,null,null,null,null,null,null,null,null,null,null,null,null,null,null,null,null,null,null,null,null,null,null,null,null,null,null,null,null,null,null,null,null,null,null,null,null,null,null,null,null,null,null,null,null,null,null,null,null,null,null,null,null,null,null,null,null,null,"John A. Christiansen"]
[]
[null,null,null,null,null,null,null,null,null,null,null,null,null,null,null,null,null,null,null,null,null,null,null,null,null,null,null,null,null,null,null,null,null,null,null,null,null,null,null,null,null,null,null,null,null,null,null,null,null,null,null,null,null,null,null,null,null,null,null,null,null,null,null,null,null,null,null,null,null,null,null,null,null,null,null,null,null,null,null,null,null,null,null,null,null,null,null,null,null,null,null,null,null,null,null,null,null,null,null,null,null,null,null,null,null,null,null,null,null,null,null,null,null,null,null,null,null,null,null,null,null,null,null,null,null,null,null,null,null,null,null,null,null,null,null,null,null,null,null,null,null,null,null,null,null,null,null,null,null,"Printed or Typed Name"]
[null,null,null,null,null,null,null,null,null,null,null,null,null,null,null,null,null,null,null,null,null,null,null,null,null,null,null,null,null,null,null,null,null,null,null,null,null,null,null,null,null,null,null,null,null,null,null,null,null,null,null,null,null,null,null,null,null,null,null,null,null,null,null,null,null,null,null,null,null,null,null,null,null,null,null,null,null,null,null,null,null,null,null,null,null,null,null,null,null,null,null,null,null,null,null,null,null,null,null,null,null,null,null,null,null,null,null,null,null,null,null,null,null,null,null,null,null,null,null,null,null,null,null,null,null,null,null,null,null,null,null,null,null,null,null,null,null,null,null,null,null,null,null,null,null,null,null,null,null,"My license renewal date is December 31, 20",null,null,null,null,null,null,null,null,null,null,null,null,null,null,null,null,null,18]
[]
[null,null,null,null,null,null,null,null,null,null,null,null,null,null,null,null,null,null,null,null,null,null,null,null,null,null,null,null,null,null,null,null,null,null,null,null,null,null,null,null,null,null,null,null,null,null,null,null,null,null,null,null,null,null,null,null,null,null,null,null,null,null,null,null,null,null,null,null,null,null,null,null,null,null,null,null,null,null,null,null,null,null,null,null,null,null,null,null,null,null,null,null,null,null,null,null,null,null,null,null,null,null,null,null,null,null,null,null,null,null,null,null,null,null,null,null,null,null,null,null,null,null,null,null,null,null,null,null,null,null,null,null,null,null,null,null,"Pages or sheets covered by this seal:",null,null,null,null,null,null,null,null,null,null,null,null,null,null,null,null,null,"CS.1- CS.4, Q.1-Q.31"]
[]
[]
[]
[null,"","","","","","","","","","","","","","","","","","","","","","","","","","","","","","","","","","","","","","","","","","","","","","","","","","","","","","","","","","","","","","","","","","","","","","","","","","","","","","","","","","","","","","","","","","","","","","","","","","","","","","","","","","","","","","","","","","","","","","","","","","","","","","","","","","","","","","","","","","","","","","","","","","","","","","","",null,"","","","","","","","","","","","","","","","","","","","","","","","","",""]
[null,"FILE NO.",null,null,null,null,null,null,{"$f":"IF(ProjectInformation!$B$11<>\"\",ProjectInformation!$B$11,\"\")","v":""},null,null,null,null,null,null,{"$f":"UPPER(ProjectInformation!B8)","v":"ENGLISH"},null,null,null,null,null,null,"DESIGN TEAM",null,null,null,null,null,null,null,null,{"$f":"IF(AND(ProjectInformation!$B$3<>\"\",ProjectInformation!$B$4<>\"\",ProjectInformation!$B$5<>\"\"),ProjectInformation!$B$3&\"\\\"&ProjectInformation!$B$4&\"\\\"&ProjectInformation!$B$5,IF(AND(ProjectInformation!$B$3<>\"\",ProjectInformation!$B$4<>\"\"),ProjectInformation!$B$3&\"\\\"&ProjectInformation!$B$4,IF(ProjectInformation!$B$3<>\"\",ProjectInformation!$B$3,\"\")))","v":"HDR"},null,null,null,null,null,null,null,null,null,null,null,null,null,null,null,null,null,null,null,null,null,null,null,null,null,null,null,null,null,null,null,null,null,{"$f":"IF(ProjectInformation!$B$6<>\"\",ProjectInformation!$B$6,\"\")","v":"BENTON"},null,null,null,null,null,null,null,null,null,null,null,null,null,null,null,null,null,null,null,null,null,null,null,null,null,null,null,null,null,null,null,null,null,null,null,"COUNTY",null,null,null,null,null,"PROJECT NUMBER",null,null,null,null,null,null,null,null,null,null,null,{"$f":"IF(ProjectInformation!$B$7<>\"\",ProjectInformation!$B$7,\"\")","v":"NHSX-030-6(231)--3H-06 "},null,null,null,null,null,null,null,null,null,null,null,null,null,null,null,null,null,null,null,null,null,null,null,null,null,null,null,null,null,"SHEET NUMBER",null,null,null,null,null,null,null,null,null,"CS.1",null,null,null,null,null,{"$f":"IF(FP379<>\"\",\"REVISED\",\"\")","v":""},null,null,null,null,null,{"$f":"IF(ProjectInformation!$B$9<>\"\",ProjectInformation!$B$9,\"\")","v":""}]
["","2/14/2018     2:32:48 PM     BHAVENS     G:\\Projects\\134 - 221364 US 30 Benton Co Iowa DOT\\S2 S3 & S4 Supplemental at US 218\\S3\\Plan Sheet Preparation\\CS Sheet\\06030231CS1 revised 021418.xlsm"]

{"sheet":"PrintSheetTemplate","index":2,"n_rows":95,"n_cols":179,"rows_kept":95,"cut":false,"hidden":true,"merged":[[93,171,93,178],[94,1,94,178],[93,101,93,106],[93,107,93,118],[93,119,93,148],[93,149,93,158],[93,159,93,164],[93,165,93,170],[93,1,93,7],[93,8,93,14],[93,15,93,21],[93,22,93,30],[93,31,93,64],[93,65,93,100]]}
[" "]
[]
[]
[]
[]
[]
[]
[]
[]
[]
[]
[]
[]
[]
[]
[]
[]
[]
[]
[]
[]
[]
[]
[]
[]
[]
[]
[]
[]
[]
[]
[]
[]
[]
[]
[]
[]
[]
[]
[]
[]
[]
[]
[]
[]
[]
[]
[]
[]
[]
[]
[]
[]
[]
[]
[]
[]
[]
[]
[]
[]
[]
[]
[]
[]
[]
[]
[]
[]
[]
[]
[]
[]
[]
[]
[]
[]
[]
[]
[]
[]
[]
[]
[]
[]
[]
[]
[]
[]
[]
[]
[]
[null,"","","","","","","","","","","","","","","","","","","","","","","","","","","","","","","","","","","","","","","","","","","","","","","","","","","","","","","","","","","","","","","","","","","","","","","","","","","","","","","","","","","","","","","","","","","","","","","","","","","","","","","","","","","","","","","","","","","","","","","","","","","","","","","","","","","","","","","","","","","","","","","","","","","","","","","",null,"","","","","","","","","","","","","","","","","","","","","","","","","",""]
[null,"FILE NO.",null,null,null,null,null,null,{"$f":"IF(ProjectInformation!$B$11<>\"\",ProjectInformation!$B$11,\"\")","v":""},null,null,null,null,null,null,{"$f":"UPPER(ProjectInformation!$B$8)","v":"ENGLISH"},null,null,null,null,null,null,"DESIGN TEAM",null,null,null,null,null,null,null,null,{"$f":"IF(AND(ProjectInformation!$B$3<>\"\",ProjectInformation!$B$4<>\"\",ProjectInformation!$B$5<>\"\"),ProjectInformation!$B$3&\"\\\"&ProjectInformation!$B$4&\"\\\"&ProjectInformation!$B$5,IF(AND(ProjectInformation!$B$3<>\"\",ProjectInformation!$B$4<>\"\"),ProjectInformation!$B$3&\"\\\"&ProjectInformation!$B$4,IF(ProjectInformation!$B$3<>\"\",ProjectInformation!$B$3,\"\")))","v":"HDR"},null,null,null,null,null,null,null,null,null,null,null,null,null,null,null,null,null,null,null,null,null,null,null,null,null,null,null,null,null,null,null,null,null,{"$f":"IF(ProjectInformation!$B$6<>\"\",ProjectInformation!$B$6,\"\")","v":"BENTON"},null,null,null,null,null,null,null,null,null,null,null,null,null,null,null,null,null,null,null,null,null,null,null,null,null,null,null,null,null,null,null,null,null,null,null,"COUNTY",null,null,null,null,null,"PROJECT NUMBER",null,null,null,null,null,null,null,null,null,null,null,{"$f":"IF(ProjectInformation!$B$7<>\"\",ProjectInformation!$B$7,\"\")","v":"NHSX-030-6(231)--3H-06 "},null,null,null,null,null,null,null,null,null,null,null,null,null,null,null,null,null,null,null,null,null,null,null,null,null,null,null,null,null,"SHEET NUMBER",null,null,null,null,null,null,null,null,null,null,null,null,null,null,null,{"$f":"IF(FP94<>\"\",\"REVISED\",\"\")","v":""},null,null,null,null,null,{"$f":"IF(ProjectInformation!$B$9<>\"\",ProjectInformation!$B$9,\"\")","v":""}]
[""]

{"sheet":"Note1","index":3,"n_rows":1,"n_cols":1,"rows_kept":1,"cut":false,"hidden":true,"merged":[[0,0,2,0]]}
["SEE V SHEETS FOR ADDITIONAL BID ITEMS AND QUANTITIES"]

{"sheet":"BridgeBlock","index":4,"n_rows":4,"n_cols":14,"rows_kept":4,"cut":false,"hidden":true,"merged":[[2,2,2,8],[3,2,3,7],[2,9,2,12],[3,8,3,12]]}
[2]
[null,"","","","","","","","","","","","",""]
[null,null,"Design No.",null,null,null,null,null,null,{"$f":"IF(#REF!<>\"\",#REF!,\"\")","v":{"$error":"#REF!"}}]
[null,null,"File No.",null,null,null,null,null,{"$f":"IF(#REF!<>\"\",#REF!,\"\")","v":{"$error":"#REF!"}}]

{"sheet":"DE103_6","index":5,"n_rows":20,"n_cols":5,"rows_kept":20,"cut":false,"hidden":false,"merged":[[14,2,16,2],[16,4,17,4]]}
["TabTitle",{"$f":"C15","v":"EMBANKMENT WITH MOISTURE CONTROL"}]
["Number of Tab Columns",1]
["DE Starter Row Number",19]
["TabSheet Starter Row Number",5]
["TabSheet Header Row Count",4]
["Top Header Cell","E15"]
["Bottom Header Cell","E18"]
["DESheet Row Count",2]
["Fixed Empty Rows",2]
["Usable Empty Rows",0]
["Total Rows Placed",4,"xlLeft(1)",null,{"$f":"C11","v":"xlLeft(1)"}]
["Total Rows Needed",{"$f":"SUM(B8:B10)","v":4},"#+00.0",null,{"$f":"C12","v":"#+00.0"}]
["Last Tab DE Starter Row",19,{"$f":"CELL(\"width\",C13)","v":77},null,{"$f":"CELL(\"width\",E13)","v":0}]
["Last Tab Tabsheet Starter Row",5,"A",null,{"$f":"LOWER(C14)","v":"a"}]
["Last Copy Starter Row",1,"EMBANKMENT WITH MOISTURE CONTROL",null,"103-6"]
["Tab Loop Number",2,null,null,{"$f":"B17","v":"2017-10-17"}]
["Revision Date","2017-10-17",null,null,{"$f":"C15","v":"EMBANKMENT WITH MOISTURE CONTROL"}]
["Tabulation Width",1,{"$f":"\"This Data Entry Sheet fills Tab \"&E15&\" effective \"&TEXT(B17,\"mm-dd-yy\")","v":"This Data Entry Sheet fills Tab 103-6 effective 10-17-17"}]
["Horizontal Grid Lines","No","Moisture Control is required for all Class 10 fill placed in all"]
[null,null,"locations and depths.  Topsoil will not require Moisture Control."]

{"sheet":"DE103_5","index":6,"n_rows":28,"n_cols":11,"rows_kept":28,"cut":false,"hidden":false,"merged":[[18,2,20,2],[18,3,19,4],[18,5,20,5],[18,7,18,10],[19,7,21,7],[19,8,20,9],[19,10,21,10],[14,2,15,5],[14,7,14,10],[15,7,15,10],[16,2,16,5],[16,7,17,10],[17,2,17,5]]}
["TabTitle",{"$f":"C15","v":"SETTLEMENT PLATES"}]
["Number of Tab Columns",4]
["DE Starter Row Number",22]
["TabSheet Starter Row Number",9]
["TabSheet Header Row Count",8]
["Top Header Cell","H15"]
["Bottom Header Cell","K22"]
["DESheet Row Count",7]
["Fixed Empty Rows",5]
["Usable Empty Rows",4]
["Total Rows Placed",16,"xlRight(1)","xlRight(1)","xlRight(1)","xlLeft(1)",null,{"$f":"C11","v":"xlRight(1)"},"xlRight(1)","xlRight(1)","xlLeft(1)"]
["Total Rows Needed",{"$f":"SUM(B8:B10)","v":16},"General","#+00.00","0.0","General",null,"General","#+00.00","0.0","General"]
["Last Tab DE Starter Row",22,{"$f":"CELL(\"width\",C13)","v":6},{"$f":"CELL(\"width\",D13)","v":16},{"$f":"CELL(\"width\",E13)","v":16},{"$f":"CELL(\"width\",F13)","v":37},null,{"$f":"CELL(\"width\",H13)","v":0},{"$f":"CELL(\"width\",I13)","v":0},{"$f":"CELL(\"width\",J13)","v":0},{"$f":"CELL(\"width\",K13)","v":0}]
["Last Tab Tabsheet Starter Row",9,"A","B","C","D",null,{"$f":"LOWER(C14)","v":"a"},{"$f":"LOWER(D14)","v":"b"},{"$f":"LOWER(E14)","v":"c"},{"$f":"LOWER(F14)","v":"d"}]
["Last Copy Starter Row",1,"SETTLEMENT PLATES",null,null,null,null,"103-5"]
["Tab Loop Number",2,null,null,null,null,null,{"$f":"B17","v":"2013-10-15"}]
["Revision Date","2013-10-15","Refer to Standard Road Plan EW-212",null,null,null,null,{"$f":"C15","v":"SETTLEMENT PLATES"}]
["Tabulation Width",1,{"$f":"\"This Data Entry Sheet fills Tab \"&H15&\" effective \"&TEXT(B17,\"mm-dd-yy\")","v":"This Data Entry Sheet fills Tab 103-5 effective 10-15-13"}]
["Horizontal Grid Lines","Yes","No.","Location",null,"Remarks",null,{"$f":"C17","v":"Refer to Standard Road Plan EW-212"}]
[null,null,null,null,null,null,null,{"$f":"C19","v":"No."},{"$f":"D19","v":"Location"},null,{"$f":"F19","v":"Remarks"}]
[null,null,null,"Station","Offset"]
[null,null,1,138800,"25' RT","SP-1",null,null,{"$f":"D21","v":"Station"},{"$f":"E21","v":"Offset"}]
[null,null,2,138975,"25' LT","SP-2, Stage 2"]
[null,null,3,142540,"25' RT","SP-3"]
[null,null,4,142540,"60' LT","SP-4, Stage 2"]
[null,null,5,4147600,"10' RT","SP-5"]
[null,null,6,4148200,"10' RT","SP-6"]
[null,null,7,"241477+35","20' RT","SP-7"]

{"sheet":"DE103_7","index":7,"n_rows":23,"n_cols":9,"rows_kept":23,"cut":false,"hidden":false,"merged":[[18,8,19,8],[14,2,15,4],[14,6,14,8],[15,6,15,8],[16,2,16,4],[16,6,17,8],[17,2,18,2],[17,3,18,3],[17,4,18,4],[18,6,19,6],[18,7,19,7]]}
["TabTitle",{"$f":"C15","v":"SHRINKAGE DATA"}]
["Number of Tab Columns",3]
["DE Starter Row Number",20]
["TabSheet Starter Row Number",7]
["TabSheet Header Row Count",6]
["Top Header Cell","G15"]
["Bottom Header Cell","I20"]
["DESheet Row Count",4]
["Fixed Empty Rows",5]
["Usable Empty Rows",0]
["Total Rows Placed",9,"xlLeft(1)","xlRight(1)","xlLeft(1)",null,{"$f":"C11","v":"xlLeft(1)"},"xlRight(1)","xlLeft(1)"]
["Total Rows Needed",{"$f":"SUM(B8:B10)","v":9},"General","0%","General",null,"General","0%","General"]
["Last Tab DE Starter Row",20,{"$f":"CELL(\"width\",C13)","v":32},{"$f":"CELL(\"width\",D13)","v":8},{"$f":"CELL(\"width\",E13)","v":35},null,{"$f":"CELL(\"width\",G13)","v":0},{"$f":"CELL(\"width\",H13)","v":0},{"$f":"CELL(\"width\",I13)","v":0}]
["Last Tab Tabsheet Starter Row",7,"A","B","C",null,{"$f":"LOWER(C14)","v":"a"},{"$f":"LOWER(D14)","v":"b"},{"$f":"LOWER(E14)","v":"c"}]
["Last Copy Starter Row",1,"SHRINKAGE DATA",null,null,null,"103-7"]
["Tab Loop Number",2,null,null,null,null,{"$f":"B17","v":"2008-08-01"}]
["Revision Date","2008-08-01",{"$f":"\"This Data Entry Sheet fills Tab \"&G15&\" effective \"&TEXT(B17,\"mm-dd-yy\")","v":"This Data Entry Sheet fills Tab 103-7 effective 08-01-08"},null,null,null,{"$f":"C15","v":"SHRINKAGE DATA"}]
["Tabulation Width",1,"Material","%","Remarks"]
["Horizontal Grid Lines","Yes",null,null,null,null,{"$f":"C18","v":"Material"},{"$f":"D18","v":"%"},{"$f":"E18","v":"Remarks"}]
[null,null,"Entire Project",0.3]
[null,null,"Topsoil",0.4]
[]
[null,null,"Boulder Estimate",null,"100 CY"]

{"sheet":"DE103_10","index":8,"n_rows":6000,"n_cols":19,"rows_kept":6000,"cut":false,"hidden":false,"merged":[[19,15,21,15],[18,16,20,16],[18,17,20,17],[18,18,21,18],[19,2,21,2],[19,3,21,3],[19,4,21,4],[19,5,21,5],[19,12,21,12],[19,13,21,13],[19,14,21,14],[18,2,18,5],[18,6,20,7],[18,8,20,9],[18,10,21,10],[18,12,18,15],[14,12,14,18],[15,2,16,10],[15,12,15,18],[16,12,17,18],[17,2,17,10]]}
["TabTitle",{"$f":"C16","v":"TOPSOIL STRIPPING AND PLACEMENT"}]
["Number of Tab Columns",7]
["DE Starter Row Number",23]
["TabSheet Starter Row Number",9]
["TabSheet Header Row Count",8]
["Top Header Cell","M15"]
["Bottom Header Cell","S22"]
["DESheet Row Count",9]
["Fixed Empty Rows",3]
["Usable Empty Rows",0]
["Total Rows Placed",12,"xlLeft(1)","xlLeft(1)","xlRight(1)","xlRight(1)","xlRight(1)",null,"xlRight(1)",null,"xlLeft(1)",null,{"$f":"C11","v":"xlLeft(1)"},"xlLeft(1)","xlRight(1)","xlRight(1)","xlRight(1)",{"$f":"I11","v":"xlRight(1)"},{"$f":"K11","v":"xlLeft(1)"}]
["Total Rows Needed",{"$f":"SUM(B8:B10)","v":12},"General","General","#+00.00","#+00.00","0.0",null,"0.0",null,"General",null,"General","General","#+00.00","#+00.00","0.0",{"$f":"I12","v":"0.0"},{"$f":"K12","v":"General"}]
["Last Tab DE Starter Row",23,{"$f":"CELL(\"width\",C13)","v":30},{"$f":"CELL(\"width\",D13)","v":9},{"$f":"CELL(\"width\",E13)","v":16},{"$f":"CELL(\"width\",F13)","v":16},{"$f":"CELL(\"width\",G13)","v":21},null,{"$f":"CELL(\"width\",I13)","v":21},null,{"$f":"CELL(\"width\",K13)","v":41},null,{"$f":"CELL(\"width\",M13)","v":0},0,0,0,0,0,0]
["Last Tab Tabsheet Starter Row",9,"A","B","C","D","E",null,"F",null,"G",null,{"$f":"LOWER(C14)","v":"a"},{"$f":"LOWER(D14)","v":"b"},{"$f":"LOWER(E14)","v":"c"},{"$f":"LOWER(F14)","v":"d"},{"$f":"LOWER(G14)","v":"e"},{"$f":"LOWER(I14)","v":"f"},{"$f":"LOWER(K14)","v":"g"}]
["Last Copy Starter Row",1,null,null,null,"Totals:",{"$f":"SUBTOTAL(9,G23:G6000)","v":96},null,{"$f":"SUBTOTAL(9,I23:I6000)","v":72},null,null,null,"103-10"]
["Tab Loop Number",2,"TOPSOIL STRIPPING AND PLACEMENT",null,null,null,null,null,null,null,null,null,{"$f":"B17","v":"2017-04-18"}]
["Revision Date","2017-04-18",null,null,null,null,null,null,null,null,null,null,{"$f":"C16","v":"TOPSOIL STRIPPING AND PLACEMENT"}]
["Tabulation Width",2,{"$f":"\"This Data Entry Sheet fills Tab \"&M15&\" effective \"&TEXT(B17,\"mm-dd-yy\")","v":"This Data Entry Sheet fills Tab 103-10 effective 04-18-17"}]
["Horizontal Grid Lines","Yes","Location",null,null,null,"Topsoil Stripping Thickness",null,"Topsoil Placement Thickness",null,"Remarks",null,{"$f":"C19","v":"Location"},null,null,null,{"$f":"G19","v":"Topsoil Stripping Thickness"},{"$f":"I19","v":"Topsoil Placement Thickness"},{"$f":"K19","v":"Remarks"}]
[null,null,"Road Identification","Dir. of Traffic","Begin Station","End Station",null,null,null,null,null,null,{"$f":"C20","v":"Road Identification"},{"$f":"D20","v":"Dir. of Traffic"},{"$f":"E20","v":"Begin Station"},{"$f":"F20","v":"End Station"}]
[]
[null,null,null,null,null,null,"IN","FT","IN","FT",null,null,null,null,null,null,{"$f":"G22","v":"IN"},{"$f":"I22","v":"IN"}]
[null,null,"US 30 Eastbound","EB",138000,151670,9,{"$f":"IF(G23<>\"\",G23/12,\"\")","v":0.75},{"$f":"IF(G23<>\"\",8,\"\")","v":8},{"$f":"IF(I23<>\"\",I23/12,\"\")","v":0.66666666666666663}]
[null,null,"US 30 Westbound","WB",138900,151670,9,0.75,8,0.66666666666666663]
[null,null,"US 218 / 24th Ave.",null,24145005,24150300,12,1,8,0.66666666666666663]
[null,null,"Loop A",null,1147915,1148664.72,12,1,8,0.66666666666666663]
[null,null,"Loop B",null,2147225,2147975.06,12,1,8,0.66666666666666663]
[null,null,"Ramp C",null,3144041.75,3145646.34,12,1,8,0.66666666666666663]
[null,null,"Ramp D",null,4147426.45,4148996.32,12,1,8,0.66666666666666663]
[null,null,"23rd Ave.",null,23141675,23142700,6,0.5,8,0.66666666666666663]
[null,null,"Youngville Café Access",null,0,1275,12,1,8,0.66666666666666663]
[null,null,null,null,null,null,null,"","",""]
[null,null,null,null,null,null,null,"","",""]
[null,null,null,null,null,null,null,"","",""]
[null,null,null,null,null,null,null,"","",""]
[null,null,null,null,null,null,null,"","",""]
[null,null,null,null,null,null,null,"","",""]
[null,null,null,null,null,null,null,"","",""]
[null,null,null,null,null,null,null,"","",""]
[null,null,null,null,null,null,null,"","",""]
[null,null,null,null,null,null,null,"","",""]
[null,null,null,null,null,null,null,"","",""]
[null,null,null,null,null,null,null,"","",""]
[null,null,null,null,null,null,null,"","",""]
[null,null,null,null,null,null,null,"","",""]
[null,null,null,null,null,null,null,"","",""]
[null,null,null,null,null,null,null,"","",""]
[null,null,null,null,null,null,null,"","",""]
[null,null,null,null,null,null,null,"","",""]
[null,null,null,null,null,null,null,"","",""]
[null,null,null,null,null,null,null,"","",""]
[null,null,null,null,null,null,null,"","",""]
[null,null,null,null,null,null,null,"","",""]
[null,null,null,null,null,null,null,"","",""]
[null,null,null,null,null,null,null,"","",""]
[null,null,null,null,null,null,null,"","",""]
[null,null,null,null,null,null,null,"","",""]
[null,null,null,null,null,null,null,"","",""]
[null,null,null,null,null,null,null,"","",""]
[null,null,null,null,null,null,null,"","",""]
[null,null,null,null,null,null,null,"","",""]
[null,null,null,null,null,null,null,"","",""]
[null,null,null,null,null,null,null,"","",""]
[null,null,null,null,null,null,null,"","",""]
[null,null,null,null,null,null,null,"","",""]
[null,null,null,null,null,null,null,"","",""]
[null,null,null,null,null,null,null,"","",""]
[null,null,null,null,null,null,null,"","",""]
[null,null,null,null,null,null,null,"","",""]
[null,null,null,null,null,null,null,"","",""]
[null,null,null,null,null,null,null,"","",""]
[null,null,null,null,null,null,null,"","",""]
[null,null,null,null,null,null,null,"","",""]
[null,null,null,null,null,null,null,"","",""]
[null,null,null,null,null,null,null,"","",""]
[null,null,null,null,null,null,null,"","",""]
[null,null,null,null,null,null,null,"","",""]
[null,null,null,null,null,null,null,"","",""]
[null,null,null,null,null,null,null,"","",""]
[null,null,null,null,null,null,null,"","",""]
[null,null,null,null,null,null,null,"","",""]
[null,null,null,null,null,null,null,"","",""]
[null,null,null,null,null,null,null,"","",""]
[null,null,null,null,null,null,null,"","",""]
[null,null,null,null,null,null,null,"","",""]
[null,null,null,null,null,null,null,"","",""]
[null,null,null,null,null,null,null,{"$f":"IF(G87<>\"\",G87/12,\"\")","v":""},{"$f":"IF(G87<>\"\",8,\"\")","v":""},{"$f":"IF(I87<>\"\",I87/12,\"\")","v":""}]
[null,null,null,null,null,null,null,"","",""]
[null,null,null,null,null,null,null,"","",""]
[null,null,null,null,null,null,null,"","",""]
[null,null,null,null,null,null,null,"","",""]
[null,null,null,null,null,null,null,"","",""]
[null,null,null,null,null,null,null,"","",""]
[null,null,null,null,null,null,null,"","",""]
[null,null,null,null,null,null,null,"","",""]
[null,null,null,null,null,null,null,"","",""]
[null,null,null,null,null,null,null,"","",""]
[null,null,null,null,null,null,null,"","",""]
[null,null,null,null,null,null,null,"","",""]
[null,null,null,null,null,null,null,"","",""]
[null,null,null,null,null,null,null,"","",""]
[null,null,null,null,null,null,null,"","",""]
[null,null,null,null,null,null,null,"","",""]
[null,null,null,null,null,null,null,"","",""]
[null,null,null,null,null,null,null,"","",""]
[null,null,null,null,null,null,null,"","",""]
[null,null,null,null,null,null,null,"","",""]
[null,null,null,null,null,null,null,"","",""]
[null,null,null,null,null,null,null,"","",""]
[null,null,null,null,null,null,null,"","",""]
[null,null,null,null,null,null,null,"","",""]
[null,null,null,null,null,null,null,"","",""]
[null,null,null,null,null,null,null,"","",""]
[null,null,null,null,null,null,null,"","",""]
[null,null,null,null,null,null,null,"","",""]
[null,null,null,null,null,null,null,"","",""]
[null,null,null,null,null,null,null,"","",""]
[null,null,null,null,null,null,null,"","",""]
[null,null,null,null,null,null,null,"","",""]
[null,null,null,null,null,null,null,"","",""]
[null,null,null,null,null,null,null,"","",""]
[null,null,null,null,null,null,null,"","",""]
[null,null,null,null,null,null,null,"","",""]
[null,null,null,null,null,null,null,"","",""]
[null,null,null,null,null,null,null,"","",""]
[null,null,null,null,null,null,null,"","",""]
[null,null,null,null,null,null,null,"","",""]
[null,null,null,null,null,null,null,"","",""]
[null,null,null,null,null,null,null,"","",""]
[null,null,null,null,null,null,null,"","",""]
[null,null,null,null,null,null,null,"","",""]
[null,null,null,null,null,null,null,"","",""]
[null,null,null,null,null,null,null,"","",""]
[null,null,null,null,null,null,null,"","",""]
[null,null,null,null,null,null,null,"","",""]
[null,null,null,null,null,null,null,"","",""]
[null,null,null,null,null,null,null,"","",""]
[null,null,null,null,null,null,null,"","",""]
[null,null,null,null,null,null,null,"","",""]
[null,null,null,null,null,null,null,"","",""]
[null,null,null,null,null,null,null,"","",""]
[null,null,null,null,null,null,null,"","",""]
[null,null,null,null,null,null,null,"","",""]
[null,null,null,null,null,null,null,"","",""]
[null,null,null,null,null,null,null,"","",""]
[null,null,null,null,null,null,null,"","",""]
[null,null,null,null,null,null,null,"","",""]
[null,null,null,null,null,null,null,"","",""]
[null,null,null,null,null,null,null,"","",""]
[null,null,null,null,null,null,null,"","",""]
[null,null,null,null,null,null,null,{"$f":"IF(G151<>\"\",G151/12,\"\")","v":""},{"$f":"IF(G151<>\"\",8,\"\")","v":""},{"$f":"IF(I151<>\"\",I151/12,\"\")","v":""}]
[null,null,null,null,null,null,null,"","",""]
[null,null,null,null,null,null,null,"","",""]
[null,null,null,null,null,null,null,"","",""]
[null,null,null,null,null,null,null,"","",""]
[null,null,null,null,null,null,null,"","",""]
[null,null,null,null,null,null,null,"","",""]
[null,null,null,null,null,null,null,"","",""]
[null,null,null,null,null,null,null,"","",""]
[null,null,null,null,null,null,null,"","",""]
[null,null,null,null,null,null,null,"","",""]
[null,null,null,null,null,null,null,"","",""]
[null,null,null,null,null,null,null,"","",""]
[null,null,null,null,null,null,null,"","",""]
[null,null,null,null,null,null,null,"","",""]
[null,null,null,null,null,null,null,"","",""]
[null,null,null,null,null,null,null,"","",""]
[null,null,null,null,null,null,null,"","",""]
[null,null,null,null,null,null,null,"","",""]
[null,null,null,null,null,null,null,"","",""]
[null,null,null,null,null,null,null,"","",""]
[null,null,null,null,null,null,null,"","",""]
[null,null,null,null,null,null,null,"","",""]
[null,null,null,null,null,null,null,"","",""]
[null,null,null,null,null,null,null,"","",""]
[null,null,null,null,null,null,null,"","",""]
[null,null,null,null,null,null,null,"","",""]
[null,null,null,null,null,null,null,"","",""]
[null,null,null,null,null,null,null,"","",""]
[null,null,null,null,null,null,null,"","",""]
[null,null,null,null,null,null,null,"","",""]
[null,null,null,null,null,null,null,"","",""]
[null,null,null,null,null,null,null,"","",""]
[null,null,null,null,null,null,null,"","",""]
[null,null,null,null,null,null,null,"","",""]
[null,null,null,null,null,null,null,"","",""]
[null,null,null,null,null,null,null,"","",""]
[null,null,null,null,null,null,null,"","",""]
[null,null,null,null,null,null,null,"","",""]
[null,null,null,null,null,null,null,"","",""]
[null,null,null,null,null,null,null,"","",""]
[null,null,null,null,null,null,null,"","",""]
[null,null,null,null,null,null,null,"","",""]
[null,null,null,null,null,null,null,"","",""]
[null,null,null,null,null,null,null,"","",""]
[null,null,null,null,null,null,null,"","",""]
[null,null,null,null,null,null,null,"","",""]
[null,null,null,null,null,null,null,"","",""]
[null,null,null,null,null,null,null,"","",""]
[null,null,null,null,null,null,null,"","",""]
[null,null,null,null,null,null,null,"","",""]
[null,null,null,null,null,null,null,"","",""]
[null,null,null,null,null,null,null,"","",""]
[null,null,null,null,null,null,null,"","",""]
[null,null,null,null,null,null,null,"","",""]
[null,null,null,null,null,null,null,"","",""]
[null,null,null,null,null,null,null,"","",""]
[null,null,null,null,null,null,null,"","",""]
[null,null,null,null,null,null,null,"","",""]
[null,null,null,null,null,null,null,"","",""]
[null,null,null,null,null,null,null,"","",""]
[null,null,null,null,null,null,null,"","",""]
[null,null,null,null,null,null,null,"","",""]
[null,null,null,null,null,null,null,"","",""]
[null,null,null,null,null,null,null,{"$f":"IF(G215<>\"\",G215/12,\"\")","v":""},{"$f":"IF(G215<>\"\",8,\"\")","v":""},{"$f":"IF(I215<>\"\",I215/12,\"\")","v":""}]
[null,null,null,null,null,null,null,"","",""]
[null,null,null,null,null,null,null,"","",""]
[null,null,null,null,null,null,null,"","",""]
[null,null,null,null,null,null,null,"","",""]
[null,null,null,null,null,null,null,"","",""]
[null,null,null,null,null,null,null,"","",""]
[null,null,null,null,null,null,null,"","",""]
[null,null,null,null,null,null,null,"","",""]
[null,null,null,null,null,null,null,"","",""]
[null,null,null,null,null,null,null,"","",""]
[null,null,null,null,null,null,null,"","",""]
[null,null,null,null,null,null,null,"","",""]
[null,null,null,null,null,null,null,"","",""]
[null,null,null,null,null,null,null,"","",""]
[null,null,null,null,null,null,null,"","",""]
[null,null,null,null,null,null,null,"","",""]
[null,null,null,null,null,null,null,"","",""]
[null,null,null,null,null,null,null,"","",""]
[null,null,null,null,null,null,null,"","",""]
[null,null,null,null,null,null,null,"","",""]
[null,null,null,null,null,null,null,"","",""]
[null,null,null,null,null,null,null,"","",""]
[null,null,null,null,null,null,null,"","",""]
[null,null,null,null,null,null,null,"","",""]
[null,null,null,null,null,null,null,"","",""]
[null,null,null,null,null,null,null,"","",""]
[null,null,null,null,null,null,null,"","",""]
[null,null,null,null,null,null,null,"","",""]
[null,null,null,null,null,null,null,"","",""]
[null,null,null,null,null,null,null,"","",""]
[null,null,null,null,null,null,null,"","",""]
[null,null,null,null,null,null,null,"","",""]
[null,null,null,null,null,null,null,"","",""]
[null,null,null,null,null,null,null,"","",""]
[null,null,null,null,null,null,null,"","",""]
[null,null,null,null,null,null,null,"","",""]
[null,null,null,null,null,null,null,"","",""]
[null,null,null,null,null,null,null,"","",""]
[null,null,null,null,null,null,null,"","",""]
[null,null,null,null,null,null,null,"","",""]
[null,null,null,null,null,null,null,"","",""]
[null,null,null,null,null,null,null,"","",""]
[null,null,null,null,null,null,null,"","",""]
[null,null,null,null,null,null,null,"","",""]
[null,null,null,null,null,null,null,"","",""]
[null,null,null,null,null,null,null,"","",""]
[null,null,null,null,null,null,null,"","",""]
[null,null,null,null,null,null,null,"","",""]
[null,null,null,null,null,null,null,"","",""]
[null,null,null,null,null,null,null,"","",""]
[null,null,null,null,null,null,null,"","",""]
[null,null,null,null,null,null,null,"","",""]
[null,null,null,null,null,null,null,"","",""]
[null,null,null,null,null,null,null,"","",""]
[null,null,null,null,null,null,null,"","",""]
[null,null,null,null,null,null,null,"","",""]
[null,null,null,null,null,null,null,"","",""]
[null,null,null,null,null,null,null,"","",""]
[null,null,null,null,null,null,null,"","",""]
[null,null,null,null,null,null,null,"","",""]
[null,null,null,null,null,null,null,"","",""]
[null,null,null,null,null,null,null,"","",""]
[null,null,null,null,null,null,null,"","",""]
[null,null,null,null,null,null,null,{"$f":"IF(G279<>\"\",G279/12,\"\")","v":""},{"$f":"IF(G279<>\"\",8,\"\")","v":""},{"$f":"IF(I279<>\"\",I279/12,\"\")","v":""}]
[null,null,null,null,null,null,null,"","",""]
[null,null,null,null,null,null,null,"","",""]
[null,null,null,null,null,null,null,"","",""]
[null,null,null,null,null,null,null,"","",""]
[null,null,null,null,null,null,null,"","",""]
[null,null,null,null,null,null,null,"","",""]
[null,null,null,null,null,null,null,"","",""]
[null,null,null,null,null,null,null,"","",""]
[null,null,null,null,null,null,null,"","",""]
[null,null,null,null,null,null,null,"","",""]
[null,null,null,null,null,null,null,"","",""]
[null,null,null,null,null,null,null,"","",""]
[null,null,null,null,null,null,null,"","",""]
[null,null,null,null,null,null,null,"","",""]
[null,null,null,null,null,null,null,"","",""]
[null,null,null,null,null,null,null,"","",""]
[null,null,null,null,null,null,null,"","",""]
[null,null,null,null,null,null,null,"","",""]
[null,null,null,null,null,null,null,"","",""]
[null,null,null,null,null,null,null,"","",""]
[null,null,null,null,null,null,null,"","",""]
[null,null,null,null,null,null,null,"","",""]
[null,null,null,null,null,null,null,"","",""]
[null,null,null,null,null,null,null,"","",""]
[null,null,null,null,null,null,null,"","",""]
[null,null,null,null,null,null,null,"","",""]
[null,null,null,null,null,null,null,"","",""]
[null,null,null,null,null,null,null,"","",""]
[null,null,null,null,null,null,null,"","",""]
[null,null,null,null,null,null,null,"","",""]
[null,null,null,null,null,null,null,"","",""]
[null,null,null,null,null,null,null,"","",""]
[null,null,null,null,null,null,null,"","",""]
[null,null,null,null,null,null,null,"","",""]
[null,null,null,null,null,null,null,"","",""]
[null,null,null,null,null,null,null,"","",""]
[null,null,null,null,null,null,null,"","",""]
[null,null,null,null,null,null,null,"","",""]
[null,null,null,null,null,null,null,"","",""]
[null,null,null,null,null,null,null,"","",""]
[null,null,null,null,null,null,null,"","",""]
[null,null,null,null,null,null,null,"","",""]
[null,null,null,null,null,null,null,"","",""]
[null,null,null,null,null,null,null,"","",""]
[null,null,null,null,null,null,null,"","",""]
[null,null,null,null,null,null,null,"","",""]
[null,null,null,null,null,null,null,"","",""]
[null,null,null,null,null,null,null,"","",""]
[null,null,null,null,null,null,null,"","",""]
[null,null,null,null,null,null,null,"","",""]
[null,null,null,null,null,null,null,"","",""]
[null,null,null,null,null,null,null,"","",""]
[null,null,null,null,null,null,null,"","",""]
[null,null,null,null,null,null,null,"","",""]
[null,null,null,null,null,null,null,"","",""]
[null,null,null,null,null,null,null,"","",""]
[null,null,null,null,null,null,null,"","",""]
[null,null,null,null,null,null,null,"","",""]
[null,null,null,null,null,null,null,"","",""]
[null,null,null,null,null,null,null,"","",""]
[null,null,null,null,null,null,null,"","",""]
[null,null,null,null,null,null,null,"","",""]
[null,null,null,null,null,null,null,"","",""]
[null,null,null,null,null,null,null,{"$f":"IF(G343<>\"\",G343/12,\"\")","v":""},{"$f":"IF(G343<>\"\",8,\"\")","v":""},{"$f":"IF(I343<>\"\",I343/12,\"\")","v":""}]
[null,null,null,null,null,null,null,"","",""]
[null,null,null,null,null,null,null,"","",""]
[null,null,null,null,null,null,null,"","",""]
[null,null,null,null,null,null,null,"","",""]
[null,null,null,null,null,null,null,"","",""]
[null,null,null,null,null,null,null,"","",""]
[null,null,null,null,null,null,null,"","",""]
[null,null,null,null,null,null,null,"","",""]
[null,null,null,null,null,null,null,"","",""]
[null,null,null,null,null,null,null,"","",""]
[null,null,null,null,null,null,null,"","",""]
[null,null,null,null,null,null,null,"","",""]
[null,null,null,null,null,null,null,"","",""]
[null,null,null,null,null,null,null,"","",""]
[null,null,null,null,null,null,null,"","",""]
[null,null,null,null,null,null,null,"","",""]
[null,null,null,null,null,null,null,"","",""]
[null,null,null,null,null,null,null,"","",""]
[null,null,null,null,null,null,null,"","",""]
[null,null,null,null,null,null,null,"","",""]
[null,null,null,null,null,null,null,"","",""]
[null,null,null,null,null,null,null,"","",""]
[null,null,null,null,null,null,null,"","",""]
[null,null,null,null,null,null,null,"","",""]
[null,null,null,null,null,null,null,"","",""]
[null,null,null,null,null,null,null,"","",""]
[null,null,null,null,null,null,null,"","",""]
[null,null,null,null,null,null,null,"","",""]
[null,null,null,null,null,null,null,"","",""]
[null,null,null,null,null,null,null,"","",""]
[null,null,null,null,null,null,null,"","",""]
[null,null,null,null,null,null,null,"","",""]
[null,null,null,null,null,null,null,"","",""]
[null,null,null,null,null,null,null,"","",""]
[null,null,null,null,null,null,null,"","",""]
[null,null,null,null,null,null,null,"","",""]
[null,null,null,null,null,null,null,"","",""]
[null,null,null,null,null,null,null,"","",""]
[null,null,null,null,null,null,null,"","",""]
[null,null,null,null,null,null,null,"","",""]
[null,null,null,null,null,null,null,"","",""]
[null,null,null,null,null,null,null,"","",""]
[null,null,null,null,null,null,null,"","",""]
[null,null,null,null,null,null,null,"","",""]
[null,null,null,null,null,null,null,"","",""]
[null,null,null,null,null,null,null,"","",""]
[null,null,null,null,null,null,null,"","",""]
[null,null,null,null,null,null,null,"","",""]
[null,null,null,null,null,null,null,"","",""]
[null,null,null,null,null,null,null,"","",""]
[null,null,null,null,null,null,null,"","",""]
[null,null,null,null,null,null,null,"","",""]
[null,null,null,null,null,null,null,"","",""]
[null,null,null,null,null,null,null,"","",""]
[null,null,null,null,null,null,null,"","",""]
[null,null,null,null,null,null,null,"","",""]
[null,null,null,null,null,null,null,"","",""]
[null,null,null,null,null,null,null,"","",""]
[null,null,null,null,null,null,null,"","",""]
[null,null,null,null,null,null,null,"","",""]
[null,null,null,null,null,null,null,"","",""]
[null,null,null,null,null,null,null,"","",""]
[null,null,null,null,null,null,null,"","",""]
[null,null,null,null,null,null,null,{"$f":"IF(G407<>\"\",G407/12,\"\")","v":""},{"$f":"IF(G407<>\"\",8,\"\")","v":""},{"$f":"IF(I407<>\"\",I407/12,\"\")","v":""}]
[null,null,null,null,null,null,null,"","",""]
[null,null,null,null,null,null,null,"","",""]
[null,null,null,null,null,null,null,"","",""]
[null,null,null,null,null,null,null,"","",""]
[null,null,null,null,null,null,null,"","",""]
[null,null,null,null,null,null,null,"","",""]
[null,null,null,null,null,null,null,"","",""]
[null,null,null,null,null,null,null,"","",""]
[null,null,null,null,null,null,null,"","",""]
[null,null,null,null,null,null,null,"","",""]
[null,null,null,null,null,null,null,"","",""]
[null,null,null,null,null,null,null,"","",""]
[null,null,null,null,null,null,null,"","",""]
[null,null,null,null,null,null,null,"","",""]
[null,null,null,null,null,null,null,"","",""]
[null,null,null,null,null,null,null,"","",""]
[null,null,null,null,null,null,null,"","",""]
[null,null,null,null,null,null,null,"","",""]
[null,null,null,null,null,null,null,"","",""]
[null,null,null,null,null,null,null,"","",""]
[null,null,null,null,null,null,null,"","",""]
[null,null,null,null,null,null,null,"","",""]
[null,null,null,null,null,null,null,"","",""]
[null,null,null,null,null,null,null,"","",""]
[null,null,null,null,null,null,null,"","",""]
[null,null,null,null,null,null,null,"","",""]
[null,null,null,null,null,null,null,"","",""]
[null,null,null,null,null,null,null,"","",""]
[null,null,null,null,null,null,null,"","",""]
[null,null,null,null,null,null,null,"","",""]
[null,null,null,null,null,null,null,"","",""]
[null,null,null,null,null,null,null,"","",""]
[null,null,null,null,null,null,null,"","",""]
[null,null,null,null,null,null,null,"","",""]
[null,null,null,null,null,null,null,"","",""]
[null,null,null,null,null,null,null,"","",""]
[null,null,null,null,null,null,null,"","",""]
[null,null,null,null,null,null,null,"","",""]
[null,null,null,null,null,null,null,"","",""]
[null,null,null,null,null,null,null,"","",""]
[null,null,null,null,null,null,null,"","",""]
[null,null,null,null,null,null,null,"","",""]
[null,null,null,null,null,null,null,"","",""]
[null,null,null,null,null,null,null,"","",""]
[null,null,null,null,null,null,null,"","",""]
[null,null,null,null,null,null,null,"","",""]
[null,null,null,null,null,null,null,"","",""]
[null,null,null,null,null,null,null,"","",""]
[null,null,null,null,null,null,null,"","",""]
[null,null,null,null,null,null,null,"","",""]
[null,null,null,null,null,null,null,"","",""]
[null,null,null,null,null,null,null,"","",""]
[null,null,null,null,null,null,null,"","",""]
[null,null,null,null,null,null,null,"","",""]
[null,null,null,null,null,null,null,"","",""]
[null,null,null,null,null,null,null,"","",""]
[null,null,null,null,null,null,null,"","",""]
[null,null,null,null,null,null,null,"","",""]
[null,null,null,null,null,null,null,"","",""]
[null,null,null,null,null,null,null,"","",""]
[null,null,null,null,null,null,null,"","",""]
[null,null,null,null,null,null,null,"","",""]
[null,null,null,null,null,null,null,"","",""]
[null,null,null,null,null,null,null,{"$f":"IF(G471<>\"\",G471/12,\"\")","v":""},{"$f":"IF(G471<>\"\",8,\"\")","v":""},{"$f":"IF(I471<>\"\",I471/12,\"\")","v":""}]
[null,null,null,null,null,null,null,"","",""]
[null,null,null,null,null,null,null,"","",""]
[null,null,null,null,null,null,null,"","",""]
[null,null,null,null,null,null,null,"","",""]
[null,null,null,null,null,null,null,"","",""]
[null,null,null,null,null,null,null,"","",""]
[null,null,null,null,null,null,null,"","",""]
[null,null,null,null,null,null,null,"","",""]
[null,null,null,null,null,null,null,"","",""]
[null,null,null,null,null,null,null,"","",""]
[null,null,null,null,null,null,null,"","",""]
[null,null,null,null,null,null,null,"","",""]
[null,null,null,null,null,null,null,"","",""]
[null,null,null,null,null,null,null,"","",""]
[null,null,null,null,null,null,null,"","",""]
[null,null,null,null,null,null,null,"","",""]
[null,null,null,null,null,null,null,"","",""]
[null,null,null,null,null,null,null,"","",""]
[null,null,null,null,null,null,null,"","",""]
[null,null,null,null,null,null,null,"","",""]
[null,null,null,null,null,null,null,"","",""]
[null,null,null,null,null,null,null,"","",""]
[null,null,null,null,null,null,null,"","",""]
[null,null,null,null,null,null,null,"","",""]
[null,null,null,null,null,null,null,"","",""]
[null,null,null,null,null,null,null,"","",""]
[null,null,null,null,null,null,null,"","",""]
[null,null,null,null,null,null,null,"","",""]
[null,null,null,null,null,null,null,"","",""]
[null,null,null,null,null,null,null,"","",""]
[null,null,null,null,null,null,null,"","",""]
[null,null,null,null,null,null,null,"","",""]
[null,null,null,null,null,null,null,"","",""]
[null,null,null,null,null,null,null,"","",""]
[null,null,null,null,null,null,null,"","",""]
[null,null,null,null,null,null,null,"","",""]
[null,null,null,null,null,null,null,"","",""]
[null,null,null,null,null,null,null,"","",""]
[null,null,null,null,null,null,null,"","",""]
[null,null,null,null,null,null,null,"","",""]
[null,null,null,null,null,null,null,"","",""]
[null,null,null,null,null,null,null,"","",""]
[null,null,null,null,null,null,null,"","",""]
[null,null,null,null,null,null,null,"","",""]
[null,null,null,null,null,null,null,"","",""]
[null,null,null,null,null,null,null,"","",""]
[null,null,null,null,null,null,null,"","",""]
[null,null,null,null,null,null,null,"","",""]
[null,null,null,null,null,null,null,"","",""]
[null,null,null,null,null,null,null,"","",""]
[null,null,null,null,null,null,null,"","",""]
[null,null,null,null,null,null,null,"","",""]
[null,null,null,null,null,null,null,"","",""]
[null,null,null,null,null,null,null,"","",""]
[null,null,null,null,null,null,null,"","",""]
[null,null,null,null,null,null,null,"","",""]
[null,null,null,null,null,null,null,"","",""]
[null,null,null,null,null,null,null,"","",""]
[null,null,null,null,null,null,null,"","",""]
[null,null,null,null,null,null,null,"","",""]
[null,null,null,null,null,null,null,"","",""]
[null,null,null,null,null,null,null,"","",""]
[null,null,null,null,null,null,null,"","",""]
[null,null,null,null,null,null,null,{"$f":"IF(G535<>\"\",G535/12,\"\")","v":""},{"$f":"IF(G535<>\"\",8,\"\")","v":""},{"$f":"IF(I535<>\"\",I535/12,\"\")","v":""}]
[null,null,null,null,null,null,null,"","",""]
[null,null,null,null,null,null,null,"","",""]
[null,null,null,null,null,null,null,"","",""]
[null,null,null,null,null,null,null,"","",""]
[null,null,null,null,null,null,null,"","",""]
[null,null,null,null,null,null,null,"","",""]
[null,null,null,null,null,null,null,"","",""]
[null,null,null,null,null,null,null,"","",""]
[null,null,null,null,null,null,null,"","",""]
[null,null,null,null,null,null,null,"","",""]
[null,null,null,null,null,null,null,"","",""]
[null,null,null,null,null,null,null,"","",""]
[null,null,null,null,null,null,null,"","",""]
[null,null,null,null,null,null,null,"","",""]
[null,null,null,null,null,null,null,"","",""]
[null,null,null,null,null,null,null,"","",""]
[null,null,null,null,null,null,null,"","",""]
[null,null,null,null,null,null,null,"","",""]
[null,null,null,null,null,null,null,"","",""]
[null,null,null,null,null,null,null,"","",""]
[null,null,null,null,null,null,null,"","",""]
[null,null,null,null,null,null,null,"","",""]
[null,null,null,null,null,null,null,"","",""]
[null,null,null,null,null,null,null,"","",""]
[null,null,null,null,null,null,null,"","",""]
[null,null,null,null,null,null,null,"","",""]
[null,null,null,null,null,null,null,"","",""]
[null,null,null,null,null,null,null,"","",""]
[null,null,null,null,null,null,null,"","",""]
[null,null,null,null,null,null,null,"","",""]
[null,null,null,null,null,null,null,"","",""]
[null,null,null,null,null,null,null,"","",""]
[null,null,null,null,null,null,null,"","",""]
[null,null,null,null,null,null,null,"","",""]
[null,null,null,null,null,null,null,"","",""]
[null,null,null,null,null,null,null,"","",""]
[null,null,null,null,null,null,null,"","",""]
[null,null,null,null,null,null,null,"","",""]
[null,null,null,null,null,null,null,"","",""]
[null,null,null,null,null,null,null,"","",""]
[null,null,null,null,null,null,null,"","",""]
[null,null,null,null,null,null,null,"","",""]
[null,null,null,null,null,null,null,"","",""]
[null,null,null,null,null,null,null,"","",""]
[null,null,null,null,null,null,null,"","",""]
[null,null,null,null,null,null,null,"","",""]
[null,null,null,null,null,null,null,"","",""]
[null,null,null,null,null,null,null,"","",""]
[null,null,null,null,null,null,null,"","",""]
[null,null,null,null,null,null,null,"","",""]
[null,null,null,null,null,null,null,"","",""]
[null,null,null,null,null,null,null,"","",""]
[null,null,null,null,null,null,null,"","",""]
[null,null,null,null,null,null,null,"","",""]
[null,null,null,null,null,null,null,"","",""]
[null,null,null,null,null,null,null,"","",""]
[null,null,null,null,null,null,null,"","",""]
[null,null,null,null,null,null,null,"","",""]
[null,null,null,null,null,null,null,"","",""]
[null,null,null,null,null,null,null,"","",""]
[null,null,null,null,null,null,null,"","",""]
[null,null,null,null,null,null,null,"","",""]
[null,null,null,null,null,null,null,"","",""]
[null,null,null,null,null,null,null,{"$f":"IF(G599<>\"\",G599/12,\"\")","v":""},{"$f":"IF(G599<>\"\",8,\"\")","v":""},{"$f":"IF(I599<>\"\",I599/12,\"\")","v":""}]
[null,null,null,null,null,null,null,"","",""]
[null,null,null,null,null,null,null,"","",""]
[null,null,null,null,null,null,null,"","",""]
[null,null,null,null,null,null,null,"","",""]
[null,null,null,null,null,null,null,"","",""]
[null,null,null,null,null,null,null,"","",""]
[null,null,null,null,null,null,null,"","",""]
[null,null,null,null,null,null,null,"","",""]
[null,null,null,null,null,null,null,"","",""]
[null,null,null,null,null,null,null,"","",""]
[null,null,null,null,null,null,null,"","",""]
[null,null,null,null,null,null,null,"","",""]
[null,null,null,null,null,null,null,"","",""]
[null,null,null,null,null,null,null,"","",""]
[null,null,null,null,null,null,null,"","",""]
[null,null,null,null,null,null,null,"","",""]
[null,null,null,null,null,null,null,"","",""]
[null,null,null,null,null,null,null,"","",""]
[null,null,null,null,null,null,null,"","",""]
[null,null,null,null,null,null,null,"","",""]
[null,null,null,null,null,null,null,"","",""]
[null,null,null,null,null,null,null,"","",""]
[null,null,null,null,null,null,null,"","",""]
[null,null,null,null,null,null,null,"","",""]
[null,null,null,null,null,null,null,"","",""]
[null,null,null,null,null,null,null,"","",""]
[null,null,null,null,null,null,null,"","",""]
[null,null,null,null,null,null,null,"","",""]
[null,null,null,null,null,null,null,"","",""]
[null,null,null,null,null,null,null,"","",""]
[null,null,null,null,null,null,null,"","",""]
[null,null,null,null,null,null,null,"","",""]
[null,null,null,null,null,null,null,"","",""]
[null,null,null,null,null,null,null,"","",""]
[null,null,null,null,null,null,null,"","",""]
[null,null,null,null,null,null,null,"","",""]
[null,null,null,null,null,null,null,"","",""]
[null,null,null,null,null,null,null,"","",""]
[null,null,null,null,null,null,null,"","",""]
[null,null,null,null,null,null,null,"","",""]
[null,null,null,null,null,null,null,"","",""]
[null,null,null,null,null,null,null,"","",""]
[null,null,null,null,null,null,null,"","",""]
[null,null,null,null,null,null,null,"","",""]
[null,null,null,null,null,null,null,"","",""]
[null,null,null,null,null,null,null,"","",""]
[null,null,null,null,null,null,null,"","",""]
[null,null,null,null,null,null,null,"","",""]
[null,null,null,null,null,null,null,"","",""]
[null,null,null,null,null,null,null,"","",""]
[null,null,null,null,null,null,null,"","",""]
[null,null,null,null,null,null,null,"","",""]
[null,null,null,null,null,null,null,"","",""]
[null,null,null,null,null,null,null,"","",""]
[null,null,null,null,null,null,null,"","",""]
[null,null,null,null,null,null,null,"","",""]
[null,null,null,null,null,null,null,"","",""]
[null,null,null,null,null,null,null,"","",""]
[null,null,null,null,null,null,null,"","",""]
[null,null,null,null,null,null,null,"","",""]
[null,null,null,null,null,null,null,"","",""]
[null,null,null,null,null,null,null,"","",""]
[null,null,null,null,null,null,null,"","",""]
[null,null,null,null,null,null,null,{"$f":"IF(G663<>\"\",G663/12,\"\")","v":""},{"$f":"IF(G663<>\"\",8,\"\")","v":""},{"$f":"IF(I663<>\"\",I663/12,\"\")","v":""}]
[null,null,null,null,null,null,null,"","",""]
[null,null,null,null,null,null,null,"","",""]
[null,null,null,null,null,null,null,"","",""]
[null,null,null,null,null,null,null,"","",""]
[null,null,null,null,null,null,null,"","",""]
[null,null,null,null,null,null,null,"","",""]
[null,null,null,null,null,null,null,"","",""]
[null,null,null,null,null,null,null,"","",""]
[null,null,null,null,null,null,null,"","",""]
[null,null,null,null,null,null,null,"","",""]
[null,null,null,null,null,null,null,"","",""]
[null,null,null,null,null,null,null,"","",""]
[null,null,null,null,null,null,null,"","",""]
[null,null,null,null,null,null,null,"","",""]
[null,null,null,null,null,null,null,"","",""]
[null,null,null,null,null,null,null,"","",""]
[null,null,null,null,null,null,null,"","",""]
[null,null,null,null,null,null,null,"","",""]
[null,null,null,null,null,null,null,"","",""]
[null,null,null,null,null,null,null,"","",""]
[null,null,null,null,null,null,null,"","",""]
[null,null,null,null,null,null,null,"","",""]
[null,null,null,null,null,null,null,"","",""]
[null,null,null,null,null,null,null,"","",""]
[null,null,null,null,null,null,null,"","",""]
[null,null,null,null,null,null,null,"","",""]
[null,null,null,null,null,null,null,"","",""]
[null,null,null,null,null,null,null,"","",""]
[null,null,null,null,null,null,null,"","",""]
[null,null,null,null,null,null,null,"","",""]
[null,null,null,null,null,null,null,"","",""]
[null,null,null,null,null,null,null,"","",""]
[null,null,null,null,null,null,null,"","",""]
[null,null,null,null,null,null,null,"","",""]
[null,null,null,null,null,null,null,"","",""]
[null,null,null,null,null,null,null,"","",""]
[null,null,null,null,null,null,null,"","",""]
[null,null,null,null,null,null,null,"","",""]
[null,null,null,null,null,null,null,"","",""]
[null,null,null,null,null,null,null,"","",""]
[null,null,null,null,null,null,null,"","",""]
[null,null,null,null,null,null,null,"","",""]
[null,null,null,null,null,null,null,"","",""]
[null,null,null,null,null,null,null,"","",""]
[null,null,null,null,null,null,null,"","",""]
[null,null,null,null,null,null,null,"","",""]
[null,null,null,null,null,null,null,"","",""]
[null,null,null,null,null,null,null,"","",""]
[null,null,null,null,null,null,null,"","",""]
[null,null,null,null,null,null,null,"","",""]
[null,null,null,null,null,null,null,"","",""]
[null,null,null,null,null,null,null,"","",""]
[null,null,null,null,null,null,null,"","",""]
[null,null,null,null,null,null,null,"","",""]
[null,null,null,null,null,null,null,"","",""]
[null,null,null,null,null,null,null,"","",""]
[null,null,null,null,null,null,null,"","",""]
[null,null,null,null,null,null,null,"","",""]
[null,null,null,null,null,null,null,"","",""]
[null,null,null,null,null,null,null,"","",""]
[null,null,null,null,null,null,null,"","",""]
[null,null,null,null,null,null,null,"","",""]
[null,null,null,null,null,null,null,"","",""]
[null,null,null,null,null,null,null,{"$f":"IF(G727<>\"\",G727/12,\"\")","v":""},{"$f":"IF(G727<>\"\",8,\"\")","v":""},{"$f":"IF(I727<>\"\",I727/12,\"\")","v":""}]
[null,null,null,null,null,null,null,"","",""]
[null,null,null,null,null,null,null,"","",""]
[null,null,null,null,null,null,null,"","",""]
[null,null,null,null,null,null,null,"","",""]
[null,null,null,null,null,null,null,"","",""]
[null,null,null,null,null,null,null,"","",""]
[null,null,null,null,null,null,null,"","",""]
[null,null,null,null,null,null,null,"","",""]
[null,null,null,null,null,null,null,"","",""]
[null,null,null,null,null,null,null,"","",""]
[null,null,null,null,null,null,null,"","",""]
[null,null,null,null,null,null,null,"","",""]
[null,null,null,null,null,null,null,"","",""]
[null,null,null,null,null,null,null,"","",""]
[null,null,null,null,null,null,null,"","",""]
[null,null,null,null,null,null,null,"","",""]
[null,null,null,null,null,null,null,"","",""]
[null,null,null,null,null,null,null,"","",""]
[null,null,null,null,null,null,null,"","",""]
[null,null,null,null,null,null,null,"","",""]
[null,null,null,null,null,null,null,"","",""]
[null,null,null,null,null,null,null,"","",""]
[null,null,null,null,null,null,null,"","",""]
[null,null,null,null,null,null,null,"","",""]
[null,null,null,null,null,null,null,"","",""]
[null,null,null,null,null,null,null,"","",""]
[null,null,null,null,null,null,null,"","",""]
[null,null,null,null,null,null,null,"","",""]
[null,null,null,null,null,null,null,"","",""]
[null,null,null,null,null,null,null,"","",""]
[null,null,null,null,null,null,null,"","",""]
[null,null,null,null,null,null,null,"","",""]
[null,null,null,null,null,null,null,"","",""]
[null,null,null,null,null,null,null,"","",""]
[null,null,null,null,null,null,null,"","",""]
[null,null,null,null,null,null,null,"","",""]
[null,null,null,null,null,null,null,"","",""]
[null,null,null,null,null,null,null,"","",""]
[null,null,null,null,null,null,null,"","",""]
[null,null,null,null,null,null,null,"","",""]
[null,null,null,null,null,null,null,"","",""]
[null,null,null,null,null,null,null,"","",""]
[null,null,null,null,null,null,null,"","",""]
[null,null,null,null,null,null,null,"","",""]
[null,null,null,null,null,null,null,"","",""]
[null,null,null,null,null,null,null,"","",""]
[null,null,null,null,null,null,null,"","",""]
[null,null,null,null,null,null,null,"","",""]
[null,null,null,null,null,null,null,"","",""]
[null,null,null,null,null,null,null,"","",""]
[null,null,null,null,null,null,null,"","",""]
[null,null,null,null,null,null,null,"","",""]
[null,null,null,null,null,null,null,"","",""]
[null,null,null,null,null,null,null,"","",""]
[null,null,null,null,null,null,null,"","",""]
[null,null,null,null,null,null,null,"","",""]
[null,null,null,null,null,null,null,"","",""]
[null,null,null,null,null,null,null,"","",""]
[null,null,null,null,null,null,null,"","",""]
[null,null,null,null,null,null,null,"","",""]
[null,null,null,null,null,null,null,"","",""]
[null,null,null,null,null,null,null,"","",""]
[null,null,null,null,null,null,null,"","",""]
[null,null,null,null,null,null,null,{"$f":"IF(G791<>\"\",G791/12,\"\")","v":""},{"$f":"IF(G791<>\"\",8,\"\")","v":""},{"$f":"IF(I791<>\"\",I791/12,\"\")","v":""}]
[null,null,null,null,null,null,null,"","",""]
[null,null,null,null,null,null,null,"","",""]
[null,null,null,null,null,null,null,"","",""]
[null,null,null,null,null,null,null,"","",""]
[null,null,null,null,null,null,null,"","",""]
[null,null,null,null,null,null,null,"","",""]
[null,null,null,null,null,null,null,"","",""]
[null,null,null,null,null,null,null,"","",""]
[null,null,null,null,null,null,null,"","",""]
[null,null,null,null,null,null,null,"","",""]
[null,null,null,null,null,null,null,"","",""]
[null,null,null,null,null,null,null,"","",""]
[null,null,null,null,null,null,null,"","",""]
[null,null,null,null,null,null,null,"","",""]
[null,null,null,null,null,null,null,"","",""]
[null,null,null,null,null,null,null,"","",""]
[null,null,null,null,null,null,null,"","",""]
[null,null,null,null,null,null,null,"","",""]
[null,null,null,null,null,null,null,"","",""]
[null,null,null,null,null,null,null,"","",""]
[null,null,null,null,null,null,null,"","",""]
[null,null,null,null,null,null,null,"","",""]
[null,null,null,null,null,null,null,"","",""]
[null,null,null,null,null,null,null,"","",""]
[null,null,null,null,null,null,null,"","",""]
[null,null,null,null,null,null,null,"","",""]
[null,null,null,null,null,null,null,"","",""]
[null,null,null,null,null,null,null,"","",""]
[null,null,null,null,null,null,null,"","",""]
[null,null,null,null,null,null,null,"","",""]
[null,null,null,null,null,null,null,"","",""]
[null,null,null,null,null,null,null,"","",""]
[null,null,null,null,null,null,null,"","",""]
[null,null,null,null,null,null,null,"","",""]
[null,null,null,null,null,null,null,"","",""]
[null,null,null,null,null,null,null,"","",""]
[null,null,null,null,null,null,null,"","",""]
[null,null,null,null,null,null,null,"","",""]
[null,null,null,null,null,null,null,"","",""]
[null,null,null,null,null,null,null,"","",""]
[null,null,null,null,null,null,null,"","",""]
[null,null,null,null,null,null,null,"","",""]
[null,null,null,null,null,null,null,"","",""]
[null,null,null,null,null,null,null,"","",""]
[null,null,null,null,null,null,null,"","",""]
[null,null,null,null,null,null,null,"","",""]
[null,null,null,null,null,null,null,"","",""]
[null,null,null,null,null,null,null,"","",""]
[null,null,null,null,null,null,null,"","",""]
[null,null,null,null,null,null,null,"","",""]
[null,null,null,null,null,null,null,"","",""]
[null,null,null,null,null,null,null,"","",""]
[null,null,null,null,null,null,null,"","",""]
[null,null,null,null,null,null,null,"","",""]
[null,null,null,null,null,null,null,"","",""]
[null,null,null,null,null,null,null,"","",""]
[null,null,null,null,null,null,null,"","",""]
[null,null,null,null,null,null,null,"","",""]
[null,null,null,null,null,null,null,"","",""]
[null,null,null,null,null,null,null,"","",""]
[null,null,null,null,null,null,null,"","",""]
[null,null,null,null,null,null,null,"","",""]
[null,null,null,null,null,null,null,"","",""]
[null,null,null,null,null,null,null,{"$f":"IF(G855<>\"\",G855/12,\"\")","v":""},{"$f":"IF(G855<>\"\",8,\"\")","v":""},{"$f":"IF(I855<>\"\",I855/12,\"\")","v":""}]
[null,null,null,null,null,null,null,"","",""]
[null,null,null,null,null,null,null,"","",""]
[null,null,null,null,null,null,null,"","",""]
[null,null,null,null,null,null,null,"","",""]
[null,null,null,null,null,null,null,"","",""]
[null,null,null,null,null,null,null,"","",""]
[null,null,null,null,null,null,null,"","",""]
[null,null,null,null,null,null,null,"","",""]
[null,null,null,null,null,null,null,"","",""]
[null,null,null,null,null,null,null,"","",""]
[null,null,null,null,null,null,null,"","",""]
[null,null,null,null,null,null,null,"","",""]
[null,null,null,null,null,null,null,"","",""]
[null,null,null,null,null,null,null,"","",""]
[null,null,null,null,null,null,null,"","",""]
[null,null,null,null,null,null,null,"","",""]
[null,null,null,null,null,null,null,"","",""]
[null,null,null,null,null,null,null,"","",""]
[null,null,null,null,null,null,null,"","",""]
[null,null,null,null,null,null,null,"","",""]
[null,null,null,null,null,null,null,"","",""]
[null,null,null,null,null,null,null,"","",""]
[null,null,null,null,null,null,null,"","",""]
[null,null,null,null,null,null,null,"","",""]
[null,null,null,null,null,null,null,"","",""]
[null,null,null,null,null,null,null,"","",""]
[null,null,null,null,null,null,null,"","",""]
[null,null,null,null,null,null,null,"","",""]
[null,null,null,null,null,null,null,"","",""]
[null,null,null,null,null,null,null,"","",""]
[null,null,null,null,null,null,null,"","",""]
[null,null,null,null,null,null,null,"","",""]
[null,null,null,null,null,null,null,"","",""]
[null,null,null,null,null,null,null,"","",""]
[null,null,null,null,null,null,null,"","",""]
[null,null,null,null,null,null,null,"","",""]
[null,null,null,null,null,null,null,"","",""]
[null,null,null,null,null,null,null,"","",""]
[null,null,null,null,null,null,null,"","",""]
[null,null,null,null,null,null,null,"","",""]
[null,null,null,null,null,null,null,"","",""]
[null,null,null,null,null,null,null,"","",""]
[null,null,null,null,null,null,null,"","",""]
[null,null,null,null,null,null,null,"","",""]
[null,null,null,null,null,null,null,"","",""]
[null,null,null,null,null,null,null,"","",""]
[null,null,null,null,null,null,null,"","",""]
[null,null,null,null,null,null,null,"","",""]
[null,null,null,null,null,null,null,"","",""]
[null,null,null,null,null,null,null,"","",""]
[null,null,null,null,null,null,null,"","",""]
[null,null,null,null,null,null,null,"","",""]
[null,null,null,null,null,null,null,"","",""]
[null,null,null,null,null,null,null,"","",""]
[null,null,null,null,null,null,null,"","",""]
[null,null,null,null,null,null,null,"","",""]
[null,null,null,null,null,null,null,"","",""]
[null,null,null,null,null,null,null,"","",""]
[null,null,null,null,null,null,null,"","",""]
[null,null,null,null,null,null,null,"","",""]
[null,null,null,null,null,null,null,"","",""]
[null,null,null,null,null,null,null,"","",""]
[null,null,null,null,null,null,null,"","",""]
[null,null,null,null,null,null,null,{"$f":"IF(G919<>\"\",G919/12,\"\")","v":""},{"$f":"IF(G919<>\"\",8,\"\")","v":""},{"$f":"IF(I919<>\"\",I919/12,\"\")","v":""}]
[null,null,null,null,null,null,null,"","",""]
[null,null,null,null,null,null,null,"","",""]
[null,null,null,null,null,null,null,"","",""]
[null,null,null,null,null,null,null,"","",""]
[null,null,null,null,null,null,null,"","",""]
[null,null,null,null,null,null,null,"","",""]
[null,null,null,null,null,null,null,"","",""]
[null,null,null,null,null,null,null,"","",""]
[null,null,null,null,null,null,null,"","",""]
[null,null,null,null,null,null,null,"","",""]
[null,null,null,null,null,null,null,"","",""]
[null,null,null,null,null,null,null,"","",""]
[null,null,null,null,null,null,null,"","",""]
[null,null,null,null,null,null,null,"","",""]
[null,null,null,null,null,null,null,"","",""]
[null,null,null,null,null,null,null,"","",""]
[null,null,null,null,null,null,null,"","",""]
[null,null,null,null,null,null,null,"","",""]
[null,null,null,null,null,null,null,"","",""]
[null,null,null,null,null,null,null,"","",""]
[null,null,null,null,null,null,null,"","",""]
[null,null,null,null,null,null,null,"","",""]
[null,null,null,null,null,null,null,"","",""]
[null,null,null,null,null,null,null,"","",""]
[null,null,null,null,null,null,null,"","",""]
[null,null,null,null,null,null,null,"","",""]
[null,null,null,null,null,null,null,"","",""]
[null,null,null,null,null,null,null,"","",""]
[null,null,null,null,null,null,null,"","",""]
[null,null,null,null,null,null,null,"","",""]
[null,null,null,null,null,null,null,"","",""]
[null,null,null,null,null,null,null,"","",""]
[null,null,null,null,null,null,null,"","",""]
[null,null,null,null,null,null,null,"","",""]
[null,null,null,null,null,null,null,"","",""]
[null,null,null,null,null,null,null,"","",""]
[null,null,null,null,null,null,null,"","",""]
[null,null,null,null,null,null,null,"","",""]
[null,null,null,null,null,null,null,"","",""]
[null,null,null,null,null,null,null,"","",""]
[null,null,null,null,null,null,null,"","",""]
[null,null,null,null,null,null,null,"","",""]
[null,null,null,null,null,null,null,"","",""]
[null,null,null,null,null,null,null,"","",""]
[null,null,null,null,null,null,null,"","",""]
[null,null,null,null,null,null,null,"","",""]
[null,null,null,null,null,null,null,"","",""]
[null,null,null,null,null,null,null,"","",""]
[null,null,null,null,null,null,null,"","",""]
[null,null,null,null,null,null,null,"","",""]
[null,null,null,null,null,null,null,"","",""]
[null,null,null,null,null,null,null,"","",""]
[null,null,null,null,null,null,null,"","",""]
[null,null,null,null,null,null,null,"","",""]
[null,null,null,null,null,null,null,"","",""]
[null,null,null,null,null,null,null,"","",""]
[null,null,null,null,null,null,null,"","",""]
[null,null,null,null,null,null,null,"","",""]
[null,null,null,null,null,null,null,"","",""]
[null,null,null,null,null,null,null,"","",""]
[null,null,null,null,null,null,null,"","",""]
[null,null,null,null,null,null,null,"","",""]
[null,null,null,null,null,null,null,"","",""]
[null,null,null,null,null,null,null,{"$f":"IF(G983<>\"\",G983/12,\"\")","v":""},{"$f":"IF(G983<>\"\",8,\"\")","v":""},{"$f":"IF(I983<>\"\",I983/12,\"\")","v":""}]
[null,null,null,null,null,null,null,"","",""]
[null,null,null,null,null,null,null,"","",""]
[null,null,null,null,null,null,null,"","",""]
[null,null,null,null,null,null,null,"","",""]
[null,null,null,null,null,null,null,"","",""]
[null,null,null,null,null,null,null,"","",""]
[null,null,null,null,null,null,null,"","",""]
[null,null,null,null,null,null,null,"","",""]
[null,null,null,null,null,null,null,"","",""]
[null,null,null,null,null,null,null,"","",""]
[null,null,null,null,null,null,null,"","",""]
[null,null,null,null,null,null,null,"","",""]
[null,null,null,null,null,null,null,"","",""]
[null,null,null,null,null,null,null,"","",""]
[null,null,null,null,null,null,null,"","",""]
[null,null,null,null,null,null,null,"","",""]
[null,null,null,null,null,null,null,"","",""]
[null,null,null,null,null,null,null,"","",""]
[null,null,null,null,null,null,null,"","",""]
[null,null,null,null,null,null,null,"","",""]
[null,null,null,null,null,null,null,"","",""]
[null,null,null,null,null,null,null,"","",""]
[null,null,null,null,null,null,null,"","",""]
[null,null,null,null,null,null,null,"","",""]
[null,null,null,null,null,null,null,"","",""]
[null,null,null,null,null,null,null,"","",""]
[null,null,null,null,null,null,null,"","",""]
[null,null,null,null,null,null,null,"","",""]
[null,null,null,null,null,null,null,"","",""]
[null,null,null,null,null,null,null,"","",""]
[null,null,null,null,null,null,null,"","",""]
[null,null,null,null,null,null,null,"","",""]
[null,null,null,null,null,null,null,"","",""]
[null,null,null,null,null,null,null,"","",""]
[null,null,null,null,null,null,null,"","",""]
[null,null,null,null,null,null,null,"","",""]
[null,null,null,null,null,null,null,"","",""]
[null,null,null,null,null,null,null,"","",""]
[null,null,null,null,null,null,null,"","",""]
[null,null,null,null,null,null,null,"","",""]
[null,null,null,null,null,null,null,"","",""]
[null,null,null,null,null,null,null,"","",""]
[null,null,null,null,null,null,null,"","",""]
[null,null,null,null,null,null,null,"","",""]
[null,null,null,null,null,null,null,"","",""]
[null,null,null,null,null,null,null,"","",""]
[null,null,null,null,null,null,null,"","",""]
[null,null,null,null,null,null,null,"","",""]
[null,null,null,null,null,null,null,"","",""]
[null,null,null,null,null,null,null,"","",""]
[null,null,null,null,null,null,null,"","",""]
[null,null,null,null,null,null,null,"","",""]
[null,null,null,null,null,null,null,"","",""]
[null,null,null,null,null,null,null,"","",""]
[null,null,null,null,null,null,null,"","",""]
[null,null,null,null,null,null,null,"","",""]
[null,null,null,null,null,null,null,"","",""]
[null,null,null,null,null,null,null,"","",""]
[null,null,null,null,null,null,null,"","",""]
[null,null,null,null,null,null,null,"","",""]
[null,null,null,null,null,null,null,"","",""]
[null,null,null,null,null,null,null,"","",""]
[null,null,null,null,null,null,null,"","",""]
[null,null,null,null,null,null,null,{"$f":"IF(G1047<>\"\",G1047/12,\"\")","v":""},{"$f":"IF(G1047<>\"\",8,\"\")","v":""},{"$f":"IF(I1047<>\"\",I1047/12,\"\")","v":""}]
[null,null,null,null,null,null,null,"","",""]
[null,null,null,null,null,null,null,"","",""]
[null,null,null,null,null,null,null,"","",""]
[null,null,null,null,null,null,null,"","",""]
[null,null,null,null,null,null,null,"","",""]
[null,null,null,null,null,null,null,"","",""]
[null,null,null,null,null,null,null,"","",""]
[null,null,null,null,null,null,null,"","",""]
[null,null,null,null,null,null,null,"","",""]
[null,null,null,null,null,null,null,"","",""]
[null,null,null,null,null,null,null,"","",""]
[null,null,null,null,null,null,null,"","",""]
[null,null,null,null,null,null,null,"","",""]
[null,null,null,null,null,null,null,"","",""]
[null,null,null,null,null,null,null,"","",""]
[null,null,null,null,null,null,null,"","",""]
[null,null,null,null,null,null,null,"","",""]
[null,null,null,null,null,null,null,"","",""]
[null,null,null,null,null,null,null,"","",""]
[null,null,null,null,null,null,null,"","",""]
[null,null,null,null,null,null,null,"","",""]
[null,null,null,null,null,null,null,"","",""]
[null,null,null,null,null,null,null,"","",""]
[null,null,null,null,null,null,null,"","",""]
[null,null,null,null,null,null,null,"","",""]
[null,null,null,null,null,null,null,"","",""]
[null,null,null,null,null,null,null,"","",""]
[null,null,null,null,null,null,null,"","",""]
[null,null,null,null,null,null,null,"","",""]
[null,null,null,null,null,null,null,"","",""]
[null,null,null,null,null,null,null,"","",""]
[null,null,null,null,null,null,null,"","",""]
[null,null,null,null,null,null,null,"","",""]
[null,null,null,null,null,null,null,"","",""]
[null,null,null,null,null,null,null,"","",""]
[null,null,null,null,null,null,null,"","",""]
[null,null,null,null,null,null,null,"","",""]
[null,null,null,null,null,null,null,"","",""]
[null,null,null,null,null,null,null,"","",""]
[null,null,null,null,null,null,null,"","",""]
[null,null,null,null,null,null,null,"","",""]
[null,null,null,null,null,null,null,"","",""]
[null,null,null,null,null,null,null,"","",""]
[null,null,null,null,null,null,null,"","",""]
[null,null,null,null,null,null,null,"","",""]
[null,null,null,null,null,null,null,"","",""]
[null,null,null,null,null,null,null,"","",""]
[null,null,null,null,null,null,null,"","",""]
[null,null,null,null,null,null,null,"","",""]
[null,null,null,null,null,null,null,"","",""]
[null,null,null,null,null,null,null,"","",""]
[null,null,null,null,null,null,null,"","",""]
[null,null,null,null,null,null,null,"","",""]
[null,null,null,null,null,null,null,"","",""]
[null,null,null,null,null,null,null,"","",""]
[null,null,null,null,null,null,null,"","",""]
[null,null,null,null,null,null,null,"","",""]
[null,null,null,null,null,null,null,"","",""]
[null,null,null,null,null,null,null,"","",""]
[null,null,null,null,null,null,null,"","",""]
[null,null,null,null,null,null,null,"","",""]
[null,null,null,null,null,null,null,"","",""]
[null,null,null,null,null,null,null,"","",""]
[null,null,null,null,null,null,null,{"$f":"IF(G1111<>\"\",G1111/12,\"\")","v":""},{"$f":"IF(G1111<>\"\",8,\"\")","v":""},{"$f":"IF(I1111<>\"\",I1111/12,\"\")","v":""}]
[null,null,null,null,null,null,null,"","",""]
[null,null,null,null,null,null,null,"","",""]
[null,null,null,null,null,null,null,"","",""]
[null,null,null,null,null,null,null,"","",""]
[null,null,null,null,null,null,null,"","",""]
[null,null,null,null,null,null,null,"","",""]
[null,null,null,null,null,null,null,"","",""]
[null,null,null,null,null,null,null,"","",""]
[null,null,null,null,null,null,null,"","",""]
[null,null,null,null,null,null,null,"","",""]
[null,null,null,null,null,null,null,"","",""]
[null,null,null,null,null,null,null,"","",""]
[null,null,null,null,null,null,null,"","",""]
[null,null,null,null,null,null,null,"","",""]
[null,null,null,null,null,null,null,"","",""]
[null,null,null,null,null,null,null,"","",""]
[null,null,null,null,null,null,null,"","",""]
[null,null,null,null,null,null,null,"","",""]
[null,null,null,null,null,null,null,"","",""]
[null,null,null,null,null,null,null,"","",""]
[null,null,null,null,null,null,null,"","",""]
[null,null,null,null,null,null,null,"","",""]
[null,null,null,null,null,null,null,"","",""]
[null,null,null,null,null,null,null,"","",""]
[null,null,null,null,null,null,null,"","",""]
[null,null,null,null,null,null,null,"","",""]
[null,null,null,null,null,null,null,"","",""]
[null,null,null,null,null,null,null,"","",""]
[null,null,null,null,null,null,null,"","",""]
[null,null,null,null,null,null,null,"","",""]
[null,null,null,null,null,null,null,"","",""]
[null,null,null,null,null,null,null,"","",""]
[null,null,null,null,null,null,null,"","",""]
[null,null,null,null,null,null,null,"","",""]
[null,null,null,null,null,null,null,"","",""]
[null,null,null,null,null,null,null,"","",""]
[null,null,null,null,null,null,null,"","",""]
[null,null,null,null,null,null,null,"","",""]
[null,null,null,null,null,null,null,"","",""]
[null,null,null,null,null,null,null,"","",""]
[null,null,null,null,null,null,null,"","",""]
[null,null,null,null,null,null,null,"","",""]
[null,null,null,null,null,null,null,"","",""]
[null,null,null,null,null,null,null,"","",""]
[null,null,null,null,null,null,null,"","",""]
[null,null,null,null,null,null,null,"","",""]
[null,null,null,null,null,null,null,"","",""]
[null,null,null,null,null,null,null,"","",""]
[null,null,null,null,null,null,null,"","",""]
[null,null,null,null,null,null,null,"","",""]
[null,null,null,null,null,null,null,"","",""]
[null,null,null,null,null,null,null,"","",""]
[null,null,null,null,null,null,null,"","",""]
[null,null,null,null,null,null,null,"","",""]
[null,null,null,null,null,null,null,"","",""]
[null,null,null,null,null,null,null,"","",""]
[null,null,null,null,null,null,null,"","",""]
[null,null,null,null,null,null,null,"","",""]
[null,null,null,null,null,null,null,"","",""]
[null,null,null,null,null,null,null,"","",""]
[null,null,null,null,null,null,null,"","",""]
[null,null,null,null,null,null,null,"","",""]
[null,null,null,null,null,null,null,"","",""]
[null,null,null,null,null,null,null,{"$f":"IF(G1175<>\"\",G1175/12,\"\")","v":""},{"$f":"IF(G1175<>\"\",8,\"\")","v":""},{"$f":"IF(I1175<>\"\",I1175/12,\"\")","v":""}]
[null,null,null,null,null,null,null,"","",""]
[null,null,null,null,null,null,null,"","",""]
[null,null,null,null,null,null,null,"","",""]
[null,null,null,null,null,null,null,"","",""]
[null,null,null,null,null,null,null,"","",""]
[null,null,null,null,null,null,null,"","",""]
[null,null,null,null,null,null,null,"","",""]
[null,null,null,null,null,null,null,"","",""]
[null,null,null,null,null,null,null,"","",""]
[null,null,null,null,null,null,null,"","",""]
[null,null,null,null,null,null,null,"","",""]
[null,null,null,null,null,null,null,"","",""]
[null,null,null,null,null,null,null,"","",""]
[null,null,null,null,null,null,null,"","",""]
[null,null,null,null,null,null,null,"","",""]
[null,null,null,null,null,null,null,"","",""]
[null,null,null,null,null,null,null,"","",""]
[null,null,null,null,null,null,null,"","",""]
[null,null,null,null,null,null,null,"","",""]
[null,null,null,null,null,null,null,"","",""]
[null,null,null,null,null,null,null,"","",""]
[null,null,null,null,null,null,null,"","",""]
[null,null,null,null,null,null,null,"","",""]
[null,null,null,null,null,null,null,"","",""]
[null,null,null,null,null,null,null,"","",""]
[null,null,null,null,null,null,null,"","",""]
[null,null,null,null,null,null,null,"","",""]
[null,null,null,null,null,null,null,"","",""]
[null,null,null,null,null,null,null,"","",""]
[null,null,null,null,null,null,null,"","",""]
[null,null,null,null,null,null,null,"","",""]
[null,null,null,null,null,null,null,"","",""]
[null,null,null,null,null,null,null,"","",""]
[null,null,null,null,null,null,null,"","",""]
[null,null,null,null,null,null,null,"","",""]
[null,null,null,null,null,null,null,"","",""]
[null,null,null,null,null,null,null,"","",""]
[null,null,null,null,null,null,null,"","",""]
[null,null,null,null,null,null,null,"","",""]
[null,null,null,null,null,null,null,"","",""]
[null,null,null,null,null,null,null,"","",""]
[null,null,null,null,null,null,null,"","",""]
[null,null,null,null,null,null,null,"","",""]
[null,null,null,null,null,null,null,"","",""]
[null,null,null,null,null,null,null,"","",""]
[null,null,null,null,null,null,null,"","",""]
[null,null,null,null,null,null,null,"","",""]
[null,null,null,null,null,null,null,"","",""]
[null,null,null,null,null,null,null,"","",""]
[null,null,null,null,null,null,null,"","",""]
[null,null,null,null,null,null,null,"","",""]
[null,null,null,null,null,null,null,"","",""]
[null,null,null,null,null,null,null,"","",""]
[null,null,null,null,null,null,null,"","",""]
[null,null,null,null,null,null,null,"","",""]
[null,null,null,null,null,null,null,"","",""]
[null,null,null,null,null,null,null,"","",""]
[null,null,null,null,null,null,null,"","",""]
[null,null,null,null,null,null,null,"","",""]
[null,null,null,null,null,null,null,"","",""]
[null,null,null,null,null,null,null,"","",""]
[null,null,null,null,null,null,null,"","",""]
[null,null,null,null,null,null,null,"","",""]
[null,null,null,null,null,null,null,{"$f":"IF(G1239<>\"\",G1239/12,\"\")","v":""},{"$f":"IF(G1239<>\"\",8,\"\")","v":""},{"$f":"IF(I1239<>\"\",I1239/12,\"\")","v":""}]
[null,null,null,null,null,null,null,"","",""]
[null,null,null,null,null,null,null,"","",""]
[null,null,null,null,null,null,null,"","",""]
[null,null,null,null,null,null,null,"","",""]
[null,null,null,null,null,null,null,"","",""]
[null,null,null,null,null,null,null,"","",""]
[null,null,null,null,null,null,null,"","",""]
[null,null,null,null,null,null,null,"","",""]
[null,null,null,null,null,null,null,"","",""]
[null,null,null,null,null,null,null,"","",""]
[null,null,null,null,null,null,null,"","",""]
[null,null,null,null,null,null,null,"","",""]
[null,null,null,null,null,null,null,"","",""]
[null,null,null,null,null,null,null,"","",""]
[null,null,null,null,null,null,null,"","",""]
[null,null,null,null,null,null,null,"","",""]
[null,null,null,null,null,null,null,"","",""]
[null,null,null,null,null,null,null,"","",""]
[null,null,null,null,null,null,null,"","",""]
[null,null,null,null,null,null,null,"","",""]
[null,null,null,null,null,null,null,"","",""]
[null,null,null,null,null,null,null,"","",""]
[null,null,null,null,null,null,null,"","",""]
[null,null,null,null,null,null,null,"","",""]
[null,null,null,null,null,null,null,"","",""]
[null,null,null,null,null,null,null,"","",""]
[null,null,null,null,null,null,null,"","",""]
[null,null,null,null,null,null,null,"","",""]
[null,null,null,null,null,null,null,"","",""]
[null,null,null,null,null,null,null,"","",""]
[null,null,null,null,null,null,null,"","",""]
[null,null,null,null,null,null,null,"","",""]
[null,null,null,null,null,null,null,"","",""]
[null,null,null,null,null,null,null,"","",""]
[null,null,null,null,null,null,null,"","",""]
[null,null,null,null,null,null,null,"","",""]
[null,null,null,null,null,null,null,"","",""]
[null,null,null,null,null,null,null,"","",""]
[null,null,null,null,null,null,null,"","",""]
[null,null,null,null,null,null,null,"","",""]
[null,null,null,null,null,null,null,"","",""]
[null,null,null,null,null,null,null,"","",""]
[null,null,null,null,null,null,null,"","",""]
[null,null,null,null,null,null,null,"","",""]
[null,null,null,null,null,null,null,"","",""]
[null,null,null,null,null,null,null,"","",""]
[null,null,null,null,null,null,null,"","",""]
[null,null,null,null,null,null,null,"","",""]
[null,null,null,null,null,null,null,"","",""]
[null,null,null,null,null,null,null,"","",""]
[null,null,null,null,null,null,null,"","",""]
[null,null,null,null,null,null,null,"","",""]
[null,null,null,null,null,null,null,"","",""]
[null,null,null,null,null,null,null,"","",""]
[null,null,null,null,null,null,null,"","",""]
[null,null,null,null,null,null,null,"","",""]
[null,null,null,null,null,null,null,"","",""]
[null,null,null,null,null,null,null,"","",""]
[null,null,null,null,null,null,null,"","",""]
[null,null,null,null,null,null,null,"","",""]
[null,null,null,null,null,null,null,"","",""]
[null,null,null,null,null,null,null,"","",""]
[null,null,null,null,null,null,null,"","",""]
[null,null,null,null,null,null,null,{"$f":"IF(G1303<>\"\",G1303/12,\"\")","v":""},{"$f":"IF(G1303<>\"\",8,\"\")","v":""},{"$f":"IF(I1303<>\"\",I1303/12,\"\")","v":""}]
[null,null,null,null,null,null,null,"","",""]
[null,null,null,null,null,null,null,"","",""]
[null,null,null,null,null,null,null,"","",""]
[null,null,null,null,null,null,null,"","",""]
[null,null,null,null,null,null,null,"","",""]
[null,null,null,null,null,null,null,"","",""]
[null,null,null,null,null,null,null,"","",""]
[null,null,null,null,null,null,null,"","",""]
[null,null,null,null,null,null,null,"","",""]
[null,null,null,null,null,null,null,"","",""]
[null,null,null,null,null,null,null,"","",""]
[null,null,null,null,null,null,null,"","",""]
[null,null,null,null,null,null,null,"","",""]
[null,null,null,null,null,null,null,"","",""]
[null,null,null,null,null,null,null,"","",""]
[null,null,null,null,null,null,null,"","",""]
[null,null,null,null,null,null,null,"","",""]
[null,null,null,null,null,null,null,"","",""]
[null,null,null,null,null,null,null,"","",""]
[null,null,null,null,null,null,null,"","",""]
[null,null,null,null,null,null,null,"","",""]
[null,null,null,null,null,null,null,"","",""]
[null,null,null,null,null,null,null,"","",""]
[null,null,null,null,null,null,null,"","",""]
[null,null,null,null,null,null,null,"","",""]
[null,null,null,null,null,null,null,"","",""]
[null,null,null,null,null,null,null,"","",""]
[null,null,null,null,null,null,null,"","",""]
[null,null,null,null,null,null,null,"","",""]
[null,null,null,null,null,null,null,"","",""]
[null,null,null,null,null,null,null,"","",""]
[null,null,null,null,null,null,null,"","",""]
[null,null,null,null,null,null,null,"","",""]
[null,null,null,null,null,null,null,"","",""]
[null,null,null,null,null,null,null,"","",""]
[null,null,null,null,null,null,null,"","",""]
[null,null,null,null,null,null,null,"","",""]
[null,null,null,null,null,null,null,"","",""]
[null,null,null,null,null,null,null,"","",""]
[null,null,null,null,null,null,null,"","",""]
[null,null,null,null,null,null,null,"","",""]
[null,null,null,null,null,null,null,"","",""]
[null,null,null,null,null,null,null,"","",""]
[null,null,null,null,null,null,null,"","",""]
[null,null,null,null,null,null,null,"","",""]
[null,null,null,null,null,null,null,"","",""]
[null,null,null,null,null,null,null,"","",""]
[null,null,null,null,null,null,null,"","",""]
[null,null,null,null,null,null,null,"","",""]
[null,null,null,null,null,null,null,"","",""]
[null,null,null,null,null,null,null,"","",""]
[null,null,null,null,null,null,null,"","",""]
[null,null,null,null,null,null,null,"","",""]
[null,null,null,null,null,null,null,"","",""]
[null,null,null,null,null,null,null,"","",""]
[null,null,null,null,null,null,null,"","",""]
[null,null,null,null,null,null,null,"","",""]
[null,null,null,null,null,null,null,"","",""]
[null,null,null,null,null,null,null,"","",""]
[null,null,null,null,null,null,null,"","",""]
[null,null,null,null,null,null,null,"","",""]
[null,null,null,null,null,null,null,"","",""]
[null,null,null,null,null,null,null,"","",""]
[null,null,null,null,null,null,null,{"$f":"IF(G1367<>\"\",G1367/12,\"\")","v":""},{"$f":"IF(G1367<>\"\",8,\"\")","v":""},{"$f":"IF(I1367<>\"\",I1367/12,\"\")","v":""}]
[null,null,null,null,null,null,null,"","",""]
[null,null,null,null,null,null,null,"","",""]
[null,null,null,null,null,null,null,"","",""]
[null,null,null,null,null,null,null,"","",""]
[null,null,null,null,null,null,null,"","",""]
[null,null,null,null,null,null,null,"","",""]
[null,null,null,null,null,null,null,"","",""]
[null,null,null,null,null,null,null,"","",""]
[null,null,null,null,null,null,null,"","",""]
[null,null,null,null,null,null,null,"","",""]
[null,null,null,null,null,null,null,"","",""]
[null,null,null,null,null,null,null,"","",""]
[null,null,null,null,null,null,null,"","",""]
[null,null,null,null,null,null,null,"","",""]
[null,null,null,null,null,null,null,"","",""]
[null,null,null,null,null,null,null,"","",""]
[null,null,null,null,null,null,null,"","",""]
[null,null,null,null,null,null,null,"","",""]
[null,null,null,null,null,null,null,"","",""]
[null,null,null,null,null,null,null,"","",""]
[null,null,null,null,null,null,null,"","",""]
[null,null,null,null,null,null,null,"","",""]
[null,null,null,null,null,null,null,"","",""]
[null,null,null,null,null,null,null,"","",""]
[null,null,null,null,null,null,null,"","",""]
[null,null,null,null,null,null,null,"","",""]
[null,null,null,null,null,null,null,"","",""]
[null,null,null,null,null,null,null,"","",""]
[null,null,null,null,null,null,null,"","",""]
[null,null,null,null,null,null,null,"","",""]
[null,null,null,null,null,null,null,"","",""]
[null,null,null,null,null,null,null,"","",""]
[null,null,null,null,null,null,null,"","",""]
[null,null,null,null,null,null,null,"","",""]
[null,null,null,null,null,null,null,"","",""]
[null,null,null,null,null,null,null,"","",""]
[null,null,null,null,null,null,null,"","",""]
[null,null,null,null,null,null,null,"","",""]
[null,null,null,null,null,null,null,"","",""]
[null,null,null,null,null,null,null,"","",""]
[null,null,null,null,null,null,null,"","",""]
[null,null,null,null,null,null,null,"","",""]
[null,null,null,null,null,null,null,"","",""]
[null,null,null,null,null,null,null,"","",""]
[null,null,null,null,null,null,null,"","",""]
[null,null,null,null,null,null,null,"","",""]
[null,null,null,null,null,null,null,"","",""]
[null,null,null,null,null,null,null,"","",""]
[null,null,null,null,null,null,null,"","",""]
[null,null,null,null,null,null,null,"","",""]
[null,null,null,null,null,null,null,"","",""]
[null,null,null,null,null,null,null,"","",""]
[null,null,null,null,null,null,null,"","",""]
[null,null,null,null,null,null,null,"","",""]
[null,null,null,null,null,null,null,"","",""]
[null,null,null,null,null,null,null,"","",""]
[null,null,null,null,null,null,null,"","",""]
[null,null,null,null,null,null,null,"","",""]
[null,null,null,null,null,null,null,"","",""]
[null,null,null,null,null,null,null,"","",""]
[null,null,null,null,null,null,null,"","",""]
[null,null,null,null,null,null,null,"","",""]
[null,null,null,null,null,null,null,"","",""]
[null,null,null,null,null,null,null,{"$f":"IF(G1431<>\"\",G1431/12,\"\")","v":""},{"$f":"IF(G1431<>\"\",8,\"\")","v":""},{"$f":"IF(I1431<>\"\",I1431/12,\"\")","v":""}]
[null,null,null,null,null,null,null,"","",""]
[null,null,null,null,null,null,null,"","",""]
[null,null,null,null,null,null,null,"","",""]
[null,null,null,null,null,null,null,"","",""]
[null,null,null,null,null,null,null,"","",""]
[null,null,null,null,null,null,null,"","",""]
[null,null,null,null,null,null,null,"","",""]
[null,null,null,null,null,null,null,"","",""]
[null,null,null,null,null,null,null,"","",""]
[null,null,null,null,null,null,null,"","",""]
[null,null,null,null,null,null,null,"","",""]
[null,null,null,null,null,null,null,"","",""]
[null,null,null,null,null,null,null,"","",""]
[null,null,null,null,null,null,null,"","",""]
[null,null,null,null,null,null,null,"","",""]
[null,null,null,null,null,null,null,"","",""]
[null,null,null,null,null,null,null,"","",""]
[null,null,null,null,null,null,null,"","",""]
[null,null,null,null,null,null,null,"","",""]
[null,null,null,null,null,null,null,"","",""]
[null,null,null,null,null,null,null,"","",""]
[null,null,null,null,null,null,null,"","",""]
[null,null,null,null,null,null,null,"","",""]
[null,null,null,null,null,null,null,"","",""]
[null,null,null,null,null,null,null,"","",""]
[null,null,null,null,null,null,null,"","",""]
[null,null,null,null,null,null,null,"","",""]
[null,null,null,null,null,null,null,"","",""]
[null,null,null,null,null,null,null,"","",""]
[null,null,null,null,null,null,null,"","",""]
[null,null,null,null,null,null,null,"","",""]
[null,null,null,null,null,null,null,"","",""]
[null,null,null,null,null,null,null,"","",""]
[null,null,null,null,null,null,null,"","",""]
[null,null,null,null,null,null,null,"","",""]
[null,null,null,null,null,null,null,"","",""]
[null,null,null,null,null,null,null,"","",""]
[null,null,null,null,null,null,null,"","",""]
[null,null,null,null,null,null,null,"","",""]
[null,null,null,null,null,null,null,"","",""]
[null,null,null,null,null,null,null,"","",""]
[null,null,null,null,null,null,null,"","",""]
[null,null,null,null,null,null,null,"","",""]
[null,null,null,null,null,null,null,"","",""]
[null,null,null,null,null,null,null,"","",""]
[null,null,null,null,null,null,null,"","",""]
[null,null,null,null,null,null,null,"","",""]
[null,null,null,null,null,null,null,"","",""]
[null,null,null,null,null,null,null,"","",""]
[null,null,null,null,null,null,null,"","",""]
[null,null,null,null,null,null,null,"","",""]
[null,null,null,null,null,null,null,"","",""]
[null,null,null,null,null,null,null,"","",""]
[null,null,null,null,null,null,null,"","",""]
[null,null,null,null,null,null,null,"","",""]
[null,null,null,null,null,null,null,"","",""]
[null,null,null,null,null,null,null,"","",""]
[null,null,null,null,null,null,null,"","",""]
[null,null,null,null,null,null,null,"","",""]
[null,null,null,null,null,null,null,"","",""]
[null,null,null,null,null,null,null,"","",""]
[null,null,null,null,null,null,null,"","",""]
[null,null,null,null,null,null,null,"","",""]
[null,null,null,null,null,null,null,{"$f":"IF(G1495<>\"\",G1495/12,\"\")","v":""},{"$f":"IF(G1495<>\"\",8,\"\")","v":""},{"$f":"IF(I1495<>\"\",I1495/12,\"\")","v":""}]
[null,null,null,null,null,null,null,"","",""]
[null,null,null,null,null,null,null,"","",""]
[null,null,null,null,null,null,null,"","",""]
[null,null,null,null,null,null,null,"","",""]
[null,null,null,null,null,null,null,"","",""]
[null,null,null,null,null,null,null,"","",""]
[null,null,null,null,null,null,null,"","",""]
[null,null,null,null,null,null,null,"","",""]
[null,null,null,null,null,null,null,"","",""]
[null,null,null,null,null,null,null,"","",""]
[null,null,null,null,null,null,null,"","",""]
[null,null,null,null,null,null,null,"","",""]
[null,null,null,null,null,null,null,"","",""]
[null,null,null,null,null,null,null,"","",""]
[null,null,null,null,null,null,null,"","",""]
[null,null,null,null,null,null,null,"","",""]
[null,null,null,null,null,null,null,"","",""]
[null,null,null,null,null,null,null,"","",""]
[null,null,null,null,null,null,null,"","",""]
[null,null,null,null,null,null,null,"","",""]
[null,null,null,null,null,null,null,"","",""]
[null,null,null,null,null,null,null,"","",""]
[null,null,null,null,null,null,null,"","",""]
[null,null,null,null,null,null,null,"","",""]
[null,null,null,null,null,null,null,"","",""]
[null,null,null,null,null,null,null,"","",""]
[null,null,null,null,null,null,null,"","",""]
[null,null,null,null,null,null,null,"","",""]
[null,null,null,null,null,null,null,"","",""]
[null,null,null,null,null,null,null,"","",""]
[null,null,null,null,null,null,null,"","",""]
[null,null,null,null,null,null,null,"","",""]
[null,null,null,null,null,null,null,"","",""]
[null,null,null,null,null,null,null,"","",""]
[null,null,null,null,null,null,null,"","",""]
[null,null,null,null,null,null,null,"","",""]
[null,null,null,null,null,null,null,"","",""]
[null,null,null,null,null,null,null,"","",""]
[null,null,null,null,null,null,null,"","",""]
[null,null,null,null,null,null,null,"","",""]
[null,null,null,null,null,null,null,"","",""]
[null,null,null,null,null,null,null,"","",""]
[null,null,null,null,null,null,null,"","",""]
[null,null,null,null,null,null,null,"","",""]
[null,null,null,null,null,null,null,"","",""]
[null,null,null,null,null,null,null,"","",""]
[null,null,null,null,null,null,null,"","",""]
[null,null,null,null,null,null,null,"","",""]
[null,null,null,null,null,null,null,"","",""]
[null,null,null,null,null,null,null,"","",""]
[null,null,null,null,null,null,null,"","",""]
[null,null,null,null,null,null,null,"","",""]
[null,null,null,null,null,null,null,"","",""]
[null,null,null,null,null,null,null,"","",""]
[null,null,null,null,null,null,null,"","",""]
[null,null,null,null,null,null,null,"","",""]
[null,null,null,null,null,null,null,"","",""]
[null,null,null,null,null,null,null,"","",""]
[null,null,null,null,null,null,null,"","",""]
[null,null,null,null,null,null,null,"","",""]
[null,null,null,null,null,null,null,"","",""]
[null,null,null,null,null,null,null,"","",""]
[null,null,null,null,null,null,null,"","",""]
[null,null,null,null,null,null,null,{"$f":"IF(G1559<>\"\",G1559/12,\"\")","v":""},{"$f":"IF(G1559<>\"\",8,\"\")","v":""},{"$f":"IF(I1559<>\"\",I1559/12,\"\")","v":""}]
[null,null,null,null,null,null,null,"","",""]
[null,null,null,null,null,null,null,"","",""]
[null,null,null,null,null,null,null,"","",""]
[null,null,null,null,null,null,null,"","",""]
[null,null,null,null,null,null,null,"","",""]
[null,null,null,null,null,null,null,"","",""]
[null,null,null,null,null,null,null,"","",""]
[null,null,null,null,null,null,null,"","",""]
[null,null,null,null,null,null,null,"","",""]
[null,null,null,null,null,null,null,"","",""]
[null,null,null,null,null,null,null,"","",""]
[null,null,null,null,null,null,null,"","",""]
[null,null,null,null,null,null,null,"","",""]
[null,null,null,null,null,null,null,"","",""]
[null,null,null,null,null,null,null,"","",""]
[null,null,null,null,null,null,null,"","",""]
[null,null,null,null,null,null,null,"","",""]
[null,null,null,null,null,null,null,"","",""]
[null,null,null,null,null,null,null,"","",""]
[null,null,null,null,null,null,null,"","",""]
[null,null,null,null,null,null,null,"","",""]
[null,null,null,null,null,null,null,"","",""]
[null,null,null,null,null,null,null,"","",""]
[null,null,null,null,null,null,null,"","",""]
[null,null,null,null,null,null,null,"","",""]
[null,null,null,null,null,null,null,"","",""]
[null,null,null,null,null,null,null,"","",""]
[null,null,null,null,null,null,null,"","",""]
[null,null,null,null,null,null,null,"","",""]
[null,null,null,null,null,null,null,"","",""]
[null,null,null,null,null,null,null,"","",""]
[null,null,null,null,null,null,null,"","",""]
[null,null,null,null,null,null,null,"","",""]
[null,null,null,null,null,null,null,"","",""]
[null,null,null,null,null,null,null,"","",""]
[null,null,null,null,null,null,null,"","",""]
[null,null,null,null,null,null,null,"","",""]
[null,null,null,null,null,null,null,"","",""]
[null,null,null,null,null,null,null,"","",""]
[null,null,null,null,null,null,null,"","",""]
[null,null,null,null,null,null,null,"","",""]
[null,null,null,null,null,null,null,"","",""]
[null,null,null,null,null,null,null,"","",""]
[null,null,null,null,null,null,null,"","",""]
[null,null,null,null,null,null,null,"","",""]
[null,null,null,null,null,null,null,"","",""]
[null,null,null,null,null,null,null,"","",""]
[null,null,null,null,null,null,null,"","",""]
[null,null,null,null,null,null,null,"","",""]
[null,null,null,null,null,null,null,"","",""]
[null,null,null,null,null,null,null,"","",""]
[null,null,null,null,null,null,null,"","",""]
[null,null,null,null,null,null,null,"","",""]
[null,null,null,null,null,null,null,"","",""]
[null,null,null,null,null,null,null,"","",""]
[null,null,null,null,null,null,null,"","",""]
[null,null,null,null,null,null,null,"","",""]
[null,null,null,null,null,null,null,"","",""]
[null,null,null,null,null,null,null,"","",""]
[null,null,null,null,null,null,null,"","",""]
[null,null,null,null,null,null,null,"","",""]
[null,null,null,null,null,null,null,"","",""]
[null,null,null,null,null,null,null,"","",""]
[null,null,null,null,null,null,null,{"$f":"IF(G1623<>\"\",G1623/12,\"\")","v":""},{"$f":"IF(G1623<>\"\",8,\"\")","v":""},{"$f":"IF(I1623<>\"\",I1623/12,\"\")","v":""}]
[null,null,null,null,null,null,null,"","",""]
[null,null,null,null,null,null,null,"","",""]
[null,null,null,null,null,null,null,"","",""]
[null,null,null,null,null,null,null,"","",""]
[null,null,null,null,null,null,null,"","",""]
[null,null,null,null,null,null,null,"","",""]
[null,null,null,null,null,null,null,"","",""]
[null,null,null,null,null,null,null,"","",""]
[null,null,null,null,null,null,null,"","",""]
[null,null,null,null,null,null,null,"","",""]
[null,null,null,null,null,null,null,"","",""]
[null,null,null,null,null,null,null,"","",""]
[null,null,null,null,null,null,null,"","",""]
[null,null,null,null,null,null,null,"","",""]
[null,null,null,null,null,null,null,"","",""]
[null,null,null,null,null,null,null,"","",""]
[null,null,null,null,null,null,null,"","",""]
[null,null,null,null,null,null,null,"","",""]
[null,null,null,null,null,null,null,"","",""]
[null,null,null,null,null,null,null,"","",""]
[null,null,null,null,null,null,null,"","",""]
[null,null,null,null,null,null,null,"","",""]
[null,null,null,null,null,null,null,"","",""]
[null,null,null,null,null,null,null,"","",""]
[null,null,null,null,null,null,null,"","",""]
[null,null,null,null,null,null,null,"","",""]
[null,null,null,null,null,null,null,"","",""]
[null,null,null,null,null,null,null,"","",""]
[null,null,null,null,null,null,null,"","",""]
[null,null,null,null,null,null,null,"","",""]
[null,null,null,null,null,null,null,"","",""]
[null,null,null,null,null,null,null,"","",""]
[null,null,null,null,null,null,null,"","",""]
[null,null,null,null,null,null,null,"","",""]
[null,null,null,null,null,null,null,"","",""]
[null,null,null,null,null,null,null,"","",""]
[null,null,null,null,null,null,null,"","",""]
[null,null,null,null,null,null,null,"","",""]
[null,null,null,null,null,null,null,"","",""]
[null,null,null,null,null,null,null,"","",""]
[null,null,null,null,null,null,null,"","",""]
[null,null,null,null,null,null,null,"","",""]
[null,null,null,null,null,null,null,"","",""]
[null,null,null,null,null,null,null,"","",""]
[null,null,null,null,null,null,null,"","",""]
[null,null,null,null,null,null,null,"","",""]
[null,null,null,null,null,null,null,"","",""]
[null,null,null,null,null,null,null,"","",""]
[null,null,null,null,null,null,null,"","",""]
[null,null,null,null,null,null,null,"","",""]
[null,null,null,null,null,null,null,"","",""]
[null,null,null,null,null,null,null,"","",""]
[null,null,null,null,null,null,null,"","",""]
[null,null,null,null,null,null,null,"","",""]
[null,null,null,null,null,null,null,"","",""]
[null,null,null,null,null,null,null,"","",""]
[null,null,null,null,null,null,null,"","",""]
[null,null,null,null,null,null,null,"","",""]
[null,null,null,null,null,null,null,"","",""]
[null,null,null,null,null,null,null,"","",""]
[null,null,null,null,null,null,null,"","",""]
[null,null,null,null,null,null,null,"","",""]
[null,null,null,null,null,null,null,"","",""]
[null,null,null,null,null,null,null,{"$f":"IF(G1687<>\"\",G1687/12,\"\")","v":""},{"$f":"IF(G1687<>\"\",8,\"\")","v":""},{"$f":"IF(I1687<>\"\",I1687/12,\"\")","v":""}]
[null,null,null,null,null,null,null,"","",""]
[null,null,null,null,null,null,null,"","",""]
[null,null,null,null,null,null,null,"","",""]
[null,null,null,null,null,null,null,"","",""]
[null,null,null,null,null,null,null,"","",""]
[null,null,null,null,null,null,null,"","",""]
[null,null,null,null,null,null,null,"","",""]
[null,null,null,null,null,null,null,"","",""]
[null,null,null,null,null,null,null,"","",""]
[null,null,null,null,null,null,null,"","",""]
[null,null,null,null,null,null,null,"","",""]
[null,null,null,null,null,null,null,"","",""]
[null,null,null,null,null,null,null,"","",""]
[null,null,null,null,null,null,null,"","",""]
[null,null,null,null,null,null,null,"","",""]
[null,null,null,null,null,null,null,"","",""]
[null,null,null,null,null,null,null,"","",""]
[null,null,null,null,null,null,null,"","",""]
[null,null,null,null,null,null,null,"","",""]
[null,null,null,null,null,null,null,"","",""]
[null,null,null,null,null,null,null,"","",""]
[null,null,null,null,null,null,null,"","",""]
[null,null,null,null,null,null,null,"","",""]
[null,null,null,null,null,null,null,"","",""]
[null,null,null,null,null,null,null,"","",""]
[null,null,null,null,null,null,null,"","",""]
[null,null,null,null,null,null,null,"","",""]
[null,null,null,null,null,null,null,"","",""]
[null,null,null,null,null,null,null,"","",""]
[null,null,null,null,null,null,null,"","",""]
[null,null,null,null,null,null,null,"","",""]
[null,null,null,null,null,null,null,"","",""]
[null,null,null,null,null,null,null,"","",""]
[null,null,null,null,null,null,null,"","",""]
[null,null,null,null,null,null,null,"","",""]
[null,null,null,null,null,null,null,"","",""]
[null,null,null,null,null,null,null,"","",""]
[null,null,null,null,null,null,null,"","",""]
[null,null,null,null,null,null,null,"","",""]
[null,null,null,null,null,null,null,"","",""]
[null,null,null,null,null,null,null,"","",""]
[null,null,null,null,null,null,null,"","",""]
[null,null,null,null,null,null,null,"","",""]
[null,null,null,null,null,null,null,"","",""]
[null,null,null,null,null,null,null,"","",""]
[null,null,null,null,null,null,null,"","",""]
[null,null,null,null,null,null,null,"","",""]
[null,null,null,null,null,null,null,"","",""]
[null,null,null,null,null,null,null,"","",""]
[null,null,null,null,null,null,null,"","",""]
[null,null,null,null,null,null,null,"","",""]
[null,null,null,null,null,null,null,"","",""]
[null,null,null,null,null,null,null,"","",""]
[null,null,null,null,null,null,null,"","",""]
[null,null,null,null,null,null,null,"","",""]
[null,null,null,null,null,null,null,"","",""]
[null,null,null,null,null,null,null,"","",""]
[null,null,null,null,null,null,null,"","",""]
[null,null,null,null,null,null,null,"","",""]
[null,null,null,null,null,null,null,"","",""]
[null,null,null,null,null,null,null,"","",""]
[null,null,null,null,null,null,null,"","",""]
[null,null,null,null,null,null,null,"","",""]
[null,null,null,null,null,null,null,{"$f":"IF(G1751<>\"\",G1751/12,\"\")","v":""},{"$f":"IF(G1751<>\"\",8,\"\")","v":""},{"$f":"IF(I1751<>\"\",I1751/12,\"\")","v":""}]
[null,null,null,null,null,null,null,"","",""]
[null,null,null,null,null,null,null,"","",""]
[null,null,null,null,null,null,null,"","",""]
[null,null,null,null,null,null,null,"","",""]
[null,null,null,null,null,null,null,"","",""]
[null,null,null,null,null,null,null,"","",""]
[null,null,null,null,null,null,null,"","",""]
[null,null,null,null,null,null,null,"","",""]
[null,null,null,null,null,null,null,"","",""]
[null,null,null,null,null,null,null,"","",""]
[null,null,null,null,null,null,null,"","",""]
[null,null,null,null,null,null,null,"","",""]
[null,null,null,null,null,null,null,"","",""]
[null,null,null,null,null,null,null,"","",""]
[null,null,null,null,null,null,null,"","",""]
[null,null,null,null,null,null,null,"","",""]
[null,null,null,null,null,null,null,"","",""]
[null,null,null,null,null,null,null,"","",""]
[null,null,null,null,null,null,null,"","",""]
[null,null,null,null,null,null,null,"","",""]
[null,null,null,null,null,null,null,"","",""]
[null,null,null,null,null,null,null,"","",""]
[null,null,null,null,null,null,null,"","",""]
[null,null,null,null,null,null,null,"","",""]
[null,null,null,null,null,null,null,"","",""]
[null,null,null,null,null,null,null,"","",""]
[null,null,null,null,null,null,null,"","",""]
[null,null,null,null,null,null,null,"","",""]
[null,null,null,null,null,null,null,"","",""]
[null,null,null,null,null,null,null,"","",""]
[null,null,null,null,null,null,null,"","",""]
[null,null,null,null,null,null,null,"","",""]
[null,null,null,null,null,null,null,"","",""]
[null,null,null,null,null,null,null,"","",""]
[null,null,null,null,null,null,null,"","",""]
[null,null,null,null,null,null,null,"","",""]
[null,null,null,null,null,null,null,"","",""]
[null,null,null,null,null,null,null,"","",""]
[null,null,null,null,null,null,null,"","",""]
[null,null,null,null,null,null,null,"","",""]
[null,null,null,null,null,null,null,"","",""]
[null,null,null,null,null,null,null,"","",""]
[null,null,null,null,null,null,null,"","",""]
[null,null,null,null,null,null,null,"","",""]
[null,null,null,null,null,null,null,"","",""]
[null,null,null,null,null,null,null,"","",""]
[null,null,null,null,null,null,null,"","",""]
[null,null,null,null,null,null,null,"","",""]
[null,null,null,null,null,null,null,"","",""]
[null,null,null,null,null,null,null,"","",""]
[null,null,null,null,null,null,null,"","",""]
[null,null,null,null,null,null,null,"","",""]
[null,null,null,null,null,null,null,"","",""]
[null,null,null,null,null,null,null,"","",""]
[null,null,null,null,null,null,null,"","",""]
[null,null,null,null,null,null,null,"","",""]
[null,null,null,null,null,null,null,"","",""]
[null,null,null,null,null,null,null,"","",""]
[null,null,null,null,null,null,null,"","",""]
[null,null,null,null,null,null,null,"","",""]
[null,null,null,null,null,null,null,"","",""]
[null,null,null,null,null,null,null,"","",""]
[null,null,null,null,null,null,null,"","",""]
[null,null,null,null,null,null,null,{"$f":"IF(G1815<>\"\",G1815/12,\"\")","v":""},{"$f":"IF(G1815<>\"\",8,\"\")","v":""},{"$f":"IF(I1815<>\"\",I1815/12,\"\")","v":""}]
[null,null,null,null,null,null,null,"","",""]
[null,null,null,null,null,null,null,"","",""]
[null,null,null,null,null,null,null,"","",""]
[null,null,null,null,null,null,null,"","",""]
[null,null,null,null,null,null,null,"","",""]
[null,null,null,null,null,null,null,"","",""]
[null,null,null,null,null,null,null,"","",""]
[null,null,null,null,null,null,null,"","",""]
[null,null,null,null,null,null,null,"","",""]
[null,null,null,null,null,null,null,"","",""]
[null,null,null,null,null,null,null,"","",""]
[null,null,null,null,null,null,null,"","",""]
[null,null,null,null,null,null,null,"","",""]
[null,null,null,null,null,null,null,"","",""]
[null,null,null,null,null,null,null,"","",""]
[null,null,null,null,null,null,null,"","",""]
[null,null,null,null,null,null,null,"","",""]
[null,null,null,null,null,null,null,"","",""]
[null,null,null,null,null,null,null,"","",""]
[null,null,null,null,null,null,null,"","",""]
[null,null,null,null,null,null,null,"","",""]
[null,null,null,null,null,null,null,"","",""]
[null,null,null,null,null,null,null,"","",""]
[null,null,null,null,null,null,null,"","",""]
[null,null,null,null,null,null,null,"","",""]
[null,null,null,null,null,null,null,"","",""]
[null,null,null,null,null,null,null,"","",""]
[null,null,null,null,null,null,null,"","",""]
[null,null,null,null,null,null,null,"","",""]
[null,null,null,null,null,null,null,"","",""]
[null,null,null,null,null,null,null,"","",""]
[null,null,null,null,null,null,null,"","",""]
[null,null,null,null,null,null,null,"","",""]
[null,null,null,null,null,null,null,"","",""]
[null,null,null,null,null,null,null,"","",""]
[null,null,null,null,null,null,null,"","",""]
[null,null,null,null,null,null,null,"","",""]
[null,null,null,null,null,null,null,"","",""]
[null,null,null,null,null,null,null,"","",""]
[null,null,null,null,null,null,null,"","",""]
[null,null,null,null,null,null,null,"","",""]
[null,null,null,null,null,null,null,"","",""]
[null,null,null,null,null,null,null,"","",""]
[null,null,null,null,null,null,null,"","",""]
[null,null,null,null,null,null,null,"","",""]
[null,null,null,null,null,null,null,"","",""]
[null,null,null,null,null,null,null,"","",""]
[null,null,null,null,null,null,null,"","",""]
[null,null,null,null,null,null,null,"","",""]
[null,null,null,null,null,null,null,"","",""]
[null,null,null,null,null,null,null,"","",""]
[null,null,null,null,null,null,null,"","",""]
[null,null,null,null,null,null,null,"","",""]
[null,null,null,null,null,null,null,"","",""]
[null,null,null,null,null,null,null,"","",""]
[null,null,null,null,null,null,null,"","",""]
[null,null,null,null,null,null,null,"","",""]
[null,null,null,null,null,null,null,"","",""]
[null,null,null,null,null,null,null,"","",""]
[null,null,null,null,null,null,null,"","",""]
[null,null,null,null,null,null,null,"","",""]
[null,null,null,null,null,null,null,"","",""]
[null,null,null,null,null,null,null,"","",""]
[null,null,null,null,null,null,null,{"$f":"IF(G1879<>\"\",G1879/12,\"\")","v":""},{"$f":"IF(G1879<>\"\",8,\"\")","v":""},{"$f":"IF(I1879<>\"\",I1879/12,\"\")","v":""}]
[null,null,null,null,null,null,null,"","",""]
[null,null,null,null,null,null,null,"","",""]
[null,null,null,null,null,null,null,"","",""]
[null,null,null,null,null,null,null,"","",""]
[null,null,null,null,null,null,null,"","",""]
[null,null,null,null,null,null,null,"","",""]
[null,null,null,null,null,null,null,"","",""]
[null,null,null,null,null,null,null,"","",""]
[null,null,null,null,null,null,null,"","",""]
[null,null,null,null,null,null,null,"","",""]
[null,null,null,null,null,null,null,"","",""]
[null,null,null,null,null,null,null,"","",""]
[null,null,null,null,null,null,null,"","",""]
[null,null,null,null,null,null,null,"","",""]
[null,null,null,null,null,null,null,"","",""]
[null,null,null,null,null,null,null,"","",""]
[null,null,null,null,null,null,null,"","",""]
[null,null,null,null,null,null,null,"","",""]
[null,null,null,null,null,null,null,"","",""]
[null,null,null,null,null,null,null,"","",""]
[null,null,null,null,null,null,null,"","",""]
[null,null,null,null,null,null,null,"","",""]
[null,null,null,null,null,null,null,"","",""]
[null,null,null,null,null,null,null,"","",""]
[null,null,null,null,null,null,null,"","",""]
[null,null,null,null,null,null,null,"","",""]
[null,null,null,null,null,null,null,"","",""]
[null,null,null,null,null,null,null,"","",""]
[null,null,null,null,null,null,null,"","",""]
[null,null,null,null,null,null,null,"","",""]
[null,null,null,null,null,null,null,"","",""]
[null,null,null,null,null,null,null,"","",""]
[null,null,null,null,null,null,null,"","",""]
[null,null,null,null,null,null,null,"","",""]
[null,null,null,null,null,null,null,"","",""]
[null,null,null,null,null,null,null,"","",""]
[null,null,null,null,null,null,null,"","",""]
[null,null,null,null,null,null,null,"","",""]
[null,null,null,null,null,null,null,"","",""]
[null,null,null,null,null,null,null,"","",""]
[null,null,null,null,null,null,null,"","",""]
[null,null,null,null,null,null,null,"","",""]
[null,null,null,null,null,null,null,"","",""]
[null,null,null,null,null,null,null,"","",""]
[null,null,null,null,null,null,null,"","",""]
[null,null,null,null,null,null,null,"","",""]
[null,null,null,null,null,null,null,"","",""]
[null,null,null,null,null,null,null,"","",""]
[null,null,null,null,null,null,null,"","",""]
[null,null,null,null,null,null,null,"","",""]
[null,null,null,null,null,null,null,"","",""]
[null,null,null,null,null,null,null,"","",""]
[null,null,null,null,null,null,null,"","",""]
[null,null,null,null,null,null,null,"","",""]
[null,null,null,null,null,null,null,"","",""]
[null,null,null,null,null,null,null,"","",""]
[null,null,null,null,null,null,null,"","",""]
[null,null,null,null,null,null,null,"","",""]
[null,null,null,null,null,null,null,"","",""]
[null,null,null,null,null,null,null,"","",""]
[null,null,null,null,null,null,null,"","",""]
[null,null,null,null,null,null,null,"","",""]
[null,null,null,null,null,null,null,"","",""]
[null,null,null,null,null,null,null,{"$f":"IF(G1943<>\"\",G1943/12,\"\")","v":""},{"$f":"IF(G1943<>\"\",8,\"\")","v":""},{"$f":"IF(I1943<>\"\",I1943/12,\"\")","v":""}]
[null,null,null,null,null,null,null,"","",""]
[null,null,null,null,null,null,null,"","",""]
[null,null,null,null,null,null,null,"","",""]
[null,null,null,null,null,null,null,"","",""]
[null,null,null,null,null,null,null,"","",""]
[null,null,null,null,null,null,null,"","",""]
[null,null,null,null,null,null,null,"","",""]
[null,null,null,null,null,null,null,"","",""]
[null,null,null,null,null,null,null,"","",""]
[null,null,null,null,null,null,null,"","",""]
[null,null,null,null,null,null,null,"","",""]
[null,null,null,null,null,null,null,"","",""]
[null,null,null,null,null,null,null,"","",""]
[null,null,null,null,null,null,null,"","",""]
[null,null,null,null,null,null,null,"","",""]
[null,null,null,null,null,null,null,"","",""]
[null,null,null,null,null,null,null,"","",""]
[null,null,null,null,null,null,null,"","",""]
[null,null,null,null,null,null,null,"","",""]
[null,null,null,null,null,null,null,"","",""]
[null,null,null,null,null,null,null,"","",""]
[null,null,null,null,null,null,null,"","",""]
[null,null,null,null,null,null,null,"","",""]
[null,null,null,null,null,null,null,"","",""]
[null,null,null,null,null,null,null,"","",""]
[null,null,null,null,null,null,null,"","",""]
[null,null,null,null,null,null,null,"","",""]
[null,null,null,null,null,null,null,"","",""]
[null,null,null,null,null,null,null,"","",""]
[null,null,null,null,null,null,null,"","",""]
[null,null,null,null,null,null,null,"","",""]
[null,null,null,null,null,null,null,"","",""]
[null,null,null,null,null,null,null,"","",""]
[null,null,null,null,null,null,null,"","",""]
[null,null,null,null,null,null,null,"","",""]
[null,null,null,null,null,null,null,"","",""]
[null,null,null,null,null,null,null,"","",""]
[null,null,null,null,null,null,null,"","",""]
[null,null,null,null,null,null,null,"","",""]
[null,null,null,null,null,null,null,"","",""]
[null,null,null,null,null,null,null,"","",""]
[null,null,null,null,null,null,null,"","",""]
[null,null,null,null,null,null,null,"","",""]
[null,null,null,null,null,null,null,"","",""]
[null,null,null,null,null,null,null,"","",""]
[null,null,null,null,null,null,null,"","",""]
[null,null,null,null,null,null,null,"","",""]
[null,null,null,null,null,null,null,"","",""]
[null,null,null,null,null,null,null,"","",""]
[null,null,null,null,null,null,null,"","",""]
[null,null,null,null,null,null,null,"","",""]
[null,null,null,null,null,null,null,"","",""]
[null,null,null,null,null,null,null,"","",""]
[null,null,null,null,null,null,null,"","",""]
[null,null,null,null,null,null,null,"","",""]
[null,null,null,null,null,null,null,"","",""]
[null,null,null,null,null,null,null,"","",""]
[null,null,null,null,null,null,null,"","",""]
[null,null,null,null,null,null,null,"","",""]
[null,null,null,null,null,null,null,"","",""]
[null,null,null,null,null,null,null,"","",""]
[null,null,null,null,null,null,null,"","",""]
[null,null,null,null,null,null,null,"","",""]
[null,null,null,null,null,null,null,{"$f":"IF(G2007<>\"\",G2007/12,\"\")","v":""},{"$f":"IF(G2007<>\"\",8,\"\")","v":""},{"$f":"IF(I2007<>\"\",I2007/12,\"\")","v":""}]
[null,null,null,null,null,null,null,"","",""]
[null,null,null,null,null,null,null,"","",""]
[null,null,null,null,null,null,null,"","",""]
[null,null,null,null,null,null,null,"","",""]
[null,null,null,null,null,null,null,"","",""]
[null,null,null,null,null,null,null,"","",""]
[null,null,null,null,null,null,null,"","",""]
[null,null,null,null,null,null,null,"","",""]
[null,null,null,null,null,null,null,"","",""]
[null,null,null,null,null,null,null,"","",""]
[null,null,null,null,null,null,null,"","",""]
[null,null,null,null,null,null,null,"","",""]
[null,null,null,null,null,null,null,"","",""]
[null,null,null,null,null,null,null,"","",""]
[null,null,null,null,null,null,null,"","",""]
[null,null,null,null,null,null,null,"","",""]
[null,null,null,null,null,null,null,"","",""]
[null,null,null,null,null,null,null,"","",""]
[null,null,null,null,null,null,null,"","",""]
[null,null,null,null,null,null,null,"","",""]
[null,null,null,null,null,null,null,"","",""]
[null,null,null,null,null,null,null,"","",""]
[null,null,null,null,null,null,null,"","",""]
[null,null,null,null,null,null,null,"","",""]
[null,null,null,null,null,null,null,"","",""]
[null,null,null,null,null,null,null,"","",""]
[null,null,null,null,null,null,null,"","",""]
[null,null,null,null,null,null,null,"","",""]
[null,null,null,null,null,null,null,"","",""]
[null,null,null,null,null,null,null,"","",""]
[null,null,null,null,null,null,null,"","",""]
[null,null,null,null,null,null,null,"","",""]
[null,null,null,null,null,null,null,"","",""]
[null,null,null,null,null,null,null,"","",""]
[null,null,null,null,null,null,null,"","",""]
[null,null,null,null,null,null,null,"","",""]
[null,null,null,null,null,null,null,"","",""]
[null,null,null,null,null,null,null,"","",""]
[null,null,null,null,null,null,null,"","",""]
[null,null,null,null,null,null,null,"","",""]
[null,null,null,null,null,null,null,"","",""]
[null,null,null,null,null,null,null,"","",""]
[null,null,null,null,null,null,null,"","",""]
[null,null,null,null,null,null,null,"","",""]
[null,null,null,null,null,null,null,"","",""]
[null,null,null,null,null,null,null,"","",""]
[null,null,null,null,null,null,null,"","",""]
[null,null,null,null,null,null,null,"","",""]
[null,null,null,null,null,null,null,"","",""]
[null,null,null,null,null,null,null,"","",""]
[null,null,null,null,null,null,null,"","",""]
[null,null,null,null,null,null,null,"","",""]
[null,null,null,null,null,null,null,"","",""]
[null,null,null,null,null,null,null,"","",""]
[null,null,null,null,null,null,null,"","",""]
[null,null,null,null,null,null,null,"","",""]
[null,null,null,null,null,null,null,"","",""]
[null,null,null,null,null,null,null,"","",""]
[null,null,null,null,null,null,null,"","",""]
[null,null,null,null,null,null,null,"","",""]
[null,null,null,null,null,null,null,"","",""]
[null,null,null,null,null,null,null,"","",""]
[null,null,null,null,null,null,null,"","",""]
[null,null,null,null,null,null,null,{"$f":"IF(G2071<>\"\",G2071/12,\"\")","v":""},{"$f":"IF(G2071<>\"\",8,\"\")","v":""},{"$f":"IF(I2071<>\"\",I2071/12,\"\")","v":""}]
[null,null,null,null,null,null,null,"","",""]
[null,null,null,null,null,null,null,"","",""]
[null,null,null,null,null,null,null,"","",""]
[null,null,null,null,null,null,null,"","",""]
[null,null,null,null,null,null,null,"","",""]
[null,null,null,null,null,null,null,"","",""]
[null,null,null,null,null,null,null,"","",""]
[null,null,null,null,null,null,null,"","",""]
[null,null,null,null,null,null,null,"","",""]
[null,null,null,null,null,null,null,"","",""]
[null,null,null,null,null,null,null,"","",""]
[null,null,null,null,null,null,null,"","",""]
[null,null,null,null,null,null,null,"","",""]
[null,null,null,null,null,null,null,"","",""]
[null,null,null,null,null,null,null,"","",""]
[null,null,null,null,null,null,null,"","",""]
[null,null,null,null,null,null,null,"","",""]
[null,null,null,null,null,null,null,"","",""]
[null,null,null,null,null,null,null,"","",""]
[null,null,null,null,null,null,null,"","",""]
[null,null,null,null,null,null,null,"","",""]
[null,null,null,null,null,null,null,"","",""]
[null,null,null,null,null,null,null,"","",""]
[null,null,null,null,null,null,null,"","",""]
[null,null,null,null,null,null,null,"","",""]
[null,null,null,null,null,null,null,"","",""]
[null,null,null,null,null,null,null,"","",""]
[null,null,null,null,null,null,null,"","",""]
[null,null,null,null,null,null,null,"","",""]
[null,null,null,null,null,null,null,"","",""]
[null,null,null,null,null,null,null,"","",""]
[null,null,null,null,null,null,null,"","",""]
[null,null,null,null,null,null,null,"","",""]
[null,null,null,null,null,null,null,"","",""]
[null,null,null,null,null,null,null,"","",""]
[null,null,null,null,null,null,null,"","",""]
[null,null,null,null,null,null,null,"","",""]
[null,null,null,null,null,null,null,"","",""]
[null,null,null,null,null,null,null,"","",""]
[null,null,null,null,null,null,null,"","",""]
[null,null,null,null,null,null,null,"","",""]
[null,null,null,null,null,null,null,"","",""]
[null,null,null,null,null,null,null,"","",""]
[null,null,null,null,null,null,null,"","",""]
[null,null,null,null,null,null,null,"","",""]
[null,null,null,null,null,null,null,"","",""]
[null,null,null,null,null,null,null,"","",""]
[null,null,null,null,null,null,null,"","",""]
[null,null,null,null,null,null,null,"","",""]
[null,null,null,null,null,null,null,"","",""]
[null,null,null,null,null,null,null,"","",""]
[null,null,null,null,null,null,null,"","",""]
[null,null,null,null,null,null,null,"","",""]
[null,null,null,null,null,null,null,"","",""]
[null,null,null,null,null,null,null,"","",""]
[null,null,null,null,null,null,null,"","",""]
[null,null,null,null,null,null,null,"","",""]
[null,null,null,null,null,null,null,"","",""]
[null,null,null,null,null,null,null,"","",""]
[null,null,null,null,null,null,null,"","",""]
[null,null,null,null,null,null,null,"","",""]
[null,null,null,null,null,null,null,"","",""]
[null,null,null,null,null,null,null,"","",""]
[null,null,null,null,null,null,null,{"$f":"IF(G2135<>\"\",G2135/12,\"\")","v":""},{"$f":"IF(G2135<>\"\",8,\"\")","v":""},{"$f":"IF(I2135<>\"\",I2135/12,\"\")","v":""}]
[null,null,null,null,null,null,null,"","",""]
[null,null,null,null,null,null,null,"","",""]
[null,null,null,null,null,null,null,"","",""]
[null,null,null,null,null,null,null,"","",""]
[null,null,null,null,null,null,null,"","",""]
[null,null,null,null,null,null,null,"","",""]
[null,null,null,null,null,null,null,"","",""]
[null,null,null,null,null,null,null,"","",""]
[null,null,null,null,null,null,null,"","",""]
[null,null,null,null,null,null,null,"","",""]
[null,null,null,null,null,null,null,"","",""]
[null,null,null,null,null,null,null,"","",""]
[null,null,null,null,null,null,null,"","",""]
[null,null,null,null,null,null,null,"","",""]
[null,null,null,null,null,null,null,"","",""]
[null,null,null,null,null,null,null,"","",""]
[null,null,null,null,null,null,null,"","",""]
[null,null,null,null,null,null,null,"","",""]
[null,null,null,null,null,null,null,"","",""]
[null,null,null,null,null,null,null,"","",""]
[null,null,null,null,null,null,null,"","",""]
[null,null,null,null,null,null,null,"","",""]
[null,null,null,null,null,null,null,"","",""]
[null,null,null,null,null,null,null,"","",""]
[null,null,null,null,null,null,null,"","",""]
[null,null,null,null,null,null,null,"","",""]
[null,null,null,null,null,null,null,"","",""]
[null,null,null,null,null,null,null,"","",""]
[null,null,null,null,null,null,null,"","",""]
[null,null,null,null,null,null,null,"","",""]
[null,null,null,null,null,null,null,"","",""]
[null,null,null,null,null,null,null,"","",""]
[null,null,null,null,null,null,null,"","",""]
[null,null,null,null,null,null,null,"","",""]
[null,null,null,null,null,null,null,"","",""]
[null,null,null,null,null,null,null,"","",""]
[null,null,null,null,null,null,null,"","",""]
[null,null,null,null,null,null,null,"","",""]
[null,null,null,null,null,null,null,"","",""]
[null,null,null,null,null,null,null,"","",""]
[null,null,null,null,null,null,null,"","",""]
[null,null,null,null,null,null,null,"","",""]
[null,null,null,null,null,null,null,"","",""]
[null,null,null,null,null,null,null,"","",""]
[null,null,null,null,null,null,null,"","",""]
[null,null,null,null,null,null,null,"","",""]
[null,null,null,null,null,null,null,"","",""]
[null,null,null,null,null,null,null,"","",""]
[null,null,null,null,null,null,null,"","",""]
[null,null,null,null,null,null,null,"","",""]
[null,null,null,null,null,null,null,"","",""]
[null,null,null,null,null,null,null,"","",""]
[null,null,null,null,null,null,null,"","",""]
[null,null,null,null,null,null,null,"","",""]
[null,null,null,null,null,null,null,"","",""]
[null,null,null,null,null,null,null,"","",""]
[null,null,null,null,null,null,null,"","",""]
[null,null,null,null,null,null,null,"","",""]
[null,null,null,null,null,null,null,"","",""]
[null,null,null,null,null,null,null,"","",""]
[null,null,null,null,null,null,null,"","",""]
[null,null,null,null,null,null,null,"","",""]
[null,null,null,null,null,null,null,"","",""]
[null,null,null,null,null,null,null,{"$f":"IF(G2199<>\"\",G2199/12,\"\")","v":""},{"$f":"IF(G2199<>\"\",8,\"\")","v":""},{"$f":"IF(I2199<>\"\",I2199/12,\"\")","v":""}]
[null,null,null,null,null,null,null,"","",""]
[null,null,null,null,null,null,null,"","",""]
[null,null,null,null,null,null,null,"","",""]
[null,null,null,null,null,null,null,"","",""]
[null,null,null,null,null,null,null,"","",""]
[null,null,null,null,null,null,null,"","",""]
[null,null,null,null,null,null,null,"","",""]
[null,null,null,null,null,null,null,"","",""]
[null,null,null,null,null,null,null,"","",""]
[null,null,null,null,null,null,null,"","",""]
[null,null,null,null,null,null,null,"","",""]
[null,null,null,null,null,null,null,"","",""]
[null,null,null,null,null,null,null,"","",""]
[null,null,null,null,null,null,null,"","",""]
[null,null,null,null,null,null,null,"","",""]
[null,null,null,null,null,null,null,"","",""]
[null,null,null,null,null,null,null,"","",""]
[null,null,null,null,null,null,null,"","",""]
[null,null,null,null,null,null,null,"","",""]
[null,null,null,null,null,null,null,"","",""]
[null,null,null,null,null,null,null,"","",""]
[null,null,null,null,null,null,null,"","",""]
[null,null,null,null,null,null,null,"","",""]
[null,null,null,null,null,null,null,"","",""]
[null,null,null,null,null,null,null,"","",""]
[null,null,null,null,null,null,null,"","",""]
[null,null,null,null,null,null,null,"","",""]
[null,null,null,null,null,null,null,"","",""]
[null,null,null,null,null,null,null,"","",""]
[null,null,null,null,null,null,null,"","",""]
[null,null,null,null,null,null,null,"","",""]
[null,null,null,null,null,null,null,"","",""]
[null,null,null,null,null,null,null,"","",""]
[null,null,null,null,null,null,null,"","",""]
[null,null,null,null,null,null,null,"","",""]
[null,null,null,null,null,null,null,"","",""]
[null,null,null,null,null,null,null,"","",""]
[null,null,null,null,null,null,null,"","",""]
[null,null,null,null,null,null,null,"","",""]
[null,null,null,null,null,null,null,"","",""]
[null,null,null,null,null,null,null,"","",""]
[null,null,null,null,null,null,null,"","",""]
[null,null,null,null,null,null,null,"","",""]
[null,null,null,null,null,null,null,"","",""]
[null,null,null,null,null,null,null,"","",""]
[null,null,null,null,null,null,null,"","",""]
[null,null,null,null,null,null,null,"","",""]
[null,null,null,null,null,null,null,"","",""]
[null,null,null,null,null,null,null,"","",""]
[null,null,null,null,null,null,null,"","",""]
[null,null,null,null,null,null,null,"","",""]
[null,null,null,null,null,null,null,"","",""]
[null,null,null,null,null,null,null,"","",""]
[null,null,null,null,null,null,null,"","",""]
[null,null,null,null,null,null,null,"","",""]
[null,null,null,null,null,null,null,"","",""]
[null,null,null,null,null,null,null,"","",""]
[null,null,null,null,null,null,null,"","",""]
[null,null,null,null,null,null,null,"","",""]
[null,null,null,null,null,null,null,"","",""]
[null,null,null,null,null,null,null,"","",""]
[null,null,null,null,null,null,null,"","",""]
[null,null,null,null,null,null,null,"","",""]
[null,null,null,null,null,null,null,{"$f":"IF(G2263<>\"\",G2263/12,\"\")","v":""},{"$f":"IF(G2263<>\"\",8,\"\")","v":""},{"$f":"IF(I2263<>\"\",I2263/12,\"\")","v":""}]
[null,null,null,null,null,null,null,"","",""]
[null,null,null,null,null,null,null,"","",""]
[null,null,null,null,null,null,null,"","",""]
[null,null,null,null,null,null,null,"","",""]
[null,null,null,null,null,null,null,"","",""]
[null,null,null,null,null,null,null,"","",""]
[null,null,null,null,null,null,null,"","",""]
[null,null,null,null,null,null,null,"","",""]
[null,null,null,null,null,null,null,"","",""]
[null,null,null,null,null,null,null,"","",""]
[null,null,null,null,null,null,null,"","",""]
[null,null,null,null,null,null,null,"","",""]
[null,null,null,null,null,null,null,"","",""]
[null,null,null,null,null,null,null,"","",""]
[null,null,null,null,null,null,null,"","",""]
[null,null,null,null,null,null,null,"","",""]
[null,null,null,null,null,null,null,"","",""]
[null,null,null,null,null,null,null,"","",""]
[null,null,null,null,null,null,null,"","",""]
[null,null,null,null,null,null,null,"","",""]
[null,null,null,null,null,null,null,"","",""]
[null,null,null,null,null,null,null,"","",""]
[null,null,null,null,null,null,null,"","",""]
[null,null,null,null,null,null,null,"","",""]
[null,null,null,null,null,null,null,"","",""]
[null,null,null,null,null,null,null,"","",""]
[null,null,null,null,null,null,null,"","",""]
[null,null,null,null,null,null,null,"","",""]
[null,null,null,null,null,null,null,"","",""]
[null,null,null,null,null,null,null,"","",""]
[null,null,null,null,null,null,null,"","",""]
[null,null,null,null,null,null,null,"","",""]
[null,null,null,null,null,null,null,"","",""]
[null,null,null,null,null,null,null,"","",""]
[null,null,null,null,null,null,null,"","",""]
[null,null,null,null,null,null,null,"","",""]
[null,null,null,null,null,null,null,"","",""]
[null,null,null,null,null,null,null,"","",""]
[null,null,null,null,null,null,null,"","",""]
[null,null,null,null,null,null,null,"","",""]
[null,null,null,null,null,null,null,"","",""]
[null,null,null,null,null,null,null,"","",""]
[null,null,null,null,null,null,null,"","",""]
[null,null,null,null,null,null,null,"","",""]
[null,null,null,null,null,null,null,"","",""]
[null,null,null,null,null,null,null,"","",""]
[null,null,null,null,null,null,null,"","",""]
[null,null,null,null,null,null,null,"","",""]
[null,null,null,null,null,null,null,"","",""]
[null,null,null,null,null,null,null,"","",""]
[null,null,null,null,null,null,null,"","",""]
[null,null,null,null,null,null,null,"","",""]
[null,null,null,null,null,null,null,"","",""]
[null,null,null,null,null,null,null,"","",""]
[null,null,null,null,null,null,null,"","",""]
[null,null,null,null,null,null,null,"","",""]
[null,null,null,null,null,null,null,"","",""]
[null,null,null,null,null,null,null,"","",""]
[null,null,null,null,null,null,null,"","",""]
[null,null,null,null,null,null,null,"","",""]
[null,null,null,null,null,null,null,"","",""]
[null,null,null,null,null,null,null,"","",""]
[null,null,null,null,null,null,null,"","",""]
[null,null,null,null,null,null,null,{"$f":"IF(G2327<>\"\",G2327/12,\"\")","v":""},{"$f":"IF(G2327<>\"\",8,\"\")","v":""},{"$f":"IF(I2327<>\"\",I2327/12,\"\")","v":""}]
[null,null,null,null,null,null,null,"","",""]
[null,null,null,null,null,null,null,"","",""]
[null,null,null,null,null,null,null,"","",""]
[null,null,null,null,null,null,null,"","",""]
[null,null,null,null,null,null,null,"","",""]
[null,null,null,null,null,null,null,"","",""]
[null,null,null,null,null,null,null,"","",""]
[null,null,null,null,null,null,null,"","",""]
[null,null,null,null,null,null,null,"","",""]
[null,null,null,null,null,null,null,"","",""]
[null,null,null,null,null,null,null,"","",""]
[null,null,null,null,null,null,null,"","",""]
[null,null,null,null,null,null,null,"","",""]
[null,null,null,null,null,null,null,"","",""]
[null,null,null,null,null,null,null,"","",""]
[null,null,null,null,null,null,null,"","",""]
[null,null,null,null,null,null,null,"","",""]
[null,null,null,null,null,null,null,"","",""]
[null,null,null,null,null,null,null,"","",""]
[null,null,null,null,null,null,null,"","",""]
[null,null,null,null,null,null,null,"","",""]
[null,null,null,null,null,null,null,"","",""]
[null,null,null,null,null,null,null,"","",""]
[null,null,null,null,null,null,null,"","",""]
[null,null,null,null,null,null,null,"","",""]
[null,null,null,null,null,null,null,"","",""]
[null,null,null,null,null,null,null,"","",""]
[null,null,null,null,null,null,null,"","",""]
[null,null,null,null,null,null,null,"","",""]
[null,null,null,null,null,null,null,"","",""]
[null,null,null,null,null,null,null,"","",""]
[null,null,null,null,null,null,null,"","",""]
[null,null,null,null,null,null,null,"","",""]
[null,null,null,null,null,null,null,"","",""]
[null,null,null,null,null,null,null,"","",""]
[null,null,null,null,null,null,null,"","",""]
[null,null,null,null,null,null,null,"","",""]
[null,null,null,null,null,null,null,"","",""]
[null,null,null,null,null,null,null,"","",""]
[null,null,null,null,null,null,null,"","",""]
[null,null,null,null,null,null,null,"","",""]
[null,null,null,null,null,null,null,"","",""]
[null,null,null,null,null,null,null,"","",""]
[null,null,null,null,null,null,null,"","",""]
[null,null,null,null,null,null,null,"","",""]
[null,null,null,null,null,null,null,"","",""]
[null,null,null,null,null,null,null,"","",""]
[null,null,null,null,null,null,null,"","",""]
[null,null,null,null,null,null,null,"","",""]
[null,null,null,null,null,null,null,"","",""]
[null,null,null,null,null,null,null,"","",""]
[null,null,null,null,null,null,null,"","",""]
[null,null,null,null,null,null,null,"","",""]
[null,null,null,null,null,null,null,"","",""]
[null,null,null,null,null,null,null,"","",""]
[null,null,null,null,null,null,null,"","",""]
[null,null,null,null,null,null,null,"","",""]
[null,null,null,null,null,null,null,"","",""]
[null,null,null,null,null,null,null,"","",""]
[null,null,null,null,null,null,null,"","",""]
[null,null,null,null,null,null,null,"","",""]
[null,null,null,null,null,null,null,"","",""]
[null,null,null,null,null,null,null,"","",""]
[null,null,null,null,null,null,null,{"$f":"IF(G2391<>\"\",G2391/12,\"\")","v":""},{"$f":"IF(G2391<>\"\",8,\"\")","v":""},{"$f":"IF(I2391<>\"\",I2391/12,\"\")","v":""}]
[null,null,null,null,null,null,null,"","",""]
[null,null,null,null,null,null,null,"","",""]
[null,null,null,null,null,null,null,"","",""]
[null,null,null,null,null,null,null,"","",""]
[null,null,null,null,null,null,null,"","",""]
[null,null,null,null,null,null,null,"","",""]
[null,null,null,null,null,null,null,"","",""]
[null,null,null,null,null,null,null,"","",""]
[null,null,null,null,null,null,null,"","",""]
[null,null,null,null,null,null,null,"","",""]
[null,null,null,null,null,null,null,"","",""]
[null,null,null,null,null,null,null,"","",""]
[null,null,null,null,null,null,null,"","",""]
[null,null,null,null,null,null,null,"","",""]
[null,null,null,null,null,null,null,"","",""]
[null,null,null,null,null,null,null,"","",""]
[null,null,null,null,null,null,null,"","",""]
[null,null,null,null,null,null,null,"","",""]
[null,null,null,null,null,null,null,"","",""]
[null,null,null,null,null,null,null,"","",""]
[null,null,null,null,null,null,null,"","",""]
[null,null,null,null,null,null,null,"","",""]
[null,null,null,null,null,null,null,"","",""]
[null,null,null,null,null,null,null,"","",""]
[null,null,null,null,null,null,null,"","",""]
[null,null,null,null,null,null,null,"","",""]
[null,null,null,null,null,null,null,"","",""]
[null,null,null,null,null,null,null,"","",""]
[null,null,null,null,null,null,null,"","",""]
[null,null,null,null,null,null,null,"","",""]
[null,null,null,null,null,null,null,"","",""]
[null,null,null,null,null,null,null,"","",""]
[null,null,null,null,null,null,null,"","",""]
[null,null,null,null,null,null,null,"","",""]
[null,null,null,null,null,null,null,"","",""]
[null,null,null,null,null,null,null,"","",""]
[null,null,null,null,null,null,null,"","",""]
[null,null,null,null,null,null,null,"","",""]
[null,null,null,null,null,null,null,"","",""]
[null,null,null,null,null,null,null,"","",""]
[null,null,null,null,null,null,null,"","",""]
[null,null,null,null,null,null,null,"","",""]
[null,null,null,null,null,null,null,"","",""]
[null,null,null,null,null,null,null,"","",""]
[null,null,null,null,null,null,null,"","",""]
[null,null,null,null,null,null,null,"","",""]
[null,null,null,null,null,null,null,"","",""]
[null,null,null,null,null,null,null,"","",""]
[null,null,null,null,null,null,null,"","",""]
[null,null,null,null,null,null,null,"","",""]
[null,null,null,null,null,null,null,"","",""]
[null,null,null,null,null,null,null,"","",""]
[null,null,null,null,null,null,null,"","",""]
[null,null,null,null,null,null,null,"","",""]
[null,null,null,null,null,null,null,"","",""]
[null,null,null,null,null,null,null,"","",""]
[null,null,null,null,null,null,null,"","",""]
[null,null,null,null,null,null,null,"","",""]
[null,null,null,null,null,null,null,"","",""]
[null,null,null,null,null,null,null,"","",""]
[null,null,null,null,null,null,null,"","",""]
[null,null,null,null,null,null,null,"","",""]
[null,null,null,null,null,null,null,"","",""]
[null,null,null,null,null,null,null,{"$f":"IF(G2455<>\"\",G2455/12,\"\")","v":""},{"$f":"IF(G2455<>\"\",8,\"\")","v":""},{"$f":"IF(I2455<>\"\",I2455/12,\"\")","v":""}]
[null,null,null,null,null,null,null,"","",""]
[null,null,null,null,null,null,null,"","",""]
[null,null,null,null,null,null,null,"","",""]
[null,null,null,null,null,null,null,"","",""]
[null,null,null,null,null,null,null,"","",""]
[null,null,null,null,null,null,null,"","",""]
[null,null,null,null,null,null,null,"","",""]
[null,null,null,null,null,null,null,"","",""]
[null,null,null,null,null,null,null,"","",""]
[null,null,null,null,null,null,null,"","",""]
[null,null,null,null,null,null,null,"","",""]
[null,null,null,null,null,null,null,"","",""]
[null,null,null,null,null,null,null,"","",""]
[null,null,null,null,null,null,null,"","",""]
[null,null,null,null,null,null,null,"","",""]
[null,null,null,null,null,null,null,"","",""]
[null,null,null,null,null,null,null,"","",""]
[null,null,null,null,null,null,null,"","",""]
[null,null,null,null,null,null,null,"","",""]
[null,null,null,null,null,null,null,"","",""]
[null,null,null,null,null,null,null,"","",""]
[null,null,null,null,null,null,null,"","",""]
[null,null,null,null,null,null,null,"","",""]
[null,null,null,null,null,null,null,"","",""]
[null,null,null,null,null,null,null,"","",""]
[null,null,null,null,null,null,null,"","",""]
[null,null,null,null,null,null,null,"","",""]
[null,null,null,null,null,null,null,"","",""]
[null,null,null,null,null,null,null,"","",""]
[null,null,null,null,null,null,null,"","",""]
[null,null,null,null,null,null,null,"","",""]
[null,null,null,null,null,null,null,"","",""]
[null,null,null,null,null,null,null,"","",""]
[null,null,null,null,null,null,null,"","",""]
[null,null,null,null,null,null,null,"","",""]
[null,null,null,null,null,null,null,"","",""]
[null,null,null,null,null,null,null,"","",""]
[null,null,null,null,null,null,null,"","",""]
[null,null,null,null,null,null,null,"","",""]
[null,null,null,null,null,null,null,"","",""]
[null,null,null,null,null,null,null,"","",""]
[null,null,null,null,null,null,null,"","",""]
[null,null,null,null,null,null,null,"","",""]
[null,null,null,null,null,null,null,"","",""]
[null,null,null,null,null,null,null,"","",""]
[null,null,null,null,null,null,null,"","",""]
[null,null,null,null,null,null,null,"","",""]
[null,null,null,null,null,null,null,"","",""]
[null,null,null,null,null,null,null,"","",""]
[null,null,null,null,null,null,null,"","",""]
[null,null,null,null,null,null,null,"","",""]
[null,null,null,null,null,null,null,"","",""]
[null,null,null,null,null,null,null,"","",""]
[null,null,null,null,null,null,null,"","",""]
[null,null,null,null,null,null,null,"","",""]
[null,null,null,null,null,null,null,"","",""]
[null,null,null,null,null,null,null,"","",""]
[null,null,null,null,null,null,null,"","",""]
[null,null,null,null,null,null,null,"","",""]
[null,null,null,null,null,null,null,"","",""]
[null,null,null,null,null,null,null,"","",""]
[null,null,null,null,null,null,null,"","",""]
[null,null,null,null,null,null,null,"","",""]
[null,null,null,null,null,null,null,{"$f":"IF(G2519<>\"\",G2519/12,\"\")","v":""},{"$f":"IF(G2519<>\"\",8,\"\")","v":""},{"$f":"IF(I2519<>\"\",I2519/12,\"\")","v":""}]
[null,null,null,null,null,null,null,"","",""]
[null,null,null,null,null,null,null,"","",""]
[null,null,null,null,null,null,null,"","",""]
[null,null,null,null,null,null,null,"","",""]
[null,null,null,null,null,null,null,"","",""]
[null,null,null,null,null,null,null,"","",""]
[null,null,null,null,null,null,null,"","",""]
[null,null,null,null,null,null,null,"","",""]
[null,null,null,null,null,null,null,"","",""]
[null,null,null,null,null,null,null,"","",""]
[null,null,null,null,null,null,null,"","",""]
[null,null,null,null,null,null,null,"","",""]
[null,null,null,null,null,null,null,"","",""]
[null,null,null,null,null,null,null,"","",""]
[null,null,null,null,null,null,null,"","",""]
[null,null,null,null,null,null,null,"","",""]
[null,null,null,null,null,null,null,"","",""]
[null,null,null,null,null,null,null,"","",""]
[null,null,null,null,null,null,null,"","",""]
[null,null,null,null,null,null,null,"","",""]
[null,null,null,null,null,null,null,"","",""]
[null,null,null,null,null,null,null,"","",""]
[null,null,null,null,null,null,null,"","",""]
[null,null,null,null,null,null,null,"","",""]
[null,null,null,null,null,null,null,"","",""]
[null,null,null,null,null,null,null,"","",""]
[null,null,null,null,null,null,null,"","",""]
[null,null,null,null,null,null,null,"","",""]
[null,null,null,null,null,null,null,"","",""]
[null,null,null,null,null,null,null,"","",""]
[null,null,null,null,null,null,null,"","",""]
[null,null,null,null,null,null,null,"","",""]
[null,null,null,null,null,null,null,"","",""]
[null,null,null,null,null,null,null,"","",""]
[null,null,null,null,null,null,null,"","",""]
[null,null,null,null,null,null,null,"","",""]
[null,null,null,null,null,null,null,"","",""]
[null,null,null,null,null,null,null,"","",""]
[null,null,null,null,null,null,null,"","",""]
[null,null,null,null,null,null,null,"","",""]
[null,null,null,null,null,null,null,"","",""]
[null,null,null,null,null,null,null,"","",""]
[null,null,null,null,null,null,null,"","",""]
[null,null,null,null,null,null,null,"","",""]
[null,null,null,null,null,null,null,"","",""]
[null,null,null,null,null,null,null,"","",""]
[null,null,null,null,null,null,null,"","",""]
[null,null,null,null,null,null,null,"","",""]
[null,null,null,null,null,null,null,"","",""]
[null,null,null,null,null,null,null,"","",""]
[null,null,null,null,null,null,null,"","",""]
[null,null,null,null,null,null,null,"","",""]
[null,null,null,null,null,null,null,"","",""]
[null,null,null,null,null,null,null,"","",""]
[null,null,null,null,null,null,null,"","",""]
[null,null,null,null,null,null,null,"","",""]
[null,null,null,null,null,null,null,"","",""]
[null,null,null,null,null,null,null,"","",""]
[null,null,null,null,null,null,null,"","",""]
[null,null,null,null,null,null,null,"","",""]
[null,null,null,null,null,null,null,"","",""]
[null,null,null,null,null,null,null,"","",""]
[null,null,null,null,null,null,null,"","",""]
[null,null,null,null,null,null,null,{"$f":"IF(G2583<>\"\",G2583/12,\"\")","v":""},{"$f":"IF(G2583<>\"\",8,\"\")","v":""},{"$f":"IF(I2583<>\"\",I2583/12,\"\")","v":""}]
[null,null,null,null,null,null,null,"","",""]
[null,null,null,null,null,null,null,"","",""]
[null,null,null,null,null,null,null,"","",""]
[null,null,null,null,null,null,null,"","",""]
[null,null,null,null,null,null,null,"","",""]
[null,null,null,null,null,null,null,"","",""]
[null,null,null,null,null,null,null,"","",""]
[null,null,null,null,null,null,null,"","",""]
[null,null,null,null,null,null,null,"","",""]
[null,null,null,null,null,null,null,"","",""]
[null,null,null,null,null,null,null,"","",""]
[null,null,null,null,null,null,null,"","",""]
[null,null,null,null,null,null,null,"","",""]
[null,null,null,null,null,null,null,"","",""]
[null,null,null,null,null,null,null,"","",""]
[null,null,null,null,null,null,null,"","",""]
[null,null,null,null,null,null,null,"","",""]
[null,null,null,null,null,null,null,"","",""]
[null,null,null,null,null,null,null,"","",""]
[null,null,null,null,null,null,null,"","",""]
[null,null,null,null,null,null,null,"","",""]
[null,null,null,null,null,null,null,"","",""]
[null,null,null,null,null,null,null,"","",""]
[null,null,null,null,null,null,null,"","",""]
[null,null,null,null,null,null,null,"","",""]
[null,null,null,null,null,null,null,"","",""]
[null,null,null,null,null,null,null,"","",""]
[null,null,null,null,null,null,null,"","",""]
[null,null,null,null,null,null,null,"","",""]
[null,null,null,null,null,null,null,"","",""]
[null,null,null,null,null,null,null,"","",""]
[null,null,null,null,null,null,null,"","",""]
[null,null,null,null,null,null,null,"","",""]
[null,null,null,null,null,null,null,"","",""]
[null,null,null,null,null,null,null,"","",""]
[null,null,null,null,null,null,null,"","",""]
[null,null,null,null,null,null,null,"","",""]
[null,null,null,null,null,null,null,"","",""]
[null,null,null,null,null,null,null,"","",""]
[null,null,null,null,null,null,null,"","",""]
[null,null,null,null,null,null,null,"","",""]
[null,null,null,null,null,null,null,"","",""]
[null,null,null,null,null,null,null,"","",""]
[null,null,null,null,null,null,null,"","",""]
[null,null,null,null,null,null,null,"","",""]
[null,null,null,null,null,null,null,"","",""]
[null,null,null,null,null,null,null,"","",""]
[null,null,null,null,null,null,null,"","",""]
[null,null,null,null,null,null,null,"","",""]
[null,null,null,null,null,null,null,"","",""]
[null,null,null,null,null,null,null,"","",""]
[null,null,null,null,null,null,null,"","",""]
[null,null,null,null,null,null,null,"","",""]
[null,null,null,null,null,null,null,"","",""]
[null,null,null,null,null,null,null,"","",""]
[null,null,null,null,null,null,null,"","",""]
[null,null,null,null,null,null,null,"","",""]
[null,null,null,null,null,null,null,"","",""]
[null,null,null,null,null,null,null,"","",""]
[null,null,null,null,null,null,null,"","",""]
[null,null,null,null,null,null,null,"","",""]
[null,null,null,null,null,null,null,"","",""]
[null,null,null,null,null,null,null,"","",""]
[null,null,null,null,null,null,null,{"$f":"IF(G2647<>\"\",G2647/12,\"\")","v":""},{"$f":"IF(G2647<>\"\",8,\"\")","v":""},{"$f":"IF(I2647<>\"\",I2647/12,\"\")","v":""}]
[null,null,null,null,null,null,null,"","",""]
[null,null,null,null,null,null,null,"","",""]
[null,null,null,null,null,null,null,"","",""]
[null,null,null,null,null,null,null,"","",""]
[null,null,null,null,null,null,null,"","",""]
[null,null,null,null,null,null,null,"","",""]
[null,null,null,null,null,null,null,"","",""]
[null,null,null,null,null,null,null,"","",""]
[null,null,null,null,null,null,null,"","",""]
[null,null,null,null,null,null,null,"","",""]
[null,null,null,null,null,null,null,"","",""]
[null,null,null,null,null,null,null,"","",""]
[null,null,null,null,null,null,null,"","",""]
[null,null,null,null,null,null,null,"","",""]
[null,null,null,null,null,null,null,"","",""]
[null,null,null,null,null,null,null,"","",""]
[null,null,null,null,null,null,null,"","",""]
[null,null,null,null,null,null,null,"","",""]
[null,null,null,null,null,null,null,"","",""]
[null,null,null,null,null,null,null,"","",""]
[null,null,null,null,null,null,null,"","",""]
[null,null,null,null,null,null,null,"","",""]
[null,null,null,null,null,null,null,"","",""]
[null,null,null,null,null,null,null,"","",""]
[null,null,null,null,null,null,null,"","",""]
[null,null,null,null,null,null,null,"","",""]
[null,null,null,null,null,null,null,"","",""]
[null,null,null,null,null,null,null,"","",""]
[null,null,null,null,null,null,null,"","",""]
[null,null,null,null,null,null,null,"","",""]
[null,null,null,null,null,null,null,"","",""]
[null,null,null,null,null,null,null,"","",""]
[null,null,null,null,null,null,null,"","",""]
[null,null,null,null,null,null,null,"","",""]
[null,null,null,null,null,null,null,"","",""]
[null,null,null,null,null,null,null,"","",""]
[null,null,null,null,null,null,null,"","",""]
[null,null,null,null,null,null,null,"","",""]
[null,null,null,null,null,null,null,"","",""]
[null,null,null,null,null,null,null,"","",""]
[null,null,null,null,null,null,null,"","",""]
[null,null,null,null,null,null,null,"","",""]
[null,null,null,null,null,null,null,"","",""]
[null,null,null,null,null,null,null,"","",""]
[null,null,null,null,null,null,null,"","",""]
[null,null,null,null,null,null,null,"","",""]
[null,null,null,null,null,null,null,"","",""]
[null,null,null,null,null,null,null,"","",""]
[null,null,null,null,null,null,null,"","",""]
[null,null,null,null,null,null,null,"","",""]
[null,null,null,null,null,null,null,"","",""]
[null,null,null,null,null,null,null,"","",""]
[null,null,null,null,null,null,null,"","",""]
[null,null,null,null,null,null,null,"","",""]
[null,null,null,null,null,null,null,"","",""]
[null,null,null,null,null,null,null,"","",""]
[null,null,null,null,null,null,null,"","",""]
[null,null,null,null,null,null,null,"","",""]
[null,null,null,null,null,null,null,"","",""]
[null,null,null,null,null,null,null,"","",""]
[null,null,null,null,null,null,null,"","",""]
[null,null,null,null,null,null,null,"","",""]
[null,null,null,null,null,null,null,"","",""]
[null,null,null,null,null,null,null,{"$f":"IF(G2711<>\"\",G2711/12,\"\")","v":""},{"$f":"IF(G2711<>\"\",8,\"\")","v":""},{"$f":"IF(I2711<>\"\",I2711/12,\"\")","v":""}]
[null,null,null,null,null,null,null,"","",""]
[null,null,null,null,null,null,null,"","",""]
[null,null,null,null,null,null,null,"","",""]
[null,null,null,null,null,null,null,"","",""]
[null,null,null,null,null,null,null,"","",""]
[null,null,null,null,null,null,null,"","",""]
[null,null,null,null,null,null,null,"","",""]
[null,null,null,null,null,null,null,"","",""]
[null,null,null,null,null,null,null,"","",""]
[null,null,null,null,null,null,null,"","",""]
[null,null,null,null,null,null,null,"","",""]
[null,null,null,null,null,null,null,"","",""]
[null,null,null,null,null,null,null,"","",""]
[null,null,null,null,null,null,null,"","",""]
[null,null,null,null,null,null,null,"","",""]
[null,null,null,null,null,null,null,"","",""]
[null,null,null,null,null,null,null,"","",""]
[null,null,null,null,null,null,null,"","",""]
[null,null,null,null,null,null,null,"","",""]
[null,null,null,null,null,null,null,"","",""]
[null,null,null,null,null,null,null,"","",""]
[null,null,null,null,null,null,null,"","",""]
[null,null,null,null,null,null,null,"","",""]
[null,null,null,null,null,null,null,"","",""]
[null,null,null,null,null,null,null,"","",""]
[null,null,null,null,null,null,null,"","",""]
[null,null,null,null,null,null,null,"","",""]
[null,null,null,null,null,null,null,"","",""]
[null,null,null,null,null,null,null,"","",""]
[null,null,null,null,null,null,null,"","",""]
[null,null,null,null,null,null,null,"","",""]
[null,null,null,null,null,null,null,"","",""]
[null,null,null,null,null,null,null,"","",""]
[null,null,null,null,null,null,null,"","",""]
[null,null,null,null,null,null,null,"","",""]
[null,null,null,null,null,null,null,"","",""]
[null,null,null,null,null,null,null,"","",""]
[null,null,null,null,null,null,null,"","",""]
[null,null,null,null,null,null,null,"","",""]
[null,null,null,null,null,null,null,"","",""]
[null,null,null,null,null,null,null,"","",""]
[null,null,null,null,null,null,null,"","",""]
[null,null,null,null,null,null,null,"","",""]
[null,null,null,null,null,null,null,"","",""]
[null,null,null,null,null,null,null,"","",""]
[null,null,null,null,null,null,null,"","",""]
[null,null,null,null,null,null,null,"","",""]
[null,null,null,null,null,null,null,"","",""]
[null,null,null,null,null,null,null,"","",""]
[null,null,null,null,null,null,null,"","",""]
[null,null,null,null,null,null,null,"","",""]
[null,null,null,null,null,null,null,"","",""]
[null,null,null,null,null,null,null,"","",""]
[null,null,null,null,null,null,null,"","",""]
[null,null,null,null,null,null,null,"","",""]
[null,null,null,null,null,null,null,"","",""]
[null,null,null,null,null,null,null,"","",""]
[null,null,null,null,null,null,null,"","",""]
[null,null,null,null,null,null,null,"","",""]
[null,null,null,null,null,null,null,"","",""]
[null,null,null,null,null,null,null,"","",""]
[null,null,null,null,null,null,null,"","",""]
[null,null,null,null,null,null,null,"","",""]
[null,null,null,null,null,null,null,{"$f":"IF(G2775<>\"\",G2775/12,\"\")","v":""},{"$f":"IF(G2775<>\"\",8,\"\")","v":""},{"$f":"IF(I2775<>\"\",I2775/12,\"\")","v":""}]
[null,null,null,null,null,null,null,"","",""]
[null,null,null,null,null,null,null,"","",""]
[null,null,null,null,null,null,null,"","",""]
[null,null,null,null,null,null,null,"","",""]
[null,null,null,null,null,null,null,"","",""]
[null,null,null,null,null,null,null,"","",""]
[null,null,null,null,null,null,null,"","",""]
[null,null,null,null,null,null,null,"","",""]
[null,null,null,null,null,null,null,"","",""]
[null,null,null,null,null,null,null,"","",""]
[null,null,null,null,null,null,null,"","",""]
[null,null,null,null,null,null,null,"","",""]
[null,null,null,null,null,null,null,"","",""]
[null,null,null,null,null,null,null,"","",""]
[null,null,null,null,null,null,null,"","",""]
[null,null,null,null,null,null,null,"","",""]
[null,null,null,null,null,null,null,"","",""]
[null,null,null,null,null,null,null,"","",""]
[null,null,null,null,null,null,null,"","",""]
[null,null,null,null,null,null,null,"","",""]
[null,null,null,null,null,null,null,"","",""]
[null,null,null,null,null,null,null,"","",""]
[null,null,null,null,null,null,null,"","",""]
[null,null,null,null,null,null,null,"","",""]
[null,null,null,null,null,null,null,"","",""]
[null,null,null,null,null,null,null,"","",""]
[null,null,null,null,null,null,null,"","",""]
[null,null,null,null,null,null,null,"","",""]
[null,null,null,null,null,null,null,"","",""]
[null,null,null,null,null,null,null,"","",""]
[null,null,null,null,null,null,null,"","",""]
[null,null,null,null,null,null,null,"","",""]
[null,null,null,null,null,null,null,"","",""]
[null,null,null,null,null,null,null,"","",""]
[null,null,null,null,null,null,null,"","",""]
[null,null,null,null,null,null,null,"","",""]
[null,null,null,null,null,null,null,"","",""]
[null,null,null,null,null,null,null,"","",""]
[null,null,null,null,null,null,null,"","",""]
[null,null,null,null,null,null,null,"","",""]
[null,null,null,null,null,null,null,"","",""]
[null,null,null,null,null,null,null,"","",""]
[null,null,null,null,null,null,null,"","",""]
[null,null,null,null,null,null,null,"","",""]
[null,null,null,null,null,null,null,"","",""]
[null,null,null,null,null,null,null,"","",""]
[null,null,null,null,null,null,null,"","",""]
[null,null,null,null,null,null,null,"","",""]
[null,null,null,null,null,null,null,"","",""]
[null,null,null,null,null,null,null,"","",""]
[null,null,null,null,null,null,null,"","",""]
[null,null,null,null,null,null,null,"","",""]
[null,null,null,null,null,null,null,"","",""]
[null,null,null,null,null,null,null,"","",""]
[null,null,null,null,null,null,null,"","",""]
[null,null,null,null,null,null,null,"","",""]
[null,null,null,null,null,null,null,"","",""]
[null,null,null,null,null,null,null,"","",""]
[null,null,null,null,null,null,null,"","",""]
[null,null,null,null,null,null,null,"","",""]
[null,null,null,null,null,null,null,"","",""]
[null,null,null,null,null,null,null,"","",""]
[null,null,null,null,null,null,null,"","",""]
[null,null,null,null,null,null,null,{"$f":"IF(G2839<>\"\",G2839/12,\"\")","v":""},{"$f":"IF(G2839<>\"\",8,\"\")","v":""},{"$f":"IF(I2839<>\"\",I2839/12,\"\")","v":""}]
[null,null,null,null,null,null,null,"","",""]
[null,null,null,null,null,null,null,"","",""]
[null,null,null,null,null,null,null,"","",""]
[null,null,null,null,null,null,null,"","",""]
[null,null,null,null,null,null,null,"","",""]
[null,null,null,null,null,null,null,"","",""]
[null,null,null,null,null,null,null,"","",""]
[null,null,null,null,null,null,null,"","",""]
[null,null,null,null,null,null,null,"","",""]
[null,null,null,null,null,null,null,"","",""]
[null,null,null,null,null,null,null,"","",""]
[null,null,null,null,null,null,null,"","",""]
[null,null,null,null,null,null,null,"","",""]
[null,null,null,null,null,null,null,"","",""]
[null,null,null,null,null,null,null,"","",""]
[null,null,null,null,null,null,null,"","",""]
[null,null,null,null,null,null,null,"","",""]
[null,null,null,null,null,null,null,"","",""]
[null,null,null,null,null,null,null,"","",""]
[null,null,null,null,null,null,null,"","",""]
[null,null,null,null,null,null,null,"","",""]
[null,null,null,null,null,null,null,"","",""]
[null,null,null,null,null,null,null,"","",""]
[null,null,null,null,null,null,null,"","",""]
[null,null,null,null,null,null,null,"","",""]
[null,null,null,null,null,null,null,"","",""]
[null,null,null,null,null,null,null,"","",""]
[null,null,null,null,null,null,null,"","",""]
[null,null,null,null,null,null,null,"","",""]
[null,null,null,null,null,null,null,"","",""]
[null,null,null,null,null,null,null,"","",""]
[null,null,null,null,null,null,null,"","",""]
[null,null,null,null,null,null,null,"","",""]
[null,null,null,null,null,null,null,"","",""]
[null,null,null,null,null,null,null,"","",""]
[null,null,null,null,null,null,null,"","",""]
[null,null,null,null,null,null,null,"","",""]
[null,null,null,null,null,null,null,"","",""]
[null,null,null,null,null,null,null,"","",""]
[null,null,null,null,null,null,null,"","",""]
[null,null,null,null,null,null,null,"","",""]
[null,null,null,null,null,null,null,"","",""]
[null,null,null,null,null,null,null,"","",""]
[null,null,null,null,null,null,null,"","",""]
[null,null,null,null,null,null,null,"","",""]
[null,null,null,null,null,null,null,"","",""]
[null,null,null,null,null,null,null,"","",""]
[null,null,null,null,null,null,null,"","",""]
[null,null,null,null,null,null,null,"","",""]
[null,null,null,null,null,null,null,"","",""]
[null,null,null,null,null,null,null,"","",""]
[null,null,null,null,null,null,null,"","",""]
[null,null,null,null,null,null,null,"","",""]
[null,null,null,null,null,null,null,"","",""]
[null,null,null,null,null,null,null,"","",""]
[null,null,null,null,null,null,null,"","",""]
[null,null,null,null,null,null,null,"","",""]
[null,null,null,null,null,null,null,"","",""]
[null,null,null,null,null,null,null,"","",""]
[null,null,null,null,null,null,null,"","",""]
[null,null,null,null,null,null,null,"","",""]
[null,null,null,null,null,null,null,"","",""]
[null,null,null,null,null,null,null,"","",""]
[null,null,null,null,null,null,null,{"$f":"IF(G2903<>\"\",G2903/12,\"\")","v":""},{"$f":"IF(G2903<>\"\",8,\"\")","v":""},{"$f":"IF(I2903<>\"\",I2903/12,\"\")","v":""}]
[null,null,null,null,null,null,null,"","",""]
[null,null,null,null,null,null,null,"","",""]
[null,null,null,null,null,null,null,"","",""]
[null,null,null,null,null,null,null,"","",""]
[null,null,null,null,null,null,null,"","",""]
[null,null,null,null,null,null,null,"","",""]
[null,null,null,null,null,null,null,"","",""]
[null,null,null,null,null,null,null,"","",""]
[null,null,null,null,null,null,null,"","",""]
[null,null,null,null,null,null,null,"","",""]
[null,null,null,null,null,null,null,"","",""]
[null,null,null,null,null,null,null,"","",""]
[null,null,null,null,null,null,null,"","",""]
[null,null,null,null,null,null,null,"","",""]
[null,null,null,null,null,null,null,"","",""]
[null,null,null,null,null,null,null,"","",""]
[null,null,null,null,null,null,null,"","",""]
[null,null,null,null,null,null,null,"","",""]
[null,null,null,null,null,null,null,"","",""]
[null,null,null,null,null,null,null,"","",""]
[null,null,null,null,null,null,null,"","",""]
[null,null,null,null,null,null,null,"","",""]
[null,null,null,null,null,null,null,"","",""]
[null,null,null,null,null,null,null,"","",""]
[null,null,null,null,null,null,null,"","",""]
[null,null,null,null,null,null,null,"","",""]
[null,null,null,null,null,null,null,"","",""]
[null,null,null,null,null,null,null,"","",""]
[null,null,null,null,null,null,null,"","",""]
[null,null,null,null,null,null,null,"","",""]
[null,null,null,null,null,null,null,"","",""]
[null,null,null,null,null,null,null,"","",""]
[null,null,null,null,null,null,null,"","",""]
[null,null,null,null,null,null,null,"","",""]
[null,null,null,null,null,null,null,"","",""]
[null,null,null,null,null,null,null,"","",""]
[null,null,null,null,null,null,null,"","",""]
[null,null,null,null,null,null,null,"","",""]
[null,null,null,null,null,null,null,"","",""]
[null,null,null,null,null,null,null,"","",""]
[null,null,null,null,null,null,null,"","",""]
[null,null,null,null,null,null,null,"","",""]
[null,null,null,null,null,null,null,"","",""]
[null,null,null,null,null,null,null,"","",""]
[null,null,null,null,null,null,null,"","",""]
[null,null,null,null,null,null,null,"","",""]
[null,null,null,null,null,null,null,"","",""]
[null,null,null,null,null,null,null,"","",""]
[null,null,null,null,null,null,null,"","",""]
[null,null,null,null,null,null,null,"","",""]
[null,null,null,null,null,null,null,"","",""]
[null,null,null,null,null,null,null,"","",""]
[null,null,null,null,null,null,null,"","",""]
[null,null,null,null,null,null,null,"","",""]
[null,null,null,null,null,null,null,"","",""]
[null,null,null,null,null,null,null,"","",""]
[null,null,null,null,null,null,null,"","",""]
[null,null,null,null,null,null,null,"","",""]
[null,null,null,null,null,null,null,"","",""]
[null,null,null,null,null,null,null,"","",""]
[null,null,null,null,null,null,null,"","",""]
[null,null,null,null,null,null,null,"","",""]
[null,null,null,null,null,null,null,"","",""]
[null,null,null,null,null,null,null,{"$f":"IF(G2967<>\"\",G2967/12,\"\")","v":""},{"$f":"IF(G2967<>\"\",8,\"\")","v":""},{"$f":"IF(I2967<>\"\",I2967/12,\"\")","v":""}]
[null,null,null,null,null,null,null,"","",""]
[null,null,null,null,null,null,null,"","",""]
[null,null,null,null,null,null,null,"","",""]
[null,null,null,null,null,null,null,"","",""]
[null,null,null,null,null,null,null,"","",""]
[null,null,null,null,null,null,null,"","",""]
[null,null,null,null,null,null,null,"","",""]
[null,null,null,null,null,null,null,"","",""]
[null,null,null,null,null,null,null,"","",""]
[null,null,null,null,null,null,null,"","",""]
[null,null,null,null,null,null,null,"","",""]
[null,null,null,null,null,null,null,"","",""]
[null,null,null,null,null,null,null,"","",""]
[null,null,null,null,null,null,null,"","",""]
[null,null,null,null,null,null,null,"","",""]
[null,null,null,null,null,null,null,"","",""]
[null,null,null,null,null,null,null,"","",""]
[null,null,null,null,null,null,null,"","",""]
[null,null,null,null,null,null,null,"","",""]
[null,null,null,null,null,null,null,"","",""]
[null,null,null,null,null,null,null,"","",""]
[null,null,null,null,null,null,null,"","",""]
[null,null,null,null,null,null,null,"","",""]
[null,null,null,null,null,null,null,"","",""]
[null,null,null,null,null,null,null,"","",""]
[null,null,null,null,null,null,null,"","",""]
[null,null,null,null,null,null,null,"","",""]
[null,null,null,null,null,null,null,"","",""]
[null,null,null,null,null,null,null,"","",""]
[null,null,null,null,null,null,null,"","",""]
[null,null,null,null,null,null,null,"","",""]
[null,null,null,null,null,null,null,"","",""]
[null,null,null,null,null,null,null,"","",""]
[null,null,null,null,null,null,null,"","",""]
[null,null,null,null,null,null,null,"","",""]
[null,null,null,null,null,null,null,"","",""]
[null,null,null,null,null,null,null,"","",""]
[null,null,null,null,null,null,null,"","",""]
[null,null,null,null,null,null,null,"","",""]
[null,null,null,null,null,null,null,"","",""]
[null,null,null,null,null,null,null,"","",""]
[null,null,null,null,null,null,null,"","",""]
[null,null,null,null,null,null,null,"","",""]
[null,null,null,null,null,null,null,"","",""]
[null,null,null,null,null,null,null,"","",""]
[null,null,null,null,null,null,null,"","",""]
[null,null,null,null,null,null,null,"","",""]
[null,null,null,null,null,null,null,"","",""]
[null,null,null,null,null,null,null,"","",""]
[null,null,null,null,null,null,null,"","",""]
[null,null,null,null,null,null,null,"","",""]
[null,null,null,null,null,null,null,"","",""]
[null,null,null,null,null,null,null,"","",""]
[null,null,null,null,null,null,null,"","",""]
[null,null,null,null,null,null,null,"","",""]
[null,null,null,null,null,null,null,"","",""]
[null,null,null,null,null,null,null,"","",""]
[null,null,null,null,null,null,null,"","",""]
[null,null,null,null,null,null,null,"","",""]
[null,null,null,null,null,null,null,"","",""]
[null,null,null,null,null,null,null,"","",""]
[null,null,null,null,null,null,null,"","",""]
[null,null,null,null,null,null,null,"","",""]
[null,null,null,null,null,null,null,{"$f":"IF(G3031<>\"\",G3031/12,\"\")","v":""},{"$f":"IF(G3031<>\"\",8,\"\")","v":""},{"$f":"IF(I3031<>\"\",I3031/12,\"\")","v":""}]
[null,null,null,null,null,null,null,"","",""]
[null,null,null,null,null,null,null,"","",""]
[null,null,null,null,null,null,null,"","",""]
[null,null,null,null,null,null,null,"","",""]
[null,null,null,null,null,null,null,"","",""]
[null,null,null,null,null,null,null,"","",""]
[null,null,null,null,null,null,null,"","",""]
[null,null,null,null,null,null,null,"","",""]
[null,null,null,null,null,null,null,"","",""]
[null,null,null,null,null,null,null,"","",""]
[null,null,null,null,null,null,null,"","",""]
[null,null,null,null,null,null,null,"","",""]
[null,null,null,null,null,null,null,"","",""]
[null,null,null,null,null,null,null,"","",""]
[null,null,null,null,null,null,null,"","",""]
[null,null,null,null,null,null,null,"","",""]
[null,null,null,null,null,null,null,"","",""]
[null,null,null,null,null,null,null,"","",""]
[null,null,null,null,null,null,null,"","",""]
[null,null,null,null,null,null,null,"","",""]
[null,null,null,null,null,null,null,"","",""]
[null,null,null,null,null,null,null,"","",""]
[null,null,null,null,null,null,null,"","",""]
[null,null,null,null,null,null,null,"","",""]
[null,null,null,null,null,null,null,"","",""]
[null,null,null,null,null,null,null,"","",""]
[null,null,null,null,null,null,null,"","",""]
[null,null,null,null,null,null,null,"","",""]
[null,null,null,null,null,null,null,"","",""]
[null,null,null,null,null,null,null,"","",""]
[null,null,null,null,null,null,null,"","",""]
[null,null,null,null,null,null,null,"","",""]
[null,null,null,null,null,null,null,"","",""]
[null,null,null,null,null,null,null,"","",""]
[null,null,null,null,null,null,null,"","",""]
[null,null,null,null,null,null,null,"","",""]
[null,null,null,null,null,null,null,"","",""]
[null,null,null,null,null,null,null,"","",""]
[null,null,null,null,null,null,null,"","",""]
[null,null,null,null,null,null,null,"","",""]
[null,null,null,null,null,null,null,"","",""]
[null,null,null,null,null,null,null,"","",""]
[null,null,null,null,null,null,null,"","",""]
[null,null,null,null,null,null,null,"","",""]
[null,null,null,null,null,null,null,"","",""]
[null,null,null,null,null,null,null,"","",""]
[null,null,null,null,null,null,null,"","",""]
[null,null,null,null,null,null,null,"","",""]
[null,null,null,null,null,null,null,"","",""]
[null,null,null,null,null,null,null,"","",""]
[null,null,null,null,null,null,null,"","",""]
[null,null,null,null,null,null,null,"","",""]
[null,null,null,null,null,null,null,"","",""]
[null,null,null,null,null,null,null,"","",""]
[null,null,null,null,null,null,null,"","",""]
[null,null,null,null,null,null,null,"","",""]
[null,null,null,null,null,null,null,"","",""]
[null,null,null,null,null,null,null,"","",""]
[null,null,null,null,null,null,null,"","",""]
[null,null,null,null,null,null,null,"","",""]
[null,null,null,null,null,null,null,"","",""]
[null,null,null,null,null,null,null,"","",""]
[null,null,null,null,null,null,null,"","",""]
[null,null,null,null,null,null,null,{"$f":"IF(G3095<>\"\",G3095/12,\"\")","v":""},{"$f":"IF(G3095<>\"\",8,\"\")","v":""},{"$f":"IF(I3095<>\"\",I3095/12,\"\")","v":""}]
[null,null,null,null,null,null,null,"","",""]
[null,null,null,null,null,null,null,"","",""]
[null,null,null,null,null,null,null,"","",""]
[null,null,null,null,null,null,null,"","",""]
[null,null,null,null,null,null,null,"","",""]
[null,null,null,null,null,null,null,"","",""]
[null,null,null,null,null,null,null,"","",""]
[null,null,null,null,null,null,null,"","",""]
[null,null,null,null,null,null,null,"","",""]
[null,null,null,null,null,null,null,"","",""]
[null,null,null,null,null,null,null,"","",""]
[null,null,null,null,null,null,null,"","",""]
[null,null,null,null,null,null,null,"","",""]
[null,null,null,null,null,null,null,"","",""]
[null,null,null,null,null,null,null,"","",""]
[null,null,null,null,null,null,null,"","",""]
[null,null,null,null,null,null,null,"","",""]
[null,null,null,null,null,null,null,"","",""]
[null,null,null,null,null,null,null,"","",""]
[null,null,null,null,null,null,null,"","",""]
[null,null,null,null,null,null,null,"","",""]
[null,null,null,null,null,null,null,"","",""]
[null,null,null,null,null,null,null,"","",""]
[null,null,null,null,null,null,null,"","",""]
[null,null,null,null,null,null,null,"","",""]
[null,null,null,null,null,null,null,"","",""]
[null,null,null,null,null,null,null,"","",""]
[null,null,null,null,null,null,null,"","",""]
[null,null,null,null,null,null,null,"","",""]
[null,null,null,null,null,null,null,"","",""]
[null,null,null,null,null,null,null,"","",""]
[null,null,null,null,null,null,null,"","",""]
[null,null,null,null,null,null,null,"","",""]
[null,null,null,null,null,null,null,"","",""]
[null,null,null,null,null,null,null,"","",""]
[null,null,null,null,null,null,null,"","",""]
[null,null,null,null,null,null,null,"","",""]
[null,null,null,null,null,null,null,"","",""]
[null,null,null,null,null,null,null,"","",""]
[null,null,null,null,null,null,null,"","",""]
[null,null,null,null,null,null,null,"","",""]
[null,null,null,null,null,null,null,"","",""]
[null,null,null,null,null,null,null,"","",""]
[null,null,null,null,null,null,null,"","",""]
[null,null,null,null,null,null,null,"","",""]
[null,null,null,null,null,null,null,"","",""]
[null,null,null,null,null,null,null,"","",""]
[null,null,null,null,null,null,null,"","",""]
[null,null,null,null,null,null,null,"","",""]
[null,null,null,null,null,null,null,"","",""]
[null,null,null,null,null,null,null,"","",""]
[null,null,null,null,null,null,null,"","",""]
[null,null,null,null,null,null,null,"","",""]
[null,null,null,null,null,null,null,"","",""]
[null,null,null,null,null,null,null,"","",""]
[null,null,null,null,null,null,null,"","",""]
[null,null,null,null,null,null,null,"","",""]
[null,null,null,null,null,null,null,"","",""]
[null,null,null,null,null,null,null,"","",""]
[null,null,null,null,null,null,null,"","",""]
[null,null,null,null,null,null,null,"","",""]
[null,null,null,null,null,null,null,"","",""]
[null,null,null,null,null,null,null,"","",""]
[null,null,null,null,null,null,null,{"$f":"IF(G3159<>\"\",G3159/12,\"\")","v":""},{"$f":"IF(G3159<>\"\",8,\"\")","v":""},{"$f":"IF(I3159<>\"\",I3159/12,\"\")","v":""}]
[null,null,null,null,null,null,null,"","",""]
[null,null,null,null,null,null,null,"","",""]
[null,null,null,null,null,null,null,"","",""]
[null,null,null,null,null,null,null,"","",""]
[null,null,null,null,null,null,null,"","",""]
[null,null,null,null,null,null,null,"","",""]
[null,null,null,null,null,null,null,"","",""]
[null,null,null,null,null,null,null,"","",""]
[null,null,null,null,null,null,null,"","",""]
[null,null,null,null,null,null,null,"","",""]
[null,null,null,null,null,null,null,"","",""]
[null,null,null,null,null,null,null,"","",""]
[null,null,null,null,null,null,null,"","",""]
[null,null,null,null,null,null,null,"","",""]
[null,null,null,null,null,null,null,"","",""]
[null,null,null,null,null,null,null,"","",""]
[null,null,null,null,null,null,null,"","",""]
[null,null,null,null,null,null,null,"","",""]
[null,null,null,null,null,null,null,"","",""]
[null,null,null,null,null,null,null,"","",""]
[null,null,null,null,null,null,null,"","",""]
[null,null,null,null,null,null,null,"","",""]
[null,null,null,null,null,null,null,"","",""]
[null,null,null,null,null,null,null,"","",""]
[null,null,null,null,null,null,null,"","",""]
[null,null,null,null,null,null,null,"","",""]
[null,null,null,null,null,null,null,"","",""]
[null,null,null,null,null,null,null,"","",""]
[null,null,null,null,null,null,null,"","",""]
[null,null,null,null,null,null,null,"","",""]
[null,null,null,null,null,null,null,"","",""]
[null,null,null,null,null,null,null,"","",""]
[null,null,null,null,null,null,null,"","",""]
[null,null,null,null,null,null,null,"","",""]
[null,null,null,null,null,null,null,"","",""]
[null,null,null,null,null,null,null,"","",""]
[null,null,null,null,null,null,null,"","",""]
[null,null,null,null,null,null,null,"","",""]
[null,null,null,null,null,null,null,"","",""]
[null,null,null,null,null,null,null,"","",""]
[null,null,null,null,null,null,null,"","",""]
[null,null,null,null,null,null,null,"","",""]
[null,null,null,null,null,null,null,"","",""]
[null,null,null,null,null,null,null,"","",""]
[null,null,null,null,null,null,null,"","",""]
[null,null,null,null,null,null,null,"","",""]
[null,null,null,null,null,null,null,"","",""]
[null,null,null,null,null,null,null,"","",""]
[null,null,null,null,null,null,null,"","",""]
[null,null,null,null,null,null,null,"","",""]
[null,null,null,null,null,null,null,"","",""]
[null,null,null,null,null,null,null,"","",""]
[null,null,null,null,null,null,null,"","",""]
[null,null,null,null,null,null,null,"","",""]
[null,null,null,null,null,null,null,"","",""]
[null,null,null,null,null,null,null,"","",""]
[null,null,null,null,null,null,null,"","",""]
[null,null,null,null,null,null,null,"","",""]
[null,null,null,null,null,null,null,"","",""]
[null,null,null,null,null,null,null,"","",""]
[null,null,null,null,null,null,null,"","",""]
[null,null,null,null,null,null,null,"","",""]
[null,null,null,null,null,null,null,"","",""]
[null,null,null,null,null,null,null,{"$f":"IF(G3223<>\"\",G3223/12,\"\")","v":""},{"$f":"IF(G3223<>\"\",8,\"\")","v":""},{"$f":"IF(I3223<>\"\",I3223/12,\"\")","v":""}]
[null,null,null,null,null,null,null,"","",""]
[null,null,null,null,null,null,null,"","",""]
[null,null,null,null,null,null,null,"","",""]
[null,null,null,null,null,null,null,"","",""]
[null,null,null,null,null,null,null,"","",""]
[null,null,null,null,null,null,null,"","",""]
[null,null,null,null,null,null,null,"","",""]
[null,null,null,null,null,null,null,"","",""]
[null,null,null,null,null,null,null,"","",""]
[null,null,null,null,null,null,null,"","",""]
[null,null,null,null,null,null,null,"","",""]
[null,null,null,null,null,null,null,"","",""]
[null,null,null,null,null,null,null,"","",""]
[null,null,null,null,null,null,null,"","",""]
[null,null,null,null,null,null,null,"","",""]
[null,null,null,null,null,null,null,"","",""]
[null,null,null,null,null,null,null,"","",""]
[null,null,null,null,null,null,null,"","",""]
[null,null,null,null,null,null,null,"","",""]
[null,null,null,null,null,null,null,"","",""]
[null,null,null,null,null,null,null,"","",""]
[null,null,null,null,null,null,null,"","",""]
[null,null,null,null,null,null,null,"","",""]
[null,null,null,null,null,null,null,"","",""]
[null,null,null,null,null,null,null,"","",""]
[null,null,null,null,null,null,null,"","",""]
[null,null,null,null,null,null,null,"","",""]
[null,null,null,null,null,null,null,"","",""]
[null,null,null,null,null,null,null,"","",""]
[null,null,null,null,null,null,null,"","",""]
[null,null,null,null,null,null,null,"","",""]
[null,null,null,null,null,null,null,"","",""]
[null,null,null,null,null,null,null,"","",""]
[null,null,null,null,null,null,null,"","",""]
[null,null,null,null,null,null,null,"","",""]
[null,null,null,null,null,null,null,"","",""]
[null,null,null,null,null,null,null,"","",""]
[null,null,null,null,null,null,null,"","",""]
[null,null,null,null,null,null,null,"","",""]
[null,null,null,null,null,null,null,"","",""]
[null,null,null,null,null,null,null,"","",""]
[null,null,null,null,null,null,null,"","",""]
[null,null,null,null,null,null,null,"","",""]
[null,null,null,null,null,null,null,"","",""]
[null,null,null,null,null,null,null,"","",""]
[null,null,null,null,null,null,null,"","",""]
[null,null,null,null,null,null,null,"","",""]
[null,null,null,null,null,null,null,"","",""]
[null,null,null,null,null,null,null,"","",""]
[null,null,null,null,null,null,null,"","",""]
[null,null,null,null,null,null,null,"","",""]
[null,null,null,null,null,null,null,"","",""]
[null,null,null,null,null,null,null,"","",""]
[null,null,null,null,null,null,null,"","",""]
[null,null,null,null,null,null,null,"","",""]
[null,null,null,null,null,null,null,"","",""]
[null,null,null,null,null,null,null,"","",""]
[null,null,null,null,null,null,null,"","",""]
[null,null,null,null,null,null,null,"","",""]
[null,null,null,null,null,null,null,"","",""]
[null,null,null,null,null,null,null,"","",""]
[null,null,null,null,null,null,null,"","",""]
[null,null,null,null,null,null,null,"","",""]
[null,null,null,null,null,null,null,{"$f":"IF(G3287<>\"\",G3287/12,\"\")","v":""},{"$f":"IF(G3287<>\"\",8,\"\")","v":""},{"$f":"IF(I3287<>\"\",I3287/12,\"\")","v":""}]
[null,null,null,null,null,null,null,"","",""]
[null,null,null,null,null,null,null,"","",""]
[null,null,null,null,null,null,null,"","",""]
[null,null,null,null,null,null,null,"","",""]
[null,null,null,null,null,null,null,"","",""]
[null,null,null,null,null,null,null,"","",""]
[null,null,null,null,null,null,null,"","",""]
[null,null,null,null,null,null,null,"","",""]
[null,null,null,null,null,null,null,"","",""]
[null,null,null,null,null,null,null,"","",""]
[null,null,null,null,null,null,null,"","",""]
[null,null,null,null,null,null,null,"","",""]
[null,null,null,null,null,null,null,"","",""]
[null,null,null,null,null,null,null,"","",""]
[null,null,null,null,null,null,null,"","",""]
[null,null,null,null,null,null,null,"","",""]
[null,null,null,null,null,null,null,"","",""]
[null,null,null,null,null,null,null,"","",""]
[null,null,null,null,null,null,null,"","",""]
[null,null,null,null,null,null,null,"","",""]
[null,null,null,null,null,null,null,"","",""]
[null,null,null,null,null,null,null,"","",""]
[null,null,null,null,null,null,null,"","",""]
[null,null,null,null,null,null,null,"","",""]
[null,null,null,null,null,null,null,"","",""]
[null,null,null,null,null,null,null,"","",""]
[null,null,null,null,null,null,null,"","",""]
[null,null,null,null,null,null,null,"","",""]
[null,null,null,null,null,null,null,"","",""]
[null,null,null,null,null,null,null,"","",""]
[null,null,null,null,null,null,null,"","",""]
[null,null,null,null,null,null,null,"","",""]
[null,null,null,null,null,null,null,"","",""]
[null,null,null,null,null,null,null,"","",""]
[null,null,null,null,null,null,null,"","",""]
[null,null,null,null,null,null,null,"","",""]
[null,null,null,null,null,null,null,"","",""]
[null,null,null,null,null,null,null,"","",""]
[null,null,null,null,null,null,null,"","",""]
[null,null,null,null,null,null,null,"","",""]
[null,null,null,null,null,null,null,"","",""]
[null,null,null,null,null,null,null,"","",""]
[null,null,null,null,null,null,null,"","",""]
[null,null,null,null,null,null,null,"","",""]
[null,null,null,null,null,null,null,"","",""]
[null,null,null,null,null,null,null,"","",""]
[null,null,null,null,null,null,null,"","",""]
[null,null,null,null,null,null,null,"","",""]
[null,null,null,null,null,null,null,"","",""]
[null,null,null,null,null,null,null,"","",""]
[null,null,null,null,null,null,null,"","",""]
[null,null,null,null,null,null,null,"","",""]
[null,null,null,null,null,null,null,"","",""]
[null,null,null,null,null,null,null,"","",""]
[null,null,null,null,null,null,null,"","",""]
[null,null,null,null,null,null,null,"","",""]
[null,null,null,null,null,null,null,"","",""]
[null,null,null,null,null,null,null,"","",""]
[null,null,null,null,null,null,null,"","",""]
[null,null,null,null,null,null,null,"","",""]
[null,null,null,null,null,null,null,"","",""]
[null,null,null,null,null,null,null,"","",""]
[null,null,null,null,null,null,null,"","",""]
[null,null,null,null,null,null,null,{"$f":"IF(G3351<>\"\",G3351/12,\"\")","v":""},{"$f":"IF(G3351<>\"\",8,\"\")","v":""},{"$f":"IF(I3351<>\"\",I3351/12,\"\")","v":""}]
[null,null,null,null,null,null,null,"","",""]
[null,null,null,null,null,null,null,"","",""]
[null,null,null,null,null,null,null,"","",""]
[null,null,null,null,null,null,null,"","",""]
[null,null,null,null,null,null,null,"","",""]
[null,null,null,null,null,null,null,"","",""]
[null,null,null,null,null,null,null,"","",""]
[null,null,null,null,null,null,null,"","",""]
[null,null,null,null,null,null,null,"","",""]
[null,null,null,null,null,null,null,"","",""]
[null,null,null,null,null,null,null,"","",""]
[null,null,null,null,null,null,null,"","",""]
[null,null,null,null,null,null,null,"","",""]
[null,null,null,null,null,null,null,"","",""]
[null,null,null,null,null,null,null,"","",""]
[null,null,null,null,null,null,null,"","",""]
[null,null,null,null,null,null,null,"","",""]
[null,null,null,null,null,null,null,"","",""]
[null,null,null,null,null,null,null,"","",""]
[null,null,null,null,null,null,null,"","",""]
[null,null,null,null,null,null,null,"","",""]
[null,null,null,null,null,null,null,"","",""]
[null,null,null,null,null,null,null,"","",""]
[null,null,null,null,null,null,null,"","",""]
[null,null,null,null,null,null,null,"","",""]
[null,null,null,null,null,null,null,"","",""]
[null,null,null,null,null,null,null,"","",""]
[null,null,null,null,null,null,null,"","",""]
[null,null,null,null,null,null,null,"","",""]
[null,null,null,null,null,null,null,"","",""]
[null,null,null,null,null,null,null,"","",""]
[null,null,null,null,null,null,null,"","",""]
[null,null,null,null,null,null,null,"","",""]
[null,null,null,null,null,null,null,"","",""]
[null,null,null,null,null,null,null,"","",""]
[null,null,null,null,null,null,null,"","",""]
[null,null,null,null,null,null,null,"","",""]
[null,null,null,null,null,null,null,"","",""]
[null,null,null,null,null,null,null,"","",""]
[null,null,null,null,null,null,null,"","",""]
[null,null,null,null,null,null,null,"","",""]
[null,null,null,null,null,null,null,"","",""]
[null,null,null,null,null,null,null,"","",""]
[null,null,null,null,null,null,null,"","",""]
[null,null,null,null,null,null,null,"","",""]
[null,null,null,null,null,null,null,"","",""]
[null,null,null,null,null,null,null,"","",""]
[null,null,null,null,null,null,null,"","",""]
[null,null,null,null,null,null,null,"","",""]
[null,null,null,null,null,null,null,"","",""]
[null,null,null,null,null,null,null,"","",""]
[null,null,null,null,null,null,null,"","",""]
[null,null,null,null,null,null,null,"","",""]
[null,null,null,null,null,null,null,"","",""]
[null,null,null,null,null,null,null,"","",""]
[null,null,null,null,null,null,null,"","",""]
[null,null,null,null,null,null,null,"","",""]
[null,null,null,null,null,null,null,"","",""]
[null,null,null,null,null,null,null,"","",""]
[null,null,null,null,null,null,null,"","",""]
[null,null,null,null,null,null,null,"","",""]
[null,null,null,null,null,null,null,"","",""]
[null,null,null,null,null,null,null,"","",""]
[null,null,null,null,null,null,null,{"$f":"IF(G3415<>\"\",G3415/12,\"\")","v":""},{"$f":"IF(G3415<>\"\",8,\"\")","v":""},{"$f":"IF(I3415<>\"\",I3415/12,\"\")","v":""}]
[null,null,null,null,null,null,null,"","",""]
[null,null,null,null,null,null,null,"","",""]
[null,null,null,null,null,null,null,"","",""]
[null,null,null,null,null,null,null,"","",""]
[null,null,null,null,null,null,null,"","",""]
[null,null,null,null,null,null,null,"","",""]
[null,null,null,null,null,null,null,"","",""]
[null,null,null,null,null,null,null,"","",""]
[null,null,null,null,null,null,null,"","",""]
[null,null,null,null,null,null,null,"","",""]
[null,null,null,null,null,null,null,"","",""]
[null,null,null,null,null,null,null,"","",""]
[null,null,null,null,null,null,null,"","",""]
[null,null,null,null,null,null,null,"","",""]
[null,null,null,null,null,null,null,"","",""]
[null,null,null,null,null,null,null,"","",""]
[null,null,null,null,null,null,null,"","",""]
[null,null,null,null,null,null,null,"","",""]
[null,null,null,null,null,null,null,"","",""]
[null,null,null,null,null,null,null,"","",""]
[null,null,null,null,null,null,null,"","",""]
[null,null,null,null,null,null,null,"","",""]
[null,null,null,null,null,null,null,"","",""]
[null,null,null,null,null,null,null,"","",""]
[null,null,null,null,null,null,null,"","",""]
[null,null,null,null,null,null,null,"","",""]
[null,null,null,null,null,null,null,"","",""]
[null,null,null,null,null,null,null,"","",""]
[null,null,null,null,null,null,null,"","",""]
[null,null,null,null,null,null,null,"","",""]
[null,null,null,null,null,null,null,"","",""]
[null,null,null,null,null,null,null,"","",""]
[null,null,null,null,null,null,null,"","",""]
[null,null,null,null,null,null,null,"","",""]
[null,null,null,null,null,null,null,"","",""]
[null,null,null,null,null,null,null,"","",""]
[null,null,null,null,null,null,null,"","",""]
[null,null,null,null,null,null,null,"","",""]
[null,null,null,null,null,null,null,"","",""]
[null,null,null,null,null,null,null,"","",""]
[null,null,null,null,null,null,null,"","",""]
[null,null,null,null,null,null,null,"","",""]
[null,null,null,null,null,null,null,"","",""]
[null,null,null,null,null,null,null,"","",""]
[null,null,null,null,null,null,null,"","",""]
[null,null,null,null,null,null,null,"","",""]
[null,null,null,null,null,null,null,"","",""]
[null,null,null,null,null,null,null,"","",""]
[null,null,null,null,null,null,null,"","",""]
[null,null,null,null,null,null,null,"","",""]
[null,null,null,null,null,null,null,"","",""]
[null,null,null,null,null,null,null,"","",""]
[null,null,null,null,null,null,null,"","",""]
[null,null,null,null,null,null,null,"","",""]
[null,null,null,null,null,null,null,"","",""]
[null,null,null,null,null,null,null,"","",""]
[null,null,null,null,null,null,null,"","",""]
[null,null,null,null,null,null,null,"","",""]
[null,null,null,null,null,null,null,"","",""]
[null,null,null,null,null,null,null,"","",""]
[null,null,null,null,null,null,null,"","",""]
[null,null,null,null,null,null,null,"","",""]
[null,null,null,null,null,null,null,"","",""]
[null,null,null,null,null,null,null,{"$f":"IF(G3479<>\"\",G3479/12,\"\")","v":""},{"$f":"IF(G3479<>\"\",8,\"\")","v":""},{"$f":"IF(I3479<>\"\",I3479/12,\"\")","v":""}]
[null,null,null,null,null,null,null,"","",""]
[null,null,null,null,null,null,null,"","",""]
[null,null,null,null,null,null,null,"","",""]
[null,null,null,null,null,null,null,"","",""]
[null,null,null,null,null,null,null,"","",""]
[null,null,null,null,null,null,null,"","",""]
[null,null,null,null,null,null,null,"","",""]
[null,null,null,null,null,null,null,"","",""]
[null,null,null,null,null,null,null,"","",""]
[null,null,null,null,null,null,null,"","",""]
[null,null,null,null,null,null,null,"","",""]
[null,null,null,null,null,null,null,"","",""]
[null,null,null,null,null,null,null,"","",""]
[null,null,null,null,null,null,null,"","",""]
[null,null,null,null,null,null,null,"","",""]
[null,null,null,null,null,null,null,"","",""]
[null,null,null,null,null,null,null,"","",""]
[null,null,null,null,null,null,null,"","",""]
[null,null,null,null,null,null,null,"","",""]
[null,null,null,null,null,null,null,"","",""]
[null,null,null,null,null,null,null,"","",""]
[null,null,null,null,null,null,null,"","",""]
[null,null,null,null,null,null,null,"","",""]
[null,null,null,null,null,null,null,"","",""]
[null,null,null,null,null,null,null,"","",""]
[null,null,null,null,null,null,null,"","",""]
[null,null,null,null,null,null,null,"","",""]
[null,null,null,null,null,null,null,"","",""]
[null,null,null,null,null,null,null,"","",""]
[null,null,null,null,null,null,null,"","",""]
[null,null,null,null,null,null,null,"","",""]
[null,null,null,null,null,null,null,"","",""]
[null,null,null,null,null,null,null,"","",""]
[null,null,null,null,null,null,null,"","",""]
[null,null,null,null,null,null,null,"","",""]
[null,null,null,null,null,null,null,"","",""]
[null,null,null,null,null,null,null,"","",""]
[null,null,null,null,null,null,null,"","",""]
[null,null,null,null,null,null,null,"","",""]
[null,null,null,null,null,null,null,"","",""]
[null,null,null,null,null,null,null,"","",""]
[null,null,null,null,null,null,null,"","",""]
[null,null,null,null,null,null,null,"","",""]
[null,null,null,null,null,null,null,"","",""]
[null,null,null,null,null,null,null,"","",""]
[null,null,null,null,null,null,null,"","",""]
[null,null,null,null,null,null,null,"","",""]
[null,null,null,null,null,null,null,"","",""]
[null,null,null,null,null,null,null,"","",""]
[null,null,null,null,null,null,null,"","",""]
[null,null,null,null,null,null,null,"","",""]
[null,null,null,null,null,null,null,"","",""]
[null,null,null,null,null,null,null,"","",""]
[null,null,null,null,null,null,null,"","",""]
[null,null,null,null,null,null,null,"","",""]
[null,null,null,null,null,null,null,"","",""]
[null,null,null,null,null,null,null,"","",""]
[null,null,null,null,null,null,null,"","",""]
[null,null,null,null,null,null,null,"","",""]
[null,null,null,null,null,null,null,"","",""]
[null,null,null,null,null,null,null,"","",""]
[null,null,null,null,null,null,null,"","",""]
[null,null,null,null,null,null,null,"","",""]
[null,null,null,null,null,null,null,{"$f":"IF(G3543<>\"\",G3543/12,\"\")","v":""},{"$f":"IF(G3543<>\"\",8,\"\")","v":""},{"$f":"IF(I3543<>\"\",I3543/12,\"\")","v":""}]
[null,null,null,null,null,null,null,"","",""]
[null,null,null,null,null,null,null,"","",""]
[null,null,null,null,null,null,null,"","",""]
[null,null,null,null,null,null,null,"","",""]
[null,null,null,null,null,null,null,"","",""]
[null,null,null,null,null,null,null,"","",""]
[null,null,null,null,null,null,null,"","",""]
[null,null,null,null,null,null,null,"","",""]
[null,null,null,null,null,null,null,"","",""]
[null,null,null,null,null,null,null,"","",""]
[null,null,null,null,null,null,null,"","",""]
[null,null,null,null,null,null,null,"","",""]
[null,null,null,null,null,null,null,"","",""]
[null,null,null,null,null,null,null,"","",""]
[null,null,null,null,null,null,null,"","",""]
[null,null,null,null,null,null,null,"","",""]
[null,null,null,null,null,null,null,"","",""]
[null,null,null,null,null,null,null,"","",""]
[null,null,null,null,null,null,null,"","",""]
[null,null,null,null,null,null,null,"","",""]
[null,null,null,null,null,null,null,"","",""]
[null,null,null,null,null,null,null,"","",""]
[null,null,null,null,null,null,null,"","",""]
[null,null,null,null,null,null,null,"","",""]
[null,null,null,null,null,null,null,"","",""]
[null,null,null,null,null,null,null,"","",""]
[null,null,null,null,null,null,null,"","",""]
[null,null,null,null,null,null,null,"","",""]
[null,null,null,null,null,null,null,"","",""]
[null,null,null,null,null,null,null,"","",""]
[null,null,null,null,null,null,null,"","",""]
[null,null,null,null,null,null,null,"","",""]
[null,null,null,null,null,null,null,"","",""]
[null,null,null,null,null,null,null,"","",""]
[null,null,null,null,null,null,null,"","",""]
[null,null,null,null,null,null,null,"","",""]
[null,null,null,null,null,null,null,"","",""]
[null,null,null,null,null,null,null,"","",""]
[null,null,null,null,null,null,null,"","",""]
[null,null,null,null,null,null,null,"","",""]
[null,null,null,null,null,null,null,"","",""]
[null,null,null,null,null,null,null,"","",""]
[null,null,null,null,null,null,null,"","",""]
[null,null,null,null,null,null,null,"","",""]
[null,null,null,null,null,null,null,"","",""]
[null,null,null,null,null,null,null,"","",""]
[null,null,null,null,null,null,null,"","",""]
[null,null,null,null,null,null,null,"","",""]
[null,null,null,null,null,null,null,"","",""]
[null,null,null,null,null,null,null,"","",""]
[null,null,null,null,null,null,null,"","",""]
[null,null,null,null,null,null,null,"","",""]
[null,null,null,null,null,null,null,"","",""]
[null,null,null,null,null,null,null,"","",""]
[null,null,null,null,null,null,null,"","",""]
[null,null,null,null,null,null,null,"","",""]
[null,null,null,null,null,null,null,"","",""]
[null,null,null,null,null,null,null,"","",""]
[null,null,null,null,null,null,null,"","",""]
[null,null,null,null,null,null,null,"","",""]
[null,null,null,null,null,null,null,"","",""]
[null,null,null,null,null,null,null,"","",""]
[null,null,null,null,null,null,null,"","",""]
[null,null,null,null,null,null,null,{"$f":"IF(G3607<>\"\",G3607/12,\"\")","v":""},{"$f":"IF(G3607<>\"\",8,\"\")","v":""},{"$f":"IF(I3607<>\"\",I3607/12,\"\")","v":""}]
[null,null,null,null,null,null,null,"","",""]
[null,null,null,null,null,null,null,"","",""]
[null,null,null,null,null,null,null,"","",""]
[null,null,null,null,null,null,null,"","",""]
[null,null,null,null,null,null,null,"","",""]
[null,null,null,null,null,null,null,"","",""]
[null,null,null,null,null,null,null,"","",""]
[null,null,null,null,null,null,null,"","",""]
[null,null,null,null,null,null,null,"","",""]
[null,null,null,null,null,null,null,"","",""]
[null,null,null,null,null,null,null,"","",""]
[null,null,null,null,null,null,null,"","",""]
[null,null,null,null,null,null,null,"","",""]
[null,null,null,null,null,null,null,"","",""]
[null,null,null,null,null,null,null,"","",""]
[null,null,null,null,null,null,null,"","",""]
[null,null,null,null,null,null,null,"","",""]
[null,null,null,null,null,null,null,"","",""]
[null,null,null,null,null,null,null,"","",""]
[null,null,null,null,null,null,null,"","",""]
[null,null,null,null,null,null,null,"","",""]
[null,null,null,null,null,null,null,"","",""]
[null,null,null,null,null,null,null,"","",""]
[null,null,null,null,null,null,null,"","",""]
[null,null,null,null,null,null,null,"","",""]
[null,null,null,null,null,null,null,"","",""]
[null,null,null,null,null,null,null,"","",""]
[null,null,null,null,null,null,null,"","",""]
[null,null,null,null,null,null,null,"","",""]
[null,null,null,null,null,null,null,"","",""]
[null,null,null,null,null,null,null,"","",""]
[null,null,null,null,null,null,null,"","",""]
[null,null,null,null,null,null,null,"","",""]
[null,null,null,null,null,null,null,"","",""]
[null,null,null,null,null,null,null,"","",""]
[null,null,null,null,null,null,null,"","",""]
[null,null,null,null,null,null,null,"","",""]
[null,null,null,null,null,null,null,"","",""]
[null,null,null,null,null,null,null,"","",""]
[null,null,null,null,null,null,null,"","",""]
[null,null,null,null,null,null,null,"","",""]
[null,null,null,null,null,null,null,"","",""]
[null,null,null,null,null,null,null,"","",""]
[null,null,null,null,null,null,null,"","",""]
[null,null,null,null,null,null,null,"","",""]
[null,null,null,null,null,null,null,"","",""]
[null,null,null,null,null,null,null,"","",""]
[null,null,null,null,null,null,null,"","",""]
[null,null,null,null,null,null,null,"","",""]
[null,null,null,null,null,null,null,"","",""]
[null,null,null,null,null,null,null,"","",""]
[null,null,null,null,null,null,null,"","",""]
[null,null,null,null,null,null,null,"","",""]
[null,null,null,null,null,null,null,"","",""]
[null,null,null,null,null,null,null,"","",""]
[null,null,null,null,null,null,null,"","",""]
[null,null,null,null,null,null,null,"","",""]
[null,null,null,null,null,null,null,"","",""]
[null,null,null,null,null,null,null,"","",""]
[null,null,null,null,null,null,null,"","",""]
[null,null,null,null,null,null,null,"","",""]
[null,null,null,null,null,null,null,"","",""]
[null,null,null,null,null,null,null,"","",""]
[null,null,null,null,null,null,null,{"$f":"IF(G3671<>\"\",G3671/12,\"\")","v":""},{"$f":"IF(G3671<>\"\",8,\"\")","v":""},{"$f":"IF(I3671<>\"\",I3671/12,\"\")","v":""}]
[null,null,null,null,null,null,null,"","",""]
[null,null,null,null,null,null,null,"","",""]
[null,null,null,null,null,null,null,"","",""]
[null,null,null,null,null,null,null,"","",""]
[null,null,null,null,null,null,null,"","",""]
[null,null,null,null,null,null,null,"","",""]
[null,null,null,null,null,null,null,"","",""]
[null,null,null,null,null,null,null,"","",""]
[null,null,null,null,null,null,null,"","",""]
[null,null,null,null,null,null,null,"","",""]
[null,null,null,null,null,null,null,"","",""]
[null,null,null,null,null,null,null,"","",""]
[null,null,null,null,null,null,null,"","",""]
[null,null,null,null,null,null,null,"","",""]
[null,null,null,null,null,null,null,"","",""]
[null,null,null,null,null,null,null,"","",""]
[null,null,null,null,null,null,null,"","",""]
[null,null,null,null,null,null,null,"","",""]
[null,null,null,null,null,null,null,"","",""]
[null,null,null,null,null,null,null,"","",""]
[null,null,null,null,null,null,null,"","",""]
[null,null,null,null,null,null,null,"","",""]
[null,null,null,null,null,null,null,"","",""]
[null,null,null,null,null,null,null,"","",""]
[null,null,null,null,null,null,null,"","",""]
[null,null,null,null,null,null,null,"","",""]
[null,null,null,null,null,null,null,"","",""]
[null,null,null,null,null,null,null,"","",""]
[null,null,null,null,null,null,null,"","",""]
[null,null,null,null,null,null,null,"","",""]
[null,null,null,null,null,null,null,"","",""]
[null,null,null,null,null,null,null,"","",""]
[null,null,null,null,null,null,null,"","",""]
[null,null,null,null,null,null,null,"","",""]
[null,null,null,null,null,null,null,"","",""]
[null,null,null,null,null,null,null,"","",""]
[null,null,null,null,null,null,null,"","",""]
[null,null,null,null,null,null,null,"","",""]
[null,null,null,null,null,null,null,"","",""]
[null,null,null,null,null,null,null,"","",""]
[null,null,null,null,null,null,null,"","",""]
[null,null,null,null,null,null,null,"","",""]
[null,null,null,null,null,null,null,"","",""]
[null,null,null,null,null,null,null,"","",""]
[null,null,null,null,null,null,null,"","",""]
[null,null,null,null,null,null,null,"","",""]
[null,null,null,null,null,null,null,"","",""]
[null,null,null,null,null,null,null,"","",""]
[null,null,null,null,null,null,null,"","",""]
[null,null,null,null,null,null,null,"","",""]
[null,null,null,null,null,null,null,"","",""]
[null,null,null,null,null,null,null,"","",""]
[null,null,null,null,null,null,null,"","",""]
[null,null,null,null,null,null,null,"","",""]
[null,null,null,null,null,null,null,"","",""]
[null,null,null,null,null,null,null,"","",""]
[null,null,null,null,null,null,null,"","",""]
[null,null,null,null,null,null,null,"","",""]
[null,null,null,null,null,null,null,"","",""]
[null,null,null,null,null,null,null,"","",""]
[null,null,null,null,null,null,null,"","",""]
[null,null,null,null,null,null,null,"","",""]
[null,null,null,null,null,null,null,"","",""]
[null,null,null,null,null,null,null,{"$f":"IF(G3735<>\"\",G3735/12,\"\")","v":""},{"$f":"IF(G3735<>\"\",8,\"\")","v":""},{"$f":"IF(I3735<>\"\",I3735/12,\"\")","v":""}]
[null,null,null,null,null,null,null,"","",""]
[null,null,null,null,null,null,null,"","",""]
[null,null,null,null,null,null,null,"","",""]
[null,null,null,null,null,null,null,"","",""]
[null,null,null,null,null,null,null,"","",""]
[null,null,null,null,null,null,null,"","",""]
[null,null,null,null,null,null,null,"","",""]
[null,null,null,null,null,null,null,"","",""]
[null,null,null,null,null,null,null,"","",""]
[null,null,null,null,null,null,null,"","",""]
[null,null,null,null,null,null,null,"","",""]
[null,null,null,null,null,null,null,"","",""]
[null,null,null,null,null,null,null,"","",""]
[null,null,null,null,null,null,null,"","",""]
[null,null,null,null,null,null,null,"","",""]
[null,null,null,null,null,null,null,"","",""]
[null,null,null,null,null,null,null,"","",""]
[null,null,null,null,null,null,null,"","",""]
[null,null,null,null,null,null,null,"","",""]
[null,null,null,null,null,null,null,"","",""]
[null,null,null,null,null,null,null,"","",""]
[null,null,null,null,null,null,null,"","",""]
[null,null,null,null,null,null,null,"","",""]
[null,null,null,null,null,null,null,"","",""]
[null,null,null,null,null,null,null,"","",""]
[null,null,null,null,null,null,null,"","",""]
[null,null,null,null,null,null,null,"","",""]
[null,null,null,null,null,null,null,"","",""]
[null,null,null,null,null,null,null,"","",""]
[null,null,null,null,null,null,null,"","",""]
[null,null,null,null,null,null,null,"","",""]
[null,null,null,null,null,null,null,"","",""]
[null,null,null,null,null,null,null,"","",""]
[null,null,null,null,null,null,null,"","",""]
[null,null,null,null,null,null,null,"","",""]
[null,null,null,null,null,null,null,"","",""]
[null,null,null,null,null,null,null,"","",""]
[null,null,null,null,null,null,null,"","",""]
[null,null,null,null,null,null,null,"","",""]
[null,null,null,null,null,null,null,"","",""]
[null,null,null,null,null,null,null,"","",""]
[null,null,null,null,null,null,null,"","",""]
[null,null,null,null,null,null,null,"","",""]
[null,null,null,null,null,null,null,"","",""]
[null,null,null,null,null,null,null,"","",""]
[null,null,null,null,null,null,null,"","",""]
[null,null,null,null,null,null,null,"","",""]
[null,null,null,null,null,null,null,"","",""]
[null,null,null,null,null,null,null,"","",""]
[null,null,null,null,null,null,null,"","",""]
[null,null,null,null,null,null,null,"","",""]
[null,null,null,null,null,null,null,"","",""]
[null,null,null,null,null,null,null,"","",""]
[null,null,null,null,null,null,null,"","",""]
[null,null,null,null,null,null,null,"","",""]
[null,null,null,null,null,null,null,"","",""]
[null,null,null,null,null,null,null,"","",""]
[null,null,null,null,null,null,null,"","",""]
[null,null,null,null,null,null,null,"","",""]
[null,null,null,null,null,null,null,"","",""]
[null,null,null,null,null,null,null,"","",""]
[null,null,null,null,null,null,null,"","",""]
[null,null,null,null,null,null,null,"","",""]
[null,null,null,null,null,null,null,{"$f":"IF(G3799<>\"\",G3799/12,\"\")","v":""},{"$f":"IF(G3799<>\"\",8,\"\")","v":""},{"$f":"IF(I3799<>\"\",I3799/12,\"\")","v":""}]
[null,null,null,null,null,null,null,"","",""]
[null,null,null,null,null,null,null,"","",""]
[null,null,null,null,null,null,null,"","",""]
[null,null,null,null,null,null,null,"","",""]
[null,null,null,null,null,null,null,"","",""]
[null,null,null,null,null,null,null,"","",""]
[null,null,null,null,null,null,null,"","",""]
[null,null,null,null,null,null,null,"","",""]
[null,null,null,null,null,null,null,"","",""]
[null,null,null,null,null,null,null,"","",""]
[null,null,null,null,null,null,null,"","",""]
[null,null,null,null,null,null,null,"","",""]
[null,null,null,null,null,null,null,"","",""]
[null,null,null,null,null,null,null,"","",""]
[null,null,null,null,null,null,null,"","",""]
[null,null,null,null,null,null,null,"","",""]
[null,null,null,null,null,null,null,"","",""]
[null,null,null,null,null,null,null,"","",""]
[null,null,null,null,null,null,null,"","",""]
[null,null,null,null,null,null,null,"","",""]
[null,null,null,null,null,null,null,"","",""]
[null,null,null,null,null,null,null,"","",""]
[null,null,null,null,null,null,null,"","",""]
[null,null,null,null,null,null,null,"","",""]
[null,null,null,null,null,null,null,"","",""]
[null,null,null,null,null,null,null,"","",""]
[null,null,null,null,null,null,null,"","",""]
[null,null,null,null,null,null,null,"","",""]
[null,null,null,null,null,null,null,"","",""]
[null,null,null,null,null,null,null,"","",""]
[null,null,null,null,null,null,null,"","",""]
[null,null,null,null,null,null,null,"","",""]
[null,null,null,null,null,null,null,"","",""]
[null,null,null,null,null,null,null,"","",""]
[null,null,null,null,null,null,null,"","",""]
[null,null,null,null,null,null,null,"","",""]
[null,null,null,null,null,null,null,"","",""]
[null,null,null,null,null,null,null,"","",""]
[null,null,null,null,null,null,null,"","",""]
[null,null,null,null,null,null,null,"","",""]
[null,null,null,null,null,null,null,"","",""]
[null,null,null,null,null,null,null,"","",""]
[null,null,null,null,null,null,null,"","",""]
[null,null,null,null,null,null,null,"","",""]
[null,null,null,null,null,null,null,"","",""]
[null,null,null,null,null,null,null,"","",""]
[null,null,null,null,null,null,null,"","",""]
[null,null,null,null,null,null,null,"","",""]
[null,null,null,null,null,null,null,"","",""]
[null,null,null,null,null,null,null,"","",""]
[null,null,null,null,null,null,null,"","",""]
[null,null,null,null,null,null,null,"","",""]
[null,null,null,null,null,null,null,"","",""]
[null,null,null,null,null,null,null,"","",""]
[null,null,null,null,null,null,null,"","",""]
[null,null,null,null,null,null,null,"","",""]
[null,null,null,null,null,null,null,"","",""]
[null,null,null,null,null,null,null,"","",""]
[null,null,null,null,null,null,null,"","",""]
[null,null,null,null,null,null,null,"","",""]
[null,null,null,null,null,null,null,"","",""]
[null,null,null,null,null,null,null,"","",""]
[null,null,null,null,null,null,null,"","",""]
[null,null,null,null,null,null,null,{"$f":"IF(G3863<>\"\",G3863/12,\"\")","v":""},{"$f":"IF(G3863<>\"\",8,\"\")","v":""},{"$f":"IF(I3863<>\"\",I3863/12,\"\")","v":""}]
[null,null,null,null,null,null,null,"","",""]
[null,null,null,null,null,null,null,"","",""]
[null,null,null,null,null,null,null,"","",""]
[null,null,null,null,null,null,null,"","",""]
[null,null,null,null,null,null,null,"","",""]
[null,null,null,null,null,null,null,"","",""]
[null,null,null,null,null,null,null,"","",""]
[null,null,null,null,null,null,null,"","",""]
[null,null,null,null,null,null,null,"","",""]
[null,null,null,null,null,null,null,"","",""]
[null,null,null,null,null,null,null,"","",""]
[null,null,null,null,null,null,null,"","",""]
[null,null,null,null,null,null,null,"","",""]
[null,null,null,null,null,null,null,"","",""]
[null,null,null,null,null,null,null,"","",""]
[null,null,null,null,null,null,null,"","",""]
[null,null,null,null,null,null,null,"","",""]
[null,null,null,null,null,null,null,"","",""]
[null,null,null,null,null,null,null,"","",""]
[null,null,null,null,null,null,null,"","",""]
[null,null,null,null,null,null,null,"","",""]
[null,null,null,null,null,null,null,"","",""]
[null,null,null,null,null,null,null,"","",""]
[null,null,null,null,null,null,null,"","",""]
[null,null,null,null,null,null,null,"","",""]
[null,null,null,null,null,null,null,"","",""]
[null,null,null,null,null,null,null,"","",""]
[null,null,null,null,null,null,null,"","",""]
[null,null,null,null,null,null,null,"","",""]
[null,null,null,null,null,null,null,"","",""]
[null,null,null,null,null,null,null,"","",""]
[null,null,null,null,null,null,null,"","",""]
[null,null,null,null,null,null,null,"","",""]
[null,null,null,null,null,null,null,"","",""]
[null,null,null,null,null,null,null,"","",""]
[null,null,null,null,null,null,null,"","",""]
[null,null,null,null,null,null,null,"","",""]
[null,null,null,null,null,null,null,"","",""]
[null,null,null,null,null,null,null,"","",""]
[null,null,null,null,null,null,null,"","",""]
[null,null,null,null,null,null,null,"","",""]
[null,null,null,null,null,null,null,"","",""]
[null,null,null,null,null,null,null,"","",""]
[null,null,null,null,null,null,null,"","",""]
[null,null,null,null,null,null,null,"","",""]
[null,null,null,null,null,null,null,"","",""]
[null,null,null,null,null,null,null,"","",""]
[null,null,null,null,null,null,null,"","",""]
[null,null,null,null,null,null,null,"","",""]
[null,null,null,null,null,null,null,"","",""]
[null,null,null,null,null,null,null,"","",""]
[null,null,null,null,null,null,null,"","",""]
[null,null,null,null,null,null,null,"","",""]
[null,null,null,null,null,null,null,"","",""]
[null,null,null,null,null,null,null,"","",""]
[null,null,null,null,null,null,null,"","",""]
[null,null,null,null,null,null,null,"","",""]
[null,null,null,null,null,null,null,"","",""]
[null,null,null,null,null,null,null,"","",""]
[null,null,null,null,null,null,null,"","",""]
[null,null,null,null,null,null,null,"","",""]
[null,null,null,null,null,null,null,"","",""]
[null,null,null,null,null,null,null,"","",""]
[null,null,null,null,null,null,null,{"$f":"IF(G3927<>\"\",G3927/12,\"\")","v":""},{"$f":"IF(G3927<>\"\",8,\"\")","v":""},{"$f":"IF(I3927<>\"\",I3927/12,\"\")","v":""}]
[null,null,null,null,null,null,null,"","",""]
[null,null,null,null,null,null,null,"","",""]
[null,null,null,null,null,null,null,"","",""]
[null,null,null,null,null,null,null,"","",""]
[null,null,null,null,null,null,null,"","",""]
[null,null,null,null,null,null,null,"","",""]
[null,null,null,null,null,null,null,"","",""]
[null,null,null,null,null,null,null,"","",""]
[null,null,null,null,null,null,null,"","",""]
[null,null,null,null,null,null,null,"","",""]
[null,null,null,null,null,null,null,"","",""]
[null,null,null,null,null,null,null,"","",""]
[null,null,null,null,null,null,null,"","",""]
[null,null,null,null,null,null,null,"","",""]
[null,null,null,null,null,null,null,"","",""]
[null,null,null,null,null,null,null,"","",""]
[null,null,null,null,null,null,null,"","",""]
[null,null,null,null,null,null,null,"","",""]
[null,null,null,null,null,null,null,"","",""]
[null,null,null,null,null,null,null,"","",""]
[null,null,null,null,null,null,null,"","",""]
[null,null,null,null,null,null,null,"","",""]
[null,null,null,null,null,null,null,"","",""]
[null,null,null,null,null,null,null,"","",""]
[null,null,null,null,null,null,null,"","",""]
[null,null,null,null,null,null,null,"","",""]
[null,null,null,null,null,null,null,"","",""]
[null,null,null,null,null,null,null,"","",""]
[null,null,null,null,null,null,null,"","",""]
[null,null,null,null,null,null,null,"","",""]
[null,null,null,null,null,null,null,"","",""]
[null,null,null,null,null,null,null,"","",""]
[null,null,null,null,null,null,null,"","",""]
[null,null,null,null,null,null,null,"","",""]
[null,null,null,null,null,null,null,"","",""]
[null,null,null,null,null,null,null,"","",""]
[null,null,null,null,null,null,null,"","",""]
[null,null,null,null,null,null,null,"","",""]
[null,null,null,null,null,null,null,"","",""]
[null,null,null,null,null,null,null,"","",""]
[null,null,null,null,null,null,null,"","",""]
[null,null,null,null,null,null,null,"","",""]
[null,null,null,null,null,null,null,"","",""]
[null,null,null,null,null,null,null,"","",""]
[null,null,null,null,null,null,null,"","",""]
[null,null,null,null,null,null,null,"","",""]
[null,null,null,null,null,null,null,"","",""]
[null,null,null,null,null,null,null,"","",""]
[null,null,null,null,null,null,null,"","",""]
[null,null,null,null,null,null,null,"","",""]
[null,null,null,null,null,null,null,"","",""]
[null,null,null,null,null,null,null,"","",""]
[null,null,null,null,null,null,null,"","",""]
[null,null,null,null,null,null,null,"","",""]
[null,null,null,null,null,null,null,"","",""]
[null,null,null,null,null,null,null,"","",""]
[null,null,null,null,null,null,null,"","",""]
[null,null,null,null,null,null,null,"","",""]
[null,null,null,null,null,null,null,"","",""]
[null,null,null,null,null,null,null,"","",""]
[null,null,null,null,null,null,null,"","",""]
[null,null,null,null,null,null,null,"","",""]
[null,null,null,null,null,null,null,"","",""]
[null,null,null,null,null,null,null,{"$f":"IF(G3991<>\"\",G3991/12,\"\")","v":""},{"$f":"IF(G3991<>\"\",8,\"\")","v":""},{"$f":"IF(I3991<>\"\",I3991/12,\"\")","v":""}]
[null,null,null,null,null,null,null,"","",""]
[null,null,null,null,null,null,null,"","",""]
[null,null,null,null,null,null,null,"","",""]
[null,null,null,null,null,null,null,"","",""]
[null,null,null,null,null,null,null,"","",""]
[null,null,null,null,null,null,null,"","",""]
[null,null,null,null,null,null,null,"","",""]
[null,null,null,null,null,null,null,"","",""]
[null,null,null,null,null,null,null,"","",""]
[null,null,null,null,null,null,null,"","",""]
[null,null,null,null,null,null,null,"","",""]
[null,null,null,null,null,null,null,"","",""]
[null,null,null,null,null,null,null,"","",""]
[null,null,null,null,null,null,null,"","",""]
[null,null,null,null,null,null,null,"","",""]
[null,null,null,null,null,null,null,"","",""]
[null,null,null,null,null,null,null,"","",""]
[null,null,null,null,null,null,null,"","",""]
[null,null,null,null,null,null,null,"","",""]
[null,null,null,null,null,null,null,"","",""]
[null,null,null,null,null,null,null,"","",""]
[null,null,null,null,null,null,null,"","",""]
[null,null,null,null,null,null,null,"","",""]
[null,null,null,null,null,null,null,"","",""]
[null,null,null,null,null,null,null,"","",""]
[null,null,null,null,null,null,null,"","",""]
[null,null,null,null,null,null,null,"","",""]
[null,null,null,null,null,null,null,"","",""]
[null,null,null,null,null,null,null,"","",""]
[null,null,null,null,null,null,null,"","",""]
[null,null,null,null,null,null,null,"","",""]
[null,null,null,null,null,null,null,"","",""]
[null,null,null,null,null,null,null,"","",""]
[null,null,null,null,null,null,null,"","",""]
[null,null,null,null,null,null,null,"","",""]
[null,null,null,null,null,null,null,"","",""]
[null,null,null,null,null,null,null,"","",""]
[null,null,null,null,null,null,null,"","",""]
[null,null,null,null,null,null,null,"","",""]
[null,null,null,null,null,null,null,"","",""]
[null,null,null,null,null,null,null,"","",""]
[null,null,null,null,null,null,null,"","",""]
[null,null,null,null,null,null,null,"","",""]
[null,null,null,null,null,null,null,"","",""]
[null,null,null,null,null,null,null,"","",""]
[null,null,null,null,null,null,null,"","",""]
[null,null,null,null,null,null,null,"","",""]
[null,null,null,null,null,null,null,"","",""]
[null,null,null,null,null,null,null,"","",""]
[null,null,null,null,null,null,null,"","",""]
[null,null,null,null,null,null,null,"","",""]
[null,null,null,null,null,null,null,"","",""]
[null,null,null,null,null,null,null,"","",""]
[null,null,null,null,null,null,null,"","",""]
[null,null,null,null,null,null,null,"","",""]
[null,null,null,null,null,null,null,"","",""]
[null,null,null,null,null,null,null,"","",""]
[null,null,null,null,null,null,null,"","",""]
[null,null,null,null,null,null,null,"","",""]
[null,null,null,null,null,null,null,"","",""]
[null,null,null,null,null,null,null,"","",""]
[null,null,null,null,null,null,null,"","",""]
[null,null,null,null,null,null,null,"","",""]
[null,null,null,null,null,null,null,{"$f":"IF(G4055<>\"\",G4055/12,\"\")","v":""},{"$f":"IF(G4055<>\"\",8,\"\")","v":""},{"$f":"IF(I4055<>\"\",I4055/12,\"\")","v":""}]
[null,null,null,null,null,null,null,"","",""]
[null,null,null,null,null,null,null,"","",""]
[null,null,null,null,null,null,null,"","",""]
[null,null,null,null,null,null,null,"","",""]
[null,null,null,null,null,null,null,"","",""]
[null,null,null,null,null,null,null,"","",""]
[null,null,null,null,null,null,null,"","",""]
[null,null,null,null,null,null,null,"","",""]
[null,null,null,null,null,null,null,"","",""]
[null,null,null,null,null,null,null,"","",""]
[null,null,null,null,null,null,null,"","",""]
[null,null,null,null,null,null,null,"","",""]
[null,null,null,null,null,null,null,"","",""]
[null,null,null,null,null,null,null,"","",""]
[null,null,null,null,null,null,null,"","",""]
[null,null,null,null,null,null,null,"","",""]
[null,null,null,null,null,null,null,"","",""]
[null,null,null,null,null,null,null,"","",""]
[null,null,null,null,null,null,null,"","",""]
[null,null,null,null,null,null,null,"","",""]
[null,null,null,null,null,null,null,"","",""]
[null,null,null,null,null,null,null,"","",""]
[null,null,null,null,null,null,null,"","",""]
[null,null,null,null,null,null,null,"","",""]
[null,null,null,null,null,null,null,"","",""]
[null,null,null,null,null,null,null,"","",""]
[null,null,null,null,null,null,null,"","",""]
[null,null,null,null,null,null,null,"","",""]
[null,null,null,null,null,null,null,"","",""]
[null,null,null,null,null,null,null,"","",""]
[null,null,null,null,null,null,null,"","",""]
[null,null,null,null,null,null,null,"","",""]
[null,null,null,null,null,null,null,"","",""]
[null,null,null,null,null,null,null,"","",""]
[null,null,null,null,null,null,null,"","",""]
[null,null,null,null,null,null,null,"","",""]
[null,null,null,null,null,null,null,"","",""]
[null,null,null,null,null,null,null,"","",""]
[null,null,null,null,null,null,null,"","",""]
[null,null,null,null,null,null,null,"","",""]
[null,null,null,null,null,null,null,"","",""]
[null,null,null,null,null,null,null,"","",""]
[null,null,null,null,null,null,null,"","",""]
[null,null,null,null,null,null,null,"","",""]
[null,null,null,null,null,null,null,"","",""]
[null,null,null,null,null,null,null,"","",""]
[null,null,null,null,null,null,null,"","",""]
[null,null,null,null,null,null,null,"","",""]
[null,null,null,null,null,null,null,"","",""]
[null,null,null,null,null,null,null,"","",""]
[null,null,null,null,null,null,null,"","",""]
[null,null,null,null,null,null,null,"","",""]
[null,null,null,null,null,null,null,"","",""]
[null,null,null,null,null,null,null,"","",""]
[null,null,null,null,null,null,null,"","",""]
[null,null,null,null,null,null,null,"","",""]
[null,null,null,null,null,null,null,"","",""]
[null,null,null,null,null,null,null,"","",""]
[null,null,null,null,null,null,null,"","",""]
[null,null,null,null,null,null,null,"","",""]
[null,null,null,null,null,null,null,"","",""]
[null,null,null,null,null,null,null,"","",""]
[null,null,null,null,null,null,null,"","",""]
[null,null,null,null,null,null,null,{"$f":"IF(G4119<>\"\",G4119/12,\"\")","v":""},{"$f":"IF(G4119<>\"\",8,\"\")","v":""},{"$f":"IF(I4119<>\"\",I4119/12,\"\")","v":""}]
[null,null,null,null,null,null,null,"","",""]
[null,null,null,null,null,null,null,"","",""]
[null,null,null,null,null,null,null,"","",""]
[null,null,null,null,null,null,null,"","",""]
[null,null,null,null,null,null,null,"","",""]
[null,null,null,null,null,null,null,"","",""]
[null,null,null,null,null,null,null,"","",""]
[null,null,null,null,null,null,null,"","",""]
[null,null,null,null,null,null,null,"","",""]
[null,null,null,null,null,null,null,"","",""]
[null,null,null,null,null,null,null,"","",""]
[null,null,null,null,null,null,null,"","",""]
[null,null,null,null,null,null,null,"","",""]
[null,null,null,null,null,null,null,"","",""]
[null,null,null,null,null,null,null,"","",""]
[null,null,null,null,null,null,null,"","",""]
[null,null,null,null,null,null,null,"","",""]
[null,null,null,null,null,null,null,"","",""]
[null,null,null,null,null,null,null,"","",""]
[null,null,null,null,null,null,null,"","",""]
[null,null,null,null,null,null,null,"","",""]
[null,null,null,null,null,null,null,"","",""]
[null,null,null,null,null,null,null,"","",""]
[null,null,null,null,null,null,null,"","",""]
[null,null,null,null,null,null,null,"","",""]
[null,null,null,null,null,null,null,"","",""]
[null,null,null,null,null,null,null,"","",""]
[null,null,null,null,null,null,null,"","",""]
[null,null,null,null,null,null,null,"","",""]
[null,null,null,null,null,null,null,"","",""]
[null,null,null,null,null,null,null,"","",""]
[null,null,null,null,null,null,null,"","",""]
[null,null,null,null,null,null,null,"","",""]
[null,null,null,null,null,null,null,"","",""]
[null,null,null,null,null,null,null,"","",""]
[null,null,null,null,null,null,null,"","",""]
[null,null,null,null,null,null,null,"","",""]
[null,null,null,null,null,null,null,"","",""]
[null,null,null,null,null,null,null,"","",""]
[null,null,null,null,null,null,null,"","",""]
[null,null,null,null,null,null,null,"","",""]
[null,null,null,null,null,null,null,"","",""]
[null,null,null,null,null,null,null,"","",""]
[null,null,null,null,null,null,null,"","",""]
[null,null,null,null,null,null,null,"","",""]
[null,null,null,null,null,null,null,"","",""]
[null,null,null,null,null,null,null,"","",""]
[null,null,null,null,null,null,null,"","",""]
[null,null,null,null,null,null,null,"","",""]
[null,null,null,null,null,null,null,"","",""]
[null,null,null,null,null,null,null,"","",""]
[null,null,null,null,null,null,null,"","",""]
[null,null,null,null,null,null,null,"","",""]
[null,null,null,null,null,null,null,"","",""]
[null,null,null,null,null,null,null,"","",""]
[null,null,null,null,null,null,null,"","",""]
[null,null,null,null,null,null,null,"","",""]
[null,null,null,null,null,null,null,"","",""]
[null,null,null,null,null,null,null,"","",""]
[null,null,null,null,null,null,null,"","",""]
[null,null,null,null,null,null,null,"","",""]
[null,null,null,null,null,null,null,"","",""]
[null,null,null,null,null,null,null,"","",""]
[null,null,null,null,null,null,null,{"$f":"IF(G4183<>\"\",G4183/12,\"\")","v":""},{"$f":"IF(G4183<>\"\",8,\"\")","v":""},{"$f":"IF(I4183<>\"\",I4183/12,\"\")","v":""}]
[null,null,null,null,null,null,null,"","",""]
[null,null,null,null,null,null,null,"","",""]
[null,null,null,null,null,null,null,"","",""]
[null,null,null,null,null,null,null,"","",""]
[null,null,null,null,null,null,null,"","",""]
[null,null,null,null,null,null,null,"","",""]
[null,null,null,null,null,null,null,"","",""]
[null,null,null,null,null,null,null,"","",""]
[null,null,null,null,null,null,null,"","",""]
[null,null,null,null,null,null,null,"","",""]
[null,null,null,null,null,null,null,"","",""]
[null,null,null,null,null,null,null,"","",""]
[null,null,null,null,null,null,null,"","",""]
[null,null,null,null,null,null,null,"","",""]
[null,null,null,null,null,null,null,"","",""]
[null,null,null,null,null,null,null,"","",""]
[null,null,null,null,null,null,null,"","",""]
[null,null,null,null,null,null,null,"","",""]
[null,null,null,null,null,null,null,"","",""]
[null,null,null,null,null,null,null,"","",""]
[null,null,null,null,null,null,null,"","",""]
[null,null,null,null,null,null,null,"","",""]
[null,null,null,null,null,null,null,"","",""]
[null,null,null,null,null,null,null,"","",""]
[null,null,null,null,null,null,null,"","",""]
[null,null,null,null,null,null,null,"","",""]
[null,null,null,null,null,null,null,"","",""]
[null,null,null,null,null,null,null,"","",""]
[null,null,null,null,null,null,null,"","",""]
[null,null,null,null,null,null,null,"","",""]
[null,null,null,null,null,null,null,"","",""]
[null,null,null,null,null,null,null,"","",""]
[null,null,null,null,null,null,null,"","",""]
[null,null,null,null,null,null,null,"","",""]
[null,null,null,null,null,null,null,"","",""]
[null,null,null,null,null,null,null,"","",""]
[null,null,null,null,null,null,null,"","",""]
[null,null,null,null,null,null,null,"","",""]
[null,null,null,null,null,null,null,"","",""]
[null,null,null,null,null,null,null,"","",""]
[null,null,null,null,null,null,null,"","",""]
[null,null,null,null,null,null,null,"","",""]
[null,null,null,null,null,null,null,"","",""]
[null,null,null,null,null,null,null,"","",""]
[null,null,null,null,null,null,null,"","",""]
[null,null,null,null,null,null,null,"","",""]
[null,null,null,null,null,null,null,"","",""]
[null,null,null,null,null,null,null,"","",""]
[null,null,null,null,null,null,null,"","",""]
[null,null,null,null,null,null,null,"","",""]
[null,null,null,null,null,null,null,"","",""]
[null,null,null,null,null,null,null,"","",""]
[null,null,null,null,null,null,null,"","",""]
[null,null,null,null,null,null,null,"","",""]
[null,null,null,null,null,null,null,"","",""]
[null,null,null,null,null,null,null,"","",""]
[null,null,null,null,null,null,null,"","",""]
[null,null,null,null,null,null,null,"","",""]
[null,null,null,null,null,null,null,"","",""]
[null,null,null,null,null,null,null,"","",""]
[null,null,null,null,null,null,null,"","",""]
[null,null,null,null,null,null,null,"","",""]
[null,null,null,null,null,null,null,"","",""]
[null,null,null,null,null,null,null,{"$f":"IF(G4247<>\"\",G4247/12,\"\")","v":""},{"$f":"IF(G4247<>\"\",8,\"\")","v":""},{"$f":"IF(I4247<>\"\",I4247/12,\"\")","v":""}]
[null,null,null,null,null,null,null,"","",""]
[null,null,null,null,null,null,null,"","",""]
[null,null,null,null,null,null,null,"","",""]
[null,null,null,null,null,null,null,"","",""]
[null,null,null,null,null,null,null,"","",""]
[null,null,null,null,null,null,null,"","",""]
[null,null,null,null,null,null,null,"","",""]
[null,null,null,null,null,null,null,"","",""]
[null,null,null,null,null,null,null,"","",""]
[null,null,null,null,null,null,null,"","",""]
[null,null,null,null,null,null,null,"","",""]
[null,null,null,null,null,null,null,"","",""]
[null,null,null,null,null,null,null,"","",""]
[null,null,null,null,null,null,null,"","",""]
[null,null,null,null,null,null,null,"","",""]
[null,null,null,null,null,null,null,"","",""]
[null,null,null,null,null,null,null,"","",""]
[null,null,null,null,null,null,null,"","",""]
[null,null,null,null,null,null,null,"","",""]
[null,null,null,null,null,null,null,"","",""]
[null,null,null,null,null,null,null,"","",""]
[null,null,null,null,null,null,null,"","",""]
[null,null,null,null,null,null,null,"","",""]
[null,null,null,null,null,null,null,"","",""]
[null,null,null,null,null,null,null,"","",""]
[null,null,null,null,null,null,null,"","",""]
[null,null,null,null,null,null,null,"","",""]
[null,null,null,null,null,null,null,"","",""]
[null,null,null,null,null,null,null,"","",""]
[null,null,null,null,null,null,null,"","",""]
[null,null,null,null,null,null,null,"","",""]
[null,null,null,null,null,null,null,"","",""]
[null,null,null,null,null,null,null,"","",""]
[null,null,null,null,null,null,null,"","",""]
[null,null,null,null,null,null,null,"","",""]
[null,null,null,null,null,null,null,"","",""]
[null,null,null,null,null,null,null,"","",""]
[null,null,null,null,null,null,null,"","",""]
[null,null,null,null,null,null,null,"","",""]
[null,null,null,null,null,null,null,"","",""]
[null,null,null,null,null,null,null,"","",""]
[null,null,null,null,null,null,null,"","",""]
[null,null,null,null,null,null,null,"","",""]
[null,null,null,null,null,null,null,"","",""]
[null,null,null,null,null,null,null,"","",""]
[null,null,null,null,null,null,null,"","",""]
[null,null,null,null,null,null,null,"","",""]
[null,null,null,null,null,null,null,"","",""]
[null,null,null,null,null,null,null,"","",""]
[null,null,null,null,null,null,null,"","",""]
[null,null,null,null,null,null,null,"","",""]
[null,null,null,null,null,null,null,"","",""]
[null,null,null,null,null,null,null,"","",""]
[null,null,null,null,null,null,null,"","",""]
[null,null,null,null,null,null,null,"","",""]
[null,null,null,null,null,null,null,"","",""]
[null,null,null,null,null,null,null,"","",""]
[null,null,null,null,null,null,null,"","",""]
[null,null,null,null,null,null,null,"","",""]
[null,null,null,null,null,null,null,"","",""]
[null,null,null,null,null,null,null,"","",""]
[null,null,null,null,null,null,null,"","",""]
[null,null,null,null,null,null,null,"","",""]
[null,null,null,null,null,null,null,{"$f":"IF(G4311<>\"\",G4311/12,\"\")","v":""},{"$f":"IF(G4311<>\"\",8,\"\")","v":""},{"$f":"IF(I4311<>\"\",I4311/12,\"\")","v":""}]
[null,null,null,null,null,null,null,"","",""]
[null,null,null,null,null,null,null,"","",""]
[null,null,null,null,null,null,null,"","",""]
[null,null,null,null,null,null,null,"","",""]
[null,null,null,null,null,null,null,"","",""]
[null,null,null,null,null,null,null,"","",""]
[null,null,null,null,null,null,null,"","",""]
[null,null,null,null,null,null,null,"","",""]
[null,null,null,null,null,null,null,"","",""]
[null,null,null,null,null,null,null,"","",""]
[null,null,null,null,null,null,null,"","",""]
[null,null,null,null,null,null,null,"","",""]
[null,null,null,null,null,null,null,"","",""]
[null,null,null,null,null,null,null,"","",""]
[null,null,null,null,null,null,null,"","",""]
[null,null,null,null,null,null,null,"","",""]
[null,null,null,null,null,null,null,"","",""]
[null,null,null,null,null,null,null,"","",""]
[null,null,null,null,null,null,null,"","",""]
[null,null,null,null,null,null,null,"","",""]
[null,null,null,null,null,null,null,"","",""]
[null,null,null,null,null,null,null,"","",""]
[null,null,null,null,null,null,null,"","",""]
[null,null,null,null,null,null,null,"","",""]
[null,null,null,null,null,null,null,"","",""]
[null,null,null,null,null,null,null,"","",""]
[null,null,null,null,null,null,null,"","",""]
[null,null,null,null,null,null,null,"","",""]
[null,null,null,null,null,null,null,"","",""]
[null,null,null,null,null,null,null,"","",""]
[null,null,null,null,null,null,null,"","",""]
[null,null,null,null,null,null,null,"","",""]
[null,null,null,null,null,null,null,"","",""]
[null,null,null,null,null,null,null,"","",""]
[null,null,null,null,null,null,null,"","",""]
[null,null,null,null,null,null,null,"","",""]
[null,null,null,null,null,null,null,"","",""]
[null,null,null,null,null,null,null,"","",""]
[null,null,null,null,null,null,null,"","",""]
[null,null,null,null,null,null,null,"","",""]
[null,null,null,null,null,null,null,"","",""]
[null,null,null,null,null,null,null,"","",""]
[null,null,null,null,null,null,null,"","",""]
[null,null,null,null,null,null,null,"","",""]
[null,null,null,null,null,null,null,"","",""]
[null,null,null,null,null,null,null,"","",""]
[null,null,null,null,null,null,null,"","",""]
[null,null,null,null,null,null,null,"","",""]
[null,null,null,null,null,null,null,"","",""]
[null,null,null,null,null,null,null,"","",""]
[null,null,null,null,null,null,null,"","",""]
[null,null,null,null,null,null,null,"","",""]
[null,null,null,null,null,null,null,"","",""]
[null,null,null,null,null,null,null,"","",""]
[null,null,null,null,null,null,null,"","",""]
[null,null,null,null,null,null,null,"","",""]
[null,null,null,null,null,null,null,"","",""]
[null,null,null,null,null,null,null,"","",""]
[null,null,null,null,null,null,null,"","",""]
[null,null,null,null,null,null,null,"","",""]
[null,null,null,null,null,null,null,"","",""]
[null,null,null,null,null,null,null,"","",""]
[null,null,null,null,null,null,null,"","",""]
[null,null,null,null,null,null,null,{"$f":"IF(G4375<>\"\",G4375/12,\"\")","v":""},{"$f":"IF(G4375<>\"\",8,\"\")","v":""},{"$f":"IF(I4375<>\"\",I4375/12,\"\")","v":""}]
[null,null,null,null,null,null,null,"","",""]
[null,null,null,null,null,null,null,"","",""]
[null,null,null,null,null,null,null,"","",""]
[null,null,null,null,null,null,null,"","",""]
[null,null,null,null,null,null,null,"","",""]
[null,null,null,null,null,null,null,"","",""]
[null,null,null,null,null,null,null,"","",""]
[null,null,null,null,null,null,null,"","",""]
[null,null,null,null,null,null,null,"","",""]
[null,null,null,null,null,null,null,"","",""]
[null,null,null,null,null,null,null,"","",""]
[null,null,null,null,null,null,null,"","",""]
[null,null,null,null,null,null,null,"","",""]
[null,null,null,null,null,null,null,"","",""]
[null,null,null,null,null,null,null,"","",""]
[null,null,null,null,null,null,null,"","",""]
[null,null,null,null,null,null,null,"","",""]
[null,null,null,null,null,null,null,"","",""]
[null,null,null,null,null,null,null,"","",""]
[null,null,null,null,null,null,null,"","",""]
[null,null,null,null,null,null,null,"","",""]
[null,null,null,null,null,null,null,"","",""]
[null,null,null,null,null,null,null,"","",""]
[null,null,null,null,null,null,null,"","",""]
[null,null,null,null,null,null,null,"","",""]
[null,null,null,null,null,null,null,"","",""]
[null,null,null,null,null,null,null,"","",""]
[null,null,null,null,null,null,null,"","",""]
[null,null,null,null,null,null,null,"","",""]
[null,null,null,null,null,null,null,"","",""]
[null,null,null,null,null,null,null,"","",""]
[null,null,null,null,null,null,null,"","",""]
[null,null,null,null,null,null,null,"","",""]
[null,null,null,null,null,null,null,"","",""]
[null,null,null,null,null,null,null,"","",""]
[null,null,null,null,null,null,null,"","",""]
[null,null,null,null,null,null,null,"","",""]
[null,null,null,null,null,null,null,"","",""]
[null,null,null,null,null,null,null,"","",""]
[null,null,null,null,null,null,null,"","",""]
[null,null,null,null,null,null,null,"","",""]
[null,null,null,null,null,null,null,"","",""]
[null,null,null,null,null,null,null,"","",""]
[null,null,null,null,null,null,null,"","",""]
[null,null,null,null,null,null,null,"","",""]
[null,null,null,null,null,null,null,"","",""]
[null,null,null,null,null,null,null,"","",""]
[null,null,null,null,null,null,null,"","",""]
[null,null,null,null,null,null,null,"","",""]
[null,null,null,null,null,null,null,"","",""]
[null,null,null,null,null,null,null,"","",""]
[null,null,null,null,null,null,null,"","",""]
[null,null,null,null,null,null,null,"","",""]
[null,null,null,null,null,null,null,"","",""]
[null,null,null,null,null,null,null,"","",""]
[null,null,null,null,null,null,null,"","",""]
[null,null,null,null,null,null,null,"","",""]
[null,null,null,null,null,null,null,"","",""]
[null,null,null,null,null,null,null,"","",""]
[null,null,null,null,null,null,null,"","",""]
[null,null,null,null,null,null,null,"","",""]
[null,null,null,null,null,null,null,"","",""]
[null,null,null,null,null,null,null,"","",""]
[null,null,null,null,null,null,null,{"$f":"IF(G4439<>\"\",G4439/12,\"\")","v":""},{"$f":"IF(G4439<>\"\",8,\"\")","v":""},{"$f":"IF(I4439<>\"\",I4439/12,\"\")","v":""}]
[null,null,null,null,null,null,null,"","",""]
[null,null,null,null,null,null,null,"","",""]
[null,null,null,null,null,null,null,"","",""]
[null,null,null,null,null,null,null,"","",""]
[null,null,null,null,null,null,null,"","",""]
[null,null,null,null,null,null,null,"","",""]
[null,null,null,null,null,null,null,"","",""]
[null,null,null,null,null,null,null,"","",""]
[null,null,null,null,null,null,null,"","",""]
[null,null,null,null,null,null,null,"","",""]
[null,null,null,null,null,null,null,"","",""]
[null,null,null,null,null,null,null,"","",""]
[null,null,null,null,null,null,null,"","",""]
[null,null,null,null,null,null,null,"","",""]
[null,null,null,null,null,null,null,"","",""]
[null,null,null,null,null,null,null,"","",""]
[null,null,null,null,null,null,null,"","",""]
[null,null,null,null,null,null,null,"","",""]
[null,null,null,null,null,null,null,"","",""]
[null,null,null,null,null,null,null,"","",""]
[null,null,null,null,null,null,null,"","",""]
[null,null,null,null,null,null,null,"","",""]
[null,null,null,null,null,null,null,"","",""]
[null,null,null,null,null,null,null,"","",""]
[null,null,null,null,null,null,null,"","",""]
[null,null,null,null,null,null,null,"","",""]
[null,null,null,null,null,null,null,"","",""]
[null,null,null,null,null,null,null,"","",""]
[null,null,null,null,null,null,null,"","",""]
[null,null,null,null,null,null,null,"","",""]
[null,null,null,null,null,null,null,"","",""]
[null,null,null,null,null,null,null,"","",""]
[null,null,null,null,null,null,null,"","",""]
[null,null,null,null,null,null,null,"","",""]
[null,null,null,null,null,null,null,"","",""]
[null,null,null,null,null,null,null,"","",""]
[null,null,null,null,null,null,null,"","",""]
[null,null,null,null,null,null,null,"","",""]
[null,null,null,null,null,null,null,"","",""]
[null,null,null,null,null,null,null,"","",""]
[null,null,null,null,null,null,null,"","",""]
[null,null,null,null,null,null,null,"","",""]
[null,null,null,null,null,null,null,"","",""]
[null,null,null,null,null,null,null,"","",""]
[null,null,null,null,null,null,null,"","",""]
[null,null,null,null,null,null,null,"","",""]
[null,null,null,null,null,null,null,"","",""]
[null,null,null,null,null,null,null,"","",""]
[null,null,null,null,null,null,null,"","",""]
[null,null,null,null,null,null,null,"","",""]
[null,null,null,null,null,null,null,"","",""]
[null,null,null,null,null,null,null,"","",""]
[null,null,null,null,null,null,null,"","",""]
[null,null,null,null,null,null,null,"","",""]
[null,null,null,null,null,null,null,"","",""]
[null,null,null,null,null,null,null,"","",""]
[null,null,null,null,null,null,null,"","",""]
[null,null,null,null,null,null,null,"","",""]
[null,null,null,null,null,null,null,"","",""]
[null,null,null,null,null,null,null,"","",""]
[null,null,null,null,null,null,null,"","",""]
[null,null,null,null,null,null,null,"","",""]
[null,null,null,null,null,null,null,"","",""]
[null,null,null,null,null,null,null,{"$f":"IF(G4503<>\"\",G4503/12,\"\")","v":""},{"$f":"IF(G4503<>\"\",8,\"\")","v":""},{"$f":"IF(I4503<>\"\",I4503/12,\"\")","v":""}]
[null,null,null,null,null,null,null,"","",""]
[null,null,null,null,null,null,null,"","",""]
[null,null,null,null,null,null,null,"","",""]
[null,null,null,null,null,null,null,"","",""]
[null,null,null,null,null,null,null,"","",""]
[null,null,null,null,null,null,null,"","",""]
[null,null,null,null,null,null,null,"","",""]
[null,null,null,null,null,null,null,"","",""]
[null,null,null,null,null,null,null,"","",""]
[null,null,null,null,null,null,null,"","",""]
[null,null,null,null,null,null,null,"","",""]
[null,null,null,null,null,null,null,"","",""]
[null,null,null,null,null,null,null,"","",""]
[null,null,null,null,null,null,null,"","",""]
[null,null,null,null,null,null,null,"","",""]
[null,null,null,null,null,null,null,"","",""]
[null,null,null,null,null,null,null,"","",""]
[null,null,null,null,null,null,null,"","",""]
[null,null,null,null,null,null,null,"","",""]
[null,null,null,null,null,null,null,"","",""]
[null,null,null,null,null,null,null,"","",""]
[null,null,null,null,null,null,null,"","",""]
[null,null,null,null,null,null,null,"","",""]
[null,null,null,null,null,null,null,"","",""]
[null,null,null,null,null,null,null,"","",""]
[null,null,null,null,null,null,null,"","",""]
[null,null,null,null,null,null,null,"","",""]
[null,null,null,null,null,null,null,"","",""]
[null,null,null,null,null,null,null,"","",""]
[null,null,null,null,null,null,null,"","",""]
[null,null,null,null,null,null,null,"","",""]
[null,null,null,null,null,null,null,"","",""]
[null,null,null,null,null,null,null,"","",""]
[null,null,null,null,null,null,null,"","",""]
[null,null,null,null,null,null,null,"","",""]
[null,null,null,null,null,null,null,"","",""]
[null,null,null,null,null,null,null,"","",""]
[null,null,null,null,null,null,null,"","",""]
[null,null,null,null,null,null,null,"","",""]
[null,null,null,null,null,null,null,"","",""]
[null,null,null,null,null,null,null,"","",""]
[null,null,null,null,null,null,null,"","",""]
[null,null,null,null,null,null,null,"","",""]
[null,null,null,null,null,null,null,"","",""]
[null,null,null,null,null,null,null,"","",""]
[null,null,null,null,null,null,null,"","",""]
[null,null,null,null,null,null,null,"","",""]
[null,null,null,null,null,null,null,"","",""]
[null,null,null,null,null,null,null,"","",""]
[null,null,null,null,null,null,null,"","",""]
[null,null,null,null,null,null,null,"","",""]
[null,null,null,null,null,null,null,"","",""]
[null,null,null,null,null,null,null,"","",""]
[null,null,null,null,null,null,null,"","",""]
[null,null,null,null,null,null,null,"","",""]
[null,null,null,null,null,null,null,"","",""]
[null,null,null,null,null,null,null,"","",""]
[null,null,null,null,null,null,null,"","",""]
[null,null,null,null,null,null,null,"","",""]
[null,null,null,null,null,null,null,"","",""]
[null,null,null,null,null,null,null,"","",""]
[null,null,null,null,null,null,null,"","",""]
[null,null,null,null,null,null,null,"","",""]
[null,null,null,null,null,null,null,{"$f":"IF(G4567<>\"\",G4567/12,\"\")","v":""},{"$f":"IF(G4567<>\"\",8,\"\")","v":""},{"$f":"IF(I4567<>\"\",I4567/12,\"\")","v":""}]
[null,null,null,null,null,null,null,"","",""]
[null,null,null,null,null,null,null,"","",""]
[null,null,null,null,null,null,null,"","",""]
[null,null,null,null,null,null,null,"","",""]
[null,null,null,null,null,null,null,"","",""]
[null,null,null,null,null,null,null,"","",""]
[null,null,null,null,null,null,null,"","",""]
[null,null,null,null,null,null,null,"","",""]
[null,null,null,null,null,null,null,"","",""]
[null,null,null,null,null,null,null,"","",""]
[null,null,null,null,null,null,null,"","",""]
[null,null,null,null,null,null,null,"","",""]
[null,null,null,null,null,null,null,"","",""]
[null,null,null,null,null,null,null,"","",""]
[null,null,null,null,null,null,null,"","",""]
[null,null,null,null,null,null,null,"","",""]
[null,null,null,null,null,null,null,"","",""]
[null,null,null,null,null,null,null,"","",""]
[null,null,null,null,null,null,null,"","",""]
[null,null,null,null,null,null,null,"","",""]
[null,null,null,null,null,null,null,"","",""]
[null,null,null,null,null,null,null,"","",""]
[null,null,null,null,null,null,null,"","",""]
[null,null,null,null,null,null,null,"","",""]
[null,null,null,null,null,null,null,"","",""]
[null,null,null,null,null,null,null,"","",""]
[null,null,null,null,null,null,null,"","",""]
[null,null,null,null,null,null,null,"","",""]
[null,null,null,null,null,null,null,"","",""]
[null,null,null,null,null,null,null,"","",""]
[null,null,null,null,null,null,null,"","",""]
[null,null,null,null,null,null,null,"","",""]
[null,null,null,null,null,null,null,"","",""]
[null,null,null,null,null,null,null,"","",""]
[null,null,null,null,null,null,null,"","",""]
[null,null,null,null,null,null,null,"","",""]
[null,null,null,null,null,null,null,"","",""]
[null,null,null,null,null,null,null,"","",""]
[null,null,null,null,null,null,null,"","",""]
[null,null,null,null,null,null,null,"","",""]
[null,null,null,null,null,null,null,"","",""]
[null,null,null,null,null,null,null,"","",""]
[null,null,null,null,null,null,null,"","",""]
[null,null,null,null,null,null,null,"","",""]
[null,null,null,null,null,null,null,"","",""]
[null,null,null,null,null,null,null,"","",""]
[null,null,null,null,null,null,null,"","",""]
[null,null,null,null,null,null,null,"","",""]
[null,null,null,null,null,null,null,"","",""]
[null,null,null,null,null,null,null,"","",""]
[null,null,null,null,null,null,null,"","",""]
[null,null,null,null,null,null,null,"","",""]
[null,null,null,null,null,null,null,"","",""]
[null,null,null,null,null,null,null,"","",""]
[null,null,null,null,null,null,null,"","",""]
[null,null,null,null,null,null,null,"","",""]
[null,null,null,null,null,null,null,"","",""]
[null,null,null,null,null,null,null,"","",""]
[null,null,null,null,null,null,null,"","",""]
[null,null,null,null,null,null,null,"","",""]
[null,null,null,null,null,null,null,"","",""]
[null,null,null,null,null,null,null,"","",""]
[null,null,null,null,null,null,null,"","",""]
[null,null,null,null,null,null,null,{"$f":"IF(G4631<>\"\",G4631/12,\"\")","v":""},{"$f":"IF(G4631<>\"\",8,\"\")","v":""},{"$f":"IF(I4631<>\"\",I4631/12,\"\")","v":""}]
[null,null,null,null,null,null,null,"","",""]
[null,null,null,null,null,null,null,"","",""]
[null,null,null,null,null,null,null,"","",""]
[null,null,null,null,null,null,null,"","",""]
[null,null,null,null,null,null,null,"","",""]
[null,null,null,null,null,null,null,"","",""]
[null,null,null,null,null,null,null,"","",""]
[null,null,null,null,null,null,null,"","",""]
[null,null,null,null,null,null,null,"","",""]
[null,null,null,null,null,null,null,"","",""]
[null,null,null,null,null,null,null,"","",""]
[null,null,null,null,null,null,null,"","",""]
[null,null,null,null,null,null,null,"","",""]
[null,null,null,null,null,null,null,"","",""]
[null,null,null,null,null,null,null,"","",""]
[null,null,null,null,null,null,null,"","",""]
[null,null,null,null,null,null,null,"","",""]
[null,null,null,null,null,null,null,"","",""]
[null,null,null,null,null,null,null,"","",""]
[null,null,null,null,null,null,null,"","",""]
[null,null,null,null,null,null,null,"","",""]
[null,null,null,null,null,null,null,"","",""]
[null,null,null,null,null,null,null,"","",""]
[null,null,null,null,null,null,null,"","",""]
[null,null,null,null,null,null,null,"","",""]
[null,null,null,null,null,null,null,"","",""]
[null,null,null,null,null,null,null,"","",""]
[null,null,null,null,null,null,null,"","",""]
[null,null,null,null,null,null,null,"","",""]
[null,null,null,null,null,null,null,"","",""]
[null,null,null,null,null,null,null,"","",""]
[null,null,null,null,null,null,null,"","",""]
[null,null,null,null,null,null,null,"","",""]
[null,null,null,null,null,null,null,"","",""]
[null,null,null,null,null,null,null,"","",""]
[null,null,null,null,null,null,null,"","",""]
[null,null,null,null,null,null,null,"","",""]
[null,null,null,null,null,null,null,"","",""]
[null,null,null,null,null,null,null,"","",""]
[null,null,null,null,null,null,null,"","",""]
[null,null,null,null,null,null,null,"","",""]
[null,null,null,null,null,null,null,"","",""]
[null,null,null,null,null,null,null,"","",""]
[null,null,null,null,null,null,null,"","",""]
[null,null,null,null,null,null,null,"","",""]
[null,null,null,null,null,null,null,"","",""]
[null,null,null,null,null,null,null,"","",""]
[null,null,null,null,null,null,null,"","",""]
[null,null,null,null,null,null,null,"","",""]
[null,null,null,null,null,null,null,"","",""]
[null,null,null,null,null,null,null,"","",""]
[null,null,null,null,null,null,null,"","",""]
[null,null,null,null,null,null,null,"","",""]
[null,null,null,null,null,null,null,"","",""]
[null,null,null,null,null,null,null,"","",""]
[null,null,null,null,null,null,null,"","",""]
[null,null,null,null,null,null,null,"","",""]
[null,null,null,null,null,null,null,"","",""]
[null,null,null,null,null,null,null,"","",""]
[null,null,null,null,null,null,null,"","",""]
[null,null,null,null,null,null,null,"","",""]
[null,null,null,null,null,null,null,"","",""]
[null,null,null,null,null,null,null,"","",""]
[null,null,null,null,null,null,null,{"$f":"IF(G4695<>\"\",G4695/12,\"\")","v":""},{"$f":"IF(G4695<>\"\",8,\"\")","v":""},{"$f":"IF(I4695<>\"\",I4695/12,\"\")","v":""}]
[null,null,null,null,null,null,null,"","",""]
[null,null,null,null,null,null,null,"","",""]
[null,null,null,null,null,null,null,"","",""]
[null,null,null,null,null,null,null,"","",""]
[null,null,null,null,null,null,null,"","",""]
[null,null,null,null,null,null,null,"","",""]
[null,null,null,null,null,null,null,"","",""]
[null,null,null,null,null,null,null,"","",""]
[null,null,null,null,null,null,null,"","",""]
[null,null,null,null,null,null,null,"","",""]
[null,null,null,null,null,null,null,"","",""]
[null,null,null,null,null,null,null,"","",""]
[null,null,null,null,null,null,null,"","",""]
[null,null,null,null,null,null,null,"","",""]
[null,null,null,null,null,null,null,"","",""]
[null,null,null,null,null,null,null,"","",""]
[null,null,null,null,null,null,null,"","",""]
[null,null,null,null,null,null,null,"","",""]
[null,null,null,null,null,null,null,"","",""]
[null,null,null,null,null,null,null,"","",""]
[null,null,null,null,null,null,null,"","",""]
[null,null,null,null,null,null,null,"","",""]
[null,null,null,null,null,null,null,"","",""]
[null,null,null,null,null,null,null,"","",""]
[null,null,null,null,null,null,null,"","",""]
[null,null,null,null,null,null,null,"","",""]
[null,null,null,null,null,null,null,"","",""]
[null,null,null,null,null,null,null,"","",""]
[null,null,null,null,null,null,null,"","",""]
[null,null,null,null,null,null,null,"","",""]
[null,null,null,null,null,null,null,"","",""]
[null,null,null,null,null,null,null,"","",""]
[null,null,null,null,null,null,null,"","",""]
[null,null,null,null,null,null,null,"","",""]
[null,null,null,null,null,null,null,"","",""]
[null,null,null,null,null,null,null,"","",""]
[null,null,null,null,null,null,null,"","",""]
[null,null,null,null,null,null,null,"","",""]
[null,null,null,null,null,null,null,"","",""]
[null,null,null,null,null,null,null,"","",""]
[null,null,null,null,null,null,null,"","",""]
[null,null,null,null,null,null,null,"","",""]
[null,null,null,null,null,null,null,"","",""]
[null,null,null,null,null,null,null,"","",""]
[null,null,null,null,null,null,null,"","",""]
[null,null,null,null,null,null,null,"","",""]
[null,null,null,null,null,null,null,"","",""]
[null,null,null,null,null,null,null,"","",""]
[null,null,null,null,null,null,null,"","",""]
[null,null,null,null,null,null,null,"","",""]
[null,null,null,null,null,null,null,"","",""]
[null,null,null,null,null,null,null,"","",""]
[null,null,null,null,null,null,null,"","",""]
[null,null,null,null,null,null,null,"","",""]
[null,null,null,null,null,null,null,"","",""]
[null,null,null,null,null,null,null,"","",""]
[null,null,null,null,null,null,null,"","",""]
[null,null,null,null,null,null,null,"","",""]
[null,null,null,null,null,null,null,"","",""]
[null,null,null,null,null,null,null,"","",""]
[null,null,null,null,null,null,null,"","",""]
[null,null,null,null,null,null,null,"","",""]
[null,null,null,null,null,null,null,"","",""]
[null,null,null,null,null,null,null,{"$f":"IF(G4759<>\"\",G4759/12,\"\")","v":""},{"$f":"IF(G4759<>\"\",8,\"\")","v":""},{"$f":"IF(I4759<>\"\",I4759/12,\"\")","v":""}]
[null,null,null,null,null,null,null,"","",""]
[null,null,null,null,null,null,null,"","",""]
[null,null,null,null,null,null,null,"","",""]
[null,null,null,null,null,null,null,"","",""]
[null,null,null,null,null,null,null,"","",""]
[null,null,null,null,null,null,null,"","",""]
[null,null,null,null,null,null,null,"","",""]
[null,null,null,null,null,null,null,"","",""]
[null,null,null,null,null,null,null,"","",""]
[null,null,null,null,null,null,null,"","",""]
[null,null,null,null,null,null,null,"","",""]
[null,null,null,null,null,null,null,"","",""]
[null,null,null,null,null,null,null,"","",""]
[null,null,null,null,null,null,null,"","",""]
[null,null,null,null,null,null,null,"","",""]
[null,null,null,null,null,null,null,"","",""]
[null,null,null,null,null,null,null,"","",""]
[null,null,null,null,null,null,null,"","",""]
[null,null,null,null,null,null,null,"","",""]
[null,null,null,null,null,null,null,"","",""]
[null,null,null,null,null,null,null,"","",""]
[null,null,null,null,null,null,null,"","",""]
[null,null,null,null,null,null,null,"","",""]
[null,null,null,null,null,null,null,"","",""]
[null,null,null,null,null,null,null,"","",""]
[null,null,null,null,null,null,null,"","",""]
[null,null,null,null,null,null,null,"","",""]
[null,null,null,null,null,null,null,"","",""]
[null,null,null,null,null,null,null,"","",""]
[null,null,null,null,null,null,null,"","",""]
[null,null,null,null,null,null,null,"","",""]
[null,null,null,null,null,null,null,"","",""]
[null,null,null,null,null,null,null,"","",""]
[null,null,null,null,null,null,null,"","",""]
[null,null,null,null,null,null,null,"","",""]
[null,null,null,null,null,null,null,"","",""]
[null,null,null,null,null,null,null,"","",""]
[null,null,null,null,null,null,null,"","",""]
[null,null,null,null,null,null,null,"","",""]
[null,null,null,null,null,null,null,"","",""]
[null,null,null,null,null,null,null,"","",""]
[null,null,null,null,null,null,null,"","",""]
[null,null,null,null,null,null,null,"","",""]
[null,null,null,null,null,null,null,"","",""]
[null,null,null,null,null,null,null,"","",""]
[null,null,null,null,null,null,null,"","",""]
[null,null,null,null,null,null,null,"","",""]
[null,null,null,null,null,null,null,"","",""]
[null,null,null,null,null,null,null,"","",""]
[null,null,null,null,null,null,null,"","",""]
[null,null,null,null,null,null,null,"","",""]
[null,null,null,null,null,null,null,"","",""]
[null,null,null,null,null,null,null,"","",""]
[null,null,null,null,null,null,null,"","",""]
[null,null,null,null,null,null,null,"","",""]
[null,null,null,null,null,null,null,"","",""]
[null,null,null,null,null,null,null,"","",""]
[null,null,null,null,null,null,null,"","",""]
[null,null,null,null,null,null,null,"","",""]
[null,null,null,null,null,null,null,"","",""]
[null,null,null,null,null,null,null,"","",""]
[null,null,null,null,null,null,null,"","",""]
[null,null,null,null,null,null,null,"","",""]
[null,null,null,null,null,null,null,{"$f":"IF(G4823<>\"\",G4823/12,\"\")","v":""},{"$f":"IF(G4823<>\"\",8,\"\")","v":""},{"$f":"IF(I4823<>\"\",I4823/12,\"\")","v":""}]
[null,null,null,null,null,null,null,"","",""]
[null,null,null,null,null,null,null,"","",""]
[null,null,null,null,null,null,null,"","",""]
[null,null,null,null,null,null,null,"","",""]
[null,null,null,null,null,null,null,"","",""]
[null,null,null,null,null,null,null,"","",""]
[null,null,null,null,null,null,null,"","",""]
[null,null,null,null,null,null,null,"","",""]
[null,null,null,null,null,null,null,"","",""]
[null,null,null,null,null,null,null,"","",""]
[null,null,null,null,null,null,null,"","",""]
[null,null,null,null,null,null,null,"","",""]
[null,null,null,null,null,null,null,"","",""]
[null,null,null,null,null,null,null,"","",""]
[null,null,null,null,null,null,null,"","",""]
[null,null,null,null,null,null,null,"","",""]
[null,null,null,null,null,null,null,"","",""]
[null,null,null,null,null,null,null,"","",""]
[null,null,null,null,null,null,null,"","",""]
[null,null,null,null,null,null,null,"","",""]
[null,null,null,null,null,null,null,"","",""]
[null,null,null,null,null,null,null,"","",""]
[null,null,null,null,null,null,null,"","",""]
[null,null,null,null,null,null,null,"","",""]
[null,null,null,null,null,null,null,"","",""]
[null,null,null,null,null,null,null,"","",""]
[null,null,null,null,null,null,null,"","",""]
[null,null,null,null,null,null,null,"","",""]
[null,null,null,null,null,null,null,"","",""]
[null,null,null,null,null,null,null,"","",""]
[null,null,null,null,null,null,null,"","",""]
[null,null,null,null,null,null,null,"","",""]
[null,null,null,null,null,null,null,"","",""]
[null,null,null,null,null,null,null,"","",""]
[null,null,null,null,null,null,null,"","",""]
[null,null,null,null,null,null,null,"","",""]
[null,null,null,null,null,null,null,"","",""]
[null,null,null,null,null,null,null,"","",""]
[null,null,null,null,null,null,null,"","",""]
[null,null,null,null,null,null,null,"","",""]
[null,null,null,null,null,null,null,"","",""]
[null,null,null,null,null,null,null,"","",""]
[null,null,null,null,null,null,null,"","",""]
[null,null,null,null,null,null,null,"","",""]
[null,null,null,null,null,null,null,"","",""]
[null,null,null,null,null,null,null,"","",""]
[null,null,null,null,null,null,null,"","",""]
[null,null,null,null,null,null,null,"","",""]
[null,null,null,null,null,null,null,"","",""]
[null,null,null,null,null,null,null,"","",""]
[null,null,null,null,null,null,null,"","",""]
[null,null,null,null,null,null,null,"","",""]
[null,null,null,null,null,null,null,"","",""]
[null,null,null,null,null,null,null,"","",""]
[null,null,null,null,null,null,null,"","",""]
[null,null,null,null,null,null,null,"","",""]
[null,null,null,null,null,null,null,"","",""]
[null,null,null,null,null,null,null,"","",""]
[null,null,null,null,null,null,null,"","",""]
[null,null,null,null,null,null,null,"","",""]
[null,null,null,null,null,null,null,"","",""]
[null,null,null,null,null,null,null,"","",""]
[null,null,null,null,null,null,null,"","",""]
[null,null,null,null,null,null,null,{"$f":"IF(G4887<>\"\",G4887/12,\"\")","v":""},{"$f":"IF(G4887<>\"\",8,\"\")","v":""},{"$f":"IF(I4887<>\"\",I4887/12,\"\")","v":""}]
[null,null,null,null,null,null,null,"","",""]
[null,null,null,null,null,null,null,"","",""]
[null,null,null,null,null,null,null,"","",""]
[null,null,null,null,null,null,null,"","",""]
[null,null,null,null,null,null,null,"","",""]
[null,null,null,null,null,null,null,"","",""]
[null,null,null,null,null,null,null,"","",""]
[null,null,null,null,null,null,null,"","",""]
[null,null,null,null,null,null,null,"","",""]
[null,null,null,null,null,null,null,"","",""]
[null,null,null,null,null,null,null,"","",""]
[null,null,null,null,null,null,null,"","",""]
[null,null,null,null,null,null,null,"","",""]
[null,null,null,null,null,null,null,"","",""]
[null,null,null,null,null,null,null,"","",""]
[null,null,null,null,null,null,null,"","",""]
[null,null,null,null,null,null,null,"","",""]
[null,null,null,null,null,null,null,"","",""]
[null,null,null,null,null,null,null,"","",""]
[null,null,null,null,null,null,null,"","",""]
[null,null,null,null,null,null,null,"","",""]
[null,null,null,null,null,null,null,"","",""]
[null,null,null,null,null,null,null,"","",""]
[null,null,null,null,null,null,null,"","",""]
[null,null,null,null,null,null,null,"","",""]
[null,null,null,null,null,null,null,"","",""]
[null,null,null,null,null,null,null,"","",""]
[null,null,null,null,null,null,null,"","",""]
[null,null,null,null,null,null,null,"","",""]
[null,null,null,null,null,null,null,"","",""]
[null,null,null,null,null,null,null,"","",""]
[null,null,null,null,null,null,null,"","",""]
[null,null,null,null,null,null,null,"","",""]
[null,null,null,null,null,null,null,"","",""]
[null,null,null,null,null,null,null,"","",""]
[null,null,null,null,null,null,null,"","",""]
[null,null,null,null,null,null,null,"","",""]
[null,null,null,null,null,null,null,"","",""]
[null,null,null,null,null,null,null,"","",""]
[null,null,null,null,null,null,null,"","",""]
[null,null,null,null,null,null,null,"","",""]
[null,null,null,null,null,null,null,"","",""]
[null,null,null,null,null,null,null,"","",""]
[null,null,null,null,null,null,null,"","",""]
[null,null,null,null,null,null,null,"","",""]
[null,null,null,null,null,null,null,"","",""]
[null,null,null,null,null,null,null,"","",""]
[null,null,null,null,null,null,null,"","",""]
[null,null,null,null,null,null,null,"","",""]
[null,null,null,null,null,null,null,"","",""]
[null,null,null,null,null,null,null,"","",""]
[null,null,null,null,null,null,null,"","",""]
[null,null,null,null,null,null,null,"","",""]
[null,null,null,null,null,null,null,"","",""]
[null,null,null,null,null,null,null,"","",""]
[null,null,null,null,null,null,null,"","",""]
[null,null,null,null,null,null,null,"","",""]
[null,null,null,null,null,null,null,"","",""]
[null,null,null,null,null,null,null,"","",""]
[null,null,null,null,null,null,null,"","",""]
[null,null,null,null,null,null,null,"","",""]
[null,null,null,null,null,null,null,"","",""]
[null,null,null,null,null,null,null,"","",""]
[null,null,null,null,null,null,null,{"$f":"IF(G4951<>\"\",G4951/12,\"\")","v":""},{"$f":"IF(G4951<>\"\",8,\"\")","v":""},{"$f":"IF(I4951<>\"\",I4951/12,\"\")","v":""}]
[null,null,null,null,null,null,null,"","",""]
[null,null,null,null,null,null,null,"","",""]
[null,null,null,null,null,null,null,"","",""]
[null,null,null,null,null,null,null,"","",""]
[null,null,null,null,null,null,null,"","",""]
[null,null,null,null,null,null,null,"","",""]
[null,null,null,null,null,null,null,"","",""]
[null,null,null,null,null,null,null,"","",""]
[null,null,null,null,null,null,null,"","",""]
[null,null,null,null,null,null,null,"","",""]
[null,null,null,null,null,null,null,"","",""]
[null,null,null,null,null,null,null,"","",""]
[null,null,null,null,null,null,null,"","",""]
[null,null,null,null,null,null,null,"","",""]
[null,null,null,null,null,null,null,"","",""]
[null,null,null,null,null,null,null,"","",""]
[null,null,null,null,null,null,null,"","",""]
[null,null,null,null,null,null,null,"","",""]
[null,null,null,null,null,null,null,"","",""]
[null,null,null,null,null,null,null,"","",""]
[null,null,null,null,null,null,null,"","",""]
[null,null,null,null,null,null,null,"","",""]
[null,null,null,null,null,null,null,"","",""]
[null,null,null,null,null,null,null,"","",""]
[null,null,null,null,null,null,null,"","",""]
[null,null,null,null,null,null,null,"","",""]
[null,null,null,null,null,null,null,"","",""]
[null,null,null,null,null,null,null,"","",""]
[null,null,null,null,null,null,null,"","",""]
[null,null,null,null,null,null,null,"","",""]
[null,null,null,null,null,null,null,"","",""]
[null,null,null,null,null,null,null,"","",""]
[null,null,null,null,null,null,null,"","",""]
[null,null,null,null,null,null,null,"","",""]
[null,null,null,null,null,null,null,"","",""]
[null,null,null,null,null,null,null,"","",""]
[null,null,null,null,null,null,null,"","",""]
[null,null,null,null,null,null,null,"","",""]
[null,null,null,null,null,null,null,"","",""]
[null,null,null,null,null,null,null,"","",""]
[null,null,null,null,null,null,null,"","",""]
[null,null,null,null,null,null,null,"","",""]
[null,null,null,null,null,null,null,"","",""]
[null,null,null,null,null,null,null,"","",""]
[null,null,null,null,null,null,null,"","",""]
[null,null,null,null,null,null,null,"","",""]
[null,null,null,null,null,null,null,"","",""]
[null,null,null,null,null,null,null,"","",""]
[null,null,null,null,null,null,null,"","",""]
[null,null,null,null,null,null,null,"","",""]
[null,null,null,null,null,null,null,"","",""]
[null,null,null,null,null,null,null,"","",""]
[null,null,null,null,null,null,null,"","",""]
[null,null,null,null,null,null,null,"","",""]
[null,null,null,null,null,null,null,"","",""]
[null,null,null,null,null,null,null,"","",""]
[null,null,null,null,null,null,null,"","",""]
[null,null,null,null,null,null,null,"","",""]
[null,null,null,null,null,null,null,"","",""]
[null,null,null,null,null,null,null,"","",""]
[null,null,null,null,null,null,null,"","",""]
[null,null,null,null,null,null,null,"","",""]
[null,null,null,null,null,null,null,"","",""]
[null,null,null,null,null,null,null,{"$f":"IF(G5015<>\"\",G5015/12,\"\")","v":""},{"$f":"IF(G5015<>\"\",8,\"\")","v":""},{"$f":"IF(I5015<>\"\",I5015/12,\"\")","v":""}]
[null,null,null,null,null,null,null,"","",""]
[null,null,null,null,null,null,null,"","",""]
[null,null,null,null,null,null,null,"","",""]
[null,null,null,null,null,null,null,"","",""]
[null,null,null,null,null,null,null,"","",""]
[null,null,null,null,null,null,null,"","",""]
[null,null,null,null,null,null,null,"","",""]
[null,null,null,null,null,null,null,"","",""]
[null,null,null,null,null,null,null,"","",""]
[null,null,null,null,null,null,null,"","",""]
[null,null,null,null,null,null,null,"","",""]
[null,null,null,null,null,null,null,"","",""]
[null,null,null,null,null,null,null,"","",""]
[null,null,null,null,null,null,null,"","",""]
[null,null,null,null,null,null,null,"","",""]
[null,null,null,null,null,null,null,"","",""]
[null,null,null,null,null,null,null,"","",""]
[null,null,null,null,null,null,null,"","",""]
[null,null,null,null,null,null,null,"","",""]
[null,null,null,null,null,null,null,"","",""]
[null,null,null,null,null,null,null,"","",""]
[null,null,null,null,null,null,null,"","",""]
[null,null,null,null,null,null,null,"","",""]
[null,null,null,null,null,null,null,"","",""]
[null,null,null,null,null,null,null,"","",""]
[null,null,null,null,null,null,null,"","",""]
[null,null,null,null,null,null,null,"","",""]
[null,null,null,null,null,null,null,"","",""]
[null,null,null,null,null,null,null,"","",""]
[null,null,null,null,null,null,null,"","",""]
[null,null,null,null,null,null,null,"","",""]
[null,null,null,null,null,null,null,"","",""]
[null,null,null,null,null,null,null,"","",""]
[null,null,null,null,null,null,null,"","",""]
[null,null,null,null,null,null,null,"","",""]
[null,null,null,null,null,null,null,"","",""]
[null,null,null,null,null,null,null,"","",""]
[null,null,null,null,null,null,null,"","",""]
[null,null,null,null,null,null,null,"","",""]
[null,null,null,null,null,null,null,"","",""]
[null,null,null,null,null,null,null,"","",""]
[null,null,null,null,null,null,null,"","",""]
[null,null,null,null,null,null,null,"","",""]
[null,null,null,null,null,null,null,"","",""]
[null,null,null,null,null,null,null,"","",""]
[null,null,null,null,null,null,null,"","",""]
[null,null,null,null,null,null,null,"","",""]
[null,null,null,null,null,null,null,"","",""]
[null,null,null,null,null,null,null,"","",""]
[null,null,null,null,null,null,null,"","",""]
[null,null,null,null,null,null,null,"","",""]
[null,null,null,null,null,null,null,"","",""]
[null,null,null,null,null,null,null,"","",""]
[null,null,null,null,null,null,null,"","",""]
[null,null,null,null,null,null,null,"","",""]
[null,null,null,null,null,null,null,"","",""]
[null,null,null,null,null,null,null,"","",""]
[null,null,null,null,null,null,null,"","",""]
[null,null,null,null,null,null,null,"","",""]
[null,null,null,null,null,null,null,"","",""]
[null,null,null,null,null,null,null,"","",""]
[null,null,null,null,null,null,null,"","",""]
[null,null,null,null,null,null,null,"","",""]
[null,null,null,null,null,null,null,{"$f":"IF(G5079<>\"\",G5079/12,\"\")","v":""},{"$f":"IF(G5079<>\"\",8,\"\")","v":""},{"$f":"IF(I5079<>\"\",I5079/12,\"\")","v":""}]
[null,null,null,null,null,null,null,"","",""]
[null,null,null,null,null,null,null,"","",""]
[null,null,null,null,null,null,null,"","",""]
[null,null,null,null,null,null,null,"","",""]
[null,null,null,null,null,null,null,"","",""]
[null,null,null,null,null,null,null,"","",""]
[null,null,null,null,null,null,null,"","",""]
[null,null,null,null,null,null,null,"","",""]
[null,null,null,null,null,null,null,"","",""]
[null,null,null,null,null,null,null,"","",""]
[null,null,null,null,null,null,null,"","",""]
[null,null,null,null,null,null,null,"","",""]
[null,null,null,null,null,null,null,"","",""]
[null,null,null,null,null,null,null,"","",""]
[null,null,null,null,null,null,null,"","",""]
[null,null,null,null,null,null,null,"","",""]
[null,null,null,null,null,null,null,"","",""]
[null,null,null,null,null,null,null,"","",""]
[null,null,null,null,null,null,null,"","",""]
[null,null,null,null,null,null,null,"","",""]
[null,null,null,null,null,null,null,"","",""]
[null,null,null,null,null,null,null,"","",""]
[null,null,null,null,null,null,null,"","",""]
[null,null,null,null,null,null,null,"","",""]
[null,null,null,null,null,null,null,"","",""]
[null,null,null,null,null,null,null,"","",""]
[null,null,null,null,null,null,null,"","",""]
[null,null,null,null,null,null,null,"","",""]
[null,null,null,null,null,null,null,"","",""]
[null,null,null,null,null,null,null,"","",""]
[null,null,null,null,null,null,null,"","",""]
[null,null,null,null,null,null,null,"","",""]
[null,null,null,null,null,null,null,"","",""]
[null,null,null,null,null,null,null,"","",""]
[null,null,null,null,null,null,null,"","",""]
[null,null,null,null,null,null,null,"","",""]
[null,null,null,null,null,null,null,"","",""]
[null,null,null,null,null,null,null,"","",""]
[null,null,null,null,null,null,null,"","",""]
[null,null,null,null,null,null,null,"","",""]
[null,null,null,null,null,null,null,"","",""]
[null,null,null,null,null,null,null,"","",""]
[null,null,null,null,null,null,null,"","",""]
[null,null,null,null,null,null,null,"","",""]
[null,null,null,null,null,null,null,"","",""]
[null,null,null,null,null,null,null,"","",""]
[null,null,null,null,null,null,null,"","",""]
[null,null,null,null,null,null,null,"","",""]
[null,null,null,null,null,null,null,"","",""]
[null,null,null,null,null,null,null,"","",""]
[null,null,null,null,null,null,null,"","",""]
[null,null,null,null,null,null,null,"","",""]
[null,null,null,null,null,null,null,"","",""]
[null,null,null,null,null,null,null,"","",""]
[null,null,null,null,null,null,null,"","",""]
[null,null,null,null,null,null,null,"","",""]
[null,null,null,null,null,null,null,"","",""]
[null,null,null,null,null,null,null,"","",""]
[null,null,null,null,null,null,null,"","",""]
[null,null,null,null,null,null,null,"","",""]
[null,null,null,null,null,null,null,"","",""]
[null,null,null,null,null,null,null,"","",""]
[null,null,null,null,null,null,null,"","",""]
[null,null,null,null,null,null,null,{"$f":"IF(G5143<>\"\",G5143/12,\"\")","v":""},{"$f":"IF(G5143<>\"\",8,\"\")","v":""},{"$f":"IF(I5143<>\"\",I5143/12,\"\")","v":""}]
[null,null,null,null,null,null,null,"","",""]
[null,null,null,null,null,null,null,"","",""]
[null,null,null,null,null,null,null,"","",""]
[null,null,null,null,null,null,null,"","",""]
[null,null,null,null,null,null,null,"","",""]
[null,null,null,null,null,null,null,"","",""]
[null,null,null,null,null,null,null,"","",""]
[null,null,null,null,null,null,null,"","",""]
[null,null,null,null,null,null,null,"","",""]
[null,null,null,null,null,null,null,"","",""]
[null,null,null,null,null,null,null,"","",""]
[null,null,null,null,null,null,null,"","",""]
[null,null,null,null,null,null,null,"","",""]
[null,null,null,null,null,null,null,"","",""]
[null,null,null,null,null,null,null,"","",""]
[null,null,null,null,null,null,null,"","",""]
[null,null,null,null,null,null,null,"","",""]
[null,null,null,null,null,null,null,"","",""]
[null,null,null,null,null,null,null,"","",""]
[null,null,null,null,null,null,null,"","",""]
[null,null,null,null,null,null,null,"","",""]
[null,null,null,null,null,null,null,"","",""]
[null,null,null,null,null,null,null,"","",""]
[null,null,null,null,null,null,null,"","",""]
[null,null,null,null,null,null,null,"","",""]
[null,null,null,null,null,null,null,"","",""]
[null,null,null,null,null,null,null,"","",""]
[null,null,null,null,null,null,null,"","",""]
[null,null,null,null,null,null,null,"","",""]
[null,null,null,null,null,null,null,"","",""]
[null,null,null,null,null,null,null,"","",""]
[null,null,null,null,null,null,null,"","",""]
[null,null,null,null,null,null,null,"","",""]
[null,null,null,null,null,null,null,"","",""]
[null,null,null,null,null,null,null,"","",""]
[null,null,null,null,null,null,null,"","",""]
[null,null,null,null,null,null,null,"","",""]
[null,null,null,null,null,null,null,"","",""]
[null,null,null,null,null,null,null,"","",""]
[null,null,null,null,null,null,null,"","",""]
[null,null,null,null,null,null,null,"","",""]
[null,null,null,null,null,null,null,"","",""]
[null,null,null,null,null,null,null,"","",""]
[null,null,null,null,null,null,null,"","",""]
[null,null,null,null,null,null,null,"","",""]
[null,null,null,null,null,null,null,"","",""]
[null,null,null,null,null,null,null,"","",""]
[null,null,null,null,null,null,null,"","",""]
[null,null,null,null,null,null,null,"","",""]
[null,null,null,null,null,null,null,"","",""]
[null,null,null,null,null,null,null,"","",""]
[null,null,null,null,null,null,null,"","",""]
[null,null,null,null,null,null,null,"","",""]
[null,null,null,null,null,null,null,"","",""]
[null,null,null,null,null,null,null,"","",""]
[null,null,null,null,null,null,null,"","",""]
[null,null,null,null,null,null,null,"","",""]
[null,null,null,null,null,null,null,"","",""]
[null,null,null,null,null,null,null,"","",""]
[null,null,null,null,null,null,null,"","",""]
[null,null,null,null,null,null,null,"","",""]
[null,null,null,null,null,null,null,"","",""]
[null,null,null,null,null,null,null,"","",""]
[null,null,null,null,null,null,null,{"$f":"IF(G5207<>\"\",G5207/12,\"\")","v":""},{"$f":"IF(G5207<>\"\",8,\"\")","v":""},{"$f":"IF(I5207<>\"\",I5207/12,\"\")","v":""}]
[null,null,null,null,null,null,null,"","",""]
[null,null,null,null,null,null,null,"","",""]
[null,null,null,null,null,null,null,"","",""]
[null,null,null,null,null,null,null,"","",""]
[null,null,null,null,null,null,null,"","",""]
[null,null,null,null,null,null,null,"","",""]
[null,null,null,null,null,null,null,"","",""]
[null,null,null,null,null,null,null,"","",""]
[null,null,null,null,null,null,null,"","",""]
[null,null,null,null,null,null,null,"","",""]
[null,null,null,null,null,null,null,"","",""]
[null,null,null,null,null,null,null,"","",""]
[null,null,null,null,null,null,null,"","",""]
[null,null,null,null,null,null,null,"","",""]
[null,null,null,null,null,null,null,"","",""]
[null,null,null,null,null,null,null,"","",""]
[null,null,null,null,null,null,null,"","",""]
[null,null,null,null,null,null,null,"","",""]
[null,null,null,null,null,null,null,"","",""]
[null,null,null,null,null,null,null,"","",""]
[null,null,null,null,null,null,null,"","",""]
[null,null,null,null,null,null,null,"","",""]
[null,null,null,null,null,null,null,"","",""]
[null,null,null,null,null,null,null,"","",""]
[null,null,null,null,null,null,null,"","",""]
[null,null,null,null,null,null,null,"","",""]
[null,null,null,null,null,null,null,"","",""]
[null,null,null,null,null,null,null,"","",""]
[null,null,null,null,null,null,null,"","",""]
[null,null,null,null,null,null,null,"","",""]
[null,null,null,null,null,null,null,"","",""]
[null,null,null,null,null,null,null,"","",""]
[null,null,null,null,null,null,null,"","",""]
[null,null,null,null,null,null,null,"","",""]
[null,null,null,null,null,null,null,"","",""]
[null,null,null,null,null,null,null,"","",""]
[null,null,null,null,null,null,null,"","",""]
[null,null,null,null,null,null,null,"","",""]
[null,null,null,null,null,null,null,"","",""]
[null,null,null,null,null,null,null,"","",""]
[null,null,null,null,null,null,null,"","",""]
[null,null,null,null,null,null,null,"","",""]
[null,null,null,null,null,null,null,"","",""]
[null,null,null,null,null,null,null,"","",""]
[null,null,null,null,null,null,null,"","",""]
[null,null,null,null,null,null,null,"","",""]
[null,null,null,null,null,null,null,"","",""]
[null,null,null,null,null,null,null,"","",""]
[null,null,null,null,null,null,null,"","",""]
[null,null,null,null,null,null,null,"","",""]
[null,null,null,null,null,null,null,"","",""]
[null,null,null,null,null,null,null,"","",""]
[null,null,null,null,null,null,null,"","",""]
[null,null,null,null,null,null,null,"","",""]
[null,null,null,null,null,null,null,"","",""]
[null,null,null,null,null,null,null,"","",""]
[null,null,null,null,null,null,null,"","",""]
[null,null,null,null,null,null,null,"","",""]
[null,null,null,null,null,null,null,"","",""]
[null,null,null,null,null,null,null,"","",""]
[null,null,null,null,null,null,null,"","",""]
[null,null,null,null,null,null,null,"","",""]
[null,null,null,null,null,null,null,"","",""]
[null,null,null,null,null,null,null,{"$f":"IF(G5271<>\"\",G5271/12,\"\")","v":""},{"$f":"IF(G5271<>\"\",8,\"\")","v":""},{"$f":"IF(I5271<>\"\",I5271/12,\"\")","v":""}]
[null,null,null,null,null,null,null,"","",""]
[null,null,null,null,null,null,null,"","",""]
[null,null,null,null,null,null,null,"","",""]
[null,null,null,null,null,null,null,"","",""]
[null,null,null,null,null,null,null,"","",""]
[null,null,null,null,null,null,null,"","",""]
[null,null,null,null,null,null,null,"","",""]
[null,null,null,null,null,null,null,"","",""]
[null,null,null,null,null,null,null,"","",""]
[null,null,null,null,null,null,null,"","",""]
[null,null,null,null,null,null,null,"","",""]
[null,null,null,null,null,null,null,"","",""]
[null,null,null,null,null,null,null,"","",""]
[null,null,null,null,null,null,null,"","",""]
[null,null,null,null,null,null,null,"","",""]
[null,null,null,null,null,null,null,"","",""]
[null,null,null,null,null,null,null,"","",""]
[null,null,null,null,null,null,null,"","",""]
[null,null,null,null,null,null,null,"","",""]
[null,null,null,null,null,null,null,"","",""]
[null,null,null,null,null,null,null,"","",""]
[null,null,null,null,null,null,null,"","",""]
[null,null,null,null,null,null,null,"","",""]
[null,null,null,null,null,null,null,"","",""]
[null,null,null,null,null,null,null,"","",""]
[null,null,null,null,null,null,null,"","",""]
[null,null,null,null,null,null,null,"","",""]
[null,null,null,null,null,null,null,"","",""]
[null,null,null,null,null,null,null,"","",""]
[null,null,null,null,null,null,null,"","",""]
[null,null,null,null,null,null,null,"","",""]
[null,null,null,null,null,null,null,"","",""]
[null,null,null,null,null,null,null,"","",""]
[null,null,null,null,null,null,null,"","",""]
[null,null,null,null,null,null,null,"","",""]
[null,null,null,null,null,null,null,"","",""]
[null,null,null,null,null,null,null,"","",""]
[null,null,null,null,null,null,null,"","",""]
[null,null,null,null,null,null,null,"","",""]
[null,null,null,null,null,null,null,"","",""]
[null,null,null,null,null,null,null,"","",""]
[null,null,null,null,null,null,null,"","",""]
[null,null,null,null,null,null,null,"","",""]
[null,null,null,null,null,null,null,"","",""]
[null,null,null,null,null,null,null,"","",""]
[null,null,null,null,null,null,null,"","",""]
[null,null,null,null,null,null,null,"","",""]
[null,null,null,null,null,null,null,"","",""]
[null,null,null,null,null,null,null,"","",""]
[null,null,null,null,null,null,null,"","",""]
[null,null,null,null,null,null,null,"","",""]
[null,null,null,null,null,null,null,"","",""]
[null,null,null,null,null,null,null,"","",""]
[null,null,null,null,null,null,null,"","",""]
[null,null,null,null,null,null,null,"","",""]
[null,null,null,null,null,null,null,"","",""]
[null,null,null,null,null,null,null,"","",""]
[null,null,null,null,null,null,null,"","",""]
[null,null,null,null,null,null,null,"","",""]
[null,null,null,null,null,null,null,"","",""]
[null,null,null,null,null,null,null,"","",""]
[null,null,null,null,null,null,null,"","",""]
[null,null,null,null,null,null,null,"","",""]
[null,null,null,null,null,null,null,{"$f":"IF(G5335<>\"\",G5335/12,\"\")","v":""},{"$f":"IF(G5335<>\"\",8,\"\")","v":""},{"$f":"IF(I5335<>\"\",I5335/12,\"\")","v":""}]
[null,null,null,null,null,null,null,"","",""]
[null,null,null,null,null,null,null,"","",""]
[null,null,null,null,null,null,null,"","",""]
[null,null,null,null,null,null,null,"","",""]
[null,null,null,null,null,null,null,"","",""]
[null,null,null,null,null,null,null,"","",""]
[null,null,null,null,null,null,null,"","",""]
[null,null,null,null,null,null,null,"","",""]
[null,null,null,null,null,null,null,"","",""]
[null,null,null,null,null,null,null,"","",""]
[null,null,null,null,null,null,null,"","",""]
[null,null,null,null,null,null,null,"","",""]
[null,null,null,null,null,null,null,"","",""]
[null,null,null,null,null,null,null,"","",""]
[null,null,null,null,null,null,null,"","",""]
[null,null,null,null,null,null,null,"","",""]
[null,null,null,null,null,null,null,"","",""]
[null,null,null,null,null,null,null,"","",""]
[null,null,null,null,null,null,null,"","",""]
[null,null,null,null,null,null,null,"","",""]
[null,null,null,null,null,null,null,"","",""]
[null,null,null,null,null,null,null,"","",""]
[null,null,null,null,null,null,null,"","",""]
[null,null,null,null,null,null,null,"","",""]
[null,null,null,null,null,null,null,"","",""]
[null,null,null,null,null,null,null,"","",""]
[null,null,null,null,null,null,null,"","",""]
[null,null,null,null,null,null,null,"","",""]
[null,null,null,null,null,null,null,"","",""]
[null,null,null,null,null,null,null,"","",""]
[null,null,null,null,null,null,null,"","",""]
[null,null,null,null,null,null,null,"","",""]
[null,null,null,null,null,null,null,"","",""]
[null,null,null,null,null,null,null,"","",""]
[null,null,null,null,null,null,null,"","",""]
[null,null,null,null,null,null,null,"","",""]
[null,null,null,null,null,null,null,"","",""]
[null,null,null,null,null,null,null,"","",""]
[null,null,null,null,null,null,null,"","",""]
[null,null,null,null,null,null,null,"","",""]
[null,null,null,null,null,null,null,"","",""]
[null,null,null,null,null,null,null,"","",""]
[null,null,null,null,null,null,null,"","",""]
[null,null,null,null,null,null,null,"","",""]
[null,null,null,null,null,null,null,"","",""]
[null,null,null,null,null,null,null,"","",""]
[null,null,null,null,null,null,null,"","",""]
[null,null,null,null,null,null,null,"","",""]
[null,null,null,null,null,null,null,"","",""]
[null,null,null,null,null,null,null,"","",""]
[null,null,null,null,null,null,null,"","",""]
[null,null,null,null,null,null,null,"","",""]
[null,null,null,null,null,null,null,"","",""]
[null,null,null,null,null,null,null,"","",""]
[null,null,null,null,null,null,null,"","",""]
[null,null,null,null,null,null,null,"","",""]
[null,null,null,null,null,null,null,"","",""]
[null,null,null,null,null,null,null,"","",""]
[null,null,null,null,null,null,null,"","",""]
[null,null,null,null,null,null,null,"","",""]
[null,null,null,null,null,null,null,"","",""]
[null,null,null,null,null,null,null,"","",""]
[null,null,null,null,null,null,null,"","",""]
[null,null,null,null,null,null,null,{"$f":"IF(G5399<>\"\",G5399/12,\"\")","v":""},{"$f":"IF(G5399<>\"\",8,\"\")","v":""},{"$f":"IF(I5399<>\"\",I5399/12,\"\")","v":""}]
[null,null,null,null,null,null,null,"","",""]
[null,null,null,null,null,null,null,"","",""]
[null,null,null,null,null,null,null,"","",""]
[null,null,null,null,null,null,null,"","",""]
[null,null,null,null,null,null,null,"","",""]
[null,null,null,null,null,null,null,"","",""]
[null,null,null,null,null,null,null,"","",""]
[null,null,null,null,null,null,null,"","",""]
[null,null,null,null,null,null,null,"","",""]
[null,null,null,null,null,null,null,"","",""]
[null,null,null,null,null,null,null,"","",""]
[null,null,null,null,null,null,null,"","",""]
[null,null,null,null,null,null,null,"","",""]
[null,null,null,null,null,null,null,"","",""]
[null,null,null,null,null,null,null,"","",""]
[null,null,null,null,null,null,null,"","",""]
[null,null,null,null,null,null,null,"","",""]
[null,null,null,null,null,null,null,"","",""]
[null,null,null,null,null,null,null,"","",""]
[null,null,null,null,null,null,null,"","",""]
[null,null,null,null,null,null,null,"","",""]
[null,null,null,null,null,null,null,"","",""]
[null,null,null,null,null,null,null,"","",""]
[null,null,null,null,null,null,null,"","",""]
[null,null,null,null,null,null,null,"","",""]
[null,null,null,null,null,null,null,"","",""]
[null,null,null,null,null,null,null,"","",""]
[null,null,null,null,null,null,null,"","",""]
[null,null,null,null,null,null,null,"","",""]
[null,null,null,null,null,null,null,"","",""]
[null,null,null,null,null,null,null,"","",""]
[null,null,null,null,null,null,null,"","",""]
[null,null,null,null,null,null,null,"","",""]
[null,null,null,null,null,null,null,"","",""]
[null,null,null,null,null,null,null,"","",""]
[null,null,null,null,null,null,null,"","",""]
[null,null,null,null,null,null,null,"","",""]
[null,null,null,null,null,null,null,"","",""]
[null,null,null,null,null,null,null,"","",""]
[null,null,null,null,null,null,null,"","",""]
[null,null,null,null,null,null,null,"","",""]
[null,null,null,null,null,null,null,"","",""]
[null,null,null,null,null,null,null,"","",""]
[null,null,null,null,null,null,null,"","",""]
[null,null,null,null,null,null,null,"","",""]
[null,null,null,null,null,null,null,"","",""]
[null,null,null,null,null,null,null,"","",""]
[null,null,null,null,null,null,null,"","",""]
[null,null,null,null,null,null,null,"","",""]
[null,null,null,null,null,null,null,"","",""]
[null,null,null,null,null,null,null,"","",""]
[null,null,null,null,null,null,null,"","",""]
[null,null,null,null,null,null,null,"","",""]
[null,null,null,null,null,null,null,"","",""]
[null,null,null,null,null,null,null,"","",""]
[null,null,null,null,null,null,null,"","",""]
[null,null,null,null,null,null,null,"","",""]
[null,null,null,null,null,null,null,"","",""]
[null,null,null,null,null,null,null,"","",""]
[null,null,null,null,null,null,null,"","",""]
[null,null,null,null,null,null,null,"","",""]
[null,null,null,null,null,null,null,"","",""]
[null,null,null,null,null,null,null,"","",""]
[null,null,null,null,null,null,null,{"$f":"IF(G5463<>\"\",G5463/12,\"\")","v":""},{"$f":"IF(G5463<>\"\",8,\"\")","v":""},{"$f":"IF(I5463<>\"\",I5463/12,\"\")","v":""}]
[null,null,null,null,null,null,null,"","",""]
[null,null,null,null,null,null,null,"","",""]
[null,null,null,null,null,null,null,"","",""]
[null,null,null,null,null,null,null,"","",""]
[null,null,null,null,null,null,null,"","",""]
[null,null,null,null,null,null,null,"","",""]
[null,null,null,null,null,null,null,"","",""]
[null,null,null,null,null,null,null,"","",""]
[null,null,null,null,null,null,null,"","",""]
[null,null,null,null,null,null,null,"","",""]
[null,null,null,null,null,null,null,"","",""]
[null,null,null,null,null,null,null,"","",""]
[null,null,null,null,null,null,null,"","",""]
[null,null,null,null,null,null,null,"","",""]
[null,null,null,null,null,null,null,"","",""]
[null,null,null,null,null,null,null,"","",""]
[null,null,null,null,null,null,null,"","",""]
[null,null,null,null,null,null,null,"","",""]
[null,null,null,null,null,null,null,"","",""]
[null,null,null,null,null,null,null,"","",""]
[null,null,null,null,null,null,null,"","",""]
[null,null,null,null,null,null,null,"","",""]
[null,null,null,null,null,null,null,"","",""]
[null,null,null,null,null,null,null,"","",""]
[null,null,null,null,null,null,null,"","",""]
[null,null,null,null,null,null,null,"","",""]
[null,null,null,null,null,null,null,"","",""]
[null,null,null,null,null,null,null,"","",""]
[null,null,null,null,null,null,null,"","",""]
[null,null,null,null,null,null,null,"","",""]
[null,null,null,null,null,null,null,"","",""]
[null,null,null,null,null,null,null,"","",""]
[null,null,null,null,null,null,null,"","",""]
[null,null,null,null,null,null,null,"","",""]
[null,null,null,null,null,null,null,"","",""]
[null,null,null,null,null,null,null,"","",""]
[null,null,null,null,null,null,null,"","",""]
[null,null,null,null,null,null,null,"","",""]
[null,null,null,null,null,null,null,"","",""]
[null,null,null,null,null,null,null,"","",""]
[null,null,null,null,null,null,null,"","",""]
[null,null,null,null,null,null,null,"","",""]
[null,null,null,null,null,null,null,"","",""]
[null,null,null,null,null,null,null,"","",""]
[null,null,null,null,null,null,null,"","",""]
[null,null,null,null,null,null,null,"","",""]
[null,null,null,null,null,null,null,"","",""]
[null,null,null,null,null,null,null,"","",""]
[null,null,null,null,null,null,null,"","",""]
[null,null,null,null,null,null,null,"","",""]
[null,null,null,null,null,null,null,"","",""]
[null,null,null,null,null,null,null,"","",""]
[null,null,null,null,null,null,null,"","",""]
[null,null,null,null,null,null,null,"","",""]
[null,null,null,null,null,null,null,"","",""]
[null,null,null,null,null,null,null,"","",""]
[null,null,null,null,null,null,null,"","",""]
[null,null,null,null,null,null,null,"","",""]
[null,null,null,null,null,null,null,"","",""]
[null,null,null,null,null,null,null,"","",""]
[null,null,null,null,null,null,null,"","",""]
[null,null,null,null,null,null,null,"","",""]
[null,null,null,null,null,null,null,"","",""]
[null,null,null,null,null,null,null,{"$f":"IF(G5527<>\"\",G5527/12,\"\")","v":""},{"$f":"IF(G5527<>\"\",8,\"\")","v":""},{"$f":"IF(I5527<>\"\",I5527/12,\"\")","v":""}]
[null,null,null,null,null,null,null,"","",""]
[null,null,null,null,null,null,null,"","",""]
[null,null,null,null,null,null,null,"","",""]
[null,null,null,null,null,null,null,"","",""]
[null,null,null,null,null,null,null,"","",""]
[null,null,null,null,null,null,null,"","",""]
[null,null,null,null,null,null,null,"","",""]
[null,null,null,null,null,null,null,"","",""]
[null,null,null,null,null,null,null,"","",""]
[null,null,null,null,null,null,null,"","",""]
[null,null,null,null,null,null,null,"","",""]
[null,null,null,null,null,null,null,"","",""]
[null,null,null,null,null,null,null,"","",""]
[null,null,null,null,null,null,null,"","",""]
[null,null,null,null,null,null,null,"","",""]
[null,null,null,null,null,null,null,"","",""]
[null,null,null,null,null,null,null,"","",""]
[null,null,null,null,null,null,null,"","",""]
[null,null,null,null,null,null,null,"","",""]
[null,null,null,null,null,null,null,"","",""]
[null,null,null,null,null,null,null,"","",""]
[null,null,null,null,null,null,null,"","",""]
[null,null,null,null,null,null,null,"","",""]
[null,null,null,null,null,null,null,"","",""]
[null,null,null,null,null,null,null,"","",""]
[null,null,null,null,null,null,null,"","",""]
[null,null,null,null,null,null,null,"","",""]
[null,null,null,null,null,null,null,"","",""]
[null,null,null,null,null,null,null,"","",""]
[null,null,null,null,null,null,null,"","",""]
[null,null,null,null,null,null,null,"","",""]
[null,null,null,null,null,null,null,"","",""]
[null,null,null,null,null,null,null,"","",""]
[null,null,null,null,null,null,null,"","",""]
[null,null,null,null,null,null,null,"","",""]
[null,null,null,null,null,null,null,"","",""]
[null,null,null,null,null,null,null,"","",""]
[null,null,null,null,null,null,null,"","",""]
[null,null,null,null,null,null,null,"","",""]
[null,null,null,null,null,null,null,"","",""]
[null,null,null,null,null,null,null,"","",""]
[null,null,null,null,null,null,null,"","",""]
[null,null,null,null,null,null,null,"","",""]
[null,null,null,null,null,null,null,"","",""]
[null,null,null,null,null,null,null,"","",""]
[null,null,null,null,null,null,null,"","",""]
[null,null,null,null,null,null,null,"","",""]
[null,null,null,null,null,null,null,"","",""]
[null,null,null,null,null,null,null,"","",""]
[null,null,null,null,null,null,null,"","",""]
[null,null,null,null,null,null,null,"","",""]
[null,null,null,null,null,null,null,"","",""]
[null,null,null,null,null,null,null,"","",""]
[null,null,null,null,null,null,null,"","",""]
[null,null,null,null,null,null,null,"","",""]
[null,null,null,null,null,null,null,"","",""]
[null,null,null,null,null,null,null,"","",""]
[null,null,null,null,null,null,null,"","",""]
[null,null,null,null,null,null,null,"","",""]
[null,null,null,null,null,null,null,"","",""]
[null,null,null,null,null,null,null,"","",""]
[null,null,null,null,null,null,null,"","",""]
[null,null,null,null,null,null,null,"","",""]
[null,null,null,null,null,null,null,{"$f":"IF(G5591<>\"\",G5591/12,\"\")","v":""},{"$f":"IF(G5591<>\"\",8,\"\")","v":""},{"$f":"IF(I5591<>\"\",I5591/12,\"\")","v":""}]
[null,null,null,null,null,null,null,"","",""]
[null,null,null,null,null,null,null,"","",""]
[null,null,null,null,null,null,null,"","",""]
[null,null,null,null,null,null,null,"","",""]
[null,null,null,null,null,null,null,"","",""]
[null,null,null,null,null,null,null,"","",""]
[null,null,null,null,null,null,null,"","",""]
[null,null,null,null,null,null,null,"","",""]
[null,null,null,null,null,null,null,"","",""]
[null,null,null,null,null,null,null,"","",""]
[null,null,null,null,null,null,null,"","",""]
[null,null,null,null,null,null,null,"","",""]
[null,null,null,null,null,null,null,"","",""]
[null,null,null,null,null,null,null,"","",""]
[null,null,null,null,null,null,null,"","",""]
[null,null,null,null,null,null,null,"","",""]
[null,null,null,null,null,null,null,"","",""]
[null,null,null,null,null,null,null,"","",""]
[null,null,null,null,null,null,null,"","",""]
[null,null,null,null,null,null,null,"","",""]
[null,null,null,null,null,null,null,"","",""]
[null,null,null,null,null,null,null,"","",""]
[null,null,null,null,null,null,null,"","",""]
[null,null,null,null,null,null,null,"","",""]
[null,null,null,null,null,null,null,"","",""]
[null,null,null,null,null,null,null,"","",""]
[null,null,null,null,null,null,null,"","",""]
[null,null,null,null,null,null,null,"","",""]
[null,null,null,null,null,null,null,"","",""]
[null,null,null,null,null,null,null,"","",""]
[null,null,null,null,null,null,null,"","",""]
[null,null,null,null,null,null,null,"","",""]
[null,null,null,null,null,null,null,"","",""]
[null,null,null,null,null,null,null,"","",""]
[null,null,null,null,null,null,null,"","",""]
[null,null,null,null,null,null,null,"","",""]
[null,null,null,null,null,null,null,"","",""]
[null,null,null,null,null,null,null,"","",""]
[null,null,null,null,null,null,null,"","",""]
[null,null,null,null,null,null,null,"","",""]
[null,null,null,null,null,null,null,"","",""]
[null,null,null,null,null,null,null,"","",""]
[null,null,null,null,null,null,null,"","",""]
[null,null,null,null,null,null,null,"","",""]
[null,null,null,null,null,null,null,"","",""]
[null,null,null,null,null,null,null,"","",""]
[null,null,null,null,null,null,null,"","",""]
[null,null,null,null,null,null,null,"","",""]
[null,null,null,null,null,null,null,"","",""]
[null,null,null,null,null,null,null,"","",""]
[null,null,null,null,null,null,null,"","",""]
[null,null,null,null,null,null,null,"","",""]
[null,null,null,null,null,null,null,"","",""]
[null,null,null,null,null,null,null,"","",""]
[null,null,null,null,null,null,null,"","",""]
[null,null,null,null,null,null,null,"","",""]
[null,null,null,null,null,null,null,"","",""]
[null,null,null,null,null,null,null,"","",""]
[null,null,null,null,null,null,null,"","",""]
[null,null,null,null,null,null,null,"","",""]
[null,null,null,null,null,null,null,"","",""]
[null,null,null,null,null,null,null,"","",""]
[null,null,null,null,null,null,null,"","",""]
[null,null,null,null,null,null,null,{"$f":"IF(G5655<>\"\",G5655/12,\"\")","v":""},{"$f":"IF(G5655<>\"\",8,\"\")","v":""},{"$f":"IF(I5655<>\"\",I5655/12,\"\")","v":""}]
[null,null,null,null,null,null,null,"","",""]
[null,null,null,null,null,null,null,"","",""]
[null,null,null,null,null,null,null,"","",""]
[null,null,null,null,null,null,null,"","",""]
[null,null,null,null,null,null,null,"","",""]
[null,null,null,null,null,null,null,"","",""]
[null,null,null,null,null,null,null,"","",""]
[null,null,null,null,null,null,null,"","",""]
[null,null,null,null,null,null,null,"","",""]
[null,null,null,null,null,null,null,"","",""]
[null,null,null,null,null,null,null,"","",""]
[null,null,null,null,null,null,null,"","",""]
[null,null,null,null,null,null,null,"","",""]
[null,null,null,null,null,null,null,"","",""]
[null,null,null,null,null,null,null,"","",""]
[null,null,null,null,null,null,null,"","",""]
[null,null,null,null,null,null,null,"","",""]
[null,null,null,null,null,null,null,"","",""]
[null,null,null,null,null,null,null,"","",""]
[null,null,null,null,null,null,null,"","",""]
[null,null,null,null,null,null,null,"","",""]
[null,null,null,null,null,null,null,"","",""]
[null,null,null,null,null,null,null,"","",""]
[null,null,null,null,null,null,null,"","",""]
[null,null,null,null,null,null,null,"","",""]
[null,null,null,null,null,null,null,"","",""]
[null,null,null,null,null,null,null,"","",""]
[null,null,null,null,null,null,null,"","",""]
[null,null,null,null,null,null,null,"","",""]
[null,null,null,null,null,null,null,"","",""]
[null,null,null,null,null,null,null,"","",""]
[null,null,null,null,null,null,null,"","",""]
[null,null,null,null,null,null,null,"","",""]
[null,null,null,null,null,null,null,"","",""]
[null,null,null,null,null,null,null,"","",""]
[null,null,null,null,null,null,null,"","",""]
[null,null,null,null,null,null,null,"","",""]
[null,null,null,null,null,null,null,"","",""]
[null,null,null,null,null,null,null,"","",""]
[null,null,null,null,null,null,null,"","",""]
[null,null,null,null,null,null,null,"","",""]
[null,null,null,null,null,null,null,"","",""]
[null,null,null,null,null,null,null,"","",""]
[null,null,null,null,null,null,null,"","",""]
[null,null,null,null,null,null,null,"","",""]
[null,null,null,null,null,null,null,"","",""]
[null,null,null,null,null,null,null,"","",""]
[null,null,null,null,null,null,null,"","",""]
[null,null,null,null,null,null,null,"","",""]
[null,null,null,null,null,null,null,"","",""]
[null,null,null,null,null,null,null,"","",""]
[null,null,null,null,null,null,null,"","",""]
[null,null,null,null,null,null,null,"","",""]
[null,null,null,null,null,null,null,"","",""]
[null,null,null,null,null,null,null,"","",""]
[null,null,null,null,null,null,null,"","",""]
[null,null,null,null,null,null,null,"","",""]
[null,null,null,null,null,null,null,"","",""]
[null,null,null,null,null,null,null,"","",""]
[null,null,null,null,null,null,null,"","",""]
[null,null,null,null,null,null,null,"","",""]
[null,null,null,null,null,null,null,"","",""]
[null,null,null,null,null,null,null,"","",""]
[null,null,null,null,null,null,null,{"$f":"IF(G5719<>\"\",G5719/12,\"\")","v":""},{"$f":"IF(G5719<>\"\",8,\"\")","v":""},{"$f":"IF(I5719<>\"\",I5719/12,\"\")","v":""}]
[null,null,null,null,null,null,null,"","",""]
[null,null,null,null,null,null,null,"","",""]
[null,null,null,null,null,null,null,"","",""]
[null,null,null,null,null,null,null,"","",""]
[null,null,null,null,null,null,null,"","",""]
[null,null,null,null,null,null,null,"","",""]
[null,null,null,null,null,null,null,"","",""]
[null,null,null,null,null,null,null,"","",""]
[null,null,null,null,null,null,null,"","",""]
[null,null,null,null,null,null,null,"","",""]
[null,null,null,null,null,null,null,"","",""]
[null,null,null,null,null,null,null,"","",""]
[null,null,null,null,null,null,null,"","",""]
[null,null,null,null,null,null,null,"","",""]
[null,null,null,null,null,null,null,"","",""]
[null,null,null,null,null,null,null,"","",""]
[null,null,null,null,null,null,null,"","",""]
[null,null,null,null,null,null,null,"","",""]
[null,null,null,null,null,null,null,"","",""]
[null,null,null,null,null,null,null,"","",""]
[null,null,null,null,null,null,null,"","",""]
[null,null,null,null,null,null,null,"","",""]
[null,null,null,null,null,null,null,"","",""]
[null,null,null,null,null,null,null,"","",""]
[null,null,null,null,null,null,null,"","",""]
[null,null,null,null,null,null,null,"","",""]
[null,null,null,null,null,null,null,"","",""]
[null,null,null,null,null,null,null,"","",""]
[null,null,null,null,null,null,null,"","",""]
[null,null,null,null,null,null,null,"","",""]
[null,null,null,null,null,null,null,"","",""]
[null,null,null,null,null,null,null,"","",""]
[null,null,null,null,null,null,null,"","",""]
[null,null,null,null,null,null,null,"","",""]
[null,null,null,null,null,null,null,"","",""]
[null,null,null,null,null,null,null,"","",""]
[null,null,null,null,null,null,null,"","",""]
[null,null,null,null,null,null,null,"","",""]
[null,null,null,null,null,null,null,"","",""]
[null,null,null,null,null,null,null,"","",""]
[null,null,null,null,null,null,null,"","",""]
[null,null,null,null,null,null,null,"","",""]
[null,null,null,null,null,null,null,"","",""]
[null,null,null,null,null,null,null,"","",""]
[null,null,null,null,null,null,null,"","",""]
[null,null,null,null,null,null,null,"","",""]
[null,null,null,null,null,null,null,"","",""]
[null,null,null,null,null,null,null,"","",""]
[null,null,null,null,null,null,null,"","",""]
[null,null,null,null,null,null,null,"","",""]
[null,null,null,null,null,null,null,"","",""]
[null,null,null,null,null,null,null,"","",""]
[null,null,null,null,null,null,null,"","",""]
[null,null,null,null,null,null,null,"","",""]
[null,null,null,null,null,null,null,"","",""]
[null,null,null,null,null,null,null,"","",""]
[null,null,null,null,null,null,null,"","",""]
[null,null,null,null,null,null,null,"","",""]
[null,null,null,null,null,null,null,"","",""]
[null,null,null,null,null,null,null,"","",""]
[null,null,null,null,null,null,null,"","",""]
[null,null,null,null,null,null,null,"","",""]
[null,null,null,null,null,null,null,"","",""]
[null,null,null,null,null,null,null,{"$f":"IF(G5783<>\"\",G5783/12,\"\")","v":""},{"$f":"IF(G5783<>\"\",8,\"\")","v":""},{"$f":"IF(I5783<>\"\",I5783/12,\"\")","v":""}]
[null,null,null,null,null,null,null,"","",""]
[null,null,null,null,null,null,null,"","",""]
[null,null,null,null,null,null,null,"","",""]
[null,null,null,null,null,null,null,"","",""]
[null,null,null,null,null,null,null,"","",""]
[null,null,null,null,null,null,null,"","",""]
[null,null,null,null,null,null,null,"","",""]
[null,null,null,null,null,null,null,"","",""]
[null,null,null,null,null,null,null,"","",""]
[null,null,null,null,null,null,null,"","",""]
[null,null,null,null,null,null,null,"","",""]
[null,null,null,null,null,null,null,"","",""]
[null,null,null,null,null,null,null,"","",""]
[null,null,null,null,null,null,null,"","",""]
[null,null,null,null,null,null,null,"","",""]
[null,null,null,null,null,null,null,"","",""]
[null,null,null,null,null,null,null,"","",""]
[null,null,null,null,null,null,null,"","",""]
[null,null,null,null,null,null,null,"","",""]
[null,null,null,null,null,null,null,"","",""]
[null,null,null,null,null,null,null,"","",""]
[null,null,null,null,null,null,null,"","",""]
[null,null,null,null,null,null,null,"","",""]
[null,null,null,null,null,null,null,"","",""]
[null,null,null,null,null,null,null,"","",""]
[null,null,null,null,null,null,null,"","",""]
[null,null,null,null,null,null,null,"","",""]
[null,null,null,null,null,null,null,"","",""]
[null,null,null,null,null,null,null,"","",""]
[null,null,null,null,null,null,null,"","",""]
[null,null,null,null,null,null,null,"","",""]
[null,null,null,null,null,null,null,"","",""]
[null,null,null,null,null,null,null,"","",""]
[null,null,null,null,null,null,null,"","",""]
[null,null,null,null,null,null,null,"","",""]
[null,null,null,null,null,null,null,"","",""]
[null,null,null,null,null,null,null,"","",""]
[null,null,null,null,null,null,null,"","",""]
[null,null,null,null,null,null,null,"","",""]
[null,null,null,null,null,null,null,"","",""]
[null,null,null,null,null,null,null,"","",""]
[null,null,null,null,null,null,null,"","",""]
[null,null,null,null,null,null,null,"","",""]
[null,null,null,null,null,null,null,"","",""]
[null,null,null,null,null,null,null,"","",""]
[null,null,null,null,null,null,null,"","",""]
[null,null,null,null,null,null,null,"","",""]
[null,null,null,null,null,null,null,"","",""]
[null,null,null,null,null,null,null,"","",""]
[null,null,null,null,null,null,null,"","",""]
[null,null,null,null,null,null,null,"","",""]
[null,null,null,null,null,null,null,"","",""]
[null,null,null,null,null,null,null,"","",""]
[null,null,null,null,null,null,null,"","",""]
[null,null,null,null,null,null,null,"","",""]
[null,null,null,null,null,null,null,"","",""]
[null,null,null,null,null,null,null,"","",""]
[null,null,null,null,null,null,null,"","",""]
[null,null,null,null,null,null,null,"","",""]
[null,null,null,null,null,null,null,"","",""]
[null,null,null,null,null,null,null,"","",""]
[null,null,null,null,null,null,null,"","",""]
[null,null,null,null,null,null,null,"","",""]
[null,null,null,null,null,null,null,{"$f":"IF(G5847<>\"\",G5847/12,\"\")","v":""},{"$f":"IF(G5847<>\"\",8,\"\")","v":""},{"$f":"IF(I5847<>\"\",I5847/12,\"\")","v":""}]
[null,null,null,null,null,null,null,"","",""]
[null,null,null,null,null,null,null,"","",""]
[null,null,null,null,null,null,null,"","",""]
[null,null,null,null,null,null,null,"","",""]
[null,null,null,null,null,null,null,"","",""]
[null,null,null,null,null,null,null,"","",""]
[null,null,null,null,null,null,null,"","",""]
[null,null,null,null,null,null,null,"","",""]
[null,null,null,null,null,null,null,"","",""]
[null,null,null,null,null,null,null,"","",""]
[null,null,null,null,null,null,null,"","",""]
[null,null,null,null,null,null,null,"","",""]
[null,null,null,null,null,null,null,"","",""]
[null,null,null,null,null,null,null,"","",""]
[null,null,null,null,null,null,null,"","",""]
[null,null,null,null,null,null,null,"","",""]
[null,null,null,null,null,null,null,"","",""]
[null,null,null,null,null,null,null,"","",""]
[null,null,null,null,null,null,null,"","",""]
[null,null,null,null,null,null,null,"","",""]
[null,null,null,null,null,null,null,"","",""]
[null,null,null,null,null,null,null,"","",""]
[null,null,null,null,null,null,null,"","",""]
[null,null,null,null,null,null,null,"","",""]
[null,null,null,null,null,null,null,"","",""]
[null,null,null,null,null,null,null,"","",""]
[null,null,null,null,null,null,null,"","",""]
[null,null,null,null,null,null,null,"","",""]
[null,null,null,null,null,null,null,"","",""]
[null,null,null,null,null,null,null,"","",""]
[null,null,null,null,null,null,null,"","",""]
[null,null,null,null,null,null,null,"","",""]
[null,null,null,null,null,null,null,"","",""]
[null,null,null,null,null,null,null,"","",""]
[null,null,null,null,null,null,null,"","",""]
[null,null,null,null,null,null,null,"","",""]
[null,null,null,null,null,null,null,"","",""]
[null,null,null,null,null,null,null,"","",""]
[null,null,null,null,null,null,null,"","",""]
[null,null,null,null,null,null,null,"","",""]
[null,null,null,null,null,null,null,"","",""]
[null,null,null,null,null,null,null,"","",""]
[null,null,null,null,null,null,null,"","",""]
[null,null,null,null,null,null,null,"","",""]
[null,null,null,null,null,null,null,"","",""]
[null,null,null,null,null,null,null,"","",""]
[null,null,null,null,null,null,null,"","",""]
[null,null,null,null,null,null,null,"","",""]
[null,null,null,null,null,null,null,"","",""]
[null,null,null,null,null,null,null,"","",""]
[null,null,null,null,null,null,null,"","",""]
[null,null,null,null,null,null,null,"","",""]
[null,null,null,null,null,null,null,"","",""]
[null,null,null,null,null,null,null,"","",""]
[null,null,null,null,null,null,null,"","",""]
[null,null,null,null,null,null,null,"","",""]
[null,null,null,null,null,null,null,"","",""]
[null,null,null,null,null,null,null,"","",""]
[null,null,null,null,null,null,null,"","",""]
[null,null,null,null,null,null,null,"","",""]
[null,null,null,null,null,null,null,"","",""]
[null,null,null,null,null,null,null,"","",""]
[null,null,null,null,null,null,null,"","",""]
[null,null,null,null,null,null,null,{"$f":"IF(G5911<>\"\",G5911/12,\"\")","v":""},{"$f":"IF(G5911<>\"\",8,\"\")","v":""},{"$f":"IF(I5911<>\"\",I5911/12,\"\")","v":""}]
[null,null,null,null,null,null,null,"","",""]
[null,null,null,null,null,null,null,"","",""]
[null,null,null,null,null,null,null,"","",""]
[null,null,null,null,null,null,null,"","",""]
[null,null,null,null,null,null,null,"","",""]
[null,null,null,null,null,null,null,"","",""]
[null,null,null,null,null,null,null,"","",""]
[null,null,null,null,null,null,null,"","",""]
[null,null,null,null,null,null,null,"","",""]
[null,null,null,null,null,null,null,"","",""]
[null,null,null,null,null,null,null,"","",""]
[null,null,null,null,null,null,null,"","",""]
[null,null,null,null,null,null,null,"","",""]
[null,null,null,null,null,null,null,"","",""]
[null,null,null,null,null,null,null,"","",""]
[null,null,null,null,null,null,null,"","",""]
[null,null,null,null,null,null,null,"","",""]
[null,null,null,null,null,null,null,"","",""]
[null,null,null,null,null,null,null,"","",""]
[null,null,null,null,null,null,null,"","",""]
[null,null,null,null,null,null,null,"","",""]
[null,null,null,null,null,null,null,"","",""]
[null,null,null,null,null,null,null,"","",""]
[null,null,null,null,null,null,null,"","",""]
[null,null,null,null,null,null,null,"","",""]
[null,null,null,null,null,null,null,"","",""]
[null,null,null,null,null,null,null,"","",""]
[null,null,null,null,null,null,null,"","",""]
[null,null,null,null,null,null,null,"","",""]
[null,null,null,null,null,null,null,"","",""]
[null,null,null,null,null,null,null,"","",""]
[null,null,null,null,null,null,null,"","",""]
[null,null,null,null,null,null,null,"","",""]
[null,null,null,null,null,null,null,"","",""]
[null,null,null,null,null,null,null,"","",""]
[null,null,null,null,null,null,null,"","",""]
[null,null,null,null,null,null,null,"","",""]
[null,null,null,null,null,null,null,"","",""]
[null,null,null,null,null,null,null,"","",""]
[null,null,null,null,null,null,null,"","",""]
[null,null,null,null,null,null,null,"","",""]
[null,null,null,null,null,null,null,"","",""]
[null,null,null,null,null,null,null,"","",""]
[null,null,null,null,null,null,null,"","",""]
[null,null,null,null,null,null,null,"","",""]
[null,null,null,null,null,null,null,"","",""]
[null,null,null,null,null,null,null,"","",""]
[null,null,null,null,null,null,null,"","",""]
[null,null,null,null,null,null,null,"","",""]
[null,null,null,null,null,null,null,"","",""]
[null,null,null,null,null,null,null,"","",""]
[null,null,null,null,null,null,null,"","",""]
[null,null,null,null,null,null,null,"","",""]
[null,null,null,null,null,null,null,"","",""]
[null,null,null,null,null,null,null,"","",""]
[null,null,null,null,null,null,null,"","",""]
[null,null,null,null,null,null,null,"","",""]
[null,null,null,null,null,null,null,"","",""]
[null,null,null,null,null,null,null,"","",""]
[null,null,null,null,null,null,null,"","",""]
[null,null,null,null,null,null,null,"","",""]
[null,null,null,null,null,null,null,"","",""]
[null,null,null,null,null,null,null,"","",""]
[null,null,null,null,null,null,null,{"$f":"IF(G5975<>\"\",G5975/12,\"\")","v":""},{"$f":"IF(G5975<>\"\",8,\"\")","v":""},{"$f":"IF(I5975<>\"\",I5975/12,\"\")","v":""}]
[null,null,null,null,null,null,null,"","",""]
[null,null,null,null,null,null,null,"","",""]
[null,null,null,null,null,null,null,"","",""]
[null,null,null,null,null,null,null,"","",""]
[null,null,null,null,null,null,null,"","",""]
[null,null,null,null,null,null,null,"","",""]
[null,null,null,null,null,null,null,"","",""]
[null,null,null,null,null,null,null,"","",""]
[null,null,null,null,null,null,null,"","",""]
[null,null,null,null,null,null,null,"","",""]
[null,null,null,null,null,null,null,"","",""]
[null,null,null,null,null,null,null,"","",""]
[null,null,null,null,null,null,null,"","",""]
[null,null,null,null,null,null,null,"","",""]
[null,null,null,null,null,null,null,"","",""]
[null,null,null,null,null,null,null,"","",""]
[null,null,null,null,null,null,null,"","",""]
[null,null,null,null,null,null,null,"","",""]
[null,null,null,null,null,null,null,"","",""]
[null,null,null,null,null,null,null,"","",""]
[null,null,null,null,null,null,null,"","",""]
[null,null,null,null,null,null,null,"","",""]
[null,null,null,null,null,null,null,"","",""]
[null,null,null,null,null,null,null,"","",""]
[null,null,null,null,null,null,null,"","",""]

{"sheet":"DE104_5C","index":9,"n_rows":44,"n_cols":48,"rows_kept":44,"cut":false,"hidden":false,"merged":[[40,2,40,14],[41,2,41,14],[42,2,42,14],[43,2,43,14],[18,2,18,21],[19,2,19,21],[39,2,39,15],[18,23,18,42],[14,23,14,42],[15,2,16,21],[15,23,15,42],[16,23,17,42],[17,2,17,21],[19,23,19,42],[20,2,21,5],[20,6,21,8],[20,9,21,10],[20,11,21,14],[20,15,23,16],[20,17,24,17],[20,18,23,18],[20,19,24,19],[20,42,26,42],[25,36,25,37],[20,20,24,20],[20,21,25,21],[20,23,21,26],[20,27,21,29],[20,30,21,31],[20,32,21,35],[22,24,26,25],[22,26,25,26],[22,27,26,27],[22,28,25,28],[22,33,25,34],[22,35,25,35],[22,31,25,31],[22,32,25,32],[20,36,24,37],[20,38,25,38],[20,39,24,39],[20,40,25,40],[20,41,25,41],[22,23,26,23],[24,15,24,16],[22,29,25,29],[22,30,25,30],[22,2,25,2],[22,3,25,4],[22,5,24,5],[22,6,25,6],[22,7,24,7],[22,8,24,8],[22,9,24,9],[22,10,24,10],[22,11,24,11],[22,12,24,13],[22,14,24,14]]}
["TabTitle",{"$f":"C16","v":"LIST OF SUBDRAIN WORK"}]
["Number of Tab Columns",20]
["DE Starter Row Number",27]
["TabSheet Starter Row Number",14]
["TabSheet Header Row Count",13]
["Top Header Cell","X15"]
["Bottom Header Cell","AQ27"]
["DESheet Row Count",18]
["Fixed Empty Rows",2]
["Usable Empty Rows",2]
["Total Rows Placed",22,"xlRight(1)","xlRight(1)","xlRight(1)","xlLeft(1)","xlLeft(1)","xlRight(1)","xlRight(1)","xlRight(1)","xlRight(1)","xlRight(1)","xlRight(1)","xlRight(1)","xlRight(1)","xlLeft(1)","xlRight(1)","xlRight(1)","xlRight(1)","xlRight(1)","xlRight(1)","xlLeft(1)",null,{"$f":"C11","v":"xlRight(1)"},{"$f":"D11","v":"xlRight(1)"},"xlRight(1)","xlLeft(1)","xlLeft(1)","xlRight(1)","xlRight(1)","xlRight(1)","xlRight(1)","xlRight(1)","xlRight(1)","xlRight(1)","xlRight(1)","xlLeft(1)","xlRight(1)","xlRight(1)","xlRight(1)",{"$f":"T11","v":"xlRight(1)"},"xlRight(1)","xlLeft(1)"]
["Total Rows Needed",{"$f":"SUM(B8:B10)","v":22},"General","#+00.00","#+00.00","General","General","0.0","0","0","0","0","General","0","0","General","0","0.0","0.0","0.0","0.0","General",null,{"$f":"C12","v":"General"},"#+00.00","#+00.00","General","General","0.0","0","0","0","0","General","0","0","General","0","0.0","0.0","0.0","0.0","General"]
["Last Tab DE Starter Row",27,{"$f":"CELL(\"width\",C13)","v":8},16,16,28,22,8,9,8,8,8,8,8,8,12,6,14,14,14,14,81,null,{"$f":"CELL(\"width\",X13)","v":0},0,0,0,0,0,0,0,0,0,0,0,0,0,0,0,0,0,0,0]
["Last Tab Tabsheet Starter Row",14,"A","B","C","D","E","F","G","H","I","J","K","L","M","N","O","P","Q","R","S","T",null,{"$f":"LOWER(C14)","v":"a"},{"$f":"LOWER(D14)","v":"b"},"c","d","e","f","g","h","i","j","k","l","m","n","o","p","q","r","s","t"]
["Last Copy Starter Row",1,null,null,null,null,null,null,null,null,null,null,null,null,null,"Totals:",null,{"$f":"SUBTOTAL(9,R27:R6004)","v":0},{"$f":"SUBTOTAL(9,S27:S6004)","v":1081.5999999999999},null,null,null,null,"104-5C",null,null,null,null,null,null,null,null,null,null,null,null,null,null,null,null,null,null,null,null,{"$f":"F23","v":"Type of\nInstallation"},{"$f":"G21","v":"Pipe"},{"$f":"L21&M23","v":"OutletsDR-305"},{"$f":"P21","v":"Connected Pipe\nJoints*"}]
["Tab Loop Number",2,"LIST OF SUBDRAIN WORK",null,null,null,null,null,null,null,null,null,null,null,null,null,null,null,null,null,null,null,null,{"$f":"B17","v":"2017-10-17"},null,null,null,null,null,null,null,null,null,null,null,null,null,null,null,null,null,null,null,null,"DR-301, Type 1","Concrete","A","Type 1"]
["Revision Date","2017-10-17",null,null,null,null,null,null,null,null,null,null,null,null,null,null,null,null,null,null,null,null,null,{"$f":"C16","v":"LIST OF SUBDRAIN WORK"},null,null,null,null,null,null,null,null,null,null,null,null,null,null,null,null,null,null,null,null,"DR-301, Type 2","C.M.P.","B","Type 2"]
["Tabulation Width",4,"Possible Standards: DR-121, DR-201, DR-203, DR-301, DR-302, DR-303, DR-305 and DR-306. Possible Detail: 500-10.",null,null,null,null,null,null,null,null,null,null,null,null,null,null,null,null,null,null,null,null,null,null,null,null,null,null,null,null,null,null,null,null,null,null,null,null,null,null,null,null,null,"DR-301, Type 3","Plastic","C","Type 3"]
["Horizontal Grid Lines","Yes","* Not a bid item",null,null,null,null,null,null,null,null,null,null,null,null,null,null,null,null,null,null,null,null,{"$f":"C18","v":"Possible Standards: DR-121, DR-201, DR-203, DR-301, DR-302, DR-303, DR-305 and DR-306. Possible Detail: 500-10."},null,null,null,null,null,null,null,null,null,null,null,null,null,null,null,null,null,null,null,null,"DR-301, Type 4"]
[null,null,{"$f":"\"This Data Entry Sheet fills Tab \"&X15&\" effective \"&TEXT(B17,\"mm-dd-yy\")","v":"This Data Entry Sheet fills Tab 104-5C effective 10-17-17"},null,null,null,null,null,null,null,null,null,null,null,null,null,null,null,null,null,null,null,null,{"$f":"C19","v":"* Not a bid item"},null,null,null,null,null,null,null,null,null,null,null,null,null,null,null,null,null,null,null,null,"DR-302, Case A"]
[null,null,"Location",null,null,null,"Pipe",null,null,"Aprons",null,"Outlets",null,null,null,"Connected Pipe\nJoints*",null,"Trench\nDrain","Granular\nMaterial","Special\nBackfill*","Class \"A\"\nCrushed\nStone*","Remarks",null,{"$f":"C21","v":"Location"},null,null,null,{"$f":"G21","v":"Pipe"},null,null,{"$f":"J21","v":"Aprons"},null,{"$f":"L21","v":"Outlets"},null,null,null,{"$f":"P21","v":"Connected Pipe\nJoints*"},null,{"$f":"R21","v":"Trench\nDrain"},{"$f":"S21","v":"Granular\nMaterial"},{"$f":"T21","v":"Special\nBackfill*"},{"$f":"U21","v":"Class \"A\"\nCrushed\nStone*"},{"$f":"V21","v":"Remarks"},null,"DR-302, Case B"]
[null,null,null,null,null,null,null,null,null,null,null,null,null,null,null,null,null,null,null,null,null,null,null,null,null,null,null,null,null,null,null,null,null,null,null,null,null,null,null,null,null,null,null,null,"DR-302, Case C"]
[null,null,"No.","Station to Station",null,"Type of\nInstallation","Concrete, C.M.P., or Plastic","Dia.","Length","DR-201","DR-203","500-10","DR-305",null,"DR-306",null,null,null,null,null,null,null,null,{"$f":"C23","v":"No."},{"$f":"D23","v":"Station to Station"},null,{"$f":"F23","v":"Type of\nInstallation"},"Concrete, C.M.P., or Plastic","Dia.","Length","DR-201","DR-203","500-10","DR-305",null,{"$f":"O23","v":"DR-306"},null,null,null,null,null,null,null,null,"DR-303, Type 5"]
[null,null,null,null,null,null,null,null,null,null,null,null,null,null,null,null,null,null,null,null,null,null,null,null,null,null,null,null,null,null,null,null,null,null,null,null,null,null,null,null,null,null,null,null,"DR-303, Type 6"]
[null,null,null,null,null,null,null,null,null,null,null,null,null,null,null,"DR-121",null,null,"Blanket",null,null,null,null,null,null,null,null,null,null,null,null,null,null,null,null,null,null,null,null,null,null,null,null,null,"DR-303, Type 7A"]
[null,null,null,null,null,"DR-301, DR-302, DR-303",null,"IN","LF","No.","No.","No.","Type","No.","No.","Type","No.","LF","CY","TONS","CY",null,null,null,null,null,null,null,null,null,null,null,null,null,null,null,{"$f":"P25","v":"DR-121"},null,null,{"$f":"S25","v":"Blanket"},null,null,null,null,"DR-303, Type 7B"]
[null,null,1,142300,142550,null,null,null,null,null,null,null,null,null,null,null,null," ",220,null,null,"12-inch thick Working Blanket - US 30 Stage 1",null,null,null,null,{"$f":"F26","v":"DR-301, DR-302, DR-303"},null,{"$f":"H26","v":"IN"},{"$f":"I26","v":"LF"},{"$f":"J26","v":"No."},{"$f":"K26","v":"No."},{"$f":"L26","v":"No."},{"$f":"M26","v":"Type"},"No.",{"$f":"O26","v":"No."},{"$f":"P26","v":"Type"},{"$f":"Q26","v":"No."},{"$f":"R26","v":"LF"},{"$f":"S26","v":"CY"},{"$f":"T26","v":"TONS"},{"$f":"U26","v":"CY"},null,null,"DR-303, Type 8A"]
[null,null,2,145250,145400,null,null,null,null,null,null,null,null,null,null,null,null," ",195,null,null,"12-inch thick Working Blanket - US 30 Stage 1",null,null,null,null,null,null,null,null,null,null,null,null,null,null,null,null,null,null,null,null,null,null,"DR-303, Type 8B"]
[null,null,3,146200,146700,null,null,null,null,null,null,null,null,null,null,null,null," ",330,null,null,"12-inch thick Working Blanket - US 30 Stage 1",null,null,null,null,null,null,null,null,null,null,null,null,null,null,null,null,null,null,null,null,null,null,"DR-303, Type 9"]
[null,null,4,3144550,3144800,null,null,null,null,null,null,null,null,null,null,null,null," ",200,null,null,"12-inch thick Working Blanket - Ramp C",null,null,null,null,null,null,null,null,null,null,null,null,null,null,null,null,null,null,null,null,null,null,"DR-303, Type 11"]
[null,null,5,3145225,3145400,null,null,null,null,null,null,null,null,null,null,null,null," ",115,null,null,"12-inch thick Working Blanket - Ramp C",null,null,null,null,null,null,null,null,null,null,null,null,null,null,null,null,null,null,null,null,null,null,"DR-303, Type 12"]
[null,null,null,null,null,null,null,null,null,null,null,null,null,null,null,null,null,null,null,null,null,null,null,null,null,null,null,null,null,null,null,null,null,null,null,null,null,null,null,null,null,null,null,null,"DR-303, Type 13"]
[null,null,null,24147120,24147457,null,null,null,null,null,null,null,null,null,null,null,null,null," ",4895,null,"Special Backfill - MSE Wall Core-Out at South Abutment of US 218 over",null,null,null,null,null,null,null,null,null,null,null,null,null,null,null,null,null,null,null,null,null,null,"DR-303, Type 14"]
[null,null,null,null,null,null,null,null,null,null,null,null,null,null,null,null,null,null,null,null,null,"US 30 Bridge"]
[]
[null,null,1,147450,147543.9,"DR-301 Type 2","Plastic",4,100,null,null,null,null,null,1,null,null,null,10.8,null,null,"MSE Wall; outlet to ditch at Station 1474+50 as shown on Q.22"]
[null,null,2,147450,147592.70000000001,"DR-301 Type 2","Plastic",4,150,null,null,null,null,null,1,null,null,null,10.8,null,null,"MSE Wall; outlet to ditch at Station 1474+50 as shown on Q.22"]
[]
[null,null,"Notes:"]
[null,null,"    1. The Working Blankets shown on the Q Sheets and on tab. 104-5C may be deleted if determined not to be necessary at the time of construction."]
[null,null,"    2. See \"MSE Retaining Wall Construction Notes\" on Sheet V.1 for details of drain installation"]
[null,null,"    3. See plan view on Sheet Q.22 for locations of drain installation."]
[null,null,"    4. Drain line No. 2 length includes subdrain within MSE wall and length outside wall to reach ditch outlet location."]
[null,null,"    5. Quantities are for porous trench width of 20 inches ( both lines combined) and depth of 4 feet with 6 inches of topsoil cover."]

{"sheet":"DE104_9","index":10,"n_rows":209,"n_cols":47,"rows_kept":209,"cut":false,"hidden":false,"merged":[[198,3,198,13],[199,3,199,13],[203,3,203,4],[23,37,24,37],[21,28,25,29],[21,30,25,30],[21,10,21,11],[22,10,23,10],[22,16,24,16],[23,39,25,39],[23,40,25,40],[196,3,196,13],[197,3,197,13],[22,31,24,31],[23,32,24,32],[23,33,24,33],[23,34,24,34],[23,35,24,35],[23,36,25,36],[22,11,23,11],[22,12,24,12],[22,13,23,13],[22,14,23,14],[22,15,24,15],[23,38,24,38],[20,32,20,38],[20,39,20,40],[20,41,24,41],[20,42,24,42],[21,2,24,2],[21,3,24,3],[21,4,24,5],[21,6,24,6],[21,8,21,9],[22,7,23,7],[22,8,23,8],[22,9,23,9],[21,12,21,14],[21,15,21,16],[21,26,25,26],[21,27,25,27],[18,2,18,19],[18,26,18,43],[19,2,19,19],[19,26,19,43],[20,2,20,7],[20,8,20,14],[20,15,20,16],[20,17,23,17],[20,18,23,18],[20,19,24,19],[20,43,25,43],[21,32,22,33],[21,34,22,35],[21,36,22,38],[21,39,22,40],[20,26,20,31],[14,21,15,24],[14,26,14,43],[15,2,16,19],[15,26,15,43],[16,26,17,43],[17,2,17,19]]}
["TabTitle",{"$f":"C16","v":"LONGITUDINAL SUBDRAIN SHOULDER AND BACKSLOPE"}]
["Number of Tab Columns",18]
["DE Starter Row Number",26]
["TabSheet Starter Row Number",13,null,null,null,null,null,null,null,null,null,null,null,null,null,null,null,"if nothing else - change 24/12 to 18/12 for depth of porous backfill"]
["TabSheet Header Row Count",12,null,null,null,null,null,null,null,null,null,null,null,null,null,null,null,null,0.2]
["Top Header Cell","AA15",null,null,null,null,null,null,null,null,null,null,null,null,null,null,null,null,0.2]
["Bottom Header Cell","AR26"]
["DESheet Row Count",184]
["Fixed Empty Rows",5]
["Usable Empty Rows",10]
["Total Rows Placed",199,"xlRight(1)","xlCenter","xlRight(1)","xlRight(1)","xlCenter","xlRight(1)","xlRight(1)","xlRight(1)","xlRight(1)","xlRight(1)","xlRight(1)","xlRight(1)","xlRight(1)","xlRight(1)","xlRight(1)","xlRight(1)","xlRight(1)","xlLeft(1)",null,null,null,null,null,null,{"$f":"C11","v":"xlRight(1)"},"xlCenter","xlRight(1)","xlRight(1)","xlCenter","xlRight(1)","xlRight(1)","xlRight(1)","xlRight(1)","xlRight(1)","xlRight(1)","xlRight(1)","xlRight(1)","xlRight(1)","xlRight(1)","xlRight(1)",{"$f":"S11","v":"xlRight(1)"},"xlLeft(1)"]
["Total Rows Needed",{"$f":"SUM(B8:B10)","v":199},"General","General","#+00.00","#+00.00","General","0.0","0.0","0.0","0.0","0.0","General","0.0","0.0","#+00.00","General","0.0","0.0","General",null,null,null,null,null,null,"General","General","#+00.00","#+00.00","General","0.0","0.0","0.0","0.0","0.0","General","0.0","0.0","#+00.00","General","0.0","0.0","General"]
["Last Tab DE Starter Row",182,{"$f":"CELL(\"width\",C13)","v":7},20,16,16,7,10,10,10,10,10,{"$f":"CELL(\"width\",M13)","v":22},10,10,16,22,13,15,86,null,null,null,null,null,null,{"$f":"CELL(\"width\",AA13)","v":0},0,0,0,0,0,0,0,0,0,0,0,0,0,0,0,0,0]
["Last Tab Tabsheet Starter Row",193,"A","B","C","D","E","F","G","H","I","J","K","L","M","N","O","P","Q","R",null,null,null,null,null,null,{"$f":"LOWER(C14)","v":"a"},"b","c","d","e","f","g","h","i","j","k","l","m","n","o","p","q","r"]
["Last Copy Starter Row",181,null,null,null,null,null,null,"Totals:",{"$f":"SUBTOTAL(9,J26:J6001)","v":40297.439999999711},null,{"$f":"SUBTOTAL(9,L26:L6001)","v":0},null,null,{"$f":"SUBTOTAL(9,O26:O6001)","v":0},null,null,null,null,null,null,"Instructions for filling out Tab 104-09",null,null,null,null,"104-9",null,null,null,null,null,null,null,null,null,null,null,null,null,null,null,null,null,null,{"$f":"M22","v":"Bridge Berm (EW-203 or EW-204)"},"Subdrain Outlet SRP"]
["Tab Loop Number",4,"LONGITUDINAL SUBDRAIN SHOULDER AND BACKSLOPE",null,null,null,null,null,null,null,null,null,null,null,null,null,null,null,null,null,null,null,null,null,null,null,{"$f":"B17","v":"2017-10-17"},null,null,null,null,null,null,null,null,null,null,null,null,null,null,null,null,null,null,"EW-203, Type A","DR-303"]
["Revision Date","2017-10-17",null,null,null,null,null,null,null,null,null,null,null,null,null,null,null,null,null,null,null,"1.)","You must fill in the Stationing, Side, Depth, Crushed Stone quantity, and Size of Shoulder, Backslope, or Bridge subdrain.",null,null,null,"LONGITUDINAL SUBDRAIN SHOULDER AND BACKSLOPE",null,null,null,null,null,null,null,null,null,null,null,null,null,null,null,null,null,null,"EW-203, Type B","DR-305, Type A"]
["Tabulation Width",4,"Refer to Soils Sheets",null,null,null,null,null,null,null,null,null,null,null,null,null,null,null,null,null,null,"2.)","Once the first line is complete, press the Single Outlet or Double Outlet Buttons at the top of the sheet.",null,null,null,null,null,null,null,null,null,null,null,null,null,null,null,null,null,null,null,null,null,null,"EW-203, Type C","DR-305, Type B"]
["Horizontal Grid Lines","Yes","  * Not a bid item. Bridge berm quantities assume a trench depth of 24 inches.",null,null,null,null,null,null,null,null,null,null,null,null,null,null,null,null,null,null,"3.)","You can insert lines by:",null,null,null,{"$f":"C18","v":"Refer to Soils Sheets"},null,null,null,null,null,null,null,null,null,null,null,null,null,null,null,null,null,null,"EW-204, Type A","DR-305, Type C"]
[null,null,{"$f":"\"This Data Entry Sheet fills Tab \"&AA15&\" effective \"&TEXT(B17,\"mm-dd-yy\")","v":"This Data Entry Sheet fills Tab 104-9 effective 10-17-17"},null,null,null,null,null,null,null,null,null,null,null,null,null,null,null,null,null,null,null,"a.) Placing the cell selector on the row where you want to insert the row.",null,null,null,{"$f":"C19","v":"  * Not a bid item. Bridge berm quantities assume a trench depth of 24 inches."},null,null,null,null,null,null,null,null,null,null,null,null,null,null,null,null,null,null,"EW-204, Type B","DR-306"]
[null,null,"Location",null,null,null,null,null,"Longitudinal Subdrain  (DR-303)",null,null,null,null,null,null,"Subdrain Outlet",null,"Porous*\nBackfill","Class \"A\"*\nCrushed\nStone","Remarks",null,null,"b.) Select the Single Outlet or Double Outlet button.",null,null,null,{"$f":"C21","v":"Location"},null,null,null,null,null,{"$f":"I21","v":"Longitudinal Subdrain  (DR-303)"},null,null,null,null,null,null,{"$f":"P21","v":"Subdrain Outlet"},null,{"$f":"R21","v":"Porous*\nBackfill"},{"$f":"S21","v":"Class \"A\"*\nCrushed\nStone"},{"$f":"T21","v":"Remarks"},null,"EW-204, Type C"]
[null,null,"Line\nNo.","Road or Lane Identification","Station to Station",null,"Side","Depth","Shoulder",null,"Backslope",null,"Bridge Berm (EW-203 or EW-204)",null,null,"DR-303, DR-305 or DR-306",null,null,null,null,null,null,"c.) You will be asked if you want to insert a row. Select \"Yes\".",null,null,null,{"$f":"C22","v":"Line\nNo."},{"$f":"D22","v":"Road or Lane Identification"},{"$f":"E22","v":"Station to Station"},null,{"$f":"G22","v":"Side"},{"$f":"H22","v":"Depth"},{"$f":"I22","v":"Shoulder"},null,{"$f":"K22","v":"Backslope"},null,{"$f":"M22","v":"Bridge Berm (EW-203 or EW-204)"},null,null,{"$f":"P22","v":"DR-303, DR-305 or DR-306"}]
[null,null,null,null,null,null,null,null,"Size","Length","Size","Length","Standard Road Plan and Type","Size","Length","Station","Standard Road Plan and Type",null,null,null,null,null,"d.) You will then be asked if you want to renumber.",null,null,null,null,null,null,null,null,{"$f":"H23","v":0}]
[null,null,null,null,null,null,null,null,null,null,null,null,null,null,null,null,null,null,null,null,null,null,null,"1. If you choose Yes, the macro will add one to all following subdrain Line Numbers.",null,null,null,null,null,null,null,null,{"$f":"I23","v":"Size"},"Length","Size","Length","Standard Road Plan and Type","Size","Length","Station","Standard Road Plan and Type"]
[null,null,null,null,null,null,null,"IN","IN","FT","IN","FT",null,"IN","FT",null,null,"CY","CY",null,null,null,null,null,"Example: If you insert a line between lines 5 and 6, the line you insert will become 6 and the"]
[null,null,1,"EBL",138000,138500,"RT",42,4,{"$f":"IF(I26>0, ABS(F26-E26)+40,\"\")","v":540},null,null,null,null,null,{"$f":"E26","v":138000},"DR-306",{"$f":"IF(I26>0,ROUND(J26*((((H26-6)/12)*(10/12))/27),1),IF(L26>0,ROUND((L26*(10/12)*((H26-18)/12)/27),1),))","v":50},0.4,null,null,null,null,null,"following line will become 7.",null,null,null,null,null,null,{"$f":"H25","v":"IN"},{"$f":"I25","v":"IN"},{"$f":"J25","v":"FT"},{"$f":"K25","v":"IN"},{"$f":"L25","v":"FT"},null,{"$f":"N25","v":"IN"},{"$f":"O25","v":"FT"},null,null,{"$f":"R25","v":"CY"},{"$f":"S25","v":"CY"}]
[null,null,null,null,null,null,null,null,null,null,null,null,null,null,null,{"$f":"F26","v":138500},"DR-306"," ",0.4,null,null,null,null,"2. If you choose No, the macro will add a letter to the previous and inserted rows."]
[null,null,2,"EBL",138500,139000,"RT",42,4,{"$f":"IF(I28>0, ABS(F28-E28)+40,\"\")","v":540},null,null,null,null,null,{"$f":"E28","v":138500},"DR-306",50,0.4,null,null,null,null,null,"Example: If you insert a line between lines 5 and 6, the previous line will become 5A and the"]
[null,null,null,null,null,null,null," ",null,"",null,null,null,null,null,{"$f":"F28","v":139000},"DR-306"," ",0.4,null,null,null,null,null,"line you inserted will become 5B. The following line will stay number 6."]
[null,null,3,"EBL",139000,139500,"RT",42,4,540,null,null,null,null,null,{"$f":"E30","v":139000},"DR-306",50,0.4,null,null,null,null,null,"Example: If you insert a line between lines 5A and 5B, the previous line willstay 5A and the"]
[null,null,null,null,null,null,null," ",null,"",null,null,null,null,null,{"$f":"F30","v":139500},"DR-306"," ",0.4,null,null,null,null,null,"line that you insert will become 5B. The following line will become 5C. The macro will work up to \"E\"."]
[null,null,4,"EBL",139500,140000,"RT",42,4,540,null,null,null,null,null,{"$f":"E32","v":139500},"DR-306",50,0.4,null,null,"4.)","If you are asked if you want to insert a row and you don't, choose \"No\" and the macro will take you to"]
[null,null,null,null,null,null,null," ",null,"",null,null,null,null,null,{"$f":"F32","v":140000},"DR-306"," ",0.4,null,null,null,"the first available row."]
[null,null,5,"EBL",140000,140475,"RT",42,4,515,null,null,null,null,null,{"$f":"E34","v":140000},"DR-306",47.7,0.4,null,null,"5.)","You can press the Totals button at any time to look at your quantities. The Totals macro also places the"]
[null,null,null,null,null,null,null," ",null,"",null,null,null,null,null,{"$f":"F34","v":140475},"DR-306"," ",0.4,null,null,null,"notes onto the tab."]
[null,null,6,"EBL",140475,140975,"RT",42,4,540,null,null,null,null,null,{"$f":"E36","v":140475},"DR-306",50,0.4]
[null,null,null,null,null,null,null," ",null,"",null,null,null,null,null,{"$f":"F36","v":140975},"DR-306"," ",0.4]
[null,null,7,"EBL",140975,141500,"RT",42,4,565,null,null,null,null,null,{"$f":"E38","v":140975},"DR-306",52.3,0.4]
[null,null,null,null,null,null,null," ",null,"",null,null,null,null,null,{"$f":"F38","v":141500},"DR-306"," ",0.4]
[null,null,8,"EBL",141500,142000,"RT",42,4,540,null,null,null,null,null,{"$f":"E40","v":141500},"DR-306",50,0.4]
[null,null,null,null,null,null,null," ",null,"",null,null,null,null,null,{"$f":"F40","v":142000},"DR-306"," ",0.4]
[null,null,9,"EBL",142000,142500,"RT",42,4,540,null,null,null,null,null,{"$f":"E42","v":142000},"DR-306",50,0.4]
[null,null,null,null,null,null,null," ",null,"",null,null,null,null,null,{"$f":"F42","v":142500},"DR-306"," ",0.4]
[null,null,10,"EBL",142500,143000,"RT",42,4,540,null,null,null,null,null,{"$f":"E44","v":142500},"DR-306",50,0.4]
[null,null,null,null,null,null,null," ",null,"",null,null,null,null,null,{"$f":"F44","v":143000},"DR-306","  ",0.4]
[null,null,11,"EBL",143000,143500,"RT",42,4,540,null,null,null,null,null,{"$f":"E46","v":143000},"DR-306",50,0.4]
[null,null,null,null,null,null,null," ",null,"",null,null,null,null,null,{"$f":"F46","v":143500},"DR-306"," ",0.4]
[null,null,12,"EBL",143500,144000,"RT",42,4,540,null,null,null,null,null,{"$f":"E48","v":143500},"DR-306",50,0.4]
[null,null,null,null,null,null,null," ",null,"",null,null,null,null,null,{"$f":"F48","v":144000},"DR-306"," ",0.4]
[null,null,13,"EBL",144000,144500,"RT",42,4,540,null,null,null,null,null,{"$f":"E50","v":144000},"DR-306",50,0.4]
[null,null,null,null,null,null,null," ",null,"",null,null,null,null,null,{"$f":"F50","v":144500},"DR-306"," ",0.4]
[null,null,14,"EBL",144500,145000,"RT",42,4,540,null,null,null,null,null,{"$f":"E52","v":144500},"DR-306",50,0.4]
[null,null,null,null,null,null,null," ",null,"",null,null,null,null,null,{"$f":"F52","v":145000},"DR-306"," ",0.4]
[null,null,15,"EBL",145000,145500,"RT",42,4,540,null,null,null,null,null,{"$f":"E54","v":145000},"DR-306",50,0.4]
[null,null,null,null,null,null,null," ",null,"",null,null,null,null,null,{"$f":"F54","v":145500},"DR-306"," ",0.4]
[null,null,16,"EBL",145500,146000,"RT",42,4,540,null,null,null,null,null,{"$f":"E56","v":145500},"DR-306",50,0.4]
[null,null,null,null,null,null,null," ",null,"",null,null,null,null,null,{"$f":"F56","v":146000},"DR-306"," ",0.4]
[null,null,17,"EBL",146000,146520,"RT",42,4,560,null,null,null,null,null,{"$f":"E58","v":146000},"DR-306",51.9,0.4]
[null,null,null,null,null,null,null," ",null,"",null,null,null,null,null,{"$f":"F58","v":146520},"DR-306"," ",0.4]
[null,null,18,"EBL",146530,146995,"RT",42,4,505,null,null,null,null,null,{"$f":"E60","v":146530},"DR-306",46.8,0.4]
[null,null,null,null,null,null,null," ",null,"",null,null,null,null,null,{"$f":"F60","v":146995},"DR-306"," ",0.4]
[null,null,19,"EBL",147030,147500,"RT",42,4,510,null,null,null,null,null,{"$f":"E62","v":147030},"DR-306",47.2,0.4,"US 30 EB AND LOOP A TAPER"]
[null,null,null,null,null,null,null," ",null,"",null,null,null,null,null,{"$f":"F62","v":147500},"DR-306"," ",0.4]
[null,null,20,"EBL",147500,147695,"RT",42,4,235,null,null,null,null,null,{"$f":"E64","v":147500},"DR-306",21.8,0.4,"US 30 EB AND LOOP A TAPER"]
[null,null,null,null,null,null,null," ",null,"",null,null,null,null,null,{"$f":"F64","v":147695},"DR-306"," ",0.4]
[null,null,21,"EBL",147705,147910,"RT",42,4,{"$f":"IF(I66>0, ABS(F66-E66)+40,\"\")","v":245},null,null,null,null,null,{"$f":"E66","v":147705},"DR-306",{"$f":"IF(I66>0,ROUND(J66*((((H66-6)/12)*(10/12))/27),1),IF(L66>0,ROUND((L66*(10/12)*((H66-18)/12)/27),1),))","v":22.7},0.4]
[null,null,null,null,null,null,null,null,null,null,null,null,null,null,null,{"$f":"F66","v":147910},"DR-306",null,0.4]
[null,null,22,"EBL",147920,148280,"RT",42,4,{"$f":"IF(I68>0, ABS(F68-E68)+20,\"\")","v":380},null,null,null,null,null,{"$f":"E68","v":147920},"DR-306",35.200000000000003,0.4,"INSTALL OUTLET PRIOR TO LOOP A"]
[null,null,23,"EBL",148280,148640,"RT",42,4,400,null,null,null,null,null,{"$f":"E69","v":148280},"DR-306",37,0.4]
[null,null,null,null,null,null,null," ",null,"",null,null,null,null,null,{"$f":"F69","v":148640},"DR-306"," ",0.4]
[null,null,24,"EBL",148640,148990,"RT",42,4,{"$f":"IF(I71>0, ABS(F71-E71)+20,\"\")","v":370},null,null,null,null,null,{"$f":"E71","v":148640},"DR-306",34.299999999999997,0.4,"SINGLE OUTLET"]
[null,null,25,"EBL",149000,149450,"RT",42,4,490,null,null,null,null,null,149000,"DR-306",45.4,0.4,"US 30 EB/RAMP D TAPER; SING.OUT."]
[null,null,26,"EBL",149450,150000,"RT",42,4,{"$f":"IF(I73>0, ABS(F73-E73)+20,\"\")","v":570},null,null,null,null,null,{"$f":"F73","v":150000},"DR-306",52.8,0.4,"SINGLE OUTLET"]
[null,null,27,"EBL",150000,150500,"RT",42,4,540,null,null,null,null,null,{"$f":"E74","v":150000},"DR-306",50,0.4]
[null,null,null,null,null,null,null," ",null,"",null,null,null,null,null,{"$f":"F74","v":150500},"DR-306"," ",0.4]
[null,null,28,"EBL",150500,151000,"RT",42,4,540,null,null,null,null,null,{"$f":"E76","v":150500},"DR-306",50,0.4]
[null,null,null,null,null,null,null," ",null,"",null,null,null,null,null,{"$f":"F76","v":151000},"DR-306"," ",0.4]
[null,null,29,"EBL",151000,151335,"RT",42,4,375,null,null,null,null,null,{"$f":"E78","v":151000},"DR-306",34.700000000000003,0.4]
[null,null,null,null,null,null,null," ",null,"",null,null,null,null,null,{"$f":"F78","v":151335},"DR-306"," ",0.4]
[null,null,30,"EBL",151335,151670,"RT",42,4,375,null,null,null,null,null,{"$f":"E80","v":151335},"DR-306",34.700000000000003,0.4]
[null,null,null,null,null,null,null," ",null,"",null,null,null,null,null,{"$f":"F80","v":151670},"DR-306"," ",0.4]
[null,null,31,"WBL",138900,139400,"LT",42,4,540,null,null,null,null,null,{"$f":"E82","v":138900},"DR-306",50,0.4]
[null,null,null,null,null,null,null," ",null,"",null,null,null,null,null,{"$f":"F82","v":139400},"DR-306"," ",0.4]
[null,null,32,"WBL",139400,139745,"LT",42,4,385,null,null,null,null,null,{"$f":"E84","v":139400},"DR-306",35.6,0.4]
[null,null,null,null,null,null,null," ",null,"",null,null,null,null,null,{"$f":"F84","v":139745},"DR-306"," ",0.4]
[null,null,33,"WBL",139755,140000,"LT",42,4,{"$f":"IF(I86>0, ABS(F86-E86)+40,\"\")","v":285},null,null,null,null,null,{"$f":"E86","v":139755},"DR-306",{"$f":"IF(I86>0,ROUND(J86*((((H86-6)/12)*(10/12))/27),1),IF(L86>0,ROUND((L86*(10/12)*((H86-18)/12)/27),1),))","v":26.4},0.4]
[null,null,null,null,null,null,null,null,null,null,null,null,null,null,null,{"$f":"F86","v":140000},"DR-306",null,0.4]
[null,null,34,"WBL",140000,140470,"LT",42,4,510,null,null,null,null,null,{"$f":"E88","v":140000},"DR-306",47.2,0.4]
[null,null,null,null,null,null,null," ",null,"",null,null,null,null,null,{"$f":"F88","v":140470},"DR-306"," ",0.4]
[null,null,35,"WBL",140480,140900,"LT",42,4,460,null,null,null,null,null,{"$f":"E90","v":140480},"DR-306",42.6,0.4]
[null,null,null,null,null,null,null," ",null,"",null,null,null,null,null,{"$f":"F90","v":140900},"DR-306"," ",0.4]
[null,null,36,"WBL",140900,141400,"LT",42,4,540,null,null,null,null,null,{"$f":"E92","v":140900},"DR-306",50,0.4]
[null,null,null,null,null,null,null," ",null,"",null,null,null,null,null,{"$f":"F92","v":141400},"DR-306"," ",0.4]
[null,null,37,"WBL",141400,141900,"LT",42,4,{"$f":"IF(I94>0, ABS(F94-E94)+40,\"\")","v":540},null,null,null,null,null,{"$f":"E94","v":141400},"DR-306",{"$f":"IF(I94>0,ROUND(J94*((((H94-6)/12)*(10/12))/27),1),IF(L94>0,ROUND((L94*(10/12)*((H94-18)/12)/27),1),))","v":50},0.4]
[null,null,null,null,null,null,null," ",null,"",null,null,null,null,null,{"$f":"F94","v":141900},"DR-306"," ",0.4]
[null,null,38,"WBL",141900,142400,"LT",42,4,540,null,null,null,null,null,{"$f":"E96","v":141900},"DR-306",50,0.4]
[null,null,null,null,null,null,null," ",null,"",null,null,null,null,null,{"$f":"F96","v":142400},"DR-306"," ",0.4]
[null,null,39,"WBL",142400,142900,"LT",42,4,540,null,null,null,null,null,{"$f":"E98","v":142400},"DR-306",50,0.4]
[null,null,null,null,null,null,null," ",null,"",null,null,null,null,null,{"$f":"F98","v":142900},"DR-306"," ",0.4]
[null,null,40,"WBL",142900,143400,"LT",42,4,540,null,null,null,null,null,{"$f":"E100","v":142900},"DR-306",50,0.4]
[null,null,null,null,null,null,null," ",null,"",null,null,null,null,null,{"$f":"F100","v":143400},"DR-306"," ",0.4]
[null,null,41,"WBL",143400,143900,"LT",42,4,540,null,null,null,null,null,{"$f":"E102","v":143400},"DR-306",50,0.4]
[null,null,null,null,null,null,null," ",null,"",null,null,null,null,null,{"$f":"F102","v":143900},"DR-306"," ",0.4]
[null,null,42,"WBL",143900,144400,"LT",42,4,540,null,null,null,null,null,{"$f":"E104","v":143900},"DR-306",50,0.4]
[null,null,null,null,null,null,null," ",null,"",null,null,null,null,null,{"$f":"F104","v":144400},"DR-306"," ",0.4]
[null,null,43,"WBL",144400,144900,"LT",42,4,540,null,null,null,null,null,{"$f":"E106","v":144400},"DR-306",50,0.4]
[null,null,null,null,null,null,null," ",null,"",null,null,null,null,null,{"$f":"F106","v":144900},"DR-306"," ",0.4]
[null,null,44,"WBL",144900,145400,"LT",42,4,540,null,null,null,null,null,{"$f":"E108","v":144900},"DR-306",50,0.4]
[null,null,null,null,null,null,null," ",null,"",null,null,null,null,null,{"$f":"F108","v":145400},"DR-306"," ",0.4]
[null,null,45,"WBL",145400,145750,"LT",42,4,390,null,null,null,null,null,{"$f":"E110","v":145400},"DR-306",36.1,0.4]
[null,null,null,null,null,null,null," ",null,"",null,null,null,null,null,{"$f":"F110","v":145750},"DR-306"," ",0.4]
[null,null,46,"WBL",145750,146070,"LT",42,4,360,null,null,null,null,null,{"$f":"E112","v":145750},"DR-306",33.299999999999997,0.4,"US 30 WB AND RAMP C TAPER"]
[null,null,null,null,null,null,null," ",null,"",null,null,null,null,null,{"$f":"F112","v":146070},"DR-306"," ",0.4]
[null,null,47,"WBL",146105,146500,"LT",42,4,{"$f":"IF(I114>0, ABS(F114-E114)+20,\"\")","v":415},null,null,null,null,null,146500,"DR-306",38.4,0.4,"SINGLE OUTLET"]
[null,null,48,"WBL",146500,146845,"LT",42,4,385,null,null,null,null,null,{"$f":"E115","v":146500},"DR-306",35.6,0.4]
[null,null,null,null,null,null,null," ",null,"",null,null,null,null,null,{"$f":"F115","v":146845},"DR-306"," ",0.4]
[null,null,49,"WBL",146845,147220,"LT",42,4,{"$f":"IF(I117>0, ABS(F117-E117)+20,\"\")","v":395},null,null,null,null,null,{"$f":"E117","v":146845},"DR-306",36.6,0.4,"SINGLE OUTLET"]
[null,null,50,"WBL",147230,147730,"LT",36,4,540,null,null,null,null,null,147230,"DR-306",41.7,0.4,"US 30 WB AND LOOP B TAPER"]
[null,null,null,null,null,null,null," ",null,"",null,null,null,null,null,{"$f":"F118","v":147730},"DR-306"," ",0.4]
[null,null,51,"WBL",147730,148230,"LT",36,4,540,null,null,null,null,null,{"$f":"E120","v":147730},"DR-306",41.7,0.4]
[null,null,null,null,null,null,null," ",null,"",null,null,null,null,null,{"$f":"F120","v":148230},"DR-306"," ",0.4]
[null,null,52,"WBL",148230,148730,"LT",36,4,540,null,null,null,null,null,{"$f":"E122","v":148230},"DR-306",41.7,0.4]
[null,null,null,null,null,null,null," ",null,"",null,null,null,null,null,{"$f":"F122","v":148730},"DR-306"," ",0.4]
[null,null,53,"WBL",148730,149230,"LT",42,4,540,null,null,null,null,null,{"$f":"E124","v":148730},"DR-306",50,0.4]
[null,null,null,null,null,null,null," ",null,"",null,null,null,null,null,{"$f":"F124","v":149230},"DR-306"," ",0.4]
[null,null,54,"WBL",149230,149730,"LT",42,4,540,null,null,null,null,null,{"$f":"E126","v":149230},"DR-306",50,0.4]
[null,null,null,null,null,null,null," ",null,"",null,null,null,null,null,{"$f":"F126","v":149730},"DR-306"," ",0.4]
[null,null,55,"WBL",149730,150230,"LT",42,4,540,null,null,null,null,null,{"$f":"E128","v":149730},"DR-306",50,0.4]
[null,null,null,null,null,null,null," ",null,"",null,null,null,null,null,{"$f":"F128","v":150230},"DR-306"," ",0.4]
[null,null,56,"WBL",150230,150730,"LT",42,4,540,null,null,null,null,null,{"$f":"E130","v":150230},"DR-306",50,0.4]
[null,null,null,null,null,null,null," ",null,"",null,null,null,null,null,{"$f":"F130","v":150730},"DR-306"," ",0.4]
[null,null,57,"WBL",150730,151230,"LT",42,4,540,null,null,null,null,null,{"$f":"E132","v":150730},"DR-306",50,0.4]
[null,null,null,null,null,null,null," ",null,"",null,null,null,null,null,{"$f":"F132","v":151230},"DR-306"," ",0.4]
[null,null,58,"WBL",151230,151670,"LT",18,4,480,null,null,null,null,null,{"$f":"E134","v":151230},"DR-306",14.8,0.4]
[null,null,null,null,null,null,null," ",null,"",null,null,null,null,null,{"$f":"F134","v":151670},"DR-306"," ",0.4]
[null,null,59,"Loop A",1147915,1148400,"RT",42,4,525,null,null,null,null,null,{"$f":"E136","v":1147915},"DR-306",48.6,0.4,"OUTLET WITH LINE NO. 22"]
[null,null,null,null,null,null,null," ",null,"",null,null,null,null,null,{"$f":"F136","v":1148400},"DR-306"," ",0.4]
[null,null,60,"Loop A",1148400,1148664.72,"RT",42,4,304.71999999997206,null,null,null,null,null,{"$f":"E138","v":1148400},"DR-306",28.2,0.4]
[null,null,null,null,null,null,null," ",null,"",null,null,null,null,null,{"$f":"F138","v":1148664.72},"DR-306"," ",0.4]
[null,null,61,"Loop B",2147225,2147375,"RT",42,4,190,null,null,null,null,null,{"$f":"E140","v":2147225},"DR-306",17.600000000000001,0.4]
[null,null,null,null,null,null,null," ",null,"",null,null,null,null,null,{"$f":"F140","v":2147375},"DR-306"," ",0.4]
[null,null,62,"Loop B",2147375,2147675,"RT",42,4,340,null,null,null,null,null,{"$f":"E142","v":2147375},"DR-306",31.5,0.4]
[null,null,null,null,null,null,null," ",null,"",null,null,null,null,null,{"$f":"F142","v":2147675},"DR-306"," ",0.4]
[null,null,63,"Loop B",2147675,2147975.06,"RT",42,4,{"$f":"IF(I144>0, ABS(F144-E144)+40,\"\")","v":340.06000000005588},null,null,null,null,null,{"$f":"E144","v":2147675},"DR-306",{"$f":"IF(I144>0,ROUND(J144*((((H144-6)/12)*(10/12))/27),1),IF(L144>0,ROUND((L144*(10/12)*((H144-18)/12)/27),1),))","v":31.5},0.4]
[null,null,null,null,null,null,null,null,null,null,null,null,null,null,null,{"$f":"F144","v":2147975.06},"DR-306",null,0.4]
[null,null,64,"Ramp C",3144100,3144370,"LT",42,4,310,null,null,null,null,null,{"$f":"E146","v":3144100},"DR-306",28.7,0.4,"RAMP C AND LOOP B TAPER"]
[null,null,null,null,null,null,null," ",null,"",null,null,null,null,null,{"$f":"F146","v":3144370},"DR-306"," ",0.4]
[null,null,65,"Ramp C",3144375,3144775,"LT",42,4,440,null,null,null,null,null,{"$f":"F148","v":3144775},"DR-306",40.700000000000003,0.4,"SINGLE OUTLET"]
[null,null,66,"Ramp C",3144775,3145210,"RT",42,4,475,null,null,null,null,null,{"$f":"E149","v":3144775},"DR-306",44,0.4,"SUPERELEV. CHANGE - OUTLET RIGHT"]
[null,null,null,null,null,null,null," ",null,"",null,null,null,null,null,{"$f":"F149","v":3145210},"DR-306"," ",0.4]
[null,null,67,"Ramp C",3145210,3145370,"RT",42,4,200,null,null,null,null,null,{"$f":"E151","v":3145210},"DR-306",18.5,0.4]
[null,null,null,null,null,null,null," ",null,"",null,null,null,null,null,{"$f":"F151","v":3145370},"DR-306"," ",0.4]
[null,null,68,"Ramp C",3145380,3145475,"RT",42,4,{"$f":"IF(I153>0, ABS(F153-E153)+40,\"\")","v":135},null,null,null,null,null,{"$f":"E153","v":3145380},"DR-306",{"$f":"IF(I153>0,ROUND(J153*((((H153-6)/12)*(10/12))/27),1),IF(L153>0,ROUND((L153*(10/12)*((H153-18)/12)/27),1),))","v":12.5},0.4]
[null,null,null,null,null,null,null,null,null,null,null,null,null,null,null,{"$f":"F153","v":3145475},"DR-306",null,0.4]
[null,null,69,"Ramp C",3145475,3145646.34,"RT",42,4,{"$f":"IF(I155>0, ABS(F155-E155)+40,\"\")","v":211.33999999985099},null,null,null,null,null,{"$f":"E155","v":3145475},"DR-306",{"$f":"IF(I155>0,ROUND(J155*((((H155-6)/12)*(10/12))/27),1),IF(L155>0,ROUND((L155*(10/12)*((H155-18)/12)/27),1),))","v":19.600000000000001},0.4]
[null,null,null,null,null,null,null,null,null,null,null,null,null,null,null,{"$f":"F155","v":3145646.34},"DR-306",null,0.4]
[null,null,70,"Ramp D",4147500,4147755,"LT",42,4,295,null,null,null,null,null,{"$f":"E157","v":4147500},"DR-306",27.3,0.4,"RAMP D AND LOOP A TAPER"]
[null,null,null,null,null,null,null," ",null,"",null,null,null,null,null,{"$f":"F157","v":4147755},"DR-306"," ",0.4]
[null,null,71,"Ramp D",4147765,4148225,"LT",42,4,{"$f":"IF(I159>0, ABS(F159-E159)+20,\"\")","v":480},null,null,null,null,null,{"$f":"F159","v":4148225},"DR-306",44.4,0.4,"SINGLE OUTLET"]
[null,null,72,"Ramp D",4148225,4148600,"RT",42,4,{"$f":"IF(I160>0, ABS(F160-E160)+40,\"\")","v":415},null,null,null,null,null,{"$f":"E160","v":4148225},"DR-306",{"$f":"IF(I160>0,ROUND(J160*((((H160-6)/12)*(10/12))/27),1),IF(L160>0,ROUND((L160*(10/12)*((H160-18)/12)/27),1),))","v":38.4},0.4,"SUPERELEV. CHANGE - OUTLET RIGHT"]
[null,null,null,null,null,null,null," ",null,"",null,null,null,null,null,{"$f":"F160","v":4148600},"DR-306"," ",0.4]
[null,null,73,"Ramp D",4148600,4148996.32,"RT",42,4,436.31999999983236,null,null,null,null,null,{"$f":"E162","v":4148600},"DR-306",40.4,0.4]
[null,null,null,null,null,null,null," ",null,"",null,null,null,null,null,{"$f":"F162","v":4148996.32},"DR-306"," ",0.4]
[null,null,74,"US 218",24146800,24147125,"LT",42,4,365,null,null,null,null,null,{"$f":"E164","v":24146800},"DR-306",33.799999999999997,0.4]
[null,null,null,null,null,null,null," ",null,"",null,null,null,null,null,{"$f":"F164","v":24147125},"DR-306"," ",0.4]
[null,null,75,"US 218",24147710,24148050,"LT",42,4,380,null,null,null,null,null,{"$f":"E166","v":24147710},"DR-306",35.200000000000003,0.4]
[null,null,null,null,null,null,null," ",null,"",null,null,null,null,null,{"$f":"F166","v":24148050},"DR-306"," ",0.4]
[null,null,76,"US 218",24148050,24148336.199999999,"LT",42,4,326.19999999925494,null,null,null,null,null,{"$f":"E168","v":24148050},"DR-306",30.2,0.4]
[null,null,null,null,null,null,null," ",null,"",null,null,null,null,null,{"$f":"F168","v":24148336.199999999},"DR-306"," ",0.4]
[null,null,77,"US 218",24148336.199999999,24148825,"LT",42,4,528.80000000074506,null,null,null,null,null,{"$f":"E170","v":24148336.199999999},"DR-306",49,0.4]
[null,null,null,null,null,null,null," ",null,"",null,null,null,null,null,{"$f":"F170","v":24148825},"DR-306"," ",0.4]
[null,null,78,"US 218",24148825,24149315,"LT",42,4,530,null,null,null,null,null,{"$f":"E172","v":24148825},"DR-306",49.1,0.4]
[null,null,null,null,null,null,null," ",null,"",null,null,null,null,null,{"$f":"F172","v":24149315},"DR-306"," ",0.4]
[null,null,79,"US 218",24149315,24149805,"LT",30,4,530,null,null,null,null,null,{"$f":"E174","v":24149315},"DR-306",32.700000000000003,0.4]
[null,null,null,null,null,null,null," ",null,"",null,null,null,null,null,{"$f":"F174","v":24149805},"DR-306"," ",0.4]
[null,null,80,"US 218",24149805,24150300,"LT",30,4,535,null,null,null,null,null,{"$f":"E176","v":24149805},"DR-306",33,0.4]
[null,null,null,null,null,null,null," ",null,"",null,null,null,null,null,{"$f":"F176","v":24150300},"DR-306"," ",0.4]
[null,null,81,"US 218",24146800,24147100,"RT",42,4,340,null,null,null,null,null,{"$f":"E178","v":24146800},"DR-306",31.5,0.4]
[null,null,null,null,null,null,null," ",null,"",null,null,null,null,null,{"$f":"F178","v":24147100},"DR-306"," ",0.4]
[null,null,82,"US 218",24147100,24147375,"RT",42,4,315,null,null,null,null,null,{"$f":"E180","v":24147100},"DR-306",29.2,0.4]
[null,null,null,null,null,null,null," ",null,"",null,null,null,null,null,{"$f":"F180","v":24147375},"DR-306"," ",0.4]
[null,null,83,"US 218",24147710,24148150,"RT",42,4,480,null,null,null,null,null,{"$f":"E182","v":24147710},"DR-306",44.4,0.4]
[null,null,null,null,null,null,null," ",null,"",null,null,null,null,null,{"$f":"F182","v":24148150},"DR-306"," ",0.4]
[null,null,84,"US 218",24148150,24148650,"RT",42,4,540,null,null,null,null,null,{"$f":"E184","v":24148150},"DR-306",50,0.4]
[null,null,null,null,null,null,null," ",null,"",null,null,null,null,null,{"$f":"F184","v":24148650},"DR-306"," ",0.4]
[null,null,85,"US 218",24148650,24149150,"RT",30,4,540,null,null,null,null,null,{"$f":"E186","v":24148650},"DR-306",33.299999999999997,0.4]
[null,null,null,null,null,null,null," ",null,"",null,null,null,null,null,{"$f":"F186","v":24149150},"DR-306"," ",0.4]
[null,null,86,"US 218",24149150,24149400,"RT",26,4,290,null,null,null,null,null,{"$f":"E188","v":24149150},"DR-306",14.9,0.4," "]
[null,null,null,null,null,null,null," ",null,"",null,null,null,null,null,{"$f":"F188","v":24149400},"DR-306"," ",0.4]
[null,null,87,"US 218",24149400,24150300,"RT",22,4,940,null,null,null,null,null,{"$f":"E190","v":24149400},"DR-306",38.700000000000003,0.4,"SHALLOW DITCH; SEE NOTE BELOW"]
[null,null,null,null,null,null,null,null,null,null,null,null,null,null,null,{"$f":"F190","v":24150300},"DR-306"," ",0.4]
[]
[]
[]
[null,null,null,"Totals",null,null,null,null,null,{"$f":"SUBTOTAL(9,J26:J192)","v":40257.439999999711},null," ",null,null,null," ","DR-306 = 166",{"$f":"SUBTOTAL(9,R26:R192)","v":3563.099999999999},{"$f":"SUBTOTAL(9,S26:S192)","v":66.399999999999864}]
[]
[null,null,null,"NOTE:     ALL LONGITUDINAL SUBDRAINS ARE TYPE 7 WITH PCC UNLESS OTHERWISE NOTED IN REMARKS COLUMN."]
[null,null,null,"NOTE:     LINE NO. 84 OUTLETS SHALL DAYLIGHT AT LEAST 6 INCHES ABOVE BASE OF DITCH."]
[null,null,null,"NOTE:     LINE NO. 22 SHALL OUTLET AT SAME LOCATION AS LINE NO. 57."]
[]
[]
[]
[]
[null,null,null,"NEW OUTLET TO BE ADDED"]
[null,null,null,"US 218",null,null,"RT",48,4,20,null,null,null,null," ",24150300,"DR-306",{"$f":"IF(I205>0,ROUND(J205*((((H205-6)/12)*(10/12))/27),1),IF(L205>0,ROUND((L205*(10/12)*((H205-18)/12)/27),1),))","v":2.2000000000000002},0.4]
[]
[]
[]
[null,null,null,"Totals",null,null,null,null,null,{"$f":"+SUM(J205:J205)","v":20},null," ",null,null,null," ","DR-306 = 1",{"$f":"+SUM(R205:R205)","v":2.2000000000000002},{"$f":"+SUM(S205:S205)","v":0.4}]

{"sheet":"DE107_31","index":11,"n_rows":32,"n_cols":12,"rows_kept":32,"cut":false,"hidden":false,"merged":[[14,2,15,5],[14,7,14,10],[15,7,15,10],[16,2,16,5],[16,7,17,10],[17,2,17,5],[18,2,20,3],[18,4,19,4],[18,5,20,5],[18,7,18,10],[19,7,21,8],[19,9,20,9],[19,10,21,10]]}
["TabTitle",{"$f":"C15","v":"PLOWING AND SHAPING"}]
["Number of Tab Columns",4]
["DE Starter Row Number",22]
["TabSheet Starter Row Number",9]
["TabSheet Header Row Count",8]
["Top Header Cell","H15"]
["Bottom Header Cell","K22"]
["DESheet Row Count",11]
["Fixed Empty Rows",2]
["Usable Empty Rows",4]
["Total Rows Placed",17,"xlRight(1)","xlRight(1)","xlRight(1)","xlLeft(1)",null,{"$f":"C11","v":"xlRight(1)"},"xlRight(1)","xlRight(1)","xlLeft(1)"]
["Total Rows Needed",{"$f":"SUM(B8:B10)","v":17},"#+00.00","#+00.00","0.0","General",null,"#+00.00","#+00.00","0.0","General"]
["Last Tab DE Starter Row",22,{"$f":"CELL(\"width\",C13)","v":16},{"$f":"CELL(\"width\",D13)","v":16},{"$f":"CELL(\"width\",E13)","v":10},{"$f":"CELL(\"width\",F13)","v":33},null,{"$f":"CELL(\"width\",H13)","v":0},{"$f":"CELL(\"width\",I13)","v":0},{"$f":"CELL(\"width\",J13)","v":0},{"$f":"CELL(\"width\",K13)","v":0}]
["Last Tab Tabsheet Starter Row",9,"A","B","C","D",null,{"$f":"LOWER(C14)","v":"a"},{"$f":"LOWER(D14)","v":"b"},{"$f":"LOWER(E14)","v":"c"},{"$f":"LOWER(F14)","v":"d"},{"$f":"LOWER(G14)","v":""}]
["Last Copy Starter Row",1,"PLOWING AND SHAPING",null,null,null,null,"107-31"]
["Tab Loop Number",2,null,null,null,null,null,{"$f":"B17","v":"2011-04-19"}]
["Revision Date","2011-04-19","Refer to Standard Road Plan EW-101",null,null,null,null,{"$f":"C15","v":"PLOWING AND SHAPING"}]
["Tabulation Width",1,{"$f":"\"This Data Entry Sheet fills Tab \"&H15&\" effective \"&TEXT(B17,\"mm-dd-yy\")","v":"This Data Entry Sheet fills Tab 107-31 effective 04-19-11"}]
["Horizontal Grid Lines","Yes","Station to Station",null,"D","Remarks",null,{"$f":"C17","v":"Refer to Standard Road Plan EW-101"}]
[null,null,null,null,null,null,null,{"$f":"C19","v":"Station to Station"},null,{"$f":"E19","v":"D"},{"$f":"F19","v":"Remarks"}]
[null,null,null,null,"FT"]
[null,null,"1458+75","1466+00",4.5,"Stage 1",null,null,null,{"$f":"E21","v":"FT"}]
[null,null,"1490+00","1491+25",4.5,"Stage 1"]
[null,null,"1492+50","1507+00",4.5,"Stage 1"]
[null,null,"1395+50","1397+00",5,"Stage 2"]
[null,null,"1413+75","1418+75",5,"Stage 2"]
[null,null,"1433+50","1438+25",5,"Stage 2"]
[null,null,"1438+50","1440+50",3.5,"Stage 2"]
[null,null,"1448+25","1457+75",5,"Stage 2"]
[null,null,"1458+00","1459+50",3.5,"Stage 2"]
[null,null,"1486+25","1493+50",3.5,"Stage 2"]
[null,null,"1498+50","1506+00",5,"Stage 2"]

{"sheet":"103_6","index":12,"n_rows":8,"n_cols":1,"rows_kept":8,"cut":false,"hidden":false,"merged":[[2,0,3,0]]}
["103-6"]
["2017-10-17"]
["EMBANKMENT WITH MOISTURE CONTROL"]
[]
[{"$f":"IF(OFFSET(DE103_6!$C$19,ROWS($C$19:C19)-1,COLUMNS($C$19:C19)-1)<>\"\",OFFSET(DE103_6!$C$19,ROWS($C$19:C19)-1,COLUMNS($C$19:C19)-1),\"\")","v":"Moisture Control is required for all Class 10 fill placed in all"}]
[{"$f":"IF(OFFSET(DE103_6!$C$19,ROWS($C$19:C20)-1,COLUMNS($C$19:C20)-1)<>\"\",OFFSET(DE103_6!$C$19,ROWS($C$19:C20)-1,COLUMNS($C$19:C20)-1),\"\")","v":"locations and depths.  Topsoil will not require Moisture Control."}]
[{"$f":"IF(OFFSET(DE103_6!$C$19,ROWS($C$19:C21)-1,COLUMNS($C$19:C21)-1)<>\"\",OFFSET(DE103_6!$C$19,ROWS($C$19:C21)-1,COLUMNS($C$19:C21)-1),\"\")","v":""}]
[{"$f":"IF(OFFSET(DE103_6!$C$19,ROWS($C$19:C22)-1,COLUMNS($C$19:C22)-1)<>\"\",OFFSET(DE103_6!$C$19,ROWS($C$19:C22)-1,COLUMNS($C$19:C22)-1),\"\")","v":""}]

{"sheet":"103_5","index":13,"n_rows":24,"n_cols":4,"rows_kept":24,"cut":false,"hidden":false,"merged":[[0,0,0,3],[1,0,1,3],[2,0,3,3],[4,0,4,3],[5,0,7,0],[5,1,6,2],[5,3,7,3]]}
["103-5"]
["2013-10-15"]
["SETTLEMENT PLATES"]
[]
["Refer to Standard Road Plan EW-212"]
["No.","Location",null,"Remarks"]
[]
[null,"Station","Offset"]
[{"$f":"IF(OFFSET(DE103_5!$C$22,ROWS($C$22:C22)-1,COLUMNS($C$22:C22)-1)<>\"\",OFFSET(DE103_5!$C$22,ROWS($C$22:C22)-1,COLUMNS($C$22:C22)-1),\"\")","v":1},{"$f":"IF(OFFSET(DE103_5!$D$22,ROWS($D$22:D22)-1,COLUMNS($D$22:D22)-1)<>\"\",OFFSET(DE103_5!$D$22,ROWS($D$22:D22)-1,COLUMNS($D$22:D22)-1),\"\")","v":138800},{"$f":"IF(OFFSET(DE103_5!$E$22,ROWS($E$22:E22)-1,COLUMNS($E$22:E22)-1)<>\"\",OFFSET(DE103_5!$E$22,ROWS($E$22:E22)-1,COLUMNS($E$22:E22)-1),\"\")","v":"25' RT"},{"$f":"IF(OFFSET(DE103_5!$F$22,ROWS($F$22:F22)-1,COLUMNS($F$22:F22)-1)<>\"\",OFFSET(DE103_5!$F$22,ROWS($F$22:F22)-1,COLUMNS($F$22:F22)-1),\"\")","v":"SP-1"}]
[{"$f":"IF(OFFSET(DE103_5!$C$22,ROWS($C$22:C23)-1,COLUMNS($C$22:C23)-1)<>\"\",OFFSET(DE103_5!$C$22,ROWS($C$22:C23)-1,COLUMNS($C$22:C23)-1),\"\")","v":2},{"$f":"IF(OFFSET(DE103_5!$D$22,ROWS($D$22:D23)-1,COLUMNS($D$22:D23)-1)<>\"\",OFFSET(DE103_5!$D$22,ROWS($D$22:D23)-1,COLUMNS($D$22:D23)-1),\"\")","v":138975},{"$f":"IF(OFFSET(DE103_5!$E$22,ROWS($E$22:E23)-1,COLUMNS($E$22:E23)-1)<>\"\",OFFSET(DE103_5!$E$22,ROWS($E$22:E23)-1,COLUMNS($E$22:E23)-1),\"\")","v":"25' LT"},{"$f":"IF(OFFSET(DE103_5!$F$22,ROWS($F$22:F23)-1,COLUMNS($F$22:F23)-1)<>\"\",OFFSET(DE103_5!$F$22,ROWS($F$22:F23)-1,COLUMNS($F$22:F23)-1),\"\")","v":"SP-2, Stage 2"}]
[{"$f":"IF(OFFSET(DE103_5!$C$22,ROWS($C$22:C24)-1,COLUMNS($C$22:C24)-1)<>\"\",OFFSET(DE103_5!$C$22,ROWS($C$22:C24)-1,COLUMNS($C$22:C24)-1),\"\")","v":3},{"$f":"IF(OFFSET(DE103_5!$D$22,ROWS($D$22:D24)-1,COLUMNS($D$22:D24)-1)<>\"\",OFFSET(DE103_5!$D$22,ROWS($D$22:D24)-1,COLUMNS($D$22:D24)-1),\"\")","v":142540},{"$f":"IF(OFFSET(DE103_5!$E$22,ROWS($E$22:E24)-1,COLUMNS($E$22:E24)-1)<>\"\",OFFSET(DE103_5!$E$22,ROWS($E$22:E24)-1,COLUMNS($E$22:E24)-1),\"\")","v":"25' RT"},{"$f":"IF(OFFSET(DE103_5!$F$22,ROWS($F$22:F24)-1,COLUMNS($F$22:F24)-1)<>\"\",OFFSET(DE103_5!$F$22,ROWS($F$22:F24)-1,COLUMNS($F$22:F24)-1),\"\")","v":"SP-3"}]
[{"$f":"IF(OFFSET(DE103_5!$C$22,ROWS($C$22:C25)-1,COLUMNS($C$22:C25)-1)<>\"\",OFFSET(DE103_5!$C$22,ROWS($C$22:C25)-1,COLUMNS($C$22:C25)-1),\"\")","v":4},{"$f":"IF(OFFSET(DE103_5!$D$22,ROWS($D$22:D25)-1,COLUMNS($D$22:D25)-1)<>\"\",OFFSET(DE103_5!$D$22,ROWS($D$22:D25)-1,COLUMNS($D$22:D25)-1),\"\")","v":142540},{"$f":"IF(OFFSET(DE103_5!$E$22,ROWS($E$22:E25)-1,COLUMNS($E$22:E25)-1)<>\"\",OFFSET(DE103_5!$E$22,ROWS($E$22:E25)-1,COLUMNS($E$22:E25)-1),\"\")","v":"60' LT"},{"$f":"IF(OFFSET(DE103_5!$F$22,ROWS($F$22:F25)-1,COLUMNS($F$22:F25)-1)<>\"\",OFFSET(DE103_5!$F$22,ROWS($F$22:F25)-1,COLUMNS($F$22:F25)-1),\"\")","v":"SP-4, Stage 2"}]
[{"$f":"IF(OFFSET(DE103_5!$C$22,ROWS($C$22:C26)-1,COLUMNS($C$22:C26)-1)<>\"\",OFFSET(DE103_5!$C$22,ROWS($C$22:C26)-1,COLUMNS($C$22:C26)-1),\"\")","v":5},{"$f":"IF(OFFSET(DE103_5!$D$22,ROWS($D$22:D26)-1,COLUMNS($D$22:D26)-1)<>\"\",OFFSET(DE103_5!$D$22,ROWS($D$22:D26)-1,COLUMNS($D$22:D26)-1),\"\")","v":4147600},{"$f":"IF(OFFSET(DE103_5!$E$22,ROWS($E$22:E26)-1,COLUMNS($E$22:E26)-1)<>\"\",OFFSET(DE103_5!$E$22,ROWS($E$22:E26)-1,COLUMNS($E$22:E26)-1),\"\")","v":"10' RT"},{"$f":"IF(OFFSET(DE103_5!$F$22,ROWS($F$22:F26)-1,COLUMNS($F$22:F26)-1)<>\"\",OFFSET(DE103_5!$F$22,ROWS($F$22:F26)-1,COLUMNS($F$22:F26)-1),\"\")","v":"SP-5"}]
[{"$f":"IF(OFFSET(DE103_5!$C$22,ROWS($C$22:C27)-1,COLUMNS($C$22:C27)-1)<>\"\",OFFSET(DE103_5!$C$22,ROWS($C$22:C27)-1,COLUMNS($C$22:C27)-1),\"\")","v":6},{"$f":"IF(OFFSET(DE103_5!$D$22,ROWS($D$22:D27)-1,COLUMNS($D$22:D27)-1)<>\"\",OFFSET(DE103_5!$D$22,ROWS($D$22:D27)-1,COLUMNS($D$22:D27)-1),\"\")","v":4148200},{"$f":"IF(OFFSET(DE103_5!$E$22,ROWS($E$22:E27)-1,COLUMNS($E$22:E27)-1)<>\"\",OFFSET(DE103_5!$E$22,ROWS($E$22:E27)-1,COLUMNS($E$22:E27)-1),\"\")","v":"10' RT"},{"$f":"IF(OFFSET(DE103_5!$F$22,ROWS($F$22:F27)-1,COLUMNS($F$22:F27)-1)<>\"\",OFFSET(DE103_5!$F$22,ROWS($F$22:F27)-1,COLUMNS($F$22:F27)-1),\"\")","v":"SP-6"}]
[{"$f":"IF(OFFSET(DE103_5!$C$22,ROWS($C$22:C28)-1,COLUMNS($C$22:C28)-1)<>\"\",OFFSET(DE103_5!$C$22,ROWS($C$22:C28)-1,COLUMNS($C$22:C28)-1),\"\")","v":7},{"$f":"IF(OFFSET(DE103_5!$D$22,ROWS($D$22:D28)-1,COLUMNS($D$22:D28)-1)<>\"\",OFFSET(DE103_5!$D$22,ROWS($D$22:D28)-1,COLUMNS($D$22:D28)-1),\"\")","v":"241477+35"},{"$f":"IF(OFFSET(DE103_5!$E$22,ROWS($E$22:E28)-1,COLUMNS($E$22:E28)-1)<>\"\",OFFSET(DE103_5!$E$22,ROWS($E$22:E28)-1,COLUMNS($E$22:E28)-1),\"\")","v":"20' RT"},{"$f":"IF(OFFSET(DE103_5!$F$22,ROWS($F$22:F28)-1,COLUMNS($F$22:F28)-1)<>\"\",OFFSET(DE103_5!$F$22,ROWS($F$22:F28)-1,COLUMNS($F$22:F28)-1),\"\")","v":"SP-7"}]
[{"$f":"IF(OFFSET(DE103_5!$C$22,ROWS($C$22:C29)-1,COLUMNS($C$22:C29)-1)<>\"\",OFFSET(DE103_5!$C$22,ROWS($C$22:C29)-1,COLUMNS($C$22:C29)-1),\"\")","v":""},{"$f":"IF(OFFSET(DE103_5!$D$22,ROWS($D$22:D29)-1,COLUMNS($D$22:D29)-1)<>\"\",OFFSET(DE103_5!$D$22,ROWS($D$22:D29)-1,COLUMNS($D$22:D29)-1),\"\")","v":""},{"$f":"IF(OFFSET(DE103_5!$E$22,ROWS($E$22:E29)-1,COLUMNS($E$22:E29)-1)<>\"\",OFFSET(DE103_5!$E$22,ROWS($E$22:E29)-1,COLUMNS($E$22:E29)-1),\"\")","v":""},{"$f":"IF(OFFSET(DE103_5!$F$22,ROWS($F$22:F29)-1,COLUMNS($F$22:F29)-1)<>\"\",OFFSET(DE103_5!$F$22,ROWS($F$22:F29)-1,COLUMNS($F$22:F29)-1),\"\")","v":""}]
[{"$f":"IF(OFFSET(DE103_5!$C$22,ROWS($C$22:C30)-1,COLUMNS($C$22:C30)-1)<>\"\",OFFSET(DE103_5!$C$22,ROWS($C$22:C30)-1,COLUMNS($C$22:C30)-1),\"\")","v":""},{"$f":"IF(OFFSET(DE103_5!$D$22,ROWS($D$22:D30)-1,COLUMNS($D$22:D30)-1)<>\"\",OFFSET(DE103_5!$D$22,ROWS($D$22:D30)-1,COLUMNS($D$22:D30)-1),\"\")","v":""},{"$f":"IF(OFFSET(DE103_5!$E$22,ROWS($E$22:E30)-1,COLUMNS($E$22:E30)-1)<>\"\",OFFSET(DE103_5!$E$22,ROWS($E$22:E30)-1,COLUMNS($E$22:E30)-1),\"\")","v":""},{"$f":"IF(OFFSET(DE103_5!$F$22,ROWS($F$22:F30)-1,COLUMNS($F$22:F30)-1)<>\"\",OFFSET(DE103_5!$F$22,ROWS($F$22:F30)-1,COLUMNS($F$22:F30)-1),\"\")","v":""}]
[{"$f":"IF(OFFSET(DE103_5!$C$22,ROWS($C$22:C31)-1,COLUMNS($C$22:C31)-1)<>\"\",OFFSET(DE103_5!$C$22,ROWS($C$22:C31)-1,COLUMNS($C$22:C31)-1),\"\")","v":""},{"$f":"IF(OFFSET(DE103_5!$D$22,ROWS($D$22:D31)-1,COLUMNS($D$22:D31)-1)<>\"\",OFFSET(DE103_5!$D$22,ROWS($D$22:D31)-1,COLUMNS($D$22:D31)-1),\"\")","v":""},{"$f":"IF(OFFSET(DE103_5!$E$22,ROWS($E$22:E31)-1,COLUMNS($E$22:E31)-1)<>\"\",OFFSET(DE103_5!$E$22,ROWS($E$22:E31)-1,COLUMNS($E$22:E31)-1),\"\")","v":""},{"$f":"IF(OFFSET(DE103_5!$F$22,ROWS($F$22:F31)-1,COLUMNS($F$22:F31)-1)<>\"\",OFFSET(DE103_5!$F$22,ROWS($F$22:F31)-1,COLUMNS($F$22:F31)-1),\"\")","v":""}]
[{"$f":"IF(OFFSET(DE103_5!$C$22,ROWS($C$22:C32)-1,COLUMNS($C$22:C32)-1)<>\"\",OFFSET(DE103_5!$C$22,ROWS($C$22:C32)-1,COLUMNS($C$22:C32)-1),\"\")","v":""},{"$f":"IF(OFFSET(DE103_5!$D$22,ROWS($D$22:D32)-1,COLUMNS($D$22:D32)-1)<>\"\",OFFSET(DE103_5!$D$22,ROWS($D$22:D32)-1,COLUMNS($D$22:D32)-1),\"\")","v":""},{"$f":"IF(OFFSET(DE103_5!$E$22,ROWS($E$22:E32)-1,COLUMNS($E$22:E32)-1)<>\"\",OFFSET(DE103_5!$E$22,ROWS($E$22:E32)-1,COLUMNS($E$22:E32)-1),\"\")","v":""},{"$f":"IF(OFFSET(DE103_5!$F$22,ROWS($F$22:F32)-1,COLUMNS($F$22:F32)-1)<>\"\",OFFSET(DE103_5!$F$22,ROWS($F$22:F32)-1,COLUMNS($F$22:F32)-1),\"\")","v":""}]
[{"$f":"IF(OFFSET(DE103_5!$C$22,ROWS($C$22:C33)-1,COLUMNS($C$22:C33)-1)<>\"\",OFFSET(DE103_5!$C$22,ROWS($C$22:C33)-1,COLUMNS($C$22:C33)-1),\"\")","v":""},{"$f":"IF(OFFSET(DE103_5!$D$22,ROWS($D$22:D33)-1,COLUMNS($D$22:D33)-1)<>\"\",OFFSET(DE103_5!$D$22,ROWS($D$22:D33)-1,COLUMNS($D$22:D33)-1),\"\")","v":""},{"$f":"IF(OFFSET(DE103_5!$E$22,ROWS($E$22:E33)-1,COLUMNS($E$22:E33)-1)<>\"\",OFFSET(DE103_5!$E$22,ROWS($E$22:E33)-1,COLUMNS($E$22:E33)-1),\"\")","v":""},{"$f":"IF(OFFSET(DE103_5!$F$22,ROWS($F$22:F33)-1,COLUMNS($F$22:F33)-1)<>\"\",OFFSET(DE103_5!$F$22,ROWS($F$22:F33)-1,COLUMNS($F$22:F33)-1),\"\")","v":""}]
[{"$f":"IF(OFFSET(DE103_5!$C$22,ROWS($C$22:C34)-1,COLUMNS($C$22:C34)-1)<>\"\",OFFSET(DE103_5!$C$22,ROWS($C$22:C34)-1,COLUMNS($C$22:C34)-1),\"\")","v":""},{"$f":"IF(OFFSET(DE103_5!$D$22,ROWS($D$22:D34)-1,COLUMNS($D$22:D34)-1)<>\"\",OFFSET(DE103_5!$D$22,ROWS($D$22:D34)-1,COLUMNS($D$22:D34)-1),\"\")","v":""},{"$f":"IF(OFFSET(DE103_5!$E$22,ROWS($E$22:E34)-1,COLUMNS($E$22:E34)-1)<>\"\",OFFSET(DE103_5!$E$22,ROWS($E$22:E34)-1,COLUMNS($E$22:E34)-1),\"\")","v":""},{"$f":"IF(OFFSET(DE103_5!$F$22,ROWS($F$22:F34)-1,COLUMNS($F$22:F34)-1)<>\"\",OFFSET(DE103_5!$F$22,ROWS($F$22:F34)-1,COLUMNS($F$22:F34)-1),\"\")","v":""}]
[{"$f":"IF(OFFSET(DE103_5!$C$22,ROWS($C$22:C35)-1,COLUMNS($C$22:C35)-1)<>\"\",OFFSET(DE103_5!$C$22,ROWS($C$22:C35)-1,COLUMNS($C$22:C35)-1),\"\")","v":""},{"$f":"IF(OFFSET(DE103_5!$D$22,ROWS($D$22:D35)-1,COLUMNS($D$22:D35)-1)<>\"\",OFFSET(DE103_5!$D$22,ROWS($D$22:D35)-1,COLUMNS($D$22:D35)-1),\"\")","v":""},{"$f":"IF(OFFSET(DE103_5!$E$22,ROWS($E$22:E35)-1,COLUMNS($E$22:E35)-1)<>\"\",OFFSET(DE103_5!$E$22,ROWS($E$22:E35)-1,COLUMNS($E$22:E35)-1),\"\")","v":""},{"$f":"IF(OFFSET(DE103_5!$F$22,ROWS($F$22:F35)-1,COLUMNS($F$22:F35)-1)<>\"\",OFFSET(DE103_5!$F$22,ROWS($F$22:F35)-1,COLUMNS($F$22:F35)-1),\"\")","v":""}]
[{"$f":"IF(OFFSET(DE103_5!$C$22,ROWS($C$22:C36)-1,COLUMNS($C$22:C36)-1)<>\"\",OFFSET(DE103_5!$C$22,ROWS($C$22:C36)-1,COLUMNS($C$22:C36)-1),\"\")","v":""},{"$f":"IF(OFFSET(DE103_5!$D$22,ROWS($D$22:D36)-1,COLUMNS($D$22:D36)-1)<>\"\",OFFSET(DE103_5!$D$22,ROWS($D$22:D36)-1,COLUMNS($D$22:D36)-1),\"\")","v":""},{"$f":"IF(OFFSET(DE103_5!$E$22,ROWS($E$22:E36)-1,COLUMNS($E$22:E36)-1)<>\"\",OFFSET(DE103_5!$E$22,ROWS($E$22:E36)-1,COLUMNS($E$22:E36)-1),\"\")","v":""},{"$f":"IF(OFFSET(DE103_5!$F$22,ROWS($F$22:F36)-1,COLUMNS($F$22:F36)-1)<>\"\",OFFSET(DE103_5!$F$22,ROWS($F$22:F36)-1,COLUMNS($F$22:F36)-1),\"\")","v":""}]
[{"$f":"IF(OFFSET(DE103_5!$C$22,ROWS($C$22:C37)-1,COLUMNS($C$22:C37)-1)<>\"\",OFFSET(DE103_5!$C$22,ROWS($C$22:C37)-1,COLUMNS($C$22:C37)-1),\"\")","v":""},{"$f":"IF(OFFSET(DE103_5!$D$22,ROWS($D$22:D37)-1,COLUMNS($D$22:D37)-1)<>\"\",OFFSET(DE103_5!$D$22,ROWS($D$22:D37)-1,COLUMNS($D$22:D37)-1),\"\")","v":""},{"$f":"IF(OFFSET(DE103_5!$E$22,ROWS($E$22:E37)-1,COLUMNS($E$22:E37)-1)<>\"\",OFFSET(DE103_5!$E$22,ROWS($E$22:E37)-1,COLUMNS($E$22:E37)-1),\"\")","v":""},{"$f":"IF(OFFSET(DE103_5!$F$22,ROWS($F$22:F37)-1,COLUMNS($F$22:F37)-1)<>\"\",OFFSET(DE103_5!$F$22,ROWS($F$22:F37)-1,COLUMNS($F$22:F37)-1),\"\")","v":""}]

{"sheet":"103_7","index":14,"n_rows":15,"n_cols":3,"rows_kept":15,"cut":false,"hidden":false,"merged":[[0,0,0,2],[1,0,1,2],[2,0,3,2],[4,0,5,0],[4,1,5,1],[4,2,5,2]]}
["103-7"]
["2008-08-01"]
["SHRINKAGE DATA"]
[]
["Material","%","Remarks"]
[]
[{"$f":"IF(OFFSET(DE103_7!$C$20,ROWS($C$20:C20)-1,COLUMNS($C$20:C20)-1)<>\"\",OFFSET(DE103_7!$C$20,ROWS($C$20:C20)-1,COLUMNS($C$20:C20)-1),\"\")","v":"Entire Project"},{"$f":"IF(OFFSET(DE103_7!$D$20,ROWS($D$20:D20)-1,COLUMNS($D$20:D20)-1)<>\"\",OFFSET(DE103_7!$D$20,ROWS($D$20:D20)-1,COLUMNS($D$20:D20)-1),\"\")","v":0.3},{"$f":"IF(OFFSET(DE103_7!$E$20,ROWS($E$20:E20)-1,COLUMNS($E$20:E20)-1)<>\"\",OFFSET(DE103_7!$E$20,ROWS($E$20:E20)-1,COLUMNS($E$20:E20)-1),\"\")","v":""}]
[{"$f":"IF(OFFSET(DE103_7!$C$20,ROWS($C$20:C21)-1,COLUMNS($C$20:C21)-1)<>\"\",OFFSET(DE103_7!$C$20,ROWS($C$20:C21)-1,COLUMNS($C$20:C21)-1),\"\")","v":"Topsoil"},{"$f":"IF(OFFSET(DE103_7!$D$20,ROWS($D$20:D21)-1,COLUMNS($D$20:D21)-1)<>\"\",OFFSET(DE103_7!$D$20,ROWS($D$20:D21)-1,COLUMNS($D$20:D21)-1),\"\")","v":0.4},{"$f":"IF(OFFSET(DE103_7!$E$20,ROWS($E$20:E21)-1,COLUMNS($E$20:E21)-1)<>\"\",OFFSET(DE103_7!$E$20,ROWS($E$20:E21)-1,COLUMNS($E$20:E21)-1),\"\")","v":""}]
[{"$f":"IF(OFFSET(DE103_7!$C$20,ROWS($C$20:C22)-1,COLUMNS($C$20:C22)-1)<>\"\",OFFSET(DE103_7!$C$20,ROWS($C$20:C22)-1,COLUMNS($C$20:C22)-1),\"\")","v":""},{"$f":"IF(OFFSET(DE103_7!$D$20,ROWS($D$20:D22)-1,COLUMNS($D$20:D22)-1)<>\"\",OFFSET(DE103_7!$D$20,ROWS($D$20:D22)-1,COLUMNS($D$20:D22)-1),\"\")","v":""},{"$f":"IF(OFFSET(DE103_7!$E$20,ROWS($E$20:E22)-1,COLUMNS($E$20:E22)-1)<>\"\",OFFSET(DE103_7!$E$20,ROWS($E$20:E22)-1,COLUMNS($E$20:E22)-1),\"\")","v":""}]
[{"$f":"IF(OFFSET(DE103_7!$C$20,ROWS($C$20:C23)-1,COLUMNS($C$20:C23)-1)<>\"\",OFFSET(DE103_7!$C$20,ROWS($C$20:C23)-1,COLUMNS($C$20:C23)-1),\"\")","v":"Boulder Estimate"},{"$f":"IF(OFFSET(DE103_7!$D$20,ROWS($D$20:D23)-1,COLUMNS($D$20:D23)-1)<>\"\",OFFSET(DE103_7!$D$20,ROWS($D$20:D23)-1,COLUMNS($D$20:D23)-1),\"\")","v":""},{"$f":"IF(OFFSET(DE103_7!$E$20,ROWS($E$20:E23)-1,COLUMNS($E$20:E23)-1)<>\"\",OFFSET(DE103_7!$E$20,ROWS($E$20:E23)-1,COLUMNS($E$20:E23)-1),\"\")","v":"100 CY"}]
[{"$f":"IF(OFFSET(DE103_7!$C$20,ROWS($C$20:C24)-1,COLUMNS($C$20:C24)-1)<>\"\",OFFSET(DE103_7!$C$20,ROWS($C$20:C24)-1,COLUMNS($C$20:C24)-1),\"\")","v":""},{"$f":"IF(OFFSET(DE103_7!$D$20,ROWS($D$20:D24)-1,COLUMNS($D$20:D24)-1)<>\"\",OFFSET(DE103_7!$D$20,ROWS($D$20:D24)-1,COLUMNS($D$20:D24)-1),\"\")","v":""},{"$f":"IF(OFFSET(DE103_7!$E$20,ROWS($E$20:E24)-1,COLUMNS($E$20:E24)-1)<>\"\",OFFSET(DE103_7!$E$20,ROWS($E$20:E24)-1,COLUMNS($E$20:E24)-1),\"\")","v":""}]
[{"$f":"IF(OFFSET(DE103_7!$C$20,ROWS($C$20:C25)-1,COLUMNS($C$20:C25)-1)<>\"\",OFFSET(DE103_7!$C$20,ROWS($C$20:C25)-1,COLUMNS($C$20:C25)-1),\"\")","v":""},{"$f":"IF(OFFSET(DE103_7!$D$20,ROWS($D$20:D25)-1,COLUMNS($D$20:D25)-1)<>\"\",OFFSET(DE103_7!$D$20,ROWS($D$20:D25)-1,COLUMNS($D$20:D25)-1),\"\")","v":""},{"$f":"IF(OFFSET(DE103_7!$E$20,ROWS($E$20:E25)-1,COLUMNS($E$20:E25)-1)<>\"\",OFFSET(DE103_7!$E$20,ROWS($E$20:E25)-1,COLUMNS($E$20:E25)-1),\"\")","v":""}]
[{"$f":"IF(OFFSET(DE103_7!$C$20,ROWS($C$20:C26)-1,COLUMNS($C$20:C26)-1)<>\"\",OFFSET(DE103_7!$C$20,ROWS($C$20:C26)-1,COLUMNS($C$20:C26)-1),\"\")","v":""},{"$f":"IF(OFFSET(DE103_7!$D$20,ROWS($D$20:D26)-1,COLUMNS($D$20:D26)-1)<>\"\",OFFSET(DE103_7!$D$20,ROWS($D$20:D26)-1,COLUMNS($D$20:D26)-1),\"\")","v":""},{"$f":"IF(OFFSET(DE103_7!$E$20,ROWS($E$20:E26)-1,COLUMNS($E$20:E26)-1)<>\"\",OFFSET(DE103_7!$E$20,ROWS($E$20:E26)-1,COLUMNS($E$20:E26)-1),\"\")","v":""}]
[{"$f":"IF(OFFSET(DE103_7!$C$20,ROWS($C$20:C27)-1,COLUMNS($C$20:C27)-1)<>\"\",OFFSET(DE103_7!$C$20,ROWS($C$20:C27)-1,COLUMNS($C$20:C27)-1),\"\")","v":""},{"$f":"IF(OFFSET(DE103_7!$D$20,ROWS($D$20:D27)-1,COLUMNS($D$20:D27)-1)<>\"\",OFFSET(DE103_7!$D$20,ROWS($D$20:D27)-1,COLUMNS($D$20:D27)-1),\"\")","v":""},{"$f":"IF(OFFSET(DE103_7!$E$20,ROWS($E$20:E27)-1,COLUMNS($E$20:E27)-1)<>\"\",OFFSET(DE103_7!$E$20,ROWS($E$20:E27)-1,COLUMNS($E$20:E27)-1),\"\")","v":""}]
[{"$f":"IF(OFFSET(DE103_7!$C$20,ROWS($C$20:C28)-1,COLUMNS($C$20:C28)-1)<>\"\",OFFSET(DE103_7!$C$20,ROWS($C$20:C28)-1,COLUMNS($C$20:C28)-1),\"\")","v":""},{"$f":"IF(OFFSET(DE103_7!$D$20,ROWS($D$20:D28)-1,COLUMNS($D$20:D28)-1)<>\"\",OFFSET(DE103_7!$D$20,ROWS($D$20:D28)-1,COLUMNS($D$20:D28)-1),\"\")","v":""},{"$f":"IF(OFFSET(DE103_7!$E$20,ROWS($E$20:E28)-1,COLUMNS($E$20:E28)-1)<>\"\",OFFSET(DE103_7!$E$20,ROWS($E$20:E28)-1,COLUMNS($E$20:E28)-1),\"\")","v":""}]

{"sheet":"103_10","index":15,"n_rows":20,"n_cols":7,"rows_kept":20,"cut":false,"hidden":false,"merged":[[5,3,7,3],[0,0,0,6],[1,0,1,6],[2,0,3,6],[4,0,4,3],[4,4,6,4],[4,5,6,5],[4,6,7,6],[5,0,7,0],[5,1,7,1],[5,2,7,2]]}
["103-10"]
["2017-04-18"]
["TOPSOIL STRIPPING AND PLACEMENT"]
[]
["Location",null,null,null,"Topsoil Stripping Thickness","Topsoil Placement Thickness","Remarks"]
["Road Identification","Dir. of Traffic","Begin Station","End Station"]
[]
[null,null,null,null,"IN","IN"]
[{"$f":"IF(OFFSET(DE103_10!$C$23,ROWS($C$23:C23)-1,COLUMNS($C$23:C23)-1)<>\"\",OFFSET(DE103_10!$C$23,ROWS($C$23:C23)-1,COLUMNS($C$23:C23)-1),\"\")","v":"US 30 Eastbound"},{"$f":"IF(OFFSET(DE103_10!$D$23,ROWS($D$23:D23)-1,COLUMNS($D$23:D23)-1)<>\"\",OFFSET(DE103_10!$D$23,ROWS($D$23:D23)-1,COLUMNS($D$23:D23)-1),\"\")","v":"EB"},{"$f":"IF(OFFSET(DE103_10!$E$23,ROWS($E$23:E23)-1,COLUMNS($E$23:E23)-1)<>\"\",OFFSET(DE103_10!$E$23,ROWS($E$23:E23)-1,COLUMNS($E$23:E23)-1),\"\")","v":138000},{"$f":"IF(OFFSET(DE103_10!$F$23,ROWS($F$23:F23)-1,COLUMNS($F$23:F23)-1)<>\"\",OFFSET(DE103_10!$F$23,ROWS($F$23:F23)-1,COLUMNS($F$23:F23)-1),\"\")","v":151670},{"$f":"IF(OFFSET(DE103_10!$G$23,ROWS($G$23:G23)-1,COLUMNS($G$23:G23)-1)<>\"\",OFFSET(DE103_10!$G$23,ROWS($G$23:G23)-1,COLUMNS($G$23:G23)-1),\"\")","v":9},{"$f":"IF(OFFSET(DE103_10!$I$23,ROWS($I$23:I23)-1,COLUMNS($I$23:I23)-1)<>\"\",OFFSET(DE103_10!$I$23,ROWS($I$23:I23)-1,COLUMNS($I$23:I23)-1),\"\")","v":8},{"$f":"IF(OFFSET(DE103_10!$K$23,ROWS($K$23:K23)-1,COLUMNS($K$23:K23)-1)<>\"\",OFFSET(DE103_10!$K$23,ROWS($K$23:K23)-1,COLUMNS($K$23:K23)-1),\"\")","v":""}]
[{"$f":"IF(OFFSET(DE103_10!$C$23,ROWS($C$23:C24)-1,COLUMNS($C$23:C24)-1)<>\"\",OFFSET(DE103_10!$C$23,ROWS($C$23:C24)-1,COLUMNS($C$23:C24)-1),\"\")","v":"US 30 Westbound"},{"$f":"IF(OFFSET(DE103_10!$D$23,ROWS($D$23:D24)-1,COLUMNS($D$23:D24)-1)<>\"\",OFFSET(DE103_10!$D$23,ROWS($D$23:D24)-1,COLUMNS($D$23:D24)-1),\"\")","v":"WB"},{"$f":"IF(OFFSET(DE103_10!$E$23,ROWS($E$23:E24)-1,COLUMNS($E$23:E24)-1)<>\"\",OFFSET(DE103_10!$E$23,ROWS($E$23:E24)-1,COLUMNS($E$23:E24)-1),\"\")","v":138900},{"$f":"IF(OFFSET(DE103_10!$F$23,ROWS($F$23:F24)-1,COLUMNS($F$23:F24)-1)<>\"\",OFFSET(DE103_10!$F$23,ROWS($F$23:F24)-1,COLUMNS($F$23:F24)-1),\"\")","v":151670},{"$f":"IF(OFFSET(DE103_10!$G$23,ROWS($G$23:G24)-1,COLUMNS($G$23:G24)-1)<>\"\",OFFSET(DE103_10!$G$23,ROWS($G$23:G24)-1,COLUMNS($G$23:G24)-1),\"\")","v":9},{"$f":"IF(OFFSET(DE103_10!$I$23,ROWS($I$23:I24)-1,COLUMNS($I$23:I24)-1)<>\"\",OFFSET(DE103_10!$I$23,ROWS($I$23:I24)-1,COLUMNS($I$23:I24)-1),\"\")","v":8},{"$f":"IF(OFFSET(DE103_10!$K$23,ROWS($K$23:K24)-1,COLUMNS($K$23:K24)-1)<>\"\",OFFSET(DE103_10!$K$23,ROWS($K$23:K24)-1,COLUMNS($K$23:K24)-1),\"\")","v":""}]
[{"$f":"IF(OFFSET(DE103_10!$C$23,ROWS($C$23:C25)-1,COLUMNS($C$23:C25)-1)<>\"\",OFFSET(DE103_10!$C$23,ROWS($C$23:C25)-1,COLUMNS($C$23:C25)-1),\"\")","v":"US 218 / 24th Ave."},{"$f":"IF(OFFSET(DE103_10!$D$23,ROWS($D$23:D25)-1,COLUMNS($D$23:D25)-1)<>\"\",OFFSET(DE103_10!$D$23,ROWS($D$23:D25)-1,COLUMNS($D$23:D25)-1),\"\")","v":""},{"$f":"IF(OFFSET(DE103_10!$E$23,ROWS($E$23:E25)-1,COLUMNS($E$23:E25)-1)<>\"\",OFFSET(DE103_10!$E$23,ROWS($E$23:E25)-1,COLUMNS($E$23:E25)-1),\"\")","v":24145005},{"$f":"IF(OFFSET(DE103_10!$F$23,ROWS($F$23:F25)-1,COLUMNS($F$23:F25)-1)<>\"\",OFFSET(DE103_10!$F$23,ROWS($F$23:F25)-1,COLUMNS($F$23:F25)-1),\"\")","v":24150300},{"$f":"IF(OFFSET(DE103_10!$G$23,ROWS($G$23:G25)-1,COLUMNS($G$23:G25)-1)<>\"\",OFFSET(DE103_10!$G$23,ROWS($G$23:G25)-1,COLUMNS($G$23:G25)-1),\"\")","v":12},{"$f":"IF(OFFSET(DE103_10!$I$23,ROWS($I$23:I25)-1,COLUMNS($I$23:I25)-1)<>\"\",OFFSET(DE103_10!$I$23,ROWS($I$23:I25)-1,COLUMNS($I$23:I25)-1),\"\")","v":8},{"$f":"IF(OFFSET(DE103_10!$K$23,ROWS($K$23:K25)-1,COLUMNS($K$23:K25)-1)<>\"\",OFFSET(DE103_10!$K$23,ROWS($K$23:K25)-1,COLUMNS($K$23:K25)-1),\"\")","v":""}]
[{"$f":"IF(OFFSET(DE103_10!$C$23,ROWS($C$23:C26)-1,COLUMNS($C$23:C26)-1)<>\"\",OFFSET(DE103_10!$C$23,ROWS($C$23:C26)-1,COLUMNS($C$23:C26)-1),\"\")","v":"Loop A"},{"$f":"IF(OFFSET(DE103_10!$D$23,ROWS($D$23:D26)-1,COLUMNS($D$23:D26)-1)<>\"\",OFFSET(DE103_10!$D$23,ROWS($D$23:D26)-1,COLUMNS($D$23:D26)-1),\"\")","v":""},{"$f":"IF(OFFSET(DE103_10!$E$23,ROWS($E$23:E26)-1,COLUMNS($E$23:E26)-1)<>\"\",OFFSET(DE103_10!$E$23,ROWS($E$23:E26)-1,COLUMNS($E$23:E26)-1),\"\")","v":1147915},{"$f":"IF(OFFSET(DE103_10!$F$23,ROWS($F$23:F26)-1,COLUMNS($F$23:F26)-1)<>\"\",OFFSET(DE103_10!$F$23,ROWS($F$23:F26)-1,COLUMNS($F$23:F26)-1),\"\")","v":1148664.72},{"$f":"IF(OFFSET(DE103_10!$G$23,ROWS($G$23:G26)-1,COLUMNS($G$23:G26)-1)<>\"\",OFFSET(DE103_10!$G$23,ROWS($G$23:G26)-1,COLUMNS($G$23:G26)-1),\"\")","v":12},{"$f":"IF(OFFSET(DE103_10!$I$23,ROWS($I$23:I26)-1,COLUMNS($I$23:I26)-1)<>\"\",OFFSET(DE103_10!$I$23,ROWS($I$23:I26)-1,COLUMNS($I$23:I26)-1),\"\")","v":8},{"$f":"IF(OFFSET(DE103_10!$K$23,ROWS($K$23:K26)-1,COLUMNS($K$23:K26)-1)<>\"\",OFFSET(DE103_10!$K$23,ROWS($K$23:K26)-1,COLUMNS($K$23:K26)-1),\"\")","v":""}]
[{"$f":"IF(OFFSET(DE103_10!$C$23,ROWS($C$23:C27)-1,COLUMNS($C$23:C27)-1)<>\"\",OFFSET(DE103_10!$C$23,ROWS($C$23:C27)-1,COLUMNS($C$23:C27)-1),\"\")","v":"Loop B"},{"$f":"IF(OFFSET(DE103_10!$D$23,ROWS($D$23:D27)-1,COLUMNS($D$23:D27)-1)<>\"\",OFFSET(DE103_10!$D$23,ROWS($D$23:D27)-1,COLUMNS($D$23:D27)-1),\"\")","v":""},{"$f":"IF(OFFSET(DE103_10!$E$23,ROWS($E$23:E27)-1,COLUMNS($E$23:E27)-1)<>\"\",OFFSET(DE103_10!$E$23,ROWS($E$23:E27)-1,COLUMNS($E$23:E27)-1),\"\")","v":2147225},{"$f":"IF(OFFSET(DE103_10!$F$23,ROWS($F$23:F27)-1,COLUMNS($F$23:F27)-1)<>\"\",OFFSET(DE103_10!$F$23,ROWS($F$23:F27)-1,COLUMNS($F$23:F27)-1),\"\")","v":2147975.06},{"$f":"IF(OFFSET(DE103_10!$G$23,ROWS($G$23:G27)-1,COLUMNS($G$23:G27)-1)<>\"\",OFFSET(DE103_10!$G$23,ROWS($G$23:G27)-1,COLUMNS($G$23:G27)-1),\"\")","v":12},{"$f":"IF(OFFSET(DE103_10!$I$23,ROWS($I$23:I27)-1,COLUMNS($I$23:I27)-1)<>\"\",OFFSET(DE103_10!$I$23,ROWS($I$23:I27)-1,COLUMNS($I$23:I27)-1),\"\")","v":8},{"$f":"IF(OFFSET(DE103_10!$K$23,ROWS($K$23:K27)-1,COLUMNS($K$23:K27)-1)<>\"\",OFFSET(DE103_10!$K$23,ROWS($K$23:K27)-1,COLUMNS($K$23:K27)-1),\"\")","v":""}]
[{"$f":"IF(OFFSET(DE103_10!$C$23,ROWS($C$23:C28)-1,COLUMNS($C$23:C28)-1)<>\"\",OFFSET(DE103_10!$C$23,ROWS($C$23:C28)-1,COLUMNS($C$23:C28)-1),\"\")","v":"Ramp C"},{"$f":"IF(OFFSET(DE103_10!$D$23,ROWS($D$23:D28)-1,COLUMNS($D$23:D28)-1)<>\"\",OFFSET(DE103_10!$D$23,ROWS($D$23:D28)-1,COLUMNS($D$23:D28)-1),\"\")","v":""},{"$f":"IF(OFFSET(DE103_10!$E$23,ROWS($E$23:E28)-1,COLUMNS($E$23:E28)-1)<>\"\",OFFSET(DE103_10!$E$23,ROWS($E$23:E28)-1,COLUMNS($E$23:E28)-1),\"\")","v":3144041.75},{"$f":"IF(OFFSET(DE103_10!$F$23,ROWS($F$23:F28)-1,COLUMNS($F$23:F28)-1)<>\"\",OFFSET(DE103_10!$F$23,ROWS($F$23:F28)-1,COLUMNS($F$23:F28)-1),\"\")","v":3145646.34},{"$f":"IF(OFFSET(DE103_10!$G$23,ROWS($G$23:G28)-1,COLUMNS($G$23:G28)-1)<>\"\",OFFSET(DE103_10!$G$23,ROWS($G$23:G28)-1,COLUMNS($G$23:G28)-1),\"\")","v":12},{"$f":"IF(OFFSET(DE103_10!$I$23,ROWS($I$23:I28)-1,COLUMNS($I$23:I28)-1)<>\"\",OFFSET(DE103_10!$I$23,ROWS($I$23:I28)-1,COLUMNS($I$23:I28)-1),\"\")","v":8},{"$f":"IF(OFFSET(DE103_10!$K$23,ROWS($K$23:K28)-1,COLUMNS($K$23:K28)-1)<>\"\",OFFSET(DE103_10!$K$23,ROWS($K$23:K28)-1,COLUMNS($K$23:K28)-1),\"\")","v":""}]
[{"$f":"IF(OFFSET(DE103_10!$C$23,ROWS($C$23:C29)-1,COLUMNS($C$23:C29)-1)<>\"\",OFFSET(DE103_10!$C$23,ROWS($C$23:C29)-1,COLUMNS($C$23:C29)-1),\"\")","v":"Ramp D"},{"$f":"IF(OFFSET(DE103_10!$D$23,ROWS($D$23:D29)-1,COLUMNS($D$23:D29)-1)<>\"\",OFFSET(DE103_10!$D$23,ROWS($D$23:D29)-1,COLUMNS($D$23:D29)-1),\"\")","v":""},{"$f":"IF(OFFSET(DE103_10!$E$23,ROWS($E$23:E29)-1,COLUMNS($E$23:E29)-1)<>\"\",OFFSET(DE103_10!$E$23,ROWS($E$23:E29)-1,COLUMNS($E$23:E29)-1),\"\")","v":4147426.45},{"$f":"IF(OFFSET(DE103_10!$F$23,ROWS($F$23:F29)-1,COLUMNS($F$23:F29)-1)<>\"\",OFFSET(DE103_10!$F$23,ROWS($F$23:F29)-1,COLUMNS($F$23:F29)-1),\"\")","v":4148996.32},{"$f":"IF(OFFSET(DE103_10!$G$23,ROWS($G$23:G29)-1,COLUMNS($G$23:G29)-1)<>\"\",OFFSET(DE103_10!$G$23,ROWS($G$23:G29)-1,COLUMNS($G$23:G29)-1),\"\")","v":12},{"$f":"IF(OFFSET(DE103_10!$I$23,ROWS($I$23:I29)-1,COLUMNS($I$23:I29)-1)<>\"\",OFFSET(DE103_10!$I$23,ROWS($I$23:I29)-1,COLUMNS($I$23:I29)-1),\"\")","v":8},{"$f":"IF(OFFSET(DE103_10!$K$23,ROWS($K$23:K29)-1,COLUMNS($K$23:K29)-1)<>\"\",OFFSET(DE103_10!$K$23,ROWS($K$23:K29)-1,COLUMNS($K$23:K29)-1),\"\")","v":""}]
[{"$f":"IF(OFFSET(DE103_10!$C$23,ROWS($C$23:C30)-1,COLUMNS($C$23:C30)-1)<>\"\",OFFSET(DE103_10!$C$23,ROWS($C$23:C30)-1,COLUMNS($C$23:C30)-1),\"\")","v":"23rd Ave."},{"$f":"IF(OFFSET(DE103_10!$D$23,ROWS($D$23:D30)-1,COLUMNS($D$23:D30)-1)<>\"\",OFFSET(DE103_10!$D$23,ROWS($D$23:D30)-1,COLUMNS($D$23:D30)-1),\"\")","v":""},{"$f":"IF(OFFSET(DE103_10!$E$23,ROWS($E$23:E30)-1,COLUMNS($E$23:E30)-1)<>\"\",OFFSET(DE103_10!$E$23,ROWS($E$23:E30)-1,COLUMNS($E$23:E30)-1),\"\")","v":23141675},{"$f":"IF(OFFSET(DE103_10!$F$23,ROWS($F$23:F30)-1,COLUMNS($F$23:F30)-1)<>\"\",OFFSET(DE103_10!$F$23,ROWS($F$23:F30)-1,COLUMNS($F$23:F30)-1),\"\")","v":23142700},{"$f":"IF(OFFSET(DE103_10!$G$23,ROWS($G$23:G30)-1,COLUMNS($G$23:G30)-1)<>\"\",OFFSET(DE103_10!$G$23,ROWS($G$23:G30)-1,COLUMNS($G$23:G30)-1),\"\")","v":6},{"$f":"IF(OFFSET(DE103_10!$I$23,ROWS($I$23:I30)-1,COLUMNS($I$23:I30)-1)<>\"\",OFFSET(DE103_10!$I$23,ROWS($I$23:I30)-1,COLUMNS($I$23:I30)-1),\"\")","v":8},{"$f":"IF(OFFSET(DE103_10!$K$23,ROWS($K$23:K30)-1,COLUMNS($K$23:K30)-1)<>\"\",OFFSET(DE103_10!$K$23,ROWS($K$23:K30)-1,COLUMNS($K$23:K30)-1),\"\")","v":""}]
[{"$f":"IF(OFFSET(DE103_10!$C$23,ROWS($C$23:C31)-1,COLUMNS($C$23:C31)-1)<>\"\",OFFSET(DE103_10!$C$23,ROWS($C$23:C31)-1,COLUMNS($C$23:C31)-1),\"\")","v":"Youngville Café Access"},{"$f":"IF(OFFSET(DE103_10!$D$23,ROWS($D$23:D31)-1,COLUMNS($D$23:D31)-1)<>\"\",OFFSET(DE103_10!$D$23,ROWS($D$23:D31)-1,COLUMNS($D$23:D31)-1),\"\")","v":""},{"$f":"IF(OFFSET(DE103_10!$E$23,ROWS($E$23:E31)-1,COLUMNS($E$23:E31)-1)<>\"\",OFFSET(DE103_10!$E$23,ROWS($E$23:E31)-1,COLUMNS($E$23:E31)-1),\"\")","v":0},{"$f":"IF(OFFSET(DE103_10!$F$23,ROWS($F$23:F31)-1,COLUMNS($F$23:F31)-1)<>\"\",OFFSET(DE103_10!$F$23,ROWS($F$23:F31)-1,COLUMNS($F$23:F31)-1),\"\")","v":1275},{"$f":"IF(OFFSET(DE103_10!$G$23,ROWS($G$23:G31)-1,COLUMNS($G$23:G31)-1)<>\"\",OFFSET(DE103_10!$G$23,ROWS($G$23:G31)-1,COLUMNS($G$23:G31)-1),\"\")","v":12},{"$f":"IF(OFFSET(DE103_10!$I$23,ROWS($I$23:I31)-1,COLUMNS($I$23:I31)-1)<>\"\",OFFSET(DE103_10!$I$23,ROWS($I$23:I31)-1,COLUMNS($I$23:I31)-1),\"\")","v":8},{"$f":"IF(OFFSET(DE103_10!$K$23,ROWS($K$23:K31)-1,COLUMNS($K$23:K31)-1)<>\"\",OFFSET(DE103_10!$K$23,ROWS($K$23:K31)-1,COLUMNS($K$23:K31)-1),\"\")","v":""}]
[{"$f":"IF(OFFSET(DE103_10!$C$23,ROWS($C$23:C32)-1,COLUMNS($C$23:C32)-1)<>\"\",OFFSET(DE103_10!$C$23,ROWS($C$23:C32)-1,COLUMNS($C$23:C32)-1),\"\")","v":""},{"$f":"IF(OFFSET(DE103_10!$D$23,ROWS($D$23:D32)-1,COLUMNS($D$23:D32)-1)<>\"\",OFFSET(DE103_10!$D$23,ROWS($D$23:D32)-1,COLUMNS($D$23:D32)-1),\"\")","v":""},{"$f":"IF(OFFSET(DE103_10!$E$23,ROWS($E$23:E32)-1,COLUMNS($E$23:E32)-1)<>\"\",OFFSET(DE103_10!$E$23,ROWS($E$23:E32)-1,COLUMNS($E$23:E32)-1),\"\")","v":""},{"$f":"IF(OFFSET(DE103_10!$F$23,ROWS($F$23:F32)-1,COLUMNS($F$23:F32)-1)<>\"\",OFFSET(DE103_10!$F$23,ROWS($F$23:F32)-1,COLUMNS($F$23:F32)-1),\"\")","v":""},{"$f":"IF(OFFSET(DE103_10!$G$23,ROWS($G$23:G32)-1,COLUMNS($G$23:G32)-1)<>\"\",OFFSET(DE103_10!$G$23,ROWS($G$23:G32)-1,COLUMNS($G$23:G32)-1),\"\")","v":""},{"$f":"IF(OFFSET(DE103_10!$I$23,ROWS($I$23:I32)-1,COLUMNS($I$23:I32)-1)<>\"\",OFFSET(DE103_10!$I$23,ROWS($I$23:I32)-1,COLUMNS($I$23:I32)-1),\"\")","v":""},{"$f":"IF(OFFSET(DE103_10!$K$23,ROWS($K$23:K32)-1,COLUMNS($K$23:K32)-1)<>\"\",OFFSET(DE103_10!$K$23,ROWS($K$23:K32)-1,COLUMNS($K$23:K32)-1),\"\")","v":""}]
[{"$f":"IF(OFFSET(DE103_10!$C$23,ROWS($C$23:C33)-1,COLUMNS($C$23:C33)-1)<>\"\",OFFSET(DE103_10!$C$23,ROWS($C$23:C33)-1,COLUMNS($C$23:C33)-1),\"\")","v":""},{"$f":"IF(OFFSET(DE103_10!$D$23,ROWS($D$23:D33)-1,COLUMNS($D$23:D33)-1)<>\"\",OFFSET(DE103_10!$D$23,ROWS($D$23:D33)-1,COLUMNS($D$23:D33)-1),\"\")","v":""},{"$f":"IF(OFFSET(DE103_10!$E$23,ROWS($E$23:E33)-1,COLUMNS($E$23:E33)-1)<>\"\",OFFSET(DE103_10!$E$23,ROWS($E$23:E33)-1,COLUMNS($E$23:E33)-1),\"\")","v":""},{"$f":"IF(OFFSET(DE103_10!$F$23,ROWS($F$23:F33)-1,COLUMNS($F$23:F33)-1)<>\"\",OFFSET(DE103_10!$F$23,ROWS($F$23:F33)-1,COLUMNS($F$23:F33)-1),\"\")","v":""},{"$f":"IF(OFFSET(DE103_10!$G$23,ROWS($G$23:G33)-1,COLUMNS($G$23:G33)-1)<>\"\",OFFSET(DE103_10!$G$23,ROWS($G$23:G33)-1,COLUMNS($G$23:G33)-1),\"\")","v":""},{"$f":"IF(OFFSET(DE103_10!$I$23,ROWS($I$23:I33)-1,COLUMNS($I$23:I33)-1)<>\"\",OFFSET(DE103_10!$I$23,ROWS($I$23:I33)-1,COLUMNS($I$23:I33)-1),\"\")","v":""},{"$f":"IF(OFFSET(DE103_10!$K$23,ROWS($K$23:K33)-1,COLUMNS($K$23:K33)-1)<>\"\",OFFSET(DE103_10!$K$23,ROWS($K$23:K33)-1,COLUMNS($K$23:K33)-1),\"\")","v":""}]
[{"$f":"IF(OFFSET(DE103_10!$C$23,ROWS($C$23:C34)-1,COLUMNS($C$23:C34)-1)<>\"\",OFFSET(DE103_10!$C$23,ROWS($C$23:C34)-1,COLUMNS($C$23:C34)-1),\"\")","v":""},{"$f":"IF(OFFSET(DE103_10!$D$23,ROWS($D$23:D34)-1,COLUMNS($D$23:D34)-1)<>\"\",OFFSET(DE103_10!$D$23,ROWS($D$23:D34)-1,COLUMNS($D$23:D34)-1),\"\")","v":""},{"$f":"IF(OFFSET(DE103_10!$E$23,ROWS($E$23:E34)-1,COLUMNS($E$23:E34)-1)<>\"\",OFFSET(DE103_10!$E$23,ROWS($E$23:E34)-1,COLUMNS($E$23:E34)-1),\"\")","v":""},{"$f":"IF(OFFSET(DE103_10!$F$23,ROWS($F$23:F34)-1,COLUMNS($F$23:F34)-1)<>\"\",OFFSET(DE103_10!$F$23,ROWS($F$23:F34)-1,COLUMNS($F$23:F34)-1),\"\")","v":""},{"$f":"IF(OFFSET(DE103_10!$G$23,ROWS($G$23:G34)-1,COLUMNS($G$23:G34)-1)<>\"\",OFFSET(DE103_10!$G$23,ROWS($G$23:G34)-1,COLUMNS($G$23:G34)-1),\"\")","v":""},{"$f":"IF(OFFSET(DE103_10!$I$23,ROWS($I$23:I34)-1,COLUMNS($I$23:I34)-1)<>\"\",OFFSET(DE103_10!$I$23,ROWS($I$23:I34)-1,COLUMNS($I$23:I34)-1),\"\")","v":""},{"$f":"IF(OFFSET(DE103_10!$K$23,ROWS($K$23:K34)-1,COLUMNS($K$23:K34)-1)<>\"\",OFFSET(DE103_10!$K$23,ROWS($K$23:K34)-1,COLUMNS($K$23:K34)-1),\"\")","v":""}]

{"sheet":"104_5C","index":16,"n_rows":35,"n_cols":20,"rows_kept":35,"cut":false,"hidden":false,"merged":[[27,0,27,12],[28,0,28,12],[29,0,29,12],[30,0,30,12],[26,0,26,13],[8,6,11,6],[8,7,11,7],[8,8,11,8],[8,9,11,9],[8,10,11,11],[6,19,12,19],[0,0,0,19],[1,0,1,19],[2,0,3,19],[4,0,4,19],[5,0,5,19],[6,0,7,3],[6,4,7,6],[6,7,7,8],[6,9,7,12],[6,13,10,14],[8,0,12,0],[8,1,12,2],[8,3,11,3],[8,4,12,4],[8,5,11,5],[8,12,11,12],[6,15,11,15],[6,16,10,16],[6,17,11,17],[6,18,11,18],[11,13,11,14]]}
["104-5C"]
["2017-10-17"]
["LIST OF SUBDRAIN WORK"]
[]
["Possible Standards: DR-121, DR-201, DR-203, DR-301, DR-302, DR-303, DR-305 and DR-306. Possible Detail: 500-10."]
["* Not a bid item"]
["Location",null,null,null,"Pipe",null,null,"Aprons",null,"Outlets",null,null,null,"Connected Pipe\nJoints*",null,"Trench\nDrain","Granular\nMaterial","Special\nBackfill*","Class \"A\"\nCrushed\nStone*","Remarks"]
[]
["No.","Station to Station",null,"Type of\nInstallation","Concrete, C.M.P., or Plastic","Dia.","Length","DR-201","DR-203","500-10","DR-305",null,"DR-306"]
[]
[]
[null,null,null,null,null,null,null,null,null,null,null,null,null,"DR-121",null,null,"Blanket"]
[null,null,null,"DR-301, DR-302, DR-303",null,"IN","LF","No.","No.","No.","Type","No.","No.","Type","No.","LF","CY","TONS","CY"]
[{"$f":"IF(OFFSET(DE104_5C!$C$27,ROWS($C$27:C27)-1,COLUMNS($C$27:C27)-1)<>\"\",OFFSET(DE104_5C!$C$27,ROWS($C$27:C27)-1,COLUMNS($C$27:C27)-1),\"\")","v":1},{"$f":"IF(OFFSET(DE104_5C!$D$27,ROWS($D$27:D27)-1,COLUMNS($D$27:D27)-1)<>\"\",OFFSET(DE104_5C!$D$27,ROWS($D$27:D27)-1,COLUMNS($D$27:D27)-1),\"\")","v":142300},{"$f":"IF(OFFSET(DE104_5C!$E$27,ROWS($E$27:E27)-1,COLUMNS($E$27:E27)-1)<>\"\",OFFSET(DE104_5C!$E$27,ROWS($E$27:E27)-1,COLUMNS($E$27:E27)-1),\"\")","v":142550},{"$f":"IF(OFFSET(DE104_5C!$F$27,ROWS($F$27:F27)-1,COLUMNS($F$27:F27)-1)<>\"\",OFFSET(DE104_5C!$F$27,ROWS($F$27:F27)-1,COLUMNS($F$27:F27)-1),\"\")","v":""},{"$f":"IF(OFFSET(DE104_5C!$G$27,ROWS($G$27:G27)-1,COLUMNS($G$27:G27)-1)<>\"\",OFFSET(DE104_5C!$G$27,ROWS($G$27:G27)-1,COLUMNS($G$27:G27)-1),\"\")","v":""},{"$f":"IF(OFFSET(DE104_5C!$H$27,ROWS($H$27:H27)-1,COLUMNS($H$27:H27)-1)<>\"\",OFFSET(DE104_5C!$H$27,ROWS($H$27:H27)-1,COLUMNS($H$27:H27)-1),\"\")","v":""},{"$f":"IF(OFFSET(DE104_5C!$I$27,ROWS($I$27:I27)-1,COLUMNS($I$27:I27)-1)<>\"\",OFFSET(DE104_5C!$I$27,ROWS($I$27:I27)-1,COLUMNS($I$27:I27)-1),\"\")","v":""},{"$f":"IF(OFFSET(DE104_5C!$J$27,ROWS($J$27:J27)-1,COLUMNS($J$27:J27)-1)<>\"\",OFFSET(DE104_5C!$J$27,ROWS($J$27:J27)-1,COLUMNS($J$27:J27)-1),\"\")","v":""},{"$f":"IF(OFFSET(DE104_5C!$K$27,ROWS($K$27:K27)-1,COLUMNS($K$27:K27)-1)<>\"\",OFFSET(DE104_5C!$K$27,ROWS($K$27:K27)-1,COLUMNS($K$27:K27)-1),\"\")","v":""},{"$f":"IF(OFFSET(DE104_5C!$L$27,ROWS($L$27:L27)-1,COLUMNS($L$27:L27)-1)<>\"\",OFFSET(DE104_5C!$L$27,ROWS($L$27:L27)-1,COLUMNS($L$27:L27)-1),\"\")","v":""},{"$f":"IF(OFFSET(DE104_5C!$M$27,ROWS($M$27:M27)-1,COLUMNS($M$27:M27)-1)<>\"\",OFFSET(DE104_5C!$M$27,ROWS($M$27:M27)-1,COLUMNS($M$27:M27)-1),\"\")","v":""},{"$f":"IF(OFFSET(DE104_5C!$N$27,ROWS($N$27:N27)-1,COLUMNS($N$27:N27)-1)<>\"\",OFFSET(DE104_5C!$N$27,ROWS($N$27:N27)-1,COLUMNS($N$27:N27)-1),\"\")","v":""},{"$f":"IF(OFFSET(DE104_5C!$O$27,ROWS($O$27:O27)-1,COLUMNS($O$27:O27)-1)<>\"\",OFFSET(DE104_5C!$O$27,ROWS($O$27:O27)-1,COLUMNS($O$27:O27)-1),\"\")","v":""},{"$f":"IF(OFFSET(DE104_5C!$P$27,ROWS($P$27:P27)-1,COLUMNS($P$27:P27)-1)<>\"\",OFFSET(DE104_5C!$P$27,ROWS($P$27:P27)-1,COLUMNS($P$27:P27)-1),\"\")","v":""},{"$f":"IF(OFFSET(DE104_5C!$Q$27,ROWS($Q$27:Q27)-1,COLUMNS($Q$27:Q27)-1)<>\"\",OFFSET(DE104_5C!$Q$27,ROWS($Q$27:Q27)-1,COLUMNS($Q$27:Q27)-1),\"\")","v":""},{"$f":"IF(OFFSET(DE104_5C!$R$27,ROWS($R$27:R27)-1,COLUMNS($R$27:R27)-1)<>\"\",OFFSET(DE104_5C!$R$27,ROWS($R$27:R27)-1,COLUMNS($R$27:R27)-1),\"\")","v":" "},{"$f":"IF(OFFSET(DE104_5C!$S$27,ROWS($S$27:S27)-1,COLUMNS($S$27:S27)-1)<>\"\",OFFSET(DE104_5C!$S$27,ROWS($S$27:S27)-1,COLUMNS($S$27:S27)-1),\"\")","v":220},{"$f":"IF(OFFSET(DE104_5C!$T$27,ROWS($T$27:T27)-1,COLUMNS($T$27:T27)-1)<>\"\",OFFSET(DE104_5C!$T$27,ROWS($T$27:T27)-1,COLUMNS($T$27:T27)-1),\"\")","v":""},{"$f":"IF(OFFSET(DE104_5C!$U$27,ROWS($U$27:U27)-1,COLUMNS($U$27:U27)-1)<>\"\",OFFSET(DE104_5C!$U$27,ROWS($U$27:U27)-1,COLUMNS($U$27:U27)-1),\"\")","v":""},{"$f":"IF(OFFSET(DE104_5C!$V$27,ROWS($V$27:V27)-1,COLUMNS($V$27:V27)-1)<>\"\",OFFSET(DE104_5C!$V$27,ROWS($V$27:V27)-1,COLUMNS($V$27:V27)-1),\"\")","v":"12-inch thick Working Blanket - US 30 Stage 1"}]
[{"$f":"IF(OFFSET(DE104_5C!$C$27,ROWS($C$27:C28)-1,COLUMNS($C$27:C28)-1)<>\"\",OFFSET(DE104_5C!$C$27,ROWS($C$27:C28)-1,COLUMNS($C$27:C28)-1),\"\")","v":2},{"$f":"IF(OFFSET(DE104_5C!$D$27,ROWS($D$27:D28)-1,COLUMNS($D$27:D28)-1)<>\"\",OFFSET(DE104_5C!$D$27,ROWS($D$27:D28)-1,COLUMNS($D$27:D28)-1),\"\")","v":145250},{"$f":"IF(OFFSET(DE104_5C!$E$27,ROWS($E$27:E28)-1,COLUMNS($E$27:E28)-1)<>\"\",OFFSET(DE104_5C!$E$27,ROWS($E$27:E28)-1,COLUMNS($E$27:E28)-1),\"\")","v":145400},{"$f":"IF(OFFSET(DE104_5C!$F$27,ROWS($F$27:F28)-1,COLUMNS($F$27:F28)-1)<>\"\",OFFSET(DE104_5C!$F$27,ROWS($F$27:F28)-1,COLUMNS($F$27:F28)-1),\"\")","v":""},{"$f":"IF(OFFSET(DE104_5C!$G$27,ROWS($G$27:G28)-1,COLUMNS($G$27:G28)-1)<>\"\",OFFSET(DE104_5C!$G$27,ROWS($G$27:G28)-1,COLUMNS($G$27:G28)-1),\"\")","v":""},{"$f":"IF(OFFSET(DE104_5C!$H$27,ROWS($H$27:H28)-1,COLUMNS($H$27:H28)-1)<>\"\",OFFSET(DE104_5C!$H$27,ROWS($H$27:H28)-1,COLUMNS($H$27:H28)-1),\"\")","v":""},{"$f":"IF(OFFSET(DE104_5C!$I$27,ROWS($I$27:I28)-1,COLUMNS($I$27:I28)-1)<>\"\",OFFSET(DE104_5C!$I$27,ROWS($I$27:I28)-1,COLUMNS($I$27:I28)-1),\"\")","v":""},{"$f":"IF(OFFSET(DE104_5C!$J$27,ROWS($J$27:J28)-1,COLUMNS($J$27:J28)-1)<>\"\",OFFSET(DE104_5C!$J$27,ROWS($J$27:J28)-1,COLUMNS($J$27:J28)-1),\"\")","v":""},{"$f":"IF(OFFSET(DE104_5C!$K$27,ROWS($K$27:K28)-1,COLUMNS($K$27:K28)-1)<>\"\",OFFSET(DE104_5C!$K$27,ROWS($K$27:K28)-1,COLUMNS($K$27:K28)-1),\"\")","v":""},{"$f":"IF(OFFSET(DE104_5C!$L$27,ROWS($L$27:L28)-1,COLUMNS($L$27:L28)-1)<>\"\",OFFSET(DE104_5C!$L$27,ROWS($L$27:L28)-1,COLUMNS($L$27:L28)-1),\"\")","v":""},{"$f":"IF(OFFSET(DE104_5C!$M$27,ROWS($M$27:M28)-1,COLUMNS($M$27:M28)-1)<>\"\",OFFSET(DE104_5C!$M$27,ROWS($M$27:M28)-1,COLUMNS($M$27:M28)-1),\"\")","v":""},{"$f":"IF(OFFSET(DE104_5C!$N$27,ROWS($N$27:N28)-1,COLUMNS($N$27:N28)-1)<>\"\",OFFSET(DE104_5C!$N$27,ROWS($N$27:N28)-1,COLUMNS($N$27:N28)-1),\"\")","v":""},{"$f":"IF(OFFSET(DE104_5C!$O$27,ROWS($O$27:O28)-1,COLUMNS($O$27:O28)-1)<>\"\",OFFSET(DE104_5C!$O$27,ROWS($O$27:O28)-1,COLUMNS($O$27:O28)-1),\"\")","v":""},{"$f":"IF(OFFSET(DE104_5C!$P$27,ROWS($P$27:P28)-1,COLUMNS($P$27:P28)-1)<>\"\",OFFSET(DE104_5C!$P$27,ROWS($P$27:P28)-1,COLUMNS($P$27:P28)-1),\"\")","v":""},{"$f":"IF(OFFSET(DE104_5C!$Q$27,ROWS($Q$27:Q28)-1,COLUMNS($Q$27:Q28)-1)<>\"\",OFFSET(DE104_5C!$Q$27,ROWS($Q$27:Q28)-1,COLUMNS($Q$27:Q28)-1),\"\")","v":""},{"$f":"IF(OFFSET(DE104_5C!$R$27,ROWS($R$27:R28)-1,COLUMNS($R$27:R28)-1)<>\"\",OFFSET(DE104_5C!$R$27,ROWS($R$27:R28)-1,COLUMNS($R$27:R28)-1),\"\")","v":" "},{"$f":"IF(OFFSET(DE104_5C!$S$27,ROWS($S$27:S28)-1,COLUMNS($S$27:S28)-1)<>\"\",OFFSET(DE104_5C!$S$27,ROWS($S$27:S28)-1,COLUMNS($S$27:S28)-1),\"\")","v":195},{"$f":"IF(OFFSET(DE104_5C!$T$27,ROWS($T$27:T28)-1,COLUMNS($T$27:T28)-1)<>\"\",OFFSET(DE104_5C!$T$27,ROWS($T$27:T28)-1,COLUMNS($T$27:T28)-1),\"\")","v":""},{"$f":"IF(OFFSET(DE104_5C!$U$27,ROWS($U$27:U28)-1,COLUMNS($U$27:U28)-1)<>\"\",OFFSET(DE104_5C!$U$27,ROWS($U$27:U28)-1,COLUMNS($U$27:U28)-1),\"\")","v":""},{"$f":"IF(OFFSET(DE104_5C!$V$27,ROWS($V$27:V28)-1,COLUMNS($V$27:V28)-1)<>\"\",OFFSET(DE104_5C!$V$27,ROWS($V$27:V28)-1,COLUMNS($V$27:V28)-1),\"\")","v":"12-inch thick Working Blanket - US 30 Stage 1"}]
[{"$f":"IF(OFFSET(DE104_5C!$C$27,ROWS($C$27:C29)-1,COLUMNS($C$27:C29)-1)<>\"\",OFFSET(DE104_5C!$C$27,ROWS($C$27:C29)-1,COLUMNS($C$27:C29)-1),\"\")","v":3},{"$f":"IF(OFFSET(DE104_5C!$D$27,ROWS($D$27:D29)-1,COLUMNS($D$27:D29)-1)<>\"\",OFFSET(DE104_5C!$D$27,ROWS($D$27:D29)-1,COLUMNS($D$27:D29)-1),\"\")","v":146200},{"$f":"IF(OFFSET(DE104_5C!$E$27,ROWS($E$27:E29)-1,COLUMNS($E$27:E29)-1)<>\"\",OFFSET(DE104_5C!$E$27,ROWS($E$27:E29)-1,COLUMNS($E$27:E29)-1),\"\")","v":146700},{"$f":"IF(OFFSET(DE104_5C!$F$27,ROWS($F$27:F29)-1,COLUMNS($F$27:F29)-1)<>\"\",OFFSET(DE104_5C!$F$27,ROWS($F$27:F29)-1,COLUMNS($F$27:F29)-1),\"\")","v":""},{"$f":"IF(OFFSET(DE104_5C!$G$27,ROWS($G$27:G29)-1,COLUMNS($G$27:G29)-1)<>\"\",OFFSET(DE104_5C!$G$27,ROWS($G$27:G29)-1,COLUMNS($G$27:G29)-1),\"\")","v":""},{"$f":"IF(OFFSET(DE104_5C!$H$27,ROWS($H$27:H29)-1,COLUMNS($H$27:H29)-1)<>\"\",OFFSET(DE104_5C!$H$27,ROWS($H$27:H29)-1,COLUMNS($H$27:H29)-1),\"\")","v":""},{"$f":"IF(OFFSET(DE104_5C!$I$27,ROWS($I$27:I29)-1,COLUMNS($I$27:I29)-1)<>\"\",OFFSET(DE104_5C!$I$27,ROWS($I$27:I29)-1,COLUMNS($I$27:I29)-1),\"\")","v":""},{"$f":"IF(OFFSET(DE104_5C!$J$27,ROWS($J$27:J29)-1,COLUMNS($J$27:J29)-1)<>\"\",OFFSET(DE104_5C!$J$27,ROWS($J$27:J29)-1,COLUMNS($J$27:J29)-1),\"\")","v":""},{"$f":"IF(OFFSET(DE104_5C!$K$27,ROWS($K$27:K29)-1,COLUMNS($K$27:K29)-1)<>\"\",OFFSET(DE104_5C!$K$27,ROWS($K$27:K29)-1,COLUMNS($K$27:K29)-1),\"\")","v":""},{"$f":"IF(OFFSET(DE104_5C!$L$27,ROWS($L$27:L29)-1,COLUMNS($L$27:L29)-1)<>\"\",OFFSET(DE104_5C!$L$27,ROWS($L$27:L29)-1,COLUMNS($L$27:L29)-1),\"\")","v":""},{"$f":"IF(OFFSET(DE104_5C!$M$27,ROWS($M$27:M29)-1,COLUMNS($M$27:M29)-1)<>\"\",OFFSET(DE104_5C!$M$27,ROWS($M$27:M29)-1,COLUMNS($M$27:M29)-1),\"\")","v":""},{"$f":"IF(OFFSET(DE104_5C!$N$27,ROWS($N$27:N29)-1,COLUMNS($N$27:N29)-1)<>\"\",OFFSET(DE104_5C!$N$27,ROWS($N$27:N29)-1,COLUMNS($N$27:N29)-1),\"\")","v":""},{"$f":"IF(OFFSET(DE104_5C!$O$27,ROWS($O$27:O29)-1,COLUMNS($O$27:O29)-1)<>\"\",OFFSET(DE104_5C!$O$27,ROWS($O$27:O29)-1,COLUMNS($O$27:O29)-1),\"\")","v":""},{"$f":"IF(OFFSET(DE104_5C!$P$27,ROWS($P$27:P29)-1,COLUMNS($P$27:P29)-1)<>\"\",OFFSET(DE104_5C!$P$27,ROWS($P$27:P29)-1,COLUMNS($P$27:P29)-1),\"\")","v":""},{"$f":"IF(OFFSET(DE104_5C!$Q$27,ROWS($Q$27:Q29)-1,COLUMNS($Q$27:Q29)-1)<>\"\",OFFSET(DE104_5C!$Q$27,ROWS($Q$27:Q29)-1,COLUMNS($Q$27:Q29)-1),\"\")","v":""},{"$f":"IF(OFFSET(DE104_5C!$R$27,ROWS($R$27:R29)-1,COLUMNS($R$27:R29)-1)<>\"\",OFFSET(DE104_5C!$R$27,ROWS($R$27:R29)-1,COLUMNS($R$27:R29)-1),\"\")","v":" "},{"$f":"IF(OFFSET(DE104_5C!$S$27,ROWS($S$27:S29)-1,COLUMNS($S$27:S29)-1)<>\"\",OFFSET(DE104_5C!$S$27,ROWS($S$27:S29)-1,COLUMNS($S$27:S29)-1),\"\")","v":330},{"$f":"IF(OFFSET(DE104_5C!$T$27,ROWS($T$27:T29)-1,COLUMNS($T$27:T29)-1)<>\"\",OFFSET(DE104_5C!$T$27,ROWS($T$27:T29)-1,COLUMNS($T$27:T29)-1),\"\")","v":""},{"$f":"IF(OFFSET(DE104_5C!$U$27,ROWS($U$27:U29)-1,COLUMNS($U$27:U29)-1)<>\"\",OFFSET(DE104_5C!$U$27,ROWS($U$27:U29)-1,COLUMNS($U$27:U29)-1),\"\")","v":""},{"$f":"IF(OFFSET(DE104_5C!$V$27,ROWS($V$27:V29)-1,COLUMNS($V$27:V29)-1)<>\"\",OFFSET(DE104_5C!$V$27,ROWS($V$27:V29)-1,COLUMNS($V$27:V29)-1),\"\")","v":"12-inch thick Working Blanket - US 30 Stage 1"}]
[{"$f":"IF(OFFSET(DE104_5C!$C$27,ROWS($C$27:C30)-1,COLUMNS($C$27:C30)-1)<>\"\",OFFSET(DE104_5C!$C$27,ROWS($C$27:C30)-1,COLUMNS($C$27:C30)-1),\"\")","v":4},{"$f":"IF(OFFSET(DE104_5C!$D$27,ROWS($D$27:D30)-1,COLUMNS($D$27:D30)-1)<>\"\",OFFSET(DE104_5C!$D$27,ROWS($D$27:D30)-1,COLUMNS($D$27:D30)-1),\"\")","v":3144550},{"$f":"IF(OFFSET(DE104_5C!$E$27,ROWS($E$27:E30)-1,COLUMNS($E$27:E30)-1)<>\"\",OFFSET(DE104_5C!$E$27,ROWS($E$27:E30)-1,COLUMNS($E$27:E30)-1),\"\")","v":3144800},{"$f":"IF(OFFSET(DE104_5C!$F$27,ROWS($F$27:F30)-1,COLUMNS($F$27:F30)-1)<>\"\",OFFSET(DE104_5C!$F$27,ROWS($F$27:F30)-1,COLUMNS($F$27:F30)-1),\"\")","v":""},{"$f":"IF(OFFSET(DE104_5C!$G$27,ROWS($G$27:G30)-1,COLUMNS($G$27:G30)-1)<>\"\",OFFSET(DE104_5C!$G$27,ROWS($G$27:G30)-1,COLUMNS($G$27:G30)-1),\"\")","v":""},{"$f":"IF(OFFSET(DE104_5C!$H$27,ROWS($H$27:H30)-1,COLUMNS($H$27:H30)-1)<>\"\",OFFSET(DE104_5C!$H$27,ROWS($H$27:H30)-1,COLUMNS($H$27:H30)-1),\"\")","v":""},{"$f":"IF(OFFSET(DE104_5C!$I$27,ROWS($I$27:I30)-1,COLUMNS($I$27:I30)-1)<>\"\",OFFSET(DE104_5C!$I$27,ROWS($I$27:I30)-1,COLUMNS($I$27:I30)-1),\"\")","v":""},{"$f":"IF(OFFSET(DE104_5C!$J$27,ROWS($J$27:J30)-1,COLUMNS($J$27:J30)-1)<>\"\",OFFSET(DE104_5C!$J$27,ROWS($J$27:J30)-1,COLUMNS($J$27:J30)-1),\"\")","v":""},{"$f":"IF(OFFSET(DE104_5C!$K$27,ROWS($K$27:K30)-1,COLUMNS($K$27:K30)-1)<>\"\",OFFSET(DE104_5C!$K$27,ROWS($K$27:K30)-1,COLUMNS($K$27:K30)-1),\"\")","v":""},{"$f":"IF(OFFSET(DE104_5C!$L$27,ROWS($L$27:L30)-1,COLUMNS($L$27:L30)-1)<>\"\",OFFSET(DE104_5C!$L$27,ROWS($L$27:L30)-1,COLUMNS($L$27:L30)-1),\"\")","v":""},{"$f":"IF(OFFSET(DE104_5C!$M$27,ROWS($M$27:M30)-1,COLUMNS($M$27:M30)-1)<>\"\",OFFSET(DE104_5C!$M$27,ROWS($M$27:M30)-1,COLUMNS($M$27:M30)-1),\"\")","v":""},{"$f":"IF(OFFSET(DE104_5C!$N$27,ROWS($N$27:N30)-1,COLUMNS($N$27:N30)-1)<>\"\",OFFSET(DE104_5C!$N$27,ROWS($N$27:N30)-1,COLUMNS($N$27:N30)-1),\"\")","v":""},{"$f":"IF(OFFSET(DE104_5C!$O$27,ROWS($O$27:O30)-1,COLUMNS($O$27:O30)-1)<>\"\",OFFSET(DE104_5C!$O$27,ROWS($O$27:O30)-1,COLUMNS($O$27:O30)-1),\"\")","v":""},{"$f":"IF(OFFSET(DE104_5C!$P$27,ROWS($P$27:P30)-1,COLUMNS($P$27:P30)-1)<>\"\",OFFSET(DE104_5C!$P$27,ROWS($P$27:P30)-1,COLUMNS($P$27:P30)-1),\"\")","v":""},{"$f":"IF(OFFSET(DE104_5C!$Q$27,ROWS($Q$27:Q30)-1,COLUMNS($Q$27:Q30)-1)<>\"\",OFFSET(DE104_5C!$Q$27,ROWS($Q$27:Q30)-1,COLUMNS($Q$27:Q30)-1),\"\")","v":""},{"$f":"IF(OFFSET(DE104_5C!$R$27,ROWS($R$27:R30)-1,COLUMNS($R$27:R30)-1)<>\"\",OFFSET(DE104_5C!$R$27,ROWS($R$27:R30)-1,COLUMNS($R$27:R30)-1),\"\")","v":" "},{"$f":"IF(OFFSET(DE104_5C!$S$27,ROWS($S$27:S30)-1,COLUMNS($S$27:S30)-1)<>\"\",OFFSET(DE104_5C!$S$27,ROWS($S$27:S30)-1,COLUMNS($S$27:S30)-1),\"\")","v":200},{"$f":"IF(OFFSET(DE104_5C!$T$27,ROWS($T$27:T30)-1,COLUMNS($T$27:T30)-1)<>\"\",OFFSET(DE104_5C!$T$27,ROWS($T$27:T30)-1,COLUMNS($T$27:T30)-1),\"\")","v":""},{"$f":"IF(OFFSET(DE104_5C!$U$27,ROWS($U$27:U30)-1,COLUMNS($U$27:U30)-1)<>\"\",OFFSET(DE104_5C!$U$27,ROWS($U$27:U30)-1,COLUMNS($U$27:U30)-1),\"\")","v":""},{"$f":"IF(OFFSET(DE104_5C!$V$27,ROWS($V$27:V30)-1,COLUMNS($V$27:V30)-1)<>\"\",OFFSET(DE104_5C!$V$27,ROWS($V$27:V30)-1,COLUMNS($V$27:V30)-1),\"\")","v":"12-inch thick Working Blanket - Ramp C"}]
[{"$f":"IF(OFFSET(DE104_5C!$C$27,ROWS($C$27:C31)-1,COLUMNS($C$27:C31)-1)<>\"\",OFFSET(DE104_5C!$C$27,ROWS($C$27:C31)-1,COLUMNS($C$27:C31)-1),\"\")","v":5},{"$f":"IF(OFFSET(DE104_5C!$D$27,ROWS($D$27:D31)-1,COLUMNS($D$27:D31)-1)<>\"\",OFFSET(DE104_5C!$D$27,ROWS($D$27:D31)-1,COLUMNS($D$27:D31)-1),\"\")","v":3145225},{"$f":"IF(OFFSET(DE104_5C!$E$27,ROWS($E$27:E31)-1,COLUMNS($E$27:E31)-1)<>\"\",OFFSET(DE104_5C!$E$27,ROWS($E$27:E31)-1,COLUMNS($E$27:E31)-1),\"\")","v":3145400},{"$f":"IF(OFFSET(DE104_5C!$F$27,ROWS($F$27:F31)-1,COLUMNS($F$27:F31)-1)<>\"\",OFFSET(DE104_5C!$F$27,ROWS($F$27:F31)-1,COLUMNS($F$27:F31)-1),\"\")","v":""},{"$f":"IF(OFFSET(DE104_5C!$G$27,ROWS($G$27:G31)-1,COLUMNS($G$27:G31)-1)<>\"\",OFFSET(DE104_5C!$G$27,ROWS($G$27:G31)-1,COLUMNS($G$27:G31)-1),\"\")","v":""},{"$f":"IF(OFFSET(DE104_5C!$H$27,ROWS($H$27:H31)-1,COLUMNS($H$27:H31)-1)<>\"\",OFFSET(DE104_5C!$H$27,ROWS($H$27:H31)-1,COLUMNS($H$27:H31)-1),\"\")","v":""},{"$f":"IF(OFFSET(DE104_5C!$I$27,ROWS($I$27:I31)-1,COLUMNS($I$27:I31)-1)<>\"\",OFFSET(DE104_5C!$I$27,ROWS($I$27:I31)-1,COLUMNS($I$27:I31)-1),\"\")","v":""},{"$f":"IF(OFFSET(DE104_5C!$J$27,ROWS($J$27:J31)-1,COLUMNS($J$27:J31)-1)<>\"\",OFFSET(DE104_5C!$J$27,ROWS($J$27:J31)-1,COLUMNS($J$27:J31)-1),\"\")","v":""},{"$f":"IF(OFFSET(DE104_5C!$K$27,ROWS($K$27:K31)-1,COLUMNS($K$27:K31)-1)<>\"\",OFFSET(DE104_5C!$K$27,ROWS($K$27:K31)-1,COLUMNS($K$27:K31)-1),\"\")","v":""},{"$f":"IF(OFFSET(DE104_5C!$L$27,ROWS($L$27:L31)-1,COLUMNS($L$27:L31)-1)<>\"\",OFFSET(DE104_5C!$L$27,ROWS($L$27:L31)-1,COLUMNS($L$27:L31)-1),\"\")","v":""},{"$f":"IF(OFFSET(DE104_5C!$M$27,ROWS($M$27:M31)-1,COLUMNS($M$27:M31)-1)<>\"\",OFFSET(DE104_5C!$M$27,ROWS($M$27:M31)-1,COLUMNS($M$27:M31)-1),\"\")","v":""},{"$f":"IF(OFFSET(DE104_5C!$N$27,ROWS($N$27:N31)-1,COLUMNS($N$27:N31)-1)<>\"\",OFFSET(DE104_5C!$N$27,ROWS($N$27:N31)-1,COLUMNS($N$27:N31)-1),\"\")","v":""},{"$f":"IF(OFFSET(DE104_5C!$O$27,ROWS($O$27:O31)-1,COLUMNS($O$27:O31)-1)<>\"\",OFFSET(DE104_5C!$O$27,ROWS($O$27:O31)-1,COLUMNS($O$27:O31)-1),\"\")","v":""},{"$f":"IF(OFFSET(DE104_5C!$P$27,ROWS($P$27:P31)-1,COLUMNS($P$27:P31)-1)<>\"\",OFFSET(DE104_5C!$P$27,ROWS($P$27:P31)-1,COLUMNS($P$27:P31)-1),\"\")","v":""},{"$f":"IF(OFFSET(DE104_5C!$Q$27,ROWS($Q$27:Q31)-1,COLUMNS($Q$27:Q31)-1)<>\"\",OFFSET(DE104_5C!$Q$27,ROWS($Q$27:Q31)-1,COLUMNS($Q$27:Q31)-1),\"\")","v":""},{"$f":"IF(OFFSET(DE104_5C!$R$27,ROWS($R$27:R31)-1,COLUMNS($R$27:R31)-1)<>\"\",OFFSET(DE104_5C!$R$27,ROWS($R$27:R31)-1,COLUMNS($R$27:R31)-1),\"\")","v":" "},{"$f":"IF(OFFSET(DE104_5C!$S$27,ROWS($S$27:S31)-1,COLUMNS($S$27:S31)-1)<>\"\",OFFSET(DE104_5C!$S$27,ROWS($S$27:S31)-1,COLUMNS($S$27:S31)-1),\"\")","v":115},{"$f":"IF(OFFSET(DE104_5C!$T$27,ROWS($T$27:T31)-1,COLUMNS($T$27:T31)-1)<>\"\",OFFSET(DE104_5C!$T$27,ROWS($T$27:T31)-1,COLUMNS($T$27:T31)-1),\"\")","v":""},{"$f":"IF(OFFSET(DE104_5C!$U$27,ROWS($U$27:U31)-1,COLUMNS($U$27:U31)-1)<>\"\",OFFSET(DE104_5C!$U$27,ROWS($U$27:U31)-1,COLUMNS($U$27:U31)-1),\"\")","v":""},{"$f":"IF(OFFSET(DE104_5C!$V$27,ROWS($V$27:V31)-1,COLUMNS($V$27:V31)-1)<>\"\",OFFSET(DE104_5C!$V$27,ROWS($V$27:V31)-1,COLUMNS($V$27:V31)-1),\"\")","v":"12-inch thick Working Blanket - Ramp C"}]
[{"$f":"IF(OFFSET(DE104_5C!$C$27,ROWS($C$27:C32)-1,COLUMNS($C$27:C32)-1)<>\"\",OFFSET(DE104_5C!$C$27,ROWS($C$27:C32)-1,COLUMNS($C$27:C32)-1),\"\")","v":""},{"$f":"IF(OFFSET(DE104_5C!$D$27,ROWS($D$27:D32)-1,COLUMNS($D$27:D32)-1)<>\"\",OFFSET(DE104_5C!$D$27,ROWS($D$27:D32)-1,COLUMNS($D$27:D32)-1),\"\")","v":""},{"$f":"IF(OFFSET(DE104_5C!$E$27,ROWS($E$27:E32)-1,COLUMNS($E$27:E32)-1)<>\"\",OFFSET(DE104_5C!$E$27,ROWS($E$27:E32)-1,COLUMNS($E$27:E32)-1),\"\")","v":""},{"$f":"IF(OFFSET(DE104_5C!$F$27,ROWS($F$27:F32)-1,COLUMNS($F$27:F32)-1)<>\"\",OFFSET(DE104_5C!$F$27,ROWS($F$27:F32)-1,COLUMNS($F$27:F32)-1),\"\")","v":""},{"$f":"IF(OFFSET(DE104_5C!$G$27,ROWS($G$27:G32)-1,COLUMNS($G$27:G32)-1)<>\"\",OFFSET(DE104_5C!$G$27,ROWS($G$27:G32)-1,COLUMNS($G$27:G32)-1),\"\")","v":""},{"$f":"IF(OFFSET(DE104_5C!$H$27,ROWS($H$27:H32)-1,COLUMNS($H$27:H32)-1)<>\"\",OFFSET(DE104_5C!$H$27,ROWS($H$27:H32)-1,COLUMNS($H$27:H32)-1),\"\")","v":""},{"$f":"IF(OFFSET(DE104_5C!$I$27,ROWS($I$27:I32)-1,COLUMNS($I$27:I32)-1)<>\"\",OFFSET(DE104_5C!$I$27,ROWS($I$27:I32)-1,COLUMNS($I$27:I32)-1),\"\")","v":""},{"$f":"IF(OFFSET(DE104_5C!$J$27,ROWS($J$27:J32)-1,COLUMNS($J$27:J32)-1)<>\"\",OFFSET(DE104_5C!$J$27,ROWS($J$27:J32)-1,COLUMNS($J$27:J32)-1),\"\")","v":""},{"$f":"IF(OFFSET(DE104_5C!$K$27,ROWS($K$27:K32)-1,COLUMNS($K$27:K32)-1)<>\"\",OFFSET(DE104_5C!$K$27,ROWS($K$27:K32)-1,COLUMNS($K$27:K32)-1),\"\")","v":""},{"$f":"IF(OFFSET(DE104_5C!$L$27,ROWS($L$27:L32)-1,COLUMNS($L$27:L32)-1)<>\"\",OFFSET(DE104_5C!$L$27,ROWS($L$27:L32)-1,COLUMNS($L$27:L32)-1),\"\")","v":""},{"$f":"IF(OFFSET(DE104_5C!$M$27,ROWS($M$27:M32)-1,COLUMNS($M$27:M32)-1)<>\"\",OFFSET(DE104_5C!$M$27,ROWS($M$27:M32)-1,COLUMNS($M$27:M32)-1),\"\")","v":""},{"$f":"IF(OFFSET(DE104_5C!$N$27,ROWS($N$27:N32)-1,COLUMNS($N$27:N32)-1)<>\"\",OFFSET(DE104_5C!$N$27,ROWS($N$27:N32)-1,COLUMNS($N$27:N32)-1),\"\")","v":""},{"$f":"IF(OFFSET(DE104_5C!$O$27,ROWS($O$27:O32)-1,COLUMNS($O$27:O32)-1)<>\"\",OFFSET(DE104_5C!$O$27,ROWS($O$27:O32)-1,COLUMNS($O$27:O32)-1),\"\")","v":""},{"$f":"IF(OFFSET(DE104_5C!$P$27,ROWS($P$27:P32)-1,COLUMNS($P$27:P32)-1)<>\"\",OFFSET(DE104_5C!$P$27,ROWS($P$27:P32)-1,COLUMNS($P$27:P32)-1),\"\")","v":""},{"$f":"IF(OFFSET(DE104_5C!$Q$27,ROWS($Q$27:Q32)-1,COLUMNS($Q$27:Q32)-1)<>\"\",OFFSET(DE104_5C!$Q$27,ROWS($Q$27:Q32)-1,COLUMNS($Q$27:Q32)-1),\"\")","v":""},{"$f":"IF(OFFSET(DE104_5C!$R$27,ROWS($R$27:R32)-1,COLUMNS($R$27:R32)-1)<>\"\",OFFSET(DE104_5C!$R$27,ROWS($R$27:R32)-1,COLUMNS($R$27:R32)-1),\"\")","v":""},{"$f":"IF(OFFSET(DE104_5C!$S$27,ROWS($S$27:S32)-1,COLUMNS($S$27:S32)-1)<>\"\",OFFSET(DE104_5C!$S$27,ROWS($S$27:S32)-1,COLUMNS($S$27:S32)-1),\"\")","v":""},{"$f":"IF(OFFSET(DE104_5C!$T$27,ROWS($T$27:T32)-1,COLUMNS($T$27:T32)-1)<>\"\",OFFSET(DE104_5C!$T$27,ROWS($T$27:T32)-1,COLUMNS($T$27:T32)-1),\"\")","v":""},{"$f":"IF(OFFSET(DE104_5C!$U$27,ROWS($U$27:U32)-1,COLUMNS($U$27:U32)-1)<>\"\",OFFSET(DE104_5C!$U$27,ROWS($U$27:U32)-1,COLUMNS($U$27:U32)-1),\"\")","v":""},{"$f":"IF(OFFSET(DE104_5C!$V$27,ROWS($V$27:V32)-1,COLUMNS($V$27:V32)-1)<>\"\",OFFSET(DE104_5C!$V$27,ROWS($V$27:V32)-1,COLUMNS($V$27:V32)-1),\"\")","v":""}]
[{"$f":"IF(OFFSET(DE104_5C!$C$27,ROWS($C$27:C33)-1,COLUMNS($C$27:C33)-1)<>\"\",OFFSET(DE104_5C!$C$27,ROWS($C$27:C33)-1,COLUMNS($C$27:C33)-1),\"\")","v":""},{"$f":"IF(OFFSET(DE104_5C!$D$27,ROWS($D$27:D33)-1,COLUMNS($D$27:D33)-1)<>\"\",OFFSET(DE104_5C!$D$27,ROWS($D$27:D33)-1,COLUMNS($D$27:D33)-1),\"\")","v":24147120},{"$f":"IF(OFFSET(DE104_5C!$E$27,ROWS($E$27:E33)-1,COLUMNS($E$27:E33)-1)<>\"\",OFFSET(DE104_5C!$E$27,ROWS($E$27:E33)-1,COLUMNS($E$27:E33)-1),\"\")","v":24147457},{"$f":"IF(OFFSET(DE104_5C!$F$27,ROWS($F$27:F33)-1,COLUMNS($F$27:F33)-1)<>\"\",OFFSET(DE104_5C!$F$27,ROWS($F$27:F33)-1,COLUMNS($F$27:F33)-1),\"\")","v":""},{"$f":"IF(OFFSET(DE104_5C!$G$27,ROWS($G$27:G33)-1,COLUMNS($G$27:G33)-1)<>\"\",OFFSET(DE104_5C!$G$27,ROWS($G$27:G33)-1,COLUMNS($G$27:G33)-1),\"\")","v":""},{"$f":"IF(OFFSET(DE104_5C!$H$27,ROWS($H$27:H33)-1,COLUMNS($H$27:H33)-1)<>\"\",OFFSET(DE104_5C!$H$27,ROWS($H$27:H33)-1,COLUMNS($H$27:H33)-1),\"\")","v":""},{"$f":"IF(OFFSET(DE104_5C!$I$27,ROWS($I$27:I33)-1,COLUMNS($I$27:I33)-1)<>\"\",OFFSET(DE104_5C!$I$27,ROWS($I$27:I33)-1,COLUMNS($I$27:I33)-1),\"\")","v":""},{"$f":"IF(OFFSET(DE104_5C!$J$27,ROWS($J$27:J33)-1,COLUMNS($J$27:J33)-1)<>\"\",OFFSET(DE104_5C!$J$27,ROWS($J$27:J33)-1,COLUMNS($J$27:J33)-1),\"\")","v":""},{"$f":"IF(OFFSET(DE104_5C!$K$27,ROWS($K$27:K33)-1,COLUMNS($K$27:K33)-1)<>\"\",OFFSET(DE104_5C!$K$27,ROWS($K$27:K33)-1,COLUMNS($K$27:K33)-1),\"\")","v":""},{"$f":"IF(OFFSET(DE104_5C!$L$27,ROWS($L$27:L33)-1,COLUMNS($L$27:L33)-1)<>\"\",OFFSET(DE104_5C!$L$27,ROWS($L$27:L33)-1,COLUMNS($L$27:L33)-1),\"\")","v":""},{"$f":"IF(OFFSET(DE104_5C!$M$27,ROWS($M$27:M33)-1,COLUMNS($M$27:M33)-1)<>\"\",OFFSET(DE104_5C!$M$27,ROWS($M$27:M33)-1,COLUMNS($M$27:M33)-1),\"\")","v":""},{"$f":"IF(OFFSET(DE104_5C!$N$27,ROWS($N$27:N33)-1,COLUMNS($N$27:N33)-1)<>\"\",OFFSET(DE104_5C!$N$27,ROWS($N$27:N33)-1,COLUMNS($N$27:N33)-1),\"\")","v":""},{"$f":"IF(OFFSET(DE104_5C!$O$27,ROWS($O$27:O33)-1,COLUMNS($O$27:O33)-1)<>\"\",OFFSET(DE104_5C!$O$27,ROWS($O$27:O33)-1,COLUMNS($O$27:O33)-1),\"\")","v":""},{"$f":"IF(OFFSET(DE104_5C!$P$27,ROWS($P$27:P33)-1,COLUMNS($P$27:P33)-1)<>\"\",OFFSET(DE104_5C!$P$27,ROWS($P$27:P33)-1,COLUMNS($P$27:P33)-1),\"\")","v":""},{"$f":"IF(OFFSET(DE104_5C!$Q$27,ROWS($Q$27:Q33)-1,COLUMNS($Q$27:Q33)-1)<>\"\",OFFSET(DE104_5C!$Q$27,ROWS($Q$27:Q33)-1,COLUMNS($Q$27:Q33)-1),\"\")","v":""},{"$f":"IF(OFFSET(DE104_5C!$R$27,ROWS($R$27:R33)-1,COLUMNS($R$27:R33)-1)<>\"\",OFFSET(DE104_5C!$R$27,ROWS($R$27:R33)-1,COLUMNS($R$27:R33)-1),\"\")","v":""},{"$f":"IF(OFFSET(DE104_5C!$S$27,ROWS($S$27:S33)-1,COLUMNS($S$27:S33)-1)<>\"\",OFFSET(DE104_5C!$S$27,ROWS($S$27:S33)-1,COLUMNS($S$27:S33)-1),\"\")","v":" "},{"$f":"IF(OFFSET(DE104_5C!$T$27,ROWS($T$27:T33)-1,COLUMNS($T$27:T33)-1)<>\"\",OFFSET(DE104_5C!$T$27,ROWS($T$27:T33)-1,COLUMNS($T$27:T33)-1),\"\")","v":4895},{"$f":"IF(OFFSET(DE104_5C!$U$27,ROWS($U$27:U33)-1,COLUMNS($U$27:U33)-1)<>\"\",OFFSET(DE104_5C!$U$27,ROWS($U$27:U33)-1,COLUMNS($U$27:U33)-1),\"\")","v":""},{"$f":"IF(OFFSET(DE104_5C!$V$27,ROWS($V$27:V33)-1,COLUMNS($V$27:V33)-1)<>\"\",OFFSET(DE104_5C!$V$27,ROWS($V$27:V33)-1,COLUMNS($V$27:V33)-1),\"\")","v":"Special Backfill - MSE Wall Core-Out at South Abutment of US 218 over"}]
[{"$f":"IF(OFFSET(DE104_5C!$C$27,ROWS($C$27:C34)-1,COLUMNS($C$27:C34)-1)<>\"\",OFFSET(DE104_5C!$C$27,ROWS($C$27:C34)-1,COLUMNS($C$27:C34)-1),\"\")","v":""},{"$f":"IF(OFFSET(DE104_5C!$D$27,ROWS($D$27:D34)-1,COLUMNS($D$27:D34)-1)<>\"\",OFFSET(DE104_5C!$D$27,ROWS($D$27:D34)-1,COLUMNS($D$27:D34)-1),\"\")","v":""},{"$f":"IF(OFFSET(DE104_5C!$E$27,ROWS($E$27:E34)-1,COLUMNS($E$27:E34)-1)<>\"\",OFFSET(DE104_5C!$E$27,ROWS($E$27:E34)-1,COLUMNS($E$27:E34)-1),\"\")","v":""},{"$f":"IF(OFFSET(DE104_5C!$F$27,ROWS($F$27:F34)-1,COLUMNS($F$27:F34)-1)<>\"\",OFFSET(DE104_5C!$F$27,ROWS($F$27:F34)-1,COLUMNS($F$27:F34)-1),\"\")","v":""},{"$f":"IF(OFFSET(DE104_5C!$G$27,ROWS($G$27:G34)-1,COLUMNS($G$27:G34)-1)<>\"\",OFFSET(DE104_5C!$G$27,ROWS($G$27:G34)-1,COLUMNS($G$27:G34)-1),\"\")","v":""},{"$f":"IF(OFFSET(DE104_5C!$H$27,ROWS($H$27:H34)-1,COLUMNS($H$27:H34)-1)<>\"\",OFFSET(DE104_5C!$H$27,ROWS($H$27:H34)-1,COLUMNS($H$27:H34)-1),\"\")","v":""},{"$f":"IF(OFFSET(DE104_5C!$I$27,ROWS($I$27:I34)-1,COLUMNS($I$27:I34)-1)<>\"\",OFFSET(DE104_5C!$I$27,ROWS($I$27:I34)-1,COLUMNS($I$27:I34)-1),\"\")","v":""},{"$f":"IF(OFFSET(DE104_5C!$J$27,ROWS($J$27:J34)-1,COLUMNS($J$27:J34)-1)<>\"\",OFFSET(DE104_5C!$J$27,ROWS($J$27:J34)-1,COLUMNS($J$27:J34)-1),\"\")","v":""},{"$f":"IF(OFFSET(DE104_5C!$K$27,ROWS($K$27:K34)-1,COLUMNS($K$27:K34)-1)<>\"\",OFFSET(DE104_5C!$K$27,ROWS($K$27:K34)-1,COLUMNS($K$27:K34)-1),\"\")","v":""},{"$f":"IF(OFFSET(DE104_5C!$L$27,ROWS($L$27:L34)-1,COLUMNS($L$27:L34)-1)<>\"\",OFFSET(DE104_5C!$L$27,ROWS($L$27:L34)-1,COLUMNS($L$27:L34)-1),\"\")","v":""},{"$f":"IF(OFFSET(DE104_5C!$M$27,ROWS($M$27:M34)-1,COLUMNS($M$27:M34)-1)<>\"\",OFFSET(DE104_5C!$M$27,ROWS($M$27:M34)-1,COLUMNS($M$27:M34)-1),\"\")","v":""},{"$f":"IF(OFFSET(DE104_5C!$N$27,ROWS($N$27:N34)-1,COLUMNS($N$27:N34)-1)<>\"\",OFFSET(DE104_5C!$N$27,ROWS($N$27:N34)-1,COLUMNS($N$27:N34)-1),\"\")","v":""},{"$f":"IF(OFFSET(DE104_5C!$O$27,ROWS($O$27:O34)-1,COLUMNS($O$27:O34)-1)<>\"\",OFFSET(DE104_5C!$O$27,ROWS($O$27:O34)-1,COLUMNS($O$27:O34)-1),\"\")","v":""},{"$f":"IF(OFFSET(DE104_5C!$P$27,ROWS($P$27:P34)-1,COLUMNS($P$27:P34)-1)<>\"\",OFFSET(DE104_5C!$P$27,ROWS($P$27:P34)-1,COLUMNS($P$27:P34)-1),\"\")","v":""},{"$f":"IF(OFFSET(DE104_5C!$Q$27,ROWS($Q$27:Q34)-1,COLUMNS($Q$27:Q34)-1)<>\"\",OFFSET(DE104_5C!$Q$27,ROWS($Q$27:Q34)-1,COLUMNS($Q$27:Q34)-1),\"\")","v":""},{"$f":"IF(OFFSET(DE104_5C!$R$27,ROWS($R$27:R34)-1,COLUMNS($R$27:R34)-1)<>\"\",OFFSET(DE104_5C!$R$27,ROWS($R$27:R34)-1,COLUMNS($R$27:R34)-1),\"\")","v":""},{"$f":"IF(OFFSET(DE104_5C!$S$27,ROWS($S$27:S34)-1,COLUMNS($S$27:S34)-1)<>\"\",OFFSET(DE104_5C!$S$27,ROWS($S$27:S34)-1,COLUMNS($S$27:S34)-1),\"\")","v":""},{"$f":"IF(OFFSET(DE104_5C!$T$27,ROWS($T$27:T34)-1,COLUMNS($T$27:T34)-1)<>\"\",OFFSET(DE104_5C!$T$27,ROWS($T$27:T34)-1,COLUMNS($T$27:T34)-1),\"\")","v":""},{"$f":"IF(OFFSET(DE104_5C!$U$27,ROWS($U$27:U34)-1,COLUMNS($U$27:U34)-1)<>\"\",OFFSET(DE104_5C!$U$27,ROWS($U$27:U34)-1,COLUMNS($U$27:U34)-1),\"\")","v":""},{"$f":"IF(OFFSET(DE104_5C!$V$27,ROWS($V$27:V34)-1,COLUMNS($V$27:V34)-1)<>\"\",OFFSET(DE104_5C!$V$27,ROWS($V$27:V34)-1,COLUMNS($V$27:V34)-1),\"\")","v":"US 30 Bridge"}]
[{"$f":"IF(OFFSET(DE104_5C!$C$27,ROWS($C$27:C35)-1,COLUMNS($C$27:C35)-1)<>\"\",OFFSET(DE104_5C!$C$27,ROWS($C$27:C35)-1,COLUMNS($C$27:C35)-1),\"\")","v":""},{"$f":"IF(OFFSET(DE104_5C!$D$27,ROWS($D$27:D35)-1,COLUMNS($D$27:D35)-1)<>\"\",OFFSET(DE104_5C!$D$27,ROWS($D$27:D35)-1,COLUMNS($D$27:D35)-1),\"\")","v":""},{"$f":"IF(OFFSET(DE104_5C!$E$27,ROWS($E$27:E35)-1,COLUMNS($E$27:E35)-1)<>\"\",OFFSET(DE104_5C!$E$27,ROWS($E$27:E35)-1,COLUMNS($E$27:E35)-1),\"\")","v":""},{"$f":"IF(OFFSET(DE104_5C!$F$27,ROWS($F$27:F35)-1,COLUMNS($F$27:F35)-1)<>\"\",OFFSET(DE104_5C!$F$27,ROWS($F$27:F35)-1,COLUMNS($F$27:F35)-1),\"\")","v":""},{"$f":"IF(OFFSET(DE104_5C!$G$27,ROWS($G$27:G35)-1,COLUMNS($G$27:G35)-1)<>\"\",OFFSET(DE104_5C!$G$27,ROWS($G$27:G35)-1,COLUMNS($G$27:G35)-1),\"\")","v":""},{"$f":"IF(OFFSET(DE104_5C!$H$27,ROWS($H$27:H35)-1,COLUMNS($H$27:H35)-1)<>\"\",OFFSET(DE104_5C!$H$27,ROWS($H$27:H35)-1,COLUMNS($H$27:H35)-1),\"\")","v":""},{"$f":"IF(OFFSET(DE104_5C!$I$27,ROWS($I$27:I35)-1,COLUMNS($I$27:I35)-1)<>\"\",OFFSET(DE104_5C!$I$27,ROWS($I$27:I35)-1,COLUMNS($I$27:I35)-1),\"\")","v":""},{"$f":"IF(OFFSET(DE104_5C!$J$27,ROWS($J$27:J35)-1,COLUMNS($J$27:J35)-1)<>\"\",OFFSET(DE104_5C!$J$27,ROWS($J$27:J35)-1,COLUMNS($J$27:J35)-1),\"\")","v":""},{"$f":"IF(OFFSET(DE104_5C!$K$27,ROWS($K$27:K35)-1,COLUMNS($K$27:K35)-1)<>\"\",OFFSET(DE104_5C!$K$27,ROWS($K$27:K35)-1,COLUMNS($K$27:K35)-1),\"\")","v":""},{"$f":"IF(OFFSET(DE104_5C!$L$27,ROWS($L$27:L35)-1,COLUMNS($L$27:L35)-1)<>\"\",OFFSET(DE104_5C!$L$27,ROWS($L$27:L35)-1,COLUMNS($L$27:L35)-1),\"\")","v":""},{"$f":"IF(OFFSET(DE104_5C!$M$27,ROWS($M$27:M35)-1,COLUMNS($M$27:M35)-1)<>\"\",OFFSET(DE104_5C!$M$27,ROWS($M$27:M35)-1,COLUMNS($M$27:M35)-1),\"\")","v":""},{"$f":"IF(OFFSET(DE104_5C!$N$27,ROWS($N$27:N35)-1,COLUMNS($N$27:N35)-1)<>\"\",OFFSET(DE104_5C!$N$27,ROWS($N$27:N35)-1,COLUMNS($N$27:N35)-1),\"\")","v":""},{"$f":"IF(OFFSET(DE104_5C!$O$27,ROWS($O$27:O35)-1,COLUMNS($O$27:O35)-1)<>\"\",OFFSET(DE104_5C!$O$27,ROWS($O$27:O35)-1,COLUMNS($O$27:O35)-1),\"\")","v":""},{"$f":"IF(OFFSET(DE104_5C!$P$27,ROWS($P$27:P35)-1,COLUMNS($P$27:P35)-1)<>\"\",OFFSET(DE104_5C!$P$27,ROWS($P$27:P35)-1,COLUMNS($P$27:P35)-1),\"\")","v":""},{"$f":"IF(OFFSET(DE104_5C!$Q$27,ROWS($Q$27:Q35)-1,COLUMNS($Q$27:Q35)-1)<>\"\",OFFSET(DE104_5C!$Q$27,ROWS($Q$27:Q35)-1,COLUMNS($Q$27:Q35)-1),\"\")","v":""},{"$f":"IF(OFFSET(DE104_5C!$R$27,ROWS($R$27:R35)-1,COLUMNS($R$27:R35)-1)<>\"\",OFFSET(DE104_5C!$R$27,ROWS($R$27:R35)-1,COLUMNS($R$27:R35)-1),\"\")","v":""},{"$f":"IF(OFFSET(DE104_5C!$S$27,ROWS($S$27:S35)-1,COLUMNS($S$27:S35)-1)<>\"\",OFFSET(DE104_5C!$S$27,ROWS($S$27:S35)-1,COLUMNS($S$27:S35)-1),\"\")","v":""},{"$f":"IF(OFFSET(DE104_5C!$T$27,ROWS($T$27:T35)-1,COLUMNS($T$27:T35)-1)<>\"\",OFFSET(DE104_5C!$T$27,ROWS($T$27:T35)-1,COLUMNS($T$27:T35)-1),\"\")","v":""},{"$f":"IF(OFFSET(DE104_5C!$U$27,ROWS($U$27:U35)-1,COLUMNS($U$27:U35)-1)<>\"\",OFFSET(DE104_5C!$U$27,ROWS($U$27:U35)-1,COLUMNS($U$27:U35)-1),\"\")","v":""},{"$f":"IF(OFFSET(DE104_5C!$V$27,ROWS($V$27:V35)-1,COLUMNS($V$27:V35)-1)<>\"\",OFFSET(DE104_5C!$V$27,ROWS($V$27:V35)-1,COLUMNS($V$27:V35)-1),\"\")","v":""}]
[{"$f":"IF(OFFSET(DE104_5C!$C$27,ROWS($C$27:C36)-1,COLUMNS($C$27:C36)-1)<>\"\",OFFSET(DE104_5C!$C$27,ROWS($C$27:C36)-1,COLUMNS($C$27:C36)-1),\"\")","v":1},{"$f":"IF(OFFSET(DE104_5C!$D$27,ROWS($D$27:D36)-1,COLUMNS($D$27:D36)-1)<>\"\",OFFSET(DE104_5C!$D$27,ROWS($D$27:D36)-1,COLUMNS($D$27:D36)-1),\"\")","v":147450},{"$f":"IF(OFFSET(DE104_5C!$E$27,ROWS($E$27:E36)-1,COLUMNS($E$27:E36)-1)<>\"\",OFFSET(DE104_5C!$E$27,ROWS($E$27:E36)-1,COLUMNS($E$27:E36)-1),\"\")","v":147543.9},{"$f":"IF(OFFSET(DE104_5C!$F$27,ROWS($F$27:F36)-1,COLUMNS($F$27:F36)-1)<>\"\",OFFSET(DE104_5C!$F$27,ROWS($F$27:F36)-1,COLUMNS($F$27:F36)-1),\"\")","v":"DR-301 Type 2"},{"$f":"IF(OFFSET(DE104_5C!$G$27,ROWS($G$27:G36)-1,COLUMNS($G$27:G36)-1)<>\"\",OFFSET(DE104_5C!$G$27,ROWS($G$27:G36)-1,COLUMNS($G$27:G36)-1),\"\")","v":"Plastic"},{"$f":"IF(OFFSET(DE104_5C!$H$27,ROWS($H$27:H36)-1,COLUMNS($H$27:H36)-1)<>\"\",OFFSET(DE104_5C!$H$27,ROWS($H$27:H36)-1,COLUMNS($H$27:H36)-1),\"\")","v":4},{"$f":"IF(OFFSET(DE104_5C!$I$27,ROWS($I$27:I36)-1,COLUMNS($I$27:I36)-1)<>\"\",OFFSET(DE104_5C!$I$27,ROWS($I$27:I36)-1,COLUMNS($I$27:I36)-1),\"\")","v":100},{"$f":"IF(OFFSET(DE104_5C!$J$27,ROWS($J$27:J36)-1,COLUMNS($J$27:J36)-1)<>\"\",OFFSET(DE104_5C!$J$27,ROWS($J$27:J36)-1,COLUMNS($J$27:J36)-1),\"\")","v":""},{"$f":"IF(OFFSET(DE104_5C!$K$27,ROWS($K$27:K36)-1,COLUMNS($K$27:K36)-1)<>\"\",OFFSET(DE104_5C!$K$27,ROWS($K$27:K36)-1,COLUMNS($K$27:K36)-1),\"\")","v":""},{"$f":"IF(OFFSET(DE104_5C!$L$27,ROWS($L$27:L36)-1,COLUMNS($L$27:L36)-1)<>\"\",OFFSET(DE104_5C!$L$27,ROWS($L$27:L36)-1,COLUMNS($L$27:L36)-1),\"\")","v":""},{"$f":"IF(OFFSET(DE104_5C!$M$27,ROWS($M$27:M36)-1,COLUMNS($M$27:M36)-1)<>\"\",OFFSET(DE104_5C!$M$27,ROWS($M$27:M36)-1,COLUMNS($M$27:M36)-1),\"\")","v":""},{"$f":"IF(OFFSET(DE104_5C!$N$27,ROWS($N$27:N36)-1,COLUMNS($N$27:N36)-1)<>\"\",OFFSET(DE104_5C!$N$27,ROWS($N$27:N36)-1,COLUMNS($N$27:N36)-1),\"\")","v":""},{"$f":"IF(OFFSET(DE104_5C!$O$27,ROWS($O$27:O36)-1,COLUMNS($O$27:O36)-1)<>\"\",OFFSET(DE104_5C!$O$27,ROWS($O$27:O36)-1,COLUMNS($O$27:O36)-1),\"\")","v":1},{"$f":"IF(OFFSET(DE104_5C!$P$27,ROWS($P$27:P36)-1,COLUMNS($P$27:P36)-1)<>\"\",OFFSET(DE104_5C!$P$27,ROWS($P$27:P36)-1,COLUMNS($P$27:P36)-1),\"\")","v":""},{"$f":"IF(OFFSET(DE104_5C!$Q$27,ROWS($Q$27:Q36)-1,COLUMNS($Q$27:Q36)-1)<>\"\",OFFSET(DE104_5C!$Q$27,ROWS($Q$27:Q36)-1,COLUMNS($Q$27:Q36)-1),\"\")","v":""},{"$f":"IF(OFFSET(DE104_5C!$R$27,ROWS($R$27:R36)-1,COLUMNS($R$27:R36)-1)<>\"\",OFFSET(DE104_5C!$R$27,ROWS($R$27:R36)-1,COLUMNS($R$27:R36)-1),\"\")","v":""},{"$f":"IF(OFFSET(DE104_5C!$S$27,ROWS($S$27:S36)-1,COLUMNS($S$27:S36)-1)<>\"\",OFFSET(DE104_5C!$S$27,ROWS($S$27:S36)-1,COLUMNS($S$27:S36)-1),\"\")","v":10.8},{"$f":"IF(OFFSET(DE104_5C!$T$27,ROWS($T$27:T36)-1,COLUMNS($T$27:T36)-1)<>\"\",OFFSET(DE104_5C!$T$27,ROWS($T$27:T36)-1,COLUMNS($T$27:T36)-1),\"\")","v":""},{"$f":"IF(OFFSET(DE104_5C!$U$27,ROWS($U$27:U36)-1,COLUMNS($U$27:U36)-1)<>\"\",OFFSET(DE104_5C!$U$27,ROWS($U$27:U36)-1,COLUMNS($U$27:U36)-1),\"\")","v":""},{"$f":"IF(OFFSET(DE104_5C!$V$27,ROWS($V$27:V36)-1,COLUMNS($V$27:V36)-1)<>\"\",OFFSET(DE104_5C!$V$27,ROWS($V$27:V36)-1,COLUMNS($V$27:V36)-1),\"\")","v":"MSE Wall; outlet to ditch at Station 1474+50 as shown on Q.22"}]
[{"$f":"IF(OFFSET(DE104_5C!$C$27,ROWS($C$27:C37)-1,COLUMNS($C$27:C37)-1)<>\"\",OFFSET(DE104_5C!$C$27,ROWS($C$27:C37)-1,COLUMNS($C$27:C37)-1),\"\")","v":2},{"$f":"IF(OFFSET(DE104_5C!$D$27,ROWS($D$27:D37)-1,COLUMNS($D$27:D37)-1)<>\"\",OFFSET(DE104_5C!$D$27,ROWS($D$27:D37)-1,COLUMNS($D$27:D37)-1),\"\")","v":147450},{"$f":"IF(OFFSET(DE104_5C!$E$27,ROWS($E$27:E37)-1,COLUMNS($E$27:E37)-1)<>\"\",OFFSET(DE104_5C!$E$27,ROWS($E$27:E37)-1,COLUMNS($E$27:E37)-1),\"\")","v":147592.70000000001},{"$f":"IF(OFFSET(DE104_5C!$F$27,ROWS($F$27:F37)-1,COLUMNS($F$27:F37)-1)<>\"\",OFFSET(DE104_5C!$F$27,ROWS($F$27:F37)-1,COLUMNS($F$27:F37)-1),\"\")","v":"DR-301 Type 2"},{"$f":"IF(OFFSET(DE104_5C!$G$27,ROWS($G$27:G37)-1,COLUMNS($G$27:G37)-1)<>\"\",OFFSET(DE104_5C!$G$27,ROWS($G$27:G37)-1,COLUMNS($G$27:G37)-1),\"\")","v":"Plastic"},{"$f":"IF(OFFSET(DE104_5C!$H$27,ROWS($H$27:H37)-1,COLUMNS($H$27:H37)-1)<>\"\",OFFSET(DE104_5C!$H$27,ROWS($H$27:H37)-1,COLUMNS($H$27:H37)-1),\"\")","v":4},{"$f":"IF(OFFSET(DE104_5C!$I$27,ROWS($I$27:I37)-1,COLUMNS($I$27:I37)-1)<>\"\",OFFSET(DE104_5C!$I$27,ROWS($I$27:I37)-1,COLUMNS($I$27:I37)-1),\"\")","v":150},{"$f":"IF(OFFSET(DE104_5C!$J$27,ROWS($J$27:J37)-1,COLUMNS($J$27:J37)-1)<>\"\",OFFSET(DE104_5C!$J$27,ROWS($J$27:J37)-1,COLUMNS($J$27:J37)-1),\"\")","v":""},{"$f":"IF(OFFSET(DE104_5C!$K$27,ROWS($K$27:K37)-1,COLUMNS($K$27:K37)-1)<>\"\",OFFSET(DE104_5C!$K$27,ROWS($K$27:K37)-1,COLUMNS($K$27:K37)-1),\"\")","v":""},{"$f":"IF(OFFSET(DE104_5C!$L$27,ROWS($L$27:L37)-1,COLUMNS($L$27:L37)-1)<>\"\",OFFSET(DE104_5C!$L$27,ROWS($L$27:L37)-1,COLUMNS($L$27:L37)-1),\"\")","v":""},{"$f":"IF(OFFSET(DE104_5C!$M$27,ROWS($M$27:M37)-1,COLUMNS($M$27:M37)-1)<>\"\",OFFSET(DE104_5C!$M$27,ROWS($M$27:M37)-1,COLUMNS($M$27:M37)-1),\"\")","v":""},{"$f":"IF(OFFSET(DE104_5C!$N$27,ROWS($N$27:N37)-1,COLUMNS($N$27:N37)-1)<>\"\",OFFSET(DE104_5C!$N$27,ROWS($N$27:N37)-1,COLUMNS($N$27:N37)-1),\"\")","v":""},{"$f":"IF(OFFSET(DE104_5C!$O$27,ROWS($O$27:O37)-1,COLUMNS($O$27:O37)-1)<>\"\",OFFSET(DE104_5C!$O$27,ROWS($O$27:O37)-1,COLUMNS($O$27:O37)-1),\"\")","v":1},{"$f":"IF(OFFSET(DE104_5C!$P$27,ROWS($P$27:P37)-1,COLUMNS($P$27:P37)-1)<>\"\",OFFSET(DE104_5C!$P$27,ROWS($P$27:P37)-1,COLUMNS($P$27:P37)-1),\"\")","v":""},{"$f":"IF(OFFSET(DE104_5C!$Q$27,ROWS($Q$27:Q37)-1,COLUMNS($Q$27:Q37)-1)<>\"\",OFFSET(DE104_5C!$Q$27,ROWS($Q$27:Q37)-1,COLUMNS($Q$27:Q37)-1),\"\")","v":""},{"$f":"IF(OFFSET(DE104_5C!$R$27,ROWS($R$27:R37)-1,COLUMNS($R$27:R37)-1)<>\"\",OFFSET(DE104_5C!$R$27,ROWS($R$27:R37)-1,COLUMNS($R$27:R37)-1),\"\")","v":""},{"$f":"IF(OFFSET(DE104_5C!$S$27,ROWS($S$27:S37)-1,COLUMNS($S$27:S37)-1)<>\"\",OFFSET(DE104_5C!$S$27,ROWS($S$27:S37)-1,COLUMNS($S$27:S37)-1),\"\")","v":10.8},{"$f":"IF(OFFSET(DE104_5C!$T$27,ROWS($T$27:T37)-1,COLUMNS($T$27:T37)-1)<>\"\",OFFSET(DE104_5C!$T$27,ROWS($T$27:T37)-1,COLUMNS($T$27:T37)-1),\"\")","v":""},{"$f":"IF(OFFSET(DE104_5C!$U$27,ROWS($U$27:U37)-1,COLUMNS($U$27:U37)-1)<>\"\",OFFSET(DE104_5C!$U$27,ROWS($U$27:U37)-1,COLUMNS($U$27:U37)-1),\"\")","v":""},{"$f":"IF(OFFSET(DE104_5C!$V$27,ROWS($V$27:V37)-1,COLUMNS($V$27:V37)-1)<>\"\",OFFSET(DE104_5C!$V$27,ROWS($V$27:V37)-1,COLUMNS($V$27:V37)-1),\"\")","v":"MSE Wall; outlet to ditch at Station 1474+50 as shown on Q.22"}]
[{"$f":"IF(OFFSET(DE104_5C!$C$27,ROWS($C$27:C38)-1,COLUMNS($C$27:C38)-1)<>\"\",OFFSET(DE104_5C!$C$27,ROWS($C$27:C38)-1,COLUMNS($C$27:C38)-1),\"\")","v":""},{"$f":"IF(OFFSET(DE104_5C!$D$27,ROWS($D$27:D38)-1,COLUMNS($D$27:D38)-1)<>\"\",OFFSET(DE104_5C!$D$27,ROWS($D$27:D38)-1,COLUMNS($D$27:D38)-1),\"\")","v":""},{"$f":"IF(OFFSET(DE104_5C!$E$27,ROWS($E$27:E38)-1,COLUMNS($E$27:E38)-1)<>\"\",OFFSET(DE104_5C!$E$27,ROWS($E$27:E38)-1,COLUMNS($E$27:E38)-1),\"\")","v":""},{"$f":"IF(OFFSET(DE104_5C!$F$27,ROWS($F$27:F38)-1,COLUMNS($F$27:F38)-1)<>\"\",OFFSET(DE104_5C!$F$27,ROWS($F$27:F38)-1,COLUMNS($F$27:F38)-1),\"\")","v":""},{"$f":"IF(OFFSET(DE104_5C!$G$27,ROWS($G$27:G38)-1,COLUMNS($G$27:G38)-1)<>\"\",OFFSET(DE104_5C!$G$27,ROWS($G$27:G38)-1,COLUMNS($G$27:G38)-1),\"\")","v":""},{"$f":"IF(OFFSET(DE104_5C!$H$27,ROWS($H$27:H38)-1,COLUMNS($H$27:H38)-1)<>\"\",OFFSET(DE104_5C!$H$27,ROWS($H$27:H38)-1,COLUMNS($H$27:H38)-1),\"\")","v":""},{"$f":"IF(OFFSET(DE104_5C!$I$27,ROWS($I$27:I38)-1,COLUMNS($I$27:I38)-1)<>\"\",OFFSET(DE104_5C!$I$27,ROWS($I$27:I38)-1,COLUMNS($I$27:I38)-1),\"\")","v":""},{"$f":"IF(OFFSET(DE104_5C!$J$27,ROWS($J$27:J38)-1,COLUMNS($J$27:J38)-1)<>\"\",OFFSET(DE104_5C!$J$27,ROWS($J$27:J38)-1,COLUMNS($J$27:J38)-1),\"\")","v":""},{"$f":"IF(OFFSET(DE104_5C!$K$27,ROWS($K$27:K38)-1,COLUMNS($K$27:K38)-1)<>\"\",OFFSET(DE104_5C!$K$27,ROWS($K$27:K38)-1,COLUMNS($K$27:K38)-1),\"\")","v":""},{"$f":"IF(OFFSET(DE104_5C!$L$27,ROWS($L$27:L38)-1,COLUMNS($L$27:L38)-1)<>\"\",OFFSET(DE104_5C!$L$27,ROWS($L$27:L38)-1,COLUMNS($L$27:L38)-1),\"\")","v":""},{"$f":"IF(OFFSET(DE104_5C!$M$27,ROWS($M$27:M38)-1,COLUMNS($M$27:M38)-1)<>\"\",OFFSET(DE104_5C!$M$27,ROWS($M$27:M38)-1,COLUMNS($M$27:M38)-1),\"\")","v":""},{"$f":"IF(OFFSET(DE104_5C!$N$27,ROWS($N$27:N38)-1,COLUMNS($N$27:N38)-1)<>\"\",OFFSET(DE104_5C!$N$27,ROWS($N$27:N38)-1,COLUMNS($N$27:N38)-1),\"\")","v":""},{"$f":"IF(OFFSET(DE104_5C!$O$27,ROWS($O$27:O38)-1,COLUMNS($O$27:O38)-1)<>\"\",OFFSET(DE104_5C!$O$27,ROWS($O$27:O38)-1,COLUMNS($O$27:O38)-1),\"\")","v":""},{"$f":"IF(OFFSET(DE104_5C!$P$27,ROWS($P$27:P38)-1,COLUMNS($P$27:P38)-1)<>\"\",OFFSET(DE104_5C!$P$27,ROWS($P$27:P38)-1,COLUMNS($P$27:P38)-1),\"\")","v":""},{"$f":"IF(OFFSET(DE104_5C!$Q$27,ROWS($Q$27:Q38)-1,COLUMNS($Q$27:Q38)-1)<>\"\",OFFSET(DE104_5C!$Q$27,ROWS($Q$27:Q38)-1,COLUMNS($Q$27:Q38)-1),\"\")","v":""},{"$f":"IF(OFFSET(DE104_5C!$R$27,ROWS($R$27:R38)-1,COLUMNS($R$27:R38)-1)<>\"\",OFFSET(DE104_5C!$R$27,ROWS($R$27:R38)-1,COLUMNS($R$27:R38)-1),\"\")","v":""},{"$f":"IF(OFFSET(DE104_5C!$S$27,ROWS($S$27:S38)-1,COLUMNS($S$27:S38)-1)<>\"\",OFFSET(DE104_5C!$S$27,ROWS($S$27:S38)-1,COLUMNS($S$27:S38)-1),\"\")","v":""},{"$f":"IF(OFFSET(DE104_5C!$T$27,ROWS($T$27:T38)-1,COLUMNS($T$27:T38)-1)<>\"\",OFFSET(DE104_5C!$T$27,ROWS($T$27:T38)-1,COLUMNS($T$27:T38)-1),\"\")","v":""},{"$f":"IF(OFFSET(DE104_5C!$U$27,ROWS($U$27:U38)-1,COLUMNS($U$27:U38)-1)<>\"\",OFFSET(DE104_5C!$U$27,ROWS($U$27:U38)-1,COLUMNS($U$27:U38)-1),\"\")","v":""},{"$f":"IF(OFFSET(DE104_5C!$V$27,ROWS($V$27:V38)-1,COLUMNS($V$27:V38)-1)<>\"\",OFFSET(DE104_5C!$V$27,ROWS($V$27:V38)-1,COLUMNS($V$27:V38)-1),\"\")","v":""}]
[{"$f":"IF(OFFSET(DE104_5C!$C$27,ROWS($C$27:C39)-1,COLUMNS($C$27:C39)-1)<>\"\",OFFSET(DE104_5C!$C$27,ROWS($C$27:C39)-1,COLUMNS($C$27:C39)-1),\"\")","v":"Notes:"},{"$f":"IF(OFFSET(DE104_5C!$D$27,ROWS($D$27:D39)-1,COLUMNS($D$27:D39)-1)<>\"\",OFFSET(DE104_5C!$D$27,ROWS($D$27:D39)-1,COLUMNS($D$27:D39)-1),\"\")","v":""},{"$f":"IF(OFFSET(DE104_5C!$E$27,ROWS($E$27:E39)-1,COLUMNS($E$27:E39)-1)<>\"\",OFFSET(DE104_5C!$E$27,ROWS($E$27:E39)-1,COLUMNS($E$27:E39)-1),\"\")","v":""},{"$f":"IF(OFFSET(DE104_5C!$F$27,ROWS($F$27:F39)-1,COLUMNS($F$27:F39)-1)<>\"\",OFFSET(DE104_5C!$F$27,ROWS($F$27:F39)-1,COLUMNS($F$27:F39)-1),\"\")","v":""},{"$f":"IF(OFFSET(DE104_5C!$G$27,ROWS($G$27:G39)-1,COLUMNS($G$27:G39)-1)<>\"\",OFFSET(DE104_5C!$G$27,ROWS($G$27:G39)-1,COLUMNS($G$27:G39)-1),\"\")","v":""},{"$f":"IF(OFFSET(DE104_5C!$H$27,ROWS($H$27:H39)-1,COLUMNS($H$27:H39)-1)<>\"\",OFFSET(DE104_5C!$H$27,ROWS($H$27:H39)-1,COLUMNS($H$27:H39)-1),\"\")","v":""},{"$f":"IF(OFFSET(DE104_5C!$I$27,ROWS($I$27:I39)-1,COLUMNS($I$27:I39)-1)<>\"\",OFFSET(DE104_5C!$I$27,ROWS($I$27:I39)-1,COLUMNS($I$27:I39)-1),\"\")","v":""},{"$f":"IF(OFFSET(DE104_5C!$J$27,ROWS($J$27:J39)-1,COLUMNS($J$27:J39)-1)<>\"\",OFFSET(DE104_5C!$J$27,ROWS($J$27:J39)-1,COLUMNS($J$27:J39)-1),\"\")","v":""},{"$f":"IF(OFFSET(DE104_5C!$K$27,ROWS($K$27:K39)-1,COLUMNS($K$27:K39)-1)<>\"\",OFFSET(DE104_5C!$K$27,ROWS($K$27:K39)-1,COLUMNS($K$27:K39)-1),\"\")","v":""},{"$f":"IF(OFFSET(DE104_5C!$L$27,ROWS($L$27:L39)-1,COLUMNS($L$27:L39)-1)<>\"\",OFFSET(DE104_5C!$L$27,ROWS($L$27:L39)-1,COLUMNS($L$27:L39)-1),\"\")","v":""},{"$f":"IF(OFFSET(DE104_5C!$M$27,ROWS($M$27:M39)-1,COLUMNS($M$27:M39)-1)<>\"\",OFFSET(DE104_5C!$M$27,ROWS($M$27:M39)-1,COLUMNS($M$27:M39)-1),\"\")","v":""},{"$f":"IF(OFFSET(DE104_5C!$N$27,ROWS($N$27:N39)-1,COLUMNS($N$27:N39)-1)<>\"\",OFFSET(DE104_5C!$N$27,ROWS($N$27:N39)-1,COLUMNS($N$27:N39)-1),\"\")","v":""},{"$f":"IF(OFFSET(DE104_5C!$O$27,ROWS($O$27:O39)-1,COLUMNS($O$27:O39)-1)<>\"\",OFFSET(DE104_5C!$O$27,ROWS($O$27:O39)-1,COLUMNS($O$27:O39)-1),\"\")","v":""},{"$f":"IF(OFFSET(DE104_5C!$P$27,ROWS($P$27:P39)-1,COLUMNS($P$27:P39)-1)<>\"\",OFFSET(DE104_5C!$P$27,ROWS($P$27:P39)-1,COLUMNS($P$27:P39)-1),\"\")","v":""},{"$f":"IF(OFFSET(DE104_5C!$Q$27,ROWS($Q$27:Q39)-1,COLUMNS($Q$27:Q39)-1)<>\"\",OFFSET(DE104_5C!$Q$27,ROWS($Q$27:Q39)-1,COLUMNS($Q$27:Q39)-1),\"\")","v":""},{"$f":"IF(OFFSET(DE104_5C!$R$27,ROWS($R$27:R39)-1,COLUMNS($R$27:R39)-1)<>\"\",OFFSET(DE104_5C!$R$27,ROWS($R$27:R39)-1,COLUMNS($R$27:R39)-1),\"\")","v":""},{"$f":"IF(OFFSET(DE104_5C!$S$27,ROWS($S$27:S39)-1,COLUMNS($S$27:S39)-1)<>\"\",OFFSET(DE104_5C!$S$27,ROWS($S$27:S39)-1,COLUMNS($S$27:S39)-1),\"\")","v":""},{"$f":"IF(OFFSET(DE104_5C!$T$27,ROWS($T$27:T39)-1,COLUMNS($T$27:T39)-1)<>\"\",OFFSET(DE104_5C!$T$27,ROWS($T$27:T39)-1,COLUMNS($T$27:T39)-1),\"\")","v":""},{"$f":"IF(OFFSET(DE104_5C!$U$27,ROWS($U$27:U39)-1,COLUMNS($U$27:U39)-1)<>\"\",OFFSET(DE104_5C!$U$27,ROWS($U$27:U39)-1,COLUMNS($U$27:U39)-1),\"\")","v":""},{"$f":"IF(OFFSET(DE104_5C!$V$27,ROWS($V$27:V39)-1,COLUMNS($V$27:V39)-1)<>\"\",OFFSET(DE104_5C!$V$27,ROWS($V$27:V39)-1,COLUMNS($V$27:V39)-1),\"\")","v":""}]
[{"$f":"IF(OFFSET(DE104_5C!$C$27,ROWS($C$27:C40)-1,COLUMNS($C$27:C40)-1)<>\"\",OFFSET(DE104_5C!$C$27,ROWS($C$27:C40)-1,COLUMNS($C$27:C40)-1),\"\")","v":"    1. The Working Blankets shown on the Q Sheets and on tab. 104-5C may be deleted if determined not to be necessary at the time of construction."},null,null,null,null,null,null,null,null,null,null,null,null,null,{"$f":"IF(OFFSET(DE104_5C!$Q$27,ROWS($Q$27:Q40)-1,COLUMNS($Q$27:Q40)-1)<>\"\",OFFSET(DE104_5C!$Q$27,ROWS($Q$27:Q40)-1,COLUMNS($Q$27:Q40)-1),\"\")","v":""},{"$f":"IF(OFFSET(DE104_5C!$R$27,ROWS($R$27:R40)-1,COLUMNS($R$27:R40)-1)<>\"\",OFFSET(DE104_5C!$R$27,ROWS($R$27:R40)-1,COLUMNS($R$27:R40)-1),\"\")","v":""},{"$f":"IF(OFFSET(DE104_5C!$S$27,ROWS($S$27:S40)-1,COLUMNS($S$27:S40)-1)<>\"\",OFFSET(DE104_5C!$S$27,ROWS($S$27:S40)-1,COLUMNS($S$27:S40)-1),\"\")","v":""},{"$f":"IF(OFFSET(DE104_5C!$T$27,ROWS($T$27:T40)-1,COLUMNS($T$27:T40)-1)<>\"\",OFFSET(DE104_5C!$T$27,ROWS($T$27:T40)-1,COLUMNS($T$27:T40)-1),\"\")","v":""},{"$f":"IF(OFFSET(DE104_5C!$U$27,ROWS($U$27:U40)-1,COLUMNS($U$27:U40)-1)<>\"\",OFFSET(DE104_5C!$U$27,ROWS($U$27:U40)-1,COLUMNS($U$27:U40)-1),\"\")","v":""},{"$f":"IF(OFFSET(DE104_5C!$V$27,ROWS($V$27:V40)-1,COLUMNS($V$27:V40)-1)<>\"\",OFFSET(DE104_5C!$V$27,ROWS($V$27:V40)-1,COLUMNS($V$27:V40)-1),\"\")","v":""}]
[{"$f":"IF(OFFSET(DE104_5C!$C$27,ROWS($C$27:C41)-1,COLUMNS($C$27:C41)-1)<>\"\",OFFSET(DE104_5C!$C$27,ROWS($C$27:C41)-1,COLUMNS($C$27:C41)-1),\"\")","v":"    2. See \"MSE Retaining Wall Construction Notes\" on Sheet V.1 for details of drain installation"},null,null,null,null,null,null,null,null,null,null,null,null,{"$f":"IF(OFFSET(DE104_5C!$P$27,ROWS($P$27:P41)-1,COLUMNS($P$27:P41)-1)<>\"\",OFFSET(DE104_5C!$P$27,ROWS($P$27:P41)-1,COLUMNS($P$27:P41)-1),\"\")","v":""},{"$f":"IF(OFFSET(DE104_5C!$Q$27,ROWS($Q$27:Q41)-1,COLUMNS($Q$27:Q41)-1)<>\"\",OFFSET(DE104_5C!$Q$27,ROWS($Q$27:Q41)-1,COLUMNS($Q$27:Q41)-1),\"\")","v":""},{"$f":"IF(OFFSET(DE104_5C!$R$27,ROWS($R$27:R41)-1,COLUMNS($R$27:R41)-1)<>\"\",OFFSET(DE104_5C!$R$27,ROWS($R$27:R41)-1,COLUMNS($R$27:R41)-1),\"\")","v":""},{"$f":"IF(OFFSET(DE104_5C!$S$27,ROWS($S$27:S41)-1,COLUMNS($S$27:S41)-1)<>\"\",OFFSET(DE104_5C!$S$27,ROWS($S$27:S41)-1,COLUMNS($S$27:S41)-1),\"\")","v":""},{"$f":"IF(OFFSET(DE104_5C!$T$27,ROWS($T$27:T41)-1,COLUMNS($T$27:T41)-1)<>\"\",OFFSET(DE104_5C!$T$27,ROWS($T$27:T41)-1,COLUMNS($T$27:T41)-1),\"\")","v":""},{"$f":"IF(OFFSET(DE104_5C!$U$27,ROWS($U$27:U41)-1,COLUMNS($U$27:U41)-1)<>\"\",OFFSET(DE104_5C!$U$27,ROWS($U$27:U41)-1,COLUMNS($U$27:U41)-1),\"\")","v":""},{"$f":"IF(OFFSET(DE104_5C!$V$27,ROWS($V$27:V41)-1,COLUMNS($V$27:V41)-1)<>\"\",OFFSET(DE104_5C!$V$27,ROWS($V$27:V41)-1,COLUMNS($V$27:V41)-1),\"\")","v":""}]
[{"$f":"IF(OFFSET(DE104_5C!$C$27,ROWS($C$27:C42)-1,COLUMNS($C$27:C42)-1)<>\"\",OFFSET(DE104_5C!$C$27,ROWS($C$27:C42)-1,COLUMNS($C$27:C42)-1),\"\")","v":"    3. See plan view on Sheet Q.22 for locations of drain installation."},null,null,null,null,null,null,null,null,null,null,null,null,{"$f":"IF(OFFSET(DE104_5C!$P$27,ROWS($P$27:P42)-1,COLUMNS($P$27:P42)-1)<>\"\",OFFSET(DE104_5C!$P$27,ROWS($P$27:P42)-1,COLUMNS($P$27:P42)-1),\"\")","v":""},{"$f":"IF(OFFSET(DE104_5C!$Q$27,ROWS($Q$27:Q42)-1,COLUMNS($Q$27:Q42)-1)<>\"\",OFFSET(DE104_5C!$Q$27,ROWS($Q$27:Q42)-1,COLUMNS($Q$27:Q42)-1),\"\")","v":""},{"$f":"IF(OFFSET(DE104_5C!$R$27,ROWS($R$27:R42)-1,COLUMNS($R$27:R42)-1)<>\"\",OFFSET(DE104_5C!$R$27,ROWS($R$27:R42)-1,COLUMNS($R$27:R42)-1),\"\")","v":""},{"$f":"IF(OFFSET(DE104_5C!$S$27,ROWS($S$27:S42)-1,COLUMNS($S$27:S42)-1)<>\"\",OFFSET(DE104_5C!$S$27,ROWS($S$27:S42)-1,COLUMNS($S$27:S42)-1),\"\")","v":""},{"$f":"IF(OFFSET(DE104_5C!$T$27,ROWS($T$27:T42)-1,COLUMNS($T$27:T42)-1)<>\"\",OFFSET(DE104_5C!$T$27,ROWS($T$27:T42)-1,COLUMNS($T$27:T42)-1),\"\")","v":""},{"$f":"IF(OFFSET(DE104_5C!$U$27,ROWS($U$27:U42)-1,COLUMNS($U$27:U42)-1)<>\"\",OFFSET(DE104_5C!$U$27,ROWS($U$27:U42)-1,COLUMNS($U$27:U42)-1),\"\")","v":""},{"$f":"IF(OFFSET(DE104_5C!$V$27,ROWS($V$27:V42)-1,COLUMNS($V$27:V42)-1)<>\"\",OFFSET(DE104_5C!$V$27,ROWS($V$27:V42)-1,COLUMNS($V$27:V42)-1),\"\")","v":""}]
[{"$f":"IF(OFFSET(DE104_5C!$C$27,ROWS($C$27:C43)-1,COLUMNS($C$27:C43)-1)<>\"\",OFFSET(DE104_5C!$C$27,ROWS($C$27:C43)-1,COLUMNS($C$27:C43)-1),\"\")","v":"    4. Drain line No. 2 length includes subdrain within MSE wall and length outside wall to reach ditch outlet location."},null,null,null,null,null,null,null,null,null,null,null,null,{"$f":"IF(OFFSET(DE104_5C!$P$27,ROWS($P$27:P43)-1,COLUMNS($P$27:P43)-1)<>\"\",OFFSET(DE104_5C!$P$27,ROWS($P$27:P43)-1,COLUMNS($P$27:P43)-1),\"\")","v":""},{"$f":"IF(OFFSET(DE104_5C!$Q$27,ROWS($Q$27:Q43)-1,COLUMNS($Q$27:Q43)-1)<>\"\",OFFSET(DE104_5C!$Q$27,ROWS($Q$27:Q43)-1,COLUMNS($Q$27:Q43)-1),\"\")","v":""},{"$f":"IF(OFFSET(DE104_5C!$R$27,ROWS($R$27:R43)-1,COLUMNS($R$27:R43)-1)<>\"\",OFFSET(DE104_5C!$R$27,ROWS($R$27:R43)-1,COLUMNS($R$27:R43)-1),\"\")","v":""},{"$f":"IF(OFFSET(DE104_5C!$S$27,ROWS($S$27:S43)-1,COLUMNS($S$27:S43)-1)<>\"\",OFFSET(DE104_5C!$S$27,ROWS($S$27:S43)-1,COLUMNS($S$27:S43)-1),\"\")","v":""},{"$f":"IF(OFFSET(DE104_5C!$T$27,ROWS($T$27:T43)-1,COLUMNS($T$27:T43)-1)<>\"\",OFFSET(DE104_5C!$T$27,ROWS($T$27:T43)-1,COLUMNS($T$27:T43)-1),\"\")","v":""},{"$f":"IF(OFFSET(DE104_5C!$U$27,ROWS($U$27:U43)-1,COLUMNS($U$27:U43)-1)<>\"\",OFFSET(DE104_5C!$U$27,ROWS($U$27:U43)-1,COLUMNS($U$27:U43)-1),\"\")","v":""},{"$f":"IF(OFFSET(DE104_5C!$V$27,ROWS($V$27:V43)-1,COLUMNS($V$27:V43)-1)<>\"\",OFFSET(DE104_5C!$V$27,ROWS($V$27:V43)-1,COLUMNS($V$27:V43)-1),\"\")","v":""}]
[{"$f":"IF(OFFSET(DE104_5C!$C$27,ROWS($C$27:C44)-1,COLUMNS($C$27:C44)-1)<>\"\",OFFSET(DE104_5C!$C$27,ROWS($C$27:C44)-1,COLUMNS($C$27:C44)-1),\"\")","v":"    5. Quantities are for porous trench width of 20 inches ( both lines combined) and depth of 4 feet with 6 inches of topsoil cover."},null,null,null,null,null,null,null,null,null,null,null,null,{"$f":"IF(OFFSET(DE104_5C!$P$27,ROWS($P$27:P44)-1,COLUMNS($P$27:P44)-1)<>\"\",OFFSET(DE104_5C!$P$27,ROWS($P$27:P44)-1,COLUMNS($P$27:P44)-1),\"\")","v":""},{"$f":"IF(OFFSET(DE104_5C!$Q$27,ROWS($Q$27:Q44)-1,COLUMNS($Q$27:Q44)-1)<>\"\",OFFSET(DE104_5C!$Q$27,ROWS($Q$27:Q44)-1,COLUMNS($Q$27:Q44)-1),\"\")","v":""},{"$f":"IF(OFFSET(DE104_5C!$R$27,ROWS($R$27:R44)-1,COLUMNS($R$27:R44)-1)<>\"\",OFFSET(DE104_5C!$R$27,ROWS($R$27:R44)-1,COLUMNS($R$27:R44)-1),\"\")","v":""},{"$f":"IF(OFFSET(DE104_5C!$S$27,ROWS($S$27:S44)-1,COLUMNS($S$27:S44)-1)<>\"\",OFFSET(DE104_5C!$S$27,ROWS($S$27:S44)-1,COLUMNS($S$27:S44)-1),\"\")","v":""},{"$f":"IF(OFFSET(DE104_5C!$T$27,ROWS($T$27:T44)-1,COLUMNS($T$27:T44)-1)<>\"\",OFFSET(DE104_5C!$T$27,ROWS($T$27:T44)-1,COLUMNS($T$27:T44)-1),\"\")","v":""},{"$f":"IF(OFFSET(DE104_5C!$U$27,ROWS($U$27:U44)-1,COLUMNS($U$27:U44)-1)<>\"\",OFFSET(DE104_5C!$U$27,ROWS($U$27:U44)-1,COLUMNS($U$27:U44)-1),\"\")","v":""},{"$f":"IF(OFFSET(DE104_5C!$V$27,ROWS($V$27:V44)-1,COLUMNS($V$27:V44)-1)<>\"\",OFFSET(DE104_5C!$V$27,ROWS($V$27:V44)-1,COLUMNS($V$27:V44)-1),\"\")","v":""}]
[{"$f":"IF(OFFSET(DE104_5C!$C$27,ROWS($C$27:C45)-1,COLUMNS($C$27:C45)-1)<>\"\",OFFSET(DE104_5C!$C$27,ROWS($C$27:C45)-1,COLUMNS($C$27:C45)-1),\"\")","v":""},{"$f":"IF(OFFSET(DE104_5C!$D$27,ROWS($D$27:D45)-1,COLUMNS($D$27:D45)-1)<>\"\",OFFSET(DE104_5C!$D$27,ROWS($D$27:D45)-1,COLUMNS($D$27:D45)-1),\"\")","v":""},{"$f":"IF(OFFSET(DE104_5C!$E$27,ROWS($E$27:E45)-1,COLUMNS($E$27:E45)-1)<>\"\",OFFSET(DE104_5C!$E$27,ROWS($E$27:E45)-1,COLUMNS($E$27:E45)-1),\"\")","v":""},{"$f":"IF(OFFSET(DE104_5C!$F$27,ROWS($F$27:F45)-1,COLUMNS($F$27:F45)-1)<>\"\",OFFSET(DE104_5C!$F$27,ROWS($F$27:F45)-1,COLUMNS($F$27:F45)-1),\"\")","v":""},{"$f":"IF(OFFSET(DE104_5C!$G$27,ROWS($G$27:G45)-1,COLUMNS($G$27:G45)-1)<>\"\",OFFSET(DE104_5C!$G$27,ROWS($G$27:G45)-1,COLUMNS($G$27:G45)-1),\"\")","v":""},{"$f":"IF(OFFSET(DE104_5C!$H$27,ROWS($H$27:H45)-1,COLUMNS($H$27:H45)-1)<>\"\",OFFSET(DE104_5C!$H$27,ROWS($H$27:H45)-1,COLUMNS($H$27:H45)-1),\"\")","v":""},{"$f":"IF(OFFSET(DE104_5C!$I$27,ROWS($I$27:I45)-1,COLUMNS($I$27:I45)-1)<>\"\",OFFSET(DE104_5C!$I$27,ROWS($I$27:I45)-1,COLUMNS($I$27:I45)-1),\"\")","v":""},{"$f":"IF(OFFSET(DE104_5C!$J$27,ROWS($J$27:J45)-1,COLUMNS($J$27:J45)-1)<>\"\",OFFSET(DE104_5C!$J$27,ROWS($J$27:J45)-1,COLUMNS($J$27:J45)-1),\"\")","v":""},{"$f":"IF(OFFSET(DE104_5C!$K$27,ROWS($K$27:K45)-1,COLUMNS($K$27:K45)-1)<>\"\",OFFSET(DE104_5C!$K$27,ROWS($K$27:K45)-1,COLUMNS($K$27:K45)-1),\"\")","v":""},{"$f":"IF(OFFSET(DE104_5C!$L$27,ROWS($L$27:L45)-1,COLUMNS($L$27:L45)-1)<>\"\",OFFSET(DE104_5C!$L$27,ROWS($L$27:L45)-1,COLUMNS($L$27:L45)-1),\"\")","v":""},{"$f":"IF(OFFSET(DE104_5C!$M$27,ROWS($M$27:M45)-1,COLUMNS($M$27:M45)-1)<>\"\",OFFSET(DE104_5C!$M$27,ROWS($M$27:M45)-1,COLUMNS($M$27:M45)-1),\"\")","v":""},{"$f":"IF(OFFSET(DE104_5C!$N$27,ROWS($N$27:N45)-1,COLUMNS($N$27:N45)-1)<>\"\",OFFSET(DE104_5C!$N$27,ROWS($N$27:N45)-1,COLUMNS($N$27:N45)-1),\"\")","v":""},{"$f":"IF(OFFSET(DE104_5C!$O$27,ROWS($O$27:O45)-1,COLUMNS($O$27:O45)-1)<>\"\",OFFSET(DE104_5C!$O$27,ROWS($O$27:O45)-1,COLUMNS($O$27:O45)-1),\"\")","v":""},{"$f":"IF(OFFSET(DE104_5C!$P$27,ROWS($P$27:P45)-1,COLUMNS($P$27:P45)-1)<>\"\",OFFSET(DE104_5C!$P$27,ROWS($P$27:P45)-1,COLUMNS($P$27:P45)-1),\"\")","v":""},{"$f":"IF(OFFSET(DE104_5C!$Q$27,ROWS($Q$27:Q45)-1,COLUMNS($Q$27:Q45)-1)<>\"\",OFFSET(DE104_5C!$Q$27,ROWS($Q$27:Q45)-1,COLUMNS($Q$27:Q45)-1),\"\")","v":""},{"$f":"IF(OFFSET(DE104_5C!$R$27,ROWS($R$27:R45)-1,COLUMNS($R$27:R45)-1)<>\"\",OFFSET(DE104_5C!$R$27,ROWS($R$27:R45)-1,COLUMNS($R$27:R45)-1),\"\")","v":""},{"$f":"IF(OFFSET(DE104_5C!$S$27,ROWS($S$27:S45)-1,COLUMNS($S$27:S45)-1)<>\"\",OFFSET(DE104_5C!$S$27,ROWS($S$27:S45)-1,COLUMNS($S$27:S45)-1),\"\")","v":""},{"$f":"IF(OFFSET(DE104_5C!$T$27,ROWS($T$27:T45)-1,COLUMNS($T$27:T45)-1)<>\"\",OFFSET(DE104_5C!$T$27,ROWS($T$27:T45)-1,COLUMNS($T$27:T45)-1),\"\")","v":""},{"$f":"IF(OFFSET(DE104_5C!$U$27,ROWS($U$27:U45)-1,COLUMNS($U$27:U45)-1)<>\"\",OFFSET(DE104_5C!$U$27,ROWS($U$27:U45)-1,COLUMNS($U$27:U45)-1),\"\")","v":""},{"$f":"IF(OFFSET(DE104_5C!$V$27,ROWS($V$27:V45)-1,COLUMNS($V$27:V45)-1)<>\"\",OFFSET(DE104_5C!$V$27,ROWS($V$27:V45)-1,COLUMNS($V$27:V45)-1),\"\")","v":""}]
[{"$f":"IF(OFFSET(DE104_5C!$C$27,ROWS($C$27:C46)-1,COLUMNS($C$27:C46)-1)<>\"\",OFFSET(DE104_5C!$C$27,ROWS($C$27:C46)-1,COLUMNS($C$27:C46)-1),\"\")","v":""},{"$f":"IF(OFFSET(DE104_5C!$D$27,ROWS($D$27:D46)-1,COLUMNS($D$27:D46)-1)<>\"\",OFFSET(DE104_5C!$D$27,ROWS($D$27:D46)-1,COLUMNS($D$27:D46)-1),\"\")","v":""},{"$f":"IF(OFFSET(DE104_5C!$E$27,ROWS($E$27:E46)-1,COLUMNS($E$27:E46)-1)<>\"\",OFFSET(DE104_5C!$E$27,ROWS($E$27:E46)-1,COLUMNS($E$27:E46)-1),\"\")","v":""},{"$f":"IF(OFFSET(DE104_5C!$F$27,ROWS($F$27:F46)-1,COLUMNS($F$27:F46)-1)<>\"\",OFFSET(DE104_5C!$F$27,ROWS($F$27:F46)-1,COLUMNS($F$27:F46)-1),\"\")","v":""},{"$f":"IF(OFFSET(DE104_5C!$G$27,ROWS($G$27:G46)-1,COLUMNS($G$27:G46)-1)<>\"\",OFFSET(DE104_5C!$G$27,ROWS($G$27:G46)-1,COLUMNS($G$27:G46)-1),\"\")","v":""},{"$f":"IF(OFFSET(DE104_5C!$H$27,ROWS($H$27:H46)-1,COLUMNS($H$27:H46)-1)<>\"\",OFFSET(DE104_5C!$H$27,ROWS($H$27:H46)-1,COLUMNS($H$27:H46)-1),\"\")","v":""},{"$f":"IF(OFFSET(DE104_5C!$I$27,ROWS($I$27:I46)-1,COLUMNS($I$27:I46)-1)<>\"\",OFFSET(DE104_5C!$I$27,ROWS($I$27:I46)-1,COLUMNS($I$27:I46)-1),\"\")","v":""},{"$f":"IF(OFFSET(DE104_5C!$J$27,ROWS($J$27:J46)-1,COLUMNS($J$27:J46)-1)<>\"\",OFFSET(DE104_5C!$J$27,ROWS($J$27:J46)-1,COLUMNS($J$27:J46)-1),\"\")","v":""},{"$f":"IF(OFFSET(DE104_5C!$K$27,ROWS($K$27:K46)-1,COLUMNS($K$27:K46)-1)<>\"\",OFFSET(DE104_5C!$K$27,ROWS($K$27:K46)-1,COLUMNS($K$27:K46)-1),\"\")","v":""},{"$f":"IF(OFFSET(DE104_5C!$L$27,ROWS($L$27:L46)-1,COLUMNS($L$27:L46)-1)<>\"\",OFFSET(DE104_5C!$L$27,ROWS($L$27:L46)-1,COLUMNS($L$27:L46)-1),\"\")","v":""},{"$f":"IF(OFFSET(DE104_5C!$M$27,ROWS($M$27:M46)-1,COLUMNS($M$27:M46)-1)<>\"\",OFFSET(DE104_5C!$M$27,ROWS($M$27:M46)-1,COLUMNS($M$27:M46)-1),\"\")","v":""},{"$f":"IF(OFFSET(DE104_5C!$N$27,ROWS($N$27:N46)-1,COLUMNS($N$27:N46)-1)<>\"\",OFFSET(DE104_5C!$N$27,ROWS($N$27:N46)-1,COLUMNS($N$27:N46)-1),\"\")","v":""},{"$f":"IF(OFFSET(DE104_5C!$O$27,ROWS($O$27:O46)-1,COLUMNS($O$27:O46)-1)<>\"\",OFFSET(DE104_5C!$O$27,ROWS($O$27:O46)-1,COLUMNS($O$27:O46)-1),\"\")","v":""},{"$f":"IF(OFFSET(DE104_5C!$P$27,ROWS($P$27:P46)-1,COLUMNS($P$27:P46)-1)<>\"\",OFFSET(DE104_5C!$P$27,ROWS($P$27:P46)-1,COLUMNS($P$27:P46)-1),\"\")","v":""},{"$f":"IF(OFFSET(DE104_5C!$Q$27,ROWS($Q$27:Q46)-1,COLUMNS($Q$27:Q46)-1)<>\"\",OFFSET(DE104_5C!$Q$27,ROWS($Q$27:Q46)-1,COLUMNS($Q$27:Q46)-1),\"\")","v":""},{"$f":"IF(OFFSET(DE104_5C!$R$27,ROWS($R$27:R46)-1,COLUMNS($R$27:R46)-1)<>\"\",OFFSET(DE104_5C!$R$27,ROWS($R$27:R46)-1,COLUMNS($R$27:R46)-1),\"\")","v":""},{"$f":"IF(OFFSET(DE104_5C!$S$27,ROWS($S$27:S46)-1,COLUMNS($S$27:S46)-1)<>\"\",OFFSET(DE104_5C!$S$27,ROWS($S$27:S46)-1,COLUMNS($S$27:S46)-1),\"\")","v":""},{"$f":"IF(OFFSET(DE104_5C!$T$27,ROWS($T$27:T46)-1,COLUMNS($T$27:T46)-1)<>\"\",OFFSET(DE104_5C!$T$27,ROWS($T$27:T46)-1,COLUMNS($T$27:T46)-1),\"\")","v":""},{"$f":"IF(OFFSET(DE104_5C!$U$27,ROWS($U$27:U46)-1,COLUMNS($U$27:U46)-1)<>\"\",OFFSET(DE104_5C!$U$27,ROWS($U$27:U46)-1,COLUMNS($U$27:U46)-1),\"\")","v":""},{"$f":"IF(OFFSET(DE104_5C!$V$27,ROWS($V$27:V46)-1,COLUMNS($V$27:V46)-1)<>\"\",OFFSET(DE104_5C!$V$27,ROWS($V$27:V46)-1,COLUMNS($V$27:V46)-1),\"\")","v":""}]
[{"$f":"IF(OFFSET(DE104_5C!$C$27,ROWS($C$27:C47)-1,COLUMNS($C$27:C47)-1)<>\"\",OFFSET(DE104_5C!$C$27,ROWS($C$27:C47)-1,COLUMNS($C$27:C47)-1),\"\")","v":""},{"$f":"IF(OFFSET(DE104_5C!$D$27,ROWS($D$27:D47)-1,COLUMNS($D$27:D47)-1)<>\"\",OFFSET(DE104_5C!$D$27,ROWS($D$27:D47)-1,COLUMNS($D$27:D47)-1),\"\")","v":""},{"$f":"IF(OFFSET(DE104_5C!$E$27,ROWS($E$27:E47)-1,COLUMNS($E$27:E47)-1)<>\"\",OFFSET(DE104_5C!$E$27,ROWS($E$27:E47)-1,COLUMNS($E$27:E47)-1),\"\")","v":""},{"$f":"IF(OFFSET(DE104_5C!$F$27,ROWS($F$27:F47)-1,COLUMNS($F$27:F47)-1)<>\"\",OFFSET(DE104_5C!$F$27,ROWS($F$27:F47)-1,COLUMNS($F$27:F47)-1),\"\")","v":""},{"$f":"IF(OFFSET(DE104_5C!$G$27,ROWS($G$27:G47)-1,COLUMNS($G$27:G47)-1)<>\"\",OFFSET(DE104_5C!$G$27,ROWS($G$27:G47)-1,COLUMNS($G$27:G47)-1),\"\")","v":""},{"$f":"IF(OFFSET(DE104_5C!$H$27,ROWS($H$27:H47)-1,COLUMNS($H$27:H47)-1)<>\"\",OFFSET(DE104_5C!$H$27,ROWS($H$27:H47)-1,COLUMNS($H$27:H47)-1),\"\")","v":""},{"$f":"IF(OFFSET(DE104_5C!$I$27,ROWS($I$27:I47)-1,COLUMNS($I$27:I47)-1)<>\"\",OFFSET(DE104_5C!$I$27,ROWS($I$27:I47)-1,COLUMNS($I$27:I47)-1),\"\")","v":""},{"$f":"IF(OFFSET(DE104_5C!$J$27,ROWS($J$27:J47)-1,COLUMNS($J$27:J47)-1)<>\"\",OFFSET(DE104_5C!$J$27,ROWS($J$27:J47)-1,COLUMNS($J$27:J47)-1),\"\")","v":""},{"$f":"IF(OFFSET(DE104_5C!$K$27,ROWS($K$27:K47)-1,COLUMNS($K$27:K47)-1)<>\"\",OFFSET(DE104_5C!$K$27,ROWS($K$27:K47)-1,COLUMNS($K$27:K47)-1),\"\")","v":""},{"$f":"IF(OFFSET(DE104_5C!$L$27,ROWS($L$27:L47)-1,COLUMNS($L$27:L47)-1)<>\"\",OFFSET(DE104_5C!$L$27,ROWS($L$27:L47)-1,COLUMNS($L$27:L47)-1),\"\")","v":""},{"$f":"IF(OFFSET(DE104_5C!$M$27,ROWS($M$27:M47)-1,COLUMNS($M$27:M47)-1)<>\"\",OFFSET(DE104_5C!$M$27,ROWS($M$27:M47)-1,COLUMNS($M$27:M47)-1),\"\")","v":""},{"$f":"IF(OFFSET(DE104_5C!$N$27,ROWS($N$27:N47)-1,COLUMNS($N$27:N47)-1)<>\"\",OFFSET(DE104_5C!$N$27,ROWS($N$27:N47)-1,COLUMNS($N$27:N47)-1),\"\")","v":""},{"$f":"IF(OFFSET(DE104_5C!$O$27,ROWS($O$27:O47)-1,COLUMNS($O$27:O47)-1)<>\"\",OFFSET(DE104_5C!$O$27,ROWS($O$27:O47)-1,COLUMNS($O$27:O47)-1),\"\")","v":""},{"$f":"IF(OFFSET(DE104_5C!$P$27,ROWS($P$27:P47)-1,COLUMNS($P$27:P47)-1)<>\"\",OFFSET(DE104_5C!$P$27,ROWS($P$27:P47)-1,COLUMNS($P$27:P47)-1),\"\")","v":""},{"$f":"IF(OFFSET(DE104_5C!$Q$27,ROWS($Q$27:Q47)-1,COLUMNS($Q$27:Q47)-1)<>\"\",OFFSET(DE104_5C!$Q$27,ROWS($Q$27:Q47)-1,COLUMNS($Q$27:Q47)-1),\"\")","v":""},{"$f":"IF(OFFSET(DE104_5C!$R$27,ROWS($R$27:R47)-1,COLUMNS($R$27:R47)-1)<>\"\",OFFSET(DE104_5C!$R$27,ROWS($R$27:R47)-1,COLUMNS($R$27:R47)-1),\"\")","v":""},{"$f":"IF(OFFSET(DE104_5C!$S$27,ROWS($S$27:S47)-1,COLUMNS($S$27:S47)-1)<>\"\",OFFSET(DE104_5C!$S$27,ROWS($S$27:S47)-1,COLUMNS($S$27:S47)-1),\"\")","v":""},{"$f":"IF(OFFSET(DE104_5C!$T$27,ROWS($T$27:T47)-1,COLUMNS($T$27:T47)-1)<>\"\",OFFSET(DE104_5C!$T$27,ROWS($T$27:T47)-1,COLUMNS($T$27:T47)-1),\"\")","v":""},{"$f":"IF(OFFSET(DE104_5C!$U$27,ROWS($U$27:U47)-1,COLUMNS($U$27:U47)-1)<>\"\",OFFSET(DE104_5C!$U$27,ROWS($U$27:U47)-1,COLUMNS($U$27:U47)-1),\"\")","v":""},{"$f":"IF(OFFSET(DE104_5C!$V$27,ROWS($V$27:V47)-1,COLUMNS($V$27:V47)-1)<>\"\",OFFSET(DE104_5C!$V$27,ROWS($V$27:V47)-1,COLUMNS($V$27:V47)-1),\"\")","v":""}]
[{"$f":"IF(OFFSET(DE104_5C!$C$27,ROWS($C$27:C48)-1,COLUMNS($C$27:C48)-1)<>\"\",OFFSET(DE104_5C!$C$27,ROWS($C$27:C48)-1,COLUMNS($C$27:C48)-1),\"\")","v":""},{"$f":"IF(OFFSET(DE104_5C!$D$27,ROWS($D$27:D48)-1,COLUMNS($D$27:D48)-1)<>\"\",OFFSET(DE104_5C!$D$27,ROWS($D$27:D48)-1,COLUMNS($D$27:D48)-1),\"\")","v":""},{"$f":"IF(OFFSET(DE104_5C!$E$27,ROWS($E$27:E48)-1,COLUMNS($E$27:E48)-1)<>\"\",OFFSET(DE104_5C!$E$27,ROWS($E$27:E48)-1,COLUMNS($E$27:E48)-1),\"\")","v":""},{"$f":"IF(OFFSET(DE104_5C!$F$27,ROWS($F$27:F48)-1,COLUMNS($F$27:F48)-1)<>\"\",OFFSET(DE104_5C!$F$27,ROWS($F$27:F48)-1,COLUMNS($F$27:F48)-1),\"\")","v":""},{"$f":"IF(OFFSET(DE104_5C!$G$27,ROWS($G$27:G48)-1,COLUMNS($G$27:G48)-1)<>\"\",OFFSET(DE104_5C!$G$27,ROWS($G$27:G48)-1,COLUMNS($G$27:G48)-1),\"\")","v":""},{"$f":"IF(OFFSET(DE104_5C!$H$27,ROWS($H$27:H48)-1,COLUMNS($H$27:H48)-1)<>\"\",OFFSET(DE104_5C!$H$27,ROWS($H$27:H48)-1,COLUMNS($H$27:H48)-1),\"\")","v":""},{"$f":"IF(OFFSET(DE104_5C!$I$27,ROWS($I$27:I48)-1,COLUMNS($I$27:I48)-1)<>\"\",OFFSET(DE104_5C!$I$27,ROWS($I$27:I48)-1,COLUMNS($I$27:I48)-1),\"\")","v":""},{"$f":"IF(OFFSET(DE104_5C!$J$27,ROWS($J$27:J48)-1,COLUMNS($J$27:J48)-1)<>\"\",OFFSET(DE104_5C!$J$27,ROWS($J$27:J48)-1,COLUMNS($J$27:J48)-1),\"\")","v":""},{"$f":"IF(OFFSET(DE104_5C!$K$27,ROWS($K$27:K48)-1,COLUMNS($K$27:K48)-1)<>\"\",OFFSET(DE104_5C!$K$27,ROWS($K$27:K48)-1,COLUMNS($K$27:K48)-1),\"\")","v":""},{"$f":"IF(OFFSET(DE104_5C!$L$27,ROWS($L$27:L48)-1,COLUMNS($L$27:L48)-1)<>\"\",OFFSET(DE104_5C!$L$27,ROWS($L$27:L48)-1,COLUMNS($L$27:L48)-1),\"\")","v":""},{"$f":"IF(OFFSET(DE104_5C!$M$27,ROWS($M$27:M48)-1,COLUMNS($M$27:M48)-1)<>\"\",OFFSET(DE104_5C!$M$27,ROWS($M$27:M48)-1,COLUMNS($M$27:M48)-1),\"\")","v":""},{"$f":"IF(OFFSET(DE104_5C!$N$27,ROWS($N$27:N48)-1,COLUMNS($N$27:N48)-1)<>\"\",OFFSET(DE104_5C!$N$27,ROWS($N$27:N48)-1,COLUMNS($N$27:N48)-1),\"\")","v":""},{"$f":"IF(OFFSET(DE104_5C!$O$27,ROWS($O$27:O48)-1,COLUMNS($O$27:O48)-1)<>\"\",OFFSET(DE104_5C!$O$27,ROWS($O$27:O48)-1,COLUMNS($O$27:O48)-1),\"\")","v":""},{"$f":"IF(OFFSET(DE104_5C!$P$27,ROWS($P$27:P48)-1,COLUMNS($P$27:P48)-1)<>\"\",OFFSET(DE104_5C!$P$27,ROWS($P$27:P48)-1,COLUMNS($P$27:P48)-1),\"\")","v":""},{"$f":"IF(OFFSET(DE104_5C!$Q$27,ROWS($Q$27:Q48)-1,COLUMNS($Q$27:Q48)-1)<>\"\",OFFSET(DE104_5C!$Q$27,ROWS($Q$27:Q48)-1,COLUMNS($Q$27:Q48)-1),\"\")","v":""},{"$f":"IF(OFFSET(DE104_5C!$R$27,ROWS($R$27:R48)-1,COLUMNS($R$27:R48)-1)<>\"\",OFFSET(DE104_5C!$R$27,ROWS($R$27:R48)-1,COLUMNS($R$27:R48)-1),\"\")","v":""},{"$f":"IF(OFFSET(DE104_5C!$S$27,ROWS($S$27:S48)-1,COLUMNS($S$27:S48)-1)<>\"\",OFFSET(DE104_5C!$S$27,ROWS($S$27:S48)-1,COLUMNS($S$27:S48)-1),\"\")","v":""},{"$f":"IF(OFFSET(DE104_5C!$T$27,ROWS($T$27:T48)-1,COLUMNS($T$27:T48)-1)<>\"\",OFFSET(DE104_5C!$T$27,ROWS($T$27:T48)-1,COLUMNS($T$27:T48)-1),\"\")","v":""},{"$f":"IF(OFFSET(DE104_5C!$U$27,ROWS($U$27:U48)-1,COLUMNS($U$27:U48)-1)<>\"\",OFFSET(DE104_5C!$U$27,ROWS($U$27:U48)-1,COLUMNS($U$27:U48)-1),\"\")","v":""},{"$f":"IF(OFFSET(DE104_5C!$V$27,ROWS($V$27:V48)-1,COLUMNS($V$27:V48)-1)<>\"\",OFFSET(DE104_5C!$V$27,ROWS($V$27:V48)-1,COLUMNS($V$27:V48)-1),\"\")","v":""}]

{"sheet":"104_9","index":17,"n_rows":235,"n_cols":18,"rows_kept":235,"cut":false,"hidden":false,"merged":[[210,1,210,11],[214,1,214,2],[189,12,190,12],[189,13,191,13],[189,14,191,14],[207,1,207,11],[208,1,208,11],[209,1,209,11],[189,6,190,6],[189,7,190,7],[189,8,190,8],[189,9,190,9],[189,10,191,10],[189,11,190,11],[186,17,191,17],[187,0,191,0],[187,1,191,1],[187,2,191,3],[187,4,191,4],[187,6,188,7],[187,8,188,9],[187,10,188,12],[187,13,188,14],[188,5,190,5],[186,0,186,5],[186,6,186,12],[186,13,186,14],[186,15,190,15],[186,16,190,16],[180,0,180,17],[181,0,181,17],[182,0,183,17],[184,0,184,17],[185,0,185,17],[96,17,101,17],[97,0,101,0],[97,1,101,1],[99,14,101,14],[97,2,101,3],[97,4,101,4],[97,6,98,7],[97,8,98,9],[97,10,98,12],[97,13,98,14],[98,5,100,5],[99,6,100,6],[99,7,100,7],[99,8,100,8],[99,9,100,9],[99,10,101,10],[96,0,96,5],[96,6,96,12],[96,13,96,14],[96,15,100,15],[96,16,100,16],[99,11,100,11],[99,12,100,12],[99,13,101,13],[90,0,90,17],[91,0,91,17],[8,5,10,5],[94,0,94,17],[95,0,95,17],[92,0,93,17],[9,6,10,6],[9,7,10,7],[9,8,10,8],[9,9,10,9],[9,10,11,10],[9,11,10,11],[6,17,11,17],[7,0,11,0],[7,1,11,1],[7,2,11,3],[0,0,0,17],[1,0,1,17],[2,0,3,17],[4,0,4,17],[5,0,5,17],[6,0,6,5],[6,6,6,12],[6,13,6,14],[6,15,10,15],[6,16,10,16],[9,12,10,12],[9,13,11,13],[9,14,11,14],[7,4,11,4],[7,6,8,7],[7,8,8,9],[7,10,8,12],[7,13,8,14]]}
["104-9"]
["2017-10-17"]
["LONGITUDINAL SUBDRAIN SHOULDER AND BACKSLOPE"]
[]
["Refer to Soils Sheets"]
["  * Not a bid item. Bridge berm quantities assume a trench depth of 24 inches."]
["Location",null,null,null,null,null,"Longitudinal Subdrain  (DR-303)",null,null,null,null,null,null,"Subdrain Outlet",null,"Porous*\nBackfill","Class \"A\"*\nCrushed\nStone","Remarks"]
["Line\nNo.","Road or Lane Identification","Station to Station",null,"Side","Depth","Shoulder",null,"Backslope",null,"Bridge Berm (EW-203 or EW-204)",null,null,"DR-303, DR-305 or DR-306"]
[null,null,null,null,null,0]
[null,null,null,null,null,null,"Size","Length","Size","Length","Standard Road Plan and Type","Size","Length","Station","Standard Road Plan and Type"]
[]
[null,null,null,null,null,"IN","IN","FT","IN","FT",null,"IN","FT",null,null,"CY","CY"]
[{"$f":"IF(OFFSET(DE104_9!$C$26,ROWS($C$26:C26)-1,COLUMNS($C$26:C26)-1)<>\"\",OFFSET(DE104_9!$C$26,ROWS($C$26:C26)-1,COLUMNS($C$26:C26)-1),\"\")","v":1},{"$f":"IF(OFFSET(DE104_9!$D$26,ROWS($D$26:D26)-1,COLUMNS($D$26:D26)-1)<>\"\",OFFSET(DE104_9!$D$26,ROWS($D$26:D26)-1,COLUMNS($D$26:D26)-1),\"\")","v":"EBL"},{"$f":"IF(OFFSET(DE104_9!$E$26,ROWS($E$26:E26)-1,COLUMNS($E$26:E26)-1)<>\"\",OFFSET(DE104_9!$E$26,ROWS($E$26:E26)-1,COLUMNS($E$26:E26)-1),\"\")","v":138000},{"$f":"IF(OFFSET(DE104_9!$F$26,ROWS($F$26:F26)-1,COLUMNS($F$26:F26)-1)<>\"\",OFFSET(DE104_9!$F$26,ROWS($F$26:F26)-1,COLUMNS($F$26:F26)-1),\"\")","v":138500},{"$f":"IF(OFFSET(DE104_9!$G$26,ROWS($G$26:G26)-1,COLUMNS($G$26:G26)-1)<>\"\",OFFSET(DE104_9!$G$26,ROWS($G$26:G26)-1,COLUMNS($G$26:G26)-1),\"\")","v":"RT"},{"$f":"IF(OFFSET(DE104_9!$H$26,ROWS($H$26:H26)-1,COLUMNS($H$26:H26)-1)<>\"\",OFFSET(DE104_9!$H$26,ROWS($H$26:H26)-1,COLUMNS($H$26:H26)-1),\"\")","v":42},{"$f":"IF(OFFSET(DE104_9!$I$26,ROWS($I$26:I26)-1,COLUMNS($I$26:I26)-1)<>\"\",OFFSET(DE104_9!$I$26,ROWS($I$26:I26)-1,COLUMNS($I$26:I26)-1),\"\")","v":4},{"$f":"IF(OFFSET(DE104_9!$J$26,ROWS($J$26:J26)-1,COLUMNS($J$26:J26)-1)<>\"\",OFFSET(DE104_9!$J$26,ROWS($J$26:J26)-1,COLUMNS($J$26:J26)-1),\"\")","v":540},{"$f":"IF(OFFSET(DE104_9!$K$26,ROWS($K$26:K26)-1,COLUMNS($K$26:K26)-1)<>\"\",OFFSET(DE104_9!$K$26,ROWS($K$26:K26)-1,COLUMNS($K$26:K26)-1),\"\")","v":""},{"$f":"IF(OFFSET(DE104_9!$L$26,ROWS($L$26:L26)-1,COLUMNS($L$26:L26)-1)<>\"\",OFFSET(DE104_9!$L$26,ROWS($L$26:L26)-1,COLUMNS($L$26:L26)-1),\"\")","v":""},{"$f":"IF(OFFSET(DE104_9!$M$26,ROWS($M$26:M26)-1,COLUMNS($M$26:M26)-1)<>\"\",OFFSET(DE104_9!$M$26,ROWS($M$26:M26)-1,COLUMNS($M$26:M26)-1),\"\")","v":""},{"$f":"IF(OFFSET(DE104_9!$N$26,ROWS($N$26:N26)-1,COLUMNS($N$26:N26)-1)<>\"\",OFFSET(DE104_9!$N$26,ROWS($N$26:N26)-1,COLUMNS($N$26:N26)-1),\"\")","v":""},{"$f":"IF(OFFSET(DE104_9!$O$26,ROWS($O$26:O26)-1,COLUMNS($O$26:O26)-1)<>\"\",OFFSET(DE104_9!$O$26,ROWS($O$26:O26)-1,COLUMNS($O$26:O26)-1),\"\")","v":""},{"$f":"IF(OFFSET(DE104_9!$P$26,ROWS($P$26:P26)-1,COLUMNS($P$26:P26)-1)<>\"\",OFFSET(DE104_9!$P$26,ROWS($P$26:P26)-1,COLUMNS($P$26:P26)-1),\"\")","v":138000},{"$f":"IF(OFFSET(DE104_9!$Q$26,ROWS($Q$26:Q26)-1,COLUMNS($Q$26:Q26)-1)<>\"\",OFFSET(DE104_9!$Q$26,ROWS($Q$26:Q26)-1,COLUMNS($Q$26:Q26)-1),\"\")","v":"DR-306"},{"$f":"IF(OFFSET(DE104_9!$R$26,ROWS($R$26:R26)-1,COLUMNS($R$26:R26)-1)<>\"\",OFFSET(DE104_9!$R$26,ROWS($R$26:R26)-1,COLUMNS($R$26:R26)-1),\"\")","v":50},{"$f":"IF(OFFSET(DE104_9!$S$26,ROWS($S$26:S26)-1,COLUMNS($S$26:S26)-1)<>\"\",OFFSET(DE104_9!$S$26,ROWS($S$26:S26)-1,COLUMNS($S$26:S26)-1),\"\")","v":0.4},{"$f":"IF(OFFSET(DE104_9!$T$26,ROWS($T$26:T26)-1,COLUMNS($T$26:T26)-1)<>\"\",OFFSET(DE104_9!$T$26,ROWS($T$26:T26)-1,COLUMNS($T$26:T26)-1),\"\")","v":""}]
[{"$f":"IF(OFFSET(DE104_9!$C$26,ROWS($C$26:C27)-1,COLUMNS($C$26:C27)-1)<>\"\",OFFSET(DE104_9!$C$26,ROWS($C$26:C27)-1,COLUMNS($C$26:C27)-1),\"\")","v":""},{"$f":"IF(OFFSET(DE104_9!$D$26,ROWS($D$26:D27)-1,COLUMNS($D$26:D27)-1)<>\"\",OFFSET(DE104_9!$D$26,ROWS($D$26:D27)-1,COLUMNS($D$26:D27)-1),\"\")","v":""},{"$f":"IF(OFFSET(DE104_9!$E$26,ROWS($E$26:E27)-1,COLUMNS($E$26:E27)-1)<>\"\",OFFSET(DE104_9!$E$26,ROWS($E$26:E27)-1,COLUMNS($E$26:E27)-1),\"\")","v":""},{"$f":"IF(OFFSET(DE104_9!$F$26,ROWS($F$26:F27)-1,COLUMNS($F$26:F27)-1)<>\"\",OFFSET(DE104_9!$F$26,ROWS($F$26:F27)-1,COLUMNS($F$26:F27)-1),\"\")","v":""},{"$f":"IF(OFFSET(DE104_9!$G$26,ROWS($G$26:G27)-1,COLUMNS($G$26:G27)-1)<>\"\",OFFSET(DE104_9!$G$26,ROWS($G$26:G27)-1,COLUMNS($G$26:G27)-1),\"\")","v":""},{"$f":"IF(OFFSET(DE104_9!$H$26,ROWS($H$26:H27)-1,COLUMNS($H$26:H27)-1)<>\"\",OFFSET(DE104_9!$H$26,ROWS($H$26:H27)-1,COLUMNS($H$26:H27)-1),\"\")","v":""},{"$f":"IF(OFFSET(DE104_9!$I$26,ROWS($I$26:I27)-1,COLUMNS($I$26:I27)-1)<>\"\",OFFSET(DE104_9!$I$26,ROWS($I$26:I27)-1,COLUMNS($I$26:I27)-1),\"\")","v":""},{"$f":"IF(OFFSET(DE104_9!$J$26,ROWS($J$26:J27)-1,COLUMNS($J$26:J27)-1)<>\"\",OFFSET(DE104_9!$J$26,ROWS($J$26:J27)-1,COLUMNS($J$26:J27)-1),\"\")","v":""},{"$f":"IF(OFFSET(DE104_9!$K$26,ROWS($K$26:K27)-1,COLUMNS($K$26:K27)-1)<>\"\",OFFSET(DE104_9!$K$26,ROWS($K$26:K27)-1,COLUMNS($K$26:K27)-1),\"\")","v":""},{"$f":"IF(OFFSET(DE104_9!$L$26,ROWS($L$26:L27)-1,COLUMNS($L$26:L27)-1)<>\"\",OFFSET(DE104_9!$L$26,ROWS($L$26:L27)-1,COLUMNS($L$26:L27)-1),\"\")","v":""},{"$f":"IF(OFFSET(DE104_9!$M$26,ROWS($M$26:M27)-1,COLUMNS($M$26:M27)-1)<>\"\",OFFSET(DE104_9!$M$26,ROWS($M$26:M27)-1,COLUMNS($M$26:M27)-1),\"\")","v":""},{"$f":"IF(OFFSET(DE104_9!$N$26,ROWS($N$26:N27)-1,COLUMNS($N$26:N27)-1)<>\"\",OFFSET(DE104_9!$N$26,ROWS($N$26:N27)-1,COLUMNS($N$26:N27)-1),\"\")","v":""},{"$f":"IF(OFFSET(DE104_9!$O$26,ROWS($O$26:O27)-1,COLUMNS($O$26:O27)-1)<>\"\",OFFSET(DE104_9!$O$26,ROWS($O$26:O27)-1,COLUMNS($O$26:O27)-1),\"\")","v":""},{"$f":"IF(OFFSET(DE104_9!$P$26,ROWS($P$26:P27)-1,COLUMNS($P$26:P27)-1)<>\"\",OFFSET(DE104_9!$P$26,ROWS($P$26:P27)-1,COLUMNS($P$26:P27)-1),\"\")","v":138500},{"$f":"IF(OFFSET(DE104_9!$Q$26,ROWS($Q$26:Q27)-1,COLUMNS($Q$26:Q27)-1)<>\"\",OFFSET(DE104_9!$Q$26,ROWS($Q$26:Q27)-1,COLUMNS($Q$26:Q27)-1),\"\")","v":"DR-306"},{"$f":"IF(OFFSET(DE104_9!$R$26,ROWS($R$26:R27)-1,COLUMNS($R$26:R27)-1)<>\"\",OFFSET(DE104_9!$R$26,ROWS($R$26:R27)-1,COLUMNS($R$26:R27)-1),\"\")","v":" "},{"$f":"IF(OFFSET(DE104_9!$S$26,ROWS($S$26:S27)-1,COLUMNS($S$26:S27)-1)<>\"\",OFFSET(DE104_9!$S$26,ROWS($S$26:S27)-1,COLUMNS($S$26:S27)-1),\"\")","v":0.4},{"$f":"IF(OFFSET(DE104_9!$T$26,ROWS($T$26:T27)-1,COLUMNS($T$26:T27)-1)<>\"\",OFFSET(DE104_9!$T$26,ROWS($T$26:T27)-1,COLUMNS($T$26:T27)-1),\"\")","v":""}]
[{"$f":"IF(OFFSET(DE104_9!$C$26,ROWS($C$26:C28)-1,COLUMNS($C$26:C28)-1)<>\"\",OFFSET(DE104_9!$C$26,ROWS($C$26:C28)-1,COLUMNS($C$26:C28)-1),\"\")","v":2},{"$f":"IF(OFFSET(DE104_9!$D$26,ROWS($D$26:D28)-1,COLUMNS($D$26:D28)-1)<>\"\",OFFSET(DE104_9!$D$26,ROWS($D$26:D28)-1,COLUMNS($D$26:D28)-1),\"\")","v":"EBL"},{"$f":"IF(OFFSET(DE104_9!$E$26,ROWS($E$26:E28)-1,COLUMNS($E$26:E28)-1)<>\"\",OFFSET(DE104_9!$E$26,ROWS($E$26:E28)-1,COLUMNS($E$26:E28)-1),\"\")","v":138500},{"$f":"IF(OFFSET(DE104_9!$F$26,ROWS($F$26:F28)-1,COLUMNS($F$26:F28)-1)<>\"\",OFFSET(DE104_9!$F$26,ROWS($F$26:F28)-1,COLUMNS($F$26:F28)-1),\"\")","v":139000},{"$f":"IF(OFFSET(DE104_9!$G$26,ROWS($G$26:G28)-1,COLUMNS($G$26:G28)-1)<>\"\",OFFSET(DE104_9!$G$26,ROWS($G$26:G28)-1,COLUMNS($G$26:G28)-1),\"\")","v":"RT"},{"$f":"IF(OFFSET(DE104_9!$H$26,ROWS($H$26:H28)-1,COLUMNS($H$26:H28)-1)<>\"\",OFFSET(DE104_9!$H$26,ROWS($H$26:H28)-1,COLUMNS($H$26:H28)-1),\"\")","v":42},{"$f":"IF(OFFSET(DE104_9!$I$26,ROWS($I$26:I28)-1,COLUMNS($I$26:I28)-1)<>\"\",OFFSET(DE104_9!$I$26,ROWS($I$26:I28)-1,COLUMNS($I$26:I28)-1),\"\")","v":4},{"$f":"IF(OFFSET(DE104_9!$J$26,ROWS($J$26:J28)-1,COLUMNS($J$26:J28)-1)<>\"\",OFFSET(DE104_9!$J$26,ROWS($J$26:J28)-1,COLUMNS($J$26:J28)-1),\"\")","v":540},{"$f":"IF(OFFSET(DE104_9!$K$26,ROWS($K$26:K28)-1,COLUMNS($K$26:K28)-1)<>\"\",OFFSET(DE104_9!$K$26,ROWS($K$26:K28)-1,COLUMNS($K$26:K28)-1),\"\")","v":""},{"$f":"IF(OFFSET(DE104_9!$L$26,ROWS($L$26:L28)-1,COLUMNS($L$26:L28)-1)<>\"\",OFFSET(DE104_9!$L$26,ROWS($L$26:L28)-1,COLUMNS($L$26:L28)-1),\"\")","v":""},{"$f":"IF(OFFSET(DE104_9!$M$26,ROWS($M$26:M28)-1,COLUMNS($M$26:M28)-1)<>\"\",OFFSET(DE104_9!$M$26,ROWS($M$26:M28)-1,COLUMNS($M$26:M28)-1),\"\")","v":""},{"$f":"IF(OFFSET(DE104_9!$N$26,ROWS($N$26:N28)-1,COLUMNS($N$26:N28)-1)<>\"\",OFFSET(DE104_9!$N$26,ROWS($N$26:N28)-1,COLUMNS($N$26:N28)-1),\"\")","v":""},{"$f":"IF(OFFSET(DE104_9!$O$26,ROWS($O$26:O28)-1,COLUMNS($O$26:O28)-1)<>\"\",OFFSET(DE104_9!$O$26,ROWS($O$26:O28)-1,COLUMNS($O$26:O28)-1),\"\")","v":""},{"$f":"IF(OFFSET(DE104_9!$P$26,ROWS($P$26:P28)-1,COLUMNS($P$26:P28)-1)<>\"\",OFFSET(DE104_9!$P$26,ROWS($P$26:P28)-1,COLUMNS($P$26:P28)-1),\"\")","v":138500},{"$f":"IF(OFFSET(DE104_9!$Q$26,ROWS($Q$26:Q28)-1,COLUMNS($Q$26:Q28)-1)<>\"\",OFFSET(DE104_9!$Q$26,ROWS($Q$26:Q28)-1,COLUMNS($Q$26:Q28)-1),\"\")","v":"DR-306"},{"$f":"IF(OFFSET(DE104_9!$R$26,ROWS($R$26:R28)-1,COLUMNS($R$26:R28)-1)<>\"\",OFFSET(DE104_9!$R$26,ROWS($R$26:R28)-1,COLUMNS($R$26:R28)-1),\"\")","v":50},{"$f":"IF(OFFSET(DE104_9!$S$26,ROWS($S$26:S28)-1,COLUMNS($S$26:S28)-1)<>\"\",OFFSET(DE104_9!$S$26,ROWS($S$26:S28)-1,COLUMNS($S$26:S28)-1),\"\")","v":0.4},{"$f":"IF(OFFSET(DE104_9!$T$26,ROWS($T$26:T28)-1,COLUMNS($T$26:T28)-1)<>\"\",OFFSET(DE104_9!$T$26,ROWS($T$26:T28)-1,COLUMNS($T$26:T28)-1),\"\")","v":""}]
[{"$f":"IF(OFFSET(DE104_9!$C$26,ROWS($C$26:C29)-1,COLUMNS($C$26:C29)-1)<>\"\",OFFSET(DE104_9!$C$26,ROWS($C$26:C29)-1,COLUMNS($C$26:C29)-1),\"\")","v":""},{"$f":"IF(OFFSET(DE104_9!$D$26,ROWS($D$26:D29)-1,COLUMNS($D$26:D29)-1)<>\"\",OFFSET(DE104_9!$D$26,ROWS($D$26:D29)-1,COLUMNS($D$26:D29)-1),\"\")","v":""},{"$f":"IF(OFFSET(DE104_9!$E$26,ROWS($E$26:E29)-1,COLUMNS($E$26:E29)-1)<>\"\",OFFSET(DE104_9!$E$26,ROWS($E$26:E29)-1,COLUMNS($E$26:E29)-1),\"\")","v":""},{"$f":"IF(OFFSET(DE104_9!$F$26,ROWS($F$26:F29)-1,COLUMNS($F$26:F29)-1)<>\"\",OFFSET(DE104_9!$F$26,ROWS($F$26:F29)-1,COLUMNS($F$26:F29)-1),\"\")","v":""},{"$f":"IF(OFFSET(DE104_9!$G$26,ROWS($G$26:G29)-1,COLUMNS($G$26:G29)-1)<>\"\",OFFSET(DE104_9!$G$26,ROWS($G$26:G29)-1,COLUMNS($G$26:G29)-1),\"\")","v":""},{"$f":"IF(OFFSET(DE104_9!$H$26,ROWS($H$26:H29)-1,COLUMNS($H$26:H29)-1)<>\"\",OFFSET(DE104_9!$H$26,ROWS($H$26:H29)-1,COLUMNS($H$26:H29)-1),\"\")","v":" "},{"$f":"IF(OFFSET(DE104_9!$I$26,ROWS($I$26:I29)-1,COLUMNS($I$26:I29)-1)<>\"\",OFFSET(DE104_9!$I$26,ROWS($I$26:I29)-1,COLUMNS($I$26:I29)-1),\"\")","v":""},{"$f":"IF(OFFSET(DE104_9!$J$26,ROWS($J$26:J29)-1,COLUMNS($J$26:J29)-1)<>\"\",OFFSET(DE104_9!$J$26,ROWS($J$26:J29)-1,COLUMNS($J$26:J29)-1),\"\")","v":""},{"$f":"IF(OFFSET(DE104_9!$K$26,ROWS($K$26:K29)-1,COLUMNS($K$26:K29)-1)<>\"\",OFFSET(DE104_9!$K$26,ROWS($K$26:K29)-1,COLUMNS($K$26:K29)-1),\"\")","v":""},{"$f":"IF(OFFSET(DE104_9!$L$26,ROWS($L$26:L29)-1,COLUMNS($L$26:L29)-1)<>\"\",OFFSET(DE104_9!$L$26,ROWS($L$26:L29)-1,COLUMNS($L$26:L29)-1),\"\")","v":""},{"$f":"IF(OFFSET(DE104_9!$M$26,ROWS($M$26:M29)-1,COLUMNS($M$26:M29)-1)<>\"\",OFFSET(DE104_9!$M$26,ROWS($M$26:M29)-1,COLUMNS($M$26:M29)-1),\"\")","v":""},{"$f":"IF(OFFSET(DE104_9!$N$26,ROWS($N$26:N29)-1,COLUMNS($N$26:N29)-1)<>\"\",OFFSET(DE104_9!$N$26,ROWS($N$26:N29)-1,COLUMNS($N$26:N29)-1),\"\")","v":""},{"$f":"IF(OFFSET(DE104_9!$O$26,ROWS($O$26:O29)-1,COLUMNS($O$26:O29)-1)<>\"\",OFFSET(DE104_9!$O$26,ROWS($O$26:O29)-1,COLUMNS($O$26:O29)-1),\"\")","v":""},{"$f":"IF(OFFSET(DE104_9!$P$26,ROWS($P$26:P29)-1,COLUMNS($P$26:P29)-1)<>\"\",OFFSET(DE104_9!$P$26,ROWS($P$26:P29)-1,COLUMNS($P$26:P29)-1),\"\")","v":139000},{"$f":"IF(OFFSET(DE104_9!$Q$26,ROWS($Q$26:Q29)-1,COLUMNS($Q$26:Q29)-1)<>\"\",OFFSET(DE104_9!$Q$26,ROWS($Q$26:Q29)-1,COLUMNS($Q$26:Q29)-1),\"\")","v":"DR-306"},{"$f":"IF(OFFSET(DE104_9!$R$26,ROWS($R$26:R29)-1,COLUMNS($R$26:R29)-1)<>\"\",OFFSET(DE104_9!$R$26,ROWS($R$26:R29)-1,COLUMNS($R$26:R29)-1),\"\")","v":" "},{"$f":"IF(OFFSET(DE104_9!$S$26,ROWS($S$26:S29)-1,COLUMNS($S$26:S29)-1)<>\"\",OFFSET(DE104_9!$S$26,ROWS($S$26:S29)-1,COLUMNS($S$26:S29)-1),\"\")","v":0.4},{"$f":"IF(OFFSET(DE104_9!$T$26,ROWS($T$26:T29)-1,COLUMNS($T$26:T29)-1)<>\"\",OFFSET(DE104_9!$T$26,ROWS($T$26:T29)-1,COLUMNS($T$26:T29)-1),\"\")","v":""}]
[{"$f":"IF(OFFSET(DE104_9!$C$26,ROWS($C$26:C30)-1,COLUMNS($C$26:C30)-1)<>\"\",OFFSET(DE104_9!$C$26,ROWS($C$26:C30)-1,COLUMNS($C$26:C30)-1),\"\")","v":3},{"$f":"IF(OFFSET(DE104_9!$D$26,ROWS($D$26:D30)-1,COLUMNS($D$26:D30)-1)<>\"\",OFFSET(DE104_9!$D$26,ROWS($D$26:D30)-1,COLUMNS($D$26:D30)-1),\"\")","v":"EBL"},{"$f":"IF(OFFSET(DE104_9!$E$26,ROWS($E$26:E30)-1,COLUMNS($E$26:E30)-1)<>\"\",OFFSET(DE104_9!$E$26,ROWS($E$26:E30)-1,COLUMNS($E$26:E30)-1),\"\")","v":139000},{"$f":"IF(OFFSET(DE104_9!$F$26,ROWS($F$26:F30)-1,COLUMNS($F$26:F30)-1)<>\"\",OFFSET(DE104_9!$F$26,ROWS($F$26:F30)-1,COLUMNS($F$26:F30)-1),\"\")","v":139500},{"$f":"IF(OFFSET(DE104_9!$G$26,ROWS($G$26:G30)-1,COLUMNS($G$26:G30)-1)<>\"\",OFFSET(DE104_9!$G$26,ROWS($G$26:G30)-1,COLUMNS($G$26:G30)-1),\"\")","v":"RT"},{"$f":"IF(OFFSET(DE104_9!$H$26,ROWS($H$26:H30)-1,COLUMNS($H$26:H30)-1)<>\"\",OFFSET(DE104_9!$H$26,ROWS($H$26:H30)-1,COLUMNS($H$26:H30)-1),\"\")","v":42},{"$f":"IF(OFFSET(DE104_9!$I$26,ROWS($I$26:I30)-1,COLUMNS($I$26:I30)-1)<>\"\",OFFSET(DE104_9!$I$26,ROWS($I$26:I30)-1,COLUMNS($I$26:I30)-1),\"\")","v":4},{"$f":"IF(OFFSET(DE104_9!$J$26,ROWS($J$26:J30)-1,COLUMNS($J$26:J30)-1)<>\"\",OFFSET(DE104_9!$J$26,ROWS($J$26:J30)-1,COLUMNS($J$26:J30)-1),\"\")","v":540},{"$f":"IF(OFFSET(DE104_9!$K$26,ROWS($K$26:K30)-1,COLUMNS($K$26:K30)-1)<>\"\",OFFSET(DE104_9!$K$26,ROWS($K$26:K30)-1,COLUMNS($K$26:K30)-1),\"\")","v":""},{"$f":"IF(OFFSET(DE104_9!$L$26,ROWS($L$26:L30)-1,COLUMNS($L$26:L30)-1)<>\"\",OFFSET(DE104_9!$L$26,ROWS($L$26:L30)-1,COLUMNS($L$26:L30)-1),\"\")","v":""},{"$f":"IF(OFFSET(DE104_9!$M$26,ROWS($M$26:M30)-1,COLUMNS($M$26:M30)-1)<>\"\",OFFSET(DE104_9!$M$26,ROWS($M$26:M30)-1,COLUMNS($M$26:M30)-1),\"\")","v":""},{"$f":"IF(OFFSET(DE104_9!$N$26,ROWS($N$26:N30)-1,COLUMNS($N$26:N30)-1)<>\"\",OFFSET(DE104_9!$N$26,ROWS($N$26:N30)-1,COLUMNS($N$26:N30)-1),\"\")","v":""},{"$f":"IF(OFFSET(DE104_9!$O$26,ROWS($O$26:O30)-1,COLUMNS($O$26:O30)-1)<>\"\",OFFSET(DE104_9!$O$26,ROWS($O$26:O30)-1,COLUMNS($O$26:O30)-1),\"\")","v":""},{"$f":"IF(OFFSET(DE104_9!$P$26,ROWS($P$26:P30)-1,COLUMNS($P$26:P30)-1)<>\"\",OFFSET(DE104_9!$P$26,ROWS($P$26:P30)-1,COLUMNS($P$26:P30)-1),\"\")","v":139000},{"$f":"IF(OFFSET(DE104_9!$Q$26,ROWS($Q$26:Q30)-1,COLUMNS($Q$26:Q30)-1)<>\"\",OFFSET(DE104_9!$Q$26,ROWS($Q$26:Q30)-1,COLUMNS($Q$26:Q30)-1),\"\")","v":"DR-306"},{"$f":"IF(OFFSET(DE104_9!$R$26,ROWS($R$26:R30)-1,COLUMNS($R$26:R30)-1)<>\"\",OFFSET(DE104_9!$R$26,ROWS($R$26:R30)-1,COLUMNS($R$26:R30)-1),\"\")","v":50},{"$f":"IF(OFFSET(DE104_9!$S$26,ROWS($S$26:S30)-1,COLUMNS($S$26:S30)-1)<>\"\",OFFSET(DE104_9!$S$26,ROWS($S$26:S30)-1,COLUMNS($S$26:S30)-1),\"\")","v":0.4},{"$f":"IF(OFFSET(DE104_9!$T$26,ROWS($T$26:T30)-1,COLUMNS($T$26:T30)-1)<>\"\",OFFSET(DE104_9!$T$26,ROWS($T$26:T30)-1,COLUMNS($T$26:T30)-1),\"\")","v":""}]
[{"$f":"IF(OFFSET(DE104_9!$C$26,ROWS($C$26:C31)-1,COLUMNS($C$26:C31)-1)<>\"\",OFFSET(DE104_9!$C$26,ROWS($C$26:C31)-1,COLUMNS($C$26:C31)-1),\"\")","v":""},{"$f":"IF(OFFSET(DE104_9!$D$26,ROWS($D$26:D31)-1,COLUMNS($D$26:D31)-1)<>\"\",OFFSET(DE104_9!$D$26,ROWS($D$26:D31)-1,COLUMNS($D$26:D31)-1),\"\")","v":""},{"$f":"IF(OFFSET(DE104_9!$E$26,ROWS($E$26:E31)-1,COLUMNS($E$26:E31)-1)<>\"\",OFFSET(DE104_9!$E$26,ROWS($E$26:E31)-1,COLUMNS($E$26:E31)-1),\"\")","v":""},{"$f":"IF(OFFSET(DE104_9!$F$26,ROWS($F$26:F31)-1,COLUMNS($F$26:F31)-1)<>\"\",OFFSET(DE104_9!$F$26,ROWS($F$26:F31)-1,COLUMNS($F$26:F31)-1),\"\")","v":""},{"$f":"IF(OFFSET(DE104_9!$G$26,ROWS($G$26:G31)-1,COLUMNS($G$26:G31)-1)<>\"\",OFFSET(DE104_9!$G$26,ROWS($G$26:G31)-1,COLUMNS($G$26:G31)-1),\"\")","v":""},{"$f":"IF(OFFSET(DE104_9!$H$26,ROWS($H$26:H31)-1,COLUMNS($H$26:H31)-1)<>\"\",OFFSET(DE104_9!$H$26,ROWS($H$26:H31)-1,COLUMNS($H$26:H31)-1),\"\")","v":" "},{"$f":"IF(OFFSET(DE104_9!$I$26,ROWS($I$26:I31)-1,COLUMNS($I$26:I31)-1)<>\"\",OFFSET(DE104_9!$I$26,ROWS($I$26:I31)-1,COLUMNS($I$26:I31)-1),\"\")","v":""},{"$f":"IF(OFFSET(DE104_9!$J$26,ROWS($J$26:J31)-1,COLUMNS($J$26:J31)-1)<>\"\",OFFSET(DE104_9!$J$26,ROWS($J$26:J31)-1,COLUMNS($J$26:J31)-1),\"\")","v":""},{"$f":"IF(OFFSET(DE104_9!$K$26,ROWS($K$26:K31)-1,COLUMNS($K$26:K31)-1)<>\"\",OFFSET(DE104_9!$K$26,ROWS($K$26:K31)-1,COLUMNS($K$26:K31)-1),\"\")","v":""},{"$f":"IF(OFFSET(DE104_9!$L$26,ROWS($L$26:L31)-1,COLUMNS($L$26:L31)-1)<>\"\",OFFSET(DE104_9!$L$26,ROWS($L$26:L31)-1,COLUMNS($L$26:L31)-1),\"\")","v":""},{"$f":"IF(OFFSET(DE104_9!$M$26,ROWS($M$26:M31)-1,COLUMNS($M$26:M31)-1)<>\"\",OFFSET(DE104_9!$M$26,ROWS($M$26:M31)-1,COLUMNS($M$26:M31)-1),\"\")","v":""},{"$f":"IF(OFFSET(DE104_9!$N$26,ROWS($N$26:N31)-1,COLUMNS($N$26:N31)-1)<>\"\",OFFSET(DE104_9!$N$26,ROWS($N$26:N31)-1,COLUMNS($N$26:N31)-1),\"\")","v":""},{"$f":"IF(OFFSET(DE104_9!$O$26,ROWS($O$26:O31)-1,COLUMNS($O$26:O31)-1)<>\"\",OFFSET(DE104_9!$O$26,ROWS($O$26:O31)-1,COLUMNS($O$26:O31)-1),\"\")","v":""},{"$f":"IF(OFFSET(DE104_9!$P$26,ROWS($P$26:P31)-1,COLUMNS($P$26:P31)-1)<>\"\",OFFSET(DE104_9!$P$26,ROWS($P$26:P31)-1,COLUMNS($P$26:P31)-1),\"\")","v":139500},{"$f":"IF(OFFSET(DE104_9!$Q$26,ROWS($Q$26:Q31)-1,COLUMNS($Q$26:Q31)-1)<>\"\",OFFSET(DE104_9!$Q$26,ROWS($Q$26:Q31)-1,COLUMNS($Q$26:Q31)-1),\"\")","v":"DR-306"},{"$f":"IF(OFFSET(DE104_9!$R$26,ROWS($R$26:R31)-1,COLUMNS($R$26:R31)-1)<>\"\",OFFSET(DE104_9!$R$26,ROWS($R$26:R31)-1,COLUMNS($R$26:R31)-1),\"\")","v":" "},{"$f":"IF(OFFSET(DE104_9!$S$26,ROWS($S$26:S31)-1,COLUMNS($S$26:S31)-1)<>\"\",OFFSET(DE104_9!$S$26,ROWS($S$26:S31)-1,COLUMNS($S$26:S31)-1),\"\")","v":0.4},{"$f":"IF(OFFSET(DE104_9!$T$26,ROWS($T$26:T31)-1,COLUMNS($T$26:T31)-1)<>\"\",OFFSET(DE104_9!$T$26,ROWS($T$26:T31)-1,COLUMNS($T$26:T31)-1),\"\")","v":""}]
[{"$f":"IF(OFFSET(DE104_9!$C$26,ROWS($C$26:C32)-1,COLUMNS($C$26:C32)-1)<>\"\",OFFSET(DE104_9!$C$26,ROWS($C$26:C32)-1,COLUMNS($C$26:C32)-1),\"\")","v":4},{"$f":"IF(OFFSET(DE104_9!$D$26,ROWS($D$26:D32)-1,COLUMNS($D$26:D32)-1)<>\"\",OFFSET(DE104_9!$D$26,ROWS($D$26:D32)-1,COLUMNS($D$26:D32)-1),\"\")","v":"EBL"},{"$f":"IF(OFFSET(DE104_9!$E$26,ROWS($E$26:E32)-1,COLUMNS($E$26:E32)-1)<>\"\",OFFSET(DE104_9!$E$26,ROWS($E$26:E32)-1,COLUMNS($E$26:E32)-1),\"\")","v":139500},{"$f":"IF(OFFSET(DE104_9!$F$26,ROWS($F$26:F32)-1,COLUMNS($F$26:F32)-1)<>\"\",OFFSET(DE104_9!$F$26,ROWS($F$26:F32)-1,COLUMNS($F$26:F32)-1),\"\")","v":140000},{"$f":"IF(OFFSET(DE104_9!$G$26,ROWS($G$26:G32)-1,COLUMNS($G$26:G32)-1)<>\"\",OFFSET(DE104_9!$G$26,ROWS($G$26:G32)-1,COLUMNS($G$26:G32)-1),\"\")","v":"RT"},{"$f":"IF(OFFSET(DE104_9!$H$26,ROWS($H$26:H32)-1,COLUMNS($H$26:H32)-1)<>\"\",OFFSET(DE104_9!$H$26,ROWS($H$26:H32)-1,COLUMNS($H$26:H32)-1),\"\")","v":42},{"$f":"IF(OFFSET(DE104_9!$I$26,ROWS($I$26:I32)-1,COLUMNS($I$26:I32)-1)<>\"\",OFFSET(DE104_9!$I$26,ROWS($I$26:I32)-1,COLUMNS($I$26:I32)-1),\"\")","v":4},{"$f":"IF(OFFSET(DE104_9!$J$26,ROWS($J$26:J32)-1,COLUMNS($J$26:J32)-1)<>\"\",OFFSET(DE104_9!$J$26,ROWS($J$26:J32)-1,COLUMNS($J$26:J32)-1),\"\")","v":540},{"$f":"IF(OFFSET(DE104_9!$K$26,ROWS($K$26:K32)-1,COLUMNS($K$26:K32)-1)<>\"\",OFFSET(DE104_9!$K$26,ROWS($K$26:K32)-1,COLUMNS($K$26:K32)-1),\"\")","v":""},{"$f":"IF(OFFSET(DE104_9!$L$26,ROWS($L$26:L32)-1,COLUMNS($L$26:L32)-1)<>\"\",OFFSET(DE104_9!$L$26,ROWS($L$26:L32)-1,COLUMNS($L$26:L32)-1),\"\")","v":""},{"$f":"IF(OFFSET(DE104_9!$M$26,ROWS($M$26:M32)-1,COLUMNS($M$26:M32)-1)<>\"\",OFFSET(DE104_9!$M$26,ROWS($M$26:M32)-1,COLUMNS($M$26:M32)-1),\"\")","v":""},{"$f":"IF(OFFSET(DE104_9!$N$26,ROWS($N$26:N32)-1,COLUMNS($N$26:N32)-1)<>\"\",OFFSET(DE104_9!$N$26,ROWS($N$26:N32)-1,COLUMNS($N$26:N32)-1),\"\")","v":""},{"$f":"IF(OFFSET(DE104_9!$O$26,ROWS($O$26:O32)-1,COLUMNS($O$26:O32)-1)<>\"\",OFFSET(DE104_9!$O$26,ROWS($O$26:O32)-1,COLUMNS($O$26:O32)-1),\"\")","v":""},{"$f":"IF(OFFSET(DE104_9!$P$26,ROWS($P$26:P32)-1,COLUMNS($P$26:P32)-1)<>\"\",OFFSET(DE104_9!$P$26,ROWS($P$26:P32)-1,COLUMNS($P$26:P32)-1),\"\")","v":139500},{"$f":"IF(OFFSET(DE104_9!$Q$26,ROWS($Q$26:Q32)-1,COLUMNS($Q$26:Q32)-1)<>\"\",OFFSET(DE104_9!$Q$26,ROWS($Q$26:Q32)-1,COLUMNS($Q$26:Q32)-1),\"\")","v":"DR-306"},{"$f":"IF(OFFSET(DE104_9!$R$26,ROWS($R$26:R32)-1,COLUMNS($R$26:R32)-1)<>\"\",OFFSET(DE104_9!$R$26,ROWS($R$26:R32)-1,COLUMNS($R$26:R32)-1),\"\")","v":50},{"$f":"IF(OFFSET(DE104_9!$S$26,ROWS($S$26:S32)-1,COLUMNS($S$26:S32)-1)<>\"\",OFFSET(DE104_9!$S$26,ROWS($S$26:S32)-1,COLUMNS($S$26:S32)-1),\"\")","v":0.4},{"$f":"IF(OFFSET(DE104_9!$T$26,ROWS($T$26:T32)-1,COLUMNS($T$26:T32)-1)<>\"\",OFFSET(DE104_9!$T$26,ROWS($T$26:T32)-1,COLUMNS($T$26:T32)-1),\"\")","v":""}]
[{"$f":"IF(OFFSET(DE104_9!$C$26,ROWS($C$26:C33)-1,COLUMNS($C$26:C33)-1)<>\"\",OFFSET(DE104_9!$C$26,ROWS($C$26:C33)-1,COLUMNS($C$26:C33)-1),\"\")","v":""},{"$f":"IF(OFFSET(DE104_9!$D$26,ROWS($D$26:D33)-1,COLUMNS($D$26:D33)-1)<>\"\",OFFSET(DE104_9!$D$26,ROWS($D$26:D33)-1,COLUMNS($D$26:D33)-1),\"\")","v":""},{"$f":"IF(OFFSET(DE104_9!$E$26,ROWS($E$26:E33)-1,COLUMNS($E$26:E33)-1)<>\"\",OFFSET(DE104_9!$E$26,ROWS($E$26:E33)-1,COLUMNS($E$26:E33)-1),\"\")","v":""},{"$f":"IF(OFFSET(DE104_9!$F$26,ROWS($F$26:F33)-1,COLUMNS($F$26:F33)-1)<>\"\",OFFSET(DE104_9!$F$26,ROWS($F$26:F33)-1,COLUMNS($F$26:F33)-1),\"\")","v":""},{"$f":"IF(OFFSET(DE104_9!$G$26,ROWS($G$26:G33)-1,COLUMNS($G$26:G33)-1)<>\"\",OFFSET(DE104_9!$G$26,ROWS($G$26:G33)-1,COLUMNS($G$26:G33)-1),\"\")","v":""},{"$f":"IF(OFFSET(DE104_9!$H$26,ROWS($H$26:H33)-1,COLUMNS($H$26:H33)-1)<>\"\",OFFSET(DE104_9!$H$26,ROWS($H$26:H33)-1,COLUMNS($H$26:H33)-1),\"\")","v":" "},{"$f":"IF(OFFSET(DE104_9!$I$26,ROWS($I$26:I33)-1,COLUMNS($I$26:I33)-1)<>\"\",OFFSET(DE104_9!$I$26,ROWS($I$26:I33)-1,COLUMNS($I$26:I33)-1),\"\")","v":""},{"$f":"IF(OFFSET(DE104_9!$J$26,ROWS($J$26:J33)-1,COLUMNS($J$26:J33)-1)<>\"\",OFFSET(DE104_9!$J$26,ROWS($J$26:J33)-1,COLUMNS($J$26:J33)-1),\"\")","v":""},{"$f":"IF(OFFSET(DE104_9!$K$26,ROWS($K$26:K33)-1,COLUMNS($K$26:K33)-1)<>\"\",OFFSET(DE104_9!$K$26,ROWS($K$26:K33)-1,COLUMNS($K$26:K33)-1),\"\")","v":""},{"$f":"IF(OFFSET(DE104_9!$L$26,ROWS($L$26:L33)-1,COLUMNS($L$26:L33)-1)<>\"\",OFFSET(DE104_9!$L$26,ROWS($L$26:L33)-1,COLUMNS($L$26:L33)-1),\"\")","v":""},{"$f":"IF(OFFSET(DE104_9!$M$26,ROWS($M$26:M33)-1,COLUMNS($M$26:M33)-1)<>\"\",OFFSET(DE104_9!$M$26,ROWS($M$26:M33)-1,COLUMNS($M$26:M33)-1),\"\")","v":""},{"$f":"IF(OFFSET(DE104_9!$N$26,ROWS($N$26:N33)-1,COLUMNS($N$26:N33)-1)<>\"\",OFFSET(DE104_9!$N$26,ROWS($N$26:N33)-1,COLUMNS($N$26:N33)-1),\"\")","v":""},{"$f":"IF(OFFSET(DE104_9!$O$26,ROWS($O$26:O33)-1,COLUMNS($O$26:O33)-1)<>\"\",OFFSET(DE104_9!$O$26,ROWS($O$26:O33)-1,COLUMNS($O$26:O33)-1),\"\")","v":""},{"$f":"IF(OFFSET(DE104_9!$P$26,ROWS($P$26:P33)-1,COLUMNS($P$26:P33)-1)<>\"\",OFFSET(DE104_9!$P$26,ROWS($P$26:P33)-1,COLUMNS($P$26:P33)-1),\"\")","v":140000},{"$f":"IF(OFFSET(DE104_9!$Q$26,ROWS($Q$26:Q33)-1,COLUMNS($Q$26:Q33)-1)<>\"\",OFFSET(DE104_9!$Q$26,ROWS($Q$26:Q33)-1,COLUMNS($Q$26:Q33)-1),\"\")","v":"DR-306"},{"$f":"IF(OFFSET(DE104_9!$R$26,ROWS($R$26:R33)-1,COLUMNS($R$26:R33)-1)<>\"\",OFFSET(DE104_9!$R$26,ROWS($R$26:R33)-1,COLUMNS($R$26:R33)-1),\"\")","v":" "},{"$f":"IF(OFFSET(DE104_9!$S$26,ROWS($S$26:S33)-1,COLUMNS($S$26:S33)-1)<>\"\",OFFSET(DE104_9!$S$26,ROWS($S$26:S33)-1,COLUMNS($S$26:S33)-1),\"\")","v":0.4},{"$f":"IF(OFFSET(DE104_9!$T$26,ROWS($T$26:T33)-1,COLUMNS($T$26:T33)-1)<>\"\",OFFSET(DE104_9!$T$26,ROWS($T$26:T33)-1,COLUMNS($T$26:T33)-1),\"\")","v":""}]
[{"$f":"IF(OFFSET(DE104_9!$C$26,ROWS($C$26:C34)-1,COLUMNS($C$26:C34)-1)<>\"\",OFFSET(DE104_9!$C$26,ROWS($C$26:C34)-1,COLUMNS($C$26:C34)-1),\"\")","v":5},{"$f":"IF(OFFSET(DE104_9!$D$26,ROWS($D$26:D34)-1,COLUMNS($D$26:D34)-1)<>\"\",OFFSET(DE104_9!$D$26,ROWS($D$26:D34)-1,COLUMNS($D$26:D34)-1),\"\")","v":"EBL"},{"$f":"IF(OFFSET(DE104_9!$E$26,ROWS($E$26:E34)-1,COLUMNS($E$26:E34)-1)<>\"\",OFFSET(DE104_9!$E$26,ROWS($E$26:E34)-1,COLUMNS($E$26:E34)-1),\"\")","v":140000},{"$f":"IF(OFFSET(DE104_9!$F$26,ROWS($F$26:F34)-1,COLUMNS($F$26:F34)-1)<>\"\",OFFSET(DE104_9!$F$26,ROWS($F$26:F34)-1,COLUMNS($F$26:F34)-1),\"\")","v":140475},{"$f":"IF(OFFSET(DE104_9!$G$26,ROWS($G$26:G34)-1,COLUMNS($G$26:G34)-1)<>\"\",OFFSET(DE104_9!$G$26,ROWS($G$26:G34)-1,COLUMNS($G$26:G34)-1),\"\")","v":"RT"},{"$f":"IF(OFFSET(DE104_9!$H$26,ROWS($H$26:H34)-1,COLUMNS($H$26:H34)-1)<>\"\",OFFSET(DE104_9!$H$26,ROWS($H$26:H34)-1,COLUMNS($H$26:H34)-1),\"\")","v":42},{"$f":"IF(OFFSET(DE104_9!$I$26,ROWS($I$26:I34)-1,COLUMNS($I$26:I34)-1)<>\"\",OFFSET(DE104_9!$I$26,ROWS($I$26:I34)-1,COLUMNS($I$26:I34)-1),\"\")","v":4},{"$f":"IF(OFFSET(DE104_9!$J$26,ROWS($J$26:J34)-1,COLUMNS($J$26:J34)-1)<>\"\",OFFSET(DE104_9!$J$26,ROWS($J$26:J34)-1,COLUMNS($J$26:J34)-1),\"\")","v":515},{"$f":"IF(OFFSET(DE104_9!$K$26,ROWS($K$26:K34)-1,COLUMNS($K$26:K34)-1)<>\"\",OFFSET(DE104_9!$K$26,ROWS($K$26:K34)-1,COLUMNS($K$26:K34)-1),\"\")","v":""},{"$f":"IF(OFFSET(DE104_9!$L$26,ROWS($L$26:L34)-1,COLUMNS($L$26:L34)-1)<>\"\",OFFSET(DE104_9!$L$26,ROWS($L$26:L34)-1,COLUMNS($L$26:L34)-1),\"\")","v":""},{"$f":"IF(OFFSET(DE104_9!$M$26,ROWS($M$26:M34)-1,COLUMNS($M$26:M34)-1)<>\"\",OFFSET(DE104_9!$M$26,ROWS($M$26:M34)-1,COLUMNS($M$26:M34)-1),\"\")","v":""},{"$f":"IF(OFFSET(DE104_9!$N$26,ROWS($N$26:N34)-1,COLUMNS($N$26:N34)-1)<>\"\",OFFSET(DE104_9!$N$26,ROWS($N$26:N34)-1,COLUMNS($N$26:N34)-1),\"\")","v":""},{"$f":"IF(OFFSET(DE104_9!$O$26,ROWS($O$26:O34)-1,COLUMNS($O$26:O34)-1)<>\"\",OFFSET(DE104_9!$O$26,ROWS($O$26:O34)-1,COLUMNS($O$26:O34)-1),\"\")","v":""},{"$f":"IF(OFFSET(DE104_9!$P$26,ROWS($P$26:P34)-1,COLUMNS($P$26:P34)-1)<>\"\",OFFSET(DE104_9!$P$26,ROWS($P$26:P34)-1,COLUMNS($P$26:P34)-1),\"\")","v":140000},{"$f":"IF(OFFSET(DE104_9!$Q$26,ROWS($Q$26:Q34)-1,COLUMNS($Q$26:Q34)-1)<>\"\",OFFSET(DE104_9!$Q$26,ROWS($Q$26:Q34)-1,COLUMNS($Q$26:Q34)-1),\"\")","v":"DR-306"},{"$f":"IF(OFFSET(DE104_9!$R$26,ROWS($R$26:R34)-1,COLUMNS($R$26:R34)-1)<>\"\",OFFSET(DE104_9!$R$26,ROWS($R$26:R34)-1,COLUMNS($R$26:R34)-1),\"\")","v":47.7},{"$f":"IF(OFFSET(DE104_9!$S$26,ROWS($S$26:S34)-1,COLUMNS($S$26:S34)-1)<>\"\",OFFSET(DE104_9!$S$26,ROWS($S$26:S34)-1,COLUMNS($S$26:S34)-1),\"\")","v":0.4},{"$f":"IF(OFFSET(DE104_9!$T$26,ROWS($T$26:T34)-1,COLUMNS($T$26:T34)-1)<>\"\",OFFSET(DE104_9!$T$26,ROWS($T$26:T34)-1,COLUMNS($T$26:T34)-1),\"\")","v":""}]
[{"$f":"IF(OFFSET(DE104_9!$C$26,ROWS($C$26:C35)-1,COLUMNS($C$26:C35)-1)<>\"\",OFFSET(DE104_9!$C$26,ROWS($C$26:C35)-1,COLUMNS($C$26:C35)-1),\"\")","v":""},{"$f":"IF(OFFSET(DE104_9!$D$26,ROWS($D$26:D35)-1,COLUMNS($D$26:D35)-1)<>\"\",OFFSET(DE104_9!$D$26,ROWS($D$26:D35)-1,COLUMNS($D$26:D35)-1),\"\")","v":""},{"$f":"IF(OFFSET(DE104_9!$E$26,ROWS($E$26:E35)-1,COLUMNS($E$26:E35)-1)<>\"\",OFFSET(DE104_9!$E$26,ROWS($E$26:E35)-1,COLUMNS($E$26:E35)-1),\"\")","v":""},{"$f":"IF(OFFSET(DE104_9!$F$26,ROWS($F$26:F35)-1,COLUMNS($F$26:F35)-1)<>\"\",OFFSET(DE104_9!$F$26,ROWS($F$26:F35)-1,COLUMNS($F$26:F35)-1),\"\")","v":""},{"$f":"IF(OFFSET(DE104_9!$G$26,ROWS($G$26:G35)-1,COLUMNS($G$26:G35)-1)<>\"\",OFFSET(DE104_9!$G$26,ROWS($G$26:G35)-1,COLUMNS($G$26:G35)-1),\"\")","v":""},{"$f":"IF(OFFSET(DE104_9!$H$26,ROWS($H$26:H35)-1,COLUMNS($H$26:H35)-1)<>\"\",OFFSET(DE104_9!$H$26,ROWS($H$26:H35)-1,COLUMNS($H$26:H35)-1),\"\")","v":" "},{"$f":"IF(OFFSET(DE104_9!$I$26,ROWS($I$26:I35)-1,COLUMNS($I$26:I35)-1)<>\"\",OFFSET(DE104_9!$I$26,ROWS($I$26:I35)-1,COLUMNS($I$26:I35)-1),\"\")","v":""},{"$f":"IF(OFFSET(DE104_9!$J$26,ROWS($J$26:J35)-1,COLUMNS($J$26:J35)-1)<>\"\",OFFSET(DE104_9!$J$26,ROWS($J$26:J35)-1,COLUMNS($J$26:J35)-1),\"\")","v":""},{"$f":"IF(OFFSET(DE104_9!$K$26,ROWS($K$26:K35)-1,COLUMNS($K$26:K35)-1)<>\"\",OFFSET(DE104_9!$K$26,ROWS($K$26:K35)-1,COLUMNS($K$26:K35)-1),\"\")","v":""},{"$f":"IF(OFFSET(DE104_9!$L$26,ROWS($L$26:L35)-1,COLUMNS($L$26:L35)-1)<>\"\",OFFSET(DE104_9!$L$26,ROWS($L$26:L35)-1,COLUMNS($L$26:L35)-1),\"\")","v":""},{"$f":"IF(OFFSET(DE104_9!$M$26,ROWS($M$26:M35)-1,COLUMNS($M$26:M35)-1)<>\"\",OFFSET(DE104_9!$M$26,ROWS($M$26:M35)-1,COLUMNS($M$26:M35)-1),\"\")","v":""},{"$f":"IF(OFFSET(DE104_9!$N$26,ROWS($N$26:N35)-1,COLUMNS($N$26:N35)-1)<>\"\",OFFSET(DE104_9!$N$26,ROWS($N$26:N35)-1,COLUMNS($N$26:N35)-1),\"\")","v":""},{"$f":"IF(OFFSET(DE104_9!$O$26,ROWS($O$26:O35)-1,COLUMNS($O$26:O35)-1)<>\"\",OFFSET(DE104_9!$O$26,ROWS($O$26:O35)-1,COLUMNS($O$26:O35)-1),\"\")","v":""},{"$f":"IF(OFFSET(DE104_9!$P$26,ROWS($P$26:P35)-1,COLUMNS($P$26:P35)-1)<>\"\",OFFSET(DE104_9!$P$26,ROWS($P$26:P35)-1,COLUMNS($P$26:P35)-1),\"\")","v":140475},{"$f":"IF(OFFSET(DE104_9!$Q$26,ROWS($Q$26:Q35)-1,COLUMNS($Q$26:Q35)-1)<>\"\",OFFSET(DE104_9!$Q$26,ROWS($Q$26:Q35)-1,COLUMNS($Q$26:Q35)-1),\"\")","v":"DR-306"},{"$f":"IF(OFFSET(DE104_9!$R$26,ROWS($R$26:R35)-1,COLUMNS($R$26:R35)-1)<>\"\",OFFSET(DE104_9!$R$26,ROWS($R$26:R35)-1,COLUMNS($R$26:R35)-1),\"\")","v":" "},{"$f":"IF(OFFSET(DE104_9!$S$26,ROWS($S$26:S35)-1,COLUMNS($S$26:S35)-1)<>\"\",OFFSET(DE104_9!$S$26,ROWS($S$26:S35)-1,COLUMNS($S$26:S35)-1),\"\")","v":0.4},{"$f":"IF(OFFSET(DE104_9!$T$26,ROWS($T$26:T35)-1,COLUMNS($T$26:T35)-1)<>\"\",OFFSET(DE104_9!$T$26,ROWS($T$26:T35)-1,COLUMNS($T$26:T35)-1),\"\")","v":""}]
[{"$f":"IF(OFFSET(DE104_9!$C$26,ROWS($C$26:C36)-1,COLUMNS($C$26:C36)-1)<>\"\",OFFSET(DE104_9!$C$26,ROWS($C$26:C36)-1,COLUMNS($C$26:C36)-1),\"\")","v":6},{"$f":"IF(OFFSET(DE104_9!$D$26,ROWS($D$26:D36)-1,COLUMNS($D$26:D36)-1)<>\"\",OFFSET(DE104_9!$D$26,ROWS($D$26:D36)-1,COLUMNS($D$26:D36)-1),\"\")","v":"EBL"},{"$f":"IF(OFFSET(DE104_9!$E$26,ROWS($E$26:E36)-1,COLUMNS($E$26:E36)-1)<>\"\",OFFSET(DE104_9!$E$26,ROWS($E$26:E36)-1,COLUMNS($E$26:E36)-1),\"\")","v":140475},{"$f":"IF(OFFSET(DE104_9!$F$26,ROWS($F$26:F36)-1,COLUMNS($F$26:F36)-1)<>\"\",OFFSET(DE104_9!$F$26,ROWS($F$26:F36)-1,COLUMNS($F$26:F36)-1),\"\")","v":140975},{"$f":"IF(OFFSET(DE104_9!$G$26,ROWS($G$26:G36)-1,COLUMNS($G$26:G36)-1)<>\"\",OFFSET(DE104_9!$G$26,ROWS($G$26:G36)-1,COLUMNS($G$26:G36)-1),\"\")","v":"RT"},{"$f":"IF(OFFSET(DE104_9!$H$26,ROWS($H$26:H36)-1,COLUMNS($H$26:H36)-1)<>\"\",OFFSET(DE104_9!$H$26,ROWS($H$26:H36)-1,COLUMNS($H$26:H36)-1),\"\")","v":42},{"$f":"IF(OFFSET(DE104_9!$I$26,ROWS($I$26:I36)-1,COLUMNS($I$26:I36)-1)<>\"\",OFFSET(DE104_9!$I$26,ROWS($I$26:I36)-1,COLUMNS($I$26:I36)-1),\"\")","v":4},{"$f":"IF(OFFSET(DE104_9!$J$26,ROWS($J$26:J36)-1,COLUMNS($J$26:J36)-1)<>\"\",OFFSET(DE104_9!$J$26,ROWS($J$26:J36)-1,COLUMNS($J$26:J36)-1),\"\")","v":540},{"$f":"IF(OFFSET(DE104_9!$K$26,ROWS($K$26:K36)-1,COLUMNS($K$26:K36)-1)<>\"\",OFFSET(DE104_9!$K$26,ROWS($K$26:K36)-1,COLUMNS($K$26:K36)-1),\"\")","v":""},{"$f":"IF(OFFSET(DE104_9!$L$26,ROWS($L$26:L36)-1,COLUMNS($L$26:L36)-1)<>\"\",OFFSET(DE104_9!$L$26,ROWS($L$26:L36)-1,COLUMNS($L$26:L36)-1),\"\")","v":""},{"$f":"IF(OFFSET(DE104_9!$M$26,ROWS($M$26:M36)-1,COLUMNS($M$26:M36)-1)<>\"\",OFFSET(DE104_9!$M$26,ROWS($M$26:M36)-1,COLUMNS($M$26:M36)-1),\"\")","v":""},{"$f":"IF(OFFSET(DE104_9!$N$26,ROWS($N$26:N36)-1,COLUMNS($N$26:N36)-1)<>\"\",OFFSET(DE104_9!$N$26,ROWS($N$26:N36)-1,COLUMNS($N$26:N36)-1),\"\")","v":""},{"$f":"IF(OFFSET(DE104_9!$O$26,ROWS($O$26:O36)-1,COLUMNS($O$26:O36)-1)<>\"\",OFFSET(DE104_9!$O$26,ROWS($O$26:O36)-1,COLUMNS($O$26:O36)-1),\"\")","v":""},{"$f":"IF(OFFSET(DE104_9!$P$26,ROWS($P$26:P36)-1,COLUMNS($P$26:P36)-1)<>\"\",OFFSET(DE104_9!$P$26,ROWS($P$26:P36)-1,COLUMNS($P$26:P36)-1),\"\")","v":140475},{"$f":"IF(OFFSET(DE104_9!$Q$26,ROWS($Q$26:Q36)-1,COLUMNS($Q$26:Q36)-1)<>\"\",OFFSET(DE104_9!$Q$26,ROWS($Q$26:Q36)-1,COLUMNS($Q$26:Q36)-1),\"\")","v":"DR-306"},{"$f":"IF(OFFSET(DE104_9!$R$26,ROWS($R$26:R36)-1,COLUMNS($R$26:R36)-1)<>\"\",OFFSET(DE104_9!$R$26,ROWS($R$26:R36)-1,COLUMNS($R$26:R36)-1),\"\")","v":50},{"$f":"IF(OFFSET(DE104_9!$S$26,ROWS($S$26:S36)-1,COLUMNS($S$26:S36)-1)<>\"\",OFFSET(DE104_9!$S$26,ROWS($S$26:S36)-1,COLUMNS($S$26:S36)-1),\"\")","v":0.4},{"$f":"IF(OFFSET(DE104_9!$T$26,ROWS($T$26:T36)-1,COLUMNS($T$26:T36)-1)<>\"\",OFFSET(DE104_9!$T$26,ROWS($T$26:T36)-1,COLUMNS($T$26:T36)-1),\"\")","v":""}]
[{"$f":"IF(OFFSET(DE104_9!$C$26,ROWS($C$26:C37)-1,COLUMNS($C$26:C37)-1)<>\"\",OFFSET(DE104_9!$C$26,ROWS($C$26:C37)-1,COLUMNS($C$26:C37)-1),\"\")","v":""},{"$f":"IF(OFFSET(DE104_9!$D$26,ROWS($D$26:D37)-1,COLUMNS($D$26:D37)-1)<>\"\",OFFSET(DE104_9!$D$26,ROWS($D$26:D37)-1,COLUMNS($D$26:D37)-1),\"\")","v":""},{"$f":"IF(OFFSET(DE104_9!$E$26,ROWS($E$26:E37)-1,COLUMNS($E$26:E37)-1)<>\"\",OFFSET(DE104_9!$E$26,ROWS($E$26:E37)-1,COLUMNS($E$26:E37)-1),\"\")","v":""},{"$f":"IF(OFFSET(DE104_9!$F$26,ROWS($F$26:F37)-1,COLUMNS($F$26:F37)-1)<>\"\",OFFSET(DE104_9!$F$26,ROWS($F$26:F37)-1,COLUMNS($F$26:F37)-1),\"\")","v":""},{"$f":"IF(OFFSET(DE104_9!$G$26,ROWS($G$26:G37)-1,COLUMNS($G$26:G37)-1)<>\"\",OFFSET(DE104_9!$G$26,ROWS($G$26:G37)-1,COLUMNS($G$26:G37)-1),\"\")","v":""},{"$f":"IF(OFFSET(DE104_9!$H$26,ROWS($H$26:H37)-1,COLUMNS($H$26:H37)-1)<>\"\",OFFSET(DE104_9!$H$26,ROWS($H$26:H37)-1,COLUMNS($H$26:H37)-1),\"\")","v":" "},{"$f":"IF(OFFSET(DE104_9!$I$26,ROWS($I$26:I37)-1,COLUMNS($I$26:I37)-1)<>\"\",OFFSET(DE104_9!$I$26,ROWS($I$26:I37)-1,COLUMNS($I$26:I37)-1),\"\")","v":""},{"$f":"IF(OFFSET(DE104_9!$J$26,ROWS($J$26:J37)-1,COLUMNS($J$26:J37)-1)<>\"\",OFFSET(DE104_9!$J$26,ROWS($J$26:J37)-1,COLUMNS($J$26:J37)-1),\"\")","v":""},{"$f":"IF(OFFSET(DE104_9!$K$26,ROWS($K$26:K37)-1,COLUMNS($K$26:K37)-1)<>\"\",OFFSET(DE104_9!$K$26,ROWS($K$26:K37)-1,COLUMNS($K$26:K37)-1),\"\")","v":""},{"$f":"IF(OFFSET(DE104_9!$L$26,ROWS($L$26:L37)-1,COLUMNS($L$26:L37)-1)<>\"\",OFFSET(DE104_9!$L$26,ROWS($L$26:L37)-1,COLUMNS($L$26:L37)-1),\"\")","v":""},{"$f":"IF(OFFSET(DE104_9!$M$26,ROWS($M$26:M37)-1,COLUMNS($M$26:M37)-1)<>\"\",OFFSET(DE104_9!$M$26,ROWS($M$26:M37)-1,COLUMNS($M$26:M37)-1),\"\")","v":""},{"$f":"IF(OFFSET(DE104_9!$N$26,ROWS($N$26:N37)-1,COLUMNS($N$26:N37)-1)<>\"\",OFFSET(DE104_9!$N$26,ROWS($N$26:N37)-1,COLUMNS($N$26:N37)-1),\"\")","v":""},{"$f":"IF(OFFSET(DE104_9!$O$26,ROWS($O$26:O37)-1,COLUMNS($O$26:O37)-1)<>\"\",OFFSET(DE104_9!$O$26,ROWS($O$26:O37)-1,COLUMNS($O$26:O37)-1),\"\")","v":""},{"$f":"IF(OFFSET(DE104_9!$P$26,ROWS($P$26:P37)-1,COLUMNS($P$26:P37)-1)<>\"\",OFFSET(DE104_9!$P$26,ROWS($P$26:P37)-1,COLUMNS($P$26:P37)-1),\"\")","v":140975},{"$f":"IF(OFFSET(DE104_9!$Q$26,ROWS($Q$26:Q37)-1,COLUMNS($Q$26:Q37)-1)<>\"\",OFFSET(DE104_9!$Q$26,ROWS($Q$26:Q37)-1,COLUMNS($Q$26:Q37)-1),\"\")","v":"DR-306"},{"$f":"IF(OFFSET(DE104_9!$R$26,ROWS($R$26:R37)-1,COLUMNS($R$26:R37)-1)<>\"\",OFFSET(DE104_9!$R$26,ROWS($R$26:R37)-1,COLUMNS($R$26:R37)-1),\"\")","v":" "},{"$f":"IF(OFFSET(DE104_9!$S$26,ROWS($S$26:S37)-1,COLUMNS($S$26:S37)-1)<>\"\",OFFSET(DE104_9!$S$26,ROWS($S$26:S37)-1,COLUMNS($S$26:S37)-1),\"\")","v":0.4},{"$f":"IF(OFFSET(DE104_9!$T$26,ROWS($T$26:T37)-1,COLUMNS($T$26:T37)-1)<>\"\",OFFSET(DE104_9!$T$26,ROWS($T$26:T37)-1,COLUMNS($T$26:T37)-1),\"\")","v":""}]
[{"$f":"IF(OFFSET(DE104_9!$C$26,ROWS($C$26:C38)-1,COLUMNS($C$26:C38)-1)<>\"\",OFFSET(DE104_9!$C$26,ROWS($C$26:C38)-1,COLUMNS($C$26:C38)-1),\"\")","v":7},{"$f":"IF(OFFSET(DE104_9!$D$26,ROWS($D$26:D38)-1,COLUMNS($D$26:D38)-1)<>\"\",OFFSET(DE104_9!$D$26,ROWS($D$26:D38)-1,COLUMNS($D$26:D38)-1),\"\")","v":"EBL"},{"$f":"IF(OFFSET(DE104_9!$E$26,ROWS($E$26:E38)-1,COLUMNS($E$26:E38)-1)<>\"\",OFFSET(DE104_9!$E$26,ROWS($E$26:E38)-1,COLUMNS($E$26:E38)-1),\"\")","v":140975},{"$f":"IF(OFFSET(DE104_9!$F$26,ROWS($F$26:F38)-1,COLUMNS($F$26:F38)-1)<>\"\",OFFSET(DE104_9!$F$26,ROWS($F$26:F38)-1,COLUMNS($F$26:F38)-1),\"\")","v":141500},{"$f":"IF(OFFSET(DE104_9!$G$26,ROWS($G$26:G38)-1,COLUMNS($G$26:G38)-1)<>\"\",OFFSET(DE104_9!$G$26,ROWS($G$26:G38)-1,COLUMNS($G$26:G38)-1),\"\")","v":"RT"},{"$f":"IF(OFFSET(DE104_9!$H$26,ROWS($H$26:H38)-1,COLUMNS($H$26:H38)-1)<>\"\",OFFSET(DE104_9!$H$26,ROWS($H$26:H38)-1,COLUMNS($H$26:H38)-1),\"\")","v":42},{"$f":"IF(OFFSET(DE104_9!$I$26,ROWS($I$26:I38)-1,COLUMNS($I$26:I38)-1)<>\"\",OFFSET(DE104_9!$I$26,ROWS($I$26:I38)-1,COLUMNS($I$26:I38)-1),\"\")","v":4},{"$f":"IF(OFFSET(DE104_9!$J$26,ROWS($J$26:J38)-1,COLUMNS($J$26:J38)-1)<>\"\",OFFSET(DE104_9!$J$26,ROWS($J$26:J38)-1,COLUMNS($J$26:J38)-1),\"\")","v":565},{"$f":"IF(OFFSET(DE104_9!$K$26,ROWS($K$26:K38)-1,COLUMNS($K$26:K38)-1)<>\"\",OFFSET(DE104_9!$K$26,ROWS($K$26:K38)-1,COLUMNS($K$26:K38)-1),\"\")","v":""},{"$f":"IF(OFFSET(DE104_9!$L$26,ROWS($L$26:L38)-1,COLUMNS($L$26:L38)-1)<>\"\",OFFSET(DE104_9!$L$26,ROWS($L$26:L38)-1,COLUMNS($L$26:L38)-1),\"\")","v":""},{"$f":"IF(OFFSET(DE104_9!$M$26,ROWS($M$26:M38)-1,COLUMNS($M$26:M38)-1)<>\"\",OFFSET(DE104_9!$M$26,ROWS($M$26:M38)-1,COLUMNS($M$26:M38)-1),\"\")","v":""},{"$f":"IF(OFFSET(DE104_9!$N$26,ROWS($N$26:N38)-1,COLUMNS($N$26:N38)-1)<>\"\",OFFSET(DE104_9!$N$26,ROWS($N$26:N38)-1,COLUMNS($N$26:N38)-1),\"\")","v":""},{"$f":"IF(OFFSET(DE104_9!$O$26,ROWS($O$26:O38)-1,COLUMNS($O$26:O38)-1)<>\"\",OFFSET(DE104_9!$O$26,ROWS($O$26:O38)-1,COLUMNS($O$26:O38)-1),\"\")","v":""},{"$f":"IF(OFFSET(DE104_9!$P$26,ROWS($P$26:P38)-1,COLUMNS($P$26:P38)-1)<>\"\",OFFSET(DE104_9!$P$26,ROWS($P$26:P38)-1,COLUMNS($P$26:P38)-1),\"\")","v":140975},{"$f":"IF(OFFSET(DE104_9!$Q$26,ROWS($Q$26:Q38)-1,COLUMNS($Q$26:Q38)-1)<>\"\",OFFSET(DE104_9!$Q$26,ROWS($Q$26:Q38)-1,COLUMNS($Q$26:Q38)-1),\"\")","v":"DR-306"},{"$f":"IF(OFFSET(DE104_9!$R$26,ROWS($R$26:R38)-1,COLUMNS($R$26:R38)-1)<>\"\",OFFSET(DE104_9!$R$26,ROWS($R$26:R38)-1,COLUMNS($R$26:R38)-1),\"\")","v":52.3},{"$f":"IF(OFFSET(DE104_9!$S$26,ROWS($S$26:S38)-1,COLUMNS($S$26:S38)-1)<>\"\",OFFSET(DE104_9!$S$26,ROWS($S$26:S38)-1,COLUMNS($S$26:S38)-1),\"\")","v":0.4},{"$f":"IF(OFFSET(DE104_9!$T$26,ROWS($T$26:T38)-1,COLUMNS($T$26:T38)-1)<>\"\",OFFSET(DE104_9!$T$26,ROWS($T$26:T38)-1,COLUMNS($T$26:T38)-1),\"\")","v":""}]
[{"$f":"IF(OFFSET(DE104_9!$C$26,ROWS($C$26:C39)-1,COLUMNS($C$26:C39)-1)<>\"\",OFFSET(DE104_9!$C$26,ROWS($C$26:C39)-1,COLUMNS($C$26:C39)-1),\"\")","v":""},{"$f":"IF(OFFSET(DE104_9!$D$26,ROWS($D$26:D39)-1,COLUMNS($D$26:D39)-1)<>\"\",OFFSET(DE104_9!$D$26,ROWS($D$26:D39)-1,COLUMNS($D$26:D39)-1),\"\")","v":""},{"$f":"IF(OFFSET(DE104_9!$E$26,ROWS($E$26:E39)-1,COLUMNS($E$26:E39)-1)<>\"\",OFFSET(DE104_9!$E$26,ROWS($E$26:E39)-1,COLUMNS($E$26:E39)-1),\"\")","v":""},{"$f":"IF(OFFSET(DE104_9!$F$26,ROWS($F$26:F39)-1,COLUMNS($F$26:F39)-1)<>\"\",OFFSET(DE104_9!$F$26,ROWS($F$26:F39)-1,COLUMNS($F$26:F39)-1),\"\")","v":""},{"$f":"IF(OFFSET(DE104_9!$G$26,ROWS($G$26:G39)-1,COLUMNS($G$26:G39)-1)<>\"\",OFFSET(DE104_9!$G$26,ROWS($G$26:G39)-1,COLUMNS($G$26:G39)-1),\"\")","v":""},{"$f":"IF(OFFSET(DE104_9!$H$26,ROWS($H$26:H39)-1,COLUMNS($H$26:H39)-1)<>\"\",OFFSET(DE104_9!$H$26,ROWS($H$26:H39)-1,COLUMNS($H$26:H39)-1),\"\")","v":" "},{"$f":"IF(OFFSET(DE104_9!$I$26,ROWS($I$26:I39)-1,COLUMNS($I$26:I39)-1)<>\"\",OFFSET(DE104_9!$I$26,ROWS($I$26:I39)-1,COLUMNS($I$26:I39)-1),\"\")","v":""},{"$f":"IF(OFFSET(DE104_9!$J$26,ROWS($J$26:J39)-1,COLUMNS($J$26:J39)-1)<>\"\",OFFSET(DE104_9!$J$26,ROWS($J$26:J39)-1,COLUMNS($J$26:J39)-1),\"\")","v":""},{"$f":"IF(OFFSET(DE104_9!$K$26,ROWS($K$26:K39)-1,COLUMNS($K$26:K39)-1)<>\"\",OFFSET(DE104_9!$K$26,ROWS($K$26:K39)-1,COLUMNS($K$26:K39)-1),\"\")","v":""},{"$f":"IF(OFFSET(DE104_9!$L$26,ROWS($L$26:L39)-1,COLUMNS($L$26:L39)-1)<>\"\",OFFSET(DE104_9!$L$26,ROWS($L$26:L39)-1,COLUMNS($L$26:L39)-1),\"\")","v":""},{"$f":"IF(OFFSET(DE104_9!$M$26,ROWS($M$26:M39)-1,COLUMNS($M$26:M39)-1)<>\"\",OFFSET(DE104_9!$M$26,ROWS($M$26:M39)-1,COLUMNS($M$26:M39)-1),\"\")","v":""},{"$f":"IF(OFFSET(DE104_9!$N$26,ROWS($N$26:N39)-1,COLUMNS($N$26:N39)-1)<>\"\",OFFSET(DE104_9!$N$26,ROWS($N$26:N39)-1,COLUMNS($N$26:N39)-1),\"\")","v":""},{"$f":"IF(OFFSET(DE104_9!$O$26,ROWS($O$26:O39)-1,COLUMNS($O$26:O39)-1)<>\"\",OFFSET(DE104_9!$O$26,ROWS($O$26:O39)-1,COLUMNS($O$26:O39)-1),\"\")","v":""},{"$f":"IF(OFFSET(DE104_9!$P$26,ROWS($P$26:P39)-1,COLUMNS($P$26:P39)-1)<>\"\",OFFSET(DE104_9!$P$26,ROWS($P$26:P39)-1,COLUMNS($P$26:P39)-1),\"\")","v":141500},{"$f":"IF(OFFSET(DE104_9!$Q$26,ROWS($Q$26:Q39)-1,COLUMNS($Q$26:Q39)-1)<>\"\",OFFSET(DE104_9!$Q$26,ROWS($Q$26:Q39)-1,COLUMNS($Q$26:Q39)-1),\"\")","v":"DR-306"},{"$f":"IF(OFFSET(DE104_9!$R$26,ROWS($R$26:R39)-1,COLUMNS($R$26:R39)-1)<>\"\",OFFSET(DE104_9!$R$26,ROWS($R$26:R39)-1,COLUMNS($R$26:R39)-1),\"\")","v":" "},{"$f":"IF(OFFSET(DE104_9!$S$26,ROWS($S$26:S39)-1,COLUMNS($S$26:S39)-1)<>\"\",OFFSET(DE104_9!$S$26,ROWS($S$26:S39)-1,COLUMNS($S$26:S39)-1),\"\")","v":0.4},{"$f":"IF(OFFSET(DE104_9!$T$26,ROWS($T$26:T39)-1,COLUMNS($T$26:T39)-1)<>\"\",OFFSET(DE104_9!$T$26,ROWS($T$26:T39)-1,COLUMNS($T$26:T39)-1),\"\")","v":""}]
[{"$f":"IF(OFFSET(DE104_9!$C$26,ROWS($C$26:C40)-1,COLUMNS($C$26:C40)-1)<>\"\",OFFSET(DE104_9!$C$26,ROWS($C$26:C40)-1,COLUMNS($C$26:C40)-1),\"\")","v":8},{"$f":"IF(OFFSET(DE104_9!$D$26,ROWS($D$26:D40)-1,COLUMNS($D$26:D40)-1)<>\"\",OFFSET(DE104_9!$D$26,ROWS($D$26:D40)-1,COLUMNS($D$26:D40)-1),\"\")","v":"EBL"},{"$f":"IF(OFFSET(DE104_9!$E$26,ROWS($E$26:E40)-1,COLUMNS($E$26:E40)-1)<>\"\",OFFSET(DE104_9!$E$26,ROWS($E$26:E40)-1,COLUMNS($E$26:E40)-1),\"\")","v":141500},{"$f":"IF(OFFSET(DE104_9!$F$26,ROWS($F$26:F40)-1,COLUMNS($F$26:F40)-1)<>\"\",OFFSET(DE104_9!$F$26,ROWS($F$26:F40)-1,COLUMNS($F$26:F40)-1),\"\")","v":142000},{"$f":"IF(OFFSET(DE104_9!$G$26,ROWS($G$26:G40)-1,COLUMNS($G$26:G40)-1)<>\"\",OFFSET(DE104_9!$G$26,ROWS($G$26:G40)-1,COLUMNS($G$26:G40)-1),\"\")","v":"RT"},{"$f":"IF(OFFSET(DE104_9!$H$26,ROWS($H$26:H40)-1,COLUMNS($H$26:H40)-1)<>\"\",OFFSET(DE104_9!$H$26,ROWS($H$26:H40)-1,COLUMNS($H$26:H40)-1),\"\")","v":42},{"$f":"IF(OFFSET(DE104_9!$I$26,ROWS($I$26:I40)-1,COLUMNS($I$26:I40)-1)<>\"\",OFFSET(DE104_9!$I$26,ROWS($I$26:I40)-1,COLUMNS($I$26:I40)-1),\"\")","v":4},{"$f":"IF(OFFSET(DE104_9!$J$26,ROWS($J$26:J40)-1,COLUMNS($J$26:J40)-1)<>\"\",OFFSET(DE104_9!$J$26,ROWS($J$26:J40)-1,COLUMNS($J$26:J40)-1),\"\")","v":540},{"$f":"IF(OFFSET(DE104_9!$K$26,ROWS($K$26:K40)-1,COLUMNS($K$26:K40)-1)<>\"\",OFFSET(DE104_9!$K$26,ROWS($K$26:K40)-1,COLUMNS($K$26:K40)-1),\"\")","v":""},{"$f":"IF(OFFSET(DE104_9!$L$26,ROWS($L$26:L40)-1,COLUMNS($L$26:L40)-1)<>\"\",OFFSET(DE104_9!$L$26,ROWS($L$26:L40)-1,COLUMNS($L$26:L40)-1),\"\")","v":""},{"$f":"IF(OFFSET(DE104_9!$M$26,ROWS($M$26:M40)-1,COLUMNS($M$26:M40)-1)<>\"\",OFFSET(DE104_9!$M$26,ROWS($M$26:M40)-1,COLUMNS($M$26:M40)-1),\"\")","v":""},{"$f":"IF(OFFSET(DE104_9!$N$26,ROWS($N$26:N40)-1,COLUMNS($N$26:N40)-1)<>\"\",OFFSET(DE104_9!$N$26,ROWS($N$26:N40)-1,COLUMNS($N$26:N40)-1),\"\")","v":""},{"$f":"IF(OFFSET(DE104_9!$O$26,ROWS($O$26:O40)-1,COLUMNS($O$26:O40)-1)<>\"\",OFFSET(DE104_9!$O$26,ROWS($O$26:O40)-1,COLUMNS($O$26:O40)-1),\"\")","v":""},{"$f":"IF(OFFSET(DE104_9!$P$26,ROWS($P$26:P40)-1,COLUMNS($P$26:P40)-1)<>\"\",OFFSET(DE104_9!$P$26,ROWS($P$26:P40)-1,COLUMNS($P$26:P40)-1),\"\")","v":141500},{"$f":"IF(OFFSET(DE104_9!$Q$26,ROWS($Q$26:Q40)-1,COLUMNS($Q$26:Q40)-1)<>\"\",OFFSET(DE104_9!$Q$26,ROWS($Q$26:Q40)-1,COLUMNS($Q$26:Q40)-1),\"\")","v":"DR-306"},{"$f":"IF(OFFSET(DE104_9!$R$26,ROWS($R$26:R40)-1,COLUMNS($R$26:R40)-1)<>\"\",OFFSET(DE104_9!$R$26,ROWS($R$26:R40)-1,COLUMNS($R$26:R40)-1),\"\")","v":50},{"$f":"IF(OFFSET(DE104_9!$S$26,ROWS($S$26:S40)-1,COLUMNS($S$26:S40)-1)<>\"\",OFFSET(DE104_9!$S$26,ROWS($S$26:S40)-1,COLUMNS($S$26:S40)-1),\"\")","v":0.4},{"$f":"IF(OFFSET(DE104_9!$T$26,ROWS($T$26:T40)-1,COLUMNS($T$26:T40)-1)<>\"\",OFFSET(DE104_9!$T$26,ROWS($T$26:T40)-1,COLUMNS($T$26:T40)-1),\"\")","v":""}]
[{"$f":"IF(OFFSET(DE104_9!$C$26,ROWS($C$26:C41)-1,COLUMNS($C$26:C41)-1)<>\"\",OFFSET(DE104_9!$C$26,ROWS($C$26:C41)-1,COLUMNS($C$26:C41)-1),\"\")","v":""},{"$f":"IF(OFFSET(DE104_9!$D$26,ROWS($D$26:D41)-1,COLUMNS($D$26:D41)-1)<>\"\",OFFSET(DE104_9!$D$26,ROWS($D$26:D41)-1,COLUMNS($D$26:D41)-1),\"\")","v":""},{"$f":"IF(OFFSET(DE104_9!$E$26,ROWS($E$26:E41)-1,COLUMNS($E$26:E41)-1)<>\"\",OFFSET(DE104_9!$E$26,ROWS($E$26:E41)-1,COLUMNS($E$26:E41)-1),\"\")","v":""},{"$f":"IF(OFFSET(DE104_9!$F$26,ROWS($F$26:F41)-1,COLUMNS($F$26:F41)-1)<>\"\",OFFSET(DE104_9!$F$26,ROWS($F$26:F41)-1,COLUMNS($F$26:F41)-1),\"\")","v":""},{"$f":"IF(OFFSET(DE104_9!$G$26,ROWS($G$26:G41)-1,COLUMNS($G$26:G41)-1)<>\"\",OFFSET(DE104_9!$G$26,ROWS($G$26:G41)-1,COLUMNS($G$26:G41)-1),\"\")","v":""},{"$f":"IF(OFFSET(DE104_9!$H$26,ROWS($H$26:H41)-1,COLUMNS($H$26:H41)-1)<>\"\",OFFSET(DE104_9!$H$26,ROWS($H$26:H41)-1,COLUMNS($H$26:H41)-1),\"\")","v":" "},{"$f":"IF(OFFSET(DE104_9!$I$26,ROWS($I$26:I41)-1,COLUMNS($I$26:I41)-1)<>\"\",OFFSET(DE104_9!$I$26,ROWS($I$26:I41)-1,COLUMNS($I$26:I41)-1),\"\")","v":""},{"$f":"IF(OFFSET(DE104_9!$J$26,ROWS($J$26:J41)-1,COLUMNS($J$26:J41)-1)<>\"\",OFFSET(DE104_9!$J$26,ROWS($J$26:J41)-1,COLUMNS($J$26:J41)-1),\"\")","v":""},{"$f":"IF(OFFSET(DE104_9!$K$26,ROWS($K$26:K41)-1,COLUMNS($K$26:K41)-1)<>\"\",OFFSET(DE104_9!$K$26,ROWS($K$26:K41)-1,COLUMNS($K$26:K41)-1),\"\")","v":""},{"$f":"IF(OFFSET(DE104_9!$L$26,ROWS($L$26:L41)-1,COLUMNS($L$26:L41)-1)<>\"\",OFFSET(DE104_9!$L$26,ROWS($L$26:L41)-1,COLUMNS($L$26:L41)-1),\"\")","v":""},{"$f":"IF(OFFSET(DE104_9!$M$26,ROWS($M$26:M41)-1,COLUMNS($M$26:M41)-1)<>\"\",OFFSET(DE104_9!$M$26,ROWS($M$26:M41)-1,COLUMNS($M$26:M41)-1),\"\")","v":""},{"$f":"IF(OFFSET(DE104_9!$N$26,ROWS($N$26:N41)-1,COLUMNS($N$26:N41)-1)<>\"\",OFFSET(DE104_9!$N$26,ROWS($N$26:N41)-1,COLUMNS($N$26:N41)-1),\"\")","v":""},{"$f":"IF(OFFSET(DE104_9!$O$26,ROWS($O$26:O41)-1,COLUMNS($O$26:O41)-1)<>\"\",OFFSET(DE104_9!$O$26,ROWS($O$26:O41)-1,COLUMNS($O$26:O41)-1),\"\")","v":""},{"$f":"IF(OFFSET(DE104_9!$P$26,ROWS($P$26:P41)-1,COLUMNS($P$26:P41)-1)<>\"\",OFFSET(DE104_9!$P$26,ROWS($P$26:P41)-1,COLUMNS($P$26:P41)-1),\"\")","v":142000},{"$f":"IF(OFFSET(DE104_9!$Q$26,ROWS($Q$26:Q41)-1,COLUMNS($Q$26:Q41)-1)<>\"\",OFFSET(DE104_9!$Q$26,ROWS($Q$26:Q41)-1,COLUMNS($Q$26:Q41)-1),\"\")","v":"DR-306"},{"$f":"IF(OFFSET(DE104_9!$R$26,ROWS($R$26:R41)-1,COLUMNS($R$26:R41)-1)<>\"\",OFFSET(DE104_9!$R$26,ROWS($R$26:R41)-1,COLUMNS($R$26:R41)-1),\"\")","v":" "},{"$f":"IF(OFFSET(DE104_9!$S$26,ROWS($S$26:S41)-1,COLUMNS($S$26:S41)-1)<>\"\",OFFSET(DE104_9!$S$26,ROWS($S$26:S41)-1,COLUMNS($S$26:S41)-1),\"\")","v":0.4},{"$f":"IF(OFFSET(DE104_9!$T$26,ROWS($T$26:T41)-1,COLUMNS($T$26:T41)-1)<>\"\",OFFSET(DE104_9!$T$26,ROWS($T$26:T41)-1,COLUMNS($T$26:T41)-1),\"\")","v":""}]
[{"$f":"IF(OFFSET(DE104_9!$C$26,ROWS($C$26:C42)-1,COLUMNS($C$26:C42)-1)<>\"\",OFFSET(DE104_9!$C$26,ROWS($C$26:C42)-1,COLUMNS($C$26:C42)-1),\"\")","v":9},{"$f":"IF(OFFSET(DE104_9!$D$26,ROWS($D$26:D42)-1,COLUMNS($D$26:D42)-1)<>\"\",OFFSET(DE104_9!$D$26,ROWS($D$26:D42)-1,COLUMNS($D$26:D42)-1),\"\")","v":"EBL"},{"$f":"IF(OFFSET(DE104_9!$E$26,ROWS($E$26:E42)-1,COLUMNS($E$26:E42)-1)<>\"\",OFFSET(DE104_9!$E$26,ROWS($E$26:E42)-1,COLUMNS($E$26:E42)-1),\"\")","v":142000},{"$f":"IF(OFFSET(DE104_9!$F$26,ROWS($F$26:F42)-1,COLUMNS($F$26:F42)-1)<>\"\",OFFSET(DE104_9!$F$26,ROWS($F$26:F42)-1,COLUMNS($F$26:F42)-1),\"\")","v":142500},{"$f":"IF(OFFSET(DE104_9!$G$26,ROWS($G$26:G42)-1,COLUMNS($G$26:G42)-1)<>\"\",OFFSET(DE104_9!$G$26,ROWS($G$26:G42)-1,COLUMNS($G$26:G42)-1),\"\")","v":"RT"},{"$f":"IF(OFFSET(DE104_9!$H$26,ROWS($H$26:H42)-1,COLUMNS($H$26:H42)-1)<>\"\",OFFSET(DE104_9!$H$26,ROWS($H$26:H42)-1,COLUMNS($H$26:H42)-1),\"\")","v":42},{"$f":"IF(OFFSET(DE104_9!$I$26,ROWS($I$26:I42)-1,COLUMNS($I$26:I42)-1)<>\"\",OFFSET(DE104_9!$I$26,ROWS($I$26:I42)-1,COLUMNS($I$26:I42)-1),\"\")","v":4},{"$f":"IF(OFFSET(DE104_9!$J$26,ROWS($J$26:J42)-1,COLUMNS($J$26:J42)-1)<>\"\",OFFSET(DE104_9!$J$26,ROWS($J$26:J42)-1,COLUMNS($J$26:J42)-1),\"\")","v":540},{"$f":"IF(OFFSET(DE104_9!$K$26,ROWS($K$26:K42)-1,COLUMNS($K$26:K42)-1)<>\"\",OFFSET(DE104_9!$K$26,ROWS($K$26:K42)-1,COLUMNS($K$26:K42)-1),\"\")","v":""},{"$f":"IF(OFFSET(DE104_9!$L$26,ROWS($L$26:L42)-1,COLUMNS($L$26:L42)-1)<>\"\",OFFSET(DE104_9!$L$26,ROWS($L$26:L42)-1,COLUMNS($L$26:L42)-1),\"\")","v":""},{"$f":"IF(OFFSET(DE104_9!$M$26,ROWS($M$26:M42)-1,COLUMNS($M$26:M42)-1)<>\"\",OFFSET(DE104_9!$M$26,ROWS($M$26:M42)-1,COLUMNS($M$26:M42)-1),\"\")","v":""},{"$f":"IF(OFFSET(DE104_9!$N$26,ROWS($N$26:N42)-1,COLUMNS($N$26:N42)-1)<>\"\",OFFSET(DE104_9!$N$26,ROWS($N$26:N42)-1,COLUMNS($N$26:N42)-1),\"\")","v":""},{"$f":"IF(OFFSET(DE104_9!$O$26,ROWS($O$26:O42)-1,COLUMNS($O$26:O42)-1)<>\"\",OFFSET(DE104_9!$O$26,ROWS($O$26:O42)-1,COLUMNS($O$26:O42)-1),\"\")","v":""},{"$f":"IF(OFFSET(DE104_9!$P$26,ROWS($P$26:P42)-1,COLUMNS($P$26:P42)-1)<>\"\",OFFSET(DE104_9!$P$26,ROWS($P$26:P42)-1,COLUMNS($P$26:P42)-1),\"\")","v":142000},{"$f":"IF(OFFSET(DE104_9!$Q$26,ROWS($Q$26:Q42)-1,COLUMNS($Q$26:Q42)-1)<>\"\",OFFSET(DE104_9!$Q$26,ROWS($Q$26:Q42)-1,COLUMNS($Q$26:Q42)-1),\"\")","v":"DR-306"},{"$f":"IF(OFFSET(DE104_9!$R$26,ROWS($R$26:R42)-1,COLUMNS($R$26:R42)-1)<>\"\",OFFSET(DE104_9!$R$26,ROWS($R$26:R42)-1,COLUMNS($R$26:R42)-1),\"\")","v":50},{"$f":"IF(OFFSET(DE104_9!$S$26,ROWS($S$26:S42)-1,COLUMNS($S$26:S42)-1)<>\"\",OFFSET(DE104_9!$S$26,ROWS($S$26:S42)-1,COLUMNS($S$26:S42)-1),\"\")","v":0.4},{"$f":"IF(OFFSET(DE104_9!$T$26,ROWS($T$26:T42)-1,COLUMNS($T$26:T42)-1)<>\"\",OFFSET(DE104_9!$T$26,ROWS($T$26:T42)-1,COLUMNS($T$26:T42)-1),\"\")","v":""}]
[{"$f":"IF(OFFSET(DE104_9!$C$26,ROWS($C$26:C43)-1,COLUMNS($C$26:C43)-1)<>\"\",OFFSET(DE104_9!$C$26,ROWS($C$26:C43)-1,COLUMNS($C$26:C43)-1),\"\")","v":""},{"$f":"IF(OFFSET(DE104_9!$D$26,ROWS($D$26:D43)-1,COLUMNS($D$26:D43)-1)<>\"\",OFFSET(DE104_9!$D$26,ROWS($D$26:D43)-1,COLUMNS($D$26:D43)-1),\"\")","v":""},{"$f":"IF(OFFSET(DE104_9!$E$26,ROWS($E$26:E43)-1,COLUMNS($E$26:E43)-1)<>\"\",OFFSET(DE104_9!$E$26,ROWS($E$26:E43)-1,COLUMNS($E$26:E43)-1),\"\")","v":""},{"$f":"IF(OFFSET(DE104_9!$F$26,ROWS($F$26:F43)-1,COLUMNS($F$26:F43)-1)<>\"\",OFFSET(DE104_9!$F$26,ROWS($F$26:F43)-1,COLUMNS($F$26:F43)-1),\"\")","v":""},{"$f":"IF(OFFSET(DE104_9!$G$26,ROWS($G$26:G43)-1,COLUMNS($G$26:G43)-1)<>\"\",OFFSET(DE104_9!$G$26,ROWS($G$26:G43)-1,COLUMNS($G$26:G43)-1),\"\")","v":""},{"$f":"IF(OFFSET(DE104_9!$H$26,ROWS($H$26:H43)-1,COLUMNS($H$26:H43)-1)<>\"\",OFFSET(DE104_9!$H$26,ROWS($H$26:H43)-1,COLUMNS($H$26:H43)-1),\"\")","v":" "},{"$f":"IF(OFFSET(DE104_9!$I$26,ROWS($I$26:I43)-1,COLUMNS($I$26:I43)-1)<>\"\",OFFSET(DE104_9!$I$26,ROWS($I$26:I43)-1,COLUMNS($I$26:I43)-1),\"\")","v":""},{"$f":"IF(OFFSET(DE104_9!$J$26,ROWS($J$26:J43)-1,COLUMNS($J$26:J43)-1)<>\"\",OFFSET(DE104_9!$J$26,ROWS($J$26:J43)-1,COLUMNS($J$26:J43)-1),\"\")","v":""},{"$f":"IF(OFFSET(DE104_9!$K$26,ROWS($K$26:K43)-1,COLUMNS($K$26:K43)-1)<>\"\",OFFSET(DE104_9!$K$26,ROWS($K$26:K43)-1,COLUMNS($K$26:K43)-1),\"\")","v":""},{"$f":"IF(OFFSET(DE104_9!$L$26,ROWS($L$26:L43)-1,COLUMNS($L$26:L43)-1)<>\"\",OFFSET(DE104_9!$L$26,ROWS($L$26:L43)-1,COLUMNS($L$26:L43)-1),\"\")","v":""},{"$f":"IF(OFFSET(DE104_9!$M$26,ROWS($M$26:M43)-1,COLUMNS($M$26:M43)-1)<>\"\",OFFSET(DE104_9!$M$26,ROWS($M$26:M43)-1,COLUMNS($M$26:M43)-1),\"\")","v":""},{"$f":"IF(OFFSET(DE104_9!$N$26,ROWS($N$26:N43)-1,COLUMNS($N$26:N43)-1)<>\"\",OFFSET(DE104_9!$N$26,ROWS($N$26:N43)-1,COLUMNS($N$26:N43)-1),\"\")","v":""},{"$f":"IF(OFFSET(DE104_9!$O$26,ROWS($O$26:O43)-1,COLUMNS($O$26:O43)-1)<>\"\",OFFSET(DE104_9!$O$26,ROWS($O$26:O43)-1,COLUMNS($O$26:O43)-1),\"\")","v":""},{"$f":"IF(OFFSET(DE104_9!$P$26,ROWS($P$26:P43)-1,COLUMNS($P$26:P43)-1)<>\"\",OFFSET(DE104_9!$P$26,ROWS($P$26:P43)-1,COLUMNS($P$26:P43)-1),\"\")","v":142500},{"$f":"IF(OFFSET(DE104_9!$Q$26,ROWS($Q$26:Q43)-1,COLUMNS($Q$26:Q43)-1)<>\"\",OFFSET(DE104_9!$Q$26,ROWS($Q$26:Q43)-1,COLUMNS($Q$26:Q43)-1),\"\")","v":"DR-306"},{"$f":"IF(OFFSET(DE104_9!$R$26,ROWS($R$26:R43)-1,COLUMNS($R$26:R43)-1)<>\"\",OFFSET(DE104_9!$R$26,ROWS($R$26:R43)-1,COLUMNS($R$26:R43)-1),\"\")","v":" "},{"$f":"IF(OFFSET(DE104_9!$S$26,ROWS($S$26:S43)-1,COLUMNS($S$26:S43)-1)<>\"\",OFFSET(DE104_9!$S$26,ROWS($S$26:S43)-1,COLUMNS($S$26:S43)-1),\"\")","v":0.4},{"$f":"IF(OFFSET(DE104_9!$T$26,ROWS($T$26:T43)-1,COLUMNS($T$26:T43)-1)<>\"\",OFFSET(DE104_9!$T$26,ROWS($T$26:T43)-1,COLUMNS($T$26:T43)-1),\"\")","v":""}]
[{"$f":"IF(OFFSET(DE104_9!$C$26,ROWS($C$26:C44)-1,COLUMNS($C$26:C44)-1)<>\"\",OFFSET(DE104_9!$C$26,ROWS($C$26:C44)-1,COLUMNS($C$26:C44)-1),\"\")","v":10},{"$f":"IF(OFFSET(DE104_9!$D$26,ROWS($D$26:D44)-1,COLUMNS($D$26:D44)-1)<>\"\",OFFSET(DE104_9!$D$26,ROWS($D$26:D44)-1,COLUMNS($D$26:D44)-1),\"\")","v":"EBL"},{"$f":"IF(OFFSET(DE104_9!$E$26,ROWS($E$26:E44)-1,COLUMNS($E$26:E44)-1)<>\"\",OFFSET(DE104_9!$E$26,ROWS($E$26:E44)-1,COLUMNS($E$26:E44)-1),\"\")","v":142500},{"$f":"IF(OFFSET(DE104_9!$F$26,ROWS($F$26:F44)-1,COLUMNS($F$26:F44)-1)<>\"\",OFFSET(DE104_9!$F$26,ROWS($F$26:F44)-1,COLUMNS($F$26:F44)-1),\"\")","v":143000},{"$f":"IF(OFFSET(DE104_9!$G$26,ROWS($G$26:G44)-1,COLUMNS($G$26:G44)-1)<>\"\",OFFSET(DE104_9!$G$26,ROWS($G$26:G44)-1,COLUMNS($G$26:G44)-1),\"\")","v":"RT"},{"$f":"IF(OFFSET(DE104_9!$H$26,ROWS($H$26:H44)-1,COLUMNS($H$26:H44)-1)<>\"\",OFFSET(DE104_9!$H$26,ROWS($H$26:H44)-1,COLUMNS($H$26:H44)-1),\"\")","v":42},{"$f":"IF(OFFSET(DE104_9!$I$26,ROWS($I$26:I44)-1,COLUMNS($I$26:I44)-1)<>\"\",OFFSET(DE104_9!$I$26,ROWS($I$26:I44)-1,COLUMNS($I$26:I44)-1),\"\")","v":4},{"$f":"IF(OFFSET(DE104_9!$J$26,ROWS($J$26:J44)-1,COLUMNS($J$26:J44)-1)<>\"\",OFFSET(DE104_9!$J$26,ROWS($J$26:J44)-1,COLUMNS($J$26:J44)-1),\"\")","v":540},{"$f":"IF(OFFSET(DE104_9!$K$26,ROWS($K$26:K44)-1,COLUMNS($K$26:K44)-1)<>\"\",OFFSET(DE104_9!$K$26,ROWS($K$26:K44)-1,COLUMNS($K$26:K44)-1),\"\")","v":""},{"$f":"IF(OFFSET(DE104_9!$L$26,ROWS($L$26:L44)-1,COLUMNS($L$26:L44)-1)<>\"\",OFFSET(DE104_9!$L$26,ROWS($L$26:L44)-1,COLUMNS($L$26:L44)-1),\"\")","v":""},{"$f":"IF(OFFSET(DE104_9!$M$26,ROWS($M$26:M44)-1,COLUMNS($M$26:M44)-1)<>\"\",OFFSET(DE104_9!$M$26,ROWS($M$26:M44)-1,COLUMNS($M$26:M44)-1),\"\")","v":""},{"$f":"IF(OFFSET(DE104_9!$N$26,ROWS($N$26:N44)-1,COLUMNS($N$26:N44)-1)<>\"\",OFFSET(DE104_9!$N$26,ROWS($N$26:N44)-1,COLUMNS($N$26:N44)-1),\"\")","v":""},{"$f":"IF(OFFSET(DE104_9!$O$26,ROWS($O$26:O44)-1,COLUMNS($O$26:O44)-1)<>\"\",OFFSET(DE104_9!$O$26,ROWS($O$26:O44)-1,COLUMNS($O$26:O44)-1),\"\")","v":""},{"$f":"IF(OFFSET(DE104_9!$P$26,ROWS($P$26:P44)-1,COLUMNS($P$26:P44)-1)<>\"\",OFFSET(DE104_9!$P$26,ROWS($P$26:P44)-1,COLUMNS($P$26:P44)-1),\"\")","v":142500},{"$f":"IF(OFFSET(DE104_9!$Q$26,ROWS($Q$26:Q44)-1,COLUMNS($Q$26:Q44)-1)<>\"\",OFFSET(DE104_9!$Q$26,ROWS($Q$26:Q44)-1,COLUMNS($Q$26:Q44)-1),\"\")","v":"DR-306"},{"$f":"IF(OFFSET(DE104_9!$R$26,ROWS($R$26:R44)-1,COLUMNS($R$26:R44)-1)<>\"\",OFFSET(DE104_9!$R$26,ROWS($R$26:R44)-1,COLUMNS($R$26:R44)-1),\"\")","v":50},{"$f":"IF(OFFSET(DE104_9!$S$26,ROWS($S$26:S44)-1,COLUMNS($S$26:S44)-1)<>\"\",OFFSET(DE104_9!$S$26,ROWS($S$26:S44)-1,COLUMNS($S$26:S44)-1),\"\")","v":0.4},{"$f":"IF(OFFSET(DE104_9!$T$26,ROWS($T$26:T44)-1,COLUMNS($T$26:T44)-1)<>\"\",OFFSET(DE104_9!$T$26,ROWS($T$26:T44)-1,COLUMNS($T$26:T44)-1),\"\")","v":""}]
[{"$f":"IF(OFFSET(DE104_9!$C$26,ROWS($C$26:C45)-1,COLUMNS($C$26:C45)-1)<>\"\",OFFSET(DE104_9!$C$26,ROWS($C$26:C45)-1,COLUMNS($C$26:C45)-1),\"\")","v":""},{"$f":"IF(OFFSET(DE104_9!$D$26,ROWS($D$26:D45)-1,COLUMNS($D$26:D45)-1)<>\"\",OFFSET(DE104_9!$D$26,ROWS($D$26:D45)-1,COLUMNS($D$26:D45)-1),\"\")","v":""},{"$f":"IF(OFFSET(DE104_9!$E$26,ROWS($E$26:E45)-1,COLUMNS($E$26:E45)-1)<>\"\",OFFSET(DE104_9!$E$26,ROWS($E$26:E45)-1,COLUMNS($E$26:E45)-1),\"\")","v":""},{"$f":"IF(OFFSET(DE104_9!$F$26,ROWS($F$26:F45)-1,COLUMNS($F$26:F45)-1)<>\"\",OFFSET(DE104_9!$F$26,ROWS($F$26:F45)-1,COLUMNS($F$26:F45)-1),\"\")","v":""},{"$f":"IF(OFFSET(DE104_9!$G$26,ROWS($G$26:G45)-1,COLUMNS($G$26:G45)-1)<>\"\",OFFSET(DE104_9!$G$26,ROWS($G$26:G45)-1,COLUMNS($G$26:G45)-1),\"\")","v":""},{"$f":"IF(OFFSET(DE104_9!$H$26,ROWS($H$26:H45)-1,COLUMNS($H$26:H45)-1)<>\"\",OFFSET(DE104_9!$H$26,ROWS($H$26:H45)-1,COLUMNS($H$26:H45)-1),\"\")","v":" "},{"$f":"IF(OFFSET(DE104_9!$I$26,ROWS($I$26:I45)-1,COLUMNS($I$26:I45)-1)<>\"\",OFFSET(DE104_9!$I$26,ROWS($I$26:I45)-1,COLUMNS($I$26:I45)-1),\"\")","v":""},{"$f":"IF(OFFSET(DE104_9!$J$26,ROWS($J$26:J45)-1,COLUMNS($J$26:J45)-1)<>\"\",OFFSET(DE104_9!$J$26,ROWS($J$26:J45)-1,COLUMNS($J$26:J45)-1),\"\")","v":""},{"$f":"IF(OFFSET(DE104_9!$K$26,ROWS($K$26:K45)-1,COLUMNS($K$26:K45)-1)<>\"\",OFFSET(DE104_9!$K$26,ROWS($K$26:K45)-1,COLUMNS($K$26:K45)-1),\"\")","v":""},{"$f":"IF(OFFSET(DE104_9!$L$26,ROWS($L$26:L45)-1,COLUMNS($L$26:L45)-1)<>\"\",OFFSET(DE104_9!$L$26,ROWS($L$26:L45)-1,COLUMNS($L$26:L45)-1),\"\")","v":""},{"$f":"IF(OFFSET(DE104_9!$M$26,ROWS($M$26:M45)-1,COLUMNS($M$26:M45)-1)<>\"\",OFFSET(DE104_9!$M$26,ROWS($M$26:M45)-1,COLUMNS($M$26:M45)-1),\"\")","v":""},{"$f":"IF(OFFSET(DE104_9!$N$26,ROWS($N$26:N45)-1,COLUMNS($N$26:N45)-1)<>\"\",OFFSET(DE104_9!$N$26,ROWS($N$26:N45)-1,COLUMNS($N$26:N45)-1),\"\")","v":""},{"$f":"IF(OFFSET(DE104_9!$O$26,ROWS($O$26:O45)-1,COLUMNS($O$26:O45)-1)<>\"\",OFFSET(DE104_9!$O$26,ROWS($O$26:O45)-1,COLUMNS($O$26:O45)-1),\"\")","v":""},{"$f":"IF(OFFSET(DE104_9!$P$26,ROWS($P$26:P45)-1,COLUMNS($P$26:P45)-1)<>\"\",OFFSET(DE104_9!$P$26,ROWS($P$26:P45)-1,COLUMNS($P$26:P45)-1),\"\")","v":143000},{"$f":"IF(OFFSET(DE104_9!$Q$26,ROWS($Q$26:Q45)-1,COLUMNS($Q$26:Q45)-1)<>\"\",OFFSET(DE104_9!$Q$26,ROWS($Q$26:Q45)-1,COLUMNS($Q$26:Q45)-1),\"\")","v":"DR-306"},{"$f":"IF(OFFSET(DE104_9!$R$26,ROWS($R$26:R45)-1,COLUMNS($R$26:R45)-1)<>\"\",OFFSET(DE104_9!$R$26,ROWS($R$26:R45)-1,COLUMNS($R$26:R45)-1),\"\")","v":"  "},{"$f":"IF(OFFSET(DE104_9!$S$26,ROWS($S$26:S45)-1,COLUMNS($S$26:S45)-1)<>\"\",OFFSET(DE104_9!$S$26,ROWS($S$26:S45)-1,COLUMNS($S$26:S45)-1),\"\")","v":0.4},{"$f":"IF(OFFSET(DE104_9!$T$26,ROWS($T$26:T45)-1,COLUMNS($T$26:T45)-1)<>\"\",OFFSET(DE104_9!$T$26,ROWS($T$26:T45)-1,COLUMNS($T$26:T45)-1),\"\")","v":""}]
[{"$f":"IF(OFFSET(DE104_9!$C$26,ROWS($C$26:C46)-1,COLUMNS($C$26:C46)-1)<>\"\",OFFSET(DE104_9!$C$26,ROWS($C$26:C46)-1,COLUMNS($C$26:C46)-1),\"\")","v":11},{"$f":"IF(OFFSET(DE104_9!$D$26,ROWS($D$26:D46)-1,COLUMNS($D$26:D46)-1)<>\"\",OFFSET(DE104_9!$D$26,ROWS($D$26:D46)-1,COLUMNS($D$26:D46)-1),\"\")","v":"EBL"},{"$f":"IF(OFFSET(DE104_9!$E$26,ROWS($E$26:E46)-1,COLUMNS($E$26:E46)-1)<>\"\",OFFSET(DE104_9!$E$26,ROWS($E$26:E46)-1,COLUMNS($E$26:E46)-1),\"\")","v":143000},{"$f":"IF(OFFSET(DE104_9!$F$26,ROWS($F$26:F46)-1,COLUMNS($F$26:F46)-1)<>\"\",OFFSET(DE104_9!$F$26,ROWS($F$26:F46)-1,COLUMNS($F$26:F46)-1),\"\")","v":143500},{"$f":"IF(OFFSET(DE104_9!$G$26,ROWS($G$26:G46)-1,COLUMNS($G$26:G46)-1)<>\"\",OFFSET(DE104_9!$G$26,ROWS($G$26:G46)-1,COLUMNS($G$26:G46)-1),\"\")","v":"RT"},{"$f":"IF(OFFSET(DE104_9!$H$26,ROWS($H$26:H46)-1,COLUMNS($H$26:H46)-1)<>\"\",OFFSET(DE104_9!$H$26,ROWS($H$26:H46)-1,COLUMNS($H$26:H46)-1),\"\")","v":42},{"$f":"IF(OFFSET(DE104_9!$I$26,ROWS($I$26:I46)-1,COLUMNS($I$26:I46)-1)<>\"\",OFFSET(DE104_9!$I$26,ROWS($I$26:I46)-1,COLUMNS($I$26:I46)-1),\"\")","v":4},{"$f":"IF(OFFSET(DE104_9!$J$26,ROWS($J$26:J46)-1,COLUMNS($J$26:J46)-1)<>\"\",OFFSET(DE104_9!$J$26,ROWS($J$26:J46)-1,COLUMNS($J$26:J46)-1),\"\")","v":540},{"$f":"IF(OFFSET(DE104_9!$K$26,ROWS($K$26:K46)-1,COLUMNS($K$26:K46)-1)<>\"\",OFFSET(DE104_9!$K$26,ROWS($K$26:K46)-1,COLUMNS($K$26:K46)-1),\"\")","v":""},{"$f":"IF(OFFSET(DE104_9!$L$26,ROWS($L$26:L46)-1,COLUMNS($L$26:L46)-1)<>\"\",OFFSET(DE104_9!$L$26,ROWS($L$26:L46)-1,COLUMNS($L$26:L46)-1),\"\")","v":""},{"$f":"IF(OFFSET(DE104_9!$M$26,ROWS($M$26:M46)-1,COLUMNS($M$26:M46)-1)<>\"\",OFFSET(DE104_9!$M$26,ROWS($M$26:M46)-1,COLUMNS($M$26:M46)-1),\"\")","v":""},{"$f":"IF(OFFSET(DE104_9!$N$26,ROWS($N$26:N46)-1,COLUMNS($N$26:N46)-1)<>\"\",OFFSET(DE104_9!$N$26,ROWS($N$26:N46)-1,COLUMNS($N$26:N46)-1),\"\")","v":""},{"$f":"IF(OFFSET(DE104_9!$O$26,ROWS($O$26:O46)-1,COLUMNS($O$26:O46)-1)<>\"\",OFFSET(DE104_9!$O$26,ROWS($O$26:O46)-1,COLUMNS($O$26:O46)-1),\"\")","v":""},{"$f":"IF(OFFSET(DE104_9!$P$26,ROWS($P$26:P46)-1,COLUMNS($P$26:P46)-1)<>\"\",OFFSET(DE104_9!$P$26,ROWS($P$26:P46)-1,COLUMNS($P$26:P46)-1),\"\")","v":143000},{"$f":"IF(OFFSET(DE104_9!$Q$26,ROWS($Q$26:Q46)-1,COLUMNS($Q$26:Q46)-1)<>\"\",OFFSET(DE104_9!$Q$26,ROWS($Q$26:Q46)-1,COLUMNS($Q$26:Q46)-1),\"\")","v":"DR-306"},{"$f":"IF(OFFSET(DE104_9!$R$26,ROWS($R$26:R46)-1,COLUMNS($R$26:R46)-1)<>\"\",OFFSET(DE104_9!$R$26,ROWS($R$26:R46)-1,COLUMNS($R$26:R46)-1),\"\")","v":50},{"$f":"IF(OFFSET(DE104_9!$S$26,ROWS($S$26:S46)-1,COLUMNS($S$26:S46)-1)<>\"\",OFFSET(DE104_9!$S$26,ROWS($S$26:S46)-1,COLUMNS($S$26:S46)-1),\"\")","v":0.4},{"$f":"IF(OFFSET(DE104_9!$T$26,ROWS($T$26:T46)-1,COLUMNS($T$26:T46)-1)<>\"\",OFFSET(DE104_9!$T$26,ROWS($T$26:T46)-1,COLUMNS($T$26:T46)-1),\"\")","v":""}]
[{"$f":"IF(OFFSET(DE104_9!$C$26,ROWS($C$26:C47)-1,COLUMNS($C$26:C47)-1)<>\"\",OFFSET(DE104_9!$C$26,ROWS($C$26:C47)-1,COLUMNS($C$26:C47)-1),\"\")","v":""},{"$f":"IF(OFFSET(DE104_9!$D$26,ROWS($D$26:D47)-1,COLUMNS($D$26:D47)-1)<>\"\",OFFSET(DE104_9!$D$26,ROWS($D$26:D47)-1,COLUMNS($D$26:D47)-1),\"\")","v":""},{"$f":"IF(OFFSET(DE104_9!$E$26,ROWS($E$26:E47)-1,COLUMNS($E$26:E47)-1)<>\"\",OFFSET(DE104_9!$E$26,ROWS($E$26:E47)-1,COLUMNS($E$26:E47)-1),\"\")","v":""},{"$f":"IF(OFFSET(DE104_9!$F$26,ROWS($F$26:F47)-1,COLUMNS($F$26:F47)-1)<>\"\",OFFSET(DE104_9!$F$26,ROWS($F$26:F47)-1,COLUMNS($F$26:F47)-1),\"\")","v":""},{"$f":"IF(OFFSET(DE104_9!$G$26,ROWS($G$26:G47)-1,COLUMNS($G$26:G47)-1)<>\"\",OFFSET(DE104_9!$G$26,ROWS($G$26:G47)-1,COLUMNS($G$26:G47)-1),\"\")","v":""},{"$f":"IF(OFFSET(DE104_9!$H$26,ROWS($H$26:H47)-1,COLUMNS($H$26:H47)-1)<>\"\",OFFSET(DE104_9!$H$26,ROWS($H$26:H47)-1,COLUMNS($H$26:H47)-1),\"\")","v":" "},{"$f":"IF(OFFSET(DE104_9!$I$26,ROWS($I$26:I47)-1,COLUMNS($I$26:I47)-1)<>\"\",OFFSET(DE104_9!$I$26,ROWS($I$26:I47)-1,COLUMNS($I$26:I47)-1),\"\")","v":""},{"$f":"IF(OFFSET(DE104_9!$J$26,ROWS($J$26:J47)-1,COLUMNS($J$26:J47)-1)<>\"\",OFFSET(DE104_9!$J$26,ROWS($J$26:J47)-1,COLUMNS($J$26:J47)-1),\"\")","v":""},{"$f":"IF(OFFSET(DE104_9!$K$26,ROWS($K$26:K47)-1,COLUMNS($K$26:K47)-1)<>\"\",OFFSET(DE104_9!$K$26,ROWS($K$26:K47)-1,COLUMNS($K$26:K47)-1),\"\")","v":""},{"$f":"IF(OFFSET(DE104_9!$L$26,ROWS($L$26:L47)-1,COLUMNS($L$26:L47)-1)<>\"\",OFFSET(DE104_9!$L$26,ROWS($L$26:L47)-1,COLUMNS($L$26:L47)-1),\"\")","v":""},{"$f":"IF(OFFSET(DE104_9!$M$26,ROWS($M$26:M47)-1,COLUMNS($M$26:M47)-1)<>\"\",OFFSET(DE104_9!$M$26,ROWS($M$26:M47)-1,COLUMNS($M$26:M47)-1),\"\")","v":""},{"$f":"IF(OFFSET(DE104_9!$N$26,ROWS($N$26:N47)-1,COLUMNS($N$26:N47)-1)<>\"\",OFFSET(DE104_9!$N$26,ROWS($N$26:N47)-1,COLUMNS($N$26:N47)-1),\"\")","v":""},{"$f":"IF(OFFSET(DE104_9!$O$26,ROWS($O$26:O47)-1,COLUMNS($O$26:O47)-1)<>\"\",OFFSET(DE104_9!$O$26,ROWS($O$26:O47)-1,COLUMNS($O$26:O47)-1),\"\")","v":""},{"$f":"IF(OFFSET(DE104_9!$P$26,ROWS($P$26:P47)-1,COLUMNS($P$26:P47)-1)<>\"\",OFFSET(DE104_9!$P$26,ROWS($P$26:P47)-1,COLUMNS($P$26:P47)-1),\"\")","v":143500},{"$f":"IF(OFFSET(DE104_9!$Q$26,ROWS($Q$26:Q47)-1,COLUMNS($Q$26:Q47)-1)<>\"\",OFFSET(DE104_9!$Q$26,ROWS($Q$26:Q47)-1,COLUMNS($Q$26:Q47)-1),\"\")","v":"DR-306"},{"$f":"IF(OFFSET(DE104_9!$R$26,ROWS($R$26:R47)-1,COLUMNS($R$26:R47)-1)<>\"\",OFFSET(DE104_9!$R$26,ROWS($R$26:R47)-1,COLUMNS($R$26:R47)-1),\"\")","v":" "},{"$f":"IF(OFFSET(DE104_9!$S$26,ROWS($S$26:S47)-1,COLUMNS($S$26:S47)-1)<>\"\",OFFSET(DE104_9!$S$26,ROWS($S$26:S47)-1,COLUMNS($S$26:S47)-1),\"\")","v":0.4},{"$f":"IF(OFFSET(DE104_9!$T$26,ROWS($T$26:T47)-1,COLUMNS($T$26:T47)-1)<>\"\",OFFSET(DE104_9!$T$26,ROWS($T$26:T47)-1,COLUMNS($T$26:T47)-1),\"\")","v":""}]
[{"$f":"IF(OFFSET(DE104_9!$C$26,ROWS($C$26:C48)-1,COLUMNS($C$26:C48)-1)<>\"\",OFFSET(DE104_9!$C$26,ROWS($C$26:C48)-1,COLUMNS($C$26:C48)-1),\"\")","v":12},{"$f":"IF(OFFSET(DE104_9!$D$26,ROWS($D$26:D48)-1,COLUMNS($D$26:D48)-1)<>\"\",OFFSET(DE104_9!$D$26,ROWS($D$26:D48)-1,COLUMNS($D$26:D48)-1),\"\")","v":"EBL"},{"$f":"IF(OFFSET(DE104_9!$E$26,ROWS($E$26:E48)-1,COLUMNS($E$26:E48)-1)<>\"\",OFFSET(DE104_9!$E$26,ROWS($E$26:E48)-1,COLUMNS($E$26:E48)-1),\"\")","v":143500},{"$f":"IF(OFFSET(DE104_9!$F$26,ROWS($F$26:F48)-1,COLUMNS($F$26:F48)-1)<>\"\",OFFSET(DE104_9!$F$26,ROWS($F$26:F48)-1,COLUMNS($F$26:F48)-1),\"\")","v":144000},{"$f":"IF(OFFSET(DE104_9!$G$26,ROWS($G$26:G48)-1,COLUMNS($G$26:G48)-1)<>\"\",OFFSET(DE104_9!$G$26,ROWS($G$26:G48)-1,COLUMNS($G$26:G48)-1),\"\")","v":"RT"},{"$f":"IF(OFFSET(DE104_9!$H$26,ROWS($H$26:H48)-1,COLUMNS($H$26:H48)-1)<>\"\",OFFSET(DE104_9!$H$26,ROWS($H$26:H48)-1,COLUMNS($H$26:H48)-1),\"\")","v":42},{"$f":"IF(OFFSET(DE104_9!$I$26,ROWS($I$26:I48)-1,COLUMNS($I$26:I48)-1)<>\"\",OFFSET(DE104_9!$I$26,ROWS($I$26:I48)-1,COLUMNS($I$26:I48)-1),\"\")","v":4},{"$f":"IF(OFFSET(DE104_9!$J$26,ROWS($J$26:J48)-1,COLUMNS($J$26:J48)-1)<>\"\",OFFSET(DE104_9!$J$26,ROWS($J$26:J48)-1,COLUMNS($J$26:J48)-1),\"\")","v":540},{"$f":"IF(OFFSET(DE104_9!$K$26,ROWS($K$26:K48)-1,COLUMNS($K$26:K48)-1)<>\"\",OFFSET(DE104_9!$K$26,ROWS($K$26:K48)-1,COLUMNS($K$26:K48)-1),\"\")","v":""},{"$f":"IF(OFFSET(DE104_9!$L$26,ROWS($L$26:L48)-1,COLUMNS($L$26:L48)-1)<>\"\",OFFSET(DE104_9!$L$26,ROWS($L$26:L48)-1,COLUMNS($L$26:L48)-1),\"\")","v":""},{"$f":"IF(OFFSET(DE104_9!$M$26,ROWS($M$26:M48)-1,COLUMNS($M$26:M48)-1)<>\"\",OFFSET(DE104_9!$M$26,ROWS($M$26:M48)-1,COLUMNS($M$26:M48)-1),\"\")","v":""},{"$f":"IF(OFFSET(DE104_9!$N$26,ROWS($N$26:N48)-1,COLUMNS($N$26:N48)-1)<>\"\",OFFSET(DE104_9!$N$26,ROWS($N$26:N48)-1,COLUMNS($N$26:N48)-1),\"\")","v":""},{"$f":"IF(OFFSET(DE104_9!$O$26,ROWS($O$26:O48)-1,COLUMNS($O$26:O48)-1)<>\"\",OFFSET(DE104_9!$O$26,ROWS($O$26:O48)-1,COLUMNS($O$26:O48)-1),\"\")","v":""},{"$f":"IF(OFFSET(DE104_9!$P$26,ROWS($P$26:P48)-1,COLUMNS($P$26:P48)-1)<>\"\",OFFSET(DE104_9!$P$26,ROWS($P$26:P48)-1,COLUMNS($P$26:P48)-1),\"\")","v":143500},{"$f":"IF(OFFSET(DE104_9!$Q$26,ROWS($Q$26:Q48)-1,COLUMNS($Q$26:Q48)-1)<>\"\",OFFSET(DE104_9!$Q$26,ROWS($Q$26:Q48)-1,COLUMNS($Q$26:Q48)-1),\"\")","v":"DR-306"},{"$f":"IF(OFFSET(DE104_9!$R$26,ROWS($R$26:R48)-1,COLUMNS($R$26:R48)-1)<>\"\",OFFSET(DE104_9!$R$26,ROWS($R$26:R48)-1,COLUMNS($R$26:R48)-1),\"\")","v":50},{"$f":"IF(OFFSET(DE104_9!$S$26,ROWS($S$26:S48)-1,COLUMNS($S$26:S48)-1)<>\"\",OFFSET(DE104_9!$S$26,ROWS($S$26:S48)-1,COLUMNS($S$26:S48)-1),\"\")","v":0.4},{"$f":"IF(OFFSET(DE104_9!$T$26,ROWS($T$26:T48)-1,COLUMNS($T$26:T48)-1)<>\"\",OFFSET(DE104_9!$T$26,ROWS($T$26:T48)-1,COLUMNS($T$26:T48)-1),\"\")","v":""}]
[{"$f":"IF(OFFSET(DE104_9!$C$26,ROWS($C$26:C49)-1,COLUMNS($C$26:C49)-1)<>\"\",OFFSET(DE104_9!$C$26,ROWS($C$26:C49)-1,COLUMNS($C$26:C49)-1),\"\")","v":""},{"$f":"IF(OFFSET(DE104_9!$D$26,ROWS($D$26:D49)-1,COLUMNS($D$26:D49)-1)<>\"\",OFFSET(DE104_9!$D$26,ROWS($D$26:D49)-1,COLUMNS($D$26:D49)-1),\"\")","v":""},{"$f":"IF(OFFSET(DE104_9!$E$26,ROWS($E$26:E49)-1,COLUMNS($E$26:E49)-1)<>\"\",OFFSET(DE104_9!$E$26,ROWS($E$26:E49)-1,COLUMNS($E$26:E49)-1),\"\")","v":""},{"$f":"IF(OFFSET(DE104_9!$F$26,ROWS($F$26:F49)-1,COLUMNS($F$26:F49)-1)<>\"\",OFFSET(DE104_9!$F$26,ROWS($F$26:F49)-1,COLUMNS($F$26:F49)-1),\"\")","v":""},{"$f":"IF(OFFSET(DE104_9!$G$26,ROWS($G$26:G49)-1,COLUMNS($G$26:G49)-1)<>\"\",OFFSET(DE104_9!$G$26,ROWS($G$26:G49)-1,COLUMNS($G$26:G49)-1),\"\")","v":""},{"$f":"IF(OFFSET(DE104_9!$H$26,ROWS($H$26:H49)-1,COLUMNS($H$26:H49)-1)<>\"\",OFFSET(DE104_9!$H$26,ROWS($H$26:H49)-1,COLUMNS($H$26:H49)-1),\"\")","v":" "},{"$f":"IF(OFFSET(DE104_9!$I$26,ROWS($I$26:I49)-1,COLUMNS($I$26:I49)-1)<>\"\",OFFSET(DE104_9!$I$26,ROWS($I$26:I49)-1,COLUMNS($I$26:I49)-1),\"\")","v":""},{"$f":"IF(OFFSET(DE104_9!$J$26,ROWS($J$26:J49)-1,COLUMNS($J$26:J49)-1)<>\"\",OFFSET(DE104_9!$J$26,ROWS($J$26:J49)-1,COLUMNS($J$26:J49)-1),\"\")","v":""},{"$f":"IF(OFFSET(DE104_9!$K$26,ROWS($K$26:K49)-1,COLUMNS($K$26:K49)-1)<>\"\",OFFSET(DE104_9!$K$26,ROWS($K$26:K49)-1,COLUMNS($K$26:K49)-1),\"\")","v":""},{"$f":"IF(OFFSET(DE104_9!$L$26,ROWS($L$26:L49)-1,COLUMNS($L$26:L49)-1)<>\"\",OFFSET(DE104_9!$L$26,ROWS($L$26:L49)-1,COLUMNS($L$26:L49)-1),\"\")","v":""},{"$f":"IF(OFFSET(DE104_9!$M$26,ROWS($M$26:M49)-1,COLUMNS($M$26:M49)-1)<>\"\",OFFSET(DE104_9!$M$26,ROWS($M$26:M49)-1,COLUMNS($M$26:M49)-1),\"\")","v":""},{"$f":"IF(OFFSET(DE104_9!$N$26,ROWS($N$26:N49)-1,COLUMNS($N$26:N49)-1)<>\"\",OFFSET(DE104_9!$N$26,ROWS($N$26:N49)-1,COLUMNS($N$26:N49)-1),\"\")","v":""},{"$f":"IF(OFFSET(DE104_9!$O$26,ROWS($O$26:O49)-1,COLUMNS($O$26:O49)-1)<>\"\",OFFSET(DE104_9!$O$26,ROWS($O$26:O49)-1,COLUMNS($O$26:O49)-1),\"\")","v":""},{"$f":"IF(OFFSET(DE104_9!$P$26,ROWS($P$26:P49)-1,COLUMNS($P$26:P49)-1)<>\"\",OFFSET(DE104_9!$P$26,ROWS($P$26:P49)-1,COLUMNS($P$26:P49)-1),\"\")","v":144000},{"$f":"IF(OFFSET(DE104_9!$Q$26,ROWS($Q$26:Q49)-1,COLUMNS($Q$26:Q49)-1)<>\"\",OFFSET(DE104_9!$Q$26,ROWS($Q$26:Q49)-1,COLUMNS($Q$26:Q49)-1),\"\")","v":"DR-306"},{"$f":"IF(OFFSET(DE104_9!$R$26,ROWS($R$26:R49)-1,COLUMNS($R$26:R49)-1)<>\"\",OFFSET(DE104_9!$R$26,ROWS($R$26:R49)-1,COLUMNS($R$26:R49)-1),\"\")","v":" "},{"$f":"IF(OFFSET(DE104_9!$S$26,ROWS($S$26:S49)-1,COLUMNS($S$26:S49)-1)<>\"\",OFFSET(DE104_9!$S$26,ROWS($S$26:S49)-1,COLUMNS($S$26:S49)-1),\"\")","v":0.4},{"$f":"IF(OFFSET(DE104_9!$T$26,ROWS($T$26:T49)-1,COLUMNS($T$26:T49)-1)<>\"\",OFFSET(DE104_9!$T$26,ROWS($T$26:T49)-1,COLUMNS($T$26:T49)-1),\"\")","v":""}]
[{"$f":"IF(OFFSET(DE104_9!$C$26,ROWS($C$26:C50)-1,COLUMNS($C$26:C50)-1)<>\"\",OFFSET(DE104_9!$C$26,ROWS($C$26:C50)-1,COLUMNS($C$26:C50)-1),\"\")","v":13},{"$f":"IF(OFFSET(DE104_9!$D$26,ROWS($D$26:D50)-1,COLUMNS($D$26:D50)-1)<>\"\",OFFSET(DE104_9!$D$26,ROWS($D$26:D50)-1,COLUMNS($D$26:D50)-1),\"\")","v":"EBL"},{"$f":"IF(OFFSET(DE104_9!$E$26,ROWS($E$26:E50)-1,COLUMNS($E$26:E50)-1)<>\"\",OFFSET(DE104_9!$E$26,ROWS($E$26:E50)-1,COLUMNS($E$26:E50)-1),\"\")","v":144000},{"$f":"IF(OFFSET(DE104_9!$F$26,ROWS($F$26:F50)-1,COLUMNS($F$26:F50)-1)<>\"\",OFFSET(DE104_9!$F$26,ROWS($F$26:F50)-1,COLUMNS($F$26:F50)-1),\"\")","v":144500},{"$f":"IF(OFFSET(DE104_9!$G$26,ROWS($G$26:G50)-1,COLUMNS($G$26:G50)-1)<>\"\",OFFSET(DE104_9!$G$26,ROWS($G$26:G50)-1,COLUMNS($G$26:G50)-1),\"\")","v":"RT"},{"$f":"IF(OFFSET(DE104_9!$H$26,ROWS($H$26:H50)-1,COLUMNS($H$26:H50)-1)<>\"\",OFFSET(DE104_9!$H$26,ROWS($H$26:H50)-1,COLUMNS($H$26:H50)-1),\"\")","v":42},{"$f":"IF(OFFSET(DE104_9!$I$26,ROWS($I$26:I50)-1,COLUMNS($I$26:I50)-1)<>\"\",OFFSET(DE104_9!$I$26,ROWS($I$26:I50)-1,COLUMNS($I$26:I50)-1),\"\")","v":4},{"$f":"IF(OFFSET(DE104_9!$J$26,ROWS($J$26:J50)-1,COLUMNS($J$26:J50)-1)<>\"\",OFFSET(DE104_9!$J$26,ROWS($J$26:J50)-1,COLUMNS($J$26:J50)-1),\"\")","v":540},{"$f":"IF(OFFSET(DE104_9!$K$26,ROWS($K$26:K50)-1,COLUMNS($K$26:K50)-1)<>\"\",OFFSET(DE104_9!$K$26,ROWS($K$26:K50)-1,COLUMNS($K$26:K50)-1),\"\")","v":""},{"$f":"IF(OFFSET(DE104_9!$L$26,ROWS($L$26:L50)-1,COLUMNS($L$26:L50)-1)<>\"\",OFFSET(DE104_9!$L$26,ROWS($L$26:L50)-1,COLUMNS($L$26:L50)-1),\"\")","v":""},{"$f":"IF(OFFSET(DE104_9!$M$26,ROWS($M$26:M50)-1,COLUMNS($M$26:M50)-1)<>\"\",OFFSET(DE104_9!$M$26,ROWS($M$26:M50)-1,COLUMNS($M$26:M50)-1),\"\")","v":""},{"$f":"IF(OFFSET(DE104_9!$N$26,ROWS($N$26:N50)-1,COLUMNS($N$26:N50)-1)<>\"\",OFFSET(DE104_9!$N$26,ROWS($N$26:N50)-1,COLUMNS($N$26:N50)-1),\"\")","v":""},{"$f":"IF(OFFSET(DE104_9!$O$26,ROWS($O$26:O50)-1,COLUMNS($O$26:O50)-1)<>\"\",OFFSET(DE104_9!$O$26,ROWS($O$26:O50)-1,COLUMNS($O$26:O50)-1),\"\")","v":""},{"$f":"IF(OFFSET(DE104_9!$P$26,ROWS($P$26:P50)-1,COLUMNS($P$26:P50)-1)<>\"\",OFFSET(DE104_9!$P$26,ROWS($P$26:P50)-1,COLUMNS($P$26:P50)-1),\"\")","v":144000},{"$f":"IF(OFFSET(DE104_9!$Q$26,ROWS($Q$26:Q50)-1,COLUMNS($Q$26:Q50)-1)<>\"\",OFFSET(DE104_9!$Q$26,ROWS($Q$26:Q50)-1,COLUMNS($Q$26:Q50)-1),\"\")","v":"DR-306"},{"$f":"IF(OFFSET(DE104_9!$R$26,ROWS($R$26:R50)-1,COLUMNS($R$26:R50)-1)<>\"\",OFFSET(DE104_9!$R$26,ROWS($R$26:R50)-1,COLUMNS($R$26:R50)-1),\"\")","v":50},{"$f":"IF(OFFSET(DE104_9!$S$26,ROWS($S$26:S50)-1,COLUMNS($S$26:S50)-1)<>\"\",OFFSET(DE104_9!$S$26,ROWS($S$26:S50)-1,COLUMNS($S$26:S50)-1),\"\")","v":0.4},{"$f":"IF(OFFSET(DE104_9!$T$26,ROWS($T$26:T50)-1,COLUMNS($T$26:T50)-1)<>\"\",OFFSET(DE104_9!$T$26,ROWS($T$26:T50)-1,COLUMNS($T$26:T50)-1),\"\")","v":""}]
[{"$f":"IF(OFFSET(DE104_9!$C$26,ROWS($C$26:C51)-1,COLUMNS($C$26:C51)-1)<>\"\",OFFSET(DE104_9!$C$26,ROWS($C$26:C51)-1,COLUMNS($C$26:C51)-1),\"\")","v":""},{"$f":"IF(OFFSET(DE104_9!$D$26,ROWS($D$26:D51)-1,COLUMNS($D$26:D51)-1)<>\"\",OFFSET(DE104_9!$D$26,ROWS($D$26:D51)-1,COLUMNS($D$26:D51)-1),\"\")","v":""},{"$f":"IF(OFFSET(DE104_9!$E$26,ROWS($E$26:E51)-1,COLUMNS($E$26:E51)-1)<>\"\",OFFSET(DE104_9!$E$26,ROWS($E$26:E51)-1,COLUMNS($E$26:E51)-1),\"\")","v":""},{"$f":"IF(OFFSET(DE104_9!$F$26,ROWS($F$26:F51)-1,COLUMNS($F$26:F51)-1)<>\"\",OFFSET(DE104_9!$F$26,ROWS($F$26:F51)-1,COLUMNS($F$26:F51)-1),\"\")","v":""},{"$f":"IF(OFFSET(DE104_9!$G$26,ROWS($G$26:G51)-1,COLUMNS($G$26:G51)-1)<>\"\",OFFSET(DE104_9!$G$26,ROWS($G$26:G51)-1,COLUMNS($G$26:G51)-1),\"\")","v":""},{"$f":"IF(OFFSET(DE104_9!$H$26,ROWS($H$26:H51)-1,COLUMNS($H$26:H51)-1)<>\"\",OFFSET(DE104_9!$H$26,ROWS($H$26:H51)-1,COLUMNS($H$26:H51)-1),\"\")","v":" "},{"$f":"IF(OFFSET(DE104_9!$I$26,ROWS($I$26:I51)-1,COLUMNS($I$26:I51)-1)<>\"\",OFFSET(DE104_9!$I$26,ROWS($I$26:I51)-1,COLUMNS($I$26:I51)-1),\"\")","v":""},{"$f":"IF(OFFSET(DE104_9!$J$26,ROWS($J$26:J51)-1,COLUMNS($J$26:J51)-1)<>\"\",OFFSET(DE104_9!$J$26,ROWS($J$26:J51)-1,COLUMNS($J$26:J51)-1),\"\")","v":""},{"$f":"IF(OFFSET(DE104_9!$K$26,ROWS($K$26:K51)-1,COLUMNS($K$26:K51)-1)<>\"\",OFFSET(DE104_9!$K$26,ROWS($K$26:K51)-1,COLUMNS($K$26:K51)-1),\"\")","v":""},{"$f":"IF(OFFSET(DE104_9!$L$26,ROWS($L$26:L51)-1,COLUMNS($L$26:L51)-1)<>\"\",OFFSET(DE104_9!$L$26,ROWS($L$26:L51)-1,COLUMNS($L$26:L51)-1),\"\")","v":""},{"$f":"IF(OFFSET(DE104_9!$M$26,ROWS($M$26:M51)-1,COLUMNS($M$26:M51)-1)<>\"\",OFFSET(DE104_9!$M$26,ROWS($M$26:M51)-1,COLUMNS($M$26:M51)-1),\"\")","v":""},{"$f":"IF(OFFSET(DE104_9!$N$26,ROWS($N$26:N51)-1,COLUMNS($N$26:N51)-1)<>\"\",OFFSET(DE104_9!$N$26,ROWS($N$26:N51)-1,COLUMNS($N$26:N51)-1),\"\")","v":""},{"$f":"IF(OFFSET(DE104_9!$O$26,ROWS($O$26:O51)-1,COLUMNS($O$26:O51)-1)<>\"\",OFFSET(DE104_9!$O$26,ROWS($O$26:O51)-1,COLUMNS($O$26:O51)-1),\"\")","v":""},{"$f":"IF(OFFSET(DE104_9!$P$26,ROWS($P$26:P51)-1,COLUMNS($P$26:P51)-1)<>\"\",OFFSET(DE104_9!$P$26,ROWS($P$26:P51)-1,COLUMNS($P$26:P51)-1),\"\")","v":144500},{"$f":"IF(OFFSET(DE104_9!$Q$26,ROWS($Q$26:Q51)-1,COLUMNS($Q$26:Q51)-1)<>\"\",OFFSET(DE104_9!$Q$26,ROWS($Q$26:Q51)-1,COLUMNS($Q$26:Q51)-1),\"\")","v":"DR-306"},{"$f":"IF(OFFSET(DE104_9!$R$26,ROWS($R$26:R51)-1,COLUMNS($R$26:R51)-1)<>\"\",OFFSET(DE104_9!$R$26,ROWS($R$26:R51)-1,COLUMNS($R$26:R51)-1),\"\")","v":" "},{"$f":"IF(OFFSET(DE104_9!$S$26,ROWS($S$26:S51)-1,COLUMNS($S$26:S51)-1)<>\"\",OFFSET(DE104_9!$S$26,ROWS($S$26:S51)-1,COLUMNS($S$26:S51)-1),\"\")","v":0.4},{"$f":"IF(OFFSET(DE104_9!$T$26,ROWS($T$26:T51)-1,COLUMNS($T$26:T51)-1)<>\"\",OFFSET(DE104_9!$T$26,ROWS($T$26:T51)-1,COLUMNS($T$26:T51)-1),\"\")","v":""}]
[{"$f":"IF(OFFSET(DE104_9!$C$26,ROWS($C$26:C52)-1,COLUMNS($C$26:C52)-1)<>\"\",OFFSET(DE104_9!$C$26,ROWS($C$26:C52)-1,COLUMNS($C$26:C52)-1),\"\")","v":14},{"$f":"IF(OFFSET(DE104_9!$D$26,ROWS($D$26:D52)-1,COLUMNS($D$26:D52)-1)<>\"\",OFFSET(DE104_9!$D$26,ROWS($D$26:D52)-1,COLUMNS($D$26:D52)-1),\"\")","v":"EBL"},{"$f":"IF(OFFSET(DE104_9!$E$26,ROWS($E$26:E52)-1,COLUMNS($E$26:E52)-1)<>\"\",OFFSET(DE104_9!$E$26,ROWS($E$26:E52)-1,COLUMNS($E$26:E52)-1),\"\")","v":144500},{"$f":"IF(OFFSET(DE104_9!$F$26,ROWS($F$26:F52)-1,COLUMNS($F$26:F52)-1)<>\"\",OFFSET(DE104_9!$F$26,ROWS($F$26:F52)-1,COLUMNS($F$26:F52)-1),\"\")","v":145000},{"$f":"IF(OFFSET(DE104_9!$G$26,ROWS($G$26:G52)-1,COLUMNS($G$26:G52)-1)<>\"\",OFFSET(DE104_9!$G$26,ROWS($G$26:G52)-1,COLUMNS($G$26:G52)-1),\"\")","v":"RT"},{"$f":"IF(OFFSET(DE104_9!$H$26,ROWS($H$26:H52)-1,COLUMNS($H$26:H52)-1)<>\"\",OFFSET(DE104_9!$H$26,ROWS($H$26:H52)-1,COLUMNS($H$26:H52)-1),\"\")","v":42},{"$f":"IF(OFFSET(DE104_9!$I$26,ROWS($I$26:I52)-1,COLUMNS($I$26:I52)-1)<>\"\",OFFSET(DE104_9!$I$26,ROWS($I$26:I52)-1,COLUMNS($I$26:I52)-1),\"\")","v":4},{"$f":"IF(OFFSET(DE104_9!$J$26,ROWS($J$26:J52)-1,COLUMNS($J$26:J52)-1)<>\"\",OFFSET(DE104_9!$J$26,ROWS($J$26:J52)-1,COLUMNS($J$26:J52)-1),\"\")","v":540},{"$f":"IF(OFFSET(DE104_9!$K$26,ROWS($K$26:K52)-1,COLUMNS($K$26:K52)-1)<>\"\",OFFSET(DE104_9!$K$26,ROWS($K$26:K52)-1,COLUMNS($K$26:K52)-1),\"\")","v":""},{"$f":"IF(OFFSET(DE104_9!$L$26,ROWS($L$26:L52)-1,COLUMNS($L$26:L52)-1)<>\"\",OFFSET(DE104_9!$L$26,ROWS($L$26:L52)-1,COLUMNS($L$26:L52)-1),\"\")","v":""},{"$f":"IF(OFFSET(DE104_9!$M$26,ROWS($M$26:M52)-1,COLUMNS($M$26:M52)-1)<>\"\",OFFSET(DE104_9!$M$26,ROWS($M$26:M52)-1,COLUMNS($M$26:M52)-1),\"\")","v":""},{"$f":"IF(OFFSET(DE104_9!$N$26,ROWS($N$26:N52)-1,COLUMNS($N$26:N52)-1)<>\"\",OFFSET(DE104_9!$N$26,ROWS($N$26:N52)-1,COLUMNS($N$26:N52)-1),\"\")","v":""},{"$f":"IF(OFFSET(DE104_9!$O$26,ROWS($O$26:O52)-1,COLUMNS($O$26:O52)-1)<>\"\",OFFSET(DE104_9!$O$26,ROWS($O$26:O52)-1,COLUMNS($O$26:O52)-1),\"\")","v":""},{"$f":"IF(OFFSET(DE104_9!$P$26,ROWS($P$26:P52)-1,COLUMNS($P$26:P52)-1)<>\"\",OFFSET(DE104_9!$P$26,ROWS($P$26:P52)-1,COLUMNS($P$26:P52)-1),\"\")","v":144500},{"$f":"IF(OFFSET(DE104_9!$Q$26,ROWS($Q$26:Q52)-1,COLUMNS($Q$26:Q52)-1)<>\"\",OFFSET(DE104_9!$Q$26,ROWS($Q$26:Q52)-1,COLUMNS($Q$26:Q52)-1),\"\")","v":"DR-306"},{"$f":"IF(OFFSET(DE104_9!$R$26,ROWS($R$26:R52)-1,COLUMNS($R$26:R52)-1)<>\"\",OFFSET(DE104_9!$R$26,ROWS($R$26:R52)-1,COLUMNS($R$26:R52)-1),\"\")","v":50},{"$f":"IF(OFFSET(DE104_9!$S$26,ROWS($S$26:S52)-1,COLUMNS($S$26:S52)-1)<>\"\",OFFSET(DE104_9!$S$26,ROWS($S$26:S52)-1,COLUMNS($S$26:S52)-1),\"\")","v":0.4},{"$f":"IF(OFFSET(DE104_9!$T$26,ROWS($T$26:T52)-1,COLUMNS($T$26:T52)-1)<>\"\",OFFSET(DE104_9!$T$26,ROWS($T$26:T52)-1,COLUMNS($T$26:T52)-1),\"\")","v":""}]
[{"$f":"IF(OFFSET(DE104_9!$C$26,ROWS($C$26:C53)-1,COLUMNS($C$26:C53)-1)<>\"\",OFFSET(DE104_9!$C$26,ROWS($C$26:C53)-1,COLUMNS($C$26:C53)-1),\"\")","v":""},{"$f":"IF(OFFSET(DE104_9!$D$26,ROWS($D$26:D53)-1,COLUMNS($D$26:D53)-1)<>\"\",OFFSET(DE104_9!$D$26,ROWS($D$26:D53)-1,COLUMNS($D$26:D53)-1),\"\")","v":""},{"$f":"IF(OFFSET(DE104_9!$E$26,ROWS($E$26:E53)-1,COLUMNS($E$26:E53)-1)<>\"\",OFFSET(DE104_9!$E$26,ROWS($E$26:E53)-1,COLUMNS($E$26:E53)-1),\"\")","v":""},{"$f":"IF(OFFSET(DE104_9!$F$26,ROWS($F$26:F53)-1,COLUMNS($F$26:F53)-1)<>\"\",OFFSET(DE104_9!$F$26,ROWS($F$26:F53)-1,COLUMNS($F$26:F53)-1),\"\")","v":""},{"$f":"IF(OFFSET(DE104_9!$G$26,ROWS($G$26:G53)-1,COLUMNS($G$26:G53)-1)<>\"\",OFFSET(DE104_9!$G$26,ROWS($G$26:G53)-1,COLUMNS($G$26:G53)-1),\"\")","v":""},{"$f":"IF(OFFSET(DE104_9!$H$26,ROWS($H$26:H53)-1,COLUMNS($H$26:H53)-1)<>\"\",OFFSET(DE104_9!$H$26,ROWS($H$26:H53)-1,COLUMNS($H$26:H53)-1),\"\")","v":" "},{"$f":"IF(OFFSET(DE104_9!$I$26,ROWS($I$26:I53)-1,COLUMNS($I$26:I53)-1)<>\"\",OFFSET(DE104_9!$I$26,ROWS($I$26:I53)-1,COLUMNS($I$26:I53)-1),\"\")","v":""},{"$f":"IF(OFFSET(DE104_9!$J$26,ROWS($J$26:J53)-1,COLUMNS($J$26:J53)-1)<>\"\",OFFSET(DE104_9!$J$26,ROWS($J$26:J53)-1,COLUMNS($J$26:J53)-1),\"\")","v":""},{"$f":"IF(OFFSET(DE104_9!$K$26,ROWS($K$26:K53)-1,COLUMNS($K$26:K53)-1)<>\"\",OFFSET(DE104_9!$K$26,ROWS($K$26:K53)-1,COLUMNS($K$26:K53)-1),\"\")","v":""},{"$f":"IF(OFFSET(DE104_9!$L$26,ROWS($L$26:L53)-1,COLUMNS($L$26:L53)-1)<>\"\",OFFSET(DE104_9!$L$26,ROWS($L$26:L53)-1,COLUMNS($L$26:L53)-1),\"\")","v":""},{"$f":"IF(OFFSET(DE104_9!$M$26,ROWS($M$26:M53)-1,COLUMNS($M$26:M53)-1)<>\"\",OFFSET(DE104_9!$M$26,ROWS($M$26:M53)-1,COLUMNS($M$26:M53)-1),\"\")","v":""},{"$f":"IF(OFFSET(DE104_9!$N$26,ROWS($N$26:N53)-1,COLUMNS($N$26:N53)-1)<>\"\",OFFSET(DE104_9!$N$26,ROWS($N$26:N53)-1,COLUMNS($N$26:N53)-1),\"\")","v":""},{"$f":"IF(OFFSET(DE104_9!$O$26,ROWS($O$26:O53)-1,COLUMNS($O$26:O53)-1)<>\"\",OFFSET(DE104_9!$O$26,ROWS($O$26:O53)-1,COLUMNS($O$26:O53)-1),\"\")","v":""},{"$f":"IF(OFFSET(DE104_9!$P$26,ROWS($P$26:P53)-1,COLUMNS($P$26:P53)-1)<>\"\",OFFSET(DE104_9!$P$26,ROWS($P$26:P53)-1,COLUMNS($P$26:P53)-1),\"\")","v":145000},{"$f":"IF(OFFSET(DE104_9!$Q$26,ROWS($Q$26:Q53)-1,COLUMNS($Q$26:Q53)-1)<>\"\",OFFSET(DE104_9!$Q$26,ROWS($Q$26:Q53)-1,COLUMNS($Q$26:Q53)-1),\"\")","v":"DR-306"},{"$f":"IF(OFFSET(DE104_9!$R$26,ROWS($R$26:R53)-1,COLUMNS($R$26:R53)-1)<>\"\",OFFSET(DE104_9!$R$26,ROWS($R$26:R53)-1,COLUMNS($R$26:R53)-1),\"\")","v":" "},{"$f":"IF(OFFSET(DE104_9!$S$26,ROWS($S$26:S53)-1,COLUMNS($S$26:S53)-1)<>\"\",OFFSET(DE104_9!$S$26,ROWS($S$26:S53)-1,COLUMNS($S$26:S53)-1),\"\")","v":0.4},{"$f":"IF(OFFSET(DE104_9!$T$26,ROWS($T$26:T53)-1,COLUMNS($T$26:T53)-1)<>\"\",OFFSET(DE104_9!$T$26,ROWS($T$26:T53)-1,COLUMNS($T$26:T53)-1),\"\")","v":""}]
[{"$f":"IF(OFFSET(DE104_9!$C$26,ROWS($C$26:C54)-1,COLUMNS($C$26:C54)-1)<>\"\",OFFSET(DE104_9!$C$26,ROWS($C$26:C54)-1,COLUMNS($C$26:C54)-1),\"\")","v":15},{"$f":"IF(OFFSET(DE104_9!$D$26,ROWS($D$26:D54)-1,COLUMNS($D$26:D54)-1)<>\"\",OFFSET(DE104_9!$D$26,ROWS($D$26:D54)-1,COLUMNS($D$26:D54)-1),\"\")","v":"EBL"},{"$f":"IF(OFFSET(DE104_9!$E$26,ROWS($E$26:E54)-1,COLUMNS($E$26:E54)-1)<>\"\",OFFSET(DE104_9!$E$26,ROWS($E$26:E54)-1,COLUMNS($E$26:E54)-1),\"\")","v":145000},{"$f":"IF(OFFSET(DE104_9!$F$26,ROWS($F$26:F54)-1,COLUMNS($F$26:F54)-1)<>\"\",OFFSET(DE104_9!$F$26,ROWS($F$26:F54)-1,COLUMNS($F$26:F54)-1),\"\")","v":145500},{"$f":"IF(OFFSET(DE104_9!$G$26,ROWS($G$26:G54)-1,COLUMNS($G$26:G54)-1)<>\"\",OFFSET(DE104_9!$G$26,ROWS($G$26:G54)-1,COLUMNS($G$26:G54)-1),\"\")","v":"RT"},{"$f":"IF(OFFSET(DE104_9!$H$26,ROWS($H$26:H54)-1,COLUMNS($H$26:H54)-1)<>\"\",OFFSET(DE104_9!$H$26,ROWS($H$26:H54)-1,COLUMNS($H$26:H54)-1),\"\")","v":42},{"$f":"IF(OFFSET(DE104_9!$I$26,ROWS($I$26:I54)-1,COLUMNS($I$26:I54)-1)<>\"\",OFFSET(DE104_9!$I$26,ROWS($I$26:I54)-1,COLUMNS($I$26:I54)-1),\"\")","v":4},{"$f":"IF(OFFSET(DE104_9!$J$26,ROWS($J$26:J54)-1,COLUMNS($J$26:J54)-1)<>\"\",OFFSET(DE104_9!$J$26,ROWS($J$26:J54)-1,COLUMNS($J$26:J54)-1),\"\")","v":540},{"$f":"IF(OFFSET(DE104_9!$K$26,ROWS($K$26:K54)-1,COLUMNS($K$26:K54)-1)<>\"\",OFFSET(DE104_9!$K$26,ROWS($K$26:K54)-1,COLUMNS($K$26:K54)-1),\"\")","v":""},{"$f":"IF(OFFSET(DE104_9!$L$26,ROWS($L$26:L54)-1,COLUMNS($L$26:L54)-1)<>\"\",OFFSET(DE104_9!$L$26,ROWS($L$26:L54)-1,COLUMNS($L$26:L54)-1),\"\")","v":""},{"$f":"IF(OFFSET(DE104_9!$M$26,ROWS($M$26:M54)-1,COLUMNS($M$26:M54)-1)<>\"\",OFFSET(DE104_9!$M$26,ROWS($M$26:M54)-1,COLUMNS($M$26:M54)-1),\"\")","v":""},{"$f":"IF(OFFSET(DE104_9!$N$26,ROWS($N$26:N54)-1,COLUMNS($N$26:N54)-1)<>\"\",OFFSET(DE104_9!$N$26,ROWS($N$26:N54)-1,COLUMNS($N$26:N54)-1),\"\")","v":""},{"$f":"IF(OFFSET(DE104_9!$O$26,ROWS($O$26:O54)-1,COLUMNS($O$26:O54)-1)<>\"\",OFFSET(DE104_9!$O$26,ROWS($O$26:O54)-1,COLUMNS($O$26:O54)-1),\"\")","v":""},{"$f":"IF(OFFSET(DE104_9!$P$26,ROWS($P$26:P54)-1,COLUMNS($P$26:P54)-1)<>\"\",OFFSET(DE104_9!$P$26,ROWS($P$26:P54)-1,COLUMNS($P$26:P54)-1),\"\")","v":145000},{"$f":"IF(OFFSET(DE104_9!$Q$26,ROWS($Q$26:Q54)-1,COLUMNS($Q$26:Q54)-1)<>\"\",OFFSET(DE104_9!$Q$26,ROWS($Q$26:Q54)-1,COLUMNS($Q$26:Q54)-1),\"\")","v":"DR-306"},{"$f":"IF(OFFSET(DE104_9!$R$26,ROWS($R$26:R54)-1,COLUMNS($R$26:R54)-1)<>\"\",OFFSET(DE104_9!$R$26,ROWS($R$26:R54)-1,COLUMNS($R$26:R54)-1),\"\")","v":50},{"$f":"IF(OFFSET(DE104_9!$S$26,ROWS($S$26:S54)-1,COLUMNS($S$26:S54)-1)<>\"\",OFFSET(DE104_9!$S$26,ROWS($S$26:S54)-1,COLUMNS($S$26:S54)-1),\"\")","v":0.4},{"$f":"IF(OFFSET(DE104_9!$T$26,ROWS($T$26:T54)-1,COLUMNS($T$26:T54)-1)<>\"\",OFFSET(DE104_9!$T$26,ROWS($T$26:T54)-1,COLUMNS($T$26:T54)-1),\"\")","v":""}]
[{"$f":"IF(OFFSET(DE104_9!$C$26,ROWS($C$26:C55)-1,COLUMNS($C$26:C55)-1)<>\"\",OFFSET(DE104_9!$C$26,ROWS($C$26:C55)-1,COLUMNS($C$26:C55)-1),\"\")","v":""},{"$f":"IF(OFFSET(DE104_9!$D$26,ROWS($D$26:D55)-1,COLUMNS($D$26:D55)-1)<>\"\",OFFSET(DE104_9!$D$26,ROWS($D$26:D55)-1,COLUMNS($D$26:D55)-1),\"\")","v":""},{"$f":"IF(OFFSET(DE104_9!$E$26,ROWS($E$26:E55)-1,COLUMNS($E$26:E55)-1)<>\"\",OFFSET(DE104_9!$E$26,ROWS($E$26:E55)-1,COLUMNS($E$26:E55)-1),\"\")","v":""},{"$f":"IF(OFFSET(DE104_9!$F$26,ROWS($F$26:F55)-1,COLUMNS($F$26:F55)-1)<>\"\",OFFSET(DE104_9!$F$26,ROWS($F$26:F55)-1,COLUMNS($F$26:F55)-1),\"\")","v":""},{"$f":"IF(OFFSET(DE104_9!$G$26,ROWS($G$26:G55)-1,COLUMNS($G$26:G55)-1)<>\"\",OFFSET(DE104_9!$G$26,ROWS($G$26:G55)-1,COLUMNS($G$26:G55)-1),\"\")","v":""},{"$f":"IF(OFFSET(DE104_9!$H$26,ROWS($H$26:H55)-1,COLUMNS($H$26:H55)-1)<>\"\",OFFSET(DE104_9!$H$26,ROWS($H$26:H55)-1,COLUMNS($H$26:H55)-1),\"\")","v":" "},{"$f":"IF(OFFSET(DE104_9!$I$26,ROWS($I$26:I55)-1,COLUMNS($I$26:I55)-1)<>\"\",OFFSET(DE104_9!$I$26,ROWS($I$26:I55)-1,COLUMNS($I$26:I55)-1),\"\")","v":""},{"$f":"IF(OFFSET(DE104_9!$J$26,ROWS($J$26:J55)-1,COLUMNS($J$26:J55)-1)<>\"\",OFFSET(DE104_9!$J$26,ROWS($J$26:J55)-1,COLUMNS($J$26:J55)-1),\"\")","v":""},{"$f":"IF(OFFSET(DE104_9!$K$26,ROWS($K$26:K55)-1,COLUMNS($K$26:K55)-1)<>\"\",OFFSET(DE104_9!$K$26,ROWS($K$26:K55)-1,COLUMNS($K$26:K55)-1),\"\")","v":""},{"$f":"IF(OFFSET(DE104_9!$L$26,ROWS($L$26:L55)-1,COLUMNS($L$26:L55)-1)<>\"\",OFFSET(DE104_9!$L$26,ROWS($L$26:L55)-1,COLUMNS($L$26:L55)-1),\"\")","v":""},{"$f":"IF(OFFSET(DE104_9!$M$26,ROWS($M$26:M55)-1,COLUMNS($M$26:M55)-1)<>\"\",OFFSET(DE104_9!$M$26,ROWS($M$26:M55)-1,COLUMNS($M$26:M55)-1),\"\")","v":""},{"$f":"IF(OFFSET(DE104_9!$N$26,ROWS($N$26:N55)-1,COLUMNS($N$26:N55)-1)<>\"\",OFFSET(DE104_9!$N$26,ROWS($N$26:N55)-1,COLUMNS($N$26:N55)-1),\"\")","v":""},{"$f":"IF(OFFSET(DE104_9!$O$26,ROWS($O$26:O55)-1,COLUMNS($O$26:O55)-1)<>\"\",OFFSET(DE104_9!$O$26,ROWS($O$26:O55)-1,COLUMNS($O$26:O55)-1),\"\")","v":""},{"$f":"IF(OFFSET(DE104_9!$P$26,ROWS($P$26:P55)-1,COLUMNS($P$26:P55)-1)<>\"\",OFFSET(DE104_9!$P$26,ROWS($P$26:P55)-1,COLUMNS($P$26:P55)-1),\"\")","v":145500},{"$f":"IF(OFFSET(DE104_9!$Q$26,ROWS($Q$26:Q55)-1,COLUMNS($Q$26:Q55)-1)<>\"\",OFFSET(DE104_9!$Q$26,ROWS($Q$26:Q55)-1,COLUMNS($Q$26:Q55)-1),\"\")","v":"DR-306"},{"$f":"IF(OFFSET(DE104_9!$R$26,ROWS($R$26:R55)-1,COLUMNS($R$26:R55)-1)<>\"\",OFFSET(DE104_9!$R$26,ROWS($R$26:R55)-1,COLUMNS($R$26:R55)-1),\"\")","v":" "},{"$f":"IF(OFFSET(DE104_9!$S$26,ROWS($S$26:S55)-1,COLUMNS($S$26:S55)-1)<>\"\",OFFSET(DE104_9!$S$26,ROWS($S$26:S55)-1,COLUMNS($S$26:S55)-1),\"\")","v":0.4},{"$f":"IF(OFFSET(DE104_9!$T$26,ROWS($T$26:T55)-1,COLUMNS($T$26:T55)-1)<>\"\",OFFSET(DE104_9!$T$26,ROWS($T$26:T55)-1,COLUMNS($T$26:T55)-1),\"\")","v":""}]
[{"$f":"IF(OFFSET(DE104_9!$C$26,ROWS($C$26:C56)-1,COLUMNS($C$26:C56)-1)<>\"\",OFFSET(DE104_9!$C$26,ROWS($C$26:C56)-1,COLUMNS($C$26:C56)-1),\"\")","v":16},{"$f":"IF(OFFSET(DE104_9!$D$26,ROWS($D$26:D56)-1,COLUMNS($D$26:D56)-1)<>\"\",OFFSET(DE104_9!$D$26,ROWS($D$26:D56)-1,COLUMNS($D$26:D56)-1),\"\")","v":"EBL"},{"$f":"IF(OFFSET(DE104_9!$E$26,ROWS($E$26:E56)-1,COLUMNS($E$26:E56)-1)<>\"\",OFFSET(DE104_9!$E$26,ROWS($E$26:E56)-1,COLUMNS($E$26:E56)-1),\"\")","v":145500},{"$f":"IF(OFFSET(DE104_9!$F$26,ROWS($F$26:F56)-1,COLUMNS($F$26:F56)-1)<>\"\",OFFSET(DE104_9!$F$26,ROWS($F$26:F56)-1,COLUMNS($F$26:F56)-1),\"\")","v":146000},{"$f":"IF(OFFSET(DE104_9!$G$26,ROWS($G$26:G56)-1,COLUMNS($G$26:G56)-1)<>\"\",OFFSET(DE104_9!$G$26,ROWS($G$26:G56)-1,COLUMNS($G$26:G56)-1),\"\")","v":"RT"},{"$f":"IF(OFFSET(DE104_9!$H$26,ROWS($H$26:H56)-1,COLUMNS($H$26:H56)-1)<>\"\",OFFSET(DE104_9!$H$26,ROWS($H$26:H56)-1,COLUMNS($H$26:H56)-1),\"\")","v":42},{"$f":"IF(OFFSET(DE104_9!$I$26,ROWS($I$26:I56)-1,COLUMNS($I$26:I56)-1)<>\"\",OFFSET(DE104_9!$I$26,ROWS($I$26:I56)-1,COLUMNS($I$26:I56)-1),\"\")","v":4},{"$f":"IF(OFFSET(DE104_9!$J$26,ROWS($J$26:J56)-1,COLUMNS($J$26:J56)-1)<>\"\",OFFSET(DE104_9!$J$26,ROWS($J$26:J56)-1,COLUMNS($J$26:J56)-1),\"\")","v":540},{"$f":"IF(OFFSET(DE104_9!$K$26,ROWS($K$26:K56)-1,COLUMNS($K$26:K56)-1)<>\"\",OFFSET(DE104_9!$K$26,ROWS($K$26:K56)-1,COLUMNS($K$26:K56)-1),\"\")","v":""},{"$f":"IF(OFFSET(DE104_9!$L$26,ROWS($L$26:L56)-1,COLUMNS($L$26:L56)-1)<>\"\",OFFSET(DE104_9!$L$26,ROWS($L$26:L56)-1,COLUMNS($L$26:L56)-1),\"\")","v":""},{"$f":"IF(OFFSET(DE104_9!$M$26,ROWS($M$26:M56)-1,COLUMNS($M$26:M56)-1)<>\"\",OFFSET(DE104_9!$M$26,ROWS($M$26:M56)-1,COLUMNS($M$26:M56)-1),\"\")","v":""},{"$f":"IF(OFFSET(DE104_9!$N$26,ROWS($N$26:N56)-1,COLUMNS($N$26:N56)-1)<>\"\",OFFSET(DE104_9!$N$26,ROWS($N$26:N56)-1,COLUMNS($N$26:N56)-1),\"\")","v":""},{"$f":"IF(OFFSET(DE104_9!$O$26,ROWS($O$26:O56)-1,COLUMNS($O$26:O56)-1)<>\"\",OFFSET(DE104_9!$O$26,ROWS($O$26:O56)-1,COLUMNS($O$26:O56)-1),\"\")","v":""},{"$f":"IF(OFFSET(DE104_9!$P$26,ROWS($P$26:P56)-1,COLUMNS($P$26:P56)-1)<>\"\",OFFSET(DE104_9!$P$26,ROWS($P$26:P56)-1,COLUMNS($P$26:P56)-1),\"\")","v":145500},{"$f":"IF(OFFSET(DE104_9!$Q$26,ROWS($Q$26:Q56)-1,COLUMNS($Q$26:Q56)-1)<>\"\",OFFSET(DE104_9!$Q$26,ROWS($Q$26:Q56)-1,COLUMNS($Q$26:Q56)-1),\"\")","v":"DR-306"},{"$f":"IF(OFFSET(DE104_9!$R$26,ROWS($R$26:R56)-1,COLUMNS($R$26:R56)-1)<>\"\",OFFSET(DE104_9!$R$26,ROWS($R$26:R56)-1,COLUMNS($R$26:R56)-1),\"\")","v":50},{"$f":"IF(OFFSET(DE104_9!$S$26,ROWS($S$26:S56)-1,COLUMNS($S$26:S56)-1)<>\"\",OFFSET(DE104_9!$S$26,ROWS($S$26:S56)-1,COLUMNS($S$26:S56)-1),\"\")","v":0.4},{"$f":"IF(OFFSET(DE104_9!$T$26,ROWS($T$26:T56)-1,COLUMNS($T$26:T56)-1)<>\"\",OFFSET(DE104_9!$T$26,ROWS($T$26:T56)-1,COLUMNS($T$26:T56)-1),\"\")","v":""}]
[{"$f":"IF(OFFSET(DE104_9!$C$26,ROWS($C$26:C57)-1,COLUMNS($C$26:C57)-1)<>\"\",OFFSET(DE104_9!$C$26,ROWS($C$26:C57)-1,COLUMNS($C$26:C57)-1),\"\")","v":""},{"$f":"IF(OFFSET(DE104_9!$D$26,ROWS($D$26:D57)-1,COLUMNS($D$26:D57)-1)<>\"\",OFFSET(DE104_9!$D$26,ROWS($D$26:D57)-1,COLUMNS($D$26:D57)-1),\"\")","v":""},{"$f":"IF(OFFSET(DE104_9!$E$26,ROWS($E$26:E57)-1,COLUMNS($E$26:E57)-1)<>\"\",OFFSET(DE104_9!$E$26,ROWS($E$26:E57)-1,COLUMNS($E$26:E57)-1),\"\")","v":""},{"$f":"IF(OFFSET(DE104_9!$F$26,ROWS($F$26:F57)-1,COLUMNS($F$26:F57)-1)<>\"\",OFFSET(DE104_9!$F$26,ROWS($F$26:F57)-1,COLUMNS($F$26:F57)-1),\"\")","v":""},{"$f":"IF(OFFSET(DE104_9!$G$26,ROWS($G$26:G57)-1,COLUMNS($G$26:G57)-1)<>\"\",OFFSET(DE104_9!$G$26,ROWS($G$26:G57)-1,COLUMNS($G$26:G57)-1),\"\")","v":""},{"$f":"IF(OFFSET(DE104_9!$H$26,ROWS($H$26:H57)-1,COLUMNS($H$26:H57)-1)<>\"\",OFFSET(DE104_9!$H$26,ROWS($H$26:H57)-1,COLUMNS($H$26:H57)-1),\"\")","v":" "},{"$f":"IF(OFFSET(DE104_9!$I$26,ROWS($I$26:I57)-1,COLUMNS($I$26:I57)-1)<>\"\",OFFSET(DE104_9!$I$26,ROWS($I$26:I57)-1,COLUMNS($I$26:I57)-1),\"\")","v":""},{"$f":"IF(OFFSET(DE104_9!$J$26,ROWS($J$26:J57)-1,COLUMNS($J$26:J57)-1)<>\"\",OFFSET(DE104_9!$J$26,ROWS($J$26:J57)-1,COLUMNS($J$26:J57)-1),\"\")","v":""},{"$f":"IF(OFFSET(DE104_9!$K$26,ROWS($K$26:K57)-1,COLUMNS($K$26:K57)-1)<>\"\",OFFSET(DE104_9!$K$26,ROWS($K$26:K57)-1,COLUMNS($K$26:K57)-1),\"\")","v":""},{"$f":"IF(OFFSET(DE104_9!$L$26,ROWS($L$26:L57)-1,COLUMNS($L$26:L57)-1)<>\"\",OFFSET(DE104_9!$L$26,ROWS($L$26:L57)-1,COLUMNS($L$26:L57)-1),\"\")","v":""},{"$f":"IF(OFFSET(DE104_9!$M$26,ROWS($M$26:M57)-1,COLUMNS($M$26:M57)-1)<>\"\",OFFSET(DE104_9!$M$26,ROWS($M$26:M57)-1,COLUMNS($M$26:M57)-1),\"\")","v":""},{"$f":"IF(OFFSET(DE104_9!$N$26,ROWS($N$26:N57)-1,COLUMNS($N$26:N57)-1)<>\"\",OFFSET(DE104_9!$N$26,ROWS($N$26:N57)-1,COLUMNS($N$26:N57)-1),\"\")","v":""},{"$f":"IF(OFFSET(DE104_9!$O$26,ROWS($O$26:O57)-1,COLUMNS($O$26:O57)-1)<>\"\",OFFSET(DE104_9!$O$26,ROWS($O$26:O57)-1,COLUMNS($O$26:O57)-1),\"\")","v":""},{"$f":"IF(OFFSET(DE104_9!$P$26,ROWS($P$26:P57)-1,COLUMNS($P$26:P57)-1)<>\"\",OFFSET(DE104_9!$P$26,ROWS($P$26:P57)-1,COLUMNS($P$26:P57)-1),\"\")","v":146000},{"$f":"IF(OFFSET(DE104_9!$Q$26,ROWS($Q$26:Q57)-1,COLUMNS($Q$26:Q57)-1)<>\"\",OFFSET(DE104_9!$Q$26,ROWS($Q$26:Q57)-1,COLUMNS($Q$26:Q57)-1),\"\")","v":"DR-306"},{"$f":"IF(OFFSET(DE104_9!$R$26,ROWS($R$26:R57)-1,COLUMNS($R$26:R57)-1)<>\"\",OFFSET(DE104_9!$R$26,ROWS($R$26:R57)-1,COLUMNS($R$26:R57)-1),\"\")","v":" "},{"$f":"IF(OFFSET(DE104_9!$S$26,ROWS($S$26:S57)-1,COLUMNS($S$26:S57)-1)<>\"\",OFFSET(DE104_9!$S$26,ROWS($S$26:S57)-1,COLUMNS($S$26:S57)-1),\"\")","v":0.4},{"$f":"IF(OFFSET(DE104_9!$T$26,ROWS($T$26:T57)-1,COLUMNS($T$26:T57)-1)<>\"\",OFFSET(DE104_9!$T$26,ROWS($T$26:T57)-1,COLUMNS($T$26:T57)-1),\"\")","v":""}]
[{"$f":"IF(OFFSET(DE104_9!$C$26,ROWS($C$26:C58)-1,COLUMNS($C$26:C58)-1)<>\"\",OFFSET(DE104_9!$C$26,ROWS($C$26:C58)-1,COLUMNS($C$26:C58)-1),\"\")","v":17},{"$f":"IF(OFFSET(DE104_9!$D$26,ROWS($D$26:D58)-1,COLUMNS($D$26:D58)-1)<>\"\",OFFSET(DE104_9!$D$26,ROWS($D$26:D58)-1,COLUMNS($D$26:D58)-1),\"\")","v":"EBL"},{"$f":"IF(OFFSET(DE104_9!$E$26,ROWS($E$26:E58)-1,COLUMNS($E$26:E58)-1)<>\"\",OFFSET(DE104_9!$E$26,ROWS($E$26:E58)-1,COLUMNS($E$26:E58)-1),\"\")","v":146000},{"$f":"IF(OFFSET(DE104_9!$F$26,ROWS($F$26:F58)-1,COLUMNS($F$26:F58)-1)<>\"\",OFFSET(DE104_9!$F$26,ROWS($F$26:F58)-1,COLUMNS($F$26:F58)-1),\"\")","v":146520},{"$f":"IF(OFFSET(DE104_9!$G$26,ROWS($G$26:G58)-1,COLUMNS($G$26:G58)-1)<>\"\",OFFSET(DE104_9!$G$26,ROWS($G$26:G58)-1,COLUMNS($G$26:G58)-1),\"\")","v":"RT"},{"$f":"IF(OFFSET(DE104_9!$H$26,ROWS($H$26:H58)-1,COLUMNS($H$26:H58)-1)<>\"\",OFFSET(DE104_9!$H$26,ROWS($H$26:H58)-1,COLUMNS($H$26:H58)-1),\"\")","v":42},{"$f":"IF(OFFSET(DE104_9!$I$26,ROWS($I$26:I58)-1,COLUMNS($I$26:I58)-1)<>\"\",OFFSET(DE104_9!$I$26,ROWS($I$26:I58)-1,COLUMNS($I$26:I58)-1),\"\")","v":4},{"$f":"IF(OFFSET(DE104_9!$J$26,ROWS($J$26:J58)-1,COLUMNS($J$26:J58)-1)<>\"\",OFFSET(DE104_9!$J$26,ROWS($J$26:J58)-1,COLUMNS($J$26:J58)-1),\"\")","v":560},{"$f":"IF(OFFSET(DE104_9!$K$26,ROWS($K$26:K58)-1,COLUMNS($K$26:K58)-1)<>\"\",OFFSET(DE104_9!$K$26,ROWS($K$26:K58)-1,COLUMNS($K$26:K58)-1),\"\")","v":""},{"$f":"IF(OFFSET(DE104_9!$L$26,ROWS($L$26:L58)-1,COLUMNS($L$26:L58)-1)<>\"\",OFFSET(DE104_9!$L$26,ROWS($L$26:L58)-1,COLUMNS($L$26:L58)-1),\"\")","v":""},{"$f":"IF(OFFSET(DE104_9!$M$26,ROWS($M$26:M58)-1,COLUMNS($M$26:M58)-1)<>\"\",OFFSET(DE104_9!$M$26,ROWS($M$26:M58)-1,COLUMNS($M$26:M58)-1),\"\")","v":""},{"$f":"IF(OFFSET(DE104_9!$N$26,ROWS($N$26:N58)-1,COLUMNS($N$26:N58)-1)<>\"\",OFFSET(DE104_9!$N$26,ROWS($N$26:N58)-1,COLUMNS($N$26:N58)-1),\"\")","v":""},{"$f":"IF(OFFSET(DE104_9!$O$26,ROWS($O$26:O58)-1,COLUMNS($O$26:O58)-1)<>\"\",OFFSET(DE104_9!$O$26,ROWS($O$26:O58)-1,COLUMNS($O$26:O58)-1),\"\")","v":""},{"$f":"IF(OFFSET(DE104_9!$P$26,ROWS($P$26:P58)-1,COLUMNS($P$26:P58)-1)<>\"\",OFFSET(DE104_9!$P$26,ROWS($P$26:P58)-1,COLUMNS($P$26:P58)-1),\"\")","v":146000},{"$f":"IF(OFFSET(DE104_9!$Q$26,ROWS($Q$26:Q58)-1,COLUMNS($Q$26:Q58)-1)<>\"\",OFFSET(DE104_9!$Q$26,ROWS($Q$26:Q58)-1,COLUMNS($Q$26:Q58)-1),\"\")","v":"DR-306"},{"$f":"IF(OFFSET(DE104_9!$R$26,ROWS($R$26:R58)-1,COLUMNS($R$26:R58)-1)<>\"\",OFFSET(DE104_9!$R$26,ROWS($R$26:R58)-1,COLUMNS($R$26:R58)-1),\"\")","v":51.9},{"$f":"IF(OFFSET(DE104_9!$S$26,ROWS($S$26:S58)-1,COLUMNS($S$26:S58)-1)<>\"\",OFFSET(DE104_9!$S$26,ROWS($S$26:S58)-1,COLUMNS($S$26:S58)-1),\"\")","v":0.4},{"$f":"IF(OFFSET(DE104_9!$T$26,ROWS($T$26:T58)-1,COLUMNS($T$26:T58)-1)<>\"\",OFFSET(DE104_9!$T$26,ROWS($T$26:T58)-1,COLUMNS($T$26:T58)-1),\"\")","v":""}]
[{"$f":"IF(OFFSET(DE104_9!$C$26,ROWS($C$26:C59)-1,COLUMNS($C$26:C59)-1)<>\"\",OFFSET(DE104_9!$C$26,ROWS($C$26:C59)-1,COLUMNS($C$26:C59)-1),\"\")","v":""},{"$f":"IF(OFFSET(DE104_9!$D$26,ROWS($D$26:D59)-1,COLUMNS($D$26:D59)-1)<>\"\",OFFSET(DE104_9!$D$26,ROWS($D$26:D59)-1,COLUMNS($D$26:D59)-1),\"\")","v":""},{"$f":"IF(OFFSET(DE104_9!$E$26,ROWS($E$26:E59)-1,COLUMNS($E$26:E59)-1)<>\"\",OFFSET(DE104_9!$E$26,ROWS($E$26:E59)-1,COLUMNS($E$26:E59)-1),\"\")","v":""},{"$f":"IF(OFFSET(DE104_9!$F$26,ROWS($F$26:F59)-1,COLUMNS($F$26:F59)-1)<>\"\",OFFSET(DE104_9!$F$26,ROWS($F$26:F59)-1,COLUMNS($F$26:F59)-1),\"\")","v":""},{"$f":"IF(OFFSET(DE104_9!$G$26,ROWS($G$26:G59)-1,COLUMNS($G$26:G59)-1)<>\"\",OFFSET(DE104_9!$G$26,ROWS($G$26:G59)-1,COLUMNS($G$26:G59)-1),\"\")","v":""},{"$f":"IF(OFFSET(DE104_9!$H$26,ROWS($H$26:H59)-1,COLUMNS($H$26:H59)-1)<>\"\",OFFSET(DE104_9!$H$26,ROWS($H$26:H59)-1,COLUMNS($H$26:H59)-1),\"\")","v":" "},{"$f":"IF(OFFSET(DE104_9!$I$26,ROWS($I$26:I59)-1,COLUMNS($I$26:I59)-1)<>\"\",OFFSET(DE104_9!$I$26,ROWS($I$26:I59)-1,COLUMNS($I$26:I59)-1),\"\")","v":""},{"$f":"IF(OFFSET(DE104_9!$J$26,ROWS($J$26:J59)-1,COLUMNS($J$26:J59)-1)<>\"\",OFFSET(DE104_9!$J$26,ROWS($J$26:J59)-1,COLUMNS($J$26:J59)-1),\"\")","v":""},{"$f":"IF(OFFSET(DE104_9!$K$26,ROWS($K$26:K59)-1,COLUMNS($K$26:K59)-1)<>\"\",OFFSET(DE104_9!$K$26,ROWS($K$26:K59)-1,COLUMNS($K$26:K59)-1),\"\")","v":""},{"$f":"IF(OFFSET(DE104_9!$L$26,ROWS($L$26:L59)-1,COLUMNS($L$26:L59)-1)<>\"\",OFFSET(DE104_9!$L$26,ROWS($L$26:L59)-1,COLUMNS($L$26:L59)-1),\"\")","v":""},{"$f":"IF(OFFSET(DE104_9!$M$26,ROWS($M$26:M59)-1,COLUMNS($M$26:M59)-1)<>\"\",OFFSET(DE104_9!$M$26,ROWS($M$26:M59)-1,COLUMNS($M$26:M59)-1),\"\")","v":""},{"$f":"IF(OFFSET(DE104_9!$N$26,ROWS($N$26:N59)-1,COLUMNS($N$26:N59)-1)<>\"\",OFFSET(DE104_9!$N$26,ROWS($N$26:N59)-1,COLUMNS($N$26:N59)-1),\"\")","v":""},{"$f":"IF(OFFSET(DE104_9!$O$26,ROWS($O$26:O59)-1,COLUMNS($O$26:O59)-1)<>\"\",OFFSET(DE104_9!$O$26,ROWS($O$26:O59)-1,COLUMNS($O$26:O59)-1),\"\")","v":""},{"$f":"IF(OFFSET(DE104_9!$P$26,ROWS($P$26:P59)-1,COLUMNS($P$26:P59)-1)<>\"\",OFFSET(DE104_9!$P$26,ROWS($P$26:P59)-1,COLUMNS($P$26:P59)-1),\"\")","v":146520},{"$f":"IF(OFFSET(DE104_9!$Q$26,ROWS($Q$26:Q59)-1,COLUMNS($Q$26:Q59)-1)<>\"\",OFFSET(DE104_9!$Q$26,ROWS($Q$26:Q59)-1,COLUMNS($Q$26:Q59)-1),\"\")","v":"DR-306"},{"$f":"IF(OFFSET(DE104_9!$R$26,ROWS($R$26:R59)-1,COLUMNS($R$26:R59)-1)<>\"\",OFFSET(DE104_9!$R$26,ROWS($R$26:R59)-1,COLUMNS($R$26:R59)-1),\"\")","v":" "},{"$f":"IF(OFFSET(DE104_9!$S$26,ROWS($S$26:S59)-1,COLUMNS($S$26:S59)-1)<>\"\",OFFSET(DE104_9!$S$26,ROWS($S$26:S59)-1,COLUMNS($S$26:S59)-1),\"\")","v":0.4},{"$f":"IF(OFFSET(DE104_9!$T$26,ROWS($T$26:T59)-1,COLUMNS($T$26:T59)-1)<>\"\",OFFSET(DE104_9!$T$26,ROWS($T$26:T59)-1,COLUMNS($T$26:T59)-1),\"\")","v":""}]
[{"$f":"IF(OFFSET(DE104_9!$C$26,ROWS($C$26:C60)-1,COLUMNS($C$26:C60)-1)<>\"\",OFFSET(DE104_9!$C$26,ROWS($C$26:C60)-1,COLUMNS($C$26:C60)-1),\"\")","v":18},{"$f":"IF(OFFSET(DE104_9!$D$26,ROWS($D$26:D60)-1,COLUMNS($D$26:D60)-1)<>\"\",OFFSET(DE104_9!$D$26,ROWS($D$26:D60)-1,COLUMNS($D$26:D60)-1),\"\")","v":"EBL"},{"$f":"IF(OFFSET(DE104_9!$E$26,ROWS($E$26:E60)-1,COLUMNS($E$26:E60)-1)<>\"\",OFFSET(DE104_9!$E$26,ROWS($E$26:E60)-1,COLUMNS($E$26:E60)-1),\"\")","v":146530},{"$f":"IF(OFFSET(DE104_9!$F$26,ROWS($F$26:F60)-1,COLUMNS($F$26:F60)-1)<>\"\",OFFSET(DE104_9!$F$26,ROWS($F$26:F60)-1,COLUMNS($F$26:F60)-1),\"\")","v":146995},{"$f":"IF(OFFSET(DE104_9!$G$26,ROWS($G$26:G60)-1,COLUMNS($G$26:G60)-1)<>\"\",OFFSET(DE104_9!$G$26,ROWS($G$26:G60)-1,COLUMNS($G$26:G60)-1),\"\")","v":"RT"},{"$f":"IF(OFFSET(DE104_9!$H$26,ROWS($H$26:H60)-1,COLUMNS($H$26:H60)-1)<>\"\",OFFSET(DE104_9!$H$26,ROWS($H$26:H60)-1,COLUMNS($H$26:H60)-1),\"\")","v":42},{"$f":"IF(OFFSET(DE104_9!$I$26,ROWS($I$26:I60)-1,COLUMNS($I$26:I60)-1)<>\"\",OFFSET(DE104_9!$I$26,ROWS($I$26:I60)-1,COLUMNS($I$26:I60)-1),\"\")","v":4},{"$f":"IF(OFFSET(DE104_9!$J$26,ROWS($J$26:J60)-1,COLUMNS($J$26:J60)-1)<>\"\",OFFSET(DE104_9!$J$26,ROWS($J$26:J60)-1,COLUMNS($J$26:J60)-1),\"\")","v":505},{"$f":"IF(OFFSET(DE104_9!$K$26,ROWS($K$26:K60)-1,COLUMNS($K$26:K60)-1)<>\"\",OFFSET(DE104_9!$K$26,ROWS($K$26:K60)-1,COLUMNS($K$26:K60)-1),\"\")","v":""},{"$f":"IF(OFFSET(DE104_9!$L$26,ROWS($L$26:L60)-1,COLUMNS($L$26:L60)-1)<>\"\",OFFSET(DE104_9!$L$26,ROWS($L$26:L60)-1,COLUMNS($L$26:L60)-1),\"\")","v":""},{"$f":"IF(OFFSET(DE104_9!$M$26,ROWS($M$26:M60)-1,COLUMNS($M$26:M60)-1)<>\"\",OFFSET(DE104_9!$M$26,ROWS($M$26:M60)-1,COLUMNS($M$26:M60)-1),\"\")","v":""},{"$f":"IF(OFFSET(DE104_9!$N$26,ROWS($N$26:N60)-1,COLUMNS($N$26:N60)-1)<>\"\",OFFSET(DE104_9!$N$26,ROWS($N$26:N60)-1,COLUMNS($N$26:N60)-1),\"\")","v":""},{"$f":"IF(OFFSET(DE104_9!$O$26,ROWS($O$26:O60)-1,COLUMNS($O$26:O60)-1)<>\"\",OFFSET(DE104_9!$O$26,ROWS($O$26:O60)-1,COLUMNS($O$26:O60)-1),\"\")","v":""},{"$f":"IF(OFFSET(DE104_9!$P$26,ROWS($P$26:P60)-1,COLUMNS($P$26:P60)-1)<>\"\",OFFSET(DE104_9!$P$26,ROWS($P$26:P60)-1,COLUMNS($P$26:P60)-1),\"\")","v":146530},{"$f":"IF(OFFSET(DE104_9!$Q$26,ROWS($Q$26:Q60)-1,COLUMNS($Q$26:Q60)-1)<>\"\",OFFSET(DE104_9!$Q$26,ROWS($Q$26:Q60)-1,COLUMNS($Q$26:Q60)-1),\"\")","v":"DR-306"},{"$f":"IF(OFFSET(DE104_9!$R$26,ROWS($R$26:R60)-1,COLUMNS($R$26:R60)-1)<>\"\",OFFSET(DE104_9!$R$26,ROWS($R$26:R60)-1,COLUMNS($R$26:R60)-1),\"\")","v":46.8},{"$f":"IF(OFFSET(DE104_9!$S$26,ROWS($S$26:S60)-1,COLUMNS($S$26:S60)-1)<>\"\",OFFSET(DE104_9!$S$26,ROWS($S$26:S60)-1,COLUMNS($S$26:S60)-1),\"\")","v":0.4},{"$f":"IF(OFFSET(DE104_9!$T$26,ROWS($T$26:T60)-1,COLUMNS($T$26:T60)-1)<>\"\",OFFSET(DE104_9!$T$26,ROWS($T$26:T60)-1,COLUMNS($T$26:T60)-1),\"\")","v":""}]
[{"$f":"IF(OFFSET(DE104_9!$C$26,ROWS($C$26:C61)-1,COLUMNS($C$26:C61)-1)<>\"\",OFFSET(DE104_9!$C$26,ROWS($C$26:C61)-1,COLUMNS($C$26:C61)-1),\"\")","v":""},{"$f":"IF(OFFSET(DE104_9!$D$26,ROWS($D$26:D61)-1,COLUMNS($D$26:D61)-1)<>\"\",OFFSET(DE104_9!$D$26,ROWS($D$26:D61)-1,COLUMNS($D$26:D61)-1),\"\")","v":""},{"$f":"IF(OFFSET(DE104_9!$E$26,ROWS($E$26:E61)-1,COLUMNS($E$26:E61)-1)<>\"\",OFFSET(DE104_9!$E$26,ROWS($E$26:E61)-1,COLUMNS($E$26:E61)-1),\"\")","v":""},{"$f":"IF(OFFSET(DE104_9!$F$26,ROWS($F$26:F61)-1,COLUMNS($F$26:F61)-1)<>\"\",OFFSET(DE104_9!$F$26,ROWS($F$26:F61)-1,COLUMNS($F$26:F61)-1),\"\")","v":""},{"$f":"IF(OFFSET(DE104_9!$G$26,ROWS($G$26:G61)-1,COLUMNS($G$26:G61)-1)<>\"\",OFFSET(DE104_9!$G$26,ROWS($G$26:G61)-1,COLUMNS($G$26:G61)-1),\"\")","v":""},{"$f":"IF(OFFSET(DE104_9!$H$26,ROWS($H$26:H61)-1,COLUMNS($H$26:H61)-1)<>\"\",OFFSET(DE104_9!$H$26,ROWS($H$26:H61)-1,COLUMNS($H$26:H61)-1),\"\")","v":" "},{"$f":"IF(OFFSET(DE104_9!$I$26,ROWS($I$26:I61)-1,COLUMNS($I$26:I61)-1)<>\"\",OFFSET(DE104_9!$I$26,ROWS($I$26:I61)-1,COLUMNS($I$26:I61)-1),\"\")","v":""},{"$f":"IF(OFFSET(DE104_9!$J$26,ROWS($J$26:J61)-1,COLUMNS($J$26:J61)-1)<>\"\",OFFSET(DE104_9!$J$26,ROWS($J$26:J61)-1,COLUMNS($J$26:J61)-1),\"\")","v":""},{"$f":"IF(OFFSET(DE104_9!$K$26,ROWS($K$26:K61)-1,COLUMNS($K$26:K61)-1)<>\"\",OFFSET(DE104_9!$K$26,ROWS($K$26:K61)-1,COLUMNS($K$26:K61)-1),\"\")","v":""},{"$f":"IF(OFFSET(DE104_9!$L$26,ROWS($L$26:L61)-1,COLUMNS($L$26:L61)-1)<>\"\",OFFSET(DE104_9!$L$26,ROWS($L$26:L61)-1,COLUMNS($L$26:L61)-1),\"\")","v":""},{"$f":"IF(OFFSET(DE104_9!$M$26,ROWS($M$26:M61)-1,COLUMNS($M$26:M61)-1)<>\"\",OFFSET(DE104_9!$M$26,ROWS($M$26:M61)-1,COLUMNS($M$26:M61)-1),\"\")","v":""},{"$f":"IF(OFFSET(DE104_9!$N$26,ROWS($N$26:N61)-1,COLUMNS($N$26:N61)-1)<>\"\",OFFSET(DE104_9!$N$26,ROWS($N$26:N61)-1,COLUMNS($N$26:N61)-1),\"\")","v":""},{"$f":"IF(OFFSET(DE104_9!$O$26,ROWS($O$26:O61)-1,COLUMNS($O$26:O61)-1)<>\"\",OFFSET(DE104_9!$O$26,ROWS($O$26:O61)-1,COLUMNS($O$26:O61)-1),\"\")","v":""},{"$f":"IF(OFFSET(DE104_9!$P$26,ROWS($P$26:P61)-1,COLUMNS($P$26:P61)-1)<>\"\",OFFSET(DE104_9!$P$26,ROWS($P$26:P61)-1,COLUMNS($P$26:P61)-1),\"\")","v":146995},{"$f":"IF(OFFSET(DE104_9!$Q$26,ROWS($Q$26:Q61)-1,COLUMNS($Q$26:Q61)-1)<>\"\",OFFSET(DE104_9!$Q$26,ROWS($Q$26:Q61)-1,COLUMNS($Q$26:Q61)-1),\"\")","v":"DR-306"},{"$f":"IF(OFFSET(DE104_9!$R$26,ROWS($R$26:R61)-1,COLUMNS($R$26:R61)-1)<>\"\",OFFSET(DE104_9!$R$26,ROWS($R$26:R61)-1,COLUMNS($R$26:R61)-1),\"\")","v":" "},{"$f":"IF(OFFSET(DE104_9!$S$26,ROWS($S$26:S61)-1,COLUMNS($S$26:S61)-1)<>\"\",OFFSET(DE104_9!$S$26,ROWS($S$26:S61)-1,COLUMNS($S$26:S61)-1),\"\")","v":0.4},{"$f":"IF(OFFSET(DE104_9!$T$26,ROWS($T$26:T61)-1,COLUMNS($T$26:T61)-1)<>\"\",OFFSET(DE104_9!$T$26,ROWS($T$26:T61)-1,COLUMNS($T$26:T61)-1),\"\")","v":""}]
[{"$f":"IF(OFFSET(DE104_9!$C$26,ROWS($C$26:C62)-1,COLUMNS($C$26:C62)-1)<>\"\",OFFSET(DE104_9!$C$26,ROWS($C$26:C62)-1,COLUMNS($C$26:C62)-1),\"\")","v":19},{"$f":"IF(OFFSET(DE104_9!$D$26,ROWS($D$26:D62)-1,COLUMNS($D$26:D62)-1)<>\"\",OFFSET(DE104_9!$D$26,ROWS($D$26:D62)-1,COLUMNS($D$26:D62)-1),\"\")","v":"EBL"},{"$f":"IF(OFFSET(DE104_9!$E$26,ROWS($E$26:E62)-1,COLUMNS($E$26:E62)-1)<>\"\",OFFSET(DE104_9!$E$26,ROWS($E$26:E62)-1,COLUMNS($E$26:E62)-1),\"\")","v":147030},{"$f":"IF(OFFSET(DE104_9!$F$26,ROWS($F$26:F62)-1,COLUMNS($F$26:F62)-1)<>\"\",OFFSET(DE104_9!$F$26,ROWS($F$26:F62)-1,COLUMNS($F$26:F62)-1),\"\")","v":147500},{"$f":"IF(OFFSET(DE104_9!$G$26,ROWS($G$26:G62)-1,COLUMNS($G$26:G62)-1)<>\"\",OFFSET(DE104_9!$G$26,ROWS($G$26:G62)-1,COLUMNS($G$26:G62)-1),\"\")","v":"RT"},{"$f":"IF(OFFSET(DE104_9!$H$26,ROWS($H$26:H62)-1,COLUMNS($H$26:H62)-1)<>\"\",OFFSET(DE104_9!$H$26,ROWS($H$26:H62)-1,COLUMNS($H$26:H62)-1),\"\")","v":42},{"$f":"IF(OFFSET(DE104_9!$I$26,ROWS($I$26:I62)-1,COLUMNS($I$26:I62)-1)<>\"\",OFFSET(DE104_9!$I$26,ROWS($I$26:I62)-1,COLUMNS($I$26:I62)-1),\"\")","v":4},{"$f":"IF(OFFSET(DE104_9!$J$26,ROWS($J$26:J62)-1,COLUMNS($J$26:J62)-1)<>\"\",OFFSET(DE104_9!$J$26,ROWS($J$26:J62)-1,COLUMNS($J$26:J62)-1),\"\")","v":510},{"$f":"IF(OFFSET(DE104_9!$K$26,ROWS($K$26:K62)-1,COLUMNS($K$26:K62)-1)<>\"\",OFFSET(DE104_9!$K$26,ROWS($K$26:K62)-1,COLUMNS($K$26:K62)-1),\"\")","v":""},{"$f":"IF(OFFSET(DE104_9!$L$26,ROWS($L$26:L62)-1,COLUMNS($L$26:L62)-1)<>\"\",OFFSET(DE104_9!$L$26,ROWS($L$26:L62)-1,COLUMNS($L$26:L62)-1),\"\")","v":""},{"$f":"IF(OFFSET(DE104_9!$M$26,ROWS($M$26:M62)-1,COLUMNS($M$26:M62)-1)<>\"\",OFFSET(DE104_9!$M$26,ROWS($M$26:M62)-1,COLUMNS($M$26:M62)-1),\"\")","v":""},{"$f":"IF(OFFSET(DE104_9!$N$26,ROWS($N$26:N62)-1,COLUMNS($N$26:N62)-1)<>\"\",OFFSET(DE104_9!$N$26,ROWS($N$26:N62)-1,COLUMNS($N$26:N62)-1),\"\")","v":""},{"$f":"IF(OFFSET(DE104_9!$O$26,ROWS($O$26:O62)-1,COLUMNS($O$26:O62)-1)<>\"\",OFFSET(DE104_9!$O$26,ROWS($O$26:O62)-1,COLUMNS($O$26:O62)-1),\"\")","v":""},{"$f":"IF(OFFSET(DE104_9!$P$26,ROWS($P$26:P62)-1,COLUMNS($P$26:P62)-1)<>\"\",OFFSET(DE104_9!$P$26,ROWS($P$26:P62)-1,COLUMNS($P$26:P62)-1),\"\")","v":147030},{"$f":"IF(OFFSET(DE104_9!$Q$26,ROWS($Q$26:Q62)-1,COLUMNS($Q$26:Q62)-1)<>\"\",OFFSET(DE104_9!$Q$26,ROWS($Q$26:Q62)-1,COLUMNS($Q$26:Q62)-1),\"\")","v":"DR-306"},{"$f":"IF(OFFSET(DE104_9!$R$26,ROWS($R$26:R62)-1,COLUMNS($R$26:R62)-1)<>\"\",OFFSET(DE104_9!$R$26,ROWS($R$26:R62)-1,COLUMNS($R$26:R62)-1),\"\")","v":47.2},{"$f":"IF(OFFSET(DE104_9!$S$26,ROWS($S$26:S62)-1,COLUMNS($S$26:S62)-1)<>\"\",OFFSET(DE104_9!$S$26,ROWS($S$26:S62)-1,COLUMNS($S$26:S62)-1),\"\")","v":0.4},{"$f":"IF(OFFSET(DE104_9!$T$26,ROWS($T$26:T62)-1,COLUMNS($T$26:T62)-1)<>\"\",OFFSET(DE104_9!$T$26,ROWS($T$26:T62)-1,COLUMNS($T$26:T62)-1),\"\")","v":"US 30 EB AND LOOP A TAPER"}]
[{"$f":"IF(OFFSET(DE104_9!$C$26,ROWS($C$26:C63)-1,COLUMNS($C$26:C63)-1)<>\"\",OFFSET(DE104_9!$C$26,ROWS($C$26:C63)-1,COLUMNS($C$26:C63)-1),\"\")","v":""},{"$f":"IF(OFFSET(DE104_9!$D$26,ROWS($D$26:D63)-1,COLUMNS($D$26:D63)-1)<>\"\",OFFSET(DE104_9!$D$26,ROWS($D$26:D63)-1,COLUMNS($D$26:D63)-1),\"\")","v":""},{"$f":"IF(OFFSET(DE104_9!$E$26,ROWS($E$26:E63)-1,COLUMNS($E$26:E63)-1)<>\"\",OFFSET(DE104_9!$E$26,ROWS($E$26:E63)-1,COLUMNS($E$26:E63)-1),\"\")","v":""},{"$f":"IF(OFFSET(DE104_9!$F$26,ROWS($F$26:F63)-1,COLUMNS($F$26:F63)-1)<>\"\",OFFSET(DE104_9!$F$26,ROWS($F$26:F63)-1,COLUMNS($F$26:F63)-1),\"\")","v":""},{"$f":"IF(OFFSET(DE104_9!$G$26,ROWS($G$26:G63)-1,COLUMNS($G$26:G63)-1)<>\"\",OFFSET(DE104_9!$G$26,ROWS($G$26:G63)-1,COLUMNS($G$26:G63)-1),\"\")","v":""},{"$f":"IF(OFFSET(DE104_9!$H$26,ROWS($H$26:H63)-1,COLUMNS($H$26:H63)-1)<>\"\",OFFSET(DE104_9!$H$26,ROWS($H$26:H63)-1,COLUMNS($H$26:H63)-1),\"\")","v":" "},{"$f":"IF(OFFSET(DE104_9!$I$26,ROWS($I$26:I63)-1,COLUMNS($I$26:I63)-1)<>\"\",OFFSET(DE104_9!$I$26,ROWS($I$26:I63)-1,COLUMNS($I$26:I63)-1),\"\")","v":""},{"$f":"IF(OFFSET(DE104_9!$J$26,ROWS($J$26:J63)-1,COLUMNS($J$26:J63)-1)<>\"\",OFFSET(DE104_9!$J$26,ROWS($J$26:J63)-1,COLUMNS($J$26:J63)-1),\"\")","v":""},{"$f":"IF(OFFSET(DE104_9!$K$26,ROWS($K$26:K63)-1,COLUMNS($K$26:K63)-1)<>\"\",OFFSET(DE104_9!$K$26,ROWS($K$26:K63)-1,COLUMNS($K$26:K63)-1),\"\")","v":""},{"$f":"IF(OFFSET(DE104_9!$L$26,ROWS($L$26:L63)-1,COLUMNS($L$26:L63)-1)<>\"\",OFFSET(DE104_9!$L$26,ROWS($L$26:L63)-1,COLUMNS($L$26:L63)-1),\"\")","v":""},{"$f":"IF(OFFSET(DE104_9!$M$26,ROWS($M$26:M63)-1,COLUMNS($M$26:M63)-1)<>\"\",OFFSET(DE104_9!$M$26,ROWS($M$26:M63)-1,COLUMNS($M$26:M63)-1),\"\")","v":""},{"$f":"IF(OFFSET(DE104_9!$N$26,ROWS($N$26:N63)-1,COLUMNS($N$26:N63)-1)<>\"\",OFFSET(DE104_9!$N$26,ROWS($N$26:N63)-1,COLUMNS($N$26:N63)-1),\"\")","v":""},{"$f":"IF(OFFSET(DE104_9!$O$26,ROWS($O$26:O63)-1,COLUMNS($O$26:O63)-1)<>\"\",OFFSET(DE104_9!$O$26,ROWS($O$26:O63)-1,COLUMNS($O$26:O63)-1),\"\")","v":""},{"$f":"IF(OFFSET(DE104_9!$P$26,ROWS($P$26:P63)-1,COLUMNS($P$26:P63)-1)<>\"\",OFFSET(DE104_9!$P$26,ROWS($P$26:P63)-1,COLUMNS($P$26:P63)-1),\"\")","v":147500},{"$f":"IF(OFFSET(DE104_9!$Q$26,ROWS($Q$26:Q63)-1,COLUMNS($Q$26:Q63)-1)<>\"\",OFFSET(DE104_9!$Q$26,ROWS($Q$26:Q63)-1,COLUMNS($Q$26:Q63)-1),\"\")","v":"DR-306"},{"$f":"IF(OFFSET(DE104_9!$R$26,ROWS($R$26:R63)-1,COLUMNS($R$26:R63)-1)<>\"\",OFFSET(DE104_9!$R$26,ROWS($R$26:R63)-1,COLUMNS($R$26:R63)-1),\"\")","v":" "},{"$f":"IF(OFFSET(DE104_9!$S$26,ROWS($S$26:S63)-1,COLUMNS($S$26:S63)-1)<>\"\",OFFSET(DE104_9!$S$26,ROWS($S$26:S63)-1,COLUMNS($S$26:S63)-1),\"\")","v":0.4},{"$f":"IF(OFFSET(DE104_9!$T$26,ROWS($T$26:T63)-1,COLUMNS($T$26:T63)-1)<>\"\",OFFSET(DE104_9!$T$26,ROWS($T$26:T63)-1,COLUMNS($T$26:T63)-1),\"\")","v":""}]
[{"$f":"IF(OFFSET(DE104_9!$C$26,ROWS($C$26:C64)-1,COLUMNS($C$26:C64)-1)<>\"\",OFFSET(DE104_9!$C$26,ROWS($C$26:C64)-1,COLUMNS($C$26:C64)-1),\"\")","v":20},{"$f":"IF(OFFSET(DE104_9!$D$26,ROWS($D$26:D64)-1,COLUMNS($D$26:D64)-1)<>\"\",OFFSET(DE104_9!$D$26,ROWS($D$26:D64)-1,COLUMNS($D$26:D64)-1),\"\")","v":"EBL"},{"$f":"IF(OFFSET(DE104_9!$E$26,ROWS($E$26:E64)-1,COLUMNS($E$26:E64)-1)<>\"\",OFFSET(DE104_9!$E$26,ROWS($E$26:E64)-1,COLUMNS($E$26:E64)-1),\"\")","v":147500},{"$f":"IF(OFFSET(DE104_9!$F$26,ROWS($F$26:F64)-1,COLUMNS($F$26:F64)-1)<>\"\",OFFSET(DE104_9!$F$26,ROWS($F$26:F64)-1,COLUMNS($F$26:F64)-1),\"\")","v":147695},{"$f":"IF(OFFSET(DE104_9!$G$26,ROWS($G$26:G64)-1,COLUMNS($G$26:G64)-1)<>\"\",OFFSET(DE104_9!$G$26,ROWS($G$26:G64)-1,COLUMNS($G$26:G64)-1),\"\")","v":"RT"},{"$f":"IF(OFFSET(DE104_9!$H$26,ROWS($H$26:H64)-1,COLUMNS($H$26:H64)-1)<>\"\",OFFSET(DE104_9!$H$26,ROWS($H$26:H64)-1,COLUMNS($H$26:H64)-1),\"\")","v":42},{"$f":"IF(OFFSET(DE104_9!$I$26,ROWS($I$26:I64)-1,COLUMNS($I$26:I64)-1)<>\"\",OFFSET(DE104_9!$I$26,ROWS($I$26:I64)-1,COLUMNS($I$26:I64)-1),\"\")","v":4},{"$f":"IF(OFFSET(DE104_9!$J$26,ROWS($J$26:J64)-1,COLUMNS($J$26:J64)-1)<>\"\",OFFSET(DE104_9!$J$26,ROWS($J$26:J64)-1,COLUMNS($J$26:J64)-1),\"\")","v":235},{"$f":"IF(OFFSET(DE104_9!$K$26,ROWS($K$26:K64)-1,COLUMNS($K$26:K64)-1)<>\"\",OFFSET(DE104_9!$K$26,ROWS($K$26:K64)-1,COLUMNS($K$26:K64)-1),\"\")","v":""},{"$f":"IF(OFFSET(DE104_9!$L$26,ROWS($L$26:L64)-1,COLUMNS($L$26:L64)-1)<>\"\",OFFSET(DE104_9!$L$26,ROWS($L$26:L64)-1,COLUMNS($L$26:L64)-1),\"\")","v":""},{"$f":"IF(OFFSET(DE104_9!$M$26,ROWS($M$26:M64)-1,COLUMNS($M$26:M64)-1)<>\"\",OFFSET(DE104_9!$M$26,ROWS($M$26:M64)-1,COLUMNS($M$26:M64)-1),\"\")","v":""},{"$f":"IF(OFFSET(DE104_9!$N$26,ROWS($N$26:N64)-1,COLUMNS($N$26:N64)-1)<>\"\",OFFSET(DE104_9!$N$26,ROWS($N$26:N64)-1,COLUMNS($N$26:N64)-1),\"\")","v":""},{"$f":"IF(OFFSET(DE104_9!$O$26,ROWS($O$26:O64)-1,COLUMNS($O$26:O64)-1)<>\"\",OFFSET(DE104_9!$O$26,ROWS($O$26:O64)-1,COLUMNS($O$26:O64)-1),\"\")","v":""},{"$f":"IF(OFFSET(DE104_9!$P$26,ROWS($P$26:P64)-1,COLUMNS($P$26:P64)-1)<>\"\",OFFSET(DE104_9!$P$26,ROWS($P$26:P64)-1,COLUMNS($P$26:P64)-1),\"\")","v":147500},{"$f":"IF(OFFSET(DE104_9!$Q$26,ROWS($Q$26:Q64)-1,COLUMNS($Q$26:Q64)-1)<>\"\",OFFSET(DE104_9!$Q$26,ROWS($Q$26:Q64)-1,COLUMNS($Q$26:Q64)-1),\"\")","v":"DR-306"},{"$f":"IF(OFFSET(DE104_9!$R$26,ROWS($R$26:R64)-1,COLUMNS($R$26:R64)-1)<>\"\",OFFSET(DE104_9!$R$26,ROWS($R$26:R64)-1,COLUMNS($R$26:R64)-1),\"\")","v":21.8},{"$f":"IF(OFFSET(DE104_9!$S$26,ROWS($S$26:S64)-1,COLUMNS($S$26:S64)-1)<>\"\",OFFSET(DE104_9!$S$26,ROWS($S$26:S64)-1,COLUMNS($S$26:S64)-1),\"\")","v":0.4},{"$f":"IF(OFFSET(DE104_9!$T$26,ROWS($T$26:T64)-1,COLUMNS($T$26:T64)-1)<>\"\",OFFSET(DE104_9!$T$26,ROWS($T$26:T64)-1,COLUMNS($T$26:T64)-1),\"\")","v":"US 30 EB AND LOOP A TAPER"}]
[{"$f":"IF(OFFSET(DE104_9!$C$26,ROWS($C$26:C65)-1,COLUMNS($C$26:C65)-1)<>\"\",OFFSET(DE104_9!$C$26,ROWS($C$26:C65)-1,COLUMNS($C$26:C65)-1),\"\")","v":""},{"$f":"IF(OFFSET(DE104_9!$D$26,ROWS($D$26:D65)-1,COLUMNS($D$26:D65)-1)<>\"\",OFFSET(DE104_9!$D$26,ROWS($D$26:D65)-1,COLUMNS($D$26:D65)-1),\"\")","v":""},{"$f":"IF(OFFSET(DE104_9!$E$26,ROWS($E$26:E65)-1,COLUMNS($E$26:E65)-1)<>\"\",OFFSET(DE104_9!$E$26,ROWS($E$26:E65)-1,COLUMNS($E$26:E65)-1),\"\")","v":""},{"$f":"IF(OFFSET(DE104_9!$F$26,ROWS($F$26:F65)-1,COLUMNS($F$26:F65)-1)<>\"\",OFFSET(DE104_9!$F$26,ROWS($F$26:F65)-1,COLUMNS($F$26:F65)-1),\"\")","v":""},{"$f":"IF(OFFSET(DE104_9!$G$26,ROWS($G$26:G65)-1,COLUMNS($G$26:G65)-1)<>\"\",OFFSET(DE104_9!$G$26,ROWS($G$26:G65)-1,COLUMNS($G$26:G65)-1),\"\")","v":""},{"$f":"IF(OFFSET(DE104_9!$H$26,ROWS($H$26:H65)-1,COLUMNS($H$26:H65)-1)<>\"\",OFFSET(DE104_9!$H$26,ROWS($H$26:H65)-1,COLUMNS($H$26:H65)-1),\"\")","v":" "},{"$f":"IF(OFFSET(DE104_9!$I$26,ROWS($I$26:I65)-1,COLUMNS($I$26:I65)-1)<>\"\",OFFSET(DE104_9!$I$26,ROWS($I$26:I65)-1,COLUMNS($I$26:I65)-1),\"\")","v":""},{"$f":"IF(OFFSET(DE104_9!$J$26,ROWS($J$26:J65)-1,COLUMNS($J$26:J65)-1)<>\"\",OFFSET(DE104_9!$J$26,ROWS($J$26:J65)-1,COLUMNS($J$26:J65)-1),\"\")","v":""},{"$f":"IF(OFFSET(DE104_9!$K$26,ROWS($K$26:K65)-1,COLUMNS($K$26:K65)-1)<>\"\",OFFSET(DE104_9!$K$26,ROWS($K$26:K65)-1,COLUMNS($K$26:K65)-1),\"\")","v":""},{"$f":"IF(OFFSET(DE104_9!$L$26,ROWS($L$26:L65)-1,COLUMNS($L$26:L65)-1)<>\"\",OFFSET(DE104_9!$L$26,ROWS($L$26:L65)-1,COLUMNS($L$26:L65)-1),\"\")","v":""},{"$f":"IF(OFFSET(DE104_9!$M$26,ROWS($M$26:M65)-1,COLUMNS($M$26:M65)-1)<>\"\",OFFSET(DE104_9!$M$26,ROWS($M$26:M65)-1,COLUMNS($M$26:M65)-1),\"\")","v":""},{"$f":"IF(OFFSET(DE104_9!$N$26,ROWS($N$26:N65)-1,COLUMNS($N$26:N65)-1)<>\"\",OFFSET(DE104_9!$N$26,ROWS($N$26:N65)-1,COLUMNS($N$26:N65)-1),\"\")","v":""},{"$f":"IF(OFFSET(DE104_9!$O$26,ROWS($O$26:O65)-1,COLUMNS($O$26:O65)-1)<>\"\",OFFSET(DE104_9!$O$26,ROWS($O$26:O65)-1,COLUMNS($O$26:O65)-1),\"\")","v":""},{"$f":"IF(OFFSET(DE104_9!$P$26,ROWS($P$26:P65)-1,COLUMNS($P$26:P65)-1)<>\"\",OFFSET(DE104_9!$P$26,ROWS($P$26:P65)-1,COLUMNS($P$26:P65)-1),\"\")","v":147695},{"$f":"IF(OFFSET(DE104_9!$Q$26,ROWS($Q$26:Q65)-1,COLUMNS($Q$26:Q65)-1)<>\"\",OFFSET(DE104_9!$Q$26,ROWS($Q$26:Q65)-1,COLUMNS($Q$26:Q65)-1),\"\")","v":"DR-306"},{"$f":"IF(OFFSET(DE104_9!$R$26,ROWS($R$26:R65)-1,COLUMNS($R$26:R65)-1)<>\"\",OFFSET(DE104_9!$R$26,ROWS($R$26:R65)-1,COLUMNS($R$26:R65)-1),\"\")","v":" "},{"$f":"IF(OFFSET(DE104_9!$S$26,ROWS($S$26:S65)-1,COLUMNS($S$26:S65)-1)<>\"\",OFFSET(DE104_9!$S$26,ROWS($S$26:S65)-1,COLUMNS($S$26:S65)-1),\"\")","v":0.4},{"$f":"IF(OFFSET(DE104_9!$T$26,ROWS($T$26:T65)-1,COLUMNS($T$26:T65)-1)<>\"\",OFFSET(DE104_9!$T$26,ROWS($T$26:T65)-1,COLUMNS($T$26:T65)-1),\"\")","v":""}]
[{"$f":"IF(OFFSET(DE104_9!$C$26,ROWS($C$26:C66)-1,COLUMNS($C$26:C66)-1)<>\"\",OFFSET(DE104_9!$C$26,ROWS($C$26:C66)-1,COLUMNS($C$26:C66)-1),\"\")","v":21},{"$f":"IF(OFFSET(DE104_9!$D$26,ROWS($D$26:D66)-1,COLUMNS($D$26:D66)-1)<>\"\",OFFSET(DE104_9!$D$26,ROWS($D$26:D66)-1,COLUMNS($D$26:D66)-1),\"\")","v":"EBL"},{"$f":"IF(OFFSET(DE104_9!$E$26,ROWS($E$26:E66)-1,COLUMNS($E$26:E66)-1)<>\"\",OFFSET(DE104_9!$E$26,ROWS($E$26:E66)-1,COLUMNS($E$26:E66)-1),\"\")","v":147705},{"$f":"IF(OFFSET(DE104_9!$F$26,ROWS($F$26:F66)-1,COLUMNS($F$26:F66)-1)<>\"\",OFFSET(DE104_9!$F$26,ROWS($F$26:F66)-1,COLUMNS($F$26:F66)-1),\"\")","v":147910},{"$f":"IF(OFFSET(DE104_9!$G$26,ROWS($G$26:G66)-1,COLUMNS($G$26:G66)-1)<>\"\",OFFSET(DE104_9!$G$26,ROWS($G$26:G66)-1,COLUMNS($G$26:G66)-1),\"\")","v":"RT"},{"$f":"IF(OFFSET(DE104_9!$H$26,ROWS($H$26:H66)-1,COLUMNS($H$26:H66)-1)<>\"\",OFFSET(DE104_9!$H$26,ROWS($H$26:H66)-1,COLUMNS($H$26:H66)-1),\"\")","v":42},{"$f":"IF(OFFSET(DE104_9!$I$26,ROWS($I$26:I66)-1,COLUMNS($I$26:I66)-1)<>\"\",OFFSET(DE104_9!$I$26,ROWS($I$26:I66)-1,COLUMNS($I$26:I66)-1),\"\")","v":4},{"$f":"IF(OFFSET(DE104_9!$J$26,ROWS($J$26:J66)-1,COLUMNS($J$26:J66)-1)<>\"\",OFFSET(DE104_9!$J$26,ROWS($J$26:J66)-1,COLUMNS($J$26:J66)-1),\"\")","v":245},{"$f":"IF(OFFSET(DE104_9!$K$26,ROWS($K$26:K66)-1,COLUMNS($K$26:K66)-1)<>\"\",OFFSET(DE104_9!$K$26,ROWS($K$26:K66)-1,COLUMNS($K$26:K66)-1),\"\")","v":""},{"$f":"IF(OFFSET(DE104_9!$L$26,ROWS($L$26:L66)-1,COLUMNS($L$26:L66)-1)<>\"\",OFFSET(DE104_9!$L$26,ROWS($L$26:L66)-1,COLUMNS($L$26:L66)-1),\"\")","v":""},{"$f":"IF(OFFSET(DE104_9!$M$26,ROWS($M$26:M66)-1,COLUMNS($M$26:M66)-1)<>\"\",OFFSET(DE104_9!$M$26,ROWS($M$26:M66)-1,COLUMNS($M$26:M66)-1),\"\")","v":""},{"$f":"IF(OFFSET(DE104_9!$N$26,ROWS($N$26:N66)-1,COLUMNS($N$26:N66)-1)<>\"\",OFFSET(DE104_9!$N$26,ROWS($N$26:N66)-1,COLUMNS($N$26:N66)-1),\"\")","v":""},{"$f":"IF(OFFSET(DE104_9!$O$26,ROWS($O$26:O66)-1,COLUMNS($O$26:O66)-1)<>\"\",OFFSET(DE104_9!$O$26,ROWS($O$26:O66)-1,COLUMNS($O$26:O66)-1),\"\")","v":""},{"$f":"IF(OFFSET(DE104_9!$P$26,ROWS($P$26:P66)-1,COLUMNS($P$26:P66)-1)<>\"\",OFFSET(DE104_9!$P$26,ROWS($P$26:P66)-1,COLUMNS($P$26:P66)-1),\"\")","v":147705},{"$f":"IF(OFFSET(DE104_9!$Q$26,ROWS($Q$26:Q66)-1,COLUMNS($Q$26:Q66)-1)<>\"\",OFFSET(DE104_9!$Q$26,ROWS($Q$26:Q66)-1,COLUMNS($Q$26:Q66)-1),\"\")","v":"DR-306"},{"$f":"IF(OFFSET(DE104_9!$R$26,ROWS($R$26:R66)-1,COLUMNS($R$26:R66)-1)<>\"\",OFFSET(DE104_9!$R$26,ROWS($R$26:R66)-1,COLUMNS($R$26:R66)-1),\"\")","v":22.7},{"$f":"IF(OFFSET(DE104_9!$S$26,ROWS($S$26:S66)-1,COLUMNS($S$26:S66)-1)<>\"\",OFFSET(DE104_9!$S$26,ROWS($S$26:S66)-1,COLUMNS($S$26:S66)-1),\"\")","v":0.4},{"$f":"IF(OFFSET(DE104_9!$T$26,ROWS($T$26:T66)-1,COLUMNS($T$26:T66)-1)<>\"\",OFFSET(DE104_9!$T$26,ROWS($T$26:T66)-1,COLUMNS($T$26:T66)-1),\"\")","v":""}]
[{"$f":"IF(OFFSET(DE104_9!$C$26,ROWS($C$26:C67)-1,COLUMNS($C$26:C67)-1)<>\"\",OFFSET(DE104_9!$C$26,ROWS($C$26:C67)-1,COLUMNS($C$26:C67)-1),\"\")","v":""},{"$f":"IF(OFFSET(DE104_9!$D$26,ROWS($D$26:D67)-1,COLUMNS($D$26:D67)-1)<>\"\",OFFSET(DE104_9!$D$26,ROWS($D$26:D67)-1,COLUMNS($D$26:D67)-1),\"\")","v":""},{"$f":"IF(OFFSET(DE104_9!$E$26,ROWS($E$26:E67)-1,COLUMNS($E$26:E67)-1)<>\"\",OFFSET(DE104_9!$E$26,ROWS($E$26:E67)-1,COLUMNS($E$26:E67)-1),\"\")","v":""},{"$f":"IF(OFFSET(DE104_9!$F$26,ROWS($F$26:F67)-1,COLUMNS($F$26:F67)-1)<>\"\",OFFSET(DE104_9!$F$26,ROWS($F$26:F67)-1,COLUMNS($F$26:F67)-1),\"\")","v":""},{"$f":"IF(OFFSET(DE104_9!$G$26,ROWS($G$26:G67)-1,COLUMNS($G$26:G67)-1)<>\"\",OFFSET(DE104_9!$G$26,ROWS($G$26:G67)-1,COLUMNS($G$26:G67)-1),\"\")","v":""},{"$f":"IF(OFFSET(DE104_9!$H$26,ROWS($H$26:H67)-1,COLUMNS($H$26:H67)-1)<>\"\",OFFSET(DE104_9!$H$26,ROWS($H$26:H67)-1,COLUMNS($H$26:H67)-1),\"\")","v":""},{"$f":"IF(OFFSET(DE104_9!$I$26,ROWS($I$26:I67)-1,COLUMNS($I$26:I67)-1)<>\"\",OFFSET(DE104_9!$I$26,ROWS($I$26:I67)-1,COLUMNS($I$26:I67)-1),\"\")","v":""},{"$f":"IF(OFFSET(DE104_9!$J$26,ROWS($J$26:J67)-1,COLUMNS($J$26:J67)-1)<>\"\",OFFSET(DE104_9!$J$26,ROWS($J$26:J67)-1,COLUMNS($J$26:J67)-1),\"\")","v":""},{"$f":"IF(OFFSET(DE104_9!$K$26,ROWS($K$26:K67)-1,COLUMNS($K$26:K67)-1)<>\"\",OFFSET(DE104_9!$K$26,ROWS($K$26:K67)-1,COLUMNS($K$26:K67)-1),\"\")","v":""},{"$f":"IF(OFFSET(DE104_9!$L$26,ROWS($L$26:L67)-1,COLUMNS($L$26:L67)-1)<>\"\",OFFSET(DE104_9!$L$26,ROWS($L$26:L67)-1,COLUMNS($L$26:L67)-1),\"\")","v":""},{"$f":"IF(OFFSET(DE104_9!$M$26,ROWS($M$26:M67)-1,COLUMNS($M$26:M67)-1)<>\"\",OFFSET(DE104_9!$M$26,ROWS($M$26:M67)-1,COLUMNS($M$26:M67)-1),\"\")","v":""},{"$f":"IF(OFFSET(DE104_9!$N$26,ROWS($N$26:N67)-1,COLUMNS($N$26:N67)-1)<>\"\",OFFSET(DE104_9!$N$26,ROWS($N$26:N67)-1,COLUMNS($N$26:N67)-1),\"\")","v":""},{"$f":"IF(OFFSET(DE104_9!$O$26,ROWS($O$26:O67)-1,COLUMNS($O$26:O67)-1)<>\"\",OFFSET(DE104_9!$O$26,ROWS($O$26:O67)-1,COLUMNS($O$26:O67)-1),\"\")","v":""},{"$f":"IF(OFFSET(DE104_9!$P$26,ROWS($P$26:P67)-1,COLUMNS($P$26:P67)-1)<>\"\",OFFSET(DE104_9!$P$26,ROWS($P$26:P67)-1,COLUMNS($P$26:P67)-1),\"\")","v":147910},{"$f":"IF(OFFSET(DE104_9!$Q$26,ROWS($Q$26:Q67)-1,COLUMNS($Q$26:Q67)-1)<>\"\",OFFSET(DE104_9!$Q$26,ROWS($Q$26:Q67)-1,COLUMNS($Q$26:Q67)-1),\"\")","v":"DR-306"},{"$f":"IF(OFFSET(DE104_9!$R$26,ROWS($R$26:R67)-1,COLUMNS($R$26:R67)-1)<>\"\",OFFSET(DE104_9!$R$26,ROWS($R$26:R67)-1,COLUMNS($R$26:R67)-1),\"\")","v":""},{"$f":"IF(OFFSET(DE104_9!$S$26,ROWS($S$26:S67)-1,COLUMNS($S$26:S67)-1)<>\"\",OFFSET(DE104_9!$S$26,ROWS($S$26:S67)-1,COLUMNS($S$26:S67)-1),\"\")","v":0.4},{"$f":"IF(OFFSET(DE104_9!$T$26,ROWS($T$26:T67)-1,COLUMNS($T$26:T67)-1)<>\"\",OFFSET(DE104_9!$T$26,ROWS($T$26:T67)-1,COLUMNS($T$26:T67)-1),\"\")","v":""}]
[{"$f":"IF(OFFSET(DE104_9!$C$26,ROWS($C$26:C68)-1,COLUMNS($C$26:C68)-1)<>\"\",OFFSET(DE104_9!$C$26,ROWS($C$26:C68)-1,COLUMNS($C$26:C68)-1),\"\")","v":22},{"$f":"IF(OFFSET(DE104_9!$D$26,ROWS($D$26:D68)-1,COLUMNS($D$26:D68)-1)<>\"\",OFFSET(DE104_9!$D$26,ROWS($D$26:D68)-1,COLUMNS($D$26:D68)-1),\"\")","v":"EBL"},{"$f":"IF(OFFSET(DE104_9!$E$26,ROWS($E$26:E68)-1,COLUMNS($E$26:E68)-1)<>\"\",OFFSET(DE104_9!$E$26,ROWS($E$26:E68)-1,COLUMNS($E$26:E68)-1),\"\")","v":147920},{"$f":"IF(OFFSET(DE104_9!$F$26,ROWS($F$26:F68)-1,COLUMNS($F$26:F68)-1)<>\"\",OFFSET(DE104_9!$F$26,ROWS($F$26:F68)-1,COLUMNS($F$26:F68)-1),\"\")","v":148280},{"$f":"IF(OFFSET(DE104_9!$G$26,ROWS($G$26:G68)-1,COLUMNS($G$26:G68)-1)<>\"\",OFFSET(DE104_9!$G$26,ROWS($G$26:G68)-1,COLUMNS($G$26:G68)-1),\"\")","v":"RT"},{"$f":"IF(OFFSET(DE104_9!$H$26,ROWS($H$26:H68)-1,COLUMNS($H$26:H68)-1)<>\"\",OFFSET(DE104_9!$H$26,ROWS($H$26:H68)-1,COLUMNS($H$26:H68)-1),\"\")","v":42},{"$f":"IF(OFFSET(DE104_9!$I$26,ROWS($I$26:I68)-1,COLUMNS($I$26:I68)-1)<>\"\",OFFSET(DE104_9!$I$26,ROWS($I$26:I68)-1,COLUMNS($I$26:I68)-1),\"\")","v":4},{"$f":"IF(OFFSET(DE104_9!$J$26,ROWS($J$26:J68)-1,COLUMNS($J$26:J68)-1)<>\"\",OFFSET(DE104_9!$J$26,ROWS($J$26:J68)-1,COLUMNS($J$26:J68)-1),\"\")","v":380},{"$f":"IF(OFFSET(DE104_9!$K$26,ROWS($K$26:K68)-1,COLUMNS($K$26:K68)-1)<>\"\",OFFSET(DE104_9!$K$26,ROWS($K$26:K68)-1,COLUMNS($K$26:K68)-1),\"\")","v":""},{"$f":"IF(OFFSET(DE104_9!$L$26,ROWS($L$26:L68)-1,COLUMNS($L$26:L68)-1)<>\"\",OFFSET(DE104_9!$L$26,ROWS($L$26:L68)-1,COLUMNS($L$26:L68)-1),\"\")","v":""},{"$f":"IF(OFFSET(DE104_9!$M$26,ROWS($M$26:M68)-1,COLUMNS($M$26:M68)-1)<>\"\",OFFSET(DE104_9!$M$26,ROWS($M$26:M68)-1,COLUMNS($M$26:M68)-1),\"\")","v":""},{"$f":"IF(OFFSET(DE104_9!$N$26,ROWS($N$26:N68)-1,COLUMNS($N$26:N68)-1)<>\"\",OFFSET(DE104_9!$N$26,ROWS($N$26:N68)-1,COLUMNS($N$26:N68)-1),\"\")","v":""},{"$f":"IF(OFFSET(DE104_9!$O$26,ROWS($O$26:O68)-1,COLUMNS($O$26:O68)-1)<>\"\",OFFSET(DE104_9!$O$26,ROWS($O$26:O68)-1,COLUMNS($O$26:O68)-1),\"\")","v":""},{"$f":"IF(OFFSET(DE104_9!$P$26,ROWS($P$26:P68)-1,COLUMNS($P$26:P68)-1)<>\"\",OFFSET(DE104_9!$P$26,ROWS($P$26:P68)-1,COLUMNS($P$26:P68)-1),\"\")","v":147920},{"$f":"IF(OFFSET(DE104_9!$Q$26,ROWS($Q$26:Q68)-1,COLUMNS($Q$26:Q68)-1)<>\"\",OFFSET(DE104_9!$Q$26,ROWS($Q$26:Q68)-1,COLUMNS($Q$26:Q68)-1),\"\")","v":"DR-306"},{"$f":"IF(OFFSET(DE104_9!$R$26,ROWS($R$26:R68)-1,COLUMNS($R$26:R68)-1)<>\"\",OFFSET(DE104_9!$R$26,ROWS($R$26:R68)-1,COLUMNS($R$26:R68)-1),\"\")","v":35.200000000000003},{"$f":"IF(OFFSET(DE104_9!$S$26,ROWS($S$26:S68)-1,COLUMNS($S$26:S68)-1)<>\"\",OFFSET(DE104_9!$S$26,ROWS($S$26:S68)-1,COLUMNS($S$26:S68)-1),\"\")","v":0.4},{"$f":"IF(OFFSET(DE104_9!$T$26,ROWS($T$26:T68)-1,COLUMNS($T$26:T68)-1)<>\"\",OFFSET(DE104_9!$T$26,ROWS($T$26:T68)-1,COLUMNS($T$26:T68)-1),\"\")","v":"INSTALL OUTLET PRIOR TO LOOP A"}]
[{"$f":"IF(OFFSET(DE104_9!$C$26,ROWS($C$26:C69)-1,COLUMNS($C$26:C69)-1)<>\"\",OFFSET(DE104_9!$C$26,ROWS($C$26:C69)-1,COLUMNS($C$26:C69)-1),\"\")","v":23},{"$f":"IF(OFFSET(DE104_9!$D$26,ROWS($D$26:D69)-1,COLUMNS($D$26:D69)-1)<>\"\",OFFSET(DE104_9!$D$26,ROWS($D$26:D69)-1,COLUMNS($D$26:D69)-1),\"\")","v":"EBL"},{"$f":"IF(OFFSET(DE104_9!$E$26,ROWS($E$26:E69)-1,COLUMNS($E$26:E69)-1)<>\"\",OFFSET(DE104_9!$E$26,ROWS($E$26:E69)-1,COLUMNS($E$26:E69)-1),\"\")","v":148280},{"$f":"IF(OFFSET(DE104_9!$F$26,ROWS($F$26:F69)-1,COLUMNS($F$26:F69)-1)<>\"\",OFFSET(DE104_9!$F$26,ROWS($F$26:F69)-1,COLUMNS($F$26:F69)-1),\"\")","v":148640},{"$f":"IF(OFFSET(DE104_9!$G$26,ROWS($G$26:G69)-1,COLUMNS($G$26:G69)-1)<>\"\",OFFSET(DE104_9!$G$26,ROWS($G$26:G69)-1,COLUMNS($G$26:G69)-1),\"\")","v":"RT"},{"$f":"IF(OFFSET(DE104_9!$H$26,ROWS($H$26:H69)-1,COLUMNS($H$26:H69)-1)<>\"\",OFFSET(DE104_9!$H$26,ROWS($H$26:H69)-1,COLUMNS($H$26:H69)-1),\"\")","v":42},{"$f":"IF(OFFSET(DE104_9!$I$26,ROWS($I$26:I69)-1,COLUMNS($I$26:I69)-1)<>\"\",OFFSET(DE104_9!$I$26,ROWS($I$26:I69)-1,COLUMNS($I$26:I69)-1),\"\")","v":4},{"$f":"IF(OFFSET(DE104_9!$J$26,ROWS($J$26:J69)-1,COLUMNS($J$26:J69)-1)<>\"\",OFFSET(DE104_9!$J$26,ROWS($J$26:J69)-1,COLUMNS($J$26:J69)-1),\"\")","v":400},{"$f":"IF(OFFSET(DE104_9!$K$26,ROWS($K$26:K69)-1,COLUMNS($K$26:K69)-1)<>\"\",OFFSET(DE104_9!$K$26,ROWS($K$26:K69)-1,COLUMNS($K$26:K69)-1),\"\")","v":""},{"$f":"IF(OFFSET(DE104_9!$L$26,ROWS($L$26:L69)-1,COLUMNS($L$26:L69)-1)<>\"\",OFFSET(DE104_9!$L$26,ROWS($L$26:L69)-1,COLUMNS($L$26:L69)-1),\"\")","v":""},{"$f":"IF(OFFSET(DE104_9!$M$26,ROWS($M$26:M69)-1,COLUMNS($M$26:M69)-1)<>\"\",OFFSET(DE104_9!$M$26,ROWS($M$26:M69)-1,COLUMNS($M$26:M69)-1),\"\")","v":""},{"$f":"IF(OFFSET(DE104_9!$N$26,ROWS($N$26:N69)-1,COLUMNS($N$26:N69)-1)<>\"\",OFFSET(DE104_9!$N$26,ROWS($N$26:N69)-1,COLUMNS($N$26:N69)-1),\"\")","v":""},{"$f":"IF(OFFSET(DE104_9!$O$26,ROWS($O$26:O69)-1,COLUMNS($O$26:O69)-1)<>\"\",OFFSET(DE104_9!$O$26,ROWS($O$26:O69)-1,COLUMNS($O$26:O69)-1),\"\")","v":""},{"$f":"IF(OFFSET(DE104_9!$P$26,ROWS($P$26:P69)-1,COLUMNS($P$26:P69)-1)<>\"\",OFFSET(DE104_9!$P$26,ROWS($P$26:P69)-1,COLUMNS($P$26:P69)-1),\"\")","v":148280},{"$f":"IF(OFFSET(DE104_9!$Q$26,ROWS($Q$26:Q69)-1,COLUMNS($Q$26:Q69)-1)<>\"\",OFFSET(DE104_9!$Q$26,ROWS($Q$26:Q69)-1,COLUMNS($Q$26:Q69)-1),\"\")","v":"DR-306"},{"$f":"IF(OFFSET(DE104_9!$R$26,ROWS($R$26:R69)-1,COLUMNS($R$26:R69)-1)<>\"\",OFFSET(DE104_9!$R$26,ROWS($R$26:R69)-1,COLUMNS($R$26:R69)-1),\"\")","v":37},{"$f":"IF(OFFSET(DE104_9!$S$26,ROWS($S$26:S69)-1,COLUMNS($S$26:S69)-1)<>\"\",OFFSET(DE104_9!$S$26,ROWS($S$26:S69)-1,COLUMNS($S$26:S69)-1),\"\")","v":0.4},{"$f":"IF(OFFSET(DE104_9!$T$26,ROWS($T$26:T69)-1,COLUMNS($T$26:T69)-1)<>\"\",OFFSET(DE104_9!$T$26,ROWS($T$26:T69)-1,COLUMNS($T$26:T69)-1),\"\")","v":""}]
[{"$f":"IF(OFFSET(DE104_9!$C$26,ROWS($C$26:C70)-1,COLUMNS($C$26:C70)-1)<>\"\",OFFSET(DE104_9!$C$26,ROWS($C$26:C70)-1,COLUMNS($C$26:C70)-1),\"\")","v":""},{"$f":"IF(OFFSET(DE104_9!$D$26,ROWS($D$26:D70)-1,COLUMNS($D$26:D70)-1)<>\"\",OFFSET(DE104_9!$D$26,ROWS($D$26:D70)-1,COLUMNS($D$26:D70)-1),\"\")","v":""},{"$f":"IF(OFFSET(DE104_9!$E$26,ROWS($E$26:E70)-1,COLUMNS($E$26:E70)-1)<>\"\",OFFSET(DE104_9!$E$26,ROWS($E$26:E70)-1,COLUMNS($E$26:E70)-1),\"\")","v":""},{"$f":"IF(OFFSET(DE104_9!$F$26,ROWS($F$26:F70)-1,COLUMNS($F$26:F70)-1)<>\"\",OFFSET(DE104_9!$F$26,ROWS($F$26:F70)-1,COLUMNS($F$26:F70)-1),\"\")","v":""},{"$f":"IF(OFFSET(DE104_9!$G$26,ROWS($G$26:G70)-1,COLUMNS($G$26:G70)-1)<>\"\",OFFSET(DE104_9!$G$26,ROWS($G$26:G70)-1,COLUMNS($G$26:G70)-1),\"\")","v":""},{"$f":"IF(OFFSET(DE104_9!$H$26,ROWS($H$26:H70)-1,COLUMNS($H$26:H70)-1)<>\"\",OFFSET(DE104_9!$H$26,ROWS($H$26:H70)-1,COLUMNS($H$26:H70)-1),\"\")","v":" "},{"$f":"IF(OFFSET(DE104_9!$I$26,ROWS($I$26:I70)-1,COLUMNS($I$26:I70)-1)<>\"\",OFFSET(DE104_9!$I$26,ROWS($I$26:I70)-1,COLUMNS($I$26:I70)-1),\"\")","v":""},{"$f":"IF(OFFSET(DE104_9!$J$26,ROWS($J$26:J70)-1,COLUMNS($J$26:J70)-1)<>\"\",OFFSET(DE104_9!$J$26,ROWS($J$26:J70)-1,COLUMNS($J$26:J70)-1),\"\")","v":""},{"$f":"IF(OFFSET(DE104_9!$K$26,ROWS($K$26:K70)-1,COLUMNS($K$26:K70)-1)<>\"\",OFFSET(DE104_9!$K$26,ROWS($K$26:K70)-1,COLUMNS($K$26:K70)-1),\"\")","v":""},{"$f":"IF(OFFSET(DE104_9!$L$26,ROWS($L$26:L70)-1,COLUMNS($L$26:L70)-1)<>\"\",OFFSET(DE104_9!$L$26,ROWS($L$26:L70)-1,COLUMNS($L$26:L70)-1),\"\")","v":""},{"$f":"IF(OFFSET(DE104_9!$M$26,ROWS($M$26:M70)-1,COLUMNS($M$26:M70)-1)<>\"\",OFFSET(DE104_9!$M$26,ROWS($M$26:M70)-1,COLUMNS($M$26:M70)-1),\"\")","v":""},{"$f":"IF(OFFSET(DE104_9!$N$26,ROWS($N$26:N70)-1,COLUMNS($N$26:N70)-1)<>\"\",OFFSET(DE104_9!$N$26,ROWS($N$26:N70)-1,COLUMNS($N$26:N70)-1),\"\")","v":""},{"$f":"IF(OFFSET(DE104_9!$O$26,ROWS($O$26:O70)-1,COLUMNS($O$26:O70)-1)<>\"\",OFFSET(DE104_9!$O$26,ROWS($O$26:O70)-1,COLUMNS($O$26:O70)-1),\"\")","v":""},{"$f":"IF(OFFSET(DE104_9!$P$26,ROWS($P$26:P70)-1,COLUMNS($P$26:P70)-1)<>\"\",OFFSET(DE104_9!$P$26,ROWS($P$26:P70)-1,COLUMNS($P$26:P70)-1),\"\")","v":148640},{"$f":"IF(OFFSET(DE104_9!$Q$26,ROWS($Q$26:Q70)-1,COLUMNS($Q$26:Q70)-1)<>\"\",OFFSET(DE104_9!$Q$26,ROWS($Q$26:Q70)-1,COLUMNS($Q$26:Q70)-1),\"\")","v":"DR-306"},{"$f":"IF(OFFSET(DE104_9!$R$26,ROWS($R$26:R70)-1,COLUMNS($R$26:R70)-1)<>\"\",OFFSET(DE104_9!$R$26,ROWS($R$26:R70)-1,COLUMNS($R$26:R70)-1),\"\")","v":" "},{"$f":"IF(OFFSET(DE104_9!$S$26,ROWS($S$26:S70)-1,COLUMNS($S$26:S70)-1)<>\"\",OFFSET(DE104_9!$S$26,ROWS($S$26:S70)-1,COLUMNS($S$26:S70)-1),\"\")","v":0.4},{"$f":"IF(OFFSET(DE104_9!$T$26,ROWS($T$26:T70)-1,COLUMNS($T$26:T70)-1)<>\"\",OFFSET(DE104_9!$T$26,ROWS($T$26:T70)-1,COLUMNS($T$26:T70)-1),\"\")","v":""}]
[{"$f":"IF(OFFSET(DE104_9!$C$26,ROWS($C$26:C71)-1,COLUMNS($C$26:C71)-1)<>\"\",OFFSET(DE104_9!$C$26,ROWS($C$26:C71)-1,COLUMNS($C$26:C71)-1),\"\")","v":24},{"$f":"IF(OFFSET(DE104_9!$D$26,ROWS($D$26:D71)-1,COLUMNS($D$26:D71)-1)<>\"\",OFFSET(DE104_9!$D$26,ROWS($D$26:D71)-1,COLUMNS($D$26:D71)-1),\"\")","v":"EBL"},{"$f":"IF(OFFSET(DE104_9!$E$26,ROWS($E$26:E71)-1,COLUMNS($E$26:E71)-1)<>\"\",OFFSET(DE104_9!$E$26,ROWS($E$26:E71)-1,COLUMNS($E$26:E71)-1),\"\")","v":148640},{"$f":"IF(OFFSET(DE104_9!$F$26,ROWS($F$26:F71)-1,COLUMNS($F$26:F71)-1)<>\"\",OFFSET(DE104_9!$F$26,ROWS($F$26:F71)-1,COLUMNS($F$26:F71)-1),\"\")","v":148990},{"$f":"IF(OFFSET(DE104_9!$G$26,ROWS($G$26:G71)-1,COLUMNS($G$26:G71)-1)<>\"\",OFFSET(DE104_9!$G$26,ROWS($G$26:G71)-1,COLUMNS($G$26:G71)-1),\"\")","v":"RT"},{"$f":"IF(OFFSET(DE104_9!$H$26,ROWS($H$26:H71)-1,COLUMNS($H$26:H71)-1)<>\"\",OFFSET(DE104_9!$H$26,ROWS($H$26:H71)-1,COLUMNS($H$26:H71)-1),\"\")","v":42},{"$f":"IF(OFFSET(DE104_9!$I$26,ROWS($I$26:I71)-1,COLUMNS($I$26:I71)-1)<>\"\",OFFSET(DE104_9!$I$26,ROWS($I$26:I71)-1,COLUMNS($I$26:I71)-1),\"\")","v":4},{"$f":"IF(OFFSET(DE104_9!$J$26,ROWS($J$26:J71)-1,COLUMNS($J$26:J71)-1)<>\"\",OFFSET(DE104_9!$J$26,ROWS($J$26:J71)-1,COLUMNS($J$26:J71)-1),\"\")","v":370},{"$f":"IF(OFFSET(DE104_9!$K$26,ROWS($K$26:K71)-1,COLUMNS($K$26:K71)-1)<>\"\",OFFSET(DE104_9!$K$26,ROWS($K$26:K71)-1,COLUMNS($K$26:K71)-1),\"\")","v":""},{"$f":"IF(OFFSET(DE104_9!$L$26,ROWS($L$26:L71)-1,COLUMNS($L$26:L71)-1)<>\"\",OFFSET(DE104_9!$L$26,ROWS($L$26:L71)-1,COLUMNS($L$26:L71)-1),\"\")","v":""},{"$f":"IF(OFFSET(DE104_9!$M$26,ROWS($M$26:M71)-1,COLUMNS($M$26:M71)-1)<>\"\",OFFSET(DE104_9!$M$26,ROWS($M$26:M71)-1,COLUMNS($M$26:M71)-1),\"\")","v":""},{"$f":"IF(OFFSET(DE104_9!$N$26,ROWS($N$26:N71)-1,COLUMNS($N$26:N71)-1)<>\"\",OFFSET(DE104_9!$N$26,ROWS($N$26:N71)-1,COLUMNS($N$26:N71)-1),\"\")","v":""},{"$f":"IF(OFFSET(DE104_9!$O$26,ROWS($O$26:O71)-1,COLUMNS($O$26:O71)-1)<>\"\",OFFSET(DE104_9!$O$26,ROWS($O$26:O71)-1,COLUMNS($O$26:O71)-1),\"\")","v":""},{"$f":"IF(OFFSET(DE104_9!$P$26,ROWS($P$26:P71)-1,COLUMNS($P$26:P71)-1)<>\"\",OFFSET(DE104_9!$P$26,ROWS($P$26:P71)-1,COLUMNS($P$26:P71)-1),\"\")","v":148640},{"$f":"IF(OFFSET(DE104_9!$Q$26,ROWS($Q$26:Q71)-1,COLUMNS($Q$26:Q71)-1)<>\"\",OFFSET(DE104_9!$Q$26,ROWS($Q$26:Q71)-1,COLUMNS($Q$26:Q71)-1),\"\")","v":"DR-306"},{"$f":"IF(OFFSET(DE104_9!$R$26,ROWS($R$26:R71)-1,COLUMNS($R$26:R71)-1)<>\"\",OFFSET(DE104_9!$R$26,ROWS($R$26:R71)-1,COLUMNS($R$26:R71)-1),\"\")","v":34.299999999999997},{"$f":"IF(OFFSET(DE104_9!$S$26,ROWS($S$26:S71)-1,COLUMNS($S$26:S71)-1)<>\"\",OFFSET(DE104_9!$S$26,ROWS($S$26:S71)-1,COLUMNS($S$26:S71)-1),\"\")","v":0.4},{"$f":"IF(OFFSET(DE104_9!$T$26,ROWS($T$26:T71)-1,COLUMNS($T$26:T71)-1)<>\"\",OFFSET(DE104_9!$T$26,ROWS($T$26:T71)-1,COLUMNS($T$26:T71)-1),\"\")","v":"SINGLE OUTLET"}]
[{"$f":"IF(OFFSET(DE104_9!$C$26,ROWS($C$26:C72)-1,COLUMNS($C$26:C72)-1)<>\"\",OFFSET(DE104_9!$C$26,ROWS($C$26:C72)-1,COLUMNS($C$26:C72)-1),\"\")","v":25},{"$f":"IF(OFFSET(DE104_9!$D$26,ROWS($D$26:D72)-1,COLUMNS($D$26:D72)-1)<>\"\",OFFSET(DE104_9!$D$26,ROWS($D$26:D72)-1,COLUMNS($D$26:D72)-1),\"\")","v":"EBL"},{"$f":"IF(OFFSET(DE104_9!$E$26,ROWS($E$26:E72)-1,COLUMNS($E$26:E72)-1)<>\"\",OFFSET(DE104_9!$E$26,ROWS($E$26:E72)-1,COLUMNS($E$26:E72)-1),\"\")","v":149000},{"$f":"IF(OFFSET(DE104_9!$F$26,ROWS($F$26:F72)-1,COLUMNS($F$26:F72)-1)<>\"\",OFFSET(DE104_9!$F$26,ROWS($F$26:F72)-1,COLUMNS($F$26:F72)-1),\"\")","v":149450},{"$f":"IF(OFFSET(DE104_9!$G$26,ROWS($G$26:G72)-1,COLUMNS($G$26:G72)-1)<>\"\",OFFSET(DE104_9!$G$26,ROWS($G$26:G72)-1,COLUMNS($G$26:G72)-1),\"\")","v":"RT"},{"$f":"IF(OFFSET(DE104_9!$H$26,ROWS($H$26:H72)-1,COLUMNS($H$26:H72)-1)<>\"\",OFFSET(DE104_9!$H$26,ROWS($H$26:H72)-1,COLUMNS($H$26:H72)-1),\"\")","v":42},{"$f":"IF(OFFSET(DE104_9!$I$26,ROWS($I$26:I72)-1,COLUMNS($I$26:I72)-1)<>\"\",OFFSET(DE104_9!$I$26,ROWS($I$26:I72)-1,COLUMNS($I$26:I72)-1),\"\")","v":4},{"$f":"IF(OFFSET(DE104_9!$J$26,ROWS($J$26:J72)-1,COLUMNS($J$26:J72)-1)<>\"\",OFFSET(DE104_9!$J$26,ROWS($J$26:J72)-1,COLUMNS($J$26:J72)-1),\"\")","v":490},{"$f":"IF(OFFSET(DE104_9!$K$26,ROWS($K$26:K72)-1,COLUMNS($K$26:K72)-1)<>\"\",OFFSET(DE104_9!$K$26,ROWS($K$26:K72)-1,COLUMNS($K$26:K72)-1),\"\")","v":""},{"$f":"IF(OFFSET(DE104_9!$L$26,ROWS($L$26:L72)-1,COLUMNS($L$26:L72)-1)<>\"\",OFFSET(DE104_9!$L$26,ROWS($L$26:L72)-1,COLUMNS($L$26:L72)-1),\"\")","v":""},{"$f":"IF(OFFSET(DE104_9!$M$26,ROWS($M$26:M72)-1,COLUMNS($M$26:M72)-1)<>\"\",OFFSET(DE104_9!$M$26,ROWS($M$26:M72)-1,COLUMNS($M$26:M72)-1),\"\")","v":""},{"$f":"IF(OFFSET(DE104_9!$N$26,ROWS($N$26:N72)-1,COLUMNS($N$26:N72)-1)<>\"\",OFFSET(DE104_9!$N$26,ROWS($N$26:N72)-1,COLUMNS($N$26:N72)-1),\"\")","v":""},{"$f":"IF(OFFSET(DE104_9!$O$26,ROWS($O$26:O72)-1,COLUMNS($O$26:O72)-1)<>\"\",OFFSET(DE104_9!$O$26,ROWS($O$26:O72)-1,COLUMNS($O$26:O72)-1),\"\")","v":""},{"$f":"IF(OFFSET(DE104_9!$P$26,ROWS($P$26:P72)-1,COLUMNS($P$26:P72)-1)<>\"\",OFFSET(DE104_9!$P$26,ROWS($P$26:P72)-1,COLUMNS($P$26:P72)-1),\"\")","v":149000},{"$f":"IF(OFFSET(DE104_9!$Q$26,ROWS($Q$26:Q72)-1,COLUMNS($Q$26:Q72)-1)<>\"\",OFFSET(DE104_9!$Q$26,ROWS($Q$26:Q72)-1,COLUMNS($Q$26:Q72)-1),\"\")","v":"DR-306"},{"$f":"IF(OFFSET(DE104_9!$R$26,ROWS($R$26:R72)-1,COLUMNS($R$26:R72)-1)<>\"\",OFFSET(DE104_9!$R$26,ROWS($R$26:R72)-1,COLUMNS($R$26:R72)-1),\"\")","v":45.4},{"$f":"IF(OFFSET(DE104_9!$S$26,ROWS($S$26:S72)-1,COLUMNS($S$26:S72)-1)<>\"\",OFFSET(DE104_9!$S$26,ROWS($S$26:S72)-1,COLUMNS($S$26:S72)-1),\"\")","v":0.4},{"$f":"IF(OFFSET(DE104_9!$T$26,ROWS($T$26:T72)-1,COLUMNS($T$26:T72)-1)<>\"\",OFFSET(DE104_9!$T$26,ROWS($T$26:T72)-1,COLUMNS($T$26:T72)-1),\"\")","v":"US 30 EB/RAMP D TAPER; SING.OUT."}]
[{"$f":"IF(OFFSET(DE104_9!$C$26,ROWS($C$26:C73)-1,COLUMNS($C$26:C73)-1)<>\"\",OFFSET(DE104_9!$C$26,ROWS($C$26:C73)-1,COLUMNS($C$26:C73)-1),\"\")","v":26},{"$f":"IF(OFFSET(DE104_9!$D$26,ROWS($D$26:D73)-1,COLUMNS($D$26:D73)-1)<>\"\",OFFSET(DE104_9!$D$26,ROWS($D$26:D73)-1,COLUMNS($D$26:D73)-1),\"\")","v":"EBL"},{"$f":"IF(OFFSET(DE104_9!$E$26,ROWS($E$26:E73)-1,COLUMNS($E$26:E73)-1)<>\"\",OFFSET(DE104_9!$E$26,ROWS($E$26:E73)-1,COLUMNS($E$26:E73)-1),\"\")","v":149450},{"$f":"IF(OFFSET(DE104_9!$F$26,ROWS($F$26:F73)-1,COLUMNS($F$26:F73)-1)<>\"\",OFFSET(DE104_9!$F$26,ROWS($F$26:F73)-1,COLUMNS($F$26:F73)-1),\"\")","v":150000},{"$f":"IF(OFFSET(DE104_9!$G$26,ROWS($G$26:G73)-1,COLUMNS($G$26:G73)-1)<>\"\",OFFSET(DE104_9!$G$26,ROWS($G$26:G73)-1,COLUMNS($G$26:G73)-1),\"\")","v":"RT"},{"$f":"IF(OFFSET(DE104_9!$H$26,ROWS($H$26:H73)-1,COLUMNS($H$26:H73)-1)<>\"\",OFFSET(DE104_9!$H$26,ROWS($H$26:H73)-1,COLUMNS($H$26:H73)-1),\"\")","v":42},{"$f":"IF(OFFSET(DE104_9!$I$26,ROWS($I$26:I73)-1,COLUMNS($I$26:I73)-1)<>\"\",OFFSET(DE104_9!$I$26,ROWS($I$26:I73)-1,COLUMNS($I$26:I73)-1),\"\")","v":4},{"$f":"IF(OFFSET(DE104_9!$J$26,ROWS($J$26:J73)-1,COLUMNS($J$26:J73)-1)<>\"\",OFFSET(DE104_9!$J$26,ROWS($J$26:J73)-1,COLUMNS($J$26:J73)-1),\"\")","v":570},{"$f":"IF(OFFSET(DE104_9!$K$26,ROWS($K$26:K73)-1,COLUMNS($K$26:K73)-1)<>\"\",OFFSET(DE104_9!$K$26,ROWS($K$26:K73)-1,COLUMNS($K$26:K73)-1),\"\")","v":""},{"$f":"IF(OFFSET(DE104_9!$L$26,ROWS($L$26:L73)-1,COLUMNS($L$26:L73)-1)<>\"\",OFFSET(DE104_9!$L$26,ROWS($L$26:L73)-1,COLUMNS($L$26:L73)-1),\"\")","v":""},{"$f":"IF(OFFSET(DE104_9!$M$26,ROWS($M$26:M73)-1,COLUMNS($M$26:M73)-1)<>\"\",OFFSET(DE104_9!$M$26,ROWS($M$26:M73)-1,COLUMNS($M$26:M73)-1),\"\")","v":""},{"$f":"IF(OFFSET(DE104_9!$N$26,ROWS($N$26:N73)-1,COLUMNS($N$26:N73)-1)<>\"\",OFFSET(DE104_9!$N$26,ROWS($N$26:N73)-1,COLUMNS($N$26:N73)-1),\"\")","v":""},{"$f":"IF(OFFSET(DE104_9!$O$26,ROWS($O$26:O73)-1,COLUMNS($O$26:O73)-1)<>\"\",OFFSET(DE104_9!$O$26,ROWS($O$26:O73)-1,COLUMNS($O$26:O73)-1),\"\")","v":""},{"$f":"IF(OFFSET(DE104_9!$P$26,ROWS($P$26:P73)-1,COLUMNS($P$26:P73)-1)<>\"\",OFFSET(DE104_9!$P$26,ROWS($P$26:P73)-1,COLUMNS($P$26:P73)-1),\"\")","v":150000},{"$f":"IF(OFFSET(DE104_9!$Q$26,ROWS($Q$26:Q73)-1,COLUMNS($Q$26:Q73)-1)<>\"\",OFFSET(DE104_9!$Q$26,ROWS($Q$26:Q73)-1,COLUMNS($Q$26:Q73)-1),\"\")","v":"DR-306"},{"$f":"IF(OFFSET(DE104_9!$R$26,ROWS($R$26:R73)-1,COLUMNS($R$26:R73)-1)<>\"\",OFFSET(DE104_9!$R$26,ROWS($R$26:R73)-1,COLUMNS($R$26:R73)-1),\"\")","v":52.8},{"$f":"IF(OFFSET(DE104_9!$S$26,ROWS($S$26:S73)-1,COLUMNS($S$26:S73)-1)<>\"\",OFFSET(DE104_9!$S$26,ROWS($S$26:S73)-1,COLUMNS($S$26:S73)-1),\"\")","v":0.4},{"$f":"IF(OFFSET(DE104_9!$T$26,ROWS($T$26:T73)-1,COLUMNS($T$26:T73)-1)<>\"\",OFFSET(DE104_9!$T$26,ROWS($T$26:T73)-1,COLUMNS($T$26:T73)-1),\"\")","v":"SINGLE OUTLET"}]
[{"$f":"IF(OFFSET(DE104_9!$C$26,ROWS($C$26:C74)-1,COLUMNS($C$26:C74)-1)<>\"\",OFFSET(DE104_9!$C$26,ROWS($C$26:C74)-1,COLUMNS($C$26:C74)-1),\"\")","v":27},{"$f":"IF(OFFSET(DE104_9!$D$26,ROWS($D$26:D74)-1,COLUMNS($D$26:D74)-1)<>\"\",OFFSET(DE104_9!$D$26,ROWS($D$26:D74)-1,COLUMNS($D$26:D74)-1),\"\")","v":"EBL"},{"$f":"IF(OFFSET(DE104_9!$E$26,ROWS($E$26:E74)-1,COLUMNS($E$26:E74)-1)<>\"\",OFFSET(DE104_9!$E$26,ROWS($E$26:E74)-1,COLUMNS($E$26:E74)-1),\"\")","v":150000},{"$f":"IF(OFFSET(DE104_9!$F$26,ROWS($F$26:F74)-1,COLUMNS($F$26:F74)-1)<>\"\",OFFSET(DE104_9!$F$26,ROWS($F$26:F74)-1,COLUMNS($F$26:F74)-1),\"\")","v":150500},{"$f":"IF(OFFSET(DE104_9!$G$26,ROWS($G$26:G74)-1,COLUMNS($G$26:G74)-1)<>\"\",OFFSET(DE104_9!$G$26,ROWS($G$26:G74)-1,COLUMNS($G$26:G74)-1),\"\")","v":"RT"},{"$f":"IF(OFFSET(DE104_9!$H$26,ROWS($H$26:H74)-1,COLUMNS($H$26:H74)-1)<>\"\",OFFSET(DE104_9!$H$26,ROWS($H$26:H74)-1,COLUMNS($H$26:H74)-1),\"\")","v":42},{"$f":"IF(OFFSET(DE104_9!$I$26,ROWS($I$26:I74)-1,COLUMNS($I$26:I74)-1)<>\"\",OFFSET(DE104_9!$I$26,ROWS($I$26:I74)-1,COLUMNS($I$26:I74)-1),\"\")","v":4},{"$f":"IF(OFFSET(DE104_9!$J$26,ROWS($J$26:J74)-1,COLUMNS($J$26:J74)-1)<>\"\",OFFSET(DE104_9!$J$26,ROWS($J$26:J74)-1,COLUMNS($J$26:J74)-1),\"\")","v":540},{"$f":"IF(OFFSET(DE104_9!$K$26,ROWS($K$26:K74)-1,COLUMNS($K$26:K74)-1)<>\"\",OFFSET(DE104_9!$K$26,ROWS($K$26:K74)-1,COLUMNS($K$26:K74)-1),\"\")","v":""},{"$f":"IF(OFFSET(DE104_9!$L$26,ROWS($L$26:L74)-1,COLUMNS($L$26:L74)-1)<>\"\",OFFSET(DE104_9!$L$26,ROWS($L$26:L74)-1,COLUMNS($L$26:L74)-1),\"\")","v":""},{"$f":"IF(OFFSET(DE104_9!$M$26,ROWS($M$26:M74)-1,COLUMNS($M$26:M74)-1)<>\"\",OFFSET(DE104_9!$M$26,ROWS($M$26:M74)-1,COLUMNS($M$26:M74)-1),\"\")","v":""},{"$f":"IF(OFFSET(DE104_9!$N$26,ROWS($N$26:N74)-1,COLUMNS($N$26:N74)-1)<>\"\",OFFSET(DE104_9!$N$26,ROWS($N$26:N74)-1,COLUMNS($N$26:N74)-1),\"\")","v":""},{"$f":"IF(OFFSET(DE104_9!$O$26,ROWS($O$26:O74)-1,COLUMNS($O$26:O74)-1)<>\"\",OFFSET(DE104_9!$O$26,ROWS($O$26:O74)-1,COLUMNS($O$26:O74)-1),\"\")","v":""},{"$f":"IF(OFFSET(DE104_9!$P$26,ROWS($P$26:P74)-1,COLUMNS($P$26:P74)-1)<>\"\",OFFSET(DE104_9!$P$26,ROWS($P$26:P74)-1,COLUMNS($P$26:P74)-1),\"\")","v":150000},{"$f":"IF(OFFSET(DE104_9!$Q$26,ROWS($Q$26:Q74)-1,COLUMNS($Q$26:Q74)-1)<>\"\",OFFSET(DE104_9!$Q$26,ROWS($Q$26:Q74)-1,COLUMNS($Q$26:Q74)-1),\"\")","v":"DR-306"},{"$f":"IF(OFFSET(DE104_9!$R$26,ROWS($R$26:R74)-1,COLUMNS($R$26:R74)-1)<>\"\",OFFSET(DE104_9!$R$26,ROWS($R$26:R74)-1,COLUMNS($R$26:R74)-1),\"\")","v":50},{"$f":"IF(OFFSET(DE104_9!$S$26,ROWS($S$26:S74)-1,COLUMNS($S$26:S74)-1)<>\"\",OFFSET(DE104_9!$S$26,ROWS($S$26:S74)-1,COLUMNS($S$26:S74)-1),\"\")","v":0.4},{"$f":"IF(OFFSET(DE104_9!$T$26,ROWS($T$26:T74)-1,COLUMNS($T$26:T74)-1)<>\"\",OFFSET(DE104_9!$T$26,ROWS($T$26:T74)-1,COLUMNS($T$26:T74)-1),\"\")","v":""}]
[{"$f":"IF(OFFSET(DE104_9!$C$26,ROWS($C$26:C75)-1,COLUMNS($C$26:C75)-1)<>\"\",OFFSET(DE104_9!$C$26,ROWS($C$26:C75)-1,COLUMNS($C$26:C75)-1),\"\")","v":""},{"$f":"IF(OFFSET(DE104_9!$D$26,ROWS($D$26:D75)-1,COLUMNS($D$26:D75)-1)<>\"\",OFFSET(DE104_9!$D$26,ROWS($D$26:D75)-1,COLUMNS($D$26:D75)-1),\"\")","v":""},{"$f":"IF(OFFSET(DE104_9!$E$26,ROWS($E$26:E75)-1,COLUMNS($E$26:E75)-1)<>\"\",OFFSET(DE104_9!$E$26,ROWS($E$26:E75)-1,COLUMNS($E$26:E75)-1),\"\")","v":""},{"$f":"IF(OFFSET(DE104_9!$F$26,ROWS($F$26:F75)-1,COLUMNS($F$26:F75)-1)<>\"\",OFFSET(DE104_9!$F$26,ROWS($F$26:F75)-1,COLUMNS($F$26:F75)-1),\"\")","v":""},{"$f":"IF(OFFSET(DE104_9!$G$26,ROWS($G$26:G75)-1,COLUMNS($G$26:G75)-1)<>\"\",OFFSET(DE104_9!$G$26,ROWS($G$26:G75)-1,COLUMNS($G$26:G75)-1),\"\")","v":""},{"$f":"IF(OFFSET(DE104_9!$H$26,ROWS($H$26:H75)-1,COLUMNS($H$26:H75)-1)<>\"\",OFFSET(DE104_9!$H$26,ROWS($H$26:H75)-1,COLUMNS($H$26:H75)-1),\"\")","v":" "},{"$f":"IF(OFFSET(DE104_9!$I$26,ROWS($I$26:I75)-1,COLUMNS($I$26:I75)-1)<>\"\",OFFSET(DE104_9!$I$26,ROWS($I$26:I75)-1,COLUMNS($I$26:I75)-1),\"\")","v":""},{"$f":"IF(OFFSET(DE104_9!$J$26,ROWS($J$26:J75)-1,COLUMNS($J$26:J75)-1)<>\"\",OFFSET(DE104_9!$J$26,ROWS($J$26:J75)-1,COLUMNS($J$26:J75)-1),\"\")","v":""},{"$f":"IF(OFFSET(DE104_9!$K$26,ROWS($K$26:K75)-1,COLUMNS($K$26:K75)-1)<>\"\",OFFSET(DE104_9!$K$26,ROWS($K$26:K75)-1,COLUMNS($K$26:K75)-1),\"\")","v":""},{"$f":"IF(OFFSET(DE104_9!$L$26,ROWS($L$26:L75)-1,COLUMNS($L$26:L75)-1)<>\"\",OFFSET(DE104_9!$L$26,ROWS($L$26:L75)-1,COLUMNS($L$26:L75)-1),\"\")","v":""},{"$f":"IF(OFFSET(DE104_9!$M$26,ROWS($M$26:M75)-1,COLUMNS($M$26:M75)-1)<>\"\",OFFSET(DE104_9!$M$26,ROWS($M$26:M75)-1,COLUMNS($M$26:M75)-1),\"\")","v":""},{"$f":"IF(OFFSET(DE104_9!$N$26,ROWS($N$26:N75)-1,COLUMNS($N$26:N75)-1)<>\"\",OFFSET(DE104_9!$N$26,ROWS($N$26:N75)-1,COLUMNS($N$26:N75)-1),\"\")","v":""},{"$f":"IF(OFFSET(DE104_9!$O$26,ROWS($O$26:O75)-1,COLUMNS($O$26:O75)-1)<>\"\",OFFSET(DE104_9!$O$26,ROWS($O$26:O75)-1,COLUMNS($O$26:O75)-1),\"\")","v":""},{"$f":"IF(OFFSET(DE104_9!$P$26,ROWS($P$26:P75)-1,COLUMNS($P$26:P75)-1)<>\"\",OFFSET(DE104_9!$P$26,ROWS($P$26:P75)-1,COLUMNS($P$26:P75)-1),\"\")","v":150500},{"$f":"IF(OFFSET(DE104_9!$Q$26,ROWS($Q$26:Q75)-1,COLUMNS($Q$26:Q75)-1)<>\"\",OFFSET(DE104_9!$Q$26,ROWS($Q$26:Q75)-1,COLUMNS($Q$26:Q75)-1),\"\")","v":"DR-306"},{"$f":"IF(OFFSET(DE104_9!$R$26,ROWS($R$26:R75)-1,COLUMNS($R$26:R75)-1)<>\"\",OFFSET(DE104_9!$R$26,ROWS($R$26:R75)-1,COLUMNS($R$26:R75)-1),\"\")","v":" "},{"$f":"IF(OFFSET(DE104_9!$S$26,ROWS($S$26:S75)-1,COLUMNS($S$26:S75)-1)<>\"\",OFFSET(DE104_9!$S$26,ROWS($S$26:S75)-1,COLUMNS($S$26:S75)-1),\"\")","v":0.4},{"$f":"IF(OFFSET(DE104_9!$T$26,ROWS($T$26:T75)-1,COLUMNS($T$26:T75)-1)<>\"\",OFFSET(DE104_9!$T$26,ROWS($T$26:T75)-1,COLUMNS($T$26:T75)-1),\"\")","v":""}]
[{"$f":"IF(OFFSET(DE104_9!$C$26,ROWS($C$26:C76)-1,COLUMNS($C$26:C76)-1)<>\"\",OFFSET(DE104_9!$C$26,ROWS($C$26:C76)-1,COLUMNS($C$26:C76)-1),\"\")","v":28},{"$f":"IF(OFFSET(DE104_9!$D$26,ROWS($D$26:D76)-1,COLUMNS($D$26:D76)-1)<>\"\",OFFSET(DE104_9!$D$26,ROWS($D$26:D76)-1,COLUMNS($D$26:D76)-1),\"\")","v":"EBL"},{"$f":"IF(OFFSET(DE104_9!$E$26,ROWS($E$26:E76)-1,COLUMNS($E$26:E76)-1)<>\"\",OFFSET(DE104_9!$E$26,ROWS($E$26:E76)-1,COLUMNS($E$26:E76)-1),\"\")","v":150500},{"$f":"IF(OFFSET(DE104_9!$F$26,ROWS($F$26:F76)-1,COLUMNS($F$26:F76)-1)<>\"\",OFFSET(DE104_9!$F$26,ROWS($F$26:F76)-1,COLUMNS($F$26:F76)-1),\"\")","v":151000},{"$f":"IF(OFFSET(DE104_9!$G$26,ROWS($G$26:G76)-1,COLUMNS($G$26:G76)-1)<>\"\",OFFSET(DE104_9!$G$26,ROWS($G$26:G76)-1,COLUMNS($G$26:G76)-1),\"\")","v":"RT"},{"$f":"IF(OFFSET(DE104_9!$H$26,ROWS($H$26:H76)-1,COLUMNS($H$26:H76)-1)<>\"\",OFFSET(DE104_9!$H$26,ROWS($H$26:H76)-1,COLUMNS($H$26:H76)-1),\"\")","v":42},{"$f":"IF(OFFSET(DE104_9!$I$26,ROWS($I$26:I76)-1,COLUMNS($I$26:I76)-1)<>\"\",OFFSET(DE104_9!$I$26,ROWS($I$26:I76)-1,COLUMNS($I$26:I76)-1),\"\")","v":4},{"$f":"IF(OFFSET(DE104_9!$J$26,ROWS($J$26:J76)-1,COLUMNS($J$26:J76)-1)<>\"\",OFFSET(DE104_9!$J$26,ROWS($J$26:J76)-1,COLUMNS($J$26:J76)-1),\"\")","v":540},{"$f":"IF(OFFSET(DE104_9!$K$26,ROWS($K$26:K76)-1,COLUMNS($K$26:K76)-1)<>\"\",OFFSET(DE104_9!$K$26,ROWS($K$26:K76)-1,COLUMNS($K$26:K76)-1),\"\")","v":""},{"$f":"IF(OFFSET(DE104_9!$L$26,ROWS($L$26:L76)-1,COLUMNS($L$26:L76)-1)<>\"\",OFFSET(DE104_9!$L$26,ROWS($L$26:L76)-1,COLUMNS($L$26:L76)-1),\"\")","v":""},{"$f":"IF(OFFSET(DE104_9!$M$26,ROWS($M$26:M76)-1,COLUMNS($M$26:M76)-1)<>\"\",OFFSET(DE104_9!$M$26,ROWS($M$26:M76)-1,COLUMNS($M$26:M76)-1),\"\")","v":""},{"$f":"IF(OFFSET(DE104_9!$N$26,ROWS($N$26:N76)-1,COLUMNS($N$26:N76)-1)<>\"\",OFFSET(DE104_9!$N$26,ROWS($N$26:N76)-1,COLUMNS($N$26:N76)-1),\"\")","v":""},{"$f":"IF(OFFSET(DE104_9!$O$26,ROWS($O$26:O76)-1,COLUMNS($O$26:O76)-1)<>\"\",OFFSET(DE104_9!$O$26,ROWS($O$26:O76)-1,COLUMNS($O$26:O76)-1),\"\")","v":""},{"$f":"IF(OFFSET(DE104_9!$P$26,ROWS($P$26:P76)-1,COLUMNS($P$26:P76)-1)<>\"\",OFFSET(DE104_9!$P$26,ROWS($P$26:P76)-1,COLUMNS($P$26:P76)-1),\"\")","v":150500},{"$f":"IF(OFFSET(DE104_9!$Q$26,ROWS($Q$26:Q76)-1,COLUMNS($Q$26:Q76)-1)<>\"\",OFFSET(DE104_9!$Q$26,ROWS($Q$26:Q76)-1,COLUMNS($Q$26:Q76)-1),\"\")","v":"DR-306"},{"$f":"IF(OFFSET(DE104_9!$R$26,ROWS($R$26:R76)-1,COLUMNS($R$26:R76)-1)<>\"\",OFFSET(DE104_9!$R$26,ROWS($R$26:R76)-1,COLUMNS($R$26:R76)-1),\"\")","v":50},{"$f":"IF(OFFSET(DE104_9!$S$26,ROWS($S$26:S76)-1,COLUMNS($S$26:S76)-1)<>\"\",OFFSET(DE104_9!$S$26,ROWS($S$26:S76)-1,COLUMNS($S$26:S76)-1),\"\")","v":0.4},{"$f":"IF(OFFSET(DE104_9!$T$26,ROWS($T$26:T76)-1,COLUMNS($T$26:T76)-1)<>\"\",OFFSET(DE104_9!$T$26,ROWS($T$26:T76)-1,COLUMNS($T$26:T76)-1),\"\")","v":""}]
[{"$f":"IF(OFFSET(DE104_9!$C$26,ROWS($C$26:C77)-1,COLUMNS($C$26:C77)-1)<>\"\",OFFSET(DE104_9!$C$26,ROWS($C$26:C77)-1,COLUMNS($C$26:C77)-1),\"\")","v":""},{"$f":"IF(OFFSET(DE104_9!$D$26,ROWS($D$26:D77)-1,COLUMNS($D$26:D77)-1)<>\"\",OFFSET(DE104_9!$D$26,ROWS($D$26:D77)-1,COLUMNS($D$26:D77)-1),\"\")","v":""},{"$f":"IF(OFFSET(DE104_9!$E$26,ROWS($E$26:E77)-1,COLUMNS($E$26:E77)-1)<>\"\",OFFSET(DE104_9!$E$26,ROWS($E$26:E77)-1,COLUMNS($E$26:E77)-1),\"\")","v":""},{"$f":"IF(OFFSET(DE104_9!$F$26,ROWS($F$26:F77)-1,COLUMNS($F$26:F77)-1)<>\"\",OFFSET(DE104_9!$F$26,ROWS($F$26:F77)-1,COLUMNS($F$26:F77)-1),\"\")","v":""},{"$f":"IF(OFFSET(DE104_9!$G$26,ROWS($G$26:G77)-1,COLUMNS($G$26:G77)-1)<>\"\",OFFSET(DE104_9!$G$26,ROWS($G$26:G77)-1,COLUMNS($G$26:G77)-1),\"\")","v":""},{"$f":"IF(OFFSET(DE104_9!$H$26,ROWS($H$26:H77)-1,COLUMNS($H$26:H77)-1)<>\"\",OFFSET(DE104_9!$H$26,ROWS($H$26:H77)-1,COLUMNS($H$26:H77)-1),\"\")","v":" "},{"$f":"IF(OFFSET(DE104_9!$I$26,ROWS($I$26:I77)-1,COLUMNS($I$26:I77)-1)<>\"\",OFFSET(DE104_9!$I$26,ROWS($I$26:I77)-1,COLUMNS($I$26:I77)-1),\"\")","v":""},{"$f":"IF(OFFSET(DE104_9!$J$26,ROWS($J$26:J77)-1,COLUMNS($J$26:J77)-1)<>\"\",OFFSET(DE104_9!$J$26,ROWS($J$26:J77)-1,COLUMNS($J$26:J77)-1),\"\")","v":""},{"$f":"IF(OFFSET(DE104_9!$K$26,ROWS($K$26:K77)-1,COLUMNS($K$26:K77)-1)<>\"\",OFFSET(DE104_9!$K$26,ROWS($K$26:K77)-1,COLUMNS($K$26:K77)-1),\"\")","v":""},{"$f":"IF(OFFSET(DE104_9!$L$26,ROWS($L$26:L77)-1,COLUMNS($L$26:L77)-1)<>\"\",OFFSET(DE104_9!$L$26,ROWS($L$26:L77)-1,COLUMNS($L$26:L77)-1),\"\")","v":""},{"$f":"IF(OFFSET(DE104_9!$M$26,ROWS($M$26:M77)-1,COLUMNS($M$26:M77)-1)<>\"\",OFFSET(DE104_9!$M$26,ROWS($M$26:M77)-1,COLUMNS($M$26:M77)-1),\"\")","v":""},{"$f":"IF(OFFSET(DE104_9!$N$26,ROWS($N$26:N77)-1,COLUMNS($N$26:N77)-1)<>\"\",OFFSET(DE104_9!$N$26,ROWS($N$26:N77)-1,COLUMNS($N$26:N77)-1),\"\")","v":""},{"$f":"IF(OFFSET(DE104_9!$O$26,ROWS($O$26:O77)-1,COLUMNS($O$26:O77)-1)<>\"\",OFFSET(DE104_9!$O$26,ROWS($O$26:O77)-1,COLUMNS($O$26:O77)-1),\"\")","v":""},{"$f":"IF(OFFSET(DE104_9!$P$26,ROWS($P$26:P77)-1,COLUMNS($P$26:P77)-1)<>\"\",OFFSET(DE104_9!$P$26,ROWS($P$26:P77)-1,COLUMNS($P$26:P77)-1),\"\")","v":151000},{"$f":"IF(OFFSET(DE104_9!$Q$26,ROWS($Q$26:Q77)-1,COLUMNS($Q$26:Q77)-1)<>\"\",OFFSET(DE104_9!$Q$26,ROWS($Q$26:Q77)-1,COLUMNS($Q$26:Q77)-1),\"\")","v":"DR-306"},{"$f":"IF(OFFSET(DE104_9!$R$26,ROWS($R$26:R77)-1,COLUMNS($R$26:R77)-1)<>\"\",OFFSET(DE104_9!$R$26,ROWS($R$26:R77)-1,COLUMNS($R$26:R77)-1),\"\")","v":" "},{"$f":"IF(OFFSET(DE104_9!$S$26,ROWS($S$26:S77)-1,COLUMNS($S$26:S77)-1)<>\"\",OFFSET(DE104_9!$S$26,ROWS($S$26:S77)-1,COLUMNS($S$26:S77)-1),\"\")","v":0.4},{"$f":"IF(OFFSET(DE104_9!$T$26,ROWS($T$26:T77)-1,COLUMNS($T$26:T77)-1)<>\"\",OFFSET(DE104_9!$T$26,ROWS($T$26:T77)-1,COLUMNS($T$26:T77)-1),\"\")","v":""}]
[{"$f":"IF(OFFSET(DE104_9!$C$26,ROWS($C$26:C78)-1,COLUMNS($C$26:C78)-1)<>\"\",OFFSET(DE104_9!$C$26,ROWS($C$26:C78)-1,COLUMNS($C$26:C78)-1),\"\")","v":29},{"$f":"IF(OFFSET(DE104_9!$D$26,ROWS($D$26:D78)-1,COLUMNS($D$26:D78)-1)<>\"\",OFFSET(DE104_9!$D$26,ROWS($D$26:D78)-1,COLUMNS($D$26:D78)-1),\"\")","v":"EBL"},{"$f":"IF(OFFSET(DE104_9!$E$26,ROWS($E$26:E78)-1,COLUMNS($E$26:E78)-1)<>\"\",OFFSET(DE104_9!$E$26,ROWS($E$26:E78)-1,COLUMNS($E$26:E78)-1),\"\")","v":151000},{"$f":"IF(OFFSET(DE104_9!$F$26,ROWS($F$26:F78)-1,COLUMNS($F$26:F78)-1)<>\"\",OFFSET(DE104_9!$F$26,ROWS($F$26:F78)-1,COLUMNS($F$26:F78)-1),\"\")","v":151335},{"$f":"IF(OFFSET(DE104_9!$G$26,ROWS($G$26:G78)-1,COLUMNS($G$26:G78)-1)<>\"\",OFFSET(DE104_9!$G$26,ROWS($G$26:G78)-1,COLUMNS($G$26:G78)-1),\"\")","v":"RT"},{"$f":"IF(OFFSET(DE104_9!$H$26,ROWS($H$26:H78)-1,COLUMNS($H$26:H78)-1)<>\"\",OFFSET(DE104_9!$H$26,ROWS($H$26:H78)-1,COLUMNS($H$26:H78)-1),\"\")","v":42},{"$f":"IF(OFFSET(DE104_9!$I$26,ROWS($I$26:I78)-1,COLUMNS($I$26:I78)-1)<>\"\",OFFSET(DE104_9!$I$26,ROWS($I$26:I78)-1,COLUMNS($I$26:I78)-1),\"\")","v":4},{"$f":"IF(OFFSET(DE104_9!$J$26,ROWS($J$26:J78)-1,COLUMNS($J$26:J78)-1)<>\"\",OFFSET(DE104_9!$J$26,ROWS($J$26:J78)-1,COLUMNS($J$26:J78)-1),\"\")","v":375},{"$f":"IF(OFFSET(DE104_9!$K$26,ROWS($K$26:K78)-1,COLUMNS($K$26:K78)-1)<>\"\",OFFSET(DE104_9!$K$26,ROWS($K$26:K78)-1,COLUMNS($K$26:K78)-1),\"\")","v":""},{"$f":"IF(OFFSET(DE104_9!$L$26,ROWS($L$26:L78)-1,COLUMNS($L$26:L78)-1)<>\"\",OFFSET(DE104_9!$L$26,ROWS($L$26:L78)-1,COLUMNS($L$26:L78)-1),\"\")","v":""},{"$f":"IF(OFFSET(DE104_9!$M$26,ROWS($M$26:M78)-1,COLUMNS($M$26:M78)-1)<>\"\",OFFSET(DE104_9!$M$26,ROWS($M$26:M78)-1,COLUMNS($M$26:M78)-1),\"\")","v":""},{"$f":"IF(OFFSET(DE104_9!$N$26,ROWS($N$26:N78)-1,COLUMNS($N$26:N78)-1)<>\"\",OFFSET(DE104_9!$N$26,ROWS($N$26:N78)-1,COLUMNS($N$26:N78)-1),\"\")","v":""},{"$f":"IF(OFFSET(DE104_9!$O$26,ROWS($O$26:O78)-1,COLUMNS($O$26:O78)-1)<>\"\",OFFSET(DE104_9!$O$26,ROWS($O$26:O78)-1,COLUMNS($O$26:O78)-1),\"\")","v":""},{"$f":"IF(OFFSET(DE104_9!$P$26,ROWS($P$26:P78)-1,COLUMNS($P$26:P78)-1)<>\"\",OFFSET(DE104_9!$P$26,ROWS($P$26:P78)-1,COLUMNS($P$26:P78)-1),\"\")","v":151000},{"$f":"IF(OFFSET(DE104_9!$Q$26,ROWS($Q$26:Q78)-1,COLUMNS($Q$26:Q78)-1)<>\"\",OFFSET(DE104_9!$Q$26,ROWS($Q$26:Q78)-1,COLUMNS($Q$26:Q78)-1),\"\")","v":"DR-306"},{"$f":"IF(OFFSET(DE104_9!$R$26,ROWS($R$26:R78)-1,COLUMNS($R$26:R78)-1)<>\"\",OFFSET(DE104_9!$R$26,ROWS($R$26:R78)-1,COLUMNS($R$26:R78)-1),\"\")","v":34.700000000000003},{"$f":"IF(OFFSET(DE104_9!$S$26,ROWS($S$26:S78)-1,COLUMNS($S$26:S78)-1)<>\"\",OFFSET(DE104_9!$S$26,ROWS($S$26:S78)-1,COLUMNS($S$26:S78)-1),\"\")","v":0.4},{"$f":"IF(OFFSET(DE104_9!$T$26,ROWS($T$26:T78)-1,COLUMNS($T$26:T78)-1)<>\"\",OFFSET(DE104_9!$T$26,ROWS($T$26:T78)-1,COLUMNS($T$26:T78)-1),\"\")","v":""}]
[{"$f":"IF(OFFSET(DE104_9!$C$26,ROWS($C$26:C79)-1,COLUMNS($C$26:C79)-1)<>\"\",OFFSET(DE104_9!$C$26,ROWS($C$26:C79)-1,COLUMNS($C$26:C79)-1),\"\")","v":""},{"$f":"IF(OFFSET(DE104_9!$D$26,ROWS($D$26:D79)-1,COLUMNS($D$26:D79)-1)<>\"\",OFFSET(DE104_9!$D$26,ROWS($D$26:D79)-1,COLUMNS($D$26:D79)-1),\"\")","v":""},{"$f":"IF(OFFSET(DE104_9!$E$26,ROWS($E$26:E79)-1,COLUMNS($E$26:E79)-1)<>\"\",OFFSET(DE104_9!$E$26,ROWS($E$26:E79)-1,COLUMNS($E$26:E79)-1),\"\")","v":""},{"$f":"IF(OFFSET(DE104_9!$F$26,ROWS($F$26:F79)-1,COLUMNS($F$26:F79)-1)<>\"\",OFFSET(DE104_9!$F$26,ROWS($F$26:F79)-1,COLUMNS($F$26:F79)-1),\"\")","v":""},{"$f":"IF(OFFSET(DE104_9!$G$26,ROWS($G$26:G79)-1,COLUMNS($G$26:G79)-1)<>\"\",OFFSET(DE104_9!$G$26,ROWS($G$26:G79)-1,COLUMNS($G$26:G79)-1),\"\")","v":""},{"$f":"IF(OFFSET(DE104_9!$H$26,ROWS($H$26:H79)-1,COLUMNS($H$26:H79)-1)<>\"\",OFFSET(DE104_9!$H$26,ROWS($H$26:H79)-1,COLUMNS($H$26:H79)-1),\"\")","v":" "},{"$f":"IF(OFFSET(DE104_9!$I$26,ROWS($I$26:I79)-1,COLUMNS($I$26:I79)-1)<>\"\",OFFSET(DE104_9!$I$26,ROWS($I$26:I79)-1,COLUMNS($I$26:I79)-1),\"\")","v":""},{"$f":"IF(OFFSET(DE104_9!$J$26,ROWS($J$26:J79)-1,COLUMNS($J$26:J79)-1)<>\"\",OFFSET(DE104_9!$J$26,ROWS($J$26:J79)-1,COLUMNS($J$26:J79)-1),\"\")","v":""},{"$f":"IF(OFFSET(DE104_9!$K$26,ROWS($K$26:K79)-1,COLUMNS($K$26:K79)-1)<>\"\",OFFSET(DE104_9!$K$26,ROWS($K$26:K79)-1,COLUMNS($K$26:K79)-1),\"\")","v":""},{"$f":"IF(OFFSET(DE104_9!$L$26,ROWS($L$26:L79)-1,COLUMNS($L$26:L79)-1)<>\"\",OFFSET(DE104_9!$L$26,ROWS($L$26:L79)-1,COLUMNS($L$26:L79)-1),\"\")","v":""},{"$f":"IF(OFFSET(DE104_9!$M$26,ROWS($M$26:M79)-1,COLUMNS($M$26:M79)-1)<>\"\",OFFSET(DE104_9!$M$26,ROWS($M$26:M79)-1,COLUMNS($M$26:M79)-1),\"\")","v":""},{"$f":"IF(OFFSET(DE104_9!$N$26,ROWS($N$26:N79)-1,COLUMNS($N$26:N79)-1)<>\"\",OFFSET(DE104_9!$N$26,ROWS($N$26:N79)-1,COLUMNS($N$26:N79)-1),\"\")","v":""},{"$f":"IF(OFFSET(DE104_9!$O$26,ROWS($O$26:O79)-1,COLUMNS($O$26:O79)-1)<>\"\",OFFSET(DE104_9!$O$26,ROWS($O$26:O79)-1,COLUMNS($O$26:O79)-1),\"\")","v":""},{"$f":"IF(OFFSET(DE104_9!$P$26,ROWS($P$26:P79)-1,COLUMNS($P$26:P79)-1)<>\"\",OFFSET(DE104_9!$P$26,ROWS($P$26:P79)-1,COLUMNS($P$26:P79)-1),\"\")","v":151335},{"$f":"IF(OFFSET(DE104_9!$Q$26,ROWS($Q$26:Q79)-1,COLUMNS($Q$26:Q79)-1)<>\"\",OFFSET(DE104_9!$Q$26,ROWS($Q$26:Q79)-1,COLUMNS($Q$26:Q79)-1),\"\")","v":"DR-306"},{"$f":"IF(OFFSET(DE104_9!$R$26,ROWS($R$26:R79)-1,COLUMNS($R$26:R79)-1)<>\"\",OFFSET(DE104_9!$R$26,ROWS($R$26:R79)-1,COLUMNS($R$26:R79)-1),\"\")","v":" "},{"$f":"IF(OFFSET(DE104_9!$S$26,ROWS($S$26:S79)-1,COLUMNS($S$26:S79)-1)<>\"\",OFFSET(DE104_9!$S$26,ROWS($S$26:S79)-1,COLUMNS($S$26:S79)-1),\"\")","v":0.4},{"$f":"IF(OFFSET(DE104_9!$T$26,ROWS($T$26:T79)-1,COLUMNS($T$26:T79)-1)<>\"\",OFFSET(DE104_9!$T$26,ROWS($T$26:T79)-1,COLUMNS($T$26:T79)-1),\"\")","v":""}]
[{"$f":"IF(OFFSET(DE104_9!$C$26,ROWS($C$26:C80)-1,COLUMNS($C$26:C80)-1)<>\"\",OFFSET(DE104_9!$C$26,ROWS($C$26:C80)-1,COLUMNS($C$26:C80)-1),\"\")","v":30},{"$f":"IF(OFFSET(DE104_9!$D$26,ROWS($D$26:D80)-1,COLUMNS($D$26:D80)-1)<>\"\",OFFSET(DE104_9!$D$26,ROWS($D$26:D80)-1,COLUMNS($D$26:D80)-1),\"\")","v":"EBL"},{"$f":"IF(OFFSET(DE104_9!$E$26,ROWS($E$26:E80)-1,COLUMNS($E$26:E80)-1)<>\"\",OFFSET(DE104_9!$E$26,ROWS($E$26:E80)-1,COLUMNS($E$26:E80)-1),\"\")","v":151335},{"$f":"IF(OFFSET(DE104_9!$F$26,ROWS($F$26:F80)-1,COLUMNS($F$26:F80)-1)<>\"\",OFFSET(DE104_9!$F$26,ROWS($F$26:F80)-1,COLUMNS($F$26:F80)-1),\"\")","v":151670},{"$f":"IF(OFFSET(DE104_9!$G$26,ROWS($G$26:G80)-1,COLUMNS($G$26:G80)-1)<>\"\",OFFSET(DE104_9!$G$26,ROWS($G$26:G80)-1,COLUMNS($G$26:G80)-1),\"\")","v":"RT"},{"$f":"IF(OFFSET(DE104_9!$H$26,ROWS($H$26:H80)-1,COLUMNS($H$26:H80)-1)<>\"\",OFFSET(DE104_9!$H$26,ROWS($H$26:H80)-1,COLUMNS($H$26:H80)-1),\"\")","v":42},{"$f":"IF(OFFSET(DE104_9!$I$26,ROWS($I$26:I80)-1,COLUMNS($I$26:I80)-1)<>\"\",OFFSET(DE104_9!$I$26,ROWS($I$26:I80)-1,COLUMNS($I$26:I80)-1),\"\")","v":4},{"$f":"IF(OFFSET(DE104_9!$J$26,ROWS($J$26:J80)-1,COLUMNS($J$26:J80)-1)<>\"\",OFFSET(DE104_9!$J$26,ROWS($J$26:J80)-1,COLUMNS($J$26:J80)-1),\"\")","v":375},{"$f":"IF(OFFSET(DE104_9!$K$26,ROWS($K$26:K80)-1,COLUMNS($K$26:K80)-1)<>\"\",OFFSET(DE104_9!$K$26,ROWS($K$26:K80)-1,COLUMNS($K$26:K80)-1),\"\")","v":""},{"$f":"IF(OFFSET(DE104_9!$L$26,ROWS($L$26:L80)-1,COLUMNS($L$26:L80)-1)<>\"\",OFFSET(DE104_9!$L$26,ROWS($L$26:L80)-1,COLUMNS($L$26:L80)-1),\"\")","v":""},{"$f":"IF(OFFSET(DE104_9!$M$26,ROWS($M$26:M80)-1,COLUMNS($M$26:M80)-1)<>\"\",OFFSET(DE104_9!$M$26,ROWS($M$26:M80)-1,COLUMNS($M$26:M80)-1),\"\")","v":""},{"$f":"IF(OFFSET(DE104_9!$N$26,ROWS($N$26:N80)-1,COLUMNS($N$26:N80)-1)<>\"\",OFFSET(DE104_9!$N$26,ROWS($N$26:N80)-1,COLUMNS($N$26:N80)-1),\"\")","v":""},{"$f":"IF(OFFSET(DE104_9!$O$26,ROWS($O$26:O80)-1,COLUMNS($O$26:O80)-1)<>\"\",OFFSET(DE104_9!$O$26,ROWS($O$26:O80)-1,COLUMNS($O$26:O80)-1),\"\")","v":""},{"$f":"IF(OFFSET(DE104_9!$P$26,ROWS($P$26:P80)-1,COLUMNS($P$26:P80)-1)<>\"\",OFFSET(DE104_9!$P$26,ROWS($P$26:P80)-1,COLUMNS($P$26:P80)-1),\"\")","v":151335},{"$f":"IF(OFFSET(DE104_9!$Q$26,ROWS($Q$26:Q80)-1,COLUMNS($Q$26:Q80)-1)<>\"\",OFFSET(DE104_9!$Q$26,ROWS($Q$26:Q80)-1,COLUMNS($Q$26:Q80)-1),\"\")","v":"DR-306"},{"$f":"IF(OFFSET(DE104_9!$R$26,ROWS($R$26:R80)-1,COLUMNS($R$26:R80)-1)<>\"\",OFFSET(DE104_9!$R$26,ROWS($R$26:R80)-1,COLUMNS($R$26:R80)-1),\"\")","v":34.700000000000003},{"$f":"IF(OFFSET(DE104_9!$S$26,ROWS($S$26:S80)-1,COLUMNS($S$26:S80)-1)<>\"\",OFFSET(DE104_9!$S$26,ROWS($S$26:S80)-1,COLUMNS($S$26:S80)-1),\"\")","v":0.4},{"$f":"IF(OFFSET(DE104_9!$T$26,ROWS($T$26:T80)-1,COLUMNS($T$26:T80)-1)<>\"\",OFFSET(DE104_9!$T$26,ROWS($T$26:T80)-1,COLUMNS($T$26:T80)-1),\"\")","v":""}]
[{"$f":"IF(OFFSET(DE104_9!$C$26,ROWS($C$26:C81)-1,COLUMNS($C$26:C81)-1)<>\"\",OFFSET(DE104_9!$C$26,ROWS($C$26:C81)-1,COLUMNS($C$26:C81)-1),\"\")","v":""},{"$f":"IF(OFFSET(DE104_9!$D$26,ROWS($D$26:D81)-1,COLUMNS($D$26:D81)-1)<>\"\",OFFSET(DE104_9!$D$26,ROWS($D$26:D81)-1,COLUMNS($D$26:D81)-1),\"\")","v":""},{"$f":"IF(OFFSET(DE104_9!$E$26,ROWS($E$26:E81)-1,COLUMNS($E$26:E81)-1)<>\"\",OFFSET(DE104_9!$E$26,ROWS($E$26:E81)-1,COLUMNS($E$26:E81)-1),\"\")","v":""},{"$f":"IF(OFFSET(DE104_9!$F$26,ROWS($F$26:F81)-1,COLUMNS($F$26:F81)-1)<>\"\",OFFSET(DE104_9!$F$26,ROWS($F$26:F81)-1,COLUMNS($F$26:F81)-1),\"\")","v":""},{"$f":"IF(OFFSET(DE104_9!$G$26,ROWS($G$26:G81)-1,COLUMNS($G$26:G81)-1)<>\"\",OFFSET(DE104_9!$G$26,ROWS($G$26:G81)-1,COLUMNS($G$26:G81)-1),\"\")","v":""},{"$f":"IF(OFFSET(DE104_9!$H$26,ROWS($H$26:H81)-1,COLUMNS($H$26:H81)-1)<>\"\",OFFSET(DE104_9!$H$26,ROWS($H$26:H81)-1,COLUMNS($H$26:H81)-1),\"\")","v":" "},{"$f":"IF(OFFSET(DE104_9!$I$26,ROWS($I$26:I81)-1,COLUMNS($I$26:I81)-1)<>\"\",OFFSET(DE104_9!$I$26,ROWS($I$26:I81)-1,COLUMNS($I$26:I81)-1),\"\")","v":""},{"$f":"IF(OFFSET(DE104_9!$J$26,ROWS($J$26:J81)-1,COLUMNS($J$26:J81)-1)<>\"\",OFFSET(DE104_9!$J$26,ROWS($J$26:J81)-1,COLUMNS($J$26:J81)-1),\"\")","v":""},{"$f":"IF(OFFSET(DE104_9!$K$26,ROWS($K$26:K81)-1,COLUMNS($K$26:K81)-1)<>\"\",OFFSET(DE104_9!$K$26,ROWS($K$26:K81)-1,COLUMNS($K$26:K81)-1),\"\")","v":""},{"$f":"IF(OFFSET(DE104_9!$L$26,ROWS($L$26:L81)-1,COLUMNS($L$26:L81)-1)<>\"\",OFFSET(DE104_9!$L$26,ROWS($L$26:L81)-1,COLUMNS($L$26:L81)-1),\"\")","v":""},{"$f":"IF(OFFSET(DE104_9!$M$26,ROWS($M$26:M81)-1,COLUMNS($M$26:M81)-1)<>\"\",OFFSET(DE104_9!$M$26,ROWS($M$26:M81)-1,COLUMNS($M$26:M81)-1),\"\")","v":""},{"$f":"IF(OFFSET(DE104_9!$N$26,ROWS($N$26:N81)-1,COLUMNS($N$26:N81)-1)<>\"\",OFFSET(DE104_9!$N$26,ROWS($N$26:N81)-1,COLUMNS($N$26:N81)-1),\"\")","v":""},{"$f":"IF(OFFSET(DE104_9!$O$26,ROWS($O$26:O81)-1,COLUMNS($O$26:O81)-1)<>\"\",OFFSET(DE104_9!$O$26,ROWS($O$26:O81)-1,COLUMNS($O$26:O81)-1),\"\")","v":""},{"$f":"IF(OFFSET(DE104_9!$P$26,ROWS($P$26:P81)-1,COLUMNS($P$26:P81)-1)<>\"\",OFFSET(DE104_9!$P$26,ROWS($P$26:P81)-1,COLUMNS($P$26:P81)-1),\"\")","v":151670},{"$f":"IF(OFFSET(DE104_9!$Q$26,ROWS($Q$26:Q81)-1,COLUMNS($Q$26:Q81)-1)<>\"\",OFFSET(DE104_9!$Q$26,ROWS($Q$26:Q81)-1,COLUMNS($Q$26:Q81)-1),\"\")","v":"DR-306"},{"$f":"IF(OFFSET(DE104_9!$R$26,ROWS($R$26:R81)-1,COLUMNS($R$26:R81)-1)<>\"\",OFFSET(DE104_9!$R$26,ROWS($R$26:R81)-1,COLUMNS($R$26:R81)-1),\"\")","v":" "},{"$f":"IF(OFFSET(DE104_9!$S$26,ROWS($S$26:S81)-1,COLUMNS($S$26:S81)-1)<>\"\",OFFSET(DE104_9!$S$26,ROWS($S$26:S81)-1,COLUMNS($S$26:S81)-1),\"\")","v":0.4},{"$f":"IF(OFFSET(DE104_9!$T$26,ROWS($T$26:T81)-1,COLUMNS($T$26:T81)-1)<>\"\",OFFSET(DE104_9!$T$26,ROWS($T$26:T81)-1,COLUMNS($T$26:T81)-1),\"\")","v":""}]
[{"$f":"IF(OFFSET(DE104_9!$C$26,ROWS($C$26:C82)-1,COLUMNS($C$26:C82)-1)<>\"\",OFFSET(DE104_9!$C$26,ROWS($C$26:C82)-1,COLUMNS($C$26:C82)-1),\"\")","v":31},{"$f":"IF(OFFSET(DE104_9!$D$26,ROWS($D$26:D82)-1,COLUMNS($D$26:D82)-1)<>\"\",OFFSET(DE104_9!$D$26,ROWS($D$26:D82)-1,COLUMNS($D$26:D82)-1),\"\")","v":"WBL"},{"$f":"IF(OFFSET(DE104_9!$E$26,ROWS($E$26:E82)-1,COLUMNS($E$26:E82)-1)<>\"\",OFFSET(DE104_9!$E$26,ROWS($E$26:E82)-1,COLUMNS($E$26:E82)-1),\"\")","v":138900},{"$f":"IF(OFFSET(DE104_9!$F$26,ROWS($F$26:F82)-1,COLUMNS($F$26:F82)-1)<>\"\",OFFSET(DE104_9!$F$26,ROWS($F$26:F82)-1,COLUMNS($F$26:F82)-1),\"\")","v":139400},{"$f":"IF(OFFSET(DE104_9!$G$26,ROWS($G$26:G82)-1,COLUMNS($G$26:G82)-1)<>\"\",OFFSET(DE104_9!$G$26,ROWS($G$26:G82)-1,COLUMNS($G$26:G82)-1),\"\")","v":"LT"},{"$f":"IF(OFFSET(DE104_9!$H$26,ROWS($H$26:H82)-1,COLUMNS($H$26:H82)-1)<>\"\",OFFSET(DE104_9!$H$26,ROWS($H$26:H82)-1,COLUMNS($H$26:H82)-1),\"\")","v":42},{"$f":"IF(OFFSET(DE104_9!$I$26,ROWS($I$26:I82)-1,COLUMNS($I$26:I82)-1)<>\"\",OFFSET(DE104_9!$I$26,ROWS($I$26:I82)-1,COLUMNS($I$26:I82)-1),\"\")","v":4},{"$f":"IF(OFFSET(DE104_9!$J$26,ROWS($J$26:J82)-1,COLUMNS($J$26:J82)-1)<>\"\",OFFSET(DE104_9!$J$26,ROWS($J$26:J82)-1,COLUMNS($J$26:J82)-1),\"\")","v":540},{"$f":"IF(OFFSET(DE104_9!$K$26,ROWS($K$26:K82)-1,COLUMNS($K$26:K82)-1)<>\"\",OFFSET(DE104_9!$K$26,ROWS($K$26:K82)-1,COLUMNS($K$26:K82)-1),\"\")","v":""},{"$f":"IF(OFFSET(DE104_9!$L$26,ROWS($L$26:L82)-1,COLUMNS($L$26:L82)-1)<>\"\",OFFSET(DE104_9!$L$26,ROWS($L$26:L82)-1,COLUMNS($L$26:L82)-1),\"\")","v":""},{"$f":"IF(OFFSET(DE104_9!$M$26,ROWS($M$26:M82)-1,COLUMNS($M$26:M82)-1)<>\"\",OFFSET(DE104_9!$M$26,ROWS($M$26:M82)-1,COLUMNS($M$26:M82)-1),\"\")","v":""},{"$f":"IF(OFFSET(DE104_9!$N$26,ROWS($N$26:N82)-1,COLUMNS($N$26:N82)-1)<>\"\",OFFSET(DE104_9!$N$26,ROWS($N$26:N82)-1,COLUMNS($N$26:N82)-1),\"\")","v":""},{"$f":"IF(OFFSET(DE104_9!$O$26,ROWS($O$26:O82)-1,COLUMNS($O$26:O82)-1)<>\"\",OFFSET(DE104_9!$O$26,ROWS($O$26:O82)-1,COLUMNS($O$26:O82)-1),\"\")","v":""},{"$f":"IF(OFFSET(DE104_9!$P$26,ROWS($P$26:P82)-1,COLUMNS($P$26:P82)-1)<>\"\",OFFSET(DE104_9!$P$26,ROWS($P$26:P82)-1,COLUMNS($P$26:P82)-1),\"\")","v":138900},{"$f":"IF(OFFSET(DE104_9!$Q$26,ROWS($Q$26:Q82)-1,COLUMNS($Q$26:Q82)-1)<>\"\",OFFSET(DE104_9!$Q$26,ROWS($Q$26:Q82)-1,COLUMNS($Q$26:Q82)-1),\"\")","v":"DR-306"},{"$f":"IF(OFFSET(DE104_9!$R$26,ROWS($R$26:R82)-1,COLUMNS($R$26:R82)-1)<>\"\",OFFSET(DE104_9!$R$26,ROWS($R$26:R82)-1,COLUMNS($R$26:R82)-1),\"\")","v":50},{"$f":"IF(OFFSET(DE104_9!$S$26,ROWS($S$26:S82)-1,COLUMNS($S$26:S82)-1)<>\"\",OFFSET(DE104_9!$S$26,ROWS($S$26:S82)-1,COLUMNS($S$26:S82)-1),\"\")","v":0.4},{"$f":"IF(OFFSET(DE104_9!$T$26,ROWS($T$26:T82)-1,COLUMNS($T$26:T82)-1)<>\"\",OFFSET(DE104_9!$T$26,ROWS($T$26:T82)-1,COLUMNS($T$26:T82)-1),\"\")","v":""}]
[{"$f":"IF(OFFSET(DE104_9!$C$26,ROWS($C$26:C83)-1,COLUMNS($C$26:C83)-1)<>\"\",OFFSET(DE104_9!$C$26,ROWS($C$26:C83)-1,COLUMNS($C$26:C83)-1),\"\")","v":""},{"$f":"IF(OFFSET(DE104_9!$D$26,ROWS($D$26:D83)-1,COLUMNS($D$26:D83)-1)<>\"\",OFFSET(DE104_9!$D$26,ROWS($D$26:D83)-1,COLUMNS($D$26:D83)-1),\"\")","v":""},{"$f":"IF(OFFSET(DE104_9!$E$26,ROWS($E$26:E83)-1,COLUMNS($E$26:E83)-1)<>\"\",OFFSET(DE104_9!$E$26,ROWS($E$26:E83)-1,COLUMNS($E$26:E83)-1),\"\")","v":""},{"$f":"IF(OFFSET(DE104_9!$F$26,ROWS($F$26:F83)-1,COLUMNS($F$26:F83)-1)<>\"\",OFFSET(DE104_9!$F$26,ROWS($F$26:F83)-1,COLUMNS($F$26:F83)-1),\"\")","v":""},{"$f":"IF(OFFSET(DE104_9!$G$26,ROWS($G$26:G83)-1,COLUMNS($G$26:G83)-1)<>\"\",OFFSET(DE104_9!$G$26,ROWS($G$26:G83)-1,COLUMNS($G$26:G83)-1),\"\")","v":""},{"$f":"IF(OFFSET(DE104_9!$H$26,ROWS($H$26:H83)-1,COLUMNS($H$26:H83)-1)<>\"\",OFFSET(DE104_9!$H$26,ROWS($H$26:H83)-1,COLUMNS($H$26:H83)-1),\"\")","v":" "},{"$f":"IF(OFFSET(DE104_9!$I$26,ROWS($I$26:I83)-1,COLUMNS($I$26:I83)-1)<>\"\",OFFSET(DE104_9!$I$26,ROWS($I$26:I83)-1,COLUMNS($I$26:I83)-1),\"\")","v":""},{"$f":"IF(OFFSET(DE104_9!$J$26,ROWS($J$26:J83)-1,COLUMNS($J$26:J83)-1)<>\"\",OFFSET(DE104_9!$J$26,ROWS($J$26:J83)-1,COLUMNS($J$26:J83)-1),\"\")","v":""},{"$f":"IF(OFFSET(DE104_9!$K$26,ROWS($K$26:K83)-1,COLUMNS($K$26:K83)-1)<>\"\",OFFSET(DE104_9!$K$26,ROWS($K$26:K83)-1,COLUMNS($K$26:K83)-1),\"\")","v":""},{"$f":"IF(OFFSET(DE104_9!$L$26,ROWS($L$26:L83)-1,COLUMNS($L$26:L83)-1)<>\"\",OFFSET(DE104_9!$L$26,ROWS($L$26:L83)-1,COLUMNS($L$26:L83)-1),\"\")","v":""},{"$f":"IF(OFFSET(DE104_9!$M$26,ROWS($M$26:M83)-1,COLUMNS($M$26:M83)-1)<>\"\",OFFSET(DE104_9!$M$26,ROWS($M$26:M83)-1,COLUMNS($M$26:M83)-1),\"\")","v":""},{"$f":"IF(OFFSET(DE104_9!$N$26,ROWS($N$26:N83)-1,COLUMNS($N$26:N83)-1)<>\"\",OFFSET(DE104_9!$N$26,ROWS($N$26:N83)-1,COLUMNS($N$26:N83)-1),\"\")","v":""},{"$f":"IF(OFFSET(DE104_9!$O$26,ROWS($O$26:O83)-1,COLUMNS($O$26:O83)-1)<>\"\",OFFSET(DE104_9!$O$26,ROWS($O$26:O83)-1,COLUMNS($O$26:O83)-1),\"\")","v":""},{"$f":"IF(OFFSET(DE104_9!$P$26,ROWS($P$26:P83)-1,COLUMNS($P$26:P83)-1)<>\"\",OFFSET(DE104_9!$P$26,ROWS($P$26:P83)-1,COLUMNS($P$26:P83)-1),\"\")","v":139400},{"$f":"IF(OFFSET(DE104_9!$Q$26,ROWS($Q$26:Q83)-1,COLUMNS($Q$26:Q83)-1)<>\"\",OFFSET(DE104_9!$Q$26,ROWS($Q$26:Q83)-1,COLUMNS($Q$26:Q83)-1),\"\")","v":"DR-306"},{"$f":"IF(OFFSET(DE104_9!$R$26,ROWS($R$26:R83)-1,COLUMNS($R$26:R83)-1)<>\"\",OFFSET(DE104_9!$R$26,ROWS($R$26:R83)-1,COLUMNS($R$26:R83)-1),\"\")","v":" "},{"$f":"IF(OFFSET(DE104_9!$S$26,ROWS($S$26:S83)-1,COLUMNS($S$26:S83)-1)<>\"\",OFFSET(DE104_9!$S$26,ROWS($S$26:S83)-1,COLUMNS($S$26:S83)-1),\"\")","v":0.4},{"$f":"IF(OFFSET(DE104_9!$T$26,ROWS($T$26:T83)-1,COLUMNS($T$26:T83)-1)<>\"\",OFFSET(DE104_9!$T$26,ROWS($T$26:T83)-1,COLUMNS($T$26:T83)-1),\"\")","v":""}]
[{"$f":"IF(OFFSET(DE104_9!$C$26,ROWS($C$26:C84)-1,COLUMNS($C$26:C84)-1)<>\"\",OFFSET(DE104_9!$C$26,ROWS($C$26:C84)-1,COLUMNS($C$26:C84)-1),\"\")","v":32},{"$f":"IF(OFFSET(DE104_9!$D$26,ROWS($D$26:D84)-1,COLUMNS($D$26:D84)-1)<>\"\",OFFSET(DE104_9!$D$26,ROWS($D$26:D84)-1,COLUMNS($D$26:D84)-1),\"\")","v":"WBL"},{"$f":"IF(OFFSET(DE104_9!$E$26,ROWS($E$26:E84)-1,COLUMNS($E$26:E84)-1)<>\"\",OFFSET(DE104_9!$E$26,ROWS($E$26:E84)-1,COLUMNS($E$26:E84)-1),\"\")","v":139400},{"$f":"IF(OFFSET(DE104_9!$F$26,ROWS($F$26:F84)-1,COLUMNS($F$26:F84)-1)<>\"\",OFFSET(DE104_9!$F$26,ROWS($F$26:F84)-1,COLUMNS($F$26:F84)-1),\"\")","v":139745},{"$f":"IF(OFFSET(DE104_9!$G$26,ROWS($G$26:G84)-1,COLUMNS($G$26:G84)-1)<>\"\",OFFSET(DE104_9!$G$26,ROWS($G$26:G84)-1,COLUMNS($G$26:G84)-1),\"\")","v":"LT"},{"$f":"IF(OFFSET(DE104_9!$H$26,ROWS($H$26:H84)-1,COLUMNS($H$26:H84)-1)<>\"\",OFFSET(DE104_9!$H$26,ROWS($H$26:H84)-1,COLUMNS($H$26:H84)-1),\"\")","v":42},{"$f":"IF(OFFSET(DE104_9!$I$26,ROWS($I$26:I84)-1,COLUMNS($I$26:I84)-1)<>\"\",OFFSET(DE104_9!$I$26,ROWS($I$26:I84)-1,COLUMNS($I$26:I84)-1),\"\")","v":4},{"$f":"IF(OFFSET(DE104_9!$J$26,ROWS($J$26:J84)-1,COLUMNS($J$26:J84)-1)<>\"\",OFFSET(DE104_9!$J$26,ROWS($J$26:J84)-1,COLUMNS($J$26:J84)-1),\"\")","v":385},{"$f":"IF(OFFSET(DE104_9!$K$26,ROWS($K$26:K84)-1,COLUMNS($K$26:K84)-1)<>\"\",OFFSET(DE104_9!$K$26,ROWS($K$26:K84)-1,COLUMNS($K$26:K84)-1),\"\")","v":""},{"$f":"IF(OFFSET(DE104_9!$L$26,ROWS($L$26:L84)-1,COLUMNS($L$26:L84)-1)<>\"\",OFFSET(DE104_9!$L$26,ROWS($L$26:L84)-1,COLUMNS($L$26:L84)-1),\"\")","v":""},{"$f":"IF(OFFSET(DE104_9!$M$26,ROWS($M$26:M84)-1,COLUMNS($M$26:M84)-1)<>\"\",OFFSET(DE104_9!$M$26,ROWS($M$26:M84)-1,COLUMNS($M$26:M84)-1),\"\")","v":""},{"$f":"IF(OFFSET(DE104_9!$N$26,ROWS($N$26:N84)-1,COLUMNS($N$26:N84)-1)<>\"\",OFFSET(DE104_9!$N$26,ROWS($N$26:N84)-1,COLUMNS($N$26:N84)-1),\"\")","v":""},{"$f":"IF(OFFSET(DE104_9!$O$26,ROWS($O$26:O84)-1,COLUMNS($O$26:O84)-1)<>\"\",OFFSET(DE104_9!$O$26,ROWS($O$26:O84)-1,COLUMNS($O$26:O84)-1),\"\")","v":""},{"$f":"IF(OFFSET(DE104_9!$P$26,ROWS($P$26:P84)-1,COLUMNS($P$26:P84)-1)<>\"\",OFFSET(DE104_9!$P$26,ROWS($P$26:P84)-1,COLUMNS($P$26:P84)-1),\"\")","v":139400},{"$f":"IF(OFFSET(DE104_9!$Q$26,ROWS($Q$26:Q84)-1,COLUMNS($Q$26:Q84)-1)<>\"\",OFFSET(DE104_9!$Q$26,ROWS($Q$26:Q84)-1,COLUMNS($Q$26:Q84)-1),\"\")","v":"DR-306"},{"$f":"IF(OFFSET(DE104_9!$R$26,ROWS($R$26:R84)-1,COLUMNS($R$26:R84)-1)<>\"\",OFFSET(DE104_9!$R$26,ROWS($R$26:R84)-1,COLUMNS($R$26:R84)-1),\"\")","v":35.6},{"$f":"IF(OFFSET(DE104_9!$S$26,ROWS($S$26:S84)-1,COLUMNS($S$26:S84)-1)<>\"\",OFFSET(DE104_9!$S$26,ROWS($S$26:S84)-1,COLUMNS($S$26:S84)-1),\"\")","v":0.4},{"$f":"IF(OFFSET(DE104_9!$T$26,ROWS($T$26:T84)-1,COLUMNS($T$26:T84)-1)<>\"\",OFFSET(DE104_9!$T$26,ROWS($T$26:T84)-1,COLUMNS($T$26:T84)-1),\"\")","v":""}]
[{"$f":"IF(OFFSET(DE104_9!$C$26,ROWS($C$26:C85)-1,COLUMNS($C$26:C85)-1)<>\"\",OFFSET(DE104_9!$C$26,ROWS($C$26:C85)-1,COLUMNS($C$26:C85)-1),\"\")","v":""},{"$f":"IF(OFFSET(DE104_9!$D$26,ROWS($D$26:D85)-1,COLUMNS($D$26:D85)-1)<>\"\",OFFSET(DE104_9!$D$26,ROWS($D$26:D85)-1,COLUMNS($D$26:D85)-1),\"\")","v":""},{"$f":"IF(OFFSET(DE104_9!$E$26,ROWS($E$26:E85)-1,COLUMNS($E$26:E85)-1)<>\"\",OFFSET(DE104_9!$E$26,ROWS($E$26:E85)-1,COLUMNS($E$26:E85)-1),\"\")","v":""},{"$f":"IF(OFFSET(DE104_9!$F$26,ROWS($F$26:F85)-1,COLUMNS($F$26:F85)-1)<>\"\",OFFSET(DE104_9!$F$26,ROWS($F$26:F85)-1,COLUMNS($F$26:F85)-1),\"\")","v":""},{"$f":"IF(OFFSET(DE104_9!$G$26,ROWS($G$26:G85)-1,COLUMNS($G$26:G85)-1)<>\"\",OFFSET(DE104_9!$G$26,ROWS($G$26:G85)-1,COLUMNS($G$26:G85)-1),\"\")","v":""},{"$f":"IF(OFFSET(DE104_9!$H$26,ROWS($H$26:H85)-1,COLUMNS($H$26:H85)-1)<>\"\",OFFSET(DE104_9!$H$26,ROWS($H$26:H85)-1,COLUMNS($H$26:H85)-1),\"\")","v":" "},{"$f":"IF(OFFSET(DE104_9!$I$26,ROWS($I$26:I85)-1,COLUMNS($I$26:I85)-1)<>\"\",OFFSET(DE104_9!$I$26,ROWS($I$26:I85)-1,COLUMNS($I$26:I85)-1),\"\")","v":""},{"$f":"IF(OFFSET(DE104_9!$J$26,ROWS($J$26:J85)-1,COLUMNS($J$26:J85)-1)<>\"\",OFFSET(DE104_9!$J$26,ROWS($J$26:J85)-1,COLUMNS($J$26:J85)-1),\"\")","v":""},{"$f":"IF(OFFSET(DE104_9!$K$26,ROWS($K$26:K85)-1,COLUMNS($K$26:K85)-1)<>\"\",OFFSET(DE104_9!$K$26,ROWS($K$26:K85)-1,COLUMNS($K$26:K85)-1),\"\")","v":""},{"$f":"IF(OFFSET(DE104_9!$L$26,ROWS($L$26:L85)-1,COLUMNS($L$26:L85)-1)<>\"\",OFFSET(DE104_9!$L$26,ROWS($L$26:L85)-1,COLUMNS($L$26:L85)-1),\"\")","v":""},{"$f":"IF(OFFSET(DE104_9!$M$26,ROWS($M$26:M85)-1,COLUMNS($M$26:M85)-1)<>\"\",OFFSET(DE104_9!$M$26,ROWS($M$26:M85)-1,COLUMNS($M$26:M85)-1),\"\")","v":""},{"$f":"IF(OFFSET(DE104_9!$N$26,ROWS($N$26:N85)-1,COLUMNS($N$26:N85)-1)<>\"\",OFFSET(DE104_9!$N$26,ROWS($N$26:N85)-1,COLUMNS($N$26:N85)-1),\"\")","v":""},{"$f":"IF(OFFSET(DE104_9!$O$26,ROWS($O$26:O85)-1,COLUMNS($O$26:O85)-1)<>\"\",OFFSET(DE104_9!$O$26,ROWS($O$26:O85)-1,COLUMNS($O$26:O85)-1),\"\")","v":""},{"$f":"IF(OFFSET(DE104_9!$P$26,ROWS($P$26:P85)-1,COLUMNS($P$26:P85)-1)<>\"\",OFFSET(DE104_9!$P$26,ROWS($P$26:P85)-1,COLUMNS($P$26:P85)-1),\"\")","v":139745},{"$f":"IF(OFFSET(DE104_9!$Q$26,ROWS($Q$26:Q85)-1,COLUMNS($Q$26:Q85)-1)<>\"\",OFFSET(DE104_9!$Q$26,ROWS($Q$26:Q85)-1,COLUMNS($Q$26:Q85)-1),\"\")","v":"DR-306"},{"$f":"IF(OFFSET(DE104_9!$R$26,ROWS($R$26:R85)-1,COLUMNS($R$26:R85)-1)<>\"\",OFFSET(DE104_9!$R$26,ROWS($R$26:R85)-1,COLUMNS($R$26:R85)-1),\"\")","v":" "},{"$f":"IF(OFFSET(DE104_9!$S$26,ROWS($S$26:S85)-1,COLUMNS($S$26:S85)-1)<>\"\",OFFSET(DE104_9!$S$26,ROWS($S$26:S85)-1,COLUMNS($S$26:S85)-1),\"\")","v":0.4},{"$f":"IF(OFFSET(DE104_9!$T$26,ROWS($T$26:T85)-1,COLUMNS($T$26:T85)-1)<>\"\",OFFSET(DE104_9!$T$26,ROWS($T$26:T85)-1,COLUMNS($T$26:T85)-1),\"\")","v":""}]
[{"$f":"IF(OFFSET(DE104_9!$C$26,ROWS($C$26:C86)-1,COLUMNS($C$26:C86)-1)<>\"\",OFFSET(DE104_9!$C$26,ROWS($C$26:C86)-1,COLUMNS($C$26:C86)-1),\"\")","v":33},{"$f":"IF(OFFSET(DE104_9!$D$26,ROWS($D$26:D86)-1,COLUMNS($D$26:D86)-1)<>\"\",OFFSET(DE104_9!$D$26,ROWS($D$26:D86)-1,COLUMNS($D$26:D86)-1),\"\")","v":"WBL"},{"$f":"IF(OFFSET(DE104_9!$E$26,ROWS($E$26:E86)-1,COLUMNS($E$26:E86)-1)<>\"\",OFFSET(DE104_9!$E$26,ROWS($E$26:E86)-1,COLUMNS($E$26:E86)-1),\"\")","v":139755},{"$f":"IF(OFFSET(DE104_9!$F$26,ROWS($F$26:F86)-1,COLUMNS($F$26:F86)-1)<>\"\",OFFSET(DE104_9!$F$26,ROWS($F$26:F86)-1,COLUMNS($F$26:F86)-1),\"\")","v":140000},{"$f":"IF(OFFSET(DE104_9!$G$26,ROWS($G$26:G86)-1,COLUMNS($G$26:G86)-1)<>\"\",OFFSET(DE104_9!$G$26,ROWS($G$26:G86)-1,COLUMNS($G$26:G86)-1),\"\")","v":"LT"},{"$f":"IF(OFFSET(DE104_9!$H$26,ROWS($H$26:H86)-1,COLUMNS($H$26:H86)-1)<>\"\",OFFSET(DE104_9!$H$26,ROWS($H$26:H86)-1,COLUMNS($H$26:H86)-1),\"\")","v":42},{"$f":"IF(OFFSET(DE104_9!$I$26,ROWS($I$26:I86)-1,COLUMNS($I$26:I86)-1)<>\"\",OFFSET(DE104_9!$I$26,ROWS($I$26:I86)-1,COLUMNS($I$26:I86)-1),\"\")","v":4},{"$f":"IF(OFFSET(DE104_9!$J$26,ROWS($J$26:J86)-1,COLUMNS($J$26:J86)-1)<>\"\",OFFSET(DE104_9!$J$26,ROWS($J$26:J86)-1,COLUMNS($J$26:J86)-1),\"\")","v":285},{"$f":"IF(OFFSET(DE104_9!$K$26,ROWS($K$26:K86)-1,COLUMNS($K$26:K86)-1)<>\"\",OFFSET(DE104_9!$K$26,ROWS($K$26:K86)-1,COLUMNS($K$26:K86)-1),\"\")","v":""},{"$f":"IF(OFFSET(DE104_9!$L$26,ROWS($L$26:L86)-1,COLUMNS($L$26:L86)-1)<>\"\",OFFSET(DE104_9!$L$26,ROWS($L$26:L86)-1,COLUMNS($L$26:L86)-1),\"\")","v":""},{"$f":"IF(OFFSET(DE104_9!$M$26,ROWS($M$26:M86)-1,COLUMNS($M$26:M86)-1)<>\"\",OFFSET(DE104_9!$M$26,ROWS($M$26:M86)-1,COLUMNS($M$26:M86)-1),\"\")","v":""},{"$f":"IF(OFFSET(DE104_9!$N$26,ROWS($N$26:N86)-1,COLUMNS($N$26:N86)-1)<>\"\",OFFSET(DE104_9!$N$26,ROWS($N$26:N86)-1,COLUMNS($N$26:N86)-1),\"\")","v":""},{"$f":"IF(OFFSET(DE104_9!$O$26,ROWS($O$26:O86)-1,COLUMNS($O$26:O86)-1)<>\"\",OFFSET(DE104_9!$O$26,ROWS($O$26:O86)-1,COLUMNS($O$26:O86)-1),\"\")","v":""},{"$f":"IF(OFFSET(DE104_9!$P$26,ROWS($P$26:P86)-1,COLUMNS($P$26:P86)-1)<>\"\",OFFSET(DE104_9!$P$26,ROWS($P$26:P86)-1,COLUMNS($P$26:P86)-1),\"\")","v":139755},{"$f":"IF(OFFSET(DE104_9!$Q$26,ROWS($Q$26:Q86)-1,COLUMNS($Q$26:Q86)-1)<>\"\",OFFSET(DE104_9!$Q$26,ROWS($Q$26:Q86)-1,COLUMNS($Q$26:Q86)-1),\"\")","v":"DR-306"},{"$f":"IF(OFFSET(DE104_9!$R$26,ROWS($R$26:R86)-1,COLUMNS($R$26:R86)-1)<>\"\",OFFSET(DE104_9!$R$26,ROWS($R$26:R86)-1,COLUMNS($R$26:R86)-1),\"\")","v":26.4},{"$f":"IF(OFFSET(DE104_9!$S$26,ROWS($S$26:S86)-1,COLUMNS($S$26:S86)-1)<>\"\",OFFSET(DE104_9!$S$26,ROWS($S$26:S86)-1,COLUMNS($S$26:S86)-1),\"\")","v":0.4},{"$f":"IF(OFFSET(DE104_9!$T$26,ROWS($T$26:T86)-1,COLUMNS($T$26:T86)-1)<>\"\",OFFSET(DE104_9!$T$26,ROWS($T$26:T86)-1,COLUMNS($T$26:T86)-1),\"\")","v":""}]
[{"$f":"IF(OFFSET(DE104_9!$C$26,ROWS($C$26:C87)-1,COLUMNS($C$26:C87)-1)<>\"\",OFFSET(DE104_9!$C$26,ROWS($C$26:C87)-1,COLUMNS($C$26:C87)-1),\"\")","v":""},{"$f":"IF(OFFSET(DE104_9!$D$26,ROWS($D$26:D87)-1,COLUMNS($D$26:D87)-1)<>\"\",OFFSET(DE104_9!$D$26,ROWS($D$26:D87)-1,COLUMNS($D$26:D87)-1),\"\")","v":""},{"$f":"IF(OFFSET(DE104_9!$E$26,ROWS($E$26:E87)-1,COLUMNS($E$26:E87)-1)<>\"\",OFFSET(DE104_9!$E$26,ROWS($E$26:E87)-1,COLUMNS($E$26:E87)-1),\"\")","v":""},{"$f":"IF(OFFSET(DE104_9!$F$26,ROWS($F$26:F87)-1,COLUMNS($F$26:F87)-1)<>\"\",OFFSET(DE104_9!$F$26,ROWS($F$26:F87)-1,COLUMNS($F$26:F87)-1),\"\")","v":""},{"$f":"IF(OFFSET(DE104_9!$G$26,ROWS($G$26:G87)-1,COLUMNS($G$26:G87)-1)<>\"\",OFFSET(DE104_9!$G$26,ROWS($G$26:G87)-1,COLUMNS($G$26:G87)-1),\"\")","v":""},{"$f":"IF(OFFSET(DE104_9!$H$26,ROWS($H$26:H87)-1,COLUMNS($H$26:H87)-1)<>\"\",OFFSET(DE104_9!$H$26,ROWS($H$26:H87)-1,COLUMNS($H$26:H87)-1),\"\")","v":""},{"$f":"IF(OFFSET(DE104_9!$I$26,ROWS($I$26:I87)-1,COLUMNS($I$26:I87)-1)<>\"\",OFFSET(DE104_9!$I$26,ROWS($I$26:I87)-1,COLUMNS($I$26:I87)-1),\"\")","v":""},{"$f":"IF(OFFSET(DE104_9!$J$26,ROWS($J$26:J87)-1,COLUMNS($J$26:J87)-1)<>\"\",OFFSET(DE104_9!$J$26,ROWS($J$26:J87)-1,COLUMNS($J$26:J87)-1),\"\")","v":""},{"$f":"IF(OFFSET(DE104_9!$K$26,ROWS($K$26:K87)-1,COLUMNS($K$26:K87)-1)<>\"\",OFFSET(DE104_9!$K$26,ROWS($K$26:K87)-1,COLUMNS($K$26:K87)-1),\"\")","v":""},{"$f":"IF(OFFSET(DE104_9!$L$26,ROWS($L$26:L87)-1,COLUMNS($L$26:L87)-1)<>\"\",OFFSET(DE104_9!$L$26,ROWS($L$26:L87)-1,COLUMNS($L$26:L87)-1),\"\")","v":""},{"$f":"IF(OFFSET(DE104_9!$M$26,ROWS($M$26:M87)-1,COLUMNS($M$26:M87)-1)<>\"\",OFFSET(DE104_9!$M$26,ROWS($M$26:M87)-1,COLUMNS($M$26:M87)-1),\"\")","v":""},{"$f":"IF(OFFSET(DE104_9!$N$26,ROWS($N$26:N87)-1,COLUMNS($N$26:N87)-1)<>\"\",OFFSET(DE104_9!$N$26,ROWS($N$26:N87)-1,COLUMNS($N$26:N87)-1),\"\")","v":""},{"$f":"IF(OFFSET(DE104_9!$O$26,ROWS($O$26:O87)-1,COLUMNS($O$26:O87)-1)<>\"\",OFFSET(DE104_9!$O$26,ROWS($O$26:O87)-1,COLUMNS($O$26:O87)-1),\"\")","v":""},{"$f":"IF(OFFSET(DE104_9!$P$26,ROWS($P$26:P87)-1,COLUMNS($P$26:P87)-1)<>\"\",OFFSET(DE104_9!$P$26,ROWS($P$26:P87)-1,COLUMNS($P$26:P87)-1),\"\")","v":140000},{"$f":"IF(OFFSET(DE104_9!$Q$26,ROWS($Q$26:Q87)-1,COLUMNS($Q$26:Q87)-1)<>\"\",OFFSET(DE104_9!$Q$26,ROWS($Q$26:Q87)-1,COLUMNS($Q$26:Q87)-1),\"\")","v":"DR-306"},{"$f":"IF(OFFSET(DE104_9!$R$26,ROWS($R$26:R87)-1,COLUMNS($R$26:R87)-1)<>\"\",OFFSET(DE104_9!$R$26,ROWS($R$26:R87)-1,COLUMNS($R$26:R87)-1),\"\")","v":""},{"$f":"IF(OFFSET(DE104_9!$S$26,ROWS($S$26:S87)-1,COLUMNS($S$26:S87)-1)<>\"\",OFFSET(DE104_9!$S$26,ROWS($S$26:S87)-1,COLUMNS($S$26:S87)-1),\"\")","v":0.4},{"$f":"IF(OFFSET(DE104_9!$T$26,ROWS($T$26:T87)-1,COLUMNS($T$26:T87)-1)<>\"\",OFFSET(DE104_9!$T$26,ROWS($T$26:T87)-1,COLUMNS($T$26:T87)-1),\"\")","v":""}]
[{"$f":"IF(OFFSET(DE104_9!$C$26,ROWS($C$26:C88)-1,COLUMNS($C$26:C88)-1)<>\"\",OFFSET(DE104_9!$C$26,ROWS($C$26:C88)-1,COLUMNS($C$26:C88)-1),\"\")","v":34},{"$f":"IF(OFFSET(DE104_9!$D$26,ROWS($D$26:D88)-1,COLUMNS($D$26:D88)-1)<>\"\",OFFSET(DE104_9!$D$26,ROWS($D$26:D88)-1,COLUMNS($D$26:D88)-1),\"\")","v":"WBL"},{"$f":"IF(OFFSET(DE104_9!$E$26,ROWS($E$26:E88)-1,COLUMNS($E$26:E88)-1)<>\"\",OFFSET(DE104_9!$E$26,ROWS($E$26:E88)-1,COLUMNS($E$26:E88)-1),\"\")","v":140000},{"$f":"IF(OFFSET(DE104_9!$F$26,ROWS($F$26:F88)-1,COLUMNS($F$26:F88)-1)<>\"\",OFFSET(DE104_9!$F$26,ROWS($F$26:F88)-1,COLUMNS($F$26:F88)-1),\"\")","v":140470},{"$f":"IF(OFFSET(DE104_9!$G$26,ROWS($G$26:G88)-1,COLUMNS($G$26:G88)-1)<>\"\",OFFSET(DE104_9!$G$26,ROWS($G$26:G88)-1,COLUMNS($G$26:G88)-1),\"\")","v":"LT"},{"$f":"IF(OFFSET(DE104_9!$H$26,ROWS($H$26:H88)-1,COLUMNS($H$26:H88)-1)<>\"\",OFFSET(DE104_9!$H$26,ROWS($H$26:H88)-1,COLUMNS($H$26:H88)-1),\"\")","v":42},{"$f":"IF(OFFSET(DE104_9!$I$26,ROWS($I$26:I88)-1,COLUMNS($I$26:I88)-1)<>\"\",OFFSET(DE104_9!$I$26,ROWS($I$26:I88)-1,COLUMNS($I$26:I88)-1),\"\")","v":4},{"$f":"IF(OFFSET(DE104_9!$J$26,ROWS($J$26:J88)-1,COLUMNS($J$26:J88)-1)<>\"\",OFFSET(DE104_9!$J$26,ROWS($J$26:J88)-1,COLUMNS($J$26:J88)-1),\"\")","v":510},{"$f":"IF(OFFSET(DE104_9!$K$26,ROWS($K$26:K88)-1,COLUMNS($K$26:K88)-1)<>\"\",OFFSET(DE104_9!$K$26,ROWS($K$26:K88)-1,COLUMNS($K$26:K88)-1),\"\")","v":""},{"$f":"IF(OFFSET(DE104_9!$L$26,ROWS($L$26:L88)-1,COLUMNS($L$26:L88)-1)<>\"\",OFFSET(DE104_9!$L$26,ROWS($L$26:L88)-1,COLUMNS($L$26:L88)-1),\"\")","v":""},{"$f":"IF(OFFSET(DE104_9!$M$26,ROWS($M$26:M88)-1,COLUMNS($M$26:M88)-1)<>\"\",OFFSET(DE104_9!$M$26,ROWS($M$26:M88)-1,COLUMNS($M$26:M88)-1),\"\")","v":""},{"$f":"IF(OFFSET(DE104_9!$N$26,ROWS($N$26:N88)-1,COLUMNS($N$26:N88)-1)<>\"\",OFFSET(DE104_9!$N$26,ROWS($N$26:N88)-1,COLUMNS($N$26:N88)-1),\"\")","v":""},{"$f":"IF(OFFSET(DE104_9!$O$26,ROWS($O$26:O88)-1,COLUMNS($O$26:O88)-1)<>\"\",OFFSET(DE104_9!$O$26,ROWS($O$26:O88)-1,COLUMNS($O$26:O88)-1),\"\")","v":""},{"$f":"IF(OFFSET(DE104_9!$P$26,ROWS($P$26:P88)-1,COLUMNS($P$26:P88)-1)<>\"\",OFFSET(DE104_9!$P$26,ROWS($P$26:P88)-1,COLUMNS($P$26:P88)-1),\"\")","v":140000},{"$f":"IF(OFFSET(DE104_9!$Q$26,ROWS($Q$26:Q88)-1,COLUMNS($Q$26:Q88)-1)<>\"\",OFFSET(DE104_9!$Q$26,ROWS($Q$26:Q88)-1,COLUMNS($Q$26:Q88)-1),\"\")","v":"DR-306"},{"$f":"IF(OFFSET(DE104_9!$R$26,ROWS($R$26:R88)-1,COLUMNS($R$26:R88)-1)<>\"\",OFFSET(DE104_9!$R$26,ROWS($R$26:R88)-1,COLUMNS($R$26:R88)-1),\"\")","v":47.2},{"$f":"IF(OFFSET(DE104_9!$S$26,ROWS($S$26:S88)-1,COLUMNS($S$26:S88)-1)<>\"\",OFFSET(DE104_9!$S$26,ROWS($S$26:S88)-1,COLUMNS($S$26:S88)-1),\"\")","v":0.4},{"$f":"IF(OFFSET(DE104_9!$T$26,ROWS($T$26:T88)-1,COLUMNS($T$26:T88)-1)<>\"\",OFFSET(DE104_9!$T$26,ROWS($T$26:T88)-1,COLUMNS($T$26:T88)-1),\"\")","v":""}]
[{"$f":"IF(OFFSET(DE104_9!$C$26,ROWS($C$26:C89)-1,COLUMNS($C$26:C89)-1)<>\"\",OFFSET(DE104_9!$C$26,ROWS($C$26:C89)-1,COLUMNS($C$26:C89)-1),\"\")","v":""},{"$f":"IF(OFFSET(DE104_9!$D$26,ROWS($D$26:D89)-1,COLUMNS($D$26:D89)-1)<>\"\",OFFSET(DE104_9!$D$26,ROWS($D$26:D89)-1,COLUMNS($D$26:D89)-1),\"\")","v":""},{"$f":"IF(OFFSET(DE104_9!$E$26,ROWS($E$26:E89)-1,COLUMNS($E$26:E89)-1)<>\"\",OFFSET(DE104_9!$E$26,ROWS($E$26:E89)-1,COLUMNS($E$26:E89)-1),\"\")","v":""},{"$f":"IF(OFFSET(DE104_9!$F$26,ROWS($F$26:F89)-1,COLUMNS($F$26:F89)-1)<>\"\",OFFSET(DE104_9!$F$26,ROWS($F$26:F89)-1,COLUMNS($F$26:F89)-1),\"\")","v":""},{"$f":"IF(OFFSET(DE104_9!$G$26,ROWS($G$26:G89)-1,COLUMNS($G$26:G89)-1)<>\"\",OFFSET(DE104_9!$G$26,ROWS($G$26:G89)-1,COLUMNS($G$26:G89)-1),\"\")","v":""},{"$f":"IF(OFFSET(DE104_9!$H$26,ROWS($H$26:H89)-1,COLUMNS($H$26:H89)-1)<>\"\",OFFSET(DE104_9!$H$26,ROWS($H$26:H89)-1,COLUMNS($H$26:H89)-1),\"\")","v":" "},{"$f":"IF(OFFSET(DE104_9!$I$26,ROWS($I$26:I89)-1,COLUMNS($I$26:I89)-1)<>\"\",OFFSET(DE104_9!$I$26,ROWS($I$26:I89)-1,COLUMNS($I$26:I89)-1),\"\")","v":""},{"$f":"IF(OFFSET(DE104_9!$J$26,ROWS($J$26:J89)-1,COLUMNS($J$26:J89)-1)<>\"\",OFFSET(DE104_9!$J$26,ROWS($J$26:J89)-1,COLUMNS($J$26:J89)-1),\"\")","v":""},{"$f":"IF(OFFSET(DE104_9!$K$26,ROWS($K$26:K89)-1,COLUMNS($K$26:K89)-1)<>\"\",OFFSET(DE104_9!$K$26,ROWS($K$26:K89)-1,COLUMNS($K$26:K89)-1),\"\")","v":""},{"$f":"IF(OFFSET(DE104_9!$L$26,ROWS($L$26:L89)-1,COLUMNS($L$26:L89)-1)<>\"\",OFFSET(DE104_9!$L$26,ROWS($L$26:L89)-1,COLUMNS($L$26:L89)-1),\"\")","v":""},{"$f":"IF(OFFSET(DE104_9!$M$26,ROWS($M$26:M89)-1,COLUMNS($M$26:M89)-1)<>\"\",OFFSET(DE104_9!$M$26,ROWS($M$26:M89)-1,COLUMNS($M$26:M89)-1),\"\")","v":""},{"$f":"IF(OFFSET(DE104_9!$N$26,ROWS($N$26:N89)-1,COLUMNS($N$26:N89)-1)<>\"\",OFFSET(DE104_9!$N$26,ROWS($N$26:N89)-1,COLUMNS($N$26:N89)-1),\"\")","v":""},{"$f":"IF(OFFSET(DE104_9!$O$26,ROWS($O$26:O89)-1,COLUMNS($O$26:O89)-1)<>\"\",OFFSET(DE104_9!$O$26,ROWS($O$26:O89)-1,COLUMNS($O$26:O89)-1),\"\")","v":""},{"$f":"IF(OFFSET(DE104_9!$P$26,ROWS($P$26:P89)-1,COLUMNS($P$26:P89)-1)<>\"\",OFFSET(DE104_9!$P$26,ROWS($P$26:P89)-1,COLUMNS($P$26:P89)-1),\"\")","v":140470},{"$f":"IF(OFFSET(DE104_9!$Q$26,ROWS($Q$26:Q89)-1,COLUMNS($Q$26:Q89)-1)<>\"\",OFFSET(DE104_9!$Q$26,ROWS($Q$26:Q89)-1,COLUMNS($Q$26:Q89)-1),\"\")","v":"DR-306"},{"$f":"IF(OFFSET(DE104_9!$R$26,ROWS($R$26:R89)-1,COLUMNS($R$26:R89)-1)<>\"\",OFFSET(DE104_9!$R$26,ROWS($R$26:R89)-1,COLUMNS($R$26:R89)-1),\"\")","v":" "},{"$f":"IF(OFFSET(DE104_9!$S$26,ROWS($S$26:S89)-1,COLUMNS($S$26:S89)-1)<>\"\",OFFSET(DE104_9!$S$26,ROWS($S$26:S89)-1,COLUMNS($S$26:S89)-1),\"\")","v":0.4},{"$f":"IF(OFFSET(DE104_9!$T$26,ROWS($T$26:T89)-1,COLUMNS($T$26:T89)-1)<>\"\",OFFSET(DE104_9!$T$26,ROWS($T$26:T89)-1,COLUMNS($T$26:T89)-1),\"\")","v":""}]
[{"$f":"IF(OFFSET(DE104_9!$C$26,ROWS($C$26:C90)-1,COLUMNS($C$26:C90)-1)<>\"\",OFFSET(DE104_9!$C$26,ROWS($C$26:C90)-1,COLUMNS($C$26:C90)-1),\"\")","v":35},{"$f":"IF(OFFSET(DE104_9!$D$26,ROWS($D$26:D90)-1,COLUMNS($D$26:D90)-1)<>\"\",OFFSET(DE104_9!$D$26,ROWS($D$26:D90)-1,COLUMNS($D$26:D90)-1),\"\")","v":"WBL"},{"$f":"IF(OFFSET(DE104_9!$E$26,ROWS($E$26:E90)-1,COLUMNS($E$26:E90)-1)<>\"\",OFFSET(DE104_9!$E$26,ROWS($E$26:E90)-1,COLUMNS($E$26:E90)-1),\"\")","v":140480},{"$f":"IF(OFFSET(DE104_9!$F$26,ROWS($F$26:F90)-1,COLUMNS($F$26:F90)-1)<>\"\",OFFSET(DE104_9!$F$26,ROWS($F$26:F90)-1,COLUMNS($F$26:F90)-1),\"\")","v":140900},{"$f":"IF(OFFSET(DE104_9!$G$26,ROWS($G$26:G90)-1,COLUMNS($G$26:G90)-1)<>\"\",OFFSET(DE104_9!$G$26,ROWS($G$26:G90)-1,COLUMNS($G$26:G90)-1),\"\")","v":"LT"},{"$f":"IF(OFFSET(DE104_9!$H$26,ROWS($H$26:H90)-1,COLUMNS($H$26:H90)-1)<>\"\",OFFSET(DE104_9!$H$26,ROWS($H$26:H90)-1,COLUMNS($H$26:H90)-1),\"\")","v":42},{"$f":"IF(OFFSET(DE104_9!$I$26,ROWS($I$26:I90)-1,COLUMNS($I$26:I90)-1)<>\"\",OFFSET(DE104_9!$I$26,ROWS($I$26:I90)-1,COLUMNS($I$26:I90)-1),\"\")","v":4},{"$f":"IF(OFFSET(DE104_9!$J$26,ROWS($J$26:J90)-1,COLUMNS($J$26:J90)-1)<>\"\",OFFSET(DE104_9!$J$26,ROWS($J$26:J90)-1,COLUMNS($J$26:J90)-1),\"\")","v":460},{"$f":"IF(OFFSET(DE104_9!$K$26,ROWS($K$26:K90)-1,COLUMNS($K$26:K90)-1)<>\"\",OFFSET(DE104_9!$K$26,ROWS($K$26:K90)-1,COLUMNS($K$26:K90)-1),\"\")","v":""},{"$f":"IF(OFFSET(DE104_9!$L$26,ROWS($L$26:L90)-1,COLUMNS($L$26:L90)-1)<>\"\",OFFSET(DE104_9!$L$26,ROWS($L$26:L90)-1,COLUMNS($L$26:L90)-1),\"\")","v":""},{"$f":"IF(OFFSET(DE104_9!$M$26,ROWS($M$26:M90)-1,COLUMNS($M$26:M90)-1)<>\"\",OFFSET(DE104_9!$M$26,ROWS($M$26:M90)-1,COLUMNS($M$26:M90)-1),\"\")","v":""},{"$f":"IF(OFFSET(DE104_9!$N$26,ROWS($N$26:N90)-1,COLUMNS($N$26:N90)-1)<>\"\",OFFSET(DE104_9!$N$26,ROWS($N$26:N90)-1,COLUMNS($N$26:N90)-1),\"\")","v":""},{"$f":"IF(OFFSET(DE104_9!$O$26,ROWS($O$26:O90)-1,COLUMNS($O$26:O90)-1)<>\"\",OFFSET(DE104_9!$O$26,ROWS($O$26:O90)-1,COLUMNS($O$26:O90)-1),\"\")","v":""},{"$f":"IF(OFFSET(DE104_9!$P$26,ROWS($P$26:P90)-1,COLUMNS($P$26:P90)-1)<>\"\",OFFSET(DE104_9!$P$26,ROWS($P$26:P90)-1,COLUMNS($P$26:P90)-1),\"\")","v":140480},{"$f":"IF(OFFSET(DE104_9!$Q$26,ROWS($Q$26:Q90)-1,COLUMNS($Q$26:Q90)-1)<>\"\",OFFSET(DE104_9!$Q$26,ROWS($Q$26:Q90)-1,COLUMNS($Q$26:Q90)-1),\"\")","v":"DR-306"},{"$f":"IF(OFFSET(DE104_9!$R$26,ROWS($R$26:R90)-1,COLUMNS($R$26:R90)-1)<>\"\",OFFSET(DE104_9!$R$26,ROWS($R$26:R90)-1,COLUMNS($R$26:R90)-1),\"\")","v":42.6},{"$f":"IF(OFFSET(DE104_9!$S$26,ROWS($S$26:S90)-1,COLUMNS($S$26:S90)-1)<>\"\",OFFSET(DE104_9!$S$26,ROWS($S$26:S90)-1,COLUMNS($S$26:S90)-1),\"\")","v":0.4},{"$f":"IF(OFFSET(DE104_9!$T$26,ROWS($T$26:T90)-1,COLUMNS($T$26:T90)-1)<>\"\",OFFSET(DE104_9!$T$26,ROWS($T$26:T90)-1,COLUMNS($T$26:T90)-1),\"\")","v":""}]
[{"$f":"IF(OFFSET(DE104_9!$C$26,ROWS($C$26:C91)-1,COLUMNS($C$26:C91)-1)<>\"\",OFFSET(DE104_9!$C$26,ROWS($C$26:C91)-1,COLUMNS($C$26:C91)-1),\"\")","v":""},{"$f":"IF(OFFSET(DE104_9!$D$26,ROWS($D$26:D91)-1,COLUMNS($D$26:D91)-1)<>\"\",OFFSET(DE104_9!$D$26,ROWS($D$26:D91)-1,COLUMNS($D$26:D91)-1),\"\")","v":""},{"$f":"IF(OFFSET(DE104_9!$E$26,ROWS($E$26:E91)-1,COLUMNS($E$26:E91)-1)<>\"\",OFFSET(DE104_9!$E$26,ROWS($E$26:E91)-1,COLUMNS($E$26:E91)-1),\"\")","v":""},{"$f":"IF(OFFSET(DE104_9!$F$26,ROWS($F$26:F91)-1,COLUMNS($F$26:F91)-1)<>\"\",OFFSET(DE104_9!$F$26,ROWS($F$26:F91)-1,COLUMNS($F$26:F91)-1),\"\")","v":""},{"$f":"IF(OFFSET(DE104_9!$G$26,ROWS($G$26:G91)-1,COLUMNS($G$26:G91)-1)<>\"\",OFFSET(DE104_9!$G$26,ROWS($G$26:G91)-1,COLUMNS($G$26:G91)-1),\"\")","v":""},{"$f":"IF(OFFSET(DE104_9!$H$26,ROWS($H$26:H91)-1,COLUMNS($H$26:H91)-1)<>\"\",OFFSET(DE104_9!$H$26,ROWS($H$26:H91)-1,COLUMNS($H$26:H91)-1),\"\")","v":" "},{"$f":"IF(OFFSET(DE104_9!$I$26,ROWS($I$26:I91)-1,COLUMNS($I$26:I91)-1)<>\"\",OFFSET(DE104_9!$I$26,ROWS($I$26:I91)-1,COLUMNS($I$26:I91)-1),\"\")","v":""},{"$f":"IF(OFFSET(DE104_9!$J$26,ROWS($J$26:J91)-1,COLUMNS($J$26:J91)-1)<>\"\",OFFSET(DE104_9!$J$26,ROWS($J$26:J91)-1,COLUMNS($J$26:J91)-1),\"\")","v":""},{"$f":"IF(OFFSET(DE104_9!$K$26,ROWS($K$26:K91)-1,COLUMNS($K$26:K91)-1)<>\"\",OFFSET(DE104_9!$K$26,ROWS($K$26:K91)-1,COLUMNS($K$26:K91)-1),\"\")","v":""},{"$f":"IF(OFFSET(DE104_9!$L$26,ROWS($L$26:L91)-1,COLUMNS($L$26:L91)-1)<>\"\",OFFSET(DE104_9!$L$26,ROWS($L$26:L91)-1,COLUMNS($L$26:L91)-1),\"\")","v":""},{"$f":"IF(OFFSET(DE104_9!$M$26,ROWS($M$26:M91)-1,COLUMNS($M$26:M91)-1)<>\"\",OFFSET(DE104_9!$M$26,ROWS($M$26:M91)-1,COLUMNS($M$26:M91)-1),\"\")","v":""},{"$f":"IF(OFFSET(DE104_9!$N$26,ROWS($N$26:N91)-1,COLUMNS($N$26:N91)-1)<>\"\",OFFSET(DE104_9!$N$26,ROWS($N$26:N91)-1,COLUMNS($N$26:N91)-1),\"\")","v":""},{"$f":"IF(OFFSET(DE104_9!$O$26,ROWS($O$26:O91)-1,COLUMNS($O$26:O91)-1)<>\"\",OFFSET(DE104_9!$O$26,ROWS($O$26:O91)-1,COLUMNS($O$26:O91)-1),\"\")","v":""},{"$f":"IF(OFFSET(DE104_9!$P$26,ROWS($P$26:P91)-1,COLUMNS($P$26:P91)-1)<>\"\",OFFSET(DE104_9!$P$26,ROWS($P$26:P91)-1,COLUMNS($P$26:P91)-1),\"\")","v":140900},{"$f":"IF(OFFSET(DE104_9!$Q$26,ROWS($Q$26:Q91)-1,COLUMNS($Q$26:Q91)-1)<>\"\",OFFSET(DE104_9!$Q$26,ROWS($Q$26:Q91)-1,COLUMNS($Q$26:Q91)-1),\"\")","v":"DR-306"},{"$f":"IF(OFFSET(DE104_9!$R$26,ROWS($R$26:R91)-1,COLUMNS($R$26:R91)-1)<>\"\",OFFSET(DE104_9!$R$26,ROWS($R$26:R91)-1,COLUMNS($R$26:R91)-1),\"\")","v":" "},{"$f":"IF(OFFSET(DE104_9!$S$26,ROWS($S$26:S91)-1,COLUMNS($S$26:S91)-1)<>\"\",OFFSET(DE104_9!$S$26,ROWS($S$26:S91)-1,COLUMNS($S$26:S91)-1),\"\")","v":0.4},{"$f":"IF(OFFSET(DE104_9!$T$26,ROWS($T$26:T91)-1,COLUMNS($T$26:T91)-1)<>\"\",OFFSET(DE104_9!$T$26,ROWS($T$26:T91)-1,COLUMNS($T$26:T91)-1),\"\")","v":""}]
[{"$f":"IF(OFFSET(DE104_9!$C$26,ROWS($C$26:C92)-1,COLUMNS($C$26:C92)-1)<>\"\",OFFSET(DE104_9!$C$26,ROWS($C$26:C92)-1,COLUMNS($C$26:C92)-1),\"\")","v":36},{"$f":"IF(OFFSET(DE104_9!$D$26,ROWS($D$26:D92)-1,COLUMNS($D$26:D92)-1)<>\"\",OFFSET(DE104_9!$D$26,ROWS($D$26:D92)-1,COLUMNS($D$26:D92)-1),\"\")","v":"WBL"},{"$f":"IF(OFFSET(DE104_9!$E$26,ROWS($E$26:E92)-1,COLUMNS($E$26:E92)-1)<>\"\",OFFSET(DE104_9!$E$26,ROWS($E$26:E92)-1,COLUMNS($E$26:E92)-1),\"\")","v":140900},{"$f":"IF(OFFSET(DE104_9!$F$26,ROWS($F$26:F92)-1,COLUMNS($F$26:F92)-1)<>\"\",OFFSET(DE104_9!$F$26,ROWS($F$26:F92)-1,COLUMNS($F$26:F92)-1),\"\")","v":141400},{"$f":"IF(OFFSET(DE104_9!$G$26,ROWS($G$26:G92)-1,COLUMNS($G$26:G92)-1)<>\"\",OFFSET(DE104_9!$G$26,ROWS($G$26:G92)-1,COLUMNS($G$26:G92)-1),\"\")","v":"LT"},{"$f":"IF(OFFSET(DE104_9!$H$26,ROWS($H$26:H92)-1,COLUMNS($H$26:H92)-1)<>\"\",OFFSET(DE104_9!$H$26,ROWS($H$26:H92)-1,COLUMNS($H$26:H92)-1),\"\")","v":42},{"$f":"IF(OFFSET(DE104_9!$I$26,ROWS($I$26:I92)-1,COLUMNS($I$26:I92)-1)<>\"\",OFFSET(DE104_9!$I$26,ROWS($I$26:I92)-1,COLUMNS($I$26:I92)-1),\"\")","v":4},{"$f":"IF(OFFSET(DE104_9!$J$26,ROWS($J$26:J92)-1,COLUMNS($J$26:J92)-1)<>\"\",OFFSET(DE104_9!$J$26,ROWS($J$26:J92)-1,COLUMNS($J$26:J92)-1),\"\")","v":540},{"$f":"IF(OFFSET(DE104_9!$K$26,ROWS($K$26:K92)-1,COLUMNS($K$26:K92)-1)<>\"\",OFFSET(DE104_9!$K$26,ROWS($K$26:K92)-1,COLUMNS($K$26:K92)-1),\"\")","v":""},{"$f":"IF(OFFSET(DE104_9!$L$26,ROWS($L$26:L92)-1,COLUMNS($L$26:L92)-1)<>\"\",OFFSET(DE104_9!$L$26,ROWS($L$26:L92)-1,COLUMNS($L$26:L92)-1),\"\")","v":""},{"$f":"IF(OFFSET(DE104_9!$M$26,ROWS($M$26:M92)-1,COLUMNS($M$26:M92)-1)<>\"\",OFFSET(DE104_9!$M$26,ROWS($M$26:M92)-1,COLUMNS($M$26:M92)-1),\"\")","v":""},{"$f":"IF(OFFSET(DE104_9!$N$26,ROWS($N$26:N92)-1,COLUMNS($N$26:N92)-1)<>\"\",OFFSET(DE104_9!$N$26,ROWS($N$26:N92)-1,COLUMNS($N$26:N92)-1),\"\")","v":""},{"$f":"IF(OFFSET(DE104_9!$O$26,ROWS($O$26:O92)-1,COLUMNS($O$26:O92)-1)<>\"\",OFFSET(DE104_9!$O$26,ROWS($O$26:O92)-1,COLUMNS($O$26:O92)-1),\"\")","v":""},{"$f":"IF(OFFSET(DE104_9!$P$26,ROWS($P$26:P92)-1,COLUMNS($P$26:P92)-1)<>\"\",OFFSET(DE104_9!$P$26,ROWS($P$26:P92)-1,COLUMNS($P$26:P92)-1),\"\")","v":140900},{"$f":"IF(OFFSET(DE104_9!$Q$26,ROWS($Q$26:Q92)-1,COLUMNS($Q$26:Q92)-1)<>\"\",OFFSET(DE104_9!$Q$26,ROWS($Q$26:Q92)-1,COLUMNS($Q$26:Q92)-1),\"\")","v":"DR-306"},{"$f":"IF(OFFSET(DE104_9!$R$26,ROWS($R$26:R92)-1,COLUMNS($R$26:R92)-1)<>\"\",OFFSET(DE104_9!$R$26,ROWS($R$26:R92)-1,COLUMNS($R$26:R92)-1),\"\")","v":50},{"$f":"IF(OFFSET(DE104_9!$S$26,ROWS($S$26:S92)-1,COLUMNS($S$26:S92)-1)<>\"\",OFFSET(DE104_9!$S$26,ROWS($S$26:S92)-1,COLUMNS($S$26:S92)-1),\"\")","v":0.4},{"$f":"IF(OFFSET(DE104_9!$T$26,ROWS($T$26:T92)-1,COLUMNS($T$26:T92)-1)<>\"\",OFFSET(DE104_9!$T$26,ROWS($T$26:T92)-1,COLUMNS($T$26:T92)-1),\"\")","v":""}]
[{"$f":"IF(OFFSET(DE104_9!$C$26,ROWS($C$26:C93)-1,COLUMNS($C$26:C93)-1)<>\"\",OFFSET(DE104_9!$C$26,ROWS($C$26:C93)-1,COLUMNS($C$26:C93)-1),\"\")","v":""},{"$f":"IF(OFFSET(DE104_9!$D$26,ROWS($D$26:D93)-1,COLUMNS($D$26:D93)-1)<>\"\",OFFSET(DE104_9!$D$26,ROWS($D$26:D93)-1,COLUMNS($D$26:D93)-1),\"\")","v":""},{"$f":"IF(OFFSET(DE104_9!$E$26,ROWS($E$26:E93)-1,COLUMNS($E$26:E93)-1)<>\"\",OFFSET(DE104_9!$E$26,ROWS($E$26:E93)-1,COLUMNS($E$26:E93)-1),\"\")","v":""},{"$f":"IF(OFFSET(DE104_9!$F$26,ROWS($F$26:F93)-1,COLUMNS($F$26:F93)-1)<>\"\",OFFSET(DE104_9!$F$26,ROWS($F$26:F93)-1,COLUMNS($F$26:F93)-1),\"\")","v":""},{"$f":"IF(OFFSET(DE104_9!$G$26,ROWS($G$26:G93)-1,COLUMNS($G$26:G93)-1)<>\"\",OFFSET(DE104_9!$G$26,ROWS($G$26:G93)-1,COLUMNS($G$26:G93)-1),\"\")","v":""},{"$f":"IF(OFFSET(DE104_9!$H$26,ROWS($H$26:H93)-1,COLUMNS($H$26:H93)-1)<>\"\",OFFSET(DE104_9!$H$26,ROWS($H$26:H93)-1,COLUMNS($H$26:H93)-1),\"\")","v":" "},{"$f":"IF(OFFSET(DE104_9!$I$26,ROWS($I$26:I93)-1,COLUMNS($I$26:I93)-1)<>\"\",OFFSET(DE104_9!$I$26,ROWS($I$26:I93)-1,COLUMNS($I$26:I93)-1),\"\")","v":""},{"$f":"IF(OFFSET(DE104_9!$J$26,ROWS($J$26:J93)-1,COLUMNS($J$26:J93)-1)<>\"\",OFFSET(DE104_9!$J$26,ROWS($J$26:J93)-1,COLUMNS($J$26:J93)-1),\"\")","v":""},{"$f":"IF(OFFSET(DE104_9!$K$26,ROWS($K$26:K93)-1,COLUMNS($K$26:K93)-1)<>\"\",OFFSET(DE104_9!$K$26,ROWS($K$26:K93)-1,COLUMNS($K$26:K93)-1),\"\")","v":""},{"$f":"IF(OFFSET(DE104_9!$L$26,ROWS($L$26:L93)-1,COLUMNS($L$26:L93)-1)<>\"\",OFFSET(DE104_9!$L$26,ROWS($L$26:L93)-1,COLUMNS($L$26:L93)-1),\"\")","v":""},{"$f":"IF(OFFSET(DE104_9!$M$26,ROWS($M$26:M93)-1,COLUMNS($M$26:M93)-1)<>\"\",OFFSET(DE104_9!$M$26,ROWS($M$26:M93)-1,COLUMNS($M$26:M93)-1),\"\")","v":""},{"$f":"IF(OFFSET(DE104_9!$N$26,ROWS($N$26:N93)-1,COLUMNS($N$26:N93)-1)<>\"\",OFFSET(DE104_9!$N$26,ROWS($N$26:N93)-1,COLUMNS($N$26:N93)-1),\"\")","v":""},{"$f":"IF(OFFSET(DE104_9!$O$26,ROWS($O$26:O93)-1,COLUMNS($O$26:O93)-1)<>\"\",OFFSET(DE104_9!$O$26,ROWS($O$26:O93)-1,COLUMNS($O$26:O93)-1),\"\")","v":""},{"$f":"IF(OFFSET(DE104_9!$P$26,ROWS($P$26:P93)-1,COLUMNS($P$26:P93)-1)<>\"\",OFFSET(DE104_9!$P$26,ROWS($P$26:P93)-1,COLUMNS($P$26:P93)-1),\"\")","v":141400},{"$f":"IF(OFFSET(DE104_9!$Q$26,ROWS($Q$26:Q93)-1,COLUMNS($Q$26:Q93)-1)<>\"\",OFFSET(DE104_9!$Q$26,ROWS($Q$26:Q93)-1,COLUMNS($Q$26:Q93)-1),\"\")","v":"DR-306"},{"$f":"IF(OFFSET(DE104_9!$R$26,ROWS($R$26:R93)-1,COLUMNS($R$26:R93)-1)<>\"\",OFFSET(DE104_9!$R$26,ROWS($R$26:R93)-1,COLUMNS($R$26:R93)-1),\"\")","v":" "},{"$f":"IF(OFFSET(DE104_9!$S$26,ROWS($S$26:S93)-1,COLUMNS($S$26:S93)-1)<>\"\",OFFSET(DE104_9!$S$26,ROWS($S$26:S93)-1,COLUMNS($S$26:S93)-1),\"\")","v":0.4},{"$f":"IF(OFFSET(DE104_9!$T$26,ROWS($T$26:T93)-1,COLUMNS($T$26:T93)-1)<>\"\",OFFSET(DE104_9!$T$26,ROWS($T$26:T93)-1,COLUMNS($T$26:T93)-1),\"\")","v":""}]
[{"$f":"IF(OFFSET(DE104_9!$C$26,ROWS($C$26:C94)-1,COLUMNS($C$26:C94)-1)<>\"\",OFFSET(DE104_9!$C$26,ROWS($C$26:C94)-1,COLUMNS($C$26:C94)-1),\"\")","v":37},{"$f":"IF(OFFSET(DE104_9!$D$26,ROWS($D$26:D94)-1,COLUMNS($D$26:D94)-1)<>\"\",OFFSET(DE104_9!$D$26,ROWS($D$26:D94)-1,COLUMNS($D$26:D94)-1),\"\")","v":"WBL"},{"$f":"IF(OFFSET(DE104_9!$E$26,ROWS($E$26:E94)-1,COLUMNS($E$26:E94)-1)<>\"\",OFFSET(DE104_9!$E$26,ROWS($E$26:E94)-1,COLUMNS($E$26:E94)-1),\"\")","v":141400},{"$f":"IF(OFFSET(DE104_9!$F$26,ROWS($F$26:F94)-1,COLUMNS($F$26:F94)-1)<>\"\",OFFSET(DE104_9!$F$26,ROWS($F$26:F94)-1,COLUMNS($F$26:F94)-1),\"\")","v":141900},{"$f":"IF(OFFSET(DE104_9!$G$26,ROWS($G$26:G94)-1,COLUMNS($G$26:G94)-1)<>\"\",OFFSET(DE104_9!$G$26,ROWS($G$26:G94)-1,COLUMNS($G$26:G94)-1),\"\")","v":"LT"},{"$f":"IF(OFFSET(DE104_9!$H$26,ROWS($H$26:H94)-1,COLUMNS($H$26:H94)-1)<>\"\",OFFSET(DE104_9!$H$26,ROWS($H$26:H94)-1,COLUMNS($H$26:H94)-1),\"\")","v":42},{"$f":"IF(OFFSET(DE104_9!$I$26,ROWS($I$26:I94)-1,COLUMNS($I$26:I94)-1)<>\"\",OFFSET(DE104_9!$I$26,ROWS($I$26:I94)-1,COLUMNS($I$26:I94)-1),\"\")","v":4},{"$f":"IF(OFFSET(DE104_9!$J$26,ROWS($J$26:J94)-1,COLUMNS($J$26:J94)-1)<>\"\",OFFSET(DE104_9!$J$26,ROWS($J$26:J94)-1,COLUMNS($J$26:J94)-1),\"\")","v":540},{"$f":"IF(OFFSET(DE104_9!$K$26,ROWS($K$26:K94)-1,COLUMNS($K$26:K94)-1)<>\"\",OFFSET(DE104_9!$K$26,ROWS($K$26:K94)-1,COLUMNS($K$26:K94)-1),\"\")","v":""},{"$f":"IF(OFFSET(DE104_9!$L$26,ROWS($L$26:L94)-1,COLUMNS($L$26:L94)-1)<>\"\",OFFSET(DE104_9!$L$26,ROWS($L$26:L94)-1,COLUMNS($L$26:L94)-1),\"\")","v":""},{"$f":"IF(OFFSET(DE104_9!$M$26,ROWS($M$26:M94)-1,COLUMNS($M$26:M94)-1)<>\"\",OFFSET(DE104_9!$M$26,ROWS($M$26:M94)-1,COLUMNS($M$26:M94)-1),\"\")","v":""},{"$f":"IF(OFFSET(DE104_9!$N$26,ROWS($N$26:N94)-1,COLUMNS($N$26:N94)-1)<>\"\",OFFSET(DE104_9!$N$26,ROWS($N$26:N94)-1,COLUMNS($N$26:N94)-1),\"\")","v":""},{"$f":"IF(OFFSET(DE104_9!$O$26,ROWS($O$26:O94)-1,COLUMNS($O$26:O94)-1)<>\"\",OFFSET(DE104_9!$O$26,ROWS($O$26:O94)-1,COLUMNS($O$26:O94)-1),\"\")","v":""},{"$f":"IF(OFFSET(DE104_9!$P$26,ROWS($P$26:P94)-1,COLUMNS($P$26:P94)-1)<>\"\",OFFSET(DE104_9!$P$26,ROWS($P$26:P94)-1,COLUMNS($P$26:P94)-1),\"\")","v":141400},{"$f":"IF(OFFSET(DE104_9!$Q$26,ROWS($Q$26:Q94)-1,COLUMNS($Q$26:Q94)-1)<>\"\",OFFSET(DE104_9!$Q$26,ROWS($Q$26:Q94)-1,COLUMNS($Q$26:Q94)-1),\"\")","v":"DR-306"},{"$f":"IF(OFFSET(DE104_9!$R$26,ROWS($R$26:R94)-1,COLUMNS($R$26:R94)-1)<>\"\",OFFSET(DE104_9!$R$26,ROWS($R$26:R94)-1,COLUMNS($R$26:R94)-1),\"\")","v":50},{"$f":"IF(OFFSET(DE104_9!$S$26,ROWS($S$26:S94)-1,COLUMNS($S$26:S94)-1)<>\"\",OFFSET(DE104_9!$S$26,ROWS($S$26:S94)-1,COLUMNS($S$26:S94)-1),\"\")","v":0.4},{"$f":"IF(OFFSET(DE104_9!$T$26,ROWS($T$26:T94)-1,COLUMNS($T$26:T94)-1)<>\"\",OFFSET(DE104_9!$T$26,ROWS($T$26:T94)-1,COLUMNS($T$26:T94)-1),\"\")","v":""}]
[{"$f":"IF(OFFSET(DE104_9!$C$26,ROWS($C$26:C95)-1,COLUMNS($C$26:C95)-1)<>\"\",OFFSET(DE104_9!$C$26,ROWS($C$26:C95)-1,COLUMNS($C$26:C95)-1),\"\")","v":""},{"$f":"IF(OFFSET(DE104_9!$D$26,ROWS($D$26:D95)-1,COLUMNS($D$26:D95)-1)<>\"\",OFFSET(DE104_9!$D$26,ROWS($D$26:D95)-1,COLUMNS($D$26:D95)-1),\"\")","v":""},{"$f":"IF(OFFSET(DE104_9!$E$26,ROWS($E$26:E95)-1,COLUMNS($E$26:E95)-1)<>\"\",OFFSET(DE104_9!$E$26,ROWS($E$26:E95)-1,COLUMNS($E$26:E95)-1),\"\")","v":""},{"$f":"IF(OFFSET(DE104_9!$F$26,ROWS($F$26:F95)-1,COLUMNS($F$26:F95)-1)<>\"\",OFFSET(DE104_9!$F$26,ROWS($F$26:F95)-1,COLUMNS($F$26:F95)-1),\"\")","v":""},{"$f":"IF(OFFSET(DE104_9!$G$26,ROWS($G$26:G95)-1,COLUMNS($G$26:G95)-1)<>\"\",OFFSET(DE104_9!$G$26,ROWS($G$26:G95)-1,COLUMNS($G$26:G95)-1),\"\")","v":""},{"$f":"IF(OFFSET(DE104_9!$H$26,ROWS($H$26:H95)-1,COLUMNS($H$26:H95)-1)<>\"\",OFFSET(DE104_9!$H$26,ROWS($H$26:H95)-1,COLUMNS($H$26:H95)-1),\"\")","v":" "},{"$f":"IF(OFFSET(DE104_9!$I$26,ROWS($I$26:I95)-1,COLUMNS($I$26:I95)-1)<>\"\",OFFSET(DE104_9!$I$26,ROWS($I$26:I95)-1,COLUMNS($I$26:I95)-1),\"\")","v":""},{"$f":"IF(OFFSET(DE104_9!$J$26,ROWS($J$26:J95)-1,COLUMNS($J$26:J95)-1)<>\"\",OFFSET(DE104_9!$J$26,ROWS($J$26:J95)-1,COLUMNS($J$26:J95)-1),\"\")","v":""},{"$f":"IF(OFFSET(DE104_9!$K$26,ROWS($K$26:K95)-1,COLUMNS($K$26:K95)-1)<>\"\",OFFSET(DE104_9!$K$26,ROWS($K$26:K95)-1,COLUMNS($K$26:K95)-1),\"\")","v":""},{"$f":"IF(OFFSET(DE104_9!$L$26,ROWS($L$26:L95)-1,COLUMNS($L$26:L95)-1)<>\"\",OFFSET(DE104_9!$L$26,ROWS($L$26:L95)-1,COLUMNS($L$26:L95)-1),\"\")","v":""},{"$f":"IF(OFFSET(DE104_9!$M$26,ROWS($M$26:M95)-1,COLUMNS($M$26:M95)-1)<>\"\",OFFSET(DE104_9!$M$26,ROWS($M$26:M95)-1,COLUMNS($M$26:M95)-1),\"\")","v":""},{"$f":"IF(OFFSET(DE104_9!$N$26,ROWS($N$26:N95)-1,COLUMNS($N$26:N95)-1)<>\"\",OFFSET(DE104_9!$N$26,ROWS($N$26:N95)-1,COLUMNS($N$26:N95)-1),\"\")","v":""},{"$f":"IF(OFFSET(DE104_9!$O$26,ROWS($O$26:O95)-1,COLUMNS($O$26:O95)-1)<>\"\",OFFSET(DE104_9!$O$26,ROWS($O$26:O95)-1,COLUMNS($O$26:O95)-1),\"\")","v":""},{"$f":"IF(OFFSET(DE104_9!$P$26,ROWS($P$26:P95)-1,COLUMNS($P$26:P95)-1)<>\"\",OFFSET(DE104_9!$P$26,ROWS($P$26:P95)-1,COLUMNS($P$26:P95)-1),\"\")","v":141900},{"$f":"IF(OFFSET(DE104_9!$Q$26,ROWS($Q$26:Q95)-1,COLUMNS($Q$26:Q95)-1)<>\"\",OFFSET(DE104_9!$Q$26,ROWS($Q$26:Q95)-1,COLUMNS($Q$26:Q95)-1),\"\")","v":"DR-306"},{"$f":"IF(OFFSET(DE104_9!$R$26,ROWS($R$26:R95)-1,COLUMNS($R$26:R95)-1)<>\"\",OFFSET(DE104_9!$R$26,ROWS($R$26:R95)-1,COLUMNS($R$26:R95)-1),\"\")","v":" "},{"$f":"IF(OFFSET(DE104_9!$S$26,ROWS($S$26:S95)-1,COLUMNS($S$26:S95)-1)<>\"\",OFFSET(DE104_9!$S$26,ROWS($S$26:S95)-1,COLUMNS($S$26:S95)-1),\"\")","v":0.4},{"$f":"IF(OFFSET(DE104_9!$T$26,ROWS($T$26:T95)-1,COLUMNS($T$26:T95)-1)<>\"\",OFFSET(DE104_9!$T$26,ROWS($T$26:T95)-1,COLUMNS($T$26:T95)-1),\"\")","v":""}]
[{"$f":"IF(OFFSET(DE104_9!$C$26,ROWS($C$26:C96)-1,COLUMNS($C$26:C96)-1)<>\"\",OFFSET(DE104_9!$C$26,ROWS($C$26:C96)-1,COLUMNS($C$26:C96)-1),\"\")","v":38},{"$f":"IF(OFFSET(DE104_9!$D$26,ROWS($D$26:D96)-1,COLUMNS($D$26:D96)-1)<>\"\",OFFSET(DE104_9!$D$26,ROWS($D$26:D96)-1,COLUMNS($D$26:D96)-1),\"\")","v":"WBL"},{"$f":"IF(OFFSET(DE104_9!$E$26,ROWS($E$26:E96)-1,COLUMNS($E$26:E96)-1)<>\"\",OFFSET(DE104_9!$E$26,ROWS($E$26:E96)-1,COLUMNS($E$26:E96)-1),\"\")","v":141900},{"$f":"IF(OFFSET(DE104_9!$F$26,ROWS($F$26:F96)-1,COLUMNS($F$26:F96)-1)<>\"\",OFFSET(DE104_9!$F$26,ROWS($F$26:F96)-1,COLUMNS($F$26:F96)-1),\"\")","v":142400},{"$f":"IF(OFFSET(DE104_9!$G$26,ROWS($G$26:G96)-1,COLUMNS($G$26:G96)-1)<>\"\",OFFSET(DE104_9!$G$26,ROWS($G$26:G96)-1,COLUMNS($G$26:G96)-1),\"\")","v":"LT"},{"$f":"IF(OFFSET(DE104_9!$H$26,ROWS($H$26:H96)-1,COLUMNS($H$26:H96)-1)<>\"\",OFFSET(DE104_9!$H$26,ROWS($H$26:H96)-1,COLUMNS($H$26:H96)-1),\"\")","v":42},{"$f":"IF(OFFSET(DE104_9!$I$26,ROWS($I$26:I96)-1,COLUMNS($I$26:I96)-1)<>\"\",OFFSET(DE104_9!$I$26,ROWS($I$26:I96)-1,COLUMNS($I$26:I96)-1),\"\")","v":4},{"$f":"IF(OFFSET(DE104_9!$J$26,ROWS($J$26:J96)-1,COLUMNS($J$26:J96)-1)<>\"\",OFFSET(DE104_9!$J$26,ROWS($J$26:J96)-1,COLUMNS($J$26:J96)-1),\"\")","v":540},{"$f":"IF(OFFSET(DE104_9!$K$26,ROWS($K$26:K96)-1,COLUMNS($K$26:K96)-1)<>\"\",OFFSET(DE104_9!$K$26,ROWS($K$26:K96)-1,COLUMNS($K$26:K96)-1),\"\")","v":""},{"$f":"IF(OFFSET(DE104_9!$L$26,ROWS($L$26:L96)-1,COLUMNS($L$26:L96)-1)<>\"\",OFFSET(DE104_9!$L$26,ROWS($L$26:L96)-1,COLUMNS($L$26:L96)-1),\"\")","v":""},{"$f":"IF(OFFSET(DE104_9!$M$26,ROWS($M$26:M96)-1,COLUMNS($M$26:M96)-1)<>\"\",OFFSET(DE104_9!$M$26,ROWS($M$26:M96)-1,COLUMNS($M$26:M96)-1),\"\")","v":""},{"$f":"IF(OFFSET(DE104_9!$N$26,ROWS($N$26:N96)-1,COLUMNS($N$26:N96)-1)<>\"\",OFFSET(DE104_9!$N$26,ROWS($N$26:N96)-1,COLUMNS($N$26:N96)-1),\"\")","v":""},{"$f":"IF(OFFSET(DE104_9!$O$26,ROWS($O$26:O96)-1,COLUMNS($O$26:O96)-1)<>\"\",OFFSET(DE104_9!$O$26,ROWS($O$26:O96)-1,COLUMNS($O$26:O96)-1),\"\")","v":""},{"$f":"IF(OFFSET(DE104_9!$P$26,ROWS($P$26:P96)-1,COLUMNS($P$26:P96)-1)<>\"\",OFFSET(DE104_9!$P$26,ROWS($P$26:P96)-1,COLUMNS($P$26:P96)-1),\"\")","v":141900},{"$f":"IF(OFFSET(DE104_9!$Q$26,ROWS($Q$26:Q96)-1,COLUMNS($Q$26:Q96)-1)<>\"\",OFFSET(DE104_9!$Q$26,ROWS($Q$26:Q96)-1,COLUMNS($Q$26:Q96)-1),\"\")","v":"DR-306"},{"$f":"IF(OFFSET(DE104_9!$R$26,ROWS($R$26:R96)-1,COLUMNS($R$26:R96)-1)<>\"\",OFFSET(DE104_9!$R$26,ROWS($R$26:R96)-1,COLUMNS($R$26:R96)-1),\"\")","v":50},{"$f":"IF(OFFSET(DE104_9!$S$26,ROWS($S$26:S96)-1,COLUMNS($S$26:S96)-1)<>\"\",OFFSET(DE104_9!$S$26,ROWS($S$26:S96)-1,COLUMNS($S$26:S96)-1),\"\")","v":0.4},{"$f":"IF(OFFSET(DE104_9!$T$26,ROWS($T$26:T96)-1,COLUMNS($T$26:T96)-1)<>\"\",OFFSET(DE104_9!$T$26,ROWS($T$26:T96)-1,COLUMNS($T$26:T96)-1),\"\")","v":""}]
[{"$f":"IF(OFFSET(DE104_9!$C$26,ROWS($C$26:C97)-1,COLUMNS($C$26:C97)-1)<>\"\",OFFSET(DE104_9!$C$26,ROWS($C$26:C97)-1,COLUMNS($C$26:C97)-1),\"\")","v":""},{"$f":"IF(OFFSET(DE104_9!$D$26,ROWS($D$26:D97)-1,COLUMNS($D$26:D97)-1)<>\"\",OFFSET(DE104_9!$D$26,ROWS($D$26:D97)-1,COLUMNS($D$26:D97)-1),\"\")","v":""},{"$f":"IF(OFFSET(DE104_9!$E$26,ROWS($E$26:E97)-1,COLUMNS($E$26:E97)-1)<>\"\",OFFSET(DE104_9!$E$26,ROWS($E$26:E97)-1,COLUMNS($E$26:E97)-1),\"\")","v":""},{"$f":"IF(OFFSET(DE104_9!$F$26,ROWS($F$26:F97)-1,COLUMNS($F$26:F97)-1)<>\"\",OFFSET(DE104_9!$F$26,ROWS($F$26:F97)-1,COLUMNS($F$26:F97)-1),\"\")","v":""},{"$f":"IF(OFFSET(DE104_9!$G$26,ROWS($G$26:G97)-1,COLUMNS($G$26:G97)-1)<>\"\",OFFSET(DE104_9!$G$26,ROWS($G$26:G97)-1,COLUMNS($G$26:G97)-1),\"\")","v":""},{"$f":"IF(OFFSET(DE104_9!$H$26,ROWS($H$26:H97)-1,COLUMNS($H$26:H97)-1)<>\"\",OFFSET(DE104_9!$H$26,ROWS($H$26:H97)-1,COLUMNS($H$26:H97)-1),\"\")","v":" "},{"$f":"IF(OFFSET(DE104_9!$I$26,ROWS($I$26:I97)-1,COLUMNS($I$26:I97)-1)<>\"\",OFFSET(DE104_9!$I$26,ROWS($I$26:I97)-1,COLUMNS($I$26:I97)-1),\"\")","v":""},{"$f":"IF(OFFSET(DE104_9!$J$26,ROWS($J$26:J97)-1,COLUMNS($J$26:J97)-1)<>\"\",OFFSET(DE104_9!$J$26,ROWS($J$26:J97)-1,COLUMNS($J$26:J97)-1),\"\")","v":""},{"$f":"IF(OFFSET(DE104_9!$K$26,ROWS($K$26:K97)-1,COLUMNS($K$26:K97)-1)<>\"\",OFFSET(DE104_9!$K$26,ROWS($K$26:K97)-1,COLUMNS($K$26:K97)-1),\"\")","v":""},{"$f":"IF(OFFSET(DE104_9!$L$26,ROWS($L$26:L97)-1,COLUMNS($L$26:L97)-1)<>\"\",OFFSET(DE104_9!$L$26,ROWS($L$26:L97)-1,COLUMNS($L$26:L97)-1),\"\")","v":""},{"$f":"IF(OFFSET(DE104_9!$M$26,ROWS($M$26:M97)-1,COLUMNS($M$26:M97)-1)<>\"\",OFFSET(DE104_9!$M$26,ROWS($M$26:M97)-1,COLUMNS($M$26:M97)-1),\"\")","v":""},{"$f":"IF(OFFSET(DE104_9!$N$26,ROWS($N$26:N97)-1,COLUMNS($N$26:N97)-1)<>\"\",OFFSET(DE104_9!$N$26,ROWS($N$26:N97)-1,COLUMNS($N$26:N97)-1),\"\")","v":""},{"$f":"IF(OFFSET(DE104_9!$O$26,ROWS($O$26:O97)-1,COLUMNS($O$26:O97)-1)<>\"\",OFFSET(DE104_9!$O$26,ROWS($O$26:O97)-1,COLUMNS($O$26:O97)-1),\"\")","v":""},{"$f":"IF(OFFSET(DE104_9!$P$26,ROWS($P$26:P97)-1,COLUMNS($P$26:P97)-1)<>\"\",OFFSET(DE104_9!$P$26,ROWS($P$26:P97)-1,COLUMNS($P$26:P97)-1),\"\")","v":142400},{"$f":"IF(OFFSET(DE104_9!$Q$26,ROWS($Q$26:Q97)-1,COLUMNS($Q$26:Q97)-1)<>\"\",OFFSET(DE104_9!$Q$26,ROWS($Q$26:Q97)-1,COLUMNS($Q$26:Q97)-1),\"\")","v":"DR-306"},{"$f":"IF(OFFSET(DE104_9!$R$26,ROWS($R$26:R97)-1,COLUMNS($R$26:R97)-1)<>\"\",OFFSET(DE104_9!$R$26,ROWS($R$26:R97)-1,COLUMNS($R$26:R97)-1),\"\")","v":" "},{"$f":"IF(OFFSET(DE104_9!$S$26,ROWS($S$26:S97)-1,COLUMNS($S$26:S97)-1)<>\"\",OFFSET(DE104_9!$S$26,ROWS($S$26:S97)-1,COLUMNS($S$26:S97)-1),\"\")","v":0.4},{"$f":"IF(OFFSET(DE104_9!$T$26,ROWS($T$26:T97)-1,COLUMNS($T$26:T97)-1)<>\"\",OFFSET(DE104_9!$T$26,ROWS($T$26:T97)-1,COLUMNS($T$26:T97)-1),\"\")","v":""}]
[{"$f":"IF(OFFSET(DE104_9!$C$26,ROWS($C$26:C98)-1,COLUMNS($C$26:C98)-1)<>\"\",OFFSET(DE104_9!$C$26,ROWS($C$26:C98)-1,COLUMNS($C$26:C98)-1),\"\")","v":39},{"$f":"IF(OFFSET(DE104_9!$D$26,ROWS($D$26:D98)-1,COLUMNS($D$26:D98)-1)<>\"\",OFFSET(DE104_9!$D$26,ROWS($D$26:D98)-1,COLUMNS($D$26:D98)-1),\"\")","v":"WBL"},{"$f":"IF(OFFSET(DE104_9!$E$26,ROWS($E$26:E98)-1,COLUMNS($E$26:E98)-1)<>\"\",OFFSET(DE104_9!$E$26,ROWS($E$26:E98)-1,COLUMNS($E$26:E98)-1),\"\")","v":142400},{"$f":"IF(OFFSET(DE104_9!$F$26,ROWS($F$26:F98)-1,COLUMNS($F$26:F98)-1)<>\"\",OFFSET(DE104_9!$F$26,ROWS($F$26:F98)-1,COLUMNS($F$26:F98)-1),\"\")","v":142900},{"$f":"IF(OFFSET(DE104_9!$G$26,ROWS($G$26:G98)-1,COLUMNS($G$26:G98)-1)<>\"\",OFFSET(DE104_9!$G$26,ROWS($G$26:G98)-1,COLUMNS($G$26:G98)-1),\"\")","v":"LT"},{"$f":"IF(OFFSET(DE104_9!$H$26,ROWS($H$26:H98)-1,COLUMNS($H$26:H98)-1)<>\"\",OFFSET(DE104_9!$H$26,ROWS($H$26:H98)-1,COLUMNS($H$26:H98)-1),\"\")","v":42},{"$f":"IF(OFFSET(DE104_9!$I$26,ROWS($I$26:I98)-1,COLUMNS($I$26:I98)-1)<>\"\",OFFSET(DE104_9!$I$26,ROWS($I$26:I98)-1,COLUMNS($I$26:I98)-1),\"\")","v":4},{"$f":"IF(OFFSET(DE104_9!$J$26,ROWS($J$26:J98)-1,COLUMNS($J$26:J98)-1)<>\"\",OFFSET(DE104_9!$J$26,ROWS($J$26:J98)-1,COLUMNS($J$26:J98)-1),\"\")","v":540},{"$f":"IF(OFFSET(DE104_9!$K$26,ROWS($K$26:K98)-1,COLUMNS($K$26:K98)-1)<>\"\",OFFSET(DE104_9!$K$26,ROWS($K$26:K98)-1,COLUMNS($K$26:K98)-1),\"\")","v":""},{"$f":"IF(OFFSET(DE104_9!$L$26,ROWS($L$26:L98)-1,COLUMNS($L$26:L98)-1)<>\"\",OFFSET(DE104_9!$L$26,ROWS($L$26:L98)-1,COLUMNS($L$26:L98)-1),\"\")","v":""},{"$f":"IF(OFFSET(DE104_9!$M$26,ROWS($M$26:M98)-1,COLUMNS($M$26:M98)-1)<>\"\",OFFSET(DE104_9!$M$26,ROWS($M$26:M98)-1,COLUMNS($M$26:M98)-1),\"\")","v":""},{"$f":"IF(OFFSET(DE104_9!$N$26,ROWS($N$26:N98)-1,COLUMNS($N$26:N98)-1)<>\"\",OFFSET(DE104_9!$N$26,ROWS($N$26:N98)-1,COLUMNS($N$26:N98)-1),\"\")","v":""},{"$f":"IF(OFFSET(DE104_9!$O$26,ROWS($O$26:O98)-1,COLUMNS($O$26:O98)-1)<>\"\",OFFSET(DE104_9!$O$26,ROWS($O$26:O98)-1,COLUMNS($O$26:O98)-1),\"\")","v":""},{"$f":"IF(OFFSET(DE104_9!$P$26,ROWS($P$26:P98)-1,COLUMNS($P$26:P98)-1)<>\"\",OFFSET(DE104_9!$P$26,ROWS($P$26:P98)-1,COLUMNS($P$26:P98)-1),\"\")","v":142400},{"$f":"IF(OFFSET(DE104_9!$Q$26,ROWS($Q$26:Q98)-1,COLUMNS($Q$26:Q98)-1)<>\"\",OFFSET(DE104_9!$Q$26,ROWS($Q$26:Q98)-1,COLUMNS($Q$26:Q98)-1),\"\")","v":"DR-306"},{"$f":"IF(OFFSET(DE104_9!$R$26,ROWS($R$26:R98)-1,COLUMNS($R$26:R98)-1)<>\"\",OFFSET(DE104_9!$R$26,ROWS($R$26:R98)-1,COLUMNS($R$26:R98)-1),\"\")","v":50},{"$f":"IF(OFFSET(DE104_9!$S$26,ROWS($S$26:S98)-1,COLUMNS($S$26:S98)-1)<>\"\",OFFSET(DE104_9!$S$26,ROWS($S$26:S98)-1,COLUMNS($S$26:S98)-1),\"\")","v":0.4},{"$f":"IF(OFFSET(DE104_9!$T$26,ROWS($T$26:T98)-1,COLUMNS($T$26:T98)-1)<>\"\",OFFSET(DE104_9!$T$26,ROWS($T$26:T98)-1,COLUMNS($T$26:T98)-1),\"\")","v":""}]
[{"$f":"IF(OFFSET(DE104_9!$C$26,ROWS($C$26:C99)-1,COLUMNS($C$26:C99)-1)<>\"\",OFFSET(DE104_9!$C$26,ROWS($C$26:C99)-1,COLUMNS($C$26:C99)-1),\"\")","v":""},{"$f":"IF(OFFSET(DE104_9!$D$26,ROWS($D$26:D99)-1,COLUMNS($D$26:D99)-1)<>\"\",OFFSET(DE104_9!$D$26,ROWS($D$26:D99)-1,COLUMNS($D$26:D99)-1),\"\")","v":""},{"$f":"IF(OFFSET(DE104_9!$E$26,ROWS($E$26:E99)-1,COLUMNS($E$26:E99)-1)<>\"\",OFFSET(DE104_9!$E$26,ROWS($E$26:E99)-1,COLUMNS($E$26:E99)-1),\"\")","v":""},{"$f":"IF(OFFSET(DE104_9!$F$26,ROWS($F$26:F99)-1,COLUMNS($F$26:F99)-1)<>\"\",OFFSET(DE104_9!$F$26,ROWS($F$26:F99)-1,COLUMNS($F$26:F99)-1),\"\")","v":""},{"$f":"IF(OFFSET(DE104_9!$G$26,ROWS($G$26:G99)-1,COLUMNS($G$26:G99)-1)<>\"\",OFFSET(DE104_9!$G$26,ROWS($G$26:G99)-1,COLUMNS($G$26:G99)-1),\"\")","v":""},{"$f":"IF(OFFSET(DE104_9!$H$26,ROWS($H$26:H99)-1,COLUMNS($H$26:H99)-1)<>\"\",OFFSET(DE104_9!$H$26,ROWS($H$26:H99)-1,COLUMNS($H$26:H99)-1),\"\")","v":" "},{"$f":"IF(OFFSET(DE104_9!$I$26,ROWS($I$26:I99)-1,COLUMNS($I$26:I99)-1)<>\"\",OFFSET(DE104_9!$I$26,ROWS($I$26:I99)-1,COLUMNS($I$26:I99)-1),\"\")","v":""},{"$f":"IF(OFFSET(DE104_9!$J$26,ROWS($J$26:J99)-1,COLUMNS($J$26:J99)-1)<>\"\",OFFSET(DE104_9!$J$26,ROWS($J$26:J99)-1,COLUMNS($J$26:J99)-1),\"\")","v":""},{"$f":"IF(OFFSET(DE104_9!$K$26,ROWS($K$26:K99)-1,COLUMNS($K$26:K99)-1)<>\"\",OFFSET(DE104_9!$K$26,ROWS($K$26:K99)-1,COLUMNS($K$26:K99)-1),\"\")","v":""},{"$f":"IF(OFFSET(DE104_9!$L$26,ROWS($L$26:L99)-1,COLUMNS($L$26:L99)-1)<>\"\",OFFSET(DE104_9!$L$26,ROWS($L$26:L99)-1,COLUMNS($L$26:L99)-1),\"\")","v":""},{"$f":"IF(OFFSET(DE104_9!$M$26,ROWS($M$26:M99)-1,COLUMNS($M$26:M99)-1)<>\"\",OFFSET(DE104_9!$M$26,ROWS($M$26:M99)-1,COLUMNS($M$26:M99)-1),\"\")","v":""},{"$f":"IF(OFFSET(DE104_9!$N$26,ROWS($N$26:N99)-1,COLUMNS($N$26:N99)-1)<>\"\",OFFSET(DE104_9!$N$26,ROWS($N$26:N99)-1,COLUMNS($N$26:N99)-1),\"\")","v":""},{"$f":"IF(OFFSET(DE104_9!$O$26,ROWS($O$26:O99)-1,COLUMNS($O$26:O99)-1)<>\"\",OFFSET(DE104_9!$O$26,ROWS($O$26:O99)-1,COLUMNS($O$26:O99)-1),\"\")","v":""},{"$f":"IF(OFFSET(DE104_9!$P$26,ROWS($P$26:P99)-1,COLUMNS($P$26:P99)-1)<>\"\",OFFSET(DE104_9!$P$26,ROWS($P$26:P99)-1,COLUMNS($P$26:P99)-1),\"\")","v":142900},{"$f":"IF(OFFSET(DE104_9!$Q$26,ROWS($Q$26:Q99)-1,COLUMNS($Q$26:Q99)-1)<>\"\",OFFSET(DE104_9!$Q$26,ROWS($Q$26:Q99)-1,COLUMNS($Q$26:Q99)-1),\"\")","v":"DR-306"},{"$f":"IF(OFFSET(DE104_9!$R$26,ROWS($R$26:R99)-1,COLUMNS($R$26:R99)-1)<>\"\",OFFSET(DE104_9!$R$26,ROWS($R$26:R99)-1,COLUMNS($R$26:R99)-1),\"\")","v":" "},{"$f":"IF(OFFSET(DE104_9!$S$26,ROWS($S$26:S99)-1,COLUMNS($S$26:S99)-1)<>\"\",OFFSET(DE104_9!$S$26,ROWS($S$26:S99)-1,COLUMNS($S$26:S99)-1),\"\")","v":0.4},{"$f":"IF(OFFSET(DE104_9!$T$26,ROWS($T$26:T99)-1,COLUMNS($T$26:T99)-1)<>\"\",OFFSET(DE104_9!$T$26,ROWS($T$26:T99)-1,COLUMNS($T$26:T99)-1),\"\")","v":""}]
[{"$f":"IF(OFFSET(DE104_9!$C$26,ROWS($C$26:C100)-1,COLUMNS($C$26:C100)-1)<>\"\",OFFSET(DE104_9!$C$26,ROWS($C$26:C100)-1,COLUMNS($C$26:C100)-1),\"\")","v":40},{"$f":"IF(OFFSET(DE104_9!$D$26,ROWS($D$26:D100)-1,COLUMNS($D$26:D100)-1)<>\"\",OFFSET(DE104_9!$D$26,ROWS($D$26:D100)-1,COLUMNS($D$26:D100)-1),\"\")","v":"WBL"},{"$f":"IF(OFFSET(DE104_9!$E$26,ROWS($E$26:E100)-1,COLUMNS($E$26:E100)-1)<>\"\",OFFSET(DE104_9!$E$26,ROWS($E$26:E100)-1,COLUMNS($E$26:E100)-1),\"\")","v":142900},{"$f":"IF(OFFSET(DE104_9!$F$26,ROWS($F$26:F100)-1,COLUMNS($F$26:F100)-1)<>\"\",OFFSET(DE104_9!$F$26,ROWS($F$26:F100)-1,COLUMNS($F$26:F100)-1),\"\")","v":143400},{"$f":"IF(OFFSET(DE104_9!$G$26,ROWS($G$26:G100)-1,COLUMNS($G$26:G100)-1)<>\"\",OFFSET(DE104_9!$G$26,ROWS($G$26:G100)-1,COLUMNS($G$26:G100)-1),\"\")","v":"LT"},{"$f":"IF(OFFSET(DE104_9!$H$26,ROWS($H$26:H100)-1,COLUMNS($H$26:H100)-1)<>\"\",OFFSET(DE104_9!$H$26,ROWS($H$26:H100)-1,COLUMNS($H$26:H100)-1),\"\")","v":42},{"$f":"IF(OFFSET(DE104_9!$I$26,ROWS($I$26:I100)-1,COLUMNS($I$26:I100)-1)<>\"\",OFFSET(DE104_9!$I$26,ROWS($I$26:I100)-1,COLUMNS($I$26:I100)-1),\"\")","v":4},{"$f":"IF(OFFSET(DE104_9!$J$26,ROWS($J$26:J100)-1,COLUMNS($J$26:J100)-1)<>\"\",OFFSET(DE104_9!$J$26,ROWS($J$26:J100)-1,COLUMNS($J$26:J100)-1),\"\")","v":540},{"$f":"IF(OFFSET(DE104_9!$K$26,ROWS($K$26:K100)-1,COLUMNS($K$26:K100)-1)<>\"\",OFFSET(DE104_9!$K$26,ROWS($K$26:K100)-1,COLUMNS($K$26:K100)-1),\"\")","v":""},{"$f":"IF(OFFSET(DE104_9!$L$26,ROWS($L$26:L100)-1,COLUMNS($L$26:L100)-1)<>\"\",OFFSET(DE104_9!$L$26,ROWS($L$26:L100)-1,COLUMNS($L$26:L100)-1),\"\")","v":""},{"$f":"IF(OFFSET(DE104_9!$M$26,ROWS($M$26:M100)-1,COLUMNS($M$26:M100)-1)<>\"\",OFFSET(DE104_9!$M$26,ROWS($M$26:M100)-1,COLUMNS($M$26:M100)-1),\"\")","v":""},{"$f":"IF(OFFSET(DE104_9!$N$26,ROWS($N$26:N100)-1,COLUMNS($N$26:N100)-1)<>\"\",OFFSET(DE104_9!$N$26,ROWS($N$26:N100)-1,COLUMNS($N$26:N100)-1),\"\")","v":""},{"$f":"IF(OFFSET(DE104_9!$O$26,ROWS($O$26:O100)-1,COLUMNS($O$26:O100)-1)<>\"\",OFFSET(DE104_9!$O$26,ROWS($O$26:O100)-1,COLUMNS($O$26:O100)-1),\"\")","v":""},{"$f":"IF(OFFSET(DE104_9!$P$26,ROWS($P$26:P100)-1,COLUMNS($P$26:P100)-1)<>\"\",OFFSET(DE104_9!$P$26,ROWS($P$26:P100)-1,COLUMNS($P$26:P100)-1),\"\")","v":142900},{"$f":"IF(OFFSET(DE104_9!$Q$26,ROWS($Q$26:Q100)-1,COLUMNS($Q$26:Q100)-1)<>\"\",OFFSET(DE104_9!$Q$26,ROWS($Q$26:Q100)-1,COLUMNS($Q$26:Q100)-1),\"\")","v":"DR-306"},{"$f":"IF(OFFSET(DE104_9!$R$26,ROWS($R$26:R100)-1,COLUMNS($R$26:R100)-1)<>\"\",OFFSET(DE104_9!$R$26,ROWS($R$26:R100)-1,COLUMNS($R$26:R100)-1),\"\")","v":50},{"$f":"IF(OFFSET(DE104_9!$S$26,ROWS($S$26:S100)-1,COLUMNS($S$26:S100)-1)<>\"\",OFFSET(DE104_9!$S$26,ROWS($S$26:S100)-1,COLUMNS($S$26:S100)-1),\"\")","v":0.4},{"$f":"IF(OFFSET(DE104_9!$T$26,ROWS($T$26:T100)-1,COLUMNS($T$26:T100)-1)<>\"\",OFFSET(DE104_9!$T$26,ROWS($T$26:T100)-1,COLUMNS($T$26:T100)-1),\"\")","v":""}]
[{"$f":"IF(OFFSET(DE104_9!$C$26,ROWS($C$26:C101)-1,COLUMNS($C$26:C101)-1)<>\"\",OFFSET(DE104_9!$C$26,ROWS($C$26:C101)-1,COLUMNS($C$26:C101)-1),\"\")","v":""},{"$f":"IF(OFFSET(DE104_9!$D$26,ROWS($D$26:D101)-1,COLUMNS($D$26:D101)-1)<>\"\",OFFSET(DE104_9!$D$26,ROWS($D$26:D101)-1,COLUMNS($D$26:D101)-1),\"\")","v":""},{"$f":"IF(OFFSET(DE104_9!$E$26,ROWS($E$26:E101)-1,COLUMNS($E$26:E101)-1)<>\"\",OFFSET(DE104_9!$E$26,ROWS($E$26:E101)-1,COLUMNS($E$26:E101)-1),\"\")","v":""},{"$f":"IF(OFFSET(DE104_9!$F$26,ROWS($F$26:F101)-1,COLUMNS($F$26:F101)-1)<>\"\",OFFSET(DE104_9!$F$26,ROWS($F$26:F101)-1,COLUMNS($F$26:F101)-1),\"\")","v":""},{"$f":"IF(OFFSET(DE104_9!$G$26,ROWS($G$26:G101)-1,COLUMNS($G$26:G101)-1)<>\"\",OFFSET(DE104_9!$G$26,ROWS($G$26:G101)-1,COLUMNS($G$26:G101)-1),\"\")","v":""},{"$f":"IF(OFFSET(DE104_9!$H$26,ROWS($H$26:H101)-1,COLUMNS($H$26:H101)-1)<>\"\",OFFSET(DE104_9!$H$26,ROWS($H$26:H101)-1,COLUMNS($H$26:H101)-1),\"\")","v":" "},{"$f":"IF(OFFSET(DE104_9!$I$26,ROWS($I$26:I101)-1,COLUMNS($I$26:I101)-1)<>\"\",OFFSET(DE104_9!$I$26,ROWS($I$26:I101)-1,COLUMNS($I$26:I101)-1),\"\")","v":""},{"$f":"IF(OFFSET(DE104_9!$J$26,ROWS($J$26:J101)-1,COLUMNS($J$26:J101)-1)<>\"\",OFFSET(DE104_9!$J$26,ROWS($J$26:J101)-1,COLUMNS($J$26:J101)-1),\"\")","v":""},{"$f":"IF(OFFSET(DE104_9!$K$26,ROWS($K$26:K101)-1,COLUMNS($K$26:K101)-1)<>\"\",OFFSET(DE104_9!$K$26,ROWS($K$26:K101)-1,COLUMNS($K$26:K101)-1),\"\")","v":""},{"$f":"IF(OFFSET(DE104_9!$L$26,ROWS($L$26:L101)-1,COLUMNS($L$26:L101)-1)<>\"\",OFFSET(DE104_9!$L$26,ROWS($L$26:L101)-1,COLUMNS($L$26:L101)-1),\"\")","v":""},{"$f":"IF(OFFSET(DE104_9!$M$26,ROWS($M$26:M101)-1,COLUMNS($M$26:M101)-1)<>\"\",OFFSET(DE104_9!$M$26,ROWS($M$26:M101)-1,COLUMNS($M$26:M101)-1),\"\")","v":""},{"$f":"IF(OFFSET(DE104_9!$N$26,ROWS($N$26:N101)-1,COLUMNS($N$26:N101)-1)<>\"\",OFFSET(DE104_9!$N$26,ROWS($N$26:N101)-1,COLUMNS($N$26:N101)-1),\"\")","v":""},{"$f":"IF(OFFSET(DE104_9!$O$26,ROWS($O$26:O101)-1,COLUMNS($O$26:O101)-1)<>\"\",OFFSET(DE104_9!$O$26,ROWS($O$26:O101)-1,COLUMNS($O$26:O101)-1),\"\")","v":""},{"$f":"IF(OFFSET(DE104_9!$P$26,ROWS($P$26:P101)-1,COLUMNS($P$26:P101)-1)<>\"\",OFFSET(DE104_9!$P$26,ROWS($P$26:P101)-1,COLUMNS($P$26:P101)-1),\"\")","v":143400},{"$f":"IF(OFFSET(DE104_9!$Q$26,ROWS($Q$26:Q101)-1,COLUMNS($Q$26:Q101)-1)<>\"\",OFFSET(DE104_9!$Q$26,ROWS($Q$26:Q101)-1,COLUMNS($Q$26:Q101)-1),\"\")","v":"DR-306"},{"$f":"IF(OFFSET(DE104_9!$R$26,ROWS($R$26:R101)-1,COLUMNS($R$26:R101)-1)<>\"\",OFFSET(DE104_9!$R$26,ROWS($R$26:R101)-1,COLUMNS($R$26:R101)-1),\"\")","v":" "},{"$f":"IF(OFFSET(DE104_9!$S$26,ROWS($S$26:S101)-1,COLUMNS($S$26:S101)-1)<>\"\",OFFSET(DE104_9!$S$26,ROWS($S$26:S101)-1,COLUMNS($S$26:S101)-1),\"\")","v":0.4},{"$f":"IF(OFFSET(DE104_9!$T$26,ROWS($T$26:T101)-1,COLUMNS($T$26:T101)-1)<>\"\",OFFSET(DE104_9!$T$26,ROWS($T$26:T101)-1,COLUMNS($T$26:T101)-1),\"\")","v":""}]
[{"$f":"IF(OFFSET(DE104_9!$C$26,ROWS($C$26:C102)-1,COLUMNS($C$26:C102)-1)<>\"\",OFFSET(DE104_9!$C$26,ROWS($C$26:C102)-1,COLUMNS($C$26:C102)-1),\"\")","v":41},{"$f":"IF(OFFSET(DE104_9!$D$26,ROWS($D$26:D102)-1,COLUMNS($D$26:D102)-1)<>\"\",OFFSET(DE104_9!$D$26,ROWS($D$26:D102)-1,COLUMNS($D$26:D102)-1),\"\")","v":"WBL"},{"$f":"IF(OFFSET(DE104_9!$E$26,ROWS($E$26:E102)-1,COLUMNS($E$26:E102)-1)<>\"\",OFFSET(DE104_9!$E$26,ROWS($E$26:E102)-1,COLUMNS($E$26:E102)-1),\"\")","v":143400},{"$f":"IF(OFFSET(DE104_9!$F$26,ROWS($F$26:F102)-1,COLUMNS($F$26:F102)-1)<>\"\",OFFSET(DE104_9!$F$26,ROWS($F$26:F102)-1,COLUMNS($F$26:F102)-1),\"\")","v":143900},{"$f":"IF(OFFSET(DE104_9!$G$26,ROWS($G$26:G102)-1,COLUMNS($G$26:G102)-1)<>\"\",OFFSET(DE104_9!$G$26,ROWS($G$26:G102)-1,COLUMNS($G$26:G102)-1),\"\")","v":"LT"},{"$f":"IF(OFFSET(DE104_9!$H$26,ROWS($H$26:H102)-1,COLUMNS($H$26:H102)-1)<>\"\",OFFSET(DE104_9!$H$26,ROWS($H$26:H102)-1,COLUMNS($H$26:H102)-1),\"\")","v":42},{"$f":"IF(OFFSET(DE104_9!$I$26,ROWS($I$26:I102)-1,COLUMNS($I$26:I102)-1)<>\"\",OFFSET(DE104_9!$I$26,ROWS($I$26:I102)-1,COLUMNS($I$26:I102)-1),\"\")","v":4},{"$f":"IF(OFFSET(DE104_9!$J$26,ROWS($J$26:J102)-1,COLUMNS($J$26:J102)-1)<>\"\",OFFSET(DE104_9!$J$26,ROWS($J$26:J102)-1,COLUMNS($J$26:J102)-1),\"\")","v":540},{"$f":"IF(OFFSET(DE104_9!$K$26,ROWS($K$26:K102)-1,COLUMNS($K$26:K102)-1)<>\"\",OFFSET(DE104_9!$K$26,ROWS($K$26:K102)-1,COLUMNS($K$26:K102)-1),\"\")","v":""},{"$f":"IF(OFFSET(DE104_9!$L$26,ROWS($L$26:L102)-1,COLUMNS($L$26:L102)-1)<>\"\",OFFSET(DE104_9!$L$26,ROWS($L$26:L102)-1,COLUMNS($L$26:L102)-1),\"\")","v":""},{"$f":"IF(OFFSET(DE104_9!$M$26,ROWS($M$26:M102)-1,COLUMNS($M$26:M102)-1)<>\"\",OFFSET(DE104_9!$M$26,ROWS($M$26:M102)-1,COLUMNS($M$26:M102)-1),\"\")","v":""},{"$f":"IF(OFFSET(DE104_9!$N$26,ROWS($N$26:N102)-1,COLUMNS($N$26:N102)-1)<>\"\",OFFSET(DE104_9!$N$26,ROWS($N$26:N102)-1,COLUMNS($N$26:N102)-1),\"\")","v":""},{"$f":"IF(OFFSET(DE104_9!$O$26,ROWS($O$26:O102)-1,COLUMNS($O$26:O102)-1)<>\"\",OFFSET(DE104_9!$O$26,ROWS($O$26:O102)-1,COLUMNS($O$26:O102)-1),\"\")","v":""},{"$f":"IF(OFFSET(DE104_9!$P$26,ROWS($P$26:P102)-1,COLUMNS($P$26:P102)-1)<>\"\",OFFSET(DE104_9!$P$26,ROWS($P$26:P102)-1,COLUMNS($P$26:P102)-1),\"\")","v":143400},{"$f":"IF(OFFSET(DE104_9!$Q$26,ROWS($Q$26:Q102)-1,COLUMNS($Q$26:Q102)-1)<>\"\",OFFSET(DE104_9!$Q$26,ROWS($Q$26:Q102)-1,COLUMNS($Q$26:Q102)-1),\"\")","v":"DR-306"},{"$f":"IF(OFFSET(DE104_9!$R$26,ROWS($R$26:R102)-1,COLUMNS($R$26:R102)-1)<>\"\",OFFSET(DE104_9!$R$26,ROWS($R$26:R102)-1,COLUMNS($R$26:R102)-1),\"\")","v":50},{"$f":"IF(OFFSET(DE104_9!$S$26,ROWS($S$26:S102)-1,COLUMNS($S$26:S102)-1)<>\"\",OFFSET(DE104_9!$S$26,ROWS($S$26:S102)-1,COLUMNS($S$26:S102)-1),\"\")","v":0.4},{"$f":"IF(OFFSET(DE104_9!$T$26,ROWS($T$26:T102)-1,COLUMNS($T$26:T102)-1)<>\"\",OFFSET(DE104_9!$T$26,ROWS($T$26:T102)-1,COLUMNS($T$26:T102)-1),\"\")","v":""}]
[{"$f":"IF(OFFSET(DE104_9!$C$26,ROWS($C$26:C103)-1,COLUMNS($C$26:C103)-1)<>\"\",OFFSET(DE104_9!$C$26,ROWS($C$26:C103)-1,COLUMNS($C$26:C103)-1),\"\")","v":""},{"$f":"IF(OFFSET(DE104_9!$D$26,ROWS($D$26:D103)-1,COLUMNS($D$26:D103)-1)<>\"\",OFFSET(DE104_9!$D$26,ROWS($D$26:D103)-1,COLUMNS($D$26:D103)-1),\"\")","v":""},{"$f":"IF(OFFSET(DE104_9!$E$26,ROWS($E$26:E103)-1,COLUMNS($E$26:E103)-1)<>\"\",OFFSET(DE104_9!$E$26,ROWS($E$26:E103)-1,COLUMNS($E$26:E103)-1),\"\")","v":""},{"$f":"IF(OFFSET(DE104_9!$F$26,ROWS($F$26:F103)-1,COLUMNS($F$26:F103)-1)<>\"\",OFFSET(DE104_9!$F$26,ROWS($F$26:F103)-1,COLUMNS($F$26:F103)-1),\"\")","v":""},{"$f":"IF(OFFSET(DE104_9!$G$26,ROWS($G$26:G103)-1,COLUMNS($G$26:G103)-1)<>\"\",OFFSET(DE104_9!$G$26,ROWS($G$26:G103)-1,COLUMNS($G$26:G103)-1),\"\")","v":""},{"$f":"IF(OFFSET(DE104_9!$H$26,ROWS($H$26:H103)-1,COLUMNS($H$26:H103)-1)<>\"\",OFFSET(DE104_9!$H$26,ROWS($H$26:H103)-1,COLUMNS($H$26:H103)-1),\"\")","v":" "},{"$f":"IF(OFFSET(DE104_9!$I$26,ROWS($I$26:I103)-1,COLUMNS($I$26:I103)-1)<>\"\",OFFSET(DE104_9!$I$26,ROWS($I$26:I103)-1,COLUMNS($I$26:I103)-1),\"\")","v":""},{"$f":"IF(OFFSET(DE104_9!$J$26,ROWS($J$26:J103)-1,COLUMNS($J$26:J103)-1)<>\"\",OFFSET(DE104_9!$J$26,ROWS($J$26:J103)-1,COLUMNS($J$26:J103)-1),\"\")","v":""},{"$f":"IF(OFFSET(DE104_9!$K$26,ROWS($K$26:K103)-1,COLUMNS($K$26:K103)-1)<>\"\",OFFSET(DE104_9!$K$26,ROWS($K$26:K103)-1,COLUMNS($K$26:K103)-1),\"\")","v":""},{"$f":"IF(OFFSET(DE104_9!$L$26,ROWS($L$26:L103)-1,COLUMNS($L$26:L103)-1)<>\"\",OFFSET(DE104_9!$L$26,ROWS($L$26:L103)-1,COLUMNS($L$26:L103)-1),\"\")","v":""},{"$f":"IF(OFFSET(DE104_9!$M$26,ROWS($M$26:M103)-1,COLUMNS($M$26:M103)-1)<>\"\",OFFSET(DE104_9!$M$26,ROWS($M$26:M103)-1,COLUMNS($M$26:M103)-1),\"\")","v":""},{"$f":"IF(OFFSET(DE104_9!$N$26,ROWS($N$26:N103)-1,COLUMNS($N$26:N103)-1)<>\"\",OFFSET(DE104_9!$N$26,ROWS($N$26:N103)-1,COLUMNS($N$26:N103)-1),\"\")","v":""},{"$f":"IF(OFFSET(DE104_9!$O$26,ROWS($O$26:O103)-1,COLUMNS($O$26:O103)-1)<>\"\",OFFSET(DE104_9!$O$26,ROWS($O$26:O103)-1,COLUMNS($O$26:O103)-1),\"\")","v":""},{"$f":"IF(OFFSET(DE104_9!$P$26,ROWS($P$26:P103)-1,COLUMNS($P$26:P103)-1)<>\"\",OFFSET(DE104_9!$P$26,ROWS($P$26:P103)-1,COLUMNS($P$26:P103)-1),\"\")","v":143900},{"$f":"IF(OFFSET(DE104_9!$Q$26,ROWS($Q$26:Q103)-1,COLUMNS($Q$26:Q103)-1)<>\"\",OFFSET(DE104_9!$Q$26,ROWS($Q$26:Q103)-1,COLUMNS($Q$26:Q103)-1),\"\")","v":"DR-306"},{"$f":"IF(OFFSET(DE104_9!$R$26,ROWS($R$26:R103)-1,COLUMNS($R$26:R103)-1)<>\"\",OFFSET(DE104_9!$R$26,ROWS($R$26:R103)-1,COLUMNS($R$26:R103)-1),\"\")","v":" "},{"$f":"IF(OFFSET(DE104_9!$S$26,ROWS($S$26:S103)-1,COLUMNS($S$26:S103)-1)<>\"\",OFFSET(DE104_9!$S$26,ROWS($S$26:S103)-1,COLUMNS($S$26:S103)-1),\"\")","v":0.4},{"$f":"IF(OFFSET(DE104_9!$T$26,ROWS($T$26:T103)-1,COLUMNS($T$26:T103)-1)<>\"\",OFFSET(DE104_9!$T$26,ROWS($T$26:T103)-1,COLUMNS($T$26:T103)-1),\"\")","v":""}]
["104-9"]
["2017-10-17"]
["LONGITUDINAL SUBDRAIN SHOULDER AND BACKSLOPE"]
[]
["Refer to Soils Sheets"]
["  * Not a bid item. Bridge berm quantities assume a trench depth of 24 inches."]
["Location",null,null,null,null,null,"Longitudinal Subdrain  (DR-303)",null,null,null,null,null,null,"Subdrain Outlet",null,"Porous*\nBackfill","Class \"A\"*\nCrushed\nStone","Remarks"]
["Line\nNo.","Road or Lane Identification","Station to Station",null,"Side","Depth","Shoulder",null,"Backslope",null,"Bridge Berm (EW-203 or EW-204)",null,null,"DR-303, DR-305 or DR-306"]
[null,null,null,null,null,0]
[null,null,null,null,null,null,"Size","Length","Size","Length","Standard Road Plan and Type","Size","Length","Station","Standard Road Plan and Type"]
[]
[null,null,null,null,null,"IN","IN","FT","IN","FT",null,"IN","FT",null,null,"CY","CY"]
[{"$f":"IF(OFFSET(DE104_9!$C$104,ROWS($C$104:C104)-1,COLUMNS($C$104:C104)-1)<>\"\",OFFSET(DE104_9!$C$104,ROWS($C$104:C104)-1,COLUMNS($C$104:C104)-1),\"\")","v":42},{"$f":"IF(OFFSET(DE104_9!$D$104,ROWS($D$104:D104)-1,COLUMNS($D$104:D104)-1)<>\"\",OFFSET(DE104_9!$D$104,ROWS($D$104:D104)-1,COLUMNS($D$104:D104)-1),\"\")","v":"WBL"},{"$f":"IF(OFFSET(DE104_9!$E$104,ROWS($E$104:E104)-1,COLUMNS($E$104:E104)-1)<>\"\",OFFSET(DE104_9!$E$104,ROWS($E$104:E104)-1,COLUMNS($E$104:E104)-1),\"\")","v":143900},{"$f":"IF(OFFSET(DE104_9!$F$104,ROWS($F$104:F104)-1,COLUMNS($F$104:F104)-1)<>\"\",OFFSET(DE104_9!$F$104,ROWS($F$104:F104)-1,COLUMNS($F$104:F104)-1),\"\")","v":144400},{"$f":"IF(OFFSET(DE104_9!$G$104,ROWS($G$104:G104)-1,COLUMNS($G$104:G104)-1)<>\"\",OFFSET(DE104_9!$G$104,ROWS($G$104:G104)-1,COLUMNS($G$104:G104)-1),\"\")","v":"LT"},{"$f":"IF(OFFSET(DE104_9!$H$104,ROWS($H$104:H104)-1,COLUMNS($H$104:H104)-1)<>\"\",OFFSET(DE104_9!$H$104,ROWS($H$104:H104)-1,COLUMNS($H$104:H104)-1),\"\")","v":42},{"$f":"IF(OFFSET(DE104_9!$I$104,ROWS($I$104:I104)-1,COLUMNS($I$104:I104)-1)<>\"\",OFFSET(DE104_9!$I$104,ROWS($I$104:I104)-1,COLUMNS($I$104:I104)-1),\"\")","v":4},{"$f":"IF(OFFSET(DE104_9!$J$104,ROWS($J$104:J104)-1,COLUMNS($J$104:J104)-1)<>\"\",OFFSET(DE104_9!$J$104,ROWS($J$104:J104)-1,COLUMNS($J$104:J104)-1),\"\")","v":540},{"$f":"IF(OFFSET(DE104_9!$K$104,ROWS($K$104:K104)-1,COLUMNS($K$104:K104)-1)<>\"\",OFFSET(DE104_9!$K$104,ROWS($K$104:K104)-1,COLUMNS($K$104:K104)-1),\"\")","v":""},{"$f":"IF(OFFSET(DE104_9!$L$104,ROWS($L$104:L104)-1,COLUMNS($L$104:L104)-1)<>\"\",OFFSET(DE104_9!$L$104,ROWS($L$104:L104)-1,COLUMNS($L$104:L104)-1),\"\")","v":""},{"$f":"IF(OFFSET(DE104_9!$M$104,ROWS($M$104:M104)-1,COLUMNS($M$104:M104)-1)<>\"\",OFFSET(DE104_9!$M$104,ROWS($M$104:M104)-1,COLUMNS($M$104:M104)-1),\"\")","v":""},{"$f":"IF(OFFSET(DE104_9!$N$104,ROWS($N$104:N104)-1,COLUMNS($N$104:N104)-1)<>\"\",OFFSET(DE104_9!$N$104,ROWS($N$104:N104)-1,COLUMNS($N$104:N104)-1),\"\")","v":""},{"$f":"IF(OFFSET(DE104_9!$O$104,ROWS($O$104:O104)-1,COLUMNS($O$104:O104)-1)<>\"\",OFFSET(DE104_9!$O$104,ROWS($O$104:O104)-1,COLUMNS($O$104:O104)-1),\"\")","v":""},{"$f":"IF(OFFSET(DE104_9!$P$104,ROWS($P$104:P104)-1,COLUMNS($P$104:P104)-1)<>\"\",OFFSET(DE104_9!$P$104,ROWS($P$104:P104)-1,COLUMNS($P$104:P104)-1),\"\")","v":143900},{"$f":"IF(OFFSET(DE104_9!$Q$104,ROWS($Q$104:Q104)-1,COLUMNS($Q$104:Q104)-1)<>\"\",OFFSET(DE104_9!$Q$104,ROWS($Q$104:Q104)-1,COLUMNS($Q$104:Q104)-1),\"\")","v":"DR-306"},{"$f":"IF(OFFSET(DE104_9!$R$104,ROWS($R$104:R104)-1,COLUMNS($R$104:R104)-1)<>\"\",OFFSET(DE104_9!$R$104,ROWS($R$104:R104)-1,COLUMNS($R$104:R104)-1),\"\")","v":50},{"$f":"IF(OFFSET(DE104_9!$S$104,ROWS($S$104:S104)-1,COLUMNS($S$104:S104)-1)<>\"\",OFFSET(DE104_9!$S$104,ROWS($S$104:S104)-1,COLUMNS($S$104:S104)-1),\"\")","v":0.4},{"$f":"IF(OFFSET(DE104_9!$T$104,ROWS($T$104:T104)-1,COLUMNS($T$104:T104)-1)<>\"\",OFFSET(DE104_9!$T$104,ROWS($T$104:T104)-1,COLUMNS($T$104:T104)-1),\"\")","v":""}]
[{"$f":"IF(OFFSET(DE104_9!$C$104,ROWS($C$104:C105)-1,COLUMNS($C$104:C105)-1)<>\"\",OFFSET(DE104_9!$C$104,ROWS($C$104:C105)-1,COLUMNS($C$104:C105)-1),\"\")","v":""},{"$f":"IF(OFFSET(DE104_9!$D$104,ROWS($D$104:D105)-1,COLUMNS($D$104:D105)-1)<>\"\",OFFSET(DE104_9!$D$104,ROWS($D$104:D105)-1,COLUMNS($D$104:D105)-1),\"\")","v":""},{"$f":"IF(OFFSET(DE104_9!$E$104,ROWS($E$104:E105)-1,COLUMNS($E$104:E105)-1)<>\"\",OFFSET(DE104_9!$E$104,ROWS($E$104:E105)-1,COLUMNS($E$104:E105)-1),\"\")","v":""},{"$f":"IF(OFFSET(DE104_9!$F$104,ROWS($F$104:F105)-1,COLUMNS($F$104:F105)-1)<>\"\",OFFSET(DE104_9!$F$104,ROWS($F$104:F105)-1,COLUMNS($F$104:F105)-1),\"\")","v":""},{"$f":"IF(OFFSET(DE104_9!$G$104,ROWS($G$104:G105)-1,COLUMNS($G$104:G105)-1)<>\"\",OFFSET(DE104_9!$G$104,ROWS($G$104:G105)-1,COLUMNS($G$104:G105)-1),\"\")","v":""},{"$f":"IF(OFFSET(DE104_9!$H$104,ROWS($H$104:H105)-1,COLUMNS($H$104:H105)-1)<>\"\",OFFSET(DE104_9!$H$104,ROWS($H$104:H105)-1,COLUMNS($H$104:H105)-1),\"\")","v":" "},{"$f":"IF(OFFSET(DE104_9!$I$104,ROWS($I$104:I105)-1,COLUMNS($I$104:I105)-1)<>\"\",OFFSET(DE104_9!$I$104,ROWS($I$104:I105)-1,COLUMNS($I$104:I105)-1),\"\")","v":""},{"$f":"IF(OFFSET(DE104_9!$J$104,ROWS($J$104:J105)-1,COLUMNS($J$104:J105)-1)<>\"\",OFFSET(DE104_9!$J$104,ROWS($J$104:J105)-1,COLUMNS($J$104:J105)-1),\"\")","v":""},{"$f":"IF(OFFSET(DE104_9!$K$104,ROWS($K$104:K105)-1,COLUMNS($K$104:K105)-1)<>\"\",OFFSET(DE104_9!$K$104,ROWS($K$104:K105)-1,COLUMNS($K$104:K105)-1),\"\")","v":""},{"$f":"IF(OFFSET(DE104_9!$L$104,ROWS($L$104:L105)-1,COLUMNS($L$104:L105)-1)<>\"\",OFFSET(DE104_9!$L$104,ROWS($L$104:L105)-1,COLUMNS($L$104:L105)-1),\"\")","v":""},{"$f":"IF(OFFSET(DE104_9!$M$104,ROWS($M$104:M105)-1,COLUMNS($M$104:M105)-1)<>\"\",OFFSET(DE104_9!$M$104,ROWS($M$104:M105)-1,COLUMNS($M$104:M105)-1),\"\")","v":""},{"$f":"IF(OFFSET(DE104_9!$N$104,ROWS($N$104:N105)-1,COLUMNS($N$104:N105)-1)<>\"\",OFFSET(DE104_9!$N$104,ROWS($N$104:N105)-1,COLUMNS($N$104:N105)-1),\"\")","v":""},{"$f":"IF(OFFSET(DE104_9!$O$104,ROWS($O$104:O105)-1,COLUMNS($O$104:O105)-1)<>\"\",OFFSET(DE104_9!$O$104,ROWS($O$104:O105)-1,COLUMNS($O$104:O105)-1),\"\")","v":""},{"$f":"IF(OFFSET(DE104_9!$P$104,ROWS($P$104:P105)-1,COLUMNS($P$104:P105)-1)<>\"\",OFFSET(DE104_9!$P$104,ROWS($P$104:P105)-1,COLUMNS($P$104:P105)-1),\"\")","v":144400},{"$f":"IF(OFFSET(DE104_9!$Q$104,ROWS($Q$104:Q105)-1,COLUMNS($Q$104:Q105)-1)<>\"\",OFFSET(DE104_9!$Q$104,ROWS($Q$104:Q105)-1,COLUMNS($Q$104:Q105)-1),\"\")","v":"DR-306"},{"$f":"IF(OFFSET(DE104_9!$R$104,ROWS($R$104:R105)-1,COLUMNS($R$104:R105)-1)<>\"\",OFFSET(DE104_9!$R$104,ROWS($R$104:R105)-1,COLUMNS($R$104:R105)-1),\"\")","v":" "},{"$f":"IF(OFFSET(DE104_9!$S$104,ROWS($S$104:S105)-1,COLUMNS($S$104:S105)-1)<>\"\",OFFSET(DE104_9!$S$104,ROWS($S$104:S105)-1,COLUMNS($S$104:S105)-1),\"\")","v":0.4},{"$f":"IF(OFFSET(DE104_9!$T$104,ROWS($T$104:T105)-1,COLUMNS($T$104:T105)-1)<>\"\",OFFSET(DE104_9!$T$104,ROWS($T$104:T105)-1,COLUMNS($T$104:T105)-1),\"\")","v":""}]
[{"$f":"IF(OFFSET(DE104_9!$C$104,ROWS($C$104:C106)-1,COLUMNS($C$104:C106)-1)<>\"\",OFFSET(DE104_9!$C$104,ROWS($C$104:C106)-1,COLUMNS($C$104:C106)-1),\"\")","v":43},{"$f":"IF(OFFSET(DE104_9!$D$104,ROWS($D$104:D106)-1,COLUMNS($D$104:D106)-1)<>\"\",OFFSET(DE104_9!$D$104,ROWS($D$104:D106)-1,COLUMNS($D$104:D106)-1),\"\")","v":"WBL"},{"$f":"IF(OFFSET(DE104_9!$E$104,ROWS($E$104:E106)-1,COLUMNS($E$104:E106)-1)<>\"\",OFFSET(DE104_9!$E$104,ROWS($E$104:E106)-1,COLUMNS($E$104:E106)-1),\"\")","v":144400},{"$f":"IF(OFFSET(DE104_9!$F$104,ROWS($F$104:F106)-1,COLUMNS($F$104:F106)-1)<>\"\",OFFSET(DE104_9!$F$104,ROWS($F$104:F106)-1,COLUMNS($F$104:F106)-1),\"\")","v":144900},{"$f":"IF(OFFSET(DE104_9!$G$104,ROWS($G$104:G106)-1,COLUMNS($G$104:G106)-1)<>\"\",OFFSET(DE104_9!$G$104,ROWS($G$104:G106)-1,COLUMNS($G$104:G106)-1),\"\")","v":"LT"},{"$f":"IF(OFFSET(DE104_9!$H$104,ROWS($H$104:H106)-1,COLUMNS($H$104:H106)-1)<>\"\",OFFSET(DE104_9!$H$104,ROWS($H$104:H106)-1,COLUMNS($H$104:H106)-1),\"\")","v":42},{"$f":"IF(OFFSET(DE104_9!$I$104,ROWS($I$104:I106)-1,COLUMNS($I$104:I106)-1)<>\"\",OFFSET(DE104_9!$I$104,ROWS($I$104:I106)-1,COLUMNS($I$104:I106)-1),\"\")","v":4},{"$f":"IF(OFFSET(DE104_9!$J$104,ROWS($J$104:J106)-1,COLUMNS($J$104:J106)-1)<>\"\",OFFSET(DE104_9!$J$104,ROWS($J$104:J106)-1,COLUMNS($J$104:J106)-1),\"\")","v":540},{"$f":"IF(OFFSET(DE104_9!$K$104,ROWS($K$104:K106)-1,COLUMNS($K$104:K106)-1)<>\"\",OFFSET(DE104_9!$K$104,ROWS($K$104:K106)-1,COLUMNS($K$104:K106)-1),\"\")","v":""},{"$f":"IF(OFFSET(DE104_9!$L$104,ROWS($L$104:L106)-1,COLUMNS($L$104:L106)-1)<>\"\",OFFSET(DE104_9!$L$104,ROWS($L$104:L106)-1,COLUMNS($L$104:L106)-1),\"\")","v":""},{"$f":"IF(OFFSET(DE104_9!$M$104,ROWS($M$104:M106)-1,COLUMNS($M$104:M106)-1)<>\"\",OFFSET(DE104_9!$M$104,ROWS($M$104:M106)-1,COLUMNS($M$104:M106)-1),\"\")","v":""},{"$f":"IF(OFFSET(DE104_9!$N$104,ROWS($N$104:N106)-1,COLUMNS($N$104:N106)-1)<>\"\",OFFSET(DE104_9!$N$104,ROWS($N$104:N106)-1,COLUMNS($N$104:N106)-1),\"\")","v":""},{"$f":"IF(OFFSET(DE104_9!$O$104,ROWS($O$104:O106)-1,COLUMNS($O$104:O106)-1)<>\"\",OFFSET(DE104_9!$O$104,ROWS($O$104:O106)-1,COLUMNS($O$104:O106)-1),\"\")","v":""},{"$f":"IF(OFFSET(DE104_9!$P$104,ROWS($P$104:P106)-1,COLUMNS($P$104:P106)-1)<>\"\",OFFSET(DE104_9!$P$104,ROWS($P$104:P106)-1,COLUMNS($P$104:P106)-1),\"\")","v":144400},{"$f":"IF(OFFSET(DE104_9!$Q$104,ROWS($Q$104:Q106)-1,COLUMNS($Q$104:Q106)-1)<>\"\",OFFSET(DE104_9!$Q$104,ROWS($Q$104:Q106)-1,COLUMNS($Q$104:Q106)-1),\"\")","v":"DR-306"},{"$f":"IF(OFFSET(DE104_9!$R$104,ROWS($R$104:R106)-1,COLUMNS($R$104:R106)-1)<>\"\",OFFSET(DE104_9!$R$104,ROWS($R$104:R106)-1,COLUMNS($R$104:R106)-1),\"\")","v":50},{"$f":"IF(OFFSET(DE104_9!$S$104,ROWS($S$104:S106)-1,COLUMNS($S$104:S106)-1)<>\"\",OFFSET(DE104_9!$S$104,ROWS($S$104:S106)-1,COLUMNS($S$104:S106)-1),\"\")","v":0.4},{"$f":"IF(OFFSET(DE104_9!$T$104,ROWS($T$104:T106)-1,COLUMNS($T$104:T106)-1)<>\"\",OFFSET(DE104_9!$T$104,ROWS($T$104:T106)-1,COLUMNS($T$104:T106)-1),\"\")","v":""}]
[{"$f":"IF(OFFSET(DE104_9!$C$104,ROWS($C$104:C107)-1,COLUMNS($C$104:C107)-1)<>\"\",OFFSET(DE104_9!$C$104,ROWS($C$104:C107)-1,COLUMNS($C$104:C107)-1),\"\")","v":""},{"$f":"IF(OFFSET(DE104_9!$D$104,ROWS($D$104:D107)-1,COLUMNS($D$104:D107)-1)<>\"\",OFFSET(DE104_9!$D$104,ROWS($D$104:D107)-1,COLUMNS($D$104:D107)-1),\"\")","v":""},{"$f":"IF(OFFSET(DE104_9!$E$104,ROWS($E$104:E107)-1,COLUMNS($E$104:E107)-1)<>\"\",OFFSET(DE104_9!$E$104,ROWS($E$104:E107)-1,COLUMNS($E$104:E107)-1),\"\")","v":""},{"$f":"IF(OFFSET(DE104_9!$F$104,ROWS($F$104:F107)-1,COLUMNS($F$104:F107)-1)<>\"\",OFFSET(DE104_9!$F$104,ROWS($F$104:F107)-1,COLUMNS($F$104:F107)-1),\"\")","v":""},{"$f":"IF(OFFSET(DE104_9!$G$104,ROWS($G$104:G107)-1,COLUMNS($G$104:G107)-1)<>\"\",OFFSET(DE104_9!$G$104,ROWS($G$104:G107)-1,COLUMNS($G$104:G107)-1),\"\")","v":""},{"$f":"IF(OFFSET(DE104_9!$H$104,ROWS($H$104:H107)-1,COLUMNS($H$104:H107)-1)<>\"\",OFFSET(DE104_9!$H$104,ROWS($H$104:H107)-1,COLUMNS($H$104:H107)-1),\"\")","v":" "},{"$f":"IF(OFFSET(DE104_9!$I$104,ROWS($I$104:I107)-1,COLUMNS($I$104:I107)-1)<>\"\",OFFSET(DE104_9!$I$104,ROWS($I$104:I107)-1,COLUMNS($I$104:I107)-1),\"\")","v":""},{"$f":"IF(OFFSET(DE104_9!$J$104,ROWS($J$104:J107)-1,COLUMNS($J$104:J107)-1)<>\"\",OFFSET(DE104_9!$J$104,ROWS($J$104:J107)-1,COLUMNS($J$104:J107)-1),\"\")","v":""},{"$f":"IF(OFFSET(DE104_9!$K$104,ROWS($K$104:K107)-1,COLUMNS($K$104:K107)-1)<>\"\",OFFSET(DE104_9!$K$104,ROWS($K$104:K107)-1,COLUMNS($K$104:K107)-1),\"\")","v":""},{"$f":"IF(OFFSET(DE104_9!$L$104,ROWS($L$104:L107)-1,COLUMNS($L$104:L107)-1)<>\"\",OFFSET(DE104_9!$L$104,ROWS($L$104:L107)-1,COLUMNS($L$104:L107)-1),\"\")","v":""},{"$f":"IF(OFFSET(DE104_9!$M$104,ROWS($M$104:M107)-1,COLUMNS($M$104:M107)-1)<>\"\",OFFSET(DE104_9!$M$104,ROWS($M$104:M107)-1,COLUMNS($M$104:M107)-1),\"\")","v":""},{"$f":"IF(OFFSET(DE104_9!$N$104,ROWS($N$104:N107)-1,COLUMNS($N$104:N107)-1)<>\"\",OFFSET(DE104_9!$N$104,ROWS($N$104:N107)-1,COLUMNS($N$104:N107)-1),\"\")","v":""},{"$f":"IF(OFFSET(DE104_9!$O$104,ROWS($O$104:O107)-1,COLUMNS($O$104:O107)-1)<>\"\",OFFSET(DE104_9!$O$104,ROWS($O$104:O107)-1,COLUMNS($O$104:O107)-1),\"\")","v":""},{"$f":"IF(OFFSET(DE104_9!$P$104,ROWS($P$104:P107)-1,COLUMNS($P$104:P107)-1)<>\"\",OFFSET(DE104_9!$P$104,ROWS($P$104:P107)-1,COLUMNS($P$104:P107)-1),\"\")","v":144900},{"$f":"IF(OFFSET(DE104_9!$Q$104,ROWS($Q$104:Q107)-1,COLUMNS($Q$104:Q107)-1)<>\"\",OFFSET(DE104_9!$Q$104,ROWS($Q$104:Q107)-1,COLUMNS($Q$104:Q107)-1),\"\")","v":"DR-306"},{"$f":"IF(OFFSET(DE104_9!$R$104,ROWS($R$104:R107)-1,COLUMNS($R$104:R107)-1)<>\"\",OFFSET(DE104_9!$R$104,ROWS($R$104:R107)-1,COLUMNS($R$104:R107)-1),\"\")","v":" "},{"$f":"IF(OFFSET(DE104_9!$S$104,ROWS($S$104:S107)-1,COLUMNS($S$104:S107)-1)<>\"\",OFFSET(DE104_9!$S$104,ROWS($S$104:S107)-1,COLUMNS($S$104:S107)-1),\"\")","v":0.4},{"$f":"IF(OFFSET(DE104_9!$T$104,ROWS($T$104:T107)-1,COLUMNS($T$104:T107)-1)<>\"\",OFFSET(DE104_9!$T$104,ROWS($T$104:T107)-1,COLUMNS($T$104:T107)-1),\"\")","v":""}]
[{"$f":"IF(OFFSET(DE104_9!$C$104,ROWS($C$104:C108)-1,COLUMNS($C$104:C108)-1)<>\"\",OFFSET(DE104_9!$C$104,ROWS($C$104:C108)-1,COLUMNS($C$104:C108)-1),\"\")","v":44},{"$f":"IF(OFFSET(DE104_9!$D$104,ROWS($D$104:D108)-1,COLUMNS($D$104:D108)-1)<>\"\",OFFSET(DE104_9!$D$104,ROWS($D$104:D108)-1,COLUMNS($D$104:D108)-1),\"\")","v":"WBL"},{"$f":"IF(OFFSET(DE104_9!$E$104,ROWS($E$104:E108)-1,COLUMNS($E$104:E108)-1)<>\"\",OFFSET(DE104_9!$E$104,ROWS($E$104:E108)-1,COLUMNS($E$104:E108)-1),\"\")","v":144900},{"$f":"IF(OFFSET(DE104_9!$F$104,ROWS($F$104:F108)-1,COLUMNS($F$104:F108)-1)<>\"\",OFFSET(DE104_9!$F$104,ROWS($F$104:F108)-1,COLUMNS($F$104:F108)-1),\"\")","v":145400},{"$f":"IF(OFFSET(DE104_9!$G$104,ROWS($G$104:G108)-1,COLUMNS($G$104:G108)-1)<>\"\",OFFSET(DE104_9!$G$104,ROWS($G$104:G108)-1,COLUMNS($G$104:G108)-1),\"\")","v":"LT"},{"$f":"IF(OFFSET(DE104_9!$H$104,ROWS($H$104:H108)-1,COLUMNS($H$104:H108)-1)<>\"\",OFFSET(DE104_9!$H$104,ROWS($H$104:H108)-1,COLUMNS($H$104:H108)-1),\"\")","v":42},{"$f":"IF(OFFSET(DE104_9!$I$104,ROWS($I$104:I108)-1,COLUMNS($I$104:I108)-1)<>\"\",OFFSET(DE104_9!$I$104,ROWS($I$104:I108)-1,COLUMNS($I$104:I108)-1),\"\")","v":4},{"$f":"IF(OFFSET(DE104_9!$J$104,ROWS($J$104:J108)-1,COLUMNS($J$104:J108)-1)<>\"\",OFFSET(DE104_9!$J$104,ROWS($J$104:J108)-1,COLUMNS($J$104:J108)-1),\"\")","v":540},{"$f":"IF(OFFSET(DE104_9!$K$104,ROWS($K$104:K108)-1,COLUMNS($K$104:K108)-1)<>\"\",OFFSET(DE104_9!$K$104,ROWS($K$104:K108)-1,COLUMNS($K$104:K108)-1),\"\")","v":""},{"$f":"IF(OFFSET(DE104_9!$L$104,ROWS($L$104:L108)-1,COLUMNS($L$104:L108)-1)<>\"\",OFFSET(DE104_9!$L$104,ROWS($L$104:L108)-1,COLUMNS($L$104:L108)-1),\"\")","v":""},{"$f":"IF(OFFSET(DE104_9!$M$104,ROWS($M$104:M108)-1,COLUMNS($M$104:M108)-1)<>\"\",OFFSET(DE104_9!$M$104,ROWS($M$104:M108)-1,COLUMNS($M$104:M108)-1),\"\")","v":""},{"$f":"IF(OFFSET(DE104_9!$N$104,ROWS($N$104:N108)-1,COLUMNS($N$104:N108)-1)<>\"\",OFFSET(DE104_9!$N$104,ROWS($N$104:N108)-1,COLUMNS($N$104:N108)-1),\"\")","v":""},{"$f":"IF(OFFSET(DE104_9!$O$104,ROWS($O$104:O108)-1,COLUMNS($O$104:O108)-1)<>\"\",OFFSET(DE104_9!$O$104,ROWS($O$104:O108)-1,COLUMNS($O$104:O108)-1),\"\")","v":""},{"$f":"IF(OFFSET(DE104_9!$P$104,ROWS($P$104:P108)-1,COLUMNS($P$104:P108)-1)<>\"\",OFFSET(DE104_9!$P$104,ROWS($P$104:P108)-1,COLUMNS($P$104:P108)-1),\"\")","v":144900},{"$f":"IF(OFFSET(DE104_9!$Q$104,ROWS($Q$104:Q108)-1,COLUMNS($Q$104:Q108)-1)<>\"\",OFFSET(DE104_9!$Q$104,ROWS($Q$104:Q108)-1,COLUMNS($Q$104:Q108)-1),\"\")","v":"DR-306"},{"$f":"IF(OFFSET(DE104_9!$R$104,ROWS($R$104:R108)-1,COLUMNS($R$104:R108)-1)<>\"\",OFFSET(DE104_9!$R$104,ROWS($R$104:R108)-1,COLUMNS($R$104:R108)-1),\"\")","v":50},{"$f":"IF(OFFSET(DE104_9!$S$104,ROWS($S$104:S108)-1,COLUMNS($S$104:S108)-1)<>\"\",OFFSET(DE104_9!$S$104,ROWS($S$104:S108)-1,COLUMNS($S$104:S108)-1),\"\")","v":0.4},{"$f":"IF(OFFSET(DE104_9!$T$104,ROWS($T$104:T108)-1,COLUMNS($T$104:T108)-1)<>\"\",OFFSET(DE104_9!$T$104,ROWS($T$104:T108)-1,COLUMNS($T$104:T108)-1),\"\")","v":""}]
[{"$f":"IF(OFFSET(DE104_9!$C$104,ROWS($C$104:C109)-1,COLUMNS($C$104:C109)-1)<>\"\",OFFSET(DE104_9!$C$104,ROWS($C$104:C109)-1,COLUMNS($C$104:C109)-1),\"\")","v":""},{"$f":"IF(OFFSET(DE104_9!$D$104,ROWS($D$104:D109)-1,COLUMNS($D$104:D109)-1)<>\"\",OFFSET(DE104_9!$D$104,ROWS($D$104:D109)-1,COLUMNS($D$104:D109)-1),\"\")","v":""},{"$f":"IF(OFFSET(DE104_9!$E$104,ROWS($E$104:E109)-1,COLUMNS($E$104:E109)-1)<>\"\",OFFSET(DE104_9!$E$104,ROWS($E$104:E109)-1,COLUMNS($E$104:E109)-1),\"\")","v":""},{"$f":"IF(OFFSET(DE104_9!$F$104,ROWS($F$104:F109)-1,COLUMNS($F$104:F109)-1)<>\"\",OFFSET(DE104_9!$F$104,ROWS($F$104:F109)-1,COLUMNS($F$104:F109)-1),\"\")","v":""},{"$f":"IF(OFFSET(DE104_9!$G$104,ROWS($G$104:G109)-1,COLUMNS($G$104:G109)-1)<>\"\",OFFSET(DE104_9!$G$104,ROWS($G$104:G109)-1,COLUMNS($G$104:G109)-1),\"\")","v":""},{"$f":"IF(OFFSET(DE104_9!$H$104,ROWS($H$104:H109)-1,COLUMNS($H$104:H109)-1)<>\"\",OFFSET(DE104_9!$H$104,ROWS($H$104:H109)-1,COLUMNS($H$104:H109)-1),\"\")","v":" "},{"$f":"IF(OFFSET(DE104_9!$I$104,ROWS($I$104:I109)-1,COLUMNS($I$104:I109)-1)<>\"\",OFFSET(DE104_9!$I$104,ROWS($I$104:I109)-1,COLUMNS($I$104:I109)-1),\"\")","v":""},{"$f":"IF(OFFSET(DE104_9!$J$104,ROWS($J$104:J109)-1,COLUMNS($J$104:J109)-1)<>\"\",OFFSET(DE104_9!$J$104,ROWS($J$104:J109)-1,COLUMNS($J$104:J109)-1),\"\")","v":""},{"$f":"IF(OFFSET(DE104_9!$K$104,ROWS($K$104:K109)-1,COLUMNS($K$104:K109)-1)<>\"\",OFFSET(DE104_9!$K$104,ROWS($K$104:K109)-1,COLUMNS($K$104:K109)-1),\"\")","v":""},{"$f":"IF(OFFSET(DE104_9!$L$104,ROWS($L$104:L109)-1,COLUMNS($L$104:L109)-1)<>\"\",OFFSET(DE104_9!$L$104,ROWS($L$104:L109)-1,COLUMNS($L$104:L109)-1),\"\")","v":""},{"$f":"IF(OFFSET(DE104_9!$M$104,ROWS($M$104:M109)-1,COLUMNS($M$104:M109)-1)<>\"\",OFFSET(DE104_9!$M$104,ROWS($M$104:M109)-1,COLUMNS($M$104:M109)-1),\"\")","v":""},{"$f":"IF(OFFSET(DE104_9!$N$104,ROWS($N$104:N109)-1,COLUMNS($N$104:N109)-1)<>\"\",OFFSET(DE104_9!$N$104,ROWS($N$104:N109)-1,COLUMNS($N$104:N109)-1),\"\")","v":""},{"$f":"IF(OFFSET(DE104_9!$O$104,ROWS($O$104:O109)-1,COLUMNS($O$104:O109)-1)<>\"\",OFFSET(DE104_9!$O$104,ROWS($O$104:O109)-1,COLUMNS($O$104:O109)-1),\"\")","v":""},{"$f":"IF(OFFSET(DE104_9!$P$104,ROWS($P$104:P109)-1,COLUMNS($P$104:P109)-1)<>\"\",OFFSET(DE104_9!$P$104,ROWS($P$104:P109)-1,COLUMNS($P$104:P109)-1),\"\")","v":145400},{"$f":"IF(OFFSET(DE104_9!$Q$104,ROWS($Q$104:Q109)-1,COLUMNS($Q$104:Q109)-1)<>\"\",OFFSET(DE104_9!$Q$104,ROWS($Q$104:Q109)-1,COLUMNS($Q$104:Q109)-1),\"\")","v":"DR-306"},{"$f":"IF(OFFSET(DE104_9!$R$104,ROWS($R$104:R109)-1,COLUMNS($R$104:R109)-1)<>\"\",OFFSET(DE104_9!$R$104,ROWS($R$104:R109)-1,COLUMNS($R$104:R109)-1),\"\")","v":" "},{"$f":"IF(OFFSET(DE104_9!$S$104,ROWS($S$104:S109)-1,COLUMNS($S$104:S109)-1)<>\"\",OFFSET(DE104_9!$S$104,ROWS($S$104:S109)-1,COLUMNS($S$104:S109)-1),\"\")","v":0.4},{"$f":"IF(OFFSET(DE104_9!$T$104,ROWS($T$104:T109)-1,COLUMNS($T$104:T109)-1)<>\"\",OFFSET(DE104_9!$T$104,ROWS($T$104:T109)-1,COLUMNS($T$104:T109)-1),\"\")","v":""}]
[{"$f":"IF(OFFSET(DE104_9!$C$104,ROWS($C$104:C110)-1,COLUMNS($C$104:C110)-1)<>\"\",OFFSET(DE104_9!$C$104,ROWS($C$104:C110)-1,COLUMNS($C$104:C110)-1),\"\")","v":45},{"$f":"IF(OFFSET(DE104_9!$D$104,ROWS($D$104:D110)-1,COLUMNS($D$104:D110)-1)<>\"\",OFFSET(DE104_9!$D$104,ROWS($D$104:D110)-1,COLUMNS($D$104:D110)-1),\"\")","v":"WBL"},{"$f":"IF(OFFSET(DE104_9!$E$104,ROWS($E$104:E110)-1,COLUMNS($E$104:E110)-1)<>\"\",OFFSET(DE104_9!$E$104,ROWS($E$104:E110)-1,COLUMNS($E$104:E110)-1),\"\")","v":145400},{"$f":"IF(OFFSET(DE104_9!$F$104,ROWS($F$104:F110)-1,COLUMNS($F$104:F110)-1)<>\"\",OFFSET(DE104_9!$F$104,ROWS($F$104:F110)-1,COLUMNS($F$104:F110)-1),\"\")","v":145750},{"$f":"IF(OFFSET(DE104_9!$G$104,ROWS($G$104:G110)-1,COLUMNS($G$104:G110)-1)<>\"\",OFFSET(DE104_9!$G$104,ROWS($G$104:G110)-1,COLUMNS($G$104:G110)-1),\"\")","v":"LT"},{"$f":"IF(OFFSET(DE104_9!$H$104,ROWS($H$104:H110)-1,COLUMNS($H$104:H110)-1)<>\"\",OFFSET(DE104_9!$H$104,ROWS($H$104:H110)-1,COLUMNS($H$104:H110)-1),\"\")","v":42},{"$f":"IF(OFFSET(DE104_9!$I$104,ROWS($I$104:I110)-1,COLUMNS($I$104:I110)-1)<>\"\",OFFSET(DE104_9!$I$104,ROWS($I$104:I110)-1,COLUMNS($I$104:I110)-1),\"\")","v":4},{"$f":"IF(OFFSET(DE104_9!$J$104,ROWS($J$104:J110)-1,COLUMNS($J$104:J110)-1)<>\"\",OFFSET(DE104_9!$J$104,ROWS($J$104:J110)-1,COLUMNS($J$104:J110)-1),\"\")","v":390},{"$f":"IF(OFFSET(DE104_9!$K$104,ROWS($K$104:K110)-1,COLUMNS($K$104:K110)-1)<>\"\",OFFSET(DE104_9!$K$104,ROWS($K$104:K110)-1,COLUMNS($K$104:K110)-1),\"\")","v":""},{"$f":"IF(OFFSET(DE104_9!$L$104,ROWS($L$104:L110)-1,COLUMNS($L$104:L110)-1)<>\"\",OFFSET(DE104_9!$L$104,ROWS($L$104:L110)-1,COLUMNS($L$104:L110)-1),\"\")","v":""},{"$f":"IF(OFFSET(DE104_9!$M$104,ROWS($M$104:M110)-1,COLUMNS($M$104:M110)-1)<>\"\",OFFSET(DE104_9!$M$104,ROWS($M$104:M110)-1,COLUMNS($M$104:M110)-1),\"\")","v":""},{"$f":"IF(OFFSET(DE104_9!$N$104,ROWS($N$104:N110)-1,COLUMNS($N$104:N110)-1)<>\"\",OFFSET(DE104_9!$N$104,ROWS($N$104:N110)-1,COLUMNS($N$104:N110)-1),\"\")","v":""},{"$f":"IF(OFFSET(DE104_9!$O$104,ROWS($O$104:O110)-1,COLUMNS($O$104:O110)-1)<>\"\",OFFSET(DE104_9!$O$104,ROWS($O$104:O110)-1,COLUMNS($O$104:O110)-1),\"\")","v":""},{"$f":"IF(OFFSET(DE104_9!$P$104,ROWS($P$104:P110)-1,COLUMNS($P$104:P110)-1)<>\"\",OFFSET(DE104_9!$P$104,ROWS($P$104:P110)-1,COLUMNS($P$104:P110)-1),\"\")","v":145400},{"$f":"IF(OFFSET(DE104_9!$Q$104,ROWS($Q$104:Q110)-1,COLUMNS($Q$104:Q110)-1)<>\"\",OFFSET(DE104_9!$Q$104,ROWS($Q$104:Q110)-1,COLUMNS($Q$104:Q110)-1),\"\")","v":"DR-306"},{"$f":"IF(OFFSET(DE104_9!$R$104,ROWS($R$104:R110)-1,COLUMNS($R$104:R110)-1)<>\"\",OFFSET(DE104_9!$R$104,ROWS($R$104:R110)-1,COLUMNS($R$104:R110)-1),\"\")","v":36.1},{"$f":"IF(OFFSET(DE104_9!$S$104,ROWS($S$104:S110)-1,COLUMNS($S$104:S110)-1)<>\"\",OFFSET(DE104_9!$S$104,ROWS($S$104:S110)-1,COLUMNS($S$104:S110)-1),\"\")","v":0.4},{"$f":"IF(OFFSET(DE104_9!$T$104,ROWS($T$104:T110)-1,COLUMNS($T$104:T110)-1)<>\"\",OFFSET(DE104_9!$T$104,ROWS($T$104:T110)-1,COLUMNS($T$104:T110)-1),\"\")","v":""}]
[{"$f":"IF(OFFSET(DE104_9!$C$104,ROWS($C$104:C111)-1,COLUMNS($C$104:C111)-1)<>\"\",OFFSET(DE104_9!$C$104,ROWS($C$104:C111)-1,COLUMNS($C$104:C111)-1),\"\")","v":""},{"$f":"IF(OFFSET(DE104_9!$D$104,ROWS($D$104:D111)-1,COLUMNS($D$104:D111)-1)<>\"\",OFFSET(DE104_9!$D$104,ROWS($D$104:D111)-1,COLUMNS($D$104:D111)-1),\"\")","v":""},{"$f":"IF(OFFSET(DE104_9!$E$104,ROWS($E$104:E111)-1,COLUMNS($E$104:E111)-1)<>\"\",OFFSET(DE104_9!$E$104,ROWS($E$104:E111)-1,COLUMNS($E$104:E111)-1),\"\")","v":""},{"$f":"IF(OFFSET(DE104_9!$F$104,ROWS($F$104:F111)-1,COLUMNS($F$104:F111)-1)<>\"\",OFFSET(DE104_9!$F$104,ROWS($F$104:F111)-1,COLUMNS($F$104:F111)-1),\"\")","v":""},{"$f":"IF(OFFSET(DE104_9!$G$104,ROWS($G$104:G111)-1,COLUMNS($G$104:G111)-1)<>\"\",OFFSET(DE104_9!$G$104,ROWS($G$104:G111)-1,COLUMNS($G$104:G111)-1),\"\")","v":""},{"$f":"IF(OFFSET(DE104_9!$H$104,ROWS($H$104:H111)-1,COLUMNS($H$104:H111)-1)<>\"\",OFFSET(DE104_9!$H$104,ROWS($H$104:H111)-1,COLUMNS($H$104:H111)-1),\"\")","v":" "},{"$f":"IF(OFFSET(DE104_9!$I$104,ROWS($I$104:I111)-1,COLUMNS($I$104:I111)-1)<>\"\",OFFSET(DE104_9!$I$104,ROWS($I$104:I111)-1,COLUMNS($I$104:I111)-1),\"\")","v":""},{"$f":"IF(OFFSET(DE104_9!$J$104,ROWS($J$104:J111)-1,COLUMNS($J$104:J111)-1)<>\"\",OFFSET(DE104_9!$J$104,ROWS($J$104:J111)-1,COLUMNS($J$104:J111)-1),\"\")","v":""},{"$f":"IF(OFFSET(DE104_9!$K$104,ROWS($K$104:K111)-1,COLUMNS($K$104:K111)-1)<>\"\",OFFSET(DE104_9!$K$104,ROWS($K$104:K111)-1,COLUMNS($K$104:K111)-1),\"\")","v":""},{"$f":"IF(OFFSET(DE104_9!$L$104,ROWS($L$104:L111)-1,COLUMNS($L$104:L111)-1)<>\"\",OFFSET(DE104_9!$L$104,ROWS($L$104:L111)-1,COLUMNS($L$104:L111)-1),\"\")","v":""},{"$f":"IF(OFFSET(DE104_9!$M$104,ROWS($M$104:M111)-1,COLUMNS($M$104:M111)-1)<>\"\",OFFSET(DE104_9!$M$104,ROWS($M$104:M111)-1,COLUMNS($M$104:M111)-1),\"\")","v":""},{"$f":"IF(OFFSET(DE104_9!$N$104,ROWS($N$104:N111)-1,COLUMNS($N$104:N111)-1)<>\"\",OFFSET(DE104_9!$N$104,ROWS($N$104:N111)-1,COLUMNS($N$104:N111)-1),\"\")","v":""},{"$f":"IF(OFFSET(DE104_9!$O$104,ROWS($O$104:O111)-1,COLUMNS($O$104:O111)-1)<>\"\",OFFSET(DE104_9!$O$104,ROWS($O$104:O111)-1,COLUMNS($O$104:O111)-1),\"\")","v":""},{"$f":"IF(OFFSET(DE104_9!$P$104,ROWS($P$104:P111)-1,COLUMNS($P$104:P111)-1)<>\"\",OFFSET(DE104_9!$P$104,ROWS($P$104:P111)-1,COLUMNS($P$104:P111)-1),\"\")","v":145750},{"$f":"IF(OFFSET(DE104_9!$Q$104,ROWS($Q$104:Q111)-1,COLUMNS($Q$104:Q111)-1)<>\"\",OFFSET(DE104_9!$Q$104,ROWS($Q$104:Q111)-1,COLUMNS($Q$104:Q111)-1),\"\")","v":"DR-306"},{"$f":"IF(OFFSET(DE104_9!$R$104,ROWS($R$104:R111)-1,COLUMNS($R$104:R111)-1)<>\"\",OFFSET(DE104_9!$R$104,ROWS($R$104:R111)-1,COLUMNS($R$104:R111)-1),\"\")","v":" "},{"$f":"IF(OFFSET(DE104_9!$S$104,ROWS($S$104:S111)-1,COLUMNS($S$104:S111)-1)<>\"\",OFFSET(DE104_9!$S$104,ROWS($S$104:S111)-1,COLUMNS($S$104:S111)-1),\"\")","v":0.4},{"$f":"IF(OFFSET(DE104_9!$T$104,ROWS($T$104:T111)-1,COLUMNS($T$104:T111)-1)<>\"\",OFFSET(DE104_9!$T$104,ROWS($T$104:T111)-1,COLUMNS($T$104:T111)-1),\"\")","v":""}]
[{"$f":"IF(OFFSET(DE104_9!$C$104,ROWS($C$104:C112)-1,COLUMNS($C$104:C112)-1)<>\"\",OFFSET(DE104_9!$C$104,ROWS($C$104:C112)-1,COLUMNS($C$104:C112)-1),\"\")","v":46},{"$f":"IF(OFFSET(DE104_9!$D$104,ROWS($D$104:D112)-1,COLUMNS($D$104:D112)-1)<>\"\",OFFSET(DE104_9!$D$104,ROWS($D$104:D112)-1,COLUMNS($D$104:D112)-1),\"\")","v":"WBL"},{"$f":"IF(OFFSET(DE104_9!$E$104,ROWS($E$104:E112)-1,COLUMNS($E$104:E112)-1)<>\"\",OFFSET(DE104_9!$E$104,ROWS($E$104:E112)-1,COLUMNS($E$104:E112)-1),\"\")","v":145750},{"$f":"IF(OFFSET(DE104_9!$F$104,ROWS($F$104:F112)-1,COLUMNS($F$104:F112)-1)<>\"\",OFFSET(DE104_9!$F$104,ROWS($F$104:F112)-1,COLUMNS($F$104:F112)-1),\"\")","v":146070},{"$f":"IF(OFFSET(DE104_9!$G$104,ROWS($G$104:G112)-1,COLUMNS($G$104:G112)-1)<>\"\",OFFSET(DE104_9!$G$104,ROWS($G$104:G112)-1,COLUMNS($G$104:G112)-1),\"\")","v":"LT"},{"$f":"IF(OFFSET(DE104_9!$H$104,ROWS($H$104:H112)-1,COLUMNS($H$104:H112)-1)<>\"\",OFFSET(DE104_9!$H$104,ROWS($H$104:H112)-1,COLUMNS($H$104:H112)-1),\"\")","v":42},{"$f":"IF(OFFSET(DE104_9!$I$104,ROWS($I$104:I112)-1,COLUMNS($I$104:I112)-1)<>\"\",OFFSET(DE104_9!$I$104,ROWS($I$104:I112)-1,COLUMNS($I$104:I112)-1),\"\")","v":4},{"$f":"IF(OFFSET(DE104_9!$J$104,ROWS($J$104:J112)-1,COLUMNS($J$104:J112)-1)<>\"\",OFFSET(DE104_9!$J$104,ROWS($J$104:J112)-1,COLUMNS($J$104:J112)-1),\"\")","v":360},{"$f":"IF(OFFSET(DE104_9!$K$104,ROWS($K$104:K112)-1,COLUMNS($K$104:K112)-1)<>\"\",OFFSET(DE104_9!$K$104,ROWS($K$104:K112)-1,COLUMNS($K$104:K112)-1),\"\")","v":""},{"$f":"IF(OFFSET(DE104_9!$L$104,ROWS($L$104:L112)-1,COLUMNS($L$104:L112)-1)<>\"\",OFFSET(DE104_9!$L$104,ROWS($L$104:L112)-1,COLUMNS($L$104:L112)-1),\"\")","v":""},{"$f":"IF(OFFSET(DE104_9!$M$104,ROWS($M$104:M112)-1,COLUMNS($M$104:M112)-1)<>\"\",OFFSET(DE104_9!$M$104,ROWS($M$104:M112)-1,COLUMNS($M$104:M112)-1),\"\")","v":""},{"$f":"IF(OFFSET(DE104_9!$N$104,ROWS($N$104:N112)-1,COLUMNS($N$104:N112)-1)<>\"\",OFFSET(DE104_9!$N$104,ROWS($N$104:N112)-1,COLUMNS($N$104:N112)-1),\"\")","v":""},{"$f":"IF(OFFSET(DE104_9!$O$104,ROWS($O$104:O112)-1,COLUMNS($O$104:O112)-1)<>\"\",OFFSET(DE104_9!$O$104,ROWS($O$104:O112)-1,COLUMNS($O$104:O112)-1),\"\")","v":""},{"$f":"IF(OFFSET(DE104_9!$P$104,ROWS($P$104:P112)-1,COLUMNS($P$104:P112)-1)<>\"\",OFFSET(DE104_9!$P$104,ROWS($P$104:P112)-1,COLUMNS($P$104:P112)-1),\"\")","v":145750},{"$f":"IF(OFFSET(DE104_9!$Q$104,ROWS($Q$104:Q112)-1,COLUMNS($Q$104:Q112)-1)<>\"\",OFFSET(DE104_9!$Q$104,ROWS($Q$104:Q112)-1,COLUMNS($Q$104:Q112)-1),\"\")","v":"DR-306"},{"$f":"IF(OFFSET(DE104_9!$R$104,ROWS($R$104:R112)-1,COLUMNS($R$104:R112)-1)<>\"\",OFFSET(DE104_9!$R$104,ROWS($R$104:R112)-1,COLUMNS($R$104:R112)-1),\"\")","v":33.299999999999997},{"$f":"IF(OFFSET(DE104_9!$S$104,ROWS($S$104:S112)-1,COLUMNS($S$104:S112)-1)<>\"\",OFFSET(DE104_9!$S$104,ROWS($S$104:S112)-1,COLUMNS($S$104:S112)-1),\"\")","v":0.4},{"$f":"IF(OFFSET(DE104_9!$T$104,ROWS($T$104:T112)-1,COLUMNS($T$104:T112)-1)<>\"\",OFFSET(DE104_9!$T$104,ROWS($T$104:T112)-1,COLUMNS($T$104:T112)-1),\"\")","v":"US 30 WB AND RAMP C TAPER"}]
[{"$f":"IF(OFFSET(DE104_9!$C$104,ROWS($C$104:C113)-1,COLUMNS($C$104:C113)-1)<>\"\",OFFSET(DE104_9!$C$104,ROWS($C$104:C113)-1,COLUMNS($C$104:C113)-1),\"\")","v":""},{"$f":"IF(OFFSET(DE104_9!$D$104,ROWS($D$104:D113)-1,COLUMNS($D$104:D113)-1)<>\"\",OFFSET(DE104_9!$D$104,ROWS($D$104:D113)-1,COLUMNS($D$104:D113)-1),\"\")","v":""},{"$f":"IF(OFFSET(DE104_9!$E$104,ROWS($E$104:E113)-1,COLUMNS($E$104:E113)-1)<>\"\",OFFSET(DE104_9!$E$104,ROWS($E$104:E113)-1,COLUMNS($E$104:E113)-1),\"\")","v":""},{"$f":"IF(OFFSET(DE104_9!$F$104,ROWS($F$104:F113)-1,COLUMNS($F$104:F113)-1)<>\"\",OFFSET(DE104_9!$F$104,ROWS($F$104:F113)-1,COLUMNS($F$104:F113)-1),\"\")","v":""},{"$f":"IF(OFFSET(DE104_9!$G$104,ROWS($G$104:G113)-1,COLUMNS($G$104:G113)-1)<>\"\",OFFSET(DE104_9!$G$104,ROWS($G$104:G113)-1,COLUMNS($G$104:G113)-1),\"\")","v":""},{"$f":"IF(OFFSET(DE104_9!$H$104,ROWS($H$104:H113)-1,COLUMNS($H$104:H113)-1)<>\"\",OFFSET(DE104_9!$H$104,ROWS($H$104:H113)-1,COLUMNS($H$104:H113)-1),\"\")","v":" "},{"$f":"IF(OFFSET(DE104_9!$I$104,ROWS($I$104:I113)-1,COLUMNS($I$104:I113)-1)<>\"\",OFFSET(DE104_9!$I$104,ROWS($I$104:I113)-1,COLUMNS($I$104:I113)-1),\"\")","v":""},{"$f":"IF(OFFSET(DE104_9!$J$104,ROWS($J$104:J113)-1,COLUMNS($J$104:J113)-1)<>\"\",OFFSET(DE104_9!$J$104,ROWS($J$104:J113)-1,COLUMNS($J$104:J113)-1),\"\")","v":""},{"$f":"IF(OFFSET(DE104_9!$K$104,ROWS($K$104:K113)-1,COLUMNS($K$104:K113)-1)<>\"\",OFFSET(DE104_9!$K$104,ROWS($K$104:K113)-1,COLUMNS($K$104:K113)-1),\"\")","v":""},{"$f":"IF(OFFSET(DE104_9!$L$104,ROWS($L$104:L113)-1,COLUMNS($L$104:L113)-1)<>\"\",OFFSET(DE104_9!$L$104,ROWS($L$104:L113)-1,COLUMNS($L$104:L113)-1),\"\")","v":""},{"$f":"IF(OFFSET(DE104_9!$M$104,ROWS($M$104:M113)-1,COLUMNS($M$104:M113)-1)<>\"\",OFFSET(DE104_9!$M$104,ROWS($M$104:M113)-1,COLUMNS($M$104:M113)-1),\"\")","v":""},{"$f":"IF(OFFSET(DE104_9!$N$104,ROWS($N$104:N113)-1,COLUMNS($N$104:N113)-1)<>\"\",OFFSET(DE104_9!$N$104,ROWS($N$104:N113)-1,COLUMNS($N$104:N113)-1),\"\")","v":""},{"$f":"IF(OFFSET(DE104_9!$O$104,ROWS($O$104:O113)-1,COLUMNS($O$104:O113)-1)<>\"\",OFFSET(DE104_9!$O$104,ROWS($O$104:O113)-1,COLUMNS($O$104:O113)-1),\"\")","v":""},{"$f":"IF(OFFSET(DE104_9!$P$104,ROWS($P$104:P113)-1,COLUMNS($P$104:P113)-1)<>\"\",OFFSET(DE104_9!$P$104,ROWS($P$104:P113)-1,COLUMNS($P$104:P113)-1),\"\")","v":146070},{"$f":"IF(OFFSET(DE104_9!$Q$104,ROWS($Q$104:Q113)-1,COLUMNS($Q$104:Q113)-1)<>\"\",OFFSET(DE104_9!$Q$104,ROWS($Q$104:Q113)-1,COLUMNS($Q$104:Q113)-1),\"\")","v":"DR-306"},{"$f":"IF(OFFSET(DE104_9!$R$104,ROWS($R$104:R113)-1,COLUMNS($R$104:R113)-1)<>\"\",OFFSET(DE104_9!$R$104,ROWS($R$104:R113)-1,COLUMNS($R$104:R113)-1),\"\")","v":" "},{"$f":"IF(OFFSET(DE104_9!$S$104,ROWS($S$104:S113)-1,COLUMNS($S$104:S113)-1)<>\"\",OFFSET(DE104_9!$S$104,ROWS($S$104:S113)-1,COLUMNS($S$104:S113)-1),\"\")","v":0.4},{"$f":"IF(OFFSET(DE104_9!$T$104,ROWS($T$104:T113)-1,COLUMNS($T$104:T113)-1)<>\"\",OFFSET(DE104_9!$T$104,ROWS($T$104:T113)-1,COLUMNS($T$104:T113)-1),\"\")","v":""}]
[{"$f":"IF(OFFSET(DE104_9!$C$104,ROWS($C$104:C114)-1,COLUMNS($C$104:C114)-1)<>\"\",OFFSET(DE104_9!$C$104,ROWS($C$104:C114)-1,COLUMNS($C$104:C114)-1),\"\")","v":47},{"$f":"IF(OFFSET(DE104_9!$D$104,ROWS($D$104:D114)-1,COLUMNS($D$104:D114)-1)<>\"\",OFFSET(DE104_9!$D$104,ROWS($D$104:D114)-1,COLUMNS($D$104:D114)-1),\"\")","v":"WBL"},{"$f":"IF(OFFSET(DE104_9!$E$104,ROWS($E$104:E114)-1,COLUMNS($E$104:E114)-1)<>\"\",OFFSET(DE104_9!$E$104,ROWS($E$104:E114)-1,COLUMNS($E$104:E114)-1),\"\")","v":146105},{"$f":"IF(OFFSET(DE104_9!$F$104,ROWS($F$104:F114)-1,COLUMNS($F$104:F114)-1)<>\"\",OFFSET(DE104_9!$F$104,ROWS($F$104:F114)-1,COLUMNS($F$104:F114)-1),\"\")","v":146500},{"$f":"IF(OFFSET(DE104_9!$G$104,ROWS($G$104:G114)-1,COLUMNS($G$104:G114)-1)<>\"\",OFFSET(DE104_9!$G$104,ROWS($G$104:G114)-1,COLUMNS($G$104:G114)-1),\"\")","v":"LT"},{"$f":"IF(OFFSET(DE104_9!$H$104,ROWS($H$104:H114)-1,COLUMNS($H$104:H114)-1)<>\"\",OFFSET(DE104_9!$H$104,ROWS($H$104:H114)-1,COLUMNS($H$104:H114)-1),\"\")","v":42},{"$f":"IF(OFFSET(DE104_9!$I$104,ROWS($I$104:I114)-1,COLUMNS($I$104:I114)-1)<>\"\",OFFSET(DE104_9!$I$104,ROWS($I$104:I114)-1,COLUMNS($I$104:I114)-1),\"\")","v":4},{"$f":"IF(OFFSET(DE104_9!$J$104,ROWS($J$104:J114)-1,COLUMNS($J$104:J114)-1)<>\"\",OFFSET(DE104_9!$J$104,ROWS($J$104:J114)-1,COLUMNS($J$104:J114)-1),\"\")","v":415},{"$f":"IF(OFFSET(DE104_9!$K$104,ROWS($K$104:K114)-1,COLUMNS($K$104:K114)-1)<>\"\",OFFSET(DE104_9!$K$104,ROWS($K$104:K114)-1,COLUMNS($K$104:K114)-1),\"\")","v":""},{"$f":"IF(OFFSET(DE104_9!$L$104,ROWS($L$104:L114)-1,COLUMNS($L$104:L114)-1)<>\"\",OFFSET(DE104_9!$L$104,ROWS($L$104:L114)-1,COLUMNS($L$104:L114)-1),\"\")","v":""},{"$f":"IF(OFFSET(DE104_9!$M$104,ROWS($M$104:M114)-1,COLUMNS($M$104:M114)-1)<>\"\",OFFSET(DE104_9!$M$104,ROWS($M$104:M114)-1,COLUMNS($M$104:M114)-1),\"\")","v":""},{"$f":"IF(OFFSET(DE104_9!$N$104,ROWS($N$104:N114)-1,COLUMNS($N$104:N114)-1)<>\"\",OFFSET(DE104_9!$N$104,ROWS($N$104:N114)-1,COLUMNS($N$104:N114)-1),\"\")","v":""},{"$f":"IF(OFFSET(DE104_9!$O$104,ROWS($O$104:O114)-1,COLUMNS($O$104:O114)-1)<>\"\",OFFSET(DE104_9!$O$104,ROWS($O$104:O114)-1,COLUMNS($O$104:O114)-1),\"\")","v":""},{"$f":"IF(OFFSET(DE104_9!$P$104,ROWS($P$104:P114)-1,COLUMNS($P$104:P114)-1)<>\"\",OFFSET(DE104_9!$P$104,ROWS($P$104:P114)-1,COLUMNS($P$104:P114)-1),\"\")","v":146500},{"$f":"IF(OFFSET(DE104_9!$Q$104,ROWS($Q$104:Q114)-1,COLUMNS($Q$104:Q114)-1)<>\"\",OFFSET(DE104_9!$Q$104,ROWS($Q$104:Q114)-1,COLUMNS($Q$104:Q114)-1),\"\")","v":"DR-306"},{"$f":"IF(OFFSET(DE104_9!$R$104,ROWS($R$104:R114)-1,COLUMNS($R$104:R114)-1)<>\"\",OFFSET(DE104_9!$R$104,ROWS($R$104:R114)-1,COLUMNS($R$104:R114)-1),\"\")","v":38.4},{"$f":"IF(OFFSET(DE104_9!$S$104,ROWS($S$104:S114)-1,COLUMNS($S$104:S114)-1)<>\"\",OFFSET(DE104_9!$S$104,ROWS($S$104:S114)-1,COLUMNS($S$104:S114)-1),\"\")","v":0.4},{"$f":"IF(OFFSET(DE104_9!$T$104,ROWS($T$104:T114)-1,COLUMNS($T$104:T114)-1)<>\"\",OFFSET(DE104_9!$T$104,ROWS($T$104:T114)-1,COLUMNS($T$104:T114)-1),\"\")","v":"SINGLE OUTLET"}]
[{"$f":"IF(OFFSET(DE104_9!$C$104,ROWS($C$104:C115)-1,COLUMNS($C$104:C115)-1)<>\"\",OFFSET(DE104_9!$C$104,ROWS($C$104:C115)-1,COLUMNS($C$104:C115)-1),\"\")","v":48},{"$f":"IF(OFFSET(DE104_9!$D$104,ROWS($D$104:D115)-1,COLUMNS($D$104:D115)-1)<>\"\",OFFSET(DE104_9!$D$104,ROWS($D$104:D115)-1,COLUMNS($D$104:D115)-1),\"\")","v":"WBL"},{"$f":"IF(OFFSET(DE104_9!$E$104,ROWS($E$104:E115)-1,COLUMNS($E$104:E115)-1)<>\"\",OFFSET(DE104_9!$E$104,ROWS($E$104:E115)-1,COLUMNS($E$104:E115)-1),\"\")","v":146500},{"$f":"IF(OFFSET(DE104_9!$F$104,ROWS($F$104:F115)-1,COLUMNS($F$104:F115)-1)<>\"\",OFFSET(DE104_9!$F$104,ROWS($F$104:F115)-1,COLUMNS($F$104:F115)-1),\"\")","v":146845},{"$f":"IF(OFFSET(DE104_9!$G$104,ROWS($G$104:G115)-1,COLUMNS($G$104:G115)-1)<>\"\",OFFSET(DE104_9!$G$104,ROWS($G$104:G115)-1,COLUMNS($G$104:G115)-1),\"\")","v":"LT"},{"$f":"IF(OFFSET(DE104_9!$H$104,ROWS($H$104:H115)-1,COLUMNS($H$104:H115)-1)<>\"\",OFFSET(DE104_9!$H$104,ROWS($H$104:H115)-1,COLUMNS($H$104:H115)-1),\"\")","v":42},{"$f":"IF(OFFSET(DE104_9!$I$104,ROWS($I$104:I115)-1,COLUMNS($I$104:I115)-1)<>\"\",OFFSET(DE104_9!$I$104,ROWS($I$104:I115)-1,COLUMNS($I$104:I115)-1),\"\")","v":4},{"$f":"IF(OFFSET(DE104_9!$J$104,ROWS($J$104:J115)-1,COLUMNS($J$104:J115)-1)<>\"\",OFFSET(DE104_9!$J$104,ROWS($J$104:J115)-1,COLUMNS($J$104:J115)-1),\"\")","v":385},{"$f":"IF(OFFSET(DE104_9!$K$104,ROWS($K$104:K115)-1,COLUMNS($K$104:K115)-1)<>\"\",OFFSET(DE104_9!$K$104,ROWS($K$104:K115)-1,COLUMNS($K$104:K115)-1),\"\")","v":""},{"$f":"IF(OFFSET(DE104_9!$L$104,ROWS($L$104:L115)-1,COLUMNS($L$104:L115)-1)<>\"\",OFFSET(DE104_9!$L$104,ROWS($L$104:L115)-1,COLUMNS($L$104:L115)-1),\"\")","v":""},{"$f":"IF(OFFSET(DE104_9!$M$104,ROWS($M$104:M115)-1,COLUMNS($M$104:M115)-1)<>\"\",OFFSET(DE104_9!$M$104,ROWS($M$104:M115)-1,COLUMNS($M$104:M115)-1),\"\")","v":""},{"$f":"IF(OFFSET(DE104_9!$N$104,ROWS($N$104:N115)-1,COLUMNS($N$104:N115)-1)<>\"\",OFFSET(DE104_9!$N$104,ROWS($N$104:N115)-1,COLUMNS($N$104:N115)-1),\"\")","v":""},{"$f":"IF(OFFSET(DE104_9!$O$104,ROWS($O$104:O115)-1,COLUMNS($O$104:O115)-1)<>\"\",OFFSET(DE104_9!$O$104,ROWS($O$104:O115)-1,COLUMNS($O$104:O115)-1),\"\")","v":""},{"$f":"IF(OFFSET(DE104_9!$P$104,ROWS($P$104:P115)-1,COLUMNS($P$104:P115)-1)<>\"\",OFFSET(DE104_9!$P$104,ROWS($P$104:P115)-1,COLUMNS($P$104:P115)-1),\"\")","v":146500},{"$f":"IF(OFFSET(DE104_9!$Q$104,ROWS($Q$104:Q115)-1,COLUMNS($Q$104:Q115)-1)<>\"\",OFFSET(DE104_9!$Q$104,ROWS($Q$104:Q115)-1,COLUMNS($Q$104:Q115)-1),\"\")","v":"DR-306"},{"$f":"IF(OFFSET(DE104_9!$R$104,ROWS($R$104:R115)-1,COLUMNS($R$104:R115)-1)<>\"\",OFFSET(DE104_9!$R$104,ROWS($R$104:R115)-1,COLUMNS($R$104:R115)-1),\"\")","v":35.6},{"$f":"IF(OFFSET(DE104_9!$S$104,ROWS($S$104:S115)-1,COLUMNS($S$104:S115)-1)<>\"\",OFFSET(DE104_9!$S$104,ROWS($S$104:S115)-1,COLUMNS($S$104:S115)-1),\"\")","v":0.4},{"$f":"IF(OFFSET(DE104_9!$T$104,ROWS($T$104:T115)-1,COLUMNS($T$104:T115)-1)<>\"\",OFFSET(DE104_9!$T$104,ROWS($T$104:T115)-1,COLUMNS($T$104:T115)-1),\"\")","v":""}]
[{"$f":"IF(OFFSET(DE104_9!$C$104,ROWS($C$104:C116)-1,COLUMNS($C$104:C116)-1)<>\"\",OFFSET(DE104_9!$C$104,ROWS($C$104:C116)-1,COLUMNS($C$104:C116)-1),\"\")","v":""},{"$f":"IF(OFFSET(DE104_9!$D$104,ROWS($D$104:D116)-1,COLUMNS($D$104:D116)-1)<>\"\",OFFSET(DE104_9!$D$104,ROWS($D$104:D116)-1,COLUMNS($D$104:D116)-1),\"\")","v":""},{"$f":"IF(OFFSET(DE104_9!$E$104,ROWS($E$104:E116)-1,COLUMNS($E$104:E116)-1)<>\"\",OFFSET(DE104_9!$E$104,ROWS($E$104:E116)-1,COLUMNS($E$104:E116)-1),\"\")","v":""},{"$f":"IF(OFFSET(DE104_9!$F$104,ROWS($F$104:F116)-1,COLUMNS($F$104:F116)-1)<>\"\",OFFSET(DE104_9!$F$104,ROWS($F$104:F116)-1,COLUMNS($F$104:F116)-1),\"\")","v":""},{"$f":"IF(OFFSET(DE104_9!$G$104,ROWS($G$104:G116)-1,COLUMNS($G$104:G116)-1)<>\"\",OFFSET(DE104_9!$G$104,ROWS($G$104:G116)-1,COLUMNS($G$104:G116)-1),\"\")","v":""},{"$f":"IF(OFFSET(DE104_9!$H$104,ROWS($H$104:H116)-1,COLUMNS($H$104:H116)-1)<>\"\",OFFSET(DE104_9!$H$104,ROWS($H$104:H116)-1,COLUMNS($H$104:H116)-1),\"\")","v":" "},{"$f":"IF(OFFSET(DE104_9!$I$104,ROWS($I$104:I116)-1,COLUMNS($I$104:I116)-1)<>\"\",OFFSET(DE104_9!$I$104,ROWS($I$104:I116)-1,COLUMNS($I$104:I116)-1),\"\")","v":""},{"$f":"IF(OFFSET(DE104_9!$J$104,ROWS($J$104:J116)-1,COLUMNS($J$104:J116)-1)<>\"\",OFFSET(DE104_9!$J$104,ROWS($J$104:J116)-1,COLUMNS($J$104:J116)-1),\"\")","v":""},{"$f":"IF(OFFSET(DE104_9!$K$104,ROWS($K$104:K116)-1,COLUMNS($K$104:K116)-1)<>\"\",OFFSET(DE104_9!$K$104,ROWS($K$104:K116)-1,COLUMNS($K$104:K116)-1),\"\")","v":""},{"$f":"IF(OFFSET(DE104_9!$L$104,ROWS($L$104:L116)-1,COLUMNS($L$104:L116)-1)<>\"\",OFFSET(DE104_9!$L$104,ROWS($L$104:L116)-1,COLUMNS($L$104:L116)-1),\"\")","v":""},{"$f":"IF(OFFSET(DE104_9!$M$104,ROWS($M$104:M116)-1,COLUMNS($M$104:M116)-1)<>\"\",OFFSET(DE104_9!$M$104,ROWS($M$104:M116)-1,COLUMNS($M$104:M116)-1),\"\")","v":""},{"$f":"IF(OFFSET(DE104_9!$N$104,ROWS($N$104:N116)-1,COLUMNS($N$104:N116)-1)<>\"\",OFFSET(DE104_9!$N$104,ROWS($N$104:N116)-1,COLUMNS($N$104:N116)-1),\"\")","v":""},{"$f":"IF(OFFSET(DE104_9!$O$104,ROWS($O$104:O116)-1,COLUMNS($O$104:O116)-1)<>\"\",OFFSET(DE104_9!$O$104,ROWS($O$104:O116)-1,COLUMNS($O$104:O116)-1),\"\")","v":""},{"$f":"IF(OFFSET(DE104_9!$P$104,ROWS($P$104:P116)-1,COLUMNS($P$104:P116)-1)<>\"\",OFFSET(DE104_9!$P$104,ROWS($P$104:P116)-1,COLUMNS($P$104:P116)-1),\"\")","v":146845},{"$f":"IF(OFFSET(DE104_9!$Q$104,ROWS($Q$104:Q116)-1,COLUMNS($Q$104:Q116)-1)<>\"\",OFFSET(DE104_9!$Q$104,ROWS($Q$104:Q116)-1,COLUMNS($Q$104:Q116)-1),\"\")","v":"DR-306"},{"$f":"IF(OFFSET(DE104_9!$R$104,ROWS($R$104:R116)-1,COLUMNS($R$104:R116)-1)<>\"\",OFFSET(DE104_9!$R$104,ROWS($R$104:R116)-1,COLUMNS($R$104:R116)-1),\"\")","v":" "},{"$f":"IF(OFFSET(DE104_9!$S$104,ROWS($S$104:S116)-1,COLUMNS($S$104:S116)-1)<>\"\",OFFSET(DE104_9!$S$104,ROWS($S$104:S116)-1,COLUMNS($S$104:S116)-1),\"\")","v":0.4},{"$f":"IF(OFFSET(DE104_9!$T$104,ROWS($T$104:T116)-1,COLUMNS($T$104:T116)-1)<>\"\",OFFSET(DE104_9!$T$104,ROWS($T$104:T116)-1,COLUMNS($T$104:T116)-1),\"\")","v":""}]
[{"$f":"IF(OFFSET(DE104_9!$C$104,ROWS($C$104:C117)-1,COLUMNS($C$104:C117)-1)<>\"\",OFFSET(DE104_9!$C$104,ROWS($C$104:C117)-1,COLUMNS($C$104:C117)-1),\"\")","v":49},{"$f":"IF(OFFSET(DE104_9!$D$104,ROWS($D$104:D117)-1,COLUMNS($D$104:D117)-1)<>\"\",OFFSET(DE104_9!$D$104,ROWS($D$104:D117)-1,COLUMNS($D$104:D117)-1),\"\")","v":"WBL"},{"$f":"IF(OFFSET(DE104_9!$E$104,ROWS($E$104:E117)-1,COLUMNS($E$104:E117)-1)<>\"\",OFFSET(DE104_9!$E$104,ROWS($E$104:E117)-1,COLUMNS($E$104:E117)-1),\"\")","v":146845},{"$f":"IF(OFFSET(DE104_9!$F$104,ROWS($F$104:F117)-1,COLUMNS($F$104:F117)-1)<>\"\",OFFSET(DE104_9!$F$104,ROWS($F$104:F117)-1,COLUMNS($F$104:F117)-1),\"\")","v":147220},{"$f":"IF(OFFSET(DE104_9!$G$104,ROWS($G$104:G117)-1,COLUMNS($G$104:G117)-1)<>\"\",OFFSET(DE104_9!$G$104,ROWS($G$104:G117)-1,COLUMNS($G$104:G117)-1),\"\")","v":"LT"},{"$f":"IF(OFFSET(DE104_9!$H$104,ROWS($H$104:H117)-1,COLUMNS($H$104:H117)-1)<>\"\",OFFSET(DE104_9!$H$104,ROWS($H$104:H117)-1,COLUMNS($H$104:H117)-1),\"\")","v":42},{"$f":"IF(OFFSET(DE104_9!$I$104,ROWS($I$104:I117)-1,COLUMNS($I$104:I117)-1)<>\"\",OFFSET(DE104_9!$I$104,ROWS($I$104:I117)-1,COLUMNS($I$104:I117)-1),\"\")","v":4},{"$f":"IF(OFFSET(DE104_9!$J$104,ROWS($J$104:J117)-1,COLUMNS($J$104:J117)-1)<>\"\",OFFSET(DE104_9!$J$104,ROWS($J$104:J117)-1,COLUMNS($J$104:J117)-1),\"\")","v":395},{"$f":"IF(OFFSET(DE104_9!$K$104,ROWS($K$104:K117)-1,COLUMNS($K$104:K117)-1)<>\"\",OFFSET(DE104_9!$K$104,ROWS($K$104:K117)-1,COLUMNS($K$104:K117)-1),\"\")","v":""},{"$f":"IF(OFFSET(DE104_9!$L$104,ROWS($L$104:L117)-1,COLUMNS($L$104:L117)-1)<>\"\",OFFSET(DE104_9!$L$104,ROWS($L$104:L117)-1,COLUMNS($L$104:L117)-1),\"\")","v":""},{"$f":"IF(OFFSET(DE104_9!$M$104,ROWS($M$104:M117)-1,COLUMNS($M$104:M117)-1)<>\"\",OFFSET(DE104_9!$M$104,ROWS($M$104:M117)-1,COLUMNS($M$104:M117)-1),\"\")","v":""},{"$f":"IF(OFFSET(DE104_9!$N$104,ROWS($N$104:N117)-1,COLUMNS($N$104:N117)-1)<>\"\",OFFSET(DE104_9!$N$104,ROWS($N$104:N117)-1,COLUMNS($N$104:N117)-1),\"\")","v":""},{"$f":"IF(OFFSET(DE104_9!$O$104,ROWS($O$104:O117)-1,COLUMNS($O$104:O117)-1)<>\"\",OFFSET(DE104_9!$O$104,ROWS($O$104:O117)-1,COLUMNS($O$104:O117)-1),\"\")","v":""},{"$f":"IF(OFFSET(DE104_9!$P$104,ROWS($P$104:P117)-1,COLUMNS($P$104:P117)-1)<>\"\",OFFSET(DE104_9!$P$104,ROWS($P$104:P117)-1,COLUMNS($P$104:P117)-1),\"\")","v":146845},{"$f":"IF(OFFSET(DE104_9!$Q$104,ROWS($Q$104:Q117)-1,COLUMNS($Q$104:Q117)-1)<>\"\",OFFSET(DE104_9!$Q$104,ROWS($Q$104:Q117)-1,COLUMNS($Q$104:Q117)-1),\"\")","v":"DR-306"},{"$f":"IF(OFFSET(DE104_9!$R$104,ROWS($R$104:R117)-1,COLUMNS($R$104:R117)-1)<>\"\",OFFSET(DE104_9!$R$104,ROWS($R$104:R117)-1,COLUMNS($R$104:R117)-1),\"\")","v":36.6},{"$f":"IF(OFFSET(DE104_9!$S$104,ROWS($S$104:S117)-1,COLUMNS($S$104:S117)-1)<>\"\",OFFSET(DE104_9!$S$104,ROWS($S$104:S117)-1,COLUMNS($S$104:S117)-1),\"\")","v":0.4},{"$f":"IF(OFFSET(DE104_9!$T$104,ROWS($T$104:T117)-1,COLUMNS($T$104:T117)-1)<>\"\",OFFSET(DE104_9!$T$104,ROWS($T$104:T117)-1,COLUMNS($T$104:T117)-1),\"\")","v":"SINGLE OUTLET"}]
[{"$f":"IF(OFFSET(DE104_9!$C$104,ROWS($C$104:C118)-1,COLUMNS($C$104:C118)-1)<>\"\",OFFSET(DE104_9!$C$104,ROWS($C$104:C118)-1,COLUMNS($C$104:C118)-1),\"\")","v":50},{"$f":"IF(OFFSET(DE104_9!$D$104,ROWS($D$104:D118)-1,COLUMNS($D$104:D118)-1)<>\"\",OFFSET(DE104_9!$D$104,ROWS($D$104:D118)-1,COLUMNS($D$104:D118)-1),\"\")","v":"WBL"},{"$f":"IF(OFFSET(DE104_9!$E$104,ROWS($E$104:E118)-1,COLUMNS($E$104:E118)-1)<>\"\",OFFSET(DE104_9!$E$104,ROWS($E$104:E118)-1,COLUMNS($E$104:E118)-1),\"\")","v":147230},{"$f":"IF(OFFSET(DE104_9!$F$104,ROWS($F$104:F118)-1,COLUMNS($F$104:F118)-1)<>\"\",OFFSET(DE104_9!$F$104,ROWS($F$104:F118)-1,COLUMNS($F$104:F118)-1),\"\")","v":147730},{"$f":"IF(OFFSET(DE104_9!$G$104,ROWS($G$104:G118)-1,COLUMNS($G$104:G118)-1)<>\"\",OFFSET(DE104_9!$G$104,ROWS($G$104:G118)-1,COLUMNS($G$104:G118)-1),\"\")","v":"LT"},{"$f":"IF(OFFSET(DE104_9!$H$104,ROWS($H$104:H118)-1,COLUMNS($H$104:H118)-1)<>\"\",OFFSET(DE104_9!$H$104,ROWS($H$104:H118)-1,COLUMNS($H$104:H118)-1),\"\")","v":36},{"$f":"IF(OFFSET(DE104_9!$I$104,ROWS($I$104:I118)-1,COLUMNS($I$104:I118)-1)<>\"\",OFFSET(DE104_9!$I$104,ROWS($I$104:I118)-1,COLUMNS($I$104:I118)-1),\"\")","v":4},{"$f":"IF(OFFSET(DE104_9!$J$104,ROWS($J$104:J118)-1,COLUMNS($J$104:J118)-1)<>\"\",OFFSET(DE104_9!$J$104,ROWS($J$104:J118)-1,COLUMNS($J$104:J118)-1),\"\")","v":540},{"$f":"IF(OFFSET(DE104_9!$K$104,ROWS($K$104:K118)-1,COLUMNS($K$104:K118)-1)<>\"\",OFFSET(DE104_9!$K$104,ROWS($K$104:K118)-1,COLUMNS($K$104:K118)-1),\"\")","v":""},{"$f":"IF(OFFSET(DE104_9!$L$104,ROWS($L$104:L118)-1,COLUMNS($L$104:L118)-1)<>\"\",OFFSET(DE104_9!$L$104,ROWS($L$104:L118)-1,COLUMNS($L$104:L118)-1),\"\")","v":""},{"$f":"IF(OFFSET(DE104_9!$M$104,ROWS($M$104:M118)-1,COLUMNS($M$104:M118)-1)<>\"\",OFFSET(DE104_9!$M$104,ROWS($M$104:M118)-1,COLUMNS($M$104:M118)-1),\"\")","v":""},{"$f":"IF(OFFSET(DE104_9!$N$104,ROWS($N$104:N118)-1,COLUMNS($N$104:N118)-1)<>\"\",OFFSET(DE104_9!$N$104,ROWS($N$104:N118)-1,COLUMNS($N$104:N118)-1),\"\")","v":""},{"$f":"IF(OFFSET(DE104_9!$O$104,ROWS($O$104:O118)-1,COLUMNS($O$104:O118)-1)<>\"\",OFFSET(DE104_9!$O$104,ROWS($O$104:O118)-1,COLUMNS($O$104:O118)-1),\"\")","v":""},{"$f":"IF(OFFSET(DE104_9!$P$104,ROWS($P$104:P118)-1,COLUMNS($P$104:P118)-1)<>\"\",OFFSET(DE104_9!$P$104,ROWS($P$104:P118)-1,COLUMNS($P$104:P118)-1),\"\")","v":147230},{"$f":"IF(OFFSET(DE104_9!$Q$104,ROWS($Q$104:Q118)-1,COLUMNS($Q$104:Q118)-1)<>\"\",OFFSET(DE104_9!$Q$104,ROWS($Q$104:Q118)-1,COLUMNS($Q$104:Q118)-1),\"\")","v":"DR-306"},{"$f":"IF(OFFSET(DE104_9!$R$104,ROWS($R$104:R118)-1,COLUMNS($R$104:R118)-1)<>\"\",OFFSET(DE104_9!$R$104,ROWS($R$104:R118)-1,COLUMNS($R$104:R118)-1),\"\")","v":41.7},{"$f":"IF(OFFSET(DE104_9!$S$104,ROWS($S$104:S118)-1,COLUMNS($S$104:S118)-1)<>\"\",OFFSET(DE104_9!$S$104,ROWS($S$104:S118)-1,COLUMNS($S$104:S118)-1),\"\")","v":0.4},{"$f":"IF(OFFSET(DE104_9!$T$104,ROWS($T$104:T118)-1,COLUMNS($T$104:T118)-1)<>\"\",OFFSET(DE104_9!$T$104,ROWS($T$104:T118)-1,COLUMNS($T$104:T118)-1),\"\")","v":"US 30 WB AND LOOP B TAPER"}]
[{"$f":"IF(OFFSET(DE104_9!$C$104,ROWS($C$104:C119)-1,COLUMNS($C$104:C119)-1)<>\"\",OFFSET(DE104_9!$C$104,ROWS($C$104:C119)-1,COLUMNS($C$104:C119)-1),\"\")","v":""},{"$f":"IF(OFFSET(DE104_9!$D$104,ROWS($D$104:D119)-1,COLUMNS($D$104:D119)-1)<>\"\",OFFSET(DE104_9!$D$104,ROWS($D$104:D119)-1,COLUMNS($D$104:D119)-1),\"\")","v":""},{"$f":"IF(OFFSET(DE104_9!$E$104,ROWS($E$104:E119)-1,COLUMNS($E$104:E119)-1)<>\"\",OFFSET(DE104_9!$E$104,ROWS($E$104:E119)-1,COLUMNS($E$104:E119)-1),\"\")","v":""},{"$f":"IF(OFFSET(DE104_9!$F$104,ROWS($F$104:F119)-1,COLUMNS($F$104:F119)-1)<>\"\",OFFSET(DE104_9!$F$104,ROWS($F$104:F119)-1,COLUMNS($F$104:F119)-1),\"\")","v":""},{"$f":"IF(OFFSET(DE104_9!$G$104,ROWS($G$104:G119)-1,COLUMNS($G$104:G119)-1)<>\"\",OFFSET(DE104_9!$G$104,ROWS($G$104:G119)-1,COLUMNS($G$104:G119)-1),\"\")","v":""},{"$f":"IF(OFFSET(DE104_9!$H$104,ROWS($H$104:H119)-1,COLUMNS($H$104:H119)-1)<>\"\",OFFSET(DE104_9!$H$104,ROWS($H$104:H119)-1,COLUMNS($H$104:H119)-1),\"\")","v":" "},{"$f":"IF(OFFSET(DE104_9!$I$104,ROWS($I$104:I119)-1,COLUMNS($I$104:I119)-1)<>\"\",OFFSET(DE104_9!$I$104,ROWS($I$104:I119)-1,COLUMNS($I$104:I119)-1),\"\")","v":""},{"$f":"IF(OFFSET(DE104_9!$J$104,ROWS($J$104:J119)-1,COLUMNS($J$104:J119)-1)<>\"\",OFFSET(DE104_9!$J$104,ROWS($J$104:J119)-1,COLUMNS($J$104:J119)-1),\"\")","v":""},{"$f":"IF(OFFSET(DE104_9!$K$104,ROWS($K$104:K119)-1,COLUMNS($K$104:K119)-1)<>\"\",OFFSET(DE104_9!$K$104,ROWS($K$104:K119)-1,COLUMNS($K$104:K119)-1),\"\")","v":""},{"$f":"IF(OFFSET(DE104_9!$L$104,ROWS($L$104:L119)-1,COLUMNS($L$104:L119)-1)<>\"\",OFFSET(DE104_9!$L$104,ROWS($L$104:L119)-1,COLUMNS($L$104:L119)-1),\"\")","v":""},{"$f":"IF(OFFSET(DE104_9!$M$104,ROWS($M$104:M119)-1,COLUMNS($M$104:M119)-1)<>\"\",OFFSET(DE104_9!$M$104,ROWS($M$104:M119)-1,COLUMNS($M$104:M119)-1),\"\")","v":""},{"$f":"IF(OFFSET(DE104_9!$N$104,ROWS($N$104:N119)-1,COLUMNS($N$104:N119)-1)<>\"\",OFFSET(DE104_9!$N$104,ROWS($N$104:N119)-1,COLUMNS($N$104:N119)-1),\"\")","v":""},{"$f":"IF(OFFSET(DE104_9!$O$104,ROWS($O$104:O119)-1,COLUMNS($O$104:O119)-1)<>\"\",OFFSET(DE104_9!$O$104,ROWS($O$104:O119)-1,COLUMNS($O$104:O119)-1),\"\")","v":""},{"$f":"IF(OFFSET(DE104_9!$P$104,ROWS($P$104:P119)-1,COLUMNS($P$104:P119)-1)<>\"\",OFFSET(DE104_9!$P$104,ROWS($P$104:P119)-1,COLUMNS($P$104:P119)-1),\"\")","v":147730},{"$f":"IF(OFFSET(DE104_9!$Q$104,ROWS($Q$104:Q119)-1,COLUMNS($Q$104:Q119)-1)<>\"\",OFFSET(DE104_9!$Q$104,ROWS($Q$104:Q119)-1,COLUMNS($Q$104:Q119)-1),\"\")","v":"DR-306"},{"$f":"IF(OFFSET(DE104_9!$R$104,ROWS($R$104:R119)-1,COLUMNS($R$104:R119)-1)<>\"\",OFFSET(DE104_9!$R$104,ROWS($R$104:R119)-1,COLUMNS($R$104:R119)-1),\"\")","v":" "},{"$f":"IF(OFFSET(DE104_9!$S$104,ROWS($S$104:S119)-1,COLUMNS($S$104:S119)-1)<>\"\",OFFSET(DE104_9!$S$104,ROWS($S$104:S119)-1,COLUMNS($S$104:S119)-1),\"\")","v":0.4},{"$f":"IF(OFFSET(DE104_9!$T$104,ROWS($T$104:T119)-1,COLUMNS($T$104:T119)-1)<>\"\",OFFSET(DE104_9!$T$104,ROWS($T$104:T119)-1,COLUMNS($T$104:T119)-1),\"\")","v":""}]
[{"$f":"IF(OFFSET(DE104_9!$C$104,ROWS($C$104:C120)-1,COLUMNS($C$104:C120)-1)<>\"\",OFFSET(DE104_9!$C$104,ROWS($C$104:C120)-1,COLUMNS($C$104:C120)-1),\"\")","v":51},{"$f":"IF(OFFSET(DE104_9!$D$104,ROWS($D$104:D120)-1,COLUMNS($D$104:D120)-1)<>\"\",OFFSET(DE104_9!$D$104,ROWS($D$104:D120)-1,COLUMNS($D$104:D120)-1),\"\")","v":"WBL"},{"$f":"IF(OFFSET(DE104_9!$E$104,ROWS($E$104:E120)-1,COLUMNS($E$104:E120)-1)<>\"\",OFFSET(DE104_9!$E$104,ROWS($E$104:E120)-1,COLUMNS($E$104:E120)-1),\"\")","v":147730},{"$f":"IF(OFFSET(DE104_9!$F$104,ROWS($F$104:F120)-1,COLUMNS($F$104:F120)-1)<>\"\",OFFSET(DE104_9!$F$104,ROWS($F$104:F120)-1,COLUMNS($F$104:F120)-1),\"\")","v":148230},{"$f":"IF(OFFSET(DE104_9!$G$104,ROWS($G$104:G120)-1,COLUMNS($G$104:G120)-1)<>\"\",OFFSET(DE104_9!$G$104,ROWS($G$104:G120)-1,COLUMNS($G$104:G120)-1),\"\")","v":"LT"},{"$f":"IF(OFFSET(DE104_9!$H$104,ROWS($H$104:H120)-1,COLUMNS($H$104:H120)-1)<>\"\",OFFSET(DE104_9!$H$104,ROWS($H$104:H120)-1,COLUMNS($H$104:H120)-1),\"\")","v":36},{"$f":"IF(OFFSET(DE104_9!$I$104,ROWS($I$104:I120)-1,COLUMNS($I$104:I120)-1)<>\"\",OFFSET(DE104_9!$I$104,ROWS($I$104:I120)-1,COLUMNS($I$104:I120)-1),\"\")","v":4},{"$f":"IF(OFFSET(DE104_9!$J$104,ROWS($J$104:J120)-1,COLUMNS($J$104:J120)-1)<>\"\",OFFSET(DE104_9!$J$104,ROWS($J$104:J120)-1,COLUMNS($J$104:J120)-1),\"\")","v":540},{"$f":"IF(OFFSET(DE104_9!$K$104,ROWS($K$104:K120)-1,COLUMNS($K$104:K120)-1)<>\"\",OFFSET(DE104_9!$K$104,ROWS($K$104:K120)-1,COLUMNS($K$104:K120)-1),\"\")","v":""},{"$f":"IF(OFFSET(DE104_9!$L$104,ROWS($L$104:L120)-1,COLUMNS($L$104:L120)-1)<>\"\",OFFSET(DE104_9!$L$104,ROWS($L$104:L120)-1,COLUMNS($L$104:L120)-1),\"\")","v":""},{"$f":"IF(OFFSET(DE104_9!$M$104,ROWS($M$104:M120)-1,COLUMNS($M$104:M120)-1)<>\"\",OFFSET(DE104_9!$M$104,ROWS($M$104:M120)-1,COLUMNS($M$104:M120)-1),\"\")","v":""},{"$f":"IF(OFFSET(DE104_9!$N$104,ROWS($N$104:N120)-1,COLUMNS($N$104:N120)-1)<>\"\",OFFSET(DE104_9!$N$104,ROWS($N$104:N120)-1,COLUMNS($N$104:N120)-1),\"\")","v":""},{"$f":"IF(OFFSET(DE104_9!$O$104,ROWS($O$104:O120)-1,COLUMNS($O$104:O120)-1)<>\"\",OFFSET(DE104_9!$O$104,ROWS($O$104:O120)-1,COLUMNS($O$104:O120)-1),\"\")","v":""},{"$f":"IF(OFFSET(DE104_9!$P$104,ROWS($P$104:P120)-1,COLUMNS($P$104:P120)-1)<>\"\",OFFSET(DE104_9!$P$104,ROWS($P$104:P120)-1,COLUMNS($P$104:P120)-1),\"\")","v":147730},{"$f":"IF(OFFSET(DE104_9!$Q$104,ROWS($Q$104:Q120)-1,COLUMNS($Q$104:Q120)-1)<>\"\",OFFSET(DE104_9!$Q$104,ROWS($Q$104:Q120)-1,COLUMNS($Q$104:Q120)-1),\"\")","v":"DR-306"},{"$f":"IF(OFFSET(DE104_9!$R$104,ROWS($R$104:R120)-1,COLUMNS($R$104:R120)-1)<>\"\",OFFSET(DE104_9!$R$104,ROWS($R$104:R120)-1,COLUMNS($R$104:R120)-1),\"\")","v":41.7},{"$f":"IF(OFFSET(DE104_9!$S$104,ROWS($S$104:S120)-1,COLUMNS($S$104:S120)-1)<>\"\",OFFSET(DE104_9!$S$104,ROWS($S$104:S120)-1,COLUMNS($S$104:S120)-1),\"\")","v":0.4},{"$f":"IF(OFFSET(DE104_9!$T$104,ROWS($T$104:T120)-1,COLUMNS($T$104:T120)-1)<>\"\",OFFSET(DE104_9!$T$104,ROWS($T$104:T120)-1,COLUMNS($T$104:T120)-1),\"\")","v":""}]
[{"$f":"IF(OFFSET(DE104_9!$C$104,ROWS($C$104:C121)-1,COLUMNS($C$104:C121)-1)<>\"\",OFFSET(DE104_9!$C$104,ROWS($C$104:C121)-1,COLUMNS($C$104:C121)-1),\"\")","v":""},{"$f":"IF(OFFSET(DE104_9!$D$104,ROWS($D$104:D121)-1,COLUMNS($D$104:D121)-1)<>\"\",OFFSET(DE104_9!$D$104,ROWS($D$104:D121)-1,COLUMNS($D$104:D121)-1),\"\")","v":""},{"$f":"IF(OFFSET(DE104_9!$E$104,ROWS($E$104:E121)-1,COLUMNS($E$104:E121)-1)<>\"\",OFFSET(DE104_9!$E$104,ROWS($E$104:E121)-1,COLUMNS($E$104:E121)-1),\"\")","v":""},{"$f":"IF(OFFSET(DE104_9!$F$104,ROWS($F$104:F121)-1,COLUMNS($F$104:F121)-1)<>\"\",OFFSET(DE104_9!$F$104,ROWS($F$104:F121)-1,COLUMNS($F$104:F121)-1),\"\")","v":""},{"$f":"IF(OFFSET(DE104_9!$G$104,ROWS($G$104:G121)-1,COLUMNS($G$104:G121)-1)<>\"\",OFFSET(DE104_9!$G$104,ROWS($G$104:G121)-1,COLUMNS($G$104:G121)-1),\"\")","v":""},{"$f":"IF(OFFSET(DE104_9!$H$104,ROWS($H$104:H121)-1,COLUMNS($H$104:H121)-1)<>\"\",OFFSET(DE104_9!$H$104,ROWS($H$104:H121)-1,COLUMNS($H$104:H121)-1),\"\")","v":" "},{"$f":"IF(OFFSET(DE104_9!$I$104,ROWS($I$104:I121)-1,COLUMNS($I$104:I121)-1)<>\"\",OFFSET(DE104_9!$I$104,ROWS($I$104:I121)-1,COLUMNS($I$104:I121)-1),\"\")","v":""},{"$f":"IF(OFFSET(DE104_9!$J$104,ROWS($J$104:J121)-1,COLUMNS($J$104:J121)-1)<>\"\",OFFSET(DE104_9!$J$104,ROWS($J$104:J121)-1,COLUMNS($J$104:J121)-1),\"\")","v":""},{"$f":"IF(OFFSET(DE104_9!$K$104,ROWS($K$104:K121)-1,COLUMNS($K$104:K121)-1)<>\"\",OFFSET(DE104_9!$K$104,ROWS($K$104:K121)-1,COLUMNS($K$104:K121)-1),\"\")","v":""},{"$f":"IF(OFFSET(DE104_9!$L$104,ROWS($L$104:L121)-1,COLUMNS($L$104:L121)-1)<>\"\",OFFSET(DE104_9!$L$104,ROWS($L$104:L121)-1,COLUMNS($L$104:L121)-1),\"\")","v":""},{"$f":"IF(OFFSET(DE104_9!$M$104,ROWS($M$104:M121)-1,COLUMNS($M$104:M121)-1)<>\"\",OFFSET(DE104_9!$M$104,ROWS($M$104:M121)-1,COLUMNS($M$104:M121)-1),\"\")","v":""},{"$f":"IF(OFFSET(DE104_9!$N$104,ROWS($N$104:N121)-1,COLUMNS($N$104:N121)-1)<>\"\",OFFSET(DE104_9!$N$104,ROWS($N$104:N121)-1,COLUMNS($N$104:N121)-1),\"\")","v":""},{"$f":"IF(OFFSET(DE104_9!$O$104,ROWS($O$104:O121)-1,COLUMNS($O$104:O121)-1)<>\"\",OFFSET(DE104_9!$O$104,ROWS($O$104:O121)-1,COLUMNS($O$104:O121)-1),\"\")","v":""},{"$f":"IF(OFFSET(DE104_9!$P$104,ROWS($P$104:P121)-1,COLUMNS($P$104:P121)-1)<>\"\",OFFSET(DE104_9!$P$104,ROWS($P$104:P121)-1,COLUMNS($P$104:P121)-1),\"\")","v":148230},{"$f":"IF(OFFSET(DE104_9!$Q$104,ROWS($Q$104:Q121)-1,COLUMNS($Q$104:Q121)-1)<>\"\",OFFSET(DE104_9!$Q$104,ROWS($Q$104:Q121)-1,COLUMNS($Q$104:Q121)-1),\"\")","v":"DR-306"},{"$f":"IF(OFFSET(DE104_9!$R$104,ROWS($R$104:R121)-1,COLUMNS($R$104:R121)-1)<>\"\",OFFSET(DE104_9!$R$104,ROWS($R$104:R121)-1,COLUMNS($R$104:R121)-1),\"\")","v":" "},{"$f":"IF(OFFSET(DE104_9!$S$104,ROWS($S$104:S121)-1,COLUMNS($S$104:S121)-1)<>\"\",OFFSET(DE104_9!$S$104,ROWS($S$104:S121)-1,COLUMNS($S$104:S121)-1),\"\")","v":0.4},{"$f":"IF(OFFSET(DE104_9!$T$104,ROWS($T$104:T121)-1,COLUMNS($T$104:T121)-1)<>\"\",OFFSET(DE104_9!$T$104,ROWS($T$104:T121)-1,COLUMNS($T$104:T121)-1),\"\")","v":""}]
[{"$f":"IF(OFFSET(DE104_9!$C$104,ROWS($C$104:C122)-1,COLUMNS($C$104:C122)-1)<>\"\",OFFSET(DE104_9!$C$104,ROWS($C$104:C122)-1,COLUMNS($C$104:C122)-1),\"\")","v":52},{"$f":"IF(OFFSET(DE104_9!$D$104,ROWS($D$104:D122)-1,COLUMNS($D$104:D122)-1)<>\"\",OFFSET(DE104_9!$D$104,ROWS($D$104:D122)-1,COLUMNS($D$104:D122)-1),\"\")","v":"WBL"},{"$f":"IF(OFFSET(DE104_9!$E$104,ROWS($E$104:E122)-1,COLUMNS($E$104:E122)-1)<>\"\",OFFSET(DE104_9!$E$104,ROWS($E$104:E122)-1,COLUMNS($E$104:E122)-1),\"\")","v":148230},{"$f":"IF(OFFSET(DE104_9!$F$104,ROWS($F$104:F122)-1,COLUMNS($F$104:F122)-1)<>\"\",OFFSET(DE104_9!$F$104,ROWS($F$104:F122)-1,COLUMNS($F$104:F122)-1),\"\")","v":148730},{"$f":"IF(OFFSET(DE104_9!$G$104,ROWS($G$104:G122)-1,COLUMNS($G$104:G122)-1)<>\"\",OFFSET(DE104_9!$G$104,ROWS($G$104:G122)-1,COLUMNS($G$104:G122)-1),\"\")","v":"LT"},{"$f":"IF(OFFSET(DE104_9!$H$104,ROWS($H$104:H122)-1,COLUMNS($H$104:H122)-1)<>\"\",OFFSET(DE104_9!$H$104,ROWS($H$104:H122)-1,COLUMNS($H$104:H122)-1),\"\")","v":36},{"$f":"IF(OFFSET(DE104_9!$I$104,ROWS($I$104:I122)-1,COLUMNS($I$104:I122)-1)<>\"\",OFFSET(DE104_9!$I$104,ROWS($I$104:I122)-1,COLUMNS($I$104:I122)-1),\"\")","v":4},{"$f":"IF(OFFSET(DE104_9!$J$104,ROWS($J$104:J122)-1,COLUMNS($J$104:J122)-1)<>\"\",OFFSET(DE104_9!$J$104,ROWS($J$104:J122)-1,COLUMNS($J$104:J122)-1),\"\")","v":540},{"$f":"IF(OFFSET(DE104_9!$K$104,ROWS($K$104:K122)-1,COLUMNS($K$104:K122)-1)<>\"\",OFFSET(DE104_9!$K$104,ROWS($K$104:K122)-1,COLUMNS($K$104:K122)-1),\"\")","v":""},{"$f":"IF(OFFSET(DE104_9!$L$104,ROWS($L$104:L122)-1,COLUMNS($L$104:L122)-1)<>\"\",OFFSET(DE104_9!$L$104,ROWS($L$104:L122)-1,COLUMNS($L$104:L122)-1),\"\")","v":""},{"$f":"IF(OFFSET(DE104_9!$M$104,ROWS($M$104:M122)-1,COLUMNS($M$104:M122)-1)<>\"\",OFFSET(DE104_9!$M$104,ROWS($M$104:M122)-1,COLUMNS($M$104:M122)-1),\"\")","v":""},{"$f":"IF(OFFSET(DE104_9!$N$104,ROWS($N$104:N122)-1,COLUMNS($N$104:N122)-1)<>\"\",OFFSET(DE104_9!$N$104,ROWS($N$104:N122)-1,COLUMNS($N$104:N122)-1),\"\")","v":""},{"$f":"IF(OFFSET(DE104_9!$O$104,ROWS($O$104:O122)-1,COLUMNS($O$104:O122)-1)<>\"\",OFFSET(DE104_9!$O$104,ROWS($O$104:O122)-1,COLUMNS($O$104:O122)-1),\"\")","v":""},{"$f":"IF(OFFSET(DE104_9!$P$104,ROWS($P$104:P122)-1,COLUMNS($P$104:P122)-1)<>\"\",OFFSET(DE104_9!$P$104,ROWS($P$104:P122)-1,COLUMNS($P$104:P122)-1),\"\")","v":148230},{"$f":"IF(OFFSET(DE104_9!$Q$104,ROWS($Q$104:Q122)-1,COLUMNS($Q$104:Q122)-1)<>\"\",OFFSET(DE104_9!$Q$104,ROWS($Q$104:Q122)-1,COLUMNS($Q$104:Q122)-1),\"\")","v":"DR-306"},{"$f":"IF(OFFSET(DE104_9!$R$104,ROWS($R$104:R122)-1,COLUMNS($R$104:R122)-1)<>\"\",OFFSET(DE104_9!$R$104,ROWS($R$104:R122)-1,COLUMNS($R$104:R122)-1),\"\")","v":41.7},{"$f":"IF(OFFSET(DE104_9!$S$104,ROWS($S$104:S122)-1,COLUMNS($S$104:S122)-1)<>\"\",OFFSET(DE104_9!$S$104,ROWS($S$104:S122)-1,COLUMNS($S$104:S122)-1),\"\")","v":0.4},{"$f":"IF(OFFSET(DE104_9!$T$104,ROWS($T$104:T122)-1,COLUMNS($T$104:T122)-1)<>\"\",OFFSET(DE104_9!$T$104,ROWS($T$104:T122)-1,COLUMNS($T$104:T122)-1),\"\")","v":""}]
[{"$f":"IF(OFFSET(DE104_9!$C$104,ROWS($C$104:C123)-1,COLUMNS($C$104:C123)-1)<>\"\",OFFSET(DE104_9!$C$104,ROWS($C$104:C123)-1,COLUMNS($C$104:C123)-1),\"\")","v":""},{"$f":"IF(OFFSET(DE104_9!$D$104,ROWS($D$104:D123)-1,COLUMNS($D$104:D123)-1)<>\"\",OFFSET(DE104_9!$D$104,ROWS($D$104:D123)-1,COLUMNS($D$104:D123)-1),\"\")","v":""},{"$f":"IF(OFFSET(DE104_9!$E$104,ROWS($E$104:E123)-1,COLUMNS($E$104:E123)-1)<>\"\",OFFSET(DE104_9!$E$104,ROWS($E$104:E123)-1,COLUMNS($E$104:E123)-1),\"\")","v":""},{"$f":"IF(OFFSET(DE104_9!$F$104,ROWS($F$104:F123)-1,COLUMNS($F$104:F123)-1)<>\"\",OFFSET(DE104_9!$F$104,ROWS($F$104:F123)-1,COLUMNS($F$104:F123)-1),\"\")","v":""},{"$f":"IF(OFFSET(DE104_9!$G$104,ROWS($G$104:G123)-1,COLUMNS($G$104:G123)-1)<>\"\",OFFSET(DE104_9!$G$104,ROWS($G$104:G123)-1,COLUMNS($G$104:G123)-1),\"\")","v":""},{"$f":"IF(OFFSET(DE104_9!$H$104,ROWS($H$104:H123)-1,COLUMNS($H$104:H123)-1)<>\"\",OFFSET(DE104_9!$H$104,ROWS($H$104:H123)-1,COLUMNS($H$104:H123)-1),\"\")","v":" "},{"$f":"IF(OFFSET(DE104_9!$I$104,ROWS($I$104:I123)-1,COLUMNS($I$104:I123)-1)<>\"\",OFFSET(DE104_9!$I$104,ROWS($I$104:I123)-1,COLUMNS($I$104:I123)-1),\"\")","v":""},{"$f":"IF(OFFSET(DE104_9!$J$104,ROWS($J$104:J123)-1,COLUMNS($J$104:J123)-1)<>\"\",OFFSET(DE104_9!$J$104,ROWS($J$104:J123)-1,COLUMNS($J$104:J123)-1),\"\")","v":""},{"$f":"IF(OFFSET(DE104_9!$K$104,ROWS($K$104:K123)-1,COLUMNS($K$104:K123)-1)<>\"\",OFFSET(DE104_9!$K$104,ROWS($K$104:K123)-1,COLUMNS($K$104:K123)-1),\"\")","v":""},{"$f":"IF(OFFSET(DE104_9!$L$104,ROWS($L$104:L123)-1,COLUMNS($L$104:L123)-1)<>\"\",OFFSET(DE104_9!$L$104,ROWS($L$104:L123)-1,COLUMNS($L$104:L123)-1),\"\")","v":""},{"$f":"IF(OFFSET(DE104_9!$M$104,ROWS($M$104:M123)-1,COLUMNS($M$104:M123)-1)<>\"\",OFFSET(DE104_9!$M$104,ROWS($M$104:M123)-1,COLUMNS($M$104:M123)-1),\"\")","v":""},{"$f":"IF(OFFSET(DE104_9!$N$104,ROWS($N$104:N123)-1,COLUMNS($N$104:N123)-1)<>\"\",OFFSET(DE104_9!$N$104,ROWS($N$104:N123)-1,COLUMNS($N$104:N123)-1),\"\")","v":""},{"$f":"IF(OFFSET(DE104_9!$O$104,ROWS($O$104:O123)-1,COLUMNS($O$104:O123)-1)<>\"\",OFFSET(DE104_9!$O$104,ROWS($O$104:O123)-1,COLUMNS($O$104:O123)-1),\"\")","v":""},{"$f":"IF(OFFSET(DE104_9!$P$104,ROWS($P$104:P123)-1,COLUMNS($P$104:P123)-1)<>\"\",OFFSET(DE104_9!$P$104,ROWS($P$104:P123)-1,COLUMNS($P$104:P123)-1),\"\")","v":148730},{"$f":"IF(OFFSET(DE104_9!$Q$104,ROWS($Q$104:Q123)-1,COLUMNS($Q$104:Q123)-1)<>\"\",OFFSET(DE104_9!$Q$104,ROWS($Q$104:Q123)-1,COLUMNS($Q$104:Q123)-1),\"\")","v":"DR-306"},{"$f":"IF(OFFSET(DE104_9!$R$104,ROWS($R$104:R123)-1,COLUMNS($R$104:R123)-1)<>\"\",OFFSET(DE104_9!$R$104,ROWS($R$104:R123)-1,COLUMNS($R$104:R123)-1),\"\")","v":" "},{"$f":"IF(OFFSET(DE104_9!$S$104,ROWS($S$104:S123)-1,COLUMNS($S$104:S123)-1)<>\"\",OFFSET(DE104_9!$S$104,ROWS($S$104:S123)-1,COLUMNS($S$104:S123)-1),\"\")","v":0.4},{"$f":"IF(OFFSET(DE104_9!$T$104,ROWS($T$104:T123)-1,COLUMNS($T$104:T123)-1)<>\"\",OFFSET(DE104_9!$T$104,ROWS($T$104:T123)-1,COLUMNS($T$104:T123)-1),\"\")","v":""}]
[{"$f":"IF(OFFSET(DE104_9!$C$104,ROWS($C$104:C124)-1,COLUMNS($C$104:C124)-1)<>\"\",OFFSET(DE104_9!$C$104,ROWS($C$104:C124)-1,COLUMNS($C$104:C124)-1),\"\")","v":53},{"$f":"IF(OFFSET(DE104_9!$D$104,ROWS($D$104:D124)-1,COLUMNS($D$104:D124)-1)<>\"\",OFFSET(DE104_9!$D$104,ROWS($D$104:D124)-1,COLUMNS($D$104:D124)-1),\"\")","v":"WBL"},{"$f":"IF(OFFSET(DE104_9!$E$104,ROWS($E$104:E124)-1,COLUMNS($E$104:E124)-1)<>\"\",OFFSET(DE104_9!$E$104,ROWS($E$104:E124)-1,COLUMNS($E$104:E124)-1),\"\")","v":148730},{"$f":"IF(OFFSET(DE104_9!$F$104,ROWS($F$104:F124)-1,COLUMNS($F$104:F124)-1)<>\"\",OFFSET(DE104_9!$F$104,ROWS($F$104:F124)-1,COLUMNS($F$104:F124)-1),\"\")","v":149230},{"$f":"IF(OFFSET(DE104_9!$G$104,ROWS($G$104:G124)-1,COLUMNS($G$104:G124)-1)<>\"\",OFFSET(DE104_9!$G$104,ROWS($G$104:G124)-1,COLUMNS($G$104:G124)-1),\"\")","v":"LT"},{"$f":"IF(OFFSET(DE104_9!$H$104,ROWS($H$104:H124)-1,COLUMNS($H$104:H124)-1)<>\"\",OFFSET(DE104_9!$H$104,ROWS($H$104:H124)-1,COLUMNS($H$104:H124)-1),\"\")","v":42},{"$f":"IF(OFFSET(DE104_9!$I$104,ROWS($I$104:I124)-1,COLUMNS($I$104:I124)-1)<>\"\",OFFSET(DE104_9!$I$104,ROWS($I$104:I124)-1,COLUMNS($I$104:I124)-1),\"\")","v":4},{"$f":"IF(OFFSET(DE104_9!$J$104,ROWS($J$104:J124)-1,COLUMNS($J$104:J124)-1)<>\"\",OFFSET(DE104_9!$J$104,ROWS($J$104:J124)-1,COLUMNS($J$104:J124)-1),\"\")","v":540},{"$f":"IF(OFFSET(DE104_9!$K$104,ROWS($K$104:K124)-1,COLUMNS($K$104:K124)-1)<>\"\",OFFSET(DE104_9!$K$104,ROWS($K$104:K124)-1,COLUMNS($K$104:K124)-1),\"\")","v":""},{"$f":"IF(OFFSET(DE104_9!$L$104,ROWS($L$104:L124)-1,COLUMNS($L$104:L124)-1)<>\"\",OFFSET(DE104_9!$L$104,ROWS($L$104:L124)-1,COLUMNS($L$104:L124)-1),\"\")","v":""},{"$f":"IF(OFFSET(DE104_9!$M$104,ROWS($M$104:M124)-1,COLUMNS($M$104:M124)-1)<>\"\",OFFSET(DE104_9!$M$104,ROWS($M$104:M124)-1,COLUMNS($M$104:M124)-1),\"\")","v":""},{"$f":"IF(OFFSET(DE104_9!$N$104,ROWS($N$104:N124)-1,COLUMNS($N$104:N124)-1)<>\"\",OFFSET(DE104_9!$N$104,ROWS($N$104:N124)-1,COLUMNS($N$104:N124)-1),\"\")","v":""},{"$f":"IF(OFFSET(DE104_9!$O$104,ROWS($O$104:O124)-1,COLUMNS($O$104:O124)-1)<>\"\",OFFSET(DE104_9!$O$104,ROWS($O$104:O124)-1,COLUMNS($O$104:O124)-1),\"\")","v":""},{"$f":"IF(OFFSET(DE104_9!$P$104,ROWS($P$104:P124)-1,COLUMNS($P$104:P124)-1)<>\"\",OFFSET(DE104_9!$P$104,ROWS($P$104:P124)-1,COLUMNS($P$104:P124)-1),\"\")","v":148730},{"$f":"IF(OFFSET(DE104_9!$Q$104,ROWS($Q$104:Q124)-1,COLUMNS($Q$104:Q124)-1)<>\"\",OFFSET(DE104_9!$Q$104,ROWS($Q$104:Q124)-1,COLUMNS($Q$104:Q124)-1),\"\")","v":"DR-306"},{"$f":"IF(OFFSET(DE104_9!$R$104,ROWS($R$104:R124)-1,COLUMNS($R$104:R124)-1)<>\"\",OFFSET(DE104_9!$R$104,ROWS($R$104:R124)-1,COLUMNS($R$104:R124)-1),\"\")","v":50},{"$f":"IF(OFFSET(DE104_9!$S$104,ROWS($S$104:S124)-1,COLUMNS($S$104:S124)-1)<>\"\",OFFSET(DE104_9!$S$104,ROWS($S$104:S124)-1,COLUMNS($S$104:S124)-1),\"\")","v":0.4},{"$f":"IF(OFFSET(DE104_9!$T$104,ROWS($T$104:T124)-1,COLUMNS($T$104:T124)-1)<>\"\",OFFSET(DE104_9!$T$104,ROWS($T$104:T124)-1,COLUMNS($T$104:T124)-1),\"\")","v":""}]
[{"$f":"IF(OFFSET(DE104_9!$C$104,ROWS($C$104:C125)-1,COLUMNS($C$104:C125)-1)<>\"\",OFFSET(DE104_9!$C$104,ROWS($C$104:C125)-1,COLUMNS($C$104:C125)-1),\"\")","v":""},{"$f":"IF(OFFSET(DE104_9!$D$104,ROWS($D$104:D125)-1,COLUMNS($D$104:D125)-1)<>\"\",OFFSET(DE104_9!$D$104,ROWS($D$104:D125)-1,COLUMNS($D$104:D125)-1),\"\")","v":""},{"$f":"IF(OFFSET(DE104_9!$E$104,ROWS($E$104:E125)-1,COLUMNS($E$104:E125)-1)<>\"\",OFFSET(DE104_9!$E$104,ROWS($E$104:E125)-1,COLUMNS($E$104:E125)-1),\"\")","v":""},{"$f":"IF(OFFSET(DE104_9!$F$104,ROWS($F$104:F125)-1,COLUMNS($F$104:F125)-1)<>\"\",OFFSET(DE104_9!$F$104,ROWS($F$104:F125)-1,COLUMNS($F$104:F125)-1),\"\")","v":""},{"$f":"IF(OFFSET(DE104_9!$G$104,ROWS($G$104:G125)-1,COLUMNS($G$104:G125)-1)<>\"\",OFFSET(DE104_9!$G$104,ROWS($G$104:G125)-1,COLUMNS($G$104:G125)-1),\"\")","v":""},{"$f":"IF(OFFSET(DE104_9!$H$104,ROWS($H$104:H125)-1,COLUMNS($H$104:H125)-1)<>\"\",OFFSET(DE104_9!$H$104,ROWS($H$104:H125)-1,COLUMNS($H$104:H125)-1),\"\")","v":" "},{"$f":"IF(OFFSET(DE104_9!$I$104,ROWS($I$104:I125)-1,COLUMNS($I$104:I125)-1)<>\"\",OFFSET(DE104_9!$I$104,ROWS($I$104:I125)-1,COLUMNS($I$104:I125)-1),\"\")","v":""},{"$f":"IF(OFFSET(DE104_9!$J$104,ROWS($J$104:J125)-1,COLUMNS($J$104:J125)-1)<>\"\",OFFSET(DE104_9!$J$104,ROWS($J$104:J125)-1,COLUMNS($J$104:J125)-1),\"\")","v":""},{"$f":"IF(OFFSET(DE104_9!$K$104,ROWS($K$104:K125)-1,COLUMNS($K$104:K125)-1)<>\"\",OFFSET(DE104_9!$K$104,ROWS($K$104:K125)-1,COLUMNS($K$104:K125)-1),\"\")","v":""},{"$f":"IF(OFFSET(DE104_9!$L$104,ROWS($L$104:L125)-1,COLUMNS($L$104:L125)-1)<>\"\",OFFSET(DE104_9!$L$104,ROWS($L$104:L125)-1,COLUMNS($L$104:L125)-1),\"\")","v":""},{"$f":"IF(OFFSET(DE104_9!$M$104,ROWS($M$104:M125)-1,COLUMNS($M$104:M125)-1)<>\"\",OFFSET(DE104_9!$M$104,ROWS($M$104:M125)-1,COLUMNS($M$104:M125)-1),\"\")","v":""},{"$f":"IF(OFFSET(DE104_9!$N$104,ROWS($N$104:N125)-1,COLUMNS($N$104:N125)-1)<>\"\",OFFSET(DE104_9!$N$104,ROWS($N$104:N125)-1,COLUMNS($N$104:N125)-1),\"\")","v":""},{"$f":"IF(OFFSET(DE104_9!$O$104,ROWS($O$104:O125)-1,COLUMNS($O$104:O125)-1)<>\"\",OFFSET(DE104_9!$O$104,ROWS($O$104:O125)-1,COLUMNS($O$104:O125)-1),\"\")","v":""},{"$f":"IF(OFFSET(DE104_9!$P$104,ROWS($P$104:P125)-1,COLUMNS($P$104:P125)-1)<>\"\",OFFSET(DE104_9!$P$104,ROWS($P$104:P125)-1,COLUMNS($P$104:P125)-1),\"\")","v":149230},{"$f":"IF(OFFSET(DE104_9!$Q$104,ROWS($Q$104:Q125)-1,COLUMNS($Q$104:Q125)-1)<>\"\",OFFSET(DE104_9!$Q$104,ROWS($Q$104:Q125)-1,COLUMNS($Q$104:Q125)-1),\"\")","v":"DR-306"},{"$f":"IF(OFFSET(DE104_9!$R$104,ROWS($R$104:R125)-1,COLUMNS($R$104:R125)-1)<>\"\",OFFSET(DE104_9!$R$104,ROWS($R$104:R125)-1,COLUMNS($R$104:R125)-1),\"\")","v":" "},{"$f":"IF(OFFSET(DE104_9!$S$104,ROWS($S$104:S125)-1,COLUMNS($S$104:S125)-1)<>\"\",OFFSET(DE104_9!$S$104,ROWS($S$104:S125)-1,COLUMNS($S$104:S125)-1),\"\")","v":0.4},{"$f":"IF(OFFSET(DE104_9!$T$104,ROWS($T$104:T125)-1,COLUMNS($T$104:T125)-1)<>\"\",OFFSET(DE104_9!$T$104,ROWS($T$104:T125)-1,COLUMNS($T$104:T125)-1),\"\")","v":""}]
[{"$f":"IF(OFFSET(DE104_9!$C$104,ROWS($C$104:C126)-1,COLUMNS($C$104:C126)-1)<>\"\",OFFSET(DE104_9!$C$104,ROWS($C$104:C126)-1,COLUMNS($C$104:C126)-1),\"\")","v":54},{"$f":"IF(OFFSET(DE104_9!$D$104,ROWS($D$104:D126)-1,COLUMNS($D$104:D126)-1)<>\"\",OFFSET(DE104_9!$D$104,ROWS($D$104:D126)-1,COLUMNS($D$104:D126)-1),\"\")","v":"WBL"},{"$f":"IF(OFFSET(DE104_9!$E$104,ROWS($E$104:E126)-1,COLUMNS($E$104:E126)-1)<>\"\",OFFSET(DE104_9!$E$104,ROWS($E$104:E126)-1,COLUMNS($E$104:E126)-1),\"\")","v":149230},{"$f":"IF(OFFSET(DE104_9!$F$104,ROWS($F$104:F126)-1,COLUMNS($F$104:F126)-1)<>\"\",OFFSET(DE104_9!$F$104,ROWS($F$104:F126)-1,COLUMNS($F$104:F126)-1),\"\")","v":149730},{"$f":"IF(OFFSET(DE104_9!$G$104,ROWS($G$104:G126)-1,COLUMNS($G$104:G126)-1)<>\"\",OFFSET(DE104_9!$G$104,ROWS($G$104:G126)-1,COLUMNS($G$104:G126)-1),\"\")","v":"LT"},{"$f":"IF(OFFSET(DE104_9!$H$104,ROWS($H$104:H126)-1,COLUMNS($H$104:H126)-1)<>\"\",OFFSET(DE104_9!$H$104,ROWS($H$104:H126)-1,COLUMNS($H$104:H126)-1),\"\")","v":42},{"$f":"IF(OFFSET(DE104_9!$I$104,ROWS($I$104:I126)-1,COLUMNS($I$104:I126)-1)<>\"\",OFFSET(DE104_9!$I$104,ROWS($I$104:I126)-1,COLUMNS($I$104:I126)-1),\"\")","v":4},{"$f":"IF(OFFSET(DE104_9!$J$104,ROWS($J$104:J126)-1,COLUMNS($J$104:J126)-1)<>\"\",OFFSET(DE104_9!$J$104,ROWS($J$104:J126)-1,COLUMNS($J$104:J126)-1),\"\")","v":540},{"$f":"IF(OFFSET(DE104_9!$K$104,ROWS($K$104:K126)-1,COLUMNS($K$104:K126)-1)<>\"\",OFFSET(DE104_9!$K$104,ROWS($K$104:K126)-1,COLUMNS($K$104:K126)-1),\"\")","v":""},{"$f":"IF(OFFSET(DE104_9!$L$104,ROWS($L$104:L126)-1,COLUMNS($L$104:L126)-1)<>\"\",OFFSET(DE104_9!$L$104,ROWS($L$104:L126)-1,COLUMNS($L$104:L126)-1),\"\")","v":""},{"$f":"IF(OFFSET(DE104_9!$M$104,ROWS($M$104:M126)-1,COLUMNS($M$104:M126)-1)<>\"\",OFFSET(DE104_9!$M$104,ROWS($M$104:M126)-1,COLUMNS($M$104:M126)-1),\"\")","v":""},{"$f":"IF(OFFSET(DE104_9!$N$104,ROWS($N$104:N126)-1,COLUMNS($N$104:N126)-1)<>\"\",OFFSET(DE104_9!$N$104,ROWS($N$104:N126)-1,COLUMNS($N$104:N126)-1),\"\")","v":""},{"$f":"IF(OFFSET(DE104_9!$O$104,ROWS($O$104:O126)-1,COLUMNS($O$104:O126)-1)<>\"\",OFFSET(DE104_9!$O$104,ROWS($O$104:O126)-1,COLUMNS($O$104:O126)-1),\"\")","v":""},{"$f":"IF(OFFSET(DE104_9!$P$104,ROWS($P$104:P126)-1,COLUMNS($P$104:P126)-1)<>\"\",OFFSET(DE104_9!$P$104,ROWS($P$104:P126)-1,COLUMNS($P$104:P126)-1),\"\")","v":149230},{"$f":"IF(OFFSET(DE104_9!$Q$104,ROWS($Q$104:Q126)-1,COLUMNS($Q$104:Q126)-1)<>\"\",OFFSET(DE104_9!$Q$104,ROWS($Q$104:Q126)-1,COLUMNS($Q$104:Q126)-1),\"\")","v":"DR-306"},{"$f":"IF(OFFSET(DE104_9!$R$104,ROWS($R$104:R126)-1,COLUMNS($R$104:R126)-1)<>\"\",OFFSET(DE104_9!$R$104,ROWS($R$104:R126)-1,COLUMNS($R$104:R126)-1),\"\")","v":50},{"$f":"IF(OFFSET(DE104_9!$S$104,ROWS($S$104:S126)-1,COLUMNS($S$104:S126)-1)<>\"\",OFFSET(DE104_9!$S$104,ROWS($S$104:S126)-1,COLUMNS($S$104:S126)-1),\"\")","v":0.4},{"$f":"IF(OFFSET(DE104_9!$T$104,ROWS($T$104:T126)-1,COLUMNS($T$104:T126)-1)<>\"\",OFFSET(DE104_9!$T$104,ROWS($T$104:T126)-1,COLUMNS($T$104:T126)-1),\"\")","v":""}]
[{"$f":"IF(OFFSET(DE104_9!$C$104,ROWS($C$104:C127)-1,COLUMNS($C$104:C127)-1)<>\"\",OFFSET(DE104_9!$C$104,ROWS($C$104:C127)-1,COLUMNS($C$104:C127)-1),\"\")","v":""},{"$f":"IF(OFFSET(DE104_9!$D$104,ROWS($D$104:D127)-1,COLUMNS($D$104:D127)-1)<>\"\",OFFSET(DE104_9!$D$104,ROWS($D$104:D127)-1,COLUMNS($D$104:D127)-1),\"\")","v":""},{"$f":"IF(OFFSET(DE104_9!$E$104,ROWS($E$104:E127)-1,COLUMNS($E$104:E127)-1)<>\"\",OFFSET(DE104_9!$E$104,ROWS($E$104:E127)-1,COLUMNS($E$104:E127)-1),\"\")","v":""},{"$f":"IF(OFFSET(DE104_9!$F$104,ROWS($F$104:F127)-1,COLUMNS($F$104:F127)-1)<>\"\",OFFSET(DE104_9!$F$104,ROWS($F$104:F127)-1,COLUMNS($F$104:F127)-1),\"\")","v":""},{"$f":"IF(OFFSET(DE104_9!$G$104,ROWS($G$104:G127)-1,COLUMNS($G$104:G127)-1)<>\"\",OFFSET(DE104_9!$G$104,ROWS($G$104:G127)-1,COLUMNS($G$104:G127)-1),\"\")","v":""},{"$f":"IF(OFFSET(DE104_9!$H$104,ROWS($H$104:H127)-1,COLUMNS($H$104:H127)-1)<>\"\",OFFSET(DE104_9!$H$104,ROWS($H$104:H127)-1,COLUMNS($H$104:H127)-1),\"\")","v":" "},{"$f":"IF(OFFSET(DE104_9!$I$104,ROWS($I$104:I127)-1,COLUMNS($I$104:I127)-1)<>\"\",OFFSET(DE104_9!$I$104,ROWS($I$104:I127)-1,COLUMNS($I$104:I127)-1),\"\")","v":""},{"$f":"IF(OFFSET(DE104_9!$J$104,ROWS($J$104:J127)-1,COLUMNS($J$104:J127)-1)<>\"\",OFFSET(DE104_9!$J$104,ROWS($J$104:J127)-1,COLUMNS($J$104:J127)-1),\"\")","v":""},{"$f":"IF(OFFSET(DE104_9!$K$104,ROWS($K$104:K127)-1,COLUMNS($K$104:K127)-1)<>\"\",OFFSET(DE104_9!$K$104,ROWS($K$104:K127)-1,COLUMNS($K$104:K127)-1),\"\")","v":""},{"$f":"IF(OFFSET(DE104_9!$L$104,ROWS($L$104:L127)-1,COLUMNS($L$104:L127)-1)<>\"\",OFFSET(DE104_9!$L$104,ROWS($L$104:L127)-1,COLUMNS($L$104:L127)-1),\"\")","v":""},{"$f":"IF(OFFSET(DE104_9!$M$104,ROWS($M$104:M127)-1,COLUMNS($M$104:M127)-1)<>\"\",OFFSET(DE104_9!$M$104,ROWS($M$104:M127)-1,COLUMNS($M$104:M127)-1),\"\")","v":""},{"$f":"IF(OFFSET(DE104_9!$N$104,ROWS($N$104:N127)-1,COLUMNS($N$104:N127)-1)<>\"\",OFFSET(DE104_9!$N$104,ROWS($N$104:N127)-1,COLUMNS($N$104:N127)-1),\"\")","v":""},{"$f":"IF(OFFSET(DE104_9!$O$104,ROWS($O$104:O127)-1,COLUMNS($O$104:O127)-1)<>\"\",OFFSET(DE104_9!$O$104,ROWS($O$104:O127)-1,COLUMNS($O$104:O127)-1),\"\")","v":""},{"$f":"IF(OFFSET(DE104_9!$P$104,ROWS($P$104:P127)-1,COLUMNS($P$104:P127)-1)<>\"\",OFFSET(DE104_9!$P$104,ROWS($P$104:P127)-1,COLUMNS($P$104:P127)-1),\"\")","v":149730},{"$f":"IF(OFFSET(DE104_9!$Q$104,ROWS($Q$104:Q127)-1,COLUMNS($Q$104:Q127)-1)<>\"\",OFFSET(DE104_9!$Q$104,ROWS($Q$104:Q127)-1,COLUMNS($Q$104:Q127)-1),\"\")","v":"DR-306"},{"$f":"IF(OFFSET(DE104_9!$R$104,ROWS($R$104:R127)-1,COLUMNS($R$104:R127)-1)<>\"\",OFFSET(DE104_9!$R$104,ROWS($R$104:R127)-1,COLUMNS($R$104:R127)-1),\"\")","v":" "},{"$f":"IF(OFFSET(DE104_9!$S$104,ROWS($S$104:S127)-1,COLUMNS($S$104:S127)-1)<>\"\",OFFSET(DE104_9!$S$104,ROWS($S$104:S127)-1,COLUMNS($S$104:S127)-1),\"\")","v":0.4},{"$f":"IF(OFFSET(DE104_9!$T$104,ROWS($T$104:T127)-1,COLUMNS($T$104:T127)-1)<>\"\",OFFSET(DE104_9!$T$104,ROWS($T$104:T127)-1,COLUMNS($T$104:T127)-1),\"\")","v":""}]
[{"$f":"IF(OFFSET(DE104_9!$C$104,ROWS($C$104:C128)-1,COLUMNS($C$104:C128)-1)<>\"\",OFFSET(DE104_9!$C$104,ROWS($C$104:C128)-1,COLUMNS($C$104:C128)-1),\"\")","v":55},{"$f":"IF(OFFSET(DE104_9!$D$104,ROWS($D$104:D128)-1,COLUMNS($D$104:D128)-1)<>\"\",OFFSET(DE104_9!$D$104,ROWS($D$104:D128)-1,COLUMNS($D$104:D128)-1),\"\")","v":"WBL"},{"$f":"IF(OFFSET(DE104_9!$E$104,ROWS($E$104:E128)-1,COLUMNS($E$104:E128)-1)<>\"\",OFFSET(DE104_9!$E$104,ROWS($E$104:E128)-1,COLUMNS($E$104:E128)-1),\"\")","v":149730},{"$f":"IF(OFFSET(DE104_9!$F$104,ROWS($F$104:F128)-1,COLUMNS($F$104:F128)-1)<>\"\",OFFSET(DE104_9!$F$104,ROWS($F$104:F128)-1,COLUMNS($F$104:F128)-1),\"\")","v":150230},{"$f":"IF(OFFSET(DE104_9!$G$104,ROWS($G$104:G128)-1,COLUMNS($G$104:G128)-1)<>\"\",OFFSET(DE104_9!$G$104,ROWS($G$104:G128)-1,COLUMNS($G$104:G128)-1),\"\")","v":"LT"},{"$f":"IF(OFFSET(DE104_9!$H$104,ROWS($H$104:H128)-1,COLUMNS($H$104:H128)-1)<>\"\",OFFSET(DE104_9!$H$104,ROWS($H$104:H128)-1,COLUMNS($H$104:H128)-1),\"\")","v":42},{"$f":"IF(OFFSET(DE104_9!$I$104,ROWS($I$104:I128)-1,COLUMNS($I$104:I128)-1)<>\"\",OFFSET(DE104_9!$I$104,ROWS($I$104:I128)-1,COLUMNS($I$104:I128)-1),\"\")","v":4},{"$f":"IF(OFFSET(DE104_9!$J$104,ROWS($J$104:J128)-1,COLUMNS($J$104:J128)-1)<>\"\",OFFSET(DE104_9!$J$104,ROWS($J$104:J128)-1,COLUMNS($J$104:J128)-1),\"\")","v":540},{"$f":"IF(OFFSET(DE104_9!$K$104,ROWS($K$104:K128)-1,COLUMNS($K$104:K128)-1)<>\"\",OFFSET(DE104_9!$K$104,ROWS($K$104:K128)-1,COLUMNS($K$104:K128)-1),\"\")","v":""},{"$f":"IF(OFFSET(DE104_9!$L$104,ROWS($L$104:L128)-1,COLUMNS($L$104:L128)-1)<>\"\",OFFSET(DE104_9!$L$104,ROWS($L$104:L128)-1,COLUMNS($L$104:L128)-1),\"\")","v":""},{"$f":"IF(OFFSET(DE104_9!$M$104,ROWS($M$104:M128)-1,COLUMNS($M$104:M128)-1)<>\"\",OFFSET(DE104_9!$M$104,ROWS($M$104:M128)-1,COLUMNS($M$104:M128)-1),\"\")","v":""},{"$f":"IF(OFFSET(DE104_9!$N$104,ROWS($N$104:N128)-1,COLUMNS($N$104:N128)-1)<>\"\",OFFSET(DE104_9!$N$104,ROWS($N$104:N128)-1,COLUMNS($N$104:N128)-1),\"\")","v":""},{"$f":"IF(OFFSET(DE104_9!$O$104,ROWS($O$104:O128)-1,COLUMNS($O$104:O128)-1)<>\"\",OFFSET(DE104_9!$O$104,ROWS($O$104:O128)-1,COLUMNS($O$104:O128)-1),\"\")","v":""},{"$f":"IF(OFFSET(DE104_9!$P$104,ROWS($P$104:P128)-1,COLUMNS($P$104:P128)-1)<>\"\",OFFSET(DE104_9!$P$104,ROWS($P$104:P128)-1,COLUMNS($P$104:P128)-1),\"\")","v":149730},{"$f":"IF(OFFSET(DE104_9!$Q$104,ROWS($Q$104:Q128)-1,COLUMNS($Q$104:Q128)-1)<>\"\",OFFSET(DE104_9!$Q$104,ROWS($Q$104:Q128)-1,COLUMNS($Q$104:Q128)-1),\"\")","v":"DR-306"},{"$f":"IF(OFFSET(DE104_9!$R$104,ROWS($R$104:R128)-1,COLUMNS($R$104:R128)-1)<>\"\",OFFSET(DE104_9!$R$104,ROWS($R$104:R128)-1,COLUMNS($R$104:R128)-1),\"\")","v":50},{"$f":"IF(OFFSET(DE104_9!$S$104,ROWS($S$104:S128)-1,COLUMNS($S$104:S128)-1)<>\"\",OFFSET(DE104_9!$S$104,ROWS($S$104:S128)-1,COLUMNS($S$104:S128)-1),\"\")","v":0.4},{"$f":"IF(OFFSET(DE104_9!$T$104,ROWS($T$104:T128)-1,COLUMNS($T$104:T128)-1)<>\"\",OFFSET(DE104_9!$T$104,ROWS($T$104:T128)-1,COLUMNS($T$104:T128)-1),\"\")","v":""}]
[{"$f":"IF(OFFSET(DE104_9!$C$104,ROWS($C$104:C129)-1,COLUMNS($C$104:C129)-1)<>\"\",OFFSET(DE104_9!$C$104,ROWS($C$104:C129)-1,COLUMNS($C$104:C129)-1),\"\")","v":""},{"$f":"IF(OFFSET(DE104_9!$D$104,ROWS($D$104:D129)-1,COLUMNS($D$104:D129)-1)<>\"\",OFFSET(DE104_9!$D$104,ROWS($D$104:D129)-1,COLUMNS($D$104:D129)-1),\"\")","v":""},{"$f":"IF(OFFSET(DE104_9!$E$104,ROWS($E$104:E129)-1,COLUMNS($E$104:E129)-1)<>\"\",OFFSET(DE104_9!$E$104,ROWS($E$104:E129)-1,COLUMNS($E$104:E129)-1),\"\")","v":""},{"$f":"IF(OFFSET(DE104_9!$F$104,ROWS($F$104:F129)-1,COLUMNS($F$104:F129)-1)<>\"\",OFFSET(DE104_9!$F$104,ROWS($F$104:F129)-1,COLUMNS($F$104:F129)-1),\"\")","v":""},{"$f":"IF(OFFSET(DE104_9!$G$104,ROWS($G$104:G129)-1,COLUMNS($G$104:G129)-1)<>\"\",OFFSET(DE104_9!$G$104,ROWS($G$104:G129)-1,COLUMNS($G$104:G129)-1),\"\")","v":""},{"$f":"IF(OFFSET(DE104_9!$H$104,ROWS($H$104:H129)-1,COLUMNS($H$104:H129)-1)<>\"\",OFFSET(DE104_9!$H$104,ROWS($H$104:H129)-1,COLUMNS($H$104:H129)-1),\"\")","v":" "},{"$f":"IF(OFFSET(DE104_9!$I$104,ROWS($I$104:I129)-1,COLUMNS($I$104:I129)-1)<>\"\",OFFSET(DE104_9!$I$104,ROWS($I$104:I129)-1,COLUMNS($I$104:I129)-1),\"\")","v":""},{"$f":"IF(OFFSET(DE104_9!$J$104,ROWS($J$104:J129)-1,COLUMNS($J$104:J129)-1)<>\"\",OFFSET(DE104_9!$J$104,ROWS($J$104:J129)-1,COLUMNS($J$104:J129)-1),\"\")","v":""},{"$f":"IF(OFFSET(DE104_9!$K$104,ROWS($K$104:K129)-1,COLUMNS($K$104:K129)-1)<>\"\",OFFSET(DE104_9!$K$104,ROWS($K$104:K129)-1,COLUMNS($K$104:K129)-1),\"\")","v":""},{"$f":"IF(OFFSET(DE104_9!$L$104,ROWS($L$104:L129)-1,COLUMNS($L$104:L129)-1)<>\"\",OFFSET(DE104_9!$L$104,ROWS($L$104:L129)-1,COLUMNS($L$104:L129)-1),\"\")","v":""},{"$f":"IF(OFFSET(DE104_9!$M$104,ROWS($M$104:M129)-1,COLUMNS($M$104:M129)-1)<>\"\",OFFSET(DE104_9!$M$104,ROWS($M$104:M129)-1,COLUMNS($M$104:M129)-1),\"\")","v":""},{"$f":"IF(OFFSET(DE104_9!$N$104,ROWS($N$104:N129)-1,COLUMNS($N$104:N129)-1)<>\"\",OFFSET(DE104_9!$N$104,ROWS($N$104:N129)-1,COLUMNS($N$104:N129)-1),\"\")","v":""},{"$f":"IF(OFFSET(DE104_9!$O$104,ROWS($O$104:O129)-1,COLUMNS($O$104:O129)-1)<>\"\",OFFSET(DE104_9!$O$104,ROWS($O$104:O129)-1,COLUMNS($O$104:O129)-1),\"\")","v":""},{"$f":"IF(OFFSET(DE104_9!$P$104,ROWS($P$104:P129)-1,COLUMNS($P$104:P129)-1)<>\"\",OFFSET(DE104_9!$P$104,ROWS($P$104:P129)-1,COLUMNS($P$104:P129)-1),\"\")","v":150230},{"$f":"IF(OFFSET(DE104_9!$Q$104,ROWS($Q$104:Q129)-1,COLUMNS($Q$104:Q129)-1)<>\"\",OFFSET(DE104_9!$Q$104,ROWS($Q$104:Q129)-1,COLUMNS($Q$104:Q129)-1),\"\")","v":"DR-306"},{"$f":"IF(OFFSET(DE104_9!$R$104,ROWS($R$104:R129)-1,COLUMNS($R$104:R129)-1)<>\"\",OFFSET(DE104_9!$R$104,ROWS($R$104:R129)-1,COLUMNS($R$104:R129)-1),\"\")","v":" "},{"$f":"IF(OFFSET(DE104_9!$S$104,ROWS($S$104:S129)-1,COLUMNS($S$104:S129)-1)<>\"\",OFFSET(DE104_9!$S$104,ROWS($S$104:S129)-1,COLUMNS($S$104:S129)-1),\"\")","v":0.4},{"$f":"IF(OFFSET(DE104_9!$T$104,ROWS($T$104:T129)-1,COLUMNS($T$104:T129)-1)<>\"\",OFFSET(DE104_9!$T$104,ROWS($T$104:T129)-1,COLUMNS($T$104:T129)-1),\"\")","v":""}]
[{"$f":"IF(OFFSET(DE104_9!$C$104,ROWS($C$104:C130)-1,COLUMNS($C$104:C130)-1)<>\"\",OFFSET(DE104_9!$C$104,ROWS($C$104:C130)-1,COLUMNS($C$104:C130)-1),\"\")","v":56},{"$f":"IF(OFFSET(DE104_9!$D$104,ROWS($D$104:D130)-1,COLUMNS($D$104:D130)-1)<>\"\",OFFSET(DE104_9!$D$104,ROWS($D$104:D130)-1,COLUMNS($D$104:D130)-1),\"\")","v":"WBL"},{"$f":"IF(OFFSET(DE104_9!$E$104,ROWS($E$104:E130)-1,COLUMNS($E$104:E130)-1)<>\"\",OFFSET(DE104_9!$E$104,ROWS($E$104:E130)-1,COLUMNS($E$104:E130)-1),\"\")","v":150230},{"$f":"IF(OFFSET(DE104_9!$F$104,ROWS($F$104:F130)-1,COLUMNS($F$104:F130)-1)<>\"\",OFFSET(DE104_9!$F$104,ROWS($F$104:F130)-1,COLUMNS($F$104:F130)-1),\"\")","v":150730},{"$f":"IF(OFFSET(DE104_9!$G$104,ROWS($G$104:G130)-1,COLUMNS($G$104:G130)-1)<>\"\",OFFSET(DE104_9!$G$104,ROWS($G$104:G130)-1,COLUMNS($G$104:G130)-1),\"\")","v":"LT"},{"$f":"IF(OFFSET(DE104_9!$H$104,ROWS($H$104:H130)-1,COLUMNS($H$104:H130)-1)<>\"\",OFFSET(DE104_9!$H$104,ROWS($H$104:H130)-1,COLUMNS($H$104:H130)-1),\"\")","v":42},{"$f":"IF(OFFSET(DE104_9!$I$104,ROWS($I$104:I130)-1,COLUMNS($I$104:I130)-1)<>\"\",OFFSET(DE104_9!$I$104,ROWS($I$104:I130)-1,COLUMNS($I$104:I130)-1),\"\")","v":4},{"$f":"IF(OFFSET(DE104_9!$J$104,ROWS($J$104:J130)-1,COLUMNS($J$104:J130)-1)<>\"\",OFFSET(DE104_9!$J$104,ROWS($J$104:J130)-1,COLUMNS($J$104:J130)-1),\"\")","v":540},{"$f":"IF(OFFSET(DE104_9!$K$104,ROWS($K$104:K130)-1,COLUMNS($K$104:K130)-1)<>\"\",OFFSET(DE104_9!$K$104,ROWS($K$104:K130)-1,COLUMNS($K$104:K130)-1),\"\")","v":""},{"$f":"IF(OFFSET(DE104_9!$L$104,ROWS($L$104:L130)-1,COLUMNS($L$104:L130)-1)<>\"\",OFFSET(DE104_9!$L$104,ROWS($L$104:L130)-1,COLUMNS($L$104:L130)-1),\"\")","v":""},{"$f":"IF(OFFSET(DE104_9!$M$104,ROWS($M$104:M130)-1,COLUMNS($M$104:M130)-1)<>\"\",OFFSET(DE104_9!$M$104,ROWS($M$104:M130)-1,COLUMNS($M$104:M130)-1),\"\")","v":""},{"$f":"IF(OFFSET(DE104_9!$N$104,ROWS($N$104:N130)-1,COLUMNS($N$104:N130)-1)<>\"\",OFFSET(DE104_9!$N$104,ROWS($N$104:N130)-1,COLUMNS($N$104:N130)-1),\"\")","v":""},{"$f":"IF(OFFSET(DE104_9!$O$104,ROWS($O$104:O130)-1,COLUMNS($O$104:O130)-1)<>\"\",OFFSET(DE104_9!$O$104,ROWS($O$104:O130)-1,COLUMNS($O$104:O130)-1),\"\")","v":""},{"$f":"IF(OFFSET(DE104_9!$P$104,ROWS($P$104:P130)-1,COLUMNS($P$104:P130)-1)<>\"\",OFFSET(DE104_9!$P$104,ROWS($P$104:P130)-1,COLUMNS($P$104:P130)-1),\"\")","v":150230},{"$f":"IF(OFFSET(DE104_9!$Q$104,ROWS($Q$104:Q130)-1,COLUMNS($Q$104:Q130)-1)<>\"\",OFFSET(DE104_9!$Q$104,ROWS($Q$104:Q130)-1,COLUMNS($Q$104:Q130)-1),\"\")","v":"DR-306"},{"$f":"IF(OFFSET(DE104_9!$R$104,ROWS($R$104:R130)-1,COLUMNS($R$104:R130)-1)<>\"\",OFFSET(DE104_9!$R$104,ROWS($R$104:R130)-1,COLUMNS($R$104:R130)-1),\"\")","v":50},{"$f":"IF(OFFSET(DE104_9!$S$104,ROWS($S$104:S130)-1,COLUMNS($S$104:S130)-1)<>\"\",OFFSET(DE104_9!$S$104,ROWS($S$104:S130)-1,COLUMNS($S$104:S130)-1),\"\")","v":0.4},{"$f":"IF(OFFSET(DE104_9!$T$104,ROWS($T$104:T130)-1,COLUMNS($T$104:T130)-1)<>\"\",OFFSET(DE104_9!$T$104,ROWS($T$104:T130)-1,COLUMNS($T$104:T130)-1),\"\")","v":""}]
[{"$f":"IF(OFFSET(DE104_9!$C$104,ROWS($C$104:C131)-1,COLUMNS($C$104:C131)-1)<>\"\",OFFSET(DE104_9!$C$104,ROWS($C$104:C131)-1,COLUMNS($C$104:C131)-1),\"\")","v":""},{"$f":"IF(OFFSET(DE104_9!$D$104,ROWS($D$104:D131)-1,COLUMNS($D$104:D131)-1)<>\"\",OFFSET(DE104_9!$D$104,ROWS($D$104:D131)-1,COLUMNS($D$104:D131)-1),\"\")","v":""},{"$f":"IF(OFFSET(DE104_9!$E$104,ROWS($E$104:E131)-1,COLUMNS($E$104:E131)-1)<>\"\",OFFSET(DE104_9!$E$104,ROWS($E$104:E131)-1,COLUMNS($E$104:E131)-1),\"\")","v":""},{"$f":"IF(OFFSET(DE104_9!$F$104,ROWS($F$104:F131)-1,COLUMNS($F$104:F131)-1)<>\"\",OFFSET(DE104_9!$F$104,ROWS($F$104:F131)-1,COLUMNS($F$104:F131)-1),\"\")","v":""},{"$f":"IF(OFFSET(DE104_9!$G$104,ROWS($G$104:G131)-1,COLUMNS($G$104:G131)-1)<>\"\",OFFSET(DE104_9!$G$104,ROWS($G$104:G131)-1,COLUMNS($G$104:G131)-1),\"\")","v":""},{"$f":"IF(OFFSET(DE104_9!$H$104,ROWS($H$104:H131)-1,COLUMNS($H$104:H131)-1)<>\"\",OFFSET(DE104_9!$H$104,ROWS($H$104:H131)-1,COLUMNS($H$104:H131)-1),\"\")","v":" "},{"$f":"IF(OFFSET(DE104_9!$I$104,ROWS($I$104:I131)-1,COLUMNS($I$104:I131)-1)<>\"\",OFFSET(DE104_9!$I$104,ROWS($I$104:I131)-1,COLUMNS($I$104:I131)-1),\"\")","v":""},{"$f":"IF(OFFSET(DE104_9!$J$104,ROWS($J$104:J131)-1,COLUMNS($J$104:J131)-1)<>\"\",OFFSET(DE104_9!$J$104,ROWS($J$104:J131)-1,COLUMNS($J$104:J131)-1),\"\")","v":""},{"$f":"IF(OFFSET(DE104_9!$K$104,ROWS($K$104:K131)-1,COLUMNS($K$104:K131)-1)<>\"\",OFFSET(DE104_9!$K$104,ROWS($K$104:K131)-1,COLUMNS($K$104:K131)-1),\"\")","v":""},{"$f":"IF(OFFSET(DE104_9!$L$104,ROWS($L$104:L131)-1,COLUMNS($L$104:L131)-1)<>\"\",OFFSET(DE104_9!$L$104,ROWS($L$104:L131)-1,COLUMNS($L$104:L131)-1),\"\")","v":""},{"$f":"IF(OFFSET(DE104_9!$M$104,ROWS($M$104:M131)-1,COLUMNS($M$104:M131)-1)<>\"\",OFFSET(DE104_9!$M$104,ROWS($M$104:M131)-1,COLUMNS($M$104:M131)-1),\"\")","v":""},{"$f":"IF(OFFSET(DE104_9!$N$104,ROWS($N$104:N131)-1,COLUMNS($N$104:N131)-1)<>\"\",OFFSET(DE104_9!$N$104,ROWS($N$104:N131)-1,COLUMNS($N$104:N131)-1),\"\")","v":""},{"$f":"IF(OFFSET(DE104_9!$O$104,ROWS($O$104:O131)-1,COLUMNS($O$104:O131)-1)<>\"\",OFFSET(DE104_9!$O$104,ROWS($O$104:O131)-1,COLUMNS($O$104:O131)-1),\"\")","v":""},{"$f":"IF(OFFSET(DE104_9!$P$104,ROWS($P$104:P131)-1,COLUMNS($P$104:P131)-1)<>\"\",OFFSET(DE104_9!$P$104,ROWS($P$104:P131)-1,COLUMNS($P$104:P131)-1),\"\")","v":150730},{"$f":"IF(OFFSET(DE104_9!$Q$104,ROWS($Q$104:Q131)-1,COLUMNS($Q$104:Q131)-1)<>\"\",OFFSET(DE104_9!$Q$104,ROWS($Q$104:Q131)-1,COLUMNS($Q$104:Q131)-1),\"\")","v":"DR-306"},{"$f":"IF(OFFSET(DE104_9!$R$104,ROWS($R$104:R131)-1,COLUMNS($R$104:R131)-1)<>\"\",OFFSET(DE104_9!$R$104,ROWS($R$104:R131)-1,COLUMNS($R$104:R131)-1),\"\")","v":" "},{"$f":"IF(OFFSET(DE104_9!$S$104,ROWS($S$104:S131)-1,COLUMNS($S$104:S131)-1)<>\"\",OFFSET(DE104_9!$S$104,ROWS($S$104:S131)-1,COLUMNS($S$104:S131)-1),\"\")","v":0.4},{"$f":"IF(OFFSET(DE104_9!$T$104,ROWS($T$104:T131)-1,COLUMNS($T$104:T131)-1)<>\"\",OFFSET(DE104_9!$T$104,ROWS($T$104:T131)-1,COLUMNS($T$104:T131)-1),\"\")","v":""}]
[{"$f":"IF(OFFSET(DE104_9!$C$104,ROWS($C$104:C132)-1,COLUMNS($C$104:C132)-1)<>\"\",OFFSET(DE104_9!$C$104,ROWS($C$104:C132)-1,COLUMNS($C$104:C132)-1),\"\")","v":57},{"$f":"IF(OFFSET(DE104_9!$D$104,ROWS($D$104:D132)-1,COLUMNS($D$104:D132)-1)<>\"\",OFFSET(DE104_9!$D$104,ROWS($D$104:D132)-1,COLUMNS($D$104:D132)-1),\"\")","v":"WBL"},{"$f":"IF(OFFSET(DE104_9!$E$104,ROWS($E$104:E132)-1,COLUMNS($E$104:E132)-1)<>\"\",OFFSET(DE104_9!$E$104,ROWS($E$104:E132)-1,COLUMNS($E$104:E132)-1),\"\")","v":150730},{"$f":"IF(OFFSET(DE104_9!$F$104,ROWS($F$104:F132)-1,COLUMNS($F$104:F132)-1)<>\"\",OFFSET(DE104_9!$F$104,ROWS($F$104:F132)-1,COLUMNS($F$104:F132)-1),\"\")","v":151230},{"$f":"IF(OFFSET(DE104_9!$G$104,ROWS($G$104:G132)-1,COLUMNS($G$104:G132)-1)<>\"\",OFFSET(DE104_9!$G$104,ROWS($G$104:G132)-1,COLUMNS($G$104:G132)-1),\"\")","v":"LT"},{"$f":"IF(OFFSET(DE104_9!$H$104,ROWS($H$104:H132)-1,COLUMNS($H$104:H132)-1)<>\"\",OFFSET(DE104_9!$H$104,ROWS($H$104:H132)-1,COLUMNS($H$104:H132)-1),\"\")","v":42},{"$f":"IF(OFFSET(DE104_9!$I$104,ROWS($I$104:I132)-1,COLUMNS($I$104:I132)-1)<>\"\",OFFSET(DE104_9!$I$104,ROWS($I$104:I132)-1,COLUMNS($I$104:I132)-1),\"\")","v":4},{"$f":"IF(OFFSET(DE104_9!$J$104,ROWS($J$104:J132)-1,COLUMNS($J$104:J132)-1)<>\"\",OFFSET(DE104_9!$J$104,ROWS($J$104:J132)-1,COLUMNS($J$104:J132)-1),\"\")","v":540},{"$f":"IF(OFFSET(DE104_9!$K$104,ROWS($K$104:K132)-1,COLUMNS($K$104:K132)-1)<>\"\",OFFSET(DE104_9!$K$104,ROWS($K$104:K132)-1,COLUMNS($K$104:K132)-1),\"\")","v":""},{"$f":"IF(OFFSET(DE104_9!$L$104,ROWS($L$104:L132)-1,COLUMNS($L$104:L132)-1)<>\"\",OFFSET(DE104_9!$L$104,ROWS($L$104:L132)-1,COLUMNS($L$104:L132)-1),\"\")","v":""},{"$f":"IF(OFFSET(DE104_9!$M$104,ROWS($M$104:M132)-1,COLUMNS($M$104:M132)-1)<>\"\",OFFSET(DE104_9!$M$104,ROWS($M$104:M132)-1,COLUMNS($M$104:M132)-1),\"\")","v":""},{"$f":"IF(OFFSET(DE104_9!$N$104,ROWS($N$104:N132)-1,COLUMNS($N$104:N132)-1)<>\"\",OFFSET(DE104_9!$N$104,ROWS($N$104:N132)-1,COLUMNS($N$104:N132)-1),\"\")","v":""},{"$f":"IF(OFFSET(DE104_9!$O$104,ROWS($O$104:O132)-1,COLUMNS($O$104:O132)-1)<>\"\",OFFSET(DE104_9!$O$104,ROWS($O$104:O132)-1,COLUMNS($O$104:O132)-1),\"\")","v":""},{"$f":"IF(OFFSET(DE104_9!$P$104,ROWS($P$104:P132)-1,COLUMNS($P$104:P132)-1)<>\"\",OFFSET(DE104_9!$P$104,ROWS($P$104:P132)-1,COLUMNS($P$104:P132)-1),\"\")","v":150730},{"$f":"IF(OFFSET(DE104_9!$Q$104,ROWS($Q$104:Q132)-1,COLUMNS($Q$104:Q132)-1)<>\"\",OFFSET(DE104_9!$Q$104,ROWS($Q$104:Q132)-1,COLUMNS($Q$104:Q132)-1),\"\")","v":"DR-306"},{"$f":"IF(OFFSET(DE104_9!$R$104,ROWS($R$104:R132)-1,COLUMNS($R$104:R132)-1)<>\"\",OFFSET(DE104_9!$R$104,ROWS($R$104:R132)-1,COLUMNS($R$104:R132)-1),\"\")","v":50},{"$f":"IF(OFFSET(DE104_9!$S$104,ROWS($S$104:S132)-1,COLUMNS($S$104:S132)-1)<>\"\",OFFSET(DE104_9!$S$104,ROWS($S$104:S132)-1,COLUMNS($S$104:S132)-1),\"\")","v":0.4},{"$f":"IF(OFFSET(DE104_9!$T$104,ROWS($T$104:T132)-1,COLUMNS($T$104:T132)-1)<>\"\",OFFSET(DE104_9!$T$104,ROWS($T$104:T132)-1,COLUMNS($T$104:T132)-1),\"\")","v":""}]
[{"$f":"IF(OFFSET(DE104_9!$C$104,ROWS($C$104:C133)-1,COLUMNS($C$104:C133)-1)<>\"\",OFFSET(DE104_9!$C$104,ROWS($C$104:C133)-1,COLUMNS($C$104:C133)-1),\"\")","v":""},{"$f":"IF(OFFSET(DE104_9!$D$104,ROWS($D$104:D133)-1,COLUMNS($D$104:D133)-1)<>\"\",OFFSET(DE104_9!$D$104,ROWS($D$104:D133)-1,COLUMNS($D$104:D133)-1),\"\")","v":""},{"$f":"IF(OFFSET(DE104_9!$E$104,ROWS($E$104:E133)-1,COLUMNS($E$104:E133)-1)<>\"\",OFFSET(DE104_9!$E$104,ROWS($E$104:E133)-1,COLUMNS($E$104:E133)-1),\"\")","v":""},{"$f":"IF(OFFSET(DE104_9!$F$104,ROWS($F$104:F133)-1,COLUMNS($F$104:F133)-1)<>\"\",OFFSET(DE104_9!$F$104,ROWS($F$104:F133)-1,COLUMNS($F$104:F133)-1),\"\")","v":""},{"$f":"IF(OFFSET(DE104_9!$G$104,ROWS($G$104:G133)-1,COLUMNS($G$104:G133)-1)<>\"\",OFFSET(DE104_9!$G$104,ROWS($G$104:G133)-1,COLUMNS($G$104:G133)-1),\"\")","v":""},{"$f":"IF(OFFSET(DE104_9!$H$104,ROWS($H$104:H133)-1,COLUMNS($H$104:H133)-1)<>\"\",OFFSET(DE104_9!$H$104,ROWS($H$104:H133)-1,COLUMNS($H$104:H133)-1),\"\")","v":" "},{"$f":"IF(OFFSET(DE104_9!$I$104,ROWS($I$104:I133)-1,COLUMNS($I$104:I133)-1)<>\"\",OFFSET(DE104_9!$I$104,ROWS($I$104:I133)-1,COLUMNS($I$104:I133)-1),\"\")","v":""},{"$f":"IF(OFFSET(DE104_9!$J$104,ROWS($J$104:J133)-1,COLUMNS($J$104:J133)-1)<>\"\",OFFSET(DE104_9!$J$104,ROWS($J$104:J133)-1,COLUMNS($J$104:J133)-1),\"\")","v":""},{"$f":"IF(OFFSET(DE104_9!$K$104,ROWS($K$104:K133)-1,COLUMNS($K$104:K133)-1)<>\"\",OFFSET(DE104_9!$K$104,ROWS($K$104:K133)-1,COLUMNS($K$104:K133)-1),\"\")","v":""},{"$f":"IF(OFFSET(DE104_9!$L$104,ROWS($L$104:L133)-1,COLUMNS($L$104:L133)-1)<>\"\",OFFSET(DE104_9!$L$104,ROWS($L$104:L133)-1,COLUMNS($L$104:L133)-1),\"\")","v":""},{"$f":"IF(OFFSET(DE104_9!$M$104,ROWS($M$104:M133)-1,COLUMNS($M$104:M133)-1)<>\"\",OFFSET(DE104_9!$M$104,ROWS($M$104:M133)-1,COLUMNS($M$104:M133)-1),\"\")","v":""},{"$f":"IF(OFFSET(DE104_9!$N$104,ROWS($N$104:N133)-1,COLUMNS($N$104:N133)-1)<>\"\",OFFSET(DE104_9!$N$104,ROWS($N$104:N133)-1,COLUMNS($N$104:N133)-1),\"\")","v":""},{"$f":"IF(OFFSET(DE104_9!$O$104,ROWS($O$104:O133)-1,COLUMNS($O$104:O133)-1)<>\"\",OFFSET(DE104_9!$O$104,ROWS($O$104:O133)-1,COLUMNS($O$104:O133)-1),\"\")","v":""},{"$f":"IF(OFFSET(DE104_9!$P$104,ROWS($P$104:P133)-1,COLUMNS($P$104:P133)-1)<>\"\",OFFSET(DE104_9!$P$104,ROWS($P$104:P133)-1,COLUMNS($P$104:P133)-1),\"\")","v":151230},{"$f":"IF(OFFSET(DE104_9!$Q$104,ROWS($Q$104:Q133)-1,COLUMNS($Q$104:Q133)-1)<>\"\",OFFSET(DE104_9!$Q$104,ROWS($Q$104:Q133)-1,COLUMNS($Q$104:Q133)-1),\"\")","v":"DR-306"},{"$f":"IF(OFFSET(DE104_9!$R$104,ROWS($R$104:R133)-1,COLUMNS($R$104:R133)-1)<>\"\",OFFSET(DE104_9!$R$104,ROWS($R$104:R133)-1,COLUMNS($R$104:R133)-1),\"\")","v":" "},{"$f":"IF(OFFSET(DE104_9!$S$104,ROWS($S$104:S133)-1,COLUMNS($S$104:S133)-1)<>\"\",OFFSET(DE104_9!$S$104,ROWS($S$104:S133)-1,COLUMNS($S$104:S133)-1),\"\")","v":0.4},{"$f":"IF(OFFSET(DE104_9!$T$104,ROWS($T$104:T133)-1,COLUMNS($T$104:T133)-1)<>\"\",OFFSET(DE104_9!$T$104,ROWS($T$104:T133)-1,COLUMNS($T$104:T133)-1),\"\")","v":""}]
[{"$f":"IF(OFFSET(DE104_9!$C$104,ROWS($C$104:C134)-1,COLUMNS($C$104:C134)-1)<>\"\",OFFSET(DE104_9!$C$104,ROWS($C$104:C134)-1,COLUMNS($C$104:C134)-1),\"\")","v":58},{"$f":"IF(OFFSET(DE104_9!$D$104,ROWS($D$104:D134)-1,COLUMNS($D$104:D134)-1)<>\"\",OFFSET(DE104_9!$D$104,ROWS($D$104:D134)-1,COLUMNS($D$104:D134)-1),\"\")","v":"WBL"},{"$f":"IF(OFFSET(DE104_9!$E$104,ROWS($E$104:E134)-1,COLUMNS($E$104:E134)-1)<>\"\",OFFSET(DE104_9!$E$104,ROWS($E$104:E134)-1,COLUMNS($E$104:E134)-1),\"\")","v":151230},{"$f":"IF(OFFSET(DE104_9!$F$104,ROWS($F$104:F134)-1,COLUMNS($F$104:F134)-1)<>\"\",OFFSET(DE104_9!$F$104,ROWS($F$104:F134)-1,COLUMNS($F$104:F134)-1),\"\")","v":151670},{"$f":"IF(OFFSET(DE104_9!$G$104,ROWS($G$104:G134)-1,COLUMNS($G$104:G134)-1)<>\"\",OFFSET(DE104_9!$G$104,ROWS($G$104:G134)-1,COLUMNS($G$104:G134)-1),\"\")","v":"LT"},{"$f":"IF(OFFSET(DE104_9!$H$104,ROWS($H$104:H134)-1,COLUMNS($H$104:H134)-1)<>\"\",OFFSET(DE104_9!$H$104,ROWS($H$104:H134)-1,COLUMNS($H$104:H134)-1),\"\")","v":18},{"$f":"IF(OFFSET(DE104_9!$I$104,ROWS($I$104:I134)-1,COLUMNS($I$104:I134)-1)<>\"\",OFFSET(DE104_9!$I$104,ROWS($I$104:I134)-1,COLUMNS($I$104:I134)-1),\"\")","v":4},{"$f":"IF(OFFSET(DE104_9!$J$104,ROWS($J$104:J134)-1,COLUMNS($J$104:J134)-1)<>\"\",OFFSET(DE104_9!$J$104,ROWS($J$104:J134)-1,COLUMNS($J$104:J134)-1),\"\")","v":480},{"$f":"IF(OFFSET(DE104_9!$K$104,ROWS($K$104:K134)-1,COLUMNS($K$104:K134)-1)<>\"\",OFFSET(DE104_9!$K$104,ROWS($K$104:K134)-1,COLUMNS($K$104:K134)-1),\"\")","v":""},{"$f":"IF(OFFSET(DE104_9!$L$104,ROWS($L$104:L134)-1,COLUMNS($L$104:L134)-1)<>\"\",OFFSET(DE104_9!$L$104,ROWS($L$104:L134)-1,COLUMNS($L$104:L134)-1),\"\")","v":""},{"$f":"IF(OFFSET(DE104_9!$M$104,ROWS($M$104:M134)-1,COLUMNS($M$104:M134)-1)<>\"\",OFFSET(DE104_9!$M$104,ROWS($M$104:M134)-1,COLUMNS($M$104:M134)-1),\"\")","v":""},{"$f":"IF(OFFSET(DE104_9!$N$104,ROWS($N$104:N134)-1,COLUMNS($N$104:N134)-1)<>\"\",OFFSET(DE104_9!$N$104,ROWS($N$104:N134)-1,COLUMNS($N$104:N134)-1),\"\")","v":""},{"$f":"IF(OFFSET(DE104_9!$O$104,ROWS($O$104:O134)-1,COLUMNS($O$104:O134)-1)<>\"\",OFFSET(DE104_9!$O$104,ROWS($O$104:O134)-1,COLUMNS($O$104:O134)-1),\"\")","v":""},{"$f":"IF(OFFSET(DE104_9!$P$104,ROWS($P$104:P134)-1,COLUMNS($P$104:P134)-1)<>\"\",OFFSET(DE104_9!$P$104,ROWS($P$104:P134)-1,COLUMNS($P$104:P134)-1),\"\")","v":151230},{"$f":"IF(OFFSET(DE104_9!$Q$104,ROWS($Q$104:Q134)-1,COLUMNS($Q$104:Q134)-1)<>\"\",OFFSET(DE104_9!$Q$104,ROWS($Q$104:Q134)-1,COLUMNS($Q$104:Q134)-1),\"\")","v":"DR-306"},{"$f":"IF(OFFSET(DE104_9!$R$104,ROWS($R$104:R134)-1,COLUMNS($R$104:R134)-1)<>\"\",OFFSET(DE104_9!$R$104,ROWS($R$104:R134)-1,COLUMNS($R$104:R134)-1),\"\")","v":14.8},{"$f":"IF(OFFSET(DE104_9!$S$104,ROWS($S$104:S134)-1,COLUMNS($S$104:S134)-1)<>\"\",OFFSET(DE104_9!$S$104,ROWS($S$104:S134)-1,COLUMNS($S$104:S134)-1),\"\")","v":0.4},{"$f":"IF(OFFSET(DE104_9!$T$104,ROWS($T$104:T134)-1,COLUMNS($T$104:T134)-1)<>\"\",OFFSET(DE104_9!$T$104,ROWS($T$104:T134)-1,COLUMNS($T$104:T134)-1),\"\")","v":""}]
[{"$f":"IF(OFFSET(DE104_9!$C$104,ROWS($C$104:C135)-1,COLUMNS($C$104:C135)-1)<>\"\",OFFSET(DE104_9!$C$104,ROWS($C$104:C135)-1,COLUMNS($C$104:C135)-1),\"\")","v":""},{"$f":"IF(OFFSET(DE104_9!$D$104,ROWS($D$104:D135)-1,COLUMNS($D$104:D135)-1)<>\"\",OFFSET(DE104_9!$D$104,ROWS($D$104:D135)-1,COLUMNS($D$104:D135)-1),\"\")","v":""},{"$f":"IF(OFFSET(DE104_9!$E$104,ROWS($E$104:E135)-1,COLUMNS($E$104:E135)-1)<>\"\",OFFSET(DE104_9!$E$104,ROWS($E$104:E135)-1,COLUMNS($E$104:E135)-1),\"\")","v":""},{"$f":"IF(OFFSET(DE104_9!$F$104,ROWS($F$104:F135)-1,COLUMNS($F$104:F135)-1)<>\"\",OFFSET(DE104_9!$F$104,ROWS($F$104:F135)-1,COLUMNS($F$104:F135)-1),\"\")","v":""},{"$f":"IF(OFFSET(DE104_9!$G$104,ROWS($G$104:G135)-1,COLUMNS($G$104:G135)-1)<>\"\",OFFSET(DE104_9!$G$104,ROWS($G$104:G135)-1,COLUMNS($G$104:G135)-1),\"\")","v":""},{"$f":"IF(OFFSET(DE104_9!$H$104,ROWS($H$104:H135)-1,COLUMNS($H$104:H135)-1)<>\"\",OFFSET(DE104_9!$H$104,ROWS($H$104:H135)-1,COLUMNS($H$104:H135)-1),\"\")","v":" "},{"$f":"IF(OFFSET(DE104_9!$I$104,ROWS($I$104:I135)-1,COLUMNS($I$104:I135)-1)<>\"\",OFFSET(DE104_9!$I$104,ROWS($I$104:I135)-1,COLUMNS($I$104:I135)-1),\"\")","v":""},{"$f":"IF(OFFSET(DE104_9!$J$104,ROWS($J$104:J135)-1,COLUMNS($J$104:J135)-1)<>\"\",OFFSET(DE104_9!$J$104,ROWS($J$104:J135)-1,COLUMNS($J$104:J135)-1),\"\")","v":""},{"$f":"IF(OFFSET(DE104_9!$K$104,ROWS($K$104:K135)-1,COLUMNS($K$104:K135)-1)<>\"\",OFFSET(DE104_9!$K$104,ROWS($K$104:K135)-1,COLUMNS($K$104:K135)-1),\"\")","v":""},{"$f":"IF(OFFSET(DE104_9!$L$104,ROWS($L$104:L135)-1,COLUMNS($L$104:L135)-1)<>\"\",OFFSET(DE104_9!$L$104,ROWS($L$104:L135)-1,COLUMNS($L$104:L135)-1),\"\")","v":""},{"$f":"IF(OFFSET(DE104_9!$M$104,ROWS($M$104:M135)-1,COLUMNS($M$104:M135)-1)<>\"\",OFFSET(DE104_9!$M$104,ROWS($M$104:M135)-1,COLUMNS($M$104:M135)-1),\"\")","v":""},{"$f":"IF(OFFSET(DE104_9!$N$104,ROWS($N$104:N135)-1,COLUMNS($N$104:N135)-1)<>\"\",OFFSET(DE104_9!$N$104,ROWS($N$104:N135)-1,COLUMNS($N$104:N135)-1),\"\")","v":""},{"$f":"IF(OFFSET(DE104_9!$O$104,ROWS($O$104:O135)-1,COLUMNS($O$104:O135)-1)<>\"\",OFFSET(DE104_9!$O$104,ROWS($O$104:O135)-1,COLUMNS($O$104:O135)-1),\"\")","v":""},{"$f":"IF(OFFSET(DE104_9!$P$104,ROWS($P$104:P135)-1,COLUMNS($P$104:P135)-1)<>\"\",OFFSET(DE104_9!$P$104,ROWS($P$104:P135)-1,COLUMNS($P$104:P135)-1),\"\")","v":151670},{"$f":"IF(OFFSET(DE104_9!$Q$104,ROWS($Q$104:Q135)-1,COLUMNS($Q$104:Q135)-1)<>\"\",OFFSET(DE104_9!$Q$104,ROWS($Q$104:Q135)-1,COLUMNS($Q$104:Q135)-1),\"\")","v":"DR-306"},{"$f":"IF(OFFSET(DE104_9!$R$104,ROWS($R$104:R135)-1,COLUMNS($R$104:R135)-1)<>\"\",OFFSET(DE104_9!$R$104,ROWS($R$104:R135)-1,COLUMNS($R$104:R135)-1),\"\")","v":" "},{"$f":"IF(OFFSET(DE104_9!$S$104,ROWS($S$104:S135)-1,COLUMNS($S$104:S135)-1)<>\"\",OFFSET(DE104_9!$S$104,ROWS($S$104:S135)-1,COLUMNS($S$104:S135)-1),\"\")","v":0.4},{"$f":"IF(OFFSET(DE104_9!$T$104,ROWS($T$104:T135)-1,COLUMNS($T$104:T135)-1)<>\"\",OFFSET(DE104_9!$T$104,ROWS($T$104:T135)-1,COLUMNS($T$104:T135)-1),\"\")","v":""}]
[{"$f":"IF(OFFSET(DE104_9!$C$104,ROWS($C$104:C136)-1,COLUMNS($C$104:C136)-1)<>\"\",OFFSET(DE104_9!$C$104,ROWS($C$104:C136)-1,COLUMNS($C$104:C136)-1),\"\")","v":59},{"$f":"IF(OFFSET(DE104_9!$D$104,ROWS($D$104:D136)-1,COLUMNS($D$104:D136)-1)<>\"\",OFFSET(DE104_9!$D$104,ROWS($D$104:D136)-1,COLUMNS($D$104:D136)-1),\"\")","v":"Loop A"},{"$f":"IF(OFFSET(DE104_9!$E$104,ROWS($E$104:E136)-1,COLUMNS($E$104:E136)-1)<>\"\",OFFSET(DE104_9!$E$104,ROWS($E$104:E136)-1,COLUMNS($E$104:E136)-1),\"\")","v":1147915},{"$f":"IF(OFFSET(DE104_9!$F$104,ROWS($F$104:F136)-1,COLUMNS($F$104:F136)-1)<>\"\",OFFSET(DE104_9!$F$104,ROWS($F$104:F136)-1,COLUMNS($F$104:F136)-1),\"\")","v":1148400},{"$f":"IF(OFFSET(DE104_9!$G$104,ROWS($G$104:G136)-1,COLUMNS($G$104:G136)-1)<>\"\",OFFSET(DE104_9!$G$104,ROWS($G$104:G136)-1,COLUMNS($G$104:G136)-1),\"\")","v":"RT"},{"$f":"IF(OFFSET(DE104_9!$H$104,ROWS($H$104:H136)-1,COLUMNS($H$104:H136)-1)<>\"\",OFFSET(DE104_9!$H$104,ROWS($H$104:H136)-1,COLUMNS($H$104:H136)-1),\"\")","v":42},{"$f":"IF(OFFSET(DE104_9!$I$104,ROWS($I$104:I136)-1,COLUMNS($I$104:I136)-1)<>\"\",OFFSET(DE104_9!$I$104,ROWS($I$104:I136)-1,COLUMNS($I$104:I136)-1),\"\")","v":4},{"$f":"IF(OFFSET(DE104_9!$J$104,ROWS($J$104:J136)-1,COLUMNS($J$104:J136)-1)<>\"\",OFFSET(DE104_9!$J$104,ROWS($J$104:J136)-1,COLUMNS($J$104:J136)-1),\"\")","v":525},{"$f":"IF(OFFSET(DE104_9!$K$104,ROWS($K$104:K136)-1,COLUMNS($K$104:K136)-1)<>\"\",OFFSET(DE104_9!$K$104,ROWS($K$104:K136)-1,COLUMNS($K$104:K136)-1),\"\")","v":""},{"$f":"IF(OFFSET(DE104_9!$L$104,ROWS($L$104:L136)-1,COLUMNS($L$104:L136)-1)<>\"\",OFFSET(DE104_9!$L$104,ROWS($L$104:L136)-1,COLUMNS($L$104:L136)-1),\"\")","v":""},{"$f":"IF(OFFSET(DE104_9!$M$104,ROWS($M$104:M136)-1,COLUMNS($M$104:M136)-1)<>\"\",OFFSET(DE104_9!$M$104,ROWS($M$104:M136)-1,COLUMNS($M$104:M136)-1),\"\")","v":""},{"$f":"IF(OFFSET(DE104_9!$N$104,ROWS($N$104:N136)-1,COLUMNS($N$104:N136)-1)<>\"\",OFFSET(DE104_9!$N$104,ROWS($N$104:N136)-1,COLUMNS($N$104:N136)-1),\"\")","v":""},{"$f":"IF(OFFSET(DE104_9!$O$104,ROWS($O$104:O136)-1,COLUMNS($O$104:O136)-1)<>\"\",OFFSET(DE104_9!$O$104,ROWS($O$104:O136)-1,COLUMNS($O$104:O136)-1),\"\")","v":""},{"$f":"IF(OFFSET(DE104_9!$P$104,ROWS($P$104:P136)-1,COLUMNS($P$104:P136)-1)<>\"\",OFFSET(DE104_9!$P$104,ROWS($P$104:P136)-1,COLUMNS($P$104:P136)-1),\"\")","v":1147915},{"$f":"IF(OFFSET(DE104_9!$Q$104,ROWS($Q$104:Q136)-1,COLUMNS($Q$104:Q136)-1)<>\"\",OFFSET(DE104_9!$Q$104,ROWS($Q$104:Q136)-1,COLUMNS($Q$104:Q136)-1),\"\")","v":"DR-306"},{"$f":"IF(OFFSET(DE104_9!$R$104,ROWS($R$104:R136)-1,COLUMNS($R$104:R136)-1)<>\"\",OFFSET(DE104_9!$R$104,ROWS($R$104:R136)-1,COLUMNS($R$104:R136)-1),\"\")","v":48.6},{"$f":"IF(OFFSET(DE104_9!$S$104,ROWS($S$104:S136)-1,COLUMNS($S$104:S136)-1)<>\"\",OFFSET(DE104_9!$S$104,ROWS($S$104:S136)-1,COLUMNS($S$104:S136)-1),\"\")","v":0.4},{"$f":"IF(OFFSET(DE104_9!$T$104,ROWS($T$104:T136)-1,COLUMNS($T$104:T136)-1)<>\"\",OFFSET(DE104_9!$T$104,ROWS($T$104:T136)-1,COLUMNS($T$104:T136)-1),\"\")","v":"OUTLET WITH LINE NO. 22"}]
[{"$f":"IF(OFFSET(DE104_9!$C$104,ROWS($C$104:C137)-1,COLUMNS($C$104:C137)-1)<>\"\",OFFSET(DE104_9!$C$104,ROWS($C$104:C137)-1,COLUMNS($C$104:C137)-1),\"\")","v":""},{"$f":"IF(OFFSET(DE104_9!$D$104,ROWS($D$104:D137)-1,COLUMNS($D$104:D137)-1)<>\"\",OFFSET(DE104_9!$D$104,ROWS($D$104:D137)-1,COLUMNS($D$104:D137)-1),\"\")","v":""},{"$f":"IF(OFFSET(DE104_9!$E$104,ROWS($E$104:E137)-1,COLUMNS($E$104:E137)-1)<>\"\",OFFSET(DE104_9!$E$104,ROWS($E$104:E137)-1,COLUMNS($E$104:E137)-1),\"\")","v":""},{"$f":"IF(OFFSET(DE104_9!$F$104,ROWS($F$104:F137)-1,COLUMNS($F$104:F137)-1)<>\"\",OFFSET(DE104_9!$F$104,ROWS($F$104:F137)-1,COLUMNS($F$104:F137)-1),\"\")","v":""},{"$f":"IF(OFFSET(DE104_9!$G$104,ROWS($G$104:G137)-1,COLUMNS($G$104:G137)-1)<>\"\",OFFSET(DE104_9!$G$104,ROWS($G$104:G137)-1,COLUMNS($G$104:G137)-1),\"\")","v":""},{"$f":"IF(OFFSET(DE104_9!$H$104,ROWS($H$104:H137)-1,COLUMNS($H$104:H137)-1)<>\"\",OFFSET(DE104_9!$H$104,ROWS($H$104:H137)-1,COLUMNS($H$104:H137)-1),\"\")","v":" "},{"$f":"IF(OFFSET(DE104_9!$I$104,ROWS($I$104:I137)-1,COLUMNS($I$104:I137)-1)<>\"\",OFFSET(DE104_9!$I$104,ROWS($I$104:I137)-1,COLUMNS($I$104:I137)-1),\"\")","v":""},{"$f":"IF(OFFSET(DE104_9!$J$104,ROWS($J$104:J137)-1,COLUMNS($J$104:J137)-1)<>\"\",OFFSET(DE104_9!$J$104,ROWS($J$104:J137)-1,COLUMNS($J$104:J137)-1),\"\")","v":""},{"$f":"IF(OFFSET(DE104_9!$K$104,ROWS($K$104:K137)-1,COLUMNS($K$104:K137)-1)<>\"\",OFFSET(DE104_9!$K$104,ROWS($K$104:K137)-1,COLUMNS($K$104:K137)-1),\"\")","v":""},{"$f":"IF(OFFSET(DE104_9!$L$104,ROWS($L$104:L137)-1,COLUMNS($L$104:L137)-1)<>\"\",OFFSET(DE104_9!$L$104,ROWS($L$104:L137)-1,COLUMNS($L$104:L137)-1),\"\")","v":""},{"$f":"IF(OFFSET(DE104_9!$M$104,ROWS($M$104:M137)-1,COLUMNS($M$104:M137)-1)<>\"\",OFFSET(DE104_9!$M$104,ROWS($M$104:M137)-1,COLUMNS($M$104:M137)-1),\"\")","v":""},{"$f":"IF(OFFSET(DE104_9!$N$104,ROWS($N$104:N137)-1,COLUMNS($N$104:N137)-1)<>\"\",OFFSET(DE104_9!$N$104,ROWS($N$104:N137)-1,COLUMNS($N$104:N137)-1),\"\")","v":""},{"$f":"IF(OFFSET(DE104_9!$O$104,ROWS($O$104:O137)-1,COLUMNS($O$104:O137)-1)<>\"\",OFFSET(DE104_9!$O$104,ROWS($O$104:O137)-1,COLUMNS($O$104:O137)-1),\"\")","v":""},{"$f":"IF(OFFSET(DE104_9!$P$104,ROWS($P$104:P137)-1,COLUMNS($P$104:P137)-1)<>\"\",OFFSET(DE104_9!$P$104,ROWS($P$104:P137)-1,COLUMNS($P$104:P137)-1),\"\")","v":1148400},{"$f":"IF(OFFSET(DE104_9!$Q$104,ROWS($Q$104:Q137)-1,COLUMNS($Q$104:Q137)-1)<>\"\",OFFSET(DE104_9!$Q$104,ROWS($Q$104:Q137)-1,COLUMNS($Q$104:Q137)-1),\"\")","v":"DR-306"},{"$f":"IF(OFFSET(DE104_9!$R$104,ROWS($R$104:R137)-1,COLUMNS($R$104:R137)-1)<>\"\",OFFSET(DE104_9!$R$104,ROWS($R$104:R137)-1,COLUMNS($R$104:R137)-1),\"\")","v":" "},{"$f":"IF(OFFSET(DE104_9!$S$104,ROWS($S$104:S137)-1,COLUMNS($S$104:S137)-1)<>\"\",OFFSET(DE104_9!$S$104,ROWS($S$104:S137)-1,COLUMNS($S$104:S137)-1),\"\")","v":0.4},{"$f":"IF(OFFSET(DE104_9!$T$104,ROWS($T$104:T137)-1,COLUMNS($T$104:T137)-1)<>\"\",OFFSET(DE104_9!$T$104,ROWS($T$104:T137)-1,COLUMNS($T$104:T137)-1),\"\")","v":""}]
[{"$f":"IF(OFFSET(DE104_9!$C$104,ROWS($C$104:C138)-1,COLUMNS($C$104:C138)-1)<>\"\",OFFSET(DE104_9!$C$104,ROWS($C$104:C138)-1,COLUMNS($C$104:C138)-1),\"\")","v":60},{"$f":"IF(OFFSET(DE104_9!$D$104,ROWS($D$104:D138)-1,COLUMNS($D$104:D138)-1)<>\"\",OFFSET(DE104_9!$D$104,ROWS($D$104:D138)-1,COLUMNS($D$104:D138)-1),\"\")","v":"Loop A"},{"$f":"IF(OFFSET(DE104_9!$E$104,ROWS($E$104:E138)-1,COLUMNS($E$104:E138)-1)<>\"\",OFFSET(DE104_9!$E$104,ROWS($E$104:E138)-1,COLUMNS($E$104:E138)-1),\"\")","v":1148400},{"$f":"IF(OFFSET(DE104_9!$F$104,ROWS($F$104:F138)-1,COLUMNS($F$104:F138)-1)<>\"\",OFFSET(DE104_9!$F$104,ROWS($F$104:F138)-1,COLUMNS($F$104:F138)-1),\"\")","v":1148664.72},{"$f":"IF(OFFSET(DE104_9!$G$104,ROWS($G$104:G138)-1,COLUMNS($G$104:G138)-1)<>\"\",OFFSET(DE104_9!$G$104,ROWS($G$104:G138)-1,COLUMNS($G$104:G138)-1),\"\")","v":"RT"},{"$f":"IF(OFFSET(DE104_9!$H$104,ROWS($H$104:H138)-1,COLUMNS($H$104:H138)-1)<>\"\",OFFSET(DE104_9!$H$104,ROWS($H$104:H138)-1,COLUMNS($H$104:H138)-1),\"\")","v":42},{"$f":"IF(OFFSET(DE104_9!$I$104,ROWS($I$104:I138)-1,COLUMNS($I$104:I138)-1)<>\"\",OFFSET(DE104_9!$I$104,ROWS($I$104:I138)-1,COLUMNS($I$104:I138)-1),\"\")","v":4},{"$f":"IF(OFFSET(DE104_9!$J$104,ROWS($J$104:J138)-1,COLUMNS($J$104:J138)-1)<>\"\",OFFSET(DE104_9!$J$104,ROWS($J$104:J138)-1,COLUMNS($J$104:J138)-1),\"\")","v":304.71999999997206},{"$f":"IF(OFFSET(DE104_9!$K$104,ROWS($K$104:K138)-1,COLUMNS($K$104:K138)-1)<>\"\",OFFSET(DE104_9!$K$104,ROWS($K$104:K138)-1,COLUMNS($K$104:K138)-1),\"\")","v":""},{"$f":"IF(OFFSET(DE104_9!$L$104,ROWS($L$104:L138)-1,COLUMNS($L$104:L138)-1)<>\"\",OFFSET(DE104_9!$L$104,ROWS($L$104:L138)-1,COLUMNS($L$104:L138)-1),\"\")","v":""},{"$f":"IF(OFFSET(DE104_9!$M$104,ROWS($M$104:M138)-1,COLUMNS($M$104:M138)-1)<>\"\",OFFSET(DE104_9!$M$104,ROWS($M$104:M138)-1,COLUMNS($M$104:M138)-1),\"\")","v":""},{"$f":"IF(OFFSET(DE104_9!$N$104,ROWS($N$104:N138)-1,COLUMNS($N$104:N138)-1)<>\"\",OFFSET(DE104_9!$N$104,ROWS($N$104:N138)-1,COLUMNS($N$104:N138)-1),\"\")","v":""},{"$f":"IF(OFFSET(DE104_9!$O$104,ROWS($O$104:O138)-1,COLUMNS($O$104:O138)-1)<>\"\",OFFSET(DE104_9!$O$104,ROWS($O$104:O138)-1,COLUMNS($O$104:O138)-1),\"\")","v":""},{"$f":"IF(OFFSET(DE104_9!$P$104,ROWS($P$104:P138)-1,COLUMNS($P$104:P138)-1)<>\"\",OFFSET(DE104_9!$P$104,ROWS($P$104:P138)-1,COLUMNS($P$104:P138)-1),\"\")","v":1148400},{"$f":"IF(OFFSET(DE104_9!$Q$104,ROWS($Q$104:Q138)-1,COLUMNS($Q$104:Q138)-1)<>\"\",OFFSET(DE104_9!$Q$104,ROWS($Q$104:Q138)-1,COLUMNS($Q$104:Q138)-1),\"\")","v":"DR-306"},{"$f":"IF(OFFSET(DE104_9!$R$104,ROWS($R$104:R138)-1,COLUMNS($R$104:R138)-1)<>\"\",OFFSET(DE104_9!$R$104,ROWS($R$104:R138)-1,COLUMNS($R$104:R138)-1),\"\")","v":28.2},{"$f":"IF(OFFSET(DE104_9!$S$104,ROWS($S$104:S138)-1,COLUMNS($S$104:S138)-1)<>\"\",OFFSET(DE104_9!$S$104,ROWS($S$104:S138)-1,COLUMNS($S$104:S138)-1),\"\")","v":0.4},{"$f":"IF(OFFSET(DE104_9!$T$104,ROWS($T$104:T138)-1,COLUMNS($T$104:T138)-1)<>\"\",OFFSET(DE104_9!$T$104,ROWS($T$104:T138)-1,COLUMNS($T$104:T138)-1),\"\")","v":""}]
[{"$f":"IF(OFFSET(DE104_9!$C$104,ROWS($C$104:C139)-1,COLUMNS($C$104:C139)-1)<>\"\",OFFSET(DE104_9!$C$104,ROWS($C$104:C139)-1,COLUMNS($C$104:C139)-1),\"\")","v":""},{"$f":"IF(OFFSET(DE104_9!$D$104,ROWS($D$104:D139)-1,COLUMNS($D$104:D139)-1)<>\"\",OFFSET(DE104_9!$D$104,ROWS($D$104:D139)-1,COLUMNS($D$104:D139)-1),\"\")","v":""},{"$f":"IF(OFFSET(DE104_9!$E$104,ROWS($E$104:E139)-1,COLUMNS($E$104:E139)-1)<>\"\",OFFSET(DE104_9!$E$104,ROWS($E$104:E139)-1,COLUMNS($E$104:E139)-1),\"\")","v":""},{"$f":"IF(OFFSET(DE104_9!$F$104,ROWS($F$104:F139)-1,COLUMNS($F$104:F139)-1)<>\"\",OFFSET(DE104_9!$F$104,ROWS($F$104:F139)-1,COLUMNS($F$104:F139)-1),\"\")","v":""},{"$f":"IF(OFFSET(DE104_9!$G$104,ROWS($G$104:G139)-1,COLUMNS($G$104:G139)-1)<>\"\",OFFSET(DE104_9!$G$104,ROWS($G$104:G139)-1,COLUMNS($G$104:G139)-1),\"\")","v":""},{"$f":"IF(OFFSET(DE104_9!$H$104,ROWS($H$104:H139)-1,COLUMNS($H$104:H139)-1)<>\"\",OFFSET(DE104_9!$H$104,ROWS($H$104:H139)-1,COLUMNS($H$104:H139)-1),\"\")","v":" "},{"$f":"IF(OFFSET(DE104_9!$I$104,ROWS($I$104:I139)-1,COLUMNS($I$104:I139)-1)<>\"\",OFFSET(DE104_9!$I$104,ROWS($I$104:I139)-1,COLUMNS($I$104:I139)-1),\"\")","v":""},{"$f":"IF(OFFSET(DE104_9!$J$104,ROWS($J$104:J139)-1,COLUMNS($J$104:J139)-1)<>\"\",OFFSET(DE104_9!$J$104,ROWS($J$104:J139)-1,COLUMNS($J$104:J139)-1),\"\")","v":""},{"$f":"IF(OFFSET(DE104_9!$K$104,ROWS($K$104:K139)-1,COLUMNS($K$104:K139)-1)<>\"\",OFFSET(DE104_9!$K$104,ROWS($K$104:K139)-1,COLUMNS($K$104:K139)-1),\"\")","v":""},{"$f":"IF(OFFSET(DE104_9!$L$104,ROWS($L$104:L139)-1,COLUMNS($L$104:L139)-1)<>\"\",OFFSET(DE104_9!$L$104,ROWS($L$104:L139)-1,COLUMNS($L$104:L139)-1),\"\")","v":""},{"$f":"IF(OFFSET(DE104_9!$M$104,ROWS($M$104:M139)-1,COLUMNS($M$104:M139)-1)<>\"\",OFFSET(DE104_9!$M$104,ROWS($M$104:M139)-1,COLUMNS($M$104:M139)-1),\"\")","v":""},{"$f":"IF(OFFSET(DE104_9!$N$104,ROWS($N$104:N139)-1,COLUMNS($N$104:N139)-1)<>\"\",OFFSET(DE104_9!$N$104,ROWS($N$104:N139)-1,COLUMNS($N$104:N139)-1),\"\")","v":""},{"$f":"IF(OFFSET(DE104_9!$O$104,ROWS($O$104:O139)-1,COLUMNS($O$104:O139)-1)<>\"\",OFFSET(DE104_9!$O$104,ROWS($O$104:O139)-1,COLUMNS($O$104:O139)-1),\"\")","v":""},{"$f":"IF(OFFSET(DE104_9!$P$104,ROWS($P$104:P139)-1,COLUMNS($P$104:P139)-1)<>\"\",OFFSET(DE104_9!$P$104,ROWS($P$104:P139)-1,COLUMNS($P$104:P139)-1),\"\")","v":1148664.72},{"$f":"IF(OFFSET(DE104_9!$Q$104,ROWS($Q$104:Q139)-1,COLUMNS($Q$104:Q139)-1)<>\"\",OFFSET(DE104_9!$Q$104,ROWS($Q$104:Q139)-1,COLUMNS($Q$104:Q139)-1),\"\")","v":"DR-306"},{"$f":"IF(OFFSET(DE104_9!$R$104,ROWS($R$104:R139)-1,COLUMNS($R$104:R139)-1)<>\"\",OFFSET(DE104_9!$R$104,ROWS($R$104:R139)-1,COLUMNS($R$104:R139)-1),\"\")","v":" "},{"$f":"IF(OFFSET(DE104_9!$S$104,ROWS($S$104:S139)-1,COLUMNS($S$104:S139)-1)<>\"\",OFFSET(DE104_9!$S$104,ROWS($S$104:S139)-1,COLUMNS($S$104:S139)-1),\"\")","v":0.4},{"$f":"IF(OFFSET(DE104_9!$T$104,ROWS($T$104:T139)-1,COLUMNS($T$104:T139)-1)<>\"\",OFFSET(DE104_9!$T$104,ROWS($T$104:T139)-1,COLUMNS($T$104:T139)-1),\"\")","v":""}]
[{"$f":"IF(OFFSET(DE104_9!$C$104,ROWS($C$104:C140)-1,COLUMNS($C$104:C140)-1)<>\"\",OFFSET(DE104_9!$C$104,ROWS($C$104:C140)-1,COLUMNS($C$104:C140)-1),\"\")","v":61},{"$f":"IF(OFFSET(DE104_9!$D$104,ROWS($D$104:D140)-1,COLUMNS($D$104:D140)-1)<>\"\",OFFSET(DE104_9!$D$104,ROWS($D$104:D140)-1,COLUMNS($D$104:D140)-1),\"\")","v":"Loop B"},{"$f":"IF(OFFSET(DE104_9!$E$104,ROWS($E$104:E140)-1,COLUMNS($E$104:E140)-1)<>\"\",OFFSET(DE104_9!$E$104,ROWS($E$104:E140)-1,COLUMNS($E$104:E140)-1),\"\")","v":2147225},{"$f":"IF(OFFSET(DE104_9!$F$104,ROWS($F$104:F140)-1,COLUMNS($F$104:F140)-1)<>\"\",OFFSET(DE104_9!$F$104,ROWS($F$104:F140)-1,COLUMNS($F$104:F140)-1),\"\")","v":2147375},{"$f":"IF(OFFSET(DE104_9!$G$104,ROWS($G$104:G140)-1,COLUMNS($G$104:G140)-1)<>\"\",OFFSET(DE104_9!$G$104,ROWS($G$104:G140)-1,COLUMNS($G$104:G140)-1),\"\")","v":"RT"},{"$f":"IF(OFFSET(DE104_9!$H$104,ROWS($H$104:H140)-1,COLUMNS($H$104:H140)-1)<>\"\",OFFSET(DE104_9!$H$104,ROWS($H$104:H140)-1,COLUMNS($H$104:H140)-1),\"\")","v":42},{"$f":"IF(OFFSET(DE104_9!$I$104,ROWS($I$104:I140)-1,COLUMNS($I$104:I140)-1)<>\"\",OFFSET(DE104_9!$I$104,ROWS($I$104:I140)-1,COLUMNS($I$104:I140)-1),\"\")","v":4},{"$f":"IF(OFFSET(DE104_9!$J$104,ROWS($J$104:J140)-1,COLUMNS($J$104:J140)-1)<>\"\",OFFSET(DE104_9!$J$104,ROWS($J$104:J140)-1,COLUMNS($J$104:J140)-1),\"\")","v":190},{"$f":"IF(OFFSET(DE104_9!$K$104,ROWS($K$104:K140)-1,COLUMNS($K$104:K140)-1)<>\"\",OFFSET(DE104_9!$K$104,ROWS($K$104:K140)-1,COLUMNS($K$104:K140)-1),\"\")","v":""},{"$f":"IF(OFFSET(DE104_9!$L$104,ROWS($L$104:L140)-1,COLUMNS($L$104:L140)-1)<>\"\",OFFSET(DE104_9!$L$104,ROWS($L$104:L140)-1,COLUMNS($L$104:L140)-1),\"\")","v":""},{"$f":"IF(OFFSET(DE104_9!$M$104,ROWS($M$104:M140)-1,COLUMNS($M$104:M140)-1)<>\"\",OFFSET(DE104_9!$M$104,ROWS($M$104:M140)-1,COLUMNS($M$104:M140)-1),\"\")","v":""},{"$f":"IF(OFFSET(DE104_9!$N$104,ROWS($N$104:N140)-1,COLUMNS($N$104:N140)-1)<>\"\",OFFSET(DE104_9!$N$104,ROWS($N$104:N140)-1,COLUMNS($N$104:N140)-1),\"\")","v":""},{"$f":"IF(OFFSET(DE104_9!$O$104,ROWS($O$104:O140)-1,COLUMNS($O$104:O140)-1)<>\"\",OFFSET(DE104_9!$O$104,ROWS($O$104:O140)-1,COLUMNS($O$104:O140)-1),\"\")","v":""},{"$f":"IF(OFFSET(DE104_9!$P$104,ROWS($P$104:P140)-1,COLUMNS($P$104:P140)-1)<>\"\",OFFSET(DE104_9!$P$104,ROWS($P$104:P140)-1,COLUMNS($P$104:P140)-1),\"\")","v":2147225},{"$f":"IF(OFFSET(DE104_9!$Q$104,ROWS($Q$104:Q140)-1,COLUMNS($Q$104:Q140)-1)<>\"\",OFFSET(DE104_9!$Q$104,ROWS($Q$104:Q140)-1,COLUMNS($Q$104:Q140)-1),\"\")","v":"DR-306"},{"$f":"IF(OFFSET(DE104_9!$R$104,ROWS($R$104:R140)-1,COLUMNS($R$104:R140)-1)<>\"\",OFFSET(DE104_9!$R$104,ROWS($R$104:R140)-1,COLUMNS($R$104:R140)-1),\"\")","v":17.600000000000001},{"$f":"IF(OFFSET(DE104_9!$S$104,ROWS($S$104:S140)-1,COLUMNS($S$104:S140)-1)<>\"\",OFFSET(DE104_9!$S$104,ROWS($S$104:S140)-1,COLUMNS($S$104:S140)-1),\"\")","v":0.4},{"$f":"IF(OFFSET(DE104_9!$T$104,ROWS($T$104:T140)-1,COLUMNS($T$104:T140)-1)<>\"\",OFFSET(DE104_9!$T$104,ROWS($T$104:T140)-1,COLUMNS($T$104:T140)-1),\"\")","v":""}]
[{"$f":"IF(OFFSET(DE104_9!$C$104,ROWS($C$104:C141)-1,COLUMNS($C$104:C141)-1)<>\"\",OFFSET(DE104_9!$C$104,ROWS($C$104:C141)-1,COLUMNS($C$104:C141)-1),\"\")","v":""},{"$f":"IF(OFFSET(DE104_9!$D$104,ROWS($D$104:D141)-1,COLUMNS($D$104:D141)-1)<>\"\",OFFSET(DE104_9!$D$104,ROWS($D$104:D141)-1,COLUMNS($D$104:D141)-1),\"\")","v":""},{"$f":"IF(OFFSET(DE104_9!$E$104,ROWS($E$104:E141)-1,COLUMNS($E$104:E141)-1)<>\"\",OFFSET(DE104_9!$E$104,ROWS($E$104:E141)-1,COLUMNS($E$104:E141)-1),\"\")","v":""},{"$f":"IF(OFFSET(DE104_9!$F$104,ROWS($F$104:F141)-1,COLUMNS($F$104:F141)-1)<>\"\",OFFSET(DE104_9!$F$104,ROWS($F$104:F141)-1,COLUMNS($F$104:F141)-1),\"\")","v":""},{"$f":"IF(OFFSET(DE104_9!$G$104,ROWS($G$104:G141)-1,COLUMNS($G$104:G141)-1)<>\"\",OFFSET(DE104_9!$G$104,ROWS($G$104:G141)-1,COLUMNS($G$104:G141)-1),\"\")","v":""},{"$f":"IF(OFFSET(DE104_9!$H$104,ROWS($H$104:H141)-1,COLUMNS($H$104:H141)-1)<>\"\",OFFSET(DE104_9!$H$104,ROWS($H$104:H141)-1,COLUMNS($H$104:H141)-1),\"\")","v":" "},{"$f":"IF(OFFSET(DE104_9!$I$104,ROWS($I$104:I141)-1,COLUMNS($I$104:I141)-1)<>\"\",OFFSET(DE104_9!$I$104,ROWS($I$104:I141)-1,COLUMNS($I$104:I141)-1),\"\")","v":""},{"$f":"IF(OFFSET(DE104_9!$J$104,ROWS($J$104:J141)-1,COLUMNS($J$104:J141)-1)<>\"\",OFFSET(DE104_9!$J$104,ROWS($J$104:J141)-1,COLUMNS($J$104:J141)-1),\"\")","v":""},{"$f":"IF(OFFSET(DE104_9!$K$104,ROWS($K$104:K141)-1,COLUMNS($K$104:K141)-1)<>\"\",OFFSET(DE104_9!$K$104,ROWS($K$104:K141)-1,COLUMNS($K$104:K141)-1),\"\")","v":""},{"$f":"IF(OFFSET(DE104_9!$L$104,ROWS($L$104:L141)-1,COLUMNS($L$104:L141)-1)<>\"\",OFFSET(DE104_9!$L$104,ROWS($L$104:L141)-1,COLUMNS($L$104:L141)-1),\"\")","v":""},{"$f":"IF(OFFSET(DE104_9!$M$104,ROWS($M$104:M141)-1,COLUMNS($M$104:M141)-1)<>\"\",OFFSET(DE104_9!$M$104,ROWS($M$104:M141)-1,COLUMNS($M$104:M141)-1),\"\")","v":""},{"$f":"IF(OFFSET(DE104_9!$N$104,ROWS($N$104:N141)-1,COLUMNS($N$104:N141)-1)<>\"\",OFFSET(DE104_9!$N$104,ROWS($N$104:N141)-1,COLUMNS($N$104:N141)-1),\"\")","v":""},{"$f":"IF(OFFSET(DE104_9!$O$104,ROWS($O$104:O141)-1,COLUMNS($O$104:O141)-1)<>\"\",OFFSET(DE104_9!$O$104,ROWS($O$104:O141)-1,COLUMNS($O$104:O141)-1),\"\")","v":""},{"$f":"IF(OFFSET(DE104_9!$P$104,ROWS($P$104:P141)-1,COLUMNS($P$104:P141)-1)<>\"\",OFFSET(DE104_9!$P$104,ROWS($P$104:P141)-1,COLUMNS($P$104:P141)-1),\"\")","v":2147375},{"$f":"IF(OFFSET(DE104_9!$Q$104,ROWS($Q$104:Q141)-1,COLUMNS($Q$104:Q141)-1)<>\"\",OFFSET(DE104_9!$Q$104,ROWS($Q$104:Q141)-1,COLUMNS($Q$104:Q141)-1),\"\")","v":"DR-306"},{"$f":"IF(OFFSET(DE104_9!$R$104,ROWS($R$104:R141)-1,COLUMNS($R$104:R141)-1)<>\"\",OFFSET(DE104_9!$R$104,ROWS($R$104:R141)-1,COLUMNS($R$104:R141)-1),\"\")","v":" "},{"$f":"IF(OFFSET(DE104_9!$S$104,ROWS($S$104:S141)-1,COLUMNS($S$104:S141)-1)<>\"\",OFFSET(DE104_9!$S$104,ROWS($S$104:S141)-1,COLUMNS($S$104:S141)-1),\"\")","v":0.4},{"$f":"IF(OFFSET(DE104_9!$T$104,ROWS($T$104:T141)-1,COLUMNS($T$104:T141)-1)<>\"\",OFFSET(DE104_9!$T$104,ROWS($T$104:T141)-1,COLUMNS($T$104:T141)-1),\"\")","v":""}]
[{"$f":"IF(OFFSET(DE104_9!$C$104,ROWS($C$104:C142)-1,COLUMNS($C$104:C142)-1)<>\"\",OFFSET(DE104_9!$C$104,ROWS($C$104:C142)-1,COLUMNS($C$104:C142)-1),\"\")","v":62},{"$f":"IF(OFFSET(DE104_9!$D$104,ROWS($D$104:D142)-1,COLUMNS($D$104:D142)-1)<>\"\",OFFSET(DE104_9!$D$104,ROWS($D$104:D142)-1,COLUMNS($D$104:D142)-1),\"\")","v":"Loop B"},{"$f":"IF(OFFSET(DE104_9!$E$104,ROWS($E$104:E142)-1,COLUMNS($E$104:E142)-1)<>\"\",OFFSET(DE104_9!$E$104,ROWS($E$104:E142)-1,COLUMNS($E$104:E142)-1),\"\")","v":2147375},{"$f":"IF(OFFSET(DE104_9!$F$104,ROWS($F$104:F142)-1,COLUMNS($F$104:F142)-1)<>\"\",OFFSET(DE104_9!$F$104,ROWS($F$104:F142)-1,COLUMNS($F$104:F142)-1),\"\")","v":2147675},{"$f":"IF(OFFSET(DE104_9!$G$104,ROWS($G$104:G142)-1,COLUMNS($G$104:G142)-1)<>\"\",OFFSET(DE104_9!$G$104,ROWS($G$104:G142)-1,COLUMNS($G$104:G142)-1),\"\")","v":"RT"},{"$f":"IF(OFFSET(DE104_9!$H$104,ROWS($H$104:H142)-1,COLUMNS($H$104:H142)-1)<>\"\",OFFSET(DE104_9!$H$104,ROWS($H$104:H142)-1,COLUMNS($H$104:H142)-1),\"\")","v":42},{"$f":"IF(OFFSET(DE104_9!$I$104,ROWS($I$104:I142)-1,COLUMNS($I$104:I142)-1)<>\"\",OFFSET(DE104_9!$I$104,ROWS($I$104:I142)-1,COLUMNS($I$104:I142)-1),\"\")","v":4},{"$f":"IF(OFFSET(DE104_9!$J$104,ROWS($J$104:J142)-1,COLUMNS($J$104:J142)-1)<>\"\",OFFSET(DE104_9!$J$104,ROWS($J$104:J142)-1,COLUMNS($J$104:J142)-1),\"\")","v":340},{"$f":"IF(OFFSET(DE104_9!$K$104,ROWS($K$104:K142)-1,COLUMNS($K$104:K142)-1)<>\"\",OFFSET(DE104_9!$K$104,ROWS($K$104:K142)-1,COLUMNS($K$104:K142)-1),\"\")","v":""},{"$f":"IF(OFFSET(DE104_9!$L$104,ROWS($L$104:L142)-1,COLUMNS($L$104:L142)-1)<>\"\",OFFSET(DE104_9!$L$104,ROWS($L$104:L142)-1,COLUMNS($L$104:L142)-1),\"\")","v":""},{"$f":"IF(OFFSET(DE104_9!$M$104,ROWS($M$104:M142)-1,COLUMNS($M$104:M142)-1)<>\"\",OFFSET(DE104_9!$M$104,ROWS($M$104:M142)-1,COLUMNS($M$104:M142)-1),\"\")","v":""},{"$f":"IF(OFFSET(DE104_9!$N$104,ROWS($N$104:N142)-1,COLUMNS($N$104:N142)-1)<>\"\",OFFSET(DE104_9!$N$104,ROWS($N$104:N142)-1,COLUMNS($N$104:N142)-1),\"\")","v":""},{"$f":"IF(OFFSET(DE104_9!$O$104,ROWS($O$104:O142)-1,COLUMNS($O$104:O142)-1)<>\"\",OFFSET(DE104_9!$O$104,ROWS($O$104:O142)-1,COLUMNS($O$104:O142)-1),\"\")","v":""},{"$f":"IF(OFFSET(DE104_9!$P$104,ROWS($P$104:P142)-1,COLUMNS($P$104:P142)-1)<>\"\",OFFSET(DE104_9!$P$104,ROWS($P$104:P142)-1,COLUMNS($P$104:P142)-1),\"\")","v":2147375},{"$f":"IF(OFFSET(DE104_9!$Q$104,ROWS($Q$104:Q142)-1,COLUMNS($Q$104:Q142)-1)<>\"\",OFFSET(DE104_9!$Q$104,ROWS($Q$104:Q142)-1,COLUMNS($Q$104:Q142)-1),\"\")","v":"DR-306"},{"$f":"IF(OFFSET(DE104_9!$R$104,ROWS($R$104:R142)-1,COLUMNS($R$104:R142)-1)<>\"\",OFFSET(DE104_9!$R$104,ROWS($R$104:R142)-1,COLUMNS($R$104:R142)-1),\"\")","v":31.5},{"$f":"IF(OFFSET(DE104_9!$S$104,ROWS($S$104:S142)-1,COLUMNS($S$104:S142)-1)<>\"\",OFFSET(DE104_9!$S$104,ROWS($S$104:S142)-1,COLUMNS($S$104:S142)-1),\"\")","v":0.4},{"$f":"IF(OFFSET(DE104_9!$T$104,ROWS($T$104:T142)-1,COLUMNS($T$104:T142)-1)<>\"\",OFFSET(DE104_9!$T$104,ROWS($T$104:T142)-1,COLUMNS($T$104:T142)-1),\"\")","v":""}]
[{"$f":"IF(OFFSET(DE104_9!$C$104,ROWS($C$104:C143)-1,COLUMNS($C$104:C143)-1)<>\"\",OFFSET(DE104_9!$C$104,ROWS($C$104:C143)-1,COLUMNS($C$104:C143)-1),\"\")","v":""},{"$f":"IF(OFFSET(DE104_9!$D$104,ROWS($D$104:D143)-1,COLUMNS($D$104:D143)-1)<>\"\",OFFSET(DE104_9!$D$104,ROWS($D$104:D143)-1,COLUMNS($D$104:D143)-1),\"\")","v":""},{"$f":"IF(OFFSET(DE104_9!$E$104,ROWS($E$104:E143)-1,COLUMNS($E$104:E143)-1)<>\"\",OFFSET(DE104_9!$E$104,ROWS($E$104:E143)-1,COLUMNS($E$104:E143)-1),\"\")","v":""},{"$f":"IF(OFFSET(DE104_9!$F$104,ROWS($F$104:F143)-1,COLUMNS($F$104:F143)-1)<>\"\",OFFSET(DE104_9!$F$104,ROWS($F$104:F143)-1,COLUMNS($F$104:F143)-1),\"\")","v":""},{"$f":"IF(OFFSET(DE104_9!$G$104,ROWS($G$104:G143)-1,COLUMNS($G$104:G143)-1)<>\"\",OFFSET(DE104_9!$G$104,ROWS($G$104:G143)-1,COLUMNS($G$104:G143)-1),\"\")","v":""},{"$f":"IF(OFFSET(DE104_9!$H$104,ROWS($H$104:H143)-1,COLUMNS($H$104:H143)-1)<>\"\",OFFSET(DE104_9!$H$104,ROWS($H$104:H143)-1,COLUMNS($H$104:H143)-1),\"\")","v":" "},{"$f":"IF(OFFSET(DE104_9!$I$104,ROWS($I$104:I143)-1,COLUMNS($I$104:I143)-1)<>\"\",OFFSET(DE104_9!$I$104,ROWS($I$104:I143)-1,COLUMNS($I$104:I143)-1),\"\")","v":""},{"$f":"IF(OFFSET(DE104_9!$J$104,ROWS($J$104:J143)-1,COLUMNS($J$104:J143)-1)<>\"\",OFFSET(DE104_9!$J$104,ROWS($J$104:J143)-1,COLUMNS($J$104:J143)-1),\"\")","v":""},{"$f":"IF(OFFSET(DE104_9!$K$104,ROWS($K$104:K143)-1,COLUMNS($K$104:K143)-1)<>\"\",OFFSET(DE104_9!$K$104,ROWS($K$104:K143)-1,COLUMNS($K$104:K143)-1),\"\")","v":""},{"$f":"IF(OFFSET(DE104_9!$L$104,ROWS($L$104:L143)-1,COLUMNS($L$104:L143)-1)<>\"\",OFFSET(DE104_9!$L$104,ROWS($L$104:L143)-1,COLUMNS($L$104:L143)-1),\"\")","v":""},{"$f":"IF(OFFSET(DE104_9!$M$104,ROWS($M$104:M143)-1,COLUMNS($M$104:M143)-1)<>\"\",OFFSET(DE104_9!$M$104,ROWS($M$104:M143)-1,COLUMNS($M$104:M143)-1),\"\")","v":""},{"$f":"IF(OFFSET(DE104_9!$N$104,ROWS($N$104:N143)-1,COLUMNS($N$104:N143)-1)<>\"\",OFFSET(DE104_9!$N$104,ROWS($N$104:N143)-1,COLUMNS($N$104:N143)-1),\"\")","v":""},{"$f":"IF(OFFSET(DE104_9!$O$104,ROWS($O$104:O143)-1,COLUMNS($O$104:O143)-1)<>\"\",OFFSET(DE104_9!$O$104,ROWS($O$104:O143)-1,COLUMNS($O$104:O143)-1),\"\")","v":""},{"$f":"IF(OFFSET(DE104_9!$P$104,ROWS($P$104:P143)-1,COLUMNS($P$104:P143)-1)<>\"\",OFFSET(DE104_9!$P$104,ROWS($P$104:P143)-1,COLUMNS($P$104:P143)-1),\"\")","v":2147675},{"$f":"IF(OFFSET(DE104_9!$Q$104,ROWS($Q$104:Q143)-1,COLUMNS($Q$104:Q143)-1)<>\"\",OFFSET(DE104_9!$Q$104,ROWS($Q$104:Q143)-1,COLUMNS($Q$104:Q143)-1),\"\")","v":"DR-306"},{"$f":"IF(OFFSET(DE104_9!$R$104,ROWS($R$104:R143)-1,COLUMNS($R$104:R143)-1)<>\"\",OFFSET(DE104_9!$R$104,ROWS($R$104:R143)-1,COLUMNS($R$104:R143)-1),\"\")","v":" "},{"$f":"IF(OFFSET(DE104_9!$S$104,ROWS($S$104:S143)-1,COLUMNS($S$104:S143)-1)<>\"\",OFFSET(DE104_9!$S$104,ROWS($S$104:S143)-1,COLUMNS($S$104:S143)-1),\"\")","v":0.4},{"$f":"IF(OFFSET(DE104_9!$T$104,ROWS($T$104:T143)-1,COLUMNS($T$104:T143)-1)<>\"\",OFFSET(DE104_9!$T$104,ROWS($T$104:T143)-1,COLUMNS($T$104:T143)-1),\"\")","v":""}]
[{"$f":"IF(OFFSET(DE104_9!$C$104,ROWS($C$104:C144)-1,COLUMNS($C$104:C144)-1)<>\"\",OFFSET(DE104_9!$C$104,ROWS($C$104:C144)-1,COLUMNS($C$104:C144)-1),\"\")","v":63},{"$f":"IF(OFFSET(DE104_9!$D$104,ROWS($D$104:D144)-1,COLUMNS($D$104:D144)-1)<>\"\",OFFSET(DE104_9!$D$104,ROWS($D$104:D144)-1,COLUMNS($D$104:D144)-1),\"\")","v":"Loop B"},{"$f":"IF(OFFSET(DE104_9!$E$104,ROWS($E$104:E144)-1,COLUMNS($E$104:E144)-1)<>\"\",OFFSET(DE104_9!$E$104,ROWS($E$104:E144)-1,COLUMNS($E$104:E144)-1),\"\")","v":2147675},{"$f":"IF(OFFSET(DE104_9!$F$104,ROWS($F$104:F144)-1,COLUMNS($F$104:F144)-1)<>\"\",OFFSET(DE104_9!$F$104,ROWS($F$104:F144)-1,COLUMNS($F$104:F144)-1),\"\")","v":2147975.06},{"$f":"IF(OFFSET(DE104_9!$G$104,ROWS($G$104:G144)-1,COLUMNS($G$104:G144)-1)<>\"\",OFFSET(DE104_9!$G$104,ROWS($G$104:G144)-1,COLUMNS($G$104:G144)-1),\"\")","v":"RT"},{"$f":"IF(OFFSET(DE104_9!$H$104,ROWS($H$104:H144)-1,COLUMNS($H$104:H144)-1)<>\"\",OFFSET(DE104_9!$H$104,ROWS($H$104:H144)-1,COLUMNS($H$104:H144)-1),\"\")","v":42},{"$f":"IF(OFFSET(DE104_9!$I$104,ROWS($I$104:I144)-1,COLUMNS($I$104:I144)-1)<>\"\",OFFSET(DE104_9!$I$104,ROWS($I$104:I144)-1,COLUMNS($I$104:I144)-1),\"\")","v":4},{"$f":"IF(OFFSET(DE104_9!$J$104,ROWS($J$104:J144)-1,COLUMNS($J$104:J144)-1)<>\"\",OFFSET(DE104_9!$J$104,ROWS($J$104:J144)-1,COLUMNS($J$104:J144)-1),\"\")","v":340.06000000005588},{"$f":"IF(OFFSET(DE104_9!$K$104,ROWS($K$104:K144)-1,COLUMNS($K$104:K144)-1)<>\"\",OFFSET(DE104_9!$K$104,ROWS($K$104:K144)-1,COLUMNS($K$104:K144)-1),\"\")","v":""},{"$f":"IF(OFFSET(DE104_9!$L$104,ROWS($L$104:L144)-1,COLUMNS($L$104:L144)-1)<>\"\",OFFSET(DE104_9!$L$104,ROWS($L$104:L144)-1,COLUMNS($L$104:L144)-1),\"\")","v":""},{"$f":"IF(OFFSET(DE104_9!$M$104,ROWS($M$104:M144)-1,COLUMNS($M$104:M144)-1)<>\"\",OFFSET(DE104_9!$M$104,ROWS($M$104:M144)-1,COLUMNS($M$104:M144)-1),\"\")","v":""},{"$f":"IF(OFFSET(DE104_9!$N$104,ROWS($N$104:N144)-1,COLUMNS($N$104:N144)-1)<>\"\",OFFSET(DE104_9!$N$104,ROWS($N$104:N144)-1,COLUMNS($N$104:N144)-1),\"\")","v":""},{"$f":"IF(OFFSET(DE104_9!$O$104,ROWS($O$104:O144)-1,COLUMNS($O$104:O144)-1)<>\"\",OFFSET(DE104_9!$O$104,ROWS($O$104:O144)-1,COLUMNS($O$104:O144)-1),\"\")","v":""},{"$f":"IF(OFFSET(DE104_9!$P$104,ROWS($P$104:P144)-1,COLUMNS($P$104:P144)-1)<>\"\",OFFSET(DE104_9!$P$104,ROWS($P$104:P144)-1,COLUMNS($P$104:P144)-1),\"\")","v":2147675},{"$f":"IF(OFFSET(DE104_9!$Q$104,ROWS($Q$104:Q144)-1,COLUMNS($Q$104:Q144)-1)<>\"\",OFFSET(DE104_9!$Q$104,ROWS($Q$104:Q144)-1,COLUMNS($Q$104:Q144)-1),\"\")","v":"DR-306"},{"$f":"IF(OFFSET(DE104_9!$R$104,ROWS($R$104:R144)-1,COLUMNS($R$104:R144)-1)<>\"\",OFFSET(DE104_9!$R$104,ROWS($R$104:R144)-1,COLUMNS($R$104:R144)-1),\"\")","v":31.5},{"$f":"IF(OFFSET(DE104_9!$S$104,ROWS($S$104:S144)-1,COLUMNS($S$104:S144)-1)<>\"\",OFFSET(DE104_9!$S$104,ROWS($S$104:S144)-1,COLUMNS($S$104:S144)-1),\"\")","v":0.4},{"$f":"IF(OFFSET(DE104_9!$T$104,ROWS($T$104:T144)-1,COLUMNS($T$104:T144)-1)<>\"\",OFFSET(DE104_9!$T$104,ROWS($T$104:T144)-1,COLUMNS($T$104:T144)-1),\"\")","v":""}]
[{"$f":"IF(OFFSET(DE104_9!$C$104,ROWS($C$104:C145)-1,COLUMNS($C$104:C145)-1)<>\"\",OFFSET(DE104_9!$C$104,ROWS($C$104:C145)-1,COLUMNS($C$104:C145)-1),\"\")","v":""},{"$f":"IF(OFFSET(DE104_9!$D$104,ROWS($D$104:D145)-1,COLUMNS($D$104:D145)-1)<>\"\",OFFSET(DE104_9!$D$104,ROWS($D$104:D145)-1,COLUMNS($D$104:D145)-1),\"\")","v":""},{"$f":"IF(OFFSET(DE104_9!$E$104,ROWS($E$104:E145)-1,COLUMNS($E$104:E145)-1)<>\"\",OFFSET(DE104_9!$E$104,ROWS($E$104:E145)-1,COLUMNS($E$104:E145)-1),\"\")","v":""},{"$f":"IF(OFFSET(DE104_9!$F$104,ROWS($F$104:F145)-1,COLUMNS($F$104:F145)-1)<>\"\",OFFSET(DE104_9!$F$104,ROWS($F$104:F145)-1,COLUMNS($F$104:F145)-1),\"\")","v":""},{"$f":"IF(OFFSET(DE104_9!$G$104,ROWS($G$104:G145)-1,COLUMNS($G$104:G145)-1)<>\"\",OFFSET(DE104_9!$G$104,ROWS($G$104:G145)-1,COLUMNS($G$104:G145)-1),\"\")","v":""},{"$f":"IF(OFFSET(DE104_9!$H$104,ROWS($H$104:H145)-1,COLUMNS($H$104:H145)-1)<>\"\",OFFSET(DE104_9!$H$104,ROWS($H$104:H145)-1,COLUMNS($H$104:H145)-1),\"\")","v":""},{"$f":"IF(OFFSET(DE104_9!$I$104,ROWS($I$104:I145)-1,COLUMNS($I$104:I145)-1)<>\"\",OFFSET(DE104_9!$I$104,ROWS($I$104:I145)-1,COLUMNS($I$104:I145)-1),\"\")","v":""},{"$f":"IF(OFFSET(DE104_9!$J$104,ROWS($J$104:J145)-1,COLUMNS($J$104:J145)-1)<>\"\",OFFSET(DE104_9!$J$104,ROWS($J$104:J145)-1,COLUMNS($J$104:J145)-1),\"\")","v":""},{"$f":"IF(OFFSET(DE104_9!$K$104,ROWS($K$104:K145)-1,COLUMNS($K$104:K145)-1)<>\"\",OFFSET(DE104_9!$K$104,ROWS($K$104:K145)-1,COLUMNS($K$104:K145)-1),\"\")","v":""},{"$f":"IF(OFFSET(DE104_9!$L$104,ROWS($L$104:L145)-1,COLUMNS($L$104:L145)-1)<>\"\",OFFSET(DE104_9!$L$104,ROWS($L$104:L145)-1,COLUMNS($L$104:L145)-1),\"\")","v":""},{"$f":"IF(OFFSET(DE104_9!$M$104,ROWS($M$104:M145)-1,COLUMNS($M$104:M145)-1)<>\"\",OFFSET(DE104_9!$M$104,ROWS($M$104:M145)-1,COLUMNS($M$104:M145)-1),\"\")","v":""},{"$f":"IF(OFFSET(DE104_9!$N$104,ROWS($N$104:N145)-1,COLUMNS($N$104:N145)-1)<>\"\",OFFSET(DE104_9!$N$104,ROWS($N$104:N145)-1,COLUMNS($N$104:N145)-1),\"\")","v":""},{"$f":"IF(OFFSET(DE104_9!$O$104,ROWS($O$104:O145)-1,COLUMNS($O$104:O145)-1)<>\"\",OFFSET(DE104_9!$O$104,ROWS($O$104:O145)-1,COLUMNS($O$104:O145)-1),\"\")","v":""},{"$f":"IF(OFFSET(DE104_9!$P$104,ROWS($P$104:P145)-1,COLUMNS($P$104:P145)-1)<>\"\",OFFSET(DE104_9!$P$104,ROWS($P$104:P145)-1,COLUMNS($P$104:P145)-1),\"\")","v":2147975.06},{"$f":"IF(OFFSET(DE104_9!$Q$104,ROWS($Q$104:Q145)-1,COLUMNS($Q$104:Q145)-1)<>\"\",OFFSET(DE104_9!$Q$104,ROWS($Q$104:Q145)-1,COLUMNS($Q$104:Q145)-1),\"\")","v":"DR-306"},{"$f":"IF(OFFSET(DE104_9!$R$104,ROWS($R$104:R145)-1,COLUMNS($R$104:R145)-1)<>\"\",OFFSET(DE104_9!$R$104,ROWS($R$104:R145)-1,COLUMNS($R$104:R145)-1),\"\")","v":""},{"$f":"IF(OFFSET(DE104_9!$S$104,ROWS($S$104:S145)-1,COLUMNS($S$104:S145)-1)<>\"\",OFFSET(DE104_9!$S$104,ROWS($S$104:S145)-1,COLUMNS($S$104:S145)-1),\"\")","v":0.4},{"$f":"IF(OFFSET(DE104_9!$T$104,ROWS($T$104:T145)-1,COLUMNS($T$104:T145)-1)<>\"\",OFFSET(DE104_9!$T$104,ROWS($T$104:T145)-1,COLUMNS($T$104:T145)-1),\"\")","v":""}]
[{"$f":"IF(OFFSET(DE104_9!$C$104,ROWS($C$104:C146)-1,COLUMNS($C$104:C146)-1)<>\"\",OFFSET(DE104_9!$C$104,ROWS($C$104:C146)-1,COLUMNS($C$104:C146)-1),\"\")","v":64},{"$f":"IF(OFFSET(DE104_9!$D$104,ROWS($D$104:D146)-1,COLUMNS($D$104:D146)-1)<>\"\",OFFSET(DE104_9!$D$104,ROWS($D$104:D146)-1,COLUMNS($D$104:D146)-1),\"\")","v":"Ramp C"},{"$f":"IF(OFFSET(DE104_9!$E$104,ROWS($E$104:E146)-1,COLUMNS($E$104:E146)-1)<>\"\",OFFSET(DE104_9!$E$104,ROWS($E$104:E146)-1,COLUMNS($E$104:E146)-1),\"\")","v":3144100},{"$f":"IF(OFFSET(DE104_9!$F$104,ROWS($F$104:F146)-1,COLUMNS($F$104:F146)-1)<>\"\",OFFSET(DE104_9!$F$104,ROWS($F$104:F146)-1,COLUMNS($F$104:F146)-1),\"\")","v":3144370},{"$f":"IF(OFFSET(DE104_9!$G$104,ROWS($G$104:G146)-1,COLUMNS($G$104:G146)-1)<>\"\",OFFSET(DE104_9!$G$104,ROWS($G$104:G146)-1,COLUMNS($G$104:G146)-1),\"\")","v":"LT"},{"$f":"IF(OFFSET(DE104_9!$H$104,ROWS($H$104:H146)-1,COLUMNS($H$104:H146)-1)<>\"\",OFFSET(DE104_9!$H$104,ROWS($H$104:H146)-1,COLUMNS($H$104:H146)-1),\"\")","v":42},{"$f":"IF(OFFSET(DE104_9!$I$104,ROWS($I$104:I146)-1,COLUMNS($I$104:I146)-1)<>\"\",OFFSET(DE104_9!$I$104,ROWS($I$104:I146)-1,COLUMNS($I$104:I146)-1),\"\")","v":4},{"$f":"IF(OFFSET(DE104_9!$J$104,ROWS($J$104:J146)-1,COLUMNS($J$104:J146)-1)<>\"\",OFFSET(DE104_9!$J$104,ROWS($J$104:J146)-1,COLUMNS($J$104:J146)-1),\"\")","v":310},{"$f":"IF(OFFSET(DE104_9!$K$104,ROWS($K$104:K146)-1,COLUMNS($K$104:K146)-1)<>\"\",OFFSET(DE104_9!$K$104,ROWS($K$104:K146)-1,COLUMNS($K$104:K146)-1),\"\")","v":""},{"$f":"IF(OFFSET(DE104_9!$L$104,ROWS($L$104:L146)-1,COLUMNS($L$104:L146)-1)<>\"\",OFFSET(DE104_9!$L$104,ROWS($L$104:L146)-1,COLUMNS($L$104:L146)-1),\"\")","v":""},{"$f":"IF(OFFSET(DE104_9!$M$104,ROWS($M$104:M146)-1,COLUMNS($M$104:M146)-1)<>\"\",OFFSET(DE104_9!$M$104,ROWS($M$104:M146)-1,COLUMNS($M$104:M146)-1),\"\")","v":""},{"$f":"IF(OFFSET(DE104_9!$N$104,ROWS($N$104:N146)-1,COLUMNS($N$104:N146)-1)<>\"\",OFFSET(DE104_9!$N$104,ROWS($N$104:N146)-1,COLUMNS($N$104:N146)-1),\"\")","v":""},{"$f":"IF(OFFSET(DE104_9!$O$104,ROWS($O$104:O146)-1,COLUMNS($O$104:O146)-1)<>\"\",OFFSET(DE104_9!$O$104,ROWS($O$104:O146)-1,COLUMNS($O$104:O146)-1),\"\")","v":""},{"$f":"IF(OFFSET(DE104_9!$P$104,ROWS($P$104:P146)-1,COLUMNS($P$104:P146)-1)<>\"\",OFFSET(DE104_9!$P$104,ROWS($P$104:P146)-1,COLUMNS($P$104:P146)-1),\"\")","v":3144100},{"$f":"IF(OFFSET(DE104_9!$Q$104,ROWS($Q$104:Q146)-1,COLUMNS($Q$104:Q146)-1)<>\"\",OFFSET(DE104_9!$Q$104,ROWS($Q$104:Q146)-1,COLUMNS($Q$104:Q146)-1),\"\")","v":"DR-306"},{"$f":"IF(OFFSET(DE104_9!$R$104,ROWS($R$104:R146)-1,COLUMNS($R$104:R146)-1)<>\"\",OFFSET(DE104_9!$R$104,ROWS($R$104:R146)-1,COLUMNS($R$104:R146)-1),\"\")","v":28.7},{"$f":"IF(OFFSET(DE104_9!$S$104,ROWS($S$104:S146)-1,COLUMNS($S$104:S146)-1)<>\"\",OFFSET(DE104_9!$S$104,ROWS($S$104:S146)-1,COLUMNS($S$104:S146)-1),\"\")","v":0.4},{"$f":"IF(OFFSET(DE104_9!$T$104,ROWS($T$104:T146)-1,COLUMNS($T$104:T146)-1)<>\"\",OFFSET(DE104_9!$T$104,ROWS($T$104:T146)-1,COLUMNS($T$104:T146)-1),\"\")","v":"RAMP C AND LOOP B TAPER"}]
[{"$f":"IF(OFFSET(DE104_9!$C$104,ROWS($C$104:C147)-1,COLUMNS($C$104:C147)-1)<>\"\",OFFSET(DE104_9!$C$104,ROWS($C$104:C147)-1,COLUMNS($C$104:C147)-1),\"\")","v":""},{"$f":"IF(OFFSET(DE104_9!$D$104,ROWS($D$104:D147)-1,COLUMNS($D$104:D147)-1)<>\"\",OFFSET(DE104_9!$D$104,ROWS($D$104:D147)-1,COLUMNS($D$104:D147)-1),\"\")","v":""},{"$f":"IF(OFFSET(DE104_9!$E$104,ROWS($E$104:E147)-1,COLUMNS($E$104:E147)-1)<>\"\",OFFSET(DE104_9!$E$104,ROWS($E$104:E147)-1,COLUMNS($E$104:E147)-1),\"\")","v":""},{"$f":"IF(OFFSET(DE104_9!$F$104,ROWS($F$104:F147)-1,COLUMNS($F$104:F147)-1)<>\"\",OFFSET(DE104_9!$F$104,ROWS($F$104:F147)-1,COLUMNS($F$104:F147)-1),\"\")","v":""},{"$f":"IF(OFFSET(DE104_9!$G$104,ROWS($G$104:G147)-1,COLUMNS($G$104:G147)-1)<>\"\",OFFSET(DE104_9!$G$104,ROWS($G$104:G147)-1,COLUMNS($G$104:G147)-1),\"\")","v":""},{"$f":"IF(OFFSET(DE104_9!$H$104,ROWS($H$104:H147)-1,COLUMNS($H$104:H147)-1)<>\"\",OFFSET(DE104_9!$H$104,ROWS($H$104:H147)-1,COLUMNS($H$104:H147)-1),\"\")","v":" "},{"$f":"IF(OFFSET(DE104_9!$I$104,ROWS($I$104:I147)-1,COLUMNS($I$104:I147)-1)<>\"\",OFFSET(DE104_9!$I$104,ROWS($I$104:I147)-1,COLUMNS($I$104:I147)-1),\"\")","v":""},{"$f":"IF(OFFSET(DE104_9!$J$104,ROWS($J$104:J147)-1,COLUMNS($J$104:J147)-1)<>\"\",OFFSET(DE104_9!$J$104,ROWS($J$104:J147)-1,COLUMNS($J$104:J147)-1),\"\")","v":""},{"$f":"IF(OFFSET(DE104_9!$K$104,ROWS($K$104:K147)-1,COLUMNS($K$104:K147)-1)<>\"\",OFFSET(DE104_9!$K$104,ROWS($K$104:K147)-1,COLUMNS($K$104:K147)-1),\"\")","v":""},{"$f":"IF(OFFSET(DE104_9!$L$104,ROWS($L$104:L147)-1,COLUMNS($L$104:L147)-1)<>\"\",OFFSET(DE104_9!$L$104,ROWS($L$104:L147)-1,COLUMNS($L$104:L147)-1),\"\")","v":""},{"$f":"IF(OFFSET(DE104_9!$M$104,ROWS($M$104:M147)-1,COLUMNS($M$104:M147)-1)<>\"\",OFFSET(DE104_9!$M$104,ROWS($M$104:M147)-1,COLUMNS($M$104:M147)-1),\"\")","v":""},{"$f":"IF(OFFSET(DE104_9!$N$104,ROWS($N$104:N147)-1,COLUMNS($N$104:N147)-1)<>\"\",OFFSET(DE104_9!$N$104,ROWS($N$104:N147)-1,COLUMNS($N$104:N147)-1),\"\")","v":""},{"$f":"IF(OFFSET(DE104_9!$O$104,ROWS($O$104:O147)-1,COLUMNS($O$104:O147)-1)<>\"\",OFFSET(DE104_9!$O$104,ROWS($O$104:O147)-1,COLUMNS($O$104:O147)-1),\"\")","v":""},{"$f":"IF(OFFSET(DE104_9!$P$104,ROWS($P$104:P147)-1,COLUMNS($P$104:P147)-1)<>\"\",OFFSET(DE104_9!$P$104,ROWS($P$104:P147)-1,COLUMNS($P$104:P147)-1),\"\")","v":3144370},{"$f":"IF(OFFSET(DE104_9!$Q$104,ROWS($Q$104:Q147)-1,COLUMNS($Q$104:Q147)-1)<>\"\",OFFSET(DE104_9!$Q$104,ROWS($Q$104:Q147)-1,COLUMNS($Q$104:Q147)-1),\"\")","v":"DR-306"},{"$f":"IF(OFFSET(DE104_9!$R$104,ROWS($R$104:R147)-1,COLUMNS($R$104:R147)-1)<>\"\",OFFSET(DE104_9!$R$104,ROWS($R$104:R147)-1,COLUMNS($R$104:R147)-1),\"\")","v":" "},{"$f":"IF(OFFSET(DE104_9!$S$104,ROWS($S$104:S147)-1,COLUMNS($S$104:S147)-1)<>\"\",OFFSET(DE104_9!$S$104,ROWS($S$104:S147)-1,COLUMNS($S$104:S147)-1),\"\")","v":0.4},{"$f":"IF(OFFSET(DE104_9!$T$104,ROWS($T$104:T147)-1,COLUMNS($T$104:T147)-1)<>\"\",OFFSET(DE104_9!$T$104,ROWS($T$104:T147)-1,COLUMNS($T$104:T147)-1),\"\")","v":""}]
[{"$f":"IF(OFFSET(DE104_9!$C$104,ROWS($C$104:C148)-1,COLUMNS($C$104:C148)-1)<>\"\",OFFSET(DE104_9!$C$104,ROWS($C$104:C148)-1,COLUMNS($C$104:C148)-1),\"\")","v":65},{"$f":"IF(OFFSET(DE104_9!$D$104,ROWS($D$104:D148)-1,COLUMNS($D$104:D148)-1)<>\"\",OFFSET(DE104_9!$D$104,ROWS($D$104:D148)-1,COLUMNS($D$104:D148)-1),\"\")","v":"Ramp C"},{"$f":"IF(OFFSET(DE104_9!$E$104,ROWS($E$104:E148)-1,COLUMNS($E$104:E148)-1)<>\"\",OFFSET(DE104_9!$E$104,ROWS($E$104:E148)-1,COLUMNS($E$104:E148)-1),\"\")","v":3144375},{"$f":"IF(OFFSET(DE104_9!$F$104,ROWS($F$104:F148)-1,COLUMNS($F$104:F148)-1)<>\"\",OFFSET(DE104_9!$F$104,ROWS($F$104:F148)-1,COLUMNS($F$104:F148)-1),\"\")","v":3144775},{"$f":"IF(OFFSET(DE104_9!$G$104,ROWS($G$104:G148)-1,COLUMNS($G$104:G148)-1)<>\"\",OFFSET(DE104_9!$G$104,ROWS($G$104:G148)-1,COLUMNS($G$104:G148)-1),\"\")","v":"LT"},{"$f":"IF(OFFSET(DE104_9!$H$104,ROWS($H$104:H148)-1,COLUMNS($H$104:H148)-1)<>\"\",OFFSET(DE104_9!$H$104,ROWS($H$104:H148)-1,COLUMNS($H$104:H148)-1),\"\")","v":42},{"$f":"IF(OFFSET(DE104_9!$I$104,ROWS($I$104:I148)-1,COLUMNS($I$104:I148)-1)<>\"\",OFFSET(DE104_9!$I$104,ROWS($I$104:I148)-1,COLUMNS($I$104:I148)-1),\"\")","v":4},{"$f":"IF(OFFSET(DE104_9!$J$104,ROWS($J$104:J148)-1,COLUMNS($J$104:J148)-1)<>\"\",OFFSET(DE104_9!$J$104,ROWS($J$104:J148)-1,COLUMNS($J$104:J148)-1),\"\")","v":440},{"$f":"IF(OFFSET(DE104_9!$K$104,ROWS($K$104:K148)-1,COLUMNS($K$104:K148)-1)<>\"\",OFFSET(DE104_9!$K$104,ROWS($K$104:K148)-1,COLUMNS($K$104:K148)-1),\"\")","v":""},{"$f":"IF(OFFSET(DE104_9!$L$104,ROWS($L$104:L148)-1,COLUMNS($L$104:L148)-1)<>\"\",OFFSET(DE104_9!$L$104,ROWS($L$104:L148)-1,COLUMNS($L$104:L148)-1),\"\")","v":""},{"$f":"IF(OFFSET(DE104_9!$M$104,ROWS($M$104:M148)-1,COLUMNS($M$104:M148)-1)<>\"\",OFFSET(DE104_9!$M$104,ROWS($M$104:M148)-1,COLUMNS($M$104:M148)-1),\"\")","v":""},{"$f":"IF(OFFSET(DE104_9!$N$104,ROWS($N$104:N148)-1,COLUMNS($N$104:N148)-1)<>\"\",OFFSET(DE104_9!$N$104,ROWS($N$104:N148)-1,COLUMNS($N$104:N148)-1),\"\")","v":""},{"$f":"IF(OFFSET(DE104_9!$O$104,ROWS($O$104:O148)-1,COLUMNS($O$104:O148)-1)<>\"\",OFFSET(DE104_9!$O$104,ROWS($O$104:O148)-1,COLUMNS($O$104:O148)-1),\"\")","v":""},{"$f":"IF(OFFSET(DE104_9!$P$104,ROWS($P$104:P148)-1,COLUMNS($P$104:P148)-1)<>\"\",OFFSET(DE104_9!$P$104,ROWS($P$104:P148)-1,COLUMNS($P$104:P148)-1),\"\")","v":3144775},{"$f":"IF(OFFSET(DE104_9!$Q$104,ROWS($Q$104:Q148)-1,COLUMNS($Q$104:Q148)-1)<>\"\",OFFSET(DE104_9!$Q$104,ROWS($Q$104:Q148)-1,COLUMNS($Q$104:Q148)-1),\"\")","v":"DR-306"},{"$f":"IF(OFFSET(DE104_9!$R$104,ROWS($R$104:R148)-1,COLUMNS($R$104:R148)-1)<>\"\",OFFSET(DE104_9!$R$104,ROWS($R$104:R148)-1,COLUMNS($R$104:R148)-1),\"\")","v":40.700000000000003},{"$f":"IF(OFFSET(DE104_9!$S$104,ROWS($S$104:S148)-1,COLUMNS($S$104:S148)-1)<>\"\",OFFSET(DE104_9!$S$104,ROWS($S$104:S148)-1,COLUMNS($S$104:S148)-1),\"\")","v":0.4},{"$f":"IF(OFFSET(DE104_9!$T$104,ROWS($T$104:T148)-1,COLUMNS($T$104:T148)-1)<>\"\",OFFSET(DE104_9!$T$104,ROWS($T$104:T148)-1,COLUMNS($T$104:T148)-1),\"\")","v":"SINGLE OUTLET"}]
[{"$f":"IF(OFFSET(DE104_9!$C$104,ROWS($C$104:C149)-1,COLUMNS($C$104:C149)-1)<>\"\",OFFSET(DE104_9!$C$104,ROWS($C$104:C149)-1,COLUMNS($C$104:C149)-1),\"\")","v":66},{"$f":"IF(OFFSET(DE104_9!$D$104,ROWS($D$104:D149)-1,COLUMNS($D$104:D149)-1)<>\"\",OFFSET(DE104_9!$D$104,ROWS($D$104:D149)-1,COLUMNS($D$104:D149)-1),\"\")","v":"Ramp C"},{"$f":"IF(OFFSET(DE104_9!$E$104,ROWS($E$104:E149)-1,COLUMNS($E$104:E149)-1)<>\"\",OFFSET(DE104_9!$E$104,ROWS($E$104:E149)-1,COLUMNS($E$104:E149)-1),\"\")","v":3144775},{"$f":"IF(OFFSET(DE104_9!$F$104,ROWS($F$104:F149)-1,COLUMNS($F$104:F149)-1)<>\"\",OFFSET(DE104_9!$F$104,ROWS($F$104:F149)-1,COLUMNS($F$104:F149)-1),\"\")","v":3145210},{"$f":"IF(OFFSET(DE104_9!$G$104,ROWS($G$104:G149)-1,COLUMNS($G$104:G149)-1)<>\"\",OFFSET(DE104_9!$G$104,ROWS($G$104:G149)-1,COLUMNS($G$104:G149)-1),\"\")","v":"RT"},{"$f":"IF(OFFSET(DE104_9!$H$104,ROWS($H$104:H149)-1,COLUMNS($H$104:H149)-1)<>\"\",OFFSET(DE104_9!$H$104,ROWS($H$104:H149)-1,COLUMNS($H$104:H149)-1),\"\")","v":42},{"$f":"IF(OFFSET(DE104_9!$I$104,ROWS($I$104:I149)-1,COLUMNS($I$104:I149)-1)<>\"\",OFFSET(DE104_9!$I$104,ROWS($I$104:I149)-1,COLUMNS($I$104:I149)-1),\"\")","v":4},{"$f":"IF(OFFSET(DE104_9!$J$104,ROWS($J$104:J149)-1,COLUMNS($J$104:J149)-1)<>\"\",OFFSET(DE104_9!$J$104,ROWS($J$104:J149)-1,COLUMNS($J$104:J149)-1),\"\")","v":475},{"$f":"IF(OFFSET(DE104_9!$K$104,ROWS($K$104:K149)-1,COLUMNS($K$104:K149)-1)<>\"\",OFFSET(DE104_9!$K$104,ROWS($K$104:K149)-1,COLUMNS($K$104:K149)-1),\"\")","v":""},{"$f":"IF(OFFSET(DE104_9!$L$104,ROWS($L$104:L149)-1,COLUMNS($L$104:L149)-1)<>\"\",OFFSET(DE104_9!$L$104,ROWS($L$104:L149)-1,COLUMNS($L$104:L149)-1),\"\")","v":""},{"$f":"IF(OFFSET(DE104_9!$M$104,ROWS($M$104:M149)-1,COLUMNS($M$104:M149)-1)<>\"\",OFFSET(DE104_9!$M$104,ROWS($M$104:M149)-1,COLUMNS($M$104:M149)-1),\"\")","v":""},{"$f":"IF(OFFSET(DE104_9!$N$104,ROWS($N$104:N149)-1,COLUMNS($N$104:N149)-1)<>\"\",OFFSET(DE104_9!$N$104,ROWS($N$104:N149)-1,COLUMNS($N$104:N149)-1),\"\")","v":""},{"$f":"IF(OFFSET(DE104_9!$O$104,ROWS($O$104:O149)-1,COLUMNS($O$104:O149)-1)<>\"\",OFFSET(DE104_9!$O$104,ROWS($O$104:O149)-1,COLUMNS($O$104:O149)-1),\"\")","v":""},{"$f":"IF(OFFSET(DE104_9!$P$104,ROWS($P$104:P149)-1,COLUMNS($P$104:P149)-1)<>\"\",OFFSET(DE104_9!$P$104,ROWS($P$104:P149)-1,COLUMNS($P$104:P149)-1),\"\")","v":3144775},{"$f":"IF(OFFSET(DE104_9!$Q$104,ROWS($Q$104:Q149)-1,COLUMNS($Q$104:Q149)-1)<>\"\",OFFSET(DE104_9!$Q$104,ROWS($Q$104:Q149)-1,COLUMNS($Q$104:Q149)-1),\"\")","v":"DR-306"},{"$f":"IF(OFFSET(DE104_9!$R$104,ROWS($R$104:R149)-1,COLUMNS($R$104:R149)-1)<>\"\",OFFSET(DE104_9!$R$104,ROWS($R$104:R149)-1,COLUMNS($R$104:R149)-1),\"\")","v":44},{"$f":"IF(OFFSET(DE104_9!$S$104,ROWS($S$104:S149)-1,COLUMNS($S$104:S149)-1)<>\"\",OFFSET(DE104_9!$S$104,ROWS($S$104:S149)-1,COLUMNS($S$104:S149)-1),\"\")","v":0.4},{"$f":"IF(OFFSET(DE104_9!$T$104,ROWS($T$104:T149)-1,COLUMNS($T$104:T149)-1)<>\"\",OFFSET(DE104_9!$T$104,ROWS($T$104:T149)-1,COLUMNS($T$104:T149)-1),\"\")","v":"SUPERELEV. CHANGE - OUTLET RIGHT"}]
[{"$f":"IF(OFFSET(DE104_9!$C$104,ROWS($C$104:C150)-1,COLUMNS($C$104:C150)-1)<>\"\",OFFSET(DE104_9!$C$104,ROWS($C$104:C150)-1,COLUMNS($C$104:C150)-1),\"\")","v":""},{"$f":"IF(OFFSET(DE104_9!$D$104,ROWS($D$104:D150)-1,COLUMNS($D$104:D150)-1)<>\"\",OFFSET(DE104_9!$D$104,ROWS($D$104:D150)-1,COLUMNS($D$104:D150)-1),\"\")","v":""},{"$f":"IF(OFFSET(DE104_9!$E$104,ROWS($E$104:E150)-1,COLUMNS($E$104:E150)-1)<>\"\",OFFSET(DE104_9!$E$104,ROWS($E$104:E150)-1,COLUMNS($E$104:E150)-1),\"\")","v":""},{"$f":"IF(OFFSET(DE104_9!$F$104,ROWS($F$104:F150)-1,COLUMNS($F$104:F150)-1)<>\"\",OFFSET(DE104_9!$F$104,ROWS($F$104:F150)-1,COLUMNS($F$104:F150)-1),\"\")","v":""},{"$f":"IF(OFFSET(DE104_9!$G$104,ROWS($G$104:G150)-1,COLUMNS($G$104:G150)-1)<>\"\",OFFSET(DE104_9!$G$104,ROWS($G$104:G150)-1,COLUMNS($G$104:G150)-1),\"\")","v":""},{"$f":"IF(OFFSET(DE104_9!$H$104,ROWS($H$104:H150)-1,COLUMNS($H$104:H150)-1)<>\"\",OFFSET(DE104_9!$H$104,ROWS($H$104:H150)-1,COLUMNS($H$104:H150)-1),\"\")","v":" "},{"$f":"IF(OFFSET(DE104_9!$I$104,ROWS($I$104:I150)-1,COLUMNS($I$104:I150)-1)<>\"\",OFFSET(DE104_9!$I$104,ROWS($I$104:I150)-1,COLUMNS($I$104:I150)-1),\"\")","v":""},{"$f":"IF(OFFSET(DE104_9!$J$104,ROWS($J$104:J150)-1,COLUMNS($J$104:J150)-1)<>\"\",OFFSET(DE104_9!$J$104,ROWS($J$104:J150)-1,COLUMNS($J$104:J150)-1),\"\")","v":""},{"$f":"IF(OFFSET(DE104_9!$K$104,ROWS($K$104:K150)-1,COLUMNS($K$104:K150)-1)<>\"\",OFFSET(DE104_9!$K$104,ROWS($K$104:K150)-1,COLUMNS($K$104:K150)-1),\"\")","v":""},{"$f":"IF(OFFSET(DE104_9!$L$104,ROWS($L$104:L150)-1,COLUMNS($L$104:L150)-1)<>\"\",OFFSET(DE104_9!$L$104,ROWS($L$104:L150)-1,COLUMNS($L$104:L150)-1),\"\")","v":""},{"$f":"IF(OFFSET(DE104_9!$M$104,ROWS($M$104:M150)-1,COLUMNS($M$104:M150)-1)<>\"\",OFFSET(DE104_9!$M$104,ROWS($M$104:M150)-1,COLUMNS($M$104:M150)-1),\"\")","v":""},{"$f":"IF(OFFSET(DE104_9!$N$104,ROWS($N$104:N150)-1,COLUMNS($N$104:N150)-1)<>\"\",OFFSET(DE104_9!$N$104,ROWS($N$104:N150)-1,COLUMNS($N$104:N150)-1),\"\")","v":""},{"$f":"IF(OFFSET(DE104_9!$O$104,ROWS($O$104:O150)-1,COLUMNS($O$104:O150)-1)<>\"\",OFFSET(DE104_9!$O$104,ROWS($O$104:O150)-1,COLUMNS($O$104:O150)-1),\"\")","v":""},{"$f":"IF(OFFSET(DE104_9!$P$104,ROWS($P$104:P150)-1,COLUMNS($P$104:P150)-1)<>\"\",OFFSET(DE104_9!$P$104,ROWS($P$104:P150)-1,COLUMNS($P$104:P150)-1),\"\")","v":3145210},{"$f":"IF(OFFSET(DE104_9!$Q$104,ROWS($Q$104:Q150)-1,COLUMNS($Q$104:Q150)-1)<>\"\",OFFSET(DE104_9!$Q$104,ROWS($Q$104:Q150)-1,COLUMNS($Q$104:Q150)-1),\"\")","v":"DR-306"},{"$f":"IF(OFFSET(DE104_9!$R$104,ROWS($R$104:R150)-1,COLUMNS($R$104:R150)-1)<>\"\",OFFSET(DE104_9!$R$104,ROWS($R$104:R150)-1,COLUMNS($R$104:R150)-1),\"\")","v":" "},{"$f":"IF(OFFSET(DE104_9!$S$104,ROWS($S$104:S150)-1,COLUMNS($S$104:S150)-1)<>\"\",OFFSET(DE104_9!$S$104,ROWS($S$104:S150)-1,COLUMNS($S$104:S150)-1),\"\")","v":0.4},{"$f":"IF(OFFSET(DE104_9!$T$104,ROWS($T$104:T150)-1,COLUMNS($T$104:T150)-1)<>\"\",OFFSET(DE104_9!$T$104,ROWS($T$104:T150)-1,COLUMNS($T$104:T150)-1),\"\")","v":""}]
[{"$f":"IF(OFFSET(DE104_9!$C$104,ROWS($C$104:C151)-1,COLUMNS($C$104:C151)-1)<>\"\",OFFSET(DE104_9!$C$104,ROWS($C$104:C151)-1,COLUMNS($C$104:C151)-1),\"\")","v":67},{"$f":"IF(OFFSET(DE104_9!$D$104,ROWS($D$104:D151)-1,COLUMNS($D$104:D151)-1)<>\"\",OFFSET(DE104_9!$D$104,ROWS($D$104:D151)-1,COLUMNS($D$104:D151)-1),\"\")","v":"Ramp C"},{"$f":"IF(OFFSET(DE104_9!$E$104,ROWS($E$104:E151)-1,COLUMNS($E$104:E151)-1)<>\"\",OFFSET(DE104_9!$E$104,ROWS($E$104:E151)-1,COLUMNS($E$104:E151)-1),\"\")","v":3145210},{"$f":"IF(OFFSET(DE104_9!$F$104,ROWS($F$104:F151)-1,COLUMNS($F$104:F151)-1)<>\"\",OFFSET(DE104_9!$F$104,ROWS($F$104:F151)-1,COLUMNS($F$104:F151)-1),\"\")","v":3145370},{"$f":"IF(OFFSET(DE104_9!$G$104,ROWS($G$104:G151)-1,COLUMNS($G$104:G151)-1)<>\"\",OFFSET(DE104_9!$G$104,ROWS($G$104:G151)-1,COLUMNS($G$104:G151)-1),\"\")","v":"RT"},{"$f":"IF(OFFSET(DE104_9!$H$104,ROWS($H$104:H151)-1,COLUMNS($H$104:H151)-1)<>\"\",OFFSET(DE104_9!$H$104,ROWS($H$104:H151)-1,COLUMNS($H$104:H151)-1),\"\")","v":42},{"$f":"IF(OFFSET(DE104_9!$I$104,ROWS($I$104:I151)-1,COLUMNS($I$104:I151)-1)<>\"\",OFFSET(DE104_9!$I$104,ROWS($I$104:I151)-1,COLUMNS($I$104:I151)-1),\"\")","v":4},{"$f":"IF(OFFSET(DE104_9!$J$104,ROWS($J$104:J151)-1,COLUMNS($J$104:J151)-1)<>\"\",OFFSET(DE104_9!$J$104,ROWS($J$104:J151)-1,COLUMNS($J$104:J151)-1),\"\")","v":200},{"$f":"IF(OFFSET(DE104_9!$K$104,ROWS($K$104:K151)-1,COLUMNS($K$104:K151)-1)<>\"\",OFFSET(DE104_9!$K$104,ROWS($K$104:K151)-1,COLUMNS($K$104:K151)-1),\"\")","v":""},{"$f":"IF(OFFSET(DE104_9!$L$104,ROWS($L$104:L151)-1,COLUMNS($L$104:L151)-1)<>\"\",OFFSET(DE104_9!$L$104,ROWS($L$104:L151)-1,COLUMNS($L$104:L151)-1),\"\")","v":""},{"$f":"IF(OFFSET(DE104_9!$M$104,ROWS($M$104:M151)-1,COLUMNS($M$104:M151)-1)<>\"\",OFFSET(DE104_9!$M$104,ROWS($M$104:M151)-1,COLUMNS($M$104:M151)-1),\"\")","v":""},{"$f":"IF(OFFSET(DE104_9!$N$104,ROWS($N$104:N151)-1,COLUMNS($N$104:N151)-1)<>\"\",OFFSET(DE104_9!$N$104,ROWS($N$104:N151)-1,COLUMNS($N$104:N151)-1),\"\")","v":""},{"$f":"IF(OFFSET(DE104_9!$O$104,ROWS($O$104:O151)-1,COLUMNS($O$104:O151)-1)<>\"\",OFFSET(DE104_9!$O$104,ROWS($O$104:O151)-1,COLUMNS($O$104:O151)-1),\"\")","v":""},{"$f":"IF(OFFSET(DE104_9!$P$104,ROWS($P$104:P151)-1,COLUMNS($P$104:P151)-1)<>\"\",OFFSET(DE104_9!$P$104,ROWS($P$104:P151)-1,COLUMNS($P$104:P151)-1),\"\")","v":3145210},{"$f":"IF(OFFSET(DE104_9!$Q$104,ROWS($Q$104:Q151)-1,COLUMNS($Q$104:Q151)-1)<>\"\",OFFSET(DE104_9!$Q$104,ROWS($Q$104:Q151)-1,COLUMNS($Q$104:Q151)-1),\"\")","v":"DR-306"},{"$f":"IF(OFFSET(DE104_9!$R$104,ROWS($R$104:R151)-1,COLUMNS($R$104:R151)-1)<>\"\",OFFSET(DE104_9!$R$104,ROWS($R$104:R151)-1,COLUMNS($R$104:R151)-1),\"\")","v":18.5},{"$f":"IF(OFFSET(DE104_9!$S$104,ROWS($S$104:S151)-1,COLUMNS($S$104:S151)-1)<>\"\",OFFSET(DE104_9!$S$104,ROWS($S$104:S151)-1,COLUMNS($S$104:S151)-1),\"\")","v":0.4},{"$f":"IF(OFFSET(DE104_9!$T$104,ROWS($T$104:T151)-1,COLUMNS($T$104:T151)-1)<>\"\",OFFSET(DE104_9!$T$104,ROWS($T$104:T151)-1,COLUMNS($T$104:T151)-1),\"\")","v":""}]
[{"$f":"IF(OFFSET(DE104_9!$C$104,ROWS($C$104:C152)-1,COLUMNS($C$104:C152)-1)<>\"\",OFFSET(DE104_9!$C$104,ROWS($C$104:C152)-1,COLUMNS($C$104:C152)-1),\"\")","v":""},{"$f":"IF(OFFSET(DE104_9!$D$104,ROWS($D$104:D152)-1,COLUMNS($D$104:D152)-1)<>\"\",OFFSET(DE104_9!$D$104,ROWS($D$104:D152)-1,COLUMNS($D$104:D152)-1),\"\")","v":""},{"$f":"IF(OFFSET(DE104_9!$E$104,ROWS($E$104:E152)-1,COLUMNS($E$104:E152)-1)<>\"\",OFFSET(DE104_9!$E$104,ROWS($E$104:E152)-1,COLUMNS($E$104:E152)-1),\"\")","v":""},{"$f":"IF(OFFSET(DE104_9!$F$104,ROWS($F$104:F152)-1,COLUMNS($F$104:F152)-1)<>\"\",OFFSET(DE104_9!$F$104,ROWS($F$104:F152)-1,COLUMNS($F$104:F152)-1),\"\")","v":""},{"$f":"IF(OFFSET(DE104_9!$G$104,ROWS($G$104:G152)-1,COLUMNS($G$104:G152)-1)<>\"\",OFFSET(DE104_9!$G$104,ROWS($G$104:G152)-1,COLUMNS($G$104:G152)-1),\"\")","v":""},{"$f":"IF(OFFSET(DE104_9!$H$104,ROWS($H$104:H152)-1,COLUMNS($H$104:H152)-1)<>\"\",OFFSET(DE104_9!$H$104,ROWS($H$104:H152)-1,COLUMNS($H$104:H152)-1),\"\")","v":" "},{"$f":"IF(OFFSET(DE104_9!$I$104,ROWS($I$104:I152)-1,COLUMNS($I$104:I152)-1)<>\"\",OFFSET(DE104_9!$I$104,ROWS($I$104:I152)-1,COLUMNS($I$104:I152)-1),\"\")","v":""},{"$f":"IF(OFFSET(DE104_9!$J$104,ROWS($J$104:J152)-1,COLUMNS($J$104:J152)-1)<>\"\",OFFSET(DE104_9!$J$104,ROWS($J$104:J152)-1,COLUMNS($J$104:J152)-1),\"\")","v":""},{"$f":"IF(OFFSET(DE104_9!$K$104,ROWS($K$104:K152)-1,COLUMNS($K$104:K152)-1)<>\"\",OFFSET(DE104_9!$K$104,ROWS($K$104:K152)-1,COLUMNS($K$104:K152)-1),\"\")","v":""},{"$f":"IF(OFFSET(DE104_9!$L$104,ROWS($L$104:L152)-1,COLUMNS($L$104:L152)-1)<>\"\",OFFSET(DE104_9!$L$104,ROWS($L$104:L152)-1,COLUMNS($L$104:L152)-1),\"\")","v":""},{"$f":"IF(OFFSET(DE104_9!$M$104,ROWS($M$104:M152)-1,COLUMNS($M$104:M152)-1)<>\"\",OFFSET(DE104_9!$M$104,ROWS($M$104:M152)-1,COLUMNS($M$104:M152)-1),\"\")","v":""},{"$f":"IF(OFFSET(DE104_9!$N$104,ROWS($N$104:N152)-1,COLUMNS($N$104:N152)-1)<>\"\",OFFSET(DE104_9!$N$104,ROWS($N$104:N152)-1,COLUMNS($N$104:N152)-1),\"\")","v":""},{"$f":"IF(OFFSET(DE104_9!$O$104,ROWS($O$104:O152)-1,COLUMNS($O$104:O152)-1)<>\"\",OFFSET(DE104_9!$O$104,ROWS($O$104:O152)-1,COLUMNS($O$104:O152)-1),\"\")","v":""},{"$f":"IF(OFFSET(DE104_9!$P$104,ROWS($P$104:P152)-1,COLUMNS($P$104:P152)-1)<>\"\",OFFSET(DE104_9!$P$104,ROWS($P$104:P152)-1,COLUMNS($P$104:P152)-1),\"\")","v":3145370},{"$f":"IF(OFFSET(DE104_9!$Q$104,ROWS($Q$104:Q152)-1,COLUMNS($Q$104:Q152)-1)<>\"\",OFFSET(DE104_9!$Q$104,ROWS($Q$104:Q152)-1,COLUMNS($Q$104:Q152)-1),\"\")","v":"DR-306"},{"$f":"IF(OFFSET(DE104_9!$R$104,ROWS($R$104:R152)-1,COLUMNS($R$104:R152)-1)<>\"\",OFFSET(DE104_9!$R$104,ROWS($R$104:R152)-1,COLUMNS($R$104:R152)-1),\"\")","v":" "},{"$f":"IF(OFFSET(DE104_9!$S$104,ROWS($S$104:S152)-1,COLUMNS($S$104:S152)-1)<>\"\",OFFSET(DE104_9!$S$104,ROWS($S$104:S152)-1,COLUMNS($S$104:S152)-1),\"\")","v":0.4},{"$f":"IF(OFFSET(DE104_9!$T$104,ROWS($T$104:T152)-1,COLUMNS($T$104:T152)-1)<>\"\",OFFSET(DE104_9!$T$104,ROWS($T$104:T152)-1,COLUMNS($T$104:T152)-1),\"\")","v":""}]
[{"$f":"IF(OFFSET(DE104_9!$C$104,ROWS($C$104:C153)-1,COLUMNS($C$104:C153)-1)<>\"\",OFFSET(DE104_9!$C$104,ROWS($C$104:C153)-1,COLUMNS($C$104:C153)-1),\"\")","v":68},{"$f":"IF(OFFSET(DE104_9!$D$104,ROWS($D$104:D153)-1,COLUMNS($D$104:D153)-1)<>\"\",OFFSET(DE104_9!$D$104,ROWS($D$104:D153)-1,COLUMNS($D$104:D153)-1),\"\")","v":"Ramp C"},{"$f":"IF(OFFSET(DE104_9!$E$104,ROWS($E$104:E153)-1,COLUMNS($E$104:E153)-1)<>\"\",OFFSET(DE104_9!$E$104,ROWS($E$104:E153)-1,COLUMNS($E$104:E153)-1),\"\")","v":3145380},{"$f":"IF(OFFSET(DE104_9!$F$104,ROWS($F$104:F153)-1,COLUMNS($F$104:F153)-1)<>\"\",OFFSET(DE104_9!$F$104,ROWS($F$104:F153)-1,COLUMNS($F$104:F153)-1),\"\")","v":3145475},{"$f":"IF(OFFSET(DE104_9!$G$104,ROWS($G$104:G153)-1,COLUMNS($G$104:G153)-1)<>\"\",OFFSET(DE104_9!$G$104,ROWS($G$104:G153)-1,COLUMNS($G$104:G153)-1),\"\")","v":"RT"},{"$f":"IF(OFFSET(DE104_9!$H$104,ROWS($H$104:H153)-1,COLUMNS($H$104:H153)-1)<>\"\",OFFSET(DE104_9!$H$104,ROWS($H$104:H153)-1,COLUMNS($H$104:H153)-1),\"\")","v":42},{"$f":"IF(OFFSET(DE104_9!$I$104,ROWS($I$104:I153)-1,COLUMNS($I$104:I153)-1)<>\"\",OFFSET(DE104_9!$I$104,ROWS($I$104:I153)-1,COLUMNS($I$104:I153)-1),\"\")","v":4},{"$f":"IF(OFFSET(DE104_9!$J$104,ROWS($J$104:J153)-1,COLUMNS($J$104:J153)-1)<>\"\",OFFSET(DE104_9!$J$104,ROWS($J$104:J153)-1,COLUMNS($J$104:J153)-1),\"\")","v":135},{"$f":"IF(OFFSET(DE104_9!$K$104,ROWS($K$104:K153)-1,COLUMNS($K$104:K153)-1)<>\"\",OFFSET(DE104_9!$K$104,ROWS($K$104:K153)-1,COLUMNS($K$104:K153)-1),\"\")","v":""},{"$f":"IF(OFFSET(DE104_9!$L$104,ROWS($L$104:L153)-1,COLUMNS($L$104:L153)-1)<>\"\",OFFSET(DE104_9!$L$104,ROWS($L$104:L153)-1,COLUMNS($L$104:L153)-1),\"\")","v":""},{"$f":"IF(OFFSET(DE104_9!$M$104,ROWS($M$104:M153)-1,COLUMNS($M$104:M153)-1)<>\"\",OFFSET(DE104_9!$M$104,ROWS($M$104:M153)-1,COLUMNS($M$104:M153)-1),\"\")","v":""},{"$f":"IF(OFFSET(DE104_9!$N$104,ROWS($N$104:N153)-1,COLUMNS($N$104:N153)-1)<>\"\",OFFSET(DE104_9!$N$104,ROWS($N$104:N153)-1,COLUMNS($N$104:N153)-1),\"\")","v":""},{"$f":"IF(OFFSET(DE104_9!$O$104,ROWS($O$104:O153)-1,COLUMNS($O$104:O153)-1)<>\"\",OFFSET(DE104_9!$O$104,ROWS($O$104:O153)-1,COLUMNS($O$104:O153)-1),\"\")","v":""},{"$f":"IF(OFFSET(DE104_9!$P$104,ROWS($P$104:P153)-1,COLUMNS($P$104:P153)-1)<>\"\",OFFSET(DE104_9!$P$104,ROWS($P$104:P153)-1,COLUMNS($P$104:P153)-1),\"\")","v":3145380},{"$f":"IF(OFFSET(DE104_9!$Q$104,ROWS($Q$104:Q153)-1,COLUMNS($Q$104:Q153)-1)<>\"\",OFFSET(DE104_9!$Q$104,ROWS($Q$104:Q153)-1,COLUMNS($Q$104:Q153)-1),\"\")","v":"DR-306"},{"$f":"IF(OFFSET(DE104_9!$R$104,ROWS($R$104:R153)-1,COLUMNS($R$104:R153)-1)<>\"\",OFFSET(DE104_9!$R$104,ROWS($R$104:R153)-1,COLUMNS($R$104:R153)-1),\"\")","v":12.5},{"$f":"IF(OFFSET(DE104_9!$S$104,ROWS($S$104:S153)-1,COLUMNS($S$104:S153)-1)<>\"\",OFFSET(DE104_9!$S$104,ROWS($S$104:S153)-1,COLUMNS($S$104:S153)-1),\"\")","v":0.4},{"$f":"IF(OFFSET(DE104_9!$T$104,ROWS($T$104:T153)-1,COLUMNS($T$104:T153)-1)<>\"\",OFFSET(DE104_9!$T$104,ROWS($T$104:T153)-1,COLUMNS($T$104:T153)-1),\"\")","v":""}]
[{"$f":"IF(OFFSET(DE104_9!$C$104,ROWS($C$104:C154)-1,COLUMNS($C$104:C154)-1)<>\"\",OFFSET(DE104_9!$C$104,ROWS($C$104:C154)-1,COLUMNS($C$104:C154)-1),\"\")","v":""},{"$f":"IF(OFFSET(DE104_9!$D$104,ROWS($D$104:D154)-1,COLUMNS($D$104:D154)-1)<>\"\",OFFSET(DE104_9!$D$104,ROWS($D$104:D154)-1,COLUMNS($D$104:D154)-1),\"\")","v":""},{"$f":"IF(OFFSET(DE104_9!$E$104,ROWS($E$104:E154)-1,COLUMNS($E$104:E154)-1)<>\"\",OFFSET(DE104_9!$E$104,ROWS($E$104:E154)-1,COLUMNS($E$104:E154)-1),\"\")","v":""},{"$f":"IF(OFFSET(DE104_9!$F$104,ROWS($F$104:F154)-1,COLUMNS($F$104:F154)-1)<>\"\",OFFSET(DE104_9!$F$104,ROWS($F$104:F154)-1,COLUMNS($F$104:F154)-1),\"\")","v":""},{"$f":"IF(OFFSET(DE104_9!$G$104,ROWS($G$104:G154)-1,COLUMNS($G$104:G154)-1)<>\"\",OFFSET(DE104_9!$G$104,ROWS($G$104:G154)-1,COLUMNS($G$104:G154)-1),\"\")","v":""},{"$f":"IF(OFFSET(DE104_9!$H$104,ROWS($H$104:H154)-1,COLUMNS($H$104:H154)-1)<>\"\",OFFSET(DE104_9!$H$104,ROWS($H$104:H154)-1,COLUMNS($H$104:H154)-1),\"\")","v":""},{"$f":"IF(OFFSET(DE104_9!$I$104,ROWS($I$104:I154)-1,COLUMNS($I$104:I154)-1)<>\"\",OFFSET(DE104_9!$I$104,ROWS($I$104:I154)-1,COLUMNS($I$104:I154)-1),\"\")","v":""},{"$f":"IF(OFFSET(DE104_9!$J$104,ROWS($J$104:J154)-1,COLUMNS($J$104:J154)-1)<>\"\",OFFSET(DE104_9!$J$104,ROWS($J$104:J154)-1,COLUMNS($J$104:J154)-1),\"\")","v":""},{"$f":"IF(OFFSET(DE104_9!$K$104,ROWS($K$104:K154)-1,COLUMNS($K$104:K154)-1)<>\"\",OFFSET(DE104_9!$K$104,ROWS($K$104:K154)-1,COLUMNS($K$104:K154)-1),\"\")","v":""},{"$f":"IF(OFFSET(DE104_9!$L$104,ROWS($L$104:L154)-1,COLUMNS($L$104:L154)-1)<>\"\",OFFSET(DE104_9!$L$104,ROWS($L$104:L154)-1,COLUMNS($L$104:L154)-1),\"\")","v":""},{"$f":"IF(OFFSET(DE104_9!$M$104,ROWS($M$104:M154)-1,COLUMNS($M$104:M154)-1)<>\"\",OFFSET(DE104_9!$M$104,ROWS($M$104:M154)-1,COLUMNS($M$104:M154)-1),\"\")","v":""},{"$f":"IF(OFFSET(DE104_9!$N$104,ROWS($N$104:N154)-1,COLUMNS($N$104:N154)-1)<>\"\",OFFSET(DE104_9!$N$104,ROWS($N$104:N154)-1,COLUMNS($N$104:N154)-1),\"\")","v":""},{"$f":"IF(OFFSET(DE104_9!$O$104,ROWS($O$104:O154)-1,COLUMNS($O$104:O154)-1)<>\"\",OFFSET(DE104_9!$O$104,ROWS($O$104:O154)-1,COLUMNS($O$104:O154)-1),\"\")","v":""},{"$f":"IF(OFFSET(DE104_9!$P$104,ROWS($P$104:P154)-1,COLUMNS($P$104:P154)-1)<>\"\",OFFSET(DE104_9!$P$104,ROWS($P$104:P154)-1,COLUMNS($P$104:P154)-1),\"\")","v":3145475},{"$f":"IF(OFFSET(DE104_9!$Q$104,ROWS($Q$104:Q154)-1,COLUMNS($Q$104:Q154)-1)<>\"\",OFFSET(DE104_9!$Q$104,ROWS($Q$104:Q154)-1,COLUMNS($Q$104:Q154)-1),\"\")","v":"DR-306"},{"$f":"IF(OFFSET(DE104_9!$R$104,ROWS($R$104:R154)-1,COLUMNS($R$104:R154)-1)<>\"\",OFFSET(DE104_9!$R$104,ROWS($R$104:R154)-1,COLUMNS($R$104:R154)-1),\"\")","v":""},{"$f":"IF(OFFSET(DE104_9!$S$104,ROWS($S$104:S154)-1,COLUMNS($S$104:S154)-1)<>\"\",OFFSET(DE104_9!$S$104,ROWS($S$104:S154)-1,COLUMNS($S$104:S154)-1),\"\")","v":0.4},{"$f":"IF(OFFSET(DE104_9!$T$104,ROWS($T$104:T154)-1,COLUMNS($T$104:T154)-1)<>\"\",OFFSET(DE104_9!$T$104,ROWS($T$104:T154)-1,COLUMNS($T$104:T154)-1),\"\")","v":""}]
[{"$f":"IF(OFFSET(DE104_9!$C$104,ROWS($C$104:C155)-1,COLUMNS($C$104:C155)-1)<>\"\",OFFSET(DE104_9!$C$104,ROWS($C$104:C155)-1,COLUMNS($C$104:C155)-1),\"\")","v":69},{"$f":"IF(OFFSET(DE104_9!$D$104,ROWS($D$104:D155)-1,COLUMNS($D$104:D155)-1)<>\"\",OFFSET(DE104_9!$D$104,ROWS($D$104:D155)-1,COLUMNS($D$104:D155)-1),\"\")","v":"Ramp C"},{"$f":"IF(OFFSET(DE104_9!$E$104,ROWS($E$104:E155)-1,COLUMNS($E$104:E155)-1)<>\"\",OFFSET(DE104_9!$E$104,ROWS($E$104:E155)-1,COLUMNS($E$104:E155)-1),\"\")","v":3145475},{"$f":"IF(OFFSET(DE104_9!$F$104,ROWS($F$104:F155)-1,COLUMNS($F$104:F155)-1)<>\"\",OFFSET(DE104_9!$F$104,ROWS($F$104:F155)-1,COLUMNS($F$104:F155)-1),\"\")","v":3145646.34},{"$f":"IF(OFFSET(DE104_9!$G$104,ROWS($G$104:G155)-1,COLUMNS($G$104:G155)-1)<>\"\",OFFSET(DE104_9!$G$104,ROWS($G$104:G155)-1,COLUMNS($G$104:G155)-1),\"\")","v":"RT"},{"$f":"IF(OFFSET(DE104_9!$H$104,ROWS($H$104:H155)-1,COLUMNS($H$104:H155)-1)<>\"\",OFFSET(DE104_9!$H$104,ROWS($H$104:H155)-1,COLUMNS($H$104:H155)-1),\"\")","v":42},{"$f":"IF(OFFSET(DE104_9!$I$104,ROWS($I$104:I155)-1,COLUMNS($I$104:I155)-1)<>\"\",OFFSET(DE104_9!$I$104,ROWS($I$104:I155)-1,COLUMNS($I$104:I155)-1),\"\")","v":4},{"$f":"IF(OFFSET(DE104_9!$J$104,ROWS($J$104:J155)-1,COLUMNS($J$104:J155)-1)<>\"\",OFFSET(DE104_9!$J$104,ROWS($J$104:J155)-1,COLUMNS($J$104:J155)-1),\"\")","v":211.33999999985099},{"$f":"IF(OFFSET(DE104_9!$K$104,ROWS($K$104:K155)-1,COLUMNS($K$104:K155)-1)<>\"\",OFFSET(DE104_9!$K$104,ROWS($K$104:K155)-1,COLUMNS($K$104:K155)-1),\"\")","v":""},{"$f":"IF(OFFSET(DE104_9!$L$104,ROWS($L$104:L155)-1,COLUMNS($L$104:L155)-1)<>\"\",OFFSET(DE104_9!$L$104,ROWS($L$104:L155)-1,COLUMNS($L$104:L155)-1),\"\")","v":""},{"$f":"IF(OFFSET(DE104_9!$M$104,ROWS($M$104:M155)-1,COLUMNS($M$104:M155)-1)<>\"\",OFFSET(DE104_9!$M$104,ROWS($M$104:M155)-1,COLUMNS($M$104:M155)-1),\"\")","v":""},{"$f":"IF(OFFSET(DE104_9!$N$104,ROWS($N$104:N155)-1,COLUMNS($N$104:N155)-1)<>\"\",OFFSET(DE104_9!$N$104,ROWS($N$104:N155)-1,COLUMNS($N$104:N155)-1),\"\")","v":""},{"$f":"IF(OFFSET(DE104_9!$O$104,ROWS($O$104:O155)-1,COLUMNS($O$104:O155)-1)<>\"\",OFFSET(DE104_9!$O$104,ROWS($O$104:O155)-1,COLUMNS($O$104:O155)-1),\"\")","v":""},{"$f":"IF(OFFSET(DE104_9!$P$104,ROWS($P$104:P155)-1,COLUMNS($P$104:P155)-1)<>\"\",OFFSET(DE104_9!$P$104,ROWS($P$104:P155)-1,COLUMNS($P$104:P155)-1),\"\")","v":3145475},{"$f":"IF(OFFSET(DE104_9!$Q$104,ROWS($Q$104:Q155)-1,COLUMNS($Q$104:Q155)-1)<>\"\",OFFSET(DE104_9!$Q$104,ROWS($Q$104:Q155)-1,COLUMNS($Q$104:Q155)-1),\"\")","v":"DR-306"},{"$f":"IF(OFFSET(DE104_9!$R$104,ROWS($R$104:R155)-1,COLUMNS($R$104:R155)-1)<>\"\",OFFSET(DE104_9!$R$104,ROWS($R$104:R155)-1,COLUMNS($R$104:R155)-1),\"\")","v":19.600000000000001},{"$f":"IF(OFFSET(DE104_9!$S$104,ROWS($S$104:S155)-1,COLUMNS($S$104:S155)-1)<>\"\",OFFSET(DE104_9!$S$104,ROWS($S$104:S155)-1,COLUMNS($S$104:S155)-1),\"\")","v":0.4},{"$f":"IF(OFFSET(DE104_9!$T$104,ROWS($T$104:T155)-1,COLUMNS($T$104:T155)-1)<>\"\",OFFSET(DE104_9!$T$104,ROWS($T$104:T155)-1,COLUMNS($T$104:T155)-1),\"\")","v":""}]
[{"$f":"IF(OFFSET(DE104_9!$C$104,ROWS($C$104:C156)-1,COLUMNS($C$104:C156)-1)<>\"\",OFFSET(DE104_9!$C$104,ROWS($C$104:C156)-1,COLUMNS($C$104:C156)-1),\"\")","v":""},{"$f":"IF(OFFSET(DE104_9!$D$104,ROWS($D$104:D156)-1,COLUMNS($D$104:D156)-1)<>\"\",OFFSET(DE104_9!$D$104,ROWS($D$104:D156)-1,COLUMNS($D$104:D156)-1),\"\")","v":""},{"$f":"IF(OFFSET(DE104_9!$E$104,ROWS($E$104:E156)-1,COLUMNS($E$104:E156)-1)<>\"\",OFFSET(DE104_9!$E$104,ROWS($E$104:E156)-1,COLUMNS($E$104:E156)-1),\"\")","v":""},{"$f":"IF(OFFSET(DE104_9!$F$104,ROWS($F$104:F156)-1,COLUMNS($F$104:F156)-1)<>\"\",OFFSET(DE104_9!$F$104,ROWS($F$104:F156)-1,COLUMNS($F$104:F156)-1),\"\")","v":""},{"$f":"IF(OFFSET(DE104_9!$G$104,ROWS($G$104:G156)-1,COLUMNS($G$104:G156)-1)<>\"\",OFFSET(DE104_9!$G$104,ROWS($G$104:G156)-1,COLUMNS($G$104:G156)-1),\"\")","v":""},{"$f":"IF(OFFSET(DE104_9!$H$104,ROWS($H$104:H156)-1,COLUMNS($H$104:H156)-1)<>\"\",OFFSET(DE104_9!$H$104,ROWS($H$104:H156)-1,COLUMNS($H$104:H156)-1),\"\")","v":""},{"$f":"IF(OFFSET(DE104_9!$I$104,ROWS($I$104:I156)-1,COLUMNS($I$104:I156)-1)<>\"\",OFFSET(DE104_9!$I$104,ROWS($I$104:I156)-1,COLUMNS($I$104:I156)-1),\"\")","v":""},{"$f":"IF(OFFSET(DE104_9!$J$104,ROWS($J$104:J156)-1,COLUMNS($J$104:J156)-1)<>\"\",OFFSET(DE104_9!$J$104,ROWS($J$104:J156)-1,COLUMNS($J$104:J156)-1),\"\")","v":""},{"$f":"IF(OFFSET(DE104_9!$K$104,ROWS($K$104:K156)-1,COLUMNS($K$104:K156)-1)<>\"\",OFFSET(DE104_9!$K$104,ROWS($K$104:K156)-1,COLUMNS($K$104:K156)-1),\"\")","v":""},{"$f":"IF(OFFSET(DE104_9!$L$104,ROWS($L$104:L156)-1,COLUMNS($L$104:L156)-1)<>\"\",OFFSET(DE104_9!$L$104,ROWS($L$104:L156)-1,COLUMNS($L$104:L156)-1),\"\")","v":""},{"$f":"IF(OFFSET(DE104_9!$M$104,ROWS($M$104:M156)-1,COLUMNS($M$104:M156)-1)<>\"\",OFFSET(DE104_9!$M$104,ROWS($M$104:M156)-1,COLUMNS($M$104:M156)-1),\"\")","v":""},{"$f":"IF(OFFSET(DE104_9!$N$104,ROWS($N$104:N156)-1,COLUMNS($N$104:N156)-1)<>\"\",OFFSET(DE104_9!$N$104,ROWS($N$104:N156)-1,COLUMNS($N$104:N156)-1),\"\")","v":""},{"$f":"IF(OFFSET(DE104_9!$O$104,ROWS($O$104:O156)-1,COLUMNS($O$104:O156)-1)<>\"\",OFFSET(DE104_9!$O$104,ROWS($O$104:O156)-1,COLUMNS($O$104:O156)-1),\"\")","v":""},{"$f":"IF(OFFSET(DE104_9!$P$104,ROWS($P$104:P156)-1,COLUMNS($P$104:P156)-1)<>\"\",OFFSET(DE104_9!$P$104,ROWS($P$104:P156)-1,COLUMNS($P$104:P156)-1),\"\")","v":3145646.34},{"$f":"IF(OFFSET(DE104_9!$Q$104,ROWS($Q$104:Q156)-1,COLUMNS($Q$104:Q156)-1)<>\"\",OFFSET(DE104_9!$Q$104,ROWS($Q$104:Q156)-1,COLUMNS($Q$104:Q156)-1),\"\")","v":"DR-306"},{"$f":"IF(OFFSET(DE104_9!$R$104,ROWS($R$104:R156)-1,COLUMNS($R$104:R156)-1)<>\"\",OFFSET(DE104_9!$R$104,ROWS($R$104:R156)-1,COLUMNS($R$104:R156)-1),\"\")","v":""},{"$f":"IF(OFFSET(DE104_9!$S$104,ROWS($S$104:S156)-1,COLUMNS($S$104:S156)-1)<>\"\",OFFSET(DE104_9!$S$104,ROWS($S$104:S156)-1,COLUMNS($S$104:S156)-1),\"\")","v":0.4},{"$f":"IF(OFFSET(DE104_9!$T$104,ROWS($T$104:T156)-1,COLUMNS($T$104:T156)-1)<>\"\",OFFSET(DE104_9!$T$104,ROWS($T$104:T156)-1,COLUMNS($T$104:T156)-1),\"\")","v":""}]
[{"$f":"IF(OFFSET(DE104_9!$C$104,ROWS($C$104:C157)-1,COLUMNS($C$104:C157)-1)<>\"\",OFFSET(DE104_9!$C$104,ROWS($C$104:C157)-1,COLUMNS($C$104:C157)-1),\"\")","v":70},{"$f":"IF(OFFSET(DE104_9!$D$104,ROWS($D$104:D157)-1,COLUMNS($D$104:D157)-1)<>\"\",OFFSET(DE104_9!$D$104,ROWS($D$104:D157)-1,COLUMNS($D$104:D157)-1),\"\")","v":"Ramp D"},{"$f":"IF(OFFSET(DE104_9!$E$104,ROWS($E$104:E157)-1,COLUMNS($E$104:E157)-1)<>\"\",OFFSET(DE104_9!$E$104,ROWS($E$104:E157)-1,COLUMNS($E$104:E157)-1),\"\")","v":4147500},{"$f":"IF(OFFSET(DE104_9!$F$104,ROWS($F$104:F157)-1,COLUMNS($F$104:F157)-1)<>\"\",OFFSET(DE104_9!$F$104,ROWS($F$104:F157)-1,COLUMNS($F$104:F157)-1),\"\")","v":4147755},{"$f":"IF(OFFSET(DE104_9!$G$104,ROWS($G$104:G157)-1,COLUMNS($G$104:G157)-1)<>\"\",OFFSET(DE104_9!$G$104,ROWS($G$104:G157)-1,COLUMNS($G$104:G157)-1),\"\")","v":"LT"},{"$f":"IF(OFFSET(DE104_9!$H$104,ROWS($H$104:H157)-1,COLUMNS($H$104:H157)-1)<>\"\",OFFSET(DE104_9!$H$104,ROWS($H$104:H157)-1,COLUMNS($H$104:H157)-1),\"\")","v":42},{"$f":"IF(OFFSET(DE104_9!$I$104,ROWS($I$104:I157)-1,COLUMNS($I$104:I157)-1)<>\"\",OFFSET(DE104_9!$I$104,ROWS($I$104:I157)-1,COLUMNS($I$104:I157)-1),\"\")","v":4},{"$f":"IF(OFFSET(DE104_9!$J$104,ROWS($J$104:J157)-1,COLUMNS($J$104:J157)-1)<>\"\",OFFSET(DE104_9!$J$104,ROWS($J$104:J157)-1,COLUMNS($J$104:J157)-1),\"\")","v":295},{"$f":"IF(OFFSET(DE104_9!$K$104,ROWS($K$104:K157)-1,COLUMNS($K$104:K157)-1)<>\"\",OFFSET(DE104_9!$K$104,ROWS($K$104:K157)-1,COLUMNS($K$104:K157)-1),\"\")","v":""},{"$f":"IF(OFFSET(DE104_9!$L$104,ROWS($L$104:L157)-1,COLUMNS($L$104:L157)-1)<>\"\",OFFSET(DE104_9!$L$104,ROWS($L$104:L157)-1,COLUMNS($L$104:L157)-1),\"\")","v":""},{"$f":"IF(OFFSET(DE104_9!$M$104,ROWS($M$104:M157)-1,COLUMNS($M$104:M157)-1)<>\"\",OFFSET(DE104_9!$M$104,ROWS($M$104:M157)-1,COLUMNS($M$104:M157)-1),\"\")","v":""},{"$f":"IF(OFFSET(DE104_9!$N$104,ROWS($N$104:N157)-1,COLUMNS($N$104:N157)-1)<>\"\",OFFSET(DE104_9!$N$104,ROWS($N$104:N157)-1,COLUMNS($N$104:N157)-1),\"\")","v":""},{"$f":"IF(OFFSET(DE104_9!$O$104,ROWS($O$104:O157)-1,COLUMNS($O$104:O157)-1)<>\"\",OFFSET(DE104_9!$O$104,ROWS($O$104:O157)-1,COLUMNS($O$104:O157)-1),\"\")","v":""},{"$f":"IF(OFFSET(DE104_9!$P$104,ROWS($P$104:P157)-1,COLUMNS($P$104:P157)-1)<>\"\",OFFSET(DE104_9!$P$104,ROWS($P$104:P157)-1,COLUMNS($P$104:P157)-1),\"\")","v":4147500},{"$f":"IF(OFFSET(DE104_9!$Q$104,ROWS($Q$104:Q157)-1,COLUMNS($Q$104:Q157)-1)<>\"\",OFFSET(DE104_9!$Q$104,ROWS($Q$104:Q157)-1,COLUMNS($Q$104:Q157)-1),\"\")","v":"DR-306"},{"$f":"IF(OFFSET(DE104_9!$R$104,ROWS($R$104:R157)-1,COLUMNS($R$104:R157)-1)<>\"\",OFFSET(DE104_9!$R$104,ROWS($R$104:R157)-1,COLUMNS($R$104:R157)-1),\"\")","v":27.3},{"$f":"IF(OFFSET(DE104_9!$S$104,ROWS($S$104:S157)-1,COLUMNS($S$104:S157)-1)<>\"\",OFFSET(DE104_9!$S$104,ROWS($S$104:S157)-1,COLUMNS($S$104:S157)-1),\"\")","v":0.4},{"$f":"IF(OFFSET(DE104_9!$T$104,ROWS($T$104:T157)-1,COLUMNS($T$104:T157)-1)<>\"\",OFFSET(DE104_9!$T$104,ROWS($T$104:T157)-1,COLUMNS($T$104:T157)-1),\"\")","v":"RAMP D AND LOOP A TAPER"}]
[{"$f":"IF(OFFSET(DE104_9!$C$104,ROWS($C$104:C158)-1,COLUMNS($C$104:C158)-1)<>\"\",OFFSET(DE104_9!$C$104,ROWS($C$104:C158)-1,COLUMNS($C$104:C158)-1),\"\")","v":""},{"$f":"IF(OFFSET(DE104_9!$D$104,ROWS($D$104:D158)-1,COLUMNS($D$104:D158)-1)<>\"\",OFFSET(DE104_9!$D$104,ROWS($D$104:D158)-1,COLUMNS($D$104:D158)-1),\"\")","v":""},{"$f":"IF(OFFSET(DE104_9!$E$104,ROWS($E$104:E158)-1,COLUMNS($E$104:E158)-1)<>\"\",OFFSET(DE104_9!$E$104,ROWS($E$104:E158)-1,COLUMNS($E$104:E158)-1),\"\")","v":""},{"$f":"IF(OFFSET(DE104_9!$F$104,ROWS($F$104:F158)-1,COLUMNS($F$104:F158)-1)<>\"\",OFFSET(DE104_9!$F$104,ROWS($F$104:F158)-1,COLUMNS($F$104:F158)-1),\"\")","v":""},{"$f":"IF(OFFSET(DE104_9!$G$104,ROWS($G$104:G158)-1,COLUMNS($G$104:G158)-1)<>\"\",OFFSET(DE104_9!$G$104,ROWS($G$104:G158)-1,COLUMNS($G$104:G158)-1),\"\")","v":""},{"$f":"IF(OFFSET(DE104_9!$H$104,ROWS($H$104:H158)-1,COLUMNS($H$104:H158)-1)<>\"\",OFFSET(DE104_9!$H$104,ROWS($H$104:H158)-1,COLUMNS($H$104:H158)-1),\"\")","v":" "},{"$f":"IF(OFFSET(DE104_9!$I$104,ROWS($I$104:I158)-1,COLUMNS($I$104:I158)-1)<>\"\",OFFSET(DE104_9!$I$104,ROWS($I$104:I158)-1,COLUMNS($I$104:I158)-1),\"\")","v":""},{"$f":"IF(OFFSET(DE104_9!$J$104,ROWS($J$104:J158)-1,COLUMNS($J$104:J158)-1)<>\"\",OFFSET(DE104_9!$J$104,ROWS($J$104:J158)-1,COLUMNS($J$104:J158)-1),\"\")","v":""},{"$f":"IF(OFFSET(DE104_9!$K$104,ROWS($K$104:K158)-1,COLUMNS($K$104:K158)-1)<>\"\",OFFSET(DE104_9!$K$104,ROWS($K$104:K158)-1,COLUMNS($K$104:K158)-1),\"\")","v":""},{"$f":"IF(OFFSET(DE104_9!$L$104,ROWS($L$104:L158)-1,COLUMNS($L$104:L158)-1)<>\"\",OFFSET(DE104_9!$L$104,ROWS($L$104:L158)-1,COLUMNS($L$104:L158)-1),\"\")","v":""},{"$f":"IF(OFFSET(DE104_9!$M$104,ROWS($M$104:M158)-1,COLUMNS($M$104:M158)-1)<>\"\",OFFSET(DE104_9!$M$104,ROWS($M$104:M158)-1,COLUMNS($M$104:M158)-1),\"\")","v":""},{"$f":"IF(OFFSET(DE104_9!$N$104,ROWS($N$104:N158)-1,COLUMNS($N$104:N158)-1)<>\"\",OFFSET(DE104_9!$N$104,ROWS($N$104:N158)-1,COLUMNS($N$104:N158)-1),\"\")","v":""},{"$f":"IF(OFFSET(DE104_9!$O$104,ROWS($O$104:O158)-1,COLUMNS($O$104:O158)-1)<>\"\",OFFSET(DE104_9!$O$104,ROWS($O$104:O158)-1,COLUMNS($O$104:O158)-1),\"\")","v":""},{"$f":"IF(OFFSET(DE104_9!$P$104,ROWS($P$104:P158)-1,COLUMNS($P$104:P158)-1)<>\"\",OFFSET(DE104_9!$P$104,ROWS($P$104:P158)-1,COLUMNS($P$104:P158)-1),\"\")","v":4147755},{"$f":"IF(OFFSET(DE104_9!$Q$104,ROWS($Q$104:Q158)-1,COLUMNS($Q$104:Q158)-1)<>\"\",OFFSET(DE104_9!$Q$104,ROWS($Q$104:Q158)-1,COLUMNS($Q$104:Q158)-1),\"\")","v":"DR-306"},{"$f":"IF(OFFSET(DE104_9!$R$104,ROWS($R$104:R158)-1,COLUMNS($R$104:R158)-1)<>\"\",OFFSET(DE104_9!$R$104,ROWS($R$104:R158)-1,COLUMNS($R$104:R158)-1),\"\")","v":" "},{"$f":"IF(OFFSET(DE104_9!$S$104,ROWS($S$104:S158)-1,COLUMNS($S$104:S158)-1)<>\"\",OFFSET(DE104_9!$S$104,ROWS($S$104:S158)-1,COLUMNS($S$104:S158)-1),\"\")","v":0.4},{"$f":"IF(OFFSET(DE104_9!$T$104,ROWS($T$104:T158)-1,COLUMNS($T$104:T158)-1)<>\"\",OFFSET(DE104_9!$T$104,ROWS($T$104:T158)-1,COLUMNS($T$104:T158)-1),\"\")","v":""}]
[{"$f":"IF(OFFSET(DE104_9!$C$104,ROWS($C$104:C159)-1,COLUMNS($C$104:C159)-1)<>\"\",OFFSET(DE104_9!$C$104,ROWS($C$104:C159)-1,COLUMNS($C$104:C159)-1),\"\")","v":71},{"$f":"IF(OFFSET(DE104_9!$D$104,ROWS($D$104:D159)-1,COLUMNS($D$104:D159)-1)<>\"\",OFFSET(DE104_9!$D$104,ROWS($D$104:D159)-1,COLUMNS($D$104:D159)-1),\"\")","v":"Ramp D"},{"$f":"IF(OFFSET(DE104_9!$E$104,ROWS($E$104:E159)-1,COLUMNS($E$104:E159)-1)<>\"\",OFFSET(DE104_9!$E$104,ROWS($E$104:E159)-1,COLUMNS($E$104:E159)-1),\"\")","v":4147765},{"$f":"IF(OFFSET(DE104_9!$F$104,ROWS($F$104:F159)-1,COLUMNS($F$104:F159)-1)<>\"\",OFFSET(DE104_9!$F$104,ROWS($F$104:F159)-1,COLUMNS($F$104:F159)-1),\"\")","v":4148225},{"$f":"IF(OFFSET(DE104_9!$G$104,ROWS($G$104:G159)-1,COLUMNS($G$104:G159)-1)<>\"\",OFFSET(DE104_9!$G$104,ROWS($G$104:G159)-1,COLUMNS($G$104:G159)-1),\"\")","v":"LT"},{"$f":"IF(OFFSET(DE104_9!$H$104,ROWS($H$104:H159)-1,COLUMNS($H$104:H159)-1)<>\"\",OFFSET(DE104_9!$H$104,ROWS($H$104:H159)-1,COLUMNS($H$104:H159)-1),\"\")","v":42},{"$f":"IF(OFFSET(DE104_9!$I$104,ROWS($I$104:I159)-1,COLUMNS($I$104:I159)-1)<>\"\",OFFSET(DE104_9!$I$104,ROWS($I$104:I159)-1,COLUMNS($I$104:I159)-1),\"\")","v":4},{"$f":"IF(OFFSET(DE104_9!$J$104,ROWS($J$104:J159)-1,COLUMNS($J$104:J159)-1)<>\"\",OFFSET(DE104_9!$J$104,ROWS($J$104:J159)-1,COLUMNS($J$104:J159)-1),\"\")","v":480},{"$f":"IF(OFFSET(DE104_9!$K$104,ROWS($K$104:K159)-1,COLUMNS($K$104:K159)-1)<>\"\",OFFSET(DE104_9!$K$104,ROWS($K$104:K159)-1,COLUMNS($K$104:K159)-1),\"\")","v":""},{"$f":"IF(OFFSET(DE104_9!$L$104,ROWS($L$104:L159)-1,COLUMNS($L$104:L159)-1)<>\"\",OFFSET(DE104_9!$L$104,ROWS($L$104:L159)-1,COLUMNS($L$104:L159)-1),\"\")","v":""},{"$f":"IF(OFFSET(DE104_9!$M$104,ROWS($M$104:M159)-1,COLUMNS($M$104:M159)-1)<>\"\",OFFSET(DE104_9!$M$104,ROWS($M$104:M159)-1,COLUMNS($M$104:M159)-1),\"\")","v":""},{"$f":"IF(OFFSET(DE104_9!$N$104,ROWS($N$104:N159)-1,COLUMNS($N$104:N159)-1)<>\"\",OFFSET(DE104_9!$N$104,ROWS($N$104:N159)-1,COLUMNS($N$104:N159)-1),\"\")","v":""},{"$f":"IF(OFFSET(DE104_9!$O$104,ROWS($O$104:O159)-1,COLUMNS($O$104:O159)-1)<>\"\",OFFSET(DE104_9!$O$104,ROWS($O$104:O159)-1,COLUMNS($O$104:O159)-1),\"\")","v":""},{"$f":"IF(OFFSET(DE104_9!$P$104,ROWS($P$104:P159)-1,COLUMNS($P$104:P159)-1)<>\"\",OFFSET(DE104_9!$P$104,ROWS($P$104:P159)-1,COLUMNS($P$104:P159)-1),\"\")","v":4148225},{"$f":"IF(OFFSET(DE104_9!$Q$104,ROWS($Q$104:Q159)-1,COLUMNS($Q$104:Q159)-1)<>\"\",OFFSET(DE104_9!$Q$104,ROWS($Q$104:Q159)-1,COLUMNS($Q$104:Q159)-1),\"\")","v":"DR-306"},{"$f":"IF(OFFSET(DE104_9!$R$104,ROWS($R$104:R159)-1,COLUMNS($R$104:R159)-1)<>\"\",OFFSET(DE104_9!$R$104,ROWS($R$104:R159)-1,COLUMNS($R$104:R159)-1),\"\")","v":44.4},{"$f":"IF(OFFSET(DE104_9!$S$104,ROWS($S$104:S159)-1,COLUMNS($S$104:S159)-1)<>\"\",OFFSET(DE104_9!$S$104,ROWS($S$104:S159)-1,COLUMNS($S$104:S159)-1),\"\")","v":0.4},{"$f":"IF(OFFSET(DE104_9!$T$104,ROWS($T$104:T159)-1,COLUMNS($T$104:T159)-1)<>\"\",OFFSET(DE104_9!$T$104,ROWS($T$104:T159)-1,COLUMNS($T$104:T159)-1),\"\")","v":"SINGLE OUTLET"}]
[{"$f":"IF(OFFSET(DE104_9!$C$104,ROWS($C$104:C160)-1,COLUMNS($C$104:C160)-1)<>\"\",OFFSET(DE104_9!$C$104,ROWS($C$104:C160)-1,COLUMNS($C$104:C160)-1),\"\")","v":72},{"$f":"IF(OFFSET(DE104_9!$D$104,ROWS($D$104:D160)-1,COLUMNS($D$104:D160)-1)<>\"\",OFFSET(DE104_9!$D$104,ROWS($D$104:D160)-1,COLUMNS($D$104:D160)-1),\"\")","v":"Ramp D"},{"$f":"IF(OFFSET(DE104_9!$E$104,ROWS($E$104:E160)-1,COLUMNS($E$104:E160)-1)<>\"\",OFFSET(DE104_9!$E$104,ROWS($E$104:E160)-1,COLUMNS($E$104:E160)-1),\"\")","v":4148225},{"$f":"IF(OFFSET(DE104_9!$F$104,ROWS($F$104:F160)-1,COLUMNS($F$104:F160)-1)<>\"\",OFFSET(DE104_9!$F$104,ROWS($F$104:F160)-1,COLUMNS($F$104:F160)-1),\"\")","v":4148600},{"$f":"IF(OFFSET(DE104_9!$G$104,ROWS($G$104:G160)-1,COLUMNS($G$104:G160)-1)<>\"\",OFFSET(DE104_9!$G$104,ROWS($G$104:G160)-1,COLUMNS($G$104:G160)-1),\"\")","v":"RT"},{"$f":"IF(OFFSET(DE104_9!$H$104,ROWS($H$104:H160)-1,COLUMNS($H$104:H160)-1)<>\"\",OFFSET(DE104_9!$H$104,ROWS($H$104:H160)-1,COLUMNS($H$104:H160)-1),\"\")","v":42},{"$f":"IF(OFFSET(DE104_9!$I$104,ROWS($I$104:I160)-1,COLUMNS($I$104:I160)-1)<>\"\",OFFSET(DE104_9!$I$104,ROWS($I$104:I160)-1,COLUMNS($I$104:I160)-1),\"\")","v":4},{"$f":"IF(OFFSET(DE104_9!$J$104,ROWS($J$104:J160)-1,COLUMNS($J$104:J160)-1)<>\"\",OFFSET(DE104_9!$J$104,ROWS($J$104:J160)-1,COLUMNS($J$104:J160)-1),\"\")","v":415},{"$f":"IF(OFFSET(DE104_9!$K$104,ROWS($K$104:K160)-1,COLUMNS($K$104:K160)-1)<>\"\",OFFSET(DE104_9!$K$104,ROWS($K$104:K160)-1,COLUMNS($K$104:K160)-1),\"\")","v":""},{"$f":"IF(OFFSET(DE104_9!$L$104,ROWS($L$104:L160)-1,COLUMNS($L$104:L160)-1)<>\"\",OFFSET(DE104_9!$L$104,ROWS($L$104:L160)-1,COLUMNS($L$104:L160)-1),\"\")","v":""},{"$f":"IF(OFFSET(DE104_9!$M$104,ROWS($M$104:M160)-1,COLUMNS($M$104:M160)-1)<>\"\",OFFSET(DE104_9!$M$104,ROWS($M$104:M160)-1,COLUMNS($M$104:M160)-1),\"\")","v":""},{"$f":"IF(OFFSET(DE104_9!$N$104,ROWS($N$104:N160)-1,COLUMNS($N$104:N160)-1)<>\"\",OFFSET(DE104_9!$N$104,ROWS($N$104:N160)-1,COLUMNS($N$104:N160)-1),\"\")","v":""},{"$f":"IF(OFFSET(DE104_9!$O$104,ROWS($O$104:O160)-1,COLUMNS($O$104:O160)-1)<>\"\",OFFSET(DE104_9!$O$104,ROWS($O$104:O160)-1,COLUMNS($O$104:O160)-1),\"\")","v":""},{"$f":"IF(OFFSET(DE104_9!$P$104,ROWS($P$104:P160)-1,COLUMNS($P$104:P160)-1)<>\"\",OFFSET(DE104_9!$P$104,ROWS($P$104:P160)-1,COLUMNS($P$104:P160)-1),\"\")","v":4148225},{"$f":"IF(OFFSET(DE104_9!$Q$104,ROWS($Q$104:Q160)-1,COLUMNS($Q$104:Q160)-1)<>\"\",OFFSET(DE104_9!$Q$104,ROWS($Q$104:Q160)-1,COLUMNS($Q$104:Q160)-1),\"\")","v":"DR-306"},{"$f":"IF(OFFSET(DE104_9!$R$104,ROWS($R$104:R160)-1,COLUMNS($R$104:R160)-1)<>\"\",OFFSET(DE104_9!$R$104,ROWS($R$104:R160)-1,COLUMNS($R$104:R160)-1),\"\")","v":38.4},{"$f":"IF(OFFSET(DE104_9!$S$104,ROWS($S$104:S160)-1,COLUMNS($S$104:S160)-1)<>\"\",OFFSET(DE104_9!$S$104,ROWS($S$104:S160)-1,COLUMNS($S$104:S160)-1),\"\")","v":0.4},{"$f":"IF(OFFSET(DE104_9!$T$104,ROWS($T$104:T160)-1,COLUMNS($T$104:T160)-1)<>\"\",OFFSET(DE104_9!$T$104,ROWS($T$104:T160)-1,COLUMNS($T$104:T160)-1),\"\")","v":"SUPERELEV. CHANGE - OUTLET RIGHT"}]
[{"$f":"IF(OFFSET(DE104_9!$C$104,ROWS($C$104:C161)-1,COLUMNS($C$104:C161)-1)<>\"\",OFFSET(DE104_9!$C$104,ROWS($C$104:C161)-1,COLUMNS($C$104:C161)-1),\"\")","v":""},{"$f":"IF(OFFSET(DE104_9!$D$104,ROWS($D$104:D161)-1,COLUMNS($D$104:D161)-1)<>\"\",OFFSET(DE104_9!$D$104,ROWS($D$104:D161)-1,COLUMNS($D$104:D161)-1),\"\")","v":""},{"$f":"IF(OFFSET(DE104_9!$E$104,ROWS($E$104:E161)-1,COLUMNS($E$104:E161)-1)<>\"\",OFFSET(DE104_9!$E$104,ROWS($E$104:E161)-1,COLUMNS($E$104:E161)-1),\"\")","v":""},{"$f":"IF(OFFSET(DE104_9!$F$104,ROWS($F$104:F161)-1,COLUMNS($F$104:F161)-1)<>\"\",OFFSET(DE104_9!$F$104,ROWS($F$104:F161)-1,COLUMNS($F$104:F161)-1),\"\")","v":""},{"$f":"IF(OFFSET(DE104_9!$G$104,ROWS($G$104:G161)-1,COLUMNS($G$104:G161)-1)<>\"\",OFFSET(DE104_9!$G$104,ROWS($G$104:G161)-1,COLUMNS($G$104:G161)-1),\"\")","v":""},{"$f":"IF(OFFSET(DE104_9!$H$104,ROWS($H$104:H161)-1,COLUMNS($H$104:H161)-1)<>\"\",OFFSET(DE104_9!$H$104,ROWS($H$104:H161)-1,COLUMNS($H$104:H161)-1),\"\")","v":" "},{"$f":"IF(OFFSET(DE104_9!$I$104,ROWS($I$104:I161)-1,COLUMNS($I$104:I161)-1)<>\"\",OFFSET(DE104_9!$I$104,ROWS($I$104:I161)-1,COLUMNS($I$104:I161)-1),\"\")","v":""},{"$f":"IF(OFFSET(DE104_9!$J$104,ROWS($J$104:J161)-1,COLUMNS($J$104:J161)-1)<>\"\",OFFSET(DE104_9!$J$104,ROWS($J$104:J161)-1,COLUMNS($J$104:J161)-1),\"\")","v":""},{"$f":"IF(OFFSET(DE104_9!$K$104,ROWS($K$104:K161)-1,COLUMNS($K$104:K161)-1)<>\"\",OFFSET(DE104_9!$K$104,ROWS($K$104:K161)-1,COLUMNS($K$104:K161)-1),\"\")","v":""},{"$f":"IF(OFFSET(DE104_9!$L$104,ROWS($L$104:L161)-1,COLUMNS($L$104:L161)-1)<>\"\",OFFSET(DE104_9!$L$104,ROWS($L$104:L161)-1,COLUMNS($L$104:L161)-1),\"\")","v":""},{"$f":"IF(OFFSET(DE104_9!$M$104,ROWS($M$104:M161)-1,COLUMNS($M$104:M161)-1)<>\"\",OFFSET(DE104_9!$M$104,ROWS($M$104:M161)-1,COLUMNS($M$104:M161)-1),\"\")","v":""},{"$f":"IF(OFFSET(DE104_9!$N$104,ROWS($N$104:N161)-1,COLUMNS($N$104:N161)-1)<>\"\",OFFSET(DE104_9!$N$104,ROWS($N$104:N161)-1,COLUMNS($N$104:N161)-1),\"\")","v":""},{"$f":"IF(OFFSET(DE104_9!$O$104,ROWS($O$104:O161)-1,COLUMNS($O$104:O161)-1)<>\"\",OFFSET(DE104_9!$O$104,ROWS($O$104:O161)-1,COLUMNS($O$104:O161)-1),\"\")","v":""},{"$f":"IF(OFFSET(DE104_9!$P$104,ROWS($P$104:P161)-1,COLUMNS($P$104:P161)-1)<>\"\",OFFSET(DE104_9!$P$104,ROWS($P$104:P161)-1,COLUMNS($P$104:P161)-1),\"\")","v":4148600},{"$f":"IF(OFFSET(DE104_9!$Q$104,ROWS($Q$104:Q161)-1,COLUMNS($Q$104:Q161)-1)<>\"\",OFFSET(DE104_9!$Q$104,ROWS($Q$104:Q161)-1,COLUMNS($Q$104:Q161)-1),\"\")","v":"DR-306"},{"$f":"IF(OFFSET(DE104_9!$R$104,ROWS($R$104:R161)-1,COLUMNS($R$104:R161)-1)<>\"\",OFFSET(DE104_9!$R$104,ROWS($R$104:R161)-1,COLUMNS($R$104:R161)-1),\"\")","v":" "},{"$f":"IF(OFFSET(DE104_9!$S$104,ROWS($S$104:S161)-1,COLUMNS($S$104:S161)-1)<>\"\",OFFSET(DE104_9!$S$104,ROWS($S$104:S161)-1,COLUMNS($S$104:S161)-1),\"\")","v":0.4},{"$f":"IF(OFFSET(DE104_9!$T$104,ROWS($T$104:T161)-1,COLUMNS($T$104:T161)-1)<>\"\",OFFSET(DE104_9!$T$104,ROWS($T$104:T161)-1,COLUMNS($T$104:T161)-1),\"\")","v":""}]
[{"$f":"IF(OFFSET(DE104_9!$C$104,ROWS($C$104:C162)-1,COLUMNS($C$104:C162)-1)<>\"\",OFFSET(DE104_9!$C$104,ROWS($C$104:C162)-1,COLUMNS($C$104:C162)-1),\"\")","v":73},{"$f":"IF(OFFSET(DE104_9!$D$104,ROWS($D$104:D162)-1,COLUMNS($D$104:D162)-1)<>\"\",OFFSET(DE104_9!$D$104,ROWS($D$104:D162)-1,COLUMNS($D$104:D162)-1),\"\")","v":"Ramp D"},{"$f":"IF(OFFSET(DE104_9!$E$104,ROWS($E$104:E162)-1,COLUMNS($E$104:E162)-1)<>\"\",OFFSET(DE104_9!$E$104,ROWS($E$104:E162)-1,COLUMNS($E$104:E162)-1),\"\")","v":4148600},{"$f":"IF(OFFSET(DE104_9!$F$104,ROWS($F$104:F162)-1,COLUMNS($F$104:F162)-1)<>\"\",OFFSET(DE104_9!$F$104,ROWS($F$104:F162)-1,COLUMNS($F$104:F162)-1),\"\")","v":4148996.32},{"$f":"IF(OFFSET(DE104_9!$G$104,ROWS($G$104:G162)-1,COLUMNS($G$104:G162)-1)<>\"\",OFFSET(DE104_9!$G$104,ROWS($G$104:G162)-1,COLUMNS($G$104:G162)-1),\"\")","v":"RT"},{"$f":"IF(OFFSET(DE104_9!$H$104,ROWS($H$104:H162)-1,COLUMNS($H$104:H162)-1)<>\"\",OFFSET(DE104_9!$H$104,ROWS($H$104:H162)-1,COLUMNS($H$104:H162)-1),\"\")","v":42},{"$f":"IF(OFFSET(DE104_9!$I$104,ROWS($I$104:I162)-1,COLUMNS($I$104:I162)-1)<>\"\",OFFSET(DE104_9!$I$104,ROWS($I$104:I162)-1,COLUMNS($I$104:I162)-1),\"\")","v":4},{"$f":"IF(OFFSET(DE104_9!$J$104,ROWS($J$104:J162)-1,COLUMNS($J$104:J162)-1)<>\"\",OFFSET(DE104_9!$J$104,ROWS($J$104:J162)-1,COLUMNS($J$104:J162)-1),\"\")","v":436.31999999983236},{"$f":"IF(OFFSET(DE104_9!$K$104,ROWS($K$104:K162)-1,COLUMNS($K$104:K162)-1)<>\"\",OFFSET(DE104_9!$K$104,ROWS($K$104:K162)-1,COLUMNS($K$104:K162)-1),\"\")","v":""},{"$f":"IF(OFFSET(DE104_9!$L$104,ROWS($L$104:L162)-1,COLUMNS($L$104:L162)-1)<>\"\",OFFSET(DE104_9!$L$104,ROWS($L$104:L162)-1,COLUMNS($L$104:L162)-1),\"\")","v":""},{"$f":"IF(OFFSET(DE104_9!$M$104,ROWS($M$104:M162)-1,COLUMNS($M$104:M162)-1)<>\"\",OFFSET(DE104_9!$M$104,ROWS($M$104:M162)-1,COLUMNS($M$104:M162)-1),\"\")","v":""},{"$f":"IF(OFFSET(DE104_9!$N$104,ROWS($N$104:N162)-1,COLUMNS($N$104:N162)-1)<>\"\",OFFSET(DE104_9!$N$104,ROWS($N$104:N162)-1,COLUMNS($N$104:N162)-1),\"\")","v":""},{"$f":"IF(OFFSET(DE104_9!$O$104,ROWS($O$104:O162)-1,COLUMNS($O$104:O162)-1)<>\"\",OFFSET(DE104_9!$O$104,ROWS($O$104:O162)-1,COLUMNS($O$104:O162)-1),\"\")","v":""},{"$f":"IF(OFFSET(DE104_9!$P$104,ROWS($P$104:P162)-1,COLUMNS($P$104:P162)-1)<>\"\",OFFSET(DE104_9!$P$104,ROWS($P$104:P162)-1,COLUMNS($P$104:P162)-1),\"\")","v":4148600},{"$f":"IF(OFFSET(DE104_9!$Q$104,ROWS($Q$104:Q162)-1,COLUMNS($Q$104:Q162)-1)<>\"\",OFFSET(DE104_9!$Q$104,ROWS($Q$104:Q162)-1,COLUMNS($Q$104:Q162)-1),\"\")","v":"DR-306"},{"$f":"IF(OFFSET(DE104_9!$R$104,ROWS($R$104:R162)-1,COLUMNS($R$104:R162)-1)<>\"\",OFFSET(DE104_9!$R$104,ROWS($R$104:R162)-1,COLUMNS($R$104:R162)-1),\"\")","v":40.4},{"$f":"IF(OFFSET(DE104_9!$S$104,ROWS($S$104:S162)-1,COLUMNS($S$104:S162)-1)<>\"\",OFFSET(DE104_9!$S$104,ROWS($S$104:S162)-1,COLUMNS($S$104:S162)-1),\"\")","v":0.4},{"$f":"IF(OFFSET(DE104_9!$T$104,ROWS($T$104:T162)-1,COLUMNS($T$104:T162)-1)<>\"\",OFFSET(DE104_9!$T$104,ROWS($T$104:T162)-1,COLUMNS($T$104:T162)-1),\"\")","v":""}]
[{"$f":"IF(OFFSET(DE104_9!$C$104,ROWS($C$104:C163)-1,COLUMNS($C$104:C163)-1)<>\"\",OFFSET(DE104_9!$C$104,ROWS($C$104:C163)-1,COLUMNS($C$104:C163)-1),\"\")","v":""},{"$f":"IF(OFFSET(DE104_9!$D$104,ROWS($D$104:D163)-1,COLUMNS($D$104:D163)-1)<>\"\",OFFSET(DE104_9!$D$104,ROWS($D$104:D163)-1,COLUMNS($D$104:D163)-1),\"\")","v":""},{"$f":"IF(OFFSET(DE104_9!$E$104,ROWS($E$104:E163)-1,COLUMNS($E$104:E163)-1)<>\"\",OFFSET(DE104_9!$E$104,ROWS($E$104:E163)-1,COLUMNS($E$104:E163)-1),\"\")","v":""},{"$f":"IF(OFFSET(DE104_9!$F$104,ROWS($F$104:F163)-1,COLUMNS($F$104:F163)-1)<>\"\",OFFSET(DE104_9!$F$104,ROWS($F$104:F163)-1,COLUMNS($F$104:F163)-1),\"\")","v":""},{"$f":"IF(OFFSET(DE104_9!$G$104,ROWS($G$104:G163)-1,COLUMNS($G$104:G163)-1)<>\"\",OFFSET(DE104_9!$G$104,ROWS($G$104:G163)-1,COLUMNS($G$104:G163)-1),\"\")","v":""},{"$f":"IF(OFFSET(DE104_9!$H$104,ROWS($H$104:H163)-1,COLUMNS($H$104:H163)-1)<>\"\",OFFSET(DE104_9!$H$104,ROWS($H$104:H163)-1,COLUMNS($H$104:H163)-1),\"\")","v":" "},{"$f":"IF(OFFSET(DE104_9!$I$104,ROWS($I$104:I163)-1,COLUMNS($I$104:I163)-1)<>\"\",OFFSET(DE104_9!$I$104,ROWS($I$104:I163)-1,COLUMNS($I$104:I163)-1),\"\")","v":""},{"$f":"IF(OFFSET(DE104_9!$J$104,ROWS($J$104:J163)-1,COLUMNS($J$104:J163)-1)<>\"\",OFFSET(DE104_9!$J$104,ROWS($J$104:J163)-1,COLUMNS($J$104:J163)-1),\"\")","v":""},{"$f":"IF(OFFSET(DE104_9!$K$104,ROWS($K$104:K163)-1,COLUMNS($K$104:K163)-1)<>\"\",OFFSET(DE104_9!$K$104,ROWS($K$104:K163)-1,COLUMNS($K$104:K163)-1),\"\")","v":""},{"$f":"IF(OFFSET(DE104_9!$L$104,ROWS($L$104:L163)-1,COLUMNS($L$104:L163)-1)<>\"\",OFFSET(DE104_9!$L$104,ROWS($L$104:L163)-1,COLUMNS($L$104:L163)-1),\"\")","v":""},{"$f":"IF(OFFSET(DE104_9!$M$104,ROWS($M$104:M163)-1,COLUMNS($M$104:M163)-1)<>\"\",OFFSET(DE104_9!$M$104,ROWS($M$104:M163)-1,COLUMNS($M$104:M163)-1),\"\")","v":""},{"$f":"IF(OFFSET(DE104_9!$N$104,ROWS($N$104:N163)-1,COLUMNS($N$104:N163)-1)<>\"\",OFFSET(DE104_9!$N$104,ROWS($N$104:N163)-1,COLUMNS($N$104:N163)-1),\"\")","v":""},{"$f":"IF(OFFSET(DE104_9!$O$104,ROWS($O$104:O163)-1,COLUMNS($O$104:O163)-1)<>\"\",OFFSET(DE104_9!$O$104,ROWS($O$104:O163)-1,COLUMNS($O$104:O163)-1),\"\")","v":""},{"$f":"IF(OFFSET(DE104_9!$P$104,ROWS($P$104:P163)-1,COLUMNS($P$104:P163)-1)<>\"\",OFFSET(DE104_9!$P$104,ROWS($P$104:P163)-1,COLUMNS($P$104:P163)-1),\"\")","v":4148996.32},{"$f":"IF(OFFSET(DE104_9!$Q$104,ROWS($Q$104:Q163)-1,COLUMNS($Q$104:Q163)-1)<>\"\",OFFSET(DE104_9!$Q$104,ROWS($Q$104:Q163)-1,COLUMNS($Q$104:Q163)-1),\"\")","v":"DR-306"},{"$f":"IF(OFFSET(DE104_9!$R$104,ROWS($R$104:R163)-1,COLUMNS($R$104:R163)-1)<>\"\",OFFSET(DE104_9!$R$104,ROWS($R$104:R163)-1,COLUMNS($R$104:R163)-1),\"\")","v":" "},{"$f":"IF(OFFSET(DE104_9!$S$104,ROWS($S$104:S163)-1,COLUMNS($S$104:S163)-1)<>\"\",OFFSET(DE104_9!$S$104,ROWS($S$104:S163)-1,COLUMNS($S$104:S163)-1),\"\")","v":0.4},{"$f":"IF(OFFSET(DE104_9!$T$104,ROWS($T$104:T163)-1,COLUMNS($T$104:T163)-1)<>\"\",OFFSET(DE104_9!$T$104,ROWS($T$104:T163)-1,COLUMNS($T$104:T163)-1),\"\")","v":""}]
[{"$f":"IF(OFFSET(DE104_9!$C$104,ROWS($C$104:C164)-1,COLUMNS($C$104:C164)-1)<>\"\",OFFSET(DE104_9!$C$104,ROWS($C$104:C164)-1,COLUMNS($C$104:C164)-1),\"\")","v":74},{"$f":"IF(OFFSET(DE104_9!$D$104,ROWS($D$104:D164)-1,COLUMNS($D$104:D164)-1)<>\"\",OFFSET(DE104_9!$D$104,ROWS($D$104:D164)-1,COLUMNS($D$104:D164)-1),\"\")","v":"US 218"},{"$f":"IF(OFFSET(DE104_9!$E$104,ROWS($E$104:E164)-1,COLUMNS($E$104:E164)-1)<>\"\",OFFSET(DE104_9!$E$104,ROWS($E$104:E164)-1,COLUMNS($E$104:E164)-1),\"\")","v":24146800},{"$f":"IF(OFFSET(DE104_9!$F$104,ROWS($F$104:F164)-1,COLUMNS($F$104:F164)-1)<>\"\",OFFSET(DE104_9!$F$104,ROWS($F$104:F164)-1,COLUMNS($F$104:F164)-1),\"\")","v":24147125},{"$f":"IF(OFFSET(DE104_9!$G$104,ROWS($G$104:G164)-1,COLUMNS($G$104:G164)-1)<>\"\",OFFSET(DE104_9!$G$104,ROWS($G$104:G164)-1,COLUMNS($G$104:G164)-1),\"\")","v":"LT"},{"$f":"IF(OFFSET(DE104_9!$H$104,ROWS($H$104:H164)-1,COLUMNS($H$104:H164)-1)<>\"\",OFFSET(DE104_9!$H$104,ROWS($H$104:H164)-1,COLUMNS($H$104:H164)-1),\"\")","v":42},{"$f":"IF(OFFSET(DE104_9!$I$104,ROWS($I$104:I164)-1,COLUMNS($I$104:I164)-1)<>\"\",OFFSET(DE104_9!$I$104,ROWS($I$104:I164)-1,COLUMNS($I$104:I164)-1),\"\")","v":4},{"$f":"IF(OFFSET(DE104_9!$J$104,ROWS($J$104:J164)-1,COLUMNS($J$104:J164)-1)<>\"\",OFFSET(DE104_9!$J$104,ROWS($J$104:J164)-1,COLUMNS($J$104:J164)-1),\"\")","v":365},{"$f":"IF(OFFSET(DE104_9!$K$104,ROWS($K$104:K164)-1,COLUMNS($K$104:K164)-1)<>\"\",OFFSET(DE104_9!$K$104,ROWS($K$104:K164)-1,COLUMNS($K$104:K164)-1),\"\")","v":""},{"$f":"IF(OFFSET(DE104_9!$L$104,ROWS($L$104:L164)-1,COLUMNS($L$104:L164)-1)<>\"\",OFFSET(DE104_9!$L$104,ROWS($L$104:L164)-1,COLUMNS($L$104:L164)-1),\"\")","v":""},{"$f":"IF(OFFSET(DE104_9!$M$104,ROWS($M$104:M164)-1,COLUMNS($M$104:M164)-1)<>\"\",OFFSET(DE104_9!$M$104,ROWS($M$104:M164)-1,COLUMNS($M$104:M164)-1),\"\")","v":""},{"$f":"IF(OFFSET(DE104_9!$N$104,ROWS($N$104:N164)-1,COLUMNS($N$104:N164)-1)<>\"\",OFFSET(DE104_9!$N$104,ROWS($N$104:N164)-1,COLUMNS($N$104:N164)-1),\"\")","v":""},{"$f":"IF(OFFSET(DE104_9!$O$104,ROWS($O$104:O164)-1,COLUMNS($O$104:O164)-1)<>\"\",OFFSET(DE104_9!$O$104,ROWS($O$104:O164)-1,COLUMNS($O$104:O164)-1),\"\")","v":""},{"$f":"IF(OFFSET(DE104_9!$P$104,ROWS($P$104:P164)-1,COLUMNS($P$104:P164)-1)<>\"\",OFFSET(DE104_9!$P$104,ROWS($P$104:P164)-1,COLUMNS($P$104:P164)-1),\"\")","v":24146800},{"$f":"IF(OFFSET(DE104_9!$Q$104,ROWS($Q$104:Q164)-1,COLUMNS($Q$104:Q164)-1)<>\"\",OFFSET(DE104_9!$Q$104,ROWS($Q$104:Q164)-1,COLUMNS($Q$104:Q164)-1),\"\")","v":"DR-306"},{"$f":"IF(OFFSET(DE104_9!$R$104,ROWS($R$104:R164)-1,COLUMNS($R$104:R164)-1)<>\"\",OFFSET(DE104_9!$R$104,ROWS($R$104:R164)-1,COLUMNS($R$104:R164)-1),\"\")","v":33.799999999999997},{"$f":"IF(OFFSET(DE104_9!$S$104,ROWS($S$104:S164)-1,COLUMNS($S$104:S164)-1)<>\"\",OFFSET(DE104_9!$S$104,ROWS($S$104:S164)-1,COLUMNS($S$104:S164)-1),\"\")","v":0.4},{"$f":"IF(OFFSET(DE104_9!$T$104,ROWS($T$104:T164)-1,COLUMNS($T$104:T164)-1)<>\"\",OFFSET(DE104_9!$T$104,ROWS($T$104:T164)-1,COLUMNS($T$104:T164)-1),\"\")","v":""}]
[{"$f":"IF(OFFSET(DE104_9!$C$104,ROWS($C$104:C165)-1,COLUMNS($C$104:C165)-1)<>\"\",OFFSET(DE104_9!$C$104,ROWS($C$104:C165)-1,COLUMNS($C$104:C165)-1),\"\")","v":""},{"$f":"IF(OFFSET(DE104_9!$D$104,ROWS($D$104:D165)-1,COLUMNS($D$104:D165)-1)<>\"\",OFFSET(DE104_9!$D$104,ROWS($D$104:D165)-1,COLUMNS($D$104:D165)-1),\"\")","v":""},{"$f":"IF(OFFSET(DE104_9!$E$104,ROWS($E$104:E165)-1,COLUMNS($E$104:E165)-1)<>\"\",OFFSET(DE104_9!$E$104,ROWS($E$104:E165)-1,COLUMNS($E$104:E165)-1),\"\")","v":""},{"$f":"IF(OFFSET(DE104_9!$F$104,ROWS($F$104:F165)-1,COLUMNS($F$104:F165)-1)<>\"\",OFFSET(DE104_9!$F$104,ROWS($F$104:F165)-1,COLUMNS($F$104:F165)-1),\"\")","v":""},{"$f":"IF(OFFSET(DE104_9!$G$104,ROWS($G$104:G165)-1,COLUMNS($G$104:G165)-1)<>\"\",OFFSET(DE104_9!$G$104,ROWS($G$104:G165)-1,COLUMNS($G$104:G165)-1),\"\")","v":""},{"$f":"IF(OFFSET(DE104_9!$H$104,ROWS($H$104:H165)-1,COLUMNS($H$104:H165)-1)<>\"\",OFFSET(DE104_9!$H$104,ROWS($H$104:H165)-1,COLUMNS($H$104:H165)-1),\"\")","v":" "},{"$f":"IF(OFFSET(DE104_9!$I$104,ROWS($I$104:I165)-1,COLUMNS($I$104:I165)-1)<>\"\",OFFSET(DE104_9!$I$104,ROWS($I$104:I165)-1,COLUMNS($I$104:I165)-1),\"\")","v":""},{"$f":"IF(OFFSET(DE104_9!$J$104,ROWS($J$104:J165)-1,COLUMNS($J$104:J165)-1)<>\"\",OFFSET(DE104_9!$J$104,ROWS($J$104:J165)-1,COLUMNS($J$104:J165)-1),\"\")","v":""},{"$f":"IF(OFFSET(DE104_9!$K$104,ROWS($K$104:K165)-1,COLUMNS($K$104:K165)-1)<>\"\",OFFSET(DE104_9!$K$104,ROWS($K$104:K165)-1,COLUMNS($K$104:K165)-1),\"\")","v":""},{"$f":"IF(OFFSET(DE104_9!$L$104,ROWS($L$104:L165)-1,COLUMNS($L$104:L165)-1)<>\"\",OFFSET(DE104_9!$L$104,ROWS($L$104:L165)-1,COLUMNS($L$104:L165)-1),\"\")","v":""},{"$f":"IF(OFFSET(DE104_9!$M$104,ROWS($M$104:M165)-1,COLUMNS($M$104:M165)-1)<>\"\",OFFSET(DE104_9!$M$104,ROWS($M$104:M165)-1,COLUMNS($M$104:M165)-1),\"\")","v":""},{"$f":"IF(OFFSET(DE104_9!$N$104,ROWS($N$104:N165)-1,COLUMNS($N$104:N165)-1)<>\"\",OFFSET(DE104_9!$N$104,ROWS($N$104:N165)-1,COLUMNS($N$104:N165)-1),\"\")","v":""},{"$f":"IF(OFFSET(DE104_9!$O$104,ROWS($O$104:O165)-1,COLUMNS($O$104:O165)-1)<>\"\",OFFSET(DE104_9!$O$104,ROWS($O$104:O165)-1,COLUMNS($O$104:O165)-1),\"\")","v":""},{"$f":"IF(OFFSET(DE104_9!$P$104,ROWS($P$104:P165)-1,COLUMNS($P$104:P165)-1)<>\"\",OFFSET(DE104_9!$P$104,ROWS($P$104:P165)-1,COLUMNS($P$104:P165)-1),\"\")","v":24147125},{"$f":"IF(OFFSET(DE104_9!$Q$104,ROWS($Q$104:Q165)-1,COLUMNS($Q$104:Q165)-1)<>\"\",OFFSET(DE104_9!$Q$104,ROWS($Q$104:Q165)-1,COLUMNS($Q$104:Q165)-1),\"\")","v":"DR-306"},{"$f":"IF(OFFSET(DE104_9!$R$104,ROWS($R$104:R165)-1,COLUMNS($R$104:R165)-1)<>\"\",OFFSET(DE104_9!$R$104,ROWS($R$104:R165)-1,COLUMNS($R$104:R165)-1),\"\")","v":" "},{"$f":"IF(OFFSET(DE104_9!$S$104,ROWS($S$104:S165)-1,COLUMNS($S$104:S165)-1)<>\"\",OFFSET(DE104_9!$S$104,ROWS($S$104:S165)-1,COLUMNS($S$104:S165)-1),\"\")","v":0.4},{"$f":"IF(OFFSET(DE104_9!$T$104,ROWS($T$104:T165)-1,COLUMNS($T$104:T165)-1)<>\"\",OFFSET(DE104_9!$T$104,ROWS($T$104:T165)-1,COLUMNS($T$104:T165)-1),\"\")","v":""}]
[{"$f":"IF(OFFSET(DE104_9!$C$104,ROWS($C$104:C166)-1,COLUMNS($C$104:C166)-1)<>\"\",OFFSET(DE104_9!$C$104,ROWS($C$104:C166)-1,COLUMNS($C$104:C166)-1),\"\")","v":75},{"$f":"IF(OFFSET(DE104_9!$D$104,ROWS($D$104:D166)-1,COLUMNS($D$104:D166)-1)<>\"\",OFFSET(DE104_9!$D$104,ROWS($D$104:D166)-1,COLUMNS($D$104:D166)-1),\"\")","v":"US 218"},{"$f":"IF(OFFSET(DE104_9!$E$104,ROWS($E$104:E166)-1,COLUMNS($E$104:E166)-1)<>\"\",OFFSET(DE104_9!$E$104,ROWS($E$104:E166)-1,COLUMNS($E$104:E166)-1),\"\")","v":24147710},{"$f":"IF(OFFSET(DE104_9!$F$104,ROWS($F$104:F166)-1,COLUMNS($F$104:F166)-1)<>\"\",OFFSET(DE104_9!$F$104,ROWS($F$104:F166)-1,COLUMNS($F$104:F166)-1),\"\")","v":24148050},{"$f":"IF(OFFSET(DE104_9!$G$104,ROWS($G$104:G166)-1,COLUMNS($G$104:G166)-1)<>\"\",OFFSET(DE104_9!$G$104,ROWS($G$104:G166)-1,COLUMNS($G$104:G166)-1),\"\")","v":"LT"},{"$f":"IF(OFFSET(DE104_9!$H$104,ROWS($H$104:H166)-1,COLUMNS($H$104:H166)-1)<>\"\",OFFSET(DE104_9!$H$104,ROWS($H$104:H166)-1,COLUMNS($H$104:H166)-1),\"\")","v":42},{"$f":"IF(OFFSET(DE104_9!$I$104,ROWS($I$104:I166)-1,COLUMNS($I$104:I166)-1)<>\"\",OFFSET(DE104_9!$I$104,ROWS($I$104:I166)-1,COLUMNS($I$104:I166)-1),\"\")","v":4},{"$f":"IF(OFFSET(DE104_9!$J$104,ROWS($J$104:J166)-1,COLUMNS($J$104:J166)-1)<>\"\",OFFSET(DE104_9!$J$104,ROWS($J$104:J166)-1,COLUMNS($J$104:J166)-1),\"\")","v":380},{"$f":"IF(OFFSET(DE104_9!$K$104,ROWS($K$104:K166)-1,COLUMNS($K$104:K166)-1)<>\"\",OFFSET(DE104_9!$K$104,ROWS($K$104:K166)-1,COLUMNS($K$104:K166)-1),\"\")","v":""},{"$f":"IF(OFFSET(DE104_9!$L$104,ROWS($L$104:L166)-1,COLUMNS($L$104:L166)-1)<>\"\",OFFSET(DE104_9!$L$104,ROWS($L$104:L166)-1,COLUMNS($L$104:L166)-1),\"\")","v":""},{"$f":"IF(OFFSET(DE104_9!$M$104,ROWS($M$104:M166)-1,COLUMNS($M$104:M166)-1)<>\"\",OFFSET(DE104_9!$M$104,ROWS($M$104:M166)-1,COLUMNS($M$104:M166)-1),\"\")","v":""},{"$f":"IF(OFFSET(DE104_9!$N$104,ROWS($N$104:N166)-1,COLUMNS($N$104:N166)-1)<>\"\",OFFSET(DE104_9!$N$104,ROWS($N$104:N166)-1,COLUMNS($N$104:N166)-1),\"\")","v":""},{"$f":"IF(OFFSET(DE104_9!$O$104,ROWS($O$104:O166)-1,COLUMNS($O$104:O166)-1)<>\"\",OFFSET(DE104_9!$O$104,ROWS($O$104:O166)-1,COLUMNS($O$104:O166)-1),\"\")","v":""},{"$f":"IF(OFFSET(DE104_9!$P$104,ROWS($P$104:P166)-1,COLUMNS($P$104:P166)-1)<>\"\",OFFSET(DE104_9!$P$104,ROWS($P$104:P166)-1,COLUMNS($P$104:P166)-1),\"\")","v":24147710},{"$f":"IF(OFFSET(DE104_9!$Q$104,ROWS($Q$104:Q166)-1,COLUMNS($Q$104:Q166)-1)<>\"\",OFFSET(DE104_9!$Q$104,ROWS($Q$104:Q166)-1,COLUMNS($Q$104:Q166)-1),\"\")","v":"DR-306"},{"$f":"IF(OFFSET(DE104_9!$R$104,ROWS($R$104:R166)-1,COLUMNS($R$104:R166)-1)<>\"\",OFFSET(DE104_9!$R$104,ROWS($R$104:R166)-1,COLUMNS($R$104:R166)-1),\"\")","v":35.200000000000003},{"$f":"IF(OFFSET(DE104_9!$S$104,ROWS($S$104:S166)-1,COLUMNS($S$104:S166)-1)<>\"\",OFFSET(DE104_9!$S$104,ROWS($S$104:S166)-1,COLUMNS($S$104:S166)-1),\"\")","v":0.4},{"$f":"IF(OFFSET(DE104_9!$T$104,ROWS($T$104:T166)-1,COLUMNS($T$104:T166)-1)<>\"\",OFFSET(DE104_9!$T$104,ROWS($T$104:T166)-1,COLUMNS($T$104:T166)-1),\"\")","v":""}]
[{"$f":"IF(OFFSET(DE104_9!$C$104,ROWS($C$104:C167)-1,COLUMNS($C$104:C167)-1)<>\"\",OFFSET(DE104_9!$C$104,ROWS($C$104:C167)-1,COLUMNS($C$104:C167)-1),\"\")","v":""},{"$f":"IF(OFFSET(DE104_9!$D$104,ROWS($D$104:D167)-1,COLUMNS($D$104:D167)-1)<>\"\",OFFSET(DE104_9!$D$104,ROWS($D$104:D167)-1,COLUMNS($D$104:D167)-1),\"\")","v":""},{"$f":"IF(OFFSET(DE104_9!$E$104,ROWS($E$104:E167)-1,COLUMNS($E$104:E167)-1)<>\"\",OFFSET(DE104_9!$E$104,ROWS($E$104:E167)-1,COLUMNS($E$104:E167)-1),\"\")","v":""},{"$f":"IF(OFFSET(DE104_9!$F$104,ROWS($F$104:F167)-1,COLUMNS($F$104:F167)-1)<>\"\",OFFSET(DE104_9!$F$104,ROWS($F$104:F167)-1,COLUMNS($F$104:F167)-1),\"\")","v":""},{"$f":"IF(OFFSET(DE104_9!$G$104,ROWS($G$104:G167)-1,COLUMNS($G$104:G167)-1)<>\"\",OFFSET(DE104_9!$G$104,ROWS($G$104:G167)-1,COLUMNS($G$104:G167)-1),\"\")","v":""},{"$f":"IF(OFFSET(DE104_9!$H$104,ROWS($H$104:H167)-1,COLUMNS($H$104:H167)-1)<>\"\",OFFSET(DE104_9!$H$104,ROWS($H$104:H167)-1,COLUMNS($H$104:H167)-1),\"\")","v":" "},{"$f":"IF(OFFSET(DE104_9!$I$104,ROWS($I$104:I167)-1,COLUMNS($I$104:I167)-1)<>\"\",OFFSET(DE104_9!$I$104,ROWS($I$104:I167)-1,COLUMNS($I$104:I167)-1),\"\")","v":""},{"$f":"IF(OFFSET(DE104_9!$J$104,ROWS($J$104:J167)-1,COLUMNS($J$104:J167)-1)<>\"\",OFFSET(DE104_9!$J$104,ROWS($J$104:J167)-1,COLUMNS($J$104:J167)-1),\"\")","v":""},{"$f":"IF(OFFSET(DE104_9!$K$104,ROWS($K$104:K167)-1,COLUMNS($K$104:K167)-1)<>\"\",OFFSET(DE104_9!$K$104,ROWS($K$104:K167)-1,COLUMNS($K$104:K167)-1),\"\")","v":""},{"$f":"IF(OFFSET(DE104_9!$L$104,ROWS($L$104:L167)-1,COLUMNS($L$104:L167)-1)<>\"\",OFFSET(DE104_9!$L$104,ROWS($L$104:L167)-1,COLUMNS($L$104:L167)-1),\"\")","v":""},{"$f":"IF(OFFSET(DE104_9!$M$104,ROWS($M$104:M167)-1,COLUMNS($M$104:M167)-1)<>\"\",OFFSET(DE104_9!$M$104,ROWS($M$104:M167)-1,COLUMNS($M$104:M167)-1),\"\")","v":""},{"$f":"IF(OFFSET(DE104_9!$N$104,ROWS($N$104:N167)-1,COLUMNS($N$104:N167)-1)<>\"\",OFFSET(DE104_9!$N$104,ROWS($N$104:N167)-1,COLUMNS($N$104:N167)-1),\"\")","v":""},{"$f":"IF(OFFSET(DE104_9!$O$104,ROWS($O$104:O167)-1,COLUMNS($O$104:O167)-1)<>\"\",OFFSET(DE104_9!$O$104,ROWS($O$104:O167)-1,COLUMNS($O$104:O167)-1),\"\")","v":""},{"$f":"IF(OFFSET(DE104_9!$P$104,ROWS($P$104:P167)-1,COLUMNS($P$104:P167)-1)<>\"\",OFFSET(DE104_9!$P$104,ROWS($P$104:P167)-1,COLUMNS($P$104:P167)-1),\"\")","v":24148050},{"$f":"IF(OFFSET(DE104_9!$Q$104,ROWS($Q$104:Q167)-1,COLUMNS($Q$104:Q167)-1)<>\"\",OFFSET(DE104_9!$Q$104,ROWS($Q$104:Q167)-1,COLUMNS($Q$104:Q167)-1),\"\")","v":"DR-306"},{"$f":"IF(OFFSET(DE104_9!$R$104,ROWS($R$104:R167)-1,COLUMNS($R$104:R167)-1)<>\"\",OFFSET(DE104_9!$R$104,ROWS($R$104:R167)-1,COLUMNS($R$104:R167)-1),\"\")","v":" "},{"$f":"IF(OFFSET(DE104_9!$S$104,ROWS($S$104:S167)-1,COLUMNS($S$104:S167)-1)<>\"\",OFFSET(DE104_9!$S$104,ROWS($S$104:S167)-1,COLUMNS($S$104:S167)-1),\"\")","v":0.4},{"$f":"IF(OFFSET(DE104_9!$T$104,ROWS($T$104:T167)-1,COLUMNS($T$104:T167)-1)<>\"\",OFFSET(DE104_9!$T$104,ROWS($T$104:T167)-1,COLUMNS($T$104:T167)-1),\"\")","v":""}]
[{"$f":"IF(OFFSET(DE104_9!$C$104,ROWS($C$104:C168)-1,COLUMNS($C$104:C168)-1)<>\"\",OFFSET(DE104_9!$C$104,ROWS($C$104:C168)-1,COLUMNS($C$104:C168)-1),\"\")","v":76},{"$f":"IF(OFFSET(DE104_9!$D$104,ROWS($D$104:D168)-1,COLUMNS($D$104:D168)-1)<>\"\",OFFSET(DE104_9!$D$104,ROWS($D$104:D168)-1,COLUMNS($D$104:D168)-1),\"\")","v":"US 218"},{"$f":"IF(OFFSET(DE104_9!$E$104,ROWS($E$104:E168)-1,COLUMNS($E$104:E168)-1)<>\"\",OFFSET(DE104_9!$E$104,ROWS($E$104:E168)-1,COLUMNS($E$104:E168)-1),\"\")","v":24148050},{"$f":"IF(OFFSET(DE104_9!$F$104,ROWS($F$104:F168)-1,COLUMNS($F$104:F168)-1)<>\"\",OFFSET(DE104_9!$F$104,ROWS($F$104:F168)-1,COLUMNS($F$104:F168)-1),\"\")","v":24148336.199999999},{"$f":"IF(OFFSET(DE104_9!$G$104,ROWS($G$104:G168)-1,COLUMNS($G$104:G168)-1)<>\"\",OFFSET(DE104_9!$G$104,ROWS($G$104:G168)-1,COLUMNS($G$104:G168)-1),\"\")","v":"LT"},{"$f":"IF(OFFSET(DE104_9!$H$104,ROWS($H$104:H168)-1,COLUMNS($H$104:H168)-1)<>\"\",OFFSET(DE104_9!$H$104,ROWS($H$104:H168)-1,COLUMNS($H$104:H168)-1),\"\")","v":42},{"$f":"IF(OFFSET(DE104_9!$I$104,ROWS($I$104:I168)-1,COLUMNS($I$104:I168)-1)<>\"\",OFFSET(DE104_9!$I$104,ROWS($I$104:I168)-1,COLUMNS($I$104:I168)-1),\"\")","v":4},{"$f":"IF(OFFSET(DE104_9!$J$104,ROWS($J$104:J168)-1,COLUMNS($J$104:J168)-1)<>\"\",OFFSET(DE104_9!$J$104,ROWS($J$104:J168)-1,COLUMNS($J$104:J168)-1),\"\")","v":326.19999999925494},{"$f":"IF(OFFSET(DE104_9!$K$104,ROWS($K$104:K168)-1,COLUMNS($K$104:K168)-1)<>\"\",OFFSET(DE104_9!$K$104,ROWS($K$104:K168)-1,COLUMNS($K$104:K168)-1),\"\")","v":""},{"$f":"IF(OFFSET(DE104_9!$L$104,ROWS($L$104:L168)-1,COLUMNS($L$104:L168)-1)<>\"\",OFFSET(DE104_9!$L$104,ROWS($L$104:L168)-1,COLUMNS($L$104:L168)-1),\"\")","v":""},{"$f":"IF(OFFSET(DE104_9!$M$104,ROWS($M$104:M168)-1,COLUMNS($M$104:M168)-1)<>\"\",OFFSET(DE104_9!$M$104,ROWS($M$104:M168)-1,COLUMNS($M$104:M168)-1),\"\")","v":""},{"$f":"IF(OFFSET(DE104_9!$N$104,ROWS($N$104:N168)-1,COLUMNS($N$104:N168)-1)<>\"\",OFFSET(DE104_9!$N$104,ROWS($N$104:N168)-1,COLUMNS($N$104:N168)-1),\"\")","v":""},{"$f":"IF(OFFSET(DE104_9!$O$104,ROWS($O$104:O168)-1,COLUMNS($O$104:O168)-1)<>\"\",OFFSET(DE104_9!$O$104,ROWS($O$104:O168)-1,COLUMNS($O$104:O168)-1),\"\")","v":""},{"$f":"IF(OFFSET(DE104_9!$P$104,ROWS($P$104:P168)-1,COLUMNS($P$104:P168)-1)<>\"\",OFFSET(DE104_9!$P$104,ROWS($P$104:P168)-1,COLUMNS($P$104:P168)-1),\"\")","v":24148050},{"$f":"IF(OFFSET(DE104_9!$Q$104,ROWS($Q$104:Q168)-1,COLUMNS($Q$104:Q168)-1)<>\"\",OFFSET(DE104_9!$Q$104,ROWS($Q$104:Q168)-1,COLUMNS($Q$104:Q168)-1),\"\")","v":"DR-306"},{"$f":"IF(OFFSET(DE104_9!$R$104,ROWS($R$104:R168)-1,COLUMNS($R$104:R168)-1)<>\"\",OFFSET(DE104_9!$R$104,ROWS($R$104:R168)-1,COLUMNS($R$104:R168)-1),\"\")","v":30.2},{"$f":"IF(OFFSET(DE104_9!$S$104,ROWS($S$104:S168)-1,COLUMNS($S$104:S168)-1)<>\"\",OFFSET(DE104_9!$S$104,ROWS($S$104:S168)-1,COLUMNS($S$104:S168)-1),\"\")","v":0.4},{"$f":"IF(OFFSET(DE104_9!$T$104,ROWS($T$104:T168)-1,COLUMNS($T$104:T168)-1)<>\"\",OFFSET(DE104_9!$T$104,ROWS($T$104:T168)-1,COLUMNS($T$104:T168)-1),\"\")","v":""}]
[{"$f":"IF(OFFSET(DE104_9!$C$104,ROWS($C$104:C169)-1,COLUMNS($C$104:C169)-1)<>\"\",OFFSET(DE104_9!$C$104,ROWS($C$104:C169)-1,COLUMNS($C$104:C169)-1),\"\")","v":""},{"$f":"IF(OFFSET(DE104_9!$D$104,ROWS($D$104:D169)-1,COLUMNS($D$104:D169)-1)<>\"\",OFFSET(DE104_9!$D$104,ROWS($D$104:D169)-1,COLUMNS($D$104:D169)-1),\"\")","v":""},{"$f":"IF(OFFSET(DE104_9!$E$104,ROWS($E$104:E169)-1,COLUMNS($E$104:E169)-1)<>\"\",OFFSET(DE104_9!$E$104,ROWS($E$104:E169)-1,COLUMNS($E$104:E169)-1),\"\")","v":""},{"$f":"IF(OFFSET(DE104_9!$F$104,ROWS($F$104:F169)-1,COLUMNS($F$104:F169)-1)<>\"\",OFFSET(DE104_9!$F$104,ROWS($F$104:F169)-1,COLUMNS($F$104:F169)-1),\"\")","v":""},{"$f":"IF(OFFSET(DE104_9!$G$104,ROWS($G$104:G169)-1,COLUMNS($G$104:G169)-1)<>\"\",OFFSET(DE104_9!$G$104,ROWS($G$104:G169)-1,COLUMNS($G$104:G169)-1),\"\")","v":""},{"$f":"IF(OFFSET(DE104_9!$H$104,ROWS($H$104:H169)-1,COLUMNS($H$104:H169)-1)<>\"\",OFFSET(DE104_9!$H$104,ROWS($H$104:H169)-1,COLUMNS($H$104:H169)-1),\"\")","v":" "},{"$f":"IF(OFFSET(DE104_9!$I$104,ROWS($I$104:I169)-1,COLUMNS($I$104:I169)-1)<>\"\",OFFSET(DE104_9!$I$104,ROWS($I$104:I169)-1,COLUMNS($I$104:I169)-1),\"\")","v":""},{"$f":"IF(OFFSET(DE104_9!$J$104,ROWS($J$104:J169)-1,COLUMNS($J$104:J169)-1)<>\"\",OFFSET(DE104_9!$J$104,ROWS($J$104:J169)-1,COLUMNS($J$104:J169)-1),\"\")","v":""},{"$f":"IF(OFFSET(DE104_9!$K$104,ROWS($K$104:K169)-1,COLUMNS($K$104:K169)-1)<>\"\",OFFSET(DE104_9!$K$104,ROWS($K$104:K169)-1,COLUMNS($K$104:K169)-1),\"\")","v":""},{"$f":"IF(OFFSET(DE104_9!$L$104,ROWS($L$104:L169)-1,COLUMNS($L$104:L169)-1)<>\"\",OFFSET(DE104_9!$L$104,ROWS($L$104:L169)-1,COLUMNS($L$104:L169)-1),\"\")","v":""},{"$f":"IF(OFFSET(DE104_9!$M$104,ROWS($M$104:M169)-1,COLUMNS($M$104:M169)-1)<>\"\",OFFSET(DE104_9!$M$104,ROWS($M$104:M169)-1,COLUMNS($M$104:M169)-1),\"\")","v":""},{"$f":"IF(OFFSET(DE104_9!$N$104,ROWS($N$104:N169)-1,COLUMNS($N$104:N169)-1)<>\"\",OFFSET(DE104_9!$N$104,ROWS($N$104:N169)-1,COLUMNS($N$104:N169)-1),\"\")","v":""},{"$f":"IF(OFFSET(DE104_9!$O$104,ROWS($O$104:O169)-1,COLUMNS($O$104:O169)-1)<>\"\",OFFSET(DE104_9!$O$104,ROWS($O$104:O169)-1,COLUMNS($O$104:O169)-1),\"\")","v":""},{"$f":"IF(OFFSET(DE104_9!$P$104,ROWS($P$104:P169)-1,COLUMNS($P$104:P169)-1)<>\"\",OFFSET(DE104_9!$P$104,ROWS($P$104:P169)-1,COLUMNS($P$104:P169)-1),\"\")","v":24148336.199999999},{"$f":"IF(OFFSET(DE104_9!$Q$104,ROWS($Q$104:Q169)-1,COLUMNS($Q$104:Q169)-1)<>\"\",OFFSET(DE104_9!$Q$104,ROWS($Q$104:Q169)-1,COLUMNS($Q$104:Q169)-1),\"\")","v":"DR-306"},{"$f":"IF(OFFSET(DE104_9!$R$104,ROWS($R$104:R169)-1,COLUMNS($R$104:R169)-1)<>\"\",OFFSET(DE104_9!$R$104,ROWS($R$104:R169)-1,COLUMNS($R$104:R169)-1),\"\")","v":" "},{"$f":"IF(OFFSET(DE104_9!$S$104,ROWS($S$104:S169)-1,COLUMNS($S$104:S169)-1)<>\"\",OFFSET(DE104_9!$S$104,ROWS($S$104:S169)-1,COLUMNS($S$104:S169)-1),\"\")","v":0.4},{"$f":"IF(OFFSET(DE104_9!$T$104,ROWS($T$104:T169)-1,COLUMNS($T$104:T169)-1)<>\"\",OFFSET(DE104_9!$T$104,ROWS($T$104:T169)-1,COLUMNS($T$104:T169)-1),\"\")","v":""}]
[{"$f":"IF(OFFSET(DE104_9!$C$104,ROWS($C$104:C170)-1,COLUMNS($C$104:C170)-1)<>\"\",OFFSET(DE104_9!$C$104,ROWS($C$104:C170)-1,COLUMNS($C$104:C170)-1),\"\")","v":77},{"$f":"IF(OFFSET(DE104_9!$D$104,ROWS($D$104:D170)-1,COLUMNS($D$104:D170)-1)<>\"\",OFFSET(DE104_9!$D$104,ROWS($D$104:D170)-1,COLUMNS($D$104:D170)-1),\"\")","v":"US 218"},{"$f":"IF(OFFSET(DE104_9!$E$104,ROWS($E$104:E170)-1,COLUMNS($E$104:E170)-1)<>\"\",OFFSET(DE104_9!$E$104,ROWS($E$104:E170)-1,COLUMNS($E$104:E170)-1),\"\")","v":24148336.199999999},{"$f":"IF(OFFSET(DE104_9!$F$104,ROWS($F$104:F170)-1,COLUMNS($F$104:F170)-1)<>\"\",OFFSET(DE104_9!$F$104,ROWS($F$104:F170)-1,COLUMNS($F$104:F170)-1),\"\")","v":24148825},{"$f":"IF(OFFSET(DE104_9!$G$104,ROWS($G$104:G170)-1,COLUMNS($G$104:G170)-1)<>\"\",OFFSET(DE104_9!$G$104,ROWS($G$104:G170)-1,COLUMNS($G$104:G170)-1),\"\")","v":"LT"},{"$f":"IF(OFFSET(DE104_9!$H$104,ROWS($H$104:H170)-1,COLUMNS($H$104:H170)-1)<>\"\",OFFSET(DE104_9!$H$104,ROWS($H$104:H170)-1,COLUMNS($H$104:H170)-1),\"\")","v":42},{"$f":"IF(OFFSET(DE104_9!$I$104,ROWS($I$104:I170)-1,COLUMNS($I$104:I170)-1)<>\"\",OFFSET(DE104_9!$I$104,ROWS($I$104:I170)-1,COLUMNS($I$104:I170)-1),\"\")","v":4},{"$f":"IF(OFFSET(DE104_9!$J$104,ROWS($J$104:J170)-1,COLUMNS($J$104:J170)-1)<>\"\",OFFSET(DE104_9!$J$104,ROWS($J$104:J170)-1,COLUMNS($J$104:J170)-1),\"\")","v":528.80000000074506},{"$f":"IF(OFFSET(DE104_9!$K$104,ROWS($K$104:K170)-1,COLUMNS($K$104:K170)-1)<>\"\",OFFSET(DE104_9!$K$104,ROWS($K$104:K170)-1,COLUMNS($K$104:K170)-1),\"\")","v":""},{"$f":"IF(OFFSET(DE104_9!$L$104,ROWS($L$104:L170)-1,COLUMNS($L$104:L170)-1)<>\"\",OFFSET(DE104_9!$L$104,ROWS($L$104:L170)-1,COLUMNS($L$104:L170)-1),\"\")","v":""},{"$f":"IF(OFFSET(DE104_9!$M$104,ROWS($M$104:M170)-1,COLUMNS($M$104:M170)-1)<>\"\",OFFSET(DE104_9!$M$104,ROWS($M$104:M170)-1,COLUMNS($M$104:M170)-1),\"\")","v":""},{"$f":"IF(OFFSET(DE104_9!$N$104,ROWS($N$104:N170)-1,COLUMNS($N$104:N170)-1)<>\"\",OFFSET(DE104_9!$N$104,ROWS($N$104:N170)-1,COLUMNS($N$104:N170)-1),\"\")","v":""},{"$f":"IF(OFFSET(DE104_9!$O$104,ROWS($O$104:O170)-1,COLUMNS($O$104:O170)-1)<>\"\",OFFSET(DE104_9!$O$104,ROWS($O$104:O170)-1,COLUMNS($O$104:O170)-1),\"\")","v":""},{"$f":"IF(OFFSET(DE104_9!$P$104,ROWS($P$104:P170)-1,COLUMNS($P$104:P170)-1)<>\"\",OFFSET(DE104_9!$P$104,ROWS($P$104:P170)-1,COLUMNS($P$104:P170)-1),\"\")","v":24148336.199999999},{"$f":"IF(OFFSET(DE104_9!$Q$104,ROWS($Q$104:Q170)-1,COLUMNS($Q$104:Q170)-1)<>\"\",OFFSET(DE104_9!$Q$104,ROWS($Q$104:Q170)-1,COLUMNS($Q$104:Q170)-1),\"\")","v":"DR-306"},{"$f":"IF(OFFSET(DE104_9!$R$104,ROWS($R$104:R170)-1,COLUMNS($R$104:R170)-1)<>\"\",OFFSET(DE104_9!$R$104,ROWS($R$104:R170)-1,COLUMNS($R$104:R170)-1),\"\")","v":49},{"$f":"IF(OFFSET(DE104_9!$S$104,ROWS($S$104:S170)-1,COLUMNS($S$104:S170)-1)<>\"\",OFFSET(DE104_9!$S$104,ROWS($S$104:S170)-1,COLUMNS($S$104:S170)-1),\"\")","v":0.4},{"$f":"IF(OFFSET(DE104_9!$T$104,ROWS($T$104:T170)-1,COLUMNS($T$104:T170)-1)<>\"\",OFFSET(DE104_9!$T$104,ROWS($T$104:T170)-1,COLUMNS($T$104:T170)-1),\"\")","v":""}]
[{"$f":"IF(OFFSET(DE104_9!$C$104,ROWS($C$104:C171)-1,COLUMNS($C$104:C171)-1)<>\"\",OFFSET(DE104_9!$C$104,ROWS($C$104:C171)-1,COLUMNS($C$104:C171)-1),\"\")","v":""},{"$f":"IF(OFFSET(DE104_9!$D$104,ROWS($D$104:D171)-1,COLUMNS($D$104:D171)-1)<>\"\",OFFSET(DE104_9!$D$104,ROWS($D$104:D171)-1,COLUMNS($D$104:D171)-1),\"\")","v":""},{"$f":"IF(OFFSET(DE104_9!$E$104,ROWS($E$104:E171)-1,COLUMNS($E$104:E171)-1)<>\"\",OFFSET(DE104_9!$E$104,ROWS($E$104:E171)-1,COLUMNS($E$104:E171)-1),\"\")","v":""},{"$f":"IF(OFFSET(DE104_9!$F$104,ROWS($F$104:F171)-1,COLUMNS($F$104:F171)-1)<>\"\",OFFSET(DE104_9!$F$104,ROWS($F$104:F171)-1,COLUMNS($F$104:F171)-1),\"\")","v":""},{"$f":"IF(OFFSET(DE104_9!$G$104,ROWS($G$104:G171)-1,COLUMNS($G$104:G171)-1)<>\"\",OFFSET(DE104_9!$G$104,ROWS($G$104:G171)-1,COLUMNS($G$104:G171)-1),\"\")","v":""},{"$f":"IF(OFFSET(DE104_9!$H$104,ROWS($H$104:H171)-1,COLUMNS($H$104:H171)-1)<>\"\",OFFSET(DE104_9!$H$104,ROWS($H$104:H171)-1,COLUMNS($H$104:H171)-1),\"\")","v":" "},{"$f":"IF(OFFSET(DE104_9!$I$104,ROWS($I$104:I171)-1,COLUMNS($I$104:I171)-1)<>\"\",OFFSET(DE104_9!$I$104,ROWS($I$104:I171)-1,COLUMNS($I$104:I171)-1),\"\")","v":""},{"$f":"IF(OFFSET(DE104_9!$J$104,ROWS($J$104:J171)-1,COLUMNS($J$104:J171)-1)<>\"\",OFFSET(DE104_9!$J$104,ROWS($J$104:J171)-1,COLUMNS($J$104:J171)-1),\"\")","v":""},{"$f":"IF(OFFSET(DE104_9!$K$104,ROWS($K$104:K171)-1,COLUMNS($K$104:K171)-1)<>\"\",OFFSET(DE104_9!$K$104,ROWS($K$104:K171)-1,COLUMNS($K$104:K171)-1),\"\")","v":""},{"$f":"IF(OFFSET(DE104_9!$L$104,ROWS($L$104:L171)-1,COLUMNS($L$104:L171)-1)<>\"\",OFFSET(DE104_9!$L$104,ROWS($L$104:L171)-1,COLUMNS($L$104:L171)-1),\"\")","v":""},{"$f":"IF(OFFSET(DE104_9!$M$104,ROWS($M$104:M171)-1,COLUMNS($M$104:M171)-1)<>\"\",OFFSET(DE104_9!$M$104,ROWS($M$104:M171)-1,COLUMNS($M$104:M171)-1),\"\")","v":""},{"$f":"IF(OFFSET(DE104_9!$N$104,ROWS($N$104:N171)-1,COLUMNS($N$104:N171)-1)<>\"\",OFFSET(DE104_9!$N$104,ROWS($N$104:N171)-1,COLUMNS($N$104:N171)-1),\"\")","v":""},{"$f":"IF(OFFSET(DE104_9!$O$104,ROWS($O$104:O171)-1,COLUMNS($O$104:O171)-1)<>\"\",OFFSET(DE104_9!$O$104,ROWS($O$104:O171)-1,COLUMNS($O$104:O171)-1),\"\")","v":""},{"$f":"IF(OFFSET(DE104_9!$P$104,ROWS($P$104:P171)-1,COLUMNS($P$104:P171)-1)<>\"\",OFFSET(DE104_9!$P$104,ROWS($P$104:P171)-1,COLUMNS($P$104:P171)-1),\"\")","v":24148825},{"$f":"IF(OFFSET(DE104_9!$Q$104,ROWS($Q$104:Q171)-1,COLUMNS($Q$104:Q171)-1)<>\"\",OFFSET(DE104_9!$Q$104,ROWS($Q$104:Q171)-1,COLUMNS($Q$104:Q171)-1),\"\")","v":"DR-306"},{"$f":"IF(OFFSET(DE104_9!$R$104,ROWS($R$104:R171)-1,COLUMNS($R$104:R171)-1)<>\"\",OFFSET(DE104_9!$R$104,ROWS($R$104:R171)-1,COLUMNS($R$104:R171)-1),\"\")","v":" "},{"$f":"IF(OFFSET(DE104_9!$S$104,ROWS($S$104:S171)-1,COLUMNS($S$104:S171)-1)<>\"\",OFFSET(DE104_9!$S$104,ROWS($S$104:S171)-1,COLUMNS($S$104:S171)-1),\"\")","v":0.4},{"$f":"IF(OFFSET(DE104_9!$T$104,ROWS($T$104:T171)-1,COLUMNS($T$104:T171)-1)<>\"\",OFFSET(DE104_9!$T$104,ROWS($T$104:T171)-1,COLUMNS($T$104:T171)-1),\"\")","v":""}]
[{"$f":"IF(OFFSET(DE104_9!$C$104,ROWS($C$104:C172)-1,COLUMNS($C$104:C172)-1)<>\"\",OFFSET(DE104_9!$C$104,ROWS($C$104:C172)-1,COLUMNS($C$104:C172)-1),\"\")","v":78},{"$f":"IF(OFFSET(DE104_9!$D$104,ROWS($D$104:D172)-1,COLUMNS($D$104:D172)-1)<>\"\",OFFSET(DE104_9!$D$104,ROWS($D$104:D172)-1,COLUMNS($D$104:D172)-1),\"\")","v":"US 218"},{"$f":"IF(OFFSET(DE104_9!$E$104,ROWS($E$104:E172)-1,COLUMNS($E$104:E172)-1)<>\"\",OFFSET(DE104_9!$E$104,ROWS($E$104:E172)-1,COLUMNS($E$104:E172)-1),\"\")","v":24148825},{"$f":"IF(OFFSET(DE104_9!$F$104,ROWS($F$104:F172)-1,COLUMNS($F$104:F172)-1)<>\"\",OFFSET(DE104_9!$F$104,ROWS($F$104:F172)-1,COLUMNS($F$104:F172)-1),\"\")","v":24149315},{"$f":"IF(OFFSET(DE104_9!$G$104,ROWS($G$104:G172)-1,COLUMNS($G$104:G172)-1)<>\"\",OFFSET(DE104_9!$G$104,ROWS($G$104:G172)-1,COLUMNS($G$104:G172)-1),\"\")","v":"LT"},{"$f":"IF(OFFSET(DE104_9!$H$104,ROWS($H$104:H172)-1,COLUMNS($H$104:H172)-1)<>\"\",OFFSET(DE104_9!$H$104,ROWS($H$104:H172)-1,COLUMNS($H$104:H172)-1),\"\")","v":42},{"$f":"IF(OFFSET(DE104_9!$I$104,ROWS($I$104:I172)-1,COLUMNS($I$104:I172)-1)<>\"\",OFFSET(DE104_9!$I$104,ROWS($I$104:I172)-1,COLUMNS($I$104:I172)-1),\"\")","v":4},{"$f":"IF(OFFSET(DE104_9!$J$104,ROWS($J$104:J172)-1,COLUMNS($J$104:J172)-1)<>\"\",OFFSET(DE104_9!$J$104,ROWS($J$104:J172)-1,COLUMNS($J$104:J172)-1),\"\")","v":530},{"$f":"IF(OFFSET(DE104_9!$K$104,ROWS($K$104:K172)-1,COLUMNS($K$104:K172)-1)<>\"\",OFFSET(DE104_9!$K$104,ROWS($K$104:K172)-1,COLUMNS($K$104:K172)-1),\"\")","v":""},{"$f":"IF(OFFSET(DE104_9!$L$104,ROWS($L$104:L172)-1,COLUMNS($L$104:L172)-1)<>\"\",OFFSET(DE104_9!$L$104,ROWS($L$104:L172)-1,COLUMNS($L$104:L172)-1),\"\")","v":""},{"$f":"IF(OFFSET(DE104_9!$M$104,ROWS($M$104:M172)-1,COLUMNS($M$104:M172)-1)<>\"\",OFFSET(DE104_9!$M$104,ROWS($M$104:M172)-1,COLUMNS($M$104:M172)-1),\"\")","v":""},{"$f":"IF(OFFSET(DE104_9!$N$104,ROWS($N$104:N172)-1,COLUMNS($N$104:N172)-1)<>\"\",OFFSET(DE104_9!$N$104,ROWS($N$104:N172)-1,COLUMNS($N$104:N172)-1),\"\")","v":""},{"$f":"IF(OFFSET(DE104_9!$O$104,ROWS($O$104:O172)-1,COLUMNS($O$104:O172)-1)<>\"\",OFFSET(DE104_9!$O$104,ROWS($O$104:O172)-1,COLUMNS($O$104:O172)-1),\"\")","v":""},{"$f":"IF(OFFSET(DE104_9!$P$104,ROWS($P$104:P172)-1,COLUMNS($P$104:P172)-1)<>\"\",OFFSET(DE104_9!$P$104,ROWS($P$104:P172)-1,COLUMNS($P$104:P172)-1),\"\")","v":24148825},{"$f":"IF(OFFSET(DE104_9!$Q$104,ROWS($Q$104:Q172)-1,COLUMNS($Q$104:Q172)-1)<>\"\",OFFSET(DE104_9!$Q$104,ROWS($Q$104:Q172)-1,COLUMNS($Q$104:Q172)-1),\"\")","v":"DR-306"},{"$f":"IF(OFFSET(DE104_9!$R$104,ROWS($R$104:R172)-1,COLUMNS($R$104:R172)-1)<>\"\",OFFSET(DE104_9!$R$104,ROWS($R$104:R172)-1,COLUMNS($R$104:R172)-1),\"\")","v":49.1},{"$f":"IF(OFFSET(DE104_9!$S$104,ROWS($S$104:S172)-1,COLUMNS($S$104:S172)-1)<>\"\",OFFSET(DE104_9!$S$104,ROWS($S$104:S172)-1,COLUMNS($S$104:S172)-1),\"\")","v":0.4},{"$f":"IF(OFFSET(DE104_9!$T$104,ROWS($T$104:T172)-1,COLUMNS($T$104:T172)-1)<>\"\",OFFSET(DE104_9!$T$104,ROWS($T$104:T172)-1,COLUMNS($T$104:T172)-1),\"\")","v":""}]
[{"$f":"IF(OFFSET(DE104_9!$C$104,ROWS($C$104:C173)-1,COLUMNS($C$104:C173)-1)<>\"\",OFFSET(DE104_9!$C$104,ROWS($C$104:C173)-1,COLUMNS($C$104:C173)-1),\"\")","v":""},{"$f":"IF(OFFSET(DE104_9!$D$104,ROWS($D$104:D173)-1,COLUMNS($D$104:D173)-1)<>\"\",OFFSET(DE104_9!$D$104,ROWS($D$104:D173)-1,COLUMNS($D$104:D173)-1),\"\")","v":""},{"$f":"IF(OFFSET(DE104_9!$E$104,ROWS($E$104:E173)-1,COLUMNS($E$104:E173)-1)<>\"\",OFFSET(DE104_9!$E$104,ROWS($E$104:E173)-1,COLUMNS($E$104:E173)-1),\"\")","v":""},{"$f":"IF(OFFSET(DE104_9!$F$104,ROWS($F$104:F173)-1,COLUMNS($F$104:F173)-1)<>\"\",OFFSET(DE104_9!$F$104,ROWS($F$104:F173)-1,COLUMNS($F$104:F173)-1),\"\")","v":""},{"$f":"IF(OFFSET(DE104_9!$G$104,ROWS($G$104:G173)-1,COLUMNS($G$104:G173)-1)<>\"\",OFFSET(DE104_9!$G$104,ROWS($G$104:G173)-1,COLUMNS($G$104:G173)-1),\"\")","v":""},{"$f":"IF(OFFSET(DE104_9!$H$104,ROWS($H$104:H173)-1,COLUMNS($H$104:H173)-1)<>\"\",OFFSET(DE104_9!$H$104,ROWS($H$104:H173)-1,COLUMNS($H$104:H173)-1),\"\")","v":" "},{"$f":"IF(OFFSET(DE104_9!$I$104,ROWS($I$104:I173)-1,COLUMNS($I$104:I173)-1)<>\"\",OFFSET(DE104_9!$I$104,ROWS($I$104:I173)-1,COLUMNS($I$104:I173)-1),\"\")","v":""},{"$f":"IF(OFFSET(DE104_9!$J$104,ROWS($J$104:J173)-1,COLUMNS($J$104:J173)-1)<>\"\",OFFSET(DE104_9!$J$104,ROWS($J$104:J173)-1,COLUMNS($J$104:J173)-1),\"\")","v":""},{"$f":"IF(OFFSET(DE104_9!$K$104,ROWS($K$104:K173)-1,COLUMNS($K$104:K173)-1)<>\"\",OFFSET(DE104_9!$K$104,ROWS($K$104:K173)-1,COLUMNS($K$104:K173)-1),\"\")","v":""},{"$f":"IF(OFFSET(DE104_9!$L$104,ROWS($L$104:L173)-1,COLUMNS($L$104:L173)-1)<>\"\",OFFSET(DE104_9!$L$104,ROWS($L$104:L173)-1,COLUMNS($L$104:L173)-1),\"\")","v":""},{"$f":"IF(OFFSET(DE104_9!$M$104,ROWS($M$104:M173)-1,COLUMNS($M$104:M173)-1)<>\"\",OFFSET(DE104_9!$M$104,ROWS($M$104:M173)-1,COLUMNS($M$104:M173)-1),\"\")","v":""},{"$f":"IF(OFFSET(DE104_9!$N$104,ROWS($N$104:N173)-1,COLUMNS($N$104:N173)-1)<>\"\",OFFSET(DE104_9!$N$104,ROWS($N$104:N173)-1,COLUMNS($N$104:N173)-1),\"\")","v":""},{"$f":"IF(OFFSET(DE104_9!$O$104,ROWS($O$104:O173)-1,COLUMNS($O$104:O173)-1)<>\"\",OFFSET(DE104_9!$O$104,ROWS($O$104:O173)-1,COLUMNS($O$104:O173)-1),\"\")","v":""},{"$f":"IF(OFFSET(DE104_9!$P$104,ROWS($P$104:P173)-1,COLUMNS($P$104:P173)-1)<>\"\",OFFSET(DE104_9!$P$104,ROWS($P$104:P173)-1,COLUMNS($P$104:P173)-1),\"\")","v":24149315},{"$f":"IF(OFFSET(DE104_9!$Q$104,ROWS($Q$104:Q173)-1,COLUMNS($Q$104:Q173)-1)<>\"\",OFFSET(DE104_9!$Q$104,ROWS($Q$104:Q173)-1,COLUMNS($Q$104:Q173)-1),\"\")","v":"DR-306"},{"$f":"IF(OFFSET(DE104_9!$R$104,ROWS($R$104:R173)-1,COLUMNS($R$104:R173)-1)<>\"\",OFFSET(DE104_9!$R$104,ROWS($R$104:R173)-1,COLUMNS($R$104:R173)-1),\"\")","v":" "},{"$f":"IF(OFFSET(DE104_9!$S$104,ROWS($S$104:S173)-1,COLUMNS($S$104:S173)-1)<>\"\",OFFSET(DE104_9!$S$104,ROWS($S$104:S173)-1,COLUMNS($S$104:S173)-1),\"\")","v":0.4},{"$f":"IF(OFFSET(DE104_9!$T$104,ROWS($T$104:T173)-1,COLUMNS($T$104:T173)-1)<>\"\",OFFSET(DE104_9!$T$104,ROWS($T$104:T173)-1,COLUMNS($T$104:T173)-1),\"\")","v":""}]
[{"$f":"IF(OFFSET(DE104_9!$C$104,ROWS($C$104:C174)-1,COLUMNS($C$104:C174)-1)<>\"\",OFFSET(DE104_9!$C$104,ROWS($C$104:C174)-1,COLUMNS($C$104:C174)-1),\"\")","v":79},{"$f":"IF(OFFSET(DE104_9!$D$104,ROWS($D$104:D174)-1,COLUMNS($D$104:D174)-1)<>\"\",OFFSET(DE104_9!$D$104,ROWS($D$104:D174)-1,COLUMNS($D$104:D174)-1),\"\")","v":"US 218"},{"$f":"IF(OFFSET(DE104_9!$E$104,ROWS($E$104:E174)-1,COLUMNS($E$104:E174)-1)<>\"\",OFFSET(DE104_9!$E$104,ROWS($E$104:E174)-1,COLUMNS($E$104:E174)-1),\"\")","v":24149315},{"$f":"IF(OFFSET(DE104_9!$F$104,ROWS($F$104:F174)-1,COLUMNS($F$104:F174)-1)<>\"\",OFFSET(DE104_9!$F$104,ROWS($F$104:F174)-1,COLUMNS($F$104:F174)-1),\"\")","v":24149805},{"$f":"IF(OFFSET(DE104_9!$G$104,ROWS($G$104:G174)-1,COLUMNS($G$104:G174)-1)<>\"\",OFFSET(DE104_9!$G$104,ROWS($G$104:G174)-1,COLUMNS($G$104:G174)-1),\"\")","v":"LT"},{"$f":"IF(OFFSET(DE104_9!$H$104,ROWS($H$104:H174)-1,COLUMNS($H$104:H174)-1)<>\"\",OFFSET(DE104_9!$H$104,ROWS($H$104:H174)-1,COLUMNS($H$104:H174)-1),\"\")","v":30},{"$f":"IF(OFFSET(DE104_9!$I$104,ROWS($I$104:I174)-1,COLUMNS($I$104:I174)-1)<>\"\",OFFSET(DE104_9!$I$104,ROWS($I$104:I174)-1,COLUMNS($I$104:I174)-1),\"\")","v":4},{"$f":"IF(OFFSET(DE104_9!$J$104,ROWS($J$104:J174)-1,COLUMNS($J$104:J174)-1)<>\"\",OFFSET(DE104_9!$J$104,ROWS($J$104:J174)-1,COLUMNS($J$104:J174)-1),\"\")","v":530},{"$f":"IF(OFFSET(DE104_9!$K$104,ROWS($K$104:K174)-1,COLUMNS($K$104:K174)-1)<>\"\",OFFSET(DE104_9!$K$104,ROWS($K$104:K174)-1,COLUMNS($K$104:K174)-1),\"\")","v":""},{"$f":"IF(OFFSET(DE104_9!$L$104,ROWS($L$104:L174)-1,COLUMNS($L$104:L174)-1)<>\"\",OFFSET(DE104_9!$L$104,ROWS($L$104:L174)-1,COLUMNS($L$104:L174)-1),\"\")","v":""},{"$f":"IF(OFFSET(DE104_9!$M$104,ROWS($M$104:M174)-1,COLUMNS($M$104:M174)-1)<>\"\",OFFSET(DE104_9!$M$104,ROWS($M$104:M174)-1,COLUMNS($M$104:M174)-1),\"\")","v":""},{"$f":"IF(OFFSET(DE104_9!$N$104,ROWS($N$104:N174)-1,COLUMNS($N$104:N174)-1)<>\"\",OFFSET(DE104_9!$N$104,ROWS($N$104:N174)-1,COLUMNS($N$104:N174)-1),\"\")","v":""},{"$f":"IF(OFFSET(DE104_9!$O$104,ROWS($O$104:O174)-1,COLUMNS($O$104:O174)-1)<>\"\",OFFSET(DE104_9!$O$104,ROWS($O$104:O174)-1,COLUMNS($O$104:O174)-1),\"\")","v":""},{"$f":"IF(OFFSET(DE104_9!$P$104,ROWS($P$104:P174)-1,COLUMNS($P$104:P174)-1)<>\"\",OFFSET(DE104_9!$P$104,ROWS($P$104:P174)-1,COLUMNS($P$104:P174)-1),\"\")","v":24149315},{"$f":"IF(OFFSET(DE104_9!$Q$104,ROWS($Q$104:Q174)-1,COLUMNS($Q$104:Q174)-1)<>\"\",OFFSET(DE104_9!$Q$104,ROWS($Q$104:Q174)-1,COLUMNS($Q$104:Q174)-1),\"\")","v":"DR-306"},{"$f":"IF(OFFSET(DE104_9!$R$104,ROWS($R$104:R174)-1,COLUMNS($R$104:R174)-1)<>\"\",OFFSET(DE104_9!$R$104,ROWS($R$104:R174)-1,COLUMNS($R$104:R174)-1),\"\")","v":32.700000000000003},{"$f":"IF(OFFSET(DE104_9!$S$104,ROWS($S$104:S174)-1,COLUMNS($S$104:S174)-1)<>\"\",OFFSET(DE104_9!$S$104,ROWS($S$104:S174)-1,COLUMNS($S$104:S174)-1),\"\")","v":0.4},{"$f":"IF(OFFSET(DE104_9!$T$104,ROWS($T$104:T174)-1,COLUMNS($T$104:T174)-1)<>\"\",OFFSET(DE104_9!$T$104,ROWS($T$104:T174)-1,COLUMNS($T$104:T174)-1),\"\")","v":""}]
[{"$f":"IF(OFFSET(DE104_9!$C$104,ROWS($C$104:C175)-1,COLUMNS($C$104:C175)-1)<>\"\",OFFSET(DE104_9!$C$104,ROWS($C$104:C175)-1,COLUMNS($C$104:C175)-1),\"\")","v":""},{"$f":"IF(OFFSET(DE104_9!$D$104,ROWS($D$104:D175)-1,COLUMNS($D$104:D175)-1)<>\"\",OFFSET(DE104_9!$D$104,ROWS($D$104:D175)-1,COLUMNS($D$104:D175)-1),\"\")","v":""},{"$f":"IF(OFFSET(DE104_9!$E$104,ROWS($E$104:E175)-1,COLUMNS($E$104:E175)-1)<>\"\",OFFSET(DE104_9!$E$104,ROWS($E$104:E175)-1,COLUMNS($E$104:E175)-1),\"\")","v":""},{"$f":"IF(OFFSET(DE104_9!$F$104,ROWS($F$104:F175)-1,COLUMNS($F$104:F175)-1)<>\"\",OFFSET(DE104_9!$F$104,ROWS($F$104:F175)-1,COLUMNS($F$104:F175)-1),\"\")","v":""},{"$f":"IF(OFFSET(DE104_9!$G$104,ROWS($G$104:G175)-1,COLUMNS($G$104:G175)-1)<>\"\",OFFSET(DE104_9!$G$104,ROWS($G$104:G175)-1,COLUMNS($G$104:G175)-1),\"\")","v":""},{"$f":"IF(OFFSET(DE104_9!$H$104,ROWS($H$104:H175)-1,COLUMNS($H$104:H175)-1)<>\"\",OFFSET(DE104_9!$H$104,ROWS($H$104:H175)-1,COLUMNS($H$104:H175)-1),\"\")","v":" "},{"$f":"IF(OFFSET(DE104_9!$I$104,ROWS($I$104:I175)-1,COLUMNS($I$104:I175)-1)<>\"\",OFFSET(DE104_9!$I$104,ROWS($I$104:I175)-1,COLUMNS($I$104:I175)-1),\"\")","v":""},{"$f":"IF(OFFSET(DE104_9!$J$104,ROWS($J$104:J175)-1,COLUMNS($J$104:J175)-1)<>\"\",OFFSET(DE104_9!$J$104,ROWS($J$104:J175)-1,COLUMNS($J$104:J175)-1),\"\")","v":""},{"$f":"IF(OFFSET(DE104_9!$K$104,ROWS($K$104:K175)-1,COLUMNS($K$104:K175)-1)<>\"\",OFFSET(DE104_9!$K$104,ROWS($K$104:K175)-1,COLUMNS($K$104:K175)-1),\"\")","v":""},{"$f":"IF(OFFSET(DE104_9!$L$104,ROWS($L$104:L175)-1,COLUMNS($L$104:L175)-1)<>\"\",OFFSET(DE104_9!$L$104,ROWS($L$104:L175)-1,COLUMNS($L$104:L175)-1),\"\")","v":""},{"$f":"IF(OFFSET(DE104_9!$M$104,ROWS($M$104:M175)-1,COLUMNS($M$104:M175)-1)<>\"\",OFFSET(DE104_9!$M$104,ROWS($M$104:M175)-1,COLUMNS($M$104:M175)-1),\"\")","v":""},{"$f":"IF(OFFSET(DE104_9!$N$104,ROWS($N$104:N175)-1,COLUMNS($N$104:N175)-1)<>\"\",OFFSET(DE104_9!$N$104,ROWS($N$104:N175)-1,COLUMNS($N$104:N175)-1),\"\")","v":""},{"$f":"IF(OFFSET(DE104_9!$O$104,ROWS($O$104:O175)-1,COLUMNS($O$104:O175)-1)<>\"\",OFFSET(DE104_9!$O$104,ROWS($O$104:O175)-1,COLUMNS($O$104:O175)-1),\"\")","v":""},{"$f":"IF(OFFSET(DE104_9!$P$104,ROWS($P$104:P175)-1,COLUMNS($P$104:P175)-1)<>\"\",OFFSET(DE104_9!$P$104,ROWS($P$104:P175)-1,COLUMNS($P$104:P175)-1),\"\")","v":24149805},{"$f":"IF(OFFSET(DE104_9!$Q$104,ROWS($Q$104:Q175)-1,COLUMNS($Q$104:Q175)-1)<>\"\",OFFSET(DE104_9!$Q$104,ROWS($Q$104:Q175)-1,COLUMNS($Q$104:Q175)-1),\"\")","v":"DR-306"},{"$f":"IF(OFFSET(DE104_9!$R$104,ROWS($R$104:R175)-1,COLUMNS($R$104:R175)-1)<>\"\",OFFSET(DE104_9!$R$104,ROWS($R$104:R175)-1,COLUMNS($R$104:R175)-1),\"\")","v":" "},{"$f":"IF(OFFSET(DE104_9!$S$104,ROWS($S$104:S175)-1,COLUMNS($S$104:S175)-1)<>\"\",OFFSET(DE104_9!$S$104,ROWS($S$104:S175)-1,COLUMNS($S$104:S175)-1),\"\")","v":0.4},{"$f":"IF(OFFSET(DE104_9!$T$104,ROWS($T$104:T175)-1,COLUMNS($T$104:T175)-1)<>\"\",OFFSET(DE104_9!$T$104,ROWS($T$104:T175)-1,COLUMNS($T$104:T175)-1),\"\")","v":""}]
[{"$f":"IF(OFFSET(DE104_9!$C$104,ROWS($C$104:C176)-1,COLUMNS($C$104:C176)-1)<>\"\",OFFSET(DE104_9!$C$104,ROWS($C$104:C176)-1,COLUMNS($C$104:C176)-1),\"\")","v":80},{"$f":"IF(OFFSET(DE104_9!$D$104,ROWS($D$104:D176)-1,COLUMNS($D$104:D176)-1)<>\"\",OFFSET(DE104_9!$D$104,ROWS($D$104:D176)-1,COLUMNS($D$104:D176)-1),\"\")","v":"US 218"},{"$f":"IF(OFFSET(DE104_9!$E$104,ROWS($E$104:E176)-1,COLUMNS($E$104:E176)-1)<>\"\",OFFSET(DE104_9!$E$104,ROWS($E$104:E176)-1,COLUMNS($E$104:E176)-1),\"\")","v":24149805},{"$f":"IF(OFFSET(DE104_9!$F$104,ROWS($F$104:F176)-1,COLUMNS($F$104:F176)-1)<>\"\",OFFSET(DE104_9!$F$104,ROWS($F$104:F176)-1,COLUMNS($F$104:F176)-1),\"\")","v":24150300},{"$f":"IF(OFFSET(DE104_9!$G$104,ROWS($G$104:G176)-1,COLUMNS($G$104:G176)-1)<>\"\",OFFSET(DE104_9!$G$104,ROWS($G$104:G176)-1,COLUMNS($G$104:G176)-1),\"\")","v":"LT"},{"$f":"IF(OFFSET(DE104_9!$H$104,ROWS($H$104:H176)-1,COLUMNS($H$104:H176)-1)<>\"\",OFFSET(DE104_9!$H$104,ROWS($H$104:H176)-1,COLUMNS($H$104:H176)-1),\"\")","v":30},{"$f":"IF(OFFSET(DE104_9!$I$104,ROWS($I$104:I176)-1,COLUMNS($I$104:I176)-1)<>\"\",OFFSET(DE104_9!$I$104,ROWS($I$104:I176)-1,COLUMNS($I$104:I176)-1),\"\")","v":4},{"$f":"IF(OFFSET(DE104_9!$J$104,ROWS($J$104:J176)-1,COLUMNS($J$104:J176)-1)<>\"\",OFFSET(DE104_9!$J$104,ROWS($J$104:J176)-1,COLUMNS($J$104:J176)-1),\"\")","v":535},{"$f":"IF(OFFSET(DE104_9!$K$104,ROWS($K$104:K176)-1,COLUMNS($K$104:K176)-1)<>\"\",OFFSET(DE104_9!$K$104,ROWS($K$104:K176)-1,COLUMNS($K$104:K176)-1),\"\")","v":""},{"$f":"IF(OFFSET(DE104_9!$L$104,ROWS($L$104:L176)-1,COLUMNS($L$104:L176)-1)<>\"\",OFFSET(DE104_9!$L$104,ROWS($L$104:L176)-1,COLUMNS($L$104:L176)-1),\"\")","v":""},{"$f":"IF(OFFSET(DE104_9!$M$104,ROWS($M$104:M176)-1,COLUMNS($M$104:M176)-1)<>\"\",OFFSET(DE104_9!$M$104,ROWS($M$104:M176)-1,COLUMNS($M$104:M176)-1),\"\")","v":""},{"$f":"IF(OFFSET(DE104_9!$N$104,ROWS($N$104:N176)-1,COLUMNS($N$104:N176)-1)<>\"\",OFFSET(DE104_9!$N$104,ROWS($N$104:N176)-1,COLUMNS($N$104:N176)-1),\"\")","v":""},{"$f":"IF(OFFSET(DE104_9!$O$104,ROWS($O$104:O176)-1,COLUMNS($O$104:O176)-1)<>\"\",OFFSET(DE104_9!$O$104,ROWS($O$104:O176)-1,COLUMNS($O$104:O176)-1),\"\")","v":""},{"$f":"IF(OFFSET(DE104_9!$P$104,ROWS($P$104:P176)-1,COLUMNS($P$104:P176)-1)<>\"\",OFFSET(DE104_9!$P$104,ROWS($P$104:P176)-1,COLUMNS($P$104:P176)-1),\"\")","v":24149805},{"$f":"IF(OFFSET(DE104_9!$Q$104,ROWS($Q$104:Q176)-1,COLUMNS($Q$104:Q176)-1)<>\"\",OFFSET(DE104_9!$Q$104,ROWS($Q$104:Q176)-1,COLUMNS($Q$104:Q176)-1),\"\")","v":"DR-306"},{"$f":"IF(OFFSET(DE104_9!$R$104,ROWS($R$104:R176)-1,COLUMNS($R$104:R176)-1)<>\"\",OFFSET(DE104_9!$R$104,ROWS($R$104:R176)-1,COLUMNS($R$104:R176)-1),\"\")","v":33},{"$f":"IF(OFFSET(DE104_9!$S$104,ROWS($S$104:S176)-1,COLUMNS($S$104:S176)-1)<>\"\",OFFSET(DE104_9!$S$104,ROWS($S$104:S176)-1,COLUMNS($S$104:S176)-1),\"\")","v":0.4},{"$f":"IF(OFFSET(DE104_9!$T$104,ROWS($T$104:T176)-1,COLUMNS($T$104:T176)-1)<>\"\",OFFSET(DE104_9!$T$104,ROWS($T$104:T176)-1,COLUMNS($T$104:T176)-1),\"\")","v":""}]
[{"$f":"IF(OFFSET(DE104_9!$C$104,ROWS($C$104:C177)-1,COLUMNS($C$104:C177)-1)<>\"\",OFFSET(DE104_9!$C$104,ROWS($C$104:C177)-1,COLUMNS($C$104:C177)-1),\"\")","v":""},{"$f":"IF(OFFSET(DE104_9!$D$104,ROWS($D$104:D177)-1,COLUMNS($D$104:D177)-1)<>\"\",OFFSET(DE104_9!$D$104,ROWS($D$104:D177)-1,COLUMNS($D$104:D177)-1),\"\")","v":""},{"$f":"IF(OFFSET(DE104_9!$E$104,ROWS($E$104:E177)-1,COLUMNS($E$104:E177)-1)<>\"\",OFFSET(DE104_9!$E$104,ROWS($E$104:E177)-1,COLUMNS($E$104:E177)-1),\"\")","v":""},{"$f":"IF(OFFSET(DE104_9!$F$104,ROWS($F$104:F177)-1,COLUMNS($F$104:F177)-1)<>\"\",OFFSET(DE104_9!$F$104,ROWS($F$104:F177)-1,COLUMNS($F$104:F177)-1),\"\")","v":""},{"$f":"IF(OFFSET(DE104_9!$G$104,ROWS($G$104:G177)-1,COLUMNS($G$104:G177)-1)<>\"\",OFFSET(DE104_9!$G$104,ROWS($G$104:G177)-1,COLUMNS($G$104:G177)-1),\"\")","v":""},{"$f":"IF(OFFSET(DE104_9!$H$104,ROWS($H$104:H177)-1,COLUMNS($H$104:H177)-1)<>\"\",OFFSET(DE104_9!$H$104,ROWS($H$104:H177)-1,COLUMNS($H$104:H177)-1),\"\")","v":" "},{"$f":"IF(OFFSET(DE104_9!$I$104,ROWS($I$104:I177)-1,COLUMNS($I$104:I177)-1)<>\"\",OFFSET(DE104_9!$I$104,ROWS($I$104:I177)-1,COLUMNS($I$104:I177)-1),\"\")","v":""},{"$f":"IF(OFFSET(DE104_9!$J$104,ROWS($J$104:J177)-1,COLUMNS($J$104:J177)-1)<>\"\",OFFSET(DE104_9!$J$104,ROWS($J$104:J177)-1,COLUMNS($J$104:J177)-1),\"\")","v":""},{"$f":"IF(OFFSET(DE104_9!$K$104,ROWS($K$104:K177)-1,COLUMNS($K$104:K177)-1)<>\"\",OFFSET(DE104_9!$K$104,ROWS($K$104:K177)-1,COLUMNS($K$104:K177)-1),\"\")","v":""},{"$f":"IF(OFFSET(DE104_9!$L$104,ROWS($L$104:L177)-1,COLUMNS($L$104:L177)-1)<>\"\",OFFSET(DE104_9!$L$104,ROWS($L$104:L177)-1,COLUMNS($L$104:L177)-1),\"\")","v":""},{"$f":"IF(OFFSET(DE104_9!$M$104,ROWS($M$104:M177)-1,COLUMNS($M$104:M177)-1)<>\"\",OFFSET(DE104_9!$M$104,ROWS($M$104:M177)-1,COLUMNS($M$104:M177)-1),\"\")","v":""},{"$f":"IF(OFFSET(DE104_9!$N$104,ROWS($N$104:N177)-1,COLUMNS($N$104:N177)-1)<>\"\",OFFSET(DE104_9!$N$104,ROWS($N$104:N177)-1,COLUMNS($N$104:N177)-1),\"\")","v":""},{"$f":"IF(OFFSET(DE104_9!$O$104,ROWS($O$104:O177)-1,COLUMNS($O$104:O177)-1)<>\"\",OFFSET(DE104_9!$O$104,ROWS($O$104:O177)-1,COLUMNS($O$104:O177)-1),\"\")","v":""},{"$f":"IF(OFFSET(DE104_9!$P$104,ROWS($P$104:P177)-1,COLUMNS($P$104:P177)-1)<>\"\",OFFSET(DE104_9!$P$104,ROWS($P$104:P177)-1,COLUMNS($P$104:P177)-1),\"\")","v":24150300},{"$f":"IF(OFFSET(DE104_9!$Q$104,ROWS($Q$104:Q177)-1,COLUMNS($Q$104:Q177)-1)<>\"\",OFFSET(DE104_9!$Q$104,ROWS($Q$104:Q177)-1,COLUMNS($Q$104:Q177)-1),\"\")","v":"DR-306"},{"$f":"IF(OFFSET(DE104_9!$R$104,ROWS($R$104:R177)-1,COLUMNS($R$104:R177)-1)<>\"\",OFFSET(DE104_9!$R$104,ROWS($R$104:R177)-1,COLUMNS($R$104:R177)-1),\"\")","v":" "},{"$f":"IF(OFFSET(DE104_9!$S$104,ROWS($S$104:S177)-1,COLUMNS($S$104:S177)-1)<>\"\",OFFSET(DE104_9!$S$104,ROWS($S$104:S177)-1,COLUMNS($S$104:S177)-1),\"\")","v":0.4},{"$f":"IF(OFFSET(DE104_9!$T$104,ROWS($T$104:T177)-1,COLUMNS($T$104:T177)-1)<>\"\",OFFSET(DE104_9!$T$104,ROWS($T$104:T177)-1,COLUMNS($T$104:T177)-1),\"\")","v":""}]
[{"$f":"IF(OFFSET(DE104_9!$C$104,ROWS($C$104:C178)-1,COLUMNS($C$104:C178)-1)<>\"\",OFFSET(DE104_9!$C$104,ROWS($C$104:C178)-1,COLUMNS($C$104:C178)-1),\"\")","v":81},{"$f":"IF(OFFSET(DE104_9!$D$104,ROWS($D$104:D178)-1,COLUMNS($D$104:D178)-1)<>\"\",OFFSET(DE104_9!$D$104,ROWS($D$104:D178)-1,COLUMNS($D$104:D178)-1),\"\")","v":"US 218"},{"$f":"IF(OFFSET(DE104_9!$E$104,ROWS($E$104:E178)-1,COLUMNS($E$104:E178)-1)<>\"\",OFFSET(DE104_9!$E$104,ROWS($E$104:E178)-1,COLUMNS($E$104:E178)-1),\"\")","v":24146800},{"$f":"IF(OFFSET(DE104_9!$F$104,ROWS($F$104:F178)-1,COLUMNS($F$104:F178)-1)<>\"\",OFFSET(DE104_9!$F$104,ROWS($F$104:F178)-1,COLUMNS($F$104:F178)-1),\"\")","v":24147100},{"$f":"IF(OFFSET(DE104_9!$G$104,ROWS($G$104:G178)-1,COLUMNS($G$104:G178)-1)<>\"\",OFFSET(DE104_9!$G$104,ROWS($G$104:G178)-1,COLUMNS($G$104:G178)-1),\"\")","v":"RT"},{"$f":"IF(OFFSET(DE104_9!$H$104,ROWS($H$104:H178)-1,COLUMNS($H$104:H178)-1)<>\"\",OFFSET(DE104_9!$H$104,ROWS($H$104:H178)-1,COLUMNS($H$104:H178)-1),\"\")","v":42},{"$f":"IF(OFFSET(DE104_9!$I$104,ROWS($I$104:I178)-1,COLUMNS($I$104:I178)-1)<>\"\",OFFSET(DE104_9!$I$104,ROWS($I$104:I178)-1,COLUMNS($I$104:I178)-1),\"\")","v":4},{"$f":"IF(OFFSET(DE104_9!$J$104,ROWS($J$104:J178)-1,COLUMNS($J$104:J178)-1)<>\"\",OFFSET(DE104_9!$J$104,ROWS($J$104:J178)-1,COLUMNS($J$104:J178)-1),\"\")","v":340},{"$f":"IF(OFFSET(DE104_9!$K$104,ROWS($K$104:K178)-1,COLUMNS($K$104:K178)-1)<>\"\",OFFSET(DE104_9!$K$104,ROWS($K$104:K178)-1,COLUMNS($K$104:K178)-1),\"\")","v":""},{"$f":"IF(OFFSET(DE104_9!$L$104,ROWS($L$104:L178)-1,COLUMNS($L$104:L178)-1)<>\"\",OFFSET(DE104_9!$L$104,ROWS($L$104:L178)-1,COLUMNS($L$104:L178)-1),\"\")","v":""},{"$f":"IF(OFFSET(DE104_9!$M$104,ROWS($M$104:M178)-1,COLUMNS($M$104:M178)-1)<>\"\",OFFSET(DE104_9!$M$104,ROWS($M$104:M178)-1,COLUMNS($M$104:M178)-1),\"\")","v":""},{"$f":"IF(OFFSET(DE104_9!$N$104,ROWS($N$104:N178)-1,COLUMNS($N$104:N178)-1)<>\"\",OFFSET(DE104_9!$N$104,ROWS($N$104:N178)-1,COLUMNS($N$104:N178)-1),\"\")","v":""},{"$f":"IF(OFFSET(DE104_9!$O$104,ROWS($O$104:O178)-1,COLUMNS($O$104:O178)-1)<>\"\",OFFSET(DE104_9!$O$104,ROWS($O$104:O178)-1,COLUMNS($O$104:O178)-1),\"\")","v":""},{"$f":"IF(OFFSET(DE104_9!$P$104,ROWS($P$104:P178)-1,COLUMNS($P$104:P178)-1)<>\"\",OFFSET(DE104_9!$P$104,ROWS($P$104:P178)-1,COLUMNS($P$104:P178)-1),\"\")","v":24146800},{"$f":"IF(OFFSET(DE104_9!$Q$104,ROWS($Q$104:Q178)-1,COLUMNS($Q$104:Q178)-1)<>\"\",OFFSET(DE104_9!$Q$104,ROWS($Q$104:Q178)-1,COLUMNS($Q$104:Q178)-1),\"\")","v":"DR-306"},{"$f":"IF(OFFSET(DE104_9!$R$104,ROWS($R$104:R178)-1,COLUMNS($R$104:R178)-1)<>\"\",OFFSET(DE104_9!$R$104,ROWS($R$104:R178)-1,COLUMNS($R$104:R178)-1),\"\")","v":31.5},{"$f":"IF(OFFSET(DE104_9!$S$104,ROWS($S$104:S178)-1,COLUMNS($S$104:S178)-1)<>\"\",OFFSET(DE104_9!$S$104,ROWS($S$104:S178)-1,COLUMNS($S$104:S178)-1),\"\")","v":0.4},{"$f":"IF(OFFSET(DE104_9!$T$104,ROWS($T$104:T178)-1,COLUMNS($T$104:T178)-1)<>\"\",OFFSET(DE104_9!$T$104,ROWS($T$104:T178)-1,COLUMNS($T$104:T178)-1),\"\")","v":""}]
[{"$f":"IF(OFFSET(DE104_9!$C$104,ROWS($C$104:C179)-1,COLUMNS($C$104:C179)-1)<>\"\",OFFSET(DE104_9!$C$104,ROWS($C$104:C179)-1,COLUMNS($C$104:C179)-1),\"\")","v":""},{"$f":"IF(OFFSET(DE104_9!$D$104,ROWS($D$104:D179)-1,COLUMNS($D$104:D179)-1)<>\"\",OFFSET(DE104_9!$D$104,ROWS($D$104:D179)-1,COLUMNS($D$104:D179)-1),\"\")","v":""},{"$f":"IF(OFFSET(DE104_9!$E$104,ROWS($E$104:E179)-1,COLUMNS($E$104:E179)-1)<>\"\",OFFSET(DE104_9!$E$104,ROWS($E$104:E179)-1,COLUMNS($E$104:E179)-1),\"\")","v":""},{"$f":"IF(OFFSET(DE104_9!$F$104,ROWS($F$104:F179)-1,COLUMNS($F$104:F179)-1)<>\"\",OFFSET(DE104_9!$F$104,ROWS($F$104:F179)-1,COLUMNS($F$104:F179)-1),\"\")","v":""},{"$f":"IF(OFFSET(DE104_9!$G$104,ROWS($G$104:G179)-1,COLUMNS($G$104:G179)-1)<>\"\",OFFSET(DE104_9!$G$104,ROWS($G$104:G179)-1,COLUMNS($G$104:G179)-1),\"\")","v":""},{"$f":"IF(OFFSET(DE104_9!$H$104,ROWS($H$104:H179)-1,COLUMNS($H$104:H179)-1)<>\"\",OFFSET(DE104_9!$H$104,ROWS($H$104:H179)-1,COLUMNS($H$104:H179)-1),\"\")","v":" "},{"$f":"IF(OFFSET(DE104_9!$I$104,ROWS($I$104:I179)-1,COLUMNS($I$104:I179)-1)<>\"\",OFFSET(DE104_9!$I$104,ROWS($I$104:I179)-1,COLUMNS($I$104:I179)-1),\"\")","v":""},{"$f":"IF(OFFSET(DE104_9!$J$104,ROWS($J$104:J179)-1,COLUMNS($J$104:J179)-1)<>\"\",OFFSET(DE104_9!$J$104,ROWS($J$104:J179)-1,COLUMNS($J$104:J179)-1),\"\")","v":""},{"$f":"IF(OFFSET(DE104_9!$K$104,ROWS($K$104:K179)-1,COLUMNS($K$104:K179)-1)<>\"\",OFFSET(DE104_9!$K$104,ROWS($K$104:K179)-1,COLUMNS($K$104:K179)-1),\"\")","v":""},{"$f":"IF(OFFSET(DE104_9!$L$104,ROWS($L$104:L179)-1,COLUMNS($L$104:L179)-1)<>\"\",OFFSET(DE104_9!$L$104,ROWS($L$104:L179)-1,COLUMNS($L$104:L179)-1),\"\")","v":""},{"$f":"IF(OFFSET(DE104_9!$M$104,ROWS($M$104:M179)-1,COLUMNS($M$104:M179)-1)<>\"\",OFFSET(DE104_9!$M$104,ROWS($M$104:M179)-1,COLUMNS($M$104:M179)-1),\"\")","v":""},{"$f":"IF(OFFSET(DE104_9!$N$104,ROWS($N$104:N179)-1,COLUMNS($N$104:N179)-1)<>\"\",OFFSET(DE104_9!$N$104,ROWS($N$104:N179)-1,COLUMNS($N$104:N179)-1),\"\")","v":""},{"$f":"IF(OFFSET(DE104_9!$O$104,ROWS($O$104:O179)-1,COLUMNS($O$104:O179)-1)<>\"\",OFFSET(DE104_9!$O$104,ROWS($O$104:O179)-1,COLUMNS($O$104:O179)-1),\"\")","v":""},{"$f":"IF(OFFSET(DE104_9!$P$104,ROWS($P$104:P179)-1,COLUMNS($P$104:P179)-1)<>\"\",OFFSET(DE104_9!$P$104,ROWS($P$104:P179)-1,COLUMNS($P$104:P179)-1),\"\")","v":24147100},{"$f":"IF(OFFSET(DE104_9!$Q$104,ROWS($Q$104:Q179)-1,COLUMNS($Q$104:Q179)-1)<>\"\",OFFSET(DE104_9!$Q$104,ROWS($Q$104:Q179)-1,COLUMNS($Q$104:Q179)-1),\"\")","v":"DR-306"},{"$f":"IF(OFFSET(DE104_9!$R$104,ROWS($R$104:R179)-1,COLUMNS($R$104:R179)-1)<>\"\",OFFSET(DE104_9!$R$104,ROWS($R$104:R179)-1,COLUMNS($R$104:R179)-1),\"\")","v":" "},{"$f":"IF(OFFSET(DE104_9!$S$104,ROWS($S$104:S179)-1,COLUMNS($S$104:S179)-1)<>\"\",OFFSET(DE104_9!$S$104,ROWS($S$104:S179)-1,COLUMNS($S$104:S179)-1),\"\")","v":0.4},{"$f":"IF(OFFSET(DE104_9!$T$104,ROWS($T$104:T179)-1,COLUMNS($T$104:T179)-1)<>\"\",OFFSET(DE104_9!$T$104,ROWS($T$104:T179)-1,COLUMNS($T$104:T179)-1),\"\")","v":""}]
[{"$f":"IF(OFFSET(DE104_9!$C$104,ROWS($C$104:C180)-1,COLUMNS($C$104:C180)-1)<>\"\",OFFSET(DE104_9!$C$104,ROWS($C$104:C180)-1,COLUMNS($C$104:C180)-1),\"\")","v":82},{"$f":"IF(OFFSET(DE104_9!$D$104,ROWS($D$104:D180)-1,COLUMNS($D$104:D180)-1)<>\"\",OFFSET(DE104_9!$D$104,ROWS($D$104:D180)-1,COLUMNS($D$104:D180)-1),\"\")","v":"US 218"},{"$f":"IF(OFFSET(DE104_9!$E$104,ROWS($E$104:E180)-1,COLUMNS($E$104:E180)-1)<>\"\",OFFSET(DE104_9!$E$104,ROWS($E$104:E180)-1,COLUMNS($E$104:E180)-1),\"\")","v":24147100},{"$f":"IF(OFFSET(DE104_9!$F$104,ROWS($F$104:F180)-1,COLUMNS($F$104:F180)-1)<>\"\",OFFSET(DE104_9!$F$104,ROWS($F$104:F180)-1,COLUMNS($F$104:F180)-1),\"\")","v":24147375},{"$f":"IF(OFFSET(DE104_9!$G$104,ROWS($G$104:G180)-1,COLUMNS($G$104:G180)-1)<>\"\",OFFSET(DE104_9!$G$104,ROWS($G$104:G180)-1,COLUMNS($G$104:G180)-1),\"\")","v":"RT"},{"$f":"IF(OFFSET(DE104_9!$H$104,ROWS($H$104:H180)-1,COLUMNS($H$104:H180)-1)<>\"\",OFFSET(DE104_9!$H$104,ROWS($H$104:H180)-1,COLUMNS($H$104:H180)-1),\"\")","v":42},{"$f":"IF(OFFSET(DE104_9!$I$104,ROWS($I$104:I180)-1,COLUMNS($I$104:I180)-1)<>\"\",OFFSET(DE104_9!$I$104,ROWS($I$104:I180)-1,COLUMNS($I$104:I180)-1),\"\")","v":4},{"$f":"IF(OFFSET(DE104_9!$J$104,ROWS($J$104:J180)-1,COLUMNS($J$104:J180)-1)<>\"\",OFFSET(DE104_9!$J$104,ROWS($J$104:J180)-1,COLUMNS($J$104:J180)-1),\"\")","v":315},{"$f":"IF(OFFSET(DE104_9!$K$104,ROWS($K$104:K180)-1,COLUMNS($K$104:K180)-1)<>\"\",OFFSET(DE104_9!$K$104,ROWS($K$104:K180)-1,COLUMNS($K$104:K180)-1),\"\")","v":""},{"$f":"IF(OFFSET(DE104_9!$L$104,ROWS($L$104:L180)-1,COLUMNS($L$104:L180)-1)<>\"\",OFFSET(DE104_9!$L$104,ROWS($L$104:L180)-1,COLUMNS($L$104:L180)-1),\"\")","v":""},{"$f":"IF(OFFSET(DE104_9!$M$104,ROWS($M$104:M180)-1,COLUMNS($M$104:M180)-1)<>\"\",OFFSET(DE104_9!$M$104,ROWS($M$104:M180)-1,COLUMNS($M$104:M180)-1),\"\")","v":""},{"$f":"IF(OFFSET(DE104_9!$N$104,ROWS($N$104:N180)-1,COLUMNS($N$104:N180)-1)<>\"\",OFFSET(DE104_9!$N$104,ROWS($N$104:N180)-1,COLUMNS($N$104:N180)-1),\"\")","v":""},{"$f":"IF(OFFSET(DE104_9!$O$104,ROWS($O$104:O180)-1,COLUMNS($O$104:O180)-1)<>\"\",OFFSET(DE104_9!$O$104,ROWS($O$104:O180)-1,COLUMNS($O$104:O180)-1),\"\")","v":""},{"$f":"IF(OFFSET(DE104_9!$P$104,ROWS($P$104:P180)-1,COLUMNS($P$104:P180)-1)<>\"\",OFFSET(DE104_9!$P$104,ROWS($P$104:P180)-1,COLUMNS($P$104:P180)-1),\"\")","v":24147100},{"$f":"IF(OFFSET(DE104_9!$Q$104,ROWS($Q$104:Q180)-1,COLUMNS($Q$104:Q180)-1)<>\"\",OFFSET(DE104_9!$Q$104,ROWS($Q$104:Q180)-1,COLUMNS($Q$104:Q180)-1),\"\")","v":"DR-306"},{"$f":"IF(OFFSET(DE104_9!$R$104,ROWS($R$104:R180)-1,COLUMNS($R$104:R180)-1)<>\"\",OFFSET(DE104_9!$R$104,ROWS($R$104:R180)-1,COLUMNS($R$104:R180)-1),\"\")","v":29.2},{"$f":"IF(OFFSET(DE104_9!$S$104,ROWS($S$104:S180)-1,COLUMNS($S$104:S180)-1)<>\"\",OFFSET(DE104_9!$S$104,ROWS($S$104:S180)-1,COLUMNS($S$104:S180)-1),\"\")","v":0.4},{"$f":"IF(OFFSET(DE104_9!$T$104,ROWS($T$104:T180)-1,COLUMNS($T$104:T180)-1)<>\"\",OFFSET(DE104_9!$T$104,ROWS($T$104:T180)-1,COLUMNS($T$104:T180)-1),\"\")","v":""}]
[{"$f":"IF(OFFSET(DE104_9!$C$104,ROWS($C$104:C181)-1,COLUMNS($C$104:C181)-1)<>\"\",OFFSET(DE104_9!$C$104,ROWS($C$104:C181)-1,COLUMNS($C$104:C181)-1),\"\")","v":""},{"$f":"IF(OFFSET(DE104_9!$D$104,ROWS($D$104:D181)-1,COLUMNS($D$104:D181)-1)<>\"\",OFFSET(DE104_9!$D$104,ROWS($D$104:D181)-1,COLUMNS($D$104:D181)-1),\"\")","v":""},{"$f":"IF(OFFSET(DE104_9!$E$104,ROWS($E$104:E181)-1,COLUMNS($E$104:E181)-1)<>\"\",OFFSET(DE104_9!$E$104,ROWS($E$104:E181)-1,COLUMNS($E$104:E181)-1),\"\")","v":""},{"$f":"IF(OFFSET(DE104_9!$F$104,ROWS($F$104:F181)-1,COLUMNS($F$104:F181)-1)<>\"\",OFFSET(DE104_9!$F$104,ROWS($F$104:F181)-1,COLUMNS($F$104:F181)-1),\"\")","v":""},{"$f":"IF(OFFSET(DE104_9!$G$104,ROWS($G$104:G181)-1,COLUMNS($G$104:G181)-1)<>\"\",OFFSET(DE104_9!$G$104,ROWS($G$104:G181)-1,COLUMNS($G$104:G181)-1),\"\")","v":""},{"$f":"IF(OFFSET(DE104_9!$H$104,ROWS($H$104:H181)-1,COLUMNS($H$104:H181)-1)<>\"\",OFFSET(DE104_9!$H$104,ROWS($H$104:H181)-1,COLUMNS($H$104:H181)-1),\"\")","v":" "},{"$f":"IF(OFFSET(DE104_9!$I$104,ROWS($I$104:I181)-1,COLUMNS($I$104:I181)-1)<>\"\",OFFSET(DE104_9!$I$104,ROWS($I$104:I181)-1,COLUMNS($I$104:I181)-1),\"\")","v":""},{"$f":"IF(OFFSET(DE104_9!$J$104,ROWS($J$104:J181)-1,COLUMNS($J$104:J181)-1)<>\"\",OFFSET(DE104_9!$J$104,ROWS($J$104:J181)-1,COLUMNS($J$104:J181)-1),\"\")","v":""},{"$f":"IF(OFFSET(DE104_9!$K$104,ROWS($K$104:K181)-1,COLUMNS($K$104:K181)-1)<>\"\",OFFSET(DE104_9!$K$104,ROWS($K$104:K181)-1,COLUMNS($K$104:K181)-1),\"\")","v":""},{"$f":"IF(OFFSET(DE104_9!$L$104,ROWS($L$104:L181)-1,COLUMNS($L$104:L181)-1)<>\"\",OFFSET(DE104_9!$L$104,ROWS($L$104:L181)-1,COLUMNS($L$104:L181)-1),\"\")","v":""},{"$f":"IF(OFFSET(DE104_9!$M$104,ROWS($M$104:M181)-1,COLUMNS($M$104:M181)-1)<>\"\",OFFSET(DE104_9!$M$104,ROWS($M$104:M181)-1,COLUMNS($M$104:M181)-1),\"\")","v":""},{"$f":"IF(OFFSET(DE104_9!$N$104,ROWS($N$104:N181)-1,COLUMNS($N$104:N181)-1)<>\"\",OFFSET(DE104_9!$N$104,ROWS($N$104:N181)-1,COLUMNS($N$104:N181)-1),\"\")","v":""},{"$f":"IF(OFFSET(DE104_9!$O$104,ROWS($O$104:O181)-1,COLUMNS($O$104:O181)-1)<>\"\",OFFSET(DE104_9!$O$104,ROWS($O$104:O181)-1,COLUMNS($O$104:O181)-1),\"\")","v":""},{"$f":"IF(OFFSET(DE104_9!$P$104,ROWS($P$104:P181)-1,COLUMNS($P$104:P181)-1)<>\"\",OFFSET(DE104_9!$P$104,ROWS($P$104:P181)-1,COLUMNS($P$104:P181)-1),\"\")","v":24147375},{"$f":"IF(OFFSET(DE104_9!$Q$104,ROWS($Q$104:Q181)-1,COLUMNS($Q$104:Q181)-1)<>\"\",OFFSET(DE104_9!$Q$104,ROWS($Q$104:Q181)-1,COLUMNS($Q$104:Q181)-1),\"\")","v":"DR-306"},{"$f":"IF(OFFSET(DE104_9!$R$104,ROWS($R$104:R181)-1,COLUMNS($R$104:R181)-1)<>\"\",OFFSET(DE104_9!$R$104,ROWS($R$104:R181)-1,COLUMNS($R$104:R181)-1),\"\")","v":" "},{"$f":"IF(OFFSET(DE104_9!$S$104,ROWS($S$104:S181)-1,COLUMNS($S$104:S181)-1)<>\"\",OFFSET(DE104_9!$S$104,ROWS($S$104:S181)-1,COLUMNS($S$104:S181)-1),\"\")","v":0.4},{"$f":"IF(OFFSET(DE104_9!$T$104,ROWS($T$104:T181)-1,COLUMNS($T$104:T181)-1)<>\"\",OFFSET(DE104_9!$T$104,ROWS($T$104:T181)-1,COLUMNS($T$104:T181)-1),\"\")","v":""}]
["104-9"]
["2017-10-17"]
["LONGITUDINAL SUBDRAIN SHOULDER AND BACKSLOPE"]
[]
["Refer to Soils Sheets"]
["  * Not a bid item. Bridge berm quantities assume a trench depth of 24 inches."]
["Location",null,null,null,null,null,"Longitudinal Subdrain  (DR-303)",null,null,null,null,null,null,"Subdrain Outlet",null,"Porous*\nBackfill","Class \"A\"*\nCrushed\nStone","Remarks"]
["Line\nNo.","Road or Lane Identification","Station to Station",null,"Side","Depth","Shoulder",null,"Backslope",null,"Bridge Berm (EW-203 or EW-204)",null,null,"DR-303, DR-305 or DR-306"]
[null,null,null,null,null,0]
[null,null,null,null,null,null,"Size","Length","Size","Length","Standard Road Plan and Type","Size","Length","Station","Standard Road Plan and Type"]
[]
[null,null,null,null,null,"IN","IN","FT","IN","FT",null,"IN","FT",null,null,"CY","CY"]
[{"$f":"IF(OFFSET(DE104_9!$C$182,ROWS($C$182:C182)-1,COLUMNS($C$182:C182)-1)<>\"\",OFFSET(DE104_9!$C$182,ROWS($C$182:C182)-1,COLUMNS($C$182:C182)-1),\"\")","v":83},{"$f":"IF(OFFSET(DE104_9!$D$182,ROWS($D$182:D182)-1,COLUMNS($D$182:D182)-1)<>\"\",OFFSET(DE104_9!$D$182,ROWS($D$182:D182)-1,COLUMNS($D$182:D182)-1),\"\")","v":"US 218"},{"$f":"IF(OFFSET(DE104_9!$E$182,ROWS($E$182:E182)-1,COLUMNS($E$182:E182)-1)<>\"\",OFFSET(DE104_9!$E$182,ROWS($E$182:E182)-1,COLUMNS($E$182:E182)-1),\"\")","v":24147710},{"$f":"IF(OFFSET(DE104_9!$F$182,ROWS($F$182:F182)-1,COLUMNS($F$182:F182)-1)<>\"\",OFFSET(DE104_9!$F$182,ROWS($F$182:F182)-1,COLUMNS($F$182:F182)-1),\"\")","v":24148150},{"$f":"IF(OFFSET(DE104_9!$G$182,ROWS($G$182:G182)-1,COLUMNS($G$182:G182)-1)<>\"\",OFFSET(DE104_9!$G$182,ROWS($G$182:G182)-1,COLUMNS($G$182:G182)-1),\"\")","v":"RT"},{"$f":"IF(OFFSET(DE104_9!$H$182,ROWS($H$182:H182)-1,COLUMNS($H$182:H182)-1)<>\"\",OFFSET(DE104_9!$H$182,ROWS($H$182:H182)-1,COLUMNS($H$182:H182)-1),\"\")","v":42},{"$f":"IF(OFFSET(DE104_9!$I$182,ROWS($I$182:I182)-1,COLUMNS($I$182:I182)-1)<>\"\",OFFSET(DE104_9!$I$182,ROWS($I$182:I182)-1,COLUMNS($I$182:I182)-1),\"\")","v":4},{"$f":"IF(OFFSET(DE104_9!$J$182,ROWS($J$182:J182)-1,COLUMNS($J$182:J182)-1)<>\"\",OFFSET(DE104_9!$J$182,ROWS($J$182:J182)-1,COLUMNS($J$182:J182)-1),\"\")","v":480},{"$f":"IF(OFFSET(DE104_9!$K$182,ROWS($K$182:K182)-1,COLUMNS($K$182:K182)-1)<>\"\",OFFSET(DE104_9!$K$182,ROWS($K$182:K182)-1,COLUMNS($K$182:K182)-1),\"\")","v":""},{"$f":"IF(OFFSET(DE104_9!$L$182,ROWS($L$182:L182)-1,COLUMNS($L$182:L182)-1)<>\"\",OFFSET(DE104_9!$L$182,ROWS($L$182:L182)-1,COLUMNS($L$182:L182)-1),\"\")","v":""},{"$f":"IF(OFFSET(DE104_9!$M$182,ROWS($M$182:M182)-1,COLUMNS($M$182:M182)-1)<>\"\",OFFSET(DE104_9!$M$182,ROWS($M$182:M182)-1,COLUMNS($M$182:M182)-1),\"\")","v":""},{"$f":"IF(OFFSET(DE104_9!$N$182,ROWS($N$182:N182)-1,COLUMNS($N$182:N182)-1)<>\"\",OFFSET(DE104_9!$N$182,ROWS($N$182:N182)-1,COLUMNS($N$182:N182)-1),\"\")","v":""},{"$f":"IF(OFFSET(DE104_9!$O$182,ROWS($O$182:O182)-1,COLUMNS($O$182:O182)-1)<>\"\",OFFSET(DE104_9!$O$182,ROWS($O$182:O182)-1,COLUMNS($O$182:O182)-1),\"\")","v":""},{"$f":"IF(OFFSET(DE104_9!$P$182,ROWS($P$182:P182)-1,COLUMNS($P$182:P182)-1)<>\"\",OFFSET(DE104_9!$P$182,ROWS($P$182:P182)-1,COLUMNS($P$182:P182)-1),\"\")","v":24147710},{"$f":"IF(OFFSET(DE104_9!$Q$182,ROWS($Q$182:Q182)-1,COLUMNS($Q$182:Q182)-1)<>\"\",OFFSET(DE104_9!$Q$182,ROWS($Q$182:Q182)-1,COLUMNS($Q$182:Q182)-1),\"\")","v":"DR-306"},{"$f":"IF(OFFSET(DE104_9!$R$182,ROWS($R$182:R182)-1,COLUMNS($R$182:R182)-1)<>\"\",OFFSET(DE104_9!$R$182,ROWS($R$182:R182)-1,COLUMNS($R$182:R182)-1),\"\")","v":44.4},{"$f":"IF(OFFSET(DE104_9!$S$182,ROWS($S$182:S182)-1,COLUMNS($S$182:S182)-1)<>\"\",OFFSET(DE104_9!$S$182,ROWS($S$182:S182)-1,COLUMNS($S$182:S182)-1),\"\")","v":0.4},{"$f":"IF(OFFSET(DE104_9!$T$182,ROWS($T$182:T182)-1,COLUMNS($T$182:T182)-1)<>\"\",OFFSET(DE104_9!$T$182,ROWS($T$182:T182)-1,COLUMNS($T$182:T182)-1),\"\")","v":""}]
[{"$f":"IF(OFFSET(DE104_9!$C$182,ROWS($C$182:C183)-1,COLUMNS($C$182:C183)-1)<>\"\",OFFSET(DE104_9!$C$182,ROWS($C$182:C183)-1,COLUMNS($C$182:C183)-1),\"\")","v":""},{"$f":"IF(OFFSET(DE104_9!$D$182,ROWS($D$182:D183)-1,COLUMNS($D$182:D183)-1)<>\"\",OFFSET(DE104_9!$D$182,ROWS($D$182:D183)-1,COLUMNS($D$182:D183)-1),\"\")","v":""},{"$f":"IF(OFFSET(DE104_9!$E$182,ROWS($E$182:E183)-1,COLUMNS($E$182:E183)-1)<>\"\",OFFSET(DE104_9!$E$182,ROWS($E$182:E183)-1,COLUMNS($E$182:E183)-1),\"\")","v":""},{"$f":"IF(OFFSET(DE104_9!$F$182,ROWS($F$182:F183)-1,COLUMNS($F$182:F183)-1)<>\"\",OFFSET(DE104_9!$F$182,ROWS($F$182:F183)-1,COLUMNS($F$182:F183)-1),\"\")","v":""},{"$f":"IF(OFFSET(DE104_9!$G$182,ROWS($G$182:G183)-1,COLUMNS($G$182:G183)-1)<>\"\",OFFSET(DE104_9!$G$182,ROWS($G$182:G183)-1,COLUMNS($G$182:G183)-1),\"\")","v":""},{"$f":"IF(OFFSET(DE104_9!$H$182,ROWS($H$182:H183)-1,COLUMNS($H$182:H183)-1)<>\"\",OFFSET(DE104_9!$H$182,ROWS($H$182:H183)-1,COLUMNS($H$182:H183)-1),\"\")","v":" "},{"$f":"IF(OFFSET(DE104_9!$I$182,ROWS($I$182:I183)-1,COLUMNS($I$182:I183)-1)<>\"\",OFFSET(DE104_9!$I$182,ROWS($I$182:I183)-1,COLUMNS($I$182:I183)-1),\"\")","v":""},{"$f":"IF(OFFSET(DE104_9!$J$182,ROWS($J$182:J183)-1,COLUMNS($J$182:J183)-1)<>\"\",OFFSET(DE104_9!$J$182,ROWS($J$182:J183)-1,COLUMNS($J$182:J183)-1),\"\")","v":""},{"$f":"IF(OFFSET(DE104_9!$K$182,ROWS($K$182:K183)-1,COLUMNS($K$182:K183)-1)<>\"\",OFFSET(DE104_9!$K$182,ROWS($K$182:K183)-1,COLUMNS($K$182:K183)-1),\"\")","v":""},{"$f":"IF(OFFSET(DE104_9!$L$182,ROWS($L$182:L183)-1,COLUMNS($L$182:L183)-1)<>\"\",OFFSET(DE104_9!$L$182,ROWS($L$182:L183)-1,COLUMNS($L$182:L183)-1),\"\")","v":""},{"$f":"IF(OFFSET(DE104_9!$M$182,ROWS($M$182:M183)-1,COLUMNS($M$182:M183)-1)<>\"\",OFFSET(DE104_9!$M$182,ROWS($M$182:M183)-1,COLUMNS($M$182:M183)-1),\"\")","v":""},{"$f":"IF(OFFSET(DE104_9!$N$182,ROWS($N$182:N183)-1,COLUMNS($N$182:N183)-1)<>\"\",OFFSET(DE104_9!$N$182,ROWS($N$182:N183)-1,COLUMNS($N$182:N183)-1),\"\")","v":""},{"$f":"IF(OFFSET(DE104_9!$O$182,ROWS($O$182:O183)-1,COLUMNS($O$182:O183)-1)<>\"\",OFFSET(DE104_9!$O$182,ROWS($O$182:O183)-1,COLUMNS($O$182:O183)-1),\"\")","v":""},{"$f":"IF(OFFSET(DE104_9!$P$182,ROWS($P$182:P183)-1,COLUMNS($P$182:P183)-1)<>\"\",OFFSET(DE104_9!$P$182,ROWS($P$182:P183)-1,COLUMNS($P$182:P183)-1),\"\")","v":24148150},{"$f":"IF(OFFSET(DE104_9!$Q$182,ROWS($Q$182:Q183)-1,COLUMNS($Q$182:Q183)-1)<>\"\",OFFSET(DE104_9!$Q$182,ROWS($Q$182:Q183)-1,COLUMNS($Q$182:Q183)-1),\"\")","v":"DR-306"},{"$f":"IF(OFFSET(DE104_9!$R$182,ROWS($R$182:R183)-1,COLUMNS($R$182:R183)-1)<>\"\",OFFSET(DE104_9!$R$182,ROWS($R$182:R183)-1,COLUMNS($R$182:R183)-1),\"\")","v":" "},{"$f":"IF(OFFSET(DE104_9!$S$182,ROWS($S$182:S183)-1,COLUMNS($S$182:S183)-1)<>\"\",OFFSET(DE104_9!$S$182,ROWS($S$182:S183)-1,COLUMNS($S$182:S183)-1),\"\")","v":0.4},{"$f":"IF(OFFSET(DE104_9!$T$182,ROWS($T$182:T183)-1,COLUMNS($T$182:T183)-1)<>\"\",OFFSET(DE104_9!$T$182,ROWS($T$182:T183)-1,COLUMNS($T$182:T183)-1),\"\")","v":""}]
[{"$f":"IF(OFFSET(DE104_9!$C$182,ROWS($C$182:C184)-1,COLUMNS($C$182:C184)-1)<>\"\",OFFSET(DE104_9!$C$182,ROWS($C$182:C184)-1,COLUMNS($C$182:C184)-1),\"\")","v":84},{"$f":"IF(OFFSET(DE104_9!$D$182,ROWS($D$182:D184)-1,COLUMNS($D$182:D184)-1)<>\"\",OFFSET(DE104_9!$D$182,ROWS($D$182:D184)-1,COLUMNS($D$182:D184)-1),\"\")","v":"US 218"},{"$f":"IF(OFFSET(DE104_9!$E$182,ROWS($E$182:E184)-1,COLUMNS($E$182:E184)-1)<>\"\",OFFSET(DE104_9!$E$182,ROWS($E$182:E184)-1,COLUMNS($E$182:E184)-1),\"\")","v":24148150},{"$f":"IF(OFFSET(DE104_9!$F$182,ROWS($F$182:F184)-1,COLUMNS($F$182:F184)-1)<>\"\",OFFSET(DE104_9!$F$182,ROWS($F$182:F184)-1,COLUMNS($F$182:F184)-1),\"\")","v":24148650},{"$f":"IF(OFFSET(DE104_9!$G$182,ROWS($G$182:G184)-1,COLUMNS($G$182:G184)-1)<>\"\",OFFSET(DE104_9!$G$182,ROWS($G$182:G184)-1,COLUMNS($G$182:G184)-1),\"\")","v":"RT"},{"$f":"IF(OFFSET(DE104_9!$H$182,ROWS($H$182:H184)-1,COLUMNS($H$182:H184)-1)<>\"\",OFFSET(DE104_9!$H$182,ROWS($H$182:H184)-1,COLUMNS($H$182:H184)-1),\"\")","v":42},{"$f":"IF(OFFSET(DE104_9!$I$182,ROWS($I$182:I184)-1,COLUMNS($I$182:I184)-1)<>\"\",OFFSET(DE104_9!$I$182,ROWS($I$182:I184)-1,COLUMNS($I$182:I184)-1),\"\")","v":4},{"$f":"IF(OFFSET(DE104_9!$J$182,ROWS($J$182:J184)-1,COLUMNS($J$182:J184)-1)<>\"\",OFFSET(DE104_9!$J$182,ROWS($J$182:J184)-1,COLUMNS($J$182:J184)-1),\"\")","v":540},{"$f":"IF(OFFSET(DE104_9!$K$182,ROWS($K$182:K184)-1,COLUMNS($K$182:K184)-1)<>\"\",OFFSET(DE104_9!$K$182,ROWS($K$182:K184)-1,COLUMNS($K$182:K184)-1),\"\")","v":""},{"$f":"IF(OFFSET(DE104_9!$L$182,ROWS($L$182:L184)-1,COLUMNS($L$182:L184)-1)<>\"\",OFFSET(DE104_9!$L$182,ROWS($L$182:L184)-1,COLUMNS($L$182:L184)-1),\"\")","v":""},{"$f":"IF(OFFSET(DE104_9!$M$182,ROWS($M$182:M184)-1,COLUMNS($M$182:M184)-1)<>\"\",OFFSET(DE104_9!$M$182,ROWS($M$182:M184)-1,COLUMNS($M$182:M184)-1),\"\")","v":""},{"$f":"IF(OFFSET(DE104_9!$N$182,ROWS($N$182:N184)-1,COLUMNS($N$182:N184)-1)<>\"\",OFFSET(DE104_9!$N$182,ROWS($N$182:N184)-1,COLUMNS($N$182:N184)-1),\"\")","v":""},{"$f":"IF(OFFSET(DE104_9!$O$182,ROWS($O$182:O184)-1,COLUMNS($O$182:O184)-1)<>\"\",OFFSET(DE104_9!$O$182,ROWS($O$182:O184)-1,COLUMNS($O$182:O184)-1),\"\")","v":""},{"$f":"IF(OFFSET(DE104_9!$P$182,ROWS($P$182:P184)-1,COLUMNS($P$182:P184)-1)<>\"\",OFFSET(DE104_9!$P$182,ROWS($P$182:P184)-1,COLUMNS($P$182:P184)-1),\"\")","v":24148150},{"$f":"IF(OFFSET(DE104_9!$Q$182,ROWS($Q$182:Q184)-1,COLUMNS($Q$182:Q184)-1)<>\"\",OFFSET(DE104_9!$Q$182,ROWS($Q$182:Q184)-1,COLUMNS($Q$182:Q184)-1),\"\")","v":"DR-306"},{"$f":"IF(OFFSET(DE104_9!$R$182,ROWS($R$182:R184)-1,COLUMNS($R$182:R184)-1)<>\"\",OFFSET(DE104_9!$R$182,ROWS($R$182:R184)-1,COLUMNS($R$182:R184)-1),\"\")","v":50},{"$f":"IF(OFFSET(DE104_9!$S$182,ROWS($S$182:S184)-1,COLUMNS($S$182:S184)-1)<>\"\",OFFSET(DE104_9!$S$182,ROWS($S$182:S184)-1,COLUMNS($S$182:S184)-1),\"\")","v":0.4},{"$f":"IF(OFFSET(DE104_9!$T$182,ROWS($T$182:T184)-1,COLUMNS($T$182:T184)-1)<>\"\",OFFSET(DE104_9!$T$182,ROWS($T$182:T184)-1,COLUMNS($T$182:T184)-1),\"\")","v":""}]
[{"$f":"IF(OFFSET(DE104_9!$C$182,ROWS($C$182:C185)-1,COLUMNS($C$182:C185)-1)<>\"\",OFFSET(DE104_9!$C$182,ROWS($C$182:C185)-1,COLUMNS($C$182:C185)-1),\"\")","v":""},{"$f":"IF(OFFSET(DE104_9!$D$182,ROWS($D$182:D185)-1,COLUMNS($D$182:D185)-1)<>\"\",OFFSET(DE104_9!$D$182,ROWS($D$182:D185)-1,COLUMNS($D$182:D185)-1),\"\")","v":""},{"$f":"IF(OFFSET(DE104_9!$E$182,ROWS($E$182:E185)-1,COLUMNS($E$182:E185)-1)<>\"\",OFFSET(DE104_9!$E$182,ROWS($E$182:E185)-1,COLUMNS($E$182:E185)-1),\"\")","v":""},{"$f":"IF(OFFSET(DE104_9!$F$182,ROWS($F$182:F185)-1,COLUMNS($F$182:F185)-1)<>\"\",OFFSET(DE104_9!$F$182,ROWS($F$182:F185)-1,COLUMNS($F$182:F185)-1),\"\")","v":""},{"$f":"IF(OFFSET(DE104_9!$G$182,ROWS($G$182:G185)-1,COLUMNS($G$182:G185)-1)<>\"\",OFFSET(DE104_9!$G$182,ROWS($G$182:G185)-1,COLUMNS($G$182:G185)-1),\"\")","v":""},{"$f":"IF(OFFSET(DE104_9!$H$182,ROWS($H$182:H185)-1,COLUMNS($H$182:H185)-1)<>\"\",OFFSET(DE104_9!$H$182,ROWS($H$182:H185)-1,COLUMNS($H$182:H185)-1),\"\")","v":" "},{"$f":"IF(OFFSET(DE104_9!$I$182,ROWS($I$182:I185)-1,COLUMNS($I$182:I185)-1)<>\"\",OFFSET(DE104_9!$I$182,ROWS($I$182:I185)-1,COLUMNS($I$182:I185)-1),\"\")","v":""},{"$f":"IF(OFFSET(DE104_9!$J$182,ROWS($J$182:J185)-1,COLUMNS($J$182:J185)-1)<>\"\",OFFSET(DE104_9!$J$182,ROWS($J$182:J185)-1,COLUMNS($J$182:J185)-1),\"\")","v":""},{"$f":"IF(OFFSET(DE104_9!$K$182,ROWS($K$182:K185)-1,COLUMNS($K$182:K185)-1)<>\"\",OFFSET(DE104_9!$K$182,ROWS($K$182:K185)-1,COLUMNS($K$182:K185)-1),\"\")","v":""},{"$f":"IF(OFFSET(DE104_9!$L$182,ROWS($L$182:L185)-1,COLUMNS($L$182:L185)-1)<>\"\",OFFSET(DE104_9!$L$182,ROWS($L$182:L185)-1,COLUMNS($L$182:L185)-1),\"\")","v":""},{"$f":"IF(OFFSET(DE104_9!$M$182,ROWS($M$182:M185)-1,COLUMNS($M$182:M185)-1)<>\"\",OFFSET(DE104_9!$M$182,ROWS($M$182:M185)-1,COLUMNS($M$182:M185)-1),\"\")","v":""},{"$f":"IF(OFFSET(DE104_9!$N$182,ROWS($N$182:N185)-1,COLUMNS($N$182:N185)-1)<>\"\",OFFSET(DE104_9!$N$182,ROWS($N$182:N185)-1,COLUMNS($N$182:N185)-1),\"\")","v":""},{"$f":"IF(OFFSET(DE104_9!$O$182,ROWS($O$182:O185)-1,COLUMNS($O$182:O185)-1)<>\"\",OFFSET(DE104_9!$O$182,ROWS($O$182:O185)-1,COLUMNS($O$182:O185)-1),\"\")","v":""},{"$f":"IF(OFFSET(DE104_9!$P$182,ROWS($P$182:P185)-1,COLUMNS($P$182:P185)-1)<>\"\",OFFSET(DE104_9!$P$182,ROWS($P$182:P185)-1,COLUMNS($P$182:P185)-1),\"\")","v":24148650},{"$f":"IF(OFFSET(DE104_9!$Q$182,ROWS($Q$182:Q185)-1,COLUMNS($Q$182:Q185)-1)<>\"\",OFFSET(DE104_9!$Q$182,ROWS($Q$182:Q185)-1,COLUMNS($Q$182:Q185)-1),\"\")","v":"DR-306"},{"$f":"IF(OFFSET(DE104_9!$R$182,ROWS($R$182:R185)-1,COLUMNS($R$182:R185)-1)<>\"\",OFFSET(DE104_9!$R$182,ROWS($R$182:R185)-1,COLUMNS($R$182:R185)-1),\"\")","v":" "},{"$f":"IF(OFFSET(DE104_9!$S$182,ROWS($S$182:S185)-1,COLUMNS($S$182:S185)-1)<>\"\",OFFSET(DE104_9!$S$182,ROWS($S$182:S185)-1,COLUMNS($S$182:S185)-1),\"\")","v":0.4},{"$f":"IF(OFFSET(DE104_9!$T$182,ROWS($T$182:T185)-1,COLUMNS($T$182:T185)-1)<>\"\",OFFSET(DE104_9!$T$182,ROWS($T$182:T185)-1,COLUMNS($T$182:T185)-1),\"\")","v":""}]
[{"$f":"IF(OFFSET(DE104_9!$C$182,ROWS($C$182:C186)-1,COLUMNS($C$182:C186)-1)<>\"\",OFFSET(DE104_9!$C$182,ROWS($C$182:C186)-1,COLUMNS($C$182:C186)-1),\"\")","v":85},{"$f":"IF(OFFSET(DE104_9!$D$182,ROWS($D$182:D186)-1,COLUMNS($D$182:D186)-1)<>\"\",OFFSET(DE104_9!$D$182,ROWS($D$182:D186)-1,COLUMNS($D$182:D186)-1),\"\")","v":"US 218"},{"$f":"IF(OFFSET(DE104_9!$E$182,ROWS($E$182:E186)-1,COLUMNS($E$182:E186)-1)<>\"\",OFFSET(DE104_9!$E$182,ROWS($E$182:E186)-1,COLUMNS($E$182:E186)-1),\"\")","v":24148650},{"$f":"IF(OFFSET(DE104_9!$F$182,ROWS($F$182:F186)-1,COLUMNS($F$182:F186)-1)<>\"\",OFFSET(DE104_9!$F$182,ROWS($F$182:F186)-1,COLUMNS($F$182:F186)-1),\"\")","v":24149150},{"$f":"IF(OFFSET(DE104_9!$G$182,ROWS($G$182:G186)-1,COLUMNS($G$182:G186)-1)<>\"\",OFFSET(DE104_9!$G$182,ROWS($G$182:G186)-1,COLUMNS($G$182:G186)-1),\"\")","v":"RT"},{"$f":"IF(OFFSET(DE104_9!$H$182,ROWS($H$182:H186)-1,COLUMNS($H$182:H186)-1)<>\"\",OFFSET(DE104_9!$H$182,ROWS($H$182:H186)-1,COLUMNS($H$182:H186)-1),\"\")","v":30},{"$f":"IF(OFFSET(DE104_9!$I$182,ROWS($I$182:I186)-1,COLUMNS($I$182:I186)-1)<>\"\",OFFSET(DE104_9!$I$182,ROWS($I$182:I186)-1,COLUMNS($I$182:I186)-1),\"\")","v":4},{"$f":"IF(OFFSET(DE104_9!$J$182,ROWS($J$182:J186)-1,COLUMNS($J$182:J186)-1)<>\"\",OFFSET(DE104_9!$J$182,ROWS($J$182:J186)-1,COLUMNS($J$182:J186)-1),\"\")","v":540},{"$f":"IF(OFFSET(DE104_9!$K$182,ROWS($K$182:K186)-1,COLUMNS($K$182:K186)-1)<>\"\",OFFSET(DE104_9!$K$182,ROWS($K$182:K186)-1,COLUMNS($K$182:K186)-1),\"\")","v":""},{"$f":"IF(OFFSET(DE104_9!$L$182,ROWS($L$182:L186)-1,COLUMNS($L$182:L186)-1)<>\"\",OFFSET(DE104_9!$L$182,ROWS($L$182:L186)-1,COLUMNS($L$182:L186)-1),\"\")","v":""},{"$f":"IF(OFFSET(DE104_9!$M$182,ROWS($M$182:M186)-1,COLUMNS($M$182:M186)-1)<>\"\",OFFSET(DE104_9!$M$182,ROWS($M$182:M186)-1,COLUMNS($M$182:M186)-1),\"\")","v":""},{"$f":"IF(OFFSET(DE104_9!$N$182,ROWS($N$182:N186)-1,COLUMNS($N$182:N186)-1)<>\"\",OFFSET(DE104_9!$N$182,ROWS($N$182:N186)-1,COLUMNS($N$182:N186)-1),\"\")","v":""},{"$f":"IF(OFFSET(DE104_9!$O$182,ROWS($O$182:O186)-1,COLUMNS($O$182:O186)-1)<>\"\",OFFSET(DE104_9!$O$182,ROWS($O$182:O186)-1,COLUMNS($O$182:O186)-1),\"\")","v":""},{"$f":"IF(OFFSET(DE104_9!$P$182,ROWS($P$182:P186)-1,COLUMNS($P$182:P186)-1)<>\"\",OFFSET(DE104_9!$P$182,ROWS($P$182:P186)-1,COLUMNS($P$182:P186)-1),\"\")","v":24148650},{"$f":"IF(OFFSET(DE104_9!$Q$182,ROWS($Q$182:Q186)-1,COLUMNS($Q$182:Q186)-1)<>\"\",OFFSET(DE104_9!$Q$182,ROWS($Q$182:Q186)-1,COLUMNS($Q$182:Q186)-1),\"\")","v":"DR-306"},{"$f":"IF(OFFSET(DE104_9!$R$182,ROWS($R$182:R186)-1,COLUMNS($R$182:R186)-1)<>\"\",OFFSET(DE104_9!$R$182,ROWS($R$182:R186)-1,COLUMNS($R$182:R186)-1),\"\")","v":33.299999999999997},{"$f":"IF(OFFSET(DE104_9!$S$182,ROWS($S$182:S186)-1,COLUMNS($S$182:S186)-1)<>\"\",OFFSET(DE104_9!$S$182,ROWS($S$182:S186)-1,COLUMNS($S$182:S186)-1),\"\")","v":0.4},{"$f":"IF(OFFSET(DE104_9!$T$182,ROWS($T$182:T186)-1,COLUMNS($T$182:T186)-1)<>\"\",OFFSET(DE104_9!$T$182,ROWS($T$182:T186)-1,COLUMNS($T$182:T186)-1),\"\")","v":""}]
[{"$f":"IF(OFFSET(DE104_9!$C$182,ROWS($C$182:C187)-1,COLUMNS($C$182:C187)-1)<>\"\",OFFSET(DE104_9!$C$182,ROWS($C$182:C187)-1,COLUMNS($C$182:C187)-1),\"\")","v":""},{"$f":"IF(OFFSET(DE104_9!$D$182,ROWS($D$182:D187)-1,COLUMNS($D$182:D187)-1)<>\"\",OFFSET(DE104_9!$D$182,ROWS($D$182:D187)-1,COLUMNS($D$182:D187)-1),\"\")","v":""},{"$f":"IF(OFFSET(DE104_9!$E$182,ROWS($E$182:E187)-1,COLUMNS($E$182:E187)-1)<>\"\",OFFSET(DE104_9!$E$182,ROWS($E$182:E187)-1,COLUMNS($E$182:E187)-1),\"\")","v":""},{"$f":"IF(OFFSET(DE104_9!$F$182,ROWS($F$182:F187)-1,COLUMNS($F$182:F187)-1)<>\"\",OFFSET(DE104_9!$F$182,ROWS($F$182:F187)-1,COLUMNS($F$182:F187)-1),\"\")","v":""},{"$f":"IF(OFFSET(DE104_9!$G$182,ROWS($G$182:G187)-1,COLUMNS($G$182:G187)-1)<>\"\",OFFSET(DE104_9!$G$182,ROWS($G$182:G187)-1,COLUMNS($G$182:G187)-1),\"\")","v":""},{"$f":"IF(OFFSET(DE104_9!$H$182,ROWS($H$182:H187)-1,COLUMNS($H$182:H187)-1)<>\"\",OFFSET(DE104_9!$H$182,ROWS($H$182:H187)-1,COLUMNS($H$182:H187)-1),\"\")","v":" "},{"$f":"IF(OFFSET(DE104_9!$I$182,ROWS($I$182:I187)-1,COLUMNS($I$182:I187)-1)<>\"\",OFFSET(DE104_9!$I$182,ROWS($I$182:I187)-1,COLUMNS($I$182:I187)-1),\"\")","v":""},{"$f":"IF(OFFSET(DE104_9!$J$182,ROWS($J$182:J187)-1,COLUMNS($J$182:J187)-1)<>\"\",OFFSET(DE104_9!$J$182,ROWS($J$182:J187)-1,COLUMNS($J$182:J187)-1),\"\")","v":""},{"$f":"IF(OFFSET(DE104_9!$K$182,ROWS($K$182:K187)-1,COLUMNS($K$182:K187)-1)<>\"\",OFFSET(DE104_9!$K$182,ROWS($K$182:K187)-1,COLUMNS($K$182:K187)-1),\"\")","v":""},{"$f":"IF(OFFSET(DE104_9!$L$182,ROWS($L$182:L187)-1,COLUMNS($L$182:L187)-1)<>\"\",OFFSET(DE104_9!$L$182,ROWS($L$182:L187)-1,COLUMNS($L$182:L187)-1),\"\")","v":""},{"$f":"IF(OFFSET(DE104_9!$M$182,ROWS($M$182:M187)-1,COLUMNS($M$182:M187)-1)<>\"\",OFFSET(DE104_9!$M$182,ROWS($M$182:M187)-1,COLUMNS($M$182:M187)-1),\"\")","v":""},{"$f":"IF(OFFSET(DE104_9!$N$182,ROWS($N$182:N187)-1,COLUMNS($N$182:N187)-1)<>\"\",OFFSET(DE104_9!$N$182,ROWS($N$182:N187)-1,COLUMNS($N$182:N187)-1),\"\")","v":""},{"$f":"IF(OFFSET(DE104_9!$O$182,ROWS($O$182:O187)-1,COLUMNS($O$182:O187)-1)<>\"\",OFFSET(DE104_9!$O$182,ROWS($O$182:O187)-1,COLUMNS($O$182:O187)-1),\"\")","v":""},{"$f":"IF(OFFSET(DE104_9!$P$182,ROWS($P$182:P187)-1,COLUMNS($P$182:P187)-1)<>\"\",OFFSET(DE104_9!$P$182,ROWS($P$182:P187)-1,COLUMNS($P$182:P187)-1),\"\")","v":24149150},{"$f":"IF(OFFSET(DE104_9!$Q$182,ROWS($Q$182:Q187)-1,COLUMNS($Q$182:Q187)-1)<>\"\",OFFSET(DE104_9!$Q$182,ROWS($Q$182:Q187)-1,COLUMNS($Q$182:Q187)-1),\"\")","v":"DR-306"},{"$f":"IF(OFFSET(DE104_9!$R$182,ROWS($R$182:R187)-1,COLUMNS($R$182:R187)-1)<>\"\",OFFSET(DE104_9!$R$182,ROWS($R$182:R187)-1,COLUMNS($R$182:R187)-1),\"\")","v":" "},{"$f":"IF(OFFSET(DE104_9!$S$182,ROWS($S$182:S187)-1,COLUMNS($S$182:S187)-1)<>\"\",OFFSET(DE104_9!$S$182,ROWS($S$182:S187)-1,COLUMNS($S$182:S187)-1),\"\")","v":0.4},{"$f":"IF(OFFSET(DE104_9!$T$182,ROWS($T$182:T187)-1,COLUMNS($T$182:T187)-1)<>\"\",OFFSET(DE104_9!$T$182,ROWS($T$182:T187)-1,COLUMNS($T$182:T187)-1),\"\")","v":""}]
[{"$f":"IF(OFFSET(DE104_9!$C$182,ROWS($C$182:C188)-1,COLUMNS($C$182:C188)-1)<>\"\",OFFSET(DE104_9!$C$182,ROWS($C$182:C188)-1,COLUMNS($C$182:C188)-1),\"\")","v":86},{"$f":"IF(OFFSET(DE104_9!$D$182,ROWS($D$182:D188)-1,COLUMNS($D$182:D188)-1)<>\"\",OFFSET(DE104_9!$D$182,ROWS($D$182:D188)-1,COLUMNS($D$182:D188)-1),\"\")","v":"US 218"},{"$f":"IF(OFFSET(DE104_9!$E$182,ROWS($E$182:E188)-1,COLUMNS($E$182:E188)-1)<>\"\",OFFSET(DE104_9!$E$182,ROWS($E$182:E188)-1,COLUMNS($E$182:E188)-1),\"\")","v":24149150},{"$f":"IF(OFFSET(DE104_9!$F$182,ROWS($F$182:F188)-1,COLUMNS($F$182:F188)-1)<>\"\",OFFSET(DE104_9!$F$182,ROWS($F$182:F188)-1,COLUMNS($F$182:F188)-1),\"\")","v":24149400},{"$f":"IF(OFFSET(DE104_9!$G$182,ROWS($G$182:G188)-1,COLUMNS($G$182:G188)-1)<>\"\",OFFSET(DE104_9!$G$182,ROWS($G$182:G188)-1,COLUMNS($G$182:G188)-1),\"\")","v":"RT"},{"$f":"IF(OFFSET(DE104_9!$H$182,ROWS($H$182:H188)-1,COLUMNS($H$182:H188)-1)<>\"\",OFFSET(DE104_9!$H$182,ROWS($H$182:H188)-1,COLUMNS($H$182:H188)-1),\"\")","v":26},{"$f":"IF(OFFSET(DE104_9!$I$182,ROWS($I$182:I188)-1,COLUMNS($I$182:I188)-1)<>\"\",OFFSET(DE104_9!$I$182,ROWS($I$182:I188)-1,COLUMNS($I$182:I188)-1),\"\")","v":4},{"$f":"IF(OFFSET(DE104_9!$J$182,ROWS($J$182:J188)-1,COLUMNS($J$182:J188)-1)<>\"\",OFFSET(DE104_9!$J$182,ROWS($J$182:J188)-1,COLUMNS($J$182:J188)-1),\"\")","v":290},{"$f":"IF(OFFSET(DE104_9!$K$182,ROWS($K$182:K188)-1,COLUMNS($K$182:K188)-1)<>\"\",OFFSET(DE104_9!$K$182,ROWS($K$182:K188)-1,COLUMNS($K$182:K188)-1),\"\")","v":""},{"$f":"IF(OFFSET(DE104_9!$L$182,ROWS($L$182:L188)-1,COLUMNS($L$182:L188)-1)<>\"\",OFFSET(DE104_9!$L$182,ROWS($L$182:L188)-1,COLUMNS($L$182:L188)-1),\"\")","v":""},{"$f":"IF(OFFSET(DE104_9!$M$182,ROWS($M$182:M188)-1,COLUMNS($M$182:M188)-1)<>\"\",OFFSET(DE104_9!$M$182,ROWS($M$182:M188)-1,COLUMNS($M$182:M188)-1),\"\")","v":""},{"$f":"IF(OFFSET(DE104_9!$N$182,ROWS($N$182:N188)-1,COLUMNS($N$182:N188)-1)<>\"\",OFFSET(DE104_9!$N$182,ROWS($N$182:N188)-1,COLUMNS($N$182:N188)-1),\"\")","v":""},{"$f":"IF(OFFSET(DE104_9!$O$182,ROWS($O$182:O188)-1,COLUMNS($O$182:O188)-1)<>\"\",OFFSET(DE104_9!$O$182,ROWS($O$182:O188)-1,COLUMNS($O$182:O188)-1),\"\")","v":""},{"$f":"IF(OFFSET(DE104_9!$P$182,ROWS($P$182:P188)-1,COLUMNS($P$182:P188)-1)<>\"\",OFFSET(DE104_9!$P$182,ROWS($P$182:P188)-1,COLUMNS($P$182:P188)-1),\"\")","v":24149150},{"$f":"IF(OFFSET(DE104_9!$Q$182,ROWS($Q$182:Q188)-1,COLUMNS($Q$182:Q188)-1)<>\"\",OFFSET(DE104_9!$Q$182,ROWS($Q$182:Q188)-1,COLUMNS($Q$182:Q188)-1),\"\")","v":"DR-306"},{"$f":"IF(OFFSET(DE104_9!$R$182,ROWS($R$182:R188)-1,COLUMNS($R$182:R188)-1)<>\"\",OFFSET(DE104_9!$R$182,ROWS($R$182:R188)-1,COLUMNS($R$182:R188)-1),\"\")","v":14.9},{"$f":"IF(OFFSET(DE104_9!$S$182,ROWS($S$182:S188)-1,COLUMNS($S$182:S188)-1)<>\"\",OFFSET(DE104_9!$S$182,ROWS($S$182:S188)-1,COLUMNS($S$182:S188)-1),\"\")","v":0.4},{"$f":"IF(OFFSET(DE104_9!$T$182,ROWS($T$182:T188)-1,COLUMNS($T$182:T188)-1)<>\"\",OFFSET(DE104_9!$T$182,ROWS($T$182:T188)-1,COLUMNS($T$182:T188)-1),\"\")","v":" "}]
[{"$f":"IF(OFFSET(DE104_9!$C$182,ROWS($C$182:C189)-1,COLUMNS($C$182:C189)-1)<>\"\",OFFSET(DE104_9!$C$182,ROWS($C$182:C189)-1,COLUMNS($C$182:C189)-1),\"\")","v":""},{"$f":"IF(OFFSET(DE104_9!$D$182,ROWS($D$182:D189)-1,COLUMNS($D$182:D189)-1)<>\"\",OFFSET(DE104_9!$D$182,ROWS($D$182:D189)-1,COLUMNS($D$182:D189)-1),\"\")","v":""},{"$f":"IF(OFFSET(DE104_9!$E$182,ROWS($E$182:E189)-1,COLUMNS($E$182:E189)-1)<>\"\",OFFSET(DE104_9!$E$182,ROWS($E$182:E189)-1,COLUMNS($E$182:E189)-1),\"\")","v":""},{"$f":"IF(OFFSET(DE104_9!$F$182,ROWS($F$182:F189)-1,COLUMNS($F$182:F189)-1)<>\"\",OFFSET(DE104_9!$F$182,ROWS($F$182:F189)-1,COLUMNS($F$182:F189)-1),\"\")","v":""},{"$f":"IF(OFFSET(DE104_9!$G$182,ROWS($G$182:G189)-1,COLUMNS($G$182:G189)-1)<>\"\",OFFSET(DE104_9!$G$182,ROWS($G$182:G189)-1,COLUMNS($G$182:G189)-1),\"\")","v":""},{"$f":"IF(OFFSET(DE104_9!$H$182,ROWS($H$182:H189)-1,COLUMNS($H$182:H189)-1)<>\"\",OFFSET(DE104_9!$H$182,ROWS($H$182:H189)-1,COLUMNS($H$182:H189)-1),\"\")","v":" "},{"$f":"IF(OFFSET(DE104_9!$I$182,ROWS($I$182:I189)-1,COLUMNS($I$182:I189)-1)<>\"\",OFFSET(DE104_9!$I$182,ROWS($I$182:I189)-1,COLUMNS($I$182:I189)-1),\"\")","v":""},{"$f":"IF(OFFSET(DE104_9!$J$182,ROWS($J$182:J189)-1,COLUMNS($J$182:J189)-1)<>\"\",OFFSET(DE104_9!$J$182,ROWS($J$182:J189)-1,COLUMNS($J$182:J189)-1),\"\")","v":""},{"$f":"IF(OFFSET(DE104_9!$K$182,ROWS($K$182:K189)-1,COLUMNS($K$182:K189)-1)<>\"\",OFFSET(DE104_9!$K$182,ROWS($K$182:K189)-1,COLUMNS($K$182:K189)-1),\"\")","v":""},{"$f":"IF(OFFSET(DE104_9!$L$182,ROWS($L$182:L189)-1,COLUMNS($L$182:L189)-1)<>\"\",OFFSET(DE104_9!$L$182,ROWS($L$182:L189)-1,COLUMNS($L$182:L189)-1),\"\")","v":""},{"$f":"IF(OFFSET(DE104_9!$M$182,ROWS($M$182:M189)-1,COLUMNS($M$182:M189)-1)<>\"\",OFFSET(DE104_9!$M$182,ROWS($M$182:M189)-1,COLUMNS($M$182:M189)-1),\"\")","v":""},{"$f":"IF(OFFSET(DE104_9!$N$182,ROWS($N$182:N189)-1,COLUMNS($N$182:N189)-1)<>\"\",OFFSET(DE104_9!$N$182,ROWS($N$182:N189)-1,COLUMNS($N$182:N189)-1),\"\")","v":""},{"$f":"IF(OFFSET(DE104_9!$O$182,ROWS($O$182:O189)-1,COLUMNS($O$182:O189)-1)<>\"\",OFFSET(DE104_9!$O$182,ROWS($O$182:O189)-1,COLUMNS($O$182:O189)-1),\"\")","v":""},{"$f":"IF(OFFSET(DE104_9!$P$182,ROWS($P$182:P189)-1,COLUMNS($P$182:P189)-1)<>\"\",OFFSET(DE104_9!$P$182,ROWS($P$182:P189)-1,COLUMNS($P$182:P189)-1),\"\")","v":24149400},{"$f":"IF(OFFSET(DE104_9!$Q$182,ROWS($Q$182:Q189)-1,COLUMNS($Q$182:Q189)-1)<>\"\",OFFSET(DE104_9!$Q$182,ROWS($Q$182:Q189)-1,COLUMNS($Q$182:Q189)-1),\"\")","v":"DR-306"},{"$f":"IF(OFFSET(DE104_9!$R$182,ROWS($R$182:R189)-1,COLUMNS($R$182:R189)-1)<>\"\",OFFSET(DE104_9!$R$182,ROWS($R$182:R189)-1,COLUMNS($R$182:R189)-1),\"\")","v":" "},{"$f":"IF(OFFSET(DE104_9!$S$182,ROWS($S$182:S189)-1,COLUMNS($S$182:S189)-1)<>\"\",OFFSET(DE104_9!$S$182,ROWS($S$182:S189)-1,COLUMNS($S$182:S189)-1),\"\")","v":0.4},{"$f":"IF(OFFSET(DE104_9!$T$182,ROWS($T$182:T189)-1,COLUMNS($T$182:T189)-1)<>\"\",OFFSET(DE104_9!$T$182,ROWS($T$182:T189)-1,COLUMNS($T$182:T189)-1),\"\")","v":""}]
[{"$f":"IF(OFFSET(DE104_9!$C$182,ROWS($C$182:C190)-1,COLUMNS($C$182:C190)-1)<>\"\",OFFSET(DE104_9!$C$182,ROWS($C$182:C190)-1,COLUMNS($C$182:C190)-1),\"\")","v":87},{"$f":"IF(OFFSET(DE104_9!$D$182,ROWS($D$182:D190)-1,COLUMNS($D$182:D190)-1)<>\"\",OFFSET(DE104_9!$D$182,ROWS($D$182:D190)-1,COLUMNS($D$182:D190)-1),\"\")","v":"US 218"},{"$f":"IF(OFFSET(DE104_9!$E$182,ROWS($E$182:E190)-1,COLUMNS($E$182:E190)-1)<>\"\",OFFSET(DE104_9!$E$182,ROWS($E$182:E190)-1,COLUMNS($E$182:E190)-1),\"\")","v":24149400},{"$f":"IF(OFFSET(DE104_9!$F$182,ROWS($F$182:F190)-1,COLUMNS($F$182:F190)-1)<>\"\",OFFSET(DE104_9!$F$182,ROWS($F$182:F190)-1,COLUMNS($F$182:F190)-1),\"\")","v":24150300},{"$f":"IF(OFFSET(DE104_9!$G$182,ROWS($G$182:G190)-1,COLUMNS($G$182:G190)-1)<>\"\",OFFSET(DE104_9!$G$182,ROWS($G$182:G190)-1,COLUMNS($G$182:G190)-1),\"\")","v":"RT"},{"$f":"IF(OFFSET(DE104_9!$H$182,ROWS($H$182:H190)-1,COLUMNS($H$182:H190)-1)<>\"\",OFFSET(DE104_9!$H$182,ROWS($H$182:H190)-1,COLUMNS($H$182:H190)-1),\"\")","v":22},{"$f":"IF(OFFSET(DE104_9!$I$182,ROWS($I$182:I190)-1,COLUMNS($I$182:I190)-1)<>\"\",OFFSET(DE104_9!$I$182,ROWS($I$182:I190)-1,COLUMNS($I$182:I190)-1),\"\")","v":4},{"$f":"IF(OFFSET(DE104_9!$J$182,ROWS($J$182:J190)-1,COLUMNS($J$182:J190)-1)<>\"\",OFFSET(DE104_9!$J$182,ROWS($J$182:J190)-1,COLUMNS($J$182:J190)-1),\"\")","v":940},{"$f":"IF(OFFSET(DE104_9!$K$182,ROWS($K$182:K190)-1,COLUMNS($K$182:K190)-1)<>\"\",OFFSET(DE104_9!$K$182,ROWS($K$182:K190)-1,COLUMNS($K$182:K190)-1),\"\")","v":""},{"$f":"IF(OFFSET(DE104_9!$L$182,ROWS($L$182:L190)-1,COLUMNS($L$182:L190)-1)<>\"\",OFFSET(DE104_9!$L$182,ROWS($L$182:L190)-1,COLUMNS($L$182:L190)-1),\"\")","v":""},{"$f":"IF(OFFSET(DE104_9!$M$182,ROWS($M$182:M190)-1,COLUMNS($M$182:M190)-1)<>\"\",OFFSET(DE104_9!$M$182,ROWS($M$182:M190)-1,COLUMNS($M$182:M190)-1),\"\")","v":""},{"$f":"IF(OFFSET(DE104_9!$N$182,ROWS($N$182:N190)-1,COLUMNS($N$182:N190)-1)<>\"\",OFFSET(DE104_9!$N$182,ROWS($N$182:N190)-1,COLUMNS($N$182:N190)-1),\"\")","v":""},{"$f":"IF(OFFSET(DE104_9!$O$182,ROWS($O$182:O190)-1,COLUMNS($O$182:O190)-1)<>\"\",OFFSET(DE104_9!$O$182,ROWS($O$182:O190)-1,COLUMNS($O$182:O190)-1),\"\")","v":""},{"$f":"IF(OFFSET(DE104_9!$P$182,ROWS($P$182:P190)-1,COLUMNS($P$182:P190)-1)<>\"\",OFFSET(DE104_9!$P$182,ROWS($P$182:P190)-1,COLUMNS($P$182:P190)-1),\"\")","v":24149400},{"$f":"IF(OFFSET(DE104_9!$Q$182,ROWS($Q$182:Q190)-1,COLUMNS($Q$182:Q190)-1)<>\"\",OFFSET(DE104_9!$Q$182,ROWS($Q$182:Q190)-1,COLUMNS($Q$182:Q190)-1),\"\")","v":"DR-306"},{"$f":"IF(OFFSET(DE104_9!$R$182,ROWS($R$182:R190)-1,COLUMNS($R$182:R190)-1)<>\"\",OFFSET(DE104_9!$R$182,ROWS($R$182:R190)-1,COLUMNS($R$182:R190)-1),\"\")","v":38.700000000000003},{"$f":"IF(OFFSET(DE104_9!$S$182,ROWS($S$182:S190)-1,COLUMNS($S$182:S190)-1)<>\"\",OFFSET(DE104_9!$S$182,ROWS($S$182:S190)-1,COLUMNS($S$182:S190)-1),\"\")","v":0.4},{"$f":"IF(OFFSET(DE104_9!$T$182,ROWS($T$182:T190)-1,COLUMNS($T$182:T190)-1)<>\"\",OFFSET(DE104_9!$T$182,ROWS($T$182:T190)-1,COLUMNS($T$182:T190)-1),\"\")","v":"SHALLOW DITCH; SEE NOTE BELOW"}]
[{"$f":"IF(OFFSET(DE104_9!$C$182,ROWS($C$182:C191)-1,COLUMNS($C$182:C191)-1)<>\"\",OFFSET(DE104_9!$C$182,ROWS($C$182:C191)-1,COLUMNS($C$182:C191)-1),\"\")","v":""},{"$f":"IF(OFFSET(DE104_9!$D$182,ROWS($D$182:D191)-1,COLUMNS($D$182:D191)-1)<>\"\",OFFSET(DE104_9!$D$182,ROWS($D$182:D191)-1,COLUMNS($D$182:D191)-1),\"\")","v":""},{"$f":"IF(OFFSET(DE104_9!$E$182,ROWS($E$182:E191)-1,COLUMNS($E$182:E191)-1)<>\"\",OFFSET(DE104_9!$E$182,ROWS($E$182:E191)-1,COLUMNS($E$182:E191)-1),\"\")","v":""},{"$f":"IF(OFFSET(DE104_9!$F$182,ROWS($F$182:F191)-1,COLUMNS($F$182:F191)-1)<>\"\",OFFSET(DE104_9!$F$182,ROWS($F$182:F191)-1,COLUMNS($F$182:F191)-1),\"\")","v":""},{"$f":"IF(OFFSET(DE104_9!$G$182,ROWS($G$182:G191)-1,COLUMNS($G$182:G191)-1)<>\"\",OFFSET(DE104_9!$G$182,ROWS($G$182:G191)-1,COLUMNS($G$182:G191)-1),\"\")","v":""},{"$f":"IF(OFFSET(DE104_9!$H$182,ROWS($H$182:H191)-1,COLUMNS($H$182:H191)-1)<>\"\",OFFSET(DE104_9!$H$182,ROWS($H$182:H191)-1,COLUMNS($H$182:H191)-1),\"\")","v":""},{"$f":"IF(OFFSET(DE104_9!$I$182,ROWS($I$182:I191)-1,COLUMNS($I$182:I191)-1)<>\"\",OFFSET(DE104_9!$I$182,ROWS($I$182:I191)-1,COLUMNS($I$182:I191)-1),\"\")","v":""},{"$f":"IF(OFFSET(DE104_9!$J$182,ROWS($J$182:J191)-1,COLUMNS($J$182:J191)-1)<>\"\",OFFSET(DE104_9!$J$182,ROWS($J$182:J191)-1,COLUMNS($J$182:J191)-1),\"\")","v":""},{"$f":"IF(OFFSET(DE104_9!$K$182,ROWS($K$182:K191)-1,COLUMNS($K$182:K191)-1)<>\"\",OFFSET(DE104_9!$K$182,ROWS($K$182:K191)-1,COLUMNS($K$182:K191)-1),\"\")","v":""},{"$f":"IF(OFFSET(DE104_9!$L$182,ROWS($L$182:L191)-1,COLUMNS($L$182:L191)-1)<>\"\",OFFSET(DE104_9!$L$182,ROWS($L$182:L191)-1,COLUMNS($L$182:L191)-1),\"\")","v":""},{"$f":"IF(OFFSET(DE104_9!$M$182,ROWS($M$182:M191)-1,COLUMNS($M$182:M191)-1)<>\"\",OFFSET(DE104_9!$M$182,ROWS($M$182:M191)-1,COLUMNS($M$182:M191)-1),\"\")","v":""},{"$f":"IF(OFFSET(DE104_9!$N$182,ROWS($N$182:N191)-1,COLUMNS($N$182:N191)-1)<>\"\",OFFSET(DE104_9!$N$182,ROWS($N$182:N191)-1,COLUMNS($N$182:N191)-1),\"\")","v":""},{"$f":"IF(OFFSET(DE104_9!$O$182,ROWS($O$182:O191)-1,COLUMNS($O$182:O191)-1)<>\"\",OFFSET(DE104_9!$O$182,ROWS($O$182:O191)-1,COLUMNS($O$182:O191)-1),\"\")","v":""},{"$f":"IF(OFFSET(DE104_9!$P$182,ROWS($P$182:P191)-1,COLUMNS($P$182:P191)-1)<>\"\",OFFSET(DE104_9!$P$182,ROWS($P$182:P191)-1,COLUMNS($P$182:P191)-1),\"\")","v":24150300},{"$f":"IF(OFFSET(DE104_9!$Q$182,ROWS($Q$182:Q191)-1,COLUMNS($Q$182:Q191)-1)<>\"\",OFFSET(DE104_9!$Q$182,ROWS($Q$182:Q191)-1,COLUMNS($Q$182:Q191)-1),\"\")","v":"DR-306"},{"$f":"IF(OFFSET(DE104_9!$R$182,ROWS($R$182:R191)-1,COLUMNS($R$182:R191)-1)<>\"\",OFFSET(DE104_9!$R$182,ROWS($R$182:R191)-1,COLUMNS($R$182:R191)-1),\"\")","v":" "},{"$f":"IF(OFFSET(DE104_9!$S$182,ROWS($S$182:S191)-1,COLUMNS($S$182:S191)-1)<>\"\",OFFSET(DE104_9!$S$182,ROWS($S$182:S191)-1,COLUMNS($S$182:S191)-1),\"\")","v":0.4},{"$f":"IF(OFFSET(DE104_9!$T$182,ROWS($T$182:T191)-1,COLUMNS($T$182:T191)-1)<>\"\",OFFSET(DE104_9!$T$182,ROWS($T$182:T191)-1,COLUMNS($T$182:T191)-1),\"\")","v":""}]
[{"$f":"IF(OFFSET(DE104_9!$C$182,ROWS($C$182:C192)-1,COLUMNS($C$182:C192)-1)<>\"\",OFFSET(DE104_9!$C$182,ROWS($C$182:C192)-1,COLUMNS($C$182:C192)-1),\"\")","v":""},{"$f":"IF(OFFSET(DE104_9!$D$182,ROWS($D$182:D192)-1,COLUMNS($D$182:D192)-1)<>\"\",OFFSET(DE104_9!$D$182,ROWS($D$182:D192)-1,COLUMNS($D$182:D192)-1),\"\")","v":""},{"$f":"IF(OFFSET(DE104_9!$E$182,ROWS($E$182:E192)-1,COLUMNS($E$182:E192)-1)<>\"\",OFFSET(DE104_9!$E$182,ROWS($E$182:E192)-1,COLUMNS($E$182:E192)-1),\"\")","v":""},{"$f":"IF(OFFSET(DE104_9!$F$182,ROWS($F$182:F192)-1,COLUMNS($F$182:F192)-1)<>\"\",OFFSET(DE104_9!$F$182,ROWS($F$182:F192)-1,COLUMNS($F$182:F192)-1),\"\")","v":""},{"$f":"IF(OFFSET(DE104_9!$G$182,ROWS($G$182:G192)-1,COLUMNS($G$182:G192)-1)<>\"\",OFFSET(DE104_9!$G$182,ROWS($G$182:G192)-1,COLUMNS($G$182:G192)-1),\"\")","v":""},{"$f":"IF(OFFSET(DE104_9!$H$182,ROWS($H$182:H192)-1,COLUMNS($H$182:H192)-1)<>\"\",OFFSET(DE104_9!$H$182,ROWS($H$182:H192)-1,COLUMNS($H$182:H192)-1),\"\")","v":""},{"$f":"IF(OFFSET(DE104_9!$I$182,ROWS($I$182:I192)-1,COLUMNS($I$182:I192)-1)<>\"\",OFFSET(DE104_9!$I$182,ROWS($I$182:I192)-1,COLUMNS($I$182:I192)-1),\"\")","v":""},{"$f":"IF(OFFSET(DE104_9!$J$182,ROWS($J$182:J192)-1,COLUMNS($J$182:J192)-1)<>\"\",OFFSET(DE104_9!$J$182,ROWS($J$182:J192)-1,COLUMNS($J$182:J192)-1),\"\")","v":""},{"$f":"IF(OFFSET(DE104_9!$K$182,ROWS($K$182:K192)-1,COLUMNS($K$182:K192)-1)<>\"\",OFFSET(DE104_9!$K$182,ROWS($K$182:K192)-1,COLUMNS($K$182:K192)-1),\"\")","v":""},{"$f":"IF(OFFSET(DE104_9!$L$182,ROWS($L$182:L192)-1,COLUMNS($L$182:L192)-1)<>\"\",OFFSET(DE104_9!$L$182,ROWS($L$182:L192)-1,COLUMNS($L$182:L192)-1),\"\")","v":""},{"$f":"IF(OFFSET(DE104_9!$M$182,ROWS($M$182:M192)-1,COLUMNS($M$182:M192)-1)<>\"\",OFFSET(DE104_9!$M$182,ROWS($M$182:M192)-1,COLUMNS($M$182:M192)-1),\"\")","v":""},{"$f":"IF(OFFSET(DE104_9!$N$182,ROWS($N$182:N192)-1,COLUMNS($N$182:N192)-1)<>\"\",OFFSET(DE104_9!$N$182,ROWS($N$182:N192)-1,COLUMNS($N$182:N192)-1),\"\")","v":""},{"$f":"IF(OFFSET(DE104_9!$O$182,ROWS($O$182:O192)-1,COLUMNS($O$182:O192)-1)<>\"\",OFFSET(DE104_9!$O$182,ROWS($O$182:O192)-1,COLUMNS($O$182:O192)-1),\"\")","v":""},{"$f":"IF(OFFSET(DE104_9!$P$182,ROWS($P$182:P192)-1,COLUMNS($P$182:P192)-1)<>\"\",OFFSET(DE104_9!$P$182,ROWS($P$182:P192)-1,COLUMNS($P$182:P192)-1),\"\")","v":""},{"$f":"IF(OFFSET(DE104_9!$Q$182,ROWS($Q$182:Q192)-1,COLUMNS($Q$182:Q192)-1)<>\"\",OFFSET(DE104_9!$Q$182,ROWS($Q$182:Q192)-1,COLUMNS($Q$182:Q192)-1),\"\")","v":""},{"$f":"IF(OFFSET(DE104_9!$R$182,ROWS($R$182:R192)-1,COLUMNS($R$182:R192)-1)<>\"\",OFFSET(DE104_9!$R$182,ROWS($R$182:R192)-1,COLUMNS($R$182:R192)-1),\"\")","v":""},{"$f":"IF(OFFSET(DE104_9!$S$182,ROWS($S$182:S192)-1,COLUMNS($S$182:S192)-1)<>\"\",OFFSET(DE104_9!$S$182,ROWS($S$182:S192)-1,COLUMNS($S$182:S192)-1),\"\")","v":""},{"$f":"IF(OFFSET(DE104_9!$T$182,ROWS($T$182:T192)-1,COLUMNS($T$182:T192)-1)<>\"\",OFFSET(DE104_9!$T$182,ROWS($T$182:T192)-1,COLUMNS($T$182:T192)-1),\"\")","v":""}]
[{"$f":"IF(OFFSET(DE104_9!$C$182,ROWS($C$182:C193)-1,COLUMNS($C$182:C193)-1)<>\"\",OFFSET(DE104_9!$C$182,ROWS($C$182:C193)-1,COLUMNS($C$182:C193)-1),\"\")","v":""},{"$f":"IF(OFFSET(DE104_9!$D$182,ROWS($D$182:D193)-1,COLUMNS($D$182:D193)-1)<>\"\",OFFSET(DE104_9!$D$182,ROWS($D$182:D193)-1,COLUMNS($D$182:D193)-1),\"\")","v":""},{"$f":"IF(OFFSET(DE104_9!$E$182,ROWS($E$182:E193)-1,COLUMNS($E$182:E193)-1)<>\"\",OFFSET(DE104_9!$E$182,ROWS($E$182:E193)-1,COLUMNS($E$182:E193)-1),\"\")","v":""},{"$f":"IF(OFFSET(DE104_9!$F$182,ROWS($F$182:F193)-1,COLUMNS($F$182:F193)-1)<>\"\",OFFSET(DE104_9!$F$182,ROWS($F$182:F193)-1,COLUMNS($F$182:F193)-1),\"\")","v":""},{"$f":"IF(OFFSET(DE104_9!$G$182,ROWS($G$182:G193)-1,COLUMNS($G$182:G193)-1)<>\"\",OFFSET(DE104_9!$G$182,ROWS($G$182:G193)-1,COLUMNS($G$182:G193)-1),\"\")","v":""},{"$f":"IF(OFFSET(DE104_9!$H$182,ROWS($H$182:H193)-1,COLUMNS($H$182:H193)-1)<>\"\",OFFSET(DE104_9!$H$182,ROWS($H$182:H193)-1,COLUMNS($H$182:H193)-1),\"\")","v":""},{"$f":"IF(OFFSET(DE104_9!$I$182,ROWS($I$182:I193)-1,COLUMNS($I$182:I193)-1)<>\"\",OFFSET(DE104_9!$I$182,ROWS($I$182:I193)-1,COLUMNS($I$182:I193)-1),\"\")","v":""},{"$f":"IF(OFFSET(DE104_9!$J$182,ROWS($J$182:J193)-1,COLUMNS($J$182:J193)-1)<>\"\",OFFSET(DE104_9!$J$182,ROWS($J$182:J193)-1,COLUMNS($J$182:J193)-1),\"\")","v":""},{"$f":"IF(OFFSET(DE104_9!$K$182,ROWS($K$182:K193)-1,COLUMNS($K$182:K193)-1)<>\"\",OFFSET(DE104_9!$K$182,ROWS($K$182:K193)-1,COLUMNS($K$182:K193)-1),\"\")","v":""},{"$f":"IF(OFFSET(DE104_9!$L$182,ROWS($L$182:L193)-1,COLUMNS($L$182:L193)-1)<>\"\",OFFSET(DE104_9!$L$182,ROWS($L$182:L193)-1,COLUMNS($L$182:L193)-1),\"\")","v":""},{"$f":"IF(OFFSET(DE104_9!$M$182,ROWS($M$182:M193)-1,COLUMNS($M$182:M193)-1)<>\"\",OFFSET(DE104_9!$M$182,ROWS($M$182:M193)-1,COLUMNS($M$182:M193)-1),\"\")","v":""},{"$f":"IF(OFFSET(DE104_9!$N$182,ROWS($N$182:N193)-1,COLUMNS($N$182:N193)-1)<>\"\",OFFSET(DE104_9!$N$182,ROWS($N$182:N193)-1,COLUMNS($N$182:N193)-1),\"\")","v":""},{"$f":"IF(OFFSET(DE104_9!$O$182,ROWS($O$182:O193)-1,COLUMNS($O$182:O193)-1)<>\"\",OFFSET(DE104_9!$O$182,ROWS($O$182:O193)-1,COLUMNS($O$182:O193)-1),\"\")","v":""},{"$f":"IF(OFFSET(DE104_9!$P$182,ROWS($P$182:P193)-1,COLUMNS($P$182:P193)-1)<>\"\",OFFSET(DE104_9!$P$182,ROWS($P$182:P193)-1,COLUMNS($P$182:P193)-1),\"\")","v":""},{"$f":"IF(OFFSET(DE104_9!$Q$182,ROWS($Q$182:Q193)-1,COLUMNS($Q$182:Q193)-1)<>\"\",OFFSET(DE104_9!$Q$182,ROWS($Q$182:Q193)-1,COLUMNS($Q$182:Q193)-1),\"\")","v":""},{"$f":"IF(OFFSET(DE104_9!$R$182,ROWS($R$182:R193)-1,COLUMNS($R$182:R193)-1)<>\"\",OFFSET(DE104_9!$R$182,ROWS($R$182:R193)-1,COLUMNS($R$182:R193)-1),\"\")","v":""},{"$f":"IF(OFFSET(DE104_9!$S$182,ROWS($S$182:S193)-1,COLUMNS($S$182:S193)-1)<>\"\",OFFSET(DE104_9!$S$182,ROWS($S$182:S193)-1,COLUMNS($S$182:S193)-1),\"\")","v":""},{"$f":"IF(OFFSET(DE104_9!$T$182,ROWS($T$182:T193)-1,COLUMNS($T$182:T193)-1)<>\"\",OFFSET(DE104_9!$T$182,ROWS($T$182:T193)-1,COLUMNS($T$182:T193)-1),\"\")","v":""}]
[{"$f":"IF(OFFSET(DE104_9!$C$182,ROWS($C$182:C194)-1,COLUMNS($C$182:C194)-1)<>\"\",OFFSET(DE104_9!$C$182,ROWS($C$182:C194)-1,COLUMNS($C$182:C194)-1),\"\")","v":""},{"$f":"IF(OFFSET(DE104_9!$D$182,ROWS($D$182:D194)-1,COLUMNS($D$182:D194)-1)<>\"\",OFFSET(DE104_9!$D$182,ROWS($D$182:D194)-1,COLUMNS($D$182:D194)-1),\"\")","v":""},{"$f":"IF(OFFSET(DE104_9!$E$182,ROWS($E$182:E194)-1,COLUMNS($E$182:E194)-1)<>\"\",OFFSET(DE104_9!$E$182,ROWS($E$182:E194)-1,COLUMNS($E$182:E194)-1),\"\")","v":""},{"$f":"IF(OFFSET(DE104_9!$F$182,ROWS($F$182:F194)-1,COLUMNS($F$182:F194)-1)<>\"\",OFFSET(DE104_9!$F$182,ROWS($F$182:F194)-1,COLUMNS($F$182:F194)-1),\"\")","v":""},{"$f":"IF(OFFSET(DE104_9!$G$182,ROWS($G$182:G194)-1,COLUMNS($G$182:G194)-1)<>\"\",OFFSET(DE104_9!$G$182,ROWS($G$182:G194)-1,COLUMNS($G$182:G194)-1),\"\")","v":""},{"$f":"IF(OFFSET(DE104_9!$H$182,ROWS($H$182:H194)-1,COLUMNS($H$182:H194)-1)<>\"\",OFFSET(DE104_9!$H$182,ROWS($H$182:H194)-1,COLUMNS($H$182:H194)-1),\"\")","v":""},{"$f":"IF(OFFSET(DE104_9!$I$182,ROWS($I$182:I194)-1,COLUMNS($I$182:I194)-1)<>\"\",OFFSET(DE104_9!$I$182,ROWS($I$182:I194)-1,COLUMNS($I$182:I194)-1),\"\")","v":""},{"$f":"IF(OFFSET(DE104_9!$J$182,ROWS($J$182:J194)-1,COLUMNS($J$182:J194)-1)<>\"\",OFFSET(DE104_9!$J$182,ROWS($J$182:J194)-1,COLUMNS($J$182:J194)-1),\"\")","v":""},{"$f":"IF(OFFSET(DE104_9!$K$182,ROWS($K$182:K194)-1,COLUMNS($K$182:K194)-1)<>\"\",OFFSET(DE104_9!$K$182,ROWS($K$182:K194)-1,COLUMNS($K$182:K194)-1),\"\")","v":""},{"$f":"IF(OFFSET(DE104_9!$L$182,ROWS($L$182:L194)-1,COLUMNS($L$182:L194)-1)<>\"\",OFFSET(DE104_9!$L$182,ROWS($L$182:L194)-1,COLUMNS($L$182:L194)-1),\"\")","v":""},{"$f":"IF(OFFSET(DE104_9!$M$182,ROWS($M$182:M194)-1,COLUMNS($M$182:M194)-1)<>\"\",OFFSET(DE104_9!$M$182,ROWS($M$182:M194)-1,COLUMNS($M$182:M194)-1),\"\")","v":""},{"$f":"IF(OFFSET(DE104_9!$N$182,ROWS($N$182:N194)-1,COLUMNS($N$182:N194)-1)<>\"\",OFFSET(DE104_9!$N$182,ROWS($N$182:N194)-1,COLUMNS($N$182:N194)-1),\"\")","v":""},{"$f":"IF(OFFSET(DE104_9!$O$182,ROWS($O$182:O194)-1,COLUMNS($O$182:O194)-1)<>\"\",OFFSET(DE104_9!$O$182,ROWS($O$182:O194)-1,COLUMNS($O$182:O194)-1),\"\")","v":""},{"$f":"IF(OFFSET(DE104_9!$P$182,ROWS($P$182:P194)-1,COLUMNS($P$182:P194)-1)<>\"\",OFFSET(DE104_9!$P$182,ROWS($P$182:P194)-1,COLUMNS($P$182:P194)-1),\"\")","v":""},{"$f":"IF(OFFSET(DE104_9!$Q$182,ROWS($Q$182:Q194)-1,COLUMNS($Q$182:Q194)-1)<>\"\",OFFSET(DE104_9!$Q$182,ROWS($Q$182:Q194)-1,COLUMNS($Q$182:Q194)-1),\"\")","v":""},{"$f":"IF(OFFSET(DE104_9!$R$182,ROWS($R$182:R194)-1,COLUMNS($R$182:R194)-1)<>\"\",OFFSET(DE104_9!$R$182,ROWS($R$182:R194)-1,COLUMNS($R$182:R194)-1),\"\")","v":""},{"$f":"IF(OFFSET(DE104_9!$S$182,ROWS($S$182:S194)-1,COLUMNS($S$182:S194)-1)<>\"\",OFFSET(DE104_9!$S$182,ROWS($S$182:S194)-1,COLUMNS($S$182:S194)-1),\"\")","v":""},{"$f":"IF(OFFSET(DE104_9!$T$182,ROWS($T$182:T194)-1,COLUMNS($T$182:T194)-1)<>\"\",OFFSET(DE104_9!$T$182,ROWS($T$182:T194)-1,COLUMNS($T$182:T194)-1),\"\")","v":""}]
[{"$f":"IF(OFFSET(DE104_9!$C$182,ROWS($C$182:C195)-1,COLUMNS($C$182:C195)-1)<>\"\",OFFSET(DE104_9!$C$182,ROWS($C$182:C195)-1,COLUMNS($C$182:C195)-1),\"\")","v":""},{"$f":"IF(OFFSET(DE104_9!$D$182,ROWS($D$182:D195)-1,COLUMNS($D$182:D195)-1)<>\"\",OFFSET(DE104_9!$D$182,ROWS($D$182:D195)-1,COLUMNS($D$182:D195)-1),\"\")","v":"Totals"},{"$f":"IF(OFFSET(DE104_9!$E$182,ROWS($E$182:E195)-1,COLUMNS($E$182:E195)-1)<>\"\",OFFSET(DE104_9!$E$182,ROWS($E$182:E195)-1,COLUMNS($E$182:E195)-1),\"\")","v":""},{"$f":"IF(OFFSET(DE104_9!$F$182,ROWS($F$182:F195)-1,COLUMNS($F$182:F195)-1)<>\"\",OFFSET(DE104_9!$F$182,ROWS($F$182:F195)-1,COLUMNS($F$182:F195)-1),\"\")","v":""},{"$f":"IF(OFFSET(DE104_9!$G$182,ROWS($G$182:G195)-1,COLUMNS($G$182:G195)-1)<>\"\",OFFSET(DE104_9!$G$182,ROWS($G$182:G195)-1,COLUMNS($G$182:G195)-1),\"\")","v":""},{"$f":"IF(OFFSET(DE104_9!$H$182,ROWS($H$182:H195)-1,COLUMNS($H$182:H195)-1)<>\"\",OFFSET(DE104_9!$H$182,ROWS($H$182:H195)-1,COLUMNS($H$182:H195)-1),\"\")","v":""},{"$f":"IF(OFFSET(DE104_9!$I$182,ROWS($I$182:I195)-1,COLUMNS($I$182:I195)-1)<>\"\",OFFSET(DE104_9!$I$182,ROWS($I$182:I195)-1,COLUMNS($I$182:I195)-1),\"\")","v":""},{"$f":"IF(OFFSET(DE104_9!$J$182,ROWS($J$182:J195)-1,COLUMNS($J$182:J195)-1)<>\"\",OFFSET(DE104_9!$J$182,ROWS($J$182:J195)-1,COLUMNS($J$182:J195)-1),\"\")","v":40257.439999999711},{"$f":"IF(OFFSET(DE104_9!$K$182,ROWS($K$182:K195)-1,COLUMNS($K$182:K195)-1)<>\"\",OFFSET(DE104_9!$K$182,ROWS($K$182:K195)-1,COLUMNS($K$182:K195)-1),\"\")","v":""},{"$f":"IF(OFFSET(DE104_9!$L$182,ROWS($L$182:L195)-1,COLUMNS($L$182:L195)-1)<>\"\",OFFSET(DE104_9!$L$182,ROWS($L$182:L195)-1,COLUMNS($L$182:L195)-1),\"\")","v":" "},{"$f":"IF(OFFSET(DE104_9!$M$182,ROWS($M$182:M195)-1,COLUMNS($M$182:M195)-1)<>\"\",OFFSET(DE104_9!$M$182,ROWS($M$182:M195)-1,COLUMNS($M$182:M195)-1),\"\")","v":""},{"$f":"IF(OFFSET(DE104_9!$N$182,ROWS($N$182:N195)-1,COLUMNS($N$182:N195)-1)<>\"\",OFFSET(DE104_9!$N$182,ROWS($N$182:N195)-1,COLUMNS($N$182:N195)-1),\"\")","v":""},{"$f":"IF(OFFSET(DE104_9!$O$182,ROWS($O$182:O195)-1,COLUMNS($O$182:O195)-1)<>\"\",OFFSET(DE104_9!$O$182,ROWS($O$182:O195)-1,COLUMNS($O$182:O195)-1),\"\")","v":""},{"$f":"IF(OFFSET(DE104_9!$P$182,ROWS($P$182:P195)-1,COLUMNS($P$182:P195)-1)<>\"\",OFFSET(DE104_9!$P$182,ROWS($P$182:P195)-1,COLUMNS($P$182:P195)-1),\"\")","v":" "},{"$f":"IF(OFFSET(DE104_9!$Q$182,ROWS($Q$182:Q195)-1,COLUMNS($Q$182:Q195)-1)<>\"\",OFFSET(DE104_9!$Q$182,ROWS($Q$182:Q195)-1,COLUMNS($Q$182:Q195)-1),\"\")","v":"DR-306 = 166"},{"$f":"IF(OFFSET(DE104_9!$R$182,ROWS($R$182:R195)-1,COLUMNS($R$182:R195)-1)<>\"\",OFFSET(DE104_9!$R$182,ROWS($R$182:R195)-1,COLUMNS($R$182:R195)-1),\"\")","v":3563.099999999999},{"$f":"IF(OFFSET(DE104_9!$S$182,ROWS($S$182:S195)-1,COLUMNS($S$182:S195)-1)<>\"\",OFFSET(DE104_9!$S$182,ROWS($S$182:S195)-1,COLUMNS($S$182:S195)-1),\"\")","v":66.399999999999864},{"$f":"IF(OFFSET(DE104_9!$T$182,ROWS($T$182:T195)-1,COLUMNS($T$182:T195)-1)<>\"\",OFFSET(DE104_9!$T$182,ROWS($T$182:T195)-1,COLUMNS($T$182:T195)-1),\"\")","v":""}]
[{"$f":"IF(OFFSET(DE104_9!$C$182,ROWS($C$182:C196)-1,COLUMNS($C$182:C196)-1)<>\"\",OFFSET(DE104_9!$C$182,ROWS($C$182:C196)-1,COLUMNS($C$182:C196)-1),\"\")","v":""},{"$f":"IF(OFFSET(DE104_9!$D$182,ROWS($D$182:D196)-1,COLUMNS($D$182:D196)-1)<>\"\",OFFSET(DE104_9!$D$182,ROWS($D$182:D196)-1,COLUMNS($D$182:D196)-1),\"\")","v":""},{"$f":"IF(OFFSET(DE104_9!$E$182,ROWS($E$182:E196)-1,COLUMNS($E$182:E196)-1)<>\"\",OFFSET(DE104_9!$E$182,ROWS($E$182:E196)-1,COLUMNS($E$182:E196)-1),\"\")","v":""},{"$f":"IF(OFFSET(DE104_9!$F$182,ROWS($F$182:F196)-1,COLUMNS($F$182:F196)-1)<>\"\",OFFSET(DE104_9!$F$182,ROWS($F$182:F196)-1,COLUMNS($F$182:F196)-1),\"\")","v":""},{"$f":"IF(OFFSET(DE104_9!$G$182,ROWS($G$182:G196)-1,COLUMNS($G$182:G196)-1)<>\"\",OFFSET(DE104_9!$G$182,ROWS($G$182:G196)-1,COLUMNS($G$182:G196)-1),\"\")","v":""},{"$f":"IF(OFFSET(DE104_9!$H$182,ROWS($H$182:H196)-1,COLUMNS($H$182:H196)-1)<>\"\",OFFSET(DE104_9!$H$182,ROWS($H$182:H196)-1,COLUMNS($H$182:H196)-1),\"\")","v":""},{"$f":"IF(OFFSET(DE104_9!$I$182,ROWS($I$182:I196)-1,COLUMNS($I$182:I196)-1)<>\"\",OFFSET(DE104_9!$I$182,ROWS($I$182:I196)-1,COLUMNS($I$182:I196)-1),\"\")","v":""},{"$f":"IF(OFFSET(DE104_9!$J$182,ROWS($J$182:J196)-1,COLUMNS($J$182:J196)-1)<>\"\",OFFSET(DE104_9!$J$182,ROWS($J$182:J196)-1,COLUMNS($J$182:J196)-1),\"\")","v":""},{"$f":"IF(OFFSET(DE104_9!$K$182,ROWS($K$182:K196)-1,COLUMNS($K$182:K196)-1)<>\"\",OFFSET(DE104_9!$K$182,ROWS($K$182:K196)-1,COLUMNS($K$182:K196)-1),\"\")","v":""},{"$f":"IF(OFFSET(DE104_9!$L$182,ROWS($L$182:L196)-1,COLUMNS($L$182:L196)-1)<>\"\",OFFSET(DE104_9!$L$182,ROWS($L$182:L196)-1,COLUMNS($L$182:L196)-1),\"\")","v":""},{"$f":"IF(OFFSET(DE104_9!$M$182,ROWS($M$182:M196)-1,COLUMNS($M$182:M196)-1)<>\"\",OFFSET(DE104_9!$M$182,ROWS($M$182:M196)-1,COLUMNS($M$182:M196)-1),\"\")","v":""},{"$f":"IF(OFFSET(DE104_9!$N$182,ROWS($N$182:N196)-1,COLUMNS($N$182:N196)-1)<>\"\",OFFSET(DE104_9!$N$182,ROWS($N$182:N196)-1,COLUMNS($N$182:N196)-1),\"\")","v":""},{"$f":"IF(OFFSET(DE104_9!$O$182,ROWS($O$182:O196)-1,COLUMNS($O$182:O196)-1)<>\"\",OFFSET(DE104_9!$O$182,ROWS($O$182:O196)-1,COLUMNS($O$182:O196)-1),\"\")","v":""},{"$f":"IF(OFFSET(DE104_9!$P$182,ROWS($P$182:P196)-1,COLUMNS($P$182:P196)-1)<>\"\",OFFSET(DE104_9!$P$182,ROWS($P$182:P196)-1,COLUMNS($P$182:P196)-1),\"\")","v":""},{"$f":"IF(OFFSET(DE104_9!$Q$182,ROWS($Q$182:Q196)-1,COLUMNS($Q$182:Q196)-1)<>\"\",OFFSET(DE104_9!$Q$182,ROWS($Q$182:Q196)-1,COLUMNS($Q$182:Q196)-1),\"\")","v":""},{"$f":"IF(OFFSET(DE104_9!$R$182,ROWS($R$182:R196)-1,COLUMNS($R$182:R196)-1)<>\"\",OFFSET(DE104_9!$R$182,ROWS($R$182:R196)-1,COLUMNS($R$182:R196)-1),\"\")","v":""},{"$f":"IF(OFFSET(DE104_9!$S$182,ROWS($S$182:S196)-1,COLUMNS($S$182:S196)-1)<>\"\",OFFSET(DE104_9!$S$182,ROWS($S$182:S196)-1,COLUMNS($S$182:S196)-1),\"\")","v":""},{"$f":"IF(OFFSET(DE104_9!$T$182,ROWS($T$182:T196)-1,COLUMNS($T$182:T196)-1)<>\"\",OFFSET(DE104_9!$T$182,ROWS($T$182:T196)-1,COLUMNS($T$182:T196)-1),\"\")","v":""}]
[{"$f":"IF(OFFSET(DE104_9!$C$182,ROWS($C$182:C197)-1,COLUMNS($C$182:C197)-1)<>\"\",OFFSET(DE104_9!$C$182,ROWS($C$182:C197)-1,COLUMNS($C$182:C197)-1),\"\")","v":""},{"$f":"IF(OFFSET(DE104_9!$D$182,ROWS($D$182:D197)-1,COLUMNS($D$182:D197)-1)<>\"\",OFFSET(DE104_9!$D$182,ROWS($D$182:D197)-1,COLUMNS($D$182:D197)-1),\"\")","v":"NOTE:     ALL LONGITUDINAL SUBDRAINS ARE TYPE 7 WITH PCC UNLESS OTHERWISE NOTED IN REMARKS COLUMN."},null,null,null,null,null,null,null,null,null,null,{"$f":"IF(OFFSET(DE104_9!$O$182,ROWS($O$182:O197)-1,COLUMNS($O$182:O197)-1)<>\"\",OFFSET(DE104_9!$O$182,ROWS($O$182:O197)-1,COLUMNS($O$182:O197)-1),\"\")","v":""},{"$f":"IF(OFFSET(DE104_9!$P$182,ROWS($P$182:P197)-1,COLUMNS($P$182:P197)-1)<>\"\",OFFSET(DE104_9!$P$182,ROWS($P$182:P197)-1,COLUMNS($P$182:P197)-1),\"\")","v":""},{"$f":"IF(OFFSET(DE104_9!$Q$182,ROWS($Q$182:Q197)-1,COLUMNS($Q$182:Q197)-1)<>\"\",OFFSET(DE104_9!$Q$182,ROWS($Q$182:Q197)-1,COLUMNS($Q$182:Q197)-1),\"\")","v":""},{"$f":"IF(OFFSET(DE104_9!$R$182,ROWS($R$182:R197)-1,COLUMNS($R$182:R197)-1)<>\"\",OFFSET(DE104_9!$R$182,ROWS($R$182:R197)-1,COLUMNS($R$182:R197)-1),\"\")","v":""},{"$f":"IF(OFFSET(DE104_9!$S$182,ROWS($S$182:S197)-1,COLUMNS($S$182:S197)-1)<>\"\",OFFSET(DE104_9!$S$182,ROWS($S$182:S197)-1,COLUMNS($S$182:S197)-1),\"\")","v":""},{"$f":"IF(OFFSET(DE104_9!$T$182,ROWS($T$182:T197)-1,COLUMNS($T$182:T197)-1)<>\"\",OFFSET(DE104_9!$T$182,ROWS($T$182:T197)-1,COLUMNS($T$182:T197)-1),\"\")","v":""}]
[{"$f":"IF(OFFSET(DE104_9!$C$182,ROWS($C$182:C198)-1,COLUMNS($C$182:C198)-1)<>\"\",OFFSET(DE104_9!$C$182,ROWS($C$182:C198)-1,COLUMNS($C$182:C198)-1),\"\")","v":""},{"$f":"IF(OFFSET(DE104_9!$D$182,ROWS($D$182:D198)-1,COLUMNS($D$182:D198)-1)<>\"\",OFFSET(DE104_9!$D$182,ROWS($D$182:D198)-1,COLUMNS($D$182:D198)-1),\"\")","v":"NOTE:     LINE NO. 84 OUTLETS SHALL DAYLIGHT AT LEAST 6 INCHES ABOVE BASE OF DITCH."},null,null,null,null,null,null,null,null,null,null,{"$f":"IF(OFFSET(DE104_9!$O$182,ROWS($O$182:O198)-1,COLUMNS($O$182:O198)-1)<>\"\",OFFSET(DE104_9!$O$182,ROWS($O$182:O198)-1,COLUMNS($O$182:O198)-1),\"\")","v":""},{"$f":"IF(OFFSET(DE104_9!$P$182,ROWS($P$182:P198)-1,COLUMNS($P$182:P198)-1)<>\"\",OFFSET(DE104_9!$P$182,ROWS($P$182:P198)-1,COLUMNS($P$182:P198)-1),\"\")","v":""},{"$f":"IF(OFFSET(DE104_9!$Q$182,ROWS($Q$182:Q198)-1,COLUMNS($Q$182:Q198)-1)<>\"\",OFFSET(DE104_9!$Q$182,ROWS($Q$182:Q198)-1,COLUMNS($Q$182:Q198)-1),\"\")","v":""},{"$f":"IF(OFFSET(DE104_9!$R$182,ROWS($R$182:R198)-1,COLUMNS($R$182:R198)-1)<>\"\",OFFSET(DE104_9!$R$182,ROWS($R$182:R198)-1,COLUMNS($R$182:R198)-1),\"\")","v":""},{"$f":"IF(OFFSET(DE104_9!$S$182,ROWS($S$182:S198)-1,COLUMNS($S$182:S198)-1)<>\"\",OFFSET(DE104_9!$S$182,ROWS($S$182:S198)-1,COLUMNS($S$182:S198)-1),\"\")","v":""},{"$f":"IF(OFFSET(DE104_9!$T$182,ROWS($T$182:T198)-1,COLUMNS($T$182:T198)-1)<>\"\",OFFSET(DE104_9!$T$182,ROWS($T$182:T198)-1,COLUMNS($T$182:T198)-1),\"\")","v":""}]
[{"$f":"IF(OFFSET(DE104_9!$C$182,ROWS($C$182:C199)-1,COLUMNS($C$182:C199)-1)<>\"\",OFFSET(DE104_9!$C$182,ROWS($C$182:C199)-1,COLUMNS($C$182:C199)-1),\"\")","v":""},{"$f":"IF(OFFSET(DE104_9!$D$182,ROWS($D$182:D199)-1,COLUMNS($D$182:D199)-1)<>\"\",OFFSET(DE104_9!$D$182,ROWS($D$182:D199)-1,COLUMNS($D$182:D199)-1),\"\")","v":"NOTE:     LINE NO. 22 SHALL OUTLET AT SAME LOCATION AS LINE NO. 57."},null,null,null,null,null,null,null,null,null,null,{"$f":"IF(OFFSET(DE104_9!$O$182,ROWS($O$182:O199)-1,COLUMNS($O$182:O199)-1)<>\"\",OFFSET(DE104_9!$O$182,ROWS($O$182:O199)-1,COLUMNS($O$182:O199)-1),\"\")","v":""},{"$f":"IF(OFFSET(DE104_9!$P$182,ROWS($P$182:P199)-1,COLUMNS($P$182:P199)-1)<>\"\",OFFSET(DE104_9!$P$182,ROWS($P$182:P199)-1,COLUMNS($P$182:P199)-1),\"\")","v":""},{"$f":"IF(OFFSET(DE104_9!$Q$182,ROWS($Q$182:Q199)-1,COLUMNS($Q$182:Q199)-1)<>\"\",OFFSET(DE104_9!$Q$182,ROWS($Q$182:Q199)-1,COLUMNS($Q$182:Q199)-1),\"\")","v":""},{"$f":"IF(OFFSET(DE104_9!$R$182,ROWS($R$182:R199)-1,COLUMNS($R$182:R199)-1)<>\"\",OFFSET(DE104_9!$R$182,ROWS($R$182:R199)-1,COLUMNS($R$182:R199)-1),\"\")","v":""},{"$f":"IF(OFFSET(DE104_9!$S$182,ROWS($S$182:S199)-1,COLUMNS($S$182:S199)-1)<>\"\",OFFSET(DE104_9!$S$182,ROWS($S$182:S199)-1,COLUMNS($S$182:S199)-1),\"\")","v":""},{"$f":"IF(OFFSET(DE104_9!$T$182,ROWS($T$182:T199)-1,COLUMNS($T$182:T199)-1)<>\"\",OFFSET(DE104_9!$T$182,ROWS($T$182:T199)-1,COLUMNS($T$182:T199)-1),\"\")","v":""}]
[{"$f":"IF(OFFSET(DE104_9!$C$182,ROWS($C$182:C200)-1,COLUMNS($C$182:C200)-1)<>\"\",OFFSET(DE104_9!$C$182,ROWS($C$182:C200)-1,COLUMNS($C$182:C200)-1),\"\")","v":""},{"$f":"IF(OFFSET(DE104_9!$D$182,ROWS($D$182:D200)-1,COLUMNS($D$182:D200)-1)<>\"\",OFFSET(DE104_9!$D$182,ROWS($D$182:D200)-1,COLUMNS($D$182:D200)-1),\"\")","v":""},null,null,null,null,null,null,null,null,null,null,{"$f":"IF(OFFSET(DE104_9!$O$182,ROWS($O$182:O200)-1,COLUMNS($O$182:O200)-1)<>\"\",OFFSET(DE104_9!$O$182,ROWS($O$182:O200)-1,COLUMNS($O$182:O200)-1),\"\")","v":""},{"$f":"IF(OFFSET(DE104_9!$P$182,ROWS($P$182:P200)-1,COLUMNS($P$182:P200)-1)<>\"\",OFFSET(DE104_9!$P$182,ROWS($P$182:P200)-1,COLUMNS($P$182:P200)-1),\"\")","v":""},{"$f":"IF(OFFSET(DE104_9!$Q$182,ROWS($Q$182:Q200)-1,COLUMNS($Q$182:Q200)-1)<>\"\",OFFSET(DE104_9!$Q$182,ROWS($Q$182:Q200)-1,COLUMNS($Q$182:Q200)-1),\"\")","v":""},{"$f":"IF(OFFSET(DE104_9!$R$182,ROWS($R$182:R200)-1,COLUMNS($R$182:R200)-1)<>\"\",OFFSET(DE104_9!$R$182,ROWS($R$182:R200)-1,COLUMNS($R$182:R200)-1),\"\")","v":""},{"$f":"IF(OFFSET(DE104_9!$S$182,ROWS($S$182:S200)-1,COLUMNS($S$182:S200)-1)<>\"\",OFFSET(DE104_9!$S$182,ROWS($S$182:S200)-1,COLUMNS($S$182:S200)-1),\"\")","v":""},{"$f":"IF(OFFSET(DE104_9!$T$182,ROWS($T$182:T200)-1,COLUMNS($T$182:T200)-1)<>\"\",OFFSET(DE104_9!$T$182,ROWS($T$182:T200)-1,COLUMNS($T$182:T200)-1),\"\")","v":""}]
[{"$f":"IF(OFFSET(DE104_9!$C$182,ROWS($C$182:C201)-1,COLUMNS($C$182:C201)-1)<>\"\",OFFSET(DE104_9!$C$182,ROWS($C$182:C201)-1,COLUMNS($C$182:C201)-1),\"\")","v":""},{"$f":"IF(OFFSET(DE104_9!$D$182,ROWS($D$182:D201)-1,COLUMNS($D$182:D201)-1)<>\"\",OFFSET(DE104_9!$D$182,ROWS($D$182:D201)-1,COLUMNS($D$182:D201)-1),\"\")","v":""},{"$f":"IF(OFFSET(DE104_9!$E$182,ROWS($E$182:E201)-1,COLUMNS($E$182:E201)-1)<>\"\",OFFSET(DE104_9!$E$182,ROWS($E$182:E201)-1,COLUMNS($E$182:E201)-1),\"\")","v":""},{"$f":"IF(OFFSET(DE104_9!$F$182,ROWS($F$182:F201)-1,COLUMNS($F$182:F201)-1)<>\"\",OFFSET(DE104_9!$F$182,ROWS($F$182:F201)-1,COLUMNS($F$182:F201)-1),\"\")","v":""},{"$f":"IF(OFFSET(DE104_9!$G$182,ROWS($G$182:G201)-1,COLUMNS($G$182:G201)-1)<>\"\",OFFSET(DE104_9!$G$182,ROWS($G$182:G201)-1,COLUMNS($G$182:G201)-1),\"\")","v":""},{"$f":"IF(OFFSET(DE104_9!$H$182,ROWS($H$182:H201)-1,COLUMNS($H$182:H201)-1)<>\"\",OFFSET(DE104_9!$H$182,ROWS($H$182:H201)-1,COLUMNS($H$182:H201)-1),\"\")","v":""},{"$f":"IF(OFFSET(DE104_9!$I$182,ROWS($I$182:I201)-1,COLUMNS($I$182:I201)-1)<>\"\",OFFSET(DE104_9!$I$182,ROWS($I$182:I201)-1,COLUMNS($I$182:I201)-1),\"\")","v":""},{"$f":"IF(OFFSET(DE104_9!$J$182,ROWS($J$182:J201)-1,COLUMNS($J$182:J201)-1)<>\"\",OFFSET(DE104_9!$J$182,ROWS($J$182:J201)-1,COLUMNS($J$182:J201)-1),\"\")","v":""},{"$f":"IF(OFFSET(DE104_9!$K$182,ROWS($K$182:K201)-1,COLUMNS($K$182:K201)-1)<>\"\",OFFSET(DE104_9!$K$182,ROWS($K$182:K201)-1,COLUMNS($K$182:K201)-1),\"\")","v":""},{"$f":"IF(OFFSET(DE104_9!$L$182,ROWS($L$182:L201)-1,COLUMNS($L$182:L201)-1)<>\"\",OFFSET(DE104_9!$L$182,ROWS($L$182:L201)-1,COLUMNS($L$182:L201)-1),\"\")","v":""},{"$f":"IF(OFFSET(DE104_9!$M$182,ROWS($M$182:M201)-1,COLUMNS($M$182:M201)-1)<>\"\",OFFSET(DE104_9!$M$182,ROWS($M$182:M201)-1,COLUMNS($M$182:M201)-1),\"\")","v":""},{"$f":"IF(OFFSET(DE104_9!$N$182,ROWS($N$182:N201)-1,COLUMNS($N$182:N201)-1)<>\"\",OFFSET(DE104_9!$N$182,ROWS($N$182:N201)-1,COLUMNS($N$182:N201)-1),\"\")","v":""},{"$f":"IF(OFFSET(DE104_9!$O$182,ROWS($O$182:O201)-1,COLUMNS($O$182:O201)-1)<>\"\",OFFSET(DE104_9!$O$182,ROWS($O$182:O201)-1,COLUMNS($O$182:O201)-1),\"\")","v":""},{"$f":"IF(OFFSET(DE104_9!$P$182,ROWS($P$182:P201)-1,COLUMNS($P$182:P201)-1)<>\"\",OFFSET(DE104_9!$P$182,ROWS($P$182:P201)-1,COLUMNS($P$182:P201)-1),\"\")","v":""},{"$f":"IF(OFFSET(DE104_9!$Q$182,ROWS($Q$182:Q201)-1,COLUMNS($Q$182:Q201)-1)<>\"\",OFFSET(DE104_9!$Q$182,ROWS($Q$182:Q201)-1,COLUMNS($Q$182:Q201)-1),\"\")","v":""},{"$f":"IF(OFFSET(DE104_9!$R$182,ROWS($R$182:R201)-1,COLUMNS($R$182:R201)-1)<>\"\",OFFSET(DE104_9!$R$182,ROWS($R$182:R201)-1,COLUMNS($R$182:R201)-1),\"\")","v":""},{"$f":"IF(OFFSET(DE104_9!$S$182,ROWS($S$182:S201)-1,COLUMNS($S$182:S201)-1)<>\"\",OFFSET(DE104_9!$S$182,ROWS($S$182:S201)-1,COLUMNS($S$182:S201)-1),\"\")","v":""},{"$f":"IF(OFFSET(DE104_9!$T$182,ROWS($T$182:T201)-1,COLUMNS($T$182:T201)-1)<>\"\",OFFSET(DE104_9!$T$182,ROWS($T$182:T201)-1,COLUMNS($T$182:T201)-1),\"\")","v":""}]
[{"$f":"IF(OFFSET(DE104_9!$C$182,ROWS($C$182:C202)-1,COLUMNS($C$182:C202)-1)<>\"\",OFFSET(DE104_9!$C$182,ROWS($C$182:C202)-1,COLUMNS($C$182:C202)-1),\"\")","v":""},{"$f":"IF(OFFSET(DE104_9!$D$182,ROWS($D$182:D202)-1,COLUMNS($D$182:D202)-1)<>\"\",OFFSET(DE104_9!$D$182,ROWS($D$182:D202)-1,COLUMNS($D$182:D202)-1),\"\")","v":""},{"$f":"IF(OFFSET(DE104_9!$E$182,ROWS($E$182:E202)-1,COLUMNS($E$182:E202)-1)<>\"\",OFFSET(DE104_9!$E$182,ROWS($E$182:E202)-1,COLUMNS($E$182:E202)-1),\"\")","v":""},{"$f":"IF(OFFSET(DE104_9!$F$182,ROWS($F$182:F202)-1,COLUMNS($F$182:F202)-1)<>\"\",OFFSET(DE104_9!$F$182,ROWS($F$182:F202)-1,COLUMNS($F$182:F202)-1),\"\")","v":""},{"$f":"IF(OFFSET(DE104_9!$G$182,ROWS($G$182:G202)-1,COLUMNS($G$182:G202)-1)<>\"\",OFFSET(DE104_9!$G$182,ROWS($G$182:G202)-1,COLUMNS($G$182:G202)-1),\"\")","v":""},{"$f":"IF(OFFSET(DE104_9!$H$182,ROWS($H$182:H202)-1,COLUMNS($H$182:H202)-1)<>\"\",OFFSET(DE104_9!$H$182,ROWS($H$182:H202)-1,COLUMNS($H$182:H202)-1),\"\")","v":""},{"$f":"IF(OFFSET(DE104_9!$I$182,ROWS($I$182:I202)-1,COLUMNS($I$182:I202)-1)<>\"\",OFFSET(DE104_9!$I$182,ROWS($I$182:I202)-1,COLUMNS($I$182:I202)-1),\"\")","v":""},{"$f":"IF(OFFSET(DE104_9!$J$182,ROWS($J$182:J202)-1,COLUMNS($J$182:J202)-1)<>\"\",OFFSET(DE104_9!$J$182,ROWS($J$182:J202)-1,COLUMNS($J$182:J202)-1),\"\")","v":""},{"$f":"IF(OFFSET(DE104_9!$K$182,ROWS($K$182:K202)-1,COLUMNS($K$182:K202)-1)<>\"\",OFFSET(DE104_9!$K$182,ROWS($K$182:K202)-1,COLUMNS($K$182:K202)-1),\"\")","v":""},{"$f":"IF(OFFSET(DE104_9!$L$182,ROWS($L$182:L202)-1,COLUMNS($L$182:L202)-1)<>\"\",OFFSET(DE104_9!$L$182,ROWS($L$182:L202)-1,COLUMNS($L$182:L202)-1),\"\")","v":""},{"$f":"IF(OFFSET(DE104_9!$M$182,ROWS($M$182:M202)-1,COLUMNS($M$182:M202)-1)<>\"\",OFFSET(DE104_9!$M$182,ROWS($M$182:M202)-1,COLUMNS($M$182:M202)-1),\"\")","v":""},{"$f":"IF(OFFSET(DE104_9!$N$182,ROWS($N$182:N202)-1,COLUMNS($N$182:N202)-1)<>\"\",OFFSET(DE104_9!$N$182,ROWS($N$182:N202)-1,COLUMNS($N$182:N202)-1),\"\")","v":""},{"$f":"IF(OFFSET(DE104_9!$O$182,ROWS($O$182:O202)-1,COLUMNS($O$182:O202)-1)<>\"\",OFFSET(DE104_9!$O$182,ROWS($O$182:O202)-1,COLUMNS($O$182:O202)-1),\"\")","v":""},{"$f":"IF(OFFSET(DE104_9!$P$182,ROWS($P$182:P202)-1,COLUMNS($P$182:P202)-1)<>\"\",OFFSET(DE104_9!$P$182,ROWS($P$182:P202)-1,COLUMNS($P$182:P202)-1),\"\")","v":""},{"$f":"IF(OFFSET(DE104_9!$Q$182,ROWS($Q$182:Q202)-1,COLUMNS($Q$182:Q202)-1)<>\"\",OFFSET(DE104_9!$Q$182,ROWS($Q$182:Q202)-1,COLUMNS($Q$182:Q202)-1),\"\")","v":""},{"$f":"IF(OFFSET(DE104_9!$R$182,ROWS($R$182:R202)-1,COLUMNS($R$182:R202)-1)<>\"\",OFFSET(DE104_9!$R$182,ROWS($R$182:R202)-1,COLUMNS($R$182:R202)-1),\"\")","v":""},{"$f":"IF(OFFSET(DE104_9!$S$182,ROWS($S$182:S202)-1,COLUMNS($S$182:S202)-1)<>\"\",OFFSET(DE104_9!$S$182,ROWS($S$182:S202)-1,COLUMNS($S$182:S202)-1),\"\")","v":""},{"$f":"IF(OFFSET(DE104_9!$T$182,ROWS($T$182:T202)-1,COLUMNS($T$182:T202)-1)<>\"\",OFFSET(DE104_9!$T$182,ROWS($T$182:T202)-1,COLUMNS($T$182:T202)-1),\"\")","v":""}]
[{"$f":"IF(OFFSET(DE104_9!$C$182,ROWS($C$182:C203)-1,COLUMNS($C$182:C203)-1)<>\"\",OFFSET(DE104_9!$C$182,ROWS($C$182:C203)-1,COLUMNS($C$182:C203)-1),\"\")","v":""},{"$f":"IF(OFFSET(DE104_9!$D$182,ROWS($D$182:D203)-1,COLUMNS($D$182:D203)-1)<>\"\",OFFSET(DE104_9!$D$182,ROWS($D$182:D203)-1,COLUMNS($D$182:D203)-1),\"\")","v":""},{"$f":"IF(OFFSET(DE104_9!$E$182,ROWS($E$182:E203)-1,COLUMNS($E$182:E203)-1)<>\"\",OFFSET(DE104_9!$E$182,ROWS($E$182:E203)-1,COLUMNS($E$182:E203)-1),\"\")","v":""},{"$f":"IF(OFFSET(DE104_9!$F$182,ROWS($F$182:F203)-1,COLUMNS($F$182:F203)-1)<>\"\",OFFSET(DE104_9!$F$182,ROWS($F$182:F203)-1,COLUMNS($F$182:F203)-1),\"\")","v":""},{"$f":"IF(OFFSET(DE104_9!$G$182,ROWS($G$182:G203)-1,COLUMNS($G$182:G203)-1)<>\"\",OFFSET(DE104_9!$G$182,ROWS($G$182:G203)-1,COLUMNS($G$182:G203)-1),\"\")","v":""},{"$f":"IF(OFFSET(DE104_9!$H$182,ROWS($H$182:H203)-1,COLUMNS($H$182:H203)-1)<>\"\",OFFSET(DE104_9!$H$182,ROWS($H$182:H203)-1,COLUMNS($H$182:H203)-1),\"\")","v":""},{"$f":"IF(OFFSET(DE104_9!$I$182,ROWS($I$182:I203)-1,COLUMNS($I$182:I203)-1)<>\"\",OFFSET(DE104_9!$I$182,ROWS($I$182:I203)-1,COLUMNS($I$182:I203)-1),\"\")","v":""},{"$f":"IF(OFFSET(DE104_9!$J$182,ROWS($J$182:J203)-1,COLUMNS($J$182:J203)-1)<>\"\",OFFSET(DE104_9!$J$182,ROWS($J$182:J203)-1,COLUMNS($J$182:J203)-1),\"\")","v":""},{"$f":"IF(OFFSET(DE104_9!$K$182,ROWS($K$182:K203)-1,COLUMNS($K$182:K203)-1)<>\"\",OFFSET(DE104_9!$K$182,ROWS($K$182:K203)-1,COLUMNS($K$182:K203)-1),\"\")","v":""},{"$f":"IF(OFFSET(DE104_9!$L$182,ROWS($L$182:L203)-1,COLUMNS($L$182:L203)-1)<>\"\",OFFSET(DE104_9!$L$182,ROWS($L$182:L203)-1,COLUMNS($L$182:L203)-1),\"\")","v":""},{"$f":"IF(OFFSET(DE104_9!$M$182,ROWS($M$182:M203)-1,COLUMNS($M$182:M203)-1)<>\"\",OFFSET(DE104_9!$M$182,ROWS($M$182:M203)-1,COLUMNS($M$182:M203)-1),\"\")","v":""},{"$f":"IF(OFFSET(DE104_9!$N$182,ROWS($N$182:N203)-1,COLUMNS($N$182:N203)-1)<>\"\",OFFSET(DE104_9!$N$182,ROWS($N$182:N203)-1,COLUMNS($N$182:N203)-1),\"\")","v":""},{"$f":"IF(OFFSET(DE104_9!$O$182,ROWS($O$182:O203)-1,COLUMNS($O$182:O203)-1)<>\"\",OFFSET(DE104_9!$O$182,ROWS($O$182:O203)-1,COLUMNS($O$182:O203)-1),\"\")","v":""},{"$f":"IF(OFFSET(DE104_9!$P$182,ROWS($P$182:P203)-1,COLUMNS($P$182:P203)-1)<>\"\",OFFSET(DE104_9!$P$182,ROWS($P$182:P203)-1,COLUMNS($P$182:P203)-1),\"\")","v":""},{"$f":"IF(OFFSET(DE104_9!$Q$182,ROWS($Q$182:Q203)-1,COLUMNS($Q$182:Q203)-1)<>\"\",OFFSET(DE104_9!$Q$182,ROWS($Q$182:Q203)-1,COLUMNS($Q$182:Q203)-1),\"\")","v":""},{"$f":"IF(OFFSET(DE104_9!$R$182,ROWS($R$182:R203)-1,COLUMNS($R$182:R203)-1)<>\"\",OFFSET(DE104_9!$R$182,ROWS($R$182:R203)-1,COLUMNS($R$182:R203)-1),\"\")","v":""},{"$f":"IF(OFFSET(DE104_9!$S$182,ROWS($S$182:S203)-1,COLUMNS($S$182:S203)-1)<>\"\",OFFSET(DE104_9!$S$182,ROWS($S$182:S203)-1,COLUMNS($S$182:S203)-1),\"\")","v":""},{"$f":"IF(OFFSET(DE104_9!$T$182,ROWS($T$182:T203)-1,COLUMNS($T$182:T203)-1)<>\"\",OFFSET(DE104_9!$T$182,ROWS($T$182:T203)-1,COLUMNS($T$182:T203)-1),\"\")","v":""}]
[{"$f":"IF(OFFSET(DE104_9!$C$182,ROWS($C$182:C204)-1,COLUMNS($C$182:C204)-1)<>\"\",OFFSET(DE104_9!$C$182,ROWS($C$182:C204)-1,COLUMNS($C$182:C204)-1),\"\")","v":""},{"$f":"IF(OFFSET(DE104_9!$D$182,ROWS($D$182:D204)-1,COLUMNS($D$182:D204)-1)<>\"\",OFFSET(DE104_9!$D$182,ROWS($D$182:D204)-1,COLUMNS($D$182:D204)-1),\"\")","v":"NEW OUTLET TO BE ADDED"},null,{"$f":"IF(OFFSET(DE104_9!$F$182,ROWS($F$182:F204)-1,COLUMNS($F$182:F204)-1)<>\"\",OFFSET(DE104_9!$F$182,ROWS($F$182:F204)-1,COLUMNS($F$182:F204)-1),\"\")","v":""},{"$f":"IF(OFFSET(DE104_9!$G$182,ROWS($G$182:G204)-1,COLUMNS($G$182:G204)-1)<>\"\",OFFSET(DE104_9!$G$182,ROWS($G$182:G204)-1,COLUMNS($G$182:G204)-1),\"\")","v":""},{"$f":"IF(OFFSET(DE104_9!$H$182,ROWS($H$182:H204)-1,COLUMNS($H$182:H204)-1)<>\"\",OFFSET(DE104_9!$H$182,ROWS($H$182:H204)-1,COLUMNS($H$182:H204)-1),\"\")","v":""},{"$f":"IF(OFFSET(DE104_9!$I$182,ROWS($I$182:I204)-1,COLUMNS($I$182:I204)-1)<>\"\",OFFSET(DE104_9!$I$182,ROWS($I$182:I204)-1,COLUMNS($I$182:I204)-1),\"\")","v":""},{"$f":"IF(OFFSET(DE104_9!$J$182,ROWS($J$182:J204)-1,COLUMNS($J$182:J204)-1)<>\"\",OFFSET(DE104_9!$J$182,ROWS($J$182:J204)-1,COLUMNS($J$182:J204)-1),\"\")","v":""},{"$f":"IF(OFFSET(DE104_9!$K$182,ROWS($K$182:K204)-1,COLUMNS($K$182:K204)-1)<>\"\",OFFSET(DE104_9!$K$182,ROWS($K$182:K204)-1,COLUMNS($K$182:K204)-1),\"\")","v":""},{"$f":"IF(OFFSET(DE104_9!$L$182,ROWS($L$182:L204)-1,COLUMNS($L$182:L204)-1)<>\"\",OFFSET(DE104_9!$L$182,ROWS($L$182:L204)-1,COLUMNS($L$182:L204)-1),\"\")","v":""},{"$f":"IF(OFFSET(DE104_9!$M$182,ROWS($M$182:M204)-1,COLUMNS($M$182:M204)-1)<>\"\",OFFSET(DE104_9!$M$182,ROWS($M$182:M204)-1,COLUMNS($M$182:M204)-1),\"\")","v":""},{"$f":"IF(OFFSET(DE104_9!$N$182,ROWS($N$182:N204)-1,COLUMNS($N$182:N204)-1)<>\"\",OFFSET(DE104_9!$N$182,ROWS($N$182:N204)-1,COLUMNS($N$182:N204)-1),\"\")","v":""},{"$f":"IF(OFFSET(DE104_9!$O$182,ROWS($O$182:O204)-1,COLUMNS($O$182:O204)-1)<>\"\",OFFSET(DE104_9!$O$182,ROWS($O$182:O204)-1,COLUMNS($O$182:O204)-1),\"\")","v":""},{"$f":"IF(OFFSET(DE104_9!$P$182,ROWS($P$182:P204)-1,COLUMNS($P$182:P204)-1)<>\"\",OFFSET(DE104_9!$P$182,ROWS($P$182:P204)-1,COLUMNS($P$182:P204)-1),\"\")","v":""},{"$f":"IF(OFFSET(DE104_9!$Q$182,ROWS($Q$182:Q204)-1,COLUMNS($Q$182:Q204)-1)<>\"\",OFFSET(DE104_9!$Q$182,ROWS($Q$182:Q204)-1,COLUMNS($Q$182:Q204)-1),\"\")","v":""},{"$f":"IF(OFFSET(DE104_9!$R$182,ROWS($R$182:R204)-1,COLUMNS($R$182:R204)-1)<>\"\",OFFSET(DE104_9!$R$182,ROWS($R$182:R204)-1,COLUMNS($R$182:R204)-1),\"\")","v":""},{"$f":"IF(OFFSET(DE104_9!$S$182,ROWS($S$182:S204)-1,COLUMNS($S$182:S204)-1)<>\"\",OFFSET(DE104_9!$S$182,ROWS($S$182:S204)-1,COLUMNS($S$182:S204)-1),\"\")","v":""},{"$f":"IF(OFFSET(DE104_9!$T$182,ROWS($T$182:T204)-1,COLUMNS($T$182:T204)-1)<>\"\",OFFSET(DE104_9!$T$182,ROWS($T$182:T204)-1,COLUMNS($T$182:T204)-1),\"\")","v":""}]
[{"$f":"IF(OFFSET(DE104_9!$C$182,ROWS($C$182:C205)-1,COLUMNS($C$182:C205)-1)<>\"\",OFFSET(DE104_9!$C$182,ROWS($C$182:C205)-1,COLUMNS($C$182:C205)-1),\"\")","v":""},{"$f":"IF(OFFSET(DE104_9!$D$182,ROWS($D$182:D205)-1,COLUMNS($D$182:D205)-1)<>\"\",OFFSET(DE104_9!$D$182,ROWS($D$182:D205)-1,COLUMNS($D$182:D205)-1),\"\")","v":"US 218"},{"$f":"IF(OFFSET(DE104_9!$E$182,ROWS($E$182:E205)-1,COLUMNS($E$182:E205)-1)<>\"\",OFFSET(DE104_9!$E$182,ROWS($E$182:E205)-1,COLUMNS($E$182:E205)-1),\"\")","v":""},{"$f":"IF(OFFSET(DE104_9!$F$182,ROWS($F$182:F205)-1,COLUMNS($F$182:F205)-1)<>\"\",OFFSET(DE104_9!$F$182,ROWS($F$182:F205)-1,COLUMNS($F$182:F205)-1),\"\")","v":""},{"$f":"IF(OFFSET(DE104_9!$G$182,ROWS($G$182:G205)-1,COLUMNS($G$182:G205)-1)<>\"\",OFFSET(DE104_9!$G$182,ROWS($G$182:G205)-1,COLUMNS($G$182:G205)-1),\"\")","v":"RT"},{"$f":"IF(OFFSET(DE104_9!$H$182,ROWS($H$182:H205)-1,COLUMNS($H$182:H205)-1)<>\"\",OFFSET(DE104_9!$H$182,ROWS($H$182:H205)-1,COLUMNS($H$182:H205)-1),\"\")","v":48},{"$f":"IF(OFFSET(DE104_9!$I$182,ROWS($I$182:I205)-1,COLUMNS($I$182:I205)-1)<>\"\",OFFSET(DE104_9!$I$182,ROWS($I$182:I205)-1,COLUMNS($I$182:I205)-1),\"\")","v":4},{"$f":"IF(OFFSET(DE104_9!$J$182,ROWS($J$182:J205)-1,COLUMNS($J$182:J205)-1)<>\"\",OFFSET(DE104_9!$J$182,ROWS($J$182:J205)-1,COLUMNS($J$182:J205)-1),\"\")","v":20},{"$f":"IF(OFFSET(DE104_9!$K$182,ROWS($K$182:K205)-1,COLUMNS($K$182:K205)-1)<>\"\",OFFSET(DE104_9!$K$182,ROWS($K$182:K205)-1,COLUMNS($K$182:K205)-1),\"\")","v":""},{"$f":"IF(OFFSET(DE104_9!$L$182,ROWS($L$182:L205)-1,COLUMNS($L$182:L205)-1)<>\"\",OFFSET(DE104_9!$L$182,ROWS($L$182:L205)-1,COLUMNS($L$182:L205)-1),\"\")","v":""},{"$f":"IF(OFFSET(DE104_9!$M$182,ROWS($M$182:M205)-1,COLUMNS($M$182:M205)-1)<>\"\",OFFSET(DE104_9!$M$182,ROWS($M$182:M205)-1,COLUMNS($M$182:M205)-1),\"\")","v":""},{"$f":"IF(OFFSET(DE104_9!$N$182,ROWS($N$182:N205)-1,COLUMNS($N$182:N205)-1)<>\"\",OFFSET(DE104_9!$N$182,ROWS($N$182:N205)-1,COLUMNS($N$182:N205)-1),\"\")","v":""},{"$f":"IF(OFFSET(DE104_9!$O$182,ROWS($O$182:O205)-1,COLUMNS($O$182:O205)-1)<>\"\",OFFSET(DE104_9!$O$182,ROWS($O$182:O205)-1,COLUMNS($O$182:O205)-1),\"\")","v":" "},{"$f":"IF(OFFSET(DE104_9!$P$182,ROWS($P$182:P205)-1,COLUMNS($P$182:P205)-1)<>\"\",OFFSET(DE104_9!$P$182,ROWS($P$182:P205)-1,COLUMNS($P$182:P205)-1),\"\")","v":24150300},{"$f":"IF(OFFSET(DE104_9!$Q$182,ROWS($Q$182:Q205)-1,COLUMNS($Q$182:Q205)-1)<>\"\",OFFSET(DE104_9!$Q$182,ROWS($Q$182:Q205)-1,COLUMNS($Q$182:Q205)-1),\"\")","v":"DR-306"},{"$f":"IF(OFFSET(DE104_9!$R$182,ROWS($R$182:R205)-1,COLUMNS($R$182:R205)-1)<>\"\",OFFSET(DE104_9!$R$182,ROWS($R$182:R205)-1,COLUMNS($R$182:R205)-1),\"\")","v":2.2000000000000002},{"$f":"IF(OFFSET(DE104_9!$S$182,ROWS($S$182:S205)-1,COLUMNS($S$182:S205)-1)<>\"\",OFFSET(DE104_9!$S$182,ROWS($S$182:S205)-1,COLUMNS($S$182:S205)-1),\"\")","v":0.4},{"$f":"IF(OFFSET(DE104_9!$T$182,ROWS($T$182:T205)-1,COLUMNS($T$182:T205)-1)<>\"\",OFFSET(DE104_9!$T$182,ROWS($T$182:T205)-1,COLUMNS($T$182:T205)-1),\"\")","v":""}]
[{"$f":"IF(OFFSET(DE104_9!$C$182,ROWS($C$182:C206)-1,COLUMNS($C$182:C206)-1)<>\"\",OFFSET(DE104_9!$C$182,ROWS($C$182:C206)-1,COLUMNS($C$182:C206)-1),\"\")","v":""},{"$f":"IF(OFFSET(DE104_9!$D$182,ROWS($D$182:D206)-1,COLUMNS($D$182:D206)-1)<>\"\",OFFSET(DE104_9!$D$182,ROWS($D$182:D206)-1,COLUMNS($D$182:D206)-1),\"\")","v":""},{"$f":"IF(OFFSET(DE104_9!$E$182,ROWS($E$182:E206)-1,COLUMNS($E$182:E206)-1)<>\"\",OFFSET(DE104_9!$E$182,ROWS($E$182:E206)-1,COLUMNS($E$182:E206)-1),\"\")","v":""},{"$f":"IF(OFFSET(DE104_9!$F$182,ROWS($F$182:F206)-1,COLUMNS($F$182:F206)-1)<>\"\",OFFSET(DE104_9!$F$182,ROWS($F$182:F206)-1,COLUMNS($F$182:F206)-1),\"\")","v":""},{"$f":"IF(OFFSET(DE104_9!$G$182,ROWS($G$182:G206)-1,COLUMNS($G$182:G206)-1)<>\"\",OFFSET(DE104_9!$G$182,ROWS($G$182:G206)-1,COLUMNS($G$182:G206)-1),\"\")","v":""},{"$f":"IF(OFFSET(DE104_9!$H$182,ROWS($H$182:H206)-1,COLUMNS($H$182:H206)-1)<>\"\",OFFSET(DE104_9!$H$182,ROWS($H$182:H206)-1,COLUMNS($H$182:H206)-1),\"\")","v":""},{"$f":"IF(OFFSET(DE104_9!$I$182,ROWS($I$182:I206)-1,COLUMNS($I$182:I206)-1)<>\"\",OFFSET(DE104_9!$I$182,ROWS($I$182:I206)-1,COLUMNS($I$182:I206)-1),\"\")","v":""},{"$f":"IF(OFFSET(DE104_9!$J$182,ROWS($J$182:J206)-1,COLUMNS($J$182:J206)-1)<>\"\",OFFSET(DE104_9!$J$182,ROWS($J$182:J206)-1,COLUMNS($J$182:J206)-1),\"\")","v":""},{"$f":"IF(OFFSET(DE104_9!$K$182,ROWS($K$182:K206)-1,COLUMNS($K$182:K206)-1)<>\"\",OFFSET(DE104_9!$K$182,ROWS($K$182:K206)-1,COLUMNS($K$182:K206)-1),\"\")","v":""},{"$f":"IF(OFFSET(DE104_9!$L$182,ROWS($L$182:L206)-1,COLUMNS($L$182:L206)-1)<>\"\",OFFSET(DE104_9!$L$182,ROWS($L$182:L206)-1,COLUMNS($L$182:L206)-1),\"\")","v":""},{"$f":"IF(OFFSET(DE104_9!$M$182,ROWS($M$182:M206)-1,COLUMNS($M$182:M206)-1)<>\"\",OFFSET(DE104_9!$M$182,ROWS($M$182:M206)-1,COLUMNS($M$182:M206)-1),\"\")","v":""},{"$f":"IF(OFFSET(DE104_9!$N$182,ROWS($N$182:N206)-1,COLUMNS($N$182:N206)-1)<>\"\",OFFSET(DE104_9!$N$182,ROWS($N$182:N206)-1,COLUMNS($N$182:N206)-1),\"\")","v":""},{"$f":"IF(OFFSET(DE104_9!$O$182,ROWS($O$182:O206)-1,COLUMNS($O$182:O206)-1)<>\"\",OFFSET(DE104_9!$O$182,ROWS($O$182:O206)-1,COLUMNS($O$182:O206)-1),\"\")","v":""},{"$f":"IF(OFFSET(DE104_9!$P$182,ROWS($P$182:P206)-1,COLUMNS($P$182:P206)-1)<>\"\",OFFSET(DE104_9!$P$182,ROWS($P$182:P206)-1,COLUMNS($P$182:P206)-1),\"\")","v":""},{"$f":"IF(OFFSET(DE104_9!$Q$182,ROWS($Q$182:Q206)-1,COLUMNS($Q$182:Q206)-1)<>\"\",OFFSET(DE104_9!$Q$182,ROWS($Q$182:Q206)-1,COLUMNS($Q$182:Q206)-1),\"\")","v":""},{"$f":"IF(OFFSET(DE104_9!$R$182,ROWS($R$182:R206)-1,COLUMNS($R$182:R206)-1)<>\"\",OFFSET(DE104_9!$R$182,ROWS($R$182:R206)-1,COLUMNS($R$182:R206)-1),\"\")","v":""},{"$f":"IF(OFFSET(DE104_9!$S$182,ROWS($S$182:S206)-1,COLUMNS($S$182:S206)-1)<>\"\",OFFSET(DE104_9!$S$182,ROWS($S$182:S206)-1,COLUMNS($S$182:S206)-1),\"\")","v":""},{"$f":"IF(OFFSET(DE104_9!$T$182,ROWS($T$182:T206)-1,COLUMNS($T$182:T206)-1)<>\"\",OFFSET(DE104_9!$T$182,ROWS($T$182:T206)-1,COLUMNS($T$182:T206)-1),\"\")","v":""}]
[{"$f":"IF(OFFSET(DE104_9!$C$182,ROWS($C$182:C207)-1,COLUMNS($C$182:C207)-1)<>\"\",OFFSET(DE104_9!$C$182,ROWS($C$182:C207)-1,COLUMNS($C$182:C207)-1),\"\")","v":""},{"$f":"IF(OFFSET(DE104_9!$D$182,ROWS($D$182:D207)-1,COLUMNS($D$182:D207)-1)<>\"\",OFFSET(DE104_9!$D$182,ROWS($D$182:D207)-1,COLUMNS($D$182:D207)-1),\"\")","v":""},{"$f":"IF(OFFSET(DE104_9!$E$182,ROWS($E$182:E207)-1,COLUMNS($E$182:E207)-1)<>\"\",OFFSET(DE104_9!$E$182,ROWS($E$182:E207)-1,COLUMNS($E$182:E207)-1),\"\")","v":""},{"$f":"IF(OFFSET(DE104_9!$F$182,ROWS($F$182:F207)-1,COLUMNS($F$182:F207)-1)<>\"\",OFFSET(DE104_9!$F$182,ROWS($F$182:F207)-1,COLUMNS($F$182:F207)-1),\"\")","v":""},{"$f":"IF(OFFSET(DE104_9!$G$182,ROWS($G$182:G207)-1,COLUMNS($G$182:G207)-1)<>\"\",OFFSET(DE104_9!$G$182,ROWS($G$182:G207)-1,COLUMNS($G$182:G207)-1),\"\")","v":""},{"$f":"IF(OFFSET(DE104_9!$H$182,ROWS($H$182:H207)-1,COLUMNS($H$182:H207)-1)<>\"\",OFFSET(DE104_9!$H$182,ROWS($H$182:H207)-1,COLUMNS($H$182:H207)-1),\"\")","v":""},{"$f":"IF(OFFSET(DE104_9!$I$182,ROWS($I$182:I207)-1,COLUMNS($I$182:I207)-1)<>\"\",OFFSET(DE104_9!$I$182,ROWS($I$182:I207)-1,COLUMNS($I$182:I207)-1),\"\")","v":""},{"$f":"IF(OFFSET(DE104_9!$J$182,ROWS($J$182:J207)-1,COLUMNS($J$182:J207)-1)<>\"\",OFFSET(DE104_9!$J$182,ROWS($J$182:J207)-1,COLUMNS($J$182:J207)-1),\"\")","v":""},{"$f":"IF(OFFSET(DE104_9!$K$182,ROWS($K$182:K207)-1,COLUMNS($K$182:K207)-1)<>\"\",OFFSET(DE104_9!$K$182,ROWS($K$182:K207)-1,COLUMNS($K$182:K207)-1),\"\")","v":""},{"$f":"IF(OFFSET(DE104_9!$L$182,ROWS($L$182:L207)-1,COLUMNS($L$182:L207)-1)<>\"\",OFFSET(DE104_9!$L$182,ROWS($L$182:L207)-1,COLUMNS($L$182:L207)-1),\"\")","v":""},{"$f":"IF(OFFSET(DE104_9!$M$182,ROWS($M$182:M207)-1,COLUMNS($M$182:M207)-1)<>\"\",OFFSET(DE104_9!$M$182,ROWS($M$182:M207)-1,COLUMNS($M$182:M207)-1),\"\")","v":""},{"$f":"IF(OFFSET(DE104_9!$N$182,ROWS($N$182:N207)-1,COLUMNS($N$182:N207)-1)<>\"\",OFFSET(DE104_9!$N$182,ROWS($N$182:N207)-1,COLUMNS($N$182:N207)-1),\"\")","v":""},{"$f":"IF(OFFSET(DE104_9!$O$182,ROWS($O$182:O207)-1,COLUMNS($O$182:O207)-1)<>\"\",OFFSET(DE104_9!$O$182,ROWS($O$182:O207)-1,COLUMNS($O$182:O207)-1),\"\")","v":""},{"$f":"IF(OFFSET(DE104_9!$P$182,ROWS($P$182:P207)-1,COLUMNS($P$182:P207)-1)<>\"\",OFFSET(DE104_9!$P$182,ROWS($P$182:P207)-1,COLUMNS($P$182:P207)-1),\"\")","v":""},{"$f":"IF(OFFSET(DE104_9!$Q$182,ROWS($Q$182:Q207)-1,COLUMNS($Q$182:Q207)-1)<>\"\",OFFSET(DE104_9!$Q$182,ROWS($Q$182:Q207)-1,COLUMNS($Q$182:Q207)-1),\"\")","v":""},{"$f":"IF(OFFSET(DE104_9!$R$182,ROWS($R$182:R207)-1,COLUMNS($R$182:R207)-1)<>\"\",OFFSET(DE104_9!$R$182,ROWS($R$182:R207)-1,COLUMNS($R$182:R207)-1),\"\")","v":""},{"$f":"IF(OFFSET(DE104_9!$S$182,ROWS($S$182:S207)-1,COLUMNS($S$182:S207)-1)<>\"\",OFFSET(DE104_9!$S$182,ROWS($S$182:S207)-1,COLUMNS($S$182:S207)-1),\"\")","v":""},{"$f":"IF(OFFSET(DE104_9!$T$182,ROWS($T$182:T207)-1,COLUMNS($T$182:T207)-1)<>\"\",OFFSET(DE104_9!$T$182,ROWS($T$182:T207)-1,COLUMNS($T$182:T207)-1),\"\")","v":""}]
[{"$f":"IF(OFFSET(DE104_9!$C$182,ROWS($C$182:C208)-1,COLUMNS($C$182:C208)-1)<>\"\",OFFSET(DE104_9!$C$182,ROWS($C$182:C208)-1,COLUMNS($C$182:C208)-1),\"\")","v":""},{"$f":"IF(OFFSET(DE104_9!$D$182,ROWS($D$182:D208)-1,COLUMNS($D$182:D208)-1)<>\"\",OFFSET(DE104_9!$D$182,ROWS($D$182:D208)-1,COLUMNS($D$182:D208)-1),\"\")","v":""},{"$f":"IF(OFFSET(DE104_9!$E$182,ROWS($E$182:E208)-1,COLUMNS($E$182:E208)-1)<>\"\",OFFSET(DE104_9!$E$182,ROWS($E$182:E208)-1,COLUMNS($E$182:E208)-1),\"\")","v":""},{"$f":"IF(OFFSET(DE104_9!$F$182,ROWS($F$182:F208)-1,COLUMNS($F$182:F208)-1)<>\"\",OFFSET(DE104_9!$F$182,ROWS($F$182:F208)-1,COLUMNS($F$182:F208)-1),\"\")","v":""},{"$f":"IF(OFFSET(DE104_9!$G$182,ROWS($G$182:G208)-1,COLUMNS($G$182:G208)-1)<>\"\",OFFSET(DE104_9!$G$182,ROWS($G$182:G208)-1,COLUMNS($G$182:G208)-1),\"\")","v":""},{"$f":"IF(OFFSET(DE104_9!$H$182,ROWS($H$182:H208)-1,COLUMNS($H$182:H208)-1)<>\"\",OFFSET(DE104_9!$H$182,ROWS($H$182:H208)-1,COLUMNS($H$182:H208)-1),\"\")","v":""},{"$f":"IF(OFFSET(DE104_9!$I$182,ROWS($I$182:I208)-1,COLUMNS($I$182:I208)-1)<>\"\",OFFSET(DE104_9!$I$182,ROWS($I$182:I208)-1,COLUMNS($I$182:I208)-1),\"\")","v":""},{"$f":"IF(OFFSET(DE104_9!$J$182,ROWS($J$182:J208)-1,COLUMNS($J$182:J208)-1)<>\"\",OFFSET(DE104_9!$J$182,ROWS($J$182:J208)-1,COLUMNS($J$182:J208)-1),\"\")","v":""},{"$f":"IF(OFFSET(DE104_9!$K$182,ROWS($K$182:K208)-1,COLUMNS($K$182:K208)-1)<>\"\",OFFSET(DE104_9!$K$182,ROWS($K$182:K208)-1,COLUMNS($K$182:K208)-1),\"\")","v":""},{"$f":"IF(OFFSET(DE104_9!$L$182,ROWS($L$182:L208)-1,COLUMNS($L$182:L208)-1)<>\"\",OFFSET(DE104_9!$L$182,ROWS($L$182:L208)-1,COLUMNS($L$182:L208)-1),\"\")","v":""},{"$f":"IF(OFFSET(DE104_9!$M$182,ROWS($M$182:M208)-1,COLUMNS($M$182:M208)-1)<>\"\",OFFSET(DE104_9!$M$182,ROWS($M$182:M208)-1,COLUMNS($M$182:M208)-1),\"\")","v":""},{"$f":"IF(OFFSET(DE104_9!$N$182,ROWS($N$182:N208)-1,COLUMNS($N$182:N208)-1)<>\"\",OFFSET(DE104_9!$N$182,ROWS($N$182:N208)-1,COLUMNS($N$182:N208)-1),\"\")","v":""},{"$f":"IF(OFFSET(DE104_9!$O$182,ROWS($O$182:O208)-1,COLUMNS($O$182:O208)-1)<>\"\",OFFSET(DE104_9!$O$182,ROWS($O$182:O208)-1,COLUMNS($O$182:O208)-1),\"\")","v":""},{"$f":"IF(OFFSET(DE104_9!$P$182,ROWS($P$182:P208)-1,COLUMNS($P$182:P208)-1)<>\"\",OFFSET(DE104_9!$P$182,ROWS($P$182:P208)-1,COLUMNS($P$182:P208)-1),\"\")","v":""},{"$f":"IF(OFFSET(DE104_9!$Q$182,ROWS($Q$182:Q208)-1,COLUMNS($Q$182:Q208)-1)<>\"\",OFFSET(DE104_9!$Q$182,ROWS($Q$182:Q208)-1,COLUMNS($Q$182:Q208)-1),\"\")","v":""},{"$f":"IF(OFFSET(DE104_9!$R$182,ROWS($R$182:R208)-1,COLUMNS($R$182:R208)-1)<>\"\",OFFSET(DE104_9!$R$182,ROWS($R$182:R208)-1,COLUMNS($R$182:R208)-1),\"\")","v":""},{"$f":"IF(OFFSET(DE104_9!$S$182,ROWS($S$182:S208)-1,COLUMNS($S$182:S208)-1)<>\"\",OFFSET(DE104_9!$S$182,ROWS($S$182:S208)-1,COLUMNS($S$182:S208)-1),\"\")","v":""},{"$f":"IF(OFFSET(DE104_9!$T$182,ROWS($T$182:T208)-1,COLUMNS($T$182:T208)-1)<>\"\",OFFSET(DE104_9!$T$182,ROWS($T$182:T208)-1,COLUMNS($T$182:T208)-1),\"\")","v":""}]
[{"$f":"IF(OFFSET(DE104_9!$C$182,ROWS($C$182:C209)-1,COLUMNS($C$182:C209)-1)<>\"\",OFFSET(DE104_9!$C$182,ROWS($C$182:C209)-1,COLUMNS($C$182:C209)-1),\"\")","v":""},{"$f":"IF(OFFSET(DE104_9!$D$182,ROWS($D$182:D209)-1,COLUMNS($D$182:D209)-1)<>\"\",OFFSET(DE104_9!$D$182,ROWS($D$182:D209)-1,COLUMNS($D$182:D209)-1),\"\")","v":"Totals"},{"$f":"IF(OFFSET(DE104_9!$E$182,ROWS($E$182:E209)-1,COLUMNS($E$182:E209)-1)<>\"\",OFFSET(DE104_9!$E$182,ROWS($E$182:E209)-1,COLUMNS($E$182:E209)-1),\"\")","v":""},{"$f":"IF(OFFSET(DE104_9!$F$182,ROWS($F$182:F209)-1,COLUMNS($F$182:F209)-1)<>\"\",OFFSET(DE104_9!$F$182,ROWS($F$182:F209)-1,COLUMNS($F$182:F209)-1),\"\")","v":""},{"$f":"IF(OFFSET(DE104_9!$G$182,ROWS($G$182:G209)-1,COLUMNS($G$182:G209)-1)<>\"\",OFFSET(DE104_9!$G$182,ROWS($G$182:G209)-1,COLUMNS($G$182:G209)-1),\"\")","v":""},{"$f":"IF(OFFSET(DE104_9!$H$182,ROWS($H$182:H209)-1,COLUMNS($H$182:H209)-1)<>\"\",OFFSET(DE104_9!$H$182,ROWS($H$182:H209)-1,COLUMNS($H$182:H209)-1),\"\")","v":""},{"$f":"IF(OFFSET(DE104_9!$I$182,ROWS($I$182:I209)-1,COLUMNS($I$182:I209)-1)<>\"\",OFFSET(DE104_9!$I$182,ROWS($I$182:I209)-1,COLUMNS($I$182:I209)-1),\"\")","v":""},{"$f":"IF(OFFSET(DE104_9!$J$182,ROWS($J$182:J209)-1,COLUMNS($J$182:J209)-1)<>\"\",OFFSET(DE104_9!$J$182,ROWS($J$182:J209)-1,COLUMNS($J$182:J209)-1),\"\")","v":20},{"$f":"IF(OFFSET(DE104_9!$K$182,ROWS($K$182:K209)-1,COLUMNS($K$182:K209)-1)<>\"\",OFFSET(DE104_9!$K$182,ROWS($K$182:K209)-1,COLUMNS($K$182:K209)-1),\"\")","v":""},{"$f":"IF(OFFSET(DE104_9!$L$182,ROWS($L$182:L209)-1,COLUMNS($L$182:L209)-1)<>\"\",OFFSET(DE104_9!$L$182,ROWS($L$182:L209)-1,COLUMNS($L$182:L209)-1),\"\")","v":" "},{"$f":"IF(OFFSET(DE104_9!$M$182,ROWS($M$182:M209)-1,COLUMNS($M$182:M209)-1)<>\"\",OFFSET(DE104_9!$M$182,ROWS($M$182:M209)-1,COLUMNS($M$182:M209)-1),\"\")","v":""},{"$f":"IF(OFFSET(DE104_9!$N$182,ROWS($N$182:N209)-1,COLUMNS($N$182:N209)-1)<>\"\",OFFSET(DE104_9!$N$182,ROWS($N$182:N209)-1,COLUMNS($N$182:N209)-1),\"\")","v":""},{"$f":"IF(OFFSET(DE104_9!$O$182,ROWS($O$182:O209)-1,COLUMNS($O$182:O209)-1)<>\"\",OFFSET(DE104_9!$O$182,ROWS($O$182:O209)-1,COLUMNS($O$182:O209)-1),\"\")","v":""},{"$f":"IF(OFFSET(DE104_9!$P$182,ROWS($P$182:P209)-1,COLUMNS($P$182:P209)-1)<>\"\",OFFSET(DE104_9!$P$182,ROWS($P$182:P209)-1,COLUMNS($P$182:P209)-1),\"\")","v":" "},{"$f":"IF(OFFSET(DE104_9!$Q$182,ROWS($Q$182:Q209)-1,COLUMNS($Q$182:Q209)-1)<>\"\",OFFSET(DE104_9!$Q$182,ROWS($Q$182:Q209)-1,COLUMNS($Q$182:Q209)-1),\"\")","v":"DR-306 = 1"},{"$f":"IF(OFFSET(DE104_9!$R$182,ROWS($R$182:R209)-1,COLUMNS($R$182:R209)-1)<>\"\",OFFSET(DE104_9!$R$182,ROWS($R$182:R209)-1,COLUMNS($R$182:R209)-1),\"\")","v":2.2000000000000002},{"$f":"IF(OFFSET(DE104_9!$S$182,ROWS($S$182:S209)-1,COLUMNS($S$182:S209)-1)<>\"\",OFFSET(DE104_9!$S$182,ROWS($S$182:S209)-1,COLUMNS($S$182:S209)-1),\"\")","v":0.4},{"$f":"IF(OFFSET(DE104_9!$T$182,ROWS($T$182:T209)-1,COLUMNS($T$182:T209)-1)<>\"\",OFFSET(DE104_9!$T$182,ROWS($T$182:T209)-1,COLUMNS($T$182:T209)-1),\"\")","v":""}]
[{"$f":"IF(OFFSET(DE104_9!$C$182,ROWS($C$182:C210)-1,COLUMNS($C$182:C210)-1)<>\"\",OFFSET(DE104_9!$C$182,ROWS($C$182:C210)-1,COLUMNS($C$182:C210)-1),\"\")","v":""},{"$f":"IF(OFFSET(DE104_9!$D$182,ROWS($D$182:D210)-1,COLUMNS($D$182:D210)-1)<>\"\",OFFSET(DE104_9!$D$182,ROWS($D$182:D210)-1,COLUMNS($D$182:D210)-1),\"\")","v":""},{"$f":"IF(OFFSET(DE104_9!$E$182,ROWS($E$182:E210)-1,COLUMNS($E$182:E210)-1)<>\"\",OFFSET(DE104_9!$E$182,ROWS($E$182:E210)-1,COLUMNS($E$182:E210)-1),\"\")","v":""},{"$f":"IF(OFFSET(DE104_9!$F$182,ROWS($F$182:F210)-1,COLUMNS($F$182:F210)-1)<>\"\",OFFSET(DE104_9!$F$182,ROWS($F$182:F210)-1,COLUMNS($F$182:F210)-1),\"\")","v":""},{"$f":"IF(OFFSET(DE104_9!$G$182,ROWS($G$182:G210)-1,COLUMNS($G$182:G210)-1)<>\"\",OFFSET(DE104_9!$G$182,ROWS($G$182:G210)-1,COLUMNS($G$182:G210)-1),\"\")","v":""},{"$f":"IF(OFFSET(DE104_9!$H$182,ROWS($H$182:H210)-1,COLUMNS($H$182:H210)-1)<>\"\",OFFSET(DE104_9!$H$182,ROWS($H$182:H210)-1,COLUMNS($H$182:H210)-1),\"\")","v":""},{"$f":"IF(OFFSET(DE104_9!$I$182,ROWS($I$182:I210)-1,COLUMNS($I$182:I210)-1)<>\"\",OFFSET(DE104_9!$I$182,ROWS($I$182:I210)-1,COLUMNS($I$182:I210)-1),\"\")","v":""},{"$f":"IF(OFFSET(DE104_9!$J$182,ROWS($J$182:J210)-1,COLUMNS($J$182:J210)-1)<>\"\",OFFSET(DE104_9!$J$182,ROWS($J$182:J210)-1,COLUMNS($J$182:J210)-1),\"\")","v":""},{"$f":"IF(OFFSET(DE104_9!$K$182,ROWS($K$182:K210)-1,COLUMNS($K$182:K210)-1)<>\"\",OFFSET(DE104_9!$K$182,ROWS($K$182:K210)-1,COLUMNS($K$182:K210)-1),\"\")","v":""},{"$f":"IF(OFFSET(DE104_9!$L$182,ROWS($L$182:L210)-1,COLUMNS($L$182:L210)-1)<>\"\",OFFSET(DE104_9!$L$182,ROWS($L$182:L210)-1,COLUMNS($L$182:L210)-1),\"\")","v":""},{"$f":"IF(OFFSET(DE104_9!$M$182,ROWS($M$182:M210)-1,COLUMNS($M$182:M210)-1)<>\"\",OFFSET(DE104_9!$M$182,ROWS($M$182:M210)-1,COLUMNS($M$182:M210)-1),\"\")","v":""},{"$f":"IF(OFFSET(DE104_9!$N$182,ROWS($N$182:N210)-1,COLUMNS($N$182:N210)-1)<>\"\",OFFSET(DE104_9!$N$182,ROWS($N$182:N210)-1,COLUMNS($N$182:N210)-1),\"\")","v":""},{"$f":"IF(OFFSET(DE104_9!$O$182,ROWS($O$182:O210)-1,COLUMNS($O$182:O210)-1)<>\"\",OFFSET(DE104_9!$O$182,ROWS($O$182:O210)-1,COLUMNS($O$182:O210)-1),\"\")","v":""},{"$f":"IF(OFFSET(DE104_9!$P$182,ROWS($P$182:P210)-1,COLUMNS($P$182:P210)-1)<>\"\",OFFSET(DE104_9!$P$182,ROWS($P$182:P210)-1,COLUMNS($P$182:P210)-1),\"\")","v":""},{"$f":"IF(OFFSET(DE104_9!$Q$182,ROWS($Q$182:Q210)-1,COLUMNS($Q$182:Q210)-1)<>\"\",OFFSET(DE104_9!$Q$182,ROWS($Q$182:Q210)-1,COLUMNS($Q$182:Q210)-1),\"\")","v":""},{"$f":"IF(OFFSET(DE104_9!$R$182,ROWS($R$182:R210)-1,COLUMNS($R$182:R210)-1)<>\"\",OFFSET(DE104_9!$R$182,ROWS($R$182:R210)-1,COLUMNS($R$182:R210)-1),\"\")","v":""},{"$f":"IF(OFFSET(DE104_9!$S$182,ROWS($S$182:S210)-1,COLUMNS($S$182:S210)-1)<>\"\",OFFSET(DE104_9!$S$182,ROWS($S$182:S210)-1,COLUMNS($S$182:S210)-1),\"\")","v":""},{"$f":"IF(OFFSET(DE104_9!$T$182,ROWS($T$182:T210)-1,COLUMNS($T$182:T210)-1)<>\"\",OFFSET(DE104_9!$T$182,ROWS($T$182:T210)-1,COLUMNS($T$182:T210)-1),\"\")","v":""}]
[{"$f":"IF(OFFSET(DE104_9!$C$182,ROWS($C$182:C211)-1,COLUMNS($C$182:C211)-1)<>\"\",OFFSET(DE104_9!$C$182,ROWS($C$182:C211)-1,COLUMNS($C$182:C211)-1),\"\")","v":""},{"$f":"IF(OFFSET(DE104_9!$D$182,ROWS($D$182:D211)-1,COLUMNS($D$182:D211)-1)<>\"\",OFFSET(DE104_9!$D$182,ROWS($D$182:D211)-1,COLUMNS($D$182:D211)-1),\"\")","v":""},{"$f":"IF(OFFSET(DE104_9!$E$182,ROWS($E$182:E211)-1,COLUMNS($E$182:E211)-1)<>\"\",OFFSET(DE104_9!$E$182,ROWS($E$182:E211)-1,COLUMNS($E$182:E211)-1),\"\")","v":""},{"$f":"IF(OFFSET(DE104_9!$F$182,ROWS($F$182:F211)-1,COLUMNS($F$182:F211)-1)<>\"\",OFFSET(DE104_9!$F$182,ROWS($F$182:F211)-1,COLUMNS($F$182:F211)-1),\"\")","v":""},{"$f":"IF(OFFSET(DE104_9!$G$182,ROWS($G$182:G211)-1,COLUMNS($G$182:G211)-1)<>\"\",OFFSET(DE104_9!$G$182,ROWS($G$182:G211)-1,COLUMNS($G$182:G211)-1),\"\")","v":""},{"$f":"IF(OFFSET(DE104_9!$H$182,ROWS($H$182:H211)-1,COLUMNS($H$182:H211)-1)<>\"\",OFFSET(DE104_9!$H$182,ROWS($H$182:H211)-1,COLUMNS($H$182:H211)-1),\"\")","v":""},{"$f":"IF(OFFSET(DE104_9!$I$182,ROWS($I$182:I211)-1,COLUMNS($I$182:I211)-1)<>\"\",OFFSET(DE104_9!$I$182,ROWS($I$182:I211)-1,COLUMNS($I$182:I211)-1),\"\")","v":""},{"$f":"IF(OFFSET(DE104_9!$J$182,ROWS($J$182:J211)-1,COLUMNS($J$182:J211)-1)<>\"\",OFFSET(DE104_9!$J$182,ROWS($J$182:J211)-1,COLUMNS($J$182:J211)-1),\"\")","v":""},{"$f":"IF(OFFSET(DE104_9!$K$182,ROWS($K$182:K211)-1,COLUMNS($K$182:K211)-1)<>\"\",OFFSET(DE104_9!$K$182,ROWS($K$182:K211)-1,COLUMNS($K$182:K211)-1),\"\")","v":""},{"$f":"IF(OFFSET(DE104_9!$L$182,ROWS($L$182:L211)-1,COLUMNS($L$182:L211)-1)<>\"\",OFFSET(DE104_9!$L$182,ROWS($L$182:L211)-1,COLUMNS($L$182:L211)-1),\"\")","v":""},{"$f":"IF(OFFSET(DE104_9!$M$182,ROWS($M$182:M211)-1,COLUMNS($M$182:M211)-1)<>\"\",OFFSET(DE104_9!$M$182,ROWS($M$182:M211)-1,COLUMNS($M$182:M211)-1),\"\")","v":""},{"$f":"IF(OFFSET(DE104_9!$N$182,ROWS($N$182:N211)-1,COLUMNS($N$182:N211)-1)<>\"\",OFFSET(DE104_9!$N$182,ROWS($N$182:N211)-1,COLUMNS($N$182:N211)-1),\"\")","v":""},{"$f":"IF(OFFSET(DE104_9!$O$182,ROWS($O$182:O211)-1,COLUMNS($O$182:O211)-1)<>\"\",OFFSET(DE104_9!$O$182,ROWS($O$182:O211)-1,COLUMNS($O$182:O211)-1),\"\")","v":""},{"$f":"IF(OFFSET(DE104_9!$P$182,ROWS($P$182:P211)-1,COLUMNS($P$182:P211)-1)<>\"\",OFFSET(DE104_9!$P$182,ROWS($P$182:P211)-1,COLUMNS($P$182:P211)-1),\"\")","v":""},{"$f":"IF(OFFSET(DE104_9!$Q$182,ROWS($Q$182:Q211)-1,COLUMNS($Q$182:Q211)-1)<>\"\",OFFSET(DE104_9!$Q$182,ROWS($Q$182:Q211)-1,COLUMNS($Q$182:Q211)-1),\"\")","v":""},{"$f":"IF(OFFSET(DE104_9!$R$182,ROWS($R$182:R211)-1,COLUMNS($R$182:R211)-1)<>\"\",OFFSET(DE104_9!$R$182,ROWS($R$182:R211)-1,COLUMNS($R$182:R211)-1),\"\")","v":""},{"$f":"IF(OFFSET(DE104_9!$S$182,ROWS($S$182:S211)-1,COLUMNS($S$182:S211)-1)<>\"\",OFFSET(DE104_9!$S$182,ROWS($S$182:S211)-1,COLUMNS($S$182:S211)-1),\"\")","v":""},{"$f":"IF(OFFSET(DE104_9!$T$182,ROWS($T$182:T211)-1,COLUMNS($T$182:T211)-1)<>\"\",OFFSET(DE104_9!$T$182,ROWS($T$182:T211)-1,COLUMNS($T$182:T211)-1),\"\")","v":""}]
[{"$f":"IF(OFFSET(DE104_9!$C$182,ROWS($C$182:C212)-1,COLUMNS($C$182:C212)-1)<>\"\",OFFSET(DE104_9!$C$182,ROWS($C$182:C212)-1,COLUMNS($C$182:C212)-1),\"\")","v":""},{"$f":"IF(OFFSET(DE104_9!$D$182,ROWS($D$182:D212)-1,COLUMNS($D$182:D212)-1)<>\"\",OFFSET(DE104_9!$D$182,ROWS($D$182:D212)-1,COLUMNS($D$182:D212)-1),\"\")","v":""},{"$f":"IF(OFFSET(DE104_9!$E$182,ROWS($E$182:E212)-1,COLUMNS($E$182:E212)-1)<>\"\",OFFSET(DE104_9!$E$182,ROWS($E$182:E212)-1,COLUMNS($E$182:E212)-1),\"\")","v":""},{"$f":"IF(OFFSET(DE104_9!$F$182,ROWS($F$182:F212)-1,COLUMNS($F$182:F212)-1)<>\"\",OFFSET(DE104_9!$F$182,ROWS($F$182:F212)-1,COLUMNS($F$182:F212)-1),\"\")","v":""},{"$f":"IF(OFFSET(DE104_9!$G$182,ROWS($G$182:G212)-1,COLUMNS($G$182:G212)-1)<>\"\",OFFSET(DE104_9!$G$182,ROWS($G$182:G212)-1,COLUMNS($G$182:G212)-1),\"\")","v":""},{"$f":"IF(OFFSET(DE104_9!$H$182,ROWS($H$182:H212)-1,COLUMNS($H$182:H212)-1)<>\"\",OFFSET(DE104_9!$H$182,ROWS($H$182:H212)-1,COLUMNS($H$182:H212)-1),\"\")","v":""},{"$f":"IF(OFFSET(DE104_9!$I$182,ROWS($I$182:I212)-1,COLUMNS($I$182:I212)-1)<>\"\",OFFSET(DE104_9!$I$182,ROWS($I$182:I212)-1,COLUMNS($I$182:I212)-1),\"\")","v":""},{"$f":"IF(OFFSET(DE104_9!$J$182,ROWS($J$182:J212)-1,COLUMNS($J$182:J212)-1)<>\"\",OFFSET(DE104_9!$J$182,ROWS($J$182:J212)-1,COLUMNS($J$182:J212)-1),\"\")","v":""},{"$f":"IF(OFFSET(DE104_9!$K$182,ROWS($K$182:K212)-1,COLUMNS($K$182:K212)-1)<>\"\",OFFSET(DE104_9!$K$182,ROWS($K$182:K212)-1,COLUMNS($K$182:K212)-1),\"\")","v":""},{"$f":"IF(OFFSET(DE104_9!$L$182,ROWS($L$182:L212)-1,COLUMNS($L$182:L212)-1)<>\"\",OFFSET(DE104_9!$L$182,ROWS($L$182:L212)-1,COLUMNS($L$182:L212)-1),\"\")","v":""},{"$f":"IF(OFFSET(DE104_9!$M$182,ROWS($M$182:M212)-1,COLUMNS($M$182:M212)-1)<>\"\",OFFSET(DE104_9!$M$182,ROWS($M$182:M212)-1,COLUMNS($M$182:M212)-1),\"\")","v":""},{"$f":"IF(OFFSET(DE104_9!$N$182,ROWS($N$182:N212)-1,COLUMNS($N$182:N212)-1)<>\"\",OFFSET(DE104_9!$N$182,ROWS($N$182:N212)-1,COLUMNS($N$182:N212)-1),\"\")","v":""},{"$f":"IF(OFFSET(DE104_9!$O$182,ROWS($O$182:O212)-1,COLUMNS($O$182:O212)-1)<>\"\",OFFSET(DE104_9!$O$182,ROWS($O$182:O212)-1,COLUMNS($O$182:O212)-1),\"\")","v":""},{"$f":"IF(OFFSET(DE104_9!$P$182,ROWS($P$182:P212)-1,COLUMNS($P$182:P212)-1)<>\"\",OFFSET(DE104_9!$P$182,ROWS($P$182:P212)-1,COLUMNS($P$182:P212)-1),\"\")","v":""},{"$f":"IF(OFFSET(DE104_9!$Q$182,ROWS($Q$182:Q212)-1,COLUMNS($Q$182:Q212)-1)<>\"\",OFFSET(DE104_9!$Q$182,ROWS($Q$182:Q212)-1,COLUMNS($Q$182:Q212)-1),\"\")","v":""},{"$f":"IF(OFFSET(DE104_9!$R$182,ROWS($R$182:R212)-1,COLUMNS($R$182:R212)-1)<>\"\",OFFSET(DE104_9!$R$182,ROWS($R$182:R212)-1,COLUMNS($R$182:R212)-1),\"\")","v":""},{"$f":"IF(OFFSET(DE104_9!$S$182,ROWS($S$182:S212)-1,COLUMNS($S$182:S212)-1)<>\"\",OFFSET(DE104_9!$S$182,ROWS($S$182:S212)-1,COLUMNS($S$182:S212)-1),\"\")","v":""},{"$f":"IF(OFFSET(DE104_9!$T$182,ROWS($T$182:T212)-1,COLUMNS($T$182:T212)-1)<>\"\",OFFSET(DE104_9!$T$182,ROWS($T$182:T212)-1,COLUMNS($T$182:T212)-1),\"\")","v":""}]
[{"$f":"IF(OFFSET(DE104_9!$C$182,ROWS($C$182:C213)-1,COLUMNS($C$182:C213)-1)<>\"\",OFFSET(DE104_9!$C$182,ROWS($C$182:C213)-1,COLUMNS($C$182:C213)-1),\"\")","v":""},{"$f":"IF(OFFSET(DE104_9!$D$182,ROWS($D$182:D213)-1,COLUMNS($D$182:D213)-1)<>\"\",OFFSET(DE104_9!$D$182,ROWS($D$182:D213)-1,COLUMNS($D$182:D213)-1),\"\")","v":""},{"$f":"IF(OFFSET(DE104_9!$E$182,ROWS($E$182:E213)-1,COLUMNS($E$182:E213)-1)<>\"\",OFFSET(DE104_9!$E$182,ROWS($E$182:E213)-1,COLUMNS($E$182:E213)-1),\"\")","v":""},{"$f":"IF(OFFSET(DE104_9!$F$182,ROWS($F$182:F213)-1,COLUMNS($F$182:F213)-1)<>\"\",OFFSET(DE104_9!$F$182,ROWS($F$182:F213)-1,COLUMNS($F$182:F213)-1),\"\")","v":""},{"$f":"IF(OFFSET(DE104_9!$G$182,ROWS($G$182:G213)-1,COLUMNS($G$182:G213)-1)<>\"\",OFFSET(DE104_9!$G$182,ROWS($G$182:G213)-1,COLUMNS($G$182:G213)-1),\"\")","v":""},{"$f":"IF(OFFSET(DE104_9!$H$182,ROWS($H$182:H213)-1,COLUMNS($H$182:H213)-1)<>\"\",OFFSET(DE104_9!$H$182,ROWS($H$182:H213)-1,COLUMNS($H$182:H213)-1),\"\")","v":""},{"$f":"IF(OFFSET(DE104_9!$I$182,ROWS($I$182:I213)-1,COLUMNS($I$182:I213)-1)<>\"\",OFFSET(DE104_9!$I$182,ROWS($I$182:I213)-1,COLUMNS($I$182:I213)-1),\"\")","v":""},{"$f":"IF(OFFSET(DE104_9!$J$182,ROWS($J$182:J213)-1,COLUMNS($J$182:J213)-1)<>\"\",OFFSET(DE104_9!$J$182,ROWS($J$182:J213)-1,COLUMNS($J$182:J213)-1),\"\")","v":""},{"$f":"IF(OFFSET(DE104_9!$K$182,ROWS($K$182:K213)-1,COLUMNS($K$182:K213)-1)<>\"\",OFFSET(DE104_9!$K$182,ROWS($K$182:K213)-1,COLUMNS($K$182:K213)-1),\"\")","v":""},{"$f":"IF(OFFSET(DE104_9!$L$182,ROWS($L$182:L213)-1,COLUMNS($L$182:L213)-1)<>\"\",OFFSET(DE104_9!$L$182,ROWS($L$182:L213)-1,COLUMNS($L$182:L213)-1),\"\")","v":""},{"$f":"IF(OFFSET(DE104_9!$M$182,ROWS($M$182:M213)-1,COLUMNS($M$182:M213)-1)<>\"\",OFFSET(DE104_9!$M$182,ROWS($M$182:M213)-1,COLUMNS($M$182:M213)-1),\"\")","v":""},{"$f":"IF(OFFSET(DE104_9!$N$182,ROWS($N$182:N213)-1,COLUMNS($N$182:N213)-1)<>\"\",OFFSET(DE104_9!$N$182,ROWS($N$182:N213)-1,COLUMNS($N$182:N213)-1),\"\")","v":""},{"$f":"IF(OFFSET(DE104_9!$O$182,ROWS($O$182:O213)-1,COLUMNS($O$182:O213)-1)<>\"\",OFFSET(DE104_9!$O$182,ROWS($O$182:O213)-1,COLUMNS($O$182:O213)-1),\"\")","v":""},{"$f":"IF(OFFSET(DE104_9!$P$182,ROWS($P$182:P213)-1,COLUMNS($P$182:P213)-1)<>\"\",OFFSET(DE104_9!$P$182,ROWS($P$182:P213)-1,COLUMNS($P$182:P213)-1),\"\")","v":""},{"$f":"IF(OFFSET(DE104_9!$Q$182,ROWS($Q$182:Q213)-1,COLUMNS($Q$182:Q213)-1)<>\"\",OFFSET(DE104_9!$Q$182,ROWS($Q$182:Q213)-1,COLUMNS($Q$182:Q213)-1),\"\")","v":""},{"$f":"IF(OFFSET(DE104_9!$R$182,ROWS($R$182:R213)-1,COLUMNS($R$182:R213)-1)<>\"\",OFFSET(DE104_9!$R$182,ROWS($R$182:R213)-1,COLUMNS($R$182:R213)-1),\"\")","v":""},{"$f":"IF(OFFSET(DE104_9!$S$182,ROWS($S$182:S213)-1,COLUMNS($S$182:S213)-1)<>\"\",OFFSET(DE104_9!$S$182,ROWS($S$182:S213)-1,COLUMNS($S$182:S213)-1),\"\")","v":""},{"$f":"IF(OFFSET(DE104_9!$T$182,ROWS($T$182:T213)-1,COLUMNS($T$182:T213)-1)<>\"\",OFFSET(DE104_9!$T$182,ROWS($T$182:T213)-1,COLUMNS($T$182:T213)-1),\"\")","v":""}]
[{"$f":"IF(OFFSET(DE104_9!$C$182,ROWS($C$182:C214)-1,COLUMNS($C$182:C214)-1)<>\"\",OFFSET(DE104_9!$C$182,ROWS($C$182:C214)-1,COLUMNS($C$182:C214)-1),\"\")","v":""},{"$f":"IF(OFFSET(DE104_9!$D$182,ROWS($D$182:D214)-1,COLUMNS($D$182:D214)-1)<>\"\",OFFSET(DE104_9!$D$182,ROWS($D$182:D214)-1,COLUMNS($D$182:D214)-1),\"\")","v":""},{"$f":"IF(OFFSET(DE104_9!$E$182,ROWS($E$182:E214)-1,COLUMNS($E$182:E214)-1)<>\"\",OFFSET(DE104_9!$E$182,ROWS($E$182:E214)-1,COLUMNS($E$182:E214)-1),\"\")","v":""},{"$f":"IF(OFFSET(DE104_9!$F$182,ROWS($F$182:F214)-1,COLUMNS($F$182:F214)-1)<>\"\",OFFSET(DE104_9!$F$182,ROWS($F$182:F214)-1,COLUMNS($F$182:F214)-1),\"\")","v":""},{"$f":"IF(OFFSET(DE104_9!$G$182,ROWS($G$182:G214)-1,COLUMNS($G$182:G214)-1)<>\"\",OFFSET(DE104_9!$G$182,ROWS($G$182:G214)-1,COLUMNS($G$182:G214)-1),\"\")","v":""},{"$f":"IF(OFFSET(DE104_9!$H$182,ROWS($H$182:H214)-1,COLUMNS($H$182:H214)-1)<>\"\",OFFSET(DE104_9!$H$182,ROWS($H$182:H214)-1,COLUMNS($H$182:H214)-1),\"\")","v":""},{"$f":"IF(OFFSET(DE104_9!$I$182,ROWS($I$182:I214)-1,COLUMNS($I$182:I214)-1)<>\"\",OFFSET(DE104_9!$I$182,ROWS($I$182:I214)-1,COLUMNS($I$182:I214)-1),\"\")","v":""},{"$f":"IF(OFFSET(DE104_9!$J$182,ROWS($J$182:J214)-1,COLUMNS($J$182:J214)-1)<>\"\",OFFSET(DE104_9!$J$182,ROWS($J$182:J214)-1,COLUMNS($J$182:J214)-1),\"\")","v":""},{"$f":"IF(OFFSET(DE104_9!$K$182,ROWS($K$182:K214)-1,COLUMNS($K$182:K214)-1)<>\"\",OFFSET(DE104_9!$K$182,ROWS($K$182:K214)-1,COLUMNS($K$182:K214)-1),\"\")","v":""},{"$f":"IF(OFFSET(DE104_9!$L$182,ROWS($L$182:L214)-1,COLUMNS($L$182:L214)-1)<>\"\",OFFSET(DE104_9!$L$182,ROWS($L$182:L214)-1,COLUMNS($L$182:L214)-1),\"\")","v":""},{"$f":"IF(OFFSET(DE104_9!$M$182,ROWS($M$182:M214)-1,COLUMNS($M$182:M214)-1)<>\"\",OFFSET(DE104_9!$M$182,ROWS($M$182:M214)-1,COLUMNS($M$182:M214)-1),\"\")","v":""},{"$f":"IF(OFFSET(DE104_9!$N$182,ROWS($N$182:N214)-1,COLUMNS($N$182:N214)-1)<>\"\",OFFSET(DE104_9!$N$182,ROWS($N$182:N214)-1,COLUMNS($N$182:N214)-1),\"\")","v":""},{"$f":"IF(OFFSET(DE104_9!$O$182,ROWS($O$182:O214)-1,COLUMNS($O$182:O214)-1)<>\"\",OFFSET(DE104_9!$O$182,ROWS($O$182:O214)-1,COLUMNS($O$182:O214)-1),\"\")","v":""},{"$f":"IF(OFFSET(DE104_9!$P$182,ROWS($P$182:P214)-1,COLUMNS($P$182:P214)-1)<>\"\",OFFSET(DE104_9!$P$182,ROWS($P$182:P214)-1,COLUMNS($P$182:P214)-1),\"\")","v":""},{"$f":"IF(OFFSET(DE104_9!$Q$182,ROWS($Q$182:Q214)-1,COLUMNS($Q$182:Q214)-1)<>\"\",OFFSET(DE104_9!$Q$182,ROWS($Q$182:Q214)-1,COLUMNS($Q$182:Q214)-1),\"\")","v":""},{"$f":"IF(OFFSET(DE104_9!$R$182,ROWS($R$182:R214)-1,COLUMNS($R$182:R214)-1)<>\"\",OFFSET(DE104_9!$R$182,ROWS($R$182:R214)-1,COLUMNS($R$182:R214)-1),\"\")","v":""},{"$f":"IF(OFFSET(DE104_9!$S$182,ROWS($S$182:S214)-1,COLUMNS($S$182:S214)-1)<>\"\",OFFSET(DE104_9!$S$182,ROWS($S$182:S214)-1,COLUMNS($S$182:S214)-1),\"\")","v":""},{"$f":"IF(OFFSET(DE104_9!$T$182,ROWS($T$182:T214)-1,COLUMNS($T$182:T214)-1)<>\"\",OFFSET(DE104_9!$T$182,ROWS($T$182:T214)-1,COLUMNS($T$182:T214)-1),\"\")","v":""}]
[{"$f":"IF(OFFSET(DE104_9!$C$182,ROWS($C$182:C215)-1,COLUMNS($C$182:C215)-1)<>\"\",OFFSET(DE104_9!$C$182,ROWS($C$182:C215)-1,COLUMNS($C$182:C215)-1),\"\")","v":""},{"$f":"IF(OFFSET(DE104_9!$D$182,ROWS($D$182:D215)-1,COLUMNS($D$182:D215)-1)<>\"\",OFFSET(DE104_9!$D$182,ROWS($D$182:D215)-1,COLUMNS($D$182:D215)-1),\"\")","v":""},{"$f":"IF(OFFSET(DE104_9!$E$182,ROWS($E$182:E215)-1,COLUMNS($E$182:E215)-1)<>\"\",OFFSET(DE104_9!$E$182,ROWS($E$182:E215)-1,COLUMNS($E$182:E215)-1),\"\")","v":""},{"$f":"IF(OFFSET(DE104_9!$F$182,ROWS($F$182:F215)-1,COLUMNS($F$182:F215)-1)<>\"\",OFFSET(DE104_9!$F$182,ROWS($F$182:F215)-1,COLUMNS($F$182:F215)-1),\"\")","v":""},{"$f":"IF(OFFSET(DE104_9!$G$182,ROWS($G$182:G215)-1,COLUMNS($G$182:G215)-1)<>\"\",OFFSET(DE104_9!$G$182,ROWS($G$182:G215)-1,COLUMNS($G$182:G215)-1),\"\")","v":""},{"$f":"IF(OFFSET(DE104_9!$H$182,ROWS($H$182:H215)-1,COLUMNS($H$182:H215)-1)<>\"\",OFFSET(DE104_9!$H$182,ROWS($H$182:H215)-1,COLUMNS($H$182:H215)-1),\"\")","v":""},{"$f":"IF(OFFSET(DE104_9!$I$182,ROWS($I$182:I215)-1,COLUMNS($I$182:I215)-1)<>\"\",OFFSET(DE104_9!$I$182,ROWS($I$182:I215)-1,COLUMNS($I$182:I215)-1),\"\")","v":""},{"$f":"IF(OFFSET(DE104_9!$J$182,ROWS($J$182:J215)-1,COLUMNS($J$182:J215)-1)<>\"\",OFFSET(DE104_9!$J$182,ROWS($J$182:J215)-1,COLUMNS($J$182:J215)-1),\"\")","v":""},{"$f":"IF(OFFSET(DE104_9!$K$182,ROWS($K$182:K215)-1,COLUMNS($K$182:K215)-1)<>\"\",OFFSET(DE104_9!$K$182,ROWS($K$182:K215)-1,COLUMNS($K$182:K215)-1),\"\")","v":""},{"$f":"IF(OFFSET(DE104_9!$L$182,ROWS($L$182:L215)-1,COLUMNS($L$182:L215)-1)<>\"\",OFFSET(DE104_9!$L$182,ROWS($L$182:L215)-1,COLUMNS($L$182:L215)-1),\"\")","v":""},{"$f":"IF(OFFSET(DE104_9!$M$182,ROWS($M$182:M215)-1,COLUMNS($M$182:M215)-1)<>\"\",OFFSET(DE104_9!$M$182,ROWS($M$182:M215)-1,COLUMNS($M$182:M215)-1),\"\")","v":""},{"$f":"IF(OFFSET(DE104_9!$N$182,ROWS($N$182:N215)-1,COLUMNS($N$182:N215)-1)<>\"\",OFFSET(DE104_9!$N$182,ROWS($N$182:N215)-1,COLUMNS($N$182:N215)-1),\"\")","v":""},{"$f":"IF(OFFSET(DE104_9!$O$182,ROWS($O$182:O215)-1,COLUMNS($O$182:O215)-1)<>\"\",OFFSET(DE104_9!$O$182,ROWS($O$182:O215)-1,COLUMNS($O$182:O215)-1),\"\")","v":""},{"$f":"IF(OFFSET(DE104_9!$P$182,ROWS($P$182:P215)-1,COLUMNS($P$182:P215)-1)<>\"\",OFFSET(DE104_9!$P$182,ROWS($P$182:P215)-1,COLUMNS($P$182:P215)-1),\"\")","v":""},{"$f":"IF(OFFSET(DE104_9!$Q$182,ROWS($Q$182:Q215)-1,COLUMNS($Q$182:Q215)-1)<>\"\",OFFSET(DE104_9!$Q$182,ROWS($Q$182:Q215)-1,COLUMNS($Q$182:Q215)-1),\"\")","v":""},{"$f":"IF(OFFSET(DE104_9!$R$182,ROWS($R$182:R215)-1,COLUMNS($R$182:R215)-1)<>\"\",OFFSET(DE104_9!$R$182,ROWS($R$182:R215)-1,COLUMNS($R$182:R215)-1),\"\")","v":""},{"$f":"IF(OFFSET(DE104_9!$S$182,ROWS($S$182:S215)-1,COLUMNS($S$182:S215)-1)<>\"\",OFFSET(DE104_9!$S$182,ROWS($S$182:S215)-1,COLUMNS($S$182:S215)-1),\"\")","v":""},{"$f":"IF(OFFSET(DE104_9!$T$182,ROWS($T$182:T215)-1,COLUMNS($T$182:T215)-1)<>\"\",OFFSET(DE104_9!$T$182,ROWS($T$182:T215)-1,COLUMNS($T$182:T215)-1),\"\")","v":""}]
[{"$f":"IF(OFFSET(DE104_9!$C$182,ROWS($C$182:C216)-1,COLUMNS($C$182:C216)-1)<>\"\",OFFSET(DE104_9!$C$182,ROWS($C$182:C216)-1,COLUMNS($C$182:C216)-1),\"\")","v":""},{"$f":"IF(OFFSET(DE104_9!$D$182,ROWS($D$182:D216)-1,COLUMNS($D$182:D216)-1)<>\"\",OFFSET(DE104_9!$D$182,ROWS($D$182:D216)-1,COLUMNS($D$182:D216)-1),\"\")","v":""},{"$f":"IF(OFFSET(DE104_9!$E$182,ROWS($E$182:E216)-1,COLUMNS($E$182:E216)-1)<>\"\",OFFSET(DE104_9!$E$182,ROWS($E$182:E216)-1,COLUMNS($E$182:E216)-1),\"\")","v":""},{"$f":"IF(OFFSET(DE104_9!$F$182,ROWS($F$182:F216)-1,COLUMNS($F$182:F216)-1)<>\"\",OFFSET(DE104_9!$F$182,ROWS($F$182:F216)-1,COLUMNS($F$182:F216)-1),\"\")","v":""},{"$f":"IF(OFFSET(DE104_9!$G$182,ROWS($G$182:G216)-1,COLUMNS($G$182:G216)-1)<>\"\",OFFSET(DE104_9!$G$182,ROWS($G$182:G216)-1,COLUMNS($G$182:G216)-1),\"\")","v":""},{"$f":"IF(OFFSET(DE104_9!$H$182,ROWS($H$182:H216)-1,COLUMNS($H$182:H216)-1)<>\"\",OFFSET(DE104_9!$H$182,ROWS($H$182:H216)-1,COLUMNS($H$182:H216)-1),\"\")","v":""},{"$f":"IF(OFFSET(DE104_9!$I$182,ROWS($I$182:I216)-1,COLUMNS($I$182:I216)-1)<>\"\",OFFSET(DE104_9!$I$182,ROWS($I$182:I216)-1,COLUMNS($I$182:I216)-1),\"\")","v":""},{"$f":"IF(OFFSET(DE104_9!$J$182,ROWS($J$182:J216)-1,COLUMNS($J$182:J216)-1)<>\"\",OFFSET(DE104_9!$J$182,ROWS($J$182:J216)-1,COLUMNS($J$182:J216)-1),\"\")","v":""},{"$f":"IF(OFFSET(DE104_9!$K$182,ROWS($K$182:K216)-1,COLUMNS($K$182:K216)-1)<>\"\",OFFSET(DE104_9!$K$182,ROWS($K$182:K216)-1,COLUMNS($K$182:K216)-1),\"\")","v":""},{"$f":"IF(OFFSET(DE104_9!$L$182,ROWS($L$182:L216)-1,COLUMNS($L$182:L216)-1)<>\"\",OFFSET(DE104_9!$L$182,ROWS($L$182:L216)-1,COLUMNS($L$182:L216)-1),\"\")","v":""},{"$f":"IF(OFFSET(DE104_9!$M$182,ROWS($M$182:M216)-1,COLUMNS($M$182:M216)-1)<>\"\",OFFSET(DE104_9!$M$182,ROWS($M$182:M216)-1,COLUMNS($M$182:M216)-1),\"\")","v":""},{"$f":"IF(OFFSET(DE104_9!$N$182,ROWS($N$182:N216)-1,COLUMNS($N$182:N216)-1)<>\"\",OFFSET(DE104_9!$N$182,ROWS($N$182:N216)-1,COLUMNS($N$182:N216)-1),\"\")","v":""},{"$f":"IF(OFFSET(DE104_9!$O$182,ROWS($O$182:O216)-1,COLUMNS($O$182:O216)-1)<>\"\",OFFSET(DE104_9!$O$182,ROWS($O$182:O216)-1,COLUMNS($O$182:O216)-1),\"\")","v":""},{"$f":"IF(OFFSET(DE104_9!$P$182,ROWS($P$182:P216)-1,COLUMNS($P$182:P216)-1)<>\"\",OFFSET(DE104_9!$P$182,ROWS($P$182:P216)-1,COLUMNS($P$182:P216)-1),\"\")","v":""},{"$f":"IF(OFFSET(DE104_9!$Q$182,ROWS($Q$182:Q216)-1,COLUMNS($Q$182:Q216)-1)<>\"\",OFFSET(DE104_9!$Q$182,ROWS($Q$182:Q216)-1,COLUMNS($Q$182:Q216)-1),\"\")","v":""},{"$f":"IF(OFFSET(DE104_9!$R$182,ROWS($R$182:R216)-1,COLUMNS($R$182:R216)-1)<>\"\",OFFSET(DE104_9!$R$182,ROWS($R$182:R216)-1,COLUMNS($R$182:R216)-1),\"\")","v":""},{"$f":"IF(OFFSET(DE104_9!$S$182,ROWS($S$182:S216)-1,COLUMNS($S$182:S216)-1)<>\"\",OFFSET(DE104_9!$S$182,ROWS($S$182:S216)-1,COLUMNS($S$182:S216)-1),\"\")","v":""},{"$f":"IF(OFFSET(DE104_9!$T$182,ROWS($T$182:T216)-1,COLUMNS($T$182:T216)-1)<>\"\",OFFSET(DE104_9!$T$182,ROWS($T$182:T216)-1,COLUMNS($T$182:T216)-1),\"\")","v":""}]
[{"$f":"IF(OFFSET(DE104_9!$C$182,ROWS($C$182:C217)-1,COLUMNS($C$182:C217)-1)<>\"\",OFFSET(DE104_9!$C$182,ROWS($C$182:C217)-1,COLUMNS($C$182:C217)-1),\"\")","v":""},{"$f":"IF(OFFSET(DE104_9!$D$182,ROWS($D$182:D217)-1,COLUMNS($D$182:D217)-1)<>\"\",OFFSET(DE104_9!$D$182,ROWS($D$182:D217)-1,COLUMNS($D$182:D217)-1),\"\")","v":""},{"$f":"IF(OFFSET(DE104_9!$E$182,ROWS($E$182:E217)-1,COLUMNS($E$182:E217)-1)<>\"\",OFFSET(DE104_9!$E$182,ROWS($E$182:E217)-1,COLUMNS($E$182:E217)-1),\"\")","v":""},{"$f":"IF(OFFSET(DE104_9!$F$182,ROWS($F$182:F217)-1,COLUMNS($F$182:F217)-1)<>\"\",OFFSET(DE104_9!$F$182,ROWS($F$182:F217)-1,COLUMNS($F$182:F217)-1),\"\")","v":""},{"$f":"IF(OFFSET(DE104_9!$G$182,ROWS($G$182:G217)-1,COLUMNS($G$182:G217)-1)<>\"\",OFFSET(DE104_9!$G$182,ROWS($G$182:G217)-1,COLUMNS($G$182:G217)-1),\"\")","v":""},{"$f":"IF(OFFSET(DE104_9!$H$182,ROWS($H$182:H217)-1,COLUMNS($H$182:H217)-1)<>\"\",OFFSET(DE104_9!$H$182,ROWS($H$182:H217)-1,COLUMNS($H$182:H217)-1),\"\")","v":""},{"$f":"IF(OFFSET(DE104_9!$I$182,ROWS($I$182:I217)-1,COLUMNS($I$182:I217)-1)<>\"\",OFFSET(DE104_9!$I$182,ROWS($I$182:I217)-1,COLUMNS($I$182:I217)-1),\"\")","v":""},{"$f":"IF(OFFSET(DE104_9!$J$182,ROWS($J$182:J217)-1,COLUMNS($J$182:J217)-1)<>\"\",OFFSET(DE104_9!$J$182,ROWS($J$182:J217)-1,COLUMNS($J$182:J217)-1),\"\")","v":""},{"$f":"IF(OFFSET(DE104_9!$K$182,ROWS($K$182:K217)-1,COLUMNS($K$182:K217)-1)<>\"\",OFFSET(DE104_9!$K$182,ROWS($K$182:K217)-1,COLUMNS($K$182:K217)-1),\"\")","v":""},{"$f":"IF(OFFSET(DE104_9!$L$182,ROWS($L$182:L217)-1,COLUMNS($L$182:L217)-1)<>\"\",OFFSET(DE104_9!$L$182,ROWS($L$182:L217)-1,COLUMNS($L$182:L217)-1),\"\")","v":""},{"$f":"IF(OFFSET(DE104_9!$M$182,ROWS($M$182:M217)-1,COLUMNS($M$182:M217)-1)<>\"\",OFFSET(DE104_9!$M$182,ROWS($M$182:M217)-1,COLUMNS($M$182:M217)-1),\"\")","v":""},{"$f":"IF(OFFSET(DE104_9!$N$182,ROWS($N$182:N217)-1,COLUMNS($N$182:N217)-1)<>\"\",OFFSET(DE104_9!$N$182,ROWS($N$182:N217)-1,COLUMNS($N$182:N217)-1),\"\")","v":""},{"$f":"IF(OFFSET(DE104_9!$O$182,ROWS($O$182:O217)-1,COLUMNS($O$182:O217)-1)<>\"\",OFFSET(DE104_9!$O$182,ROWS($O$182:O217)-1,COLUMNS($O$182:O217)-1),\"\")","v":""},{"$f":"IF(OFFSET(DE104_9!$P$182,ROWS($P$182:P217)-1,COLUMNS($P$182:P217)-1)<>\"\",OFFSET(DE104_9!$P$182,ROWS($P$182:P217)-1,COLUMNS($P$182:P217)-1),\"\")","v":""},{"$f":"IF(OFFSET(DE104_9!$Q$182,ROWS($Q$182:Q217)-1,COLUMNS($Q$182:Q217)-1)<>\"\",OFFSET(DE104_9!$Q$182,ROWS($Q$182:Q217)-1,COLUMNS($Q$182:Q217)-1),\"\")","v":""},{"$f":"IF(OFFSET(DE104_9!$R$182,ROWS($R$182:R217)-1,COLUMNS($R$182:R217)-1)<>\"\",OFFSET(DE104_9!$R$182,ROWS($R$182:R217)-1,COLUMNS($R$182:R217)-1),\"\")","v":""},{"$f":"IF(OFFSET(DE104_9!$S$182,ROWS($S$182:S217)-1,COLUMNS($S$182:S217)-1)<>\"\",OFFSET(DE104_9!$S$182,ROWS($S$182:S217)-1,COLUMNS($S$182:S217)-1),\"\")","v":""},{"$f":"IF(OFFSET(DE104_9!$T$182,ROWS($T$182:T217)-1,COLUMNS($T$182:T217)-1)<>\"\",OFFSET(DE104_9!$T$182,ROWS($T$182:T217)-1,COLUMNS($T$182:T217)-1),\"\")","v":""}]
[{"$f":"IF(OFFSET(DE104_9!$C$182,ROWS($C$182:C218)-1,COLUMNS($C$182:C218)-1)<>\"\",OFFSET(DE104_9!$C$182,ROWS($C$182:C218)-1,COLUMNS($C$182:C218)-1),\"\")","v":""},{"$f":"IF(OFFSET(DE104_9!$D$182,ROWS($D$182:D218)-1,COLUMNS($D$182:D218)-1)<>\"\",OFFSET(DE104_9!$D$182,ROWS($D$182:D218)-1,COLUMNS($D$182:D218)-1),\"\")","v":""},{"$f":"IF(OFFSET(DE104_9!$E$182,ROWS($E$182:E218)-1,COLUMNS($E$182:E218)-1)<>\"\",OFFSET(DE104_9!$E$182,ROWS($E$182:E218)-1,COLUMNS($E$182:E218)-1),\"\")","v":""},{"$f":"IF(OFFSET(DE104_9!$F$182,ROWS($F$182:F218)-1,COLUMNS($F$182:F218)-1)<>\"\",OFFSET(DE104_9!$F$182,ROWS($F$182:F218)-1,COLUMNS($F$182:F218)-1),\"\")","v":""},{"$f":"IF(OFFSET(DE104_9!$G$182,ROWS($G$182:G218)-1,COLUMNS($G$182:G218)-1)<>\"\",OFFSET(DE104_9!$G$182,ROWS($G$182:G218)-1,COLUMNS($G$182:G218)-1),\"\")","v":""},{"$f":"IF(OFFSET(DE104_9!$H$182,ROWS($H$182:H218)-1,COLUMNS($H$182:H218)-1)<>\"\",OFFSET(DE104_9!$H$182,ROWS($H$182:H218)-1,COLUMNS($H$182:H218)-1),\"\")","v":""},{"$f":"IF(OFFSET(DE104_9!$I$182,ROWS($I$182:I218)-1,COLUMNS($I$182:I218)-1)<>\"\",OFFSET(DE104_9!$I$182,ROWS($I$182:I218)-1,COLUMNS($I$182:I218)-1),\"\")","v":""},{"$f":"IF(OFFSET(DE104_9!$J$182,ROWS($J$182:J218)-1,COLUMNS($J$182:J218)-1)<>\"\",OFFSET(DE104_9!$J$182,ROWS($J$182:J218)-1,COLUMNS($J$182:J218)-1),\"\")","v":""},{"$f":"IF(OFFSET(DE104_9!$K$182,ROWS($K$182:K218)-1,COLUMNS($K$182:K218)-1)<>\"\",OFFSET(DE104_9!$K$182,ROWS($K$182:K218)-1,COLUMNS($K$182:K218)-1),\"\")","v":""},{"$f":"IF(OFFSET(DE104_9!$L$182,ROWS($L$182:L218)-1,COLUMNS($L$182:L218)-1)<>\"\",OFFSET(DE104_9!$L$182,ROWS($L$182:L218)-1,COLUMNS($L$182:L218)-1),\"\")","v":""},{"$f":"IF(OFFSET(DE104_9!$M$182,ROWS($M$182:M218)-1,COLUMNS($M$182:M218)-1)<>\"\",OFFSET(DE104_9!$M$182,ROWS($M$182:M218)-1,COLUMNS($M$182:M218)-1),\"\")","v":""},{"$f":"IF(OFFSET(DE104_9!$N$182,ROWS($N$182:N218)-1,COLUMNS($N$182:N218)-1)<>\"\",OFFSET(DE104_9!$N$182,ROWS($N$182:N218)-1,COLUMNS($N$182:N218)-1),\"\")","v":""},{"$f":"IF(OFFSET(DE104_9!$O$182,ROWS($O$182:O218)-1,COLUMNS($O$182:O218)-1)<>\"\",OFFSET(DE104_9!$O$182,ROWS($O$182:O218)-1,COLUMNS($O$182:O218)-1),\"\")","v":""},{"$f":"IF(OFFSET(DE104_9!$P$182,ROWS($P$182:P218)-1,COLUMNS($P$182:P218)-1)<>\"\",OFFSET(DE104_9!$P$182,ROWS($P$182:P218)-1,COLUMNS($P$182:P218)-1),\"\")","v":""},{"$f":"IF(OFFSET(DE104_9!$Q$182,ROWS($Q$182:Q218)-1,COLUMNS($Q$182:Q218)-1)<>\"\",OFFSET(DE104_9!$Q$182,ROWS($Q$182:Q218)-1,COLUMNS($Q$182:Q218)-1),\"\")","v":""},{"$f":"IF(OFFSET(DE104_9!$R$182,ROWS($R$182:R218)-1,COLUMNS($R$182:R218)-1)<>\"\",OFFSET(DE104_9!$R$182,ROWS($R$182:R218)-1,COLUMNS($R$182:R218)-1),\"\")","v":""},{"$f":"IF(OFFSET(DE104_9!$S$182,ROWS($S$182:S218)-1,COLUMNS($S$182:S218)-1)<>\"\",OFFSET(DE104_9!$S$182,ROWS($S$182:S218)-1,COLUMNS($S$182:S218)-1),\"\")","v":""},{"$f":"IF(OFFSET(DE104_9!$T$182,ROWS($T$182:T218)-1,COLUMNS($T$182:T218)-1)<>\"\",OFFSET(DE104_9!$T$182,ROWS($T$182:T218)-1,COLUMNS($T$182:T218)-1),\"\")","v":""}]
[{"$f":"IF(OFFSET(DE104_9!$C$182,ROWS($C$182:C219)-1,COLUMNS($C$182:C219)-1)<>\"\",OFFSET(DE104_9!$C$182,ROWS($C$182:C219)-1,COLUMNS($C$182:C219)-1),\"\")","v":""},{"$f":"IF(OFFSET(DE104_9!$D$182,ROWS($D$182:D219)-1,COLUMNS($D$182:D219)-1)<>\"\",OFFSET(DE104_9!$D$182,ROWS($D$182:D219)-1,COLUMNS($D$182:D219)-1),\"\")","v":""},{"$f":"IF(OFFSET(DE104_9!$E$182,ROWS($E$182:E219)-1,COLUMNS($E$182:E219)-1)<>\"\",OFFSET(DE104_9!$E$182,ROWS($E$182:E219)-1,COLUMNS($E$182:E219)-1),\"\")","v":""},{"$f":"IF(OFFSET(DE104_9!$F$182,ROWS($F$182:F219)-1,COLUMNS($F$182:F219)-1)<>\"\",OFFSET(DE104_9!$F$182,ROWS($F$182:F219)-1,COLUMNS($F$182:F219)-1),\"\")","v":""},{"$f":"IF(OFFSET(DE104_9!$G$182,ROWS($G$182:G219)-1,COLUMNS($G$182:G219)-1)<>\"\",OFFSET(DE104_9!$G$182,ROWS($G$182:G219)-1,COLUMNS($G$182:G219)-1),\"\")","v":""},{"$f":"IF(OFFSET(DE104_9!$H$182,ROWS($H$182:H219)-1,COLUMNS($H$182:H219)-1)<>\"\",OFFSET(DE104_9!$H$182,ROWS($H$182:H219)-1,COLUMNS($H$182:H219)-1),\"\")","v":""},{"$f":"IF(OFFSET(DE104_9!$I$182,ROWS($I$182:I219)-1,COLUMNS($I$182:I219)-1)<>\"\",OFFSET(DE104_9!$I$182,ROWS($I$182:I219)-1,COLUMNS($I$182:I219)-1),\"\")","v":""},{"$f":"IF(OFFSET(DE104_9!$J$182,ROWS($J$182:J219)-1,COLUMNS($J$182:J219)-1)<>\"\",OFFSET(DE104_9!$J$182,ROWS($J$182:J219)-1,COLUMNS($J$182:J219)-1),\"\")","v":""},{"$f":"IF(OFFSET(DE104_9!$K$182,ROWS($K$182:K219)-1,COLUMNS($K$182:K219)-1)<>\"\",OFFSET(DE104_9!$K$182,ROWS($K$182:K219)-1,COLUMNS($K$182:K219)-1),\"\")","v":""},{"$f":"IF(OFFSET(DE104_9!$L$182,ROWS($L$182:L219)-1,COLUMNS($L$182:L219)-1)<>\"\",OFFSET(DE104_9!$L$182,ROWS($L$182:L219)-1,COLUMNS($L$182:L219)-1),\"\")","v":""},{"$f":"IF(OFFSET(DE104_9!$M$182,ROWS($M$182:M219)-1,COLUMNS($M$182:M219)-1)<>\"\",OFFSET(DE104_9!$M$182,ROWS($M$182:M219)-1,COLUMNS($M$182:M219)-1),\"\")","v":""},{"$f":"IF(OFFSET(DE104_9!$N$182,ROWS($N$182:N219)-1,COLUMNS($N$182:N219)-1)<>\"\",OFFSET(DE104_9!$N$182,ROWS($N$182:N219)-1,COLUMNS($N$182:N219)-1),\"\")","v":""},{"$f":"IF(OFFSET(DE104_9!$O$182,ROWS($O$182:O219)-1,COLUMNS($O$182:O219)-1)<>\"\",OFFSET(DE104_9!$O$182,ROWS($O$182:O219)-1,COLUMNS($O$182:O219)-1),\"\")","v":""},{"$f":"IF(OFFSET(DE104_9!$P$182,ROWS($P$182:P219)-1,COLUMNS($P$182:P219)-1)<>\"\",OFFSET(DE104_9!$P$182,ROWS($P$182:P219)-1,COLUMNS($P$182:P219)-1),\"\")","v":""},{"$f":"IF(OFFSET(DE104_9!$Q$182,ROWS($Q$182:Q219)-1,COLUMNS($Q$182:Q219)-1)<>\"\",OFFSET(DE104_9!$Q$182,ROWS($Q$182:Q219)-1,COLUMNS($Q$182:Q219)-1),\"\")","v":""},{"$f":"IF(OFFSET(DE104_9!$R$182,ROWS($R$182:R219)-1,COLUMNS($R$182:R219)-1)<>\"\",OFFSET(DE104_9!$R$182,ROWS($R$182:R219)-1,COLUMNS($R$182:R219)-1),\"\")","v":""},{"$f":"IF(OFFSET(DE104_9!$S$182,ROWS($S$182:S219)-1,COLUMNS($S$182:S219)-1)<>\"\",OFFSET(DE104_9!$S$182,ROWS($S$182:S219)-1,COLUMNS($S$182:S219)-1),\"\")","v":""},{"$f":"IF(OFFSET(DE104_9!$T$182,ROWS($T$182:T219)-1,COLUMNS($T$182:T219)-1)<>\"\",OFFSET(DE104_9!$T$182,ROWS($T$182:T219)-1,COLUMNS($T$182:T219)-1),\"\")","v":""}]
[{"$f":"IF(OFFSET(DE104_9!$C$182,ROWS($C$182:C220)-1,COLUMNS($C$182:C220)-1)<>\"\",OFFSET(DE104_9!$C$182,ROWS($C$182:C220)-1,COLUMNS($C$182:C220)-1),\"\")","v":""},{"$f":"IF(OFFSET(DE104_9!$D$182,ROWS($D$182:D220)-1,COLUMNS($D$182:D220)-1)<>\"\",OFFSET(DE104_9!$D$182,ROWS($D$182:D220)-1,COLUMNS($D$182:D220)-1),\"\")","v":""},{"$f":"IF(OFFSET(DE104_9!$E$182,ROWS($E$182:E220)-1,COLUMNS($E$182:E220)-1)<>\"\",OFFSET(DE104_9!$E$182,ROWS($E$182:E220)-1,COLUMNS($E$182:E220)-1),\"\")","v":""},{"$f":"IF(OFFSET(DE104_9!$F$182,ROWS($F$182:F220)-1,COLUMNS($F$182:F220)-1)<>\"\",OFFSET(DE104_9!$F$182,ROWS($F$182:F220)-1,COLUMNS($F$182:F220)-1),\"\")","v":""},{"$f":"IF(OFFSET(DE104_9!$G$182,ROWS($G$182:G220)-1,COLUMNS($G$182:G220)-1)<>\"\",OFFSET(DE104_9!$G$182,ROWS($G$182:G220)-1,COLUMNS($G$182:G220)-1),\"\")","v":""},{"$f":"IF(OFFSET(DE104_9!$H$182,ROWS($H$182:H220)-1,COLUMNS($H$182:H220)-1)<>\"\",OFFSET(DE104_9!$H$182,ROWS($H$182:H220)-1,COLUMNS($H$182:H220)-1),\"\")","v":""},{"$f":"IF(OFFSET(DE104_9!$I$182,ROWS($I$182:I220)-1,COLUMNS($I$182:I220)-1)<>\"\",OFFSET(DE104_9!$I$182,ROWS($I$182:I220)-1,COLUMNS($I$182:I220)-1),\"\")","v":""},{"$f":"IF(OFFSET(DE104_9!$J$182,ROWS($J$182:J220)-1,COLUMNS($J$182:J220)-1)<>\"\",OFFSET(DE104_9!$J$182,ROWS($J$182:J220)-1,COLUMNS($J$182:J220)-1),\"\")","v":""},{"$f":"IF(OFFSET(DE104_9!$K$182,ROWS($K$182:K220)-1,COLUMNS($K$182:K220)-1)<>\"\",OFFSET(DE104_9!$K$182,ROWS($K$182:K220)-1,COLUMNS($K$182:K220)-1),\"\")","v":""},{"$f":"IF(OFFSET(DE104_9!$L$182,ROWS($L$182:L220)-1,COLUMNS($L$182:L220)-1)<>\"\",OFFSET(DE104_9!$L$182,ROWS($L$182:L220)-1,COLUMNS($L$182:L220)-1),\"\")","v":""},{"$f":"IF(OFFSET(DE104_9!$M$182,ROWS($M$182:M220)-1,COLUMNS($M$182:M220)-1)<>\"\",OFFSET(DE104_9!$M$182,ROWS($M$182:M220)-1,COLUMNS($M$182:M220)-1),\"\")","v":""},{"$f":"IF(OFFSET(DE104_9!$N$182,ROWS($N$182:N220)-1,COLUMNS($N$182:N220)-1)<>\"\",OFFSET(DE104_9!$N$182,ROWS($N$182:N220)-1,COLUMNS($N$182:N220)-1),\"\")","v":""},{"$f":"IF(OFFSET(DE104_9!$O$182,ROWS($O$182:O220)-1,COLUMNS($O$182:O220)-1)<>\"\",OFFSET(DE104_9!$O$182,ROWS($O$182:O220)-1,COLUMNS($O$182:O220)-1),\"\")","v":""},{"$f":"IF(OFFSET(DE104_9!$P$182,ROWS($P$182:P220)-1,COLUMNS($P$182:P220)-1)<>\"\",OFFSET(DE104_9!$P$182,ROWS($P$182:P220)-1,COLUMNS($P$182:P220)-1),\"\")","v":""},{"$f":"IF(OFFSET(DE104_9!$Q$182,ROWS($Q$182:Q220)-1,COLUMNS($Q$182:Q220)-1)<>\"\",OFFSET(DE104_9!$Q$182,ROWS($Q$182:Q220)-1,COLUMNS($Q$182:Q220)-1),\"\")","v":""},{"$f":"IF(OFFSET(DE104_9!$R$182,ROWS($R$182:R220)-1,COLUMNS($R$182:R220)-1)<>\"\",OFFSET(DE104_9!$R$182,ROWS($R$182:R220)-1,COLUMNS($R$182:R220)-1),\"\")","v":""},{"$f":"IF(OFFSET(DE104_9!$S$182,ROWS($S$182:S220)-1,COLUMNS($S$182:S220)-1)<>\"\",OFFSET(DE104_9!$S$182,ROWS($S$182:S220)-1,COLUMNS($S$182:S220)-1),\"\")","v":""},{"$f":"IF(OFFSET(DE104_9!$T$182,ROWS($T$182:T220)-1,COLUMNS($T$182:T220)-1)<>\"\",OFFSET(DE104_9!$T$182,ROWS($T$182:T220)-1,COLUMNS($T$182:T220)-1),\"\")","v":""}]
[{"$f":"IF(OFFSET(DE104_9!$C$182,ROWS($C$182:C221)-1,COLUMNS($C$182:C221)-1)<>\"\",OFFSET(DE104_9!$C$182,ROWS($C$182:C221)-1,COLUMNS($C$182:C221)-1),\"\")","v":""},{"$f":"IF(OFFSET(DE104_9!$D$182,ROWS($D$182:D221)-1,COLUMNS($D$182:D221)-1)<>\"\",OFFSET(DE104_9!$D$182,ROWS($D$182:D221)-1,COLUMNS($D$182:D221)-1),\"\")","v":""},{"$f":"IF(OFFSET(DE104_9!$E$182,ROWS($E$182:E221)-1,COLUMNS($E$182:E221)-1)<>\"\",OFFSET(DE104_9!$E$182,ROWS($E$182:E221)-1,COLUMNS($E$182:E221)-1),\"\")","v":""},{"$f":"IF(OFFSET(DE104_9!$F$182,ROWS($F$182:F221)-1,COLUMNS($F$182:F221)-1)<>\"\",OFFSET(DE104_9!$F$182,ROWS($F$182:F221)-1,COLUMNS($F$182:F221)-1),\"\")","v":""},{"$f":"IF(OFFSET(DE104_9!$G$182,ROWS($G$182:G221)-1,COLUMNS($G$182:G221)-1)<>\"\",OFFSET(DE104_9!$G$182,ROWS($G$182:G221)-1,COLUMNS($G$182:G221)-1),\"\")","v":""},{"$f":"IF(OFFSET(DE104_9!$H$182,ROWS($H$182:H221)-1,COLUMNS($H$182:H221)-1)<>\"\",OFFSET(DE104_9!$H$182,ROWS($H$182:H221)-1,COLUMNS($H$182:H221)-1),\"\")","v":""},{"$f":"IF(OFFSET(DE104_9!$I$182,ROWS($I$182:I221)-1,COLUMNS($I$182:I221)-1)<>\"\",OFFSET(DE104_9!$I$182,ROWS($I$182:I221)-1,COLUMNS($I$182:I221)-1),\"\")","v":""},{"$f":"IF(OFFSET(DE104_9!$J$182,ROWS($J$182:J221)-1,COLUMNS($J$182:J221)-1)<>\"\",OFFSET(DE104_9!$J$182,ROWS($J$182:J221)-1,COLUMNS($J$182:J221)-1),\"\")","v":""},{"$f":"IF(OFFSET(DE104_9!$K$182,ROWS($K$182:K221)-1,COLUMNS($K$182:K221)-1)<>\"\",OFFSET(DE104_9!$K$182,ROWS($K$182:K221)-1,COLUMNS($K$182:K221)-1),\"\")","v":""},{"$f":"IF(OFFSET(DE104_9!$L$182,ROWS($L$182:L221)-1,COLUMNS($L$182:L221)-1)<>\"\",OFFSET(DE104_9!$L$182,ROWS($L$182:L221)-1,COLUMNS($L$182:L221)-1),\"\")","v":""},{"$f":"IF(OFFSET(DE104_9!$M$182,ROWS($M$182:M221)-1,COLUMNS($M$182:M221)-1)<>\"\",OFFSET(DE104_9!$M$182,ROWS($M$182:M221)-1,COLUMNS($M$182:M221)-1),\"\")","v":""},{"$f":"IF(OFFSET(DE104_9!$N$182,ROWS($N$182:N221)-1,COLUMNS($N$182:N221)-1)<>\"\",OFFSET(DE104_9!$N$182,ROWS($N$182:N221)-1,COLUMNS($N$182:N221)-1),\"\")","v":""},{"$f":"IF(OFFSET(DE104_9!$O$182,ROWS($O$182:O221)-1,COLUMNS($O$182:O221)-1)<>\"\",OFFSET(DE104_9!$O$182,ROWS($O$182:O221)-1,COLUMNS($O$182:O221)-1),\"\")","v":""},{"$f":"IF(OFFSET(DE104_9!$P$182,ROWS($P$182:P221)-1,COLUMNS($P$182:P221)-1)<>\"\",OFFSET(DE104_9!$P$182,ROWS($P$182:P221)-1,COLUMNS($P$182:P221)-1),\"\")","v":""},{"$f":"IF(OFFSET(DE104_9!$Q$182,ROWS($Q$182:Q221)-1,COLUMNS($Q$182:Q221)-1)<>\"\",OFFSET(DE104_9!$Q$182,ROWS($Q$182:Q221)-1,COLUMNS($Q$182:Q221)-1),\"\")","v":""},{"$f":"IF(OFFSET(DE104_9!$R$182,ROWS($R$182:R221)-1,COLUMNS($R$182:R221)-1)<>\"\",OFFSET(DE104_9!$R$182,ROWS($R$182:R221)-1,COLUMNS($R$182:R221)-1),\"\")","v":""},{"$f":"IF(OFFSET(DE104_9!$S$182,ROWS($S$182:S221)-1,COLUMNS($S$182:S221)-1)<>\"\",OFFSET(DE104_9!$S$182,ROWS($S$182:S221)-1,COLUMNS($S$182:S221)-1),\"\")","v":""},{"$f":"IF(OFFSET(DE104_9!$T$182,ROWS($T$182:T221)-1,COLUMNS($T$182:T221)-1)<>\"\",OFFSET(DE104_9!$T$182,ROWS($T$182:T221)-1,COLUMNS($T$182:T221)-1),\"\")","v":""}]
[{"$f":"IF(OFFSET(DE104_9!$C$182,ROWS($C$182:C222)-1,COLUMNS($C$182:C222)-1)<>\"\",OFFSET(DE104_9!$C$182,ROWS($C$182:C222)-1,COLUMNS($C$182:C222)-1),\"\")","v":""},{"$f":"IF(OFFSET(DE104_9!$D$182,ROWS($D$182:D222)-1,COLUMNS($D$182:D222)-1)<>\"\",OFFSET(DE104_9!$D$182,ROWS($D$182:D222)-1,COLUMNS($D$182:D222)-1),\"\")","v":""},{"$f":"IF(OFFSET(DE104_9!$E$182,ROWS($E$182:E222)-1,COLUMNS($E$182:E222)-1)<>\"\",OFFSET(DE104_9!$E$182,ROWS($E$182:E222)-1,COLUMNS($E$182:E222)-1),\"\")","v":""},{"$f":"IF(OFFSET(DE104_9!$F$182,ROWS($F$182:F222)-1,COLUMNS($F$182:F222)-1)<>\"\",OFFSET(DE104_9!$F$182,ROWS($F$182:F222)-1,COLUMNS($F$182:F222)-1),\"\")","v":""},{"$f":"IF(OFFSET(DE104_9!$G$182,ROWS($G$182:G222)-1,COLUMNS($G$182:G222)-1)<>\"\",OFFSET(DE104_9!$G$182,ROWS($G$182:G222)-1,COLUMNS($G$182:G222)-1),\"\")","v":""},{"$f":"IF(OFFSET(DE104_9!$H$182,ROWS($H$182:H222)-1,COLUMNS($H$182:H222)-1)<>\"\",OFFSET(DE104_9!$H$182,ROWS($H$182:H222)-1,COLUMNS($H$182:H222)-1),\"\")","v":""},{"$f":"IF(OFFSET(DE104_9!$I$182,ROWS($I$182:I222)-1,COLUMNS($I$182:I222)-1)<>\"\",OFFSET(DE104_9!$I$182,ROWS($I$182:I222)-1,COLUMNS($I$182:I222)-1),\"\")","v":""},{"$f":"IF(OFFSET(DE104_9!$J$182,ROWS($J$182:J222)-1,COLUMNS($J$182:J222)-1)<>\"\",OFFSET(DE104_9!$J$182,ROWS($J$182:J222)-1,COLUMNS($J$182:J222)-1),\"\")","v":""},{"$f":"IF(OFFSET(DE104_9!$K$182,ROWS($K$182:K222)-1,COLUMNS($K$182:K222)-1)<>\"\",OFFSET(DE104_9!$K$182,ROWS($K$182:K222)-1,COLUMNS($K$182:K222)-1),\"\")","v":""},{"$f":"IF(OFFSET(DE104_9!$L$182,ROWS($L$182:L222)-1,COLUMNS($L$182:L222)-1)<>\"\",OFFSET(DE104_9!$L$182,ROWS($L$182:L222)-1,COLUMNS($L$182:L222)-1),\"\")","v":""},{"$f":"IF(OFFSET(DE104_9!$M$182,ROWS($M$182:M222)-1,COLUMNS($M$182:M222)-1)<>\"\",OFFSET(DE104_9!$M$182,ROWS($M$182:M222)-1,COLUMNS($M$182:M222)-1),\"\")","v":""},{"$f":"IF(OFFSET(DE104_9!$N$182,ROWS($N$182:N222)-1,COLUMNS($N$182:N222)-1)<>\"\",OFFSET(DE104_9!$N$182,ROWS($N$182:N222)-1,COLUMNS($N$182:N222)-1),\"\")","v":""},{"$f":"IF(OFFSET(DE104_9!$O$182,ROWS($O$182:O222)-1,COLUMNS($O$182:O222)-1)<>\"\",OFFSET(DE104_9!$O$182,ROWS($O$182:O222)-1,COLUMNS($O$182:O222)-1),\"\")","v":""},{"$f":"IF(OFFSET(DE104_9!$P$182,ROWS($P$182:P222)-1,COLUMNS($P$182:P222)-1)<>\"\",OFFSET(DE104_9!$P$182,ROWS($P$182:P222)-1,COLUMNS($P$182:P222)-1),\"\")","v":""},{"$f":"IF(OFFSET(DE104_9!$Q$182,ROWS($Q$182:Q222)-1,COLUMNS($Q$182:Q222)-1)<>\"\",OFFSET(DE104_9!$Q$182,ROWS($Q$182:Q222)-1,COLUMNS($Q$182:Q222)-1),\"\")","v":""},{"$f":"IF(OFFSET(DE104_9!$R$182,ROWS($R$182:R222)-1,COLUMNS($R$182:R222)-1)<>\"\",OFFSET(DE104_9!$R$182,ROWS($R$182:R222)-1,COLUMNS($R$182:R222)-1),\"\")","v":""},{"$f":"IF(OFFSET(DE104_9!$S$182,ROWS($S$182:S222)-1,COLUMNS($S$182:S222)-1)<>\"\",OFFSET(DE104_9!$S$182,ROWS($S$182:S222)-1,COLUMNS($S$182:S222)-1),\"\")","v":""},{"$f":"IF(OFFSET(DE104_9!$T$182,ROWS($T$182:T222)-1,COLUMNS($T$182:T222)-1)<>\"\",OFFSET(DE104_9!$T$182,ROWS($T$182:T222)-1,COLUMNS($T$182:T222)-1),\"\")","v":""}]
[{"$f":"IF(OFFSET(DE104_9!$C$182,ROWS($C$182:C223)-1,COLUMNS($C$182:C223)-1)<>\"\",OFFSET(DE104_9!$C$182,ROWS($C$182:C223)-1,COLUMNS($C$182:C223)-1),\"\")","v":""},{"$f":"IF(OFFSET(DE104_9!$D$182,ROWS($D$182:D223)-1,COLUMNS($D$182:D223)-1)<>\"\",OFFSET(DE104_9!$D$182,ROWS($D$182:D223)-1,COLUMNS($D$182:D223)-1),\"\")","v":""},{"$f":"IF(OFFSET(DE104_9!$E$182,ROWS($E$182:E223)-1,COLUMNS($E$182:E223)-1)<>\"\",OFFSET(DE104_9!$E$182,ROWS($E$182:E223)-1,COLUMNS($E$182:E223)-1),\"\")","v":""},{"$f":"IF(OFFSET(DE104_9!$F$182,ROWS($F$182:F223)-1,COLUMNS($F$182:F223)-1)<>\"\",OFFSET(DE104_9!$F$182,ROWS($F$182:F223)-1,COLUMNS($F$182:F223)-1),\"\")","v":""},{"$f":"IF(OFFSET(DE104_9!$G$182,ROWS($G$182:G223)-1,COLUMNS($G$182:G223)-1)<>\"\",OFFSET(DE104_9!$G$182,ROWS($G$182:G223)-1,COLUMNS($G$182:G223)-1),\"\")","v":""},{"$f":"IF(OFFSET(DE104_9!$H$182,ROWS($H$182:H223)-1,COLUMNS($H$182:H223)-1)<>\"\",OFFSET(DE104_9!$H$182,ROWS($H$182:H223)-1,COLUMNS($H$182:H223)-1),\"\")","v":""},{"$f":"IF(OFFSET(DE104_9!$I$182,ROWS($I$182:I223)-1,COLUMNS($I$182:I223)-1)<>\"\",OFFSET(DE104_9!$I$182,ROWS($I$182:I223)-1,COLUMNS($I$182:I223)-1),\"\")","v":""},{"$f":"IF(OFFSET(DE104_9!$J$182,ROWS($J$182:J223)-1,COLUMNS($J$182:J223)-1)<>\"\",OFFSET(DE104_9!$J$182,ROWS($J$182:J223)-1,COLUMNS($J$182:J223)-1),\"\")","v":""},{"$f":"IF(OFFSET(DE104_9!$K$182,ROWS($K$182:K223)-1,COLUMNS($K$182:K223)-1)<>\"\",OFFSET(DE104_9!$K$182,ROWS($K$182:K223)-1,COLUMNS($K$182:K223)-1),\"\")","v":""},{"$f":"IF(OFFSET(DE104_9!$L$182,ROWS($L$182:L223)-1,COLUMNS($L$182:L223)-1)<>\"\",OFFSET(DE104_9!$L$182,ROWS($L$182:L223)-1,COLUMNS($L$182:L223)-1),\"\")","v":""},{"$f":"IF(OFFSET(DE104_9!$M$182,ROWS($M$182:M223)-1,COLUMNS($M$182:M223)-1)<>\"\",OFFSET(DE104_9!$M$182,ROWS($M$182:M223)-1,COLUMNS($M$182:M223)-1),\"\")","v":""},{"$f":"IF(OFFSET(DE104_9!$N$182,ROWS($N$182:N223)-1,COLUMNS($N$182:N223)-1)<>\"\",OFFSET(DE104_9!$N$182,ROWS($N$182:N223)-1,COLUMNS($N$182:N223)-1),\"\")","v":""},{"$f":"IF(OFFSET(DE104_9!$O$182,ROWS($O$182:O223)-1,COLUMNS($O$182:O223)-1)<>\"\",OFFSET(DE104_9!$O$182,ROWS($O$182:O223)-1,COLUMNS($O$182:O223)-1),\"\")","v":""},{"$f":"IF(OFFSET(DE104_9!$P$182,ROWS($P$182:P223)-1,COLUMNS($P$182:P223)-1)<>\"\",OFFSET(DE104_9!$P$182,ROWS($P$182:P223)-1,COLUMNS($P$182:P223)-1),\"\")","v":""},{"$f":"IF(OFFSET(DE104_9!$Q$182,ROWS($Q$182:Q223)-1,COLUMNS($Q$182:Q223)-1)<>\"\",OFFSET(DE104_9!$Q$182,ROWS($Q$182:Q223)-1,COLUMNS($Q$182:Q223)-1),\"\")","v":""},{"$f":"IF(OFFSET(DE104_9!$R$182,ROWS($R$182:R223)-1,COLUMNS($R$182:R223)-1)<>\"\",OFFSET(DE104_9!$R$182,ROWS($R$182:R223)-1,COLUMNS($R$182:R223)-1),\"\")","v":""},{"$f":"IF(OFFSET(DE104_9!$S$182,ROWS($S$182:S223)-1,COLUMNS($S$182:S223)-1)<>\"\",OFFSET(DE104_9!$S$182,ROWS($S$182:S223)-1,COLUMNS($S$182:S223)-1),\"\")","v":""},{"$f":"IF(OFFSET(DE104_9!$T$182,ROWS($T$182:T223)-1,COLUMNS($T$182:T223)-1)<>\"\",OFFSET(DE104_9!$T$182,ROWS($T$182:T223)-1,COLUMNS($T$182:T223)-1),\"\")","v":""}]
[{"$f":"IF(OFFSET(DE104_9!$C$182,ROWS($C$182:C224)-1,COLUMNS($C$182:C224)-1)<>\"\",OFFSET(DE104_9!$C$182,ROWS($C$182:C224)-1,COLUMNS($C$182:C224)-1),\"\")","v":""},{"$f":"IF(OFFSET(DE104_9!$D$182,ROWS($D$182:D224)-1,COLUMNS($D$182:D224)-1)<>\"\",OFFSET(DE104_9!$D$182,ROWS($D$182:D224)-1,COLUMNS($D$182:D224)-1),\"\")","v":""},{"$f":"IF(OFFSET(DE104_9!$E$182,ROWS($E$182:E224)-1,COLUMNS($E$182:E224)-1)<>\"\",OFFSET(DE104_9!$E$182,ROWS($E$182:E224)-1,COLUMNS($E$182:E224)-1),\"\")","v":""},{"$f":"IF(OFFSET(DE104_9!$F$182,ROWS($F$182:F224)-1,COLUMNS($F$182:F224)-1)<>\"\",OFFSET(DE104_9!$F$182,ROWS($F$182:F224)-1,COLUMNS($F$182:F224)-1),\"\")","v":""},{"$f":"IF(OFFSET(DE104_9!$G$182,ROWS($G$182:G224)-1,COLUMNS($G$182:G224)-1)<>\"\",OFFSET(DE104_9!$G$182,ROWS($G$182:G224)-1,COLUMNS($G$182:G224)-1),\"\")","v":""},{"$f":"IF(OFFSET(DE104_9!$H$182,ROWS($H$182:H224)-1,COLUMNS($H$182:H224)-1)<>\"\",OFFSET(DE104_9!$H$182,ROWS($H$182:H224)-1,COLUMNS($H$182:H224)-1),\"\")","v":""},{"$f":"IF(OFFSET(DE104_9!$I$182,ROWS($I$182:I224)-1,COLUMNS($I$182:I224)-1)<>\"\",OFFSET(DE104_9!$I$182,ROWS($I$182:I224)-1,COLUMNS($I$182:I224)-1),\"\")","v":""},{"$f":"IF(OFFSET(DE104_9!$J$182,ROWS($J$182:J224)-1,COLUMNS($J$182:J224)-1)<>\"\",OFFSET(DE104_9!$J$182,ROWS($J$182:J224)-1,COLUMNS($J$182:J224)-1),\"\")","v":""},{"$f":"IF(OFFSET(DE104_9!$K$182,ROWS($K$182:K224)-1,COLUMNS($K$182:K224)-1)<>\"\",OFFSET(DE104_9!$K$182,ROWS($K$182:K224)-1,COLUMNS($K$182:K224)-1),\"\")","v":""},{"$f":"IF(OFFSET(DE104_9!$L$182,ROWS($L$182:L224)-1,COLUMNS($L$182:L224)-1)<>\"\",OFFSET(DE104_9!$L$182,ROWS($L$182:L224)-1,COLUMNS($L$182:L224)-1),\"\")","v":""},{"$f":"IF(OFFSET(DE104_9!$M$182,ROWS($M$182:M224)-1,COLUMNS($M$182:M224)-1)<>\"\",OFFSET(DE104_9!$M$182,ROWS($M$182:M224)-1,COLUMNS($M$182:M224)-1),\"\")","v":""},{"$f":"IF(OFFSET(DE104_9!$N$182,ROWS($N$182:N224)-1,COLUMNS($N$182:N224)-1)<>\"\",OFFSET(DE104_9!$N$182,ROWS($N$182:N224)-1,COLUMNS($N$182:N224)-1),\"\")","v":""},{"$f":"IF(OFFSET(DE104_9!$O$182,ROWS($O$182:O224)-1,COLUMNS($O$182:O224)-1)<>\"\",OFFSET(DE104_9!$O$182,ROWS($O$182:O224)-1,COLUMNS($O$182:O224)-1),\"\")","v":""},{"$f":"IF(OFFSET(DE104_9!$P$182,ROWS($P$182:P224)-1,COLUMNS($P$182:P224)-1)<>\"\",OFFSET(DE104_9!$P$182,ROWS($P$182:P224)-1,COLUMNS($P$182:P224)-1),\"\")","v":""},{"$f":"IF(OFFSET(DE104_9!$Q$182,ROWS($Q$182:Q224)-1,COLUMNS($Q$182:Q224)-1)<>\"\",OFFSET(DE104_9!$Q$182,ROWS($Q$182:Q224)-1,COLUMNS($Q$182:Q224)-1),\"\")","v":""},{"$f":"IF(OFFSET(DE104_9!$R$182,ROWS($R$182:R224)-1,COLUMNS($R$182:R224)-1)<>\"\",OFFSET(DE104_9!$R$182,ROWS($R$182:R224)-1,COLUMNS($R$182:R224)-1),\"\")","v":""},{"$f":"IF(OFFSET(DE104_9!$S$182,ROWS($S$182:S224)-1,COLUMNS($S$182:S224)-1)<>\"\",OFFSET(DE104_9!$S$182,ROWS($S$182:S224)-1,COLUMNS($S$182:S224)-1),\"\")","v":""},{"$f":"IF(OFFSET(DE104_9!$T$182,ROWS($T$182:T224)-1,COLUMNS($T$182:T224)-1)<>\"\",OFFSET(DE104_9!$T$182,ROWS($T$182:T224)-1,COLUMNS($T$182:T224)-1),\"\")","v":""}]

{"sheet":"107_31","index":18,"n_rows":25,"n_cols":4,"rows_kept":25,"cut":false,"hidden":false,"merged":[[0,0,0,3],[1,0,1,3],[2,0,3,3],[4,0,4,3],[5,0,7,1],[5,2,6,2],[5,3,7,3]]}
["107-31"]
["2011-04-19"]
["PLOWING AND SHAPING"]
[]
["Refer to Standard Road Plan EW-101"]
["Station to Station",null,"D","Remarks"]
[]
[null,null,"FT"]
[{"$f":"IF(OFFSET(DE107_31!$C$22,ROWS($C$22:C22)-1,COLUMNS($C$22:C22)-1)<>\"\",OFFSET(DE107_31!$C$22,ROWS($C$22:C22)-1,COLUMNS($C$22:C22)-1),\"\")","v":"1458+75"},{"$f":"IF(OFFSET(DE107_31!$D$22,ROWS($D$22:D22)-1,COLUMNS($D$22:D22)-1)<>\"\",OFFSET(DE107_31!$D$22,ROWS($D$22:D22)-1,COLUMNS($D$22:D22)-1),\"\")","v":"1466+00"},{"$f":"IF(OFFSET(DE107_31!$E$22,ROWS($E$22:E22)-1,COLUMNS($E$22:E22)-1)<>\"\",OFFSET(DE107_31!$E$22,ROWS($E$22:E22)-1,COLUMNS($E$22:E22)-1),\"\")","v":4.5},{"$f":"IF(OFFSET(DE107_31!$F$22,ROWS($F$22:F22)-1,COLUMNS($F$22:F22)-1)<>\"\",OFFSET(DE107_31!$F$22,ROWS($F$22:F22)-1,COLUMNS($F$22:F22)-1),\"\")","v":"Stage 1"}]
[{"$f":"IF(OFFSET(DE107_31!$C$22,ROWS($C$22:C23)-1,COLUMNS($C$22:C23)-1)<>\"\",OFFSET(DE107_31!$C$22,ROWS($C$22:C23)-1,COLUMNS($C$22:C23)-1),\"\")","v":"1490+00"},{"$f":"IF(OFFSET(DE107_31!$D$22,ROWS($D$22:D23)-1,COLUMNS($D$22:D23)-1)<>\"\",OFFSET(DE107_31!$D$22,ROWS($D$22:D23)-1,COLUMNS($D$22:D23)-1),\"\")","v":"1491+25"},{"$f":"IF(OFFSET(DE107_31!$E$22,ROWS($E$22:E23)-1,COLUMNS($E$22:E23)-1)<>\"\",OFFSET(DE107_31!$E$22,ROWS($E$22:E23)-1,COLUMNS($E$22:E23)-1),\"\")","v":4.5},{"$f":"IF(OFFSET(DE107_31!$F$22,ROWS($F$22:F23)-1,COLUMNS($F$22:F23)-1)<>\"\",OFFSET(DE107_31!$F$22,ROWS($F$22:F23)-1,COLUMNS($F$22:F23)-1),\"\")","v":"Stage 1"}]
[{"$f":"IF(OFFSET(DE107_31!$C$22,ROWS($C$22:C24)-1,COLUMNS($C$22:C24)-1)<>\"\",OFFSET(DE107_31!$C$22,ROWS($C$22:C24)-1,COLUMNS($C$22:C24)-1),\"\")","v":"1492+50"},{"$f":"IF(OFFSET(DE107_31!$D$22,ROWS($D$22:D24)-1,COLUMNS($D$22:D24)-1)<>\"\",OFFSET(DE107_31!$D$22,ROWS($D$22:D24)-1,COLUMNS($D$22:D24)-1),\"\")","v":"1507+00"},{"$f":"IF(OFFSET(DE107_31!$E$22,ROWS($E$22:E24)-1,COLUMNS($E$22:E24)-1)<>\"\",OFFSET(DE107_31!$E$22,ROWS($E$22:E24)-1,COLUMNS($E$22:E24)-1),\"\")","v":4.5},{"$f":"IF(OFFSET(DE107_31!$F$22,ROWS($F$22:F24)-1,COLUMNS($F$22:F24)-1)<>\"\",OFFSET(DE107_31!$F$22,ROWS($F$22:F24)-1,COLUMNS($F$22:F24)-1),\"\")","v":"Stage 1"}]
[{"$f":"IF(OFFSET(DE107_31!$C$22,ROWS($C$22:C25)-1,COLUMNS($C$22:C25)-1)<>\"\",OFFSET(DE107_31!$C$22,ROWS($C$22:C25)-1,COLUMNS($C$22:C25)-1),\"\")","v":"1395+50"},{"$f":"IF(OFFSET(DE107_31!$D$22,ROWS($D$22:D25)-1,COLUMNS($D$22:D25)-1)<>\"\",OFFSET(DE107_31!$D$22,ROWS($D$22:D25)-1,COLUMNS($D$22:D25)-1),\"\")","v":"1397+00"},{"$f":"IF(OFFSET(DE107_31!$E$22,ROWS($E$22:E25)-1,COLUMNS($E$22:E25)-1)<>\"\",OFFSET(DE107_31!$E$22,ROWS($E$22:E25)-1,COLUMNS($E$22:E25)-1),\"\")","v":5},{"$f":"IF(OFFSET(DE107_31!$F$22,ROWS($F$22:F25)-1,COLUMNS($F$22:F25)-1)<>\"\",OFFSET(DE107_31!$F$22,ROWS($F$22:F25)-1,COLUMNS($F$22:F25)-1),\"\")","v":"Stage 2"}]
[{"$f":"IF(OFFSET(DE107_31!$C$22,ROWS($C$22:C26)-1,COLUMNS($C$22:C26)-1)<>\"\",OFFSET(DE107_31!$C$22,ROWS($C$22:C26)-1,COLUMNS($C$22:C26)-1),\"\")","v":"1413+75"},{"$f":"IF(OFFSET(DE107_31!$D$22,ROWS($D$22:D26)-1,COLUMNS($D$22:D26)-1)<>\"\",OFFSET(DE107_31!$D$22,ROWS($D$22:D26)-1,COLUMNS($D$22:D26)-1),\"\")","v":"1418+75"},{"$f":"IF(OFFSET(DE107_31!$E$22,ROWS($E$22:E26)-1,COLUMNS($E$22:E26)-1)<>\"\",OFFSET(DE107_31!$E$22,ROWS($E$22:E26)-1,COLUMNS($E$22:E26)-1),\"\")","v":5},{"$f":"IF(OFFSET(DE107_31!$F$22,ROWS($F$22:F26)-1,COLUMNS($F$22:F26)-1)<>\"\",OFFSET(DE107_31!$F$22,ROWS($F$22:F26)-1,COLUMNS($F$22:F26)-1),\"\")","v":"Stage 2"}]
[{"$f":"IF(OFFSET(DE107_31!$C$22,ROWS($C$22:C27)-1,COLUMNS($C$22:C27)-1)<>\"\",OFFSET(DE107_31!$C$22,ROWS($C$22:C27)-1,COLUMNS($C$22:C27)-1),\"\")","v":"1433+50"},{"$f":"IF(OFFSET(DE107_31!$D$22,ROWS($D$22:D27)-1,COLUMNS($D$22:D27)-1)<>\"\",OFFSET(DE107_31!$D$22,ROWS($D$22:D27)-1,COLUMNS($D$22:D27)-1),\"\")","v":"1438+25"},{"$f":"IF(OFFSET(DE107_31!$E$22,ROWS($E$22:E27)-1,COLUMNS($E$22:E27)-1)<>\"\",OFFSET(DE107_31!$E$22,ROWS($E$22:E27)-1,COLUMNS($E$22:E27)-1),\"\")","v":5},{"$f":"IF(OFFSET(DE107_31!$F$22,ROWS($F$22:F27)-1,COLUMNS($F$22:F27)-1)<>\"\",OFFSET(DE107_31!$F$22,ROWS($F$22:F27)-1,COLUMNS($F$22:F27)-1),\"\")","v":"Stage 2"}]
[{"$f":"IF(OFFSET(DE107_31!$C$22,ROWS($C$22:C28)-1,COLUMNS($C$22:C28)-1)<>\"\",OFFSET(DE107_31!$C$22,ROWS($C$22:C28)-1,COLUMNS($C$22:C28)-1),\"\")","v":"1438+50"},{"$f":"IF(OFFSET(DE107_31!$D$22,ROWS($D$22:D28)-1,COLUMNS($D$22:D28)-1)<>\"\",OFFSET(DE107_31!$D$22,ROWS($D$22:D28)-1,COLUMNS($D$22:D28)-1),\"\")","v":"1440+50"},{"$f":"IF(OFFSET(DE107_31!$E$22,ROWS($E$22:E28)-1,COLUMNS($E$22:E28)-1)<>\"\",OFFSET(DE107_31!$E$22,ROWS($E$22:E28)-1,COLUMNS($E$22:E28)-1),\"\")","v":3.5},{"$f":"IF(OFFSET(DE107_31!$F$22,ROWS($F$22:F28)-1,COLUMNS($F$22:F28)-1)<>\"\",OFFSET(DE107_31!$F$22,ROWS($F$22:F28)-1,COLUMNS($F$22:F28)-1),\"\")","v":"Stage 2"}]
[{"$f":"IF(OFFSET(DE107_31!$C$22,ROWS($C$22:C29)-1,COLUMNS($C$22:C29)-1)<>\"\",OFFSET(DE107_31!$C$22,ROWS($C$22:C29)-1,COLUMNS($C$22:C29)-1),\"\")","v":"1448+25"},{"$f":"IF(OFFSET(DE107_31!$D$22,ROWS($D$22:D29)-1,COLUMNS($D$22:D29)-1)<>\"\",OFFSET(DE107_31!$D$22,ROWS($D$22:D29)-1,COLUMNS($D$22:D29)-1),\"\")","v":"1457+75"},{"$f":"IF(OFFSET(DE107_31!$E$22,ROWS($E$22:E29)-1,COLUMNS($E$22:E29)-1)<>\"\",OFFSET(DE107_31!$E$22,ROWS($E$22:E29)-1,COLUMNS($E$22:E29)-1),\"\")","v":5},{"$f":"IF(OFFSET(DE107_31!$F$22,ROWS($F$22:F29)-1,COLUMNS($F$22:F29)-1)<>\"\",OFFSET(DE107_31!$F$22,ROWS($F$22:F29)-1,COLUMNS($F$22:F29)-1),\"\")","v":"Stage 2"}]
[{"$f":"IF(OFFSET(DE107_31!$C$22,ROWS($C$22:C30)-1,COLUMNS($C$22:C30)-1)<>\"\",OFFSET(DE107_31!$C$22,ROWS($C$22:C30)-1,COLUMNS($C$22:C30)-1),\"\")","v":"1458+00"},{"$f":"IF(OFFSET(DE107_31!$D$22,ROWS($D$22:D30)-1,COLUMNS($D$22:D30)-1)<>\"\",OFFSET(DE107_31!$D$22,ROWS($D$22:D30)-1,COLUMNS($D$22:D30)-1),\"\")","v":"1459+50"},{"$f":"IF(OFFSET(DE107_31!$E$22,ROWS($E$22:E30)-1,COLUMNS($E$22:E30)-1)<>\"\",OFFSET(DE107_31!$E$22,ROWS($E$22:E30)-1,COLUMNS($E$22:E30)-1),\"\")","v":3.5},{"$f":"IF(OFFSET(DE107_31!$F$22,ROWS($F$22:F30)-1,COLUMNS($F$22:F30)-1)<>\"\",OFFSET(DE107_31!$F$22,ROWS($F$22:F30)-1,COLUMNS($F$22:F30)-1),\"\")","v":"Stage 2"}]
[{"$f":"IF(OFFSET(DE107_31!$C$22,ROWS($C$22:C31)-1,COLUMNS($C$22:C31)-1)<>\"\",OFFSET(DE107_31!$C$22,ROWS($C$22:C31)-1,COLUMNS($C$22:C31)-1),\"\")","v":"1486+25"},{"$f":"IF(OFFSET(DE107_31!$D$22,ROWS($D$22:D31)-1,COLUMNS($D$22:D31)-1)<>\"\",OFFSET(DE107_31!$D$22,ROWS($D$22:D31)-1,COLUMNS($D$22:D31)-1),\"\")","v":"1493+50"},{"$f":"IF(OFFSET(DE107_31!$E$22,ROWS($E$22:E31)-1,COLUMNS($E$22:E31)-1)<>\"\",OFFSET(DE107_31!$E$22,ROWS($E$22:E31)-1,COLUMNS($E$22:E31)-1),\"\")","v":3.5},{"$f":"IF(OFFSET(DE107_31!$F$22,ROWS($F$22:F31)-1,COLUMNS($F$22:F31)-1)<>\"\",OFFSET(DE107_31!$F$22,ROWS($F$22:F31)-1,COLUMNS($F$22:F31)-1),\"\")","v":"Stage 2"}]
[{"$f":"IF(OFFSET(DE107_31!$C$22,ROWS($C$22:C32)-1,COLUMNS($C$22:C32)-1)<>\"\",OFFSET(DE107_31!$C$22,ROWS($C$22:C32)-1,COLUMNS($C$22:C32)-1),\"\")","v":"1498+50"},{"$f":"IF(OFFSET(DE107_31!$D$22,ROWS($D$22:D32)-1,COLUMNS($D$22:D32)-1)<>\"\",OFFSET(DE107_31!$D$22,ROWS($D$22:D32)-1,COLUMNS($D$22:D32)-1),\"\")","v":"1506+00"},{"$f":"IF(OFFSET(DE107_31!$E$22,ROWS($E$22:E32)-1,COLUMNS($E$22:E32)-1)<>\"\",OFFSET(DE107_31!$E$22,ROWS($E$22:E32)-1,COLUMNS($E$22:E32)-1),\"\")","v":5},{"$f":"IF(OFFSET(DE107_31!$F$22,ROWS($F$22:F32)-1,COLUMNS($F$22:F32)-1)<>\"\",OFFSET(DE107_31!$F$22,ROWS($F$22:F32)-1,COLUMNS($F$22:F32)-1),\"\")","v":"Stage 2"}]
[{"$f":"IF(OFFSET(DE107_31!$C$22,ROWS($C$22:C33)-1,COLUMNS($C$22:C33)-1)<>\"\",OFFSET(DE107_31!$C$22,ROWS($C$22:C33)-1,COLUMNS($C$22:C33)-1),\"\")","v":""},{"$f":"IF(OFFSET(DE107_31!$D$22,ROWS($D$22:D33)-1,COLUMNS($D$22:D33)-1)<>\"\",OFFSET(DE107_31!$D$22,ROWS($D$22:D33)-1,COLUMNS($D$22:D33)-1),\"\")","v":""},{"$f":"IF(OFFSET(DE107_31!$E$22,ROWS($E$22:E33)-1,COLUMNS($E$22:E33)-1)<>\"\",OFFSET(DE107_31!$E$22,ROWS($E$22:E33)-1,COLUMNS($E$22:E33)-1),\"\")","v":""},{"$f":"IF(OFFSET(DE107_31!$F$22,ROWS($F$22:F33)-1,COLUMNS($F$22:F33)-1)<>\"\",OFFSET(DE107_31!$F$22,ROWS($F$22:F33)-1,COLUMNS($F$22:F33)-1),\"\")","v":""}]
[{"$f":"IF(OFFSET(DE107_31!$C$22,ROWS($C$22:C34)-1,COLUMNS($C$22:C34)-1)<>\"\",OFFSET(DE107_31!$C$22,ROWS($C$22:C34)-1,COLUMNS($C$22:C34)-1),\"\")","v":""},{"$f":"IF(OFFSET(DE107_31!$D$22,ROWS($D$22:D34)-1,COLUMNS($D$22:D34)-1)<>\"\",OFFSET(DE107_31!$D$22,ROWS($D$22:D34)-1,COLUMNS($D$22:D34)-1),\"\")","v":""},{"$f":"IF(OFFSET(DE107_31!$E$22,ROWS($E$22:E34)-1,COLUMNS($E$22:E34)-1)<>\"\",OFFSET(DE107_31!$E$22,ROWS($E$22:E34)-1,COLUMNS($E$22:E34)-1),\"\")","v":""},{"$f":"IF(OFFSET(DE107_31!$F$22,ROWS($F$22:F34)-1,COLUMNS($F$22:F34)-1)<>\"\",OFFSET(DE107_31!$F$22,ROWS($F$22:F34)-1,COLUMNS($F$22:F34)-1),\"\")","v":""}]
[{"$f":"IF(OFFSET(DE107_31!$C$22,ROWS($C$22:C35)-1,COLUMNS($C$22:C35)-1)<>\"\",OFFSET(DE107_31!$C$22,ROWS($C$22:C35)-1,COLUMNS($C$22:C35)-1),\"\")","v":""},{"$f":"IF(OFFSET(DE107_31!$D$22,ROWS($D$22:D35)-1,COLUMNS($D$22:D35)-1)<>\"\",OFFSET(DE107_31!$D$22,ROWS($D$22:D35)-1,COLUMNS($D$22:D35)-1),\"\")","v":""},{"$f":"IF(OFFSET(DE107_31!$E$22,ROWS($E$22:E35)-1,COLUMNS($E$22:E35)-1)<>\"\",OFFSET(DE107_31!$E$22,ROWS($E$22:E35)-1,COLUMNS($E$22:E35)-1),\"\")","v":""},{"$f":"IF(OFFSET(DE107_31!$F$22,ROWS($F$22:F35)-1,COLUMNS($F$22:F35)-1)<>\"\",OFFSET(DE107_31!$F$22,ROWS($F$22:F35)-1,COLUMNS($F$22:F35)-1),\"\")","v":""}]
[{"$f":"IF(OFFSET(DE107_31!$C$22,ROWS($C$22:C36)-1,COLUMNS($C$22:C36)-1)<>\"\",OFFSET(DE107_31!$C$22,ROWS($C$22:C36)-1,COLUMNS($C$22:C36)-1),\"\")","v":""},{"$f":"IF(OFFSET(DE107_31!$D$22,ROWS($D$22:D36)-1,COLUMNS($D$22:D36)-1)<>\"\",OFFSET(DE107_31!$D$22,ROWS($D$22:D36)-1,COLUMNS($D$22:D36)-1),\"\")","v":""},{"$f":"IF(OFFSET(DE107_31!$E$22,ROWS($E$22:E36)-1,COLUMNS($E$22:E36)-1)<>\"\",OFFSET(DE107_31!$E$22,ROWS($E$22:E36)-1,COLUMNS($E$22:E36)-1),\"\")","v":""},{"$f":"IF(OFFSET(DE107_31!$F$22,ROWS($F$22:F36)-1,COLUMNS($F$22:F36)-1)<>\"\",OFFSET(DE107_31!$F$22,ROWS($F$22:F36)-1,COLUMNS($F$22:F36)-1),\"\")","v":""}]
[{"$f":"IF(OFFSET(DE107_31!$C$22,ROWS($C$22:C37)-1,COLUMNS($C$22:C37)-1)<>\"\",OFFSET(DE107_31!$C$22,ROWS($C$22:C37)-1,COLUMNS($C$22:C37)-1),\"\")","v":""},{"$f":"IF(OFFSET(DE107_31!$D$22,ROWS($D$22:D37)-1,COLUMNS($D$22:D37)-1)<>\"\",OFFSET(DE107_31!$D$22,ROWS($D$22:D37)-1,COLUMNS($D$22:D37)-1),\"\")","v":""},{"$f":"IF(OFFSET(DE107_31!$E$22,ROWS($E$22:E37)-1,COLUMNS($E$22:E37)-1)<>\"\",OFFSET(DE107_31!$E$22,ROWS($E$22:E37)-1,COLUMNS($E$22:E37)-1),\"\")","v":""},{"$f":"IF(OFFSET(DE107_31!$F$22,ROWS($F$22:F37)-1,COLUMNS($F$22:F37)-1)<>\"\",OFFSET(DE107_31!$F$22,ROWS($F$22:F37)-1,COLUMNS($F$22:F37)-1),\"\")","v":""}]
[{"$f":"IF(OFFSET(DE107_31!$C$22,ROWS($C$22:C38)-1,COLUMNS($C$22:C38)-1)<>\"\",OFFSET(DE107_31!$C$22,ROWS($C$22:C38)-1,COLUMNS($C$22:C38)-1),\"\")","v":""},{"$f":"IF(OFFSET(DE107_31!$D$22,ROWS($D$22:D38)-1,COLUMNS($D$22:D38)-1)<>\"\",OFFSET(DE107_31!$D$22,ROWS($D$22:D38)-1,COLUMNS($D$22:D38)-1),\"\")","v":""},{"$f":"IF(OFFSET(DE107_31!$E$22,ROWS($E$22:E38)-1,COLUMNS($E$22:E38)-1)<>\"\",OFFSET(DE107_31!$E$22,ROWS($E$22:E38)-1,COLUMNS($E$22:E38)-1),\"\")","v":""},{"$f":"IF(OFFSET(DE107_31!$F$22,ROWS($F$22:F38)-1,COLUMNS($F$22:F38)-1)<>\"\",OFFSET(DE107_31!$F$22,ROWS($F$22:F38)-1,COLUMNS($F$22:F38)-1),\"\")","v":""}]

{"sheet":"Index","index":19,"n_rows":184,"n_cols":15,"rows_kept":184,"cut":false,"hidden":true,"merged":[]}
["100-0A","1997-10-28","4.5.5","ADAIR",null,"Live English File Path","Z:\\IADOTE\\v8i\\RoadDesignDetails\\ExcelTabs\\",null,"Brian R. Smith","bsmith2","Methods","ROADWAY DESIGN",null,"103_7(1)","='103_7'!$A$1:$C$15"]
["100-1A","1997-07-15","10/01/15","ADAMS",null,"Live Metric File Path","W:\\Highway\\Design\\RoadDesignDetails\\ExcelTabs\\MetricTabs\\",null,"Khyle B. Clute","kclute","Methods","ROADWAY DESIGN",null,"107_31(1)","="]
["100-1C","2012-04-17","C","ALLAMAKEE",null,"Index File Path","Z:\\IADOTE\\v8i\\RoadDesignDetails\\Indexes\\",null,"Thomas M. Hamski","thamski","Methods","ROADWAY DESIGN",null,"103_10(1)","='103_10'!$A$1:$G$20"]
["100-1D","2005-10-18",null,"APPANOOSE",null,"Index File Name","TNT_EnglishIndexes.xlsx",null,"Wesley L. Mayberry","wmayber","Methods","ROADWAY DESIGN",null,"104_9(1)","='104_9'!$A$1:$R$90"]
["100-4A","2002-10-29",null,"AUDUBON",null,"Last Revision English File Path","Z:\\IADOTE\\v8i\\RoadDesignDetails\\Old_Details\\ExcelTabs\\",null,"John M. Narigon","jnarigo","Methods","ROADWAY DESIGN",null,"104_9(2)","='104_9'!$A$91:$R$180"]
["100-7","2012-10-16",null,"BENTON",null,"Last Revision Metric File Path","W:\\Highway\\Design\\RoadDesignDetails\\Old_Details\\ExcelTabs\\MetricTabs\\",null,"Christopher Poole","cpoole","Methods","ROADWAY DESIGN",null,"104_9(3)","='104_9'!$A$181:$R$235"]
["100-10","2014-10-21",null,"BLACK HAWK",null,"Seed Path","W:\\Highway\\Design\\CADD\\SpreadSheets\\ExcelTabulations.xltm",null,"Daniel J. Harness","dharnes","Methods","ROADWAY DESIGN",null,"103_6(1)","='103_6'!$A$1:$A$8"]
["100-11","2017-04-18",null,"BOONE",null,"VersionCheck Path","W:\\Highway\\Design\\CADD\\SpreadSheets\\ExcelTabulations.xlsm",null,"Jason M. Holst","jholst","Road2","ROADWAY DESIGN",null,"103_5(1)","='103_5'!$A$1:$D$24"]
["100-12A","2008-08-01",null,"BREMER",null,"Standard Road Plan Path","Z:\\IADOTE\\v8i\\RoadDesignDetails\\Indexes\\SRP_EnglishIndex.xls",null,"Jason R. Strum","jstrum","Road1","ROADWAY DESIGN",null,"104_5C(1)","='104_5C'!$A$1:$T$35"]
["100-13","2013-10-15",null,"BUCHANAN",null,"Last Revision Standard Road Plan Path","Z:\\IADOTE\\v8i\\RoadDesignDetails\\Indexes\\Old_Indexes\\SRP_EnglishIndex.xls",null,"Robert A. Schoenrock","rschoen","Road1","ROADWAY DESIGN"]
["100-14","2016-10-18",null,"BUENA VISTA",null,"AddIn Path","Z:\\IADOTE\\v8i\\HDR\\seed_files\\SpreadSheets\\ExcelTabulations.xlam",null,"Stacy M. Ryan","sryan","Road1","ROADWAY DESIGN"]
["100-15","2013-10-15",null,"BUTLER",null,"Old Files Path","Z:\\IADOTE\\v8i\\RoadDesignDetails\\Old_Details\\ExcelTabs\\",null,"Nathan A. Thede","nthede","Road1","ROADWAY DESIGN"]
["100-16","2010-10-19",null,"CALHOUN",null,null,null,null,"Yanxiao Jia","yjia","Road2","ROADWAY DESIGN"]
["100-17","2010-04-20",null,"CARROLL",null,null,null,null,"Ryan R. Miller","rmille3","Road2","ROADWAY DESIGN"]
["100-18","2016-10-18",null,"CASS",null,null,null,null,"Dustin T. Skogerboe","dskoge2","Road2","ROADWAY DESIGN"]
["100-19","2016-04-19",null,"CEDAR",null,null,null,null,"Dung T. Ta","dta","Road2","ROADWAY DESIGN"]
["100-20","2008-08-01",null,"CERRO GORDO",null,null,null,null,"Allison L. P. Smyth","asmyth","Road2","ROADWAY DESIGN"]
["100-21","2008-08-01",null,"CHEROKEE",null,null,null,null,"Paul W. Flattery","pflatte","Road3","ROADWAY DESIGN"]
["100-22","2015-04-21",null,"CHICKASAW",null,null,null,null,"Kelly C. Bell","kbell","Road3","ROADWAY DESIGN"]
["100-23","2015-04-21",null,"CLARKE",null,null,null,null,"Angela K. Johnson","ajohns1","Road3","ROADWAY DESIGN"]
["100-24","2015-04-21",null,"CLAY",null,null,null,null,"Elijah D. Gansen","egansen","Road3","ROADWAY DESIGN"]
["100-25","2015-04-21",null,"CLAYTON",null,null,null,null,"James R. Schoenrock","jschoen","Consultant","ROADWAY DESIGN"]
["100-26","2013-10-15",null,"CLINTON",null,null,null,null,"Randall E. Schlei","rschlie","Consultant","ROADWAY DESIGN"]
["100-27","2009-10-20",null,"CRAWFORD",null,null,null,null,"Mark D. Mastellar","mmastel","Roadside","ROADWAY DESIGN"]
["100-28","2010-10-19",null,"DALLAS",null,null,null,null,"Robert L. Stanley","rstanle","Soils","GEOTECHNICAL DESIGN"]
["100-32","2016-10-18",null,"DAVIS",null,null,null,null,"Stephen J. Megivern","smegive","Soils","GEOTECHNICAL DESIGN"]
["100-33","2016-10-18",null,"DECATUR",null,null,null,null,"Mark A. Dell","mdell","Soils","GEOTECHNICAL DESIGN"]
["100-34","2016-04-19",null,"DELAWARE",null,null,null,null,"David R. Claman","dclaman","Bridge","HYDRAULIC DESIGN"]
["100-35","2016-04-19",null,"DES MOINES",null,null,null,null,"Zachary K. Abrams","zabrams","TrafficAndSafety","ROADWAY DESIGN"]
["100-36","2017-04-18",null,"DICKINSON"]
["100-37","2017-04-18",null,"DUBUQUE"]
["101-4","2002-04-30",null,"EMMET"]
["101-5","2002-04-30",null,"FAYETTE"]
["101-6","2002-04-30",null,"FLOYD"]
["101-7","2002-04-30",null,"FRANKLIN"]
["101-8","2014-10-21",null,"FREMONT"]
["101-10","2015-04-21",null,"GREENE"]
["101-16","2009-10-20",null,"GRUNDY"]
["101-17","2011-04-19",null,"GUTHRIE"]
["101-18","2011-04-19",null,"HAMILTON"]
["102-3","2013-10-15",null,"HANCOCK"]
["102-4","2011-10-18",null,"HARDIN"]
["102-5","2017-04-18",null,"HARRISON"]
["102-5A","2015-10-20",null,"HENRY"]
["102-6C","2017-04-18",null,"HOWARD"]
["102-10","2017-04-18",null,"HUMBOLDT"]
["102-11","2017-04-18",null,"IDA"]
["102-12","2017-04-18",null,"IOWA"]
["102-14","2017-04-18",null,"JACKSON"]
["103-1","2010-10-19",null,"JASPER"]
["103-3","2012-10-16",null,"JEFFERSON"]
["103-4","--",null,"JOHNSON"]
["103-5","2013-10-15",null,"JONES"]
["103-6","2011-04-19",null,"KEOKUK"]
["103-7","2008-08-01",null,"KOSSUTH"]
["103-10","2017-04-18",null,"LEE"]
["103-11","2016-10-18",null,"LINN"]
["104-3","2015-04-21",null,"LOUISA"]
["104-4","2009-10-20",null,"LUCAS"]
["104-5A","2013-10-15",null,"LYON"]
["104-5B","2015-10-20",null,"MADISON"]
["104-5C","2015-04-21",null,"MAHASKA"]
["104-6","2016-04-19",null,"MARION"]
["104-8","2015-04-21",null,"MARSHALL"]
["104-8A","2017-04-18",null,"MILLS"]
["104-9","2015-04-21",null,"MITCHELL"]
["104-10","2008-08-01",null,"MONONA"]
["104-11","2008-08-01",null,"MONROE"]
["104-12","2015-04-21",null,"MONTGOMERY"]
["104-13","2017-04-18",null,"MUSCATINE"]
["105-1","1994-09-27",null,"O'BRIEN"]
["105-3","2005-10-18",null,"OSCEOLA"]
["105-4","2011-10-18",null,"PAGE"]
["106-1","2017-04-18",null,"PALO ALTO"]
["106-2","2017-04-18",null,"PLYMOUTH"]
["107-7","2008-08-01",null,"POCAHONTAS"]
["107-22","2013-04-16",null,"POLK"]
["107-23","2011-10-18",null,"POTTAWATTAMIE"]
["107-24","2013-10-15",null,"POWESHIEK"]
["107-25","2008-08-01",null,"RINGGOLD"]
["107-28","2015-04-21",null,"SAC"]
["107-29","2014-04-15",null,"SCOTT"]
["107-30","2014-04-15",null,"SHELBY"]
["107-31","2011-04-19",null,"SIOUX"]
["108-1","2014-10-21",null,"STORY"]
["108-2","2008-08-01",null,"TAMA"]
["108-2A","2008-08-01",null,"TAYLOR"]
["108-8A","2016-10-18",null,"UNION"]
["108-8B","2016-04-19",null,"VAN BUREN"]
["108-8C","2016-04-19",null,"WAPELLO"]
["108-8D","2016-04-19",null,"WARREN"]
["108-9A","2010-04-20",null,"WASHINGTON"]
["108-11A","2008-08-01",null,"WAYNE"]
["108-12","2014-10-21",null,"WEBSTER"]
["108-13A","2008-08-01",null,"WINNEBAGO"]
["108-15","2008-08-01",null,"WINNESHIEK"]
["108-16","2010-10-19",null,"WOODBURY"]
["108-18","2014-10-21",null,"WORTH"]
["108-18B","2012-10-16",null,"WRIGHT"]
["108-20","2014-04-15"]
["108-22","2013-04-16"]
["108-23A","2008-08-01"]
["108-23B","2015-04-21"]
["108-24","2015-04-21"]
["108-25","2014-10-21"]
["108-26A","2008-08-01"]
["108-27","2012-10-16"]
["108-28","2008-08-01"]
["108-29","2015-04-21"]
["108-30","2013-04-16"]
["108-33","2016-04-19"]
["108-34","2010-10-19"]
["108-35","2012-04-17"]
["110-1","2013-04-16"]
["110-2","2013-04-16"]
["110-3","2008-08-01"]
["110-4","2008-08-01"]
["110-5","2015-10-20"]
["110-6","2008-08-01"]
["110-7A","2012-04-17"]
["110-7B","2010-10-19"]
["110-8","2008-08-01"]
["110-9","2011-10-18"]
["110-10","2008-08-01"]
["110-11","2008-08-01"]
["110-12A","2016-10-18"]
["110-13","2010-04-20"]
["110-14","2013-04-16"]
["110-15","2013-04-16"]
["110-16","2013-04-16"]
["110-17","2017-04-18"]
["111-1","2012-04-17"]
["111-2","1989-02-28"]
["111-23","2002-10-29"]
["111-25","2011-10-18"]
["112-3","2013-04-16"]
["112-4","2014-10-21"]
["112-5","2015-10-20"]
["112-6","2017-04-18"]
["112-7","2010-10-19"]
["112-8","2014-04-15"]
["112-9","2013-10-15"]
["112-10","2011-04-19"]
["113-1","2013-04-16"]
["113-2","2013-04-16"]
["113-3","2011-10-18"]
["113-10","2017-04-18"]
["190-01","2013-10-15"]
["190-10","2013-10-15"]
["190-11","2013-10-15"]
["190-25","2014-10-21"]
["190-50","2013-10-15"]
["190-51","2013-10-15"]
["190-52","2017-04-18"]
["190-54","2017-04-18"]
["190-61","2013-10-15"]
["190-62","2013-10-15"]
["190-65","2013-10-15"]
["190-66","2014-10-21"]
["192-01","2017-04-18"]
["231-1","2011-10-18"]
["231-2","2012-10-16"]
["232-3A","2015-10-20"]
["232-3B","2015-10-20"]
["232-3C","2015-10-20"]
["252-1","2012-10-16"]
["253-1","2011-10-18"]
["254-1","2001-10-02"]
["259-1","2013-10-15"]
["262-3","2012-10-16"]
["262-4","2013-04-16"]
["262-5","2005-10-18"]
["262-6","2005-10-18"]
["271-1","2011-10-18"]
["271-2","1985-08-20"]
["271-4","2011-10-18"]
["271-9","1994-09-27"]
["281-1","2016-10-18"]
["281-2","2013-10-15"]
["281-6","2011-10-18"]
["282-1","2010-10-19"]
["282-2","2013-10-15"]
["290-1","2014-04-15"]
["290-2","2015-04-21"]