{"text_format":"1","workbook":"xlsx","n_sheets":10,"sheets":["ProjectInformation","PrintSheets","DE100_7","DE102_5","100_7","102_5","PrintSheetTemplate","Note1","BridgeBlock","Index"],"not_rendered":{"charts":0,"images":5,"macros":1,"external_links":0,"defined_names":8,"comments":1,"pivot_tables":0},"unopened":[],"bounds":{"document_bytes":16777216,"sheet_cells":100000,"rows_first":2000,"rows_last":500,"rows_between":2000,"halvings":0,"cell_chars":16384,"cell_head_chars":4096},"cells_cut":0,"cells_raw":0,"read":"whole","date_system":"1900"}

{"sheet":"ProjectInformation","index":0,"n_rows":11,"n_cols":2,"rows_kept":11,"cut":false,"hidden":false,"merged":[[0,0,0,1],[1,0,1,1],[9,0,9,1],[3,0,4,0]]}
["CPN DATA"]
["INFORMATION ADDED BY DESIGNER"]
["Section Engineer","Flattery"]
["Design Team","Bell"]
[]
["County","POLK/STORY"]
["Project Number","IM-035-4(309)95--13-77"]
["English or Metric","ENGLISH"]
["Revised"]
["Bridge Block"]
["File No."]

{"sheet":"PrintSheets","index":1,"n_rows":380,"n_cols":179,"rows_kept":380,"cut":false,"hidden":false,"merged":[[378,171,378,178],[379,1,379,178],[283,159,283,164],[283,165,283,170],[283,171,283,178],[284,1,284,178],[378,1,378,7],[378,8,378,14],[378,15,378,21],[378,22,378,30],[378,31,378,64],[378,65,378,100],[378,101,378,106],[378,107,378,118],[378,119,378,148],[378,149,378,158],[378,159,378,164],[378,165,378,170],[283,65,283,100],[283,101,283,106],[283,107,283,118],[283,119,283,148],[283,149,283,158],[283,1,283,7],[283,8,283,14],[283,15,283,21],[283,22,283,30],[283,31,283,64],[188,159,188,164],[188,165,188,170],[188,171,188,178],[189,1,189,178],[188,65,188,100],[188,101,188,106],[188,107,188,118],[188,119,188,148],[188,149,188,158],[188,1,188,7],[188,8,188,14],[188,15,188,21],[188,22,188,30],[188,31,188,64],[93,171,93,178],[94,1,94,178],[93,101,93,106],[93,107,93,118],[93,119,93,148],[93,149,93,158],[93,159,93,164],[93,165,93,170],[93,1,93,7],[93,8,93,14],[93,15,93,21],[93,22,93,30],[93,31,93,64],[93,65,93,100]]}
[" "]
[]
[]
[]
[]
[]
[]
[]
[]
[]
[]
[]
[]
[]
[]
[]
[]
[]
[]
[]
[]
[]
[]
[]
[]
[]
[]
[]
[]
[]
[]
[]
[]
[]
[]
[]
[]
[]
[]
[]
[]
[]
[]
[]
[]
[]
[]
[]
[]
[]
[]
[]
[]
[]
[]
[]
[]
[]
[]
[]
[]
[]
[]
[]
[]
[]
[]
[]
[]
[]
[]
[]
[]
[]
[]
[]
[]
[]
[]
[]
[]
[]
[]
[]
[]
[]
[]
[]
[]
[]
[]
[]
[null,"","","","","","","","","","","","","","","","","","","","","","","","","","","","","","","","","","","","","","","","","","","","","","","","","","","","","","","","","","","","","","","","","","","","","","","","","","","","","","","","","","","","","","","","","","","","","","","","","","","","","","","","","","","","","","","","","","","","","","","","","","","","","","","","","","","","","","","","","","","","","","","","","","","","","","","",null,"","","","","","","","","","","","","","","","","","","","","","","","","",""]
[null,"FILE NO.",null,null,null,null,null,null,{"$f":"IF(ProjectInformation!$B$11<>\"\",ProjectInformation!$B$11,\"\")","v":""},null,null,null,null,null,null,{"$f":"UPPER(ProjectInformation!B8)","v":"ENGLISH"},null,null,null,null,null,null,"DESIGN TEAM",null,null,null,null,null,null,null,null,{"$f":"IF(AND(ProjectInformation!$B$3<>\"\",ProjectInformation!$B$4<>\"\",ProjectInformation!$B$5<>\"\"),ProjectInformation!$B$3&\"\\\"&ProjectInformation!$B$4&\"\\\"&ProjectInformation!$B$5,IF(AND(ProjectInformation!$B$3<>\"\",ProjectInformation!$B$4<>\"\"),ProjectInformation!$B$3&\"\\\"&ProjectInformation!$B$4,IF(ProjectInformation!$B$3<>\"\",ProjectInformation!$B$3,\"\")))","v":"Flattery\\Bell"},null,null,null,null,null,null,null,null,null,null,null,null,null,null,null,null,null,null,null,null,null,null,null,null,null,null,null,null,null,null,null,null,null,{"$f":"IF(ProjectInformation!$B$6<>\"\",ProjectInformation!$B$6,\"\")","v":"POLK/STORY"},null,null,null,null,null,null,null,null,null,null,null,null,null,null,null,null,null,null,null,null,null,null,null,null,null,null,null,null,null,null,null,null,null,null,null,"COUNTY",null,null,null,null,null,"PROJECT NUMBER",null,null,null,null,null,null,null,null,null,null,null,{"$f":"IF(ProjectInformation!$B$7<>\"\",ProjectInformation!$B$7,\"\")","v":"IM-035-4(309)95--13-77"},null,null,null,null,null,null,null,null,null,null,null,null,null,null,null,null,null,null,null,null,null,null,null,null,null,null,null,null,null,"SHEET NUMBER",null,null,null,null,null,null,null,null,null,null,null,null,null,null,null,{"$f":"IF(FP94<>\"\",\"REVISED\",\"\")","v":""},null,null,null,null,null,{"$f":"IF(ProjectInformation!$B$9<>\"\",ProjectInformation!$B$9,\"\")","v":""}]
["","11/23/2021     9:28:07 AM     mjack     c:\\pw_work\\pwmain\\mjack\\d1035650\\C01_77035309Z08.xlsm"]
[" "]
[]
[]
[]
[]
[]
[]
[]
[]
[]
[]
[]
[]
[]
[]
[]
[]
[]
[]
[]
[]
[]
[]
[]
[]
[]
[]
[]
[]
[]
[]
[]
[]
[]
[]
[]
[]
[]
[]
[]
[]
[]
[]
[]
[]
[]
[]
[]
[]
[]
[]
[]
[]
[]
[]
[]
[]
[]
[]
[]
[]
[]
[]
[]
[]
[]
[]
[]
[]
[]
[]
[]
[]
[]
[]
[]
[]
[]
[]
[]
[]
[]
[]
[]
[]
[]
[]
[]
[]
[]
[]
[]
[null,"","","","","","","","","","","","","","","","","","","","","","","","","","","","","","","","","","","","","","","","","","","","","","","","","","","","","","","","","","","","","","","","","","","","","","","","","","","","","","","","","","","","","","","","","","","","","","","","","","","","","","","","","","","","","","","","","","","","","","","","","","","","","","","","","","","","","","","","","","","","","","","","","","","","","","","",null,"","","","","","","","","","","","","","","","","","","","","","","","","",""]
[null,"FILE NO.",null,null,null,null,null,null,{"$f":"IF(ProjectInformation!$B$11<>\"\",ProjectInformation!$B$11,\"\")","v":""},null,null,null,null,null,null,{"$f":"UPPER(ProjectInformation!B8)","v":"ENGLISH"},null,null,null,null,null,null,"DESIGN TEAM",null,null,null,null,null,null,null,null,{"$f":"IF(AND(ProjectInformation!$B$3<>\"\",ProjectInformation!$B$4<>\"\",ProjectInformation!$B$5<>\"\"),ProjectInformation!$B$3&\"\\\"&ProjectInformation!$B$4&\"\\\"&ProjectInformation!$B$5,IF(AND(ProjectInformation!$B$3<>\"\",ProjectInformation!$B$4<>\"\"),ProjectInformation!$B$3&\"\\\"&ProjectInformation!$B$4,IF(ProjectInformation!$B$3<>\"\",ProjectInformation!$B$3,\"\")))","v":"Flattery\\Bell"},null,null,null,null,null,null,null,null,null,null,null,null,null,null,null,null,null,null,null,null,null,null,null,null,null,null,null,null,null,null,null,null,null,{"$f":"IF(ProjectInformation!$B$6<>\"\",ProjectInformation!$B$6,\"\")","v":"POLK/STORY"},null,null,null,null,null,null,null,null,null,null,null,null,null,null,null,null,null,null,null,null,null,null,null,null,null,null,null,null,null,null,null,null,null,null,null,"COUNTY",null,null,null,null,null,"PROJECT NUMBER",null,null,null,null,null,null,null,null,null,null,null,{"$f":"IF(ProjectInformation!$B$7<>\"\",ProjectInformation!$B$7,\"\")","v":"IM-035-4(309)95--13-77"},null,null,null,null,null,null,null,null,null,null,null,null,null,null,null,null,null,null,null,null,null,null,null,null,null,null,null,null,null,"SHEET NUMBER",null,null,null,null,null,null,null,null,null,null,null,null,null,null,null,{"$f":"IF(FP189<>\"\",\"REVISED\",\"\")","v":""},null,null,null,null,null,{"$f":"IF(ProjectInformation!$B$9<>\"\",ProjectInformation!$B$9,\"\")","v":""}]
["","11/23/2021     9:28:07 AM     mjack     c:\\pw_work\\pwmain\\mjack\\d1035650\\C01_77035309Z08.xlsm"]
[" "]
[]
[]
[]
[]
[]
[]
[]
[]
[]
[]
[]
[]
[]
[]
[]
[]
[]
[]
[]
[]
[]
[]
[]
[]
[]
[]
[]
[]
[]
[]
[]
[]
[]
[]
[]
[]
[]
[]
[]
[]
[]
[]
[]
[]
[]
[]
[]
[]
[]
[]
[]
[]
[]
[]
[]
[]
[]
[]
[]
[]
[]
[]
[]
[]
[]
[]
[]
[]
[]
[]
[]
[]
[]
[]
[]
[]
[]
[]
[]
[]
[]
[]
[]
[]
[]
[]
[]
[]
[]
[]
[]
[null,"","","","","","","","","","","","","","","","","","","","","","","","","","","","","","","","","","","","","","","","","","","","","","","","","","","","","","","","","","","","","","","","","","","","","","","","","","","","","","","","","","","","","","","","","","","","","","","","","","","","","","","","","","","","","","","","","","","","","","","","","","","","","","","","","","","","","","","","","","","","","","","","","","","","","","","",null,"","","","","","","","","","","","","","","","","","","","","","","","","",""]
[null,"FILE NO.",null,null,null,null,null,null,{"$f":"IF(ProjectInformation!$B$11<>\"\",ProjectInformation!$B$11,\"\")","v":""},null,null,null,null,null,null,{"$f":"UPPER(ProjectInformation!B8)","v":"ENGLISH"},null,null,null,null,null,null,"DESIGN TEAM",null,null,null,null,null,null,null,null,{"$f":"IF(AND(ProjectInformation!$B$3<>\"\",ProjectInformation!$B$4<>\"\",ProjectInformation!$B$5<>\"\"),ProjectInformation!$B$3&\"\\\"&ProjectInformation!$B$4&\"\\\"&ProjectInformation!$B$5,IF(AND(ProjectInformation!$B$3<>\"\",ProjectInformation!$B$4<>\"\"),ProjectInformation!$B$3&\"\\\"&ProjectInformation!$B$4,IF(ProjectInformation!$B$3<>\"\",ProjectInformation!$B$3,\"\")))","v":"Flattery\\Bell"},null,null,null,null,null,null,null,null,null,null,null,null,null,null,null,null,null,null,null,null,null,null,null,null,null,null,null,null,null,null,null,null,null,{"$f":"IF(ProjectInformation!$B$6<>\"\",ProjectInformation!$B$6,\"\")","v":"POLK/STORY"},null,null,null,null,null,null,null,null,null,null,null,null,null,null,null,null,null,null,null,null,null,null,null,null,null,null,null,null,null,null,null,null,null,null,null,"COUNTY",null,null,null,null,null,"PROJECT NUMBER",null,null,null,null,null,null,null,null,null,null,null,{"$f":"IF(ProjectInformation!$B$7<>\"\",ProjectInformation!$B$7,\"\")","v":"IM-035-4(309)95--13-77"},null,null,null,null,null,null,null,null,null,null,null,null,null,null,null,null,null,null,null,null,null,null,null,null,null,null,null,null,null,"SHEET NUMBER",null,null,null,null,null,null,null,null,null,null,null,null,null,null,null,{"$f":"IF(FP284<>\"\",\"REVISED\",\"\")","v":""},null,null,null,null,null,{"$f":"IF(ProjectInformation!$B$9<>\"\",ProjectInformation!$B$9,\"\")","v":""}]
[""]
[" "]
[]
[]
[]
[]
[]
[]
[]
[]
[]
[]
[]
[]
[]
[]
[]
[]
[]
[]
[]
[]
[]
[]
[]
[]
[]
[]
[]
[]
[]
[]
[]
[]
[]
[]
[]
[]
[]
[]
[]
[]
[]
[]
[]
[]
[]
[]
[]
[]
[]
[]
[]
[]
[]
[]
[]
[]
[]
[]
[]
[]
[]
[]
[]
[]
[]
[]
[]
[]
[]
[]
[]
[]
[]
[]
[]
[]
[]
[]
[]
[]
[]
[]
[]
[]
[]
[]
[]
[]
[]
[]
[]
[null,"","","","","","","","","","","","","","","","","","","","","","","","","","","","","","","","","","","","","","","","","","","","","","","","","","","","","","","","","","","","","","","","","","","","","","","","","","","","","","","","","","","","","","","","","","","","","","","","","","","","","","","","","","","","","","","","","","","","","","","","","","","","","","","","","","","","","","","","","","","","","","","","","","","","","","","",null,"","","","","","","","","","","","","","","","","","","","","","","","","",""]
[null,"FILE NO.",null,null,null,null,null,null,{"$f":"IF(ProjectInformation!$B$11<>\"\",ProjectInformation!$B$11,\"\")","v":""},null,null,null,null,null,null,{"$f":"UPPER(ProjectInformation!B8)","v":"ENGLISH"},null,null,null,null,null,null,"DESIGN TEAM",null,null,null,null,null,null,null,null,{"$f":"IF(AND(ProjectInformation!$B$3<>\"\",ProjectInformation!$B$4<>\"\",ProjectInformation!$B$5<>\"\"),ProjectInformation!$B$3&\"\\\"&ProjectInformation!$B$4&\"\\\"&ProjectInformation!$B$5,IF(AND(ProjectInformation!$B$3<>\"\",ProjectInformation!$B$4<>\"\"),ProjectInformation!$B$3&\"\\\"&ProjectInformation!$B$4,IF(ProjectInformation!$B$3<>\"\",ProjectInformation!$B$3,\"\")))","v":"Flattery\\Bell"},null,null,null,null,null,null,null,null,null,null,null,null,null,null,null,null,null,null,null,null,null,null,null,null,null,null,null,null,null,null,null,null,null,{"$f":"IF(ProjectInformation!$B$6<>\"\",ProjectInformation!$B$6,\"\")","v":"POLK/STORY"},null,null,null,null,null,null,null,null,null,null,null,null,null,null,null,null,null,null,null,null,null,null,null,null,null,null,null,null,null,null,null,null,null,null,null,"COUNTY",null,null,null,null,null,"PROJECT NUMBER",null,null,null,null,null,null,null,null,null,null,null,{"$f":"IF(ProjectInformation!$B$7<>\"\",ProjectInformation!$B$7,\"\")","v":"IM-035-4(309)95--13-77"},null,null,null,null,null,null,null,null,null,null,null,null,null,null,null,null,null,null,null,null,null,null,null,null,null,null,null,null,null,"SHEET NUMBER",null,null,null,null,null,null,null,null,null,null,null,null,null,null,null,{"$f":"IF(FP379<>\"\",\"REVISED\",\"\")","v":""},null,null,null,null,null,{"$f":"IF(ProjectInformation!$B$9<>\"\",ProjectInformation!$B$9,\"\")","v":""}]
[""]

{"sheet":"DE100_7","index":2,"n_rows":152,"n_cols":50,"rows_kept":152,"cut":false,"hidden":false,"merged":[[27,2,27,4],[95,2,95,4],[124,2,124,4],[145,2,145,4],[23,40,24,40],[23,14,25,14],[22,16,24,16],[22,17,22,18],[22,23,25,23],[22,24,25,24],[23,7,24,7],[23,8,25,8],[23,9,24,9],[23,10,25,10],[23,13,24,13],[20,27,25,27],[23,41,25,41],[23,28,24,28],[23,29,25,29],[23,30,24,30],[23,31,25,31],[23,34,24,34],[23,35,25,35],[20,28,21,31],[20,32,21,35],[20,36,21,39],[23,17,24,17],[23,18,25,18],[23,19,24,19],[23,20,25,20],[22,34,22,35],[22,36,24,36],[22,37,24,37],[22,38,22,39],[22,25,25,25],[22,26,25,26],[23,38,24,38],[23,39,25,39],[22,28,22,29],[21,4,21,5],[21,23,21,24],[21,25,21,26],[22,2,25,2],[22,3,25,3],[22,4,25,4],[22,5,25,5],[20,21,25,21],[20,23,20,26],[22,7,22,8],[22,9,22,10],[22,11,24,11],[22,12,24,12],[22,13,22,14],[22,15,24,15],[22,30,22,31],[22,32,24,32],[22,33,24,33],[18,2,18,21],[18,23,18,42],[19,2,19,21],[19,23,19,42],[20,2,20,5],[20,6,25,6],[20,7,21,10],[20,11,21,14],[20,15,21,18],[20,19,22,20],[20,40,22,41],[20,42,25,42],[21,2,21,3],[1,44,1,49],[14,23,14,42],[15,2,16,21],[15,23,15,42],[16,23,17,42],[17,2,17,21],[79,2,79,4],[85,2,85,4],[43,2,43,4],[50,2,50,4],[31,2,31,4],[62,2,62,4]]}
["TabTitle","FENCING"]
["Number of Tab Columns",20,null,null,null,null,null,null,null,null,null,null,null,null,null,null,null,null,null,null,null,null,null,null,null,null,null,null,null,null,null,null,null,null,null,null,null,null,null,null,null,null,null,null,"Drop Down Lists"]
["DE Starter Row Number",27,null,null,null,null,null,null,null,null,null,null,null,null,null,null,null,null,null,null,null,null,null,null,null,null,null,null,null,null,null,null,null,null,null,null,null,null,null,null,null,null,null,null,"Side","Chain Link Height","Chain Link Gate Assembly","Deer Fence Gate Type","Field Fence Gate Type","Field Fence Channel Crossing"]
["TabSheet Starter Row Number",13,null,null,null,null,null,null,null,null,null,null,null,null,null,null,null,null,null,null,null,null,null,null,null,null,null,null,null,null,null,null,null,null,null,null,null,null,null,null,null,null,null,null,"LT","42 IN.","16 FT.","Deer, As Per Plan","12 FT.","A"]
["TabSheet Header Row Count",12,null,null,null,null,null,null,null,null,null,null,null,null,null,null,null,null,null,null,null,null,null,null,null,null,null,null,null,null,null,null,null,null,null,null,null,null,null,null,null,null,null,null,"RT","48 IN.","SEE REMARKS","As Per Plan","16 FT.","B"]
["Top Header Cell","X15",null,null,null,null,null,null,null,null,null,null,null,null,null,null,null,null,null,null,null,null,null,null,null,null,null,null,null,null,null,null,null,null,null,null,null,null,null,null,null,null,null,null,null,"60 IN.",null,null,"18 FT.","FLOOD PLAIN"]
["Bottom Header Cell","AQ26",null,null,null,null,null,null,null,null,null,null,null,null,null,null,null,null,null,null,null,null,null,null,null,null,null,null,null,null,null,null,null,null,null,null,null,null,null,null,null,null,null,null,null,"72 IN.",null,null,"20 FT.","AS PER PLAN"]
["DESheet Row Count",126,null,null,null,null,null,null,null,null,null,null,null,null,null,null,null,null,null,null,null,null,null,null,null,null,null,null,null,null,null,null,null,null,null,null,null,null,null,null,null,null,null,null,null,"84 IN.",null,null,"22 FT."]
["Fixed Empty Rows",10,null,null,null,null,null,null,null,null,null,null,null,null,null,null,null,null,null,null,null,null,null,null,null,null,null,null,null,null,null,null,null,null,null,null,null,null,null,null,null,null,null,null,null,"96 IN.",null,null,"24 FT."]
["Usable Empty Rows",0,null,null,null,null,null,null,null,null,null,null,null,null,null,null,null,null,null,null,null,null,null,null,null,null,null,null,null,null,null,null,null,null,null,null,null,null,null,null,null,null,null,null,null,"120 IN."]
["Total Rows Placed",136,"xlRight(1)","xlRight(1)","xlRight(1)","xlRight(1)","xlLeft(1)","xlRight(1)","xlLeft(1)","xlRight(1)","xlLeft(1)","xlRight(1)","xlRight(1)","xlRight(1)","xlLeft(1)","xlRight(1)","xlRight(1)","xlRight(1)","xlLeft(1)","xlRight(1)","xlLeft(1)","xlLeft(1)",null,{"$f":"C11","v":"xlRight(1)"},"xlRight(1)","xlRight(1)","xlRight(1)","xlLeft(1)","xlRight(1)","xlLeft(1)","xlRight(1)","xlLeft(1)","xlRight(1)","xlRight(1)","xlRight(1)","xlLeft(1)","xlRight(1)","xlRight(1)","xlRight(1)",{"$f":"S11","v":"xlLeft(1)"},"xlRight(1)","xlLeft(1)","xlLeft(1)",null,null,"72 IN., SECURITY TOP"]
["Total Rows Needed",{"$f":"SUM(B8:B10)","v":136},"#+00.00","0.0","#+00.00","0.0","General","0.0","General",0,"General","0.0",0,0,"General","0.0",0,0,"General","0.0","General","General",null,"#+00.00","0.0","#+00.00","0.0","General","0.0","General",0,"General","0.0",0,0,"General","0.0",0,0,"General","0.0","General","General",null,null,"72 IN., ON WALL"]
["Last Tab DE Starter Row",105,{"$f":"CELL(\"width\",C13)","v":16},9,16,9,7,11,30,11,25,11,11,11,25,11,11,11,11,11,25,38,null,{"$f":"CELL(\"width\",X13)","v":0},0,0,0,0,0,0,0,0,0,0,0,0,0,0,0,0,0,0,0,null,null,"VINYL COATED"]
["Last Tab TabSheet Starter Row",103,"A","B","C","D","E","F","G","H","I","J","K","L","M","N","O","P","Q","R","S","T",null,{"$f":"LOWER(C14)","v":"a"},"b","c","d","e","f","g","h","i","j","k","l","m","n","o","p","q","r","s","t"]
["Last Copy Starter Row",91,null,null,null,null,"Totals:",{"$f":"SUBTOTAL(9,H27:H5999)","v":9861.4},null,{"$f":"SUBTOTAL(9,J27:J5999)","v":0},null,{"$f":"SUBTOTAL(9,L27:L5999)","v":0},{"$f":"SUBTOTAL(9,M27:M5999)","v":0},{"$f":"SUBTOTAL(9,N27:N5999)","v":0},null,{"$f":"SUBTOTAL(9,P27:P5999)","v":79217.647999999986},{"$f":"SUBTOTAL(9,Q27:Q5999)","v":976},{"$f":"SUBTOTAL(9,R27:R5999)","v":0},null,{"$f":"SUBTOTAL(9,T27:T5999)","v":0},null,null,null,"100-7"]
["Tab Loop Number",3,"FENCING",null,null,null,null,null,null,null,null,null,null,null,null,null,null,null,null,null,null,null,null,{"$f":"B17","v":"2012-10-16"}]
["Revision Date","2012-10-16",null,null,null,null,null,null,null,null,null,null,null,null,null,null,null,null,null,null,null,null,null,{"$f":"C16","v":"FENCING"}]
["Tabulation Width",4,"Refer to MI-101, MI-102, MI-103, MI-104, 510-3, and 510-5"]
["Horizontal Grid Lines","Yes"," * Bid Item",null,null,null,null,null,null,null,null,null,null,null,null,null,null,null,null,null,null,null,null,{"$f":"C19","v":" * Bid Item"}]
[null,null,{"$f":"\"This Data Entry Sheet fills Tab \"&X15&\" effective \"&TEXT(B17,\"mm-dd-yy\")","v":"This Data Entry Sheet fills Tab 100-7 effective 10-16-12"},null,null,null,null,null,null,null,null,null,null,null,null,null,null,null,null,null,null,null,null,{"$f":"C18","v":"Refer to MI-101, MI-102, MI-103, MI-104, 510-3, and 510-5"}]
[null,null,"Location",null,null,null,"Side","Chain Link",null,null,null,"Deer",null,null,null,"Field",null,null,null,"Channel Crossing",null,"Remarks",null,{"$f":"C21","v":"Location"},null,null,null,{"$f":"G21","v":"Side"},{"$f":"H21","v":"Chain Link"},null,null,null,{"$f":"L21","v":"Deer"},null,null,null,{"$f":"P21","v":"Field"},null,null,null,{"$f":"T21","v":"Channel Crossing"},null,{"$f":"V21","v":"Remarks"}]
[null,null,"From",null,"To",null,null,null,null,null,null,null,null,null,null,null,null,null,null,null,null,null,null,{"$f":"C22","v":"From"},null,{"$f":"E22","v":"To"}]
[null,null,"Station","Offset","Station","Offset",null,"Fence",null,"Gate",null,"Fence Length*","Brace Panels*","Gate",null,"Fence Length*","Brace Panels*","Gate",null,null,null,null,null,{"$f":"C23","v":"Station"},{"$f":"D23","v":"Offset"},{"$f":"E23","v":"Station"},{"$f":"F23","v":"Offset"},null,{"$f":"H23","v":"Fence"},null,{"$f":"J23","v":"Gate"},null,{"$f":"L23","v":"Fence Length*"},{"$f":"M23","v":"Brace Panels*"},{"$f":"N23","v":"Gate"},null,{"$f":"P23","v":"Fence Length*"},{"$f":"Q23","v":"Brace Panels*"},{"$f":"R23","v":"Gate"}]
[null,null,null,null,null,null,null,"Length*","Type","No.*","Type",null,null,"No.*","Type",null,null,"No.*","Type","Length*","Type",null,null,null,null,null,null,null,{"$f":"H24","v":"Length*"},{"$f":"I24","v":"Type"},{"$f":"J24","v":"No.*"},{"$f":"K24","v":"Type"},null,null,{"$f":"N24","v":"No.*"},{"$f":"O24","v":"Type"},null,null,{"$f":"R24","v":"No.*"},{"$f":"S24","v":"Type"},{"$f":"T24","v":"Length*"},{"$f":"U24","v":"Type"}]
[]
[null,null,null,null,null,null,null,"LF",null,"EACH",null,"LF","EACH","EACH",null,"LF","EACH","EACH",null,"LF",null,null,null,null,null,null,null,null,{"$f":"H26","v":"LF"},null,{"$f":"J26","v":"EACH"},null,{"$f":"L26","v":"LF"},{"$f":"M26","v":"EACH"},{"$f":"N26","v":"EACH"},null,{"$f":"P26","v":"LF"},{"$f":"Q26","v":"EACH"},{"$f":"R26","v":"EACH"},null,{"$f":"T26","v":"LF"}]
[]
[null,null,"INTERSTATE 35 SB"]
[null,null,174400.01,116.63,175045.02,136,"LT",651.1,"72 IN."]
[null,null,175045.02,136,176022.55,137,"LT",978.7,"72 IN."]
[null,null,176022.55,137,176674.81,143,"LT",652.29999999999995,"72 IN."]
[null,null,"Gap for NE 126th Ave Ramps"]
[null,null,181976.62,143,183165,157,"LT",null,null,null,null,null,null,null,null,1188.5,7]
[null,null,183165,157,183571.97,154,"LT",null,null,null,null,null,null,null,null,407,6]
[null,null,183571.97,154,184069.99,131,"LT",null,null,null,null,null,null,null,null,498.6,6]
[null,null,184069.99,131,184596.84,145,"LT",null,null,null,null,null,null,null,null,525.1,6]
[null,null,184596.84,145,184663.6,156.01,"LT",null,null,null,null,null,null,null,null,67.2,4]
[null,null,"1846.63.60",156,185676.96,151,"LT",null,null,null,null,null,null,null,null,1011.4,8]
[null,null,185676.96,151,185822.96,140,"LT",null,null,null,null,null,null,null,null,146.4,4]
[null,null,185822.96,140,187289.74,136,"LT",null,null,null,null,null,null,null,null,1466.8,8]
[null,null,187289.74,136,187528,131,"LT",null,null,null,null,null,null,null,null,238.3,6]
[null,null,187528,131,188173.01,150,"LT",null,null,null,null,null,null,null,null,645.29999999999995,6]
[null,null,188173.01,150,189813,137,"LT",null,null,null,null,null,null,null,null,1641,7]
[null,null,"Gap for NE 142nd Ave and Homestead"]
[null,null,190380.39,153.41,190799.99,151,"LT",null,null,null,null,null,null,null,null,419.6,5]
[null,null,190799.99,151,191095.04000000001,145,"LT",null,null,null,null,null,null,null,null,295.10000000000002,6]
[null,null,191095.04000000001,145,191275.38,164.01,"LT",null,null,null,null,null,null,null,null,181.3,6]
[null,null,191275.38,164.01,191429.96,168,"LT",null,null,null,null,null,null,null,null,154.69999999999999,4]
[null,null,191429.96,168,191624.95999999999,149,"LT",null,null,null,null,null,null,null,null,195.9,6]
[null,null,191624.95999999999,149,191869.02,154.80000000000001,"LT",null,null,null,null,null,null,null,null,244.1,5]
[null,null,"Gap for I-35 Rest Area"]
[null,null,196136.95,185,196198.47,182,"LT",null,null,null,null,null,null,null,null,61.6,3]
[null,null,196198.47,182,197000.25,159.99,"LT",null,null,null,null,null,null,null,null,802.1,6]
[null,null,197000.25,159.99,197069.02,198.86,"LT",null,null,null,null,null,null,null,null,78.989999999999995,4]
[null,null,197069.02,198.86,197173.97,143.99,"LT",null,null,null,null,null,null,null,null,118.4,4]
[null,null,197173.97,143.99,197737.98,165,"LT",null,null,null,null,null,null,null,null,564.1,6]
[null,null,197737.98,165,198017.95,142,"LT",null,null,null,null,null,null,null,null,280.60000000000002,6]
[null,null,198017.95,142,198500.01,136,"LT",null,null,null,null,null,null,null,null,482.2,6]
[null,null,198500.18,136,198573.14,163.98,"LT",null,null,null,null,null,null,null,null,78.099999999999994,4]
[null,null,198573.14,163.98,198802.98,142,"LT",null,null,null,null,null,null,null,null,230.9,6]
[null,null,198802.98,142,199280.17,173,"LT",null,null,null,null,null,null,null,null,478.2,6]
[null,null,199280.17,173,200468.9,166.99,"LT",null,null,null,null,null,null,null,null,1187.0999999999999,7]
[null,null,"Gap for NE 158th Ave"]
[null,null,200693.86,154.01,200887.94,127,"LT",null,null,null,null,null,null,null,null,195.4,5]
[null,null,200887.94,127,201922.29,144,"LT",null,null,null,null,null,null,null,null,1034.5,8]
[null,null,201922.29,144,202760.02,156,"LT",null,null,null,null,null,null,null,null,837.8,6]
[null,null,202760.02,156,202998.95,161.5,"LT",null,null,null,null,null,null,null,null,238.8,6]
[null,null,202998.95,161.5,203237.89,167,"LT",null,null,null,null,null,null,null,null,238.999,6]
[null,null,203237.89,167,203421.01,170,"LT",null,null,null,null,null,null,null,null,183.1,6]
[null,null,203421.01,170,204314.99,169,"LT",null,null,null,null,null,null,null,null,893.99,6]
[null,null,204314.99,169,205479.08,159,"LT",null,null,null,null,null,null,null,null,1165.5999999999999,8]
[null,null,205479.08,159,205511.84,163.99,"LT",null,null,null,null,null,null,null,null,33.299999999999997,4]
[null,null,205511.84,163.99,205677.96,133.99,"LT",null,null,null,null,null,null,null,null,169.7,6]
[null,null,205677.96,133.99,205810.05,148,"LT",null,null,null,null,null,null,null,null,133.5,4]
[null,null,205810.05,148,206430,146,"LT",null,null,null,null,null,null,null,null,619.96,6]
[null,null,206430,146,206842.63,149,"LT",null,null,null,null,null,null,null,null,412.6,6]
[null,null,206842.63,149,206977.93,139,"LT",null,null,null,null,null,null,null,null,84.33,4]
[null,null,206926.91,147,206977.93,139,"LT",null,null,null,null,null,null,null,null,51.6,4]
[null,null,206977.93,139,208052.05,155,"LT",null,null,null,null,null,null,null,null,1074.2,7]
[null,null,"Gap for IA 210 & Ramps"]
[null,null,214098.99,166,214779.02,135,"LT",null,null,null,null,null,null,null,null,680.3,5]
[null,null,214779.02,135,215169.96,165.99,"LT",null,null,null,null,null,null,null,null,391.6,6]
[null,null,215169.96,165.99,215341.93,139,"LT",null,null,null,null,null,null,null,null,174.1,6]
[null,null,215341.93,139,216301.99,163,"LT",null,null,null,null,null,null,null,null,960.4,8]
[null,null,216301.99,163,216492.4,153,"LT",null,null,null,null,null,null,null,null,190.7,5]
[null,null,"Gap for Heart of Iowa Trail"]
[null,null,216632.55,151,217010.27,162,"LT",null,null,null,null,null,null,null,null,377.9,5]
[null,null,217010.27,162.01,217212.23,270.99,"LT",null,null,null,null,null,null,null,null,229.5,6]
[null,null,217212.23,270.99,217629.94,249,"LT",null,null,null,null,null,null,null,null,418.3,6]
[null,null,217629.94,249,218046,224,"LT",null,null,null,null,null,null,null,null,416.8,6]
[null,null,218046,224,218653.52,262,"LT",null,null,null,null,null,null,null,null,611.4,6]
[null,null,218653.52,262,218690.92,263,"LT",null,null,null,null,null,null,null,null,37.984999999999999,3]
[]
[]
[]
[null,null,"INTERSECTION AT I-35 & 126TH AVE"]
[null,null,157270.42000000001,67.81,157448.57999999999,78.989999999999995,"RT",null,null,null,null,null,null,null,null,178.4,5,null,null,null,null,"RAMP 126A"]
[null,null,157448.51,78.989999999999995,157757.84,57.33,"RT",null,null,null,null,null,null,null,null,303.2,6,null,null,null,null,"RAMP 126A"]
[null,null,157757.84,57.33,158049.37,70.91,"RT",null,null,null,null,null,null,null,null,282.10000000000002,6,null,null,null,null,"RAMP 126A"]
[null,null,158049.37,70.91,158633.73000000001,80.11,"RT",null,null,null,null,null,null,null,null,581.20000000000005,6,null,null,null,null,"RAMP 126A"]
[null,null,158633.73000000001,80.11,159184.74,106.81,"RT",null,null,null,null,null,null,null,null,582.1,6,null,null,null,null,"RAMP 126A"]
[null,null,159184.74,106.81,159297.07999999999,218.98,"RT",null,null,null,null,null,null,null,null,160.5,5,null,null,null,null,"RAMP 126A"]
[]
[null,null,250423.51,54,250913.47,75.260000000000005,"RT",null,null,null,null,null,null,null,null,485.6,5,null,null,null,null,"RAMP 126B"]
[null,null,250913.47,75.260000000000005,251307.95,53.97,"RT",null,null,null,null,null,null,null,null,395.1,6,null,null,null,null,"RAMP 126B"]
[null,null,251307.95,53.97,251551.93,53.25,"RT",null,null,null,null,null,null,null,null,238.4,6,null,null,null,null,"RAMP 126B"]
[null,null,251551.93,53.25,251902.69,58.51,"RT",null,null,null,null,null,null,null,null,340.6,6,null,null,null,null,"RAMP 126B"]
[null,null,251902.69,58.51,252539.5,99.55,"RT",null,null,null,null,null,null,null,null,644.9,6,null,null,null,null,"RAMP 126B"]
[null,null,252539.5,99.55,253035.58,204.82,"RT",null,null,null,null,null,null,null,null,546.33000000000004,5,null,null,null,null,"RAMP 126B"]
[]
[null,null,349762.61,65.81,350635.45,72.260000000000005,"RT",null,null,null,null,null,null,null,null,856.1,4,null,null,null,null,"RAMP 126C"]
[]
[null,null,456179.41,159.12,456455.48,84.11,"RT",299.60000000000002,"72 IN.",null,null,null,null,null,null,null,null,null,null,null,null,"RAMP 126D"]
[null,null,456455.48,84.1,456984.95,62.01,"RT",528.29999999999995,"72 IN.",null,null,null,null,null,null,null,null,null,null,null,null,"RAMP 126D"]
[null,null,456984.95,62.01,457240.3,59.34,"RT",247.4,"72 IN.",null,null,null,null,null,null,null,null,null,null,null,null,"RAMP 126D"]
[null,null,457240.3,59.34,457484.41,68,"RT",236.4,"72 IN.",null,null,null,null,null,null,null,null,null,null,null,null,"RAMP 126D"]
[null,null,457484.41,68,457594.94,62.18,"RT",107.1,"72 IN.",null,null,null,null,null,null,null,null,null,null,null,null,"RAMP 126D"]
[null,null,457594.94,62.18,457904.13,65,"RT",303.7,"72 IN.",null,null,null,null,null,null,null,null,null,null,null,null,"RAMP 126D"]
[null,null,457904.13,65,457965.14,82,"RT",63.3,"72 IN.",null,null,null,null,null,null,null,null,null,null,null,null,"RAMP 126D"]
[null,null,457965.14,82,457994.86,82,"RT",29.7,"72 IN.",null,null,null,null,null,null,null,null,null,null,null,null,"RAMP 126D"]
[null,null,457994.86,82,458059.85,63,"RT",67.7,"72 IN.",null,null,null,null,null,null,null,null,null,null,null,null,"RAMP 126D"]
[null,null,458059.85,63,458824.1,55.49,"RT",765.4,"72 IN.",null,null,null,null,null,null,null,null,null,null,null,null,"RAMP 126D"]
[]
[]
[null,null,"INTERSECTION AT I-35 & IA 210"]
[null,null,158913.17000000001,77.66,159541.72,77.7,"RT",null,null,null,null,null,null,null,null,612.04,5,null,null,null,null,"RAMP 210A"]
[null,null,159541.72,77.7,160398.57,94.51,"RT",null,null,null,null,null,null,null,null,858.2,6,null,null,null,null,"RAMP 210A"]
[null,null,160398.57,94.51,160582.82999999999,89.07,"RT",null,null,null,null,null,null,null,null,195.3,6,null,null,null,null,"RAMP 210A"]
[null,null,160582.82999999999,89.07,160765.41,147.1,"RT",null,null,null,null,null,null,null,null,204.7,5,null,null,null,null,"RAMP 210A"]
[]
[null,null,251204.24,78.08,251823.03,60,"RT",null,null,null,null,null,null,null,null,622.1,5,null,null,null,null,"RAMP 210B"]
[null,null,251823.03,60,252227.16,55,"RT",null,null,null,null,null,null,null,null,404.1,6,null,null,null,null,"RAMP 210B"]
[null,null,252227.16,55,252832.76,58.62,"RT",null,null,null,null,null,null,null,null,599.70000000000005,6,null,null,null,null,"RAMP 210B"]
[null,null,252832.76,56.62,253117.87,65.97,"RT",null,null,null,null,null,null,null,null,276.3,6,null,null,null,null,"RAMP 210B"]
[null,null,253117.87,65.97,253514.79,64,"RT",null,null,null,null,null,null,null,null,383.5,6,null,null,null,null,"RAMP 210B"]
[null,null,253514.79,64,253999.49,101.87,"RT",null,null,null,null,null,null,null,null,502.1,6,null,null,null,null,"RAMP 210B"]
[null,null,253999.49,101.87,254391.3,107.71,"RT",null,null,null,null,null,null,null,null,417.5,5,null,null,null,null,"RAMP 210B"]
[]
[null,null,460346.6,68.95,460164.97,80,"RT",null,null,null,null,null,null,null,null,183.5,5,null,null,null,null,"RAMP 210D"]
[null,null,460164.97,80,458994.42,49.7,"RT",null,null,null,null,null,null,null,null,1165.3,8,null,null,null,null,"RAMP 210D"]
[null,null,458994.42,49.7,458496.73,62.5,"RT",null,null,null,null,null,null,null,null,482.6,6,null,null,null,null,"RAMP 210D"]
[null,null,458496.73,62.5,457602.19,120.74,"RT",null,null,null,null,null,null,null,null,914.5,5,null,null,null,null,"RAMP 210D"]
[]
[null,null,104422.99,112,104577.67,123.05,"RT",null,null,null,null,null,null,null,null,155.1,3,null,null,null,null,"IA 210"]
[null,null,104506.67,102.3,104570.97,159.21,"LT",null,null,null,null,null,null,null,null,85.3,3,null,null,null,null,"IA 210"]
[null,null,"Gap for I-35"]
[null,null,105925.31,143,105999.48,143,"RT",null,null,null,null,null,null,null,null,74.2,3,null,null,null,null,"IA 210"]
[null,null,105999.48,143,106044.48,79,"RT",null,null,null,null,null,null,null,null,78.2,4,null,null,null,null,"IA 210"]
[null,null,106044.48,79,106299.61,77.53,"RT",null,null,null,null,null,null,null,null,255.1,5,null,null,null,null,"IA 210"]
[]
[]
[null,null,"TOTALS:",null,null,null,null,{"$f":"SUM(H28:H150)","v":4930.7},null,null,null,null,null,null,null,{"$f":"SUM(P28:P150)","v":39608.823999999993},{"$f":"SUM(Q28:Q150)","v":488}]

{"sheet":"DE102_5","index":3,"n_rows":148,"n_cols":52,"rows_kept":148,"cut":false,"hidden":false,"merged":[[23,5,23,6],[77,5,77,6],[20,44,22,44],[20,38,22,38],[20,39,21,39],[20,40,22,40],[20,41,21,41],[20,42,22,42],[20,43,21,43],[19,25,21,25],[19,26,21,26],[20,30,22,30],[20,31,22,31],[20,32,22,32],[18,38,19,39],[20,33,22,33],[19,24,21,24],[17,27,21,27],[18,29,22,29],[18,30,19,34],[17,19,18,20],[19,19,21,19],[19,20,20,20],[19,21,21,21],[19,22,20,22],[19,23,21,23],[18,50,22,50],[18,40,19,41],[18,42,19,43],[18,44,19,45],[18,46,19,48],[18,49,19,49],[20,45,21,45],[20,46,22,46],[20,47,22,47],[20,48,22,48],[20,49,22,49],[14,29,14,50],[15,29,15,50],[16,2,16,27],[16,29,17,50],[17,2,21,2],[17,5,18,9],[17,12,21,12],[17,13,21,13],[17,14,21,14],[18,35,22,35],[18,36,22,36],[18,37,22,37],[20,34,22,34],[17,15,18,16],[17,17,18,18],[17,21,18,22],[17,3,20,3],[17,4,20,4],[17,10,21,10],[17,11,21,11],[14,2,15,27],[17,23,18,25],[17,26,18,26],[19,5,21,5],[19,6,21,6],[19,7,21,7],[19,8,21,8],[19,9,21,9],[19,15,21,15],[19,16,20,16],[19,17,21,17],[19,18,20,18]]}
["TabTitle",{"$f":"C15","v":"EXISTING PAVEMENT"}]
["Number of Tab Columns",22]
["DE Starter Row Number",23]
["TabSheet Starter Row Number",10]
["TabSheet Header Row Count",9]
["Top Header Cell","AD15"]
["Bottom Header Cell","AY23"]
["DESheet Row Count",126]
["Fixed Empty Rows",0]
["Usable Empty Rows",20]
["Total Rows Placed",146,"xlRight(1)",null,null,"xlRight(1)","xlRight(1)","xlRight(1)","xlRight(1)","xlRight(1)",null,null,"xlRight(1)","xlRight(1)","xlLeft(1)","xlLeft(1)","xlRight(1)","xlLeft(1)","xlRight(1)","xlLeft(1)","xlRight(1)","xlLeft(1)","xlRight(1)","xlLeft(1)","xlLeft(1)","xlRight(1)","xlRight(1)","xlLeft(1)",null,{"$f":"C11","v":"xlRight(1)"},{"$f":"F11","v":"xlRight(1)"},"xlRight(1)","xlRight(1)","xlRight(1)","xlRight(1)",{"$f":"M11","v":"xlRight(1)"},{"$f":"N11","v":"xlRight(1)"},{"$f":"O11","v":"xlLeft(1)"},"xlLeft(1)","xlRight(1)","xlLeft(1)","xlRight(1)","xlLeft(1)","xlRight(1)","xlLeft(1)",{"$f":"W11","v":"xlRight(1)"},"xlLeft(1)","xlLeft(1)","xlRight(1)","xlRight(1)","xlLeft(1)"]
["Total Rows Needed",{"$f":"SUM(B8:B10)","v":146},"General",null,null,"General","General","General","General","General",null,null,"General","General","General","General","General","General","General","General","General","General","General","General","General","General","General","General",null,{"$f":"C12","v":"General"},"General","General","General","General","General",{"$f":"M12","v":"General"},{"$f":"N12","v":"General"},"General","General","General","General","General","General","General","General","General","General","General","General","General","General"]
["Last Tab DE Starter Row",104,{"$f":"CELL(\"width\",C13)","v":8},null,null,10,10,10,12,12,null,null,10,9,30,10,10,10,10,10,10,10,10,30,12,12,28,35,null,{"$f":"CELL(\"width\",AD13)","v":0},0,0,0,0,0,0,0,0,0,0,0,0,0,0,0,0,0,0,0,0,0]
["Last Tab Tabsheet Starter Row",100,"A",null,null,"B","C","D","E","F",null,null,"G","H","I","J","K","L","M","N","O","P","Q","R","S","T","U","V",null,{"$f":"LOWER(C14)","v":"a"},{"$f":"LOWER(F14)","v":"b"},"c","d","e","f",{"$f":"LOWER(M14)","v":"g"},{"$f":"LOWER(N14)","v":"h"},{"$f":"LOWER(O14)","v":"i"},{"$f":"LOWER(P14)","v":"j"},"k","l","m","n","o","p","q","r",{"$f":"LOWER(Y14)","v":"s"},{"$f":"LOWER(Z14)","v":"t"},{"$f":"LOWER(AA14)","v":"u"},{"$f":"LOWER(AB14)","v":"v"},{"$f":"LOWER(AC14)","v":""}]
["Last Copy Starter Row",91,"EXISTING PAVEMENT",null,null,null,null,null,null,null,null,null,null,null,null,null,null,null,null,null,null,null,null,null,null,null,null,null,null,"102-5"]
["Tab Loop Number",3,null,null,null,null,null,null,null,null,null,null,null,null,null,null,null,null,null,null,null,null,null,null,null,null,null,null,null,{"$f":"B17","v":"2017-04-18"}]
["Revision Date","2017-04-18",{"$f":"\"This Data Entry Sheet fills Tab \"&AD15&\" effective \"&TEXT(B17,\"mm-dd-yy\")","v":"This Data Entry Sheet fills Tab 102-5 effective 04-18-17"},null,null,null,null,null,null,null,null,null,null,null,null,null,null,null,null,null,null,null,null,null,null,null,null,null,null,{"$f":"C15","v":"EXISTING PAVEMENT"}]
["Tabulation Width",4,"No.","Pavement Thickness","Shoulder Thickness","Location",null,null,null,null,"Begin Station","End Station","Year","Type","Project Number","Surface",null,"Base",null,"Subbase",null,"Removal",null,"Coarse Aggregate",null,null,"Reinforcement","Remarks"]
["Horizontal Grid Lines","Yes",null,null,null,null,null,null,null,null,null,null,null,null,null,null,null,null,null,null,null,null,null,null,null,null,null,null,null,{"$f":"C18","v":"No."},{"$f":"F18","v":"Location"},null,null,null,null,{"$f":"M18","v":"Year"},{"$f":"N18","v":"Type"},{"$f":"O18","v":"Project Number"},{"$f":"P18","v":"Surface"},null,{"$f":"R18","v":"Base"},null,{"$f":"T18","v":"Subbase"},null,{"$f":"V18","v":"Removal"},null,{"$f":"X18","v":"Coarse Aggregate"},null,null,{"$f":"AA18","v":"Reinforcement"},{"$f":"AB18","v":"Remarks"}]
[null,null,null,null,null,"County","Route","Dir. of Travel","Begin Ref. Loc. Sign","End Ref. Loc. Sign",null,null,null,null,null,"Type","Depth","Type","Depth","Type","Depth","Type","Depth","Source","Type","Durability Class","Type"]
[null,null,null,null,null,null,null,null,null,null,null,null,null,null,null,null,null,null,null,null,null,null,null,null,null,null,null,null,null,null,{"$f":"F20","v":"County"},{"$f":"G20","v":"Route"},{"$f":"H20","v":"Dir. of Travel"},{"$f":"I20","v":"Begin Ref. Loc. Sign"},{"$f":"J20","v":"End Ref. Loc. Sign"},null,null,null,{"$f":"P20","v":"Type"},"Depth","Type","Depth","Type","Depth","Type","Depth","Source","Type","Durability Class","Type"]
[null,null,null,"IN","IN",null,null,null,null,null,null,null,null,null,null,null,"IN",null,"IN",null,"IN",null,"IN"]
[null,null,null,null,null,null,null,null,null,null,null,null,null,null,null,null,null,null,null,null,null,null,null,null,null,null,null,null,null,null,null,null,null,null,null,null,null,null,null,{"$f":"Q22","v":"IN"},null,{"$f":"S22","v":"IN"},null,{"$f":"U22","v":"IN"},null,{"$f":"W22","v":"IN"}]
[null,null,null,null,null,"Northbound"]
[null,null,null,11.5,null,77,"I-35",1,93.84,95.77,null,null,2018,"M","IMN-035-4(201)87--0E-77","PCC",null,null,null,null,null,null,null,null,null,null,"PCC PATCHING"]
[null,null,null,null,null,77,"I-35",1,93.84,95.77,null,null,2017,"M","IMN-035-4(179)87--0E-77","PCC",12,null,null,null,null,null,null,null,null,null,"PCC PATCHING"]
[null,null,null,null,null,77,"I-35",1,93.84,95.77,null,null,2012,null,"IM-035-4(137)94--13-77","PCC",11.5,"GSB",6]
[]
[null,null,null,16,null,77,"I-35",1,95.77,101.72,null,null,2018,"M","IMN-035-4(201)87--0E-77","PCC",null,null,null,null,null,null,null,null,null,null,"PCC PATCHING"]
[null,null,null,null,null,77,"I-35",1,95.77,101.72,null,null,2017,"M","IMN-035-4(179)87--0E-77","PCC",12,null,null,null,null,null,null,null,null,null,"PCC PATCHING"]
[null,null,null,null,null,77,"I-35",1,95.77,101.72,null,null,2008,"W","IM-35-4(131)92--13-77","HMA",2,"HMA",2,null,null,null,null,"AMES MINE","C.LST."]
[null,null,null,null,null,77,"I-35",1,95.77,101.72,null,null,2008,null,"IM-35-4(131)92--13-77","HMA",2,"HMA",2,null,null,"MIL",2,"AMES MINE","C.LST.",null,"WIDENING VARIES"]
[null,null,null,null,null,77,"I-35",1,95.77,101.72,null,null,1988,null,"IR-35-3(49)87","AAC",4,null,null,null,null,null,null,"AMES MINE","C.LST."]
[null,null,null,null,null,77,"I-35",1,95.77,101.72,null,null,1965,null,"I-35-4(11)93","PCC",10,"GSB",4,null,null,null,null,"CHRISTENSEN","GRAVEL",1]
[]
[null,null,null,14,null,85,"I-35",1,101.72,102.56,null,null,2018,"M","IMN-035-4(201)87--0E-77","PCC",null,null,null,null,null,null,null,null,null,null,"PCC PATCHING"]
[null,null,null,null,null,85,"I-35",1,101.72,102.56,null,null,2017,"M","IMN-035-4(179)87--0E-77","PCC",12,null,null,null,null,null,null,null,null,null,"PCC PATCHING"]
[null,null,null,null,null,85,"I-35",1,101.72,102.56,null,null,2008,"W","IM-35-4(131)92--10-77","HMA",2,"HMA",2,null,null,null,null,"AMES MINE","C.LST."]
[null,null,null,null,null,85,"I-35",1,101.72,102.56,null,null,2008,null,"IM-35-4(131)92--10-77","HMA",2,"HMA",2,null,null,null,null,"AMES MINE","C.LST."]
[null,null,null,null,null,85,"I-35",1,101.72,102.56,null,null,1988,null,"IR-35-3(49)87","AAC",4,null,null,null,null,null,null,"AMES MINE","C.LST."]
[null,null,null,null,null,85,"I-35",1,101.72,102.56,null,null,1965,null,"I-35-4(11)93","PCC",10,"GSB",4,null,null,null,null,"CHRISTENSEN","GRAVEL",1]
[]
[null,null,null,20,null,85,"I-35",1,102.56,103.22,null,null,2018,"M","IMN-035-4(201)87--0E-77","PCC",null,null,null,null,null,null,null,null,null,null,"PCC PATCHING"]
[null,null,null,null,null,85,"I-35",1,102.56,103.22,null,null,2017,"M","IMN-035-4(179)87--0E-77","PCC",12,null,null,null,null,null,null,null,null,null,"PCC PATCHING"]
[null,null,null,null,null,85,"I-35",1,102.56,103.22,null,null,2008,"W","IM-35-4(131)92--10-77","HMA",2,"HMA",2,null,null,"MIL",2,"AMES MINE","C.LST."]
[null,null,null,null,null,85,"I-35",1,102.56,103.22,null,null,2008,null,"IM-35-4(131)92--10-77","HMA",2,"HMA",2,null,null,"MIL",2,"AMES MINE","C.LST."]
[null,null,null,null,null,85,"I-35",1,102.56,103.22,null,null,1997,null,"IM-35-4(83)98--13-77","AAC",2,"AAC",6,null,null,null,null,"AMES MINE","C.LST."]
[null,null,null,null,null,85,"I-35",1,102.56,103.22,null,null,1965,null,"I-IG-35-4(12)103","PCC",10,"GSB",4,null,null,null,null,"FERGUSON","C.LST.","I"]
[]
[null,null,null,21,null,85,"I-35",1,103.22,105.79,null,null,2018,"M","IMN-035-4(201)87--0E-77","PCC",null,null,null,null,null,null,null,null,null,null,"PCC PATCHING"]
[null,null,null,null,null,85,"I-35",1,103.22,105.79,null,null,2017,"M","IMN-035-4(179)87--0E-77","PCC",12,null,null,null,null,null,null,null,null,null,"PCC PATCHING"]
[null,null,null,null,null,85,"I-35",1,103.22,105.79,null,null,2017,"S","IMN-035-4(190)98--0E-77","HMA",1.5,"HMA",1.5,null,null,"SCR",1.5]
[null,null,null,null,null,85,"I-35",1,103.22,105.79,null,null,2017,"S","IMN-035-4(190)98--03-77","HMA",1.5,"HMA",1.5,null,null,"SCR",1.5]
[null,null,null,null,null,85,"I-35",1,103.22,105.79,null,null,1997,null,"IM-35-4(83)98--13-77","AAC",2,"AAC",6,null,null,null,null,"AMES MINE","C.LST."]
[null,null,null,null,null,85,"I-35",1,103.22,105.79,null,null,1965,null,"I-IG-35-4(12)103","PCC",10,"GSB",4,null,null,null,null,"FERGUSON","C.LST.","I"]
[]
[null,null,null,11.5,null,85,"I-35",1,105.79,111.75,null,null,2018,"M","IMN-035-4(201)87--0E-77","PCC",null,null,null,null,null,null,null,null,null,null,"PCC PATCHING"]
[null,null,null,null,null,85,"I-35",1,105.79,111.75,null,null,2018,"O","IM-NHS-035-4(202)109--03-85","PCC",11.5,"GSB",8]
[null,null,null,null,null,85,"I-35",1,105.79,111.75,null,null,2017,"M","IMN-035-4(179)87--0E-77","PCC",12,null,null,null,null,null,null,null,null,null,"PCC PATCHING"]
[null,null,null,null,null,85,"I-35",1,105.79,111.75,null,null,2013,null,"MPIN-035-1(708)106--0N-85","MSS"]
[null,null,null,null,null,85,"I-35",1,105.79,111.75,null,null,2008,null,"IMX-35-4(130)106--02-85","HMA",2,null,null,null,null,"MIL",2,"AMES MINE","C.LST."]
[null,null,null,null,null,85,"I-35",1,105.79,111.75,null,null,2008,"W","IMX-35-4(130)106--02-85","HMA",2,null,null,null,null,"MIL",2,"AMES MINE","C.LST.",null,"WIDENING WIDTH VARIES"]
[null,null,null,null,null,85,"I-35",1,105.79,111.75,null,null,2002,"V","IMX-35-4(88)96--O2-77","AAC",2.5,"AAC",2,null,null,null,null,null,null,null,"0.41 MI PATCH"]
[null,null,null,null,null,85,"I-35",1,105.79,111.75,null,null,1987,null,"IR-35-3(47)87","AAC",1.5,"AAC",3,null,null,null,null,"AMES MINE","C.LST."]
[null,null,null,null,null,85,"I-35",1,105.79,111.75,null,null,1965,null,"I-IG-35-4(12)103","PCC",10,"GSB",4,null,null,null,null,"CHRISTENSEN","GRAVEL",1]
[]
[null,null,null,16.5,null,85,"I-35",1,111.75,112.72,null,null,2018,"M","IMN-035-4(201)87--0E-77","PCC",null,null,null,null,null,null,null,null,null,null,"PCC PATCHING"]
[null,null,null,null,null,85,"I-35",1,111.75,112.72,null,null,2017,"M","IMN-035-4(179)87--0E-77","PCC",12,null,null,null,null,null,null,null,null,null,"PCC PATCHING"]
[null,null,null,null,null,85,"I-35",1,111.75,112.72,null,null,2017,"S","IMX-035-5(109)112--02-85","HMA",2,"HMA",2,"HMA",1]
[null,null,null,null,null,85,"I-35",1,111.75,112.72,null,null,1988,null,"IR-35-5(45)111","PCC",11.5,"GSB",9,null,null,null,null,"AMES MINE","C.LST.","I"]
[]
[null,null,null,15,null,85,"I-35",1,112.72,116.67,null,null,2018,"M","IMN-035-4(201)87--0E-77","PCC",null,null,null,null,null,null,null,null,null,null,"PCC PATCHING"]
[null,null,null,null,null,85,"I-35",1,112.72,116.67,null,null,2017,"S","IMX-035-5(109)112--02-85","HMA",2,"HMA",2,"HMA",1]
[null,null,null,null,null,85,"I-35",1,112.72,116.67,null,null,2017,"M","IMN-035-4(179)87--0E-77","PCC",12,null,null,null,null,null,null,null,null,null,"PCC PATCHING"]
[null,null,null,null,null,85,"I-35",1,112.72,116.67,null,null,1983,null,"IR-35-5(35)111","PCC",10,"GSB",6,null,null,null,null,"GILMORE CITY","C.LST.","I"]
[]
[]
[null,null,null,null,null,"Southbound"]
[null,null,null,11.5,null,77,"I-35",2,93.84,95.71,null,null,2018,"M","IMN-035-4(201)87--0E-77","PCC",null,null,null,null,null,null,null,null,null,null,"PCC PATCHING"]
[null,null,null,null,null,77,"I-35",2,93.84,95.71,null,null,2017,"M","IMN-035-4(179)87--0E-77","PCC",12,null,null,null,null,null,null,null,null,null,"PCC PATCHING"]
[null,null,null,null,null,77,"I-35",2,93.84,95.71,null,null,2012,null,"IM-035-4(137)94--13-77","PCC",11.5,"GSB",6]
[]
[null,null,null,16,null,77,"I-35",2,95.71,98.7,null,null,2018,"M","IMN-035-4(201)87--0E-77","PCC",null,null,null,null,null,null,null,null,null,null,"PCC PATCHING"]
[null,null,null,null,null,77,"I-35",2,95.71,98.7,null,null,2017,"S","IMN-035-4(190)98--0E-77","HMA",1.5,"HMA",1.5,null,null,"SCR",3]
[null,null,null,null,null,77,"I-35",2,95.71,98.7,null,null,2017,"M","IMN-035-4(179)87--0E-77","PCC",12,null,null,null,null,null,null,null,null,null,"PCC PATCHING"]
[null,null,null,null,null,77,"I-35",2,95.71,98.7,null,null,2017,"S","IMN-035-4(190)98--03-77","HMA",1.5,"HMA",1.5,null,null,"SCR",3]
[null,null,null,null,null,77,"I-35",2,95.71,98.7,null,null,2008,"W","IM-35-4(131)92--13-77","HMA",2,"HMA",2]
[null,null,null,null,null,77,"I-35",2,95.71,98.7,null,null,2008,null,"IM-35-4(131)92--13-77","HMA",2,"HMA",2,null,null,"MIL",2,null,null,null,"WIDENING VARIES"]
[null,null,null,null,null,77,"I-35",2,95.71,98.7,null,null,1989,null,"IR-35-4(59)92","AAC",4,null,null,null,null,null,null,"FERGUSON","C.LST."]
[null,null,null,null,null,77,"I-35",2,95.71,98.7,null,null,1965,null,"I-35-4(11)93","PCC",10,"GSB",4,null,null,null,null,"CHRISTENSEN","GRAVEL",1]
[]
[null,null,null,18,null,77,"I-35",2,98.7,101.72,null,null,2017,"M","IMN-035-4(179)87--0E-77","PCC",12,null,null,null,null,null,null,null,null,null,"PCC PATCHING"]
[null,null,null,null,null,77,"I-35",2,98.7,101.72,null,null,2017,"S","IMN-035-4(190)98--0E-77","HMA",1.5,"HMA",1.5,null,null,"SCR",3]
[null,null,null,null,null,77,"I-35",2,98.7,101.72,null,null,1997,null,"IM-35-4(83)98--13-77","AAC",2,"AAC",6,null,null,null,null,"AMES MINE","C.LST."]
[null,null,null,null,null,77,"I-35",2,98.7,101.72,null,null,1965,null,"I-35-4(11)93","PCC",10,"GSB",4,null,null,null,null,"FERGUSON","C.LST.","I"]
[]
[null,null,null,18,null,85,"I-35",2,101.72,103.04,null,null,2018,"M","IMN-035-4(201)87--0E-77","PCC",null,null,null,null,null,null,null,null,null,null,"PCC PATCHING"]
[null,null,null,null,null,85,"I-35",2,101.72,103.04,null,null,2017,"S","IMN-035-4(190)98--03-77","HMA",1.5,"HMA",1.5,null,null,"SCR",3]
[null,null,null,null,null,85,"I-35",2,101.72,103.04,null,null,2017,"S","IMN-035-4(190)98--0E-77","HMA",1.5,"HMA",1.5,null,null,"SCR",3]
[null,null,null,null,null,85,"I-35",2,101.72,103.04,null,null,2017,"M","IMN-035-4(179)87--0E-77","PCC",12,null,null,null,null,null,null,null,null,null,"PCC PATCHING"]
[null,null,null,null,null,85,"I-35",2,101.72,103.04,null,null,1997,null,"IM-35-4(83)98--13-77","AAC",2,"AAC",6,null,null,null,null,"AMES MINE","C.LST."]
[null,null,null,null,null,85,"I-35",2,101.72,103.04,null,null,1965,null,"I-35-4(11)93","PCC",10,"GSB",4,null,null,null,null,"FERGUSON","C.LST.","I"]
[]
[]
[null,null,null,18,null,85,"I-35",2,103.04,105.79,null,null,2018,"M","IMN-035-4(201)87--0E-77","PCC",null,null,null,null,null,null,null,null,null,null,"PCC PATCHING"]
[null,null,null,null,null,85,"I-35",2,103.04,105.79,null,null,2017,"M","IMN-035-4(179)87--0E-77","PCC",12,null,null,null,null,null,null,null,null,null,"PCC PATCHING"]
[null,null,null,null,null,85,"I-35",2,103.04,105.79,null,null,2017,"S","IMN-035-4(190)98--03-77","HMA",1.5,"HMA",1.5,null,null,"SCR",3]
[null,null,null,null,null,85,"I-35",2,103.04,105.79,null,null,2017,"S","IMN-035-4(190)98--0E-77","HMA",1.5,"HMA",1.5,null,null,"SCR",3]
[null,null,null,null,null,85,"I-35",2,103.04,105.79,null,null,1997,null,"IM-35-4(83)98--13-77","AAC",2,"AAC",6,null,null,null,null,"AMES MINE","C.LST."]
[null,null,null,null,null,85,"I-35",2,103.04,105.79,null,null,1965,null,"I-IG-35-4(12)103","PCC",10,"GSB",4,null,null,null,null,"FERGUSON","C.LST.","I"]
[]
[null,null,null,14.5,null,85,"I-35",2,105.79,107.84,null,null,2018,"M","IMN-035-4(201)87--0E-77","PCC",null,null,null,null,null,null,null,null,null,null,"PCC PATCHING"]
[null,null,null,null,null,85,"I-35",2,105.79,107.84,null,null,2017,"M","IMN-035-4(179)87--0E-77","PCC",12,null,null,null,null,null,null,null,null,null,"PCC PATCHING"]
[null,null,null,null,null,85,"I-35",2,105.79,107.84,null,null,2013,null,"MPIN-035-1(708)106--0N-85","MSS"]
[null,null,null,null,null,85,"I-35",2,105.79,107.84,null,null,2008,null,"IMX-35-4(130)106--02-85","HMA",2,null,null,null,null,"MIL",2,"AMES MINE","C.LST."]
[null,null,null,null,null,85,"I-35",2,105.79,107.84,null,null,2008,"W","IMX-35-4(130)106--02-85","HMA",2,null,null,null,null,"MIL",2,"AMES MINE","C.LST.",null,"WIDENING VARIES"]
[null,null,null,null,null,85,"I-35",2,105.79,107.84,null,null,1989,null,"IR-35-4(58)105","AAC",4.5,null,null,null,null,null,null,"AMES MINE","C.LST."]
[null,null,null,null,null,85,"I-35",2,105.79,107.84,null,null,1965,null,"I-IG-35-4(12)103","PCC",10,"GSB",4,null,null,null,null,"CHRISTENSEN","GRAVEL",1]
[]
[null,null,null,11.5,null,85,"I-35",2,107.84,110.24,null,null,2018,"M","IMN-035-4(201)87--0E-77","PCC",null,null,null,null,null,null,null,null,null,null,"PCC PATCHING"]
[null,null,null,null,null,85,"I-35",2,107.84,110.24,null,null,2017,"O","IM-NHS-035-4(208)109--03-85","PCC",11.5,"GSB",6]
[null,null,null,null,null,85,"I-35",2,107.84,110.24,null,null,2017,"M","IMN-035-4(179)87--0E-77","PCC",12,null,null,null,null,null,null,null,null,null,"PCC PATCHING"]
[]
[null,null,null,14.5,null,85,"I-35",2,110.24,111.75,null,null,2018,"M","IMN-035-4(201)87--0E-77","PCC",null,null,null,null,null,null,null,null,null,null,"PCC PATCHING"]
[null,null,null,null,null,85,"I-35",2,110.24,111.75,null,null,2017,"M","IMN-035-4(179)87--0E-77","PCC",12,null,null,null,null,null,null,null,null,null,"PCC PATCHING"]
[null,null,null,null,null,85,"I-35",2,110.24,111.75,null,null,2013,null,"MPIN-035-1(708)106--0N-85","MSS"]
[null,null,null,null,null,85,"I-35",2,110.24,111.75,null,null,2008,null,"IMX-35-4(130)106--02-85","HMA",2,null,null,null,null,"MIL",2,"AMES MINE","C.LST."]
[null,null,null,null,null,85,"I-35",2,110.24,111.75,null,null,2008,"W","IMX-35-4(130)106--02-85","HMA",2,null,null,null,null,"MIL",2,"AMES MINE","C.LST.",null,"WIDENING VARIES"]
[null,null,null,null,null,85,"I-35",2,110.24,111.75,null,null,1989,null,"IR-35-4(58)105","AAC",4.5,null,null,null,null,null,null,"AMES MINE","C.LST."]
[null,null,null,null,null,85,"I-35",2,110.24,111.75,null,null,1965,null,"I-IG-35-4(12)103","PCC",10,"GSB",4,null,null,null,null,"CHRISTENSEN","GRAVEL",1]
[]
[null,null,null,12,null,85,"I-35",2,111.75,126.04,null,null,2018,"M","IMN-035-4(201)87--0E-77","PCC",null,null,null,null,null,null,null,null,null,null,"PCC PATCHING"]
[null,null,null,null,null,85,"I-35",2,111.75,126.04,null,null,2017,"M","IMN-035-4(179)87--0E-77","PCC",12,null,null,null,null,null,null,null,null,null,"PCC PATCHING"]
[null,null,null,null,null,85,"I-35",2,111.75,126.04,null,null,1999,null,"IM-35-5(71)111-13-85","PCC",12,"GSB",10.5,null,null,null,null,"ALDEN","C.LST.","I"]
[]
[]
[]
[null,null,null,"23.5???",null,85,"IA-210",1,14.82,20.260000000000002,null,null,2007,null,"STPN-210-2(5)--2J-08","HMA",1.5,"HMA",1.5,"CIP",4,"MIL",4,"AMES MINE","C.LST."]
[null,null,null,null,null,85,"IA-210",1,14.82,20.260000000000002,null,null,2007,"W","STPN-210-2(5)--2J-08","HMA",1.5,"HMA",1.5,"HMA",5,null,null,"AMES MINE","C.LST."]
[null,null,null,null,null,85,"IA-210",1,14.82,20.260000000000002,null,null,1978,null,"FN-89-3(1)--21-85","BAC",1.5,"TBB",1.5,null,null,null,null,"CHRISTENSEN","GRAVEL"]
[null,null,null,null,null,85,"IA-210",1,14.82,20.260000000000002,null,null,1965,null,"FN-210-1(1)--21-85","BAC",1,"TBB",2.5]
[null,null,null,null,null,85,"IA-210",1,14.82,20.260000000000002,null,null,1956,null,"F-947(3)","BAC",2,"RSB",6,"SAS",6,null,null,"AMES MINE","C.LST."]
[]
[null,null,null,"26.5???",null,85,"IA-210",1,20.260000000000002,29.29,null,null,2012,"W","STP-210-3(31)--2C-85","HMA",1.5,"HMA",1.5,"HMA",9]
[null,null,null,null,null,85,"IA-210",1,20.260000000000002,29.29,null,null,2012,null,"STP-210-3(31)--2C-85","HMA",1.5,"HMA",1.5,"CIP",3]
[null,null,null,null,null,85,"IA-210",1,20.260000000000002,29.29,null,null,1985,null,"FN-210-3(11)--21-8","BAC",1.5,"TBB",1.5,null,null,null,null,"SOPERS MILL","C.LST."]
[null,null,null,null,null,85,"IA-210",1,20.260000000000002,29.29,null,null,1965,null,"FN-210-3(1)--21-85","BAC",1,"TBB",2.5]
[null,null,null,null,null,85,"IA-210",1,20.260000000000002,29.29,null,null,1956,null,"F-947(3)","BAC",2,"RSB",6,"SAS",6,null,null,"AMES MINE","C.LST."]

{"sheet":"100_7","index":4,"n_rows":160,"n_cols":20,"rows_kept":160,"cut":false,"hidden":false,"merged":[[0,0,0,19],[1,0,1,19],[2,0,3,19],[4,0,4,19],[5,0,5,19],[6,19,11,19],[7,0,7,1],[7,2,7,3],[8,0,11,0],[8,1,11,1],[8,2,11,2],[8,3,11,3],[8,5,8,6],[8,7,8,8],[6,0,6,3],[6,4,11,4],[6,5,7,8],[6,9,7,12],[6,13,7,16],[36,0,36,2],[9,5,10,5],[9,6,11,6],[9,7,10,7],[9,8,11,8],[9,17,10,17],[9,18,11,18],[13,0,13,2],[17,0,17,2],[29,0,29,2],[9,11,10,11],[9,12,11,12],[8,9,10,9],[8,10,10,10],[8,11,8,12],[8,13,10,13],[8,14,10,14],[8,15,8,16],[9,15,10,15],[9,16,11,16],[6,17,8,18],[48,0,48,2],[65,0,65,2],[71,0,71,2],[90,0,90,19],[91,0,91,19],[92,0,93,19],[94,0,94,19],[95,0,95,19],[96,0,96,3],[96,4,101,4],[96,5,97,8],[96,9,97,12],[96,13,97,16],[96,17,98,18],[96,19,101,19],[97,0,97,1],[97,2,97,3],[98,0,101,0],[98,1,101,1],[98,2,101,2],[98,3,101,3],[98,7,98,8],[98,9,100,9],[98,10,100,10],[98,11,98,12],[98,13,100,13],[143,0,143,2],[99,17,100,17],[99,18,101,18],[81,0,81,2],[122,0,122,2],[98,14,100,14],[98,15,98,16],[99,5,100,5],[99,6,101,6],[99,7,100,7],[99,8,101,8],[99,11,100,11],[99,12,101,12],[99,15,100,15],[99,16,101,16],[98,5,98,6]]}
["100-7"]
["2012-10-16"]
["FENCING"]
[]
[" * Bid Item"]
["Refer to MI-101, MI-102, MI-103, MI-104, 510-3, and 510-5"]
["Location",null,null,null,"Side","Chain Link",null,null,null,"Deer",null,null,null,"Field",null,null,null,"Channel Crossing",null,"Remarks"]
["From",null,"To"]
["Station","Offset","Station","Offset",null,"Fence",null,"Gate",null,"Fence Length*","Brace Panels*","Gate",null,"Fence Length*","Brace Panels*","Gate"]
[null,null,null,null,null,"Length*","Type","No.*","Type",null,null,"No.*","Type",null,null,"No.*","Type","Length*","Type"]
[]
[null,null,null,null,null,"LF",null,"EACH",null,"LF","EACH","EACH",null,"LF","EACH","EACH",null,"LF"]
[{"$f":"IF(OFFSET(DE100_7!$C$27,ROWS($C$27:C27)-1,COLUMNS($C$27:C27)-1)<>\"\",OFFSET(DE100_7!$C$27,ROWS($C$27:C27)-1,COLUMNS($C$27:C27)-1),\"\")","v":""},{"$f":"IF(OFFSET(DE100_7!$D$27,ROWS($D$27:D27)-1,COLUMNS($D$27:D27)-1)<>\"\",OFFSET(DE100_7!$D$27,ROWS($D$27:D27)-1,COLUMNS($D$27:D27)-1),\"\")","v":""},{"$f":"IF(OFFSET(DE100_7!$E$27,ROWS($E$27:E27)-1,COLUMNS($E$27:E27)-1)<>\"\",OFFSET(DE100_7!$E$27,ROWS($E$27:E27)-1,COLUMNS($E$27:E27)-1),\"\")","v":""},{"$f":"IF(OFFSET(DE100_7!$F$27,ROWS($F$27:F27)-1,COLUMNS($F$27:F27)-1)<>\"\",OFFSET(DE100_7!$F$27,ROWS($F$27:F27)-1,COLUMNS($F$27:F27)-1),\"\")","v":""},{"$f":"IF(OFFSET(DE100_7!$G$27,ROWS($G$27:G27)-1,COLUMNS($G$27:G27)-1)<>\"\",OFFSET(DE100_7!$G$27,ROWS($G$27:G27)-1,COLUMNS($G$27:G27)-1),\"\")","v":""},{"$f":"IF(OFFSET(DE100_7!$H$27,ROWS($H$27:H27)-1,COLUMNS($H$27:H27)-1)<>\"\",OFFSET(DE100_7!$H$27,ROWS($H$27:H27)-1,COLUMNS($H$27:H27)-1),\"\")","v":""},{"$f":"IF(OFFSET(DE100_7!$I$27,ROWS($I$27:I27)-1,COLUMNS($I$27:I27)-1)<>\"\",OFFSET(DE100_7!$I$27,ROWS($I$27:I27)-1,COLUMNS($I$27:I27)-1),\"\")","v":""},{"$f":"IF(OFFSET(DE100_7!$J$27,ROWS($J$27:J27)-1,COLUMNS($J$27:J27)-1)<>\"\",OFFSET(DE100_7!$J$27,ROWS($J$27:J27)-1,COLUMNS($J$27:J27)-1),\"\")","v":""},{"$f":"IF(OFFSET(DE100_7!$K$27,ROWS($K$27:K27)-1,COLUMNS($K$27:K27)-1)<>\"\",OFFSET(DE100_7!$K$27,ROWS($K$27:K27)-1,COLUMNS($K$27:K27)-1),\"\")","v":""},{"$f":"IF(OFFSET(DE100_7!$L$27,ROWS($L$27:L27)-1,COLUMNS($L$27:L27)-1)<>\"\",OFFSET(DE100_7!$L$27,ROWS($L$27:L27)-1,COLUMNS($L$27:L27)-1),\"\")","v":""},{"$f":"IF(OFFSET(DE100_7!$M$27,ROWS($M$27:M27)-1,COLUMNS($M$27:M27)-1)<>\"\",OFFSET(DE100_7!$M$27,ROWS($M$27:M27)-1,COLUMNS($M$27:M27)-1),\"\")","v":""},{"$f":"IF(OFFSET(DE100_7!$N$27,ROWS($N$27:N27)-1,COLUMNS($N$27:N27)-1)<>\"\",OFFSET(DE100_7!$N$27,ROWS($N$27:N27)-1,COLUMNS($N$27:N27)-1),\"\")","v":""},{"$f":"IF(OFFSET(DE100_7!$O$27,ROWS($O$27:O27)-1,COLUMNS($O$27:O27)-1)<>\"\",OFFSET(DE100_7!$O$27,ROWS($O$27:O27)-1,COLUMNS($O$27:O27)-1),\"\")","v":""},{"$f":"IF(OFFSET(DE100_7!$P$27,ROWS($P$27:P27)-1,COLUMNS($P$27:P27)-1)<>\"\",OFFSET(DE100_7!$P$27,ROWS($P$27:P27)-1,COLUMNS($P$27:P27)-1),\"\")","v":""},{"$f":"IF(OFFSET(DE100_7!$Q$27,ROWS($Q$27:Q27)-1,COLUMNS($Q$27:Q27)-1)<>\"\",OFFSET(DE100_7!$Q$27,ROWS($Q$27:Q27)-1,COLUMNS($Q$27:Q27)-1),\"\")","v":""},{"$f":"IF(OFFSET(DE100_7!$R$27,ROWS($R$27:R27)-1,COLUMNS($R$27:R27)-1)<>\"\",OFFSET(DE100_7!$R$27,ROWS($R$27:R27)-1,COLUMNS($R$27:R27)-1),\"\")","v":""},{"$f":"IF(OFFSET(DE100_7!$S$27,ROWS($S$27:S27)-1,COLUMNS($S$27:S27)-1)<>\"\",OFFSET(DE100_7!$S$27,ROWS($S$27:S27)-1,COLUMNS($S$27:S27)-1),\"\")","v":""},{"$f":"IF(OFFSET(DE100_7!$T$27,ROWS($T$27:T27)-1,COLUMNS($T$27:T27)-1)<>\"\",OFFSET(DE100_7!$T$27,ROWS($T$27:T27)-1,COLUMNS($T$27:T27)-1),\"\")","v":""},{"$f":"IF(OFFSET(DE100_7!$U$27,ROWS($U$27:U27)-1,COLUMNS($U$27:U27)-1)<>\"\",OFFSET(DE100_7!$U$27,ROWS($U$27:U27)-1,COLUMNS($U$27:U27)-1),\"\")","v":""},{"$f":"IF(OFFSET(DE100_7!$V$27,ROWS($V$27:V27)-1,COLUMNS($V$27:V27)-1)<>\"\",OFFSET(DE100_7!$V$27,ROWS($V$27:V27)-1,COLUMNS($V$27:V27)-1),\"\")","v":""}]
[{"$f":"IF(OFFSET(DE100_7!$C$27,ROWS($C$27:C28)-1,COLUMNS($C$27:C28)-1)<>\"\",OFFSET(DE100_7!$C$27,ROWS($C$27:C28)-1,COLUMNS($C$27:C28)-1),\"\")","v":"INTERSTATE 35 SB"},null,null,{"$f":"IF(OFFSET(DE100_7!$F$27,ROWS($F$27:F28)-1,COLUMNS($F$27:F28)-1)<>\"\",OFFSET(DE100_7!$F$27,ROWS($F$27:F28)-1,COLUMNS($F$27:F28)-1),\"\")","v":""},{"$f":"IF(OFFSET(DE100_7!$G$27,ROWS($G$27:G28)-1,COLUMNS($G$27:G28)-1)<>\"\",OFFSET(DE100_7!$G$27,ROWS($G$27:G28)-1,COLUMNS($G$27:G28)-1),\"\")","v":""},{"$f":"IF(OFFSET(DE100_7!$H$27,ROWS($H$27:H28)-1,COLUMNS($H$27:H28)-1)<>\"\",OFFSET(DE100_7!$H$27,ROWS($H$27:H28)-1,COLUMNS($H$27:H28)-1),\"\")","v":""},{"$f":"IF(OFFSET(DE100_7!$I$27,ROWS($I$27:I28)-1,COLUMNS($I$27:I28)-1)<>\"\",OFFSET(DE100_7!$I$27,ROWS($I$27:I28)-1,COLUMNS($I$27:I28)-1),\"\")","v":""},{"$f":"IF(OFFSET(DE100_7!$J$27,ROWS($J$27:J28)-1,COLUMNS($J$27:J28)-1)<>\"\",OFFSET(DE100_7!$J$27,ROWS($J$27:J28)-1,COLUMNS($J$27:J28)-1),\"\")","v":""},{"$f":"IF(OFFSET(DE100_7!$K$27,ROWS($K$27:K28)-1,COLUMNS($K$27:K28)-1)<>\"\",OFFSET(DE100_7!$K$27,ROWS($K$27:K28)-1,COLUMNS($K$27:K28)-1),\"\")","v":""},{"$f":"IF(OFFSET(DE100_7!$L$27,ROWS($L$27:L28)-1,COLUMNS($L$27:L28)-1)<>\"\",OFFSET(DE100_7!$L$27,ROWS($L$27:L28)-1,COLUMNS($L$27:L28)-1),\"\")","v":""},{"$f":"IF(OFFSET(DE100_7!$M$27,ROWS($M$27:M28)-1,COLUMNS($M$27:M28)-1)<>\"\",OFFSET(DE100_7!$M$27,ROWS($M$27:M28)-1,COLUMNS($M$27:M28)-1),\"\")","v":""},{"$f":"IF(OFFSET(DE100_7!$N$27,ROWS($N$27:N28)-1,COLUMNS($N$27:N28)-1)<>\"\",OFFSET(DE100_7!$N$27,ROWS($N$27:N28)-1,COLUMNS($N$27:N28)-1),\"\")","v":""},{"$f":"IF(OFFSET(DE100_7!$O$27,ROWS($O$27:O28)-1,COLUMNS($O$27:O28)-1)<>\"\",OFFSET(DE100_7!$O$27,ROWS($O$27:O28)-1,COLUMNS($O$27:O28)-1),\"\")","v":""},{"$f":"IF(OFFSET(DE100_7!$P$27,ROWS($P$27:P28)-1,COLUMNS($P$27:P28)-1)<>\"\",OFFSET(DE100_7!$P$27,ROWS($P$27:P28)-1,COLUMNS($P$27:P28)-1),\"\")","v":""},{"$f":"IF(OFFSET(DE100_7!$Q$27,ROWS($Q$27:Q28)-1,COLUMNS($Q$27:Q28)-1)<>\"\",OFFSET(DE100_7!$Q$27,ROWS($Q$27:Q28)-1,COLUMNS($Q$27:Q28)-1),\"\")","v":""},{"$f":"IF(OFFSET(DE100_7!$R$27,ROWS($R$27:R28)-1,COLUMNS($R$27:R28)-1)<>\"\",OFFSET(DE100_7!$R$27,ROWS($R$27:R28)-1,COLUMNS($R$27:R28)-1),\"\")","v":""},{"$f":"IF(OFFSET(DE100_7!$S$27,ROWS($S$27:S28)-1,COLUMNS($S$27:S28)-1)<>\"\",OFFSET(DE100_7!$S$27,ROWS($S$27:S28)-1,COLUMNS($S$27:S28)-1),\"\")","v":""},{"$f":"IF(OFFSET(DE100_7!$T$27,ROWS($T$27:T28)-1,COLUMNS($T$27:T28)-1)<>\"\",OFFSET(DE100_7!$T$27,ROWS($T$27:T28)-1,COLUMNS($T$27:T28)-1),\"\")","v":""},{"$f":"IF(OFFSET(DE100_7!$U$27,ROWS($U$27:U28)-1,COLUMNS($U$27:U28)-1)<>\"\",OFFSET(DE100_7!$U$27,ROWS($U$27:U28)-1,COLUMNS($U$27:U28)-1),\"\")","v":""},{"$f":"IF(OFFSET(DE100_7!$V$27,ROWS($V$27:V28)-1,COLUMNS($V$27:V28)-1)<>\"\",OFFSET(DE100_7!$V$27,ROWS($V$27:V28)-1,COLUMNS($V$27:V28)-1),\"\")","v":""}]
[{"$f":"IF(OFFSET(DE100_7!$C$27,ROWS($C$27:C29)-1,COLUMNS($C$27:C29)-1)<>\"\",OFFSET(DE100_7!$C$27,ROWS($C$27:C29)-1,COLUMNS($C$27:C29)-1),\"\")","v":174400.01},{"$f":"IF(OFFSET(DE100_7!$D$27,ROWS($D$27:D29)-1,COLUMNS($D$27:D29)-1)<>\"\",OFFSET(DE100_7!$D$27,ROWS($D$27:D29)-1,COLUMNS($D$27:D29)-1),\"\")","v":116.63},{"$f":"IF(OFFSET(DE100_7!$E$27,ROWS($E$27:E29)-1,COLUMNS($E$27:E29)-1)<>\"\",OFFSET(DE100_7!$E$27,ROWS($E$27:E29)-1,COLUMNS($E$27:E29)-1),\"\")","v":175045.02},{"$f":"IF(OFFSET(DE100_7!$F$27,ROWS($F$27:F29)-1,COLUMNS($F$27:F29)-1)<>\"\",OFFSET(DE100_7!$F$27,ROWS($F$27:F29)-1,COLUMNS($F$27:F29)-1),\"\")","v":136},{"$f":"IF(OFFSET(DE100_7!$G$27,ROWS($G$27:G29)-1,COLUMNS($G$27:G29)-1)<>\"\",OFFSET(DE100_7!$G$27,ROWS($G$27:G29)-1,COLUMNS($G$27:G29)-1),\"\")","v":"LT"},{"$f":"IF(OFFSET(DE100_7!$H$27,ROWS($H$27:H29)-1,COLUMNS($H$27:H29)-1)<>\"\",OFFSET(DE100_7!$H$27,ROWS($H$27:H29)-1,COLUMNS($H$27:H29)-1),\"\")","v":651.1},{"$f":"IF(OFFSET(DE100_7!$I$27,ROWS($I$27:I29)-1,COLUMNS($I$27:I29)-1)<>\"\",OFFSET(DE100_7!$I$27,ROWS($I$27:I29)-1,COLUMNS($I$27:I29)-1),\"\")","v":"72 IN."},{"$f":"IF(OFFSET(DE100_7!$J$27,ROWS($J$27:J29)-1,COLUMNS($J$27:J29)-1)<>\"\",OFFSET(DE100_7!$J$27,ROWS($J$27:J29)-1,COLUMNS($J$27:J29)-1),\"\")","v":""},{"$f":"IF(OFFSET(DE100_7!$K$27,ROWS($K$27:K29)-1,COLUMNS($K$27:K29)-1)<>\"\",OFFSET(DE100_7!$K$27,ROWS($K$27:K29)-1,COLUMNS($K$27:K29)-1),\"\")","v":""},{"$f":"IF(OFFSET(DE100_7!$L$27,ROWS($L$27:L29)-1,COLUMNS($L$27:L29)-1)<>\"\",OFFSET(DE100_7!$L$27,ROWS($L$27:L29)-1,COLUMNS($L$27:L29)-1),\"\")","v":""},{"$f":"IF(OFFSET(DE100_7!$M$27,ROWS($M$27:M29)-1,COLUMNS($M$27:M29)-1)<>\"\",OFFSET(DE100_7!$M$27,ROWS($M$27:M29)-1,COLUMNS($M$27:M29)-1),\"\")","v":""},{"$f":"IF(OFFSET(DE100_7!$N$27,ROWS($N$27:N29)-1,COLUMNS($N$27:N29)-1)<>\"\",OFFSET(DE100_7!$N$27,ROWS($N$27:N29)-1,COLUMNS($N$27:N29)-1),\"\")","v":""},{"$f":"IF(OFFSET(DE100_7!$O$27,ROWS($O$27:O29)-1,COLUMNS($O$27:O29)-1)<>\"\",OFFSET(DE100_7!$O$27,ROWS($O$27:O29)-1,COLUMNS($O$27:O29)-1),\"\")","v":""},{"$f":"IF(OFFSET(DE100_7!$P$27,ROWS($P$27:P29)-1,COLUMNS($P$27:P29)-1)<>\"\",OFFSET(DE100_7!$P$27,ROWS($P$27:P29)-1,COLUMNS($P$27:P29)-1),\"\")","v":""},{"$f":"IF(OFFSET(DE100_7!$Q$27,ROWS($Q$27:Q29)-1,COLUMNS($Q$27:Q29)-1)<>\"\",OFFSET(DE100_7!$Q$27,ROWS($Q$27:Q29)-1,COLUMNS($Q$27:Q29)-1),\"\")","v":""},{"$f":"IF(OFFSET(DE100_7!$R$27,ROWS($R$27:R29)-1,COLUMNS($R$27:R29)-1)<>\"\",OFFSET(DE100_7!$R$27,ROWS($R$27:R29)-1,COLUMNS($R$27:R29)-1),\"\")","v":""},{"$f":"IF(OFFSET(DE100_7!$S$27,ROWS($S$27:S29)-1,COLUMNS($S$27:S29)-1)<>\"\",OFFSET(DE100_7!$S$27,ROWS($S$27:S29)-1,COLUMNS($S$27:S29)-1),\"\")","v":""},{"$f":"IF(OFFSET(DE100_7!$T$27,ROWS($T$27:T29)-1,COLUMNS($T$27:T29)-1)<>\"\",OFFSET(DE100_7!$T$27,ROWS($T$27:T29)-1,COLUMNS($T$27:T29)-1),\"\")","v":""},{"$f":"IF(OFFSET(DE100_7!$U$27,ROWS($U$27:U29)-1,COLUMNS($U$27:U29)-1)<>\"\",OFFSET(DE100_7!$U$27,ROWS($U$27:U29)-1,COLUMNS($U$27:U29)-1),\"\")","v":""},{"$f":"IF(OFFSET(DE100_7!$V$27,ROWS($V$27:V29)-1,COLUMNS($V$27:V29)-1)<>\"\",OFFSET(DE100_7!$V$27,ROWS($V$27:V29)-1,COLUMNS($V$27:V29)-1),\"\")","v":""}]
[{"$f":"IF(OFFSET(DE100_7!$C$27,ROWS($C$27:C30)-1,COLUMNS($C$27:C30)-1)<>\"\",OFFSET(DE100_7!$C$27,ROWS($C$27:C30)-1,COLUMNS($C$27:C30)-1),\"\")","v":175045.02},{"$f":"IF(OFFSET(DE100_7!$D$27,ROWS($D$27:D30)-1,COLUMNS($D$27:D30)-1)<>\"\",OFFSET(DE100_7!$D$27,ROWS($D$27:D30)-1,COLUMNS($D$27:D30)-1),\"\")","v":136},{"$f":"IF(OFFSET(DE100_7!$E$27,ROWS($E$27:E30)-1,COLUMNS($E$27:E30)-1)<>\"\",OFFSET(DE100_7!$E$27,ROWS($E$27:E30)-1,COLUMNS($E$27:E30)-1),\"\")","v":176022.55},{"$f":"IF(OFFSET(DE100_7!$F$27,ROWS($F$27:F30)-1,COLUMNS($F$27:F30)-1)<>\"\",OFFSET(DE100_7!$F$27,ROWS($F$27:F30)-1,COLUMNS($F$27:F30)-1),\"\")","v":137},{"$f":"IF(OFFSET(DE100_7!$G$27,ROWS($G$27:G30)-1,COLUMNS($G$27:G30)-1)<>\"\",OFFSET(DE100_7!$G$27,ROWS($G$27:G30)-1,COLUMNS($G$27:G30)-1),\"\")","v":"LT"},{"$f":"IF(OFFSET(DE100_7!$H$27,ROWS($H$27:H30)-1,COLUMNS($H$27:H30)-1)<>\"\",OFFSET(DE100_7!$H$27,ROWS($H$27:H30)-1,COLUMNS($H$27:H30)-1),\"\")","v":978.7},{"$f":"IF(OFFSET(DE100_7!$I$27,ROWS($I$27:I30)-1,COLUMNS($I$27:I30)-1)<>\"\",OFFSET(DE100_7!$I$27,ROWS($I$27:I30)-1,COLUMNS($I$27:I30)-1),\"\")","v":"72 IN."},{"$f":"IF(OFFSET(DE100_7!$J$27,ROWS($J$27:J30)-1,COLUMNS($J$27:J30)-1)<>\"\",OFFSET(DE100_7!$J$27,ROWS($J$27:J30)-1,COLUMNS($J$27:J30)-1),\"\")","v":""},{"$f":"IF(OFFSET(DE100_7!$K$27,ROWS($K$27:K30)-1,COLUMNS($K$27:K30)-1)<>\"\",OFFSET(DE100_7!$K$27,ROWS($K$27:K30)-1,COLUMNS($K$27:K30)-1),\"\")","v":""},{"$f":"IF(OFFSET(DE100_7!$L$27,ROWS($L$27:L30)-1,COLUMNS($L$27:L30)-1)<>\"\",OFFSET(DE100_7!$L$27,ROWS($L$27:L30)-1,COLUMNS($L$27:L30)-1),\"\")","v":""},{"$f":"IF(OFFSET(DE100_7!$M$27,ROWS($M$27:M30)-1,COLUMNS($M$27:M30)-1)<>\"\",OFFSET(DE100_7!$M$27,ROWS($M$27:M30)-1,COLUMNS($M$27:M30)-1),\"\")","v":""},{"$f":"IF(OFFSET(DE100_7!$N$27,ROWS($N$27:N30)-1,COLUMNS($N$27:N30)-1)<>\"\",OFFSET(DE100_7!$N$27,ROWS($N$27:N30)-1,COLUMNS($N$27:N30)-1),\"\")","v":""},{"$f":"IF(OFFSET(DE100_7!$O$27,ROWS($O$27:O30)-1,COLUMNS($O$27:O30)-1)<>\"\",OFFSET(DE100_7!$O$27,ROWS($O$27:O30)-1,COLUMNS($O$27:O30)-1),\"\")","v":""},{"$f":"IF(OFFSET(DE100_7!$P$27,ROWS($P$27:P30)-1,COLUMNS($P$27:P30)-1)<>\"\",OFFSET(DE100_7!$P$27,ROWS($P$27:P30)-1,COLUMNS($P$27:P30)-1),\"\")","v":""},{"$f":"IF(OFFSET(DE100_7!$Q$27,ROWS($Q$27:Q30)-1,COLUMNS($Q$27:Q30)-1)<>\"\",OFFSET(DE100_7!$Q$27,ROWS($Q$27:Q30)-1,COLUMNS($Q$27:Q30)-1),\"\")","v":""},{"$f":"IF(OFFSET(DE100_7!$R$27,ROWS($R$27:R30)-1,COLUMNS($R$27:R30)-1)<>\"\",OFFSET(DE100_7!$R$27,ROWS($R$27:R30)-1,COLUMNS($R$27:R30)-1),\"\")","v":""},{"$f":"IF(OFFSET(DE100_7!$S$27,ROWS($S$27:S30)-1,COLUMNS($S$27:S30)-1)<>\"\",OFFSET(DE100_7!$S$27,ROWS($S$27:S30)-1,COLUMNS($S$27:S30)-1),\"\")","v":""},{"$f":"IF(OFFSET(DE100_7!$T$27,ROWS($T$27:T30)-1,COLUMNS($T$27:T30)-1)<>\"\",OFFSET(DE100_7!$T$27,ROWS($T$27:T30)-1,COLUMNS($T$27:T30)-1),\"\")","v":""},{"$f":"IF(OFFSET(DE100_7!$U$27,ROWS($U$27:U30)-1,COLUMNS($U$27:U30)-1)<>\"\",OFFSET(DE100_7!$U$27,ROWS($U$27:U30)-1,COLUMNS($U$27:U30)-1),\"\")","v":""},{"$f":"IF(OFFSET(DE100_7!$V$27,ROWS($V$27:V30)-1,COLUMNS($V$27:V30)-1)<>\"\",OFFSET(DE100_7!$V$27,ROWS($V$27:V30)-1,COLUMNS($V$27:V30)-1),\"\")","v":""}]
[{"$f":"IF(OFFSET(DE100_7!$C$27,ROWS($C$27:C31)-1,COLUMNS($C$27:C31)-1)<>\"\",OFFSET(DE100_7!$C$27,ROWS($C$27:C31)-1,COLUMNS($C$27:C31)-1),\"\")","v":176022.55},{"$f":"IF(OFFSET(DE100_7!$D$27,ROWS($D$27:D31)-1,COLUMNS($D$27:D31)-1)<>\"\",OFFSET(DE100_7!$D$27,ROWS($D$27:D31)-1,COLUMNS($D$27:D31)-1),\"\")","v":137},{"$f":"IF(OFFSET(DE100_7!$E$27,ROWS($E$27:E31)-1,COLUMNS($E$27:E31)-1)<>\"\",OFFSET(DE100_7!$E$27,ROWS($E$27:E31)-1,COLUMNS($E$27:E31)-1),\"\")","v":176674.81},{"$f":"IF(OFFSET(DE100_7!$F$27,ROWS($F$27:F31)-1,COLUMNS($F$27:F31)-1)<>\"\",OFFSET(DE100_7!$F$27,ROWS($F$27:F31)-1,COLUMNS($F$27:F31)-1),\"\")","v":143},{"$f":"IF(OFFSET(DE100_7!$G$27,ROWS($G$27:G31)-1,COLUMNS($G$27:G31)-1)<>\"\",OFFSET(DE100_7!$G$27,ROWS($G$27:G31)-1,COLUMNS($G$27:G31)-1),\"\")","v":"LT"},{"$f":"IF(OFFSET(DE100_7!$H$27,ROWS($H$27:H31)-1,COLUMNS($H$27:H31)-1)<>\"\",OFFSET(DE100_7!$H$27,ROWS($H$27:H31)-1,COLUMNS($H$27:H31)-1),\"\")","v":652.29999999999995},{"$f":"IF(OFFSET(DE100_7!$I$27,ROWS($I$27:I31)-1,COLUMNS($I$27:I31)-1)<>\"\",OFFSET(DE100_7!$I$27,ROWS($I$27:I31)-1,COLUMNS($I$27:I31)-1),\"\")","v":"72 IN."},{"$f":"IF(OFFSET(DE100_7!$J$27,ROWS($J$27:J31)-1,COLUMNS($J$27:J31)-1)<>\"\",OFFSET(DE100_7!$J$27,ROWS($J$27:J31)-1,COLUMNS($J$27:J31)-1),\"\")","v":""},{"$f":"IF(OFFSET(DE100_7!$K$27,ROWS($K$27:K31)-1,COLUMNS($K$27:K31)-1)<>\"\",OFFSET(DE100_7!$K$27,ROWS($K$27:K31)-1,COLUMNS($K$27:K31)-1),\"\")","v":""},{"$f":"IF(OFFSET(DE100_7!$L$27,ROWS($L$27:L31)-1,COLUMNS($L$27:L31)-1)<>\"\",OFFSET(DE100_7!$L$27,ROWS($L$27:L31)-1,COLUMNS($L$27:L31)-1),\"\")","v":""},{"$f":"IF(OFFSET(DE100_7!$M$27,ROWS($M$27:M31)-1,COLUMNS($M$27:M31)-1)<>\"\",OFFSET(DE100_7!$M$27,ROWS($M$27:M31)-1,COLUMNS($M$27:M31)-1),\"\")","v":""},{"$f":"IF(OFFSET(DE100_7!$N$27,ROWS($N$27:N31)-1,COLUMNS($N$27:N31)-1)<>\"\",OFFSET(DE100_7!$N$27,ROWS($N$27:N31)-1,COLUMNS($N$27:N31)-1),\"\")","v":""},{"$f":"IF(OFFSET(DE100_7!$O$27,ROWS($O$27:O31)-1,COLUMNS($O$27:O31)-1)<>\"\",OFFSET(DE100_7!$O$27,ROWS($O$27:O31)-1,COLUMNS($O$27:O31)-1),\"\")","v":""},{"$f":"IF(OFFSET(DE100_7!$P$27,ROWS($P$27:P31)-1,COLUMNS($P$27:P31)-1)<>\"\",OFFSET(DE100_7!$P$27,ROWS($P$27:P31)-1,COLUMNS($P$27:P31)-1),\"\")","v":""},{"$f":"IF(OFFSET(DE100_7!$Q$27,ROWS($Q$27:Q31)-1,COLUMNS($Q$27:Q31)-1)<>\"\",OFFSET(DE100_7!$Q$27,ROWS($Q$27:Q31)-1,COLUMNS($Q$27:Q31)-1),\"\")","v":""},{"$f":"IF(OFFSET(DE100_7!$R$27,ROWS($R$27:R31)-1,COLUMNS($R$27:R31)-1)<>\"\",OFFSET(DE100_7!$R$27,ROWS($R$27:R31)-1,COLUMNS($R$27:R31)-1),\"\")","v":""},{"$f":"IF(OFFSET(DE100_7!$S$27,ROWS($S$27:S31)-1,COLUMNS($S$27:S31)-1)<>\"\",OFFSET(DE100_7!$S$27,ROWS($S$27:S31)-1,COLUMNS($S$27:S31)-1),\"\")","v":""},{"$f":"IF(OFFSET(DE100_7!$T$27,ROWS($T$27:T31)-1,COLUMNS($T$27:T31)-1)<>\"\",OFFSET(DE100_7!$T$27,ROWS($T$27:T31)-1,COLUMNS($T$27:T31)-1),\"\")","v":""},{"$f":"IF(OFFSET(DE100_7!$U$27,ROWS($U$27:U31)-1,COLUMNS($U$27:U31)-1)<>\"\",OFFSET(DE100_7!$U$27,ROWS($U$27:U31)-1,COLUMNS($U$27:U31)-1),\"\")","v":""},{"$f":"IF(OFFSET(DE100_7!$V$27,ROWS($V$27:V31)-1,COLUMNS($V$27:V31)-1)<>\"\",OFFSET(DE100_7!$V$27,ROWS($V$27:V31)-1,COLUMNS($V$27:V31)-1),\"\")","v":""}]
[{"$f":"IF(OFFSET(DE100_7!$C$27,ROWS($C$27:C32)-1,COLUMNS($C$27:C32)-1)<>\"\",OFFSET(DE100_7!$C$27,ROWS($C$27:C32)-1,COLUMNS($C$27:C32)-1),\"\")","v":"Gap for NE 126th Ave Ramps"},null,null,{"$f":"IF(OFFSET(DE100_7!$F$27,ROWS($F$27:F32)-1,COLUMNS($F$27:F32)-1)<>\"\",OFFSET(DE100_7!$F$27,ROWS($F$27:F32)-1,COLUMNS($F$27:F32)-1),\"\")","v":""},{"$f":"IF(OFFSET(DE100_7!$G$27,ROWS($G$27:G32)-1,COLUMNS($G$27:G32)-1)<>\"\",OFFSET(DE100_7!$G$27,ROWS($G$27:G32)-1,COLUMNS($G$27:G32)-1),\"\")","v":""},{"$f":"IF(OFFSET(DE100_7!$H$27,ROWS($H$27:H32)-1,COLUMNS($H$27:H32)-1)<>\"\",OFFSET(DE100_7!$H$27,ROWS($H$27:H32)-1,COLUMNS($H$27:H32)-1),\"\")","v":""},{"$f":"IF(OFFSET(DE100_7!$I$27,ROWS($I$27:I32)-1,COLUMNS($I$27:I32)-1)<>\"\",OFFSET(DE100_7!$I$27,ROWS($I$27:I32)-1,COLUMNS($I$27:I32)-1),\"\")","v":""},{"$f":"IF(OFFSET(DE100_7!$J$27,ROWS($J$27:J32)-1,COLUMNS($J$27:J32)-1)<>\"\",OFFSET(DE100_7!$J$27,ROWS($J$27:J32)-1,COLUMNS($J$27:J32)-1),\"\")","v":""},{"$f":"IF(OFFSET(DE100_7!$K$27,ROWS($K$27:K32)-1,COLUMNS($K$27:K32)-1)<>\"\",OFFSET(DE100_7!$K$27,ROWS($K$27:K32)-1,COLUMNS($K$27:K32)-1),\"\")","v":""},{"$f":"IF(OFFSET(DE100_7!$L$27,ROWS($L$27:L32)-1,COLUMNS($L$27:L32)-1)<>\"\",OFFSET(DE100_7!$L$27,ROWS($L$27:L32)-1,COLUMNS($L$27:L32)-1),\"\")","v":""},{"$f":"IF(OFFSET(DE100_7!$M$27,ROWS($M$27:M32)-1,COLUMNS($M$27:M32)-1)<>\"\",OFFSET(DE100_7!$M$27,ROWS($M$27:M32)-1,COLUMNS($M$27:M32)-1),\"\")","v":""},{"$f":"IF(OFFSET(DE100_7!$N$27,ROWS($N$27:N32)-1,COLUMNS($N$27:N32)-1)<>\"\",OFFSET(DE100_7!$N$27,ROWS($N$27:N32)-1,COLUMNS($N$27:N32)-1),\"\")","v":""},{"$f":"IF(OFFSET(DE100_7!$O$27,ROWS($O$27:O32)-1,COLUMNS($O$27:O32)-1)<>\"\",OFFSET(DE100_7!$O$27,ROWS($O$27:O32)-1,COLUMNS($O$27:O32)-1),\"\")","v":""},{"$f":"IF(OFFSET(DE100_7!$P$27,ROWS($P$27:P32)-1,COLUMNS($P$27:P32)-1)<>\"\",OFFSET(DE100_7!$P$27,ROWS($P$27:P32)-1,COLUMNS($P$27:P32)-1),\"\")","v":""},{"$f":"IF(OFFSET(DE100_7!$Q$27,ROWS($Q$27:Q32)-1,COLUMNS($Q$27:Q32)-1)<>\"\",OFFSET(DE100_7!$Q$27,ROWS($Q$27:Q32)-1,COLUMNS($Q$27:Q32)-1),\"\")","v":""},{"$f":"IF(OFFSET(DE100_7!$R$27,ROWS($R$27:R32)-1,COLUMNS($R$27:R32)-1)<>\"\",OFFSET(DE100_7!$R$27,ROWS($R$27:R32)-1,COLUMNS($R$27:R32)-1),\"\")","v":""},{"$f":"IF(OFFSET(DE100_7!$S$27,ROWS($S$27:S32)-1,COLUMNS($S$27:S32)-1)<>\"\",OFFSET(DE100_7!$S$27,ROWS($S$27:S32)-1,COLUMNS($S$27:S32)-1),\"\")","v":""},{"$f":"IF(OFFSET(DE100_7!$T$27,ROWS($T$27:T32)-1,COLUMNS($T$27:T32)-1)<>\"\",OFFSET(DE100_7!$T$27,ROWS($T$27:T32)-1,COLUMNS($T$27:T32)-1),\"\")","v":""},{"$f":"IF(OFFSET(DE100_7!$U$27,ROWS($U$27:U32)-1,COLUMNS($U$27:U32)-1)<>\"\",OFFSET(DE100_7!$U$27,ROWS($U$27:U32)-1,COLUMNS($U$27:U32)-1),\"\")","v":""},{"$f":"IF(OFFSET(DE100_7!$V$27,ROWS($V$27:V32)-1,COLUMNS($V$27:V32)-1)<>\"\",OFFSET(DE100_7!$V$27,ROWS($V$27:V32)-1,COLUMNS($V$27:V32)-1),\"\")","v":""}]
[{"$f":"IF(OFFSET(DE100_7!$C$27,ROWS($C$27:C33)-1,COLUMNS($C$27:C33)-1)<>\"\",OFFSET(DE100_7!$C$27,ROWS($C$27:C33)-1,COLUMNS($C$27:C33)-1),\"\")","v":181976.62},{"$f":"IF(OFFSET(DE100_7!$D$27,ROWS($D$27:D33)-1,COLUMNS($D$27:D33)-1)<>\"\",OFFSET(DE100_7!$D$27,ROWS($D$27:D33)-1,COLUMNS($D$27:D33)-1),\"\")","v":143},{"$f":"IF(OFFSET(DE100_7!$E$27,ROWS($E$27:E33)-1,COLUMNS($E$27:E33)-1)<>\"\",OFFSET(DE100_7!$E$27,ROWS($E$27:E33)-1,COLUMNS($E$27:E33)-1),\"\")","v":183165},{"$f":"IF(OFFSET(DE100_7!$F$27,ROWS($F$27:F33)-1,COLUMNS($F$27:F33)-1)<>\"\",OFFSET(DE100_7!$F$27,ROWS($F$27:F33)-1,COLUMNS($F$27:F33)-1),\"\")","v":157},{"$f":"IF(OFFSET(DE100_7!$G$27,ROWS($G$27:G33)-1,COLUMNS($G$27:G33)-1)<>\"\",OFFSET(DE100_7!$G$27,ROWS($G$27:G33)-1,COLUMNS($G$27:G33)-1),\"\")","v":"LT"},{"$f":"IF(OFFSET(DE100_7!$H$27,ROWS($H$27:H33)-1,COLUMNS($H$27:H33)-1)<>\"\",OFFSET(DE100_7!$H$27,ROWS($H$27:H33)-1,COLUMNS($H$27:H33)-1),\"\")","v":""},{"$f":"IF(OFFSET(DE100_7!$I$27,ROWS($I$27:I33)-1,COLUMNS($I$27:I33)-1)<>\"\",OFFSET(DE100_7!$I$27,ROWS($I$27:I33)-1,COLUMNS($I$27:I33)-1),\"\")","v":""},{"$f":"IF(OFFSET(DE100_7!$J$27,ROWS($J$27:J33)-1,COLUMNS($J$27:J33)-1)<>\"\",OFFSET(DE100_7!$J$27,ROWS($J$27:J33)-1,COLUMNS($J$27:J33)-1),\"\")","v":""},{"$f":"IF(OFFSET(DE100_7!$K$27,ROWS($K$27:K33)-1,COLUMNS($K$27:K33)-1)<>\"\",OFFSET(DE100_7!$K$27,ROWS($K$27:K33)-1,COLUMNS($K$27:K33)-1),\"\")","v":""},{"$f":"IF(OFFSET(DE100_7!$L$27,ROWS($L$27:L33)-1,COLUMNS($L$27:L33)-1)<>\"\",OFFSET(DE100_7!$L$27,ROWS($L$27:L33)-1,COLUMNS($L$27:L33)-1),\"\")","v":""},{"$f":"IF(OFFSET(DE100_7!$M$27,ROWS($M$27:M33)-1,COLUMNS($M$27:M33)-1)<>\"\",OFFSET(DE100_7!$M$27,ROWS($M$27:M33)-1,COLUMNS($M$27:M33)-1),\"\")","v":""},{"$f":"IF(OFFSET(DE100_7!$N$27,ROWS($N$27:N33)-1,COLUMNS($N$27:N33)-1)<>\"\",OFFSET(DE100_7!$N$27,ROWS($N$27:N33)-1,COLUMNS($N$27:N33)-1),\"\")","v":""},{"$f":"IF(OFFSET(DE100_7!$O$27,ROWS($O$27:O33)-1,COLUMNS($O$27:O33)-1)<>\"\",OFFSET(DE100_7!$O$27,ROWS($O$27:O33)-1,COLUMNS($O$27:O33)-1),\"\")","v":""},{"$f":"IF(OFFSET(DE100_7!$P$27,ROWS($P$27:P33)-1,COLUMNS($P$27:P33)-1)<>\"\",OFFSET(DE100_7!$P$27,ROWS($P$27:P33)-1,COLUMNS($P$27:P33)-1),\"\")","v":1188.5},{"$f":"IF(OFFSET(DE100_7!$Q$27,ROWS($Q$27:Q33)-1,COLUMNS($Q$27:Q33)-1)<>\"\",OFFSET(DE100_7!$Q$27,ROWS($Q$27:Q33)-1,COLUMNS($Q$27:Q33)-1),\"\")","v":7},{"$f":"IF(OFFSET(DE100_7!$R$27,ROWS($R$27:R33)-1,COLUMNS($R$27:R33)-1)<>\"\",OFFSET(DE100_7!$R$27,ROWS($R$27:R33)-1,COLUMNS($R$27:R33)-1),\"\")","v":""},{"$f":"IF(OFFSET(DE100_7!$S$27,ROWS($S$27:S33)-1,COLUMNS($S$27:S33)-1)<>\"\",OFFSET(DE100_7!$S$27,ROWS($S$27:S33)-1,COLUMNS($S$27:S33)-1),\"\")","v":""},{"$f":"IF(OFFSET(DE100_7!$T$27,ROWS($T$27:T33)-1,COLUMNS($T$27:T33)-1)<>\"\",OFFSET(DE100_7!$T$27,ROWS($T$27:T33)-1,COLUMNS($T$27:T33)-1),\"\")","v":""},{"$f":"IF(OFFSET(DE100_7!$U$27,ROWS($U$27:U33)-1,COLUMNS($U$27:U33)-1)<>\"\",OFFSET(DE100_7!$U$27,ROWS($U$27:U33)-1,COLUMNS($U$27:U33)-1),\"\")","v":""},{"$f":"IF(OFFSET(DE100_7!$V$27,ROWS($V$27:V33)-1,COLUMNS($V$27:V33)-1)<>\"\",OFFSET(DE100_7!$V$27,ROWS($V$27:V33)-1,COLUMNS($V$27:V33)-1),\"\")","v":""}]
[{"$f":"IF(OFFSET(DE100_7!$C$27,ROWS($C$27:C34)-1,COLUMNS($C$27:C34)-1)<>\"\",OFFSET(DE100_7!$C$27,ROWS($C$27:C34)-1,COLUMNS($C$27:C34)-1),\"\")","v":183165},{"$f":"IF(OFFSET(DE100_7!$D$27,ROWS($D$27:D34)-1,COLUMNS($D$27:D34)-1)<>\"\",OFFSET(DE100_7!$D$27,ROWS($D$27:D34)-1,COLUMNS($D$27:D34)-1),\"\")","v":157},{"$f":"IF(OFFSET(DE100_7!$E$27,ROWS($E$27:E34)-1,COLUMNS($E$27:E34)-1)<>\"\",OFFSET(DE100_7!$E$27,ROWS($E$27:E34)-1,COLUMNS($E$27:E34)-1),\"\")","v":183571.97},{"$f":"IF(OFFSET(DE100_7!$F$27,ROWS($F$27:F34)-1,COLUMNS($F$27:F34)-1)<>\"\",OFFSET(DE100_7!$F$27,ROWS($F$27:F34)-1,COLUMNS($F$27:F34)-1),\"\")","v":154},{"$f":"IF(OFFSET(DE100_7!$G$27,ROWS($G$27:G34)-1,COLUMNS($G$27:G34)-1)<>\"\",OFFSET(DE100_7!$G$27,ROWS($G$27:G34)-1,COLUMNS($G$27:G34)-1),\"\")","v":"LT"},{"$f":"IF(OFFSET(DE100_7!$H$27,ROWS($H$27:H34)-1,COLUMNS($H$27:H34)-1)<>\"\",OFFSET(DE100_7!$H$27,ROWS($H$27:H34)-1,COLUMNS($H$27:H34)-1),\"\")","v":""},{"$f":"IF(OFFSET(DE100_7!$I$27,ROWS($I$27:I34)-1,COLUMNS($I$27:I34)-1)<>\"\",OFFSET(DE100_7!$I$27,ROWS($I$27:I34)-1,COLUMNS($I$27:I34)-1),\"\")","v":""},{"$f":"IF(OFFSET(DE100_7!$J$27,ROWS($J$27:J34)-1,COLUMNS($J$27:J34)-1)<>\"\",OFFSET(DE100_7!$J$27,ROWS($J$27:J34)-1,COLUMNS($J$27:J34)-1),\"\")","v":""},{"$f":"IF(OFFSET(DE100_7!$K$27,ROWS($K$27:K34)-1,COLUMNS($K$27:K34)-1)<>\"\",OFFSET(DE100_7!$K$27,ROWS($K$27:K34)-1,COLUMNS($K$27:K34)-1),\"\")","v":""},{"$f":"IF(OFFSET(DE100_7!$L$27,ROWS($L$27:L34)-1,COLUMNS($L$27:L34)-1)<>\"\",OFFSET(DE100_7!$L$27,ROWS($L$27:L34)-1,COLUMNS($L$27:L34)-1),\"\")","v":""},{"$f":"IF(OFFSET(DE100_7!$M$27,ROWS($M$27:M34)-1,COLUMNS($M$27:M34)-1)<>\"\",OFFSET(DE100_7!$M$27,ROWS($M$27:M34)-1,COLUMNS($M$27:M34)-1),\"\")","v":""},{"$f":"IF(OFFSET(DE100_7!$N$27,ROWS($N$27:N34)-1,COLUMNS($N$27:N34)-1)<>\"\",OFFSET(DE100_7!$N$27,ROWS($N$27:N34)-1,COLUMNS($N$27:N34)-1),\"\")","v":""},{"$f":"IF(OFFSET(DE100_7!$O$27,ROWS($O$27:O34)-1,COLUMNS($O$27:O34)-1)<>\"\",OFFSET(DE100_7!$O$27,ROWS($O$27:O34)-1,COLUMNS($O$27:O34)-1),\"\")","v":""},{"$f":"IF(OFFSET(DE100_7!$P$27,ROWS($P$27:P34)-1,COLUMNS($P$27:P34)-1)<>\"\",OFFSET(DE100_7!$P$27,ROWS($P$27:P34)-1,COLUMNS($P$27:P34)-1),\"\")","v":407},{"$f":"IF(OFFSET(DE100_7!$Q$27,ROWS($Q$27:Q34)-1,COLUMNS($Q$27:Q34)-1)<>\"\",OFFSET(DE100_7!$Q$27,ROWS($Q$27:Q34)-1,COLUMNS($Q$27:Q34)-1),\"\")","v":6},{"$f":"IF(OFFSET(DE100_7!$R$27,ROWS($R$27:R34)-1,COLUMNS($R$27:R34)-1)<>\"\",OFFSET(DE100_7!$R$27,ROWS($R$27:R34)-1,COLUMNS($R$27:R34)-1),\"\")","v":""},{"$f":"IF(OFFSET(DE100_7!$S$27,ROWS($S$27:S34)-1,COLUMNS($S$27:S34)-1)<>\"\",OFFSET(DE100_7!$S$27,ROWS($S$27:S34)-1,COLUMNS($S$27:S34)-1),\"\")","v":""},{"$f":"IF(OFFSET(DE100_7!$T$27,ROWS($T$27:T34)-1,COLUMNS($T$27:T34)-1)<>\"\",OFFSET(DE100_7!$T$27,ROWS($T$27:T34)-1,COLUMNS($T$27:T34)-1),\"\")","v":""},{"$f":"IF(OFFSET(DE100_7!$U$27,ROWS($U$27:U34)-1,COLUMNS($U$27:U34)-1)<>\"\",OFFSET(DE100_7!$U$27,ROWS($U$27:U34)-1,COLUMNS($U$27:U34)-1),\"\")","v":""},{"$f":"IF(OFFSET(DE100_7!$V$27,ROWS($V$27:V34)-1,COLUMNS($V$27:V34)-1)<>\"\",OFFSET(DE100_7!$V$27,ROWS($V$27:V34)-1,COLUMNS($V$27:V34)-1),\"\")","v":""}]
[{"$f":"IF(OFFSET(DE100_7!$C$27,ROWS($C$27:C35)-1,COLUMNS($C$27:C35)-1)<>\"\",OFFSET(DE100_7!$C$27,ROWS($C$27:C35)-1,COLUMNS($C$27:C35)-1),\"\")","v":183571.97},{"$f":"IF(OFFSET(DE100_7!$D$27,ROWS($D$27:D35)-1,COLUMNS($D$27:D35)-1)<>\"\",OFFSET(DE100_7!$D$27,ROWS($D$27:D35)-1,COLUMNS($D$27:D35)-1),\"\")","v":154},{"$f":"IF(OFFSET(DE100_7!$E$27,ROWS($E$27:E35)-1,COLUMNS($E$27:E35)-1)<>\"\",OFFSET(DE100_7!$E$27,ROWS($E$27:E35)-1,COLUMNS($E$27:E35)-1),\"\")","v":184069.99},{"$f":"IF(OFFSET(DE100_7!$F$27,ROWS($F$27:F35)-1,COLUMNS($F$27:F35)-1)<>\"\",OFFSET(DE100_7!$F$27,ROWS($F$27:F35)-1,COLUMNS($F$27:F35)-1),\"\")","v":131},{"$f":"IF(OFFSET(DE100_7!$G$27,ROWS($G$27:G35)-1,COLUMNS($G$27:G35)-1)<>\"\",OFFSET(DE100_7!$G$27,ROWS($G$27:G35)-1,COLUMNS($G$27:G35)-1),\"\")","v":"LT"},{"$f":"IF(OFFSET(DE100_7!$H$27,ROWS($H$27:H35)-1,COLUMNS($H$27:H35)-1)<>\"\",OFFSET(DE100_7!$H$27,ROWS($H$27:H35)-1,COLUMNS($H$27:H35)-1),\"\")","v":""},{"$f":"IF(OFFSET(DE100_7!$I$27,ROWS($I$27:I35)-1,COLUMNS($I$27:I35)-1)<>\"\",OFFSET(DE100_7!$I$27,ROWS($I$27:I35)-1,COLUMNS($I$27:I35)-1),\"\")","v":""},{"$f":"IF(OFFSET(DE100_7!$J$27,ROWS($J$27:J35)-1,COLUMNS($J$27:J35)-1)<>\"\",OFFSET(DE100_7!$J$27,ROWS($J$27:J35)-1,COLUMNS($J$27:J35)-1),\"\")","v":""},{"$f":"IF(OFFSET(DE100_7!$K$27,ROWS($K$27:K35)-1,COLUMNS($K$27:K35)-1)<>\"\",OFFSET(DE100_7!$K$27,ROWS($K$27:K35)-1,COLUMNS($K$27:K35)-1),\"\")","v":""},{"$f":"IF(OFFSET(DE100_7!$L$27,ROWS($L$27:L35)-1,COLUMNS($L$27:L35)-1)<>\"\",OFFSET(DE100_7!$L$27,ROWS($L$27:L35)-1,COLUMNS($L$27:L35)-1),\"\")","v":""},{"$f":"IF(OFFSET(DE100_7!$M$27,ROWS($M$27:M35)-1,COLUMNS($M$27:M35)-1)<>\"\",OFFSET(DE100_7!$M$27,ROWS($M$27:M35)-1,COLUMNS($M$27:M35)-1),\"\")","v":""},{"$f":"IF(OFFSET(DE100_7!$N$27,ROWS($N$27:N35)-1,COLUMNS($N$27:N35)-1)<>\"\",OFFSET(DE100_7!$N$27,ROWS($N$27:N35)-1,COLUMNS($N$27:N35)-1),\"\")","v":""},{"$f":"IF(OFFSET(DE100_7!$O$27,ROWS($O$27:O35)-1,COLUMNS($O$27:O35)-1)<>\"\",OFFSET(DE100_7!$O$27,ROWS($O$27:O35)-1,COLUMNS($O$27:O35)-1),\"\")","v":""},{"$f":"IF(OFFSET(DE100_7!$P$27,ROWS($P$27:P35)-1,COLUMNS($P$27:P35)-1)<>\"\",OFFSET(DE100_7!$P$27,ROWS($P$27:P35)-1,COLUMNS($P$27:P35)-1),\"\")","v":498.6},{"$f":"IF(OFFSET(DE100_7!$Q$27,ROWS($Q$27:Q35)-1,COLUMNS($Q$27:Q35)-1)<>\"\",OFFSET(DE100_7!$Q$27,ROWS($Q$27:Q35)-1,COLUMNS($Q$27:Q35)-1),\"\")","v":6},{"$f":"IF(OFFSET(DE100_7!$R$27,ROWS($R$27:R35)-1,COLUMNS($R$27:R35)-1)<>\"\",OFFSET(DE100_7!$R$27,ROWS($R$27:R35)-1,COLUMNS($R$27:R35)-1),\"\")","v":""},{"$f":"IF(OFFSET(DE100_7!$S$27,ROWS($S$27:S35)-1,COLUMNS($S$27:S35)-1)<>\"\",OFFSET(DE100_7!$S$27,ROWS($S$27:S35)-1,COLUMNS($S$27:S35)-1),\"\")","v":""},{"$f":"IF(OFFSET(DE100_7!$T$27,ROWS($T$27:T35)-1,COLUMNS($T$27:T35)-1)<>\"\",OFFSET(DE100_7!$T$27,ROWS($T$27:T35)-1,COLUMNS($T$27:T35)-1),\"\")","v":""},{"$f":"IF(OFFSET(DE100_7!$U$27,ROWS($U$27:U35)-1,COLUMNS($U$27:U35)-1)<>\"\",OFFSET(DE100_7!$U$27,ROWS($U$27:U35)-1,COLUMNS($U$27:U35)-1),\"\")","v":""},{"$f":"IF(OFFSET(DE100_7!$V$27,ROWS($V$27:V35)-1,COLUMNS($V$27:V35)-1)<>\"\",OFFSET(DE100_7!$V$27,ROWS($V$27:V35)-1,COLUMNS($V$27:V35)-1),\"\")","v":""}]
[{"$f":"IF(OFFSET(DE100_7!$C$27,ROWS($C$27:C36)-1,COLUMNS($C$27:C36)-1)<>\"\",OFFSET(DE100_7!$C$27,ROWS($C$27:C36)-1,COLUMNS($C$27:C36)-1),\"\")","v":184069.99},{"$f":"IF(OFFSET(DE100_7!$D$27,ROWS($D$27:D36)-1,COLUMNS($D$27:D36)-1)<>\"\",OFFSET(DE100_7!$D$27,ROWS($D$27:D36)-1,COLUMNS($D$27:D36)-1),\"\")","v":131},{"$f":"IF(OFFSET(DE100_7!$E$27,ROWS($E$27:E36)-1,COLUMNS($E$27:E36)-1)<>\"\",OFFSET(DE100_7!$E$27,ROWS($E$27:E36)-1,COLUMNS($E$27:E36)-1),\"\")","v":184596.84},{"$f":"IF(OFFSET(DE100_7!$F$27,ROWS($F$27:F36)-1,COLUMNS($F$27:F36)-1)<>\"\",OFFSET(DE100_7!$F$27,ROWS($F$27:F36)-1,COLUMNS($F$27:F36)-1),\"\")","v":145},{"$f":"IF(OFFSET(DE100_7!$G$27,ROWS($G$27:G36)-1,COLUMNS($G$27:G36)-1)<>\"\",OFFSET(DE100_7!$G$27,ROWS($G$27:G36)-1,COLUMNS($G$27:G36)-1),\"\")","v":"LT"},{"$f":"IF(OFFSET(DE100_7!$H$27,ROWS($H$27:H36)-1,COLUMNS($H$27:H36)-1)<>\"\",OFFSET(DE100_7!$H$27,ROWS($H$27:H36)-1,COLUMNS($H$27:H36)-1),\"\")","v":""},{"$f":"IF(OFFSET(DE100_7!$I$27,ROWS($I$27:I36)-1,COLUMNS($I$27:I36)-1)<>\"\",OFFSET(DE100_7!$I$27,ROWS($I$27:I36)-1,COLUMNS($I$27:I36)-1),\"\")","v":""},{"$f":"IF(OFFSET(DE100_7!$J$27,ROWS($J$27:J36)-1,COLUMNS($J$27:J36)-1)<>\"\",OFFSET(DE100_7!$J$27,ROWS($J$27:J36)-1,COLUMNS($J$27:J36)-1),\"\")","v":""},{"$f":"IF(OFFSET(DE100_7!$K$27,ROWS($K$27:K36)-1,COLUMNS($K$27:K36)-1)<>\"\",OFFSET(DE100_7!$K$27,ROWS($K$27:K36)-1,COLUMNS($K$27:K36)-1),\"\")","v":""},{"$f":"IF(OFFSET(DE100_7!$L$27,ROWS($L$27:L36)-1,COLUMNS($L$27:L36)-1)<>\"\",OFFSET(DE100_7!$L$27,ROWS($L$27:L36)-1,COLUMNS($L$27:L36)-1),\"\")","v":""},{"$f":"IF(OFFSET(DE100_7!$M$27,ROWS($M$27:M36)-1,COLUMNS($M$27:M36)-1)<>\"\",OFFSET(DE100_7!$M$27,ROWS($M$27:M36)-1,COLUMNS($M$27:M36)-1),\"\")","v":""},{"$f":"IF(OFFSET(DE100_7!$N$27,ROWS($N$27:N36)-1,COLUMNS($N$27:N36)-1)<>\"\",OFFSET(DE100_7!$N$27,ROWS($N$27:N36)-1,COLUMNS($N$27:N36)-1),\"\")","v":""},{"$f":"IF(OFFSET(DE100_7!$O$27,ROWS($O$27:O36)-1,COLUMNS($O$27:O36)-1)<>\"\",OFFSET(DE100_7!$O$27,ROWS($O$27:O36)-1,COLUMNS($O$27:O36)-1),\"\")","v":""},{"$f":"IF(OFFSET(DE100_7!$P$27,ROWS($P$27:P36)-1,COLUMNS($P$27:P36)-1)<>\"\",OFFSET(DE100_7!$P$27,ROWS($P$27:P36)-1,COLUMNS($P$27:P36)-1),\"\")","v":525.1},{"$f":"IF(OFFSET(DE100_7!$Q$27,ROWS($Q$27:Q36)-1,COLUMNS($Q$27:Q36)-1)<>\"\",OFFSET(DE100_7!$Q$27,ROWS($Q$27:Q36)-1,COLUMNS($Q$27:Q36)-1),\"\")","v":6},{"$f":"IF(OFFSET(DE100_7!$R$27,ROWS($R$27:R36)-1,COLUMNS($R$27:R36)-1)<>\"\",OFFSET(DE100_7!$R$27,ROWS($R$27:R36)-1,COLUMNS($R$27:R36)-1),\"\")","v":""},{"$f":"IF(OFFSET(DE100_7!$S$27,ROWS($S$27:S36)-1,COLUMNS($S$27:S36)-1)<>\"\",OFFSET(DE100_7!$S$27,ROWS($S$27:S36)-1,COLUMNS($S$27:S36)-1),\"\")","v":""},{"$f":"IF(OFFSET(DE100_7!$T$27,ROWS($T$27:T36)-1,COLUMNS($T$27:T36)-1)<>\"\",OFFSET(DE100_7!$T$27,ROWS($T$27:T36)-1,COLUMNS($T$27:T36)-1),\"\")","v":""},{"$f":"IF(OFFSET(DE100_7!$U$27,ROWS($U$27:U36)-1,COLUMNS($U$27:U36)-1)<>\"\",OFFSET(DE100_7!$U$27,ROWS($U$27:U36)-1,COLUMNS($U$27:U36)-1),\"\")","v":""},{"$f":"IF(OFFSET(DE100_7!$V$27,ROWS($V$27:V36)-1,COLUMNS($V$27:V36)-1)<>\"\",OFFSET(DE100_7!$V$27,ROWS($V$27:V36)-1,COLUMNS($V$27:V36)-1),\"\")","v":""}]
[{"$f":"IF(OFFSET(DE100_7!$C$27,ROWS($C$27:C37)-1,COLUMNS($C$27:C37)-1)<>\"\",OFFSET(DE100_7!$C$27,ROWS($C$27:C37)-1,COLUMNS($C$27:C37)-1),\"\")","v":184596.84},{"$f":"IF(OFFSET(DE100_7!$D$27,ROWS($D$27:D37)-1,COLUMNS($D$27:D37)-1)<>\"\",OFFSET(DE100_7!$D$27,ROWS($D$27:D37)-1,COLUMNS($D$27:D37)-1),\"\")","v":145},{"$f":"IF(OFFSET(DE100_7!$E$27,ROWS($E$27:E37)-1,COLUMNS($E$27:E37)-1)<>\"\",OFFSET(DE100_7!$E$27,ROWS($E$27:E37)-1,COLUMNS($E$27:E37)-1),\"\")","v":184663.6},{"$f":"IF(OFFSET(DE100_7!$F$27,ROWS($F$27:F37)-1,COLUMNS($F$27:F37)-1)<>\"\",OFFSET(DE100_7!$F$27,ROWS($F$27:F37)-1,COLUMNS($F$27:F37)-1),\"\")","v":156.01},{"$f":"IF(OFFSET(DE100_7!$G$27,ROWS($G$27:G37)-1,COLUMNS($G$27:G37)-1)<>\"\",OFFSET(DE100_7!$G$27,ROWS($G$27:G37)-1,COLUMNS($G$27:G37)-1),\"\")","v":"LT"},{"$f":"IF(OFFSET(DE100_7!$H$27,ROWS($H$27:H37)-1,COLUMNS($H$27:H37)-1)<>\"\",OFFSET(DE100_7!$H$27,ROWS($H$27:H37)-1,COLUMNS($H$27:H37)-1),\"\")","v":""},{"$f":"IF(OFFSET(DE100_7!$I$27,ROWS($I$27:I37)-1,COLUMNS($I$27:I37)-1)<>\"\",OFFSET(DE100_7!$I$27,ROWS($I$27:I37)-1,COLUMNS($I$27:I37)-1),\"\")","v":""},{"$f":"IF(OFFSET(DE100_7!$J$27,ROWS($J$27:J37)-1,COLUMNS($J$27:J37)-1)<>\"\",OFFSET(DE100_7!$J$27,ROWS($J$27:J37)-1,COLUMNS($J$27:J37)-1),\"\")","v":""},{"$f":"IF(OFFSET(DE100_7!$K$27,ROWS($K$27:K37)-1,COLUMNS($K$27:K37)-1)<>\"\",OFFSET(DE100_7!$K$27,ROWS($K$27:K37)-1,COLUMNS($K$27:K37)-1),\"\")","v":""},{"$f":"IF(OFFSET(DE100_7!$L$27,ROWS($L$27:L37)-1,COLUMNS($L$27:L37)-1)<>\"\",OFFSET(DE100_7!$L$27,ROWS($L$27:L37)-1,COLUMNS($L$27:L37)-1),\"\")","v":""},{"$f":"IF(OFFSET(DE100_7!$M$27,ROWS($M$27:M37)-1,COLUMNS($M$27:M37)-1)<>\"\",OFFSET(DE100_7!$M$27,ROWS($M$27:M37)-1,COLUMNS($M$27:M37)-1),\"\")","v":""},{"$f":"IF(OFFSET(DE100_7!$N$27,ROWS($N$27:N37)-1,COLUMNS($N$27:N37)-1)<>\"\",OFFSET(DE100_7!$N$27,ROWS($N$27:N37)-1,COLUMNS($N$27:N37)-1),\"\")","v":""},{"$f":"IF(OFFSET(DE100_7!$O$27,ROWS($O$27:O37)-1,COLUMNS($O$27:O37)-1)<>\"\",OFFSET(DE100_7!$O$27,ROWS($O$27:O37)-1,COLUMNS($O$27:O37)-1),\"\")","v":""},{"$f":"IF(OFFSET(DE100_7!$P$27,ROWS($P$27:P37)-1,COLUMNS($P$27:P37)-1)<>\"\",OFFSET(DE100_7!$P$27,ROWS($P$27:P37)-1,COLUMNS($P$27:P37)-1),\"\")","v":67.2},{"$f":"IF(OFFSET(DE100_7!$Q$27,ROWS($Q$27:Q37)-1,COLUMNS($Q$27:Q37)-1)<>\"\",OFFSET(DE100_7!$Q$27,ROWS($Q$27:Q37)-1,COLUMNS($Q$27:Q37)-1),\"\")","v":4},{"$f":"IF(OFFSET(DE100_7!$R$27,ROWS($R$27:R37)-1,COLUMNS($R$27:R37)-1)<>\"\",OFFSET(DE100_7!$R$27,ROWS($R$27:R37)-1,COLUMNS($R$27:R37)-1),\"\")","v":""},{"$f":"IF(OFFSET(DE100_7!$S$27,ROWS($S$27:S37)-1,COLUMNS($S$27:S37)-1)<>\"\",OFFSET(DE100_7!$S$27,ROWS($S$27:S37)-1,COLUMNS($S$27:S37)-1),\"\")","v":""},{"$f":"IF(OFFSET(DE100_7!$T$27,ROWS($T$27:T37)-1,COLUMNS($T$27:T37)-1)<>\"\",OFFSET(DE100_7!$T$27,ROWS($T$27:T37)-1,COLUMNS($T$27:T37)-1),\"\")","v":""},{"$f":"IF(OFFSET(DE100_7!$U$27,ROWS($U$27:U37)-1,COLUMNS($U$27:U37)-1)<>\"\",OFFSET(DE100_7!$U$27,ROWS($U$27:U37)-1,COLUMNS($U$27:U37)-1),\"\")","v":""},{"$f":"IF(OFFSET(DE100_7!$V$27,ROWS($V$27:V37)-1,COLUMNS($V$27:V37)-1)<>\"\",OFFSET(DE100_7!$V$27,ROWS($V$27:V37)-1,COLUMNS($V$27:V37)-1),\"\")","v":""}]
[{"$f":"IF(OFFSET(DE100_7!$C$27,ROWS($C$27:C38)-1,COLUMNS($C$27:C38)-1)<>\"\",OFFSET(DE100_7!$C$27,ROWS($C$27:C38)-1,COLUMNS($C$27:C38)-1),\"\")","v":"1846.63.60"},{"$f":"IF(OFFSET(DE100_7!$D$27,ROWS($D$27:D38)-1,COLUMNS($D$27:D38)-1)<>\"\",OFFSET(DE100_7!$D$27,ROWS($D$27:D38)-1,COLUMNS($D$27:D38)-1),\"\")","v":156},{"$f":"IF(OFFSET(DE100_7!$E$27,ROWS($E$27:E38)-1,COLUMNS($E$27:E38)-1)<>\"\",OFFSET(DE100_7!$E$27,ROWS($E$27:E38)-1,COLUMNS($E$27:E38)-1),\"\")","v":185676.96},{"$f":"IF(OFFSET(DE100_7!$F$27,ROWS($F$27:F38)-1,COLUMNS($F$27:F38)-1)<>\"\",OFFSET(DE100_7!$F$27,ROWS($F$27:F38)-1,COLUMNS($F$27:F38)-1),\"\")","v":151},{"$f":"IF(OFFSET(DE100_7!$G$27,ROWS($G$27:G38)-1,COLUMNS($G$27:G38)-1)<>\"\",OFFSET(DE100_7!$G$27,ROWS($G$27:G38)-1,COLUMNS($G$27:G38)-1),\"\")","v":"LT"},{"$f":"IF(OFFSET(DE100_7!$H$27,ROWS($H$27:H38)-1,COLUMNS($H$27:H38)-1)<>\"\",OFFSET(DE100_7!$H$27,ROWS($H$27:H38)-1,COLUMNS($H$27:H38)-1),\"\")","v":""},{"$f":"IF(OFFSET(DE100_7!$I$27,ROWS($I$27:I38)-1,COLUMNS($I$27:I38)-1)<>\"\",OFFSET(DE100_7!$I$27,ROWS($I$27:I38)-1,COLUMNS($I$27:I38)-1),\"\")","v":""},{"$f":"IF(OFFSET(DE100_7!$J$27,ROWS($J$27:J38)-1,COLUMNS($J$27:J38)-1)<>\"\",OFFSET(DE100_7!$J$27,ROWS($J$27:J38)-1,COLUMNS($J$27:J38)-1),\"\")","v":""},{"$f":"IF(OFFSET(DE100_7!$K$27,ROWS($K$27:K38)-1,COLUMNS($K$27:K38)-1)<>\"\",OFFSET(DE100_7!$K$27,ROWS($K$27:K38)-1,COLUMNS($K$27:K38)-1),\"\")","v":""},{"$f":"IF(OFFSET(DE100_7!$L$27,ROWS($L$27:L38)-1,COLUMNS($L$27:L38)-1)<>\"\",OFFSET(DE100_7!$L$27,ROWS($L$27:L38)-1,COLUMNS($L$27:L38)-1),\"\")","v":""},{"$f":"IF(OFFSET(DE100_7!$M$27,ROWS($M$27:M38)-1,COLUMNS($M$27:M38)-1)<>\"\",OFFSET(DE100_7!$M$27,ROWS($M$27:M38)-1,COLUMNS($M$27:M38)-1),\"\")","v":""},{"$f":"IF(OFFSET(DE100_7!$N$27,ROWS($N$27:N38)-1,COLUMNS($N$27:N38)-1)<>\"\",OFFSET(DE100_7!$N$27,ROWS($N$27:N38)-1,COLUMNS($N$27:N38)-1),\"\")","v":""},{"$f":"IF(OFFSET(DE100_7!$O$27,ROWS($O$27:O38)-1,COLUMNS($O$27:O38)-1)<>\"\",OFFSET(DE100_7!$O$27,ROWS($O$27:O38)-1,COLUMNS($O$27:O38)-1),\"\")","v":""},{"$f":"IF(OFFSET(DE100_7!$P$27,ROWS($P$27:P38)-1,COLUMNS($P$27:P38)-1)<>\"\",OFFSET(DE100_7!$P$27,ROWS($P$27:P38)-1,COLUMNS($P$27:P38)-1),\"\")","v":1011.4},{"$f":"IF(OFFSET(DE100_7!$Q$27,ROWS($Q$27:Q38)-1,COLUMNS($Q$27:Q38)-1)<>\"\",OFFSET(DE100_7!$Q$27,ROWS($Q$27:Q38)-1,COLUMNS($Q$27:Q38)-1),\"\")","v":8},{"$f":"IF(OFFSET(DE100_7!$R$27,ROWS($R$27:R38)-1,COLUMNS($R$27:R38)-1)<>\"\",OFFSET(DE100_7!$R$27,ROWS($R$27:R38)-1,COLUMNS($R$27:R38)-1),\"\")","v":""},{"$f":"IF(OFFSET(DE100_7!$S$27,ROWS($S$27:S38)-1,COLUMNS($S$27:S38)-1)<>\"\",OFFSET(DE100_7!$S$27,ROWS($S$27:S38)-1,COLUMNS($S$27:S38)-1),\"\")","v":""},{"$f":"IF(OFFSET(DE100_7!$T$27,ROWS($T$27:T38)-1,COLUMNS($T$27:T38)-1)<>\"\",OFFSET(DE100_7!$T$27,ROWS($T$27:T38)-1,COLUMNS($T$27:T38)-1),\"\")","v":""},{"$f":"IF(OFFSET(DE100_7!$U$27,ROWS($U$27:U38)-1,COLUMNS($U$27:U38)-1)<>\"\",OFFSET(DE100_7!$U$27,ROWS($U$27:U38)-1,COLUMNS($U$27:U38)-1),\"\")","v":""},{"$f":"IF(OFFSET(DE100_7!$V$27,ROWS($V$27:V38)-1,COLUMNS($V$27:V38)-1)<>\"\",OFFSET(DE100_7!$V$27,ROWS($V$27:V38)-1,COLUMNS($V$27:V38)-1),\"\")","v":""}]
[{"$f":"IF(OFFSET(DE100_7!$C$27,ROWS($C$27:C39)-1,COLUMNS($C$27:C39)-1)<>\"\",OFFSET(DE100_7!$C$27,ROWS($C$27:C39)-1,COLUMNS($C$27:C39)-1),\"\")","v":185676.96},{"$f":"IF(OFFSET(DE100_7!$D$27,ROWS($D$27:D39)-1,COLUMNS($D$27:D39)-1)<>\"\",OFFSET(DE100_7!$D$27,ROWS($D$27:D39)-1,COLUMNS($D$27:D39)-1),\"\")","v":151},{"$f":"IF(OFFSET(DE100_7!$E$27,ROWS($E$27:E39)-1,COLUMNS($E$27:E39)-1)<>\"\",OFFSET(DE100_7!$E$27,ROWS($E$27:E39)-1,COLUMNS($E$27:E39)-1),\"\")","v":185822.96},{"$f":"IF(OFFSET(DE100_7!$F$27,ROWS($F$27:F39)-1,COLUMNS($F$27:F39)-1)<>\"\",OFFSET(DE100_7!$F$27,ROWS($F$27:F39)-1,COLUMNS($F$27:F39)-1),\"\")","v":140},{"$f":"IF(OFFSET(DE100_7!$G$27,ROWS($G$27:G39)-1,COLUMNS($G$27:G39)-1)<>\"\",OFFSET(DE100_7!$G$27,ROWS($G$27:G39)-1,COLUMNS($G$27:G39)-1),\"\")","v":"LT"},{"$f":"IF(OFFSET(DE100_7!$H$27,ROWS($H$27:H39)-1,COLUMNS($H$27:H39)-1)<>\"\",OFFSET(DE100_7!$H$27,ROWS($H$27:H39)-1,COLUMNS($H$27:H39)-1),\"\")","v":""},{"$f":"IF(OFFSET(DE100_7!$I$27,ROWS($I$27:I39)-1,COLUMNS($I$27:I39)-1)<>\"\",OFFSET(DE100_7!$I$27,ROWS($I$27:I39)-1,COLUMNS($I$27:I39)-1),\"\")","v":""},{"$f":"IF(OFFSET(DE100_7!$J$27,ROWS($J$27:J39)-1,COLUMNS($J$27:J39)-1)<>\"\",OFFSET(DE100_7!$J$27,ROWS($J$27:J39)-1,COLUMNS($J$27:J39)-1),\"\")","v":""},{"$f":"IF(OFFSET(DE100_7!$K$27,ROWS($K$27:K39)-1,COLUMNS($K$27:K39)-1)<>\"\",OFFSET(DE100_7!$K$27,ROWS($K$27:K39)-1,COLUMNS($K$27:K39)-1),\"\")","v":""},{"$f":"IF(OFFSET(DE100_7!$L$27,ROWS($L$27:L39)-1,COLUMNS($L$27:L39)-1)<>\"\",OFFSET(DE100_7!$L$27,ROWS($L$27:L39)-1,COLUMNS($L$27:L39)-1),\"\")","v":""},{"$f":"IF(OFFSET(DE100_7!$M$27,ROWS($M$27:M39)-1,COLUMNS($M$27:M39)-1)<>\"\",OFFSET(DE100_7!$M$27,ROWS($M$27:M39)-1,COLUMNS($M$27:M39)-1),\"\")","v":""},{"$f":"IF(OFFSET(DE100_7!$N$27,ROWS($N$27:N39)-1,COLUMNS($N$27:N39)-1)<>\"\",OFFSET(DE100_7!$N$27,ROWS($N$27:N39)-1,COLUMNS($N$27:N39)-1),\"\")","v":""},{"$f":"IF(OFFSET(DE100_7!$O$27,ROWS($O$27:O39)-1,COLUMNS($O$27:O39)-1)<>\"\",OFFSET(DE100_7!$O$27,ROWS($O$27:O39)-1,COLUMNS($O$27:O39)-1),\"\")","v":""},{"$f":"IF(OFFSET(DE100_7!$P$27,ROWS($P$27:P39)-1,COLUMNS($P$27:P39)-1)<>\"\",OFFSET(DE100_7!$P$27,ROWS($P$27:P39)-1,COLUMNS($P$27:P39)-1),\"\")","v":146.4},{"$f":"IF(OFFSET(DE100_7!$Q$27,ROWS($Q$27:Q39)-1,COLUMNS($Q$27:Q39)-1)<>\"\",OFFSET(DE100_7!$Q$27,ROWS($Q$27:Q39)-1,COLUMNS($Q$27:Q39)-1),\"\")","v":4},{"$f":"IF(OFFSET(DE100_7!$R$27,ROWS($R$27:R39)-1,COLUMNS($R$27:R39)-1)<>\"\",OFFSET(DE100_7!$R$27,ROWS($R$27:R39)-1,COLUMNS($R$27:R39)-1),\"\")","v":""},{"$f":"IF(OFFSET(DE100_7!$S$27,ROWS($S$27:S39)-1,COLUMNS($S$27:S39)-1)<>\"\",OFFSET(DE100_7!$S$27,ROWS($S$27:S39)-1,COLUMNS($S$27:S39)-1),\"\")","v":""},{"$f":"IF(OFFSET(DE100_7!$T$27,ROWS($T$27:T39)-1,COLUMNS($T$27:T39)-1)<>\"\",OFFSET(DE100_7!$T$27,ROWS($T$27:T39)-1,COLUMNS($T$27:T39)-1),\"\")","v":""},{"$f":"IF(OFFSET(DE100_7!$U$27,ROWS($U$27:U39)-1,COLUMNS($U$27:U39)-1)<>\"\",OFFSET(DE100_7!$U$27,ROWS($U$27:U39)-1,COLUMNS($U$27:U39)-1),\"\")","v":""},{"$f":"IF(OFFSET(DE100_7!$V$27,ROWS($V$27:V39)-1,COLUMNS($V$27:V39)-1)<>\"\",OFFSET(DE100_7!$V$27,ROWS($V$27:V39)-1,COLUMNS($V$27:V39)-1),\"\")","v":""}]
[{"$f":"IF(OFFSET(DE100_7!$C$27,ROWS($C$27:C40)-1,COLUMNS($C$27:C40)-1)<>\"\",OFFSET(DE100_7!$C$27,ROWS($C$27:C40)-1,COLUMNS($C$27:C40)-1),\"\")","v":185822.96},{"$f":"IF(OFFSET(DE100_7!$D$27,ROWS($D$27:D40)-1,COLUMNS($D$27:D40)-1)<>\"\",OFFSET(DE100_7!$D$27,ROWS($D$27:D40)-1,COLUMNS($D$27:D40)-1),\"\")","v":140},{"$f":"IF(OFFSET(DE100_7!$E$27,ROWS($E$27:E40)-1,COLUMNS($E$27:E40)-1)<>\"\",OFFSET(DE100_7!$E$27,ROWS($E$27:E40)-1,COLUMNS($E$27:E40)-1),\"\")","v":187289.74},{"$f":"IF(OFFSET(DE100_7!$F$27,ROWS($F$27:F40)-1,COLUMNS($F$27:F40)-1)<>\"\",OFFSET(DE100_7!$F$27,ROWS($F$27:F40)-1,COLUMNS($F$27:F40)-1),\"\")","v":136},{"$f":"IF(OFFSET(DE100_7!$G$27,ROWS($G$27:G40)-1,COLUMNS($G$27:G40)-1)<>\"\",OFFSET(DE100_7!$G$27,ROWS($G$27:G40)-1,COLUMNS($G$27:G40)-1),\"\")","v":"LT"},{"$f":"IF(OFFSET(DE100_7!$H$27,ROWS($H$27:H40)-1,COLUMNS($H$27:H40)-1)<>\"\",OFFSET(DE100_7!$H$27,ROWS($H$27:H40)-1,COLUMNS($H$27:H40)-1),\"\")","v":""},{"$f":"IF(OFFSET(DE100_7!$I$27,ROWS($I$27:I40)-1,COLUMNS($I$27:I40)-1)<>\"\",OFFSET(DE100_7!$I$27,ROWS($I$27:I40)-1,COLUMNS($I$27:I40)-1),\"\")","v":""},{"$f":"IF(OFFSET(DE100_7!$J$27,ROWS($J$27:J40)-1,COLUMNS($J$27:J40)-1)<>\"\",OFFSET(DE100_7!$J$27,ROWS($J$27:J40)-1,COLUMNS($J$27:J40)-1),\"\")","v":""},{"$f":"IF(OFFSET(DE100_7!$K$27,ROWS($K$27:K40)-1,COLUMNS($K$27:K40)-1)<>\"\",OFFSET(DE100_7!$K$27,ROWS($K$27:K40)-1,COLUMNS($K$27:K40)-1),\"\")","v":""},{"$f":"IF(OFFSET(DE100_7!$L$27,ROWS($L$27:L40)-1,COLUMNS($L$27:L40)-1)<>\"\",OFFSET(DE100_7!$L$27,ROWS($L$27:L40)-1,COLUMNS($L$27:L40)-1),\"\")","v":""},{"$f":"IF(OFFSET(DE100_7!$M$27,ROWS($M$27:M40)-1,COLUMNS($M$27:M40)-1)<>\"\",OFFSET(DE100_7!$M$27,ROWS($M$27:M40)-1,COLUMNS($M$27:M40)-1),\"\")","v":""},{"$f":"IF(OFFSET(DE100_7!$N$27,ROWS($N$27:N40)-1,COLUMNS($N$27:N40)-1)<>\"\",OFFSET(DE100_7!$N$27,ROWS($N$27:N40)-1,COLUMNS($N$27:N40)-1),\"\")","v":""},{"$f":"IF(OFFSET(DE100_7!$O$27,ROWS($O$27:O40)-1,COLUMNS($O$27:O40)-1)<>\"\",OFFSET(DE100_7!$O$27,ROWS($O$27:O40)-1,COLUMNS($O$27:O40)-1),\"\")","v":""},{"$f":"IF(OFFSET(DE100_7!$P$27,ROWS($P$27:P40)-1,COLUMNS($P$27:P40)-1)<>\"\",OFFSET(DE100_7!$P$27,ROWS($P$27:P40)-1,COLUMNS($P$27:P40)-1),\"\")","v":1466.8},{"$f":"IF(OFFSET(DE100_7!$Q$27,ROWS($Q$27:Q40)-1,COLUMNS($Q$27:Q40)-1)<>\"\",OFFSET(DE100_7!$Q$27,ROWS($Q$27:Q40)-1,COLUMNS($Q$27:Q40)-1),\"\")","v":8},{"$f":"IF(OFFSET(DE100_7!$R$27,ROWS($R$27:R40)-1,COLUMNS($R$27:R40)-1)<>\"\",OFFSET(DE100_7!$R$27,ROWS($R$27:R40)-1,COLUMNS($R$27:R40)-1),\"\")","v":""},{"$f":"IF(OFFSET(DE100_7!$S$27,ROWS($S$27:S40)-1,COLUMNS($S$27:S40)-1)<>\"\",OFFSET(DE100_7!$S$27,ROWS($S$27:S40)-1,COLUMNS($S$27:S40)-1),\"\")","v":""},{"$f":"IF(OFFSET(DE100_7!$T$27,ROWS($T$27:T40)-1,COLUMNS($T$27:T40)-1)<>\"\",OFFSET(DE100_7!$T$27,ROWS($T$27:T40)-1,COLUMNS($T$27:T40)-1),\"\")","v":""},{"$f":"IF(OFFSET(DE100_7!$U$27,ROWS($U$27:U40)-1,COLUMNS($U$27:U40)-1)<>\"\",OFFSET(DE100_7!$U$27,ROWS($U$27:U40)-1,COLUMNS($U$27:U40)-1),\"\")","v":""},{"$f":"IF(OFFSET(DE100_7!$V$27,ROWS($V$27:V40)-1,COLUMNS($V$27:V40)-1)<>\"\",OFFSET(DE100_7!$V$27,ROWS($V$27:V40)-1,COLUMNS($V$27:V40)-1),\"\")","v":""}]
[{"$f":"IF(OFFSET(DE100_7!$C$27,ROWS($C$27:C41)-1,COLUMNS($C$27:C41)-1)<>\"\",OFFSET(DE100_7!$C$27,ROWS($C$27:C41)-1,COLUMNS($C$27:C41)-1),\"\")","v":187289.74},{"$f":"IF(OFFSET(DE100_7!$D$27,ROWS($D$27:D41)-1,COLUMNS($D$27:D41)-1)<>\"\",OFFSET(DE100_7!$D$27,ROWS($D$27:D41)-1,COLUMNS($D$27:D41)-1),\"\")","v":136},{"$f":"IF(OFFSET(DE100_7!$E$27,ROWS($E$27:E41)-1,COLUMNS($E$27:E41)-1)<>\"\",OFFSET(DE100_7!$E$27,ROWS($E$27:E41)-1,COLUMNS($E$27:E41)-1),\"\")","v":187528},{"$f":"IF(OFFSET(DE100_7!$F$27,ROWS($F$27:F41)-1,COLUMNS($F$27:F41)-1)<>\"\",OFFSET(DE100_7!$F$27,ROWS($F$27:F41)-1,COLUMNS($F$27:F41)-1),\"\")","v":131},{"$f":"IF(OFFSET(DE100_7!$G$27,ROWS($G$27:G41)-1,COLUMNS($G$27:G41)-1)<>\"\",OFFSET(DE100_7!$G$27,ROWS($G$27:G41)-1,COLUMNS($G$27:G41)-1),\"\")","v":"LT"},{"$f":"IF(OFFSET(DE100_7!$H$27,ROWS($H$27:H41)-1,COLUMNS($H$27:H41)-1)<>\"\",OFFSET(DE100_7!$H$27,ROWS($H$27:H41)-1,COLUMNS($H$27:H41)-1),\"\")","v":""},{"$f":"IF(OFFSET(DE100_7!$I$27,ROWS($I$27:I41)-1,COLUMNS($I$27:I41)-1)<>\"\",OFFSET(DE100_7!$I$27,ROWS($I$27:I41)-1,COLUMNS($I$27:I41)-1),\"\")","v":""},{"$f":"IF(OFFSET(DE100_7!$J$27,ROWS($J$27:J41)-1,COLUMNS($J$27:J41)-1)<>\"\",OFFSET(DE100_7!$J$27,ROWS($J$27:J41)-1,COLUMNS($J$27:J41)-1),\"\")","v":""},{"$f":"IF(OFFSET(DE100_7!$K$27,ROWS($K$27:K41)-1,COLUMNS($K$27:K41)-1)<>\"\",OFFSET(DE100_7!$K$27,ROWS($K$27:K41)-1,COLUMNS($K$27:K41)-1),\"\")","v":""},{"$f":"IF(OFFSET(DE100_7!$L$27,ROWS($L$27:L41)-1,COLUMNS($L$27:L41)-1)<>\"\",OFFSET(DE100_7!$L$27,ROWS($L$27:L41)-1,COLUMNS($L$27:L41)-1),\"\")","v":""},{"$f":"IF(OFFSET(DE100_7!$M$27,ROWS($M$27:M41)-1,COLUMNS($M$27:M41)-1)<>\"\",OFFSET(DE100_7!$M$27,ROWS($M$27:M41)-1,COLUMNS($M$27:M41)-1),\"\")","v":""},{"$f":"IF(OFFSET(DE100_7!$N$27,ROWS($N$27:N41)-1,COLUMNS($N$27:N41)-1)<>\"\",OFFSET(DE100_7!$N$27,ROWS($N$27:N41)-1,COLUMNS($N$27:N41)-1),\"\")","v":""},{"$f":"IF(OFFSET(DE100_7!$O$27,ROWS($O$27:O41)-1,COLUMNS($O$27:O41)-1)<>\"\",OFFSET(DE100_7!$O$27,ROWS($O$27:O41)-1,COLUMNS($O$27:O41)-1),\"\")","v":""},{"$f":"IF(OFFSET(DE100_7!$P$27,ROWS($P$27:P41)-1,COLUMNS($P$27:P41)-1)<>\"\",OFFSET(DE100_7!$P$27,ROWS($P$27:P41)-1,COLUMNS($P$27:P41)-1),\"\")","v":238.3},{"$f":"IF(OFFSET(DE100_7!$Q$27,ROWS($Q$27:Q41)-1,COLUMNS($Q$27:Q41)-1)<>\"\",OFFSET(DE100_7!$Q$27,ROWS($Q$27:Q41)-1,COLUMNS($Q$27:Q41)-1),\"\")","v":6},{"$f":"IF(OFFSET(DE100_7!$R$27,ROWS($R$27:R41)-1,COLUMNS($R$27:R41)-1)<>\"\",OFFSET(DE100_7!$R$27,ROWS($R$27:R41)-1,COLUMNS($R$27:R41)-1),\"\")","v":""},{"$f":"IF(OFFSET(DE100_7!$S$27,ROWS($S$27:S41)-1,COLUMNS($S$27:S41)-1)<>\"\",OFFSET(DE100_7!$S$27,ROWS($S$27:S41)-1,COLUMNS($S$27:S41)-1),\"\")","v":""},{"$f":"IF(OFFSET(DE100_7!$T$27,ROWS($T$27:T41)-1,COLUMNS($T$27:T41)-1)<>\"\",OFFSET(DE100_7!$T$27,ROWS($T$27:T41)-1,COLUMNS($T$27:T41)-1),\"\")","v":""},{"$f":"IF(OFFSET(DE100_7!$U$27,ROWS($U$27:U41)-1,COLUMNS($U$27:U41)-1)<>\"\",OFFSET(DE100_7!$U$27,ROWS($U$27:U41)-1,COLUMNS($U$27:U41)-1),\"\")","v":""},{"$f":"IF(OFFSET(DE100_7!$V$27,ROWS($V$27:V41)-1,COLUMNS($V$27:V41)-1)<>\"\",OFFSET(DE100_7!$V$27,ROWS($V$27:V41)-1,COLUMNS($V$27:V41)-1),\"\")","v":""}]
[{"$f":"IF(OFFSET(DE100_7!$C$27,ROWS($C$27:C42)-1,COLUMNS($C$27:C42)-1)<>\"\",OFFSET(DE100_7!$C$27,ROWS($C$27:C42)-1,COLUMNS($C$27:C42)-1),\"\")","v":187528},{"$f":"IF(OFFSET(DE100_7!$D$27,ROWS($D$27:D42)-1,COLUMNS($D$27:D42)-1)<>\"\",OFFSET(DE100_7!$D$27,ROWS($D$27:D42)-1,COLUMNS($D$27:D42)-1),\"\")","v":131},{"$f":"IF(OFFSET(DE100_7!$E$27,ROWS($E$27:E42)-1,COLUMNS($E$27:E42)-1)<>\"\",OFFSET(DE100_7!$E$27,ROWS($E$27:E42)-1,COLUMNS($E$27:E42)-1),\"\")","v":188173.01},{"$f":"IF(OFFSET(DE100_7!$F$27,ROWS($F$27:F42)-1,COLUMNS($F$27:F42)-1)<>\"\",OFFSET(DE100_7!$F$27,ROWS($F$27:F42)-1,COLUMNS($F$27:F42)-1),\"\")","v":150},{"$f":"IF(OFFSET(DE100_7!$G$27,ROWS($G$27:G42)-1,COLUMNS($G$27:G42)-1)<>\"\",OFFSET(DE100_7!$G$27,ROWS($G$27:G42)-1,COLUMNS($G$27:G42)-1),\"\")","v":"LT"},{"$f":"IF(OFFSET(DE100_7!$H$27,ROWS($H$27:H42)-1,COLUMNS($H$27:H42)-1)<>\"\",OFFSET(DE100_7!$H$27,ROWS($H$27:H42)-1,COLUMNS($H$27:H42)-1),\"\")","v":""},{"$f":"IF(OFFSET(DE100_7!$I$27,ROWS($I$27:I42)-1,COLUMNS($I$27:I42)-1)<>\"\",OFFSET(DE100_7!$I$27,ROWS($I$27:I42)-1,COLUMNS($I$27:I42)-1),\"\")","v":""},{"$f":"IF(OFFSET(DE100_7!$J$27,ROWS($J$27:J42)-1,COLUMNS($J$27:J42)-1)<>\"\",OFFSET(DE100_7!$J$27,ROWS($J$27:J42)-1,COLUMNS($J$27:J42)-1),\"\")","v":""},{"$f":"IF(OFFSET(DE100_7!$K$27,ROWS($K$27:K42)-1,COLUMNS($K$27:K42)-1)<>\"\",OFFSET(DE100_7!$K$27,ROWS($K$27:K42)-1,COLUMNS($K$27:K42)-1),\"\")","v":""},{"$f":"IF(OFFSET(DE100_7!$L$27,ROWS($L$27:L42)-1,COLUMNS($L$27:L42)-1)<>\"\",OFFSET(DE100_7!$L$27,ROWS($L$27:L42)-1,COLUMNS($L$27:L42)-1),\"\")","v":""},{"$f":"IF(OFFSET(DE100_7!$M$27,ROWS($M$27:M42)-1,COLUMNS($M$27:M42)-1)<>\"\",OFFSET(DE100_7!$M$27,ROWS($M$27:M42)-1,COLUMNS($M$27:M42)-1),\"\")","v":""},{"$f":"IF(OFFSET(DE100_7!$N$27,ROWS($N$27:N42)-1,COLUMNS($N$27:N42)-1)<>\"\",OFFSET(DE100_7!$N$27,ROWS($N$27:N42)-1,COLUMNS($N$27:N42)-1),\"\")","v":""},{"$f":"IF(OFFSET(DE100_7!$O$27,ROWS($O$27:O42)-1,COLUMNS($O$27:O42)-1)<>\"\",OFFSET(DE100_7!$O$27,ROWS($O$27:O42)-1,COLUMNS($O$27:O42)-1),\"\")","v":""},{"$f":"IF(OFFSET(DE100_7!$P$27,ROWS($P$27:P42)-1,COLUMNS($P$27:P42)-1)<>\"\",OFFSET(DE100_7!$P$27,ROWS($P$27:P42)-1,COLUMNS($P$27:P42)-1),\"\")","v":645.29999999999995},{"$f":"IF(OFFSET(DE100_7!$Q$27,ROWS($Q$27:Q42)-1,COLUMNS($Q$27:Q42)-1)<>\"\",OFFSET(DE100_7!$Q$27,ROWS($Q$27:Q42)-1,COLUMNS($Q$27:Q42)-1),\"\")","v":6},{"$f":"IF(OFFSET(DE100_7!$R$27,ROWS($R$27:R42)-1,COLUMNS($R$27:R42)-1)<>\"\",OFFSET(DE100_7!$R$27,ROWS($R$27:R42)-1,COLUMNS($R$27:R42)-1),\"\")","v":""},{"$f":"IF(OFFSET(DE100_7!$S$27,ROWS($S$27:S42)-1,COLUMNS($S$27:S42)-1)<>\"\",OFFSET(DE100_7!$S$27,ROWS($S$27:S42)-1,COLUMNS($S$27:S42)-1),\"\")","v":""},{"$f":"IF(OFFSET(DE100_7!$T$27,ROWS($T$27:T42)-1,COLUMNS($T$27:T42)-1)<>\"\",OFFSET(DE100_7!$T$27,ROWS($T$27:T42)-1,COLUMNS($T$27:T42)-1),\"\")","v":""},{"$f":"IF(OFFSET(DE100_7!$U$27,ROWS($U$27:U42)-1,COLUMNS($U$27:U42)-1)<>\"\",OFFSET(DE100_7!$U$27,ROWS($U$27:U42)-1,COLUMNS($U$27:U42)-1),\"\")","v":""},{"$f":"IF(OFFSET(DE100_7!$V$27,ROWS($V$27:V42)-1,COLUMNS($V$27:V42)-1)<>\"\",OFFSET(DE100_7!$V$27,ROWS($V$27:V42)-1,COLUMNS($V$27:V42)-1),\"\")","v":""}]
[{"$f":"IF(OFFSET(DE100_7!$C$27,ROWS($C$27:C43)-1,COLUMNS($C$27:C43)-1)<>\"\",OFFSET(DE100_7!$C$27,ROWS($C$27:C43)-1,COLUMNS($C$27:C43)-1),\"\")","v":188173.01},{"$f":"IF(OFFSET(DE100_7!$D$27,ROWS($D$27:D43)-1,COLUMNS($D$27:D43)-1)<>\"\",OFFSET(DE100_7!$D$27,ROWS($D$27:D43)-1,COLUMNS($D$27:D43)-1),\"\")","v":150},{"$f":"IF(OFFSET(DE100_7!$E$27,ROWS($E$27:E43)-1,COLUMNS($E$27:E43)-1)<>\"\",OFFSET(DE100_7!$E$27,ROWS($E$27:E43)-1,COLUMNS($E$27:E43)-1),\"\")","v":189813},{"$f":"IF(OFFSET(DE100_7!$F$27,ROWS($F$27:F43)-1,COLUMNS($F$27:F43)-1)<>\"\",OFFSET(DE100_7!$F$27,ROWS($F$27:F43)-1,COLUMNS($F$27:F43)-1),\"\")","v":137},{"$f":"IF(OFFSET(DE100_7!$G$27,ROWS($G$27:G43)-1,COLUMNS($G$27:G43)-1)<>\"\",OFFSET(DE100_7!$G$27,ROWS($G$27:G43)-1,COLUMNS($G$27:G43)-1),\"\")","v":"LT"},{"$f":"IF(OFFSET(DE100_7!$H$27,ROWS($H$27:H43)-1,COLUMNS($H$27:H43)-1)<>\"\",OFFSET(DE100_7!$H$27,ROWS($H$27:H43)-1,COLUMNS($H$27:H43)-1),\"\")","v":""},{"$f":"IF(OFFSET(DE100_7!$I$27,ROWS($I$27:I43)-1,COLUMNS($I$27:I43)-1)<>\"\",OFFSET(DE100_7!$I$27,ROWS($I$27:I43)-1,COLUMNS($I$27:I43)-1),\"\")","v":""},{"$f":"IF(OFFSET(DE100_7!$J$27,ROWS($J$27:J43)-1,COLUMNS($J$27:J43)-1)<>\"\",OFFSET(DE100_7!$J$27,ROWS($J$27:J43)-1,COLUMNS($J$27:J43)-1),\"\")","v":""},{"$f":"IF(OFFSET(DE100_7!$K$27,ROWS($K$27:K43)-1,COLUMNS($K$27:K43)-1)<>\"\",OFFSET(DE100_7!$K$27,ROWS($K$27:K43)-1,COLUMNS($K$27:K43)-1),\"\")","v":""},{"$f":"IF(OFFSET(DE100_7!$L$27,ROWS($L$27:L43)-1,COLUMNS($L$27:L43)-1)<>\"\",OFFSET(DE100_7!$L$27,ROWS($L$27:L43)-1,COLUMNS($L$27:L43)-1),\"\")","v":""},{"$f":"IF(OFFSET(DE100_7!$M$27,ROWS($M$27:M43)-1,COLUMNS($M$27:M43)-1)<>\"\",OFFSET(DE100_7!$M$27,ROWS($M$27:M43)-1,COLUMNS($M$27:M43)-1),\"\")","v":""},{"$f":"IF(OFFSET(DE100_7!$N$27,ROWS($N$27:N43)-1,COLUMNS($N$27:N43)-1)<>\"\",OFFSET(DE100_7!$N$27,ROWS($N$27:N43)-1,COLUMNS($N$27:N43)-1),\"\")","v":""},{"$f":"IF(OFFSET(DE100_7!$O$27,ROWS($O$27:O43)-1,COLUMNS($O$27:O43)-1)<>\"\",OFFSET(DE100_7!$O$27,ROWS($O$27:O43)-1,COLUMNS($O$27:O43)-1),\"\")","v":""},{"$f":"IF(OFFSET(DE100_7!$P$27,ROWS($P$27:P43)-1,COLUMNS($P$27:P43)-1)<>\"\",OFFSET(DE100_7!$P$27,ROWS($P$27:P43)-1,COLUMNS($P$27:P43)-1),\"\")","v":1641},{"$f":"IF(OFFSET(DE100_7!$Q$27,ROWS($Q$27:Q43)-1,COLUMNS($Q$27:Q43)-1)<>\"\",OFFSET(DE100_7!$Q$27,ROWS($Q$27:Q43)-1,COLUMNS($Q$27:Q43)-1),\"\")","v":7},{"$f":"IF(OFFSET(DE100_7!$R$27,ROWS($R$27:R43)-1,COLUMNS($R$27:R43)-1)<>\"\",OFFSET(DE100_7!$R$27,ROWS($R$27:R43)-1,COLUMNS($R$27:R43)-1),\"\")","v":""},{"$f":"IF(OFFSET(DE100_7!$S$27,ROWS($S$27:S43)-1,COLUMNS($S$27:S43)-1)<>\"\",OFFSET(DE100_7!$S$27,ROWS($S$27:S43)-1,COLUMNS($S$27:S43)-1),\"\")","v":""},{"$f":"IF(OFFSET(DE100_7!$T$27,ROWS($T$27:T43)-1,COLUMNS($T$27:T43)-1)<>\"\",OFFSET(DE100_7!$T$27,ROWS($T$27:T43)-1,COLUMNS($T$27:T43)-1),\"\")","v":""},{"$f":"IF(OFFSET(DE100_7!$U$27,ROWS($U$27:U43)-1,COLUMNS($U$27:U43)-1)<>\"\",OFFSET(DE100_7!$U$27,ROWS($U$27:U43)-1,COLUMNS($U$27:U43)-1),\"\")","v":""},{"$f":"IF(OFFSET(DE100_7!$V$27,ROWS($V$27:V43)-1,COLUMNS($V$27:V43)-1)<>\"\",OFFSET(DE100_7!$V$27,ROWS($V$27:V43)-1,COLUMNS($V$27:V43)-1),\"\")","v":""}]
[{"$f":"IF(OFFSET(DE100_7!$C$27,ROWS($C$27:C44)-1,COLUMNS($C$27:C44)-1)<>\"\",OFFSET(DE100_7!$C$27,ROWS($C$27:C44)-1,COLUMNS($C$27:C44)-1),\"\")","v":"Gap for NE 142nd Ave and Homestead"},null,null,{"$f":"IF(OFFSET(DE100_7!$F$27,ROWS($F$27:F44)-1,COLUMNS($F$27:F44)-1)<>\"\",OFFSET(DE100_7!$F$27,ROWS($F$27:F44)-1,COLUMNS($F$27:F44)-1),\"\")","v":""},{"$f":"IF(OFFSET(DE100_7!$G$27,ROWS($G$27:G44)-1,COLUMNS($G$27:G44)-1)<>\"\",OFFSET(DE100_7!$G$27,ROWS($G$27:G44)-1,COLUMNS($G$27:G44)-1),\"\")","v":""},{"$f":"IF(OFFSET(DE100_7!$H$27,ROWS($H$27:H44)-1,COLUMNS($H$27:H44)-1)<>\"\",OFFSET(DE100_7!$H$27,ROWS($H$27:H44)-1,COLUMNS($H$27:H44)-1),\"\")","v":""},{"$f":"IF(OFFSET(DE100_7!$I$27,ROWS($I$27:I44)-1,COLUMNS($I$27:I44)-1)<>\"\",OFFSET(DE100_7!$I$27,ROWS($I$27:I44)-1,COLUMNS($I$27:I44)-1),\"\")","v":""},{"$f":"IF(OFFSET(DE100_7!$J$27,ROWS($J$27:J44)-1,COLUMNS($J$27:J44)-1)<>\"\",OFFSET(DE100_7!$J$27,ROWS($J$27:J44)-1,COLUMNS($J$27:J44)-1),\"\")","v":""},{"$f":"IF(OFFSET(DE100_7!$K$27,ROWS($K$27:K44)-1,COLUMNS($K$27:K44)-1)<>\"\",OFFSET(DE100_7!$K$27,ROWS($K$27:K44)-1,COLUMNS($K$27:K44)-1),\"\")","v":""},{"$f":"IF(OFFSET(DE100_7!$L$27,ROWS($L$27:L44)-1,COLUMNS($L$27:L44)-1)<>\"\",OFFSET(DE100_7!$L$27,ROWS($L$27:L44)-1,COLUMNS($L$27:L44)-1),\"\")","v":""},{"$f":"IF(OFFSET(DE100_7!$M$27,ROWS($M$27:M44)-1,COLUMNS($M$27:M44)-1)<>\"\",OFFSET(DE100_7!$M$27,ROWS($M$27:M44)-1,COLUMNS($M$27:M44)-1),\"\")","v":""},{"$f":"IF(OFFSET(DE100_7!$N$27,ROWS($N$27:N44)-1,COLUMNS($N$27:N44)-1)<>\"\",OFFSET(DE100_7!$N$27,ROWS($N$27:N44)-1,COLUMNS($N$27:N44)-1),\"\")","v":""},{"$f":"IF(OFFSET(DE100_7!$O$27,ROWS($O$27:O44)-1,COLUMNS($O$27:O44)-1)<>\"\",OFFSET(DE100_7!$O$27,ROWS($O$27:O44)-1,COLUMNS($O$27:O44)-1),\"\")","v":""},{"$f":"IF(OFFSET(DE100_7!$P$27,ROWS($P$27:P44)-1,COLUMNS($P$27:P44)-1)<>\"\",OFFSET(DE100_7!$P$27,ROWS($P$27:P44)-1,COLUMNS($P$27:P44)-1),\"\")","v":""},{"$f":"IF(OFFSET(DE100_7!$Q$27,ROWS($Q$27:Q44)-1,COLUMNS($Q$27:Q44)-1)<>\"\",OFFSET(DE100_7!$Q$27,ROWS($Q$27:Q44)-1,COLUMNS($Q$27:Q44)-1),\"\")","v":""},{"$f":"IF(OFFSET(DE100_7!$R$27,ROWS($R$27:R44)-1,COLUMNS($R$27:R44)-1)<>\"\",OFFSET(DE100_7!$R$27,ROWS($R$27:R44)-1,COLUMNS($R$27:R44)-1),\"\")","v":""},{"$f":"IF(OFFSET(DE100_7!$S$27,ROWS($S$27:S44)-1,COLUMNS($S$27:S44)-1)<>\"\",OFFSET(DE100_7!$S$27,ROWS($S$27:S44)-1,COLUMNS($S$27:S44)-1),\"\")","v":""},{"$f":"IF(OFFSET(DE100_7!$T$27,ROWS($T$27:T44)-1,COLUMNS($T$27:T44)-1)<>\"\",OFFSET(DE100_7!$T$27,ROWS($T$27:T44)-1,COLUMNS($T$27:T44)-1),\"\")","v":""},{"$f":"IF(OFFSET(DE100_7!$U$27,ROWS($U$27:U44)-1,COLUMNS($U$27:U44)-1)<>\"\",OFFSET(DE100_7!$U$27,ROWS($U$27:U44)-1,COLUMNS($U$27:U44)-1),\"\")","v":""},{"$f":"IF(OFFSET(DE100_7!$V$27,ROWS($V$27:V44)-1,COLUMNS($V$27:V44)-1)<>\"\",OFFSET(DE100_7!$V$27,ROWS($V$27:V44)-1,COLUMNS($V$27:V44)-1),\"\")","v":""}]
[{"$f":"IF(OFFSET(DE100_7!$C$27,ROWS($C$27:C45)-1,COLUMNS($C$27:C45)-1)<>\"\",OFFSET(DE100_7!$C$27,ROWS($C$27:C45)-1,COLUMNS($C$27:C45)-1),\"\")","v":190380.39},{"$f":"IF(OFFSET(DE100_7!$D$27,ROWS($D$27:D45)-1,COLUMNS($D$27:D45)-1)<>\"\",OFFSET(DE100_7!$D$27,ROWS($D$27:D45)-1,COLUMNS($D$27:D45)-1),\"\")","v":153.41},{"$f":"IF(OFFSET(DE100_7!$E$27,ROWS($E$27:E45)-1,COLUMNS($E$27:E45)-1)<>\"\",OFFSET(DE100_7!$E$27,ROWS($E$27:E45)-1,COLUMNS($E$27:E45)-1),\"\")","v":190799.99},{"$f":"IF(OFFSET(DE100_7!$F$27,ROWS($F$27:F45)-1,COLUMNS($F$27:F45)-1)<>\"\",OFFSET(DE100_7!$F$27,ROWS($F$27:F45)-1,COLUMNS($F$27:F45)-1),\"\")","v":151},{"$f":"IF(OFFSET(DE100_7!$G$27,ROWS($G$27:G45)-1,COLUMNS($G$27:G45)-1)<>\"\",OFFSET(DE100_7!$G$27,ROWS($G$27:G45)-1,COLUMNS($G$27:G45)-1),\"\")","v":"LT"},{"$f":"IF(OFFSET(DE100_7!$H$27,ROWS($H$27:H45)-1,COLUMNS($H$27:H45)-1)<>\"\",OFFSET(DE100_7!$H$27,ROWS($H$27:H45)-1,COLUMNS($H$27:H45)-1),\"\")","v":""},{"$f":"IF(OFFSET(DE100_7!$I$27,ROWS($I$27:I45)-1,COLUMNS($I$27:I45)-1)<>\"\",OFFSET(DE100_7!$I$27,ROWS($I$27:I45)-1,COLUMNS($I$27:I45)-1),\"\")","v":""},{"$f":"IF(OFFSET(DE100_7!$J$27,ROWS($J$27:J45)-1,COLUMNS($J$27:J45)-1)<>\"\",OFFSET(DE100_7!$J$27,ROWS($J$27:J45)-1,COLUMNS($J$27:J45)-1),\"\")","v":""},{"$f":"IF(OFFSET(DE100_7!$K$27,ROWS($K$27:K45)-1,COLUMNS($K$27:K45)-1)<>\"\",OFFSET(DE100_7!$K$27,ROWS($K$27:K45)-1,COLUMNS($K$27:K45)-1),\"\")","v":""},{"$f":"IF(OFFSET(DE100_7!$L$27,ROWS($L$27:L45)-1,COLUMNS($L$27:L45)-1)<>\"\",OFFSET(DE100_7!$L$27,ROWS($L$27:L45)-1,COLUMNS($L$27:L45)-1),\"\")","v":""},{"$f":"IF(OFFSET(DE100_7!$M$27,ROWS($M$27:M45)-1,COLUMNS($M$27:M45)-1)<>\"\",OFFSET(DE100_7!$M$27,ROWS($M$27:M45)-1,COLUMNS($M$27:M45)-1),\"\")","v":""},{"$f":"IF(OFFSET(DE100_7!$N$27,ROWS($N$27:N45)-1,COLUMNS($N$27:N45)-1)<>\"\",OFFSET(DE100_7!$N$27,ROWS($N$27:N45)-1,COLUMNS($N$27:N45)-1),\"\")","v":""},{"$f":"IF(OFFSET(DE100_7!$O$27,ROWS($O$27:O45)-1,COLUMNS($O$27:O45)-1)<>\"\",OFFSET(DE100_7!$O$27,ROWS($O$27:O45)-1,COLUMNS($O$27:O45)-1),\"\")","v":""},{"$f":"IF(OFFSET(DE100_7!$P$27,ROWS($P$27:P45)-1,COLUMNS($P$27:P45)-1)<>\"\",OFFSET(DE100_7!$P$27,ROWS($P$27:P45)-1,COLUMNS($P$27:P45)-1),\"\")","v":419.6},{"$f":"IF(OFFSET(DE100_7!$Q$27,ROWS($Q$27:Q45)-1,COLUMNS($Q$27:Q45)-1)<>\"\",OFFSET(DE100_7!$Q$27,ROWS($Q$27:Q45)-1,COLUMNS($Q$27:Q45)-1),\"\")","v":5},{"$f":"IF(OFFSET(DE100_7!$R$27,ROWS($R$27:R45)-1,COLUMNS($R$27:R45)-1)<>\"\",OFFSET(DE100_7!$R$27,ROWS($R$27:R45)-1,COLUMNS($R$27:R45)-1),\"\")","v":""},{"$f":"IF(OFFSET(DE100_7!$S$27,ROWS($S$27:S45)-1,COLUMNS($S$27:S45)-1)<>\"\",OFFSET(DE100_7!$S$27,ROWS($S$27:S45)-1,COLUMNS($S$27:S45)-1),\"\")","v":""},{"$f":"IF(OFFSET(DE100_7!$T$27,ROWS($T$27:T45)-1,COLUMNS($T$27:T45)-1)<>\"\",OFFSET(DE100_7!$T$27,ROWS($T$27:T45)-1,COLUMNS($T$27:T45)-1),\"\")","v":""},{"$f":"IF(OFFSET(DE100_7!$U$27,ROWS($U$27:U45)-1,COLUMNS($U$27:U45)-1)<>\"\",OFFSET(DE100_7!$U$27,ROWS($U$27:U45)-1,COLUMNS($U$27:U45)-1),\"\")","v":""},{"$f":"IF(OFFSET(DE100_7!$V$27,ROWS($V$27:V45)-1,COLUMNS($V$27:V45)-1)<>\"\",OFFSET(DE100_7!$V$27,ROWS($V$27:V45)-1,COLUMNS($V$27:V45)-1),\"\")","v":""}]
[{"$f":"IF(OFFSET(DE100_7!$C$27,ROWS($C$27:C46)-1,COLUMNS($C$27:C46)-1)<>\"\",OFFSET(DE100_7!$C$27,ROWS($C$27:C46)-1,COLUMNS($C$27:C46)-1),\"\")","v":190799.99},{"$f":"IF(OFFSET(DE100_7!$D$27,ROWS($D$27:D46)-1,COLUMNS($D$27:D46)-1)<>\"\",OFFSET(DE100_7!$D$27,ROWS($D$27:D46)-1,COLUMNS($D$27:D46)-1),\"\")","v":151},{"$f":"IF(OFFSET(DE100_7!$E$27,ROWS($E$27:E46)-1,COLUMNS($E$27:E46)-1)<>\"\",OFFSET(DE100_7!$E$27,ROWS($E$27:E46)-1,COLUMNS($E$27:E46)-1),\"\")","v":191095.04000000001},{"$f":"IF(OFFSET(DE100_7!$F$27,ROWS($F$27:F46)-1,COLUMNS($F$27:F46)-1)<>\"\",OFFSET(DE100_7!$F$27,ROWS($F$27:F46)-1,COLUMNS($F$27:F46)-1),\"\")","v":145},{"$f":"IF(OFFSET(DE100_7!$G$27,ROWS($G$27:G46)-1,COLUMNS($G$27:G46)-1)<>\"\",OFFSET(DE100_7!$G$27,ROWS($G$27:G46)-1,COLUMNS($G$27:G46)-1),\"\")","v":"LT"},{"$f":"IF(OFFSET(DE100_7!$H$27,ROWS($H$27:H46)-1,COLUMNS($H$27:H46)-1)<>\"\",OFFSET(DE100_7!$H$27,ROWS($H$27:H46)-1,COLUMNS($H$27:H46)-1),\"\")","v":""},{"$f":"IF(OFFSET(DE100_7!$I$27,ROWS($I$27:I46)-1,COLUMNS($I$27:I46)-1)<>\"\",OFFSET(DE100_7!$I$27,ROWS($I$27:I46)-1,COLUMNS($I$27:I46)-1),\"\")","v":""},{"$f":"IF(OFFSET(DE100_7!$J$27,ROWS($J$27:J46)-1,COLUMNS($J$27:J46)-1)<>\"\",OFFSET(DE100_7!$J$27,ROWS($J$27:J46)-1,COLUMNS($J$27:J46)-1),\"\")","v":""},{"$f":"IF(OFFSET(DE100_7!$K$27,ROWS($K$27:K46)-1,COLUMNS($K$27:K46)-1)<>\"\",OFFSET(DE100_7!$K$27,ROWS($K$27:K46)-1,COLUMNS($K$27:K46)-1),\"\")","v":""},{"$f":"IF(OFFSET(DE100_7!$L$27,ROWS($L$27:L46)-1,COLUMNS($L$27:L46)-1)<>\"\",OFFSET(DE100_7!$L$27,ROWS($L$27:L46)-1,COLUMNS($L$27:L46)-1),\"\")","v":""},{"$f":"IF(OFFSET(DE100_7!$M$27,ROWS($M$27:M46)-1,COLUMNS($M$27:M46)-1)<>\"\",OFFSET(DE100_7!$M$27,ROWS($M$27:M46)-1,COLUMNS($M$27:M46)-1),\"\")","v":""},{"$f":"IF(OFFSET(DE100_7!$N$27,ROWS($N$27:N46)-1,COLUMNS($N$27:N46)-1)<>\"\",OFFSET(DE100_7!$N$27,ROWS($N$27:N46)-1,COLUMNS($N$27:N46)-1),\"\")","v":""},{"$f":"IF(OFFSET(DE100_7!$O$27,ROWS($O$27:O46)-1,COLUMNS($O$27:O46)-1)<>\"\",OFFSET(DE100_7!$O$27,ROWS($O$27:O46)-1,COLUMNS($O$27:O46)-1),\"\")","v":""},{"$f":"IF(OFFSET(DE100_7!$P$27,ROWS($P$27:P46)-1,COLUMNS($P$27:P46)-1)<>\"\",OFFSET(DE100_7!$P$27,ROWS($P$27:P46)-1,COLUMNS($P$27:P46)-1),\"\")","v":295.10000000000002},{"$f":"IF(OFFSET(DE100_7!$Q$27,ROWS($Q$27:Q46)-1,COLUMNS($Q$27:Q46)-1)<>\"\",OFFSET(DE100_7!$Q$27,ROWS($Q$27:Q46)-1,COLUMNS($Q$27:Q46)-1),\"\")","v":6},{"$f":"IF(OFFSET(DE100_7!$R$27,ROWS($R$27:R46)-1,COLUMNS($R$27:R46)-1)<>\"\",OFFSET(DE100_7!$R$27,ROWS($R$27:R46)-1,COLUMNS($R$27:R46)-1),\"\")","v":""},{"$f":"IF(OFFSET(DE100_7!$S$27,ROWS($S$27:S46)-1,COLUMNS($S$27:S46)-1)<>\"\",OFFSET(DE100_7!$S$27,ROWS($S$27:S46)-1,COLUMNS($S$27:S46)-1),\"\")","v":""},{"$f":"IF(OFFSET(DE100_7!$T$27,ROWS($T$27:T46)-1,COLUMNS($T$27:T46)-1)<>\"\",OFFSET(DE100_7!$T$27,ROWS($T$27:T46)-1,COLUMNS($T$27:T46)-1),\"\")","v":""},{"$f":"IF(OFFSET(DE100_7!$U$27,ROWS($U$27:U46)-1,COLUMNS($U$27:U46)-1)<>\"\",OFFSET(DE100_7!$U$27,ROWS($U$27:U46)-1,COLUMNS($U$27:U46)-1),\"\")","v":""},{"$f":"IF(OFFSET(DE100_7!$V$27,ROWS($V$27:V46)-1,COLUMNS($V$27:V46)-1)<>\"\",OFFSET(DE100_7!$V$27,ROWS($V$27:V46)-1,COLUMNS($V$27:V46)-1),\"\")","v":""}]
[{"$f":"IF(OFFSET(DE100_7!$C$27,ROWS($C$27:C47)-1,COLUMNS($C$27:C47)-1)<>\"\",OFFSET(DE100_7!$C$27,ROWS($C$27:C47)-1,COLUMNS($C$27:C47)-1),\"\")","v":191095.04000000001},{"$f":"IF(OFFSET(DE100_7!$D$27,ROWS($D$27:D47)-1,COLUMNS($D$27:D47)-1)<>\"\",OFFSET(DE100_7!$D$27,ROWS($D$27:D47)-1,COLUMNS($D$27:D47)-1),\"\")","v":145},{"$f":"IF(OFFSET(DE100_7!$E$27,ROWS($E$27:E47)-1,COLUMNS($E$27:E47)-1)<>\"\",OFFSET(DE100_7!$E$27,ROWS($E$27:E47)-1,COLUMNS($E$27:E47)-1),\"\")","v":191275.38},{"$f":"IF(OFFSET(DE100_7!$F$27,ROWS($F$27:F47)-1,COLUMNS($F$27:F47)-1)<>\"\",OFFSET(DE100_7!$F$27,ROWS($F$27:F47)-1,COLUMNS($F$27:F47)-1),\"\")","v":164.01},{"$f":"IF(OFFSET(DE100_7!$G$27,ROWS($G$27:G47)-1,COLUMNS($G$27:G47)-1)<>\"\",OFFSET(DE100_7!$G$27,ROWS($G$27:G47)-1,COLUMNS($G$27:G47)-1),\"\")","v":"LT"},{"$f":"IF(OFFSET(DE100_7!$H$27,ROWS($H$27:H47)-1,COLUMNS($H$27:H47)-1)<>\"\",OFFSET(DE100_7!$H$27,ROWS($H$27:H47)-1,COLUMNS($H$27:H47)-1),\"\")","v":""},{"$f":"IF(OFFSET(DE100_7!$I$27,ROWS($I$27:I47)-1,COLUMNS($I$27:I47)-1)<>\"\",OFFSET(DE100_7!$I$27,ROWS($I$27:I47)-1,COLUMNS($I$27:I47)-1),\"\")","v":""},{"$f":"IF(OFFSET(DE100_7!$J$27,ROWS($J$27:J47)-1,COLUMNS($J$27:J47)-1)<>\"\",OFFSET(DE100_7!$J$27,ROWS($J$27:J47)-1,COLUMNS($J$27:J47)-1),\"\")","v":""},{"$f":"IF(OFFSET(DE100_7!$K$27,ROWS($K$27:K47)-1,COLUMNS($K$27:K47)-1)<>\"\",OFFSET(DE100_7!$K$27,ROWS($K$27:K47)-1,COLUMNS($K$27:K47)-1),\"\")","v":""},{"$f":"IF(OFFSET(DE100_7!$L$27,ROWS($L$27:L47)-1,COLUMNS($L$27:L47)-1)<>\"\",OFFSET(DE100_7!$L$27,ROWS($L$27:L47)-1,COLUMNS($L$27:L47)-1),\"\")","v":""},{"$f":"IF(OFFSET(DE100_7!$M$27,ROWS($M$27:M47)-1,COLUMNS($M$27:M47)-1)<>\"\",OFFSET(DE100_7!$M$27,ROWS($M$27:M47)-1,COLUMNS($M$27:M47)-1),\"\")","v":""},{"$f":"IF(OFFSET(DE100_7!$N$27,ROWS($N$27:N47)-1,COLUMNS($N$27:N47)-1)<>\"\",OFFSET(DE100_7!$N$27,ROWS($N$27:N47)-1,COLUMNS($N$27:N47)-1),\"\")","v":""},{"$f":"IF(OFFSET(DE100_7!$O$27,ROWS($O$27:O47)-1,COLUMNS($O$27:O47)-1)<>\"\",OFFSET(DE100_7!$O$27,ROWS($O$27:O47)-1,COLUMNS($O$27:O47)-1),\"\")","v":""},{"$f":"IF(OFFSET(DE100_7!$P$27,ROWS($P$27:P47)-1,COLUMNS($P$27:P47)-1)<>\"\",OFFSET(DE100_7!$P$27,ROWS($P$27:P47)-1,COLUMNS($P$27:P47)-1),\"\")","v":181.3},{"$f":"IF(OFFSET(DE100_7!$Q$27,ROWS($Q$27:Q47)-1,COLUMNS($Q$27:Q47)-1)<>\"\",OFFSET(DE100_7!$Q$27,ROWS($Q$27:Q47)-1,COLUMNS($Q$27:Q47)-1),\"\")","v":6},{"$f":"IF(OFFSET(DE100_7!$R$27,ROWS($R$27:R47)-1,COLUMNS($R$27:R47)-1)<>\"\",OFFSET(DE100_7!$R$27,ROWS($R$27:R47)-1,COLUMNS($R$27:R47)-1),\"\")","v":""},{"$f":"IF(OFFSET(DE100_7!$S$27,ROWS($S$27:S47)-1,COLUMNS($S$27:S47)-1)<>\"\",OFFSET(DE100_7!$S$27,ROWS($S$27:S47)-1,COLUMNS($S$27:S47)-1),\"\")","v":""},{"$f":"IF(OFFSET(DE100_7!$T$27,ROWS($T$27:T47)-1,COLUMNS($T$27:T47)-1)<>\"\",OFFSET(DE100_7!$T$27,ROWS($T$27:T47)-1,COLUMNS($T$27:T47)-1),\"\")","v":""},{"$f":"IF(OFFSET(DE100_7!$U$27,ROWS($U$27:U47)-1,COLUMNS($U$27:U47)-1)<>\"\",OFFSET(DE100_7!$U$27,ROWS($U$27:U47)-1,COLUMNS($U$27:U47)-1),\"\")","v":""},{"$f":"IF(OFFSET(DE100_7!$V$27,ROWS($V$27:V47)-1,COLUMNS($V$27:V47)-1)<>\"\",OFFSET(DE100_7!$V$27,ROWS($V$27:V47)-1,COLUMNS($V$27:V47)-1),\"\")","v":""}]
[{"$f":"IF(OFFSET(DE100_7!$C$27,ROWS($C$27:C48)-1,COLUMNS($C$27:C48)-1)<>\"\",OFFSET(DE100_7!$C$27,ROWS($C$27:C48)-1,COLUMNS($C$27:C48)-1),\"\")","v":191275.38},{"$f":"IF(OFFSET(DE100_7!$D$27,ROWS($D$27:D48)-1,COLUMNS($D$27:D48)-1)<>\"\",OFFSET(DE100_7!$D$27,ROWS($D$27:D48)-1,COLUMNS($D$27:D48)-1),\"\")","v":164.01},{"$f":"IF(OFFSET(DE100_7!$E$27,ROWS($E$27:E48)-1,COLUMNS($E$27:E48)-1)<>\"\",OFFSET(DE100_7!$E$27,ROWS($E$27:E48)-1,COLUMNS($E$27:E48)-1),\"\")","v":191429.96},{"$f":"IF(OFFSET(DE100_7!$F$27,ROWS($F$27:F48)-1,COLUMNS($F$27:F48)-1)<>\"\",OFFSET(DE100_7!$F$27,ROWS($F$27:F48)-1,COLUMNS($F$27:F48)-1),\"\")","v":168},{"$f":"IF(OFFSET(DE100_7!$G$27,ROWS($G$27:G48)-1,COLUMNS($G$27:G48)-1)<>\"\",OFFSET(DE100_7!$G$27,ROWS($G$27:G48)-1,COLUMNS($G$27:G48)-1),\"\")","v":"LT"},{"$f":"IF(OFFSET(DE100_7!$H$27,ROWS($H$27:H48)-1,COLUMNS($H$27:H48)-1)<>\"\",OFFSET(DE100_7!$H$27,ROWS($H$27:H48)-1,COLUMNS($H$27:H48)-1),\"\")","v":""},{"$f":"IF(OFFSET(DE100_7!$I$27,ROWS($I$27:I48)-1,COLUMNS($I$27:I48)-1)<>\"\",OFFSET(DE100_7!$I$27,ROWS($I$27:I48)-1,COLUMNS($I$27:I48)-1),\"\")","v":""},{"$f":"IF(OFFSET(DE100_7!$J$27,ROWS($J$27:J48)-1,COLUMNS($J$27:J48)-1)<>\"\",OFFSET(DE100_7!$J$27,ROWS($J$27:J48)-1,COLUMNS($J$27:J48)-1),\"\")","v":""},{"$f":"IF(OFFSET(DE100_7!$K$27,ROWS($K$27:K48)-1,COLUMNS($K$27:K48)-1)<>\"\",OFFSET(DE100_7!$K$27,ROWS($K$27:K48)-1,COLUMNS($K$27:K48)-1),\"\")","v":""},{"$f":"IF(OFFSET(DE100_7!$L$27,ROWS($L$27:L48)-1,COLUMNS($L$27:L48)-1)<>\"\",OFFSET(DE100_7!$L$27,ROWS($L$27:L48)-1,COLUMNS($L$27:L48)-1),\"\")","v":""},{"$f":"IF(OFFSET(DE100_7!$M$27,ROWS($M$27:M48)-1,COLUMNS($M$27:M48)-1)<>\"\",OFFSET(DE100_7!$M$27,ROWS($M$27:M48)-1,COLUMNS($M$27:M48)-1),\"\")","v":""},{"$f":"IF(OFFSET(DE100_7!$N$27,ROWS($N$27:N48)-1,COLUMNS($N$27:N48)-1)<>\"\",OFFSET(DE100_7!$N$27,ROWS($N$27:N48)-1,COLUMNS($N$27:N48)-1),\"\")","v":""},{"$f":"IF(OFFSET(DE100_7!$O$27,ROWS($O$27:O48)-1,COLUMNS($O$27:O48)-1)<>\"\",OFFSET(DE100_7!$O$27,ROWS($O$27:O48)-1,COLUMNS($O$27:O48)-1),\"\")","v":""},{"$f":"IF(OFFSET(DE100_7!$P$27,ROWS($P$27:P48)-1,COLUMNS($P$27:P48)-1)<>\"\",OFFSET(DE100_7!$P$27,ROWS($P$27:P48)-1,COLUMNS($P$27:P48)-1),\"\")","v":154.69999999999999},{"$f":"IF(OFFSET(DE100_7!$Q$27,ROWS($Q$27:Q48)-1,COLUMNS($Q$27:Q48)-1)<>\"\",OFFSET(DE100_7!$Q$27,ROWS($Q$27:Q48)-1,COLUMNS($Q$27:Q48)-1),\"\")","v":4},{"$f":"IF(OFFSET(DE100_7!$R$27,ROWS($R$27:R48)-1,COLUMNS($R$27:R48)-1)<>\"\",OFFSET(DE100_7!$R$27,ROWS($R$27:R48)-1,COLUMNS($R$27:R48)-1),\"\")","v":""},{"$f":"IF(OFFSET(DE100_7!$S$27,ROWS($S$27:S48)-1,COLUMNS($S$27:S48)-1)<>\"\",OFFSET(DE100_7!$S$27,ROWS($S$27:S48)-1,COLUMNS($S$27:S48)-1),\"\")","v":""},{"$f":"IF(OFFSET(DE100_7!$T$27,ROWS($T$27:T48)-1,COLUMNS($T$27:T48)-1)<>\"\",OFFSET(DE100_7!$T$27,ROWS($T$27:T48)-1,COLUMNS($T$27:T48)-1),\"\")","v":""},{"$f":"IF(OFFSET(DE100_7!$U$27,ROWS($U$27:U48)-1,COLUMNS($U$27:U48)-1)<>\"\",OFFSET(DE100_7!$U$27,ROWS($U$27:U48)-1,COLUMNS($U$27:U48)-1),\"\")","v":""},{"$f":"IF(OFFSET(DE100_7!$V$27,ROWS($V$27:V48)-1,COLUMNS($V$27:V48)-1)<>\"\",OFFSET(DE100_7!$V$27,ROWS($V$27:V48)-1,COLUMNS($V$27:V48)-1),\"\")","v":""}]
[{"$f":"IF(OFFSET(DE100_7!$C$27,ROWS($C$27:C49)-1,COLUMNS($C$27:C49)-1)<>\"\",OFFSET(DE100_7!$C$27,ROWS($C$27:C49)-1,COLUMNS($C$27:C49)-1),\"\")","v":191429.96},{"$f":"IF(OFFSET(DE100_7!$D$27,ROWS($D$27:D49)-1,COLUMNS($D$27:D49)-1)<>\"\",OFFSET(DE100_7!$D$27,ROWS($D$27:D49)-1,COLUMNS($D$27:D49)-1),\"\")","v":168},{"$f":"IF(OFFSET(DE100_7!$E$27,ROWS($E$27:E49)-1,COLUMNS($E$27:E49)-1)<>\"\",OFFSET(DE100_7!$E$27,ROWS($E$27:E49)-1,COLUMNS($E$27:E49)-1),\"\")","v":191624.95999999999},{"$f":"IF(OFFSET(DE100_7!$F$27,ROWS($F$27:F49)-1,COLUMNS($F$27:F49)-1)<>\"\",OFFSET(DE100_7!$F$27,ROWS($F$27:F49)-1,COLUMNS($F$27:F49)-1),\"\")","v":149},{"$f":"IF(OFFSET(DE100_7!$G$27,ROWS($G$27:G49)-1,COLUMNS($G$27:G49)-1)<>\"\",OFFSET(DE100_7!$G$27,ROWS($G$27:G49)-1,COLUMNS($G$27:G49)-1),\"\")","v":"LT"},{"$f":"IF(OFFSET(DE100_7!$H$27,ROWS($H$27:H49)-1,COLUMNS($H$27:H49)-1)<>\"\",OFFSET(DE100_7!$H$27,ROWS($H$27:H49)-1,COLUMNS($H$27:H49)-1),\"\")","v":""},{"$f":"IF(OFFSET(DE100_7!$I$27,ROWS($I$27:I49)-1,COLUMNS($I$27:I49)-1)<>\"\",OFFSET(DE100_7!$I$27,ROWS($I$27:I49)-1,COLUMNS($I$27:I49)-1),\"\")","v":""},{"$f":"IF(OFFSET(DE100_7!$J$27,ROWS($J$27:J49)-1,COLUMNS($J$27:J49)-1)<>\"\",OFFSET(DE100_7!$J$27,ROWS($J$27:J49)-1,COLUMNS($J$27:J49)-1),\"\")","v":""},{"$f":"IF(OFFSET(DE100_7!$K$27,ROWS($K$27:K49)-1,COLUMNS($K$27:K49)-1)<>\"\",OFFSET(DE100_7!$K$27,ROWS($K$27:K49)-1,COLUMNS($K$27:K49)-1),\"\")","v":""},{"$f":"IF(OFFSET(DE100_7!$L$27,ROWS($L$27:L49)-1,COLUMNS($L$27:L49)-1)<>\"\",OFFSET(DE100_7!$L$27,ROWS($L$27:L49)-1,COLUMNS($L$27:L49)-1),\"\")","v":""},{"$f":"IF(OFFSET(DE100_7!$M$27,ROWS($M$27:M49)-1,COLUMNS($M$27:M49)-1)<>\"\",OFFSET(DE100_7!$M$27,ROWS($M$27:M49)-1,COLUMNS($M$27:M49)-1),\"\")","v":""},{"$f":"IF(OFFSET(DE100_7!$N$27,ROWS($N$27:N49)-1,COLUMNS($N$27:N49)-1)<>\"\",OFFSET(DE100_7!$N$27,ROWS($N$27:N49)-1,COLUMNS($N$27:N49)-1),\"\")","v":""},{"$f":"IF(OFFSET(DE100_7!$O$27,ROWS($O$27:O49)-1,COLUMNS($O$27:O49)-1)<>\"\",OFFSET(DE100_7!$O$27,ROWS($O$27:O49)-1,COLUMNS($O$27:O49)-1),\"\")","v":""},{"$f":"IF(OFFSET(DE100_7!$P$27,ROWS($P$27:P49)-1,COLUMNS($P$27:P49)-1)<>\"\",OFFSET(DE100_7!$P$27,ROWS($P$27:P49)-1,COLUMNS($P$27:P49)-1),\"\")","v":195.9},{"$f":"IF(OFFSET(DE100_7!$Q$27,ROWS($Q$27:Q49)-1,COLUMNS($Q$27:Q49)-1)<>\"\",OFFSET(DE100_7!$Q$27,ROWS($Q$27:Q49)-1,COLUMNS($Q$27:Q49)-1),\"\")","v":6},{"$f":"IF(OFFSET(DE100_7!$R$27,ROWS($R$27:R49)-1,COLUMNS($R$27:R49)-1)<>\"\",OFFSET(DE100_7!$R$27,ROWS($R$27:R49)-1,COLUMNS($R$27:R49)-1),\"\")","v":""},{"$f":"IF(OFFSET(DE100_7!$S$27,ROWS($S$27:S49)-1,COLUMNS($S$27:S49)-1)<>\"\",OFFSET(DE100_7!$S$27,ROWS($S$27:S49)-1,COLUMNS($S$27:S49)-1),\"\")","v":""},{"$f":"IF(OFFSET(DE100_7!$T$27,ROWS($T$27:T49)-1,COLUMNS($T$27:T49)-1)<>\"\",OFFSET(DE100_7!$T$27,ROWS($T$27:T49)-1,COLUMNS($T$27:T49)-1),\"\")","v":""},{"$f":"IF(OFFSET(DE100_7!$U$27,ROWS($U$27:U49)-1,COLUMNS($U$27:U49)-1)<>\"\",OFFSET(DE100_7!$U$27,ROWS($U$27:U49)-1,COLUMNS($U$27:U49)-1),\"\")","v":""},{"$f":"IF(OFFSET(DE100_7!$V$27,ROWS($V$27:V49)-1,COLUMNS($V$27:V49)-1)<>\"\",OFFSET(DE100_7!$V$27,ROWS($V$27:V49)-1,COLUMNS($V$27:V49)-1),\"\")","v":""}]
[{"$f":"IF(OFFSET(DE100_7!$C$27,ROWS($C$27:C50)-1,COLUMNS($C$27:C50)-1)<>\"\",OFFSET(DE100_7!$C$27,ROWS($C$27:C50)-1,COLUMNS($C$27:C50)-1),\"\")","v":191624.95999999999},{"$f":"IF(OFFSET(DE100_7!$D$27,ROWS($D$27:D50)-1,COLUMNS($D$27:D50)-1)<>\"\",OFFSET(DE100_7!$D$27,ROWS($D$27:D50)-1,COLUMNS($D$27:D50)-1),\"\")","v":149},{"$f":"IF(OFFSET(DE100_7!$E$27,ROWS($E$27:E50)-1,COLUMNS($E$27:E50)-1)<>\"\",OFFSET(DE100_7!$E$27,ROWS($E$27:E50)-1,COLUMNS($E$27:E50)-1),\"\")","v":191869.02},{"$f":"IF(OFFSET(DE100_7!$F$27,ROWS($F$27:F50)-1,COLUMNS($F$27:F50)-1)<>\"\",OFFSET(DE100_7!$F$27,ROWS($F$27:F50)-1,COLUMNS($F$27:F50)-1),\"\")","v":154.80000000000001},{"$f":"IF(OFFSET(DE100_7!$G$27,ROWS($G$27:G50)-1,COLUMNS($G$27:G50)-1)<>\"\",OFFSET(DE100_7!$G$27,ROWS($G$27:G50)-1,COLUMNS($G$27:G50)-1),\"\")","v":"LT"},{"$f":"IF(OFFSET(DE100_7!$H$27,ROWS($H$27:H50)-1,COLUMNS($H$27:H50)-1)<>\"\",OFFSET(DE100_7!$H$27,ROWS($H$27:H50)-1,COLUMNS($H$27:H50)-1),\"\")","v":""},{"$f":"IF(OFFSET(DE100_7!$I$27,ROWS($I$27:I50)-1,COLUMNS($I$27:I50)-1)<>\"\",OFFSET(DE100_7!$I$27,ROWS($I$27:I50)-1,COLUMNS($I$27:I50)-1),\"\")","v":""},{"$f":"IF(OFFSET(DE100_7!$J$27,ROWS($J$27:J50)-1,COLUMNS($J$27:J50)-1)<>\"\",OFFSET(DE100_7!$J$27,ROWS($J$27:J50)-1,COLUMNS($J$27:J50)-1),\"\")","v":""},{"$f":"IF(OFFSET(DE100_7!$K$27,ROWS($K$27:K50)-1,COLUMNS($K$27:K50)-1)<>\"\",OFFSET(DE100_7!$K$27,ROWS($K$27:K50)-1,COLUMNS($K$27:K50)-1),\"\")","v":""},{"$f":"IF(OFFSET(DE100_7!$L$27,ROWS($L$27:L50)-1,COLUMNS($L$27:L50)-1)<>\"\",OFFSET(DE100_7!$L$27,ROWS($L$27:L50)-1,COLUMNS($L$27:L50)-1),\"\")","v":""},{"$f":"IF(OFFSET(DE100_7!$M$27,ROWS($M$27:M50)-1,COLUMNS($M$27:M50)-1)<>\"\",OFFSET(DE100_7!$M$27,ROWS($M$27:M50)-1,COLUMNS($M$27:M50)-1),\"\")","v":""},{"$f":"IF(OFFSET(DE100_7!$N$27,ROWS($N$27:N50)-1,COLUMNS($N$27:N50)-1)<>\"\",OFFSET(DE100_7!$N$27,ROWS($N$27:N50)-1,COLUMNS($N$27:N50)-1),\"\")","v":""},{"$f":"IF(OFFSET(DE100_7!$O$27,ROWS($O$27:O50)-1,COLUMNS($O$27:O50)-1)<>\"\",OFFSET(DE100_7!$O$27,ROWS($O$27:O50)-1,COLUMNS($O$27:O50)-1),\"\")","v":""},{"$f":"IF(OFFSET(DE100_7!$P$27,ROWS($P$27:P50)-1,COLUMNS($P$27:P50)-1)<>\"\",OFFSET(DE100_7!$P$27,ROWS($P$27:P50)-1,COLUMNS($P$27:P50)-1),\"\")","v":244.1},{"$f":"IF(OFFSET(DE100_7!$Q$27,ROWS($Q$27:Q50)-1,COLUMNS($Q$27:Q50)-1)<>\"\",OFFSET(DE100_7!$Q$27,ROWS($Q$27:Q50)-1,COLUMNS($Q$27:Q50)-1),\"\")","v":5},{"$f":"IF(OFFSET(DE100_7!$R$27,ROWS($R$27:R50)-1,COLUMNS($R$27:R50)-1)<>\"\",OFFSET(DE100_7!$R$27,ROWS($R$27:R50)-1,COLUMNS($R$27:R50)-1),\"\")","v":""},{"$f":"IF(OFFSET(DE100_7!$S$27,ROWS($S$27:S50)-1,COLUMNS($S$27:S50)-1)<>\"\",OFFSET(DE100_7!$S$27,ROWS($S$27:S50)-1,COLUMNS($S$27:S50)-1),\"\")","v":""},{"$f":"IF(OFFSET(DE100_7!$T$27,ROWS($T$27:T50)-1,COLUMNS($T$27:T50)-1)<>\"\",OFFSET(DE100_7!$T$27,ROWS($T$27:T50)-1,COLUMNS($T$27:T50)-1),\"\")","v":""},{"$f":"IF(OFFSET(DE100_7!$U$27,ROWS($U$27:U50)-1,COLUMNS($U$27:U50)-1)<>\"\",OFFSET(DE100_7!$U$27,ROWS($U$27:U50)-1,COLUMNS($U$27:U50)-1),\"\")","v":""},{"$f":"IF(OFFSET(DE100_7!$V$27,ROWS($V$27:V50)-1,COLUMNS($V$27:V50)-1)<>\"\",OFFSET(DE100_7!$V$27,ROWS($V$27:V50)-1,COLUMNS($V$27:V50)-1),\"\")","v":""}]
[{"$f":"IF(OFFSET(DE100_7!$C$27,ROWS($C$27:C51)-1,COLUMNS($C$27:C51)-1)<>\"\",OFFSET(DE100_7!$C$27,ROWS($C$27:C51)-1,COLUMNS($C$27:C51)-1),\"\")","v":"Gap for I-35 Rest Area"},null,null,{"$f":"IF(OFFSET(DE100_7!$F$27,ROWS($F$27:F51)-1,COLUMNS($F$27:F51)-1)<>\"\",OFFSET(DE100_7!$F$27,ROWS($F$27:F51)-1,COLUMNS($F$27:F51)-1),\"\")","v":""},{"$f":"IF(OFFSET(DE100_7!$G$27,ROWS($G$27:G51)-1,COLUMNS($G$27:G51)-1)<>\"\",OFFSET(DE100_7!$G$27,ROWS($G$27:G51)-1,COLUMNS($G$27:G51)-1),\"\")","v":""},{"$f":"IF(OFFSET(DE100_7!$H$27,ROWS($H$27:H51)-1,COLUMNS($H$27:H51)-1)<>\"\",OFFSET(DE100_7!$H$27,ROWS($H$27:H51)-1,COLUMNS($H$27:H51)-1),\"\")","v":""},{"$f":"IF(OFFSET(DE100_7!$I$27,ROWS($I$27:I51)-1,COLUMNS($I$27:I51)-1)<>\"\",OFFSET(DE100_7!$I$27,ROWS($I$27:I51)-1,COLUMNS($I$27:I51)-1),\"\")","v":""},{"$f":"IF(OFFSET(DE100_7!$J$27,ROWS($J$27:J51)-1,COLUMNS($J$27:J51)-1)<>\"\",OFFSET(DE100_7!$J$27,ROWS($J$27:J51)-1,COLUMNS($J$27:J51)-1),\"\")","v":""},{"$f":"IF(OFFSET(DE100_7!$K$27,ROWS($K$27:K51)-1,COLUMNS($K$27:K51)-1)<>\"\",OFFSET(DE100_7!$K$27,ROWS($K$27:K51)-1,COLUMNS($K$27:K51)-1),\"\")","v":""},{"$f":"IF(OFFSET(DE100_7!$L$27,ROWS($L$27:L51)-1,COLUMNS($L$27:L51)-1)<>\"\",OFFSET(DE100_7!$L$27,ROWS($L$27:L51)-1,COLUMNS($L$27:L51)-1),\"\")","v":""},{"$f":"IF(OFFSET(DE100_7!$M$27,ROWS($M$27:M51)-1,COLUMNS($M$27:M51)-1)<>\"\",OFFSET(DE100_7!$M$27,ROWS($M$27:M51)-1,COLUMNS($M$27:M51)-1),\"\")","v":""},{"$f":"IF(OFFSET(DE100_7!$N$27,ROWS($N$27:N51)-1,COLUMNS($N$27:N51)-1)<>\"\",OFFSET(DE100_7!$N$27,ROWS($N$27:N51)-1,COLUMNS($N$27:N51)-1),\"\")","v":""},{"$f":"IF(OFFSET(DE100_7!$O$27,ROWS($O$27:O51)-1,COLUMNS($O$27:O51)-1)<>\"\",OFFSET(DE100_7!$O$27,ROWS($O$27:O51)-1,COLUMNS($O$27:O51)-1),\"\")","v":""},{"$f":"IF(OFFSET(DE100_7!$P$27,ROWS($P$27:P51)-1,COLUMNS($P$27:P51)-1)<>\"\",OFFSET(DE100_7!$P$27,ROWS($P$27:P51)-1,COLUMNS($P$27:P51)-1),\"\")","v":""},{"$f":"IF(OFFSET(DE100_7!$Q$27,ROWS($Q$27:Q51)-1,COLUMNS($Q$27:Q51)-1)<>\"\",OFFSET(DE100_7!$Q$27,ROWS($Q$27:Q51)-1,COLUMNS($Q$27:Q51)-1),\"\")","v":""},{"$f":"IF(OFFSET(DE100_7!$R$27,ROWS($R$27:R51)-1,COLUMNS($R$27:R51)-1)<>\"\",OFFSET(DE100_7!$R$27,ROWS($R$27:R51)-1,COLUMNS($R$27:R51)-1),\"\")","v":""},{"$f":"IF(OFFSET(DE100_7!$S$27,ROWS($S$27:S51)-1,COLUMNS($S$27:S51)-1)<>\"\",OFFSET(DE100_7!$S$27,ROWS($S$27:S51)-1,COLUMNS($S$27:S51)-1),\"\")","v":""},{"$f":"IF(OFFSET(DE100_7!$T$27,ROWS($T$27:T51)-1,COLUMNS($T$27:T51)-1)<>\"\",OFFSET(DE100_7!$T$27,ROWS($T$27:T51)-1,COLUMNS($T$27:T51)-1),\"\")","v":""},{"$f":"IF(OFFSET(DE100_7!$U$27,ROWS($U$27:U51)-1,COLUMNS($U$27:U51)-1)<>\"\",OFFSET(DE100_7!$U$27,ROWS($U$27:U51)-1,COLUMNS($U$27:U51)-1),\"\")","v":""},{"$f":"IF(OFFSET(DE100_7!$V$27,ROWS($V$27:V51)-1,COLUMNS($V$27:V51)-1)<>\"\",OFFSET(DE100_7!$V$27,ROWS($V$27:V51)-1,COLUMNS($V$27:V51)-1),\"\")","v":""}]
[{"$f":"IF(OFFSET(DE100_7!$C$27,ROWS($C$27:C52)-1,COLUMNS($C$27:C52)-1)<>\"\",OFFSET(DE100_7!$C$27,ROWS($C$27:C52)-1,COLUMNS($C$27:C52)-1),\"\")","v":196136.95},{"$f":"IF(OFFSET(DE100_7!$D$27,ROWS($D$27:D52)-1,COLUMNS($D$27:D52)-1)<>\"\",OFFSET(DE100_7!$D$27,ROWS($D$27:D52)-1,COLUMNS($D$27:D52)-1),\"\")","v":185},{"$f":"IF(OFFSET(DE100_7!$E$27,ROWS($E$27:E52)-1,COLUMNS($E$27:E52)-1)<>\"\",OFFSET(DE100_7!$E$27,ROWS($E$27:E52)-1,COLUMNS($E$27:E52)-1),\"\")","v":196198.47},{"$f":"IF(OFFSET(DE100_7!$F$27,ROWS($F$27:F52)-1,COLUMNS($F$27:F52)-1)<>\"\",OFFSET(DE100_7!$F$27,ROWS($F$27:F52)-1,COLUMNS($F$27:F52)-1),\"\")","v":182},{"$f":"IF(OFFSET(DE100_7!$G$27,ROWS($G$27:G52)-1,COLUMNS($G$27:G52)-1)<>\"\",OFFSET(DE100_7!$G$27,ROWS($G$27:G52)-1,COLUMNS($G$27:G52)-1),\"\")","v":"LT"},{"$f":"IF(OFFSET(DE100_7!$H$27,ROWS($H$27:H52)-1,COLUMNS($H$27:H52)-1)<>\"\",OFFSET(DE100_7!$H$27,ROWS($H$27:H52)-1,COLUMNS($H$27:H52)-1),\"\")","v":""},{"$f":"IF(OFFSET(DE100_7!$I$27,ROWS($I$27:I52)-1,COLUMNS($I$27:I52)-1)<>\"\",OFFSET(DE100_7!$I$27,ROWS($I$27:I52)-1,COLUMNS($I$27:I52)-1),\"\")","v":""},{"$f":"IF(OFFSET(DE100_7!$J$27,ROWS($J$27:J52)-1,COLUMNS($J$27:J52)-1)<>\"\",OFFSET(DE100_7!$J$27,ROWS($J$27:J52)-1,COLUMNS($J$27:J52)-1),\"\")","v":""},{"$f":"IF(OFFSET(DE100_7!$K$27,ROWS($K$27:K52)-1,COLUMNS($K$27:K52)-1)<>\"\",OFFSET(DE100_7!$K$27,ROWS($K$27:K52)-1,COLUMNS($K$27:K52)-1),\"\")","v":""},{"$f":"IF(OFFSET(DE100_7!$L$27,ROWS($L$27:L52)-1,COLUMNS($L$27:L52)-1)<>\"\",OFFSET(DE100_7!$L$27,ROWS($L$27:L52)-1,COLUMNS($L$27:L52)-1),\"\")","v":""},{"$f":"IF(OFFSET(DE100_7!$M$27,ROWS($M$27:M52)-1,COLUMNS($M$27:M52)-1)<>\"\",OFFSET(DE100_7!$M$27,ROWS($M$27:M52)-1,COLUMNS($M$27:M52)-1),\"\")","v":""},{"$f":"IF(OFFSET(DE100_7!$N$27,ROWS($N$27:N52)-1,COLUMNS($N$27:N52)-1)<>\"\",OFFSET(DE100_7!$N$27,ROWS($N$27:N52)-1,COLUMNS($N$27:N52)-1),\"\")","v":""},{"$f":"IF(OFFSET(DE100_7!$O$27,ROWS($O$27:O52)-1,COLUMNS($O$27:O52)-1)<>\"\",OFFSET(DE100_7!$O$27,ROWS($O$27:O52)-1,COLUMNS($O$27:O52)-1),\"\")","v":""},{"$f":"IF(OFFSET(DE100_7!$P$27,ROWS($P$27:P52)-1,COLUMNS($P$27:P52)-1)<>\"\",OFFSET(DE100_7!$P$27,ROWS($P$27:P52)-1,COLUMNS($P$27:P52)-1),\"\")","v":61.6},{"$f":"IF(OFFSET(DE100_7!$Q$27,ROWS($Q$27:Q52)-1,COLUMNS($Q$27:Q52)-1)<>\"\",OFFSET(DE100_7!$Q$27,ROWS($Q$27:Q52)-1,COLUMNS($Q$27:Q52)-1),\"\")","v":3},{"$f":"IF(OFFSET(DE100_7!$R$27,ROWS($R$27:R52)-1,COLUMNS($R$27:R52)-1)<>\"\",OFFSET(DE100_7!$R$27,ROWS($R$27:R52)-1,COLUMNS($R$27:R52)-1),\"\")","v":""},{"$f":"IF(OFFSET(DE100_7!$S$27,ROWS($S$27:S52)-1,COLUMNS($S$27:S52)-1)<>\"\",OFFSET(DE100_7!$S$27,ROWS($S$27:S52)-1,COLUMNS($S$27:S52)-1),\"\")","v":""},{"$f":"IF(OFFSET(DE100_7!$T$27,ROWS($T$27:T52)-1,COLUMNS($T$27:T52)-1)<>\"\",OFFSET(DE100_7!$T$27,ROWS($T$27:T52)-1,COLUMNS($T$27:T52)-1),\"\")","v":""},{"$f":"IF(OFFSET(DE100_7!$U$27,ROWS($U$27:U52)-1,COLUMNS($U$27:U52)-1)<>\"\",OFFSET(DE100_7!$U$27,ROWS($U$27:U52)-1,COLUMNS($U$27:U52)-1),\"\")","v":""},{"$f":"IF(OFFSET(DE100_7!$V$27,ROWS($V$27:V52)-1,COLUMNS($V$27:V52)-1)<>\"\",OFFSET(DE100_7!$V$27,ROWS($V$27:V52)-1,COLUMNS($V$27:V52)-1),\"\")","v":""}]
[{"$f":"IF(OFFSET(DE100_7!$C$27,ROWS($C$27:C53)-1,COLUMNS($C$27:C53)-1)<>\"\",OFFSET(DE100_7!$C$27,ROWS($C$27:C53)-1,COLUMNS($C$27:C53)-1),\"\")","v":196198.47},{"$f":"IF(OFFSET(DE100_7!$D$27,ROWS($D$27:D53)-1,COLUMNS($D$27:D53)-1)<>\"\",OFFSET(DE100_7!$D$27,ROWS($D$27:D53)-1,COLUMNS($D$27:D53)-1),\"\")","v":182},{"$f":"IF(OFFSET(DE100_7!$E$27,ROWS($E$27:E53)-1,COLUMNS($E$27:E53)-1)<>\"\",OFFSET(DE100_7!$E$27,ROWS($E$27:E53)-1,COLUMNS($E$27:E53)-1),\"\")","v":197000.25},{"$f":"IF(OFFSET(DE100_7!$F$27,ROWS($F$27:F53)-1,COLUMNS($F$27:F53)-1)<>\"\",OFFSET(DE100_7!$F$27,ROWS($F$27:F53)-1,COLUMNS($F$27:F53)-1),\"\")","v":159.99},{"$f":"IF(OFFSET(DE100_7!$G$27,ROWS($G$27:G53)-1,COLUMNS($G$27:G53)-1)<>\"\",OFFSET(DE100_7!$G$27,ROWS($G$27:G53)-1,COLUMNS($G$27:G53)-1),\"\")","v":"LT"},{"$f":"IF(OFFSET(DE100_7!$H$27,ROWS($H$27:H53)-1,COLUMNS($H$27:H53)-1)<>\"\",OFFSET(DE100_7!$H$27,ROWS($H$27:H53)-1,COLUMNS($H$27:H53)-1),\"\")","v":""},{"$f":"IF(OFFSET(DE100_7!$I$27,ROWS($I$27:I53)-1,COLUMNS($I$27:I53)-1)<>\"\",OFFSET(DE100_7!$I$27,ROWS($I$27:I53)-1,COLUMNS($I$27:I53)-1),\"\")","v":""},{"$f":"IF(OFFSET(DE100_7!$J$27,ROWS($J$27:J53)-1,COLUMNS($J$27:J53)-1)<>\"\",OFFSET(DE100_7!$J$27,ROWS($J$27:J53)-1,COLUMNS($J$27:J53)-1),\"\")","v":""},{"$f":"IF(OFFSET(DE100_7!$K$27,ROWS($K$27:K53)-1,COLUMNS($K$27:K53)-1)<>\"\",OFFSET(DE100_7!$K$27,ROWS($K$27:K53)-1,COLUMNS($K$27:K53)-1),\"\")","v":""},{"$f":"IF(OFFSET(DE100_7!$L$27,ROWS($L$27:L53)-1,COLUMNS($L$27:L53)-1)<>\"\",OFFSET(DE100_7!$L$27,ROWS($L$27:L53)-1,COLUMNS($L$27:L53)-1),\"\")","v":""},{"$f":"IF(OFFSET(DE100_7!$M$27,ROWS($M$27:M53)-1,COLUMNS($M$27:M53)-1)<>\"\",OFFSET(DE100_7!$M$27,ROWS($M$27:M53)-1,COLUMNS($M$27:M53)-1),\"\")","v":""},{"$f":"IF(OFFSET(DE100_7!$N$27,ROWS($N$27:N53)-1,COLUMNS($N$27:N53)-1)<>\"\",OFFSET(DE100_7!$N$27,ROWS($N$27:N53)-1,COLUMNS($N$27:N53)-1),\"\")","v":""},{"$f":"IF(OFFSET(DE100_7!$O$27,ROWS($O$27:O53)-1,COLUMNS($O$27:O53)-1)<>\"\",OFFSET(DE100_7!$O$27,ROWS($O$27:O53)-1,COLUMNS($O$27:O53)-1),\"\")","v":""},{"$f":"IF(OFFSET(DE100_7!$P$27,ROWS($P$27:P53)-1,COLUMNS($P$27:P53)-1)<>\"\",OFFSET(DE100_7!$P$27,ROWS($P$27:P53)-1,COLUMNS($P$27:P53)-1),\"\")","v":802.1},{"$f":"IF(OFFSET(DE100_7!$Q$27,ROWS($Q$27:Q53)-1,COLUMNS($Q$27:Q53)-1)<>\"\",OFFSET(DE100_7!$Q$27,ROWS($Q$27:Q53)-1,COLUMNS($Q$27:Q53)-1),\"\")","v":6},{"$f":"IF(OFFSET(DE100_7!$R$27,ROWS($R$27:R53)-1,COLUMNS($R$27:R53)-1)<>\"\",OFFSET(DE100_7!$R$27,ROWS($R$27:R53)-1,COLUMNS($R$27:R53)-1),\"\")","v":""},{"$f":"IF(OFFSET(DE100_7!$S$27,ROWS($S$27:S53)-1,COLUMNS($S$27:S53)-1)<>\"\",OFFSET(DE100_7!$S$27,ROWS($S$27:S53)-1,COLUMNS($S$27:S53)-1),\"\")","v":""},{"$f":"IF(OFFSET(DE100_7!$T$27,ROWS($T$27:T53)-1,COLUMNS($T$27:T53)-1)<>\"\",OFFSET(DE100_7!$T$27,ROWS($T$27:T53)-1,COLUMNS($T$27:T53)-1),\"\")","v":""},{"$f":"IF(OFFSET(DE100_7!$U$27,ROWS($U$27:U53)-1,COLUMNS($U$27:U53)-1)<>\"\",OFFSET(DE100_7!$U$27,ROWS($U$27:U53)-1,COLUMNS($U$27:U53)-1),\"\")","v":""},{"$f":"IF(OFFSET(DE100_7!$V$27,ROWS($V$27:V53)-1,COLUMNS($V$27:V53)-1)<>\"\",OFFSET(DE100_7!$V$27,ROWS($V$27:V53)-1,COLUMNS($V$27:V53)-1),\"\")","v":""}]
[{"$f":"IF(OFFSET(DE100_7!$C$27,ROWS($C$27:C54)-1,COLUMNS($C$27:C54)-1)<>\"\",OFFSET(DE100_7!$C$27,ROWS($C$27:C54)-1,COLUMNS($C$27:C54)-1),\"\")","v":197000.25},{"$f":"IF(OFFSET(DE100_7!$D$27,ROWS($D$27:D54)-1,COLUMNS($D$27:D54)-1)<>\"\",OFFSET(DE100_7!$D$27,ROWS($D$27:D54)-1,COLUMNS($D$27:D54)-1),\"\")","v":159.99},{"$f":"IF(OFFSET(DE100_7!$E$27,ROWS($E$27:E54)-1,COLUMNS($E$27:E54)-1)<>\"\",OFFSET(DE100_7!$E$27,ROWS($E$27:E54)-1,COLUMNS($E$27:E54)-1),\"\")","v":197069.02},{"$f":"IF(OFFSET(DE100_7!$F$27,ROWS($F$27:F54)-1,COLUMNS($F$27:F54)-1)<>\"\",OFFSET(DE100_7!$F$27,ROWS($F$27:F54)-1,COLUMNS($F$27:F54)-1),\"\")","v":198.86},{"$f":"IF(OFFSET(DE100_7!$G$27,ROWS($G$27:G54)-1,COLUMNS($G$27:G54)-1)<>\"\",OFFSET(DE100_7!$G$27,ROWS($G$27:G54)-1,COLUMNS($G$27:G54)-1),\"\")","v":"LT"},{"$f":"IF(OFFSET(DE100_7!$H$27,ROWS($H$27:H54)-1,COLUMNS($H$27:H54)-1)<>\"\",OFFSET(DE100_7!$H$27,ROWS($H$27:H54)-1,COLUMNS($H$27:H54)-1),\"\")","v":""},{"$f":"IF(OFFSET(DE100_7!$I$27,ROWS($I$27:I54)-1,COLUMNS($I$27:I54)-1)<>\"\",OFFSET(DE100_7!$I$27,ROWS($I$27:I54)-1,COLUMNS($I$27:I54)-1),\"\")","v":""},{"$f":"IF(OFFSET(DE100_7!$J$27,ROWS($J$27:J54)-1,COLUMNS($J$27:J54)-1)<>\"\",OFFSET(DE100_7!$J$27,ROWS($J$27:J54)-1,COLUMNS($J$27:J54)-1),\"\")","v":""},{"$f":"IF(OFFSET(DE100_7!$K$27,ROWS($K$27:K54)-1,COLUMNS($K$27:K54)-1)<>\"\",OFFSET(DE100_7!$K$27,ROWS($K$27:K54)-1,COLUMNS($K$27:K54)-1),\"\")","v":""},{"$f":"IF(OFFSET(DE100_7!$L$27,ROWS($L$27:L54)-1,COLUMNS($L$27:L54)-1)<>\"\",OFFSET(DE100_7!$L$27,ROWS($L$27:L54)-1,COLUMNS($L$27:L54)-1),\"\")","v":""},{"$f":"IF(OFFSET(DE100_7!$M$27,ROWS($M$27:M54)-1,COLUMNS($M$27:M54)-1)<>\"\",OFFSET(DE100_7!$M$27,ROWS($M$27:M54)-1,COLUMNS($M$27:M54)-1),\"\")","v":""},{"$f":"IF(OFFSET(DE100_7!$N$27,ROWS($N$27:N54)-1,COLUMNS($N$27:N54)-1)<>\"\",OFFSET(DE100_7!$N$27,ROWS($N$27:N54)-1,COLUMNS($N$27:N54)-1),\"\")","v":""},{"$f":"IF(OFFSET(DE100_7!$O$27,ROWS($O$27:O54)-1,COLUMNS($O$27:O54)-1)<>\"\",OFFSET(DE100_7!$O$27,ROWS($O$27:O54)-1,COLUMNS($O$27:O54)-1),\"\")","v":""},{"$f":"IF(OFFSET(DE100_7!$P$27,ROWS($P$27:P54)-1,COLUMNS($P$27:P54)-1)<>\"\",OFFSET(DE100_7!$P$27,ROWS($P$27:P54)-1,COLUMNS($P$27:P54)-1),\"\")","v":78.989999999999995},{"$f":"IF(OFFSET(DE100_7!$Q$27,ROWS($Q$27:Q54)-1,COLUMNS($Q$27:Q54)-1)<>\"\",OFFSET(DE100_7!$Q$27,ROWS($Q$27:Q54)-1,COLUMNS($Q$27:Q54)-1),\"\")","v":4},{"$f":"IF(OFFSET(DE100_7!$R$27,ROWS($R$27:R54)-1,COLUMNS($R$27:R54)-1)<>\"\",OFFSET(DE100_7!$R$27,ROWS($R$27:R54)-1,COLUMNS($R$27:R54)-1),\"\")","v":""},{"$f":"IF(OFFSET(DE100_7!$S$27,ROWS($S$27:S54)-1,COLUMNS($S$27:S54)-1)<>\"\",OFFSET(DE100_7!$S$27,ROWS($S$27:S54)-1,COLUMNS($S$27:S54)-1),\"\")","v":""},{"$f":"IF(OFFSET(DE100_7!$T$27,ROWS($T$27:T54)-1,COLUMNS($T$27:T54)-1)<>\"\",OFFSET(DE100_7!$T$27,ROWS($T$27:T54)-1,COLUMNS($T$27:T54)-1),\"\")","v":""},{"$f":"IF(OFFSET(DE100_7!$U$27,ROWS($U$27:U54)-1,COLUMNS($U$27:U54)-1)<>\"\",OFFSET(DE100_7!$U$27,ROWS($U$27:U54)-1,COLUMNS($U$27:U54)-1),\"\")","v":""},{"$f":"IF(OFFSET(DE100_7!$V$27,ROWS($V$27:V54)-1,COLUMNS($V$27:V54)-1)<>\"\",OFFSET(DE100_7!$V$27,ROWS($V$27:V54)-1,COLUMNS($V$27:V54)-1),\"\")","v":""}]
[{"$f":"IF(OFFSET(DE100_7!$C$27,ROWS($C$27:C55)-1,COLUMNS($C$27:C55)-1)<>\"\",OFFSET(DE100_7!$C$27,ROWS($C$27:C55)-1,COLUMNS($C$27:C55)-1),\"\")","v":197069.02},{"$f":"IF(OFFSET(DE100_7!$D$27,ROWS($D$27:D55)-1,COLUMNS($D$27:D55)-1)<>\"\",OFFSET(DE100_7!$D$27,ROWS($D$27:D55)-1,COLUMNS($D$27:D55)-1),\"\")","v":198.86},{"$f":"IF(OFFSET(DE100_7!$E$27,ROWS($E$27:E55)-1,COLUMNS($E$27:E55)-1)<>\"\",OFFSET(DE100_7!$E$27,ROWS($E$27:E55)-1,COLUMNS($E$27:E55)-1),\"\")","v":197173.97},{"$f":"IF(OFFSET(DE100_7!$F$27,ROWS($F$27:F55)-1,COLUMNS($F$27:F55)-1)<>\"\",OFFSET(DE100_7!$F$27,ROWS($F$27:F55)-1,COLUMNS($F$27:F55)-1),\"\")","v":143.99},{"$f":"IF(OFFSET(DE100_7!$G$27,ROWS($G$27:G55)-1,COLUMNS($G$27:G55)-1)<>\"\",OFFSET(DE100_7!$G$27,ROWS($G$27:G55)-1,COLUMNS($G$27:G55)-1),\"\")","v":"LT"},{"$f":"IF(OFFSET(DE100_7!$H$27,ROWS($H$27:H55)-1,COLUMNS($H$27:H55)-1)<>\"\",OFFSET(DE100_7!$H$27,ROWS($H$27:H55)-1,COLUMNS($H$27:H55)-1),\"\")","v":""},{"$f":"IF(OFFSET(DE100_7!$I$27,ROWS($I$27:I55)-1,COLUMNS($I$27:I55)-1)<>\"\",OFFSET(DE100_7!$I$27,ROWS($I$27:I55)-1,COLUMNS($I$27:I55)-1),\"\")","v":""},{"$f":"IF(OFFSET(DE100_7!$J$27,ROWS($J$27:J55)-1,COLUMNS($J$27:J55)-1)<>\"\",OFFSET(DE100_7!$J$27,ROWS($J$27:J55)-1,COLUMNS($J$27:J55)-1),\"\")","v":""},{"$f":"IF(OFFSET(DE100_7!$K$27,ROWS($K$27:K55)-1,COLUMNS($K$27:K55)-1)<>\"\",OFFSET(DE100_7!$K$27,ROWS($K$27:K55)-1,COLUMNS($K$27:K55)-1),\"\")","v":""},{"$f":"IF(OFFSET(DE100_7!$L$27,ROWS($L$27:L55)-1,COLUMNS($L$27:L55)-1)<>\"\",OFFSET(DE100_7!$L$27,ROWS($L$27:L55)-1,COLUMNS($L$27:L55)-1),\"\")","v":""},{"$f":"IF(OFFSET(DE100_7!$M$27,ROWS($M$27:M55)-1,COLUMNS($M$27:M55)-1)<>\"\",OFFSET(DE100_7!$M$27,ROWS($M$27:M55)-1,COLUMNS($M$27:M55)-1),\"\")","v":""},{"$f":"IF(OFFSET(DE100_7!$N$27,ROWS($N$27:N55)-1,COLUMNS($N$27:N55)-1)<>\"\",OFFSET(DE100_7!$N$27,ROWS($N$27:N55)-1,COLUMNS($N$27:N55)-1),\"\")","v":""},{"$f":"IF(OFFSET(DE100_7!$O$27,ROWS($O$27:O55)-1,COLUMNS($O$27:O55)-1)<>\"\",OFFSET(DE100_7!$O$27,ROWS($O$27:O55)-1,COLUMNS($O$27:O55)-1),\"\")","v":""},{"$f":"IF(OFFSET(DE100_7!$P$27,ROWS($P$27:P55)-1,COLUMNS($P$27:P55)-1)<>\"\",OFFSET(DE100_7!$P$27,ROWS($P$27:P55)-1,COLUMNS($P$27:P55)-1),\"\")","v":118.4},{"$f":"IF(OFFSET(DE100_7!$Q$27,ROWS($Q$27:Q55)-1,COLUMNS($Q$27:Q55)-1)<>\"\",OFFSET(DE100_7!$Q$27,ROWS($Q$27:Q55)-1,COLUMNS($Q$27:Q55)-1),\"\")","v":4},{"$f":"IF(OFFSET(DE100_7!$R$27,ROWS($R$27:R55)-1,COLUMNS($R$27:R55)-1)<>\"\",OFFSET(DE100_7!$R$27,ROWS($R$27:R55)-1,COLUMNS($R$27:R55)-1),\"\")","v":""},{"$f":"IF(OFFSET(DE100_7!$S$27,ROWS($S$27:S55)-1,COLUMNS($S$27:S55)-1)<>\"\",OFFSET(DE100_7!$S$27,ROWS($S$27:S55)-1,COLUMNS($S$27:S55)-1),\"\")","v":""},{"$f":"IF(OFFSET(DE100_7!$T$27,ROWS($T$27:T55)-1,COLUMNS($T$27:T55)-1)<>\"\",OFFSET(DE100_7!$T$27,ROWS($T$27:T55)-1,COLUMNS($T$27:T55)-1),\"\")","v":""},{"$f":"IF(OFFSET(DE100_7!$U$27,ROWS($U$27:U55)-1,COLUMNS($U$27:U55)-1)<>\"\",OFFSET(DE100_7!$U$27,ROWS($U$27:U55)-1,COLUMNS($U$27:U55)-1),\"\")","v":""},{"$f":"IF(OFFSET(DE100_7!$V$27,ROWS($V$27:V55)-1,COLUMNS($V$27:V55)-1)<>\"\",OFFSET(DE100_7!$V$27,ROWS($V$27:V55)-1,COLUMNS($V$27:V55)-1),\"\")","v":""}]
[{"$f":"IF(OFFSET(DE100_7!$C$27,ROWS($C$27:C56)-1,COLUMNS($C$27:C56)-1)<>\"\",OFFSET(DE100_7!$C$27,ROWS($C$27:C56)-1,COLUMNS($C$27:C56)-1),\"\")","v":197173.97},{"$f":"IF(OFFSET(DE100_7!$D$27,ROWS($D$27:D56)-1,COLUMNS($D$27:D56)-1)<>\"\",OFFSET(DE100_7!$D$27,ROWS($D$27:D56)-1,COLUMNS($D$27:D56)-1),\"\")","v":143.99},{"$f":"IF(OFFSET(DE100_7!$E$27,ROWS($E$27:E56)-1,COLUMNS($E$27:E56)-1)<>\"\",OFFSET(DE100_7!$E$27,ROWS($E$27:E56)-1,COLUMNS($E$27:E56)-1),\"\")","v":197737.98},{"$f":"IF(OFFSET(DE100_7!$F$27,ROWS($F$27:F56)-1,COLUMNS($F$27:F56)-1)<>\"\",OFFSET(DE100_7!$F$27,ROWS($F$27:F56)-1,COLUMNS($F$27:F56)-1),\"\")","v":165},{"$f":"IF(OFFSET(DE100_7!$G$27,ROWS($G$27:G56)-1,COLUMNS($G$27:G56)-1)<>\"\",OFFSET(DE100_7!$G$27,ROWS($G$27:G56)-1,COLUMNS($G$27:G56)-1),\"\")","v":"LT"},{"$f":"IF(OFFSET(DE100_7!$H$27,ROWS($H$27:H56)-1,COLUMNS($H$27:H56)-1)<>\"\",OFFSET(DE100_7!$H$27,ROWS($H$27:H56)-1,COLUMNS($H$27:H56)-1),\"\")","v":""},{"$f":"IF(OFFSET(DE100_7!$I$27,ROWS($I$27:I56)-1,COLUMNS($I$27:I56)-1)<>\"\",OFFSET(DE100_7!$I$27,ROWS($I$27:I56)-1,COLUMNS($I$27:I56)-1),\"\")","v":""},{"$f":"IF(OFFSET(DE100_7!$J$27,ROWS($J$27:J56)-1,COLUMNS($J$27:J56)-1)<>\"\",OFFSET(DE100_7!$J$27,ROWS($J$27:J56)-1,COLUMNS($J$27:J56)-1),\"\")","v":""},{"$f":"IF(OFFSET(DE100_7!$K$27,ROWS($K$27:K56)-1,COLUMNS($K$27:K56)-1)<>\"\",OFFSET(DE100_7!$K$27,ROWS($K$27:K56)-1,COLUMNS($K$27:K56)-1),\"\")","v":""},{"$f":"IF(OFFSET(DE100_7!$L$27,ROWS($L$27:L56)-1,COLUMNS($L$27:L56)-1)<>\"\",OFFSET(DE100_7!$L$27,ROWS($L$27:L56)-1,COLUMNS($L$27:L56)-1),\"\")","v":""},{"$f":"IF(OFFSET(DE100_7!$M$27,ROWS($M$27:M56)-1,COLUMNS($M$27:M56)-1)<>\"\",OFFSET(DE100_7!$M$27,ROWS($M$27:M56)-1,COLUMNS($M$27:M56)-1),\"\")","v":""},{"$f":"IF(OFFSET(DE100_7!$N$27,ROWS($N$27:N56)-1,COLUMNS($N$27:N56)-1)<>\"\",OFFSET(DE100_7!$N$27,ROWS($N$27:N56)-1,COLUMNS($N$27:N56)-1),\"\")","v":""},{"$f":"IF(OFFSET(DE100_7!$O$27,ROWS($O$27:O56)-1,COLUMNS($O$27:O56)-1)<>\"\",OFFSET(DE100_7!$O$27,ROWS($O$27:O56)-1,COLUMNS($O$27:O56)-1),\"\")","v":""},{"$f":"IF(OFFSET(DE100_7!$P$27,ROWS($P$27:P56)-1,COLUMNS($P$27:P56)-1)<>\"\",OFFSET(DE100_7!$P$27,ROWS($P$27:P56)-1,COLUMNS($P$27:P56)-1),\"\")","v":564.1},{"$f":"IF(OFFSET(DE100_7!$Q$27,ROWS($Q$27:Q56)-1,COLUMNS($Q$27:Q56)-1)<>\"\",OFFSET(DE100_7!$Q$27,ROWS($Q$27:Q56)-1,COLUMNS($Q$27:Q56)-1),\"\")","v":6},{"$f":"IF(OFFSET(DE100_7!$R$27,ROWS($R$27:R56)-1,COLUMNS($R$27:R56)-1)<>\"\",OFFSET(DE100_7!$R$27,ROWS($R$27:R56)-1,COLUMNS($R$27:R56)-1),\"\")","v":""},{"$f":"IF(OFFSET(DE100_7!$S$27,ROWS($S$27:S56)-1,COLUMNS($S$27:S56)-1)<>\"\",OFFSET(DE100_7!$S$27,ROWS($S$27:S56)-1,COLUMNS($S$27:S56)-1),\"\")","v":""},{"$f":"IF(OFFSET(DE100_7!$T$27,ROWS($T$27:T56)-1,COLUMNS($T$27:T56)-1)<>\"\",OFFSET(DE100_7!$T$27,ROWS($T$27:T56)-1,COLUMNS($T$27:T56)-1),\"\")","v":""},{"$f":"IF(OFFSET(DE100_7!$U$27,ROWS($U$27:U56)-1,COLUMNS($U$27:U56)-1)<>\"\",OFFSET(DE100_7!$U$27,ROWS($U$27:U56)-1,COLUMNS($U$27:U56)-1),\"\")","v":""},{"$f":"IF(OFFSET(DE100_7!$V$27,ROWS($V$27:V56)-1,COLUMNS($V$27:V56)-1)<>\"\",OFFSET(DE100_7!$V$27,ROWS($V$27:V56)-1,COLUMNS($V$27:V56)-1),\"\")","v":""}]
[{"$f":"IF(OFFSET(DE100_7!$C$27,ROWS($C$27:C57)-1,COLUMNS($C$27:C57)-1)<>\"\",OFFSET(DE100_7!$C$27,ROWS($C$27:C57)-1,COLUMNS($C$27:C57)-1),\"\")","v":197737.98},{"$f":"IF(OFFSET(DE100_7!$D$27,ROWS($D$27:D57)-1,COLUMNS($D$27:D57)-1)<>\"\",OFFSET(DE100_7!$D$27,ROWS($D$27:D57)-1,COLUMNS($D$27:D57)-1),\"\")","v":165},{"$f":"IF(OFFSET(DE100_7!$E$27,ROWS($E$27:E57)-1,COLUMNS($E$27:E57)-1)<>\"\",OFFSET(DE100_7!$E$27,ROWS($E$27:E57)-1,COLUMNS($E$27:E57)-1),\"\")","v":198017.95},{"$f":"IF(OFFSET(DE100_7!$F$27,ROWS($F$27:F57)-1,COLUMNS($F$27:F57)-1)<>\"\",OFFSET(DE100_7!$F$27,ROWS($F$27:F57)-1,COLUMNS($F$27:F57)-1),\"\")","v":142},{"$f":"IF(OFFSET(DE100_7!$G$27,ROWS($G$27:G57)-1,COLUMNS($G$27:G57)-1)<>\"\",OFFSET(DE100_7!$G$27,ROWS($G$27:G57)-1,COLUMNS($G$27:G57)-1),\"\")","v":"LT"},{"$f":"IF(OFFSET(DE100_7!$H$27,ROWS($H$27:H57)-1,COLUMNS($H$27:H57)-1)<>\"\",OFFSET(DE100_7!$H$27,ROWS($H$27:H57)-1,COLUMNS($H$27:H57)-1),\"\")","v":""},{"$f":"IF(OFFSET(DE100_7!$I$27,ROWS($I$27:I57)-1,COLUMNS($I$27:I57)-1)<>\"\",OFFSET(DE100_7!$I$27,ROWS($I$27:I57)-1,COLUMNS($I$27:I57)-1),\"\")","v":""},{"$f":"IF(OFFSET(DE100_7!$J$27,ROWS($J$27:J57)-1,COLUMNS($J$27:J57)-1)<>\"\",OFFSET(DE100_7!$J$27,ROWS($J$27:J57)-1,COLUMNS($J$27:J57)-1),\"\")","v":""},{"$f":"IF(OFFSET(DE100_7!$K$27,ROWS($K$27:K57)-1,COLUMNS($K$27:K57)-1)<>\"\",OFFSET(DE100_7!$K$27,ROWS($K$27:K57)-1,COLUMNS($K$27:K57)-1),\"\")","v":""},{"$f":"IF(OFFSET(DE100_7!$L$27,ROWS($L$27:L57)-1,COLUMNS($L$27:L57)-1)<>\"\",OFFSET(DE100_7!$L$27,ROWS($L$27:L57)-1,COLUMNS($L$27:L57)-1),\"\")","v":""},{"$f":"IF(OFFSET(DE100_7!$M$27,ROWS($M$27:M57)-1,COLUMNS($M$27:M57)-1)<>\"\",OFFSET(DE100_7!$M$27,ROWS($M$27:M57)-1,COLUMNS($M$27:M57)-1),\"\")","v":""},{"$f":"IF(OFFSET(DE100_7!$N$27,ROWS($N$27:N57)-1,COLUMNS($N$27:N57)-1)<>\"\",OFFSET(DE100_7!$N$27,ROWS($N$27:N57)-1,COLUMNS($N$27:N57)-1),\"\")","v":""},{"$f":"IF(OFFSET(DE100_7!$O$27,ROWS($O$27:O57)-1,COLUMNS($O$27:O57)-1)<>\"\",OFFSET(DE100_7!$O$27,ROWS($O$27:O57)-1,COLUMNS($O$27:O57)-1),\"\")","v":""},{"$f":"IF(OFFSET(DE100_7!$P$27,ROWS($P$27:P57)-1,COLUMNS($P$27:P57)-1)<>\"\",OFFSET(DE100_7!$P$27,ROWS($P$27:P57)-1,COLUMNS($P$27:P57)-1),\"\")","v":280.60000000000002},{"$f":"IF(OFFSET(DE100_7!$Q$27,ROWS($Q$27:Q57)-1,COLUMNS($Q$27:Q57)-1)<>\"\",OFFSET(DE100_7!$Q$27,ROWS($Q$27:Q57)-1,COLUMNS($Q$27:Q57)-1),\"\")","v":6},{"$f":"IF(OFFSET(DE100_7!$R$27,ROWS($R$27:R57)-1,COLUMNS($R$27:R57)-1)<>\"\",OFFSET(DE100_7!$R$27,ROWS($R$27:R57)-1,COLUMNS($R$27:R57)-1),\"\")","v":""},{"$f":"IF(OFFSET(DE100_7!$S$27,ROWS($S$27:S57)-1,COLUMNS($S$27:S57)-1)<>\"\",OFFSET(DE100_7!$S$27,ROWS($S$27:S57)-1,COLUMNS($S$27:S57)-1),\"\")","v":""},{"$f":"IF(OFFSET(DE100_7!$T$27,ROWS($T$27:T57)-1,COLUMNS($T$27:T57)-1)<>\"\",OFFSET(DE100_7!$T$27,ROWS($T$27:T57)-1,COLUMNS($T$27:T57)-1),\"\")","v":""},{"$f":"IF(OFFSET(DE100_7!$U$27,ROWS($U$27:U57)-1,COLUMNS($U$27:U57)-1)<>\"\",OFFSET(DE100_7!$U$27,ROWS($U$27:U57)-1,COLUMNS($U$27:U57)-1),\"\")","v":""},{"$f":"IF(OFFSET(DE100_7!$V$27,ROWS($V$27:V57)-1,COLUMNS($V$27:V57)-1)<>\"\",OFFSET(DE100_7!$V$27,ROWS($V$27:V57)-1,COLUMNS($V$27:V57)-1),\"\")","v":""}]
[{"$f":"IF(OFFSET(DE100_7!$C$27,ROWS($C$27:C58)-1,COLUMNS($C$27:C58)-1)<>\"\",OFFSET(DE100_7!$C$27,ROWS($C$27:C58)-1,COLUMNS($C$27:C58)-1),\"\")","v":198017.95},{"$f":"IF(OFFSET(DE100_7!$D$27,ROWS($D$27:D58)-1,COLUMNS($D$27:D58)-1)<>\"\",OFFSET(DE100_7!$D$27,ROWS($D$27:D58)-1,COLUMNS($D$27:D58)-1),\"\")","v":142},{"$f":"IF(OFFSET(DE100_7!$E$27,ROWS($E$27:E58)-1,COLUMNS($E$27:E58)-1)<>\"\",OFFSET(DE100_7!$E$27,ROWS($E$27:E58)-1,COLUMNS($E$27:E58)-1),\"\")","v":198500.01},{"$f":"IF(OFFSET(DE100_7!$F$27,ROWS($F$27:F58)-1,COLUMNS($F$27:F58)-1)<>\"\",OFFSET(DE100_7!$F$27,ROWS($F$27:F58)-1,COLUMNS($F$27:F58)-1),\"\")","v":136},{"$f":"IF(OFFSET(DE100_7!$G$27,ROWS($G$27:G58)-1,COLUMNS($G$27:G58)-1)<>\"\",OFFSET(DE100_7!$G$27,ROWS($G$27:G58)-1,COLUMNS($G$27:G58)-1),\"\")","v":"LT"},{"$f":"IF(OFFSET(DE100_7!$H$27,ROWS($H$27:H58)-1,COLUMNS($H$27:H58)-1)<>\"\",OFFSET(DE100_7!$H$27,ROWS($H$27:H58)-1,COLUMNS($H$27:H58)-1),\"\")","v":""},{"$f":"IF(OFFSET(DE100_7!$I$27,ROWS($I$27:I58)-1,COLUMNS($I$27:I58)-1)<>\"\",OFFSET(DE100_7!$I$27,ROWS($I$27:I58)-1,COLUMNS($I$27:I58)-1),\"\")","v":""},{"$f":"IF(OFFSET(DE100_7!$J$27,ROWS($J$27:J58)-1,COLUMNS($J$27:J58)-1)<>\"\",OFFSET(DE100_7!$J$27,ROWS($J$27:J58)-1,COLUMNS($J$27:J58)-1),\"\")","v":""},{"$f":"IF(OFFSET(DE100_7!$K$27,ROWS($K$27:K58)-1,COLUMNS($K$27:K58)-1)<>\"\",OFFSET(DE100_7!$K$27,ROWS($K$27:K58)-1,COLUMNS($K$27:K58)-1),\"\")","v":""},{"$f":"IF(OFFSET(DE100_7!$L$27,ROWS($L$27:L58)-1,COLUMNS($L$27:L58)-1)<>\"\",OFFSET(DE100_7!$L$27,ROWS($L$27:L58)-1,COLUMNS($L$27:L58)-1),\"\")","v":""},{"$f":"IF(OFFSET(DE100_7!$M$27,ROWS($M$27:M58)-1,COLUMNS($M$27:M58)-1)<>\"\",OFFSET(DE100_7!$M$27,ROWS($M$27:M58)-1,COLUMNS($M$27:M58)-1),\"\")","v":""},{"$f":"IF(OFFSET(DE100_7!$N$27,ROWS($N$27:N58)-1,COLUMNS($N$27:N58)-1)<>\"\",OFFSET(DE100_7!$N$27,ROWS($N$27:N58)-1,COLUMNS($N$27:N58)-1),\"\")","v":""},{"$f":"IF(OFFSET(DE100_7!$O$27,ROWS($O$27:O58)-1,COLUMNS($O$27:O58)-1)<>\"\",OFFSET(DE100_7!$O$27,ROWS($O$27:O58)-1,COLUMNS($O$27:O58)-1),\"\")","v":""},{"$f":"IF(OFFSET(DE100_7!$P$27,ROWS($P$27:P58)-1,COLUMNS($P$27:P58)-1)<>\"\",OFFSET(DE100_7!$P$27,ROWS($P$27:P58)-1,COLUMNS($P$27:P58)-1),\"\")","v":482.2},{"$f":"IF(OFFSET(DE100_7!$Q$27,ROWS($Q$27:Q58)-1,COLUMNS($Q$27:Q58)-1)<>\"\",OFFSET(DE100_7!$Q$27,ROWS($Q$27:Q58)-1,COLUMNS($Q$27:Q58)-1),\"\")","v":6},{"$f":"IF(OFFSET(DE100_7!$R$27,ROWS($R$27:R58)-1,COLUMNS($R$27:R58)-1)<>\"\",OFFSET(DE100_7!$R$27,ROWS($R$27:R58)-1,COLUMNS($R$27:R58)-1),\"\")","v":""},{"$f":"IF(OFFSET(DE100_7!$S$27,ROWS($S$27:S58)-1,COLUMNS($S$27:S58)-1)<>\"\",OFFSET(DE100_7!$S$27,ROWS($S$27:S58)-1,COLUMNS($S$27:S58)-1),\"\")","v":""},{"$f":"IF(OFFSET(DE100_7!$T$27,ROWS($T$27:T58)-1,COLUMNS($T$27:T58)-1)<>\"\",OFFSET(DE100_7!$T$27,ROWS($T$27:T58)-1,COLUMNS($T$27:T58)-1),\"\")","v":""},{"$f":"IF(OFFSET(DE100_7!$U$27,ROWS($U$27:U58)-1,COLUMNS($U$27:U58)-1)<>\"\",OFFSET(DE100_7!$U$27,ROWS($U$27:U58)-1,COLUMNS($U$27:U58)-1),\"\")","v":""},{"$f":"IF(OFFSET(DE100_7!$V$27,ROWS($V$27:V58)-1,COLUMNS($V$27:V58)-1)<>\"\",OFFSET(DE100_7!$V$27,ROWS($V$27:V58)-1,COLUMNS($V$27:V58)-1),\"\")","v":""}]
[{"$f":"IF(OFFSET(DE100_7!$C$27,ROWS($C$27:C59)-1,COLUMNS($C$27:C59)-1)<>\"\",OFFSET(DE100_7!$C$27,ROWS($C$27:C59)-1,COLUMNS($C$27:C59)-1),\"\")","v":198500.18},{"$f":"IF(OFFSET(DE100_7!$D$27,ROWS($D$27:D59)-1,COLUMNS($D$27:D59)-1)<>\"\",OFFSET(DE100_7!$D$27,ROWS($D$27:D59)-1,COLUMNS($D$27:D59)-1),\"\")","v":136},{"$f":"IF(OFFSET(DE100_7!$E$27,ROWS($E$27:E59)-1,COLUMNS($E$27:E59)-1)<>\"\",OFFSET(DE100_7!$E$27,ROWS($E$27:E59)-1,COLUMNS($E$27:E59)-1),\"\")","v":198573.14},{"$f":"IF(OFFSET(DE100_7!$F$27,ROWS($F$27:F59)-1,COLUMNS($F$27:F59)-1)<>\"\",OFFSET(DE100_7!$F$27,ROWS($F$27:F59)-1,COLUMNS($F$27:F59)-1),\"\")","v":163.98},{"$f":"IF(OFFSET(DE100_7!$G$27,ROWS($G$27:G59)-1,COLUMNS($G$27:G59)-1)<>\"\",OFFSET(DE100_7!$G$27,ROWS($G$27:G59)-1,COLUMNS($G$27:G59)-1),\"\")","v":"LT"},{"$f":"IF(OFFSET(DE100_7!$H$27,ROWS($H$27:H59)-1,COLUMNS($H$27:H59)-1)<>\"\",OFFSET(DE100_7!$H$27,ROWS($H$27:H59)-1,COLUMNS($H$27:H59)-1),\"\")","v":""},{"$f":"IF(OFFSET(DE100_7!$I$27,ROWS($I$27:I59)-1,COLUMNS($I$27:I59)-1)<>\"\",OFFSET(DE100_7!$I$27,ROWS($I$27:I59)-1,COLUMNS($I$27:I59)-1),\"\")","v":""},{"$f":"IF(OFFSET(DE100_7!$J$27,ROWS($J$27:J59)-1,COLUMNS($J$27:J59)-1)<>\"\",OFFSET(DE100_7!$J$27,ROWS($J$27:J59)-1,COLUMNS($J$27:J59)-1),\"\")","v":""},{"$f":"IF(OFFSET(DE100_7!$K$27,ROWS($K$27:K59)-1,COLUMNS($K$27:K59)-1)<>\"\",OFFSET(DE100_7!$K$27,ROWS($K$27:K59)-1,COLUMNS($K$27:K59)-1),\"\")","v":""},{"$f":"IF(OFFSET(DE100_7!$L$27,ROWS($L$27:L59)-1,COLUMNS($L$27:L59)-1)<>\"\",OFFSET(DE100_7!$L$27,ROWS($L$27:L59)-1,COLUMNS($L$27:L59)-1),\"\")","v":""},{"$f":"IF(OFFSET(DE100_7!$M$27,ROWS($M$27:M59)-1,COLUMNS($M$27:M59)-1)<>\"\",OFFSET(DE100_7!$M$27,ROWS($M$27:M59)-1,COLUMNS($M$27:M59)-1),\"\")","v":""},{"$f":"IF(OFFSET(DE100_7!$N$27,ROWS($N$27:N59)-1,COLUMNS($N$27:N59)-1)<>\"\",OFFSET(DE100_7!$N$27,ROWS($N$27:N59)-1,COLUMNS($N$27:N59)-1),\"\")","v":""},{"$f":"IF(OFFSET(DE100_7!$O$27,ROWS($O$27:O59)-1,COLUMNS($O$27:O59)-1)<>\"\",OFFSET(DE100_7!$O$27,ROWS($O$27:O59)-1,COLUMNS($O$27:O59)-1),\"\")","v":""},{"$f":"IF(OFFSET(DE100_7!$P$27,ROWS($P$27:P59)-1,COLUMNS($P$27:P59)-1)<>\"\",OFFSET(DE100_7!$P$27,ROWS($P$27:P59)-1,COLUMNS($P$27:P59)-1),\"\")","v":78.099999999999994},{"$f":"IF(OFFSET(DE100_7!$Q$27,ROWS($Q$27:Q59)-1,COLUMNS($Q$27:Q59)-1)<>\"\",OFFSET(DE100_7!$Q$27,ROWS($Q$27:Q59)-1,COLUMNS($Q$27:Q59)-1),\"\")","v":4},{"$f":"IF(OFFSET(DE100_7!$R$27,ROWS($R$27:R59)-1,COLUMNS($R$27:R59)-1)<>\"\",OFFSET(DE100_7!$R$27,ROWS($R$27:R59)-1,COLUMNS($R$27:R59)-1),\"\")","v":""},{"$f":"IF(OFFSET(DE100_7!$S$27,ROWS($S$27:S59)-1,COLUMNS($S$27:S59)-1)<>\"\",OFFSET(DE100_7!$S$27,ROWS($S$27:S59)-1,COLUMNS($S$27:S59)-1),\"\")","v":""},{"$f":"IF(OFFSET(DE100_7!$T$27,ROWS($T$27:T59)-1,COLUMNS($T$27:T59)-1)<>\"\",OFFSET(DE100_7!$T$27,ROWS($T$27:T59)-1,COLUMNS($T$27:T59)-1),\"\")","v":""},{"$f":"IF(OFFSET(DE100_7!$U$27,ROWS($U$27:U59)-1,COLUMNS($U$27:U59)-1)<>\"\",OFFSET(DE100_7!$U$27,ROWS($U$27:U59)-1,COLUMNS($U$27:U59)-1),\"\")","v":""},{"$f":"IF(OFFSET(DE100_7!$V$27,ROWS($V$27:V59)-1,COLUMNS($V$27:V59)-1)<>\"\",OFFSET(DE100_7!$V$27,ROWS($V$27:V59)-1,COLUMNS($V$27:V59)-1),\"\")","v":""}]
[{"$f":"IF(OFFSET(DE100_7!$C$27,ROWS($C$27:C60)-1,COLUMNS($C$27:C60)-1)<>\"\",OFFSET(DE100_7!$C$27,ROWS($C$27:C60)-1,COLUMNS($C$27:C60)-1),\"\")","v":198573.14},{"$f":"IF(OFFSET(DE100_7!$D$27,ROWS($D$27:D60)-1,COLUMNS($D$27:D60)-1)<>\"\",OFFSET(DE100_7!$D$27,ROWS($D$27:D60)-1,COLUMNS($D$27:D60)-1),\"\")","v":163.98},{"$f":"IF(OFFSET(DE100_7!$E$27,ROWS($E$27:E60)-1,COLUMNS($E$27:E60)-1)<>\"\",OFFSET(DE100_7!$E$27,ROWS($E$27:E60)-1,COLUMNS($E$27:E60)-1),\"\")","v":198802.98},{"$f":"IF(OFFSET(DE100_7!$F$27,ROWS($F$27:F60)-1,COLUMNS($F$27:F60)-1)<>\"\",OFFSET(DE100_7!$F$27,ROWS($F$27:F60)-1,COLUMNS($F$27:F60)-1),\"\")","v":142},{"$f":"IF(OFFSET(DE100_7!$G$27,ROWS($G$27:G60)-1,COLUMNS($G$27:G60)-1)<>\"\",OFFSET(DE100_7!$G$27,ROWS($G$27:G60)-1,COLUMNS($G$27:G60)-1),\"\")","v":"LT"},{"$f":"IF(OFFSET(DE100_7!$H$27,ROWS($H$27:H60)-1,COLUMNS($H$27:H60)-1)<>\"\",OFFSET(DE100_7!$H$27,ROWS($H$27:H60)-1,COLUMNS($H$27:H60)-1),\"\")","v":""},{"$f":"IF(OFFSET(DE100_7!$I$27,ROWS($I$27:I60)-1,COLUMNS($I$27:I60)-1)<>\"\",OFFSET(DE100_7!$I$27,ROWS($I$27:I60)-1,COLUMNS($I$27:I60)-1),\"\")","v":""},{"$f":"IF(OFFSET(DE100_7!$J$27,ROWS($J$27:J60)-1,COLUMNS($J$27:J60)-1)<>\"\",OFFSET(DE100_7!$J$27,ROWS($J$27:J60)-1,COLUMNS($J$27:J60)-1),\"\")","v":""},{"$f":"IF(OFFSET(DE100_7!$K$27,ROWS($K$27:K60)-1,COLUMNS($K$27:K60)-1)<>\"\",OFFSET(DE100_7!$K$27,ROWS($K$27:K60)-1,COLUMNS($K$27:K60)-1),\"\")","v":""},{"$f":"IF(OFFSET(DE100_7!$L$27,ROWS($L$27:L60)-1,COLUMNS($L$27:L60)-1)<>\"\",OFFSET(DE100_7!$L$27,ROWS($L$27:L60)-1,COLUMNS($L$27:L60)-1),\"\")","v":""},{"$f":"IF(OFFSET(DE100_7!$M$27,ROWS($M$27:M60)-1,COLUMNS($M$27:M60)-1)<>\"\",OFFSET(DE100_7!$M$27,ROWS($M$27:M60)-1,COLUMNS($M$27:M60)-1),\"\")","v":""},{"$f":"IF(OFFSET(DE100_7!$N$27,ROWS($N$27:N60)-1,COLUMNS($N$27:N60)-1)<>\"\",OFFSET(DE100_7!$N$27,ROWS($N$27:N60)-1,COLUMNS($N$27:N60)-1),\"\")","v":""},{"$f":"IF(OFFSET(DE100_7!$O$27,ROWS($O$27:O60)-1,COLUMNS($O$27:O60)-1)<>\"\",OFFSET(DE100_7!$O$27,ROWS($O$27:O60)-1,COLUMNS($O$27:O60)-1),\"\")","v":""},{"$f":"IF(OFFSET(DE100_7!$P$27,ROWS($P$27:P60)-1,COLUMNS($P$27:P60)-1)<>\"\",OFFSET(DE100_7!$P$27,ROWS($P$27:P60)-1,COLUMNS($P$27:P60)-1),\"\")","v":230.9},{"$f":"IF(OFFSET(DE100_7!$Q$27,ROWS($Q$27:Q60)-1,COLUMNS($Q$27:Q60)-1)<>\"\",OFFSET(DE100_7!$Q$27,ROWS($Q$27:Q60)-1,COLUMNS($Q$27:Q60)-1),\"\")","v":6},{"$f":"IF(OFFSET(DE100_7!$R$27,ROWS($R$27:R60)-1,COLUMNS($R$27:R60)-1)<>\"\",OFFSET(DE100_7!$R$27,ROWS($R$27:R60)-1,COLUMNS($R$27:R60)-1),\"\")","v":""},{"$f":"IF(OFFSET(DE100_7!$S$27,ROWS($S$27:S60)-1,COLUMNS($S$27:S60)-1)<>\"\",OFFSET(DE100_7!$S$27,ROWS($S$27:S60)-1,COLUMNS($S$27:S60)-1),\"\")","v":""},{"$f":"IF(OFFSET(DE100_7!$T$27,ROWS($T$27:T60)-1,COLUMNS($T$27:T60)-1)<>\"\",OFFSET(DE100_7!$T$27,ROWS($T$27:T60)-1,COLUMNS($T$27:T60)-1),\"\")","v":""},{"$f":"IF(OFFSET(DE100_7!$U$27,ROWS($U$27:U60)-1,COLUMNS($U$27:U60)-1)<>\"\",OFFSET(DE100_7!$U$27,ROWS($U$27:U60)-1,COLUMNS($U$27:U60)-1),\"\")","v":""},{"$f":"IF(OFFSET(DE100_7!$V$27,ROWS($V$27:V60)-1,COLUMNS($V$27:V60)-1)<>\"\",OFFSET(DE100_7!$V$27,ROWS($V$27:V60)-1,COLUMNS($V$27:V60)-1),\"\")","v":""}]
[{"$f":"IF(OFFSET(DE100_7!$C$27,ROWS($C$27:C61)-1,COLUMNS($C$27:C61)-1)<>\"\",OFFSET(DE100_7!$C$27,ROWS($C$27:C61)-1,COLUMNS($C$27:C61)-1),\"\")","v":198802.98},{"$f":"IF(OFFSET(DE100_7!$D$27,ROWS($D$27:D61)-1,COLUMNS($D$27:D61)-1)<>\"\",OFFSET(DE100_7!$D$27,ROWS($D$27:D61)-1,COLUMNS($D$27:D61)-1),\"\")","v":142},{"$f":"IF(OFFSET(DE100_7!$E$27,ROWS($E$27:E61)-1,COLUMNS($E$27:E61)-1)<>\"\",OFFSET(DE100_7!$E$27,ROWS($E$27:E61)-1,COLUMNS($E$27:E61)-1),\"\")","v":199280.17},{"$f":"IF(OFFSET(DE100_7!$F$27,ROWS($F$27:F61)-1,COLUMNS($F$27:F61)-1)<>\"\",OFFSET(DE100_7!$F$27,ROWS($F$27:F61)-1,COLUMNS($F$27:F61)-1),\"\")","v":173},{"$f":"IF(OFFSET(DE100_7!$G$27,ROWS($G$27:G61)-1,COLUMNS($G$27:G61)-1)<>\"\",OFFSET(DE100_7!$G$27,ROWS($G$27:G61)-1,COLUMNS($G$27:G61)-1),\"\")","v":"LT"},{"$f":"IF(OFFSET(DE100_7!$H$27,ROWS($H$27:H61)-1,COLUMNS($H$27:H61)-1)<>\"\",OFFSET(DE100_7!$H$27,ROWS($H$27:H61)-1,COLUMNS($H$27:H61)-1),\"\")","v":""},{"$f":"IF(OFFSET(DE100_7!$I$27,ROWS($I$27:I61)-1,COLUMNS($I$27:I61)-1)<>\"\",OFFSET(DE100_7!$I$27,ROWS($I$27:I61)-1,COLUMNS($I$27:I61)-1),\"\")","v":""},{"$f":"IF(OFFSET(DE100_7!$J$27,ROWS($J$27:J61)-1,COLUMNS($J$27:J61)-1)<>\"\",OFFSET(DE100_7!$J$27,ROWS($J$27:J61)-1,COLUMNS($J$27:J61)-1),\"\")","v":""},{"$f":"IF(OFFSET(DE100_7!$K$27,ROWS($K$27:K61)-1,COLUMNS($K$27:K61)-1)<>\"\",OFFSET(DE100_7!$K$27,ROWS($K$27:K61)-1,COLUMNS($K$27:K61)-1),\"\")","v":""},{"$f":"IF(OFFSET(DE100_7!$L$27,ROWS($L$27:L61)-1,COLUMNS($L$27:L61)-1)<>\"\",OFFSET(DE100_7!$L$27,ROWS($L$27:L61)-1,COLUMNS($L$27:L61)-1),\"\")","v":""},{"$f":"IF(OFFSET(DE100_7!$M$27,ROWS($M$27:M61)-1,COLUMNS($M$27:M61)-1)<>\"\",OFFSET(DE100_7!$M$27,ROWS($M$27:M61)-1,COLUMNS($M$27:M61)-1),\"\")","v":""},{"$f":"IF(OFFSET(DE100_7!$N$27,ROWS($N$27:N61)-1,COLUMNS($N$27:N61)-1)<>\"\",OFFSET(DE100_7!$N$27,ROWS($N$27:N61)-1,COLUMNS($N$27:N61)-1),\"\")","v":""},{"$f":"IF(OFFSET(DE100_7!$O$27,ROWS($O$27:O61)-1,COLUMNS($O$27:O61)-1)<>\"\",OFFSET(DE100_7!$O$27,ROWS($O$27:O61)-1,COLUMNS($O$27:O61)-1),\"\")","v":""},{"$f":"IF(OFFSET(DE100_7!$P$27,ROWS($P$27:P61)-1,COLUMNS($P$27:P61)-1)<>\"\",OFFSET(DE100_7!$P$27,ROWS($P$27:P61)-1,COLUMNS($P$27:P61)-1),\"\")","v":478.2},{"$f":"IF(OFFSET(DE100_7!$Q$27,ROWS($Q$27:Q61)-1,COLUMNS($Q$27:Q61)-1)<>\"\",OFFSET(DE100_7!$Q$27,ROWS($Q$27:Q61)-1,COLUMNS($Q$27:Q61)-1),\"\")","v":6},{"$f":"IF(OFFSET(DE100_7!$R$27,ROWS($R$27:R61)-1,COLUMNS($R$27:R61)-1)<>\"\",OFFSET(DE100_7!$R$27,ROWS($R$27:R61)-1,COLUMNS($R$27:R61)-1),\"\")","v":""},{"$f":"IF(OFFSET(DE100_7!$S$27,ROWS($S$27:S61)-1,COLUMNS($S$27:S61)-1)<>\"\",OFFSET(DE100_7!$S$27,ROWS($S$27:S61)-1,COLUMNS($S$27:S61)-1),\"\")","v":""},{"$f":"IF(OFFSET(DE100_7!$T$27,ROWS($T$27:T61)-1,COLUMNS($T$27:T61)-1)<>\"\",OFFSET(DE100_7!$T$27,ROWS($T$27:T61)-1,COLUMNS($T$27:T61)-1),\"\")","v":""},{"$f":"IF(OFFSET(DE100_7!$U$27,ROWS($U$27:U61)-1,COLUMNS($U$27:U61)-1)<>\"\",OFFSET(DE100_7!$U$27,ROWS($U$27:U61)-1,COLUMNS($U$27:U61)-1),\"\")","v":""},{"$f":"IF(OFFSET(DE100_7!$V$27,ROWS($V$27:V61)-1,COLUMNS($V$27:V61)-1)<>\"\",OFFSET(DE100_7!$V$27,ROWS($V$27:V61)-1,COLUMNS($V$27:V61)-1),\"\")","v":""}]
[{"$f":"IF(OFFSET(DE100_7!$C$27,ROWS($C$27:C62)-1,COLUMNS($C$27:C62)-1)<>\"\",OFFSET(DE100_7!$C$27,ROWS($C$27:C62)-1,COLUMNS($C$27:C62)-1),\"\")","v":199280.17},{"$f":"IF(OFFSET(DE100_7!$D$27,ROWS($D$27:D62)-1,COLUMNS($D$27:D62)-1)<>\"\",OFFSET(DE100_7!$D$27,ROWS($D$27:D62)-1,COLUMNS($D$27:D62)-1),\"\")","v":173},{"$f":"IF(OFFSET(DE100_7!$E$27,ROWS($E$27:E62)-1,COLUMNS($E$27:E62)-1)<>\"\",OFFSET(DE100_7!$E$27,ROWS($E$27:E62)-1,COLUMNS($E$27:E62)-1),\"\")","v":200468.9},{"$f":"IF(OFFSET(DE100_7!$F$27,ROWS($F$27:F62)-1,COLUMNS($F$27:F62)-1)<>\"\",OFFSET(DE100_7!$F$27,ROWS($F$27:F62)-1,COLUMNS($F$27:F62)-1),\"\")","v":166.99},{"$f":"IF(OFFSET(DE100_7!$G$27,ROWS($G$27:G62)-1,COLUMNS($G$27:G62)-1)<>\"\",OFFSET(DE100_7!$G$27,ROWS($G$27:G62)-1,COLUMNS($G$27:G62)-1),\"\")","v":"LT"},{"$f":"IF(OFFSET(DE100_7!$H$27,ROWS($H$27:H62)-1,COLUMNS($H$27:H62)-1)<>\"\",OFFSET(DE100_7!$H$27,ROWS($H$27:H62)-1,COLUMNS($H$27:H62)-1),\"\")","v":""},{"$f":"IF(OFFSET(DE100_7!$I$27,ROWS($I$27:I62)-1,COLUMNS($I$27:I62)-1)<>\"\",OFFSET(DE100_7!$I$27,ROWS($I$27:I62)-1,COLUMNS($I$27:I62)-1),\"\")","v":""},{"$f":"IF(OFFSET(DE100_7!$J$27,ROWS($J$27:J62)-1,COLUMNS($J$27:J62)-1)<>\"\",OFFSET(DE100_7!$J$27,ROWS($J$27:J62)-1,COLUMNS($J$27:J62)-1),\"\")","v":""},{"$f":"IF(OFFSET(DE100_7!$K$27,ROWS($K$27:K62)-1,COLUMNS($K$27:K62)-1)<>\"\",OFFSET(DE100_7!$K$27,ROWS($K$27:K62)-1,COLUMNS($K$27:K62)-1),\"\")","v":""},{"$f":"IF(OFFSET(DE100_7!$L$27,ROWS($L$27:L62)-1,COLUMNS($L$27:L62)-1)<>\"\",OFFSET(DE100_7!$L$27,ROWS($L$27:L62)-1,COLUMNS($L$27:L62)-1),\"\")","v":""},{"$f":"IF(OFFSET(DE100_7!$M$27,ROWS($M$27:M62)-1,COLUMNS($M$27:M62)-1)<>\"\",OFFSET(DE100_7!$M$27,ROWS($M$27:M62)-1,COLUMNS($M$27:M62)-1),\"\")","v":""},{"$f":"IF(OFFSET(DE100_7!$N$27,ROWS($N$27:N62)-1,COLUMNS($N$27:N62)-1)<>\"\",OFFSET(DE100_7!$N$27,ROWS($N$27:N62)-1,COLUMNS($N$27:N62)-1),\"\")","v":""},{"$f":"IF(OFFSET(DE100_7!$O$27,ROWS($O$27:O62)-1,COLUMNS($O$27:O62)-1)<>\"\",OFFSET(DE100_7!$O$27,ROWS($O$27:O62)-1,COLUMNS($O$27:O62)-1),\"\")","v":""},{"$f":"IF(OFFSET(DE100_7!$P$27,ROWS($P$27:P62)-1,COLUMNS($P$27:P62)-1)<>\"\",OFFSET(DE100_7!$P$27,ROWS($P$27:P62)-1,COLUMNS($P$27:P62)-1),\"\")","v":1187.0999999999999},{"$f":"IF(OFFSET(DE100_7!$Q$27,ROWS($Q$27:Q62)-1,COLUMNS($Q$27:Q62)-1)<>\"\",OFFSET(DE100_7!$Q$27,ROWS($Q$27:Q62)-1,COLUMNS($Q$27:Q62)-1),\"\")","v":7},{"$f":"IF(OFFSET(DE100_7!$R$27,ROWS($R$27:R62)-1,COLUMNS($R$27:R62)-1)<>\"\",OFFSET(DE100_7!$R$27,ROWS($R$27:R62)-1,COLUMNS($R$27:R62)-1),\"\")","v":""},{"$f":"IF(OFFSET(DE100_7!$S$27,ROWS($S$27:S62)-1,COLUMNS($S$27:S62)-1)<>\"\",OFFSET(DE100_7!$S$27,ROWS($S$27:S62)-1,COLUMNS($S$27:S62)-1),\"\")","v":""},{"$f":"IF(OFFSET(DE100_7!$T$27,ROWS($T$27:T62)-1,COLUMNS($T$27:T62)-1)<>\"\",OFFSET(DE100_7!$T$27,ROWS($T$27:T62)-1,COLUMNS($T$27:T62)-1),\"\")","v":""},{"$f":"IF(OFFSET(DE100_7!$U$27,ROWS($U$27:U62)-1,COLUMNS($U$27:U62)-1)<>\"\",OFFSET(DE100_7!$U$27,ROWS($U$27:U62)-1,COLUMNS($U$27:U62)-1),\"\")","v":""},{"$f":"IF(OFFSET(DE100_7!$V$27,ROWS($V$27:V62)-1,COLUMNS($V$27:V62)-1)<>\"\",OFFSET(DE100_7!$V$27,ROWS($V$27:V62)-1,COLUMNS($V$27:V62)-1),\"\")","v":""}]
[{"$f":"IF(OFFSET(DE100_7!$C$27,ROWS($C$27:C63)-1,COLUMNS($C$27:C63)-1)<>\"\",OFFSET(DE100_7!$C$27,ROWS($C$27:C63)-1,COLUMNS($C$27:C63)-1),\"\")","v":"Gap for NE 158th Ave"},null,null,{"$f":"IF(OFFSET(DE100_7!$F$27,ROWS($F$27:F63)-1,COLUMNS($F$27:F63)-1)<>\"\",OFFSET(DE100_7!$F$27,ROWS($F$27:F63)-1,COLUMNS($F$27:F63)-1),\"\")","v":""},{"$f":"IF(OFFSET(DE100_7!$G$27,ROWS($G$27:G63)-1,COLUMNS($G$27:G63)-1)<>\"\",OFFSET(DE100_7!$G$27,ROWS($G$27:G63)-1,COLUMNS($G$27:G63)-1),\"\")","v":""},{"$f":"IF(OFFSET(DE100_7!$H$27,ROWS($H$27:H63)-1,COLUMNS($H$27:H63)-1)<>\"\",OFFSET(DE100_7!$H$27,ROWS($H$27:H63)-1,COLUMNS($H$27:H63)-1),\"\")","v":""},{"$f":"IF(OFFSET(DE100_7!$I$27,ROWS($I$27:I63)-1,COLUMNS($I$27:I63)-1)<>\"\",OFFSET(DE100_7!$I$27,ROWS($I$27:I63)-1,COLUMNS($I$27:I63)-1),\"\")","v":""},{"$f":"IF(OFFSET(DE100_7!$J$27,ROWS($J$27:J63)-1,COLUMNS($J$27:J63)-1)<>\"\",OFFSET(DE100_7!$J$27,ROWS($J$27:J63)-1,COLUMNS($J$27:J63)-1),\"\")","v":""},{"$f":"IF(OFFSET(DE100_7!$K$27,ROWS($K$27:K63)-1,COLUMNS($K$27:K63)-1)<>\"\",OFFSET(DE100_7!$K$27,ROWS($K$27:K63)-1,COLUMNS($K$27:K63)-1),\"\")","v":""},{"$f":"IF(OFFSET(DE100_7!$L$27,ROWS($L$27:L63)-1,COLUMNS($L$27:L63)-1)<>\"\",OFFSET(DE100_7!$L$27,ROWS($L$27:L63)-1,COLUMNS($L$27:L63)-1),\"\")","v":""},{"$f":"IF(OFFSET(DE100_7!$M$27,ROWS($M$27:M63)-1,COLUMNS($M$27:M63)-1)<>\"\",OFFSET(DE100_7!$M$27,ROWS($M$27:M63)-1,COLUMNS($M$27:M63)-1),\"\")","v":""},{"$f":"IF(OFFSET(DE100_7!$N$27,ROWS($N$27:N63)-1,COLUMNS($N$27:N63)-1)<>\"\",OFFSET(DE100_7!$N$27,ROWS($N$27:N63)-1,COLUMNS($N$27:N63)-1),\"\")","v":""},{"$f":"IF(OFFSET(DE100_7!$O$27,ROWS($O$27:O63)-1,COLUMNS($O$27:O63)-1)<>\"\",OFFSET(DE100_7!$O$27,ROWS($O$27:O63)-1,COLUMNS($O$27:O63)-1),\"\")","v":""},{"$f":"IF(OFFSET(DE100_7!$P$27,ROWS($P$27:P63)-1,COLUMNS($P$27:P63)-1)<>\"\",OFFSET(DE100_7!$P$27,ROWS($P$27:P63)-1,COLUMNS($P$27:P63)-1),\"\")","v":""},{"$f":"IF(OFFSET(DE100_7!$Q$27,ROWS($Q$27:Q63)-1,COLUMNS($Q$27:Q63)-1)<>\"\",OFFSET(DE100_7!$Q$27,ROWS($Q$27:Q63)-1,COLUMNS($Q$27:Q63)-1),\"\")","v":""},{"$f":"IF(OFFSET(DE100_7!$R$27,ROWS($R$27:R63)-1,COLUMNS($R$27:R63)-1)<>\"\",OFFSET(DE100_7!$R$27,ROWS($R$27:R63)-1,COLUMNS($R$27:R63)-1),\"\")","v":""},{"$f":"IF(OFFSET(DE100_7!$S$27,ROWS($S$27:S63)-1,COLUMNS($S$27:S63)-1)<>\"\",OFFSET(DE100_7!$S$27,ROWS($S$27:S63)-1,COLUMNS($S$27:S63)-1),\"\")","v":""},{"$f":"IF(OFFSET(DE100_7!$T$27,ROWS($T$27:T63)-1,COLUMNS($T$27:T63)-1)<>\"\",OFFSET(DE100_7!$T$27,ROWS($T$27:T63)-1,COLUMNS($T$27:T63)-1),\"\")","v":""},{"$f":"IF(OFFSET(DE100_7!$U$27,ROWS($U$27:U63)-1,COLUMNS($U$27:U63)-1)<>\"\",OFFSET(DE100_7!$U$27,ROWS($U$27:U63)-1,COLUMNS($U$27:U63)-1),\"\")","v":""},{"$f":"IF(OFFSET(DE100_7!$V$27,ROWS($V$27:V63)-1,COLUMNS($V$27:V63)-1)<>\"\",OFFSET(DE100_7!$V$27,ROWS($V$27:V63)-1,COLUMNS($V$27:V63)-1),\"\")","v":""}]
[{"$f":"IF(OFFSET(DE100_7!$C$27,ROWS($C$27:C64)-1,COLUMNS($C$27:C64)-1)<>\"\",OFFSET(DE100_7!$C$27,ROWS($C$27:C64)-1,COLUMNS($C$27:C64)-1),\"\")","v":200693.86},{"$f":"IF(OFFSET(DE100_7!$D$27,ROWS($D$27:D64)-1,COLUMNS($D$27:D64)-1)<>\"\",OFFSET(DE100_7!$D$27,ROWS($D$27:D64)-1,COLUMNS($D$27:D64)-1),\"\")","v":154.01},{"$f":"IF(OFFSET(DE100_7!$E$27,ROWS($E$27:E64)-1,COLUMNS($E$27:E64)-1)<>\"\",OFFSET(DE100_7!$E$27,ROWS($E$27:E64)-1,COLUMNS($E$27:E64)-1),\"\")","v":200887.94},{"$f":"IF(OFFSET(DE100_7!$F$27,ROWS($F$27:F64)-1,COLUMNS($F$27:F64)-1)<>\"\",OFFSET(DE100_7!$F$27,ROWS($F$27:F64)-1,COLUMNS($F$27:F64)-1),\"\")","v":127},{"$f":"IF(OFFSET(DE100_7!$G$27,ROWS($G$27:G64)-1,COLUMNS($G$27:G64)-1)<>\"\",OFFSET(DE100_7!$G$27,ROWS($G$27:G64)-1,COLUMNS($G$27:G64)-1),\"\")","v":"LT"},{"$f":"IF(OFFSET(DE100_7!$H$27,ROWS($H$27:H64)-1,COLUMNS($H$27:H64)-1)<>\"\",OFFSET(DE100_7!$H$27,ROWS($H$27:H64)-1,COLUMNS($H$27:H64)-1),\"\")","v":""},{"$f":"IF(OFFSET(DE100_7!$I$27,ROWS($I$27:I64)-1,COLUMNS($I$27:I64)-1)<>\"\",OFFSET(DE100_7!$I$27,ROWS($I$27:I64)-1,COLUMNS($I$27:I64)-1),\"\")","v":""},{"$f":"IF(OFFSET(DE100_7!$J$27,ROWS($J$27:J64)-1,COLUMNS($J$27:J64)-1)<>\"\",OFFSET(DE100_7!$J$27,ROWS($J$27:J64)-1,COLUMNS($J$27:J64)-1),\"\")","v":""},{"$f":"IF(OFFSET(DE100_7!$K$27,ROWS($K$27:K64)-1,COLUMNS($K$27:K64)-1)<>\"\",OFFSET(DE100_7!$K$27,ROWS($K$27:K64)-1,COLUMNS($K$27:K64)-1),\"\")","v":""},{"$f":"IF(OFFSET(DE100_7!$L$27,ROWS($L$27:L64)-1,COLUMNS($L$27:L64)-1)<>\"\",OFFSET(DE100_7!$L$27,ROWS($L$27:L64)-1,COLUMNS($L$27:L64)-1),\"\")","v":""},{"$f":"IF(OFFSET(DE100_7!$M$27,ROWS($M$27:M64)-1,COLUMNS($M$27:M64)-1)<>\"\",OFFSET(DE100_7!$M$27,ROWS($M$27:M64)-1,COLUMNS($M$27:M64)-1),\"\")","v":""},{"$f":"IF(OFFSET(DE100_7!$N$27,ROWS($N$27:N64)-1,COLUMNS($N$27:N64)-1)<>\"\",OFFSET(DE100_7!$N$27,ROWS($N$27:N64)-1,COLUMNS($N$27:N64)-1),\"\")","v":""},{"$f":"IF(OFFSET(DE100_7!$O$27,ROWS($O$27:O64)-1,COLUMNS($O$27:O64)-1)<>\"\",OFFSET(DE100_7!$O$27,ROWS($O$27:O64)-1,COLUMNS($O$27:O64)-1),\"\")","v":""},{"$f":"IF(OFFSET(DE100_7!$P$27,ROWS($P$27:P64)-1,COLUMNS($P$27:P64)-1)<>\"\",OFFSET(DE100_7!$P$27,ROWS($P$27:P64)-1,COLUMNS($P$27:P64)-1),\"\")","v":195.4},{"$f":"IF(OFFSET(DE100_7!$Q$27,ROWS($Q$27:Q64)-1,COLUMNS($Q$27:Q64)-1)<>\"\",OFFSET(DE100_7!$Q$27,ROWS($Q$27:Q64)-1,COLUMNS($Q$27:Q64)-1),\"\")","v":5},{"$f":"IF(OFFSET(DE100_7!$R$27,ROWS($R$27:R64)-1,COLUMNS($R$27:R64)-1)<>\"\",OFFSET(DE100_7!$R$27,ROWS($R$27:R64)-1,COLUMNS($R$27:R64)-1),\"\")","v":""},{"$f":"IF(OFFSET(DE100_7!$S$27,ROWS($S$27:S64)-1,COLUMNS($S$27:S64)-1)<>\"\",OFFSET(DE100_7!$S$27,ROWS($S$27:S64)-1,COLUMNS($S$27:S64)-1),\"\")","v":""},{"$f":"IF(OFFSET(DE100_7!$T$27,ROWS($T$27:T64)-1,COLUMNS($T$27:T64)-1)<>\"\",OFFSET(DE100_7!$T$27,ROWS($T$27:T64)-1,COLUMNS($T$27:T64)-1),\"\")","v":""},{"$f":"IF(OFFSET(DE100_7!$U$27,ROWS($U$27:U64)-1,COLUMNS($U$27:U64)-1)<>\"\",OFFSET(DE100_7!$U$27,ROWS($U$27:U64)-1,COLUMNS($U$27:U64)-1),\"\")","v":""},{"$f":"IF(OFFSET(DE100_7!$V$27,ROWS($V$27:V64)-1,COLUMNS($V$27:V64)-1)<>\"\",OFFSET(DE100_7!$V$27,ROWS($V$27:V64)-1,COLUMNS($V$27:V64)-1),\"\")","v":""}]
[{"$f":"IF(OFFSET(DE100_7!$C$27,ROWS($C$27:C65)-1,COLUMNS($C$27:C65)-1)<>\"\",OFFSET(DE100_7!$C$27,ROWS($C$27:C65)-1,COLUMNS($C$27:C65)-1),\"\")","v":200887.94},{"$f":"IF(OFFSET(DE100_7!$D$27,ROWS($D$27:D65)-1,COLUMNS($D$27:D65)-1)<>\"\",OFFSET(DE100_7!$D$27,ROWS($D$27:D65)-1,COLUMNS($D$27:D65)-1),\"\")","v":127},{"$f":"IF(OFFSET(DE100_7!$E$27,ROWS($E$27:E65)-1,COLUMNS($E$27:E65)-1)<>\"\",OFFSET(DE100_7!$E$27,ROWS($E$27:E65)-1,COLUMNS($E$27:E65)-1),\"\")","v":201922.29},{"$f":"IF(OFFSET(DE100_7!$F$27,ROWS($F$27:F65)-1,COLUMNS($F$27:F65)-1)<>\"\",OFFSET(DE100_7!$F$27,ROWS($F$27:F65)-1,COLUMNS($F$27:F65)-1),\"\")","v":144},{"$f":"IF(OFFSET(DE100_7!$G$27,ROWS($G$27:G65)-1,COLUMNS($G$27:G65)-1)<>\"\",OFFSET(DE100_7!$G$27,ROWS($G$27:G65)-1,COLUMNS($G$27:G65)-1),\"\")","v":"LT"},{"$f":"IF(OFFSET(DE100_7!$H$27,ROWS($H$27:H65)-1,COLUMNS($H$27:H65)-1)<>\"\",OFFSET(DE100_7!$H$27,ROWS($H$27:H65)-1,COLUMNS($H$27:H65)-1),\"\")","v":""},{"$f":"IF(OFFSET(DE100_7!$I$27,ROWS($I$27:I65)-1,COLUMNS($I$27:I65)-1)<>\"\",OFFSET(DE100_7!$I$27,ROWS($I$27:I65)-1,COLUMNS($I$27:I65)-1),\"\")","v":""},{"$f":"IF(OFFSET(DE100_7!$J$27,ROWS($J$27:J65)-1,COLUMNS($J$27:J65)-1)<>\"\",OFFSET(DE100_7!$J$27,ROWS($J$27:J65)-1,COLUMNS($J$27:J65)-1),\"\")","v":""},{"$f":"IF(OFFSET(DE100_7!$K$27,ROWS($K$27:K65)-1,COLUMNS($K$27:K65)-1)<>\"\",OFFSET(DE100_7!$K$27,ROWS($K$27:K65)-1,COLUMNS($K$27:K65)-1),\"\")","v":""},{"$f":"IF(OFFSET(DE100_7!$L$27,ROWS($L$27:L65)-1,COLUMNS($L$27:L65)-1)<>\"\",OFFSET(DE100_7!$L$27,ROWS($L$27:L65)-1,COLUMNS($L$27:L65)-1),\"\")","v":""},{"$f":"IF(OFFSET(DE100_7!$M$27,ROWS($M$27:M65)-1,COLUMNS($M$27:M65)-1)<>\"\",OFFSET(DE100_7!$M$27,ROWS($M$27:M65)-1,COLUMNS($M$27:M65)-1),\"\")","v":""},{"$f":"IF(OFFSET(DE100_7!$N$27,ROWS($N$27:N65)-1,COLUMNS($N$27:N65)-1)<>\"\",OFFSET(DE100_7!$N$27,ROWS($N$27:N65)-1,COLUMNS($N$27:N65)-1),\"\")","v":""},{"$f":"IF(OFFSET(DE100_7!$O$27,ROWS($O$27:O65)-1,COLUMNS($O$27:O65)-1)<>\"\",OFFSET(DE100_7!$O$27,ROWS($O$27:O65)-1,COLUMNS($O$27:O65)-1),\"\")","v":""},{"$f":"IF(OFFSET(DE100_7!$P$27,ROWS($P$27:P65)-1,COLUMNS($P$27:P65)-1)<>\"\",OFFSET(DE100_7!$P$27,ROWS($P$27:P65)-1,COLUMNS($P$27:P65)-1),\"\")","v":1034.5},{"$f":"IF(OFFSET(DE100_7!$Q$27,ROWS($Q$27:Q65)-1,COLUMNS($Q$27:Q65)-1)<>\"\",OFFSET(DE100_7!$Q$27,ROWS($Q$27:Q65)-1,COLUMNS($Q$27:Q65)-1),\"\")","v":8},{"$f":"IF(OFFSET(DE100_7!$R$27,ROWS($R$27:R65)-1,COLUMNS($R$27:R65)-1)<>\"\",OFFSET(DE100_7!$R$27,ROWS($R$27:R65)-1,COLUMNS($R$27:R65)-1),\"\")","v":""},{"$f":"IF(OFFSET(DE100_7!$S$27,ROWS($S$27:S65)-1,COLUMNS($S$27:S65)-1)<>\"\",OFFSET(DE100_7!$S$27,ROWS($S$27:S65)-1,COLUMNS($S$27:S65)-1),\"\")","v":""},{"$f":"IF(OFFSET(DE100_7!$T$27,ROWS($T$27:T65)-1,COLUMNS($T$27:T65)-1)<>\"\",OFFSET(DE100_7!$T$27,ROWS($T$27:T65)-1,COLUMNS($T$27:T65)-1),\"\")","v":""},{"$f":"IF(OFFSET(DE100_7!$U$27,ROWS($U$27:U65)-1,COLUMNS($U$27:U65)-1)<>\"\",OFFSET(DE100_7!$U$27,ROWS($U$27:U65)-1,COLUMNS($U$27:U65)-1),\"\")","v":""},{"$f":"IF(OFFSET(DE100_7!$V$27,ROWS($V$27:V65)-1,COLUMNS($V$27:V65)-1)<>\"\",OFFSET(DE100_7!$V$27,ROWS($V$27:V65)-1,COLUMNS($V$27:V65)-1),\"\")","v":""}]
[{"$f":"IF(OFFSET(DE100_7!$C$27,ROWS($C$27:C66)-1,COLUMNS($C$27:C66)-1)<>\"\",OFFSET(DE100_7!$C$27,ROWS($C$27:C66)-1,COLUMNS($C$27:C66)-1),\"\")","v":201922.29},{"$f":"IF(OFFSET(DE100_7!$D$27,ROWS($D$27:D66)-1,COLUMNS($D$27:D66)-1)<>\"\",OFFSET(DE100_7!$D$27,ROWS($D$27:D66)-1,COLUMNS($D$27:D66)-1),\"\")","v":144},{"$f":"IF(OFFSET(DE100_7!$E$27,ROWS($E$27:E66)-1,COLUMNS($E$27:E66)-1)<>\"\",OFFSET(DE100_7!$E$27,ROWS($E$27:E66)-1,COLUMNS($E$27:E66)-1),\"\")","v":202760.02},{"$f":"IF(OFFSET(DE100_7!$F$27,ROWS($F$27:F66)-1,COLUMNS($F$27:F66)-1)<>\"\",OFFSET(DE100_7!$F$27,ROWS($F$27:F66)-1,COLUMNS($F$27:F66)-1),\"\")","v":156},{"$f":"IF(OFFSET(DE100_7!$G$27,ROWS($G$27:G66)-1,COLUMNS($G$27:G66)-1)<>\"\",OFFSET(DE100_7!$G$27,ROWS($G$27:G66)-1,COLUMNS($G$27:G66)-1),\"\")","v":"LT"},{"$f":"IF(OFFSET(DE100_7!$H$27,ROWS($H$27:H66)-1,COLUMNS($H$27:H66)-1)<>\"\",OFFSET(DE100_7!$H$27,ROWS($H$27:H66)-1,COLUMNS($H$27:H66)-1),\"\")","v":""},{"$f":"IF(OFFSET(DE100_7!$I$27,ROWS($I$27:I66)-1,COLUMNS($I$27:I66)-1)<>\"\",OFFSET(DE100_7!$I$27,ROWS($I$27:I66)-1,COLUMNS($I$27:I66)-1),\"\")","v":""},{"$f":"IF(OFFSET(DE100_7!$J$27,ROWS($J$27:J66)-1,COLUMNS($J$27:J66)-1)<>\"\",OFFSET(DE100_7!$J$27,ROWS($J$27:J66)-1,COLUMNS($J$27:J66)-1),\"\")","v":""},{"$f":"IF(OFFSET(DE100_7!$K$27,ROWS($K$27:K66)-1,COLUMNS($K$27:K66)-1)<>\"\",OFFSET(DE100_7!$K$27,ROWS($K$27:K66)-1,COLUMNS($K$27:K66)-1),\"\")","v":""},{"$f":"IF(OFFSET(DE100_7!$L$27,ROWS($L$27:L66)-1,COLUMNS($L$27:L66)-1)<>\"\",OFFSET(DE100_7!$L$27,ROWS($L$27:L66)-1,COLUMNS($L$27:L66)-1),\"\")","v":""},{"$f":"IF(OFFSET(DE100_7!$M$27,ROWS($M$27:M66)-1,COLUMNS($M$27:M66)-1)<>\"\",OFFSET(DE100_7!$M$27,ROWS($M$27:M66)-1,COLUMNS($M$27:M66)-1),\"\")","v":""},{"$f":"IF(OFFSET(DE100_7!$N$27,ROWS($N$27:N66)-1,COLUMNS($N$27:N66)-1)<>\"\",OFFSET(DE100_7!$N$27,ROWS($N$27:N66)-1,COLUMNS($N$27:N66)-1),\"\")","v":""},{"$f":"IF(OFFSET(DE100_7!$O$27,ROWS($O$27:O66)-1,COLUMNS($O$27:O66)-1)<>\"\",OFFSET(DE100_7!$O$27,ROWS($O$27:O66)-1,COLUMNS($O$27:O66)-1),\"\")","v":""},{"$f":"IF(OFFSET(DE100_7!$P$27,ROWS($P$27:P66)-1,COLUMNS($P$27:P66)-1)<>\"\",OFFSET(DE100_7!$P$27,ROWS($P$27:P66)-1,COLUMNS($P$27:P66)-1),\"\")","v":837.8},{"$f":"IF(OFFSET(DE100_7!$Q$27,ROWS($Q$27:Q66)-1,COLUMNS($Q$27:Q66)-1)<>\"\",OFFSET(DE100_7!$Q$27,ROWS($Q$27:Q66)-1,COLUMNS($Q$27:Q66)-1),\"\")","v":6},{"$f":"IF(OFFSET(DE100_7!$R$27,ROWS($R$27:R66)-1,COLUMNS($R$27:R66)-1)<>\"\",OFFSET(DE100_7!$R$27,ROWS($R$27:R66)-1,COLUMNS($R$27:R66)-1),\"\")","v":""},{"$f":"IF(OFFSET(DE100_7!$S$27,ROWS($S$27:S66)-1,COLUMNS($S$27:S66)-1)<>\"\",OFFSET(DE100_7!$S$27,ROWS($S$27:S66)-1,COLUMNS($S$27:S66)-1),\"\")","v":""},{"$f":"IF(OFFSET(DE100_7!$T$27,ROWS($T$27:T66)-1,COLUMNS($T$27:T66)-1)<>\"\",OFFSET(DE100_7!$T$27,ROWS($T$27:T66)-1,COLUMNS($T$27:T66)-1),\"\")","v":""},{"$f":"IF(OFFSET(DE100_7!$U$27,ROWS($U$27:U66)-1,COLUMNS($U$27:U66)-1)<>\"\",OFFSET(DE100_7!$U$27,ROWS($U$27:U66)-1,COLUMNS($U$27:U66)-1),\"\")","v":""},{"$f":"IF(OFFSET(DE100_7!$V$27,ROWS($V$27:V66)-1,COLUMNS($V$27:V66)-1)<>\"\",OFFSET(DE100_7!$V$27,ROWS($V$27:V66)-1,COLUMNS($V$27:V66)-1),\"\")","v":""}]
[{"$f":"IF(OFFSET(DE100_7!$C$27,ROWS($C$27:C67)-1,COLUMNS($C$27:C67)-1)<>\"\",OFFSET(DE100_7!$C$27,ROWS($C$27:C67)-1,COLUMNS($C$27:C67)-1),\"\")","v":202760.02},{"$f":"IF(OFFSET(DE100_7!$D$27,ROWS($D$27:D67)-1,COLUMNS($D$27:D67)-1)<>\"\",OFFSET(DE100_7!$D$27,ROWS($D$27:D67)-1,COLUMNS($D$27:D67)-1),\"\")","v":156},{"$f":"IF(OFFSET(DE100_7!$E$27,ROWS($E$27:E67)-1,COLUMNS($E$27:E67)-1)<>\"\",OFFSET(DE100_7!$E$27,ROWS($E$27:E67)-1,COLUMNS($E$27:E67)-1),\"\")","v":202998.95},{"$f":"IF(OFFSET(DE100_7!$F$27,ROWS($F$27:F67)-1,COLUMNS($F$27:F67)-1)<>\"\",OFFSET(DE100_7!$F$27,ROWS($F$27:F67)-1,COLUMNS($F$27:F67)-1),\"\")","v":161.5},{"$f":"IF(OFFSET(DE100_7!$G$27,ROWS($G$27:G67)-1,COLUMNS($G$27:G67)-1)<>\"\",OFFSET(DE100_7!$G$27,ROWS($G$27:G67)-1,COLUMNS($G$27:G67)-1),\"\")","v":"LT"},{"$f":"IF(OFFSET(DE100_7!$H$27,ROWS($H$27:H67)-1,COLUMNS($H$27:H67)-1)<>\"\",OFFSET(DE100_7!$H$27,ROWS($H$27:H67)-1,COLUMNS($H$27:H67)-1),\"\")","v":""},{"$f":"IF(OFFSET(DE100_7!$I$27,ROWS($I$27:I67)-1,COLUMNS($I$27:I67)-1)<>\"\",OFFSET(DE100_7!$I$27,ROWS($I$27:I67)-1,COLUMNS($I$27:I67)-1),\"\")","v":""},{"$f":"IF(OFFSET(DE100_7!$J$27,ROWS($J$27:J67)-1,COLUMNS($J$27:J67)-1)<>\"\",OFFSET(DE100_7!$J$27,ROWS($J$27:J67)-1,COLUMNS($J$27:J67)-1),\"\")","v":""},{"$f":"IF(OFFSET(DE100_7!$K$27,ROWS($K$27:K67)-1,COLUMNS($K$27:K67)-1)<>\"\",OFFSET(DE100_7!$K$27,ROWS($K$27:K67)-1,COLUMNS($K$27:K67)-1),\"\")","v":""},{"$f":"IF(OFFSET(DE100_7!$L$27,ROWS($L$27:L67)-1,COLUMNS($L$27:L67)-1)<>\"\",OFFSET(DE100_7!$L$27,ROWS($L$27:L67)-1,COLUMNS($L$27:L67)-1),\"\")","v":""},{"$f":"IF(OFFSET(DE100_7!$M$27,ROWS($M$27:M67)-1,COLUMNS($M$27:M67)-1)<>\"\",OFFSET(DE100_7!$M$27,ROWS($M$27:M67)-1,COLUMNS($M$27:M67)-1),\"\")","v":""},{"$f":"IF(OFFSET(DE100_7!$N$27,ROWS($N$27:N67)-1,COLUMNS($N$27:N67)-1)<>\"\",OFFSET(DE100_7!$N$27,ROWS($N$27:N67)-1,COLUMNS($N$27:N67)-1),\"\")","v":""},{"$f":"IF(OFFSET(DE100_7!$O$27,ROWS($O$27:O67)-1,COLUMNS($O$27:O67)-1)<>\"\",OFFSET(DE100_7!$O$27,ROWS($O$27:O67)-1,COLUMNS($O$27:O67)-1),\"\")","v":""},{"$f":"IF(OFFSET(DE100_7!$P$27,ROWS($P$27:P67)-1,COLUMNS($P$27:P67)-1)<>\"\",OFFSET(DE100_7!$P$27,ROWS($P$27:P67)-1,COLUMNS($P$27:P67)-1),\"\")","v":238.8},{"$f":"IF(OFFSET(DE100_7!$Q$27,ROWS($Q$27:Q67)-1,COLUMNS($Q$27:Q67)-1)<>\"\",OFFSET(DE100_7!$Q$27,ROWS($Q$27:Q67)-1,COLUMNS($Q$27:Q67)-1),\"\")","v":6},{"$f":"IF(OFFSET(DE100_7!$R$27,ROWS($R$27:R67)-1,COLUMNS($R$27:R67)-1)<>\"\",OFFSET(DE100_7!$R$27,ROWS($R$27:R67)-1,COLUMNS($R$27:R67)-1),\"\")","v":""},{"$f":"IF(OFFSET(DE100_7!$S$27,ROWS($S$27:S67)-1,COLUMNS($S$27:S67)-1)<>\"\",OFFSET(DE100_7!$S$27,ROWS($S$27:S67)-1,COLUMNS($S$27:S67)-1),\"\")","v":""},{"$f":"IF(OFFSET(DE100_7!$T$27,ROWS($T$27:T67)-1,COLUMNS($T$27:T67)-1)<>\"\",OFFSET(DE100_7!$T$27,ROWS($T$27:T67)-1,COLUMNS($T$27:T67)-1),\"\")","v":""},{"$f":"IF(OFFSET(DE100_7!$U$27,ROWS($U$27:U67)-1,COLUMNS($U$27:U67)-1)<>\"\",OFFSET(DE100_7!$U$27,ROWS($U$27:U67)-1,COLUMNS($U$27:U67)-1),\"\")","v":""},{"$f":"IF(OFFSET(DE100_7!$V$27,ROWS($V$27:V67)-1,COLUMNS($V$27:V67)-1)<>\"\",OFFSET(DE100_7!$V$27,ROWS($V$27:V67)-1,COLUMNS($V$27:V67)-1),\"\")","v":""}]
[{"$f":"IF(OFFSET(DE100_7!$C$27,ROWS($C$27:C68)-1,COLUMNS($C$27:C68)-1)<>\"\",OFFSET(DE100_7!$C$27,ROWS($C$27:C68)-1,COLUMNS($C$27:C68)-1),\"\")","v":202998.95},{"$f":"IF(OFFSET(DE100_7!$D$27,ROWS($D$27:D68)-1,COLUMNS($D$27:D68)-1)<>\"\",OFFSET(DE100_7!$D$27,ROWS($D$27:D68)-1,COLUMNS($D$27:D68)-1),\"\")","v":161.5},{"$f":"IF(OFFSET(DE100_7!$E$27,ROWS($E$27:E68)-1,COLUMNS($E$27:E68)-1)<>\"\",OFFSET(DE100_7!$E$27,ROWS($E$27:E68)-1,COLUMNS($E$27:E68)-1),\"\")","v":203237.89},{"$f":"IF(OFFSET(DE100_7!$F$27,ROWS($F$27:F68)-1,COLUMNS($F$27:F68)-1)<>\"\",OFFSET(DE100_7!$F$27,ROWS($F$27:F68)-1,COLUMNS($F$27:F68)-1),\"\")","v":167},{"$f":"IF(OFFSET(DE100_7!$G$27,ROWS($G$27:G68)-1,COLUMNS($G$27:G68)-1)<>\"\",OFFSET(DE100_7!$G$27,ROWS($G$27:G68)-1,COLUMNS($G$27:G68)-1),\"\")","v":"LT"},{"$f":"IF(OFFSET(DE100_7!$H$27,ROWS($H$27:H68)-1,COLUMNS($H$27:H68)-1)<>\"\",OFFSET(DE100_7!$H$27,ROWS($H$27:H68)-1,COLUMNS($H$27:H68)-1),\"\")","v":""},{"$f":"IF(OFFSET(DE100_7!$I$27,ROWS($I$27:I68)-1,COLUMNS($I$27:I68)-1)<>\"\",OFFSET(DE100_7!$I$27,ROWS($I$27:I68)-1,COLUMNS($I$27:I68)-1),\"\")","v":""},{"$f":"IF(OFFSET(DE100_7!$J$27,ROWS($J$27:J68)-1,COLUMNS($J$27:J68)-1)<>\"\",OFFSET(DE100_7!$J$27,ROWS($J$27:J68)-1,COLUMNS($J$27:J68)-1),\"\")","v":""},{"$f":"IF(OFFSET(DE100_7!$K$27,ROWS($K$27:K68)-1,COLUMNS($K$27:K68)-1)<>\"\",OFFSET(DE100_7!$K$27,ROWS($K$27:K68)-1,COLUMNS($K$27:K68)-1),\"\")","v":""},{"$f":"IF(OFFSET(DE100_7!$L$27,ROWS($L$27:L68)-1,COLUMNS($L$27:L68)-1)<>\"\",OFFSET(DE100_7!$L$27,ROWS($L$27:L68)-1,COLUMNS($L$27:L68)-1),\"\")","v":""},{"$f":"IF(OFFSET(DE100_7!$M$27,ROWS($M$27:M68)-1,COLUMNS($M$27:M68)-1)<>\"\",OFFSET(DE100_7!$M$27,ROWS($M$27:M68)-1,COLUMNS($M$27:M68)-1),\"\")","v":""},{"$f":"IF(OFFSET(DE100_7!$N$27,ROWS($N$27:N68)-1,COLUMNS($N$27:N68)-1)<>\"\",OFFSET(DE100_7!$N$27,ROWS($N$27:N68)-1,COLUMNS($N$27:N68)-1),\"\")","v":""},{"$f":"IF(OFFSET(DE100_7!$O$27,ROWS($O$27:O68)-1,COLUMNS($O$27:O68)-1)<>\"\",OFFSET(DE100_7!$O$27,ROWS($O$27:O68)-1,COLUMNS($O$27:O68)-1),\"\")","v":""},{"$f":"IF(OFFSET(DE100_7!$P$27,ROWS($P$27:P68)-1,COLUMNS($P$27:P68)-1)<>\"\",OFFSET(DE100_7!$P$27,ROWS($P$27:P68)-1,COLUMNS($P$27:P68)-1),\"\")","v":238.999},{"$f":"IF(OFFSET(DE100_7!$Q$27,ROWS($Q$27:Q68)-1,COLUMNS($Q$27:Q68)-1)<>\"\",OFFSET(DE100_7!$Q$27,ROWS($Q$27:Q68)-1,COLUMNS($Q$27:Q68)-1),\"\")","v":6},{"$f":"IF(OFFSET(DE100_7!$R$27,ROWS($R$27:R68)-1,COLUMNS($R$27:R68)-1)<>\"\",OFFSET(DE100_7!$R$27,ROWS($R$27:R68)-1,COLUMNS($R$27:R68)-1),\"\")","v":""},{"$f":"IF(OFFSET(DE100_7!$S$27,ROWS($S$27:S68)-1,COLUMNS($S$27:S68)-1)<>\"\",OFFSET(DE100_7!$S$27,ROWS($S$27:S68)-1,COLUMNS($S$27:S68)-1),\"\")","v":""},{"$f":"IF(OFFSET(DE100_7!$T$27,ROWS($T$27:T68)-1,COLUMNS($T$27:T68)-1)<>\"\",OFFSET(DE100_7!$T$27,ROWS($T$27:T68)-1,COLUMNS($T$27:T68)-1),\"\")","v":""},{"$f":"IF(OFFSET(DE100_7!$U$27,ROWS($U$27:U68)-1,COLUMNS($U$27:U68)-1)<>\"\",OFFSET(DE100_7!$U$27,ROWS($U$27:U68)-1,COLUMNS($U$27:U68)-1),\"\")","v":""},{"$f":"IF(OFFSET(DE100_7!$V$27,ROWS($V$27:V68)-1,COLUMNS($V$27:V68)-1)<>\"\",OFFSET(DE100_7!$V$27,ROWS($V$27:V68)-1,COLUMNS($V$27:V68)-1),\"\")","v":""}]
[{"$f":"IF(OFFSET(DE100_7!$C$27,ROWS($C$27:C69)-1,COLUMNS($C$27:C69)-1)<>\"\",OFFSET(DE100_7!$C$27,ROWS($C$27:C69)-1,COLUMNS($C$27:C69)-1),\"\")","v":203237.89},{"$f":"IF(OFFSET(DE100_7!$D$27,ROWS($D$27:D69)-1,COLUMNS($D$27:D69)-1)<>\"\",OFFSET(DE100_7!$D$27,ROWS($D$27:D69)-1,COLUMNS($D$27:D69)-1),\"\")","v":167},{"$f":"IF(OFFSET(DE100_7!$E$27,ROWS($E$27:E69)-1,COLUMNS($E$27:E69)-1)<>\"\",OFFSET(DE100_7!$E$27,ROWS($E$27:E69)-1,COLUMNS($E$27:E69)-1),\"\")","v":203421.01},{"$f":"IF(OFFSET(DE100_7!$F$27,ROWS($F$27:F69)-1,COLUMNS($F$27:F69)-1)<>\"\",OFFSET(DE100_7!$F$27,ROWS($F$27:F69)-1,COLUMNS($F$27:F69)-1),\"\")","v":170},{"$f":"IF(OFFSET(DE100_7!$G$27,ROWS($G$27:G69)-1,COLUMNS($G$27:G69)-1)<>\"\",OFFSET(DE100_7!$G$27,ROWS($G$27:G69)-1,COLUMNS($G$27:G69)-1),\"\")","v":"LT"},{"$f":"IF(OFFSET(DE100_7!$H$27,ROWS($H$27:H69)-1,COLUMNS($H$27:H69)-1)<>\"\",OFFSET(DE100_7!$H$27,ROWS($H$27:H69)-1,COLUMNS($H$27:H69)-1),\"\")","v":""},{"$f":"IF(OFFSET(DE100_7!$I$27,ROWS($I$27:I69)-1,COLUMNS($I$27:I69)-1)<>\"\",OFFSET(DE100_7!$I$27,ROWS($I$27:I69)-1,COLUMNS($I$27:I69)-1),\"\")","v":""},{"$f":"IF(OFFSET(DE100_7!$J$27,ROWS($J$27:J69)-1,COLUMNS($J$27:J69)-1)<>\"\",OFFSET(DE100_7!$J$27,ROWS($J$27:J69)-1,COLUMNS($J$27:J69)-1),\"\")","v":""},{"$f":"IF(OFFSET(DE100_7!$K$27,ROWS($K$27:K69)-1,COLUMNS($K$27:K69)-1)<>\"\",OFFSET(DE100_7!$K$27,ROWS($K$27:K69)-1,COLUMNS($K$27:K69)-1),\"\")","v":""},{"$f":"IF(OFFSET(DE100_7!$L$27,ROWS($L$27:L69)-1,COLUMNS($L$27:L69)-1)<>\"\",OFFSET(DE100_7!$L$27,ROWS($L$27:L69)-1,COLUMNS($L$27:L69)-1),\"\")","v":""},{"$f":"IF(OFFSET(DE100_7!$M$27,ROWS($M$27:M69)-1,COLUMNS($M$27:M69)-1)<>\"\",OFFSET(DE100_7!$M$27,ROWS($M$27:M69)-1,COLUMNS($M$27:M69)-1),\"\")","v":""},{"$f":"IF(OFFSET(DE100_7!$N$27,ROWS($N$27:N69)-1,COLUMNS($N$27:N69)-1)<>\"\",OFFSET(DE100_7!$N$27,ROWS($N$27:N69)-1,COLUMNS($N$27:N69)-1),\"\")","v":""},{"$f":"IF(OFFSET(DE100_7!$O$27,ROWS($O$27:O69)-1,COLUMNS($O$27:O69)-1)<>\"\",OFFSET(DE100_7!$O$27,ROWS($O$27:O69)-1,COLUMNS($O$27:O69)-1),\"\")","v":""},{"$f":"IF(OFFSET(DE100_7!$P$27,ROWS($P$27:P69)-1,COLUMNS($P$27:P69)-1)<>\"\",OFFSET(DE100_7!$P$27,ROWS($P$27:P69)-1,COLUMNS($P$27:P69)-1),\"\")","v":183.1},{"$f":"IF(OFFSET(DE100_7!$Q$27,ROWS($Q$27:Q69)-1,COLUMNS($Q$27:Q69)-1)<>\"\",OFFSET(DE100_7!$Q$27,ROWS($Q$27:Q69)-1,COLUMNS($Q$27:Q69)-1),\"\")","v":6},{"$f":"IF(OFFSET(DE100_7!$R$27,ROWS($R$27:R69)-1,COLUMNS($R$27:R69)-1)<>\"\",OFFSET(DE100_7!$R$27,ROWS($R$27:R69)-1,COLUMNS($R$27:R69)-1),\"\")","v":""},{"$f":"IF(OFFSET(DE100_7!$S$27,ROWS($S$27:S69)-1,COLUMNS($S$27:S69)-1)<>\"\",OFFSET(DE100_7!$S$27,ROWS($S$27:S69)-1,COLUMNS($S$27:S69)-1),\"\")","v":""},{"$f":"IF(OFFSET(DE100_7!$T$27,ROWS($T$27:T69)-1,COLUMNS($T$27:T69)-1)<>\"\",OFFSET(DE100_7!$T$27,ROWS($T$27:T69)-1,COLUMNS($T$27:T69)-1),\"\")","v":""},{"$f":"IF(OFFSET(DE100_7!$U$27,ROWS($U$27:U69)-1,COLUMNS($U$27:U69)-1)<>\"\",OFFSET(DE100_7!$U$27,ROWS($U$27:U69)-1,COLUMNS($U$27:U69)-1),\"\")","v":""},{"$f":"IF(OFFSET(DE100_7!$V$27,ROWS($V$27:V69)-1,COLUMNS($V$27:V69)-1)<>\"\",OFFSET(DE100_7!$V$27,ROWS($V$27:V69)-1,COLUMNS($V$27:V69)-1),\"\")","v":""}]
[{"$f":"IF(OFFSET(DE100_7!$C$27,ROWS($C$27:C70)-1,COLUMNS($C$27:C70)-1)<>\"\",OFFSET(DE100_7!$C$27,ROWS($C$27:C70)-1,COLUMNS($C$27:C70)-1),\"\")","v":203421.01},{"$f":"IF(OFFSET(DE100_7!$D$27,ROWS($D$27:D70)-1,COLUMNS($D$27:D70)-1)<>\"\",OFFSET(DE100_7!$D$27,ROWS($D$27:D70)-1,COLUMNS($D$27:D70)-1),\"\")","v":170},{"$f":"IF(OFFSET(DE100_7!$E$27,ROWS($E$27:E70)-1,COLUMNS($E$27:E70)-1)<>\"\",OFFSET(DE100_7!$E$27,ROWS($E$27:E70)-1,COLUMNS($E$27:E70)-1),\"\")","v":204314.99},{"$f":"IF(OFFSET(DE100_7!$F$27,ROWS($F$27:F70)-1,COLUMNS($F$27:F70)-1)<>\"\",OFFSET(DE100_7!$F$27,ROWS($F$27:F70)-1,COLUMNS($F$27:F70)-1),\"\")","v":169},{"$f":"IF(OFFSET(DE100_7!$G$27,ROWS($G$27:G70)-1,COLUMNS($G$27:G70)-1)<>\"\",OFFSET(DE100_7!$G$27,ROWS($G$27:G70)-1,COLUMNS($G$27:G70)-1),\"\")","v":"LT"},{"$f":"IF(OFFSET(DE100_7!$H$27,ROWS($H$27:H70)-1,COLUMNS($H$27:H70)-1)<>\"\",OFFSET(DE100_7!$H$27,ROWS($H$27:H70)-1,COLUMNS($H$27:H70)-1),\"\")","v":""},{"$f":"IF(OFFSET(DE100_7!$I$27,ROWS($I$27:I70)-1,COLUMNS($I$27:I70)-1)<>\"\",OFFSET(DE100_7!$I$27,ROWS($I$27:I70)-1,COLUMNS($I$27:I70)-1),\"\")","v":""},{"$f":"IF(OFFSET(DE100_7!$J$27,ROWS($J$27:J70)-1,COLUMNS($J$27:J70)-1)<>\"\",OFFSET(DE100_7!$J$27,ROWS($J$27:J70)-1,COLUMNS($J$27:J70)-1),\"\")","v":""},{"$f":"IF(OFFSET(DE100_7!$K$27,ROWS($K$27:K70)-1,COLUMNS($K$27:K70)-1)<>\"\",OFFSET(DE100_7!$K$27,ROWS($K$27:K70)-1,COLUMNS($K$27:K70)-1),\"\")","v":""},{"$f":"IF(OFFSET(DE100_7!$L$27,ROWS($L$27:L70)-1,COLUMNS($L$27:L70)-1)<>\"\",OFFSET(DE100_7!$L$27,ROWS($L$27:L70)-1,COLUMNS($L$27:L70)-1),\"\")","v":""},{"$f":"IF(OFFSET(DE100_7!$M$27,ROWS($M$27:M70)-1,COLUMNS($M$27:M70)-1)<>\"\",OFFSET(DE100_7!$M$27,ROWS($M$27:M70)-1,COLUMNS($M$27:M70)-1),\"\")","v":""},{"$f":"IF(OFFSET(DE100_7!$N$27,ROWS($N$27:N70)-1,COLUMNS($N$27:N70)-1)<>\"\",OFFSET(DE100_7!$N$27,ROWS($N$27:N70)-1,COLUMNS($N$27:N70)-1),\"\")","v":""},{"$f":"IF(OFFSET(DE100_7!$O$27,ROWS($O$27:O70)-1,COLUMNS($O$27:O70)-1)<>\"\",OFFSET(DE100_7!$O$27,ROWS($O$27:O70)-1,COLUMNS($O$27:O70)-1),\"\")","v":""},{"$f":"IF(OFFSET(DE100_7!$P$27,ROWS($P$27:P70)-1,COLUMNS($P$27:P70)-1)<>\"\",OFFSET(DE100_7!$P$27,ROWS($P$27:P70)-1,COLUMNS($P$27:P70)-1),\"\")","v":893.99},{"$f":"IF(OFFSET(DE100_7!$Q$27,ROWS($Q$27:Q70)-1,COLUMNS($Q$27:Q70)-1)<>\"\",OFFSET(DE100_7!$Q$27,ROWS($Q$27:Q70)-1,COLUMNS($Q$27:Q70)-1),\"\")","v":6},{"$f":"IF(OFFSET(DE100_7!$R$27,ROWS($R$27:R70)-1,COLUMNS($R$27:R70)-1)<>\"\",OFFSET(DE100_7!$R$27,ROWS($R$27:R70)-1,COLUMNS($R$27:R70)-1),\"\")","v":""},{"$f":"IF(OFFSET(DE100_7!$S$27,ROWS($S$27:S70)-1,COLUMNS($S$27:S70)-1)<>\"\",OFFSET(DE100_7!$S$27,ROWS($S$27:S70)-1,COLUMNS($S$27:S70)-1),\"\")","v":""},{"$f":"IF(OFFSET(DE100_7!$T$27,ROWS($T$27:T70)-1,COLUMNS($T$27:T70)-1)<>\"\",OFFSET(DE100_7!$T$27,ROWS($T$27:T70)-1,COLUMNS($T$27:T70)-1),\"\")","v":""},{"$f":"IF(OFFSET(DE100_7!$U$27,ROWS($U$27:U70)-1,COLUMNS($U$27:U70)-1)<>\"\",OFFSET(DE100_7!$U$27,ROWS($U$27:U70)-1,COLUMNS($U$27:U70)-1),\"\")","v":""},{"$f":"IF(OFFSET(DE100_7!$V$27,ROWS($V$27:V70)-1,COLUMNS($V$27:V70)-1)<>\"\",OFFSET(DE100_7!$V$27,ROWS($V$27:V70)-1,COLUMNS($V$27:V70)-1),\"\")","v":""}]
[{"$f":"IF(OFFSET(DE100_7!$C$27,ROWS($C$27:C71)-1,COLUMNS($C$27:C71)-1)<>\"\",OFFSET(DE100_7!$C$27,ROWS($C$27:C71)-1,COLUMNS($C$27:C71)-1),\"\")","v":204314.99},{"$f":"IF(OFFSET(DE100_7!$D$27,ROWS($D$27:D71)-1,COLUMNS($D$27:D71)-1)<>\"\",OFFSET(DE100_7!$D$27,ROWS($D$27:D71)-1,COLUMNS($D$27:D71)-1),\"\")","v":169},{"$f":"IF(OFFSET(DE100_7!$E$27,ROWS($E$27:E71)-1,COLUMNS($E$27:E71)-1)<>\"\",OFFSET(DE100_7!$E$27,ROWS($E$27:E71)-1,COLUMNS($E$27:E71)-1),\"\")","v":205479.08},{"$f":"IF(OFFSET(DE100_7!$F$27,ROWS($F$27:F71)-1,COLUMNS($F$27:F71)-1)<>\"\",OFFSET(DE100_7!$F$27,ROWS($F$27:F71)-1,COLUMNS($F$27:F71)-1),\"\")","v":159},{"$f":"IF(OFFSET(DE100_7!$G$27,ROWS($G$27:G71)-1,COLUMNS($G$27:G71)-1)<>\"\",OFFSET(DE100_7!$G$27,ROWS($G$27:G71)-1,COLUMNS($G$27:G71)-1),\"\")","v":"LT"},{"$f":"IF(OFFSET(DE100_7!$H$27,ROWS($H$27:H71)-1,COLUMNS($H$27:H71)-1)<>\"\",OFFSET(DE100_7!$H$27,ROWS($H$27:H71)-1,COLUMNS($H$27:H71)-1),\"\")","v":""},{"$f":"IF(OFFSET(DE100_7!$I$27,ROWS($I$27:I71)-1,COLUMNS($I$27:I71)-1)<>\"\",OFFSET(DE100_7!$I$27,ROWS($I$27:I71)-1,COLUMNS($I$27:I71)-1),\"\")","v":""},{"$f":"IF(OFFSET(DE100_7!$J$27,ROWS($J$27:J71)-1,COLUMNS($J$27:J71)-1)<>\"\",OFFSET(DE100_7!$J$27,ROWS($J$27:J71)-1,COLUMNS($J$27:J71)-1),\"\")","v":""},{"$f":"IF(OFFSET(DE100_7!$K$27,ROWS($K$27:K71)-1,COLUMNS($K$27:K71)-1)<>\"\",OFFSET(DE100_7!$K$27,ROWS($K$27:K71)-1,COLUMNS($K$27:K71)-1),\"\")","v":""},{"$f":"IF(OFFSET(DE100_7!$L$27,ROWS($L$27:L71)-1,COLUMNS($L$27:L71)-1)<>\"\",OFFSET(DE100_7!$L$27,ROWS($L$27:L71)-1,COLUMNS($L$27:L71)-1),\"\")","v":""},{"$f":"IF(OFFSET(DE100_7!$M$27,ROWS($M$27:M71)-1,COLUMNS($M$27:M71)-1)<>\"\",OFFSET(DE100_7!$M$27,ROWS($M$27:M71)-1,COLUMNS($M$27:M71)-1),\"\")","v":""},{"$f":"IF(OFFSET(DE100_7!$N$27,ROWS($N$27:N71)-1,COLUMNS($N$27:N71)-1)<>\"\",OFFSET(DE100_7!$N$27,ROWS($N$27:N71)-1,COLUMNS($N$27:N71)-1),\"\")","v":""},{"$f":"IF(OFFSET(DE100_7!$O$27,ROWS($O$27:O71)-1,COLUMNS($O$27:O71)-1)<>\"\",OFFSET(DE100_7!$O$27,ROWS($O$27:O71)-1,COLUMNS($O$27:O71)-1),\"\")","v":""},{"$f":"IF(OFFSET(DE100_7!$P$27,ROWS($P$27:P71)-1,COLUMNS($P$27:P71)-1)<>\"\",OFFSET(DE100_7!$P$27,ROWS($P$27:P71)-1,COLUMNS($P$27:P71)-1),\"\")","v":1165.5999999999999},{"$f":"IF(OFFSET(DE100_7!$Q$27,ROWS($Q$27:Q71)-1,COLUMNS($Q$27:Q71)-1)<>\"\",OFFSET(DE100_7!$Q$27,ROWS($Q$27:Q71)-1,COLUMNS($Q$27:Q71)-1),\"\")","v":8},{"$f":"IF(OFFSET(DE100_7!$R$27,ROWS($R$27:R71)-1,COLUMNS($R$27:R71)-1)<>\"\",OFFSET(DE100_7!$R$27,ROWS($R$27:R71)-1,COLUMNS($R$27:R71)-1),\"\")","v":""},{"$f":"IF(OFFSET(DE100_7!$S$27,ROWS($S$27:S71)-1,COLUMNS($S$27:S71)-1)<>\"\",OFFSET(DE100_7!$S$27,ROWS($S$27:S71)-1,COLUMNS($S$27:S71)-1),\"\")","v":""},{"$f":"IF(OFFSET(DE100_7!$T$27,ROWS($T$27:T71)-1,COLUMNS($T$27:T71)-1)<>\"\",OFFSET(DE100_7!$T$27,ROWS($T$27:T71)-1,COLUMNS($T$27:T71)-1),\"\")","v":""},{"$f":"IF(OFFSET(DE100_7!$U$27,ROWS($U$27:U71)-1,COLUMNS($U$27:U71)-1)<>\"\",OFFSET(DE100_7!$U$27,ROWS($U$27:U71)-1,COLUMNS($U$27:U71)-1),\"\")","v":""},{"$f":"IF(OFFSET(DE100_7!$V$27,ROWS($V$27:V71)-1,COLUMNS($V$27:V71)-1)<>\"\",OFFSET(DE100_7!$V$27,ROWS($V$27:V71)-1,COLUMNS($V$27:V71)-1),\"\")","v":""}]
[{"$f":"IF(OFFSET(DE100_7!$C$27,ROWS($C$27:C72)-1,COLUMNS($C$27:C72)-1)<>\"\",OFFSET(DE100_7!$C$27,ROWS($C$27:C72)-1,COLUMNS($C$27:C72)-1),\"\")","v":205479.08},{"$f":"IF(OFFSET(DE100_7!$D$27,ROWS($D$27:D72)-1,COLUMNS($D$27:D72)-1)<>\"\",OFFSET(DE100_7!$D$27,ROWS($D$27:D72)-1,COLUMNS($D$27:D72)-1),\"\")","v":159},{"$f":"IF(OFFSET(DE100_7!$E$27,ROWS($E$27:E72)-1,COLUMNS($E$27:E72)-1)<>\"\",OFFSET(DE100_7!$E$27,ROWS($E$27:E72)-1,COLUMNS($E$27:E72)-1),\"\")","v":205511.84},{"$f":"IF(OFFSET(DE100_7!$F$27,ROWS($F$27:F72)-1,COLUMNS($F$27:F72)-1)<>\"\",OFFSET(DE100_7!$F$27,ROWS($F$27:F72)-1,COLUMNS($F$27:F72)-1),\"\")","v":163.99},{"$f":"IF(OFFSET(DE100_7!$G$27,ROWS($G$27:G72)-1,COLUMNS($G$27:G72)-1)<>\"\",OFFSET(DE100_7!$G$27,ROWS($G$27:G72)-1,COLUMNS($G$27:G72)-1),\"\")","v":"LT"},{"$f":"IF(OFFSET(DE100_7!$H$27,ROWS($H$27:H72)-1,COLUMNS($H$27:H72)-1)<>\"\",OFFSET(DE100_7!$H$27,ROWS($H$27:H72)-1,COLUMNS($H$27:H72)-1),\"\")","v":""},{"$f":"IF(OFFSET(DE100_7!$I$27,ROWS($I$27:I72)-1,COLUMNS($I$27:I72)-1)<>\"\",OFFSET(DE100_7!$I$27,ROWS($I$27:I72)-1,COLUMNS($I$27:I72)-1),\"\")","v":""},{"$f":"IF(OFFSET(DE100_7!$J$27,ROWS($J$27:J72)-1,COLUMNS($J$27:J72)-1)<>\"\",OFFSET(DE100_7!$J$27,ROWS($J$27:J72)-1,COLUMNS($J$27:J72)-1),\"\")","v":""},{"$f":"IF(OFFSET(DE100_7!$K$27,ROWS($K$27:K72)-1,COLUMNS($K$27:K72)-1)<>\"\",OFFSET(DE100_7!$K$27,ROWS($K$27:K72)-1,COLUMNS($K$27:K72)-1),\"\")","v":""},{"$f":"IF(OFFSET(DE100_7!$L$27,ROWS($L$27:L72)-1,COLUMNS($L$27:L72)-1)<>\"\",OFFSET(DE100_7!$L$27,ROWS($L$27:L72)-1,COLUMNS($L$27:L72)-1),\"\")","v":""},{"$f":"IF(OFFSET(DE100_7!$M$27,ROWS($M$27:M72)-1,COLUMNS($M$27:M72)-1)<>\"\",OFFSET(DE100_7!$M$27,ROWS($M$27:M72)-1,COLUMNS($M$27:M72)-1),\"\")","v":""},{"$f":"IF(OFFSET(DE100_7!$N$27,ROWS($N$27:N72)-1,COLUMNS($N$27:N72)-1)<>\"\",OFFSET(DE100_7!$N$27,ROWS($N$27:N72)-1,COLUMNS($N$27:N72)-1),\"\")","v":""},{"$f":"IF(OFFSET(DE100_7!$O$27,ROWS($O$27:O72)-1,COLUMNS($O$27:O72)-1)<>\"\",OFFSET(DE100_7!$O$27,ROWS($O$27:O72)-1,COLUMNS($O$27:O72)-1),\"\")","v":""},{"$f":"IF(OFFSET(DE100_7!$P$27,ROWS($P$27:P72)-1,COLUMNS($P$27:P72)-1)<>\"\",OFFSET(DE100_7!$P$27,ROWS($P$27:P72)-1,COLUMNS($P$27:P72)-1),\"\")","v":33.299999999999997},{"$f":"IF(OFFSET(DE100_7!$Q$27,ROWS($Q$27:Q72)-1,COLUMNS($Q$27:Q72)-1)<>\"\",OFFSET(DE100_7!$Q$27,ROWS($Q$27:Q72)-1,COLUMNS($Q$27:Q72)-1),\"\")","v":4},{"$f":"IF(OFFSET(DE100_7!$R$27,ROWS($R$27:R72)-1,COLUMNS($R$27:R72)-1)<>\"\",OFFSET(DE100_7!$R$27,ROWS($R$27:R72)-1,COLUMNS($R$27:R72)-1),\"\")","v":""},{"$f":"IF(OFFSET(DE100_7!$S$27,ROWS($S$27:S72)-1,COLUMNS($S$27:S72)-1)<>\"\",OFFSET(DE100_7!$S$27,ROWS($S$27:S72)-1,COLUMNS($S$27:S72)-1),\"\")","v":""},{"$f":"IF(OFFSET(DE100_7!$T$27,ROWS($T$27:T72)-1,COLUMNS($T$27:T72)-1)<>\"\",OFFSET(DE100_7!$T$27,ROWS($T$27:T72)-1,COLUMNS($T$27:T72)-1),\"\")","v":""},{"$f":"IF(OFFSET(DE100_7!$U$27,ROWS($U$27:U72)-1,COLUMNS($U$27:U72)-1)<>\"\",OFFSET(DE100_7!$U$27,ROWS($U$27:U72)-1,COLUMNS($U$27:U72)-1),\"\")","v":""},{"$f":"IF(OFFSET(DE100_7!$V$27,ROWS($V$27:V72)-1,COLUMNS($V$27:V72)-1)<>\"\",OFFSET(DE100_7!$V$27,ROWS($V$27:V72)-1,COLUMNS($V$27:V72)-1),\"\")","v":""}]
[{"$f":"IF(OFFSET(DE100_7!$C$27,ROWS($C$27:C73)-1,COLUMNS($C$27:C73)-1)<>\"\",OFFSET(DE100_7!$C$27,ROWS($C$27:C73)-1,COLUMNS($C$27:C73)-1),\"\")","v":205511.84},{"$f":"IF(OFFSET(DE100_7!$D$27,ROWS($D$27:D73)-1,COLUMNS($D$27:D73)-1)<>\"\",OFFSET(DE100_7!$D$27,ROWS($D$27:D73)-1,COLUMNS($D$27:D73)-1),\"\")","v":163.99},{"$f":"IF(OFFSET(DE100_7!$E$27,ROWS($E$27:E73)-1,COLUMNS($E$27:E73)-1)<>\"\",OFFSET(DE100_7!$E$27,ROWS($E$27:E73)-1,COLUMNS($E$27:E73)-1),\"\")","v":205677.96},{"$f":"IF(OFFSET(DE100_7!$F$27,ROWS($F$27:F73)-1,COLUMNS($F$27:F73)-1)<>\"\",OFFSET(DE100_7!$F$27,ROWS($F$27:F73)-1,COLUMNS($F$27:F73)-1),\"\")","v":133.99},{"$f":"IF(OFFSET(DE100_7!$G$27,ROWS($G$27:G73)-1,COLUMNS($G$27:G73)-1)<>\"\",OFFSET(DE100_7!$G$27,ROWS($G$27:G73)-1,COLUMNS($G$27:G73)-1),\"\")","v":"LT"},{"$f":"IF(OFFSET(DE100_7!$H$27,ROWS($H$27:H73)-1,COLUMNS($H$27:H73)-1)<>\"\",OFFSET(DE100_7!$H$27,ROWS($H$27:H73)-1,COLUMNS($H$27:H73)-1),\"\")","v":""},{"$f":"IF(OFFSET(DE100_7!$I$27,ROWS($I$27:I73)-1,COLUMNS($I$27:I73)-1)<>\"\",OFFSET(DE100_7!$I$27,ROWS($I$27:I73)-1,COLUMNS($I$27:I73)-1),\"\")","v":""},{"$f":"IF(OFFSET(DE100_7!$J$27,ROWS($J$27:J73)-1,COLUMNS($J$27:J73)-1)<>\"\",OFFSET(DE100_7!$J$27,ROWS($J$27:J73)-1,COLUMNS($J$27:J73)-1),\"\")","v":""},{"$f":"IF(OFFSET(DE100_7!$K$27,ROWS($K$27:K73)-1,COLUMNS($K$27:K73)-1)<>\"\",OFFSET(DE100_7!$K$27,ROWS($K$27:K73)-1,COLUMNS($K$27:K73)-1),\"\")","v":""},{"$f":"IF(OFFSET(DE100_7!$L$27,ROWS($L$27:L73)-1,COLUMNS($L$27:L73)-1)<>\"\",OFFSET(DE100_7!$L$27,ROWS($L$27:L73)-1,COLUMNS($L$27:L73)-1),\"\")","v":""},{"$f":"IF(OFFSET(DE100_7!$M$27,ROWS($M$27:M73)-1,COLUMNS($M$27:M73)-1)<>\"\",OFFSET(DE100_7!$M$27,ROWS($M$27:M73)-1,COLUMNS($M$27:M73)-1),\"\")","v":""},{"$f":"IF(OFFSET(DE100_7!$N$27,ROWS($N$27:N73)-1,COLUMNS($N$27:N73)-1)<>\"\",OFFSET(DE100_7!$N$27,ROWS($N$27:N73)-1,COLUMNS($N$27:N73)-1),\"\")","v":""},{"$f":"IF(OFFSET(DE100_7!$O$27,ROWS($O$27:O73)-1,COLUMNS($O$27:O73)-1)<>\"\",OFFSET(DE100_7!$O$27,ROWS($O$27:O73)-1,COLUMNS($O$27:O73)-1),\"\")","v":""},{"$f":"IF(OFFSET(DE100_7!$P$27,ROWS($P$27:P73)-1,COLUMNS($P$27:P73)-1)<>\"\",OFFSET(DE100_7!$P$27,ROWS($P$27:P73)-1,COLUMNS($P$27:P73)-1),\"\")","v":169.7},{"$f":"IF(OFFSET(DE100_7!$Q$27,ROWS($Q$27:Q73)-1,COLUMNS($Q$27:Q73)-1)<>\"\",OFFSET(DE100_7!$Q$27,ROWS($Q$27:Q73)-1,COLUMNS($Q$27:Q73)-1),\"\")","v":6},{"$f":"IF(OFFSET(DE100_7!$R$27,ROWS($R$27:R73)-1,COLUMNS($R$27:R73)-1)<>\"\",OFFSET(DE100_7!$R$27,ROWS($R$27:R73)-1,COLUMNS($R$27:R73)-1),\"\")","v":""},{"$f":"IF(OFFSET(DE100_7!$S$27,ROWS($S$27:S73)-1,COLUMNS($S$27:S73)-1)<>\"\",OFFSET(DE100_7!$S$27,ROWS($S$27:S73)-1,COLUMNS($S$27:S73)-1),\"\")","v":""},{"$f":"IF(OFFSET(DE100_7!$T$27,ROWS($T$27:T73)-1,COLUMNS($T$27:T73)-1)<>\"\",OFFSET(DE100_7!$T$27,ROWS($T$27:T73)-1,COLUMNS($T$27:T73)-1),\"\")","v":""},{"$f":"IF(OFFSET(DE100_7!$U$27,ROWS($U$27:U73)-1,COLUMNS($U$27:U73)-1)<>\"\",OFFSET(DE100_7!$U$27,ROWS($U$27:U73)-1,COLUMNS($U$27:U73)-1),\"\")","v":""},{"$f":"IF(OFFSET(DE100_7!$V$27,ROWS($V$27:V73)-1,COLUMNS($V$27:V73)-1)<>\"\",OFFSET(DE100_7!$V$27,ROWS($V$27:V73)-1,COLUMNS($V$27:V73)-1),\"\")","v":""}]
[{"$f":"IF(OFFSET(DE100_7!$C$27,ROWS($C$27:C74)-1,COLUMNS($C$27:C74)-1)<>\"\",OFFSET(DE100_7!$C$27,ROWS($C$27:C74)-1,COLUMNS($C$27:C74)-1),\"\")","v":205677.96},{"$f":"IF(OFFSET(DE100_7!$D$27,ROWS($D$27:D74)-1,COLUMNS($D$27:D74)-1)<>\"\",OFFSET(DE100_7!$D$27,ROWS($D$27:D74)-1,COLUMNS($D$27:D74)-1),\"\")","v":133.99},{"$f":"IF(OFFSET(DE100_7!$E$27,ROWS($E$27:E74)-1,COLUMNS($E$27:E74)-1)<>\"\",OFFSET(DE100_7!$E$27,ROWS($E$27:E74)-1,COLUMNS($E$27:E74)-1),\"\")","v":205810.05},{"$f":"IF(OFFSET(DE100_7!$F$27,ROWS($F$27:F74)-1,COLUMNS($F$27:F74)-1)<>\"\",OFFSET(DE100_7!$F$27,ROWS($F$27:F74)-1,COLUMNS($F$27:F74)-1),\"\")","v":148},{"$f":"IF(OFFSET(DE100_7!$G$27,ROWS($G$27:G74)-1,COLUMNS($G$27:G74)-1)<>\"\",OFFSET(DE100_7!$G$27,ROWS($G$27:G74)-1,COLUMNS($G$27:G74)-1),\"\")","v":"LT"},{"$f":"IF(OFFSET(DE100_7!$H$27,ROWS($H$27:H74)-1,COLUMNS($H$27:H74)-1)<>\"\",OFFSET(DE100_7!$H$27,ROWS($H$27:H74)-1,COLUMNS($H$27:H74)-1),\"\")","v":""},{"$f":"IF(OFFSET(DE100_7!$I$27,ROWS($I$27:I74)-1,COLUMNS($I$27:I74)-1)<>\"\",OFFSET(DE100_7!$I$27,ROWS($I$27:I74)-1,COLUMNS($I$27:I74)-1),\"\")","v":""},{"$f":"IF(OFFSET(DE100_7!$J$27,ROWS($J$27:J74)-1,COLUMNS($J$27:J74)-1)<>\"\",OFFSET(DE100_7!$J$27,ROWS($J$27:J74)-1,COLUMNS($J$27:J74)-1),\"\")","v":""},{"$f":"IF(OFFSET(DE100_7!$K$27,ROWS($K$27:K74)-1,COLUMNS($K$27:K74)-1)<>\"\",OFFSET(DE100_7!$K$27,ROWS($K$27:K74)-1,COLUMNS($K$27:K74)-1),\"\")","v":""},{"$f":"IF(OFFSET(DE100_7!$L$27,ROWS($L$27:L74)-1,COLUMNS($L$27:L74)-1)<>\"\",OFFSET(DE100_7!$L$27,ROWS($L$27:L74)-1,COLUMNS($L$27:L74)-1),\"\")","v":""},{"$f":"IF(OFFSET(DE100_7!$M$27,ROWS($M$27:M74)-1,COLUMNS($M$27:M74)-1)<>\"\",OFFSET(DE100_7!$M$27,ROWS($M$27:M74)-1,COLUMNS($M$27:M74)-1),\"\")","v":""},{"$f":"IF(OFFSET(DE100_7!$N$27,ROWS($N$27:N74)-1,COLUMNS($N$27:N74)-1)<>\"\",OFFSET(DE100_7!$N$27,ROWS($N$27:N74)-1,COLUMNS($N$27:N74)-1),\"\")","v":""},{"$f":"IF(OFFSET(DE100_7!$O$27,ROWS($O$27:O74)-1,COLUMNS($O$27:O74)-1)<>\"\",OFFSET(DE100_7!$O$27,ROWS($O$27:O74)-1,COLUMNS($O$27:O74)-1),\"\")","v":""},{"$f":"IF(OFFSET(DE100_7!$P$27,ROWS($P$27:P74)-1,COLUMNS($P$27:P74)-1)<>\"\",OFFSET(DE100_7!$P$27,ROWS($P$27:P74)-1,COLUMNS($P$27:P74)-1),\"\")","v":133.5},{"$f":"IF(OFFSET(DE100_7!$Q$27,ROWS($Q$27:Q74)-1,COLUMNS($Q$27:Q74)-1)<>\"\",OFFSET(DE100_7!$Q$27,ROWS($Q$27:Q74)-1,COLUMNS($Q$27:Q74)-1),\"\")","v":4},{"$f":"IF(OFFSET(DE100_7!$R$27,ROWS($R$27:R74)-1,COLUMNS($R$27:R74)-1)<>\"\",OFFSET(DE100_7!$R$27,ROWS($R$27:R74)-1,COLUMNS($R$27:R74)-1),\"\")","v":""},{"$f":"IF(OFFSET(DE100_7!$S$27,ROWS($S$27:S74)-1,COLUMNS($S$27:S74)-1)<>\"\",OFFSET(DE100_7!$S$27,ROWS($S$27:S74)-1,COLUMNS($S$27:S74)-1),\"\")","v":""},{"$f":"IF(OFFSET(DE100_7!$T$27,ROWS($T$27:T74)-1,COLUMNS($T$27:T74)-1)<>\"\",OFFSET(DE100_7!$T$27,ROWS($T$27:T74)-1,COLUMNS($T$27:T74)-1),\"\")","v":""},{"$f":"IF(OFFSET(DE100_7!$U$27,ROWS($U$27:U74)-1,COLUMNS($U$27:U74)-1)<>\"\",OFFSET(DE100_7!$U$27,ROWS($U$27:U74)-1,COLUMNS($U$27:U74)-1),\"\")","v":""},{"$f":"IF(OFFSET(DE100_7!$V$27,ROWS($V$27:V74)-1,COLUMNS($V$27:V74)-1)<>\"\",OFFSET(DE100_7!$V$27,ROWS($V$27:V74)-1,COLUMNS($V$27:V74)-1),\"\")","v":""}]
[{"$f":"IF(OFFSET(DE100_7!$C$27,ROWS($C$27:C75)-1,COLUMNS($C$27:C75)-1)<>\"\",OFFSET(DE100_7!$C$27,ROWS($C$27:C75)-1,COLUMNS($C$27:C75)-1),\"\")","v":205810.05},{"$f":"IF(OFFSET(DE100_7!$D$27,ROWS($D$27:D75)-1,COLUMNS($D$27:D75)-1)<>\"\",OFFSET(DE100_7!$D$27,ROWS($D$27:D75)-1,COLUMNS($D$27:D75)-1),\"\")","v":148},{"$f":"IF(OFFSET(DE100_7!$E$27,ROWS($E$27:E75)-1,COLUMNS($E$27:E75)-1)<>\"\",OFFSET(DE100_7!$E$27,ROWS($E$27:E75)-1,COLUMNS($E$27:E75)-1),\"\")","v":206430},{"$f":"IF(OFFSET(DE100_7!$F$27,ROWS($F$27:F75)-1,COLUMNS($F$27:F75)-1)<>\"\",OFFSET(DE100_7!$F$27,ROWS($F$27:F75)-1,COLUMNS($F$27:F75)-1),\"\")","v":146},{"$f":"IF(OFFSET(DE100_7!$G$27,ROWS($G$27:G75)-1,COLUMNS($G$27:G75)-1)<>\"\",OFFSET(DE100_7!$G$27,ROWS($G$27:G75)-1,COLUMNS($G$27:G75)-1),\"\")","v":"LT"},{"$f":"IF(OFFSET(DE100_7!$H$27,ROWS($H$27:H75)-1,COLUMNS($H$27:H75)-1)<>\"\",OFFSET(DE100_7!$H$27,ROWS($H$27:H75)-1,COLUMNS($H$27:H75)-1),\"\")","v":""},{"$f":"IF(OFFSET(DE100_7!$I$27,ROWS($I$27:I75)-1,COLUMNS($I$27:I75)-1)<>\"\",OFFSET(DE100_7!$I$27,ROWS($I$27:I75)-1,COLUMNS($I$27:I75)-1),\"\")","v":""},{"$f":"IF(OFFSET(DE100_7!$J$27,ROWS($J$27:J75)-1,COLUMNS($J$27:J75)-1)<>\"\",OFFSET(DE100_7!$J$27,ROWS($J$27:J75)-1,COLUMNS($J$27:J75)-1),\"\")","v":""},{"$f":"IF(OFFSET(DE100_7!$K$27,ROWS($K$27:K75)-1,COLUMNS($K$27:K75)-1)<>\"\",OFFSET(DE100_7!$K$27,ROWS($K$27:K75)-1,COLUMNS($K$27:K75)-1),\"\")","v":""},{"$f":"IF(OFFSET(DE100_7!$L$27,ROWS($L$27:L75)-1,COLUMNS($L$27:L75)-1)<>\"\",OFFSET(DE100_7!$L$27,ROWS($L$27:L75)-1,COLUMNS($L$27:L75)-1),\"\")","v":""},{"$f":"IF(OFFSET(DE100_7!$M$27,ROWS($M$27:M75)-1,COLUMNS($M$27:M75)-1)<>\"\",OFFSET(DE100_7!$M$27,ROWS($M$27:M75)-1,COLUMNS($M$27:M75)-1),\"\")","v":""},{"$f":"IF(OFFSET(DE100_7!$N$27,ROWS($N$27:N75)-1,COLUMNS($N$27:N75)-1)<>\"\",OFFSET(DE100_7!$N$27,ROWS($N$27:N75)-1,COLUMNS($N$27:N75)-1),\"\")","v":""},{"$f":"IF(OFFSET(DE100_7!$O$27,ROWS($O$27:O75)-1,COLUMNS($O$27:O75)-1)<>\"\",OFFSET(DE100_7!$O$27,ROWS($O$27:O75)-1,COLUMNS($O$27:O75)-1),\"\")","v":""},{"$f":"IF(OFFSET(DE100_7!$P$27,ROWS($P$27:P75)-1,COLUMNS($P$27:P75)-1)<>\"\",OFFSET(DE100_7!$P$27,ROWS($P$27:P75)-1,COLUMNS($P$27:P75)-1),\"\")","v":619.96},{"$f":"IF(OFFSET(DE100_7!$Q$27,ROWS($Q$27:Q75)-1,COLUMNS($Q$27:Q75)-1)<>\"\",OFFSET(DE100_7!$Q$27,ROWS($Q$27:Q75)-1,COLUMNS($Q$27:Q75)-1),\"\")","v":6},{"$f":"IF(OFFSET(DE100_7!$R$27,ROWS($R$27:R75)-1,COLUMNS($R$27:R75)-1)<>\"\",OFFSET(DE100_7!$R$27,ROWS($R$27:R75)-1,COLUMNS($R$27:R75)-1),\"\")","v":""},{"$f":"IF(OFFSET(DE100_7!$S$27,ROWS($S$27:S75)-1,COLUMNS($S$27:S75)-1)<>\"\",OFFSET(DE100_7!$S$27,ROWS($S$27:S75)-1,COLUMNS($S$27:S75)-1),\"\")","v":""},{"$f":"IF(OFFSET(DE100_7!$T$27,ROWS($T$27:T75)-1,COLUMNS($T$27:T75)-1)<>\"\",OFFSET(DE100_7!$T$27,ROWS($T$27:T75)-1,COLUMNS($T$27:T75)-1),\"\")","v":""},{"$f":"IF(OFFSET(DE100_7!$U$27,ROWS($U$27:U75)-1,COLUMNS($U$27:U75)-1)<>\"\",OFFSET(DE100_7!$U$27,ROWS($U$27:U75)-1,COLUMNS($U$27:U75)-1),\"\")","v":""},{"$f":"IF(OFFSET(DE100_7!$V$27,ROWS($V$27:V75)-1,COLUMNS($V$27:V75)-1)<>\"\",OFFSET(DE100_7!$V$27,ROWS($V$27:V75)-1,COLUMNS($V$27:V75)-1),\"\")","v":""}]
[{"$f":"IF(OFFSET(DE100_7!$C$27,ROWS($C$27:C76)-1,COLUMNS($C$27:C76)-1)<>\"\",OFFSET(DE100_7!$C$27,ROWS($C$27:C76)-1,COLUMNS($C$27:C76)-1),\"\")","v":206430},{"$f":"IF(OFFSET(DE100_7!$D$27,ROWS($D$27:D76)-1,COLUMNS($D$27:D76)-1)<>\"\",OFFSET(DE100_7!$D$27,ROWS($D$27:D76)-1,COLUMNS($D$27:D76)-1),\"\")","v":146},{"$f":"IF(OFFSET(DE100_7!$E$27,ROWS($E$27:E76)-1,COLUMNS($E$27:E76)-1)<>\"\",OFFSET(DE100_7!$E$27,ROWS($E$27:E76)-1,COLUMNS($E$27:E76)-1),\"\")","v":206842.63},{"$f":"IF(OFFSET(DE100_7!$F$27,ROWS($F$27:F76)-1,COLUMNS($F$27:F76)-1)<>\"\",OFFSET(DE100_7!$F$27,ROWS($F$27:F76)-1,COLUMNS($F$27:F76)-1),\"\")","v":149},{"$f":"IF(OFFSET(DE100_7!$G$27,ROWS($G$27:G76)-1,COLUMNS($G$27:G76)-1)<>\"\",OFFSET(DE100_7!$G$27,ROWS($G$27:G76)-1,COLUMNS($G$27:G76)-1),\"\")","v":"LT"},{"$f":"IF(OFFSET(DE100_7!$H$27,ROWS($H$27:H76)-1,COLUMNS($H$27:H76)-1)<>\"\",OFFSET(DE100_7!$H$27,ROWS($H$27:H76)-1,COLUMNS($H$27:H76)-1),\"\")","v":""},{"$f":"IF(OFFSET(DE100_7!$I$27,ROWS($I$27:I76)-1,COLUMNS($I$27:I76)-1)<>\"\",OFFSET(DE100_7!$I$27,ROWS($I$27:I76)-1,COLUMNS($I$27:I76)-1),\"\")","v":""},{"$f":"IF(OFFSET(DE100_7!$J$27,ROWS($J$27:J76)-1,COLUMNS($J$27:J76)-1)<>\"\",OFFSET(DE100_7!$J$27,ROWS($J$27:J76)-1,COLUMNS($J$27:J76)-1),\"\")","v":""},{"$f":"IF(OFFSET(DE100_7!$K$27,ROWS($K$27:K76)-1,COLUMNS($K$27:K76)-1)<>\"\",OFFSET(DE100_7!$K$27,ROWS($K$27:K76)-1,COLUMNS($K$27:K76)-1),\"\")","v":""},{"$f":"IF(OFFSET(DE100_7!$L$27,ROWS($L$27:L76)-1,COLUMNS($L$27:L76)-1)<>\"\",OFFSET(DE100_7!$L$27,ROWS($L$27:L76)-1,COLUMNS($L$27:L76)-1),\"\")","v":""},{"$f":"IF(OFFSET(DE100_7!$M$27,ROWS($M$27:M76)-1,COLUMNS($M$27:M76)-1)<>\"\",OFFSET(DE100_7!$M$27,ROWS($M$27:M76)-1,COLUMNS($M$27:M76)-1),\"\")","v":""},{"$f":"IF(OFFSET(DE100_7!$N$27,ROWS($N$27:N76)-1,COLUMNS($N$27:N76)-1)<>\"\",OFFSET(DE100_7!$N$27,ROWS($N$27:N76)-1,COLUMNS($N$27:N76)-1),\"\")","v":""},{"$f":"IF(OFFSET(DE100_7!$O$27,ROWS($O$27:O76)-1,COLUMNS($O$27:O76)-1)<>\"\",OFFSET(DE100_7!$O$27,ROWS($O$27:O76)-1,COLUMNS($O$27:O76)-1),\"\")","v":""},{"$f":"IF(OFFSET(DE100_7!$P$27,ROWS($P$27:P76)-1,COLUMNS($P$27:P76)-1)<>\"\",OFFSET(DE100_7!$P$27,ROWS($P$27:P76)-1,COLUMNS($P$27:P76)-1),\"\")","v":412.6},{"$f":"IF(OFFSET(DE100_7!$Q$27,ROWS($Q$27:Q76)-1,COLUMNS($Q$27:Q76)-1)<>\"\",OFFSET(DE100_7!$Q$27,ROWS($Q$27:Q76)-1,COLUMNS($Q$27:Q76)-1),\"\")","v":6},{"$f":"IF(OFFSET(DE100_7!$R$27,ROWS($R$27:R76)-1,COLUMNS($R$27:R76)-1)<>\"\",OFFSET(DE100_7!$R$27,ROWS($R$27:R76)-1,COLUMNS($R$27:R76)-1),\"\")","v":""},{"$f":"IF(OFFSET(DE100_7!$S$27,ROWS($S$27:S76)-1,COLUMNS($S$27:S76)-1)<>\"\",OFFSET(DE100_7!$S$27,ROWS($S$27:S76)-1,COLUMNS($S$27:S76)-1),\"\")","v":""},{"$f":"IF(OFFSET(DE100_7!$T$27,ROWS($T$27:T76)-1,COLUMNS($T$27:T76)-1)<>\"\",OFFSET(DE100_7!$T$27,ROWS($T$27:T76)-1,COLUMNS($T$27:T76)-1),\"\")","v":""},{"$f":"IF(OFFSET(DE100_7!$U$27,ROWS($U$27:U76)-1,COLUMNS($U$27:U76)-1)<>\"\",OFFSET(DE100_7!$U$27,ROWS($U$27:U76)-1,COLUMNS($U$27:U76)-1),\"\")","v":""},{"$f":"IF(OFFSET(DE100_7!$V$27,ROWS($V$27:V76)-1,COLUMNS($V$27:V76)-1)<>\"\",OFFSET(DE100_7!$V$27,ROWS($V$27:V76)-1,COLUMNS($V$27:V76)-1),\"\")","v":""}]
[{"$f":"IF(OFFSET(DE100_7!$C$27,ROWS($C$27:C77)-1,COLUMNS($C$27:C77)-1)<>\"\",OFFSET(DE100_7!$C$27,ROWS($C$27:C77)-1,COLUMNS($C$27:C77)-1),\"\")","v":206842.63},{"$f":"IF(OFFSET(DE100_7!$D$27,ROWS($D$27:D77)-1,COLUMNS($D$27:D77)-1)<>\"\",OFFSET(DE100_7!$D$27,ROWS($D$27:D77)-1,COLUMNS($D$27:D77)-1),\"\")","v":149},{"$f":"IF(OFFSET(DE100_7!$E$27,ROWS($E$27:E77)-1,COLUMNS($E$27:E77)-1)<>\"\",OFFSET(DE100_7!$E$27,ROWS($E$27:E77)-1,COLUMNS($E$27:E77)-1),\"\")","v":206977.93},{"$f":"IF(OFFSET(DE100_7!$F$27,ROWS($F$27:F77)-1,COLUMNS($F$27:F77)-1)<>\"\",OFFSET(DE100_7!$F$27,ROWS($F$27:F77)-1,COLUMNS($F$27:F77)-1),\"\")","v":139},{"$f":"IF(OFFSET(DE100_7!$G$27,ROWS($G$27:G77)-1,COLUMNS($G$27:G77)-1)<>\"\",OFFSET(DE100_7!$G$27,ROWS($G$27:G77)-1,COLUMNS($G$27:G77)-1),\"\")","v":"LT"},{"$f":"IF(OFFSET(DE100_7!$H$27,ROWS($H$27:H77)-1,COLUMNS($H$27:H77)-1)<>\"\",OFFSET(DE100_7!$H$27,ROWS($H$27:H77)-1,COLUMNS($H$27:H77)-1),\"\")","v":""},{"$f":"IF(OFFSET(DE100_7!$I$27,ROWS($I$27:I77)-1,COLUMNS($I$27:I77)-1)<>\"\",OFFSET(DE100_7!$I$27,ROWS($I$27:I77)-1,COLUMNS($I$27:I77)-1),\"\")","v":""},{"$f":"IF(OFFSET(DE100_7!$J$27,ROWS($J$27:J77)-1,COLUMNS($J$27:J77)-1)<>\"\",OFFSET(DE100_7!$J$27,ROWS($J$27:J77)-1,COLUMNS($J$27:J77)-1),\"\")","v":""},{"$f":"IF(OFFSET(DE100_7!$K$27,ROWS($K$27:K77)-1,COLUMNS($K$27:K77)-1)<>\"\",OFFSET(DE100_7!$K$27,ROWS($K$27:K77)-1,COLUMNS($K$27:K77)-1),\"\")","v":""},{"$f":"IF(OFFSET(DE100_7!$L$27,ROWS($L$27:L77)-1,COLUMNS($L$27:L77)-1)<>\"\",OFFSET(DE100_7!$L$27,ROWS($L$27:L77)-1,COLUMNS($L$27:L77)-1),\"\")","v":""},{"$f":"IF(OFFSET(DE100_7!$M$27,ROWS($M$27:M77)-1,COLUMNS($M$27:M77)-1)<>\"\",OFFSET(DE100_7!$M$27,ROWS($M$27:M77)-1,COLUMNS($M$27:M77)-1),\"\")","v":""},{"$f":"IF(OFFSET(DE100_7!$N$27,ROWS($N$27:N77)-1,COLUMNS($N$27:N77)-1)<>\"\",OFFSET(DE100_7!$N$27,ROWS($N$27:N77)-1,COLUMNS($N$27:N77)-1),\"\")","v":""},{"$f":"IF(OFFSET(DE100_7!$O$27,ROWS($O$27:O77)-1,COLUMNS($O$27:O77)-1)<>\"\",OFFSET(DE100_7!$O$27,ROWS($O$27:O77)-1,COLUMNS($O$27:O77)-1),\"\")","v":""},{"$f":"IF(OFFSET(DE100_7!$P$27,ROWS($P$27:P77)-1,COLUMNS($P$27:P77)-1)<>\"\",OFFSET(DE100_7!$P$27,ROWS($P$27:P77)-1,COLUMNS($P$27:P77)-1),\"\")","v":84.33},{"$f":"IF(OFFSET(DE100_7!$Q$27,ROWS($Q$27:Q77)-1,COLUMNS($Q$27:Q77)-1)<>\"\",OFFSET(DE100_7!$Q$27,ROWS($Q$27:Q77)-1,COLUMNS($Q$27:Q77)-1),\"\")","v":4},{"$f":"IF(OFFSET(DE100_7!$R$27,ROWS($R$27:R77)-1,COLUMNS($R$27:R77)-1)<>\"\",OFFSET(DE100_7!$R$27,ROWS($R$27:R77)-1,COLUMNS($R$27:R77)-1),\"\")","v":""},{"$f":"IF(OFFSET(DE100_7!$S$27,ROWS($S$27:S77)-1,COLUMNS($S$27:S77)-1)<>\"\",OFFSET(DE100_7!$S$27,ROWS($S$27:S77)-1,COLUMNS($S$27:S77)-1),\"\")","v":""},{"$f":"IF(OFFSET(DE100_7!$T$27,ROWS($T$27:T77)-1,COLUMNS($T$27:T77)-1)<>\"\",OFFSET(DE100_7!$T$27,ROWS($T$27:T77)-1,COLUMNS($T$27:T77)-1),\"\")","v":""},{"$f":"IF(OFFSET(DE100_7!$U$27,ROWS($U$27:U77)-1,COLUMNS($U$27:U77)-1)<>\"\",OFFSET(DE100_7!$U$27,ROWS($U$27:U77)-1,COLUMNS($U$27:U77)-1),\"\")","v":""},{"$f":"IF(OFFSET(DE100_7!$V$27,ROWS($V$27:V77)-1,COLUMNS($V$27:V77)-1)<>\"\",OFFSET(DE100_7!$V$27,ROWS($V$27:V77)-1,COLUMNS($V$27:V77)-1),\"\")","v":""}]
[{"$f":"IF(OFFSET(DE100_7!$C$27,ROWS($C$27:C78)-1,COLUMNS($C$27:C78)-1)<>\"\",OFFSET(DE100_7!$C$27,ROWS($C$27:C78)-1,COLUMNS($C$27:C78)-1),\"\")","v":206926.91},{"$f":"IF(OFFSET(DE100_7!$D$27,ROWS($D$27:D78)-1,COLUMNS($D$27:D78)-1)<>\"\",OFFSET(DE100_7!$D$27,ROWS($D$27:D78)-1,COLUMNS($D$27:D78)-1),\"\")","v":147},{"$f":"IF(OFFSET(DE100_7!$E$27,ROWS($E$27:E78)-1,COLUMNS($E$27:E78)-1)<>\"\",OFFSET(DE100_7!$E$27,ROWS($E$27:E78)-1,COLUMNS($E$27:E78)-1),\"\")","v":206977.93},{"$f":"IF(OFFSET(DE100_7!$F$27,ROWS($F$27:F78)-1,COLUMNS($F$27:F78)-1)<>\"\",OFFSET(DE100_7!$F$27,ROWS($F$27:F78)-1,COLUMNS($F$27:F78)-1),\"\")","v":139},{"$f":"IF(OFFSET(DE100_7!$G$27,ROWS($G$27:G78)-1,COLUMNS($G$27:G78)-1)<>\"\",OFFSET(DE100_7!$G$27,ROWS($G$27:G78)-1,COLUMNS($G$27:G78)-1),\"\")","v":"LT"},{"$f":"IF(OFFSET(DE100_7!$H$27,ROWS($H$27:H78)-1,COLUMNS($H$27:H78)-1)<>\"\",OFFSET(DE100_7!$H$27,ROWS($H$27:H78)-1,COLUMNS($H$27:H78)-1),\"\")","v":""},{"$f":"IF(OFFSET(DE100_7!$I$27,ROWS($I$27:I78)-1,COLUMNS($I$27:I78)-1)<>\"\",OFFSET(DE100_7!$I$27,ROWS($I$27:I78)-1,COLUMNS($I$27:I78)-1),\"\")","v":""},{"$f":"IF(OFFSET(DE100_7!$J$27,ROWS($J$27:J78)-1,COLUMNS($J$27:J78)-1)<>\"\",OFFSET(DE100_7!$J$27,ROWS($J$27:J78)-1,COLUMNS($J$27:J78)-1),\"\")","v":""},{"$f":"IF(OFFSET(DE100_7!$K$27,ROWS($K$27:K78)-1,COLUMNS($K$27:K78)-1)<>\"\",OFFSET(DE100_7!$K$27,ROWS($K$27:K78)-1,COLUMNS($K$27:K78)-1),\"\")","v":""},{"$f":"IF(OFFSET(DE100_7!$L$27,ROWS($L$27:L78)-1,COLUMNS($L$27:L78)-1)<>\"\",OFFSET(DE100_7!$L$27,ROWS($L$27:L78)-1,COLUMNS($L$27:L78)-1),\"\")","v":""},{"$f":"IF(OFFSET(DE100_7!$M$27,ROWS($M$27:M78)-1,COLUMNS($M$27:M78)-1)<>\"\",OFFSET(DE100_7!$M$27,ROWS($M$27:M78)-1,COLUMNS($M$27:M78)-1),\"\")","v":""},{"$f":"IF(OFFSET(DE100_7!$N$27,ROWS($N$27:N78)-1,COLUMNS($N$27:N78)-1)<>\"\",OFFSET(DE100_7!$N$27,ROWS($N$27:N78)-1,COLUMNS($N$27:N78)-1),\"\")","v":""},{"$f":"IF(OFFSET(DE100_7!$O$27,ROWS($O$27:O78)-1,COLUMNS($O$27:O78)-1)<>\"\",OFFSET(DE100_7!$O$27,ROWS($O$27:O78)-1,COLUMNS($O$27:O78)-1),\"\")","v":""},{"$f":"IF(OFFSET(DE100_7!$P$27,ROWS($P$27:P78)-1,COLUMNS($P$27:P78)-1)<>\"\",OFFSET(DE100_7!$P$27,ROWS($P$27:P78)-1,COLUMNS($P$27:P78)-1),\"\")","v":51.6},{"$f":"IF(OFFSET(DE100_7!$Q$27,ROWS($Q$27:Q78)-1,COLUMNS($Q$27:Q78)-1)<>\"\",OFFSET(DE100_7!$Q$27,ROWS($Q$27:Q78)-1,COLUMNS($Q$27:Q78)-1),\"\")","v":4},{"$f":"IF(OFFSET(DE100_7!$R$27,ROWS($R$27:R78)-1,COLUMNS($R$27:R78)-1)<>\"\",OFFSET(DE100_7!$R$27,ROWS($R$27:R78)-1,COLUMNS($R$27:R78)-1),\"\")","v":""},{"$f":"IF(OFFSET(DE100_7!$S$27,ROWS($S$27:S78)-1,COLUMNS($S$27:S78)-1)<>\"\",OFFSET(DE100_7!$S$27,ROWS($S$27:S78)-1,COLUMNS($S$27:S78)-1),\"\")","v":""},{"$f":"IF(OFFSET(DE100_7!$T$27,ROWS($T$27:T78)-1,COLUMNS($T$27:T78)-1)<>\"\",OFFSET(DE100_7!$T$27,ROWS($T$27:T78)-1,COLUMNS($T$27:T78)-1),\"\")","v":""},{"$f":"IF(OFFSET(DE100_7!$U$27,ROWS($U$27:U78)-1,COLUMNS($U$27:U78)-1)<>\"\",OFFSET(DE100_7!$U$27,ROWS($U$27:U78)-1,COLUMNS($U$27:U78)-1),\"\")","v":""},{"$f":"IF(OFFSET(DE100_7!$V$27,ROWS($V$27:V78)-1,COLUMNS($V$27:V78)-1)<>\"\",OFFSET(DE100_7!$V$27,ROWS($V$27:V78)-1,COLUMNS($V$27:V78)-1),\"\")","v":""}]
[{"$f":"IF(OFFSET(DE100_7!$C$27,ROWS($C$27:C79)-1,COLUMNS($C$27:C79)-1)<>\"\",OFFSET(DE100_7!$C$27,ROWS($C$27:C79)-1,COLUMNS($C$27:C79)-1),\"\")","v":206977.93},{"$f":"IF(OFFSET(DE100_7!$D$27,ROWS($D$27:D79)-1,COLUMNS($D$27:D79)-1)<>\"\",OFFSET(DE100_7!$D$27,ROWS($D$27:D79)-1,COLUMNS($D$27:D79)-1),\"\")","v":139},{"$f":"IF(OFFSET(DE100_7!$E$27,ROWS($E$27:E79)-1,COLUMNS($E$27:E79)-1)<>\"\",OFFSET(DE100_7!$E$27,ROWS($E$27:E79)-1,COLUMNS($E$27:E79)-1),\"\")","v":208052.05},{"$f":"IF(OFFSET(DE100_7!$F$27,ROWS($F$27:F79)-1,COLUMNS($F$27:F79)-1)<>\"\",OFFSET(DE100_7!$F$27,ROWS($F$27:F79)-1,COLUMNS($F$27:F79)-1),\"\")","v":155},{"$f":"IF(OFFSET(DE100_7!$G$27,ROWS($G$27:G79)-1,COLUMNS($G$27:G79)-1)<>\"\",OFFSET(DE100_7!$G$27,ROWS($G$27:G79)-1,COLUMNS($G$27:G79)-1),\"\")","v":"LT"},{"$f":"IF(OFFSET(DE100_7!$H$27,ROWS($H$27:H79)-1,COLUMNS($H$27:H79)-1)<>\"\",OFFSET(DE100_7!$H$27,ROWS($H$27:H79)-1,COLUMNS($H$27:H79)-1),\"\")","v":""},{"$f":"IF(OFFSET(DE100_7!$I$27,ROWS($I$27:I79)-1,COLUMNS($I$27:I79)-1)<>\"\",OFFSET(DE100_7!$I$27,ROWS($I$27:I79)-1,COLUMNS($I$27:I79)-1),\"\")","v":""},{"$f":"IF(OFFSET(DE100_7!$J$27,ROWS($J$27:J79)-1,COLUMNS($J$27:J79)-1)<>\"\",OFFSET(DE100_7!$J$27,ROWS($J$27:J79)-1,COLUMNS($J$27:J79)-1),\"\")","v":""},{"$f":"IF(OFFSET(DE100_7!$K$27,ROWS($K$27:K79)-1,COLUMNS($K$27:K79)-1)<>\"\",OFFSET(DE100_7!$K$27,ROWS($K$27:K79)-1,COLUMNS($K$27:K79)-1),\"\")","v":""},{"$f":"IF(OFFSET(DE100_7!$L$27,ROWS($L$27:L79)-1,COLUMNS($L$27:L79)-1)<>\"\",OFFSET(DE100_7!$L$27,ROWS($L$27:L79)-1,COLUMNS($L$27:L79)-1),\"\")","v":""},{"$f":"IF(OFFSET(DE100_7!$M$27,ROWS($M$27:M79)-1,COLUMNS($M$27:M79)-1)<>\"\",OFFSET(DE100_7!$M$27,ROWS($M$27:M79)-1,COLUMNS($M$27:M79)-1),\"\")","v":""},{"$f":"IF(OFFSET(DE100_7!$N$27,ROWS($N$27:N79)-1,COLUMNS($N$27:N79)-1)<>\"\",OFFSET(DE100_7!$N$27,ROWS($N$27:N79)-1,COLUMNS($N$27:N79)-1),\"\")","v":""},{"$f":"IF(OFFSET(DE100_7!$O$27,ROWS($O$27:O79)-1,COLUMNS($O$27:O79)-1)<>\"\",OFFSET(DE100_7!$O$27,ROWS($O$27:O79)-1,COLUMNS($O$27:O79)-1),\"\")","v":""},{"$f":"IF(OFFSET(DE100_7!$P$27,ROWS($P$27:P79)-1,COLUMNS($P$27:P79)-1)<>\"\",OFFSET(DE100_7!$P$27,ROWS($P$27:P79)-1,COLUMNS($P$27:P79)-1),\"\")","v":1074.2},{"$f":"IF(OFFSET(DE100_7!$Q$27,ROWS($Q$27:Q79)-1,COLUMNS($Q$27:Q79)-1)<>\"\",OFFSET(DE100_7!$Q$27,ROWS($Q$27:Q79)-1,COLUMNS($Q$27:Q79)-1),\"\")","v":7},{"$f":"IF(OFFSET(DE100_7!$R$27,ROWS($R$27:R79)-1,COLUMNS($R$27:R79)-1)<>\"\",OFFSET(DE100_7!$R$27,ROWS($R$27:R79)-1,COLUMNS($R$27:R79)-1),\"\")","v":""},{"$f":"IF(OFFSET(DE100_7!$S$27,ROWS($S$27:S79)-1,COLUMNS($S$27:S79)-1)<>\"\",OFFSET(DE100_7!$S$27,ROWS($S$27:S79)-1,COLUMNS($S$27:S79)-1),\"\")","v":""},{"$f":"IF(OFFSET(DE100_7!$T$27,ROWS($T$27:T79)-1,COLUMNS($T$27:T79)-1)<>\"\",OFFSET(DE100_7!$T$27,ROWS($T$27:T79)-1,COLUMNS($T$27:T79)-1),\"\")","v":""},{"$f":"IF(OFFSET(DE100_7!$U$27,ROWS($U$27:U79)-1,COLUMNS($U$27:U79)-1)<>\"\",OFFSET(DE100_7!$U$27,ROWS($U$27:U79)-1,COLUMNS($U$27:U79)-1),\"\")","v":""},{"$f":"IF(OFFSET(DE100_7!$V$27,ROWS($V$27:V79)-1,COLUMNS($V$27:V79)-1)<>\"\",OFFSET(DE100_7!$V$27,ROWS($V$27:V79)-1,COLUMNS($V$27:V79)-1),\"\")","v":""}]
[{"$f":"IF(OFFSET(DE100_7!$C$27,ROWS($C$27:C80)-1,COLUMNS($C$27:C80)-1)<>\"\",OFFSET(DE100_7!$C$27,ROWS($C$27:C80)-1,COLUMNS($C$27:C80)-1),\"\")","v":"Gap for IA 210 & Ramps"},null,null,{"$f":"IF(OFFSET(DE100_7!$F$27,ROWS($F$27:F80)-1,COLUMNS($F$27:F80)-1)<>\"\",OFFSET(DE100_7!$F$27,ROWS($F$27:F80)-1,COLUMNS($F$27:F80)-1),\"\")","v":""},{"$f":"IF(OFFSET(DE100_7!$G$27,ROWS($G$27:G80)-1,COLUMNS($G$27:G80)-1)<>\"\",OFFSET(DE100_7!$G$27,ROWS($G$27:G80)-1,COLUMNS($G$27:G80)-1),\"\")","v":""},{"$f":"IF(OFFSET(DE100_7!$H$27,ROWS($H$27:H80)-1,COLUMNS($H$27:H80)-1)<>\"\",OFFSET(DE100_7!$H$27,ROWS($H$27:H80)-1,COLUMNS($H$27:H80)-1),\"\")","v":""},{"$f":"IF(OFFSET(DE100_7!$I$27,ROWS($I$27:I80)-1,COLUMNS($I$27:I80)-1)<>\"\",OFFSET(DE100_7!$I$27,ROWS($I$27:I80)-1,COLUMNS($I$27:I80)-1),\"\")","v":""},{"$f":"IF(OFFSET(DE100_7!$J$27,ROWS($J$27:J80)-1,COLUMNS($J$27:J80)-1)<>\"\",OFFSET(DE100_7!$J$27,ROWS($J$27:J80)-1,COLUMNS($J$27:J80)-1),\"\")","v":""},{"$f":"IF(OFFSET(DE100_7!$K$27,ROWS($K$27:K80)-1,COLUMNS($K$27:K80)-1)<>\"\",OFFSET(DE100_7!$K$27,ROWS($K$27:K80)-1,COLUMNS($K$27:K80)-1),\"\")","v":""},{"$f":"IF(OFFSET(DE100_7!$L$27,ROWS($L$27:L80)-1,COLUMNS($L$27:L80)-1)<>\"\",OFFSET(DE100_7!$L$27,ROWS($L$27:L80)-1,COLUMNS($L$27:L80)-1),\"\")","v":""},{"$f":"IF(OFFSET(DE100_7!$M$27,ROWS($M$27:M80)-1,COLUMNS($M$27:M80)-1)<>\"\",OFFSET(DE100_7!$M$27,ROWS($M$27:M80)-1,COLUMNS($M$27:M80)-1),\"\")","v":""},{"$f":"IF(OFFSET(DE100_7!$N$27,ROWS($N$27:N80)-1,COLUMNS($N$27:N80)-1)<>\"\",OFFSET(DE100_7!$N$27,ROWS($N$27:N80)-1,COLUMNS($N$27:N80)-1),\"\")","v":""},{"$f":"IF(OFFSET(DE100_7!$O$27,ROWS($O$27:O80)-1,COLUMNS($O$27:O80)-1)<>\"\",OFFSET(DE100_7!$O$27,ROWS($O$27:O80)-1,COLUMNS($O$27:O80)-1),\"\")","v":""},{"$f":"IF(OFFSET(DE100_7!$P$27,ROWS($P$27:P80)-1,COLUMNS($P$27:P80)-1)<>\"\",OFFSET(DE100_7!$P$27,ROWS($P$27:P80)-1,COLUMNS($P$27:P80)-1),\"\")","v":""},{"$f":"IF(OFFSET(DE100_7!$Q$27,ROWS($Q$27:Q80)-1,COLUMNS($Q$27:Q80)-1)<>\"\",OFFSET(DE100_7!$Q$27,ROWS($Q$27:Q80)-1,COLUMNS($Q$27:Q80)-1),\"\")","v":""},{"$f":"IF(OFFSET(DE100_7!$R$27,ROWS($R$27:R80)-1,COLUMNS($R$27:R80)-1)<>\"\",OFFSET(DE100_7!$R$27,ROWS($R$27:R80)-1,COLUMNS($R$27:R80)-1),\"\")","v":""},{"$f":"IF(OFFSET(DE100_7!$S$27,ROWS($S$27:S80)-1,COLUMNS($S$27:S80)-1)<>\"\",OFFSET(DE100_7!$S$27,ROWS($S$27:S80)-1,COLUMNS($S$27:S80)-1),\"\")","v":""},{"$f":"IF(OFFSET(DE100_7!$T$27,ROWS($T$27:T80)-1,COLUMNS($T$27:T80)-1)<>\"\",OFFSET(DE100_7!$T$27,ROWS($T$27:T80)-1,COLUMNS($T$27:T80)-1),\"\")","v":""},{"$f":"IF(OFFSET(DE100_7!$U$27,ROWS($U$27:U80)-1,COLUMNS($U$27:U80)-1)<>\"\",OFFSET(DE100_7!$U$27,ROWS($U$27:U80)-1,COLUMNS($U$27:U80)-1),\"\")","v":""},{"$f":"IF(OFFSET(DE100_7!$V$27,ROWS($V$27:V80)-1,COLUMNS($V$27:V80)-1)<>\"\",OFFSET(DE100_7!$V$27,ROWS($V$27:V80)-1,COLUMNS($V$27:V80)-1),\"\")","v":""}]
[{"$f":"IF(OFFSET(DE100_7!$C$27,ROWS($C$27:C81)-1,COLUMNS($C$27:C81)-1)<>\"\",OFFSET(DE100_7!$C$27,ROWS($C$27:C81)-1,COLUMNS($C$27:C81)-1),\"\")","v":214098.99},{"$f":"IF(OFFSET(DE100_7!$D$27,ROWS($D$27:D81)-1,COLUMNS($D$27:D81)-1)<>\"\",OFFSET(DE100_7!$D$27,ROWS($D$27:D81)-1,COLUMNS($D$27:D81)-1),\"\")","v":166},{"$f":"IF(OFFSET(DE100_7!$E$27,ROWS($E$27:E81)-1,COLUMNS($E$27:E81)-1)<>\"\",OFFSET(DE100_7!$E$27,ROWS($E$27:E81)-1,COLUMNS($E$27:E81)-1),\"\")","v":214779.02},{"$f":"IF(OFFSET(DE100_7!$F$27,ROWS($F$27:F81)-1,COLUMNS($F$27:F81)-1)<>\"\",OFFSET(DE100_7!$F$27,ROWS($F$27:F81)-1,COLUMNS($F$27:F81)-1),\"\")","v":135},{"$f":"IF(OFFSET(DE100_7!$G$27,ROWS($G$27:G81)-1,COLUMNS($G$27:G81)-1)<>\"\",OFFSET(DE100_7!$G$27,ROWS($G$27:G81)-1,COLUMNS($G$27:G81)-1),\"\")","v":"LT"},{"$f":"IF(OFFSET(DE100_7!$H$27,ROWS($H$27:H81)-1,COLUMNS($H$27:H81)-1)<>\"\",OFFSET(DE100_7!$H$27,ROWS($H$27:H81)-1,COLUMNS($H$27:H81)-1),\"\")","v":""},{"$f":"IF(OFFSET(DE100_7!$I$27,ROWS($I$27:I81)-1,COLUMNS($I$27:I81)-1)<>\"\",OFFSET(DE100_7!$I$27,ROWS($I$27:I81)-1,COLUMNS($I$27:I81)-1),\"\")","v":""},{"$f":"IF(OFFSET(DE100_7!$J$27,ROWS($J$27:J81)-1,COLUMNS($J$27:J81)-1)<>\"\",OFFSET(DE100_7!$J$27,ROWS($J$27:J81)-1,COLUMNS($J$27:J81)-1),\"\")","v":""},{"$f":"IF(OFFSET(DE100_7!$K$27,ROWS($K$27:K81)-1,COLUMNS($K$27:K81)-1)<>\"\",OFFSET(DE100_7!$K$27,ROWS($K$27:K81)-1,COLUMNS($K$27:K81)-1),\"\")","v":""},{"$f":"IF(OFFSET(DE100_7!$L$27,ROWS($L$27:L81)-1,COLUMNS($L$27:L81)-1)<>\"\",OFFSET(DE100_7!$L$27,ROWS($L$27:L81)-1,COLUMNS($L$27:L81)-1),\"\")","v":""},{"$f":"IF(OFFSET(DE100_7!$M$27,ROWS($M$27:M81)-1,COLUMNS($M$27:M81)-1)<>\"\",OFFSET(DE100_7!$M$27,ROWS($M$27:M81)-1,COLUMNS($M$27:M81)-1),\"\")","v":""},{"$f":"IF(OFFSET(DE100_7!$N$27,ROWS($N$27:N81)-1,COLUMNS($N$27:N81)-1)<>\"\",OFFSET(DE100_7!$N$27,ROWS($N$27:N81)-1,COLUMNS($N$27:N81)-1),\"\")","v":""},{"$f":"IF(OFFSET(DE100_7!$O$27,ROWS($O$27:O81)-1,COLUMNS($O$27:O81)-1)<>\"\",OFFSET(DE100_7!$O$27,ROWS($O$27:O81)-1,COLUMNS($O$27:O81)-1),\"\")","v":""},{"$f":"IF(OFFSET(DE100_7!$P$27,ROWS($P$27:P81)-1,COLUMNS($P$27:P81)-1)<>\"\",OFFSET(DE100_7!$P$27,ROWS($P$27:P81)-1,COLUMNS($P$27:P81)-1),\"\")","v":680.3},{"$f":"IF(OFFSET(DE100_7!$Q$27,ROWS($Q$27:Q81)-1,COLUMNS($Q$27:Q81)-1)<>\"\",OFFSET(DE100_7!$Q$27,ROWS($Q$27:Q81)-1,COLUMNS($Q$27:Q81)-1),\"\")","v":5},{"$f":"IF(OFFSET(DE100_7!$R$27,ROWS($R$27:R81)-1,COLUMNS($R$27:R81)-1)<>\"\",OFFSET(DE100_7!$R$27,ROWS($R$27:R81)-1,COLUMNS($R$27:R81)-1),\"\")","v":""},{"$f":"IF(OFFSET(DE100_7!$S$27,ROWS($S$27:S81)-1,COLUMNS($S$27:S81)-1)<>\"\",OFFSET(DE100_7!$S$27,ROWS($S$27:S81)-1,COLUMNS($S$27:S81)-1),\"\")","v":""},{"$f":"IF(OFFSET(DE100_7!$T$27,ROWS($T$27:T81)-1,COLUMNS($T$27:T81)-1)<>\"\",OFFSET(DE100_7!$T$27,ROWS($T$27:T81)-1,COLUMNS($T$27:T81)-1),\"\")","v":""},{"$f":"IF(OFFSET(DE100_7!$U$27,ROWS($U$27:U81)-1,COLUMNS($U$27:U81)-1)<>\"\",OFFSET(DE100_7!$U$27,ROWS($U$27:U81)-1,COLUMNS($U$27:U81)-1),\"\")","v":""},{"$f":"IF(OFFSET(DE100_7!$V$27,ROWS($V$27:V81)-1,COLUMNS($V$27:V81)-1)<>\"\",OFFSET(DE100_7!$V$27,ROWS($V$27:V81)-1,COLUMNS($V$27:V81)-1),\"\")","v":""}]
[{"$f":"IF(OFFSET(DE100_7!$C$27,ROWS($C$27:C82)-1,COLUMNS($C$27:C82)-1)<>\"\",OFFSET(DE100_7!$C$27,ROWS($C$27:C82)-1,COLUMNS($C$27:C82)-1),\"\")","v":214779.02},{"$f":"IF(OFFSET(DE100_7!$D$27,ROWS($D$27:D82)-1,COLUMNS($D$27:D82)-1)<>\"\",OFFSET(DE100_7!$D$27,ROWS($D$27:D82)-1,COLUMNS($D$27:D82)-1),\"\")","v":135},{"$f":"IF(OFFSET(DE100_7!$E$27,ROWS($E$27:E82)-1,COLUMNS($E$27:E82)-1)<>\"\",OFFSET(DE100_7!$E$27,ROWS($E$27:E82)-1,COLUMNS($E$27:E82)-1),\"\")","v":215169.96},{"$f":"IF(OFFSET(DE100_7!$F$27,ROWS($F$27:F82)-1,COLUMNS($F$27:F82)-1)<>\"\",OFFSET(DE100_7!$F$27,ROWS($F$27:F82)-1,COLUMNS($F$27:F82)-1),\"\")","v":165.99},{"$f":"IF(OFFSET(DE100_7!$G$27,ROWS($G$27:G82)-1,COLUMNS($G$27:G82)-1)<>\"\",OFFSET(DE100_7!$G$27,ROWS($G$27:G82)-1,COLUMNS($G$27:G82)-1),\"\")","v":"LT"},{"$f":"IF(OFFSET(DE100_7!$H$27,ROWS($H$27:H82)-1,COLUMNS($H$27:H82)-1)<>\"\",OFFSET(DE100_7!$H$27,ROWS($H$27:H82)-1,COLUMNS($H$27:H82)-1),\"\")","v":""},{"$f":"IF(OFFSET(DE100_7!$I$27,ROWS($I$27:I82)-1,COLUMNS($I$27:I82)-1)<>\"\",OFFSET(DE100_7!$I$27,ROWS($I$27:I82)-1,COLUMNS($I$27:I82)-1),\"\")","v":""},{"$f":"IF(OFFSET(DE100_7!$J$27,ROWS($J$27:J82)-1,COLUMNS($J$27:J82)-1)<>\"\",OFFSET(DE100_7!$J$27,ROWS($J$27:J82)-1,COLUMNS($J$27:J82)-1),\"\")","v":""},{"$f":"IF(OFFSET(DE100_7!$K$27,ROWS($K$27:K82)-1,COLUMNS($K$27:K82)-1)<>\"\",OFFSET(DE100_7!$K$27,ROWS($K$27:K82)-1,COLUMNS($K$27:K82)-1),\"\")","v":""},{"$f":"IF(OFFSET(DE100_7!$L$27,ROWS($L$27:L82)-1,COLUMNS($L$27:L82)-1)<>\"\",OFFSET(DE100_7!$L$27,ROWS($L$27:L82)-1,COLUMNS($L$27:L82)-1),\"\")","v":""},{"$f":"IF(OFFSET(DE100_7!$M$27,ROWS($M$27:M82)-1,COLUMNS($M$27:M82)-1)<>\"\",OFFSET(DE100_7!$M$27,ROWS($M$27:M82)-1,COLUMNS($M$27:M82)-1),\"\")","v":""},{"$f":"IF(OFFSET(DE100_7!$N$27,ROWS($N$27:N82)-1,COLUMNS($N$27:N82)-1)<>\"\",OFFSET(DE100_7!$N$27,ROWS($N$27:N82)-1,COLUMNS($N$27:N82)-1),\"\")","v":""},{"$f":"IF(OFFSET(DE100_7!$O$27,ROWS($O$27:O82)-1,COLUMNS($O$27:O82)-1)<>\"\",OFFSET(DE100_7!$O$27,ROWS($O$27:O82)-1,COLUMNS($O$27:O82)-1),\"\")","v":""},{"$f":"IF(OFFSET(DE100_7!$P$27,ROWS($P$27:P82)-1,COLUMNS($P$27:P82)-1)<>\"\",OFFSET(DE100_7!$P$27,ROWS($P$27:P82)-1,COLUMNS($P$27:P82)-1),\"\")","v":391.6},{"$f":"IF(OFFSET(DE100_7!$Q$27,ROWS($Q$27:Q82)-1,COLUMNS($Q$27:Q82)-1)<>\"\",OFFSET(DE100_7!$Q$27,ROWS($Q$27:Q82)-1,COLUMNS($Q$27:Q82)-1),\"\")","v":6},{"$f":"IF(OFFSET(DE100_7!$R$27,ROWS($R$27:R82)-1,COLUMNS($R$27:R82)-1)<>\"\",OFFSET(DE100_7!$R$27,ROWS($R$27:R82)-1,COLUMNS($R$27:R82)-1),\"\")","v":""},{"$f":"IF(OFFSET(DE100_7!$S$27,ROWS($S$27:S82)-1,COLUMNS($S$27:S82)-1)<>\"\",OFFSET(DE100_7!$S$27,ROWS($S$27:S82)-1,COLUMNS($S$27:S82)-1),\"\")","v":""},{"$f":"IF(OFFSET(DE100_7!$T$27,ROWS($T$27:T82)-1,COLUMNS($T$27:T82)-1)<>\"\",OFFSET(DE100_7!$T$27,ROWS($T$27:T82)-1,COLUMNS($T$27:T82)-1),\"\")","v":""},{"$f":"IF(OFFSET(DE100_7!$U$27,ROWS($U$27:U82)-1,COLUMNS($U$27:U82)-1)<>\"\",OFFSET(DE100_7!$U$27,ROWS($U$27:U82)-1,COLUMNS($U$27:U82)-1),\"\")","v":""},{"$f":"IF(OFFSET(DE100_7!$V$27,ROWS($V$27:V82)-1,COLUMNS($V$27:V82)-1)<>\"\",OFFSET(DE100_7!$V$27,ROWS($V$27:V82)-1,COLUMNS($V$27:V82)-1),\"\")","v":""}]
[{"$f":"IF(OFFSET(DE100_7!$C$27,ROWS($C$27:C83)-1,COLUMNS($C$27:C83)-1)<>\"\",OFFSET(DE100_7!$C$27,ROWS($C$27:C83)-1,COLUMNS($C$27:C83)-1),\"\")","v":215169.96},{"$f":"IF(OFFSET(DE100_7!$D$27,ROWS($D$27:D83)-1,COLUMNS($D$27:D83)-1)<>\"\",OFFSET(DE100_7!$D$27,ROWS($D$27:D83)-1,COLUMNS($D$27:D83)-1),\"\")","v":165.99},{"$f":"IF(OFFSET(DE100_7!$E$27,ROWS($E$27:E83)-1,COLUMNS($E$27:E83)-1)<>\"\",OFFSET(DE100_7!$E$27,ROWS($E$27:E83)-1,COLUMNS($E$27:E83)-1),\"\")","v":215341.93},{"$f":"IF(OFFSET(DE100_7!$F$27,ROWS($F$27:F83)-1,COLUMNS($F$27:F83)-1)<>\"\",OFFSET(DE100_7!$F$27,ROWS($F$27:F83)-1,COLUMNS($F$27:F83)-1),\"\")","v":139},{"$f":"IF(OFFSET(DE100_7!$G$27,ROWS($G$27:G83)-1,COLUMNS($G$27:G83)-1)<>\"\",OFFSET(DE100_7!$G$27,ROWS($G$27:G83)-1,COLUMNS($G$27:G83)-1),\"\")","v":"LT"},{"$f":"IF(OFFSET(DE100_7!$H$27,ROWS($H$27:H83)-1,COLUMNS($H$27:H83)-1)<>\"\",OFFSET(DE100_7!$H$27,ROWS($H$27:H83)-1,COLUMNS($H$27:H83)-1),\"\")","v":""},{"$f":"IF(OFFSET(DE100_7!$I$27,ROWS($I$27:I83)-1,COLUMNS($I$27:I83)-1)<>\"\",OFFSET(DE100_7!$I$27,ROWS($I$27:I83)-1,COLUMNS($I$27:I83)-1),\"\")","v":""},{"$f":"IF(OFFSET(DE100_7!$J$27,ROWS($J$27:J83)-1,COLUMNS($J$27:J83)-1)<>\"\",OFFSET(DE100_7!$J$27,ROWS($J$27:J83)-1,COLUMNS($J$27:J83)-1),\"\")","v":""},{"$f":"IF(OFFSET(DE100_7!$K$27,ROWS($K$27:K83)-1,COLUMNS($K$27:K83)-1)<>\"\",OFFSET(DE100_7!$K$27,ROWS($K$27:K83)-1,COLUMNS($K$27:K83)-1),\"\")","v":""},{"$f":"IF(OFFSET(DE100_7!$L$27,ROWS($L$27:L83)-1,COLUMNS($L$27:L83)-1)<>\"\",OFFSET(DE100_7!$L$27,ROWS($L$27:L83)-1,COLUMNS($L$27:L83)-1),\"\")","v":""},{"$f":"IF(OFFSET(DE100_7!$M$27,ROWS($M$27:M83)-1,COLUMNS($M$27:M83)-1)<>\"\",OFFSET(DE100_7!$M$27,ROWS($M$27:M83)-1,COLUMNS($M$27:M83)-1),\"\")","v":""},{"$f":"IF(OFFSET(DE100_7!$N$27,ROWS($N$27:N83)-1,COLUMNS($N$27:N83)-1)<>\"\",OFFSET(DE100_7!$N$27,ROWS($N$27:N83)-1,COLUMNS($N$27:N83)-1),\"\")","v":""},{"$f":"IF(OFFSET(DE100_7!$O$27,ROWS($O$27:O83)-1,COLUMNS($O$27:O83)-1)<>\"\",OFFSET(DE100_7!$O$27,ROWS($O$27:O83)-1,COLUMNS($O$27:O83)-1),\"\")","v":""},{"$f":"IF(OFFSET(DE100_7!$P$27,ROWS($P$27:P83)-1,COLUMNS($P$27:P83)-1)<>\"\",OFFSET(DE100_7!$P$27,ROWS($P$27:P83)-1,COLUMNS($P$27:P83)-1),\"\")","v":174.1},{"$f":"IF(OFFSET(DE100_7!$Q$27,ROWS($Q$27:Q83)-1,COLUMNS($Q$27:Q83)-1)<>\"\",OFFSET(DE100_7!$Q$27,ROWS($Q$27:Q83)-1,COLUMNS($Q$27:Q83)-1),\"\")","v":6},{"$f":"IF(OFFSET(DE100_7!$R$27,ROWS($R$27:R83)-1,COLUMNS($R$27:R83)-1)<>\"\",OFFSET(DE100_7!$R$27,ROWS($R$27:R83)-1,COLUMNS($R$27:R83)-1),\"\")","v":""},{"$f":"IF(OFFSET(DE100_7!$S$27,ROWS($S$27:S83)-1,COLUMNS($S$27:S83)-1)<>\"\",OFFSET(DE100_7!$S$27,ROWS($S$27:S83)-1,COLUMNS($S$27:S83)-1),\"\")","v":""},{"$f":"IF(OFFSET(DE100_7!$T$27,ROWS($T$27:T83)-1,COLUMNS($T$27:T83)-1)<>\"\",OFFSET(DE100_7!$T$27,ROWS($T$27:T83)-1,COLUMNS($T$27:T83)-1),\"\")","v":""},{"$f":"IF(OFFSET(DE100_7!$U$27,ROWS($U$27:U83)-1,COLUMNS($U$27:U83)-1)<>\"\",OFFSET(DE100_7!$U$27,ROWS($U$27:U83)-1,COLUMNS($U$27:U83)-1),\"\")","v":""},{"$f":"IF(OFFSET(DE100_7!$V$27,ROWS($V$27:V83)-1,COLUMNS($V$27:V83)-1)<>\"\",OFFSET(DE100_7!$V$27,ROWS($V$27:V83)-1,COLUMNS($V$27:V83)-1),\"\")","v":""}]
[{"$f":"IF(OFFSET(DE100_7!$C$27,ROWS($C$27:C84)-1,COLUMNS($C$27:C84)-1)<>\"\",OFFSET(DE100_7!$C$27,ROWS($C$27:C84)-1,COLUMNS($C$27:C84)-1),\"\")","v":215341.93},{"$f":"IF(OFFSET(DE100_7!$D$27,ROWS($D$27:D84)-1,COLUMNS($D$27:D84)-1)<>\"\",OFFSET(DE100_7!$D$27,ROWS($D$27:D84)-1,COLUMNS($D$27:D84)-1),\"\")","v":139},{"$f":"IF(OFFSET(DE100_7!$E$27,ROWS($E$27:E84)-1,COLUMNS($E$27:E84)-1)<>\"\",OFFSET(DE100_7!$E$27,ROWS($E$27:E84)-1,COLUMNS($E$27:E84)-1),\"\")","v":216301.99},{"$f":"IF(OFFSET(DE100_7!$F$27,ROWS($F$27:F84)-1,COLUMNS($F$27:F84)-1)<>\"\",OFFSET(DE100_7!$F$27,ROWS($F$27:F84)-1,COLUMNS($F$27:F84)-1),\"\")","v":163},{"$f":"IF(OFFSET(DE100_7!$G$27,ROWS($G$27:G84)-1,COLUMNS($G$27:G84)-1)<>\"\",OFFSET(DE100_7!$G$27,ROWS($G$27:G84)-1,COLUMNS($G$27:G84)-1),\"\")","v":"LT"},{"$f":"IF(OFFSET(DE100_7!$H$27,ROWS($H$27:H84)-1,COLUMNS($H$27:H84)-1)<>\"\",OFFSET(DE100_7!$H$27,ROWS($H$27:H84)-1,COLUMNS($H$27:H84)-1),\"\")","v":""},{"$f":"IF(OFFSET(DE100_7!$I$27,ROWS($I$27:I84)-1,COLUMNS($I$27:I84)-1)<>\"\",OFFSET(DE100_7!$I$27,ROWS($I$27:I84)-1,COLUMNS($I$27:I84)-1),\"\")","v":""},{"$f":"IF(OFFSET(DE100_7!$J$27,ROWS($J$27:J84)-1,COLUMNS($J$27:J84)-1)<>\"\",OFFSET(DE100_7!$J$27,ROWS($J$27:J84)-1,COLUMNS($J$27:J84)-1),\"\")","v":""},{"$f":"IF(OFFSET(DE100_7!$K$27,ROWS($K$27:K84)-1,COLUMNS($K$27:K84)-1)<>\"\",OFFSET(DE100_7!$K$27,ROWS($K$27:K84)-1,COLUMNS($K$27:K84)-1),\"\")","v":""},{"$f":"IF(OFFSET(DE100_7!$L$27,ROWS($L$27:L84)-1,COLUMNS($L$27:L84)-1)<>\"\",OFFSET(DE100_7!$L$27,ROWS($L$27:L84)-1,COLUMNS($L$27:L84)-1),\"\")","v":""},{"$f":"IF(OFFSET(DE100_7!$M$27,ROWS($M$27:M84)-1,COLUMNS($M$27:M84)-1)<>\"\",OFFSET(DE100_7!$M$27,ROWS($M$27:M84)-1,COLUMNS($M$27:M84)-1),\"\")","v":""},{"$f":"IF(OFFSET(DE100_7!$N$27,ROWS($N$27:N84)-1,COLUMNS($N$27:N84)-1)<>\"\",OFFSET(DE100_7!$N$27,ROWS($N$27:N84)-1,COLUMNS($N$27:N84)-1),\"\")","v":""},{"$f":"IF(OFFSET(DE100_7!$O$27,ROWS($O$27:O84)-1,COLUMNS($O$27:O84)-1)<>\"\",OFFSET(DE100_7!$O$27,ROWS($O$27:O84)-1,COLUMNS($O$27:O84)-1),\"\")","v":""},{"$f":"IF(OFFSET(DE100_7!$P$27,ROWS($P$27:P84)-1,COLUMNS($P$27:P84)-1)<>\"\",OFFSET(DE100_7!$P$27,ROWS($P$27:P84)-1,COLUMNS($P$27:P84)-1),\"\")","v":960.4},{"$f":"IF(OFFSET(DE100_7!$Q$27,ROWS($Q$27:Q84)-1,COLUMNS($Q$27:Q84)-1)<>\"\",OFFSET(DE100_7!$Q$27,ROWS($Q$27:Q84)-1,COLUMNS($Q$27:Q84)-1),\"\")","v":8},{"$f":"IF(OFFSET(DE100_7!$R$27,ROWS($R$27:R84)-1,COLUMNS($R$27:R84)-1)<>\"\",OFFSET(DE100_7!$R$27,ROWS($R$27:R84)-1,COLUMNS($R$27:R84)-1),\"\")","v":""},{"$f":"IF(OFFSET(DE100_7!$S$27,ROWS($S$27:S84)-1,COLUMNS($S$27:S84)-1)<>\"\",OFFSET(DE100_7!$S$27,ROWS($S$27:S84)-1,COLUMNS($S$27:S84)-1),\"\")","v":""},{"$f":"IF(OFFSET(DE100_7!$T$27,ROWS($T$27:T84)-1,COLUMNS($T$27:T84)-1)<>\"\",OFFSET(DE100_7!$T$27,ROWS($T$27:T84)-1,COLUMNS($T$27:T84)-1),\"\")","v":""},{"$f":"IF(OFFSET(DE100_7!$U$27,ROWS($U$27:U84)-1,COLUMNS($U$27:U84)-1)<>\"\",OFFSET(DE100_7!$U$27,ROWS($U$27:U84)-1,COLUMNS($U$27:U84)-1),\"\")","v":""},{"$f":"IF(OFFSET(DE100_7!$V$27,ROWS($V$27:V84)-1,COLUMNS($V$27:V84)-1)<>\"\",OFFSET(DE100_7!$V$27,ROWS($V$27:V84)-1,COLUMNS($V$27:V84)-1),\"\")","v":""}]
[{"$f":"IF(OFFSET(DE100_7!$C$27,ROWS($C$27:C85)-1,COLUMNS($C$27:C85)-1)<>\"\",OFFSET(DE100_7!$C$27,ROWS($C$27:C85)-1,COLUMNS($C$27:C85)-1),\"\")","v":216301.99},{"$f":"IF(OFFSET(DE100_7!$D$27,ROWS($D$27:D85)-1,COLUMNS($D$27:D85)-1)<>\"\",OFFSET(DE100_7!$D$27,ROWS($D$27:D85)-1,COLUMNS($D$27:D85)-1),\"\")","v":163},{"$f":"IF(OFFSET(DE100_7!$E$27,ROWS($E$27:E85)-1,COLUMNS($E$27:E85)-1)<>\"\",OFFSET(DE100_7!$E$27,ROWS($E$27:E85)-1,COLUMNS($E$27:E85)-1),\"\")","v":216492.4},{"$f":"IF(OFFSET(DE100_7!$F$27,ROWS($F$27:F85)-1,COLUMNS($F$27:F85)-1)<>\"\",OFFSET(DE100_7!$F$27,ROWS($F$27:F85)-1,COLUMNS($F$27:F85)-1),\"\")","v":153},{"$f":"IF(OFFSET(DE100_7!$G$27,ROWS($G$27:G85)-1,COLUMNS($G$27:G85)-1)<>\"\",OFFSET(DE100_7!$G$27,ROWS($G$27:G85)-1,COLUMNS($G$27:G85)-1),\"\")","v":"LT"},{"$f":"IF(OFFSET(DE100_7!$H$27,ROWS($H$27:H85)-1,COLUMNS($H$27:H85)-1)<>\"\",OFFSET(DE100_7!$H$27,ROWS($H$27:H85)-1,COLUMNS($H$27:H85)-1),\"\")","v":""},{"$f":"IF(OFFSET(DE100_7!$I$27,ROWS($I$27:I85)-1,COLUMNS($I$27:I85)-1)<>\"\",OFFSET(DE100_7!$I$27,ROWS($I$27:I85)-1,COLUMNS($I$27:I85)-1),\"\")","v":""},{"$f":"IF(OFFSET(DE100_7!$J$27,ROWS($J$27:J85)-1,COLUMNS($J$27:J85)-1)<>\"\",OFFSET(DE100_7!$J$27,ROWS($J$27:J85)-1,COLUMNS($J$27:J85)-1),\"\")","v":""},{"$f":"IF(OFFSET(DE100_7!$K$27,ROWS($K$27:K85)-1,COLUMNS($K$27:K85)-1)<>\"\",OFFSET(DE100_7!$K$27,ROWS($K$27:K85)-1,COLUMNS($K$27:K85)-1),\"\")","v":""},{"$f":"IF(OFFSET(DE100_7!$L$27,ROWS($L$27:L85)-1,COLUMNS($L$27:L85)-1)<>\"\",OFFSET(DE100_7!$L$27,ROWS($L$27:L85)-1,COLUMNS($L$27:L85)-1),\"\")","v":""},{"$f":"IF(OFFSET(DE100_7!$M$27,ROWS($M$27:M85)-1,COLUMNS($M$27:M85)-1)<>\"\",OFFSET(DE100_7!$M$27,ROWS($M$27:M85)-1,COLUMNS($M$27:M85)-1),\"\")","v":""},{"$f":"IF(OFFSET(DE100_7!$N$27,ROWS($N$27:N85)-1,COLUMNS($N$27:N85)-1)<>\"\",OFFSET(DE100_7!$N$27,ROWS($N$27:N85)-1,COLUMNS($N$27:N85)-1),\"\")","v":""},{"$f":"IF(OFFSET(DE100_7!$O$27,ROWS($O$27:O85)-1,COLUMNS($O$27:O85)-1)<>\"\",OFFSET(DE100_7!$O$27,ROWS($O$27:O85)-1,COLUMNS($O$27:O85)-1),\"\")","v":""},{"$f":"IF(OFFSET(DE100_7!$P$27,ROWS($P$27:P85)-1,COLUMNS($P$27:P85)-1)<>\"\",OFFSET(DE100_7!$P$27,ROWS($P$27:P85)-1,COLUMNS($P$27:P85)-1),\"\")","v":190.7},{"$f":"IF(OFFSET(DE100_7!$Q$27,ROWS($Q$27:Q85)-1,COLUMNS($Q$27:Q85)-1)<>\"\",OFFSET(DE100_7!$Q$27,ROWS($Q$27:Q85)-1,COLUMNS($Q$27:Q85)-1),\"\")","v":5},{"$f":"IF(OFFSET(DE100_7!$R$27,ROWS($R$27:R85)-1,COLUMNS($R$27:R85)-1)<>\"\",OFFSET(DE100_7!$R$27,ROWS($R$27:R85)-1,COLUMNS($R$27:R85)-1),\"\")","v":""},{"$f":"IF(OFFSET(DE100_7!$S$27,ROWS($S$27:S85)-1,COLUMNS($S$27:S85)-1)<>\"\",OFFSET(DE100_7!$S$27,ROWS($S$27:S85)-1,COLUMNS($S$27:S85)-1),\"\")","v":""},{"$f":"IF(OFFSET(DE100_7!$T$27,ROWS($T$27:T85)-1,COLUMNS($T$27:T85)-1)<>\"\",OFFSET(DE100_7!$T$27,ROWS($T$27:T85)-1,COLUMNS($T$27:T85)-1),\"\")","v":""},{"$f":"IF(OFFSET(DE100_7!$U$27,ROWS($U$27:U85)-1,COLUMNS($U$27:U85)-1)<>\"\",OFFSET(DE100_7!$U$27,ROWS($U$27:U85)-1,COLUMNS($U$27:U85)-1),\"\")","v":""},{"$f":"IF(OFFSET(DE100_7!$V$27,ROWS($V$27:V85)-1,COLUMNS($V$27:V85)-1)<>\"\",OFFSET(DE100_7!$V$27,ROWS($V$27:V85)-1,COLUMNS($V$27:V85)-1),\"\")","v":""}]
[{"$f":"IF(OFFSET(DE100_7!$C$27,ROWS($C$27:C86)-1,COLUMNS($C$27:C86)-1)<>\"\",OFFSET(DE100_7!$C$27,ROWS($C$27:C86)-1,COLUMNS($C$27:C86)-1),\"\")","v":"Gap for Heart of Iowa Trail"},null,null,{"$f":"IF(OFFSET(DE100_7!$F$27,ROWS($F$27:F86)-1,COLUMNS($F$27:F86)-1)<>\"\",OFFSET(DE100_7!$F$27,ROWS($F$27:F86)-1,COLUMNS($F$27:F86)-1),\"\")","v":""},{"$f":"IF(OFFSET(DE100_7!$G$27,ROWS($G$27:G86)-1,COLUMNS($G$27:G86)-1)<>\"\",OFFSET(DE100_7!$G$27,ROWS($G$27:G86)-1,COLUMNS($G$27:G86)-1),\"\")","v":""},{"$f":"IF(OFFSET(DE100_7!$H$27,ROWS($H$27:H86)-1,COLUMNS($H$27:H86)-1)<>\"\",OFFSET(DE100_7!$H$27,ROWS($H$27:H86)-1,COLUMNS($H$27:H86)-1),\"\")","v":""},{"$f":"IF(OFFSET(DE100_7!$I$27,ROWS($I$27:I86)-1,COLUMNS($I$27:I86)-1)<>\"\",OFFSET(DE100_7!$I$27,ROWS($I$27:I86)-1,COLUMNS($I$27:I86)-1),\"\")","v":""},{"$f":"IF(OFFSET(DE100_7!$J$27,ROWS($J$27:J86)-1,COLUMNS($J$27:J86)-1)<>\"\",OFFSET(DE100_7!$J$27,ROWS($J$27:J86)-1,COLUMNS($J$27:J86)-1),\"\")","v":""},{"$f":"IF(OFFSET(DE100_7!$K$27,ROWS($K$27:K86)-1,COLUMNS($K$27:K86)-1)<>\"\",OFFSET(DE100_7!$K$27,ROWS($K$27:K86)-1,COLUMNS($K$27:K86)-1),\"\")","v":""},{"$f":"IF(OFFSET(DE100_7!$L$27,ROWS($L$27:L86)-1,COLUMNS($L$27:L86)-1)<>\"\",OFFSET(DE100_7!$L$27,ROWS($L$27:L86)-1,COLUMNS($L$27:L86)-1),\"\")","v":""},{"$f":"IF(OFFSET(DE100_7!$M$27,ROWS($M$27:M86)-1,COLUMNS($M$27:M86)-1)<>\"\",OFFSET(DE100_7!$M$27,ROWS($M$27:M86)-1,COLUMNS($M$27:M86)-1),\"\")","v":""},{"$f":"IF(OFFSET(DE100_7!$N$27,ROWS($N$27:N86)-1,COLUMNS($N$27:N86)-1)<>\"\",OFFSET(DE100_7!$N$27,ROWS($N$27:N86)-1,COLUMNS($N$27:N86)-1),\"\")","v":""},{"$f":"IF(OFFSET(DE100_7!$O$27,ROWS($O$27:O86)-1,COLUMNS($O$27:O86)-1)<>\"\",OFFSET(DE100_7!$O$27,ROWS($O$27:O86)-1,COLUMNS($O$27:O86)-1),\"\")","v":""},{"$f":"IF(OFFSET(DE100_7!$P$27,ROWS($P$27:P86)-1,COLUMNS($P$27:P86)-1)<>\"\",OFFSET(DE100_7!$P$27,ROWS($P$27:P86)-1,COLUMNS($P$27:P86)-1),\"\")","v":""},{"$f":"IF(OFFSET(DE100_7!$Q$27,ROWS($Q$27:Q86)-1,COLUMNS($Q$27:Q86)-1)<>\"\",OFFSET(DE100_7!$Q$27,ROWS($Q$27:Q86)-1,COLUMNS($Q$27:Q86)-1),\"\")","v":""},{"$f":"IF(OFFSET(DE100_7!$R$27,ROWS($R$27:R86)-1,COLUMNS($R$27:R86)-1)<>\"\",OFFSET(DE100_7!$R$27,ROWS($R$27:R86)-1,COLUMNS($R$27:R86)-1),\"\")","v":""},{"$f":"IF(OFFSET(DE100_7!$S$27,ROWS($S$27:S86)-1,COLUMNS($S$27:S86)-1)<>\"\",OFFSET(DE100_7!$S$27,ROWS($S$27:S86)-1,COLUMNS($S$27:S86)-1),\"\")","v":""},{"$f":"IF(OFFSET(DE100_7!$T$27,ROWS($T$27:T86)-1,COLUMNS($T$27:T86)-1)<>\"\",OFFSET(DE100_7!$T$27,ROWS($T$27:T86)-1,COLUMNS($T$27:T86)-1),\"\")","v":""},{"$f":"IF(OFFSET(DE100_7!$U$27,ROWS($U$27:U86)-1,COLUMNS($U$27:U86)-1)<>\"\",OFFSET(DE100_7!$U$27,ROWS($U$27:U86)-1,COLUMNS($U$27:U86)-1),\"\")","v":""},{"$f":"IF(OFFSET(DE100_7!$V$27,ROWS($V$27:V86)-1,COLUMNS($V$27:V86)-1)<>\"\",OFFSET(DE100_7!$V$27,ROWS($V$27:V86)-1,COLUMNS($V$27:V86)-1),\"\")","v":""}]
[{"$f":"IF(OFFSET(DE100_7!$C$27,ROWS($C$27:C87)-1,COLUMNS($C$27:C87)-1)<>\"\",OFFSET(DE100_7!$C$27,ROWS($C$27:C87)-1,COLUMNS($C$27:C87)-1),\"\")","v":216632.55},{"$f":"IF(OFFSET(DE100_7!$D$27,ROWS($D$27:D87)-1,COLUMNS($D$27:D87)-1)<>\"\",OFFSET(DE100_7!$D$27,ROWS($D$27:D87)-1,COLUMNS($D$27:D87)-1),\"\")","v":151},{"$f":"IF(OFFSET(DE100_7!$E$27,ROWS($E$27:E87)-1,COLUMNS($E$27:E87)-1)<>\"\",OFFSET(DE100_7!$E$27,ROWS($E$27:E87)-1,COLUMNS($E$27:E87)-1),\"\")","v":217010.27},{"$f":"IF(OFFSET(DE100_7!$F$27,ROWS($F$27:F87)-1,COLUMNS($F$27:F87)-1)<>\"\",OFFSET(DE100_7!$F$27,ROWS($F$27:F87)-1,COLUMNS($F$27:F87)-1),\"\")","v":162},{"$f":"IF(OFFSET(DE100_7!$G$27,ROWS($G$27:G87)-1,COLUMNS($G$27:G87)-1)<>\"\",OFFSET(DE100_7!$G$27,ROWS($G$27:G87)-1,COLUMNS($G$27:G87)-1),\"\")","v":"LT"},{"$f":"IF(OFFSET(DE100_7!$H$27,ROWS($H$27:H87)-1,COLUMNS($H$27:H87)-1)<>\"\",OFFSET(DE100_7!$H$27,ROWS($H$27:H87)-1,COLUMNS($H$27:H87)-1),\"\")","v":""},{"$f":"IF(OFFSET(DE100_7!$I$27,ROWS($I$27:I87)-1,COLUMNS($I$27:I87)-1)<>\"\",OFFSET(DE100_7!$I$27,ROWS($I$27:I87)-1,COLUMNS($I$27:I87)-1),\"\")","v":""},{"$f":"IF(OFFSET(DE100_7!$J$27,ROWS($J$27:J87)-1,COLUMNS($J$27:J87)-1)<>\"\",OFFSET(DE100_7!$J$27,ROWS($J$27:J87)-1,COLUMNS($J$27:J87)-1),\"\")","v":""},{"$f":"IF(OFFSET(DE100_7!$K$27,ROWS($K$27:K87)-1,COLUMNS($K$27:K87)-1)<>\"\",OFFSET(DE100_7!$K$27,ROWS($K$27:K87)-1,COLUMNS($K$27:K87)-1),\"\")","v":""},{"$f":"IF(OFFSET(DE100_7!$L$27,ROWS($L$27:L87)-1,COLUMNS($L$27:L87)-1)<>\"\",OFFSET(DE100_7!$L$27,ROWS($L$27:L87)-1,COLUMNS($L$27:L87)-1),\"\")","v":""},{"$f":"IF(OFFSET(DE100_7!$M$27,ROWS($M$27:M87)-1,COLUMNS($M$27:M87)-1)<>\"\",OFFSET(DE100_7!$M$27,ROWS($M$27:M87)-1,COLUMNS($M$27:M87)-1),\"\")","v":""},{"$f":"IF(OFFSET(DE100_7!$N$27,ROWS($N$27:N87)-1,COLUMNS($N$27:N87)-1)<>\"\",OFFSET(DE100_7!$N$27,ROWS($N$27:N87)-1,COLUMNS($N$27:N87)-1),\"\")","v":""},{"$f":"IF(OFFSET(DE100_7!$O$27,ROWS($O$27:O87)-1,COLUMNS($O$27:O87)-1)<>\"\",OFFSET(DE100_7!$O$27,ROWS($O$27:O87)-1,COLUMNS($O$27:O87)-1),\"\")","v":""},{"$f":"IF(OFFSET(DE100_7!$P$27,ROWS($P$27:P87)-1,COLUMNS($P$27:P87)-1)<>\"\",OFFSET(DE100_7!$P$27,ROWS($P$27:P87)-1,COLUMNS($P$27:P87)-1),\"\")","v":377.9},{"$f":"IF(OFFSET(DE100_7!$Q$27,ROWS($Q$27:Q87)-1,COLUMNS($Q$27:Q87)-1)<>\"\",OFFSET(DE100_7!$Q$27,ROWS($Q$27:Q87)-1,COLUMNS($Q$27:Q87)-1),\"\")","v":5},{"$f":"IF(OFFSET(DE100_7!$R$27,ROWS($R$27:R87)-1,COLUMNS($R$27:R87)-1)<>\"\",OFFSET(DE100_7!$R$27,ROWS($R$27:R87)-1,COLUMNS($R$27:R87)-1),\"\")","v":""},{"$f":"IF(OFFSET(DE100_7!$S$27,ROWS($S$27:S87)-1,COLUMNS($S$27:S87)-1)<>\"\",OFFSET(DE100_7!$S$27,ROWS($S$27:S87)-1,COLUMNS($S$27:S87)-1),\"\")","v":""},{"$f":"IF(OFFSET(DE100_7!$T$27,ROWS($T$27:T87)-1,COLUMNS($T$27:T87)-1)<>\"\",OFFSET(DE100_7!$T$27,ROWS($T$27:T87)-1,COLUMNS($T$27:T87)-1),\"\")","v":""},{"$f":"IF(OFFSET(DE100_7!$U$27,ROWS($U$27:U87)-1,COLUMNS($U$27:U87)-1)<>\"\",OFFSET(DE100_7!$U$27,ROWS($U$27:U87)-1,COLUMNS($U$27:U87)-1),\"\")","v":""},{"$f":"IF(OFFSET(DE100_7!$V$27,ROWS($V$27:V87)-1,COLUMNS($V$27:V87)-1)<>\"\",OFFSET(DE100_7!$V$27,ROWS($V$27:V87)-1,COLUMNS($V$27:V87)-1),\"\")","v":""}]
[{"$f":"IF(OFFSET(DE100_7!$C$27,ROWS($C$27:C88)-1,COLUMNS($C$27:C88)-1)<>\"\",OFFSET(DE100_7!$C$27,ROWS($C$27:C88)-1,COLUMNS($C$27:C88)-1),\"\")","v":217010.27},{"$f":"IF(OFFSET(DE100_7!$D$27,ROWS($D$27:D88)-1,COLUMNS($D$27:D88)-1)<>\"\",OFFSET(DE100_7!$D$27,ROWS($D$27:D88)-1,COLUMNS($D$27:D88)-1),\"\")","v":162.01},{"$f":"IF(OFFSET(DE100_7!$E$27,ROWS($E$27:E88)-1,COLUMNS($E$27:E88)-1)<>\"\",OFFSET(DE100_7!$E$27,ROWS($E$27:E88)-1,COLUMNS($E$27:E88)-1),\"\")","v":217212.23},{"$f":"IF(OFFSET(DE100_7!$F$27,ROWS($F$27:F88)-1,COLUMNS($F$27:F88)-1)<>\"\",OFFSET(DE100_7!$F$27,ROWS($F$27:F88)-1,COLUMNS($F$27:F88)-1),\"\")","v":270.99},{"$f":"IF(OFFSET(DE100_7!$G$27,ROWS($G$27:G88)-1,COLUMNS($G$27:G88)-1)<>\"\",OFFSET(DE100_7!$G$27,ROWS($G$27:G88)-1,COLUMNS($G$27:G88)-1),\"\")","v":"LT"},{"$f":"IF(OFFSET(DE100_7!$H$27,ROWS($H$27:H88)-1,COLUMNS($H$27:H88)-1)<>\"\",OFFSET(DE100_7!$H$27,ROWS($H$27:H88)-1,COLUMNS($H$27:H88)-1),\"\")","v":""},{"$f":"IF(OFFSET(DE100_7!$I$27,ROWS($I$27:I88)-1,COLUMNS($I$27:I88)-1)<>\"\",OFFSET(DE100_7!$I$27,ROWS($I$27:I88)-1,COLUMNS($I$27:I88)-1),\"\")","v":""},{"$f":"IF(OFFSET(DE100_7!$J$27,ROWS($J$27:J88)-1,COLUMNS($J$27:J88)-1)<>\"\",OFFSET(DE100_7!$J$27,ROWS($J$27:J88)-1,COLUMNS($J$27:J88)-1),\"\")","v":""},{"$f":"IF(OFFSET(DE100_7!$K$27,ROWS($K$27:K88)-1,COLUMNS($K$27:K88)-1)<>\"\",OFFSET(DE100_7!$K$27,ROWS($K$27:K88)-1,COLUMNS($K$27:K88)-1),\"\")","v":""},{"$f":"IF(OFFSET(DE100_7!$L$27,ROWS($L$27:L88)-1,COLUMNS($L$27:L88)-1)<>\"\",OFFSET(DE100_7!$L$27,ROWS($L$27:L88)-1,COLUMNS($L$27:L88)-1),\"\")","v":""},{"$f":"IF(OFFSET(DE100_7!$M$27,ROWS($M$27:M88)-1,COLUMNS($M$27:M88)-1)<>\"\",OFFSET(DE100_7!$M$27,ROWS($M$27:M88)-1,COLUMNS($M$27:M88)-1),\"\")","v":""},{"$f":"IF(OFFSET(DE100_7!$N$27,ROWS($N$27:N88)-1,COLUMNS($N$27:N88)-1)<>\"\",OFFSET(DE100_7!$N$27,ROWS($N$27:N88)-1,COLUMNS($N$27:N88)-1),\"\")","v":""},{"$f":"IF(OFFSET(DE100_7!$O$27,ROWS($O$27:O88)-1,COLUMNS($O$27:O88)-1)<>\"\",OFFSET(DE100_7!$O$27,ROWS($O$27:O88)-1,COLUMNS($O$27:O88)-1),\"\")","v":""},{"$f":"IF(OFFSET(DE100_7!$P$27,ROWS($P$27:P88)-1,COLUMNS($P$27:P88)-1)<>\"\",OFFSET(DE100_7!$P$27,ROWS($P$27:P88)-1,COLUMNS($P$27:P88)-1),\"\")","v":229.5},{"$f":"IF(OFFSET(DE100_7!$Q$27,ROWS($Q$27:Q88)-1,COLUMNS($Q$27:Q88)-1)<>\"\",OFFSET(DE100_7!$Q$27,ROWS($Q$27:Q88)-1,COLUMNS($Q$27:Q88)-1),\"\")","v":6},{"$f":"IF(OFFSET(DE100_7!$R$27,ROWS($R$27:R88)-1,COLUMNS($R$27:R88)-1)<>\"\",OFFSET(DE100_7!$R$27,ROWS($R$27:R88)-1,COLUMNS($R$27:R88)-1),\"\")","v":""},{"$f":"IF(OFFSET(DE100_7!$S$27,ROWS($S$27:S88)-1,COLUMNS($S$27:S88)-1)<>\"\",OFFSET(DE100_7!$S$27,ROWS($S$27:S88)-1,COLUMNS($S$27:S88)-1),\"\")","v":""},{"$f":"IF(OFFSET(DE100_7!$T$27,ROWS($T$27:T88)-1,COLUMNS($T$27:T88)-1)<>\"\",OFFSET(DE100_7!$T$27,ROWS($T$27:T88)-1,COLUMNS($T$27:T88)-1),\"\")","v":""},{"$f":"IF(OFFSET(DE100_7!$U$27,ROWS($U$27:U88)-1,COLUMNS($U$27:U88)-1)<>\"\",OFFSET(DE100_7!$U$27,ROWS($U$27:U88)-1,COLUMNS($U$27:U88)-1),\"\")","v":""},{"$f":"IF(OFFSET(DE100_7!$V$27,ROWS($V$27:V88)-1,COLUMNS($V$27:V88)-1)<>\"\",OFFSET(DE100_7!$V$27,ROWS($V$27:V88)-1,COLUMNS($V$27:V88)-1),\"\")","v":""}]
[{"$f":"IF(OFFSET(DE100_7!$C$27,ROWS($C$27:C89)-1,COLUMNS($C$27:C89)-1)<>\"\",OFFSET(DE100_7!$C$27,ROWS($C$27:C89)-1,COLUMNS($C$27:C89)-1),\"\")","v":217212.23},{"$f":"IF(OFFSET(DE100_7!$D$27,ROWS($D$27:D89)-1,COLUMNS($D$27:D89)-1)<>\"\",OFFSET(DE100_7!$D$27,ROWS($D$27:D89)-1,COLUMNS($D$27:D89)-1),\"\")","v":270.99},{"$f":"IF(OFFSET(DE100_7!$E$27,ROWS($E$27:E89)-1,COLUMNS($E$27:E89)-1)<>\"\",OFFSET(DE100_7!$E$27,ROWS($E$27:E89)-1,COLUMNS($E$27:E89)-1),\"\")","v":217629.94},{"$f":"IF(OFFSET(DE100_7!$F$27,ROWS($F$27:F89)-1,COLUMNS($F$27:F89)-1)<>\"\",OFFSET(DE100_7!$F$27,ROWS($F$27:F89)-1,COLUMNS($F$27:F89)-1),\"\")","v":249},{"$f":"IF(OFFSET(DE100_7!$G$27,ROWS($G$27:G89)-1,COLUMNS($G$27:G89)-1)<>\"\",OFFSET(DE100_7!$G$27,ROWS($G$27:G89)-1,COLUMNS($G$27:G89)-1),\"\")","v":"LT"},{"$f":"IF(OFFSET(DE100_7!$H$27,ROWS($H$27:H89)-1,COLUMNS($H$27:H89)-1)<>\"\",OFFSET(DE100_7!$H$27,ROWS($H$27:H89)-1,COLUMNS($H$27:H89)-1),\"\")","v":""},{"$f":"IF(OFFSET(DE100_7!$I$27,ROWS($I$27:I89)-1,COLUMNS($I$27:I89)-1)<>\"\",OFFSET(DE100_7!$I$27,ROWS($I$27:I89)-1,COLUMNS($I$27:I89)-1),\"\")","v":""},{"$f":"IF(OFFSET(DE100_7!$J$27,ROWS($J$27:J89)-1,COLUMNS($J$27:J89)-1)<>\"\",OFFSET(DE100_7!$J$27,ROWS($J$27:J89)-1,COLUMNS($J$27:J89)-1),\"\")","v":""},{"$f":"IF(OFFSET(DE100_7!$K$27,ROWS($K$27:K89)-1,COLUMNS($K$27:K89)-1)<>\"\",OFFSET(DE100_7!$K$27,ROWS($K$27:K89)-1,COLUMNS($K$27:K89)-1),\"\")","v":""},{"$f":"IF(OFFSET(DE100_7!$L$27,ROWS($L$27:L89)-1,COLUMNS($L$27:L89)-1)<>\"\",OFFSET(DE100_7!$L$27,ROWS($L$27:L89)-1,COLUMNS($L$27:L89)-1),\"\")","v":""},{"$f":"IF(OFFSET(DE100_7!$M$27,ROWS($M$27:M89)-1,COLUMNS($M$27:M89)-1)<>\"\",OFFSET(DE100_7!$M$27,ROWS($M$27:M89)-1,COLUMNS($M$27:M89)-1),\"\")","v":""},{"$f":"IF(OFFSET(DE100_7!$N$27,ROWS($N$27:N89)-1,COLUMNS($N$27:N89)-1)<>\"\",OFFSET(DE100_7!$N$27,ROWS($N$27:N89)-1,COLUMNS($N$27:N89)-1),\"\")","v":""},{"$f":"IF(OFFSET(DE100_7!$O$27,ROWS($O$27:O89)-1,COLUMNS($O$27:O89)-1)<>\"\",OFFSET(DE100_7!$O$27,ROWS($O$27:O89)-1,COLUMNS($O$27:O89)-1),\"\")","v":""},{"$f":"IF(OFFSET(DE100_7!$P$27,ROWS($P$27:P89)-1,COLUMNS($P$27:P89)-1)<>\"\",OFFSET(DE100_7!$P$27,ROWS($P$27:P89)-1,COLUMNS($P$27:P89)-1),\"\")","v":418.3},{"$f":"IF(OFFSET(DE100_7!$Q$27,ROWS($Q$27:Q89)-1,COLUMNS($Q$27:Q89)-1)<>\"\",OFFSET(DE100_7!$Q$27,ROWS($Q$27:Q89)-1,COLUMNS($Q$27:Q89)-1),\"\")","v":6},{"$f":"IF(OFFSET(DE100_7!$R$27,ROWS($R$27:R89)-1,COLUMNS($R$27:R89)-1)<>\"\",OFFSET(DE100_7!$R$27,ROWS($R$27:R89)-1,COLUMNS($R$27:R89)-1),\"\")","v":""},{"$f":"IF(OFFSET(DE100_7!$S$27,ROWS($S$27:S89)-1,COLUMNS($S$27:S89)-1)<>\"\",OFFSET(DE100_7!$S$27,ROWS($S$27:S89)-1,COLUMNS($S$27:S89)-1),\"\")","v":""},{"$f":"IF(OFFSET(DE100_7!$T$27,ROWS($T$27:T89)-1,COLUMNS($T$27:T89)-1)<>\"\",OFFSET(DE100_7!$T$27,ROWS($T$27:T89)-1,COLUMNS($T$27:T89)-1),\"\")","v":""},{"$f":"IF(OFFSET(DE100_7!$U$27,ROWS($U$27:U89)-1,COLUMNS($U$27:U89)-1)<>\"\",OFFSET(DE100_7!$U$27,ROWS($U$27:U89)-1,COLUMNS($U$27:U89)-1),\"\")","v":""},{"$f":"IF(OFFSET(DE100_7!$V$27,ROWS($V$27:V89)-1,COLUMNS($V$27:V89)-1)<>\"\",OFFSET(DE100_7!$V$27,ROWS($V$27:V89)-1,COLUMNS($V$27:V89)-1),\"\")","v":""}]
[{"$f":"IF(OFFSET(DE100_7!$C$27,ROWS($C$27:C90)-1,COLUMNS($C$27:C90)-1)<>\"\",OFFSET(DE100_7!$C$27,ROWS($C$27:C90)-1,COLUMNS($C$27:C90)-1),\"\")","v":217629.94},{"$f":"IF(OFFSET(DE100_7!$D$27,ROWS($D$27:D90)-1,COLUMNS($D$27:D90)-1)<>\"\",OFFSET(DE100_7!$D$27,ROWS($D$27:D90)-1,COLUMNS($D$27:D90)-1),\"\")","v":249},{"$f":"IF(OFFSET(DE100_7!$E$27,ROWS($E$27:E90)-1,COLUMNS($E$27:E90)-1)<>\"\",OFFSET(DE100_7!$E$27,ROWS($E$27:E90)-1,COLUMNS($E$27:E90)-1),\"\")","v":218046},{"$f":"IF(OFFSET(DE100_7!$F$27,ROWS($F$27:F90)-1,COLUMNS($F$27:F90)-1)<>\"\",OFFSET(DE100_7!$F$27,ROWS($F$27:F90)-1,COLUMNS($F$27:F90)-1),\"\")","v":224},{"$f":"IF(OFFSET(DE100_7!$G$27,ROWS($G$27:G90)-1,COLUMNS($G$27:G90)-1)<>\"\",OFFSET(DE100_7!$G$27,ROWS($G$27:G90)-1,COLUMNS($G$27:G90)-1),\"\")","v":"LT"},{"$f":"IF(OFFSET(DE100_7!$H$27,ROWS($H$27:H90)-1,COLUMNS($H$27:H90)-1)<>\"\",OFFSET(DE100_7!$H$27,ROWS($H$27:H90)-1,COLUMNS($H$27:H90)-1),\"\")","v":""},{"$f":"IF(OFFSET(DE100_7!$I$27,ROWS($I$27:I90)-1,COLUMNS($I$27:I90)-1)<>\"\",OFFSET(DE100_7!$I$27,ROWS($I$27:I90)-1,COLUMNS($I$27:I90)-1),\"\")","v":""},{"$f":"IF(OFFSET(DE100_7!$J$27,ROWS($J$27:J90)-1,COLUMNS($J$27:J90)-1)<>\"\",OFFSET(DE100_7!$J$27,ROWS($J$27:J90)-1,COLUMNS($J$27:J90)-1),\"\")","v":""},{"$f":"IF(OFFSET(DE100_7!$K$27,ROWS($K$27:K90)-1,COLUMNS($K$27:K90)-1)<>\"\",OFFSET(DE100_7!$K$27,ROWS($K$27:K90)-1,COLUMNS($K$27:K90)-1),\"\")","v":""},{"$f":"IF(OFFSET(DE100_7!$L$27,ROWS($L$27:L90)-1,COLUMNS($L$27:L90)-1)<>\"\",OFFSET(DE100_7!$L$27,ROWS($L$27:L90)-1,COLUMNS($L$27:L90)-1),\"\")","v":""},{"$f":"IF(OFFSET(DE100_7!$M$27,ROWS($M$27:M90)-1,COLUMNS($M$27:M90)-1)<>\"\",OFFSET(DE100_7!$M$27,ROWS($M$27:M90)-1,COLUMNS($M$27:M90)-1),\"\")","v":""},{"$f":"IF(OFFSET(DE100_7!$N$27,ROWS($N$27:N90)-1,COLUMNS($N$27:N90)-1)<>\"\",OFFSET(DE100_7!$N$27,ROWS($N$27:N90)-1,COLUMNS($N$27:N90)-1),\"\")","v":""},{"$f":"IF(OFFSET(DE100_7!$O$27,ROWS($O$27:O90)-1,COLUMNS($O$27:O90)-1)<>\"\",OFFSET(DE100_7!$O$27,ROWS($O$27:O90)-1,COLUMNS($O$27:O90)-1),\"\")","v":""},{"$f":"IF(OFFSET(DE100_7!$P$27,ROWS($P$27:P90)-1,COLUMNS($P$27:P90)-1)<>\"\",OFFSET(DE100_7!$P$27,ROWS($P$27:P90)-1,COLUMNS($P$27:P90)-1),\"\")","v":416.8},{"$f":"IF(OFFSET(DE100_7!$Q$27,ROWS($Q$27:Q90)-1,COLUMNS($Q$27:Q90)-1)<>\"\",OFFSET(DE100_7!$Q$27,ROWS($Q$27:Q90)-1,COLUMNS($Q$27:Q90)-1),\"\")","v":6},{"$f":"IF(OFFSET(DE100_7!$R$27,ROWS($R$27:R90)-1,COLUMNS($R$27:R90)-1)<>\"\",OFFSET(DE100_7!$R$27,ROWS($R$27:R90)-1,COLUMNS($R$27:R90)-1),\"\")","v":""},{"$f":"IF(OFFSET(DE100_7!$S$27,ROWS($S$27:S90)-1,COLUMNS($S$27:S90)-1)<>\"\",OFFSET(DE100_7!$S$27,ROWS($S$27:S90)-1,COLUMNS($S$27:S90)-1),\"\")","v":""},{"$f":"IF(OFFSET(DE100_7!$T$27,ROWS($T$27:T90)-1,COLUMNS($T$27:T90)-1)<>\"\",OFFSET(DE100_7!$T$27,ROWS($T$27:T90)-1,COLUMNS($T$27:T90)-1),\"\")","v":""},{"$f":"IF(OFFSET(DE100_7!$U$27,ROWS($U$27:U90)-1,COLUMNS($U$27:U90)-1)<>\"\",OFFSET(DE100_7!$U$27,ROWS($U$27:U90)-1,COLUMNS($U$27:U90)-1),\"\")","v":""},{"$f":"IF(OFFSET(DE100_7!$V$27,ROWS($V$27:V90)-1,COLUMNS($V$27:V90)-1)<>\"\",OFFSET(DE100_7!$V$27,ROWS($V$27:V90)-1,COLUMNS($V$27:V90)-1),\"\")","v":""}]
[{"$f":"IF(OFFSET(DE100_7!$C$27,ROWS($C$27:C91)-1,COLUMNS($C$27:C91)-1)<>\"\",OFFSET(DE100_7!$C$27,ROWS($C$27:C91)-1,COLUMNS($C$27:C91)-1),\"\")","v":218046},{"$f":"IF(OFFSET(DE100_7!$D$27,ROWS($D$27:D91)-1,COLUMNS($D$27:D91)-1)<>\"\",OFFSET(DE100_7!$D$27,ROWS($D$27:D91)-1,COLUMNS($D$27:D91)-1),\"\")","v":224},{"$f":"IF(OFFSET(DE100_7!$E$27,ROWS($E$27:E91)-1,COLUMNS($E$27:E91)-1)<>\"\",OFFSET(DE100_7!$E$27,ROWS($E$27:E91)-1,COLUMNS($E$27:E91)-1),\"\")","v":218653.52},{"$f":"IF(OFFSET(DE100_7!$F$27,ROWS($F$27:F91)-1,COLUMNS($F$27:F91)-1)<>\"\",OFFSET(DE100_7!$F$27,ROWS($F$27:F91)-1,COLUMNS($F$27:F91)-1),\"\")","v":262},{"$f":"IF(OFFSET(DE100_7!$G$27,ROWS($G$27:G91)-1,COLUMNS($G$27:G91)-1)<>\"\",OFFSET(DE100_7!$G$27,ROWS($G$27:G91)-1,COLUMNS($G$27:G91)-1),\"\")","v":"LT"},{"$f":"IF(OFFSET(DE100_7!$H$27,ROWS($H$27:H91)-1,COLUMNS($H$27:H91)-1)<>\"\",OFFSET(DE100_7!$H$27,ROWS($H$27:H91)-1,COLUMNS($H$27:H91)-1),\"\")","v":""},{"$f":"IF(OFFSET(DE100_7!$I$27,ROWS($I$27:I91)-1,COLUMNS($I$27:I91)-1)<>\"\",OFFSET(DE100_7!$I$27,ROWS($I$27:I91)-1,COLUMNS($I$27:I91)-1),\"\")","v":""},{"$f":"IF(OFFSET(DE100_7!$J$27,ROWS($J$27:J91)-1,COLUMNS($J$27:J91)-1)<>\"\",OFFSET(DE100_7!$J$27,ROWS($J$27:J91)-1,COLUMNS($J$27:J91)-1),\"\")","v":""},{"$f":"IF(OFFSET(DE100_7!$K$27,ROWS($K$27:K91)-1,COLUMNS($K$27:K91)-1)<>\"\",OFFSET(DE100_7!$K$27,ROWS($K$27:K91)-1,COLUMNS($K$27:K91)-1),\"\")","v":""},{"$f":"IF(OFFSET(DE100_7!$L$27,ROWS($L$27:L91)-1,COLUMNS($L$27:L91)-1)<>\"\",OFFSET(DE100_7!$L$27,ROWS($L$27:L91)-1,COLUMNS($L$27:L91)-1),\"\")","v":""},{"$f":"IF(OFFSET(DE100_7!$M$27,ROWS($M$27:M91)-1,COLUMNS($M$27:M91)-1)<>\"\",OFFSET(DE100_7!$M$27,ROWS($M$27:M91)-1,COLUMNS($M$27:M91)-1),\"\")","v":""},{"$f":"IF(OFFSET(DE100_7!$N$27,ROWS($N$27:N91)-1,COLUMNS($N$27:N91)-1)<>\"\",OFFSET(DE100_7!$N$27,ROWS($N$27:N91)-1,COLUMNS($N$27:N91)-1),\"\")","v":""},{"$f":"IF(OFFSET(DE100_7!$O$27,ROWS($O$27:O91)-1,COLUMNS($O$27:O91)-1)<>\"\",OFFSET(DE100_7!$O$27,ROWS($O$27:O91)-1,COLUMNS($O$27:O91)-1),\"\")","v":""},{"$f":"IF(OFFSET(DE100_7!$P$27,ROWS($P$27:P91)-1,COLUMNS($P$27:P91)-1)<>\"\",OFFSET(DE100_7!$P$27,ROWS($P$27:P91)-1,COLUMNS($P$27:P91)-1),\"\")","v":611.4},{"$f":"IF(OFFSET(DE100_7!$Q$27,ROWS($Q$27:Q91)-1,COLUMNS($Q$27:Q91)-1)<>\"\",OFFSET(DE100_7!$Q$27,ROWS($Q$27:Q91)-1,COLUMNS($Q$27:Q91)-1),\"\")","v":6},{"$f":"IF(OFFSET(DE100_7!$R$27,ROWS($R$27:R91)-1,COLUMNS($R$27:R91)-1)<>\"\",OFFSET(DE100_7!$R$27,ROWS($R$27:R91)-1,COLUMNS($R$27:R91)-1),\"\")","v":""},{"$f":"IF(OFFSET(DE100_7!$S$27,ROWS($S$27:S91)-1,COLUMNS($S$27:S91)-1)<>\"\",OFFSET(DE100_7!$S$27,ROWS($S$27:S91)-1,COLUMNS($S$27:S91)-1),\"\")","v":""},{"$f":"IF(OFFSET(DE100_7!$T$27,ROWS($T$27:T91)-1,COLUMNS($T$27:T91)-1)<>\"\",OFFSET(DE100_7!$T$27,ROWS($T$27:T91)-1,COLUMNS($T$27:T91)-1),\"\")","v":""},{"$f":"IF(OFFSET(DE100_7!$U$27,ROWS($U$27:U91)-1,COLUMNS($U$27:U91)-1)<>\"\",OFFSET(DE100_7!$U$27,ROWS($U$27:U91)-1,COLUMNS($U$27:U91)-1),\"\")","v":""},{"$f":"IF(OFFSET(DE100_7!$V$27,ROWS($V$27:V91)-1,COLUMNS($V$27:V91)-1)<>\"\",OFFSET(DE100_7!$V$27,ROWS($V$27:V91)-1,COLUMNS($V$27:V91)-1),\"\")","v":""}]
[{"$f":"IF(OFFSET(DE100_7!$C$27,ROWS($C$27:C92)-1,COLUMNS($C$27:C92)-1)<>\"\",OFFSET(DE100_7!$C$27,ROWS($C$27:C92)-1,COLUMNS($C$27:C92)-1),\"\")","v":218653.52},{"$f":"IF(OFFSET(DE100_7!$D$27,ROWS($D$27:D92)-1,COLUMNS($D$27:D92)-1)<>\"\",OFFSET(DE100_7!$D$27,ROWS($D$27:D92)-1,COLUMNS($D$27:D92)-1),\"\")","v":262},{"$f":"IF(OFFSET(DE100_7!$E$27,ROWS($E$27:E92)-1,COLUMNS($E$27:E92)-1)<>\"\",OFFSET(DE100_7!$E$27,ROWS($E$27:E92)-1,COLUMNS($E$27:E92)-1),\"\")","v":218690.92},{"$f":"IF(OFFSET(DE100_7!$F$27,ROWS($F$27:F92)-1,COLUMNS($F$27:F92)-1)<>\"\",OFFSET(DE100_7!$F$27,ROWS($F$27:F92)-1,COLUMNS($F$27:F92)-1),\"\")","v":263},{"$f":"IF(OFFSET(DE100_7!$G$27,ROWS($G$27:G92)-1,COLUMNS($G$27:G92)-1)<>\"\",OFFSET(DE100_7!$G$27,ROWS($G$27:G92)-1,COLUMNS($G$27:G92)-1),\"\")","v":"LT"},{"$f":"IF(OFFSET(DE100_7!$H$27,ROWS($H$27:H92)-1,COLUMNS($H$27:H92)-1)<>\"\",OFFSET(DE100_7!$H$27,ROWS($H$27:H92)-1,COLUMNS($H$27:H92)-1),\"\")","v":""},{"$f":"IF(OFFSET(DE100_7!$I$27,ROWS($I$27:I92)-1,COLUMNS($I$27:I92)-1)<>\"\",OFFSET(DE100_7!$I$27,ROWS($I$27:I92)-1,COLUMNS($I$27:I92)-1),\"\")","v":""},{"$f":"IF(OFFSET(DE100_7!$J$27,ROWS($J$27:J92)-1,COLUMNS($J$27:J92)-1)<>\"\",OFFSET(DE100_7!$J$27,ROWS($J$27:J92)-1,COLUMNS($J$27:J92)-1),\"\")","v":""},{"$f":"IF(OFFSET(DE100_7!$K$27,ROWS($K$27:K92)-1,COLUMNS($K$27:K92)-1)<>\"\",OFFSET(DE100_7!$K$27,ROWS($K$27:K92)-1,COLUMNS($K$27:K92)-1),\"\")","v":""},{"$f":"IF(OFFSET(DE100_7!$L$27,ROWS($L$27:L92)-1,COLUMNS($L$27:L92)-1)<>\"\",OFFSET(DE100_7!$L$27,ROWS($L$27:L92)-1,COLUMNS($L$27:L92)-1),\"\")","v":""},{"$f":"IF(OFFSET(DE100_7!$M$27,ROWS($M$27:M92)-1,COLUMNS($M$27:M92)-1)<>\"\",OFFSET(DE100_7!$M$27,ROWS($M$27:M92)-1,COLUMNS($M$27:M92)-1),\"\")","v":""},{"$f":"IF(OFFSET(DE100_7!$N$27,ROWS($N$27:N92)-1,COLUMNS($N$27:N92)-1)<>\"\",OFFSET(DE100_7!$N$27,ROWS($N$27:N92)-1,COLUMNS($N$27:N92)-1),\"\")","v":""},{"$f":"IF(OFFSET(DE100_7!$O$27,ROWS($O$27:O92)-1,COLUMNS($O$27:O92)-1)<>\"\",OFFSET(DE100_7!$O$27,ROWS($O$27:O92)-1,COLUMNS($O$27:O92)-1),\"\")","v":""},{"$f":"IF(OFFSET(DE100_7!$P$27,ROWS($P$27:P92)-1,COLUMNS($P$27:P92)-1)<>\"\",OFFSET(DE100_7!$P$27,ROWS($P$27:P92)-1,COLUMNS($P$27:P92)-1),\"\")","v":37.984999999999999},{"$f":"IF(OFFSET(DE100_7!$Q$27,ROWS($Q$27:Q92)-1,COLUMNS($Q$27:Q92)-1)<>\"\",OFFSET(DE100_7!$Q$27,ROWS($Q$27:Q92)-1,COLUMNS($Q$27:Q92)-1),\"\")","v":3},{"$f":"IF(OFFSET(DE100_7!$R$27,ROWS($R$27:R92)-1,COLUMNS($R$27:R92)-1)<>\"\",OFFSET(DE100_7!$R$27,ROWS($R$27:R92)-1,COLUMNS($R$27:R92)-1),\"\")","v":""},{"$f":"IF(OFFSET(DE100_7!$S$27,ROWS($S$27:S92)-1,COLUMNS($S$27:S92)-1)<>\"\",OFFSET(DE100_7!$S$27,ROWS($S$27:S92)-1,COLUMNS($S$27:S92)-1),\"\")","v":""},{"$f":"IF(OFFSET(DE100_7!$T$27,ROWS($T$27:T92)-1,COLUMNS($T$27:T92)-1)<>\"\",OFFSET(DE100_7!$T$27,ROWS($T$27:T92)-1,COLUMNS($T$27:T92)-1),\"\")","v":""},{"$f":"IF(OFFSET(DE100_7!$U$27,ROWS($U$27:U92)-1,COLUMNS($U$27:U92)-1)<>\"\",OFFSET(DE100_7!$U$27,ROWS($U$27:U92)-1,COLUMNS($U$27:U92)-1),\"\")","v":""},{"$f":"IF(OFFSET(DE100_7!$V$27,ROWS($V$27:V92)-1,COLUMNS($V$27:V92)-1)<>\"\",OFFSET(DE100_7!$V$27,ROWS($V$27:V92)-1,COLUMNS($V$27:V92)-1),\"\")","v":""}]
[{"$f":"IF(OFFSET(DE100_7!$C$27,ROWS($C$27:C93)-1,COLUMNS($C$27:C93)-1)<>\"\",OFFSET(DE100_7!$C$27,ROWS($C$27:C93)-1,COLUMNS($C$27:C93)-1),\"\")","v":""},{"$f":"IF(OFFSET(DE100_7!$D$27,ROWS($D$27:D93)-1,COLUMNS($D$27:D93)-1)<>\"\",OFFSET(DE100_7!$D$27,ROWS($D$27:D93)-1,COLUMNS($D$27:D93)-1),\"\")","v":""},{"$f":"IF(OFFSET(DE100_7!$E$27,ROWS($E$27:E93)-1,COLUMNS($E$27:E93)-1)<>\"\",OFFSET(DE100_7!$E$27,ROWS($E$27:E93)-1,COLUMNS($E$27:E93)-1),\"\")","v":""},{"$f":"IF(OFFSET(DE100_7!$F$27,ROWS($F$27:F93)-1,COLUMNS($F$27:F93)-1)<>\"\",OFFSET(DE100_7!$F$27,ROWS($F$27:F93)-1,COLUMNS($F$27:F93)-1),\"\")","v":""},{"$f":"IF(OFFSET(DE100_7!$G$27,ROWS($G$27:G93)-1,COLUMNS($G$27:G93)-1)<>\"\",OFFSET(DE100_7!$G$27,ROWS($G$27:G93)-1,COLUMNS($G$27:G93)-1),\"\")","v":""},{"$f":"IF(OFFSET(DE100_7!$H$27,ROWS($H$27:H93)-1,COLUMNS($H$27:H93)-1)<>\"\",OFFSET(DE100_7!$H$27,ROWS($H$27:H93)-1,COLUMNS($H$27:H93)-1),\"\")","v":""},{"$f":"IF(OFFSET(DE100_7!$I$27,ROWS($I$27:I93)-1,COLUMNS($I$27:I93)-1)<>\"\",OFFSET(DE100_7!$I$27,ROWS($I$27:I93)-1,COLUMNS($I$27:I93)-1),\"\")","v":""},{"$f":"IF(OFFSET(DE100_7!$J$27,ROWS($J$27:J93)-1,COLUMNS($J$27:J93)-1)<>\"\",OFFSET(DE100_7!$J$27,ROWS($J$27:J93)-1,COLUMNS($J$27:J93)-1),\"\")","v":""},{"$f":"IF(OFFSET(DE100_7!$K$27,ROWS($K$27:K93)-1,COLUMNS($K$27:K93)-1)<>\"\",OFFSET(DE100_7!$K$27,ROWS($K$27:K93)-1,COLUMNS($K$27:K93)-1),\"\")","v":""},{"$f":"IF(OFFSET(DE100_7!$L$27,ROWS($L$27:L93)-1,COLUMNS($L$27:L93)-1)<>\"\",OFFSET(DE100_7!$L$27,ROWS($L$27:L93)-1,COLUMNS($L$27:L93)-1),\"\")","v":""},{"$f":"IF(OFFSET(DE100_7!$M$27,ROWS($M$27:M93)-1,COLUMNS($M$27:M93)-1)<>\"\",OFFSET(DE100_7!$M$27,ROWS($M$27:M93)-1,COLUMNS($M$27:M93)-1),\"\")","v":""},{"$f":"IF(OFFSET(DE100_7!$N$27,ROWS($N$27:N93)-1,COLUMNS($N$27:N93)-1)<>\"\",OFFSET(DE100_7!$N$27,ROWS($N$27:N93)-1,COLUMNS($N$27:N93)-1),\"\")","v":""},{"$f":"IF(OFFSET(DE100_7!$O$27,ROWS($O$27:O93)-1,COLUMNS($O$27:O93)-1)<>\"\",OFFSET(DE100_7!$O$27,ROWS($O$27:O93)-1,COLUMNS($O$27:O93)-1),\"\")","v":""},{"$f":"IF(OFFSET(DE100_7!$P$27,ROWS($P$27:P93)-1,COLUMNS($P$27:P93)-1)<>\"\",OFFSET(DE100_7!$P$27,ROWS($P$27:P93)-1,COLUMNS($P$27:P93)-1),\"\")","v":""},{"$f":"IF(OFFSET(DE100_7!$Q$27,ROWS($Q$27:Q93)-1,COLUMNS($Q$27:Q93)-1)<>\"\",OFFSET(DE100_7!$Q$27,ROWS($Q$27:Q93)-1,COLUMNS($Q$27:Q93)-1),\"\")","v":""},{"$f":"IF(OFFSET(DE100_7!$R$27,ROWS($R$27:R93)-1,COLUMNS($R$27:R93)-1)<>\"\",OFFSET(DE100_7!$R$27,ROWS($R$27:R93)-1,COLUMNS($R$27:R93)-1),\"\")","v":""},{"$f":"IF(OFFSET(DE100_7!$S$27,ROWS($S$27:S93)-1,COLUMNS($S$27:S93)-1)<>\"\",OFFSET(DE100_7!$S$27,ROWS($S$27:S93)-1,COLUMNS($S$27:S93)-1),\"\")","v":""},{"$f":"IF(OFFSET(DE100_7!$T$27,ROWS($T$27:T93)-1,COLUMNS($T$27:T93)-1)<>\"\",OFFSET(DE100_7!$T$27,ROWS($T$27:T93)-1,COLUMNS($T$27:T93)-1),\"\")","v":""},{"$f":"IF(OFFSET(DE100_7!$U$27,ROWS($U$27:U93)-1,COLUMNS($U$27:U93)-1)<>\"\",OFFSET(DE100_7!$U$27,ROWS($U$27:U93)-1,COLUMNS($U$27:U93)-1),\"\")","v":""},{"$f":"IF(OFFSET(DE100_7!$V$27,ROWS($V$27:V93)-1,COLUMNS($V$27:V93)-1)<>\"\",OFFSET(DE100_7!$V$27,ROWS($V$27:V93)-1,COLUMNS($V$27:V93)-1),\"\")","v":""}]
[{"$f":"IF(OFFSET(DE100_7!$C$27,ROWS($C$27:C94)-1,COLUMNS($C$27:C94)-1)<>\"\",OFFSET(DE100_7!$C$27,ROWS($C$27:C94)-1,COLUMNS($C$27:C94)-1),\"\")","v":""},{"$f":"IF(OFFSET(DE100_7!$D$27,ROWS($D$27:D94)-1,COLUMNS($D$27:D94)-1)<>\"\",OFFSET(DE100_7!$D$27,ROWS($D$27:D94)-1,COLUMNS($D$27:D94)-1),\"\")","v":""},{"$f":"IF(OFFSET(DE100_7!$E$27,ROWS($E$27:E94)-1,COLUMNS($E$27:E94)-1)<>\"\",OFFSET(DE100_7!$E$27,ROWS($E$27:E94)-1,COLUMNS($E$27:E94)-1),\"\")","v":""},{"$f":"IF(OFFSET(DE100_7!$F$27,ROWS($F$27:F94)-1,COLUMNS($F$27:F94)-1)<>\"\",OFFSET(DE100_7!$F$27,ROWS($F$27:F94)-1,COLUMNS($F$27:F94)-1),\"\")","v":""},{"$f":"IF(OFFSET(DE100_7!$G$27,ROWS($G$27:G94)-1,COLUMNS($G$27:G94)-1)<>\"\",OFFSET(DE100_7!$G$27,ROWS($G$27:G94)-1,COLUMNS($G$27:G94)-1),\"\")","v":""},{"$f":"IF(OFFSET(DE100_7!$H$27,ROWS($H$27:H94)-1,COLUMNS($H$27:H94)-1)<>\"\",OFFSET(DE100_7!$H$27,ROWS($H$27:H94)-1,COLUMNS($H$27:H94)-1),\"\")","v":""},{"$f":"IF(OFFSET(DE100_7!$I$27,ROWS($I$27:I94)-1,COLUMNS($I$27:I94)-1)<>\"\",OFFSET(DE100_7!$I$27,ROWS($I$27:I94)-1,COLUMNS($I$27:I94)-1),\"\")","v":""},{"$f":"IF(OFFSET(DE100_7!$J$27,ROWS($J$27:J94)-1,COLUMNS($J$27:J94)-1)<>\"\",OFFSET(DE100_7!$J$27,ROWS($J$27:J94)-1,COLUMNS($J$27:J94)-1),\"\")","v":""},{"$f":"IF(OFFSET(DE100_7!$K$27,ROWS($K$27:K94)-1,COLUMNS($K$27:K94)-1)<>\"\",OFFSET(DE100_7!$K$27,ROWS($K$27:K94)-1,COLUMNS($K$27:K94)-1),\"\")","v":""},{"$f":"IF(OFFSET(DE100_7!$L$27,ROWS($L$27:L94)-1,COLUMNS($L$27:L94)-1)<>\"\",OFFSET(DE100_7!$L$27,ROWS($L$27:L94)-1,COLUMNS($L$27:L94)-1),\"\")","v":""},{"$f":"IF(OFFSET(DE100_7!$M$27,ROWS($M$27:M94)-1,COLUMNS($M$27:M94)-1)<>\"\",OFFSET(DE100_7!$M$27,ROWS($M$27:M94)-1,COLUMNS($M$27:M94)-1),\"\")","v":""},{"$f":"IF(OFFSET(DE100_7!$N$27,ROWS($N$27:N94)-1,COLUMNS($N$27:N94)-1)<>\"\",OFFSET(DE100_7!$N$27,ROWS($N$27:N94)-1,COLUMNS($N$27:N94)-1),\"\")","v":""},{"$f":"IF(OFFSET(DE100_7!$O$27,ROWS($O$27:O94)-1,COLUMNS($O$27:O94)-1)<>\"\",OFFSET(DE100_7!$O$27,ROWS($O$27:O94)-1,COLUMNS($O$27:O94)-1),\"\")","v":""},{"$f":"IF(OFFSET(DE100_7!$P$27,ROWS($P$27:P94)-1,COLUMNS($P$27:P94)-1)<>\"\",OFFSET(DE100_7!$P$27,ROWS($P$27:P94)-1,COLUMNS($P$27:P94)-1),\"\")","v":""},{"$f":"IF(OFFSET(DE100_7!$Q$27,ROWS($Q$27:Q94)-1,COLUMNS($Q$27:Q94)-1)<>\"\",OFFSET(DE100_7!$Q$27,ROWS($Q$27:Q94)-1,COLUMNS($Q$27:Q94)-1),\"\")","v":""},{"$f":"IF(OFFSET(DE100_7!$R$27,ROWS($R$27:R94)-1,COLUMNS($R$27:R94)-1)<>\"\",OFFSET(DE100_7!$R$27,ROWS($R$27:R94)-1,COLUMNS($R$27:R94)-1),\"\")","v":""},{"$f":"IF(OFFSET(DE100_7!$S$27,ROWS($S$27:S94)-1,COLUMNS($S$27:S94)-1)<>\"\",OFFSET(DE100_7!$S$27,ROWS($S$27:S94)-1,COLUMNS($S$27:S94)-1),\"\")","v":""},{"$f":"IF(OFFSET(DE100_7!$T$27,ROWS($T$27:T94)-1,COLUMNS($T$27:T94)-1)<>\"\",OFFSET(DE100_7!$T$27,ROWS($T$27:T94)-1,COLUMNS($T$27:T94)-1),\"\")","v":""},{"$f":"IF(OFFSET(DE100_7!$U$27,ROWS($U$27:U94)-1,COLUMNS($U$27:U94)-1)<>\"\",OFFSET(DE100_7!$U$27,ROWS($U$27:U94)-1,COLUMNS($U$27:U94)-1),\"\")","v":""},{"$f":"IF(OFFSET(DE100_7!$V$27,ROWS($V$27:V94)-1,COLUMNS($V$27:V94)-1)<>\"\",OFFSET(DE100_7!$V$27,ROWS($V$27:V94)-1,COLUMNS($V$27:V94)-1),\"\")","v":""}]
[{"$f":"IF(OFFSET(DE100_7!$C$27,ROWS($C$27:C95)-1,COLUMNS($C$27:C95)-1)<>\"\",OFFSET(DE100_7!$C$27,ROWS($C$27:C95)-1,COLUMNS($C$27:C95)-1),\"\")","v":""},{"$f":"IF(OFFSET(DE100_7!$D$27,ROWS($D$27:D95)-1,COLUMNS($D$27:D95)-1)<>\"\",OFFSET(DE100_7!$D$27,ROWS($D$27:D95)-1,COLUMNS($D$27:D95)-1),\"\")","v":""},{"$f":"IF(OFFSET(DE100_7!$E$27,ROWS($E$27:E95)-1,COLUMNS($E$27:E95)-1)<>\"\",OFFSET(DE100_7!$E$27,ROWS($E$27:E95)-1,COLUMNS($E$27:E95)-1),\"\")","v":""},{"$f":"IF(OFFSET(DE100_7!$F$27,ROWS($F$27:F95)-1,COLUMNS($F$27:F95)-1)<>\"\",OFFSET(DE100_7!$F$27,ROWS($F$27:F95)-1,COLUMNS($F$27:F95)-1),\"\")","v":""},{"$f":"IF(OFFSET(DE100_7!$G$27,ROWS($G$27:G95)-1,COLUMNS($G$27:G95)-1)<>\"\",OFFSET(DE100_7!$G$27,ROWS($G$27:G95)-1,COLUMNS($G$27:G95)-1),\"\")","v":""},{"$f":"IF(OFFSET(DE100_7!$H$27,ROWS($H$27:H95)-1,COLUMNS($H$27:H95)-1)<>\"\",OFFSET(DE100_7!$H$27,ROWS($H$27:H95)-1,COLUMNS($H$27:H95)-1),\"\")","v":""},{"$f":"IF(OFFSET(DE100_7!$I$27,ROWS($I$27:I95)-1,COLUMNS($I$27:I95)-1)<>\"\",OFFSET(DE100_7!$I$27,ROWS($I$27:I95)-1,COLUMNS($I$27:I95)-1),\"\")","v":""},{"$f":"IF(OFFSET(DE100_7!$J$27,ROWS($J$27:J95)-1,COLUMNS($J$27:J95)-1)<>\"\",OFFSET(DE100_7!$J$27,ROWS($J$27:J95)-1,COLUMNS($J$27:J95)-1),\"\")","v":""},{"$f":"IF(OFFSET(DE100_7!$K$27,ROWS($K$27:K95)-1,COLUMNS($K$27:K95)-1)<>\"\",OFFSET(DE100_7!$K$27,ROWS($K$27:K95)-1,COLUMNS($K$27:K95)-1),\"\")","v":""},{"$f":"IF(OFFSET(DE100_7!$L$27,ROWS($L$27:L95)-1,COLUMNS($L$27:L95)-1)<>\"\",OFFSET(DE100_7!$L$27,ROWS($L$27:L95)-1,COLUMNS($L$27:L95)-1),\"\")","v":""},{"$f":"IF(OFFSET(DE100_7!$M$27,ROWS($M$27:M95)-1,COLUMNS($M$27:M95)-1)<>\"\",OFFSET(DE100_7!$M$27,ROWS($M$27:M95)-1,COLUMNS($M$27:M95)-1),\"\")","v":""},{"$f":"IF(OFFSET(DE100_7!$N$27,ROWS($N$27:N95)-1,COLUMNS($N$27:N95)-1)<>\"\",OFFSET(DE100_7!$N$27,ROWS($N$27:N95)-1,COLUMNS($N$27:N95)-1),\"\")","v":""},{"$f":"IF(OFFSET(DE100_7!$O$27,ROWS($O$27:O95)-1,COLUMNS($O$27:O95)-1)<>\"\",OFFSET(DE100_7!$O$27,ROWS($O$27:O95)-1,COLUMNS($O$27:O95)-1),\"\")","v":""},{"$f":"IF(OFFSET(DE100_7!$P$27,ROWS($P$27:P95)-1,COLUMNS($P$27:P95)-1)<>\"\",OFFSET(DE100_7!$P$27,ROWS($P$27:P95)-1,COLUMNS($P$27:P95)-1),\"\")","v":""},{"$f":"IF(OFFSET(DE100_7!$Q$27,ROWS($Q$27:Q95)-1,COLUMNS($Q$27:Q95)-1)<>\"\",OFFSET(DE100_7!$Q$27,ROWS($Q$27:Q95)-1,COLUMNS($Q$27:Q95)-1),\"\")","v":""},{"$f":"IF(OFFSET(DE100_7!$R$27,ROWS($R$27:R95)-1,COLUMNS($R$27:R95)-1)<>\"\",OFFSET(DE100_7!$R$27,ROWS($R$27:R95)-1,COLUMNS($R$27:R95)-1),\"\")","v":""},{"$f":"IF(OFFSET(DE100_7!$S$27,ROWS($S$27:S95)-1,COLUMNS($S$27:S95)-1)<>\"\",OFFSET(DE100_7!$S$27,ROWS($S$27:S95)-1,COLUMNS($S$27:S95)-1),\"\")","v":""},{"$f":"IF(OFFSET(DE100_7!$T$27,ROWS($T$27:T95)-1,COLUMNS($T$27:T95)-1)<>\"\",OFFSET(DE100_7!$T$27,ROWS($T$27:T95)-1,COLUMNS($T$27:T95)-1),\"\")","v":""},{"$f":"IF(OFFSET(DE100_7!$U$27,ROWS($U$27:U95)-1,COLUMNS($U$27:U95)-1)<>\"\",OFFSET(DE100_7!$U$27,ROWS($U$27:U95)-1,COLUMNS($U$27:U95)-1),\"\")","v":""},{"$f":"IF(OFFSET(DE100_7!$V$27,ROWS($V$27:V95)-1,COLUMNS($V$27:V95)-1)<>\"\",OFFSET(DE100_7!$V$27,ROWS($V$27:V95)-1,COLUMNS($V$27:V95)-1),\"\")","v":""}]
[{"$f":"IF(OFFSET(DE100_7!$C$27,ROWS($C$27:C96)-1,COLUMNS($C$27:C96)-1)<>\"\",OFFSET(DE100_7!$C$27,ROWS($C$27:C96)-1,COLUMNS($C$27:C96)-1),\"\")","v":"INTERSECTION AT I-35 & 126TH AVE"},null,null,{"$f":"IF(OFFSET(DE100_7!$F$27,ROWS($F$27:F96)-1,COLUMNS($F$27:F96)-1)<>\"\",OFFSET(DE100_7!$F$27,ROWS($F$27:F96)-1,COLUMNS($F$27:F96)-1),\"\")","v":""},{"$f":"IF(OFFSET(DE100_7!$G$27,ROWS($G$27:G96)-1,COLUMNS($G$27:G96)-1)<>\"\",OFFSET(DE100_7!$G$27,ROWS($G$27:G96)-1,COLUMNS($G$27:G96)-1),\"\")","v":""},{"$f":"IF(OFFSET(DE100_7!$H$27,ROWS($H$27:H96)-1,COLUMNS($H$27:H96)-1)<>\"\",OFFSET(DE100_7!$H$27,ROWS($H$27:H96)-1,COLUMNS($H$27:H96)-1),\"\")","v":""},{"$f":"IF(OFFSET(DE100_7!$I$27,ROWS($I$27:I96)-1,COLUMNS($I$27:I96)-1)<>\"\",OFFSET(DE100_7!$I$27,ROWS($I$27:I96)-1,COLUMNS($I$27:I96)-1),\"\")","v":""},{"$f":"IF(OFFSET(DE100_7!$J$27,ROWS($J$27:J96)-1,COLUMNS($J$27:J96)-1)<>\"\",OFFSET(DE100_7!$J$27,ROWS($J$27:J96)-1,COLUMNS($J$27:J96)-1),\"\")","v":""},{"$f":"IF(OFFSET(DE100_7!$K$27,ROWS($K$27:K96)-1,COLUMNS($K$27:K96)-1)<>\"\",OFFSET(DE100_7!$K$27,ROWS($K$27:K96)-1,COLUMNS($K$27:K96)-1),\"\")","v":""},{"$f":"IF(OFFSET(DE100_7!$L$27,ROWS($L$27:L96)-1,COLUMNS($L$27:L96)-1)<>\"\",OFFSET(DE100_7!$L$27,ROWS($L$27:L96)-1,COLUMNS($L$27:L96)-1),\"\")","v":""},{"$f":"IF(OFFSET(DE100_7!$M$27,ROWS($M$27:M96)-1,COLUMNS($M$27:M96)-1)<>\"\",OFFSET(DE100_7!$M$27,ROWS($M$27:M96)-1,COLUMNS($M$27:M96)-1),\"\")","v":""},{"$f":"IF(OFFSET(DE100_7!$N$27,ROWS($N$27:N96)-1,COLUMNS($N$27:N96)-1)<>\"\",OFFSET(DE100_7!$N$27,ROWS($N$27:N96)-1,COLUMNS($N$27:N96)-1),\"\")","v":""},{"$f":"IF(OFFSET(DE100_7!$O$27,ROWS($O$27:O96)-1,COLUMNS($O$27:O96)-1)<>\"\",OFFSET(DE100_7!$O$27,ROWS($O$27:O96)-1,COLUMNS($O$27:O96)-1),\"\")","v":""},{"$f":"IF(OFFSET(DE100_7!$P$27,ROWS($P$27:P96)-1,COLUMNS($P$27:P96)-1)<>\"\",OFFSET(DE100_7!$P$27,ROWS($P$27:P96)-1,COLUMNS($P$27:P96)-1),\"\")","v":""},{"$f":"IF(OFFSET(DE100_7!$Q$27,ROWS($Q$27:Q96)-1,COLUMNS($Q$27:Q96)-1)<>\"\",OFFSET(DE100_7!$Q$27,ROWS($Q$27:Q96)-1,COLUMNS($Q$27:Q96)-1),\"\")","v":""},{"$f":"IF(OFFSET(DE100_7!$R$27,ROWS($R$27:R96)-1,COLUMNS($R$27:R96)-1)<>\"\",OFFSET(DE100_7!$R$27,ROWS($R$27:R96)-1,COLUMNS($R$27:R96)-1),\"\")","v":""},{"$f":"IF(OFFSET(DE100_7!$S$27,ROWS($S$27:S96)-1,COLUMNS($S$27:S96)-1)<>\"\",OFFSET(DE100_7!$S$27,ROWS($S$27:S96)-1,COLUMNS($S$27:S96)-1),\"\")","v":""},{"$f":"IF(OFFSET(DE100_7!$T$27,ROWS($T$27:T96)-1,COLUMNS($T$27:T96)-1)<>\"\",OFFSET(DE100_7!$T$27,ROWS($T$27:T96)-1,COLUMNS($T$27:T96)-1),\"\")","v":""},{"$f":"IF(OFFSET(DE100_7!$U$27,ROWS($U$27:U96)-1,COLUMNS($U$27:U96)-1)<>\"\",OFFSET(DE100_7!$U$27,ROWS($U$27:U96)-1,COLUMNS($U$27:U96)-1),\"\")","v":""},{"$f":"IF(OFFSET(DE100_7!$V$27,ROWS($V$27:V96)-1,COLUMNS($V$27:V96)-1)<>\"\",OFFSET(DE100_7!$V$27,ROWS($V$27:V96)-1,COLUMNS($V$27:V96)-1),\"\")","v":""}]
[{"$f":"IF(OFFSET(DE100_7!$C$27,ROWS($C$27:C97)-1,COLUMNS($C$27:C97)-1)<>\"\",OFFSET(DE100_7!$C$27,ROWS($C$27:C97)-1,COLUMNS($C$27:C97)-1),\"\")","v":157270.42000000001},{"$f":"IF(OFFSET(DE100_7!$D$27,ROWS($D$27:D97)-1,COLUMNS($D$27:D97)-1)<>\"\",OFFSET(DE100_7!$D$27,ROWS($D$27:D97)-1,COLUMNS($D$27:D97)-1),\"\")","v":67.81},{"$f":"IF(OFFSET(DE100_7!$E$27,ROWS($E$27:E97)-1,COLUMNS($E$27:E97)-1)<>\"\",OFFSET(DE100_7!$E$27,ROWS($E$27:E97)-1,COLUMNS($E$27:E97)-1),\"\")","v":157448.57999999999},{"$f":"IF(OFFSET(DE100_7!$F$27,ROWS($F$27:F97)-1,COLUMNS($F$27:F97)-1)<>\"\",OFFSET(DE100_7!$F$27,ROWS($F$27:F97)-1,COLUMNS($F$27:F97)-1),\"\")","v":78.989999999999995},{"$f":"IF(OFFSET(DE100_7!$G$27,ROWS($G$27:G97)-1,COLUMNS($G$27:G97)-1)<>\"\",OFFSET(DE100_7!$G$27,ROWS($G$27:G97)-1,COLUMNS($G$27:G97)-1),\"\")","v":"RT"},{"$f":"IF(OFFSET(DE100_7!$H$27,ROWS($H$27:H97)-1,COLUMNS($H$27:H97)-1)<>\"\",OFFSET(DE100_7!$H$27,ROWS($H$27:H97)-1,COLUMNS($H$27:H97)-1),\"\")","v":""},{"$f":"IF(OFFSET(DE100_7!$I$27,ROWS($I$27:I97)-1,COLUMNS($I$27:I97)-1)<>\"\",OFFSET(DE100_7!$I$27,ROWS($I$27:I97)-1,COLUMNS($I$27:I97)-1),\"\")","v":""},{"$f":"IF(OFFSET(DE100_7!$J$27,ROWS($J$27:J97)-1,COLUMNS($J$27:J97)-1)<>\"\",OFFSET(DE100_7!$J$27,ROWS($J$27:J97)-1,COLUMNS($J$27:J97)-1),\"\")","v":""},{"$f":"IF(OFFSET(DE100_7!$K$27,ROWS($K$27:K97)-1,COLUMNS($K$27:K97)-1)<>\"\",OFFSET(DE100_7!$K$27,ROWS($K$27:K97)-1,COLUMNS($K$27:K97)-1),\"\")","v":""},{"$f":"IF(OFFSET(DE100_7!$L$27,ROWS($L$27:L97)-1,COLUMNS($L$27:L97)-1)<>\"\",OFFSET(DE100_7!$L$27,ROWS($L$27:L97)-1,COLUMNS($L$27:L97)-1),\"\")","v":""},{"$f":"IF(OFFSET(DE100_7!$M$27,ROWS($M$27:M97)-1,COLUMNS($M$27:M97)-1)<>\"\",OFFSET(DE100_7!$M$27,ROWS($M$27:M97)-1,COLUMNS($M$27:M97)-1),\"\")","v":""},{"$f":"IF(OFFSET(DE100_7!$N$27,ROWS($N$27:N97)-1,COLUMNS($N$27:N97)-1)<>\"\",OFFSET(DE100_7!$N$27,ROWS($N$27:N97)-1,COLUMNS($N$27:N97)-1),\"\")","v":""},{"$f":"IF(OFFSET(DE100_7!$O$27,ROWS($O$27:O97)-1,COLUMNS($O$27:O97)-1)<>\"\",OFFSET(DE100_7!$O$27,ROWS($O$27:O97)-1,COLUMNS($O$27:O97)-1),\"\")","v":""},{"$f":"IF(OFFSET(DE100_7!$P$27,ROWS($P$27:P97)-1,COLUMNS($P$27:P97)-1)<>\"\",OFFSET(DE100_7!$P$27,ROWS($P$27:P97)-1,COLUMNS($P$27:P97)-1),\"\")","v":178.4},{"$f":"IF(OFFSET(DE100_7!$Q$27,ROWS($Q$27:Q97)-1,COLUMNS($Q$27:Q97)-1)<>\"\",OFFSET(DE100_7!$Q$27,ROWS($Q$27:Q97)-1,COLUMNS($Q$27:Q97)-1),\"\")","v":5},{"$f":"IF(OFFSET(DE100_7!$R$27,ROWS($R$27:R97)-1,COLUMNS($R$27:R97)-1)<>\"\",OFFSET(DE100_7!$R$27,ROWS($R$27:R97)-1,COLUMNS($R$27:R97)-1),\"\")","v":""},{"$f":"IF(OFFSET(DE100_7!$S$27,ROWS($S$27:S97)-1,COLUMNS($S$27:S97)-1)<>\"\",OFFSET(DE100_7!$S$27,ROWS($S$27:S97)-1,COLUMNS($S$27:S97)-1),\"\")","v":""},{"$f":"IF(OFFSET(DE100_7!$T$27,ROWS($T$27:T97)-1,COLUMNS($T$27:T97)-1)<>\"\",OFFSET(DE100_7!$T$27,ROWS($T$27:T97)-1,COLUMNS($T$27:T97)-1),\"\")","v":""},{"$f":"IF(OFFSET(DE100_7!$U$27,ROWS($U$27:U97)-1,COLUMNS($U$27:U97)-1)<>\"\",OFFSET(DE100_7!$U$27,ROWS($U$27:U97)-1,COLUMNS($U$27:U97)-1),\"\")","v":""},{"$f":"IF(OFFSET(DE100_7!$V$27,ROWS($V$27:V97)-1,COLUMNS($V$27:V97)-1)<>\"\",OFFSET(DE100_7!$V$27,ROWS($V$27:V97)-1,COLUMNS($V$27:V97)-1),\"\")","v":"RAMP 126A"}]
[{"$f":"IF(OFFSET(DE100_7!$C$27,ROWS($C$27:C98)-1,COLUMNS($C$27:C98)-1)<>\"\",OFFSET(DE100_7!$C$27,ROWS($C$27:C98)-1,COLUMNS($C$27:C98)-1),\"\")","v":157448.51},{"$f":"IF(OFFSET(DE100_7!$D$27,ROWS($D$27:D98)-1,COLUMNS($D$27:D98)-1)<>\"\",OFFSET(DE100_7!$D$27,ROWS($D$27:D98)-1,COLUMNS($D$27:D98)-1),\"\")","v":78.989999999999995},{"$f":"IF(OFFSET(DE100_7!$E$27,ROWS($E$27:E98)-1,COLUMNS($E$27:E98)-1)<>\"\",OFFSET(DE100_7!$E$27,ROWS($E$27:E98)-1,COLUMNS($E$27:E98)-1),\"\")","v":157757.84},{"$f":"IF(OFFSET(DE100_7!$F$27,ROWS($F$27:F98)-1,COLUMNS($F$27:F98)-1)<>\"\",OFFSET(DE100_7!$F$27,ROWS($F$27:F98)-1,COLUMNS($F$27:F98)-1),\"\")","v":57.33},{"$f":"IF(OFFSET(DE100_7!$G$27,ROWS($G$27:G98)-1,COLUMNS($G$27:G98)-1)<>\"\",OFFSET(DE100_7!$G$27,ROWS($G$27:G98)-1,COLUMNS($G$27:G98)-1),\"\")","v":"RT"},{"$f":"IF(OFFSET(DE100_7!$H$27,ROWS($H$27:H98)-1,COLUMNS($H$27:H98)-1)<>\"\",OFFSET(DE100_7!$H$27,ROWS($H$27:H98)-1,COLUMNS($H$27:H98)-1),\"\")","v":""},{"$f":"IF(OFFSET(DE100_7!$I$27,ROWS($I$27:I98)-1,COLUMNS($I$27:I98)-1)<>\"\",OFFSET(DE100_7!$I$27,ROWS($I$27:I98)-1,COLUMNS($I$27:I98)-1),\"\")","v":""},{"$f":"IF(OFFSET(DE100_7!$J$27,ROWS($J$27:J98)-1,COLUMNS($J$27:J98)-1)<>\"\",OFFSET(DE100_7!$J$27,ROWS($J$27:J98)-1,COLUMNS($J$27:J98)-1),\"\")","v":""},{"$f":"IF(OFFSET(DE100_7!$K$27,ROWS($K$27:K98)-1,COLUMNS($K$27:K98)-1)<>\"\",OFFSET(DE100_7!$K$27,ROWS($K$27:K98)-1,COLUMNS($K$27:K98)-1),\"\")","v":""},{"$f":"IF(OFFSET(DE100_7!$L$27,ROWS($L$27:L98)-1,COLUMNS($L$27:L98)-1)<>\"\",OFFSET(DE100_7!$L$27,ROWS($L$27:L98)-1,COLUMNS($L$27:L98)-1),\"\")","v":""},{"$f":"IF(OFFSET(DE100_7!$M$27,ROWS($M$27:M98)-1,COLUMNS($M$27:M98)-1)<>\"\",OFFSET(DE100_7!$M$27,ROWS($M$27:M98)-1,COLUMNS($M$27:M98)-1),\"\")","v":""},{"$f":"IF(OFFSET(DE100_7!$N$27,ROWS($N$27:N98)-1,COLUMNS($N$27:N98)-1)<>\"\",OFFSET(DE100_7!$N$27,ROWS($N$27:N98)-1,COLUMNS($N$27:N98)-1),\"\")","v":""},{"$f":"IF(OFFSET(DE100_7!$O$27,ROWS($O$27:O98)-1,COLUMNS($O$27:O98)-1)<>\"\",OFFSET(DE100_7!$O$27,ROWS($O$27:O98)-1,COLUMNS($O$27:O98)-1),\"\")","v":""},{"$f":"IF(OFFSET(DE100_7!$P$27,ROWS($P$27:P98)-1,COLUMNS($P$27:P98)-1)<>\"\",OFFSET(DE100_7!$P$27,ROWS($P$27:P98)-1,COLUMNS($P$27:P98)-1),\"\")","v":303.2},{"$f":"IF(OFFSET(DE100_7!$Q$27,ROWS($Q$27:Q98)-1,COLUMNS($Q$27:Q98)-1)<>\"\",OFFSET(DE100_7!$Q$27,ROWS($Q$27:Q98)-1,COLUMNS($Q$27:Q98)-1),\"\")","v":6},{"$f":"IF(OFFSET(DE100_7!$R$27,ROWS($R$27:R98)-1,COLUMNS($R$27:R98)-1)<>\"\",OFFSET(DE100_7!$R$27,ROWS($R$27:R98)-1,COLUMNS($R$27:R98)-1),\"\")","v":""},{"$f":"IF(OFFSET(DE100_7!$S$27,ROWS($S$27:S98)-1,COLUMNS($S$27:S98)-1)<>\"\",OFFSET(DE100_7!$S$27,ROWS($S$27:S98)-1,COLUMNS($S$27:S98)-1),\"\")","v":""},{"$f":"IF(OFFSET(DE100_7!$T$27,ROWS($T$27:T98)-1,COLUMNS($T$27:T98)-1)<>\"\",OFFSET(DE100_7!$T$27,ROWS($T$27:T98)-1,COLUMNS($T$27:T98)-1),\"\")","v":""},{"$f":"IF(OFFSET(DE100_7!$U$27,ROWS($U$27:U98)-1,COLUMNS($U$27:U98)-1)<>\"\",OFFSET(DE100_7!$U$27,ROWS($U$27:U98)-1,COLUMNS($U$27:U98)-1),\"\")","v":""},{"$f":"IF(OFFSET(DE100_7!$V$27,ROWS($V$27:V98)-1,COLUMNS($V$27:V98)-1)<>\"\",OFFSET(DE100_7!$V$27,ROWS($V$27:V98)-1,COLUMNS($V$27:V98)-1),\"\")","v":"RAMP 126A"}]
[{"$f":"IF(OFFSET(DE100_7!$C$27,ROWS($C$27:C99)-1,COLUMNS($C$27:C99)-1)<>\"\",OFFSET(DE100_7!$C$27,ROWS($C$27:C99)-1,COLUMNS($C$27:C99)-1),\"\")","v":157757.84},{"$f":"IF(OFFSET(DE100_7!$D$27,ROWS($D$27:D99)-1,COLUMNS($D$27:D99)-1)<>\"\",OFFSET(DE100_7!$D$27,ROWS($D$27:D99)-1,COLUMNS($D$27:D99)-1),\"\")","v":57.33},{"$f":"IF(OFFSET(DE100_7!$E$27,ROWS($E$27:E99)-1,COLUMNS($E$27:E99)-1)<>\"\",OFFSET(DE100_7!$E$27,ROWS($E$27:E99)-1,COLUMNS($E$27:E99)-1),\"\")","v":158049.37},{"$f":"IF(OFFSET(DE100_7!$F$27,ROWS($F$27:F99)-1,COLUMNS($F$27:F99)-1)<>\"\",OFFSET(DE100_7!$F$27,ROWS($F$27:F99)-1,COLUMNS($F$27:F99)-1),\"\")","v":70.91},{"$f":"IF(OFFSET(DE100_7!$G$27,ROWS($G$27:G99)-1,COLUMNS($G$27:G99)-1)<>\"\",OFFSET(DE100_7!$G$27,ROWS($G$27:G99)-1,COLUMNS($G$27:G99)-1),\"\")","v":"RT"},{"$f":"IF(OFFSET(DE100_7!$H$27,ROWS($H$27:H99)-1,COLUMNS($H$27:H99)-1)<>\"\",OFFSET(DE100_7!$H$27,ROWS($H$27:H99)-1,COLUMNS($H$27:H99)-1),\"\")","v":""},{"$f":"IF(OFFSET(DE100_7!$I$27,ROWS($I$27:I99)-1,COLUMNS($I$27:I99)-1)<>\"\",OFFSET(DE100_7!$I$27,ROWS($I$27:I99)-1,COLUMNS($I$27:I99)-1),\"\")","v":""},{"$f":"IF(OFFSET(DE100_7!$J$27,ROWS($J$27:J99)-1,COLUMNS($J$27:J99)-1)<>\"\",OFFSET(DE100_7!$J$27,ROWS($J$27:J99)-1,COLUMNS($J$27:J99)-1),\"\")","v":""},{"$f":"IF(OFFSET(DE100_7!$K$27,ROWS($K$27:K99)-1,COLUMNS($K$27:K99)-1)<>\"\",OFFSET(DE100_7!$K$27,ROWS($K$27:K99)-1,COLUMNS($K$27:K99)-1),\"\")","v":""},{"$f":"IF(OFFSET(DE100_7!$L$27,ROWS($L$27:L99)-1,COLUMNS($L$27:L99)-1)<>\"\",OFFSET(DE100_7!$L$27,ROWS($L$27:L99)-1,COLUMNS($L$27:L99)-1),\"\")","v":""},{"$f":"IF(OFFSET(DE100_7!$M$27,ROWS($M$27:M99)-1,COLUMNS($M$27:M99)-1)<>\"\",OFFSET(DE100_7!$M$27,ROWS($M$27:M99)-1,COLUMNS($M$27:M99)-1),\"\")","v":""},{"$f":"IF(OFFSET(DE100_7!$N$27,ROWS($N$27:N99)-1,COLUMNS($N$27:N99)-1)<>\"\",OFFSET(DE100_7!$N$27,ROWS($N$27:N99)-1,COLUMNS($N$27:N99)-1),\"\")","v":""},{"$f":"IF(OFFSET(DE100_7!$O$27,ROWS($O$27:O99)-1,COLUMNS($O$27:O99)-1)<>\"\",OFFSET(DE100_7!$O$27,ROWS($O$27:O99)-1,COLUMNS($O$27:O99)-1),\"\")","v":""},{"$f":"IF(OFFSET(DE100_7!$P$27,ROWS($P$27:P99)-1,COLUMNS($P$27:P99)-1)<>\"\",OFFSET(DE100_7!$P$27,ROWS($P$27:P99)-1,COLUMNS($P$27:P99)-1),\"\")","v":282.10000000000002},{"$f":"IF(OFFSET(DE100_7!$Q$27,ROWS($Q$27:Q99)-1,COLUMNS($Q$27:Q99)-1)<>\"\",OFFSET(DE100_7!$Q$27,ROWS($Q$27:Q99)-1,COLUMNS($Q$27:Q99)-1),\"\")","v":6},{"$f":"IF(OFFSET(DE100_7!$R$27,ROWS($R$27:R99)-1,COLUMNS($R$27:R99)-1)<>\"\",OFFSET(DE100_7!$R$27,ROWS($R$27:R99)-1,COLUMNS($R$27:R99)-1),\"\")","v":""},{"$f":"IF(OFFSET(DE100_7!$S$27,ROWS($S$27:S99)-1,COLUMNS($S$27:S99)-1)<>\"\",OFFSET(DE100_7!$S$27,ROWS($S$27:S99)-1,COLUMNS($S$27:S99)-1),\"\")","v":""},{"$f":"IF(OFFSET(DE100_7!$T$27,ROWS($T$27:T99)-1,COLUMNS($T$27:T99)-1)<>\"\",OFFSET(DE100_7!$T$27,ROWS($T$27:T99)-1,COLUMNS($T$27:T99)-1),\"\")","v":""},{"$f":"IF(OFFSET(DE100_7!$U$27,ROWS($U$27:U99)-1,COLUMNS($U$27:U99)-1)<>\"\",OFFSET(DE100_7!$U$27,ROWS($U$27:U99)-1,COLUMNS($U$27:U99)-1),\"\")","v":""},{"$f":"IF(OFFSET(DE100_7!$V$27,ROWS($V$27:V99)-1,COLUMNS($V$27:V99)-1)<>\"\",OFFSET(DE100_7!$V$27,ROWS($V$27:V99)-1,COLUMNS($V$27:V99)-1),\"\")","v":"RAMP 126A"}]
[{"$f":"IF(OFFSET(DE100_7!$C$27,ROWS($C$27:C100)-1,COLUMNS($C$27:C100)-1)<>\"\",OFFSET(DE100_7!$C$27,ROWS($C$27:C100)-1,COLUMNS($C$27:C100)-1),\"\")","v":158049.37},{"$f":"IF(OFFSET(DE100_7!$D$27,ROWS($D$27:D100)-1,COLUMNS($D$27:D100)-1)<>\"\",OFFSET(DE100_7!$D$27,ROWS($D$27:D100)-1,COLUMNS($D$27:D100)-1),\"\")","v":70.91},{"$f":"IF(OFFSET(DE100_7!$E$27,ROWS($E$27:E100)-1,COLUMNS($E$27:E100)-1)<>\"\",OFFSET(DE100_7!$E$27,ROWS($E$27:E100)-1,COLUMNS($E$27:E100)-1),\"\")","v":158633.73000000001},{"$f":"IF(OFFSET(DE100_7!$F$27,ROWS($F$27:F100)-1,COLUMNS($F$27:F100)-1)<>\"\",OFFSET(DE100_7!$F$27,ROWS($F$27:F100)-1,COLUMNS($F$27:F100)-1),\"\")","v":80.11},{"$f":"IF(OFFSET(DE100_7!$G$27,ROWS($G$27:G100)-1,COLUMNS($G$27:G100)-1)<>\"\",OFFSET(DE100_7!$G$27,ROWS($G$27:G100)-1,COLUMNS($G$27:G100)-1),\"\")","v":"RT"},{"$f":"IF(OFFSET(DE100_7!$H$27,ROWS($H$27:H100)-1,COLUMNS($H$27:H100)-1)<>\"\",OFFSET(DE100_7!$H$27,ROWS($H$27:H100)-1,COLUMNS($H$27:H100)-1),\"\")","v":""},{"$f":"IF(OFFSET(DE100_7!$I$27,ROWS($I$27:I100)-1,COLUMNS($I$27:I100)-1)<>\"\",OFFSET(DE100_7!$I$27,ROWS($I$27:I100)-1,COLUMNS($I$27:I100)-1),\"\")","v":""},{"$f":"IF(OFFSET(DE100_7!$J$27,ROWS($J$27:J100)-1,COLUMNS($J$27:J100)-1)<>\"\",OFFSET(DE100_7!$J$27,ROWS($J$27:J100)-1,COLUMNS($J$27:J100)-1),\"\")","v":""},{"$f":"IF(OFFSET(DE100_7!$K$27,ROWS($K$27:K100)-1,COLUMNS($K$27:K100)-1)<>\"\",OFFSET(DE100_7!$K$27,ROWS($K$27:K100)-1,COLUMNS($K$27:K100)-1),\"\")","v":""},{"$f":"IF(OFFSET(DE100_7!$L$27,ROWS($L$27:L100)-1,COLUMNS($L$27:L100)-1)<>\"\",OFFSET(DE100_7!$L$27,ROWS($L$27:L100)-1,COLUMNS($L$27:L100)-1),\"\")","v":""},{"$f":"IF(OFFSET(DE100_7!$M$27,ROWS($M$27:M100)-1,COLUMNS($M$27:M100)-1)<>\"\",OFFSET(DE100_7!$M$27,ROWS($M$27:M100)-1,COLUMNS($M$27:M100)-1),\"\")","v":""},{"$f":"IF(OFFSET(DE100_7!$N$27,ROWS($N$27:N100)-1,COLUMNS($N$27:N100)-1)<>\"\",OFFSET(DE100_7!$N$27,ROWS($N$27:N100)-1,COLUMNS($N$27:N100)-1),\"\")","v":""},{"$f":"IF(OFFSET(DE100_7!$O$27,ROWS($O$27:O100)-1,COLUMNS($O$27:O100)-1)<>\"\",OFFSET(DE100_7!$O$27,ROWS($O$27:O100)-1,COLUMNS($O$27:O100)-1),\"\")","v":""},{"$f":"IF(OFFSET(DE100_7!$P$27,ROWS($P$27:P100)-1,COLUMNS($P$27:P100)-1)<>\"\",OFFSET(DE100_7!$P$27,ROWS($P$27:P100)-1,COLUMNS($P$27:P100)-1),\"\")","v":581.20000000000005},{"$f":"IF(OFFSET(DE100_7!$Q$27,ROWS($Q$27:Q100)-1,COLUMNS($Q$27:Q100)-1)<>\"\",OFFSET(DE100_7!$Q$27,ROWS($Q$27:Q100)-1,COLUMNS($Q$27:Q100)-1),\"\")","v":6},{"$f":"IF(OFFSET(DE100_7!$R$27,ROWS($R$27:R100)-1,COLUMNS($R$27:R100)-1)<>\"\",OFFSET(DE100_7!$R$27,ROWS($R$27:R100)-1,COLUMNS($R$27:R100)-1),\"\")","v":""},{"$f":"IF(OFFSET(DE100_7!$S$27,ROWS($S$27:S100)-1,COLUMNS($S$27:S100)-1)<>\"\",OFFSET(DE100_7!$S$27,ROWS($S$27:S100)-1,COLUMNS($S$27:S100)-1),\"\")","v":""},{"$f":"IF(OFFSET(DE100_7!$T$27,ROWS($T$27:T100)-1,COLUMNS($T$27:T100)-1)<>\"\",OFFSET(DE100_7!$T$27,ROWS($T$27:T100)-1,COLUMNS($T$27:T100)-1),\"\")","v":""},{"$f":"IF(OFFSET(DE100_7!$U$27,ROWS($U$27:U100)-1,COLUMNS($U$27:U100)-1)<>\"\",OFFSET(DE100_7!$U$27,ROWS($U$27:U100)-1,COLUMNS($U$27:U100)-1),\"\")","v":""},{"$f":"IF(OFFSET(DE100_7!$V$27,ROWS($V$27:V100)-1,COLUMNS($V$27:V100)-1)<>\"\",OFFSET(DE100_7!$V$27,ROWS($V$27:V100)-1,COLUMNS($V$27:V100)-1),\"\")","v":"RAMP 126A"}]
[{"$f":"IF(OFFSET(DE100_7!$C$27,ROWS($C$27:C101)-1,COLUMNS($C$27:C101)-1)<>\"\",OFFSET(DE100_7!$C$27,ROWS($C$27:C101)-1,COLUMNS($C$27:C101)-1),\"\")","v":158633.73000000001},{"$f":"IF(OFFSET(DE100_7!$D$27,ROWS($D$27:D101)-1,COLUMNS($D$27:D101)-1)<>\"\",OFFSET(DE100_7!$D$27,ROWS($D$27:D101)-1,COLUMNS($D$27:D101)-1),\"\")","v":80.11},{"$f":"IF(OFFSET(DE100_7!$E$27,ROWS($E$27:E101)-1,COLUMNS($E$27:E101)-1)<>\"\",OFFSET(DE100_7!$E$27,ROWS($E$27:E101)-1,COLUMNS($E$27:E101)-1),\"\")","v":159184.74},{"$f":"IF(OFFSET(DE100_7!$F$27,ROWS($F$27:F101)-1,COLUMNS($F$27:F101)-1)<>\"\",OFFSET(DE100_7!$F$27,ROWS($F$27:F101)-1,COLUMNS($F$27:F101)-1),\"\")","v":106.81},{"$f":"IF(OFFSET(DE100_7!$G$27,ROWS($G$27:G101)-1,COLUMNS($G$27:G101)-1)<>\"\",OFFSET(DE100_7!$G$27,ROWS($G$27:G101)-1,COLUMNS($G$27:G101)-1),\"\")","v":"RT"},{"$f":"IF(OFFSET(DE100_7!$H$27,ROWS($H$27:H101)-1,COLUMNS($H$27:H101)-1)<>\"\",OFFSET(DE100_7!$H$27,ROWS($H$27:H101)-1,COLUMNS($H$27:H101)-1),\"\")","v":""},{"$f":"IF(OFFSET(DE100_7!$I$27,ROWS($I$27:I101)-1,COLUMNS($I$27:I101)-1)<>\"\",OFFSET(DE100_7!$I$27,ROWS($I$27:I101)-1,COLUMNS($I$27:I101)-1),\"\")","v":""},{"$f":"IF(OFFSET(DE100_7!$J$27,ROWS($J$27:J101)-1,COLUMNS($J$27:J101)-1)<>\"\",OFFSET(DE100_7!$J$27,ROWS($J$27:J101)-1,COLUMNS($J$27:J101)-1),\"\")","v":""},{"$f":"IF(OFFSET(DE100_7!$K$27,ROWS($K$27:K101)-1,COLUMNS($K$27:K101)-1)<>\"\",OFFSET(DE100_7!$K$27,ROWS($K$27:K101)-1,COLUMNS($K$27:K101)-1),\"\")","v":""},{"$f":"IF(OFFSET(DE100_7!$L$27,ROWS($L$27:L101)-1,COLUMNS($L$27:L101)-1)<>\"\",OFFSET(DE100_7!$L$27,ROWS($L$27:L101)-1,COLUMNS($L$27:L101)-1),\"\")","v":""},{"$f":"IF(OFFSET(DE100_7!$M$27,ROWS($M$27:M101)-1,COLUMNS($M$27:M101)-1)<>\"\",OFFSET(DE100_7!$M$27,ROWS($M$27:M101)-1,COLUMNS($M$27:M101)-1),\"\")","v":""},{"$f":"IF(OFFSET(DE100_7!$N$27,ROWS($N$27:N101)-1,COLUMNS($N$27:N101)-1)<>\"\",OFFSET(DE100_7!$N$27,ROWS($N$27:N101)-1,COLUMNS($N$27:N101)-1),\"\")","v":""},{"$f":"IF(OFFSET(DE100_7!$O$27,ROWS($O$27:O101)-1,COLUMNS($O$27:O101)-1)<>\"\",OFFSET(DE100_7!$O$27,ROWS($O$27:O101)-1,COLUMNS($O$27:O101)-1),\"\")","v":""},{"$f":"IF(OFFSET(DE100_7!$P$27,ROWS($P$27:P101)-1,COLUMNS($P$27:P101)-1)<>\"\",OFFSET(DE100_7!$P$27,ROWS($P$27:P101)-1,COLUMNS($P$27:P101)-1),\"\")","v":582.1},{"$f":"IF(OFFSET(DE100_7!$Q$27,ROWS($Q$27:Q101)-1,COLUMNS($Q$27:Q101)-1)<>\"\",OFFSET(DE100_7!$Q$27,ROWS($Q$27:Q101)-1,COLUMNS($Q$27:Q101)-1),\"\")","v":6},{"$f":"IF(OFFSET(DE100_7!$R$27,ROWS($R$27:R101)-1,COLUMNS($R$27:R101)-1)<>\"\",OFFSET(DE100_7!$R$27,ROWS($R$27:R101)-1,COLUMNS($R$27:R101)-1),\"\")","v":""},{"$f":"IF(OFFSET(DE100_7!$S$27,ROWS($S$27:S101)-1,COLUMNS($S$27:S101)-1)<>\"\",OFFSET(DE100_7!$S$27,ROWS($S$27:S101)-1,COLUMNS($S$27:S101)-1),\"\")","v":""},{"$f":"IF(OFFSET(DE100_7!$T$27,ROWS($T$27:T101)-1,COLUMNS($T$27:T101)-1)<>\"\",OFFSET(DE100_7!$T$27,ROWS($T$27:T101)-1,COLUMNS($T$27:T101)-1),\"\")","v":""},{"$f":"IF(OFFSET(DE100_7!$U$27,ROWS($U$27:U101)-1,COLUMNS($U$27:U101)-1)<>\"\",OFFSET(DE100_7!$U$27,ROWS($U$27:U101)-1,COLUMNS($U$27:U101)-1),\"\")","v":""},{"$f":"IF(OFFSET(DE100_7!$V$27,ROWS($V$27:V101)-1,COLUMNS($V$27:V101)-1)<>\"\",OFFSET(DE100_7!$V$27,ROWS($V$27:V101)-1,COLUMNS($V$27:V101)-1),\"\")","v":"RAMP 126A"}]
[{"$f":"IF(OFFSET(DE100_7!$C$27,ROWS($C$27:C102)-1,COLUMNS($C$27:C102)-1)<>\"\",OFFSET(DE100_7!$C$27,ROWS($C$27:C102)-1,COLUMNS($C$27:C102)-1),\"\")","v":159184.74},{"$f":"IF(OFFSET(DE100_7!$D$27,ROWS($D$27:D102)-1,COLUMNS($D$27:D102)-1)<>\"\",OFFSET(DE100_7!$D$27,ROWS($D$27:D102)-1,COLUMNS($D$27:D102)-1),\"\")","v":106.81},{"$f":"IF(OFFSET(DE100_7!$E$27,ROWS($E$27:E102)-1,COLUMNS($E$27:E102)-1)<>\"\",OFFSET(DE100_7!$E$27,ROWS($E$27:E102)-1,COLUMNS($E$27:E102)-1),\"\")","v":159297.07999999999},{"$f":"IF(OFFSET(DE100_7!$F$27,ROWS($F$27:F102)-1,COLUMNS($F$27:F102)-1)<>\"\",OFFSET(DE100_7!$F$27,ROWS($F$27:F102)-1,COLUMNS($F$27:F102)-1),\"\")","v":218.98},{"$f":"IF(OFFSET(DE100_7!$G$27,ROWS($G$27:G102)-1,COLUMNS($G$27:G102)-1)<>\"\",OFFSET(DE100_7!$G$27,ROWS($G$27:G102)-1,COLUMNS($G$27:G102)-1),\"\")","v":"RT"},{"$f":"IF(OFFSET(DE100_7!$H$27,ROWS($H$27:H102)-1,COLUMNS($H$27:H102)-1)<>\"\",OFFSET(DE100_7!$H$27,ROWS($H$27:H102)-1,COLUMNS($H$27:H102)-1),\"\")","v":""},{"$f":"IF(OFFSET(DE100_7!$I$27,ROWS($I$27:I102)-1,COLUMNS($I$27:I102)-1)<>\"\",OFFSET(DE100_7!$I$27,ROWS($I$27:I102)-1,COLUMNS($I$27:I102)-1),\"\")","v":""},{"$f":"IF(OFFSET(DE100_7!$J$27,ROWS($J$27:J102)-1,COLUMNS($J$27:J102)-1)<>\"\",OFFSET(DE100_7!$J$27,ROWS($J$27:J102)-1,COLUMNS($J$27:J102)-1),\"\")","v":""},{"$f":"IF(OFFSET(DE100_7!$K$27,ROWS($K$27:K102)-1,COLUMNS($K$27:K102)-1)<>\"\",OFFSET(DE100_7!$K$27,ROWS($K$27:K102)-1,COLUMNS($K$27:K102)-1),\"\")","v":""},{"$f":"IF(OFFSET(DE100_7!$L$27,ROWS($L$27:L102)-1,COLUMNS($L$27:L102)-1)<>\"\",OFFSET(DE100_7!$L$27,ROWS($L$27:L102)-1,COLUMNS($L$27:L102)-1),\"\")","v":""},{"$f":"IF(OFFSET(DE100_7!$M$27,ROWS($M$27:M102)-1,COLUMNS($M$27:M102)-1)<>\"\",OFFSET(DE100_7!$M$27,ROWS($M$27:M102)-1,COLUMNS($M$27:M102)-1),\"\")","v":""},{"$f":"IF(OFFSET(DE100_7!$N$27,ROWS($N$27:N102)-1,COLUMNS($N$27:N102)-1)<>\"\",OFFSET(DE100_7!$N$27,ROWS($N$27:N102)-1,COLUMNS($N$27:N102)-1),\"\")","v":""},{"$f":"IF(OFFSET(DE100_7!$O$27,ROWS($O$27:O102)-1,COLUMNS($O$27:O102)-1)<>\"\",OFFSET(DE100_7!$O$27,ROWS($O$27:O102)-1,COLUMNS($O$27:O102)-1),\"\")","v":""},{"$f":"IF(OFFSET(DE100_7!$P$27,ROWS($P$27:P102)-1,COLUMNS($P$27:P102)-1)<>\"\",OFFSET(DE100_7!$P$27,ROWS($P$27:P102)-1,COLUMNS($P$27:P102)-1),\"\")","v":160.5},{"$f":"IF(OFFSET(DE100_7!$Q$27,ROWS($Q$27:Q102)-1,COLUMNS($Q$27:Q102)-1)<>\"\",OFFSET(DE100_7!$Q$27,ROWS($Q$27:Q102)-1,COLUMNS($Q$27:Q102)-1),\"\")","v":5},{"$f":"IF(OFFSET(DE100_7!$R$27,ROWS($R$27:R102)-1,COLUMNS($R$27:R102)-1)<>\"\",OFFSET(DE100_7!$R$27,ROWS($R$27:R102)-1,COLUMNS($R$27:R102)-1),\"\")","v":""},{"$f":"IF(OFFSET(DE100_7!$S$27,ROWS($S$27:S102)-1,COLUMNS($S$27:S102)-1)<>\"\",OFFSET(DE100_7!$S$27,ROWS($S$27:S102)-1,COLUMNS($S$27:S102)-1),\"\")","v":""},{"$f":"IF(OFFSET(DE100_7!$T$27,ROWS($T$27:T102)-1,COLUMNS($T$27:T102)-1)<>\"\",OFFSET(DE100_7!$T$27,ROWS($T$27:T102)-1,COLUMNS($T$27:T102)-1),\"\")","v":""},{"$f":"IF(OFFSET(DE100_7!$U$27,ROWS($U$27:U102)-1,COLUMNS($U$27:U102)-1)<>\"\",OFFSET(DE100_7!$U$27,ROWS($U$27:U102)-1,COLUMNS($U$27:U102)-1),\"\")","v":""},{"$f":"IF(OFFSET(DE100_7!$V$27,ROWS($V$27:V102)-1,COLUMNS($V$27:V102)-1)<>\"\",OFFSET(DE100_7!$V$27,ROWS($V$27:V102)-1,COLUMNS($V$27:V102)-1),\"\")","v":"RAMP 126A"}]
[{"$f":"IF(OFFSET(DE100_7!$C$27,ROWS($C$27:C103)-1,COLUMNS($C$27:C103)-1)<>\"\",OFFSET(DE100_7!$C$27,ROWS($C$27:C103)-1,COLUMNS($C$27:C103)-1),\"\")","v":""},{"$f":"IF(OFFSET(DE100_7!$D$27,ROWS($D$27:D103)-1,COLUMNS($D$27:D103)-1)<>\"\",OFFSET(DE100_7!$D$27,ROWS($D$27:D103)-1,COLUMNS($D$27:D103)-1),\"\")","v":""},{"$f":"IF(OFFSET(DE100_7!$E$27,ROWS($E$27:E103)-1,COLUMNS($E$27:E103)-1)<>\"\",OFFSET(DE100_7!$E$27,ROWS($E$27:E103)-1,COLUMNS($E$27:E103)-1),\"\")","v":""},{"$f":"IF(OFFSET(DE100_7!$F$27,ROWS($F$27:F103)-1,COLUMNS($F$27:F103)-1)<>\"\",OFFSET(DE100_7!$F$27,ROWS($F$27:F103)-1,COLUMNS($F$27:F103)-1),\"\")","v":""},{"$f":"IF(OFFSET(DE100_7!$G$27,ROWS($G$27:G103)-1,COLUMNS($G$27:G103)-1)<>\"\",OFFSET(DE100_7!$G$27,ROWS($G$27:G103)-1,COLUMNS($G$27:G103)-1),\"\")","v":""},{"$f":"IF(OFFSET(DE100_7!$H$27,ROWS($H$27:H103)-1,COLUMNS($H$27:H103)-1)<>\"\",OFFSET(DE100_7!$H$27,ROWS($H$27:H103)-1,COLUMNS($H$27:H103)-1),\"\")","v":""},{"$f":"IF(OFFSET(DE100_7!$I$27,ROWS($I$27:I103)-1,COLUMNS($I$27:I103)-1)<>\"\",OFFSET(DE100_7!$I$27,ROWS($I$27:I103)-1,COLUMNS($I$27:I103)-1),\"\")","v":""},{"$f":"IF(OFFSET(DE100_7!$J$27,ROWS($J$27:J103)-1,COLUMNS($J$27:J103)-1)<>\"\",OFFSET(DE100_7!$J$27,ROWS($J$27:J103)-1,COLUMNS($J$27:J103)-1),\"\")","v":""},{"$f":"IF(OFFSET(DE100_7!$K$27,ROWS($K$27:K103)-1,COLUMNS($K$27:K103)-1)<>\"\",OFFSET(DE100_7!$K$27,ROWS($K$27:K103)-1,COLUMNS($K$27:K103)-1),\"\")","v":""},{"$f":"IF(OFFSET(DE100_7!$L$27,ROWS($L$27:L103)-1,COLUMNS($L$27:L103)-1)<>\"\",OFFSET(DE100_7!$L$27,ROWS($L$27:L103)-1,COLUMNS($L$27:L103)-1),\"\")","v":""},{"$f":"IF(OFFSET(DE100_7!$M$27,ROWS($M$27:M103)-1,COLUMNS($M$27:M103)-1)<>\"\",OFFSET(DE100_7!$M$27,ROWS($M$27:M103)-1,COLUMNS($M$27:M103)-1),\"\")","v":""},{"$f":"IF(OFFSET(DE100_7!$N$27,ROWS($N$27:N103)-1,COLUMNS($N$27:N103)-1)<>\"\",OFFSET(DE100_7!$N$27,ROWS($N$27:N103)-1,COLUMNS($N$27:N103)-1),\"\")","v":""},{"$f":"IF(OFFSET(DE100_7!$O$27,ROWS($O$27:O103)-1,COLUMNS($O$27:O103)-1)<>\"\",OFFSET(DE100_7!$O$27,ROWS($O$27:O103)-1,COLUMNS($O$27:O103)-1),\"\")","v":""},{"$f":"IF(OFFSET(DE100_7!$P$27,ROWS($P$27:P103)-1,COLUMNS($P$27:P103)-1)<>\"\",OFFSET(DE100_7!$P$27,ROWS($P$27:P103)-1,COLUMNS($P$27:P103)-1),\"\")","v":""},{"$f":"IF(OFFSET(DE100_7!$Q$27,ROWS($Q$27:Q103)-1,COLUMNS($Q$27:Q103)-1)<>\"\",OFFSET(DE100_7!$Q$27,ROWS($Q$27:Q103)-1,COLUMNS($Q$27:Q103)-1),\"\")","v":""},{"$f":"IF(OFFSET(DE100_7!$R$27,ROWS($R$27:R103)-1,COLUMNS($R$27:R103)-1)<>\"\",OFFSET(DE100_7!$R$27,ROWS($R$27:R103)-1,COLUMNS($R$27:R103)-1),\"\")","v":""},{"$f":"IF(OFFSET(DE100_7!$S$27,ROWS($S$27:S103)-1,COLUMNS($S$27:S103)-1)<>\"\",OFFSET(DE100_7!$S$27,ROWS($S$27:S103)-1,COLUMNS($S$27:S103)-1),\"\")","v":""},{"$f":"IF(OFFSET(DE100_7!$T$27,ROWS($T$27:T103)-1,COLUMNS($T$27:T103)-1)<>\"\",OFFSET(DE100_7!$T$27,ROWS($T$27:T103)-1,COLUMNS($T$27:T103)-1),\"\")","v":""},{"$f":"IF(OFFSET(DE100_7!$U$27,ROWS($U$27:U103)-1,COLUMNS($U$27:U103)-1)<>\"\",OFFSET(DE100_7!$U$27,ROWS($U$27:U103)-1,COLUMNS($U$27:U103)-1),\"\")","v":""},{"$f":"IF(OFFSET(DE100_7!$V$27,ROWS($V$27:V103)-1,COLUMNS($V$27:V103)-1)<>\"\",OFFSET(DE100_7!$V$27,ROWS($V$27:V103)-1,COLUMNS($V$27:V103)-1),\"\")","v":""}]
[{"$f":"IF(OFFSET(DE100_7!$C$27,ROWS($C$27:C104)-1,COLUMNS($C$27:C104)-1)<>\"\",OFFSET(DE100_7!$C$27,ROWS($C$27:C104)-1,COLUMNS($C$27:C104)-1),\"\")","v":250423.51},{"$f":"IF(OFFSET(DE100_7!$D$27,ROWS($D$27:D104)-1,COLUMNS($D$27:D104)-1)<>\"\",OFFSET(DE100_7!$D$27,ROWS($D$27:D104)-1,COLUMNS($D$27:D104)-1),\"\")","v":54},{"$f":"IF(OFFSET(DE100_7!$E$27,ROWS($E$27:E104)-1,COLUMNS($E$27:E104)-1)<>\"\",OFFSET(DE100_7!$E$27,ROWS($E$27:E104)-1,COLUMNS($E$27:E104)-1),\"\")","v":250913.47},{"$f":"IF(OFFSET(DE100_7!$F$27,ROWS($F$27:F104)-1,COLUMNS($F$27:F104)-1)<>\"\",OFFSET(DE100_7!$F$27,ROWS($F$27:F104)-1,COLUMNS($F$27:F104)-1),\"\")","v":75.260000000000005},{"$f":"IF(OFFSET(DE100_7!$G$27,ROWS($G$27:G104)-1,COLUMNS($G$27:G104)-1)<>\"\",OFFSET(DE100_7!$G$27,ROWS($G$27:G104)-1,COLUMNS($G$27:G104)-1),\"\")","v":"RT"},{"$f":"IF(OFFSET(DE100_7!$H$27,ROWS($H$27:H104)-1,COLUMNS($H$27:H104)-1)<>\"\",OFFSET(DE100_7!$H$27,ROWS($H$27:H104)-1,COLUMNS($H$27:H104)-1),\"\")","v":""},{"$f":"IF(OFFSET(DE100_7!$I$27,ROWS($I$27:I104)-1,COLUMNS($I$27:I104)-1)<>\"\",OFFSET(DE100_7!$I$27,ROWS($I$27:I104)-1,COLUMNS($I$27:I104)-1),\"\")","v":""},{"$f":"IF(OFFSET(DE100_7!$J$27,ROWS($J$27:J104)-1,COLUMNS($J$27:J104)-1)<>\"\",OFFSET(DE100_7!$J$27,ROWS($J$27:J104)-1,COLUMNS($J$27:J104)-1),\"\")","v":""},{"$f":"IF(OFFSET(DE100_7!$K$27,ROWS($K$27:K104)-1,COLUMNS($K$27:K104)-1)<>\"\",OFFSET(DE100_7!$K$27,ROWS($K$27:K104)-1,COLUMNS($K$27:K104)-1),\"\")","v":""},{"$f":"IF(OFFSET(DE100_7!$L$27,ROWS($L$27:L104)-1,COLUMNS($L$27:L104)-1)<>\"\",OFFSET(DE100_7!$L$27,ROWS($L$27:L104)-1,COLUMNS($L$27:L104)-1),\"\")","v":""},{"$f":"IF(OFFSET(DE100_7!$M$27,ROWS($M$27:M104)-1,COLUMNS($M$27:M104)-1)<>\"\",OFFSET(DE100_7!$M$27,ROWS($M$27:M104)-1,COLUMNS($M$27:M104)-1),\"\")","v":""},{"$f":"IF(OFFSET(DE100_7!$N$27,ROWS($N$27:N104)-1,COLUMNS($N$27:N104)-1)<>\"\",OFFSET(DE100_7!$N$27,ROWS($N$27:N104)-1,COLUMNS($N$27:N104)-1),\"\")","v":""},{"$f":"IF(OFFSET(DE100_7!$O$27,ROWS($O$27:O104)-1,COLUMNS($O$27:O104)-1)<>\"\",OFFSET(DE100_7!$O$27,ROWS($O$27:O104)-1,COLUMNS($O$27:O104)-1),\"\")","v":""},{"$f":"IF(OFFSET(DE100_7!$P$27,ROWS($P$27:P104)-1,COLUMNS($P$27:P104)-1)<>\"\",OFFSET(DE100_7!$P$27,ROWS($P$27:P104)-1,COLUMNS($P$27:P104)-1),\"\")","v":485.6},{"$f":"IF(OFFSET(DE100_7!$Q$27,ROWS($Q$27:Q104)-1,COLUMNS($Q$27:Q104)-1)<>\"\",OFFSET(DE100_7!$Q$27,ROWS($Q$27:Q104)-1,COLUMNS($Q$27:Q104)-1),\"\")","v":5},{"$f":"IF(OFFSET(DE100_7!$R$27,ROWS($R$27:R104)-1,COLUMNS($R$27:R104)-1)<>\"\",OFFSET(DE100_7!$R$27,ROWS($R$27:R104)-1,COLUMNS($R$27:R104)-1),\"\")","v":""},{"$f":"IF(OFFSET(DE100_7!$S$27,ROWS($S$27:S104)-1,COLUMNS($S$27:S104)-1)<>\"\",OFFSET(DE100_7!$S$27,ROWS($S$27:S104)-1,COLUMNS($S$27:S104)-1),\"\")","v":""},{"$f":"IF(OFFSET(DE100_7!$T$27,ROWS($T$27:T104)-1,COLUMNS($T$27:T104)-1)<>\"\",OFFSET(DE100_7!$T$27,ROWS($T$27:T104)-1,COLUMNS($T$27:T104)-1),\"\")","v":""},{"$f":"IF(OFFSET(DE100_7!$U$27,ROWS($U$27:U104)-1,COLUMNS($U$27:U104)-1)<>\"\",OFFSET(DE100_7!$U$27,ROWS($U$27:U104)-1,COLUMNS($U$27:U104)-1),\"\")","v":""},{"$f":"IF(OFFSET(DE100_7!$V$27,ROWS($V$27:V104)-1,COLUMNS($V$27:V104)-1)<>\"\",OFFSET(DE100_7!$V$27,ROWS($V$27:V104)-1,COLUMNS($V$27:V104)-1),\"\")","v":"RAMP 126B"}]
["100-7"]
["2012-10-16"]
["FENCING"]
[]
[" * Bid Item"]
["Refer to MI-101, MI-102, MI-103, MI-104, 510-3, and 510-5"]
["Location",null,null,null,"Side","Chain Link",null,null,null,"Deer",null,null,null,"Field",null,null,null,"Channel Crossing",null,"Remarks"]
["From",null,"To"]
["Station","Offset","Station","Offset",null,"Fence",null,"Gate",null,"Fence Length*","Brace Panels*","Gate",null,"Fence Length*","Brace Panels*","Gate"]
[null,null,null,null,null,"Length*","Type","No.*","Type",null,null,"No.*","Type",null,null,"No.*","Type","Length*","Type"]
[]
[null,null,null,null,null,"LF",null,"EACH",null,"LF","EACH","EACH",null,"LF","EACH","EACH",null,"LF"]
[{"$f":"IF(OFFSET(DE100_7!$C$105,ROWS($C$105:C105)-1,COLUMNS($C$105:C105)-1)<>\"\",OFFSET(DE100_7!$C$105,ROWS($C$105:C105)-1,COLUMNS($C$105:C105)-1),\"\")","v":250913.47},{"$f":"IF(OFFSET(DE100_7!$D$105,ROWS($D$105:D105)-1,COLUMNS($D$105:D105)-1)<>\"\",OFFSET(DE100_7!$D$105,ROWS($D$105:D105)-1,COLUMNS($D$105:D105)-1),\"\")","v":75.260000000000005},{"$f":"IF(OFFSET(DE100_7!$E$105,ROWS($E$105:E105)-1,COLUMNS($E$105:E105)-1)<>\"\",OFFSET(DE100_7!$E$105,ROWS($E$105:E105)-1,COLUMNS($E$105:E105)-1),\"\")","v":251307.95},{"$f":"IF(OFFSET(DE100_7!$F$105,ROWS($F$105:F105)-1,COLUMNS($F$105:F105)-1)<>\"\",OFFSET(DE100_7!$F$105,ROWS($F$105:F105)-1,COLUMNS($F$105:F105)-1),\"\")","v":53.97},{"$f":"IF(OFFSET(DE100_7!$G$105,ROWS($G$105:G105)-1,COLUMNS($G$105:G105)-1)<>\"\",OFFSET(DE100_7!$G$105,ROWS($G$105:G105)-1,COLUMNS($G$105:G105)-1),\"\")","v":"RT"},{"$f":"IF(OFFSET(DE100_7!$H$105,ROWS($H$105:H105)-1,COLUMNS($H$105:H105)-1)<>\"\",OFFSET(DE100_7!$H$105,ROWS($H$105:H105)-1,COLUMNS($H$105:H105)-1),\"\")","v":""},{"$f":"IF(OFFSET(DE100_7!$I$105,ROWS($I$105:I105)-1,COLUMNS($I$105:I105)-1)<>\"\",OFFSET(DE100_7!$I$105,ROWS($I$105:I105)-1,COLUMNS($I$105:I105)-1),\"\")","v":""},{"$f":"IF(OFFSET(DE100_7!$J$105,ROWS($J$105:J105)-1,COLUMNS($J$105:J105)-1)<>\"\",OFFSET(DE100_7!$J$105,ROWS($J$105:J105)-1,COLUMNS($J$105:J105)-1),\"\")","v":""},{"$f":"IF(OFFSET(DE100_7!$K$105,ROWS($K$105:K105)-1,COLUMNS($K$105:K105)-1)<>\"\",OFFSET(DE100_7!$K$105,ROWS($K$105:K105)-1,COLUMNS($K$105:K105)-1),\"\")","v":""},{"$f":"IF(OFFSET(DE100_7!$L$105,ROWS($L$105:L105)-1,COLUMNS($L$105:L105)-1)<>\"\",OFFSET(DE100_7!$L$105,ROWS($L$105:L105)-1,COLUMNS($L$105:L105)-1),\"\")","v":""},{"$f":"IF(OFFSET(DE100_7!$M$105,ROWS($M$105:M105)-1,COLUMNS($M$105:M105)-1)<>\"\",OFFSET(DE100_7!$M$105,ROWS($M$105:M105)-1,COLUMNS($M$105:M105)-1),\"\")","v":""},{"$f":"IF(OFFSET(DE100_7!$N$105,ROWS($N$105:N105)-1,COLUMNS($N$105:N105)-1)<>\"\",OFFSET(DE100_7!$N$105,ROWS($N$105:N105)-1,COLUMNS($N$105:N105)-1),\"\")","v":""},{"$f":"IF(OFFSET(DE100_7!$O$105,ROWS($O$105:O105)-1,COLUMNS($O$105:O105)-1)<>\"\",OFFSET(DE100_7!$O$105,ROWS($O$105:O105)-1,COLUMNS($O$105:O105)-1),\"\")","v":""},{"$f":"IF(OFFSET(DE100_7!$P$105,ROWS($P$105:P105)-1,COLUMNS($P$105:P105)-1)<>\"\",OFFSET(DE100_7!$P$105,ROWS($P$105:P105)-1,COLUMNS($P$105:P105)-1),\"\")","v":395.1},{"$f":"IF(OFFSET(DE100_7!$Q$105,ROWS($Q$105:Q105)-1,COLUMNS($Q$105:Q105)-1)<>\"\",OFFSET(DE100_7!$Q$105,ROWS($Q$105:Q105)-1,COLUMNS($Q$105:Q105)-1),\"\")","v":6},{"$f":"IF(OFFSET(DE100_7!$R$105,ROWS($R$105:R105)-1,COLUMNS($R$105:R105)-1)<>\"\",OFFSET(DE100_7!$R$105,ROWS($R$105:R105)-1,COLUMNS($R$105:R105)-1),\"\")","v":""},{"$f":"IF(OFFSET(DE100_7!$S$105,ROWS($S$105:S105)-1,COLUMNS($S$105:S105)-1)<>\"\",OFFSET(DE100_7!$S$105,ROWS($S$105:S105)-1,COLUMNS($S$105:S105)-1),\"\")","v":""},{"$f":"IF(OFFSET(DE100_7!$T$105,ROWS($T$105:T105)-1,COLUMNS($T$105:T105)-1)<>\"\",OFFSET(DE100_7!$T$105,ROWS($T$105:T105)-1,COLUMNS($T$105:T105)-1),\"\")","v":""},{"$f":"IF(OFFSET(DE100_7!$U$105,ROWS($U$105:U105)-1,COLUMNS($U$105:U105)-1)<>\"\",OFFSET(DE100_7!$U$105,ROWS($U$105:U105)-1,COLUMNS($U$105:U105)-1),\"\")","v":""},{"$f":"IF(OFFSET(DE100_7!$V$105,ROWS($V$105:V105)-1,COLUMNS($V$105:V105)-1)<>\"\",OFFSET(DE100_7!$V$105,ROWS($V$105:V105)-1,COLUMNS($V$105:V105)-1),\"\")","v":"RAMP 126B"}]
[{"$f":"IF(OFFSET(DE100_7!$C$105,ROWS($C$105:C106)-1,COLUMNS($C$105:C106)-1)<>\"\",OFFSET(DE100_7!$C$105,ROWS($C$105:C106)-1,COLUMNS($C$105:C106)-1),\"\")","v":251307.95},{"$f":"IF(OFFSET(DE100_7!$D$105,ROWS($D$105:D106)-1,COLUMNS($D$105:D106)-1)<>\"\",OFFSET(DE100_7!$D$105,ROWS($D$105:D106)-1,COLUMNS($D$105:D106)-1),\"\")","v":53.97},{"$f":"IF(OFFSET(DE100_7!$E$105,ROWS($E$105:E106)-1,COLUMNS($E$105:E106)-1)<>\"\",OFFSET(DE100_7!$E$105,ROWS($E$105:E106)-1,COLUMNS($E$105:E106)-1),\"\")","v":251551.93},{"$f":"IF(OFFSET(DE100_7!$F$105,ROWS($F$105:F106)-1,COLUMNS($F$105:F106)-1)<>\"\",OFFSET(DE100_7!$F$105,ROWS($F$105:F106)-1,COLUMNS($F$105:F106)-1),\"\")","v":53.25},{"$f":"IF(OFFSET(DE100_7!$G$105,ROWS($G$105:G106)-1,COLUMNS($G$105:G106)-1)<>\"\",OFFSET(DE100_7!$G$105,ROWS($G$105:G106)-1,COLUMNS($G$105:G106)-1),\"\")","v":"RT"},{"$f":"IF(OFFSET(DE100_7!$H$105,ROWS($H$105:H106)-1,COLUMNS($H$105:H106)-1)<>\"\",OFFSET(DE100_7!$H$105,ROWS($H$105:H106)-1,COLUMNS($H$105:H106)-1),\"\")","v":""},{"$f":"IF(OFFSET(DE100_7!$I$105,ROWS($I$105:I106)-1,COLUMNS($I$105:I106)-1)<>\"\",OFFSET(DE100_7!$I$105,ROWS($I$105:I106)-1,COLUMNS($I$105:I106)-1),\"\")","v":""},{"$f":"IF(OFFSET(DE100_7!$J$105,ROWS($J$105:J106)-1,COLUMNS($J$105:J106)-1)<>\"\",OFFSET(DE100_7!$J$105,ROWS($J$105:J106)-1,COLUMNS($J$105:J106)-1),\"\")","v":""},{"$f":"IF(OFFSET(DE100_7!$K$105,ROWS($K$105:K106)-1,COLUMNS($K$105:K106)-1)<>\"\",OFFSET(DE100_7!$K$105,ROWS($K$105:K106)-1,COLUMNS($K$105:K106)-1),\"\")","v":""},{"$f":"IF(OFFSET(DE100_7!$L$105,ROWS($L$105:L106)-1,COLUMNS($L$105:L106)-1)<>\"\",OFFSET(DE100_7!$L$105,ROWS($L$105:L106)-1,COLUMNS($L$105:L106)-1),\"\")","v":""},{"$f":"IF(OFFSET(DE100_7!$M$105,ROWS($M$105:M106)-1,COLUMNS($M$105:M106)-1)<>\"\",OFFSET(DE100_7!$M$105,ROWS($M$105:M106)-1,COLUMNS($M$105:M106)-1),\"\")","v":""},{"$f":"IF(OFFSET(DE100_7!$N$105,ROWS($N$105:N106)-1,COLUMNS($N$105:N106)-1)<>\"\",OFFSET(DE100_7!$N$105,ROWS($N$105:N106)-1,COLUMNS($N$105:N106)-1),\"\")","v":""},{"$f":"IF(OFFSET(DE100_7!$O$105,ROWS($O$105:O106)-1,COLUMNS($O$105:O106)-1)<>\"\",OFFSET(DE100_7!$O$105,ROWS($O$105:O106)-1,COLUMNS($O$105:O106)-1),\"\")","v":""},{"$f":"IF(OFFSET(DE100_7!$P$105,ROWS($P$105:P106)-1,COLUMNS($P$105:P106)-1)<>\"\",OFFSET(DE100_7!$P$105,ROWS($P$105:P106)-1,COLUMNS($P$105:P106)-1),\"\")","v":238.4},{"$f":"IF(OFFSET(DE100_7!$Q$105,ROWS($Q$105:Q106)-1,COLUMNS($Q$105:Q106)-1)<>\"\",OFFSET(DE100_7!$Q$105,ROWS($Q$105:Q106)-1,COLUMNS($Q$105:Q106)-1),\"\")","v":6},{"$f":"IF(OFFSET(DE100_7!$R$105,ROWS($R$105:R106)-1,COLUMNS($R$105:R106)-1)<>\"\",OFFSET(DE100_7!$R$105,ROWS($R$105:R106)-1,COLUMNS($R$105:R106)-1),\"\")","v":""},{"$f":"IF(OFFSET(DE100_7!$S$105,ROWS($S$105:S106)-1,COLUMNS($S$105:S106)-1)<>\"\",OFFSET(DE100_7!$S$105,ROWS($S$105:S106)-1,COLUMNS($S$105:S106)-1),\"\")","v":""},{"$f":"IF(OFFSET(DE100_7!$T$105,ROWS($T$105:T106)-1,COLUMNS($T$105:T106)-1)<>\"\",OFFSET(DE100_7!$T$105,ROWS($T$105:T106)-1,COLUMNS($T$105:T106)-1),\"\")","v":""},{"$f":"IF(OFFSET(DE100_7!$U$105,ROWS($U$105:U106)-1,COLUMNS($U$105:U106)-1)<>\"\",OFFSET(DE100_7!$U$105,ROWS($U$105:U106)-1,COLUMNS($U$105:U106)-1),\"\")","v":""},{"$f":"IF(OFFSET(DE100_7!$V$105,ROWS($V$105:V106)-1,COLUMNS($V$105:V106)-1)<>\"\",OFFSET(DE100_7!$V$105,ROWS($V$105:V106)-1,COLUMNS($V$105:V106)-1),\"\")","v":"RAMP 126B"}]
[{"$f":"IF(OFFSET(DE100_7!$C$105,ROWS($C$105:C107)-1,COLUMNS($C$105:C107)-1)<>\"\",OFFSET(DE100_7!$C$105,ROWS($C$105:C107)-1,COLUMNS($C$105:C107)-1),\"\")","v":251551.93},{"$f":"IF(OFFSET(DE100_7!$D$105,ROWS($D$105:D107)-1,COLUMNS($D$105:D107)-1)<>\"\",OFFSET(DE100_7!$D$105,ROWS($D$105:D107)-1,COLUMNS($D$105:D107)-1),\"\")","v":53.25},{"$f":"IF(OFFSET(DE100_7!$E$105,ROWS($E$105:E107)-1,COLUMNS($E$105:E107)-1)<>\"\",OFFSET(DE100_7!$E$105,ROWS($E$105:E107)-1,COLUMNS($E$105:E107)-1),\"\")","v":251902.69},{"$f":"IF(OFFSET(DE100_7!$F$105,ROWS($F$105:F107)-1,COLUMNS($F$105:F107)-1)<>\"\",OFFSET(DE100_7!$F$105,ROWS($F$105:F107)-1,COLUMNS($F$105:F107)-1),\"\")","v":58.51},{"$f":"IF(OFFSET(DE100_7!$G$105,ROWS($G$105:G107)-1,COLUMNS($G$105:G107)-1)<>\"\",OFFSET(DE100_7!$G$105,ROWS($G$105:G107)-1,COLUMNS($G$105:G107)-1),\"\")","v":"RT"},{"$f":"IF(OFFSET(DE100_7!$H$105,ROWS($H$105:H107)-1,COLUMNS($H$105:H107)-1)<>\"\",OFFSET(DE100_7!$H$105,ROWS($H$105:H107)-1,COLUMNS($H$105:H107)-1),\"\")","v":""},{"$f":"IF(OFFSET(DE100_7!$I$105,ROWS($I$105:I107)-1,COLUMNS($I$105:I107)-1)<>\"\",OFFSET(DE100_7!$I$105,ROWS($I$105:I107)-1,COLUMNS($I$105:I107)-1),\"\")","v":""},{"$f":"IF(OFFSET(DE100_7!$J$105,ROWS($J$105:J107)-1,COLUMNS($J$105:J107)-1)<>\"\",OFFSET(DE100_7!$J$105,ROWS($J$105:J107)-1,COLUMNS($J$105:J107)-1),\"\")","v":""},{"$f":"IF(OFFSET(DE100_7!$K$105,ROWS($K$105:K107)-1,COLUMNS($K$105:K107)-1)<>\"\",OFFSET(DE100_7!$K$105,ROWS($K$105:K107)-1,COLUMNS($K$105:K107)-1),\"\")","v":""},{"$f":"IF(OFFSET(DE100_7!$L$105,ROWS($L$105:L107)-1,COLUMNS($L$105:L107)-1)<>\"\",OFFSET(DE100_7!$L$105,ROWS($L$105:L107)-1,COLUMNS($L$105:L107)-1),\"\")","v":""},{"$f":"IF(OFFSET(DE100_7!$M$105,ROWS($M$105:M107)-1,COLUMNS($M$105:M107)-1)<>\"\",OFFSET(DE100_7!$M$105,ROWS($M$105:M107)-1,COLUMNS($M$105:M107)-1),\"\")","v":""},{"$f":"IF(OFFSET(DE100_7!$N$105,ROWS($N$105:N107)-1,COLUMNS($N$105:N107)-1)<>\"\",OFFSET(DE100_7!$N$105,ROWS($N$105:N107)-1,COLUMNS($N$105:N107)-1),\"\")","v":""},{"$f":"IF(OFFSET(DE100_7!$O$105,ROWS($O$105:O107)-1,COLUMNS($O$105:O107)-1)<>\"\",OFFSET(DE100_7!$O$105,ROWS($O$105:O107)-1,COLUMNS($O$105:O107)-1),\"\")","v":""},{"$f":"IF(OFFSET(DE100_7!$P$105,ROWS($P$105:P107)-1,COLUMNS($P$105:P107)-1)<>\"\",OFFSET(DE100_7!$P$105,ROWS($P$105:P107)-1,COLUMNS($P$105:P107)-1),\"\")","v":340.6},{"$f":"IF(OFFSET(DE100_7!$Q$105,ROWS($Q$105:Q107)-1,COLUMNS($Q$105:Q107)-1)<>\"\",OFFSET(DE100_7!$Q$105,ROWS($Q$105:Q107)-1,COLUMNS($Q$105:Q107)-1),\"\")","v":6},{"$f":"IF(OFFSET(DE100_7!$R$105,ROWS($R$105:R107)-1,COLUMNS($R$105:R107)-1)<>\"\",OFFSET(DE100_7!$R$105,ROWS($R$105:R107)-1,COLUMNS($R$105:R107)-1),\"\")","v":""},{"$f":"IF(OFFSET(DE100_7!$S$105,ROWS($S$105:S107)-1,COLUMNS($S$105:S107)-1)<>\"\",OFFSET(DE100_7!$S$105,ROWS($S$105:S107)-1,COLUMNS($S$105:S107)-1),\"\")","v":""},{"$f":"IF(OFFSET(DE100_7!$T$105,ROWS($T$105:T107)-1,COLUMNS($T$105:T107)-1)<>\"\",OFFSET(DE100_7!$T$105,ROWS($T$105:T107)-1,COLUMNS($T$105:T107)-1),\"\")","v":""},{"$f":"IF(OFFSET(DE100_7!$U$105,ROWS($U$105:U107)-1,COLUMNS($U$105:U107)-1)<>\"\",OFFSET(DE100_7!$U$105,ROWS($U$105:U107)-1,COLUMNS($U$105:U107)-1),\"\")","v":""},{"$f":"IF(OFFSET(DE100_7!$V$105,ROWS($V$105:V107)-1,COLUMNS($V$105:V107)-1)<>\"\",OFFSET(DE100_7!$V$105,ROWS($V$105:V107)-1,COLUMNS($V$105:V107)-1),\"\")","v":"RAMP 126B"}]
[{"$f":"IF(OFFSET(DE100_7!$C$105,ROWS($C$105:C108)-1,COLUMNS($C$105:C108)-1)<>\"\",OFFSET(DE100_7!$C$105,ROWS($C$105:C108)-1,COLUMNS($C$105:C108)-1),\"\")","v":251902.69},{"$f":"IF(OFFSET(DE100_7!$D$105,ROWS($D$105:D108)-1,COLUMNS($D$105:D108)-1)<>\"\",OFFSET(DE100_7!$D$105,ROWS($D$105:D108)-1,COLUMNS($D$105:D108)-1),\"\")","v":58.51},{"$f":"IF(OFFSET(DE100_7!$E$105,ROWS($E$105:E108)-1,COLUMNS($E$105:E108)-1)<>\"\",OFFSET(DE100_7!$E$105,ROWS($E$105:E108)-1,COLUMNS($E$105:E108)-1),\"\")","v":252539.5},{"$f":"IF(OFFSET(DE100_7!$F$105,ROWS($F$105:F108)-1,COLUMNS($F$105:F108)-1)<>\"\",OFFSET(DE100_7!$F$105,ROWS($F$105:F108)-1,COLUMNS($F$105:F108)-1),\"\")","v":99.55},{"$f":"IF(OFFSET(DE100_7!$G$105,ROWS($G$105:G108)-1,COLUMNS($G$105:G108)-1)<>\"\",OFFSET(DE100_7!$G$105,ROWS($G$105:G108)-1,COLUMNS($G$105:G108)-1),\"\")","v":"RT"},{"$f":"IF(OFFSET(DE100_7!$H$105,ROWS($H$105:H108)-1,COLUMNS($H$105:H108)-1)<>\"\",OFFSET(DE100_7!$H$105,ROWS($H$105:H108)-1,COLUMNS($H$105:H108)-1),\"\")","v":""},{"$f":"IF(OFFSET(DE100_7!$I$105,ROWS($I$105:I108)-1,COLUMNS($I$105:I108)-1)<>\"\",OFFSET(DE100_7!$I$105,ROWS($I$105:I108)-1,COLUMNS($I$105:I108)-1),\"\")","v":""},{"$f":"IF(OFFSET(DE100_7!$J$105,ROWS($J$105:J108)-1,COLUMNS($J$105:J108)-1)<>\"\",OFFSET(DE100_7!$J$105,ROWS($J$105:J108)-1,COLUMNS($J$105:J108)-1),\"\")","v":""},{"$f":"IF(OFFSET(DE100_7!$K$105,ROWS($K$105:K108)-1,COLUMNS($K$105:K108)-1)<>\"\",OFFSET(DE100_7!$K$105,ROWS($K$105:K108)-1,COLUMNS($K$105:K108)-1),\"\")","v":""},{"$f":"IF(OFFSET(DE100_7!$L$105,ROWS($L$105:L108)-1,COLUMNS($L$105:L108)-1)<>\"\",OFFSET(DE100_7!$L$105,ROWS($L$105:L108)-1,COLUMNS($L$105:L108)-1),\"\")","v":""},{"$f":"IF(OFFSET(DE100_7!$M$105,ROWS($M$105:M108)-1,COLUMNS($M$105:M108)-1)<>\"\",OFFSET(DE100_7!$M$105,ROWS($M$105:M108)-1,COLUMNS($M$105:M108)-1),\"\")","v":""},{"$f":"IF(OFFSET(DE100_7!$N$105,ROWS($N$105:N108)-1,COLUMNS($N$105:N108)-1)<>\"\",OFFSET(DE100_7!$N$105,ROWS($N$105:N108)-1,COLUMNS($N$105:N108)-1),\"\")","v":""},{"$f":"IF(OFFSET(DE100_7!$O$105,ROWS($O$105:O108)-1,COLUMNS($O$105:O108)-1)<>\"\",OFFSET(DE100_7!$O$105,ROWS($O$105:O108)-1,COLUMNS($O$105:O108)-1),\"\")","v":""},{"$f":"IF(OFFSET(DE100_7!$P$105,ROWS($P$105:P108)-1,COLUMNS($P$105:P108)-1)<>\"\",OFFSET(DE100_7!$P$105,ROWS($P$105:P108)-1,COLUMNS($P$105:P108)-1),\"\")","v":644.9},{"$f":"IF(OFFSET(DE100_7!$Q$105,ROWS($Q$105:Q108)-1,COLUMNS($Q$105:Q108)-1)<>\"\",OFFSET(DE100_7!$Q$105,ROWS($Q$105:Q108)-1,COLUMNS($Q$105:Q108)-1),\"\")","v":6},{"$f":"IF(OFFSET(DE100_7!$R$105,ROWS($R$105:R108)-1,COLUMNS($R$105:R108)-1)<>\"\",OFFSET(DE100_7!$R$105,ROWS($R$105:R108)-1,COLUMNS($R$105:R108)-1),\"\")","v":""},{"$f":"IF(OFFSET(DE100_7!$S$105,ROWS($S$105:S108)-1,COLUMNS($S$105:S108)-1)<>\"\",OFFSET(DE100_7!$S$105,ROWS($S$105:S108)-1,COLUMNS($S$105:S108)-1),\"\")","v":""},{"$f":"IF(OFFSET(DE100_7!$T$105,ROWS($T$105:T108)-1,COLUMNS($T$105:T108)-1)<>\"\",OFFSET(DE100_7!$T$105,ROWS($T$105:T108)-1,COLUMNS($T$105:T108)-1),\"\")","v":""},{"$f":"IF(OFFSET(DE100_7!$U$105,ROWS($U$105:U108)-1,COLUMNS($U$105:U108)-1)<>\"\",OFFSET(DE100_7!$U$105,ROWS($U$105:U108)-1,COLUMNS($U$105:U108)-1),\"\")","v":""},{"$f":"IF(OFFSET(DE100_7!$V$105,ROWS($V$105:V108)-1,COLUMNS($V$105:V108)-1)<>\"\",OFFSET(DE100_7!$V$105,ROWS($V$105:V108)-1,COLUMNS($V$105:V108)-1),\"\")","v":"RAMP 126B"}]
[{"$f":"IF(OFFSET(DE100_7!$C$105,ROWS($C$105:C109)-1,COLUMNS($C$105:C109)-1)<>\"\",OFFSET(DE100_7!$C$105,ROWS($C$105:C109)-1,COLUMNS($C$105:C109)-1),\"\")","v":252539.5},{"$f":"IF(OFFSET(DE100_7!$D$105,ROWS($D$105:D109)-1,COLUMNS($D$105:D109)-1)<>\"\",OFFSET(DE100_7!$D$105,ROWS($D$105:D109)-1,COLUMNS($D$105:D109)-1),\"\")","v":99.55},{"$f":"IF(OFFSET(DE100_7!$E$105,ROWS($E$105:E109)-1,COLUMNS($E$105:E109)-1)<>\"\",OFFSET(DE100_7!$E$105,ROWS($E$105:E109)-1,COLUMNS($E$105:E109)-1),\"\")","v":253035.58},{"$f":"IF(OFFSET(DE100_7!$F$105,ROWS($F$105:F109)-1,COLUMNS($F$105:F109)-1)<>\"\",OFFSET(DE100_7!$F$105,ROWS($F$105:F109)-1,COLUMNS($F$105:F109)-1),\"\")","v":204.82},{"$f":"IF(OFFSET(DE100_7!$G$105,ROWS($G$105:G109)-1,COLUMNS($G$105:G109)-1)<>\"\",OFFSET(DE100_7!$G$105,ROWS($G$105:G109)-1,COLUMNS($G$105:G109)-1),\"\")","v":"RT"},{"$f":"IF(OFFSET(DE100_7!$H$105,ROWS($H$105:H109)-1,COLUMNS($H$105:H109)-1)<>\"\",OFFSET(DE100_7!$H$105,ROWS($H$105:H109)-1,COLUMNS($H$105:H109)-1),\"\")","v":""},{"$f":"IF(OFFSET(DE100_7!$I$105,ROWS($I$105:I109)-1,COLUMNS($I$105:I109)-1)<>\"\",OFFSET(DE100_7!$I$105,ROWS($I$105:I109)-1,COLUMNS($I$105:I109)-1),\"\")","v":""},{"$f":"IF(OFFSET(DE100_7!$J$105,ROWS($J$105:J109)-1,COLUMNS($J$105:J109)-1)<>\"\",OFFSET(DE100_7!$J$105,ROWS($J$105:J109)-1,COLUMNS($J$105:J109)-1),\"\")","v":""},{"$f":"IF(OFFSET(DE100_7!$K$105,ROWS($K$105:K109)-1,COLUMNS($K$105:K109)-1)<>\"\",OFFSET(DE100_7!$K$105,ROWS($K$105:K109)-1,COLUMNS($K$105:K109)-1),\"\")","v":""},{"$f":"IF(OFFSET(DE100_7!$L$105,ROWS($L$105:L109)-1,COLUMNS($L$105:L109)-1)<>\"\",OFFSET(DE100_7!$L$105,ROWS($L$105:L109)-1,COLUMNS($L$105:L109)-1),\"\")","v":""},{"$f":"IF(OFFSET(DE100_7!$M$105,ROWS($M$105:M109)-1,COLUMNS($M$105:M109)-1)<>\"\",OFFSET(DE100_7!$M$105,ROWS($M$105:M109)-1,COLUMNS($M$105:M109)-1),\"\")","v":""},{"$f":"IF(OFFSET(DE100_7!$N$105,ROWS($N$105:N109)-1,COLUMNS($N$105:N109)-1)<>\"\",OFFSET(DE100_7!$N$105,ROWS($N$105:N109)-1,COLUMNS($N$105:N109)-1),\"\")","v":""},{"$f":"IF(OFFSET(DE100_7!$O$105,ROWS($O$105:O109)-1,COLUMNS($O$105:O109)-1)<>\"\",OFFSET(DE100_7!$O$105,ROWS($O$105:O109)-1,COLUMNS($O$105:O109)-1),\"\")","v":""},{"$f":"IF(OFFSET(DE100_7!$P$105,ROWS($P$105:P109)-1,COLUMNS($P$105:P109)-1)<>\"\",OFFSET(DE100_7!$P$105,ROWS($P$105:P109)-1,COLUMNS($P$105:P109)-1),\"\")","v":546.33000000000004},{"$f":"IF(OFFSET(DE100_7!$Q$105,ROWS($Q$105:Q109)-1,COLUMNS($Q$105:Q109)-1)<>\"\",OFFSET(DE100_7!$Q$105,ROWS($Q$105:Q109)-1,COLUMNS($Q$105:Q109)-1),\"\")","v":5},{"$f":"IF(OFFSET(DE100_7!$R$105,ROWS($R$105:R109)-1,COLUMNS($R$105:R109)-1)<>\"\",OFFSET(DE100_7!$R$105,ROWS($R$105:R109)-1,COLUMNS($R$105:R109)-1),\"\")","v":""},{"$f":"IF(OFFSET(DE100_7!$S$105,ROWS($S$105:S109)-1,COLUMNS($S$105:S109)-1)<>\"\",OFFSET(DE100_7!$S$105,ROWS($S$105:S109)-1,COLUMNS($S$105:S109)-1),\"\")","v":""},{"$f":"IF(OFFSET(DE100_7!$T$105,ROWS($T$105:T109)-1,COLUMNS($T$105:T109)-1)<>\"\",OFFSET(DE100_7!$T$105,ROWS($T$105:T109)-1,COLUMNS($T$105:T109)-1),\"\")","v":""},{"$f":"IF(OFFSET(DE100_7!$U$105,ROWS($U$105:U109)-1,COLUMNS($U$105:U109)-1)<>\"\",OFFSET(DE100_7!$U$105,ROWS($U$105:U109)-1,COLUMNS($U$105:U109)-1),\"\")","v":""},{"$f":"IF(OFFSET(DE100_7!$V$105,ROWS($V$105:V109)-1,COLUMNS($V$105:V109)-1)<>\"\",OFFSET(DE100_7!$V$105,ROWS($V$105:V109)-1,COLUMNS($V$105:V109)-1),\"\")","v":"RAMP 126B"}]
[{"$f":"IF(OFFSET(DE100_7!$C$105,ROWS($C$105:C110)-1,COLUMNS($C$105:C110)-1)<>\"\",OFFSET(DE100_7!$C$105,ROWS($C$105:C110)-1,COLUMNS($C$105:C110)-1),\"\")","v":""},{"$f":"IF(OFFSET(DE100_7!$D$105,ROWS($D$105:D110)-1,COLUMNS($D$105:D110)-1)<>\"\",OFFSET(DE100_7!$D$105,ROWS($D$105:D110)-1,COLUMNS($D$105:D110)-1),\"\")","v":""},{"$f":"IF(OFFSET(DE100_7!$E$105,ROWS($E$105:E110)-1,COLUMNS($E$105:E110)-1)<>\"\",OFFSET(DE100_7!$E$105,ROWS($E$105:E110)-1,COLUMNS($E$105:E110)-1),\"\")","v":""},{"$f":"IF(OFFSET(DE100_7!$F$105,ROWS($F$105:F110)-1,COLUMNS($F$105:F110)-1)<>\"\",OFFSET(DE100_7!$F$105,ROWS($F$105:F110)-1,COLUMNS($F$105:F110)-1),\"\")","v":""},{"$f":"IF(OFFSET(DE100_7!$G$105,ROWS($G$105:G110)-1,COLUMNS($G$105:G110)-1)<>\"\",OFFSET(DE100_7!$G$105,ROWS($G$105:G110)-1,COLUMNS($G$105:G110)-1),\"\")","v":""},{"$f":"IF(OFFSET(DE100_7!$H$105,ROWS($H$105:H110)-1,COLUMNS($H$105:H110)-1)<>\"\",OFFSET(DE100_7!$H$105,ROWS($H$105:H110)-1,COLUMNS($H$105:H110)-1),\"\")","v":""},{"$f":"IF(OFFSET(DE100_7!$I$105,ROWS($I$105:I110)-1,COLUMNS($I$105:I110)-1)<>\"\",OFFSET(DE100_7!$I$105,ROWS($I$105:I110)-1,COLUMNS($I$105:I110)-1),\"\")","v":""},{"$f":"IF(OFFSET(DE100_7!$J$105,ROWS($J$105:J110)-1,COLUMNS($J$105:J110)-1)<>\"\",OFFSET(DE100_7!$J$105,ROWS($J$105:J110)-1,COLUMNS($J$105:J110)-1),\"\")","v":""},{"$f":"IF(OFFSET(DE100_7!$K$105,ROWS($K$105:K110)-1,COLUMNS($K$105:K110)-1)<>\"\",OFFSET(DE100_7!$K$105,ROWS($K$105:K110)-1,COLUMNS($K$105:K110)-1),\"\")","v":""},{"$f":"IF(OFFSET(DE100_7!$L$105,ROWS($L$105:L110)-1,COLUMNS($L$105:L110)-1)<>\"\",OFFSET(DE100_7!$L$105,ROWS($L$105:L110)-1,COLUMNS($L$105:L110)-1),\"\")","v":""},{"$f":"IF(OFFSET(DE100_7!$M$105,ROWS($M$105:M110)-1,COLUMNS($M$105:M110)-1)<>\"\",OFFSET(DE100_7!$M$105,ROWS($M$105:M110)-1,COLUMNS($M$105:M110)-1),\"\")","v":""},{"$f":"IF(OFFSET(DE100_7!$N$105,ROWS($N$105:N110)-1,COLUMNS($N$105:N110)-1)<>\"\",OFFSET(DE100_7!$N$105,ROWS($N$105:N110)-1,COLUMNS($N$105:N110)-1),\"\")","v":""},{"$f":"IF(OFFSET(DE100_7!$O$105,ROWS($O$105:O110)-1,COLUMNS($O$105:O110)-1)<>\"\",OFFSET(DE100_7!$O$105,ROWS($O$105:O110)-1,COLUMNS($O$105:O110)-1),\"\")","v":""},{"$f":"IF(OFFSET(DE100_7!$P$105,ROWS($P$105:P110)-1,COLUMNS($P$105:P110)-1)<>\"\",OFFSET(DE100_7!$P$105,ROWS($P$105:P110)-1,COLUMNS($P$105:P110)-1),\"\")","v":""},{"$f":"IF(OFFSET(DE100_7!$Q$105,ROWS($Q$105:Q110)-1,COLUMNS($Q$105:Q110)-1)<>\"\",OFFSET(DE100_7!$Q$105,ROWS($Q$105:Q110)-1,COLUMNS($Q$105:Q110)-1),\"\")","v":""},{"$f":"IF(OFFSET(DE100_7!$R$105,ROWS($R$105:R110)-1,COLUMNS($R$105:R110)-1)<>\"\",OFFSET(DE100_7!$R$105,ROWS($R$105:R110)-1,COLUMNS($R$105:R110)-1),\"\")","v":""},{"$f":"IF(OFFSET(DE100_7!$S$105,ROWS($S$105:S110)-1,COLUMNS($S$105:S110)-1)<>\"\",OFFSET(DE100_7!$S$105,ROWS($S$105:S110)-1,COLUMNS($S$105:S110)-1),\"\")","v":""},{"$f":"IF(OFFSET(DE100_7!$T$105,ROWS($T$105:T110)-1,COLUMNS($T$105:T110)-1)<>\"\",OFFSET(DE100_7!$T$105,ROWS($T$105:T110)-1,COLUMNS($T$105:T110)-1),\"\")","v":""},{"$f":"IF(OFFSET(DE100_7!$U$105,ROWS($U$105:U110)-1,COLUMNS($U$105:U110)-1)<>\"\",OFFSET(DE100_7!$U$105,ROWS($U$105:U110)-1,COLUMNS($U$105:U110)-1),\"\")","v":""},{"$f":"IF(OFFSET(DE100_7!$V$105,ROWS($V$105:V110)-1,COLUMNS($V$105:V110)-1)<>\"\",OFFSET(DE100_7!$V$105,ROWS($V$105:V110)-1,COLUMNS($V$105:V110)-1),\"\")","v":""}]
[{"$f":"IF(OFFSET(DE100_7!$C$105,ROWS($C$105:C111)-1,COLUMNS($C$105:C111)-1)<>\"\",OFFSET(DE100_7!$C$105,ROWS($C$105:C111)-1,COLUMNS($C$105:C111)-1),\"\")","v":349762.61},{"$f":"IF(OFFSET(DE100_7!$D$105,ROWS($D$105:D111)-1,COLUMNS($D$105:D111)-1)<>\"\",OFFSET(DE100_7!$D$105,ROWS($D$105:D111)-1,COLUMNS($D$105:D111)-1),\"\")","v":65.81},{"$f":"IF(OFFSET(DE100_7!$E$105,ROWS($E$105:E111)-1,COLUMNS($E$105:E111)-1)<>\"\",OFFSET(DE100_7!$E$105,ROWS($E$105:E111)-1,COLUMNS($E$105:E111)-1),\"\")","v":350635.45},{"$f":"IF(OFFSET(DE100_7!$F$105,ROWS($F$105:F111)-1,COLUMNS($F$105:F111)-1)<>\"\",OFFSET(DE100_7!$F$105,ROWS($F$105:F111)-1,COLUMNS($F$105:F111)-1),\"\")","v":72.260000000000005},{"$f":"IF(OFFSET(DE100_7!$G$105,ROWS($G$105:G111)-1,COLUMNS($G$105:G111)-1)<>\"\",OFFSET(DE100_7!$G$105,ROWS($G$105:G111)-1,COLUMNS($G$105:G111)-1),\"\")","v":"RT"},{"$f":"IF(OFFSET(DE100_7!$H$105,ROWS($H$105:H111)-1,COLUMNS($H$105:H111)-1)<>\"\",OFFSET(DE100_7!$H$105,ROWS($H$105:H111)-1,COLUMNS($H$105:H111)-1),\"\")","v":""},{"$f":"IF(OFFSET(DE100_7!$I$105,ROWS($I$105:I111)-1,COLUMNS($I$105:I111)-1)<>\"\",OFFSET(DE100_7!$I$105,ROWS($I$105:I111)-1,COLUMNS($I$105:I111)-1),\"\")","v":""},{"$f":"IF(OFFSET(DE100_7!$J$105,ROWS($J$105:J111)-1,COLUMNS($J$105:J111)-1)<>\"\",OFFSET(DE100_7!$J$105,ROWS($J$105:J111)-1,COLUMNS($J$105:J111)-1),\"\")","v":""},{"$f":"IF(OFFSET(DE100_7!$K$105,ROWS($K$105:K111)-1,COLUMNS($K$105:K111)-1)<>\"\",OFFSET(DE100_7!$K$105,ROWS($K$105:K111)-1,COLUMNS($K$105:K111)-1),\"\")","v":""},{"$f":"IF(OFFSET(DE100_7!$L$105,ROWS($L$105:L111)-1,COLUMNS($L$105:L111)-1)<>\"\",OFFSET(DE100_7!$L$105,ROWS($L$105:L111)-1,COLUMNS($L$105:L111)-1),\"\")","v":""},{"$f":"IF(OFFSET(DE100_7!$M$105,ROWS($M$105:M111)-1,COLUMNS($M$105:M111)-1)<>\"\",OFFSET(DE100_7!$M$105,ROWS($M$105:M111)-1,COLUMNS($M$105:M111)-1),\"\")","v":""},{"$f":"IF(OFFSET(DE100_7!$N$105,ROWS($N$105:N111)-1,COLUMNS($N$105:N111)-1)<>\"\",OFFSET(DE100_7!$N$105,ROWS($N$105:N111)-1,COLUMNS($N$105:N111)-1),\"\")","v":""},{"$f":"IF(OFFSET(DE100_7!$O$105,ROWS($O$105:O111)-1,COLUMNS($O$105:O111)-1)<>\"\",OFFSET(DE100_7!$O$105,ROWS($O$105:O111)-1,COLUMNS($O$105:O111)-1),\"\")","v":""},{"$f":"IF(OFFSET(DE100_7!$P$105,ROWS($P$105:P111)-1,COLUMNS($P$105:P111)-1)<>\"\",OFFSET(DE100_7!$P$105,ROWS($P$105:P111)-1,COLUMNS($P$105:P111)-1),\"\")","v":856.1},{"$f":"IF(OFFSET(DE100_7!$Q$105,ROWS($Q$105:Q111)-1,COLUMNS($Q$105:Q111)-1)<>\"\",OFFSET(DE100_7!$Q$105,ROWS($Q$105:Q111)-1,COLUMNS($Q$105:Q111)-1),\"\")","v":4},{"$f":"IF(OFFSET(DE100_7!$R$105,ROWS($R$105:R111)-1,COLUMNS($R$105:R111)-1)<>\"\",OFFSET(DE100_7!$R$105,ROWS($R$105:R111)-1,COLUMNS($R$105:R111)-1),\"\")","v":""},{"$f":"IF(OFFSET(DE100_7!$S$105,ROWS($S$105:S111)-1,COLUMNS($S$105:S111)-1)<>\"\",OFFSET(DE100_7!$S$105,ROWS($S$105:S111)-1,COLUMNS($S$105:S111)-1),\"\")","v":""},{"$f":"IF(OFFSET(DE100_7!$T$105,ROWS($T$105:T111)-1,COLUMNS($T$105:T111)-1)<>\"\",OFFSET(DE100_7!$T$105,ROWS($T$105:T111)-1,COLUMNS($T$105:T111)-1),\"\")","v":""},{"$f":"IF(OFFSET(DE100_7!$U$105,ROWS($U$105:U111)-1,COLUMNS($U$105:U111)-1)<>\"\",OFFSET(DE100_7!$U$105,ROWS($U$105:U111)-1,COLUMNS($U$105:U111)-1),\"\")","v":""},{"$f":"IF(OFFSET(DE100_7!$V$105,ROWS($V$105:V111)-1,COLUMNS($V$105:V111)-1)<>\"\",OFFSET(DE100_7!$V$105,ROWS($V$105:V111)-1,COLUMNS($V$105:V111)-1),\"\")","v":"RAMP 126C"}]
[{"$f":"IF(OFFSET(DE100_7!$C$105,ROWS($C$105:C112)-1,COLUMNS($C$105:C112)-1)<>\"\",OFFSET(DE100_7!$C$105,ROWS($C$105:C112)-1,COLUMNS($C$105:C112)-1),\"\")","v":""},{"$f":"IF(OFFSET(DE100_7!$D$105,ROWS($D$105:D112)-1,COLUMNS($D$105:D112)-1)<>\"\",OFFSET(DE100_7!$D$105,ROWS($D$105:D112)-1,COLUMNS($D$105:D112)-1),\"\")","v":""},{"$f":"IF(OFFSET(DE100_7!$E$105,ROWS($E$105:E112)-1,COLUMNS($E$105:E112)-1)<>\"\",OFFSET(DE100_7!$E$105,ROWS($E$105:E112)-1,COLUMNS($E$105:E112)-1),\"\")","v":""},{"$f":"IF(OFFSET(DE100_7!$F$105,ROWS($F$105:F112)-1,COLUMNS($F$105:F112)-1)<>\"\",OFFSET(DE100_7!$F$105,ROWS($F$105:F112)-1,COLUMNS($F$105:F112)-1),\"\")","v":""},{"$f":"IF(OFFSET(DE100_7!$G$105,ROWS($G$105:G112)-1,COLUMNS($G$105:G112)-1)<>\"\",OFFSET(DE100_7!$G$105,ROWS($G$105:G112)-1,COLUMNS($G$105:G112)-1),\"\")","v":""},{"$f":"IF(OFFSET(DE100_7!$H$105,ROWS($H$105:H112)-1,COLUMNS($H$105:H112)-1)<>\"\",OFFSET(DE100_7!$H$105,ROWS($H$105:H112)-1,COLUMNS($H$105:H112)-1),\"\")","v":""},{"$f":"IF(OFFSET(DE100_7!$I$105,ROWS($I$105:I112)-1,COLUMNS($I$105:I112)-1)<>\"\",OFFSET(DE100_7!$I$105,ROWS($I$105:I112)-1,COLUMNS($I$105:I112)-1),\"\")","v":""},{"$f":"IF(OFFSET(DE100_7!$J$105,ROWS($J$105:J112)-1,COLUMNS($J$105:J112)-1)<>\"\",OFFSET(DE100_7!$J$105,ROWS($J$105:J112)-1,COLUMNS($J$105:J112)-1),\"\")","v":""},{"$f":"IF(OFFSET(DE100_7!$K$105,ROWS($K$105:K112)-1,COLUMNS($K$105:K112)-1)<>\"\",OFFSET(DE100_7!$K$105,ROWS($K$105:K112)-1,COLUMNS($K$105:K112)-1),\"\")","v":""},{"$f":"IF(OFFSET(DE100_7!$L$105,ROWS($L$105:L112)-1,COLUMNS($L$105:L112)-1)<>\"\",OFFSET(DE100_7!$L$105,ROWS($L$105:L112)-1,COLUMNS($L$105:L112)-1),\"\")","v":""},{"$f":"IF(OFFSET(DE100_7!$M$105,ROWS($M$105:M112)-1,COLUMNS($M$105:M112)-1)<>\"\",OFFSET(DE100_7!$M$105,ROWS($M$105:M112)-1,COLUMNS($M$105:M112)-1),\"\")","v":""},{"$f":"IF(OFFSET(DE100_7!$N$105,ROWS($N$105:N112)-1,COLUMNS($N$105:N112)-1)<>\"\",OFFSET(DE100_7!$N$105,ROWS($N$105:N112)-1,COLUMNS($N$105:N112)-1),\"\")","v":""},{"$f":"IF(OFFSET(DE100_7!$O$105,ROWS($O$105:O112)-1,COLUMNS($O$105:O112)-1)<>\"\",OFFSET(DE100_7!$O$105,ROWS($O$105:O112)-1,COLUMNS($O$105:O112)-1),\"\")","v":""},{"$f":"IF(OFFSET(DE100_7!$P$105,ROWS($P$105:P112)-1,COLUMNS($P$105:P112)-1)<>\"\",OFFSET(DE100_7!$P$105,ROWS($P$105:P112)-1,COLUMNS($P$105:P112)-1),\"\")","v":""},{"$f":"IF(OFFSET(DE100_7!$Q$105,ROWS($Q$105:Q112)-1,COLUMNS($Q$105:Q112)-1)<>\"\",OFFSET(DE100_7!$Q$105,ROWS($Q$105:Q112)-1,COLUMNS($Q$105:Q112)-1),\"\")","v":""},{"$f":"IF(OFFSET(DE100_7!$R$105,ROWS($R$105:R112)-1,COLUMNS($R$105:R112)-1)<>\"\",OFFSET(DE100_7!$R$105,ROWS($R$105:R112)-1,COLUMNS($R$105:R112)-1),\"\")","v":""},{"$f":"IF(OFFSET(DE100_7!$S$105,ROWS($S$105:S112)-1,COLUMNS($S$105:S112)-1)<>\"\",OFFSET(DE100_7!$S$105,ROWS($S$105:S112)-1,COLUMNS($S$105:S112)-1),\"\")","v":""},{"$f":"IF(OFFSET(DE100_7!$T$105,ROWS($T$105:T112)-1,COLUMNS($T$105:T112)-1)<>\"\",OFFSET(DE100_7!$T$105,ROWS($T$105:T112)-1,COLUMNS($T$105:T112)-1),\"\")","v":""},{"$f":"IF(OFFSET(DE100_7!$U$105,ROWS($U$105:U112)-1,COLUMNS($U$105:U112)-1)<>\"\",OFFSET(DE100_7!$U$105,ROWS($U$105:U112)-1,COLUMNS($U$105:U112)-1),\"\")","v":""},{"$f":"IF(OFFSET(DE100_7!$V$105,ROWS($V$105:V112)-1,COLUMNS($V$105:V112)-1)<>\"\",OFFSET(DE100_7!$V$105,ROWS($V$105:V112)-1,COLUMNS($V$105:V112)-1),\"\")","v":""}]
[{"$f":"IF(OFFSET(DE100_7!$C$105,ROWS($C$105:C113)-1,COLUMNS($C$105:C113)-1)<>\"\",OFFSET(DE100_7!$C$105,ROWS($C$105:C113)-1,COLUMNS($C$105:C113)-1),\"\")","v":456179.41},{"$f":"IF(OFFSET(DE100_7!$D$105,ROWS($D$105:D113)-1,COLUMNS($D$105:D113)-1)<>\"\",OFFSET(DE100_7!$D$105,ROWS($D$105:D113)-1,COLUMNS($D$105:D113)-1),\"\")","v":159.12},{"$f":"IF(OFFSET(DE100_7!$E$105,ROWS($E$105:E113)-1,COLUMNS($E$105:E113)-1)<>\"\",OFFSET(DE100_7!$E$105,ROWS($E$105:E113)-1,COLUMNS($E$105:E113)-1),\"\")","v":456455.48},{"$f":"IF(OFFSET(DE100_7!$F$105,ROWS($F$105:F113)-1,COLUMNS($F$105:F113)-1)<>\"\",OFFSET(DE100_7!$F$105,ROWS($F$105:F113)-1,COLUMNS($F$105:F113)-1),\"\")","v":84.11},{"$f":"IF(OFFSET(DE100_7!$G$105,ROWS($G$105:G113)-1,COLUMNS($G$105:G113)-1)<>\"\",OFFSET(DE100_7!$G$105,ROWS($G$105:G113)-1,COLUMNS($G$105:G113)-1),\"\")","v":"RT"},{"$f":"IF(OFFSET(DE100_7!$H$105,ROWS($H$105:H113)-1,COLUMNS($H$105:H113)-1)<>\"\",OFFSET(DE100_7!$H$105,ROWS($H$105:H113)-1,COLUMNS($H$105:H113)-1),\"\")","v":299.60000000000002},{"$f":"IF(OFFSET(DE100_7!$I$105,ROWS($I$105:I113)-1,COLUMNS($I$105:I113)-1)<>\"\",OFFSET(DE100_7!$I$105,ROWS($I$105:I113)-1,COLUMNS($I$105:I113)-1),\"\")","v":"72 IN."},{"$f":"IF(OFFSET(DE100_7!$J$105,ROWS($J$105:J113)-1,COLUMNS($J$105:J113)-1)<>\"\",OFFSET(DE100_7!$J$105,ROWS($J$105:J113)-1,COLUMNS($J$105:J113)-1),\"\")","v":""},{"$f":"IF(OFFSET(DE100_7!$K$105,ROWS($K$105:K113)-1,COLUMNS($K$105:K113)-1)<>\"\",OFFSET(DE100_7!$K$105,ROWS($K$105:K113)-1,COLUMNS($K$105:K113)-1),\"\")","v":""},{"$f":"IF(OFFSET(DE100_7!$L$105,ROWS($L$105:L113)-1,COLUMNS($L$105:L113)-1)<>\"\",OFFSET(DE100_7!$L$105,ROWS($L$105:L113)-1,COLUMNS($L$105:L113)-1),\"\")","v":""},{"$f":"IF(OFFSET(DE100_7!$M$105,ROWS($M$105:M113)-1,COLUMNS($M$105:M113)-1)<>\"\",OFFSET(DE100_7!$M$105,ROWS($M$105:M113)-1,COLUMNS($M$105:M113)-1),\"\")","v":""},{"$f":"IF(OFFSET(DE100_7!$N$105,ROWS($N$105:N113)-1,COLUMNS($N$105:N113)-1)<>\"\",OFFSET(DE100_7!$N$105,ROWS($N$105:N113)-1,COLUMNS($N$105:N113)-1),\"\")","v":""},{"$f":"IF(OFFSET(DE100_7!$O$105,ROWS($O$105:O113)-1,COLUMNS($O$105:O113)-1)<>\"\",OFFSET(DE100_7!$O$105,ROWS($O$105:O113)-1,COLUMNS($O$105:O113)-1),\"\")","v":""},{"$f":"IF(OFFSET(DE100_7!$P$105,ROWS($P$105:P113)-1,COLUMNS($P$105:P113)-1)<>\"\",OFFSET(DE100_7!$P$105,ROWS($P$105:P113)-1,COLUMNS($P$105:P113)-1),\"\")","v":""},{"$f":"IF(OFFSET(DE100_7!$Q$105,ROWS($Q$105:Q113)-1,COLUMNS($Q$105:Q113)-1)<>\"\",OFFSET(DE100_7!$Q$105,ROWS($Q$105:Q113)-1,COLUMNS($Q$105:Q113)-1),\"\")","v":""},{"$f":"IF(OFFSET(DE100_7!$R$105,ROWS($R$105:R113)-1,COLUMNS($R$105:R113)-1)<>\"\",OFFSET(DE100_7!$R$105,ROWS($R$105:R113)-1,COLUMNS($R$105:R113)-1),\"\")","v":""},{"$f":"IF(OFFSET(DE100_7!$S$105,ROWS($S$105:S113)-1,COLUMNS($S$105:S113)-1)<>\"\",OFFSET(DE100_7!$S$105,ROWS($S$105:S113)-1,COLUMNS($S$105:S113)-1),\"\")","v":""},{"$f":"IF(OFFSET(DE100_7!$T$105,ROWS($T$105:T113)-1,COLUMNS($T$105:T113)-1)<>\"\",OFFSET(DE100_7!$T$105,ROWS($T$105:T113)-1,COLUMNS($T$105:T113)-1),\"\")","v":""},{"$f":"IF(OFFSET(DE100_7!$U$105,ROWS($U$105:U113)-1,COLUMNS($U$105:U113)-1)<>\"\",OFFSET(DE100_7!$U$105,ROWS($U$105:U113)-1,COLUMNS($U$105:U113)-1),\"\")","v":""},{"$f":"IF(OFFSET(DE100_7!$V$105,ROWS($V$105:V113)-1,COLUMNS($V$105:V113)-1)<>\"\",OFFSET(DE100_7!$V$105,ROWS($V$105:V113)-1,COLUMNS($V$105:V113)-1),\"\")","v":"RAMP 126D"}]
[{"$f":"IF(OFFSET(DE100_7!$C$105,ROWS($C$105:C114)-1,COLUMNS($C$105:C114)-1)<>\"\",OFFSET(DE100_7!$C$105,ROWS($C$105:C114)-1,COLUMNS($C$105:C114)-1),\"\")","v":456455.48},{"$f":"IF(OFFSET(DE100_7!$D$105,ROWS($D$105:D114)-1,COLUMNS($D$105:D114)-1)<>\"\",OFFSET(DE100_7!$D$105,ROWS($D$105:D114)-1,COLUMNS($D$105:D114)-1),\"\")","v":84.1},{"$f":"IF(OFFSET(DE100_7!$E$105,ROWS($E$105:E114)-1,COLUMNS($E$105:E114)-1)<>\"\",OFFSET(DE100_7!$E$105,ROWS($E$105:E114)-1,COLUMNS($E$105:E114)-1),\"\")","v":456984.95},{"$f":"IF(OFFSET(DE100_7!$F$105,ROWS($F$105:F114)-1,COLUMNS($F$105:F114)-1)<>\"\",OFFSET(DE100_7!$F$105,ROWS($F$105:F114)-1,COLUMNS($F$105:F114)-1),\"\")","v":62.01},{"$f":"IF(OFFSET(DE100_7!$G$105,ROWS($G$105:G114)-1,COLUMNS($G$105:G114)-1)<>\"\",OFFSET(DE100_7!$G$105,ROWS($G$105:G114)-1,COLUMNS($G$105:G114)-1),\"\")","v":"RT"},{"$f":"IF(OFFSET(DE100_7!$H$105,ROWS($H$105:H114)-1,COLUMNS($H$105:H114)-1)<>\"\",OFFSET(DE100_7!$H$105,ROWS($H$105:H114)-1,COLUMNS($H$105:H114)-1),\"\")","v":528.29999999999995},{"$f":"IF(OFFSET(DE100_7!$I$105,ROWS($I$105:I114)-1,COLUMNS($I$105:I114)-1)<>\"\",OFFSET(DE100_7!$I$105,ROWS($I$105:I114)-1,COLUMNS($I$105:I114)-1),\"\")","v":"72 IN."},{"$f":"IF(OFFSET(DE100_7!$J$105,ROWS($J$105:J114)-1,COLUMNS($J$105:J114)-1)<>\"\",OFFSET(DE100_7!$J$105,ROWS($J$105:J114)-1,COLUMNS($J$105:J114)-1),\"\")","v":""},{"$f":"IF(OFFSET(DE100_7!$K$105,ROWS($K$105:K114)-1,COLUMNS($K$105:K114)-1)<>\"\",OFFSET(DE100_7!$K$105,ROWS($K$105:K114)-1,COLUMNS($K$105:K114)-1),\"\")","v":""},{"$f":"IF(OFFSET(DE100_7!$L$105,ROWS($L$105:L114)-1,COLUMNS($L$105:L114)-1)<>\"\",OFFSET(DE100_7!$L$105,ROWS($L$105:L114)-1,COLUMNS($L$105:L114)-1),\"\")","v":""},{"$f":"IF(OFFSET(DE100_7!$M$105,ROWS($M$105:M114)-1,COLUMNS($M$105:M114)-1)<>\"\",OFFSET(DE100_7!$M$105,ROWS($M$105:M114)-1,COLUMNS($M$105:M114)-1),\"\")","v":""},{"$f":"IF(OFFSET(DE100_7!$N$105,ROWS($N$105:N114)-1,COLUMNS($N$105:N114)-1)<>\"\",OFFSET(DE100_7!$N$105,ROWS($N$105:N114)-1,COLUMNS($N$105:N114)-1),\"\")","v":""},{"$f":"IF(OFFSET(DE100_7!$O$105,ROWS($O$105:O114)-1,COLUMNS($O$105:O114)-1)<>\"\",OFFSET(DE100_7!$O$105,ROWS($O$105:O114)-1,COLUMNS($O$105:O114)-1),\"\")","v":""},{"$f":"IF(OFFSET(DE100_7!$P$105,ROWS($P$105:P114)-1,COLUMNS($P$105:P114)-1)<>\"\",OFFSET(DE100_7!$P$105,ROWS($P$105:P114)-1,COLUMNS($P$105:P114)-1),\"\")","v":""},{"$f":"IF(OFFSET(DE100_7!$Q$105,ROWS($Q$105:Q114)-1,COLUMNS($Q$105:Q114)-1)<>\"\",OFFSET(DE100_7!$Q$105,ROWS($Q$105:Q114)-1,COLUMNS($Q$105:Q114)-1),\"\")","v":""},{"$f":"IF(OFFSET(DE100_7!$R$105,ROWS($R$105:R114)-1,COLUMNS($R$105:R114)-1)<>\"\",OFFSET(DE100_7!$R$105,ROWS($R$105:R114)-1,COLUMNS($R$105:R114)-1),\"\")","v":""},{"$f":"IF(OFFSET(DE100_7!$S$105,ROWS($S$105:S114)-1,COLUMNS($S$105:S114)-1)<>\"\",OFFSET(DE100_7!$S$105,ROWS($S$105:S114)-1,COLUMNS($S$105:S114)-1),\"\")","v":""},{"$f":"IF(OFFSET(DE100_7!$T$105,ROWS($T$105:T114)-1,COLUMNS($T$105:T114)-1)<>\"\",OFFSET(DE100_7!$T$105,ROWS($T$105:T114)-1,COLUMNS($T$105:T114)-1),\"\")","v":""},{"$f":"IF(OFFSET(DE100_7!$U$105,ROWS($U$105:U114)-1,COLUMNS($U$105:U114)-1)<>\"\",OFFSET(DE100_7!$U$105,ROWS($U$105:U114)-1,COLUMNS($U$105:U114)-1),\"\")","v":""},{"$f":"IF(OFFSET(DE100_7!$V$105,ROWS($V$105:V114)-1,COLUMNS($V$105:V114)-1)<>\"\",OFFSET(DE100_7!$V$105,ROWS($V$105:V114)-1,COLUMNS($V$105:V114)-1),\"\")","v":"RAMP 126D"}]
[{"$f":"IF(OFFSET(DE100_7!$C$105,ROWS($C$105:C115)-1,COLUMNS($C$105:C115)-1)<>\"\",OFFSET(DE100_7!$C$105,ROWS($C$105:C115)-1,COLUMNS($C$105:C115)-1),\"\")","v":456984.95},{"$f":"IF(OFFSET(DE100_7!$D$105,ROWS($D$105:D115)-1,COLUMNS($D$105:D115)-1)<>\"\",OFFSET(DE100_7!$D$105,ROWS($D$105:D115)-1,COLUMNS($D$105:D115)-1),\"\")","v":62.01},{"$f":"IF(OFFSET(DE100_7!$E$105,ROWS($E$105:E115)-1,COLUMNS($E$105:E115)-1)<>\"\",OFFSET(DE100_7!$E$105,ROWS($E$105:E115)-1,COLUMNS($E$105:E115)-1),\"\")","v":457240.3},{"$f":"IF(OFFSET(DE100_7!$F$105,ROWS($F$105:F115)-1,COLUMNS($F$105:F115)-1)<>\"\",OFFSET(DE100_7!$F$105,ROWS($F$105:F115)-1,COLUMNS($F$105:F115)-1),\"\")","v":59.34},{"$f":"IF(OFFSET(DE100_7!$G$105,ROWS($G$105:G115)-1,COLUMNS($G$105:G115)-1)<>\"\",OFFSET(DE100_7!$G$105,ROWS($G$105:G115)-1,COLUMNS($G$105:G115)-1),\"\")","v":"RT"},{"$f":"IF(OFFSET(DE100_7!$H$105,ROWS($H$105:H115)-1,COLUMNS($H$105:H115)-1)<>\"\",OFFSET(DE100_7!$H$105,ROWS($H$105:H115)-1,COLUMNS($H$105:H115)-1),\"\")","v":247.4},{"$f":"IF(OFFSET(DE100_7!$I$105,ROWS($I$105:I115)-1,COLUMNS($I$105:I115)-1)<>\"\",OFFSET(DE100_7!$I$105,ROWS($I$105:I115)-1,COLUMNS($I$105:I115)-1),\"\")","v":"72 IN."},{"$f":"IF(OFFSET(DE100_7!$J$105,ROWS($J$105:J115)-1,COLUMNS($J$105:J115)-1)<>\"\",OFFSET(DE100_7!$J$105,ROWS($J$105:J115)-1,COLUMNS($J$105:J115)-1),\"\")","v":""},{"$f":"IF(OFFSET(DE100_7!$K$105,ROWS($K$105:K115)-1,COLUMNS($K$105:K115)-1)<>\"\",OFFSET(DE100_7!$K$105,ROWS($K$105:K115)-1,COLUMNS($K$105:K115)-1),\"\")","v":""},{"$f":"IF(OFFSET(DE100_7!$L$105,ROWS($L$105:L115)-1,COLUMNS($L$105:L115)-1)<>\"\",OFFSET(DE100_7!$L$105,ROWS($L$105:L115)-1,COLUMNS($L$105:L115)-1),\"\")","v":""},{"$f":"IF(OFFSET(DE100_7!$M$105,ROWS($M$105:M115)-1,COLUMNS($M$105:M115)-1)<>\"\",OFFSET(DE100_7!$M$105,ROWS($M$105:M115)-1,COLUMNS($M$105:M115)-1),\"\")","v":""},{"$f":"IF(OFFSET(DE100_7!$N$105,ROWS($N$105:N115)-1,COLUMNS($N$105:N115)-1)<>\"\",OFFSET(DE100_7!$N$105,ROWS($N$105:N115)-1,COLUMNS($N$105:N115)-1),\"\")","v":""},{"$f":"IF(OFFSET(DE100_7!$O$105,ROWS($O$105:O115)-1,COLUMNS($O$105:O115)-1)<>\"\",OFFSET(DE100_7!$O$105,ROWS($O$105:O115)-1,COLUMNS($O$105:O115)-1),\"\")","v":""},{"$f":"IF(OFFSET(DE100_7!$P$105,ROWS($P$105:P115)-1,COLUMNS($P$105:P115)-1)<>\"\",OFFSET(DE100_7!$P$105,ROWS($P$105:P115)-1,COLUMNS($P$105:P115)-1),\"\")","v":""},{"$f":"IF(OFFSET(DE100_7!$Q$105,ROWS($Q$105:Q115)-1,COLUMNS($Q$105:Q115)-1)<>\"\",OFFSET(DE100_7!$Q$105,ROWS($Q$105:Q115)-1,COLUMNS($Q$105:Q115)-1),\"\")","v":""},{"$f":"IF(OFFSET(DE100_7!$R$105,ROWS($R$105:R115)-1,COLUMNS($R$105:R115)-1)<>\"\",OFFSET(DE100_7!$R$105,ROWS($R$105:R115)-1,COLUMNS($R$105:R115)-1),\"\")","v":""},{"$f":"IF(OFFSET(DE100_7!$S$105,ROWS($S$105:S115)-1,COLUMNS($S$105:S115)-1)<>\"\",OFFSET(DE100_7!$S$105,ROWS($S$105:S115)-1,COLUMNS($S$105:S115)-1),\"\")","v":""},{"$f":"IF(OFFSET(DE100_7!$T$105,ROWS($T$105:T115)-1,COLUMNS($T$105:T115)-1)<>\"\",OFFSET(DE100_7!$T$105,ROWS($T$105:T115)-1,COLUMNS($T$105:T115)-1),\"\")","v":""},{"$f":"IF(OFFSET(DE100_7!$U$105,ROWS($U$105:U115)-1,COLUMNS($U$105:U115)-1)<>\"\",OFFSET(DE100_7!$U$105,ROWS($U$105:U115)-1,COLUMNS($U$105:U115)-1),\"\")","v":""},{"$f":"IF(OFFSET(DE100_7!$V$105,ROWS($V$105:V115)-1,COLUMNS($V$105:V115)-1)<>\"\",OFFSET(DE100_7!$V$105,ROWS($V$105:V115)-1,COLUMNS($V$105:V115)-1),\"\")","v":"RAMP 126D"}]
[{"$f":"IF(OFFSET(DE100_7!$C$105,ROWS($C$105:C116)-1,COLUMNS($C$105:C116)-1)<>\"\",OFFSET(DE100_7!$C$105,ROWS($C$105:C116)-1,COLUMNS($C$105:C116)-1),\"\")","v":457240.3},{"$f":"IF(OFFSET(DE100_7!$D$105,ROWS($D$105:D116)-1,COLUMNS($D$105:D116)-1)<>\"\",OFFSET(DE100_7!$D$105,ROWS($D$105:D116)-1,COLUMNS($D$105:D116)-1),\"\")","v":59.34},{"$f":"IF(OFFSET(DE100_7!$E$105,ROWS($E$105:E116)-1,COLUMNS($E$105:E116)-1)<>\"\",OFFSET(DE100_7!$E$105,ROWS($E$105:E116)-1,COLUMNS($E$105:E116)-1),\"\")","v":457484.41},{"$f":"IF(OFFSET(DE100_7!$F$105,ROWS($F$105:F116)-1,COLUMNS($F$105:F116)-1)<>\"\",OFFSET(DE100_7!$F$105,ROWS($F$105:F116)-1,COLUMNS($F$105:F116)-1),\"\")","v":68},{"$f":"IF(OFFSET(DE100_7!$G$105,ROWS($G$105:G116)-1,COLUMNS($G$105:G116)-1)<>\"\",OFFSET(DE100_7!$G$105,ROWS($G$105:G116)-1,COLUMNS($G$105:G116)-1),\"\")","v":"RT"},{"$f":"IF(OFFSET(DE100_7!$H$105,ROWS($H$105:H116)-1,COLUMNS($H$105:H116)-1)<>\"\",OFFSET(DE100_7!$H$105,ROWS($H$105:H116)-1,COLUMNS($H$105:H116)-1),\"\")","v":236.4},{"$f":"IF(OFFSET(DE100_7!$I$105,ROWS($I$105:I116)-1,COLUMNS($I$105:I116)-1)<>\"\",OFFSET(DE100_7!$I$105,ROWS($I$105:I116)-1,COLUMNS($I$105:I116)-1),\"\")","v":"72 IN."},{"$f":"IF(OFFSET(DE100_7!$J$105,ROWS($J$105:J116)-1,COLUMNS($J$105:J116)-1)<>\"\",OFFSET(DE100_7!$J$105,ROWS($J$105:J116)-1,COLUMNS($J$105:J116)-1),\"\")","v":""},{"$f":"IF(OFFSET(DE100_7!$K$105,ROWS($K$105:K116)-1,COLUMNS($K$105:K116)-1)<>\"\",OFFSET(DE100_7!$K$105,ROWS($K$105:K116)-1,COLUMNS($K$105:K116)-1),\"\")","v":""},{"$f":"IF(OFFSET(DE100_7!$L$105,ROWS($L$105:L116)-1,COLUMNS($L$105:L116)-1)<>\"\",OFFSET(DE100_7!$L$105,ROWS($L$105:L116)-1,COLUMNS($L$105:L116)-1),\"\")","v":""},{"$f":"IF(OFFSET(DE100_7!$M$105,ROWS($M$105:M116)-1,COLUMNS($M$105:M116)-1)<>\"\",OFFSET(DE100_7!$M$105,ROWS($M$105:M116)-1,COLUMNS($M$105:M116)-1),\"\")","v":""},{"$f":"IF(OFFSET(DE100_7!$N$105,ROWS($N$105:N116)-1,COLUMNS($N$105:N116)-1)<>\"\",OFFSET(DE100_7!$N$105,ROWS($N$105:N116)-1,COLUMNS($N$105:N116)-1),\"\")","v":""},{"$f":"IF(OFFSET(DE100_7!$O$105,ROWS($O$105:O116)-1,COLUMNS($O$105:O116)-1)<>\"\",OFFSET(DE100_7!$O$105,ROWS($O$105:O116)-1,COLUMNS($O$105:O116)-1),\"\")","v":""},{"$f":"IF(OFFSET(DE100_7!$P$105,ROWS($P$105:P116)-1,COLUMNS($P$105:P116)-1)<>\"\",OFFSET(DE100_7!$P$105,ROWS($P$105:P116)-1,COLUMNS($P$105:P116)-1),\"\")","v":""},{"$f":"IF(OFFSET(DE100_7!$Q$105,ROWS($Q$105:Q116)-1,COLUMNS($Q$105:Q116)-1)<>\"\",OFFSET(DE100_7!$Q$105,ROWS($Q$105:Q116)-1,COLUMNS($Q$105:Q116)-1),\"\")","v":""},{"$f":"IF(OFFSET(DE100_7!$R$105,ROWS($R$105:R116)-1,COLUMNS($R$105:R116)-1)<>\"\",OFFSET(DE100_7!$R$105,ROWS($R$105:R116)-1,COLUMNS($R$105:R116)-1),\"\")","v":""},{"$f":"IF(OFFSET(DE100_7!$S$105,ROWS($S$105:S116)-1,COLUMNS($S$105:S116)-1)<>\"\",OFFSET(DE100_7!$S$105,ROWS($S$105:S116)-1,COLUMNS($S$105:S116)-1),\"\")","v":""},{"$f":"IF(OFFSET(DE100_7!$T$105,ROWS($T$105:T116)-1,COLUMNS($T$105:T116)-1)<>\"\",OFFSET(DE100_7!$T$105,ROWS($T$105:T116)-1,COLUMNS($T$105:T116)-1),\"\")","v":""},{"$f":"IF(OFFSET(DE100_7!$U$105,ROWS($U$105:U116)-1,COLUMNS($U$105:U116)-1)<>\"\",OFFSET(DE100_7!$U$105,ROWS($U$105:U116)-1,COLUMNS($U$105:U116)-1),\"\")","v":""},{"$f":"IF(OFFSET(DE100_7!$V$105,ROWS($V$105:V116)-1,COLUMNS($V$105:V116)-1)<>\"\",OFFSET(DE100_7!$V$105,ROWS($V$105:V116)-1,COLUMNS($V$105:V116)-1),\"\")","v":"RAMP 126D"}]
[{"$f":"IF(OFFSET(DE100_7!$C$105,ROWS($C$105:C117)-1,COLUMNS($C$105:C117)-1)<>\"\",OFFSET(DE100_7!$C$105,ROWS($C$105:C117)-1,COLUMNS($C$105:C117)-1),\"\")","v":457484.41},{"$f":"IF(OFFSET(DE100_7!$D$105,ROWS($D$105:D117)-1,COLUMNS($D$105:D117)-1)<>\"\",OFFSET(DE100_7!$D$105,ROWS($D$105:D117)-1,COLUMNS($D$105:D117)-1),\"\")","v":68},{"$f":"IF(OFFSET(DE100_7!$E$105,ROWS($E$105:E117)-1,COLUMNS($E$105:E117)-1)<>\"\",OFFSET(DE100_7!$E$105,ROWS($E$105:E117)-1,COLUMNS($E$105:E117)-1),\"\")","v":457594.94},{"$f":"IF(OFFSET(DE100_7!$F$105,ROWS($F$105:F117)-1,COLUMNS($F$105:F117)-1)<>\"\",OFFSET(DE100_7!$F$105,ROWS($F$105:F117)-1,COLUMNS($F$105:F117)-1),\"\")","v":62.18},{"$f":"IF(OFFSET(DE100_7!$G$105,ROWS($G$105:G117)-1,COLUMNS($G$105:G117)-1)<>\"\",OFFSET(DE100_7!$G$105,ROWS($G$105:G117)-1,COLUMNS($G$105:G117)-1),\"\")","v":"RT"},{"$f":"IF(OFFSET(DE100_7!$H$105,ROWS($H$105:H117)-1,COLUMNS($H$105:H117)-1)<>\"\",OFFSET(DE100_7!$H$105,ROWS($H$105:H117)-1,COLUMNS($H$105:H117)-1),\"\")","v":107.1},{"$f":"IF(OFFSET(DE100_7!$I$105,ROWS($I$105:I117)-1,COLUMNS($I$105:I117)-1)<>\"\",OFFSET(DE100_7!$I$105,ROWS($I$105:I117)-1,COLUMNS($I$105:I117)-1),\"\")","v":"72 IN."},{"$f":"IF(OFFSET(DE100_7!$J$105,ROWS($J$105:J117)-1,COLUMNS($J$105:J117)-1)<>\"\",OFFSET(DE100_7!$J$105,ROWS($J$105:J117)-1,COLUMNS($J$105:J117)-1),\"\")","v":""},{"$f":"IF(OFFSET(DE100_7!$K$105,ROWS($K$105:K117)-1,COLUMNS($K$105:K117)-1)<>\"\",OFFSET(DE100_7!$K$105,ROWS($K$105:K117)-1,COLUMNS($K$105:K117)-1),\"\")","v":""},{"$f":"IF(OFFSET(DE100_7!$L$105,ROWS($L$105:L117)-1,COLUMNS($L$105:L117)-1)<>\"\",OFFSET(DE100_7!$L$105,ROWS($L$105:L117)-1,COLUMNS($L$105:L117)-1),\"\")","v":""},{"$f":"IF(OFFSET(DE100_7!$M$105,ROWS($M$105:M117)-1,COLUMNS($M$105:M117)-1)<>\"\",OFFSET(DE100_7!$M$105,ROWS($M$105:M117)-1,COLUMNS($M$105:M117)-1),\"\")","v":""},{"$f":"IF(OFFSET(DE100_7!$N$105,ROWS($N$105:N117)-1,COLUMNS($N$105:N117)-1)<>\"\",OFFSET(DE100_7!$N$105,ROWS($N$105:N117)-1,COLUMNS($N$105:N117)-1),\"\")","v":""},{"$f":"IF(OFFSET(DE100_7!$O$105,ROWS($O$105:O117)-1,COLUMNS($O$105:O117)-1)<>\"\",OFFSET(DE100_7!$O$105,ROWS($O$105:O117)-1,COLUMNS($O$105:O117)-1),\"\")","v":""},{"$f":"IF(OFFSET(DE100_7!$P$105,ROWS($P$105:P117)-1,COLUMNS($P$105:P117)-1)<>\"\",OFFSET(DE100_7!$P$105,ROWS($P$105:P117)-1,COLUMNS($P$105:P117)-1),\"\")","v":""},{"$f":"IF(OFFSET(DE100_7!$Q$105,ROWS($Q$105:Q117)-1,COLUMNS($Q$105:Q117)-1)<>\"\",OFFSET(DE100_7!$Q$105,ROWS($Q$105:Q117)-1,COLUMNS($Q$105:Q117)-1),\"\")","v":""},{"$f":"IF(OFFSET(DE100_7!$R$105,ROWS($R$105:R117)-1,COLUMNS($R$105:R117)-1)<>\"\",OFFSET(DE100_7!$R$105,ROWS($R$105:R117)-1,COLUMNS($R$105:R117)-1),\"\")","v":""},{"$f":"IF(OFFSET(DE100_7!$S$105,ROWS($S$105:S117)-1,COLUMNS($S$105:S117)-1)<>\"\",OFFSET(DE100_7!$S$105,ROWS($S$105:S117)-1,COLUMNS($S$105:S117)-1),\"\")","v":""},{"$f":"IF(OFFSET(DE100_7!$T$105,ROWS($T$105:T117)-1,COLUMNS($T$105:T117)-1)<>\"\",OFFSET(DE100_7!$T$105,ROWS($T$105:T117)-1,COLUMNS($T$105:T117)-1),\"\")","v":""},{"$f":"IF(OFFSET(DE100_7!$U$105,ROWS($U$105:U117)-1,COLUMNS($U$105:U117)-1)<>\"\",OFFSET(DE100_7!$U$105,ROWS($U$105:U117)-1,COLUMNS($U$105:U117)-1),\"\")","v":""},{"$f":"IF(OFFSET(DE100_7!$V$105,ROWS($V$105:V117)-1,COLUMNS($V$105:V117)-1)<>\"\",OFFSET(DE100_7!$V$105,ROWS($V$105:V117)-1,COLUMNS($V$105:V117)-1),\"\")","v":"RAMP 126D"}]
[{"$f":"IF(OFFSET(DE100_7!$C$105,ROWS($C$105:C118)-1,COLUMNS($C$105:C118)-1)<>\"\",OFFSET(DE100_7!$C$105,ROWS($C$105:C118)-1,COLUMNS($C$105:C118)-1),\"\")","v":457594.94},{"$f":"IF(OFFSET(DE100_7!$D$105,ROWS($D$105:D118)-1,COLUMNS($D$105:D118)-1)<>\"\",OFFSET(DE100_7!$D$105,ROWS($D$105:D118)-1,COLUMNS($D$105:D118)-1),\"\")","v":62.18},{"$f":"IF(OFFSET(DE100_7!$E$105,ROWS($E$105:E118)-1,COLUMNS($E$105:E118)-1)<>\"\",OFFSET(DE100_7!$E$105,ROWS($E$105:E118)-1,COLUMNS($E$105:E118)-1),\"\")","v":457904.13},{"$f":"IF(OFFSET(DE100_7!$F$105,ROWS($F$105:F118)-1,COLUMNS($F$105:F118)-1)<>\"\",OFFSET(DE100_7!$F$105,ROWS($F$105:F118)-1,COLUMNS($F$105:F118)-1),\"\")","v":65},{"$f":"IF(OFFSET(DE100_7!$G$105,ROWS($G$105:G118)-1,COLUMNS($G$105:G118)-1)<>\"\",OFFSET(DE100_7!$G$105,ROWS($G$105:G118)-1,COLUMNS($G$105:G118)-1),\"\")","v":"RT"},{"$f":"IF(OFFSET(DE100_7!$H$105,ROWS($H$105:H118)-1,COLUMNS($H$105:H118)-1)<>\"\",OFFSET(DE100_7!$H$105,ROWS($H$105:H118)-1,COLUMNS($H$105:H118)-1),\"\")","v":303.7},{"$f":"IF(OFFSET(DE100_7!$I$105,ROWS($I$105:I118)-1,COLUMNS($I$105:I118)-1)<>\"\",OFFSET(DE100_7!$I$105,ROWS($I$105:I118)-1,COLUMNS($I$105:I118)-1),\"\")","v":"72 IN."},{"$f":"IF(OFFSET(DE100_7!$J$105,ROWS($J$105:J118)-1,COLUMNS($J$105:J118)-1)<>\"\",OFFSET(DE100_7!$J$105,ROWS($J$105:J118)-1,COLUMNS($J$105:J118)-1),\"\")","v":""},{"$f":"IF(OFFSET(DE100_7!$K$105,ROWS($K$105:K118)-1,COLUMNS($K$105:K118)-1)<>\"\",OFFSET(DE100_7!$K$105,ROWS($K$105:K118)-1,COLUMNS($K$105:K118)-1),\"\")","v":""},{"$f":"IF(OFFSET(DE100_7!$L$105,ROWS($L$105:L118)-1,COLUMNS($L$105:L118)-1)<>\"\",OFFSET(DE100_7!$L$105,ROWS($L$105:L118)-1,COLUMNS($L$105:L118)-1),\"\")","v":""},{"$f":"IF(OFFSET(DE100_7!$M$105,ROWS($M$105:M118)-1,COLUMNS($M$105:M118)-1)<>\"\",OFFSET(DE100_7!$M$105,ROWS($M$105:M118)-1,COLUMNS($M$105:M118)-1),\"\")","v":""},{"$f":"IF(OFFSET(DE100_7!$N$105,ROWS($N$105:N118)-1,COLUMNS($N$105:N118)-1)<>\"\",OFFSET(DE100_7!$N$105,ROWS($N$105:N118)-1,COLUMNS($N$105:N118)-1),\"\")","v":""},{"$f":"IF(OFFSET(DE100_7!$O$105,ROWS($O$105:O118)-1,COLUMNS($O$105:O118)-1)<>\"\",OFFSET(DE100_7!$O$105,ROWS($O$105:O118)-1,COLUMNS($O$105:O118)-1),\"\")","v":""},{"$f":"IF(OFFSET(DE100_7!$P$105,ROWS($P$105:P118)-1,COLUMNS($P$105:P118)-1)<>\"\",OFFSET(DE100_7!$P$105,ROWS($P$105:P118)-1,COLUMNS($P$105:P118)-1),\"\")","v":""},{"$f":"IF(OFFSET(DE100_7!$Q$105,ROWS($Q$105:Q118)-1,COLUMNS($Q$105:Q118)-1)<>\"\",OFFSET(DE100_7!$Q$105,ROWS($Q$105:Q118)-1,COLUMNS($Q$105:Q118)-1),\"\")","v":""},{"$f":"IF(OFFSET(DE100_7!$R$105,ROWS($R$105:R118)-1,COLUMNS($R$105:R118)-1)<>\"\",OFFSET(DE100_7!$R$105,ROWS($R$105:R118)-1,COLUMNS($R$105:R118)-1),\"\")","v":""},{"$f":"IF(OFFSET(DE100_7!$S$105,ROWS($S$105:S118)-1,COLUMNS($S$105:S118)-1)<>\"\",OFFSET(DE100_7!$S$105,ROWS($S$105:S118)-1,COLUMNS($S$105:S118)-1),\"\")","v":""},{"$f":"IF(OFFSET(DE100_7!$T$105,ROWS($T$105:T118)-1,COLUMNS($T$105:T118)-1)<>\"\",OFFSET(DE100_7!$T$105,ROWS($T$105:T118)-1,COLUMNS($T$105:T118)-1),\"\")","v":""},{"$f":"IF(OFFSET(DE100_7!$U$105,ROWS($U$105:U118)-1,COLUMNS($U$105:U118)-1)<>\"\",OFFSET(DE100_7!$U$105,ROWS($U$105:U118)-1,COLUMNS($U$105:U118)-1),\"\")","v":""},{"$f":"IF(OFFSET(DE100_7!$V$105,ROWS($V$105:V118)-1,COLUMNS($V$105:V118)-1)<>\"\",OFFSET(DE100_7!$V$105,ROWS($V$105:V118)-1,COLUMNS($V$105:V118)-1),\"\")","v":"RAMP 126D"}]
[{"$f":"IF(OFFSET(DE100_7!$C$105,ROWS($C$105:C119)-1,COLUMNS($C$105:C119)-1)<>\"\",OFFSET(DE100_7!$C$105,ROWS($C$105:C119)-1,COLUMNS($C$105:C119)-1),\"\")","v":457904.13},{"$f":"IF(OFFSET(DE100_7!$D$105,ROWS($D$105:D119)-1,COLUMNS($D$105:D119)-1)<>\"\",OFFSET(DE100_7!$D$105,ROWS($D$105:D119)-1,COLUMNS($D$105:D119)-1),\"\")","v":65},{"$f":"IF(OFFSET(DE100_7!$E$105,ROWS($E$105:E119)-1,COLUMNS($E$105:E119)-1)<>\"\",OFFSET(DE100_7!$E$105,ROWS($E$105:E119)-1,COLUMNS($E$105:E119)-1),\"\")","v":457965.14},{"$f":"IF(OFFSET(DE100_7!$F$105,ROWS($F$105:F119)-1,COLUMNS($F$105:F119)-1)<>\"\",OFFSET(DE100_7!$F$105,ROWS($F$105:F119)-1,COLUMNS($F$105:F119)-1),\"\")","v":82},{"$f":"IF(OFFSET(DE100_7!$G$105,ROWS($G$105:G119)-1,COLUMNS($G$105:G119)-1)<>\"\",OFFSET(DE100_7!$G$105,ROWS($G$105:G119)-1,COLUMNS($G$105:G119)-1),\"\")","v":"RT"},{"$f":"IF(OFFSET(DE100_7!$H$105,ROWS($H$105:H119)-1,COLUMNS($H$105:H119)-1)<>\"\",OFFSET(DE100_7!$H$105,ROWS($H$105:H119)-1,COLUMNS($H$105:H119)-1),\"\")","v":63.3},{"$f":"IF(OFFSET(DE100_7!$I$105,ROWS($I$105:I119)-1,COLUMNS($I$105:I119)-1)<>\"\",OFFSET(DE100_7!$I$105,ROWS($I$105:I119)-1,COLUMNS($I$105:I119)-1),\"\")","v":"72 IN."},{"$f":"IF(OFFSET(DE100_7!$J$105,ROWS($J$105:J119)-1,COLUMNS($J$105:J119)-1)<>\"\",OFFSET(DE100_7!$J$105,ROWS($J$105:J119)-1,COLUMNS($J$105:J119)-1),\"\")","v":""},{"$f":"IF(OFFSET(DE100_7!$K$105,ROWS($K$105:K119)-1,COLUMNS($K$105:K119)-1)<>\"\",OFFSET(DE100_7!$K$105,ROWS($K$105:K119)-1,COLUMNS($K$105:K119)-1),\"\")","v":""},{"$f":"IF(OFFSET(DE100_7!$L$105,ROWS($L$105:L119)-1,COLUMNS($L$105:L119)-1)<>\"\",OFFSET(DE100_7!$L$105,ROWS($L$105:L119)-1,COLUMNS($L$105:L119)-1),\"\")","v":""},{"$f":"IF(OFFSET(DE100_7!$M$105,ROWS($M$105:M119)-1,COLUMNS($M$105:M119)-1)<>\"\",OFFSET(DE100_7!$M$105,ROWS($M$105:M119)-1,COLUMNS($M$105:M119)-1),\"\")","v":""},{"$f":"IF(OFFSET(DE100_7!$N$105,ROWS($N$105:N119)-1,COLUMNS($N$105:N119)-1)<>\"\",OFFSET(DE100_7!$N$105,ROWS($N$105:N119)-1,COLUMNS($N$105:N119)-1),\"\")","v":""},{"$f":"IF(OFFSET(DE100_7!$O$105,ROWS($O$105:O119)-1,COLUMNS($O$105:O119)-1)<>\"\",OFFSET(DE100_7!$O$105,ROWS($O$105:O119)-1,COLUMNS($O$105:O119)-1),\"\")","v":""},{"$f":"IF(OFFSET(DE100_7!$P$105,ROWS($P$105:P119)-1,COLUMNS($P$105:P119)-1)<>\"\",OFFSET(DE100_7!$P$105,ROWS($P$105:P119)-1,COLUMNS($P$105:P119)-1),\"\")","v":""},{"$f":"IF(OFFSET(DE100_7!$Q$105,ROWS($Q$105:Q119)-1,COLUMNS($Q$105:Q119)-1)<>\"\",OFFSET(DE100_7!$Q$105,ROWS($Q$105:Q119)-1,COLUMNS($Q$105:Q119)-1),\"\")","v":""},{"$f":"IF(OFFSET(DE100_7!$R$105,ROWS($R$105:R119)-1,COLUMNS($R$105:R119)-1)<>\"\",OFFSET(DE100_7!$R$105,ROWS($R$105:R119)-1,COLUMNS($R$105:R119)-1),\"\")","v":""},{"$f":"IF(OFFSET(DE100_7!$S$105,ROWS($S$105:S119)-1,COLUMNS($S$105:S119)-1)<>\"\",OFFSET(DE100_7!$S$105,ROWS($S$105:S119)-1,COLUMNS($S$105:S119)-1),\"\")","v":""},{"$f":"IF(OFFSET(DE100_7!$T$105,ROWS($T$105:T119)-1,COLUMNS($T$105:T119)-1)<>\"\",OFFSET(DE100_7!$T$105,ROWS($T$105:T119)-1,COLUMNS($T$105:T119)-1),\"\")","v":""},{"$f":"IF(OFFSET(DE100_7!$U$105,ROWS($U$105:U119)-1,COLUMNS($U$105:U119)-1)<>\"\",OFFSET(DE100_7!$U$105,ROWS($U$105:U119)-1,COLUMNS($U$105:U119)-1),\"\")","v":""},{"$f":"IF(OFFSET(DE100_7!$V$105,ROWS($V$105:V119)-1,COLUMNS($V$105:V119)-1)<>\"\",OFFSET(DE100_7!$V$105,ROWS($V$105:V119)-1,COLUMNS($V$105:V119)-1),\"\")","v":"RAMP 126D"}]
[{"$f":"IF(OFFSET(DE100_7!$C$105,ROWS($C$105:C120)-1,COLUMNS($C$105:C120)-1)<>\"\",OFFSET(DE100_7!$C$105,ROWS($C$105:C120)-1,COLUMNS($C$105:C120)-1),\"\")","v":457965.14},{"$f":"IF(OFFSET(DE100_7!$D$105,ROWS($D$105:D120)-1,COLUMNS($D$105:D120)-1)<>\"\",OFFSET(DE100_7!$D$105,ROWS($D$105:D120)-1,COLUMNS($D$105:D120)-1),\"\")","v":82},{"$f":"IF(OFFSET(DE100_7!$E$105,ROWS($E$105:E120)-1,COLUMNS($E$105:E120)-1)<>\"\",OFFSET(DE100_7!$E$105,ROWS($E$105:E120)-1,COLUMNS($E$105:E120)-1),\"\")","v":457994.86},{"$f":"IF(OFFSET(DE100_7!$F$105,ROWS($F$105:F120)-1,COLUMNS($F$105:F120)-1)<>\"\",OFFSET(DE100_7!$F$105,ROWS($F$105:F120)-1,COLUMNS($F$105:F120)-1),\"\")","v":82},{"$f":"IF(OFFSET(DE100_7!$G$105,ROWS($G$105:G120)-1,COLUMNS($G$105:G120)-1)<>\"\",OFFSET(DE100_7!$G$105,ROWS($G$105:G120)-1,COLUMNS($G$105:G120)-1),\"\")","v":"RT"},{"$f":"IF(OFFSET(DE100_7!$H$105,ROWS($H$105:H120)-1,COLUMNS($H$105:H120)-1)<>\"\",OFFSET(DE100_7!$H$105,ROWS($H$105:H120)-1,COLUMNS($H$105:H120)-1),\"\")","v":29.7},{"$f":"IF(OFFSET(DE100_7!$I$105,ROWS($I$105:I120)-1,COLUMNS($I$105:I120)-1)<>\"\",OFFSET(DE100_7!$I$105,ROWS($I$105:I120)-1,COLUMNS($I$105:I120)-1),\"\")","v":"72 IN."},{"$f":"IF(OFFSET(DE100_7!$J$105,ROWS($J$105:J120)-1,COLUMNS($J$105:J120)-1)<>\"\",OFFSET(DE100_7!$J$105,ROWS($J$105:J120)-1,COLUMNS($J$105:J120)-1),\"\")","v":""},{"$f":"IF(OFFSET(DE100_7!$K$105,ROWS($K$105:K120)-1,COLUMNS($K$105:K120)-1)<>\"\",OFFSET(DE100_7!$K$105,ROWS($K$105:K120)-1,COLUMNS($K$105:K120)-1),\"\")","v":""},{"$f":"IF(OFFSET(DE100_7!$L$105,ROWS($L$105:L120)-1,COLUMNS($L$105:L120)-1)<>\"\",OFFSET(DE100_7!$L$105,ROWS($L$105:L120)-1,COLUMNS($L$105:L120)-1),\"\")","v":""},{"$f":"IF(OFFSET(DE100_7!$M$105,ROWS($M$105:M120)-1,COLUMNS($M$105:M120)-1)<>\"\",OFFSET(DE100_7!$M$105,ROWS($M$105:M120)-1,COLUMNS($M$105:M120)-1),\"\")","v":""},{"$f":"IF(OFFSET(DE100_7!$N$105,ROWS($N$105:N120)-1,COLUMNS($N$105:N120)-1)<>\"\",OFFSET(DE100_7!$N$105,ROWS($N$105:N120)-1,COLUMNS($N$105:N120)-1),\"\")","v":""},{"$f":"IF(OFFSET(DE100_7!$O$105,ROWS($O$105:O120)-1,COLUMNS($O$105:O120)-1)<>\"\",OFFSET(DE100_7!$O$105,ROWS($O$105:O120)-1,COLUMNS($O$105:O120)-1),\"\")","v":""},{"$f":"IF(OFFSET(DE100_7!$P$105,ROWS($P$105:P120)-1,COLUMNS($P$105:P120)-1)<>\"\",OFFSET(DE100_7!$P$105,ROWS($P$105:P120)-1,COLUMNS($P$105:P120)-1),\"\")","v":""},{"$f":"IF(OFFSET(DE100_7!$Q$105,ROWS($Q$105:Q120)-1,COLUMNS($Q$105:Q120)-1)<>\"\",OFFSET(DE100_7!$Q$105,ROWS($Q$105:Q120)-1,COLUMNS($Q$105:Q120)-1),\"\")","v":""},{"$f":"IF(OFFSET(DE100_7!$R$105,ROWS($R$105:R120)-1,COLUMNS($R$105:R120)-1)<>\"\",OFFSET(DE100_7!$R$105,ROWS($R$105:R120)-1,COLUMNS($R$105:R120)-1),\"\")","v":""},{"$f":"IF(OFFSET(DE100_7!$S$105,ROWS($S$105:S120)-1,COLUMNS($S$105:S120)-1)<>\"\",OFFSET(DE100_7!$S$105,ROWS($S$105:S120)-1,COLUMNS($S$105:S120)-1),\"\")","v":""},{"$f":"IF(OFFSET(DE100_7!$T$105,ROWS($T$105:T120)-1,COLUMNS($T$105:T120)-1)<>\"\",OFFSET(DE100_7!$T$105,ROWS($T$105:T120)-1,COLUMNS($T$105:T120)-1),\"\")","v":""},{"$f":"IF(OFFSET(DE100_7!$U$105,ROWS($U$105:U120)-1,COLUMNS($U$105:U120)-1)<>\"\",OFFSET(DE100_7!$U$105,ROWS($U$105:U120)-1,COLUMNS($U$105:U120)-1),\"\")","v":""},{"$f":"IF(OFFSET(DE100_7!$V$105,ROWS($V$105:V120)-1,COLUMNS($V$105:V120)-1)<>\"\",OFFSET(DE100_7!$V$105,ROWS($V$105:V120)-1,COLUMNS($V$105:V120)-1),\"\")","v":"RAMP 126D"}]
[{"$f":"IF(OFFSET(DE100_7!$C$105,ROWS($C$105:C121)-1,COLUMNS($C$105:C121)-1)<>\"\",OFFSET(DE100_7!$C$105,ROWS($C$105:C121)-1,COLUMNS($C$105:C121)-1),\"\")","v":457994.86},{"$f":"IF(OFFSET(DE100_7!$D$105,ROWS($D$105:D121)-1,COLUMNS($D$105:D121)-1)<>\"\",OFFSET(DE100_7!$D$105,ROWS($D$105:D121)-1,COLUMNS($D$105:D121)-1),\"\")","v":82},{"$f":"IF(OFFSET(DE100_7!$E$105,ROWS($E$105:E121)-1,COLUMNS($E$105:E121)-1)<>\"\",OFFSET(DE100_7!$E$105,ROWS($E$105:E121)-1,COLUMNS($E$105:E121)-1),\"\")","v":458059.85},{"$f":"IF(OFFSET(DE100_7!$F$105,ROWS($F$105:F121)-1,COLUMNS($F$105:F121)-1)<>\"\",OFFSET(DE100_7!$F$105,ROWS($F$105:F121)-1,COLUMNS($F$105:F121)-1),\"\")","v":63},{"$f":"IF(OFFSET(DE100_7!$G$105,ROWS($G$105:G121)-1,COLUMNS($G$105:G121)-1)<>\"\",OFFSET(DE100_7!$G$105,ROWS($G$105:G121)-1,COLUMNS($G$105:G121)-1),\"\")","v":"RT"},{"$f":"IF(OFFSET(DE100_7!$H$105,ROWS($H$105:H121)-1,COLUMNS($H$105:H121)-1)<>\"\",OFFSET(DE100_7!$H$105,ROWS($H$105:H121)-1,COLUMNS($H$105:H121)-1),\"\")","v":67.7},{"$f":"IF(OFFSET(DE100_7!$I$105,ROWS($I$105:I121)-1,COLUMNS($I$105:I121)-1)<>\"\",OFFSET(DE100_7!$I$105,ROWS($I$105:I121)-1,COLUMNS($I$105:I121)-1),\"\")","v":"72 IN."},{"$f":"IF(OFFSET(DE100_7!$J$105,ROWS($J$105:J121)-1,COLUMNS($J$105:J121)-1)<>\"\",OFFSET(DE100_7!$J$105,ROWS($J$105:J121)-1,COLUMNS($J$105:J121)-1),\"\")","v":""},{"$f":"IF(OFFSET(DE100_7!$K$105,ROWS($K$105:K121)-1,COLUMNS($K$105:K121)-1)<>\"\",OFFSET(DE100_7!$K$105,ROWS($K$105:K121)-1,COLUMNS($K$105:K121)-1),\"\")","v":""},{"$f":"IF(OFFSET(DE100_7!$L$105,ROWS($L$105:L121)-1,COLUMNS($L$105:L121)-1)<>\"\",OFFSET(DE100_7!$L$105,ROWS($L$105:L121)-1,COLUMNS($L$105:L121)-1),\"\")","v":""},{"$f":"IF(OFFSET(DE100_7!$M$105,ROWS($M$105:M121)-1,COLUMNS($M$105:M121)-1)<>\"\",OFFSET(DE100_7!$M$105,ROWS($M$105:M121)-1,COLUMNS($M$105:M121)-1),\"\")","v":""},{"$f":"IF(OFFSET(DE100_7!$N$105,ROWS($N$105:N121)-1,COLUMNS($N$105:N121)-1)<>\"\",OFFSET(DE100_7!$N$105,ROWS($N$105:N121)-1,COLUMNS($N$105:N121)-1),\"\")","v":""},{"$f":"IF(OFFSET(DE100_7!$O$105,ROWS($O$105:O121)-1,COLUMNS($O$105:O121)-1)<>\"\",OFFSET(DE100_7!$O$105,ROWS($O$105:O121)-1,COLUMNS($O$105:O121)-1),\"\")","v":""},{"$f":"IF(OFFSET(DE100_7!$P$105,ROWS($P$105:P121)-1,COLUMNS($P$105:P121)-1)<>\"\",OFFSET(DE100_7!$P$105,ROWS($P$105:P121)-1,COLUMNS($P$105:P121)-1),\"\")","v":""},{"$f":"IF(OFFSET(DE100_7!$Q$105,ROWS($Q$105:Q121)-1,COLUMNS($Q$105:Q121)-1)<>\"\",OFFSET(DE100_7!$Q$105,ROWS($Q$105:Q121)-1,COLUMNS($Q$105:Q121)-1),\"\")","v":""},{"$f":"IF(OFFSET(DE100_7!$R$105,ROWS($R$105:R121)-1,COLUMNS($R$105:R121)-1)<>\"\",OFFSET(DE100_7!$R$105,ROWS($R$105:R121)-1,COLUMNS($R$105:R121)-1),\"\")","v":""},{"$f":"IF(OFFSET(DE100_7!$S$105,ROWS($S$105:S121)-1,COLUMNS($S$105:S121)-1)<>\"\",OFFSET(DE100_7!$S$105,ROWS($S$105:S121)-1,COLUMNS($S$105:S121)-1),\"\")","v":""},{"$f":"IF(OFFSET(DE100_7!$T$105,ROWS($T$105:T121)-1,COLUMNS($T$105:T121)-1)<>\"\",OFFSET(DE100_7!$T$105,ROWS($T$105:T121)-1,COLUMNS($T$105:T121)-1),\"\")","v":""},{"$f":"IF(OFFSET(DE100_7!$U$105,ROWS($U$105:U121)-1,COLUMNS($U$105:U121)-1)<>\"\",OFFSET(DE100_7!$U$105,ROWS($U$105:U121)-1,COLUMNS($U$105:U121)-1),\"\")","v":""},{"$f":"IF(OFFSET(DE100_7!$V$105,ROWS($V$105:V121)-1,COLUMNS($V$105:V121)-1)<>\"\",OFFSET(DE100_7!$V$105,ROWS($V$105:V121)-1,COLUMNS($V$105:V121)-1),\"\")","v":"RAMP 126D"}]
[{"$f":"IF(OFFSET(DE100_7!$C$105,ROWS($C$105:C122)-1,COLUMNS($C$105:C122)-1)<>\"\",OFFSET(DE100_7!$C$105,ROWS($C$105:C122)-1,COLUMNS($C$105:C122)-1),\"\")","v":458059.85},{"$f":"IF(OFFSET(DE100_7!$D$105,ROWS($D$105:D122)-1,COLUMNS($D$105:D122)-1)<>\"\",OFFSET(DE100_7!$D$105,ROWS($D$105:D122)-1,COLUMNS($D$105:D122)-1),\"\")","v":63},{"$f":"IF(OFFSET(DE100_7!$E$105,ROWS($E$105:E122)-1,COLUMNS($E$105:E122)-1)<>\"\",OFFSET(DE100_7!$E$105,ROWS($E$105:E122)-1,COLUMNS($E$105:E122)-1),\"\")","v":458824.1},{"$f":"IF(OFFSET(DE100_7!$F$105,ROWS($F$105:F122)-1,COLUMNS($F$105:F122)-1)<>\"\",OFFSET(DE100_7!$F$105,ROWS($F$105:F122)-1,COLUMNS($F$105:F122)-1),\"\")","v":55.49},{"$f":"IF(OFFSET(DE100_7!$G$105,ROWS($G$105:G122)-1,COLUMNS($G$105:G122)-1)<>\"\",OFFSET(DE100_7!$G$105,ROWS($G$105:G122)-1,COLUMNS($G$105:G122)-1),\"\")","v":"RT"},{"$f":"IF(OFFSET(DE100_7!$H$105,ROWS($H$105:H122)-1,COLUMNS($H$105:H122)-1)<>\"\",OFFSET(DE100_7!$H$105,ROWS($H$105:H122)-1,COLUMNS($H$105:H122)-1),\"\")","v":765.4},{"$f":"IF(OFFSET(DE100_7!$I$105,ROWS($I$105:I122)-1,COLUMNS($I$105:I122)-1)<>\"\",OFFSET(DE100_7!$I$105,ROWS($I$105:I122)-1,COLUMNS($I$105:I122)-1),\"\")","v":"72 IN."},{"$f":"IF(OFFSET(DE100_7!$J$105,ROWS($J$105:J122)-1,COLUMNS($J$105:J122)-1)<>\"\",OFFSET(DE100_7!$J$105,ROWS($J$105:J122)-1,COLUMNS($J$105:J122)-1),\"\")","v":""},{"$f":"IF(OFFSET(DE100_7!$K$105,ROWS($K$105:K122)-1,COLUMNS($K$105:K122)-1)<>\"\",OFFSET(DE100_7!$K$105,ROWS($K$105:K122)-1,COLUMNS($K$105:K122)-1),\"\")","v":""},{"$f":"IF(OFFSET(DE100_7!$L$105,ROWS($L$105:L122)-1,COLUMNS($L$105:L122)-1)<>\"\",OFFSET(DE100_7!$L$105,ROWS($L$105:L122)-1,COLUMNS($L$105:L122)-1),\"\")","v":""},{"$f":"IF(OFFSET(DE100_7!$M$105,ROWS($M$105:M122)-1,COLUMNS($M$105:M122)-1)<>\"\",OFFSET(DE100_7!$M$105,ROWS($M$105:M122)-1,COLUMNS($M$105:M122)-1),\"\")","v":""},{"$f":"IF(OFFSET(DE100_7!$N$105,ROWS($N$105:N122)-1,COLUMNS($N$105:N122)-1)<>\"\",OFFSET(DE100_7!$N$105,ROWS($N$105:N122)-1,COLUMNS($N$105:N122)-1),\"\")","v":""},{"$f":"IF(OFFSET(DE100_7!$O$105,ROWS($O$105:O122)-1,COLUMNS($O$105:O122)-1)<>\"\",OFFSET(DE100_7!$O$105,ROWS($O$105:O122)-1,COLUMNS($O$105:O122)-1),\"\")","v":""},{"$f":"IF(OFFSET(DE100_7!$P$105,ROWS($P$105:P122)-1,COLUMNS($P$105:P122)-1)<>\"\",OFFSET(DE100_7!$P$105,ROWS($P$105:P122)-1,COLUMNS($P$105:P122)-1),\"\")","v":""},{"$f":"IF(OFFSET(DE100_7!$Q$105,ROWS($Q$105:Q122)-1,COLUMNS($Q$105:Q122)-1)<>\"\",OFFSET(DE100_7!$Q$105,ROWS($Q$105:Q122)-1,COLUMNS($Q$105:Q122)-1),\"\")","v":""},{"$f":"IF(OFFSET(DE100_7!$R$105,ROWS($R$105:R122)-1,COLUMNS($R$105:R122)-1)<>\"\",OFFSET(DE100_7!$R$105,ROWS($R$105:R122)-1,COLUMNS($R$105:R122)-1),\"\")","v":""},{"$f":"IF(OFFSET(DE100_7!$S$105,ROWS($S$105:S122)-1,COLUMNS($S$105:S122)-1)<>\"\",OFFSET(DE100_7!$S$105,ROWS($S$105:S122)-1,COLUMNS($S$105:S122)-1),\"\")","v":""},{"$f":"IF(OFFSET(DE100_7!$T$105,ROWS($T$105:T122)-1,COLUMNS($T$105:T122)-1)<>\"\",OFFSET(DE100_7!$T$105,ROWS($T$105:T122)-1,COLUMNS($T$105:T122)-1),\"\")","v":""},{"$f":"IF(OFFSET(DE100_7!$U$105,ROWS($U$105:U122)-1,COLUMNS($U$105:U122)-1)<>\"\",OFFSET(DE100_7!$U$105,ROWS($U$105:U122)-1,COLUMNS($U$105:U122)-1),\"\")","v":""},{"$f":"IF(OFFSET(DE100_7!$V$105,ROWS($V$105:V122)-1,COLUMNS($V$105:V122)-1)<>\"\",OFFSET(DE100_7!$V$105,ROWS($V$105:V122)-1,COLUMNS($V$105:V122)-1),\"\")","v":"RAMP 126D"}]
[{"$f":"IF(OFFSET(DE100_7!$C$105,ROWS($C$105:C123)-1,COLUMNS($C$105:C123)-1)<>\"\",OFFSET(DE100_7!$C$105,ROWS($C$105:C123)-1,COLUMNS($C$105:C123)-1),\"\")","v":""},{"$f":"IF(OFFSET(DE100_7!$D$105,ROWS($D$105:D123)-1,COLUMNS($D$105:D123)-1)<>\"\",OFFSET(DE100_7!$D$105,ROWS($D$105:D123)-1,COLUMNS($D$105:D123)-1),\"\")","v":""},{"$f":"IF(OFFSET(DE100_7!$E$105,ROWS($E$105:E123)-1,COLUMNS($E$105:E123)-1)<>\"\",OFFSET(DE100_7!$E$105,ROWS($E$105:E123)-1,COLUMNS($E$105:E123)-1),\"\")","v":""},{"$f":"IF(OFFSET(DE100_7!$F$105,ROWS($F$105:F123)-1,COLUMNS($F$105:F123)-1)<>\"\",OFFSET(DE100_7!$F$105,ROWS($F$105:F123)-1,COLUMNS($F$105:F123)-1),\"\")","v":""},{"$f":"IF(OFFSET(DE100_7!$G$105,ROWS($G$105:G123)-1,COLUMNS($G$105:G123)-1)<>\"\",OFFSET(DE100_7!$G$105,ROWS($G$105:G123)-1,COLUMNS($G$105:G123)-1),\"\")","v":""},{"$f":"IF(OFFSET(DE100_7!$H$105,ROWS($H$105:H123)-1,COLUMNS($H$105:H123)-1)<>\"\",OFFSET(DE100_7!$H$105,ROWS($H$105:H123)-1,COLUMNS($H$105:H123)-1),\"\")","v":""},{"$f":"IF(OFFSET(DE100_7!$I$105,ROWS($I$105:I123)-1,COLUMNS($I$105:I123)-1)<>\"\",OFFSET(DE100_7!$I$105,ROWS($I$105:I123)-1,COLUMNS($I$105:I123)-1),\"\")","v":""},{"$f":"IF(OFFSET(DE100_7!$J$105,ROWS($J$105:J123)-1,COLUMNS($J$105:J123)-1)<>\"\",OFFSET(DE100_7!$J$105,ROWS($J$105:J123)-1,COLUMNS($J$105:J123)-1),\"\")","v":""},{"$f":"IF(OFFSET(DE100_7!$K$105,ROWS($K$105:K123)-1,COLUMNS($K$105:K123)-1)<>\"\",OFFSET(DE100_7!$K$105,ROWS($K$105:K123)-1,COLUMNS($K$105:K123)-1),\"\")","v":""},{"$f":"IF(OFFSET(DE100_7!$L$105,ROWS($L$105:L123)-1,COLUMNS($L$105:L123)-1)<>\"\",OFFSET(DE100_7!$L$105,ROWS($L$105:L123)-1,COLUMNS($L$105:L123)-1),\"\")","v":""},{"$f":"IF(OFFSET(DE100_7!$M$105,ROWS($M$105:M123)-1,COLUMNS($M$105:M123)-1)<>\"\",OFFSET(DE100_7!$M$105,ROWS($M$105:M123)-1,COLUMNS($M$105:M123)-1),\"\")","v":""},{"$f":"IF(OFFSET(DE100_7!$N$105,ROWS($N$105:N123)-1,COLUMNS($N$105:N123)-1)<>\"\",OFFSET(DE100_7!$N$105,ROWS($N$105:N123)-1,COLUMNS($N$105:N123)-1),\"\")","v":""},{"$f":"IF(OFFSET(DE100_7!$O$105,ROWS($O$105:O123)-1,COLUMNS($O$105:O123)-1)<>\"\",OFFSET(DE100_7!$O$105,ROWS($O$105:O123)-1,COLUMNS($O$105:O123)-1),\"\")","v":""},{"$f":"IF(OFFSET(DE100_7!$P$105,ROWS($P$105:P123)-1,COLUMNS($P$105:P123)-1)<>\"\",OFFSET(DE100_7!$P$105,ROWS($P$105:P123)-1,COLUMNS($P$105:P123)-1),\"\")","v":""},{"$f":"IF(OFFSET(DE100_7!$Q$105,ROWS($Q$105:Q123)-1,COLUMNS($Q$105:Q123)-1)<>\"\",OFFSET(DE100_7!$Q$105,ROWS($Q$105:Q123)-1,COLUMNS($Q$105:Q123)-1),\"\")","v":""},{"$f":"IF(OFFSET(DE100_7!$R$105,ROWS($R$105:R123)-1,COLUMNS($R$105:R123)-1)<>\"\",OFFSET(DE100_7!$R$105,ROWS($R$105:R123)-1,COLUMNS($R$105:R123)-1),\"\")","v":""},{"$f":"IF(OFFSET(DE100_7!$S$105,ROWS($S$105:S123)-1,COLUMNS($S$105:S123)-1)<>\"\",OFFSET(DE100_7!$S$105,ROWS($S$105:S123)-1,COLUMNS($S$105:S123)-1),\"\")","v":""},{"$f":"IF(OFFSET(DE100_7!$T$105,ROWS($T$105:T123)-1,COLUMNS($T$105:T123)-1)<>\"\",OFFSET(DE100_7!$T$105,ROWS($T$105:T123)-1,COLUMNS($T$105:T123)-1),\"\")","v":""},{"$f":"IF(OFFSET(DE100_7!$U$105,ROWS($U$105:U123)-1,COLUMNS($U$105:U123)-1)<>\"\",OFFSET(DE100_7!$U$105,ROWS($U$105:U123)-1,COLUMNS($U$105:U123)-1),\"\")","v":""},{"$f":"IF(OFFSET(DE100_7!$V$105,ROWS($V$105:V123)-1,COLUMNS($V$105:V123)-1)<>\"\",OFFSET(DE100_7!$V$105,ROWS($V$105:V123)-1,COLUMNS($V$105:V123)-1),\"\")","v":""}]
[{"$f":"IF(OFFSET(DE100_7!$C$105,ROWS($C$105:C124)-1,COLUMNS($C$105:C124)-1)<>\"\",OFFSET(DE100_7!$C$105,ROWS($C$105:C124)-1,COLUMNS($C$105:C124)-1),\"\")","v":""},{"$f":"IF(OFFSET(DE100_7!$D$105,ROWS($D$105:D124)-1,COLUMNS($D$105:D124)-1)<>\"\",OFFSET(DE100_7!$D$105,ROWS($D$105:D124)-1,COLUMNS($D$105:D124)-1),\"\")","v":""},{"$f":"IF(OFFSET(DE100_7!$E$105,ROWS($E$105:E124)-1,COLUMNS($E$105:E124)-1)<>\"\",OFFSET(DE100_7!$E$105,ROWS($E$105:E124)-1,COLUMNS($E$105:E124)-1),\"\")","v":""},{"$f":"IF(OFFSET(DE100_7!$F$105,ROWS($F$105:F124)-1,COLUMNS($F$105:F124)-1)<>\"\",OFFSET(DE100_7!$F$105,ROWS($F$105:F124)-1,COLUMNS($F$105:F124)-1),\"\")","v":""},{"$f":"IF(OFFSET(DE100_7!$G$105,ROWS($G$105:G124)-1,COLUMNS($G$105:G124)-1)<>\"\",OFFSET(DE100_7!$G$105,ROWS($G$105:G124)-1,COLUMNS($G$105:G124)-1),\"\")","v":""},{"$f":"IF(OFFSET(DE100_7!$H$105,ROWS($H$105:H124)-1,COLUMNS($H$105:H124)-1)<>\"\",OFFSET(DE100_7!$H$105,ROWS($H$105:H124)-1,COLUMNS($H$105:H124)-1),\"\")","v":""},{"$f":"IF(OFFSET(DE100_7!$I$105,ROWS($I$105:I124)-1,COLUMNS($I$105:I124)-1)<>\"\",OFFSET(DE100_7!$I$105,ROWS($I$105:I124)-1,COLUMNS($I$105:I124)-1),\"\")","v":""},{"$f":"IF(OFFSET(DE100_7!$J$105,ROWS($J$105:J124)-1,COLUMNS($J$105:J124)-1)<>\"\",OFFSET(DE100_7!$J$105,ROWS($J$105:J124)-1,COLUMNS($J$105:J124)-1),\"\")","v":""},{"$f":"IF(OFFSET(DE100_7!$K$105,ROWS($K$105:K124)-1,COLUMNS($K$105:K124)-1)<>\"\",OFFSET(DE100_7!$K$105,ROWS($K$105:K124)-1,COLUMNS($K$105:K124)-1),\"\")","v":""},{"$f":"IF(OFFSET(DE100_7!$L$105,ROWS($L$105:L124)-1,COLUMNS($L$105:L124)-1)<>\"\",OFFSET(DE100_7!$L$105,ROWS($L$105:L124)-1,COLUMNS($L$105:L124)-1),\"\")","v":""},{"$f":"IF(OFFSET(DE100_7!$M$105,ROWS($M$105:M124)-1,COLUMNS($M$105:M124)-1)<>\"\",OFFSET(DE100_7!$M$105,ROWS($M$105:M124)-1,COLUMNS($M$105:M124)-1),\"\")","v":""},{"$f":"IF(OFFSET(DE100_7!$N$105,ROWS($N$105:N124)-1,COLUMNS($N$105:N124)-1)<>\"\",OFFSET(DE100_7!$N$105,ROWS($N$105:N124)-1,COLUMNS($N$105:N124)-1),\"\")","v":""},{"$f":"IF(OFFSET(DE100_7!$O$105,ROWS($O$105:O124)-1,COLUMNS($O$105:O124)-1)<>\"\",OFFSET(DE100_7!$O$105,ROWS($O$105:O124)-1,COLUMNS($O$105:O124)-1),\"\")","v":""},{"$f":"IF(OFFSET(DE100_7!$P$105,ROWS($P$105:P124)-1,COLUMNS($P$105:P124)-1)<>\"\",OFFSET(DE100_7!$P$105,ROWS($P$105:P124)-1,COLUMNS($P$105:P124)-1),\"\")","v":""},{"$f":"IF(OFFSET(DE100_7!$Q$105,ROWS($Q$105:Q124)-1,COLUMNS($Q$105:Q124)-1)<>\"\",OFFSET(DE100_7!$Q$105,ROWS($Q$105:Q124)-1,COLUMNS($Q$105:Q124)-1),\"\")","v":""},{"$f":"IF(OFFSET(DE100_7!$R$105,ROWS($R$105:R124)-1,COLUMNS($R$105:R124)-1)<>\"\",OFFSET(DE100_7!$R$105,ROWS($R$105:R124)-1,COLUMNS($R$105:R124)-1),\"\")","v":""},{"$f":"IF(OFFSET(DE100_7!$S$105,ROWS($S$105:S124)-1,COLUMNS($S$105:S124)-1)<>\"\",OFFSET(DE100_7!$S$105,ROWS($S$105:S124)-1,COLUMNS($S$105:S124)-1),\"\")","v":""},{"$f":"IF(OFFSET(DE100_7!$T$105,ROWS($T$105:T124)-1,COLUMNS($T$105:T124)-1)<>\"\",OFFSET(DE100_7!$T$105,ROWS($T$105:T124)-1,COLUMNS($T$105:T124)-1),\"\")","v":""},{"$f":"IF(OFFSET(DE100_7!$U$105,ROWS($U$105:U124)-1,COLUMNS($U$105:U124)-1)<>\"\",OFFSET(DE100_7!$U$105,ROWS($U$105:U124)-1,COLUMNS($U$105:U124)-1),\"\")","v":""},{"$f":"IF(OFFSET(DE100_7!$V$105,ROWS($V$105:V124)-1,COLUMNS($V$105:V124)-1)<>\"\",OFFSET(DE100_7!$V$105,ROWS($V$105:V124)-1,COLUMNS($V$105:V124)-1),\"\")","v":""}]
[{"$f":"IF(OFFSET(DE100_7!$C$105,ROWS($C$105:C125)-1,COLUMNS($C$105:C125)-1)<>\"\",OFFSET(DE100_7!$C$105,ROWS($C$105:C125)-1,COLUMNS($C$105:C125)-1),\"\")","v":"INTERSECTION AT I-35 & IA 210"},null,null,{"$f":"IF(OFFSET(DE100_7!$F$105,ROWS($F$105:F125)-1,COLUMNS($F$105:F125)-1)<>\"\",OFFSET(DE100_7!$F$105,ROWS($F$105:F125)-1,COLUMNS($F$105:F125)-1),\"\")","v":""},{"$f":"IF(OFFSET(DE100_7!$G$105,ROWS($G$105:G125)-1,COLUMNS($G$105:G125)-1)<>\"\",OFFSET(DE100_7!$G$105,ROWS($G$105:G125)-1,COLUMNS($G$105:G125)-1),\"\")","v":""},{"$f":"IF(OFFSET(DE100_7!$H$105,ROWS($H$105:H125)-1,COLUMNS($H$105:H125)-1)<>\"\",OFFSET(DE100_7!$H$105,ROWS($H$105:H125)-1,COLUMNS($H$105:H125)-1),\"\")","v":""},{"$f":"IF(OFFSET(DE100_7!$I$105,ROWS($I$105:I125)-1,COLUMNS($I$105:I125)-1)<>\"\",OFFSET(DE100_7!$I$105,ROWS($I$105:I125)-1,COLUMNS($I$105:I125)-1),\"\")","v":""},{"$f":"IF(OFFSET(DE100_7!$J$105,ROWS($J$105:J125)-1,COLUMNS($J$105:J125)-1)<>\"\",OFFSET(DE100_7!$J$105,ROWS($J$105:J125)-1,COLUMNS($J$105:J125)-1),\"\")","v":""},{"$f":"IF(OFFSET(DE100_7!$K$105,ROWS($K$105:K125)-1,COLUMNS($K$105:K125)-1)<>\"\",OFFSET(DE100_7!$K$105,ROWS($K$105:K125)-1,COLUMNS($K$105:K125)-1),\"\")","v":""},{"$f":"IF(OFFSET(DE100_7!$L$105,ROWS($L$105:L125)-1,COLUMNS($L$105:L125)-1)<>\"\",OFFSET(DE100_7!$L$105,ROWS($L$105:L125)-1,COLUMNS($L$105:L125)-1),\"\")","v":""},{"$f":"IF(OFFSET(DE100_7!$M$105,ROWS($M$105:M125)-1,COLUMNS($M$105:M125)-1)<>\"\",OFFSET(DE100_7!$M$105,ROWS($M$105:M125)-1,COLUMNS($M$105:M125)-1),\"\")","v":""},{"$f":"IF(OFFSET(DE100_7!$N$105,ROWS($N$105:N125)-1,COLUMNS($N$105:N125)-1)<>\"\",OFFSET(DE100_7!$N$105,ROWS($N$105:N125)-1,COLUMNS($N$105:N125)-1),\"\")","v":""},{"$f":"IF(OFFSET(DE100_7!$O$105,ROWS($O$105:O125)-1,COLUMNS($O$105:O125)-1)<>\"\",OFFSET(DE100_7!$O$105,ROWS($O$105:O125)-1,COLUMNS($O$105:O125)-1),\"\")","v":""},{"$f":"IF(OFFSET(DE100_7!$P$105,ROWS($P$105:P125)-1,COLUMNS($P$105:P125)-1)<>\"\",OFFSET(DE100_7!$P$105,ROWS($P$105:P125)-1,COLUMNS($P$105:P125)-1),\"\")","v":""},{"$f":"IF(OFFSET(DE100_7!$Q$105,ROWS($Q$105:Q125)-1,COLUMNS($Q$105:Q125)-1)<>\"\",OFFSET(DE100_7!$Q$105,ROWS($Q$105:Q125)-1,COLUMNS($Q$105:Q125)-1),\"\")","v":""},{"$f":"IF(OFFSET(DE100_7!$R$105,ROWS($R$105:R125)-1,COLUMNS($R$105:R125)-1)<>\"\",OFFSET(DE100_7!$R$105,ROWS($R$105:R125)-1,COLUMNS($R$105:R125)-1),\"\")","v":""},{"$f":"IF(OFFSET(DE100_7!$S$105,ROWS($S$105:S125)-1,COLUMNS($S$105:S125)-1)<>\"\",OFFSET(DE100_7!$S$105,ROWS($S$105:S125)-1,COLUMNS($S$105:S125)-1),\"\")","v":""},{"$f":"IF(OFFSET(DE100_7!$T$105,ROWS($T$105:T125)-1,COLUMNS($T$105:T125)-1)<>\"\",OFFSET(DE100_7!$T$105,ROWS($T$105:T125)-1,COLUMNS($T$105:T125)-1),\"\")","v":""},{"$f":"IF(OFFSET(DE100_7!$U$105,ROWS($U$105:U125)-1,COLUMNS($U$105:U125)-1)<>\"\",OFFSET(DE100_7!$U$105,ROWS($U$105:U125)-1,COLUMNS($U$105:U125)-1),\"\")","v":""},{"$f":"IF(OFFSET(DE100_7!$V$105,ROWS($V$105:V125)-1,COLUMNS($V$105:V125)-1)<>\"\",OFFSET(DE100_7!$V$105,ROWS($V$105:V125)-1,COLUMNS($V$105:V125)-1),\"\")","v":""}]
[{"$f":"IF(OFFSET(DE100_7!$C$105,ROWS($C$105:C126)-1,COLUMNS($C$105:C126)-1)<>\"\",OFFSET(DE100_7!$C$105,ROWS($C$105:C126)-1,COLUMNS($C$105:C126)-1),\"\")","v":158913.17000000001},{"$f":"IF(OFFSET(DE100_7!$D$105,ROWS($D$105:D126)-1,COLUMNS($D$105:D126)-1)<>\"\",OFFSET(DE100_7!$D$105,ROWS($D$105:D126)-1,COLUMNS($D$105:D126)-1),\"\")","v":77.66},{"$f":"IF(OFFSET(DE100_7!$E$105,ROWS($E$105:E126)-1,COLUMNS($E$105:E126)-1)<>\"\",OFFSET(DE100_7!$E$105,ROWS($E$105:E126)-1,COLUMNS($E$105:E126)-1),\"\")","v":159541.72},{"$f":"IF(OFFSET(DE100_7!$F$105,ROWS($F$105:F126)-1,COLUMNS($F$105:F126)-1)<>\"\",OFFSET(DE100_7!$F$105,ROWS($F$105:F126)-1,COLUMNS($F$105:F126)-1),\"\")","v":77.7},{"$f":"IF(OFFSET(DE100_7!$G$105,ROWS($G$105:G126)-1,COLUMNS($G$105:G126)-1)<>\"\",OFFSET(DE100_7!$G$105,ROWS($G$105:G126)-1,COLUMNS($G$105:G126)-1),\"\")","v":"RT"},{"$f":"IF(OFFSET(DE100_7!$H$105,ROWS($H$105:H126)-1,COLUMNS($H$105:H126)-1)<>\"\",OFFSET(DE100_7!$H$105,ROWS($H$105:H126)-1,COLUMNS($H$105:H126)-1),\"\")","v":""},{"$f":"IF(OFFSET(DE100_7!$I$105,ROWS($I$105:I126)-1,COLUMNS($I$105:I126)-1)<>\"\",OFFSET(DE100_7!$I$105,ROWS($I$105:I126)-1,COLUMNS($I$105:I126)-1),\"\")","v":""},{"$f":"IF(OFFSET(DE100_7!$J$105,ROWS($J$105:J126)-1,COLUMNS($J$105:J126)-1)<>\"\",OFFSET(DE100_7!$J$105,ROWS($J$105:J126)-1,COLUMNS($J$105:J126)-1),\"\")","v":""},{"$f":"IF(OFFSET(DE100_7!$K$105,ROWS($K$105:K126)-1,COLUMNS($K$105:K126)-1)<>\"\",OFFSET(DE100_7!$K$105,ROWS($K$105:K126)-1,COLUMNS($K$105:K126)-1),\"\")","v":""},{"$f":"IF(OFFSET(DE100_7!$L$105,ROWS($L$105:L126)-1,COLUMNS($L$105:L126)-1)<>\"\",OFFSET(DE100_7!$L$105,ROWS($L$105:L126)-1,COLUMNS($L$105:L126)-1),\"\")","v":""},{"$f":"IF(OFFSET(DE100_7!$M$105,ROWS($M$105:M126)-1,COLUMNS($M$105:M126)-1)<>\"\",OFFSET(DE100_7!$M$105,ROWS($M$105:M126)-1,COLUMNS($M$105:M126)-1),\"\")","v":""},{"$f":"IF(OFFSET(DE100_7!$N$105,ROWS($N$105:N126)-1,COLUMNS($N$105:N126)-1)<>\"\",OFFSET(DE100_7!$N$105,ROWS($N$105:N126)-1,COLUMNS($N$105:N126)-1),\"\")","v":""},{"$f":"IF(OFFSET(DE100_7!$O$105,ROWS($O$105:O126)-1,COLUMNS($O$105:O126)-1)<>\"\",OFFSET(DE100_7!$O$105,ROWS($O$105:O126)-1,COLUMNS($O$105:O126)-1),\"\")","v":""},{"$f":"IF(OFFSET(DE100_7!$P$105,ROWS($P$105:P126)-1,COLUMNS($P$105:P126)-1)<>\"\",OFFSET(DE100_7!$P$105,ROWS($P$105:P126)-1,COLUMNS($P$105:P126)-1),\"\")","v":612.04},{"$f":"IF(OFFSET(DE100_7!$Q$105,ROWS($Q$105:Q126)-1,COLUMNS($Q$105:Q126)-1)<>\"\",OFFSET(DE100_7!$Q$105,ROWS($Q$105:Q126)-1,COLUMNS($Q$105:Q126)-1),\"\")","v":5},{"$f":"IF(OFFSET(DE100_7!$R$105,ROWS($R$105:R126)-1,COLUMNS($R$105:R126)-1)<>\"\",OFFSET(DE100_7!$R$105,ROWS($R$105:R126)-1,COLUMNS($R$105:R126)-1),\"\")","v":""},{"$f":"IF(OFFSET(DE100_7!$S$105,ROWS($S$105:S126)-1,COLUMNS($S$105:S126)-1)<>\"\",OFFSET(DE100_7!$S$105,ROWS($S$105:S126)-1,COLUMNS($S$105:S126)-1),\"\")","v":""},{"$f":"IF(OFFSET(DE100_7!$T$105,ROWS($T$105:T126)-1,COLUMNS($T$105:T126)-1)<>\"\",OFFSET(DE100_7!$T$105,ROWS($T$105:T126)-1,COLUMNS($T$105:T126)-1),\"\")","v":""},{"$f":"IF(OFFSET(DE100_7!$U$105,ROWS($U$105:U126)-1,COLUMNS($U$105:U126)-1)<>\"\",OFFSET(DE100_7!$U$105,ROWS($U$105:U126)-1,COLUMNS($U$105:U126)-1),\"\")","v":""},{"$f":"IF(OFFSET(DE100_7!$V$105,ROWS($V$105:V126)-1,COLUMNS($V$105:V126)-1)<>\"\",OFFSET(DE100_7!$V$105,ROWS($V$105:V126)-1,COLUMNS($V$105:V126)-1),\"\")","v":"RAMP 210A"}]
[{"$f":"IF(OFFSET(DE100_7!$C$105,ROWS($C$105:C127)-1,COLUMNS($C$105:C127)-1)<>\"\",OFFSET(DE100_7!$C$105,ROWS($C$105:C127)-1,COLUMNS($C$105:C127)-1),\"\")","v":159541.72},{"$f":"IF(OFFSET(DE100_7!$D$105,ROWS($D$105:D127)-1,COLUMNS($D$105:D127)-1)<>\"\",OFFSET(DE100_7!$D$105,ROWS($D$105:D127)-1,COLUMNS($D$105:D127)-1),\"\")","v":77.7},{"$f":"IF(OFFSET(DE100_7!$E$105,ROWS($E$105:E127)-1,COLUMNS($E$105:E127)-1)<>\"\",OFFSET(DE100_7!$E$105,ROWS($E$105:E127)-1,COLUMNS($E$105:E127)-1),\"\")","v":160398.57},{"$f":"IF(OFFSET(DE100_7!$F$105,ROWS($F$105:F127)-1,COLUMNS($F$105:F127)-1)<>\"\",OFFSET(DE100_7!$F$105,ROWS($F$105:F127)-1,COLUMNS($F$105:F127)-1),\"\")","v":94.51},{"$f":"IF(OFFSET(DE100_7!$G$105,ROWS($G$105:G127)-1,COLUMNS($G$105:G127)-1)<>\"\",OFFSET(DE100_7!$G$105,ROWS($G$105:G127)-1,COLUMNS($G$105:G127)-1),\"\")","v":"RT"},{"$f":"IF(OFFSET(DE100_7!$H$105,ROWS($H$105:H127)-1,COLUMNS($H$105:H127)-1)<>\"\",OFFSET(DE100_7!$H$105,ROWS($H$105:H127)-1,COLUMNS($H$105:H127)-1),\"\")","v":""},{"$f":"IF(OFFSET(DE100_7!$I$105,ROWS($I$105:I127)-1,COLUMNS($I$105:I127)-1)<>\"\",OFFSET(DE100_7!$I$105,ROWS($I$105:I127)-1,COLUMNS($I$105:I127)-1),\"\")","v":""},{"$f":"IF(OFFSET(DE100_7!$J$105,ROWS($J$105:J127)-1,COLUMNS($J$105:J127)-1)<>\"\",OFFSET(DE100_7!$J$105,ROWS($J$105:J127)-1,COLUMNS($J$105:J127)-1),\"\")","v":""},{"$f":"IF(OFFSET(DE100_7!$K$105,ROWS($K$105:K127)-1,COLUMNS($K$105:K127)-1)<>\"\",OFFSET(DE100_7!$K$105,ROWS($K$105:K127)-1,COLUMNS($K$105:K127)-1),\"\")","v":""},{"$f":"IF(OFFSET(DE100_7!$L$105,ROWS($L$105:L127)-1,COLUMNS($L$105:L127)-1)<>\"\",OFFSET(DE100_7!$L$105,ROWS($L$105:L127)-1,COLUMNS($L$105:L127)-1),\"\")","v":""},{"$f":"IF(OFFSET(DE100_7!$M$105,ROWS($M$105:M127)-1,COLUMNS($M$105:M127)-1)<>\"\",OFFSET(DE100_7!$M$105,ROWS($M$105:M127)-1,COLUMNS($M$105:M127)-1),\"\")","v":""},{"$f":"IF(OFFSET(DE100_7!$N$105,ROWS($N$105:N127)-1,COLUMNS($N$105:N127)-1)<>\"\",OFFSET(DE100_7!$N$105,ROWS($N$105:N127)-1,COLUMNS($N$105:N127)-1),\"\")","v":""},{"$f":"IF(OFFSET(DE100_7!$O$105,ROWS($O$105:O127)-1,COLUMNS($O$105:O127)-1)<>\"\",OFFSET(DE100_7!$O$105,ROWS($O$105:O127)-1,COLUMNS($O$105:O127)-1),\"\")","v":""},{"$f":"IF(OFFSET(DE100_7!$P$105,ROWS($P$105:P127)-1,COLUMNS($P$105:P127)-1)<>\"\",OFFSET(DE100_7!$P$105,ROWS($P$105:P127)-1,COLUMNS($P$105:P127)-1),\"\")","v":858.2},{"$f":"IF(OFFSET(DE100_7!$Q$105,ROWS($Q$105:Q127)-1,COLUMNS($Q$105:Q127)-1)<>\"\",OFFSET(DE100_7!$Q$105,ROWS($Q$105:Q127)-1,COLUMNS($Q$105:Q127)-1),\"\")","v":6},{"$f":"IF(OFFSET(DE100_7!$R$105,ROWS($R$105:R127)-1,COLUMNS($R$105:R127)-1)<>\"\",OFFSET(DE100_7!$R$105,ROWS($R$105:R127)-1,COLUMNS($R$105:R127)-1),\"\")","v":""},{"$f":"IF(OFFSET(DE100_7!$S$105,ROWS($S$105:S127)-1,COLUMNS($S$105:S127)-1)<>\"\",OFFSET(DE100_7!$S$105,ROWS($S$105:S127)-1,COLUMNS($S$105:S127)-1),\"\")","v":""},{"$f":"IF(OFFSET(DE100_7!$T$105,ROWS($T$105:T127)-1,COLUMNS($T$105:T127)-1)<>\"\",OFFSET(DE100_7!$T$105,ROWS($T$105:T127)-1,COLUMNS($T$105:T127)-1),\"\")","v":""},{"$f":"IF(OFFSET(DE100_7!$U$105,ROWS($U$105:U127)-1,COLUMNS($U$105:U127)-1)<>\"\",OFFSET(DE100_7!$U$105,ROWS($U$105:U127)-1,COLUMNS($U$105:U127)-1),\"\")","v":""},{"$f":"IF(OFFSET(DE100_7!$V$105,ROWS($V$105:V127)-1,COLUMNS($V$105:V127)-1)<>\"\",OFFSET(DE100_7!$V$105,ROWS($V$105:V127)-1,COLUMNS($V$105:V127)-1),\"\")","v":"RAMP 210A"}]
[{"$f":"IF(OFFSET(DE100_7!$C$105,ROWS($C$105:C128)-1,COLUMNS($C$105:C128)-1)<>\"\",OFFSET(DE100_7!$C$105,ROWS($C$105:C128)-1,COLUMNS($C$105:C128)-1),\"\")","v":160398.57},{"$f":"IF(OFFSET(DE100_7!$D$105,ROWS($D$105:D128)-1,COLUMNS($D$105:D128)-1)<>\"\",OFFSET(DE100_7!$D$105,ROWS($D$105:D128)-1,COLUMNS($D$105:D128)-1),\"\")","v":94.51},{"$f":"IF(OFFSET(DE100_7!$E$105,ROWS($E$105:E128)-1,COLUMNS($E$105:E128)-1)<>\"\",OFFSET(DE100_7!$E$105,ROWS($E$105:E128)-1,COLUMNS($E$105:E128)-1),\"\")","v":160582.82999999999},{"$f":"IF(OFFSET(DE100_7!$F$105,ROWS($F$105:F128)-1,COLUMNS($F$105:F128)-1)<>\"\",OFFSET(DE100_7!$F$105,ROWS($F$105:F128)-1,COLUMNS($F$105:F128)-1),\"\")","v":89.07},{"$f":"IF(OFFSET(DE100_7!$G$105,ROWS($G$105:G128)-1,COLUMNS($G$105:G128)-1)<>\"\",OFFSET(DE100_7!$G$105,ROWS($G$105:G128)-1,COLUMNS($G$105:G128)-1),\"\")","v":"RT"},{"$f":"IF(OFFSET(DE100_7!$H$105,ROWS($H$105:H128)-1,COLUMNS($H$105:H128)-1)<>\"\",OFFSET(DE100_7!$H$105,ROWS($H$105:H128)-1,COLUMNS($H$105:H128)-1),\"\")","v":""},{"$f":"IF(OFFSET(DE100_7!$I$105,ROWS($I$105:I128)-1,COLUMNS($I$105:I128)-1)<>\"\",OFFSET(DE100_7!$I$105,ROWS($I$105:I128)-1,COLUMNS($I$105:I128)-1),\"\")","v":""},{"$f":"IF(OFFSET(DE100_7!$J$105,ROWS($J$105:J128)-1,COLUMNS($J$105:J128)-1)<>\"\",OFFSET(DE100_7!$J$105,ROWS($J$105:J128)-1,COLUMNS($J$105:J128)-1),\"\")","v":""},{"$f":"IF(OFFSET(DE100_7!$K$105,ROWS($K$105:K128)-1,COLUMNS($K$105:K128)-1)<>\"\",OFFSET(DE100_7!$K$105,ROWS($K$105:K128)-1,COLUMNS($K$105:K128)-1),\"\")","v":""},{"$f":"IF(OFFSET(DE100_7!$L$105,ROWS($L$105:L128)-1,COLUMNS($L$105:L128)-1)<>\"\",OFFSET(DE100_7!$L$105,ROWS($L$105:L128)-1,COLUMNS($L$105:L128)-1),\"\")","v":""},{"$f":"IF(OFFSET(DE100_7!$M$105,ROWS($M$105:M128)-1,COLUMNS($M$105:M128)-1)<>\"\",OFFSET(DE100_7!$M$105,ROWS($M$105:M128)-1,COLUMNS($M$105:M128)-1),\"\")","v":""},{"$f":"IF(OFFSET(DE100_7!$N$105,ROWS($N$105:N128)-1,COLUMNS($N$105:N128)-1)<>\"\",OFFSET(DE100_7!$N$105,ROWS($N$105:N128)-1,COLUMNS($N$105:N128)-1),\"\")","v":""},{"$f":"IF(OFFSET(DE100_7!$O$105,ROWS($O$105:O128)-1,COLUMNS($O$105:O128)-1)<>\"\",OFFSET(DE100_7!$O$105,ROWS($O$105:O128)-1,COLUMNS($O$105:O128)-1),\"\")","v":""},{"$f":"IF(OFFSET(DE100_7!$P$105,ROWS($P$105:P128)-1,COLUMNS($P$105:P128)-1)<>\"\",OFFSET(DE100_7!$P$105,ROWS($P$105:P128)-1,COLUMNS($P$105:P128)-1),\"\")","v":195.3},{"$f":"IF(OFFSET(DE100_7!$Q$105,ROWS($Q$105:Q128)-1,COLUMNS($Q$105:Q128)-1)<>\"\",OFFSET(DE100_7!$Q$105,ROWS($Q$105:Q128)-1,COLUMNS($Q$105:Q128)-1),\"\")","v":6},{"$f":"IF(OFFSET(DE100_7!$R$105,ROWS($R$105:R128)-1,COLUMNS($R$105:R128)-1)<>\"\",OFFSET(DE100_7!$R$105,ROWS($R$105:R128)-1,COLUMNS($R$105:R128)-1),\"\")","v":""},{"$f":"IF(OFFSET(DE100_7!$S$105,ROWS($S$105:S128)-1,COLUMNS($S$105:S128)-1)<>\"\",OFFSET(DE100_7!$S$105,ROWS($S$105:S128)-1,COLUMNS($S$105:S128)-1),\"\")","v":""},{"$f":"IF(OFFSET(DE100_7!$T$105,ROWS($T$105:T128)-1,COLUMNS($T$105:T128)-1)<>\"\",OFFSET(DE100_7!$T$105,ROWS($T$105:T128)-1,COLUMNS($T$105:T128)-1),\"\")","v":""},{"$f":"IF(OFFSET(DE100_7!$U$105,ROWS($U$105:U128)-1,COLUMNS($U$105:U128)-1)<>\"\",OFFSET(DE100_7!$U$105,ROWS($U$105:U128)-1,COLUMNS($U$105:U128)-1),\"\")","v":""},{"$f":"IF(OFFSET(DE100_7!$V$105,ROWS($V$105:V128)-1,COLUMNS($V$105:V128)-1)<>\"\",OFFSET(DE100_7!$V$105,ROWS($V$105:V128)-1,COLUMNS($V$105:V128)-1),\"\")","v":"RAMP 210A"}]
[{"$f":"IF(OFFSET(DE100_7!$C$105,ROWS($C$105:C129)-1,COLUMNS($C$105:C129)-1)<>\"\",OFFSET(DE100_7!$C$105,ROWS($C$105:C129)-1,COLUMNS($C$105:C129)-1),\"\")","v":160582.82999999999},{"$f":"IF(OFFSET(DE100_7!$D$105,ROWS($D$105:D129)-1,COLUMNS($D$105:D129)-1)<>\"\",OFFSET(DE100_7!$D$105,ROWS($D$105:D129)-1,COLUMNS($D$105:D129)-1),\"\")","v":89.07},{"$f":"IF(OFFSET(DE100_7!$E$105,ROWS($E$105:E129)-1,COLUMNS($E$105:E129)-1)<>\"\",OFFSET(DE100_7!$E$105,ROWS($E$105:E129)-1,COLUMNS($E$105:E129)-1),\"\")","v":160765.41},{"$f":"IF(OFFSET(DE100_7!$F$105,ROWS($F$105:F129)-1,COLUMNS($F$105:F129)-1)<>\"\",OFFSET(DE100_7!$F$105,ROWS($F$105:F129)-1,COLUMNS($F$105:F129)-1),\"\")","v":147.1},{"$f":"IF(OFFSET(DE100_7!$G$105,ROWS($G$105:G129)-1,COLUMNS($G$105:G129)-1)<>\"\",OFFSET(DE100_7!$G$105,ROWS($G$105:G129)-1,COLUMNS($G$105:G129)-1),\"\")","v":"RT"},{"$f":"IF(OFFSET(DE100_7!$H$105,ROWS($H$105:H129)-1,COLUMNS($H$105:H129)-1)<>\"\",OFFSET(DE100_7!$H$105,ROWS($H$105:H129)-1,COLUMNS($H$105:H129)-1),\"\")","v":""},{"$f":"IF(OFFSET(DE100_7!$I$105,ROWS($I$105:I129)-1,COLUMNS($I$105:I129)-1)<>\"\",OFFSET(DE100_7!$I$105,ROWS($I$105:I129)-1,COLUMNS($I$105:I129)-1),\"\")","v":""},{"$f":"IF(OFFSET(DE100_7!$J$105,ROWS($J$105:J129)-1,COLUMNS($J$105:J129)-1)<>\"\",OFFSET(DE100_7!$J$105,ROWS($J$105:J129)-1,COLUMNS($J$105:J129)-1),\"\")","v":""},{"$f":"IF(OFFSET(DE100_7!$K$105,ROWS($K$105:K129)-1,COLUMNS($K$105:K129)-1)<>\"\",OFFSET(DE100_7!$K$105,ROWS($K$105:K129)-1,COLUMNS($K$105:K129)-1),\"\")","v":""},{"$f":"IF(OFFSET(DE100_7!$L$105,ROWS($L$105:L129)-1,COLUMNS($L$105:L129)-1)<>\"\",OFFSET(DE100_7!$L$105,ROWS($L$105:L129)-1,COLUMNS($L$105:L129)-1),\"\")","v":""},{"$f":"IF(OFFSET(DE100_7!$M$105,ROWS($M$105:M129)-1,COLUMNS($M$105:M129)-1)<>\"\",OFFSET(DE100_7!$M$105,ROWS($M$105:M129)-1,COLUMNS($M$105:M129)-1),\"\")","v":""},{"$f":"IF(OFFSET(DE100_7!$N$105,ROWS($N$105:N129)-1,COLUMNS($N$105:N129)-1)<>\"\",OFFSET(DE100_7!$N$105,ROWS($N$105:N129)-1,COLUMNS($N$105:N129)-1),\"\")","v":""},{"$f":"IF(OFFSET(DE100_7!$O$105,ROWS($O$105:O129)-1,COLUMNS($O$105:O129)-1)<>\"\",OFFSET(DE100_7!$O$105,ROWS($O$105:O129)-1,COLUMNS($O$105:O129)-1),\"\")","v":""},{"$f":"IF(OFFSET(DE100_7!$P$105,ROWS($P$105:P129)-1,COLUMNS($P$105:P129)-1)<>\"\",OFFSET(DE100_7!$P$105,ROWS($P$105:P129)-1,COLUMNS($P$105:P129)-1),\"\")","v":204.7},{"$f":"IF(OFFSET(DE100_7!$Q$105,ROWS($Q$105:Q129)-1,COLUMNS($Q$105:Q129)-1)<>\"\",OFFSET(DE100_7!$Q$105,ROWS($Q$105:Q129)-1,COLUMNS($Q$105:Q129)-1),\"\")","v":5},{"$f":"IF(OFFSET(DE100_7!$R$105,ROWS($R$105:R129)-1,COLUMNS($R$105:R129)-1)<>\"\",OFFSET(DE100_7!$R$105,ROWS($R$105:R129)-1,COLUMNS($R$105:R129)-1),\"\")","v":""},{"$f":"IF(OFFSET(DE100_7!$S$105,ROWS($S$105:S129)-1,COLUMNS($S$105:S129)-1)<>\"\",OFFSET(DE100_7!$S$105,ROWS($S$105:S129)-1,COLUMNS($S$105:S129)-1),\"\")","v":""},{"$f":"IF(OFFSET(DE100_7!$T$105,ROWS($T$105:T129)-1,COLUMNS($T$105:T129)-1)<>\"\",OFFSET(DE100_7!$T$105,ROWS($T$105:T129)-1,COLUMNS($T$105:T129)-1),\"\")","v":""},{"$f":"IF(OFFSET(DE100_7!$U$105,ROWS($U$105:U129)-1,COLUMNS($U$105:U129)-1)<>\"\",OFFSET(DE100_7!$U$105,ROWS($U$105:U129)-1,COLUMNS($U$105:U129)-1),\"\")","v":""},{"$f":"IF(OFFSET(DE100_7!$V$105,ROWS($V$105:V129)-1,COLUMNS($V$105:V129)-1)<>\"\",OFFSET(DE100_7!$V$105,ROWS($V$105:V129)-1,COLUMNS($V$105:V129)-1),\"\")","v":"RAMP 210A"}]
[{"$f":"IF(OFFSET(DE100_7!$C$105,ROWS($C$105:C130)-1,COLUMNS($C$105:C130)-1)<>\"\",OFFSET(DE100_7!$C$105,ROWS($C$105:C130)-1,COLUMNS($C$105:C130)-1),\"\")","v":""},{"$f":"IF(OFFSET(DE100_7!$D$105,ROWS($D$105:D130)-1,COLUMNS($D$105:D130)-1)<>\"\",OFFSET(DE100_7!$D$105,ROWS($D$105:D130)-1,COLUMNS($D$105:D130)-1),\"\")","v":""},{"$f":"IF(OFFSET(DE100_7!$E$105,ROWS($E$105:E130)-1,COLUMNS($E$105:E130)-1)<>\"\",OFFSET(DE100_7!$E$105,ROWS($E$105:E130)-1,COLUMNS($E$105:E130)-1),\"\")","v":""},{"$f":"IF(OFFSET(DE100_7!$F$105,ROWS($F$105:F130)-1,COLUMNS($F$105:F130)-1)<>\"\",OFFSET(DE100_7!$F$105,ROWS($F$105:F130)-1,COLUMNS($F$105:F130)-1),\"\")","v":""},{"$f":"IF(OFFSET(DE100_7!$G$105,ROWS($G$105:G130)-1,COLUMNS($G$105:G130)-1)<>\"\",OFFSET(DE100_7!$G$105,ROWS($G$105:G130)-1,COLUMNS($G$105:G130)-1),\"\")","v":""},{"$f":"IF(OFFSET(DE100_7!$H$105,ROWS($H$105:H130)-1,COLUMNS($H$105:H130)-1)<>\"\",OFFSET(DE100_7!$H$105,ROWS($H$105:H130)-1,COLUMNS($H$105:H130)-1),\"\")","v":""},{"$f":"IF(OFFSET(DE100_7!$I$105,ROWS($I$105:I130)-1,COLUMNS($I$105:I130)-1)<>\"\",OFFSET(DE100_7!$I$105,ROWS($I$105:I130)-1,COLUMNS($I$105:I130)-1),\"\")","v":""},{"$f":"IF(OFFSET(DE100_7!$J$105,ROWS($J$105:J130)-1,COLUMNS($J$105:J130)-1)<>\"\",OFFSET(DE100_7!$J$105,ROWS($J$105:J130)-1,COLUMNS($J$105:J130)-1),\"\")","v":""},{"$f":"IF(OFFSET(DE100_7!$K$105,ROWS($K$105:K130)-1,COLUMNS($K$105:K130)-1)<>\"\",OFFSET(DE100_7!$K$105,ROWS($K$105:K130)-1,COLUMNS($K$105:K130)-1),\"\")","v":""},{"$f":"IF(OFFSET(DE100_7!$L$105,ROWS($L$105:L130)-1,COLUMNS($L$105:L130)-1)<>\"\",OFFSET(DE100_7!$L$105,ROWS($L$105:L130)-1,COLUMNS($L$105:L130)-1),\"\")","v":""},{"$f":"IF(OFFSET(DE100_7!$M$105,ROWS($M$105:M130)-1,COLUMNS($M$105:M130)-1)<>\"\",OFFSET(DE100_7!$M$105,ROWS($M$105:M130)-1,COLUMNS($M$105:M130)-1),\"\")","v":""},{"$f":"IF(OFFSET(DE100_7!$N$105,ROWS($N$105:N130)-1,COLUMNS($N$105:N130)-1)<>\"\",OFFSET(DE100_7!$N$105,ROWS($N$105:N130)-1,COLUMNS($N$105:N130)-1),\"\")","v":""},{"$f":"IF(OFFSET(DE100_7!$O$105,ROWS($O$105:O130)-1,COLUMNS($O$105:O130)-1)<>\"\",OFFSET(DE100_7!$O$105,ROWS($O$105:O130)-1,COLUMNS($O$105:O130)-1),\"\")","v":""},{"$f":"IF(OFFSET(DE100_7!$P$105,ROWS($P$105:P130)-1,COLUMNS($P$105:P130)-1)<>\"\",OFFSET(DE100_7!$P$105,ROWS($P$105:P130)-1,COLUMNS($P$105:P130)-1),\"\")","v":""},{"$f":"IF(OFFSET(DE100_7!$Q$105,ROWS($Q$105:Q130)-1,COLUMNS($Q$105:Q130)-1)<>\"\",OFFSET(DE100_7!$Q$105,ROWS($Q$105:Q130)-1,COLUMNS($Q$105:Q130)-1),\"\")","v":""},{"$f":"IF(OFFSET(DE100_7!$R$105,ROWS($R$105:R130)-1,COLUMNS($R$105:R130)-1)<>\"\",OFFSET(DE100_7!$R$105,ROWS($R$105:R130)-1,COLUMNS($R$105:R130)-1),\"\")","v":""},{"$f":"IF(OFFSET(DE100_7!$S$105,ROWS($S$105:S130)-1,COLUMNS($S$105:S130)-1)<>\"\",OFFSET(DE100_7!$S$105,ROWS($S$105:S130)-1,COLUMNS($S$105:S130)-1),\"\")","v":""},{"$f":"IF(OFFSET(DE100_7!$T$105,ROWS($T$105:T130)-1,COLUMNS($T$105:T130)-1)<>\"\",OFFSET(DE100_7!$T$105,ROWS($T$105:T130)-1,COLUMNS($T$105:T130)-1),\"\")","v":""},{"$f":"IF(OFFSET(DE100_7!$U$105,ROWS($U$105:U130)-1,COLUMNS($U$105:U130)-1)<>\"\",OFFSET(DE100_7!$U$105,ROWS($U$105:U130)-1,COLUMNS($U$105:U130)-1),\"\")","v":""},{"$f":"IF(OFFSET(DE100_7!$V$105,ROWS($V$105:V130)-1,COLUMNS($V$105:V130)-1)<>\"\",OFFSET(DE100_7!$V$105,ROWS($V$105:V130)-1,COLUMNS($V$105:V130)-1),\"\")","v":""}]
[{"$f":"IF(OFFSET(DE100_7!$C$105,ROWS($C$105:C131)-1,COLUMNS($C$105:C131)-1)<>\"\",OFFSET(DE100_7!$C$105,ROWS($C$105:C131)-1,COLUMNS($C$105:C131)-1),\"\")","v":251204.24},{"$f":"IF(OFFSET(DE100_7!$D$105,ROWS($D$105:D131)-1,COLUMNS($D$105:D131)-1)<>\"\",OFFSET(DE100_7!$D$105,ROWS($D$105:D131)-1,COLUMNS($D$105:D131)-1),\"\")","v":78.08},{"$f":"IF(OFFSET(DE100_7!$E$105,ROWS($E$105:E131)-1,COLUMNS($E$105:E131)-1)<>\"\",OFFSET(DE100_7!$E$105,ROWS($E$105:E131)-1,COLUMNS($E$105:E131)-1),\"\")","v":251823.03},{"$f":"IF(OFFSET(DE100_7!$F$105,ROWS($F$105:F131)-1,COLUMNS($F$105:F131)-1)<>\"\",OFFSET(DE100_7!$F$105,ROWS($F$105:F131)-1,COLUMNS($F$105:F131)-1),\"\")","v":60},{"$f":"IF(OFFSET(DE100_7!$G$105,ROWS($G$105:G131)-1,COLUMNS($G$105:G131)-1)<>\"\",OFFSET(DE100_7!$G$105,ROWS($G$105:G131)-1,COLUMNS($G$105:G131)-1),\"\")","v":"RT"},{"$f":"IF(OFFSET(DE100_7!$H$105,ROWS($H$105:H131)-1,COLUMNS($H$105:H131)-1)<>\"\",OFFSET(DE100_7!$H$105,ROWS($H$105:H131)-1,COLUMNS($H$105:H131)-1),\"\")","v":""},{"$f":"IF(OFFSET(DE100_7!$I$105,ROWS($I$105:I131)-1,COLUMNS($I$105:I131)-1)<>\"\",OFFSET(DE100_7!$I$105,ROWS($I$105:I131)-1,COLUMNS($I$105:I131)-1),\"\")","v":""},{"$f":"IF(OFFSET(DE100_7!$J$105,ROWS($J$105:J131)-1,COLUMNS($J$105:J131)-1)<>\"\",OFFSET(DE100_7!$J$105,ROWS($J$105:J131)-1,COLUMNS($J$105:J131)-1),\"\")","v":""},{"$f":"IF(OFFSET(DE100_7!$K$105,ROWS($K$105:K131)-1,COLUMNS($K$105:K131)-1)<>\"\",OFFSET(DE100_7!$K$105,ROWS($K$105:K131)-1,COLUMNS($K$105:K131)-1),\"\")","v":""},{"$f":"IF(OFFSET(DE100_7!$L$105,ROWS($L$105:L131)-1,COLUMNS($L$105:L131)-1)<>\"\",OFFSET(DE100_7!$L$105,ROWS($L$105:L131)-1,COLUMNS($L$105:L131)-1),\"\")","v":""},{"$f":"IF(OFFSET(DE100_7!$M$105,ROWS($M$105:M131)-1,COLUMNS($M$105:M131)-1)<>\"\",OFFSET(DE100_7!$M$105,ROWS($M$105:M131)-1,COLUMNS($M$105:M131)-1),\"\")","v":""},{"$f":"IF(OFFSET(DE100_7!$N$105,ROWS($N$105:N131)-1,COLUMNS($N$105:N131)-1)<>\"\",OFFSET(DE100_7!$N$105,ROWS($N$105:N131)-1,COLUMNS($N$105:N131)-1),\"\")","v":""},{"$f":"IF(OFFSET(DE100_7!$O$105,ROWS($O$105:O131)-1,COLUMNS($O$105:O131)-1)<>\"\",OFFSET(DE100_7!$O$105,ROWS($O$105:O131)-1,COLUMNS($O$105:O131)-1),\"\")","v":""},{"$f":"IF(OFFSET(DE100_7!$P$105,ROWS($P$105:P131)-1,COLUMNS($P$105:P131)-1)<>\"\",OFFSET(DE100_7!$P$105,ROWS($P$105:P131)-1,COLUMNS($P$105:P131)-1),\"\")","v":622.1},{"$f":"IF(OFFSET(DE100_7!$Q$105,ROWS($Q$105:Q131)-1,COLUMNS($Q$105:Q131)-1)<>\"\",OFFSET(DE100_7!$Q$105,ROWS($Q$105:Q131)-1,COLUMNS($Q$105:Q131)-1),\"\")","v":5},{"$f":"IF(OFFSET(DE100_7!$R$105,ROWS($R$105:R131)-1,COLUMNS($R$105:R131)-1)<>\"\",OFFSET(DE100_7!$R$105,ROWS($R$105:R131)-1,COLUMNS($R$105:R131)-1),\"\")","v":""},{"$f":"IF(OFFSET(DE100_7!$S$105,ROWS($S$105:S131)-1,COLUMNS($S$105:S131)-1)<>\"\",OFFSET(DE100_7!$S$105,ROWS($S$105:S131)-1,COLUMNS($S$105:S131)-1),\"\")","v":""},{"$f":"IF(OFFSET(DE100_7!$T$105,ROWS($T$105:T131)-1,COLUMNS($T$105:T131)-1)<>\"\",OFFSET(DE100_7!$T$105,ROWS($T$105:T131)-1,COLUMNS($T$105:T131)-1),\"\")","v":""},{"$f":"IF(OFFSET(DE100_7!$U$105,ROWS($U$105:U131)-1,COLUMNS($U$105:U131)-1)<>\"\",OFFSET(DE100_7!$U$105,ROWS($U$105:U131)-1,COLUMNS($U$105:U131)-1),\"\")","v":""},{"$f":"IF(OFFSET(DE100_7!$V$105,ROWS($V$105:V131)-1,COLUMNS($V$105:V131)-1)<>\"\",OFFSET(DE100_7!$V$105,ROWS($V$105:V131)-1,COLUMNS($V$105:V131)-1),\"\")","v":"RAMP 210B"}]
[{"$f":"IF(OFFSET(DE100_7!$C$105,ROWS($C$105:C132)-1,COLUMNS($C$105:C132)-1)<>\"\",OFFSET(DE100_7!$C$105,ROWS($C$105:C132)-1,COLUMNS($C$105:C132)-1),\"\")","v":251823.03},{"$f":"IF(OFFSET(DE100_7!$D$105,ROWS($D$105:D132)-1,COLUMNS($D$105:D132)-1)<>\"\",OFFSET(DE100_7!$D$105,ROWS($D$105:D132)-1,COLUMNS($D$105:D132)-1),\"\")","v":60},{"$f":"IF(OFFSET(DE100_7!$E$105,ROWS($E$105:E132)-1,COLUMNS($E$105:E132)-1)<>\"\",OFFSET(DE100_7!$E$105,ROWS($E$105:E132)-1,COLUMNS($E$105:E132)-1),\"\")","v":252227.16},{"$f":"IF(OFFSET(DE100_7!$F$105,ROWS($F$105:F132)-1,COLUMNS($F$105:F132)-1)<>\"\",OFFSET(DE100_7!$F$105,ROWS($F$105:F132)-1,COLUMNS($F$105:F132)-1),\"\")","v":55},{"$f":"IF(OFFSET(DE100_7!$G$105,ROWS($G$105:G132)-1,COLUMNS($G$105:G132)-1)<>\"\",OFFSET(DE100_7!$G$105,ROWS($G$105:G132)-1,COLUMNS($G$105:G132)-1),\"\")","v":"RT"},{"$f":"IF(OFFSET(DE100_7!$H$105,ROWS($H$105:H132)-1,COLUMNS($H$105:H132)-1)<>\"\",OFFSET(DE100_7!$H$105,ROWS($H$105:H132)-1,COLUMNS($H$105:H132)-1),\"\")","v":""},{"$f":"IF(OFFSET(DE100_7!$I$105,ROWS($I$105:I132)-1,COLUMNS($I$105:I132)-1)<>\"\",OFFSET(DE100_7!$I$105,ROWS($I$105:I132)-1,COLUMNS($I$105:I132)-1),\"\")","v":""},{"$f":"IF(OFFSET(DE100_7!$J$105,ROWS($J$105:J132)-1,COLUMNS($J$105:J132)-1)<>\"\",OFFSET(DE100_7!$J$105,ROWS($J$105:J132)-1,COLUMNS($J$105:J132)-1),\"\")","v":""},{"$f":"IF(OFFSET(DE100_7!$K$105,ROWS($K$105:K132)-1,COLUMNS($K$105:K132)-1)<>\"\",OFFSET(DE100_7!$K$105,ROWS($K$105:K132)-1,COLUMNS($K$105:K132)-1),\"\")","v":""},{"$f":"IF(OFFSET(DE100_7!$L$105,ROWS($L$105:L132)-1,COLUMNS($L$105:L132)-1)<>\"\",OFFSET(DE100_7!$L$105,ROWS($L$105:L132)-1,COLUMNS($L$105:L132)-1),\"\")","v":""},{"$f":"IF(OFFSET(DE100_7!$M$105,ROWS($M$105:M132)-1,COLUMNS($M$105:M132)-1)<>\"\",OFFSET(DE100_7!$M$105,ROWS($M$105:M132)-1,COLUMNS($M$105:M132)-1),\"\")","v":""},{"$f":"IF(OFFSET(DE100_7!$N$105,ROWS($N$105:N132)-1,COLUMNS($N$105:N132)-1)<>\"\",OFFSET(DE100_7!$N$105,ROWS($N$105:N132)-1,COLUMNS($N$105:N132)-1),\"\")","v":""},{"$f":"IF(OFFSET(DE100_7!$O$105,ROWS($O$105:O132)-1,COLUMNS($O$105:O132)-1)<>\"\",OFFSET(DE100_7!$O$105,ROWS($O$105:O132)-1,COLUMNS($O$105:O132)-1),\"\")","v":""},{"$f":"IF(OFFSET(DE100_7!$P$105,ROWS($P$105:P132)-1,COLUMNS($P$105:P132)-1)<>\"\",OFFSET(DE100_7!$P$105,ROWS($P$105:P132)-1,COLUMNS($P$105:P132)-1),\"\")","v":404.1},{"$f":"IF(OFFSET(DE100_7!$Q$105,ROWS($Q$105:Q132)-1,COLUMNS($Q$105:Q132)-1)<>\"\",OFFSET(DE100_7!$Q$105,ROWS($Q$105:Q132)-1,COLUMNS($Q$105:Q132)-1),\"\")","v":6},{"$f":"IF(OFFSET(DE100_7!$R$105,ROWS($R$105:R132)-1,COLUMNS($R$105:R132)-1)<>\"\",OFFSET(DE100_7!$R$105,ROWS($R$105:R132)-1,COLUMNS($R$105:R132)-1),\"\")","v":""},{"$f":"IF(OFFSET(DE100_7!$S$105,ROWS($S$105:S132)-1,COLUMNS($S$105:S132)-1)<>\"\",OFFSET(DE100_7!$S$105,ROWS($S$105:S132)-1,COLUMNS($S$105:S132)-1),\"\")","v":""},{"$f":"IF(OFFSET(DE100_7!$T$105,ROWS($T$105:T132)-1,COLUMNS($T$105:T132)-1)<>\"\",OFFSET(DE100_7!$T$105,ROWS($T$105:T132)-1,COLUMNS($T$105:T132)-1),\"\")","v":""},{"$f":"IF(OFFSET(DE100_7!$U$105,ROWS($U$105:U132)-1,COLUMNS($U$105:U132)-1)<>\"\",OFFSET(DE100_7!$U$105,ROWS($U$105:U132)-1,COLUMNS($U$105:U132)-1),\"\")","v":""},{"$f":"IF(OFFSET(DE100_7!$V$105,ROWS($V$105:V132)-1,COLUMNS($V$105:V132)-1)<>\"\",OFFSET(DE100_7!$V$105,ROWS($V$105:V132)-1,COLUMNS($V$105:V132)-1),\"\")","v":"RAMP 210B"}]
[{"$f":"IF(OFFSET(DE100_7!$C$105,ROWS($C$105:C133)-1,COLUMNS($C$105:C133)-1)<>\"\",OFFSET(DE100_7!$C$105,ROWS($C$105:C133)-1,COLUMNS($C$105:C133)-1),\"\")","v":252227.16},{"$f":"IF(OFFSET(DE100_7!$D$105,ROWS($D$105:D133)-1,COLUMNS($D$105:D133)-1)<>\"\",OFFSET(DE100_7!$D$105,ROWS($D$105:D133)-1,COLUMNS($D$105:D133)-1),\"\")","v":55},{"$f":"IF(OFFSET(DE100_7!$E$105,ROWS($E$105:E133)-1,COLUMNS($E$105:E133)-1)<>\"\",OFFSET(DE100_7!$E$105,ROWS($E$105:E133)-1,COLUMNS($E$105:E133)-1),\"\")","v":252832.76},{"$f":"IF(OFFSET(DE100_7!$F$105,ROWS($F$105:F133)-1,COLUMNS($F$105:F133)-1)<>\"\",OFFSET(DE100_7!$F$105,ROWS($F$105:F133)-1,COLUMNS($F$105:F133)-1),\"\")","v":58.62},{"$f":"IF(OFFSET(DE100_7!$G$105,ROWS($G$105:G133)-1,COLUMNS($G$105:G133)-1)<>\"\",OFFSET(DE100_7!$G$105,ROWS($G$105:G133)-1,COLUMNS($G$105:G133)-1),\"\")","v":"RT"},{"$f":"IF(OFFSET(DE100_7!$H$105,ROWS($H$105:H133)-1,COLUMNS($H$105:H133)-1)<>\"\",OFFSET(DE100_7!$H$105,ROWS($H$105:H133)-1,COLUMNS($H$105:H133)-1),\"\")","v":""},{"$f":"IF(OFFSET(DE100_7!$I$105,ROWS($I$105:I133)-1,COLUMNS($I$105:I133)-1)<>\"\",OFFSET(DE100_7!$I$105,ROWS($I$105:I133)-1,COLUMNS($I$105:I133)-1),\"\")","v":""},{"$f":"IF(OFFSET(DE100_7!$J$105,ROWS($J$105:J133)-1,COLUMNS($J$105:J133)-1)<>\"\",OFFSET(DE100_7!$J$105,ROWS($J$105:J133)-1,COLUMNS($J$105:J133)-1),\"\")","v":""},{"$f":"IF(OFFSET(DE100_7!$K$105,ROWS($K$105:K133)-1,COLUMNS($K$105:K133)-1)<>\"\",OFFSET(DE100_7!$K$105,ROWS($K$105:K133)-1,COLUMNS($K$105:K133)-1),\"\")","v":""},{"$f":"IF(OFFSET(DE100_7!$L$105,ROWS($L$105:L133)-1,COLUMNS($L$105:L133)-1)<>\"\",OFFSET(DE100_7!$L$105,ROWS($L$105:L133)-1,COLUMNS($L$105:L133)-1),\"\")","v":""},{"$f":"IF(OFFSET(DE100_7!$M$105,ROWS($M$105:M133)-1,COLUMNS($M$105:M133)-1)<>\"\",OFFSET(DE100_7!$M$105,ROWS($M$105:M133)-1,COLUMNS($M$105:M133)-1),\"\")","v":""},{"$f":"IF(OFFSET(DE100_7!$N$105,ROWS($N$105:N133)-1,COLUMNS($N$105:N133)-1)<>\"\",OFFSET(DE100_7!$N$105,ROWS($N$105:N133)-1,COLUMNS($N$105:N133)-1),\"\")","v":""},{"$f":"IF(OFFSET(DE100_7!$O$105,ROWS($O$105:O133)-1,COLUMNS($O$105:O133)-1)<>\"\",OFFSET(DE100_7!$O$105,ROWS($O$105:O133)-1,COLUMNS($O$105:O133)-1),\"\")","v":""},{"$f":"IF(OFFSET(DE100_7!$P$105,ROWS($P$105:P133)-1,COLUMNS($P$105:P133)-1)<>\"\",OFFSET(DE100_7!$P$105,ROWS($P$105:P133)-1,COLUMNS($P$105:P133)-1),\"\")","v":599.70000000000005},{"$f":"IF(OFFSET(DE100_7!$Q$105,ROWS($Q$105:Q133)-1,COLUMNS($Q$105:Q133)-1)<>\"\",OFFSET(DE100_7!$Q$105,ROWS($Q$105:Q133)-1,COLUMNS($Q$105:Q133)-1),\"\")","v":6},{"$f":"IF(OFFSET(DE100_7!$R$105,ROWS($R$105:R133)-1,COLUMNS($R$105:R133)-1)<>\"\",OFFSET(DE100_7!$R$105,ROWS($R$105:R133)-1,COLUMNS($R$105:R133)-1),\"\")","v":""},{"$f":"IF(OFFSET(DE100_7!$S$105,ROWS($S$105:S133)-1,COLUMNS($S$105:S133)-1)<>\"\",OFFSET(DE100_7!$S$105,ROWS($S$105:S133)-1,COLUMNS($S$105:S133)-1),\"\")","v":""},{"$f":"IF(OFFSET(DE100_7!$T$105,ROWS($T$105:T133)-1,COLUMNS($T$105:T133)-1)<>\"\",OFFSET(DE100_7!$T$105,ROWS($T$105:T133)-1,COLUMNS($T$105:T133)-1),\"\")","v":""},{"$f":"IF(OFFSET(DE100_7!$U$105,ROWS($U$105:U133)-1,COLUMNS($U$105:U133)-1)<>\"\",OFFSET(DE100_7!$U$105,ROWS($U$105:U133)-1,COLUMNS($U$105:U133)-1),\"\")","v":""},{"$f":"IF(OFFSET(DE100_7!$V$105,ROWS($V$105:V133)-1,COLUMNS($V$105:V133)-1)<>\"\",OFFSET(DE100_7!$V$105,ROWS($V$105:V133)-1,COLUMNS($V$105:V133)-1),\"\")","v":"RAMP 210B"}]
[{"$f":"IF(OFFSET(DE100_7!$C$105,ROWS($C$105:C134)-1,COLUMNS($C$105:C134)-1)<>\"\",OFFSET(DE100_7!$C$105,ROWS($C$105:C134)-1,COLUMNS($C$105:C134)-1),\"\")","v":252832.76},{"$f":"IF(OFFSET(DE100_7!$D$105,ROWS($D$105:D134)-1,COLUMNS($D$105:D134)-1)<>\"\",OFFSET(DE100_7!$D$105,ROWS($D$105:D134)-1,COLUMNS($D$105:D134)-1),\"\")","v":56.62},{"$f":"IF(OFFSET(DE100_7!$E$105,ROWS($E$105:E134)-1,COLUMNS($E$105:E134)-1)<>\"\",OFFSET(DE100_7!$E$105,ROWS($E$105:E134)-1,COLUMNS($E$105:E134)-1),\"\")","v":253117.87},{"$f":"IF(OFFSET(DE100_7!$F$105,ROWS($F$105:F134)-1,COLUMNS($F$105:F134)-1)<>\"\",OFFSET(DE100_7!$F$105,ROWS($F$105:F134)-1,COLUMNS($F$105:F134)-1),\"\")","v":65.97},{"$f":"IF(OFFSET(DE100_7!$G$105,ROWS($G$105:G134)-1,COLUMNS($G$105:G134)-1)<>\"\",OFFSET(DE100_7!$G$105,ROWS($G$105:G134)-1,COLUMNS($G$105:G134)-1),\"\")","v":"RT"},{"$f":"IF(OFFSET(DE100_7!$H$105,ROWS($H$105:H134)-1,COLUMNS($H$105:H134)-1)<>\"\",OFFSET(DE100_7!$H$105,ROWS($H$105:H134)-1,COLUMNS($H$105:H134)-1),\"\")","v":""},{"$f":"IF(OFFSET(DE100_7!$I$105,ROWS($I$105:I134)-1,COLUMNS($I$105:I134)-1)<>\"\",OFFSET(DE100_7!$I$105,ROWS($I$105:I134)-1,COLUMNS($I$105:I134)-1),\"\")","v":""},{"$f":"IF(OFFSET(DE100_7!$J$105,ROWS($J$105:J134)-1,COLUMNS($J$105:J134)-1)<>\"\",OFFSET(DE100_7!$J$105,ROWS($J$105:J134)-1,COLUMNS($J$105:J134)-1),\"\")","v":""},{"$f":"IF(OFFSET(DE100_7!$K$105,ROWS($K$105:K134)-1,COLUMNS($K$105:K134)-1)<>\"\",OFFSET(DE100_7!$K$105,ROWS($K$105:K134)-1,COLUMNS($K$105:K134)-1),\"\")","v":""},{"$f":"IF(OFFSET(DE100_7!$L$105,ROWS($L$105:L134)-1,COLUMNS($L$105:L134)-1)<>\"\",OFFSET(DE100_7!$L$105,ROWS($L$105:L134)-1,COLUMNS($L$105:L134)-1),\"\")","v":""},{"$f":"IF(OFFSET(DE100_7!$M$105,ROWS($M$105:M134)-1,COLUMNS($M$105:M134)-1)<>\"\",OFFSET(DE100_7!$M$105,ROWS($M$105:M134)-1,COLUMNS($M$105:M134)-1),\"\")","v":""},{"$f":"IF(OFFSET(DE100_7!$N$105,ROWS($N$105:N134)-1,COLUMNS($N$105:N134)-1)<>\"\",OFFSET(DE100_7!$N$105,ROWS($N$105:N134)-1,COLUMNS($N$105:N134)-1),\"\")","v":""},{"$f":"IF(OFFSET(DE100_7!$O$105,ROWS($O$105:O134)-1,COLUMNS($O$105:O134)-1)<>\"\",OFFSET(DE100_7!$O$105,ROWS($O$105:O134)-1,COLUMNS($O$105:O134)-1),\"\")","v":""},{"$f":"IF(OFFSET(DE100_7!$P$105,ROWS($P$105:P134)-1,COLUMNS($P$105:P134)-1)<>\"\",OFFSET(DE100_7!$P$105,ROWS($P$105:P134)-1,COLUMNS($P$105:P134)-1),\"\")","v":276.3},{"$f":"IF(OFFSET(DE100_7!$Q$105,ROWS($Q$105:Q134)-1,COLUMNS($Q$105:Q134)-1)<>\"\",OFFSET(DE100_7!$Q$105,ROWS($Q$105:Q134)-1,COLUMNS($Q$105:Q134)-1),\"\")","v":6},{"$f":"IF(OFFSET(DE100_7!$R$105,ROWS($R$105:R134)-1,COLUMNS($R$105:R134)-1)<>\"\",OFFSET(DE100_7!$R$105,ROWS($R$105:R134)-1,COLUMNS($R$105:R134)-1),\"\")","v":""},{"$f":"IF(OFFSET(DE100_7!$S$105,ROWS($S$105:S134)-1,COLUMNS($S$105:S134)-1)<>\"\",OFFSET(DE100_7!$S$105,ROWS($S$105:S134)-1,COLUMNS($S$105:S134)-1),\"\")","v":""},{"$f":"IF(OFFSET(DE100_7!$T$105,ROWS($T$105:T134)-1,COLUMNS($T$105:T134)-1)<>\"\",OFFSET(DE100_7!$T$105,ROWS($T$105:T134)-1,COLUMNS($T$105:T134)-1),\"\")","v":""},{"$f":"IF(OFFSET(DE100_7!$U$105,ROWS($U$105:U134)-1,COLUMNS($U$105:U134)-1)<>\"\",OFFSET(DE100_7!$U$105,ROWS($U$105:U134)-1,COLUMNS($U$105:U134)-1),\"\")","v":""},{"$f":"IF(OFFSET(DE100_7!$V$105,ROWS($V$105:V134)-1,COLUMNS($V$105:V134)-1)<>\"\",OFFSET(DE100_7!$V$105,ROWS($V$105:V134)-1,COLUMNS($V$105:V134)-1),\"\")","v":"RAMP 210B"}]
[{"$f":"IF(OFFSET(DE100_7!$C$105,ROWS($C$105:C135)-1,COLUMNS($C$105:C135)-1)<>\"\",OFFSET(DE100_7!$C$105,ROWS($C$105:C135)-1,COLUMNS($C$105:C135)-1),\"\")","v":253117.87},{"$f":"IF(OFFSET(DE100_7!$D$105,ROWS($D$105:D135)-1,COLUMNS($D$105:D135)-1)<>\"\",OFFSET(DE100_7!$D$105,ROWS($D$105:D135)-1,COLUMNS($D$105:D135)-1),\"\")","v":65.97},{"$f":"IF(OFFSET(DE100_7!$E$105,ROWS($E$105:E135)-1,COLUMNS($E$105:E135)-1)<>\"\",OFFSET(DE100_7!$E$105,ROWS($E$105:E135)-1,COLUMNS($E$105:E135)-1),\"\")","v":253514.79},{"$f":"IF(OFFSET(DE100_7!$F$105,ROWS($F$105:F135)-1,COLUMNS($F$105:F135)-1)<>\"\",OFFSET(DE100_7!$F$105,ROWS($F$105:F135)-1,COLUMNS($F$105:F135)-1),\"\")","v":64},{"$f":"IF(OFFSET(DE100_7!$G$105,ROWS($G$105:G135)-1,COLUMNS($G$105:G135)-1)<>\"\",OFFSET(DE100_7!$G$105,ROWS($G$105:G135)-1,COLUMNS($G$105:G135)-1),\"\")","v":"RT"},{"$f":"IF(OFFSET(DE100_7!$H$105,ROWS($H$105:H135)-1,COLUMNS($H$105:H135)-1)<>\"\",OFFSET(DE100_7!$H$105,ROWS($H$105:H135)-1,COLUMNS($H$105:H135)-1),\"\")","v":""},{"$f":"IF(OFFSET(DE100_7!$I$105,ROWS($I$105:I135)-1,COLUMNS($I$105:I135)-1)<>\"\",OFFSET(DE100_7!$I$105,ROWS($I$105:I135)-1,COLUMNS($I$105:I135)-1),\"\")","v":""},{"$f":"IF(OFFSET(DE100_7!$J$105,ROWS($J$105:J135)-1,COLUMNS($J$105:J135)-1)<>\"\",OFFSET(DE100_7!$J$105,ROWS($J$105:J135)-1,COLUMNS($J$105:J135)-1),\"\")","v":""},{"$f":"IF(OFFSET(DE100_7!$K$105,ROWS($K$105:K135)-1,COLUMNS($K$105:K135)-1)<>\"\",OFFSET(DE100_7!$K$105,ROWS($K$105:K135)-1,COLUMNS($K$105:K135)-1),\"\")","v":""},{"$f":"IF(OFFSET(DE100_7!$L$105,ROWS($L$105:L135)-1,COLUMNS($L$105:L135)-1)<>\"\",OFFSET(DE100_7!$L$105,ROWS($L$105:L135)-1,COLUMNS($L$105:L135)-1),\"\")","v":""},{"$f":"IF(OFFSET(DE100_7!$M$105,ROWS($M$105:M135)-1,COLUMNS($M$105:M135)-1)<>\"\",OFFSET(DE100_7!$M$105,ROWS($M$105:M135)-1,COLUMNS($M$105:M135)-1),\"\")","v":""},{"$f":"IF(OFFSET(DE100_7!$N$105,ROWS($N$105:N135)-1,COLUMNS($N$105:N135)-1)<>\"\",OFFSET(DE100_7!$N$105,ROWS($N$105:N135)-1,COLUMNS($N$105:N135)-1),\"\")","v":""},{"$f":"IF(OFFSET(DE100_7!$O$105,ROWS($O$105:O135)-1,COLUMNS($O$105:O135)-1)<>\"\",OFFSET(DE100_7!$O$105,ROWS($O$105:O135)-1,COLUMNS($O$105:O135)-1),\"\")","v":""},{"$f":"IF(OFFSET(DE100_7!$P$105,ROWS($P$105:P135)-1,COLUMNS($P$105:P135)-1)<>\"\",OFFSET(DE100_7!$P$105,ROWS($P$105:P135)-1,COLUMNS($P$105:P135)-1),\"\")","v":383.5},{"$f":"IF(OFFSET(DE100_7!$Q$105,ROWS($Q$105:Q135)-1,COLUMNS($Q$105:Q135)-1)<>\"\",OFFSET(DE100_7!$Q$105,ROWS($Q$105:Q135)-1,COLUMNS($Q$105:Q135)-1),\"\")","v":6},{"$f":"IF(OFFSET(DE100_7!$R$105,ROWS($R$105:R135)-1,COLUMNS($R$105:R135)-1)<>\"\",OFFSET(DE100_7!$R$105,ROWS($R$105:R135)-1,COLUMNS($R$105:R135)-1),\"\")","v":""},{"$f":"IF(OFFSET(DE100_7!$S$105,ROWS($S$105:S135)-1,COLUMNS($S$105:S135)-1)<>\"\",OFFSET(DE100_7!$S$105,ROWS($S$105:S135)-1,COLUMNS($S$105:S135)-1),\"\")","v":""},{"$f":"IF(OFFSET(DE100_7!$T$105,ROWS($T$105:T135)-1,COLUMNS($T$105:T135)-1)<>\"\",OFFSET(DE100_7!$T$105,ROWS($T$105:T135)-1,COLUMNS($T$105:T135)-1),\"\")","v":""},{"$f":"IF(OFFSET(DE100_7!$U$105,ROWS($U$105:U135)-1,COLUMNS($U$105:U135)-1)<>\"\",OFFSET(DE100_7!$U$105,ROWS($U$105:U135)-1,COLUMNS($U$105:U135)-1),\"\")","v":""},{"$f":"IF(OFFSET(DE100_7!$V$105,ROWS($V$105:V135)-1,COLUMNS($V$105:V135)-1)<>\"\",OFFSET(DE100_7!$V$105,ROWS($V$105:V135)-1,COLUMNS($V$105:V135)-1),\"\")","v":"RAMP 210B"}]
[{"$f":"IF(OFFSET(DE100_7!$C$105,ROWS($C$105:C136)-1,COLUMNS($C$105:C136)-1)<>\"\",OFFSET(DE100_7!$C$105,ROWS($C$105:C136)-1,COLUMNS($C$105:C136)-1),\"\")","v":253514.79},{"$f":"IF(OFFSET(DE100_7!$D$105,ROWS($D$105:D136)-1,COLUMNS($D$105:D136)-1)<>\"\",OFFSET(DE100_7!$D$105,ROWS($D$105:D136)-1,COLUMNS($D$105:D136)-1),\"\")","v":64},{"$f":"IF(OFFSET(DE100_7!$E$105,ROWS($E$105:E136)-1,COLUMNS($E$105:E136)-1)<>\"\",OFFSET(DE100_7!$E$105,ROWS($E$105:E136)-1,COLUMNS($E$105:E136)-1),\"\")","v":253999.49},{"$f":"IF(OFFSET(DE100_7!$F$105,ROWS($F$105:F136)-1,COLUMNS($F$105:F136)-1)<>\"\",OFFSET(DE100_7!$F$105,ROWS($F$105:F136)-1,COLUMNS($F$105:F136)-1),\"\")","v":101.87},{"$f":"IF(OFFSET(DE100_7!$G$105,ROWS($G$105:G136)-1,COLUMNS($G$105:G136)-1)<>\"\",OFFSET(DE100_7!$G$105,ROWS($G$105:G136)-1,COLUMNS($G$105:G136)-1),\"\")","v":"RT"},{"$f":"IF(OFFSET(DE100_7!$H$105,ROWS($H$105:H136)-1,COLUMNS($H$105:H136)-1)<>\"\",OFFSET(DE100_7!$H$105,ROWS($H$105:H136)-1,COLUMNS($H$105:H136)-1),\"\")","v":""},{"$f":"IF(OFFSET(DE100_7!$I$105,ROWS($I$105:I136)-1,COLUMNS($I$105:I136)-1)<>\"\",OFFSET(DE100_7!$I$105,ROWS($I$105:I136)-1,COLUMNS($I$105:I136)-1),\"\")","v":""},{"$f":"IF(OFFSET(DE100_7!$J$105,ROWS($J$105:J136)-1,COLUMNS($J$105:J136)-1)<>\"\",OFFSET(DE100_7!$J$105,ROWS($J$105:J136)-1,COLUMNS($J$105:J136)-1),\"\")","v":""},{"$f":"IF(OFFSET(DE100_7!$K$105,ROWS($K$105:K136)-1,COLUMNS($K$105:K136)-1)<>\"\",OFFSET(DE100_7!$K$105,ROWS($K$105:K136)-1,COLUMNS($K$105:K136)-1),\"\")","v":""},{"$f":"IF(OFFSET(DE100_7!$L$105,ROWS($L$105:L136)-1,COLUMNS($L$105:L136)-1)<>\"\",OFFSET(DE100_7!$L$105,ROWS($L$105:L136)-1,COLUMNS($L$105:L136)-1),\"\")","v":""},{"$f":"IF(OFFSET(DE100_7!$M$105,ROWS($M$105:M136)-1,COLUMNS($M$105:M136)-1)<>\"\",OFFSET(DE100_7!$M$105,ROWS($M$105:M136)-1,COLUMNS($M$105:M136)-1),\"\")","v":""},{"$f":"IF(OFFSET(DE100_7!$N$105,ROWS($N$105:N136)-1,COLUMNS($N$105:N136)-1)<>\"\",OFFSET(DE100_7!$N$105,ROWS($N$105:N136)-1,COLUMNS($N$105:N136)-1),\"\")","v":""},{"$f":"IF(OFFSET(DE100_7!$O$105,ROWS($O$105:O136)-1,COLUMNS($O$105:O136)-1)<>\"\",OFFSET(DE100_7!$O$105,ROWS($O$105:O136)-1,COLUMNS($O$105:O136)-1),\"\")","v":""},{"$f":"IF(OFFSET(DE100_7!$P$105,ROWS($P$105:P136)-1,COLUMNS($P$105:P136)-1)<>\"\",OFFSET(DE100_7!$P$105,ROWS($P$105:P136)-1,COLUMNS($P$105:P136)-1),\"\")","v":502.1},{"$f":"IF(OFFSET(DE100_7!$Q$105,ROWS($Q$105:Q136)-1,COLUMNS($Q$105:Q136)-1)<>\"\",OFFSET(DE100_7!$Q$105,ROWS($Q$105:Q136)-1,COLUMNS($Q$105:Q136)-1),\"\")","v":6},{"$f":"IF(OFFSET(DE100_7!$R$105,ROWS($R$105:R136)-1,COLUMNS($R$105:R136)-1)<>\"\",OFFSET(DE100_7!$R$105,ROWS($R$105:R136)-1,COLUMNS($R$105:R136)-1),\"\")","v":""},{"$f":"IF(OFFSET(DE100_7!$S$105,ROWS($S$105:S136)-1,COLUMNS($S$105:S136)-1)<>\"\",OFFSET(DE100_7!$S$105,ROWS($S$105:S136)-1,COLUMNS($S$105:S136)-1),\"\")","v":""},{"$f":"IF(OFFSET(DE100_7!$T$105,ROWS($T$105:T136)-1,COLUMNS($T$105:T136)-1)<>\"\",OFFSET(DE100_7!$T$105,ROWS($T$105:T136)-1,COLUMNS($T$105:T136)-1),\"\")","v":""},{"$f":"IF(OFFSET(DE100_7!$U$105,ROWS($U$105:U136)-1,COLUMNS($U$105:U136)-1)<>\"\",OFFSET(DE100_7!$U$105,ROWS($U$105:U136)-1,COLUMNS($U$105:U136)-1),\"\")","v":""},{"$f":"IF(OFFSET(DE100_7!$V$105,ROWS($V$105:V136)-1,COLUMNS($V$105:V136)-1)<>\"\",OFFSET(DE100_7!$V$105,ROWS($V$105:V136)-1,COLUMNS($V$105:V136)-1),\"\")","v":"RAMP 210B"}]
[{"$f":"IF(OFFSET(DE100_7!$C$105,ROWS($C$105:C137)-1,COLUMNS($C$105:C137)-1)<>\"\",OFFSET(DE100_7!$C$105,ROWS($C$105:C137)-1,COLUMNS($C$105:C137)-1),\"\")","v":253999.49},{"$f":"IF(OFFSET(DE100_7!$D$105,ROWS($D$105:D137)-1,COLUMNS($D$105:D137)-1)<>\"\",OFFSET(DE100_7!$D$105,ROWS($D$105:D137)-1,COLUMNS($D$105:D137)-1),\"\")","v":101.87},{"$f":"IF(OFFSET(DE100_7!$E$105,ROWS($E$105:E137)-1,COLUMNS($E$105:E137)-1)<>\"\",OFFSET(DE100_7!$E$105,ROWS($E$105:E137)-1,COLUMNS($E$105:E137)-1),\"\")","v":254391.3},{"$f":"IF(OFFSET(DE100_7!$F$105,ROWS($F$105:F137)-1,COLUMNS($F$105:F137)-1)<>\"\",OFFSET(DE100_7!$F$105,ROWS($F$105:F137)-1,COLUMNS($F$105:F137)-1),\"\")","v":107.71},{"$f":"IF(OFFSET(DE100_7!$G$105,ROWS($G$105:G137)-1,COLUMNS($G$105:G137)-1)<>\"\",OFFSET(DE100_7!$G$105,ROWS($G$105:G137)-1,COLUMNS($G$105:G137)-1),\"\")","v":"RT"},{"$f":"IF(OFFSET(DE100_7!$H$105,ROWS($H$105:H137)-1,COLUMNS($H$105:H137)-1)<>\"\",OFFSET(DE100_7!$H$105,ROWS($H$105:H137)-1,COLUMNS($H$105:H137)-1),\"\")","v":""},{"$f":"IF(OFFSET(DE100_7!$I$105,ROWS($I$105:I137)-1,COLUMNS($I$105:I137)-1)<>\"\",OFFSET(DE100_7!$I$105,ROWS($I$105:I137)-1,COLUMNS($I$105:I137)-1),\"\")","v":""},{"$f":"IF(OFFSET(DE100_7!$J$105,ROWS($J$105:J137)-1,COLUMNS($J$105:J137)-1)<>\"\",OFFSET(DE100_7!$J$105,ROWS($J$105:J137)-1,COLUMNS($J$105:J137)-1),\"\")","v":""},{"$f":"IF(OFFSET(DE100_7!$K$105,ROWS($K$105:K137)-1,COLUMNS($K$105:K137)-1)<>\"\",OFFSET(DE100_7!$K$105,ROWS($K$105:K137)-1,COLUMNS($K$105:K137)-1),\"\")","v":""},{"$f":"IF(OFFSET(DE100_7!$L$105,ROWS($L$105:L137)-1,COLUMNS($L$105:L137)-1)<>\"\",OFFSET(DE100_7!$L$105,ROWS($L$105:L137)-1,COLUMNS($L$105:L137)-1),\"\")","v":""},{"$f":"IF(OFFSET(DE100_7!$M$105,ROWS($M$105:M137)-1,COLUMNS($M$105:M137)-1)<>\"\",OFFSET(DE100_7!$M$105,ROWS($M$105:M137)-1,COLUMNS($M$105:M137)-1),\"\")","v":""},{"$f":"IF(OFFSET(DE100_7!$N$105,ROWS($N$105:N137)-1,COLUMNS($N$105:N137)-1)<>\"\",OFFSET(DE100_7!$N$105,ROWS($N$105:N137)-1,COLUMNS($N$105:N137)-1),\"\")","v":""},{"$f":"IF(OFFSET(DE100_7!$O$105,ROWS($O$105:O137)-1,COLUMNS($O$105:O137)-1)<>\"\",OFFSET(DE100_7!$O$105,ROWS($O$105:O137)-1,COLUMNS($O$105:O137)-1),\"\")","v":""},{"$f":"IF(OFFSET(DE100_7!$P$105,ROWS($P$105:P137)-1,COLUMNS($P$105:P137)-1)<>\"\",OFFSET(DE100_7!$P$105,ROWS($P$105:P137)-1,COLUMNS($P$105:P137)-1),\"\")","v":417.5},{"$f":"IF(OFFSET(DE100_7!$Q$105,ROWS($Q$105:Q137)-1,COLUMNS($Q$105:Q137)-1)<>\"\",OFFSET(DE100_7!$Q$105,ROWS($Q$105:Q137)-1,COLUMNS($Q$105:Q137)-1),\"\")","v":5},{"$f":"IF(OFFSET(DE100_7!$R$105,ROWS($R$105:R137)-1,COLUMNS($R$105:R137)-1)<>\"\",OFFSET(DE100_7!$R$105,ROWS($R$105:R137)-1,COLUMNS($R$105:R137)-1),\"\")","v":""},{"$f":"IF(OFFSET(DE100_7!$S$105,ROWS($S$105:S137)-1,COLUMNS($S$105:S137)-1)<>\"\",OFFSET(DE100_7!$S$105,ROWS($S$105:S137)-1,COLUMNS($S$105:S137)-1),\"\")","v":""},{"$f":"IF(OFFSET(DE100_7!$T$105,ROWS($T$105:T137)-1,COLUMNS($T$105:T137)-1)<>\"\",OFFSET(DE100_7!$T$105,ROWS($T$105:T137)-1,COLUMNS($T$105:T137)-1),\"\")","v":""},{"$f":"IF(OFFSET(DE100_7!$U$105,ROWS($U$105:U137)-1,COLUMNS($U$105:U137)-1)<>\"\",OFFSET(DE100_7!$U$105,ROWS($U$105:U137)-1,COLUMNS($U$105:U137)-1),\"\")","v":""},{"$f":"IF(OFFSET(DE100_7!$V$105,ROWS($V$105:V137)-1,COLUMNS($V$105:V137)-1)<>\"\",OFFSET(DE100_7!$V$105,ROWS($V$105:V137)-1,COLUMNS($V$105:V137)-1),\"\")","v":"RAMP 210B"}]
[{"$f":"IF(OFFSET(DE100_7!$C$105,ROWS($C$105:C138)-1,COLUMNS($C$105:C138)-1)<>\"\",OFFSET(DE100_7!$C$105,ROWS($C$105:C138)-1,COLUMNS($C$105:C138)-1),\"\")","v":""},{"$f":"IF(OFFSET(DE100_7!$D$105,ROWS($D$105:D138)-1,COLUMNS($D$105:D138)-1)<>\"\",OFFSET(DE100_7!$D$105,ROWS($D$105:D138)-1,COLUMNS($D$105:D138)-1),\"\")","v":""},{"$f":"IF(OFFSET(DE100_7!$E$105,ROWS($E$105:E138)-1,COLUMNS($E$105:E138)-1)<>\"\",OFFSET(DE100_7!$E$105,ROWS($E$105:E138)-1,COLUMNS($E$105:E138)-1),\"\")","v":""},{"$f":"IF(OFFSET(DE100_7!$F$105,ROWS($F$105:F138)-1,COLUMNS($F$105:F138)-1)<>\"\",OFFSET(DE100_7!$F$105,ROWS($F$105:F138)-1,COLUMNS($F$105:F138)-1),\"\")","v":""},{"$f":"IF(OFFSET(DE100_7!$G$105,ROWS($G$105:G138)-1,COLUMNS($G$105:G138)-1)<>\"\",OFFSET(DE100_7!$G$105,ROWS($G$105:G138)-1,COLUMNS($G$105:G138)-1),\"\")","v":""},{"$f":"IF(OFFSET(DE100_7!$H$105,ROWS($H$105:H138)-1,COLUMNS($H$105:H138)-1)<>\"\",OFFSET(DE100_7!$H$105,ROWS($H$105:H138)-1,COLUMNS($H$105:H138)-1),\"\")","v":""},{"$f":"IF(OFFSET(DE100_7!$I$105,ROWS($I$105:I138)-1,COLUMNS($I$105:I138)-1)<>\"\",OFFSET(DE100_7!$I$105,ROWS($I$105:I138)-1,COLUMNS($I$105:I138)-1),\"\")","v":""},{"$f":"IF(OFFSET(DE100_7!$J$105,ROWS($J$105:J138)-1,COLUMNS($J$105:J138)-1)<>\"\",OFFSET(DE100_7!$J$105,ROWS($J$105:J138)-1,COLUMNS($J$105:J138)-1),\"\")","v":""},{"$f":"IF(OFFSET(DE100_7!$K$105,ROWS($K$105:K138)-1,COLUMNS($K$105:K138)-1)<>\"\",OFFSET(DE100_7!$K$105,ROWS($K$105:K138)-1,COLUMNS($K$105:K138)-1),\"\")","v":""},{"$f":"IF(OFFSET(DE100_7!$L$105,ROWS($L$105:L138)-1,COLUMNS($L$105:L138)-1)<>\"\",OFFSET(DE100_7!$L$105,ROWS($L$105:L138)-1,COLUMNS($L$105:L138)-1),\"\")","v":""},{"$f":"IF(OFFSET(DE100_7!$M$105,ROWS($M$105:M138)-1,COLUMNS($M$105:M138)-1)<>\"\",OFFSET(DE100_7!$M$105,ROWS($M$105:M138)-1,COLUMNS($M$105:M138)-1),\"\")","v":""},{"$f":"IF(OFFSET(DE100_7!$N$105,ROWS($N$105:N138)-1,COLUMNS($N$105:N138)-1)<>\"\",OFFSET(DE100_7!$N$105,ROWS($N$105:N138)-1,COLUMNS($N$105:N138)-1),\"\")","v":""},{"$f":"IF(OFFSET(DE100_7!$O$105,ROWS($O$105:O138)-1,COLUMNS($O$105:O138)-1)<>\"\",OFFSET(DE100_7!$O$105,ROWS($O$105:O138)-1,COLUMNS($O$105:O138)-1),\"\")","v":""},{"$f":"IF(OFFSET(DE100_7!$P$105,ROWS($P$105:P138)-1,COLUMNS($P$105:P138)-1)<>\"\",OFFSET(DE100_7!$P$105,ROWS($P$105:P138)-1,COLUMNS($P$105:P138)-1),\"\")","v":""},{"$f":"IF(OFFSET(DE100_7!$Q$105,ROWS($Q$105:Q138)-1,COLUMNS($Q$105:Q138)-1)<>\"\",OFFSET(DE100_7!$Q$105,ROWS($Q$105:Q138)-1,COLUMNS($Q$105:Q138)-1),\"\")","v":""},{"$f":"IF(OFFSET(DE100_7!$R$105,ROWS($R$105:R138)-1,COLUMNS($R$105:R138)-1)<>\"\",OFFSET(DE100_7!$R$105,ROWS($R$105:R138)-1,COLUMNS($R$105:R138)-1),\"\")","v":""},{"$f":"IF(OFFSET(DE100_7!$S$105,ROWS($S$105:S138)-1,COLUMNS($S$105:S138)-1)<>\"\",OFFSET(DE100_7!$S$105,ROWS($S$105:S138)-1,COLUMNS($S$105:S138)-1),\"\")","v":""},{"$f":"IF(OFFSET(DE100_7!$T$105,ROWS($T$105:T138)-1,COLUMNS($T$105:T138)-1)<>\"\",OFFSET(DE100_7!$T$105,ROWS($T$105:T138)-1,COLUMNS($T$105:T138)-1),\"\")","v":""},{"$f":"IF(OFFSET(DE100_7!$U$105,ROWS($U$105:U138)-1,COLUMNS($U$105:U138)-1)<>\"\",OFFSET(DE100_7!$U$105,ROWS($U$105:U138)-1,COLUMNS($U$105:U138)-1),\"\")","v":""},{"$f":"IF(OFFSET(DE100_7!$V$105,ROWS($V$105:V138)-1,COLUMNS($V$105:V138)-1)<>\"\",OFFSET(DE100_7!$V$105,ROWS($V$105:V138)-1,COLUMNS($V$105:V138)-1),\"\")","v":""}]
[{"$f":"IF(OFFSET(DE100_7!$C$105,ROWS($C$105:C139)-1,COLUMNS($C$105:C139)-1)<>\"\",OFFSET(DE100_7!$C$105,ROWS($C$105:C139)-1,COLUMNS($C$105:C139)-1),\"\")","v":460346.6},{"$f":"IF(OFFSET(DE100_7!$D$105,ROWS($D$105:D139)-1,COLUMNS($D$105:D139)-1)<>\"\",OFFSET(DE100_7!$D$105,ROWS($D$105:D139)-1,COLUMNS($D$105:D139)-1),\"\")","v":68.95},{"$f":"IF(OFFSET(DE100_7!$E$105,ROWS($E$105:E139)-1,COLUMNS($E$105:E139)-1)<>\"\",OFFSET(DE100_7!$E$105,ROWS($E$105:E139)-1,COLUMNS($E$105:E139)-1),\"\")","v":460164.97},{"$f":"IF(OFFSET(DE100_7!$F$105,ROWS($F$105:F139)-1,COLUMNS($F$105:F139)-1)<>\"\",OFFSET(DE100_7!$F$105,ROWS($F$105:F139)-1,COLUMNS($F$105:F139)-1),\"\")","v":80},{"$f":"IF(OFFSET(DE100_7!$G$105,ROWS($G$105:G139)-1,COLUMNS($G$105:G139)-1)<>\"\",OFFSET(DE100_7!$G$105,ROWS($G$105:G139)-1,COLUMNS($G$105:G139)-1),\"\")","v":"RT"},{"$f":"IF(OFFSET(DE100_7!$H$105,ROWS($H$105:H139)-1,COLUMNS($H$105:H139)-1)<>\"\",OFFSET(DE100_7!$H$105,ROWS($H$105:H139)-1,COLUMNS($H$105:H139)-1),\"\")","v":""},{"$f":"IF(OFFSET(DE100_7!$I$105,ROWS($I$105:I139)-1,COLUMNS($I$105:I139)-1)<>\"\",OFFSET(DE100_7!$I$105,ROWS($I$105:I139)-1,COLUMNS($I$105:I139)-1),\"\")","v":""},{"$f":"IF(OFFSET(DE100_7!$J$105,ROWS($J$105:J139)-1,COLUMNS($J$105:J139)-1)<>\"\",OFFSET(DE100_7!$J$105,ROWS($J$105:J139)-1,COLUMNS($J$105:J139)-1),\"\")","v":""},{"$f":"IF(OFFSET(DE100_7!$K$105,ROWS($K$105:K139)-1,COLUMNS($K$105:K139)-1)<>\"\",OFFSET(DE100_7!$K$105,ROWS($K$105:K139)-1,COLUMNS($K$105:K139)-1),\"\")","v":""},{"$f":"IF(OFFSET(DE100_7!$L$105,ROWS($L$105:L139)-1,COLUMNS($L$105:L139)-1)<>\"\",OFFSET(DE100_7!$L$105,ROWS($L$105:L139)-1,COLUMNS($L$105:L139)-1),\"\")","v":""},{"$f":"IF(OFFSET(DE100_7!$M$105,ROWS($M$105:M139)-1,COLUMNS($M$105:M139)-1)<>\"\",OFFSET(DE100_7!$M$105,ROWS($M$105:M139)-1,COLUMNS($M$105:M139)-1),\"\")","v":""},{"$f":"IF(OFFSET(DE100_7!$N$105,ROWS($N$105:N139)-1,COLUMNS($N$105:N139)-1)<>\"\",OFFSET(DE100_7!$N$105,ROWS($N$105:N139)-1,COLUMNS($N$105:N139)-1),\"\")","v":""},{"$f":"IF(OFFSET(DE100_7!$O$105,ROWS($O$105:O139)-1,COLUMNS($O$105:O139)-1)<>\"\",OFFSET(DE100_7!$O$105,ROWS($O$105:O139)-1,COLUMNS($O$105:O139)-1),\"\")","v":""},{"$f":"IF(OFFSET(DE100_7!$P$105,ROWS($P$105:P139)-1,COLUMNS($P$105:P139)-1)<>\"\",OFFSET(DE100_7!$P$105,ROWS($P$105:P139)-1,COLUMNS($P$105:P139)-1),\"\")","v":183.5},{"$f":"IF(OFFSET(DE100_7!$Q$105,ROWS($Q$105:Q139)-1,COLUMNS($Q$105:Q139)-1)<>\"\",OFFSET(DE100_7!$Q$105,ROWS($Q$105:Q139)-1,COLUMNS($Q$105:Q139)-1),\"\")","v":5},{"$f":"IF(OFFSET(DE100_7!$R$105,ROWS($R$105:R139)-1,COLUMNS($R$105:R139)-1)<>\"\",OFFSET(DE100_7!$R$105,ROWS($R$105:R139)-1,COLUMNS($R$105:R139)-1),\"\")","v":""},{"$f":"IF(OFFSET(DE100_7!$S$105,ROWS($S$105:S139)-1,COLUMNS($S$105:S139)-1)<>\"\",OFFSET(DE100_7!$S$105,ROWS($S$105:S139)-1,COLUMNS($S$105:S139)-1),\"\")","v":""},{"$f":"IF(OFFSET(DE100_7!$T$105,ROWS($T$105:T139)-1,COLUMNS($T$105:T139)-1)<>\"\",OFFSET(DE100_7!$T$105,ROWS($T$105:T139)-1,COLUMNS($T$105:T139)-1),\"\")","v":""},{"$f":"IF(OFFSET(DE100_7!$U$105,ROWS($U$105:U139)-1,COLUMNS($U$105:U139)-1)<>\"\",OFFSET(DE100_7!$U$105,ROWS($U$105:U139)-1,COLUMNS($U$105:U139)-1),\"\")","v":""},{"$f":"IF(OFFSET(DE100_7!$V$105,ROWS($V$105:V139)-1,COLUMNS($V$105:V139)-1)<>\"\",OFFSET(DE100_7!$V$105,ROWS($V$105:V139)-1,COLUMNS($V$105:V139)-1),\"\")","v":"RAMP 210D"}]
[{"$f":"IF(OFFSET(DE100_7!$C$105,ROWS($C$105:C140)-1,COLUMNS($C$105:C140)-1)<>\"\",OFFSET(DE100_7!$C$105,ROWS($C$105:C140)-1,COLUMNS($C$105:C140)-1),\"\")","v":460164.97},{"$f":"IF(OFFSET(DE100_7!$D$105,ROWS($D$105:D140)-1,COLUMNS($D$105:D140)-1)<>\"\",OFFSET(DE100_7!$D$105,ROWS($D$105:D140)-1,COLUMNS($D$105:D140)-1),\"\")","v":80},{"$f":"IF(OFFSET(DE100_7!$E$105,ROWS($E$105:E140)-1,COLUMNS($E$105:E140)-1)<>\"\",OFFSET(DE100_7!$E$105,ROWS($E$105:E140)-1,COLUMNS($E$105:E140)-1),\"\")","v":458994.42},{"$f":"IF(OFFSET(DE100_7!$F$105,ROWS($F$105:F140)-1,COLUMNS($F$105:F140)-1)<>\"\",OFFSET(DE100_7!$F$105,ROWS($F$105:F140)-1,COLUMNS($F$105:F140)-1),\"\")","v":49.7},{"$f":"IF(OFFSET(DE100_7!$G$105,ROWS($G$105:G140)-1,COLUMNS($G$105:G140)-1)<>\"\",OFFSET(DE100_7!$G$105,ROWS($G$105:G140)-1,COLUMNS($G$105:G140)-1),\"\")","v":"RT"},{"$f":"IF(OFFSET(DE100_7!$H$105,ROWS($H$105:H140)-1,COLUMNS($H$105:H140)-1)<>\"\",OFFSET(DE100_7!$H$105,ROWS($H$105:H140)-1,COLUMNS($H$105:H140)-1),\"\")","v":""},{"$f":"IF(OFFSET(DE100_7!$I$105,ROWS($I$105:I140)-1,COLUMNS($I$105:I140)-1)<>\"\",OFFSET(DE100_7!$I$105,ROWS($I$105:I140)-1,COLUMNS($I$105:I140)-1),\"\")","v":""},{"$f":"IF(OFFSET(DE100_7!$J$105,ROWS($J$105:J140)-1,COLUMNS($J$105:J140)-1)<>\"\",OFFSET(DE100_7!$J$105,ROWS($J$105:J140)-1,COLUMNS($J$105:J140)-1),\"\")","v":""},{"$f":"IF(OFFSET(DE100_7!$K$105,ROWS($K$105:K140)-1,COLUMNS($K$105:K140)-1)<>\"\",OFFSET(DE100_7!$K$105,ROWS($K$105:K140)-1,COLUMNS($K$105:K140)-1),\"\")","v":""},{"$f":"IF(OFFSET(DE100_7!$L$105,ROWS($L$105:L140)-1,COLUMNS($L$105:L140)-1)<>\"\",OFFSET(DE100_7!$L$105,ROWS($L$105:L140)-1,COLUMNS($L$105:L140)-1),\"\")","v":""},{"$f":"IF(OFFSET(DE100_7!$M$105,ROWS($M$105:M140)-1,COLUMNS($M$105:M140)-1)<>\"\",OFFSET(DE100_7!$M$105,ROWS($M$105:M140)-1,COLUMNS($M$105:M140)-1),\"\")","v":""},{"$f":"IF(OFFSET(DE100_7!$N$105,ROWS($N$105:N140)-1,COLUMNS($N$105:N140)-1)<>\"\",OFFSET(DE100_7!$N$105,ROWS($N$105:N140)-1,COLUMNS($N$105:N140)-1),\"\")","v":""},{"$f":"IF(OFFSET(DE100_7!$O$105,ROWS($O$105:O140)-1,COLUMNS($O$105:O140)-1)<>\"\",OFFSET(DE100_7!$O$105,ROWS($O$105:O140)-1,COLUMNS($O$105:O140)-1),\"\")","v":""},{"$f":"IF(OFFSET(DE100_7!$P$105,ROWS($P$105:P140)-1,COLUMNS($P$105:P140)-1)<>\"\",OFFSET(DE100_7!$P$105,ROWS($P$105:P140)-1,COLUMNS($P$105:P140)-1),\"\")","v":1165.3},{"$f":"IF(OFFSET(DE100_7!$Q$105,ROWS($Q$105:Q140)-1,COLUMNS($Q$105:Q140)-1)<>\"\",OFFSET(DE100_7!$Q$105,ROWS($Q$105:Q140)-1,COLUMNS($Q$105:Q140)-1),\"\")","v":8},{"$f":"IF(OFFSET(DE100_7!$R$105,ROWS($R$105:R140)-1,COLUMNS($R$105:R140)-1)<>\"\",OFFSET(DE100_7!$R$105,ROWS($R$105:R140)-1,COLUMNS($R$105:R140)-1),\"\")","v":""},{"$f":"IF(OFFSET(DE100_7!$S$105,ROWS($S$105:S140)-1,COLUMNS($S$105:S140)-1)<>\"\",OFFSET(DE100_7!$S$105,ROWS($S$105:S140)-1,COLUMNS($S$105:S140)-1),\"\")","v":""},{"$f":"IF(OFFSET(DE100_7!$T$105,ROWS($T$105:T140)-1,COLUMNS($T$105:T140)-1)<>\"\",OFFSET(DE100_7!$T$105,ROWS($T$105:T140)-1,COLUMNS($T$105:T140)-1),\"\")","v":""},{"$f":"IF(OFFSET(DE100_7!$U$105,ROWS($U$105:U140)-1,COLUMNS($U$105:U140)-1)<>\"\",OFFSET(DE100_7!$U$105,ROWS($U$105:U140)-1,COLUMNS($U$105:U140)-1),\"\")","v":""},{"$f":"IF(OFFSET(DE100_7!$V$105,ROWS($V$105:V140)-1,COLUMNS($V$105:V140)-1)<>\"\",OFFSET(DE100_7!$V$105,ROWS($V$105:V140)-1,COLUMNS($V$105:V140)-1),\"\")","v":"RAMP 210D"}]
[{"$f":"IF(OFFSET(DE100_7!$C$105,ROWS($C$105:C141)-1,COLUMNS($C$105:C141)-1)<>\"\",OFFSET(DE100_7!$C$105,ROWS($C$105:C141)-1,COLUMNS($C$105:C141)-1),\"\")","v":458994.42},{"$f":"IF(OFFSET(DE100_7!$D$105,ROWS($D$105:D141)-1,COLUMNS($D$105:D141)-1)<>\"\",OFFSET(DE100_7!$D$105,ROWS($D$105:D141)-1,COLUMNS($D$105:D141)-1),\"\")","v":49.7},{"$f":"IF(OFFSET(DE100_7!$E$105,ROWS($E$105:E141)-1,COLUMNS($E$105:E141)-1)<>\"\",OFFSET(DE100_7!$E$105,ROWS($E$105:E141)-1,COLUMNS($E$105:E141)-1),\"\")","v":458496.73},{"$f":"IF(OFFSET(DE100_7!$F$105,ROWS($F$105:F141)-1,COLUMNS($F$105:F141)-1)<>\"\",OFFSET(DE100_7!$F$105,ROWS($F$105:F141)-1,COLUMNS($F$105:F141)-1),\"\")","v":62.5},{"$f":"IF(OFFSET(DE100_7!$G$105,ROWS($G$105:G141)-1,COLUMNS($G$105:G141)-1)<>\"\",OFFSET(DE100_7!$G$105,ROWS($G$105:G141)-1,COLUMNS($G$105:G141)-1),\"\")","v":"RT"},{"$f":"IF(OFFSET(DE100_7!$H$105,ROWS($H$105:H141)-1,COLUMNS($H$105:H141)-1)<>\"\",OFFSET(DE100_7!$H$105,ROWS($H$105:H141)-1,COLUMNS($H$105:H141)-1),\"\")","v":""},{"$f":"IF(OFFSET(DE100_7!$I$105,ROWS($I$105:I141)-1,COLUMNS($I$105:I141)-1)<>\"\",OFFSET(DE100_7!$I$105,ROWS($I$105:I141)-1,COLUMNS($I$105:I141)-1),\"\")","v":""},{"$f":"IF(OFFSET(DE100_7!$J$105,ROWS($J$105:J141)-1,COLUMNS($J$105:J141)-1)<>\"\",OFFSET(DE100_7!$J$105,ROWS($J$105:J141)-1,COLUMNS($J$105:J141)-1),\"\")","v":""},{"$f":"IF(OFFSET(DE100_7!$K$105,ROWS($K$105:K141)-1,COLUMNS($K$105:K141)-1)<>\"\",OFFSET(DE100_7!$K$105,ROWS($K$105:K141)-1,COLUMNS($K$105:K141)-1),\"\")","v":""},{"$f":"IF(OFFSET(DE100_7!$L$105,ROWS($L$105:L141)-1,COLUMNS($L$105:L141)-1)<>\"\",OFFSET(DE100_7!$L$105,ROWS($L$105:L141)-1,COLUMNS($L$105:L141)-1),\"\")","v":""},{"$f":"IF(OFFSET(DE100_7!$M$105,ROWS($M$105:M141)-1,COLUMNS($M$105:M141)-1)<>\"\",OFFSET(DE100_7!$M$105,ROWS($M$105:M141)-1,COLUMNS($M$105:M141)-1),\"\")","v":""},{"$f":"IF(OFFSET(DE100_7!$N$105,ROWS($N$105:N141)-1,COLUMNS($N$105:N141)-1)<>\"\",OFFSET(DE100_7!$N$105,ROWS($N$105:N141)-1,COLUMNS($N$105:N141)-1),\"\")","v":""},{"$f":"IF(OFFSET(DE100_7!$O$105,ROWS($O$105:O141)-1,COLUMNS($O$105:O141)-1)<>\"\",OFFSET(DE100_7!$O$105,ROWS($O$105:O141)-1,COLUMNS($O$105:O141)-1),\"\")","v":""},{"$f":"IF(OFFSET(DE100_7!$P$105,ROWS($P$105:P141)-1,COLUMNS($P$105:P141)-1)<>\"\",OFFSET(DE100_7!$P$105,ROWS($P$105:P141)-1,COLUMNS($P$105:P141)-1),\"\")","v":482.6},{"$f":"IF(OFFSET(DE100_7!$Q$105,ROWS($Q$105:Q141)-1,COLUMNS($Q$105:Q141)-1)<>\"\",OFFSET(DE100_7!$Q$105,ROWS($Q$105:Q141)-1,COLUMNS($Q$105:Q141)-1),\"\")","v":6},{"$f":"IF(OFFSET(DE100_7!$R$105,ROWS($R$105:R141)-1,COLUMNS($R$105:R141)-1)<>\"\",OFFSET(DE100_7!$R$105,ROWS($R$105:R141)-1,COLUMNS($R$105:R141)-1),\"\")","v":""},{"$f":"IF(OFFSET(DE100_7!$S$105,ROWS($S$105:S141)-1,COLUMNS($S$105:S141)-1)<>\"\",OFFSET(DE100_7!$S$105,ROWS($S$105:S141)-1,COLUMNS($S$105:S141)-1),\"\")","v":""},{"$f":"IF(OFFSET(DE100_7!$T$105,ROWS($T$105:T141)-1,COLUMNS($T$105:T141)-1)<>\"\",OFFSET(DE100_7!$T$105,ROWS($T$105:T141)-1,COLUMNS($T$105:T141)-1),\"\")","v":""},{"$f":"IF(OFFSET(DE100_7!$U$105,ROWS($U$105:U141)-1,COLUMNS($U$105:U141)-1)<>\"\",OFFSET(DE100_7!$U$105,ROWS($U$105:U141)-1,COLUMNS($U$105:U141)-1),\"\")","v":""},{"$f":"IF(OFFSET(DE100_7!$V$105,ROWS($V$105:V141)-1,COLUMNS($V$105:V141)-1)<>\"\",OFFSET(DE100_7!$V$105,ROWS($V$105:V141)-1,COLUMNS($V$105:V141)-1),\"\")","v":"RAMP 210D"}]
[{"$f":"IF(OFFSET(DE100_7!$C$105,ROWS($C$105:C142)-1,COLUMNS($C$105:C142)-1)<>\"\",OFFSET(DE100_7!$C$105,ROWS($C$105:C142)-1,COLUMNS($C$105:C142)-1),\"\")","v":458496.73},{"$f":"IF(OFFSET(DE100_7!$D$105,ROWS($D$105:D142)-1,COLUMNS($D$105:D142)-1)<>\"\",OFFSET(DE100_7!$D$105,ROWS($D$105:D142)-1,COLUMNS($D$105:D142)-1),\"\")","v":62.5},{"$f":"IF(OFFSET(DE100_7!$E$105,ROWS($E$105:E142)-1,COLUMNS($E$105:E142)-1)<>\"\",OFFSET(DE100_7!$E$105,ROWS($E$105:E142)-1,COLUMNS($E$105:E142)-1),\"\")","v":457602.19},{"$f":"IF(OFFSET(DE100_7!$F$105,ROWS($F$105:F142)-1,COLUMNS($F$105:F142)-1)<>\"\",OFFSET(DE100_7!$F$105,ROWS($F$105:F142)-1,COLUMNS($F$105:F142)-1),\"\")","v":120.74},{"$f":"IF(OFFSET(DE100_7!$G$105,ROWS($G$105:G142)-1,COLUMNS($G$105:G142)-1)<>\"\",OFFSET(DE100_7!$G$105,ROWS($G$105:G142)-1,COLUMNS($G$105:G142)-1),\"\")","v":"RT"},{"$f":"IF(OFFSET(DE100_7!$H$105,ROWS($H$105:H142)-1,COLUMNS($H$105:H142)-1)<>\"\",OFFSET(DE100_7!$H$105,ROWS($H$105:H142)-1,COLUMNS($H$105:H142)-1),\"\")","v":""},{"$f":"IF(OFFSET(DE100_7!$I$105,ROWS($I$105:I142)-1,COLUMNS($I$105:I142)-1)<>\"\",OFFSET(DE100_7!$I$105,ROWS($I$105:I142)-1,COLUMNS($I$105:I142)-1),\"\")","v":""},{"$f":"IF(OFFSET(DE100_7!$J$105,ROWS($J$105:J142)-1,COLUMNS($J$105:J142)-1)<>\"\",OFFSET(DE100_7!$J$105,ROWS($J$105:J142)-1,COLUMNS($J$105:J142)-1),\"\")","v":""},{"$f":"IF(OFFSET(DE100_7!$K$105,ROWS($K$105:K142)-1,COLUMNS($K$105:K142)-1)<>\"\",OFFSET(DE100_7!$K$105,ROWS($K$105:K142)-1,COLUMNS($K$105:K142)-1),\"\")","v":""},{"$f":"IF(OFFSET(DE100_7!$L$105,ROWS($L$105:L142)-1,COLUMNS($L$105:L142)-1)<>\"\",OFFSET(DE100_7!$L$105,ROWS($L$105:L142)-1,COLUMNS($L$105:L142)-1),\"\")","v":""},{"$f":"IF(OFFSET(DE100_7!$M$105,ROWS($M$105:M142)-1,COLUMNS($M$105:M142)-1)<>\"\",OFFSET(DE100_7!$M$105,ROWS($M$105:M142)-1,COLUMNS($M$105:M142)-1),\"\")","v":""},{"$f":"IF(OFFSET(DE100_7!$N$105,ROWS($N$105:N142)-1,COLUMNS($N$105:N142)-1)<>\"\",OFFSET(DE100_7!$N$105,ROWS($N$105:N142)-1,COLUMNS($N$105:N142)-1),\"\")","v":""},{"$f":"IF(OFFSET(DE100_7!$O$105,ROWS($O$105:O142)-1,COLUMNS($O$105:O142)-1)<>\"\",OFFSET(DE100_7!$O$105,ROWS($O$105:O142)-1,COLUMNS($O$105:O142)-1),\"\")","v":""},{"$f":"IF(OFFSET(DE100_7!$P$105,ROWS($P$105:P142)-1,COLUMNS($P$105:P142)-1)<>\"\",OFFSET(DE100_7!$P$105,ROWS($P$105:P142)-1,COLUMNS($P$105:P142)-1),\"\")","v":914.5},{"$f":"IF(OFFSET(DE100_7!$Q$105,ROWS($Q$105:Q142)-1,COLUMNS($Q$105:Q142)-1)<>\"\",OFFSET(DE100_7!$Q$105,ROWS($Q$105:Q142)-1,COLUMNS($Q$105:Q142)-1),\"\")","v":5},{"$f":"IF(OFFSET(DE100_7!$R$105,ROWS($R$105:R142)-1,COLUMNS($R$105:R142)-1)<>\"\",OFFSET(DE100_7!$R$105,ROWS($R$105:R142)-1,COLUMNS($R$105:R142)-1),\"\")","v":""},{"$f":"IF(OFFSET(DE100_7!$S$105,ROWS($S$105:S142)-1,COLUMNS($S$105:S142)-1)<>\"\",OFFSET(DE100_7!$S$105,ROWS($S$105:S142)-1,COLUMNS($S$105:S142)-1),\"\")","v":""},{"$f":"IF(OFFSET(DE100_7!$T$105,ROWS($T$105:T142)-1,COLUMNS($T$105:T142)-1)<>\"\",OFFSET(DE100_7!$T$105,ROWS($T$105:T142)-1,COLUMNS($T$105:T142)-1),\"\")","v":""},{"$f":"IF(OFFSET(DE100_7!$U$105,ROWS($U$105:U142)-1,COLUMNS($U$105:U142)-1)<>\"\",OFFSET(DE100_7!$U$105,ROWS($U$105:U142)-1,COLUMNS($U$105:U142)-1),\"\")","v":""},{"$f":"IF(OFFSET(DE100_7!$V$105,ROWS($V$105:V142)-1,COLUMNS($V$105:V142)-1)<>\"\",OFFSET(DE100_7!$V$105,ROWS($V$105:V142)-1,COLUMNS($V$105:V142)-1),\"\")","v":"RAMP 210D"}]
[{"$f":"IF(OFFSET(DE100_7!$C$105,ROWS($C$105:C143)-1,COLUMNS($C$105:C143)-1)<>\"\",OFFSET(DE100_7!$C$105,ROWS($C$105:C143)-1,COLUMNS($C$105:C143)-1),\"\")","v":""},{"$f":"IF(OFFSET(DE100_7!$D$105,ROWS($D$105:D143)-1,COLUMNS($D$105:D143)-1)<>\"\",OFFSET(DE100_7!$D$105,ROWS($D$105:D143)-1,COLUMNS($D$105:D143)-1),\"\")","v":""},{"$f":"IF(OFFSET(DE100_7!$E$105,ROWS($E$105:E143)-1,COLUMNS($E$105:E143)-1)<>\"\",OFFSET(DE100_7!$E$105,ROWS($E$105:E143)-1,COLUMNS($E$105:E143)-1),\"\")","v":""},{"$f":"IF(OFFSET(DE100_7!$F$105,ROWS($F$105:F143)-1,COLUMNS($F$105:F143)-1)<>\"\",OFFSET(DE100_7!$F$105,ROWS($F$105:F143)-1,COLUMNS($F$105:F143)-1),\"\")","v":""},{"$f":"IF(OFFSET(DE100_7!$G$105,ROWS($G$105:G143)-1,COLUMNS($G$105:G143)-1)<>\"\",OFFSET(DE100_7!$G$105,ROWS($G$105:G143)-1,COLUMNS($G$105:G143)-1),\"\")","v":""},{"$f":"IF(OFFSET(DE100_7!$H$105,ROWS($H$105:H143)-1,COLUMNS($H$105:H143)-1)<>\"\",OFFSET(DE100_7!$H$105,ROWS($H$105:H143)-1,COLUMNS($H$105:H143)-1),\"\")","v":""},{"$f":"IF(OFFSET(DE100_7!$I$105,ROWS($I$105:I143)-1,COLUMNS($I$105:I143)-1)<>\"\",OFFSET(DE100_7!$I$105,ROWS($I$105:I143)-1,COLUMNS($I$105:I143)-1),\"\")","v":""},{"$f":"IF(OFFSET(DE100_7!$J$105,ROWS($J$105:J143)-1,COLUMNS($J$105:J143)-1)<>\"\",OFFSET(DE100_7!$J$105,ROWS($J$105:J143)-1,COLUMNS($J$105:J143)-1),\"\")","v":""},{"$f":"IF(OFFSET(DE100_7!$K$105,ROWS($K$105:K143)-1,COLUMNS($K$105:K143)-1)<>\"\",OFFSET(DE100_7!$K$105,ROWS($K$105:K143)-1,COLUMNS($K$105:K143)-1),\"\")","v":""},{"$f":"IF(OFFSET(DE100_7!$L$105,ROWS($L$105:L143)-1,COLUMNS($L$105:L143)-1)<>\"\",OFFSET(DE100_7!$L$105,ROWS($L$105:L143)-1,COLUMNS($L$105:L143)-1),\"\")","v":""},{"$f":"IF(OFFSET(DE100_7!$M$105,ROWS($M$105:M143)-1,COLUMNS($M$105:M143)-1)<>\"\",OFFSET(DE100_7!$M$105,ROWS($M$105:M143)-1,COLUMNS($M$105:M143)-1),\"\")","v":""},{"$f":"IF(OFFSET(DE100_7!$N$105,ROWS($N$105:N143)-1,COLUMNS($N$105:N143)-1)<>\"\",OFFSET(DE100_7!$N$105,ROWS($N$105:N143)-1,COLUMNS($N$105:N143)-1),\"\")","v":""},{"$f":"IF(OFFSET(DE100_7!$O$105,ROWS($O$105:O143)-1,COLUMNS($O$105:O143)-1)<>\"\",OFFSET(DE100_7!$O$105,ROWS($O$105:O143)-1,COLUMNS($O$105:O143)-1),\"\")","v":""},{"$f":"IF(OFFSET(DE100_7!$P$105,ROWS($P$105:P143)-1,COLUMNS($P$105:P143)-1)<>\"\",OFFSET(DE100_7!$P$105,ROWS($P$105:P143)-1,COLUMNS($P$105:P143)-1),\"\")","v":""},{"$f":"IF(OFFSET(DE100_7!$Q$105,ROWS($Q$105:Q143)-1,COLUMNS($Q$105:Q143)-1)<>\"\",OFFSET(DE100_7!$Q$105,ROWS($Q$105:Q143)-1,COLUMNS($Q$105:Q143)-1),\"\")","v":""},{"$f":"IF(OFFSET(DE100_7!$R$105,ROWS($R$105:R143)-1,COLUMNS($R$105:R143)-1)<>\"\",OFFSET(DE100_7!$R$105,ROWS($R$105:R143)-1,COLUMNS($R$105:R143)-1),\"\")","v":""},{"$f":"IF(OFFSET(DE100_7!$S$105,ROWS($S$105:S143)-1,COLUMNS($S$105:S143)-1)<>\"\",OFFSET(DE100_7!$S$105,ROWS($S$105:S143)-1,COLUMNS($S$105:S143)-1),\"\")","v":""},{"$f":"IF(OFFSET(DE100_7!$T$105,ROWS($T$105:T143)-1,COLUMNS($T$105:T143)-1)<>\"\",OFFSET(DE100_7!$T$105,ROWS($T$105:T143)-1,COLUMNS($T$105:T143)-1),\"\")","v":""},{"$f":"IF(OFFSET(DE100_7!$U$105,ROWS($U$105:U143)-1,COLUMNS($U$105:U143)-1)<>\"\",OFFSET(DE100_7!$U$105,ROWS($U$105:U143)-1,COLUMNS($U$105:U143)-1),\"\")","v":""},{"$f":"IF(OFFSET(DE100_7!$V$105,ROWS($V$105:V143)-1,COLUMNS($V$105:V143)-1)<>\"\",OFFSET(DE100_7!$V$105,ROWS($V$105:V143)-1,COLUMNS($V$105:V143)-1),\"\")","v":""}]
[{"$f":"IF(OFFSET(DE100_7!$C$105,ROWS($C$105:C144)-1,COLUMNS($C$105:C144)-1)<>\"\",OFFSET(DE100_7!$C$105,ROWS($C$105:C144)-1,COLUMNS($C$105:C144)-1),\"\")","v":104422.99},{"$f":"IF(OFFSET(DE100_7!$D$105,ROWS($D$105:D144)-1,COLUMNS($D$105:D144)-1)<>\"\",OFFSET(DE100_7!$D$105,ROWS($D$105:D144)-1,COLUMNS($D$105:D144)-1),\"\")","v":112},{"$f":"IF(OFFSET(DE100_7!$E$105,ROWS($E$105:E144)-1,COLUMNS($E$105:E144)-1)<>\"\",OFFSET(DE100_7!$E$105,ROWS($E$105:E144)-1,COLUMNS($E$105:E144)-1),\"\")","v":104577.67},{"$f":"IF(OFFSET(DE100_7!$F$105,ROWS($F$105:F144)-1,COLUMNS($F$105:F144)-1)<>\"\",OFFSET(DE100_7!$F$105,ROWS($F$105:F144)-1,COLUMNS($F$105:F144)-1),\"\")","v":123.05},{"$f":"IF(OFFSET(DE100_7!$G$105,ROWS($G$105:G144)-1,COLUMNS($G$105:G144)-1)<>\"\",OFFSET(DE100_7!$G$105,ROWS($G$105:G144)-1,COLUMNS($G$105:G144)-1),\"\")","v":"RT"},{"$f":"IF(OFFSET(DE100_7!$H$105,ROWS($H$105:H144)-1,COLUMNS($H$105:H144)-1)<>\"\",OFFSET(DE100_7!$H$105,ROWS($H$105:H144)-1,COLUMNS($H$105:H144)-1),\"\")","v":""},{"$f":"IF(OFFSET(DE100_7!$I$105,ROWS($I$105:I144)-1,COLUMNS($I$105:I144)-1)<>\"\",OFFSET(DE100_7!$I$105,ROWS($I$105:I144)-1,COLUMNS($I$105:I144)-1),\"\")","v":""},{"$f":"IF(OFFSET(DE100_7!$J$105,ROWS($J$105:J144)-1,COLUMNS($J$105:J144)-1)<>\"\",OFFSET(DE100_7!$J$105,ROWS($J$105:J144)-1,COLUMNS($J$105:J144)-1),\"\")","v":""},{"$f":"IF(OFFSET(DE100_7!$K$105,ROWS($K$105:K144)-1,COLUMNS($K$105:K144)-1)<>\"\",OFFSET(DE100_7!$K$105,ROWS($K$105:K144)-1,COLUMNS($K$105:K144)-1),\"\")","v":""},{"$f":"IF(OFFSET(DE100_7!$L$105,ROWS($L$105:L144)-1,COLUMNS($L$105:L144)-1)<>\"\",OFFSET(DE100_7!$L$105,ROWS($L$105:L144)-1,COLUMNS($L$105:L144)-1),\"\")","v":""},{"$f":"IF(OFFSET(DE100_7!$M$105,ROWS($M$105:M144)-1,COLUMNS($M$105:M144)-1)<>\"\",OFFSET(DE100_7!$M$105,ROWS($M$105:M144)-1,COLUMNS($M$105:M144)-1),\"\")","v":""},{"$f":"IF(OFFSET(DE100_7!$N$105,ROWS($N$105:N144)-1,COLUMNS($N$105:N144)-1)<>\"\",OFFSET(DE100_7!$N$105,ROWS($N$105:N144)-1,COLUMNS($N$105:N144)-1),\"\")","v":""},{"$f":"IF(OFFSET(DE100_7!$O$105,ROWS($O$105:O144)-1,COLUMNS($O$105:O144)-1)<>\"\",OFFSET(DE100_7!$O$105,ROWS($O$105:O144)-1,COLUMNS($O$105:O144)-1),\"\")","v":""},{"$f":"IF(OFFSET(DE100_7!$P$105,ROWS($P$105:P144)-1,COLUMNS($P$105:P144)-1)<>\"\",OFFSET(DE100_7!$P$105,ROWS($P$105:P144)-1,COLUMNS($P$105:P144)-1),\"\")","v":155.1},{"$f":"IF(OFFSET(DE100_7!$Q$105,ROWS($Q$105:Q144)-1,COLUMNS($Q$105:Q144)-1)<>\"\",OFFSET(DE100_7!$Q$105,ROWS($Q$105:Q144)-1,COLUMNS($Q$105:Q144)-1),\"\")","v":3},{"$f":"IF(OFFSET(DE100_7!$R$105,ROWS($R$105:R144)-1,COLUMNS($R$105:R144)-1)<>\"\",OFFSET(DE100_7!$R$105,ROWS($R$105:R144)-1,COLUMNS($R$105:R144)-1),\"\")","v":""},{"$f":"IF(OFFSET(DE100_7!$S$105,ROWS($S$105:S144)-1,COLUMNS($S$105:S144)-1)<>\"\",OFFSET(DE100_7!$S$105,ROWS($S$105:S144)-1,COLUMNS($S$105:S144)-1),\"\")","v":""},{"$f":"IF(OFFSET(DE100_7!$T$105,ROWS($T$105:T144)-1,COLUMNS($T$105:T144)-1)<>\"\",OFFSET(DE100_7!$T$105,ROWS($T$105:T144)-1,COLUMNS($T$105:T144)-1),\"\")","v":""},{"$f":"IF(OFFSET(DE100_7!$U$105,ROWS($U$105:U144)-1,COLUMNS($U$105:U144)-1)<>\"\",OFFSET(DE100_7!$U$105,ROWS($U$105:U144)-1,COLUMNS($U$105:U144)-1),\"\")","v":""},{"$f":"IF(OFFSET(DE100_7!$V$105,ROWS($V$105:V144)-1,COLUMNS($V$105:V144)-1)<>\"\",OFFSET(DE100_7!$V$105,ROWS($V$105:V144)-1,COLUMNS($V$105:V144)-1),\"\")","v":"IA 210"}]
[{"$f":"IF(OFFSET(DE100_7!$C$105,ROWS($C$105:C145)-1,COLUMNS($C$105:C145)-1)<>\"\",OFFSET(DE100_7!$C$105,ROWS($C$105:C145)-1,COLUMNS($C$105:C145)-1),\"\")","v":104506.67},{"$f":"IF(OFFSET(DE100_7!$D$105,ROWS($D$105:D145)-1,COLUMNS($D$105:D145)-1)<>\"\",OFFSET(DE100_7!$D$105,ROWS($D$105:D145)-1,COLUMNS($D$105:D145)-1),\"\")","v":102.3},{"$f":"IF(OFFSET(DE100_7!$E$105,ROWS($E$105:E145)-1,COLUMNS($E$105:E145)-1)<>\"\",OFFSET(DE100_7!$E$105,ROWS($E$105:E145)-1,COLUMNS($E$105:E145)-1),\"\")","v":104570.97},{"$f":"IF(OFFSET(DE100_7!$F$105,ROWS($F$105:F145)-1,COLUMNS($F$105:F145)-1)<>\"\",OFFSET(DE100_7!$F$105,ROWS($F$105:F145)-1,COLUMNS($F$105:F145)-1),\"\")","v":159.21},{"$f":"IF(OFFSET(DE100_7!$G$105,ROWS($G$105:G145)-1,COLUMNS($G$105:G145)-1)<>\"\",OFFSET(DE100_7!$G$105,ROWS($G$105:G145)-1,COLUMNS($G$105:G145)-1),\"\")","v":"LT"},{"$f":"IF(OFFSET(DE100_7!$H$105,ROWS($H$105:H145)-1,COLUMNS($H$105:H145)-1)<>\"\",OFFSET(DE100_7!$H$105,ROWS($H$105:H145)-1,COLUMNS($H$105:H145)-1),\"\")","v":""},{"$f":"IF(OFFSET(DE100_7!$I$105,ROWS($I$105:I145)-1,COLUMNS($I$105:I145)-1)<>\"\",OFFSET(DE100_7!$I$105,ROWS($I$105:I145)-1,COLUMNS($I$105:I145)-1),\"\")","v":""},{"$f":"IF(OFFSET(DE100_7!$J$105,ROWS($J$105:J145)-1,COLUMNS($J$105:J145)-1)<>\"\",OFFSET(DE100_7!$J$105,ROWS($J$105:J145)-1,COLUMNS($J$105:J145)-1),\"\")","v":""},{"$f":"IF(OFFSET(DE100_7!$K$105,ROWS($K$105:K145)-1,COLUMNS($K$105:K145)-1)<>\"\",OFFSET(DE100_7!$K$105,ROWS($K$105:K145)-1,COLUMNS($K$105:K145)-1),\"\")","v":""},{"$f":"IF(OFFSET(DE100_7!$L$105,ROWS($L$105:L145)-1,COLUMNS($L$105:L145)-1)<>\"\",OFFSET(DE100_7!$L$105,ROWS($L$105:L145)-1,COLUMNS($L$105:L145)-1),\"\")","v":""},{"$f":"IF(OFFSET(DE100_7!$M$105,ROWS($M$105:M145)-1,COLUMNS($M$105:M145)-1)<>\"\",OFFSET(DE100_7!$M$105,ROWS($M$105:M145)-1,COLUMNS($M$105:M145)-1),\"\")","v":""},{"$f":"IF(OFFSET(DE100_7!$N$105,ROWS($N$105:N145)-1,COLUMNS($N$105:N145)-1)<>\"\",OFFSET(DE100_7!$N$105,ROWS($N$105:N145)-1,COLUMNS($N$105:N145)-1),\"\")","v":""},{"$f":"IF(OFFSET(DE100_7!$O$105,ROWS($O$105:O145)-1,COLUMNS($O$105:O145)-1)<>\"\",OFFSET(DE100_7!$O$105,ROWS($O$105:O145)-1,COLUMNS($O$105:O145)-1),\"\")","v":""},{"$f":"IF(OFFSET(DE100_7!$P$105,ROWS($P$105:P145)-1,COLUMNS($P$105:P145)-1)<>\"\",OFFSET(DE100_7!$P$105,ROWS($P$105:P145)-1,COLUMNS($P$105:P145)-1),\"\")","v":85.3},{"$f":"IF(OFFSET(DE100_7!$Q$105,ROWS($Q$105:Q145)-1,COLUMNS($Q$105:Q145)-1)<>\"\",OFFSET(DE100_7!$Q$105,ROWS($Q$105:Q145)-1,COLUMNS($Q$105:Q145)-1),\"\")","v":3},{"$f":"IF(OFFSET(DE100_7!$R$105,ROWS($R$105:R145)-1,COLUMNS($R$105:R145)-1)<>\"\",OFFSET(DE100_7!$R$105,ROWS($R$105:R145)-1,COLUMNS($R$105:R145)-1),\"\")","v":""},{"$f":"IF(OFFSET(DE100_7!$S$105,ROWS($S$105:S145)-1,COLUMNS($S$105:S145)-1)<>\"\",OFFSET(DE100_7!$S$105,ROWS($S$105:S145)-1,COLUMNS($S$105:S145)-1),\"\")","v":""},{"$f":"IF(OFFSET(DE100_7!$T$105,ROWS($T$105:T145)-1,COLUMNS($T$105:T145)-1)<>\"\",OFFSET(DE100_7!$T$105,ROWS($T$105:T145)-1,COLUMNS($T$105:T145)-1),\"\")","v":""},{"$f":"IF(OFFSET(DE100_7!$U$105,ROWS($U$105:U145)-1,COLUMNS($U$105:U145)-1)<>\"\",OFFSET(DE100_7!$U$105,ROWS($U$105:U145)-1,COLUMNS($U$105:U145)-1),\"\")","v":""},{"$f":"IF(OFFSET(DE100_7!$V$105,ROWS($V$105:V145)-1,COLUMNS($V$105:V145)-1)<>\"\",OFFSET(DE100_7!$V$105,ROWS($V$105:V145)-1,COLUMNS($V$105:V145)-1),\"\")","v":"IA 210"}]
[{"$f":"IF(OFFSET(DE100_7!$C$105,ROWS($C$105:C146)-1,COLUMNS($C$105:C146)-1)<>\"\",OFFSET(DE100_7!$C$105,ROWS($C$105:C146)-1,COLUMNS($C$105:C146)-1),\"\")","v":"Gap for I-35"},null,null,{"$f":"IF(OFFSET(DE100_7!$F$105,ROWS($F$105:F146)-1,COLUMNS($F$105:F146)-1)<>\"\",OFFSET(DE100_7!$F$105,ROWS($F$105:F146)-1,COLUMNS($F$105:F146)-1),\"\")","v":""},{"$f":"IF(OFFSET(DE100_7!$G$105,ROWS($G$105:G146)-1,COLUMNS($G$105:G146)-1)<>\"\",OFFSET(DE100_7!$G$105,ROWS($G$105:G146)-1,COLUMNS($G$105:G146)-1),\"\")","v":""},{"$f":"IF(OFFSET(DE100_7!$H$105,ROWS($H$105:H146)-1,COLUMNS($H$105:H146)-1)<>\"\",OFFSET(DE100_7!$H$105,ROWS($H$105:H146)-1,COLUMNS($H$105:H146)-1),\"\")","v":""},{"$f":"IF(OFFSET(DE100_7!$I$105,ROWS($I$105:I146)-1,COLUMNS($I$105:I146)-1)<>\"\",OFFSET(DE100_7!$I$105,ROWS($I$105:I146)-1,COLUMNS($I$105:I146)-1),\"\")","v":""},{"$f":"IF(OFFSET(DE100_7!$J$105,ROWS($J$105:J146)-1,COLUMNS($J$105:J146)-1)<>\"\",OFFSET(DE100_7!$J$105,ROWS($J$105:J146)-1,COLUMNS($J$105:J146)-1),\"\")","v":""},{"$f":"IF(OFFSET(DE100_7!$K$105,ROWS($K$105:K146)-1,COLUMNS($K$105:K146)-1)<>\"\",OFFSET(DE100_7!$K$105,ROWS($K$105:K146)-1,COLUMNS($K$105:K146)-1),\"\")","v":""},{"$f":"IF(OFFSET(DE100_7!$L$105,ROWS($L$105:L146)-1,COLUMNS($L$105:L146)-1)<>\"\",OFFSET(DE100_7!$L$105,ROWS($L$105:L146)-1,COLUMNS($L$105:L146)-1),\"\")","v":""},{"$f":"IF(OFFSET(DE100_7!$M$105,ROWS($M$105:M146)-1,COLUMNS($M$105:M146)-1)<>\"\",OFFSET(DE100_7!$M$105,ROWS($M$105:M146)-1,COLUMNS($M$105:M146)-1),\"\")","v":""},{"$f":"IF(OFFSET(DE100_7!$N$105,ROWS($N$105:N146)-1,COLUMNS($N$105:N146)-1)<>\"\",OFFSET(DE100_7!$N$105,ROWS($N$105:N146)-1,COLUMNS($N$105:N146)-1),\"\")","v":""},{"$f":"IF(OFFSET(DE100_7!$O$105,ROWS($O$105:O146)-1,COLUMNS($O$105:O146)-1)<>\"\",OFFSET(DE100_7!$O$105,ROWS($O$105:O146)-1,COLUMNS($O$105:O146)-1),\"\")","v":""},{"$f":"IF(OFFSET(DE100_7!$P$105,ROWS($P$105:P146)-1,COLUMNS($P$105:P146)-1)<>\"\",OFFSET(DE100_7!$P$105,ROWS($P$105:P146)-1,COLUMNS($P$105:P146)-1),\"\")","v":""},{"$f":"IF(OFFSET(DE100_7!$Q$105,ROWS($Q$105:Q146)-1,COLUMNS($Q$105:Q146)-1)<>\"\",OFFSET(DE100_7!$Q$105,ROWS($Q$105:Q146)-1,COLUMNS($Q$105:Q146)-1),\"\")","v":""},{"$f":"IF(OFFSET(DE100_7!$R$105,ROWS($R$105:R146)-1,COLUMNS($R$105:R146)-1)<>\"\",OFFSET(DE100_7!$R$105,ROWS($R$105:R146)-1,COLUMNS($R$105:R146)-1),\"\")","v":""},{"$f":"IF(OFFSET(DE100_7!$S$105,ROWS($S$105:S146)-1,COLUMNS($S$105:S146)-1)<>\"\",OFFSET(DE100_7!$S$105,ROWS($S$105:S146)-1,COLUMNS($S$105:S146)-1),\"\")","v":""},{"$f":"IF(OFFSET(DE100_7!$T$105,ROWS($T$105:T146)-1,COLUMNS($T$105:T146)-1)<>\"\",OFFSET(DE100_7!$T$105,ROWS($T$105:T146)-1,COLUMNS($T$105:T146)-1),\"\")","v":""},{"$f":"IF(OFFSET(DE100_7!$U$105,ROWS($U$105:U146)-1,COLUMNS($U$105:U146)-1)<>\"\",OFFSET(DE100_7!$U$105,ROWS($U$105:U146)-1,COLUMNS($U$105:U146)-1),\"\")","v":""},{"$f":"IF(OFFSET(DE100_7!$V$105,ROWS($V$105:V146)-1,COLUMNS($V$105:V146)-1)<>\"\",OFFSET(DE100_7!$V$105,ROWS($V$105:V146)-1,COLUMNS($V$105:V146)-1),\"\")","v":""}]
[{"$f":"IF(OFFSET(DE100_7!$C$105,ROWS($C$105:C147)-1,COLUMNS($C$105:C147)-1)<>\"\",OFFSET(DE100_7!$C$105,ROWS($C$105:C147)-1,COLUMNS($C$105:C147)-1),\"\")","v":105925.31},{"$f":"IF(OFFSET(DE100_7!$D$105,ROWS($D$105:D147)-1,COLUMNS($D$105:D147)-1)<>\"\",OFFSET(DE100_7!$D$105,ROWS($D$105:D147)-1,COLUMNS($D$105:D147)-1),\"\")","v":143},{"$f":"IF(OFFSET(DE100_7!$E$105,ROWS($E$105:E147)-1,COLUMNS($E$105:E147)-1)<>\"\",OFFSET(DE100_7!$E$105,ROWS($E$105:E147)-1,COLUMNS($E$105:E147)-1),\"\")","v":105999.48},{"$f":"IF(OFFSET(DE100_7!$F$105,ROWS($F$105:F147)-1,COLUMNS($F$105:F147)-1)<>\"\",OFFSET(DE100_7!$F$105,ROWS($F$105:F147)-1,COLUMNS($F$105:F147)-1),\"\")","v":143},{"$f":"IF(OFFSET(DE100_7!$G$105,ROWS($G$105:G147)-1,COLUMNS($G$105:G147)-1)<>\"\",OFFSET(DE100_7!$G$105,ROWS($G$105:G147)-1,COLUMNS($G$105:G147)-1),\"\")","v":"RT"},{"$f":"IF(OFFSET(DE100_7!$H$105,ROWS($H$105:H147)-1,COLUMNS($H$105:H147)-1)<>\"\",OFFSET(DE100_7!$H$105,ROWS($H$105:H147)-1,COLUMNS($H$105:H147)-1),\"\")","v":""},{"$f":"IF(OFFSET(DE100_7!$I$105,ROWS($I$105:I147)-1,COLUMNS($I$105:I147)-1)<>\"\",OFFSET(DE100_7!$I$105,ROWS($I$105:I147)-1,COLUMNS($I$105:I147)-1),\"\")","v":""},{"$f":"IF(OFFSET(DE100_7!$J$105,ROWS($J$105:J147)-1,COLUMNS($J$105:J147)-1)<>\"\",OFFSET(DE100_7!$J$105,ROWS($J$105:J147)-1,COLUMNS($J$105:J147)-1),\"\")","v":""},{"$f":"IF(OFFSET(DE100_7!$K$105,ROWS($K$105:K147)-1,COLUMNS($K$105:K147)-1)<>\"\",OFFSET(DE100_7!$K$105,ROWS($K$105:K147)-1,COLUMNS($K$105:K147)-1),\"\")","v":""},{"$f":"IF(OFFSET(DE100_7!$L$105,ROWS($L$105:L147)-1,COLUMNS($L$105:L147)-1)<>\"\",OFFSET(DE100_7!$L$105,ROWS($L$105:L147)-1,COLUMNS($L$105:L147)-1),\"\")","v":""},{"$f":"IF(OFFSET(DE100_7!$M$105,ROWS($M$105:M147)-1,COLUMNS($M$105:M147)-1)<>\"\",OFFSET(DE100_7!$M$105,ROWS($M$105:M147)-1,COLUMNS($M$105:M147)-1),\"\")","v":""},{"$f":"IF(OFFSET(DE100_7!$N$105,ROWS($N$105:N147)-1,COLUMNS($N$105:N147)-1)<>\"\",OFFSET(DE100_7!$N$105,ROWS($N$105:N147)-1,COLUMNS($N$105:N147)-1),\"\")","v":""},{"$f":"IF(OFFSET(DE100_7!$O$105,ROWS($O$105:O147)-1,COLUMNS($O$105:O147)-1)<>\"\",OFFSET(DE100_7!$O$105,ROWS($O$105:O147)-1,COLUMNS($O$105:O147)-1),\"\")","v":""},{"$f":"IF(OFFSET(DE100_7!$P$105,ROWS($P$105:P147)-1,COLUMNS($P$105:P147)-1)<>\"\",OFFSET(DE100_7!$P$105,ROWS($P$105:P147)-1,COLUMNS($P$105:P147)-1),\"\")","v":74.2},{"$f":"IF(OFFSET(DE100_7!$Q$105,ROWS($Q$105:Q147)-1,COLUMNS($Q$105:Q147)-1)<>\"\",OFFSET(DE100_7!$Q$105,ROWS($Q$105:Q147)-1,COLUMNS($Q$105:Q147)-1),\"\")","v":3},{"$f":"IF(OFFSET(DE100_7!$R$105,ROWS($R$105:R147)-1,COLUMNS($R$105:R147)-1)<>\"\",OFFSET(DE100_7!$R$105,ROWS($R$105:R147)-1,COLUMNS($R$105:R147)-1),\"\")","v":""},{"$f":"IF(OFFSET(DE100_7!$S$105,ROWS($S$105:S147)-1,COLUMNS($S$105:S147)-1)<>\"\",OFFSET(DE100_7!$S$105,ROWS($S$105:S147)-1,COLUMNS($S$105:S147)-1),\"\")","v":""},{"$f":"IF(OFFSET(DE100_7!$T$105,ROWS($T$105:T147)-1,COLUMNS($T$105:T147)-1)<>\"\",OFFSET(DE100_7!$T$105,ROWS($T$105:T147)-1,COLUMNS($T$105:T147)-1),\"\")","v":""},{"$f":"IF(OFFSET(DE100_7!$U$105,ROWS($U$105:U147)-1,COLUMNS($U$105:U147)-1)<>\"\",OFFSET(DE100_7!$U$105,ROWS($U$105:U147)-1,COLUMNS($U$105:U147)-1),\"\")","v":""},{"$f":"IF(OFFSET(DE100_7!$V$105,ROWS($V$105:V147)-1,COLUMNS($V$105:V147)-1)<>\"\",OFFSET(DE100_7!$V$105,ROWS($V$105:V147)-1,COLUMNS($V$105:V147)-1),\"\")","v":"IA 210"}]
[{"$f":"IF(OFFSET(DE100_7!$C$105,ROWS($C$105:C148)-1,COLUMNS($C$105:C148)-1)<>\"\",OFFSET(DE100_7!$C$105,ROWS($C$105:C148)-1,COLUMNS($C$105:C148)-1),\"\")","v":105999.48},{"$f":"IF(OFFSET(DE100_7!$D$105,ROWS($D$105:D148)-1,COLUMNS($D$105:D148)-1)<>\"\",OFFSET(DE100_7!$D$105,ROWS($D$105:D148)-1,COLUMNS($D$105:D148)-1),\"\")","v":143},{"$f":"IF(OFFSET(DE100_7!$E$105,ROWS($E$105:E148)-1,COLUMNS($E$105:E148)-1)<>\"\",OFFSET(DE100_7!$E$105,ROWS($E$105:E148)-1,COLUMNS($E$105:E148)-1),\"\")","v":106044.48},{"$f":"IF(OFFSET(DE100_7!$F$105,ROWS($F$105:F148)-1,COLUMNS($F$105:F148)-1)<>\"\",OFFSET(DE100_7!$F$105,ROWS($F$105:F148)-1,COLUMNS($F$105:F148)-1),\"\")","v":79},{"$f":"IF(OFFSET(DE100_7!$G$105,ROWS($G$105:G148)-1,COLUMNS($G$105:G148)-1)<>\"\",OFFSET(DE100_7!$G$105,ROWS($G$105:G148)-1,COLUMNS($G$105:G148)-1),\"\")","v":"RT"},{"$f":"IF(OFFSET(DE100_7!$H$105,ROWS($H$105:H148)-1,COLUMNS($H$105:H148)-1)<>\"\",OFFSET(DE100_7!$H$105,ROWS($H$105:H148)-1,COLUMNS($H$105:H148)-1),\"\")","v":""},{"$f":"IF(OFFSET(DE100_7!$I$105,ROWS($I$105:I148)-1,COLUMNS($I$105:I148)-1)<>\"\",OFFSET(DE100_7!$I$105,ROWS($I$105:I148)-1,COLUMNS($I$105:I148)-1),\"\")","v":""},{"$f":"IF(OFFSET(DE100_7!$J$105,ROWS($J$105:J148)-1,COLUMNS($J$105:J148)-1)<>\"\",OFFSET(DE100_7!$J$105,ROWS($J$105:J148)-1,COLUMNS($J$105:J148)-1),\"\")","v":""},{"$f":"IF(OFFSET(DE100_7!$K$105,ROWS($K$105:K148)-1,COLUMNS($K$105:K148)-1)<>\"\",OFFSET(DE100_7!$K$105,ROWS($K$105:K148)-1,COLUMNS($K$105:K148)-1),\"\")","v":""},{"$f":"IF(OFFSET(DE100_7!$L$105,ROWS($L$105:L148)-1,COLUMNS($L$105:L148)-1)<>\"\",OFFSET(DE100_7!$L$105,ROWS($L$105:L148)-1,COLUMNS($L$105:L148)-1),\"\")","v":""},{"$f":"IF(OFFSET(DE100_7!$M$105,ROWS($M$105:M148)-1,COLUMNS($M$105:M148)-1)<>\"\",OFFSET(DE100_7!$M$105,ROWS($M$105:M148)-1,COLUMNS($M$105:M148)-1),\"\")","v":""},{"$f":"IF(OFFSET(DE100_7!$N$105,ROWS($N$105:N148)-1,COLUMNS($N$105:N148)-1)<>\"\",OFFSET(DE100_7!$N$105,ROWS($N$105:N148)-1,COLUMNS($N$105:N148)-1),\"\")","v":""},{"$f":"IF(OFFSET(DE100_7!$O$105,ROWS($O$105:O148)-1,COLUMNS($O$105:O148)-1)<>\"\",OFFSET(DE100_7!$O$105,ROWS($O$105:O148)-1,COLUMNS($O$105:O148)-1),\"\")","v":""},{"$f":"IF(OFFSET(DE100_7!$P$105,ROWS($P$105:P148)-1,COLUMNS($P$105:P148)-1)<>\"\",OFFSET(DE100_7!$P$105,ROWS($P$105:P148)-1,COLUMNS($P$105:P148)-1),\"\")","v":78.2},{"$f":"IF(OFFSET(DE100_7!$Q$105,ROWS($Q$105:Q148)-1,COLUMNS($Q$105:Q148)-1)<>\"\",OFFSET(DE100_7!$Q$105,ROWS($Q$105:Q148)-1,COLUMNS($Q$105:Q148)-1),\"\")","v":4},{"$f":"IF(OFFSET(DE100_7!$R$105,ROWS($R$105:R148)-1,COLUMNS($R$105:R148)-1)<>\"\",OFFSET(DE100_7!$R$105,ROWS($R$105:R148)-1,COLUMNS($R$105:R148)-1),\"\")","v":""},{"$f":"IF(OFFSET(DE100_7!$S$105,ROWS($S$105:S148)-1,COLUMNS($S$105:S148)-1)<>\"\",OFFSET(DE100_7!$S$105,ROWS($S$105:S148)-1,COLUMNS($S$105:S148)-1),\"\")","v":""},{"$f":"IF(OFFSET(DE100_7!$T$105,ROWS($T$105:T148)-1,COLUMNS($T$105:T148)-1)<>\"\",OFFSET(DE100_7!$T$105,ROWS($T$105:T148)-1,COLUMNS($T$105:T148)-1),\"\")","v":""},{"$f":"IF(OFFSET(DE100_7!$U$105,ROWS($U$105:U148)-1,COLUMNS($U$105:U148)-1)<>\"\",OFFSET(DE100_7!$U$105,ROWS($U$105:U148)-1,COLUMNS($U$105:U148)-1),\"\")","v":""},{"$f":"IF(OFFSET(DE100_7!$V$105,ROWS($V$105:V148)-1,COLUMNS($V$105:V148)-1)<>\"\",OFFSET(DE100_7!$V$105,ROWS($V$105:V148)-1,COLUMNS($V$105:V148)-1),\"\")","v":"IA 210"}]
[{"$f":"IF(OFFSET(DE100_7!$C$105,ROWS($C$105:C149)-1,COLUMNS($C$105:C149)-1)<>\"\",OFFSET(DE100_7!$C$105,ROWS($C$105:C149)-1,COLUMNS($C$105:C149)-1),\"\")","v":106044.48},{"$f":"IF(OFFSET(DE100_7!$D$105,ROWS($D$105:D149)-1,COLUMNS($D$105:D149)-1)<>\"\",OFFSET(DE100_7!$D$105,ROWS($D$105:D149)-1,COLUMNS($D$105:D149)-1),\"\")","v":79},{"$f":"IF(OFFSET(DE100_7!$E$105,ROWS($E$105:E149)-1,COLUMNS($E$105:E149)-1)<>\"\",OFFSET(DE100_7!$E$105,ROWS($E$105:E149)-1,COLUMNS($E$105:E149)-1),\"\")","v":106299.61},{"$f":"IF(OFFSET(DE100_7!$F$105,ROWS($F$105:F149)-1,COLUMNS($F$105:F149)-1)<>\"\",OFFSET(DE100_7!$F$105,ROWS($F$105:F149)-1,COLUMNS($F$105:F149)-1),\"\")","v":77.53},{"$f":"IF(OFFSET(DE100_7!$G$105,ROWS($G$105:G149)-1,COLUMNS($G$105:G149)-1)<>\"\",OFFSET(DE100_7!$G$105,ROWS($G$105:G149)-1,COLUMNS($G$105:G149)-1),\"\")","v":"RT"},{"$f":"IF(OFFSET(DE100_7!$H$105,ROWS($H$105:H149)-1,COLUMNS($H$105:H149)-1)<>\"\",OFFSET(DE100_7!$H$105,ROWS($H$105:H149)-1,COLUMNS($H$105:H149)-1),\"\")","v":""},{"$f":"IF(OFFSET(DE100_7!$I$105,ROWS($I$105:I149)-1,COLUMNS($I$105:I149)-1)<>\"\",OFFSET(DE100_7!$I$105,ROWS($I$105:I149)-1,COLUMNS($I$105:I149)-1),\"\")","v":""},{"$f":"IF(OFFSET(DE100_7!$J$105,ROWS($J$105:J149)-1,COLUMNS($J$105:J149)-1)<>\"\",OFFSET(DE100_7!$J$105,ROWS($J$105:J149)-1,COLUMNS($J$105:J149)-1),\"\")","v":""},{"$f":"IF(OFFSET(DE100_7!$K$105,ROWS($K$105:K149)-1,COLUMNS($K$105:K149)-1)<>\"\",OFFSET(DE100_7!$K$105,ROWS($K$105:K149)-1,COLUMNS($K$105:K149)-1),\"\")","v":""},{"$f":"IF(OFFSET(DE100_7!$L$105,ROWS($L$105:L149)-1,COLUMNS($L$105:L149)-1)<>\"\",OFFSET(DE100_7!$L$105,ROWS($L$105:L149)-1,COLUMNS($L$105:L149)-1),\"\")","v":""},{"$f":"IF(OFFSET(DE100_7!$M$105,ROWS($M$105:M149)-1,COLUMNS($M$105:M149)-1)<>\"\",OFFSET(DE100_7!$M$105,ROWS($M$105:M149)-1,COLUMNS($M$105:M149)-1),\"\")","v":""},{"$f":"IF(OFFSET(DE100_7!$N$105,ROWS($N$105:N149)-1,COLUMNS($N$105:N149)-1)<>\"\",OFFSET(DE100_7!$N$105,ROWS($N$105:N149)-1,COLUMNS($N$105:N149)-1),\"\")","v":""},{"$f":"IF(OFFSET(DE100_7!$O$105,ROWS($O$105:O149)-1,COLUMNS($O$105:O149)-1)<>\"\",OFFSET(DE100_7!$O$105,ROWS($O$105:O149)-1,COLUMNS($O$105:O149)-1),\"\")","v":""},{"$f":"IF(OFFSET(DE100_7!$P$105,ROWS($P$105:P149)-1,COLUMNS($P$105:P149)-1)<>\"\",OFFSET(DE100_7!$P$105,ROWS($P$105:P149)-1,COLUMNS($P$105:P149)-1),\"\")","v":255.1},{"$f":"IF(OFFSET(DE100_7!$Q$105,ROWS($Q$105:Q149)-1,COLUMNS($Q$105:Q149)-1)<>\"\",OFFSET(DE100_7!$Q$105,ROWS($Q$105:Q149)-1,COLUMNS($Q$105:Q149)-1),\"\")","v":5},{"$f":"IF(OFFSET(DE100_7!$R$105,ROWS($R$105:R149)-1,COLUMNS($R$105:R149)-1)<>\"\",OFFSET(DE100_7!$R$105,ROWS($R$105:R149)-1,COLUMNS($R$105:R149)-1),\"\")","v":""},{"$f":"IF(OFFSET(DE100_7!$S$105,ROWS($S$105:S149)-1,COLUMNS($S$105:S149)-1)<>\"\",OFFSET(DE100_7!$S$105,ROWS($S$105:S149)-1,COLUMNS($S$105:S149)-1),\"\")","v":""},{"$f":"IF(OFFSET(DE100_7!$T$105,ROWS($T$105:T149)-1,COLUMNS($T$105:T149)-1)<>\"\",OFFSET(DE100_7!$T$105,ROWS($T$105:T149)-1,COLUMNS($T$105:T149)-1),\"\")","v":""},{"$f":"IF(OFFSET(DE100_7!$U$105,ROWS($U$105:U149)-1,COLUMNS($U$105:U149)-1)<>\"\",OFFSET(DE100_7!$U$105,ROWS($U$105:U149)-1,COLUMNS($U$105:U149)-1),\"\")","v":""},{"$f":"IF(OFFSET(DE100_7!$V$105,ROWS($V$105:V149)-1,COLUMNS($V$105:V149)-1)<>\"\",OFFSET(DE100_7!$V$105,ROWS($V$105:V149)-1,COLUMNS($V$105:V149)-1),\"\")","v":"IA 210"}]
[{"$f":"IF(OFFSET(DE100_7!$C$105,ROWS($C$105:C150)-1,COLUMNS($C$105:C150)-1)<>\"\",OFFSET(DE100_7!$C$105,ROWS($C$105:C150)-1,COLUMNS($C$105:C150)-1),\"\")","v":""},{"$f":"IF(OFFSET(DE100_7!$D$105,ROWS($D$105:D150)-1,COLUMNS($D$105:D150)-1)<>\"\",OFFSET(DE100_7!$D$105,ROWS($D$105:D150)-1,COLUMNS($D$105:D150)-1),\"\")","v":""},{"$f":"IF(OFFSET(DE100_7!$E$105,ROWS($E$105:E150)-1,COLUMNS($E$105:E150)-1)<>\"\",OFFSET(DE100_7!$E$105,ROWS($E$105:E150)-1,COLUMNS($E$105:E150)-1),\"\")","v":""},{"$f":"IF(OFFSET(DE100_7!$F$105,ROWS($F$105:F150)-1,COLUMNS($F$105:F150)-1)<>\"\",OFFSET(DE100_7!$F$105,ROWS($F$105:F150)-1,COLUMNS($F$105:F150)-1),\"\")","v":""},{"$f":"IF(OFFSET(DE100_7!$G$105,ROWS($G$105:G150)-1,COLUMNS($G$105:G150)-1)<>\"\",OFFSET(DE100_7!$G$105,ROWS($G$105:G150)-1,COLUMNS($G$105:G150)-1),\"\")","v":""},{"$f":"IF(OFFSET(DE100_7!$H$105,ROWS($H$105:H150)-1,COLUMNS($H$105:H150)-1)<>\"\",OFFSET(DE100_7!$H$105,ROWS($H$105:H150)-1,COLUMNS($H$105:H150)-1),\"\")","v":""},{"$f":"IF(OFFSET(DE100_7!$I$105,ROWS($I$105:I150)-1,COLUMNS($I$105:I150)-1)<>\"\",OFFSET(DE100_7!$I$105,ROWS($I$105:I150)-1,COLUMNS($I$105:I150)-1),\"\")","v":""},{"$f":"IF(OFFSET(DE100_7!$J$105,ROWS($J$105:J150)-1,COLUMNS($J$105:J150)-1)<>\"\",OFFSET(DE100_7!$J$105,ROWS($J$105:J150)-1,COLUMNS($J$105:J150)-1),\"\")","v":""},{"$f":"IF(OFFSET(DE100_7!$K$105,ROWS($K$105:K150)-1,COLUMNS($K$105:K150)-1)<>\"\",OFFSET(DE100_7!$K$105,ROWS($K$105:K150)-1,COLUMNS($K$105:K150)-1),\"\")","v":""},{"$f":"IF(OFFSET(DE100_7!$L$105,ROWS($L$105:L150)-1,COLUMNS($L$105:L150)-1)<>\"\",OFFSET(DE100_7!$L$105,ROWS($L$105:L150)-1,COLUMNS($L$105:L150)-1),\"\")","v":""},{"$f":"IF(OFFSET(DE100_7!$M$105,ROWS($M$105:M150)-1,COLUMNS($M$105:M150)-1)<>\"\",OFFSET(DE100_7!$M$105,ROWS($M$105:M150)-1,COLUMNS($M$105:M150)-1),\"\")","v":""},{"$f":"IF(OFFSET(DE100_7!$N$105,ROWS($N$105:N150)-1,COLUMNS($N$105:N150)-1)<>\"\",OFFSET(DE100_7!$N$105,ROWS($N$105:N150)-1,COLUMNS($N$105:N150)-1),\"\")","v":""},{"$f":"IF(OFFSET(DE100_7!$O$105,ROWS($O$105:O150)-1,COLUMNS($O$105:O150)-1)<>\"\",OFFSET(DE100_7!$O$105,ROWS($O$105:O150)-1,COLUMNS($O$105:O150)-1),\"\")","v":""},{"$f":"IF(OFFSET(DE100_7!$P$105,ROWS($P$105:P150)-1,COLUMNS($P$105:P150)-1)<>\"\",OFFSET(DE100_7!$P$105,ROWS($P$105:P150)-1,COLUMNS($P$105:P150)-1),\"\")","v":""},{"$f":"IF(OFFSET(DE100_7!$Q$105,ROWS($Q$105:Q150)-1,COLUMNS($Q$105:Q150)-1)<>\"\",OFFSET(DE100_7!$Q$105,ROWS($Q$105:Q150)-1,COLUMNS($Q$105:Q150)-1),\"\")","v":""},{"$f":"IF(OFFSET(DE100_7!$R$105,ROWS($R$105:R150)-1,COLUMNS($R$105:R150)-1)<>\"\",OFFSET(DE100_7!$R$105,ROWS($R$105:R150)-1,COLUMNS($R$105:R150)-1),\"\")","v":""},{"$f":"IF(OFFSET(DE100_7!$S$105,ROWS($S$105:S150)-1,COLUMNS($S$105:S150)-1)<>\"\",OFFSET(DE100_7!$S$105,ROWS($S$105:S150)-1,COLUMNS($S$105:S150)-1),\"\")","v":""},{"$f":"IF(OFFSET(DE100_7!$T$105,ROWS($T$105:T150)-1,COLUMNS($T$105:T150)-1)<>\"\",OFFSET(DE100_7!$T$105,ROWS($T$105:T150)-1,COLUMNS($T$105:T150)-1),\"\")","v":""},{"$f":"IF(OFFSET(DE100_7!$U$105,ROWS($U$105:U150)-1,COLUMNS($U$105:U150)-1)<>\"\",OFFSET(DE100_7!$U$105,ROWS($U$105:U150)-1,COLUMNS($U$105:U150)-1),\"\")","v":""},{"$f":"IF(OFFSET(DE100_7!$V$105,ROWS($V$105:V150)-1,COLUMNS($V$105:V150)-1)<>\"\",OFFSET(DE100_7!$V$105,ROWS($V$105:V150)-1,COLUMNS($V$105:V150)-1),\"\")","v":""}]
[{"$f":"IF(OFFSET(DE100_7!$C$105,ROWS($C$105:C151)-1,COLUMNS($C$105:C151)-1)<>\"\",OFFSET(DE100_7!$C$105,ROWS($C$105:C151)-1,COLUMNS($C$105:C151)-1),\"\")","v":""},{"$f":"IF(OFFSET(DE100_7!$D$105,ROWS($D$105:D151)-1,COLUMNS($D$105:D151)-1)<>\"\",OFFSET(DE100_7!$D$105,ROWS($D$105:D151)-1,COLUMNS($D$105:D151)-1),\"\")","v":""},{"$f":"IF(OFFSET(DE100_7!$E$105,ROWS($E$105:E151)-1,COLUMNS($E$105:E151)-1)<>\"\",OFFSET(DE100_7!$E$105,ROWS($E$105:E151)-1,COLUMNS($E$105:E151)-1),\"\")","v":""},{"$f":"IF(OFFSET(DE100_7!$F$105,ROWS($F$105:F151)-1,COLUMNS($F$105:F151)-1)<>\"\",OFFSET(DE100_7!$F$105,ROWS($F$105:F151)-1,COLUMNS($F$105:F151)-1),\"\")","v":""},{"$f":"IF(OFFSET(DE100_7!$G$105,ROWS($G$105:G151)-1,COLUMNS($G$105:G151)-1)<>\"\",OFFSET(DE100_7!$G$105,ROWS($G$105:G151)-1,COLUMNS($G$105:G151)-1),\"\")","v":""},{"$f":"IF(OFFSET(DE100_7!$H$105,ROWS($H$105:H151)-1,COLUMNS($H$105:H151)-1)<>\"\",OFFSET(DE100_7!$H$105,ROWS($H$105:H151)-1,COLUMNS($H$105:H151)-1),\"\")","v":""},{"$f":"IF(OFFSET(DE100_7!$I$105,ROWS($I$105:I151)-1,COLUMNS($I$105:I151)-1)<>\"\",OFFSET(DE100_7!$I$105,ROWS($I$105:I151)-1,COLUMNS($I$105:I151)-1),\"\")","v":""},{"$f":"IF(OFFSET(DE100_7!$J$105,ROWS($J$105:J151)-1,COLUMNS($J$105:J151)-1)<>\"\",OFFSET(DE100_7!$J$105,ROWS($J$105:J151)-1,COLUMNS($J$105:J151)-1),\"\")","v":""},{"$f":"IF(OFFSET(DE100_7!$K$105,ROWS($K$105:K151)-1,COLUMNS($K$105:K151)-1)<>\"\",OFFSET(DE100_7!$K$105,ROWS($K$105:K151)-1,COLUMNS($K$105:K151)-1),\"\")","v":""},{"$f":"IF(OFFSET(DE100_7!$L$105,ROWS($L$105:L151)-1,COLUMNS($L$105:L151)-1)<>\"\",OFFSET(DE100_7!$L$105,ROWS($L$105:L151)-1,COLUMNS($L$105:L151)-1),\"\")","v":""},{"$f":"IF(OFFSET(DE100_7!$M$105,ROWS($M$105:M151)-1,COLUMNS($M$105:M151)-1)<>\"\",OFFSET(DE100_7!$M$105,ROWS($M$105:M151)-1,COLUMNS($M$105:M151)-1),\"\")","v":""},{"$f":"IF(OFFSET(DE100_7!$N$105,ROWS($N$105:N151)-1,COLUMNS($N$105:N151)-1)<>\"\",OFFSET(DE100_7!$N$105,ROWS($N$105:N151)-1,COLUMNS($N$105:N151)-1),\"\")","v":""},{"$f":"IF(OFFSET(DE100_7!$O$105,ROWS($O$105:O151)-1,COLUMNS($O$105:O151)-1)<>\"\",OFFSET(DE100_7!$O$105,ROWS($O$105:O151)-1,COLUMNS($O$105:O151)-1),\"\")","v":""},{"$f":"IF(OFFSET(DE100_7!$P$105,ROWS($P$105:P151)-1,COLUMNS($P$105:P151)-1)<>\"\",OFFSET(DE100_7!$P$105,ROWS($P$105:P151)-1,COLUMNS($P$105:P151)-1),\"\")","v":""},{"$f":"IF(OFFSET(DE100_7!$Q$105,ROWS($Q$105:Q151)-1,COLUMNS($Q$105:Q151)-1)<>\"\",OFFSET(DE100_7!$Q$105,ROWS($Q$105:Q151)-1,COLUMNS($Q$105:Q151)-1),\"\")","v":""},{"$f":"IF(OFFSET(DE100_7!$R$105,ROWS($R$105:R151)-1,COLUMNS($R$105:R151)-1)<>\"\",OFFSET(DE100_7!$R$105,ROWS($R$105:R151)-1,COLUMNS($R$105:R151)-1),\"\")","v":""},{"$f":"IF(OFFSET(DE100_7!$S$105,ROWS($S$105:S151)-1,COLUMNS($S$105:S151)-1)<>\"\",OFFSET(DE100_7!$S$105,ROWS($S$105:S151)-1,COLUMNS($S$105:S151)-1),\"\")","v":""},{"$f":"IF(OFFSET(DE100_7!$T$105,ROWS($T$105:T151)-1,COLUMNS($T$105:T151)-1)<>\"\",OFFSET(DE100_7!$T$105,ROWS($T$105:T151)-1,COLUMNS($T$105:T151)-1),\"\")","v":""},{"$f":"IF(OFFSET(DE100_7!$U$105,ROWS($U$105:U151)-1,COLUMNS($U$105:U151)-1)<>\"\",OFFSET(DE100_7!$U$105,ROWS($U$105:U151)-1,COLUMNS($U$105:U151)-1),\"\")","v":""},{"$f":"IF(OFFSET(DE100_7!$V$105,ROWS($V$105:V151)-1,COLUMNS($V$105:V151)-1)<>\"\",OFFSET(DE100_7!$V$105,ROWS($V$105:V151)-1,COLUMNS($V$105:V151)-1),\"\")","v":""}]
[{"$f":"IF(OFFSET(DE100_7!$C$105,ROWS($C$105:C152)-1,COLUMNS($C$105:C152)-1)<>\"\",OFFSET(DE100_7!$C$105,ROWS($C$105:C152)-1,COLUMNS($C$105:C152)-1),\"\")","v":"TOTALS:"},{"$f":"IF(OFFSET(DE100_7!$D$105,ROWS($D$105:D152)-1,COLUMNS($D$105:D152)-1)<>\"\",OFFSET(DE100_7!$D$105,ROWS($D$105:D152)-1,COLUMNS($D$105:D152)-1),\"\")","v":""},{"$f":"IF(OFFSET(DE100_7!$E$105,ROWS($E$105:E152)-1,COLUMNS($E$105:E152)-1)<>\"\",OFFSET(DE100_7!$E$105,ROWS($E$105:E152)-1,COLUMNS($E$105:E152)-1),\"\")","v":""},{"$f":"IF(OFFSET(DE100_7!$F$105,ROWS($F$105:F152)-1,COLUMNS($F$105:F152)-1)<>\"\",OFFSET(DE100_7!$F$105,ROWS($F$105:F152)-1,COLUMNS($F$105:F152)-1),\"\")","v":""},{"$f":"IF(OFFSET(DE100_7!$G$105,ROWS($G$105:G152)-1,COLUMNS($G$105:G152)-1)<>\"\",OFFSET(DE100_7!$G$105,ROWS($G$105:G152)-1,COLUMNS($G$105:G152)-1),\"\")","v":""},{"$f":"IF(OFFSET(DE100_7!$H$105,ROWS($H$105:H152)-1,COLUMNS($H$105:H152)-1)<>\"\",OFFSET(DE100_7!$H$105,ROWS($H$105:H152)-1,COLUMNS($H$105:H152)-1),\"\")","v":4930.7},{"$f":"IF(OFFSET(DE100_7!$I$105,ROWS($I$105:I152)-1,COLUMNS($I$105:I152)-1)<>\"\",OFFSET(DE100_7!$I$105,ROWS($I$105:I152)-1,COLUMNS($I$105:I152)-1),\"\")","v":""},{"$f":"IF(OFFSET(DE100_7!$J$105,ROWS($J$105:J152)-1,COLUMNS($J$105:J152)-1)<>\"\",OFFSET(DE100_7!$J$105,ROWS($J$105:J152)-1,COLUMNS($J$105:J152)-1),\"\")","v":""},{"$f":"IF(OFFSET(DE100_7!$K$105,ROWS($K$105:K152)-1,COLUMNS($K$105:K152)-1)<>\"\",OFFSET(DE100_7!$K$105,ROWS($K$105:K152)-1,COLUMNS($K$105:K152)-1),\"\")","v":""},{"$f":"IF(OFFSET(DE100_7!$L$105,ROWS($L$105:L152)-1,COLUMNS($L$105:L152)-1)<>\"\",OFFSET(DE100_7!$L$105,ROWS($L$105:L152)-1,COLUMNS($L$105:L152)-1),\"\")","v":""},{"$f":"IF(OFFSET(DE100_7!$M$105,ROWS($M$105:M152)-1,COLUMNS($M$105:M152)-1)<>\"\",OFFSET(DE100_7!$M$105,ROWS($M$105:M152)-1,COLUMNS($M$105:M152)-1),\"\")","v":""},{"$f":"IF(OFFSET(DE100_7!$N$105,ROWS($N$105:N152)-1,COLUMNS($N$105:N152)-1)<>\"\",OFFSET(DE100_7!$N$105,ROWS($N$105:N152)-1,COLUMNS($N$105:N152)-1),\"\")","v":""},{"$f":"IF(OFFSET(DE100_7!$O$105,ROWS($O$105:O152)-1,COLUMNS($O$105:O152)-1)<>\"\",OFFSET(DE100_7!$O$105,ROWS($O$105:O152)-1,COLUMNS($O$105:O152)-1),\"\")","v":""},{"$f":"IF(OFFSET(DE100_7!$P$105,ROWS($P$105:P152)-1,COLUMNS($P$105:P152)-1)<>\"\",OFFSET(DE100_7!$P$105,ROWS($P$105:P152)-1,COLUMNS($P$105:P152)-1),\"\")","v":39608.823999999993},{"$f":"IF(OFFSET(DE100_7!$Q$105,ROWS($Q$105:Q152)-1,COLUMNS($Q$105:Q152)-1)<>\"\",OFFSET(DE100_7!$Q$105,ROWS($Q$105:Q152)-1,COLUMNS($Q$105:Q152)-1),\"\")","v":488},{"$f":"IF(OFFSET(DE100_7!$R$105,ROWS($R$105:R152)-1,COLUMNS($R$105:R152)-1)<>\"\",OFFSET(DE100_7!$R$105,ROWS($R$105:R152)-1,COLUMNS($R$105:R152)-1),\"\")","v":""},{"$f":"IF(OFFSET(DE100_7!$S$105,ROWS($S$105:S152)-1,COLUMNS($S$105:S152)-1)<>\"\",OFFSET(DE100_7!$S$105,ROWS($S$105:S152)-1,COLUMNS($S$105:S152)-1),\"\")","v":""},{"$f":"IF(OFFSET(DE100_7!$T$105,ROWS($T$105:T152)-1,COLUMNS($T$105:T152)-1)<>\"\",OFFSET(DE100_7!$T$105,ROWS($T$105:T152)-1,COLUMNS($T$105:T152)-1),\"\")","v":""},{"$f":"IF(OFFSET(DE100_7!$U$105,ROWS($U$105:U152)-1,COLUMNS($U$105:U152)-1)<>\"\",OFFSET(DE100_7!$U$105,ROWS($U$105:U152)-1,COLUMNS($U$105:U152)-1),\"\")","v":""},{"$f":"IF(OFFSET(DE100_7!$V$105,ROWS($V$105:V152)-1,COLUMNS($V$105:V152)-1)<>\"\",OFFSET(DE100_7!$V$105,ROWS($V$105:V152)-1,COLUMNS($V$105:V152)-1),\"\")","v":""}]
[{"$f":"IF(OFFSET(DE100_7!$C$105,ROWS($C$105:C153)-1,COLUMNS($C$105:C153)-1)<>\"\",OFFSET(DE100_7!$C$105,ROWS($C$105:C153)-1,COLUMNS($C$105:C153)-1),\"\")","v":""},{"$f":"IF(OFFSET(DE100_7!$D$105,ROWS($D$105:D153)-1,COLUMNS($D$105:D153)-1)<>\"\",OFFSET(DE100_7!$D$105,ROWS($D$105:D153)-1,COLUMNS($D$105:D153)-1),\"\")","v":""},{"$f":"IF(OFFSET(DE100_7!$E$105,ROWS($E$105:E153)-1,COLUMNS($E$105:E153)-1)<>\"\",OFFSET(DE100_7!$E$105,ROWS($E$105:E153)-1,COLUMNS($E$105:E153)-1),\"\")","v":""},{"$f":"IF(OFFSET(DE100_7!$F$105,ROWS($F$105:F153)-1,COLUMNS($F$105:F153)-1)<>\"\",OFFSET(DE100_7!$F$105,ROWS($F$105:F153)-1,COLUMNS($F$105:F153)-1),\"\")","v":""},{"$f":"IF(OFFSET(DE100_7!$G$105,ROWS($G$105:G153)-1,COLUMNS($G$105:G153)-1)<>\"\",OFFSET(DE100_7!$G$105,ROWS($G$105:G153)-1,COLUMNS($G$105:G153)-1),\"\")","v":""},{"$f":"IF(OFFSET(DE100_7!$H$105,ROWS($H$105:H153)-1,COLUMNS($H$105:H153)-1)<>\"\",OFFSET(DE100_7!$H$105,ROWS($H$105:H153)-1,COLUMNS($H$105:H153)-1),\"\")","v":""},{"$f":"IF(OFFSET(DE100_7!$I$105,ROWS($I$105:I153)-1,COLUMNS($I$105:I153)-1)<>\"\",OFFSET(DE100_7!$I$105,ROWS($I$105:I153)-1,COLUMNS($I$105:I153)-1),\"\")","v":""},{"$f":"IF(OFFSET(DE100_7!$J$105,ROWS($J$105:J153)-1,COLUMNS($J$105:J153)-1)<>\"\",OFFSET(DE100_7!$J$105,ROWS($J$105:J153)-1,COLUMNS($J$105:J153)-1),\"\")","v":""},{"$f":"IF(OFFSET(DE100_7!$K$105,ROWS($K$105:K153)-1,COLUMNS($K$105:K153)-1)<>\"\",OFFSET(DE100_7!$K$105,ROWS($K$105:K153)-1,COLUMNS($K$105:K153)-1),\"\")","v":""},{"$f":"IF(OFFSET(DE100_7!$L$105,ROWS($L$105:L153)-1,COLUMNS($L$105:L153)-1)<>\"\",OFFSET(DE100_7!$L$105,ROWS($L$105:L153)-1,COLUMNS($L$105:L153)-1),\"\")","v":""},{"$f":"IF(OFFSET(DE100_7!$M$105,ROWS($M$105:M153)-1,COLUMNS($M$105:M153)-1)<>\"\",OFFSET(DE100_7!$M$105,ROWS($M$105:M153)-1,COLUMNS($M$105:M153)-1),\"\")","v":""},{"$f":"IF(OFFSET(DE100_7!$N$105,ROWS($N$105:N153)-1,COLUMNS($N$105:N153)-1)<>\"\",OFFSET(DE100_7!$N$105,ROWS($N$105:N153)-1,COLUMNS($N$105:N153)-1),\"\")","v":""},{"$f":"IF(OFFSET(DE100_7!$O$105,ROWS($O$105:O153)-1,COLUMNS($O$105:O153)-1)<>\"\",OFFSET(DE100_7!$O$105,ROWS($O$105:O153)-1,COLUMNS($O$105:O153)-1),\"\")","v":""},{"$f":"IF(OFFSET(DE100_7!$P$105,ROWS($P$105:P153)-1,COLUMNS($P$105:P153)-1)<>\"\",OFFSET(DE100_7!$P$105,ROWS($P$105:P153)-1,COLUMNS($P$105:P153)-1),\"\")","v":""},{"$f":"IF(OFFSET(DE100_7!$Q$105,ROWS($Q$105:Q153)-1,COLUMNS($Q$105:Q153)-1)<>\"\",OFFSET(DE100_7!$Q$105,ROWS($Q$105:Q153)-1,COLUMNS($Q$105:Q153)-1),\"\")","v":""},{"$f":"IF(OFFSET(DE100_7!$R$105,ROWS($R$105:R153)-1,COLUMNS($R$105:R153)-1)<>\"\",OFFSET(DE100_7!$R$105,ROWS($R$105:R153)-1,COLUMNS($R$105:R153)-1),\"\")","v":""},{"$f":"IF(OFFSET(DE100_7!$S$105,ROWS($S$105:S153)-1,COLUMNS($S$105:S153)-1)<>\"\",OFFSET(DE100_7!$S$105,ROWS($S$105:S153)-1,COLUMNS($S$105:S153)-1),\"\")","v":""},{"$f":"IF(OFFSET(DE100_7!$T$105,ROWS($T$105:T153)-1,COLUMNS($T$105:T153)-1)<>\"\",OFFSET(DE100_7!$T$105,ROWS($T$105:T153)-1,COLUMNS($T$105:T153)-1),\"\")","v":""},{"$f":"IF(OFFSET(DE100_7!$U$105,ROWS($U$105:U153)-1,COLUMNS($U$105:U153)-1)<>\"\",OFFSET(DE100_7!$U$105,ROWS($U$105:U153)-1,COLUMNS($U$105:U153)-1),\"\")","v":""},{"$f":"IF(OFFSET(DE100_7!$V$105,ROWS($V$105:V153)-1,COLUMNS($V$105:V153)-1)<>\"\",OFFSET(DE100_7!$V$105,ROWS($V$105:V153)-1,COLUMNS($V$105:V153)-1),\"\")","v":""}]
[{"$f":"IF(OFFSET(DE100_7!$C$105,ROWS($C$105:C154)-1,COLUMNS($C$105:C154)-1)<>\"\",OFFSET(DE100_7!$C$105,ROWS($C$105:C154)-1,COLUMNS($C$105:C154)-1),\"\")","v":""},{"$f":"IF(OFFSET(DE100_7!$D$105,ROWS($D$105:D154)-1,COLUMNS($D$105:D154)-1)<>\"\",OFFSET(DE100_7!$D$105,ROWS($D$105:D154)-1,COLUMNS($D$105:D154)-1),\"\")","v":""},{"$f":"IF(OFFSET(DE100_7!$E$105,ROWS($E$105:E154)-1,COLUMNS($E$105:E154)-1)<>\"\",OFFSET(DE100_7!$E$105,ROWS($E$105:E154)-1,COLUMNS($E$105:E154)-1),\"\")","v":""},{"$f":"IF(OFFSET(DE100_7!$F$105,ROWS($F$105:F154)-1,COLUMNS($F$105:F154)-1)<>\"\",OFFSET(DE100_7!$F$105,ROWS($F$105:F154)-1,COLUMNS($F$105:F154)-1),\"\")","v":""},{"$f":"IF(OFFSET(DE100_7!$G$105,ROWS($G$105:G154)-1,COLUMNS($G$105:G154)-1)<>\"\",OFFSET(DE100_7!$G$105,ROWS($G$105:G154)-1,COLUMNS($G$105:G154)-1),\"\")","v":""},{"$f":"IF(OFFSET(DE100_7!$H$105,ROWS($H$105:H154)-1,COLUMNS($H$105:H154)-1)<>\"\",OFFSET(DE100_7!$H$105,ROWS($H$105:H154)-1,COLUMNS($H$105:H154)-1),\"\")","v":""},{"$f":"IF(OFFSET(DE100_7!$I$105,ROWS($I$105:I154)-1,COLUMNS($I$105:I154)-1)<>\"\",OFFSET(DE100_7!$I$105,ROWS($I$105:I154)-1,COLUMNS($I$105:I154)-1),\"\")","v":""},{"$f":"IF(OFFSET(DE100_7!$J$105,ROWS($J$105:J154)-1,COLUMNS($J$105:J154)-1)<>\"\",OFFSET(DE100_7!$J$105,ROWS($J$105:J154)-1,COLUMNS($J$105:J154)-1),\"\")","v":""},{"$f":"IF(OFFSET(DE100_7!$K$105,ROWS($K$105:K154)-1,COLUMNS($K$105:K154)-1)<>\"\",OFFSET(DE100_7!$K$105,ROWS($K$105:K154)-1,COLUMNS($K$105:K154)-1),\"\")","v":""},{"$f":"IF(OFFSET(DE100_7!$L$105,ROWS($L$105:L154)-1,COLUMNS($L$105:L154)-1)<>\"\",OFFSET(DE100_7!$L$105,ROWS($L$105:L154)-1,COLUMNS($L$105:L154)-1),\"\")","v":""},{"$f":"IF(OFFSET(DE100_7!$M$105,ROWS($M$105:M154)-1,COLUMNS($M$105:M154)-1)<>\"\",OFFSET(DE100_7!$M$105,ROWS($M$105:M154)-1,COLUMNS($M$105:M154)-1),\"\")","v":""},{"$f":"IF(OFFSET(DE100_7!$N$105,ROWS($N$105:N154)-1,COLUMNS($N$105:N154)-1)<>\"\",OFFSET(DE100_7!$N$105,ROWS($N$105:N154)-1,COLUMNS($N$105:N154)-1),\"\")","v":""},{"$f":"IF(OFFSET(DE100_7!$O$105,ROWS($O$105:O154)-1,COLUMNS($O$105:O154)-1)<>\"\",OFFSET(DE100_7!$O$105,ROWS($O$105:O154)-1,COLUMNS($O$105:O154)-1),\"\")","v":""},{"$f":"IF(OFFSET(DE100_7!$P$105,ROWS($P$105:P154)-1,COLUMNS($P$105:P154)-1)<>\"\",OFFSET(DE100_7!$P$105,ROWS($P$105:P154)-1,COLUMNS($P$105:P154)-1),\"\")","v":""},{"$f":"IF(OFFSET(DE100_7!$Q$105,ROWS($Q$105:Q154)-1,COLUMNS($Q$105:Q154)-1)<>\"\",OFFSET(DE100_7!$Q$105,ROWS($Q$105:Q154)-1,COLUMNS($Q$105:Q154)-1),\"\")","v":""},{"$f":"IF(OFFSET(DE100_7!$R$105,ROWS($R$105:R154)-1,COLUMNS($R$105:R154)-1)<>\"\",OFFSET(DE100_7!$R$105,ROWS($R$105:R154)-1,COLUMNS($R$105:R154)-1),\"\")","v":""},{"$f":"IF(OFFSET(DE100_7!$S$105,ROWS($S$105:S154)-1,COLUMNS($S$105:S154)-1)<>\"\",OFFSET(DE100_7!$S$105,ROWS($S$105:S154)-1,COLUMNS($S$105:S154)-1),\"\")","v":""},{"$f":"IF(OFFSET(DE100_7!$T$105,ROWS($T$105:T154)-1,COLUMNS($T$105:T154)-1)<>\"\",OFFSET(DE100_7!$T$105,ROWS($T$105:T154)-1,COLUMNS($T$105:T154)-1),\"\")","v":""},{"$f":"IF(OFFSET(DE100_7!$U$105,ROWS($U$105:U154)-1,COLUMNS($U$105:U154)-1)<>\"\",OFFSET(DE100_7!$U$105,ROWS($U$105:U154)-1,COLUMNS($U$105:U154)-1),\"\")","v":""},{"$f":"IF(OFFSET(DE100_7!$V$105,ROWS($V$105:V154)-1,COLUMNS($V$105:V154)-1)<>\"\",OFFSET(DE100_7!$V$105,ROWS($V$105:V154)-1,COLUMNS($V$105:V154)-1),\"\")","v":""}]
[{"$f":"IF(OFFSET(DE100_7!$C$105,ROWS($C$105:C155)-1,COLUMNS($C$105:C155)-1)<>\"\",OFFSET(DE100_7!$C$105,ROWS($C$105:C155)-1,COLUMNS($C$105:C155)-1),\"\")","v":""},{"$f":"IF(OFFSET(DE100_7!$D$105,ROWS($D$105:D155)-1,COLUMNS($D$105:D155)-1)<>\"\",OFFSET(DE100_7!$D$105,ROWS($D$105:D155)-1,COLUMNS($D$105:D155)-1),\"\")","v":""},{"$f":"IF(OFFSET(DE100_7!$E$105,ROWS($E$105:E155)-1,COLUMNS($E$105:E155)-1)<>\"\",OFFSET(DE100_7!$E$105,ROWS($E$105:E155)-1,COLUMNS($E$105:E155)-1),\"\")","v":""},{"$f":"IF(OFFSET(DE100_7!$F$105,ROWS($F$105:F155)-1,COLUMNS($F$105:F155)-1)<>\"\",OFFSET(DE100_7!$F$105,ROWS($F$105:F155)-1,COLUMNS($F$105:F155)-1),\"\")","v":""},{"$f":"IF(OFFSET(DE100_7!$G$105,ROWS($G$105:G155)-1,COLUMNS($G$105:G155)-1)<>\"\",OFFSET(DE100_7!$G$105,ROWS($G$105:G155)-1,COLUMNS($G$105:G155)-1),\"\")","v":""},{"$f":"IF(OFFSET(DE100_7!$H$105,ROWS($H$105:H155)-1,COLUMNS($H$105:H155)-1)<>\"\",OFFSET(DE100_7!$H$105,ROWS($H$105:H155)-1,COLUMNS($H$105:H155)-1),\"\")","v":""},{"$f":"IF(OFFSET(DE100_7!$I$105,ROWS($I$105:I155)-1,COLUMNS($I$105:I155)-1)<>\"\",OFFSET(DE100_7!$I$105,ROWS($I$105:I155)-1,COLUMNS($I$105:I155)-1),\"\")","v":""},{"$f":"IF(OFFSET(DE100_7!$J$105,ROWS($J$105:J155)-1,COLUMNS($J$105:J155)-1)<>\"\",OFFSET(DE100_7!$J$105,ROWS($J$105:J155)-1,COLUMNS($J$105:J155)-1),\"\")","v":""},{"$f":"IF(OFFSET(DE100_7!$K$105,ROWS($K$105:K155)-1,COLUMNS($K$105:K155)-1)<>\"\",OFFSET(DE100_7!$K$105,ROWS($K$105:K155)-1,COLUMNS($K$105:K155)-1),\"\")","v":""},{"$f":"IF(OFFSET(DE100_7!$L$105,ROWS($L$105:L155)-1,COLUMNS($L$105:L155)-1)<>\"\",OFFSET(DE100_7!$L$105,ROWS($L$105:L155)-1,COLUMNS($L$105:L155)-1),\"\")","v":""},{"$f":"IF(OFFSET(DE100_7!$M$105,ROWS($M$105:M155)-1,COLUMNS($M$105:M155)-1)<>\"\",OFFSET(DE100_7!$M$105,ROWS($M$105:M155)-1,COLUMNS($M$105:M155)-1),\"\")","v":""},{"$f":"IF(OFFSET(DE100_7!$N$105,ROWS($N$105:N155)-1,COLUMNS($N$105:N155)-1)<>\"\",OFFSET(DE100_7!$N$105,ROWS($N$105:N155)-1,COLUMNS($N$105:N155)-1),\"\")","v":""},{"$f":"IF(OFFSET(DE100_7!$O$105,ROWS($O$105:O155)-1,COLUMNS($O$105:O155)-1)<>\"\",OFFSET(DE100_7!$O$105,ROWS($O$105:O155)-1,COLUMNS($O$105:O155)-1),\"\")","v":""},{"$f":"IF(OFFSET(DE100_7!$P$105,ROWS($P$105:P155)-1,COLUMNS($P$105:P155)-1)<>\"\",OFFSET(DE100_7!$P$105,ROWS($P$105:P155)-1,COLUMNS($P$105:P155)-1),\"\")","v":""},{"$f":"IF(OFFSET(DE100_7!$Q$105,ROWS($Q$105:Q155)-1,COLUMNS($Q$105:Q155)-1)<>\"\",OFFSET(DE100_7!$Q$105,ROWS($Q$105:Q155)-1,COLUMNS($Q$105:Q155)-1),\"\")","v":""},{"$f":"IF(OFFSET(DE100_7!$R$105,ROWS($R$105:R155)-1,COLUMNS($R$105:R155)-1)<>\"\",OFFSET(DE100_7!$R$105,ROWS($R$105:R155)-1,COLUMNS($R$105:R155)-1),\"\")","v":""},{"$f":"IF(OFFSET(DE100_7!$S$105,ROWS($S$105:S155)-1,COLUMNS($S$105:S155)-1)<>\"\",OFFSET(DE100_7!$S$105,ROWS($S$105:S155)-1,COLUMNS($S$105:S155)-1),\"\")","v":""},{"$f":"IF(OFFSET(DE100_7!$T$105,ROWS($T$105:T155)-1,COLUMNS($T$105:T155)-1)<>\"\",OFFSET(DE100_7!$T$105,ROWS($T$105:T155)-1,COLUMNS($T$105:T155)-1),\"\")","v":""},{"$f":"IF(OFFSET(DE100_7!$U$105,ROWS($U$105:U155)-1,COLUMNS($U$105:U155)-1)<>\"\",OFFSET(DE100_7!$U$105,ROWS($U$105:U155)-1,COLUMNS($U$105:U155)-1),\"\")","v":""},{"$f":"IF(OFFSET(DE100_7!$V$105,ROWS($V$105:V155)-1,COLUMNS($V$105:V155)-1)<>\"\",OFFSET(DE100_7!$V$105,ROWS($V$105:V155)-1,COLUMNS($V$105:V155)-1),\"\")","v":""}]
[{"$f":"IF(OFFSET(DE100_7!$C$105,ROWS($C$105:C156)-1,COLUMNS($C$105:C156)-1)<>\"\",OFFSET(DE100_7!$C$105,ROWS($C$105:C156)-1,COLUMNS($C$105:C156)-1),\"\")","v":""},{"$f":"IF(OFFSET(DE100_7!$D$105,ROWS($D$105:D156)-1,COLUMNS($D$105:D156)-1)<>\"\",OFFSET(DE100_7!$D$105,ROWS($D$105:D156)-1,COLUMNS($D$105:D156)-1),\"\")","v":""},{"$f":"IF(OFFSET(DE100_7!$E$105,ROWS($E$105:E156)-1,COLUMNS($E$105:E156)-1)<>\"\",OFFSET(DE100_7!$E$105,ROWS($E$105:E156)-1,COLUMNS($E$105:E156)-1),\"\")","v":""},{"$f":"IF(OFFSET(DE100_7!$F$105,ROWS($F$105:F156)-1,COLUMNS($F$105:F156)-1)<>\"\",OFFSET(DE100_7!$F$105,ROWS($F$105:F156)-1,COLUMNS($F$105:F156)-1),\"\")","v":""},{"$f":"IF(OFFSET(DE100_7!$G$105,ROWS($G$105:G156)-1,COLUMNS($G$105:G156)-1)<>\"\",OFFSET(DE100_7!$G$105,ROWS($G$105:G156)-1,COLUMNS($G$105:G156)-1),\"\")","v":""},{"$f":"IF(OFFSET(DE100_7!$H$105,ROWS($H$105:H156)-1,COLUMNS($H$105:H156)-1)<>\"\",OFFSET(DE100_7!$H$105,ROWS($H$105:H156)-1,COLUMNS($H$105:H156)-1),\"\")","v":""},{"$f":"IF(OFFSET(DE100_7!$I$105,ROWS($I$105:I156)-1,COLUMNS($I$105:I156)-1)<>\"\",OFFSET(DE100_7!$I$105,ROWS($I$105:I156)-1,COLUMNS($I$105:I156)-1),\"\")","v":""},{"$f":"IF(OFFSET(DE100_7!$J$105,ROWS($J$105:J156)-1,COLUMNS($J$105:J156)-1)<>\"\",OFFSET(DE100_7!$J$105,ROWS($J$105:J156)-1,COLUMNS($J$105:J156)-1),\"\")","v":""},{"$f":"IF(OFFSET(DE100_7!$K$105,ROWS($K$105:K156)-1,COLUMNS($K$105:K156)-1)<>\"\",OFFSET(DE100_7!$K$105,ROWS($K$105:K156)-1,COLUMNS($K$105:K156)-1),\"\")","v":""},{"$f":"IF(OFFSET(DE100_7!$L$105,ROWS($L$105:L156)-1,COLUMNS($L$105:L156)-1)<>\"\",OFFSET(DE100_7!$L$105,ROWS($L$105:L156)-1,COLUMNS($L$105:L156)-1),\"\")","v":""},{"$f":"IF(OFFSET(DE100_7!$M$105,ROWS($M$105:M156)-1,COLUMNS($M$105:M156)-1)<>\"\",OFFSET(DE100_7!$M$105,ROWS($M$105:M156)-1,COLUMNS($M$105:M156)-1),\"\")","v":""},{"$f":"IF(OFFSET(DE100_7!$N$105,ROWS($N$105:N156)-1,COLUMNS($N$105:N156)-1)<>\"\",OFFSET(DE100_7!$N$105,ROWS($N$105:N156)-1,COLUMNS($N$105:N156)-1),\"\")","v":""},{"$f":"IF(OFFSET(DE100_7!$O$105,ROWS($O$105:O156)-1,COLUMNS($O$105:O156)-1)<>\"\",OFFSET(DE100_7!$O$105,ROWS($O$105:O156)-1,COLUMNS($O$105:O156)-1),\"\")","v":""},{"$f":"IF(OFFSET(DE100_7!$P$105,ROWS($P$105:P156)-1,COLUMNS($P$105:P156)-1)<>\"\",OFFSET(DE100_7!$P$105,ROWS($P$105:P156)-1,COLUMNS($P$105:P156)-1),\"\")","v":""},{"$f":"IF(OFFSET(DE100_7!$Q$105,ROWS($Q$105:Q156)-1,COLUMNS($Q$105:Q156)-1)<>\"\",OFFSET(DE100_7!$Q$105,ROWS($Q$105:Q156)-1,COLUMNS($Q$105:Q156)-1),\"\")","v":""},{"$f":"IF(OFFSET(DE100_7!$R$105,ROWS($R$105:R156)-1,COLUMNS($R$105:R156)-1)<>\"\",OFFSET(DE100_7!$R$105,ROWS($R$105:R156)-1,COLUMNS($R$105:R156)-1),\"\")","v":""},{"$f":"IF(OFFSET(DE100_7!$S$105,ROWS($S$105:S156)-1,COLUMNS($S$105:S156)-1)<>\"\",OFFSET(DE100_7!$S$105,ROWS($S$105:S156)-1,COLUMNS($S$105:S156)-1),\"\")","v":""},{"$f":"IF(OFFSET(DE100_7!$T$105,ROWS($T$105:T156)-1,COLUMNS($T$105:T156)-1)<>\"\",OFFSET(DE100_7!$T$105,ROWS($T$105:T156)-1,COLUMNS($T$105:T156)-1),\"\")","v":""},{"$f":"IF(OFFSET(DE100_7!$U$105,ROWS($U$105:U156)-1,COLUMNS($U$105:U156)-1)<>\"\",OFFSET(DE100_7!$U$105,ROWS($U$105:U156)-1,COLUMNS($U$105:U156)-1),\"\")","v":""},{"$f":"IF(OFFSET(DE100_7!$V$105,ROWS($V$105:V156)-1,COLUMNS($V$105:V156)-1)<>\"\",OFFSET(DE100_7!$V$105,ROWS($V$105:V156)-1,COLUMNS($V$105:V156)-1),\"\")","v":""}]
[{"$f":"IF(OFFSET(DE100_7!$C$105,ROWS($C$105:C157)-1,COLUMNS($C$105:C157)-1)<>\"\",OFFSET(DE100_7!$C$105,ROWS($C$105:C157)-1,COLUMNS($C$105:C157)-1),\"\")","v":""},{"$f":"IF(OFFSET(DE100_7!$D$105,ROWS($D$105:D157)-1,COLUMNS($D$105:D157)-1)<>\"\",OFFSET(DE100_7!$D$105,ROWS($D$105:D157)-1,COLUMNS($D$105:D157)-1),\"\")","v":""},{"$f":"IF(OFFSET(DE100_7!$E$105,ROWS($E$105:E157)-1,COLUMNS($E$105:E157)-1)<>\"\",OFFSET(DE100_7!$E$105,ROWS($E$105:E157)-1,COLUMNS($E$105:E157)-1),\"\")","v":""},{"$f":"IF(OFFSET(DE100_7!$F$105,ROWS($F$105:F157)-1,COLUMNS($F$105:F157)-1)<>\"\",OFFSET(DE100_7!$F$105,ROWS($F$105:F157)-1,COLUMNS($F$105:F157)-1),\"\")","v":""},{"$f":"IF(OFFSET(DE100_7!$G$105,ROWS($G$105:G157)-1,COLUMNS($G$105:G157)-1)<>\"\",OFFSET(DE100_7!$G$105,ROWS($G$105:G157)-1,COLUMNS($G$105:G157)-1),\"\")","v":""},{"$f":"IF(OFFSET(DE100_7!$H$105,ROWS($H$105:H157)-1,COLUMNS($H$105:H157)-1)<>\"\",OFFSET(DE100_7!$H$105,ROWS($H$105:H157)-1,COLUMNS($H$105:H157)-1),\"\")","v":""},{"$f":"IF(OFFSET(DE100_7!$I$105,ROWS($I$105:I157)-1,COLUMNS($I$105:I157)-1)<>\"\",OFFSET(DE100_7!$I$105,ROWS($I$105:I157)-1,COLUMNS($I$105:I157)-1),\"\")","v":""},{"$f":"IF(OFFSET(DE100_7!$J$105,ROWS($J$105:J157)-1,COLUMNS($J$105:J157)-1)<>\"\",OFFSET(DE100_7!$J$105,ROWS($J$105:J157)-1,COLUMNS($J$105:J157)-1),\"\")","v":""},{"$f":"IF(OFFSET(DE100_7!$K$105,ROWS($K$105:K157)-1,COLUMNS($K$105:K157)-1)<>\"\",OFFSET(DE100_7!$K$105,ROWS($K$105:K157)-1,COLUMNS($K$105:K157)-1),\"\")","v":""},{"$f":"IF(OFFSET(DE100_7!$L$105,ROWS($L$105:L157)-1,COLUMNS($L$105:L157)-1)<>\"\",OFFSET(DE100_7!$L$105,ROWS($L$105:L157)-1,COLUMNS($L$105:L157)-1),\"\")","v":""},{"$f":"IF(OFFSET(DE100_7!$M$105,ROWS($M$105:M157)-1,COLUMNS($M$105:M157)-1)<>\"\",OFFSET(DE100_7!$M$105,ROWS($M$105:M157)-1,COLUMNS($M$105:M157)-1),\"\")","v":""},{"$f":"IF(OFFSET(DE100_7!$N$105,ROWS($N$105:N157)-1,COLUMNS($N$105:N157)-1)<>\"\",OFFSET(DE100_7!$N$105,ROWS($N$105:N157)-1,COLUMNS($N$105:N157)-1),\"\")","v":""},{"$f":"IF(OFFSET(DE100_7!$O$105,ROWS($O$105:O157)-1,COLUMNS($O$105:O157)-1)<>\"\",OFFSET(DE100_7!$O$105,ROWS($O$105:O157)-1,COLUMNS($O$105:O157)-1),\"\")","v":""},{"$f":"IF(OFFSET(DE100_7!$P$105,ROWS($P$105:P157)-1,COLUMNS($P$105:P157)-1)<>\"\",OFFSET(DE100_7!$P$105,ROWS($P$105:P157)-1,COLUMNS($P$105:P157)-1),\"\")","v":""},{"$f":"IF(OFFSET(DE100_7!$Q$105,ROWS($Q$105:Q157)-1,COLUMNS($Q$105:Q157)-1)<>\"\",OFFSET(DE100_7!$Q$105,ROWS($Q$105:Q157)-1,COLUMNS($Q$105:Q157)-1),\"\")","v":""},{"$f":"IF(OFFSET(DE100_7!$R$105,ROWS($R$105:R157)-1,COLUMNS($R$105:R157)-1)<>\"\",OFFSET(DE100_7!$R$105,ROWS($R$105:R157)-1,COLUMNS($R$105:R157)-1),\"\")","v":""},{"$f":"IF(OFFSET(DE100_7!$S$105,ROWS($S$105:S157)-1,COLUMNS($S$105:S157)-1)<>\"\",OFFSET(DE100_7!$S$105,ROWS($S$105:S157)-1,COLUMNS($S$105:S157)-1),\"\")","v":""},{"$f":"IF(OFFSET(DE100_7!$T$105,ROWS($T$105:T157)-1,COLUMNS($T$105:T157)-1)<>\"\",OFFSET(DE100_7!$T$105,ROWS($T$105:T157)-1,COLUMNS($T$105:T157)-1),\"\")","v":""},{"$f":"IF(OFFSET(DE100_7!$U$105,ROWS($U$105:U157)-1,COLUMNS($U$105:U157)-1)<>\"\",OFFSET(DE100_7!$U$105,ROWS($U$105:U157)-1,COLUMNS($U$105:U157)-1),\"\")","v":""},{"$f":"IF(OFFSET(DE100_7!$V$105,ROWS($V$105:V157)-1,COLUMNS($V$105:V157)-1)<>\"\",OFFSET(DE100_7!$V$105,ROWS($V$105:V157)-1,COLUMNS($V$105:V157)-1),\"\")","v":""}]
[{"$f":"IF(OFFSET(DE100_7!$C$105,ROWS($C$105:C158)-1,COLUMNS($C$105:C158)-1)<>\"\",OFFSET(DE100_7!$C$105,ROWS($C$105:C158)-1,COLUMNS($C$105:C158)-1),\"\")","v":""},{"$f":"IF(OFFSET(DE100_7!$D$105,ROWS($D$105:D158)-1,COLUMNS($D$105:D158)-1)<>\"\",OFFSET(DE100_7!$D$105,ROWS($D$105:D158)-1,COLUMNS($D$105:D158)-1),\"\")","v":""},{"$f":"IF(OFFSET(DE100_7!$E$105,ROWS($E$105:E158)-1,COLUMNS($E$105:E158)-1)<>\"\",OFFSET(DE100_7!$E$105,ROWS($E$105:E158)-1,COLUMNS($E$105:E158)-1),\"\")","v":""},{"$f":"IF(OFFSET(DE100_7!$F$105,ROWS($F$105:F158)-1,COLUMNS($F$105:F158)-1)<>\"\",OFFSET(DE100_7!$F$105,ROWS($F$105:F158)-1,COLUMNS($F$105:F158)-1),\"\")","v":""},{"$f":"IF(OFFSET(DE100_7!$G$105,ROWS($G$105:G158)-1,COLUMNS($G$105:G158)-1)<>\"\",OFFSET(DE100_7!$G$105,ROWS($G$105:G158)-1,COLUMNS($G$105:G158)-1),\"\")","v":""},{"$f":"IF(OFFSET(DE100_7!$H$105,ROWS($H$105:H158)-1,COLUMNS($H$105:H158)-1)<>\"\",OFFSET(DE100_7!$H$105,ROWS($H$105:H158)-1,COLUMNS($H$105:H158)-1),\"\")","v":""},{"$f":"IF(OFFSET(DE100_7!$I$105,ROWS($I$105:I158)-1,COLUMNS($I$105:I158)-1)<>\"\",OFFSET(DE100_7!$I$105,ROWS($I$105:I158)-1,COLUMNS($I$105:I158)-1),\"\")","v":""},{"$f":"IF(OFFSET(DE100_7!$J$105,ROWS($J$105:J158)-1,COLUMNS($J$105:J158)-1)<>\"\",OFFSET(DE100_7!$J$105,ROWS($J$105:J158)-1,COLUMNS($J$105:J158)-1),\"\")","v":""},{"$f":"IF(OFFSET(DE100_7!$K$105,ROWS($K$105:K158)-1,COLUMNS($K$105:K158)-1)<>\"\",OFFSET(DE100_7!$K$105,ROWS($K$105:K158)-1,COLUMNS($K$105:K158)-1),\"\")","v":""},{"$f":"IF(OFFSET(DE100_7!$L$105,ROWS($L$105:L158)-1,COLUMNS($L$105:L158)-1)<>\"\",OFFSET(DE100_7!$L$105,ROWS($L$105:L158)-1,COLUMNS($L$105:L158)-1),\"\")","v":""},{"$f":"IF(OFFSET(DE100_7!$M$105,ROWS($M$105:M158)-1,COLUMNS($M$105:M158)-1)<>\"\",OFFSET(DE100_7!$M$105,ROWS($M$105:M158)-1,COLUMNS($M$105:M158)-1),\"\")","v":""},{"$f":"IF(OFFSET(DE100_7!$N$105,ROWS($N$105:N158)-1,COLUMNS($N$105:N158)-1)<>\"\",OFFSET(DE100_7!$N$105,ROWS($N$105:N158)-1,COLUMNS($N$105:N158)-1),\"\")","v":""},{"$f":"IF(OFFSET(DE100_7!$O$105,ROWS($O$105:O158)-1,COLUMNS($O$105:O158)-1)<>\"\",OFFSET(DE100_7!$O$105,ROWS($O$105:O158)-1,COLUMNS($O$105:O158)-1),\"\")","v":""},{"$f":"IF(OFFSET(DE100_7!$P$105,ROWS($P$105:P158)-1,COLUMNS($P$105:P158)-1)<>\"\",OFFSET(DE100_7!$P$105,ROWS($P$105:P158)-1,COLUMNS($P$105:P158)-1),\"\")","v":""},{"$f":"IF(OFFSET(DE100_7!$Q$105,ROWS($Q$105:Q158)-1,COLUMNS($Q$105:Q158)-1)<>\"\",OFFSET(DE100_7!$Q$105,ROWS($Q$105:Q158)-1,COLUMNS($Q$105:Q158)-1),\"\")","v":""},{"$f":"IF(OFFSET(DE100_7!$R$105,ROWS($R$105:R158)-1,COLUMNS($R$105:R158)-1)<>\"\",OFFSET(DE100_7!$R$105,ROWS($R$105:R158)-1,COLUMNS($R$105:R158)-1),\"\")","v":""},{"$f":"IF(OFFSET(DE100_7!$S$105,ROWS($S$105:S158)-1,COLUMNS($S$105:S158)-1)<>\"\",OFFSET(DE100_7!$S$105,ROWS($S$105:S158)-1,COLUMNS($S$105:S158)-1),\"\")","v":""},{"$f":"IF(OFFSET(DE100_7!$T$105,ROWS($T$105:T158)-1,COLUMNS($T$105:T158)-1)<>\"\",OFFSET(DE100_7!$T$105,ROWS($T$105:T158)-1,COLUMNS($T$105:T158)-1),\"\")","v":""},{"$f":"IF(OFFSET(DE100_7!$U$105,ROWS($U$105:U158)-1,COLUMNS($U$105:U158)-1)<>\"\",OFFSET(DE100_7!$U$105,ROWS($U$105:U158)-1,COLUMNS($U$105:U158)-1),\"\")","v":""},{"$f":"IF(OFFSET(DE100_7!$V$105,ROWS($V$105:V158)-1,COLUMNS($V$105:V158)-1)<>\"\",OFFSET(DE100_7!$V$105,ROWS($V$105:V158)-1,COLUMNS($V$105:V158)-1),\"\")","v":""}]
[{"$f":"IF(OFFSET(DE100_7!$C$105,ROWS($C$105:C159)-1,COLUMNS($C$105:C159)-1)<>\"\",OFFSET(DE100_7!$C$105,ROWS($C$105:C159)-1,COLUMNS($C$105:C159)-1),\"\")","v":""},{"$f":"IF(OFFSET(DE100_7!$D$105,ROWS($D$105:D159)-1,COLUMNS($D$105:D159)-1)<>\"\",OFFSET(DE100_7!$D$105,ROWS($D$105:D159)-1,COLUMNS($D$105:D159)-1),\"\")","v":""},{"$f":"IF(OFFSET(DE100_7!$E$105,ROWS($E$105:E159)-1,COLUMNS($E$105:E159)-1)<>\"\",OFFSET(DE100_7!$E$105,ROWS($E$105:E159)-1,COLUMNS($E$105:E159)-1),\"\")","v":""},{"$f":"IF(OFFSET(DE100_7!$F$105,ROWS($F$105:F159)-1,COLUMNS($F$105:F159)-1)<>\"\",OFFSET(DE100_7!$F$105,ROWS($F$105:F159)-1,COLUMNS($F$105:F159)-1),\"\")","v":""},{"$f":"IF(OFFSET(DE100_7!$G$105,ROWS($G$105:G159)-1,COLUMNS($G$105:G159)-1)<>\"\",OFFSET(DE100_7!$G$105,ROWS($G$105:G159)-1,COLUMNS($G$105:G159)-1),\"\")","v":""},{"$f":"IF(OFFSET(DE100_7!$H$105,ROWS($H$105:H159)-1,COLUMNS($H$105:H159)-1)<>\"\",OFFSET(DE100_7!$H$105,ROWS($H$105:H159)-1,COLUMNS($H$105:H159)-1),\"\")","v":""},{"$f":"IF(OFFSET(DE100_7!$I$105,ROWS($I$105:I159)-1,COLUMNS($I$105:I159)-1)<>\"\",OFFSET(DE100_7!$I$105,ROWS($I$105:I159)-1,COLUMNS($I$105:I159)-1),\"\")","v":""},{"$f":"IF(OFFSET(DE100_7!$J$105,ROWS($J$105:J159)-1,COLUMNS($J$105:J159)-1)<>\"\",OFFSET(DE100_7!$J$105,ROWS($J$105:J159)-1,COLUMNS($J$105:J159)-1),\"\")","v":""},{"$f":"IF(OFFSET(DE100_7!$K$105,ROWS($K$105:K159)-1,COLUMNS($K$105:K159)-1)<>\"\",OFFSET(DE100_7!$K$105,ROWS($K$105:K159)-1,COLUMNS($K$105:K159)-1),\"\")","v":""},{"$f":"IF(OFFSET(DE100_7!$L$105,ROWS($L$105:L159)-1,COLUMNS($L$105:L159)-1)<>\"\",OFFSET(DE100_7!$L$105,ROWS($L$105:L159)-1,COLUMNS($L$105:L159)-1),\"\")","v":""},{"$f":"IF(OFFSET(DE100_7!$M$105,ROWS($M$105:M159)-1,COLUMNS($M$105:M159)-1)<>\"\",OFFSET(DE100_7!$M$105,ROWS($M$105:M159)-1,COLUMNS($M$105:M159)-1),\"\")","v":""},{"$f":"IF(OFFSET(DE100_7!$N$105,ROWS($N$105:N159)-1,COLUMNS($N$105:N159)-1)<>\"\",OFFSET(DE100_7!$N$105,ROWS($N$105:N159)-1,COLUMNS($N$105:N159)-1),\"\")","v":""},{"$f":"IF(OFFSET(DE100_7!$O$105,ROWS($O$105:O159)-1,COLUMNS($O$105:O159)-1)<>\"\",OFFSET(DE100_7!$O$105,ROWS($O$105:O159)-1,COLUMNS($O$105:O159)-1),\"\")","v":""},{"$f":"IF(OFFSET(DE100_7!$P$105,ROWS($P$105:P159)-1,COLUMNS($P$105:P159)-1)<>\"\",OFFSET(DE100_7!$P$105,ROWS($P$105:P159)-1,COLUMNS($P$105:P159)-1),\"\")","v":""},{"$f":"IF(OFFSET(DE100_7!$Q$105,ROWS($Q$105:Q159)-1,COLUMNS($Q$105:Q159)-1)<>\"\",OFFSET(DE100_7!$Q$105,ROWS($Q$105:Q159)-1,COLUMNS($Q$105:Q159)-1),\"\")","v":""},{"$f":"IF(OFFSET(DE100_7!$R$105,ROWS($R$105:R159)-1,COLUMNS($R$105:R159)-1)<>\"\",OFFSET(DE100_7!$R$105,ROWS($R$105:R159)-1,COLUMNS($R$105:R159)-1),\"\")","v":""},{"$f":"IF(OFFSET(DE100_7!$S$105,ROWS($S$105:S159)-1,COLUMNS($S$105:S159)-1)<>\"\",OFFSET(DE100_7!$S$105,ROWS($S$105:S159)-1,COLUMNS($S$105:S159)-1),\"\")","v":""},{"$f":"IF(OFFSET(DE100_7!$T$105,ROWS($T$105:T159)-1,COLUMNS($T$105:T159)-1)<>\"\",OFFSET(DE100_7!$T$105,ROWS($T$105:T159)-1,COLUMNS($T$105:T159)-1),\"\")","v":""},{"$f":"IF(OFFSET(DE100_7!$U$105,ROWS($U$105:U159)-1,COLUMNS($U$105:U159)-1)<>\"\",OFFSET(DE100_7!$U$105,ROWS($U$105:U159)-1,COLUMNS($U$105:U159)-1),\"\")","v":""},{"$f":"IF(OFFSET(DE100_7!$V$105,ROWS($V$105:V159)-1,COLUMNS($V$105:V159)-1)<>\"\",OFFSET(DE100_7!$V$105,ROWS($V$105:V159)-1,COLUMNS($V$105:V159)-1),\"\")","v":""}]
[{"$f":"IF(OFFSET(DE100_7!$C$105,ROWS($C$105:C160)-1,COLUMNS($C$105:C160)-1)<>\"\",OFFSET(DE100_7!$C$105,ROWS($C$105:C160)-1,COLUMNS($C$105:C160)-1),\"\")","v":""},{"$f":"IF(OFFSET(DE100_7!$D$105,ROWS($D$105:D160)-1,COLUMNS($D$105:D160)-1)<>\"\",OFFSET(DE100_7!$D$105,ROWS($D$105:D160)-1,COLUMNS($D$105:D160)-1),\"\")","v":""},{"$f":"IF(OFFSET(DE100_7!$E$105,ROWS($E$105:E160)-1,COLUMNS($E$105:E160)-1)<>\"\",OFFSET(DE100_7!$E$105,ROWS($E$105:E160)-1,COLUMNS($E$105:E160)-1),\"\")","v":""},{"$f":"IF(OFFSET(DE100_7!$F$105,ROWS($F$105:F160)-1,COLUMNS($F$105:F160)-1)<>\"\",OFFSET(DE100_7!$F$105,ROWS($F$105:F160)-1,COLUMNS($F$105:F160)-1),\"\")","v":""},{"$f":"IF(OFFSET(DE100_7!$G$105,ROWS($G$105:G160)-1,COLUMNS($G$105:G160)-1)<>\"\",OFFSET(DE100_7!$G$105,ROWS($G$105:G160)-1,COLUMNS($G$105:G160)-1),\"\")","v":""},{"$f":"IF(OFFSET(DE100_7!$H$105,ROWS($H$105:H160)-1,COLUMNS($H$105:H160)-1)<>\"\",OFFSET(DE100_7!$H$105,ROWS($H$105:H160)-1,COLUMNS($H$105:H160)-1),\"\")","v":""},{"$f":"IF(OFFSET(DE100_7!$I$105,ROWS($I$105:I160)-1,COLUMNS($I$105:I160)-1)<>\"\",OFFSET(DE100_7!$I$105,ROWS($I$105:I160)-1,COLUMNS($I$105:I160)-1),\"\")","v":""},{"$f":"IF(OFFSET(DE100_7!$J$105,ROWS($J$105:J160)-1,COLUMNS($J$105:J160)-1)<>\"\",OFFSET(DE100_7!$J$105,ROWS($J$105:J160)-1,COLUMNS($J$105:J160)-1),\"\")","v":""},{"$f":"IF(OFFSET(DE100_7!$K$105,ROWS($K$105:K160)-1,COLUMNS($K$105:K160)-1)<>\"\",OFFSET(DE100_7!$K$105,ROWS($K$105:K160)-1,COLUMNS($K$105:K160)-1),\"\")","v":""},{"$f":"IF(OFFSET(DE100_7!$L$105,ROWS($L$105:L160)-1,COLUMNS($L$105:L160)-1)<>\"\",OFFSET(DE100_7!$L$105,ROWS($L$105:L160)-1,COLUMNS($L$105:L160)-1),\"\")","v":""},{"$f":"IF(OFFSET(DE100_7!$M$105,ROWS($M$105:M160)-1,COLUMNS($M$105:M160)-1)<>\"\",OFFSET(DE100_7!$M$105,ROWS($M$105:M160)-1,COLUMNS($M$105:M160)-1),\"\")","v":""},{"$f":"IF(OFFSET(DE100_7!$N$105,ROWS($N$105:N160)-1,COLUMNS($N$105:N160)-1)<>\"\",OFFSET(DE100_7!$N$105,ROWS($N$105:N160)-1,COLUMNS($N$105:N160)-1),\"\")","v":""},{"$f":"IF(OFFSET(DE100_7!$O$105,ROWS($O$105:O160)-1,COLUMNS($O$105:O160)-1)<>\"\",OFFSET(DE100_7!$O$105,ROWS($O$105:O160)-1,COLUMNS($O$105:O160)-1),\"\")","v":""},{"$f":"IF(OFFSET(DE100_7!$P$105,ROWS($P$105:P160)-1,COLUMNS($P$105:P160)-1)<>\"\",OFFSET(DE100_7!$P$105,ROWS($P$105:P160)-1,COLUMNS($P$105:P160)-1),\"\")","v":""},{"$f":"IF(OFFSET(DE100_7!$Q$105,ROWS($Q$105:Q160)-1,COLUMNS($Q$105:Q160)-1)<>\"\",OFFSET(DE100_7!$Q$105,ROWS($Q$105:Q160)-1,COLUMNS($Q$105:Q160)-1),\"\")","v":""},{"$f":"IF(OFFSET(DE100_7!$R$105,ROWS($R$105:R160)-1,COLUMNS($R$105:R160)-1)<>\"\",OFFSET(DE100_7!$R$105,ROWS($R$105:R160)-1,COLUMNS($R$105:R160)-1),\"\")","v":""},{"$f":"IF(OFFSET(DE100_7!$S$105,ROWS($S$105:S160)-1,COLUMNS($S$105:S160)-1)<>\"\",OFFSET(DE100_7!$S$105,ROWS($S$105:S160)-1,COLUMNS($S$105:S160)-1),\"\")","v":""},{"$f":"IF(OFFSET(DE100_7!$T$105,ROWS($T$105:T160)-1,COLUMNS($T$105:T160)-1)<>\"\",OFFSET(DE100_7!$T$105,ROWS($T$105:T160)-1,COLUMNS($T$105:T160)-1),\"\")","v":""},{"$f":"IF(OFFSET(DE100_7!$U$105,ROWS($U$105:U160)-1,COLUMNS($U$105:U160)-1)<>\"\",OFFSET(DE100_7!$U$105,ROWS($U$105:U160)-1,COLUMNS($U$105:U160)-1),\"\")","v":""},{"$f":"IF(OFFSET(DE100_7!$V$105,ROWS($V$105:V160)-1,COLUMNS($V$105:V160)-1)<>\"\",OFFSET(DE100_7!$V$105,ROWS($V$105:V160)-1,COLUMNS($V$105:V160)-1),\"\")","v":""}]
[{"$f":"IF(OFFSET(DE100_7!$C$105,ROWS($C$105:C161)-1,COLUMNS($C$105:C161)-1)<>\"\",OFFSET(DE100_7!$C$105,ROWS($C$105:C161)-1,COLUMNS($C$105:C161)-1),\"\")","v":""},{"$f":"IF(OFFSET(DE100_7!$D$105,ROWS($D$105:D161)-1,COLUMNS($D$105:D161)-1)<>\"\",OFFSET(DE100_7!$D$105,ROWS($D$105:D161)-1,COLUMNS($D$105:D161)-1),\"\")","v":""},{"$f":"IF(OFFSET(DE100_7!$E$105,ROWS($E$105:E161)-1,COLUMNS($E$105:E161)-1)<>\"\",OFFSET(DE100_7!$E$105,ROWS($E$105:E161)-1,COLUMNS($E$105:E161)-1),\"\")","v":""},{"$f":"IF(OFFSET(DE100_7!$F$105,ROWS($F$105:F161)-1,COLUMNS($F$105:F161)-1)<>\"\",OFFSET(DE100_7!$F$105,ROWS($F$105:F161)-1,COLUMNS($F$105:F161)-1),\"\")","v":""},{"$f":"IF(OFFSET(DE100_7!$G$105,ROWS($G$105:G161)-1,COLUMNS($G$105:G161)-1)<>\"\",OFFSET(DE100_7!$G$105,ROWS($G$105:G161)-1,COLUMNS($G$105:G161)-1),\"\")","v":""},{"$f":"IF(OFFSET(DE100_7!$H$105,ROWS($H$105:H161)-1,COLUMNS($H$105:H161)-1)<>\"\",OFFSET(DE100_7!$H$105,ROWS($H$105:H161)-1,COLUMNS($H$105:H161)-1),\"\")","v":""},{"$f":"IF(OFFSET(DE100_7!$I$105,ROWS($I$105:I161)-1,COLUMNS($I$105:I161)-1)<>\"\",OFFSET(DE100_7!$I$105,ROWS($I$105:I161)-1,COLUMNS($I$105:I161)-1),\"\")","v":""},{"$f":"IF(OFFSET(DE100_7!$J$105,ROWS($J$105:J161)-1,COLUMNS($J$105:J161)-1)<>\"\",OFFSET(DE100_7!$J$105,ROWS($J$105:J161)-1,COLUMNS($J$105:J161)-1),\"\")","v":""},{"$f":"IF(OFFSET(DE100_7!$K$105,ROWS($K$105:K161)-1,COLUMNS($K$105:K161)-1)<>\"\",OFFSET(DE100_7!$K$105,ROWS($K$105:K161)-1,COLUMNS($K$105:K161)-1),\"\")","v":""},{"$f":"IF(OFFSET(DE100_7!$L$105,ROWS($L$105:L161)-1,COLUMNS($L$105:L161)-1)<>\"\",OFFSET(DE100_7!$L$105,ROWS($L$105:L161)-1,COLUMNS($L$105:L161)-1),\"\")","v":""},{"$f":"IF(OFFSET(DE100_7!$M$105,ROWS($M$105:M161)-1,COLUMNS($M$105:M161)-1)<>\"\",OFFSET(DE100_7!$M$105,ROWS($M$105:M161)-1,COLUMNS($M$105:M161)-1),\"\")","v":""},{"$f":"IF(OFFSET(DE100_7!$N$105,ROWS($N$105:N161)-1,COLUMNS($N$105:N161)-1)<>\"\",OFFSET(DE100_7!$N$105,ROWS($N$105:N161)-1,COLUMNS($N$105:N161)-1),\"\")","v":""},{"$f":"IF(OFFSET(DE100_7!$O$105,ROWS($O$105:O161)-1,COLUMNS($O$105:O161)-1)<>\"\",OFFSET(DE100_7!$O$105,ROWS($O$105:O161)-1,COLUMNS($O$105:O161)-1),\"\")","v":""},{"$f":"IF(OFFSET(DE100_7!$P$105,ROWS($P$105:P161)-1,COLUMNS($P$105:P161)-1)<>\"\",OFFSET(DE100_7!$P$105,ROWS($P$105:P161)-1,COLUMNS($P$105:P161)-1),\"\")","v":""},{"$f":"IF(OFFSET(DE100_7!$Q$105,ROWS($Q$105:Q161)-1,COLUMNS($Q$105:Q161)-1)<>\"\",OFFSET(DE100_7!$Q$105,ROWS($Q$105:Q161)-1,COLUMNS($Q$105:Q161)-1),\"\")","v":""},{"$f":"IF(OFFSET(DE100_7!$R$105,ROWS($R$105:R161)-1,COLUMNS($R$105:R161)-1)<>\"\",OFFSET(DE100_7!$R$105,ROWS($R$105:R161)-1,COLUMNS($R$105:R161)-1),\"\")","v":""},{"$f":"IF(OFFSET(DE100_7!$S$105,ROWS($S$105:S161)-1,COLUMNS($S$105:S161)-1)<>\"\",OFFSET(DE100_7!$S$105,ROWS($S$105:S161)-1,COLUMNS($S$105:S161)-1),\"\")","v":""},{"$f":"IF(OFFSET(DE100_7!$T$105,ROWS($T$105:T161)-1,COLUMNS($T$105:T161)-1)<>\"\",OFFSET(DE100_7!$T$105,ROWS($T$105:T161)-1,COLUMNS($T$105:T161)-1),\"\")","v":""},{"$f":"IF(OFFSET(DE100_7!$U$105,ROWS($U$105:U161)-1,COLUMNS($U$105:U161)-1)<>\"\",OFFSET(DE100_7!$U$105,ROWS($U$105:U161)-1,COLUMNS($U$105:U161)-1),\"\")","v":""},{"$f":"IF(OFFSET(DE100_7!$V$105,ROWS($V$105:V161)-1,COLUMNS($V$105:V161)-1)<>\"\",OFFSET(DE100_7!$V$105,ROWS($V$105:V161)-1,COLUMNS($V$105:V161)-1),\"\")","v":""}]
[{"$f":"IF(OFFSET(DE100_7!$C$105,ROWS($C$105:C162)-1,COLUMNS($C$105:C162)-1)<>\"\",OFFSET(DE100_7!$C$105,ROWS($C$105:C162)-1,COLUMNS($C$105:C162)-1),\"\")","v":""},{"$f":"IF(OFFSET(DE100_7!$D$105,ROWS($D$105:D162)-1,COLUMNS($D$105:D162)-1)<>\"\",OFFSET(DE100_7!$D$105,ROWS($D$105:D162)-1,COLUMNS($D$105:D162)-1),\"\")","v":""},{"$f":"IF(OFFSET(DE100_7!$E$105,ROWS($E$105:E162)-1,COLUMNS($E$105:E162)-1)<>\"\",OFFSET(DE100_7!$E$105,ROWS($E$105:E162)-1,COLUMNS($E$105:E162)-1),\"\")","v":""},{"$f":"IF(OFFSET(DE100_7!$F$105,ROWS($F$105:F162)-1,COLUMNS($F$105:F162)-1)<>\"\",OFFSET(DE100_7!$F$105,ROWS($F$105:F162)-1,COLUMNS($F$105:F162)-1),\"\")","v":""},{"$f":"IF(OFFSET(DE100_7!$G$105,ROWS($G$105:G162)-1,COLUMNS($G$105:G162)-1)<>\"\",OFFSET(DE100_7!$G$105,ROWS($G$105:G162)-1,COLUMNS($G$105:G162)-1),\"\")","v":""},{"$f":"IF(OFFSET(DE100_7!$H$105,ROWS($H$105:H162)-1,COLUMNS($H$105:H162)-1)<>\"\",OFFSET(DE100_7!$H$105,ROWS($H$105:H162)-1,COLUMNS($H$105:H162)-1),\"\")","v":""},{"$f":"IF(OFFSET(DE100_7!$I$105,ROWS($I$105:I162)-1,COLUMNS($I$105:I162)-1)<>\"\",OFFSET(DE100_7!$I$105,ROWS($I$105:I162)-1,COLUMNS($I$105:I162)-1),\"\")","v":""},{"$f":"IF(OFFSET(DE100_7!$J$105,ROWS($J$105:J162)-1,COLUMNS($J$105:J162)-1)<>\"\",OFFSET(DE100_7!$J$105,ROWS($J$105:J162)-1,COLUMNS($J$105:J162)-1),\"\")","v":""},{"$f":"IF(OFFSET(DE100_7!$K$105,ROWS($K$105:K162)-1,COLUMNS($K$105:K162)-1)<>\"\",OFFSET(DE100_7!$K$105,ROWS($K$105:K162)-1,COLUMNS($K$105:K162)-1),\"\")","v":""},{"$f":"IF(OFFSET(DE100_7!$L$105,ROWS($L$105:L162)-1,COLUMNS($L$105:L162)-1)<>\"\",OFFSET(DE100_7!$L$105,ROWS($L$105:L162)-1,COLUMNS($L$105:L162)-1),\"\")","v":""},{"$f":"IF(OFFSET(DE100_7!$M$105,ROWS($M$105:M162)-1,COLUMNS($M$105:M162)-1)<>\"\",OFFSET(DE100_7!$M$105,ROWS($M$105:M162)-1,COLUMNS($M$105:M162)-1),\"\")","v":""},{"$f":"IF(OFFSET(DE100_7!$N$105,ROWS($N$105:N162)-1,COLUMNS($N$105:N162)-1)<>\"\",OFFSET(DE100_7!$N$105,ROWS($N$105:N162)-1,COLUMNS($N$105:N162)-1),\"\")","v":""},{"$f":"IF(OFFSET(DE100_7!$O$105,ROWS($O$105:O162)-1,COLUMNS($O$105:O162)-1)<>\"\",OFFSET(DE100_7!$O$105,ROWS($O$105:O162)-1,COLUMNS($O$105:O162)-1),\"\")","v":""},{"$f":"IF(OFFSET(DE100_7!$P$105,ROWS($P$105:P162)-1,COLUMNS($P$105:P162)-1)<>\"\",OFFSET(DE100_7!$P$105,ROWS($P$105:P162)-1,COLUMNS($P$105:P162)-1),\"\")","v":""},{"$f":"IF(OFFSET(DE100_7!$Q$105,ROWS($Q$105:Q162)-1,COLUMNS($Q$105:Q162)-1)<>\"\",OFFSET(DE100_7!$Q$105,ROWS($Q$105:Q162)-1,COLUMNS($Q$105:Q162)-1),\"\")","v":""},{"$f":"IF(OFFSET(DE100_7!$R$105,ROWS($R$105:R162)-1,COLUMNS($R$105:R162)-1)<>\"\",OFFSET(DE100_7!$R$105,ROWS($R$105:R162)-1,COLUMNS($R$105:R162)-1),\"\")","v":""},{"$f":"IF(OFFSET(DE100_7!$S$105,ROWS($S$105:S162)-1,COLUMNS($S$105:S162)-1)<>\"\",OFFSET(DE100_7!$S$105,ROWS($S$105:S162)-1,COLUMNS($S$105:S162)-1),\"\")","v":""},{"$f":"IF(OFFSET(DE100_7!$T$105,ROWS($T$105:T162)-1,COLUMNS($T$105:T162)-1)<>\"\",OFFSET(DE100_7!$T$105,ROWS($T$105:T162)-1,COLUMNS($T$105:T162)-1),\"\")","v":""},{"$f":"IF(OFFSET(DE100_7!$U$105,ROWS($U$105:U162)-1,COLUMNS($U$105:U162)-1)<>\"\",OFFSET(DE100_7!$U$105,ROWS($U$105:U162)-1,COLUMNS($U$105:U162)-1),\"\")","v":""},{"$f":"IF(OFFSET(DE100_7!$V$105,ROWS($V$105:V162)-1,COLUMNS($V$105:V162)-1)<>\"\",OFFSET(DE100_7!$V$105,ROWS($V$105:V162)-1,COLUMNS($V$105:V162)-1),\"\")","v":""}]

{"sheet":"102_5","index":5,"n_rows":164,"n_cols":22,"rows_kept":164,"cut":false,"hidden":false,"merged":[[94,13,95,14],[94,15,95,16],[94,17,95,19],[94,20,95,20],[94,21,98,21],[96,13,98,13],[96,14,97,14],[96,15,98,15],[96,16,97,16],[96,17,98,17],[96,18,98,18],[96,19,98,19],[96,20,98,20],[94,6,98,6],[94,7,98,7],[94,8,98,8],[94,9,95,10],[94,11,95,12],[96,11,98,11],[96,12,97,12],[96,9,98,9],[96,10,97,10],[10,1,10,2],[6,14,7,14],[6,15,8,15],[96,1,98,1],[96,2,98,2],[96,3,98,3],[96,4,98,4],[96,5,98,5],[64,1,64,2],[90,0,90,21],[91,0,91,21],[92,0,93,21],[94,0,98,0],[94,1,95,5],[6,9,8,9],[6,10,7,10],[6,11,8,11],[6,12,7,12],[6,13,8,13],[4,15,5,16],[4,17,5,19],[4,20,5,20],[4,21,8,21],[6,20,8,20],[6,19,8,19],[6,16,7,16],[6,17,8,17],[6,18,8,18],[0,0,0,21],[1,0,1,21],[2,0,3,21],[4,0,8,0],[4,1,5,5],[4,6,8,6],[4,7,8,7],[4,8,8,8],[4,9,5,10],[4,11,5,12],[6,1,8,1],[6,2,8,2],[6,3,8,3],[6,4,8,4],[6,5,8,5],[4,13,5,14]]}
["102-5"]
["2017-04-18"]
["EXISTING PAVEMENT"]
[]
["No.","Location",null,null,null,null,"Year","Type","Project Number","Surface",null,"Base",null,"Subbase",null,"Removal",null,"Coarse Aggregate",null,null,"Reinforcement","Remarks"]
[]
[null,"County","Route","Dir. of Travel","Begin Ref. Loc. Sign","End Ref. Loc. Sign",null,null,null,"Type","Depth","Type","Depth","Type","Depth","Type","Depth","Source","Type","Durability Class","Type"]
[]
[null,null,null,null,null,null,null,null,null,null,"IN",null,"IN",null,"IN",null,"IN"]
[{"$f":"IF(OFFSET(DE102_5!$C$23,ROWS($C$23:C23)-1,COLUMNS($C$23:C23)-1)<>\"\",OFFSET(DE102_5!$C$23,ROWS($C$23:C23)-1,COLUMNS($C$23:C23)-1),\"\")","v":""},{"$f":"IF(OFFSET(DE102_5!$F$23,ROWS($F$23:F23)-1,COLUMNS($F$23:F23)-1)<>\"\",OFFSET(DE102_5!$F$23,ROWS($F$23:F23)-1,COLUMNS($F$23:F23)-1),\"\")","v":""},{"$f":"IF(OFFSET(DE102_5!$G$23,ROWS($G$23:G23)-1,COLUMNS($G$23:G23)-1)<>\"\",OFFSET(DE102_5!$G$23,ROWS($G$23:G23)-1,COLUMNS($G$23:G23)-1),\"\")","v":""},{"$f":"IF(OFFSET(DE102_5!$H$23,ROWS($H$23:H23)-1,COLUMNS($H$23:H23)-1)<>\"\",OFFSET(DE102_5!$H$23,ROWS($H$23:H23)-1,COLUMNS($H$23:H23)-1),\"\")","v":""},{"$f":"IF(OFFSET(DE102_5!$I$23,ROWS($I$23:I23)-1,COLUMNS($I$23:I23)-1)<>\"\",OFFSET(DE102_5!$I$23,ROWS($I$23:I23)-1,COLUMNS($I$23:I23)-1),\"\")","v":""},{"$f":"IF(OFFSET(DE102_5!$J$23,ROWS($J$23:J23)-1,COLUMNS($J$23:J23)-1)<>\"\",OFFSET(DE102_5!$J$23,ROWS($J$23:J23)-1,COLUMNS($J$23:J23)-1),\"\")","v":""},{"$f":"IF(OFFSET(DE102_5!$M$23,ROWS($M$23:M23)-1,COLUMNS($M$23:M23)-1)<>\"\",OFFSET(DE102_5!$M$23,ROWS($M$23:M23)-1,COLUMNS($M$23:M23)-1),\"\")","v":""},{"$f":"IF(OFFSET(DE102_5!$N$23,ROWS($N$23:N23)-1,COLUMNS($N$23:N23)-1)<>\"\",OFFSET(DE102_5!$N$23,ROWS($N$23:N23)-1,COLUMNS($N$23:N23)-1),\"\")","v":""},{"$f":"IF(OFFSET(DE102_5!$O$23,ROWS($O$23:O23)-1,COLUMNS($O$23:O23)-1)<>\"\",OFFSET(DE102_5!$O$23,ROWS($O$23:O23)-1,COLUMNS($O$23:O23)-1),\"\")","v":""},{"$f":"IF(OFFSET(DE102_5!$P$23,ROWS($P$23:P23)-1,COLUMNS($P$23:P23)-1)<>\"\",OFFSET(DE102_5!$P$23,ROWS($P$23:P23)-1,COLUMNS($P$23:P23)-1),\"\")","v":""},{"$f":"IF(OFFSET(DE102_5!$Q$23,ROWS($Q$23:Q23)-1,COLUMNS($Q$23:Q23)-1)<>\"\",OFFSET(DE102_5!$Q$23,ROWS($Q$23:Q23)-1,COLUMNS($Q$23:Q23)-1),\"\")","v":""},{"$f":"IF(OFFSET(DE102_5!$R$23,ROWS($R$23:R23)-1,COLUMNS($R$23:R23)-1)<>\"\",OFFSET(DE102_5!$R$23,ROWS($R$23:R23)-1,COLUMNS($R$23:R23)-1),\"\")","v":""},{"$f":"IF(OFFSET(DE102_5!$S$23,ROWS($S$23:S23)-1,COLUMNS($S$23:S23)-1)<>\"\",OFFSET(DE102_5!$S$23,ROWS($S$23:S23)-1,COLUMNS($S$23:S23)-1),\"\")","v":""},{"$f":"IF(OFFSET(DE102_5!$T$23,ROWS($T$23:T23)-1,COLUMNS($T$23:T23)-1)<>\"\",OFFSET(DE102_5!$T$23,ROWS($T$23:T23)-1,COLUMNS($T$23:T23)-1),\"\")","v":""},{"$f":"IF(OFFSET(DE102_5!$U$23,ROWS($U$23:U23)-1,COLUMNS($U$23:U23)-1)<>\"\",OFFSET(DE102_5!$U$23,ROWS($U$23:U23)-1,COLUMNS($U$23:U23)-1),\"\")","v":""},{"$f":"IF(OFFSET(DE102_5!$V$23,ROWS($V$23:V23)-1,COLUMNS($V$23:V23)-1)<>\"\",OFFSET(DE102_5!$V$23,ROWS($V$23:V23)-1,COLUMNS($V$23:V23)-1),\"\")","v":""},{"$f":"IF(OFFSET(DE102_5!$W$23,ROWS($W$23:W23)-1,COLUMNS($W$23:W23)-1)<>\"\",OFFSET(DE102_5!$W$23,ROWS($W$23:W23)-1,COLUMNS($W$23:W23)-1),\"\")","v":""},{"$f":"IF(OFFSET(DE102_5!$X$23,ROWS($X$23:X23)-1,COLUMNS($X$23:X23)-1)<>\"\",OFFSET(DE102_5!$X$23,ROWS($X$23:X23)-1,COLUMNS($X$23:X23)-1),\"\")","v":""},{"$f":"IF(OFFSET(DE102_5!$Y$23,ROWS($Y$23:Y23)-1,COLUMNS($Y$23:Y23)-1)<>\"\",OFFSET(DE102_5!$Y$23,ROWS($Y$23:Y23)-1,COLUMNS($Y$23:Y23)-1),\"\")","v":""},{"$f":"IF(OFFSET(DE102_5!$Z$23,ROWS($Z$23:Z23)-1,COLUMNS($Z$23:Z23)-1)<>\"\",OFFSET(DE102_5!$Z$23,ROWS($Z$23:Z23)-1,COLUMNS($Z$23:Z23)-1),\"\")","v":""},{"$f":"IF(OFFSET(DE102_5!$AA$23,ROWS($AA$23:AA23)-1,COLUMNS($AA$23:AA23)-1)<>\"\",OFFSET(DE102_5!$AA$23,ROWS($AA$23:AA23)-1,COLUMNS($AA$23:AA23)-1),\"\")","v":""},{"$f":"IF(OFFSET(DE102_5!$AB$23,ROWS($AB$23:AB23)-1,COLUMNS($AB$23:AB23)-1)<>\"\",OFFSET(DE102_5!$AB$23,ROWS($AB$23:AB23)-1,COLUMNS($AB$23:AB23)-1),\"\")","v":""}]
[{"$f":"IF(OFFSET(DE102_5!$C$23,ROWS($C$23:C24)-1,COLUMNS($C$23:C24)-1)<>\"\",OFFSET(DE102_5!$C$23,ROWS($C$23:C24)-1,COLUMNS($C$23:C24)-1),\"\")","v":""},{"$f":"IF(OFFSET(DE102_5!$F$23,ROWS($F$23:F24)-1,COLUMNS($F$23:F24)-1)<>\"\",OFFSET(DE102_5!$F$23,ROWS($F$23:F24)-1,COLUMNS($F$23:F24)-1),\"\")","v":"Northbound"},null,{"$f":"IF(OFFSET(DE102_5!$H$23,ROWS($H$23:H24)-1,COLUMNS($H$23:H24)-1)<>\"\",OFFSET(DE102_5!$H$23,ROWS($H$23:H24)-1,COLUMNS($H$23:H24)-1),\"\")","v":""},{"$f":"IF(OFFSET(DE102_5!$I$23,ROWS($I$23:I24)-1,COLUMNS($I$23:I24)-1)<>\"\",OFFSET(DE102_5!$I$23,ROWS($I$23:I24)-1,COLUMNS($I$23:I24)-1),\"\")","v":""},{"$f":"IF(OFFSET(DE102_5!$J$23,ROWS($J$23:J24)-1,COLUMNS($J$23:J24)-1)<>\"\",OFFSET(DE102_5!$J$23,ROWS($J$23:J24)-1,COLUMNS($J$23:J24)-1),\"\")","v":""},{"$f":"IF(OFFSET(DE102_5!$M$23,ROWS($M$23:M24)-1,COLUMNS($M$23:M24)-1)<>\"\",OFFSET(DE102_5!$M$23,ROWS($M$23:M24)-1,COLUMNS($M$23:M24)-1),\"\")","v":""},{"$f":"IF(OFFSET(DE102_5!$N$23,ROWS($N$23:N24)-1,COLUMNS($N$23:N24)-1)<>\"\",OFFSET(DE102_5!$N$23,ROWS($N$23:N24)-1,COLUMNS($N$23:N24)-1),\"\")","v":""},{"$f":"IF(OFFSET(DE102_5!$O$23,ROWS($O$23:O24)-1,COLUMNS($O$23:O24)-1)<>\"\",OFFSET(DE102_5!$O$23,ROWS($O$23:O24)-1,COLUMNS($O$23:O24)-1),\"\")","v":""},{"$f":"IF(OFFSET(DE102_5!$P$23,ROWS($P$23:P24)-1,COLUMNS($P$23:P24)-1)<>\"\",OFFSET(DE102_5!$P$23,ROWS($P$23:P24)-1,COLUMNS($P$23:P24)-1),\"\")","v":""},{"$f":"IF(OFFSET(DE102_5!$Q$23,ROWS($Q$23:Q24)-1,COLUMNS($Q$23:Q24)-1)<>\"\",OFFSET(DE102_5!$Q$23,ROWS($Q$23:Q24)-1,COLUMNS($Q$23:Q24)-1),\"\")","v":""},{"$f":"IF(OFFSET(DE102_5!$R$23,ROWS($R$23:R24)-1,COLUMNS($R$23:R24)-1)<>\"\",OFFSET(DE102_5!$R$23,ROWS($R$23:R24)-1,COLUMNS($R$23:R24)-1),\"\")","v":""},{"$f":"IF(OFFSET(DE102_5!$S$23,ROWS($S$23:S24)-1,COLUMNS($S$23:S24)-1)<>\"\",OFFSET(DE102_5!$S$23,ROWS($S$23:S24)-1,COLUMNS($S$23:S24)-1),\"\")","v":""},{"$f":"IF(OFFSET(DE102_5!$T$23,ROWS($T$23:T24)-1,COLUMNS($T$23:T24)-1)<>\"\",OFFSET(DE102_5!$T$23,ROWS($T$23:T24)-1,COLUMNS($T$23:T24)-1),\"\")","v":""},{"$f":"IF(OFFSET(DE102_5!$U$23,ROWS($U$23:U24)-1,COLUMNS($U$23:U24)-1)<>\"\",OFFSET(DE102_5!$U$23,ROWS($U$23:U24)-1,COLUMNS($U$23:U24)-1),\"\")","v":""},{"$f":"IF(OFFSET(DE102_5!$V$23,ROWS($V$23:V24)-1,COLUMNS($V$23:V24)-1)<>\"\",OFFSET(DE102_5!$V$23,ROWS($V$23:V24)-1,COLUMNS($V$23:V24)-1),\"\")","v":""},{"$f":"IF(OFFSET(DE102_5!$W$23,ROWS($W$23:W24)-1,COLUMNS($W$23:W24)-1)<>\"\",OFFSET(DE102_5!$W$23,ROWS($W$23:W24)-1,COLUMNS($W$23:W24)-1),\"\")","v":""},{"$f":"IF(OFFSET(DE102_5!$X$23,ROWS($X$23:X24)-1,COLUMNS($X$23:X24)-1)<>\"\",OFFSET(DE102_5!$X$23,ROWS($X$23:X24)-1,COLUMNS($X$23:X24)-1),\"\")","v":""},{"$f":"IF(OFFSET(DE102_5!$Y$23,ROWS($Y$23:Y24)-1,COLUMNS($Y$23:Y24)-1)<>\"\",OFFSET(DE102_5!$Y$23,ROWS($Y$23:Y24)-1,COLUMNS($Y$23:Y24)-1),\"\")","v":""},{"$f":"IF(OFFSET(DE102_5!$Z$23,ROWS($Z$23:Z24)-1,COLUMNS($Z$23:Z24)-1)<>\"\",OFFSET(DE102_5!$Z$23,ROWS($Z$23:Z24)-1,COLUMNS($Z$23:Z24)-1),\"\")","v":""},{"$f":"IF(OFFSET(DE102_5!$AA$23,ROWS($AA$23:AA24)-1,COLUMNS($AA$23:AA24)-1)<>\"\",OFFSET(DE102_5!$AA$23,ROWS($AA$23:AA24)-1,COLUMNS($AA$23:AA24)-1),\"\")","v":""},{"$f":"IF(OFFSET(DE102_5!$AB$23,ROWS($AB$23:AB24)-1,COLUMNS($AB$23:AB24)-1)<>\"\",OFFSET(DE102_5!$AB$23,ROWS($AB$23:AB24)-1,COLUMNS($AB$23:AB24)-1),\"\")","v":""}]
[{"$f":"IF(OFFSET(DE102_5!$C$23,ROWS($C$23:C25)-1,COLUMNS($C$23:C25)-1)<>\"\",OFFSET(DE102_5!$C$23,ROWS($C$23:C25)-1,COLUMNS($C$23:C25)-1),\"\")","v":""},{"$f":"IF(OFFSET(DE102_5!$F$23,ROWS($F$23:F25)-1,COLUMNS($F$23:F25)-1)<>\"\",OFFSET(DE102_5!$F$23,ROWS($F$23:F25)-1,COLUMNS($F$23:F25)-1),\"\")","v":77},{"$f":"IF(OFFSET(DE102_5!$G$23,ROWS($G$23:G25)-1,COLUMNS($G$23:G25)-1)<>\"\",OFFSET(DE102_5!$G$23,ROWS($G$23:G25)-1,COLUMNS($G$23:G25)-1),\"\")","v":"I-35"},{"$f":"IF(OFFSET(DE102_5!$H$23,ROWS($H$23:H25)-1,COLUMNS($H$23:H25)-1)<>\"\",OFFSET(DE102_5!$H$23,ROWS($H$23:H25)-1,COLUMNS($H$23:H25)-1),\"\")","v":1},{"$f":"IF(OFFSET(DE102_5!$I$23,ROWS($I$23:I25)-1,COLUMNS($I$23:I25)-1)<>\"\",OFFSET(DE102_5!$I$23,ROWS($I$23:I25)-1,COLUMNS($I$23:I25)-1),\"\")","v":93.84},{"$f":"IF(OFFSET(DE102_5!$J$23,ROWS($J$23:J25)-1,COLUMNS($J$23:J25)-1)<>\"\",OFFSET(DE102_5!$J$23,ROWS($J$23:J25)-1,COLUMNS($J$23:J25)-1),\"\")","v":95.77},{"$f":"IF(OFFSET(DE102_5!$M$23,ROWS($M$23:M25)-1,COLUMNS($M$23:M25)-1)<>\"\",OFFSET(DE102_5!$M$23,ROWS($M$23:M25)-1,COLUMNS($M$23:M25)-1),\"\")","v":2018},{"$f":"IF(OFFSET(DE102_5!$N$23,ROWS($N$23:N25)-1,COLUMNS($N$23:N25)-1)<>\"\",OFFSET(DE102_5!$N$23,ROWS($N$23:N25)-1,COLUMNS($N$23:N25)-1),\"\")","v":"M"},{"$f":"IF(OFFSET(DE102_5!$O$23,ROWS($O$23:O25)-1,COLUMNS($O$23:O25)-1)<>\"\",OFFSET(DE102_5!$O$23,ROWS($O$23:O25)-1,COLUMNS($O$23:O25)-1),\"\")","v":"IMN-035-4(201)87--0E-77"},{"$f":"IF(OFFSET(DE102_5!$P$23,ROWS($P$23:P25)-1,COLUMNS($P$23:P25)-1)<>\"\",OFFSET(DE102_5!$P$23,ROWS($P$23:P25)-1,COLUMNS($P$23:P25)-1),\"\")","v":"PCC"},{"$f":"IF(OFFSET(DE102_5!$Q$23,ROWS($Q$23:Q25)-1,COLUMNS($Q$23:Q25)-1)<>\"\",OFFSET(DE102_5!$Q$23,ROWS($Q$23:Q25)-1,COLUMNS($Q$23:Q25)-1),\"\")","v":""},{"$f":"IF(OFFSET(DE102_5!$R$23,ROWS($R$23:R25)-1,COLUMNS($R$23:R25)-1)<>\"\",OFFSET(DE102_5!$R$23,ROWS($R$23:R25)-1,COLUMNS($R$23:R25)-1),\"\")","v":""},{"$f":"IF(OFFSET(DE102_5!$S$23,ROWS($S$23:S25)-1,COLUMNS($S$23:S25)-1)<>\"\",OFFSET(DE102_5!$S$23,ROWS($S$23:S25)-1,COLUMNS($S$23:S25)-1),\"\")","v":""},{"$f":"IF(OFFSET(DE102_5!$T$23,ROWS($T$23:T25)-1,COLUMNS($T$23:T25)-1)<>\"\",OFFSET(DE102_5!$T$23,ROWS($T$23:T25)-1,COLUMNS($T$23:T25)-1),\"\")","v":""},{"$f":"IF(OFFSET(DE102_5!$U$23,ROWS($U$23:U25)-1,COLUMNS($U$23:U25)-1)<>\"\",OFFSET(DE102_5!$U$23,ROWS($U$23:U25)-1,COLUMNS($U$23:U25)-1),\"\")","v":""},{"$f":"IF(OFFSET(DE102_5!$V$23,ROWS($V$23:V25)-1,COLUMNS($V$23:V25)-1)<>\"\",OFFSET(DE102_5!$V$23,ROWS($V$23:V25)-1,COLUMNS($V$23:V25)-1),\"\")","v":""},{"$f":"IF(OFFSET(DE102_5!$W$23,ROWS($W$23:W25)-1,COLUMNS($W$23:W25)-1)<>\"\",OFFSET(DE102_5!$W$23,ROWS($W$23:W25)-1,COLUMNS($W$23:W25)-1),\"\")","v":""},{"$f":"IF(OFFSET(DE102_5!$X$23,ROWS($X$23:X25)-1,COLUMNS($X$23:X25)-1)<>\"\",OFFSET(DE102_5!$X$23,ROWS($X$23:X25)-1,COLUMNS($X$23:X25)-1),\"\")","v":""},{"$f":"IF(OFFSET(DE102_5!$Y$23,ROWS($Y$23:Y25)-1,COLUMNS($Y$23:Y25)-1)<>\"\",OFFSET(DE102_5!$Y$23,ROWS($Y$23:Y25)-1,COLUMNS($Y$23:Y25)-1),\"\")","v":""},{"$f":"IF(OFFSET(DE102_5!$Z$23,ROWS($Z$23:Z25)-1,COLUMNS($Z$23:Z25)-1)<>\"\",OFFSET(DE102_5!$Z$23,ROWS($Z$23:Z25)-1,COLUMNS($Z$23:Z25)-1),\"\")","v":""},{"$f":"IF(OFFSET(DE102_5!$AA$23,ROWS($AA$23:AA25)-1,COLUMNS($AA$23:AA25)-1)<>\"\",OFFSET(DE102_5!$AA$23,ROWS($AA$23:AA25)-1,COLUMNS($AA$23:AA25)-1),\"\")","v":"PCC PATCHING"},{"$f":"IF(OFFSET(DE102_5!$AB$23,ROWS($AB$23:AB25)-1,COLUMNS($AB$23:AB25)-1)<>\"\",OFFSET(DE102_5!$AB$23,ROWS($AB$23:AB25)-1,COLUMNS($AB$23:AB25)-1),\"\")","v":""}]
[{"$f":"IF(OFFSET(DE102_5!$C$23,ROWS($C$23:C26)-1,COLUMNS($C$23:C26)-1)<>\"\",OFFSET(DE102_5!$C$23,ROWS($C$23:C26)-1,COLUMNS($C$23:C26)-1),\"\")","v":""},{"$f":"IF(OFFSET(DE102_5!$F$23,ROWS($F$23:F26)-1,COLUMNS($F$23:F26)-1)<>\"\",OFFSET(DE102_5!$F$23,ROWS($F$23:F26)-1,COLUMNS($F$23:F26)-1),\"\")","v":77},{"$f":"IF(OFFSET(DE102_5!$G$23,ROWS($G$23:G26)-1,COLUMNS($G$23:G26)-1)<>\"\",OFFSET(DE102_5!$G$23,ROWS($G$23:G26)-1,COLUMNS($G$23:G26)-1),\"\")","v":"I-35"},{"$f":"IF(OFFSET(DE102_5!$H$23,ROWS($H$23:H26)-1,COLUMNS($H$23:H26)-1)<>\"\",OFFSET(DE102_5!$H$23,ROWS($H$23:H26)-1,COLUMNS($H$23:H26)-1),\"\")","v":1},{"$f":"IF(OFFSET(DE102_5!$I$23,ROWS($I$23:I26)-1,COLUMNS($I$23:I26)-1)<>\"\",OFFSET(DE102_5!$I$23,ROWS($I$23:I26)-1,COLUMNS($I$23:I26)-1),\"\")","v":93.84},{"$f":"IF(OFFSET(DE102_5!$J$23,ROWS($J$23:J26)-1,COLUMNS($J$23:J26)-1)<>\"\",OFFSET(DE102_5!$J$23,ROWS($J$23:J26)-1,COLUMNS($J$23:J26)-1),\"\")","v":95.77},{"$f":"IF(OFFSET(DE102_5!$M$23,ROWS($M$23:M26)-1,COLUMNS($M$23:M26)-1)<>\"\",OFFSET(DE102_5!$M$23,ROWS($M$23:M26)-1,COLUMNS($M$23:M26)-1),\"\")","v":2017},{"$f":"IF(OFFSET(DE102_5!$N$23,ROWS($N$23:N26)-1,COLUMNS($N$23:N26)-1)<>\"\",OFFSET(DE102_5!$N$23,ROWS($N$23:N26)-1,COLUMNS($N$23:N26)-1),\"\")","v":"M"},{"$f":"IF(OFFSET(DE102_5!$O$23,ROWS($O$23:O26)-1,COLUMNS($O$23:O26)-1)<>\"\",OFFSET(DE102_5!$O$23,ROWS($O$23:O26)-1,COLUMNS($O$23:O26)-1),\"\")","v":"IMN-035-4(179)87--0E-77"},{"$f":"IF(OFFSET(DE102_5!$P$23,ROWS($P$23:P26)-1,COLUMNS($P$23:P26)-1)<>\"\",OFFSET(DE102_5!$P$23,ROWS($P$23:P26)-1,COLUMNS($P$23:P26)-1),\"\")","v":"PCC"},{"$f":"IF(OFFSET(DE102_5!$Q$23,ROWS($Q$23:Q26)-1,COLUMNS($Q$23:Q26)-1)<>\"\",OFFSET(DE102_5!$Q$23,ROWS($Q$23:Q26)-1,COLUMNS($Q$23:Q26)-1),\"\")","v":12},{"$f":"IF(OFFSET(DE102_5!$R$23,ROWS($R$23:R26)-1,COLUMNS($R$23:R26)-1)<>\"\",OFFSET(DE102_5!$R$23,ROWS($R$23:R26)-1,COLUMNS($R$23:R26)-1),\"\")","v":""},{"$f":"IF(OFFSET(DE102_5!$S$23,ROWS($S$23:S26)-1,COLUMNS($S$23:S26)-1)<>\"\",OFFSET(DE102_5!$S$23,ROWS($S$23:S26)-1,COLUMNS($S$23:S26)-1),\"\")","v":""},{"$f":"IF(OFFSET(DE102_5!$T$23,ROWS($T$23:T26)-1,COLUMNS($T$23:T26)-1)<>\"\",OFFSET(DE102_5!$T$23,ROWS($T$23:T26)-1,COLUMNS($T$23:T26)-1),\"\")","v":""},{"$f":"IF(OFFSET(DE102_5!$U$23,ROWS($U$23:U26)-1,COLUMNS($U$23:U26)-1)<>\"\",OFFSET(DE102_5!$U$23,ROWS($U$23:U26)-1,COLUMNS($U$23:U26)-1),\"\")","v":""},{"$f":"IF(OFFSET(DE102_5!$V$23,ROWS($V$23:V26)-1,COLUMNS($V$23:V26)-1)<>\"\",OFFSET(DE102_5!$V$23,ROWS($V$23:V26)-1,COLUMNS($V$23:V26)-1),\"\")","v":""},{"$f":"IF(OFFSET(DE102_5!$W$23,ROWS($W$23:W26)-1,COLUMNS($W$23:W26)-1)<>\"\",OFFSET(DE102_5!$W$23,ROWS($W$23:W26)-1,COLUMNS($W$23:W26)-1),\"\")","v":""},{"$f":"IF(OFFSET(DE102_5!$X$23,ROWS($X$23:X26)-1,COLUMNS($X$23:X26)-1)<>\"\",OFFSET(DE102_5!$X$23,ROWS($X$23:X26)-1,COLUMNS($X$23:X26)-1),\"\")","v":""},{"$f":"IF(OFFSET(DE102_5!$Y$23,ROWS($Y$23:Y26)-1,COLUMNS($Y$23:Y26)-1)<>\"\",OFFSET(DE102_5!$Y$23,ROWS($Y$23:Y26)-1,COLUMNS($Y$23:Y26)-1),\"\")","v":""},{"$f":"IF(OFFSET(DE102_5!$Z$23,ROWS($Z$23:Z26)-1,COLUMNS($Z$23:Z26)-1)<>\"\",OFFSET(DE102_5!$Z$23,ROWS($Z$23:Z26)-1,COLUMNS($Z$23:Z26)-1),\"\")","v":""},{"$f":"IF(OFFSET(DE102_5!$AA$23,ROWS($AA$23:AA26)-1,COLUMNS($AA$23:AA26)-1)<>\"\",OFFSET(DE102_5!$AA$23,ROWS($AA$23:AA26)-1,COLUMNS($AA$23:AA26)-1),\"\")","v":"PCC PATCHING"},{"$f":"IF(OFFSET(DE102_5!$AB$23,ROWS($AB$23:AB26)-1,COLUMNS($AB$23:AB26)-1)<>\"\",OFFSET(DE102_5!$AB$23,ROWS($AB$23:AB26)-1,COLUMNS($AB$23:AB26)-1),\"\")","v":""}]
[{"$f":"IF(OFFSET(DE102_5!$C$23,ROWS($C$23:C27)-1,COLUMNS($C$23:C27)-1)<>\"\",OFFSET(DE102_5!$C$23,ROWS($C$23:C27)-1,COLUMNS($C$23:C27)-1),\"\")","v":""},{"$f":"IF(OFFSET(DE102_5!$F$23,ROWS($F$23:F27)-1,COLUMNS($F$23:F27)-1)<>\"\",OFFSET(DE102_5!$F$23,ROWS($F$23:F27)-1,COLUMNS($F$23:F27)-1),\"\")","v":77},{"$f":"IF(OFFSET(DE102_5!$G$23,ROWS($G$23:G27)-1,COLUMNS($G$23:G27)-1)<>\"\",OFFSET(DE102_5!$G$23,ROWS($G$23:G27)-1,COLUMNS($G$23:G27)-1),\"\")","v":"I-35"},{"$f":"IF(OFFSET(DE102_5!$H$23,ROWS($H$23:H27)-1,COLUMNS($H$23:H27)-1)<>\"\",OFFSET(DE102_5!$H$23,ROWS($H$23:H27)-1,COLUMNS($H$23:H27)-1),\"\")","v":1},{"$f":"IF(OFFSET(DE102_5!$I$23,ROWS($I$23:I27)-1,COLUMNS($I$23:I27)-1)<>\"\",OFFSET(DE102_5!$I$23,ROWS($I$23:I27)-1,COLUMNS($I$23:I27)-1),\"\")","v":93.84},{"$f":"IF(OFFSET(DE102_5!$J$23,ROWS($J$23:J27)-1,COLUMNS($J$23:J27)-1)<>\"\",OFFSET(DE102_5!$J$23,ROWS($J$23:J27)-1,COLUMNS($J$23:J27)-1),\"\")","v":95.77},{"$f":"IF(OFFSET(DE102_5!$M$23,ROWS($M$23:M27)-1,COLUMNS($M$23:M27)-1)<>\"\",OFFSET(DE102_5!$M$23,ROWS($M$23:M27)-1,COLUMNS($M$23:M27)-1),\"\")","v":2012},{"$f":"IF(OFFSET(DE102_5!$N$23,ROWS($N$23:N27)-1,COLUMNS($N$23:N27)-1)<>\"\",OFFSET(DE102_5!$N$23,ROWS($N$23:N27)-1,COLUMNS($N$23:N27)-1),\"\")","v":""},{"$f":"IF(OFFSET(DE102_5!$O$23,ROWS($O$23:O27)-1,COLUMNS($O$23:O27)-1)<>\"\",OFFSET(DE102_5!$O$23,ROWS($O$23:O27)-1,COLUMNS($O$23:O27)-1),\"\")","v":"IM-035-4(137)94--13-77"},{"$f":"IF(OFFSET(DE102_5!$P$23,ROWS($P$23:P27)-1,COLUMNS($P$23:P27)-1)<>\"\",OFFSET(DE102_5!$P$23,ROWS($P$23:P27)-1,COLUMNS($P$23:P27)-1),\"\")","v":"PCC"},{"$f":"IF(OFFSET(DE102_5!$Q$23,ROWS($Q$23:Q27)-1,COLUMNS($Q$23:Q27)-1)<>\"\",OFFSET(DE102_5!$Q$23,ROWS($Q$23:Q27)-1,COLUMNS($Q$23:Q27)-1),\"\")","v":11.5},{"$f":"IF(OFFSET(DE102_5!$R$23,ROWS($R$23:R27)-1,COLUMNS($R$23:R27)-1)<>\"\",OFFSET(DE102_5!$R$23,ROWS($R$23:R27)-1,COLUMNS($R$23:R27)-1),\"\")","v":"GSB"},{"$f":"IF(OFFSET(DE102_5!$S$23,ROWS($S$23:S27)-1,COLUMNS($S$23:S27)-1)<>\"\",OFFSET(DE102_5!$S$23,ROWS($S$23:S27)-1,COLUMNS($S$23:S27)-1),\"\")","v":6},{"$f":"IF(OFFSET(DE102_5!$T$23,ROWS($T$23:T27)-1,COLUMNS($T$23:T27)-1)<>\"\",OFFSET(DE102_5!$T$23,ROWS($T$23:T27)-1,COLUMNS($T$23:T27)-1),\"\")","v":""},{"$f":"IF(OFFSET(DE102_5!$U$23,ROWS($U$23:U27)-1,COLUMNS($U$23:U27)-1)<>\"\",OFFSET(DE102_5!$U$23,ROWS($U$23:U27)-1,COLUMNS($U$23:U27)-1),\"\")","v":""},{"$f":"IF(OFFSET(DE102_5!$V$23,ROWS($V$23:V27)-1,COLUMNS($V$23:V27)-1)<>\"\",OFFSET(DE102_5!$V$23,ROWS($V$23:V27)-1,COLUMNS($V$23:V27)-1),\"\")","v":""},{"$f":"IF(OFFSET(DE102_5!$W$23,ROWS($W$23:W27)-1,COLUMNS($W$23:W27)-1)<>\"\",OFFSET(DE102_5!$W$23,ROWS($W$23:W27)-1,COLUMNS($W$23:W27)-1),\"\")","v":""},{"$f":"IF(OFFSET(DE102_5!$X$23,ROWS($X$23:X27)-1,COLUMNS($X$23:X27)-1)<>\"\",OFFSET(DE102_5!$X$23,ROWS($X$23:X27)-1,COLUMNS($X$23:X27)-1),\"\")","v":""},{"$f":"IF(OFFSET(DE102_5!$Y$23,ROWS($Y$23:Y27)-1,COLUMNS($Y$23:Y27)-1)<>\"\",OFFSET(DE102_5!$Y$23,ROWS($Y$23:Y27)-1,COLUMNS($Y$23:Y27)-1),\"\")","v":""},{"$f":"IF(OFFSET(DE102_5!$Z$23,ROWS($Z$23:Z27)-1,COLUMNS($Z$23:Z27)-1)<>\"\",OFFSET(DE102_5!$Z$23,ROWS($Z$23:Z27)-1,COLUMNS($Z$23:Z27)-1),\"\")","v":""},{"$f":"IF(OFFSET(DE102_5!$AA$23,ROWS($AA$23:AA27)-1,COLUMNS($AA$23:AA27)-1)<>\"\",OFFSET(DE102_5!$AA$23,ROWS($AA$23:AA27)-1,COLUMNS($AA$23:AA27)-1),\"\")","v":""},{"$f":"IF(OFFSET(DE102_5!$AB$23,ROWS($AB$23:AB27)-1,COLUMNS($AB$23:AB27)-1)<>\"\",OFFSET(DE102_5!$AB$23,ROWS($AB$23:AB27)-1,COLUMNS($AB$23:AB27)-1),\"\")","v":""}]
[{"$f":"IF(OFFSET(DE102_5!$C$23,ROWS($C$23:C28)-1,COLUMNS($C$23:C28)-1)<>\"\",OFFSET(DE102_5!$C$23,ROWS($C$23:C28)-1,COLUMNS($C$23:C28)-1),\"\")","v":""},{"$f":"IF(OFFSET(DE102_5!$F$23,ROWS($F$23:F28)-1,COLUMNS($F$23:F28)-1)<>\"\",OFFSET(DE102_5!$F$23,ROWS($F$23:F28)-1,COLUMNS($F$23:F28)-1),\"\")","v":""},{"$f":"IF(OFFSET(DE102_5!$G$23,ROWS($G$23:G28)-1,COLUMNS($G$23:G28)-1)<>\"\",OFFSET(DE102_5!$G$23,ROWS($G$23:G28)-1,COLUMNS($G$23:G28)-1),\"\")","v":""},{"$f":"IF(OFFSET(DE102_5!$H$23,ROWS($H$23:H28)-1,COLUMNS($H$23:H28)-1)<>\"\",OFFSET(DE102_5!$H$23,ROWS($H$23:H28)-1,COLUMNS($H$23:H28)-1),\"\")","v":""},{"$f":"IF(OFFSET(DE102_5!$I$23,ROWS($I$23:I28)-1,COLUMNS($I$23:I28)-1)<>\"\",OFFSET(DE102_5!$I$23,ROWS($I$23:I28)-1,COLUMNS($I$23:I28)-1),\"\")","v":""},{"$f":"IF(OFFSET(DE102_5!$J$23,ROWS($J$23:J28)-1,COLUMNS($J$23:J28)-1)<>\"\",OFFSET(DE102_5!$J$23,ROWS($J$23:J28)-1,COLUMNS($J$23:J28)-1),\"\")","v":""},{"$f":"IF(OFFSET(DE102_5!$M$23,ROWS($M$23:M28)-1,COLUMNS($M$23:M28)-1)<>\"\",OFFSET(DE102_5!$M$23,ROWS($M$23:M28)-1,COLUMNS($M$23:M28)-1),\"\")","v":""},{"$f":"IF(OFFSET(DE102_5!$N$23,ROWS($N$23:N28)-1,COLUMNS($N$23:N28)-1)<>\"\",OFFSET(DE102_5!$N$23,ROWS($N$23:N28)-1,COLUMNS($N$23:N28)-1),\"\")","v":""},{"$f":"IF(OFFSET(DE102_5!$O$23,ROWS($O$23:O28)-1,COLUMNS($O$23:O28)-1)<>\"\",OFFSET(DE102_5!$O$23,ROWS($O$23:O28)-1,COLUMNS($O$23:O28)-1),\"\")","v":""},{"$f":"IF(OFFSET(DE102_5!$P$23,ROWS($P$23:P28)-1,COLUMNS($P$23:P28)-1)<>\"\",OFFSET(DE102_5!$P$23,ROWS($P$23:P28)-1,COLUMNS($P$23:P28)-1),\"\")","v":""},{"$f":"IF(OFFSET(DE102_5!$Q$23,ROWS($Q$23:Q28)-1,COLUMNS($Q$23:Q28)-1)<>\"\",OFFSET(DE102_5!$Q$23,ROWS($Q$23:Q28)-1,COLUMNS($Q$23:Q28)-1),\"\")","v":""},{"$f":"IF(OFFSET(DE102_5!$R$23,ROWS($R$23:R28)-1,COLUMNS($R$23:R28)-1)<>\"\",OFFSET(DE102_5!$R$23,ROWS($R$23:R28)-1,COLUMNS($R$23:R28)-1),\"\")","v":""},{"$f":"IF(OFFSET(DE102_5!$S$23,ROWS($S$23:S28)-1,COLUMNS($S$23:S28)-1)<>\"\",OFFSET(DE102_5!$S$23,ROWS($S$23:S28)-1,COLUMNS($S$23:S28)-1),\"\")","v":""},{"$f":"IF(OFFSET(DE102_5!$T$23,ROWS($T$23:T28)-1,COLUMNS($T$23:T28)-1)<>\"\",OFFSET(DE102_5!$T$23,ROWS($T$23:T28)-1,COLUMNS($T$23:T28)-1),\"\")","v":""},{"$f":"IF(OFFSET(DE102_5!$U$23,ROWS($U$23:U28)-1,COLUMNS($U$23:U28)-1)<>\"\",OFFSET(DE102_5!$U$23,ROWS($U$23:U28)-1,COLUMNS($U$23:U28)-1),\"\")","v":""},{"$f":"IF(OFFSET(DE102_5!$V$23,ROWS($V$23:V28)-1,COLUMNS($V$23:V28)-1)<>\"\",OFFSET(DE102_5!$V$23,ROWS($V$23:V28)-1,COLUMNS($V$23:V28)-1),\"\")","v":""},{"$f":"IF(OFFSET(DE102_5!$W$23,ROWS($W$23:W28)-1,COLUMNS($W$23:W28)-1)<>\"\",OFFSET(DE102_5!$W$23,ROWS($W$23:W28)-1,COLUMNS($W$23:W28)-1),\"\")","v":""},{"$f":"IF(OFFSET(DE102_5!$X$23,ROWS($X$23:X28)-1,COLUMNS($X$23:X28)-1)<>\"\",OFFSET(DE102_5!$X$23,ROWS($X$23:X28)-1,COLUMNS($X$23:X28)-1),\"\")","v":""},{"$f":"IF(OFFSET(DE102_5!$Y$23,ROWS($Y$23:Y28)-1,COLUMNS($Y$23:Y28)-1)<>\"\",OFFSET(DE102_5!$Y$23,ROWS($Y$23:Y28)-1,COLUMNS($Y$23:Y28)-1),\"\")","v":""},{"$f":"IF(OFFSET(DE102_5!$Z$23,ROWS($Z$23:Z28)-1,COLUMNS($Z$23:Z28)-1)<>\"\",OFFSET(DE102_5!$Z$23,ROWS($Z$23:Z28)-1,COLUMNS($Z$23:Z28)-1),\"\")","v":""},{"$f":"IF(OFFSET(DE102_5!$AA$23,ROWS($AA$23:AA28)-1,COLUMNS($AA$23:AA28)-1)<>\"\",OFFSET(DE102_5!$AA$23,ROWS($AA$23:AA28)-1,COLUMNS($AA$23:AA28)-1),\"\")","v":""},{"$f":"IF(OFFSET(DE102_5!$AB$23,ROWS($AB$23:AB28)-1,COLUMNS($AB$23:AB28)-1)<>\"\",OFFSET(DE102_5!$AB$23,ROWS($AB$23:AB28)-1,COLUMNS($AB$23:AB28)-1),\"\")","v":""}]
[{"$f":"IF(OFFSET(DE102_5!$C$23,ROWS($C$23:C29)-1,COLUMNS($C$23:C29)-1)<>\"\",OFFSET(DE102_5!$C$23,ROWS($C$23:C29)-1,COLUMNS($C$23:C29)-1),\"\")","v":""},{"$f":"IF(OFFSET(DE102_5!$F$23,ROWS($F$23:F29)-1,COLUMNS($F$23:F29)-1)<>\"\",OFFSET(DE102_5!$F$23,ROWS($F$23:F29)-1,COLUMNS($F$23:F29)-1),\"\")","v":77},{"$f":"IF(OFFSET(DE102_5!$G$23,ROWS($G$23:G29)-1,COLUMNS($G$23:G29)-1)<>\"\",OFFSET(DE102_5!$G$23,ROWS($G$23:G29)-1,COLUMNS($G$23:G29)-1),\"\")","v":"I-35"},{"$f":"IF(OFFSET(DE102_5!$H$23,ROWS($H$23:H29)-1,COLUMNS($H$23:H29)-1)<>\"\",OFFSET(DE102_5!$H$23,ROWS($H$23:H29)-1,COLUMNS($H$23:H29)-1),\"\")","v":1},{"$f":"IF(OFFSET(DE102_5!$I$23,ROWS($I$23:I29)-1,COLUMNS($I$23:I29)-1)<>\"\",OFFSET(DE102_5!$I$23,ROWS($I$23:I29)-1,COLUMNS($I$23:I29)-1),\"\")","v":95.77},{"$f":"IF(OFFSET(DE102_5!$J$23,ROWS($J$23:J29)-1,COLUMNS($J$23:J29)-1)<>\"\",OFFSET(DE102_5!$J$23,ROWS($J$23:J29)-1,COLUMNS($J$23:J29)-1),\"\")","v":101.72},{"$f":"IF(OFFSET(DE102_5!$M$23,ROWS($M$23:M29)-1,COLUMNS($M$23:M29)-1)<>\"\",OFFSET(DE102_5!$M$23,ROWS($M$23:M29)-1,COLUMNS($M$23:M29)-1),\"\")","v":2018},{"$f":"IF(OFFSET(DE102_5!$N$23,ROWS($N$23:N29)-1,COLUMNS($N$23:N29)-1)<>\"\",OFFSET(DE102_5!$N$23,ROWS($N$23:N29)-1,COLUMNS($N$23:N29)-1),\"\")","v":"M"},{"$f":"IF(OFFSET(DE102_5!$O$23,ROWS($O$23:O29)-1,COLUMNS($O$23:O29)-1)<>\"\",OFFSET(DE102_5!$O$23,ROWS($O$23:O29)-1,COLUMNS($O$23:O29)-1),\"\")","v":"IMN-035-4(201)87--0E-77"},{"$f":"IF(OFFSET(DE102_5!$P$23,ROWS($P$23:P29)-1,COLUMNS($P$23:P29)-1)<>\"\",OFFSET(DE102_5!$P$23,ROWS($P$23:P29)-1,COLUMNS($P$23:P29)-1),\"\")","v":"PCC"},{"$f":"IF(OFFSET(DE102_5!$Q$23,ROWS($Q$23:Q29)-1,COLUMNS($Q$23:Q29)-1)<>\"\",OFFSET(DE102_5!$Q$23,ROWS($Q$23:Q29)-1,COLUMNS($Q$23:Q29)-1),\"\")","v":""},{"$f":"IF(OFFSET(DE102_5!$R$23,ROWS($R$23:R29)-1,COLUMNS($R$23:R29)-1)<>\"\",OFFSET(DE102_5!$R$23,ROWS($R$23:R29)-1,COLUMNS($R$23:R29)-1),\"\")","v":""},{"$f":"IF(OFFSET(DE102_5!$S$23,ROWS($S$23:S29)-1,COLUMNS($S$23:S29)-1)<>\"\",OFFSET(DE102_5!$S$23,ROWS($S$23:S29)-1,COLUMNS($S$23:S29)-1),\"\")","v":""},{"$f":"IF(OFFSET(DE102_5!$T$23,ROWS($T$23:T29)-1,COLUMNS($T$23:T29)-1)<>\"\",OFFSET(DE102_5!$T$23,ROWS($T$23:T29)-1,COLUMNS($T$23:T29)-1),\"\")","v":""},{"$f":"IF(OFFSET(DE102_5!$U$23,ROWS($U$23:U29)-1,COLUMNS($U$23:U29)-1)<>\"\",OFFSET(DE102_5!$U$23,ROWS($U$23:U29)-1,COLUMNS($U$23:U29)-1),\"\")","v":""},{"$f":"IF(OFFSET(DE102_5!$V$23,ROWS($V$23:V29)-1,COLUMNS($V$23:V29)-1)<>\"\",OFFSET(DE102_5!$V$23,ROWS($V$23:V29)-1,COLUMNS($V$23:V29)-1),\"\")","v":""},{"$f":"IF(OFFSET(DE102_5!$W$23,ROWS($W$23:W29)-1,COLUMNS($W$23:W29)-1)<>\"\",OFFSET(DE102_5!$W$23,ROWS($W$23:W29)-1,COLUMNS($W$23:W29)-1),\"\")","v":""},{"$f":"IF(OFFSET(DE102_5!$X$23,ROWS($X$23:X29)-1,COLUMNS($X$23:X29)-1)<>\"\",OFFSET(DE102_5!$X$23,ROWS($X$23:X29)-1,COLUMNS($X$23:X29)-1),\"\")","v":""},{"$f":"IF(OFFSET(DE102_5!$Y$23,ROWS($Y$23:Y29)-1,COLUMNS($Y$23:Y29)-1)<>\"\",OFFSET(DE102_5!$Y$23,ROWS($Y$23:Y29)-1,COLUMNS($Y$23:Y29)-1),\"\")","v":""},{"$f":"IF(OFFSET(DE102_5!$Z$23,ROWS($Z$23:Z29)-1,COLUMNS($Z$23:Z29)-1)<>\"\",OFFSET(DE102_5!$Z$23,ROWS($Z$23:Z29)-1,COLUMNS($Z$23:Z29)-1),\"\")","v":""},{"$f":"IF(OFFSET(DE102_5!$AA$23,ROWS($AA$23:AA29)-1,COLUMNS($AA$23:AA29)-1)<>\"\",OFFSET(DE102_5!$AA$23,ROWS($AA$23:AA29)-1,COLUMNS($AA$23:AA29)-1),\"\")","v":"PCC PATCHING"},{"$f":"IF(OFFSET(DE102_5!$AB$23,ROWS($AB$23:AB29)-1,COLUMNS($AB$23:AB29)-1)<>\"\",OFFSET(DE102_5!$AB$23,ROWS($AB$23:AB29)-1,COLUMNS($AB$23:AB29)-1),\"\")","v":""}]
[{"$f":"IF(OFFSET(DE102_5!$C$23,ROWS($C$23:C30)-1,COLUMNS($C$23:C30)-1)<>\"\",OFFSET(DE102_5!$C$23,ROWS($C$23:C30)-1,COLUMNS($C$23:C30)-1),\"\")","v":""},{"$f":"IF(OFFSET(DE102_5!$F$23,ROWS($F$23:F30)-1,COLUMNS($F$23:F30)-1)<>\"\",OFFSET(DE102_5!$F$23,ROWS($F$23:F30)-1,COLUMNS($F$23:F30)-1),\"\")","v":77},{"$f":"IF(OFFSET(DE102_5!$G$23,ROWS($G$23:G30)-1,COLUMNS($G$23:G30)-1)<>\"\",OFFSET(DE102_5!$G$23,ROWS($G$23:G30)-1,COLUMNS($G$23:G30)-1),\"\")","v":"I-35"},{"$f":"IF(OFFSET(DE102_5!$H$23,ROWS($H$23:H30)-1,COLUMNS($H$23:H30)-1)<>\"\",OFFSET(DE102_5!$H$23,ROWS($H$23:H30)-1,COLUMNS($H$23:H30)-1),\"\")","v":1},{"$f":"IF(OFFSET(DE102_5!$I$23,ROWS($I$23:I30)-1,COLUMNS($I$23:I30)-1)<>\"\",OFFSET(DE102_5!$I$23,ROWS($I$23:I30)-1,COLUMNS($I$23:I30)-1),\"\")","v":95.77},{"$f":"IF(OFFSET(DE102_5!$J$23,ROWS($J$23:J30)-1,COLUMNS($J$23:J30)-1)<>\"\",OFFSET(DE102_5!$J$23,ROWS($J$23:J30)-1,COLUMNS($J$23:J30)-1),\"\")","v":101.72},{"$f":"IF(OFFSET(DE102_5!$M$23,ROWS($M$23:M30)-1,COLUMNS($M$23:M30)-1)<>\"\",OFFSET(DE102_5!$M$23,ROWS($M$23:M30)-1,COLUMNS($M$23:M30)-1),\"\")","v":2017},{"$f":"IF(OFFSET(DE102_5!$N$23,ROWS($N$23:N30)-1,COLUMNS($N$23:N30)-1)<>\"\",OFFSET(DE102_5!$N$23,ROWS($N$23:N30)-1,COLUMNS($N$23:N30)-1),\"\")","v":"M"},{"$f":"IF(OFFSET(DE102_5!$O$23,ROWS($O$23:O30)-1,COLUMNS($O$23:O30)-1)<>\"\",OFFSET(DE102_5!$O$23,ROWS($O$23:O30)-1,COLUMNS($O$23:O30)-1),\"\")","v":"IMN-035-4(179)87--0E-77"},{"$f":"IF(OFFSET(DE102_5!$P$23,ROWS($P$23:P30)-1,COLUMNS($P$23:P30)-1)<>\"\",OFFSET(DE102_5!$P$23,ROWS($P$23:P30)-1,COLUMNS($P$23:P30)-1),\"\")","v":"PCC"},{"$f":"IF(OFFSET(DE102_5!$Q$23,ROWS($Q$23:Q30)-1,COLUMNS($Q$23:Q30)-1)<>\"\",OFFSET(DE102_5!$Q$23,ROWS($Q$23:Q30)-1,COLUMNS($Q$23:Q30)-1),\"\")","v":12},{"$f":"IF(OFFSET(DE102_5!$R$23,ROWS($R$23:R30)-1,COLUMNS($R$23:R30)-1)<>\"\",OFFSET(DE102_5!$R$23,ROWS($R$23:R30)-1,COLUMNS($R$23:R30)-1),\"\")","v":""},{"$f":"IF(OFFSET(DE102_5!$S$23,ROWS($S$23:S30)-1,COLUMNS($S$23:S30)-1)<>\"\",OFFSET(DE102_5!$S$23,ROWS($S$23:S30)-1,COLUMNS($S$23:S30)-1),\"\")","v":""},{"$f":"IF(OFFSET(DE102_5!$T$23,ROWS($T$23:T30)-1,COLUMNS($T$23:T30)-1)<>\"\",OFFSET(DE102_5!$T$23,ROWS($T$23:T30)-1,COLUMNS($T$23:T30)-1),\"\")","v":""},{"$f":"IF(OFFSET(DE102_5!$U$23,ROWS($U$23:U30)-1,COLUMNS($U$23:U30)-1)<>\"\",OFFSET(DE102_5!$U$23,ROWS($U$23:U30)-1,COLUMNS($U$23:U30)-1),\"\")","v":""},{"$f":"IF(OFFSET(DE102_5!$V$23,ROWS($V$23:V30)-1,COLUMNS($V$23:V30)-1)<>\"\",OFFSET(DE102_5!$V$23,ROWS($V$23:V30)-1,COLUMNS($V$23:V30)-1),\"\")","v":""},{"$f":"IF(OFFSET(DE102_5!$W$23,ROWS($W$23:W30)-1,COLUMNS($W$23:W30)-1)<>\"\",OFFSET(DE102_5!$W$23,ROWS($W$23:W30)-1,COLUMNS($W$23:W30)-1),\"\")","v":""},{"$f":"IF(OFFSET(DE102_5!$X$23,ROWS($X$23:X30)-1,COLUMNS($X$23:X30)-1)<>\"\",OFFSET(DE102_5!$X$23,ROWS($X$23:X30)-1,COLUMNS($X$23:X30)-1),\"\")","v":""},{"$f":"IF(OFFSET(DE102_5!$Y$23,ROWS($Y$23:Y30)-1,COLUMNS($Y$23:Y30)-1)<>\"\",OFFSET(DE102_5!$Y$23,ROWS($Y$23:Y30)-1,COLUMNS($Y$23:Y30)-1),\"\")","v":""},{"$f":"IF(OFFSET(DE102_5!$Z$23,ROWS($Z$23:Z30)-1,COLUMNS($Z$23:Z30)-1)<>\"\",OFFSET(DE102_5!$Z$23,ROWS($Z$23:Z30)-1,COLUMNS($Z$23:Z30)-1),\"\")","v":""},{"$f":"IF(OFFSET(DE102_5!$AA$23,ROWS($AA$23:AA30)-1,COLUMNS($AA$23:AA30)-1)<>\"\",OFFSET(DE102_5!$AA$23,ROWS($AA$23:AA30)-1,COLUMNS($AA$23:AA30)-1),\"\")","v":"PCC PATCHING"},{"$f":"IF(OFFSET(DE102_5!$AB$23,ROWS($AB$23:AB30)-1,COLUMNS($AB$23:AB30)-1)<>\"\",OFFSET(DE102_5!$AB$23,ROWS($AB$23:AB30)-1,COLUMNS($AB$23:AB30)-1),\"\")","v":""}]
[{"$f":"IF(OFFSET(DE102_5!$C$23,ROWS($C$23:C31)-1,COLUMNS($C$23:C31)-1)<>\"\",OFFSET(DE102_5!$C$23,ROWS($C$23:C31)-1,COLUMNS($C$23:C31)-1),\"\")","v":""},{"$f":"IF(OFFSET(DE102_5!$F$23,ROWS($F$23:F31)-1,COLUMNS($F$23:F31)-1)<>\"\",OFFSET(DE102_5!$F$23,ROWS($F$23:F31)-1,COLUMNS($F$23:F31)-1),\"\")","v":77},{"$f":"IF(OFFSET(DE102_5!$G$23,ROWS($G$23:G31)-1,COLUMNS($G$23:G31)-1)<>\"\",OFFSET(DE102_5!$G$23,ROWS($G$23:G31)-1,COLUMNS($G$23:G31)-1),\"\")","v":"I-35"},{"$f":"IF(OFFSET(DE102_5!$H$23,ROWS($H$23:H31)-1,COLUMNS($H$23:H31)-1)<>\"\",OFFSET(DE102_5!$H$23,ROWS($H$23:H31)-1,COLUMNS($H$23:H31)-1),\"\")","v":1},{"$f":"IF(OFFSET(DE102_5!$I$23,ROWS($I$23:I31)-1,COLUMNS($I$23:I31)-1)<>\"\",OFFSET(DE102_5!$I$23,ROWS($I$23:I31)-1,COLUMNS($I$23:I31)-1),\"\")","v":95.77},{"$f":"IF(OFFSET(DE102_5!$J$23,ROWS($J$23:J31)-1,COLUMNS($J$23:J31)-1)<>\"\",OFFSET(DE102_5!$J$23,ROWS($J$23:J31)-1,COLUMNS($J$23:J31)-1),\"\")","v":101.72},{"$f":"IF(OFFSET(DE102_5!$M$23,ROWS($M$23:M31)-1,COLUMNS($M$23:M31)-1)<>\"\",OFFSET(DE102_5!$M$23,ROWS($M$23:M31)-1,COLUMNS($M$23:M31)-1),\"\")","v":2008},{"$f":"IF(OFFSET(DE102_5!$N$23,ROWS($N$23:N31)-1,COLUMNS($N$23:N31)-1)<>\"\",OFFSET(DE102_5!$N$23,ROWS($N$23:N31)-1,COLUMNS($N$23:N31)-1),\"\")","v":"W"},{"$f":"IF(OFFSET(DE102_5!$O$23,ROWS($O$23:O31)-1,COLUMNS($O$23:O31)-1)<>\"\",OFFSET(DE102_5!$O$23,ROWS($O$23:O31)-1,COLUMNS($O$23:O31)-1),\"\")","v":"IM-35-4(131)92--13-77"},{"$f":"IF(OFFSET(DE102_5!$P$23,ROWS($P$23:P31)-1,COLUMNS($P$23:P31)-1)<>\"\",OFFSET(DE102_5!$P$23,ROWS($P$23:P31)-1,COLUMNS($P$23:P31)-1),\"\")","v":"HMA"},{"$f":"IF(OFFSET(DE102_5!$Q$23,ROWS($Q$23:Q31)-1,COLUMNS($Q$23:Q31)-1)<>\"\",OFFSET(DE102_5!$Q$23,ROWS($Q$23:Q31)-1,COLUMNS($Q$23:Q31)-1),\"\")","v":2},{"$f":"IF(OFFSET(DE102_5!$R$23,ROWS($R$23:R31)-1,COLUMNS($R$23:R31)-1)<>\"\",OFFSET(DE102_5!$R$23,ROWS($R$23:R31)-1,COLUMNS($R$23:R31)-1),\"\")","v":"HMA"},{"$f":"IF(OFFSET(DE102_5!$S$23,ROWS($S$23:S31)-1,COLUMNS($S$23:S31)-1)<>\"\",OFFSET(DE102_5!$S$23,ROWS($S$23:S31)-1,COLUMNS($S$23:S31)-1),\"\")","v":2},{"$f":"IF(OFFSET(DE102_5!$T$23,ROWS($T$23:T31)-1,COLUMNS($T$23:T31)-1)<>\"\",OFFSET(DE102_5!$T$23,ROWS($T$23:T31)-1,COLUMNS($T$23:T31)-1),\"\")","v":""},{"$f":"IF(OFFSET(DE102_5!$U$23,ROWS($U$23:U31)-1,COLUMNS($U$23:U31)-1)<>\"\",OFFSET(DE102_5!$U$23,ROWS($U$23:U31)-1,COLUMNS($U$23:U31)-1),\"\")","v":""},{"$f":"IF(OFFSET(DE102_5!$V$23,ROWS($V$23:V31)-1,COLUMNS($V$23:V31)-1)<>\"\",OFFSET(DE102_5!$V$23,ROWS($V$23:V31)-1,COLUMNS($V$23:V31)-1),\"\")","v":""},{"$f":"IF(OFFSET(DE102_5!$W$23,ROWS($W$23:W31)-1,COLUMNS($W$23:W31)-1)<>\"\",OFFSET(DE102_5!$W$23,ROWS($W$23:W31)-1,COLUMNS($W$23:W31)-1),\"\")","v":""},{"$f":"IF(OFFSET(DE102_5!$X$23,ROWS($X$23:X31)-1,COLUMNS($X$23:X31)-1)<>\"\",OFFSET(DE102_5!$X$23,ROWS($X$23:X31)-1,COLUMNS($X$23:X31)-1),\"\")","v":"AMES MINE"},{"$f":"IF(OFFSET(DE102_5!$Y$23,ROWS($Y$23:Y31)-1,COLUMNS($Y$23:Y31)-1)<>\"\",OFFSET(DE102_5!$Y$23,ROWS($Y$23:Y31)-1,COLUMNS($Y$23:Y31)-1),\"\")","v":"C.LST."},{"$f":"IF(OFFSET(DE102_5!$Z$23,ROWS($Z$23:Z31)-1,COLUMNS($Z$23:Z31)-1)<>\"\",OFFSET(DE102_5!$Z$23,ROWS($Z$23:Z31)-1,COLUMNS($Z$23:Z31)-1),\"\")","v":""},{"$f":"IF(OFFSET(DE102_5!$AA$23,ROWS($AA$23:AA31)-1,COLUMNS($AA$23:AA31)-1)<>\"\",OFFSET(DE102_5!$AA$23,ROWS($AA$23:AA31)-1,COLUMNS($AA$23:AA31)-1),\"\")","v":""},{"$f":"IF(OFFSET(DE102_5!$AB$23,ROWS($AB$23:AB31)-1,COLUMNS($AB$23:AB31)-1)<>\"\",OFFSET(DE102_5!$AB$23,ROWS($AB$23:AB31)-1,COLUMNS($AB$23:AB31)-1),\"\")","v":""}]
[{"$f":"IF(OFFSET(DE102_5!$C$23,ROWS($C$23:C32)-1,COLUMNS($C$23:C32)-1)<>\"\",OFFSET(DE102_5!$C$23,ROWS($C$23:C32)-1,COLUMNS($C$23:C32)-1),\"\")","v":""},{"$f":"IF(OFFSET(DE102_5!$F$23,ROWS($F$23:F32)-1,COLUMNS($F$23:F32)-1)<>\"\",OFFSET(DE102_5!$F$23,ROWS($F$23:F32)-1,COLUMNS($F$23:F32)-1),\"\")","v":77},{"$f":"IF(OFFSET(DE102_5!$G$23,ROWS($G$23:G32)-1,COLUMNS($G$23:G32)-1)<>\"\",OFFSET(DE102_5!$G$23,ROWS($G$23:G32)-1,COLUMNS($G$23:G32)-1),\"\")","v":"I-35"},{"$f":"IF(OFFSET(DE102_5!$H$23,ROWS($H$23:H32)-1,COLUMNS($H$23:H32)-1)<>\"\",OFFSET(DE102_5!$H$23,ROWS($H$23:H32)-1,COLUMNS($H$23:H32)-1),\"\")","v":1},{"$f":"IF(OFFSET(DE102_5!$I$23,ROWS($I$23:I32)-1,COLUMNS($I$23:I32)-1)<>\"\",OFFSET(DE102_5!$I$23,ROWS($I$23:I32)-1,COLUMNS($I$23:I32)-1),\"\")","v":95.77},{"$f":"IF(OFFSET(DE102_5!$J$23,ROWS($J$23:J32)-1,COLUMNS($J$23:J32)-1)<>\"\",OFFSET(DE102_5!$J$23,ROWS($J$23:J32)-1,COLUMNS($J$23:J32)-1),\"\")","v":101.72},{"$f":"IF(OFFSET(DE102_5!$M$23,ROWS($M$23:M32)-1,COLUMNS($M$23:M32)-1)<>\"\",OFFSET(DE102_5!$M$23,ROWS($M$23:M32)-1,COLUMNS($M$23:M32)-1),\"\")","v":2008},{"$f":"IF(OFFSET(DE102_5!$N$23,ROWS($N$23:N32)-1,COLUMNS($N$23:N32)-1)<>\"\",OFFSET(DE102_5!$N$23,ROWS($N$23:N32)-1,COLUMNS($N$23:N32)-1),\"\")","v":""},{"$f":"IF(OFFSET(DE102_5!$O$23,ROWS($O$23:O32)-1,COLUMNS($O$23:O32)-1)<>\"\",OFFSET(DE102_5!$O$23,ROWS($O$23:O32)-1,COLUMNS($O$23:O32)-1),\"\")","v":"IM-35-4(131)92--13-77"},{"$f":"IF(OFFSET(DE102_5!$P$23,ROWS($P$23:P32)-1,COLUMNS($P$23:P32)-1)<>\"\",OFFSET(DE102_5!$P$23,ROWS($P$23:P32)-1,COLUMNS($P$23:P32)-1),\"\")","v":"HMA"},{"$f":"IF(OFFSET(DE102_5!$Q$23,ROWS($Q$23:Q32)-1,COLUMNS($Q$23:Q32)-1)<>\"\",OFFSET(DE102_5!$Q$23,ROWS($Q$23:Q32)-1,COLUMNS($Q$23:Q32)-1),\"\")","v":2},{"$f":"IF(OFFSET(DE102_5!$R$23,ROWS($R$23:R32)-1,COLUMNS($R$23:R32)-1)<>\"\",OFFSET(DE102_5!$R$23,ROWS($R$23:R32)-1,COLUMNS($R$23:R32)-1),\"\")","v":"HMA"},{"$f":"IF(OFFSET(DE102_5!$S$23,ROWS($S$23:S32)-1,COLUMNS($S$23:S32)-1)<>\"\",OFFSET(DE102_5!$S$23,ROWS($S$23:S32)-1,COLUMNS($S$23:S32)-1),\"\")","v":2},{"$f":"IF(OFFSET(DE102_5!$T$23,ROWS($T$23:T32)-1,COLUMNS($T$23:T32)-1)<>\"\",OFFSET(DE102_5!$T$23,ROWS($T$23:T32)-1,COLUMNS($T$23:T32)-1),\"\")","v":""},{"$f":"IF(OFFSET(DE102_5!$U$23,ROWS($U$23:U32)-1,COLUMNS($U$23:U32)-1)<>\"\",OFFSET(DE102_5!$U$23,ROWS($U$23:U32)-1,COLUMNS($U$23:U32)-1),\"\")","v":""},{"$f":"IF(OFFSET(DE102_5!$V$23,ROWS($V$23:V32)-1,COLUMNS($V$23:V32)-1)<>\"\",OFFSET(DE102_5!$V$23,ROWS($V$23:V32)-1,COLUMNS($V$23:V32)-1),\"\")","v":"MIL"},{"$f":"IF(OFFSET(DE102_5!$W$23,ROWS($W$23:W32)-1,COLUMNS($W$23:W32)-1)<>\"\",OFFSET(DE102_5!$W$23,ROWS($W$23:W32)-1,COLUMNS($W$23:W32)-1),\"\")","v":2},{"$f":"IF(OFFSET(DE102_5!$X$23,ROWS($X$23:X32)-1,COLUMNS($X$23:X32)-1)<>\"\",OFFSET(DE102_5!$X$23,ROWS($X$23:X32)-1,COLUMNS($X$23:X32)-1),\"\")","v":"AMES MINE"},{"$f":"IF(OFFSET(DE102_5!$Y$23,ROWS($Y$23:Y32)-1,COLUMNS($Y$23:Y32)-1)<>\"\",OFFSET(DE102_5!$Y$23,ROWS($Y$23:Y32)-1,COLUMNS($Y$23:Y32)-1),\"\")","v":"C.LST."},{"$f":"IF(OFFSET(DE102_5!$Z$23,ROWS($Z$23:Z32)-1,COLUMNS($Z$23:Z32)-1)<>\"\",OFFSET(DE102_5!$Z$23,ROWS($Z$23:Z32)-1,COLUMNS($Z$23:Z32)-1),\"\")","v":""},{"$f":"IF(OFFSET(DE102_5!$AA$23,ROWS($AA$23:AA32)-1,COLUMNS($AA$23:AA32)-1)<>\"\",OFFSET(DE102_5!$AA$23,ROWS($AA$23:AA32)-1,COLUMNS($AA$23:AA32)-1),\"\")","v":"WIDENING VARIES"},{"$f":"IF(OFFSET(DE102_5!$AB$23,ROWS($AB$23:AB32)-1,COLUMNS($AB$23:AB32)-1)<>\"\",OFFSET(DE102_5!$AB$23,ROWS($AB$23:AB32)-1,COLUMNS($AB$23:AB32)-1),\"\")","v":""}]
[{"$f":"IF(OFFSET(DE102_5!$C$23,ROWS($C$23:C33)-1,COLUMNS($C$23:C33)-1)<>\"\",OFFSET(DE102_5!$C$23,ROWS($C$23:C33)-1,COLUMNS($C$23:C33)-1),\"\")","v":""},{"$f":"IF(OFFSET(DE102_5!$F$23,ROWS($F$23:F33)-1,COLUMNS($F$23:F33)-1)<>\"\",OFFSET(DE102_5!$F$23,ROWS($F$23:F33)-1,COLUMNS($F$23:F33)-1),\"\")","v":77},{"$f":"IF(OFFSET(DE102_5!$G$23,ROWS($G$23:G33)-1,COLUMNS($G$23:G33)-1)<>\"\",OFFSET(DE102_5!$G$23,ROWS($G$23:G33)-1,COLUMNS($G$23:G33)-1),\"\")","v":"I-35"},{"$f":"IF(OFFSET(DE102_5!$H$23,ROWS($H$23:H33)-1,COLUMNS($H$23:H33)-1)<>\"\",OFFSET(DE102_5!$H$23,ROWS($H$23:H33)-1,COLUMNS($H$23:H33)-1),\"\")","v":1},{"$f":"IF(OFFSET(DE102_5!$I$23,ROWS($I$23:I33)-1,COLUMNS($I$23:I33)-1)<>\"\",OFFSET(DE102_5!$I$23,ROWS($I$23:I33)-1,COLUMNS($I$23:I33)-1),\"\")","v":95.77},{"$f":"IF(OFFSET(DE102_5!$J$23,ROWS($J$23:J33)-1,COLUMNS($J$23:J33)-1)<>\"\",OFFSET(DE102_5!$J$23,ROWS($J$23:J33)-1,COLUMNS($J$23:J33)-1),\"\")","v":101.72},{"$f":"IF(OFFSET(DE102_5!$M$23,ROWS($M$23:M33)-1,COLUMNS($M$23:M33)-1)<>\"\",OFFSET(DE102_5!$M$23,ROWS($M$23:M33)-1,COLUMNS($M$23:M33)-1),\"\")","v":1988},{"$f":"IF(OFFSET(DE102_5!$N$23,ROWS($N$23:N33)-1,COLUMNS($N$23:N33)-1)<>\"\",OFFSET(DE102_5!$N$23,ROWS($N$23:N33)-1,COLUMNS($N$23:N33)-1),\"\")","v":""},{"$f":"IF(OFFSET(DE102_5!$O$23,ROWS($O$23:O33)-1,COLUMNS($O$23:O33)-1)<>\"\",OFFSET(DE102_5!$O$23,ROWS($O$23:O33)-1,COLUMNS($O$23:O33)-1),\"\")","v":"IR-35-3(49)87"},{"$f":"IF(OFFSET(DE102_5!$P$23,ROWS($P$23:P33)-1,COLUMNS($P$23:P33)-1)<>\"\",OFFSET(DE102_5!$P$23,ROWS($P$23:P33)-1,COLUMNS($P$23:P33)-1),\"\")","v":"AAC"},{"$f":"IF(OFFSET(DE102_5!$Q$23,ROWS($Q$23:Q33)-1,COLUMNS($Q$23:Q33)-1)<>\"\",OFFSET(DE102_5!$Q$23,ROWS($Q$23:Q33)-1,COLUMNS($Q$23:Q33)-1),\"\")","v":4},{"$f":"IF(OFFSET(DE102_5!$R$23,ROWS($R$23:R33)-1,COLUMNS($R$23:R33)-1)<>\"\",OFFSET(DE102_5!$R$23,ROWS($R$23:R33)-1,COLUMNS($R$23:R33)-1),\"\")","v":""},{"$f":"IF(OFFSET(DE102_5!$S$23,ROWS($S$23:S33)-1,COLUMNS($S$23:S33)-1)<>\"\",OFFSET(DE102_5!$S$23,ROWS($S$23:S33)-1,COLUMNS($S$23:S33)-1),\"\")","v":""},{"$f":"IF(OFFSET(DE102_5!$T$23,ROWS($T$23:T33)-1,COLUMNS($T$23:T33)-1)<>\"\",OFFSET(DE102_5!$T$23,ROWS($T$23:T33)-1,COLUMNS($T$23:T33)-1),\"\")","v":""},{"$f":"IF(OFFSET(DE102_5!$U$23,ROWS($U$23:U33)-1,COLUMNS($U$23:U33)-1)<>\"\",OFFSET(DE102_5!$U$23,ROWS($U$23:U33)-1,COLUMNS($U$23:U33)-1),\"\")","v":""},{"$f":"IF(OFFSET(DE102_5!$V$23,ROWS($V$23:V33)-1,COLUMNS($V$23:V33)-1)<>\"\",OFFSET(DE102_5!$V$23,ROWS($V$23:V33)-1,COLUMNS($V$23:V33)-1),\"\")","v":""},{"$f":"IF(OFFSET(DE102_5!$W$23,ROWS($W$23:W33)-1,COLUMNS($W$23:W33)-1)<>\"\",OFFSET(DE102_5!$W$23,ROWS($W$23:W33)-1,COLUMNS($W$23:W33)-1),\"\")","v":""},{"$f":"IF(OFFSET(DE102_5!$X$23,ROWS($X$23:X33)-1,COLUMNS($X$23:X33)-1)<>\"\",OFFSET(DE102_5!$X$23,ROWS($X$23:X33)-1,COLUMNS($X$23:X33)-1),\"\")","v":"AMES MINE"},{"$f":"IF(OFFSET(DE102_5!$Y$23,ROWS($Y$23:Y33)-1,COLUMNS($Y$23:Y33)-1)<>\"\",OFFSET(DE102_5!$Y$23,ROWS($Y$23:Y33)-1,COLUMNS($Y$23:Y33)-1),\"\")","v":"C.LST."},{"$f":"IF(OFFSET(DE102_5!$Z$23,ROWS($Z$23:Z33)-1,COLUMNS($Z$23:Z33)-1)<>\"\",OFFSET(DE102_5!$Z$23,ROWS($Z$23:Z33)-1,COLUMNS($Z$23:Z33)-1),\"\")","v":""},{"$f":"IF(OFFSET(DE102_5!$AA$23,ROWS($AA$23:AA33)-1,COLUMNS($AA$23:AA33)-1)<>\"\",OFFSET(DE102_5!$AA$23,ROWS($AA$23:AA33)-1,COLUMNS($AA$23:AA33)-1),\"\")","v":""},{"$f":"IF(OFFSET(DE102_5!$AB$23,ROWS($AB$23:AB33)-1,COLUMNS($AB$23:AB33)-1)<>\"\",OFFSET(DE102_5!$AB$23,ROWS($AB$23:AB33)-1,COLUMNS($AB$23:AB33)-1),\"\")","v":""}]
[{"$f":"IF(OFFSET(DE102_5!$C$23,ROWS($C$23:C34)-1,COLUMNS($C$23:C34)-1)<>\"\",OFFSET(DE102_5!$C$23,ROWS($C$23:C34)-1,COLUMNS($C$23:C34)-1),\"\")","v":""},{"$f":"IF(OFFSET(DE102_5!$F$23,ROWS($F$23:F34)-1,COLUMNS($F$23:F34)-1)<>\"\",OFFSET(DE102_5!$F$23,ROWS($F$23:F34)-1,COLUMNS($F$23:F34)-1),\"\")","v":77},{"$f":"IF(OFFSET(DE102_5!$G$23,ROWS($G$23:G34)-1,COLUMNS($G$23:G34)-1)<>\"\",OFFSET(DE102_5!$G$23,ROWS($G$23:G34)-1,COLUMNS($G$23:G34)-1),\"\")","v":"I-35"},{"$f":"IF(OFFSET(DE102_5!$H$23,ROWS($H$23:H34)-1,COLUMNS($H$23:H34)-1)<>\"\",OFFSET(DE102_5!$H$23,ROWS($H$23:H34)-1,COLUMNS($H$23:H34)-1),\"\")","v":1},{"$f":"IF(OFFSET(DE102_5!$I$23,ROWS($I$23:I34)-1,COLUMNS($I$23:I34)-1)<>\"\",OFFSET(DE102_5!$I$23,ROWS($I$23:I34)-1,COLUMNS($I$23:I34)-1),\"\")","v":95.77},{"$f":"IF(OFFSET(DE102_5!$J$23,ROWS($J$23:J34)-1,COLUMNS($J$23:J34)-1)<>\"\",OFFSET(DE102_5!$J$23,ROWS($J$23:J34)-1,COLUMNS($J$23:J34)-1),\"\")","v":101.72},{"$f":"IF(OFFSET(DE102_5!$M$23,ROWS($M$23:M34)-1,COLUMNS($M$23:M34)-1)<>\"\",OFFSET(DE102_5!$M$23,ROWS($M$23:M34)-1,COLUMNS($M$23:M34)-1),\"\")","v":1965},{"$f":"IF(OFFSET(DE102_5!$N$23,ROWS($N$23:N34)-1,COLUMNS($N$23:N34)-1)<>\"\",OFFSET(DE102_5!$N$23,ROWS($N$23:N34)-1,COLUMNS($N$23:N34)-1),\"\")","v":""},{"$f":"IF(OFFSET(DE102_5!$O$23,ROWS($O$23:O34)-1,COLUMNS($O$23:O34)-1)<>\"\",OFFSET(DE102_5!$O$23,ROWS($O$23:O34)-1,COLUMNS($O$23:O34)-1),\"\")","v":"I-35-4(11)93"},{"$f":"IF(OFFSET(DE102_5!$P$23,ROWS($P$23:P34)-1,COLUMNS($P$23:P34)-1)<>\"\",OFFSET(DE102_5!$P$23,ROWS($P$23:P34)-1,COLUMNS($P$23:P34)-1),\"\")","v":"PCC"},{"$f":"IF(OFFSET(DE102_5!$Q$23,ROWS($Q$23:Q34)-1,COLUMNS($Q$23:Q34)-1)<>\"\",OFFSET(DE102_5!$Q$23,ROWS($Q$23:Q34)-1,COLUMNS($Q$23:Q34)-1),\"\")","v":10},{"$f":"IF(OFFSET(DE102_5!$R$23,ROWS($R$23:R34)-1,COLUMNS($R$23:R34)-1)<>\"\",OFFSET(DE102_5!$R$23,ROWS($R$23:R34)-1,COLUMNS($R$23:R34)-1),\"\")","v":"GSB"},{"$f":"IF(OFFSET(DE102_5!$S$23,ROWS($S$23:S34)-1,COLUMNS($S$23:S34)-1)<>\"\",OFFSET(DE102_5!$S$23,ROWS($S$23:S34)-1,COLUMNS($S$23:S34)-1),\"\")","v":4},{"$f":"IF(OFFSET(DE102_5!$T$23,ROWS($T$23:T34)-1,COLUMNS($T$23:T34)-1)<>\"\",OFFSET(DE102_5!$T$23,ROWS($T$23:T34)-1,COLUMNS($T$23:T34)-1),\"\")","v":""},{"$f":"IF(OFFSET(DE102_5!$U$23,ROWS($U$23:U34)-1,COLUMNS($U$23:U34)-1)<>\"\",OFFSET(DE102_5!$U$23,ROWS($U$23:U34)-1,COLUMNS($U$23:U34)-1),\"\")","v":""},{"$f":"IF(OFFSET(DE102_5!$V$23,ROWS($V$23:V34)-1,COLUMNS($V$23:V34)-1)<>\"\",OFFSET(DE102_5!$V$23,ROWS($V$23:V34)-1,COLUMNS($V$23:V34)-1),\"\")","v":""},{"$f":"IF(OFFSET(DE102_5!$W$23,ROWS($W$23:W34)-1,COLUMNS($W$23:W34)-1)<>\"\",OFFSET(DE102_5!$W$23,ROWS($W$23:W34)-1,COLUMNS($W$23:W34)-1),\"\")","v":""},{"$f":"IF(OFFSET(DE102_5!$X$23,ROWS($X$23:X34)-1,COLUMNS($X$23:X34)-1)<>\"\",OFFSET(DE102_5!$X$23,ROWS($X$23:X34)-1,COLUMNS($X$23:X34)-1),\"\")","v":"CHRISTENSEN"},{"$f":"IF(OFFSET(DE102_5!$Y$23,ROWS($Y$23:Y34)-1,COLUMNS($Y$23:Y34)-1)<>\"\",OFFSET(DE102_5!$Y$23,ROWS($Y$23:Y34)-1,COLUMNS($Y$23:Y34)-1),\"\")","v":"GRAVEL"},{"$f":"IF(OFFSET(DE102_5!$Z$23,ROWS($Z$23:Z34)-1,COLUMNS($Z$23:Z34)-1)<>\"\",OFFSET(DE102_5!$Z$23,ROWS($Z$23:Z34)-1,COLUMNS($Z$23:Z34)-1),\"\")","v":1},{"$f":"IF(OFFSET(DE102_5!$AA$23,ROWS($AA$23:AA34)-1,COLUMNS($AA$23:AA34)-1)<>\"\",OFFSET(DE102_5!$AA$23,ROWS($AA$23:AA34)-1,COLUMNS($AA$23:AA34)-1),\"\")","v":""},{"$f":"IF(OFFSET(DE102_5!$AB$23,ROWS($AB$23:AB34)-1,COLUMNS($AB$23:AB34)-1)<>\"\",OFFSET(DE102_5!$AB$23,ROWS($AB$23:AB34)-1,COLUMNS($AB$23:AB34)-1),\"\")","v":""}]
[{"$f":"IF(OFFSET(DE102_5!$C$23,ROWS($C$23:C35)-1,COLUMNS($C$23:C35)-1)<>\"\",OFFSET(DE102_5!$C$23,ROWS($C$23:C35)-1,COLUMNS($C$23:C35)-1),\"\")","v":""},{"$f":"IF(OFFSET(DE102_5!$F$23,ROWS($F$23:F35)-1,COLUMNS($F$23:F35)-1)<>\"\",OFFSET(DE102_5!$F$23,ROWS($F$23:F35)-1,COLUMNS($F$23:F35)-1),\"\")","v":""},{"$f":"IF(OFFSET(DE102_5!$G$23,ROWS($G$23:G35)-1,COLUMNS($G$23:G35)-1)<>\"\",OFFSET(DE102_5!$G$23,ROWS($G$23:G35)-1,COLUMNS($G$23:G35)-1),\"\")","v":""},{"$f":"IF(OFFSET(DE102_5!$H$23,ROWS($H$23:H35)-1,COLUMNS($H$23:H35)-1)<>\"\",OFFSET(DE102_5!$H$23,ROWS($H$23:H35)-1,COLUMNS($H$23:H35)-1),\"\")","v":""},{"$f":"IF(OFFSET(DE102_5!$I$23,ROWS($I$23:I35)-1,COLUMNS($I$23:I35)-1)<>\"\",OFFSET(DE102_5!$I$23,ROWS($I$23:I35)-1,COLUMNS($I$23:I35)-1),\"\")","v":""},{"$f":"IF(OFFSET(DE102_5!$J$23,ROWS($J$23:J35)-1,COLUMNS($J$23:J35)-1)<>\"\",OFFSET(DE102_5!$J$23,ROWS($J$23:J35)-1,COLUMNS($J$23:J35)-1),\"\")","v":""},{"$f":"IF(OFFSET(DE102_5!$M$23,ROWS($M$23:M35)-1,COLUMNS($M$23:M35)-1)<>\"\",OFFSET(DE102_5!$M$23,ROWS($M$23:M35)-1,COLUMNS($M$23:M35)-1),\"\")","v":""},{"$f":"IF(OFFSET(DE102_5!$N$23,ROWS($N$23:N35)-1,COLUMNS($N$23:N35)-1)<>\"\",OFFSET(DE102_5!$N$23,ROWS($N$23:N35)-1,COLUMNS($N$23:N35)-1),\"\")","v":""},{"$f":"IF(OFFSET(DE102_5!$O$23,ROWS($O$23:O35)-1,COLUMNS($O$23:O35)-1)<>\"\",OFFSET(DE102_5!$O$23,ROWS($O$23:O35)-1,COLUMNS($O$23:O35)-1),\"\")","v":""},{"$f":"IF(OFFSET(DE102_5!$P$23,ROWS($P$23:P35)-1,COLUMNS($P$23:P35)-1)<>\"\",OFFSET(DE102_5!$P$23,ROWS($P$23:P35)-1,COLUMNS($P$23:P35)-1),\"\")","v":""},{"$f":"IF(OFFSET(DE102_5!$Q$23,ROWS($Q$23:Q35)-1,COLUMNS($Q$23:Q35)-1)<>\"\",OFFSET(DE102_5!$Q$23,ROWS($Q$23:Q35)-1,COLUMNS($Q$23:Q35)-1),\"\")","v":""},{"$f":"IF(OFFSET(DE102_5!$R$23,ROWS($R$23:R35)-1,COLUMNS($R$23:R35)-1)<>\"\",OFFSET(DE102_5!$R$23,ROWS($R$23:R35)-1,COLUMNS($R$23:R35)-1),\"\")","v":""},{"$f":"IF(OFFSET(DE102_5!$S$23,ROWS($S$23:S35)-1,COLUMNS($S$23:S35)-1)<>\"\",OFFSET(DE102_5!$S$23,ROWS($S$23:S35)-1,COLUMNS($S$23:S35)-1),\"\")","v":""},{"$f":"IF(OFFSET(DE102_5!$T$23,ROWS($T$23:T35)-1,COLUMNS($T$23:T35)-1)<>\"\",OFFSET(DE102_5!$T$23,ROWS($T$23:T35)-1,COLUMNS($T$23:T35)-1),\"\")","v":""},{"$f":"IF(OFFSET(DE102_5!$U$23,ROWS($U$23:U35)-1,COLUMNS($U$23:U35)-1)<>\"\",OFFSET(DE102_5!$U$23,ROWS($U$23:U35)-1,COLUMNS($U$23:U35)-1),\"\")","v":""},{"$f":"IF(OFFSET(DE102_5!$V$23,ROWS($V$23:V35)-1,COLUMNS($V$23:V35)-1)<>\"\",OFFSET(DE102_5!$V$23,ROWS($V$23:V35)-1,COLUMNS($V$23:V35)-1),\"\")","v":""},{"$f":"IF(OFFSET(DE102_5!$W$23,ROWS($W$23:W35)-1,COLUMNS($W$23:W35)-1)<>\"\",OFFSET(DE102_5!$W$23,ROWS($W$23:W35)-1,COLUMNS($W$23:W35)-1),\"\")","v":""},{"$f":"IF(OFFSET(DE102_5!$X$23,ROWS($X$23:X35)-1,COLUMNS($X$23:X35)-1)<>\"\",OFFSET(DE102_5!$X$23,ROWS($X$23:X35)-1,COLUMNS($X$23:X35)-1),\"\")","v":""},{"$f":"IF(OFFSET(DE102_5!$Y$23,ROWS($Y$23:Y35)-1,COLUMNS($Y$23:Y35)-1)<>\"\",OFFSET(DE102_5!$Y$23,ROWS($Y$23:Y35)-1,COLUMNS($Y$23:Y35)-1),\"\")","v":""},{"$f":"IF(OFFSET(DE102_5!$Z$23,ROWS($Z$23:Z35)-1,COLUMNS($Z$23:Z35)-1)<>\"\",OFFSET(DE102_5!$Z$23,ROWS($Z$23:Z35)-1,COLUMNS($Z$23:Z35)-1),\"\")","v":""},{"$f":"IF(OFFSET(DE102_5!$AA$23,ROWS($AA$23:AA35)-1,COLUMNS($AA$23:AA35)-1)<>\"\",OFFSET(DE102_5!$AA$23,ROWS($AA$23:AA35)-1,COLUMNS($AA$23:AA35)-1),\"\")","v":""},{"$f":"IF(OFFSET(DE102_5!$AB$23,ROWS($AB$23:AB35)-1,COLUMNS($AB$23:AB35)-1)<>\"\",OFFSET(DE102_5!$AB$23,ROWS($AB$23:AB35)-1,COLUMNS($AB$23:AB35)-1),\"\")","v":""}]
[{"$f":"IF(OFFSET(DE102_5!$C$23,ROWS($C$23:C36)-1,COLUMNS($C$23:C36)-1)<>\"\",OFFSET(DE102_5!$C$23,ROWS($C$23:C36)-1,COLUMNS($C$23:C36)-1),\"\")","v":""},{"$f":"IF(OFFSET(DE102_5!$F$23,ROWS($F$23:F36)-1,COLUMNS($F$23:F36)-1)<>\"\",OFFSET(DE102_5!$F$23,ROWS($F$23:F36)-1,COLUMNS($F$23:F36)-1),\"\")","v":85},{"$f":"IF(OFFSET(DE102_5!$G$23,ROWS($G$23:G36)-1,COLUMNS($G$23:G36)-1)<>\"\",OFFSET(DE102_5!$G$23,ROWS($G$23:G36)-1,COLUMNS($G$23:G36)-1),\"\")","v":"I-35"},{"$f":"IF(OFFSET(DE102_5!$H$23,ROWS($H$23:H36)-1,COLUMNS($H$23:H36)-1)<>\"\",OFFSET(DE102_5!$H$23,ROWS($H$23:H36)-1,COLUMNS($H$23:H36)-1),\"\")","v":1},{"$f":"IF(OFFSET(DE102_5!$I$23,ROWS($I$23:I36)-1,COLUMNS($I$23:I36)-1)<>\"\",OFFSET(DE102_5!$I$23,ROWS($I$23:I36)-1,COLUMNS($I$23:I36)-1),\"\")","v":101.72},{"$f":"IF(OFFSET(DE102_5!$J$23,ROWS($J$23:J36)-1,COLUMNS($J$23:J36)-1)<>\"\",OFFSET(DE102_5!$J$23,ROWS($J$23:J36)-1,COLUMNS($J$23:J36)-1),\"\")","v":102.56},{"$f":"IF(OFFSET(DE102_5!$M$23,ROWS($M$23:M36)-1,COLUMNS($M$23:M36)-1)<>\"\",OFFSET(DE102_5!$M$23,ROWS($M$23:M36)-1,COLUMNS($M$23:M36)-1),\"\")","v":2018},{"$f":"IF(OFFSET(DE102_5!$N$23,ROWS($N$23:N36)-1,COLUMNS($N$23:N36)-1)<>\"\",OFFSET(DE102_5!$N$23,ROWS($N$23:N36)-1,COLUMNS($N$23:N36)-1),\"\")","v":"M"},{"$f":"IF(OFFSET(DE102_5!$O$23,ROWS($O$23:O36)-1,COLUMNS($O$23:O36)-1)<>\"\",OFFSET(DE102_5!$O$23,ROWS($O$23:O36)-1,COLUMNS($O$23:O36)-1),\"\")","v":"IMN-035-4(201)87--0E-77"},{"$f":"IF(OFFSET(DE102_5!$P$23,ROWS($P$23:P36)-1,COLUMNS($P$23:P36)-1)<>\"\",OFFSET(DE102_5!$P$23,ROWS($P$23:P36)-1,COLUMNS($P$23:P36)-1),\"\")","v":"PCC"},{"$f":"IF(OFFSET(DE102_5!$Q$23,ROWS($Q$23:Q36)-1,COLUMNS($Q$23:Q36)-1)<>\"\",OFFSET(DE102_5!$Q$23,ROWS($Q$23:Q36)-1,COLUMNS($Q$23:Q36)-1),\"\")","v":""},{"$f":"IF(OFFSET(DE102_5!$R$23,ROWS($R$23:R36)-1,COLUMNS($R$23:R36)-1)<>\"\",OFFSET(DE102_5!$R$23,ROWS($R$23:R36)-1,COLUMNS($R$23:R36)-1),\"\")","v":""},{"$f":"IF(OFFSET(DE102_5!$S$23,ROWS($S$23:S36)-1,COLUMNS($S$23:S36)-1)<>\"\",OFFSET(DE102_5!$S$23,ROWS($S$23:S36)-1,COLUMNS($S$23:S36)-1),\"\")","v":""},{"$f":"IF(OFFSET(DE102_5!$T$23,ROWS($T$23:T36)-1,COLUMNS($T$23:T36)-1)<>\"\",OFFSET(DE102_5!$T$23,ROWS($T$23:T36)-1,COLUMNS($T$23:T36)-1),\"\")","v":""},{"$f":"IF(OFFSET(DE102_5!$U$23,ROWS($U$23:U36)-1,COLUMNS($U$23:U36)-1)<>\"\",OFFSET(DE102_5!$U$23,ROWS($U$23:U36)-1,COLUMNS($U$23:U36)-1),\"\")","v":""},{"$f":"IF(OFFSET(DE102_5!$V$23,ROWS($V$23:V36)-1,COLUMNS($V$23:V36)-1)<>\"\",OFFSET(DE102_5!$V$23,ROWS($V$23:V36)-1,COLUMNS($V$23:V36)-1),\"\")","v":""},{"$f":"IF(OFFSET(DE102_5!$W$23,ROWS($W$23:W36)-1,COLUMNS($W$23:W36)-1)<>\"\",OFFSET(DE102_5!$W$23,ROWS($W$23:W36)-1,COLUMNS($W$23:W36)-1),\"\")","v":""},{"$f":"IF(OFFSET(DE102_5!$X$23,ROWS($X$23:X36)-1,COLUMNS($X$23:X36)-1)<>\"\",OFFSET(DE102_5!$X$23,ROWS($X$23:X36)-1,COLUMNS($X$23:X36)-1),\"\")","v":""},{"$f":"IF(OFFSET(DE102_5!$Y$23,ROWS($Y$23:Y36)-1,COLUMNS($Y$23:Y36)-1)<>\"\",OFFSET(DE102_5!$Y$23,ROWS($Y$23:Y36)-1,COLUMNS($Y$23:Y36)-1),\"\")","v":""},{"$f":"IF(OFFSET(DE102_5!$Z$23,ROWS($Z$23:Z36)-1,COLUMNS($Z$23:Z36)-1)<>\"\",OFFSET(DE102_5!$Z$23,ROWS($Z$23:Z36)-1,COLUMNS($Z$23:Z36)-1),\"\")","v":""},{"$f":"IF(OFFSET(DE102_5!$AA$23,ROWS($AA$23:AA36)-1,COLUMNS($AA$23:AA36)-1)<>\"\",OFFSET(DE102_5!$AA$23,ROWS($AA$23:AA36)-1,COLUMNS($AA$23:AA36)-1),\"\")","v":"PCC PATCHING"},{"$f":"IF(OFFSET(DE102_5!$AB$23,ROWS($AB$23:AB36)-1,COLUMNS($AB$23:AB36)-1)<>\"\",OFFSET(DE102_5!$AB$23,ROWS($AB$23:AB36)-1,COLUMNS($AB$23:AB36)-1),\"\")","v":""}]
[{"$f":"IF(OFFSET(DE102_5!$C$23,ROWS($C$23:C37)-1,COLUMNS($C$23:C37)-1)<>\"\",OFFSET(DE102_5!$C$23,ROWS($C$23:C37)-1,COLUMNS($C$23:C37)-1),\"\")","v":""},{"$f":"IF(OFFSET(DE102_5!$F$23,ROWS($F$23:F37)-1,COLUMNS($F$23:F37)-1)<>\"\",OFFSET(DE102_5!$F$23,ROWS($F$23:F37)-1,COLUMNS($F$23:F37)-1),\"\")","v":85},{"$f":"IF(OFFSET(DE102_5!$G$23,ROWS($G$23:G37)-1,COLUMNS($G$23:G37)-1)<>\"\",OFFSET(DE102_5!$G$23,ROWS($G$23:G37)-1,COLUMNS($G$23:G37)-1),\"\")","v":"I-35"},{"$f":"IF(OFFSET(DE102_5!$H$23,ROWS($H$23:H37)-1,COLUMNS($H$23:H37)-1)<>\"\",OFFSET(DE102_5!$H$23,ROWS($H$23:H37)-1,COLUMNS($H$23:H37)-1),\"\")","v":1},{"$f":"IF(OFFSET(DE102_5!$I$23,ROWS($I$23:I37)-1,COLUMNS($I$23:I37)-1)<>\"\",OFFSET(DE102_5!$I$23,ROWS($I$23:I37)-1,COLUMNS($I$23:I37)-1),\"\")","v":101.72},{"$f":"IF(OFFSET(DE102_5!$J$23,ROWS($J$23:J37)-1,COLUMNS($J$23:J37)-1)<>\"\",OFFSET(DE102_5!$J$23,ROWS($J$23:J37)-1,COLUMNS($J$23:J37)-1),\"\")","v":102.56},{"$f":"IF(OFFSET(DE102_5!$M$23,ROWS($M$23:M37)-1,COLUMNS($M$23:M37)-1)<>\"\",OFFSET(DE102_5!$M$23,ROWS($M$23:M37)-1,COLUMNS($M$23:M37)-1),\"\")","v":2017},{"$f":"IF(OFFSET(DE102_5!$N$23,ROWS($N$23:N37)-1,COLUMNS($N$23:N37)-1)<>\"\",OFFSET(DE102_5!$N$23,ROWS($N$23:N37)-1,COLUMNS($N$23:N37)-1),\"\")","v":"M"},{"$f":"IF(OFFSET(DE102_5!$O$23,ROWS($O$23:O37)-1,COLUMNS($O$23:O37)-1)<>\"\",OFFSET(DE102_5!$O$23,ROWS($O$23:O37)-1,COLUMNS($O$23:O37)-1),\"\")","v":"IMN-035-4(179)87--0E-77"},{"$f":"IF(OFFSET(DE102_5!$P$23,ROWS($P$23:P37)-1,COLUMNS($P$23:P37)-1)<>\"\",OFFSET(DE102_5!$P$23,ROWS($P$23:P37)-1,COLUMNS($P$23:P37)-1),\"\")","v":"PCC"},{"$f":"IF(OFFSET(DE102_5!$Q$23,ROWS($Q$23:Q37)-1,COLUMNS($Q$23:Q37)-1)<>\"\",OFFSET(DE102_5!$Q$23,ROWS($Q$23:Q37)-1,COLUMNS($Q$23:Q37)-1),\"\")","v":12},{"$f":"IF(OFFSET(DE102_5!$R$23,ROWS($R$23:R37)-1,COLUMNS($R$23:R37)-1)<>\"\",OFFSET(DE102_5!$R$23,ROWS($R$23:R37)-1,COLUMNS($R$23:R37)-1),\"\")","v":""},{"$f":"IF(OFFSET(DE102_5!$S$23,ROWS($S$23:S37)-1,COLUMNS($S$23:S37)-1)<>\"\",OFFSET(DE102_5!$S$23,ROWS($S$23:S37)-1,COLUMNS($S$23:S37)-1),\"\")","v":""},{"$f":"IF(OFFSET(DE102_5!$T$23,ROWS($T$23:T37)-1,COLUMNS($T$23:T37)-1)<>\"\",OFFSET(DE102_5!$T$23,ROWS($T$23:T37)-1,COLUMNS($T$23:T37)-1),\"\")","v":""},{"$f":"IF(OFFSET(DE102_5!$U$23,ROWS($U$23:U37)-1,COLUMNS($U$23:U37)-1)<>\"\",OFFSET(DE102_5!$U$23,ROWS($U$23:U37)-1,COLUMNS($U$23:U37)-1),\"\")","v":""},{"$f":"IF(OFFSET(DE102_5!$V$23,ROWS($V$23:V37)-1,COLUMNS($V$23:V37)-1)<>\"\",OFFSET(DE102_5!$V$23,ROWS($V$23:V37)-1,COLUMNS($V$23:V37)-1),\"\")","v":""},{"$f":"IF(OFFSET(DE102_5!$W$23,ROWS($W$23:W37)-1,COLUMNS($W$23:W37)-1)<>\"\",OFFSET(DE102_5!$W$23,ROWS($W$23:W37)-1,COLUMNS($W$23:W37)-1),\"\")","v":""},{"$f":"IF(OFFSET(DE102_5!$X$23,ROWS($X$23:X37)-1,COLUMNS($X$23:X37)-1)<>\"\",OFFSET(DE102_5!$X$23,ROWS($X$23:X37)-1,COLUMNS($X$23:X37)-1),\"\")","v":""},{"$f":"IF(OFFSET(DE102_5!$Y$23,ROWS($Y$23:Y37)-1,COLUMNS($Y$23:Y37)-1)<>\"\",OFFSET(DE102_5!$Y$23,ROWS($Y$23:Y37)-1,COLUMNS($Y$23:Y37)-1),\"\")","v":""},{"$f":"IF(OFFSET(DE102_5!$Z$23,ROWS($Z$23:Z37)-1,COLUMNS($Z$23:Z37)-1)<>\"\",OFFSET(DE102_5!$Z$23,ROWS($Z$23:Z37)-1,COLUMNS($Z$23:Z37)-1),\"\")","v":""},{"$f":"IF(OFFSET(DE102_5!$AA$23,ROWS($AA$23:AA37)-1,COLUMNS($AA$23:AA37)-1)<>\"\",OFFSET(DE102_5!$AA$23,ROWS($AA$23:AA37)-1,COLUMNS($AA$23:AA37)-1),\"\")","v":"PCC PATCHING"},{"$f":"IF(OFFSET(DE102_5!$AB$23,ROWS($AB$23:AB37)-1,COLUMNS($AB$23:AB37)-1)<>\"\",OFFSET(DE102_5!$AB$23,ROWS($AB$23:AB37)-1,COLUMNS($AB$23:AB37)-1),\"\")","v":""}]
[{"$f":"IF(OFFSET(DE102_5!$C$23,ROWS($C$23:C38)-1,COLUMNS($C$23:C38)-1)<>\"\",OFFSET(DE102_5!$C$23,ROWS($C$23:C38)-1,COLUMNS($C$23:C38)-1),\"\")","v":""},{"$f":"IF(OFFSET(DE102_5!$F$23,ROWS($F$23:F38)-1,COLUMNS($F$23:F38)-1)<>\"\",OFFSET(DE102_5!$F$23,ROWS($F$23:F38)-1,COLUMNS($F$23:F38)-1),\"\")","v":85},{"$f":"IF(OFFSET(DE102_5!$G$23,ROWS($G$23:G38)-1,COLUMNS($G$23:G38)-1)<>\"\",OFFSET(DE102_5!$G$23,ROWS($G$23:G38)-1,COLUMNS($G$23:G38)-1),\"\")","v":"I-35"},{"$f":"IF(OFFSET(DE102_5!$H$23,ROWS($H$23:H38)-1,COLUMNS($H$23:H38)-1)<>\"\",OFFSET(DE102_5!$H$23,ROWS($H$23:H38)-1,COLUMNS($H$23:H38)-1),\"\")","v":1},{"$f":"IF(OFFSET(DE102_5!$I$23,ROWS($I$23:I38)-1,COLUMNS($I$23:I38)-1)<>\"\",OFFSET(DE102_5!$I$23,ROWS($I$23:I38)-1,COLUMNS($I$23:I38)-1),\"\")","v":101.72},{"$f":"IF(OFFSET(DE102_5!$J$23,ROWS($J$23:J38)-1,COLUMNS($J$23:J38)-1)<>\"\",OFFSET(DE102_5!$J$23,ROWS($J$23:J38)-1,COLUMNS($J$23:J38)-1),\"\")","v":102.56},{"$f":"IF(OFFSET(DE102_5!$M$23,ROWS($M$23:M38)-1,COLUMNS($M$23:M38)-1)<>\"\",OFFSET(DE102_5!$M$23,ROWS($M$23:M38)-1,COLUMNS($M$23:M38)-1),\"\")","v":2008},{"$f":"IF(OFFSET(DE102_5!$N$23,ROWS($N$23:N38)-1,COLUMNS($N$23:N38)-1)<>\"\",OFFSET(DE102_5!$N$23,ROWS($N$23:N38)-1,COLUMNS($N$23:N38)-1),\"\")","v":"W"},{"$f":"IF(OFFSET(DE102_5!$O$23,ROWS($O$23:O38)-1,COLUMNS($O$23:O38)-1)<>\"\",OFFSET(DE102_5!$O$23,ROWS($O$23:O38)-1,COLUMNS($O$23:O38)-1),\"\")","v":"IM-35-4(131)92--10-77"},{"$f":"IF(OFFSET(DE102_5!$P$23,ROWS($P$23:P38)-1,COLUMNS($P$23:P38)-1)<>\"\",OFFSET(DE102_5!$P$23,ROWS($P$23:P38)-1,COLUMNS($P$23:P38)-1),\"\")","v":"HMA"},{"$f":"IF(OFFSET(DE102_5!$Q$23,ROWS($Q$23:Q38)-1,COLUMNS($Q$23:Q38)-1)<>\"\",OFFSET(DE102_5!$Q$23,ROWS($Q$23:Q38)-1,COLUMNS($Q$23:Q38)-1),\"\")","v":2},{"$f":"IF(OFFSET(DE102_5!$R$23,ROWS($R$23:R38)-1,COLUMNS($R$23:R38)-1)<>\"\",OFFSET(DE102_5!$R$23,ROWS($R$23:R38)-1,COLUMNS($R$23:R38)-1),\"\")","v":"HMA"},{"$f":"IF(OFFSET(DE102_5!$S$23,ROWS($S$23:S38)-1,COLUMNS($S$23:S38)-1)<>\"\",OFFSET(DE102_5!$S$23,ROWS($S$23:S38)-1,COLUMNS($S$23:S38)-1),\"\")","v":2},{"$f":"IF(OFFSET(DE102_5!$T$23,ROWS($T$23:T38)-1,COLUMNS($T$23:T38)-1)<>\"\",OFFSET(DE102_5!$T$23,ROWS($T$23:T38)-1,COLUMNS($T$23:T38)-1),\"\")","v":""},{"$f":"IF(OFFSET(DE102_5!$U$23,ROWS($U$23:U38)-1,COLUMNS($U$23:U38)-1)<>\"\",OFFSET(DE102_5!$U$23,ROWS($U$23:U38)-1,COLUMNS($U$23:U38)-1),\"\")","v":""},{"$f":"IF(OFFSET(DE102_5!$V$23,ROWS($V$23:V38)-1,COLUMNS($V$23:V38)-1)<>\"\",OFFSET(DE102_5!$V$23,ROWS($V$23:V38)-1,COLUMNS($V$23:V38)-1),\"\")","v":""},{"$f":"IF(OFFSET(DE102_5!$W$23,ROWS($W$23:W38)-1,COLUMNS($W$23:W38)-1)<>\"\",OFFSET(DE102_5!$W$23,ROWS($W$23:W38)-1,COLUMNS($W$23:W38)-1),\"\")","v":""},{"$f":"IF(OFFSET(DE102_5!$X$23,ROWS($X$23:X38)-1,COLUMNS($X$23:X38)-1)<>\"\",OFFSET(DE102_5!$X$23,ROWS($X$23:X38)-1,COLUMNS($X$23:X38)-1),\"\")","v":"AMES MINE"},{"$f":"IF(OFFSET(DE102_5!$Y$23,ROWS($Y$23:Y38)-1,COLUMNS($Y$23:Y38)-1)<>\"\",OFFSET(DE102_5!$Y$23,ROWS($Y$23:Y38)-1,COLUMNS($Y$23:Y38)-1),\"\")","v":"C.LST."},{"$f":"IF(OFFSET(DE102_5!$Z$23,ROWS($Z$23:Z38)-1,COLUMNS($Z$23:Z38)-1)<>\"\",OFFSET(DE102_5!$Z$23,ROWS($Z$23:Z38)-1,COLUMNS($Z$23:Z38)-1),\"\")","v":""},{"$f":"IF(OFFSET(DE102_5!$AA$23,ROWS($AA$23:AA38)-1,COLUMNS($AA$23:AA38)-1)<>\"\",OFFSET(DE102_5!$AA$23,ROWS($AA$23:AA38)-1,COLUMNS($AA$23:AA38)-1),\"\")","v":""},{"$f":"IF(OFFSET(DE102_5!$AB$23,ROWS($AB$23:AB38)-1,COLUMNS($AB$23:AB38)-1)<>\"\",OFFSET(DE102_5!$AB$23,ROWS($AB$23:AB38)-1,COLUMNS($AB$23:AB38)-1),\"\")","v":""}]
[{"$f":"IF(OFFSET(DE102_5!$C$23,ROWS($C$23:C39)-1,COLUMNS($C$23:C39)-1)<>\"\",OFFSET(DE102_5!$C$23,ROWS($C$23:C39)-1,COLUMNS($C$23:C39)-1),\"\")","v":""},{"$f":"IF(OFFSET(DE102_5!$F$23,ROWS($F$23:F39)-1,COLUMNS($F$23:F39)-1)<>\"\",OFFSET(DE102_5!$F$23,ROWS($F$23:F39)-1,COLUMNS($F$23:F39)-1),\"\")","v":85},{"$f":"IF(OFFSET(DE102_5!$G$23,ROWS($G$23:G39)-1,COLUMNS($G$23:G39)-1)<>\"\",OFFSET(DE102_5!$G$23,ROWS($G$23:G39)-1,COLUMNS($G$23:G39)-1),\"\")","v":"I-35"},{"$f":"IF(OFFSET(DE102_5!$H$23,ROWS($H$23:H39)-1,COLUMNS($H$23:H39)-1)<>\"\",OFFSET(DE102_5!$H$23,ROWS($H$23:H39)-1,COLUMNS($H$23:H39)-1),\"\")","v":1},{"$f":"IF(OFFSET(DE102_5!$I$23,ROWS($I$23:I39)-1,COLUMNS($I$23:I39)-1)<>\"\",OFFSET(DE102_5!$I$23,ROWS($I$23:I39)-1,COLUMNS($I$23:I39)-1),\"\")","v":101.72},{"$f":"IF(OFFSET(DE102_5!$J$23,ROWS($J$23:J39)-1,COLUMNS($J$23:J39)-1)<>\"\",OFFSET(DE102_5!$J$23,ROWS($J$23:J39)-1,COLUMNS($J$23:J39)-1),\"\")","v":102.56},{"$f":"IF(OFFSET(DE102_5!$M$23,ROWS($M$23:M39)-1,COLUMNS($M$23:M39)-1)<>\"\",OFFSET(DE102_5!$M$23,ROWS($M$23:M39)-1,COLUMNS($M$23:M39)-1),\"\")","v":2008},{"$f":"IF(OFFSET(DE102_5!$N$23,ROWS($N$23:N39)-1,COLUMNS($N$23:N39)-1)<>\"\",OFFSET(DE102_5!$N$23,ROWS($N$23:N39)-1,COLUMNS($N$23:N39)-1),\"\")","v":""},{"$f":"IF(OFFSET(DE102_5!$O$23,ROWS($O$23:O39)-1,COLUMNS($O$23:O39)-1)<>\"\",OFFSET(DE102_5!$O$23,ROWS($O$23:O39)-1,COLUMNS($O$23:O39)-1),\"\")","v":"IM-35-4(131)92--10-77"},{"$f":"IF(OFFSET(DE102_5!$P$23,ROWS($P$23:P39)-1,COLUMNS($P$23:P39)-1)<>\"\",OFFSET(DE102_5!$P$23,ROWS($P$23:P39)-1,COLUMNS($P$23:P39)-1),\"\")","v":"HMA"},{"$f":"IF(OFFSET(DE102_5!$Q$23,ROWS($Q$23:Q39)-1,COLUMNS($Q$23:Q39)-1)<>\"\",OFFSET(DE102_5!$Q$23,ROWS($Q$23:Q39)-1,COLUMNS($Q$23:Q39)-1),\"\")","v":2},{"$f":"IF(OFFSET(DE102_5!$R$23,ROWS($R$23:R39)-1,COLUMNS($R$23:R39)-1)<>\"\",OFFSET(DE102_5!$R$23,ROWS($R$23:R39)-1,COLUMNS($R$23:R39)-1),\"\")","v":"HMA"},{"$f":"IF(OFFSET(DE102_5!$S$23,ROWS($S$23:S39)-1,COLUMNS($S$23:S39)-1)<>\"\",OFFSET(DE102_5!$S$23,ROWS($S$23:S39)-1,COLUMNS($S$23:S39)-1),\"\")","v":2},{"$f":"IF(OFFSET(DE102_5!$T$23,ROWS($T$23:T39)-1,COLUMNS($T$23:T39)-1)<>\"\",OFFSET(DE102_5!$T$23,ROWS($T$23:T39)-1,COLUMNS($T$23:T39)-1),\"\")","v":""},{"$f":"IF(OFFSET(DE102_5!$U$23,ROWS($U$23:U39)-1,COLUMNS($U$23:U39)-1)<>\"\",OFFSET(DE102_5!$U$23,ROWS($U$23:U39)-1,COLUMNS($U$23:U39)-1),\"\")","v":""},{"$f":"IF(OFFSET(DE102_5!$V$23,ROWS($V$23:V39)-1,COLUMNS($V$23:V39)-1)<>\"\",OFFSET(DE102_5!$V$23,ROWS($V$23:V39)-1,COLUMNS($V$23:V39)-1),\"\")","v":""},{"$f":"IF(OFFSET(DE102_5!$W$23,ROWS($W$23:W39)-1,COLUMNS($W$23:W39)-1)<>\"\",OFFSET(DE102_5!$W$23,ROWS($W$23:W39)-1,COLUMNS($W$23:W39)-1),\"\")","v":""},{"$f":"IF(OFFSET(DE102_5!$X$23,ROWS($X$23:X39)-1,COLUMNS($X$23:X39)-1)<>\"\",OFFSET(DE102_5!$X$23,ROWS($X$23:X39)-1,COLUMNS($X$23:X39)-1),\"\")","v":"AMES MINE"},{"$f":"IF(OFFSET(DE102_5!$Y$23,ROWS($Y$23:Y39)-1,COLUMNS($Y$23:Y39)-1)<>\"\",OFFSET(DE102_5!$Y$23,ROWS($Y$23:Y39)-1,COLUMNS($Y$23:Y39)-1),\"\")","v":"C.LST."},{"$f":"IF(OFFSET(DE102_5!$Z$23,ROWS($Z$23:Z39)-1,COLUMNS($Z$23:Z39)-1)<>\"\",OFFSET(DE102_5!$Z$23,ROWS($Z$23:Z39)-1,COLUMNS($Z$23:Z39)-1),\"\")","v":""},{"$f":"IF(OFFSET(DE102_5!$AA$23,ROWS($AA$23:AA39)-1,COLUMNS($AA$23:AA39)-1)<>\"\",OFFSET(DE102_5!$AA$23,ROWS($AA$23:AA39)-1,COLUMNS($AA$23:AA39)-1),\"\")","v":""},{"$f":"IF(OFFSET(DE102_5!$AB$23,ROWS($AB$23:AB39)-1,COLUMNS($AB$23:AB39)-1)<>\"\",OFFSET(DE102_5!$AB$23,ROWS($AB$23:AB39)-1,COLUMNS($AB$23:AB39)-1),\"\")","v":""}]
[{"$f":"IF(OFFSET(DE102_5!$C$23,ROWS($C$23:C40)-1,COLUMNS($C$23:C40)-1)<>\"\",OFFSET(DE102_5!$C$23,ROWS($C$23:C40)-1,COLUMNS($C$23:C40)-1),\"\")","v":""},{"$f":"IF(OFFSET(DE102_5!$F$23,ROWS($F$23:F40)-1,COLUMNS($F$23:F40)-1)<>\"\",OFFSET(DE102_5!$F$23,ROWS($F$23:F40)-1,COLUMNS($F$23:F40)-1),\"\")","v":85},{"$f":"IF(OFFSET(DE102_5!$G$23,ROWS($G$23:G40)-1,COLUMNS($G$23:G40)-1)<>\"\",OFFSET(DE102_5!$G$23,ROWS($G$23:G40)-1,COLUMNS($G$23:G40)-1),\"\")","v":"I-35"},{"$f":"IF(OFFSET(DE102_5!$H$23,ROWS($H$23:H40)-1,COLUMNS($H$23:H40)-1)<>\"\",OFFSET(DE102_5!$H$23,ROWS($H$23:H40)-1,COLUMNS($H$23:H40)-1),\"\")","v":1},{"$f":"IF(OFFSET(DE102_5!$I$23,ROWS($I$23:I40)-1,COLUMNS($I$23:I40)-1)<>\"\",OFFSET(DE102_5!$I$23,ROWS($I$23:I40)-1,COLUMNS($I$23:I40)-1),\"\")","v":101.72},{"$f":"IF(OFFSET(DE102_5!$J$23,ROWS($J$23:J40)-1,COLUMNS($J$23:J40)-1)<>\"\",OFFSET(DE102_5!$J$23,ROWS($J$23:J40)-1,COLUMNS($J$23:J40)-1),\"\")","v":102.56},{"$f":"IF(OFFSET(DE102_5!$M$23,ROWS($M$23:M40)-1,COLUMNS($M$23:M40)-1)<>\"\",OFFSET(DE102_5!$M$23,ROWS($M$23:M40)-1,COLUMNS($M$23:M40)-1),\"\")","v":1988},{"$f":"IF(OFFSET(DE102_5!$N$23,ROWS($N$23:N40)-1,COLUMNS($N$23:N40)-1)<>\"\",OFFSET(DE102_5!$N$23,ROWS($N$23:N40)-1,COLUMNS($N$23:N40)-1),\"\")","v":""},{"$f":"IF(OFFSET(DE102_5!$O$23,ROWS($O$23:O40)-1,COLUMNS($O$23:O40)-1)<>\"\",OFFSET(DE102_5!$O$23,ROWS($O$23:O40)-1,COLUMNS($O$23:O40)-1),\"\")","v":"IR-35-3(49)87"},{"$f":"IF(OFFSET(DE102_5!$P$23,ROWS($P$23:P40)-1,COLUMNS($P$23:P40)-1)<>\"\",OFFSET(DE102_5!$P$23,ROWS($P$23:P40)-1,COLUMNS($P$23:P40)-1),\"\")","v":"AAC"},{"$f":"IF(OFFSET(DE102_5!$Q$23,ROWS($Q$23:Q40)-1,COLUMNS($Q$23:Q40)-1)<>\"\",OFFSET(DE102_5!$Q$23,ROWS($Q$23:Q40)-1,COLUMNS($Q$23:Q40)-1),\"\")","v":4},{"$f":"IF(OFFSET(DE102_5!$R$23,ROWS($R$23:R40)-1,COLUMNS($R$23:R40)-1)<>\"\",OFFSET(DE102_5!$R$23,ROWS($R$23:R40)-1,COLUMNS($R$23:R40)-1),\"\")","v":""},{"$f":"IF(OFFSET(DE102_5!$S$23,ROWS($S$23:S40)-1,COLUMNS($S$23:S40)-1)<>\"\",OFFSET(DE102_5!$S$23,ROWS($S$23:S40)-1,COLUMNS($S$23:S40)-1),\"\")","v":""},{"$f":"IF(OFFSET(DE102_5!$T$23,ROWS($T$23:T40)-1,COLUMNS($T$23:T40)-1)<>\"\",OFFSET(DE102_5!$T$23,ROWS($T$23:T40)-1,COLUMNS($T$23:T40)-1),\"\")","v":""},{"$f":"IF(OFFSET(DE102_5!$U$23,ROWS($U$23:U40)-1,COLUMNS($U$23:U40)-1)<>\"\",OFFSET(DE102_5!$U$23,ROWS($U$23:U40)-1,COLUMNS($U$23:U40)-1),\"\")","v":""},{"$f":"IF(OFFSET(DE102_5!$V$23,ROWS($V$23:V40)-1,COLUMNS($V$23:V40)-1)<>\"\",OFFSET(DE102_5!$V$23,ROWS($V$23:V40)-1,COLUMNS($V$23:V40)-1),\"\")","v":""},{"$f":"IF(OFFSET(DE102_5!$W$23,ROWS($W$23:W40)-1,COLUMNS($W$23:W40)-1)<>\"\",OFFSET(DE102_5!$W$23,ROWS($W$23:W40)-1,COLUMNS($W$23:W40)-1),\"\")","v":""},{"$f":"IF(OFFSET(DE102_5!$X$23,ROWS($X$23:X40)-1,COLUMNS($X$23:X40)-1)<>\"\",OFFSET(DE102_5!$X$23,ROWS($X$23:X40)-1,COLUMNS($X$23:X40)-1),\"\")","v":"AMES MINE"},{"$f":"IF(OFFSET(DE102_5!$Y$23,ROWS($Y$23:Y40)-1,COLUMNS($Y$23:Y40)-1)<>\"\",OFFSET(DE102_5!$Y$23,ROWS($Y$23:Y40)-1,COLUMNS($Y$23:Y40)-1),\"\")","v":"C.LST."},{"$f":"IF(OFFSET(DE102_5!$Z$23,ROWS($Z$23:Z40)-1,COLUMNS($Z$23:Z40)-1)<>\"\",OFFSET(DE102_5!$Z$23,ROWS($Z$23:Z40)-1,COLUMNS($Z$23:Z40)-1),\"\")","v":""},{"$f":"IF(OFFSET(DE102_5!$AA$23,ROWS($AA$23:AA40)-1,COLUMNS($AA$23:AA40)-1)<>\"\",OFFSET(DE102_5!$AA$23,ROWS($AA$23:AA40)-1,COLUMNS($AA$23:AA40)-1),\"\")","v":""},{"$f":"IF(OFFSET(DE102_5!$AB$23,ROWS($AB$23:AB40)-1,COLUMNS($AB$23:AB40)-1)<>\"\",OFFSET(DE102_5!$AB$23,ROWS($AB$23:AB40)-1,COLUMNS($AB$23:AB40)-1),\"\")","v":""}]
[{"$f":"IF(OFFSET(DE102_5!$C$23,ROWS($C$23:C41)-1,COLUMNS($C$23:C41)-1)<>\"\",OFFSET(DE102_5!$C$23,ROWS($C$23:C41)-1,COLUMNS($C$23:C41)-1),\"\")","v":""},{"$f":"IF(OFFSET(DE102_5!$F$23,ROWS($F$23:F41)-1,COLUMNS($F$23:F41)-1)<>\"\",OFFSET(DE102_5!$F$23,ROWS($F$23:F41)-1,COLUMNS($F$23:F41)-1),\"\")","v":85},{"$f":"IF(OFFSET(DE102_5!$G$23,ROWS($G$23:G41)-1,COLUMNS($G$23:G41)-1)<>\"\",OFFSET(DE102_5!$G$23,ROWS($G$23:G41)-1,COLUMNS($G$23:G41)-1),\"\")","v":"I-35"},{"$f":"IF(OFFSET(DE102_5!$H$23,ROWS($H$23:H41)-1,COLUMNS($H$23:H41)-1)<>\"\",OFFSET(DE102_5!$H$23,ROWS($H$23:H41)-1,COLUMNS($H$23:H41)-1),\"\")","v":1},{"$f":"IF(OFFSET(DE102_5!$I$23,ROWS($I$23:I41)-1,COLUMNS($I$23:I41)-1)<>\"\",OFFSET(DE102_5!$I$23,ROWS($I$23:I41)-1,COLUMNS($I$23:I41)-1),\"\")","v":101.72},{"$f":"IF(OFFSET(DE102_5!$J$23,ROWS($J$23:J41)-1,COLUMNS($J$23:J41)-1)<>\"\",OFFSET(DE102_5!$J$23,ROWS($J$23:J41)-1,COLUMNS($J$23:J41)-1),\"\")","v":102.56},{"$f":"IF(OFFSET(DE102_5!$M$23,ROWS($M$23:M41)-1,COLUMNS($M$23:M41)-1)<>\"\",OFFSET(DE102_5!$M$23,ROWS($M$23:M41)-1,COLUMNS($M$23:M41)-1),\"\")","v":1965},{"$f":"IF(OFFSET(DE102_5!$N$23,ROWS($N$23:N41)-1,COLUMNS($N$23:N41)-1)<>\"\",OFFSET(DE102_5!$N$23,ROWS($N$23:N41)-1,COLUMNS($N$23:N41)-1),\"\")","v":""},{"$f":"IF(OFFSET(DE102_5!$O$23,ROWS($O$23:O41)-1,COLUMNS($O$23:O41)-1)<>\"\",OFFSET(DE102_5!$O$23,ROWS($O$23:O41)-1,COLUMNS($O$23:O41)-1),\"\")","v":"I-35-4(11)93"},{"$f":"IF(OFFSET(DE102_5!$P$23,ROWS($P$23:P41)-1,COLUMNS($P$23:P41)-1)<>\"\",OFFSET(DE102_5!$P$23,ROWS($P$23:P41)-1,COLUMNS($P$23:P41)-1),\"\")","v":"PCC"},{"$f":"IF(OFFSET(DE102_5!$Q$23,ROWS($Q$23:Q41)-1,COLUMNS($Q$23:Q41)-1)<>\"\",OFFSET(DE102_5!$Q$23,ROWS($Q$23:Q41)-1,COLUMNS($Q$23:Q41)-1),\"\")","v":10},{"$f":"IF(OFFSET(DE102_5!$R$23,ROWS($R$23:R41)-1,COLUMNS($R$23:R41)-1)<>\"\",OFFSET(DE102_5!$R$23,ROWS($R$23:R41)-1,COLUMNS($R$23:R41)-1),\"\")","v":"GSB"},{"$f":"IF(OFFSET(DE102_5!$S$23,ROWS($S$23:S41)-1,COLUMNS($S$23:S41)-1)<>\"\",OFFSET(DE102_5!$S$23,ROWS($S$23:S41)-1,COLUMNS($S$23:S41)-1),\"\")","v":4},{"$f":"IF(OFFSET(DE102_5!$T$23,ROWS($T$23:T41)-1,COLUMNS($T$23:T41)-1)<>\"\",OFFSET(DE102_5!$T$23,ROWS($T$23:T41)-1,COLUMNS($T$23:T41)-1),\"\")","v":""},{"$f":"IF(OFFSET(DE102_5!$U$23,ROWS($U$23:U41)-1,COLUMNS($U$23:U41)-1)<>\"\",OFFSET(DE102_5!$U$23,ROWS($U$23:U41)-1,COLUMNS($U$23:U41)-1),\"\")","v":""},{"$f":"IF(OFFSET(DE102_5!$V$23,ROWS($V$23:V41)-1,COLUMNS($V$23:V41)-1)<>\"\",OFFSET(DE102_5!$V$23,ROWS($V$23:V41)-1,COLUMNS($V$23:V41)-1),\"\")","v":""},{"$f":"IF(OFFSET(DE102_5!$W$23,ROWS($W$23:W41)-1,COLUMNS($W$23:W41)-1)<>\"\",OFFSET(DE102_5!$W$23,ROWS($W$23:W41)-1,COLUMNS($W$23:W41)-1),\"\")","v":""},{"$f":"IF(OFFSET(DE102_5!$X$23,ROWS($X$23:X41)-1,COLUMNS($X$23:X41)-1)<>\"\",OFFSET(DE102_5!$X$23,ROWS($X$23:X41)-1,COLUMNS($X$23:X41)-1),\"\")","v":"CHRISTENSEN"},{"$f":"IF(OFFSET(DE102_5!$Y$23,ROWS($Y$23:Y41)-1,COLUMNS($Y$23:Y41)-1)<>\"\",OFFSET(DE102_5!$Y$23,ROWS($Y$23:Y41)-1,COLUMNS($Y$23:Y41)-1),\"\")","v":"GRAVEL"},{"$f":"IF(OFFSET(DE102_5!$Z$23,ROWS($Z$23:Z41)-1,COLUMNS($Z$23:Z41)-1)<>\"\",OFFSET(DE102_5!$Z$23,ROWS($Z$23:Z41)-1,COLUMNS($Z$23:Z41)-1),\"\")","v":1},{"$f":"IF(OFFSET(DE102_5!$AA$23,ROWS($AA$23:AA41)-1,COLUMNS($AA$23:AA41)-1)<>\"\",OFFSET(DE102_5!$AA$23,ROWS($AA$23:AA41)-1,COLUMNS($AA$23:AA41)-1),\"\")","v":""},{"$f":"IF(OFFSET(DE102_5!$AB$23,ROWS($AB$23:AB41)-1,COLUMNS($AB$23:AB41)-1)<>\"\",OFFSET(DE102_5!$AB$23,ROWS($AB$23:AB41)-1,COLUMNS($AB$23:AB41)-1),\"\")","v":""}]
[{"$f":"IF(OFFSET(DE102_5!$C$23,ROWS($C$23:C42)-1,COLUMNS($C$23:C42)-1)<>\"\",OFFSET(DE102_5!$C$23,ROWS($C$23:C42)-1,COLUMNS($C$23:C42)-1),\"\")","v":""},{"$f":"IF(OFFSET(DE102_5!$F$23,ROWS($F$23:F42)-1,COLUMNS($F$23:F42)-1)<>\"\",OFFSET(DE102_5!$F$23,ROWS($F$23:F42)-1,COLUMNS($F$23:F42)-1),\"\")","v":""},{"$f":"IF(OFFSET(DE102_5!$G$23,ROWS($G$23:G42)-1,COLUMNS($G$23:G42)-1)<>\"\",OFFSET(DE102_5!$G$23,ROWS($G$23:G42)-1,COLUMNS($G$23:G42)-1),\"\")","v":""},{"$f":"IF(OFFSET(DE102_5!$H$23,ROWS($H$23:H42)-1,COLUMNS($H$23:H42)-1)<>\"\",OFFSET(DE102_5!$H$23,ROWS($H$23:H42)-1,COLUMNS($H$23:H42)-1),\"\")","v":""},{"$f":"IF(OFFSET(DE102_5!$I$23,ROWS($I$23:I42)-1,COLUMNS($I$23:I42)-1)<>\"\",OFFSET(DE102_5!$I$23,ROWS($I$23:I42)-1,COLUMNS($I$23:I42)-1),\"\")","v":""},{"$f":"IF(OFFSET(DE102_5!$J$23,ROWS($J$23:J42)-1,COLUMNS($J$23:J42)-1)<>\"\",OFFSET(DE102_5!$J$23,ROWS($J$23:J42)-1,COLUMNS($J$23:J42)-1),\"\")","v":""},{"$f":"IF(OFFSET(DE102_5!$M$23,ROWS($M$23:M42)-1,COLUMNS($M$23:M42)-1)<>\"\",OFFSET(DE102_5!$M$23,ROWS($M$23:M42)-1,COLUMNS($M$23:M42)-1),\"\")","v":""},{"$f":"IF(OFFSET(DE102_5!$N$23,ROWS($N$23:N42)-1,COLUMNS($N$23:N42)-1)<>\"\",OFFSET(DE102_5!$N$23,ROWS($N$23:N42)-1,COLUMNS($N$23:N42)-1),\"\")","v":""},{"$f":"IF(OFFSET(DE102_5!$O$23,ROWS($O$23:O42)-1,COLUMNS($O$23:O42)-1)<>\"\",OFFSET(DE102_5!$O$23,ROWS($O$23:O42)-1,COLUMNS($O$23:O42)-1),\"\")","v":""},{"$f":"IF(OFFSET(DE102_5!$P$23,ROWS($P$23:P42)-1,COLUMNS($P$23:P42)-1)<>\"\",OFFSET(DE102_5!$P$23,ROWS($P$23:P42)-1,COLUMNS($P$23:P42)-1),\"\")","v":""},{"$f":"IF(OFFSET(DE102_5!$Q$23,ROWS($Q$23:Q42)-1,COLUMNS($Q$23:Q42)-1)<>\"\",OFFSET(DE102_5!$Q$23,ROWS($Q$23:Q42)-1,COLUMNS($Q$23:Q42)-1),\"\")","v":""},{"$f":"IF(OFFSET(DE102_5!$R$23,ROWS($R$23:R42)-1,COLUMNS($R$23:R42)-1)<>\"\",OFFSET(DE102_5!$R$23,ROWS($R$23:R42)-1,COLUMNS($R$23:R42)-1),\"\")","v":""},{"$f":"IF(OFFSET(DE102_5!$S$23,ROWS($S$23:S42)-1,COLUMNS($S$23:S42)-1)<>\"\",OFFSET(DE102_5!$S$23,ROWS($S$23:S42)-1,COLUMNS($S$23:S42)-1),\"\")","v":""},{"$f":"IF(OFFSET(DE102_5!$T$23,ROWS($T$23:T42)-1,COLUMNS($T$23:T42)-1)<>\"\",OFFSET(DE102_5!$T$23,ROWS($T$23:T42)-1,COLUMNS($T$23:T42)-1),\"\")","v":""},{"$f":"IF(OFFSET(DE102_5!$U$23,ROWS($U$23:U42)-1,COLUMNS($U$23:U42)-1)<>\"\",OFFSET(DE102_5!$U$23,ROWS($U$23:U42)-1,COLUMNS($U$23:U42)-1),\"\")","v":""},{"$f":"IF(OFFSET(DE102_5!$V$23,ROWS($V$23:V42)-1,COLUMNS($V$23:V42)-1)<>\"\",OFFSET(DE102_5!$V$23,ROWS($V$23:V42)-1,COLUMNS($V$23:V42)-1),\"\")","v":""},{"$f":"IF(OFFSET(DE102_5!$W$23,ROWS($W$23:W42)-1,COLUMNS($W$23:W42)-1)<>\"\",OFFSET(DE102_5!$W$23,ROWS($W$23:W42)-1,COLUMNS($W$23:W42)-1),\"\")","v":""},{"$f":"IF(OFFSET(DE102_5!$X$23,ROWS($X$23:X42)-1,COLUMNS($X$23:X42)-1)<>\"\",OFFSET(DE102_5!$X$23,ROWS($X$23:X42)-1,COLUMNS($X$23:X42)-1),\"\")","v":""},{"$f":"IF(OFFSET(DE102_5!$Y$23,ROWS($Y$23:Y42)-1,COLUMNS($Y$23:Y42)-1)<>\"\",OFFSET(DE102_5!$Y$23,ROWS($Y$23:Y42)-1,COLUMNS($Y$23:Y42)-1),\"\")","v":""},{"$f":"IF(OFFSET(DE102_5!$Z$23,ROWS($Z$23:Z42)-1,COLUMNS($Z$23:Z42)-1)<>\"\",OFFSET(DE102_5!$Z$23,ROWS($Z$23:Z42)-1,COLUMNS($Z$23:Z42)-1),\"\")","v":""},{"$f":"IF(OFFSET(DE102_5!$AA$23,ROWS($AA$23:AA42)-1,COLUMNS($AA$23:AA42)-1)<>\"\",OFFSET(DE102_5!$AA$23,ROWS($AA$23:AA42)-1,COLUMNS($AA$23:AA42)-1),\"\")","v":""},{"$f":"IF(OFFSET(DE102_5!$AB$23,ROWS($AB$23:AB42)-1,COLUMNS($AB$23:AB42)-1)<>\"\",OFFSET(DE102_5!$AB$23,ROWS($AB$23:AB42)-1,COLUMNS($AB$23:AB42)-1),\"\")","v":""}]
[{"$f":"IF(OFFSET(DE102_5!$C$23,ROWS($C$23:C43)-1,COLUMNS($C$23:C43)-1)<>\"\",OFFSET(DE102_5!$C$23,ROWS($C$23:C43)-1,COLUMNS($C$23:C43)-1),\"\")","v":""},{"$f":"IF(OFFSET(DE102_5!$F$23,ROWS($F$23:F43)-1,COLUMNS($F$23:F43)-1)<>\"\",OFFSET(DE102_5!$F$23,ROWS($F$23:F43)-1,COLUMNS($F$23:F43)-1),\"\")","v":85},{"$f":"IF(OFFSET(DE102_5!$G$23,ROWS($G$23:G43)-1,COLUMNS($G$23:G43)-1)<>\"\",OFFSET(DE102_5!$G$23,ROWS($G$23:G43)-1,COLUMNS($G$23:G43)-1),\"\")","v":"I-35"},{"$f":"IF(OFFSET(DE102_5!$H$23,ROWS($H$23:H43)-1,COLUMNS($H$23:H43)-1)<>\"\",OFFSET(DE102_5!$H$23,ROWS($H$23:H43)-1,COLUMNS($H$23:H43)-1),\"\")","v":1},{"$f":"IF(OFFSET(DE102_5!$I$23,ROWS($I$23:I43)-1,COLUMNS($I$23:I43)-1)<>\"\",OFFSET(DE102_5!$I$23,ROWS($I$23:I43)-1,COLUMNS($I$23:I43)-1),\"\")","v":102.56},{"$f":"IF(OFFSET(DE102_5!$J$23,ROWS($J$23:J43)-1,COLUMNS($J$23:J43)-1)<>\"\",OFFSET(DE102_5!$J$23,ROWS($J$23:J43)-1,COLUMNS($J$23:J43)-1),\"\")","v":103.22},{"$f":"IF(OFFSET(DE102_5!$M$23,ROWS($M$23:M43)-1,COLUMNS($M$23:M43)-1)<>\"\",OFFSET(DE102_5!$M$23,ROWS($M$23:M43)-1,COLUMNS($M$23:M43)-1),\"\")","v":2018},{"$f":"IF(OFFSET(DE102_5!$N$23,ROWS($N$23:N43)-1,COLUMNS($N$23:N43)-1)<>\"\",OFFSET(DE102_5!$N$23,ROWS($N$23:N43)-1,COLUMNS($N$23:N43)-1),\"\")","v":"M"},{"$f":"IF(OFFSET(DE102_5!$O$23,ROWS($O$23:O43)-1,COLUMNS($O$23:O43)-1)<>\"\",OFFSET(DE102_5!$O$23,ROWS($O$23:O43)-1,COLUMNS($O$23:O43)-1),\"\")","v":"IMN-035-4(201)87--0E-77"},{"$f":"IF(OFFSET(DE102_5!$P$23,ROWS($P$23:P43)-1,COLUMNS($P$23:P43)-1)<>\"\",OFFSET(DE102_5!$P$23,ROWS($P$23:P43)-1,COLUMNS($P$23:P43)-1),\"\")","v":"PCC"},{"$f":"IF(OFFSET(DE102_5!$Q$23,ROWS($Q$23:Q43)-1,COLUMNS($Q$23:Q43)-1)<>\"\",OFFSET(DE102_5!$Q$23,ROWS($Q$23:Q43)-1,COLUMNS($Q$23:Q43)-1),\"\")","v":""},{"$f":"IF(OFFSET(DE102_5!$R$23,ROWS($R$23:R43)-1,COLUMNS($R$23:R43)-1)<>\"\",OFFSET(DE102_5!$R$23,ROWS($R$23:R43)-1,COLUMNS($R$23:R43)-1),\"\")","v":""},{"$f":"IF(OFFSET(DE102_5!$S$23,ROWS($S$23:S43)-1,COLUMNS($S$23:S43)-1)<>\"\",OFFSET(DE102_5!$S$23,ROWS($S$23:S43)-1,COLUMNS($S$23:S43)-1),\"\")","v":""},{"$f":"IF(OFFSET(DE102_5!$T$23,ROWS($T$23:T43)-1,COLUMNS($T$23:T43)-1)<>\"\",OFFSET(DE102_5!$T$23,ROWS($T$23:T43)-1,COLUMNS($T$23:T43)-1),\"\")","v":""},{"$f":"IF(OFFSET(DE102_5!$U$23,ROWS($U$23:U43)-1,COLUMNS($U$23:U43)-1)<>\"\",OFFSET(DE102_5!$U$23,ROWS($U$23:U43)-1,COLUMNS($U$23:U43)-1),\"\")","v":""},{"$f":"IF(OFFSET(DE102_5!$V$23,ROWS($V$23:V43)-1,COLUMNS($V$23:V43)-1)<>\"\",OFFSET(DE102_5!$V$23,ROWS($V$23:V43)-1,COLUMNS($V$23:V43)-1),\"\")","v":""},{"$f":"IF(OFFSET(DE102_5!$W$23,ROWS($W$23:W43)-1,COLUMNS($W$23:W43)-1)<>\"\",OFFSET(DE102_5!$W$23,ROWS($W$23:W43)-1,COLUMNS($W$23:W43)-1),\"\")","v":""},{"$f":"IF(OFFSET(DE102_5!$X$23,ROWS($X$23:X43)-1,COLUMNS($X$23:X43)-1)<>\"\",OFFSET(DE102_5!$X$23,ROWS($X$23:X43)-1,COLUMNS($X$23:X43)-1),\"\")","v":""},{"$f":"IF(OFFSET(DE102_5!$Y$23,ROWS($Y$23:Y43)-1,COLUMNS($Y$23:Y43)-1)<>\"\",OFFSET(DE102_5!$Y$23,ROWS($Y$23:Y43)-1,COLUMNS($Y$23:Y43)-1),\"\")","v":""},{"$f":"IF(OFFSET(DE102_5!$Z$23,ROWS($Z$23:Z43)-1,COLUMNS($Z$23:Z43)-1)<>\"\",OFFSET(DE102_5!$Z$23,ROWS($Z$23:Z43)-1,COLUMNS($Z$23:Z43)-1),\"\")","v":""},{"$f":"IF(OFFSET(DE102_5!$AA$23,ROWS($AA$23:AA43)-1,COLUMNS($AA$23:AA43)-1)<>\"\",OFFSET(DE102_5!$AA$23,ROWS($AA$23:AA43)-1,COLUMNS($AA$23:AA43)-1),\"\")","v":"PCC PATCHING"},{"$f":"IF(OFFSET(DE102_5!$AB$23,ROWS($AB$23:AB43)-1,COLUMNS($AB$23:AB43)-1)<>\"\",OFFSET(DE102_5!$AB$23,ROWS($AB$23:AB43)-1,COLUMNS($AB$23:AB43)-1),\"\")","v":""}]
[{"$f":"IF(OFFSET(DE102_5!$C$23,ROWS($C$23:C44)-1,COLUMNS($C$23:C44)-1)<>\"\",OFFSET(DE102_5!$C$23,ROWS($C$23:C44)-1,COLUMNS($C$23:C44)-1),\"\")","v":""},{"$f":"IF(OFFSET(DE102_5!$F$23,ROWS($F$23:F44)-1,COLUMNS($F$23:F44)-1)<>\"\",OFFSET(DE102_5!$F$23,ROWS($F$23:F44)-1,COLUMNS($F$23:F44)-1),\"\")","v":85},{"$f":"IF(OFFSET(DE102_5!$G$23,ROWS($G$23:G44)-1,COLUMNS($G$23:G44)-1)<>\"\",OFFSET(DE102_5!$G$23,ROWS($G$23:G44)-1,COLUMNS($G$23:G44)-1),\"\")","v":"I-35"},{"$f":"IF(OFFSET(DE102_5!$H$23,ROWS($H$23:H44)-1,COLUMNS($H$23:H44)-1)<>\"\",OFFSET(DE102_5!$H$23,ROWS($H$23:H44)-1,COLUMNS($H$23:H44)-1),\"\")","v":1},{"$f":"IF(OFFSET(DE102_5!$I$23,ROWS($I$23:I44)-1,COLUMNS($I$23:I44)-1)<>\"\",OFFSET(DE102_5!$I$23,ROWS($I$23:I44)-1,COLUMNS($I$23:I44)-1),\"\")","v":102.56},{"$f":"IF(OFFSET(DE102_5!$J$23,ROWS($J$23:J44)-1,COLUMNS($J$23:J44)-1)<>\"\",OFFSET(DE102_5!$J$23,ROWS($J$23:J44)-1,COLUMNS($J$23:J44)-1),\"\")","v":103.22},{"$f":"IF(OFFSET(DE102_5!$M$23,ROWS($M$23:M44)-1,COLUMNS($M$23:M44)-1)<>\"\",OFFSET(DE102_5!$M$23,ROWS($M$23:M44)-1,COLUMNS($M$23:M44)-1),\"\")","v":2017},{"$f":"IF(OFFSET(DE102_5!$N$23,ROWS($N$23:N44)-1,COLUMNS($N$23:N44)-1)<>\"\",OFFSET(DE102_5!$N$23,ROWS($N$23:N44)-1,COLUMNS($N$23:N44)-1),\"\")","v":"M"},{"$f":"IF(OFFSET(DE102_5!$O$23,ROWS($O$23:O44)-1,COLUMNS($O$23:O44)-1)<>\"\",OFFSET(DE102_5!$O$23,ROWS($O$23:O44)-1,COLUMNS($O$23:O44)-1),\"\")","v":"IMN-035-4(179)87--0E-77"},{"$f":"IF(OFFSET(DE102_5!$P$23,ROWS($P$23:P44)-1,COLUMNS($P$23:P44)-1)<>\"\",OFFSET(DE102_5!$P$23,ROWS($P$23:P44)-1,COLUMNS($P$23:P44)-1),\"\")","v":"PCC"},{"$f":"IF(OFFSET(DE102_5!$Q$23,ROWS($Q$23:Q44)-1,COLUMNS($Q$23:Q44)-1)<>\"\",OFFSET(DE102_5!$Q$23,ROWS($Q$23:Q44)-1,COLUMNS($Q$23:Q44)-1),\"\")","v":12},{"$f":"IF(OFFSET(DE102_5!$R$23,ROWS($R$23:R44)-1,COLUMNS($R$23:R44)-1)<>\"\",OFFSET(DE102_5!$R$23,ROWS($R$23:R44)-1,COLUMNS($R$23:R44)-1),\"\")","v":""},{"$f":"IF(OFFSET(DE102_5!$S$23,ROWS($S$23:S44)-1,COLUMNS($S$23:S44)-1)<>\"\",OFFSET(DE102_5!$S$23,ROWS($S$23:S44)-1,COLUMNS($S$23:S44)-1),\"\")","v":""},{"$f":"IF(OFFSET(DE102_5!$T$23,ROWS($T$23:T44)-1,COLUMNS($T$23:T44)-1)<>\"\",OFFSET(DE102_5!$T$23,ROWS($T$23:T44)-1,COLUMNS($T$23:T44)-1),\"\")","v":""},{"$f":"IF(OFFSET(DE102_5!$U$23,ROWS($U$23:U44)-1,COLUMNS($U$23:U44)-1)<>\"\",OFFSET(DE102_5!$U$23,ROWS($U$23:U44)-1,COLUMNS($U$23:U44)-1),\"\")","v":""},{"$f":"IF(OFFSET(DE102_5!$V$23,ROWS($V$23:V44)-1,COLUMNS($V$23:V44)-1)<>\"\",OFFSET(DE102_5!$V$23,ROWS($V$23:V44)-1,COLUMNS($V$23:V44)-1),\"\")","v":""},{"$f":"IF(OFFSET(DE102_5!$W$23,ROWS($W$23:W44)-1,COLUMNS($W$23:W44)-1)<>\"\",OFFSET(DE102_5!$W$23,ROWS($W$23:W44)-1,COLUMNS($W$23:W44)-1),\"\")","v":""},{"$f":"IF(OFFSET(DE102_5!$X$23,ROWS($X$23:X44)-1,COLUMNS($X$23:X44)-1)<>\"\",OFFSET(DE102_5!$X$23,ROWS($X$23:X44)-1,COLUMNS($X$23:X44)-1),\"\")","v":""},{"$f":"IF(OFFSET(DE102_5!$Y$23,ROWS($Y$23:Y44)-1,COLUMNS($Y$23:Y44)-1)<>\"\",OFFSET(DE102_5!$Y$23,ROWS($Y$23:Y44)-1,COLUMNS($Y$23:Y44)-1),\"\")","v":""},{"$f":"IF(OFFSET(DE102_5!$Z$23,ROWS($Z$23:Z44)-1,COLUMNS($Z$23:Z44)-1)<>\"\",OFFSET(DE102_5!$Z$23,ROWS($Z$23:Z44)-1,COLUMNS($Z$23:Z44)-1),\"\")","v":""},{"$f":"IF(OFFSET(DE102_5!$AA$23,ROWS($AA$23:AA44)-1,COLUMNS($AA$23:AA44)-1)<>\"\",OFFSET(DE102_5!$AA$23,ROWS($AA$23:AA44)-1,COLUMNS($AA$23:AA44)-1),\"\")","v":"PCC PATCHING"},{"$f":"IF(OFFSET(DE102_5!$AB$23,ROWS($AB$23:AB44)-1,COLUMNS($AB$23:AB44)-1)<>\"\",OFFSET(DE102_5!$AB$23,ROWS($AB$23:AB44)-1,COLUMNS($AB$23:AB44)-1),\"\")","v":""}]
[{"$f":"IF(OFFSET(DE102_5!$C$23,ROWS($C$23:C45)-1,COLUMNS($C$23:C45)-1)<>\"\",OFFSET(DE102_5!$C$23,ROWS($C$23:C45)-1,COLUMNS($C$23:C45)-1),\"\")","v":""},{"$f":"IF(OFFSET(DE102_5!$F$23,ROWS($F$23:F45)-1,COLUMNS($F$23:F45)-1)<>\"\",OFFSET(DE102_5!$F$23,ROWS($F$23:F45)-1,COLUMNS($F$23:F45)-1),\"\")","v":85},{"$f":"IF(OFFSET(DE102_5!$G$23,ROWS($G$23:G45)-1,COLUMNS($G$23:G45)-1)<>\"\",OFFSET(DE102_5!$G$23,ROWS($G$23:G45)-1,COLUMNS($G$23:G45)-1),\"\")","v":"I-35"},{"$f":"IF(OFFSET(DE102_5!$H$23,ROWS($H$23:H45)-1,COLUMNS($H$23:H45)-1)<>\"\",OFFSET(DE102_5!$H$23,ROWS($H$23:H45)-1,COLUMNS($H$23:H45)-1),\"\")","v":1},{"$f":"IF(OFFSET(DE102_5!$I$23,ROWS($I$23:I45)-1,COLUMNS($I$23:I45)-1)<>\"\",OFFSET(DE102_5!$I$23,ROWS($I$23:I45)-1,COLUMNS($I$23:I45)-1),\"\")","v":102.56},{"$f":"IF(OFFSET(DE102_5!$J$23,ROWS($J$23:J45)-1,COLUMNS($J$23:J45)-1)<>\"\",OFFSET(DE102_5!$J$23,ROWS($J$23:J45)-1,COLUMNS($J$23:J45)-1),\"\")","v":103.22},{"$f":"IF(OFFSET(DE102_5!$M$23,ROWS($M$23:M45)-1,COLUMNS($M$23:M45)-1)<>\"\",OFFSET(DE102_5!$M$23,ROWS($M$23:M45)-1,COLUMNS($M$23:M45)-1),\"\")","v":2008},{"$f":"IF(OFFSET(DE102_5!$N$23,ROWS($N$23:N45)-1,COLUMNS($N$23:N45)-1)<>\"\",OFFSET(DE102_5!$N$23,ROWS($N$23:N45)-1,COLUMNS($N$23:N45)-1),\"\")","v":"W"},{"$f":"IF(OFFSET(DE102_5!$O$23,ROWS($O$23:O45)-1,COLUMNS($O$23:O45)-1)<>\"\",OFFSET(DE102_5!$O$23,ROWS($O$23:O45)-1,COLUMNS($O$23:O45)-1),\"\")","v":"IM-35-4(131)92--10-77"},{"$f":"IF(OFFSET(DE102_5!$P$23,ROWS($P$23:P45)-1,COLUMNS($P$23:P45)-1)<>\"\",OFFSET(DE102_5!$P$23,ROWS($P$23:P45)-1,COLUMNS($P$23:P45)-1),\"\")","v":"HMA"},{"$f":"IF(OFFSET(DE102_5!$Q$23,ROWS($Q$23:Q45)-1,COLUMNS($Q$23:Q45)-1)<>\"\",OFFSET(DE102_5!$Q$23,ROWS($Q$23:Q45)-1,COLUMNS($Q$23:Q45)-1),\"\")","v":2},{"$f":"IF(OFFSET(DE102_5!$R$23,ROWS($R$23:R45)-1,COLUMNS($R$23:R45)-1)<>\"\",OFFSET(DE102_5!$R$23,ROWS($R$23:R45)-1,COLUMNS($R$23:R45)-1),\"\")","v":"HMA"},{"$f":"IF(OFFSET(DE102_5!$S$23,ROWS($S$23:S45)-1,COLUMNS($S$23:S45)-1)<>\"\",OFFSET(DE102_5!$S$23,ROWS($S$23:S45)-1,COLUMNS($S$23:S45)-1),\"\")","v":2},{"$f":"IF(OFFSET(DE102_5!$T$23,ROWS($T$23:T45)-1,COLUMNS($T$23:T45)-1)<>\"\",OFFSET(DE102_5!$T$23,ROWS($T$23:T45)-1,COLUMNS($T$23:T45)-1),\"\")","v":""},{"$f":"IF(OFFSET(DE102_5!$U$23,ROWS($U$23:U45)-1,COLUMNS($U$23:U45)-1)<>\"\",OFFSET(DE102_5!$U$23,ROWS($U$23:U45)-1,COLUMNS($U$23:U45)-1),\"\")","v":""},{"$f":"IF(OFFSET(DE102_5!$V$23,ROWS($V$23:V45)-1,COLUMNS($V$23:V45)-1)<>\"\",OFFSET(DE102_5!$V$23,ROWS($V$23:V45)-1,COLUMNS($V$23:V45)-1),\"\")","v":"MIL"},{"$f":"IF(OFFSET(DE102_5!$W$23,ROWS($W$23:W45)-1,COLUMNS($W$23:W45)-1)<>\"\",OFFSET(DE102_5!$W$23,ROWS($W$23:W45)-1,COLUMNS($W$23:W45)-1),\"\")","v":2},{"$f":"IF(OFFSET(DE102_5!$X$23,ROWS($X$23:X45)-1,COLUMNS($X$23:X45)-1)<>\"\",OFFSET(DE102_5!$X$23,ROWS($X$23:X45)-1,COLUMNS($X$23:X45)-1),\"\")","v":"AMES MINE"},{"$f":"IF(OFFSET(DE102_5!$Y$23,ROWS($Y$23:Y45)-1,COLUMNS($Y$23:Y45)-1)<>\"\",OFFSET(DE102_5!$Y$23,ROWS($Y$23:Y45)-1,COLUMNS($Y$23:Y45)-1),\"\")","v":"C.LST."},{"$f":"IF(OFFSET(DE102_5!$Z$23,ROWS($Z$23:Z45)-1,COLUMNS($Z$23:Z45)-1)<>\"\",OFFSET(DE102_5!$Z$23,ROWS($Z$23:Z45)-1,COLUMNS($Z$23:Z45)-1),\"\")","v":""},{"$f":"IF(OFFSET(DE102_5!$AA$23,ROWS($AA$23:AA45)-1,COLUMNS($AA$23:AA45)-1)<>\"\",OFFSET(DE102_5!$AA$23,ROWS($AA$23:AA45)-1,COLUMNS($AA$23:AA45)-1),\"\")","v":""},{"$f":"IF(OFFSET(DE102_5!$AB$23,ROWS($AB$23:AB45)-1,COLUMNS($AB$23:AB45)-1)<>\"\",OFFSET(DE102_5!$AB$23,ROWS($AB$23:AB45)-1,COLUMNS($AB$23:AB45)-1),\"\")","v":""}]
[{"$f":"IF(OFFSET(DE102_5!$C$23,ROWS($C$23:C46)-1,COLUMNS($C$23:C46)-1)<>\"\",OFFSET(DE102_5!$C$23,ROWS($C$23:C46)-1,COLUMNS($C$23:C46)-1),\"\")","v":""},{"$f":"IF(OFFSET(DE102_5!$F$23,ROWS($F$23:F46)-1,COLUMNS($F$23:F46)-1)<>\"\",OFFSET(DE102_5!$F$23,ROWS($F$23:F46)-1,COLUMNS($F$23:F46)-1),\"\")","v":85},{"$f":"IF(OFFSET(DE102_5!$G$23,ROWS($G$23:G46)-1,COLUMNS($G$23:G46)-1)<>\"\",OFFSET(DE102_5!$G$23,ROWS($G$23:G46)-1,COLUMNS($G$23:G46)-1),\"\")","v":"I-35"},{"$f":"IF(OFFSET(DE102_5!$H$23,ROWS($H$23:H46)-1,COLUMNS($H$23:H46)-1)<>\"\",OFFSET(DE102_5!$H$23,ROWS($H$23:H46)-1,COLUMNS($H$23:H46)-1),\"\")","v":1},{"$f":"IF(OFFSET(DE102_5!$I$23,ROWS($I$23:I46)-1,COLUMNS($I$23:I46)-1)<>\"\",OFFSET(DE102_5!$I$23,ROWS($I$23:I46)-1,COLUMNS($I$23:I46)-1),\"\")","v":102.56},{"$f":"IF(OFFSET(DE102_5!$J$23,ROWS($J$23:J46)-1,COLUMNS($J$23:J46)-1)<>\"\",OFFSET(DE102_5!$J$23,ROWS($J$23:J46)-1,COLUMNS($J$23:J46)-1),\"\")","v":103.22},{"$f":"IF(OFFSET(DE102_5!$M$23,ROWS($M$23:M46)-1,COLUMNS($M$23:M46)-1)<>\"\",OFFSET(DE102_5!$M$23,ROWS($M$23:M46)-1,COLUMNS($M$23:M46)-1),\"\")","v":2008},{"$f":"IF(OFFSET(DE102_5!$N$23,ROWS($N$23:N46)-1,COLUMNS($N$23:N46)-1)<>\"\",OFFSET(DE102_5!$N$23,ROWS($N$23:N46)-1,COLUMNS($N$23:N46)-1),\"\")","v":""},{"$f":"IF(OFFSET(DE102_5!$O$23,ROWS($O$23:O46)-1,COLUMNS($O$23:O46)-1)<>\"\",OFFSET(DE102_5!$O$23,ROWS($O$23:O46)-1,COLUMNS($O$23:O46)-1),\"\")","v":"IM-35-4(131)92--10-77"},{"$f":"IF(OFFSET(DE102_5!$P$23,ROWS($P$23:P46)-1,COLUMNS($P$23:P46)-1)<>\"\",OFFSET(DE102_5!$P$23,ROWS($P$23:P46)-1,COLUMNS($P$23:P46)-1),\"\")","v":"HMA"},{"$f":"IF(OFFSET(DE102_5!$Q$23,ROWS($Q$23:Q46)-1,COLUMNS($Q$23:Q46)-1)<>\"\",OFFSET(DE102_5!$Q$23,ROWS($Q$23:Q46)-1,COLUMNS($Q$23:Q46)-1),\"\")","v":2},{"$f":"IF(OFFSET(DE102_5!$R$23,ROWS($R$23:R46)-1,COLUMNS($R$23:R46)-1)<>\"\",OFFSET(DE102_5!$R$23,ROWS($R$23:R46)-1,COLUMNS($R$23:R46)-1),\"\")","v":"HMA"},{"$f":"IF(OFFSET(DE102_5!$S$23,ROWS($S$23:S46)-1,COLUMNS($S$23:S46)-1)<>\"\",OFFSET(DE102_5!$S$23,ROWS($S$23:S46)-1,COLUMNS($S$23:S46)-1),\"\")","v":2},{"$f":"IF(OFFSET(DE102_5!$T$23,ROWS($T$23:T46)-1,COLUMNS($T$23:T46)-1)<>\"\",OFFSET(DE102_5!$T$23,ROWS($T$23:T46)-1,COLUMNS($T$23:T46)-1),\"\")","v":""},{"$f":"IF(OFFSET(DE102_5!$U$23,ROWS($U$23:U46)-1,COLUMNS($U$23:U46)-1)<>\"\",OFFSET(DE102_5!$U$23,ROWS($U$23:U46)-1,COLUMNS($U$23:U46)-1),\"\")","v":""},{"$f":"IF(OFFSET(DE102_5!$V$23,ROWS($V$23:V46)-1,COLUMNS($V$23:V46)-1)<>\"\",OFFSET(DE102_5!$V$23,ROWS($V$23:V46)-1,COLUMNS($V$23:V46)-1),\"\")","v":"MIL"},{"$f":"IF(OFFSET(DE102_5!$W$23,ROWS($W$23:W46)-1,COLUMNS($W$23:W46)-1)<>\"\",OFFSET(DE102_5!$W$23,ROWS($W$23:W46)-1,COLUMNS($W$23:W46)-1),\"\")","v":2},{"$f":"IF(OFFSET(DE102_5!$X$23,ROWS($X$23:X46)-1,COLUMNS($X$23:X46)-1)<>\"\",OFFSET(DE102_5!$X$23,ROWS($X$23:X46)-1,COLUMNS($X$23:X46)-1),\"\")","v":"AMES MINE"},{"$f":"IF(OFFSET(DE102_5!$Y$23,ROWS($Y$23:Y46)-1,COLUMNS($Y$23:Y46)-1)<>\"\",OFFSET(DE102_5!$Y$23,ROWS($Y$23:Y46)-1,COLUMNS($Y$23:Y46)-1),\"\")","v":"C.LST."},{"$f":"IF(OFFSET(DE102_5!$Z$23,ROWS($Z$23:Z46)-1,COLUMNS($Z$23:Z46)-1)<>\"\",OFFSET(DE102_5!$Z$23,ROWS($Z$23:Z46)-1,COLUMNS($Z$23:Z46)-1),\"\")","v":""},{"$f":"IF(OFFSET(DE102_5!$AA$23,ROWS($AA$23:AA46)-1,COLUMNS($AA$23:AA46)-1)<>\"\",OFFSET(DE102_5!$AA$23,ROWS($AA$23:AA46)-1,COLUMNS($AA$23:AA46)-1),\"\")","v":""},{"$f":"IF(OFFSET(DE102_5!$AB$23,ROWS($AB$23:AB46)-1,COLUMNS($AB$23:AB46)-1)<>\"\",OFFSET(DE102_5!$AB$23,ROWS($AB$23:AB46)-1,COLUMNS($AB$23:AB46)-1),\"\")","v":""}]
[{"$f":"IF(OFFSET(DE102_5!$C$23,ROWS($C$23:C47)-1,COLUMNS($C$23:C47)-1)<>\"\",OFFSET(DE102_5!$C$23,ROWS($C$23:C47)-1,COLUMNS($C$23:C47)-1),\"\")","v":""},{"$f":"IF(OFFSET(DE102_5!$F$23,ROWS($F$23:F47)-1,COLUMNS($F$23:F47)-1)<>\"\",OFFSET(DE102_5!$F$23,ROWS($F$23:F47)-1,COLUMNS($F$23:F47)-1),\"\")","v":85},{"$f":"IF(OFFSET(DE102_5!$G$23,ROWS($G$23:G47)-1,COLUMNS($G$23:G47)-1)<>\"\",OFFSET(DE102_5!$G$23,ROWS($G$23:G47)-1,COLUMNS($G$23:G47)-1),\"\")","v":"I-35"},{"$f":"IF(OFFSET(DE102_5!$H$23,ROWS($H$23:H47)-1,COLUMNS($H$23:H47)-1)<>\"\",OFFSET(DE102_5!$H$23,ROWS($H$23:H47)-1,COLUMNS($H$23:H47)-1),\"\")","v":1},{"$f":"IF(OFFSET(DE102_5!$I$23,ROWS($I$23:I47)-1,COLUMNS($I$23:I47)-1)<>\"\",OFFSET(DE102_5!$I$23,ROWS($I$23:I47)-1,COLUMNS($I$23:I47)-1),\"\")","v":102.56},{"$f":"IF(OFFSET(DE102_5!$J$23,ROWS($J$23:J47)-1,COLUMNS($J$23:J47)-1)<>\"\",OFFSET(DE102_5!$J$23,ROWS($J$23:J47)-1,COLUMNS($J$23:J47)-1),\"\")","v":103.22},{"$f":"IF(OFFSET(DE102_5!$M$23,ROWS($M$23:M47)-1,COLUMNS($M$23:M47)-1)<>\"\",OFFSET(DE102_5!$M$23,ROWS($M$23:M47)-1,COLUMNS($M$23:M47)-1),\"\")","v":1997},{"$f":"IF(OFFSET(DE102_5!$N$23,ROWS($N$23:N47)-1,COLUMNS($N$23:N47)-1)<>\"\",OFFSET(DE102_5!$N$23,ROWS($N$23:N47)-1,COLUMNS($N$23:N47)-1),\"\")","v":""},{"$f":"IF(OFFSET(DE102_5!$O$23,ROWS($O$23:O47)-1,COLUMNS($O$23:O47)-1)<>\"\",OFFSET(DE102_5!$O$23,ROWS($O$23:O47)-1,COLUMNS($O$23:O47)-1),\"\")","v":"IM-35-4(83)98--13-77"},{"$f":"IF(OFFSET(DE102_5!$P$23,ROWS($P$23:P47)-1,COLUMNS($P$23:P47)-1)<>\"\",OFFSET(DE102_5!$P$23,ROWS($P$23:P47)-1,COLUMNS($P$23:P47)-1),\"\")","v":"AAC"},{"$f":"IF(OFFSET(DE102_5!$Q$23,ROWS($Q$23:Q47)-1,COLUMNS($Q$23:Q47)-1)<>\"\",OFFSET(DE102_5!$Q$23,ROWS($Q$23:Q47)-1,COLUMNS($Q$23:Q47)-1),\"\")","v":2},{"$f":"IF(OFFSET(DE102_5!$R$23,ROWS($R$23:R47)-1,COLUMNS($R$23:R47)-1)<>\"\",OFFSET(DE102_5!$R$23,ROWS($R$23:R47)-1,COLUMNS($R$23:R47)-1),\"\")","v":"AAC"},{"$f":"IF(OFFSET(DE102_5!$S$23,ROWS($S$23:S47)-1,COLUMNS($S$23:S47)-1)<>\"\",OFFSET(DE102_5!$S$23,ROWS($S$23:S47)-1,COLUMNS($S$23:S47)-1),\"\")","v":6},{"$f":"IF(OFFSET(DE102_5!$T$23,ROWS($T$23:T47)-1,COLUMNS($T$23:T47)-1)<>\"\",OFFSET(DE102_5!$T$23,ROWS($T$23:T47)-1,COLUMNS($T$23:T47)-1),\"\")","v":""},{"$f":"IF(OFFSET(DE102_5!$U$23,ROWS($U$23:U47)-1,COLUMNS($U$23:U47)-1)<>\"\",OFFSET(DE102_5!$U$23,ROWS($U$23:U47)-1,COLUMNS($U$23:U47)-1),\"\")","v":""},{"$f":"IF(OFFSET(DE102_5!$V$23,ROWS($V$23:V47)-1,COLUMNS($V$23:V47)-1)<>\"\",OFFSET(DE102_5!$V$23,ROWS($V$23:V47)-1,COLUMNS($V$23:V47)-1),\"\")","v":""},{"$f":"IF(OFFSET(DE102_5!$W$23,ROWS($W$23:W47)-1,COLUMNS($W$23:W47)-1)<>\"\",OFFSET(DE102_5!$W$23,ROWS($W$23:W47)-1,COLUMNS($W$23:W47)-1),\"\")","v":""},{"$f":"IF(OFFSET(DE102_5!$X$23,ROWS($X$23:X47)-1,COLUMNS($X$23:X47)-1)<>\"\",OFFSET(DE102_5!$X$23,ROWS($X$23:X47)-1,COLUMNS($X$23:X47)-1),\"\")","v":"AMES MINE"},{"$f":"IF(OFFSET(DE102_5!$Y$23,ROWS($Y$23:Y47)-1,COLUMNS($Y$23:Y47)-1)<>\"\",OFFSET(DE102_5!$Y$23,ROWS($Y$23:Y47)-1,COLUMNS($Y$23:Y47)-1),\"\")","v":"C.LST."},{"$f":"IF(OFFSET(DE102_5!$Z$23,ROWS($Z$23:Z47)-1,COLUMNS($Z$23:Z47)-1)<>\"\",OFFSET(DE102_5!$Z$23,ROWS($Z$23:Z47)-1,COLUMNS($Z$23:Z47)-1),\"\")","v":""},{"$f":"IF(OFFSET(DE102_5!$AA$23,ROWS($AA$23:AA47)-1,COLUMNS($AA$23:AA47)-1)<>\"\",OFFSET(DE102_5!$AA$23,ROWS($AA$23:AA47)-1,COLUMNS($AA$23:AA47)-1),\"\")","v":""},{"$f":"IF(OFFSET(DE102_5!$AB$23,ROWS($AB$23:AB47)-1,COLUMNS($AB$23:AB47)-1)<>\"\",OFFSET(DE102_5!$AB$23,ROWS($AB$23:AB47)-1,COLUMNS($AB$23:AB47)-1),\"\")","v":""}]
[{"$f":"IF(OFFSET(DE102_5!$C$23,ROWS($C$23:C48)-1,COLUMNS($C$23:C48)-1)<>\"\",OFFSET(DE102_5!$C$23,ROWS($C$23:C48)-1,COLUMNS($C$23:C48)-1),\"\")","v":""},{"$f":"IF(OFFSET(DE102_5!$F$23,ROWS($F$23:F48)-1,COLUMNS($F$23:F48)-1)<>\"\",OFFSET(DE102_5!$F$23,ROWS($F$23:F48)-1,COLUMNS($F$23:F48)-1),\"\")","v":85},{"$f":"IF(OFFSET(DE102_5!$G$23,ROWS($G$23:G48)-1,COLUMNS($G$23:G48)-1)<>\"\",OFFSET(DE102_5!$G$23,ROWS($G$23:G48)-1,COLUMNS($G$23:G48)-1),\"\")","v":"I-35"},{"$f":"IF(OFFSET(DE102_5!$H$23,ROWS($H$23:H48)-1,COLUMNS($H$23:H48)-1)<>\"\",OFFSET(DE102_5!$H$23,ROWS($H$23:H48)-1,COLUMNS($H$23:H48)-1),\"\")","v":1},{"$f":"IF(OFFSET(DE102_5!$I$23,ROWS($I$23:I48)-1,COLUMNS($I$23:I48)-1)<>\"\",OFFSET(DE102_5!$I$23,ROWS($I$23:I48)-1,COLUMNS($I$23:I48)-1),\"\")","v":102.56},{"$f":"IF(OFFSET(DE102_5!$J$23,ROWS($J$23:J48)-1,COLUMNS($J$23:J48)-1)<>\"\",OFFSET(DE102_5!$J$23,ROWS($J$23:J48)-1,COLUMNS($J$23:J48)-1),\"\")","v":103.22},{"$f":"IF(OFFSET(DE102_5!$M$23,ROWS($M$23:M48)-1,COLUMNS($M$23:M48)-1)<>\"\",OFFSET(DE102_5!$M$23,ROWS($M$23:M48)-1,COLUMNS($M$23:M48)-1),\"\")","v":1965},{"$f":"IF(OFFSET(DE102_5!$N$23,ROWS($N$23:N48)-1,COLUMNS($N$23:N48)-1)<>\"\",OFFSET(DE102_5!$N$23,ROWS($N$23:N48)-1,COLUMNS($N$23:N48)-1),\"\")","v":""},{"$f":"IF(OFFSET(DE102_5!$O$23,ROWS($O$23:O48)-1,COLUMNS($O$23:O48)-1)<>\"\",OFFSET(DE102_5!$O$23,ROWS($O$23:O48)-1,COLUMNS($O$23:O48)-1),\"\")","v":"I-IG-35-4(12)103"},{"$f":"IF(OFFSET(DE102_5!$P$23,ROWS($P$23:P48)-1,COLUMNS($P$23:P48)-1)<>\"\",OFFSET(DE102_5!$P$23,ROWS($P$23:P48)-1,COLUMNS($P$23:P48)-1),\"\")","v":"PCC"},{"$f":"IF(OFFSET(DE102_5!$Q$23,ROWS($Q$23:Q48)-1,COLUMNS($Q$23:Q48)-1)<>\"\",OFFSET(DE102_5!$Q$23,ROWS($Q$23:Q48)-1,COLUMNS($Q$23:Q48)-1),\"\")","v":10},{"$f":"IF(OFFSET(DE102_5!$R$23,ROWS($R$23:R48)-1,COLUMNS($R$23:R48)-1)<>\"\",OFFSET(DE102_5!$R$23,ROWS($R$23:R48)-1,COLUMNS($R$23:R48)-1),\"\")","v":"GSB"},{"$f":"IF(OFFSET(DE102_5!$S$23,ROWS($S$23:S48)-1,COLUMNS($S$23:S48)-1)<>\"\",OFFSET(DE102_5!$S$23,ROWS($S$23:S48)-1,COLUMNS($S$23:S48)-1),\"\")","v":4},{"$f":"IF(OFFSET(DE102_5!$T$23,ROWS($T$23:T48)-1,COLUMNS($T$23:T48)-1)<>\"\",OFFSET(DE102_5!$T$23,ROWS($T$23:T48)-1,COLUMNS($T$23:T48)-1),\"\")","v":""},{"$f":"IF(OFFSET(DE102_5!$U$23,ROWS($U$23:U48)-1,COLUMNS($U$23:U48)-1)<>\"\",OFFSET(DE102_5!$U$23,ROWS($U$23:U48)-1,COLUMNS($U$23:U48)-1),\"\")","v":""},{"$f":"IF(OFFSET(DE102_5!$V$23,ROWS($V$23:V48)-1,COLUMNS($V$23:V48)-1)<>\"\",OFFSET(DE102_5!$V$23,ROWS($V$23:V48)-1,COLUMNS($V$23:V48)-1),\"\")","v":""},{"$f":"IF(OFFSET(DE102_5!$W$23,ROWS($W$23:W48)-1,COLUMNS($W$23:W48)-1)<>\"\",OFFSET(DE102_5!$W$23,ROWS($W$23:W48)-1,COLUMNS($W$23:W48)-1),\"\")","v":""},{"$f":"IF(OFFSET(DE102_5!$X$23,ROWS($X$23:X48)-1,COLUMNS($X$23:X48)-1)<>\"\",OFFSET(DE102_5!$X$23,ROWS($X$23:X48)-1,COLUMNS($X$23:X48)-1),\"\")","v":"FERGUSON"},{"$f":"IF(OFFSET(DE102_5!$Y$23,ROWS($Y$23:Y48)-1,COLUMNS($Y$23:Y48)-1)<>\"\",OFFSET(DE102_5!$Y$23,ROWS($Y$23:Y48)-1,COLUMNS($Y$23:Y48)-1),\"\")","v":"C.LST."},{"$f":"IF(OFFSET(DE102_5!$Z$23,ROWS($Z$23:Z48)-1,COLUMNS($Z$23:Z48)-1)<>\"\",OFFSET(DE102_5!$Z$23,ROWS($Z$23:Z48)-1,COLUMNS($Z$23:Z48)-1),\"\")","v":"I"},{"$f":"IF(OFFSET(DE102_5!$AA$23,ROWS($AA$23:AA48)-1,COLUMNS($AA$23:AA48)-1)<>\"\",OFFSET(DE102_5!$AA$23,ROWS($AA$23:AA48)-1,COLUMNS($AA$23:AA48)-1),\"\")","v":""},{"$f":"IF(OFFSET(DE102_5!$AB$23,ROWS($AB$23:AB48)-1,COLUMNS($AB$23:AB48)-1)<>\"\",OFFSET(DE102_5!$AB$23,ROWS($AB$23:AB48)-1,COLUMNS($AB$23:AB48)-1),\"\")","v":""}]
[{"$f":"IF(OFFSET(DE102_5!$C$23,ROWS($C$23:C49)-1,COLUMNS($C$23:C49)-1)<>\"\",OFFSET(DE102_5!$C$23,ROWS($C$23:C49)-1,COLUMNS($C$23:C49)-1),\"\")","v":""},{"$f":"IF(OFFSET(DE102_5!$F$23,ROWS($F$23:F49)-1,COLUMNS($F$23:F49)-1)<>\"\",OFFSET(DE102_5!$F$23,ROWS($F$23:F49)-1,COLUMNS($F$23:F49)-1),\"\")","v":""},{"$f":"IF(OFFSET(DE102_5!$G$23,ROWS($G$23:G49)-1,COLUMNS($G$23:G49)-1)<>\"\",OFFSET(DE102_5!$G$23,ROWS($G$23:G49)-1,COLUMNS($G$23:G49)-1),\"\")","v":""},{"$f":"IF(OFFSET(DE102_5!$H$23,ROWS($H$23:H49)-1,COLUMNS($H$23:H49)-1)<>\"\",OFFSET(DE102_5!$H$23,ROWS($H$23:H49)-1,COLUMNS($H$23:H49)-1),\"\")","v":""},{"$f":"IF(OFFSET(DE102_5!$I$23,ROWS($I$23:I49)-1,COLUMNS($I$23:I49)-1)<>\"\",OFFSET(DE102_5!$I$23,ROWS($I$23:I49)-1,COLUMNS($I$23:I49)-1),\"\")","v":""},{"$f":"IF(OFFSET(DE102_5!$J$23,ROWS($J$23:J49)-1,COLUMNS($J$23:J49)-1)<>\"\",OFFSET(DE102_5!$J$23,ROWS($J$23:J49)-1,COLUMNS($J$23:J49)-1),\"\")","v":""},{"$f":"IF(OFFSET(DE102_5!$M$23,ROWS($M$23:M49)-1,COLUMNS($M$23:M49)-1)<>\"\",OFFSET(DE102_5!$M$23,ROWS($M$23:M49)-1,COLUMNS($M$23:M49)-1),\"\")","v":""},{"$f":"IF(OFFSET(DE102_5!$N$23,ROWS($N$23:N49)-1,COLUMNS($N$23:N49)-1)<>\"\",OFFSET(DE102_5!$N$23,ROWS($N$23:N49)-1,COLUMNS($N$23:N49)-1),\"\")","v":""},{"$f":"IF(OFFSET(DE102_5!$O$23,ROWS($O$23:O49)-1,COLUMNS($O$23:O49)-1)<>\"\",OFFSET(DE102_5!$O$23,ROWS($O$23:O49)-1,COLUMNS($O$23:O49)-1),\"\")","v":""},{"$f":"IF(OFFSET(DE102_5!$P$23,ROWS($P$23:P49)-1,COLUMNS($P$23:P49)-1)<>\"\",OFFSET(DE102_5!$P$23,ROWS($P$23:P49)-1,COLUMNS($P$23:P49)-1),\"\")","v":""},{"$f":"IF(OFFSET(DE102_5!$Q$23,ROWS($Q$23:Q49)-1,COLUMNS($Q$23:Q49)-1)<>\"\",OFFSET(DE102_5!$Q$23,ROWS($Q$23:Q49)-1,COLUMNS($Q$23:Q49)-1),\"\")","v":""},{"$f":"IF(OFFSET(DE102_5!$R$23,ROWS($R$23:R49)-1,COLUMNS($R$23:R49)-1)<>\"\",OFFSET(DE102_5!$R$23,ROWS($R$23:R49)-1,COLUMNS($R$23:R49)-1),\"\")","v":""},{"$f":"IF(OFFSET(DE102_5!$S$23,ROWS($S$23:S49)-1,COLUMNS($S$23:S49)-1)<>\"\",OFFSET(DE102_5!$S$23,ROWS($S$23:S49)-1,COLUMNS($S$23:S49)-1),\"\")","v":""},{"$f":"IF(OFFSET(DE102_5!$T$23,ROWS($T$23:T49)-1,COLUMNS($T$23:T49)-1)<>\"\",OFFSET(DE102_5!$T$23,ROWS($T$23:T49)-1,COLUMNS($T$23:T49)-1),\"\")","v":""},{"$f":"IF(OFFSET(DE102_5!$U$23,ROWS($U$23:U49)-1,COLUMNS($U$23:U49)-1)<>\"\",OFFSET(DE102_5!$U$23,ROWS($U$23:U49)-1,COLUMNS($U$23:U49)-1),\"\")","v":""},{"$f":"IF(OFFSET(DE102_5!$V$23,ROWS($V$23:V49)-1,COLUMNS($V$23:V49)-1)<>\"\",OFFSET(DE102_5!$V$23,ROWS($V$23:V49)-1,COLUMNS($V$23:V49)-1),\"\")","v":""},{"$f":"IF(OFFSET(DE102_5!$W$23,ROWS($W$23:W49)-1,COLUMNS($W$23:W49)-1)<>\"\",OFFSET(DE102_5!$W$23,ROWS($W$23:W49)-1,COLUMNS($W$23:W49)-1),\"\")","v":""},{"$f":"IF(OFFSET(DE102_5!$X$23,ROWS($X$23:X49)-1,COLUMNS($X$23:X49)-1)<>\"\",OFFSET(DE102_5!$X$23,ROWS($X$23:X49)-1,COLUMNS($X$23:X49)-1),\"\")","v":""},{"$f":"IF(OFFSET(DE102_5!$Y$23,ROWS($Y$23:Y49)-1,COLUMNS($Y$23:Y49)-1)<>\"\",OFFSET(DE102_5!$Y$23,ROWS($Y$23:Y49)-1,COLUMNS($Y$23:Y49)-1),\"\")","v":""},{"$f":"IF(OFFSET(DE102_5!$Z$23,ROWS($Z$23:Z49)-1,COLUMNS($Z$23:Z49)-1)<>\"\",OFFSET(DE102_5!$Z$23,ROWS($Z$23:Z49)-1,COLUMNS($Z$23:Z49)-1),\"\")","v":""},{"$f":"IF(OFFSET(DE102_5!$AA$23,ROWS($AA$23:AA49)-1,COLUMNS($AA$23:AA49)-1)<>\"\",OFFSET(DE102_5!$AA$23,ROWS($AA$23:AA49)-1,COLUMNS($AA$23:AA49)-1),\"\")","v":""},{"$f":"IF(OFFSET(DE102_5!$AB$23,ROWS($AB$23:AB49)-1,COLUMNS($AB$23:AB49)-1)<>\"\",OFFSET(DE102_5!$AB$23,ROWS($AB$23:AB49)-1,COLUMNS($AB$23:AB49)-1),\"\")","v":""}]
[{"$f":"IF(OFFSET(DE102_5!$C$23,ROWS($C$23:C50)-1,COLUMNS($C$23:C50)-1)<>\"\",OFFSET(DE102_5!$C$23,ROWS($C$23:C50)-1,COLUMNS($C$23:C50)-1),\"\")","v":""},{"$f":"IF(OFFSET(DE102_5!$F$23,ROWS($F$23:F50)-1,COLUMNS($F$23:F50)-1)<>\"\",OFFSET(DE102_5!$F$23,ROWS($F$23:F50)-1,COLUMNS($F$23:F50)-1),\"\")","v":85},{"$f":"IF(OFFSET(DE102_5!$G$23,ROWS($G$23:G50)-1,COLUMNS($G$23:G50)-1)<>\"\",OFFSET(DE102_5!$G$23,ROWS($G$23:G50)-1,COLUMNS($G$23:G50)-1),\"\")","v":"I-35"},{"$f":"IF(OFFSET(DE102_5!$H$23,ROWS($H$23:H50)-1,COLUMNS($H$23:H50)-1)<>\"\",OFFSET(DE102_5!$H$23,ROWS($H$23:H50)-1,COLUMNS($H$23:H50)-1),\"\")","v":1},{"$f":"IF(OFFSET(DE102_5!$I$23,ROWS($I$23:I50)-1,COLUMNS($I$23:I50)-1)<>\"\",OFFSET(DE102_5!$I$23,ROWS($I$23:I50)-1,COLUMNS($I$23:I50)-1),\"\")","v":103.22},{"$f":"IF(OFFSET(DE102_5!$J$23,ROWS($J$23:J50)-1,COLUMNS($J$23:J50)-1)<>\"\",OFFSET(DE102_5!$J$23,ROWS($J$23:J50)-1,COLUMNS($J$23:J50)-1),\"\")","v":105.79},{"$f":"IF(OFFSET(DE102_5!$M$23,ROWS($M$23:M50)-1,COLUMNS($M$23:M50)-1)<>\"\",OFFSET(DE102_5!$M$23,ROWS($M$23:M50)-1,COLUMNS($M$23:M50)-1),\"\")","v":2018},{"$f":"IF(OFFSET(DE102_5!$N$23,ROWS($N$23:N50)-1,COLUMNS($N$23:N50)-1)<>\"\",OFFSET(DE102_5!$N$23,ROWS($N$23:N50)-1,COLUMNS($N$23:N50)-1),\"\")","v":"M"},{"$f":"IF(OFFSET(DE102_5!$O$23,ROWS($O$23:O50)-1,COLUMNS($O$23:O50)-1)<>\"\",OFFSET(DE102_5!$O$23,ROWS($O$23:O50)-1,COLUMNS($O$23:O50)-1),\"\")","v":"IMN-035-4(201)87--0E-77"},{"$f":"IF(OFFSET(DE102_5!$P$23,ROWS($P$23:P50)-1,COLUMNS($P$23:P50)-1)<>\"\",OFFSET(DE102_5!$P$23,ROWS($P$23:P50)-1,COLUMNS($P$23:P50)-1),\"\")","v":"PCC"},{"$f":"IF(OFFSET(DE102_5!$Q$23,ROWS($Q$23:Q50)-1,COLUMNS($Q$23:Q50)-1)<>\"\",OFFSET(DE102_5!$Q$23,ROWS($Q$23:Q50)-1,COLUMNS($Q$23:Q50)-1),\"\")","v":""},{"$f":"IF(OFFSET(DE102_5!$R$23,ROWS($R$23:R50)-1,COLUMNS($R$23:R50)-1)<>\"\",OFFSET(DE102_5!$R$23,ROWS($R$23:R50)-1,COLUMNS($R$23:R50)-1),\"\")","v":""},{"$f":"IF(OFFSET(DE102_5!$S$23,ROWS($S$23:S50)-1,COLUMNS($S$23:S50)-1)<>\"\",OFFSET(DE102_5!$S$23,ROWS($S$23:S50)-1,COLUMNS($S$23:S50)-1),\"\")","v":""},{"$f":"IF(OFFSET(DE102_5!$T$23,ROWS($T$23:T50)-1,COLUMNS($T$23:T50)-1)<>\"\",OFFSET(DE102_5!$T$23,ROWS($T$23:T50)-1,COLUMNS($T$23:T50)-1),\"\")","v":""},{"$f":"IF(OFFSET(DE102_5!$U$23,ROWS($U$23:U50)-1,COLUMNS($U$23:U50)-1)<>\"\",OFFSET(DE102_5!$U$23,ROWS($U$23:U50)-1,COLUMNS($U$23:U50)-1),\"\")","v":""},{"$f":"IF(OFFSET(DE102_5!$V$23,ROWS($V$23:V50)-1,COLUMNS($V$23:V50)-1)<>\"\",OFFSET(DE102_5!$V$23,ROWS($V$23:V50)-1,COLUMNS($V$23:V50)-1),\"\")","v":""},{"$f":"IF(OFFSET(DE102_5!$W$23,ROWS($W$23:W50)-1,COLUMNS($W$23:W50)-1)<>\"\",OFFSET(DE102_5!$W$23,ROWS($W$23:W50)-1,COLUMNS($W$23:W50)-1),\"\")","v":""},{"$f":"IF(OFFSET(DE102_5!$X$23,ROWS($X$23:X50)-1,COLUMNS($X$23:X50)-1)<>\"\",OFFSET(DE102_5!$X$23,ROWS($X$23:X50)-1,COLUMNS($X$23:X50)-1),\"\")","v":""},{"$f":"IF(OFFSET(DE102_5!$Y$23,ROWS($Y$23:Y50)-1,COLUMNS($Y$23:Y50)-1)<>\"\",OFFSET(DE102_5!$Y$23,ROWS($Y$23:Y50)-1,COLUMNS($Y$23:Y50)-1),\"\")","v":""},{"$f":"IF(OFFSET(DE102_5!$Z$23,ROWS($Z$23:Z50)-1,COLUMNS($Z$23:Z50)-1)<>\"\",OFFSET(DE102_5!$Z$23,ROWS($Z$23:Z50)-1,COLUMNS($Z$23:Z50)-1),\"\")","v":""},{"$f":"IF(OFFSET(DE102_5!$AA$23,ROWS($AA$23:AA50)-1,COLUMNS($AA$23:AA50)-1)<>\"\",OFFSET(DE102_5!$AA$23,ROWS($AA$23:AA50)-1,COLUMNS($AA$23:AA50)-1),\"\")","v":"PCC PATCHING"},{"$f":"IF(OFFSET(DE102_5!$AB$23,ROWS($AB$23:AB50)-1,COLUMNS($AB$23:AB50)-1)<>\"\",OFFSET(DE102_5!$AB$23,ROWS($AB$23:AB50)-1,COLUMNS($AB$23:AB50)-1),\"\")","v":""}]
[{"$f":"IF(OFFSET(DE102_5!$C$23,ROWS($C$23:C51)-1,COLUMNS($C$23:C51)-1)<>\"\",OFFSET(DE102_5!$C$23,ROWS($C$23:C51)-1,COLUMNS($C$23:C51)-1),\"\")","v":""},{"$f":"IF(OFFSET(DE102_5!$F$23,ROWS($F$23:F51)-1,COLUMNS($F$23:F51)-1)<>\"\",OFFSET(DE102_5!$F$23,ROWS($F$23:F51)-1,COLUMNS($F$23:F51)-1),\"\")","v":85},{"$f":"IF(OFFSET(DE102_5!$G$23,ROWS($G$23:G51)-1,COLUMNS($G$23:G51)-1)<>\"\",OFFSET(DE102_5!$G$23,ROWS($G$23:G51)-1,COLUMNS($G$23:G51)-1),\"\")","v":"I-35"},{"$f":"IF(OFFSET(DE102_5!$H$23,ROWS($H$23:H51)-1,COLUMNS($H$23:H51)-1)<>\"\",OFFSET(DE102_5!$H$23,ROWS($H$23:H51)-1,COLUMNS($H$23:H51)-1),\"\")","v":1},{"$f":"IF(OFFSET(DE102_5!$I$23,ROWS($I$23:I51)-1,COLUMNS($I$23:I51)-1)<>\"\",OFFSET(DE102_5!$I$23,ROWS($I$23:I51)-1,COLUMNS($I$23:I51)-1),\"\")","v":103.22},{"$f":"IF(OFFSET(DE102_5!$J$23,ROWS($J$23:J51)-1,COLUMNS($J$23:J51)-1)<>\"\",OFFSET(DE102_5!$J$23,ROWS($J$23:J51)-1,COLUMNS($J$23:J51)-1),\"\")","v":105.79},{"$f":"IF(OFFSET(DE102_5!$M$23,ROWS($M$23:M51)-1,COLUMNS($M$23:M51)-1)<>\"\",OFFSET(DE102_5!$M$23,ROWS($M$23:M51)-1,COLUMNS($M$23:M51)-1),\"\")","v":2017},{"$f":"IF(OFFSET(DE102_5!$N$23,ROWS($N$23:N51)-1,COLUMNS($N$23:N51)-1)<>\"\",OFFSET(DE102_5!$N$23,ROWS($N$23:N51)-1,COLUMNS($N$23:N51)-1),\"\")","v":"M"},{"$f":"IF(OFFSET(DE102_5!$O$23,ROWS($O$23:O51)-1,COLUMNS($O$23:O51)-1)<>\"\",OFFSET(DE102_5!$O$23,ROWS($O$23:O51)-1,COLUMNS($O$23:O51)-1),\"\")","v":"IMN-035-4(179)87--0E-77"},{"$f":"IF(OFFSET(DE102_5!$P$23,ROWS($P$23:P51)-1,COLUMNS($P$23:P51)-1)<>\"\",OFFSET(DE102_5!$P$23,ROWS($P$23:P51)-1,COLUMNS($P$23:P51)-1),\"\")","v":"PCC"},{"$f":"IF(OFFSET(DE102_5!$Q$23,ROWS($Q$23:Q51)-1,COLUMNS($Q$23:Q51)-1)<>\"\",OFFSET(DE102_5!$Q$23,ROWS($Q$23:Q51)-1,COLUMNS($Q$23:Q51)-1),\"\")","v":12},{"$f":"IF(OFFSET(DE102_5!$R$23,ROWS($R$23:R51)-1,COLUMNS($R$23:R51)-1)<>\"\",OFFSET(DE102_5!$R$23,ROWS($R$23:R51)-1,COLUMNS($R$23:R51)-1),\"\")","v":""},{"$f":"IF(OFFSET(DE102_5!$S$23,ROWS($S$23:S51)-1,COLUMNS($S$23:S51)-1)<>\"\",OFFSET(DE102_5!$S$23,ROWS($S$23:S51)-1,COLUMNS($S$23:S51)-1),\"\")","v":""},{"$f":"IF(OFFSET(DE102_5!$T$23,ROWS($T$23:T51)-1,COLUMNS($T$23:T51)-1)<>\"\",OFFSET(DE102_5!$T$23,ROWS($T$23:T51)-1,COLUMNS($T$23:T51)-1),\"\")","v":""},{"$f":"IF(OFFSET(DE102_5!$U$23,ROWS($U$23:U51)-1,COLUMNS($U$23:U51)-1)<>\"\",OFFSET(DE102_5!$U$23,ROWS($U$23:U51)-1,COLUMNS($U$23:U51)-1),\"\")","v":""},{"$f":"IF(OFFSET(DE102_5!$V$23,ROWS($V$23:V51)-1,COLUMNS($V$23:V51)-1)<>\"\",OFFSET(DE102_5!$V$23,ROWS($V$23:V51)-1,COLUMNS($V$23:V51)-1),\"\")","v":""},{"$f":"IF(OFFSET(DE102_5!$W$23,ROWS($W$23:W51)-1,COLUMNS($W$23:W51)-1)<>\"\",OFFSET(DE102_5!$W$23,ROWS($W$23:W51)-1,COLUMNS($W$23:W51)-1),\"\")","v":""},{"$f":"IF(OFFSET(DE102_5!$X$23,ROWS($X$23:X51)-1,COLUMNS($X$23:X51)-1)<>\"\",OFFSET(DE102_5!$X$23,ROWS($X$23:X51)-1,COLUMNS($X$23:X51)-1),\"\")","v":""},{"$f":"IF(OFFSET(DE102_5!$Y$23,ROWS($Y$23:Y51)-1,COLUMNS($Y$23:Y51)-1)<>\"\",OFFSET(DE102_5!$Y$23,ROWS($Y$23:Y51)-1,COLUMNS($Y$23:Y51)-1),\"\")","v":""},{"$f":"IF(OFFSET(DE102_5!$Z$23,ROWS($Z$23:Z51)-1,COLUMNS($Z$23:Z51)-1)<>\"\",OFFSET(DE102_5!$Z$23,ROWS($Z$23:Z51)-1,COLUMNS($Z$23:Z51)-1),\"\")","v":""},{"$f":"IF(OFFSET(DE102_5!$AA$23,ROWS($AA$23:AA51)-1,COLUMNS($AA$23:AA51)-1)<>\"\",OFFSET(DE102_5!$AA$23,ROWS($AA$23:AA51)-1,COLUMNS($AA$23:AA51)-1),\"\")","v":"PCC PATCHING"},{"$f":"IF(OFFSET(DE102_5!$AB$23,ROWS($AB$23:AB51)-1,COLUMNS($AB$23:AB51)-1)<>\"\",OFFSET(DE102_5!$AB$23,ROWS($AB$23:AB51)-1,COLUMNS($AB$23:AB51)-1),\"\")","v":""}]
[{"$f":"IF(OFFSET(DE102_5!$C$23,ROWS($C$23:C52)-1,COLUMNS($C$23:C52)-1)<>\"\",OFFSET(DE102_5!$C$23,ROWS($C$23:C52)-1,COLUMNS($C$23:C52)-1),\"\")","v":""},{"$f":"IF(OFFSET(DE102_5!$F$23,ROWS($F$23:F52)-1,COLUMNS($F$23:F52)-1)<>\"\",OFFSET(DE102_5!$F$23,ROWS($F$23:F52)-1,COLUMNS($F$23:F52)-1),\"\")","v":85},{"$f":"IF(OFFSET(DE102_5!$G$23,ROWS($G$23:G52)-1,COLUMNS($G$23:G52)-1)<>\"\",OFFSET(DE102_5!$G$23,ROWS($G$23:G52)-1,COLUMNS($G$23:G52)-1),\"\")","v":"I-35"},{"$f":"IF(OFFSET(DE102_5!$H$23,ROWS($H$23:H52)-1,COLUMNS($H$23:H52)-1)<>\"\",OFFSET(DE102_5!$H$23,ROWS($H$23:H52)-1,COLUMNS($H$23:H52)-1),\"\")","v":1},{"$f":"IF(OFFSET(DE102_5!$I$23,ROWS($I$23:I52)-1,COLUMNS($I$23:I52)-1)<>\"\",OFFSET(DE102_5!$I$23,ROWS($I$23:I52)-1,COLUMNS($I$23:I52)-1),\"\")","v":103.22},{"$f":"IF(OFFSET(DE102_5!$J$23,ROWS($J$23:J52)-1,COLUMNS($J$23:J52)-1)<>\"\",OFFSET(DE102_5!$J$23,ROWS($J$23:J52)-1,COLUMNS($J$23:J52)-1),\"\")","v":105.79},{"$f":"IF(OFFSET(DE102_5!$M$23,ROWS($M$23:M52)-1,COLUMNS($M$23:M52)-1)<>\"\",OFFSET(DE102_5!$M$23,ROWS($M$23:M52)-1,COLUMNS($M$23:M52)-1),\"\")","v":2017},{"$f":"IF(OFFSET(DE102_5!$N$23,ROWS($N$23:N52)-1,COLUMNS($N$23:N52)-1)<>\"\",OFFSET(DE102_5!$N$23,ROWS($N$23:N52)-1,COLUMNS($N$23:N52)-1),\"\")","v":"S"},{"$f":"IF(OFFSET(DE102_5!$O$23,ROWS($O$23:O52)-1,COLUMNS($O$23:O52)-1)<>\"\",OFFSET(DE102_5!$O$23,ROWS($O$23:O52)-1,COLUMNS($O$23:O52)-1),\"\")","v":"IMN-035-4(190)98--0E-77"},{"$f":"IF(OFFSET(DE102_5!$P$23,ROWS($P$23:P52)-1,COLUMNS($P$23:P52)-1)<>\"\",OFFSET(DE102_5!$P$23,ROWS($P$23:P52)-1,COLUMNS($P$23:P52)-1),\"\")","v":"HMA"},{"$f":"IF(OFFSET(DE102_5!$Q$23,ROWS($Q$23:Q52)-1,COLUMNS($Q$23:Q52)-1)<>\"\",OFFSET(DE102_5!$Q$23,ROWS($Q$23:Q52)-1,COLUMNS($Q$23:Q52)-1),\"\")","v":1.5},{"$f":"IF(OFFSET(DE102_5!$R$23,ROWS($R$23:R52)-1,COLUMNS($R$23:R52)-1)<>\"\",OFFSET(DE102_5!$R$23,ROWS($R$23:R52)-1,COLUMNS($R$23:R52)-1),\"\")","v":"HMA"},{"$f":"IF(OFFSET(DE102_5!$S$23,ROWS($S$23:S52)-1,COLUMNS($S$23:S52)-1)<>\"\",OFFSET(DE102_5!$S$23,ROWS($S$23:S52)-1,COLUMNS($S$23:S52)-1),\"\")","v":1.5},{"$f":"IF(OFFSET(DE102_5!$T$23,ROWS($T$23:T52)-1,COLUMNS($T$23:T52)-1)<>\"\",OFFSET(DE102_5!$T$23,ROWS($T$23:T52)-1,COLUMNS($T$23:T52)-1),\"\")","v":""},{"$f":"IF(OFFSET(DE102_5!$U$23,ROWS($U$23:U52)-1,COLUMNS($U$23:U52)-1)<>\"\",OFFSET(DE102_5!$U$23,ROWS($U$23:U52)-1,COLUMNS($U$23:U52)-1),\"\")","v":""},{"$f":"IF(OFFSET(DE102_5!$V$23,ROWS($V$23:V52)-1,COLUMNS($V$23:V52)-1)<>\"\",OFFSET(DE102_5!$V$23,ROWS($V$23:V52)-1,COLUMNS($V$23:V52)-1),\"\")","v":"SCR"},{"$f":"IF(OFFSET(DE102_5!$W$23,ROWS($W$23:W52)-1,COLUMNS($W$23:W52)-1)<>\"\",OFFSET(DE102_5!$W$23,ROWS($W$23:W52)-1,COLUMNS($W$23:W52)-1),\"\")","v":1.5},{"$f":"IF(OFFSET(DE102_5!$X$23,ROWS($X$23:X52)-1,COLUMNS($X$23:X52)-1)<>\"\",OFFSET(DE102_5!$X$23,ROWS($X$23:X52)-1,COLUMNS($X$23:X52)-1),\"\")","v":""},{"$f":"IF(OFFSET(DE102_5!$Y$23,ROWS($Y$23:Y52)-1,COLUMNS($Y$23:Y52)-1)<>\"\",OFFSET(DE102_5!$Y$23,ROWS($Y$23:Y52)-1,COLUMNS($Y$23:Y52)-1),\"\")","v":""},{"$f":"IF(OFFSET(DE102_5!$Z$23,ROWS($Z$23:Z52)-1,COLUMNS($Z$23:Z52)-1)<>\"\",OFFSET(DE102_5!$Z$23,ROWS($Z$23:Z52)-1,COLUMNS($Z$23:Z52)-1),\"\")","v":""},{"$f":"IF(OFFSET(DE102_5!$AA$23,ROWS($AA$23:AA52)-1,COLUMNS($AA$23:AA52)-1)<>\"\",OFFSET(DE102_5!$AA$23,ROWS($AA$23:AA52)-1,COLUMNS($AA$23:AA52)-1),\"\")","v":""},{"$f":"IF(OFFSET(DE102_5!$AB$23,ROWS($AB$23:AB52)-1,COLUMNS($AB$23:AB52)-1)<>\"\",OFFSET(DE102_5!$AB$23,ROWS($AB$23:AB52)-1,COLUMNS($AB$23:AB52)-1),\"\")","v":""}]
[{"$f":"IF(OFFSET(DE102_5!$C$23,ROWS($C$23:C53)-1,COLUMNS($C$23:C53)-1)<>\"\",OFFSET(DE102_5!$C$23,ROWS($C$23:C53)-1,COLUMNS($C$23:C53)-1),\"\")","v":""},{"$f":"IF(OFFSET(DE102_5!$F$23,ROWS($F$23:F53)-1,COLUMNS($F$23:F53)-1)<>\"\",OFFSET(DE102_5!$F$23,ROWS($F$23:F53)-1,COLUMNS($F$23:F53)-1),\"\")","v":85},{"$f":"IF(OFFSET(DE102_5!$G$23,ROWS($G$23:G53)-1,COLUMNS($G$23:G53)-1)<>\"\",OFFSET(DE102_5!$G$23,ROWS($G$23:G53)-1,COLUMNS($G$23:G53)-1),\"\")","v":"I-35"},{"$f":"IF(OFFSET(DE102_5!$H$23,ROWS($H$23:H53)-1,COLUMNS($H$23:H53)-1)<>\"\",OFFSET(DE102_5!$H$23,ROWS($H$23:H53)-1,COLUMNS($H$23:H53)-1),\"\")","v":1},{"$f":"IF(OFFSET(DE102_5!$I$23,ROWS($I$23:I53)-1,COLUMNS($I$23:I53)-1)<>\"\",OFFSET(DE102_5!$I$23,ROWS($I$23:I53)-1,COLUMNS($I$23:I53)-1),\"\")","v":103.22},{"$f":"IF(OFFSET(DE102_5!$J$23,ROWS($J$23:J53)-1,COLUMNS($J$23:J53)-1)<>\"\",OFFSET(DE102_5!$J$23,ROWS($J$23:J53)-1,COLUMNS($J$23:J53)-1),\"\")","v":105.79},{"$f":"IF(OFFSET(DE102_5!$M$23,ROWS($M$23:M53)-1,COLUMNS($M$23:M53)-1)<>\"\",OFFSET(DE102_5!$M$23,ROWS($M$23:M53)-1,COLUMNS($M$23:M53)-1),\"\")","v":2017},{"$f":"IF(OFFSET(DE102_5!$N$23,ROWS($N$23:N53)-1,COLUMNS($N$23:N53)-1)<>\"\",OFFSET(DE102_5!$N$23,ROWS($N$23:N53)-1,COLUMNS($N$23:N53)-1),\"\")","v":"S"},{"$f":"IF(OFFSET(DE102_5!$O$23,ROWS($O$23:O53)-1,COLUMNS($O$23:O53)-1)<>\"\",OFFSET(DE102_5!$O$23,ROWS($O$23:O53)-1,COLUMNS($O$23:O53)-1),\"\")","v":"IMN-035-4(190)98--03-77"},{"$f":"IF(OFFSET(DE102_5!$P$23,ROWS($P$23:P53)-1,COLUMNS($P$23:P53)-1)<>\"\",OFFSET(DE102_5!$P$23,ROWS($P$23:P53)-1,COLUMNS($P$23:P53)-1),\"\")","v":"HMA"},{"$f":"IF(OFFSET(DE102_5!$Q$23,ROWS($Q$23:Q53)-1,COLUMNS($Q$23:Q53)-1)<>\"\",OFFSET(DE102_5!$Q$23,ROWS($Q$23:Q53)-1,COLUMNS($Q$23:Q53)-1),\"\")","v":1.5},{"$f":"IF(OFFSET(DE102_5!$R$23,ROWS($R$23:R53)-1,COLUMNS($R$23:R53)-1)<>\"\",OFFSET(DE102_5!$R$23,ROWS($R$23:R53)-1,COLUMNS($R$23:R53)-1),\"\")","v":"HMA"},{"$f":"IF(OFFSET(DE102_5!$S$23,ROWS($S$23:S53)-1,COLUMNS($S$23:S53)-1)<>\"\",OFFSET(DE102_5!$S$23,ROWS($S$23:S53)-1,COLUMNS($S$23:S53)-1),\"\")","v":1.5},{"$f":"IF(OFFSET(DE102_5!$T$23,ROWS($T$23:T53)-1,COLUMNS($T$23:T53)-1)<>\"\",OFFSET(DE102_5!$T$23,ROWS($T$23:T53)-1,COLUMNS($T$23:T53)-1),\"\")","v":""},{"$f":"IF(OFFSET(DE102_5!$U$23,ROWS($U$23:U53)-1,COLUMNS($U$23:U53)-1)<>\"\",OFFSET(DE102_5!$U$23,ROWS($U$23:U53)-1,COLUMNS($U$23:U53)-1),\"\")","v":""},{"$f":"IF(OFFSET(DE102_5!$V$23,ROWS($V$23:V53)-1,COLUMNS($V$23:V53)-1)<>\"\",OFFSET(DE102_5!$V$23,ROWS($V$23:V53)-1,COLUMNS($V$23:V53)-1),\"\")","v":"SCR"},{"$f":"IF(OFFSET(DE102_5!$W$23,ROWS($W$23:W53)-1,COLUMNS($W$23:W53)-1)<>\"\",OFFSET(DE102_5!$W$23,ROWS($W$23:W53)-1,COLUMNS($W$23:W53)-1),\"\")","v":1.5},{"$f":"IF(OFFSET(DE102_5!$X$23,ROWS($X$23:X53)-1,COLUMNS($X$23:X53)-1)<>\"\",OFFSET(DE102_5!$X$23,ROWS($X$23:X53)-1,COLUMNS($X$23:X53)-1),\"\")","v":""},{"$f":"IF(OFFSET(DE102_5!$Y$23,ROWS($Y$23:Y53)-1,COLUMNS($Y$23:Y53)-1)<>\"\",OFFSET(DE102_5!$Y$23,ROWS($Y$23:Y53)-1,COLUMNS($Y$23:Y53)-1),\"\")","v":""},{"$f":"IF(OFFSET(DE102_5!$Z$23,ROWS($Z$23:Z53)-1,COLUMNS($Z$23:Z53)-1)<>\"\",OFFSET(DE102_5!$Z$23,ROWS($Z$23:Z53)-1,COLUMNS($Z$23:Z53)-1),\"\")","v":""},{"$f":"IF(OFFSET(DE102_5!$AA$23,ROWS($AA$23:AA53)-1,COLUMNS($AA$23:AA53)-1)<>\"\",OFFSET(DE102_5!$AA$23,ROWS($AA$23:AA53)-1,COLUMNS($AA$23:AA53)-1),\"\")","v":""},{"$f":"IF(OFFSET(DE102_5!$AB$23,ROWS($AB$23:AB53)-1,COLUMNS($AB$23:AB53)-1)<>\"\",OFFSET(DE102_5!$AB$23,ROWS($AB$23:AB53)-1,COLUMNS($AB$23:AB53)-1),\"\")","v":""}]
[{"$f":"IF(OFFSET(DE102_5!$C$23,ROWS($C$23:C54)-1,COLUMNS($C$23:C54)-1)<>\"\",OFFSET(DE102_5!$C$23,ROWS($C$23:C54)-1,COLUMNS($C$23:C54)-1),\"\")","v":""},{"$f":"IF(OFFSET(DE102_5!$F$23,ROWS($F$23:F54)-1,COLUMNS($F$23:F54)-1)<>\"\",OFFSET(DE102_5!$F$23,ROWS($F$23:F54)-1,COLUMNS($F$23:F54)-1),\"\")","v":85},{"$f":"IF(OFFSET(DE102_5!$G$23,ROWS($G$23:G54)-1,COLUMNS($G$23:G54)-1)<>\"\",OFFSET(DE102_5!$G$23,ROWS($G$23:G54)-1,COLUMNS($G$23:G54)-1),\"\")","v":"I-35"},{"$f":"IF(OFFSET(DE102_5!$H$23,ROWS($H$23:H54)-1,COLUMNS($H$23:H54)-1)<>\"\",OFFSET(DE102_5!$H$23,ROWS($H$23:H54)-1,COLUMNS($H$23:H54)-1),\"\")","v":1},{"$f":"IF(OFFSET(DE102_5!$I$23,ROWS($I$23:I54)-1,COLUMNS($I$23:I54)-1)<>\"\",OFFSET(DE102_5!$I$23,ROWS($I$23:I54)-1,COLUMNS($I$23:I54)-1),\"\")","v":103.22},{"$f":"IF(OFFSET(DE102_5!$J$23,ROWS($J$23:J54)-1,COLUMNS($J$23:J54)-1)<>\"\",OFFSET(DE102_5!$J$23,ROWS($J$23:J54)-1,COLUMNS($J$23:J54)-1),\"\")","v":105.79},{"$f":"IF(OFFSET(DE102_5!$M$23,ROWS($M$23:M54)-1,COLUMNS($M$23:M54)-1)<>\"\",OFFSET(DE102_5!$M$23,ROWS($M$23:M54)-1,COLUMNS($M$23:M54)-1),\"\")","v":1997},{"$f":"IF(OFFSET(DE102_5!$N$23,ROWS($N$23:N54)-1,COLUMNS($N$23:N54)-1)<>\"\",OFFSET(DE102_5!$N$23,ROWS($N$23:N54)-1,COLUMNS($N$23:N54)-1),\"\")","v":""},{"$f":"IF(OFFSET(DE102_5!$O$23,ROWS($O$23:O54)-1,COLUMNS($O$23:O54)-1)<>\"\",OFFSET(DE102_5!$O$23,ROWS($O$23:O54)-1,COLUMNS($O$23:O54)-1),\"\")","v":"IM-35-4(83)98--13-77"},{"$f":"IF(OFFSET(DE102_5!$P$23,ROWS($P$23:P54)-1,COLUMNS($P$23:P54)-1)<>\"\",OFFSET(DE102_5!$P$23,ROWS($P$23:P54)-1,COLUMNS($P$23:P54)-1),\"\")","v":"AAC"},{"$f":"IF(OFFSET(DE102_5!$Q$23,ROWS($Q$23:Q54)-1,COLUMNS($Q$23:Q54)-1)<>\"\",OFFSET(DE102_5!$Q$23,ROWS($Q$23:Q54)-1,COLUMNS($Q$23:Q54)-1),\"\")","v":2},{"$f":"IF(OFFSET(DE102_5!$R$23,ROWS($R$23:R54)-1,COLUMNS($R$23:R54)-1)<>\"\",OFFSET(DE102_5!$R$23,ROWS($R$23:R54)-1,COLUMNS($R$23:R54)-1),\"\")","v":"AAC"},{"$f":"IF(OFFSET(DE102_5!$S$23,ROWS($S$23:S54)-1,COLUMNS($S$23:S54)-1)<>\"\",OFFSET(DE102_5!$S$23,ROWS($S$23:S54)-1,COLUMNS($S$23:S54)-1),\"\")","v":6},{"$f":"IF(OFFSET(DE102_5!$T$23,ROWS($T$23:T54)-1,COLUMNS($T$23:T54)-1)<>\"\",OFFSET(DE102_5!$T$23,ROWS($T$23:T54)-1,COLUMNS($T$23:T54)-1),\"\")","v":""},{"$f":"IF(OFFSET(DE102_5!$U$23,ROWS($U$23:U54)-1,COLUMNS($U$23:U54)-1)<>\"\",OFFSET(DE102_5!$U$23,ROWS($U$23:U54)-1,COLUMNS($U$23:U54)-1),\"\")","v":""},{"$f":"IF(OFFSET(DE102_5!$V$23,ROWS($V$23:V54)-1,COLUMNS($V$23:V54)-1)<>\"\",OFFSET(DE102_5!$V$23,ROWS($V$23:V54)-1,COLUMNS($V$23:V54)-1),\"\")","v":""},{"$f":"IF(OFFSET(DE102_5!$W$23,ROWS($W$23:W54)-1,COLUMNS($W$23:W54)-1)<>\"\",OFFSET(DE102_5!$W$23,ROWS($W$23:W54)-1,COLUMNS($W$23:W54)-1),\"\")","v":""},{"$f":"IF(OFFSET(DE102_5!$X$23,ROWS($X$23:X54)-1,COLUMNS($X$23:X54)-1)<>\"\",OFFSET(DE102_5!$X$23,ROWS($X$23:X54)-1,COLUMNS($X$23:X54)-1),\"\")","v":"AMES MINE"},{"$f":"IF(OFFSET(DE102_5!$Y$23,ROWS($Y$23:Y54)-1,COLUMNS($Y$23:Y54)-1)<>\"\",OFFSET(DE102_5!$Y$23,ROWS($Y$23:Y54)-1,COLUMNS($Y$23:Y54)-1),\"\")","v":"C.LST."},{"$f":"IF(OFFSET(DE102_5!$Z$23,ROWS($Z$23:Z54)-1,COLUMNS($Z$23:Z54)-1)<>\"\",OFFSET(DE102_5!$Z$23,ROWS($Z$23:Z54)-1,COLUMNS($Z$23:Z54)-1),\"\")","v":""},{"$f":"IF(OFFSET(DE102_5!$AA$23,ROWS($AA$23:AA54)-1,COLUMNS($AA$23:AA54)-1)<>\"\",OFFSET(DE102_5!$AA$23,ROWS($AA$23:AA54)-1,COLUMNS($AA$23:AA54)-1),\"\")","v":""},{"$f":"IF(OFFSET(DE102_5!$AB$23,ROWS($AB$23:AB54)-1,COLUMNS($AB$23:AB54)-1)<>\"\",OFFSET(DE102_5!$AB$23,ROWS($AB$23:AB54)-1,COLUMNS($AB$23:AB54)-1),\"\")","v":""}]
[{"$f":"IF(OFFSET(DE102_5!$C$23,ROWS($C$23:C55)-1,COLUMNS($C$23:C55)-1)<>\"\",OFFSET(DE102_5!$C$23,ROWS($C$23:C55)-1,COLUMNS($C$23:C55)-1),\"\")","v":""},{"$f":"IF(OFFSET(DE102_5!$F$23,ROWS($F$23:F55)-1,COLUMNS($F$23:F55)-1)<>\"\",OFFSET(DE102_5!$F$23,ROWS($F$23:F55)-1,COLUMNS($F$23:F55)-1),\"\")","v":85},{"$f":"IF(OFFSET(DE102_5!$G$23,ROWS($G$23:G55)-1,COLUMNS($G$23:G55)-1)<>\"\",OFFSET(DE102_5!$G$23,ROWS($G$23:G55)-1,COLUMNS($G$23:G55)-1),\"\")","v":"I-35"},{"$f":"IF(OFFSET(DE102_5!$H$23,ROWS($H$23:H55)-1,COLUMNS($H$23:H55)-1)<>\"\",OFFSET(DE102_5!$H$23,ROWS($H$23:H55)-1,COLUMNS($H$23:H55)-1),\"\")","v":1},{"$f":"IF(OFFSET(DE102_5!$I$23,ROWS($I$23:I55)-1,COLUMNS($I$23:I55)-1)<>\"\",OFFSET(DE102_5!$I$23,ROWS($I$23:I55)-1,COLUMNS($I$23:I55)-1),\"\")","v":103.22},{"$f":"IF(OFFSET(DE102_5!$J$23,ROWS($J$23:J55)-1,COLUMNS($J$23:J55)-1)<>\"\",OFFSET(DE102_5!$J$23,ROWS($J$23:J55)-1,COLUMNS($J$23:J55)-1),\"\")","v":105.79},{"$f":"IF(OFFSET(DE102_5!$M$23,ROWS($M$23:M55)-1,COLUMNS($M$23:M55)-1)<>\"\",OFFSET(DE102_5!$M$23,ROWS($M$23:M55)-1,COLUMNS($M$23:M55)-1),\"\")","v":1965},{"$f":"IF(OFFSET(DE102_5!$N$23,ROWS($N$23:N55)-1,COLUMNS($N$23:N55)-1)<>\"\",OFFSET(DE102_5!$N$23,ROWS($N$23:N55)-1,COLUMNS($N$23:N55)-1),\"\")","v":""},{"$f":"IF(OFFSET(DE102_5!$O$23,ROWS($O$23:O55)-1,COLUMNS($O$23:O55)-1)<>\"\",OFFSET(DE102_5!$O$23,ROWS($O$23:O55)-1,COLUMNS($O$23:O55)-1),\"\")","v":"I-IG-35-4(12)103"},{"$f":"IF(OFFSET(DE102_5!$P$23,ROWS($P$23:P55)-1,COLUMNS($P$23:P55)-1)<>\"\",OFFSET(DE102_5!$P$23,ROWS($P$23:P55)-1,COLUMNS($P$23:P55)-1),\"\")","v":"PCC"},{"$f":"IF(OFFSET(DE102_5!$Q$23,ROWS($Q$23:Q55)-1,COLUMNS($Q$23:Q55)-1)<>\"\",OFFSET(DE102_5!$Q$23,ROWS($Q$23:Q55)-1,COLUMNS($Q$23:Q55)-1),\"\")","v":10},{"$f":"IF(OFFSET(DE102_5!$R$23,ROWS($R$23:R55)-1,COLUMNS($R$23:R55)-1)<>\"\",OFFSET(DE102_5!$R$23,ROWS($R$23:R55)-1,COLUMNS($R$23:R55)-1),\"\")","v":"GSB"},{"$f":"IF(OFFSET(DE102_5!$S$23,ROWS($S$23:S55)-1,COLUMNS($S$23:S55)-1)<>\"\",OFFSET(DE102_5!$S$23,ROWS($S$23:S55)-1,COLUMNS($S$23:S55)-1),\"\")","v":4},{"$f":"IF(OFFSET(DE102_5!$T$23,ROWS($T$23:T55)-1,COLUMNS($T$23:T55)-1)<>\"\",OFFSET(DE102_5!$T$23,ROWS($T$23:T55)-1,COLUMNS($T$23:T55)-1),\"\")","v":""},{"$f":"IF(OFFSET(DE102_5!$U$23,ROWS($U$23:U55)-1,COLUMNS($U$23:U55)-1)<>\"\",OFFSET(DE102_5!$U$23,ROWS($U$23:U55)-1,COLUMNS($U$23:U55)-1),\"\")","v":""},{"$f":"IF(OFFSET(DE102_5!$V$23,ROWS($V$23:V55)-1,COLUMNS($V$23:V55)-1)<>\"\",OFFSET(DE102_5!$V$23,ROWS($V$23:V55)-1,COLUMNS($V$23:V55)-1),\"\")","v":""},{"$f":"IF(OFFSET(DE102_5!$W$23,ROWS($W$23:W55)-1,COLUMNS($W$23:W55)-1)<>\"\",OFFSET(DE102_5!$W$23,ROWS($W$23:W55)-1,COLUMNS($W$23:W55)-1),\"\")","v":""},{"$f":"IF(OFFSET(DE102_5!$X$23,ROWS($X$23:X55)-1,COLUMNS($X$23:X55)-1)<>\"\",OFFSET(DE102_5!$X$23,ROWS($X$23:X55)-1,COLUMNS($X$23:X55)-1),\"\")","v":"FERGUSON"},{"$f":"IF(OFFSET(DE102_5!$Y$23,ROWS($Y$23:Y55)-1,COLUMNS($Y$23:Y55)-1)<>\"\",OFFSET(DE102_5!$Y$23,ROWS($Y$23:Y55)-1,COLUMNS($Y$23:Y55)-1),\"\")","v":"C.LST."},{"$f":"IF(OFFSET(DE102_5!$Z$23,ROWS($Z$23:Z55)-1,COLUMNS($Z$23:Z55)-1)<>\"\",OFFSET(DE102_5!$Z$23,ROWS($Z$23:Z55)-1,COLUMNS($Z$23:Z55)-1),\"\")","v":"I"},{"$f":"IF(OFFSET(DE102_5!$AA$23,ROWS($AA$23:AA55)-1,COLUMNS($AA$23:AA55)-1)<>\"\",OFFSET(DE102_5!$AA$23,ROWS($AA$23:AA55)-1,COLUMNS($AA$23:AA55)-1),\"\")","v":""},{"$f":"IF(OFFSET(DE102_5!$AB$23,ROWS($AB$23:AB55)-1,COLUMNS($AB$23:AB55)-1)<>\"\",OFFSET(DE102_5!$AB$23,ROWS($AB$23:AB55)-1,COLUMNS($AB$23:AB55)-1),\"\")","v":""}]
[{"$f":"IF(OFFSET(DE102_5!$C$23,ROWS($C$23:C56)-1,COLUMNS($C$23:C56)-1)<>\"\",OFFSET(DE102_5!$C$23,ROWS($C$23:C56)-1,COLUMNS($C$23:C56)-1),\"\")","v":""},{"$f":"IF(OFFSET(DE102_5!$F$23,ROWS($F$23:F56)-1,COLUMNS($F$23:F56)-1)<>\"\",OFFSET(DE102_5!$F$23,ROWS($F$23:F56)-1,COLUMNS($F$23:F56)-1),\"\")","v":""},{"$f":"IF(OFFSET(DE102_5!$G$23,ROWS($G$23:G56)-1,COLUMNS($G$23:G56)-1)<>\"\",OFFSET(DE102_5!$G$23,ROWS($G$23:G56)-1,COLUMNS($G$23:G56)-1),\"\")","v":""},{"$f":"IF(OFFSET(DE102_5!$H$23,ROWS($H$23:H56)-1,COLUMNS($H$23:H56)-1)<>\"\",OFFSET(DE102_5!$H$23,ROWS($H$23:H56)-1,COLUMNS($H$23:H56)-1),\"\")","v":""},{"$f":"IF(OFFSET(DE102_5!$I$23,ROWS($I$23:I56)-1,COLUMNS($I$23:I56)-1)<>\"\",OFFSET(DE102_5!$I$23,ROWS($I$23:I56)-1,COLUMNS($I$23:I56)-1),\"\")","v":""},{"$f":"IF(OFFSET(DE102_5!$J$23,ROWS($J$23:J56)-1,COLUMNS($J$23:J56)-1)<>\"\",OFFSET(DE102_5!$J$23,ROWS($J$23:J56)-1,COLUMNS($J$23:J56)-1),\"\")","v":""},{"$f":"IF(OFFSET(DE102_5!$M$23,ROWS($M$23:M56)-1,COLUMNS($M$23:M56)-1)<>\"\",OFFSET(DE102_5!$M$23,ROWS($M$23:M56)-1,COLUMNS($M$23:M56)-1),\"\")","v":""},{"$f":"IF(OFFSET(DE102_5!$N$23,ROWS($N$23:N56)-1,COLUMNS($N$23:N56)-1)<>\"\",OFFSET(DE102_5!$N$23,ROWS($N$23:N56)-1,COLUMNS($N$23:N56)-1),\"\")","v":""},{"$f":"IF(OFFSET(DE102_5!$O$23,ROWS($O$23:O56)-1,COLUMNS($O$23:O56)-1)<>\"\",OFFSET(DE102_5!$O$23,ROWS($O$23:O56)-1,COLUMNS($O$23:O56)-1),\"\")","v":""},{"$f":"IF(OFFSET(DE102_5!$P$23,ROWS($P$23:P56)-1,COLUMNS($P$23:P56)-1)<>\"\",OFFSET(DE102_5!$P$23,ROWS($P$23:P56)-1,COLUMNS($P$23:P56)-1),\"\")","v":""},{"$f":"IF(OFFSET(DE102_5!$Q$23,ROWS($Q$23:Q56)-1,COLUMNS($Q$23:Q56)-1)<>\"\",OFFSET(DE102_5!$Q$23,ROWS($Q$23:Q56)-1,COLUMNS($Q$23:Q56)-1),\"\")","v":""},{"$f":"IF(OFFSET(DE102_5!$R$23,ROWS($R$23:R56)-1,COLUMNS($R$23:R56)-1)<>\"\",OFFSET(DE102_5!$R$23,ROWS($R$23:R56)-1,COLUMNS($R$23:R56)-1),\"\")","v":""},{"$f":"IF(OFFSET(DE102_5!$S$23,ROWS($S$23:S56)-1,COLUMNS($S$23:S56)-1)<>\"\",OFFSET(DE102_5!$S$23,ROWS($S$23:S56)-1,COLUMNS($S$23:S56)-1),\"\")","v":""},{"$f":"IF(OFFSET(DE102_5!$T$23,ROWS($T$23:T56)-1,COLUMNS($T$23:T56)-1)<>\"\",OFFSET(DE102_5!$T$23,ROWS($T$23:T56)-1,COLUMNS($T$23:T56)-1),\"\")","v":""},{"$f":"IF(OFFSET(DE102_5!$U$23,ROWS($U$23:U56)-1,COLUMNS($U$23:U56)-1)<>\"\",OFFSET(DE102_5!$U$23,ROWS($U$23:U56)-1,COLUMNS($U$23:U56)-1),\"\")","v":""},{"$f":"IF(OFFSET(DE102_5!$V$23,ROWS($V$23:V56)-1,COLUMNS($V$23:V56)-1)<>\"\",OFFSET(DE102_5!$V$23,ROWS($V$23:V56)-1,COLUMNS($V$23:V56)-1),\"\")","v":""},{"$f":"IF(OFFSET(DE102_5!$W$23,ROWS($W$23:W56)-1,COLUMNS($W$23:W56)-1)<>\"\",OFFSET(DE102_5!$W$23,ROWS($W$23:W56)-1,COLUMNS($W$23:W56)-1),\"\")","v":""},{"$f":"IF(OFFSET(DE102_5!$X$23,ROWS($X$23:X56)-1,COLUMNS($X$23:X56)-1)<>\"\",OFFSET(DE102_5!$X$23,ROWS($X$23:X56)-1,COLUMNS($X$23:X56)-1),\"\")","v":""},{"$f":"IF(OFFSET(DE102_5!$Y$23,ROWS($Y$23:Y56)-1,COLUMNS($Y$23:Y56)-1)<>\"\",OFFSET(DE102_5!$Y$23,ROWS($Y$23:Y56)-1,COLUMNS($Y$23:Y56)-1),\"\")","v":""},{"$f":"IF(OFFSET(DE102_5!$Z$23,ROWS($Z$23:Z56)-1,COLUMNS($Z$23:Z56)-1)<>\"\",OFFSET(DE102_5!$Z$23,ROWS($Z$23:Z56)-1,COLUMNS($Z$23:Z56)-1),\"\")","v":""},{"$f":"IF(OFFSET(DE102_5!$AA$23,ROWS($AA$23:AA56)-1,COLUMNS($AA$23:AA56)-1)<>\"\",OFFSET(DE102_5!$AA$23,ROWS($AA$23:AA56)-1,COLUMNS($AA$23:AA56)-1),\"\")","v":""},{"$f":"IF(OFFSET(DE102_5!$AB$23,ROWS($AB$23:AB56)-1,COLUMNS($AB$23:AB56)-1)<>\"\",OFFSET(DE102_5!$AB$23,ROWS($AB$23:AB56)-1,COLUMNS($AB$23:AB56)-1),\"\")","v":""}]
[{"$f":"IF(OFFSET(DE102_5!$C$23,ROWS($C$23:C57)-1,COLUMNS($C$23:C57)-1)<>\"\",OFFSET(DE102_5!$C$23,ROWS($C$23:C57)-1,COLUMNS($C$23:C57)-1),\"\")","v":""},{"$f":"IF(OFFSET(DE102_5!$F$23,ROWS($F$23:F57)-1,COLUMNS($F$23:F57)-1)<>\"\",OFFSET(DE102_5!$F$23,ROWS($F$23:F57)-1,COLUMNS($F$23:F57)-1),\"\")","v":85},{"$f":"IF(OFFSET(DE102_5!$G$23,ROWS($G$23:G57)-1,COLUMNS($G$23:G57)-1)<>\"\",OFFSET(DE102_5!$G$23,ROWS($G$23:G57)-1,COLUMNS($G$23:G57)-1),\"\")","v":"I-35"},{"$f":"IF(OFFSET(DE102_5!$H$23,ROWS($H$23:H57)-1,COLUMNS($H$23:H57)-1)<>\"\",OFFSET(DE102_5!$H$23,ROWS($H$23:H57)-1,COLUMNS($H$23:H57)-1),\"\")","v":1},{"$f":"IF(OFFSET(DE102_5!$I$23,ROWS($I$23:I57)-1,COLUMNS($I$23:I57)-1)<>\"\",OFFSET(DE102_5!$I$23,ROWS($I$23:I57)-1,COLUMNS($I$23:I57)-1),\"\")","v":105.79},{"$f":"IF(OFFSET(DE102_5!$J$23,ROWS($J$23:J57)-1,COLUMNS($J$23:J57)-1)<>\"\",OFFSET(DE102_5!$J$23,ROWS($J$23:J57)-1,COLUMNS($J$23:J57)-1),\"\")","v":111.75},{"$f":"IF(OFFSET(DE102_5!$M$23,ROWS($M$23:M57)-1,COLUMNS($M$23:M57)-1)<>\"\",OFFSET(DE102_5!$M$23,ROWS($M$23:M57)-1,COLUMNS($M$23:M57)-1),\"\")","v":2018},{"$f":"IF(OFFSET(DE102_5!$N$23,ROWS($N$23:N57)-1,COLUMNS($N$23:N57)-1)<>\"\",OFFSET(DE102_5!$N$23,ROWS($N$23:N57)-1,COLUMNS($N$23:N57)-1),\"\")","v":"M"},{"$f":"IF(OFFSET(DE102_5!$O$23,ROWS($O$23:O57)-1,COLUMNS($O$23:O57)-1)<>\"\",OFFSET(DE102_5!$O$23,ROWS($O$23:O57)-1,COLUMNS($O$23:O57)-1),\"\")","v":"IMN-035-4(201)87--0E-77"},{"$f":"IF(OFFSET(DE102_5!$P$23,ROWS($P$23:P57)-1,COLUMNS($P$23:P57)-1)<>\"\",OFFSET(DE102_5!$P$23,ROWS($P$23:P57)-1,COLUMNS($P$23:P57)-1),\"\")","v":"PCC"},{"$f":"IF(OFFSET(DE102_5!$Q$23,ROWS($Q$23:Q57)-1,COLUMNS($Q$23:Q57)-1)<>\"\",OFFSET(DE102_5!$Q$23,ROWS($Q$23:Q57)-1,COLUMNS($Q$23:Q57)-1),\"\")","v":""},{"$f":"IF(OFFSET(DE102_5!$R$23,ROWS($R$23:R57)-1,COLUMNS($R$23:R57)-1)<>\"\",OFFSET(DE102_5!$R$23,ROWS($R$23:R57)-1,COLUMNS($R$23:R57)-1),\"\")","v":""},{"$f":"IF(OFFSET(DE102_5!$S$23,ROWS($S$23:S57)-1,COLUMNS($S$23:S57)-1)<>\"\",OFFSET(DE102_5!$S$23,ROWS($S$23:S57)-1,COLUMNS($S$23:S57)-1),\"\")","v":""},{"$f":"IF(OFFSET(DE102_5!$T$23,ROWS($T$23:T57)-1,COLUMNS($T$23:T57)-1)<>\"\",OFFSET(DE102_5!$T$23,ROWS($T$23:T57)-1,COLUMNS($T$23:T57)-1),\"\")","v":""},{"$f":"IF(OFFSET(DE102_5!$U$23,ROWS($U$23:U57)-1,COLUMNS($U$23:U57)-1)<>\"\",OFFSET(DE102_5!$U$23,ROWS($U$23:U57)-1,COLUMNS($U$23:U57)-1),\"\")","v":""},{"$f":"IF(OFFSET(DE102_5!$V$23,ROWS($V$23:V57)-1,COLUMNS($V$23:V57)-1)<>\"\",OFFSET(DE102_5!$V$23,ROWS($V$23:V57)-1,COLUMNS($V$23:V57)-1),\"\")","v":""},{"$f":"IF(OFFSET(DE102_5!$W$23,ROWS($W$23:W57)-1,COLUMNS($W$23:W57)-1)<>\"\",OFFSET(DE102_5!$W$23,ROWS($W$23:W57)-1,COLUMNS($W$23:W57)-1),\"\")","v":""},{"$f":"IF(OFFSET(DE102_5!$X$23,ROWS($X$23:X57)-1,COLUMNS($X$23:X57)-1)<>\"\",OFFSET(DE102_5!$X$23,ROWS($X$23:X57)-1,COLUMNS($X$23:X57)-1),\"\")","v":""},{"$f":"IF(OFFSET(DE102_5!$Y$23,ROWS($Y$23:Y57)-1,COLUMNS($Y$23:Y57)-1)<>\"\",OFFSET(DE102_5!$Y$23,ROWS($Y$23:Y57)-1,COLUMNS($Y$23:Y57)-1),\"\")","v":""},{"$f":"IF(OFFSET(DE102_5!$Z$23,ROWS($Z$23:Z57)-1,COLUMNS($Z$23:Z57)-1)<>\"\",OFFSET(DE102_5!$Z$23,ROWS($Z$23:Z57)-1,COLUMNS($Z$23:Z57)-1),\"\")","v":""},{"$f":"IF(OFFSET(DE102_5!$AA$23,ROWS($AA$23:AA57)-1,COLUMNS($AA$23:AA57)-1)<>\"\",OFFSET(DE102_5!$AA$23,ROWS($AA$23:AA57)-1,COLUMNS($AA$23:AA57)-1),\"\")","v":"PCC PATCHING"},{"$f":"IF(OFFSET(DE102_5!$AB$23,ROWS($AB$23:AB57)-1,COLUMNS($AB$23:AB57)-1)<>\"\",OFFSET(DE102_5!$AB$23,ROWS($AB$23:AB57)-1,COLUMNS($AB$23:AB57)-1),\"\")","v":""}]
[{"$f":"IF(OFFSET(DE102_5!$C$23,ROWS($C$23:C58)-1,COLUMNS($C$23:C58)-1)<>\"\",OFFSET(DE102_5!$C$23,ROWS($C$23:C58)-1,COLUMNS($C$23:C58)-1),\"\")","v":""},{"$f":"IF(OFFSET(DE102_5!$F$23,ROWS($F$23:F58)-1,COLUMNS($F$23:F58)-1)<>\"\",OFFSET(DE102_5!$F$23,ROWS($F$23:F58)-1,COLUMNS($F$23:F58)-1),\"\")","v":85},{"$f":"IF(OFFSET(DE102_5!$G$23,ROWS($G$23:G58)-1,COLUMNS($G$23:G58)-1)<>\"\",OFFSET(DE102_5!$G$23,ROWS($G$23:G58)-1,COLUMNS($G$23:G58)-1),\"\")","v":"I-35"},{"$f":"IF(OFFSET(DE102_5!$H$23,ROWS($H$23:H58)-1,COLUMNS($H$23:H58)-1)<>\"\",OFFSET(DE102_5!$H$23,ROWS($H$23:H58)-1,COLUMNS($H$23:H58)-1),\"\")","v":1},{"$f":"IF(OFFSET(DE102_5!$I$23,ROWS($I$23:I58)-1,COLUMNS($I$23:I58)-1)<>\"\",OFFSET(DE102_5!$I$23,ROWS($I$23:I58)-1,COLUMNS($I$23:I58)-1),\"\")","v":105.79},{"$f":"IF(OFFSET(DE102_5!$J$23,ROWS($J$23:J58)-1,COLUMNS($J$23:J58)-1)<>\"\",OFFSET(DE102_5!$J$23,ROWS($J$23:J58)-1,COLUMNS($J$23:J58)-1),\"\")","v":111.75},{"$f":"IF(OFFSET(DE102_5!$M$23,ROWS($M$23:M58)-1,COLUMNS($M$23:M58)-1)<>\"\",OFFSET(DE102_5!$M$23,ROWS($M$23:M58)-1,COLUMNS($M$23:M58)-1),\"\")","v":2018},{"$f":"IF(OFFSET(DE102_5!$N$23,ROWS($N$23:N58)-1,COLUMNS($N$23:N58)-1)<>\"\",OFFSET(DE102_5!$N$23,ROWS($N$23:N58)-1,COLUMNS($N$23:N58)-1),\"\")","v":"O"},{"$f":"IF(OFFSET(DE102_5!$O$23,ROWS($O$23:O58)-1,COLUMNS($O$23:O58)-1)<>\"\",OFFSET(DE102_5!$O$23,ROWS($O$23:O58)-1,COLUMNS($O$23:O58)-1),\"\")","v":"IM-NHS-035-4(202)109--03-85"},{"$f":"IF(OFFSET(DE102_5!$P$23,ROWS($P$23:P58)-1,COLUMNS($P$23:P58)-1)<>\"\",OFFSET(DE102_5!$P$23,ROWS($P$23:P58)-1,COLUMNS($P$23:P58)-1),\"\")","v":"PCC"},{"$f":"IF(OFFSET(DE102_5!$Q$23,ROWS($Q$23:Q58)-1,COLUMNS($Q$23:Q58)-1)<>\"\",OFFSET(DE102_5!$Q$23,ROWS($Q$23:Q58)-1,COLUMNS($Q$23:Q58)-1),\"\")","v":11.5},{"$f":"IF(OFFSET(DE102_5!$R$23,ROWS($R$23:R58)-1,COLUMNS($R$23:R58)-1)<>\"\",OFFSET(DE102_5!$R$23,ROWS($R$23:R58)-1,COLUMNS($R$23:R58)-1),\"\")","v":"GSB"},{"$f":"IF(OFFSET(DE102_5!$S$23,ROWS($S$23:S58)-1,COLUMNS($S$23:S58)-1)<>\"\",OFFSET(DE102_5!$S$23,ROWS($S$23:S58)-1,COLUMNS($S$23:S58)-1),\"\")","v":8},{"$f":"IF(OFFSET(DE102_5!$T$23,ROWS($T$23:T58)-1,COLUMNS($T$23:T58)-1)<>\"\",OFFSET(DE102_5!$T$23,ROWS($T$23:T58)-1,COLUMNS($T$23:T58)-1),\"\")","v":""},{"$f":"IF(OFFSET(DE102_5!$U$23,ROWS($U$23:U58)-1,COLUMNS($U$23:U58)-1)<>\"\",OFFSET(DE102_5!$U$23,ROWS($U$23:U58)-1,COLUMNS($U$23:U58)-1),\"\")","v":""},{"$f":"IF(OFFSET(DE102_5!$V$23,ROWS($V$23:V58)-1,COLUMNS($V$23:V58)-1)<>\"\",OFFSET(DE102_5!$V$23,ROWS($V$23:V58)-1,COLUMNS($V$23:V58)-1),\"\")","v":""},{"$f":"IF(OFFSET(DE102_5!$W$23,ROWS($W$23:W58)-1,COLUMNS($W$23:W58)-1)<>\"\",OFFSET(DE102_5!$W$23,ROWS($W$23:W58)-1,COLUMNS($W$23:W58)-1),\"\")","v":""},{"$f":"IF(OFFSET(DE102_5!$X$23,ROWS($X$23:X58)-1,COLUMNS($X$23:X58)-1)<>\"\",OFFSET(DE102_5!$X$23,ROWS($X$23:X58)-1,COLUMNS($X$23:X58)-1),\"\")","v":""},{"$f":"IF(OFFSET(DE102_5!$Y$23,ROWS($Y$23:Y58)-1,COLUMNS($Y$23:Y58)-1)<>\"\",OFFSET(DE102_5!$Y$23,ROWS($Y$23:Y58)-1,COLUMNS($Y$23:Y58)-1),\"\")","v":""},{"$f":"IF(OFFSET(DE102_5!$Z$23,ROWS($Z$23:Z58)-1,COLUMNS($Z$23:Z58)-1)<>\"\",OFFSET(DE102_5!$Z$23,ROWS($Z$23:Z58)-1,COLUMNS($Z$23:Z58)-1),\"\")","v":""},{"$f":"IF(OFFSET(DE102_5!$AA$23,ROWS($AA$23:AA58)-1,COLUMNS($AA$23:AA58)-1)<>\"\",OFFSET(DE102_5!$AA$23,ROWS($AA$23:AA58)-1,COLUMNS($AA$23:AA58)-1),\"\")","v":""},{"$f":"IF(OFFSET(DE102_5!$AB$23,ROWS($AB$23:AB58)-1,COLUMNS($AB$23:AB58)-1)<>\"\",OFFSET(DE102_5!$AB$23,ROWS($AB$23:AB58)-1,COLUMNS($AB$23:AB58)-1),\"\")","v":""}]
[{"$f":"IF(OFFSET(DE102_5!$C$23,ROWS($C$23:C59)-1,COLUMNS($C$23:C59)-1)<>\"\",OFFSET(DE102_5!$C$23,ROWS($C$23:C59)-1,COLUMNS($C$23:C59)-1),\"\")","v":""},{"$f":"IF(OFFSET(DE102_5!$F$23,ROWS($F$23:F59)-1,COLUMNS($F$23:F59)-1)<>\"\",OFFSET(DE102_5!$F$23,ROWS($F$23:F59)-1,COLUMNS($F$23:F59)-1),\"\")","v":85},{"$f":"IF(OFFSET(DE102_5!$G$23,ROWS($G$23:G59)-1,COLUMNS($G$23:G59)-1)<>\"\",OFFSET(DE102_5!$G$23,ROWS($G$23:G59)-1,COLUMNS($G$23:G59)-1),\"\")","v":"I-35"},{"$f":"IF(OFFSET(DE102_5!$H$23,ROWS($H$23:H59)-1,COLUMNS($H$23:H59)-1)<>\"\",OFFSET(DE102_5!$H$23,ROWS($H$23:H59)-1,COLUMNS($H$23:H59)-1),\"\")","v":1},{"$f":"IF(OFFSET(DE102_5!$I$23,ROWS($I$23:I59)-1,COLUMNS($I$23:I59)-1)<>\"\",OFFSET(DE102_5!$I$23,ROWS($I$23:I59)-1,COLUMNS($I$23:I59)-1),\"\")","v":105.79},{"$f":"IF(OFFSET(DE102_5!$J$23,ROWS($J$23:J59)-1,COLUMNS($J$23:J59)-1)<>\"\",OFFSET(DE102_5!$J$23,ROWS($J$23:J59)-1,COLUMNS($J$23:J59)-1),\"\")","v":111.75},{"$f":"IF(OFFSET(DE102_5!$M$23,ROWS($M$23:M59)-1,COLUMNS($M$23:M59)-1)<>\"\",OFFSET(DE102_5!$M$23,ROWS($M$23:M59)-1,COLUMNS($M$23:M59)-1),\"\")","v":2017},{"$f":"IF(OFFSET(DE102_5!$N$23,ROWS($N$23:N59)-1,COLUMNS($N$23:N59)-1)<>\"\",OFFSET(DE102_5!$N$23,ROWS($N$23:N59)-1,COLUMNS($N$23:N59)-1),\"\")","v":"M"},{"$f":"IF(OFFSET(DE102_5!$O$23,ROWS($O$23:O59)-1,COLUMNS($O$23:O59)-1)<>\"\",OFFSET(DE102_5!$O$23,ROWS($O$23:O59)-1,COLUMNS($O$23:O59)-1),\"\")","v":"IMN-035-4(179)87--0E-77"},{"$f":"IF(OFFSET(DE102_5!$P$23,ROWS($P$23:P59)-1,COLUMNS($P$23:P59)-1)<>\"\",OFFSET(DE102_5!$P$23,ROWS($P$23:P59)-1,COLUMNS($P$23:P59)-1),\"\")","v":"PCC"},{"$f":"IF(OFFSET(DE102_5!$Q$23,ROWS($Q$23:Q59)-1,COLUMNS($Q$23:Q59)-1)<>\"\",OFFSET(DE102_5!$Q$23,ROWS($Q$23:Q59)-1,COLUMNS($Q$23:Q59)-1),\"\")","v":12},{"$f":"IF(OFFSET(DE102_5!$R$23,ROWS($R$23:R59)-1,COLUMNS($R$23:R59)-1)<>\"\",OFFSET(DE102_5!$R$23,ROWS($R$23:R59)-1,COLUMNS($R$23:R59)-1),\"\")","v":""},{"$f":"IF(OFFSET(DE102_5!$S$23,ROWS($S$23:S59)-1,COLUMNS($S$23:S59)-1)<>\"\",OFFSET(DE102_5!$S$23,ROWS($S$23:S59)-1,COLUMNS($S$23:S59)-1),\"\")","v":""},{"$f":"IF(OFFSET(DE102_5!$T$23,ROWS($T$23:T59)-1,COLUMNS($T$23:T59)-1)<>\"\",OFFSET(DE102_5!$T$23,ROWS($T$23:T59)-1,COLUMNS($T$23:T59)-1),\"\")","v":""},{"$f":"IF(OFFSET(DE102_5!$U$23,ROWS($U$23:U59)-1,COLUMNS($U$23:U59)-1)<>\"\",OFFSET(DE102_5!$U$23,ROWS($U$23:U59)-1,COLUMNS($U$23:U59)-1),\"\")","v":""},{"$f":"IF(OFFSET(DE102_5!$V$23,ROWS($V$23:V59)-1,COLUMNS($V$23:V59)-1)<>\"\",OFFSET(DE102_5!$V$23,ROWS($V$23:V59)-1,COLUMNS($V$23:V59)-1),\"\")","v":""},{"$f":"IF(OFFSET(DE102_5!$W$23,ROWS($W$23:W59)-1,COLUMNS($W$23:W59)-1)<>\"\",OFFSET(DE102_5!$W$23,ROWS($W$23:W59)-1,COLUMNS($W$23:W59)-1),\"\")","v":""},{"$f":"IF(OFFSET(DE102_5!$X$23,ROWS($X$23:X59)-1,COLUMNS($X$23:X59)-1)<>\"\",OFFSET(DE102_5!$X$23,ROWS($X$23:X59)-1,COLUMNS($X$23:X59)-1),\"\")","v":""},{"$f":"IF(OFFSET(DE102_5!$Y$23,ROWS($Y$23:Y59)-1,COLUMNS($Y$23:Y59)-1)<>\"\",OFFSET(DE102_5!$Y$23,ROWS($Y$23:Y59)-1,COLUMNS($Y$23:Y59)-1),\"\")","v":""},{"$f":"IF(OFFSET(DE102_5!$Z$23,ROWS($Z$23:Z59)-1,COLUMNS($Z$23:Z59)-1)<>\"\",OFFSET(DE102_5!$Z$23,ROWS($Z$23:Z59)-1,COLUMNS($Z$23:Z59)-1),\"\")","v":""},{"$f":"IF(OFFSET(DE102_5!$AA$23,ROWS($AA$23:AA59)-1,COLUMNS($AA$23:AA59)-1)<>\"\",OFFSET(DE102_5!$AA$23,ROWS($AA$23:AA59)-1,COLUMNS($AA$23:AA59)-1),\"\")","v":"PCC PATCHING"},{"$f":"IF(OFFSET(DE102_5!$AB$23,ROWS($AB$23:AB59)-1,COLUMNS($AB$23:AB59)-1)<>\"\",OFFSET(DE102_5!$AB$23,ROWS($AB$23:AB59)-1,COLUMNS($AB$23:AB59)-1),\"\")","v":""}]
[{"$f":"IF(OFFSET(DE102_5!$C$23,ROWS($C$23:C60)-1,COLUMNS($C$23:C60)-1)<>\"\",OFFSET(DE102_5!$C$23,ROWS($C$23:C60)-1,COLUMNS($C$23:C60)-1),\"\")","v":""},{"$f":"IF(OFFSET(DE102_5!$F$23,ROWS($F$23:F60)-1,COLUMNS($F$23:F60)-1)<>\"\",OFFSET(DE102_5!$F$23,ROWS($F$23:F60)-1,COLUMNS($F$23:F60)-1),\"\")","v":85},{"$f":"IF(OFFSET(DE102_5!$G$23,ROWS($G$23:G60)-1,COLUMNS($G$23:G60)-1)<>\"\",OFFSET(DE102_5!$G$23,ROWS($G$23:G60)-1,COLUMNS($G$23:G60)-1),\"\")","v":"I-35"},{"$f":"IF(OFFSET(DE102_5!$H$23,ROWS($H$23:H60)-1,COLUMNS($H$23:H60)-1)<>\"\",OFFSET(DE102_5!$H$23,ROWS($H$23:H60)-1,COLUMNS($H$23:H60)-1),\"\")","v":1},{"$f":"IF(OFFSET(DE102_5!$I$23,ROWS($I$23:I60)-1,COLUMNS($I$23:I60)-1)<>\"\",OFFSET(DE102_5!$I$23,ROWS($I$23:I60)-1,COLUMNS($I$23:I60)-1),\"\")","v":105.79},{"$f":"IF(OFFSET(DE102_5!$J$23,ROWS($J$23:J60)-1,COLUMNS($J$23:J60)-1)<>\"\",OFFSET(DE102_5!$J$23,ROWS($J$23:J60)-1,COLUMNS($J$23:J60)-1),\"\")","v":111.75},{"$f":"IF(OFFSET(DE102_5!$M$23,ROWS($M$23:M60)-1,COLUMNS($M$23:M60)-1)<>\"\",OFFSET(DE102_5!$M$23,ROWS($M$23:M60)-1,COLUMNS($M$23:M60)-1),\"\")","v":2013},{"$f":"IF(OFFSET(DE102_5!$N$23,ROWS($N$23:N60)-1,COLUMNS($N$23:N60)-1)<>\"\",OFFSET(DE102_5!$N$23,ROWS($N$23:N60)-1,COLUMNS($N$23:N60)-1),\"\")","v":""},{"$f":"IF(OFFSET(DE102_5!$O$23,ROWS($O$23:O60)-1,COLUMNS($O$23:O60)-1)<>\"\",OFFSET(DE102_5!$O$23,ROWS($O$23:O60)-1,COLUMNS($O$23:O60)-1),\"\")","v":"MPIN-035-1(708)106--0N-85"},{"$f":"IF(OFFSET(DE102_5!$P$23,ROWS($P$23:P60)-1,COLUMNS($P$23:P60)-1)<>\"\",OFFSET(DE102_5!$P$23,ROWS($P$23:P60)-1,COLUMNS($P$23:P60)-1),\"\")","v":"MSS"},{"$f":"IF(OFFSET(DE102_5!$Q$23,ROWS($Q$23:Q60)-1,COLUMNS($Q$23:Q60)-1)<>\"\",OFFSET(DE102_5!$Q$23,ROWS($Q$23:Q60)-1,COLUMNS($Q$23:Q60)-1),\"\")","v":""},{"$f":"IF(OFFSET(DE102_5!$R$23,ROWS($R$23:R60)-1,COLUMNS($R$23:R60)-1)<>\"\",OFFSET(DE102_5!$R$23,ROWS($R$23:R60)-1,COLUMNS($R$23:R60)-1),\"\")","v":""},{"$f":"IF(OFFSET(DE102_5!$S$23,ROWS($S$23:S60)-1,COLUMNS($S$23:S60)-1)<>\"\",OFFSET(DE102_5!$S$23,ROWS($S$23:S60)-1,COLUMNS($S$23:S60)-1),\"\")","v":""},{"$f":"IF(OFFSET(DE102_5!$T$23,ROWS($T$23:T60)-1,COLUMNS($T$23:T60)-1)<>\"\",OFFSET(DE102_5!$T$23,ROWS($T$23:T60)-1,COLUMNS($T$23:T60)-1),\"\")","v":""},{"$f":"IF(OFFSET(DE102_5!$U$23,ROWS($U$23:U60)-1,COLUMNS($U$23:U60)-1)<>\"\",OFFSET(DE102_5!$U$23,ROWS($U$23:U60)-1,COLUMNS($U$23:U60)-1),\"\")","v":""},{"$f":"IF(OFFSET(DE102_5!$V$23,ROWS($V$23:V60)-1,COLUMNS($V$23:V60)-1)<>\"\",OFFSET(DE102_5!$V$23,ROWS($V$23:V60)-1,COLUMNS($V$23:V60)-1),\"\")","v":""},{"$f":"IF(OFFSET(DE102_5!$W$23,ROWS($W$23:W60)-1,COLUMNS($W$23:W60)-1)<>\"\",OFFSET(DE102_5!$W$23,ROWS($W$23:W60)-1,COLUMNS($W$23:W60)-1),\"\")","v":""},{"$f":"IF(OFFSET(DE102_5!$X$23,ROWS($X$23:X60)-1,COLUMNS($X$23:X60)-1)<>\"\",OFFSET(DE102_5!$X$23,ROWS($X$23:X60)-1,COLUMNS($X$23:X60)-1),\"\")","v":""},{"$f":"IF(OFFSET(DE102_5!$Y$23,ROWS($Y$23:Y60)-1,COLUMNS($Y$23:Y60)-1)<>\"\",OFFSET(DE102_5!$Y$23,ROWS($Y$23:Y60)-1,COLUMNS($Y$23:Y60)-1),\"\")","v":""},{"$f":"IF(OFFSET(DE102_5!$Z$23,ROWS($Z$23:Z60)-1,COLUMNS($Z$23:Z60)-1)<>\"\",OFFSET(DE102_5!$Z$23,ROWS($Z$23:Z60)-1,COLUMNS($Z$23:Z60)-1),\"\")","v":""},{"$f":"IF(OFFSET(DE102_5!$AA$23,ROWS($AA$23:AA60)-1,COLUMNS($AA$23:AA60)-1)<>\"\",OFFSET(DE102_5!$AA$23,ROWS($AA$23:AA60)-1,COLUMNS($AA$23:AA60)-1),\"\")","v":""},{"$f":"IF(OFFSET(DE102_5!$AB$23,ROWS($AB$23:AB60)-1,COLUMNS($AB$23:AB60)-1)<>\"\",OFFSET(DE102_5!$AB$23,ROWS($AB$23:AB60)-1,COLUMNS($AB$23:AB60)-1),\"\")","v":""}]
[{"$f":"IF(OFFSET(DE102_5!$C$23,ROWS($C$23:C61)-1,COLUMNS($C$23:C61)-1)<>\"\",OFFSET(DE102_5!$C$23,ROWS($C$23:C61)-1,COLUMNS($C$23:C61)-1),\"\")","v":""},{"$f":"IF(OFFSET(DE102_5!$F$23,ROWS($F$23:F61)-1,COLUMNS($F$23:F61)-1)<>\"\",OFFSET(DE102_5!$F$23,ROWS($F$23:F61)-1,COLUMNS($F$23:F61)-1),\"\")","v":85},{"$f":"IF(OFFSET(DE102_5!$G$23,ROWS($G$23:G61)-1,COLUMNS($G$23:G61)-1)<>\"\",OFFSET(DE102_5!$G$23,ROWS($G$23:G61)-1,COLUMNS($G$23:G61)-1),\"\")","v":"I-35"},{"$f":"IF(OFFSET(DE102_5!$H$23,ROWS($H$23:H61)-1,COLUMNS($H$23:H61)-1)<>\"\",OFFSET(DE102_5!$H$23,ROWS($H$23:H61)-1,COLUMNS($H$23:H61)-1),\"\")","v":1},{"$f":"IF(OFFSET(DE102_5!$I$23,ROWS($I$23:I61)-1,COLUMNS($I$23:I61)-1)<>\"\",OFFSET(DE102_5!$I$23,ROWS($I$23:I61)-1,COLUMNS($I$23:I61)-1),\"\")","v":105.79},{"$f":"IF(OFFSET(DE102_5!$J$23,ROWS($J$23:J61)-1,COLUMNS($J$23:J61)-1)<>\"\",OFFSET(DE102_5!$J$23,ROWS($J$23:J61)-1,COLUMNS($J$23:J61)-1),\"\")","v":111.75},{"$f":"IF(OFFSET(DE102_5!$M$23,ROWS($M$23:M61)-1,COLUMNS($M$23:M61)-1)<>\"\",OFFSET(DE102_5!$M$23,ROWS($M$23:M61)-1,COLUMNS($M$23:M61)-1),\"\")","v":2008},{"$f":"IF(OFFSET(DE102_5!$N$23,ROWS($N$23:N61)-1,COLUMNS($N$23:N61)-1)<>\"\",OFFSET(DE102_5!$N$23,ROWS($N$23:N61)-1,COLUMNS($N$23:N61)-1),\"\")","v":""},{"$f":"IF(OFFSET(DE102_5!$O$23,ROWS($O$23:O61)-1,COLUMNS($O$23:O61)-1)<>\"\",OFFSET(DE102_5!$O$23,ROWS($O$23:O61)-1,COLUMNS($O$23:O61)-1),\"\")","v":"IMX-35-4(130)106--02-85"},{"$f":"IF(OFFSET(DE102_5!$P$23,ROWS($P$23:P61)-1,COLUMNS($P$23:P61)-1)<>\"\",OFFSET(DE102_5!$P$23,ROWS($P$23:P61)-1,COLUMNS($P$23:P61)-1),\"\")","v":"HMA"},{"$f":"IF(OFFSET(DE102_5!$Q$23,ROWS($Q$23:Q61)-1,COLUMNS($Q$23:Q61)-1)<>\"\",OFFSET(DE102_5!$Q$23,ROWS($Q$23:Q61)-1,COLUMNS($Q$23:Q61)-1),\"\")","v":2},{"$f":"IF(OFFSET(DE102_5!$R$23,ROWS($R$23:R61)-1,COLUMNS($R$23:R61)-1)<>\"\",OFFSET(DE102_5!$R$23,ROWS($R$23:R61)-1,COLUMNS($R$23:R61)-1),\"\")","v":""},{"$f":"IF(OFFSET(DE102_5!$S$23,ROWS($S$23:S61)-1,COLUMNS($S$23:S61)-1)<>\"\",OFFSET(DE102_5!$S$23,ROWS($S$23:S61)-1,COLUMNS($S$23:S61)-1),\"\")","v":""},{"$f":"IF(OFFSET(DE102_5!$T$23,ROWS($T$23:T61)-1,COLUMNS($T$23:T61)-1)<>\"\",OFFSET(DE102_5!$T$23,ROWS($T$23:T61)-1,COLUMNS($T$23:T61)-1),\"\")","v":""},{"$f":"IF(OFFSET(DE102_5!$U$23,ROWS($U$23:U61)-1,COLUMNS($U$23:U61)-1)<>\"\",OFFSET(DE102_5!$U$23,ROWS($U$23:U61)-1,COLUMNS($U$23:U61)-1),\"\")","v":""},{"$f":"IF(OFFSET(DE102_5!$V$23,ROWS($V$23:V61)-1,COLUMNS($V$23:V61)-1)<>\"\",OFFSET(DE102_5!$V$23,ROWS($V$23:V61)-1,COLUMNS($V$23:V61)-1),\"\")","v":"MIL"},{"$f":"IF(OFFSET(DE102_5!$W$23,ROWS($W$23:W61)-1,COLUMNS($W$23:W61)-1)<>\"\",OFFSET(DE102_5!$W$23,ROWS($W$23:W61)-1,COLUMNS($W$23:W61)-1),\"\")","v":2},{"$f":"IF(OFFSET(DE102_5!$X$23,ROWS($X$23:X61)-1,COLUMNS($X$23:X61)-1)<>\"\",OFFSET(DE102_5!$X$23,ROWS($X$23:X61)-1,COLUMNS($X$23:X61)-1),\"\")","v":"AMES MINE"},{"$f":"IF(OFFSET(DE102_5!$Y$23,ROWS($Y$23:Y61)-1,COLUMNS($Y$23:Y61)-1)<>\"\",OFFSET(DE102_5!$Y$23,ROWS($Y$23:Y61)-1,COLUMNS($Y$23:Y61)-1),\"\")","v":"C.LST."},{"$f":"IF(OFFSET(DE102_5!$Z$23,ROWS($Z$23:Z61)-1,COLUMNS($Z$23:Z61)-1)<>\"\",OFFSET(DE102_5!$Z$23,ROWS($Z$23:Z61)-1,COLUMNS($Z$23:Z61)-1),\"\")","v":""},{"$f":"IF(OFFSET(DE102_5!$AA$23,ROWS($AA$23:AA61)-1,COLUMNS($AA$23:AA61)-1)<>\"\",OFFSET(DE102_5!$AA$23,ROWS($AA$23:AA61)-1,COLUMNS($AA$23:AA61)-1),\"\")","v":""},{"$f":"IF(OFFSET(DE102_5!$AB$23,ROWS($AB$23:AB61)-1,COLUMNS($AB$23:AB61)-1)<>\"\",OFFSET(DE102_5!$AB$23,ROWS($AB$23:AB61)-1,COLUMNS($AB$23:AB61)-1),\"\")","v":""}]
[{"$f":"IF(OFFSET(DE102_5!$C$23,ROWS($C$23:C62)-1,COLUMNS($C$23:C62)-1)<>\"\",OFFSET(DE102_5!$C$23,ROWS($C$23:C62)-1,COLUMNS($C$23:C62)-1),\"\")","v":""},{"$f":"IF(OFFSET(DE102_5!$F$23,ROWS($F$23:F62)-1,COLUMNS($F$23:F62)-1)<>\"\",OFFSET(DE102_5!$F$23,ROWS($F$23:F62)-1,COLUMNS($F$23:F62)-1),\"\")","v":85},{"$f":"IF(OFFSET(DE102_5!$G$23,ROWS($G$23:G62)-1,COLUMNS($G$23:G62)-1)<>\"\",OFFSET(DE102_5!$G$23,ROWS($G$23:G62)-1,COLUMNS($G$23:G62)-1),\"\")","v":"I-35"},{"$f":"IF(OFFSET(DE102_5!$H$23,ROWS($H$23:H62)-1,COLUMNS($H$23:H62)-1)<>\"\",OFFSET(DE102_5!$H$23,ROWS($H$23:H62)-1,COLUMNS($H$23:H62)-1),\"\")","v":1},{"$f":"IF(OFFSET(DE102_5!$I$23,ROWS($I$23:I62)-1,COLUMNS($I$23:I62)-1)<>\"\",OFFSET(DE102_5!$I$23,ROWS($I$23:I62)-1,COLUMNS($I$23:I62)-1),\"\")","v":105.79},{"$f":"IF(OFFSET(DE102_5!$J$23,ROWS($J$23:J62)-1,COLUMNS($J$23:J62)-1)<>\"\",OFFSET(DE102_5!$J$23,ROWS($J$23:J62)-1,COLUMNS($J$23:J62)-1),\"\")","v":111.75},{"$f":"IF(OFFSET(DE102_5!$M$23,ROWS($M$23:M62)-1,COLUMNS($M$23:M62)-1)<>\"\",OFFSET(DE102_5!$M$23,ROWS($M$23:M62)-1,COLUMNS($M$23:M62)-1),\"\")","v":2008},{"$f":"IF(OFFSET(DE102_5!$N$23,ROWS($N$23:N62)-1,COLUMNS($N$23:N62)-1)<>\"\",OFFSET(DE102_5!$N$23,ROWS($N$23:N62)-1,COLUMNS($N$23:N62)-1),\"\")","v":"W"},{"$f":"IF(OFFSET(DE102_5!$O$23,ROWS($O$23:O62)-1,COLUMNS($O$23:O62)-1)<>\"\",OFFSET(DE102_5!$O$23,ROWS($O$23:O62)-1,COLUMNS($O$23:O62)-1),\"\")","v":"IMX-35-4(130)106--02-85"},{"$f":"IF(OFFSET(DE102_5!$P$23,ROWS($P$23:P62)-1,COLUMNS($P$23:P62)-1)<>\"\",OFFSET(DE102_5!$P$23,ROWS($P$23:P62)-1,COLUMNS($P$23:P62)-1),\"\")","v":"HMA"},{"$f":"IF(OFFSET(DE102_5!$Q$23,ROWS($Q$23:Q62)-1,COLUMNS($Q$23:Q62)-1)<>\"\",OFFSET(DE102_5!$Q$23,ROWS($Q$23:Q62)-1,COLUMNS($Q$23:Q62)-1),\"\")","v":2},{"$f":"IF(OFFSET(DE102_5!$R$23,ROWS($R$23:R62)-1,COLUMNS($R$23:R62)-1)<>\"\",OFFSET(DE102_5!$R$23,ROWS($R$23:R62)-1,COLUMNS($R$23:R62)-1),\"\")","v":""},{"$f":"IF(OFFSET(DE102_5!$S$23,ROWS($S$23:S62)-1,COLUMNS($S$23:S62)-1)<>\"\",OFFSET(DE102_5!$S$23,ROWS($S$23:S62)-1,COLUMNS($S$23:S62)-1),\"\")","v":""},{"$f":"IF(OFFSET(DE102_5!$T$23,ROWS($T$23:T62)-1,COLUMNS($T$23:T62)-1)<>\"\",OFFSET(DE102_5!$T$23,ROWS($T$23:T62)-1,COLUMNS($T$23:T62)-1),\"\")","v":""},{"$f":"IF(OFFSET(DE102_5!$U$23,ROWS($U$23:U62)-1,COLUMNS($U$23:U62)-1)<>\"\",OFFSET(DE102_5!$U$23,ROWS($U$23:U62)-1,COLUMNS($U$23:U62)-1),\"\")","v":""},{"$f":"IF(OFFSET(DE102_5!$V$23,ROWS($V$23:V62)-1,COLUMNS($V$23:V62)-1)<>\"\",OFFSET(DE102_5!$V$23,ROWS($V$23:V62)-1,COLUMNS($V$23:V62)-1),\"\")","v":"MIL"},{"$f":"IF(OFFSET(DE102_5!$W$23,ROWS($W$23:W62)-1,COLUMNS($W$23:W62)-1)<>\"\",OFFSET(DE102_5!$W$23,ROWS($W$23:W62)-1,COLUMNS($W$23:W62)-1),\"\")","v":2},{"$f":"IF(OFFSET(DE102_5!$X$23,ROWS($X$23:X62)-1,COLUMNS($X$23:X62)-1)<>\"\",OFFSET(DE102_5!$X$23,ROWS($X$23:X62)-1,COLUMNS($X$23:X62)-1),\"\")","v":"AMES MINE"},{"$f":"IF(OFFSET(DE102_5!$Y$23,ROWS($Y$23:Y62)-1,COLUMNS($Y$23:Y62)-1)<>\"\",OFFSET(DE102_5!$Y$23,ROWS($Y$23:Y62)-1,COLUMNS($Y$23:Y62)-1),\"\")","v":"C.LST."},{"$f":"IF(OFFSET(DE102_5!$Z$23,ROWS($Z$23:Z62)-1,COLUMNS($Z$23:Z62)-1)<>\"\",OFFSET(DE102_5!$Z$23,ROWS($Z$23:Z62)-1,COLUMNS($Z$23:Z62)-1),\"\")","v":""},{"$f":"IF(OFFSET(DE102_5!$AA$23,ROWS($AA$23:AA62)-1,COLUMNS($AA$23:AA62)-1)<>\"\",OFFSET(DE102_5!$AA$23,ROWS($AA$23:AA62)-1,COLUMNS($AA$23:AA62)-1),\"\")","v":"WIDENING WIDTH VARIES"},{"$f":"IF(OFFSET(DE102_5!$AB$23,ROWS($AB$23:AB62)-1,COLUMNS($AB$23:AB62)-1)<>\"\",OFFSET(DE102_5!$AB$23,ROWS($AB$23:AB62)-1,COLUMNS($AB$23:AB62)-1),\"\")","v":""}]
[{"$f":"IF(OFFSET(DE102_5!$C$23,ROWS($C$23:C63)-1,COLUMNS($C$23:C63)-1)<>\"\",OFFSET(DE102_5!$C$23,ROWS($C$23:C63)-1,COLUMNS($C$23:C63)-1),\"\")","v":""},{"$f":"IF(OFFSET(DE102_5!$F$23,ROWS($F$23:F63)-1,COLUMNS($F$23:F63)-1)<>\"\",OFFSET(DE102_5!$F$23,ROWS($F$23:F63)-1,COLUMNS($F$23:F63)-1),\"\")","v":85},{"$f":"IF(OFFSET(DE102_5!$G$23,ROWS($G$23:G63)-1,COLUMNS($G$23:G63)-1)<>\"\",OFFSET(DE102_5!$G$23,ROWS($G$23:G63)-1,COLUMNS($G$23:G63)-1),\"\")","v":"I-35"},{"$f":"IF(OFFSET(DE102_5!$H$23,ROWS($H$23:H63)-1,COLUMNS($H$23:H63)-1)<>\"\",OFFSET(DE102_5!$H$23,ROWS($H$23:H63)-1,COLUMNS($H$23:H63)-1),\"\")","v":1},{"$f":"IF(OFFSET(DE102_5!$I$23,ROWS($I$23:I63)-1,COLUMNS($I$23:I63)-1)<>\"\",OFFSET(DE102_5!$I$23,ROWS($I$23:I63)-1,COLUMNS($I$23:I63)-1),\"\")","v":105.79},{"$f":"IF(OFFSET(DE102_5!$J$23,ROWS($J$23:J63)-1,COLUMNS($J$23:J63)-1)<>\"\",OFFSET(DE102_5!$J$23,ROWS($J$23:J63)-1,COLUMNS($J$23:J63)-1),\"\")","v":111.75},{"$f":"IF(OFFSET(DE102_5!$M$23,ROWS($M$23:M63)-1,COLUMNS($M$23:M63)-1)<>\"\",OFFSET(DE102_5!$M$23,ROWS($M$23:M63)-1,COLUMNS($M$23:M63)-1),\"\")","v":2002},{"$f":"IF(OFFSET(DE102_5!$N$23,ROWS($N$23:N63)-1,COLUMNS($N$23:N63)-1)<>\"\",OFFSET(DE102_5!$N$23,ROWS($N$23:N63)-1,COLUMNS($N$23:N63)-1),\"\")","v":"V"},{"$f":"IF(OFFSET(DE102_5!$O$23,ROWS($O$23:O63)-1,COLUMNS($O$23:O63)-1)<>\"\",OFFSET(DE102_5!$O$23,ROWS($O$23:O63)-1,COLUMNS($O$23:O63)-1),\"\")","v":"IMX-35-4(88)96--O2-77"},{"$f":"IF(OFFSET(DE102_5!$P$23,ROWS($P$23:P63)-1,COLUMNS($P$23:P63)-1)<>\"\",OFFSET(DE102_5!$P$23,ROWS($P$23:P63)-1,COLUMNS($P$23:P63)-1),\"\")","v":"AAC"},{"$f":"IF(OFFSET(DE102_5!$Q$23,ROWS($Q$23:Q63)-1,COLUMNS($Q$23:Q63)-1)<>\"\",OFFSET(DE102_5!$Q$23,ROWS($Q$23:Q63)-1,COLUMNS($Q$23:Q63)-1),\"\")","v":2.5},{"$f":"IF(OFFSET(DE102_5!$R$23,ROWS($R$23:R63)-1,COLUMNS($R$23:R63)-1)<>\"\",OFFSET(DE102_5!$R$23,ROWS($R$23:R63)-1,COLUMNS($R$23:R63)-1),\"\")","v":"AAC"},{"$f":"IF(OFFSET(DE102_5!$S$23,ROWS($S$23:S63)-1,COLUMNS($S$23:S63)-1)<>\"\",OFFSET(DE102_5!$S$23,ROWS($S$23:S63)-1,COLUMNS($S$23:S63)-1),\"\")","v":2},{"$f":"IF(OFFSET(DE102_5!$T$23,ROWS($T$23:T63)-1,COLUMNS($T$23:T63)-1)<>\"\",OFFSET(DE102_5!$T$23,ROWS($T$23:T63)-1,COLUMNS($T$23:T63)-1),\"\")","v":""},{"$f":"IF(OFFSET(DE102_5!$U$23,ROWS($U$23:U63)-1,COLUMNS($U$23:U63)-1)<>\"\",OFFSET(DE102_5!$U$23,ROWS($U$23:U63)-1,COLUMNS($U$23:U63)-1),\"\")","v":""},{"$f":"IF(OFFSET(DE102_5!$V$23,ROWS($V$23:V63)-1,COLUMNS($V$23:V63)-1)<>\"\",OFFSET(DE102_5!$V$23,ROWS($V$23:V63)-1,COLUMNS($V$23:V63)-1),\"\")","v":""},{"$f":"IF(OFFSET(DE102_5!$W$23,ROWS($W$23:W63)-1,COLUMNS($W$23:W63)-1)<>\"\",OFFSET(DE102_5!$W$23,ROWS($W$23:W63)-1,COLUMNS($W$23:W63)-1),\"\")","v":""},{"$f":"IF(OFFSET(DE102_5!$X$23,ROWS($X$23:X63)-1,COLUMNS($X$23:X63)-1)<>\"\",OFFSET(DE102_5!$X$23,ROWS($X$23:X63)-1,COLUMNS($X$23:X63)-1),\"\")","v":""},{"$f":"IF(OFFSET(DE102_5!$Y$23,ROWS($Y$23:Y63)-1,COLUMNS($Y$23:Y63)-1)<>\"\",OFFSET(DE102_5!$Y$23,ROWS($Y$23:Y63)-1,COLUMNS($Y$23:Y63)-1),\"\")","v":""},{"$f":"IF(OFFSET(DE102_5!$Z$23,ROWS($Z$23:Z63)-1,COLUMNS($Z$23:Z63)-1)<>\"\",OFFSET(DE102_5!$Z$23,ROWS($Z$23:Z63)-1,COLUMNS($Z$23:Z63)-1),\"\")","v":""},{"$f":"IF(OFFSET(DE102_5!$AA$23,ROWS($AA$23:AA63)-1,COLUMNS($AA$23:AA63)-1)<>\"\",OFFSET(DE102_5!$AA$23,ROWS($AA$23:AA63)-1,COLUMNS($AA$23:AA63)-1),\"\")","v":"0.41 MI PATCH"},{"$f":"IF(OFFSET(DE102_5!$AB$23,ROWS($AB$23:AB63)-1,COLUMNS($AB$23:AB63)-1)<>\"\",OFFSET(DE102_5!$AB$23,ROWS($AB$23:AB63)-1,COLUMNS($AB$23:AB63)-1),\"\")","v":""}]
[{"$f":"IF(OFFSET(DE102_5!$C$23,ROWS($C$23:C64)-1,COLUMNS($C$23:C64)-1)<>\"\",OFFSET(DE102_5!$C$23,ROWS($C$23:C64)-1,COLUMNS($C$23:C64)-1),\"\")","v":""},{"$f":"IF(OFFSET(DE102_5!$F$23,ROWS($F$23:F64)-1,COLUMNS($F$23:F64)-1)<>\"\",OFFSET(DE102_5!$F$23,ROWS($F$23:F64)-1,COLUMNS($F$23:F64)-1),\"\")","v":85},{"$f":"IF(OFFSET(DE102_5!$G$23,ROWS($G$23:G64)-1,COLUMNS($G$23:G64)-1)<>\"\",OFFSET(DE102_5!$G$23,ROWS($G$23:G64)-1,COLUMNS($G$23:G64)-1),\"\")","v":"I-35"},{"$f":"IF(OFFSET(DE102_5!$H$23,ROWS($H$23:H64)-1,COLUMNS($H$23:H64)-1)<>\"\",OFFSET(DE102_5!$H$23,ROWS($H$23:H64)-1,COLUMNS($H$23:H64)-1),\"\")","v":1},{"$f":"IF(OFFSET(DE102_5!$I$23,ROWS($I$23:I64)-1,COLUMNS($I$23:I64)-1)<>\"\",OFFSET(DE102_5!$I$23,ROWS($I$23:I64)-1,COLUMNS($I$23:I64)-1),\"\")","v":105.79},{"$f":"IF(OFFSET(DE102_5!$J$23,ROWS($J$23:J64)-1,COLUMNS($J$23:J64)-1)<>\"\",OFFSET(DE102_5!$J$23,ROWS($J$23:J64)-1,COLUMNS($J$23:J64)-1),\"\")","v":111.75},{"$f":"IF(OFFSET(DE102_5!$M$23,ROWS($M$23:M64)-1,COLUMNS($M$23:M64)-1)<>\"\",OFFSET(DE102_5!$M$23,ROWS($M$23:M64)-1,COLUMNS($M$23:M64)-1),\"\")","v":1987},{"$f":"IF(OFFSET(DE102_5!$N$23,ROWS($N$23:N64)-1,COLUMNS($N$23:N64)-1)<>\"\",OFFSET(DE102_5!$N$23,ROWS($N$23:N64)-1,COLUMNS($N$23:N64)-1),\"\")","v":""},{"$f":"IF(OFFSET(DE102_5!$O$23,ROWS($O$23:O64)-1,COLUMNS($O$23:O64)-1)<>\"\",OFFSET(DE102_5!$O$23,ROWS($O$23:O64)-1,COLUMNS($O$23:O64)-1),\"\")","v":"IR-35-3(47)87"},{"$f":"IF(OFFSET(DE102_5!$P$23,ROWS($P$23:P64)-1,COLUMNS($P$23:P64)-1)<>\"\",OFFSET(DE102_5!$P$23,ROWS($P$23:P64)-1,COLUMNS($P$23:P64)-1),\"\")","v":"AAC"},{"$f":"IF(OFFSET(DE102_5!$Q$23,ROWS($Q$23:Q64)-1,COLUMNS($Q$23:Q64)-1)<>\"\",OFFSET(DE102_5!$Q$23,ROWS($Q$23:Q64)-1,COLUMNS($Q$23:Q64)-1),\"\")","v":1.5},{"$f":"IF(OFFSET(DE102_5!$R$23,ROWS($R$23:R64)-1,COLUMNS($R$23:R64)-1)<>\"\",OFFSET(DE102_5!$R$23,ROWS($R$23:R64)-1,COLUMNS($R$23:R64)-1),\"\")","v":"AAC"},{"$f":"IF(OFFSET(DE102_5!$S$23,ROWS($S$23:S64)-1,COLUMNS($S$23:S64)-1)<>\"\",OFFSET(DE102_5!$S$23,ROWS($S$23:S64)-1,COLUMNS($S$23:S64)-1),\"\")","v":3},{"$f":"IF(OFFSET(DE102_5!$T$23,ROWS($T$23:T64)-1,COLUMNS($T$23:T64)-1)<>\"\",OFFSET(DE102_5!$T$23,ROWS($T$23:T64)-1,COLUMNS($T$23:T64)-1),\"\")","v":""},{"$f":"IF(OFFSET(DE102_5!$U$23,ROWS($U$23:U64)-1,COLUMNS($U$23:U64)-1)<>\"\",OFFSET(DE102_5!$U$23,ROWS($U$23:U64)-1,COLUMNS($U$23:U64)-1),\"\")","v":""},{"$f":"IF(OFFSET(DE102_5!$V$23,ROWS($V$23:V64)-1,COLUMNS($V$23:V64)-1)<>\"\",OFFSET(DE102_5!$V$23,ROWS($V$23:V64)-1,COLUMNS($V$23:V64)-1),\"\")","v":""},{"$f":"IF(OFFSET(DE102_5!$W$23,ROWS($W$23:W64)-1,COLUMNS($W$23:W64)-1)<>\"\",OFFSET(DE102_5!$W$23,ROWS($W$23:W64)-1,COLUMNS($W$23:W64)-1),\"\")","v":""},{"$f":"IF(OFFSET(DE102_5!$X$23,ROWS($X$23:X64)-1,COLUMNS($X$23:X64)-1)<>\"\",OFFSET(DE102_5!$X$23,ROWS($X$23:X64)-1,COLUMNS($X$23:X64)-1),\"\")","v":"AMES MINE"},{"$f":"IF(OFFSET(DE102_5!$Y$23,ROWS($Y$23:Y64)-1,COLUMNS($Y$23:Y64)-1)<>\"\",OFFSET(DE102_5!$Y$23,ROWS($Y$23:Y64)-1,COLUMNS($Y$23:Y64)-1),\"\")","v":"C.LST."},{"$f":"IF(OFFSET(DE102_5!$Z$23,ROWS($Z$23:Z64)-1,COLUMNS($Z$23:Z64)-1)<>\"\",OFFSET(DE102_5!$Z$23,ROWS($Z$23:Z64)-1,COLUMNS($Z$23:Z64)-1),\"\")","v":""},{"$f":"IF(OFFSET(DE102_5!$AA$23,ROWS($AA$23:AA64)-1,COLUMNS($AA$23:AA64)-1)<>\"\",OFFSET(DE102_5!$AA$23,ROWS($AA$23:AA64)-1,COLUMNS($AA$23:AA64)-1),\"\")","v":""},{"$f":"IF(OFFSET(DE102_5!$AB$23,ROWS($AB$23:AB64)-1,COLUMNS($AB$23:AB64)-1)<>\"\",OFFSET(DE102_5!$AB$23,ROWS($AB$23:AB64)-1,COLUMNS($AB$23:AB64)-1),\"\")","v":""}]
[{"$f":"IF(OFFSET(DE102_5!$C$23,ROWS($C$23:C65)-1,COLUMNS($C$23:C65)-1)<>\"\",OFFSET(DE102_5!$C$23,ROWS($C$23:C65)-1,COLUMNS($C$23:C65)-1),\"\")","v":""},{"$f":"IF(OFFSET(DE102_5!$F$23,ROWS($F$23:F65)-1,COLUMNS($F$23:F65)-1)<>\"\",OFFSET(DE102_5!$F$23,ROWS($F$23:F65)-1,COLUMNS($F$23:F65)-1),\"\")","v":85},{"$f":"IF(OFFSET(DE102_5!$G$23,ROWS($G$23:G65)-1,COLUMNS($G$23:G65)-1)<>\"\",OFFSET(DE102_5!$G$23,ROWS($G$23:G65)-1,COLUMNS($G$23:G65)-1),\"\")","v":"I-35"},{"$f":"IF(OFFSET(DE102_5!$H$23,ROWS($H$23:H65)-1,COLUMNS($H$23:H65)-1)<>\"\",OFFSET(DE102_5!$H$23,ROWS($H$23:H65)-1,COLUMNS($H$23:H65)-1),\"\")","v":1},{"$f":"IF(OFFSET(DE102_5!$I$23,ROWS($I$23:I65)-1,COLUMNS($I$23:I65)-1)<>\"\",OFFSET(DE102_5!$I$23,ROWS($I$23:I65)-1,COLUMNS($I$23:I65)-1),\"\")","v":105.79},{"$f":"IF(OFFSET(DE102_5!$J$23,ROWS($J$23:J65)-1,COLUMNS($J$23:J65)-1)<>\"\",OFFSET(DE102_5!$J$23,ROWS($J$23:J65)-1,COLUMNS($J$23:J65)-1),\"\")","v":111.75},{"$f":"IF(OFFSET(DE102_5!$M$23,ROWS($M$23:M65)-1,COLUMNS($M$23:M65)-1)<>\"\",OFFSET(DE102_5!$M$23,ROWS($M$23:M65)-1,COLUMNS($M$23:M65)-1),\"\")","v":1965},{"$f":"IF(OFFSET(DE102_5!$N$23,ROWS($N$23:N65)-1,COLUMNS($N$23:N65)-1)<>\"\",OFFSET(DE102_5!$N$23,ROWS($N$23:N65)-1,COLUMNS($N$23:N65)-1),\"\")","v":""},{"$f":"IF(OFFSET(DE102_5!$O$23,ROWS($O$23:O65)-1,COLUMNS($O$23:O65)-1)<>\"\",OFFSET(DE102_5!$O$23,ROWS($O$23:O65)-1,COLUMNS($O$23:O65)-1),\"\")","v":"I-IG-35-4(12)103"},{"$f":"IF(OFFSET(DE102_5!$P$23,ROWS($P$23:P65)-1,COLUMNS($P$23:P65)-1)<>\"\",OFFSET(DE102_5!$P$23,ROWS($P$23:P65)-1,COLUMNS($P$23:P65)-1),\"\")","v":"PCC"},{"$f":"IF(OFFSET(DE102_5!$Q$23,ROWS($Q$23:Q65)-1,COLUMNS($Q$23:Q65)-1)<>\"\",OFFSET(DE102_5!$Q$23,ROWS($Q$23:Q65)-1,COLUMNS($Q$23:Q65)-1),\"\")","v":10},{"$f":"IF(OFFSET(DE102_5!$R$23,ROWS($R$23:R65)-1,COLUMNS($R$23:R65)-1)<>\"\",OFFSET(DE102_5!$R$23,ROWS($R$23:R65)-1,COLUMNS($R$23:R65)-1),\"\")","v":"GSB"},{"$f":"IF(OFFSET(DE102_5!$S$23,ROWS($S$23:S65)-1,COLUMNS($S$23:S65)-1)<>\"\",OFFSET(DE102_5!$S$23,ROWS($S$23:S65)-1,COLUMNS($S$23:S65)-1),\"\")","v":4},{"$f":"IF(OFFSET(DE102_5!$T$23,ROWS($T$23:T65)-1,COLUMNS($T$23:T65)-1)<>\"\",OFFSET(DE102_5!$T$23,ROWS($T$23:T65)-1,COLUMNS($T$23:T65)-1),\"\")","v":""},{"$f":"IF(OFFSET(DE102_5!$U$23,ROWS($U$23:U65)-1,COLUMNS($U$23:U65)-1)<>\"\",OFFSET(DE102_5!$U$23,ROWS($U$23:U65)-1,COLUMNS($U$23:U65)-1),\"\")","v":""},{"$f":"IF(OFFSET(DE102_5!$V$23,ROWS($V$23:V65)-1,COLUMNS($V$23:V65)-1)<>\"\",OFFSET(DE102_5!$V$23,ROWS($V$23:V65)-1,COLUMNS($V$23:V65)-1),\"\")","v":""},{"$f":"IF(OFFSET(DE102_5!$W$23,ROWS($W$23:W65)-1,COLUMNS($W$23:W65)-1)<>\"\",OFFSET(DE102_5!$W$23,ROWS($W$23:W65)-1,COLUMNS($W$23:W65)-1),\"\")","v":""},{"$f":"IF(OFFSET(DE102_5!$X$23,ROWS($X$23:X65)-1,COLUMNS($X$23:X65)-1)<>\"\",OFFSET(DE102_5!$X$23,ROWS($X$23:X65)-1,COLUMNS($X$23:X65)-1),\"\")","v":"CHRISTENSEN"},{"$f":"IF(OFFSET(DE102_5!$Y$23,ROWS($Y$23:Y65)-1,COLUMNS($Y$23:Y65)-1)<>\"\",OFFSET(DE102_5!$Y$23,ROWS($Y$23:Y65)-1,COLUMNS($Y$23:Y65)-1),\"\")","v":"GRAVEL"},{"$f":"IF(OFFSET(DE102_5!$Z$23,ROWS($Z$23:Z65)-1,COLUMNS($Z$23:Z65)-1)<>\"\",OFFSET(DE102_5!$Z$23,ROWS($Z$23:Z65)-1,COLUMNS($Z$23:Z65)-1),\"\")","v":1},{"$f":"IF(OFFSET(DE102_5!$AA$23,ROWS($AA$23:AA65)-1,COLUMNS($AA$23:AA65)-1)<>\"\",OFFSET(DE102_5!$AA$23,ROWS($AA$23:AA65)-1,COLUMNS($AA$23:AA65)-1),\"\")","v":""},{"$f":"IF(OFFSET(DE102_5!$AB$23,ROWS($AB$23:AB65)-1,COLUMNS($AB$23:AB65)-1)<>\"\",OFFSET(DE102_5!$AB$23,ROWS($AB$23:AB65)-1,COLUMNS($AB$23:AB65)-1),\"\")","v":""}]
[{"$f":"IF(OFFSET(DE102_5!$C$23,ROWS($C$23:C66)-1,COLUMNS($C$23:C66)-1)<>\"\",OFFSET(DE102_5!$C$23,ROWS($C$23:C66)-1,COLUMNS($C$23:C66)-1),\"\")","v":""},{"$f":"IF(OFFSET(DE102_5!$F$23,ROWS($F$23:F66)-1,COLUMNS($F$23:F66)-1)<>\"\",OFFSET(DE102_5!$F$23,ROWS($F$23:F66)-1,COLUMNS($F$23:F66)-1),\"\")","v":""},{"$f":"IF(OFFSET(DE102_5!$G$23,ROWS($G$23:G66)-1,COLUMNS($G$23:G66)-1)<>\"\",OFFSET(DE102_5!$G$23,ROWS($G$23:G66)-1,COLUMNS($G$23:G66)-1),\"\")","v":""},{"$f":"IF(OFFSET(DE102_5!$H$23,ROWS($H$23:H66)-1,COLUMNS($H$23:H66)-1)<>\"\",OFFSET(DE102_5!$H$23,ROWS($H$23:H66)-1,COLUMNS($H$23:H66)-1),\"\")","v":""},{"$f":"IF(OFFSET(DE102_5!$I$23,ROWS($I$23:I66)-1,COLUMNS($I$23:I66)-1)<>\"\",OFFSET(DE102_5!$I$23,ROWS($I$23:I66)-1,COLUMNS($I$23:I66)-1),\"\")","v":""},{"$f":"IF(OFFSET(DE102_5!$J$23,ROWS($J$23:J66)-1,COLUMNS($J$23:J66)-1)<>\"\",OFFSET(DE102_5!$J$23,ROWS($J$23:J66)-1,COLUMNS($J$23:J66)-1),\"\")","v":""},{"$f":"IF(OFFSET(DE102_5!$M$23,ROWS($M$23:M66)-1,COLUMNS($M$23:M66)-1)<>\"\",OFFSET(DE102_5!$M$23,ROWS($M$23:M66)-1,COLUMNS($M$23:M66)-1),\"\")","v":""},{"$f":"IF(OFFSET(DE102_5!$N$23,ROWS($N$23:N66)-1,COLUMNS($N$23:N66)-1)<>\"\",OFFSET(DE102_5!$N$23,ROWS($N$23:N66)-1,COLUMNS($N$23:N66)-1),\"\")","v":""},{"$f":"IF(OFFSET(DE102_5!$O$23,ROWS($O$23:O66)-1,COLUMNS($O$23:O66)-1)<>\"\",OFFSET(DE102_5!$O$23,ROWS($O$23:O66)-1,COLUMNS($O$23:O66)-1),\"\")","v":""},{"$f":"IF(OFFSET(DE102_5!$P$23,ROWS($P$23:P66)-1,COLUMNS($P$23:P66)-1)<>\"\",OFFSET(DE102_5!$P$23,ROWS($P$23:P66)-1,COLUMNS($P$23:P66)-1),\"\")","v":""},{"$f":"IF(OFFSET(DE102_5!$Q$23,ROWS($Q$23:Q66)-1,COLUMNS($Q$23:Q66)-1)<>\"\",OFFSET(DE102_5!$Q$23,ROWS($Q$23:Q66)-1,COLUMNS($Q$23:Q66)-1),\"\")","v":""},{"$f":"IF(OFFSET(DE102_5!$R$23,ROWS($R$23:R66)-1,COLUMNS($R$23:R66)-1)<>\"\",OFFSET(DE102_5!$R$23,ROWS($R$23:R66)-1,COLUMNS($R$23:R66)-1),\"\")","v":""},{"$f":"IF(OFFSET(DE102_5!$S$23,ROWS($S$23:S66)-1,COLUMNS($S$23:S66)-1)<>\"\",OFFSET(DE102_5!$S$23,ROWS($S$23:S66)-1,COLUMNS($S$23:S66)-1),\"\")","v":""},{"$f":"IF(OFFSET(DE102_5!$T$23,ROWS($T$23:T66)-1,COLUMNS($T$23:T66)-1)<>\"\",OFFSET(DE102_5!$T$23,ROWS($T$23:T66)-1,COLUMNS($T$23:T66)-1),\"\")","v":""},{"$f":"IF(OFFSET(DE102_5!$U$23,ROWS($U$23:U66)-1,COLUMNS($U$23:U66)-1)<>\"\",OFFSET(DE102_5!$U$23,ROWS($U$23:U66)-1,COLUMNS($U$23:U66)-1),\"\")","v":""},{"$f":"IF(OFFSET(DE102_5!$V$23,ROWS($V$23:V66)-1,COLUMNS($V$23:V66)-1)<>\"\",OFFSET(DE102_5!$V$23,ROWS($V$23:V66)-1,COLUMNS($V$23:V66)-1),\"\")","v":""},{"$f":"IF(OFFSET(DE102_5!$W$23,ROWS($W$23:W66)-1,COLUMNS($W$23:W66)-1)<>\"\",OFFSET(DE102_5!$W$23,ROWS($W$23:W66)-1,COLUMNS($W$23:W66)-1),\"\")","v":""},{"$f":"IF(OFFSET(DE102_5!$X$23,ROWS($X$23:X66)-1,COLUMNS($X$23:X66)-1)<>\"\",OFFSET(DE102_5!$X$23,ROWS($X$23:X66)-1,COLUMNS($X$23:X66)-1),\"\")","v":""},{"$f":"IF(OFFSET(DE102_5!$Y$23,ROWS($Y$23:Y66)-1,COLUMNS($Y$23:Y66)-1)<>\"\",OFFSET(DE102_5!$Y$23,ROWS($Y$23:Y66)-1,COLUMNS($Y$23:Y66)-1),\"\")","v":""},{"$f":"IF(OFFSET(DE102_5!$Z$23,ROWS($Z$23:Z66)-1,COLUMNS($Z$23:Z66)-1)<>\"\",OFFSET(DE102_5!$Z$23,ROWS($Z$23:Z66)-1,COLUMNS($Z$23:Z66)-1),\"\")","v":""},{"$f":"IF(OFFSET(DE102_5!$AA$23,ROWS($AA$23:AA66)-1,COLUMNS($AA$23:AA66)-1)<>\"\",OFFSET(DE102_5!$AA$23,ROWS($AA$23:AA66)-1,COLUMNS($AA$23:AA66)-1),\"\")","v":""},{"$f":"IF(OFFSET(DE102_5!$AB$23,ROWS($AB$23:AB66)-1,COLUMNS($AB$23:AB66)-1)<>\"\",OFFSET(DE102_5!$AB$23,ROWS($AB$23:AB66)-1,COLUMNS($AB$23:AB66)-1),\"\")","v":""}]
[{"$f":"IF(OFFSET(DE102_5!$C$23,ROWS($C$23:C67)-1,COLUMNS($C$23:C67)-1)<>\"\",OFFSET(DE102_5!$C$23,ROWS($C$23:C67)-1,COLUMNS($C$23:C67)-1),\"\")","v":""},{"$f":"IF(OFFSET(DE102_5!$F$23,ROWS($F$23:F67)-1,COLUMNS($F$23:F67)-1)<>\"\",OFFSET(DE102_5!$F$23,ROWS($F$23:F67)-1,COLUMNS($F$23:F67)-1),\"\")","v":85},{"$f":"IF(OFFSET(DE102_5!$G$23,ROWS($G$23:G67)-1,COLUMNS($G$23:G67)-1)<>\"\",OFFSET(DE102_5!$G$23,ROWS($G$23:G67)-1,COLUMNS($G$23:G67)-1),\"\")","v":"I-35"},{"$f":"IF(OFFSET(DE102_5!$H$23,ROWS($H$23:H67)-1,COLUMNS($H$23:H67)-1)<>\"\",OFFSET(DE102_5!$H$23,ROWS($H$23:H67)-1,COLUMNS($H$23:H67)-1),\"\")","v":1},{"$f":"IF(OFFSET(DE102_5!$I$23,ROWS($I$23:I67)-1,COLUMNS($I$23:I67)-1)<>\"\",OFFSET(DE102_5!$I$23,ROWS($I$23:I67)-1,COLUMNS($I$23:I67)-1),\"\")","v":111.75},{"$f":"IF(OFFSET(DE102_5!$J$23,ROWS($J$23:J67)-1,COLUMNS($J$23:J67)-1)<>\"\",OFFSET(DE102_5!$J$23,ROWS($J$23:J67)-1,COLUMNS($J$23:J67)-1),\"\")","v":112.72},{"$f":"IF(OFFSET(DE102_5!$M$23,ROWS($M$23:M67)-1,COLUMNS($M$23:M67)-1)<>\"\",OFFSET(DE102_5!$M$23,ROWS($M$23:M67)-1,COLUMNS($M$23:M67)-1),\"\")","v":2018},{"$f":"IF(OFFSET(DE102_5!$N$23,ROWS($N$23:N67)-1,COLUMNS($N$23:N67)-1)<>\"\",OFFSET(DE102_5!$N$23,ROWS($N$23:N67)-1,COLUMNS($N$23:N67)-1),\"\")","v":"M"},{"$f":"IF(OFFSET(DE102_5!$O$23,ROWS($O$23:O67)-1,COLUMNS($O$23:O67)-1)<>\"\",OFFSET(DE102_5!$O$23,ROWS($O$23:O67)-1,COLUMNS($O$23:O67)-1),\"\")","v":"IMN-035-4(201)87--0E-77"},{"$f":"IF(OFFSET(DE102_5!$P$23,ROWS($P$23:P67)-1,COLUMNS($P$23:P67)-1)<>\"\",OFFSET(DE102_5!$P$23,ROWS($P$23:P67)-1,COLUMNS($P$23:P67)-1),\"\")","v":"PCC"},{"$f":"IF(OFFSET(DE102_5!$Q$23,ROWS($Q$23:Q67)-1,COLUMNS($Q$23:Q67)-1)<>\"\",OFFSET(DE102_5!$Q$23,ROWS($Q$23:Q67)-1,COLUMNS($Q$23:Q67)-1),\"\")","v":""},{"$f":"IF(OFFSET(DE102_5!$R$23,ROWS($R$23:R67)-1,COLUMNS($R$23:R67)-1)<>\"\",OFFSET(DE102_5!$R$23,ROWS($R$23:R67)-1,COLUMNS($R$23:R67)-1),\"\")","v":""},{"$f":"IF(OFFSET(DE102_5!$S$23,ROWS($S$23:S67)-1,COLUMNS($S$23:S67)-1)<>\"\",OFFSET(DE102_5!$S$23,ROWS($S$23:S67)-1,COLUMNS($S$23:S67)-1),\"\")","v":""},{"$f":"IF(OFFSET(DE102_5!$T$23,ROWS($T$23:T67)-1,COLUMNS($T$23:T67)-1)<>\"\",OFFSET(DE102_5!$T$23,ROWS($T$23:T67)-1,COLUMNS($T$23:T67)-1),\"\")","v":""},{"$f":"IF(OFFSET(DE102_5!$U$23,ROWS($U$23:U67)-1,COLUMNS($U$23:U67)-1)<>\"\",OFFSET(DE102_5!$U$23,ROWS($U$23:U67)-1,COLUMNS($U$23:U67)-1),\"\")","v":""},{"$f":"IF(OFFSET(DE102_5!$V$23,ROWS($V$23:V67)-1,COLUMNS($V$23:V67)-1)<>\"\",OFFSET(DE102_5!$V$23,ROWS($V$23:V67)-1,COLUMNS($V$23:V67)-1),\"\")","v":""},{"$f":"IF(OFFSET(DE102_5!$W$23,ROWS($W$23:W67)-1,COLUMNS($W$23:W67)-1)<>\"\",OFFSET(DE102_5!$W$23,ROWS($W$23:W67)-1,COLUMNS($W$23:W67)-1),\"\")","v":""},{"$f":"IF(OFFSET(DE102_5!$X$23,ROWS($X$23:X67)-1,COLUMNS($X$23:X67)-1)<>\"\",OFFSET(DE102_5!$X$23,ROWS($X$23:X67)-1,COLUMNS($X$23:X67)-1),\"\")","v":""},{"$f":"IF(OFFSET(DE102_5!$Y$23,ROWS($Y$23:Y67)-1,COLUMNS($Y$23:Y67)-1)<>\"\",OFFSET(DE102_5!$Y$23,ROWS($Y$23:Y67)-1,COLUMNS($Y$23:Y67)-1),\"\")","v":""},{"$f":"IF(OFFSET(DE102_5!$Z$23,ROWS($Z$23:Z67)-1,COLUMNS($Z$23:Z67)-1)<>\"\",OFFSET(DE102_5!$Z$23,ROWS($Z$23:Z67)-1,COLUMNS($Z$23:Z67)-1),\"\")","v":""},{"$f":"IF(OFFSET(DE102_5!$AA$23,ROWS($AA$23:AA67)-1,COLUMNS($AA$23:AA67)-1)<>\"\",OFFSET(DE102_5!$AA$23,ROWS($AA$23:AA67)-1,COLUMNS($AA$23:AA67)-1),\"\")","v":"PCC PATCHING"},{"$f":"IF(OFFSET(DE102_5!$AB$23,ROWS($AB$23:AB67)-1,COLUMNS($AB$23:AB67)-1)<>\"\",OFFSET(DE102_5!$AB$23,ROWS($AB$23:AB67)-1,COLUMNS($AB$23:AB67)-1),\"\")","v":""}]
[{"$f":"IF(OFFSET(DE102_5!$C$23,ROWS($C$23:C68)-1,COLUMNS($C$23:C68)-1)<>\"\",OFFSET(DE102_5!$C$23,ROWS($C$23:C68)-1,COLUMNS($C$23:C68)-1),\"\")","v":""},{"$f":"IF(OFFSET(DE102_5!$F$23,ROWS($F$23:F68)-1,COLUMNS($F$23:F68)-1)<>\"\",OFFSET(DE102_5!$F$23,ROWS($F$23:F68)-1,COLUMNS($F$23:F68)-1),\"\")","v":85},{"$f":"IF(OFFSET(DE102_5!$G$23,ROWS($G$23:G68)-1,COLUMNS($G$23:G68)-1)<>\"\",OFFSET(DE102_5!$G$23,ROWS($G$23:G68)-1,COLUMNS($G$23:G68)-1),\"\")","v":"I-35"},{"$f":"IF(OFFSET(DE102_5!$H$23,ROWS($H$23:H68)-1,COLUMNS($H$23:H68)-1)<>\"\",OFFSET(DE102_5!$H$23,ROWS($H$23:H68)-1,COLUMNS($H$23:H68)-1),\"\")","v":1},{"$f":"IF(OFFSET(DE102_5!$I$23,ROWS($I$23:I68)-1,COLUMNS($I$23:I68)-1)<>\"\",OFFSET(DE102_5!$I$23,ROWS($I$23:I68)-1,COLUMNS($I$23:I68)-1),\"\")","v":111.75},{"$f":"IF(OFFSET(DE102_5!$J$23,ROWS($J$23:J68)-1,COLUMNS($J$23:J68)-1)<>\"\",OFFSET(DE102_5!$J$23,ROWS($J$23:J68)-1,COLUMNS($J$23:J68)-1),\"\")","v":112.72},{"$f":"IF(OFFSET(DE102_5!$M$23,ROWS($M$23:M68)-1,COLUMNS($M$23:M68)-1)<>\"\",OFFSET(DE102_5!$M$23,ROWS($M$23:M68)-1,COLUMNS($M$23:M68)-1),\"\")","v":2017},{"$f":"IF(OFFSET(DE102_5!$N$23,ROWS($N$23:N68)-1,COLUMNS($N$23:N68)-1)<>\"\",OFFSET(DE102_5!$N$23,ROWS($N$23:N68)-1,COLUMNS($N$23:N68)-1),\"\")","v":"M"},{"$f":"IF(OFFSET(DE102_5!$O$23,ROWS($O$23:O68)-1,COLUMNS($O$23:O68)-1)<>\"\",OFFSET(DE102_5!$O$23,ROWS($O$23:O68)-1,COLUMNS($O$23:O68)-1),\"\")","v":"IMN-035-4(179)87--0E-77"},{"$f":"IF(OFFSET(DE102_5!$P$23,ROWS($P$23:P68)-1,COLUMNS($P$23:P68)-1)<>\"\",OFFSET(DE102_5!$P$23,ROWS($P$23:P68)-1,COLUMNS($P$23:P68)-1),\"\")","v":"PCC"},{"$f":"IF(OFFSET(DE102_5!$Q$23,ROWS($Q$23:Q68)-1,COLUMNS($Q$23:Q68)-1)<>\"\",OFFSET(DE102_5!$Q$23,ROWS($Q$23:Q68)-1,COLUMNS($Q$23:Q68)-1),\"\")","v":12},{"$f":"IF(OFFSET(DE102_5!$R$23,ROWS($R$23:R68)-1,COLUMNS($R$23:R68)-1)<>\"\",OFFSET(DE102_5!$R$23,ROWS($R$23:R68)-1,COLUMNS($R$23:R68)-1),\"\")","v":""},{"$f":"IF(OFFSET(DE102_5!$S$23,ROWS($S$23:S68)-1,COLUMNS($S$23:S68)-1)<>\"\",OFFSET(DE102_5!$S$23,ROWS($S$23:S68)-1,COLUMNS($S$23:S68)-1),\"\")","v":""},{"$f":"IF(OFFSET(DE102_5!$T$23,ROWS($T$23:T68)-1,COLUMNS($T$23:T68)-1)<>\"\",OFFSET(DE102_5!$T$23,ROWS($T$23:T68)-1,COLUMNS($T$23:T68)-1),\"\")","v":""},{"$f":"IF(OFFSET(DE102_5!$U$23,ROWS($U$23:U68)-1,COLUMNS($U$23:U68)-1)<>\"\",OFFSET(DE102_5!$U$23,ROWS($U$23:U68)-1,COLUMNS($U$23:U68)-1),\"\")","v":""},{"$f":"IF(OFFSET(DE102_5!$V$23,ROWS($V$23:V68)-1,COLUMNS($V$23:V68)-1)<>\"\",OFFSET(DE102_5!$V$23,ROWS($V$23:V68)-1,COLUMNS($V$23:V68)-1),\"\")","v":""},{"$f":"IF(OFFSET(DE102_5!$W$23,ROWS($W$23:W68)-1,COLUMNS($W$23:W68)-1)<>\"\",OFFSET(DE102_5!$W$23,ROWS($W$23:W68)-1,COLUMNS($W$23:W68)-1),\"\")","v":""},{"$f":"IF(OFFSET(DE102_5!$X$23,ROWS($X$23:X68)-1,COLUMNS($X$23:X68)-1)<>\"\",OFFSET(DE102_5!$X$23,ROWS($X$23:X68)-1,COLUMNS($X$23:X68)-1),\"\")","v":""},{"$f":"IF(OFFSET(DE102_5!$Y$23,ROWS($Y$23:Y68)-1,COLUMNS($Y$23:Y68)-1)<>\"\",OFFSET(DE102_5!$Y$23,ROWS($Y$23:Y68)-1,COLUMNS($Y$23:Y68)-1),\"\")","v":""},{"$f":"IF(OFFSET(DE102_5!$Z$23,ROWS($Z$23:Z68)-1,COLUMNS($Z$23:Z68)-1)<>\"\",OFFSET(DE102_5!$Z$23,ROWS($Z$23:Z68)-1,COLUMNS($Z$23:Z68)-1),\"\")","v":""},{"$f":"IF(OFFSET(DE102_5!$AA$23,ROWS($AA$23:AA68)-1,COLUMNS($AA$23:AA68)-1)<>\"\",OFFSET(DE102_5!$AA$23,ROWS($AA$23:AA68)-1,COLUMNS($AA$23:AA68)-1),\"\")","v":"PCC PATCHING"},{"$f":"IF(OFFSET(DE102_5!$AB$23,ROWS($AB$23:AB68)-1,COLUMNS($AB$23:AB68)-1)<>\"\",OFFSET(DE102_5!$AB$23,ROWS($AB$23:AB68)-1,COLUMNS($AB$23:AB68)-1),\"\")","v":""}]
[{"$f":"IF(OFFSET(DE102_5!$C$23,ROWS($C$23:C69)-1,COLUMNS($C$23:C69)-1)<>\"\",OFFSET(DE102_5!$C$23,ROWS($C$23:C69)-1,COLUMNS($C$23:C69)-1),\"\")","v":""},{"$f":"IF(OFFSET(DE102_5!$F$23,ROWS($F$23:F69)-1,COLUMNS($F$23:F69)-1)<>\"\",OFFSET(DE102_5!$F$23,ROWS($F$23:F69)-1,COLUMNS($F$23:F69)-1),\"\")","v":85},{"$f":"IF(OFFSET(DE102_5!$G$23,ROWS($G$23:G69)-1,COLUMNS($G$23:G69)-1)<>\"\",OFFSET(DE102_5!$G$23,ROWS($G$23:G69)-1,COLUMNS($G$23:G69)-1),\"\")","v":"I-35"},{"$f":"IF(OFFSET(DE102_5!$H$23,ROWS($H$23:H69)-1,COLUMNS($H$23:H69)-1)<>\"\",OFFSET(DE102_5!$H$23,ROWS($H$23:H69)-1,COLUMNS($H$23:H69)-1),\"\")","v":1},{"$f":"IF(OFFSET(DE102_5!$I$23,ROWS($I$23:I69)-1,COLUMNS($I$23:I69)-1)<>\"\",OFFSET(DE102_5!$I$23,ROWS($I$23:I69)-1,COLUMNS($I$23:I69)-1),\"\")","v":111.75},{"$f":"IF(OFFSET(DE102_5!$J$23,ROWS($J$23:J69)-1,COLUMNS($J$23:J69)-1)<>\"\",OFFSET(DE102_5!$J$23,ROWS($J$23:J69)-1,COLUMNS($J$23:J69)-1),\"\")","v":112.72},{"$f":"IF(OFFSET(DE102_5!$M$23,ROWS($M$23:M69)-1,COLUMNS($M$23:M69)-1)<>\"\",OFFSET(DE102_5!$M$23,ROWS($M$23:M69)-1,COLUMNS($M$23:M69)-1),\"\")","v":2017},{"$f":"IF(OFFSET(DE102_5!$N$23,ROWS($N$23:N69)-1,COLUMNS($N$23:N69)-1)<>\"\",OFFSET(DE102_5!$N$23,ROWS($N$23:N69)-1,COLUMNS($N$23:N69)-1),\"\")","v":"S"},{"$f":"IF(OFFSET(DE102_5!$O$23,ROWS($O$23:O69)-1,COLUMNS($O$23:O69)-1)<>\"\",OFFSET(DE102_5!$O$23,ROWS($O$23:O69)-1,COLUMNS($O$23:O69)-1),\"\")","v":"IMX-035-5(109)112--02-85"},{"$f":"IF(OFFSET(DE102_5!$P$23,ROWS($P$23:P69)-1,COLUMNS($P$23:P69)-1)<>\"\",OFFSET(DE102_5!$P$23,ROWS($P$23:P69)-1,COLUMNS($P$23:P69)-1),\"\")","v":"HMA"},{"$f":"IF(OFFSET(DE102_5!$Q$23,ROWS($Q$23:Q69)-1,COLUMNS($Q$23:Q69)-1)<>\"\",OFFSET(DE102_5!$Q$23,ROWS($Q$23:Q69)-1,COLUMNS($Q$23:Q69)-1),\"\")","v":2},{"$f":"IF(OFFSET(DE102_5!$R$23,ROWS($R$23:R69)-1,COLUMNS($R$23:R69)-1)<>\"\",OFFSET(DE102_5!$R$23,ROWS($R$23:R69)-1,COLUMNS($R$23:R69)-1),\"\")","v":"HMA"},{"$f":"IF(OFFSET(DE102_5!$S$23,ROWS($S$23:S69)-1,COLUMNS($S$23:S69)-1)<>\"\",OFFSET(DE102_5!$S$23,ROWS($S$23:S69)-1,COLUMNS($S$23:S69)-1),\"\")","v":2},{"$f":"IF(OFFSET(DE102_5!$T$23,ROWS($T$23:T69)-1,COLUMNS($T$23:T69)-1)<>\"\",OFFSET(DE102_5!$T$23,ROWS($T$23:T69)-1,COLUMNS($T$23:T69)-1),\"\")","v":"HMA"},{"$f":"IF(OFFSET(DE102_5!$U$23,ROWS($U$23:U69)-1,COLUMNS($U$23:U69)-1)<>\"\",OFFSET(DE102_5!$U$23,ROWS($U$23:U69)-1,COLUMNS($U$23:U69)-1),\"\")","v":1},{"$f":"IF(OFFSET(DE102_5!$V$23,ROWS($V$23:V69)-1,COLUMNS($V$23:V69)-1)<>\"\",OFFSET(DE102_5!$V$23,ROWS($V$23:V69)-1,COLUMNS($V$23:V69)-1),\"\")","v":""},{"$f":"IF(OFFSET(DE102_5!$W$23,ROWS($W$23:W69)-1,COLUMNS($W$23:W69)-1)<>\"\",OFFSET(DE102_5!$W$23,ROWS($W$23:W69)-1,COLUMNS($W$23:W69)-1),\"\")","v":""},{"$f":"IF(OFFSET(DE102_5!$X$23,ROWS($X$23:X69)-1,COLUMNS($X$23:X69)-1)<>\"\",OFFSET(DE102_5!$X$23,ROWS($X$23:X69)-1,COLUMNS($X$23:X69)-1),\"\")","v":""},{"$f":"IF(OFFSET(DE102_5!$Y$23,ROWS($Y$23:Y69)-1,COLUMNS($Y$23:Y69)-1)<>\"\",OFFSET(DE102_5!$Y$23,ROWS($Y$23:Y69)-1,COLUMNS($Y$23:Y69)-1),\"\")","v":""},{"$f":"IF(OFFSET(DE102_5!$Z$23,ROWS($Z$23:Z69)-1,COLUMNS($Z$23:Z69)-1)<>\"\",OFFSET(DE102_5!$Z$23,ROWS($Z$23:Z69)-1,COLUMNS($Z$23:Z69)-1),\"\")","v":""},{"$f":"IF(OFFSET(DE102_5!$AA$23,ROWS($AA$23:AA69)-1,COLUMNS($AA$23:AA69)-1)<>\"\",OFFSET(DE102_5!$AA$23,ROWS($AA$23:AA69)-1,COLUMNS($AA$23:AA69)-1),\"\")","v":""},{"$f":"IF(OFFSET(DE102_5!$AB$23,ROWS($AB$23:AB69)-1,COLUMNS($AB$23:AB69)-1)<>\"\",OFFSET(DE102_5!$AB$23,ROWS($AB$23:AB69)-1,COLUMNS($AB$23:AB69)-1),\"\")","v":""}]
[{"$f":"IF(OFFSET(DE102_5!$C$23,ROWS($C$23:C70)-1,COLUMNS($C$23:C70)-1)<>\"\",OFFSET(DE102_5!$C$23,ROWS($C$23:C70)-1,COLUMNS($C$23:C70)-1),\"\")","v":""},{"$f":"IF(OFFSET(DE102_5!$F$23,ROWS($F$23:F70)-1,COLUMNS($F$23:F70)-1)<>\"\",OFFSET(DE102_5!$F$23,ROWS($F$23:F70)-1,COLUMNS($F$23:F70)-1),\"\")","v":85},{"$f":"IF(OFFSET(DE102_5!$G$23,ROWS($G$23:G70)-1,COLUMNS($G$23:G70)-1)<>\"\",OFFSET(DE102_5!$G$23,ROWS($G$23:G70)-1,COLUMNS($G$23:G70)-1),\"\")","v":"I-35"},{"$f":"IF(OFFSET(DE102_5!$H$23,ROWS($H$23:H70)-1,COLUMNS($H$23:H70)-1)<>\"\",OFFSET(DE102_5!$H$23,ROWS($H$23:H70)-1,COLUMNS($H$23:H70)-1),\"\")","v":1},{"$f":"IF(OFFSET(DE102_5!$I$23,ROWS($I$23:I70)-1,COLUMNS($I$23:I70)-1)<>\"\",OFFSET(DE102_5!$I$23,ROWS($I$23:I70)-1,COLUMNS($I$23:I70)-1),\"\")","v":111.75},{"$f":"IF(OFFSET(DE102_5!$J$23,ROWS($J$23:J70)-1,COLUMNS($J$23:J70)-1)<>\"\",OFFSET(DE102_5!$J$23,ROWS($J$23:J70)-1,COLUMNS($J$23:J70)-1),\"\")","v":112.72},{"$f":"IF(OFFSET(DE102_5!$M$23,ROWS($M$23:M70)-1,COLUMNS($M$23:M70)-1)<>\"\",OFFSET(DE102_5!$M$23,ROWS($M$23:M70)-1,COLUMNS($M$23:M70)-1),\"\")","v":1988},{"$f":"IF(OFFSET(DE102_5!$N$23,ROWS($N$23:N70)-1,COLUMNS($N$23:N70)-1)<>\"\",OFFSET(DE102_5!$N$23,ROWS($N$23:N70)-1,COLUMNS($N$23:N70)-1),\"\")","v":""},{"$f":"IF(OFFSET(DE102_5!$O$23,ROWS($O$23:O70)-1,COLUMNS($O$23:O70)-1)<>\"\",OFFSET(DE102_5!$O$23,ROWS($O$23:O70)-1,COLUMNS($O$23:O70)-1),\"\")","v":"IR-35-5(45)111"},{"$f":"IF(OFFSET(DE102_5!$P$23,ROWS($P$23:P70)-1,COLUMNS($P$23:P70)-1)<>\"\",OFFSET(DE102_5!$P$23,ROWS($P$23:P70)-1,COLUMNS($P$23:P70)-1),\"\")","v":"PCC"},{"$f":"IF(OFFSET(DE102_5!$Q$23,ROWS($Q$23:Q70)-1,COLUMNS($Q$23:Q70)-1)<>\"\",OFFSET(DE102_5!$Q$23,ROWS($Q$23:Q70)-1,COLUMNS($Q$23:Q70)-1),\"\")","v":11.5},{"$f":"IF(OFFSET(DE102_5!$R$23,ROWS($R$23:R70)-1,COLUMNS($R$23:R70)-1)<>\"\",OFFSET(DE102_5!$R$23,ROWS($R$23:R70)-1,COLUMNS($R$23:R70)-1),\"\")","v":"GSB"},{"$f":"IF(OFFSET(DE102_5!$S$23,ROWS($S$23:S70)-1,COLUMNS($S$23:S70)-1)<>\"\",OFFSET(DE102_5!$S$23,ROWS($S$23:S70)-1,COLUMNS($S$23:S70)-1),\"\")","v":9},{"$f":"IF(OFFSET(DE102_5!$T$23,ROWS($T$23:T70)-1,COLUMNS($T$23:T70)-1)<>\"\",OFFSET(DE102_5!$T$23,ROWS($T$23:T70)-1,COLUMNS($T$23:T70)-1),\"\")","v":""},{"$f":"IF(OFFSET(DE102_5!$U$23,ROWS($U$23:U70)-1,COLUMNS($U$23:U70)-1)<>\"\",OFFSET(DE102_5!$U$23,ROWS($U$23:U70)-1,COLUMNS($U$23:U70)-1),\"\")","v":""},{"$f":"IF(OFFSET(DE102_5!$V$23,ROWS($V$23:V70)-1,COLUMNS($V$23:V70)-1)<>\"\",OFFSET(DE102_5!$V$23,ROWS($V$23:V70)-1,COLUMNS($V$23:V70)-1),\"\")","v":""},{"$f":"IF(OFFSET(DE102_5!$W$23,ROWS($W$23:W70)-1,COLUMNS($W$23:W70)-1)<>\"\",OFFSET(DE102_5!$W$23,ROWS($W$23:W70)-1,COLUMNS($W$23:W70)-1),\"\")","v":""},{"$f":"IF(OFFSET(DE102_5!$X$23,ROWS($X$23:X70)-1,COLUMNS($X$23:X70)-1)<>\"\",OFFSET(DE102_5!$X$23,ROWS($X$23:X70)-1,COLUMNS($X$23:X70)-1),\"\")","v":"AMES MINE"},{"$f":"IF(OFFSET(DE102_5!$Y$23,ROWS($Y$23:Y70)-1,COLUMNS($Y$23:Y70)-1)<>\"\",OFFSET(DE102_5!$Y$23,ROWS($Y$23:Y70)-1,COLUMNS($Y$23:Y70)-1),\"\")","v":"C.LST."},{"$f":"IF(OFFSET(DE102_5!$Z$23,ROWS($Z$23:Z70)-1,COLUMNS($Z$23:Z70)-1)<>\"\",OFFSET(DE102_5!$Z$23,ROWS($Z$23:Z70)-1,COLUMNS($Z$23:Z70)-1),\"\")","v":"I"},{"$f":"IF(OFFSET(DE102_5!$AA$23,ROWS($AA$23:AA70)-1,COLUMNS($AA$23:AA70)-1)<>\"\",OFFSET(DE102_5!$AA$23,ROWS($AA$23:AA70)-1,COLUMNS($AA$23:AA70)-1),\"\")","v":""},{"$f":"IF(OFFSET(DE102_5!$AB$23,ROWS($AB$23:AB70)-1,COLUMNS($AB$23:AB70)-1)<>\"\",OFFSET(DE102_5!$AB$23,ROWS($AB$23:AB70)-1,COLUMNS($AB$23:AB70)-1),\"\")","v":""}]
[{"$f":"IF(OFFSET(DE102_5!$C$23,ROWS($C$23:C71)-1,COLUMNS($C$23:C71)-1)<>\"\",OFFSET(DE102_5!$C$23,ROWS($C$23:C71)-1,COLUMNS($C$23:C71)-1),\"\")","v":""},{"$f":"IF(OFFSET(DE102_5!$F$23,ROWS($F$23:F71)-1,COLUMNS($F$23:F71)-1)<>\"\",OFFSET(DE102_5!$F$23,ROWS($F$23:F71)-1,COLUMNS($F$23:F71)-1),\"\")","v":""},{"$f":"IF(OFFSET(DE102_5!$G$23,ROWS($G$23:G71)-1,COLUMNS($G$23:G71)-1)<>\"\",OFFSET(DE102_5!$G$23,ROWS($G$23:G71)-1,COLUMNS($G$23:G71)-1),\"\")","v":""},{"$f":"IF(OFFSET(DE102_5!$H$23,ROWS($H$23:H71)-1,COLUMNS($H$23:H71)-1)<>\"\",OFFSET(DE102_5!$H$23,ROWS($H$23:H71)-1,COLUMNS($H$23:H71)-1),\"\")","v":""},{"$f":"IF(OFFSET(DE102_5!$I$23,ROWS($I$23:I71)-1,COLUMNS($I$23:I71)-1)<>\"\",OFFSET(DE102_5!$I$23,ROWS($I$23:I71)-1,COLUMNS($I$23:I71)-1),\"\")","v":""},{"$f":"IF(OFFSET(DE102_5!$J$23,ROWS($J$23:J71)-1,COLUMNS($J$23:J71)-1)<>\"\",OFFSET(DE102_5!$J$23,ROWS($J$23:J71)-1,COLUMNS($J$23:J71)-1),\"\")","v":""},{"$f":"IF(OFFSET(DE102_5!$M$23,ROWS($M$23:M71)-1,COLUMNS($M$23:M71)-1)<>\"\",OFFSET(DE102_5!$M$23,ROWS($M$23:M71)-1,COLUMNS($M$23:M71)-1),\"\")","v":""},{"$f":"IF(OFFSET(DE102_5!$N$23,ROWS($N$23:N71)-1,COLUMNS($N$23:N71)-1)<>\"\",OFFSET(DE102_5!$N$23,ROWS($N$23:N71)-1,COLUMNS($N$23:N71)-1),\"\")","v":""},{"$f":"IF(OFFSET(DE102_5!$O$23,ROWS($O$23:O71)-1,COLUMNS($O$23:O71)-1)<>\"\",OFFSET(DE102_5!$O$23,ROWS($O$23:O71)-1,COLUMNS($O$23:O71)-1),\"\")","v":""},{"$f":"IF(OFFSET(DE102_5!$P$23,ROWS($P$23:P71)-1,COLUMNS($P$23:P71)-1)<>\"\",OFFSET(DE102_5!$P$23,ROWS($P$23:P71)-1,COLUMNS($P$23:P71)-1),\"\")","v":""},{"$f":"IF(OFFSET(DE102_5!$Q$23,ROWS($Q$23:Q71)-1,COLUMNS($Q$23:Q71)-1)<>\"\",OFFSET(DE102_5!$Q$23,ROWS($Q$23:Q71)-1,COLUMNS($Q$23:Q71)-1),\"\")","v":""},{"$f":"IF(OFFSET(DE102_5!$R$23,ROWS($R$23:R71)-1,COLUMNS($R$23:R71)-1)<>\"\",OFFSET(DE102_5!$R$23,ROWS($R$23:R71)-1,COLUMNS($R$23:R71)-1),\"\")","v":""},{"$f":"IF(OFFSET(DE102_5!$S$23,ROWS($S$23:S71)-1,COLUMNS($S$23:S71)-1)<>\"\",OFFSET(DE102_5!$S$23,ROWS($S$23:S71)-1,COLUMNS($S$23:S71)-1),\"\")","v":""},{"$f":"IF(OFFSET(DE102_5!$T$23,ROWS($T$23:T71)-1,COLUMNS($T$23:T71)-1)<>\"\",OFFSET(DE102_5!$T$23,ROWS($T$23:T71)-1,COLUMNS($T$23:T71)-1),\"\")","v":""},{"$f":"IF(OFFSET(DE102_5!$U$23,ROWS($U$23:U71)-1,COLUMNS($U$23:U71)-1)<>\"\",OFFSET(DE102_5!$U$23,ROWS($U$23:U71)-1,COLUMNS($U$23:U71)-1),\"\")","v":""},{"$f":"IF(OFFSET(DE102_5!$V$23,ROWS($V$23:V71)-1,COLUMNS($V$23:V71)-1)<>\"\",OFFSET(DE102_5!$V$23,ROWS($V$23:V71)-1,COLUMNS($V$23:V71)-1),\"\")","v":""},{"$f":"IF(OFFSET(DE102_5!$W$23,ROWS($W$23:W71)-1,COLUMNS($W$23:W71)-1)<>\"\",OFFSET(DE102_5!$W$23,ROWS($W$23:W71)-1,COLUMNS($W$23:W71)-1),\"\")","v":""},{"$f":"IF(OFFSET(DE102_5!$X$23,ROWS($X$23:X71)-1,COLUMNS($X$23:X71)-1)<>\"\",OFFSET(DE102_5!$X$23,ROWS($X$23:X71)-1,COLUMNS($X$23:X71)-1),\"\")","v":""},{"$f":"IF(OFFSET(DE102_5!$Y$23,ROWS($Y$23:Y71)-1,COLUMNS($Y$23:Y71)-1)<>\"\",OFFSET(DE102_5!$Y$23,ROWS($Y$23:Y71)-1,COLUMNS($Y$23:Y71)-1),\"\")","v":""},{"$f":"IF(OFFSET(DE102_5!$Z$23,ROWS($Z$23:Z71)-1,COLUMNS($Z$23:Z71)-1)<>\"\",OFFSET(DE102_5!$Z$23,ROWS($Z$23:Z71)-1,COLUMNS($Z$23:Z71)-1),\"\")","v":""},{"$f":"IF(OFFSET(DE102_5!$AA$23,ROWS($AA$23:AA71)-1,COLUMNS($AA$23:AA71)-1)<>\"\",OFFSET(DE102_5!$AA$23,ROWS($AA$23:AA71)-1,COLUMNS($AA$23:AA71)-1),\"\")","v":""},{"$f":"IF(OFFSET(DE102_5!$AB$23,ROWS($AB$23:AB71)-1,COLUMNS($AB$23:AB71)-1)<>\"\",OFFSET(DE102_5!$AB$23,ROWS($AB$23:AB71)-1,COLUMNS($AB$23:AB71)-1),\"\")","v":""}]
[{"$f":"IF(OFFSET(DE102_5!$C$23,ROWS($C$23:C72)-1,COLUMNS($C$23:C72)-1)<>\"\",OFFSET(DE102_5!$C$23,ROWS($C$23:C72)-1,COLUMNS($C$23:C72)-1),\"\")","v":""},{"$f":"IF(OFFSET(DE102_5!$F$23,ROWS($F$23:F72)-1,COLUMNS($F$23:F72)-1)<>\"\",OFFSET(DE102_5!$F$23,ROWS($F$23:F72)-1,COLUMNS($F$23:F72)-1),\"\")","v":85},{"$f":"IF(OFFSET(DE102_5!$G$23,ROWS($G$23:G72)-1,COLUMNS($G$23:G72)-1)<>\"\",OFFSET(DE102_5!$G$23,ROWS($G$23:G72)-1,COLUMNS($G$23:G72)-1),\"\")","v":"I-35"},{"$f":"IF(OFFSET(DE102_5!$H$23,ROWS($H$23:H72)-1,COLUMNS($H$23:H72)-1)<>\"\",OFFSET(DE102_5!$H$23,ROWS($H$23:H72)-1,COLUMNS($H$23:H72)-1),\"\")","v":1},{"$f":"IF(OFFSET(DE102_5!$I$23,ROWS($I$23:I72)-1,COLUMNS($I$23:I72)-1)<>\"\",OFFSET(DE102_5!$I$23,ROWS($I$23:I72)-1,COLUMNS($I$23:I72)-1),\"\")","v":112.72},{"$f":"IF(OFFSET(DE102_5!$J$23,ROWS($J$23:J72)-1,COLUMNS($J$23:J72)-1)<>\"\",OFFSET(DE102_5!$J$23,ROWS($J$23:J72)-1,COLUMNS($J$23:J72)-1),\"\")","v":116.67},{"$f":"IF(OFFSET(DE102_5!$M$23,ROWS($M$23:M72)-1,COLUMNS($M$23:M72)-1)<>\"\",OFFSET(DE102_5!$M$23,ROWS($M$23:M72)-1,COLUMNS($M$23:M72)-1),\"\")","v":2018},{"$f":"IF(OFFSET(DE102_5!$N$23,ROWS($N$23:N72)-1,COLUMNS($N$23:N72)-1)<>\"\",OFFSET(DE102_5!$N$23,ROWS($N$23:N72)-1,COLUMNS($N$23:N72)-1),\"\")","v":"M"},{"$f":"IF(OFFSET(DE102_5!$O$23,ROWS($O$23:O72)-1,COLUMNS($O$23:O72)-1)<>\"\",OFFSET(DE102_5!$O$23,ROWS($O$23:O72)-1,COLUMNS($O$23:O72)-1),\"\")","v":"IMN-035-4(201)87--0E-77"},{"$f":"IF(OFFSET(DE102_5!$P$23,ROWS($P$23:P72)-1,COLUMNS($P$23:P72)-1)<>\"\",OFFSET(DE102_5!$P$23,ROWS($P$23:P72)-1,COLUMNS($P$23:P72)-1),\"\")","v":"PCC"},{"$f":"IF(OFFSET(DE102_5!$Q$23,ROWS($Q$23:Q72)-1,COLUMNS($Q$23:Q72)-1)<>\"\",OFFSET(DE102_5!$Q$23,ROWS($Q$23:Q72)-1,COLUMNS($Q$23:Q72)-1),\"\")","v":""},{"$f":"IF(OFFSET(DE102_5!$R$23,ROWS($R$23:R72)-1,COLUMNS($R$23:R72)-1)<>\"\",OFFSET(DE102_5!$R$23,ROWS($R$23:R72)-1,COLUMNS($R$23:R72)-1),\"\")","v":""},{"$f":"IF(OFFSET(DE102_5!$S$23,ROWS($S$23:S72)-1,COLUMNS($S$23:S72)-1)<>\"\",OFFSET(DE102_5!$S$23,ROWS($S$23:S72)-1,COLUMNS($S$23:S72)-1),\"\")","v":""},{"$f":"IF(OFFSET(DE102_5!$T$23,ROWS($T$23:T72)-1,COLUMNS($T$23:T72)-1)<>\"\",OFFSET(DE102_5!$T$23,ROWS($T$23:T72)-1,COLUMNS($T$23:T72)-1),\"\")","v":""},{"$f":"IF(OFFSET(DE102_5!$U$23,ROWS($U$23:U72)-1,COLUMNS($U$23:U72)-1)<>\"\",OFFSET(DE102_5!$U$23,ROWS($U$23:U72)-1,COLUMNS($U$23:U72)-1),\"\")","v":""},{"$f":"IF(OFFSET(DE102_5!$V$23,ROWS($V$23:V72)-1,COLUMNS($V$23:V72)-1)<>\"\",OFFSET(DE102_5!$V$23,ROWS($V$23:V72)-1,COLUMNS($V$23:V72)-1),\"\")","v":""},{"$f":"IF(OFFSET(DE102_5!$W$23,ROWS($W$23:W72)-1,COLUMNS($W$23:W72)-1)<>\"\",OFFSET(DE102_5!$W$23,ROWS($W$23:W72)-1,COLUMNS($W$23:W72)-1),\"\")","v":""},{"$f":"IF(OFFSET(DE102_5!$X$23,ROWS($X$23:X72)-1,COLUMNS($X$23:X72)-1)<>\"\",OFFSET(DE102_5!$X$23,ROWS($X$23:X72)-1,COLUMNS($X$23:X72)-1),\"\")","v":""},{"$f":"IF(OFFSET(DE102_5!$Y$23,ROWS($Y$23:Y72)-1,COLUMNS($Y$23:Y72)-1)<>\"\",OFFSET(DE102_5!$Y$23,ROWS($Y$23:Y72)-1,COLUMNS($Y$23:Y72)-1),\"\")","v":""},{"$f":"IF(OFFSET(DE102_5!$Z$23,ROWS($Z$23:Z72)-1,COLUMNS($Z$23:Z72)-1)<>\"\",OFFSET(DE102_5!$Z$23,ROWS($Z$23:Z72)-1,COLUMNS($Z$23:Z72)-1),\"\")","v":""},{"$f":"IF(OFFSET(DE102_5!$AA$23,ROWS($AA$23:AA72)-1,COLUMNS($AA$23:AA72)-1)<>\"\",OFFSET(DE102_5!$AA$23,ROWS($AA$23:AA72)-1,COLUMNS($AA$23:AA72)-1),\"\")","v":"PCC PATCHING"},{"$f":"IF(OFFSET(DE102_5!$AB$23,ROWS($AB$23:AB72)-1,COLUMNS($AB$23:AB72)-1)<>\"\",OFFSET(DE102_5!$AB$23,ROWS($AB$23:AB72)-1,COLUMNS($AB$23:AB72)-1),\"\")","v":""}]
[{"$f":"IF(OFFSET(DE102_5!$C$23,ROWS($C$23:C73)-1,COLUMNS($C$23:C73)-1)<>\"\",OFFSET(DE102_5!$C$23,ROWS($C$23:C73)-1,COLUMNS($C$23:C73)-1),\"\")","v":""},{"$f":"IF(OFFSET(DE102_5!$F$23,ROWS($F$23:F73)-1,COLUMNS($F$23:F73)-1)<>\"\",OFFSET(DE102_5!$F$23,ROWS($F$23:F73)-1,COLUMNS($F$23:F73)-1),\"\")","v":85},{"$f":"IF(OFFSET(DE102_5!$G$23,ROWS($G$23:G73)-1,COLUMNS($G$23:G73)-1)<>\"\",OFFSET(DE102_5!$G$23,ROWS($G$23:G73)-1,COLUMNS($G$23:G73)-1),\"\")","v":"I-35"},{"$f":"IF(OFFSET(DE102_5!$H$23,ROWS($H$23:H73)-1,COLUMNS($H$23:H73)-1)<>\"\",OFFSET(DE102_5!$H$23,ROWS($H$23:H73)-1,COLUMNS($H$23:H73)-1),\"\")","v":1},{"$f":"IF(OFFSET(DE102_5!$I$23,ROWS($I$23:I73)-1,COLUMNS($I$23:I73)-1)<>\"\",OFFSET(DE102_5!$I$23,ROWS($I$23:I73)-1,COLUMNS($I$23:I73)-1),\"\")","v":112.72},{"$f":"IF(OFFSET(DE102_5!$J$23,ROWS($J$23:J73)-1,COLUMNS($J$23:J73)-1)<>\"\",OFFSET(DE102_5!$J$23,ROWS($J$23:J73)-1,COLUMNS($J$23:J73)-1),\"\")","v":116.67},{"$f":"IF(OFFSET(DE102_5!$M$23,ROWS($M$23:M73)-1,COLUMNS($M$23:M73)-1)<>\"\",OFFSET(DE102_5!$M$23,ROWS($M$23:M73)-1,COLUMNS($M$23:M73)-1),\"\")","v":2017},{"$f":"IF(OFFSET(DE102_5!$N$23,ROWS($N$23:N73)-1,COLUMNS($N$23:N73)-1)<>\"\",OFFSET(DE102_5!$N$23,ROWS($N$23:N73)-1,COLUMNS($N$23:N73)-1),\"\")","v":"S"},{"$f":"IF(OFFSET(DE102_5!$O$23,ROWS($O$23:O73)-1,COLUMNS($O$23:O73)-1)<>\"\",OFFSET(DE102_5!$O$23,ROWS($O$23:O73)-1,COLUMNS($O$23:O73)-1),\"\")","v":"IMX-035-5(109)112--02-85"},{"$f":"IF(OFFSET(DE102_5!$P$23,ROWS($P$23:P73)-1,COLUMNS($P$23:P73)-1)<>\"\",OFFSET(DE102_5!$P$23,ROWS($P$23:P73)-1,COLUMNS($P$23:P73)-1),\"\")","v":"HMA"},{"$f":"IF(OFFSET(DE102_5!$Q$23,ROWS($Q$23:Q73)-1,COLUMNS($Q$23:Q73)-1)<>\"\",OFFSET(DE102_5!$Q$23,ROWS($Q$23:Q73)-1,COLUMNS($Q$23:Q73)-1),\"\")","v":2},{"$f":"IF(OFFSET(DE102_5!$R$23,ROWS($R$23:R73)-1,COLUMNS($R$23:R73)-1)<>\"\",OFFSET(DE102_5!$R$23,ROWS($R$23:R73)-1,COLUMNS($R$23:R73)-1),\"\")","v":"HMA"},{"$f":"IF(OFFSET(DE102_5!$S$23,ROWS($S$23:S73)-1,COLUMNS($S$23:S73)-1)<>\"\",OFFSET(DE102_5!$S$23,ROWS($S$23:S73)-1,COLUMNS($S$23:S73)-1),\"\")","v":2},{"$f":"IF(OFFSET(DE102_5!$T$23,ROWS($T$23:T73)-1,COLUMNS($T$23:T73)-1)<>\"\",OFFSET(DE102_5!$T$23,ROWS($T$23:T73)-1,COLUMNS($T$23:T73)-1),\"\")","v":"HMA"},{"$f":"IF(OFFSET(DE102_5!$U$23,ROWS($U$23:U73)-1,COLUMNS($U$23:U73)-1)<>\"\",OFFSET(DE102_5!$U$23,ROWS($U$23:U73)-1,COLUMNS($U$23:U73)-1),\"\")","v":1},{"$f":"IF(OFFSET(DE102_5!$V$23,ROWS($V$23:V73)-1,COLUMNS($V$23:V73)-1)<>\"\",OFFSET(DE102_5!$V$23,ROWS($V$23:V73)-1,COLUMNS($V$23:V73)-1),\"\")","v":""},{"$f":"IF(OFFSET(DE102_5!$W$23,ROWS($W$23:W73)-1,COLUMNS($W$23:W73)-1)<>\"\",OFFSET(DE102_5!$W$23,ROWS($W$23:W73)-1,COLUMNS($W$23:W73)-1),\"\")","v":""},{"$f":"IF(OFFSET(DE102_5!$X$23,ROWS($X$23:X73)-1,COLUMNS($X$23:X73)-1)<>\"\",OFFSET(DE102_5!$X$23,ROWS($X$23:X73)-1,COLUMNS($X$23:X73)-1),\"\")","v":""},{"$f":"IF(OFFSET(DE102_5!$Y$23,ROWS($Y$23:Y73)-1,COLUMNS($Y$23:Y73)-1)<>\"\",OFFSET(DE102_5!$Y$23,ROWS($Y$23:Y73)-1,COLUMNS($Y$23:Y73)-1),\"\")","v":""},{"$f":"IF(OFFSET(DE102_5!$Z$23,ROWS($Z$23:Z73)-1,COLUMNS($Z$23:Z73)-1)<>\"\",OFFSET(DE102_5!$Z$23,ROWS($Z$23:Z73)-1,COLUMNS($Z$23:Z73)-1),\"\")","v":""},{"$f":"IF(OFFSET(DE102_5!$AA$23,ROWS($AA$23:AA73)-1,COLUMNS($AA$23:AA73)-1)<>\"\",OFFSET(DE102_5!$AA$23,ROWS($AA$23:AA73)-1,COLUMNS($AA$23:AA73)-1),\"\")","v":""},{"$f":"IF(OFFSET(DE102_5!$AB$23,ROWS($AB$23:AB73)-1,COLUMNS($AB$23:AB73)-1)<>\"\",OFFSET(DE102_5!$AB$23,ROWS($AB$23:AB73)-1,COLUMNS($AB$23:AB73)-1),\"\")","v":""}]
[{"$f":"IF(OFFSET(DE102_5!$C$23,ROWS($C$23:C74)-1,COLUMNS($C$23:C74)-1)<>\"\",OFFSET(DE102_5!$C$23,ROWS($C$23:C74)-1,COLUMNS($C$23:C74)-1),\"\")","v":""},{"$f":"IF(OFFSET(DE102_5!$F$23,ROWS($F$23:F74)-1,COLUMNS($F$23:F74)-1)<>\"\",OFFSET(DE102_5!$F$23,ROWS($F$23:F74)-1,COLUMNS($F$23:F74)-1),\"\")","v":85},{"$f":"IF(OFFSET(DE102_5!$G$23,ROWS($G$23:G74)-1,COLUMNS($G$23:G74)-1)<>\"\",OFFSET(DE102_5!$G$23,ROWS($G$23:G74)-1,COLUMNS($G$23:G74)-1),\"\")","v":"I-35"},{"$f":"IF(OFFSET(DE102_5!$H$23,ROWS($H$23:H74)-1,COLUMNS($H$23:H74)-1)<>\"\",OFFSET(DE102_5!$H$23,ROWS($H$23:H74)-1,COLUMNS($H$23:H74)-1),\"\")","v":1},{"$f":"IF(OFFSET(DE102_5!$I$23,ROWS($I$23:I74)-1,COLUMNS($I$23:I74)-1)<>\"\",OFFSET(DE102_5!$I$23,ROWS($I$23:I74)-1,COLUMNS($I$23:I74)-1),\"\")","v":112.72},{"$f":"IF(OFFSET(DE102_5!$J$23,ROWS($J$23:J74)-1,COLUMNS($J$23:J74)-1)<>\"\",OFFSET(DE102_5!$J$23,ROWS($J$23:J74)-1,COLUMNS($J$23:J74)-1),\"\")","v":116.67},{"$f":"IF(OFFSET(DE102_5!$M$23,ROWS($M$23:M74)-1,COLUMNS($M$23:M74)-1)<>\"\",OFFSET(DE102_5!$M$23,ROWS($M$23:M74)-1,COLUMNS($M$23:M74)-1),\"\")","v":2017},{"$f":"IF(OFFSET(DE102_5!$N$23,ROWS($N$23:N74)-1,COLUMNS($N$23:N74)-1)<>\"\",OFFSET(DE102_5!$N$23,ROWS($N$23:N74)-1,COLUMNS($N$23:N74)-1),\"\")","v":"M"},{"$f":"IF(OFFSET(DE102_5!$O$23,ROWS($O$23:O74)-1,COLUMNS($O$23:O74)-1)<>\"\",OFFSET(DE102_5!$O$23,ROWS($O$23:O74)-1,COLUMNS($O$23:O74)-1),\"\")","v":"IMN-035-4(179)87--0E-77"},{"$f":"IF(OFFSET(DE102_5!$P$23,ROWS($P$23:P74)-1,COLUMNS($P$23:P74)-1)<>\"\",OFFSET(DE102_5!$P$23,ROWS($P$23:P74)-1,COLUMNS($P$23:P74)-1),\"\")","v":"PCC"},{"$f":"IF(OFFSET(DE102_5!$Q$23,ROWS($Q$23:Q74)-1,COLUMNS($Q$23:Q74)-1)<>\"\",OFFSET(DE102_5!$Q$23,ROWS($Q$23:Q74)-1,COLUMNS($Q$23:Q74)-1),\"\")","v":12},{"$f":"IF(OFFSET(DE102_5!$R$23,ROWS($R$23:R74)-1,COLUMNS($R$23:R74)-1)<>\"\",OFFSET(DE102_5!$R$23,ROWS($R$23:R74)-1,COLUMNS($R$23:R74)-1),\"\")","v":""},{"$f":"IF(OFFSET(DE102_5!$S$23,ROWS($S$23:S74)-1,COLUMNS($S$23:S74)-1)<>\"\",OFFSET(DE102_5!$S$23,ROWS($S$23:S74)-1,COLUMNS($S$23:S74)-1),\"\")","v":""},{"$f":"IF(OFFSET(DE102_5!$T$23,ROWS($T$23:T74)-1,COLUMNS($T$23:T74)-1)<>\"\",OFFSET(DE102_5!$T$23,ROWS($T$23:T74)-1,COLUMNS($T$23:T74)-1),\"\")","v":""},{"$f":"IF(OFFSET(DE102_5!$U$23,ROWS($U$23:U74)-1,COLUMNS($U$23:U74)-1)<>\"\",OFFSET(DE102_5!$U$23,ROWS($U$23:U74)-1,COLUMNS($U$23:U74)-1),\"\")","v":""},{"$f":"IF(OFFSET(DE102_5!$V$23,ROWS($V$23:V74)-1,COLUMNS($V$23:V74)-1)<>\"\",OFFSET(DE102_5!$V$23,ROWS($V$23:V74)-1,COLUMNS($V$23:V74)-1),\"\")","v":""},{"$f":"IF(OFFSET(DE102_5!$W$23,ROWS($W$23:W74)-1,COLUMNS($W$23:W74)-1)<>\"\",OFFSET(DE102_5!$W$23,ROWS($W$23:W74)-1,COLUMNS($W$23:W74)-1),\"\")","v":""},{"$f":"IF(OFFSET(DE102_5!$X$23,ROWS($X$23:X74)-1,COLUMNS($X$23:X74)-1)<>\"\",OFFSET(DE102_5!$X$23,ROWS($X$23:X74)-1,COLUMNS($X$23:X74)-1),\"\")","v":""},{"$f":"IF(OFFSET(DE102_5!$Y$23,ROWS($Y$23:Y74)-1,COLUMNS($Y$23:Y74)-1)<>\"\",OFFSET(DE102_5!$Y$23,ROWS($Y$23:Y74)-1,COLUMNS($Y$23:Y74)-1),\"\")","v":""},{"$f":"IF(OFFSET(DE102_5!$Z$23,ROWS($Z$23:Z74)-1,COLUMNS($Z$23:Z74)-1)<>\"\",OFFSET(DE102_5!$Z$23,ROWS($Z$23:Z74)-1,COLUMNS($Z$23:Z74)-1),\"\")","v":""},{"$f":"IF(OFFSET(DE102_5!$AA$23,ROWS($AA$23:AA74)-1,COLUMNS($AA$23:AA74)-1)<>\"\",OFFSET(DE102_5!$AA$23,ROWS($AA$23:AA74)-1,COLUMNS($AA$23:AA74)-1),\"\")","v":"PCC PATCHING"},{"$f":"IF(OFFSET(DE102_5!$AB$23,ROWS($AB$23:AB74)-1,COLUMNS($AB$23:AB74)-1)<>\"\",OFFSET(DE102_5!$AB$23,ROWS($AB$23:AB74)-1,COLUMNS($AB$23:AB74)-1),\"\")","v":""}]
[{"$f":"IF(OFFSET(DE102_5!$C$23,ROWS($C$23:C75)-1,COLUMNS($C$23:C75)-1)<>\"\",OFFSET(DE102_5!$C$23,ROWS($C$23:C75)-1,COLUMNS($C$23:C75)-1),\"\")","v":""},{"$f":"IF(OFFSET(DE102_5!$F$23,ROWS($F$23:F75)-1,COLUMNS($F$23:F75)-1)<>\"\",OFFSET(DE102_5!$F$23,ROWS($F$23:F75)-1,COLUMNS($F$23:F75)-1),\"\")","v":85},{"$f":"IF(OFFSET(DE102_5!$G$23,ROWS($G$23:G75)-1,COLUMNS($G$23:G75)-1)<>\"\",OFFSET(DE102_5!$G$23,ROWS($G$23:G75)-1,COLUMNS($G$23:G75)-1),\"\")","v":"I-35"},{"$f":"IF(OFFSET(DE102_5!$H$23,ROWS($H$23:H75)-1,COLUMNS($H$23:H75)-1)<>\"\",OFFSET(DE102_5!$H$23,ROWS($H$23:H75)-1,COLUMNS($H$23:H75)-1),\"\")","v":1},{"$f":"IF(OFFSET(DE102_5!$I$23,ROWS($I$23:I75)-1,COLUMNS($I$23:I75)-1)<>\"\",OFFSET(DE102_5!$I$23,ROWS($I$23:I75)-1,COLUMNS($I$23:I75)-1),\"\")","v":112.72},{"$f":"IF(OFFSET(DE102_5!$J$23,ROWS($J$23:J75)-1,COLUMNS($J$23:J75)-1)<>\"\",OFFSET(DE102_5!$J$23,ROWS($J$23:J75)-1,COLUMNS($J$23:J75)-1),\"\")","v":116.67},{"$f":"IF(OFFSET(DE102_5!$M$23,ROWS($M$23:M75)-1,COLUMNS($M$23:M75)-1)<>\"\",OFFSET(DE102_5!$M$23,ROWS($M$23:M75)-1,COLUMNS($M$23:M75)-1),\"\")","v":1983},{"$f":"IF(OFFSET(DE102_5!$N$23,ROWS($N$23:N75)-1,COLUMNS($N$23:N75)-1)<>\"\",OFFSET(DE102_5!$N$23,ROWS($N$23:N75)-1,COLUMNS($N$23:N75)-1),\"\")","v":""},{"$f":"IF(OFFSET(DE102_5!$O$23,ROWS($O$23:O75)-1,COLUMNS($O$23:O75)-1)<>\"\",OFFSET(DE102_5!$O$23,ROWS($O$23:O75)-1,COLUMNS($O$23:O75)-1),\"\")","v":"IR-35-5(35)111"},{"$f":"IF(OFFSET(DE102_5!$P$23,ROWS($P$23:P75)-1,COLUMNS($P$23:P75)-1)<>\"\",OFFSET(DE102_5!$P$23,ROWS($P$23:P75)-1,COLUMNS($P$23:P75)-1),\"\")","v":"PCC"},{"$f":"IF(OFFSET(DE102_5!$Q$23,ROWS($Q$23:Q75)-1,COLUMNS($Q$23:Q75)-1)<>\"\",OFFSET(DE102_5!$Q$23,ROWS($Q$23:Q75)-1,COLUMNS($Q$23:Q75)-1),\"\")","v":10},{"$f":"IF(OFFSET(DE102_5!$R$23,ROWS($R$23:R75)-1,COLUMNS($R$23:R75)-1)<>\"\",OFFSET(DE102_5!$R$23,ROWS($R$23:R75)-1,COLUMNS($R$23:R75)-1),\"\")","v":"GSB"},{"$f":"IF(OFFSET(DE102_5!$S$23,ROWS($S$23:S75)-1,COLUMNS($S$23:S75)-1)<>\"\",OFFSET(DE102_5!$S$23,ROWS($S$23:S75)-1,COLUMNS($S$23:S75)-1),\"\")","v":6},{"$f":"IF(OFFSET(DE102_5!$T$23,ROWS($T$23:T75)-1,COLUMNS($T$23:T75)-1)<>\"\",OFFSET(DE102_5!$T$23,ROWS($T$23:T75)-1,COLUMNS($T$23:T75)-1),\"\")","v":""},{"$f":"IF(OFFSET(DE102_5!$U$23,ROWS($U$23:U75)-1,COLUMNS($U$23:U75)-1)<>\"\",OFFSET(DE102_5!$U$23,ROWS($U$23:U75)-1,COLUMNS($U$23:U75)-1),\"\")","v":""},{"$f":"IF(OFFSET(DE102_5!$V$23,ROWS($V$23:V75)-1,COLUMNS($V$23:V75)-1)<>\"\",OFFSET(DE102_5!$V$23,ROWS($V$23:V75)-1,COLUMNS($V$23:V75)-1),\"\")","v":""},{"$f":"IF(OFFSET(DE102_5!$W$23,ROWS($W$23:W75)-1,COLUMNS($W$23:W75)-1)<>\"\",OFFSET(DE102_5!$W$23,ROWS($W$23:W75)-1,COLUMNS($W$23:W75)-1),\"\")","v":""},{"$f":"IF(OFFSET(DE102_5!$X$23,ROWS($X$23:X75)-1,COLUMNS($X$23:X75)-1)<>\"\",OFFSET(DE102_5!$X$23,ROWS($X$23:X75)-1,COLUMNS($X$23:X75)-1),\"\")","v":"GILMORE CITY"},{"$f":"IF(OFFSET(DE102_5!$Y$23,ROWS($Y$23:Y75)-1,COLUMNS($Y$23:Y75)-1)<>\"\",OFFSET(DE102_5!$Y$23,ROWS($Y$23:Y75)-1,COLUMNS($Y$23:Y75)-1),\"\")","v":"C.LST."},{"$f":"IF(OFFSET(DE102_5!$Z$23,ROWS($Z$23:Z75)-1,COLUMNS($Z$23:Z75)-1)<>\"\",OFFSET(DE102_5!$Z$23,ROWS($Z$23:Z75)-1,COLUMNS($Z$23:Z75)-1),\"\")","v":"I"},{"$f":"IF(OFFSET(DE102_5!$AA$23,ROWS($AA$23:AA75)-1,COLUMNS($AA$23:AA75)-1)<>\"\",OFFSET(DE102_5!$AA$23,ROWS($AA$23:AA75)-1,COLUMNS($AA$23:AA75)-1),\"\")","v":""},{"$f":"IF(OFFSET(DE102_5!$AB$23,ROWS($AB$23:AB75)-1,COLUMNS($AB$23:AB75)-1)<>\"\",OFFSET(DE102_5!$AB$23,ROWS($AB$23:AB75)-1,COLUMNS($AB$23:AB75)-1),\"\")","v":""}]
[{"$f":"IF(OFFSET(DE102_5!$C$23,ROWS($C$23:C76)-1,COLUMNS($C$23:C76)-1)<>\"\",OFFSET(DE102_5!$C$23,ROWS($C$23:C76)-1,COLUMNS($C$23:C76)-1),\"\")","v":""},{"$f":"IF(OFFSET(DE102_5!$F$23,ROWS($F$23:F76)-1,COLUMNS($F$23:F76)-1)<>\"\",OFFSET(DE102_5!$F$23,ROWS($F$23:F76)-1,COLUMNS($F$23:F76)-1),\"\")","v":""},{"$f":"IF(OFFSET(DE102_5!$G$23,ROWS($G$23:G76)-1,COLUMNS($G$23:G76)-1)<>\"\",OFFSET(DE102_5!$G$23,ROWS($G$23:G76)-1,COLUMNS($G$23:G76)-1),\"\")","v":""},{"$f":"IF(OFFSET(DE102_5!$H$23,ROWS($H$23:H76)-1,COLUMNS($H$23:H76)-1)<>\"\",OFFSET(DE102_5!$H$23,ROWS($H$23:H76)-1,COLUMNS($H$23:H76)-1),\"\")","v":""},{"$f":"IF(OFFSET(DE102_5!$I$23,ROWS($I$23:I76)-1,COLUMNS($I$23:I76)-1)<>\"\",OFFSET(DE102_5!$I$23,ROWS($I$23:I76)-1,COLUMNS($I$23:I76)-1),\"\")","v":""},{"$f":"IF(OFFSET(DE102_5!$J$23,ROWS($J$23:J76)-1,COLUMNS($J$23:J76)-1)<>\"\",OFFSET(DE102_5!$J$23,ROWS($J$23:J76)-1,COLUMNS($J$23:J76)-1),\"\")","v":""},{"$f":"IF(OFFSET(DE102_5!$M$23,ROWS($M$23:M76)-1,COLUMNS($M$23:M76)-1)<>\"\",OFFSET(DE102_5!$M$23,ROWS($M$23:M76)-1,COLUMNS($M$23:M76)-1),\"\")","v":""},{"$f":"IF(OFFSET(DE102_5!$N$23,ROWS($N$23:N76)-1,COLUMNS($N$23:N76)-1)<>\"\",OFFSET(DE102_5!$N$23,ROWS($N$23:N76)-1,COLUMNS($N$23:N76)-1),\"\")","v":""},{"$f":"IF(OFFSET(DE102_5!$O$23,ROWS($O$23:O76)-1,COLUMNS($O$23:O76)-1)<>\"\",OFFSET(DE102_5!$O$23,ROWS($O$23:O76)-1,COLUMNS($O$23:O76)-1),\"\")","v":""},{"$f":"IF(OFFSET(DE102_5!$P$23,ROWS($P$23:P76)-1,COLUMNS($P$23:P76)-1)<>\"\",OFFSET(DE102_5!$P$23,ROWS($P$23:P76)-1,COLUMNS($P$23:P76)-1),\"\")","v":""},{"$f":"IF(OFFSET(DE102_5!$Q$23,ROWS($Q$23:Q76)-1,COLUMNS($Q$23:Q76)-1)<>\"\",OFFSET(DE102_5!$Q$23,ROWS($Q$23:Q76)-1,COLUMNS($Q$23:Q76)-1),\"\")","v":""},{"$f":"IF(OFFSET(DE102_5!$R$23,ROWS($R$23:R76)-1,COLUMNS($R$23:R76)-1)<>\"\",OFFSET(DE102_5!$R$23,ROWS($R$23:R76)-1,COLUMNS($R$23:R76)-1),\"\")","v":""},{"$f":"IF(OFFSET(DE102_5!$S$23,ROWS($S$23:S76)-1,COLUMNS($S$23:S76)-1)<>\"\",OFFSET(DE102_5!$S$23,ROWS($S$23:S76)-1,COLUMNS($S$23:S76)-1),\"\")","v":""},{"$f":"IF(OFFSET(DE102_5!$T$23,ROWS($T$23:T76)-1,COLUMNS($T$23:T76)-1)<>\"\",OFFSET(DE102_5!$T$23,ROWS($T$23:T76)-1,COLUMNS($T$23:T76)-1),\"\")","v":""},{"$f":"IF(OFFSET(DE102_5!$U$23,ROWS($U$23:U76)-1,COLUMNS($U$23:U76)-1)<>\"\",OFFSET(DE102_5!$U$23,ROWS($U$23:U76)-1,COLUMNS($U$23:U76)-1),\"\")","v":""},{"$f":"IF(OFFSET(DE102_5!$V$23,ROWS($V$23:V76)-1,COLUMNS($V$23:V76)-1)<>\"\",OFFSET(DE102_5!$V$23,ROWS($V$23:V76)-1,COLUMNS($V$23:V76)-1),\"\")","v":""},{"$f":"IF(OFFSET(DE102_5!$W$23,ROWS($W$23:W76)-1,COLUMNS($W$23:W76)-1)<>\"\",OFFSET(DE102_5!$W$23,ROWS($W$23:W76)-1,COLUMNS($W$23:W76)-1),\"\")","v":""},{"$f":"IF(OFFSET(DE102_5!$X$23,ROWS($X$23:X76)-1,COLUMNS($X$23:X76)-1)<>\"\",OFFSET(DE102_5!$X$23,ROWS($X$23:X76)-1,COLUMNS($X$23:X76)-1),\"\")","v":""},{"$f":"IF(OFFSET(DE102_5!$Y$23,ROWS($Y$23:Y76)-1,COLUMNS($Y$23:Y76)-1)<>\"\",OFFSET(DE102_5!$Y$23,ROWS($Y$23:Y76)-1,COLUMNS($Y$23:Y76)-1),\"\")","v":""},{"$f":"IF(OFFSET(DE102_5!$Z$23,ROWS($Z$23:Z76)-1,COLUMNS($Z$23:Z76)-1)<>\"\",OFFSET(DE102_5!$Z$23,ROWS($Z$23:Z76)-1,COLUMNS($Z$23:Z76)-1),\"\")","v":""},{"$f":"IF(OFFSET(DE102_5!$AA$23,ROWS($AA$23:AA76)-1,COLUMNS($AA$23:AA76)-1)<>\"\",OFFSET(DE102_5!$AA$23,ROWS($AA$23:AA76)-1,COLUMNS($AA$23:AA76)-1),\"\")","v":""},{"$f":"IF(OFFSET(DE102_5!$AB$23,ROWS($AB$23:AB76)-1,COLUMNS($AB$23:AB76)-1)<>\"\",OFFSET(DE102_5!$AB$23,ROWS($AB$23:AB76)-1,COLUMNS($AB$23:AB76)-1),\"\")","v":""}]
[{"$f":"IF(OFFSET(DE102_5!$C$23,ROWS($C$23:C77)-1,COLUMNS($C$23:C77)-1)<>\"\",OFFSET(DE102_5!$C$23,ROWS($C$23:C77)-1,COLUMNS($C$23:C77)-1),\"\")","v":""},{"$f":"IF(OFFSET(DE102_5!$F$23,ROWS($F$23:F77)-1,COLUMNS($F$23:F77)-1)<>\"\",OFFSET(DE102_5!$F$23,ROWS($F$23:F77)-1,COLUMNS($F$23:F77)-1),\"\")","v":""},{"$f":"IF(OFFSET(DE102_5!$G$23,ROWS($G$23:G77)-1,COLUMNS($G$23:G77)-1)<>\"\",OFFSET(DE102_5!$G$23,ROWS($G$23:G77)-1,COLUMNS($G$23:G77)-1),\"\")","v":""},{"$f":"IF(OFFSET(DE102_5!$H$23,ROWS($H$23:H77)-1,COLUMNS($H$23:H77)-1)<>\"\",OFFSET(DE102_5!$H$23,ROWS($H$23:H77)-1,COLUMNS($H$23:H77)-1),\"\")","v":""},{"$f":"IF(OFFSET(DE102_5!$I$23,ROWS($I$23:I77)-1,COLUMNS($I$23:I77)-1)<>\"\",OFFSET(DE102_5!$I$23,ROWS($I$23:I77)-1,COLUMNS($I$23:I77)-1),\"\")","v":""},{"$f":"IF(OFFSET(DE102_5!$J$23,ROWS($J$23:J77)-1,COLUMNS($J$23:J77)-1)<>\"\",OFFSET(DE102_5!$J$23,ROWS($J$23:J77)-1,COLUMNS($J$23:J77)-1),\"\")","v":""},{"$f":"IF(OFFSET(DE102_5!$M$23,ROWS($M$23:M77)-1,COLUMNS($M$23:M77)-1)<>\"\",OFFSET(DE102_5!$M$23,ROWS($M$23:M77)-1,COLUMNS($M$23:M77)-1),\"\")","v":""},{"$f":"IF(OFFSET(DE102_5!$N$23,ROWS($N$23:N77)-1,COLUMNS($N$23:N77)-1)<>\"\",OFFSET(DE102_5!$N$23,ROWS($N$23:N77)-1,COLUMNS($N$23:N77)-1),\"\")","v":""},{"$f":"IF(OFFSET(DE102_5!$O$23,ROWS($O$23:O77)-1,COLUMNS($O$23:O77)-1)<>\"\",OFFSET(DE102_5!$O$23,ROWS($O$23:O77)-1,COLUMNS($O$23:O77)-1),\"\")","v":""},{"$f":"IF(OFFSET(DE102_5!$P$23,ROWS($P$23:P77)-1,COLUMNS($P$23:P77)-1)<>\"\",OFFSET(DE102_5!$P$23,ROWS($P$23:P77)-1,COLUMNS($P$23:P77)-1),\"\")","v":""},{"$f":"IF(OFFSET(DE102_5!$Q$23,ROWS($Q$23:Q77)-1,COLUMNS($Q$23:Q77)-1)<>\"\",OFFSET(DE102_5!$Q$23,ROWS($Q$23:Q77)-1,COLUMNS($Q$23:Q77)-1),\"\")","v":""},{"$f":"IF(OFFSET(DE102_5!$R$23,ROWS($R$23:R77)-1,COLUMNS($R$23:R77)-1)<>\"\",OFFSET(DE102_5!$R$23,ROWS($R$23:R77)-1,COLUMNS($R$23:R77)-1),\"\")","v":""},{"$f":"IF(OFFSET(DE102_5!$S$23,ROWS($S$23:S77)-1,COLUMNS($S$23:S77)-1)<>\"\",OFFSET(DE102_5!$S$23,ROWS($S$23:S77)-1,COLUMNS($S$23:S77)-1),\"\")","v":""},{"$f":"IF(OFFSET(DE102_5!$T$23,ROWS($T$23:T77)-1,COLUMNS($T$23:T77)-1)<>\"\",OFFSET(DE102_5!$T$23,ROWS($T$23:T77)-1,COLUMNS($T$23:T77)-1),\"\")","v":""},{"$f":"IF(OFFSET(DE102_5!$U$23,ROWS($U$23:U77)-1,COLUMNS($U$23:U77)-1)<>\"\",OFFSET(DE102_5!$U$23,ROWS($U$23:U77)-1,COLUMNS($U$23:U77)-1),\"\")","v":""},{"$f":"IF(OFFSET(DE102_5!$V$23,ROWS($V$23:V77)-1,COLUMNS($V$23:V77)-1)<>\"\",OFFSET(DE102_5!$V$23,ROWS($V$23:V77)-1,COLUMNS($V$23:V77)-1),\"\")","v":""},{"$f":"IF(OFFSET(DE102_5!$W$23,ROWS($W$23:W77)-1,COLUMNS($W$23:W77)-1)<>\"\",OFFSET(DE102_5!$W$23,ROWS($W$23:W77)-1,COLUMNS($W$23:W77)-1),\"\")","v":""},{"$f":"IF(OFFSET(DE102_5!$X$23,ROWS($X$23:X77)-1,COLUMNS($X$23:X77)-1)<>\"\",OFFSET(DE102_5!$X$23,ROWS($X$23:X77)-1,COLUMNS($X$23:X77)-1),\"\")","v":""},{"$f":"IF(OFFSET(DE102_5!$Y$23,ROWS($Y$23:Y77)-1,COLUMNS($Y$23:Y77)-1)<>\"\",OFFSET(DE102_5!$Y$23,ROWS($Y$23:Y77)-1,COLUMNS($Y$23:Y77)-1),\"\")","v":""},{"$f":"IF(OFFSET(DE102_5!$Z$23,ROWS($Z$23:Z77)-1,COLUMNS($Z$23:Z77)-1)<>\"\",OFFSET(DE102_5!$Z$23,ROWS($Z$23:Z77)-1,COLUMNS($Z$23:Z77)-1),\"\")","v":""},{"$f":"IF(OFFSET(DE102_5!$AA$23,ROWS($AA$23:AA77)-1,COLUMNS($AA$23:AA77)-1)<>\"\",OFFSET(DE102_5!$AA$23,ROWS($AA$23:AA77)-1,COLUMNS($AA$23:AA77)-1),\"\")","v":""},{"$f":"IF(OFFSET(DE102_5!$AB$23,ROWS($AB$23:AB77)-1,COLUMNS($AB$23:AB77)-1)<>\"\",OFFSET(DE102_5!$AB$23,ROWS($AB$23:AB77)-1,COLUMNS($AB$23:AB77)-1),\"\")","v":""}]
[{"$f":"IF(OFFSET(DE102_5!$C$23,ROWS($C$23:C78)-1,COLUMNS($C$23:C78)-1)<>\"\",OFFSET(DE102_5!$C$23,ROWS($C$23:C78)-1,COLUMNS($C$23:C78)-1),\"\")","v":""},{"$f":"IF(OFFSET(DE102_5!$F$23,ROWS($F$23:F78)-1,COLUMNS($F$23:F78)-1)<>\"\",OFFSET(DE102_5!$F$23,ROWS($F$23:F78)-1,COLUMNS($F$23:F78)-1),\"\")","v":"Southbound"},null,{"$f":"IF(OFFSET(DE102_5!$H$23,ROWS($H$23:H78)-1,COLUMNS($H$23:H78)-1)<>\"\",OFFSET(DE102_5!$H$23,ROWS($H$23:H78)-1,COLUMNS($H$23:H78)-1),\"\")","v":""},{"$f":"IF(OFFSET(DE102_5!$I$23,ROWS($I$23:I78)-1,COLUMNS($I$23:I78)-1)<>\"\",OFFSET(DE102_5!$I$23,ROWS($I$23:I78)-1,COLUMNS($I$23:I78)-1),\"\")","v":""},{"$f":"IF(OFFSET(DE102_5!$J$23,ROWS($J$23:J78)-1,COLUMNS($J$23:J78)-1)<>\"\",OFFSET(DE102_5!$J$23,ROWS($J$23:J78)-1,COLUMNS($J$23:J78)-1),\"\")","v":""},{"$f":"IF(OFFSET(DE102_5!$M$23,ROWS($M$23:M78)-1,COLUMNS($M$23:M78)-1)<>\"\",OFFSET(DE102_5!$M$23,ROWS($M$23:M78)-1,COLUMNS($M$23:M78)-1),\"\")","v":""},{"$f":"IF(OFFSET(DE102_5!$N$23,ROWS($N$23:N78)-1,COLUMNS($N$23:N78)-1)<>\"\",OFFSET(DE102_5!$N$23,ROWS($N$23:N78)-1,COLUMNS($N$23:N78)-1),\"\")","v":""},{"$f":"IF(OFFSET(DE102_5!$O$23,ROWS($O$23:O78)-1,COLUMNS($O$23:O78)-1)<>\"\",OFFSET(DE102_5!$O$23,ROWS($O$23:O78)-1,COLUMNS($O$23:O78)-1),\"\")","v":""},{"$f":"IF(OFFSET(DE102_5!$P$23,ROWS($P$23:P78)-1,COLUMNS($P$23:P78)-1)<>\"\",OFFSET(DE102_5!$P$23,ROWS($P$23:P78)-1,COLUMNS($P$23:P78)-1),\"\")","v":""},{"$f":"IF(OFFSET(DE102_5!$Q$23,ROWS($Q$23:Q78)-1,COLUMNS($Q$23:Q78)-1)<>\"\",OFFSET(DE102_5!$Q$23,ROWS($Q$23:Q78)-1,COLUMNS($Q$23:Q78)-1),\"\")","v":""},{"$f":"IF(OFFSET(DE102_5!$R$23,ROWS($R$23:R78)-1,COLUMNS($R$23:R78)-1)<>\"\",OFFSET(DE102_5!$R$23,ROWS($R$23:R78)-1,COLUMNS($R$23:R78)-1),\"\")","v":""},{"$f":"IF(OFFSET(DE102_5!$S$23,ROWS($S$23:S78)-1,COLUMNS($S$23:S78)-1)<>\"\",OFFSET(DE102_5!$S$23,ROWS($S$23:S78)-1,COLUMNS($S$23:S78)-1),\"\")","v":""},{"$f":"IF(OFFSET(DE102_5!$T$23,ROWS($T$23:T78)-1,COLUMNS($T$23:T78)-1)<>\"\",OFFSET(DE102_5!$T$23,ROWS($T$23:T78)-1,COLUMNS($T$23:T78)-1),\"\")","v":""},{"$f":"IF(OFFSET(DE102_5!$U$23,ROWS($U$23:U78)-1,COLUMNS($U$23:U78)-1)<>\"\",OFFSET(DE102_5!$U$23,ROWS($U$23:U78)-1,COLUMNS($U$23:U78)-1),\"\")","v":""},{"$f":"IF(OFFSET(DE102_5!$V$23,ROWS($V$23:V78)-1,COLUMNS($V$23:V78)-1)<>\"\",OFFSET(DE102_5!$V$23,ROWS($V$23:V78)-1,COLUMNS($V$23:V78)-1),\"\")","v":""},{"$f":"IF(OFFSET(DE102_5!$W$23,ROWS($W$23:W78)-1,COLUMNS($W$23:W78)-1)<>\"\",OFFSET(DE102_5!$W$23,ROWS($W$23:W78)-1,COLUMNS($W$23:W78)-1),\"\")","v":""},{"$f":"IF(OFFSET(DE102_5!$X$23,ROWS($X$23:X78)-1,COLUMNS($X$23:X78)-1)<>\"\",OFFSET(DE102_5!$X$23,ROWS($X$23:X78)-1,COLUMNS($X$23:X78)-1),\"\")","v":""},{"$f":"IF(OFFSET(DE102_5!$Y$23,ROWS($Y$23:Y78)-1,COLUMNS($Y$23:Y78)-1)<>\"\",OFFSET(DE102_5!$Y$23,ROWS($Y$23:Y78)-1,COLUMNS($Y$23:Y78)-1),\"\")","v":""},{"$f":"IF(OFFSET(DE102_5!$Z$23,ROWS($Z$23:Z78)-1,COLUMNS($Z$23:Z78)-1)<>\"\",OFFSET(DE102_5!$Z$23,ROWS($Z$23:Z78)-1,COLUMNS($Z$23:Z78)-1),\"\")","v":""},{"$f":"IF(OFFSET(DE102_5!$AA$23,ROWS($AA$23:AA78)-1,COLUMNS($AA$23:AA78)-1)<>\"\",OFFSET(DE102_5!$AA$23,ROWS($AA$23:AA78)-1,COLUMNS($AA$23:AA78)-1),\"\")","v":""},{"$f":"IF(OFFSET(DE102_5!$AB$23,ROWS($AB$23:AB78)-1,COLUMNS($AB$23:AB78)-1)<>\"\",OFFSET(DE102_5!$AB$23,ROWS($AB$23:AB78)-1,COLUMNS($AB$23:AB78)-1),\"\")","v":""}]
[{"$f":"IF(OFFSET(DE102_5!$C$23,ROWS($C$23:C79)-1,COLUMNS($C$23:C79)-1)<>\"\",OFFSET(DE102_5!$C$23,ROWS($C$23:C79)-1,COLUMNS($C$23:C79)-1),\"\")","v":""},{"$f":"IF(OFFSET(DE102_5!$F$23,ROWS($F$23:F79)-1,COLUMNS($F$23:F79)-1)<>\"\",OFFSET(DE102_5!$F$23,ROWS($F$23:F79)-1,COLUMNS($F$23:F79)-1),\"\")","v":77},{"$f":"IF(OFFSET(DE102_5!$G$23,ROWS($G$23:G79)-1,COLUMNS($G$23:G79)-1)<>\"\",OFFSET(DE102_5!$G$23,ROWS($G$23:G79)-1,COLUMNS($G$23:G79)-1),\"\")","v":"I-35"},{"$f":"IF(OFFSET(DE102_5!$H$23,ROWS($H$23:H79)-1,COLUMNS($H$23:H79)-1)<>\"\",OFFSET(DE102_5!$H$23,ROWS($H$23:H79)-1,COLUMNS($H$23:H79)-1),\"\")","v":2},{"$f":"IF(OFFSET(DE102_5!$I$23,ROWS($I$23:I79)-1,COLUMNS($I$23:I79)-1)<>\"\",OFFSET(DE102_5!$I$23,ROWS($I$23:I79)-1,COLUMNS($I$23:I79)-1),\"\")","v":93.84},{"$f":"IF(OFFSET(DE102_5!$J$23,ROWS($J$23:J79)-1,COLUMNS($J$23:J79)-1)<>\"\",OFFSET(DE102_5!$J$23,ROWS($J$23:J79)-1,COLUMNS($J$23:J79)-1),\"\")","v":95.71},{"$f":"IF(OFFSET(DE102_5!$M$23,ROWS($M$23:M79)-1,COLUMNS($M$23:M79)-1)<>\"\",OFFSET(DE102_5!$M$23,ROWS($M$23:M79)-1,COLUMNS($M$23:M79)-1),\"\")","v":2018},{"$f":"IF(OFFSET(DE102_5!$N$23,ROWS($N$23:N79)-1,COLUMNS($N$23:N79)-1)<>\"\",OFFSET(DE102_5!$N$23,ROWS($N$23:N79)-1,COLUMNS($N$23:N79)-1),\"\")","v":"M"},{"$f":"IF(OFFSET(DE102_5!$O$23,ROWS($O$23:O79)-1,COLUMNS($O$23:O79)-1)<>\"\",OFFSET(DE102_5!$O$23,ROWS($O$23:O79)-1,COLUMNS($O$23:O79)-1),\"\")","v":"IMN-035-4(201)87--0E-77"},{"$f":"IF(OFFSET(DE102_5!$P$23,ROWS($P$23:P79)-1,COLUMNS($P$23:P79)-1)<>\"\",OFFSET(DE102_5!$P$23,ROWS($P$23:P79)-1,COLUMNS($P$23:P79)-1),\"\")","v":"PCC"},{"$f":"IF(OFFSET(DE102_5!$Q$23,ROWS($Q$23:Q79)-1,COLUMNS($Q$23:Q79)-1)<>\"\",OFFSET(DE102_5!$Q$23,ROWS($Q$23:Q79)-1,COLUMNS($Q$23:Q79)-1),\"\")","v":""},{"$f":"IF(OFFSET(DE102_5!$R$23,ROWS($R$23:R79)-1,COLUMNS($R$23:R79)-1)<>\"\",OFFSET(DE102_5!$R$23,ROWS($R$23:R79)-1,COLUMNS($R$23:R79)-1),\"\")","v":""},{"$f":"IF(OFFSET(DE102_5!$S$23,ROWS($S$23:S79)-1,COLUMNS($S$23:S79)-1)<>\"\",OFFSET(DE102_5!$S$23,ROWS($S$23:S79)-1,COLUMNS($S$23:S79)-1),\"\")","v":""},{"$f":"IF(OFFSET(DE102_5!$T$23,ROWS($T$23:T79)-1,COLUMNS($T$23:T79)-1)<>\"\",OFFSET(DE102_5!$T$23,ROWS($T$23:T79)-1,COLUMNS($T$23:T79)-1),\"\")","v":""},{"$f":"IF(OFFSET(DE102_5!$U$23,ROWS($U$23:U79)-1,COLUMNS($U$23:U79)-1)<>\"\",OFFSET(DE102_5!$U$23,ROWS($U$23:U79)-1,COLUMNS($U$23:U79)-1),\"\")","v":""},{"$f":"IF(OFFSET(DE102_5!$V$23,ROWS($V$23:V79)-1,COLUMNS($V$23:V79)-1)<>\"\",OFFSET(DE102_5!$V$23,ROWS($V$23:V79)-1,COLUMNS($V$23:V79)-1),\"\")","v":""},{"$f":"IF(OFFSET(DE102_5!$W$23,ROWS($W$23:W79)-1,COLUMNS($W$23:W79)-1)<>\"\",OFFSET(DE102_5!$W$23,ROWS($W$23:W79)-1,COLUMNS($W$23:W79)-1),\"\")","v":""},{"$f":"IF(OFFSET(DE102_5!$X$23,ROWS($X$23:X79)-1,COLUMNS($X$23:X79)-1)<>\"\",OFFSET(DE102_5!$X$23,ROWS($X$23:X79)-1,COLUMNS($X$23:X79)-1),\"\")","v":""},{"$f":"IF(OFFSET(DE102_5!$Y$23,ROWS($Y$23:Y79)-1,COLUMNS($Y$23:Y79)-1)<>\"\",OFFSET(DE102_5!$Y$23,ROWS($Y$23:Y79)-1,COLUMNS($Y$23:Y79)-1),\"\")","v":""},{"$f":"IF(OFFSET(DE102_5!$Z$23,ROWS($Z$23:Z79)-1,COLUMNS($Z$23:Z79)-1)<>\"\",OFFSET(DE102_5!$Z$23,ROWS($Z$23:Z79)-1,COLUMNS($Z$23:Z79)-1),\"\")","v":""},{"$f":"IF(OFFSET(DE102_5!$AA$23,ROWS($AA$23:AA79)-1,COLUMNS($AA$23:AA79)-1)<>\"\",OFFSET(DE102_5!$AA$23,ROWS($AA$23:AA79)-1,COLUMNS($AA$23:AA79)-1),\"\")","v":"PCC PATCHING"},{"$f":"IF(OFFSET(DE102_5!$AB$23,ROWS($AB$23:AB79)-1,COLUMNS($AB$23:AB79)-1)<>\"\",OFFSET(DE102_5!$AB$23,ROWS($AB$23:AB79)-1,COLUMNS($AB$23:AB79)-1),\"\")","v":""}]
[{"$f":"IF(OFFSET(DE102_5!$C$23,ROWS($C$23:C80)-1,COLUMNS($C$23:C80)-1)<>\"\",OFFSET(DE102_5!$C$23,ROWS($C$23:C80)-1,COLUMNS($C$23:C80)-1),\"\")","v":""},{"$f":"IF(OFFSET(DE102_5!$F$23,ROWS($F$23:F80)-1,COLUMNS($F$23:F80)-1)<>\"\",OFFSET(DE102_5!$F$23,ROWS($F$23:F80)-1,COLUMNS($F$23:F80)-1),\"\")","v":77},{"$f":"IF(OFFSET(DE102_5!$G$23,ROWS($G$23:G80)-1,COLUMNS($G$23:G80)-1)<>\"\",OFFSET(DE102_5!$G$23,ROWS($G$23:G80)-1,COLUMNS($G$23:G80)-1),\"\")","v":"I-35"},{"$f":"IF(OFFSET(DE102_5!$H$23,ROWS($H$23:H80)-1,COLUMNS($H$23:H80)-1)<>\"\",OFFSET(DE102_5!$H$23,ROWS($H$23:H80)-1,COLUMNS($H$23:H80)-1),\"\")","v":2},{"$f":"IF(OFFSET(DE102_5!$I$23,ROWS($I$23:I80)-1,COLUMNS($I$23:I80)-1)<>\"\",OFFSET(DE102_5!$I$23,ROWS($I$23:I80)-1,COLUMNS($I$23:I80)-1),\"\")","v":93.84},{"$f":"IF(OFFSET(DE102_5!$J$23,ROWS($J$23:J80)-1,COLUMNS($J$23:J80)-1)<>\"\",OFFSET(DE102_5!$J$23,ROWS($J$23:J80)-1,COLUMNS($J$23:J80)-1),\"\")","v":95.71},{"$f":"IF(OFFSET(DE102_5!$M$23,ROWS($M$23:M80)-1,COLUMNS($M$23:M80)-1)<>\"\",OFFSET(DE102_5!$M$23,ROWS($M$23:M80)-1,COLUMNS($M$23:M80)-1),\"\")","v":2017},{"$f":"IF(OFFSET(DE102_5!$N$23,ROWS($N$23:N80)-1,COLUMNS($N$23:N80)-1)<>\"\",OFFSET(DE102_5!$N$23,ROWS($N$23:N80)-1,COLUMNS($N$23:N80)-1),\"\")","v":"M"},{"$f":"IF(OFFSET(DE102_5!$O$23,ROWS($O$23:O80)-1,COLUMNS($O$23:O80)-1)<>\"\",OFFSET(DE102_5!$O$23,ROWS($O$23:O80)-1,COLUMNS($O$23:O80)-1),\"\")","v":"IMN-035-4(179)87--0E-77"},{"$f":"IF(OFFSET(DE102_5!$P$23,ROWS($P$23:P80)-1,COLUMNS($P$23:P80)-1)<>\"\",OFFSET(DE102_5!$P$23,ROWS($P$23:P80)-1,COLUMNS($P$23:P80)-1),\"\")","v":"PCC"},{"$f":"IF(OFFSET(DE102_5!$Q$23,ROWS($Q$23:Q80)-1,COLUMNS($Q$23:Q80)-1)<>\"\",OFFSET(DE102_5!$Q$23,ROWS($Q$23:Q80)-1,COLUMNS($Q$23:Q80)-1),\"\")","v":12},{"$f":"IF(OFFSET(DE102_5!$R$23,ROWS($R$23:R80)-1,COLUMNS($R$23:R80)-1)<>\"\",OFFSET(DE102_5!$R$23,ROWS($R$23:R80)-1,COLUMNS($R$23:R80)-1),\"\")","v":""},{"$f":"IF(OFFSET(DE102_5!$S$23,ROWS($S$23:S80)-1,COLUMNS($S$23:S80)-1)<>\"\",OFFSET(DE102_5!$S$23,ROWS($S$23:S80)-1,COLUMNS($S$23:S80)-1),\"\")","v":""},{"$f":"IF(OFFSET(DE102_5!$T$23,ROWS($T$23:T80)-1,COLUMNS($T$23:T80)-1)<>\"\",OFFSET(DE102_5!$T$23,ROWS($T$23:T80)-1,COLUMNS($T$23:T80)-1),\"\")","v":""},{"$f":"IF(OFFSET(DE102_5!$U$23,ROWS($U$23:U80)-1,COLUMNS($U$23:U80)-1)<>\"\",OFFSET(DE102_5!$U$23,ROWS($U$23:U80)-1,COLUMNS($U$23:U80)-1),\"\")","v":""},{"$f":"IF(OFFSET(DE102_5!$V$23,ROWS($V$23:V80)-1,COLUMNS($V$23:V80)-1)<>\"\",OFFSET(DE102_5!$V$23,ROWS($V$23:V80)-1,COLUMNS($V$23:V80)-1),\"\")","v":""},{"$f":"IF(OFFSET(DE102_5!$W$23,ROWS($W$23:W80)-1,COLUMNS($W$23:W80)-1)<>\"\",OFFSET(DE102_5!$W$23,ROWS($W$23:W80)-1,COLUMNS($W$23:W80)-1),\"\")","v":""},{"$f":"IF(OFFSET(DE102_5!$X$23,ROWS($X$23:X80)-1,COLUMNS($X$23:X80)-1)<>\"\",OFFSET(DE102_5!$X$23,ROWS($X$23:X80)-1,COLUMNS($X$23:X80)-1),\"\")","v":""},{"$f":"IF(OFFSET(DE102_5!$Y$23,ROWS($Y$23:Y80)-1,COLUMNS($Y$23:Y80)-1)<>\"\",OFFSET(DE102_5!$Y$23,ROWS($Y$23:Y80)-1,COLUMNS($Y$23:Y80)-1),\"\")","v":""},{"$f":"IF(OFFSET(DE102_5!$Z$23,ROWS($Z$23:Z80)-1,COLUMNS($Z$23:Z80)-1)<>\"\",OFFSET(DE102_5!$Z$23,ROWS($Z$23:Z80)-1,COLUMNS($Z$23:Z80)-1),\"\")","v":""},{"$f":"IF(OFFSET(DE102_5!$AA$23,ROWS($AA$23:AA80)-1,COLUMNS($AA$23:AA80)-1)<>\"\",OFFSET(DE102_5!$AA$23,ROWS($AA$23:AA80)-1,COLUMNS($AA$23:AA80)-1),\"\")","v":"PCC PATCHING"},{"$f":"IF(OFFSET(DE102_5!$AB$23,ROWS($AB$23:AB80)-1,COLUMNS($AB$23:AB80)-1)<>\"\",OFFSET(DE102_5!$AB$23,ROWS($AB$23:AB80)-1,COLUMNS($AB$23:AB80)-1),\"\")","v":""}]
[{"$f":"IF(OFFSET(DE102_5!$C$23,ROWS($C$23:C81)-1,COLUMNS($C$23:C81)-1)<>\"\",OFFSET(DE102_5!$C$23,ROWS($C$23:C81)-1,COLUMNS($C$23:C81)-1),\"\")","v":""},{"$f":"IF(OFFSET(DE102_5!$F$23,ROWS($F$23:F81)-1,COLUMNS($F$23:F81)-1)<>\"\",OFFSET(DE102_5!$F$23,ROWS($F$23:F81)-1,COLUMNS($F$23:F81)-1),\"\")","v":77},{"$f":"IF(OFFSET(DE102_5!$G$23,ROWS($G$23:G81)-1,COLUMNS($G$23:G81)-1)<>\"\",OFFSET(DE102_5!$G$23,ROWS($G$23:G81)-1,COLUMNS($G$23:G81)-1),\"\")","v":"I-35"},{"$f":"IF(OFFSET(DE102_5!$H$23,ROWS($H$23:H81)-1,COLUMNS($H$23:H81)-1)<>\"\",OFFSET(DE102_5!$H$23,ROWS($H$23:H81)-1,COLUMNS($H$23:H81)-1),\"\")","v":2},{"$f":"IF(OFFSET(DE102_5!$I$23,ROWS($I$23:I81)-1,COLUMNS($I$23:I81)-1)<>\"\",OFFSET(DE102_5!$I$23,ROWS($I$23:I81)-1,COLUMNS($I$23:I81)-1),\"\")","v":93.84},{"$f":"IF(OFFSET(DE102_5!$J$23,ROWS($J$23:J81)-1,COLUMNS($J$23:J81)-1)<>\"\",OFFSET(DE102_5!$J$23,ROWS($J$23:J81)-1,COLUMNS($J$23:J81)-1),\"\")","v":95.71},{"$f":"IF(OFFSET(DE102_5!$M$23,ROWS($M$23:M81)-1,COLUMNS($M$23:M81)-1)<>\"\",OFFSET(DE102_5!$M$23,ROWS($M$23:M81)-1,COLUMNS($M$23:M81)-1),\"\")","v":2012},{"$f":"IF(OFFSET(DE102_5!$N$23,ROWS($N$23:N81)-1,COLUMNS($N$23:N81)-1)<>\"\",OFFSET(DE102_5!$N$23,ROWS($N$23:N81)-1,COLUMNS($N$23:N81)-1),\"\")","v":""},{"$f":"IF(OFFSET(DE102_5!$O$23,ROWS($O$23:O81)-1,COLUMNS($O$23:O81)-1)<>\"\",OFFSET(DE102_5!$O$23,ROWS($O$23:O81)-1,COLUMNS($O$23:O81)-1),\"\")","v":"IM-035-4(137)94--13-77"},{"$f":"IF(OFFSET(DE102_5!$P$23,ROWS($P$23:P81)-1,COLUMNS($P$23:P81)-1)<>\"\",OFFSET(DE102_5!$P$23,ROWS($P$23:P81)-1,COLUMNS($P$23:P81)-1),\"\")","v":"PCC"},{"$f":"IF(OFFSET(DE102_5!$Q$23,ROWS($Q$23:Q81)-1,COLUMNS($Q$23:Q81)-1)<>\"\",OFFSET(DE102_5!$Q$23,ROWS($Q$23:Q81)-1,COLUMNS($Q$23:Q81)-1),\"\")","v":11.5},{"$f":"IF(OFFSET(DE102_5!$R$23,ROWS($R$23:R81)-1,COLUMNS($R$23:R81)-1)<>\"\",OFFSET(DE102_5!$R$23,ROWS($R$23:R81)-1,COLUMNS($R$23:R81)-1),\"\")","v":"GSB"},{"$f":"IF(OFFSET(DE102_5!$S$23,ROWS($S$23:S81)-1,COLUMNS($S$23:S81)-1)<>\"\",OFFSET(DE102_5!$S$23,ROWS($S$23:S81)-1,COLUMNS($S$23:S81)-1),\"\")","v":6},{"$f":"IF(OFFSET(DE102_5!$T$23,ROWS($T$23:T81)-1,COLUMNS($T$23:T81)-1)<>\"\",OFFSET(DE102_5!$T$23,ROWS($T$23:T81)-1,COLUMNS($T$23:T81)-1),\"\")","v":""},{"$f":"IF(OFFSET(DE102_5!$U$23,ROWS($U$23:U81)-1,COLUMNS($U$23:U81)-1)<>\"\",OFFSET(DE102_5!$U$23,ROWS($U$23:U81)-1,COLUMNS($U$23:U81)-1),\"\")","v":""},{"$f":"IF(OFFSET(DE102_5!$V$23,ROWS($V$23:V81)-1,COLUMNS($V$23:V81)-1)<>\"\",OFFSET(DE102_5!$V$23,ROWS($V$23:V81)-1,COLUMNS($V$23:V81)-1),\"\")","v":""},{"$f":"IF(OFFSET(DE102_5!$W$23,ROWS($W$23:W81)-1,COLUMNS($W$23:W81)-1)<>\"\",OFFSET(DE102_5!$W$23,ROWS($W$23:W81)-1,COLUMNS($W$23:W81)-1),\"\")","v":""},{"$f":"IF(OFFSET(DE102_5!$X$23,ROWS($X$23:X81)-1,COLUMNS($X$23:X81)-1)<>\"\",OFFSET(DE102_5!$X$23,ROWS($X$23:X81)-1,COLUMNS($X$23:X81)-1),\"\")","v":""},{"$f":"IF(OFFSET(DE102_5!$Y$23,ROWS($Y$23:Y81)-1,COLUMNS($Y$23:Y81)-1)<>\"\",OFFSET(DE102_5!$Y$23,ROWS($Y$23:Y81)-1,COLUMNS($Y$23:Y81)-1),\"\")","v":""},{"$f":"IF(OFFSET(DE102_5!$Z$23,ROWS($Z$23:Z81)-1,COLUMNS($Z$23:Z81)-1)<>\"\",OFFSET(DE102_5!$Z$23,ROWS($Z$23:Z81)-1,COLUMNS($Z$23:Z81)-1),\"\")","v":""},{"$f":"IF(OFFSET(DE102_5!$AA$23,ROWS($AA$23:AA81)-1,COLUMNS($AA$23:AA81)-1)<>\"\",OFFSET(DE102_5!$AA$23,ROWS($AA$23:AA81)-1,COLUMNS($AA$23:AA81)-1),\"\")","v":""},{"$f":"IF(OFFSET(DE102_5!$AB$23,ROWS($AB$23:AB81)-1,COLUMNS($AB$23:AB81)-1)<>\"\",OFFSET(DE102_5!$AB$23,ROWS($AB$23:AB81)-1,COLUMNS($AB$23:AB81)-1),\"\")","v":""}]
[{"$f":"IF(OFFSET(DE102_5!$C$23,ROWS($C$23:C82)-1,COLUMNS($C$23:C82)-1)<>\"\",OFFSET(DE102_5!$C$23,ROWS($C$23:C82)-1,COLUMNS($C$23:C82)-1),\"\")","v":""},{"$f":"IF(OFFSET(DE102_5!$F$23,ROWS($F$23:F82)-1,COLUMNS($F$23:F82)-1)<>\"\",OFFSET(DE102_5!$F$23,ROWS($F$23:F82)-1,COLUMNS($F$23:F82)-1),\"\")","v":""},{"$f":"IF(OFFSET(DE102_5!$G$23,ROWS($G$23:G82)-1,COLUMNS($G$23:G82)-1)<>\"\",OFFSET(DE102_5!$G$23,ROWS($G$23:G82)-1,COLUMNS($G$23:G82)-1),\"\")","v":""},{"$f":"IF(OFFSET(DE102_5!$H$23,ROWS($H$23:H82)-1,COLUMNS($H$23:H82)-1)<>\"\",OFFSET(DE102_5!$H$23,ROWS($H$23:H82)-1,COLUMNS($H$23:H82)-1),\"\")","v":""},{"$f":"IF(OFFSET(DE102_5!$I$23,ROWS($I$23:I82)-1,COLUMNS($I$23:I82)-1)<>\"\",OFFSET(DE102_5!$I$23,ROWS($I$23:I82)-1,COLUMNS($I$23:I82)-1),\"\")","v":""},{"$f":"IF(OFFSET(DE102_5!$J$23,ROWS($J$23:J82)-1,COLUMNS($J$23:J82)-1)<>\"\",OFFSET(DE102_5!$J$23,ROWS($J$23:J82)-1,COLUMNS($J$23:J82)-1),\"\")","v":""},{"$f":"IF(OFFSET(DE102_5!$M$23,ROWS($M$23:M82)-1,COLUMNS($M$23:M82)-1)<>\"\",OFFSET(DE102_5!$M$23,ROWS($M$23:M82)-1,COLUMNS($M$23:M82)-1),\"\")","v":""},{"$f":"IF(OFFSET(DE102_5!$N$23,ROWS($N$23:N82)-1,COLUMNS($N$23:N82)-1)<>\"\",OFFSET(DE102_5!$N$23,ROWS($N$23:N82)-1,COLUMNS($N$23:N82)-1),\"\")","v":""},{"$f":"IF(OFFSET(DE102_5!$O$23,ROWS($O$23:O82)-1,COLUMNS($O$23:O82)-1)<>\"\",OFFSET(DE102_5!$O$23,ROWS($O$23:O82)-1,COLUMNS($O$23:O82)-1),\"\")","v":""},{"$f":"IF(OFFSET(DE102_5!$P$23,ROWS($P$23:P82)-1,COLUMNS($P$23:P82)-1)<>\"\",OFFSET(DE102_5!$P$23,ROWS($P$23:P82)-1,COLUMNS($P$23:P82)-1),\"\")","v":""},{"$f":"IF(OFFSET(DE102_5!$Q$23,ROWS($Q$23:Q82)-1,COLUMNS($Q$23:Q82)-1)<>\"\",OFFSET(DE102_5!$Q$23,ROWS($Q$23:Q82)-1,COLUMNS($Q$23:Q82)-1),\"\")","v":""},{"$f":"IF(OFFSET(DE102_5!$R$23,ROWS($R$23:R82)-1,COLUMNS($R$23:R82)-1)<>\"\",OFFSET(DE102_5!$R$23,ROWS($R$23:R82)-1,COLUMNS($R$23:R82)-1),\"\")","v":""},{"$f":"IF(OFFSET(DE102_5!$S$23,ROWS($S$23:S82)-1,COLUMNS($S$23:S82)-1)<>\"\",OFFSET(DE102_5!$S$23,ROWS($S$23:S82)-1,COLUMNS($S$23:S82)-1),\"\")","v":""},{"$f":"IF(OFFSET(DE102_5!$T$23,ROWS($T$23:T82)-1,COLUMNS($T$23:T82)-1)<>\"\",OFFSET(DE102_5!$T$23,ROWS($T$23:T82)-1,COLUMNS($T$23:T82)-1),\"\")","v":""},{"$f":"IF(OFFSET(DE102_5!$U$23,ROWS($U$23:U82)-1,COLUMNS($U$23:U82)-1)<>\"\",OFFSET(DE102_5!$U$23,ROWS($U$23:U82)-1,COLUMNS($U$23:U82)-1),\"\")","v":""},{"$f":"IF(OFFSET(DE102_5!$V$23,ROWS($V$23:V82)-1,COLUMNS($V$23:V82)-1)<>\"\",OFFSET(DE102_5!$V$23,ROWS($V$23:V82)-1,COLUMNS($V$23:V82)-1),\"\")","v":""},{"$f":"IF(OFFSET(DE102_5!$W$23,ROWS($W$23:W82)-1,COLUMNS($W$23:W82)-1)<>\"\",OFFSET(DE102_5!$W$23,ROWS($W$23:W82)-1,COLUMNS($W$23:W82)-1),\"\")","v":""},{"$f":"IF(OFFSET(DE102_5!$X$23,ROWS($X$23:X82)-1,COLUMNS($X$23:X82)-1)<>\"\",OFFSET(DE102_5!$X$23,ROWS($X$23:X82)-1,COLUMNS($X$23:X82)-1),\"\")","v":""},{"$f":"IF(OFFSET(DE102_5!$Y$23,ROWS($Y$23:Y82)-1,COLUMNS($Y$23:Y82)-1)<>\"\",OFFSET(DE102_5!$Y$23,ROWS($Y$23:Y82)-1,COLUMNS($Y$23:Y82)-1),\"\")","v":""},{"$f":"IF(OFFSET(DE102_5!$Z$23,ROWS($Z$23:Z82)-1,COLUMNS($Z$23:Z82)-1)<>\"\",OFFSET(DE102_5!$Z$23,ROWS($Z$23:Z82)-1,COLUMNS($Z$23:Z82)-1),\"\")","v":""},{"$f":"IF(OFFSET(DE102_5!$AA$23,ROWS($AA$23:AA82)-1,COLUMNS($AA$23:AA82)-1)<>\"\",OFFSET(DE102_5!$AA$23,ROWS($AA$23:AA82)-1,COLUMNS($AA$23:AA82)-1),\"\")","v":""},{"$f":"IF(OFFSET(DE102_5!$AB$23,ROWS($AB$23:AB82)-1,COLUMNS($AB$23:AB82)-1)<>\"\",OFFSET(DE102_5!$AB$23,ROWS($AB$23:AB82)-1,COLUMNS($AB$23:AB82)-1),\"\")","v":""}]
[{"$f":"IF(OFFSET(DE102_5!$C$23,ROWS($C$23:C83)-1,COLUMNS($C$23:C83)-1)<>\"\",OFFSET(DE102_5!$C$23,ROWS($C$23:C83)-1,COLUMNS($C$23:C83)-1),\"\")","v":""},{"$f":"IF(OFFSET(DE102_5!$F$23,ROWS($F$23:F83)-1,COLUMNS($F$23:F83)-1)<>\"\",OFFSET(DE102_5!$F$23,ROWS($F$23:F83)-1,COLUMNS($F$23:F83)-1),\"\")","v":77},{"$f":"IF(OFFSET(DE102_5!$G$23,ROWS($G$23:G83)-1,COLUMNS($G$23:G83)-1)<>\"\",OFFSET(DE102_5!$G$23,ROWS($G$23:G83)-1,COLUMNS($G$23:G83)-1),\"\")","v":"I-35"},{"$f":"IF(OFFSET(DE102_5!$H$23,ROWS($H$23:H83)-1,COLUMNS($H$23:H83)-1)<>\"\",OFFSET(DE102_5!$H$23,ROWS($H$23:H83)-1,COLUMNS($H$23:H83)-1),\"\")","v":2},{"$f":"IF(OFFSET(DE102_5!$I$23,ROWS($I$23:I83)-1,COLUMNS($I$23:I83)-1)<>\"\",OFFSET(DE102_5!$I$23,ROWS($I$23:I83)-1,COLUMNS($I$23:I83)-1),\"\")","v":95.71},{"$f":"IF(OFFSET(DE102_5!$J$23,ROWS($J$23:J83)-1,COLUMNS($J$23:J83)-1)<>\"\",OFFSET(DE102_5!$J$23,ROWS($J$23:J83)-1,COLUMNS($J$23:J83)-1),\"\")","v":98.7},{"$f":"IF(OFFSET(DE102_5!$M$23,ROWS($M$23:M83)-1,COLUMNS($M$23:M83)-1)<>\"\",OFFSET(DE102_5!$M$23,ROWS($M$23:M83)-1,COLUMNS($M$23:M83)-1),\"\")","v":2018},{"$f":"IF(OFFSET(DE102_5!$N$23,ROWS($N$23:N83)-1,COLUMNS($N$23:N83)-1)<>\"\",OFFSET(DE102_5!$N$23,ROWS($N$23:N83)-1,COLUMNS($N$23:N83)-1),\"\")","v":"M"},{"$f":"IF(OFFSET(DE102_5!$O$23,ROWS($O$23:O83)-1,COLUMNS($O$23:O83)-1)<>\"\",OFFSET(DE102_5!$O$23,ROWS($O$23:O83)-1,COLUMNS($O$23:O83)-1),\"\")","v":"IMN-035-4(201)87--0E-77"},{"$f":"IF(OFFSET(DE102_5!$P$23,ROWS($P$23:P83)-1,COLUMNS($P$23:P83)-1)<>\"\",OFFSET(DE102_5!$P$23,ROWS($P$23:P83)-1,COLUMNS($P$23:P83)-1),\"\")","v":"PCC"},{"$f":"IF(OFFSET(DE102_5!$Q$23,ROWS($Q$23:Q83)-1,COLUMNS($Q$23:Q83)-1)<>\"\",OFFSET(DE102_5!$Q$23,ROWS($Q$23:Q83)-1,COLUMNS($Q$23:Q83)-1),\"\")","v":""},{"$f":"IF(OFFSET(DE102_5!$R$23,ROWS($R$23:R83)-1,COLUMNS($R$23:R83)-1)<>\"\",OFFSET(DE102_5!$R$23,ROWS($R$23:R83)-1,COLUMNS($R$23:R83)-1),\"\")","v":""},{"$f":"IF(OFFSET(DE102_5!$S$23,ROWS($S$23:S83)-1,COLUMNS($S$23:S83)-1)<>\"\",OFFSET(DE102_5!$S$23,ROWS($S$23:S83)-1,COLUMNS($S$23:S83)-1),\"\")","v":""},{"$f":"IF(OFFSET(DE102_5!$T$23,ROWS($T$23:T83)-1,COLUMNS($T$23:T83)-1)<>\"\",OFFSET(DE102_5!$T$23,ROWS($T$23:T83)-1,COLUMNS($T$23:T83)-1),\"\")","v":""},{"$f":"IF(OFFSET(DE102_5!$U$23,ROWS($U$23:U83)-1,COLUMNS($U$23:U83)-1)<>\"\",OFFSET(DE102_5!$U$23,ROWS($U$23:U83)-1,COLUMNS($U$23:U83)-1),\"\")","v":""},{"$f":"IF(OFFSET(DE102_5!$V$23,ROWS($V$23:V83)-1,COLUMNS($V$23:V83)-1)<>\"\",OFFSET(DE102_5!$V$23,ROWS($V$23:V83)-1,COLUMNS($V$23:V83)-1),\"\")","v":""},{"$f":"IF(OFFSET(DE102_5!$W$23,ROWS($W$23:W83)-1,COLUMNS($W$23:W83)-1)<>\"\",OFFSET(DE102_5!$W$23,ROWS($W$23:W83)-1,COLUMNS($W$23:W83)-1),\"\")","v":""},{"$f":"IF(OFFSET(DE102_5!$X$23,ROWS($X$23:X83)-1,COLUMNS($X$23:X83)-1)<>\"\",OFFSET(DE102_5!$X$23,ROWS($X$23:X83)-1,COLUMNS($X$23:X83)-1),\"\")","v":""},{"$f":"IF(OFFSET(DE102_5!$Y$23,ROWS($Y$23:Y83)-1,COLUMNS($Y$23:Y83)-1)<>\"\",OFFSET(DE102_5!$Y$23,ROWS($Y$23:Y83)-1,COLUMNS($Y$23:Y83)-1),\"\")","v":""},{"$f":"IF(OFFSET(DE102_5!$Z$23,ROWS($Z$23:Z83)-1,COLUMNS($Z$23:Z83)-1)<>\"\",OFFSET(DE102_5!$Z$23,ROWS($Z$23:Z83)-1,COLUMNS($Z$23:Z83)-1),\"\")","v":""},{"$f":"IF(OFFSET(DE102_5!$AA$23,ROWS($AA$23:AA83)-1,COLUMNS($AA$23:AA83)-1)<>\"\",OFFSET(DE102_5!$AA$23,ROWS($AA$23:AA83)-1,COLUMNS($AA$23:AA83)-1),\"\")","v":"PCC PATCHING"},{"$f":"IF(OFFSET(DE102_5!$AB$23,ROWS($AB$23:AB83)-1,COLUMNS($AB$23:AB83)-1)<>\"\",OFFSET(DE102_5!$AB$23,ROWS($AB$23:AB83)-1,COLUMNS($AB$23:AB83)-1),\"\")","v":""}]
[{"$f":"IF(OFFSET(DE102_5!$C$23,ROWS($C$23:C84)-1,COLUMNS($C$23:C84)-1)<>\"\",OFFSET(DE102_5!$C$23,ROWS($C$23:C84)-1,COLUMNS($C$23:C84)-1),\"\")","v":""},{"$f":"IF(OFFSET(DE102_5!$F$23,ROWS($F$23:F84)-1,COLUMNS($F$23:F84)-1)<>\"\",OFFSET(DE102_5!$F$23,ROWS($F$23:F84)-1,COLUMNS($F$23:F84)-1),\"\")","v":77},{"$f":"IF(OFFSET(DE102_5!$G$23,ROWS($G$23:G84)-1,COLUMNS($G$23:G84)-1)<>\"\",OFFSET(DE102_5!$G$23,ROWS($G$23:G84)-1,COLUMNS($G$23:G84)-1),\"\")","v":"I-35"},{"$f":"IF(OFFSET(DE102_5!$H$23,ROWS($H$23:H84)-1,COLUMNS($H$23:H84)-1)<>\"\",OFFSET(DE102_5!$H$23,ROWS($H$23:H84)-1,COLUMNS($H$23:H84)-1),\"\")","v":2},{"$f":"IF(OFFSET(DE102_5!$I$23,ROWS($I$23:I84)-1,COLUMNS($I$23:I84)-1)<>\"\",OFFSET(DE102_5!$I$23,ROWS($I$23:I84)-1,COLUMNS($I$23:I84)-1),\"\")","v":95.71},{"$f":"IF(OFFSET(DE102_5!$J$23,ROWS($J$23:J84)-1,COLUMNS($J$23:J84)-1)<>\"\",OFFSET(DE102_5!$J$23,ROWS($J$23:J84)-1,COLUMNS($J$23:J84)-1),\"\")","v":98.7},{"$f":"IF(OFFSET(DE102_5!$M$23,ROWS($M$23:M84)-1,COLUMNS($M$23:M84)-1)<>\"\",OFFSET(DE102_5!$M$23,ROWS($M$23:M84)-1,COLUMNS($M$23:M84)-1),\"\")","v":2017},{"$f":"IF(OFFSET(DE102_5!$N$23,ROWS($N$23:N84)-1,COLUMNS($N$23:N84)-1)<>\"\",OFFSET(DE102_5!$N$23,ROWS($N$23:N84)-1,COLUMNS($N$23:N84)-1),\"\")","v":"S"},{"$f":"IF(OFFSET(DE102_5!$O$23,ROWS($O$23:O84)-1,COLUMNS($O$23:O84)-1)<>\"\",OFFSET(DE102_5!$O$23,ROWS($O$23:O84)-1,COLUMNS($O$23:O84)-1),\"\")","v":"IMN-035-4(190)98--0E-77"},{"$f":"IF(OFFSET(DE102_5!$P$23,ROWS($P$23:P84)-1,COLUMNS($P$23:P84)-1)<>\"\",OFFSET(DE102_5!$P$23,ROWS($P$23:P84)-1,COLUMNS($P$23:P84)-1),\"\")","v":"HMA"},{"$f":"IF(OFFSET(DE102_5!$Q$23,ROWS($Q$23:Q84)-1,COLUMNS($Q$23:Q84)-1)<>\"\",OFFSET(DE102_5!$Q$23,ROWS($Q$23:Q84)-1,COLUMNS($Q$23:Q84)-1),\"\")","v":1.5},{"$f":"IF(OFFSET(DE102_5!$R$23,ROWS($R$23:R84)-1,COLUMNS($R$23:R84)-1)<>\"\",OFFSET(DE102_5!$R$23,ROWS($R$23:R84)-1,COLUMNS($R$23:R84)-1),\"\")","v":"HMA"},{"$f":"IF(OFFSET(DE102_5!$S$23,ROWS($S$23:S84)-1,COLUMNS($S$23:S84)-1)<>\"\",OFFSET(DE102_5!$S$23,ROWS($S$23:S84)-1,COLUMNS($S$23:S84)-1),\"\")","v":1.5},{"$f":"IF(OFFSET(DE102_5!$T$23,ROWS($T$23:T84)-1,COLUMNS($T$23:T84)-1)<>\"\",OFFSET(DE102_5!$T$23,ROWS($T$23:T84)-1,COLUMNS($T$23:T84)-1),\"\")","v":""},{"$f":"IF(OFFSET(DE102_5!$U$23,ROWS($U$23:U84)-1,COLUMNS($U$23:U84)-1)<>\"\",OFFSET(DE102_5!$U$23,ROWS($U$23:U84)-1,COLUMNS($U$23:U84)-1),\"\")","v":""},{"$f":"IF(OFFSET(DE102_5!$V$23,ROWS($V$23:V84)-1,COLUMNS($V$23:V84)-1)<>\"\",OFFSET(DE102_5!$V$23,ROWS($V$23:V84)-1,COLUMNS($V$23:V84)-1),\"\")","v":"SCR"},{"$f":"IF(OFFSET(DE102_5!$W$23,ROWS($W$23:W84)-1,COLUMNS($W$23:W84)-1)<>\"\",OFFSET(DE102_5!$W$23,ROWS($W$23:W84)-1,COLUMNS($W$23:W84)-1),\"\")","v":3},{"$f":"IF(OFFSET(DE102_5!$X$23,ROWS($X$23:X84)-1,COLUMNS($X$23:X84)-1)<>\"\",OFFSET(DE102_5!$X$23,ROWS($X$23:X84)-1,COLUMNS($X$23:X84)-1),\"\")","v":""},{"$f":"IF(OFFSET(DE102_5!$Y$23,ROWS($Y$23:Y84)-1,COLUMNS($Y$23:Y84)-1)<>\"\",OFFSET(DE102_5!$Y$23,ROWS($Y$23:Y84)-1,COLUMNS($Y$23:Y84)-1),\"\")","v":""},{"$f":"IF(OFFSET(DE102_5!$Z$23,ROWS($Z$23:Z84)-1,COLUMNS($Z$23:Z84)-1)<>\"\",OFFSET(DE102_5!$Z$23,ROWS($Z$23:Z84)-1,COLUMNS($Z$23:Z84)-1),\"\")","v":""},{"$f":"IF(OFFSET(DE102_5!$AA$23,ROWS($AA$23:AA84)-1,COLUMNS($AA$23:AA84)-1)<>\"\",OFFSET(DE102_5!$AA$23,ROWS($AA$23:AA84)-1,COLUMNS($AA$23:AA84)-1),\"\")","v":""},{"$f":"IF(OFFSET(DE102_5!$AB$23,ROWS($AB$23:AB84)-1,COLUMNS($AB$23:AB84)-1)<>\"\",OFFSET(DE102_5!$AB$23,ROWS($AB$23:AB84)-1,COLUMNS($AB$23:AB84)-1),\"\")","v":""}]
[{"$f":"IF(OFFSET(DE102_5!$C$23,ROWS($C$23:C85)-1,COLUMNS($C$23:C85)-1)<>\"\",OFFSET(DE102_5!$C$23,ROWS($C$23:C85)-1,COLUMNS($C$23:C85)-1),\"\")","v":""},{"$f":"IF(OFFSET(DE102_5!$F$23,ROWS($F$23:F85)-1,COLUMNS($F$23:F85)-1)<>\"\",OFFSET(DE102_5!$F$23,ROWS($F$23:F85)-1,COLUMNS($F$23:F85)-1),\"\")","v":77},{"$f":"IF(OFFSET(DE102_5!$G$23,ROWS($G$23:G85)-1,COLUMNS($G$23:G85)-1)<>\"\",OFFSET(DE102_5!$G$23,ROWS($G$23:G85)-1,COLUMNS($G$23:G85)-1),\"\")","v":"I-35"},{"$f":"IF(OFFSET(DE102_5!$H$23,ROWS($H$23:H85)-1,COLUMNS($H$23:H85)-1)<>\"\",OFFSET(DE102_5!$H$23,ROWS($H$23:H85)-1,COLUMNS($H$23:H85)-1),\"\")","v":2},{"$f":"IF(OFFSET(DE102_5!$I$23,ROWS($I$23:I85)-1,COLUMNS($I$23:I85)-1)<>\"\",OFFSET(DE102_5!$I$23,ROWS($I$23:I85)-1,COLUMNS($I$23:I85)-1),\"\")","v":95.71},{"$f":"IF(OFFSET(DE102_5!$J$23,ROWS($J$23:J85)-1,COLUMNS($J$23:J85)-1)<>\"\",OFFSET(DE102_5!$J$23,ROWS($J$23:J85)-1,COLUMNS($J$23:J85)-1),\"\")","v":98.7},{"$f":"IF(OFFSET(DE102_5!$M$23,ROWS($M$23:M85)-1,COLUMNS($M$23:M85)-1)<>\"\",OFFSET(DE102_5!$M$23,ROWS($M$23:M85)-1,COLUMNS($M$23:M85)-1),\"\")","v":2017},{"$f":"IF(OFFSET(DE102_5!$N$23,ROWS($N$23:N85)-1,COLUMNS($N$23:N85)-1)<>\"\",OFFSET(DE102_5!$N$23,ROWS($N$23:N85)-1,COLUMNS($N$23:N85)-1),\"\")","v":"M"},{"$f":"IF(OFFSET(DE102_5!$O$23,ROWS($O$23:O85)-1,COLUMNS($O$23:O85)-1)<>\"\",OFFSET(DE102_5!$O$23,ROWS($O$23:O85)-1,COLUMNS($O$23:O85)-1),\"\")","v":"IMN-035-4(179)87--0E-77"},{"$f":"IF(OFFSET(DE102_5!$P$23,ROWS($P$23:P85)-1,COLUMNS($P$23:P85)-1)<>\"\",OFFSET(DE102_5!$P$23,ROWS($P$23:P85)-1,COLUMNS($P$23:P85)-1),\"\")","v":"PCC"},{"$f":"IF(OFFSET(DE102_5!$Q$23,ROWS($Q$23:Q85)-1,COLUMNS($Q$23:Q85)-1)<>\"\",OFFSET(DE102_5!$Q$23,ROWS($Q$23:Q85)-1,COLUMNS($Q$23:Q85)-1),\"\")","v":12},{"$f":"IF(OFFSET(DE102_5!$R$23,ROWS($R$23:R85)-1,COLUMNS($R$23:R85)-1)<>\"\",OFFSET(DE102_5!$R$23,ROWS($R$23:R85)-1,COLUMNS($R$23:R85)-1),\"\")","v":""},{"$f":"IF(OFFSET(DE102_5!$S$23,ROWS($S$23:S85)-1,COLUMNS($S$23:S85)-1)<>\"\",OFFSET(DE102_5!$S$23,ROWS($S$23:S85)-1,COLUMNS($S$23:S85)-1),\"\")","v":""},{"$f":"IF(OFFSET(DE102_5!$T$23,ROWS($T$23:T85)-1,COLUMNS($T$23:T85)-1)<>\"\",OFFSET(DE102_5!$T$23,ROWS($T$23:T85)-1,COLUMNS($T$23:T85)-1),\"\")","v":""},{"$f":"IF(OFFSET(DE102_5!$U$23,ROWS($U$23:U85)-1,COLUMNS($U$23:U85)-1)<>\"\",OFFSET(DE102_5!$U$23,ROWS($U$23:U85)-1,COLUMNS($U$23:U85)-1),\"\")","v":""},{"$f":"IF(OFFSET(DE102_5!$V$23,ROWS($V$23:V85)-1,COLUMNS($V$23:V85)-1)<>\"\",OFFSET(DE102_5!$V$23,ROWS($V$23:V85)-1,COLUMNS($V$23:V85)-1),\"\")","v":""},{"$f":"IF(OFFSET(DE102_5!$W$23,ROWS($W$23:W85)-1,COLUMNS($W$23:W85)-1)<>\"\",OFFSET(DE102_5!$W$23,ROWS($W$23:W85)-1,COLUMNS($W$23:W85)-1),\"\")","v":""},{"$f":"IF(OFFSET(DE102_5!$X$23,ROWS($X$23:X85)-1,COLUMNS($X$23:X85)-1)<>\"\",OFFSET(DE102_5!$X$23,ROWS($X$23:X85)-1,COLUMNS($X$23:X85)-1),\"\")","v":""},{"$f":"IF(OFFSET(DE102_5!$Y$23,ROWS($Y$23:Y85)-1,COLUMNS($Y$23:Y85)-1)<>\"\",OFFSET(DE102_5!$Y$23,ROWS($Y$23:Y85)-1,COLUMNS($Y$23:Y85)-1),\"\")","v":""},{"$f":"IF(OFFSET(DE102_5!$Z$23,ROWS($Z$23:Z85)-1,COLUMNS($Z$23:Z85)-1)<>\"\",OFFSET(DE102_5!$Z$23,ROWS($Z$23:Z85)-1,COLUMNS($Z$23:Z85)-1),\"\")","v":""},{"$f":"IF(OFFSET(DE102_5!$AA$23,ROWS($AA$23:AA85)-1,COLUMNS($AA$23:AA85)-1)<>\"\",OFFSET(DE102_5!$AA$23,ROWS($AA$23:AA85)-1,COLUMNS($AA$23:AA85)-1),\"\")","v":"PCC PATCHING"},{"$f":"IF(OFFSET(DE102_5!$AB$23,ROWS($AB$23:AB85)-1,COLUMNS($AB$23:AB85)-1)<>\"\",OFFSET(DE102_5!$AB$23,ROWS($AB$23:AB85)-1,COLUMNS($AB$23:AB85)-1),\"\")","v":""}]
[{"$f":"IF(OFFSET(DE102_5!$C$23,ROWS($C$23:C86)-1,COLUMNS($C$23:C86)-1)<>\"\",OFFSET(DE102_5!$C$23,ROWS($C$23:C86)-1,COLUMNS($C$23:C86)-1),\"\")","v":""},{"$f":"IF(OFFSET(DE102_5!$F$23,ROWS($F$23:F86)-1,COLUMNS($F$23:F86)-1)<>\"\",OFFSET(DE102_5!$F$23,ROWS($F$23:F86)-1,COLUMNS($F$23:F86)-1),\"\")","v":77},{"$f":"IF(OFFSET(DE102_5!$G$23,ROWS($G$23:G86)-1,COLUMNS($G$23:G86)-1)<>\"\",OFFSET(DE102_5!$G$23,ROWS($G$23:G86)-1,COLUMNS($G$23:G86)-1),\"\")","v":"I-35"},{"$f":"IF(OFFSET(DE102_5!$H$23,ROWS($H$23:H86)-1,COLUMNS($H$23:H86)-1)<>\"\",OFFSET(DE102_5!$H$23,ROWS($H$23:H86)-1,COLUMNS($H$23:H86)-1),\"\")","v":2},{"$f":"IF(OFFSET(DE102_5!$I$23,ROWS($I$23:I86)-1,COLUMNS($I$23:I86)-1)<>\"\",OFFSET(DE102_5!$I$23,ROWS($I$23:I86)-1,COLUMNS($I$23:I86)-1),\"\")","v":95.71},{"$f":"IF(OFFSET(DE102_5!$J$23,ROWS($J$23:J86)-1,COLUMNS($J$23:J86)-1)<>\"\",OFFSET(DE102_5!$J$23,ROWS($J$23:J86)-1,COLUMNS($J$23:J86)-1),\"\")","v":98.7},{"$f":"IF(OFFSET(DE102_5!$M$23,ROWS($M$23:M86)-1,COLUMNS($M$23:M86)-1)<>\"\",OFFSET(DE102_5!$M$23,ROWS($M$23:M86)-1,COLUMNS($M$23:M86)-1),\"\")","v":2017},{"$f":"IF(OFFSET(DE102_5!$N$23,ROWS($N$23:N86)-1,COLUMNS($N$23:N86)-1)<>\"\",OFFSET(DE102_5!$N$23,ROWS($N$23:N86)-1,COLUMNS($N$23:N86)-1),\"\")","v":"S"},{"$f":"IF(OFFSET(DE102_5!$O$23,ROWS($O$23:O86)-1,COLUMNS($O$23:O86)-1)<>\"\",OFFSET(DE102_5!$O$23,ROWS($O$23:O86)-1,COLUMNS($O$23:O86)-1),\"\")","v":"IMN-035-4(190)98--03-77"},{"$f":"IF(OFFSET(DE102_5!$P$23,ROWS($P$23:P86)-1,COLUMNS($P$23:P86)-1)<>\"\",OFFSET(DE102_5!$P$23,ROWS($P$23:P86)-1,COLUMNS($P$23:P86)-1),\"\")","v":"HMA"},{"$f":"IF(OFFSET(DE102_5!$Q$23,ROWS($Q$23:Q86)-1,COLUMNS($Q$23:Q86)-1)<>\"\",OFFSET(DE102_5!$Q$23,ROWS($Q$23:Q86)-1,COLUMNS($Q$23:Q86)-1),\"\")","v":1.5},{"$f":"IF(OFFSET(DE102_5!$R$23,ROWS($R$23:R86)-1,COLUMNS($R$23:R86)-1)<>\"\",OFFSET(DE102_5!$R$23,ROWS($R$23:R86)-1,COLUMNS($R$23:R86)-1),\"\")","v":"HMA"},{"$f":"IF(OFFSET(DE102_5!$S$23,ROWS($S$23:S86)-1,COLUMNS($S$23:S86)-1)<>\"\",OFFSET(DE102_5!$S$23,ROWS($S$23:S86)-1,COLUMNS($S$23:S86)-1),\"\")","v":1.5},{"$f":"IF(OFFSET(DE102_5!$T$23,ROWS($T$23:T86)-1,COLUMNS($T$23:T86)-1)<>\"\",OFFSET(DE102_5!$T$23,ROWS($T$23:T86)-1,COLUMNS($T$23:T86)-1),\"\")","v":""},{"$f":"IF(OFFSET(DE102_5!$U$23,ROWS($U$23:U86)-1,COLUMNS($U$23:U86)-1)<>\"\",OFFSET(DE102_5!$U$23,ROWS($U$23:U86)-1,COLUMNS($U$23:U86)-1),\"\")","v":""},{"$f":"IF(OFFSET(DE102_5!$V$23,ROWS($V$23:V86)-1,COLUMNS($V$23:V86)-1)<>\"\",OFFSET(DE102_5!$V$23,ROWS($V$23:V86)-1,COLUMNS($V$23:V86)-1),\"\")","v":"SCR"},{"$f":"IF(OFFSET(DE102_5!$W$23,ROWS($W$23:W86)-1,COLUMNS($W$23:W86)-1)<>\"\",OFFSET(DE102_5!$W$23,ROWS($W$23:W86)-1,COLUMNS($W$23:W86)-1),\"\")","v":3},{"$f":"IF(OFFSET(DE102_5!$X$23,ROWS($X$23:X86)-1,COLUMNS($X$23:X86)-1)<>\"\",OFFSET(DE102_5!$X$23,ROWS($X$23:X86)-1,COLUMNS($X$23:X86)-1),\"\")","v":""},{"$f":"IF(OFFSET(DE102_5!$Y$23,ROWS($Y$23:Y86)-1,COLUMNS($Y$23:Y86)-1)<>\"\",OFFSET(DE102_5!$Y$23,ROWS($Y$23:Y86)-1,COLUMNS($Y$23:Y86)-1),\"\")","v":""},{"$f":"IF(OFFSET(DE102_5!$Z$23,ROWS($Z$23:Z86)-1,COLUMNS($Z$23:Z86)-1)<>\"\",OFFSET(DE102_5!$Z$23,ROWS($Z$23:Z86)-1,COLUMNS($Z$23:Z86)-1),\"\")","v":""},{"$f":"IF(OFFSET(DE102_5!$AA$23,ROWS($AA$23:AA86)-1,COLUMNS($AA$23:AA86)-1)<>\"\",OFFSET(DE102_5!$AA$23,ROWS($AA$23:AA86)-1,COLUMNS($AA$23:AA86)-1),\"\")","v":""},{"$f":"IF(OFFSET(DE102_5!$AB$23,ROWS($AB$23:AB86)-1,COLUMNS($AB$23:AB86)-1)<>\"\",OFFSET(DE102_5!$AB$23,ROWS($AB$23:AB86)-1,COLUMNS($AB$23:AB86)-1),\"\")","v":""}]
[{"$f":"IF(OFFSET(DE102_5!$C$23,ROWS($C$23:C87)-1,COLUMNS($C$23:C87)-1)<>\"\",OFFSET(DE102_5!$C$23,ROWS($C$23:C87)-1,COLUMNS($C$23:C87)-1),\"\")","v":""},{"$f":"IF(OFFSET(DE102_5!$F$23,ROWS($F$23:F87)-1,COLUMNS($F$23:F87)-1)<>\"\",OFFSET(DE102_5!$F$23,ROWS($F$23:F87)-1,COLUMNS($F$23:F87)-1),\"\")","v":77},{"$f":"IF(OFFSET(DE102_5!$G$23,ROWS($G$23:G87)-1,COLUMNS($G$23:G87)-1)<>\"\",OFFSET(DE102_5!$G$23,ROWS($G$23:G87)-1,COLUMNS($G$23:G87)-1),\"\")","v":"I-35"},{"$f":"IF(OFFSET(DE102_5!$H$23,ROWS($H$23:H87)-1,COLUMNS($H$23:H87)-1)<>\"\",OFFSET(DE102_5!$H$23,ROWS($H$23:H87)-1,COLUMNS($H$23:H87)-1),\"\")","v":2},{"$f":"IF(OFFSET(DE102_5!$I$23,ROWS($I$23:I87)-1,COLUMNS($I$23:I87)-1)<>\"\",OFFSET(DE102_5!$I$23,ROWS($I$23:I87)-1,COLUMNS($I$23:I87)-1),\"\")","v":95.71},{"$f":"IF(OFFSET(DE102_5!$J$23,ROWS($J$23:J87)-1,COLUMNS($J$23:J87)-1)<>\"\",OFFSET(DE102_5!$J$23,ROWS($J$23:J87)-1,COLUMNS($J$23:J87)-1),\"\")","v":98.7},{"$f":"IF(OFFSET(DE102_5!$M$23,ROWS($M$23:M87)-1,COLUMNS($M$23:M87)-1)<>\"\",OFFSET(DE102_5!$M$23,ROWS($M$23:M87)-1,COLUMNS($M$23:M87)-1),\"\")","v":2008},{"$f":"IF(OFFSET(DE102_5!$N$23,ROWS($N$23:N87)-1,COLUMNS($N$23:N87)-1)<>\"\",OFFSET(DE102_5!$N$23,ROWS($N$23:N87)-1,COLUMNS($N$23:N87)-1),\"\")","v":"W"},{"$f":"IF(OFFSET(DE102_5!$O$23,ROWS($O$23:O87)-1,COLUMNS($O$23:O87)-1)<>\"\",OFFSET(DE102_5!$O$23,ROWS($O$23:O87)-1,COLUMNS($O$23:O87)-1),\"\")","v":"IM-35-4(131)92--13-77"},{"$f":"IF(OFFSET(DE102_5!$P$23,ROWS($P$23:P87)-1,COLUMNS($P$23:P87)-1)<>\"\",OFFSET(DE102_5!$P$23,ROWS($P$23:P87)-1,COLUMNS($P$23:P87)-1),\"\")","v":"HMA"},{"$f":"IF(OFFSET(DE102_5!$Q$23,ROWS($Q$23:Q87)-1,COLUMNS($Q$23:Q87)-1)<>\"\",OFFSET(DE102_5!$Q$23,ROWS($Q$23:Q87)-1,COLUMNS($Q$23:Q87)-1),\"\")","v":2},{"$f":"IF(OFFSET(DE102_5!$R$23,ROWS($R$23:R87)-1,COLUMNS($R$23:R87)-1)<>\"\",OFFSET(DE102_5!$R$23,ROWS($R$23:R87)-1,COLUMNS($R$23:R87)-1),\"\")","v":"HMA"},{"$f":"IF(OFFSET(DE102_5!$S$23,ROWS($S$23:S87)-1,COLUMNS($S$23:S87)-1)<>\"\",OFFSET(DE102_5!$S$23,ROWS($S$23:S87)-1,COLUMNS($S$23:S87)-1),\"\")","v":2},{"$f":"IF(OFFSET(DE102_5!$T$23,ROWS($T$23:T87)-1,COLUMNS($T$23:T87)-1)<>\"\",OFFSET(DE102_5!$T$23,ROWS($T$23:T87)-1,COLUMNS($T$23:T87)-1),\"\")","v":""},{"$f":"IF(OFFSET(DE102_5!$U$23,ROWS($U$23:U87)-1,COLUMNS($U$23:U87)-1)<>\"\",OFFSET(DE102_5!$U$23,ROWS($U$23:U87)-1,COLUMNS($U$23:U87)-1),\"\")","v":""},{"$f":"IF(OFFSET(DE102_5!$V$23,ROWS($V$23:V87)-1,COLUMNS($V$23:V87)-1)<>\"\",OFFSET(DE102_5!$V$23,ROWS($V$23:V87)-1,COLUMNS($V$23:V87)-1),\"\")","v":""},{"$f":"IF(OFFSET(DE102_5!$W$23,ROWS($W$23:W87)-1,COLUMNS($W$23:W87)-1)<>\"\",OFFSET(DE102_5!$W$23,ROWS($W$23:W87)-1,COLUMNS($W$23:W87)-1),\"\")","v":""},{"$f":"IF(OFFSET(DE102_5!$X$23,ROWS($X$23:X87)-1,COLUMNS($X$23:X87)-1)<>\"\",OFFSET(DE102_5!$X$23,ROWS($X$23:X87)-1,COLUMNS($X$23:X87)-1),\"\")","v":""},{"$f":"IF(OFFSET(DE102_5!$Y$23,ROWS($Y$23:Y87)-1,COLUMNS($Y$23:Y87)-1)<>\"\",OFFSET(DE102_5!$Y$23,ROWS($Y$23:Y87)-1,COLUMNS($Y$23:Y87)-1),\"\")","v":""},{"$f":"IF(OFFSET(DE102_5!$Z$23,ROWS($Z$23:Z87)-1,COLUMNS($Z$23:Z87)-1)<>\"\",OFFSET(DE102_5!$Z$23,ROWS($Z$23:Z87)-1,COLUMNS($Z$23:Z87)-1),\"\")","v":""},{"$f":"IF(OFFSET(DE102_5!$AA$23,ROWS($AA$23:AA87)-1,COLUMNS($AA$23:AA87)-1)<>\"\",OFFSET(DE102_5!$AA$23,ROWS($AA$23:AA87)-1,COLUMNS($AA$23:AA87)-1),\"\")","v":""},{"$f":"IF(OFFSET(DE102_5!$AB$23,ROWS($AB$23:AB87)-1,COLUMNS($AB$23:AB87)-1)<>\"\",OFFSET(DE102_5!$AB$23,ROWS($AB$23:AB87)-1,COLUMNS($AB$23:AB87)-1),\"\")","v":""}]
[{"$f":"IF(OFFSET(DE102_5!$C$23,ROWS($C$23:C88)-1,COLUMNS($C$23:C88)-1)<>\"\",OFFSET(DE102_5!$C$23,ROWS($C$23:C88)-1,COLUMNS($C$23:C88)-1),\"\")","v":""},{"$f":"IF(OFFSET(DE102_5!$F$23,ROWS($F$23:F88)-1,COLUMNS($F$23:F88)-1)<>\"\",OFFSET(DE102_5!$F$23,ROWS($F$23:F88)-1,COLUMNS($F$23:F88)-1),\"\")","v":77},{"$f":"IF(OFFSET(DE102_5!$G$23,ROWS($G$23:G88)-1,COLUMNS($G$23:G88)-1)<>\"\",OFFSET(DE102_5!$G$23,ROWS($G$23:G88)-1,COLUMNS($G$23:G88)-1),\"\")","v":"I-35"},{"$f":"IF(OFFSET(DE102_5!$H$23,ROWS($H$23:H88)-1,COLUMNS($H$23:H88)-1)<>\"\",OFFSET(DE102_5!$H$23,ROWS($H$23:H88)-1,COLUMNS($H$23:H88)-1),\"\")","v":2},{"$f":"IF(OFFSET(DE102_5!$I$23,ROWS($I$23:I88)-1,COLUMNS($I$23:I88)-1)<>\"\",OFFSET(DE102_5!$I$23,ROWS($I$23:I88)-1,COLUMNS($I$23:I88)-1),\"\")","v":95.71},{"$f":"IF(OFFSET(DE102_5!$J$23,ROWS($J$23:J88)-1,COLUMNS($J$23:J88)-1)<>\"\",OFFSET(DE102_5!$J$23,ROWS($J$23:J88)-1,COLUMNS($J$23:J88)-1),\"\")","v":98.7},{"$f":"IF(OFFSET(DE102_5!$M$23,ROWS($M$23:M88)-1,COLUMNS($M$23:M88)-1)<>\"\",OFFSET(DE102_5!$M$23,ROWS($M$23:M88)-1,COLUMNS($M$23:M88)-1),\"\")","v":2008},{"$f":"IF(OFFSET(DE102_5!$N$23,ROWS($N$23:N88)-1,COLUMNS($N$23:N88)-1)<>\"\",OFFSET(DE102_5!$N$23,ROWS($N$23:N88)-1,COLUMNS($N$23:N88)-1),\"\")","v":""},{"$f":"IF(OFFSET(DE102_5!$O$23,ROWS($O$23:O88)-1,COLUMNS($O$23:O88)-1)<>\"\",OFFSET(DE102_5!$O$23,ROWS($O$23:O88)-1,COLUMNS($O$23:O88)-1),\"\")","v":"IM-35-4(131)92--13-77"},{"$f":"IF(OFFSET(DE102_5!$P$23,ROWS($P$23:P88)-1,COLUMNS($P$23:P88)-1)<>\"\",OFFSET(DE102_5!$P$23,ROWS($P$23:P88)-1,COLUMNS($P$23:P88)-1),\"\")","v":"HMA"},{"$f":"IF(OFFSET(DE102_5!$Q$23,ROWS($Q$23:Q88)-1,COLUMNS($Q$23:Q88)-1)<>\"\",OFFSET(DE102_5!$Q$23,ROWS($Q$23:Q88)-1,COLUMNS($Q$23:Q88)-1),\"\")","v":2},{"$f":"IF(OFFSET(DE102_5!$R$23,ROWS($R$23:R88)-1,COLUMNS($R$23:R88)-1)<>\"\",OFFSET(DE102_5!$R$23,ROWS($R$23:R88)-1,COLUMNS($R$23:R88)-1),\"\")","v":"HMA"},{"$f":"IF(OFFSET(DE102_5!$S$23,ROWS($S$23:S88)-1,COLUMNS($S$23:S88)-1)<>\"\",OFFSET(DE102_5!$S$23,ROWS($S$23:S88)-1,COLUMNS($S$23:S88)-1),\"\")","v":2},{"$f":"IF(OFFSET(DE102_5!$T$23,ROWS($T$23:T88)-1,COLUMNS($T$23:T88)-1)<>\"\",OFFSET(DE102_5!$T$23,ROWS($T$23:T88)-1,COLUMNS($T$23:T88)-1),\"\")","v":""},{"$f":"IF(OFFSET(DE102_5!$U$23,ROWS($U$23:U88)-1,COLUMNS($U$23:U88)-1)<>\"\",OFFSET(DE102_5!$U$23,ROWS($U$23:U88)-1,COLUMNS($U$23:U88)-1),\"\")","v":""},{"$f":"IF(OFFSET(DE102_5!$V$23,ROWS($V$23:V88)-1,COLUMNS($V$23:V88)-1)<>\"\",OFFSET(DE102_5!$V$23,ROWS($V$23:V88)-1,COLUMNS($V$23:V88)-1),\"\")","v":"MIL"},{"$f":"IF(OFFSET(DE102_5!$W$23,ROWS($W$23:W88)-1,COLUMNS($W$23:W88)-1)<>\"\",OFFSET(DE102_5!$W$23,ROWS($W$23:W88)-1,COLUMNS($W$23:W88)-1),\"\")","v":2},{"$f":"IF(OFFSET(DE102_5!$X$23,ROWS($X$23:X88)-1,COLUMNS($X$23:X88)-1)<>\"\",OFFSET(DE102_5!$X$23,ROWS($X$23:X88)-1,COLUMNS($X$23:X88)-1),\"\")","v":""},{"$f":"IF(OFFSET(DE102_5!$Y$23,ROWS($Y$23:Y88)-1,COLUMNS($Y$23:Y88)-1)<>\"\",OFFSET(DE102_5!$Y$23,ROWS($Y$23:Y88)-1,COLUMNS($Y$23:Y88)-1),\"\")","v":""},{"$f":"IF(OFFSET(DE102_5!$Z$23,ROWS($Z$23:Z88)-1,COLUMNS($Z$23:Z88)-1)<>\"\",OFFSET(DE102_5!$Z$23,ROWS($Z$23:Z88)-1,COLUMNS($Z$23:Z88)-1),\"\")","v":""},{"$f":"IF(OFFSET(DE102_5!$AA$23,ROWS($AA$23:AA88)-1,COLUMNS($AA$23:AA88)-1)<>\"\",OFFSET(DE102_5!$AA$23,ROWS($AA$23:AA88)-1,COLUMNS($AA$23:AA88)-1),\"\")","v":"WIDENING VARIES"},{"$f":"IF(OFFSET(DE102_5!$AB$23,ROWS($AB$23:AB88)-1,COLUMNS($AB$23:AB88)-1)<>\"\",OFFSET(DE102_5!$AB$23,ROWS($AB$23:AB88)-1,COLUMNS($AB$23:AB88)-1),\"\")","v":""}]
[{"$f":"IF(OFFSET(DE102_5!$C$23,ROWS($C$23:C89)-1,COLUMNS($C$23:C89)-1)<>\"\",OFFSET(DE102_5!$C$23,ROWS($C$23:C89)-1,COLUMNS($C$23:C89)-1),\"\")","v":""},{"$f":"IF(OFFSET(DE102_5!$F$23,ROWS($F$23:F89)-1,COLUMNS($F$23:F89)-1)<>\"\",OFFSET(DE102_5!$F$23,ROWS($F$23:F89)-1,COLUMNS($F$23:F89)-1),\"\")","v":77},{"$f":"IF(OFFSET(DE102_5!$G$23,ROWS($G$23:G89)-1,COLUMNS($G$23:G89)-1)<>\"\",OFFSET(DE102_5!$G$23,ROWS($G$23:G89)-1,COLUMNS($G$23:G89)-1),\"\")","v":"I-35"},{"$f":"IF(OFFSET(DE102_5!$H$23,ROWS($H$23:H89)-1,COLUMNS($H$23:H89)-1)<>\"\",OFFSET(DE102_5!$H$23,ROWS($H$23:H89)-1,COLUMNS($H$23:H89)-1),\"\")","v":2},{"$f":"IF(OFFSET(DE102_5!$I$23,ROWS($I$23:I89)-1,COLUMNS($I$23:I89)-1)<>\"\",OFFSET(DE102_5!$I$23,ROWS($I$23:I89)-1,COLUMNS($I$23:I89)-1),\"\")","v":95.71},{"$f":"IF(OFFSET(DE102_5!$J$23,ROWS($J$23:J89)-1,COLUMNS($J$23:J89)-1)<>\"\",OFFSET(DE102_5!$J$23,ROWS($J$23:J89)-1,COLUMNS($J$23:J89)-1),\"\")","v":98.7},{"$f":"IF(OFFSET(DE102_5!$M$23,ROWS($M$23:M89)-1,COLUMNS($M$23:M89)-1)<>\"\",OFFSET(DE102_5!$M$23,ROWS($M$23:M89)-1,COLUMNS($M$23:M89)-1),\"\")","v":1989},{"$f":"IF(OFFSET(DE102_5!$N$23,ROWS($N$23:N89)-1,COLUMNS($N$23:N89)-1)<>\"\",OFFSET(DE102_5!$N$23,ROWS($N$23:N89)-1,COLUMNS($N$23:N89)-1),\"\")","v":""},{"$f":"IF(OFFSET(DE102_5!$O$23,ROWS($O$23:O89)-1,COLUMNS($O$23:O89)-1)<>\"\",OFFSET(DE102_5!$O$23,ROWS($O$23:O89)-1,COLUMNS($O$23:O89)-1),\"\")","v":"IR-35-4(59)92"},{"$f":"IF(OFFSET(DE102_5!$P$23,ROWS($P$23:P89)-1,COLUMNS($P$23:P89)-1)<>\"\",OFFSET(DE102_5!$P$23,ROWS($P$23:P89)-1,COLUMNS($P$23:P89)-1),\"\")","v":"AAC"},{"$f":"IF(OFFSET(DE102_5!$Q$23,ROWS($Q$23:Q89)-1,COLUMNS($Q$23:Q89)-1)<>\"\",OFFSET(DE102_5!$Q$23,ROWS($Q$23:Q89)-1,COLUMNS($Q$23:Q89)-1),\"\")","v":4},{"$f":"IF(OFFSET(DE102_5!$R$23,ROWS($R$23:R89)-1,COLUMNS($R$23:R89)-1)<>\"\",OFFSET(DE102_5!$R$23,ROWS($R$23:R89)-1,COLUMNS($R$23:R89)-1),\"\")","v":""},{"$f":"IF(OFFSET(DE102_5!$S$23,ROWS($S$23:S89)-1,COLUMNS($S$23:S89)-1)<>\"\",OFFSET(DE102_5!$S$23,ROWS($S$23:S89)-1,COLUMNS($S$23:S89)-1),\"\")","v":""},{"$f":"IF(OFFSET(DE102_5!$T$23,ROWS($T$23:T89)-1,COLUMNS($T$23:T89)-1)<>\"\",OFFSET(DE102_5!$T$23,ROWS($T$23:T89)-1,COLUMNS($T$23:T89)-1),\"\")","v":""},{"$f":"IF(OFFSET(DE102_5!$U$23,ROWS($U$23:U89)-1,COLUMNS($U$23:U89)-1)<>\"\",OFFSET(DE102_5!$U$23,ROWS($U$23:U89)-1,COLUMNS($U$23:U89)-1),\"\")","v":""},{"$f":"IF(OFFSET(DE102_5!$V$23,ROWS($V$23:V89)-1,COLUMNS($V$23:V89)-1)<>\"\",OFFSET(DE102_5!$V$23,ROWS($V$23:V89)-1,COLUMNS($V$23:V89)-1),\"\")","v":""},{"$f":"IF(OFFSET(DE102_5!$W$23,ROWS($W$23:W89)-1,COLUMNS($W$23:W89)-1)<>\"\",OFFSET(DE102_5!$W$23,ROWS($W$23:W89)-1,COLUMNS($W$23:W89)-1),\"\")","v":""},{"$f":"IF(OFFSET(DE102_5!$X$23,ROWS($X$23:X89)-1,COLUMNS($X$23:X89)-1)<>\"\",OFFSET(DE102_5!$X$23,ROWS($X$23:X89)-1,COLUMNS($X$23:X89)-1),\"\")","v":"FERGUSON"},{"$f":"IF(OFFSET(DE102_5!$Y$23,ROWS($Y$23:Y89)-1,COLUMNS($Y$23:Y89)-1)<>\"\",OFFSET(DE102_5!$Y$23,ROWS($Y$23:Y89)-1,COLUMNS($Y$23:Y89)-1),\"\")","v":"C.LST."},{"$f":"IF(OFFSET(DE102_5!$Z$23,ROWS($Z$23:Z89)-1,COLUMNS($Z$23:Z89)-1)<>\"\",OFFSET(DE102_5!$Z$23,ROWS($Z$23:Z89)-1,COLUMNS($Z$23:Z89)-1),\"\")","v":""},{"$f":"IF(OFFSET(DE102_5!$AA$23,ROWS($AA$23:AA89)-1,COLUMNS($AA$23:AA89)-1)<>\"\",OFFSET(DE102_5!$AA$23,ROWS($AA$23:AA89)-1,COLUMNS($AA$23:AA89)-1),\"\")","v":""},{"$f":"IF(OFFSET(DE102_5!$AB$23,ROWS($AB$23:AB89)-1,COLUMNS($AB$23:AB89)-1)<>\"\",OFFSET(DE102_5!$AB$23,ROWS($AB$23:AB89)-1,COLUMNS($AB$23:AB89)-1),\"\")","v":""}]
[{"$f":"IF(OFFSET(DE102_5!$C$23,ROWS($C$23:C90)-1,COLUMNS($C$23:C90)-1)<>\"\",OFFSET(DE102_5!$C$23,ROWS($C$23:C90)-1,COLUMNS($C$23:C90)-1),\"\")","v":""},{"$f":"IF(OFFSET(DE102_5!$F$23,ROWS($F$23:F90)-1,COLUMNS($F$23:F90)-1)<>\"\",OFFSET(DE102_5!$F$23,ROWS($F$23:F90)-1,COLUMNS($F$23:F90)-1),\"\")","v":77},{"$f":"IF(OFFSET(DE102_5!$G$23,ROWS($G$23:G90)-1,COLUMNS($G$23:G90)-1)<>\"\",OFFSET(DE102_5!$G$23,ROWS($G$23:G90)-1,COLUMNS($G$23:G90)-1),\"\")","v":"I-35"},{"$f":"IF(OFFSET(DE102_5!$H$23,ROWS($H$23:H90)-1,COLUMNS($H$23:H90)-1)<>\"\",OFFSET(DE102_5!$H$23,ROWS($H$23:H90)-1,COLUMNS($H$23:H90)-1),\"\")","v":2},{"$f":"IF(OFFSET(DE102_5!$I$23,ROWS($I$23:I90)-1,COLUMNS($I$23:I90)-1)<>\"\",OFFSET(DE102_5!$I$23,ROWS($I$23:I90)-1,COLUMNS($I$23:I90)-1),\"\")","v":95.71},{"$f":"IF(OFFSET(DE102_5!$J$23,ROWS($J$23:J90)-1,COLUMNS($J$23:J90)-1)<>\"\",OFFSET(DE102_5!$J$23,ROWS($J$23:J90)-1,COLUMNS($J$23:J90)-1),\"\")","v":98.7},{"$f":"IF(OFFSET(DE102_5!$M$23,ROWS($M$23:M90)-1,COLUMNS($M$23:M90)-1)<>\"\",OFFSET(DE102_5!$M$23,ROWS($M$23:M90)-1,COLUMNS($M$23:M90)-1),\"\")","v":1965},{"$f":"IF(OFFSET(DE102_5!$N$23,ROWS($N$23:N90)-1,COLUMNS($N$23:N90)-1)<>\"\",OFFSET(DE102_5!$N$23,ROWS($N$23:N90)-1,COLUMNS($N$23:N90)-1),\"\")","v":""},{"$f":"IF(OFFSET(DE102_5!$O$23,ROWS($O$23:O90)-1,COLUMNS($O$23:O90)-1)<>\"\",OFFSET(DE102_5!$O$23,ROWS($O$23:O90)-1,COLUMNS($O$23:O90)-1),\"\")","v":"I-35-4(11)93"},{"$f":"IF(OFFSET(DE102_5!$P$23,ROWS($P$23:P90)-1,COLUMNS($P$23:P90)-1)<>\"\",OFFSET(DE102_5!$P$23,ROWS($P$23:P90)-1,COLUMNS($P$23:P90)-1),\"\")","v":"PCC"},{"$f":"IF(OFFSET(DE102_5!$Q$23,ROWS($Q$23:Q90)-1,COLUMNS($Q$23:Q90)-1)<>\"\",OFFSET(DE102_5!$Q$23,ROWS($Q$23:Q90)-1,COLUMNS($Q$23:Q90)-1),\"\")","v":10},{"$f":"IF(OFFSET(DE102_5!$R$23,ROWS($R$23:R90)-1,COLUMNS($R$23:R90)-1)<>\"\",OFFSET(DE102_5!$R$23,ROWS($R$23:R90)-1,COLUMNS($R$23:R90)-1),\"\")","v":"GSB"},{"$f":"IF(OFFSET(DE102_5!$S$23,ROWS($S$23:S90)-1,COLUMNS($S$23:S90)-1)<>\"\",OFFSET(DE102_5!$S$23,ROWS($S$23:S90)-1,COLUMNS($S$23:S90)-1),\"\")","v":4},{"$f":"IF(OFFSET(DE102_5!$T$23,ROWS($T$23:T90)-1,COLUMNS($T$23:T90)-1)<>\"\",OFFSET(DE102_5!$T$23,ROWS($T$23:T90)-1,COLUMNS($T$23:T90)-1),\"\")","v":""},{"$f":"IF(OFFSET(DE102_5!$U$23,ROWS($U$23:U90)-1,COLUMNS($U$23:U90)-1)<>\"\",OFFSET(DE102_5!$U$23,ROWS($U$23:U90)-1,COLUMNS($U$23:U90)-1),\"\")","v":""},{"$f":"IF(OFFSET(DE102_5!$V$23,ROWS($V$23:V90)-1,COLUMNS($V$23:V90)-1)<>\"\",OFFSET(DE102_5!$V$23,ROWS($V$23:V90)-1,COLUMNS($V$23:V90)-1),\"\")","v":""},{"$f":"IF(OFFSET(DE102_5!$W$23,ROWS($W$23:W90)-1,COLUMNS($W$23:W90)-1)<>\"\",OFFSET(DE102_5!$W$23,ROWS($W$23:W90)-1,COLUMNS($W$23:W90)-1),\"\")","v":""},{"$f":"IF(OFFSET(DE102_5!$X$23,ROWS($X$23:X90)-1,COLUMNS($X$23:X90)-1)<>\"\",OFFSET(DE102_5!$X$23,ROWS($X$23:X90)-1,COLUMNS($X$23:X90)-1),\"\")","v":"CHRISTENSEN"},{"$f":"IF(OFFSET(DE102_5!$Y$23,ROWS($Y$23:Y90)-1,COLUMNS($Y$23:Y90)-1)<>\"\",OFFSET(DE102_5!$Y$23,ROWS($Y$23:Y90)-1,COLUMNS($Y$23:Y90)-1),\"\")","v":"GRAVEL"},{"$f":"IF(OFFSET(DE102_5!$Z$23,ROWS($Z$23:Z90)-1,COLUMNS($Z$23:Z90)-1)<>\"\",OFFSET(DE102_5!$Z$23,ROWS($Z$23:Z90)-1,COLUMNS($Z$23:Z90)-1),\"\")","v":1},{"$f":"IF(OFFSET(DE102_5!$AA$23,ROWS($AA$23:AA90)-1,COLUMNS($AA$23:AA90)-1)<>\"\",OFFSET(DE102_5!$AA$23,ROWS($AA$23:AA90)-1,COLUMNS($AA$23:AA90)-1),\"\")","v":""},{"$f":"IF(OFFSET(DE102_5!$AB$23,ROWS($AB$23:AB90)-1,COLUMNS($AB$23:AB90)-1)<>\"\",OFFSET(DE102_5!$AB$23,ROWS($AB$23:AB90)-1,COLUMNS($AB$23:AB90)-1),\"\")","v":""}]
[{"$f":"IF(OFFSET(DE102_5!$C$23,ROWS($C$23:C91)-1,COLUMNS($C$23:C91)-1)<>\"\",OFFSET(DE102_5!$C$23,ROWS($C$23:C91)-1,COLUMNS($C$23:C91)-1),\"\")","v":""},{"$f":"IF(OFFSET(DE102_5!$F$23,ROWS($F$23:F91)-1,COLUMNS($F$23:F91)-1)<>\"\",OFFSET(DE102_5!$F$23,ROWS($F$23:F91)-1,COLUMNS($F$23:F91)-1),\"\")","v":""},{"$f":"IF(OFFSET(DE102_5!$G$23,ROWS($G$23:G91)-1,COLUMNS($G$23:G91)-1)<>\"\",OFFSET(DE102_5!$G$23,ROWS($G$23:G91)-1,COLUMNS($G$23:G91)-1),\"\")","v":""},{"$f":"IF(OFFSET(DE102_5!$H$23,ROWS($H$23:H91)-1,COLUMNS($H$23:H91)-1)<>\"\",OFFSET(DE102_5!$H$23,ROWS($H$23:H91)-1,COLUMNS($H$23:H91)-1),\"\")","v":""},{"$f":"IF(OFFSET(DE102_5!$I$23,ROWS($I$23:I91)-1,COLUMNS($I$23:I91)-1)<>\"\",OFFSET(DE102_5!$I$23,ROWS($I$23:I91)-1,COLUMNS($I$23:I91)-1),\"\")","v":""},{"$f":"IF(OFFSET(DE102_5!$J$23,ROWS($J$23:J91)-1,COLUMNS($J$23:J91)-1)<>\"\",OFFSET(DE102_5!$J$23,ROWS($J$23:J91)-1,COLUMNS($J$23:J91)-1),\"\")","v":""},{"$f":"IF(OFFSET(DE102_5!$M$23,ROWS($M$23:M91)-1,COLUMNS($M$23:M91)-1)<>\"\",OFFSET(DE102_5!$M$23,ROWS($M$23:M91)-1,COLUMNS($M$23:M91)-1),\"\")","v":""},{"$f":"IF(OFFSET(DE102_5!$N$23,ROWS($N$23:N91)-1,COLUMNS($N$23:N91)-1)<>\"\",OFFSET(DE102_5!$N$23,ROWS($N$23:N91)-1,COLUMNS($N$23:N91)-1),\"\")","v":""},{"$f":"IF(OFFSET(DE102_5!$O$23,ROWS($O$23:O91)-1,COLUMNS($O$23:O91)-1)<>\"\",OFFSET(DE102_5!$O$23,ROWS($O$23:O91)-1,COLUMNS($O$23:O91)-1),\"\")","v":""},{"$f":"IF(OFFSET(DE102_5!$P$23,ROWS($P$23:P91)-1,COLUMNS($P$23:P91)-1)<>\"\",OFFSET(DE102_5!$P$23,ROWS($P$23:P91)-1,COLUMNS($P$23:P91)-1),\"\")","v":""},{"$f":"IF(OFFSET(DE102_5!$Q$23,ROWS($Q$23:Q91)-1,COLUMNS($Q$23:Q91)-1)<>\"\",OFFSET(DE102_5!$Q$23,ROWS($Q$23:Q91)-1,COLUMNS($Q$23:Q91)-1),\"\")","v":""},{"$f":"IF(OFFSET(DE102_5!$R$23,ROWS($R$23:R91)-1,COLUMNS($R$23:R91)-1)<>\"\",OFFSET(DE102_5!$R$23,ROWS($R$23:R91)-1,COLUMNS($R$23:R91)-1),\"\")","v":""},{"$f":"IF(OFFSET(DE102_5!$S$23,ROWS($S$23:S91)-1,COLUMNS($S$23:S91)-1)<>\"\",OFFSET(DE102_5!$S$23,ROWS($S$23:S91)-1,COLUMNS($S$23:S91)-1),\"\")","v":""},{"$f":"IF(OFFSET(DE102_5!$T$23,ROWS($T$23:T91)-1,COLUMNS($T$23:T91)-1)<>\"\",OFFSET(DE102_5!$T$23,ROWS($T$23:T91)-1,COLUMNS($T$23:T91)-1),\"\")","v":""},{"$f":"IF(OFFSET(DE102_5!$U$23,ROWS($U$23:U91)-1,COLUMNS($U$23:U91)-1)<>\"\",OFFSET(DE102_5!$U$23,ROWS($U$23:U91)-1,COLUMNS($U$23:U91)-1),\"\")","v":""},{"$f":"IF(OFFSET(DE102_5!$V$23,ROWS($V$23:V91)-1,COLUMNS($V$23:V91)-1)<>\"\",OFFSET(DE102_5!$V$23,ROWS($V$23:V91)-1,COLUMNS($V$23:V91)-1),\"\")","v":""},{"$f":"IF(OFFSET(DE102_5!$W$23,ROWS($W$23:W91)-1,COLUMNS($W$23:W91)-1)<>\"\",OFFSET(DE102_5!$W$23,ROWS($W$23:W91)-1,COLUMNS($W$23:W91)-1),\"\")","v":""},{"$f":"IF(OFFSET(DE102_5!$X$23,ROWS($X$23:X91)-1,COLUMNS($X$23:X91)-1)<>\"\",OFFSET(DE102_5!$X$23,ROWS($X$23:X91)-1,COLUMNS($X$23:X91)-1),\"\")","v":""},{"$f":"IF(OFFSET(DE102_5!$Y$23,ROWS($Y$23:Y91)-1,COLUMNS($Y$23:Y91)-1)<>\"\",OFFSET(DE102_5!$Y$23,ROWS($Y$23:Y91)-1,COLUMNS($Y$23:Y91)-1),\"\")","v":""},{"$f":"IF(OFFSET(DE102_5!$Z$23,ROWS($Z$23:Z91)-1,COLUMNS($Z$23:Z91)-1)<>\"\",OFFSET(DE102_5!$Z$23,ROWS($Z$23:Z91)-1,COLUMNS($Z$23:Z91)-1),\"\")","v":""},{"$f":"IF(OFFSET(DE102_5!$AA$23,ROWS($AA$23:AA91)-1,COLUMNS($AA$23:AA91)-1)<>\"\",OFFSET(DE102_5!$AA$23,ROWS($AA$23:AA91)-1,COLUMNS($AA$23:AA91)-1),\"\")","v":""},{"$f":"IF(OFFSET(DE102_5!$AB$23,ROWS($AB$23:AB91)-1,COLUMNS($AB$23:AB91)-1)<>\"\",OFFSET(DE102_5!$AB$23,ROWS($AB$23:AB91)-1,COLUMNS($AB$23:AB91)-1),\"\")","v":""}]
[{"$f":"IF(OFFSET(DE102_5!$C$23,ROWS($C$23:C92)-1,COLUMNS($C$23:C92)-1)<>\"\",OFFSET(DE102_5!$C$23,ROWS($C$23:C92)-1,COLUMNS($C$23:C92)-1),\"\")","v":""},{"$f":"IF(OFFSET(DE102_5!$F$23,ROWS($F$23:F92)-1,COLUMNS($F$23:F92)-1)<>\"\",OFFSET(DE102_5!$F$23,ROWS($F$23:F92)-1,COLUMNS($F$23:F92)-1),\"\")","v":77},{"$f":"IF(OFFSET(DE102_5!$G$23,ROWS($G$23:G92)-1,COLUMNS($G$23:G92)-1)<>\"\",OFFSET(DE102_5!$G$23,ROWS($G$23:G92)-1,COLUMNS($G$23:G92)-1),\"\")","v":"I-35"},{"$f":"IF(OFFSET(DE102_5!$H$23,ROWS($H$23:H92)-1,COLUMNS($H$23:H92)-1)<>\"\",OFFSET(DE102_5!$H$23,ROWS($H$23:H92)-1,COLUMNS($H$23:H92)-1),\"\")","v":2},{"$f":"IF(OFFSET(DE102_5!$I$23,ROWS($I$23:I92)-1,COLUMNS($I$23:I92)-1)<>\"\",OFFSET(DE102_5!$I$23,ROWS($I$23:I92)-1,COLUMNS($I$23:I92)-1),\"\")","v":98.7},{"$f":"IF(OFFSET(DE102_5!$J$23,ROWS($J$23:J92)-1,COLUMNS($J$23:J92)-1)<>\"\",OFFSET(DE102_5!$J$23,ROWS($J$23:J92)-1,COLUMNS($J$23:J92)-1),\"\")","v":101.72},{"$f":"IF(OFFSET(DE102_5!$M$23,ROWS($M$23:M92)-1,COLUMNS($M$23:M92)-1)<>\"\",OFFSET(DE102_5!$M$23,ROWS($M$23:M92)-1,COLUMNS($M$23:M92)-1),\"\")","v":2017},{"$f":"IF(OFFSET(DE102_5!$N$23,ROWS($N$23:N92)-1,COLUMNS($N$23:N92)-1)<>\"\",OFFSET(DE102_5!$N$23,ROWS($N$23:N92)-1,COLUMNS($N$23:N92)-1),\"\")","v":"M"},{"$f":"IF(OFFSET(DE102_5!$O$23,ROWS($O$23:O92)-1,COLUMNS($O$23:O92)-1)<>\"\",OFFSET(DE102_5!$O$23,ROWS($O$23:O92)-1,COLUMNS($O$23:O92)-1),\"\")","v":"IMN-035-4(179)87--0E-77"},{"$f":"IF(OFFSET(DE102_5!$P$23,ROWS($P$23:P92)-1,COLUMNS($P$23:P92)-1)<>\"\",OFFSET(DE102_5!$P$23,ROWS($P$23:P92)-1,COLUMNS($P$23:P92)-1),\"\")","v":"PCC"},{"$f":"IF(OFFSET(DE102_5!$Q$23,ROWS($Q$23:Q92)-1,COLUMNS($Q$23:Q92)-1)<>\"\",OFFSET(DE102_5!$Q$23,ROWS($Q$23:Q92)-1,COLUMNS($Q$23:Q92)-1),\"\")","v":12},{"$f":"IF(OFFSET(DE102_5!$R$23,ROWS($R$23:R92)-1,COLUMNS($R$23:R92)-1)<>\"\",OFFSET(DE102_5!$R$23,ROWS($R$23:R92)-1,COLUMNS($R$23:R92)-1),\"\")","v":""},{"$f":"IF(OFFSET(DE102_5!$S$23,ROWS($S$23:S92)-1,COLUMNS($S$23:S92)-1)<>\"\",OFFSET(DE102_5!$S$23,ROWS($S$23:S92)-1,COLUMNS($S$23:S92)-1),\"\")","v":""},{"$f":"IF(OFFSET(DE102_5!$T$23,ROWS($T$23:T92)-1,COLUMNS($T$23:T92)-1)<>\"\",OFFSET(DE102_5!$T$23,ROWS($T$23:T92)-1,COLUMNS($T$23:T92)-1),\"\")","v":""},{"$f":"IF(OFFSET(DE102_5!$U$23,ROWS($U$23:U92)-1,COLUMNS($U$23:U92)-1)<>\"\",OFFSET(DE102_5!$U$23,ROWS($U$23:U92)-1,COLUMNS($U$23:U92)-1),\"\")","v":""},{"$f":"IF(OFFSET(DE102_5!$V$23,ROWS($V$23:V92)-1,COLUMNS($V$23:V92)-1)<>\"\",OFFSET(DE102_5!$V$23,ROWS($V$23:V92)-1,COLUMNS($V$23:V92)-1),\"\")","v":""},{"$f":"IF(OFFSET(DE102_5!$W$23,ROWS($W$23:W92)-1,COLUMNS($W$23:W92)-1)<>\"\",OFFSET(DE102_5!$W$23,ROWS($W$23:W92)-1,COLUMNS($W$23:W92)-1),\"\")","v":""},{"$f":"IF(OFFSET(DE102_5!$X$23,ROWS($X$23:X92)-1,COLUMNS($X$23:X92)-1)<>\"\",OFFSET(DE102_5!$X$23,ROWS($X$23:X92)-1,COLUMNS($X$23:X92)-1),\"\")","v":""},{"$f":"IF(OFFSET(DE102_5!$Y$23,ROWS($Y$23:Y92)-1,COLUMNS($Y$23:Y92)-1)<>\"\",OFFSET(DE102_5!$Y$23,ROWS($Y$23:Y92)-1,COLUMNS($Y$23:Y92)-1),\"\")","v":""},{"$f":"IF(OFFSET(DE102_5!$Z$23,ROWS($Z$23:Z92)-1,COLUMNS($Z$23:Z92)-1)<>\"\",OFFSET(DE102_5!$Z$23,ROWS($Z$23:Z92)-1,COLUMNS($Z$23:Z92)-1),\"\")","v":""},{"$f":"IF(OFFSET(DE102_5!$AA$23,ROWS($AA$23:AA92)-1,COLUMNS($AA$23:AA92)-1)<>\"\",OFFSET(DE102_5!$AA$23,ROWS($AA$23:AA92)-1,COLUMNS($AA$23:AA92)-1),\"\")","v":"PCC PATCHING"},{"$f":"IF(OFFSET(DE102_5!$AB$23,ROWS($AB$23:AB92)-1,COLUMNS($AB$23:AB92)-1)<>\"\",OFFSET(DE102_5!$AB$23,ROWS($AB$23:AB92)-1,COLUMNS($AB$23:AB92)-1),\"\")","v":""}]
[{"$f":"IF(OFFSET(DE102_5!$C$23,ROWS($C$23:C93)-1,COLUMNS($C$23:C93)-1)<>\"\",OFFSET(DE102_5!$C$23,ROWS($C$23:C93)-1,COLUMNS($C$23:C93)-1),\"\")","v":""},{"$f":"IF(OFFSET(DE102_5!$F$23,ROWS($F$23:F93)-1,COLUMNS($F$23:F93)-1)<>\"\",OFFSET(DE102_5!$F$23,ROWS($F$23:F93)-1,COLUMNS($F$23:F93)-1),\"\")","v":77},{"$f":"IF(OFFSET(DE102_5!$G$23,ROWS($G$23:G93)-1,COLUMNS($G$23:G93)-1)<>\"\",OFFSET(DE102_5!$G$23,ROWS($G$23:G93)-1,COLUMNS($G$23:G93)-1),\"\")","v":"I-35"},{"$f":"IF(OFFSET(DE102_5!$H$23,ROWS($H$23:H93)-1,COLUMNS($H$23:H93)-1)<>\"\",OFFSET(DE102_5!$H$23,ROWS($H$23:H93)-1,COLUMNS($H$23:H93)-1),\"\")","v":2},{"$f":"IF(OFFSET(DE102_5!$I$23,ROWS($I$23:I93)-1,COLUMNS($I$23:I93)-1)<>\"\",OFFSET(DE102_5!$I$23,ROWS($I$23:I93)-1,COLUMNS($I$23:I93)-1),\"\")","v":98.7},{"$f":"IF(OFFSET(DE102_5!$J$23,ROWS($J$23:J93)-1,COLUMNS($J$23:J93)-1)<>\"\",OFFSET(DE102_5!$J$23,ROWS($J$23:J93)-1,COLUMNS($J$23:J93)-1),\"\")","v":101.72},{"$f":"IF(OFFSET(DE102_5!$M$23,ROWS($M$23:M93)-1,COLUMNS($M$23:M93)-1)<>\"\",OFFSET(DE102_5!$M$23,ROWS($M$23:M93)-1,COLUMNS($M$23:M93)-1),\"\")","v":2017},{"$f":"IF(OFFSET(DE102_5!$N$23,ROWS($N$23:N93)-1,COLUMNS($N$23:N93)-1)<>\"\",OFFSET(DE102_5!$N$23,ROWS($N$23:N93)-1,COLUMNS($N$23:N93)-1),\"\")","v":"S"},{"$f":"IF(OFFSET(DE102_5!$O$23,ROWS($O$23:O93)-1,COLUMNS($O$23:O93)-1)<>\"\",OFFSET(DE102_5!$O$23,ROWS($O$23:O93)-1,COLUMNS($O$23:O93)-1),\"\")","v":"IMN-035-4(190)98--0E-77"},{"$f":"IF(OFFSET(DE102_5!$P$23,ROWS($P$23:P93)-1,COLUMNS($P$23:P93)-1)<>\"\",OFFSET(DE102_5!$P$23,ROWS($P$23:P93)-1,COLUMNS($P$23:P93)-1),\"\")","v":"HMA"},{"$f":"IF(OFFSET(DE102_5!$Q$23,ROWS($Q$23:Q93)-1,COLUMNS($Q$23:Q93)-1)<>\"\",OFFSET(DE102_5!$Q$23,ROWS($Q$23:Q93)-1,COLUMNS($Q$23:Q93)-1),\"\")","v":1.5},{"$f":"IF(OFFSET(DE102_5!$R$23,ROWS($R$23:R93)-1,COLUMNS($R$23:R93)-1)<>\"\",OFFSET(DE102_5!$R$23,ROWS($R$23:R93)-1,COLUMNS($R$23:R93)-1),\"\")","v":"HMA"},{"$f":"IF(OFFSET(DE102_5!$S$23,ROWS($S$23:S93)-1,COLUMNS($S$23:S93)-1)<>\"\",OFFSET(DE102_5!$S$23,ROWS($S$23:S93)-1,COLUMNS($S$23:S93)-1),\"\")","v":1.5},{"$f":"IF(OFFSET(DE102_5!$T$23,ROWS($T$23:T93)-1,COLUMNS($T$23:T93)-1)<>\"\",OFFSET(DE102_5!$T$23,ROWS($T$23:T93)-1,COLUMNS($T$23:T93)-1),\"\")","v":""},{"$f":"IF(OFFSET(DE102_5!$U$23,ROWS($U$23:U93)-1,COLUMNS($U$23:U93)-1)<>\"\",OFFSET(DE102_5!$U$23,ROWS($U$23:U93)-1,COLUMNS($U$23:U93)-1),\"\")","v":""},{"$f":"IF(OFFSET(DE102_5!$V$23,ROWS($V$23:V93)-1,COLUMNS($V$23:V93)-1)<>\"\",OFFSET(DE102_5!$V$23,ROWS($V$23:V93)-1,COLUMNS($V$23:V93)-1),\"\")","v":"SCR"},{"$f":"IF(OFFSET(DE102_5!$W$23,ROWS($W$23:W93)-1,COLUMNS($W$23:W93)-1)<>\"\",OFFSET(DE102_5!$W$23,ROWS($W$23:W93)-1,COLUMNS($W$23:W93)-1),\"\")","v":3},{"$f":"IF(OFFSET(DE102_5!$X$23,ROWS($X$23:X93)-1,COLUMNS($X$23:X93)-1)<>\"\",OFFSET(DE102_5!$X$23,ROWS($X$23:X93)-1,COLUMNS($X$23:X93)-1),\"\")","v":""},{"$f":"IF(OFFSET(DE102_5!$Y$23,ROWS($Y$23:Y93)-1,COLUMNS($Y$23:Y93)-1)<>\"\",OFFSET(DE102_5!$Y$23,ROWS($Y$23:Y93)-1,COLUMNS($Y$23:Y93)-1),\"\")","v":""},{"$f":"IF(OFFSET(DE102_5!$Z$23,ROWS($Z$23:Z93)-1,COLUMNS($Z$23:Z93)-1)<>\"\",OFFSET(DE102_5!$Z$23,ROWS($Z$23:Z93)-1,COLUMNS($Z$23:Z93)-1),\"\")","v":""},{"$f":"IF(OFFSET(DE102_5!$AA$23,ROWS($AA$23:AA93)-1,COLUMNS($AA$23:AA93)-1)<>\"\",OFFSET(DE102_5!$AA$23,ROWS($AA$23:AA93)-1,COLUMNS($AA$23:AA93)-1),\"\")","v":""},{"$f":"IF(OFFSET(DE102_5!$AB$23,ROWS($AB$23:AB93)-1,COLUMNS($AB$23:AB93)-1)<>\"\",OFFSET(DE102_5!$AB$23,ROWS($AB$23:AB93)-1,COLUMNS($AB$23:AB93)-1),\"\")","v":""}]
[{"$f":"IF(OFFSET(DE102_5!$C$23,ROWS($C$23:C94)-1,COLUMNS($C$23:C94)-1)<>\"\",OFFSET(DE102_5!$C$23,ROWS($C$23:C94)-1,COLUMNS($C$23:C94)-1),\"\")","v":""},{"$f":"IF(OFFSET(DE102_5!$F$23,ROWS($F$23:F94)-1,COLUMNS($F$23:F94)-1)<>\"\",OFFSET(DE102_5!$F$23,ROWS($F$23:F94)-1,COLUMNS($F$23:F94)-1),\"\")","v":77},{"$f":"IF(OFFSET(DE102_5!$G$23,ROWS($G$23:G94)-1,COLUMNS($G$23:G94)-1)<>\"\",OFFSET(DE102_5!$G$23,ROWS($G$23:G94)-1,COLUMNS($G$23:G94)-1),\"\")","v":"I-35"},{"$f":"IF(OFFSET(DE102_5!$H$23,ROWS($H$23:H94)-1,COLUMNS($H$23:H94)-1)<>\"\",OFFSET(DE102_5!$H$23,ROWS($H$23:H94)-1,COLUMNS($H$23:H94)-1),\"\")","v":2},{"$f":"IF(OFFSET(DE102_5!$I$23,ROWS($I$23:I94)-1,COLUMNS($I$23:I94)-1)<>\"\",OFFSET(DE102_5!$I$23,ROWS($I$23:I94)-1,COLUMNS($I$23:I94)-1),\"\")","v":98.7},{"$f":"IF(OFFSET(DE102_5!$J$23,ROWS($J$23:J94)-1,COLUMNS($J$23:J94)-1)<>\"\",OFFSET(DE102_5!$J$23,ROWS($J$23:J94)-1,COLUMNS($J$23:J94)-1),\"\")","v":101.72},{"$f":"IF(OFFSET(DE102_5!$M$23,ROWS($M$23:M94)-1,COLUMNS($M$23:M94)-1)<>\"\",OFFSET(DE102_5!$M$23,ROWS($M$23:M94)-1,COLUMNS($M$23:M94)-1),\"\")","v":1997},{"$f":"IF(OFFSET(DE102_5!$N$23,ROWS($N$23:N94)-1,COLUMNS($N$23:N94)-1)<>\"\",OFFSET(DE102_5!$N$23,ROWS($N$23:N94)-1,COLUMNS($N$23:N94)-1),\"\")","v":""},{"$f":"IF(OFFSET(DE102_5!$O$23,ROWS($O$23:O94)-1,COLUMNS($O$23:O94)-1)<>\"\",OFFSET(DE102_5!$O$23,ROWS($O$23:O94)-1,COLUMNS($O$23:O94)-1),\"\")","v":"IM-35-4(83)98--13-77"},{"$f":"IF(OFFSET(DE102_5!$P$23,ROWS($P$23:P94)-1,COLUMNS($P$23:P94)-1)<>\"\",OFFSET(DE102_5!$P$23,ROWS($P$23:P94)-1,COLUMNS($P$23:P94)-1),\"\")","v":"AAC"},{"$f":"IF(OFFSET(DE102_5!$Q$23,ROWS($Q$23:Q94)-1,COLUMNS($Q$23:Q94)-1)<>\"\",OFFSET(DE102_5!$Q$23,ROWS($Q$23:Q94)-1,COLUMNS($Q$23:Q94)-1),\"\")","v":2},{"$f":"IF(OFFSET(DE102_5!$R$23,ROWS($R$23:R94)-1,COLUMNS($R$23:R94)-1)<>\"\",OFFSET(DE102_5!$R$23,ROWS($R$23:R94)-1,COLUMNS($R$23:R94)-1),\"\")","v":"AAC"},{"$f":"IF(OFFSET(DE102_5!$S$23,ROWS($S$23:S94)-1,COLUMNS($S$23:S94)-1)<>\"\",OFFSET(DE102_5!$S$23,ROWS($S$23:S94)-1,COLUMNS($S$23:S94)-1),\"\")","v":6},{"$f":"IF(OFFSET(DE102_5!$T$23,ROWS($T$23:T94)-1,COLUMNS($T$23:T94)-1)<>\"\",OFFSET(DE102_5!$T$23,ROWS($T$23:T94)-1,COLUMNS($T$23:T94)-1),\"\")","v":""},{"$f":"IF(OFFSET(DE102_5!$U$23,ROWS($U$23:U94)-1,COLUMNS($U$23:U94)-1)<>\"\",OFFSET(DE102_5!$U$23,ROWS($U$23:U94)-1,COLUMNS($U$23:U94)-1),\"\")","v":""},{"$f":"IF(OFFSET(DE102_5!$V$23,ROWS($V$23:V94)-1,COLUMNS($V$23:V94)-1)<>\"\",OFFSET(DE102_5!$V$23,ROWS($V$23:V94)-1,COLUMNS($V$23:V94)-1),\"\")","v":""},{"$f":"IF(OFFSET(DE102_5!$W$23,ROWS($W$23:W94)-1,COLUMNS($W$23:W94)-1)<>\"\",OFFSET(DE102_5!$W$23,ROWS($W$23:W94)-1,COLUMNS($W$23:W94)-1),\"\")","v":""},{"$f":"IF(OFFSET(DE102_5!$X$23,ROWS($X$23:X94)-1,COLUMNS($X$23:X94)-1)<>\"\",OFFSET(DE102_5!$X$23,ROWS($X$23:X94)-1,COLUMNS($X$23:X94)-1),\"\")","v":"AMES MINE"},{"$f":"IF(OFFSET(DE102_5!$Y$23,ROWS($Y$23:Y94)-1,COLUMNS($Y$23:Y94)-1)<>\"\",OFFSET(DE102_5!$Y$23,ROWS($Y$23:Y94)-1,COLUMNS($Y$23:Y94)-1),\"\")","v":"C.LST."},{"$f":"IF(OFFSET(DE102_5!$Z$23,ROWS($Z$23:Z94)-1,COLUMNS($Z$23:Z94)-1)<>\"\",OFFSET(DE102_5!$Z$23,ROWS($Z$23:Z94)-1,COLUMNS($Z$23:Z94)-1),\"\")","v":""},{"$f":"IF(OFFSET(DE102_5!$AA$23,ROWS($AA$23:AA94)-1,COLUMNS($AA$23:AA94)-1)<>\"\",OFFSET(DE102_5!$AA$23,ROWS($AA$23:AA94)-1,COLUMNS($AA$23:AA94)-1),\"\")","v":""},{"$f":"IF(OFFSET(DE102_5!$AB$23,ROWS($AB$23:AB94)-1,COLUMNS($AB$23:AB94)-1)<>\"\",OFFSET(DE102_5!$AB$23,ROWS($AB$23:AB94)-1,COLUMNS($AB$23:AB94)-1),\"\")","v":""}]
[{"$f":"IF(OFFSET(DE102_5!$C$23,ROWS($C$23:C95)-1,COLUMNS($C$23:C95)-1)<>\"\",OFFSET(DE102_5!$C$23,ROWS($C$23:C95)-1,COLUMNS($C$23:C95)-1),\"\")","v":""},{"$f":"IF(OFFSET(DE102_5!$F$23,ROWS($F$23:F95)-1,COLUMNS($F$23:F95)-1)<>\"\",OFFSET(DE102_5!$F$23,ROWS($F$23:F95)-1,COLUMNS($F$23:F95)-1),\"\")","v":77},{"$f":"IF(OFFSET(DE102_5!$G$23,ROWS($G$23:G95)-1,COLUMNS($G$23:G95)-1)<>\"\",OFFSET(DE102_5!$G$23,ROWS($G$23:G95)-1,COLUMNS($G$23:G95)-1),\"\")","v":"I-35"},{"$f":"IF(OFFSET(DE102_5!$H$23,ROWS($H$23:H95)-1,COLUMNS($H$23:H95)-1)<>\"\",OFFSET(DE102_5!$H$23,ROWS($H$23:H95)-1,COLUMNS($H$23:H95)-1),\"\")","v":2},{"$f":"IF(OFFSET(DE102_5!$I$23,ROWS($I$23:I95)-1,COLUMNS($I$23:I95)-1)<>\"\",OFFSET(DE102_5!$I$23,ROWS($I$23:I95)-1,COLUMNS($I$23:I95)-1),\"\")","v":98.7},{"$f":"IF(OFFSET(DE102_5!$J$23,ROWS($J$23:J95)-1,COLUMNS($J$23:J95)-1)<>\"\",OFFSET(DE102_5!$J$23,ROWS($J$23:J95)-1,COLUMNS($J$23:J95)-1),\"\")","v":101.72},{"$f":"IF(OFFSET(DE102_5!$M$23,ROWS($M$23:M95)-1,COLUMNS($M$23:M95)-1)<>\"\",OFFSET(DE102_5!$M$23,ROWS($M$23:M95)-1,COLUMNS($M$23:M95)-1),\"\")","v":1965},{"$f":"IF(OFFSET(DE102_5!$N$23,ROWS($N$23:N95)-1,COLUMNS($N$23:N95)-1)<>\"\",OFFSET(DE102_5!$N$23,ROWS($N$23:N95)-1,COLUMNS($N$23:N95)-1),\"\")","v":""},{"$f":"IF(OFFSET(DE102_5!$O$23,ROWS($O$23:O95)-1,COLUMNS($O$23:O95)-1)<>\"\",OFFSET(DE102_5!$O$23,ROWS($O$23:O95)-1,COLUMNS($O$23:O95)-1),\"\")","v":"I-35-4(11)93"},{"$f":"IF(OFFSET(DE102_5!$P$23,ROWS($P$23:P95)-1,COLUMNS($P$23:P95)-1)<>\"\",OFFSET(DE102_5!$P$23,ROWS($P$23:P95)-1,COLUMNS($P$23:P95)-1),\"\")","v":"PCC"},{"$f":"IF(OFFSET(DE102_5!$Q$23,ROWS($Q$23:Q95)-1,COLUMNS($Q$23:Q95)-1)<>\"\",OFFSET(DE102_5!$Q$23,ROWS($Q$23:Q95)-1,COLUMNS($Q$23:Q95)-1),\"\")","v":10},{"$f":"IF(OFFSET(DE102_5!$R$23,ROWS($R$23:R95)-1,COLUMNS($R$23:R95)-1)<>\"\",OFFSET(DE102_5!$R$23,ROWS($R$23:R95)-1,COLUMNS($R$23:R95)-1),\"\")","v":"GSB"},{"$f":"IF(OFFSET(DE102_5!$S$23,ROWS($S$23:S95)-1,COLUMNS($S$23:S95)-1)<>\"\",OFFSET(DE102_5!$S$23,ROWS($S$23:S95)-1,COLUMNS($S$23:S95)-1),\"\")","v":4},{"$f":"IF(OFFSET(DE102_5!$T$23,ROWS($T$23:T95)-1,COLUMNS($T$23:T95)-1)<>\"\",OFFSET(DE102_5!$T$23,ROWS($T$23:T95)-1,COLUMNS($T$23:T95)-1),\"\")","v":""},{"$f":"IF(OFFSET(DE102_5!$U$23,ROWS($U$23:U95)-1,COLUMNS($U$23:U95)-1)<>\"\",OFFSET(DE102_5!$U$23,ROWS($U$23:U95)-1,COLUMNS($U$23:U95)-1),\"\")","v":""},{"$f":"IF(OFFSET(DE102_5!$V$23,ROWS($V$23:V95)-1,COLUMNS($V$23:V95)-1)<>\"\",OFFSET(DE102_5!$V$23,ROWS($V$23:V95)-1,COLUMNS($V$23:V95)-1),\"\")","v":""},{"$f":"IF(OFFSET(DE102_5!$W$23,ROWS($W$23:W95)-1,COLUMNS($W$23:W95)-1)<>\"\",OFFSET(DE102_5!$W$23,ROWS($W$23:W95)-1,COLUMNS($W$23:W95)-1),\"\")","v":""},{"$f":"IF(OFFSET(DE102_5!$X$23,ROWS($X$23:X95)-1,COLUMNS($X$23:X95)-1)<>\"\",OFFSET(DE102_5!$X$23,ROWS($X$23:X95)-1,COLUMNS($X$23:X95)-1),\"\")","v":"FERGUSON"},{"$f":"IF(OFFSET(DE102_5!$Y$23,ROWS($Y$23:Y95)-1,COLUMNS($Y$23:Y95)-1)<>\"\",OFFSET(DE102_5!$Y$23,ROWS($Y$23:Y95)-1,COLUMNS($Y$23:Y95)-1),\"\")","v":"C.LST."},{"$f":"IF(OFFSET(DE102_5!$Z$23,ROWS($Z$23:Z95)-1,COLUMNS($Z$23:Z95)-1)<>\"\",OFFSET(DE102_5!$Z$23,ROWS($Z$23:Z95)-1,COLUMNS($Z$23:Z95)-1),\"\")","v":"I"},{"$f":"IF(OFFSET(DE102_5!$AA$23,ROWS($AA$23:AA95)-1,COLUMNS($AA$23:AA95)-1)<>\"\",OFFSET(DE102_5!$AA$23,ROWS($AA$23:AA95)-1,COLUMNS($AA$23:AA95)-1),\"\")","v":""},{"$f":"IF(OFFSET(DE102_5!$AB$23,ROWS($AB$23:AB95)-1,COLUMNS($AB$23:AB95)-1)<>\"\",OFFSET(DE102_5!$AB$23,ROWS($AB$23:AB95)-1,COLUMNS($AB$23:AB95)-1),\"\")","v":""}]
[{"$f":"IF(OFFSET(DE102_5!$C$23,ROWS($C$23:C96)-1,COLUMNS($C$23:C96)-1)<>\"\",OFFSET(DE102_5!$C$23,ROWS($C$23:C96)-1,COLUMNS($C$23:C96)-1),\"\")","v":""},{"$f":"IF(OFFSET(DE102_5!$F$23,ROWS($F$23:F96)-1,COLUMNS($F$23:F96)-1)<>\"\",OFFSET(DE102_5!$F$23,ROWS($F$23:F96)-1,COLUMNS($F$23:F96)-1),\"\")","v":""},{"$f":"IF(OFFSET(DE102_5!$G$23,ROWS($G$23:G96)-1,COLUMNS($G$23:G96)-1)<>\"\",OFFSET(DE102_5!$G$23,ROWS($G$23:G96)-1,COLUMNS($G$23:G96)-1),\"\")","v":""},{"$f":"IF(OFFSET(DE102_5!$H$23,ROWS($H$23:H96)-1,COLUMNS($H$23:H96)-1)<>\"\",OFFSET(DE102_5!$H$23,ROWS($H$23:H96)-1,COLUMNS($H$23:H96)-1),\"\")","v":""},{"$f":"IF(OFFSET(DE102_5!$I$23,ROWS($I$23:I96)-1,COLUMNS($I$23:I96)-1)<>\"\",OFFSET(DE102_5!$I$23,ROWS($I$23:I96)-1,COLUMNS($I$23:I96)-1),\"\")","v":""},{"$f":"IF(OFFSET(DE102_5!$J$23,ROWS($J$23:J96)-1,COLUMNS($J$23:J96)-1)<>\"\",OFFSET(DE102_5!$J$23,ROWS($J$23:J96)-1,COLUMNS($J$23:J96)-1),\"\")","v":""},{"$f":"IF(OFFSET(DE102_5!$M$23,ROWS($M$23:M96)-1,COLUMNS($M$23:M96)-1)<>\"\",OFFSET(DE102_5!$M$23,ROWS($M$23:M96)-1,COLUMNS($M$23:M96)-1),\"\")","v":""},{"$f":"IF(OFFSET(DE102_5!$N$23,ROWS($N$23:N96)-1,COLUMNS($N$23:N96)-1)<>\"\",OFFSET(DE102_5!$N$23,ROWS($N$23:N96)-1,COLUMNS($N$23:N96)-1),\"\")","v":""},{"$f":"IF(OFFSET(DE102_5!$O$23,ROWS($O$23:O96)-1,COLUMNS($O$23:O96)-1)<>\"\",OFFSET(DE102_5!$O$23,ROWS($O$23:O96)-1,COLUMNS($O$23:O96)-1),\"\")","v":""},{"$f":"IF(OFFSET(DE102_5!$P$23,ROWS($P$23:P96)-1,COLUMNS($P$23:P96)-1)<>\"\",OFFSET(DE102_5!$P$23,ROWS($P$23:P96)-1,COLUMNS($P$23:P96)-1),\"\")","v":""},{"$f":"IF(OFFSET(DE102_5!$Q$23,ROWS($Q$23:Q96)-1,COLUMNS($Q$23:Q96)-1)<>\"\",OFFSET(DE102_5!$Q$23,ROWS($Q$23:Q96)-1,COLUMNS($Q$23:Q96)-1),\"\")","v":""},{"$f":"IF(OFFSET(DE102_5!$R$23,ROWS($R$23:R96)-1,COLUMNS($R$23:R96)-1)<>\"\",OFFSET(DE102_5!$R$23,ROWS($R$23:R96)-1,COLUMNS($R$23:R96)-1),\"\")","v":""},{"$f":"IF(OFFSET(DE102_5!$S$23,ROWS($S$23:S96)-1,COLUMNS($S$23:S96)-1)<>\"\",OFFSET(DE102_5!$S$23,ROWS($S$23:S96)-1,COLUMNS($S$23:S96)-1),\"\")","v":""},{"$f":"IF(OFFSET(DE102_5!$T$23,ROWS($T$23:T96)-1,COLUMNS($T$23:T96)-1)<>\"\",OFFSET(DE102_5!$T$23,ROWS($T$23:T96)-1,COLUMNS($T$23:T96)-1),\"\")","v":""},{"$f":"IF(OFFSET(DE102_5!$U$23,ROWS($U$23:U96)-1,COLUMNS($U$23:U96)-1)<>\"\",OFFSET(DE102_5!$U$23,ROWS($U$23:U96)-1,COLUMNS($U$23:U96)-1),\"\")","v":""},{"$f":"IF(OFFSET(DE102_5!$V$23,ROWS($V$23:V96)-1,COLUMNS($V$23:V96)-1)<>\"\",OFFSET(DE102_5!$V$23,ROWS($V$23:V96)-1,COLUMNS($V$23:V96)-1),\"\")","v":""},{"$f":"IF(OFFSET(DE102_5!$W$23,ROWS($W$23:W96)-1,COLUMNS($W$23:W96)-1)<>\"\",OFFSET(DE102_5!$W$23,ROWS($W$23:W96)-1,COLUMNS($W$23:W96)-1),\"\")","v":""},{"$f":"IF(OFFSET(DE102_5!$X$23,ROWS($X$23:X96)-1,COLUMNS($X$23:X96)-1)<>\"\",OFFSET(DE102_5!$X$23,ROWS($X$23:X96)-1,COLUMNS($X$23:X96)-1),\"\")","v":""},{"$f":"IF(OFFSET(DE102_5!$Y$23,ROWS($Y$23:Y96)-1,COLUMNS($Y$23:Y96)-1)<>\"\",OFFSET(DE102_5!$Y$23,ROWS($Y$23:Y96)-1,COLUMNS($Y$23:Y96)-1),\"\")","v":""},{"$f":"IF(OFFSET(DE102_5!$Z$23,ROWS($Z$23:Z96)-1,COLUMNS($Z$23:Z96)-1)<>\"\",OFFSET(DE102_5!$Z$23,ROWS($Z$23:Z96)-1,COLUMNS($Z$23:Z96)-1),\"\")","v":""},{"$f":"IF(OFFSET(DE102_5!$AA$23,ROWS($AA$23:AA96)-1,COLUMNS($AA$23:AA96)-1)<>\"\",OFFSET(DE102_5!$AA$23,ROWS($AA$23:AA96)-1,COLUMNS($AA$23:AA96)-1),\"\")","v":""},{"$f":"IF(OFFSET(DE102_5!$AB$23,ROWS($AB$23:AB96)-1,COLUMNS($AB$23:AB96)-1)<>\"\",OFFSET(DE102_5!$AB$23,ROWS($AB$23:AB96)-1,COLUMNS($AB$23:AB96)-1),\"\")","v":""}]
[{"$f":"IF(OFFSET(DE102_5!$C$23,ROWS($C$23:C97)-1,COLUMNS($C$23:C97)-1)<>\"\",OFFSET(DE102_5!$C$23,ROWS($C$23:C97)-1,COLUMNS($C$23:C97)-1),\"\")","v":""},{"$f":"IF(OFFSET(DE102_5!$F$23,ROWS($F$23:F97)-1,COLUMNS($F$23:F97)-1)<>\"\",OFFSET(DE102_5!$F$23,ROWS($F$23:F97)-1,COLUMNS($F$23:F97)-1),\"\")","v":85},{"$f":"IF(OFFSET(DE102_5!$G$23,ROWS($G$23:G97)-1,COLUMNS($G$23:G97)-1)<>\"\",OFFSET(DE102_5!$G$23,ROWS($G$23:G97)-1,COLUMNS($G$23:G97)-1),\"\")","v":"I-35"},{"$f":"IF(OFFSET(DE102_5!$H$23,ROWS($H$23:H97)-1,COLUMNS($H$23:H97)-1)<>\"\",OFFSET(DE102_5!$H$23,ROWS($H$23:H97)-1,COLUMNS($H$23:H97)-1),\"\")","v":2},{"$f":"IF(OFFSET(DE102_5!$I$23,ROWS($I$23:I97)-1,COLUMNS($I$23:I97)-1)<>\"\",OFFSET(DE102_5!$I$23,ROWS($I$23:I97)-1,COLUMNS($I$23:I97)-1),\"\")","v":101.72},{"$f":"IF(OFFSET(DE102_5!$J$23,ROWS($J$23:J97)-1,COLUMNS($J$23:J97)-1)<>\"\",OFFSET(DE102_5!$J$23,ROWS($J$23:J97)-1,COLUMNS($J$23:J97)-1),\"\")","v":103.04},{"$f":"IF(OFFSET(DE102_5!$M$23,ROWS($M$23:M97)-1,COLUMNS($M$23:M97)-1)<>\"\",OFFSET(DE102_5!$M$23,ROWS($M$23:M97)-1,COLUMNS($M$23:M97)-1),\"\")","v":2018},{"$f":"IF(OFFSET(DE102_5!$N$23,ROWS($N$23:N97)-1,COLUMNS($N$23:N97)-1)<>\"\",OFFSET(DE102_5!$N$23,ROWS($N$23:N97)-1,COLUMNS($N$23:N97)-1),\"\")","v":"M"},{"$f":"IF(OFFSET(DE102_5!$O$23,ROWS($O$23:O97)-1,COLUMNS($O$23:O97)-1)<>\"\",OFFSET(DE102_5!$O$23,ROWS($O$23:O97)-1,COLUMNS($O$23:O97)-1),\"\")","v":"IMN-035-4(201)87--0E-77"},{"$f":"IF(OFFSET(DE102_5!$P$23,ROWS($P$23:P97)-1,COLUMNS($P$23:P97)-1)<>\"\",OFFSET(DE102_5!$P$23,ROWS($P$23:P97)-1,COLUMNS($P$23:P97)-1),\"\")","v":"PCC"},{"$f":"IF(OFFSET(DE102_5!$Q$23,ROWS($Q$23:Q97)-1,COLUMNS($Q$23:Q97)-1)<>\"\",OFFSET(DE102_5!$Q$23,ROWS($Q$23:Q97)-1,COLUMNS($Q$23:Q97)-1),\"\")","v":""},{"$f":"IF(OFFSET(DE102_5!$R$23,ROWS($R$23:R97)-1,COLUMNS($R$23:R97)-1)<>\"\",OFFSET(DE102_5!$R$23,ROWS($R$23:R97)-1,COLUMNS($R$23:R97)-1),\"\")","v":""},{"$f":"IF(OFFSET(DE102_5!$S$23,ROWS($S$23:S97)-1,COLUMNS($S$23:S97)-1)<>\"\",OFFSET(DE102_5!$S$23,ROWS($S$23:S97)-1,COLUMNS($S$23:S97)-1),\"\")","v":""},{"$f":"IF(OFFSET(DE102_5!$T$23,ROWS($T$23:T97)-1,COLUMNS($T$23:T97)-1)<>\"\",OFFSET(DE102_5!$T$23,ROWS($T$23:T97)-1,COLUMNS($T$23:T97)-1),\"\")","v":""},{"$f":"IF(OFFSET(DE102_5!$U$23,ROWS($U$23:U97)-1,COLUMNS($U$23:U97)-1)<>\"\",OFFSET(DE102_5!$U$23,ROWS($U$23:U97)-1,COLUMNS($U$23:U97)-1),\"\")","v":""},{"$f":"IF(OFFSET(DE102_5!$V$23,ROWS($V$23:V97)-1,COLUMNS($V$23:V97)-1)<>\"\",OFFSET(DE102_5!$V$23,ROWS($V$23:V97)-1,COLUMNS($V$23:V97)-1),\"\")","v":""},{"$f":"IF(OFFSET(DE102_5!$W$23,ROWS($W$23:W97)-1,COLUMNS($W$23:W97)-1)<>\"\",OFFSET(DE102_5!$W$23,ROWS($W$23:W97)-1,COLUMNS($W$23:W97)-1),\"\")","v":""},{"$f":"IF(OFFSET(DE102_5!$X$23,ROWS($X$23:X97)-1,COLUMNS($X$23:X97)-1)<>\"\",OFFSET(DE102_5!$X$23,ROWS($X$23:X97)-1,COLUMNS($X$23:X97)-1),\"\")","v":""},{"$f":"IF(OFFSET(DE102_5!$Y$23,ROWS($Y$23:Y97)-1,COLUMNS($Y$23:Y97)-1)<>\"\",OFFSET(DE102_5!$Y$23,ROWS($Y$23:Y97)-1,COLUMNS($Y$23:Y97)-1),\"\")","v":""},{"$f":"IF(OFFSET(DE102_5!$Z$23,ROWS($Z$23:Z97)-1,COLUMNS($Z$23:Z97)-1)<>\"\",OFFSET(DE102_5!$Z$23,ROWS($Z$23:Z97)-1,COLUMNS($Z$23:Z97)-1),\"\")","v":""},{"$f":"IF(OFFSET(DE102_5!$AA$23,ROWS($AA$23:AA97)-1,COLUMNS($AA$23:AA97)-1)<>\"\",OFFSET(DE102_5!$AA$23,ROWS($AA$23:AA97)-1,COLUMNS($AA$23:AA97)-1),\"\")","v":"PCC PATCHING"},{"$f":"IF(OFFSET(DE102_5!$AB$23,ROWS($AB$23:AB97)-1,COLUMNS($AB$23:AB97)-1)<>\"\",OFFSET(DE102_5!$AB$23,ROWS($AB$23:AB97)-1,COLUMNS($AB$23:AB97)-1),\"\")","v":""}]
[{"$f":"IF(OFFSET(DE102_5!$C$23,ROWS($C$23:C98)-1,COLUMNS($C$23:C98)-1)<>\"\",OFFSET(DE102_5!$C$23,ROWS($C$23:C98)-1,COLUMNS($C$23:C98)-1),\"\")","v":""},{"$f":"IF(OFFSET(DE102_5!$F$23,ROWS($F$23:F98)-1,COLUMNS($F$23:F98)-1)<>\"\",OFFSET(DE102_5!$F$23,ROWS($F$23:F98)-1,COLUMNS($F$23:F98)-1),\"\")","v":85},{"$f":"IF(OFFSET(DE102_5!$G$23,ROWS($G$23:G98)-1,COLUMNS($G$23:G98)-1)<>\"\",OFFSET(DE102_5!$G$23,ROWS($G$23:G98)-1,COLUMNS($G$23:G98)-1),\"\")","v":"I-35"},{"$f":"IF(OFFSET(DE102_5!$H$23,ROWS($H$23:H98)-1,COLUMNS($H$23:H98)-1)<>\"\",OFFSET(DE102_5!$H$23,ROWS($H$23:H98)-1,COLUMNS($H$23:H98)-1),\"\")","v":2},{"$f":"IF(OFFSET(DE102_5!$I$23,ROWS($I$23:I98)-1,COLUMNS($I$23:I98)-1)<>\"\",OFFSET(DE102_5!$I$23,ROWS($I$23:I98)-1,COLUMNS($I$23:I98)-1),\"\")","v":101.72},{"$f":"IF(OFFSET(DE102_5!$J$23,ROWS($J$23:J98)-1,COLUMNS($J$23:J98)-1)<>\"\",OFFSET(DE102_5!$J$23,ROWS($J$23:J98)-1,COLUMNS($J$23:J98)-1),\"\")","v":103.04},{"$f":"IF(OFFSET(DE102_5!$M$23,ROWS($M$23:M98)-1,COLUMNS($M$23:M98)-1)<>\"\",OFFSET(DE102_5!$M$23,ROWS($M$23:M98)-1,COLUMNS($M$23:M98)-1),\"\")","v":2017},{"$f":"IF(OFFSET(DE102_5!$N$23,ROWS($N$23:N98)-1,COLUMNS($N$23:N98)-1)<>\"\",OFFSET(DE102_5!$N$23,ROWS($N$23:N98)-1,COLUMNS($N$23:N98)-1),\"\")","v":"S"},{"$f":"IF(OFFSET(DE102_5!$O$23,ROWS($O$23:O98)-1,COLUMNS($O$23:O98)-1)<>\"\",OFFSET(DE102_5!$O$23,ROWS($O$23:O98)-1,COLUMNS($O$23:O98)-1),\"\")","v":"IMN-035-4(190)98--03-77"},{"$f":"IF(OFFSET(DE102_5!$P$23,ROWS($P$23:P98)-1,COLUMNS($P$23:P98)-1)<>\"\",OFFSET(DE102_5!$P$23,ROWS($P$23:P98)-1,COLUMNS($P$23:P98)-1),\"\")","v":"HMA"},{"$f":"IF(OFFSET(DE102_5!$Q$23,ROWS($Q$23:Q98)-1,COLUMNS($Q$23:Q98)-1)<>\"\",OFFSET(DE102_5!$Q$23,ROWS($Q$23:Q98)-1,COLUMNS($Q$23:Q98)-1),\"\")","v":1.5},{"$f":"IF(OFFSET(DE102_5!$R$23,ROWS($R$23:R98)-1,COLUMNS($R$23:R98)-1)<>\"\",OFFSET(DE102_5!$R$23,ROWS($R$23:R98)-1,COLUMNS($R$23:R98)-1),\"\")","v":"HMA"},{"$f":"IF(OFFSET(DE102_5!$S$23,ROWS($S$23:S98)-1,COLUMNS($S$23:S98)-1)<>\"\",OFFSET(DE102_5!$S$23,ROWS($S$23:S98)-1,COLUMNS($S$23:S98)-1),\"\")","v":1.5},{"$f":"IF(OFFSET(DE102_5!$T$23,ROWS($T$23:T98)-1,COLUMNS($T$23:T98)-1)<>\"\",OFFSET(DE102_5!$T$23,ROWS($T$23:T98)-1,COLUMNS($T$23:T98)-1),\"\")","v":""},{"$f":"IF(OFFSET(DE102_5!$U$23,ROWS($U$23:U98)-1,COLUMNS($U$23:U98)-1)<>\"\",OFFSET(DE102_5!$U$23,ROWS($U$23:U98)-1,COLUMNS($U$23:U98)-1),\"\")","v":""},{"$f":"IF(OFFSET(DE102_5!$V$23,ROWS($V$23:V98)-1,COLUMNS($V$23:V98)-1)<>\"\",OFFSET(DE102_5!$V$23,ROWS($V$23:V98)-1,COLUMNS($V$23:V98)-1),\"\")","v":"SCR"},{"$f":"IF(OFFSET(DE102_5!$W$23,ROWS($W$23:W98)-1,COLUMNS($W$23:W98)-1)<>\"\",OFFSET(DE102_5!$W$23,ROWS($W$23:W98)-1,COLUMNS($W$23:W98)-1),\"\")","v":3},{"$f":"IF(OFFSET(DE102_5!$X$23,ROWS($X$23:X98)-1,COLUMNS($X$23:X98)-1)<>\"\",OFFSET(DE102_5!$X$23,ROWS($X$23:X98)-1,COLUMNS($X$23:X98)-1),\"\")","v":""},{"$f":"IF(OFFSET(DE102_5!$Y$23,ROWS($Y$23:Y98)-1,COLUMNS($Y$23:Y98)-1)<>\"\",OFFSET(DE102_5!$Y$23,ROWS($Y$23:Y98)-1,COLUMNS($Y$23:Y98)-1),\"\")","v":""},{"$f":"IF(OFFSET(DE102_5!$Z$23,ROWS($Z$23:Z98)-1,COLUMNS($Z$23:Z98)-1)<>\"\",OFFSET(DE102_5!$Z$23,ROWS($Z$23:Z98)-1,COLUMNS($Z$23:Z98)-1),\"\")","v":""},{"$f":"IF(OFFSET(DE102_5!$AA$23,ROWS($AA$23:AA98)-1,COLUMNS($AA$23:AA98)-1)<>\"\",OFFSET(DE102_5!$AA$23,ROWS($AA$23:AA98)-1,COLUMNS($AA$23:AA98)-1),\"\")","v":""},{"$f":"IF(OFFSET(DE102_5!$AB$23,ROWS($AB$23:AB98)-1,COLUMNS($AB$23:AB98)-1)<>\"\",OFFSET(DE102_5!$AB$23,ROWS($AB$23:AB98)-1,COLUMNS($AB$23:AB98)-1),\"\")","v":""}]
[{"$f":"IF(OFFSET(DE102_5!$C$23,ROWS($C$23:C99)-1,COLUMNS($C$23:C99)-1)<>\"\",OFFSET(DE102_5!$C$23,ROWS($C$23:C99)-1,COLUMNS($C$23:C99)-1),\"\")","v":""},{"$f":"IF(OFFSET(DE102_5!$F$23,ROWS($F$23:F99)-1,COLUMNS($F$23:F99)-1)<>\"\",OFFSET(DE102_5!$F$23,ROWS($F$23:F99)-1,COLUMNS($F$23:F99)-1),\"\")","v":85},{"$f":"IF(OFFSET(DE102_5!$G$23,ROWS($G$23:G99)-1,COLUMNS($G$23:G99)-1)<>\"\",OFFSET(DE102_5!$G$23,ROWS($G$23:G99)-1,COLUMNS($G$23:G99)-1),\"\")","v":"I-35"},{"$f":"IF(OFFSET(DE102_5!$H$23,ROWS($H$23:H99)-1,COLUMNS($H$23:H99)-1)<>\"\",OFFSET(DE102_5!$H$23,ROWS($H$23:H99)-1,COLUMNS($H$23:H99)-1),\"\")","v":2},{"$f":"IF(OFFSET(DE102_5!$I$23,ROWS($I$23:I99)-1,COLUMNS($I$23:I99)-1)<>\"\",OFFSET(DE102_5!$I$23,ROWS($I$23:I99)-1,COLUMNS($I$23:I99)-1),\"\")","v":101.72},{"$f":"IF(OFFSET(DE102_5!$J$23,ROWS($J$23:J99)-1,COLUMNS($J$23:J99)-1)<>\"\",OFFSET(DE102_5!$J$23,ROWS($J$23:J99)-1,COLUMNS($J$23:J99)-1),\"\")","v":103.04},{"$f":"IF(OFFSET(DE102_5!$M$23,ROWS($M$23:M99)-1,COLUMNS($M$23:M99)-1)<>\"\",OFFSET(DE102_5!$M$23,ROWS($M$23:M99)-1,COLUMNS($M$23:M99)-1),\"\")","v":2017},{"$f":"IF(OFFSET(DE102_5!$N$23,ROWS($N$23:N99)-1,COLUMNS($N$23:N99)-1)<>\"\",OFFSET(DE102_5!$N$23,ROWS($N$23:N99)-1,COLUMNS($N$23:N99)-1),\"\")","v":"S"},{"$f":"IF(OFFSET(DE102_5!$O$23,ROWS($O$23:O99)-1,COLUMNS($O$23:O99)-1)<>\"\",OFFSET(DE102_5!$O$23,ROWS($O$23:O99)-1,COLUMNS($O$23:O99)-1),\"\")","v":"IMN-035-4(190)98--0E-77"},{"$f":"IF(OFFSET(DE102_5!$P$23,ROWS($P$23:P99)-1,COLUMNS($P$23:P99)-1)<>\"\",OFFSET(DE102_5!$P$23,ROWS($P$23:P99)-1,COLUMNS($P$23:P99)-1),\"\")","v":"HMA"},{"$f":"IF(OFFSET(DE102_5!$Q$23,ROWS($Q$23:Q99)-1,COLUMNS($Q$23:Q99)-1)<>\"\",OFFSET(DE102_5!$Q$23,ROWS($Q$23:Q99)-1,COLUMNS($Q$23:Q99)-1),\"\")","v":1.5},{"$f":"IF(OFFSET(DE102_5!$R$23,ROWS($R$23:R99)-1,COLUMNS($R$23:R99)-1)<>\"\",OFFSET(DE102_5!$R$23,ROWS($R$23:R99)-1,COLUMNS($R$23:R99)-1),\"\")","v":"HMA"},{"$f":"IF(OFFSET(DE102_5!$S$23,ROWS($S$23:S99)-1,COLUMNS($S$23:S99)-1)<>\"\",OFFSET(DE102_5!$S$23,ROWS($S$23:S99)-1,COLUMNS($S$23:S99)-1),\"\")","v":1.5},{"$f":"IF(OFFSET(DE102_5!$T$23,ROWS($T$23:T99)-1,COLUMNS($T$23:T99)-1)<>\"\",OFFSET(DE102_5!$T$23,ROWS($T$23:T99)-1,COLUMNS($T$23:T99)-1),\"\")","v":""},{"$f":"IF(OFFSET(DE102_5!$U$23,ROWS($U$23:U99)-1,COLUMNS($U$23:U99)-1)<>\"\",OFFSET(DE102_5!$U$23,ROWS($U$23:U99)-1,COLUMNS($U$23:U99)-1),\"\")","v":""},{"$f":"IF(OFFSET(DE102_5!$V$23,ROWS($V$23:V99)-1,COLUMNS($V$23:V99)-1)<>\"\",OFFSET(DE102_5!$V$23,ROWS($V$23:V99)-1,COLUMNS($V$23:V99)-1),\"\")","v":"SCR"},{"$f":"IF(OFFSET(DE102_5!$W$23,ROWS($W$23:W99)-1,COLUMNS($W$23:W99)-1)<>\"\",OFFSET(DE102_5!$W$23,ROWS($W$23:W99)-1,COLUMNS($W$23:W99)-1),\"\")","v":3},{"$f":"IF(OFFSET(DE102_5!$X$23,ROWS($X$23:X99)-1,COLUMNS($X$23:X99)-1)<>\"\",OFFSET(DE102_5!$X$23,ROWS($X$23:X99)-1,COLUMNS($X$23:X99)-1),\"\")","v":""},{"$f":"IF(OFFSET(DE102_5!$Y$23,ROWS($Y$23:Y99)-1,COLUMNS($Y$23:Y99)-1)<>\"\",OFFSET(DE102_5!$Y$23,ROWS($Y$23:Y99)-1,COLUMNS($Y$23:Y99)-1),\"\")","v":""},{"$f":"IF(OFFSET(DE102_5!$Z$23,ROWS($Z$23:Z99)-1,COLUMNS($Z$23:Z99)-1)<>\"\",OFFSET(DE102_5!$Z$23,ROWS($Z$23:Z99)-1,COLUMNS($Z$23:Z99)-1),\"\")","v":""},{"$f":"IF(OFFSET(DE102_5!$AA$23,ROWS($AA$23:AA99)-1,COLUMNS($AA$23:AA99)-1)<>\"\",OFFSET(DE102_5!$AA$23,ROWS($AA$23:AA99)-1,COLUMNS($AA$23:AA99)-1),\"\")","v":""},{"$f":"IF(OFFSET(DE102_5!$AB$23,ROWS($AB$23:AB99)-1,COLUMNS($AB$23:AB99)-1)<>\"\",OFFSET(DE102_5!$AB$23,ROWS($AB$23:AB99)-1,COLUMNS($AB$23:AB99)-1),\"\")","v":""}]
[{"$f":"IF(OFFSET(DE102_5!$C$23,ROWS($C$23:C100)-1,COLUMNS($C$23:C100)-1)<>\"\",OFFSET(DE102_5!$C$23,ROWS($C$23:C100)-1,COLUMNS($C$23:C100)-1),\"\")","v":""},{"$f":"IF(OFFSET(DE102_5!$F$23,ROWS($F$23:F100)-1,COLUMNS($F$23:F100)-1)<>\"\",OFFSET(DE102_5!$F$23,ROWS($F$23:F100)-1,COLUMNS($F$23:F100)-1),\"\")","v":85},{"$f":"IF(OFFSET(DE102_5!$G$23,ROWS($G$23:G100)-1,COLUMNS($G$23:G100)-1)<>\"\",OFFSET(DE102_5!$G$23,ROWS($G$23:G100)-1,COLUMNS($G$23:G100)-1),\"\")","v":"I-35"},{"$f":"IF(OFFSET(DE102_5!$H$23,ROWS($H$23:H100)-1,COLUMNS($H$23:H100)-1)<>\"\",OFFSET(DE102_5!$H$23,ROWS($H$23:H100)-1,COLUMNS($H$23:H100)-1),\"\")","v":2},{"$f":"IF(OFFSET(DE102_5!$I$23,ROWS($I$23:I100)-1,COLUMNS($I$23:I100)-1)<>\"\",OFFSET(DE102_5!$I$23,ROWS($I$23:I100)-1,COLUMNS($I$23:I100)-1),\"\")","v":101.72},{"$f":"IF(OFFSET(DE102_5!$J$23,ROWS($J$23:J100)-1,COLUMNS($J$23:J100)-1)<>\"\",OFFSET(DE102_5!$J$23,ROWS($J$23:J100)-1,COLUMNS($J$23:J100)-1),\"\")","v":103.04},{"$f":"IF(OFFSET(DE102_5!$M$23,ROWS($M$23:M100)-1,COLUMNS($M$23:M100)-1)<>\"\",OFFSET(DE102_5!$M$23,ROWS($M$23:M100)-1,COLUMNS($M$23:M100)-1),\"\")","v":2017},{"$f":"IF(OFFSET(DE102_5!$N$23,ROWS($N$23:N100)-1,COLUMNS($N$23:N100)-1)<>\"\",OFFSET(DE102_5!$N$23,ROWS($N$23:N100)-1,COLUMNS($N$23:N100)-1),\"\")","v":"M"},{"$f":"IF(OFFSET(DE102_5!$O$23,ROWS($O$23:O100)-1,COLUMNS($O$23:O100)-1)<>\"\",OFFSET(DE102_5!$O$23,ROWS($O$23:O100)-1,COLUMNS($O$23:O100)-1),\"\")","v":"IMN-035-4(179)87--0E-77"},{"$f":"IF(OFFSET(DE102_5!$P$23,ROWS($P$23:P100)-1,COLUMNS($P$23:P100)-1)<>\"\",OFFSET(DE102_5!$P$23,ROWS($P$23:P100)-1,COLUMNS($P$23:P100)-1),\"\")","v":"PCC"},{"$f":"IF(OFFSET(DE102_5!$Q$23,ROWS($Q$23:Q100)-1,COLUMNS($Q$23:Q100)-1)<>\"\",OFFSET(DE102_5!$Q$23,ROWS($Q$23:Q100)-1,COLUMNS($Q$23:Q100)-1),\"\")","v":12},{"$f":"IF(OFFSET(DE102_5!$R$23,ROWS($R$23:R100)-1,COLUMNS($R$23:R100)-1)<>\"\",OFFSET(DE102_5!$R$23,ROWS($R$23:R100)-1,COLUMNS($R$23:R100)-1),\"\")","v":""},{"$f":"IF(OFFSET(DE102_5!$S$23,ROWS($S$23:S100)-1,COLUMNS($S$23:S100)-1)<>\"\",OFFSET(DE102_5!$S$23,ROWS($S$23:S100)-1,COLUMNS($S$23:S100)-1),\"\")","v":""},{"$f":"IF(OFFSET(DE102_5!$T$23,ROWS($T$23:T100)-1,COLUMNS($T$23:T100)-1)<>\"\",OFFSET(DE102_5!$T$23,ROWS($T$23:T100)-1,COLUMNS($T$23:T100)-1),\"\")","v":""},{"$f":"IF(OFFSET(DE102_5!$U$23,ROWS($U$23:U100)-1,COLUMNS($U$23:U100)-1)<>\"\",OFFSET(DE102_5!$U$23,ROWS($U$23:U100)-1,COLUMNS($U$23:U100)-1),\"\")","v":""},{"$f":"IF(OFFSET(DE102_5!$V$23,ROWS($V$23:V100)-1,COLUMNS($V$23:V100)-1)<>\"\",OFFSET(DE102_5!$V$23,ROWS($V$23:V100)-1,COLUMNS($V$23:V100)-1),\"\")","v":""},{"$f":"IF(OFFSET(DE102_5!$W$23,ROWS($W$23:W100)-1,COLUMNS($W$23:W100)-1)<>\"\",OFFSET(DE102_5!$W$23,ROWS($W$23:W100)-1,COLUMNS($W$23:W100)-1),\"\")","v":""},{"$f":"IF(OFFSET(DE102_5!$X$23,ROWS($X$23:X100)-1,COLUMNS($X$23:X100)-1)<>\"\",OFFSET(DE102_5!$X$23,ROWS($X$23:X100)-1,COLUMNS($X$23:X100)-1),\"\")","v":""},{"$f":"IF(OFFSET(DE102_5!$Y$23,ROWS($Y$23:Y100)-1,COLUMNS($Y$23:Y100)-1)<>\"\",OFFSET(DE102_5!$Y$23,ROWS($Y$23:Y100)-1,COLUMNS($Y$23:Y100)-1),\"\")","v":""},{"$f":"IF(OFFSET(DE102_5!$Z$23,ROWS($Z$23:Z100)-1,COLUMNS($Z$23:Z100)-1)<>\"\",OFFSET(DE102_5!$Z$23,ROWS($Z$23:Z100)-1,COLUMNS($Z$23:Z100)-1),\"\")","v":""},{"$f":"IF(OFFSET(DE102_5!$AA$23,ROWS($AA$23:AA100)-1,COLUMNS($AA$23:AA100)-1)<>\"\",OFFSET(DE102_5!$AA$23,ROWS($AA$23:AA100)-1,COLUMNS($AA$23:AA100)-1),\"\")","v":"PCC PATCHING"},{"$f":"IF(OFFSET(DE102_5!$AB$23,ROWS($AB$23:AB100)-1,COLUMNS($AB$23:AB100)-1)<>\"\",OFFSET(DE102_5!$AB$23,ROWS($AB$23:AB100)-1,COLUMNS($AB$23:AB100)-1),\"\")","v":""}]
[{"$f":"IF(OFFSET(DE102_5!$C$23,ROWS($C$23:C101)-1,COLUMNS($C$23:C101)-1)<>\"\",OFFSET(DE102_5!$C$23,ROWS($C$23:C101)-1,COLUMNS($C$23:C101)-1),\"\")","v":""},{"$f":"IF(OFFSET(DE102_5!$F$23,ROWS($F$23:F101)-1,COLUMNS($F$23:F101)-1)<>\"\",OFFSET(DE102_5!$F$23,ROWS($F$23:F101)-1,COLUMNS($F$23:F101)-1),\"\")","v":85},{"$f":"IF(OFFSET(DE102_5!$G$23,ROWS($G$23:G101)-1,COLUMNS($G$23:G101)-1)<>\"\",OFFSET(DE102_5!$G$23,ROWS($G$23:G101)-1,COLUMNS($G$23:G101)-1),\"\")","v":"I-35"},{"$f":"IF(OFFSET(DE102_5!$H$23,ROWS($H$23:H101)-1,COLUMNS($H$23:H101)-1)<>\"\",OFFSET(DE102_5!$H$23,ROWS($H$23:H101)-1,COLUMNS($H$23:H101)-1),\"\")","v":2},{"$f":"IF(OFFSET(DE102_5!$I$23,ROWS($I$23:I101)-1,COLUMNS($I$23:I101)-1)<>\"\",OFFSET(DE102_5!$I$23,ROWS($I$23:I101)-1,COLUMNS($I$23:I101)-1),\"\")","v":101.72},{"$f":"IF(OFFSET(DE102_5!$J$23,ROWS($J$23:J101)-1,COLUMNS($J$23:J101)-1)<>\"\",OFFSET(DE102_5!$J$23,ROWS($J$23:J101)-1,COLUMNS($J$23:J101)-1),\"\")","v":103.04},{"$f":"IF(OFFSET(DE102_5!$M$23,ROWS($M$23:M101)-1,COLUMNS($M$23:M101)-1)<>\"\",OFFSET(DE102_5!$M$23,ROWS($M$23:M101)-1,COLUMNS($M$23:M101)-1),\"\")","v":1997},{"$f":"IF(OFFSET(DE102_5!$N$23,ROWS($N$23:N101)-1,COLUMNS($N$23:N101)-1)<>\"\",OFFSET(DE102_5!$N$23,ROWS($N$23:N101)-1,COLUMNS($N$23:N101)-1),\"\")","v":""},{"$f":"IF(OFFSET(DE102_5!$O$23,ROWS($O$23:O101)-1,COLUMNS($O$23:O101)-1)<>\"\",OFFSET(DE102_5!$O$23,ROWS($O$23:O101)-1,COLUMNS($O$23:O101)-1),\"\")","v":"IM-35-4(83)98--13-77"},{"$f":"IF(OFFSET(DE102_5!$P$23,ROWS($P$23:P101)-1,COLUMNS($P$23:P101)-1)<>\"\",OFFSET(DE102_5!$P$23,ROWS($P$23:P101)-1,COLUMNS($P$23:P101)-1),\"\")","v":"AAC"},{"$f":"IF(OFFSET(DE102_5!$Q$23,ROWS($Q$23:Q101)-1,COLUMNS($Q$23:Q101)-1)<>\"\",OFFSET(DE102_5!$Q$23,ROWS($Q$23:Q101)-1,COLUMNS($Q$23:Q101)-1),\"\")","v":2},{"$f":"IF(OFFSET(DE102_5!$R$23,ROWS($R$23:R101)-1,COLUMNS($R$23:R101)-1)<>\"\",OFFSET(DE102_5!$R$23,ROWS($R$23:R101)-1,COLUMNS($R$23:R101)-1),\"\")","v":"AAC"},{"$f":"IF(OFFSET(DE102_5!$S$23,ROWS($S$23:S101)-1,COLUMNS($S$23:S101)-1)<>\"\",OFFSET(DE102_5!$S$23,ROWS($S$23:S101)-1,COLUMNS($S$23:S101)-1),\"\")","v":6},{"$f":"IF(OFFSET(DE102_5!$T$23,ROWS($T$23:T101)-1,COLUMNS($T$23:T101)-1)<>\"\",OFFSET(DE102_5!$T$23,ROWS($T$23:T101)-1,COLUMNS($T$23:T101)-1),\"\")","v":""},{"$f":"IF(OFFSET(DE102_5!$U$23,ROWS($U$23:U101)-1,COLUMNS($U$23:U101)-1)<>\"\",OFFSET(DE102_5!$U$23,ROWS($U$23:U101)-1,COLUMNS($U$23:U101)-1),\"\")","v":""},{"$f":"IF(OFFSET(DE102_5!$V$23,ROWS($V$23:V101)-1,COLUMNS($V$23:V101)-1)<>\"\",OFFSET(DE102_5!$V$23,ROWS($V$23:V101)-1,COLUMNS($V$23:V101)-1),\"\")","v":""},{"$f":"IF(OFFSET(DE102_5!$W$23,ROWS($W$23:W101)-1,COLUMNS($W$23:W101)-1)<>\"\",OFFSET(DE102_5!$W$23,ROWS($W$23:W101)-1,COLUMNS($W$23:W101)-1),\"\")","v":""},{"$f":"IF(OFFSET(DE102_5!$X$23,ROWS($X$23:X101)-1,COLUMNS($X$23:X101)-1)<>\"\",OFFSET(DE102_5!$X$23,ROWS($X$23:X101)-1,COLUMNS($X$23:X101)-1),\"\")","v":"AMES MINE"},{"$f":"IF(OFFSET(DE102_5!$Y$23,ROWS($Y$23:Y101)-1,COLUMNS($Y$23:Y101)-1)<>\"\",OFFSET(DE102_5!$Y$23,ROWS($Y$23:Y101)-1,COLUMNS($Y$23:Y101)-1),\"\")","v":"C.LST."},{"$f":"IF(OFFSET(DE102_5!$Z$23,ROWS($Z$23:Z101)-1,COLUMNS($Z$23:Z101)-1)<>\"\",OFFSET(DE102_5!$Z$23,ROWS($Z$23:Z101)-1,COLUMNS($Z$23:Z101)-1),\"\")","v":""},{"$f":"IF(OFFSET(DE102_5!$AA$23,ROWS($AA$23:AA101)-1,COLUMNS($AA$23:AA101)-1)<>\"\",OFFSET(DE102_5!$AA$23,ROWS($AA$23:AA101)-1,COLUMNS($AA$23:AA101)-1),\"\")","v":""},{"$f":"IF(OFFSET(DE102_5!$AB$23,ROWS($AB$23:AB101)-1,COLUMNS($AB$23:AB101)-1)<>\"\",OFFSET(DE102_5!$AB$23,ROWS($AB$23:AB101)-1,COLUMNS($AB$23:AB101)-1),\"\")","v":""}]
[{"$f":"IF(OFFSET(DE102_5!$C$23,ROWS($C$23:C102)-1,COLUMNS($C$23:C102)-1)<>\"\",OFFSET(DE102_5!$C$23,ROWS($C$23:C102)-1,COLUMNS($C$23:C102)-1),\"\")","v":""},{"$f":"IF(OFFSET(DE102_5!$F$23,ROWS($F$23:F102)-1,COLUMNS($F$23:F102)-1)<>\"\",OFFSET(DE102_5!$F$23,ROWS($F$23:F102)-1,COLUMNS($F$23:F102)-1),\"\")","v":85},{"$f":"IF(OFFSET(DE102_5!$G$23,ROWS($G$23:G102)-1,COLUMNS($G$23:G102)-1)<>\"\",OFFSET(DE102_5!$G$23,ROWS($G$23:G102)-1,COLUMNS($G$23:G102)-1),\"\")","v":"I-35"},{"$f":"IF(OFFSET(DE102_5!$H$23,ROWS($H$23:H102)-1,COLUMNS($H$23:H102)-1)<>\"\",OFFSET(DE102_5!$H$23,ROWS($H$23:H102)-1,COLUMNS($H$23:H102)-1),\"\")","v":2},{"$f":"IF(OFFSET(DE102_5!$I$23,ROWS($I$23:I102)-1,COLUMNS($I$23:I102)-1)<>\"\",OFFSET(DE102_5!$I$23,ROWS($I$23:I102)-1,COLUMNS($I$23:I102)-1),\"\")","v":101.72},{"$f":"IF(OFFSET(DE102_5!$J$23,ROWS($J$23:J102)-1,COLUMNS($J$23:J102)-1)<>\"\",OFFSET(DE102_5!$J$23,ROWS($J$23:J102)-1,COLUMNS($J$23:J102)-1),\"\")","v":103.04},{"$f":"IF(OFFSET(DE102_5!$M$23,ROWS($M$23:M102)-1,COLUMNS($M$23:M102)-1)<>\"\",OFFSET(DE102_5!$M$23,ROWS($M$23:M102)-1,COLUMNS($M$23:M102)-1),\"\")","v":1965},{"$f":"IF(OFFSET(DE102_5!$N$23,ROWS($N$23:N102)-1,COLUMNS($N$23:N102)-1)<>\"\",OFFSET(DE102_5!$N$23,ROWS($N$23:N102)-1,COLUMNS($N$23:N102)-1),\"\")","v":""},{"$f":"IF(OFFSET(DE102_5!$O$23,ROWS($O$23:O102)-1,COLUMNS($O$23:O102)-1)<>\"\",OFFSET(DE102_5!$O$23,ROWS($O$23:O102)-1,COLUMNS($O$23:O102)-1),\"\")","v":"I-35-4(11)93"},{"$f":"IF(OFFSET(DE102_5!$P$23,ROWS($P$23:P102)-1,COLUMNS($P$23:P102)-1)<>\"\",OFFSET(DE102_5!$P$23,ROWS($P$23:P102)-1,COLUMNS($P$23:P102)-1),\"\")","v":"PCC"},{"$f":"IF(OFFSET(DE102_5!$Q$23,ROWS($Q$23:Q102)-1,COLUMNS($Q$23:Q102)-1)<>\"\",OFFSET(DE102_5!$Q$23,ROWS($Q$23:Q102)-1,COLUMNS($Q$23:Q102)-1),\"\")","v":10},{"$f":"IF(OFFSET(DE102_5!$R$23,ROWS($R$23:R102)-1,COLUMNS($R$23:R102)-1)<>\"\",OFFSET(DE102_5!$R$23,ROWS($R$23:R102)-1,COLUMNS($R$23:R102)-1),\"\")","v":"GSB"},{"$f":"IF(OFFSET(DE102_5!$S$23,ROWS($S$23:S102)-1,COLUMNS($S$23:S102)-1)<>\"\",OFFSET(DE102_5!$S$23,ROWS($S$23:S102)-1,COLUMNS($S$23:S102)-1),\"\")","v":4},{"$f":"IF(OFFSET(DE102_5!$T$23,ROWS($T$23:T102)-1,COLUMNS($T$23:T102)-1)<>\"\",OFFSET(DE102_5!$T$23,ROWS($T$23:T102)-1,COLUMNS($T$23:T102)-1),\"\")","v":""},{"$f":"IF(OFFSET(DE102_5!$U$23,ROWS($U$23:U102)-1,COLUMNS($U$23:U102)-1)<>\"\",OFFSET(DE102_5!$U$23,ROWS($U$23:U102)-1,COLUMNS($U$23:U102)-1),\"\")","v":""},{"$f":"IF(OFFSET(DE102_5!$V$23,ROWS($V$23:V102)-1,COLUMNS($V$23:V102)-1)<>\"\",OFFSET(DE102_5!$V$23,ROWS($V$23:V102)-1,COLUMNS($V$23:V102)-1),\"\")","v":""},{"$f":"IF(OFFSET(DE102_5!$W$23,ROWS($W$23:W102)-1,COLUMNS($W$23:W102)-1)<>\"\",OFFSET(DE102_5!$W$23,ROWS($W$23:W102)-1,COLUMNS($W$23:W102)-1),\"\")","v":""},{"$f":"IF(OFFSET(DE102_5!$X$23,ROWS($X$23:X102)-1,COLUMNS($X$23:X102)-1)<>\"\",OFFSET(DE102_5!$X$23,ROWS($X$23:X102)-1,COLUMNS($X$23:X102)-1),\"\")","v":"FERGUSON"},{"$f":"IF(OFFSET(DE102_5!$Y$23,ROWS($Y$23:Y102)-1,COLUMNS($Y$23:Y102)-1)<>\"\",OFFSET(DE102_5!$Y$23,ROWS($Y$23:Y102)-1,COLUMNS($Y$23:Y102)-1),\"\")","v":"C.LST."},{"$f":"IF(OFFSET(DE102_5!$Z$23,ROWS($Z$23:Z102)-1,COLUMNS($Z$23:Z102)-1)<>\"\",OFFSET(DE102_5!$Z$23,ROWS($Z$23:Z102)-1,COLUMNS($Z$23:Z102)-1),\"\")","v":"I"},{"$f":"IF(OFFSET(DE102_5!$AA$23,ROWS($AA$23:AA102)-1,COLUMNS($AA$23:AA102)-1)<>\"\",OFFSET(DE102_5!$AA$23,ROWS($AA$23:AA102)-1,COLUMNS($AA$23:AA102)-1),\"\")","v":""},{"$f":"IF(OFFSET(DE102_5!$AB$23,ROWS($AB$23:AB102)-1,COLUMNS($AB$23:AB102)-1)<>\"\",OFFSET(DE102_5!$AB$23,ROWS($AB$23:AB102)-1,COLUMNS($AB$23:AB102)-1),\"\")","v":""}]
[{"$f":"IF(OFFSET(DE102_5!$C$23,ROWS($C$23:C103)-1,COLUMNS($C$23:C103)-1)<>\"\",OFFSET(DE102_5!$C$23,ROWS($C$23:C103)-1,COLUMNS($C$23:C103)-1),\"\")","v":""},{"$f":"IF(OFFSET(DE102_5!$F$23,ROWS($F$23:F103)-1,COLUMNS($F$23:F103)-1)<>\"\",OFFSET(DE102_5!$F$23,ROWS($F$23:F103)-1,COLUMNS($F$23:F103)-1),\"\")","v":""},{"$f":"IF(OFFSET(DE102_5!$G$23,ROWS($G$23:G103)-1,COLUMNS($G$23:G103)-1)<>\"\",OFFSET(DE102_5!$G$23,ROWS($G$23:G103)-1,COLUMNS($G$23:G103)-1),\"\")","v":""},{"$f":"IF(OFFSET(DE102_5!$H$23,ROWS($H$23:H103)-1,COLUMNS($H$23:H103)-1)<>\"\",OFFSET(DE102_5!$H$23,ROWS($H$23:H103)-1,COLUMNS($H$23:H103)-1),\"\")","v":""},{"$f":"IF(OFFSET(DE102_5!$I$23,ROWS($I$23:I103)-1,COLUMNS($I$23:I103)-1)<>\"\",OFFSET(DE102_5!$I$23,ROWS($I$23:I103)-1,COLUMNS($I$23:I103)-1),\"\")","v":""},{"$f":"IF(OFFSET(DE102_5!$J$23,ROWS($J$23:J103)-1,COLUMNS($J$23:J103)-1)<>\"\",OFFSET(DE102_5!$J$23,ROWS($J$23:J103)-1,COLUMNS($J$23:J103)-1),\"\")","v":""},{"$f":"IF(OFFSET(DE102_5!$M$23,ROWS($M$23:M103)-1,COLUMNS($M$23:M103)-1)<>\"\",OFFSET(DE102_5!$M$23,ROWS($M$23:M103)-1,COLUMNS($M$23:M103)-1),\"\")","v":""},{"$f":"IF(OFFSET(DE102_5!$N$23,ROWS($N$23:N103)-1,COLUMNS($N$23:N103)-1)<>\"\",OFFSET(DE102_5!$N$23,ROWS($N$23:N103)-1,COLUMNS($N$23:N103)-1),\"\")","v":""},{"$f":"IF(OFFSET(DE102_5!$O$23,ROWS($O$23:O103)-1,COLUMNS($O$23:O103)-1)<>\"\",OFFSET(DE102_5!$O$23,ROWS($O$23:O103)-1,COLUMNS($O$23:O103)-1),\"\")","v":""},{"$f":"IF(OFFSET(DE102_5!$P$23,ROWS($P$23:P103)-1,COLUMNS($P$23:P103)-1)<>\"\",OFFSET(DE102_5!$P$23,ROWS($P$23:P103)-1,COLUMNS($P$23:P103)-1),\"\")","v":""},{"$f":"IF(OFFSET(DE102_5!$Q$23,ROWS($Q$23:Q103)-1,COLUMNS($Q$23:Q103)-1)<>\"\",OFFSET(DE102_5!$Q$23,ROWS($Q$23:Q103)-1,COLUMNS($Q$23:Q103)-1),\"\")","v":""},{"$f":"IF(OFFSET(DE102_5!$R$23,ROWS($R$23:R103)-1,COLUMNS($R$23:R103)-1)<>\"\",OFFSET(DE102_5!$R$23,ROWS($R$23:R103)-1,COLUMNS($R$23:R103)-1),\"\")","v":""},{"$f":"IF(OFFSET(DE102_5!$S$23,ROWS($S$23:S103)-1,COLUMNS($S$23:S103)-1)<>\"\",OFFSET(DE102_5!$S$23,ROWS($S$23:S103)-1,COLUMNS($S$23:S103)-1),\"\")","v":""},{"$f":"IF(OFFSET(DE102_5!$T$23,ROWS($T$23:T103)-1,COLUMNS($T$23:T103)-1)<>\"\",OFFSET(DE102_5!$T$23,ROWS($T$23:T103)-1,COLUMNS($T$23:T103)-1),\"\")","v":""},{"$f":"IF(OFFSET(DE102_5!$U$23,ROWS($U$23:U103)-1,COLUMNS($U$23:U103)-1)<>\"\",OFFSET(DE102_5!$U$23,ROWS($U$23:U103)-1,COLUMNS($U$23:U103)-1),\"\")","v":""},{"$f":"IF(OFFSET(DE102_5!$V$23,ROWS($V$23:V103)-1,COLUMNS($V$23:V103)-1)<>\"\",OFFSET(DE102_5!$V$23,ROWS($V$23:V103)-1,COLUMNS($V$23:V103)-1),\"\")","v":""},{"$f":"IF(OFFSET(DE102_5!$W$23,ROWS($W$23:W103)-1,COLUMNS($W$23:W103)-1)<>\"\",OFFSET(DE102_5!$W$23,ROWS($W$23:W103)-1,COLUMNS($W$23:W103)-1),\"\")","v":""},{"$f":"IF(OFFSET(DE102_5!$X$23,ROWS($X$23:X103)-1,COLUMNS($X$23:X103)-1)<>\"\",OFFSET(DE102_5!$X$23,ROWS($X$23:X103)-1,COLUMNS($X$23:X103)-1),\"\")","v":""},{"$f":"IF(OFFSET(DE102_5!$Y$23,ROWS($Y$23:Y103)-1,COLUMNS($Y$23:Y103)-1)<>\"\",OFFSET(DE102_5!$Y$23,ROWS($Y$23:Y103)-1,COLUMNS($Y$23:Y103)-1),\"\")","v":""},{"$f":"IF(OFFSET(DE102_5!$Z$23,ROWS($Z$23:Z103)-1,COLUMNS($Z$23:Z103)-1)<>\"\",OFFSET(DE102_5!$Z$23,ROWS($Z$23:Z103)-1,COLUMNS($Z$23:Z103)-1),\"\")","v":""},{"$f":"IF(OFFSET(DE102_5!$AA$23,ROWS($AA$23:AA103)-1,COLUMNS($AA$23:AA103)-1)<>\"\",OFFSET(DE102_5!$AA$23,ROWS($AA$23:AA103)-1,COLUMNS($AA$23:AA103)-1),\"\")","v":""},{"$f":"IF(OFFSET(DE102_5!$AB$23,ROWS($AB$23:AB103)-1,COLUMNS($AB$23:AB103)-1)<>\"\",OFFSET(DE102_5!$AB$23,ROWS($AB$23:AB103)-1,COLUMNS($AB$23:AB103)-1),\"\")","v":""}]
["102-5"]
["2017-04-18"]
["EXISTING PAVEMENT"]
[]
["No.","Location",null,null,null,null,"Year","Type","Project Number","Surface",null,"Base",null,"Subbase",null,"Removal",null,"Coarse Aggregate",null,null,"Reinforcement","Remarks"]
[]
[null,"County","Route","Dir. of Travel","Begin Ref. Loc. Sign","End Ref. Loc. Sign",null,null,null,"Type","Depth","Type","Depth","Type","Depth","Type","Depth","Source","Type","Durability Class","Type"]
[]
[null,null,null,null,null,null,null,null,null,null,"IN",null,"IN",null,"IN",null,"IN"]
[{"$f":"IF(OFFSET(DE102_5!$C$104,ROWS($C$104:C104)-1,COLUMNS($C$104:C104)-1)<>\"\",OFFSET(DE102_5!$C$104,ROWS($C$104:C104)-1,COLUMNS($C$104:C104)-1),\"\")","v":""},{"$f":"IF(OFFSET(DE102_5!$F$104,ROWS($F$104:F104)-1,COLUMNS($F$104:F104)-1)<>\"\",OFFSET(DE102_5!$F$104,ROWS($F$104:F104)-1,COLUMNS($F$104:F104)-1),\"\")","v":""},{"$f":"IF(OFFSET(DE102_5!$G$104,ROWS($G$104:G104)-1,COLUMNS($G$104:G104)-1)<>\"\",OFFSET(DE102_5!$G$104,ROWS($G$104:G104)-1,COLUMNS($G$104:G104)-1),\"\")","v":""},{"$f":"IF(OFFSET(DE102_5!$H$104,ROWS($H$104:H104)-1,COLUMNS($H$104:H104)-1)<>\"\",OFFSET(DE102_5!$H$104,ROWS($H$104:H104)-1,COLUMNS($H$104:H104)-1),\"\")","v":""},{"$f":"IF(OFFSET(DE102_5!$I$104,ROWS($I$104:I104)-1,COLUMNS($I$104:I104)-1)<>\"\",OFFSET(DE102_5!$I$104,ROWS($I$104:I104)-1,COLUMNS($I$104:I104)-1),\"\")","v":""},{"$f":"IF(OFFSET(DE102_5!$J$104,ROWS($J$104:J104)-1,COLUMNS($J$104:J104)-1)<>\"\",OFFSET(DE102_5!$J$104,ROWS($J$104:J104)-1,COLUMNS($J$104:J104)-1),\"\")","v":""},{"$f":"IF(OFFSET(DE102_5!$M$104,ROWS($M$104:M104)-1,COLUMNS($M$104:M104)-1)<>\"\",OFFSET(DE102_5!$M$104,ROWS($M$104:M104)-1,COLUMNS($M$104:M104)-1),\"\")","v":""},{"$f":"IF(OFFSET(DE102_5!$N$104,ROWS($N$104:N104)-1,COLUMNS($N$104:N104)-1)<>\"\",OFFSET(DE102_5!$N$104,ROWS($N$104:N104)-1,COLUMNS($N$104:N104)-1),\"\")","v":""},{"$f":"IF(OFFSET(DE102_5!$O$104,ROWS($O$104:O104)-1,COLUMNS($O$104:O104)-1)<>\"\",OFFSET(DE102_5!$O$104,ROWS($O$104:O104)-1,COLUMNS($O$104:O104)-1),\"\")","v":""},{"$f":"IF(OFFSET(DE102_5!$P$104,ROWS($P$104:P104)-1,COLUMNS($P$104:P104)-1)<>\"\",OFFSET(DE102_5!$P$104,ROWS($P$104:P104)-1,COLUMNS($P$104:P104)-1),\"\")","v":""},{"$f":"IF(OFFSET(DE102_5!$Q$104,ROWS($Q$104:Q104)-1,COLUMNS($Q$104:Q104)-1)<>\"\",OFFSET(DE102_5!$Q$104,ROWS($Q$104:Q104)-1,COLUMNS($Q$104:Q104)-1),\"\")","v":""},{"$f":"IF(OFFSET(DE102_5!$R$104,ROWS($R$104:R104)-1,COLUMNS($R$104:R104)-1)<>\"\",OFFSET(DE102_5!$R$104,ROWS($R$104:R104)-1,COLUMNS($R$104:R104)-1),\"\")","v":""},{"$f":"IF(OFFSET(DE102_5!$S$104,ROWS($S$104:S104)-1,COLUMNS($S$104:S104)-1)<>\"\",OFFSET(DE102_5!$S$104,ROWS($S$104:S104)-1,COLUMNS($S$104:S104)-1),\"\")","v":""},{"$f":"IF(OFFSET(DE102_5!$T$104,ROWS($T$104:T104)-1,COLUMNS($T$104:T104)-1)<>\"\",OFFSET(DE102_5!$T$104,ROWS($T$104:T104)-1,COLUMNS($T$104:T104)-1),\"\")","v":""},{"$f":"IF(OFFSET(DE102_5!$U$104,ROWS($U$104:U104)-1,COLUMNS($U$104:U104)-1)<>\"\",OFFSET(DE102_5!$U$104,ROWS($U$104:U104)-1,COLUMNS($U$104:U104)-1),\"\")","v":""},{"$f":"IF(OFFSET(DE102_5!$V$104,ROWS($V$104:V104)-1,COLUMNS($V$104:V104)-1)<>\"\",OFFSET(DE102_5!$V$104,ROWS($V$104:V104)-1,COLUMNS($V$104:V104)-1),\"\")","v":""},{"$f":"IF(OFFSET(DE102_5!$W$104,ROWS($W$104:W104)-1,COLUMNS($W$104:W104)-1)<>\"\",OFFSET(DE102_5!$W$104,ROWS($W$104:W104)-1,COLUMNS($W$104:W104)-1),\"\")","v":""},{"$f":"IF(OFFSET(DE102_5!$X$104,ROWS($X$104:X104)-1,COLUMNS($X$104:X104)-1)<>\"\",OFFSET(DE102_5!$X$104,ROWS($X$104:X104)-1,COLUMNS($X$104:X104)-1),\"\")","v":""},{"$f":"IF(OFFSET(DE102_5!$Y$104,ROWS($Y$104:Y104)-1,COLUMNS($Y$104:Y104)-1)<>\"\",OFFSET(DE102_5!$Y$104,ROWS($Y$104:Y104)-1,COLUMNS($Y$104:Y104)-1),\"\")","v":""},{"$f":"IF(OFFSET(DE102_5!$Z$104,ROWS($Z$104:Z104)-1,COLUMNS($Z$104:Z104)-1)<>\"\",OFFSET(DE102_5!$Z$104,ROWS($Z$104:Z104)-1,COLUMNS($Z$104:Z104)-1),\"\")","v":""},{"$f":"IF(OFFSET(DE102_5!$AA$104,ROWS($AA$104:AA104)-1,COLUMNS($AA$104:AA104)-1)<>\"\",OFFSET(DE102_5!$AA$104,ROWS($AA$104:AA104)-1,COLUMNS($AA$104:AA104)-1),\"\")","v":""},{"$f":"IF(OFFSET(DE102_5!$AB$104,ROWS($AB$104:AB104)-1,COLUMNS($AB$104:AB104)-1)<>\"\",OFFSET(DE102_5!$AB$104,ROWS($AB$104:AB104)-1,COLUMNS($AB$104:AB104)-1),\"\")","v":""}]
[{"$f":"IF(OFFSET(DE102_5!$C$104,ROWS($C$104:C105)-1,COLUMNS($C$104:C105)-1)<>\"\",OFFSET(DE102_5!$C$104,ROWS($C$104:C105)-1,COLUMNS($C$104:C105)-1),\"\")","v":""},{"$f":"IF(OFFSET(DE102_5!$F$104,ROWS($F$104:F105)-1,COLUMNS($F$104:F105)-1)<>\"\",OFFSET(DE102_5!$F$104,ROWS($F$104:F105)-1,COLUMNS($F$104:F105)-1),\"\")","v":85},{"$f":"IF(OFFSET(DE102_5!$G$104,ROWS($G$104:G105)-1,COLUMNS($G$104:G105)-1)<>\"\",OFFSET(DE102_5!$G$104,ROWS($G$104:G105)-1,COLUMNS($G$104:G105)-1),\"\")","v":"I-35"},{"$f":"IF(OFFSET(DE102_5!$H$104,ROWS($H$104:H105)-1,COLUMNS($H$104:H105)-1)<>\"\",OFFSET(DE102_5!$H$104,ROWS($H$104:H105)-1,COLUMNS($H$104:H105)-1),\"\")","v":2},{"$f":"IF(OFFSET(DE102_5!$I$104,ROWS($I$104:I105)-1,COLUMNS($I$104:I105)-1)<>\"\",OFFSET(DE102_5!$I$104,ROWS($I$104:I105)-1,COLUMNS($I$104:I105)-1),\"\")","v":103.04},{"$f":"IF(OFFSET(DE102_5!$J$104,ROWS($J$104:J105)-1,COLUMNS($J$104:J105)-1)<>\"\",OFFSET(DE102_5!$J$104,ROWS($J$104:J105)-1,COLUMNS($J$104:J105)-1),\"\")","v":105.79},{"$f":"IF(OFFSET(DE102_5!$M$104,ROWS($M$104:M105)-1,COLUMNS($M$104:M105)-1)<>\"\",OFFSET(DE102_5!$M$104,ROWS($M$104:M105)-1,COLUMNS($M$104:M105)-1),\"\")","v":2018},{"$f":"IF(OFFSET(DE102_5!$N$104,ROWS($N$104:N105)-1,COLUMNS($N$104:N105)-1)<>\"\",OFFSET(DE102_5!$N$104,ROWS($N$104:N105)-1,COLUMNS($N$104:N105)-1),\"\")","v":"M"},{"$f":"IF(OFFSET(DE102_5!$O$104,ROWS($O$104:O105)-1,COLUMNS($O$104:O105)-1)<>\"\",OFFSET(DE102_5!$O$104,ROWS($O$104:O105)-1,COLUMNS($O$104:O105)-1),\"\")","v":"IMN-035-4(201)87--0E-77"},{"$f":"IF(OFFSET(DE102_5!$P$104,ROWS($P$104:P105)-1,COLUMNS($P$104:P105)-1)<>\"\",OFFSET(DE102_5!$P$104,ROWS($P$104:P105)-1,COLUMNS($P$104:P105)-1),\"\")","v":"PCC"},{"$f":"IF(OFFSET(DE102_5!$Q$104,ROWS($Q$104:Q105)-1,COLUMNS($Q$104:Q105)-1)<>\"\",OFFSET(DE102_5!$Q$104,ROWS($Q$104:Q105)-1,COLUMNS($Q$104:Q105)-1),\"\")","v":""},{"$f":"IF(OFFSET(DE102_5!$R$104,ROWS($R$104:R105)-1,COLUMNS($R$104:R105)-1)<>\"\",OFFSET(DE102_5!$R$104,ROWS($R$104:R105)-1,COLUMNS($R$104:R105)-1),\"\")","v":""},{"$f":"IF(OFFSET(DE102_5!$S$104,ROWS($S$104:S105)-1,COLUMNS($S$104:S105)-1)<>\"\",OFFSET(DE102_5!$S$104,ROWS($S$104:S105)-1,COLUMNS($S$104:S105)-1),\"\")","v":""},{"$f":"IF(OFFSET(DE102_5!$T$104,ROWS($T$104:T105)-1,COLUMNS($T$104:T105)-1)<>\"\",OFFSET(DE102_5!$T$104,ROWS($T$104:T105)-1,COLUMNS($T$104:T105)-1),\"\")","v":""},{"$f":"IF(OFFSET(DE102_5!$U$104,ROWS($U$104:U105)-1,COLUMNS($U$104:U105)-1)<>\"\",OFFSET(DE102_5!$U$104,ROWS($U$104:U105)-1,COLUMNS($U$104:U105)-1),\"\")","v":""},{"$f":"IF(OFFSET(DE102_5!$V$104,ROWS($V$104:V105)-1,COLUMNS($V$104:V105)-1)<>\"\",OFFSET(DE102_5!$V$104,ROWS($V$104:V105)-1,COLUMNS($V$104:V105)-1),\"\")","v":""},{"$f":"IF(OFFSET(DE102_5!$W$104,ROWS($W$104:W105)-1,COLUMNS($W$104:W105)-1)<>\"\",OFFSET(DE102_5!$W$104,ROWS($W$104:W105)-1,COLUMNS($W$104:W105)-1),\"\")","v":""},{"$f":"IF(OFFSET(DE102_5!$X$104,ROWS($X$104:X105)-1,COLUMNS($X$104:X105)-1)<>\"\",OFFSET(DE102_5!$X$104,ROWS($X$104:X105)-1,COLUMNS($X$104:X105)-1),\"\")","v":""},{"$f":"IF(OFFSET(DE102_5!$Y$104,ROWS($Y$104:Y105)-1,COLUMNS($Y$104:Y105)-1)<>\"\",OFFSET(DE102_5!$Y$104,ROWS($Y$104:Y105)-1,COLUMNS($Y$104:Y105)-1),\"\")","v":""},{"$f":"IF(OFFSET(DE102_5!$Z$104,ROWS($Z$104:Z105)-1,COLUMNS($Z$104:Z105)-1)<>\"\",OFFSET(DE102_5!$Z$104,ROWS($Z$104:Z105)-1,COLUMNS($Z$104:Z105)-1),\"\")","v":""},{"$f":"IF(OFFSET(DE102_5!$AA$104,ROWS($AA$104:AA105)-1,COLUMNS($AA$104:AA105)-1)<>\"\",OFFSET(DE102_5!$AA$104,ROWS($AA$104:AA105)-1,COLUMNS($AA$104:AA105)-1),\"\")","v":"PCC PATCHING"},{"$f":"IF(OFFSET(DE102_5!$AB$104,ROWS($AB$104:AB105)-1,COLUMNS($AB$104:AB105)-1)<>\"\",OFFSET(DE102_5!$AB$104,ROWS($AB$104:AB105)-1,COLUMNS($AB$104:AB105)-1),\"\")","v":""}]
[{"$f":"IF(OFFSET(DE102_5!$C$104,ROWS($C$104:C106)-1,COLUMNS($C$104:C106)-1)<>\"\",OFFSET(DE102_5!$C$104,ROWS($C$104:C106)-1,COLUMNS($C$104:C106)-1),\"\")","v":""},{"$f":"IF(OFFSET(DE102_5!$F$104,ROWS($F$104:F106)-1,COLUMNS($F$104:F106)-1)<>\"\",OFFSET(DE102_5!$F$104,ROWS($F$104:F106)-1,COLUMNS($F$104:F106)-1),\"\")","v":85},{"$f":"IF(OFFSET(DE102_5!$G$104,ROWS($G$104:G106)-1,COLUMNS($G$104:G106)-1)<>\"\",OFFSET(DE102_5!$G$104,ROWS($G$104:G106)-1,COLUMNS($G$104:G106)-1),\"\")","v":"I-35"},{"$f":"IF(OFFSET(DE102_5!$H$104,ROWS($H$104:H106)-1,COLUMNS($H$104:H106)-1)<>\"\",OFFSET(DE102_5!$H$104,ROWS($H$104:H106)-1,COLUMNS($H$104:H106)-1),\"\")","v":2},{"$f":"IF(OFFSET(DE102_5!$I$104,ROWS($I$104:I106)-1,COLUMNS($I$104:I106)-1)<>\"\",OFFSET(DE102_5!$I$104,ROWS($I$104:I106)-1,COLUMNS($I$104:I106)-1),\"\")","v":103.04},{"$f":"IF(OFFSET(DE102_5!$J$104,ROWS($J$104:J106)-1,COLUMNS($J$104:J106)-1)<>\"\",OFFSET(DE102_5!$J$104,ROWS($J$104:J106)-1,COLUMNS($J$104:J106)-1),\"\")","v":105.79},{"$f":"IF(OFFSET(DE102_5!$M$104,ROWS($M$104:M106)-1,COLUMNS($M$104:M106)-1)<>\"\",OFFSET(DE102_5!$M$104,ROWS($M$104:M106)-1,COLUMNS($M$104:M106)-1),\"\")","v":2017},{"$f":"IF(OFFSET(DE102_5!$N$104,ROWS($N$104:N106)-1,COLUMNS($N$104:N106)-1)<>\"\",OFFSET(DE102_5!$N$104,ROWS($N$104:N106)-1,COLUMNS($N$104:N106)-1),\"\")","v":"M"},{"$f":"IF(OFFSET(DE102_5!$O$104,ROWS($O$104:O106)-1,COLUMNS($O$104:O106)-1)<>\"\",OFFSET(DE102_5!$O$104,ROWS($O$104:O106)-1,COLUMNS($O$104:O106)-1),\"\")","v":"IMN-035-4(179)87--0E-77"},{"$f":"IF(OFFSET(DE102_5!$P$104,ROWS($P$104:P106)-1,COLUMNS($P$104:P106)-1)<>\"\",OFFSET(DE102_5!$P$104,ROWS($P$104:P106)-1,COLUMNS($P$104:P106)-1),\"\")","v":"PCC"},{"$f":"IF(OFFSET(DE102_5!$Q$104,ROWS($Q$104:Q106)-1,COLUMNS($Q$104:Q106)-1)<>\"\",OFFSET(DE102_5!$Q$104,ROWS($Q$104:Q106)-1,COLUMNS($Q$104:Q106)-1),\"\")","v":12},{"$f":"IF(OFFSET(DE102_5!$R$104,ROWS($R$104:R106)-1,COLUMNS($R$104:R106)-1)<>\"\",OFFSET(DE102_5!$R$104,ROWS($R$104:R106)-1,COLUMNS($R$104:R106)-1),\"\")","v":""},{"$f":"IF(OFFSET(DE102_5!$S$104,ROWS($S$104:S106)-1,COLUMNS($S$104:S106)-1)<>\"\",OFFSET(DE102_5!$S$104,ROWS($S$104:S106)-1,COLUMNS($S$104:S106)-1),\"\")","v":""},{"$f":"IF(OFFSET(DE102_5!$T$104,ROWS($T$104:T106)-1,COLUMNS($T$104:T106)-1)<>\"\",OFFSET(DE102_5!$T$104,ROWS($T$104:T106)-1,COLUMNS($T$104:T106)-1),\"\")","v":""},{"$f":"IF(OFFSET(DE102_5!$U$104,ROWS($U$104:U106)-1,COLUMNS($U$104:U106)-1)<>\"\",OFFSET(DE102_5!$U$104,ROWS($U$104:U106)-1,COLUMNS($U$104:U106)-1),\"\")","v":""},{"$f":"IF(OFFSET(DE102_5!$V$104,ROWS($V$104:V106)-1,COLUMNS($V$104:V106)-1)<>\"\",OFFSET(DE102_5!$V$104,ROWS($V$104:V106)-1,COLUMNS($V$104:V106)-1),\"\")","v":""},{"$f":"IF(OFFSET(DE102_5!$W$104,ROWS($W$104:W106)-1,COLUMNS($W$104:W106)-1)<>\"\",OFFSET(DE102_5!$W$104,ROWS($W$104:W106)-1,COLUMNS($W$104:W106)-1),\"\")","v":""},{"$f":"IF(OFFSET(DE102_5!$X$104,ROWS($X$104:X106)-1,COLUMNS($X$104:X106)-1)<>\"\",OFFSET(DE102_5!$X$104,ROWS($X$104:X106)-1,COLUMNS($X$104:X106)-1),\"\")","v":""},{"$f":"IF(OFFSET(DE102_5!$Y$104,ROWS($Y$104:Y106)-1,COLUMNS($Y$104:Y106)-1)<>\"\",OFFSET(DE102_5!$Y$104,ROWS($Y$104:Y106)-1,COLUMNS($Y$104:Y106)-1),\"\")","v":""},{"$f":"IF(OFFSET(DE102_5!$Z$104,ROWS($Z$104:Z106)-1,COLUMNS($Z$104:Z106)-1)<>\"\",OFFSET(DE102_5!$Z$104,ROWS($Z$104:Z106)-1,COLUMNS($Z$104:Z106)-1),\"\")","v":""},{"$f":"IF(OFFSET(DE102_5!$AA$104,ROWS($AA$104:AA106)-1,COLUMNS($AA$104:AA106)-1)<>\"\",OFFSET(DE102_5!$AA$104,ROWS($AA$104:AA106)-1,COLUMNS($AA$104:AA106)-1),\"\")","v":"PCC PATCHING"},{"$f":"IF(OFFSET(DE102_5!$AB$104,ROWS($AB$104:AB106)-1,COLUMNS($AB$104:AB106)-1)<>\"\",OFFSET(DE102_5!$AB$104,ROWS($AB$104:AB106)-1,COLUMNS($AB$104:AB106)-1),\"\")","v":""}]
[{"$f":"IF(OFFSET(DE102_5!$C$104,ROWS($C$104:C107)-1,COLUMNS($C$104:C107)-1)<>\"\",OFFSET(DE102_5!$C$104,ROWS($C$104:C107)-1,COLUMNS($C$104:C107)-1),\"\")","v":""},{"$f":"IF(OFFSET(DE102_5!$F$104,ROWS($F$104:F107)-1,COLUMNS($F$104:F107)-1)<>\"\",OFFSET(DE102_5!$F$104,ROWS($F$104:F107)-1,COLUMNS($F$104:F107)-1),\"\")","v":85},{"$f":"IF(OFFSET(DE102_5!$G$104,ROWS($G$104:G107)-1,COLUMNS($G$104:G107)-1)<>\"\",OFFSET(DE102_5!$G$104,ROWS($G$104:G107)-1,COLUMNS($G$104:G107)-1),\"\")","v":"I-35"},{"$f":"IF(OFFSET(DE102_5!$H$104,ROWS($H$104:H107)-1,COLUMNS($H$104:H107)-1)<>\"\",OFFSET(DE102_5!$H$104,ROWS($H$104:H107)-1,COLUMNS($H$104:H107)-1),\"\")","v":2},{"$f":"IF(OFFSET(DE102_5!$I$104,ROWS($I$104:I107)-1,COLUMNS($I$104:I107)-1)<>\"\",OFFSET(DE102_5!$I$104,ROWS($I$104:I107)-1,COLUMNS($I$104:I107)-1),\"\")","v":103.04},{"$f":"IF(OFFSET(DE102_5!$J$104,ROWS($J$104:J107)-1,COLUMNS($J$104:J107)-1)<>\"\",OFFSET(DE102_5!$J$104,ROWS($J$104:J107)-1,COLUMNS($J$104:J107)-1),\"\")","v":105.79},{"$f":"IF(OFFSET(DE102_5!$M$104,ROWS($M$104:M107)-1,COLUMNS($M$104:M107)-1)<>\"\",OFFSET(DE102_5!$M$104,ROWS($M$104:M107)-1,COLUMNS($M$104:M107)-1),\"\")","v":2017},{"$f":"IF(OFFSET(DE102_5!$N$104,ROWS($N$104:N107)-1,COLUMNS($N$104:N107)-1)<>\"\",OFFSET(DE102_5!$N$104,ROWS($N$104:N107)-1,COLUMNS($N$104:N107)-1),\"\")","v":"S"},{"$f":"IF(OFFSET(DE102_5!$O$104,ROWS($O$104:O107)-1,COLUMNS($O$104:O107)-1)<>\"\",OFFSET(DE102_5!$O$104,ROWS($O$104:O107)-1,COLUMNS($O$104:O107)-1),\"\")","v":"IMN-035-4(190)98--03-77"},{"$f":"IF(OFFSET(DE102_5!$P$104,ROWS($P$104:P107)-1,COLUMNS($P$104:P107)-1)<>\"\",OFFSET(DE102_5!$P$104,ROWS($P$104:P107)-1,COLUMNS($P$104:P107)-1),\"\")","v":"HMA"},{"$f":"IF(OFFSET(DE102_5!$Q$104,ROWS($Q$104:Q107)-1,COLUMNS($Q$104:Q107)-1)<>\"\",OFFSET(DE102_5!$Q$104,ROWS($Q$104:Q107)-1,COLUMNS($Q$104:Q107)-1),\"\")","v":1.5},{"$f":"IF(OFFSET(DE102_5!$R$104,ROWS($R$104:R107)-1,COLUMNS($R$104:R107)-1)<>\"\",OFFSET(DE102_5!$R$104,ROWS($R$104:R107)-1,COLUMNS($R$104:R107)-1),\"\")","v":"HMA"},{"$f":"IF(OFFSET(DE102_5!$S$104,ROWS($S$104:S107)-1,COLUMNS($S$104:S107)-1)<>\"\",OFFSET(DE102_5!$S$104,ROWS($S$104:S107)-1,COLUMNS($S$104:S107)-1),\"\")","v":1.5},{"$f":"IF(OFFSET(DE102_5!$T$104,ROWS($T$104:T107)-1,COLUMNS($T$104:T107)-1)<>\"\",OFFSET(DE102_5!$T$104,ROWS($T$104:T107)-1,COLUMNS($T$104:T107)-1),\"\")","v":""},{"$f":"IF(OFFSET(DE102_5!$U$104,ROWS($U$104:U107)-1,COLUMNS($U$104:U107)-1)<>\"\",OFFSET(DE102_5!$U$104,ROWS($U$104:U107)-1,COLUMNS($U$104:U107)-1),\"\")","v":""},{"$f":"IF(OFFSET(DE102_5!$V$104,ROWS($V$104:V107)-1,COLUMNS($V$104:V107)-1)<>\"\",OFFSET(DE102_5!$V$104,ROWS($V$104:V107)-1,COLUMNS($V$104:V107)-1),\"\")","v":"SCR"},{"$f":"IF(OFFSET(DE102_5!$W$104,ROWS($W$104:W107)-1,COLUMNS($W$104:W107)-1)<>\"\",OFFSET(DE102_5!$W$104,ROWS($W$104:W107)-1,COLUMNS($W$104:W107)-1),\"\")","v":3},{"$f":"IF(OFFSET(DE102_5!$X$104,ROWS($X$104:X107)-1,COLUMNS($X$104:X107)-1)<>\"\",OFFSET(DE102_5!$X$104,ROWS($X$104:X107)-1,COLUMNS($X$104:X107)-1),\"\")","v":""},{"$f":"IF(OFFSET(DE102_5!$Y$104,ROWS($Y$104:Y107)-1,COLUMNS($Y$104:Y107)-1)<>\"\",OFFSET(DE102_5!$Y$104,ROWS($Y$104:Y107)-1,COLUMNS($Y$104:Y107)-1),\"\")","v":""},{"$f":"IF(OFFSET(DE102_5!$Z$104,ROWS($Z$104:Z107)-1,COLUMNS($Z$104:Z107)-1)<>\"\",OFFSET(DE102_5!$Z$104,ROWS($Z$104:Z107)-1,COLUMNS($Z$104:Z107)-1),\"\")","v":""},{"$f":"IF(OFFSET(DE102_5!$AA$104,ROWS($AA$104:AA107)-1,COLUMNS($AA$104:AA107)-1)<>\"\",OFFSET(DE102_5!$AA$104,ROWS($AA$104:AA107)-1,COLUMNS($AA$104:AA107)-1),\"\")","v":""},{"$f":"IF(OFFSET(DE102_5!$AB$104,ROWS($AB$104:AB107)-1,COLUMNS($AB$104:AB107)-1)<>\"\",OFFSET(DE102_5!$AB$104,ROWS($AB$104:AB107)-1,COLUMNS($AB$104:AB107)-1),\"\")","v":""}]
[{"$f":"IF(OFFSET(DE102_5!$C$104,ROWS($C$104:C108)-1,COLUMNS($C$104:C108)-1)<>\"\",OFFSET(DE102_5!$C$104,ROWS($C$104:C108)-1,COLUMNS($C$104:C108)-1),\"\")","v":""},{"$f":"IF(OFFSET(DE102_5!$F$104,ROWS($F$104:F108)-1,COLUMNS($F$104:F108)-1)<>\"\",OFFSET(DE102_5!$F$104,ROWS($F$104:F108)-1,COLUMNS($F$104:F108)-1),\"\")","v":85},{"$f":"IF(OFFSET(DE102_5!$G$104,ROWS($G$104:G108)-1,COLUMNS($G$104:G108)-1)<>\"\",OFFSET(DE102_5!$G$104,ROWS($G$104:G108)-1,COLUMNS($G$104:G108)-1),\"\")","v":"I-35"},{"$f":"IF(OFFSET(DE102_5!$H$104,ROWS($H$104:H108)-1,COLUMNS($H$104:H108)-1)<>\"\",OFFSET(DE102_5!$H$104,ROWS($H$104:H108)-1,COLUMNS($H$104:H108)-1),\"\")","v":2},{"$f":"IF(OFFSET(DE102_5!$I$104,ROWS($I$104:I108)-1,COLUMNS($I$104:I108)-1)<>\"\",OFFSET(DE102_5!$I$104,ROWS($I$104:I108)-1,COLUMNS($I$104:I108)-1),\"\")","v":103.04},{"$f":"IF(OFFSET(DE102_5!$J$104,ROWS($J$104:J108)-1,COLUMNS($J$104:J108)-1)<>\"\",OFFSET(DE102_5!$J$104,ROWS($J$104:J108)-1,COLUMNS($J$104:J108)-1),\"\")","v":105.79},{"$f":"IF(OFFSET(DE102_5!$M$104,ROWS($M$104:M108)-1,COLUMNS($M$104:M108)-1)<>\"\",OFFSET(DE102_5!$M$104,ROWS($M$104:M108)-1,COLUMNS($M$104:M108)-1),\"\")","v":2017},{"$f":"IF(OFFSET(DE102_5!$N$104,ROWS($N$104:N108)-1,COLUMNS($N$104:N108)-1)<>\"\",OFFSET(DE102_5!$N$104,ROWS($N$104:N108)-1,COLUMNS($N$104:N108)-1),\"\")","v":"S"},{"$f":"IF(OFFSET(DE102_5!$O$104,ROWS($O$104:O108)-1,COLUMNS($O$104:O108)-1)<>\"\",OFFSET(DE102_5!$O$104,ROWS($O$104:O108)-1,COLUMNS($O$104:O108)-1),\"\")","v":"IMN-035-4(190)98--0E-77"},{"$f":"IF(OFFSET(DE102_5!$P$104,ROWS($P$104:P108)-1,COLUMNS($P$104:P108)-1)<>\"\",OFFSET(DE102_5!$P$104,ROWS($P$104:P108)-1,COLUMNS($P$104:P108)-1),\"\")","v":"HMA"},{"$f":"IF(OFFSET(DE102_5!$Q$104,ROWS($Q$104:Q108)-1,COLUMNS($Q$104:Q108)-1)<>\"\",OFFSET(DE102_5!$Q$104,ROWS($Q$104:Q108)-1,COLUMNS($Q$104:Q108)-1),\"\")","v":1.5},{"$f":"IF(OFFSET(DE102_5!$R$104,ROWS($R$104:R108)-1,COLUMNS($R$104:R108)-1)<>\"\",OFFSET(DE102_5!$R$104,ROWS($R$104:R108)-1,COLUMNS($R$104:R108)-1),\"\")","v":"HMA"},{"$f":"IF(OFFSET(DE102_5!$S$104,ROWS($S$104:S108)-1,COLUMNS($S$104:S108)-1)<>\"\",OFFSET(DE102_5!$S$104,ROWS($S$104:S108)-1,COLUMNS($S$104:S108)-1),\"\")","v":1.5},{"$f":"IF(OFFSET(DE102_5!$T$104,ROWS($T$104:T108)-1,COLUMNS($T$104:T108)-1)<>\"\",OFFSET(DE102_5!$T$104,ROWS($T$104:T108)-1,COLUMNS($T$104:T108)-1),\"\")","v":""},{"$f":"IF(OFFSET(DE102_5!$U$104,ROWS($U$104:U108)-1,COLUMNS($U$104:U108)-1)<>\"\",OFFSET(DE102_5!$U$104,ROWS($U$104:U108)-1,COLUMNS($U$104:U108)-1),\"\")","v":""},{"$f":"IF(OFFSET(DE102_5!$V$104,ROWS($V$104:V108)-1,COLUMNS($V$104:V108)-1)<>\"\",OFFSET(DE102_5!$V$104,ROWS($V$104:V108)-1,COLUMNS($V$104:V108)-1),\"\")","v":"SCR"},{"$f":"IF(OFFSET(DE102_5!$W$104,ROWS($W$104:W108)-1,COLUMNS($W$104:W108)-1)<>\"\",OFFSET(DE102_5!$W$104,ROWS($W$104:W108)-1,COLUMNS($W$104:W108)-1),\"\")","v":3},{"$f":"IF(OFFSET(DE102_5!$X$104,ROWS($X$104:X108)-1,COLUMNS($X$104:X108)-1)<>\"\",OFFSET(DE102_5!$X$104,ROWS($X$104:X108)-1,COLUMNS($X$104:X108)-1),\"\")","v":""},{"$f":"IF(OFFSET(DE102_5!$Y$104,ROWS($Y$104:Y108)-1,COLUMNS($Y$104:Y108)-1)<>\"\",OFFSET(DE102_5!$Y$104,ROWS($Y$104:Y108)-1,COLUMNS($Y$104:Y108)-1),\"\")","v":""},{"$f":"IF(OFFSET(DE102_5!$Z$104,ROWS($Z$104:Z108)-1,COLUMNS($Z$104:Z108)-1)<>\"\",OFFSET(DE102_5!$Z$104,ROWS($Z$104:Z108)-1,COLUMNS($Z$104:Z108)-1),\"\")","v":""},{"$f":"IF(OFFSET(DE102_5!$AA$104,ROWS($AA$104:AA108)-1,COLUMNS($AA$104:AA108)-1)<>\"\",OFFSET(DE102_5!$AA$104,ROWS($AA$104:AA108)-1,COLUMNS($AA$104:AA108)-1),\"\")","v":""},{"$f":"IF(OFFSET(DE102_5!$AB$104,ROWS($AB$104:AB108)-1,COLUMNS($AB$104:AB108)-1)<>\"\",OFFSET(DE102_5!$AB$104,ROWS($AB$104:AB108)-1,COLUMNS($AB$104:AB108)-1),\"\")","v":""}]
[{"$f":"IF(OFFSET(DE102_5!$C$104,ROWS($C$104:C109)-1,COLUMNS($C$104:C109)-1)<>\"\",OFFSET(DE102_5!$C$104,ROWS($C$104:C109)-1,COLUMNS($C$104:C109)-1),\"\")","v":""},{"$f":"IF(OFFSET(DE102_5!$F$104,ROWS($F$104:F109)-1,COLUMNS($F$104:F109)-1)<>\"\",OFFSET(DE102_5!$F$104,ROWS($F$104:F109)-1,COLUMNS($F$104:F109)-1),\"\")","v":85},{"$f":"IF(OFFSET(DE102_5!$G$104,ROWS($G$104:G109)-1,COLUMNS($G$104:G109)-1)<>\"\",OFFSET(DE102_5!$G$104,ROWS($G$104:G109)-1,COLUMNS($G$104:G109)-1),\"\")","v":"I-35"},{"$f":"IF(OFFSET(DE102_5!$H$104,ROWS($H$104:H109)-1,COLUMNS($H$104:H109)-1)<>\"\",OFFSET(DE102_5!$H$104,ROWS($H$104:H109)-1,COLUMNS($H$104:H109)-1),\"\")","v":2},{"$f":"IF(OFFSET(DE102_5!$I$104,ROWS($I$104:I109)-1,COLUMNS($I$104:I109)-1)<>\"\",OFFSET(DE102_5!$I$104,ROWS($I$104:I109)-1,COLUMNS($I$104:I109)-1),\"\")","v":103.04},{"$f":"IF(OFFSET(DE102_5!$J$104,ROWS($J$104:J109)-1,COLUMNS($J$104:J109)-1)<>\"\",OFFSET(DE102_5!$J$104,ROWS($J$104:J109)-1,COLUMNS($J$104:J109)-1),\"\")","v":105.79},{"$f":"IF(OFFSET(DE102_5!$M$104,ROWS($M$104:M109)-1,COLUMNS($M$104:M109)-1)<>\"\",OFFSET(DE102_5!$M$104,ROWS($M$104:M109)-1,COLUMNS($M$104:M109)-1),\"\")","v":1997},{"$f":"IF(OFFSET(DE102_5!$N$104,ROWS($N$104:N109)-1,COLUMNS($N$104:N109)-1)<>\"\",OFFSET(DE102_5!$N$104,ROWS($N$104:N109)-1,COLUMNS($N$104:N109)-1),\"\")","v":""},{"$f":"IF(OFFSET(DE102_5!$O$104,ROWS($O$104:O109)-1,COLUMNS($O$104:O109)-1)<>\"\",OFFSET(DE102_5!$O$104,ROWS($O$104:O109)-1,COLUMNS($O$104:O109)-1),\"\")","v":"IM-35-4(83)98--13-77"},{"$f":"IF(OFFSET(DE102_5!$P$104,ROWS($P$104:P109)-1,COLUMNS($P$104:P109)-1)<>\"\",OFFSET(DE102_5!$P$104,ROWS($P$104:P109)-1,COLUMNS($P$104:P109)-1),\"\")","v":"AAC"},{"$f":"IF(OFFSET(DE102_5!$Q$104,ROWS($Q$104:Q109)-1,COLUMNS($Q$104:Q109)-1)<>\"\",OFFSET(DE102_5!$Q$104,ROWS($Q$104:Q109)-1,COLUMNS($Q$104:Q109)-1),\"\")","v":2},{"$f":"IF(OFFSET(DE102_5!$R$104,ROWS($R$104:R109)-1,COLUMNS($R$104:R109)-1)<>\"\",OFFSET(DE102_5!$R$104,ROWS($R$104:R109)-1,COLUMNS($R$104:R109)-1),\"\")","v":"AAC"},{"$f":"IF(OFFSET(DE102_5!$S$104,ROWS($S$104:S109)-1,COLUMNS($S$104:S109)-1)<>\"\",OFFSET(DE102_5!$S$104,ROWS($S$104:S109)-1,COLUMNS($S$104:S109)-1),\"\")","v":6},{"$f":"IF(OFFSET(DE102_5!$T$104,ROWS($T$104:T109)-1,COLUMNS($T$104:T109)-1)<>\"\",OFFSET(DE102_5!$T$104,ROWS($T$104:T109)-1,COLUMNS($T$104:T109)-1),\"\")","v":""},{"$f":"IF(OFFSET(DE102_5!$U$104,ROWS($U$104:U109)-1,COLUMNS($U$104:U109)-1)<>\"\",OFFSET(DE102_5!$U$104,ROWS($U$104:U109)-1,COLUMNS($U$104:U109)-1),\"\")","v":""},{"$f":"IF(OFFSET(DE102_5!$V$104,ROWS($V$104:V109)-1,COLUMNS($V$104:V109)-1)<>\"\",OFFSET(DE102_5!$V$104,ROWS($V$104:V109)-1,COLUMNS($V$104:V109)-1),\"\")","v":""},{"$f":"IF(OFFSET(DE102_5!$W$104,ROWS($W$104:W109)-1,COLUMNS($W$104:W109)-1)<>\"\",OFFSET(DE102_5!$W$104,ROWS($W$104:W109)-1,COLUMNS($W$104:W109)-1),\"\")","v":""},{"$f":"IF(OFFSET(DE102_5!$X$104,ROWS($X$104:X109)-1,COLUMNS($X$104:X109)-1)<>\"\",OFFSET(DE102_5!$X$104,ROWS($X$104:X109)-1,COLUMNS($X$104:X109)-1),\"\")","v":"AMES MINE"},{"$f":"IF(OFFSET(DE102_5!$Y$104,ROWS($Y$104:Y109)-1,COLUMNS($Y$104:Y109)-1)<>\"\",OFFSET(DE102_5!$Y$104,ROWS($Y$104:Y109)-1,COLUMNS($Y$104:Y109)-1),\"\")","v":"C.LST."},{"$f":"IF(OFFSET(DE102_5!$Z$104,ROWS($Z$104:Z109)-1,COLUMNS($Z$104:Z109)-1)<>\"\",OFFSET(DE102_5!$Z$104,ROWS($Z$104:Z109)-1,COLUMNS($Z$104:Z109)-1),\"\")","v":""},{"$f":"IF(OFFSET(DE102_5!$AA$104,ROWS($AA$104:AA109)-1,COLUMNS($AA$104:AA109)-1)<>\"\",OFFSET(DE102_5!$AA$104,ROWS($AA$104:AA109)-1,COLUMNS($AA$104:AA109)-1),\"\")","v":""},{"$f":"IF(OFFSET(DE102_5!$AB$104,ROWS($AB$104:AB109)-1,COLUMNS($AB$104:AB109)-1)<>\"\",OFFSET(DE102_5!$AB$104,ROWS($AB$104:AB109)-1,COLUMNS($AB$104:AB109)-1),\"\")","v":""}]
[{"$f":"IF(OFFSET(DE102_5!$C$104,ROWS($C$104:C110)-1,COLUMNS($C$104:C110)-1)<>\"\",OFFSET(DE102_5!$C$104,ROWS($C$104:C110)-1,COLUMNS($C$104:C110)-1),\"\")","v":""},{"$f":"IF(OFFSET(DE102_5!$F$104,ROWS($F$104:F110)-1,COLUMNS($F$104:F110)-1)<>\"\",OFFSET(DE102_5!$F$104,ROWS($F$104:F110)-1,COLUMNS($F$104:F110)-1),\"\")","v":85},{"$f":"IF(OFFSET(DE102_5!$G$104,ROWS($G$104:G110)-1,COLUMNS($G$104:G110)-1)<>\"\",OFFSET(DE102_5!$G$104,ROWS($G$104:G110)-1,COLUMNS($G$104:G110)-1),\"\")","v":"I-35"},{"$f":"IF(OFFSET(DE102_5!$H$104,ROWS($H$104:H110)-1,COLUMNS($H$104:H110)-1)<>\"\",OFFSET(DE102_5!$H$104,ROWS($H$104:H110)-1,COLUMNS($H$104:H110)-1),\"\")","v":2},{"$f":"IF(OFFSET(DE102_5!$I$104,ROWS($I$104:I110)-1,COLUMNS($I$104:I110)-1)<>\"\",OFFSET(DE102_5!$I$104,ROWS($I$104:I110)-1,COLUMNS($I$104:I110)-1),\"\")","v":103.04},{"$f":"IF(OFFSET(DE102_5!$J$104,ROWS($J$104:J110)-1,COLUMNS($J$104:J110)-1)<>\"\",OFFSET(DE102_5!$J$104,ROWS($J$104:J110)-1,COLUMNS($J$104:J110)-1),\"\")","v":105.79},{"$f":"IF(OFFSET(DE102_5!$M$104,ROWS($M$104:M110)-1,COLUMNS($M$104:M110)-1)<>\"\",OFFSET(DE102_5!$M$104,ROWS($M$104:M110)-1,COLUMNS($M$104:M110)-1),\"\")","v":1965},{"$f":"IF(OFFSET(DE102_5!$N$104,ROWS($N$104:N110)-1,COLUMNS($N$104:N110)-1)<>\"\",OFFSET(DE102_5!$N$104,ROWS($N$104:N110)-1,COLUMNS($N$104:N110)-1),\"\")","v":""},{"$f":"IF(OFFSET(DE102_5!$O$104,ROWS($O$104:O110)-1,COLUMNS($O$104:O110)-1)<>\"\",OFFSET(DE102_5!$O$104,ROWS($O$104:O110)-1,COLUMNS($O$104:O110)-1),\"\")","v":"I-IG-35-4(12)103"},{"$f":"IF(OFFSET(DE102_5!$P$104,ROWS($P$104:P110)-1,COLUMNS($P$104:P110)-1)<>\"\",OFFSET(DE102_5!$P$104,ROWS($P$104:P110)-1,COLUMNS($P$104:P110)-1),\"\")","v":"PCC"},{"$f":"IF(OFFSET(DE102_5!$Q$104,ROWS($Q$104:Q110)-1,COLUMNS($Q$104:Q110)-1)<>\"\",OFFSET(DE102_5!$Q$104,ROWS($Q$104:Q110)-1,COLUMNS($Q$104:Q110)-1),\"\")","v":10},{"$f":"IF(OFFSET(DE102_5!$R$104,ROWS($R$104:R110)-1,COLUMNS($R$104:R110)-1)<>\"\",OFFSET(DE102_5!$R$104,ROWS($R$104:R110)-1,COLUMNS($R$104:R110)-1),\"\")","v":"GSB"},{"$f":"IF(OFFSET(DE102_5!$S$104,ROWS($S$104:S110)-1,COLUMNS($S$104:S110)-1)<>\"\",OFFSET(DE102_5!$S$104,ROWS($S$104:S110)-1,COLUMNS($S$104:S110)-1),\"\")","v":4},{"$f":"IF(OFFSET(DE102_5!$T$104,ROWS($T$104:T110)-1,COLUMNS($T$104:T110)-1)<>\"\",OFFSET(DE102_5!$T$104,ROWS($T$104:T110)-1,COLUMNS($T$104:T110)-1),\"\")","v":""},{"$f":"IF(OFFSET(DE102_5!$U$104,ROWS($U$104:U110)-1,COLUMNS($U$104:U110)-1)<>\"\",OFFSET(DE102_5!$U$104,ROWS($U$104:U110)-1,COLUMNS($U$104:U110)-1),\"\")","v":""},{"$f":"IF(OFFSET(DE102_5!$V$104,ROWS($V$104:V110)-1,COLUMNS($V$104:V110)-1)<>\"\",OFFSET(DE102_5!$V$104,ROWS($V$104:V110)-1,COLUMNS($V$104:V110)-1),\"\")","v":""},{"$f":"IF(OFFSET(DE102_5!$W$104,ROWS($W$104:W110)-1,COLUMNS($W$104:W110)-1)<>\"\",OFFSET(DE102_5!$W$104,ROWS($W$104:W110)-1,COLUMNS($W$104:W110)-1),\"\")","v":""},{"$f":"IF(OFFSET(DE102_5!$X$104,ROWS($X$104:X110)-1,COLUMNS($X$104:X110)-1)<>\"\",OFFSET(DE102_5!$X$104,ROWS($X$104:X110)-1,COLUMNS($X$104:X110)-1),\"\")","v":"FERGUSON"},{"$f":"IF(OFFSET(DE102_5!$Y$104,ROWS($Y$104:Y110)-1,COLUMNS($Y$104:Y110)-1)<>\"\",OFFSET(DE102_5!$Y$104,ROWS($Y$104:Y110)-1,COLUMNS($Y$104:Y110)-1),\"\")","v":"C.LST."},{"$f":"IF(OFFSET(DE102_5!$Z$104,ROWS($Z$104:Z110)-1,COLUMNS($Z$104:Z110)-1)<>\"\",OFFSET(DE102_5!$Z$104,ROWS($Z$104:Z110)-1,COLUMNS($Z$104:Z110)-1),\"\")","v":"I"},{"$f":"IF(OFFSET(DE102_5!$AA$104,ROWS($AA$104:AA110)-1,COLUMNS($AA$104:AA110)-1)<>\"\",OFFSET(DE102_5!$AA$104,ROWS($AA$104:AA110)-1,COLUMNS($AA$104:AA110)-1),\"\")","v":""},{"$f":"IF(OFFSET(DE102_5!$AB$104,ROWS($AB$104:AB110)-1,COLUMNS($AB$104:AB110)-1)<>\"\",OFFSET(DE102_5!$AB$104,ROWS($AB$104:AB110)-1,COLUMNS($AB$104:AB110)-1),\"\")","v":""}]
[{"$f":"IF(OFFSET(DE102_5!$C$104,ROWS($C$104:C111)-1,COLUMNS($C$104:C111)-1)<>\"\",OFFSET(DE102_5!$C$104,ROWS($C$104:C111)-1,COLUMNS($C$104:C111)-1),\"\")","v":""},{"$f":"IF(OFFSET(DE102_5!$F$104,ROWS($F$104:F111)-1,COLUMNS($F$104:F111)-1)<>\"\",OFFSET(DE102_5!$F$104,ROWS($F$104:F111)-1,COLUMNS($F$104:F111)-1),\"\")","v":""},{"$f":"IF(OFFSET(DE102_5!$G$104,ROWS($G$104:G111)-1,COLUMNS($G$104:G111)-1)<>\"\",OFFSET(DE102_5!$G$104,ROWS($G$104:G111)-1,COLUMNS($G$104:G111)-1),\"\")","v":""},{"$f":"IF(OFFSET(DE102_5!$H$104,ROWS($H$104:H111)-1,COLUMNS($H$104:H111)-1)<>\"\",OFFSET(DE102_5!$H$104,ROWS($H$104:H111)-1,COLUMNS($H$104:H111)-1),\"\")","v":""},{"$f":"IF(OFFSET(DE102_5!$I$104,ROWS($I$104:I111)-1,COLUMNS($I$104:I111)-1)<>\"\",OFFSET(DE102_5!$I$104,ROWS($I$104:I111)-1,COLUMNS($I$104:I111)-1),\"\")","v":""},{"$f":"IF(OFFSET(DE102_5!$J$104,ROWS($J$104:J111)-1,COLUMNS($J$104:J111)-1)<>\"\",OFFSET(DE102_5!$J$104,ROWS($J$104:J111)-1,COLUMNS($J$104:J111)-1),\"\")","v":""},{"$f":"IF(OFFSET(DE102_5!$M$104,ROWS($M$104:M111)-1,COLUMNS($M$104:M111)-1)<>\"\",OFFSET(DE102_5!$M$104,ROWS($M$104:M111)-1,COLUMNS($M$104:M111)-1),\"\")","v":""},{"$f":"IF(OFFSET(DE102_5!$N$104,ROWS($N$104:N111)-1,COLUMNS($N$104:N111)-1)<>\"\",OFFSET(DE102_5!$N$104,ROWS($N$104:N111)-1,COLUMNS($N$104:N111)-1),\"\")","v":""},{"$f":"IF(OFFSET(DE102_5!$O$104,ROWS($O$104:O111)-1,COLUMNS($O$104:O111)-1)<>\"\",OFFSET(DE102_5!$O$104,ROWS($O$104:O111)-1,COLUMNS($O$104:O111)-1),\"\")","v":""},{"$f":"IF(OFFSET(DE102_5!$P$104,ROWS($P$104:P111)-1,COLUMNS($P$104:P111)-1)<>\"\",OFFSET(DE102_5!$P$104,ROWS($P$104:P111)-1,COLUMNS($P$104:P111)-1),\"\")","v":""},{"$f":"IF(OFFSET(DE102_5!$Q$104,ROWS($Q$104:Q111)-1,COLUMNS($Q$104:Q111)-1)<>\"\",OFFSET(DE102_5!$Q$104,ROWS($Q$104:Q111)-1,COLUMNS($Q$104:Q111)-1),\"\")","v":""},{"$f":"IF(OFFSET(DE102_5!$R$104,ROWS($R$104:R111)-1,COLUMNS($R$104:R111)-1)<>\"\",OFFSET(DE102_5!$R$104,ROWS($R$104:R111)-1,COLUMNS($R$104:R111)-1),\"\")","v":""},{"$f":"IF(OFFSET(DE102_5!$S$104,ROWS($S$104:S111)-1,COLUMNS($S$104:S111)-1)<>\"\",OFFSET(DE102_5!$S$104,ROWS($S$104:S111)-1,COLUMNS($S$104:S111)-1),\"\")","v":""},{"$f":"IF(OFFSET(DE102_5!$T$104,ROWS($T$104:T111)-1,COLUMNS($T$104:T111)-1)<>\"\",OFFSET(DE102_5!$T$104,ROWS($T$104:T111)-1,COLUMNS($T$104:T111)-1),\"\")","v":""},{"$f":"IF(OFFSET(DE102_5!$U$104,ROWS($U$104:U111)-1,COLUMNS($U$104:U111)-1)<>\"\",OFFSET(DE102_5!$U$104,ROWS($U$104:U111)-1,COLUMNS($U$104:U111)-1),\"\")","v":""},{"$f":"IF(OFFSET(DE102_5!$V$104,ROWS($V$104:V111)-1,COLUMNS($V$104:V111)-1)<>\"\",OFFSET(DE102_5!$V$104,ROWS($V$104:V111)-1,COLUMNS($V$104:V111)-1),\"\")","v":""},{"$f":"IF(OFFSET(DE102_5!$W$104,ROWS($W$104:W111)-1,COLUMNS($W$104:W111)-1)<>\"\",OFFSET(DE102_5!$W$104,ROWS($W$104:W111)-1,COLUMNS($W$104:W111)-1),\"\")","v":""},{"$f":"IF(OFFSET(DE102_5!$X$104,ROWS($X$104:X111)-1,COLUMNS($X$104:X111)-1)<>\"\",OFFSET(DE102_5!$X$104,ROWS($X$104:X111)-1,COLUMNS($X$104:X111)-1),\"\")","v":""},{"$f":"IF(OFFSET(DE102_5!$Y$104,ROWS($Y$104:Y111)-1,COLUMNS($Y$104:Y111)-1)<>\"\",OFFSET(DE102_5!$Y$104,ROWS($Y$104:Y111)-1,COLUMNS($Y$104:Y111)-1),\"\")","v":""},{"$f":"IF(OFFSET(DE102_5!$Z$104,ROWS($Z$104:Z111)-1,COLUMNS($Z$104:Z111)-1)<>\"\",OFFSET(DE102_5!$Z$104,ROWS($Z$104:Z111)-1,COLUMNS($Z$104:Z111)-1),\"\")","v":""},{"$f":"IF(OFFSET(DE102_5!$AA$104,ROWS($AA$104:AA111)-1,COLUMNS($AA$104:AA111)-1)<>\"\",OFFSET(DE102_5!$AA$104,ROWS($AA$104:AA111)-1,COLUMNS($AA$104:AA111)-1),\"\")","v":""},{"$f":"IF(OFFSET(DE102_5!$AB$104,ROWS($AB$104:AB111)-1,COLUMNS($AB$104:AB111)-1)<>\"\",OFFSET(DE102_5!$AB$104,ROWS($AB$104:AB111)-1,COLUMNS($AB$104:AB111)-1),\"\")","v":""}]
[{"$f":"IF(OFFSET(DE102_5!$C$104,ROWS($C$104:C112)-1,COLUMNS($C$104:C112)-1)<>\"\",OFFSET(DE102_5!$C$104,ROWS($C$104:C112)-1,COLUMNS($C$104:C112)-1),\"\")","v":""},{"$f":"IF(OFFSET(DE102_5!$F$104,ROWS($F$104:F112)-1,COLUMNS($F$104:F112)-1)<>\"\",OFFSET(DE102_5!$F$104,ROWS($F$104:F112)-1,COLUMNS($F$104:F112)-1),\"\")","v":85},{"$f":"IF(OFFSET(DE102_5!$G$104,ROWS($G$104:G112)-1,COLUMNS($G$104:G112)-1)<>\"\",OFFSET(DE102_5!$G$104,ROWS($G$104:G112)-1,COLUMNS($G$104:G112)-1),\"\")","v":"I-35"},{"$f":"IF(OFFSET(DE102_5!$H$104,ROWS($H$104:H112)-1,COLUMNS($H$104:H112)-1)<>\"\",OFFSET(DE102_5!$H$104,ROWS($H$104:H112)-1,COLUMNS($H$104:H112)-1),\"\")","v":2},{"$f":"IF(OFFSET(DE102_5!$I$104,ROWS($I$104:I112)-1,COLUMNS($I$104:I112)-1)<>\"\",OFFSET(DE102_5!$I$104,ROWS($I$104:I112)-1,COLUMNS($I$104:I112)-1),\"\")","v":105.79},{"$f":"IF(OFFSET(DE102_5!$J$104,ROWS($J$104:J112)-1,COLUMNS($J$104:J112)-1)<>\"\",OFFSET(DE102_5!$J$104,ROWS($J$104:J112)-1,COLUMNS($J$104:J112)-1),\"\")","v":107.84},{"$f":"IF(OFFSET(DE102_5!$M$104,ROWS($M$104:M112)-1,COLUMNS($M$104:M112)-1)<>\"\",OFFSET(DE102_5!$M$104,ROWS($M$104:M112)-1,COLUMNS($M$104:M112)-1),\"\")","v":2018},{"$f":"IF(OFFSET(DE102_5!$N$104,ROWS($N$104:N112)-1,COLUMNS($N$104:N112)-1)<>\"\",OFFSET(DE102_5!$N$104,ROWS($N$104:N112)-1,COLUMNS($N$104:N112)-1),\"\")","v":"M"},{"$f":"IF(OFFSET(DE102_5!$O$104,ROWS($O$104:O112)-1,COLUMNS($O$104:O112)-1)<>\"\",OFFSET(DE102_5!$O$104,ROWS($O$104:O112)-1,COLUMNS($O$104:O112)-1),\"\")","v":"IMN-035-4(201)87--0E-77"},{"$f":"IF(OFFSET(DE102_5!$P$104,ROWS($P$104:P112)-1,COLUMNS($P$104:P112)-1)<>\"\",OFFSET(DE102_5!$P$104,ROWS($P$104:P112)-1,COLUMNS($P$104:P112)-1),\"\")","v":"PCC"},{"$f":"IF(OFFSET(DE102_5!$Q$104,ROWS($Q$104:Q112)-1,COLUMNS($Q$104:Q112)-1)<>\"\",OFFSET(DE102_5!$Q$104,ROWS($Q$104:Q112)-1,COLUMNS($Q$104:Q112)-1),\"\")","v":""},{"$f":"IF(OFFSET(DE102_5!$R$104,ROWS($R$104:R112)-1,COLUMNS($R$104:R112)-1)<>\"\",OFFSET(DE102_5!$R$104,ROWS($R$104:R112)-1,COLUMNS($R$104:R112)-1),\"\")","v":""},{"$f":"IF(OFFSET(DE102_5!$S$104,ROWS($S$104:S112)-1,COLUMNS($S$104:S112)-1)<>\"\",OFFSET(DE102_5!$S$104,ROWS($S$104:S112)-1,COLUMNS($S$104:S112)-1),\"\")","v":""},{"$f":"IF(OFFSET(DE102_5!$T$104,ROWS($T$104:T112)-1,COLUMNS($T$104:T112)-1)<>\"\",OFFSET(DE102_5!$T$104,ROWS($T$104:T112)-1,COLUMNS($T$104:T112)-1),\"\")","v":""},{"$f":"IF(OFFSET(DE102_5!$U$104,ROWS($U$104:U112)-1,COLUMNS($U$104:U112)-1)<>\"\",OFFSET(DE102_5!$U$104,ROWS($U$104:U112)-1,COLUMNS($U$104:U112)-1),\"\")","v":""},{"$f":"IF(OFFSET(DE102_5!$V$104,ROWS($V$104:V112)-1,COLUMNS($V$104:V112)-1)<>\"\",OFFSET(DE102_5!$V$104,ROWS($V$104:V112)-1,COLUMNS($V$104:V112)-1),\"\")","v":""},{"$f":"IF(OFFSET(DE102_5!$W$104,ROWS($W$104:W112)-1,COLUMNS($W$104:W112)-1)<>\"\",OFFSET(DE102_5!$W$104,ROWS($W$104:W112)-1,COLUMNS($W$104:W112)-1),\"\")","v":""},{"$f":"IF(OFFSET(DE102_5!$X$104,ROWS($X$104:X112)-1,COLUMNS($X$104:X112)-1)<>\"\",OFFSET(DE102_5!$X$104,ROWS($X$104:X112)-1,COLUMNS($X$104:X112)-1),\"\")","v":""},{"$f":"IF(OFFSET(DE102_5!$Y$104,ROWS($Y$104:Y112)-1,COLUMNS($Y$104:Y112)-1)<>\"\",OFFSET(DE102_5!$Y$104,ROWS($Y$104:Y112)-1,COLUMNS($Y$104:Y112)-1),\"\")","v":""},{"$f":"IF(OFFSET(DE102_5!$Z$104,ROWS($Z$104:Z112)-1,COLUMNS($Z$104:Z112)-1)<>\"\",OFFSET(DE102_5!$Z$104,ROWS($Z$104:Z112)-1,COLUMNS($Z$104:Z112)-1),\"\")","v":""},{"$f":"IF(OFFSET(DE102_5!$AA$104,ROWS($AA$104:AA112)-1,COLUMNS($AA$104:AA112)-1)<>\"\",OFFSET(DE102_5!$AA$104,ROWS($AA$104:AA112)-1,COLUMNS($AA$104:AA112)-1),\"\")","v":"PCC PATCHING"},{"$f":"IF(OFFSET(DE102_5!$AB$104,ROWS($AB$104:AB112)-1,COLUMNS($AB$104:AB112)-1)<>\"\",OFFSET(DE102_5!$AB$104,ROWS($AB$104:AB112)-1,COLUMNS($AB$104:AB112)-1),\"\")","v":""}]
[{"$f":"IF(OFFSET(DE102_5!$C$104,ROWS($C$104:C113)-1,COLUMNS($C$104:C113)-1)<>\"\",OFFSET(DE102_5!$C$104,ROWS($C$104:C113)-1,COLUMNS($C$104:C113)-1),\"\")","v":""},{"$f":"IF(OFFSET(DE102_5!$F$104,ROWS($F$104:F113)-1,COLUMNS($F$104:F113)-1)<>\"\",OFFSET(DE102_5!$F$104,ROWS($F$104:F113)-1,COLUMNS($F$104:F113)-1),\"\")","v":85},{"$f":"IF(OFFSET(DE102_5!$G$104,ROWS($G$104:G113)-1,COLUMNS($G$104:G113)-1)<>\"\",OFFSET(DE102_5!$G$104,ROWS($G$104:G113)-1,COLUMNS($G$104:G113)-1),\"\")","v":"I-35"},{"$f":"IF(OFFSET(DE102_5!$H$104,ROWS($H$104:H113)-1,COLUMNS($H$104:H113)-1)<>\"\",OFFSET(DE102_5!$H$104,ROWS($H$104:H113)-1,COLUMNS($H$104:H113)-1),\"\")","v":2},{"$f":"IF(OFFSET(DE102_5!$I$104,ROWS($I$104:I113)-1,COLUMNS($I$104:I113)-1)<>\"\",OFFSET(DE102_5!$I$104,ROWS($I$104:I113)-1,COLUMNS($I$104:I113)-1),\"\")","v":105.79},{"$f":"IF(OFFSET(DE102_5!$J$104,ROWS($J$104:J113)-1,COLUMNS($J$104:J113)-1)<>\"\",OFFSET(DE102_5!$J$104,ROWS($J$104:J113)-1,COLUMNS($J$104:J113)-1),\"\")","v":107.84},{"$f":"IF(OFFSET(DE102_5!$M$104,ROWS($M$104:M113)-1,COLUMNS($M$104:M113)-1)<>\"\",OFFSET(DE102_5!$M$104,ROWS($M$104:M113)-1,COLUMNS($M$104:M113)-1),\"\")","v":2017},{"$f":"IF(OFFSET(DE102_5!$N$104,ROWS($N$104:N113)-1,COLUMNS($N$104:N113)-1)<>\"\",OFFSET(DE102_5!$N$104,ROWS($N$104:N113)-1,COLUMNS($N$104:N113)-1),\"\")","v":"M"},{"$f":"IF(OFFSET(DE102_5!$O$104,ROWS($O$104:O113)-1,COLUMNS($O$104:O113)-1)<>\"\",OFFSET(DE102_5!$O$104,ROWS($O$104:O113)-1,COLUMNS($O$104:O113)-1),\"\")","v":"IMN-035-4(179)87--0E-77"},{"$f":"IF(OFFSET(DE102_5!$P$104,ROWS($P$104:P113)-1,COLUMNS($P$104:P113)-1)<>\"\",OFFSET(DE102_5!$P$104,ROWS($P$104:P113)-1,COLUMNS($P$104:P113)-1),\"\")","v":"PCC"},{"$f":"IF(OFFSET(DE102_5!$Q$104,ROWS($Q$104:Q113)-1,COLUMNS($Q$104:Q113)-1)<>\"\",OFFSET(DE102_5!$Q$104,ROWS($Q$104:Q113)-1,COLUMNS($Q$104:Q113)-1),\"\")","v":12},{"$f":"IF(OFFSET(DE102_5!$R$104,ROWS($R$104:R113)-1,COLUMNS($R$104:R113)-1)<>\"\",OFFSET(DE102_5!$R$104,ROWS($R$104:R113)-1,COLUMNS($R$104:R113)-1),\"\")","v":""},{"$f":"IF(OFFSET(DE102_5!$S$104,ROWS($S$104:S113)-1,COLUMNS($S$104:S113)-1)<>\"\",OFFSET(DE102_5!$S$104,ROWS($S$104:S113)-1,COLUMNS($S$104:S113)-1),\"\")","v":""},{"$f":"IF(OFFSET(DE102_5!$T$104,ROWS($T$104:T113)-1,COLUMNS($T$104:T113)-1)<>\"\",OFFSET(DE102_5!$T$104,ROWS($T$104:T113)-1,COLUMNS($T$104:T113)-1),\"\")","v":""},{"$f":"IF(OFFSET(DE102_5!$U$104,ROWS($U$104:U113)-1,COLUMNS($U$104:U113)-1)<>\"\",OFFSET(DE102_5!$U$104,ROWS($U$104:U113)-1,COLUMNS($U$104:U113)-1),\"\")","v":""},{"$f":"IF(OFFSET(DE102_5!$V$104,ROWS($V$104:V113)-1,COLUMNS($V$104:V113)-1)<>\"\",OFFSET(DE102_5!$V$104,ROWS($V$104:V113)-1,COLUMNS($V$104:V113)-1),\"\")","v":""},{"$f":"IF(OFFSET(DE102_5!$W$104,ROWS($W$104:W113)-1,COLUMNS($W$104:W113)-1)<>\"\",OFFSET(DE102_5!$W$104,ROWS($W$104:W113)-1,COLUMNS($W$104:W113)-1),\"\")","v":""},{"$f":"IF(OFFSET(DE102_5!$X$104,ROWS($X$104:X113)-1,COLUMNS($X$104:X113)-1)<>\"\",OFFSET(DE102_5!$X$104,ROWS($X$104:X113)-1,COLUMNS($X$104:X113)-1),\"\")","v":""},{"$f":"IF(OFFSET(DE102_5!$Y$104,ROWS($Y$104:Y113)-1,COLUMNS($Y$104:Y113)-1)<>\"\",OFFSET(DE102_5!$Y$104,ROWS($Y$104:Y113)-1,COLUMNS($Y$104:Y113)-1),\"\")","v":""},{"$f":"IF(OFFSET(DE102_5!$Z$104,ROWS($Z$104:Z113)-1,COLUMNS($Z$104:Z113)-1)<>\"\",OFFSET(DE102_5!$Z$104,ROWS($Z$104:Z113)-1,COLUMNS($Z$104:Z113)-1),\"\")","v":""},{"$f":"IF(OFFSET(DE102_5!$AA$104,ROWS($AA$104:AA113)-1,COLUMNS($AA$104:AA113)-1)<>\"\",OFFSET(DE102_5!$AA$104,ROWS($AA$104:AA113)-1,COLUMNS($AA$104:AA113)-1),\"\")","v":"PCC PATCHING"},{"$f":"IF(OFFSET(DE102_5!$AB$104,ROWS($AB$104:AB113)-1,COLUMNS($AB$104:AB113)-1)<>\"\",OFFSET(DE102_5!$AB$104,ROWS($AB$104:AB113)-1,COLUMNS($AB$104:AB113)-1),\"\")","v":""}]
[{"$f":"IF(OFFSET(DE102_5!$C$104,ROWS($C$104:C114)-1,COLUMNS($C$104:C114)-1)<>\"\",OFFSET(DE102_5!$C$104,ROWS($C$104:C114)-1,COLUMNS($C$104:C114)-1),\"\")","v":""},{"$f":"IF(OFFSET(DE102_5!$F$104,ROWS($F$104:F114)-1,COLUMNS($F$104:F114)-1)<>\"\",OFFSET(DE102_5!$F$104,ROWS($F$104:F114)-1,COLUMNS($F$104:F114)-1),\"\")","v":85},{"$f":"IF(OFFSET(DE102_5!$G$104,ROWS($G$104:G114)-1,COLUMNS($G$104:G114)-1)<>\"\",OFFSET(DE102_5!$G$104,ROWS($G$104:G114)-1,COLUMNS($G$104:G114)-1),\"\")","v":"I-35"},{"$f":"IF(OFFSET(DE102_5!$H$104,ROWS($H$104:H114)-1,COLUMNS($H$104:H114)-1)<>\"\",OFFSET(DE102_5!$H$104,ROWS($H$104:H114)-1,COLUMNS($H$104:H114)-1),\"\")","v":2},{"$f":"IF(OFFSET(DE102_5!$I$104,ROWS($I$104:I114)-1,COLUMNS($I$104:I114)-1)<>\"\",OFFSET(DE102_5!$I$104,ROWS($I$104:I114)-1,COLUMNS($I$104:I114)-1),\"\")","v":105.79},{"$f":"IF(OFFSET(DE102_5!$J$104,ROWS($J$104:J114)-1,COLUMNS($J$104:J114)-1)<>\"\",OFFSET(DE102_5!$J$104,ROWS($J$104:J114)-1,COLUMNS($J$104:J114)-1),\"\")","v":107.84},{"$f":"IF(OFFSET(DE102_5!$M$104,ROWS($M$104:M114)-1,COLUMNS($M$104:M114)-1)<>\"\",OFFSET(DE102_5!$M$104,ROWS($M$104:M114)-1,COLUMNS($M$104:M114)-1),\"\")","v":2013},{"$f":"IF(OFFSET(DE102_5!$N$104,ROWS($N$104:N114)-1,COLUMNS($N$104:N114)-1)<>\"\",OFFSET(DE102_5!$N$104,ROWS($N$104:N114)-1,COLUMNS($N$104:N114)-1),\"\")","v":""},{"$f":"IF(OFFSET(DE102_5!$O$104,ROWS($O$104:O114)-1,COLUMNS($O$104:O114)-1)<>\"\",OFFSET(DE102_5!$O$104,ROWS($O$104:O114)-1,COLUMNS($O$104:O114)-1),\"\")","v":"MPIN-035-1(708)106--0N-85"},{"$f":"IF(OFFSET(DE102_5!$P$104,ROWS($P$104:P114)-1,COLUMNS($P$104:P114)-1)<>\"\",OFFSET(DE102_5!$P$104,ROWS($P$104:P114)-1,COLUMNS($P$104:P114)-1),\"\")","v":"MSS"},{"$f":"IF(OFFSET(DE102_5!$Q$104,ROWS($Q$104:Q114)-1,COLUMNS($Q$104:Q114)-1)<>\"\",OFFSET(DE102_5!$Q$104,ROWS($Q$104:Q114)-1,COLUMNS($Q$104:Q114)-1),\"\")","v":""},{"$f":"IF(OFFSET(DE102_5!$R$104,ROWS($R$104:R114)-1,COLUMNS($R$104:R114)-1)<>\"\",OFFSET(DE102_5!$R$104,ROWS($R$104:R114)-1,COLUMNS($R$104:R114)-1),\"\")","v":""},{"$f":"IF(OFFSET(DE102_5!$S$104,ROWS($S$104:S114)-1,COLUMNS($S$104:S114)-1)<>\"\",OFFSET(DE102_5!$S$104,ROWS($S$104:S114)-1,COLUMNS($S$104:S114)-1),\"\")","v":""},{"$f":"IF(OFFSET(DE102_5!$T$104,ROWS($T$104:T114)-1,COLUMNS($T$104:T114)-1)<>\"\",OFFSET(DE102_5!$T$104,ROWS($T$104:T114)-1,COLUMNS($T$104:T114)-1),\"\")","v":""},{"$f":"IF(OFFSET(DE102_5!$U$104,ROWS($U$104:U114)-1,COLUMNS($U$104:U114)-1)<>\"\",OFFSET(DE102_5!$U$104,ROWS($U$104:U114)-1,COLUMNS($U$104:U114)-1),\"\")","v":""},{"$f":"IF(OFFSET(DE102_5!$V$104,ROWS($V$104:V114)-1,COLUMNS($V$104:V114)-1)<>\"\",OFFSET(DE102_5!$V$104,ROWS($V$104:V114)-1,COLUMNS($V$104:V114)-1),\"\")","v":""},{"$f":"IF(OFFSET(DE102_5!$W$104,ROWS($W$104:W114)-1,COLUMNS($W$104:W114)-1)<>\"\",OFFSET(DE102_5!$W$104,ROWS($W$104:W114)-1,COLUMNS($W$104:W114)-1),\"\")","v":""},{"$f":"IF(OFFSET(DE102_5!$X$104,ROWS($X$104:X114)-1,COLUMNS($X$104:X114)-1)<>\"\",OFFSET(DE102_5!$X$104,ROWS($X$104:X114)-1,COLUMNS($X$104:X114)-1),\"\")","v":""},{"$f":"IF(OFFSET(DE102_5!$Y$104,ROWS($Y$104:Y114)-1,COLUMNS($Y$104:Y114)-1)<>\"\",OFFSET(DE102_5!$Y$104,ROWS($Y$104:Y114)-1,COLUMNS($Y$104:Y114)-1),\"\")","v":""},{"$f":"IF(OFFSET(DE102_5!$Z$104,ROWS($Z$104:Z114)-1,COLUMNS($Z$104:Z114)-1)<>\"\",OFFSET(DE102_5!$Z$104,ROWS($Z$104:Z114)-1,COLUMNS($Z$104:Z114)-1),\"\")","v":""},{"$f":"IF(OFFSET(DE102_5!$AA$104,ROWS($AA$104:AA114)-1,COLUMNS($AA$104:AA114)-1)<>\"\",OFFSET(DE102_5!$AA$104,ROWS($AA$104:AA114)-1,COLUMNS($AA$104:AA114)-1),\"\")","v":""},{"$f":"IF(OFFSET(DE102_5!$AB$104,ROWS($AB$104:AB114)-1,COLUMNS($AB$104:AB114)-1)<>\"\",OFFSET(DE102_5!$AB$104,ROWS($AB$104:AB114)-1,COLUMNS($AB$104:AB114)-1),\"\")","v":""}]
[{"$f":"IF(OFFSET(DE102_5!$C$104,ROWS($C$104:C115)-1,COLUMNS($C$104:C115)-1)<>\"\",OFFSET(DE102_5!$C$104,ROWS($C$104:C115)-1,COLUMNS($C$104:C115)-1),\"\")","v":""},{"$f":"IF(OFFSET(DE102_5!$F$104,ROWS($F$104:F115)-1,COLUMNS($F$104:F115)-1)<>\"\",OFFSET(DE102_5!$F$104,ROWS($F$104:F115)-1,COLUMNS($F$104:F115)-1),\"\")","v":85},{"$f":"IF(OFFSET(DE102_5!$G$104,ROWS($G$104:G115)-1,COLUMNS($G$104:G115)-1)<>\"\",OFFSET(DE102_5!$G$104,ROWS($G$104:G115)-1,COLUMNS($G$104:G115)-1),\"\")","v":"I-35"},{"$f":"IF(OFFSET(DE102_5!$H$104,ROWS($H$104:H115)-1,COLUMNS($H$104:H115)-1)<>\"\",OFFSET(DE102_5!$H$104,ROWS($H$104:H115)-1,COLUMNS($H$104:H115)-1),\"\")","v":2},{"$f":"IF(OFFSET(DE102_5!$I$104,ROWS($I$104:I115)-1,COLUMNS($I$104:I115)-1)<>\"\",OFFSET(DE102_5!$I$104,ROWS($I$104:I115)-1,COLUMNS($I$104:I115)-1),\"\")","v":105.79},{"$f":"IF(OFFSET(DE102_5!$J$104,ROWS($J$104:J115)-1,COLUMNS($J$104:J115)-1)<>\"\",OFFSET(DE102_5!$J$104,ROWS($J$104:J115)-1,COLUMNS($J$104:J115)-1),\"\")","v":107.84},{"$f":"IF(OFFSET(DE102_5!$M$104,ROWS($M$104:M115)-1,COLUMNS($M$104:M115)-1)<>\"\",OFFSET(DE102_5!$M$104,ROWS($M$104:M115)-1,COLUMNS($M$104:M115)-1),\"\")","v":2008},{"$f":"IF(OFFSET(DE102_5!$N$104,ROWS($N$104:N115)-1,COLUMNS($N$104:N115)-1)<>\"\",OFFSET(DE102_5!$N$104,ROWS($N$104:N115)-1,COLUMNS($N$104:N115)-1),\"\")","v":""},{"$f":"IF(OFFSET(DE102_5!$O$104,ROWS($O$104:O115)-1,COLUMNS($O$104:O115)-1)<>\"\",OFFSET(DE102_5!$O$104,ROWS($O$104:O115)-1,COLUMNS($O$104:O115)-1),\"\")","v":"IMX-35-4(130)106--02-85"},{"$f":"IF(OFFSET(DE102_5!$P$104,ROWS($P$104:P115)-1,COLUMNS($P$104:P115)-1)<>\"\",OFFSET(DE102_5!$P$104,ROWS($P$104:P115)-1,COLUMNS($P$104:P115)-1),\"\")","v":"HMA"},{"$f":"IF(OFFSET(DE102_5!$Q$104,ROWS($Q$104:Q115)-1,COLUMNS($Q$104:Q115)-1)<>\"\",OFFSET(DE102_5!$Q$104,ROWS($Q$104:Q115)-1,COLUMNS($Q$104:Q115)-1),\"\")","v":2},{"$f":"IF(OFFSET(DE102_5!$R$104,ROWS($R$104:R115)-1,COLUMNS($R$104:R115)-1)<>\"\",OFFSET(DE102_5!$R$104,ROWS($R$104:R115)-1,COLUMNS($R$104:R115)-1),\"\")","v":""},{"$f":"IF(OFFSET(DE102_5!$S$104,ROWS($S$104:S115)-1,COLUMNS($S$104:S115)-1)<>\"\",OFFSET(DE102_5!$S$104,ROWS($S$104:S115)-1,COLUMNS($S$104:S115)-1),\"\")","v":""},{"$f":"IF(OFFSET(DE102_5!$T$104,ROWS($T$104:T115)-1,COLUMNS($T$104:T115)-1)<>\"\",OFFSET(DE102_5!$T$104,ROWS($T$104:T115)-1,COLUMNS($T$104:T115)-1),\"\")","v":""},{"$f":"IF(OFFSET(DE102_5!$U$104,ROWS($U$104:U115)-1,COLUMNS($U$104:U115)-1)<>\"\",OFFSET(DE102_5!$U$104,ROWS($U$104:U115)-1,COLUMNS($U$104:U115)-1),\"\")","v":""},{"$f":"IF(OFFSET(DE102_5!$V$104,ROWS($V$104:V115)-1,COLUMNS($V$104:V115)-1)<>\"\",OFFSET(DE102_5!$V$104,ROWS($V$104:V115)-1,COLUMNS($V$104:V115)-1),\"\")","v":"MIL"},{"$f":"IF(OFFSET(DE102_5!$W$104,ROWS($W$104:W115)-1,COLUMNS($W$104:W115)-1)<>\"\",OFFSET(DE102_5!$W$104,ROWS($W$104:W115)-1,COLUMNS($W$104:W115)-1),\"\")","v":2},{"$f":"IF(OFFSET(DE102_5!$X$104,ROWS($X$104:X115)-1,COLUMNS($X$104:X115)-1)<>\"\",OFFSET(DE102_5!$X$104,ROWS($X$104:X115)-1,COLUMNS($X$104:X115)-1),\"\")","v":"AMES MINE"},{"$f":"IF(OFFSET(DE102_5!$Y$104,ROWS($Y$104:Y115)-1,COLUMNS($Y$104:Y115)-1)<>\"\",OFFSET(DE102_5!$Y$104,ROWS($Y$104:Y115)-1,COLUMNS($Y$104:Y115)-1),\"\")","v":"C.LST."},{"$f":"IF(OFFSET(DE102_5!$Z$104,ROWS($Z$104:Z115)-1,COLUMNS($Z$104:Z115)-1)<>\"\",OFFSET(DE102_5!$Z$104,ROWS($Z$104:Z115)-1,COLUMNS($Z$104:Z115)-1),\"\")","v":""},{"$f":"IF(OFFSET(DE102_5!$AA$104,ROWS($AA$104:AA115)-1,COLUMNS($AA$104:AA115)-1)<>\"\",OFFSET(DE102_5!$AA$104,ROWS($AA$104:AA115)-1,COLUMNS($AA$104:AA115)-1),\"\")","v":""},{"$f":"IF(OFFSET(DE102_5!$AB$104,ROWS($AB$104:AB115)-1,COLUMNS($AB$104:AB115)-1)<>\"\",OFFSET(DE102_5!$AB$104,ROWS($AB$104:AB115)-1,COLUMNS($AB$104:AB115)-1),\"\")","v":""}]
[{"$f":"IF(OFFSET(DE102_5!$C$104,ROWS($C$104:C116)-1,COLUMNS($C$104:C116)-1)<>\"\",OFFSET(DE102_5!$C$104,ROWS($C$104:C116)-1,COLUMNS($C$104:C116)-1),\"\")","v":""},{"$f":"IF(OFFSET(DE102_5!$F$104,ROWS($F$104:F116)-1,COLUMNS($F$104:F116)-1)<>\"\",OFFSET(DE102_5!$F$104,ROWS($F$104:F116)-1,COLUMNS($F$104:F116)-1),\"\")","v":85},{"$f":"IF(OFFSET(DE102_5!$G$104,ROWS($G$104:G116)-1,COLUMNS($G$104:G116)-1)<>\"\",OFFSET(DE102_5!$G$104,ROWS($G$104:G116)-1,COLUMNS($G$104:G116)-1),\"\")","v":"I-35"},{"$f":"IF(OFFSET(DE102_5!$H$104,ROWS($H$104:H116)-1,COLUMNS($H$104:H116)-1)<>\"\",OFFSET(DE102_5!$H$104,ROWS($H$104:H116)-1,COLUMNS($H$104:H116)-1),\"\")","v":2},{"$f":"IF(OFFSET(DE102_5!$I$104,ROWS($I$104:I116)-1,COLUMNS($I$104:I116)-1)<>\"\",OFFSET(DE102_5!$I$104,ROWS($I$104:I116)-1,COLUMNS($I$104:I116)-1),\"\")","v":105.79},{"$f":"IF(OFFSET(DE102_5!$J$104,ROWS($J$104:J116)-1,COLUMNS($J$104:J116)-1)<>\"\",OFFSET(DE102_5!$J$104,ROWS($J$104:J116)-1,COLUMNS($J$104:J116)-1),\"\")","v":107.84},{"$f":"IF(OFFSET(DE102_5!$M$104,ROWS($M$104:M116)-1,COLUMNS($M$104:M116)-1)<>\"\",OFFSET(DE102_5!$M$104,ROWS($M$104:M116)-1,COLUMNS($M$104:M116)-1),\"\")","v":2008},{"$f":"IF(OFFSET(DE102_5!$N$104,ROWS($N$104:N116)-1,COLUMNS($N$104:N116)-1)<>\"\",OFFSET(DE102_5!$N$104,ROWS($N$104:N116)-1,COLUMNS($N$104:N116)-1),\"\")","v":"W"},{"$f":"IF(OFFSET(DE102_5!$O$104,ROWS($O$104:O116)-1,COLUMNS($O$104:O116)-1)<>\"\",OFFSET(DE102_5!$O$104,ROWS($O$104:O116)-1,COLUMNS($O$104:O116)-1),\"\")","v":"IMX-35-4(130)106--02-85"},{"$f":"IF(OFFSET(DE102_5!$P$104,ROWS($P$104:P116)-1,COLUMNS($P$104:P116)-1)<>\"\",OFFSET(DE102_5!$P$104,ROWS($P$104:P116)-1,COLUMNS($P$104:P116)-1),\"\")","v":"HMA"},{"$f":"IF(OFFSET(DE102_5!$Q$104,ROWS($Q$104:Q116)-1,COLUMNS($Q$104:Q116)-1)<>\"\",OFFSET(DE102_5!$Q$104,ROWS($Q$104:Q116)-1,COLUMNS($Q$104:Q116)-1),\"\")","v":2},{"$f":"IF(OFFSET(DE102_5!$R$104,ROWS($R$104:R116)-1,COLUMNS($R$104:R116)-1)<>\"\",OFFSET(DE102_5!$R$104,ROWS($R$104:R116)-1,COLUMNS($R$104:R116)-1),\"\")","v":""},{"$f":"IF(OFFSET(DE102_5!$S$104,ROWS($S$104:S116)-1,COLUMNS($S$104:S116)-1)<>\"\",OFFSET(DE102_5!$S$104,ROWS($S$104:S116)-1,COLUMNS($S$104:S116)-1),\"\")","v":""},{"$f":"IF(OFFSET(DE102_5!$T$104,ROWS($T$104:T116)-1,COLUMNS($T$104:T116)-1)<>\"\",OFFSET(DE102_5!$T$104,ROWS($T$104:T116)-1,COLUMNS($T$104:T116)-1),\"\")","v":""},{"$f":"IF(OFFSET(DE102_5!$U$104,ROWS($U$104:U116)-1,COLUMNS($U$104:U116)-1)<>\"\",OFFSET(DE102_5!$U$104,ROWS($U$104:U116)-1,COLUMNS($U$104:U116)-1),\"\")","v":""},{"$f":"IF(OFFSET(DE102_5!$V$104,ROWS($V$104:V116)-1,COLUMNS($V$104:V116)-1)<>\"\",OFFSET(DE102_5!$V$104,ROWS($V$104:V116)-1,COLUMNS($V$104:V116)-1),\"\")","v":"MIL"},{"$f":"IF(OFFSET(DE102_5!$W$104,ROWS($W$104:W116)-1,COLUMNS($W$104:W116)-1)<>\"\",OFFSET(DE102_5!$W$104,ROWS($W$104:W116)-1,COLUMNS($W$104:W116)-1),\"\")","v":2},{"$f":"IF(OFFSET(DE102_5!$X$104,ROWS($X$104:X116)-1,COLUMNS($X$104:X116)-1)<>\"\",OFFSET(DE102_5!$X$104,ROWS($X$104:X116)-1,COLUMNS($X$104:X116)-1),\"\")","v":"AMES MINE"},{"$f":"IF(OFFSET(DE102_5!$Y$104,ROWS($Y$104:Y116)-1,COLUMNS($Y$104:Y116)-1)<>\"\",OFFSET(DE102_5!$Y$104,ROWS($Y$104:Y116)-1,COLUMNS($Y$104:Y116)-1),\"\")","v":"C.LST."},{"$f":"IF(OFFSET(DE102_5!$Z$104,ROWS($Z$104:Z116)-1,COLUMNS($Z$104:Z116)-1)<>\"\",OFFSET(DE102_5!$Z$104,ROWS($Z$104:Z116)-1,COLUMNS($Z$104:Z116)-1),\"\")","v":""},{"$f":"IF(OFFSET(DE102_5!$AA$104,ROWS($AA$104:AA116)-1,COLUMNS($AA$104:AA116)-1)<>\"\",OFFSET(DE102_5!$AA$104,ROWS($AA$104:AA116)-1,COLUMNS($AA$104:AA116)-1),\"\")","v":"WIDENING VARIES"},{"$f":"IF(OFFSET(DE102_5!$AB$104,ROWS($AB$104:AB116)-1,COLUMNS($AB$104:AB116)-1)<>\"\",OFFSET(DE102_5!$AB$104,ROWS($AB$104:AB116)-1,COLUMNS($AB$104:AB116)-1),\"\")","v":""}]
[{"$f":"IF(OFFSET(DE102_5!$C$104,ROWS($C$104:C117)-1,COLUMNS($C$104:C117)-1)<>\"\",OFFSET(DE102_5!$C$104,ROWS($C$104:C117)-1,COLUMNS($C$104:C117)-1),\"\")","v":""},{"$f":"IF(OFFSET(DE102_5!$F$104,ROWS($F$104:F117)-1,COLUMNS($F$104:F117)-1)<>\"\",OFFSET(DE102_5!$F$104,ROWS($F$104:F117)-1,COLUMNS($F$104:F117)-1),\"\")","v":85},{"$f":"IF(OFFSET(DE102_5!$G$104,ROWS($G$104:G117)-1,COLUMNS($G$104:G117)-1)<>\"\",OFFSET(DE102_5!$G$104,ROWS($G$104:G117)-1,COLUMNS($G$104:G117)-1),\"\")","v":"I-35"},{"$f":"IF(OFFSET(DE102_5!$H$104,ROWS($H$104:H117)-1,COLUMNS($H$104:H117)-1)<>\"\",OFFSET(DE102_5!$H$104,ROWS($H$104:H117)-1,COLUMNS($H$104:H117)-1),\"\")","v":2},{"$f":"IF(OFFSET(DE102_5!$I$104,ROWS($I$104:I117)-1,COLUMNS($I$104:I117)-1)<>\"\",OFFSET(DE102_5!$I$104,ROWS($I$104:I117)-1,COLUMNS($I$104:I117)-1),\"\")","v":105.79},{"$f":"IF(OFFSET(DE102_5!$J$104,ROWS($J$104:J117)-1,COLUMNS($J$104:J117)-1)<>\"\",OFFSET(DE102_5!$J$104,ROWS($J$104:J117)-1,COLUMNS($J$104:J117)-1),\"\")","v":107.84},{"$f":"IF(OFFSET(DE102_5!$M$104,ROWS($M$104:M117)-1,COLUMNS($M$104:M117)-1)<>\"\",OFFSET(DE102_5!$M$104,ROWS($M$104:M117)-1,COLUMNS($M$104:M117)-1),\"\")","v":1989},{"$f":"IF(OFFSET(DE102_5!$N$104,ROWS($N$104:N117)-1,COLUMNS($N$104:N117)-1)<>\"\",OFFSET(DE102_5!$N$104,ROWS($N$104:N117)-1,COLUMNS($N$104:N117)-1),\"\")","v":""},{"$f":"IF(OFFSET(DE102_5!$O$104,ROWS($O$104:O117)-1,COLUMNS($O$104:O117)-1)<>\"\",OFFSET(DE102_5!$O$104,ROWS($O$104:O117)-1,COLUMNS($O$104:O117)-1),\"\")","v":"IR-35-4(58)105"},{"$f":"IF(OFFSET(DE102_5!$P$104,ROWS($P$104:P117)-1,COLUMNS($P$104:P117)-1)<>\"\",OFFSET(DE102_5!$P$104,ROWS($P$104:P117)-1,COLUMNS($P$104:P117)-1),\"\")","v":"AAC"},{"$f":"IF(OFFSET(DE102_5!$Q$104,ROWS($Q$104:Q117)-1,COLUMNS($Q$104:Q117)-1)<>\"\",OFFSET(DE102_5!$Q$104,ROWS($Q$104:Q117)-1,COLUMNS($Q$104:Q117)-1),\"\")","v":4.5},{"$f":"IF(OFFSET(DE102_5!$R$104,ROWS($R$104:R117)-1,COLUMNS($R$104:R117)-1)<>\"\",OFFSET(DE102_5!$R$104,ROWS($R$104:R117)-1,COLUMNS($R$104:R117)-1),\"\")","v":""},{"$f":"IF(OFFSET(DE102_5!$S$104,ROWS($S$104:S117)-1,COLUMNS($S$104:S117)-1)<>\"\",OFFSET(DE102_5!$S$104,ROWS($S$104:S117)-1,COLUMNS($S$104:S117)-1),\"\")","v":""},{"$f":"IF(OFFSET(DE102_5!$T$104,ROWS($T$104:T117)-1,COLUMNS($T$104:T117)-1)<>\"\",OFFSET(DE102_5!$T$104,ROWS($T$104:T117)-1,COLUMNS($T$104:T117)-1),\"\")","v":""},{"$f":"IF(OFFSET(DE102_5!$U$104,ROWS($U$104:U117)-1,COLUMNS($U$104:U117)-1)<>\"\",OFFSET(DE102_5!$U$104,ROWS($U$104:U117)-1,COLUMNS($U$104:U117)-1),\"\")","v":""},{"$f":"IF(OFFSET(DE102_5!$V$104,ROWS($V$104:V117)-1,COLUMNS($V$104:V117)-1)<>\"\",OFFSET(DE102_5!$V$104,ROWS($V$104:V117)-1,COLUMNS($V$104:V117)-1),\"\")","v":""},{"$f":"IF(OFFSET(DE102_5!$W$104,ROWS($W$104:W117)-1,COLUMNS($W$104:W117)-1)<>\"\",OFFSET(DE102_5!$W$104,ROWS($W$104:W117)-1,COLUMNS($W$104:W117)-1),\"\")","v":""},{"$f":"IF(OFFSET(DE102_5!$X$104,ROWS($X$104:X117)-1,COLUMNS($X$104:X117)-1)<>\"\",OFFSET(DE102_5!$X$104,ROWS($X$104:X117)-1,COLUMNS($X$104:X117)-1),\"\")","v":"AMES MINE"},{"$f":"IF(OFFSET(DE102_5!$Y$104,ROWS($Y$104:Y117)-1,COLUMNS($Y$104:Y117)-1)<>\"\",OFFSET(DE102_5!$Y$104,ROWS($Y$104:Y117)-1,COLUMNS($Y$104:Y117)-1),\"\")","v":"C.LST."},{"$f":"IF(OFFSET(DE102_5!$Z$104,ROWS($Z$104:Z117)-1,COLUMNS($Z$104:Z117)-1)<>\"\",OFFSET(DE102_5!$Z$104,ROWS($Z$104:Z117)-1,COLUMNS($Z$104:Z117)-1),\"\")","v":""},{"$f":"IF(OFFSET(DE102_5!$AA$104,ROWS($AA$104:AA117)-1,COLUMNS($AA$104:AA117)-1)<>\"\",OFFSET(DE102_5!$AA$104,ROWS($AA$104:AA117)-1,COLUMNS($AA$104:AA117)-1),\"\")","v":""},{"$f":"IF(OFFSET(DE102_5!$AB$104,ROWS($AB$104:AB117)-1,COLUMNS($AB$104:AB117)-1)<>\"\",OFFSET(DE102_5!$AB$104,ROWS($AB$104:AB117)-1,COLUMNS($AB$104:AB117)-1),\"\")","v":""}]
[{"$f":"IF(OFFSET(DE102_5!$C$104,ROWS($C$104:C118)-1,COLUMNS($C$104:C118)-1)<>\"\",OFFSET(DE102_5!$C$104,ROWS($C$104:C118)-1,COLUMNS($C$104:C118)-1),\"\")","v":""},{"$f":"IF(OFFSET(DE102_5!$F$104,ROWS($F$104:F118)-1,COLUMNS($F$104:F118)-1)<>\"\",OFFSET(DE102_5!$F$104,ROWS($F$104:F118)-1,COLUMNS($F$104:F118)-1),\"\")","v":85},{"$f":"IF(OFFSET(DE102_5!$G$104,ROWS($G$104:G118)-1,COLUMNS($G$104:G118)-1)<>\"\",OFFSET(DE102_5!$G$104,ROWS($G$104:G118)-1,COLUMNS($G$104:G118)-1),\"\")","v":"I-35"},{"$f":"IF(OFFSET(DE102_5!$H$104,ROWS($H$104:H118)-1,COLUMNS($H$104:H118)-1)<>\"\",OFFSET(DE102_5!$H$104,ROWS($H$104:H118)-1,COLUMNS($H$104:H118)-1),\"\")","v":2},{"$f":"IF(OFFSET(DE102_5!$I$104,ROWS($I$104:I118)-1,COLUMNS($I$104:I118)-1)<>\"\",OFFSET(DE102_5!$I$104,ROWS($I$104:I118)-1,COLUMNS($I$104:I118)-1),\"\")","v":105.79},{"$f":"IF(OFFSET(DE102_5!$J$104,ROWS($J$104:J118)-1,COLUMNS($J$104:J118)-1)<>\"\",OFFSET(DE102_5!$J$104,ROWS($J$104:J118)-1,COLUMNS($J$104:J118)-1),\"\")","v":107.84},{"$f":"IF(OFFSET(DE102_5!$M$104,ROWS($M$104:M118)-1,COLUMNS($M$104:M118)-1)<>\"\",OFFSET(DE102_5!$M$104,ROWS($M$104:M118)-1,COLUMNS($M$104:M118)-1),\"\")","v":1965},{"$f":"IF(OFFSET(DE102_5!$N$104,ROWS($N$104:N118)-1,COLUMNS($N$104:N118)-1)<>\"\",OFFSET(DE102_5!$N$104,ROWS($N$104:N118)-1,COLUMNS($N$104:N118)-1),\"\")","v":""},{"$f":"IF(OFFSET(DE102_5!$O$104,ROWS($O$104:O118)-1,COLUMNS($O$104:O118)-1)<>\"\",OFFSET(DE102_5!$O$104,ROWS($O$104:O118)-1,COLUMNS($O$104:O118)-1),\"\")","v":"I-IG-35-4(12)103"},{"$f":"IF(OFFSET(DE102_5!$P$104,ROWS($P$104:P118)-1,COLUMNS($P$104:P118)-1)<>\"\",OFFSET(DE102_5!$P$104,ROWS($P$104:P118)-1,COLUMNS($P$104:P118)-1),\"\")","v":"PCC"},{"$f":"IF(OFFSET(DE102_5!$Q$104,ROWS($Q$104:Q118)-1,COLUMNS($Q$104:Q118)-1)<>\"\",OFFSET(DE102_5!$Q$104,ROWS($Q$104:Q118)-1,COLUMNS($Q$104:Q118)-1),\"\")","v":10},{"$f":"IF(OFFSET(DE102_5!$R$104,ROWS($R$104:R118)-1,COLUMNS($R$104:R118)-1)<>\"\",OFFSET(DE102_5!$R$104,ROWS($R$104:R118)-1,COLUMNS($R$104:R118)-1),\"\")","v":"GSB"},{"$f":"IF(OFFSET(DE102_5!$S$104,ROWS($S$104:S118)-1,COLUMNS($S$104:S118)-1)<>\"\",OFFSET(DE102_5!$S$104,ROWS($S$104:S118)-1,COLUMNS($S$104:S118)-1),\"\")","v":4},{"$f":"IF(OFFSET(DE102_5!$T$104,ROWS($T$104:T118)-1,COLUMNS($T$104:T118)-1)<>\"\",OFFSET(DE102_5!$T$104,ROWS($T$104:T118)-1,COLUMNS($T$104:T118)-1),\"\")","v":""},{"$f":"IF(OFFSET(DE102_5!$U$104,ROWS($U$104:U118)-1,COLUMNS($U$104:U118)-1)<>\"\",OFFSET(DE102_5!$U$104,ROWS($U$104:U118)-1,COLUMNS($U$104:U118)-1),\"\")","v":""},{"$f":"IF(OFFSET(DE102_5!$V$104,ROWS($V$104:V118)-1,COLUMNS($V$104:V118)-1)<>\"\",OFFSET(DE102_5!$V$104,ROWS($V$104:V118)-1,COLUMNS($V$104:V118)-1),\"\")","v":""},{"$f":"IF(OFFSET(DE102_5!$W$104,ROWS($W$104:W118)-1,COLUMNS($W$104:W118)-1)<>\"\",OFFSET(DE102_5!$W$104,ROWS($W$104:W118)-1,COLUMNS($W$104:W118)-1),\"\")","v":""},{"$f":"IF(OFFSET(DE102_5!$X$104,ROWS($X$104:X118)-1,COLUMNS($X$104:X118)-1)<>\"\",OFFSET(DE102_5!$X$104,ROWS($X$104:X118)-1,COLUMNS($X$104:X118)-1),\"\")","v":"CHRISTENSEN"},{"$f":"IF(OFFSET(DE102_5!$Y$104,ROWS($Y$104:Y118)-1,COLUMNS($Y$104:Y118)-1)<>\"\",OFFSET(DE102_5!$Y$104,ROWS($Y$104:Y118)-1,COLUMNS($Y$104:Y118)-1),\"\")","v":"GRAVEL"},{"$f":"IF(OFFSET(DE102_5!$Z$104,ROWS($Z$104:Z118)-1,COLUMNS($Z$104:Z118)-1)<>\"\",OFFSET(DE102_5!$Z$104,ROWS($Z$104:Z118)-1,COLUMNS($Z$104:Z118)-1),\"\")","v":1},{"$f":"IF(OFFSET(DE102_5!$AA$104,ROWS($AA$104:AA118)-1,COLUMNS($AA$104:AA118)-1)<>\"\",OFFSET(DE102_5!$AA$104,ROWS($AA$104:AA118)-1,COLUMNS($AA$104:AA118)-1),\"\")","v":""},{"$f":"IF(OFFSET(DE102_5!$AB$104,ROWS($AB$104:AB118)-1,COLUMNS($AB$104:AB118)-1)<>\"\",OFFSET(DE102_5!$AB$104,ROWS($AB$104:AB118)-1,COLUMNS($AB$104:AB118)-1),\"\")","v":""}]
[{"$f":"IF(OFFSET(DE102_5!$C$104,ROWS($C$104:C119)-1,COLUMNS($C$104:C119)-1)<>\"\",OFFSET(DE102_5!$C$104,ROWS($C$104:C119)-1,COLUMNS($C$104:C119)-1),\"\")","v":""},{"$f":"IF(OFFSET(DE102_5!$F$104,ROWS($F$104:F119)-1,COLUMNS($F$104:F119)-1)<>\"\",OFFSET(DE102_5!$F$104,ROWS($F$104:F119)-1,COLUMNS($F$104:F119)-1),\"\")","v":""},{"$f":"IF(OFFSET(DE102_5!$G$104,ROWS($G$104:G119)-1,COLUMNS($G$104:G119)-1)<>\"\",OFFSET(DE102_5!$G$104,ROWS($G$104:G119)-1,COLUMNS($G$104:G119)-1),\"\")","v":""},{"$f":"IF(OFFSET(DE102_5!$H$104,ROWS($H$104:H119)-1,COLUMNS($H$104:H119)-1)<>\"\",OFFSET(DE102_5!$H$104,ROWS($H$104:H119)-1,COLUMNS($H$104:H119)-1),\"\")","v":""},{"$f":"IF(OFFSET(DE102_5!$I$104,ROWS($I$104:I119)-1,COLUMNS($I$104:I119)-1)<>\"\",OFFSET(DE102_5!$I$104,ROWS($I$104:I119)-1,COLUMNS($I$104:I119)-1),\"\")","v":""},{"$f":"IF(OFFSET(DE102_5!$J$104,ROWS($J$104:J119)-1,COLUMNS($J$104:J119)-1)<>\"\",OFFSET(DE102_5!$J$104,ROWS($J$104:J119)-1,COLUMNS($J$104:J119)-1),\"\")","v":""},{"$f":"IF(OFFSET(DE102_5!$M$104,ROWS($M$104:M119)-1,COLUMNS($M$104:M119)-1)<>\"\",OFFSET(DE102_5!$M$104,ROWS($M$104:M119)-1,COLUMNS($M$104:M119)-1),\"\")","v":""},{"$f":"IF(OFFSET(DE102_5!$N$104,ROWS($N$104:N119)-1,COLUMNS($N$104:N119)-1)<>\"\",OFFSET(DE102_5!$N$104,ROWS($N$104:N119)-1,COLUMNS($N$104:N119)-1),\"\")","v":""},{"$f":"IF(OFFSET(DE102_5!$O$104,ROWS($O$104:O119)-1,COLUMNS($O$104:O119)-1)<>\"\",OFFSET(DE102_5!$O$104,ROWS($O$104:O119)-1,COLUMNS($O$104:O119)-1),\"\")","v":""},{"$f":"IF(OFFSET(DE102_5!$P$104,ROWS($P$104:P119)-1,COLUMNS($P$104:P119)-1)<>\"\",OFFSET(DE102_5!$P$104,ROWS($P$104:P119)-1,COLUMNS($P$104:P119)-1),\"\")","v":""},{"$f":"IF(OFFSET(DE102_5!$Q$104,ROWS($Q$104:Q119)-1,COLUMNS($Q$104:Q119)-1)<>\"\",OFFSET(DE102_5!$Q$104,ROWS($Q$104:Q119)-1,COLUMNS($Q$104:Q119)-1),\"\")","v":""},{"$f":"IF(OFFSET(DE102_5!$R$104,ROWS($R$104:R119)-1,COLUMNS($R$104:R119)-1)<>\"\",OFFSET(DE102_5!$R$104,ROWS($R$104:R119)-1,COLUMNS($R$104:R119)-1),\"\")","v":""},{"$f":"IF(OFFSET(DE102_5!$S$104,ROWS($S$104:S119)-1,COLUMNS($S$104:S119)-1)<>\"\",OFFSET(DE102_5!$S$104,ROWS($S$104:S119)-1,COLUMNS($S$104:S119)-1),\"\")","v":""},{"$f":"IF(OFFSET(DE102_5!$T$104,ROWS($T$104:T119)-1,COLUMNS($T$104:T119)-1)<>\"\",OFFSET(DE102_5!$T$104,ROWS($T$104:T119)-1,COLUMNS($T$104:T119)-1),\"\")","v":""},{"$f":"IF(OFFSET(DE102_5!$U$104,ROWS($U$104:U119)-1,COLUMNS($U$104:U119)-1)<>\"\",OFFSET(DE102_5!$U$104,ROWS($U$104:U119)-1,COLUMNS($U$104:U119)-1),\"\")","v":""},{"$f":"IF(OFFSET(DE102_5!$V$104,ROWS($V$104:V119)-1,COLUMNS($V$104:V119)-1)<>\"\",OFFSET(DE102_5!$V$104,ROWS($V$104:V119)-1,COLUMNS($V$104:V119)-1),\"\")","v":""},{"$f":"IF(OFFSET(DE102_5!$W$104,ROWS($W$104:W119)-1,COLUMNS($W$104:W119)-1)<>\"\",OFFSET(DE102_5!$W$104,ROWS($W$104:W119)-1,COLUMNS($W$104:W119)-1),\"\")","v":""},{"$f":"IF(OFFSET(DE102_5!$X$104,ROWS($X$104:X119)-1,COLUMNS($X$104:X119)-1)<>\"\",OFFSET(DE102_5!$X$104,ROWS($X$104:X119)-1,COLUMNS($X$104:X119)-1),\"\")","v":""},{"$f":"IF(OFFSET(DE102_5!$Y$104,ROWS($Y$104:Y119)-1,COLUMNS($Y$104:Y119)-1)<>\"\",OFFSET(DE102_5!$Y$104,ROWS($Y$104:Y119)-1,COLUMNS($Y$104:Y119)-1),\"\")","v":""},{"$f":"IF(OFFSET(DE102_5!$Z$104,ROWS($Z$104:Z119)-1,COLUMNS($Z$104:Z119)-1)<>\"\",OFFSET(DE102_5!$Z$104,ROWS($Z$104:Z119)-1,COLUMNS($Z$104:Z119)-1),\"\")","v":""},{"$f":"IF(OFFSET(DE102_5!$AA$104,ROWS($AA$104:AA119)-1,COLUMNS($AA$104:AA119)-1)<>\"\",OFFSET(DE102_5!$AA$104,ROWS($AA$104:AA119)-1,COLUMNS($AA$104:AA119)-1),\"\")","v":""},{"$f":"IF(OFFSET(DE102_5!$AB$104,ROWS($AB$104:AB119)-1,COLUMNS($AB$104:AB119)-1)<>\"\",OFFSET(DE102_5!$AB$104,ROWS($AB$104:AB119)-1,COLUMNS($AB$104:AB119)-1),\"\")","v":""}]
[{"$f":"IF(OFFSET(DE102_5!$C$104,ROWS($C$104:C120)-1,COLUMNS($C$104:C120)-1)<>\"\",OFFSET(DE102_5!$C$104,ROWS($C$104:C120)-1,COLUMNS($C$104:C120)-1),\"\")","v":""},{"$f":"IF(OFFSET(DE102_5!$F$104,ROWS($F$104:F120)-1,COLUMNS($F$104:F120)-1)<>\"\",OFFSET(DE102_5!$F$104,ROWS($F$104:F120)-1,COLUMNS($F$104:F120)-1),\"\")","v":85},{"$f":"IF(OFFSET(DE102_5!$G$104,ROWS($G$104:G120)-1,COLUMNS($G$104:G120)-1)<>\"\",OFFSET(DE102_5!$G$104,ROWS($G$104:G120)-1,COLUMNS($G$104:G120)-1),\"\")","v":"I-35"},{"$f":"IF(OFFSET(DE102_5!$H$104,ROWS($H$104:H120)-1,COLUMNS($H$104:H120)-1)<>\"\",OFFSET(DE102_5!$H$104,ROWS($H$104:H120)-1,COLUMNS($H$104:H120)-1),\"\")","v":2},{"$f":"IF(OFFSET(DE102_5!$I$104,ROWS($I$104:I120)-1,COLUMNS($I$104:I120)-1)<>\"\",OFFSET(DE102_5!$I$104,ROWS($I$104:I120)-1,COLUMNS($I$104:I120)-1),\"\")","v":107.84},{"$f":"IF(OFFSET(DE102_5!$J$104,ROWS($J$104:J120)-1,COLUMNS($J$104:J120)-1)<>\"\",OFFSET(DE102_5!$J$104,ROWS($J$104:J120)-1,COLUMNS($J$104:J120)-1),\"\")","v":110.24},{"$f":"IF(OFFSET(DE102_5!$M$104,ROWS($M$104:M120)-1,COLUMNS($M$104:M120)-1)<>\"\",OFFSET(DE102_5!$M$104,ROWS($M$104:M120)-1,COLUMNS($M$104:M120)-1),\"\")","v":2018},{"$f":"IF(OFFSET(DE102_5!$N$104,ROWS($N$104:N120)-1,COLUMNS($N$104:N120)-1)<>\"\",OFFSET(DE102_5!$N$104,ROWS($N$104:N120)-1,COLUMNS($N$104:N120)-1),\"\")","v":"M"},{"$f":"IF(OFFSET(DE102_5!$O$104,ROWS($O$104:O120)-1,COLUMNS($O$104:O120)-1)<>\"\",OFFSET(DE102_5!$O$104,ROWS($O$104:O120)-1,COLUMNS($O$104:O120)-1),\"\")","v":"IMN-035-4(201)87--0E-77"},{"$f":"IF(OFFSET(DE102_5!$P$104,ROWS($P$104:P120)-1,COLUMNS($P$104:P120)-1)<>\"\",OFFSET(DE102_5!$P$104,ROWS($P$104:P120)-1,COLUMNS($P$104:P120)-1),\"\")","v":"PCC"},{"$f":"IF(OFFSET(DE102_5!$Q$104,ROWS($Q$104:Q120)-1,COLUMNS($Q$104:Q120)-1)<>\"\",OFFSET(DE102_5!$Q$104,ROWS($Q$104:Q120)-1,COLUMNS($Q$104:Q120)-1),\"\")","v":""},{"$f":"IF(OFFSET(DE102_5!$R$104,ROWS($R$104:R120)-1,COLUMNS($R$104:R120)-1)<>\"\",OFFSET(DE102_5!$R$104,ROWS($R$104:R120)-1,COLUMNS($R$104:R120)-1),\"\")","v":""},{"$f":"IF(OFFSET(DE102_5!$S$104,ROWS($S$104:S120)-1,COLUMNS($S$104:S120)-1)<>\"\",OFFSET(DE102_5!$S$104,ROWS($S$104:S120)-1,COLUMNS($S$104:S120)-1),\"\")","v":""},{"$f":"IF(OFFSET(DE102_5!$T$104,ROWS($T$104:T120)-1,COLUMNS($T$104:T120)-1)<>\"\",OFFSET(DE102_5!$T$104,ROWS($T$104:T120)-1,COLUMNS($T$104:T120)-1),\"\")","v":""},{"$f":"IF(OFFSET(DE102_5!$U$104,ROWS($U$104:U120)-1,COLUMNS($U$104:U120)-1)<>\"\",OFFSET(DE102_5!$U$104,ROWS($U$104:U120)-1,COLUMNS($U$104:U120)-1),\"\")","v":""},{"$f":"IF(OFFSET(DE102_5!$V$104,ROWS($V$104:V120)-1,COLUMNS($V$104:V120)-1)<>\"\",OFFSET(DE102_5!$V$104,ROWS($V$104:V120)-1,COLUMNS($V$104:V120)-1),\"\")","v":""},{"$f":"IF(OFFSET(DE102_5!$W$104,ROWS($W$104:W120)-1,COLUMNS($W$104:W120)-1)<>\"\",OFFSET(DE102_5!$W$104,ROWS($W$104:W120)-1,COLUMNS($W$104:W120)-1),\"\")","v":""},{"$f":"IF(OFFSET(DE102_5!$X$104,ROWS($X$104:X120)-1,COLUMNS($X$104:X120)-1)<>\"\",OFFSET(DE102_5!$X$104,ROWS($X$104:X120)-1,COLUMNS($X$104:X120)-1),\"\")","v":""},{"$f":"IF(OFFSET(DE102_5!$Y$104,ROWS($Y$104:Y120)-1,COLUMNS($Y$104:Y120)-1)<>\"\",OFFSET(DE102_5!$Y$104,ROWS($Y$104:Y120)-1,COLUMNS($Y$104:Y120)-1),\"\")","v":""},{"$f":"IF(OFFSET(DE102_5!$Z$104,ROWS($Z$104:Z120)-1,COLUMNS($Z$104:Z120)-1)<>\"\",OFFSET(DE102_5!$Z$104,ROWS($Z$104:Z120)-1,COLUMNS($Z$104:Z120)-1),\"\")","v":""},{"$f":"IF(OFFSET(DE102_5!$AA$104,ROWS($AA$104:AA120)-1,COLUMNS($AA$104:AA120)-1)<>\"\",OFFSET(DE102_5!$AA$104,ROWS($AA$104:AA120)-1,COLUMNS($AA$104:AA120)-1),\"\")","v":"PCC PATCHING"},{"$f":"IF(OFFSET(DE102_5!$AB$104,ROWS($AB$104:AB120)-1,COLUMNS($AB$104:AB120)-1)<>\"\",OFFSET(DE102_5!$AB$104,ROWS($AB$104:AB120)-1,COLUMNS($AB$104:AB120)-1),\"\")","v":""}]
[{"$f":"IF(OFFSET(DE102_5!$C$104,ROWS($C$104:C121)-1,COLUMNS($C$104:C121)-1)<>\"\",OFFSET(DE102_5!$C$104,ROWS($C$104:C121)-1,COLUMNS($C$104:C121)-1),\"\")","v":""},{"$f":"IF(OFFSET(DE102_5!$F$104,ROWS($F$104:F121)-1,COLUMNS($F$104:F121)-1)<>\"\",OFFSET(DE102_5!$F$104,ROWS($F$104:F121)-1,COLUMNS($F$104:F121)-1),\"\")","v":85},{"$f":"IF(OFFSET(DE102_5!$G$104,ROWS($G$104:G121)-1,COLUMNS($G$104:G121)-1)<>\"\",OFFSET(DE102_5!$G$104,ROWS($G$104:G121)-1,COLUMNS($G$104:G121)-1),\"\")","v":"I-35"},{"$f":"IF(OFFSET(DE102_5!$H$104,ROWS($H$104:H121)-1,COLUMNS($H$104:H121)-1)<>\"\",OFFSET(DE102_5!$H$104,ROWS($H$104:H121)-1,COLUMNS($H$104:H121)-1),\"\")","v":2},{"$f":"IF(OFFSET(DE102_5!$I$104,ROWS($I$104:I121)-1,COLUMNS($I$104:I121)-1)<>\"\",OFFSET(DE102_5!$I$104,ROWS($I$104:I121)-1,COLUMNS($I$104:I121)-1),\"\")","v":107.84},{"$f":"IF(OFFSET(DE102_5!$J$104,ROWS($J$104:J121)-1,COLUMNS($J$104:J121)-1)<>\"\",OFFSET(DE102_5!$J$104,ROWS($J$104:J121)-1,COLUMNS($J$104:J121)-1),\"\")","v":110.24},{"$f":"IF(OFFSET(DE102_5!$M$104,ROWS($M$104:M121)-1,COLUMNS($M$104:M121)-1)<>\"\",OFFSET(DE102_5!$M$104,ROWS($M$104:M121)-1,COLUMNS($M$104:M121)-1),\"\")","v":2017},{"$f":"IF(OFFSET(DE102_5!$N$104,ROWS($N$104:N121)-1,COLUMNS($N$104:N121)-1)<>\"\",OFFSET(DE102_5!$N$104,ROWS($N$104:N121)-1,COLUMNS($N$104:N121)-1),\"\")","v":"O"},{"$f":"IF(OFFSET(DE102_5!$O$104,ROWS($O$104:O121)-1,COLUMNS($O$104:O121)-1)<>\"\",OFFSET(DE102_5!$O$104,ROWS($O$104:O121)-1,COLUMNS($O$104:O121)-1),\"\")","v":"IM-NHS-035-4(208)109--03-85"},{"$f":"IF(OFFSET(DE102_5!$P$104,ROWS($P$104:P121)-1,COLUMNS($P$104:P121)-1)<>\"\",OFFSET(DE102_5!$P$104,ROWS($P$104:P121)-1,COLUMNS($P$104:P121)-1),\"\")","v":"PCC"},{"$f":"IF(OFFSET(DE102_5!$Q$104,ROWS($Q$104:Q121)-1,COLUMNS($Q$104:Q121)-1)<>\"\",OFFSET(DE102_5!$Q$104,ROWS($Q$104:Q121)-1,COLUMNS($Q$104:Q121)-1),\"\")","v":11.5},{"$f":"IF(OFFSET(DE102_5!$R$104,ROWS($R$104:R121)-1,COLUMNS($R$104:R121)-1)<>\"\",OFFSET(DE102_5!$R$104,ROWS($R$104:R121)-1,COLUMNS($R$104:R121)-1),\"\")","v":"GSB"},{"$f":"IF(OFFSET(DE102_5!$S$104,ROWS($S$104:S121)-1,COLUMNS($S$104:S121)-1)<>\"\",OFFSET(DE102_5!$S$104,ROWS($S$104:S121)-1,COLUMNS($S$104:S121)-1),\"\")","v":6},{"$f":"IF(OFFSET(DE102_5!$T$104,ROWS($T$104:T121)-1,COLUMNS($T$104:T121)-1)<>\"\",OFFSET(DE102_5!$T$104,ROWS($T$104:T121)-1,COLUMNS($T$104:T121)-1),\"\")","v":""},{"$f":"IF(OFFSET(DE102_5!$U$104,ROWS($U$104:U121)-1,COLUMNS($U$104:U121)-1)<>\"\",OFFSET(DE102_5!$U$104,ROWS($U$104:U121)-1,COLUMNS($U$104:U121)-1),\"\")","v":""},{"$f":"IF(OFFSET(DE102_5!$V$104,ROWS($V$104:V121)-1,COLUMNS($V$104:V121)-1)<>\"\",OFFSET(DE102_5!$V$104,ROWS($V$104:V121)-1,COLUMNS($V$104:V121)-1),\"\")","v":""},{"$f":"IF(OFFSET(DE102_5!$W$104,ROWS($W$104:W121)-1,COLUMNS($W$104:W121)-1)<>\"\",OFFSET(DE102_5!$W$104,ROWS($W$104:W121)-1,COLUMNS($W$104:W121)-1),\"\")","v":""},{"$f":"IF(OFFSET(DE102_5!$X$104,ROWS($X$104:X121)-1,COLUMNS($X$104:X121)-1)<>\"\",OFFSET(DE102_5!$X$104,ROWS($X$104:X121)-1,COLUMNS($X$104:X121)-1),\"\")","v":""},{"$f":"IF(OFFSET(DE102_5!$Y$104,ROWS($Y$104:Y121)-1,COLUMNS($Y$104:Y121)-1)<>\"\",OFFSET(DE102_5!$Y$104,ROWS($Y$104:Y121)-1,COLUMNS($Y$104:Y121)-1),\"\")","v":""},{"$f":"IF(OFFSET(DE102_5!$Z$104,ROWS($Z$104:Z121)-1,COLUMNS($Z$104:Z121)-1)<>\"\",OFFSET(DE102_5!$Z$104,ROWS($Z$104:Z121)-1,COLUMNS($Z$104:Z121)-1),\"\")","v":""},{"$f":"IF(OFFSET(DE102_5!$AA$104,ROWS($AA$104:AA121)-1,COLUMNS($AA$104:AA121)-1)<>\"\",OFFSET(DE102_5!$AA$104,ROWS($AA$104:AA121)-1,COLUMNS($AA$104:AA121)-1),\"\")","v":""},{"$f":"IF(OFFSET(DE102_5!$AB$104,ROWS($AB$104:AB121)-1,COLUMNS($AB$104:AB121)-1)<>\"\",OFFSET(DE102_5!$AB$104,ROWS($AB$104:AB121)-1,COLUMNS($AB$104:AB121)-1),\"\")","v":""}]
[{"$f":"IF(OFFSET(DE102_5!$C$104,ROWS($C$104:C122)-1,COLUMNS($C$104:C122)-1)<>\"\",OFFSET(DE102_5!$C$104,ROWS($C$104:C122)-1,COLUMNS($C$104:C122)-1),\"\")","v":""},{"$f":"IF(OFFSET(DE102_5!$F$104,ROWS($F$104:F122)-1,COLUMNS($F$104:F122)-1)<>\"\",OFFSET(DE102_5!$F$104,ROWS($F$104:F122)-1,COLUMNS($F$104:F122)-1),\"\")","v":85},{"$f":"IF(OFFSET(DE102_5!$G$104,ROWS($G$104:G122)-1,COLUMNS($G$104:G122)-1)<>\"\",OFFSET(DE102_5!$G$104,ROWS($G$104:G122)-1,COLUMNS($G$104:G122)-1),\"\")","v":"I-35"},{"$f":"IF(OFFSET(DE102_5!$H$104,ROWS($H$104:H122)-1,COLUMNS($H$104:H122)-1)<>\"\",OFFSET(DE102_5!$H$104,ROWS($H$104:H122)-1,COLUMNS($H$104:H122)-1),\"\")","v":2},{"$f":"IF(OFFSET(DE102_5!$I$104,ROWS($I$104:I122)-1,COLUMNS($I$104:I122)-1)<>\"\",OFFSET(DE102_5!$I$104,ROWS($I$104:I122)-1,COLUMNS($I$104:I122)-1),\"\")","v":107.84},{"$f":"IF(OFFSET(DE102_5!$J$104,ROWS($J$104:J122)-1,COLUMNS($J$104:J122)-1)<>\"\",OFFSET(DE102_5!$J$104,ROWS($J$104:J122)-1,COLUMNS($J$104:J122)-1),\"\")","v":110.24},{"$f":"IF(OFFSET(DE102_5!$M$104,ROWS($M$104:M122)-1,COLUMNS($M$104:M122)-1)<>\"\",OFFSET(DE102_5!$M$104,ROWS($M$104:M122)-1,COLUMNS($M$104:M122)-1),\"\")","v":2017},{"$f":"IF(OFFSET(DE102_5!$N$104,ROWS($N$104:N122)-1,COLUMNS($N$104:N122)-1)<>\"\",OFFSET(DE102_5!$N$104,ROWS($N$104:N122)-1,COLUMNS($N$104:N122)-1),\"\")","v":"M"},{"$f":"IF(OFFSET(DE102_5!$O$104,ROWS($O$104:O122)-1,COLUMNS($O$104:O122)-1)<>\"\",OFFSET(DE102_5!$O$104,ROWS($O$104:O122)-1,COLUMNS($O$104:O122)-1),\"\")","v":"IMN-035-4(179)87--0E-77"},{"$f":"IF(OFFSET(DE102_5!$P$104,ROWS($P$104:P122)-1,COLUMNS($P$104:P122)-1)<>\"\",OFFSET(DE102_5!$P$104,ROWS($P$104:P122)-1,COLUMNS($P$104:P122)-1),\"\")","v":"PCC"},{"$f":"IF(OFFSET(DE102_5!$Q$104,ROWS($Q$104:Q122)-1,COLUMNS($Q$104:Q122)-1)<>\"\",OFFSET(DE102_5!$Q$104,ROWS($Q$104:Q122)-1,COLUMNS($Q$104:Q122)-1),\"\")","v":12},{"$f":"IF(OFFSET(DE102_5!$R$104,ROWS($R$104:R122)-1,COLUMNS($R$104:R122)-1)<>\"\",OFFSET(DE102_5!$R$104,ROWS($R$104:R122)-1,COLUMNS($R$104:R122)-1),\"\")","v":""},{"$f":"IF(OFFSET(DE102_5!$S$104,ROWS($S$104:S122)-1,COLUMNS($S$104:S122)-1)<>\"\",OFFSET(DE102_5!$S$104,ROWS($S$104:S122)-1,COLUMNS($S$104:S122)-1),\"\")","v":""},{"$f":"IF(OFFSET(DE102_5!$T$104,ROWS($T$104:T122)-1,COLUMNS($T$104:T122)-1)<>\"\",OFFSET(DE102_5!$T$104,ROWS($T$104:T122)-1,COLUMNS($T$104:T122)-1),\"\")","v":""},{"$f":"IF(OFFSET(DE102_5!$U$104,ROWS($U$104:U122)-1,COLUMNS($U$104:U122)-1)<>\"\",OFFSET(DE102_5!$U$104,ROWS($U$104:U122)-1,COLUMNS($U$104:U122)-1),\"\")","v":""},{"$f":"IF(OFFSET(DE102_5!$V$104,ROWS($V$104:V122)-1,COLUMNS($V$104:V122)-1)<>\"\",OFFSET(DE102_5!$V$104,ROWS($V$104:V122)-1,COLUMNS($V$104:V122)-1),\"\")","v":""},{"$f":"IF(OFFSET(DE102_5!$W$104,ROWS($W$104:W122)-1,COLUMNS($W$104:W122)-1)<>\"\",OFFSET(DE102_5!$W$104,ROWS($W$104:W122)-1,COLUMNS($W$104:W122)-1),\"\")","v":""},{"$f":"IF(OFFSET(DE102_5!$X$104,ROWS($X$104:X122)-1,COLUMNS($X$104:X122)-1)<>\"\",OFFSET(DE102_5!$X$104,ROWS($X$104:X122)-1,COLUMNS($X$104:X122)-1),\"\")","v":""},{"$f":"IF(OFFSET(DE102_5!$Y$104,ROWS($Y$104:Y122)-1,COLUMNS($Y$104:Y122)-1)<>\"\",OFFSET(DE102_5!$Y$104,ROWS($Y$104:Y122)-1,COLUMNS($Y$104:Y122)-1),\"\")","v":""},{"$f":"IF(OFFSET(DE102_5!$Z$104,ROWS($Z$104:Z122)-1,COLUMNS($Z$104:Z122)-1)<>\"\",OFFSET(DE102_5!$Z$104,ROWS($Z$104:Z122)-1,COLUMNS($Z$104:Z122)-1),\"\")","v":""},{"$f":"IF(OFFSET(DE102_5!$AA$104,ROWS($AA$104:AA122)-1,COLUMNS($AA$104:AA122)-1)<>\"\",OFFSET(DE102_5!$AA$104,ROWS($AA$104:AA122)-1,COLUMNS($AA$104:AA122)-1),\"\")","v":"PCC PATCHING"},{"$f":"IF(OFFSET(DE102_5!$AB$104,ROWS($AB$104:AB122)-1,COLUMNS($AB$104:AB122)-1)<>\"\",OFFSET(DE102_5!$AB$104,ROWS($AB$104:AB122)-1,COLUMNS($AB$104:AB122)-1),\"\")","v":""}]
[{"$f":"IF(OFFSET(DE102_5!$C$104,ROWS($C$104:C123)-1,COLUMNS($C$104:C123)-1)<>\"\",OFFSET(DE102_5!$C$104,ROWS($C$104:C123)-1,COLUMNS($C$104:C123)-1),\"\")","v":""},{"$f":"IF(OFFSET(DE102_5!$F$104,ROWS($F$104:F123)-1,COLUMNS($F$104:F123)-1)<>\"\",OFFSET(DE102_5!$F$104,ROWS($F$104:F123)-1,COLUMNS($F$104:F123)-1),\"\")","v":""},{"$f":"IF(OFFSET(DE102_5!$G$104,ROWS($G$104:G123)-1,COLUMNS($G$104:G123)-1)<>\"\",OFFSET(DE102_5!$G$104,ROWS($G$104:G123)-1,COLUMNS($G$104:G123)-1),\"\")","v":""},{"$f":"IF(OFFSET(DE102_5!$H$104,ROWS($H$104:H123)-1,COLUMNS($H$104:H123)-1)<>\"\",OFFSET(DE102_5!$H$104,ROWS($H$104:H123)-1,COLUMNS($H$104:H123)-1),\"\")","v":""},{"$f":"IF(OFFSET(DE102_5!$I$104,ROWS($I$104:I123)-1,COLUMNS($I$104:I123)-1)<>\"\",OFFSET(DE102_5!$I$104,ROWS($I$104:I123)-1,COLUMNS($I$104:I123)-1),\"\")","v":""},{"$f":"IF(OFFSET(DE102_5!$J$104,ROWS($J$104:J123)-1,COLUMNS($J$104:J123)-1)<>\"\",OFFSET(DE102_5!$J$104,ROWS($J$104:J123)-1,COLUMNS($J$104:J123)-1),\"\")","v":""},{"$f":"IF(OFFSET(DE102_5!$M$104,ROWS($M$104:M123)-1,COLUMNS($M$104:M123)-1)<>\"\",OFFSET(DE102_5!$M$104,ROWS($M$104:M123)-1,COLUMNS($M$104:M123)-1),\"\")","v":""},{"$f":"IF(OFFSET(DE102_5!$N$104,ROWS($N$104:N123)-1,COLUMNS($N$104:N123)-1)<>\"\",OFFSET(DE102_5!$N$104,ROWS($N$104:N123)-1,COLUMNS($N$104:N123)-1),\"\")","v":""},{"$f":"IF(OFFSET(DE102_5!$O$104,ROWS($O$104:O123)-1,COLUMNS($O$104:O123)-1)<>\"\",OFFSET(DE102_5!$O$104,ROWS($O$104:O123)-1,COLUMNS($O$104:O123)-1),\"\")","v":""},{"$f":"IF(OFFSET(DE102_5!$P$104,ROWS($P$104:P123)-1,COLUMNS($P$104:P123)-1)<>\"\",OFFSET(DE102_5!$P$104,ROWS($P$104:P123)-1,COLUMNS($P$104:P123)-1),\"\")","v":""},{"$f":"IF(OFFSET(DE102_5!$Q$104,ROWS($Q$104:Q123)-1,COLUMNS($Q$104:Q123)-1)<>\"\",OFFSET(DE102_5!$Q$104,ROWS($Q$104:Q123)-1,COLUMNS($Q$104:Q123)-1),\"\")","v":""},{"$f":"IF(OFFSET(DE102_5!$R$104,ROWS($R$104:R123)-1,COLUMNS($R$104:R123)-1)<>\"\",OFFSET(DE102_5!$R$104,ROWS($R$104:R123)-1,COLUMNS($R$104:R123)-1),\"\")","v":""},{"$f":"IF(OFFSET(DE102_5!$S$104,ROWS($S$104:S123)-1,COLUMNS($S$104:S123)-1)<>\"\",OFFSET(DE102_5!$S$104,ROWS($S$104:S123)-1,COLUMNS($S$104:S123)-1),\"\")","v":""},{"$f":"IF(OFFSET(DE102_5!$T$104,ROWS($T$104:T123)-1,COLUMNS($T$104:T123)-1)<>\"\",OFFSET(DE102_5!$T$104,ROWS($T$104:T123)-1,COLUMNS($T$104:T123)-1),\"\")","v":""},{"$f":"IF(OFFSET(DE102_5!$U$104,ROWS($U$104:U123)-1,COLUMNS($U$104:U123)-1)<>\"\",OFFSET(DE102_5!$U$104,ROWS($U$104:U123)-1,COLUMNS($U$104:U123)-1),\"\")","v":""},{"$f":"IF(OFFSET(DE102_5!$V$104,ROWS($V$104:V123)-1,COLUMNS($V$104:V123)-1)<>\"\",OFFSET(DE102_5!$V$104,ROWS($V$104:V123)-1,COLUMNS($V$104:V123)-1),\"\")","v":""},{"$f":"IF(OFFSET(DE102_5!$W$104,ROWS($W$104:W123)-1,COLUMNS($W$104:W123)-1)<>\"\",OFFSET(DE102_5!$W$104,ROWS($W$104:W123)-1,COLUMNS($W$104:W123)-1),\"\")","v":""},{"$f":"IF(OFFSET(DE102_5!$X$104,ROWS($X$104:X123)-1,COLUMNS($X$104:X123)-1)<>\"\",OFFSET(DE102_5!$X$104,ROWS($X$104:X123)-1,COLUMNS($X$104:X123)-1),\"\")","v":""},{"$f":"IF(OFFSET(DE102_5!$Y$104,ROWS($Y$104:Y123)-1,COLUMNS($Y$104:Y123)-1)<>\"\",OFFSET(DE102_5!$Y$104,ROWS($Y$104:Y123)-1,COLUMNS($Y$104:Y123)-1),\"\")","v":""},{"$f":"IF(OFFSET(DE102_5!$Z$104,ROWS($Z$104:Z123)-1,COLUMNS($Z$104:Z123)-1)<>\"\",OFFSET(DE102_5!$Z$104,ROWS($Z$104:Z123)-1,COLUMNS($Z$104:Z123)-1),\"\")","v":""},{"$f":"IF(OFFSET(DE102_5!$AA$104,ROWS($AA$104:AA123)-1,COLUMNS($AA$104:AA123)-1)<>\"\",OFFSET(DE102_5!$AA$104,ROWS($AA$104:AA123)-1,COLUMNS($AA$104:AA123)-1),\"\")","v":""},{"$f":"IF(OFFSET(DE102_5!$AB$104,ROWS($AB$104:AB123)-1,COLUMNS($AB$104:AB123)-1)<>\"\",OFFSET(DE102_5!$AB$104,ROWS($AB$104:AB123)-1,COLUMNS($AB$104:AB123)-1),\"\")","v":""}]
[{"$f":"IF(OFFSET(DE102_5!$C$104,ROWS($C$104:C124)-1,COLUMNS($C$104:C124)-1)<>\"\",OFFSET(DE102_5!$C$104,ROWS($C$104:C124)-1,COLUMNS($C$104:C124)-1),\"\")","v":""},{"$f":"IF(OFFSET(DE102_5!$F$104,ROWS($F$104:F124)-1,COLUMNS($F$104:F124)-1)<>\"\",OFFSET(DE102_5!$F$104,ROWS($F$104:F124)-1,COLUMNS($F$104:F124)-1),\"\")","v":85},{"$f":"IF(OFFSET(DE102_5!$G$104,ROWS($G$104:G124)-1,COLUMNS($G$104:G124)-1)<>\"\",OFFSET(DE102_5!$G$104,ROWS($G$104:G124)-1,COLUMNS($G$104:G124)-1),\"\")","v":"I-35"},{"$f":"IF(OFFSET(DE102_5!$H$104,ROWS($H$104:H124)-1,COLUMNS($H$104:H124)-1)<>\"\",OFFSET(DE102_5!$H$104,ROWS($H$104:H124)-1,COLUMNS($H$104:H124)-1),\"\")","v":2},{"$f":"IF(OFFSET(DE102_5!$I$104,ROWS($I$104:I124)-1,COLUMNS($I$104:I124)-1)<>\"\",OFFSET(DE102_5!$I$104,ROWS($I$104:I124)-1,COLUMNS($I$104:I124)-1),\"\")","v":110.24},{"$f":"IF(OFFSET(DE102_5!$J$104,ROWS($J$104:J124)-1,COLUMNS($J$104:J124)-1)<>\"\",OFFSET(DE102_5!$J$104,ROWS($J$104:J124)-1,COLUMNS($J$104:J124)-1),\"\")","v":111.75},{"$f":"IF(OFFSET(DE102_5!$M$104,ROWS($M$104:M124)-1,COLUMNS($M$104:M124)-1)<>\"\",OFFSET(DE102_5!$M$104,ROWS($M$104:M124)-1,COLUMNS($M$104:M124)-1),\"\")","v":2018},{"$f":"IF(OFFSET(DE102_5!$N$104,ROWS($N$104:N124)-1,COLUMNS($N$104:N124)-1)<>\"\",OFFSET(DE102_5!$N$104,ROWS($N$104:N124)-1,COLUMNS($N$104:N124)-1),\"\")","v":"M"},{"$f":"IF(OFFSET(DE102_5!$O$104,ROWS($O$104:O124)-1,COLUMNS($O$104:O124)-1)<>\"\",OFFSET(DE102_5!$O$104,ROWS($O$104:O124)-1,COLUMNS($O$104:O124)-1),\"\")","v":"IMN-035-4(201)87--0E-77"},{"$f":"IF(OFFSET(DE102_5!$P$104,ROWS($P$104:P124)-1,COLUMNS($P$104:P124)-1)<>\"\",OFFSET(DE102_5!$P$104,ROWS($P$104:P124)-1,COLUMNS($P$104:P124)-1),\"\")","v":"PCC"},{"$f":"IF(OFFSET(DE102_5!$Q$104,ROWS($Q$104:Q124)-1,COLUMNS($Q$104:Q124)-1)<>\"\",OFFSET(DE102_5!$Q$104,ROWS($Q$104:Q124)-1,COLUMNS($Q$104:Q124)-1),\"\")","v":""},{"$f":"IF(OFFSET(DE102_5!$R$104,ROWS($R$104:R124)-1,COLUMNS($R$104:R124)-1)<>\"\",OFFSET(DE102_5!$R$104,ROWS($R$104:R124)-1,COLUMNS($R$104:R124)-1),\"\")","v":""},{"$f":"IF(OFFSET(DE102_5!$S$104,ROWS($S$104:S124)-1,COLUMNS($S$104:S124)-1)<>\"\",OFFSET(DE102_5!$S$104,ROWS($S$104:S124)-1,COLUMNS($S$104:S124)-1),\"\")","v":""},{"$f":"IF(OFFSET(DE102_5!$T$104,ROWS($T$104:T124)-1,COLUMNS($T$104:T124)-1)<>\"\",OFFSET(DE102_5!$T$104,ROWS($T$104:T124)-1,COLUMNS($T$104:T124)-1),\"\")","v":""},{"$f":"IF(OFFSET(DE102_5!$U$104,ROWS($U$104:U124)-1,COLUMNS($U$104:U124)-1)<>\"\",OFFSET(DE102_5!$U$104,ROWS($U$104:U124)-1,COLUMNS($U$104:U124)-1),\"\")","v":""},{"$f":"IF(OFFSET(DE102_5!$V$104,ROWS($V$104:V124)-1,COLUMNS($V$104:V124)-1)<>\"\",OFFSET(DE102_5!$V$104,ROWS($V$104:V124)-1,COLUMNS($V$104:V124)-1),\"\")","v":""},{"$f":"IF(OFFSET(DE102_5!$W$104,ROWS($W$104:W124)-1,COLUMNS($W$104:W124)-1)<>\"\",OFFSET(DE102_5!$W$104,ROWS($W$104:W124)-1,COLUMNS($W$104:W124)-1),\"\")","v":""},{"$f":"IF(OFFSET(DE102_5!$X$104,ROWS($X$104:X124)-1,COLUMNS($X$104:X124)-1)<>\"\",OFFSET(DE102_5!$X$104,ROWS($X$104:X124)-1,COLUMNS($X$104:X124)-1),\"\")","v":""},{"$f":"IF(OFFSET(DE102_5!$Y$104,ROWS($Y$104:Y124)-1,COLUMNS($Y$104:Y124)-1)<>\"\",OFFSET(DE102_5!$Y$104,ROWS($Y$104:Y124)-1,COLUMNS($Y$104:Y124)-1),\"\")","v":""},{"$f":"IF(OFFSET(DE102_5!$Z$104,ROWS($Z$104:Z124)-1,COLUMNS($Z$104:Z124)-1)<>\"\",OFFSET(DE102_5!$Z$104,ROWS($Z$104:Z124)-1,COLUMNS($Z$104:Z124)-1),\"\")","v":""},{"$f":"IF(OFFSET(DE102_5!$AA$104,ROWS($AA$104:AA124)-1,COLUMNS($AA$104:AA124)-1)<>\"\",OFFSET(DE102_5!$AA$104,ROWS($AA$104:AA124)-1,COLUMNS($AA$104:AA124)-1),\"\")","v":"PCC PATCHING"},{"$f":"IF(OFFSET(DE102_5!$AB$104,ROWS($AB$104:AB124)-1,COLUMNS($AB$104:AB124)-1)<>\"\",OFFSET(DE102_5!$AB$104,ROWS($AB$104:AB124)-1,COLUMNS($AB$104:AB124)-1),\"\")","v":""}]
[{"$f":"IF(OFFSET(DE102_5!$C$104,ROWS($C$104:C125)-1,COLUMNS($C$104:C125)-1)<>\"\",OFFSET(DE102_5!$C$104,ROWS($C$104:C125)-1,COLUMNS($C$104:C125)-1),\"\")","v":""},{"$f":"IF(OFFSET(DE102_5!$F$104,ROWS($F$104:F125)-1,COLUMNS($F$104:F125)-1)<>\"\",OFFSET(DE102_5!$F$104,ROWS($F$104:F125)-1,COLUMNS($F$104:F125)-1),\"\")","v":85},{"$f":"IF(OFFSET(DE102_5!$G$104,ROWS($G$104:G125)-1,COLUMNS($G$104:G125)-1)<>\"\",OFFSET(DE102_5!$G$104,ROWS($G$104:G125)-1,COLUMNS($G$104:G125)-1),\"\")","v":"I-35"},{"$f":"IF(OFFSET(DE102_5!$H$104,ROWS($H$104:H125)-1,COLUMNS($H$104:H125)-1)<>\"\",OFFSET(DE102_5!$H$104,ROWS($H$104:H125)-1,COLUMNS($H$104:H125)-1),\"\")","v":2},{"$f":"IF(OFFSET(DE102_5!$I$104,ROWS($I$104:I125)-1,COLUMNS($I$104:I125)-1)<>\"\",OFFSET(DE102_5!$I$104,ROWS($I$104:I125)-1,COLUMNS($I$104:I125)-1),\"\")","v":110.24},{"$f":"IF(OFFSET(DE102_5!$J$104,ROWS($J$104:J125)-1,COLUMNS($J$104:J125)-1)<>\"\",OFFSET(DE102_5!$J$104,ROWS($J$104:J125)-1,COLUMNS($J$104:J125)-1),\"\")","v":111.75},{"$f":"IF(OFFSET(DE102_5!$M$104,ROWS($M$104:M125)-1,COLUMNS($M$104:M125)-1)<>\"\",OFFSET(DE102_5!$M$104,ROWS($M$104:M125)-1,COLUMNS($M$104:M125)-1),\"\")","v":2017},{"$f":"IF(OFFSET(DE102_5!$N$104,ROWS($N$104:N125)-1,COLUMNS($N$104:N125)-1)<>\"\",OFFSET(DE102_5!$N$104,ROWS($N$104:N125)-1,COLUMNS($N$104:N125)-1),\"\")","v":"M"},{"$f":"IF(OFFSET(DE102_5!$O$104,ROWS($O$104:O125)-1,COLUMNS($O$104:O125)-1)<>\"\",OFFSET(DE102_5!$O$104,ROWS($O$104:O125)-1,COLUMNS($O$104:O125)-1),\"\")","v":"IMN-035-4(179)87--0E-77"},{"$f":"IF(OFFSET(DE102_5!$P$104,ROWS($P$104:P125)-1,COLUMNS($P$104:P125)-1)<>\"\",OFFSET(DE102_5!$P$104,ROWS($P$104:P125)-1,COLUMNS($P$104:P125)-1),\"\")","v":"PCC"},{"$f":"IF(OFFSET(DE102_5!$Q$104,ROWS($Q$104:Q125)-1,COLUMNS($Q$104:Q125)-1)<>\"\",OFFSET(DE102_5!$Q$104,ROWS($Q$104:Q125)-1,COLUMNS($Q$104:Q125)-1),\"\")","v":12},{"$f":"IF(OFFSET(DE102_5!$R$104,ROWS($R$104:R125)-1,COLUMNS($R$104:R125)-1)<>\"\",OFFSET(DE102_5!$R$104,ROWS($R$104:R125)-1,COLUMNS($R$104:R125)-1),\"\")","v":""},{"$f":"IF(OFFSET(DE102_5!$S$104,ROWS($S$104:S125)-1,COLUMNS($S$104:S125)-1)<>\"\",OFFSET(DE102_5!$S$104,ROWS($S$104:S125)-1,COLUMNS($S$104:S125)-1),\"\")","v":""},{"$f":"IF(OFFSET(DE102_5!$T$104,ROWS($T$104:T125)-1,COLUMNS($T$104:T125)-1)<>\"\",OFFSET(DE102_5!$T$104,ROWS($T$104:T125)-1,COLUMNS($T$104:T125)-1),\"\")","v":""},{"$f":"IF(OFFSET(DE102_5!$U$104,ROWS($U$104:U125)-1,COLUMNS($U$104:U125)-1)<>\"\",OFFSET(DE102_5!$U$104,ROWS($U$104:U125)-1,COLUMNS($U$104:U125)-1),\"\")","v":""},{"$f":"IF(OFFSET(DE102_5!$V$104,ROWS($V$104:V125)-1,COLUMNS($V$104:V125)-1)<>\"\",OFFSET(DE102_5!$V$104,ROWS($V$104:V125)-1,COLUMNS($V$104:V125)-1),\"\")","v":""},{"$f":"IF(OFFSET(DE102_5!$W$104,ROWS($W$104:W125)-1,COLUMNS($W$104:W125)-1)<>\"\",OFFSET(DE102_5!$W$104,ROWS($W$104:W125)-1,COLUMNS($W$104:W125)-1),\"\")","v":""},{"$f":"IF(OFFSET(DE102_5!$X$104,ROWS($X$104:X125)-1,COLUMNS($X$104:X125)-1)<>\"\",OFFSET(DE102_5!$X$104,ROWS($X$104:X125)-1,COLUMNS($X$104:X125)-1),\"\")","v":""},{"$f":"IF(OFFSET(DE102_5!$Y$104,ROWS($Y$104:Y125)-1,COLUMNS($Y$104:Y125)-1)<>\"\",OFFSET(DE102_5!$Y$104,ROWS($Y$104:Y125)-1,COLUMNS($Y$104:Y125)-1),\"\")","v":""},{"$f":"IF(OFFSET(DE102_5!$Z$104,ROWS($Z$104:Z125)-1,COLUMNS($Z$104:Z125)-1)<>\"\",OFFSET(DE102_5!$Z$104,ROWS($Z$104:Z125)-1,COLUMNS($Z$104:Z125)-1),\"\")","v":""},{"$f":"IF(OFFSET(DE102_5!$AA$104,ROWS($AA$104:AA125)-1,COLUMNS($AA$104:AA125)-1)<>\"\",OFFSET(DE102_5!$AA$104,ROWS($AA$104:AA125)-1,COLUMNS($AA$104:AA125)-1),\"\")","v":"PCC PATCHING"},{"$f":"IF(OFFSET(DE102_5!$AB$104,ROWS($AB$104:AB125)-1,COLUMNS($AB$104:AB125)-1)<>\"\",OFFSET(DE102_5!$AB$104,ROWS($AB$104:AB125)-1,COLUMNS($AB$104:AB125)-1),\"\")","v":""}]
[{"$f":"IF(OFFSET(DE102_5!$C$104,ROWS($C$104:C126)-1,COLUMNS($C$104:C126)-1)<>\"\",OFFSET(DE102_5!$C$104,ROWS($C$104:C126)-1,COLUMNS($C$104:C126)-1),\"\")","v":""},{"$f":"IF(OFFSET(DE102_5!$F$104,ROWS($F$104:F126)-1,COLUMNS($F$104:F126)-1)<>\"\",OFFSET(DE102_5!$F$104,ROWS($F$104:F126)-1,COLUMNS($F$104:F126)-1),\"\")","v":85},{"$f":"IF(OFFSET(DE102_5!$G$104,ROWS($G$104:G126)-1,COLUMNS($G$104:G126)-1)<>\"\",OFFSET(DE102_5!$G$104,ROWS($G$104:G126)-1,COLUMNS($G$104:G126)-1),\"\")","v":"I-35"},{"$f":"IF(OFFSET(DE102_5!$H$104,ROWS($H$104:H126)-1,COLUMNS($H$104:H126)-1)<>\"\",OFFSET(DE102_5!$H$104,ROWS($H$104:H126)-1,COLUMNS($H$104:H126)-1),\"\")","v":2},{"$f":"IF(OFFSET(DE102_5!$I$104,ROWS($I$104:I126)-1,COLUMNS($I$104:I126)-1)<>\"\",OFFSET(DE102_5!$I$104,ROWS($I$104:I126)-1,COLUMNS($I$104:I126)-1),\"\")","v":110.24},{"$f":"IF(OFFSET(DE102_5!$J$104,ROWS($J$104:J126)-1,COLUMNS($J$104:J126)-1)<>\"\",OFFSET(DE102_5!$J$104,ROWS($J$104:J126)-1,COLUMNS($J$104:J126)-1),\"\")","v":111.75},{"$f":"IF(OFFSET(DE102_5!$M$104,ROWS($M$104:M126)-1,COLUMNS($M$104:M126)-1)<>\"\",OFFSET(DE102_5!$M$104,ROWS($M$104:M126)-1,COLUMNS($M$104:M126)-1),\"\")","v":2013},{"$f":"IF(OFFSET(DE102_5!$N$104,ROWS($N$104:N126)-1,COLUMNS($N$104:N126)-1)<>\"\",OFFSET(DE102_5!$N$104,ROWS($N$104:N126)-1,COLUMNS($N$104:N126)-1),\"\")","v":""},{"$f":"IF(OFFSET(DE102_5!$O$104,ROWS($O$104:O126)-1,COLUMNS($O$104:O126)-1)<>\"\",OFFSET(DE102_5!$O$104,ROWS($O$104:O126)-1,COLUMNS($O$104:O126)-1),\"\")","v":"MPIN-035-1(708)106--0N-85"},{"$f":"IF(OFFSET(DE102_5!$P$104,ROWS($P$104:P126)-1,COLUMNS($P$104:P126)-1)<>\"\",OFFSET(DE102_5!$P$104,ROWS($P$104:P126)-1,COLUMNS($P$104:P126)-1),\"\")","v":"MSS"},{"$f":"IF(OFFSET(DE102_5!$Q$104,ROWS($Q$104:Q126)-1,COLUMNS($Q$104:Q126)-1)<>\"\",OFFSET(DE102_5!$Q$104,ROWS($Q$104:Q126)-1,COLUMNS($Q$104:Q126)-1),\"\")","v":""},{"$f":"IF(OFFSET(DE102_5!$R$104,ROWS($R$104:R126)-1,COLUMNS($R$104:R126)-1)<>\"\",OFFSET(DE102_5!$R$104,ROWS($R$104:R126)-1,COLUMNS($R$104:R126)-1),\"\")","v":""},{"$f":"IF(OFFSET(DE102_5!$S$104,ROWS($S$104:S126)-1,COLUMNS($S$104:S126)-1)<>\"\",OFFSET(DE102_5!$S$104,ROWS($S$104:S126)-1,COLUMNS($S$104:S126)-1),\"\")","v":""},{"$f":"IF(OFFSET(DE102_5!$T$104,ROWS($T$104:T126)-1,COLUMNS($T$104:T126)-1)<>\"\",OFFSET(DE102_5!$T$104,ROWS($T$104:T126)-1,COLUMNS($T$104:T126)-1),\"\")","v":""},{"$f":"IF(OFFSET(DE102_5!$U$104,ROWS($U$104:U126)-1,COLUMNS($U$104:U126)-1)<>\"\",OFFSET(DE102_5!$U$104,ROWS($U$104:U126)-1,COLUMNS($U$104:U126)-1),\"\")","v":""},{"$f":"IF(OFFSET(DE102_5!$V$104,ROWS($V$104:V126)-1,COLUMNS($V$104:V126)-1)<>\"\",OFFSET(DE102_5!$V$104,ROWS($V$104:V126)-1,COLUMNS($V$104:V126)-1),\"\")","v":""},{"$f":"IF(OFFSET(DE102_5!$W$104,ROWS($W$104:W126)-1,COLUMNS($W$104:W126)-1)<>\"\",OFFSET(DE102_5!$W$104,ROWS($W$104:W126)-1,COLUMNS($W$104:W126)-1),\"\")","v":""},{"$f":"IF(OFFSET(DE102_5!$X$104,ROWS($X$104:X126)-1,COLUMNS($X$104:X126)-1)<>\"\",OFFSET(DE102_5!$X$104,ROWS($X$104:X126)-1,COLUMNS($X$104:X126)-1),\"\")","v":""},{"$f":"IF(OFFSET(DE102_5!$Y$104,ROWS($Y$104:Y126)-1,COLUMNS($Y$104:Y126)-1)<>\"\",OFFSET(DE102_5!$Y$104,ROWS($Y$104:Y126)-1,COLUMNS($Y$104:Y126)-1),\"\")","v":""},{"$f":"IF(OFFSET(DE102_5!$Z$104,ROWS($Z$104:Z126)-1,COLUMNS($Z$104:Z126)-1)<>\"\",OFFSET(DE102_5!$Z$104,ROWS($Z$104:Z126)-1,COLUMNS($Z$104:Z126)-1),\"\")","v":""},{"$f":"IF(OFFSET(DE102_5!$AA$104,ROWS($AA$104:AA126)-1,COLUMNS($AA$104:AA126)-1)<>\"\",OFFSET(DE102_5!$AA$104,ROWS($AA$104:AA126)-1,COLUMNS($AA$104:AA126)-1),\"\")","v":""},{"$f":"IF(OFFSET(DE102_5!$AB$104,ROWS($AB$104:AB126)-1,COLUMNS($AB$104:AB126)-1)<>\"\",OFFSET(DE102_5!$AB$104,ROWS($AB$104:AB126)-1,COLUMNS($AB$104:AB126)-1),\"\")","v":""}]
[{"$f":"IF(OFFSET(DE102_5!$C$104,ROWS($C$104:C127)-1,COLUMNS($C$104:C127)-1)<>\"\",OFFSET(DE102_5!$C$104,ROWS($C$104:C127)-1,COLUMNS($C$104:C127)-1),\"\")","v":""},{"$f":"IF(OFFSET(DE102_5!$F$104,ROWS($F$104:F127)-1,COLUMNS($F$104:F127)-1)<>\"\",OFFSET(DE102_5!$F$104,ROWS($F$104:F127)-1,COLUMNS($F$104:F127)-1),\"\")","v":85},{"$f":"IF(OFFSET(DE102_5!$G$104,ROWS($G$104:G127)-1,COLUMNS($G$104:G127)-1)<>\"\",OFFSET(DE102_5!$G$104,ROWS($G$104:G127)-1,COLUMNS($G$104:G127)-1),\"\")","v":"I-35"},{"$f":"IF(OFFSET(DE102_5!$H$104,ROWS($H$104:H127)-1,COLUMNS($H$104:H127)-1)<>\"\",OFFSET(DE102_5!$H$104,ROWS($H$104:H127)-1,COLUMNS($H$104:H127)-1),\"\")","v":2},{"$f":"IF(OFFSET(DE102_5!$I$104,ROWS($I$104:I127)-1,COLUMNS($I$104:I127)-1)<>\"\",OFFSET(DE102_5!$I$104,ROWS($I$104:I127)-1,COLUMNS($I$104:I127)-1),\"\")","v":110.24},{"$f":"IF(OFFSET(DE102_5!$J$104,ROWS($J$104:J127)-1,COLUMNS($J$104:J127)-1)<>\"\",OFFSET(DE102_5!$J$104,ROWS($J$104:J127)-1,COLUMNS($J$104:J127)-1),\"\")","v":111.75},{"$f":"IF(OFFSET(DE102_5!$M$104,ROWS($M$104:M127)-1,COLUMNS($M$104:M127)-1)<>\"\",OFFSET(DE102_5!$M$104,ROWS($M$104:M127)-1,COLUMNS($M$104:M127)-1),\"\")","v":2008},{"$f":"IF(OFFSET(DE102_5!$N$104,ROWS($N$104:N127)-1,COLUMNS($N$104:N127)-1)<>\"\",OFFSET(DE102_5!$N$104,ROWS($N$104:N127)-1,COLUMNS($N$104:N127)-1),\"\")","v":""},{"$f":"IF(OFFSET(DE102_5!$O$104,ROWS($O$104:O127)-1,COLUMNS($O$104:O127)-1)<>\"\",OFFSET(DE102_5!$O$104,ROWS($O$104:O127)-1,COLUMNS($O$104:O127)-1),\"\")","v":"IMX-35-4(130)106--02-85"},{"$f":"IF(OFFSET(DE102_5!$P$104,ROWS($P$104:P127)-1,COLUMNS($P$104:P127)-1)<>\"\",OFFSET(DE102_5!$P$104,ROWS($P$104:P127)-1,COLUMNS($P$104:P127)-1),\"\")","v":"HMA"},{"$f":"IF(OFFSET(DE102_5!$Q$104,ROWS($Q$104:Q127)-1,COLUMNS($Q$104:Q127)-1)<>\"\",OFFSET(DE102_5!$Q$104,ROWS($Q$104:Q127)-1,COLUMNS($Q$104:Q127)-1),\"\")","v":2},{"$f":"IF(OFFSET(DE102_5!$R$104,ROWS($R$104:R127)-1,COLUMNS($R$104:R127)-1)<>\"\",OFFSET(DE102_5!$R$104,ROWS($R$104:R127)-1,COLUMNS($R$104:R127)-1),\"\")","v":""},{"$f":"IF(OFFSET(DE102_5!$S$104,ROWS($S$104:S127)-1,COLUMNS($S$104:S127)-1)<>\"\",OFFSET(DE102_5!$S$104,ROWS($S$104:S127)-1,COLUMNS($S$104:S127)-1),\"\")","v":""},{"$f":"IF(OFFSET(DE102_5!$T$104,ROWS($T$104:T127)-1,COLUMNS($T$104:T127)-1)<>\"\",OFFSET(DE102_5!$T$104,ROWS($T$104:T127)-1,COLUMNS($T$104:T127)-1),\"\")","v":""},{"$f":"IF(OFFSET(DE102_5!$U$104,ROWS($U$104:U127)-1,COLUMNS($U$104:U127)-1)<>\"\",OFFSET(DE102_5!$U$104,ROWS($U$104:U127)-1,COLUMNS($U$104:U127)-1),\"\")","v":""},{"$f":"IF(OFFSET(DE102_5!$V$104,ROWS($V$104:V127)-1,COLUMNS($V$104:V127)-1)<>\"\",OFFSET(DE102_5!$V$104,ROWS($V$104:V127)-1,COLUMNS($V$104:V127)-1),\"\")","v":"MIL"},{"$f":"IF(OFFSET(DE102_5!$W$104,ROWS($W$104:W127)-1,COLUMNS($W$104:W127)-1)<>\"\",OFFSET(DE102_5!$W$104,ROWS($W$104:W127)-1,COLUMNS($W$104:W127)-1),\"\")","v":2},{"$f":"IF(OFFSET(DE102_5!$X$104,ROWS($X$104:X127)-1,COLUMNS($X$104:X127)-1)<>\"\",OFFSET(DE102_5!$X$104,ROWS($X$104:X127)-1,COLUMNS($X$104:X127)-1),\"\")","v":"AMES MINE"},{"$f":"IF(OFFSET(DE102_5!$Y$104,ROWS($Y$104:Y127)-1,COLUMNS($Y$104:Y127)-1)<>\"\",OFFSET(DE102_5!$Y$104,ROWS($Y$104:Y127)-1,COLUMNS($Y$104:Y127)-1),\"\")","v":"C.LST."},{"$f":"IF(OFFSET(DE102_5!$Z$104,ROWS($Z$104:Z127)-1,COLUMNS($Z$104:Z127)-1)<>\"\",OFFSET(DE102_5!$Z$104,ROWS($Z$104:Z127)-1,COLUMNS($Z$104:Z127)-1),\"\")","v":""},{"$f":"IF(OFFSET(DE102_5!$AA$104,ROWS($AA$104:AA127)-1,COLUMNS($AA$104:AA127)-1)<>\"\",OFFSET(DE102_5!$AA$104,ROWS($AA$104:AA127)-1,COLUMNS($AA$104:AA127)-1),\"\")","v":""},{"$f":"IF(OFFSET(DE102_5!$AB$104,ROWS($AB$104:AB127)-1,COLUMNS($AB$104:AB127)-1)<>\"\",OFFSET(DE102_5!$AB$104,ROWS($AB$104:AB127)-1,COLUMNS($AB$104:AB127)-1),\"\")","v":""}]
[{"$f":"IF(OFFSET(DE102_5!$C$104,ROWS($C$104:C128)-1,COLUMNS($C$104:C128)-1)<>\"\",OFFSET(DE102_5!$C$104,ROWS($C$104:C128)-1,COLUMNS($C$104:C128)-1),\"\")","v":""},{"$f":"IF(OFFSET(DE102_5!$F$104,ROWS($F$104:F128)-1,COLUMNS($F$104:F128)-1)<>\"\",OFFSET(DE102_5!$F$104,ROWS($F$104:F128)-1,COLUMNS($F$104:F128)-1),\"\")","v":85},{"$f":"IF(OFFSET(DE102_5!$G$104,ROWS($G$104:G128)-1,COLUMNS($G$104:G128)-1)<>\"\",OFFSET(DE102_5!$G$104,ROWS($G$104:G128)-1,COLUMNS($G$104:G128)-1),\"\")","v":"I-35"},{"$f":"IF(OFFSET(DE102_5!$H$104,ROWS($H$104:H128)-1,COLUMNS($H$104:H128)-1)<>\"\",OFFSET(DE102_5!$H$104,ROWS($H$104:H128)-1,COLUMNS($H$104:H128)-1),\"\")","v":2},{"$f":"IF(OFFSET(DE102_5!$I$104,ROWS($I$104:I128)-1,COLUMNS($I$104:I128)-1)<>\"\",OFFSET(DE102_5!$I$104,ROWS($I$104:I128)-1,COLUMNS($I$104:I128)-1),\"\")","v":110.24},{"$f":"IF(OFFSET(DE102_5!$J$104,ROWS($J$104:J128)-1,COLUMNS($J$104:J128)-1)<>\"\",OFFSET(DE102_5!$J$104,ROWS($J$104:J128)-1,COLUMNS($J$104:J128)-1),\"\")","v":111.75},{"$f":"IF(OFFSET(DE102_5!$M$104,ROWS($M$104:M128)-1,COLUMNS($M$104:M128)-1)<>\"\",OFFSET(DE102_5!$M$104,ROWS($M$104:M128)-1,COLUMNS($M$104:M128)-1),\"\")","v":2008},{"$f":"IF(OFFSET(DE102_5!$N$104,ROWS($N$104:N128)-1,COLUMNS($N$104:N128)-1)<>\"\",OFFSET(DE102_5!$N$104,ROWS($N$104:N128)-1,COLUMNS($N$104:N128)-1),\"\")","v":"W"},{"$f":"IF(OFFSET(DE102_5!$O$104,ROWS($O$104:O128)-1,COLUMNS($O$104:O128)-1)<>\"\",OFFSET(DE102_5!$O$104,ROWS($O$104:O128)-1,COLUMNS($O$104:O128)-1),\"\")","v":"IMX-35-4(130)106--02-85"},{"$f":"IF(OFFSET(DE102_5!$P$104,ROWS($P$104:P128)-1,COLUMNS($P$104:P128)-1)<>\"\",OFFSET(DE102_5!$P$104,ROWS($P$104:P128)-1,COLUMNS($P$104:P128)-1),\"\")","v":"HMA"},{"$f":"IF(OFFSET(DE102_5!$Q$104,ROWS($Q$104:Q128)-1,COLUMNS($Q$104:Q128)-1)<>\"\",OFFSET(DE102_5!$Q$104,ROWS($Q$104:Q128)-1,COLUMNS($Q$104:Q128)-1),\"\")","v":2},{"$f":"IF(OFFSET(DE102_5!$R$104,ROWS($R$104:R128)-1,COLUMNS($R$104:R128)-1)<>\"\",OFFSET(DE102_5!$R$104,ROWS($R$104:R128)-1,COLUMNS($R$104:R128)-1),\"\")","v":""},{"$f":"IF(OFFSET(DE102_5!$S$104,ROWS($S$104:S128)-1,COLUMNS($S$104:S128)-1)<>\"\",OFFSET(DE102_5!$S$104,ROWS($S$104:S128)-1,COLUMNS($S$104:S128)-1),\"\")","v":""},{"$f":"IF(OFFSET(DE102_5!$T$104,ROWS($T$104:T128)-1,COLUMNS($T$104:T128)-1)<>\"\",OFFSET(DE102_5!$T$104,ROWS($T$104:T128)-1,COLUMNS($T$104:T128)-1),\"\")","v":""},{"$f":"IF(OFFSET(DE102_5!$U$104,ROWS($U$104:U128)-1,COLUMNS($U$104:U128)-1)<>\"\",OFFSET(DE102_5!$U$104,ROWS($U$104:U128)-1,COLUMNS($U$104:U128)-1),\"\")","v":""},{"$f":"IF(OFFSET(DE102_5!$V$104,ROWS($V$104:V128)-1,COLUMNS($V$104:V128)-1)<>\"\",OFFSET(DE102_5!$V$104,ROWS($V$104:V128)-1,COLUMNS($V$104:V128)-1),\"\")","v":"MIL"},{"$f":"IF(OFFSET(DE102_5!$W$104,ROWS($W$104:W128)-1,COLUMNS($W$104:W128)-1)<>\"\",OFFSET(DE102_5!$W$104,ROWS($W$104:W128)-1,COLUMNS($W$104:W128)-1),\"\")","v":2},{"$f":"IF(OFFSET(DE102_5!$X$104,ROWS($X$104:X128)-1,COLUMNS($X$104:X128)-1)<>\"\",OFFSET(DE102_5!$X$104,ROWS($X$104:X128)-1,COLUMNS($X$104:X128)-1),\"\")","v":"AMES MINE"},{"$f":"IF(OFFSET(DE102_5!$Y$104,ROWS($Y$104:Y128)-1,COLUMNS($Y$104:Y128)-1)<>\"\",OFFSET(DE102_5!$Y$104,ROWS($Y$104:Y128)-1,COLUMNS($Y$104:Y128)-1),\"\")","v":"C.LST."},{"$f":"IF(OFFSET(DE102_5!$Z$104,ROWS($Z$104:Z128)-1,COLUMNS($Z$104:Z128)-1)<>\"\",OFFSET(DE102_5!$Z$104,ROWS($Z$104:Z128)-1,COLUMNS($Z$104:Z128)-1),\"\")","v":""},{"$f":"IF(OFFSET(DE102_5!$AA$104,ROWS($AA$104:AA128)-1,COLUMNS($AA$104:AA128)-1)<>\"\",OFFSET(DE102_5!$AA$104,ROWS($AA$104:AA128)-1,COLUMNS($AA$104:AA128)-1),\"\")","v":"WIDENING VARIES"},{"$f":"IF(OFFSET(DE102_5!$AB$104,ROWS($AB$104:AB128)-1,COLUMNS($AB$104:AB128)-1)<>\"\",OFFSET(DE102_5!$AB$104,ROWS($AB$104:AB128)-1,COLUMNS($AB$104:AB128)-1),\"\")","v":""}]
[{"$f":"IF(OFFSET(DE102_5!$C$104,ROWS($C$104:C129)-1,COLUMNS($C$104:C129)-1)<>\"\",OFFSET(DE102_5!$C$104,ROWS($C$104:C129)-1,COLUMNS($C$104:C129)-1),\"\")","v":""},{"$f":"IF(OFFSET(DE102_5!$F$104,ROWS($F$104:F129)-1,COLUMNS($F$104:F129)-1)<>\"\",OFFSET(DE102_5!$F$104,ROWS($F$104:F129)-1,COLUMNS($F$104:F129)-1),\"\")","v":85},{"$f":"IF(OFFSET(DE102_5!$G$104,ROWS($G$104:G129)-1,COLUMNS($G$104:G129)-1)<>\"\",OFFSET(DE102_5!$G$104,ROWS($G$104:G129)-1,COLUMNS($G$104:G129)-1),\"\")","v":"I-35"},{"$f":"IF(OFFSET(DE102_5!$H$104,ROWS($H$104:H129)-1,COLUMNS($H$104:H129)-1)<>\"\",OFFSET(DE102_5!$H$104,ROWS($H$104:H129)-1,COLUMNS($H$104:H129)-1),\"\")","v":2},{"$f":"IF(OFFSET(DE102_5!$I$104,ROWS($I$104:I129)-1,COLUMNS($I$104:I129)-1)<>\"\",OFFSET(DE102_5!$I$104,ROWS($I$104:I129)-1,COLUMNS($I$104:I129)-1),\"\")","v":110.24},{"$f":"IF(OFFSET(DE102_5!$J$104,ROWS($J$104:J129)-1,COLUMNS($J$104:J129)-1)<>\"\",OFFSET(DE102_5!$J$104,ROWS($J$104:J129)-1,COLUMNS($J$104:J129)-1),\"\")","v":111.75},{"$f":"IF(OFFSET(DE102_5!$M$104,ROWS($M$104:M129)-1,COLUMNS($M$104:M129)-1)<>\"\",OFFSET(DE102_5!$M$104,ROWS($M$104:M129)-1,COLUMNS($M$104:M129)-1),\"\")","v":1989},{"$f":"IF(OFFSET(DE102_5!$N$104,ROWS($N$104:N129)-1,COLUMNS($N$104:N129)-1)<>\"\",OFFSET(DE102_5!$N$104,ROWS($N$104:N129)-1,COLUMNS($N$104:N129)-1),\"\")","v":""},{"$f":"IF(OFFSET(DE102_5!$O$104,ROWS($O$104:O129)-1,COLUMNS($O$104:O129)-1)<>\"\",OFFSET(DE102_5!$O$104,ROWS($O$104:O129)-1,COLUMNS($O$104:O129)-1),\"\")","v":"IR-35-4(58)105"},{"$f":"IF(OFFSET(DE102_5!$P$104,ROWS($P$104:P129)-1,COLUMNS($P$104:P129)-1)<>\"\",OFFSET(DE102_5!$P$104,ROWS($P$104:P129)-1,COLUMNS($P$104:P129)-1),\"\")","v":"AAC"},{"$f":"IF(OFFSET(DE102_5!$Q$104,ROWS($Q$104:Q129)-1,COLUMNS($Q$104:Q129)-1)<>\"\",OFFSET(DE102_5!$Q$104,ROWS($Q$104:Q129)-1,COLUMNS($Q$104:Q129)-1),\"\")","v":4.5},{"$f":"IF(OFFSET(DE102_5!$R$104,ROWS($R$104:R129)-1,COLUMNS($R$104:R129)-1)<>\"\",OFFSET(DE102_5!$R$104,ROWS($R$104:R129)-1,COLUMNS($R$104:R129)-1),\"\")","v":""},{"$f":"IF(OFFSET(DE102_5!$S$104,ROWS($S$104:S129)-1,COLUMNS($S$104:S129)-1)<>\"\",OFFSET(DE102_5!$S$104,ROWS($S$104:S129)-1,COLUMNS($S$104:S129)-1),\"\")","v":""},{"$f":"IF(OFFSET(DE102_5!$T$104,ROWS($T$104:T129)-1,COLUMNS($T$104:T129)-1)<>\"\",OFFSET(DE102_5!$T$104,ROWS($T$104:T129)-1,COLUMNS($T$104:T129)-1),\"\")","v":""},{"$f":"IF(OFFSET(DE102_5!$U$104,ROWS($U$104:U129)-1,COLUMNS($U$104:U129)-1)<>\"\",OFFSET(DE102_5!$U$104,ROWS($U$104:U129)-1,COLUMNS($U$104:U129)-1),\"\")","v":""},{"$f":"IF(OFFSET(DE102_5!$V$104,ROWS($V$104:V129)-1,COLUMNS($V$104:V129)-1)<>\"\",OFFSET(DE102_5!$V$104,ROWS($V$104:V129)-1,COLUMNS($V$104:V129)-1),\"\")","v":""},{"$f":"IF(OFFSET(DE102_5!$W$104,ROWS($W$104:W129)-1,COLUMNS($W$104:W129)-1)<>\"\",OFFSET(DE102_5!$W$104,ROWS($W$104:W129)-1,COLUMNS($W$104:W129)-1),\"\")","v":""},{"$f":"IF(OFFSET(DE102_5!$X$104,ROWS($X$104:X129)-1,COLUMNS($X$104:X129)-1)<>\"\",OFFSET(DE102_5!$X$104,ROWS($X$104:X129)-1,COLUMNS($X$104:X129)-1),\"\")","v":"AMES MINE"},{"$f":"IF(OFFSET(DE102_5!$Y$104,ROWS($Y$104:Y129)-1,COLUMNS($Y$104:Y129)-1)<>\"\",OFFSET(DE102_5!$Y$104,ROWS($Y$104:Y129)-1,COLUMNS($Y$104:Y129)-1),\"\")","v":"C.LST."},{"$f":"IF(OFFSET(DE102_5!$Z$104,ROWS($Z$104:Z129)-1,COLUMNS($Z$104:Z129)-1)<>\"\",OFFSET(DE102_5!$Z$104,ROWS($Z$104:Z129)-1,COLUMNS($Z$104:Z129)-1),\"\")","v":""},{"$f":"IF(OFFSET(DE102_5!$AA$104,ROWS($AA$104:AA129)-1,COLUMNS($AA$104:AA129)-1)<>\"\",OFFSET(DE102_5!$AA$104,ROWS($AA$104:AA129)-1,COLUMNS($AA$104:AA129)-1),\"\")","v":""},{"$f":"IF(OFFSET(DE102_5!$AB$104,ROWS($AB$104:AB129)-1,COLUMNS($AB$104:AB129)-1)<>\"\",OFFSET(DE102_5!$AB$104,ROWS($AB$104:AB129)-1,COLUMNS($AB$104:AB129)-1),\"\")","v":""}]
[{"$f":"IF(OFFSET(DE102_5!$C$104,ROWS($C$104:C130)-1,COLUMNS($C$104:C130)-1)<>\"\",OFFSET(DE102_5!$C$104,ROWS($C$104:C130)-1,COLUMNS($C$104:C130)-1),\"\")","v":""},{"$f":"IF(OFFSET(DE102_5!$F$104,ROWS($F$104:F130)-1,COLUMNS($F$104:F130)-1)<>\"\",OFFSET(DE102_5!$F$104,ROWS($F$104:F130)-1,COLUMNS($F$104:F130)-1),\"\")","v":85},{"$f":"IF(OFFSET(DE102_5!$G$104,ROWS($G$104:G130)-1,COLUMNS($G$104:G130)-1)<>\"\",OFFSET(DE102_5!$G$104,ROWS($G$104:G130)-1,COLUMNS($G$104:G130)-1),\"\")","v":"I-35"},{"$f":"IF(OFFSET(DE102_5!$H$104,ROWS($H$104:H130)-1,COLUMNS($H$104:H130)-1)<>\"\",OFFSET(DE102_5!$H$104,ROWS($H$104:H130)-1,COLUMNS($H$104:H130)-1),\"\")","v":2},{"$f":"IF(OFFSET(DE102_5!$I$104,ROWS($I$104:I130)-1,COLUMNS($I$104:I130)-1)<>\"\",OFFSET(DE102_5!$I$104,ROWS($I$104:I130)-1,COLUMNS($I$104:I130)-1),\"\")","v":110.24},{"$f":"IF(OFFSET(DE102_5!$J$104,ROWS($J$104:J130)-1,COLUMNS($J$104:J130)-1)<>\"\",OFFSET(DE102_5!$J$104,ROWS($J$104:J130)-1,COLUMNS($J$104:J130)-1),\"\")","v":111.75},{"$f":"IF(OFFSET(DE102_5!$M$104,ROWS($M$104:M130)-1,COLUMNS($M$104:M130)-1)<>\"\",OFFSET(DE102_5!$M$104,ROWS($M$104:M130)-1,COLUMNS($M$104:M130)-1),\"\")","v":1965},{"$f":"IF(OFFSET(DE102_5!$N$104,ROWS($N$104:N130)-1,COLUMNS($N$104:N130)-1)<>\"\",OFFSET(DE102_5!$N$104,ROWS($N$104:N130)-1,COLUMNS($N$104:N130)-1),\"\")","v":""},{"$f":"IF(OFFSET(DE102_5!$O$104,ROWS($O$104:O130)-1,COLUMNS($O$104:O130)-1)<>\"\",OFFSET(DE102_5!$O$104,ROWS($O$104:O130)-1,COLUMNS($O$104:O130)-1),\"\")","v":"I-IG-35-4(12)103"},{"$f":"IF(OFFSET(DE102_5!$P$104,ROWS($P$104:P130)-1,COLUMNS($P$104:P130)-1)<>\"\",OFFSET(DE102_5!$P$104,ROWS($P$104:P130)-1,COLUMNS($P$104:P130)-1),\"\")","v":"PCC"},{"$f":"IF(OFFSET(DE102_5!$Q$104,ROWS($Q$104:Q130)-1,COLUMNS($Q$104:Q130)-1)<>\"\",OFFSET(DE102_5!$Q$104,ROWS($Q$104:Q130)-1,COLUMNS($Q$104:Q130)-1),\"\")","v":10},{"$f":"IF(OFFSET(DE102_5!$R$104,ROWS($R$104:R130)-1,COLUMNS($R$104:R130)-1)<>\"\",OFFSET(DE102_5!$R$104,ROWS($R$104:R130)-1,COLUMNS($R$104:R130)-1),\"\")","v":"GSB"},{"$f":"IF(OFFSET(DE102_5!$S$104,ROWS($S$104:S130)-1,COLUMNS($S$104:S130)-1)<>\"\",OFFSET(DE102_5!$S$104,ROWS($S$104:S130)-1,COLUMNS($S$104:S130)-1),\"\")","v":4},{"$f":"IF(OFFSET(DE102_5!$T$104,ROWS($T$104:T130)-1,COLUMNS($T$104:T130)-1)<>\"\",OFFSET(DE102_5!$T$104,ROWS($T$104:T130)-1,COLUMNS($T$104:T130)-1),\"\")","v":""},{"$f":"IF(OFFSET(DE102_5!$U$104,ROWS($U$104:U130)-1,COLUMNS($U$104:U130)-1)<>\"\",OFFSET(DE102_5!$U$104,ROWS($U$104:U130)-1,COLUMNS($U$104:U130)-1),\"\")","v":""},{"$f":"IF(OFFSET(DE102_5!$V$104,ROWS($V$104:V130)-1,COLUMNS($V$104:V130)-1)<>\"\",OFFSET(DE102_5!$V$104,ROWS($V$104:V130)-1,COLUMNS($V$104:V130)-1),\"\")","v":""},{"$f":"IF(OFFSET(DE102_5!$W$104,ROWS($W$104:W130)-1,COLUMNS($W$104:W130)-1)<>\"\",OFFSET(DE102_5!$W$104,ROWS($W$104:W130)-1,COLUMNS($W$104:W130)-1),\"\")","v":""},{"$f":"IF(OFFSET(DE102_5!$X$104,ROWS($X$104:X130)-1,COLUMNS($X$104:X130)-1)<>\"\",OFFSET(DE102_5!$X$104,ROWS($X$104:X130)-1,COLUMNS($X$104:X130)-1),\"\")","v":"CHRISTENSEN"},{"$f":"IF(OFFSET(DE102_5!$Y$104,ROWS($Y$104:Y130)-1,COLUMNS($Y$104:Y130)-1)<>\"\",OFFSET(DE102_5!$Y$104,ROWS($Y$104:Y130)-1,COLUMNS($Y$104:Y130)-1),\"\")","v":"GRAVEL"},{"$f":"IF(OFFSET(DE102_5!$Z$104,ROWS($Z$104:Z130)-1,COLUMNS($Z$104:Z130)-1)<>\"\",OFFSET(DE102_5!$Z$104,ROWS($Z$104:Z130)-1,COLUMNS($Z$104:Z130)-1),\"\")","v":1},{"$f":"IF(OFFSET(DE102_5!$AA$104,ROWS($AA$104:AA130)-1,COLUMNS($AA$104:AA130)-1)<>\"\",OFFSET(DE102_5!$AA$104,ROWS($AA$104:AA130)-1,COLUMNS($AA$104:AA130)-1),\"\")","v":""},{"$f":"IF(OFFSET(DE102_5!$AB$104,ROWS($AB$104:AB130)-1,COLUMNS($AB$104:AB130)-1)<>\"\",OFFSET(DE102_5!$AB$104,ROWS($AB$104:AB130)-1,COLUMNS($AB$104:AB130)-1),\"\")","v":""}]
[{"$f":"IF(OFFSET(DE102_5!$C$104,ROWS($C$104:C131)-1,COLUMNS($C$104:C131)-1)<>\"\",OFFSET(DE102_5!$C$104,ROWS($C$104:C131)-1,COLUMNS($C$104:C131)-1),\"\")","v":""},{"$f":"IF(OFFSET(DE102_5!$F$104,ROWS($F$104:F131)-1,COLUMNS($F$104:F131)-1)<>\"\",OFFSET(DE102_5!$F$104,ROWS($F$104:F131)-1,COLUMNS($F$104:F131)-1),\"\")","v":""},{"$f":"IF(OFFSET(DE102_5!$G$104,ROWS($G$104:G131)-1,COLUMNS($G$104:G131)-1)<>\"\",OFFSET(DE102_5!$G$104,ROWS($G$104:G131)-1,COLUMNS($G$104:G131)-1),\"\")","v":""},{"$f":"IF(OFFSET(DE102_5!$H$104,ROWS($H$104:H131)-1,COLUMNS($H$104:H131)-1)<>\"\",OFFSET(DE102_5!$H$104,ROWS($H$104:H131)-1,COLUMNS($H$104:H131)-1),\"\")","v":""},{"$f":"IF(OFFSET(DE102_5!$I$104,ROWS($I$104:I131)-1,COLUMNS($I$104:I131)-1)<>\"\",OFFSET(DE102_5!$I$104,ROWS($I$104:I131)-1,COLUMNS($I$104:I131)-1),\"\")","v":""},{"$f":"IF(OFFSET(DE102_5!$J$104,ROWS($J$104:J131)-1,COLUMNS($J$104:J131)-1)<>\"\",OFFSET(DE102_5!$J$104,ROWS($J$104:J131)-1,COLUMNS($J$104:J131)-1),\"\")","v":""},{"$f":"IF(OFFSET(DE102_5!$M$104,ROWS($M$104:M131)-1,COLUMNS($M$104:M131)-1)<>\"\",OFFSET(DE102_5!$M$104,ROWS($M$104:M131)-1,COLUMNS($M$104:M131)-1),\"\")","v":""},{"$f":"IF(OFFSET(DE102_5!$N$104,ROWS($N$104:N131)-1,COLUMNS($N$104:N131)-1)<>\"\",OFFSET(DE102_5!$N$104,ROWS($N$104:N131)-1,COLUMNS($N$104:N131)-1),\"\")","v":""},{"$f":"IF(OFFSET(DE102_5!$O$104,ROWS($O$104:O131)-1,COLUMNS($O$104:O131)-1)<>\"\",OFFSET(DE102_5!$O$104,ROWS($O$104:O131)-1,COLUMNS($O$104:O131)-1),\"\")","v":""},{"$f":"IF(OFFSET(DE102_5!$P$104,ROWS($P$104:P131)-1,COLUMNS($P$104:P131)-1)<>\"\",OFFSET(DE102_5!$P$104,ROWS($P$104:P131)-1,COLUMNS($P$104:P131)-1),\"\")","v":""},{"$f":"IF(OFFSET(DE102_5!$Q$104,ROWS($Q$104:Q131)-1,COLUMNS($Q$104:Q131)-1)<>\"\",OFFSET(DE102_5!$Q$104,ROWS($Q$104:Q131)-1,COLUMNS($Q$104:Q131)-1),\"\")","v":""},{"$f":"IF(OFFSET(DE102_5!$R$104,ROWS($R$104:R131)-1,COLUMNS($R$104:R131)-1)<>\"\",OFFSET(DE102_5!$R$104,ROWS($R$104:R131)-1,COLUMNS($R$104:R131)-1),\"\")","v":""},{"$f":"IF(OFFSET(DE102_5!$S$104,ROWS($S$104:S131)-1,COLUMNS($S$104:S131)-1)<>\"\",OFFSET(DE102_5!$S$104,ROWS($S$104:S131)-1,COLUMNS($S$104:S131)-1),\"\")","v":""},{"$f":"IF(OFFSET(DE102_5!$T$104,ROWS($T$104:T131)-1,COLUMNS($T$104:T131)-1)<>\"\",OFFSET(DE102_5!$T$104,ROWS($T$104:T131)-1,COLUMNS($T$104:T131)-1),\"\")","v":""},{"$f":"IF(OFFSET(DE102_5!$U$104,ROWS($U$104:U131)-1,COLUMNS($U$104:U131)-1)<>\"\",OFFSET(DE102_5!$U$104,ROWS($U$104:U131)-1,COLUMNS($U$104:U131)-1),\"\")","v":""},{"$f":"IF(OFFSET(DE102_5!$V$104,ROWS($V$104:V131)-1,COLUMNS($V$104:V131)-1)<>\"\",OFFSET(DE102_5!$V$104,ROWS($V$104:V131)-1,COLUMNS($V$104:V131)-1),\"\")","v":""},{"$f":"IF(OFFSET(DE102_5!$W$104,ROWS($W$104:W131)-1,COLUMNS($W$104:W131)-1)<>\"\",OFFSET(DE102_5!$W$104,ROWS($W$104:W131)-1,COLUMNS($W$104:W131)-1),\"\")","v":""},{"$f":"IF(OFFSET(DE102_5!$X$104,ROWS($X$104:X131)-1,COLUMNS($X$104:X131)-1)<>\"\",OFFSET(DE102_5!$X$104,ROWS($X$104:X131)-1,COLUMNS($X$104:X131)-1),\"\")","v":""},{"$f":"IF(OFFSET(DE102_5!$Y$104,ROWS($Y$104:Y131)-1,COLUMNS($Y$104:Y131)-1)<>\"\",OFFSET(DE102_5!$Y$104,ROWS($Y$104:Y131)-1,COLUMNS($Y$104:Y131)-1),\"\")","v":""},{"$f":"IF(OFFSET(DE102_5!$Z$104,ROWS($Z$104:Z131)-1,COLUMNS($Z$104:Z131)-1)<>\"\",OFFSET(DE102_5!$Z$104,ROWS($Z$104:Z131)-1,COLUMNS($Z$104:Z131)-1),\"\")","v":""},{"$f":"IF(OFFSET(DE102_5!$AA$104,ROWS($AA$104:AA131)-1,COLUMNS($AA$104:AA131)-1)<>\"\",OFFSET(DE102_5!$AA$104,ROWS($AA$104:AA131)-1,COLUMNS($AA$104:AA131)-1),\"\")","v":""},{"$f":"IF(OFFSET(DE102_5!$AB$104,ROWS($AB$104:AB131)-1,COLUMNS($AB$104:AB131)-1)<>\"\",OFFSET(DE102_5!$AB$104,ROWS($AB$104:AB131)-1,COLUMNS($AB$104:AB131)-1),\"\")","v":""}]
[{"$f":"IF(OFFSET(DE102_5!$C$104,ROWS($C$104:C132)-1,COLUMNS($C$104:C132)-1)<>\"\",OFFSET(DE102_5!$C$104,ROWS($C$104:C132)-1,COLUMNS($C$104:C132)-1),\"\")","v":""},{"$f":"IF(OFFSET(DE102_5!$F$104,ROWS($F$104:F132)-1,COLUMNS($F$104:F132)-1)<>\"\",OFFSET(DE102_5!$F$104,ROWS($F$104:F132)-1,COLUMNS($F$104:F132)-1),\"\")","v":85},{"$f":"IF(OFFSET(DE102_5!$G$104,ROWS($G$104:G132)-1,COLUMNS($G$104:G132)-1)<>\"\",OFFSET(DE102_5!$G$104,ROWS($G$104:G132)-1,COLUMNS($G$104:G132)-1),\"\")","v":"I-35"},{"$f":"IF(OFFSET(DE102_5!$H$104,ROWS($H$104:H132)-1,COLUMNS($H$104:H132)-1)<>\"\",OFFSET(DE102_5!$H$104,ROWS($H$104:H132)-1,COLUMNS($H$104:H132)-1),\"\")","v":2},{"$f":"IF(OFFSET(DE102_5!$I$104,ROWS($I$104:I132)-1,COLUMNS($I$104:I132)-1)<>\"\",OFFSET(DE102_5!$I$104,ROWS($I$104:I132)-1,COLUMNS($I$104:I132)-1),\"\")","v":111.75},{"$f":"IF(OFFSET(DE102_5!$J$104,ROWS($J$104:J132)-1,COLUMNS($J$104:J132)-1)<>\"\",OFFSET(DE102_5!$J$104,ROWS($J$104:J132)-1,COLUMNS($J$104:J132)-1),\"\")","v":126.04},{"$f":"IF(OFFSET(DE102_5!$M$104,ROWS($M$104:M132)-1,COLUMNS($M$104:M132)-1)<>\"\",OFFSET(DE102_5!$M$104,ROWS($M$104:M132)-1,COLUMNS($M$104:M132)-1),\"\")","v":2018},{"$f":"IF(OFFSET(DE102_5!$N$104,ROWS($N$104:N132)-1,COLUMNS($N$104:N132)-1)<>\"\",OFFSET(DE102_5!$N$104,ROWS($N$104:N132)-1,COLUMNS($N$104:N132)-1),\"\")","v":"M"},{"$f":"IF(OFFSET(DE102_5!$O$104,ROWS($O$104:O132)-1,COLUMNS($O$104:O132)-1)<>\"\",OFFSET(DE102_5!$O$104,ROWS($O$104:O132)-1,COLUMNS($O$104:O132)-1),\"\")","v":"IMN-035-4(201)87--0E-77"},{"$f":"IF(OFFSET(DE102_5!$P$104,ROWS($P$104:P132)-1,COLUMNS($P$104:P132)-1)<>\"\",OFFSET(DE102_5!$P$104,ROWS($P$104:P132)-1,COLUMNS($P$104:P132)-1),\"\")","v":"PCC"},{"$f":"IF(OFFSET(DE102_5!$Q$104,ROWS($Q$104:Q132)-1,COLUMNS($Q$104:Q132)-1)<>\"\",OFFSET(DE102_5!$Q$104,ROWS($Q$104:Q132)-1,COLUMNS($Q$104:Q132)-1),\"\")","v":""},{"$f":"IF(OFFSET(DE102_5!$R$104,ROWS($R$104:R132)-1,COLUMNS($R$104:R132)-1)<>\"\",OFFSET(DE102_5!$R$104,ROWS($R$104:R132)-1,COLUMNS($R$104:R132)-1),\"\")","v":""},{"$f":"IF(OFFSET(DE102_5!$S$104,ROWS($S$104:S132)-1,COLUMNS($S$104:S132)-1)<>\"\",OFFSET(DE102_5!$S$104,ROWS($S$104:S132)-1,COLUMNS($S$104:S132)-1),\"\")","v":""},{"$f":"IF(OFFSET(DE102_5!$T$104,ROWS($T$104:T132)-1,COLUMNS($T$104:T132)-1)<>\"\",OFFSET(DE102_5!$T$104,ROWS($T$104:T132)-1,COLUMNS($T$104:T132)-1),\"\")","v":""},{"$f":"IF(OFFSET(DE102_5!$U$104,ROWS($U$104:U132)-1,COLUMNS($U$104:U132)-1)<>\"\",OFFSET(DE102_5!$U$104,ROWS($U$104:U132)-1,COLUMNS($U$104:U132)-1),\"\")","v":""},{"$f":"IF(OFFSET(DE102_5!$V$104,ROWS($V$104:V132)-1,COLUMNS($V$104:V132)-1)<>\"\",OFFSET(DE102_5!$V$104,ROWS($V$104:V132)-1,COLUMNS($V$104:V132)-1),\"\")","v":""},{"$f":"IF(OFFSET(DE102_5!$W$104,ROWS($W$104:W132)-1,COLUMNS($W$104:W132)-1)<>\"\",OFFSET(DE102_5!$W$104,ROWS($W$104:W132)-1,COLUMNS($W$104:W132)-1),\"\")","v":""},{"$f":"IF(OFFSET(DE102_5!$X$104,ROWS($X$104:X132)-1,COLUMNS($X$104:X132)-1)<>\"\",OFFSET(DE102_5!$X$104,ROWS($X$104:X132)-1,COLUMNS($X$104:X132)-1),\"\")","v":""},{"$f":"IF(OFFSET(DE102_5!$Y$104,ROWS($Y$104:Y132)-1,COLUMNS($Y$104:Y132)-1)<>\"\",OFFSET(DE102_5!$Y$104,ROWS($Y$104:Y132)-1,COLUMNS($Y$104:Y132)-1),\"\")","v":""},{"$f":"IF(OFFSET(DE102_5!$Z$104,ROWS($Z$104:Z132)-1,COLUMNS($Z$104:Z132)-1)<>\"\",OFFSET(DE102_5!$Z$104,ROWS($Z$104:Z132)-1,COLUMNS($Z$104:Z132)-1),\"\")","v":""},{"$f":"IF(OFFSET(DE102_5!$AA$104,ROWS($AA$104:AA132)-1,COLUMNS($AA$104:AA132)-1)<>\"\",OFFSET(DE102_5!$AA$104,ROWS($AA$104:AA132)-1,COLUMNS($AA$104:AA132)-1),\"\")","v":"PCC PATCHING"},{"$f":"IF(OFFSET(DE102_5!$AB$104,ROWS($AB$104:AB132)-1,COLUMNS($AB$104:AB132)-1)<>\"\",OFFSET(DE102_5!$AB$104,ROWS($AB$104:AB132)-1,COLUMNS($AB$104:AB132)-1),\"\")","v":""}]
[{"$f":"IF(OFFSET(DE102_5!$C$104,ROWS($C$104:C133)-1,COLUMNS($C$104:C133)-1)<>\"\",OFFSET(DE102_5!$C$104,ROWS($C$104:C133)-1,COLUMNS($C$104:C133)-1),\"\")","v":""},{"$f":"IF(OFFSET(DE102_5!$F$104,ROWS($F$104:F133)-1,COLUMNS($F$104:F133)-1)<>\"\",OFFSET(DE102_5!$F$104,ROWS($F$104:F133)-1,COLUMNS($F$104:F133)-1),\"\")","v":85},{"$f":"IF(OFFSET(DE102_5!$G$104,ROWS($G$104:G133)-1,COLUMNS($G$104:G133)-1)<>\"\",OFFSET(DE102_5!$G$104,ROWS($G$104:G133)-1,COLUMNS($G$104:G133)-1),\"\")","v":"I-35"},{"$f":"IF(OFFSET(DE102_5!$H$104,ROWS($H$104:H133)-1,COLUMNS($H$104:H133)-1)<>\"\",OFFSET(DE102_5!$H$104,ROWS($H$104:H133)-1,COLUMNS($H$104:H133)-1),\"\")","v":2},{"$f":"IF(OFFSET(DE102_5!$I$104,ROWS($I$104:I133)-1,COLUMNS($I$104:I133)-1)<>\"\",OFFSET(DE102_5!$I$104,ROWS($I$104:I133)-1,COLUMNS($I$104:I133)-1),\"\")","v":111.75},{"$f":"IF(OFFSET(DE102_5!$J$104,ROWS($J$104:J133)-1,COLUMNS($J$104:J133)-1)<>\"\",OFFSET(DE102_5!$J$104,ROWS($J$104:J133)-1,COLUMNS($J$104:J133)-1),\"\")","v":126.04},{"$f":"IF(OFFSET(DE102_5!$M$104,ROWS($M$104:M133)-1,COLUMNS($M$104:M133)-1)<>\"\",OFFSET(DE102_5!$M$104,ROWS($M$104:M133)-1,COLUMNS($M$104:M133)-1),\"\")","v":2017},{"$f":"IF(OFFSET(DE102_5!$N$104,ROWS($N$104:N133)-1,COLUMNS($N$104:N133)-1)<>\"\",OFFSET(DE102_5!$N$104,ROWS($N$104:N133)-1,COLUMNS($N$104:N133)-1),\"\")","v":"M"},{"$f":"IF(OFFSET(DE102_5!$O$104,ROWS($O$104:O133)-1,COLUMNS($O$104:O133)-1)<>\"\",OFFSET(DE102_5!$O$104,ROWS($O$104:O133)-1,COLUMNS($O$104:O133)-1),\"\")","v":"IMN-035-4(179)87--0E-77"},{"$f":"IF(OFFSET(DE102_5!$P$104,ROWS($P$104:P133)-1,COLUMNS($P$104:P133)-1)<>\"\",OFFSET(DE102_5!$P$104,ROWS($P$104:P133)-1,COLUMNS($P$104:P133)-1),\"\")","v":"PCC"},{"$f":"IF(OFFSET(DE102_5!$Q$104,ROWS($Q$104:Q133)-1,COLUMNS($Q$104:Q133)-1)<>\"\",OFFSET(DE102_5!$Q$104,ROWS($Q$104:Q133)-1,COLUMNS($Q$104:Q133)-1),\"\")","v":12},{"$f":"IF(OFFSET(DE102_5!$R$104,ROWS($R$104:R133)-1,COLUMNS($R$104:R133)-1)<>\"\",OFFSET(DE102_5!$R$104,ROWS($R$104:R133)-1,COLUMNS($R$104:R133)-1),\"\")","v":""},{"$f":"IF(OFFSET(DE102_5!$S$104,ROWS($S$104:S133)-1,COLUMNS($S$104:S133)-1)<>\"\",OFFSET(DE102_5!$S$104,ROWS($S$104:S133)-1,COLUMNS($S$104:S133)-1),\"\")","v":""},{"$f":"IF(OFFSET(DE102_5!$T$104,ROWS($T$104:T133)-1,COLUMNS($T$104:T133)-1)<>\"\",OFFSET(DE102_5!$T$104,ROWS($T$104:T133)-1,COLUMNS($T$104:T133)-1),\"\")","v":""},{"$f":"IF(OFFSET(DE102_5!$U$104,ROWS($U$104:U133)-1,COLUMNS($U$104:U133)-1)<>\"\",OFFSET(DE102_5!$U$104,ROWS($U$104:U133)-1,COLUMNS($U$104:U133)-1),\"\")","v":""},{"$f":"IF(OFFSET(DE102_5!$V$104,ROWS($V$104:V133)-1,COLUMNS($V$104:V133)-1)<>\"\",OFFSET(DE102_5!$V$104,ROWS($V$104:V133)-1,COLUMNS($V$104:V133)-1),\"\")","v":""},{"$f":"IF(OFFSET(DE102_5!$W$104,ROWS($W$104:W133)-1,COLUMNS($W$104:W133)-1)<>\"\",OFFSET(DE102_5!$W$104,ROWS($W$104:W133)-1,COLUMNS($W$104:W133)-1),\"\")","v":""},{"$f":"IF(OFFSET(DE102_5!$X$104,ROWS($X$104:X133)-1,COLUMNS($X$104:X133)-1)<>\"\",OFFSET(DE102_5!$X$104,ROWS($X$104:X133)-1,COLUMNS($X$104:X133)-1),\"\")","v":""},{"$f":"IF(OFFSET(DE102_5!$Y$104,ROWS($Y$104:Y133)-1,COLUMNS($Y$104:Y133)-1)<>\"\",OFFSET(DE102_5!$Y$104,ROWS($Y$104:Y133)-1,COLUMNS($Y$104:Y133)-1),\"\")","v":""},{"$f":"IF(OFFSET(DE102_5!$Z$104,ROWS($Z$104:Z133)-1,COLUMNS($Z$104:Z133)-1)<>\"\",OFFSET(DE102_5!$Z$104,ROWS($Z$104:Z133)-1,COLUMNS($Z$104:Z133)-1),\"\")","v":""},{"$f":"IF(OFFSET(DE102_5!$AA$104,ROWS($AA$104:AA133)-1,COLUMNS($AA$104:AA133)-1)<>\"\",OFFSET(DE102_5!$AA$104,ROWS($AA$104:AA133)-1,COLUMNS($AA$104:AA133)-1),\"\")","v":"PCC PATCHING"},{"$f":"IF(OFFSET(DE102_5!$AB$104,ROWS($AB$104:AB133)-1,COLUMNS($AB$104:AB133)-1)<>\"\",OFFSET(DE102_5!$AB$104,ROWS($AB$104:AB133)-1,COLUMNS($AB$104:AB133)-1),\"\")","v":""}]
[{"$f":"IF(OFFSET(DE102_5!$C$104,ROWS($C$104:C134)-1,COLUMNS($C$104:C134)-1)<>\"\",OFFSET(DE102_5!$C$104,ROWS($C$104:C134)-1,COLUMNS($C$104:C134)-1),\"\")","v":""},{"$f":"IF(OFFSET(DE102_5!$F$104,ROWS($F$104:F134)-1,COLUMNS($F$104:F134)-1)<>\"\",OFFSET(DE102_5!$F$104,ROWS($F$104:F134)-1,COLUMNS($F$104:F134)-1),\"\")","v":85},{"$f":"IF(OFFSET(DE102_5!$G$104,ROWS($G$104:G134)-1,COLUMNS($G$104:G134)-1)<>\"\",OFFSET(DE102_5!$G$104,ROWS($G$104:G134)-1,COLUMNS($G$104:G134)-1),\"\")","v":"I-35"},{"$f":"IF(OFFSET(DE102_5!$H$104,ROWS($H$104:H134)-1,COLUMNS($H$104:H134)-1)<>\"\",OFFSET(DE102_5!$H$104,ROWS($H$104:H134)-1,COLUMNS($H$104:H134)-1),\"\")","v":2},{"$f":"IF(OFFSET(DE102_5!$I$104,ROWS($I$104:I134)-1,COLUMNS($I$104:I134)-1)<>\"\",OFFSET(DE102_5!$I$104,ROWS($I$104:I134)-1,COLUMNS($I$104:I134)-1),\"\")","v":111.75},{"$f":"IF(OFFSET(DE102_5!$J$104,ROWS($J$104:J134)-1,COLUMNS($J$104:J134)-1)<>\"\",OFFSET(DE102_5!$J$104,ROWS($J$104:J134)-1,COLUMNS($J$104:J134)-1),\"\")","v":126.04},{"$f":"IF(OFFSET(DE102_5!$M$104,ROWS($M$104:M134)-1,COLUMNS($M$104:M134)-1)<>\"\",OFFSET(DE102_5!$M$104,ROWS($M$104:M134)-1,COLUMNS($M$104:M134)-1),\"\")","v":1999},{"$f":"IF(OFFSET(DE102_5!$N$104,ROWS($N$104:N134)-1,COLUMNS($N$104:N134)-1)<>\"\",OFFSET(DE102_5!$N$104,ROWS($N$104:N134)-1,COLUMNS($N$104:N134)-1),\"\")","v":""},{"$f":"IF(OFFSET(DE102_5!$O$104,ROWS($O$104:O134)-1,COLUMNS($O$104:O134)-1)<>\"\",OFFSET(DE102_5!$O$104,ROWS($O$104:O134)-1,COLUMNS($O$104:O134)-1),\"\")","v":"IM-35-5(71)111-13-85"},{"$f":"IF(OFFSET(DE102_5!$P$104,ROWS($P$104:P134)-1,COLUMNS($P$104:P134)-1)<>\"\",OFFSET(DE102_5!$P$104,ROWS($P$104:P134)-1,COLUMNS($P$104:P134)-1),\"\")","v":"PCC"},{"$f":"IF(OFFSET(DE102_5!$Q$104,ROWS($Q$104:Q134)-1,COLUMNS($Q$104:Q134)-1)<>\"\",OFFSET(DE102_5!$Q$104,ROWS($Q$104:Q134)-1,COLUMNS($Q$104:Q134)-1),\"\")","v":12},{"$f":"IF(OFFSET(DE102_5!$R$104,ROWS($R$104:R134)-1,COLUMNS($R$104:R134)-1)<>\"\",OFFSET(DE102_5!$R$104,ROWS($R$104:R134)-1,COLUMNS($R$104:R134)-1),\"\")","v":"GSB"},{"$f":"IF(OFFSET(DE102_5!$S$104,ROWS($S$104:S134)-1,COLUMNS($S$104:S134)-1)<>\"\",OFFSET(DE102_5!$S$104,ROWS($S$104:S134)-1,COLUMNS($S$104:S134)-1),\"\")","v":10.5},{"$f":"IF(OFFSET(DE102_5!$T$104,ROWS($T$104:T134)-1,COLUMNS($T$104:T134)-1)<>\"\",OFFSET(DE102_5!$T$104,ROWS($T$104:T134)-1,COLUMNS($T$104:T134)-1),\"\")","v":""},{"$f":"IF(OFFSET(DE102_5!$U$104,ROWS($U$104:U134)-1,COLUMNS($U$104:U134)-1)<>\"\",OFFSET(DE102_5!$U$104,ROWS($U$104:U134)-1,COLUMNS($U$104:U134)-1),\"\")","v":""},{"$f":"IF(OFFSET(DE102_5!$V$104,ROWS($V$104:V134)-1,COLUMNS($V$104:V134)-1)<>\"\",OFFSET(DE102_5!$V$104,ROWS($V$104:V134)-1,COLUMNS($V$104:V134)-1),\"\")","v":""},{"$f":"IF(OFFSET(DE102_5!$W$104,ROWS($W$104:W134)-1,COLUMNS($W$104:W134)-1)<>\"\",OFFSET(DE102_5!$W$104,ROWS($W$104:W134)-1,COLUMNS($W$104:W134)-1),\"\")","v":""},{"$f":"IF(OFFSET(DE102_5!$X$104,ROWS($X$104:X134)-1,COLUMNS($X$104:X134)-1)<>\"\",OFFSET(DE102_5!$X$104,ROWS($X$104:X134)-1,COLUMNS($X$104:X134)-1),\"\")","v":"ALDEN"},{"$f":"IF(OFFSET(DE102_5!$Y$104,ROWS($Y$104:Y134)-1,COLUMNS($Y$104:Y134)-1)<>\"\",OFFSET(DE102_5!$Y$104,ROWS($Y$104:Y134)-1,COLUMNS($Y$104:Y134)-1),\"\")","v":"C.LST."},{"$f":"IF(OFFSET(DE102_5!$Z$104,ROWS($Z$104:Z134)-1,COLUMNS($Z$104:Z134)-1)<>\"\",OFFSET(DE102_5!$Z$104,ROWS($Z$104:Z134)-1,COLUMNS($Z$104:Z134)-1),\"\")","v":"I"},{"$f":"IF(OFFSET(DE102_5!$AA$104,ROWS($AA$104:AA134)-1,COLUMNS($AA$104:AA134)-1)<>\"\",OFFSET(DE102_5!$AA$104,ROWS($AA$104:AA134)-1,COLUMNS($AA$104:AA134)-1),\"\")","v":""},{"$f":"IF(OFFSET(DE102_5!$AB$104,ROWS($AB$104:AB134)-1,COLUMNS($AB$104:AB134)-1)<>\"\",OFFSET(DE102_5!$AB$104,ROWS($AB$104:AB134)-1,COLUMNS($AB$104:AB134)-1),\"\")","v":""}]
[{"$f":"IF(OFFSET(DE102_5!$C$104,ROWS($C$104:C135)-1,COLUMNS($C$104:C135)-1)<>\"\",OFFSET(DE102_5!$C$104,ROWS($C$104:C135)-1,COLUMNS($C$104:C135)-1),\"\")","v":""},{"$f":"IF(OFFSET(DE102_5!$F$104,ROWS($F$104:F135)-1,COLUMNS($F$104:F135)-1)<>\"\",OFFSET(DE102_5!$F$104,ROWS($F$104:F135)-1,COLUMNS($F$104:F135)-1),\"\")","v":""},{"$f":"IF(OFFSET(DE102_5!$G$104,ROWS($G$104:G135)-1,COLUMNS($G$104:G135)-1)<>\"\",OFFSET(DE102_5!$G$104,ROWS($G$104:G135)-1,COLUMNS($G$104:G135)-1),\"\")","v":""},{"$f":"IF(OFFSET(DE102_5!$H$104,ROWS($H$104:H135)-1,COLUMNS($H$104:H135)-1)<>\"\",OFFSET(DE102_5!$H$104,ROWS($H$104:H135)-1,COLUMNS($H$104:H135)-1),\"\")","v":""},{"$f":"IF(OFFSET(DE102_5!$I$104,ROWS($I$104:I135)-1,COLUMNS($I$104:I135)-1)<>\"\",OFFSET(DE102_5!$I$104,ROWS($I$104:I135)-1,COLUMNS($I$104:I135)-1),\"\")","v":""},{"$f":"IF(OFFSET(DE102_5!$J$104,ROWS($J$104:J135)-1,COLUMNS($J$104:J135)-1)<>\"\",OFFSET(DE102_5!$J$104,ROWS($J$104:J135)-1,COLUMNS($J$104:J135)-1),\"\")","v":""},{"$f":"IF(OFFSET(DE102_5!$M$104,ROWS($M$104:M135)-1,COLUMNS($M$104:M135)-1)<>\"\",OFFSET(DE102_5!$M$104,ROWS($M$104:M135)-1,COLUMNS($M$104:M135)-1),\"\")","v":""},{"$f":"IF(OFFSET(DE102_5!$N$104,ROWS($N$104:N135)-1,COLUMNS($N$104:N135)-1)<>\"\",OFFSET(DE102_5!$N$104,ROWS($N$104:N135)-1,COLUMNS($N$104:N135)-1),\"\")","v":""},{"$f":"IF(OFFSET(DE102_5!$O$104,ROWS($O$104:O135)-1,COLUMNS($O$104:O135)-1)<>\"\",OFFSET(DE102_5!$O$104,ROWS($O$104:O135)-1,COLUMNS($O$104:O135)-1),\"\")","v":""},{"$f":"IF(OFFSET(DE102_5!$P$104,ROWS($P$104:P135)-1,COLUMNS($P$104:P135)-1)<>\"\",OFFSET(DE102_5!$P$104,ROWS($P$104:P135)-1,COLUMNS($P$104:P135)-1),\"\")","v":""},{"$f":"IF(OFFSET(DE102_5!$Q$104,ROWS($Q$104:Q135)-1,COLUMNS($Q$104:Q135)-1)<>\"\",OFFSET(DE102_5!$Q$104,ROWS($Q$104:Q135)-1,COLUMNS($Q$104:Q135)-1),\"\")","v":""},{"$f":"IF(OFFSET(DE102_5!$R$104,ROWS($R$104:R135)-1,COLUMNS($R$104:R135)-1)<>\"\",OFFSET(DE102_5!$R$104,ROWS($R$104:R135)-1,COLUMNS($R$104:R135)-1),\"\")","v":""},{"$f":"IF(OFFSET(DE102_5!$S$104,ROWS($S$104:S135)-1,COLUMNS($S$104:S135)-1)<>\"\",OFFSET(DE102_5!$S$104,ROWS($S$104:S135)-1,COLUMNS($S$104:S135)-1),\"\")","v":""},{"$f":"IF(OFFSET(DE102_5!$T$104,ROWS($T$104:T135)-1,COLUMNS($T$104:T135)-1)<>\"\",OFFSET(DE102_5!$T$104,ROWS($T$104:T135)-1,COLUMNS($T$104:T135)-1),\"\")","v":""},{"$f":"IF(OFFSET(DE102_5!$U$104,ROWS($U$104:U135)-1,COLUMNS($U$104:U135)-1)<>\"\",OFFSET(DE102_5!$U$104,ROWS($U$104:U135)-1,COLUMNS($U$104:U135)-1),\"\")","v":""},{"$f":"IF(OFFSET(DE102_5!$V$104,ROWS($V$104:V135)-1,COLUMNS($V$104:V135)-1)<>\"\",OFFSET(DE102_5!$V$104,ROWS($V$104:V135)-1,COLUMNS($V$104:V135)-1),\"\")","v":""},{"$f":"IF(OFFSET(DE102_5!$W$104,ROWS($W$104:W135)-1,COLUMNS($W$104:W135)-1)<>\"\",OFFSET(DE102_5!$W$104,ROWS($W$104:W135)-1,COLUMNS($W$104:W135)-1),\"\")","v":""},{"$f":"IF(OFFSET(DE102_5!$X$104,ROWS($X$104:X135)-1,COLUMNS($X$104:X135)-1)<>\"\",OFFSET(DE102_5!$X$104,ROWS($X$104:X135)-1,COLUMNS($X$104:X135)-1),\"\")","v":""},{"$f":"IF(OFFSET(DE102_5!$Y$104,ROWS($Y$104:Y135)-1,COLUMNS($Y$104:Y135)-1)<>\"\",OFFSET(DE102_5!$Y$104,ROWS($Y$104:Y135)-1,COLUMNS($Y$104:Y135)-1),\"\")","v":""},{"$f":"IF(OFFSET(DE102_5!$Z$104,ROWS($Z$104:Z135)-1,COLUMNS($Z$104:Z135)-1)<>\"\",OFFSET(DE102_5!$Z$104,ROWS($Z$104:Z135)-1,COLUMNS($Z$104:Z135)-1),\"\")","v":""},{"$f":"IF(OFFSET(DE102_5!$AA$104,ROWS($AA$104:AA135)-1,COLUMNS($AA$104:AA135)-1)<>\"\",OFFSET(DE102_5!$AA$104,ROWS($AA$104:AA135)-1,COLUMNS($AA$104:AA135)-1),\"\")","v":""},{"$f":"IF(OFFSET(DE102_5!$AB$104,ROWS($AB$104:AB135)-1,COLUMNS($AB$104:AB135)-1)<>\"\",OFFSET(DE102_5!$AB$104,ROWS($AB$104:AB135)-1,COLUMNS($AB$104:AB135)-1),\"\")","v":""}]
[{"$f":"IF(OFFSET(DE102_5!$C$104,ROWS($C$104:C136)-1,COLUMNS($C$104:C136)-1)<>\"\",OFFSET(DE102_5!$C$104,ROWS($C$104:C136)-1,COLUMNS($C$104:C136)-1),\"\")","v":""},{"$f":"IF(OFFSET(DE102_5!$F$104,ROWS($F$104:F136)-1,COLUMNS($F$104:F136)-1)<>\"\",OFFSET(DE102_5!$F$104,ROWS($F$104:F136)-1,COLUMNS($F$104:F136)-1),\"\")","v":""},{"$f":"IF(OFFSET(DE102_5!$G$104,ROWS($G$104:G136)-1,COLUMNS($G$104:G136)-1)<>\"\",OFFSET(DE102_5!$G$104,ROWS($G$104:G136)-1,COLUMNS($G$104:G136)-1),\"\")","v":""},{"$f":"IF(OFFSET(DE102_5!$H$104,ROWS($H$104:H136)-1,COLUMNS($H$104:H136)-1)<>\"\",OFFSET(DE102_5!$H$104,ROWS($H$104:H136)-1,COLUMNS($H$104:H136)-1),\"\")","v":""},{"$f":"IF(OFFSET(DE102_5!$I$104,ROWS($I$104:I136)-1,COLUMNS($I$104:I136)-1)<>\"\",OFFSET(DE102_5!$I$104,ROWS($I$104:I136)-1,COLUMNS($I$104:I136)-1),\"\")","v":""},{"$f":"IF(OFFSET(DE102_5!$J$104,ROWS($J$104:J136)-1,COLUMNS($J$104:J136)-1)<>\"\",OFFSET(DE102_5!$J$104,ROWS($J$104:J136)-1,COLUMNS($J$104:J136)-1),\"\")","v":""},{"$f":"IF(OFFSET(DE102_5!$M$104,ROWS($M$104:M136)-1,COLUMNS($M$104:M136)-1)<>\"\",OFFSET(DE102_5!$M$104,ROWS($M$104:M136)-1,COLUMNS($M$104:M136)-1),\"\")","v":""},{"$f":"IF(OFFSET(DE102_5!$N$104,ROWS($N$104:N136)-1,COLUMNS($N$104:N136)-1)<>\"\",OFFSET(DE102_5!$N$104,ROWS($N$104:N136)-1,COLUMNS($N$104:N136)-1),\"\")","v":""},{"$f":"IF(OFFSET(DE102_5!$O$104,ROWS($O$104:O136)-1,COLUMNS($O$104:O136)-1)<>\"\",OFFSET(DE102_5!$O$104,ROWS($O$104:O136)-1,COLUMNS($O$104:O136)-1),\"\")","v":""},{"$f":"IF(OFFSET(DE102_5!$P$104,ROWS($P$104:P136)-1,COLUMNS($P$104:P136)-1)<>\"\",OFFSET(DE102_5!$P$104,ROWS($P$104:P136)-1,COLUMNS($P$104:P136)-1),\"\")","v":""},{"$f":"IF(OFFSET(DE102_5!$Q$104,ROWS($Q$104:Q136)-1,COLUMNS($Q$104:Q136)-1)<>\"\",OFFSET(DE102_5!$Q$104,ROWS($Q$104:Q136)-1,COLUMNS($Q$104:Q136)-1),\"\")","v":""},{"$f":"IF(OFFSET(DE102_5!$R$104,ROWS($R$104:R136)-1,COLUMNS($R$104:R136)-1)<>\"\",OFFSET(DE102_5!$R$104,ROWS($R$104:R136)-1,COLUMNS($R$104:R136)-1),\"\")","v":""},{"$f":"IF(OFFSET(DE102_5!$S$104,ROWS($S$104:S136)-1,COLUMNS($S$104:S136)-1)<>\"\",OFFSET(DE102_5!$S$104,ROWS($S$104:S136)-1,COLUMNS($S$104:S136)-1),\"\")","v":""},{"$f":"IF(OFFSET(DE102_5!$T$104,ROWS($T$104:T136)-1,COLUMNS($T$104:T136)-1)<>\"\",OFFSET(DE102_5!$T$104,ROWS($T$104:T136)-1,COLUMNS($T$104:T136)-1),\"\")","v":""},{"$f":"IF(OFFSET(DE102_5!$U$104,ROWS($U$104:U136)-1,COLUMNS($U$104:U136)-1)<>\"\",OFFSET(DE102_5!$U$104,ROWS($U$104:U136)-1,COLUMNS($U$104:U136)-1),\"\")","v":""},{"$f":"IF(OFFSET(DE102_5!$V$104,ROWS($V$104:V136)-1,COLUMNS($V$104:V136)-1)<>\"\",OFFSET(DE102_5!$V$104,ROWS($V$104:V136)-1,COLUMNS($V$104:V136)-1),\"\")","v":""},{"$f":"IF(OFFSET(DE102_5!$W$104,ROWS($W$104:W136)-1,COLUMNS($W$104:W136)-1)<>\"\",OFFSET(DE102_5!$W$104,ROWS($W$104:W136)-1,COLUMNS($W$104:W136)-1),\"\")","v":""},{"$f":"IF(OFFSET(DE102_5!$X$104,ROWS($X$104:X136)-1,COLUMNS($X$104:X136)-1)<>\"\",OFFSET(DE102_5!$X$104,ROWS($X$104:X136)-1,COLUMNS($X$104:X136)-1),\"\")","v":""},{"$f":"IF(OFFSET(DE102_5!$Y$104,ROWS($Y$104:Y136)-1,COLUMNS($Y$104:Y136)-1)<>\"\",OFFSET(DE102_5!$Y$104,ROWS($Y$104:Y136)-1,COLUMNS($Y$104:Y136)-1),\"\")","v":""},{"$f":"IF(OFFSET(DE102_5!$Z$104,ROWS($Z$104:Z136)-1,COLUMNS($Z$104:Z136)-1)<>\"\",OFFSET(DE102_5!$Z$104,ROWS($Z$104:Z136)-1,COLUMNS($Z$104:Z136)-1),\"\")","v":""},{"$f":"IF(OFFSET(DE102_5!$AA$104,ROWS($AA$104:AA136)-1,COLUMNS($AA$104:AA136)-1)<>\"\",OFFSET(DE102_5!$AA$104,ROWS($AA$104:AA136)-1,COLUMNS($AA$104:AA136)-1),\"\")","v":""},{"$f":"IF(OFFSET(DE102_5!$AB$104,ROWS($AB$104:AB136)-1,COLUMNS($AB$104:AB136)-1)<>\"\",OFFSET(DE102_5!$AB$104,ROWS($AB$104:AB136)-1,COLUMNS($AB$104:AB136)-1),\"\")","v":""}]
[{"$f":"IF(OFFSET(DE102_5!$C$104,ROWS($C$104:C137)-1,COLUMNS($C$104:C137)-1)<>\"\",OFFSET(DE102_5!$C$104,ROWS($C$104:C137)-1,COLUMNS($C$104:C137)-1),\"\")","v":""},{"$f":"IF(OFFSET(DE102_5!$F$104,ROWS($F$104:F137)-1,COLUMNS($F$104:F137)-1)<>\"\",OFFSET(DE102_5!$F$104,ROWS($F$104:F137)-1,COLUMNS($F$104:F137)-1),\"\")","v":""},{"$f":"IF(OFFSET(DE102_5!$G$104,ROWS($G$104:G137)-1,COLUMNS($G$104:G137)-1)<>\"\",OFFSET(DE102_5!$G$104,ROWS($G$104:G137)-1,COLUMNS($G$104:G137)-1),\"\")","v":""},{"$f":"IF(OFFSET(DE102_5!$H$104,ROWS($H$104:H137)-1,COLUMNS($H$104:H137)-1)<>\"\",OFFSET(DE102_5!$H$104,ROWS($H$104:H137)-1,COLUMNS($H$104:H137)-1),\"\")","v":""},{"$f":"IF(OFFSET(DE102_5!$I$104,ROWS($I$104:I137)-1,COLUMNS($I$104:I137)-1)<>\"\",OFFSET(DE102_5!$I$104,ROWS($I$104:I137)-1,COLUMNS($I$104:I137)-1),\"\")","v":""},{"$f":"IF(OFFSET(DE102_5!$J$104,ROWS($J$104:J137)-1,COLUMNS($J$104:J137)-1)<>\"\",OFFSET(DE102_5!$J$104,ROWS($J$104:J137)-1,COLUMNS($J$104:J137)-1),\"\")","v":""},{"$f":"IF(OFFSET(DE102_5!$M$104,ROWS($M$104:M137)-1,COLUMNS($M$104:M137)-1)<>\"\",OFFSET(DE102_5!$M$104,ROWS($M$104:M137)-1,COLUMNS($M$104:M137)-1),\"\")","v":""},{"$f":"IF(OFFSET(DE102_5!$N$104,ROWS($N$104:N137)-1,COLUMNS($N$104:N137)-1)<>\"\",OFFSET(DE102_5!$N$104,ROWS($N$104:N137)-1,COLUMNS($N$104:N137)-1),\"\")","v":""},{"$f":"IF(OFFSET(DE102_5!$O$104,ROWS($O$104:O137)-1,COLUMNS($O$104:O137)-1)<>\"\",OFFSET(DE102_5!$O$104,ROWS($O$104:O137)-1,COLUMNS($O$104:O137)-1),\"\")","v":""},{"$f":"IF(OFFSET(DE102_5!$P$104,ROWS($P$104:P137)-1,COLUMNS($P$104:P137)-1)<>\"\",OFFSET(DE102_5!$P$104,ROWS($P$104:P137)-1,COLUMNS($P$104:P137)-1),\"\")","v":""},{"$f":"IF(OFFSET(DE102_5!$Q$104,ROWS($Q$104:Q137)-1,COLUMNS($Q$104:Q137)-1)<>\"\",OFFSET(DE102_5!$Q$104,ROWS($Q$104:Q137)-1,COLUMNS($Q$104:Q137)-1),\"\")","v":""},{"$f":"IF(OFFSET(DE102_5!$R$104,ROWS($R$104:R137)-1,COLUMNS($R$104:R137)-1)<>\"\",OFFSET(DE102_5!$R$104,ROWS($R$104:R137)-1,COLUMNS($R$104:R137)-1),\"\")","v":""},{"$f":"IF(OFFSET(DE102_5!$S$104,ROWS($S$104:S137)-1,COLUMNS($S$104:S137)-1)<>\"\",OFFSET(DE102_5!$S$104,ROWS($S$104:S137)-1,COLUMNS($S$104:S137)-1),\"\")","v":""},{"$f":"IF(OFFSET(DE102_5!$T$104,ROWS($T$104:T137)-1,COLUMNS($T$104:T137)-1)<>\"\",OFFSET(DE102_5!$T$104,ROWS($T$104:T137)-1,COLUMNS($T$104:T137)-1),\"\")","v":""},{"$f":"IF(OFFSET(DE102_5!$U$104,ROWS($U$104:U137)-1,COLUMNS($U$104:U137)-1)<>\"\",OFFSET(DE102_5!$U$104,ROWS($U$104:U137)-1,COLUMNS($U$104:U137)-1),\"\")","v":""},{"$f":"IF(OFFSET(DE102_5!$V$104,ROWS($V$104:V137)-1,COLUMNS($V$104:V137)-1)<>\"\",OFFSET(DE102_5!$V$104,ROWS($V$104:V137)-1,COLUMNS($V$104:V137)-1),\"\")","v":""},{"$f":"IF(OFFSET(DE102_5!$W$104,ROWS($W$104:W137)-1,COLUMNS($W$104:W137)-1)<>\"\",OFFSET(DE102_5!$W$104,ROWS($W$104:W137)-1,COLUMNS($W$104:W137)-1),\"\")","v":""},{"$f":"IF(OFFSET(DE102_5!$X$104,ROWS($X$104:X137)-1,COLUMNS($X$104:X137)-1)<>\"\",OFFSET(DE102_5!$X$104,ROWS($X$104:X137)-1,COLUMNS($X$104:X137)-1),\"\")","v":""},{"$f":"IF(OFFSET(DE102_5!$Y$104,ROWS($Y$104:Y137)-1,COLUMNS($Y$104:Y137)-1)<>\"\",OFFSET(DE102_5!$Y$104,ROWS($Y$104:Y137)-1,COLUMNS($Y$104:Y137)-1),\"\")","v":""},{"$f":"IF(OFFSET(DE102_5!$Z$104,ROWS($Z$104:Z137)-1,COLUMNS($Z$104:Z137)-1)<>\"\",OFFSET(DE102_5!$Z$104,ROWS($Z$104:Z137)-1,COLUMNS($Z$104:Z137)-1),\"\")","v":""},{"$f":"IF(OFFSET(DE102_5!$AA$104,ROWS($AA$104:AA137)-1,COLUMNS($AA$104:AA137)-1)<>\"\",OFFSET(DE102_5!$AA$104,ROWS($AA$104:AA137)-1,COLUMNS($AA$104:AA137)-1),\"\")","v":""},{"$f":"IF(OFFSET(DE102_5!$AB$104,ROWS($AB$104:AB137)-1,COLUMNS($AB$104:AB137)-1)<>\"\",OFFSET(DE102_5!$AB$104,ROWS($AB$104:AB137)-1,COLUMNS($AB$104:AB137)-1),\"\")","v":""}]
[{"$f":"IF(OFFSET(DE102_5!$C$104,ROWS($C$104:C138)-1,COLUMNS($C$104:C138)-1)<>\"\",OFFSET(DE102_5!$C$104,ROWS($C$104:C138)-1,COLUMNS($C$104:C138)-1),\"\")","v":""},{"$f":"IF(OFFSET(DE102_5!$F$104,ROWS($F$104:F138)-1,COLUMNS($F$104:F138)-1)<>\"\",OFFSET(DE102_5!$F$104,ROWS($F$104:F138)-1,COLUMNS($F$104:F138)-1),\"\")","v":85},{"$f":"IF(OFFSET(DE102_5!$G$104,ROWS($G$104:G138)-1,COLUMNS($G$104:G138)-1)<>\"\",OFFSET(DE102_5!$G$104,ROWS($G$104:G138)-1,COLUMNS($G$104:G138)-1),\"\")","v":"IA-210"},{"$f":"IF(OFFSET(DE102_5!$H$104,ROWS($H$104:H138)-1,COLUMNS($H$104:H138)-1)<>\"\",OFFSET(DE102_5!$H$104,ROWS($H$104:H138)-1,COLUMNS($H$104:H138)-1),\"\")","v":1},{"$f":"IF(OFFSET(DE102_5!$I$104,ROWS($I$104:I138)-1,COLUMNS($I$104:I138)-1)<>\"\",OFFSET(DE102_5!$I$104,ROWS($I$104:I138)-1,COLUMNS($I$104:I138)-1),\"\")","v":14.82},{"$f":"IF(OFFSET(DE102_5!$J$104,ROWS($J$104:J138)-1,COLUMNS($J$104:J138)-1)<>\"\",OFFSET(DE102_5!$J$104,ROWS($J$104:J138)-1,COLUMNS($J$104:J138)-1),\"\")","v":20.260000000000002},{"$f":"IF(OFFSET(DE102_5!$M$104,ROWS($M$104:M138)-1,COLUMNS($M$104:M138)-1)<>\"\",OFFSET(DE102_5!$M$104,ROWS($M$104:M138)-1,COLUMNS($M$104:M138)-1),\"\")","v":2007},{"$f":"IF(OFFSET(DE102_5!$N$104,ROWS($N$104:N138)-1,COLUMNS($N$104:N138)-1)<>\"\",OFFSET(DE102_5!$N$104,ROWS($N$104:N138)-1,COLUMNS($N$104:N138)-1),\"\")","v":""},{"$f":"IF(OFFSET(DE102_5!$O$104,ROWS($O$104:O138)-1,COLUMNS($O$104:O138)-1)<>\"\",OFFSET(DE102_5!$O$104,ROWS($O$104:O138)-1,COLUMNS($O$104:O138)-1),\"\")","v":"STPN-210-2(5)--2J-08"},{"$f":"IF(OFFSET(DE102_5!$P$104,ROWS($P$104:P138)-1,COLUMNS($P$104:P138)-1)<>\"\",OFFSET(DE102_5!$P$104,ROWS($P$104:P138)-1,COLUMNS($P$104:P138)-1),\"\")","v":"HMA"},{"$f":"IF(OFFSET(DE102_5!$Q$104,ROWS($Q$104:Q138)-1,COLUMNS($Q$104:Q138)-1)<>\"\",OFFSET(DE102_5!$Q$104,ROWS($Q$104:Q138)-1,COLUMNS($Q$104:Q138)-1),\"\")","v":1.5},{"$f":"IF(OFFSET(DE102_5!$R$104,ROWS($R$104:R138)-1,COLUMNS($R$104:R138)-1)<>\"\",OFFSET(DE102_5!$R$104,ROWS($R$104:R138)-1,COLUMNS($R$104:R138)-1),\"\")","v":"HMA"},{"$f":"IF(OFFSET(DE102_5!$S$104,ROWS($S$104:S138)-1,COLUMNS($S$104:S138)-1)<>\"\",OFFSET(DE102_5!$S$104,ROWS($S$104:S138)-1,COLUMNS($S$104:S138)-1),\"\")","v":1.5},{"$f":"IF(OFFSET(DE102_5!$T$104,ROWS($T$104:T138)-1,COLUMNS($T$104:T138)-1)<>\"\",OFFSET(DE102_5!$T$104,ROWS($T$104:T138)-1,COLUMNS($T$104:T138)-1),\"\")","v":"CIP"},{"$f":"IF(OFFSET(DE102_5!$U$104,ROWS($U$104:U138)-1,COLUMNS($U$104:U138)-1)<>\"\",OFFSET(DE102_5!$U$104,ROWS($U$104:U138)-1,COLUMNS($U$104:U138)-1),\"\")","v":4},{"$f":"IF(OFFSET(DE102_5!$V$104,ROWS($V$104:V138)-1,COLUMNS($V$104:V138)-1)<>\"\",OFFSET(DE102_5!$V$104,ROWS($V$104:V138)-1,COLUMNS($V$104:V138)-1),\"\")","v":"MIL"},{"$f":"IF(OFFSET(DE102_5!$W$104,ROWS($W$104:W138)-1,COLUMNS($W$104:W138)-1)<>\"\",OFFSET(DE102_5!$W$104,ROWS($W$104:W138)-1,COLUMNS($W$104:W138)-1),\"\")","v":4},{"$f":"IF(OFFSET(DE102_5!$X$104,ROWS($X$104:X138)-1,COLUMNS($X$104:X138)-1)<>\"\",OFFSET(DE102_5!$X$104,ROWS($X$104:X138)-1,COLUMNS($X$104:X138)-1),\"\")","v":"AMES MINE"},{"$f":"IF(OFFSET(DE102_5!$Y$104,ROWS($Y$104:Y138)-1,COLUMNS($Y$104:Y138)-1)<>\"\",OFFSET(DE102_5!$Y$104,ROWS($Y$104:Y138)-1,COLUMNS($Y$104:Y138)-1),\"\")","v":"C.LST."},{"$f":"IF(OFFSET(DE102_5!$Z$104,ROWS($Z$104:Z138)-1,COLUMNS($Z$104:Z138)-1)<>\"\",OFFSET(DE102_5!$Z$104,ROWS($Z$104:Z138)-1,COLUMNS($Z$104:Z138)-1),\"\")","v":""},{"$f":"IF(OFFSET(DE102_5!$AA$104,ROWS($AA$104:AA138)-1,COLUMNS($AA$104:AA138)-1)<>\"\",OFFSET(DE102_5!$AA$104,ROWS($AA$104:AA138)-1,COLUMNS($AA$104:AA138)-1),\"\")","v":""},{"$f":"IF(OFFSET(DE102_5!$AB$104,ROWS($AB$104:AB138)-1,COLUMNS($AB$104:AB138)-1)<>\"\",OFFSET(DE102_5!$AB$104,ROWS($AB$104:AB138)-1,COLUMNS($AB$104:AB138)-1),\"\")","v":""}]
[{"$f":"IF(OFFSET(DE102_5!$C$104,ROWS($C$104:C139)-1,COLUMNS($C$104:C139)-1)<>\"\",OFFSET(DE102_5!$C$104,ROWS($C$104:C139)-1,COLUMNS($C$104:C139)-1),\"\")","v":""},{"$f":"IF(OFFSET(DE102_5!$F$104,ROWS($F$104:F139)-1,COLUMNS($F$104:F139)-1)<>\"\",OFFSET(DE102_5!$F$104,ROWS($F$104:F139)-1,COLUMNS($F$104:F139)-1),\"\")","v":85},{"$f":"IF(OFFSET(DE102_5!$G$104,ROWS($G$104:G139)-1,COLUMNS($G$104:G139)-1)<>\"\",OFFSET(DE102_5!$G$104,ROWS($G$104:G139)-1,COLUMNS($G$104:G139)-1),\"\")","v":"IA-210"},{"$f":"IF(OFFSET(DE102_5!$H$104,ROWS($H$104:H139)-1,COLUMNS($H$104:H139)-1)<>\"\",OFFSET(DE102_5!$H$104,ROWS($H$104:H139)-1,COLUMNS($H$104:H139)-1),\"\")","v":1},{"$f":"IF(OFFSET(DE102_5!$I$104,ROWS($I$104:I139)-1,COLUMNS($I$104:I139)-1)<>\"\",OFFSET(DE102_5!$I$104,ROWS($I$104:I139)-1,COLUMNS($I$104:I139)-1),\"\")","v":14.82},{"$f":"IF(OFFSET(DE102_5!$J$104,ROWS($J$104:J139)-1,COLUMNS($J$104:J139)-1)<>\"\",OFFSET(DE102_5!$J$104,ROWS($J$104:J139)-1,COLUMNS($J$104:J139)-1),\"\")","v":20.260000000000002},{"$f":"IF(OFFSET(DE102_5!$M$104,ROWS($M$104:M139)-1,COLUMNS($M$104:M139)-1)<>\"\",OFFSET(DE102_5!$M$104,ROWS($M$104:M139)-1,COLUMNS($M$104:M139)-1),\"\")","v":2007},{"$f":"IF(OFFSET(DE102_5!$N$104,ROWS($N$104:N139)-1,COLUMNS($N$104:N139)-1)<>\"\",OFFSET(DE102_5!$N$104,ROWS($N$104:N139)-1,COLUMNS($N$104:N139)-1),\"\")","v":"W"},{"$f":"IF(OFFSET(DE102_5!$O$104,ROWS($O$104:O139)-1,COLUMNS($O$104:O139)-1)<>\"\",OFFSET(DE102_5!$O$104,ROWS($O$104:O139)-1,COLUMNS($O$104:O139)-1),\"\")","v":"STPN-210-2(5)--2J-08"},{"$f":"IF(OFFSET(DE102_5!$P$104,ROWS($P$104:P139)-1,COLUMNS($P$104:P139)-1)<>\"\",OFFSET(DE102_5!$P$104,ROWS($P$104:P139)-1,COLUMNS($P$104:P139)-1),\"\")","v":"HMA"},{"$f":"IF(OFFSET(DE102_5!$Q$104,ROWS($Q$104:Q139)-1,COLUMNS($Q$104:Q139)-1)<>\"\",OFFSET(DE102_5!$Q$104,ROWS($Q$104:Q139)-1,COLUMNS($Q$104:Q139)-1),\"\")","v":1.5},{"$f":"IF(OFFSET(DE102_5!$R$104,ROWS($R$104:R139)-1,COLUMNS($R$104:R139)-1)<>\"\",OFFSET(DE102_5!$R$104,ROWS($R$104:R139)-1,COLUMNS($R$104:R139)-1),\"\")","v":"HMA"},{"$f":"IF(OFFSET(DE102_5!$S$104,ROWS($S$104:S139)-1,COLUMNS($S$104:S139)-1)<>\"\",OFFSET(DE102_5!$S$104,ROWS($S$104:S139)-1,COLUMNS($S$104:S139)-1),\"\")","v":1.5},{"$f":"IF(OFFSET(DE102_5!$T$104,ROWS($T$104:T139)-1,COLUMNS($T$104:T139)-1)<>\"\",OFFSET(DE102_5!$T$104,ROWS($T$104:T139)-1,COLUMNS($T$104:T139)-1),\"\")","v":"HMA"},{"$f":"IF(OFFSET(DE102_5!$U$104,ROWS($U$104:U139)-1,COLUMNS($U$104:U139)-1)<>\"\",OFFSET(DE102_5!$U$104,ROWS($U$104:U139)-1,COLUMNS($U$104:U139)-1),\"\")","v":5},{"$f":"IF(OFFSET(DE102_5!$V$104,ROWS($V$104:V139)-1,COLUMNS($V$104:V139)-1)<>\"\",OFFSET(DE102_5!$V$104,ROWS($V$104:V139)-1,COLUMNS($V$104:V139)-1),\"\")","v":""},{"$f":"IF(OFFSET(DE102_5!$W$104,ROWS($W$104:W139)-1,COLUMNS($W$104:W139)-1)<>\"\",OFFSET(DE102_5!$W$104,ROWS($W$104:W139)-1,COLUMNS($W$104:W139)-1),\"\")","v":""},{"$f":"IF(OFFSET(DE102_5!$X$104,ROWS($X$104:X139)-1,COLUMNS($X$104:X139)-1)<>\"\",OFFSET(DE102_5!$X$104,ROWS($X$104:X139)-1,COLUMNS($X$104:X139)-1),\"\")","v":"AMES MINE"},{"$f":"IF(OFFSET(DE102_5!$Y$104,ROWS($Y$104:Y139)-1,COLUMNS($Y$104:Y139)-1)<>\"\",OFFSET(DE102_5!$Y$104,ROWS($Y$104:Y139)-1,COLUMNS($Y$104:Y139)-1),\"\")","v":"C.LST."},{"$f":"IF(OFFSET(DE102_5!$Z$104,ROWS($Z$104:Z139)-1,COLUMNS($Z$104:Z139)-1)<>\"\",OFFSET(DE102_5!$Z$104,ROWS($Z$104:Z139)-1,COLUMNS($Z$104:Z139)-1),\"\")","v":""},{"$f":"IF(OFFSET(DE102_5!$AA$104,ROWS($AA$104:AA139)-1,COLUMNS($AA$104:AA139)-1)<>\"\",OFFSET(DE102_5!$AA$104,ROWS($AA$104:AA139)-1,COLUMNS($AA$104:AA139)-1),\"\")","v":""},{"$f":"IF(OFFSET(DE102_5!$AB$104,ROWS($AB$104:AB139)-1,COLUMNS($AB$104:AB139)-1)<>\"\",OFFSET(DE102_5!$AB$104,ROWS($AB$104:AB139)-1,COLUMNS($AB$104:AB139)-1),\"\")","v":""}]
[{"$f":"IF(OFFSET(DE102_5!$C$104,ROWS($C$104:C140)-1,COLUMNS($C$104:C140)-1)<>\"\",OFFSET(DE102_5!$C$104,ROWS($C$104:C140)-1,COLUMNS($C$104:C140)-1),\"\")","v":""},{"$f":"IF(OFFSET(DE102_5!$F$104,ROWS($F$104:F140)-1,COLUMNS($F$104:F140)-1)<>\"\",OFFSET(DE102_5!$F$104,ROWS($F$104:F140)-1,COLUMNS($F$104:F140)-1),\"\")","v":85},{"$f":"IF(OFFSET(DE102_5!$G$104,ROWS($G$104:G140)-1,COLUMNS($G$104:G140)-1)<>\"\",OFFSET(DE102_5!$G$104,ROWS($G$104:G140)-1,COLUMNS($G$104:G140)-1),\"\")","v":"IA-210"},{"$f":"IF(OFFSET(DE102_5!$H$104,ROWS($H$104:H140)-1,COLUMNS($H$104:H140)-1)<>\"\",OFFSET(DE102_5!$H$104,ROWS($H$104:H140)-1,COLUMNS($H$104:H140)-1),\"\")","v":1},{"$f":"IF(OFFSET(DE102_5!$I$104,ROWS($I$104:I140)-1,COLUMNS($I$104:I140)-1)<>\"\",OFFSET(DE102_5!$I$104,ROWS($I$104:I140)-1,COLUMNS($I$104:I140)-1),\"\")","v":14.82},{"$f":"IF(OFFSET(DE102_5!$J$104,ROWS($J$104:J140)-1,COLUMNS($J$104:J140)-1)<>\"\",OFFSET(DE102_5!$J$104,ROWS($J$104:J140)-1,COLUMNS($J$104:J140)-1),\"\")","v":20.260000000000002},{"$f":"IF(OFFSET(DE102_5!$M$104,ROWS($M$104:M140)-1,COLUMNS($M$104:M140)-1)<>\"\",OFFSET(DE102_5!$M$104,ROWS($M$104:M140)-1,COLUMNS($M$104:M140)-1),\"\")","v":1978},{"$f":"IF(OFFSET(DE102_5!$N$104,ROWS($N$104:N140)-1,COLUMNS($N$104:N140)-1)<>\"\",OFFSET(DE102_5!$N$104,ROWS($N$104:N140)-1,COLUMNS($N$104:N140)-1),\"\")","v":""},{"$f":"IF(OFFSET(DE102_5!$O$104,ROWS($O$104:O140)-1,COLUMNS($O$104:O140)-1)<>\"\",OFFSET(DE102_5!$O$104,ROWS($O$104:O140)-1,COLUMNS($O$104:O140)-1),\"\")","v":"FN-89-3(1)--21-85"},{"$f":"IF(OFFSET(DE102_5!$P$104,ROWS($P$104:P140)-1,COLUMNS($P$104:P140)-1)<>\"\",OFFSET(DE102_5!$P$104,ROWS($P$104:P140)-1,COLUMNS($P$104:P140)-1),\"\")","v":"BAC"},{"$f":"IF(OFFSET(DE102_5!$Q$104,ROWS($Q$104:Q140)-1,COLUMNS($Q$104:Q140)-1)<>\"\",OFFSET(DE102_5!$Q$104,ROWS($Q$104:Q140)-1,COLUMNS($Q$104:Q140)-1),\"\")","v":1.5},{"$f":"IF(OFFSET(DE102_5!$R$104,ROWS($R$104:R140)-1,COLUMNS($R$104:R140)-1)<>\"\",OFFSET(DE102_5!$R$104,ROWS($R$104:R140)-1,COLUMNS($R$104:R140)-1),\"\")","v":"TBB"},{"$f":"IF(OFFSET(DE102_5!$S$104,ROWS($S$104:S140)-1,COLUMNS($S$104:S140)-1)<>\"\",OFFSET(DE102_5!$S$104,ROWS($S$104:S140)-1,COLUMNS($S$104:S140)-1),\"\")","v":1.5},{"$f":"IF(OFFSET(DE102_5!$T$104,ROWS($T$104:T140)-1,COLUMNS($T$104:T140)-1)<>\"\",OFFSET(DE102_5!$T$104,ROWS($T$104:T140)-1,COLUMNS($T$104:T140)-1),\"\")","v":""},{"$f":"IF(OFFSET(DE102_5!$U$104,ROWS($U$104:U140)-1,COLUMNS($U$104:U140)-1)<>\"\",OFFSET(DE102_5!$U$104,ROWS($U$104:U140)-1,COLUMNS($U$104:U140)-1),\"\")","v":""},{"$f":"IF(OFFSET(DE102_5!$V$104,ROWS($V$104:V140)-1,COLUMNS($V$104:V140)-1)<>\"\",OFFSET(DE102_5!$V$104,ROWS($V$104:V140)-1,COLUMNS($V$104:V140)-1),\"\")","v":""},{"$f":"IF(OFFSET(DE102_5!$W$104,ROWS($W$104:W140)-1,COLUMNS($W$104:W140)-1)<>\"\",OFFSET(DE102_5!$W$104,ROWS($W$104:W140)-1,COLUMNS($W$104:W140)-1),\"\")","v":""},{"$f":"IF(OFFSET(DE102_5!$X$104,ROWS($X$104:X140)-1,COLUMNS($X$104:X140)-1)<>\"\",OFFSET(DE102_5!$X$104,ROWS($X$104:X140)-1,COLUMNS($X$104:X140)-1),\"\")","v":"CHRISTENSEN"},{"$f":"IF(OFFSET(DE102_5!$Y$104,ROWS($Y$104:Y140)-1,COLUMNS($Y$104:Y140)-1)<>\"\",OFFSET(DE102_5!$Y$104,ROWS($Y$104:Y140)-1,COLUMNS($Y$104:Y140)-1),\"\")","v":"GRAVEL"},{"$f":"IF(OFFSET(DE102_5!$Z$104,ROWS($Z$104:Z140)-1,COLUMNS($Z$104:Z140)-1)<>\"\",OFFSET(DE102_5!$Z$104,ROWS($Z$104:Z140)-1,COLUMNS($Z$104:Z140)-1),\"\")","v":""},{"$f":"IF(OFFSET(DE102_5!$AA$104,ROWS($AA$104:AA140)-1,COLUMNS($AA$104:AA140)-1)<>\"\",OFFSET(DE102_5!$AA$104,ROWS($AA$104:AA140)-1,COLUMNS($AA$104:AA140)-1),\"\")","v":""},{"$f":"IF(OFFSET(DE102_5!$AB$104,ROWS($AB$104:AB140)-1,COLUMNS($AB$104:AB140)-1)<>\"\",OFFSET(DE102_5!$AB$104,ROWS($AB$104:AB140)-1,COLUMNS($AB$104:AB140)-1),\"\")","v":""}]
[{"$f":"IF(OFFSET(DE102_5!$C$104,ROWS($C$104:C141)-1,COLUMNS($C$104:C141)-1)<>\"\",OFFSET(DE102_5!$C$104,ROWS($C$104:C141)-1,COLUMNS($C$104:C141)-1),\"\")","v":""},{"$f":"IF(OFFSET(DE102_5!$F$104,ROWS($F$104:F141)-1,COLUMNS($F$104:F141)-1)<>\"\",OFFSET(DE102_5!$F$104,ROWS($F$104:F141)-1,COLUMNS($F$104:F141)-1),\"\")","v":85},{"$f":"IF(OFFSET(DE102_5!$G$104,ROWS($G$104:G141)-1,COLUMNS($G$104:G141)-1)<>\"\",OFFSET(DE102_5!$G$104,ROWS($G$104:G141)-1,COLUMNS($G$104:G141)-1),\"\")","v":"IA-210"},{"$f":"IF(OFFSET(DE102_5!$H$104,ROWS($H$104:H141)-1,COLUMNS($H$104:H141)-1)<>\"\",OFFSET(DE102_5!$H$104,ROWS($H$104:H141)-1,COLUMNS($H$104:H141)-1),\"\")","v":1},{"$f":"IF(OFFSET(DE102_5!$I$104,ROWS($I$104:I141)-1,COLUMNS($I$104:I141)-1)<>\"\",OFFSET(DE102_5!$I$104,ROWS($I$104:I141)-1,COLUMNS($I$104:I141)-1),\"\")","v":14.82},{"$f":"IF(OFFSET(DE102_5!$J$104,ROWS($J$104:J141)-1,COLUMNS($J$104:J141)-1)<>\"\",OFFSET(DE102_5!$J$104,ROWS($J$104:J141)-1,COLUMNS($J$104:J141)-1),\"\")","v":20.260000000000002},{"$f":"IF(OFFSET(DE102_5!$M$104,ROWS($M$104:M141)-1,COLUMNS($M$104:M141)-1)<>\"\",OFFSET(DE102_5!$M$104,ROWS($M$104:M141)-1,COLUMNS($M$104:M141)-1),\"\")","v":1965},{"$f":"IF(OFFSET(DE102_5!$N$104,ROWS($N$104:N141)-1,COLUMNS($N$104:N141)-1)<>\"\",OFFSET(DE102_5!$N$104,ROWS($N$104:N141)-1,COLUMNS($N$104:N141)-1),\"\")","v":""},{"$f":"IF(OFFSET(DE102_5!$O$104,ROWS($O$104:O141)-1,COLUMNS($O$104:O141)-1)<>\"\",OFFSET(DE102_5!$O$104,ROWS($O$104:O141)-1,COLUMNS($O$104:O141)-1),\"\")","v":"FN-210-1(1)--21-85"},{"$f":"IF(OFFSET(DE102_5!$P$104,ROWS($P$104:P141)-1,COLUMNS($P$104:P141)-1)<>\"\",OFFSET(DE102_5!$P$104,ROWS($P$104:P141)-1,COLUMNS($P$104:P141)-1),\"\")","v":"BAC"},{"$f":"IF(OFFSET(DE102_5!$Q$104,ROWS($Q$104:Q141)-1,COLUMNS($Q$104:Q141)-1)<>\"\",OFFSET(DE102_5!$Q$104,ROWS($Q$104:Q141)-1,COLUMNS($Q$104:Q141)-1),\"\")","v":1},{"$f":"IF(OFFSET(DE102_5!$R$104,ROWS($R$104:R141)-1,COLUMNS($R$104:R141)-1)<>\"\",OFFSET(DE102_5!$R$104,ROWS($R$104:R141)-1,COLUMNS($R$104:R141)-1),\"\")","v":"TBB"},{"$f":"IF(OFFSET(DE102_5!$S$104,ROWS($S$104:S141)-1,COLUMNS($S$104:S141)-1)<>\"\",OFFSET(DE102_5!$S$104,ROWS($S$104:S141)-1,COLUMNS($S$104:S141)-1),\"\")","v":2.5},{"$f":"IF(OFFSET(DE102_5!$T$104,ROWS($T$104:T141)-1,COLUMNS($T$104:T141)-1)<>\"\",OFFSET(DE102_5!$T$104,ROWS($T$104:T141)-1,COLUMNS($T$104:T141)-1),\"\")","v":""},{"$f":"IF(OFFSET(DE102_5!$U$104,ROWS($U$104:U141)-1,COLUMNS($U$104:U141)-1)<>\"\",OFFSET(DE102_5!$U$104,ROWS($U$104:U141)-1,COLUMNS($U$104:U141)-1),\"\")","v":""},{"$f":"IF(OFFSET(DE102_5!$V$104,ROWS($V$104:V141)-1,COLUMNS($V$104:V141)-1)<>\"\",OFFSET(DE102_5!$V$104,ROWS($V$104:V141)-1,COLUMNS($V$104:V141)-1),\"\")","v":""},{"$f":"IF(OFFSET(DE102_5!$W$104,ROWS($W$104:W141)-1,COLUMNS($W$104:W141)-1)<>\"\",OFFSET(DE102_5!$W$104,ROWS($W$104:W141)-1,COLUMNS($W$104:W141)-1),\"\")","v":""},{"$f":"IF(OFFSET(DE102_5!$X$104,ROWS($X$104:X141)-1,COLUMNS($X$104:X141)-1)<>\"\",OFFSET(DE102_5!$X$104,ROWS($X$104:X141)-1,COLUMNS($X$104:X141)-1),\"\")","v":""},{"$f":"IF(OFFSET(DE102_5!$Y$104,ROWS($Y$104:Y141)-1,COLUMNS($Y$104:Y141)-1)<>\"\",OFFSET(DE102_5!$Y$104,ROWS($Y$104:Y141)-1,COLUMNS($Y$104:Y141)-1),\"\")","v":""},{"$f":"IF(OFFSET(DE102_5!$Z$104,ROWS($Z$104:Z141)-1,COLUMNS($Z$104:Z141)-1)<>\"\",OFFSET(DE102_5!$Z$104,ROWS($Z$104:Z141)-1,COLUMNS($Z$104:Z141)-1),\"\")","v":""},{"$f":"IF(OFFSET(DE102_5!$AA$104,ROWS($AA$104:AA141)-1,COLUMNS($AA$104:AA141)-1)<>\"\",OFFSET(DE102_5!$AA$104,ROWS($AA$104:AA141)-1,COLUMNS($AA$104:AA141)-1),\"\")","v":""},{"$f":"IF(OFFSET(DE102_5!$AB$104,ROWS($AB$104:AB141)-1,COLUMNS($AB$104:AB141)-1)<>\"\",OFFSET(DE102_5!$AB$104,ROWS($AB$104:AB141)-1,COLUMNS($AB$104:AB141)-1),\"\")","v":""}]
[{"$f":"IF(OFFSET(DE102_5!$C$104,ROWS($C$104:C142)-1,COLUMNS($C$104:C142)-1)<>\"\",OFFSET(DE102_5!$C$104,ROWS($C$104:C142)-1,COLUMNS($C$104:C142)-1),\"\")","v":""},{"$f":"IF(OFFSET(DE102_5!$F$104,ROWS($F$104:F142)-1,COLUMNS($F$104:F142)-1)<>\"\",OFFSET(DE102_5!$F$104,ROWS($F$104:F142)-1,COLUMNS($F$104:F142)-1),\"\")","v":85},{"$f":"IF(OFFSET(DE102_5!$G$104,ROWS($G$104:G142)-1,COLUMNS($G$104:G142)-1)<>\"\",OFFSET(DE102_5!$G$104,ROWS($G$104:G142)-1,COLUMNS($G$104:G142)-1),\"\")","v":"IA-210"},{"$f":"IF(OFFSET(DE102_5!$H$104,ROWS($H$104:H142)-1,COLUMNS($H$104:H142)-1)<>\"\",OFFSET(DE102_5!$H$104,ROWS($H$104:H142)-1,COLUMNS($H$104:H142)-1),\"\")","v":1},{"$f":"IF(OFFSET(DE102_5!$I$104,ROWS($I$104:I142)-1,COLUMNS($I$104:I142)-1)<>\"\",OFFSET(DE102_5!$I$104,ROWS($I$104:I142)-1,COLUMNS($I$104:I142)-1),\"\")","v":14.82},{"$f":"IF(OFFSET(DE102_5!$J$104,ROWS($J$104:J142)-1,COLUMNS($J$104:J142)-1)<>\"\",OFFSET(DE102_5!$J$104,ROWS($J$104:J142)-1,COLUMNS($J$104:J142)-1),\"\")","v":20.260000000000002},{"$f":"IF(OFFSET(DE102_5!$M$104,ROWS($M$104:M142)-1,COLUMNS($M$104:M142)-1)<>\"\",OFFSET(DE102_5!$M$104,ROWS($M$104:M142)-1,COLUMNS($M$104:M142)-1),\"\")","v":1956},{"$f":"IF(OFFSET(DE102_5!$N$104,ROWS($N$104:N142)-1,COLUMNS($N$104:N142)-1)<>\"\",OFFSET(DE102_5!$N$104,ROWS($N$104:N142)-1,COLUMNS($N$104:N142)-1),\"\")","v":""},{"$f":"IF(OFFSET(DE102_5!$O$104,ROWS($O$104:O142)-1,COLUMNS($O$104:O142)-1)<>\"\",OFFSET(DE102_5!$O$104,ROWS($O$104:O142)-1,COLUMNS($O$104:O142)-1),\"\")","v":"F-947(3)"},{"$f":"IF(OFFSET(DE102_5!$P$104,ROWS($P$104:P142)-1,COLUMNS($P$104:P142)-1)<>\"\",OFFSET(DE102_5!$P$104,ROWS($P$104:P142)-1,COLUMNS($P$104:P142)-1),\"\")","v":"BAC"},{"$f":"IF(OFFSET(DE102_5!$Q$104,ROWS($Q$104:Q142)-1,COLUMNS($Q$104:Q142)-1)<>\"\",OFFSET(DE102_5!$Q$104,ROWS($Q$104:Q142)-1,COLUMNS($Q$104:Q142)-1),\"\")","v":2},{"$f":"IF(OFFSET(DE102_5!$R$104,ROWS($R$104:R142)-1,COLUMNS($R$104:R142)-1)<>\"\",OFFSET(DE102_5!$R$104,ROWS($R$104:R142)-1,COLUMNS($R$104:R142)-1),\"\")","v":"RSB"},{"$f":"IF(OFFSET(DE102_5!$S$104,ROWS($S$104:S142)-1,COLUMNS($S$104:S142)-1)<>\"\",OFFSET(DE102_5!$S$104,ROWS($S$104:S142)-1,COLUMNS($S$104:S142)-1),\"\")","v":6},{"$f":"IF(OFFSET(DE102_5!$T$104,ROWS($T$104:T142)-1,COLUMNS($T$104:T142)-1)<>\"\",OFFSET(DE102_5!$T$104,ROWS($T$104:T142)-1,COLUMNS($T$104:T142)-1),\"\")","v":"SAS"},{"$f":"IF(OFFSET(DE102_5!$U$104,ROWS($U$104:U142)-1,COLUMNS($U$104:U142)-1)<>\"\",OFFSET(DE102_5!$U$104,ROWS($U$104:U142)-1,COLUMNS($U$104:U142)-1),\"\")","v":6},{"$f":"IF(OFFSET(DE102_5!$V$104,ROWS($V$104:V142)-1,COLUMNS($V$104:V142)-1)<>\"\",OFFSET(DE102_5!$V$104,ROWS($V$104:V142)-1,COLUMNS($V$104:V142)-1),\"\")","v":""},{"$f":"IF(OFFSET(DE102_5!$W$104,ROWS($W$104:W142)-1,COLUMNS($W$104:W142)-1)<>\"\",OFFSET(DE102_5!$W$104,ROWS($W$104:W142)-1,COLUMNS($W$104:W142)-1),\"\")","v":""},{"$f":"IF(OFFSET(DE102_5!$X$104,ROWS($X$104:X142)-1,COLUMNS($X$104:X142)-1)<>\"\",OFFSET(DE102_5!$X$104,ROWS($X$104:X142)-1,COLUMNS($X$104:X142)-1),\"\")","v":"AMES MINE"},{"$f":"IF(OFFSET(DE102_5!$Y$104,ROWS($Y$104:Y142)-1,COLUMNS($Y$104:Y142)-1)<>\"\",OFFSET(DE102_5!$Y$104,ROWS($Y$104:Y142)-1,COLUMNS($Y$104:Y142)-1),\"\")","v":"C.LST."},{"$f":"IF(OFFSET(DE102_5!$Z$104,ROWS($Z$104:Z142)-1,COLUMNS($Z$104:Z142)-1)<>\"\",OFFSET(DE102_5!$Z$104,ROWS($Z$104:Z142)-1,COLUMNS($Z$104:Z142)-1),\"\")","v":""},{"$f":"IF(OFFSET(DE102_5!$AA$104,ROWS($AA$104:AA142)-1,COLUMNS($AA$104:AA142)-1)<>\"\",OFFSET(DE102_5!$AA$104,ROWS($AA$104:AA142)-1,COLUMNS($AA$104:AA142)-1),\"\")","v":""},{"$f":"IF(OFFSET(DE102_5!$AB$104,ROWS($AB$104:AB142)-1,COLUMNS($AB$104:AB142)-1)<>\"\",OFFSET(DE102_5!$AB$104,ROWS($AB$104:AB142)-1,COLUMNS($AB$104:AB142)-1),\"\")","v":""}]
[{"$f":"IF(OFFSET(DE102_5!$C$104,ROWS($C$104:C143)-1,COLUMNS($C$104:C143)-1)<>\"\",OFFSET(DE102_5!$C$104,ROWS($C$104:C143)-1,COLUMNS($C$104:C143)-1),\"\")","v":""},{"$f":"IF(OFFSET(DE102_5!$F$104,ROWS($F$104:F143)-1,COLUMNS($F$104:F143)-1)<>\"\",OFFSET(DE102_5!$F$104,ROWS($F$104:F143)-1,COLUMNS($F$104:F143)-1),\"\")","v":""},{"$f":"IF(OFFSET(DE102_5!$G$104,ROWS($G$104:G143)-1,COLUMNS($G$104:G143)-1)<>\"\",OFFSET(DE102_5!$G$104,ROWS($G$104:G143)-1,COLUMNS($G$104:G143)-1),\"\")","v":""},{"$f":"IF(OFFSET(DE102_5!$H$104,ROWS($H$104:H143)-1,COLUMNS($H$104:H143)-1)<>\"\",OFFSET(DE102_5!$H$104,ROWS($H$104:H143)-1,COLUMNS($H$104:H143)-1),\"\")","v":""},{"$f":"IF(OFFSET(DE102_5!$I$104,ROWS($I$104:I143)-1,COLUMNS($I$104:I143)-1)<>\"\",OFFSET(DE102_5!$I$104,ROWS($I$104:I143)-1,COLUMNS($I$104:I143)-1),\"\")","v":""},{"$f":"IF(OFFSET(DE102_5!$J$104,ROWS($J$104:J143)-1,COLUMNS($J$104:J143)-1)<>\"\",OFFSET(DE102_5!$J$104,ROWS($J$104:J143)-1,COLUMNS($J$104:J143)-1),\"\")","v":""},{"$f":"IF(OFFSET(DE102_5!$M$104,ROWS($M$104:M143)-1,COLUMNS($M$104:M143)-1)<>\"\",OFFSET(DE102_5!$M$104,ROWS($M$104:M143)-1,COLUMNS($M$104:M143)-1),\"\")","v":""},{"$f":"IF(OFFSET(DE102_5!$N$104,ROWS($N$104:N143)-1,COLUMNS($N$104:N143)-1)<>\"\",OFFSET(DE102_5!$N$104,ROWS($N$104:N143)-1,COLUMNS($N$104:N143)-1),\"\")","v":""},{"$f":"IF(OFFSET(DE102_5!$O$104,ROWS($O$104:O143)-1,COLUMNS($O$104:O143)-1)<>\"\",OFFSET(DE102_5!$O$104,ROWS($O$104:O143)-1,COLUMNS($O$104:O143)-1),\"\")","v":""},{"$f":"IF(OFFSET(DE102_5!$P$104,ROWS($P$104:P143)-1,COLUMNS($P$104:P143)-1)<>\"\",OFFSET(DE102_5!$P$104,ROWS($P$104:P143)-1,COLUMNS($P$104:P143)-1),\"\")","v":""},{"$f":"IF(OFFSET(DE102_5!$Q$104,ROWS($Q$104:Q143)-1,COLUMNS($Q$104:Q143)-1)<>\"\",OFFSET(DE102_5!$Q$104,ROWS($Q$104:Q143)-1,COLUMNS($Q$104:Q143)-1),\"\")","v":""},{"$f":"IF(OFFSET(DE102_5!$R$104,ROWS($R$104:R143)-1,COLUMNS($R$104:R143)-1)<>\"\",OFFSET(DE102_5!$R$104,ROWS($R$104:R143)-1,COLUMNS($R$104:R143)-1),\"\")","v":""},{"$f":"IF(OFFSET(DE102_5!$S$104,ROWS($S$104:S143)-1,COLUMNS($S$104:S143)-1)<>\"\",OFFSET(DE102_5!$S$104,ROWS($S$104:S143)-1,COLUMNS($S$104:S143)-1),\"\")","v":""},{"$f":"IF(OFFSET(DE102_5!$T$104,ROWS($T$104:T143)-1,COLUMNS($T$104:T143)-1)<>\"\",OFFSET(DE102_5!$T$104,ROWS($T$104:T143)-1,COLUMNS($T$104:T143)-1),\"\")","v":""},{"$f":"IF(OFFSET(DE102_5!$U$104,ROWS($U$104:U143)-1,COLUMNS($U$104:U143)-1)<>\"\",OFFSET(DE102_5!$U$104,ROWS($U$104:U143)-1,COLUMNS($U$104:U143)-1),\"\")","v":""},{"$f":"IF(OFFSET(DE102_5!$V$104,ROWS($V$104:V143)-1,COLUMNS($V$104:V143)-1)<>\"\",OFFSET(DE102_5!$V$104,ROWS($V$104:V143)-1,COLUMNS($V$104:V143)-1),\"\")","v":""},{"$f":"IF(OFFSET(DE102_5!$W$104,ROWS($W$104:W143)-1,COLUMNS($W$104:W143)-1)<>\"\",OFFSET(DE102_5!$W$104,ROWS($W$104:W143)-1,COLUMNS($W$104:W143)-1),\"\")","v":""},{"$f":"IF(OFFSET(DE102_5!$X$104,ROWS($X$104:X143)-1,COLUMNS($X$104:X143)-1)<>\"\",OFFSET(DE102_5!$X$104,ROWS($X$104:X143)-1,COLUMNS($X$104:X143)-1),\"\")","v":""},{"$f":"IF(OFFSET(DE102_5!$Y$104,ROWS($Y$104:Y143)-1,COLUMNS($Y$104:Y143)-1)<>\"\",OFFSET(DE102_5!$Y$104,ROWS($Y$104:Y143)-1,COLUMNS($Y$104:Y143)-1),\"\")","v":""},{"$f":"IF(OFFSET(DE102_5!$Z$104,ROWS($Z$104:Z143)-1,COLUMNS($Z$104:Z143)-1)<>\"\",OFFSET(DE102_5!$Z$104,ROWS($Z$104:Z143)-1,COLUMNS($Z$104:Z143)-1),\"\")","v":""},{"$f":"IF(OFFSET(DE102_5!$AA$104,ROWS($AA$104:AA143)-1,COLUMNS($AA$104:AA143)-1)<>\"\",OFFSET(DE102_5!$AA$104,ROWS($AA$104:AA143)-1,COLUMNS($AA$104:AA143)-1),\"\")","v":""},{"$f":"IF(OFFSET(DE102_5!$AB$104,ROWS($AB$104:AB143)-1,COLUMNS($AB$104:AB143)-1)<>\"\",OFFSET(DE102_5!$AB$104,ROWS($AB$104:AB143)-1,COLUMNS($AB$104:AB143)-1),\"\")","v":""}]
[{"$f":"IF(OFFSET(DE102_5!$C$104,ROWS($C$104:C144)-1,COLUMNS($C$104:C144)-1)<>\"\",OFFSET(DE102_5!$C$104,ROWS($C$104:C144)-1,COLUMNS($C$104:C144)-1),\"\")","v":""},{"$f":"IF(OFFSET(DE102_5!$F$104,ROWS($F$104:F144)-1,COLUMNS($F$104:F144)-1)<>\"\",OFFSET(DE102_5!$F$104,ROWS($F$104:F144)-1,COLUMNS($F$104:F144)-1),\"\")","v":85},{"$f":"IF(OFFSET(DE102_5!$G$104,ROWS($G$104:G144)-1,COLUMNS($G$104:G144)-1)<>\"\",OFFSET(DE102_5!$G$104,ROWS($G$104:G144)-1,COLUMNS($G$104:G144)-1),\"\")","v":"IA-210"},{"$f":"IF(OFFSET(DE102_5!$H$104,ROWS($H$104:H144)-1,COLUMNS($H$104:H144)-1)<>\"\",OFFSET(DE102_5!$H$104,ROWS($H$104:H144)-1,COLUMNS($H$104:H144)-1),\"\")","v":1},{"$f":"IF(OFFSET(DE102_5!$I$104,ROWS($I$104:I144)-1,COLUMNS($I$104:I144)-1)<>\"\",OFFSET(DE102_5!$I$104,ROWS($I$104:I144)-1,COLUMNS($I$104:I144)-1),\"\")","v":20.260000000000002},{"$f":"IF(OFFSET(DE102_5!$J$104,ROWS($J$104:J144)-1,COLUMNS($J$104:J144)-1)<>\"\",OFFSET(DE102_5!$J$104,ROWS($J$104:J144)-1,COLUMNS($J$104:J144)-1),\"\")","v":29.29},{"$f":"IF(OFFSET(DE102_5!$M$104,ROWS($M$104:M144)-1,COLUMNS($M$104:M144)-1)<>\"\",OFFSET(DE102_5!$M$104,ROWS($M$104:M144)-1,COLUMNS($M$104:M144)-1),\"\")","v":2012},{"$f":"IF(OFFSET(DE102_5!$N$104,ROWS($N$104:N144)-1,COLUMNS($N$104:N144)-1)<>\"\",OFFSET(DE102_5!$N$104,ROWS($N$104:N144)-1,COLUMNS($N$104:N144)-1),\"\")","v":"W"},{"$f":"IF(OFFSET(DE102_5!$O$104,ROWS($O$104:O144)-1,COLUMNS($O$104:O144)-1)<>\"\",OFFSET(DE102_5!$O$104,ROWS($O$104:O144)-1,COLUMNS($O$104:O144)-1),\"\")","v":"STP-210-3(31)--2C-85"},{"$f":"IF(OFFSET(DE102_5!$P$104,ROWS($P$104:P144)-1,COLUMNS($P$104:P144)-1)<>\"\",OFFSET(DE102_5!$P$104,ROWS($P$104:P144)-1,COLUMNS($P$104:P144)-1),\"\")","v":"HMA"},{"$f":"IF(OFFSET(DE102_5!$Q$104,ROWS($Q$104:Q144)-1,COLUMNS($Q$104:Q144)-1)<>\"\",OFFSET(DE102_5!$Q$104,ROWS($Q$104:Q144)-1,COLUMNS($Q$104:Q144)-1),\"\")","v":1.5},{"$f":"IF(OFFSET(DE102_5!$R$104,ROWS($R$104:R144)-1,COLUMNS($R$104:R144)-1)<>\"\",OFFSET(DE102_5!$R$104,ROWS($R$104:R144)-1,COLUMNS($R$104:R144)-1),\"\")","v":"HMA"},{"$f":"IF(OFFSET(DE102_5!$S$104,ROWS($S$104:S144)-1,COLUMNS($S$104:S144)-1)<>\"\",OFFSET(DE102_5!$S$104,ROWS($S$104:S144)-1,COLUMNS($S$104:S144)-1),\"\")","v":1.5},{"$f":"IF(OFFSET(DE102_5!$T$104,ROWS($T$104:T144)-1,COLUMNS($T$104:T144)-1)<>\"\",OFFSET(DE102_5!$T$104,ROWS($T$104:T144)-1,COLUMNS($T$104:T144)-1),\"\")","v":"HMA"},{"$f":"IF(OFFSET(DE102_5!$U$104,ROWS($U$104:U144)-1,COLUMNS($U$104:U144)-1)<>\"\",OFFSET(DE102_5!$U$104,ROWS($U$104:U144)-1,COLUMNS($U$104:U144)-1),\"\")","v":9},{"$f":"IF(OFFSET(DE102_5!$V$104,ROWS($V$104:V144)-1,COLUMNS($V$104:V144)-1)<>\"\",OFFSET(DE102_5!$V$104,ROWS($V$104:V144)-1,COLUMNS($V$104:V144)-1),\"\")","v":""},{"$f":"IF(OFFSET(DE102_5!$W$104,ROWS($W$104:W144)-1,COLUMNS($W$104:W144)-1)<>\"\",OFFSET(DE102_5!$W$104,ROWS($W$104:W144)-1,COLUMNS($W$104:W144)-1),\"\")","v":""},{"$f":"IF(OFFSET(DE102_5!$X$104,ROWS($X$104:X144)-1,COLUMNS($X$104:X144)-1)<>\"\",OFFSET(DE102_5!$X$104,ROWS($X$104:X144)-1,COLUMNS($X$104:X144)-1),\"\")","v":""},{"$f":"IF(OFFSET(DE102_5!$Y$104,ROWS($Y$104:Y144)-1,COLUMNS($Y$104:Y144)-1)<>\"\",OFFSET(DE102_5!$Y$104,ROWS($Y$104:Y144)-1,COLUMNS($Y$104:Y144)-1),\"\")","v":""},{"$f":"IF(OFFSET(DE102_5!$Z$104,ROWS($Z$104:Z144)-1,COLUMNS($Z$104:Z144)-1)<>\"\",OFFSET(DE102_5!$Z$104,ROWS($Z$104:Z144)-1,COLUMNS($Z$104:Z144)-1),\"\")","v":""},{"$f":"IF(OFFSET(DE102_5!$AA$104,ROWS($AA$104:AA144)-1,COLUMNS($AA$104:AA144)-1)<>\"\",OFFSET(DE102_5!$AA$104,ROWS($AA$104:AA144)-1,COLUMNS($AA$104:AA144)-1),\"\")","v":""},{"$f":"IF(OFFSET(DE102_5!$AB$104,ROWS($AB$104:AB144)-1,COLUMNS($AB$104:AB144)-1)<>\"\",OFFSET(DE102_5!$AB$104,ROWS($AB$104:AB144)-1,COLUMNS($AB$104:AB144)-1),\"\")","v":""}]
[{"$f":"IF(OFFSET(DE102_5!$C$104,ROWS($C$104:C145)-1,COLUMNS($C$104:C145)-1)<>\"\",OFFSET(DE102_5!$C$104,ROWS($C$104:C145)-1,COLUMNS($C$104:C145)-1),\"\")","v":""},{"$f":"IF(OFFSET(DE102_5!$F$104,ROWS($F$104:F145)-1,COLUMNS($F$104:F145)-1)<>\"\",OFFSET(DE102_5!$F$104,ROWS($F$104:F145)-1,COLUMNS($F$104:F145)-1),\"\")","v":85},{"$f":"IF(OFFSET(DE102_5!$G$104,ROWS($G$104:G145)-1,COLUMNS($G$104:G145)-1)<>\"\",OFFSET(DE102_5!$G$104,ROWS($G$104:G145)-1,COLUMNS($G$104:G145)-1),\"\")","v":"IA-210"},{"$f":"IF(OFFSET(DE102_5!$H$104,ROWS($H$104:H145)-1,COLUMNS($H$104:H145)-1)<>\"\",OFFSET(DE102_5!$H$104,ROWS($H$104:H145)-1,COLUMNS($H$104:H145)-1),\"\")","v":1},{"$f":"IF(OFFSET(DE102_5!$I$104,ROWS($I$104:I145)-1,COLUMNS($I$104:I145)-1)<>\"\",OFFSET(DE102_5!$I$104,ROWS($I$104:I145)-1,COLUMNS($I$104:I145)-1),\"\")","v":20.260000000000002},{"$f":"IF(OFFSET(DE102_5!$J$104,ROWS($J$104:J145)-1,COLUMNS($J$104:J145)-1)<>\"\",OFFSET(DE102_5!$J$104,ROWS($J$104:J145)-1,COLUMNS($J$104:J145)-1),\"\")","v":29.29},{"$f":"IF(OFFSET(DE102_5!$M$104,ROWS($M$104:M145)-1,COLUMNS($M$104:M145)-1)<>\"\",OFFSET(DE102_5!$M$104,ROWS($M$104:M145)-1,COLUMNS($M$104:M145)-1),\"\")","v":2012},{"$f":"IF(OFFSET(DE102_5!$N$104,ROWS($N$104:N145)-1,COLUMNS($N$104:N145)-1)<>\"\",OFFSET(DE102_5!$N$104,ROWS($N$104:N145)-1,COLUMNS($N$104:N145)-1),\"\")","v":""},{"$f":"IF(OFFSET(DE102_5!$O$104,ROWS($O$104:O145)-1,COLUMNS($O$104:O145)-1)<>\"\",OFFSET(DE102_5!$O$104,ROWS($O$104:O145)-1,COLUMNS($O$104:O145)-1),\"\")","v":"STP-210-3(31)--2C-85"},{"$f":"IF(OFFSET(DE102_5!$P$104,ROWS($P$104:P145)-1,COLUMNS($P$104:P145)-1)<>\"\",OFFSET(DE102_5!$P$104,ROWS($P$104:P145)-1,COLUMNS($P$104:P145)-1),\"\")","v":"HMA"},{"$f":"IF(OFFSET(DE102_5!$Q$104,ROWS($Q$104:Q145)-1,COLUMNS($Q$104:Q145)-1)<>\"\",OFFSET(DE102_5!$Q$104,ROWS($Q$104:Q145)-1,COLUMNS($Q$104:Q145)-1),\"\")","v":1.5},{"$f":"IF(OFFSET(DE102_5!$R$104,ROWS($R$104:R145)-1,COLUMNS($R$104:R145)-1)<>\"\",OFFSET(DE102_5!$R$104,ROWS($R$104:R145)-1,COLUMNS($R$104:R145)-1),\"\")","v":"HMA"},{"$f":"IF(OFFSET(DE102_5!$S$104,ROWS($S$104:S145)-1,COLUMNS($S$104:S145)-1)<>\"\",OFFSET(DE102_5!$S$104,ROWS($S$104:S145)-1,COLUMNS($S$104:S145)-1),\"\")","v":1.5},{"$f":"IF(OFFSET(DE102_5!$T$104,ROWS($T$104:T145)-1,COLUMNS($T$104:T145)-1)<>\"\",OFFSET(DE102_5!$T$104,ROWS($T$104:T145)-1,COLUMNS($T$104:T145)-1),\"\")","v":"CIP"},{"$f":"IF(OFFSET(DE102_5!$U$104,ROWS($U$104:U145)-1,COLUMNS($U$104:U145)-1)<>\"\",OFFSET(DE102_5!$U$104,ROWS($U$104:U145)-1,COLUMNS($U$104:U145)-1),\"\")","v":3},{"$f":"IF(OFFSET(DE102_5!$V$104,ROWS($V$104:V145)-1,COLUMNS($V$104:V145)-1)<>\"\",OFFSET(DE102_5!$V$104,ROWS($V$104:V145)-1,COLUMNS($V$104:V145)-1),\"\")","v":""},{"$f":"IF(OFFSET(DE102_5!$W$104,ROWS($W$104:W145)-1,COLUMNS($W$104:W145)-1)<>\"\",OFFSET(DE102_5!$W$104,ROWS($W$104:W145)-1,COLUMNS($W$104:W145)-1),\"\")","v":""},{"$f":"IF(OFFSET(DE102_5!$X$104,ROWS($X$104:X145)-1,COLUMNS($X$104:X145)-1)<>\"\",OFFSET(DE102_5!$X$104,ROWS($X$104:X145)-1,COLUMNS($X$104:X145)-1),\"\")","v":""},{"$f":"IF(OFFSET(DE102_5!$Y$104,ROWS($Y$104:Y145)-1,COLUMNS($Y$104:Y145)-1)<>\"\",OFFSET(DE102_5!$Y$104,ROWS($Y$104:Y145)-1,COLUMNS($Y$104:Y145)-1),\"\")","v":""},{"$f":"IF(OFFSET(DE102_5!$Z$104,ROWS($Z$104:Z145)-1,COLUMNS($Z$104:Z145)-1)<>\"\",OFFSET(DE102_5!$Z$104,ROWS($Z$104:Z145)-1,COLUMNS($Z$104:Z145)-1),\"\")","v":""},{"$f":"IF(OFFSET(DE102_5!$AA$104,ROWS($AA$104:AA145)-1,COLUMNS($AA$104:AA145)-1)<>\"\",OFFSET(DE102_5!$AA$104,ROWS($AA$104:AA145)-1,COLUMNS($AA$104:AA145)-1),\"\")","v":""},{"$f":"IF(OFFSET(DE102_5!$AB$104,ROWS($AB$104:AB145)-1,COLUMNS($AB$104:AB145)-1)<>\"\",OFFSET(DE102_5!$AB$104,ROWS($AB$104:AB145)-1,COLUMNS($AB$104:AB145)-1),\"\")","v":""}]
[{"$f":"IF(OFFSET(DE102_5!$C$104,ROWS($C$104:C146)-1,COLUMNS($C$104:C146)-1)<>\"\",OFFSET(DE102_5!$C$104,ROWS($C$104:C146)-1,COLUMNS($C$104:C146)-1),\"\")","v":""},{"$f":"IF(OFFSET(DE102_5!$F$104,ROWS($F$104:F146)-1,COLUMNS($F$104:F146)-1)<>\"\",OFFSET(DE102_5!$F$104,ROWS($F$104:F146)-1,COLUMNS($F$104:F146)-1),\"\")","v":85},{"$f":"IF(OFFSET(DE102_5!$G$104,ROWS($G$104:G146)-1,COLUMNS($G$104:G146)-1)<>\"\",OFFSET(DE102_5!$G$104,ROWS($G$104:G146)-1,COLUMNS($G$104:G146)-1),\"\")","v":"IA-210"},{"$f":"IF(OFFSET(DE102_5!$H$104,ROWS($H$104:H146)-1,COLUMNS($H$104:H146)-1)<>\"\",OFFSET(DE102_5!$H$104,ROWS($H$104:H146)-1,COLUMNS($H$104:H146)-1),\"\")","v":1},{"$f":"IF(OFFSET(DE102_5!$I$104,ROWS($I$104:I146)-1,COLUMNS($I$104:I146)-1)<>\"\",OFFSET(DE102_5!$I$104,ROWS($I$104:I146)-1,COLUMNS($I$104:I146)-1),\"\")","v":20.260000000000002},{"$f":"IF(OFFSET(DE102_5!$J$104,ROWS($J$104:J146)-1,COLUMNS($J$104:J146)-1)<>\"\",OFFSET(DE102_5!$J$104,ROWS($J$104:J146)-1,COLUMNS($J$104:J146)-1),\"\")","v":29.29},{"$f":"IF(OFFSET(DE102_5!$M$104,ROWS($M$104:M146)-1,COLUMNS($M$104:M146)-1)<>\"\",OFFSET(DE102_5!$M$104,ROWS($M$104:M146)-1,COLUMNS($M$104:M146)-1),\"\")","v":1985},{"$f":"IF(OFFSET(DE102_5!$N$104,ROWS($N$104:N146)-1,COLUMNS($N$104:N146)-1)<>\"\",OFFSET(DE102_5!$N$104,ROWS($N$104:N146)-1,COLUMNS($N$104:N146)-1),\"\")","v":""},{"$f":"IF(OFFSET(DE102_5!$O$104,ROWS($O$104:O146)-1,COLUMNS($O$104:O146)-1)<>\"\",OFFSET(DE102_5!$O$104,ROWS($O$104:O146)-1,COLUMNS($O$104:O146)-1),\"\")","v":"FN-210-3(11)--21-8"},{"$f":"IF(OFFSET(DE102_5!$P$104,ROWS($P$104:P146)-1,COLUMNS($P$104:P146)-1)<>\"\",OFFSET(DE102_5!$P$104,ROWS($P$104:P146)-1,COLUMNS($P$104:P146)-1),\"\")","v":"BAC"},{"$f":"IF(OFFSET(DE102_5!$Q$104,ROWS($Q$104:Q146)-1,COLUMNS($Q$104:Q146)-1)<>\"\",OFFSET(DE102_5!$Q$104,ROWS($Q$104:Q146)-1,COLUMNS($Q$104:Q146)-1),\"\")","v":1.5},{"$f":"IF(OFFSET(DE102_5!$R$104,ROWS($R$104:R146)-1,COLUMNS($R$104:R146)-1)<>\"\",OFFSET(DE102_5!$R$104,ROWS($R$104:R146)-1,COLUMNS($R$104:R146)-1),\"\")","v":"TBB"},{"$f":"IF(OFFSET(DE102_5!$S$104,ROWS($S$104:S146)-1,COLUMNS($S$104:S146)-1)<>\"\",OFFSET(DE102_5!$S$104,ROWS($S$104:S146)-1,COLUMNS($S$104:S146)-1),\"\")","v":1.5},{"$f":"IF(OFFSET(DE102_5!$T$104,ROWS($T$104:T146)-1,COLUMNS($T$104:T146)-1)<>\"\",OFFSET(DE102_5!$T$104,ROWS($T$104:T146)-1,COLUMNS($T$104:T146)-1),\"\")","v":""},{"$f":"IF(OFFSET(DE102_5!$U$104,ROWS($U$104:U146)-1,COLUMNS($U$104:U146)-1)<>\"\",OFFSET(DE102_5!$U$104,ROWS($U$104:U146)-1,COLUMNS($U$104:U146)-1),\"\")","v":""},{"$f":"IF(OFFSET(DE102_5!$V$104,ROWS($V$104:V146)-1,COLUMNS($V$104:V146)-1)<>\"\",OFFSET(DE102_5!$V$104,ROWS($V$104:V146)-1,COLUMNS($V$104:V146)-1),\"\")","v":""},{"$f":"IF(OFFSET(DE102_5!$W$104,ROWS($W$104:W146)-1,COLUMNS($W$104:W146)-1)<>\"\",OFFSET(DE102_5!$W$104,ROWS($W$104:W146)-1,COLUMNS($W$104:W146)-1),\"\")","v":""},{"$f":"IF(OFFSET(DE102_5!$X$104,ROWS($X$104:X146)-1,COLUMNS($X$104:X146)-1)<>\"\",OFFSET(DE102_5!$X$104,ROWS($X$104:X146)-1,COLUMNS($X$104:X146)-1),\"\")","v":"SOPERS MILL"},{"$f":"IF(OFFSET(DE102_5!$Y$104,ROWS($Y$104:Y146)-1,COLUMNS($Y$104:Y146)-1)<>\"\",OFFSET(DE102_5!$Y$104,ROWS($Y$104:Y146)-1,COLUMNS($Y$104:Y146)-1),\"\")","v":"C.LST."},{"$f":"IF(OFFSET(DE102_5!$Z$104,ROWS($Z$104:Z146)-1,COLUMNS($Z$104:Z146)-1)<>\"\",OFFSET(DE102_5!$Z$104,ROWS($Z$104:Z146)-1,COLUMNS($Z$104:Z146)-1),\"\")","v":""},{"$f":"IF(OFFSET(DE102_5!$AA$104,ROWS($AA$104:AA146)-1,COLUMNS($AA$104:AA146)-1)<>\"\",OFFSET(DE102_5!$AA$104,ROWS($AA$104:AA146)-1,COLUMNS($AA$104:AA146)-1),\"\")","v":""},{"$f":"IF(OFFSET(DE102_5!$AB$104,ROWS($AB$104:AB146)-1,COLUMNS($AB$104:AB146)-1)<>\"\",OFFSET(DE102_5!$AB$104,ROWS($AB$104:AB146)-1,COLUMNS($AB$104:AB146)-1),\"\")","v":""}]
[{"$f":"IF(OFFSET(DE102_5!$C$104,ROWS($C$104:C147)-1,COLUMNS($C$104:C147)-1)<>\"\",OFFSET(DE102_5!$C$104,ROWS($C$104:C147)-1,COLUMNS($C$104:C147)-1),\"\")","v":""},{"$f":"IF(OFFSET(DE102_5!$F$104,ROWS($F$104:F147)-1,COLUMNS($F$104:F147)-1)<>\"\",OFFSET(DE102_5!$F$104,ROWS($F$104:F147)-1,COLUMNS($F$104:F147)-1),\"\")","v":85},{"$f":"IF(OFFSET(DE102_5!$G$104,ROWS($G$104:G147)-1,COLUMNS($G$104:G147)-1)<>\"\",OFFSET(DE102_5!$G$104,ROWS($G$104:G147)-1,COLUMNS($G$104:G147)-1),\"\")","v":"IA-210"},{"$f":"IF(OFFSET(DE102_5!$H$104,ROWS($H$104:H147)-1,COLUMNS($H$104:H147)-1)<>\"\",OFFSET(DE102_5!$H$104,ROWS($H$104:H147)-1,COLUMNS($H$104:H147)-1),\"\")","v":1},{"$f":"IF(OFFSET(DE102_5!$I$104,ROWS($I$104:I147)-1,COLUMNS($I$104:I147)-1)<>\"\",OFFSET(DE102_5!$I$104,ROWS($I$104:I147)-1,COLUMNS($I$104:I147)-1),\"\")","v":20.260000000000002},{"$f":"IF(OFFSET(DE102_5!$J$104,ROWS($J$104:J147)-1,COLUMNS($J$104:J147)-1)<>\"\",OFFSET(DE102_5!$J$104,ROWS($J$104:J147)-1,COLUMNS($J$104:J147)-1),\"\")","v":29.29},{"$f":"IF(OFFSET(DE102_5!$M$104,ROWS($M$104:M147)-1,COLUMNS($M$104:M147)-1)<>\"\",OFFSET(DE102_5!$M$104,ROWS($M$104:M147)-1,COLUMNS($M$104:M147)-1),\"\")","v":1965},{"$f":"IF(OFFSET(DE102_5!$N$104,ROWS($N$104:N147)-1,COLUMNS($N$104:N147)-1)<>\"\",OFFSET(DE102_5!$N$104,ROWS($N$104:N147)-1,COLUMNS($N$104:N147)-1),\"\")","v":""},{"$f":"IF(OFFSET(DE102_5!$O$104,ROWS($O$104:O147)-1,COLUMNS($O$104:O147)-1)<>\"\",OFFSET(DE102_5!$O$104,ROWS($O$104:O147)-1,COLUMNS($O$104:O147)-1),\"\")","v":"FN-210-3(1)--21-85"},{"$f":"IF(OFFSET(DE102_5!$P$104,ROWS($P$104:P147)-1,COLUMNS($P$104:P147)-1)<>\"\",OFFSET(DE102_5!$P$104,ROWS($P$104:P147)-1,COLUMNS($P$104:P147)-1),\"\")","v":"BAC"},{"$f":"IF(OFFSET(DE102_5!$Q$104,ROWS($Q$104:Q147)-1,COLUMNS($Q$104:Q147)-1)<>\"\",OFFSET(DE102_5!$Q$104,ROWS($Q$104:Q147)-1,COLUMNS($Q$104:Q147)-1),\"\")","v":1},{"$f":"IF(OFFSET(DE102_5!$R$104,ROWS($R$104:R147)-1,COLUMNS($R$104:R147)-1)<>\"\",OFFSET(DE102_5!$R$104,ROWS($R$104:R147)-1,COLUMNS($R$104:R147)-1),\"\")","v":"TBB"},{"$f":"IF(OFFSET(DE102_5!$S$104,ROWS($S$104:S147)-1,COLUMNS($S$104:S147)-1)<>\"\",OFFSET(DE102_5!$S$104,ROWS($S$104:S147)-1,COLUMNS($S$104:S147)-1),\"\")","v":2.5},{"$f":"IF(OFFSET(DE102_5!$T$104,ROWS($T$104:T147)-1,COLUMNS($T$104:T147)-1)<>\"\",OFFSET(DE102_5!$T$104,ROWS($T$104:T147)-1,COLUMNS($T$104:T147)-1),\"\")","v":""},{"$f":"IF(OFFSET(DE102_5!$U$104,ROWS($U$104:U147)-1,COLUMNS($U$104:U147)-1)<>\"\",OFFSET(DE102_5!$U$104,ROWS($U$104:U147)-1,COLUMNS($U$104:U147)-1),\"\")","v":""},{"$f":"IF(OFFSET(DE102_5!$V$104,ROWS($V$104:V147)-1,COLUMNS($V$104:V147)-1)<>\"\",OFFSET(DE102_5!$V$104,ROWS($V$104:V147)-1,COLUMNS($V$104:V147)-1),\"\")","v":""},{"$f":"IF(OFFSET(DE102_5!$W$104,ROWS($W$104:W147)-1,COLUMNS($W$104:W147)-1)<>\"\",OFFSET(DE102_5!$W$104,ROWS($W$104:W147)-1,COLUMNS($W$104:W147)-1),\"\")","v":""},{"$f":"IF(OFFSET(DE102_5!$X$104,ROWS($X$104:X147)-1,COLUMNS($X$104:X147)-1)<>\"\",OFFSET(DE102_5!$X$104,ROWS($X$104:X147)-1,COLUMNS($X$104:X147)-1),\"\")","v":""},{"$f":"IF(OFFSET(DE102_5!$Y$104,ROWS($Y$104:Y147)-1,COLUMNS($Y$104:Y147)-1)<>\"\",OFFSET(DE102_5!$Y$104,ROWS($Y$104:Y147)-1,COLUMNS($Y$104:Y147)-1),\"\")","v":""},{"$f":"IF(OFFSET(DE102_5!$Z$104,ROWS($Z$104:Z147)-1,COLUMNS($Z$104:Z147)-1)<>\"\",OFFSET(DE102_5!$Z$104,ROWS($Z$104:Z147)-1,COLUMNS($Z$104:Z147)-1),\"\")","v":""},{"$f":"IF(OFFSET(DE102_5!$AA$104,ROWS($AA$104:AA147)-1,COLUMNS($AA$104:AA147)-1)<>\"\",OFFSET(DE102_5!$AA$104,ROWS($AA$104:AA147)-1,COLUMNS($AA$104:AA147)-1),\"\")","v":""},{"$f":"IF(OFFSET(DE102_5!$AB$104,ROWS($AB$104:AB147)-1,COLUMNS($AB$104:AB147)-1)<>\"\",OFFSET(DE102_5!$AB$104,ROWS($AB$104:AB147)-1,COLUMNS($AB$104:AB147)-1),\"\")","v":""}]
[{"$f":"IF(OFFSET(DE102_5!$C$104,ROWS($C$104:C148)-1,COLUMNS($C$104:C148)-1)<>\"\",OFFSET(DE102_5!$C$104,ROWS($C$104:C148)-1,COLUMNS($C$104:C148)-1),\"\")","v":""},{"$f":"IF(OFFSET(DE102_5!$F$104,ROWS($F$104:F148)-1,COLUMNS($F$104:F148)-1)<>\"\",OFFSET(DE102_5!$F$104,ROWS($F$104:F148)-1,COLUMNS($F$104:F148)-1),\"\")","v":85},{"$f":"IF(OFFSET(DE102_5!$G$104,ROWS($G$104:G148)-1,COLUMNS($G$104:G148)-1)<>\"\",OFFSET(DE102_5!$G$104,ROWS($G$104:G148)-1,COLUMNS($G$104:G148)-1),\"\")","v":"IA-210"},{"$f":"IF(OFFSET(DE102_5!$H$104,ROWS($H$104:H148)-1,COLUMNS($H$104:H148)-1)<>\"\",OFFSET(DE102_5!$H$104,ROWS($H$104:H148)-1,COLUMNS($H$104:H148)-1),\"\")","v":1},{"$f":"IF(OFFSET(DE102_5!$I$104,ROWS($I$104:I148)-1,COLUMNS($I$104:I148)-1)<>\"\",OFFSET(DE102_5!$I$104,ROWS($I$104:I148)-1,COLUMNS($I$104:I148)-1),\"\")","v":20.260000000000002},{"$f":"IF(OFFSET(DE102_5!$J$104,ROWS($J$104:J148)-1,COLUMNS($J$104:J148)-1)<>\"\",OFFSET(DE102_5!$J$104,ROWS($J$104:J148)-1,COLUMNS($J$104:J148)-1),\"\")","v":29.29},{"$f":"IF(OFFSET(DE102_5!$M$104,ROWS($M$104:M148)-1,COLUMNS($M$104:M148)-1)<>\"\",OFFSET(DE102_5!$M$104,ROWS($M$104:M148)-1,COLUMNS($M$104:M148)-1),\"\")","v":1956},{"$f":"IF(OFFSET(DE102_5!$N$104,ROWS($N$104:N148)-1,COLUMNS($N$104:N148)-1)<>\"\",OFFSET(DE102_5!$N$104,ROWS($N$104:N148)-1,COLUMNS($N$104:N148)-1),\"\")","v":""},{"$f":"IF(OFFSET(DE102_5!$O$104,ROWS($O$104:O148)-1,COLUMNS($O$104:O148)-1)<>\"\",OFFSET(DE102_5!$O$104,ROWS($O$104:O148)-1,COLUMNS($O$104:O148)-1),\"\")","v":"F-947(3)"},{"$f":"IF(OFFSET(DE102_5!$P$104,ROWS($P$104:P148)-1,COLUMNS($P$104:P148)-1)<>\"\",OFFSET(DE102_5!$P$104,ROWS($P$104:P148)-1,COLUMNS($P$104:P148)-1),\"\")","v":"BAC"},{"$f":"IF(OFFSET(DE102_5!$Q$104,ROWS($Q$104:Q148)-1,COLUMNS($Q$104:Q148)-1)<>\"\",OFFSET(DE102_5!$Q$104,ROWS($Q$104:Q148)-1,COLUMNS($Q$104:Q148)-1),\"\")","v":2},{"$f":"IF(OFFSET(DE102_5!$R$104,ROWS($R$104:R148)-1,COLUMNS($R$104:R148)-1)<>\"\",OFFSET(DE102_5!$R$104,ROWS($R$104:R148)-1,COLUMNS($R$104:R148)-1),\"\")","v":"RSB"},{"$f":"IF(OFFSET(DE102_5!$S$104,ROWS($S$104:S148)-1,COLUMNS($S$104:S148)-1)<>\"\",OFFSET(DE102_5!$S$104,ROWS($S$104:S148)-1,COLUMNS($S$104:S148)-1),\"\")","v":6},{"$f":"IF(OFFSET(DE102_5!$T$104,ROWS($T$104:T148)-1,COLUMNS($T$104:T148)-1)<>\"\",OFFSET(DE102_5!$T$104,ROWS($T$104:T148)-1,COLUMNS($T$104:T148)-1),\"\")","v":"SAS"},{"$f":"IF(OFFSET(DE102_5!$U$104,ROWS($U$104:U148)-1,COLUMNS($U$104:U148)-1)<>\"\",OFFSET(DE102_5!$U$104,ROWS($U$104:U148)-1,COLUMNS($U$104:U148)-1),\"\")","v":6},{"$f":"IF(OFFSET(DE102_5!$V$104,ROWS($V$104:V148)-1,COLUMNS($V$104:V148)-1)<>\"\",OFFSET(DE102_5!$V$104,ROWS($V$104:V148)-1,COLUMNS($V$104:V148)-1),\"\")","v":""},{"$f":"IF(OFFSET(DE102_5!$W$104,ROWS($W$104:W148)-1,COLUMNS($W$104:W148)-1)<>\"\",OFFSET(DE102_5!$W$104,ROWS($W$104:W148)-1,COLUMNS($W$104:W148)-1),\"\")","v":""},{"$f":"IF(OFFSET(DE102_5!$X$104,ROWS($X$104:X148)-1,COLUMNS($X$104:X148)-1)<>\"\",OFFSET(DE102_5!$X$104,ROWS($X$104:X148)-1,COLUMNS($X$104:X148)-1),\"\")","v":"AMES MINE"},{"$f":"IF(OFFSET(DE102_5!$Y$104,ROWS($Y$104:Y148)-1,COLUMNS($Y$104:Y148)-1)<>\"\",OFFSET(DE102_5!$Y$104,ROWS($Y$104:Y148)-1,COLUMNS($Y$104:Y148)-1),\"\")","v":"C.LST."},{"$f":"IF(OFFSET(DE102_5!$Z$104,ROWS($Z$104:Z148)-1,COLUMNS($Z$104:Z148)-1)<>\"\",OFFSET(DE102_5!$Z$104,ROWS($Z$104:Z148)-1,COLUMNS($Z$104:Z148)-1),\"\")","v":""},{"$f":"IF(OFFSET(DE102_5!$AA$104,ROWS($AA$104:AA148)-1,COLUMNS($AA$104:AA148)-1)<>\"\",OFFSET(DE102_5!$AA$104,ROWS($AA$104:AA148)-1,COLUMNS($AA$104:AA148)-1),\"\")","v":""},{"$f":"IF(OFFSET(DE102_5!$AB$104,ROWS($AB$104:AB148)-1,COLUMNS($AB$104:AB148)-1)<>\"\",OFFSET(DE102_5!$AB$104,ROWS($AB$104:AB148)-1,COLUMNS($AB$104:AB148)-1),\"\")","v":""}]
[{"$f":"IF(OFFSET(DE102_5!$C$104,ROWS($C$104:C149)-1,COLUMNS($C$104:C149)-1)<>\"\",OFFSET(DE102_5!$C$104,ROWS($C$104:C149)-1,COLUMNS($C$104:C149)-1),\"\")","v":""},{"$f":"IF(OFFSET(DE102_5!$F$104,ROWS($F$104:F149)-1,COLUMNS($F$104:F149)-1)<>\"\",OFFSET(DE102_5!$F$104,ROWS($F$104:F149)-1,COLUMNS($F$104:F149)-1),\"\")","v":""},{"$f":"IF(OFFSET(DE102_5!$G$104,ROWS($G$104:G149)-1,COLUMNS($G$104:G149)-1)<>\"\",OFFSET(DE102_5!$G$104,ROWS($G$104:G149)-1,COLUMNS($G$104:G149)-1),\"\")","v":""},{"$f":"IF(OFFSET(DE102_5!$H$104,ROWS($H$104:H149)-1,COLUMNS($H$104:H149)-1)<>\"\",OFFSET(DE102_5!$H$104,ROWS($H$104:H149)-1,COLUMNS($H$104:H149)-1),\"\")","v":""},{"$f":"IF(OFFSET(DE102_5!$I$104,ROWS($I$104:I149)-1,COLUMNS($I$104:I149)-1)<>\"\",OFFSET(DE102_5!$I$104,ROWS($I$104:I149)-1,COLUMNS($I$104:I149)-1),\"\")","v":""},{"$f":"IF(OFFSET(DE102_5!$J$104,ROWS($J$104:J149)-1,COLUMNS($J$104:J149)-1)<>\"\",OFFSET(DE102_5!$J$104,ROWS($J$104:J149)-1,COLUMNS($J$104:J149)-1),\"\")","v":""},{"$f":"IF(OFFSET(DE102_5!$M$104,ROWS($M$104:M149)-1,COLUMNS($M$104:M149)-1)<>\"\",OFFSET(DE102_5!$M$104,ROWS($M$104:M149)-1,COLUMNS($M$104:M149)-1),\"\")","v":""},{"$f":"IF(OFFSET(DE102_5!$N$104,ROWS($N$104:N149)-1,COLUMNS($N$104:N149)-1)<>\"\",OFFSET(DE102_5!$N$104,ROWS($N$104:N149)-1,COLUMNS($N$104:N149)-1),\"\")","v":""},{"$f":"IF(OFFSET(DE102_5!$O$104,ROWS($O$104:O149)-1,COLUMNS($O$104:O149)-1)<>\"\",OFFSET(DE102_5!$O$104,ROWS($O$104:O149)-1,COLUMNS($O$104:O149)-1),\"\")","v":""},{"$f":"IF(OFFSET(DE102_5!$P$104,ROWS($P$104:P149)-1,COLUMNS($P$104:P149)-1)<>\"\",OFFSET(DE102_5!$P$104,ROWS($P$104:P149)-1,COLUMNS($P$104:P149)-1),\"\")","v":""},{"$f":"IF(OFFSET(DE102_5!$Q$104,ROWS($Q$104:Q149)-1,COLUMNS($Q$104:Q149)-1)<>\"\",OFFSET(DE102_5!$Q$104,ROWS($Q$104:Q149)-1,COLUMNS($Q$104:Q149)-1),\"\")","v":""},{"$f":"IF(OFFSET(DE102_5!$R$104,ROWS($R$104:R149)-1,COLUMNS($R$104:R149)-1)<>\"\",OFFSET(DE102_5!$R$104,ROWS($R$104:R149)-1,COLUMNS($R$104:R149)-1),\"\")","v":""},{"$f":"IF(OFFSET(DE102_5!$S$104,ROWS($S$104:S149)-1,COLUMNS($S$104:S149)-1)<>\"\",OFFSET(DE102_5!$S$104,ROWS($S$104:S149)-1,COLUMNS($S$104:S149)-1),\"\")","v":""},{"$f":"IF(OFFSET(DE102_5!$T$104,ROWS($T$104:T149)-1,COLUMNS($T$104:T149)-1)<>\"\",OFFSET(DE102_5!$T$104,ROWS($T$104:T149)-1,COLUMNS($T$104:T149)-1),\"\")","v":""},{"$f":"IF(OFFSET(DE102_5!$U$104,ROWS($U$104:U149)-1,COLUMNS($U$104:U149)-1)<>\"\",OFFSET(DE102_5!$U$104,ROWS($U$104:U149)-1,COLUMNS($U$104:U149)-1),\"\")","v":""},{"$f":"IF(OFFSET(DE102_5!$V$104,ROWS($V$104:V149)-1,COLUMNS($V$104:V149)-1)<>\"\",OFFSET(DE102_5!$V$104,ROWS($V$104:V149)-1,COLUMNS($V$104:V149)-1),\"\")","v":""},{"$f":"IF(OFFSET(DE102_5!$W$104,ROWS($W$104:W149)-1,COLUMNS($W$104:W149)-1)<>\"\",OFFSET(DE102_5!$W$104,ROWS($W$104:W149)-1,COLUMNS($W$104:W149)-1),\"\")","v":""},{"$f":"IF(OFFSET(DE102_5!$X$104,ROWS($X$104:X149)-1,COLUMNS($X$104:X149)-1)<>\"\",OFFSET(DE102_5!$X$104,ROWS($X$104:X149)-1,COLUMNS($X$104:X149)-1),\"\")","v":""},{"$f":"IF(OFFSET(DE102_5!$Y$104,ROWS($Y$104:Y149)-1,COLUMNS($Y$104:Y149)-1)<>\"\",OFFSET(DE102_5!$Y$104,ROWS($Y$104:Y149)-1,COLUMNS($Y$104:Y149)-1),\"\")","v":""},{"$f":"IF(OFFSET(DE102_5!$Z$104,ROWS($Z$104:Z149)-1,COLUMNS($Z$104:Z149)-1)<>\"\",OFFSET(DE102_5!$Z$104,ROWS($Z$104:Z149)-1,COLUMNS($Z$104:Z149)-1),\"\")","v":""},{"$f":"IF(OFFSET(DE102_5!$AA$104,ROWS($AA$104:AA149)-1,COLUMNS($AA$104:AA149)-1)<>\"\",OFFSET(DE102_5!$AA$104,ROWS($AA$104:AA149)-1,COLUMNS($AA$104:AA149)-1),\"\")","v":""},{"$f":"IF(OFFSET(DE102_5!$AB$104,ROWS($AB$104:AB149)-1,COLUMNS($AB$104:AB149)-1)<>\"\",OFFSET(DE102_5!$AB$104,ROWS($AB$104:AB149)-1,COLUMNS($AB$104:AB149)-1),\"\")","v":""}]
[{"$f":"IF(OFFSET(DE102_5!$C$104,ROWS($C$104:C150)-1,COLUMNS($C$104:C150)-1)<>\"\",OFFSET(DE102_5!$C$104,ROWS($C$104:C150)-1,COLUMNS($C$104:C150)-1),\"\")","v":""},{"$f":"IF(OFFSET(DE102_5!$F$104,ROWS($F$104:F150)-1,COLUMNS($F$104:F150)-1)<>\"\",OFFSET(DE102_5!$F$104,ROWS($F$104:F150)-1,COLUMNS($F$104:F150)-1),\"\")","v":""},{"$f":"IF(OFFSET(DE102_5!$G$104,ROWS($G$104:G150)-1,COLUMNS($G$104:G150)-1)<>\"\",OFFSET(DE102_5!$G$104,ROWS($G$104:G150)-1,COLUMNS($G$104:G150)-1),\"\")","v":""},{"$f":"IF(OFFSET(DE102_5!$H$104,ROWS($H$104:H150)-1,COLUMNS($H$104:H150)-1)<>\"\",OFFSET(DE102_5!$H$104,ROWS($H$104:H150)-1,COLUMNS($H$104:H150)-1),\"\")","v":""},{"$f":"IF(OFFSET(DE102_5!$I$104,ROWS($I$104:I150)-1,COLUMNS($I$104:I150)-1)<>\"\",OFFSET(DE102_5!$I$104,ROWS($I$104:I150)-1,COLUMNS($I$104:I150)-1),\"\")","v":""},{"$f":"IF(OFFSET(DE102_5!$J$104,ROWS($J$104:J150)-1,COLUMNS($J$104:J150)-1)<>\"\",OFFSET(DE102_5!$J$104,ROWS($J$104:J150)-1,COLUMNS($J$104:J150)-1),\"\")","v":""},{"$f":"IF(OFFSET(DE102_5!$M$104,ROWS($M$104:M150)-1,COLUMNS($M$104:M150)-1)<>\"\",OFFSET(DE102_5!$M$104,ROWS($M$104:M150)-1,COLUMNS($M$104:M150)-1),\"\")","v":""},{"$f":"IF(OFFSET(DE102_5!$N$104,ROWS($N$104:N150)-1,COLUMNS($N$104:N150)-1)<>\"\",OFFSET(DE102_5!$N$104,ROWS($N$104:N150)-1,COLUMNS($N$104:N150)-1),\"\")","v":""},{"$f":"IF(OFFSET(DE102_5!$O$104,ROWS($O$104:O150)-1,COLUMNS($O$104:O150)-1)<>\"\",OFFSET(DE102_5!$O$104,ROWS($O$104:O150)-1,COLUMNS($O$104:O150)-1),\"\")","v":""},{"$f":"IF(OFFSET(DE102_5!$P$104,ROWS($P$104:P150)-1,COLUMNS($P$104:P150)-1)<>\"\",OFFSET(DE102_5!$P$104,ROWS($P$104:P150)-1,COLUMNS($P$104:P150)-1),\"\")","v":""},{"$f":"IF(OFFSET(DE102_5!$Q$104,ROWS($Q$104:Q150)-1,COLUMNS($Q$104:Q150)-1)<>\"\",OFFSET(DE102_5!$Q$104,ROWS($Q$104:Q150)-1,COLUMNS($Q$104:Q150)-1),\"\")","v":""},{"$f":"IF(OFFSET(DE102_5!$R$104,ROWS($R$104:R150)-1,COLUMNS($R$104:R150)-1)<>\"\",OFFSET(DE102_5!$R$104,ROWS($R$104:R150)-1,COLUMNS($R$104:R150)-1),\"\")","v":""},{"$f":"IF(OFFSET(DE102_5!$S$104,ROWS($S$104:S150)-1,COLUMNS($S$104:S150)-1)<>\"\",OFFSET(DE102_5!$S$104,ROWS($S$104:S150)-1,COLUMNS($S$104:S150)-1),\"\")","v":""},{"$f":"IF(OFFSET(DE102_5!$T$104,ROWS($T$104:T150)-1,COLUMNS($T$104:T150)-1)<>\"\",OFFSET(DE102_5!$T$104,ROWS($T$104:T150)-1,COLUMNS($T$104:T150)-1),\"\")","v":""},{"$f":"IF(OFFSET(DE102_5!$U$104,ROWS($U$104:U150)-1,COLUMNS($U$104:U150)-1)<>\"\",OFFSET(DE102_5!$U$104,ROWS($U$104:U150)-1,COLUMNS($U$104:U150)-1),\"\")","v":""},{"$f":"IF(OFFSET(DE102_5!$V$104,ROWS($V$104:V150)-1,COLUMNS($V$104:V150)-1)<>\"\",OFFSET(DE102_5!$V$104,ROWS($V$104:V150)-1,COLUMNS($V$104:V150)-1),\"\")","v":""},{"$f":"IF(OFFSET(DE102_5!$W$104,ROWS($W$104:W150)-1,COLUMNS($W$104:W150)-1)<>\"\",OFFSET(DE102_5!$W$104,ROWS($W$104:W150)-1,COLUMNS($W$104:W150)-1),\"\")","v":""},{"$f":"IF(OFFSET(DE102_5!$X$104,ROWS($X$104:X150)-1,COLUMNS($X$104:X150)-1)<>\"\",OFFSET(DE102_5!$X$104,ROWS($X$104:X150)-1,COLUMNS($X$104:X150)-1),\"\")","v":""},{"$f":"IF(OFFSET(DE102_5!$Y$104,ROWS($Y$104:Y150)-1,COLUMNS($Y$104:Y150)-1)<>\"\",OFFSET(DE102_5!$Y$104,ROWS($Y$104:Y150)-1,COLUMNS($Y$104:Y150)-1),\"\")","v":""},{"$f":"IF(OFFSET(DE102_5!$Z$104,ROWS($Z$104:Z150)-1,COLUMNS($Z$104:Z150)-1)<>\"\",OFFSET(DE102_5!$Z$104,ROWS($Z$104:Z150)-1,COLUMNS($Z$104:Z150)-1),\"\")","v":""},{"$f":"IF(OFFSET(DE102_5!$AA$104,ROWS($AA$104:AA150)-1,COLUMNS($AA$104:AA150)-1)<>\"\",OFFSET(DE102_5!$AA$104,ROWS($AA$104:AA150)-1,COLUMNS($AA$104:AA150)-1),\"\")","v":""},{"$f":"IF(OFFSET(DE102_5!$AB$104,ROWS($AB$104:AB150)-1,COLUMNS($AB$104:AB150)-1)<>\"\",OFFSET(DE102_5!$AB$104,ROWS($AB$104:AB150)-1,COLUMNS($AB$104:AB150)-1),\"\")","v":""}]
[{"$f":"IF(OFFSET(DE102_5!$C$104,ROWS($C$104:C151)-1,COLUMNS($C$104:C151)-1)<>\"\",OFFSET(DE102_5!$C$104,ROWS($C$104:C151)-1,COLUMNS($C$104:C151)-1),\"\")","v":""},{"$f":"IF(OFFSET(DE102_5!$F$104,ROWS($F$104:F151)-1,COLUMNS($F$104:F151)-1)<>\"\",OFFSET(DE102_5!$F$104,ROWS($F$104:F151)-1,COLUMNS($F$104:F151)-1),\"\")","v":""},{"$f":"IF(OFFSET(DE102_5!$G$104,ROWS($G$104:G151)-1,COLUMNS($G$104:G151)-1)<>\"\",OFFSET(DE102_5!$G$104,ROWS($G$104:G151)-1,COLUMNS($G$104:G151)-1),\"\")","v":""},{"$f":"IF(OFFSET(DE102_5!$H$104,ROWS($H$104:H151)-1,COLUMNS($H$104:H151)-1)<>\"\",OFFSET(DE102_5!$H$104,ROWS($H$104:H151)-1,COLUMNS($H$104:H151)-1),\"\")","v":""},{"$f":"IF(OFFSET(DE102_5!$I$104,ROWS($I$104:I151)-1,COLUMNS($I$104:I151)-1)<>\"\",OFFSET(DE102_5!$I$104,ROWS($I$104:I151)-1,COLUMNS($I$104:I151)-1),\"\")","v":""},{"$f":"IF(OFFSET(DE102_5!$J$104,ROWS($J$104:J151)-1,COLUMNS($J$104:J151)-1)<>\"\",OFFSET(DE102_5!$J$104,ROWS($J$104:J151)-1,COLUMNS($J$104:J151)-1),\"\")","v":""},{"$f":"IF(OFFSET(DE102_5!$M$104,ROWS($M$104:M151)-1,COLUMNS($M$104:M151)-1)<>\"\",OFFSET(DE102_5!$M$104,ROWS($M$104:M151)-1,COLUMNS($M$104:M151)-1),\"\")","v":""},{"$f":"IF(OFFSET(DE102_5!$N$104,ROWS($N$104:N151)-1,COLUMNS($N$104:N151)-1)<>\"\",OFFSET(DE102_5!$N$104,ROWS($N$104:N151)-1,COLUMNS($N$104:N151)-1),\"\")","v":""},{"$f":"IF(OFFSET(DE102_5!$O$104,ROWS($O$104:O151)-1,COLUMNS($O$104:O151)-1)<>\"\",OFFSET(DE102_5!$O$104,ROWS($O$104:O151)-1,COLUMNS($O$104:O151)-1),\"\")","v":""},{"$f":"IF(OFFSET(DE102_5!$P$104,ROWS($P$104:P151)-1,COLUMNS($P$104:P151)-1)<>\"\",OFFSET(DE102_5!$P$104,ROWS($P$104:P151)-1,COLUMNS($P$104:P151)-1),\"\")","v":""},{"$f":"IF(OFFSET(DE102_5!$Q$104,ROWS($Q$104:Q151)-1,COLUMNS($Q$104:Q151)-1)<>\"\",OFFSET(DE102_5!$Q$104,ROWS($Q$104:Q151)-1,COLUMNS($Q$104:Q151)-1),\"\")","v":""},{"$f":"IF(OFFSET(DE102_5!$R$104,ROWS($R$104:R151)-1,COLUMNS($R$104:R151)-1)<>\"\",OFFSET(DE102_5!$R$104,ROWS($R$104:R151)-1,COLUMNS($R$104:R151)-1),\"\")","v":""},{"$f":"IF(OFFSET(DE102_5!$S$104,ROWS($S$104:S151)-1,COLUMNS($S$104:S151)-1)<>\"\",OFFSET(DE102_5!$S$104,ROWS($S$104:S151)-1,COLUMNS($S$104:S151)-1),\"\")","v":""},{"$f":"IF(OFFSET(DE102_5!$T$104,ROWS($T$104:T151)-1,COLUMNS($T$104:T151)-1)<>\"\",OFFSET(DE102_5!$T$104,ROWS($T$104:T151)-1,COLUMNS($T$104:T151)-1),\"\")","v":""},{"$f":"IF(OFFSET(DE102_5!$U$104,ROWS($U$104:U151)-1,COLUMNS($U$104:U151)-1)<>\"\",OFFSET(DE102_5!$U$104,ROWS($U$104:U151)-1,COLUMNS($U$104:U151)-1),\"\")","v":""},{"$f":"IF(OFFSET(DE102_5!$V$104,ROWS($V$104:V151)-1,COLUMNS($V$104:V151)-1)<>\"\",OFFSET(DE102_5!$V$104,ROWS($V$104:V151)-1,COLUMNS($V$104:V151)-1),\"\")","v":""},{"$f":"IF(OFFSET(DE102_5!$W$104,ROWS($W$104:W151)-1,COLUMNS($W$104:W151)-1)<>\"\",OFFSET(DE102_5!$W$104,ROWS($W$104:W151)-1,COLUMNS($W$104:W151)-1),\"\")","v":""},{"$f":"IF(OFFSET(DE102_5!$X$104,ROWS($X$104:X151)-1,COLUMNS($X$104:X151)-1)<>\"\",OFFSET(DE102_5!$X$104,ROWS($X$104:X151)-1,COLUMNS($X$104:X151)-1),\"\")","v":""},{"$f":"IF(OFFSET(DE102_5!$Y$104,ROWS($Y$104:Y151)-1,COLUMNS($Y$104:Y151)-1)<>\"\",OFFSET(DE102_5!$Y$104,ROWS($Y$104:Y151)-1,COLUMNS($Y$104:Y151)-1),\"\")","v":""},{"$f":"IF(OFFSET(DE102_5!$Z$104,ROWS($Z$104:Z151)-1,COLUMNS($Z$104:Z151)-1)<>\"\",OFFSET(DE102_5!$Z$104,ROWS($Z$104:Z151)-1,COLUMNS($Z$104:Z151)-1),\"\")","v":""},{"$f":"IF(OFFSET(DE102_5!$AA$104,ROWS($AA$104:AA151)-1,COLUMNS($AA$104:AA151)-1)<>\"\",OFFSET(DE102_5!$AA$104,ROWS($AA$104:AA151)-1,COLUMNS($AA$104:AA151)-1),\"\")","v":""},{"$f":"IF(OFFSET(DE102_5!$AB$104,ROWS($AB$104:AB151)-1,COLUMNS($AB$104:AB151)-1)<>\"\",OFFSET(DE102_5!$AB$104,ROWS($AB$104:AB151)-1,COLUMNS($AB$104:AB151)-1),\"\")","v":""}]
[{"$f":"IF(OFFSET(DE102_5!$C$104,ROWS($C$104:C152)-1,COLUMNS($C$104:C152)-1)<>\"\",OFFSET(DE102_5!$C$104,ROWS($C$104:C152)-1,COLUMNS($C$104:C152)-1),\"\")","v":""},{"$f":"IF(OFFSET(DE102_5!$F$104,ROWS($F$104:F152)-1,COLUMNS($F$104:F152)-1)<>\"\",OFFSET(DE102_5!$F$104,ROWS($F$104:F152)-1,COLUMNS($F$104:F152)-1),\"\")","v":""},{"$f":"IF(OFFSET(DE102_5!$G$104,ROWS($G$104:G152)-1,COLUMNS($G$104:G152)-1)<>\"\",OFFSET(DE102_5!$G$104,ROWS($G$104:G152)-1,COLUMNS($G$104:G152)-1),\"\")","v":""},{"$f":"IF(OFFSET(DE102_5!$H$104,ROWS($H$104:H152)-1,COLUMNS($H$104:H152)-1)<>\"\",OFFSET(DE102_5!$H$104,ROWS($H$104:H152)-1,COLUMNS($H$104:H152)-1),\"\")","v":""},{"$f":"IF(OFFSET(DE102_5!$I$104,ROWS($I$104:I152)-1,COLUMNS($I$104:I152)-1)<>\"\",OFFSET(DE102_5!$I$104,ROWS($I$104:I152)-1,COLUMNS($I$104:I152)-1),\"\")","v":""},{"$f":"IF(OFFSET(DE102_5!$J$104,ROWS($J$104:J152)-1,COLUMNS($J$104:J152)-1)<>\"\",OFFSET(DE102_5!$J$104,ROWS($J$104:J152)-1,COLUMNS($J$104:J152)-1),\"\")","v":""},{"$f":"IF(OFFSET(DE102_5!$M$104,ROWS($M$104:M152)-1,COLUMNS($M$104:M152)-1)<>\"\",OFFSET(DE102_5!$M$104,ROWS($M$104:M152)-1,COLUMNS($M$104:M152)-1),\"\")","v":""},{"$f":"IF(OFFSET(DE102_5!$N$104,ROWS($N$104:N152)-1,COLUMNS($N$104:N152)-1)<>\"\",OFFSET(DE102_5!$N$104,ROWS($N$104:N152)-1,COLUMNS($N$104:N152)-1),\"\")","v":""},{"$f":"IF(OFFSET(DE102_5!$O$104,ROWS($O$104:O152)-1,COLUMNS($O$104:O152)-1)<>\"\",OFFSET(DE102_5!$O$104,ROWS($O$104:O152)-1,COLUMNS($O$104:O152)-1),\"\")","v":""},{"$f":"IF(OFFSET(DE102_5!$P$104,ROWS($P$104:P152)-1,COLUMNS($P$104:P152)-1)<>\"\",OFFSET(DE102_5!$P$104,ROWS($P$104:P152)-1,COLUMNS($P$104:P152)-1),\"\")","v":""},{"$f":"IF(OFFSET(DE102_5!$Q$104,ROWS($Q$104:Q152)-1,COLUMNS($Q$104:Q152)-1)<>\"\",OFFSET(DE102_5!$Q$104,ROWS($Q$104:Q152)-1,COLUMNS($Q$104:Q152)-1),\"\")","v":""},{"$f":"IF(OFFSET(DE102_5!$R$104,ROWS($R$104:R152)-1,COLUMNS($R$104:R152)-1)<>\"\",OFFSET(DE102_5!$R$104,ROWS($R$104:R152)-1,COLUMNS($R$104:R152)-1),\"\")","v":""},{"$f":"IF(OFFSET(DE102_5!$S$104,ROWS($S$104:S152)-1,COLUMNS($S$104:S152)-1)<>\"\",OFFSET(DE102_5!$S$104,ROWS($S$104:S152)-1,COLUMNS($S$104:S152)-1),\"\")","v":""},{"$f":"IF(OFFSET(DE102_5!$T$104,ROWS($T$104:T152)-1,COLUMNS($T$104:T152)-1)<>\"\",OFFSET(DE102_5!$T$104,ROWS($T$104:T152)-1,COLUMNS($T$104:T152)-1),\"\")","v":""},{"$f":"IF(OFFSET(DE102_5!$U$104,ROWS($U$104:U152)-1,COLUMNS($U$104:U152)-1)<>\"\",OFFSET(DE102_5!$U$104,ROWS($U$104:U152)-1,COLUMNS($U$104:U152)-1),\"\")","v":""},{"$f":"IF(OFFSET(DE102_5!$V$104,ROWS($V$104:V152)-1,COLUMNS($V$104:V152)-1)<>\"\",OFFSET(DE102_5!$V$104,ROWS($V$104:V152)-1,COLUMNS($V$104:V152)-1),\"\")","v":""},{"$f":"IF(OFFSET(DE102_5!$W$104,ROWS($W$104:W152)-1,COLUMNS($W$104:W152)-1)<>\"\",OFFSET(DE102_5!$W$104,ROWS($W$104:W152)-1,COLUMNS($W$104:W152)-1),\"\")","v":""},{"$f":"IF(OFFSET(DE102_5!$X$104,ROWS($X$104:X152)-1,COLUMNS($X$104:X152)-1)<>\"\",OFFSET(DE102_5!$X$104,ROWS($X$104:X152)-1,COLUMNS($X$104:X152)-1),\"\")","v":""},{"$f":"IF(OFFSET(DE102_5!$Y$104,ROWS($Y$104:Y152)-1,COLUMNS($Y$104:Y152)-1)<>\"\",OFFSET(DE102_5!$Y$104,ROWS($Y$104:Y152)-1,COLUMNS($Y$104:Y152)-1),\"\")","v":""},{"$f":"IF(OFFSET(DE102_5!$Z$104,ROWS($Z$104:Z152)-1,COLUMNS($Z$104:Z152)-1)<>\"\",OFFSET(DE102_5!$Z$104,ROWS($Z$104:Z152)-1,COLUMNS($Z$104:Z152)-1),\"\")","v":""},{"$f":"IF(OFFSET(DE102_5!$AA$104,ROWS($AA$104:AA152)-1,COLUMNS($AA$104:AA152)-1)<>\"\",OFFSET(DE102_5!$AA$104,ROWS($AA$104:AA152)-1,COLUMNS($AA$104:AA152)-1),\"\")","v":""},{"$f":"IF(OFFSET(DE102_5!$AB$104,ROWS($AB$104:AB152)-1,COLUMNS($AB$104:AB152)-1)<>\"\",OFFSET(DE102_5!$AB$104,ROWS($AB$104:AB152)-1,COLUMNS($AB$104:AB152)-1),\"\")","v":""}]
[{"$f":"IF(OFFSET(DE102_5!$C$104,ROWS($C$104:C153)-1,COLUMNS($C$104:C153)-1)<>\"\",OFFSET(DE102_5!$C$104,ROWS($C$104:C153)-1,COLUMNS($C$104:C153)-1),\"\")","v":""},{"$f":"IF(OFFSET(DE102_5!$F$104,ROWS($F$104:F153)-1,COLUMNS($F$104:F153)-1)<>\"\",OFFSET(DE102_5!$F$104,ROWS($F$104:F153)-1,COLUMNS($F$104:F153)-1),\"\")","v":""},{"$f":"IF(OFFSET(DE102_5!$G$104,ROWS($G$104:G153)-1,COLUMNS($G$104:G153)-1)<>\"\",OFFSET(DE102_5!$G$104,ROWS($G$104:G153)-1,COLUMNS($G$104:G153)-1),\"\")","v":""},{"$f":"IF(OFFSET(DE102_5!$H$104,ROWS($H$104:H153)-1,COLUMNS($H$104:H153)-1)<>\"\",OFFSET(DE102_5!$H$104,ROWS($H$104:H153)-1,COLUMNS($H$104:H153)-1),\"\")","v":""},{"$f":"IF(OFFSET(DE102_5!$I$104,ROWS($I$104:I153)-1,COLUMNS($I$104:I153)-1)<>\"\",OFFSET(DE102_5!$I$104,ROWS($I$104:I153)-1,COLUMNS($I$104:I153)-1),\"\")","v":""},{"$f":"IF(OFFSET(DE102_5!$J$104,ROWS($J$104:J153)-1,COLUMNS($J$104:J153)-1)<>\"\",OFFSET(DE102_5!$J$104,ROWS($J$104:J153)-1,COLUMNS($J$104:J153)-1),\"\")","v":""},{"$f":"IF(OFFSET(DE102_5!$M$104,ROWS($M$104:M153)-1,COLUMNS($M$104:M153)-1)<>\"\",OFFSET(DE102_5!$M$104,ROWS($M$104:M153)-1,COLUMNS($M$104:M153)-1),\"\")","v":""},{"$f":"IF(OFFSET(DE102_5!$N$104,ROWS($N$104:N153)-1,COLUMNS($N$104:N153)-1)<>\"\",OFFSET(DE102_5!$N$104,ROWS($N$104:N153)-1,COLUMNS($N$104:N153)-1),\"\")","v":""},{"$f":"IF(OFFSET(DE102_5!$O$104,ROWS($O$104:O153)-1,COLUMNS($O$104:O153)-1)<>\"\",OFFSET(DE102_5!$O$104,ROWS($O$104:O153)-1,COLUMNS($O$104:O153)-1),\"\")","v":""},{"$f":"IF(OFFSET(DE102_5!$P$104,ROWS($P$104:P153)-1,COLUMNS($P$104:P153)-1)<>\"\",OFFSET(DE102_5!$P$104,ROWS($P$104:P153)-1,COLUMNS($P$104:P153)-1),\"\")","v":""},{"$f":"IF(OFFSET(DE102_5!$Q$104,ROWS($Q$104:Q153)-1,COLUMNS($Q$104:Q153)-1)<>\"\",OFFSET(DE102_5!$Q$104,ROWS($Q$104:Q153)-1,COLUMNS($Q$104:Q153)-1),\"\")","v":""},{"$f":"IF(OFFSET(DE102_5!$R$104,ROWS($R$104:R153)-1,COLUMNS($R$104:R153)-1)<>\"\",OFFSET(DE102_5!$R$104,ROWS($R$104:R153)-1,COLUMNS($R$104:R153)-1),\"\")","v":""},{"$f":"IF(OFFSET(DE102_5!$S$104,ROWS($S$104:S153)-1,COLUMNS($S$104:S153)-1)<>\"\",OFFSET(DE102_5!$S$104,ROWS($S$104:S153)-1,COLUMNS($S$104:S153)-1),\"\")","v":""},{"$f":"IF(OFFSET(DE102_5!$T$104,ROWS($T$104:T153)-1,COLUMNS($T$104:T153)-1)<>\"\",OFFSET(DE102_5!$T$104,ROWS($T$104:T153)-1,COLUMNS($T$104:T153)-1),\"\")","v":""},{"$f":"IF(OFFSET(DE102_5!$U$104,ROWS($U$104:U153)-1,COLUMNS($U$104:U153)-1)<>\"\",OFFSET(DE102_5!$U$104,ROWS($U$104:U153)-1,COLUMNS($U$104:U153)-1),\"\")","v":""},{"$f":"IF(OFFSET(DE102_5!$V$104,ROWS($V$104:V153)-1,COLUMNS($V$104:V153)-1)<>\"\",OFFSET(DE102_5!$V$104,ROWS($V$104:V153)-1,COLUMNS($V$104:V153)-1),\"\")","v":""},{"$f":"IF(OFFSET(DE102_5!$W$104,ROWS($W$104:W153)-1,COLUMNS($W$104:W153)-1)<>\"\",OFFSET(DE102_5!$W$104,ROWS($W$104:W153)-1,COLUMNS($W$104:W153)-1),\"\")","v":""},{"$f":"IF(OFFSET(DE102_5!$X$104,ROWS($X$104:X153)-1,COLUMNS($X$104:X153)-1)<>\"\",OFFSET(DE102_5!$X$104,ROWS($X$104:X153)-1,COLUMNS($X$104:X153)-1),\"\")","v":""},{"$f":"IF(OFFSET(DE102_5!$Y$104,ROWS($Y$104:Y153)-1,COLUMNS($Y$104:Y153)-1)<>\"\",OFFSET(DE102_5!$Y$104,ROWS($Y$104:Y153)-1,COLUMNS($Y$104:Y153)-1),\"\")","v":""},{"$f":"IF(OFFSET(DE102_5!$Z$104,ROWS($Z$104:Z153)-1,COLUMNS($Z$104:Z153)-1)<>\"\",OFFSET(DE102_5!$Z$104,ROWS($Z$104:Z153)-1,COLUMNS($Z$104:Z153)-1),\"\")","v":""},{"$f":"IF(OFFSET(DE102_5!$AA$104,ROWS($AA$104:AA153)-1,COLUMNS($AA$104:AA153)-1)<>\"\",OFFSET(DE102_5!$AA$104,ROWS($AA$104:AA153)-1,COLUMNS($AA$104:AA153)-1),\"\")","v":""},{"$f":"IF(OFFSET(DE102_5!$AB$104,ROWS($AB$104:AB153)-1,COLUMNS($AB$104:AB153)-1)<>\"\",OFFSET(DE102_5!$AB$104,ROWS($AB$104:AB153)-1,COLUMNS($AB$104:AB153)-1),\"\")","v":""}]
[{"$f":"IF(OFFSET(DE102_5!$C$104,ROWS($C$104:C154)-1,COLUMNS($C$104:C154)-1)<>\"\",OFFSET(DE102_5!$C$104,ROWS($C$104:C154)-1,COLUMNS($C$104:C154)-1),\"\")","v":""},{"$f":"IF(OFFSET(DE102_5!$F$104,ROWS($F$104:F154)-1,COLUMNS($F$104:F154)-1)<>\"\",OFFSET(DE102_5!$F$104,ROWS($F$104:F154)-1,COLUMNS($F$104:F154)-1),\"\")","v":""},{"$f":"IF(OFFSET(DE102_5!$G$104,ROWS($G$104:G154)-1,COLUMNS($G$104:G154)-1)<>\"\",OFFSET(DE102_5!$G$104,ROWS($G$104:G154)-1,COLUMNS($G$104:G154)-1),\"\")","v":""},{"$f":"IF(OFFSET(DE102_5!$H$104,ROWS($H$104:H154)-1,COLUMNS($H$104:H154)-1)<>\"\",OFFSET(DE102_5!$H$104,ROWS($H$104:H154)-1,COLUMNS($H$104:H154)-1),\"\")","v":""},{"$f":"IF(OFFSET(DE102_5!$I$104,ROWS($I$104:I154)-1,COLUMNS($I$104:I154)-1)<>\"\",OFFSET(DE102_5!$I$104,ROWS($I$104:I154)-1,COLUMNS($I$104:I154)-1),\"\")","v":""},{"$f":"IF(OFFSET(DE102_5!$J$104,ROWS($J$104:J154)-1,COLUMNS($J$104:J154)-1)<>\"\",OFFSET(DE102_5!$J$104,ROWS($J$104:J154)-1,COLUMNS($J$104:J154)-1),\"\")","v":""},{"$f":"IF(OFFSET(DE102_5!$M$104,ROWS($M$104:M154)-1,COLUMNS($M$104:M154)-1)<>\"\",OFFSET(DE102_5!$M$104,ROWS($M$104:M154)-1,COLUMNS($M$104:M154)-1),\"\")","v":""},{"$f":"IF(OFFSET(DE102_5!$N$104,ROWS($N$104:N154)-1,COLUMNS($N$104:N154)-1)<>\"\",OFFSET(DE102_5!$N$104,ROWS($N$104:N154)-1,COLUMNS($N$104:N154)-1),\"\")","v":""},{"$f":"IF(OFFSET(DE102_5!$O$104,ROWS($O$104:O154)-1,COLUMNS($O$104:O154)-1)<>\"\",OFFSET(DE102_5!$O$104,ROWS($O$104:O154)-1,COLUMNS($O$104:O154)-1),\"\")","v":""},{"$f":"IF(OFFSET(DE102_5!$P$104,ROWS($P$104:P154)-1,COLUMNS($P$104:P154)-1)<>\"\",OFFSET(DE102_5!$P$104,ROWS($P$104:P154)-1,COLUMNS($P$104:P154)-1),\"\")","v":""},{"$f":"IF(OFFSET(DE102_5!$Q$104,ROWS($Q$104:Q154)-1,COLUMNS($Q$104:Q154)-1)<>\"\",OFFSET(DE102_5!$Q$104,ROWS($Q$104:Q154)-1,COLUMNS($Q$104:Q154)-1),\"\")","v":""},{"$f":"IF(OFFSET(DE102_5!$R$104,ROWS($R$104:R154)-1,COLUMNS($R$104:R154)-1)<>\"\",OFFSET(DE102_5!$R$104,ROWS($R$104:R154)-1,COLUMNS($R$104:R154)-1),\"\")","v":""},{"$f":"IF(OFFSET(DE102_5!$S$104,ROWS($S$104:S154)-1,COLUMNS($S$104:S154)-1)<>\"\",OFFSET(DE102_5!$S$104,ROWS($S$104:S154)-1,COLUMNS($S$104:S154)-1),\"\")","v":""},{"$f":"IF(OFFSET(DE102_5!$T$104,ROWS($T$104:T154)-1,COLUMNS($T$104:T154)-1)<>\"\",OFFSET(DE102_5!$T$104,ROWS($T$104:T154)-1,COLUMNS($T$104:T154)-1),\"\")","v":""},{"$f":"IF(OFFSET(DE102_5!$U$104,ROWS($U$104:U154)-1,COLUMNS($U$104:U154)-1)<>\"\",OFFSET(DE102_5!$U$104,ROWS($U$104:U154)-1,COLUMNS($U$104:U154)-1),\"\")","v":""},{"$f":"IF(OFFSET(DE102_5!$V$104,ROWS($V$104:V154)-1,COLUMNS($V$104:V154)-1)<>\"\",OFFSET(DE102_5!$V$104,ROWS($V$104:V154)-1,COLUMNS($V$104:V154)-1),\"\")","v":""},{"$f":"IF(OFFSET(DE102_5!$W$104,ROWS($W$104:W154)-1,COLUMNS($W$104:W154)-1)<>\"\",OFFSET(DE102_5!$W$104,ROWS($W$104:W154)-1,COLUMNS($W$104:W154)-1),\"\")","v":""},{"$f":"IF(OFFSET(DE102_5!$X$104,ROWS($X$104:X154)-1,COLUMNS($X$104:X154)-1)<>\"\",OFFSET(DE102_5!$X$104,ROWS($X$104:X154)-1,COLUMNS($X$104:X154)-1),\"\")","v":""},{"$f":"IF(OFFSET(DE102_5!$Y$104,ROWS($Y$104:Y154)-1,COLUMNS($Y$104:Y154)-1)<>\"\",OFFSET(DE102_5!$Y$104,ROWS($Y$104:Y154)-1,COLUMNS($Y$104:Y154)-1),\"\")","v":""},{"$f":"IF(OFFSET(DE102_5!$Z$104,ROWS($Z$104:Z154)-1,COLUMNS($Z$104:Z154)-1)<>\"\",OFFSET(DE102_5!$Z$104,ROWS($Z$104:Z154)-1,COLUMNS($Z$104:Z154)-1),\"\")","v":""},{"$f":"IF(OFFSET(DE102_5!$AA$104,ROWS($AA$104:AA154)-1,COLUMNS($AA$104:AA154)-1)<>\"\",OFFSET(DE102_5!$AA$104,ROWS($AA$104:AA154)-1,COLUMNS($AA$104:AA154)-1),\"\")","v":""},{"$f":"IF(OFFSET(DE102_5!$AB$104,ROWS($AB$104:AB154)-1,COLUMNS($AB$104:AB154)-1)<>\"\",OFFSET(DE102_5!$AB$104,ROWS($AB$104:AB154)-1,COLUMNS($AB$104:AB154)-1),\"\")","v":""}]
[{"$f":"IF(OFFSET(DE102_5!$C$104,ROWS($C$104:C155)-1,COLUMNS($C$104:C155)-1)<>\"\",OFFSET(DE102_5!$C$104,ROWS($C$104:C155)-1,COLUMNS($C$104:C155)-1),\"\")","v":""},{"$f":"IF(OFFSET(DE102_5!$F$104,ROWS($F$104:F155)-1,COLUMNS($F$104:F155)-1)<>\"\",OFFSET(DE102_5!$F$104,ROWS($F$104:F155)-1,COLUMNS($F$104:F155)-1),\"\")","v":""},{"$f":"IF(OFFSET(DE102_5!$G$104,ROWS($G$104:G155)-1,COLUMNS($G$104:G155)-1)<>\"\",OFFSET(DE102_5!$G$104,ROWS($G$104:G155)-1,COLUMNS($G$104:G155)-1),\"\")","v":""},{"$f":"IF(OFFSET(DE102_5!$H$104,ROWS($H$104:H155)-1,COLUMNS($H$104:H155)-1)<>\"\",OFFSET(DE102_5!$H$104,ROWS($H$104:H155)-1,COLUMNS($H$104:H155)-1),\"\")","v":""},{"$f":"IF(OFFSET(DE102_5!$I$104,ROWS($I$104:I155)-1,COLUMNS($I$104:I155)-1)<>\"\",OFFSET(DE102_5!$I$104,ROWS($I$104:I155)-1,COLUMNS($I$104:I155)-1),\"\")","v":""},{"$f":"IF(OFFSET(DE102_5!$J$104,ROWS($J$104:J155)-1,COLUMNS($J$104:J155)-1)<>\"\",OFFSET(DE102_5!$J$104,ROWS($J$104:J155)-1,COLUMNS($J$104:J155)-1),\"\")","v":""},{"$f":"IF(OFFSET(DE102_5!$M$104,ROWS($M$104:M155)-1,COLUMNS($M$104:M155)-1)<>\"\",OFFSET(DE102_5!$M$104,ROWS($M$104:M155)-1,COLUMNS($M$104:M155)-1),\"\")","v":""},{"$f":"IF(OFFSET(DE102_5!$N$104,ROWS($N$104:N155)-1,COLUMNS($N$104:N155)-1)<>\"\",OFFSET(DE102_5!$N$104,ROWS($N$104:N155)-1,COLUMNS($N$104:N155)-1),\"\")","v":""},{"$f":"IF(OFFSET(DE102_5!$O$104,ROWS($O$104:O155)-1,COLUMNS($O$104:O155)-1)<>\"\",OFFSET(DE102_5!$O$104,ROWS($O$104:O155)-1,COLUMNS($O$104:O155)-1),\"\")","v":""},{"$f":"IF(OFFSET(DE102_5!$P$104,ROWS($P$104:P155)-1,COLUMNS($P$104:P155)-1)<>\"\",OFFSET(DE102_5!$P$104,ROWS($P$104:P155)-1,COLUMNS($P$104:P155)-1),\"\")","v":""},{"$f":"IF(OFFSET(DE102_5!$Q$104,ROWS($Q$104:Q155)-1,COLUMNS($Q$104:Q155)-1)<>\"\",OFFSET(DE102_5!$Q$104,ROWS($Q$104:Q155)-1,COLUMNS($Q$104:Q155)-1),\"\")","v":""},{"$f":"IF(OFFSET(DE102_5!$R$104,ROWS($R$104:R155)-1,COLUMNS($R$104:R155)-1)<>\"\",OFFSET(DE102_5!$R$104,ROWS($R$104:R155)-1,COLUMNS($R$104:R155)-1),\"\")","v":""},{"$f":"IF(OFFSET(DE102_5!$S$104,ROWS($S$104:S155)-1,COLUMNS($S$104:S155)-1)<>\"\",OFFSET(DE102_5!$S$104,ROWS($S$104:S155)-1,COLUMNS($S$104:S155)-1),\"\")","v":""},{"$f":"IF(OFFSET(DE102_5!$T$104,ROWS($T$104:T155)-1,COLUMNS($T$104:T155)-1)<>\"\",OFFSET(DE102_5!$T$104,ROWS($T$104:T155)-1,COLUMNS($T$104:T155)-1),\"\")","v":""},{"$f":"IF(OFFSET(DE102_5!$U$104,ROWS($U$104:U155)-1,COLUMNS($U$104:U155)-1)<>\"\",OFFSET(DE102_5!$U$104,ROWS($U$104:U155)-1,COLUMNS($U$104:U155)-1),\"\")","v":""},{"$f":"IF(OFFSET(DE102_5!$V$104,ROWS($V$104:V155)-1,COLUMNS($V$104:V155)-1)<>\"\",OFFSET(DE102_5!$V$104,ROWS($V$104:V155)-1,COLUMNS($V$104:V155)-1),\"\")","v":""},{"$f":"IF(OFFSET(DE102_5!$W$104,ROWS($W$104:W155)-1,COLUMNS($W$104:W155)-1)<>\"\",OFFSET(DE102_5!$W$104,ROWS($W$104:W155)-1,COLUMNS($W$104:W155)-1),\"\")","v":""},{"$f":"IF(OFFSET(DE102_5!$X$104,ROWS($X$104:X155)-1,COLUMNS($X$104:X155)-1)<>\"\",OFFSET(DE102_5!$X$104,ROWS($X$104:X155)-1,COLUMNS($X$104:X155)-1),\"\")","v":""},{"$f":"IF(OFFSET(DE102_5!$Y$104,ROWS($Y$104:Y155)-1,COLUMNS($Y$104:Y155)-1)<>\"\",OFFSET(DE102_5!$Y$104,ROWS($Y$104:Y155)-1,COLUMNS($Y$104:Y155)-1),\"\")","v":""},{"$f":"IF(OFFSET(DE102_5!$Z$104,ROWS($Z$104:Z155)-1,COLUMNS($Z$104:Z155)-1)<>\"\",OFFSET(DE102_5!$Z$104,ROWS($Z$104:Z155)-1,COLUMNS($Z$104:Z155)-1),\"\")","v":""},{"$f":"IF(OFFSET(DE102_5!$AA$104,ROWS($AA$104:AA155)-1,COLUMNS($AA$104:AA155)-1)<>\"\",OFFSET(DE102_5!$AA$104,ROWS($AA$104:AA155)-1,COLUMNS($AA$104:AA155)-1),\"\")","v":""},{"$f":"IF(OFFSET(DE102_5!$AB$104,ROWS($AB$104:AB155)-1,COLUMNS($AB$104:AB155)-1)<>\"\",OFFSET(DE102_5!$AB$104,ROWS($AB$104:AB155)-1,COLUMNS($AB$104:AB155)-1),\"\")","v":""}]
[{"$f":"IF(OFFSET(DE102_5!$C$104,ROWS($C$104:C156)-1,COLUMNS($C$104:C156)-1)<>\"\",OFFSET(DE102_5!$C$104,ROWS($C$104:C156)-1,COLUMNS($C$104:C156)-1),\"\")","v":""},{"$f":"IF(OFFSET(DE102_5!$F$104,ROWS($F$104:F156)-1,COLUMNS($F$104:F156)-1)<>\"\",OFFSET(DE102_5!$F$104,ROWS($F$104:F156)-1,COLUMNS($F$104:F156)-1),\"\")","v":""},{"$f":"IF(OFFSET(DE102_5!$G$104,ROWS($G$104:G156)-1,COLUMNS($G$104:G156)-1)<>\"\",OFFSET(DE102_5!$G$104,ROWS($G$104:G156)-1,COLUMNS($G$104:G156)-1),\"\")","v":""},{"$f":"IF(OFFSET(DE102_5!$H$104,ROWS($H$104:H156)-1,COLUMNS($H$104:H156)-1)<>\"\",OFFSET(DE102_5!$H$104,ROWS($H$104:H156)-1,COLUMNS($H$104:H156)-1),\"\")","v":""},{"$f":"IF(OFFSET(DE102_5!$I$104,ROWS($I$104:I156)-1,COLUMNS($I$104:I156)-1)<>\"\",OFFSET(DE102_5!$I$104,ROWS($I$104:I156)-1,COLUMNS($I$104:I156)-1),\"\")","v":""},{"$f":"IF(OFFSET(DE102_5!$J$104,ROWS($J$104:J156)-1,COLUMNS($J$104:J156)-1)<>\"\",OFFSET(DE102_5!$J$104,ROWS($J$104:J156)-1,COLUMNS($J$104:J156)-1),\"\")","v":""},{"$f":"IF(OFFSET(DE102_5!$M$104,ROWS($M$104:M156)-1,COLUMNS($M$104:M156)-1)<>\"\",OFFSET(DE102_5!$M$104,ROWS($M$104:M156)-1,COLUMNS($M$104:M156)-1),\"\")","v":""},{"$f":"IF(OFFSET(DE102_5!$N$104,ROWS($N$104:N156)-1,COLUMNS($N$104:N156)-1)<>\"\",OFFSET(DE102_5!$N$104,ROWS($N$104:N156)-1,COLUMNS($N$104:N156)-1),\"\")","v":""},{"$f":"IF(OFFSET(DE102_5!$O$104,ROWS($O$104:O156)-1,COLUMNS($O$104:O156)-1)<>\"\",OFFSET(DE102_5!$O$104,ROWS($O$104:O156)-1,COLUMNS($O$104:O156)-1),\"\")","v":""},{"$f":"IF(OFFSET(DE102_5!$P$104,ROWS($P$104:P156)-1,COLUMNS($P$104:P156)-1)<>\"\",OFFSET(DE102_5!$P$104,ROWS($P$104:P156)-1,COLUMNS($P$104:P156)-1),\"\")","v":""},{"$f":"IF(OFFSET(DE102_5!$Q$104,ROWS($Q$104:Q156)-1,COLUMNS($Q$104:Q156)-1)<>\"\",OFFSET(DE102_5!$Q$104,ROWS($Q$104:Q156)-1,COLUMNS($Q$104:Q156)-1),\"\")","v":""},{"$f":"IF(OFFSET(DE102_5!$R$104,ROWS($R$104:R156)-1,COLUMNS($R$104:R156)-1)<>\"\",OFFSET(DE102_5!$R$104,ROWS($R$104:R156)-1,COLUMNS($R$104:R156)-1),\"\")","v":""},{"$f":"IF(OFFSET(DE102_5!$S$104,ROWS($S$104:S156)-1,COLUMNS($S$104:S156)-1)<>\"\",OFFSET(DE102_5!$S$104,ROWS($S$104:S156)-1,COLUMNS($S$104:S156)-1),\"\")","v":""},{"$f":"IF(OFFSET(DE102_5!$T$104,ROWS($T$104:T156)-1,COLUMNS($T$104:T156)-1)<>\"\",OFFSET(DE102_5!$T$104,ROWS($T$104:T156)-1,COLUMNS($T$104:T156)-1),\"\")","v":""},{"$f":"IF(OFFSET(DE102_5!$U$104,ROWS($U$104:U156)-1,COLUMNS($U$104:U156)-1)<>\"\",OFFSET(DE102_5!$U$104,ROWS($U$104:U156)-1,COLUMNS($U$104:U156)-1),\"\")","v":""},{"$f":"IF(OFFSET(DE102_5!$V$104,ROWS($V$104:V156)-1,COLUMNS($V$104:V156)-1)<>\"\",OFFSET(DE102_5!$V$104,ROWS($V$104:V156)-1,COLUMNS($V$104:V156)-1),\"\")","v":""},{"$f":"IF(OFFSET(DE102_5!$W$104,ROWS($W$104:W156)-1,COLUMNS($W$104:W156)-1)<>\"\",OFFSET(DE102_5!$W$104,ROWS($W$104:W156)-1,COLUMNS($W$104:W156)-1),\"\")","v":""},{"$f":"IF(OFFSET(DE102_5!$X$104,ROWS($X$104:X156)-1,COLUMNS($X$104:X156)-1)<>\"\",OFFSET(DE102_5!$X$104,ROWS($X$104:X156)-1,COLUMNS($X$104:X156)-1),\"\")","v":""},{"$f":"IF(OFFSET(DE102_5!$Y$104,ROWS($Y$104:Y156)-1,COLUMNS($Y$104:Y156)-1)<>\"\",OFFSET(DE102_5!$Y$104,ROWS($Y$104:Y156)-1,COLUMNS($Y$104:Y156)-1),\"\")","v":""},{"$f":"IF(OFFSET(DE102_5!$Z$104,ROWS($Z$104:Z156)-1,COLUMNS($Z$104:Z156)-1)<>\"\",OFFSET(DE102_5!$Z$104,ROWS($Z$104:Z156)-1,COLUMNS($Z$104:Z156)-1),\"\")","v":""},{"$f":"IF(OFFSET(DE102_5!$AA$104,ROWS($AA$104:AA156)-1,COLUMNS($AA$104:AA156)-1)<>\"\",OFFSET(DE102_5!$AA$104,ROWS($AA$104:AA156)-1,COLUMNS($AA$104:AA156)-1),\"\")","v":""},{"$f":"IF(OFFSET(DE102_5!$AB$104,ROWS($AB$104:AB156)-1,COLUMNS($AB$104:AB156)-1)<>\"\",OFFSET(DE102_5!$AB$104,ROWS($AB$104:AB156)-1,COLUMNS($AB$104:AB156)-1),\"\")","v":""}]
[{"$f":"IF(OFFSET(DE102_5!$C$104,ROWS($C$104:C157)-1,COLUMNS($C$104:C157)-1)<>\"\",OFFSET(DE102_5!$C$104,ROWS($C$104:C157)-1,COLUMNS($C$104:C157)-1),\"\")","v":""},{"$f":"IF(OFFSET(DE102_5!$F$104,ROWS($F$104:F157)-1,COLUMNS($F$104:F157)-1)<>\"\",OFFSET(DE102_5!$F$104,ROWS($F$104:F157)-1,COLUMNS($F$104:F157)-1),\"\")","v":""},{"$f":"IF(OFFSET(DE102_5!$G$104,ROWS($G$104:G157)-1,COLUMNS($G$104:G157)-1)<>\"\",OFFSET(DE102_5!$G$104,ROWS($G$104:G157)-1,COLUMNS($G$104:G157)-1),\"\")","v":""},{"$f":"IF(OFFSET(DE102_5!$H$104,ROWS($H$104:H157)-1,COLUMNS($H$104:H157)-1)<>\"\",OFFSET(DE102_5!$H$104,ROWS($H$104:H157)-1,COLUMNS($H$104:H157)-1),\"\")","v":""},{"$f":"IF(OFFSET(DE102_5!$I$104,ROWS($I$104:I157)-1,COLUMNS($I$104:I157)-1)<>\"\",OFFSET(DE102_5!$I$104,ROWS($I$104:I157)-1,COLUMNS($I$104:I157)-1),\"\")","v":""},{"$f":"IF(OFFSET(DE102_5!$J$104,ROWS($J$104:J157)-1,COLUMNS($J$104:J157)-1)<>\"\",OFFSET(DE102_5!$J$104,ROWS($J$104:J157)-1,COLUMNS($J$104:J157)-1),\"\")","v":""},{"$f":"IF(OFFSET(DE102_5!$M$104,ROWS($M$104:M157)-1,COLUMNS($M$104:M157)-1)<>\"\",OFFSET(DE102_5!$M$104,ROWS($M$104:M157)-1,COLUMNS($M$104:M157)-1),\"\")","v":""},{"$f":"IF(OFFSET(DE102_5!$N$104,ROWS($N$104:N157)-1,COLUMNS($N$104:N157)-1)<>\"\",OFFSET(DE102_5!$N$104,ROWS($N$104:N157)-1,COLUMNS($N$104:N157)-1),\"\")","v":""},{"$f":"IF(OFFSET(DE102_5!$O$104,ROWS($O$104:O157)-1,COLUMNS($O$104:O157)-1)<>\"\",OFFSET(DE102_5!$O$104,ROWS($O$104:O157)-1,COLUMNS($O$104:O157)-1),\"\")","v":""},{"$f":"IF(OFFSET(DE102_5!$P$104,ROWS($P$104:P157)-1,COLUMNS($P$104:P157)-1)<>\"\",OFFSET(DE102_5!$P$104,ROWS($P$104:P157)-1,COLUMNS($P$104:P157)-1),\"\")","v":""},{"$f":"IF(OFFSET(DE102_5!$Q$104,ROWS($Q$104:Q157)-1,COLUMNS($Q$104:Q157)-1)<>\"\",OFFSET(DE102_5!$Q$104,ROWS($Q$104:Q157)-1,COLUMNS($Q$104:Q157)-1),\"\")","v":""},{"$f":"IF(OFFSET(DE102_5!$R$104,ROWS($R$104:R157)-1,COLUMNS($R$104:R157)-1)<>\"\",OFFSET(DE102_5!$R$104,ROWS($R$104:R157)-1,COLUMNS($R$104:R157)-1),\"\")","v":""},{"$f":"IF(OFFSET(DE102_5!$S$104,ROWS($S$104:S157)-1,COLUMNS($S$104:S157)-1)<>\"\",OFFSET(DE102_5!$S$104,ROWS($S$104:S157)-1,COLUMNS($S$104:S157)-1),\"\")","v":""},{"$f":"IF(OFFSET(DE102_5!$T$104,ROWS($T$104:T157)-1,COLUMNS($T$104:T157)-1)<>\"\",OFFSET(DE102_5!$T$104,ROWS($T$104:T157)-1,COLUMNS($T$104:T157)-1),\"\")","v":""},{"$f":"IF(OFFSET(DE102_5!$U$104,ROWS($U$104:U157)-1,COLUMNS($U$104:U157)-1)<>\"\",OFFSET(DE102_5!$U$104,ROWS($U$104:U157)-1,COLUMNS($U$104:U157)-1),\"\")","v":""},{"$f":"IF(OFFSET(DE102_5!$V$104,ROWS($V$104:V157)-1,COLUMNS($V$104:V157)-1)<>\"\",OFFSET(DE102_5!$V$104,ROWS($V$104:V157)-1,COLUMNS($V$104:V157)-1),\"\")","v":""},{"$f":"IF(OFFSET(DE102_5!$W$104,ROWS($W$104:W157)-1,COLUMNS($W$104:W157)-1)<>\"\",OFFSET(DE102_5!$W$104,ROWS($W$104:W157)-1,COLUMNS($W$104:W157)-1),\"\")","v":""},{"$f":"IF(OFFSET(DE102_5!$X$104,ROWS($X$104:X157)-1,COLUMNS($X$104:X157)-1)<>\"\",OFFSET(DE102_5!$X$104,ROWS($X$104:X157)-1,COLUMNS($X$104:X157)-1),\"\")","v":""},{"$f":"IF(OFFSET(DE102_5!$Y$104,ROWS($Y$104:Y157)-1,COLUMNS($Y$104:Y157)-1)<>\"\",OFFSET(DE102_5!$Y$104,ROWS($Y$104:Y157)-1,COLUMNS($Y$104:Y157)-1),\"\")","v":""},{"$f":"IF(OFFSET(DE102_5!$Z$104,ROWS($Z$104:Z157)-1,COLUMNS($Z$104:Z157)-1)<>\"\",OFFSET(DE102_5!$Z$104,ROWS($Z$104:Z157)-1,COLUMNS($Z$104:Z157)-1),\"\")","v":""},{"$f":"IF(OFFSET(DE102_5!$AA$104,ROWS($AA$104:AA157)-1,COLUMNS($AA$104:AA157)-1)<>\"\",OFFSET(DE102_5!$AA$104,ROWS($AA$104:AA157)-1,COLUMNS($AA$104:AA157)-1),\"\")","v":""},{"$f":"IF(OFFSET(DE102_5!$AB$104,ROWS($AB$104:AB157)-1,COLUMNS($AB$104:AB157)-1)<>\"\",OFFSET(DE102_5!$AB$104,ROWS($AB$104:AB157)-1,COLUMNS($AB$104:AB157)-1),\"\")","v":""}]
[{"$f":"IF(OFFSET(DE102_5!$C$104,ROWS($C$104:C158)-1,COLUMNS($C$104:C158)-1)<>\"\",OFFSET(DE102_5!$C$104,ROWS($C$104:C158)-1,COLUMNS($C$104:C158)-1),\"\")","v":""},{"$f":"IF(OFFSET(DE102_5!$F$104,ROWS($F$104:F158)-1,COLUMNS($F$104:F158)-1)<>\"\",OFFSET(DE102_5!$F$104,ROWS($F$104:F158)-1,COLUMNS($F$104:F158)-1),\"\")","v":""},{"$f":"IF(OFFSET(DE102_5!$G$104,ROWS($G$104:G158)-1,COLUMNS($G$104:G158)-1)<>\"\",OFFSET(DE102_5!$G$104,ROWS($G$104:G158)-1,COLUMNS($G$104:G158)-1),\"\")","v":""},{"$f":"IF(OFFSET(DE102_5!$H$104,ROWS($H$104:H158)-1,COLUMNS($H$104:H158)-1)<>\"\",OFFSET(DE102_5!$H$104,ROWS($H$104:H158)-1,COLUMNS($H$104:H158)-1),\"\")","v":""},{"$f":"IF(OFFSET(DE102_5!$I$104,ROWS($I$104:I158)-1,COLUMNS($I$104:I158)-1)<>\"\",OFFSET(DE102_5!$I$104,ROWS($I$104:I158)-1,COLUMNS($I$104:I158)-1),\"\")","v":""},{"$f":"IF(OFFSET(DE102_5!$J$104,ROWS($J$104:J158)-1,COLUMNS($J$104:J158)-1)<>\"\",OFFSET(DE102_5!$J$104,ROWS($J$104:J158)-1,COLUMNS($J$104:J158)-1),\"\")","v":""},{"$f":"IF(OFFSET(DE102_5!$M$104,ROWS($M$104:M158)-1,COLUMNS($M$104:M158)-1)<>\"\",OFFSET(DE102_5!$M$104,ROWS($M$104:M158)-1,COLUMNS($M$104:M158)-1),\"\")","v":""},{"$f":"IF(OFFSET(DE102_5!$N$104,ROWS($N$104:N158)-1,COLUMNS($N$104:N158)-1)<>\"\",OFFSET(DE102_5!$N$104,ROWS($N$104:N158)-1,COLUMNS($N$104:N158)-1),\"\")","v":""},{"$f":"IF(OFFSET(DE102_5!$O$104,ROWS($O$104:O158)-1,COLUMNS($O$104:O158)-1)<>\"\",OFFSET(DE102_5!$O$104,ROWS($O$104:O158)-1,COLUMNS($O$104:O158)-1),\"\")","v":""},{"$f":"IF(OFFSET(DE102_5!$P$104,ROWS($P$104:P158)-1,COLUMNS($P$104:P158)-1)<>\"\",OFFSET(DE102_5!$P$104,ROWS($P$104:P158)-1,COLUMNS($P$104:P158)-1),\"\")","v":""},{"$f":"IF(OFFSET(DE102_5!$Q$104,ROWS($Q$104:Q158)-1,COLUMNS($Q$104:Q158)-1)<>\"\",OFFSET(DE102_5!$Q$104,ROWS($Q$104:Q158)-1,COLUMNS($Q$104:Q158)-1),\"\")","v":""},{"$f":"IF(OFFSET(DE102_5!$R$104,ROWS($R$104:R158)-1,COLUMNS($R$104:R158)-1)<>\"\",OFFSET(DE102_5!$R$104,ROWS($R$104:R158)-1,COLUMNS($R$104:R158)-1),\"\")","v":""},{"$f":"IF(OFFSET(DE102_5!$S$104,ROWS($S$104:S158)-1,COLUMNS($S$104:S158)-1)<>\"\",OFFSET(DE102_5!$S$104,ROWS($S$104:S158)-1,COLUMNS($S$104:S158)-1),\"\")","v":""},{"$f":"IF(OFFSET(DE102_5!$T$104,ROWS($T$104:T158)-1,COLUMNS($T$104:T158)-1)<>\"\",OFFSET(DE102_5!$T$104,ROWS($T$104:T158)-1,COLUMNS($T$104:T158)-1),\"\")","v":""},{"$f":"IF(OFFSET(DE102_5!$U$104,ROWS($U$104:U158)-1,COLUMNS($U$104:U158)-1)<>\"\",OFFSET(DE102_5!$U$104,ROWS($U$104:U158)-1,COLUMNS($U$104:U158)-1),\"\")","v":""},{"$f":"IF(OFFSET(DE102_5!$V$104,ROWS($V$104:V158)-1,COLUMNS($V$104:V158)-1)<>\"\",OFFSET(DE102_5!$V$104,ROWS($V$104:V158)-1,COLUMNS($V$104:V158)-1),\"\")","v":""},{"$f":"IF(OFFSET(DE102_5!$W$104,ROWS($W$104:W158)-1,COLUMNS($W$104:W158)-1)<>\"\",OFFSET(DE102_5!$W$104,ROWS($W$104:W158)-1,COLUMNS($W$104:W158)-1),\"\")","v":""},{"$f":"IF(OFFSET(DE102_5!$X$104,ROWS($X$104:X158)-1,COLUMNS($X$104:X158)-1)<>\"\",OFFSET(DE102_5!$X$104,ROWS($X$104:X158)-1,COLUMNS($X$104:X158)-1),\"\")","v":""},{"$f":"IF(OFFSET(DE102_5!$Y$104,ROWS($Y$104:Y158)-1,COLUMNS($Y$104:Y158)-1)<>\"\",OFFSET(DE102_5!$Y$104,ROWS($Y$104:Y158)-1,COLUMNS($Y$104:Y158)-1),\"\")","v":""},{"$f":"IF(OFFSET(DE102_5!$Z$104,ROWS($Z$104:Z158)-1,COLUMNS($Z$104:Z158)-1)<>\"\",OFFSET(DE102_5!$Z$104,ROWS($Z$104:Z158)-1,COLUMNS($Z$104:Z158)-1),\"\")","v":""},{"$f":"IF(OFFSET(DE102_5!$AA$104,ROWS($AA$104:AA158)-1,COLUMNS($AA$104:AA158)-1)<>\"\",OFFSET(DE102_5!$AA$104,ROWS($AA$104:AA158)-1,COLUMNS($AA$104:AA158)-1),\"\")","v":""},{"$f":"IF(OFFSET(DE102_5!$AB$104,ROWS($AB$104:AB158)-1,COLUMNS($AB$104:AB158)-1)<>\"\",OFFSET(DE102_5!$AB$104,ROWS($AB$104:AB158)-1,COLUMNS($AB$104:AB158)-1),\"\")","v":""}]
[{"$f":"IF(OFFSET(DE102_5!$C$104,ROWS($C$104:C159)-1,COLUMNS($C$104:C159)-1)<>\"\",OFFSET(DE102_5!$C$104,ROWS($C$104:C159)-1,COLUMNS($C$104:C159)-1),\"\")","v":""},{"$f":"IF(OFFSET(DE102_5!$F$104,ROWS($F$104:F159)-1,COLUMNS($F$104:F159)-1)<>\"\",OFFSET(DE102_5!$F$104,ROWS($F$104:F159)-1,COLUMNS($F$104:F159)-1),\"\")","v":""},{"$f":"IF(OFFSET(DE102_5!$G$104,ROWS($G$104:G159)-1,COLUMNS($G$104:G159)-1)<>\"\",OFFSET(DE102_5!$G$104,ROWS($G$104:G159)-1,COLUMNS($G$104:G159)-1),\"\")","v":""},{"$f":"IF(OFFSET(DE102_5!$H$104,ROWS($H$104:H159)-1,COLUMNS($H$104:H159)-1)<>\"\",OFFSET(DE102_5!$H$104,ROWS($H$104:H159)-1,COLUMNS($H$104:H159)-1),\"\")","v":""},{"$f":"IF(OFFSET(DE102_5!$I$104,ROWS($I$104:I159)-1,COLUMNS($I$104:I159)-1)<>\"\",OFFSET(DE102_5!$I$104,ROWS($I$104:I159)-1,COLUMNS($I$104:I159)-1),\"\")","v":""},{"$f":"IF(OFFSET(DE102_5!$J$104,ROWS($J$104:J159)-1,COLUMNS($J$104:J159)-1)<>\"\",OFFSET(DE102_5!$J$104,ROWS($J$104:J159)-1,COLUMNS($J$104:J159)-1),\"\")","v":""},{"$f":"IF(OFFSET(DE102_5!$M$104,ROWS($M$104:M159)-1,COLUMNS($M$104:M159)-1)<>\"\",OFFSET(DE102_5!$M$104,ROWS($M$104:M159)-1,COLUMNS($M$104:M159)-1),\"\")","v":""},{"$f":"IF(OFFSET(DE102_5!$N$104,ROWS($N$104:N159)-1,COLUMNS($N$104:N159)-1)<>\"\",OFFSET(DE102_5!$N$104,ROWS($N$104:N159)-1,COLUMNS($N$104:N159)-1),\"\")","v":""},{"$f":"IF(OFFSET(DE102_5!$O$104,ROWS($O$104:O159)-1,COLUMNS($O$104:O159)-1)<>\"\",OFFSET(DE102_5!$O$104,ROWS($O$104:O159)-1,COLUMNS($O$104:O159)-1),\"\")","v":""},{"$f":"IF(OFFSET(DE102_5!$P$104,ROWS($P$104:P159)-1,COLUMNS($P$104:P159)-1)<>\"\",OFFSET(DE102_5!$P$104,ROWS($P$104:P159)-1,COLUMNS($P$104:P159)-1),\"\")","v":""},{"$f":"IF(OFFSET(DE102_5!$Q$104,ROWS($Q$104:Q159)-1,COLUMNS($Q$104:Q159)-1)<>\"\",OFFSET(DE102_5!$Q$104,ROWS($Q$104:Q159)-1,COLUMNS($Q$104:Q159)-1),\"\")","v":""},{"$f":"IF(OFFSET(DE102_5!$R$104,ROWS($R$104:R159)-1,COLUMNS($R$104:R159)-1)<>\"\",OFFSET(DE102_5!$R$104,ROWS($R$104:R159)-1,COLUMNS($R$104:R159)-1),\"\")","v":""},{"$f":"IF(OFFSET(DE102_5!$S$104,ROWS($S$104:S159)-1,COLUMNS($S$104:S159)-1)<>\"\",OFFSET(DE102_5!$S$104,ROWS($S$104:S159)-1,COLUMNS($S$104:S159)-1),\"\")","v":""},{"$f":"IF(OFFSET(DE102_5!$T$104,ROWS($T$104:T159)-1,COLUMNS($T$104:T159)-1)<>\"\",OFFSET(DE102_5!$T$104,ROWS($T$104:T159)-1,COLUMNS($T$104:T159)-1),\"\")","v":""},{"$f":"IF(OFFSET(DE102_5!$U$104,ROWS($U$104:U159)-1,COLUMNS($U$104:U159)-1)<>\"\",OFFSET(DE102_5!$U$104,ROWS($U$104:U159)-1,COLUMNS($U$104:U159)-1),\"\")","v":""},{"$f":"IF(OFFSET(DE102_5!$V$104,ROWS($V$104:V159)-1,COLUMNS($V$104:V159)-1)<>\"\",OFFSET(DE102_5!$V$104,ROWS($V$104:V159)-1,COLUMNS($V$104:V159)-1),\"\")","v":""},{"$f":"IF(OFFSET(DE102_5!$W$104,ROWS($W$104:W159)-1,COLUMNS($W$104:W159)-1)<>\"\",OFFSET(DE102_5!$W$104,ROWS($W$104:W159)-1,COLUMNS($W$104:W159)-1),\"\")","v":""},{"$f":"IF(OFFSET(DE102_5!$X$104,ROWS($X$104:X159)-1,COLUMNS($X$104:X159)-1)<>\"\",OFFSET(DE102_5!$X$104,ROWS($X$104:X159)-1,COLUMNS($X$104:X159)-1),\"\")","v":""},{"$f":"IF(OFFSET(DE102_5!$Y$104,ROWS($Y$104:Y159)-1,COLUMNS($Y$104:Y159)-1)<>\"\",OFFSET(DE102_5!$Y$104,ROWS($Y$104:Y159)-1,COLUMNS($Y$104:Y159)-1),\"\")","v":""},{"$f":"IF(OFFSET(DE102_5!$Z$104,ROWS($Z$104:Z159)-1,COLUMNS($Z$104:Z159)-1)<>\"\",OFFSET(DE102_5!$Z$104,ROWS($Z$104:Z159)-1,COLUMNS($Z$104:Z159)-1),\"\")","v":""},{"$f":"IF(OFFSET(DE102_5!$AA$104,ROWS($AA$104:AA159)-1,COLUMNS($AA$104:AA159)-1)<>\"\",OFFSET(DE102_5!$AA$104,ROWS($AA$104:AA159)-1,COLUMNS($AA$104:AA159)-1),\"\")","v":""},{"$f":"IF(OFFSET(DE102_5!$AB$104,ROWS($AB$104:AB159)-1,COLUMNS($AB$104:AB159)-1)<>\"\",OFFSET(DE102_5!$AB$104,ROWS($AB$104:AB159)-1,COLUMNS($AB$104:AB159)-1),\"\")","v":""}]
[{"$f":"IF(OFFSET(DE102_5!$C$104,ROWS($C$104:C160)-1,COLUMNS($C$104:C160)-1)<>\"\",OFFSET(DE102_5!$C$104,ROWS($C$104:C160)-1,COLUMNS($C$104:C160)-1),\"\")","v":""},{"$f":"IF(OFFSET(DE102_5!$F$104,ROWS($F$104:F160)-1,COLUMNS($F$104:F160)-1)<>\"\",OFFSET(DE102_5!$F$104,ROWS($F$104:F160)-1,COLUMNS($F$104:F160)-1),\"\")","v":""},{"$f":"IF(OFFSET(DE102_5!$G$104,ROWS($G$104:G160)-1,COLUMNS($G$104:G160)-1)<>\"\",OFFSET(DE102_5!$G$104,ROWS($G$104:G160)-1,COLUMNS($G$104:G160)-1),\"\")","v":""},{"$f":"IF(OFFSET(DE102_5!$H$104,ROWS($H$104:H160)-1,COLUMNS($H$104:H160)-1)<>\"\",OFFSET(DE102_5!$H$104,ROWS($H$104:H160)-1,COLUMNS($H$104:H160)-1),\"\")","v":""},{"$f":"IF(OFFSET(DE102_5!$I$104,ROWS($I$104:I160)-1,COLUMNS($I$104:I160)-1)<>\"\",OFFSET(DE102_5!$I$104,ROWS($I$104:I160)-1,COLUMNS($I$104:I160)-1),\"\")","v":""},{"$f":"IF(OFFSET(DE102_5!$J$104,ROWS($J$104:J160)-1,COLUMNS($J$104:J160)-1)<>\"\",OFFSET(DE102_5!$J$104,ROWS($J$104:J160)-1,COLUMNS($J$104:J160)-1),\"\")","v":""},{"$f":"IF(OFFSET(DE102_5!$M$104,ROWS($M$104:M160)-1,COLUMNS($M$104:M160)-1)<>\"\",OFFSET(DE102_5!$M$104,ROWS($M$104:M160)-1,COLUMNS($M$104:M160)-1),\"\")","v":""},{"$f":"IF(OFFSET(DE102_5!$N$104,ROWS($N$104:N160)-1,COLUMNS($N$104:N160)-1)<>\"\",OFFSET(DE102_5!$N$104,ROWS($N$104:N160)-1,COLUMNS($N$104:N160)-1),\"\")","v":""},{"$f":"IF(OFFSET(DE102_5!$O$104,ROWS($O$104:O160)-1,COLUMNS($O$104:O160)-1)<>\"\",OFFSET(DE102_5!$O$104,ROWS($O$104:O160)-1,COLUMNS($O$104:O160)-1),\"\")","v":""},{"$f":"IF(OFFSET(DE102_5!$P$104,ROWS($P$104:P160)-1,COLUMNS($P$104:P160)-1)<>\"\",OFFSET(DE102_5!$P$104,ROWS($P$104:P160)-1,COLUMNS($P$104:P160)-1),\"\")","v":""},{"$f":"IF(OFFSET(DE102_5!$Q$104,ROWS($Q$104:Q160)-1,COLUMNS($Q$104:Q160)-1)<>\"\",OFFSET(DE102_5!$Q$104,ROWS($Q$104:Q160)-1,COLUMNS($Q$104:Q160)-1),\"\")","v":""},{"$f":"IF(OFFSET(DE102_5!$R$104,ROWS($R$104:R160)-1,COLUMNS($R$104:R160)-1)<>\"\",OFFSET(DE102_5!$R$104,ROWS($R$104:R160)-1,COLUMNS($R$104:R160)-1),\"\")","v":""},{"$f":"IF(OFFSET(DE102_5!$S$104,ROWS($S$104:S160)-1,COLUMNS($S$104:S160)-1)<>\"\",OFFSET(DE102_5!$S$104,ROWS($S$104:S160)-1,COLUMNS($S$104:S160)-1),\"\")","v":""},{"$f":"IF(OFFSET(DE102_5!$T$104,ROWS($T$104:T160)-1,COLUMNS($T$104:T160)-1)<>\"\",OFFSET(DE102_5!$T$104,ROWS($T$104:T160)-1,COLUMNS($T$104:T160)-1),\"\")","v":""},{"$f":"IF(OFFSET(DE102_5!$U$104,ROWS($U$104:U160)-1,COLUMNS($U$104:U160)-1)<>\"\",OFFSET(DE102_5!$U$104,ROWS($U$104:U160)-1,COLUMNS($U$104:U160)-1),\"\")","v":""},{"$f":"IF(OFFSET(DE102_5!$V$104,ROWS($V$104:V160)-1,COLUMNS($V$104:V160)-1)<>\"\",OFFSET(DE102_5!$V$104,ROWS($V$104:V160)-1,COLUMNS($V$104:V160)-1),\"\")","v":""},{"$f":"IF(OFFSET(DE102_5!$W$104,ROWS($W$104:W160)-1,COLUMNS($W$104:W160)-1)<>\"\",OFFSET(DE102_5!$W$104,ROWS($W$104:W160)-1,COLUMNS($W$104:W160)-1),\"\")","v":""},{"$f":"IF(OFFSET(DE102_5!$X$104,ROWS($X$104:X160)-1,COLUMNS($X$104:X160)-1)<>\"\",OFFSET(DE102_5!$X$104,ROWS($X$104:X160)-1,COLUMNS($X$104:X160)-1),\"\")","v":""},{"$f":"IF(OFFSET(DE102_5!$Y$104,ROWS($Y$104:Y160)-1,COLUMNS($Y$104:Y160)-1)<>\"\",OFFSET(DE102_5!$Y$104,ROWS($Y$104:Y160)-1,COLUMNS($Y$104:Y160)-1),\"\")","v":""},{"$f":"IF(OFFSET(DE102_5!$Z$104,ROWS($Z$104:Z160)-1,COLUMNS($Z$104:Z160)-1)<>\"\",OFFSET(DE102_5!$Z$104,ROWS($Z$104:Z160)-1,COLUMNS($Z$104:Z160)-1),\"\")","v":""},{"$f":"IF(OFFSET(DE102_5!$AA$104,ROWS($AA$104:AA160)-1,COLUMNS($AA$104:AA160)-1)<>\"\",OFFSET(DE102_5!$AA$104,ROWS($AA$104:AA160)-1,COLUMNS($AA$104:AA160)-1),\"\")","v":""},{"$f":"IF(OFFSET(DE102_5!$AB$104,ROWS($AB$104:AB160)-1,COLUMNS($AB$104:AB160)-1)<>\"\",OFFSET(DE102_5!$AB$104,ROWS($AB$104:AB160)-1,COLUMNS($AB$104:AB160)-1),\"\")","v":""}]
[{"$f":"IF(OFFSET(DE102_5!$C$104,ROWS($C$104:C161)-1,COLUMNS($C$104:C161)-1)<>\"\",OFFSET(DE102_5!$C$104,ROWS($C$104:C161)-1,COLUMNS($C$104:C161)-1),\"\")","v":""},{"$f":"IF(OFFSET(DE102_5!$F$104,ROWS($F$104:F161)-1,COLUMNS($F$104:F161)-1)<>\"\",OFFSET(DE102_5!$F$104,ROWS($F$104:F161)-1,COLUMNS($F$104:F161)-1),\"\")","v":""},{"$f":"IF(OFFSET(DE102_5!$G$104,ROWS($G$104:G161)-1,COLUMNS($G$104:G161)-1)<>\"\",OFFSET(DE102_5!$G$104,ROWS($G$104:G161)-1,COLUMNS($G$104:G161)-1),\"\")","v":""},{"$f":"IF(OFFSET(DE102_5!$H$104,ROWS($H$104:H161)-1,COLUMNS($H$104:H161)-1)<>\"\",OFFSET(DE102_5!$H$104,ROWS($H$104:H161)-1,COLUMNS($H$104:H161)-1),\"\")","v":""},{"$f":"IF(OFFSET(DE102_5!$I$104,ROWS($I$104:I161)-1,COLUMNS($I$104:I161)-1)<>\"\",OFFSET(DE102_5!$I$104,ROWS($I$104:I161)-1,COLUMNS($I$104:I161)-1),\"\")","v":""},{"$f":"IF(OFFSET(DE102_5!$J$104,ROWS($J$104:J161)-1,COLUMNS($J$104:J161)-1)<>\"\",OFFSET(DE102_5!$J$104,ROWS($J$104:J161)-1,COLUMNS($J$104:J161)-1),\"\")","v":""},{"$f":"IF(OFFSET(DE102_5!$M$104,ROWS($M$104:M161)-1,COLUMNS($M$104:M161)-1)<>\"\",OFFSET(DE102_5!$M$104,ROWS($M$104:M161)-1,COLUMNS($M$104:M161)-1),\"\")","v":""},{"$f":"IF(OFFSET(DE102_5!$N$104,ROWS($N$104:N161)-1,COLUMNS($N$104:N161)-1)<>\"\",OFFSET(DE102_5!$N$104,ROWS($N$104:N161)-1,COLUMNS($N$104:N161)-1),\"\")","v":""},{"$f":"IF(OFFSET(DE102_5!$O$104,ROWS($O$104:O161)-1,COLUMNS($O$104:O161)-1)<>\"\",OFFSET(DE102_5!$O$104,ROWS($O$104:O161)-1,COLUMNS($O$104:O161)-1),\"\")","v":""},{"$f":"IF(OFFSET(DE102_5!$P$104,ROWS($P$104:P161)-1,COLUMNS($P$104:P161)-1)<>\"\",OFFSET(DE102_5!$P$104,ROWS($P$104:P161)-1,COLUMNS($P$104:P161)-1),\"\")","v":""},{"$f":"IF(OFFSET(DE102_5!$Q$104,ROWS($Q$104:Q161)-1,COLUMNS($Q$104:Q161)-1)<>\"\",OFFSET(DE102_5!$Q$104,ROWS($Q$104:Q161)-1,COLUMNS($Q$104:Q161)-1),\"\")","v":""},{"$f":"IF(OFFSET(DE102_5!$R$104,ROWS($R$104:R161)-1,COLUMNS($R$104:R161)-1)<>\"\",OFFSET(DE102_5!$R$104,ROWS($R$104:R161)-1,COLUMNS($R$104:R161)-1),\"\")","v":""},{"$f":"IF(OFFSET(DE102_5!$S$104,ROWS($S$104:S161)-1,COLUMNS($S$104:S161)-1)<>\"\",OFFSET(DE102_5!$S$104,ROWS($S$104:S161)-1,COLUMNS($S$104:S161)-1),\"\")","v":""},{"$f":"IF(OFFSET(DE102_5!$T$104,ROWS($T$104:T161)-1,COLUMNS($T$104:T161)-1)<>\"\",OFFSET(DE102_5!$T$104,ROWS($T$104:T161)-1,COLUMNS($T$104:T161)-1),\"\")","v":""},{"$f":"IF(OFFSET(DE102_5!$U$104,ROWS($U$104:U161)-1,COLUMNS($U$104:U161)-1)<>\"\",OFFSET(DE102_5!$U$104,ROWS($U$104:U161)-1,COLUMNS($U$104:U161)-1),\"\")","v":""},{"$f":"IF(OFFSET(DE102_5!$V$104,ROWS($V$104:V161)-1,COLUMNS($V$104:V161)-1)<>\"\",OFFSET(DE102_5!$V$104,ROWS($V$104:V161)-1,COLUMNS($V$104:V161)-1),\"\")","v":""},{"$f":"IF(OFFSET(DE102_5!$W$104,ROWS($W$104:W161)-1,COLUMNS($W$104:W161)-1)<>\"\",OFFSET(DE102_5!$W$104,ROWS($W$104:W161)-1,COLUMNS($W$104:W161)-1),\"\")","v":""},{"$f":"IF(OFFSET(DE102_5!$X$104,ROWS($X$104:X161)-1,COLUMNS($X$104:X161)-1)<>\"\",OFFSET(DE102_5!$X$104,ROWS($X$104:X161)-1,COLUMNS($X$104:X161)-1),\"\")","v":""},{"$f":"IF(OFFSET(DE102_5!$Y$104,ROWS($Y$104:Y161)-1,COLUMNS($Y$104:Y161)-1)<>\"\",OFFSET(DE102_5!$Y$104,ROWS($Y$104:Y161)-1,COLUMNS($Y$104:Y161)-1),\"\")","v":""},{"$f":"IF(OFFSET(DE102_5!$Z$104,ROWS($Z$104:Z161)-1,COLUMNS($Z$104:Z161)-1)<>\"\",OFFSET(DE102_5!$Z$104,ROWS($Z$104:Z161)-1,COLUMNS($Z$104:Z161)-1),\"\")","v":""},{"$f":"IF(OFFSET(DE102_5!$AA$104,ROWS($AA$104:AA161)-1,COLUMNS($AA$104:AA161)-1)<>\"\",OFFSET(DE102_5!$AA$104,ROWS($AA$104:AA161)-1,COLUMNS($AA$104:AA161)-1),\"\")","v":""},{"$f":"IF(OFFSET(DE102_5!$AB$104,ROWS($AB$104:AB161)-1,COLUMNS($AB$104:AB161)-1)<>\"\",OFFSET(DE102_5!$AB$104,ROWS($AB$104:AB161)-1,COLUMNS($AB$104:AB161)-1),\"\")","v":""}]
[{"$f":"IF(OFFSET(DE102_5!$C$104,ROWS($C$104:C162)-1,COLUMNS($C$104:C162)-1)<>\"\",OFFSET(DE102_5!$C$104,ROWS($C$104:C162)-1,COLUMNS($C$104:C162)-1),\"\")","v":""},{"$f":"IF(OFFSET(DE102_5!$F$104,ROWS($F$104:F162)-1,COLUMNS($F$104:F162)-1)<>\"\",OFFSET(DE102_5!$F$104,ROWS($F$104:F162)-1,COLUMNS($F$104:F162)-1),\"\")","v":""},{"$f":"IF(OFFSET(DE102_5!$G$104,ROWS($G$104:G162)-1,COLUMNS($G$104:G162)-1)<>\"\",OFFSET(DE102_5!$G$104,ROWS($G$104:G162)-1,COLUMNS($G$104:G162)-1),\"\")","v":""},{"$f":"IF(OFFSET(DE102_5!$H$104,ROWS($H$104:H162)-1,COLUMNS($H$104:H162)-1)<>\"\",OFFSET(DE102_5!$H$104,ROWS($H$104:H162)-1,COLUMNS($H$104:H162)-1),\"\")","v":""},{"$f":"IF(OFFSET(DE102_5!$I$104,ROWS($I$104:I162)-1,COLUMNS($I$104:I162)-1)<>\"\",OFFSET(DE102_5!$I$104,ROWS($I$104:I162)-1,COLUMNS($I$104:I162)-1),\"\")","v":""},{"$f":"IF(OFFSET(DE102_5!$J$104,ROWS($J$104:J162)-1,COLUMNS($J$104:J162)-1)<>\"\",OFFSET(DE102_5!$J$104,ROWS($J$104:J162)-1,COLUMNS($J$104:J162)-1),\"\")","v":""},{"$f":"IF(OFFSET(DE102_5!$M$104,ROWS($M$104:M162)-1,COLUMNS($M$104:M162)-1)<>\"\",OFFSET(DE102_5!$M$104,ROWS($M$104:M162)-1,COLUMNS($M$104:M162)-1),\"\")","v":""},{"$f":"IF(OFFSET(DE102_5!$N$104,ROWS($N$104:N162)-1,COLUMNS($N$104:N162)-1)<>\"\",OFFSET(DE102_5!$N$104,ROWS($N$104:N162)-1,COLUMNS($N$104:N162)-1),\"\")","v":""},{"$f":"IF(OFFSET(DE102_5!$O$104,ROWS($O$104:O162)-1,COLUMNS($O$104:O162)-1)<>\"\",OFFSET(DE102_5!$O$104,ROWS($O$104:O162)-1,COLUMNS($O$104:O162)-1),\"\")","v":""},{"$f":"IF(OFFSET(DE102_5!$P$104,ROWS($P$104:P162)-1,COLUMNS($P$104:P162)-1)<>\"\",OFFSET(DE102_5!$P$104,ROWS($P$104:P162)-1,COLUMNS($P$104:P162)-1),\"\")","v":""},{"$f":"IF(OFFSET(DE102_5!$Q$104,ROWS($Q$104:Q162)-1,COLUMNS($Q$104:Q162)-1)<>\"\",OFFSET(DE102_5!$Q$104,ROWS($Q$104:Q162)-1,COLUMNS($Q$104:Q162)-1),\"\")","v":""},{"$f":"IF(OFFSET(DE102_5!$R$104,ROWS($R$104:R162)-1,COLUMNS($R$104:R162)-1)<>\"\",OFFSET(DE102_5!$R$104,ROWS($R$104:R162)-1,COLUMNS($R$104:R162)-1),\"\")","v":""},{"$f":"IF(OFFSET(DE102_5!$S$104,ROWS($S$104:S162)-1,COLUMNS($S$104:S162)-1)<>\"\",OFFSET(DE102_5!$S$104,ROWS($S$104:S162)-1,COLUMNS($S$104:S162)-1),\"\")","v":""},{"$f":"IF(OFFSET(DE102_5!$T$104,ROWS($T$104:T162)-1,COLUMNS($T$104:T162)-1)<>\"\",OFFSET(DE102_5!$T$104,ROWS($T$104:T162)-1,COLUMNS($T$104:T162)-1),\"\")","v":""},{"$f":"IF(OFFSET(DE102_5!$U$104,ROWS($U$104:U162)-1,COLUMNS($U$104:U162)-1)<>\"\",OFFSET(DE102_5!$U$104,ROWS($U$104:U162)-1,COLUMNS($U$104:U162)-1),\"\")","v":""},{"$f":"IF(OFFSET(DE102_5!$V$104,ROWS($V$104:V162)-1,COLUMNS($V$104:V162)-1)<>\"\",OFFSET(DE102_5!$V$104,ROWS($V$104:V162)-1,COLUMNS($V$104:V162)-1),\"\")","v":""},{"$f":"IF(OFFSET(DE102_5!$W$104,ROWS($W$104:W162)-1,COLUMNS($W$104:W162)-1)<>\"\",OFFSET(DE102_5!$W$104,ROWS($W$104:W162)-1,COLUMNS($W$104:W162)-1),\"\")","v":""},{"$f":"IF(OFFSET(DE102_5!$X$104,ROWS($X$104:X162)-1,COLUMNS($X$104:X162)-1)<>\"\",OFFSET(DE102_5!$X$104,ROWS($X$104:X162)-1,COLUMNS($X$104:X162)-1),\"\")","v":""},{"$f":"IF(OFFSET(DE102_5!$Y$104,ROWS($Y$104:Y162)-1,COLUMNS($Y$104:Y162)-1)<>\"\",OFFSET(DE102_5!$Y$104,ROWS($Y$104:Y162)-1,COLUMNS($Y$104:Y162)-1),\"\")","v":""},{"$f":"IF(OFFSET(DE102_5!$Z$104,ROWS($Z$104:Z162)-1,COLUMNS($Z$104:Z162)-1)<>\"\",OFFSET(DE102_5!$Z$104,ROWS($Z$104:Z162)-1,COLUMNS($Z$104:Z162)-1),\"\")","v":""},{"$f":"IF(OFFSET(DE102_5!$AA$104,ROWS($AA$104:AA162)-1,COLUMNS($AA$104:AA162)-1)<>\"\",OFFSET(DE102_5!$AA$104,ROWS($AA$104:AA162)-1,COLUMNS($AA$104:AA162)-1),\"\")","v":""},{"$f":"IF(OFFSET(DE102_5!$AB$104,ROWS($AB$104:AB162)-1,COLUMNS($AB$104:AB162)-1)<>\"\",OFFSET(DE102_5!$AB$104,ROWS($AB$104:AB162)-1,COLUMNS($AB$104:AB162)-1),\"\")","v":""}]
[{"$f":"IF(OFFSET(DE102_5!$C$104,ROWS($C$104:C163)-1,COLUMNS($C$104:C163)-1)<>\"\",OFFSET(DE102_5!$C$104,ROWS($C$104:C163)-1,COLUMNS($C$104:C163)-1),\"\")","v":""},{"$f":"IF(OFFSET(DE102_5!$F$104,ROWS($F$104:F163)-1,COLUMNS($F$104:F163)-1)<>\"\",OFFSET(DE102_5!$F$104,ROWS($F$104:F163)-1,COLUMNS($F$104:F163)-1),\"\")","v":""},{"$f":"IF(OFFSET(DE102_5!$G$104,ROWS($G$104:G163)-1,COLUMNS($G$104:G163)-1)<>\"\",OFFSET(DE102_5!$G$104,ROWS($G$104:G163)-1,COLUMNS($G$104:G163)-1),\"\")","v":""},{"$f":"IF(OFFSET(DE102_5!$H$104,ROWS($H$104:H163)-1,COLUMNS($H$104:H163)-1)<>\"\",OFFSET(DE102_5!$H$104,ROWS($H$104:H163)-1,COLUMNS($H$104:H163)-1),\"\")","v":""},{"$f":"IF(OFFSET(DE102_5!$I$104,ROWS($I$104:I163)-1,COLUMNS($I$104:I163)-1)<>\"\",OFFSET(DE102_5!$I$104,ROWS($I$104:I163)-1,COLUMNS($I$104:I163)-1),\"\")","v":""},{"$f":"IF(OFFSET(DE102_5!$J$104,ROWS($J$104:J163)-1,COLUMNS($J$104:J163)-1)<>\"\",OFFSET(DE102_5!$J$104,ROWS($J$104:J163)-1,COLUMNS($J$104:J163)-1),\"\")","v":""},{"$f":"IF(OFFSET(DE102_5!$M$104,ROWS($M$104:M163)-1,COLUMNS($M$104:M163)-1)<>\"\",OFFSET(DE102_5!$M$104,ROWS($M$104:M163)-1,COLUMNS($M$104:M163)-1),\"\")","v":""},{"$f":"IF(OFFSET(DE102_5!$N$104,ROWS($N$104:N163)-1,COLUMNS($N$104:N163)-1)<>\"\",OFFSET(DE102_5!$N$104,ROWS($N$104:N163)-1,COLUMNS($N$104:N163)-1),\"\")","v":""},{"$f":"IF(OFFSET(DE102_5!$O$104,ROWS($O$104:O163)-1,COLUMNS($O$104:O163)-1)<>\"\",OFFSET(DE102_5!$O$104,ROWS($O$104:O163)-1,COLUMNS($O$104:O163)-1),\"\")","v":""},{"$f":"IF(OFFSET(DE102_5!$P$104,ROWS($P$104:P163)-1,COLUMNS($P$104:P163)-1)<>\"\",OFFSET(DE102_5!$P$104,ROWS($P$104:P163)-1,COLUMNS($P$104:P163)-1),\"\")","v":""},{"$f":"IF(OFFSET(DE102_5!$Q$104,ROWS($Q$104:Q163)-1,COLUMNS($Q$104:Q163)-1)<>\"\",OFFSET(DE102_5!$Q$104,ROWS($Q$104:Q163)-1,COLUMNS($Q$104:Q163)-1),\"\")","v":""},{"$f":"IF(OFFSET(DE102_5!$R$104,ROWS($R$104:R163)-1,COLUMNS($R$104:R163)-1)<>\"\",OFFSET(DE102_5!$R$104,ROWS($R$104:R163)-1,COLUMNS($R$104:R163)-1),\"\")","v":""},{"$f":"IF(OFFSET(DE102_5!$S$104,ROWS($S$104:S163)-1,COLUMNS($S$104:S163)-1)<>\"\",OFFSET(DE102_5!$S$104,ROWS($S$104:S163)-1,COLUMNS($S$104:S163)-1),\"\")","v":""},{"$f":"IF(OFFSET(DE102_5!$T$104,ROWS($T$104:T163)-1,COLUMNS($T$104:T163)-1)<>\"\",OFFSET(DE102_5!$T$104,ROWS($T$104:T163)-1,COLUMNS($T$104:T163)-1),\"\")","v":""},{"$f":"IF(OFFSET(DE102_5!$U$104,ROWS($U$104:U163)-1,COLUMNS($U$104:U163)-1)<>\"\",OFFSET(DE102_5!$U$104,ROWS($U$104:U163)-1,COLUMNS($U$104:U163)-1),\"\")","v":""},{"$f":"IF(OFFSET(DE102_5!$V$104,ROWS($V$104:V163)-1,COLUMNS($V$104:V163)-1)<>\"\",OFFSET(DE102_5!$V$104,ROWS($V$104:V163)-1,COLUMNS($V$104:V163)-1),\"\")","v":""},{"$f":"IF(OFFSET(DE102_5!$W$104,ROWS($W$104:W163)-1,COLUMNS($W$104:W163)-1)<>\"\",OFFSET(DE102_5!$W$104,ROWS($W$104:W163)-1,COLUMNS($W$104:W163)-1),\"\")","v":""},{"$f":"IF(OFFSET(DE102_5!$X$104,ROWS($X$104:X163)-1,COLUMNS($X$104:X163)-1)<>\"\",OFFSET(DE102_5!$X$104,ROWS($X$104:X163)-1,COLUMNS($X$104:X163)-1),\"\")","v":""},{"$f":"IF(OFFSET(DE102_5!$Y$104,ROWS($Y$104:Y163)-1,COLUMNS($Y$104:Y163)-1)<>\"\",OFFSET(DE102_5!$Y$104,ROWS($Y$104:Y163)-1,COLUMNS($Y$104:Y163)-1),\"\")","v":""},{"$f":"IF(OFFSET(DE102_5!$Z$104,ROWS($Z$104:Z163)-1,COLUMNS($Z$104:Z163)-1)<>\"\",OFFSET(DE102_5!$Z$104,ROWS($Z$104:Z163)-1,COLUMNS($Z$104:Z163)-1),\"\")","v":""},{"$f":"IF(OFFSET(DE102_5!$AA$104,ROWS($AA$104:AA163)-1,COLUMNS($AA$104:AA163)-1)<>\"\",OFFSET(DE102_5!$AA$104,ROWS($AA$104:AA163)-1,COLUMNS($AA$104:AA163)-1),\"\")","v":""},{"$f":"IF(OFFSET(DE102_5!$AB$104,ROWS($AB$104:AB163)-1,COLUMNS($AB$104:AB163)-1)<>\"\",OFFSET(DE102_5!$AB$104,ROWS($AB$104:AB163)-1,COLUMNS($AB$104:AB163)-1),\"\")","v":""}]
[{"$f":"IF(OFFSET(DE102_5!$C$104,ROWS($C$104:C164)-1,COLUMNS($C$104:C164)-1)<>\"\",OFFSET(DE102_5!$C$104,ROWS($C$104:C164)-1,COLUMNS($C$104:C164)-1),\"\")","v":""},{"$f":"IF(OFFSET(DE102_5!$F$104,ROWS($F$104:F164)-1,COLUMNS($F$104:F164)-1)<>\"\",OFFSET(DE102_5!$F$104,ROWS($F$104:F164)-1,COLUMNS($F$104:F164)-1),\"\")","v":""},{"$f":"IF(OFFSET(DE102_5!$G$104,ROWS($G$104:G164)-1,COLUMNS($G$104:G164)-1)<>\"\",OFFSET(DE102_5!$G$104,ROWS($G$104:G164)-1,COLUMNS($G$104:G164)-1),\"\")","v":""},{"$f":"IF(OFFSET(DE102_5!$H$104,ROWS($H$104:H164)-1,COLUMNS($H$104:H164)-1)<>\"\",OFFSET(DE102_5!$H$104,ROWS($H$104:H164)-1,COLUMNS($H$104:H164)-1),\"\")","v":""},{"$f":"IF(OFFSET(DE102_5!$I$104,ROWS($I$104:I164)-1,COLUMNS($I$104:I164)-1)<>\"\",OFFSET(DE102_5!$I$104,ROWS($I$104:I164)-1,COLUMNS($I$104:I164)-1),\"\")","v":""},{"$f":"IF(OFFSET(DE102_5!$J$104,ROWS($J$104:J164)-1,COLUMNS($J$104:J164)-1)<>\"\",OFFSET(DE102_5!$J$104,ROWS($J$104:J164)-1,COLUMNS($J$104:J164)-1),\"\")","v":""},{"$f":"IF(OFFSET(DE102_5!$M$104,ROWS($M$104:M164)-1,COLUMNS($M$104:M164)-1)<>\"\",OFFSET(DE102_5!$M$104,ROWS($M$104:M164)-1,COLUMNS($M$104:M164)-1),\"\")","v":""},{"$f":"IF(OFFSET(DE102_5!$N$104,ROWS($N$104:N164)-1,COLUMNS($N$104:N164)-1)<>\"\",OFFSET(DE102_5!$N$104,ROWS($N$104:N164)-1,COLUMNS($N$104:N164)-1),\"\")","v":""},{"$f":"IF(OFFSET(DE102_5!$O$104,ROWS($O$104:O164)-1,COLUMNS($O$104:O164)-1)<>\"\",OFFSET(DE102_5!$O$104,ROWS($O$104:O164)-1,COLUMNS($O$104:O164)-1),\"\")","v":""},{"$f":"IF(OFFSET(DE102_5!$P$104,ROWS($P$104:P164)-1,COLUMNS($P$104:P164)-1)<>\"\",OFFSET(DE102_5!$P$104,ROWS($P$104:P164)-1,COLUMNS($P$104:P164)-1),\"\")","v":""},{"$f":"IF(OFFSET(DE102_5!$Q$104,ROWS($Q$104:Q164)-1,COLUMNS($Q$104:Q164)-1)<>\"\",OFFSET(DE102_5!$Q$104,ROWS($Q$104:Q164)-1,COLUMNS($Q$104:Q164)-1),\"\")","v":""},{"$f":"IF(OFFSET(DE102_5!$R$104,ROWS($R$104:R164)-1,COLUMNS($R$104:R164)-1)<>\"\",OFFSET(DE102_5!$R$104,ROWS($R$104:R164)-1,COLUMNS($R$104:R164)-1),\"\")","v":""},{"$f":"IF(OFFSET(DE102_5!$S$104,ROWS($S$104:S164)-1,COLUMNS($S$104:S164)-1)<>\"\",OFFSET(DE102_5!$S$104,ROWS($S$104:S164)-1,COLUMNS($S$104:S164)-1),\"\")","v":""},{"$f":"IF(OFFSET(DE102_5!$T$104,ROWS($T$104:T164)-1,COLUMNS($T$104:T164)-1)<>\"\",OFFSET(DE102_5!$T$104,ROWS($T$104:T164)-1,COLUMNS($T$104:T164)-1),\"\")","v":""},{"$f":"IF(OFFSET(DE102_5!$U$104,ROWS($U$104:U164)-1,COLUMNS($U$104:U164)-1)<>\"\",OFFSET(DE102_5!$U$104,ROWS($U$104:U164)-1,COLUMNS($U$104:U164)-1),\"\")","v":""},{"$f":"IF(OFFSET(DE102_5!$V$104,ROWS($V$104:V164)-1,COLUMNS($V$104:V164)-1)<>\"\",OFFSET(DE102_5!$V$104,ROWS($V$104:V164)-1,COLUMNS($V$104:V164)-1),\"\")","v":""},{"$f":"IF(OFFSET(DE102_5!$W$104,ROWS($W$104:W164)-1,COLUMNS($W$104:W164)-1)<>\"\",OFFSET(DE102_5!$W$104,ROWS($W$104:W164)-1,COLUMNS($W$104:W164)-1),\"\")","v":""},{"$f":"IF(OFFSET(DE102_5!$X$104,ROWS($X$104:X164)-1,COLUMNS($X$104:X164)-1)<>\"\",OFFSET(DE102_5!$X$104,ROWS($X$104:X164)-1,COLUMNS($X$104:X164)-1),\"\")","v":""},{"$f":"IF(OFFSET(DE102_5!$Y$104,ROWS($Y$104:Y164)-1,COLUMNS($Y$104:Y164)-1)<>\"\",OFFSET(DE102_5!$Y$104,ROWS($Y$104:Y164)-1,COLUMNS($Y$104:Y164)-1),\"\")","v":""},{"$f":"IF(OFFSET(DE102_5!$Z$104,ROWS($Z$104:Z164)-1,COLUMNS($Z$104:Z164)-1)<>\"\",OFFSET(DE102_5!$Z$104,ROWS($Z$104:Z164)-1,COLUMNS($Z$104:Z164)-1),\"\")","v":""},{"$f":"IF(OFFSET(DE102_5!$AA$104,ROWS($AA$104:AA164)-1,COLUMNS($AA$104:AA164)-1)<>\"\",OFFSET(DE102_5!$AA$104,ROWS($AA$104:AA164)-1,COLUMNS($AA$104:AA164)-1),\"\")","v":""},{"$f":"IF(OFFSET(DE102_5!$AB$104,ROWS($AB$104:AB164)-1,COLUMNS($AB$104:AB164)-1)<>\"\",OFFSET(DE102_5!$AB$104,ROWS($AB$104:AB164)-1,COLUMNS($AB$104:AB164)-1),\"\")","v":""}]
[{"$f":"IF(OFFSET(DE102_5!$C$104,ROWS($C$104:C165)-1,COLUMNS($C$104:C165)-1)<>\"\",OFFSET(DE102_5!$C$104,ROWS($C$104:C165)-1,COLUMNS($C$104:C165)-1),\"\")","v":""},{"$f":"IF(OFFSET(DE102_5!$F$104,ROWS($F$104:F165)-1,COLUMNS($F$104:F165)-1)<>\"\",OFFSET(DE102_5!$F$104,ROWS($F$104:F165)-1,COLUMNS($F$104:F165)-1),\"\")","v":""},{"$f":"IF(OFFSET(DE102_5!$G$104,ROWS($G$104:G165)-1,COLUMNS($G$104:G165)-1)<>\"\",OFFSET(DE102_5!$G$104,ROWS($G$104:G165)-1,COLUMNS($G$104:G165)-1),\"\")","v":""},{"$f":"IF(OFFSET(DE102_5!$H$104,ROWS($H$104:H165)-1,COLUMNS($H$104:H165)-1)<>\"\",OFFSET(DE102_5!$H$104,ROWS($H$104:H165)-1,COLUMNS($H$104:H165)-1),\"\")","v":""},{"$f":"IF(OFFSET(DE102_5!$I$104,ROWS($I$104:I165)-1,COLUMNS($I$104:I165)-1)<>\"\",OFFSET(DE102_5!$I$104,ROWS($I$104:I165)-1,COLUMNS($I$104:I165)-1),\"\")","v":""},{"$f":"IF(OFFSET(DE102_5!$J$104,ROWS($J$104:J165)-1,COLUMNS($J$104:J165)-1)<>\"\",OFFSET(DE102_5!$J$104,ROWS($J$104:J165)-1,COLUMNS($J$104:J165)-1),\"\")","v":""},{"$f":"IF(OFFSET(DE102_5!$M$104,ROWS($M$104:M165)-1,COLUMNS($M$104:M165)-1)<>\"\",OFFSET(DE102_5!$M$104,ROWS($M$104:M165)-1,COLUMNS($M$104:M165)-1),\"\")","v":""},{"$f":"IF(OFFSET(DE102_5!$N$104,ROWS($N$104:N165)-1,COLUMNS($N$104:N165)-1)<>\"\",OFFSET(DE102_5!$N$104,ROWS($N$104:N165)-1,COLUMNS($N$104:N165)-1),\"\")","v":""},{"$f":"IF(OFFSET(DE102_5!$O$104,ROWS($O$104:O165)-1,COLUMNS($O$104:O165)-1)<>\"\",OFFSET(DE102_5!$O$104,ROWS($O$104:O165)-1,COLUMNS($O$104:O165)-1),\"\")","v":""},{"$f":"IF(OFFSET(DE102_5!$P$104,ROWS($P$104:P165)-1,COLUMNS($P$104:P165)-1)<>\"\",OFFSET(DE102_5!$P$104,ROWS($P$104:P165)-1,COLUMNS($P$104:P165)-1),\"\")","v":""},{"$f":"IF(OFFSET(DE102_5!$Q$104,ROWS($Q$104:Q165)-1,COLUMNS($Q$104:Q165)-1)<>\"\",OFFSET(DE102_5!$Q$104,ROWS($Q$104:Q165)-1,COLUMNS($Q$104:Q165)-1),\"\")","v":""},{"$f":"IF(OFFSET(DE102_5!$R$104,ROWS($R$104:R165)-1,COLUMNS($R$104:R165)-1)<>\"\",OFFSET(DE102_5!$R$104,ROWS($R$104:R165)-1,COLUMNS($R$104:R165)-1),\"\")","v":""},{"$f":"IF(OFFSET(DE102_5!$S$104,ROWS($S$104:S165)-1,COLUMNS($S$104:S165)-1)<>\"\",OFFSET(DE102_5!$S$104,ROWS($S$104:S165)-1,COLUMNS($S$104:S165)-1),\"\")","v":""},{"$f":"IF(OFFSET(DE102_5!$T$104,ROWS($T$104:T165)-1,COLUMNS($T$104:T165)-1)<>\"\",OFFSET(DE102_5!$T$104,ROWS($T$104:T165)-1,COLUMNS($T$104:T165)-1),\"\")","v":""},{"$f":"IF(OFFSET(DE102_5!$U$104,ROWS($U$104:U165)-1,COLUMNS($U$104:U165)-1)<>\"\",OFFSET(DE102_5!$U$104,ROWS($U$104:U165)-1,COLUMNS($U$104:U165)-1),\"\")","v":""},{"$f":"IF(OFFSET(DE102_5!$V$104,ROWS($V$104:V165)-1,COLUMNS($V$104:V165)-1)<>\"\",OFFSET(DE102_5!$V$104,ROWS($V$104:V165)-1,COLUMNS($V$104:V165)-1),\"\")","v":""},{"$f":"IF(OFFSET(DE102_5!$W$104,ROWS($W$104:W165)-1,COLUMNS($W$104:W165)-1)<>\"\",OFFSET(DE102_5!$W$104,ROWS($W$104:W165)-1,COLUMNS($W$104:W165)-1),\"\")","v":""},{"$f":"IF(OFFSET(DE102_5!$X$104,ROWS($X$104:X165)-1,COLUMNS($X$104:X165)-1)<>\"\",OFFSET(DE102_5!$X$104,ROWS($X$104:X165)-1,COLUMNS($X$104:X165)-1),\"\")","v":""},{"$f":"IF(OFFSET(DE102_5!$Y$104,ROWS($Y$104:Y165)-1,COLUMNS($Y$104:Y165)-1)<>\"\",OFFSET(DE102_5!$Y$104,ROWS($Y$104:Y165)-1,COLUMNS($Y$104:Y165)-1),\"\")","v":""},{"$f":"IF(OFFSET(DE102_5!$Z$104,ROWS($Z$104:Z165)-1,COLUMNS($Z$104:Z165)-1)<>\"\",OFFSET(DE102_5!$Z$104,ROWS($Z$104:Z165)-1,COLUMNS($Z$104:Z165)-1),\"\")","v":""},{"$f":"IF(OFFSET(DE102_5!$AA$104,ROWS($AA$104:AA165)-1,COLUMNS($AA$104:AA165)-1)<>\"\",OFFSET(DE102_5!$AA$104,ROWS($AA$104:AA165)-1,COLUMNS($AA$104:AA165)-1),\"\")","v":""},{"$f":"IF(OFFSET(DE102_5!$AB$104,ROWS($AB$104:AB165)-1,COLUMNS($AB$104:AB165)-1)<>\"\",OFFSET(DE102_5!$AB$104,ROWS($AB$104:AB165)-1,COLUMNS($AB$104:AB165)-1),\"\")","v":""}]
[{"$f":"IF(OFFSET(DE102_5!$C$104,ROWS($C$104:C166)-1,COLUMNS($C$104:C166)-1)<>\"\",OFFSET(DE102_5!$C$104,ROWS($C$104:C166)-1,COLUMNS($C$104:C166)-1),\"\")","v":""},{"$f":"IF(OFFSET(DE102_5!$F$104,ROWS($F$104:F166)-1,COLUMNS($F$104:F166)-1)<>\"\",OFFSET(DE102_5!$F$104,ROWS($F$104:F166)-1,COLUMNS($F$104:F166)-1),\"\")","v":""},{"$f":"IF(OFFSET(DE102_5!$G$104,ROWS($G$104:G166)-1,COLUMNS($G$104:G166)-1)<>\"\",OFFSET(DE102_5!$G$104,ROWS($G$104:G166)-1,COLUMNS($G$104:G166)-1),\"\")","v":""},{"$f":"IF(OFFSET(DE102_5!$H$104,ROWS($H$104:H166)-1,COLUMNS($H$104:H166)-1)<>\"\",OFFSET(DE102_5!$H$104,ROWS($H$104:H166)-1,COLUMNS($H$104:H166)-1),\"\")","v":""},{"$f":"IF(OFFSET(DE102_5!$I$104,ROWS($I$104:I166)-1,COLUMNS($I$104:I166)-1)<>\"\",OFFSET(DE102_5!$I$104,ROWS($I$104:I166)-1,COLUMNS($I$104:I166)-1),\"\")","v":""},{"$f":"IF(OFFSET(DE102_5!$J$104,ROWS($J$104:J166)-1,COLUMNS($J$104:J166)-1)<>\"\",OFFSET(DE102_5!$J$104,ROWS($J$104:J166)-1,COLUMNS($J$104:J166)-1),\"\")","v":""},{"$f":"IF(OFFSET(DE102_5!$M$104,ROWS($M$104:M166)-1,COLUMNS($M$104:M166)-1)<>\"\",OFFSET(DE102_5!$M$104,ROWS($M$104:M166)-1,COLUMNS($M$104:M166)-1),\"\")","v":""},{"$f":"IF(OFFSET(DE102_5!$N$104,ROWS($N$104:N166)-1,COLUMNS($N$104:N166)-1)<>\"\",OFFSET(DE102_5!$N$104,ROWS($N$104:N166)-1,COLUMNS($N$104:N166)-1),\"\")","v":""},{"$f":"IF(OFFSET(DE102_5!$O$104,ROWS($O$104:O166)-1,COLUMNS($O$104:O166)-1)<>\"\",OFFSET(DE102_5!$O$104,ROWS($O$104:O166)-1,COLUMNS($O$104:O166)-1),\"\")","v":""},{"$f":"IF(OFFSET(DE102_5!$P$104,ROWS($P$104:P166)-1,COLUMNS($P$104:P166)-1)<>\"\",OFFSET(DE102_5!$P$104,ROWS($P$104:P166)-1,COLUMNS($P$104:P166)-1),\"\")","v":""},{"$f":"IF(OFFSET(DE102_5!$Q$104,ROWS($Q$104:Q166)-1,COLUMNS($Q$104:Q166)-1)<>\"\",OFFSET(DE102_5!$Q$104,ROWS($Q$104:Q166)-1,COLUMNS($Q$104:Q166)-1),\"\")","v":""},{"$f":"IF(OFFSET(DE102_5!$R$104,ROWS($R$104:R166)-1,COLUMNS($R$104:R166)-1)<>\"\",OFFSET(DE102_5!$R$104,ROWS($R$104:R166)-1,COLUMNS($R$104:R166)-1),\"\")","v":""},{"$f":"IF(OFFSET(DE102_5!$S$104,ROWS($S$104:S166)-1,COLUMNS($S$104:S166)-1)<>\"\",OFFSET(DE102_5!$S$104,ROWS($S$104:S166)-1,COLUMNS($S$104:S166)-1),\"\")","v":""},{"$f":"IF(OFFSET(DE102_5!$T$104,ROWS($T$104:T166)-1,COLUMNS($T$104:T166)-1)<>\"\",OFFSET(DE102_5!$T$104,ROWS($T$104:T166)-1,COLUMNS($T$104:T166)-1),\"\")","v":""},{"$f":"IF(OFFSET(DE102_5!$U$104,ROWS($U$104:U166)-1,COLUMNS($U$104:U166)-1)<>\"\",OFFSET(DE102_5!$U$104,ROWS($U$104:U166)-1,COLUMNS($U$104:U166)-1),\"\")","v":""},{"$f":"IF(OFFSET(DE102_5!$V$104,ROWS($V$104:V166)-1,COLUMNS($V$104:V166)-1)<>\"\",OFFSET(DE102_5!$V$104,ROWS($V$104:V166)-1,COLUMNS($V$104:V166)-1),\"\")","v":""},{"$f":"IF(OFFSET(DE102_5!$W$104,ROWS($W$104:W166)-1,COLUMNS($W$104:W166)-1)<>\"\",OFFSET(DE102_5!$W$104,ROWS($W$104:W166)-1,COLUMNS($W$104:W166)-1),\"\")","v":""},{"$f":"IF(OFFSET(DE102_5!$X$104,ROWS($X$104:X166)-1,COLUMNS($X$104:X166)-1)<>\"\",OFFSET(DE102_5!$X$104,ROWS($X$104:X166)-1,COLUMNS($X$104:X166)-1),\"\")","v":""},{"$f":"IF(OFFSET(DE102_5!$Y$104,ROWS($Y$104:Y166)-1,COLUMNS($Y$104:Y166)-1)<>\"\",OFFSET(DE102_5!$Y$104,ROWS($Y$104:Y166)-1,COLUMNS($Y$104:Y166)-1),\"\")","v":""},{"$f":"IF(OFFSET(DE102_5!$Z$104,ROWS($Z$104:Z166)-1,COLUMNS($Z$104:Z166)-1)<>\"\",OFFSET(DE102_5!$Z$104,ROWS($Z$104:Z166)-1,COLUMNS($Z$104:Z166)-1),\"\")","v":""},{"$f":"IF(OFFSET(DE102_5!$AA$104,ROWS($AA$104:AA166)-1,COLUMNS($AA$104:AA166)-1)<>\"\",OFFSET(DE102_5!$AA$104,ROWS($AA$104:AA166)-1,COLUMNS($AA$104:AA166)-1),\"\")","v":""},{"$f":"IF(OFFSET(DE102_5!$AB$104,ROWS($AB$104:AB166)-1,COLUMNS($AB$104:AB166)-1)<>\"\",OFFSET(DE102_5!$AB$104,ROWS($AB$104:AB166)-1,COLUMNS($AB$104:AB166)-1),\"\")","v":""}]
[{"$f":"IF(OFFSET(DE102_5!$C$104,ROWS($C$104:C167)-1,COLUMNS($C$104:C167)-1)<>\"\",OFFSET(DE102_5!$C$104,ROWS($C$104:C167)-1,COLUMNS($C$104:C167)-1),\"\")","v":""},{"$f":"IF(OFFSET(DE102_5!$F$104,ROWS($F$104:F167)-1,COLUMNS($F$104:F167)-1)<>\"\",OFFSET(DE102_5!$F$104,ROWS($F$104:F167)-1,COLUMNS($F$104:F167)-1),\"\")","v":""},{"$f":"IF(OFFSET(DE102_5!$G$104,ROWS($G$104:G167)-1,COLUMNS($G$104:G167)-1)<>\"\",OFFSET(DE102_5!$G$104,ROWS($G$104:G167)-1,COLUMNS($G$104:G167)-1),\"\")","v":""},{"$f":"IF(OFFSET(DE102_5!$H$104,ROWS($H$104:H167)-1,COLUMNS($H$104:H167)-1)<>\"\",OFFSET(DE102_5!$H$104,ROWS($H$104:H167)-1,COLUMNS($H$104:H167)-1),\"\")","v":""},{"$f":"IF(OFFSET(DE102_5!$I$104,ROWS($I$104:I167)-1,COLUMNS($I$104:I167)-1)<>\"\",OFFSET(DE102_5!$I$104,ROWS($I$104:I167)-1,COLUMNS($I$104:I167)-1),\"\")","v":""},{"$f":"IF(OFFSET(DE102_5!$J$104,ROWS($J$104:J167)-1,COLUMNS($J$104:J167)-1)<>\"\",OFFSET(DE102_5!$J$104,ROWS($J$104:J167)-1,COLUMNS($J$104:J167)-1),\"\")","v":""},{"$f":"IF(OFFSET(DE102_5!$M$104,ROWS($M$104:M167)-1,COLUMNS($M$104:M167)-1)<>\"\",OFFSET(DE102_5!$M$104,ROWS($M$104:M167)-1,COLUMNS($M$104:M167)-1),\"\")","v":""},{"$f":"IF(OFFSET(DE102_5!$N$104,ROWS($N$104:N167)-1,COLUMNS($N$104:N167)-1)<>\"\",OFFSET(DE102_5!$N$104,ROWS($N$104:N167)-1,COLUMNS($N$104:N167)-1),\"\")","v":""},{"$f":"IF(OFFSET(DE102_5!$O$104,ROWS($O$104:O167)-1,COLUMNS($O$104:O167)-1)<>\"\",OFFSET(DE102_5!$O$104,ROWS($O$104:O167)-1,COLUMNS($O$104:O167)-1),\"\")","v":""},{"$f":"IF(OFFSET(DE102_5!$P$104,ROWS($P$104:P167)-1,COLUMNS($P$104:P167)-1)<>\"\",OFFSET(DE102_5!$P$104,ROWS($P$104:P167)-1,COLUMNS($P$104:P167)-1),\"\")","v":""},{"$f":"IF(OFFSET(DE102_5!$Q$104,ROWS($Q$104:Q167)-1,COLUMNS($Q$104:Q167)-1)<>\"\",OFFSET(DE102_5!$Q$104,ROWS($Q$104:Q167)-1,COLUMNS($Q$104:Q167)-1),\"\")","v":""},{"$f":"IF(OFFSET(DE102_5!$R$104,ROWS($R$104:R167)-1,COLUMNS($R$104:R167)-1)<>\"\",OFFSET(DE102_5!$R$104,ROWS($R$104:R167)-1,COLUMNS($R$104:R167)-1),\"\")","v":""},{"$f":"IF(OFFSET(DE102_5!$S$104,ROWS($S$104:S167)-1,COLUMNS($S$104:S167)-1)<>\"\",OFFSET(DE102_5!$S$104,ROWS($S$104:S167)-1,COLUMNS($S$104:S167)-1),\"\")","v":""},{"$f":"IF(OFFSET(DE102_5!$T$104,ROWS($T$104:T167)-1,COLUMNS($T$104:T167)-1)<>\"\",OFFSET(DE102_5!$T$104,ROWS($T$104:T167)-1,COLUMNS($T$104:T167)-1),\"\")","v":""},{"$f":"IF(OFFSET(DE102_5!$U$104,ROWS($U$104:U167)-1,COLUMNS($U$104:U167)-1)<>\"\",OFFSET(DE102_5!$U$104,ROWS($U$104:U167)-1,COLUMNS($U$104:U167)-1),\"\")","v":""},{"$f":"IF(OFFSET(DE102_5!$V$104,ROWS($V$104:V167)-1,COLUMNS($V$104:V167)-1)<>\"\",OFFSET(DE102_5!$V$104,ROWS($V$104:V167)-1,COLUMNS($V$104:V167)-1),\"\")","v":""},{"$f":"IF(OFFSET(DE102_5!$W$104,ROWS($W$104:W167)-1,COLUMNS($W$104:W167)-1)<>\"\",OFFSET(DE102_5!$W$104,ROWS($W$104:W167)-1,COLUMNS($W$104:W167)-1),\"\")","v":""},{"$f":"IF(OFFSET(DE102_5!$X$104,ROWS($X$104:X167)-1,COLUMNS($X$104:X167)-1)<>\"\",OFFSET(DE102_5!$X$104,ROWS($X$104:X167)-1,COLUMNS($X$104:X167)-1),\"\")","v":""},{"$f":"IF(OFFSET(DE102_5!$Y$104,ROWS($Y$104:Y167)-1,COLUMNS($Y$104:Y167)-1)<>\"\",OFFSET(DE102_5!$Y$104,ROWS($Y$104:Y167)-1,COLUMNS($Y$104:Y167)-1),\"\")","v":""},{"$f":"IF(OFFSET(DE102_5!$Z$104,ROWS($Z$104:Z167)-1,COLUMNS($Z$104:Z167)-1)<>\"\",OFFSET(DE102_5!$Z$104,ROWS($Z$104:Z167)-1,COLUMNS($Z$104:Z167)-1),\"\")","v":""},{"$f":"IF(OFFSET(DE102_5!$AA$104,ROWS($AA$104:AA167)-1,COLUMNS($AA$104:AA167)-1)<>\"\",OFFSET(DE102_5!$AA$104,ROWS($AA$104:AA167)-1,COLUMNS($AA$104:AA167)-1),\"\")","v":""},{"$f":"IF(OFFSET(DE102_5!$AB$104,ROWS($AB$104:AB167)-1,COLUMNS($AB$104:AB167)-1)<>\"\",OFFSET(DE102_5!$AB$104,ROWS($AB$104:AB167)-1,COLUMNS($AB$104:AB167)-1),\"\")","v":""}]
[{"$f":"IF(OFFSET(DE102_5!$C$104,ROWS($C$104:C168)-1,COLUMNS($C$104:C168)-1)<>\"\",OFFSET(DE102_5!$C$104,ROWS($C$104:C168)-1,COLUMNS($C$104:C168)-1),\"\")","v":""},{"$f":"IF(OFFSET(DE102_5!$F$104,ROWS($F$104:F168)-1,COLUMNS($F$104:F168)-1)<>\"\",OFFSET(DE102_5!$F$104,ROWS($F$104:F168)-1,COLUMNS($F$104:F168)-1),\"\")","v":""},{"$f":"IF(OFFSET(DE102_5!$G$104,ROWS($G$104:G168)-1,COLUMNS($G$104:G168)-1)<>\"\",OFFSET(DE102_5!$G$104,ROWS($G$104:G168)-1,COLUMNS($G$104:G168)-1),\"\")","v":""},{"$f":"IF(OFFSET(DE102_5!$H$104,ROWS($H$104:H168)-1,COLUMNS($H$104:H168)-1)<>\"\",OFFSET(DE102_5!$H$104,ROWS($H$104:H168)-1,COLUMNS($H$104:H168)-1),\"\")","v":""},{"$f":"IF(OFFSET(DE102_5!$I$104,ROWS($I$104:I168)-1,COLUMNS($I$104:I168)-1)<>\"\",OFFSET(DE102_5!$I$104,ROWS($I$104:I168)-1,COLUMNS($I$104:I168)-1),\"\")","v":""},{"$f":"IF(OFFSET(DE102_5!$J$104,ROWS($J$104:J168)-1,COLUMNS($J$104:J168)-1)<>\"\",OFFSET(DE102_5!$J$104,ROWS($J$104:J168)-1,COLUMNS($J$104:J168)-1),\"\")","v":""},{"$f":"IF(OFFSET(DE102_5!$M$104,ROWS($M$104:M168)-1,COLUMNS($M$104:M168)-1)<>\"\",OFFSET(DE102_5!$M$104,ROWS($M$104:M168)-1,COLUMNS($M$104:M168)-1),\"\")","v":""},{"$f":"IF(OFFSET(DE102_5!$N$104,ROWS($N$104:N168)-1,COLUMNS($N$104:N168)-1)<>\"\",OFFSET(DE102_5!$N$104,ROWS($N$104:N168)-1,COLUMNS($N$104:N168)-1),\"\")","v":""},{"$f":"IF(OFFSET(DE102_5!$O$104,ROWS($O$104:O168)-1,COLUMNS($O$104:O168)-1)<>\"\",OFFSET(DE102_5!$O$104,ROWS($O$104:O168)-1,COLUMNS($O$104:O168)-1),\"\")","v":""},{"$f":"IF(OFFSET(DE102_5!$P$104,ROWS($P$104:P168)-1,COLUMNS($P$104:P168)-1)<>\"\",OFFSET(DE102_5!$P$104,ROWS($P$104:P168)-1,COLUMNS($P$104:P168)-1),\"\")","v":""},{"$f":"IF(OFFSET(DE102_5!$Q$104,ROWS($Q$104:Q168)-1,COLUMNS($Q$104:Q168)-1)<>\"\",OFFSET(DE102_5!$Q$104,ROWS($Q$104:Q168)-1,COLUMNS($Q$104:Q168)-1),\"\")","v":""},{"$f":"IF(OFFSET(DE102_5!$R$104,ROWS($R$104:R168)-1,COLUMNS($R$104:R168)-1)<>\"\",OFFSET(DE102_5!$R$104,ROWS($R$104:R168)-1,COLUMNS($R$104:R168)-1),\"\")","v":""},{"$f":"IF(OFFSET(DE102_5!$S$104,ROWS($S$104:S168)-1,COLUMNS($S$104:S168)-1)<>\"\",OFFSET(DE102_5!$S$104,ROWS($S$104:S168)-1,COLUMNS($S$104:S168)-1),\"\")","v":""},{"$f":"IF(OFFSET(DE102_5!$T$104,ROWS($T$104:T168)-1,COLUMNS($T$104:T168)-1)<>\"\",OFFSET(DE102_5!$T$104,ROWS($T$104:T168)-1,COLUMNS($T$104:T168)-1),\"\")","v":""},{"$f":"IF(OFFSET(DE102_5!$U$104,ROWS($U$104:U168)-1,COLUMNS($U$104:U168)-1)<>\"\",OFFSET(DE102_5!$U$104,ROWS($U$104:U168)-1,COLUMNS($U$104:U168)-1),\"\")","v":""},{"$f":"IF(OFFSET(DE102_5!$V$104,ROWS($V$104:V168)-1,COLUMNS($V$104:V168)-1)<>\"\",OFFSET(DE102_5!$V$104,ROWS($V$104:V168)-1,COLUMNS($V$104:V168)-1),\"\")","v":""},{"$f":"IF(OFFSET(DE102_5!$W$104,ROWS($W$104:W168)-1,COLUMNS($W$104:W168)-1)<>\"\",OFFSET(DE102_5!$W$104,ROWS($W$104:W168)-1,COLUMNS($W$104:W168)-1),\"\")","v":""},{"$f":"IF(OFFSET(DE102_5!$X$104,ROWS($X$104:X168)-1,COLUMNS($X$104:X168)-1)<>\"\",OFFSET(DE102_5!$X$104,ROWS($X$104:X168)-1,COLUMNS($X$104:X168)-1),\"\")","v":""},{"$f":"IF(OFFSET(DE102_5!$Y$104,ROWS($Y$104:Y168)-1,COLUMNS($Y$104:Y168)-1)<>\"\",OFFSET(DE102_5!$Y$104,ROWS($Y$104:Y168)-1,COLUMNS($Y$104:Y168)-1),\"\")","v":""},{"$f":"IF(OFFSET(DE102_5!$Z$104,ROWS($Z$104:Z168)-1,COLUMNS($Z$104:Z168)-1)<>\"\",OFFSET(DE102_5!$Z$104,ROWS($Z$104:Z168)-1,COLUMNS($Z$104:Z168)-1),\"\")","v":""},{"$f":"IF(OFFSET(DE102_5!$AA$104,ROWS($AA$104:AA168)-1,COLUMNS($AA$104:AA168)-1)<>\"\",OFFSET(DE102_5!$AA$104,ROWS($AA$104:AA168)-1,COLUMNS($AA$104:AA168)-1),\"\")","v":""},{"$f":"IF(OFFSET(DE102_5!$AB$104,ROWS($AB$104:AB168)-1,COLUMNS($AB$104:AB168)-1)<>\"\",OFFSET(DE102_5!$AB$104,ROWS($AB$104:AB168)-1,COLUMNS($AB$104:AB168)-1),\"\")","v":""}]

{"sheet":"PrintSheetTemplate","index":6,"n_rows":95,"n_cols":179,"rows_kept":95,"cut":false,"hidden":true,"merged":[[93,171,93,178],[94,1,94,178],[93,101,93,106],[93,107,93,118],[93,119,93,148],[93,149,93,158],[93,159,93,164],[93,165,93,170],[93,1,93,7],[93,8,93,14],[93,15,93,21],[93,22,93,30],[93,31,93,64],[93,65,93,100]]}
[" "]
[]
[]
[]
[]
[]
[]
[]
[]
[]
[]
[]
[]
[]
[]
[]
[]
[]
[]
[]
[]
[]
[]
[]
[]
[]
[]
[]
[]
[]
[]
[]
[]
[]
[]
[]
[]
[]
[]
[]
[]
[]
[]
[]
[]
[]
[]
[]
[]
[]
[]
[]
[]
[]
[]
[]
[]
[]
[]
[]
[]
[]
[]
[]
[]
[]
[]
[]
[]
[]
[]
[]
[]
[]
[]
[]
[]
[]
[]
[]
[]
[]
[]
[]
[]
[]
[]
[]
[]
[]
[]
[]
[null,"","","","","","","","","","","","","","","","","","","","","","","","","","","","","","","","","","","","","","","","","","","","","","","","","","","","","","","","","","","","","","","","","","","","","","","","","","","","","","","","","","","","","","","","","","","","","","","","","","","","","","","","","","","","","","","","","","","","","","","","","","","","","","","","","","","","","","","","","","","","","","","","","","","","","","","",null,"","","","","","","","","","","","","","","","","","","","","","","","","",""]
[null,"FILE NO.",null,null,null,null,null,null,{"$f":"IF(ProjectInformation!$B$11<>\"\",ProjectInformation!$B$11,\"\")","v":""},null,null,null,null,null,null,{"$f":"UPPER(ProjectInformation!$B$8)","v":"ENGLISH"},null,null,null,null,null,null,"DESIGN TEAM",null,null,null,null,null,null,null,null,{"$f":"IF(AND(ProjectInformation!$B$3<>\"\",ProjectInformation!$B$4<>\"\",ProjectInformation!$B$5<>\"\"),ProjectInformation!$B$3&\"\\\"&ProjectInformation!$B$4&\"\\\"&ProjectInformation!$B$5,IF(AND(ProjectInformation!$B$3<>\"\",ProjectInformation!$B$4<>\"\"),ProjectInformation!$B$3&\"\\\"&ProjectInformation!$B$4,IF(ProjectInformation!$B$3<>\"\",ProjectInformation!$B$3,\"\")))","v":"Flattery\\Bell"},null,null,null,null,null,null,null,null,null,null,null,null,null,null,null,null,null,null,null,null,null,null,null,null,null,null,null,null,null,null,null,null,null,{"$f":"IF(ProjectInformation!$B$6<>\"\",ProjectInformation!$B$6,\"\")","v":"POLK/STORY"},null,null,null,null,null,null,null,null,null,null,null,null,null,null,null,null,null,null,null,null,null,null,null,null,null,null,null,null,null,null,null,null,null,null,null,"COUNTY",null,null,null,null,null,"PROJECT NUMBER",null,null,null,null,null,null,null,null,null,null,null,{"$f":"IF(ProjectInformation!$B$7<>\"\",ProjectInformation!$B$7,\"\")","v":"IM-035-4(309)95--13-77"},null,null,null,null,null,null,null,null,null,null,null,null,null,null,null,null,null,null,null,null,null,null,null,null,null,null,null,null,null,"SHEET NUMBER",null,null,null,null,null,null,null,null,null,null,null,null,null,null,null,{"$f":"IF(FP94<>\"\",\"REVISED\",\"\")","v":""},null,null,null,null,null,{"$f":"IF(ProjectInformation!$B$9<>\"\",ProjectInformation!$B$9,\"\")","v":""}]
[""]

{"sheet":"Note1","index":7,"n_rows":1,"n_cols":1,"rows_kept":1,"cut":false,"hidden":true,"merged":[[0,0,2,0]]}
["SEE V SHEETS FOR ADDITIONAL BID ITEMS AND QUANTITIES"]

{"sheet":"BridgeBlock","index":8,"n_rows":4,"n_cols":14,"rows_kept":4,"cut":false,"hidden":true,"merged":[[2,2,2,8],[3,2,3,7],[2,9,2,12],[3,8,3,12]]}
[2]
[null,"","","","","","","","","","","","",""]
[null,null,"Design No.",null,null,null,null,null,null,{"$f":"IF(#REF!<>\"\",#REF!,\"\")","v":{"$error":"#REF!"}}]
[null,null,"File No.",null,null,null,null,null,{"$f":"IF(#REF!<>\"\",#REF!,\"\")","v":{"$error":"#REF!"}}]

{"sheet":"Index","index":9,"n_rows":164,"n_cols":17,"rows_kept":164,"cut":false,"hidden":true,"merged":[]}
["100-0A","1997-10-28","4.5.6","ADAIR",null,"Live English File Path","W:\\Highway\\Design\\RoadDesignDetails\\ExcelTabs\\",null,"Stuart S. Nielsen","snielse","Methods","ROADWAY DESIGN",null,"102_5(1)","='102_5'!$A$1:$V$90",null,"A_DE111Series.xlsm"]
["100-1A","1997-07-15","10/17/19","ADAMS",null,"Live Metric File Path","W:\\Highway\\Design\\RoadDesignDetails\\ExcelTabs\\MetricTabs\\",null,"Khyle B. Clute","kclute","Methods","ROADWAY DESIGN",null,"102_5(2)","='102_5'!$A$91:$V$164",null,"C_DE100Series.xlsm"]
["100-1C","2012-04-17","C","ALLAMAKEE",null,"Index File Path","W:\\Highway\\Design\\RoadDesignDetails\\PDFsandWebFiles\\Indexes\\",null,"Thomas M. Hamski","thamski","Methods","ROADWAY DESIGN",null,"100_7(1)","='100_7'!$A$1:$T$90",null,"C_DE102Series.xlsm"]
["100-1D","2005-10-18",null,"APPANOOSE",null,"Index File Name","TNT_EnglishIndexes.xlsx",null,"Wesley L. Mayberry","wmayber","Methods","ROADWAY DESIGN",null,"100_7(2)","='100_7'!$A$91:$T$160",null,"C_DE103Series.xlsm"]
["100-4A","2002-10-29",null,"AUDUBON",null,"Last Revision English File Path","W:\\Highway\\Design\\RoadDesignDetails\\Old_Details\\ExcelTabs\\",null,"John M. Narigon","jnarigo","Methods","ROADWAY DESIGN",null,null,null,null,"C_DE104Series.xlsm"]
["100-7","2012-10-16",null,"BENTON",null,"Last Revision Metric File Path","W:\\Highway\\Design\\RoadDesignDetails\\Old_Details\\ExcelTabs\\MetricTabs\\",null,"Christopher Poole","cpoole","Methods","ROADWAY DESIGN",null,null,null,null,"C_DE105Series.xlsm"]
["100-10","2011-10-18",null,"BLACK HAWK",null,"Seed Path","W:\\Highway\\Design\\CADD\\SpreadSheets\\ExcelTabulations.xltm",null,"Daniel J. Harness","dharnes","Methods","ROADWAY DESIGN",null,null,null,null,"C_DE106Series.xlsm"]
["100-11","2008-08-01",null,"BOONE",null,"VersionCheck Path","W:\\Highway\\Design\\CADD\\SpreadSheets\\ExcelTabulations.xlsm",null,"Jason M. Holst","jholst","Road1","ROADWAY DESIGN",null,null,null,null,"C_DE107Series.xlsm"]
["100-12","2008-08-01",null,"BREMER",null,"Standard Road Plan Path","W:\\Highway\\Design\\StandardRoadPlans\\PDFsAndWebFiles\\Indexes\\SRP_EnglishIndex.xls",null,"Jason R. Strum","jstrum","Road1","ROADWAY DESIGN",null,null,null,null,"C_DE108Series.xlsm"]
["100-12A","2008-08-01",null,"BUCHANAN",null,"Last Revision Standard Road Plan Path","W:\\Highway\\Design\\StandardRoadPlans\\PDFsAndWebFiles\\Old_Indexes\\SRP_EnglishIndex.xls",null,"Robert A. Schoenrock","rschoen","Road1","ROADWAY DESIGN",null,null,null,null,"C_DE110Series.xlsm"]
["100-13","2010-04-20",null,"BUENA VISTA",null,"AddIn Path","W:\\Highway\\Design\\CADD\\SpreadSheets\\ExcelTabulations.xlam",null,"Stacy M. Ryan","sryan","Road1","ROADWAY DESIGN",null,null,null,null,"C_DE111Series.xlsm"]
["100-14","2010-04-20",null,"BUTLER",null,"Old Files Path","W:\\Highway\\Design\\RoadDesignDetails\\Old_Details\\ExcelTabs\\",null,"Jonathan W. Bahr","jbahr","Road1","ROADWAY DESIGN",null,null,null,null,"C_DE112Series.xlsm"]
["100-15","2010-04-20",null,"CALHOUN",null,null,null,null,"Yanxiao Jia","yjia","Road2","ROADWAY DESIGN",null,null,null,null,"C_DE113Series.xlsm"]
["100-16","2010-10-19",null,"CARROLL",null,null,null,null,"Ryan R. Miller","rmille3","Road2","ROADWAY DESIGN",null,null,null,null,"C_DE190Series.xlsm"]
["100-17","2010-04-20",null,"CASS",null,null,null,null,"Dustin T. Skogerboe","dskoge2","Road2","ROADWAY DESIGN",null,null,null,null,"C_DE192Series.xlsm"]
["100-18","2010-04-20",null,"CEDAR",null,null,null,null,"Dung T. Ta","dta","Road2","ROADWAY DESIGN",null,null,null,null,"C_DE231Series.xlsm"]
["100-19","2012-10-16",null,"CERRO GORDO",null,null,null,null,"Allison L. P. Smyth","asmyth","Road2","ROADWAY DESIGN",null,null,null,null,"C_DE232Series.xlsm"]
["100-20","2008-08-01",null,"CHEROKEE",null,null,null,null,"Paul W. Flattery","pflatte","Road3","ROADWAY DESIGN",null,null,null,null,"C_DE252Series.xlsm"]
["100-21","2008-08-01",null,"CHICKASAW",null,null,null,null,"Kelly C. Bell","kbell","Road3","ROADWAY DESIGN",null,null,null,null,"C_DE253Series.xlsm"]
["100-22","2008-08-01",null,"CLARKE",null,null,null,null,"Angela K. Johnson","ajohns1","Road3","ROADWAY DESIGN",null,null,null,null,"C_DE254Series.xlsm"]
["100-23","2010-10-19",null,"CLAY",null,null,null,null,"Elijah D. Gansen","egansen","Road3","ROADWAY DESIGN",null,null,null,null,"C_DE259Series.xlsm"]
["100-24","2013-04-16",null,"CLAYTON",null,null,null,null,"James R. Schoenrock","jschoen","Consultant","ROADWAY DESIGN",null,null,null,null,"C_DE262Series.xlsm"]
["100-26","2008-08-01",null,"CLINTON",null,null,null,null,"Randall E. Schlei","rschlie","Consultant","ROADWAY DESIGN",null,null,null,null,"C_DE271Series.xlsm"]
["100-27","2009-10-20",null,"CRAWFORD",null,null,null,null,"Seana K. Godbold","sgodbol","Roadside","LANDSCAPE DESIGN",null,null,null,null,"C_DE281Series.xlsm"]
["100-28","2010-10-19",null,"DALLAS",null,null,null,null,"Robert L. Stanley","rstanle","Soils","GEOTECHNICAL DESIGN",null,null,null,null,"C_DE282Series.xlsm"]
["101-4","2002-04-30",null,"DAVIS",null,null,null,null,"Stephen J. Megivern","smegive","Soils","GEOTECHNICAL DESIGN",null,null,null,null,"C_DE290Series.xlsm"]
["101-5","2002-04-30",null,"DECATUR",null,null,null,null,"Mark A. Dell","mdell","Soils","GEOTECHNICAL DESIGN",null,null,null,null,"G_DE101Series.xlsm"]
["101-6","2002-04-30",null,"DELAWARE",null,null,null,null,"David R. Claman","dclaman","Bridge","HYDRAULIC DESIGN",null,null,null,null,"J_DE108Series.xlsm"]
["101-7","2002-04-30",null,"DES MOINES",null,null,null,null,"Zachary K. Abrams","zabrams","TrafficAndSafety","ROADWAY DESIGN",null,null,null,null,"J_DE111Series.xlsm"]
["101-8","2013-04-16",null,"DICKINSON",null,null,null,null,"Engineer of Record","Khocket","Methods","ROADWAY DESIGN",null,null,null,null,"J_DE113Series.xlsm"]
["101-13","2004-04-20",null,"DUBUQUE",null,null,null,null,"William L. Kaufman","wkaufma","Bridge","HYDRAULIC DESIGN",null,null,null,null,"S_DE113Series.xlsm"]
["101-16","2009-10-20",null,"EMMET",null,null,null,null,"David J. Heer","dheer","Soils","GEOTECHNICAL DESIGN",null,null,null,null,"R_DE100Series.xlsm"]
["101-17","2011-04-19",null,"FAYETTE",null,null,null,null,null,null,null,null,null,null,null,null,"R_DE105Series.xlsm"]
["101-18","2011-04-19",null,"FLOYD",null,null,null,null,null,null,null,null,null,null,null,null,"R_DE110Series.xlsm"]
["102-3","2013-04-16",null,"FRANKLIN",null,null,null,null,null,null,null,null,null,null,null,null,"R_DE111Series.xlsm"]
["102-4","2011-10-18",null,"FREMONT",null,null,null,null,null,null,null,null,null,null,null,null,"R_DE231Series.xlsm"]
["102-5","2012-10-16",null,"GREENE",null,null,null,null,null,null,null,null,null,null,null,null,"R_DE232Series.xlsm"]
["102-5A","2008-08-01",null,"GRUNDY",null,null,null,null,null,null,null,null,null,null,null,null,"R_DE262Series.xlsm"]
["102-6C","2011-10-18",null,"GUTHRIE",null,null,null,null,null,null,null,null,null,null,null,null,"R_DE281Series.xlsm"]
["102-10","2008-08-01",null,"HAMILTON",null,null,null,null,null,null,null,null,null,null,null,null,"R_DE282Series.xlsm"]
["102-11","2008-08-01",null,"HANCOCK"]
["102-12","2008-08-01",null,"HARDIN"]
["102-14","2012-04-17",null,"HARRISON"]
["102-15","2008-08-01",null,"HENRY"]
["103-1","2010-10-19",null,"HOWARD"]
["103-3","2012-10-16",null,"HUMBOLDT"]
["103-4","2011-04-19",null,"IDA"]
["103-5","2008-08-01",null,"IOWA"]
["103-6","2011-04-19",null,"JACKSON"]
["103-7","2008-08-01",null,"JASPER"]
["104-3","2012-10-16",null,"JEFFERSON"]
["104-4","2009-10-20",null,"JOHNSON"]
["104-5A","2011-10-18",null,"JONES"]
["104-5B","2011-10-18",null,"KEOKUK"]
["104-5C","2012-04-17",null,"KOSSUTH"]
["104-8","2008-08-01",null,"LEE"]
["104-8A","2010-04-20",null,"LINN"]
["104-9","2012-04-17",null,"LOUISA"]
["104-10","2008-08-01",null,"LUCAS"]
["104-11","2008-08-01",null,"LYON"]
["104-12","2012-10-16",null,"MADISON"]
["104-13","2013-04-16",null,"MAHASKA"]
["105-1","1994-09-27",null,"MARION"]
["105-3","2005-10-18",null,"MARSHALL"]
["105-4","2011-10-18",null,"MILLS"]
["106-1","2008-08-01",null,"MITCHELL"]
["106-2","2008-08-01",null,"MONONA"]
["106-3","2008-08-01",null,"MONROE"]
["106-4","2013-04-16",null,"MONTGOMERY"]
["106-5","2008-08-01",null,"MUSCATINE"]
["106-7","2008-08-01",null,"O'BRIEN"]
["106-8","2011-04-19",null,"OSCEOLA"]
["107-7","2008-08-01",null,"PAGE"]
["107-22","2013-04-16",null,"PALO ALTO"]
["107-23","2011-10-18",null,"PLYMOUTH"]
["107-24","2008-08-01",null,"POCAHONTAS"]
["107-25","2008-08-01",null,"POLK"]
["107-29","2012-04-17",null,"POTTAWATTAMIE"]
["107-30","2012-04-17",null,"POWESHIEK"]
["107-31","2011-04-19",null,"RINGGOLD"]
["108-1","2008-08-01",null,"SAC"]
["108-2","2008-08-01",null,"SCOTT"]
["108-2A","2008-08-01",null,"SHELBY"]
["108-8A","2010-10-19",null,"SIOUX"]
["108-8B","2011-10-18",null,"STORY"]
["108-8C","2011-10-18",null,"TAMA"]
["108-8D","2010-10-19",null,"TAYLOR"]
["108-9A","2010-04-20",null,"UNION"]
["108-11A","2008-08-01",null,"VAN BUREN"]
["108-12","2008-08-01",null,"WAPELLO"]
["108-13A","2008-08-01",null,"WARREN"]
["108-15","2008-08-01",null,"WASHINGTON"]
["108-16","2010-10-19",null,"WAYNE"]
["108-18","2011-10-18",null,"WEBSTER"]
["108-18B","2012-10-16",null,"WINNEBAGO"]
["108-22","2013-04-16",null,"WINNESHIEK"]
["108-23A","2008-08-01",null,"WOODBURY"]
["108-24","2011-04-19",null,"WORTH"]
["108-26A","2008-08-01",null,"WRIGHT"]
["108-27","2012-10-16"]
["108-28","2008-08-01",null,"SeriesList.xlsx"]
["108-29","2012-10-16"]
["108-30","2013-04-16"]
["108-33","2013-04-16"]
["108-34","2010-10-19"]
["108-35","2012-04-17"]
["110-1","2013-04-16"]
["110-2","2013-04-16"]
["110-3","2008-08-01"]
["110-4","2008-08-01"]
["110-5","2008-08-01"]
["110-6","2008-08-01"]
["110-7A","2012-04-17"]
["110-7B","2010-10-19"]
["110-8","2008-08-01"]
["110-9","2011-10-18"]
["110-10","2008-08-01"]
["110-11","2008-08-01"]
["110-12A","2013-04-16"]
["110-13","2010-04-20"]
["110-14","2013-04-16"]
["110-15","2013-04-16"]
["110-16","2013-04-16"]
["111-1","2012-04-17"]
["111-2","1989-02-28"]
["111-23","2002-10-29"]
["111-25","2011-10-18"]
["112-3","2013-04-16"]
["112-5","2008-08-01"]
["112-6","2013-04-16"]
["112-7","2010-10-19"]
["112-8","2012-10-16"]
["112-9","2012-04-17"]
["112-10","2011-04-19"]
["113-1","2013-04-16"]
["113-2","2013-04-16"]
["113-3","2011-10-18"]
["113-10","2012-10-16"]
["213-2","2011-10-18"]
["213-3","2011-10-18"]
["231-1","2011-10-18"]
["231-2","2012-10-16"]
["232-3A","2012-10-16"]
["232-3B","2012-10-16"]
["232-3C","2012-10-16"]
["232-3D","2012-10-16"]
["232-4","2011-10-18"]
["232-6","2011-10-18"]
["232-7","2012-10-16"]
["232-9","2011-10-18"]
["232-11","2012-10-16"]
["241-5","2011-10-18"]
["252-1","2012-10-16"]
["253-1","2011-10-18"]
["254-1","2001-10-02"]
["262-3","2012-10-16"]
["262-4","2013-04-16"]
["262-5","2005-10-18"]
["262-6","2005-10-18"]
["263-1","2011-10-18"]
["271-1","2011-10-18"]
["271-2","1985-08-20"]
["271-4","2011-10-18"]
["271-9","1994-09-27"]