{"text_format":"1","workbook":"xlsx","n_sheets":11,"sheets":["ProjectInformation","PrintSheets","DE104_3","DE104_4","Pipe Quantity Calcs","104_3","104_4","PrintSheetTemplate","Note1","BridgeBlock","Index"],"not_rendered":{"charts":0,"images":6,"macros":1,"external_links":0,"defined_names":9,"comments":0,"pivot_tables":0},"unopened":[],"bounds":{"document_bytes":16777216,"sheet_cells":100000,"rows_first":2000,"rows_last":500,"rows_between":2000,"halvings":0,"cell_chars":16384,"cell_head_chars":4096},"cells_cut":0,"cells_raw":0,"read":"whole","date_system":"1900"}

{"sheet":"ProjectInformation","index":0,"n_rows":11,"n_cols":2,"rows_kept":11,"cut":false,"hidden":false,"merged":[[0,0,0,1],[1,0,1,1],[9,0,9,1],[3,0,4,0]]}
["CPN DATA"]
["INFORMATION ADDED BY DESIGNER"]
["Section Engineer","Claman"]
["Design Team","Cornelis"]
[]
["County","BENTON"]
["Project Number","NHSX-030-6(231)--3H-06"]
["English or Metric","ENGLISH"]
["Revised"]
["Bridge Block"]
["File No."]

{"sheet":"PrintSheets","index":1,"n_rows":285,"n_cols":179,"rows_kept":285,"cut":false,"hidden":false,"merged":[[93,165,93,170],[93,1,93,7],[93,8,93,14],[93,15,93,21],[93,22,93,30],[93,31,93,64],[93,65,93,100],[188,1,188,7],[188,8,188,14],[188,15,188,21],[188,22,188,30],[188,31,188,64],[188,65,188,100],[188,101,188,106],[188,107,188,118],[188,119,188,148],[188,149,188,158],[85,149,85,158],[86,149,86,166],[86,167,86,168],[88,136,88,153],[188,159,188,164],[188,165,188,170],[88,154,88,176],[89,136,89,176],[90,136,90,176],[93,171,93,178],[94,1,94,178],[93,101,93,106],[93,107,93,118],[93,119,93,148],[93,149,93,158],[93,159,93,164],[80,149,81,171],[80,172,81,177],[82,149,82,153],[82,172,82,174],[83,149,84,177],[74,135,75,177],[76,149,76,177],[77,149,77,177],[78,149,78,177],[79,149,79,177],[283,171,283,178],[284,1,284,178],[188,171,188,178],[189,1,189,178],[283,1,283,7],[283,8,283,14],[283,15,283,21],[283,22,283,30],[283,31,283,64],[283,65,283,100],[283,101,283,106],[283,107,283,118],[283,119,283,148],[283,149,283,158],[283,159,283,164],[283,165,283,170]]}
[" "]
[]
[]
[]
[]
[]
[]
[]
[]
[]
[]
[]
[]
[]
[]
[]
[]
[]
[]
[]
[]
[]
[]
[]
[]
[]
[]
[]
[]
[]
[]
[]
[]
[]
[]
[]
[]
[]
[]
[]
[]
[]
[]
[]
[]
[]
[]
[]
[]
[]
[]
[]
[]
[]
[]
[]
[]
[]
[]
[]
[]
[]
[]
[]
[]
[]
[]
[]
[]
[]
[]
[]
[]
[null,null,null,null,null,null,null,null,null,null,null,null,null,null,null,null,null,null,null,null,null,null,null,null,null,null,null,null,null,null,null,null,null,null,null,null,null,null,null,null,null,null,null,null,null,null,null,null,null,null,null,null,null,null,null,null,null,null,null,null,null,null,null,null,null,null,null,null,null,null,null,null,null,null,null,null,null,null,null,null,null,null,null,null,null,null,null,null,null,null,null,null,null,null,null,null,null,null,null,null,null,null,null,null,null,null,null,null,null,null,null,null,null,null,null,null,null,null,null,null,null,null,null,null,null,null,null,null,null,null,null,null,null,null,null,"","","","","","","","","","","","","","","","","","","","","","","","","","","","","","","","","","","","","","","","","","",""]
[null,null,null,null,null,null,null,null,null,null,null,null,null,null,null,null,null,null,null,null,null,null,null,null,null,null,null,null,null,null,null,null,null,null,null,null,null,null,null,null,null,null,null,null,null,null,null,null,null,null,null,null,null,null,null,null,null,null,null,null,null,null,null,null,null,null,null,null,null,null,null,null,null,null,null,null,null,null,null,null,null,null,null,null,null,null,null,null,null,null,null,null,null,null,null,null,null,null,null,null,null,null,null,null,null,null,null,null,null,null,null,null,null,null,null,null,null,null,null,null,null,null,null,null,null,null,null,null,null,null,null,null,null,null,null,"HYDRAULIC DESIGN"]
[]
[null,null,null,null,null,null,null,null,null,null,null,null,null,null,null,null,null,null,null,null,null,null,null,null,null,null,null,null,null,null,null,null,null,null,null,null,null,null,null,null,null,null,null,null,null,null,null,null,null,null,null,null,null,null,null,null,null,null,null,null,null,null,null,null,null,null,null,null,null,null,null,null,null,null,null,null,null,null,null,null,null,null,null,null,null,null,null,null,null,null,null,null,null,null,null,null,null,null,null,null,null,null,null,null,null,null,null,null,null,null,null,null,null,null,null,null,null,null,null,null,null,null,null,null,null,null,null,null,null,null,null,null,null,null,null,null,null,null,null,null,null,null,null,null,null,null,null,null,null,"I hereby certify that this engineering document was prepared"]
[null,null,null,null,null,null,null,null,null,null,null,null,null,null,null,null,null,null,null,null,null,null,null,null,null,null,null,null,null,null,null,null,null,null,null,null,null,null,null,null,null,null,null,null,null,null,null,null,null,null,null,null,null,null,null,null,null,null,null,null,null,null,null,null,null,null,null,null,null,null,null,null,null,null,null,null,null,null,null,null,null,null,null,null,null,null,null,null,null,null,null,null,null,null,null,null,null,null,null,null,null,null,null,null,null,null,null,null,null,null,null,null,null,null,null,null,null,null,null,null,null,null,null,null,null,null,null,null,null,null,null,null,null,null,null,null,null,null,null,null,null,null,null,null,null,null,null,null,null,"by me or under my direct personal supervision and that I"]
[null,null,null,null,null,null,null,null,null,null,null,null,null,null,null,null,null,null,null,null,null,null,null,null,null,null,null,null,null,null,null,null,null,null,null,null,null,null,null,null,null,null,null,null,null,null,null,null,null,null,null,null,null,null,null,null,null,null,null,null,null,null,null,null,null,null,null,null,null,null,null,null,null,null,null,null,null,null,null,null,null,null,null,null,null,null,null,null,null,null,null,null,null,null,null,null,null,null,null,null,null,null,null,null,null,null,null,null,null,null,null,null,null,null,null,null,null,null,null,null,null,null,null,null,null,null,null,null,null,null,null,null,null,null,null,null,null,null,null,null,null,null,null,null,null,null,null,null,null,"am a duly licensed Professional Engineer under the laws of"]
[null,null,null,null,null,null,null,null,null,null,null,null,null,null,null,null,null,null,null,null,null,null,null,null,null,null,null,null,null,null,null,null,null,null,null,null,null,null,null,null,null,null,null,null,null,null,null,null,null,null,null,null,null,null,null,null,null,null,null,null,null,null,null,null,null,null,null,null,null,null,null,null,null,null,null,null,null,null,null,null,null,null,null,null,null,null,null,null,null,null,null,null,null,null,null,null,null,null,null,null,null,null,null,null,null,null,null,null,null,null,null,null,null,null,null,null,null,null,null,null,null,null,null,null,null,null,null,null,null,null,null,null,null,null,null,null,null,null,null,null,null,null,null,null,null,null,null,null,null,"the State of Iowa."]
[null,null,null,null,null,null,null,null,null,null,null,null,null,null,null,null,null,null,null,null,null,null,null,null,null,null,null,null,null,null,null,null,null,null,null,null,null,null,null,null,null,null,null,null,null,null,null,null,null,null,null,null,null,null,null,null,null,null,null,null,null,null,null,null,null,null,null,null,null,null,null,null,null,null,null,null,null,null,null,null,null,null,null,null,null,null,null,null,null,null,null,null,null,null,null,null,null,null,null,null,null,null,null,null,null,null,null,null,null,null,null,null,null,null,null,null,null,null,null,null,null,null,null,null,null,null,null,null,null,null,null,null,null,null,null,null,null,null,null,null,null,null,null,null,null,null,null,null,null,null,null,null,null,null,null,null,null,null,null,null,null,null,null,null,null,null,null,null,null,null,null,null,"2018-02-19"]
[]
[null,null,null,null,null,null,null,null,null,null,null,null,null,null,null,null,null,null,null,null,null,null,null,null,null,null,null,null,null,null,null,null,null,null,null,null,null,null,null,null,null,null,null,null,null,null,null,null,null,null,null,null,null,null,null,null,null,null,null,null,null,null,null,null,null,null,null,null,null,null,null,null,null,null,null,null,null,null,null,null,null,null,null,null,null,null,null,null,null,null,null,null,null,null,null,null,null,null,null,null,null,null,null,null,null,null,null,null,null,null,null,null,null,null,null,null,null,null,null,null,null,null,null,null,null,null,null,null,null,null,null,null,null,null,null,null,null,null,null,null,null,null,null,null,null,null,null,null,null,"Signature",null,null,null,null,null,null,null,null,null,null,null,null,null,null,null,null,null,null,null,null,null,null,"Date"]
[null,null,null,null,null,null,null,null,null,null,null,null,null,null,null,null,null,null,null,null,null,null,null,null,null,null,null,null,null,null,null,null,null,null,null,null,null,null,null,null,null,null,null,null,null,null,null,null,null,null,null,null,null,null,null,null,null,null,null,null,null,null,null,null,null,null,null,null,null,null,null,null,null,null,null,null,null,null,null,null,null,null,null,null,null,null,null,null,null,null,null,null,null,null,null,null,null,null,null,null,null,null,null,null,null,null,null,null,null,null,null,null,null,null,null,null,null,null,null,null,null,null,null,null,null,null,null,null,null,null,null,null,null,null,null,null,null,null,null,null,null,null,null,null,null,null,null,null,null,"David R. Claman"]
[]
[null,null,null,null,null,null,null,null,null,null,null,null,null,null,null,null,null,null,null,null,null,null,null,null,null,null,null,null,null,null,null,null,null,null,null,null,null,null,null,null,null,null,null,null,null,null,null,null,null,null,null,null,null,null,null,null,null,null,null,null,null,null,null,null,null,null,null,null,null,null,null,null,null,null,null,null,null,null,null,null,null,null,null,null,null,null,null,null,null,null,null,null,null,null,null,null,null,null,null,null,null,null,null,null,null,null,null,null,null,null,null,null,null,null,null,null,null,null,null,null,null,null,null,null,null,null,null,null,null,null,null,null,null,null,null,null,null,null,null,null,null,null,null,null,null,null,null,null,null,"Printed or Typed Name"]
[null,null,null,null,null,null,null,null,null,null,null,null,null,null,null,null,null,null,null,null,null,null,null,null,null,null,null,null,null,null,null,null,null,null,null,null,null,null,null,null,null,null,null,null,null,null,null,null,null,null,null,null,null,null,null,null,null,null,null,null,null,null,null,null,null,null,null,null,null,null,null,null,null,null,null,null,null,null,null,null,null,null,null,null,null,null,null,null,null,null,null,null,null,null,null,null,null,null,null,null,null,null,null,null,null,null,null,null,null,null,null,null,null,null,null,null,null,null,null,null,null,null,null,null,null,null,null,null,null,null,null,null,null,null,null,null,null,null,null,null,null,null,null,null,null,null,null,null,null,"My license renewal date is December 31, 20",null,null,null,null,null,null,null,null,null,null,null,null,null,null,null,null,null,18]
[]
[null,null,null,null,null,null,null,null,null,null,null,null,null,null,null,null,null,null,null,null,null,null,null,null,null,null,null,null,null,null,null,null,null,null,null,null,null,null,null,null,null,null,null,null,null,null,null,null,null,null,null,null,null,null,null,null,null,null,null,null,null,null,null,null,null,null,null,null,null,null,null,null,null,null,null,null,null,null,null,null,null,null,null,null,null,null,null,null,null,null,null,null,null,null,null,null,null,null,null,null,null,null,null,null,null,null,null,null,null,null,null,null,null,null,null,null,null,null,null,null,null,null,null,null,null,null,null,null,null,null,null,null,null,null,null,null,"Pages or sheets covered by this seal:",null,null,null,null,null,null,null,null,null,null,null,null,null,null,null,null,null,"CD.1 - CD.3"]
[]
[]
[]
[null,"","","","","","","","","","","","","","","","","","","","","","","","","","","","","","","","","","","","","","","","","","","","","","","","","","","","","","","","","","","","","","","","","","","","","","","","","","","","","","","","","","","","","","","","","","","","","","","","","","","","","","","","","","","","","","","","","","","","","","","","","","","","","","","","","","","","","","","","","","","","","","","","","","","","","","","",null,"","","","","","","","","","","","","","","","","","","","","","","","","",""]
[null,"FILE NO.",null,null,null,null,null,null,{"$f":"IF(ProjectInformation!$B$11<>\"\",ProjectInformation!$B$11,\"\")","v":""},null,null,null,null,null,null,{"$f":"UPPER(ProjectInformation!B8)","v":"ENGLISH"},null,null,null,null,null,null,"DESIGN TEAM",null,null,null,null,null,null,null,null,{"$f":"IF(AND(ProjectInformation!$B$3<>\"\",ProjectInformation!$B$4<>\"\",ProjectInformation!$B$5<>\"\"),ProjectInformation!$B$3&\"\\\"&ProjectInformation!$B$4&\"\\\"&ProjectInformation!$B$5,IF(AND(ProjectInformation!$B$3<>\"\",ProjectInformation!$B$4<>\"\"),ProjectInformation!$B$3&\"\\\"&ProjectInformation!$B$4,IF(ProjectInformation!$B$3<>\"\",ProjectInformation!$B$3,\"\")))","v":"Claman\\Cornelis"},null,null,null,null,null,null,null,null,null,null,null,null,null,null,null,null,null,null,null,null,null,null,null,null,null,null,null,null,null,null,null,null,null,{"$f":"IF(ProjectInformation!$B$6<>\"\",ProjectInformation!$B$6,\"\")","v":"BENTON"},null,null,null,null,null,null,null,null,null,null,null,null,null,null,null,null,null,null,null,null,null,null,null,null,null,null,null,null,null,null,null,null,null,null,null,"COUNTY",null,null,null,null,null,"PROJECT NUMBER",null,null,null,null,null,null,null,null,null,null,null,{"$f":"IF(ProjectInformation!$B$7<>\"\",ProjectInformation!$B$7,\"\")","v":"NHSX-030-6(231)--3H-06"},null,null,null,null,null,null,null,null,null,null,null,null,null,null,null,null,null,null,null,null,null,null,null,null,null,null,null,null,null,"SHEET NUMBER",null,null,null,null,null,null,null,null,null,"CD.1",null,null,null,null,null,{"$f":"IF(FP94<>\"\",\"REVISED\",\"\")","v":""},null,null,null,null,null,{"$f":"IF(ProjectInformation!$B$9<>\"\",ProjectInformation!$B$9,\"\")","v":""}]
["","2/19/2018     8:14:47 AM     jbottje     c:\\pw_work\\pwmain\\jbottje\\d0797678\\06030231CD01.xlsm"]
[" "]
[]
[]
[]
[]
[]
[]
[]
[]
[]
[]
[]
[]
[]
[]
[]
[]
[]
[]
[]
[]
[]
[]
[]
[]
[]
[]
[]
[]
[]
[]
[]
[]
[]
[]
[]
[]
[]
[]
[]
[]
[]
[]
[]
[]
[]
[]
[]
[]
[]
[]
[]
[]
[]
[]
[]
[]
[]
[]
[]
[]
[]
[]
[]
[]
[]
[]
[]
[]
[]
[]
[]
[]
[]
[]
[]
[]
[]
[]
[]
[]
[]
[]
[]
[]
[]
[]
[]
[]
[]
[]
[]
[null,"","","","","","","","","","","","","","","","","","","","","","","","","","","","","","","","","","","","","","","","","","","","","","","","","","","","","","","","","","","","","","","","","","","","","","","","","","","","","","","","","","","","","","","","","","","","","","","","","","","","","","","","","","","","","","","","","","","","","","","","","","","","","","","","","","","","","","","","","","","","","","","","","","","","","","","",null,"","","","","","","","","","","","","","","","","","","","","","","","","",""]
[null,"FILE NO.",null,null,null,null,null,null,{"$f":"IF(ProjectInformation!$B$11<>\"\",ProjectInformation!$B$11,\"\")","v":""},null,null,null,null,null,null,{"$f":"UPPER(ProjectInformation!B8)","v":"ENGLISH"},null,null,null,null,null,null,"DESIGN TEAM",null,null,null,null,null,null,null,null,{"$f":"IF(AND(ProjectInformation!$B$3<>\"\",ProjectInformation!$B$4<>\"\",ProjectInformation!$B$5<>\"\"),ProjectInformation!$B$3&\"\\\"&ProjectInformation!$B$4&\"\\\"&ProjectInformation!$B$5,IF(AND(ProjectInformation!$B$3<>\"\",ProjectInformation!$B$4<>\"\"),ProjectInformation!$B$3&\"\\\"&ProjectInformation!$B$4,IF(ProjectInformation!$B$3<>\"\",ProjectInformation!$B$3,\"\")))","v":"Claman\\Cornelis"},null,null,null,null,null,null,null,null,null,null,null,null,null,null,null,null,null,null,null,null,null,null,null,null,null,null,null,null,null,null,null,null,null,{"$f":"IF(ProjectInformation!$B$6<>\"\",ProjectInformation!$B$6,\"\")","v":"BENTON"},null,null,null,null,null,null,null,null,null,null,null,null,null,null,null,null,null,null,null,null,null,null,null,null,null,null,null,null,null,null,null,null,null,null,null,"COUNTY",null,null,null,null,null,"PROJECT NUMBER",null,null,null,null,null,null,null,null,null,null,null,{"$f":"IF(ProjectInformation!$B$7<>\"\",ProjectInformation!$B$7,\"\")","v":"NHSX-030-6(231)--3H-06"},null,null,null,null,null,null,null,null,null,null,null,null,null,null,null,null,null,null,null,null,null,null,null,null,null,null,null,null,null,"SHEET NUMBER",null,null,null,null,null,null,null,null,null,{"$f":"IF($FD$94<>\"\",\"CD.\"& MID(OFFSET($FD$189,-95,0),4,LEN(OFFSET($FD$189,-95,0))-2)+1,\"\")","v":"CD.2"},null,null,null,null,null,{"$f":"IF(FP189<>\"\",\"REVISED\",\"\")","v":""},null,null,null,null,null,{"$f":"IF(ProjectInformation!$B$9<>\"\",ProjectInformation!$B$9,\"\")","v":""}]
["","2/19/2018     8:14:47 AM     jbottje     c:\\pw_work\\pwmain\\jbottje\\d0797678\\06030231CD01.xlsm"]
[" "]
[]
[]
[]
[]
[]
[]
[]
[]
[]
[]
[]
[]
[]
[]
[]
[]
[]
[]
[]
[]
[]
[]
[]
[]
[]
[]
[]
[]
[]
[]
[]
[]
[]
[]
[]
[]
[]
[]
[]
[]
[]
[]
[]
[]
[]
[]
[]
[]
[]
[]
[]
[]
[]
[]
[]
[]
[]
[]
[]
[]
[]
[]
[]
[]
[]
[]
[]
[]
[]
[]
[]
[]
[]
[]
[]
[]
[]
[]
[]
[]
[]
[]
[]
[]
[]
[]
[]
[]
[]
[]
[]
[null,"","","","","","","","","","","","","","","","","","","","","","","","","","","","","","","","","","","","","","","","","","","","","","","","","","","","","","","","","","","","","","","","","","","","","","","","","","","","","","","","","","","","","","","","","","","","","","","","","","","","","","","","","","","","","","","","","","","","","","","","","","","","","","","","","","","","","","","","","","","","","","","","","","","","","","","",null,"","","","","","","","","","","","","","","","","","","","","","","","","",""]
[null,"FILE NO.",null,null,null,null,null,null,{"$f":"IF(ProjectInformation!$B$11<>\"\",ProjectInformation!$B$11,\"\")","v":""},null,null,null,null,null,null,{"$f":"UPPER(ProjectInformation!B8)","v":"ENGLISH"},null,null,null,null,null,null,"DESIGN TEAM",null,null,null,null,null,null,null,null,{"$f":"IF(AND(ProjectInformation!$B$3<>\"\",ProjectInformation!$B$4<>\"\",ProjectInformation!$B$5<>\"\"),ProjectInformation!$B$3&\"\\\"&ProjectInformation!$B$4&\"\\\"&ProjectInformation!$B$5,IF(AND(ProjectInformation!$B$3<>\"\",ProjectInformation!$B$4<>\"\"),ProjectInformation!$B$3&\"\\\"&ProjectInformation!$B$4,IF(ProjectInformation!$B$3<>\"\",ProjectInformation!$B$3,\"\")))","v":"Claman\\Cornelis"},null,null,null,null,null,null,null,null,null,null,null,null,null,null,null,null,null,null,null,null,null,null,null,null,null,null,null,null,null,null,null,null,null,{"$f":"IF(ProjectInformation!$B$6<>\"\",ProjectInformation!$B$6,\"\")","v":"BENTON"},null,null,null,null,null,null,null,null,null,null,null,null,null,null,null,null,null,null,null,null,null,null,null,null,null,null,null,null,null,null,null,null,null,null,null,"COUNTY",null,null,null,null,null,"PROJECT NUMBER",null,null,null,null,null,null,null,null,null,null,null,{"$f":"IF(ProjectInformation!$B$7<>\"\",ProjectInformation!$B$7,\"\")","v":"NHSX-030-6(231)--3H-06"},null,null,null,null,null,null,null,null,null,null,null,null,null,null,null,null,null,null,null,null,null,null,null,null,null,null,null,null,null,"SHEET NUMBER",null,null,null,null,null,null,null,null,null,{"$f":"IF($FD$189<>\"\",\"CD.\"& MID(OFFSET($FD$284,-95,0),4,LEN(OFFSET($FD$284,-95,0))-2)+1,\"\")","v":"CD.3"},null,null,null,null,null,{"$f":"IF(FP284<>\"\",\"REVISED\",\"\")","v":""},null,null,null,null,null,{"$f":"IF(ProjectInformation!$B$9<>\"\",ProjectInformation!$B$9,\"\")","v":""}]
["","2/19/2018     8:14:47 AM     jbottje     c:\\pw_work\\pwmain\\jbottje\\d0797678\\06030231CD01.xlsm"]

{"sheet":"DE104_3","index":2,"n_rows":142,"n_cols":102,"rows_kept":142,"cut":false,"hidden":false,"merged":[[23,49,32,49],[23,9,32,9],[23,10,31,10],[23,11,31,11],[23,12,31,13],[23,14,31,14],[23,15,31,15],[117,3,117,12],[116,3,116,12],[114,3,114,12],[113,3,113,12],[112,3,112,12],[111,3,111,12],[110,3,110,12],[109,3,109,12],[5,100,5,101],[121,3,121,12],[120,3,120,12],[119,3,119,12],[118,3,118,12],[23,83,30,83],[23,84,32,84],[30,34,32,34],[30,35,32,35],[30,36,32,36],[30,76,32,76],[30,77,32,77],[30,78,32,78],[31,69,31,70],[31,71,31,72],[23,73,31,74],[23,75,29,78],[23,42,32,42],[22,2,22,42],[22,44,22,84],[23,2,31,2],[23,3,32,3],[23,4,32,4],[23,50,31,50],[20,2,20,42],[20,44,20,84],[23,39,30,39],[31,27,31,28],[31,29,31,30],[23,17,31,17],[23,18,31,18],[23,19,31,20],[23,21,31,21],[23,22,31,22],[21,2,21,42],[23,38,31,38],[23,40,30,40],[23,41,30,41],[23,80,31,80],[23,81,30,81],[23,82,30,82],[23,69,30,72],[23,54,31,55],[23,56,31,56],[23,63,31,63],[23,64,31,64],[23,58,31,58],[23,59,31,59],[14,44,14,84],[15,2,17,42],[15,44,15,84],[16,44,18,84],[18,2,18,11],[18,12,18,16],[19,2,19,42],[19,44,19,53],[19,54,19,58],[21,44,21,84],[23,60,31,60],[23,65,31,68],[23,57,31,57],[23,61,31,62],[125,3,125,12],[128,3,128,12],[127,3,127,12],[126,3,126,12],[23,79,31,79],[23,48,32,48],[23,23,31,26],[23,27,30,30],[23,31,31,32],[23,33,29,36],[23,37,31,37],[23,53,31,53],[23,51,32,51],[23,52,31,52],[124,3,124,12],[23,44,31,44],[23,45,32,45],[23,46,32,46],[23,47,31,47],[141,3,141,20],[139,3,139,20],[129,3,129,12],[23,5,31,5],[23,7,32,7],[23,8,31,8],[23,6,32,6],[123,3,123,12],[23,16,31,16],[100,3,100,13],[138,3,138,20],[140,3,140,20],[134,3,134,20],[133,2,133,3],[135,3,135,20],[136,3,136,20],[137,3,137,20],[122,3,122,12],[115,3,115,12],[108,3,108,15]]}
["TabTitle",{"$f":"C16","v":"DRAINAGE STRUCTURE BY ROAD CONTRACTOR"}]
["Number of Tab Columns",41]
["DE Starter Row Number",34]
["TabSheet Starter Row Number",20]
["TabSheet Header Row Count",19]
["Top Header Cell","AS15",null,null,null,null,null,null,null,null,null,null,null,null,null,null,null,null,null,null,null,null,null,null,null,null,null,null,null,null,null,null,null,null,null,null,null,null,null,null,null,null,null,null,null,null,null,null,null,null,null,null,null,null,null,null,null,null,null,null,null,null,null,null,null,null,null,null,null,null,null,null,null,null,null,null,null,null,null,null,null,null,null,null,null,null,null,null,null,null,null,null,null,null,null,null,"Type","Dia.","Class","Length","Aprons"]
["Bottom Header Cell","CG33",null,null,null,null,null,null,null,null,null,null,null,null,null,null,null,null,null,null,null,null,null,null,null,null,null,null,null,null,null,null,null,null,null,null,null,null,null,null,null,null,null,null,null,null,null,null,null,null,null,null,null,null,null,null,null,null,null,null,null,null,null,null,null,null,null,null,null,null,null,null,null,null,null,null,null,null,null,null,null,null,null,null,null,null,null,null,null,null,null,null,null,null,null,null,{"$f":"H36","v":"RCP"},{"$f":"F36","v":24},{"$f":"G36","v":2000},{"$f":"I36","v":98},{"$f":"M36","v":1},{"$f":"N36","v":1}]
["DESheet Row Count",109,null,null,null,null,null,null,null,null,null,null,null,null,null,null,null,null,null,null,null,null,null,null,null,null,null,null,null,null,null,null,null,null,null,null,null,null,null,null,null,null,null,null,null,null,null,null,null,null,null,null,null,null,null,null,null,null,null,null,null,null,null,null,null,null,null,null,null,null,null,null,null,null,null,null,null,null,null,null,null,null,null,null,null,null,null,null,null,null,null,null,null,null,null,null,"RCP",24,2000,68,1,0]
["Fixed Empty Rows",0,null,null,null,null,null,null,null,null,null,null,null,null,null,null,null,null,null,null,null,null,null,null,null,null,null,null,null,null,null,null,null,null,null,null,null,null,null,null,null,null,null,null,null,null,null,null,null,null,null,null,null,null,null,null,null,null,null,null,null,null,null,null,null,null,null,null,null,null,null,null,null,null,null,null,null,null,null,null,null,null,null,null,null,null,null,null,null,null,null,null,null,null,null,null,"CMP",24,0,30,0,1]
["Usable Empty Rows",33,null,null,null,null,null,null,null,null,null,null,null,null,null,null,null,null,null,null,null,null,null,null,null,null,null,null,null,null,null,null,null,null,null,null,null,null,null,null,null,null,null,null,null,null,null,null,null,null,null,null,null,null,null,null,null,null,null,null,null,null,null,null,null,null,null,null,null,null,null,null,null,null,null,null,null,null,null,null,null,null,null,null,null,null,null,null,null,null,null,null,null,null,null,null,"RCP",54,2000,168,0,1]
["Total Rows Placed",142,"xlRight","xlRight","xlRight","xlRight","xlRight","xlRight","xlRight","xlRight","xlRight","xlRight","xlRight","xlRight","xlRight","xlRight","xlRight","xlRight","xlRight","xlLeft","xlRight","xlLeft","xlRight","xlRight","xlRight","xlRight","xlRight","xlRight","xlRight","xlRight","xlRight","xlRight","xlRight","xlCenter","xlRight","xlRight","xlRight","xlRight","xlRight","xlRight","xlRight","xlRight","xlLeft",null,{"$f":"C11","v":"xlRight"},"xlRight","xlRight","xlRight","xlRight","xlRight","xlRight","xlRight","xlRight","xlRight","xlRight","xlRight","xlRight","xlRight","xlRight","xlRight",{"$f":"S11","v":"xlRight"},"xlLeft","xlRight","xlLeft","xlRight","xlRight","xlRight","xlRight","xlRight","xlRight","xlRight","xlRight","xlRight","xlRight","xlRight","xlCenter",{"$f":"AI11","v":"xlRight"},"xlRight","xlRight","xlRight","xlRight","xlRight","xlRight","xlRight","xlLeft",null,null,null,null,null,null,null,null,null,null,null,"RCP",24,2000,68,1,0]
["Total Rows Needed",{"$f":"SUM(B8:B10)","v":142},"0.0","#+00.00","General","0","0","General","0","General","0.0","0.00","General","General","0","0","0","0","0","General","0","General","0","0.00","0.00","0.00","0.00","0.0","0.0","0.0","0.0","0","0","General","#+00.00","0.00","General","0.0","0.0","0.0","0.0","0.0","General",null,"0.0","#+00.00","General","0","0","General","0","General","0.0","0.00","General","General","0","0","0","0","0","General","0","General","0","0.00","0.00","0.00","0.00","0.0","0.0","0.0","0.0","0","0","General","#+00.00","0.00","General","0.0","0.0","0.0","0.0","0.0","General",null,null,null,null,null,null,null,null,null,null,null,"CMP",24,0,57,0,1]
["Last Tab DE Starter Row",105,{"$f":"CELL(\"width\",C13)","v":6},16,8,6,6,6,6,5,6,6,5,5,5,5,5,5,5,6,5,8,7,10,10,10,10,7,7,7,7,5,5,5,16,12,5,7,7,7,7,7,12,null,{"$f":"CELL(\"width\",AS13)","v":0},0,0,0,0,0,0,0,0,0,0,0,0,0,0,0,0,0,0,0,0,0,0,0,0,0,0,0,0,0,0,0,0,0,0,0,0,0,0,0,0,null,null,null,null,null,null,null,null,null,null,null,"RCP",72,2000,152,0,1]
["Last Tab Tabsheet Starter Row",110,"A","B","C","D","E","F","G","H","I","J","K","L","M","N","O","P","Q","R","S","T","U","V","W","X","Y","Z","AA","AB","AC","AD","AE","AF","AG","AH","AI","AJ","AK","AL","AM","AN","AO",null,{"$f":"LOWER(C14)","v":"a"},"b","c","d","e","f","g","h","i","j","k","l","m","n",{"$f":"LOWER(Q14)","v":"o"},"p","q","r","s","t","u","v","w","x","y","z","aa","ab","ac","ad","ae","af","ag","ah","ai","aj","ak","al","am","an","ao",null,null,null,null,null,null,null,null,null,null,null,"RCP",36,2000,142,0,1]
["Last Copy Starter Row",91,null,null,null,null,null,null,null,null,null,null,null,null,null,null,null,null,null,null,null,null,null,null,null,null,null,null,null,null,null,null,null,null,null,null,"Totals:",{"$f":"SUBTOTAL(9,AL34:AL6037)","v":11583.131248148145},{"$f":"SUBTOTAL(9,AM34:AM6037)","v":0},{"$f":"SUBTOTAL(9,AN34:AN6037)","v":9695.4515925925934},{"$f":"SUBTOTAL(9,AO34:AO6037)","v":615.97676296296299},{"$f":"SUBTOTAL(9,AP34:AP6037)","v":10309.428355555556},null,null,"104-3",null,null,null,null,null,null,null,null,null,null,null,null,null,null,null,null,null,null,null,null,null,null,null,null,null,null,null,null,null,null,null,null,null,null,null,null,null,null,null,null,null,{"$f":"H24","v":"Kind\nOf\nPipe"},"Pipe Type",{"$f":"T24","v":"Type 'C' Connections*\n(DR-122)"},{"$f":"V24","v":"Connected\nPipe Joint*\n(DR-121)"},null,null,null,null,null,null,"RCP",42,2000,108,1,0]
["Tab Loop Number",3,"DRAINAGE STRUCTURE BY ROAD CONTRACTOR",null,null,null,null,null,null,null,null,null,null,null,null,null,null,null,null,null,null,null,null,null,null,null,null,null,null,null,null,null,null,null,null,null,null,null,null,null,null,null,null,null,{"$f":"B17","v":"Modified"},null,null,null,null,null,null,null,null,null,null,null,null,null,null,null,null,null,null,null,null,null,null,null,null,null,null,null,null,null,null,null,null,null,null,null,null,null,null,null,null,null,"CMP","Reinforced Concrete Pipe.","C-1","Type 1",null,null,null,null,null,null,"RCP",42,2000,112,0,1]
["Revision Date","Modified",null,null,null,null,null,null,null,null,null,null,null,null,null,null,null,null,null,null,null,null,null,null,null,null,null,null,null,null,null,null,null,null,null,null,null,null,null,null,null,null,null,null,{"$f":"C16","v":"DRAINAGE STRUCTURE BY ROAD CONTRACTOR"},null,null,null,null,null,null,null,null,null,null,null,null,null,null,null,null,null,null,null,null,null,null,null,null,null,null,null,null,null,null,null,null,null,null,null,null,null,null,null,null,null,"LCP","Corrugated Metal Pipe.","C-2","Type 2",null,null,null,null,null,null,"RCP",24,2000,74,1,1]
["Tabulation Width",4,null,null,null,null,null,null,null,null,null,null,null,null,null,null,null,null,null,null,null,null,null,null,null,null,null,null,null,null,null,null,null,null,null,null,null,null,null,null,null,null,null,null,null,null,null,null,null,null,null,null,null,null,null,null,null,null,null,null,null,null,null,null,null,null,null,null,null,null,null,null,null,null,null,null,null,null,null,null,null,null,null,null,null,null,"RCP",null,"C-3","Type 3",null,null,null,null,null,null,"RCP",36,2000,100,0,1]
["Horizontal Grid Lines","Yes","Length of unclassified pipe calculated is based on using ",null,null,null,null,null,null,null,null,null,"Reinforced Concrete Pipe.",null,null,null,null,null,null,null,null,null,null,null,null,null,null,null,null,null,null,null,null,null,null,null,null,null,null,null,null,null,null,null,null,null,null,null,null,null,null,null,null,null,null,null,null,null,null,null,null,null,null,null,null,null,null,null,null,null,null,null,null,null,null,null,null,null,null,null,null,null,null,null,null,null,"SARC",null,"C-4",null,null,null,null,null,null,null,"RCP",24,2000,80,1,1]
[null,null,"  * Not a bid item",null,null,null,null,null,null,null,null,null,null,null,null,null,null,null,null,null,null,null,null,null,null,null,null,null,null,null,null,null,null,null,null,null,null,null,null,null,null,null,null,null,{"$f":"C19","v":"Length of unclassified pipe calculated is based on using "},null,null,null,null,null,null,null,null,null,{"$f":"M19","v":"Reinforced Concrete Pipe."},null,null,null,null,null,null,null,null,null,null,null,null,null,null,null,null,null,null,null,null,null,null,null,null,null,null,null,null,null,null,null,"UNCL",null,null,null,null,null,null,null,null,null,"RCP",24,2000,92,1,1]
[null,null," Diameter or equivalent diameter",null,null,null,null,null,null,null,null,null,null,null,null,null,null,null,null,null,null,null,null,null,null,null,null,null,null,null,null,null,null,null,null,null,null,null,null,null,null,null,null,null,{"$f":"C20","v":"  * Not a bid item"},null,null,null,null,null,null,null,null,null,null,null,null,null,null,null,null,null,null,null,null,null,null,null,null,null,null,null,null,null,null,null,null,null,null,null,null,null,null,null,null,null,null,null,null,null,null,null,null,null,null,null,"RCP",36,2000,232,1,1]
[null,null," UNCL = Unclassified Pipe  CMP = Corrugated Metal Pipe  RCP = Reinforced Concrete Pipe  LCP = Arch or Elliptical Low Clearance Pipe  SARC = Steel Arch Pipe          Backfill according to DR-101",null,null,null,null,null,null,null,null,null,null,null,null,null,null,null,null,null,null,null,null,null,null,null,null,null,null,null,null,null,null,null,null,null,null,null,null,null,null,null,null,null,{"$f":"C21","v":" Diameter or equivalent diameter"},null,null,null,null,null,null,null,null,null,null,null,null,null,null,null,null,null,null,null,null,null,null,null,null,null,null,null,null,null,null,null,null,null,null,null,null,null,null,null,null,null,null,null,null,null,null,null,null,null,null,null,"RCP",24,2000,170,1,0]
[null,null,{"$f":"\"This Data Entry Sheet fills Tab \"&AS15&\" effective \"&TEXT(B17,\"mm-dd-yy\")","v":"This Data Entry Sheet fills Tab 104-3 effective Modified"},null,null,null,null,null,null,null,null,null,null,null,null,null,null,null,null,null,null,null,null,null,null,null,null,null,null,null,null,null,null,null,null,null,null,null,null,null,null,null,null,null,{"$f":"C22","v":" UNCL = Unclassified Pipe  CMP = Corrugated Metal Pipe  RCP = Reinforced Concrete Pipe  LCP = Arch or Elliptical Low Clearance Pipe  SARC = Steel Arch Pipe          Backfill according to DR-101"},null,null,null,null,null,null,null,null,null,null,null,null,null,null,null,null,null,null,null,null,null,null,null,null,null,null,null,null,null,null,null,null,null,null,null,null,null,null,null,null,null,null,null,null,null,null,null,null,null,null,null,"RCP",24,2000,32,0,1]
[null,null,"Drainage Area","Location","Type","Size","Pipe Classification","Kind\nOf\nPipe","Length New Const.","Bedding\nClass","Design Cover (H)","Camber*\n(DR-102)","Apron\nNo.",null,"Apron Guard*\n(DR-213)","Elbow*\n(DR-141)","Tee Section*\n(DR-142)","\"D\" Section*\n(DR-141)","Reducer*","Type 'C' Connections*\n(DR-122)",null,"Connected\nPipe Joint*\n(DR-121)","4\" Perforated Subdrain*","Flow Line\nElevations",null,null,null,"Dimensions\nLin. Ft.",null,null,null,"Skew Ahead\nDegrees",null,"Dike",null,null,null,"Class\n20","Flowable\nMortar","Floodable* Backfill","Porous*\nBackfill","Flooded\nBackfill","Remarks",null,{"$f":"C24","v":"Drainage Area"},"Location","Type","Size","Pipe Classification","Kind\nOf\nPipe","Length New Const.","Bedding\nClass","Design Cover (H)","Camber*\n(DR-102)","Apron\nNo.",null,{"$f":"O24","v":"Apron Guard*\n(DR-213)"},"Elbow*\n(DR-141)","Tee Section*\n(DR-142)","\"D\" Section*\n(DR-141)","Reducer*","Type 'C' Connections*\n(DR-122)",null,{"$f":"V24","v":"Connected\nPipe Joint*\n(DR-121)"},{"$f":"W24","v":"4\" Perforated Subdrain*"},{"$f":"X24","v":"Flow Line\nElevations"},null,null,null,{"$f":"AB24","v":"Dimensions\nLin. Ft."},null,null,null,{"$f":"AF24","v":"Skew Ahead\nDegrees"},null,{"$f":"AH24","v":"Dike"},null,null,null,{"$f":"AL24","v":"Class\n20"},"Flowable\nMortar","Floodable* Backfill","Porous*\nBackfill","Flooded\nBackfill","Remarks",null,null,null,null,null,null,null,null,null,null,null,"RCP",24,2000,74,1,1]
[null,null,null,null,null,null,null,null,null,null,null,null,null,null,null,null,null,null,null,null,null,null,null,null,null,null,null,null,null,null,null,null,null,null,null,null,null,null,null,null,null,null,null,null,null,null,null,null,null,null,null,null,null,null,null,null,null,null,null,null,null,null,null,null,null,null,null,null,null,null,null,null,null,null,null,null,null,null,null,null,null,null,null,null,null,null,null,null,null,null,null,null,null,null,null,null,"RCP",24,2000,170,0,1]
[null,null,null,null,null,null,null,null,null,null,null,null,null,null,null,null,null,null,null,null,null,null,null,null,null,null,null,null,null,null,null,null,null,null,null,null,null,null,null,null,null,null,null,null,null,null,null,null,null,null,null,null,null,null,null,null,null,null,null,null,null,null,null,null,null,null,null,null,null,null,null,null,null,null,null,null,null,null,null,null,null,null,null,null,null,null,null,null,null,null,null,null,null,null,null,null,"RCP",24,2000,16,1,0]
[null,null,null,null,null,null,null,null,null,null,null,null,null,null,null,null,null,null,null,null,null,null,null,null,null,null,null,null,null,null,null,null,null,null,null,null,null,null,null,null,null,null,null,null,null,null,null,null,null,null,null,null,null,null,null,null,null,null,null,null,null,null,null,null,null,null,null,null,null,null,null,null,null,null,null,null,null,null,null,null,null,null,null,null,null,null,null,null,null,null,null,null,null,null,null,null,0,0,0,0,0,0]
[null,null,null,null,null,null,null,null,null,null,null,null,null,null,null,null,null,null,null,null,null,null,null,null,null,null,null,null,null,null,null,null,null,null,null,null,null,null,null,null,null,null,null,null,null,null,null,null,null,null,null,null,null,null,null,null,null,null,null,null,null,null,null,null,null,null,null,null,null,null,null,null,null,null,null,null,null,null,null,null,null,null,null,null,null,null,null,null,null,null,null,null,null,null,null,null,0,0,0,0,0,0]
[null,null,null,null,null,null,null,null,null,null,null,null,null,null,null,null,null,null,null,null,null,null,null,null,null,null,null,null,null,null,null,null,null,null,null,null,null,null,null,null,null,null,null,null,null,null,null,null,null,null,null,null,null,null,null,null,null,null,null,null,null,null,null,null,null,null,null,null,null,null,null,null,null,null,null,null,null,null,null,null,null,null,null,null,null,null,null,null,null,null,null,null,null,null,null,null,0,0,0,0,0,0]
[null,null,null,null,null,null,null,null,null,null,null,null,null,null,null,null,null,null,null,null,null,null,null,null,null,null,null,null,null,null,null,null,null,null,null,null,null,null,null,null,null,null,null,null,null,null,null,null,null,null,null,null,null,null,null,null,null,null,null,null,null,null,null,null,null,null,null,null,null,null,null,null,null,null,null,null,null,null,null,null,null,null,null,null,null,null,null,null,null,null,null,null,null,null,null,null,"RCP",24,3000,210,1,1]
[null,null,null,null,null,null,null,null,null,null,null,null,null,null,null,null,null,null,null,null,null,null,null,null,null,null,null,null,null,null,null,null,null,"Rt.","Location\nStation","Top\nElevation","Type",null,null,null,null,null,null,null,null,null,null,null,null,null,null,null,null,null,null,null,null,null,null,null,null,null,null,null,null,null,null,null,null,null,null,null,null,null,null,{"$f":"AH31","v":"Rt."},{"$f":"AI31","v":"Location\nStation"},{"$f":"AJ31","v":"Top\nElevation"},{"$f":"AK31","v":"Type"},null,null,null,null,null,null,null,null,null,null,null,null,null,null,null,null,null,"RCP",42,2000,282,1,1]
[null,null,null,null,null,null,null,null,null,null,null,null,null,null,null,null,null,null,null,null,null,null,null,null,null,null,null,"Total",null,"Extensions",null,null,null,null,null,null,null,null,null,"(A)","(B)","(A+B)",null,null,null,null,null,null,null,null,null,null,null,null,null,null,null,null,null,null,null,null,null,null,null,null,null,null,null,{"$f":"AB32","v":"Total"},null,{"$f":"AD32","v":"Extensions"},null,null,null,null,null,null,null,null,null,{"$f":"AN32","v":"(A)"},"(B)","(A+B)",null,null,null,null,null,null,null,null,null,null,null,null,0,0,0,0,0,0]
[null,null,"ACRE",null,null,"IN",null,null,"LF",null,"FT","FT","IN","OUT","No.","No.","No.","No.","No.","Type","No.","Type","FT","Lt.","Rt.","Other","Other","Lt.","Rt.","Lt.","Rt.","Lt.","Rt.","Lt.",null,null,null,"CY","CY","CY","CY","CY",null,null,{"$f":"C33","v":"ACRE"},null,null,{"$f":"F33","v":"IN"},null,null,{"$f":"I33","v":"LF"},null,{"$f":"K33","v":"FT"},"FT","IN","OUT","No.","No.",{"$f":"Q33","v":"No."},"No.","No.","Type","No.","Type","FT","Lt.","Rt.","Other","Other",{"$f":"AB33","v":"Lt."},{"$f":"AC33","v":"Rt."},{"$f":"AD33","v":"Lt."},{"$f":"AE33","v":"Rt."},{"$f":"AF33","v":"Lt."},{"$f":"AG33","v":"Rt."},{"$f":"AH33","v":"Lt."},null,null,null,{"$f":"AL33","v":"CY"},{"$f":"AM33","v":"CY"},"CY","CY","CY",null,null,null,null,null,null,null,null,null,null,null,null,0,0,0,0,0,0]
[null,null,null,"STAGE 1",null,null,null,null,null,null,null,null,null,null,null,null,null,null,null,null,null,null,null,null,null,null,null,null,null,null,null,null,null,null,null,null,null,null,null,null,null,null,null,null,null,null,null,null,null,null,null,null,null,null,null,null,null,null,null,null,null,null,null,null,null,null,null,null,null,null,null,null,null,null,null,null,null,null,null,null,null,null,null,null,null,null,null,null,null,null,null,null,null,null,null,null,0,0,0,0,0,0]
[null,null,null,"US HWY 30",null,null,null,null,null,null,null,null,null,null,null,null,null,null,null,null,null,null,null,null,null,null,null,null,null,null,null,null,null,null,null,null,null,null,null,null,null,null,null,null,null,null,null,null,null,null,null,null,null,null,null,null,null,null,null,null,null,null,null,null,null,null,null,null,null,null,null,null,null,null,null,null,null,null,null,null,null,null,null,null,null,null,null,null,null,null,null,null,null,null,null,null,"RCP",78,2000,74,1,1]
[null,null,"MED",138125,"DR-601",24,2000,"RCP",98,"B",null,null,1,1,1,null,null,null,null,null,null,"Type 3",null,884.49,881.73,null,null,42.1,68.099999999999994,null,null,null,null,null,null,null,null,{"$f":"(18.04*110.28)/27","v":73.683377777777778},null,{"$f":"(56.23*32)/27","v":66.642962962962955},{"$f":"(2.11*108.28)/27","v":8.4618814814814822},{"$f":"AN36+AO36","v":75.104844444444439},null,null,null,null,null,null,null,null,null,null,null,null,null,null,null,null,null,null,null,null,null,null,null,null,null,null,null,null,null,null,null,null,null,null,null,null,null,null,null,null,null,null,null,null,null,null,null,null,null,null,null,null,null,null,0,0,0,0,0,0]
[null,null,"MED",138200,"DR-641",24,2000,"RCP",68,"B",3.9,null,1,null,1,null,null,1,null,"C-3",1,"Type 3",null,887.95,884.76,886.1,null,37,37.1,null,null,null,null,null,null,null,null,null,null,{"$f":"(26.23*32)/27","v":31.087407407407408},{"$f":"(2.11*72.33)/27","v":5.6524555555555551},{"$f":"AN37+AO37","v":36.73986296296296},"(1)",null,null,null,null,null,null,null,null,null,null,null,null,null,null,null,null,null,null,null,null,null,null,null,null,null,null,null,null,null,null,null,null,null,null,null,null,null,null,null,null,null,null,null,null,null,null,null,null,null,null,null,null,null,0,0,0,0,0,0]
[null,null,null,null,null,24,null,"CMP",30,"B",null,null,null,1,null,null,null,null,null,null,null,null,null,884.76,880.15,880.56,null,37.1,72,null,null,null,null,null,null,null,null,{"$f":"(15*25.4)/27","v":14.111111111111111},null,null,{"$f":"(2.11*35.5)/27","v":2.7742592592592592},2.7742592592592592,"(2)",null,null,null,null,null,null,null,null,null,null,null,null,null,null,null,null,null,null,null,null,null,null,null,null,null,null,null,null,null,null,null,null,null,null,null,null,null,null,null,null,null,null,null,null,null,null,null,null,null,null,null,null,null,0,0,0,0,0,0]
[null,null,113,138810,"DR-601",54,2000,"RCP",168,"B",14.8,null,null,1,null,null,null,null,null,null,null,"Type 3",null,869.48,868.39,null,null,36.06,139.94,null,null,null,null,null,null,null,null,{"$f":"(10.56*176)/27","v":68.835555555555558},null,{"$f":"(420.32*32)/27","v":498.15703703703701},{"$f":"(2.94*174)/27","v":18.946666666666665},{"$f":"AN39+AO39","v":517.10370370370367},null,null,null,null,null,null,null,null,null,null,null,null,null,null,null,null,null,null,null,null,null,null,null,null,null,null,null,null,null,null,null,null,null,null,null,null,null,null,null,null,null,null,null,null,null,null,null,null,null,null,null,null,null,null,{"$f":"H68","v":0},{"$f":"F68","v":0},{"$f":"G68","v":0},{"$f":"I68","v":0},{"$f":"M68","v":0},{"$f":"N68","v":0}]
[null,null,"MED",142400,"DR-641",24,2000,"RCP",68,"B",3,null,1,null,null,null,null,1,null,"C-3",1,"Type 3",null,892.36,889.2,890.52,null,37,36.93,null,null,null,null,null,null,null,null,null,null,{"$f":"(18.1*36)/27","v":24.133333333333333},{"$f":"(2.11*72.17)/27","v":5.6399518518518512},{"$f":"AN40+AO40","v":29.773285185185184},"(3)",null,null,null,null,null,null,null,null,null,null,null,null,null,null,null,null,null,null,null,null,null,null,null,null,null,null,null,null,null,null,null,null,null,null,null,null,null,null,null,null,null,null,null,null,null,null,null,null,null,null,null,null,null,0,0,0,0,0,0]
[null,null,null,null,null,24,null,"CMP",57,"B",null,null,null,1,null,null,null,null,null,null,null,null,null,889.2,876.8,887.18,null,36.93,97.46,null,null,null,null,null,null,null,null,{"$f":"(44.29*24.3)/27","v":39.861000000000004},null,null,{"$f":"(2.11*62.24)/27","v":4.8639407407407411},4.8639407407407411,null,null,null,null,null,null,null,null,null,null,null,null,null,null,null,null,null,null,null,null,null,null,null,null,null,null,null,null,null,null,null,null,null,null,null,null,null,null,null,null,null,null,null,null,null,null,null,null,null,null,null,null,null,null,0,0,0,0,0,0]
[null,null,227,142550,"DR-601",72,2000,"RCP",152,"B",11.7,null,null,1,null,null,null,null,null,null,null,"Type 3",null,null,null,null,null,null,null,null,null,null,null,null,null,null,null,{"$f":"(59.64*160.25)/27","v":353.97444444444443},null,{"$f":"(359.78*32)/27","v":426.40592592592589},{"$f":"(3.44*158.25)/27","v":20.162222222222223},{"$f":"AN42+AO42","v":446.56814814814811},null,null,null,null,null,null,null,null,null,null,null,null,null,null,null,null,null,null,null,null,null,null,null,null,null,null,null,null,null,null,null,null,null,null,null,null,null,null,null,null,null,null,null,null,null,null,null,null,null,null,null,null,null,null,"RCP",54,2000,90,1,0]
[null,null,25,145400,"DR-601",36,2000,"RCP",142,"B",11,null,null,1,null,null,null,null,null,null,null,"Type 3",null,900.74,898.4,null,null,21.28,128.71,null,null,null,null,null,null,null,null,{"$f":"(24.96*150)/27","v":138.66666666666666},null,{"$f":"(205.82*32)/27","v":243.93481481481481},{"$f":"(2.44*148)/27","v":13.374814814814815},{"$f":"AN43+AO43","v":257.30962962962963},null,null,null,null,null,null,null,null,null,null,null,null,null,null,null,null,null,null,null,null,null,null,null,null,null,null,null,null,null,null,null,null,null,null,null,null,null,null,null,null,null,null,null,null,null,null,null,null,null,null,null,null,null,null,"RCP",24,2000,68,1,1]
[null,null,48,146075,"JACK",42,2000,"RCP",108,null,null,null,1,null,null,null,null,null,null,null,null,"Type 3",null,904.9,902.17,null,null,119.07,3.1,null,null,null,null,null,null,null,null,null,null,null,null,null,null,null,null,null,null,null,null,null,null,null,null,null,null,null,null,null,null,null,null,null,null,null,null,null,null,null,null,null,null,null,null,null,null,null,null,null,null,null,null,null,null,null,null,null,null,null,null,null,null,null,null,null,null,null,"RCP",24,2000,92,1,1]
[null,null,null,null,"DR-621",42,2000,"RCP",112,"B",null,null,null,1,null,null,null,null,null,null,null,"Type 3",null,902.17,889.33,null,null,3.1,116.87,null,112,null,null,null,null,null,null,{"$f":"(71.5*120)/27","v":317.77777777777777},null,{"$f":"(119.86*32)/27","v":142.0562962962963},{"$f":"(2.61*120)/27","v":11.6},{"$f":"AN45+AO45","v":153.65629629629629},null,null,null,null,null,null,null,null,null,null,null,null,null,null,null,null,null,null,null,null,null,null,null,null,null,null,null,null,null,null,null,null,null,null,null,null,null,null,null,null,null,null,null,null,null,null,null,null,null,null,null,null,null,null,"RCP",24,2000,86,1,1]
[null,null,"MED",146525,"DR-601",24,2000,"RCP",74,"B",2.2999999999999998,null,1,1,null,null,null,null,null,null,null,"Type 3",null,906.34,904.1,null,null,36,50.22,null,null,null,null,null,null,null,null,{"$f":"(31.96*86.25)/27","v":102.09444444444445},null,{"$f":"(11.2*32)/27","v":13.274074074074074},{"$f":"(2.11*84.25)/27","v":6.583981481481481},{"$f":"AN46+AO46","v":19.858055555555556},null,null,null,null,null,null,null,null,null,null,null,null,null,null,null,null,null,null,null,null,null,null,null,null,null,null,null,null,null,null,null,null,null,null,null,null,null,null,null,null,null,null,null,null,null,null,null,null,null,null,null,null,null,null,"RCP",72,2000,90,1,0]
[null,null,48,147000,"DR-601",36,2000,"RCP",100,"B",2.2999999999999998,null,null,1,null,null,null,null,null,null,null,"Type 3",null,908.66,907.9,null,null,14,93.98,null,null,null,null,null,null,null,null,{"$f":"(102.24*108)/27","v":408.96},null,{"$f":"(29.62*32)/27","v":35.105185185185185},{"$f":"(2.44*106)/27","v":9.579259259259258},{"$f":"AN47+AO47","v":44.684444444444445},null,null,null,null,null,null,null,null,null,null,null,null,null,null,null,null,null,null,null,null,null,null,null,null,null,null,null,null,null,null,null,null,null,null,null,null,null,null,null,null,null,null,null,null,null,null,null,null,null,null,null,null,null,null,"RCP",24,2000,82,1,1]
[null,null,"MED",147025,"DR-601",24,2000,"RCP",80,"B",2.6,null,1,1,null,null,null,null,null,null,null,"Type 3",null,911.29,908.08,null,null,36,56.2,null,null,null,null,null,null,null,null,{"$f":"(68.44*92.25)/27","v":233.83666666666667},null,{"$f":"(13.8*32)/27","v":16.355555555555558},{"$f":"(2.11*90.25)/27","v":7.0528703703703695},{"$f":"AN48+AO48","v":23.408425925925926},null,null,null,null,null,null,null,null,null,null,null,null,null,null,null,null,null,null,null,null,null,null,null,null,null,null,null,null,null,null,null,null,null,null,null,null,null,null,null,null,null,null,null,null,null,null,null,null,null,null,null,null,null,null,"RCP",36,2000,96,1,0]
[null,null,"MED",147700,"DR-601",24,2000,"RCP",92,"B",2.2000000000000002,null,1,1,null,null,null,null,null,null,null,"Type 3",null,919.88,917.84,null,null,35,62.23,null,null,null,null,null,null,null,null,{"$f":"(68.44*104.25)/27","v":264.25444444444446},null,{"$f":"(10.42*58.4)/27","v":22.538074074074075},{"$f":"(2.11*102.25)/27","v":7.9906481481481473},{"$f":"AN49+AO49","v":30.528722222222221},null,null,null,null,null,null,null,null,null,null,null,null,null,null,null,null,null,null,null,null,null,null,null,null,null,null,null,null,null,null,null,null,null,null,null,null,null,null,null,null,null,null,null,null,null,null,null,null,null,null,null,null,null,null,"RCP",36,2000,64,1,0]
[null,null,null,148400,"JACK",36,2000,"RCP",232,null,7,null,1,1,null,null,null,null,null,null,null,"Type 3",null,920.5,915.56,null,null,106.62,123.33,null,null,null,null,null,null,null,null,null,null,null,null,null,"(5)",null,null,null,null,null,null,null,null,null,null,null,null,null,null,null,null,null,null,null,null,null,null,null,null,null,null,null,null,null,null,null,null,null,null,null,null,null,null,null,null,null,null,null,null,null,null,null,null,null,null,null,null,null,0,0,0,0,0,0]
[null,null,null,149385,"JACK",24,2000,"RCP",170,null,4.7,null,1,null,null,null,null,null,null,null,null,"Type 3",null,926.52,925.51,null,null,97.98,78.14,null,null,null,null,null,null,null,null,null,null,null,null,null,null,null,null,null,null,null,null,null,null,null,null,null,null,null,null,null,null,null,null,null,null,null,null,null,null,null,null,null,null,null,null,null,null,null,null,null,null,null,null,null,null,null,null,null,null,null,null,null,null,null,null,null,null,null,0,0,2000,0,0,0]
[null,null,null,null,"DR-621",24,2000,"RCP",32,"B",4.7,null,null,1,null,null,null,null,null,null,null,"Type 3",null,925.51,925.29,null,null,78.14,116.27,null,null,null,null,null,null,null,null,{"$f":"(13.09*38.125)/27","v":18.483564814814812},null,null,{"$f":"(2.11*38.125)/27","v":2.9793981481481477},{"$f":"AN52+AO52","v":2.9793981481481477},null,null,null,null,null,null,null,null,null,null,null,null,null,null,null,null,null,null,null,null,null,null,null,null,null,null,null,null,null,null,null,null,null,null,null,null,null,null,null,null,null,null,null,null,null,null,null,null,null,null,null,null,null,null,0,0,2000,0,0,0]
[null,null,"MED",150100,"DR-611",24,2000,"RCP",74,"B",3.2,null,1,1,null,null,null,null,null,null,null,"Type 3",null,927.97,926.26,927.09,null,37.5,48.6,null,null,null,null,null,null,null,null,{"$f":"(11.25*86.3)/27","v":35.958333333333336},null,{"$f":"(12.82*36)/27","v":17.093333333333334},{"$f":"(2.11*84.3)/27","v":6.5878888888888882},{"$f":"AN53+AO53","v":23.681222222222221},null,null,null,null,null,null,null,null,null,null,null,null,null,null,null,null,null,null,null,null,null,null,null,null,null,null,null,null,null,null,null,null,null,null,null,null,null,null,null,null,null,null,null,null,null,null,null,null,null,null,null,null,null,null,0,0,0,0,0,0]
[null,null,null,150625,"JACK",24,2000,"RCP",170,null,null,null,null,1,null,null,null,null,null,null,null,"Type 3",null,916.49,919.19,null,null,99.45,76.650000000000006,null,null,null,null,null,null,null,null,null,null,null,null,null,null,null,null,null,null,null,null,null,null,null,null,null,null,null,null,null,null,null,null,null,null,null,null,null,null,null,null,null,null,null,null,null,null,null,null,null,null,null,null,null,null,null,null,null,null,null,null,null,null,null,null,null,null,null,{"$f":"H86","v":0},{"$f":"F86","v":0},{"$f":"G86","v":0},{"$f":"I86","v":0},{"$f":"M86","v":0},{"$f":"N86","v":0}]
[null,null,null,null,"DR-621",24,2000,"RCP",16,"B",6.8,null,1,null,null,null,null,null,null,null,null,"Type 3",null,919.19,919.53,null,null,79.67,98.78,null,null,null,null,null,null,null,null,{"$f":"(12.16*22.125)/27","v":9.964444444444446},null,null,{"$f":"(2.11*22.125)/27","v":1.7290277777777776},{"$f":"AN55+AO55","v":1.7290277777777776},null,null,null,null,null,null,null,null,null,null,null,null,null,null,null,null,null,null,null,null,null,null,null,null,null,null,null,null,null,null,null,null,null,null,null,null,null,null,null,null,null,null,null,null,null,null,null,null,null,null,null,null,null,null,0,0,0,0,0,0]
[null,null,null,null,null,null,null,null,null,null,null,null,null,null,null,null,null,null,null,null,null,null,null,null,null,null,null,null,null,null,null,null,null,null,null,null,null,null,null,null,null,null,null,null,null,null,null,null,null,null,null,null,null,null,null,null,null,null,null,null,null,null,null,null,null,null,null,null,null,null,null,null,null,null,null,null,null,null,null,null,null,null,null,null,null,null,null,null,null,null,null,null,null,null,null,null,"LCP","44x27",2000,66,1,1]
[null,null,null,null,null,null,null,null,null,null,null,null,null,null,null,null,null,null,null,null,null,null,null,null,null,null,null,null,null,null,null,null,null,null,null,null,null,null,null,null,null,null,null,null,null,null,null,null,null,null,null,null,null,null,null,null,null,null,null,null,null,null,null,null,null,null,null,null,null,null,null,null,null,null,null,null,null,null,null,null,null,null,null,null,null,null,null,null,null,null,null,null,null,null,null,null,0,0,0,0,0,0]
[null,null,null,"US 218 Ramp D",null,null,null,null,null,null,null,null,null,null,null,null,null,null,null,null,null,null,null,null,null,null,null,null,null,null,null,null,null,null,null,null,null,null,null,null,null,null,null,null,null,null,null,null,null,null,null,null,null,null,null,null,null,null,null,null,null,null,null,null,null,null,null,null,null,null,null,null,null,null,null,null,null,null,null,null,null,null,null,null,null,null,null,null,null,null,null,null,null,null,null,null,0,0,0,0,0,0]
[null,null,null,4147617,"DR-601",24,3000,"RCP",210,"B",19.8,null,1,1,null,null,null,null,null,null,null,"Type 3",null,912.32,910.82,null,null,129.33000000000001,92.91,null,null,null,null,null,null,null,null,{"$f":"(23.04*222.26)/27","v":189.66186666666667},null,{"$f":"(490.23*50.85)/27","v":923.26650000000006},{"$f":"(2.11*220.26)/27","v":17.212911111111108},{"$f":"AN59+AO59","v":940.47941111111118},null,null,null,null,null,null,null,null,null,null,null,null,null,null,null,null,null,null,null,null,null,null,null,null,null,null,null,null,null,null,null,null,null,null,null,null,null,null,null,null,null,null,null,null,null,null,null,null,null,null,null,null,null,null,0,0,0,0,0,0]
[null,null,null,4148200,"DR-601",42,2000,"RCP",282,"B",11.8,null,1,1,null,null,null,null,null,null,null,"Type 3",null,912.71,907.48,null,null,146.38999999999999,151.56,null,null,61,null,null,null,null,null,{"$f":"(8.5*298)/27","v":93.81481481481481},null,{"$f":"(253.72*39)/27","v":366.48444444444442},{"$f":"(2.61*296)/27","v":28.61333333333333},{"$f":"AN60+AO60","v":395.09777777777776},null,null,null,null,null,null,null,null,null,null,null,null,null,null,null,null,null,null,null,null,null,null,null,null,null,null,null,null,null,null,null,null,null,null,null,null,null,null,null,null,null,null,null,null,null,null,null,null,null,null,null,null,null,null,"RCP",24,2000,56,1,1]
[null,null,null,null,null,null,null,null,null,null,null,null,null,null,null,null,null,null,null,null,null,null,null,null,null,null,null,null,null,null,null,null,null,null,null,null,null,null,null,null,null,null,null,null,null,null,null,null,null,null,null,null,null,null,null,null,null,null,null,null,null,null,null,null,null,null,null,null,null,null,null,null,null,null,null,null,null,null,null,null,null,null,null,null,null,null,null,null,null,null,null,null,null,null,null,null,0,0,0,0,0,0]
[null,null,null,null,null,null,null,null,null,null,null,null,null,null,null,null,null,null,null,null,null,null,null,null,null,null,null,null,null,null,null,null,null,null,null,null,null,null,null,null,null,null,null,null,null,null,null,null,null,null,null,null,null,null,null,null,null,null,null,null,null,null,null,null,null,null,null,null,null,null,null,null,null,null,null,null,null,null,null,null,null,null,null,null,null,null,null,null,null,null,null,null,null,null,null,null,0,0,0,0,0,0]
[null,null,null,"23rd Avenue",null,null,null,null,null,null,null,null,null,null,null,null,null,null,null,null,null,null,null,null,null,null,null,null,null,null,null,null,null,null,null,null,null,null,null,null,null,null,null,null,null,null,null,null,null,null,null,null,null,null,null,null,null,null,null,null,null,null,null,null,null,null,null,null,null,null,null,null,null,null,null,null,null,null,null,null,null,null,null,null,null,null,null,null,null,null,null,null,null,null,null,null,0,0,0,0,0,0]
[null,null,325,23142088,"DR-601",78,2000,"RCP",74,"B",7,null,1,1,null,null,null,null,null,null,null,"Type 3",null,875.5,876.05,null,null,46.95,45.55,null,null,null,null,null,null,null,null,{"$f":"(65.56*92.5)/27","v":224.6037037037037},null,{"$f":"(342.31*30)/27","v":380.34444444444443},{"$f":"(3.61*90.5)/27","v":12.100185185185184},{"$f":"AN64+AO64","v":392.44462962962962},null,null,null,null,null,null,null,null,null,null,null,null,null,null,null,null,null,null,null,null,null,null,null,null,null,null,null,null,null,null,null,null,null,null,null,null,null,null,null,null,null,null,null,null,null,null,null,null,null,null,null,null,null,null,"RCP",24,2000,96,1,1]
[]
[]
[]
[]
[null,null,null,"STAGE 2"]
[null,null,null,"US HWY 30"]
[null,null,113,138810,"DR-621",54,2000,"RCP",90,"B",14.8,null,1,null,null,null,null,null,null,null,null,"Type 3",null,870.09,869.48,null,null,134.05000000000001,36.06,90,null,null,null,null,null,null,null,{"$f":"(82.94*98)/27","v":301.04148148148147},null,{"$f":"(407.48*17)/27","v":256.56148148148145},{"$f":"(2.94*96)/27","v":10.453333333333333},{"$f":"AN71+AO71","v":267.01481481481477}]
[null,null,"MED",139750,"DR-601",24,2000,"RCP",68,"B",2.2000000000000002,null,1,1,null,null,null,null,null,null,null,"Type 3",null,878.55,880.2,null,null,45.23,35,null,null,null,null,null,null,null,null,{"$f":"(25.81*28)/27","v":26.765925925925924},null,{"$f":"(8.94*32)/27","v":10.595555555555555},{"$f":"(2.11*78.25)/27","v":6.1150925925925925},{"$f":"AN72+AO72","v":16.710648148148145}]
[null,null,"MED",140475,"DR-611",24,2000,"RCP",92,"B",3.8,null,1,1,null,1,null,null,null,null,null,"Type 3",null,870,876.91,870.93,null,64.040000000000006,40,null,null,null,null,null,null,null,null,{"$f":"(42.84*54)/27","v":85.68},null,{"$f":"(35.82*32)/27","v":42.453333333333333},{"$f":"(2.11*102.35)/27","v":7.9984629629629627},{"$f":"AN73+AO73","v":50.451796296296294},"(6)"]
[null,null,"MED",141375,"DR-611",24,2000,"RCP",86,"B",3.4,null,1,1,null,1,null,null,null,null,null,"Type 3",null,878.7,883.45,878.89,null,61.16,37,null,null,null,null,"MED",141355,886.21,"M",{"$f":"(51.84*54)/27","v":103.68},null,{"$f":"(27.54*32)/27","v":32.64},{"$f":"(2.11*96.35)/27","v":7.5295740740740733},{"$f":"AN74+AO74","v":40.169574074074077},"(7)"]
[null,null,227,142550,"DR-621",72,2000,"RCP",90,"B",11.7,null,1,null,null,null,null,null,null,null,null,null,null,null,null,null,null,null,null,90,null,null,null,null,null,null,null,{"$f":"(176.64*98.25)/27","v":642.7733333333332},null,{"$f":"(355.65*41.3)/27","v":544.01277777777773},{"$f":"(3.44*96.25)/27","v":12.262962962962964},{"$f":"AN75+AO75","v":556.27574074074073}]
[null,null,"MED",143900,"DR-611",24,2000,"RCP",82,"B",2.8,null,1,1,null,1,null,null,null,null,null,"Type 3",null,900.35,903.65,900.53,null,57.22,37,null,null,null,null,"MED",143880,906.41,"M",{"$f":"(59.89*70)/27","v":155.27037037037039},null,{"$f":"(19.98*32)/27","v":23.68},{"$f":"(2.11*92.32)/27","v":7.2146370370370354},{"$f":"AN76+AO76","v":30.894637037037036},"(7)"]
[null,null,25,145400,"DR-321",36,2000,"RCP",96,"B",11,null,1,null,null,null,null,null,null,null,null,"Type 3",null,902.35,900.74,null,null,123.27,21.28,94,null,null,null,null,null,null,null,{"$f":"(127*102)/27","v":479.77777777777777},null,{"$f":"(159.74*42.5)/27","v":251.44259259259263},{"$f":"(2.44*100)/27","v":9.0370370370370363},{"$f":"AN77+AO77","v":260.47962962962964}]
[null,null,48,147000,"DR-621",36,2000,"RCP",64,"B",2.2999999999999998,null,1,null,null,null,null,null,null,null,null,"Type 3",null,909.15,908.66,null,null,86,14,null,null,null,null,"LT",146975,910.85,"M",{"$f":"(45.51*72)/27","v":121.36},null,{"$f":"(22.42*32)/27","v":26.571851851851854},{"$f":"(2.44*70)/27","v":6.3259259259259251},{"$f":"AN78+AO78","v":32.897777777777776}]
[null,null,null,null,null,null,null,null,null,null,null,null,null,null,null,null,null,null,null,null,null,null,null,null,null,null,null,null,null,null,null,null,null,"MED",147000,913.69,"M"]
[null,null,"MED",147700,null,null,2000,null,null,null,null,null,null,null,null,null,null,null,null,null,null,null,null,null,null,null,null,null,null,null,null,null,null,"MED",147685,921.82,"M"]
[null,null,"MED",150100,null,null,2000,null,null,null,null,null,null,null,null,null,null,null,null,null,null,null,null,null,null,null,null,null,null,null,null,null,null,"MED",150115,931,"M"]
[]
[null,null,null,"US 218"]
[null,null,20,24147690.899999999,"DR-601",36,3000,"RCP",296,"B",17.3,null,1,1,null,null,null,null,null,null,null,"Type 3",null,913.72,919.4,null,null,117.6,194.4,null,null,5.89,null,null,null,null,null,{"$f":"72.24*296/27","v":791.96444444444433},null,{"$f":"131.06*39.3/27","v":190.76511111111108},{"$f":"2.42*310/27","v":27.785185185185181},{"$f":"AN84+AO84","v":218.55029629629627}]
[null,null,null,null,null,null,null,null,null,null,null,null,null,null,null,null,null,null,null,null,null,null,null,null,null,null,null,null,null,null,null,null,null,null,null,null,null,null,null,1]
[]
[null,null,null,"US 218 Loop B"]
[null,null,48,2147400,"DR-601","44x27",2000,"LCP",66,"B",1.5,null,1,1,null,null,null,null,null,null,null,"Type 3",null,909.37,910.03,null,null,54.78,27.22,null,null,null,null,null,null,null,null,{"$f":"(51.46*82)/27","v":156.28592592592594},null,{"$f":"(38.39*24)/27","v":34.124444444444443},{"$f":"(2.66*80)/27","v":7.8814814814814822},{"$f":"AN88+AO88","v":42.005925925925922}]
[]
[]
[null,null,null,"US 218 Ramp C"]
[null,null,null,3145375,"DR-601",24,2000,"RCP",56,"B",2,null,1,1,null,null,null,null,null,null,null,"Type 3",null,905.78,905.43,null,null,43.78,24.42,null,null,null,null,null,null,null,null,{"$f":"(27*68.25)/27","v":68.25},null,{"$f":"(21.19*22)/27","v":17.265925925925927},{"$f":"(2.11*66.25)/27","v":5.1773148148148147},{"$f":"AN92+AO92","v":22.443240740740741}]
[]
[]
[null,null,null,"23rd Avenue"]
[null,null,null,23142425,"DR-601",24,2000,"RCP",96,"B",8.3000000000000007,null,1,1,null,null,null,null,null,null,null,"Type 3",null,881.73,881.19,null,null,53.55,54.68,null,null,null,null,null,null,null,null,{"$f":"(67.4*108.23)/27","v":270.17414814814816},null,{"$f":"(188.76*30)/27","v":209.73333333333332},{"$f":"(2.11*106.23)/27","v":8.3016777777777779},{"$f":"AN96+AO96","v":218.03501111111109}]
[]
[null,null,null,null,null,null,null,null,null,null,null,null,null,null,null,null,null,null,null,null,null,null,null,null,null,null,null,null,null,null,null,null,null,null,null,"TOTALS:",null,{"$f":"SUM(AL36:AL96)","v":5791.5656240740727},null,{"$f":"SUM(AN36:AN96)","v":4847.7257962962967},307.9883814814815,5154.7141777777779]
[]
[]
[null,null,null,"(Continued on sheet CD.3)"]
[]
[]
[]
[]
[]
[]
[]
[null,null,null,"BID ITEMS:"]
[null,null,null,"APRONS, CONCRETE, 24 IN. DIA.",null,null,null,null,null,null,null,null,null,null,{"$f":"'Pipe Quantity Calcs'!K34","v":30},"EACH"]
[null,null,null,"APRONS, CONCRETE, 36 IN. DIA.",null,null,null,null,null,null,null,null,null,null,{"$f":"'Pipe Quantity Calcs'!K47","v":8},"EACH"]
[null,null,null,"APRONS, CONCRETE, 42 IN. DIA.",null,null,null,null,null,null,null,null,null,null,{"$f":"'Pipe Quantity Calcs'!K56","v":4},"EACH"]
[null,null,null,"APRONS, CONCRETE, 54 IN. DIA.",null,null,null,null,null,null,null,null,null,null,{"$f":"'Pipe Quantity Calcs'!K61","v":2},"EACH"]
[null,null,null,"APRONS, CONCRETE, 72 IN. DIA.",null,null,null,null,null,null,null,null,null,null,{"$f":"'Pipe Quantity Calcs'!K66","v":2},"EACH"]
[null,null,null,"APRONS, CONCRETE, 78 IN. DIA.",null,null,null,null,null,null,null,null,null,null,{"$f":"'Pipe Quantity Calcs'!K70","v":2},"EACH"]
[null,null,null,"APRON, LOW CLEARANCE CONCRETE, EQUIVALENT DIAMETER 36 IN.",null,null,null,null,null,null,null,null,null,null,{"$f":"'Pipe Quantity Calcs'!K7","v":2},"EACH"]
[null,null,null,"CULVERT, CONCRETE ROADWAY PIPE, 24 IN. DIA.",null,null,null,null,null,null,null,null,null,null,{"$f":"'Pipe Quantity Calcs'!F30","v":1082},"LF"]
[null,null,null,"CULVERT, CONCRETE ROADWAY PIPE, 36 IN. DIA.",null,null,null,null,null,null,null,null,null,null,{"$f":"'Pipe Quantity Calcs'!F47","v":402},"LF"]
[null,null,null,"CULVERT, CONCRETE ROADWAY PIPE, 42 IN. DIA.",null,null,null,null,null,null,null,null,null,null,{"$f":"'Pipe Quantity Calcs'!F56","v":394},"LF"]
[null,null,null,"CULVERT, CONCRETE ROADWAY PIPE, 54 IN. DIA.",null,null,null,null,null,null,null,null,null,null,{"$f":"'Pipe Quantity Calcs'!F61","v":258},"LF"]
[null,null,null,"CULVERT, CONCRETE ROADWAY PIPE, 72 IN. DIA.",null,null,null,null,null,null,null,null,null,null,{"$f":"'Pipe Quantity Calcs'!F66","v":242},"LF"]
[null,null,null,"CULVERT, CONCRETE ROADWAY PIPE, 78 IN. DIA.",null,null,null,null,null,null,null,null,null,null,{"$f":"'Pipe Quantity Calcs'!F70","v":74},"LF"]
[null,null,null,"CULVERT, LOW CLEARANCE CONCRETE RDWY PIPE, EQ. DIA. 36 IN.",null,null,null,null,null,null,null,null,null,null,{"$f":"'Pipe Quantity Calcs'!F7","v":66},"LF"]
[null,null,null,"CULVERT, 3000D CONCRETE ROADWAY PIPE, 24 IN. DIA.",null,null,null,null,null,null,null,null,null,null,{"$f":"'Pipe Quantity Calcs'!F34","v":210},"LF"]
[null,null,null,"CULVERT, 3000D CONCRETE ROADWAY PIPE, 36 IN. DIA.",null,null,null,null,null,null,null,null,null,null,{"$f":"'Pipe Quantity Calcs'!F48","v":296},"LF"]
[null,null,null,"CULVERT, CONCRETE PIPE, 2000D, TRENCHLESS, 24 IN. DIA.",null,null,null,null,null,null,null,null,null,null,{"$f":"'Pipe Quantity Calcs'!F12","v":340},"LF"]
[null,null,null,"CULVERT, CONCRETE PIPE, 2000D, TRENCHLESS, 36 IN. DIA.",null,null,null,null,null,null,null,null,null,null,{"$f":"'Pipe Quantity Calcs'!F38","v":232},"LF"]
[null,null,null,"CULVERT, CONCRETE PIPE, 2000D, TRENCHLESS, 42 IN. DIA.",null,null,null,null,null,null,null,null,null,null,{"$f":"'Pipe Quantity Calcs'!F51","v":108},"LF"]
[null,null,null,"APRONS, METAL, 24 IN. DIA.",null,null,null,null,null,null,null,null,null,null,{"$f":"'Pipe Quantity Calcs'!K3","v":2},"EACH"]
[null,null,null,"CULVERT, CORRUGATED METAL ROADWAY PIPE, 24 IN. DIA.",null,null,null,null,null,null,null,null,null,null,{"$f":"'Pipe Quantity Calcs'!F3","v":87},"LF"]
[]
[]
[]
[null,null,"NOTES:"]
[null,null,"(1)","A=68.0', D=6.0'; one 7.5° DR-141"]
[null,null,"(2)","B=15.0', C=2.0', E=15.0', L=3.5'; includes two 15° CMP elbows"]
[null,null,"(3)","A=68.0', D=6.0'; one 7.5° DR-141"]
[null,null,"(4)","B=43.0', C=2.0', E=14.0', L=3.5'; includes two 15° CMP elbows"]
[null,null,"(5)","Stage 1: Remove existing outlet apron to provide room to jack 232' of RCP.  Install outlet apron"]
[null,null,null,"Stage 2: Remove 18' of jacked 36\" RCP from inlet end  & install inlet apron"]
[null,null,"(6)","F=34.19; One 3° Elbow"]
[null,null,"(7)","F=28.19; One 3° Elbow"]

{"sheet":"DE104_4","index":3,"n_rows":37,"n_cols":52,"rows_kept":37,"cut":false,"hidden":false,"merged":[[18,2,18,22],[18,27,18,47],[14,27,14,47],[15,2,16,22],[15,27,15,47],[16,27,17,47],[17,2,17,22],[20,27,25,27],[20,28,25,28],[19,2,19,22],[19,27,19,47],[20,2,25,2],[20,3,25,3],[20,4,25,4],[20,5,25,5],[20,6,20,13],[20,14,23,14],[20,15,23,15],[20,16,23,16],[20,46,24,46],[20,47,25,47],[21,6,22,10],[21,11,24,11],[21,12,24,12],[21,13,24,13],[21,31,22,35],[21,36,24,36],[20,29,25,29],[20,30,25,30],[20,31,20,38],[20,39,23,39],[20,40,23,40],[20,41,23,41],[21,37,24,37],[21,38,24,38],[24,42,25,42],[24,44,25,44],[23,8,25,8],[23,9,25,9],[23,10,25,10],[23,33,25,33],[23,34,25,34],[23,35,25,35],[24,17,25,17],[24,19,25,19],[20,42,23,43],[20,44,23,45],[20,17,23,18],[20,19,23,20],[20,21,24,21],[20,22,25,22]]}
["TabTitle",{"$f":"C16","v":"ROADWAY ITEMS FOR DRAINAGE STRUCTURES INSTALLED BY CULVERT CONTRACTOR"}]
["Number of Tab Columns",21]
["DE Starter Row Number",27]
["TabSheet Starter Row Number",13]
["TabSheet Header Row Count",12]
["Top Header Cell","AB15"]
["Bottom Header Cell","AV26"]
["DESheet Row Count",11]
["Fixed Empty Rows",20]
["Usable Empty Rows",0]
["Total Rows Placed",31,"xlRight(1)","xlRight(1)","xlRight(1)","xlRight(1)","xlCenter","xlCenter","xlRight(1)","xlRight(1)","xlCenter","xlRight(1)","xlRight(1)","xlRight(1)","xlRight(1)","xlRight(1)","xlRight(1)","xlLeft(1)","xlRight(1)","xlLeft(1)","xlRight(1)","xlRight(1)","xlLeft(1)",null,null,null,null,{"$f":"C11","v":"xlRight(1)"},"xlRight(1)","xlRight(1)","xlRight(1)","xlCenter","xlCenter","xlRight(1)","xlRight(1)","xlCenter","xlRight(1)","xlRight(1)","xlRight(1)","xlRight(1)","xlRight(1)","xlRight(1)","xlLeft(1)","xlRight(1)","xlLeft(1)","xlRight(1)","xlRight(1)","xlLeft(1)"]
["Total Rows Needed",{"$f":"SUM(B8:B10)","v":31},"#+00.00","General","General","General","General","General","#+00.0","0.00","General","0.0","0.0","0.0","0.0","0.0","0.0","General","0.0","General","0.000","0.0","General",null,null,null,null,{"$f":"IF(C12<>\"\",C12,\"\")","v":"#+00.00"},"General","General","General","General","General","#+00.0","0.00","General","0.0","0.0","0.0","0.0","0.0","0.0","General","0.0","General","0.000","0.0","General"]
["Last Tab DE Starter Row",27,{"$f":"CELL(\"width\",C13)","v":16},{"$f":"CELL(\"width\",D13)","v":13},18,20,5,5,16,11,6,14,14,14,14,14,{"$f":"CELL(\"width\",Q13)","v":14},{"$f":"CELL(\"width\",R13)","v":50},11,11,11,13,{"$f":"CELL(\"width\",W13)","v":20},null,null,null,null,{"$f":"CELL(\"width\",AB13)","v":0},{"$f":"CELL(\"width\",AC13)","v":0},0,0,0,0,0,0,0,0,0,0,0,0,0,0,0,0,0,0,0]
["Last Tab Tabsheet Starter Row",13,"A","B","C","D","E","F","G","H","I","J","K","L","M","N","O","P","Q","R","S","T","U",null,null,null,null,{"$f":"LOWER(C14)","v":"a"},"b","c","d","e","f","g","h","i","j","k","l","m","n","o","p","q","r","s","t","u"]
["Last Copy Starter Row",1,null,null,null,null,null,null,null,null,"Totals:",{"$f":"SUBTOTAL(9,L27:L6000)","v":4123.2},{"$f":"SUBTOTAL(9,M27:M6000)","v":0},{"$f":"SUBTOTAL(9,N27:N6000)","v":0},null,null,{"$f":"SUBTOTAL(9,Q27:Q6000)","v":93},null,null,null,null,{"$f":"SUBTOTAL(9,V27:V6000)","v":0},null,null,"Excavation Type","Quantity, CY",null,"104-4",null,null,null,null,null,null,null,null,null,null,null,null,null,null,null,null,null,null,null,null,null,{"$f":"F21","v":"Kind"},{"$f":"R21","v":"Excavation"},{"$f":"T21","v":"Revetment"}]
["Tab Loop Number",2,"ROADWAY ITEMS FOR DRAINAGE STRUCTURES INSTALLED BY CULVERT CONTRACTOR",null,null,null,null,null,null,null,null,null,null,null,null,null,null,null,null,null,null,null,null,null,{"$f":"AY16","v":"Class 10, Roadway and Borrow"},{"$f":"SUMIF(R27:R6000,Y16,S27:S6000)","v":0},null,{"$f":"B17","v":"2017-10-17"},null,null,null,null,null,null,null,null,null,null,null,null,null,null,null,null,null,null,null,null,null,"RCB","Class 10, Roadway and Borrow","Class D"]
["Revision Date","2017-10-17",null,null,null,null,null,null,null,null,null,null,null,null,null,null,null,null,null,null,null,null,null,null,"Class 10, Unsuitable or Unstable Material",{"$f":"SUMIF(R27:R6000,Y17,S27:S6000)","v":0},null,{"$f":"C16","v":"ROADWAY ITEMS FOR DRAINAGE STRUCTURES INSTALLED BY CULVERT CONTRACTOR"},null,null,null,null,null,null,null,null,null,null,null,null,null,null,null,null,null,null,null,null,null,"Flume","Class 10, Unsuitable or Unstable Material","Class E"]
["Tabulation Width",4,"   * Not a Bid Item",null,null,null,null,null,null,null,null,null,null,null,null,null,null,null,null,null,null,null,null,null,"Class 10, Waste",{"$f":"SUMIF(R27:R6000,Y18,S27:S6000)","v":0},null,null,null,null,null,null,null,null,null,null,null,null,null,null,null,null,null,null,null,null,null,null,null,"Drop Inlet","Class 10, Waste"]
["Horizontal Grid Lines","Yes","   Backfill according to DR-111",null,null,null,null,null,null,null,null,null,null,null,null,null,null,null,null,null,null,null,null,null,"Class 12, Bounders or Rock Fragments",{"$f":"SUMIF(R27:R6000,Y19,S27:S6000)","v":0},null,{"$f":"C18","v":"   * Not a Bid Item"},null,null,null,null,null,null,null,null,null,null,null,null,null,null,null,null,null,null,null,null,null,"3-sided Arch","Class 12, Bounders or Rock Fragments"]
[null,null,{"$f":"\"This Data Entry Sheet fills Tab \"&AB15&\" effective \"&TEXT(B17,\"mm-dd-yy\")","v":"This Data Entry Sheet fills Tab 104-4 effective 10-17-17"},null,null,null,null,null,null,null,null,null,null,null,null,null,null,null,null,null,null,null,null,null,"Class 10, Channel",{"$f":"SUMIF(R27:R6000,Y20,S27:S6000)","v":0},null,{"$f":"C19","v":"   Backfill according to DR-111"},null,null,null,null,null,null,null,null,null,null,null,null,null,null,null,null,null,null,null,null,null,null,"Class 10, Channel"]
[null,null,"Location","Design\nNumber","Size","Kind","By Road Contractor",null,null,null,null,null,null,null,"Floodable* Backfill","Porous* Backfill","Flooded Backfill","Excavation",null,"Revetment",null,"Engineering Fabric","Remarks",null,"Class 12, Channel",{"$f":"SUMIF(R27:R6000,Y21,S27:S6000)","v":0},null,{"$f":"C21","v":"Location"},{"$f":"D21","v":"Design\nNumber"},{"$f":"E21","v":"Size"},{"$f":"F21","v":"Kind"},{"$f":"G21","v":"By Road Contractor"},null,null,null,null,null,null,null,{"$f":"O21","v":"Floodable* Backfill"},{"$f":"P21","v":"Porous* Backfill"},{"$f":"Q21","v":"Flooded Backfill"},{"$f":"R21","v":"Excavation"},null,{"$f":"T21","v":"Revetment"},null,{"$f":"V21","v":"Engineering Fabric"},{"$f":"W21","v":"Remarks"},null,null,"Class 12, Channel"]
[null,null,null,null,null,null,"Dike",null,null,null,null,"Compacting Backfill Adjacent","Compaction w/Moisture Control","Compaction w/Moisture and Density",null,null,null,null,null,null,null,null,null,null,"Class 13, Channel",{"$f":"SUMIF(R27:R6000,Y22,S27:S6000)","v":0},null,null,null,null,null,{"$f":"G22","v":"Dike"},null,null,null,null,{"$f":"L22","v":"Compacting Backfill Adjacent"},{"$f":"M22","v":"Compaction w/Moisture Control"},"Compaction w/Moisture and Density",null,null,null,null,null,null,null,null,null,null,null,"Class 13, Channel"]
[]
[null,null,null,null,null,null,"","Rt.","Location\nStation","Top.\nElev.","Type",null,null,null,null,null,null,null,null,null,null,null,null,null,"Revetment Type","Quantity, TONS",null,null,null,null,null,{"$f":"G24","v":""},{"$f":"H24","v":"Rt."},"Location\nStation","Top.\nElev.",{"$f":"K24","v":"Type"}]
[null,null,null,null,null,null,null,null,null,null,null,null,null,null,"(A)","(B)","(A+B)","Type","Quantity","Type","Quantity",null,null,null,{"$f":"AZ16","v":"Class D"},{"$f":"SUMIF(T27:T6000,Y25,U27:U6000)","v":0},null,null,null,null,null,null,null,null,null,null,null,null,null,{"$f":"O25","v":"(A)"},"(B)","(A+B)",{"$f":"R25","v":"Type"},{"$f":"S25","v":"Quantity"},{"$f":"T25","v":"Type"},{"$f":"U25","v":"Quantity"}]
[null,null,null,null,null,null,"Lt.",null,null,null,null,"CY","CY","CY","CY","CY","CY",null,"CY",null,"TONS","SY",null,null,{"$f":"AZ17","v":"Class E"},{"$f":"SUMIF(T27:T6000,Y26,U27:U6000)","v":0},null,null,null,null,null,{"$f":"G26","v":"Lt."},null,null,null,null,{"$f":"L26","v":"CY"},{"$f":"M26","v":"CY"},"CY","CY","CY","CY",null,{"$f":"S26","v":"CY"},null,{"$f":"U26","v":"TONS"},{"$f":"V26","v":"SY"}]
[null,null,"STAGE 1"]
[null,null,"US HWY 30"]
[null,null,140100,718,"8' x 8'","RCB",null,null,null,null,null,2061.6,null,null,42.8,3.7,46.5]
[]
[]
[]
[null,null,"STAGE 2"]
[null,null,"US HWY 30"]
[null,null,140100,718,"8' x 8'","RCB"]
[]
[null,null,null,null,null,null,null,null,null,"TOTALS:",null,{"$f":"SUM(L29:L35)","v":2061.6},null,null,{"$f":"SUM(O29:O35)","v":42.8},3.7,46.5]

{"sheet":"Pipe Quantity Calcs","index":4,"n_rows":94,"n_cols":11,"rows_kept":94,"cut":false,"hidden":false,"merged":[[46,3,46,4],[47,3,47,4]]}
[null,null,24,null,"CMP",30,null,null,null,null,1]
[null,null,24,null,"CMP",57,null,null,null,null,1]
[null,null,null,null,"TOTALS:",{"$f":"SUM(F1:F2)","v":87},null,null,null,null,{"$f":"SUM(J1:K2)","v":2}]
[]
[]
[2147400,null,"44x27",2000,"LCP",66,null,null,null,1,1]
[null,null,null,null,"TOTALS:",{"$f":"SUM(F6)","v":66},null,null,null,null,{"$f":"SUM(J6:K6)","v":2}]
[]
[]
[149385,"JACK",24,2000,"RCP",170,null,null,null,1]
[150625,"JACK",24,2000,"RCP",170,null,null,null,null,1]
[null,null,null,null,"TOTALS:",{"$f":"SUM(F10:F11)","v":340}]
[]
[]
[23142425,null,24,2000,"RCP",96,null,null,null,1,1]
[138125,null,24,2000,"RCP",98,null,null,null,1,1]
[138200,null,24,2000,"RCP",68,null,null,null,1]
[142400,null,24,2000,"RCP",68,null,null,null,1]
[146525,null,24,2000,"RCP",74,null,null,null,1,1]
[147025,null,24,2000,"RCP",80,null,null,null,1,1]
[147700,null,24,2000,"RCP",92,null,null,null,1,1]
[null,null,24,2000,"RCP",32,null,null,null,null,1]
[150100,null,24,2000,"RCP",74,null,null,null,1,1]
[null,null,24,2000,"RCP",16,null,null,null,1]
[139750,null,24,2000,"RCP",68,null,null,null,1,1]
[140475,null,24,2000,"RCP",92,null,null,null,1,1]
[141375,null,24,2000,"RCP",86,null,null,null,1,1]
[143900,null,24,2000,"RCP",82,null,null,null,1,1]
[3145375,null,24,2000,"RCP",56,null,null,null,1,1]
[null,null,null,null,"TOTALS:",{"$f":"SUM(F15:F29)","v":1082}]
[]
[]
[4147617,null,24,3000,"RCP",210,null,null,null,1,1]
[null,null,null,null,"TOTALS:",{"$f":"SUM(F33)","v":210},null,null,null,null,{"$f":"SUM(J10:K33)","v":30}]
[]
[]
[148400,"JACK",36,2000,"RCP",232,null,null,null,1,1]
[null,null,null,null,"TOTALS:",{"$f":"SUM(F37)","v":232}]
[]
[]
[145400,null,36,2000,"RCP",142,null,null,null,null,1]
[147000,null,36,2000,"RCP",100,null,null,null,null,1]
[145400,null,36,2000,"RCP",96,null,null,null,1]
[147000,null,36,2000,"RCP",64,null,null,null,1]
[]
[24147690.899999999,null,36,3000,"RCP",296,null,null,null,1,1]
[null,null,null,"2000 TOTALS:",null,{"$f":"SUM(F41:F44)","v":402},null,null,null,null,{"$f":"SUM(J37:K46)","v":8}]
[null,null,null,"3000 TOTAL:",null,{"$f":"F46","v":296}]
[]
[146075,"JACK",42,2000,"RCP",108,null,null,null,1]
[null,null,null,null,"TOTALS:",{"$f":"SUM(F50)","v":108}]
[]
[]
[null,null,42,2000,"RCP",112,null,null,null,null,1]
[4148200,null,42,2000,"RCP",282,null,null,null,1,1]
[null,null,null,null,"TOTALS:",{"$f":"SUM(F54:F55)","v":394},null,null,null,null,{"$f":"SUM(J50:K55)","v":4}]
[]
[]
[138810,null,54,2000,"RCP",168,null,null,null,null,1]
[138810,null,54,2000,"RCP",90,null,null,null,1]
[null,null,null,null,"TOTALS:",{"$f":"SUM(F59:F60)","v":258},null,null,null,null,{"$f":"SUM(J59:K60)","v":2}]
[]
[]
[142550,null,72,2000,"RCP",152,null,null,null,null,1]
[142550,null,72,2000,"RCP",90,null,null,null,1]
[null,null,null,null,"TOTALS:",{"$f":"SUM(F64:F65)","v":242},null,null,null,null,{"$f":"SUM(J64:K65)","v":2}]
[]
[]
[23142088,null,78,2000,"RCP",74,null,null,null,1,1]
[null,null,null,null,"TOTALS:",{"$f":"SUM(F69)","v":74},null,null,null,null,{"$f":"SUM(J69:K69)","v":2}]
[]
[]
[]
[]
[]
[]
["US 218 Ramp D"]
[]
[]
["23rd Avenue"]
[]
[]
[]
[]
["STAGE 2"]
["US HWY 30"]
[]
["US 218 Ramp B"]
[]
[]
["US 218 Ramp C"]
[]
[]
["23rd Avenue"]

{"sheet":"104_3","index":5,"n_rows":180,"n_cols":41,"rows_kept":180,"cut":false,"hidden":false,"merged":[[91,0,91,40],[99,12,107,12],[99,1,108,1],[99,2,108,2],[99,3,107,3],[97,0,97,40],[107,25,107,26],[99,31,105,34],[99,35,107,35],[99,14,107,14],[99,15,107,15],[99,39,106,39],[146,1,146,18],[86,1,86,11],[138,0,138,1],[113,1,113,13],[131,1,131,10],[132,1,132,10],[133,1,133,10],[134,1,134,10],[143,1,143,18],[144,1,144,18],[98,0,98,40],[99,0,107,0],[99,37,106,37],[99,38,106,38],[99,16,107,16],[99,17,107,18],[145,1,145,18],[99,36,107,36],[99,40,108,40],[106,32,108,32],[106,33,108,33],[106,34,108,34],[99,29,107,30],[99,8,107,8],[9,36,17,36],[9,37,16,37],[17,25,17,26],[17,27,17,28],[9,39,16,39],[9,40,18,40],[16,32,18,32],[16,33,18,33],[9,6,17,6],[9,7,18,7],[9,38,16,38],[9,9,17,9],[9,15,17,15],[9,16,17,16],[9,17,17,18],[9,19,17,19],[114,1,114,10],[115,1,115,10],[0,0,0,40],[1,0,1,40],[2,0,4,40],[6,0,6,40],[9,12,17,12],[9,13,17,13],[9,14,17,14],[7,0,7,40],[8,0,8,40],[9,0,17,0],[9,1,18,1],[9,2,18,2],[9,3,17,3],[9,4,18,4],[5,0,5,9],[5,10,5,14],[9,5,18,5],[99,19,107,19],[99,20,107,20],[99,13,107,13],[96,0,96,40],[9,8,17,8],[116,1,116,10],[117,1,117,10],[118,1,118,10],[9,20,17,20],[9,10,17,11],[95,0,95,9],[95,10,95,14],[99,5,108,5],[99,6,107,6],[99,7,108,7],[99,9,107,9],[99,10,107,11],[90,0,90,40],[16,34,18,34],[9,25,16,28],[9,29,17,30],[9,31,15,34],[9,35,17,35],[107,27,107,28],[99,21,107,24],[99,25,106,28],[92,0,94,40],[99,4,108,4],[9,21,17,24],[130,1,130,10],[140,1,140,18],[141,1,141,18],[142,1,142,18],[129,1,129,10],[119,1,119,10],[120,1,120,10],[121,1,121,10],[122,1,122,10],[139,1,139,18],[128,1,128,10],[123,1,123,10],[124,1,124,10],[125,1,125,10],[126,1,126,10],[127,1,127,10]]}
["104-3"]
["Modified"]
["DRAINAGE STRUCTURE BY ROAD CONTRACTOR"]
[]
[]
["Length of unclassified pipe calculated is based on using ",null,null,null,null,null,null,null,null,null,"Reinforced Concrete Pipe."]
["  * Not a bid item"]
[" Diameter or equivalent diameter"]
[" UNCL = Unclassified Pipe  CMP = Corrugated Metal Pipe  RCP = Reinforced Concrete Pipe  LCP = Arch or Elliptical Low Clearance Pipe  SARC = Steel Arch Pipe          Backfill according to DR-101"]
["Drainage Area","Location","Type","Size","Pipe Classification","Kind\nOf\nPipe","Length New Const.","Bedding\nClass","Design Cover (H)","Camber*\n(DR-102)","Apron\nNo.",null,"Apron Guard*\n(DR-213)","Elbow*\n(DR-141)","Tee Section*\n(DR-142)","\"D\" Section*\n(DR-141)","Reducer*","Type 'C' Connections*\n(DR-122)",null,"Connected\nPipe Joint*\n(DR-121)","4\" Perforated Subdrain*","Flow Line\nElevations",null,null,null,"Dimensions\nLin. Ft.",null,null,null,"Skew Ahead\nDegrees",null,"Dike",null,null,null,"Class\n20","Flowable\nMortar","Floodable* Backfill","Porous*\nBackfill","Flooded\nBackfill","Remarks"]
[]
[]
[]
[]
[]
[]
[null,null,null,null,null,null,null,null,null,null,null,null,null,null,null,null,null,null,null,null,null,null,null,null,null,null,null,null,null,null,null,"Rt.","Location\nStation","Top\nElevation","Type"]
[null,null,null,null,null,null,null,null,null,null,null,null,null,null,null,null,null,null,null,null,null,null,null,null,null,"Total",null,"Extensions",null,null,null,null,null,null,null,null,null,"(A)","(B)","(A+B)"]
["ACRE",null,null,"IN",null,null,"LF",null,"FT","FT","IN","OUT","No.","No.","No.","No.","No.","Type","No.","Type","FT","Lt.","Rt.","Other","Other","Lt.","Rt.","Lt.","Rt.","Lt.","Rt.","Lt.",null,null,null,"CY","CY","CY","CY","CY"]
[{"$f":"IF(OFFSET(DE104_3!$C$34,ROWS($C$34:C34)-1,COLUMNS($C$34:C34)-1)<>\"\",OFFSET(DE104_3!$C$34,ROWS($C$34:C34)-1,COLUMNS($C$34:C34)-1),\"\")","v":""},{"$f":"IF(OFFSET(DE104_3!$D$34,ROWS($D$34:D34)-1,COLUMNS($D$34:D34)-1)<>\"\",OFFSET(DE104_3!$D$34,ROWS($D$34:D34)-1,COLUMNS($D$34:D34)-1),\"\")","v":"STAGE 1"},{"$f":"IF(OFFSET(DE104_3!$E$34,ROWS($E$34:E34)-1,COLUMNS($E$34:E34)-1)<>\"\",OFFSET(DE104_3!$E$34,ROWS($E$34:E34)-1,COLUMNS($E$34:E34)-1),\"\")","v":""},{"$f":"IF(OFFSET(DE104_3!$F$34,ROWS($F$34:F34)-1,COLUMNS($F$34:F34)-1)<>\"\",OFFSET(DE104_3!$F$34,ROWS($F$34:F34)-1,COLUMNS($F$34:F34)-1),\"\")","v":""},{"$f":"IF(OFFSET(DE104_3!$G$34,ROWS($G$34:G34)-1,COLUMNS($G$34:G34)-1)<>\"\",OFFSET(DE104_3!$G$34,ROWS($G$34:G34)-1,COLUMNS($G$34:G34)-1),\"\")","v":""},{"$f":"IF(OFFSET(DE104_3!$H$34,ROWS($H$34:H34)-1,COLUMNS($H$34:H34)-1)<>\"\",OFFSET(DE104_3!$H$34,ROWS($H$34:H34)-1,COLUMNS($H$34:H34)-1),\"\")","v":""},{"$f":"IF(OFFSET(DE104_3!$I$34,ROWS($I$34:I34)-1,COLUMNS($I$34:I34)-1)<>\"\",OFFSET(DE104_3!$I$34,ROWS($I$34:I34)-1,COLUMNS($I$34:I34)-1),\"\")","v":""},{"$f":"IF(OFFSET(DE104_3!$J$34,ROWS($J$34:J34)-1,COLUMNS($J$34:J34)-1)<>\"\",OFFSET(DE104_3!$J$34,ROWS($J$34:J34)-1,COLUMNS($J$34:J34)-1),\"\")","v":""},{"$f":"IF(OFFSET(DE104_3!$K$34,ROWS($K$34:K34)-1,COLUMNS($K$34:K34)-1)<>\"\",OFFSET(DE104_3!$K$34,ROWS($K$34:K34)-1,COLUMNS($K$34:K34)-1),\"\")","v":""},{"$f":"IF(OFFSET(DE104_3!$L$34,ROWS($L$34:L34)-1,COLUMNS($L$34:L34)-1)<>\"\",OFFSET(DE104_3!$L$34,ROWS($L$34:L34)-1,COLUMNS($L$34:L34)-1),\"\")","v":""},{"$f":"IF(OFFSET(DE104_3!$M$34,ROWS($M$34:M34)-1,COLUMNS($M$34:M34)-1)<>\"\",OFFSET(DE104_3!$M$34,ROWS($M$34:M34)-1,COLUMNS($M$34:M34)-1),\"\")","v":""},{"$f":"IF(OFFSET(DE104_3!$N$34,ROWS($N$34:N34)-1,COLUMNS($N$34:N34)-1)<>\"\",OFFSET(DE104_3!$N$34,ROWS($N$34:N34)-1,COLUMNS($N$34:N34)-1),\"\")","v":""},{"$f":"IF(OFFSET(DE104_3!$O$34,ROWS($O$34:O34)-1,COLUMNS($O$34:O34)-1)<>\"\",OFFSET(DE104_3!$O$34,ROWS($O$34:O34)-1,COLUMNS($O$34:O34)-1),\"\")","v":""},{"$f":"IF(OFFSET(DE104_3!$P$34,ROWS($P$34:P34)-1,COLUMNS($P$34:P34)-1)<>\"\",OFFSET(DE104_3!$P$34,ROWS($P$34:P34)-1,COLUMNS($P$34:P34)-1),\"\")","v":""},{"$f":"IF(OFFSET(DE104_3!$Q$34,ROWS($Q$34:Q34)-1,COLUMNS($Q$34:Q34)-1)<>\"\",OFFSET(DE104_3!$Q$34,ROWS($Q$34:Q34)-1,COLUMNS($Q$34:Q34)-1),\"\")","v":""},{"$f":"IF(OFFSET(DE104_3!$R$34,ROWS($R$34:R34)-1,COLUMNS($R$34:R34)-1)<>\"\",OFFSET(DE104_3!$R$34,ROWS($R$34:R34)-1,COLUMNS($R$34:R34)-1),\"\")","v":""},{"$f":"IF(OFFSET(DE104_3!$S$34,ROWS($S$34:S34)-1,COLUMNS($S$34:S34)-1)<>\"\",OFFSET(DE104_3!$S$34,ROWS($S$34:S34)-1,COLUMNS($S$34:S34)-1),\"\")","v":""},{"$f":"IF(OFFSET(DE104_3!$T$34,ROWS($T$34:T34)-1,COLUMNS($T$34:T34)-1)<>\"\",OFFSET(DE104_3!$T$34,ROWS($T$34:T34)-1,COLUMNS($T$34:T34)-1),\"\")","v":""},{"$f":"IF(OFFSET(DE104_3!$U$34,ROWS($U$34:U34)-1,COLUMNS($U$34:U34)-1)<>\"\",OFFSET(DE104_3!$U$34,ROWS($U$34:U34)-1,COLUMNS($U$34:U34)-1),\"\")","v":""},{"$f":"IF(OFFSET(DE104_3!$V$34,ROWS($V$34:V34)-1,COLUMNS($V$34:V34)-1)<>\"\",OFFSET(DE104_3!$V$34,ROWS($V$34:V34)-1,COLUMNS($V$34:V34)-1),\"\")","v":""},{"$f":"IF(OFFSET(DE104_3!$W$34,ROWS($W$34:W34)-1,COLUMNS($W$34:W34)-1)<>\"\",OFFSET(DE104_3!$W$34,ROWS($W$34:W34)-1,COLUMNS($W$34:W34)-1),\"\")","v":""},{"$f":"IF(OFFSET(DE104_3!$X$34,ROWS($X$34:X34)-1,COLUMNS($X$34:X34)-1)<>\"\",OFFSET(DE104_3!$X$34,ROWS($X$34:X34)-1,COLUMNS($X$34:X34)-1),\"\")","v":""},{"$f":"IF(OFFSET(DE104_3!$Y$34,ROWS($Y$34:Y34)-1,COLUMNS($Y$34:Y34)-1)<>\"\",OFFSET(DE104_3!$Y$34,ROWS($Y$34:Y34)-1,COLUMNS($Y$34:Y34)-1),\"\")","v":""},{"$f":"IF(OFFSET(DE104_3!$Z$34,ROWS($Z$34:Z34)-1,COLUMNS($Z$34:Z34)-1)<>\"\",OFFSET(DE104_3!$Z$34,ROWS($Z$34:Z34)-1,COLUMNS($Z$34:Z34)-1),\"\")","v":""},{"$f":"IF(OFFSET(DE104_3!$AA$34,ROWS($AA$34:AA34)-1,COLUMNS($AA$34:AA34)-1)<>\"\",OFFSET(DE104_3!$AA$34,ROWS($AA$34:AA34)-1,COLUMNS($AA$34:AA34)-1),\"\")","v":""},{"$f":"IF(OFFSET(DE104_3!$AB$34,ROWS($AB$34:AB34)-1,COLUMNS($AB$34:AB34)-1)<>\"\",OFFSET(DE104_3!$AB$34,ROWS($AB$34:AB34)-1,COLUMNS($AB$34:AB34)-1),\"\")","v":""},{"$f":"IF(OFFSET(DE104_3!$AC$34,ROWS($AC$34:AC34)-1,COLUMNS($AC$34:AC34)-1)<>\"\",OFFSET(DE104_3!$AC$34,ROWS($AC$34:AC34)-1,COLUMNS($AC$34:AC34)-1),\"\")","v":""},{"$f":"IF(OFFSET(DE104_3!$AD$34,ROWS($AD$34:AD34)-1,COLUMNS($AD$34:AD34)-1)<>\"\",OFFSET(DE104_3!$AD$34,ROWS($AD$34:AD34)-1,COLUMNS($AD$34:AD34)-1),\"\")","v":""},{"$f":"IF(OFFSET(DE104_3!$AE$34,ROWS($AE$34:AE34)-1,COLUMNS($AE$34:AE34)-1)<>\"\",OFFSET(DE104_3!$AE$34,ROWS($AE$34:AE34)-1,COLUMNS($AE$34:AE34)-1),\"\")","v":""},{"$f":"IF(OFFSET(DE104_3!$AF$34,ROWS($AF$34:AF34)-1,COLUMNS($AF$34:AF34)-1)<>\"\",OFFSET(DE104_3!$AF$34,ROWS($AF$34:AF34)-1,COLUMNS($AF$34:AF34)-1),\"\")","v":""},{"$f":"IF(OFFSET(DE104_3!$AG$34,ROWS($AG$34:AG34)-1,COLUMNS($AG$34:AG34)-1)<>\"\",OFFSET(DE104_3!$AG$34,ROWS($AG$34:AG34)-1,COLUMNS($AG$34:AG34)-1),\"\")","v":""},{"$f":"IF(OFFSET(DE104_3!$AH$34,ROWS($AH$34:AH34)-1,COLUMNS($AH$34:AH34)-1)<>\"\",OFFSET(DE104_3!$AH$34,ROWS($AH$34:AH34)-1,COLUMNS($AH$34:AH34)-1),\"\")","v":""},{"$f":"IF(OFFSET(DE104_3!$AI$34,ROWS($AI$34:AI34)-1,COLUMNS($AI$34:AI34)-1)<>\"\",OFFSET(DE104_3!$AI$34,ROWS($AI$34:AI34)-1,COLUMNS($AI$34:AI34)-1),\"\")","v":""},{"$f":"IF(OFFSET(DE104_3!$AJ$34,ROWS($AJ$34:AJ34)-1,COLUMNS($AJ$34:AJ34)-1)<>\"\",OFFSET(DE104_3!$AJ$34,ROWS($AJ$34:AJ34)-1,COLUMNS($AJ$34:AJ34)-1),\"\")","v":""},{"$f":"IF(OFFSET(DE104_3!$AK$34,ROWS($AK$34:AK34)-1,COLUMNS($AK$34:AK34)-1)<>\"\",OFFSET(DE104_3!$AK$34,ROWS($AK$34:AK34)-1,COLUMNS($AK$34:AK34)-1),\"\")","v":""},{"$f":"IF(OFFSET(DE104_3!$AL$34,ROWS($AL$34:AL34)-1,COLUMNS($AL$34:AL34)-1)<>\"\",OFFSET(DE104_3!$AL$34,ROWS($AL$34:AL34)-1,COLUMNS($AL$34:AL34)-1),\"\")","v":""},{"$f":"IF(OFFSET(DE104_3!$AM$34,ROWS($AM$34:AM34)-1,COLUMNS($AM$34:AM34)-1)<>\"\",OFFSET(DE104_3!$AM$34,ROWS($AM$34:AM34)-1,COLUMNS($AM$34:AM34)-1),\"\")","v":""},{"$f":"IF(OFFSET(DE104_3!$AN$34,ROWS($AN$34:AN34)-1,COLUMNS($AN$34:AN34)-1)<>\"\",OFFSET(DE104_3!$AN$34,ROWS($AN$34:AN34)-1,COLUMNS($AN$34:AN34)-1),\"\")","v":""},{"$f":"IF(OFFSET(DE104_3!$AO$34,ROWS($AO$34:AO34)-1,COLUMNS($AO$34:AO34)-1)<>\"\",OFFSET(DE104_3!$AO$34,ROWS($AO$34:AO34)-1,COLUMNS($AO$34:AO34)-1),\"\")","v":""},{"$f":"IF(OFFSET(DE104_3!$AP$34,ROWS($AP$34:AP34)-1,COLUMNS($AP$34:AP34)-1)<>\"\",OFFSET(DE104_3!$AP$34,ROWS($AP$34:AP34)-1,COLUMNS($AP$34:AP34)-1),\"\")","v":""},{"$f":"IF(OFFSET(DE104_3!$AQ$34,ROWS($AQ$34:AQ34)-1,COLUMNS($AQ$34:AQ34)-1)<>\"\",OFFSET(DE104_3!$AQ$34,ROWS($AQ$34:AQ34)-1,COLUMNS($AQ$34:AQ34)-1),\"\")","v":""}]
[{"$f":"IF(OFFSET(DE104_3!$C$34,ROWS($C$34:C35)-1,COLUMNS($C$34:C35)-1)<>\"\",OFFSET(DE104_3!$C$34,ROWS($C$34:C35)-1,COLUMNS($C$34:C35)-1),\"\")","v":""},{"$f":"IF(OFFSET(DE104_3!$D$34,ROWS($D$34:D35)-1,COLUMNS($D$34:D35)-1)<>\"\",OFFSET(DE104_3!$D$34,ROWS($D$34:D35)-1,COLUMNS($D$34:D35)-1),\"\")","v":"US HWY 30"},{"$f":"IF(OFFSET(DE104_3!$E$34,ROWS($E$34:E35)-1,COLUMNS($E$34:E35)-1)<>\"\",OFFSET(DE104_3!$E$34,ROWS($E$34:E35)-1,COLUMNS($E$34:E35)-1),\"\")","v":""},{"$f":"IF(OFFSET(DE104_3!$F$34,ROWS($F$34:F35)-1,COLUMNS($F$34:F35)-1)<>\"\",OFFSET(DE104_3!$F$34,ROWS($F$34:F35)-1,COLUMNS($F$34:F35)-1),\"\")","v":""},{"$f":"IF(OFFSET(DE104_3!$G$34,ROWS($G$34:G35)-1,COLUMNS($G$34:G35)-1)<>\"\",OFFSET(DE104_3!$G$34,ROWS($G$34:G35)-1,COLUMNS($G$34:G35)-1),\"\")","v":""},{"$f":"IF(OFFSET(DE104_3!$H$34,ROWS($H$34:H35)-1,COLUMNS($H$34:H35)-1)<>\"\",OFFSET(DE104_3!$H$34,ROWS($H$34:H35)-1,COLUMNS($H$34:H35)-1),\"\")","v":""},{"$f":"IF(OFFSET(DE104_3!$I$34,ROWS($I$34:I35)-1,COLUMNS($I$34:I35)-1)<>\"\",OFFSET(DE104_3!$I$34,ROWS($I$34:I35)-1,COLUMNS($I$34:I35)-1),\"\")","v":""},{"$f":"IF(OFFSET(DE104_3!$J$34,ROWS($J$34:J35)-1,COLUMNS($J$34:J35)-1)<>\"\",OFFSET(DE104_3!$J$34,ROWS($J$34:J35)-1,COLUMNS($J$34:J35)-1),\"\")","v":""},{"$f":"IF(OFFSET(DE104_3!$K$34,ROWS($K$34:K35)-1,COLUMNS($K$34:K35)-1)<>\"\",OFFSET(DE104_3!$K$34,ROWS($K$34:K35)-1,COLUMNS($K$34:K35)-1),\"\")","v":""},{"$f":"IF(OFFSET(DE104_3!$L$34,ROWS($L$34:L35)-1,COLUMNS($L$34:L35)-1)<>\"\",OFFSET(DE104_3!$L$34,ROWS($L$34:L35)-1,COLUMNS($L$34:L35)-1),\"\")","v":""},{"$f":"IF(OFFSET(DE104_3!$M$34,ROWS($M$34:M35)-1,COLUMNS($M$34:M35)-1)<>\"\",OFFSET(DE104_3!$M$34,ROWS($M$34:M35)-1,COLUMNS($M$34:M35)-1),\"\")","v":""},{"$f":"IF(OFFSET(DE104_3!$N$34,ROWS($N$34:N35)-1,COLUMNS($N$34:N35)-1)<>\"\",OFFSET(DE104_3!$N$34,ROWS($N$34:N35)-1,COLUMNS($N$34:N35)-1),\"\")","v":""},{"$f":"IF(OFFSET(DE104_3!$O$34,ROWS($O$34:O35)-1,COLUMNS($O$34:O35)-1)<>\"\",OFFSET(DE104_3!$O$34,ROWS($O$34:O35)-1,COLUMNS($O$34:O35)-1),\"\")","v":""},{"$f":"IF(OFFSET(DE104_3!$P$34,ROWS($P$34:P35)-1,COLUMNS($P$34:P35)-1)<>\"\",OFFSET(DE104_3!$P$34,ROWS($P$34:P35)-1,COLUMNS($P$34:P35)-1),\"\")","v":""},{"$f":"IF(OFFSET(DE104_3!$Q$34,ROWS($Q$34:Q35)-1,COLUMNS($Q$34:Q35)-1)<>\"\",OFFSET(DE104_3!$Q$34,ROWS($Q$34:Q35)-1,COLUMNS($Q$34:Q35)-1),\"\")","v":""},{"$f":"IF(OFFSET(DE104_3!$R$34,ROWS($R$34:R35)-1,COLUMNS($R$34:R35)-1)<>\"\",OFFSET(DE104_3!$R$34,ROWS($R$34:R35)-1,COLUMNS($R$34:R35)-1),\"\")","v":""},{"$f":"IF(OFFSET(DE104_3!$S$34,ROWS($S$34:S35)-1,COLUMNS($S$34:S35)-1)<>\"\",OFFSET(DE104_3!$S$34,ROWS($S$34:S35)-1,COLUMNS($S$34:S35)-1),\"\")","v":""},{"$f":"IF(OFFSET(DE104_3!$T$34,ROWS($T$34:T35)-1,COLUMNS($T$34:T35)-1)<>\"\",OFFSET(DE104_3!$T$34,ROWS($T$34:T35)-1,COLUMNS($T$34:T35)-1),\"\")","v":""},{"$f":"IF(OFFSET(DE104_3!$U$34,ROWS($U$34:U35)-1,COLUMNS($U$34:U35)-1)<>\"\",OFFSET(DE104_3!$U$34,ROWS($U$34:U35)-1,COLUMNS($U$34:U35)-1),\"\")","v":""},{"$f":"IF(OFFSET(DE104_3!$V$34,ROWS($V$34:V35)-1,COLUMNS($V$34:V35)-1)<>\"\",OFFSET(DE104_3!$V$34,ROWS($V$34:V35)-1,COLUMNS($V$34:V35)-1),\"\")","v":""},{"$f":"IF(OFFSET(DE104_3!$W$34,ROWS($W$34:W35)-1,COLUMNS($W$34:W35)-1)<>\"\",OFFSET(DE104_3!$W$34,ROWS($W$34:W35)-1,COLUMNS($W$34:W35)-1),\"\")","v":""},{"$f":"IF(OFFSET(DE104_3!$X$34,ROWS($X$34:X35)-1,COLUMNS($X$34:X35)-1)<>\"\",OFFSET(DE104_3!$X$34,ROWS($X$34:X35)-1,COLUMNS($X$34:X35)-1),\"\")","v":""},{"$f":"IF(OFFSET(DE104_3!$Y$34,ROWS($Y$34:Y35)-1,COLUMNS($Y$34:Y35)-1)<>\"\",OFFSET(DE104_3!$Y$34,ROWS($Y$34:Y35)-1,COLUMNS($Y$34:Y35)-1),\"\")","v":""},{"$f":"IF(OFFSET(DE104_3!$Z$34,ROWS($Z$34:Z35)-1,COLUMNS($Z$34:Z35)-1)<>\"\",OFFSET(DE104_3!$Z$34,ROWS($Z$34:Z35)-1,COLUMNS($Z$34:Z35)-1),\"\")","v":""},{"$f":"IF(OFFSET(DE104_3!$AA$34,ROWS($AA$34:AA35)-1,COLUMNS($AA$34:AA35)-1)<>\"\",OFFSET(DE104_3!$AA$34,ROWS($AA$34:AA35)-1,COLUMNS($AA$34:AA35)-1),\"\")","v":""},{"$f":"IF(OFFSET(DE104_3!$AB$34,ROWS($AB$34:AB35)-1,COLUMNS($AB$34:AB35)-1)<>\"\",OFFSET(DE104_3!$AB$34,ROWS($AB$34:AB35)-1,COLUMNS($AB$34:AB35)-1),\"\")","v":""},{"$f":"IF(OFFSET(DE104_3!$AC$34,ROWS($AC$34:AC35)-1,COLUMNS($AC$34:AC35)-1)<>\"\",OFFSET(DE104_3!$AC$34,ROWS($AC$34:AC35)-1,COLUMNS($AC$34:AC35)-1),\"\")","v":""},{"$f":"IF(OFFSET(DE104_3!$AD$34,ROWS($AD$34:AD35)-1,COLUMNS($AD$34:AD35)-1)<>\"\",OFFSET(DE104_3!$AD$34,ROWS($AD$34:AD35)-1,COLUMNS($AD$34:AD35)-1),\"\")","v":""},{"$f":"IF(OFFSET(DE104_3!$AE$34,ROWS($AE$34:AE35)-1,COLUMNS($AE$34:AE35)-1)<>\"\",OFFSET(DE104_3!$AE$34,ROWS($AE$34:AE35)-1,COLUMNS($AE$34:AE35)-1),\"\")","v":""},{"$f":"IF(OFFSET(DE104_3!$AF$34,ROWS($AF$34:AF35)-1,COLUMNS($AF$34:AF35)-1)<>\"\",OFFSET(DE104_3!$AF$34,ROWS($AF$34:AF35)-1,COLUMNS($AF$34:AF35)-1),\"\")","v":""},{"$f":"IF(OFFSET(DE104_3!$AG$34,ROWS($AG$34:AG35)-1,COLUMNS($AG$34:AG35)-1)<>\"\",OFFSET(DE104_3!$AG$34,ROWS($AG$34:AG35)-1,COLUMNS($AG$34:AG35)-1),\"\")","v":""},{"$f":"IF(OFFSET(DE104_3!$AH$34,ROWS($AH$34:AH35)-1,COLUMNS($AH$34:AH35)-1)<>\"\",OFFSET(DE104_3!$AH$34,ROWS($AH$34:AH35)-1,COLUMNS($AH$34:AH35)-1),\"\")","v":""},{"$f":"IF(OFFSET(DE104_3!$AI$34,ROWS($AI$34:AI35)-1,COLUMNS($AI$34:AI35)-1)<>\"\",OFFSET(DE104_3!$AI$34,ROWS($AI$34:AI35)-1,COLUMNS($AI$34:AI35)-1),\"\")","v":""},{"$f":"IF(OFFSET(DE104_3!$AJ$34,ROWS($AJ$34:AJ35)-1,COLUMNS($AJ$34:AJ35)-1)<>\"\",OFFSET(DE104_3!$AJ$34,ROWS($AJ$34:AJ35)-1,COLUMNS($AJ$34:AJ35)-1),\"\")","v":""},{"$f":"IF(OFFSET(DE104_3!$AK$34,ROWS($AK$34:AK35)-1,COLUMNS($AK$34:AK35)-1)<>\"\",OFFSET(DE104_3!$AK$34,ROWS($AK$34:AK35)-1,COLUMNS($AK$34:AK35)-1),\"\")","v":""},{"$f":"IF(OFFSET(DE104_3!$AL$34,ROWS($AL$34:AL35)-1,COLUMNS($AL$34:AL35)-1)<>\"\",OFFSET(DE104_3!$AL$34,ROWS($AL$34:AL35)-1,COLUMNS($AL$34:AL35)-1),\"\")","v":""},{"$f":"IF(OFFSET(DE104_3!$AM$34,ROWS($AM$34:AM35)-1,COLUMNS($AM$34:AM35)-1)<>\"\",OFFSET(DE104_3!$AM$34,ROWS($AM$34:AM35)-1,COLUMNS($AM$34:AM35)-1),\"\")","v":""},{"$f":"IF(OFFSET(DE104_3!$AN$34,ROWS($AN$34:AN35)-1,COLUMNS($AN$34:AN35)-1)<>\"\",OFFSET(DE104_3!$AN$34,ROWS($AN$34:AN35)-1,COLUMNS($AN$34:AN35)-1),\"\")","v":""},{"$f":"IF(OFFSET(DE104_3!$AO$34,ROWS($AO$34:AO35)-1,COLUMNS($AO$34:AO35)-1)<>\"\",OFFSET(DE104_3!$AO$34,ROWS($AO$34:AO35)-1,COLUMNS($AO$34:AO35)-1),\"\")","v":""},{"$f":"IF(OFFSET(DE104_3!$AP$34,ROWS($AP$34:AP35)-1,COLUMNS($AP$34:AP35)-1)<>\"\",OFFSET(DE104_3!$AP$34,ROWS($AP$34:AP35)-1,COLUMNS($AP$34:AP35)-1),\"\")","v":""},{"$f":"IF(OFFSET(DE104_3!$AQ$34,ROWS($AQ$34:AQ35)-1,COLUMNS($AQ$34:AQ35)-1)<>\"\",OFFSET(DE104_3!$AQ$34,ROWS($AQ$34:AQ35)-1,COLUMNS($AQ$34:AQ35)-1),\"\")","v":""}]
[{"$f":"IF(OFFSET(DE104_3!$C$34,ROWS($C$34:C36)-1,COLUMNS($C$34:C36)-1)<>\"\",OFFSET(DE104_3!$C$34,ROWS($C$34:C36)-1,COLUMNS($C$34:C36)-1),\"\")","v":"MED"},{"$f":"IF(OFFSET(DE104_3!$D$34,ROWS($D$34:D36)-1,COLUMNS($D$34:D36)-1)<>\"\",OFFSET(DE104_3!$D$34,ROWS($D$34:D36)-1,COLUMNS($D$34:D36)-1),\"\")","v":138125},{"$f":"IF(OFFSET(DE104_3!$E$34,ROWS($E$34:E36)-1,COLUMNS($E$34:E36)-1)<>\"\",OFFSET(DE104_3!$E$34,ROWS($E$34:E36)-1,COLUMNS($E$34:E36)-1),\"\")","v":"DR-601"},{"$f":"IF(OFFSET(DE104_3!$F$34,ROWS($F$34:F36)-1,COLUMNS($F$34:F36)-1)<>\"\",OFFSET(DE104_3!$F$34,ROWS($F$34:F36)-1,COLUMNS($F$34:F36)-1),\"\")","v":24},{"$f":"IF(OFFSET(DE104_3!$G$34,ROWS($G$34:G36)-1,COLUMNS($G$34:G36)-1)<>\"\",OFFSET(DE104_3!$G$34,ROWS($G$34:G36)-1,COLUMNS($G$34:G36)-1),\"\")","v":2000},{"$f":"IF(OFFSET(DE104_3!$H$34,ROWS($H$34:H36)-1,COLUMNS($H$34:H36)-1)<>\"\",OFFSET(DE104_3!$H$34,ROWS($H$34:H36)-1,COLUMNS($H$34:H36)-1),\"\")","v":"RCP"},{"$f":"IF(OFFSET(DE104_3!$I$34,ROWS($I$34:I36)-1,COLUMNS($I$34:I36)-1)<>\"\",OFFSET(DE104_3!$I$34,ROWS($I$34:I36)-1,COLUMNS($I$34:I36)-1),\"\")","v":98},{"$f":"IF(OFFSET(DE104_3!$J$34,ROWS($J$34:J36)-1,COLUMNS($J$34:J36)-1)<>\"\",OFFSET(DE104_3!$J$34,ROWS($J$34:J36)-1,COLUMNS($J$34:J36)-1),\"\")","v":"B"},{"$f":"IF(OFFSET(DE104_3!$K$34,ROWS($K$34:K36)-1,COLUMNS($K$34:K36)-1)<>\"\",OFFSET(DE104_3!$K$34,ROWS($K$34:K36)-1,COLUMNS($K$34:K36)-1),\"\")","v":""},{"$f":"IF(OFFSET(DE104_3!$L$34,ROWS($L$34:L36)-1,COLUMNS($L$34:L36)-1)<>\"\",OFFSET(DE104_3!$L$34,ROWS($L$34:L36)-1,COLUMNS($L$34:L36)-1),\"\")","v":""},{"$f":"IF(OFFSET(DE104_3!$M$34,ROWS($M$34:M36)-1,COLUMNS($M$34:M36)-1)<>\"\",OFFSET(DE104_3!$M$34,ROWS($M$34:M36)-1,COLUMNS($M$34:M36)-1),\"\")","v":1},{"$f":"IF(OFFSET(DE104_3!$N$34,ROWS($N$34:N36)-1,COLUMNS($N$34:N36)-1)<>\"\",OFFSET(DE104_3!$N$34,ROWS($N$34:N36)-1,COLUMNS($N$34:N36)-1),\"\")","v":1},{"$f":"IF(OFFSET(DE104_3!$O$34,ROWS($O$34:O36)-1,COLUMNS($O$34:O36)-1)<>\"\",OFFSET(DE104_3!$O$34,ROWS($O$34:O36)-1,COLUMNS($O$34:O36)-1),\"\")","v":1},{"$f":"IF(OFFSET(DE104_3!$P$34,ROWS($P$34:P36)-1,COLUMNS($P$34:P36)-1)<>\"\",OFFSET(DE104_3!$P$34,ROWS($P$34:P36)-1,COLUMNS($P$34:P36)-1),\"\")","v":""},{"$f":"IF(OFFSET(DE104_3!$Q$34,ROWS($Q$34:Q36)-1,COLUMNS($Q$34:Q36)-1)<>\"\",OFFSET(DE104_3!$Q$34,ROWS($Q$34:Q36)-1,COLUMNS($Q$34:Q36)-1),\"\")","v":""},{"$f":"IF(OFFSET(DE104_3!$R$34,ROWS($R$34:R36)-1,COLUMNS($R$34:R36)-1)<>\"\",OFFSET(DE104_3!$R$34,ROWS($R$34:R36)-1,COLUMNS($R$34:R36)-1),\"\")","v":""},{"$f":"IF(OFFSET(DE104_3!$S$34,ROWS($S$34:S36)-1,COLUMNS($S$34:S36)-1)<>\"\",OFFSET(DE104_3!$S$34,ROWS($S$34:S36)-1,COLUMNS($S$34:S36)-1),\"\")","v":""},{"$f":"IF(OFFSET(DE104_3!$T$34,ROWS($T$34:T36)-1,COLUMNS($T$34:T36)-1)<>\"\",OFFSET(DE104_3!$T$34,ROWS($T$34:T36)-1,COLUMNS($T$34:T36)-1),\"\")","v":""},{"$f":"IF(OFFSET(DE104_3!$U$34,ROWS($U$34:U36)-1,COLUMNS($U$34:U36)-1)<>\"\",OFFSET(DE104_3!$U$34,ROWS($U$34:U36)-1,COLUMNS($U$34:U36)-1),\"\")","v":""},{"$f":"IF(OFFSET(DE104_3!$V$34,ROWS($V$34:V36)-1,COLUMNS($V$34:V36)-1)<>\"\",OFFSET(DE104_3!$V$34,ROWS($V$34:V36)-1,COLUMNS($V$34:V36)-1),\"\")","v":"Type 3"},{"$f":"IF(OFFSET(DE104_3!$W$34,ROWS($W$34:W36)-1,COLUMNS($W$34:W36)-1)<>\"\",OFFSET(DE104_3!$W$34,ROWS($W$34:W36)-1,COLUMNS($W$34:W36)-1),\"\")","v":""},{"$f":"IF(OFFSET(DE104_3!$X$34,ROWS($X$34:X36)-1,COLUMNS($X$34:X36)-1)<>\"\",OFFSET(DE104_3!$X$34,ROWS($X$34:X36)-1,COLUMNS($X$34:X36)-1),\"\")","v":884.49},{"$f":"IF(OFFSET(DE104_3!$Y$34,ROWS($Y$34:Y36)-1,COLUMNS($Y$34:Y36)-1)<>\"\",OFFSET(DE104_3!$Y$34,ROWS($Y$34:Y36)-1,COLUMNS($Y$34:Y36)-1),\"\")","v":881.73},{"$f":"IF(OFFSET(DE104_3!$Z$34,ROWS($Z$34:Z36)-1,COLUMNS($Z$34:Z36)-1)<>\"\",OFFSET(DE104_3!$Z$34,ROWS($Z$34:Z36)-1,COLUMNS($Z$34:Z36)-1),\"\")","v":""},{"$f":"IF(OFFSET(DE104_3!$AA$34,ROWS($AA$34:AA36)-1,COLUMNS($AA$34:AA36)-1)<>\"\",OFFSET(DE104_3!$AA$34,ROWS($AA$34:AA36)-1,COLUMNS($AA$34:AA36)-1),\"\")","v":""},{"$f":"IF(OFFSET(DE104_3!$AB$34,ROWS($AB$34:AB36)-1,COLUMNS($AB$34:AB36)-1)<>\"\",OFFSET(DE104_3!$AB$34,ROWS($AB$34:AB36)-1,COLUMNS($AB$34:AB36)-1),\"\")","v":42.1},{"$f":"IF(OFFSET(DE104_3!$AC$34,ROWS($AC$34:AC36)-1,COLUMNS($AC$34:AC36)-1)<>\"\",OFFSET(DE104_3!$AC$34,ROWS($AC$34:AC36)-1,COLUMNS($AC$34:AC36)-1),\"\")","v":68.099999999999994},{"$f":"IF(OFFSET(DE104_3!$AD$34,ROWS($AD$34:AD36)-1,COLUMNS($AD$34:AD36)-1)<>\"\",OFFSET(DE104_3!$AD$34,ROWS($AD$34:AD36)-1,COLUMNS($AD$34:AD36)-1),\"\")","v":""},{"$f":"IF(OFFSET(DE104_3!$AE$34,ROWS($AE$34:AE36)-1,COLUMNS($AE$34:AE36)-1)<>\"\",OFFSET(DE104_3!$AE$34,ROWS($AE$34:AE36)-1,COLUMNS($AE$34:AE36)-1),\"\")","v":""},{"$f":"IF(OFFSET(DE104_3!$AF$34,ROWS($AF$34:AF36)-1,COLUMNS($AF$34:AF36)-1)<>\"\",OFFSET(DE104_3!$AF$34,ROWS($AF$34:AF36)-1,COLUMNS($AF$34:AF36)-1),\"\")","v":""},{"$f":"IF(OFFSET(DE104_3!$AG$34,ROWS($AG$34:AG36)-1,COLUMNS($AG$34:AG36)-1)<>\"\",OFFSET(DE104_3!$AG$34,ROWS($AG$34:AG36)-1,COLUMNS($AG$34:AG36)-1),\"\")","v":""},{"$f":"IF(OFFSET(DE104_3!$AH$34,ROWS($AH$34:AH36)-1,COLUMNS($AH$34:AH36)-1)<>\"\",OFFSET(DE104_3!$AH$34,ROWS($AH$34:AH36)-1,COLUMNS($AH$34:AH36)-1),\"\")","v":""},{"$f":"IF(OFFSET(DE104_3!$AI$34,ROWS($AI$34:AI36)-1,COLUMNS($AI$34:AI36)-1)<>\"\",OFFSET(DE104_3!$AI$34,ROWS($AI$34:AI36)-1,COLUMNS($AI$34:AI36)-1),\"\")","v":""},{"$f":"IF(OFFSET(DE104_3!$AJ$34,ROWS($AJ$34:AJ36)-1,COLUMNS($AJ$34:AJ36)-1)<>\"\",OFFSET(DE104_3!$AJ$34,ROWS($AJ$34:AJ36)-1,COLUMNS($AJ$34:AJ36)-1),\"\")","v":""},{"$f":"IF(OFFSET(DE104_3!$AK$34,ROWS($AK$34:AK36)-1,COLUMNS($AK$34:AK36)-1)<>\"\",OFFSET(DE104_3!$AK$34,ROWS($AK$34:AK36)-1,COLUMNS($AK$34:AK36)-1),\"\")","v":""},{"$f":"IF(OFFSET(DE104_3!$AL$34,ROWS($AL$34:AL36)-1,COLUMNS($AL$34:AL36)-1)<>\"\",OFFSET(DE104_3!$AL$34,ROWS($AL$34:AL36)-1,COLUMNS($AL$34:AL36)-1),\"\")","v":73.683377777777778},{"$f":"IF(OFFSET(DE104_3!$AM$34,ROWS($AM$34:AM36)-1,COLUMNS($AM$34:AM36)-1)<>\"\",OFFSET(DE104_3!$AM$34,ROWS($AM$34:AM36)-1,COLUMNS($AM$34:AM36)-1),\"\")","v":""},{"$f":"IF(OFFSET(DE104_3!$AN$34,ROWS($AN$34:AN36)-1,COLUMNS($AN$34:AN36)-1)<>\"\",OFFSET(DE104_3!$AN$34,ROWS($AN$34:AN36)-1,COLUMNS($AN$34:AN36)-1),\"\")","v":66.642962962962955},{"$f":"IF(OFFSET(DE104_3!$AO$34,ROWS($AO$34:AO36)-1,COLUMNS($AO$34:AO36)-1)<>\"\",OFFSET(DE104_3!$AO$34,ROWS($AO$34:AO36)-1,COLUMNS($AO$34:AO36)-1),\"\")","v":8.4618814814814822},{"$f":"IF(OFFSET(DE104_3!$AP$34,ROWS($AP$34:AP36)-1,COLUMNS($AP$34:AP36)-1)<>\"\",OFFSET(DE104_3!$AP$34,ROWS($AP$34:AP36)-1,COLUMNS($AP$34:AP36)-1),\"\")","v":75.104844444444439},{"$f":"IF(OFFSET(DE104_3!$AQ$34,ROWS($AQ$34:AQ36)-1,COLUMNS($AQ$34:AQ36)-1)<>\"\",OFFSET(DE104_3!$AQ$34,ROWS($AQ$34:AQ36)-1,COLUMNS($AQ$34:AQ36)-1),\"\")","v":""}]
[{"$f":"IF(OFFSET(DE104_3!$C$34,ROWS($C$34:C37)-1,COLUMNS($C$34:C37)-1)<>\"\",OFFSET(DE104_3!$C$34,ROWS($C$34:C37)-1,COLUMNS($C$34:C37)-1),\"\")","v":"MED"},{"$f":"IF(OFFSET(DE104_3!$D$34,ROWS($D$34:D37)-1,COLUMNS($D$34:D37)-1)<>\"\",OFFSET(DE104_3!$D$34,ROWS($D$34:D37)-1,COLUMNS($D$34:D37)-1),\"\")","v":138200},{"$f":"IF(OFFSET(DE104_3!$E$34,ROWS($E$34:E37)-1,COLUMNS($E$34:E37)-1)<>\"\",OFFSET(DE104_3!$E$34,ROWS($E$34:E37)-1,COLUMNS($E$34:E37)-1),\"\")","v":"DR-641"},{"$f":"IF(OFFSET(DE104_3!$F$34,ROWS($F$34:F37)-1,COLUMNS($F$34:F37)-1)<>\"\",OFFSET(DE104_3!$F$34,ROWS($F$34:F37)-1,COLUMNS($F$34:F37)-1),\"\")","v":24},{"$f":"IF(OFFSET(DE104_3!$G$34,ROWS($G$34:G37)-1,COLUMNS($G$34:G37)-1)<>\"\",OFFSET(DE104_3!$G$34,ROWS($G$34:G37)-1,COLUMNS($G$34:G37)-1),\"\")","v":2000},{"$f":"IF(OFFSET(DE104_3!$H$34,ROWS($H$34:H37)-1,COLUMNS($H$34:H37)-1)<>\"\",OFFSET(DE104_3!$H$34,ROWS($H$34:H37)-1,COLUMNS($H$34:H37)-1),\"\")","v":"RCP"},{"$f":"IF(OFFSET(DE104_3!$I$34,ROWS($I$34:I37)-1,COLUMNS($I$34:I37)-1)<>\"\",OFFSET(DE104_3!$I$34,ROWS($I$34:I37)-1,COLUMNS($I$34:I37)-1),\"\")","v":68},{"$f":"IF(OFFSET(DE104_3!$J$34,ROWS($J$34:J37)-1,COLUMNS($J$34:J37)-1)<>\"\",OFFSET(DE104_3!$J$34,ROWS($J$34:J37)-1,COLUMNS($J$34:J37)-1),\"\")","v":"B"},{"$f":"IF(OFFSET(DE104_3!$K$34,ROWS($K$34:K37)-1,COLUMNS($K$34:K37)-1)<>\"\",OFFSET(DE104_3!$K$34,ROWS($K$34:K37)-1,COLUMNS($K$34:K37)-1),\"\")","v":3.9},{"$f":"IF(OFFSET(DE104_3!$L$34,ROWS($L$34:L37)-1,COLUMNS($L$34:L37)-1)<>\"\",OFFSET(DE104_3!$L$34,ROWS($L$34:L37)-1,COLUMNS($L$34:L37)-1),\"\")","v":""},{"$f":"IF(OFFSET(DE104_3!$M$34,ROWS($M$34:M37)-1,COLUMNS($M$34:M37)-1)<>\"\",OFFSET(DE104_3!$M$34,ROWS($M$34:M37)-1,COLUMNS($M$34:M37)-1),\"\")","v":1},{"$f":"IF(OFFSET(DE104_3!$N$34,ROWS($N$34:N37)-1,COLUMNS($N$34:N37)-1)<>\"\",OFFSET(DE104_3!$N$34,ROWS($N$34:N37)-1,COLUMNS($N$34:N37)-1),\"\")","v":""},{"$f":"IF(OFFSET(DE104_3!$O$34,ROWS($O$34:O37)-1,COLUMNS($O$34:O37)-1)<>\"\",OFFSET(DE104_3!$O$34,ROWS($O$34:O37)-1,COLUMNS($O$34:O37)-1),\"\")","v":1},{"$f":"IF(OFFSET(DE104_3!$P$34,ROWS($P$34:P37)-1,COLUMNS($P$34:P37)-1)<>\"\",OFFSET(DE104_3!$P$34,ROWS($P$34:P37)-1,COLUMNS($P$34:P37)-1),\"\")","v":""},{"$f":"IF(OFFSET(DE104_3!$Q$34,ROWS($Q$34:Q37)-1,COLUMNS($Q$34:Q37)-1)<>\"\",OFFSET(DE104_3!$Q$34,ROWS($Q$34:Q37)-1,COLUMNS($Q$34:Q37)-1),\"\")","v":""},{"$f":"IF(OFFSET(DE104_3!$R$34,ROWS($R$34:R37)-1,COLUMNS($R$34:R37)-1)<>\"\",OFFSET(DE104_3!$R$34,ROWS($R$34:R37)-1,COLUMNS($R$34:R37)-1),\"\")","v":1},{"$f":"IF(OFFSET(DE104_3!$S$34,ROWS($S$34:S37)-1,COLUMNS($S$34:S37)-1)<>\"\",OFFSET(DE104_3!$S$34,ROWS($S$34:S37)-1,COLUMNS($S$34:S37)-1),\"\")","v":""},{"$f":"IF(OFFSET(DE104_3!$T$34,ROWS($T$34:T37)-1,COLUMNS($T$34:T37)-1)<>\"\",OFFSET(DE104_3!$T$34,ROWS($T$34:T37)-1,COLUMNS($T$34:T37)-1),\"\")","v":"C-3"},{"$f":"IF(OFFSET(DE104_3!$U$34,ROWS($U$34:U37)-1,COLUMNS($U$34:U37)-1)<>\"\",OFFSET(DE104_3!$U$34,ROWS($U$34:U37)-1,COLUMNS($U$34:U37)-1),\"\")","v":1},{"$f":"IF(OFFSET(DE104_3!$V$34,ROWS($V$34:V37)-1,COLUMNS($V$34:V37)-1)<>\"\",OFFSET(DE104_3!$V$34,ROWS($V$34:V37)-1,COLUMNS($V$34:V37)-1),\"\")","v":"Type 3"},{"$f":"IF(OFFSET(DE104_3!$W$34,ROWS($W$34:W37)-1,COLUMNS($W$34:W37)-1)<>\"\",OFFSET(DE104_3!$W$34,ROWS($W$34:W37)-1,COLUMNS($W$34:W37)-1),\"\")","v":""},{"$f":"IF(OFFSET(DE104_3!$X$34,ROWS($X$34:X37)-1,COLUMNS($X$34:X37)-1)<>\"\",OFFSET(DE104_3!$X$34,ROWS($X$34:X37)-1,COLUMNS($X$34:X37)-1),\"\")","v":887.95},{"$f":"IF(OFFSET(DE104_3!$Y$34,ROWS($Y$34:Y37)-1,COLUMNS($Y$34:Y37)-1)<>\"\",OFFSET(DE104_3!$Y$34,ROWS($Y$34:Y37)-1,COLUMNS($Y$34:Y37)-1),\"\")","v":884.76},{"$f":"IF(OFFSET(DE104_3!$Z$34,ROWS($Z$34:Z37)-1,COLUMNS($Z$34:Z37)-1)<>\"\",OFFSET(DE104_3!$Z$34,ROWS($Z$34:Z37)-1,COLUMNS($Z$34:Z37)-1),\"\")","v":886.1},{"$f":"IF(OFFSET(DE104_3!$AA$34,ROWS($AA$34:AA37)-1,COLUMNS($AA$34:AA37)-1)<>\"\",OFFSET(DE104_3!$AA$34,ROWS($AA$34:AA37)-1,COLUMNS($AA$34:AA37)-1),\"\")","v":""},{"$f":"IF(OFFSET(DE104_3!$AB$34,ROWS($AB$34:AB37)-1,COLUMNS($AB$34:AB37)-1)<>\"\",OFFSET(DE104_3!$AB$34,ROWS($AB$34:AB37)-1,COLUMNS($AB$34:AB37)-1),\"\")","v":37},{"$f":"IF(OFFSET(DE104_3!$AC$34,ROWS($AC$34:AC37)-1,COLUMNS($AC$34:AC37)-1)<>\"\",OFFSET(DE104_3!$AC$34,ROWS($AC$34:AC37)-1,COLUMNS($AC$34:AC37)-1),\"\")","v":37.1},{"$f":"IF(OFFSET(DE104_3!$AD$34,ROWS($AD$34:AD37)-1,COLUMNS($AD$34:AD37)-1)<>\"\",OFFSET(DE104_3!$AD$34,ROWS($AD$34:AD37)-1,COLUMNS($AD$34:AD37)-1),\"\")","v":""},{"$f":"IF(OFFSET(DE104_3!$AE$34,ROWS($AE$34:AE37)-1,COLUMNS($AE$34:AE37)-1)<>\"\",OFFSET(DE104_3!$AE$34,ROWS($AE$34:AE37)-1,COLUMNS($AE$34:AE37)-1),\"\")","v":""},{"$f":"IF(OFFSET(DE104_3!$AF$34,ROWS($AF$34:AF37)-1,COLUMNS($AF$34:AF37)-1)<>\"\",OFFSET(DE104_3!$AF$34,ROWS($AF$34:AF37)-1,COLUMNS($AF$34:AF37)-1),\"\")","v":""},{"$f":"IF(OFFSET(DE104_3!$AG$34,ROWS($AG$34:AG37)-1,COLUMNS($AG$34:AG37)-1)<>\"\",OFFSET(DE104_3!$AG$34,ROWS($AG$34:AG37)-1,COLUMNS($AG$34:AG37)-1),\"\")","v":""},{"$f":"IF(OFFSET(DE104_3!$AH$34,ROWS($AH$34:AH37)-1,COLUMNS($AH$34:AH37)-1)<>\"\",OFFSET(DE104_3!$AH$34,ROWS($AH$34:AH37)-1,COLUMNS($AH$34:AH37)-1),\"\")","v":""},{"$f":"IF(OFFSET(DE104_3!$AI$34,ROWS($AI$34:AI37)-1,COLUMNS($AI$34:AI37)-1)<>\"\",OFFSET(DE104_3!$AI$34,ROWS($AI$34:AI37)-1,COLUMNS($AI$34:AI37)-1),\"\")","v":""},{"$f":"IF(OFFSET(DE104_3!$AJ$34,ROWS($AJ$34:AJ37)-1,COLUMNS($AJ$34:AJ37)-1)<>\"\",OFFSET(DE104_3!$AJ$34,ROWS($AJ$34:AJ37)-1,COLUMNS($AJ$34:AJ37)-1),\"\")","v":""},{"$f":"IF(OFFSET(DE104_3!$AK$34,ROWS($AK$34:AK37)-1,COLUMNS($AK$34:AK37)-1)<>\"\",OFFSET(DE104_3!$AK$34,ROWS($AK$34:AK37)-1,COLUMNS($AK$34:AK37)-1),\"\")","v":""},{"$f":"IF(OFFSET(DE104_3!$AL$34,ROWS($AL$34:AL37)-1,COLUMNS($AL$34:AL37)-1)<>\"\",OFFSET(DE104_3!$AL$34,ROWS($AL$34:AL37)-1,COLUMNS($AL$34:AL37)-1),\"\")","v":""},{"$f":"IF(OFFSET(DE104_3!$AM$34,ROWS($AM$34:AM37)-1,COLUMNS($AM$34:AM37)-1)<>\"\",OFFSET(DE104_3!$AM$34,ROWS($AM$34:AM37)-1,COLUMNS($AM$34:AM37)-1),\"\")","v":""},{"$f":"IF(OFFSET(DE104_3!$AN$34,ROWS($AN$34:AN37)-1,COLUMNS($AN$34:AN37)-1)<>\"\",OFFSET(DE104_3!$AN$34,ROWS($AN$34:AN37)-1,COLUMNS($AN$34:AN37)-1),\"\")","v":31.087407407407408},{"$f":"IF(OFFSET(DE104_3!$AO$34,ROWS($AO$34:AO37)-1,COLUMNS($AO$34:AO37)-1)<>\"\",OFFSET(DE104_3!$AO$34,ROWS($AO$34:AO37)-1,COLUMNS($AO$34:AO37)-1),\"\")","v":5.6524555555555551},{"$f":"IF(OFFSET(DE104_3!$AP$34,ROWS($AP$34:AP37)-1,COLUMNS($AP$34:AP37)-1)<>\"\",OFFSET(DE104_3!$AP$34,ROWS($AP$34:AP37)-1,COLUMNS($AP$34:AP37)-1),\"\")","v":36.73986296296296},{"$f":"IF(OFFSET(DE104_3!$AQ$34,ROWS($AQ$34:AQ37)-1,COLUMNS($AQ$34:AQ37)-1)<>\"\",OFFSET(DE104_3!$AQ$34,ROWS($AQ$34:AQ37)-1,COLUMNS($AQ$34:AQ37)-1),\"\")","v":"(1)"}]
[{"$f":"IF(OFFSET(DE104_3!$C$34,ROWS($C$34:C38)-1,COLUMNS($C$34:C38)-1)<>\"\",OFFSET(DE104_3!$C$34,ROWS($C$34:C38)-1,COLUMNS($C$34:C38)-1),\"\")","v":""},{"$f":"IF(OFFSET(DE104_3!$D$34,ROWS($D$34:D38)-1,COLUMNS($D$34:D38)-1)<>\"\",OFFSET(DE104_3!$D$34,ROWS($D$34:D38)-1,COLUMNS($D$34:D38)-1),\"\")","v":""},{"$f":"IF(OFFSET(DE104_3!$E$34,ROWS($E$34:E38)-1,COLUMNS($E$34:E38)-1)<>\"\",OFFSET(DE104_3!$E$34,ROWS($E$34:E38)-1,COLUMNS($E$34:E38)-1),\"\")","v":""},{"$f":"IF(OFFSET(DE104_3!$F$34,ROWS($F$34:F38)-1,COLUMNS($F$34:F38)-1)<>\"\",OFFSET(DE104_3!$F$34,ROWS($F$34:F38)-1,COLUMNS($F$34:F38)-1),\"\")","v":24},{"$f":"IF(OFFSET(DE104_3!$G$34,ROWS($G$34:G38)-1,COLUMNS($G$34:G38)-1)<>\"\",OFFSET(DE104_3!$G$34,ROWS($G$34:G38)-1,COLUMNS($G$34:G38)-1),\"\")","v":""},{"$f":"IF(OFFSET(DE104_3!$H$34,ROWS($H$34:H38)-1,COLUMNS($H$34:H38)-1)<>\"\",OFFSET(DE104_3!$H$34,ROWS($H$34:H38)-1,COLUMNS($H$34:H38)-1),\"\")","v":"CMP"},{"$f":"IF(OFFSET(DE104_3!$I$34,ROWS($I$34:I38)-1,COLUMNS($I$34:I38)-1)<>\"\",OFFSET(DE104_3!$I$34,ROWS($I$34:I38)-1,COLUMNS($I$34:I38)-1),\"\")","v":30},{"$f":"IF(OFFSET(DE104_3!$J$34,ROWS($J$34:J38)-1,COLUMNS($J$34:J38)-1)<>\"\",OFFSET(DE104_3!$J$34,ROWS($J$34:J38)-1,COLUMNS($J$34:J38)-1),\"\")","v":"B"},{"$f":"IF(OFFSET(DE104_3!$K$34,ROWS($K$34:K38)-1,COLUMNS($K$34:K38)-1)<>\"\",OFFSET(DE104_3!$K$34,ROWS($K$34:K38)-1,COLUMNS($K$34:K38)-1),\"\")","v":""},{"$f":"IF(OFFSET(DE104_3!$L$34,ROWS($L$34:L38)-1,COLUMNS($L$34:L38)-1)<>\"\",OFFSET(DE104_3!$L$34,ROWS($L$34:L38)-1,COLUMNS($L$34:L38)-1),\"\")","v":""},{"$f":"IF(OFFSET(DE104_3!$M$34,ROWS($M$34:M38)-1,COLUMNS($M$34:M38)-1)<>\"\",OFFSET(DE104_3!$M$34,ROWS($M$34:M38)-1,COLUMNS($M$34:M38)-1),\"\")","v":""},{"$f":"IF(OFFSET(DE104_3!$N$34,ROWS($N$34:N38)-1,COLUMNS($N$34:N38)-1)<>\"\",OFFSET(DE104_3!$N$34,ROWS($N$34:N38)-1,COLUMNS($N$34:N38)-1),\"\")","v":1},{"$f":"IF(OFFSET(DE104_3!$O$34,ROWS($O$34:O38)-1,COLUMNS($O$34:O38)-1)<>\"\",OFFSET(DE104_3!$O$34,ROWS($O$34:O38)-1,COLUMNS($O$34:O38)-1),\"\")","v":""},{"$f":"IF(OFFSET(DE104_3!$P$34,ROWS($P$34:P38)-1,COLUMNS($P$34:P38)-1)<>\"\",OFFSET(DE104_3!$P$34,ROWS($P$34:P38)-1,COLUMNS($P$34:P38)-1),\"\")","v":""},{"$f":"IF(OFFSET(DE104_3!$Q$34,ROWS($Q$34:Q38)-1,COLUMNS($Q$34:Q38)-1)<>\"\",OFFSET(DE104_3!$Q$34,ROWS($Q$34:Q38)-1,COLUMNS($Q$34:Q38)-1),\"\")","v":""},{"$f":"IF(OFFSET(DE104_3!$R$34,ROWS($R$34:R38)-1,COLUMNS($R$34:R38)-1)<>\"\",OFFSET(DE104_3!$R$34,ROWS($R$34:R38)-1,COLUMNS($R$34:R38)-1),\"\")","v":""},{"$f":"IF(OFFSET(DE104_3!$S$34,ROWS($S$34:S38)-1,COLUMNS($S$34:S38)-1)<>\"\",OFFSET(DE104_3!$S$34,ROWS($S$34:S38)-1,COLUMNS($S$34:S38)-1),\"\")","v":""},{"$f":"IF(OFFSET(DE104_3!$T$34,ROWS($T$34:T38)-1,COLUMNS($T$34:T38)-1)<>\"\",OFFSET(DE104_3!$T$34,ROWS($T$34:T38)-1,COLUMNS($T$34:T38)-1),\"\")","v":""},{"$f":"IF(OFFSET(DE104_3!$U$34,ROWS($U$34:U38)-1,COLUMNS($U$34:U38)-1)<>\"\",OFFSET(DE104_3!$U$34,ROWS($U$34:U38)-1,COLUMNS($U$34:U38)-1),\"\")","v":""},{"$f":"IF(OFFSET(DE104_3!$V$34,ROWS($V$34:V38)-1,COLUMNS($V$34:V38)-1)<>\"\",OFFSET(DE104_3!$V$34,ROWS($V$34:V38)-1,COLUMNS($V$34:V38)-1),\"\")","v":""},{"$f":"IF(OFFSET(DE104_3!$W$34,ROWS($W$34:W38)-1,COLUMNS($W$34:W38)-1)<>\"\",OFFSET(DE104_3!$W$34,ROWS($W$34:W38)-1,COLUMNS($W$34:W38)-1),\"\")","v":""},{"$f":"IF(OFFSET(DE104_3!$X$34,ROWS($X$34:X38)-1,COLUMNS($X$34:X38)-1)<>\"\",OFFSET(DE104_3!$X$34,ROWS($X$34:X38)-1,COLUMNS($X$34:X38)-1),\"\")","v":884.76},{"$f":"IF(OFFSET(DE104_3!$Y$34,ROWS($Y$34:Y38)-1,COLUMNS($Y$34:Y38)-1)<>\"\",OFFSET(DE104_3!$Y$34,ROWS($Y$34:Y38)-1,COLUMNS($Y$34:Y38)-1),\"\")","v":880.15},{"$f":"IF(OFFSET(DE104_3!$Z$34,ROWS($Z$34:Z38)-1,COLUMNS($Z$34:Z38)-1)<>\"\",OFFSET(DE104_3!$Z$34,ROWS($Z$34:Z38)-1,COLUMNS($Z$34:Z38)-1),\"\")","v":880.56},{"$f":"IF(OFFSET(DE104_3!$AA$34,ROWS($AA$34:AA38)-1,COLUMNS($AA$34:AA38)-1)<>\"\",OFFSET(DE104_3!$AA$34,ROWS($AA$34:AA38)-1,COLUMNS($AA$34:AA38)-1),\"\")","v":""},{"$f":"IF(OFFSET(DE104_3!$AB$34,ROWS($AB$34:AB38)-1,COLUMNS($AB$34:AB38)-1)<>\"\",OFFSET(DE104_3!$AB$34,ROWS($AB$34:AB38)-1,COLUMNS($AB$34:AB38)-1),\"\")","v":37.1},{"$f":"IF(OFFSET(DE104_3!$AC$34,ROWS($AC$34:AC38)-1,COLUMNS($AC$34:AC38)-1)<>\"\",OFFSET(DE104_3!$AC$34,ROWS($AC$34:AC38)-1,COLUMNS($AC$34:AC38)-1),\"\")","v":72},{"$f":"IF(OFFSET(DE104_3!$AD$34,ROWS($AD$34:AD38)-1,COLUMNS($AD$34:AD38)-1)<>\"\",OFFSET(DE104_3!$AD$34,ROWS($AD$34:AD38)-1,COLUMNS($AD$34:AD38)-1),\"\")","v":""},{"$f":"IF(OFFSET(DE104_3!$AE$34,ROWS($AE$34:AE38)-1,COLUMNS($AE$34:AE38)-1)<>\"\",OFFSET(DE104_3!$AE$34,ROWS($AE$34:AE38)-1,COLUMNS($AE$34:AE38)-1),\"\")","v":""},{"$f":"IF(OFFSET(DE104_3!$AF$34,ROWS($AF$34:AF38)-1,COLUMNS($AF$34:AF38)-1)<>\"\",OFFSET(DE104_3!$AF$34,ROWS($AF$34:AF38)-1,COLUMNS($AF$34:AF38)-1),\"\")","v":""},{"$f":"IF(OFFSET(DE104_3!$AG$34,ROWS($AG$34:AG38)-1,COLUMNS($AG$34:AG38)-1)<>\"\",OFFSET(DE104_3!$AG$34,ROWS($AG$34:AG38)-1,COLUMNS($AG$34:AG38)-1),\"\")","v":""},{"$f":"IF(OFFSET(DE104_3!$AH$34,ROWS($AH$34:AH38)-1,COLUMNS($AH$34:AH38)-1)<>\"\",OFFSET(DE104_3!$AH$34,ROWS($AH$34:AH38)-1,COLUMNS($AH$34:AH38)-1),\"\")","v":""},{"$f":"IF(OFFSET(DE104_3!$AI$34,ROWS($AI$34:AI38)-1,COLUMNS($AI$34:AI38)-1)<>\"\",OFFSET(DE104_3!$AI$34,ROWS($AI$34:AI38)-1,COLUMNS($AI$34:AI38)-1),\"\")","v":""},{"$f":"IF(OFFSET(DE104_3!$AJ$34,ROWS($AJ$34:AJ38)-1,COLUMNS($AJ$34:AJ38)-1)<>\"\",OFFSET(DE104_3!$AJ$34,ROWS($AJ$34:AJ38)-1,COLUMNS($AJ$34:AJ38)-1),\"\")","v":""},{"$f":"IF(OFFSET(DE104_3!$AK$34,ROWS($AK$34:AK38)-1,COLUMNS($AK$34:AK38)-1)<>\"\",OFFSET(DE104_3!$AK$34,ROWS($AK$34:AK38)-1,COLUMNS($AK$34:AK38)-1),\"\")","v":""},{"$f":"IF(OFFSET(DE104_3!$AL$34,ROWS($AL$34:AL38)-1,COLUMNS($AL$34:AL38)-1)<>\"\",OFFSET(DE104_3!$AL$34,ROWS($AL$34:AL38)-1,COLUMNS($AL$34:AL38)-1),\"\")","v":14.111111111111111},{"$f":"IF(OFFSET(DE104_3!$AM$34,ROWS($AM$34:AM38)-1,COLUMNS($AM$34:AM38)-1)<>\"\",OFFSET(DE104_3!$AM$34,ROWS($AM$34:AM38)-1,COLUMNS($AM$34:AM38)-1),\"\")","v":""},{"$f":"IF(OFFSET(DE104_3!$AN$34,ROWS($AN$34:AN38)-1,COLUMNS($AN$34:AN38)-1)<>\"\",OFFSET(DE104_3!$AN$34,ROWS($AN$34:AN38)-1,COLUMNS($AN$34:AN38)-1),\"\")","v":""},{"$f":"IF(OFFSET(DE104_3!$AO$34,ROWS($AO$34:AO38)-1,COLUMNS($AO$34:AO38)-1)<>\"\",OFFSET(DE104_3!$AO$34,ROWS($AO$34:AO38)-1,COLUMNS($AO$34:AO38)-1),\"\")","v":2.7742592592592592},{"$f":"IF(OFFSET(DE104_3!$AP$34,ROWS($AP$34:AP38)-1,COLUMNS($AP$34:AP38)-1)<>\"\",OFFSET(DE104_3!$AP$34,ROWS($AP$34:AP38)-1,COLUMNS($AP$34:AP38)-1),\"\")","v":2.7742592592592592},{"$f":"IF(OFFSET(DE104_3!$AQ$34,ROWS($AQ$34:AQ38)-1,COLUMNS($AQ$34:AQ38)-1)<>\"\",OFFSET(DE104_3!$AQ$34,ROWS($AQ$34:AQ38)-1,COLUMNS($AQ$34:AQ38)-1),\"\")","v":"(2)"}]
[{"$f":"IF(OFFSET(DE104_3!$C$34,ROWS($C$34:C39)-1,COLUMNS($C$34:C39)-1)<>\"\",OFFSET(DE104_3!$C$34,ROWS($C$34:C39)-1,COLUMNS($C$34:C39)-1),\"\")","v":113},{"$f":"IF(OFFSET(DE104_3!$D$34,ROWS($D$34:D39)-1,COLUMNS($D$34:D39)-1)<>\"\",OFFSET(DE104_3!$D$34,ROWS($D$34:D39)-1,COLUMNS($D$34:D39)-1),\"\")","v":138810},{"$f":"IF(OFFSET(DE104_3!$E$34,ROWS($E$34:E39)-1,COLUMNS($E$34:E39)-1)<>\"\",OFFSET(DE104_3!$E$34,ROWS($E$34:E39)-1,COLUMNS($E$34:E39)-1),\"\")","v":"DR-601"},{"$f":"IF(OFFSET(DE104_3!$F$34,ROWS($F$34:F39)-1,COLUMNS($F$34:F39)-1)<>\"\",OFFSET(DE104_3!$F$34,ROWS($F$34:F39)-1,COLUMNS($F$34:F39)-1),\"\")","v":54},{"$f":"IF(OFFSET(DE104_3!$G$34,ROWS($G$34:G39)-1,COLUMNS($G$34:G39)-1)<>\"\",OFFSET(DE104_3!$G$34,ROWS($G$34:G39)-1,COLUMNS($G$34:G39)-1),\"\")","v":2000},{"$f":"IF(OFFSET(DE104_3!$H$34,ROWS($H$34:H39)-1,COLUMNS($H$34:H39)-1)<>\"\",OFFSET(DE104_3!$H$34,ROWS($H$34:H39)-1,COLUMNS($H$34:H39)-1),\"\")","v":"RCP"},{"$f":"IF(OFFSET(DE104_3!$I$34,ROWS($I$34:I39)-1,COLUMNS($I$34:I39)-1)<>\"\",OFFSET(DE104_3!$I$34,ROWS($I$34:I39)-1,COLUMNS($I$34:I39)-1),\"\")","v":168},{"$f":"IF(OFFSET(DE104_3!$J$34,ROWS($J$34:J39)-1,COLUMNS($J$34:J39)-1)<>\"\",OFFSET(DE104_3!$J$34,ROWS($J$34:J39)-1,COLUMNS($J$34:J39)-1),\"\")","v":"B"},{"$f":"IF(OFFSET(DE104_3!$K$34,ROWS($K$34:K39)-1,COLUMNS($K$34:K39)-1)<>\"\",OFFSET(DE104_3!$K$34,ROWS($K$34:K39)-1,COLUMNS($K$34:K39)-1),\"\")","v":14.8},{"$f":"IF(OFFSET(DE104_3!$L$34,ROWS($L$34:L39)-1,COLUMNS($L$34:L39)-1)<>\"\",OFFSET(DE104_3!$L$34,ROWS($L$34:L39)-1,COLUMNS($L$34:L39)-1),\"\")","v":""},{"$f":"IF(OFFSET(DE104_3!$M$34,ROWS($M$34:M39)-1,COLUMNS($M$34:M39)-1)<>\"\",OFFSET(DE104_3!$M$34,ROWS($M$34:M39)-1,COLUMNS($M$34:M39)-1),\"\")","v":""},{"$f":"IF(OFFSET(DE104_3!$N$34,ROWS($N$34:N39)-1,COLUMNS($N$34:N39)-1)<>\"\",OFFSET(DE104_3!$N$34,ROWS($N$34:N39)-1,COLUMNS($N$34:N39)-1),\"\")","v":1},{"$f":"IF(OFFSET(DE104_3!$O$34,ROWS($O$34:O39)-1,COLUMNS($O$34:O39)-1)<>\"\",OFFSET(DE104_3!$O$34,ROWS($O$34:O39)-1,COLUMNS($O$34:O39)-1),\"\")","v":""},{"$f":"IF(OFFSET(DE104_3!$P$34,ROWS($P$34:P39)-1,COLUMNS($P$34:P39)-1)<>\"\",OFFSET(DE104_3!$P$34,ROWS($P$34:P39)-1,COLUMNS($P$34:P39)-1),\"\")","v":""},{"$f":"IF(OFFSET(DE104_3!$Q$34,ROWS($Q$34:Q39)-1,COLUMNS($Q$34:Q39)-1)<>\"\",OFFSET(DE104_3!$Q$34,ROWS($Q$34:Q39)-1,COLUMNS($Q$34:Q39)-1),\"\")","v":""},{"$f":"IF(OFFSET(DE104_3!$R$34,ROWS($R$34:R39)-1,COLUMNS($R$34:R39)-1)<>\"\",OFFSET(DE104_3!$R$34,ROWS($R$34:R39)-1,COLUMNS($R$34:R39)-1),\"\")","v":""},{"$f":"IF(OFFSET(DE104_3!$S$34,ROWS($S$34:S39)-1,COLUMNS($S$34:S39)-1)<>\"\",OFFSET(DE104_3!$S$34,ROWS($S$34:S39)-1,COLUMNS($S$34:S39)-1),\"\")","v":""},{"$f":"IF(OFFSET(DE104_3!$T$34,ROWS($T$34:T39)-1,COLUMNS($T$34:T39)-1)<>\"\",OFFSET(DE104_3!$T$34,ROWS($T$34:T39)-1,COLUMNS($T$34:T39)-1),\"\")","v":""},{"$f":"IF(OFFSET(DE104_3!$U$34,ROWS($U$34:U39)-1,COLUMNS($U$34:U39)-1)<>\"\",OFFSET(DE104_3!$U$34,ROWS($U$34:U39)-1,COLUMNS($U$34:U39)-1),\"\")","v":""},{"$f":"IF(OFFSET(DE104_3!$V$34,ROWS($V$34:V39)-1,COLUMNS($V$34:V39)-1)<>\"\",OFFSET(DE104_3!$V$34,ROWS($V$34:V39)-1,COLUMNS($V$34:V39)-1),\"\")","v":"Type 3"},{"$f":"IF(OFFSET(DE104_3!$W$34,ROWS($W$34:W39)-1,COLUMNS($W$34:W39)-1)<>\"\",OFFSET(DE104_3!$W$34,ROWS($W$34:W39)-1,COLUMNS($W$34:W39)-1),\"\")","v":""},{"$f":"IF(OFFSET(DE104_3!$X$34,ROWS($X$34:X39)-1,COLUMNS($X$34:X39)-1)<>\"\",OFFSET(DE104_3!$X$34,ROWS($X$34:X39)-1,COLUMNS($X$34:X39)-1),\"\")","v":869.48},{"$f":"IF(OFFSET(DE104_3!$Y$34,ROWS($Y$34:Y39)-1,COLUMNS($Y$34:Y39)-1)<>\"\",OFFSET(DE104_3!$Y$34,ROWS($Y$34:Y39)-1,COLUMNS($Y$34:Y39)-1),\"\")","v":868.39},{"$f":"IF(OFFSET(DE104_3!$Z$34,ROWS($Z$34:Z39)-1,COLUMNS($Z$34:Z39)-1)<>\"\",OFFSET(DE104_3!$Z$34,ROWS($Z$34:Z39)-1,COLUMNS($Z$34:Z39)-1),\"\")","v":""},{"$f":"IF(OFFSET(DE104_3!$AA$34,ROWS($AA$34:AA39)-1,COLUMNS($AA$34:AA39)-1)<>\"\",OFFSET(DE104_3!$AA$34,ROWS($AA$34:AA39)-1,COLUMNS($AA$34:AA39)-1),\"\")","v":""},{"$f":"IF(OFFSET(DE104_3!$AB$34,ROWS($AB$34:AB39)-1,COLUMNS($AB$34:AB39)-1)<>\"\",OFFSET(DE104_3!$AB$34,ROWS($AB$34:AB39)-1,COLUMNS($AB$34:AB39)-1),\"\")","v":36.06},{"$f":"IF(OFFSET(DE104_3!$AC$34,ROWS($AC$34:AC39)-1,COLUMNS($AC$34:AC39)-1)<>\"\",OFFSET(DE104_3!$AC$34,ROWS($AC$34:AC39)-1,COLUMNS($AC$34:AC39)-1),\"\")","v":139.94},{"$f":"IF(OFFSET(DE104_3!$AD$34,ROWS($AD$34:AD39)-1,COLUMNS($AD$34:AD39)-1)<>\"\",OFFSET(DE104_3!$AD$34,ROWS($AD$34:AD39)-1,COLUMNS($AD$34:AD39)-1),\"\")","v":""},{"$f":"IF(OFFSET(DE104_3!$AE$34,ROWS($AE$34:AE39)-1,COLUMNS($AE$34:AE39)-1)<>\"\",OFFSET(DE104_3!$AE$34,ROWS($AE$34:AE39)-1,COLUMNS($AE$34:AE39)-1),\"\")","v":""},{"$f":"IF(OFFSET(DE104_3!$AF$34,ROWS($AF$34:AF39)-1,COLUMNS($AF$34:AF39)-1)<>\"\",OFFSET(DE104_3!$AF$34,ROWS($AF$34:AF39)-1,COLUMNS($AF$34:AF39)-1),\"\")","v":""},{"$f":"IF(OFFSET(DE104_3!$AG$34,ROWS($AG$34:AG39)-1,COLUMNS($AG$34:AG39)-1)<>\"\",OFFSET(DE104_3!$AG$34,ROWS($AG$34:AG39)-1,COLUMNS($AG$34:AG39)-1),\"\")","v":""},{"$f":"IF(OFFSET(DE104_3!$AH$34,ROWS($AH$34:AH39)-1,COLUMNS($AH$34:AH39)-1)<>\"\",OFFSET(DE104_3!$AH$34,ROWS($AH$34:AH39)-1,COLUMNS($AH$34:AH39)-1),\"\")","v":""},{"$f":"IF(OFFSET(DE104_3!$AI$34,ROWS($AI$34:AI39)-1,COLUMNS($AI$34:AI39)-1)<>\"\",OFFSET(DE104_3!$AI$34,ROWS($AI$34:AI39)-1,COLUMNS($AI$34:AI39)-1),\"\")","v":""},{"$f":"IF(OFFSET(DE104_3!$AJ$34,ROWS($AJ$34:AJ39)-1,COLUMNS($AJ$34:AJ39)-1)<>\"\",OFFSET(DE104_3!$AJ$34,ROWS($AJ$34:AJ39)-1,COLUMNS($AJ$34:AJ39)-1),\"\")","v":""},{"$f":"IF(OFFSET(DE104_3!$AK$34,ROWS($AK$34:AK39)-1,COLUMNS($AK$34:AK39)-1)<>\"\",OFFSET(DE104_3!$AK$34,ROWS($AK$34:AK39)-1,COLUMNS($AK$34:AK39)-1),\"\")","v":""},{"$f":"IF(OFFSET(DE104_3!$AL$34,ROWS($AL$34:AL39)-1,COLUMNS($AL$34:AL39)-1)<>\"\",OFFSET(DE104_3!$AL$34,ROWS($AL$34:AL39)-1,COLUMNS($AL$34:AL39)-1),\"\")","v":68.835555555555558},{"$f":"IF(OFFSET(DE104_3!$AM$34,ROWS($AM$34:AM39)-1,COLUMNS($AM$34:AM39)-1)<>\"\",OFFSET(DE104_3!$AM$34,ROWS($AM$34:AM39)-1,COLUMNS($AM$34:AM39)-1),\"\")","v":""},{"$f":"IF(OFFSET(DE104_3!$AN$34,ROWS($AN$34:AN39)-1,COLUMNS($AN$34:AN39)-1)<>\"\",OFFSET(DE104_3!$AN$34,ROWS($AN$34:AN39)-1,COLUMNS($AN$34:AN39)-1),\"\")","v":498.15703703703701},{"$f":"IF(OFFSET(DE104_3!$AO$34,ROWS($AO$34:AO39)-1,COLUMNS($AO$34:AO39)-1)<>\"\",OFFSET(DE104_3!$AO$34,ROWS($AO$34:AO39)-1,COLUMNS($AO$34:AO39)-1),\"\")","v":18.946666666666665},{"$f":"IF(OFFSET(DE104_3!$AP$34,ROWS($AP$34:AP39)-1,COLUMNS($AP$34:AP39)-1)<>\"\",OFFSET(DE104_3!$AP$34,ROWS($AP$34:AP39)-1,COLUMNS($AP$34:AP39)-1),\"\")","v":517.10370370370367},{"$f":"IF(OFFSET(DE104_3!$AQ$34,ROWS($AQ$34:AQ39)-1,COLUMNS($AQ$34:AQ39)-1)<>\"\",OFFSET(DE104_3!$AQ$34,ROWS($AQ$34:AQ39)-1,COLUMNS($AQ$34:AQ39)-1),\"\")","v":""}]
[{"$f":"IF(OFFSET(DE104_3!$C$34,ROWS($C$34:C40)-1,COLUMNS($C$34:C40)-1)<>\"\",OFFSET(DE104_3!$C$34,ROWS($C$34:C40)-1,COLUMNS($C$34:C40)-1),\"\")","v":"MED"},{"$f":"IF(OFFSET(DE104_3!$D$34,ROWS($D$34:D40)-1,COLUMNS($D$34:D40)-1)<>\"\",OFFSET(DE104_3!$D$34,ROWS($D$34:D40)-1,COLUMNS($D$34:D40)-1),\"\")","v":142400},{"$f":"IF(OFFSET(DE104_3!$E$34,ROWS($E$34:E40)-1,COLUMNS($E$34:E40)-1)<>\"\",OFFSET(DE104_3!$E$34,ROWS($E$34:E40)-1,COLUMNS($E$34:E40)-1),\"\")","v":"DR-641"},{"$f":"IF(OFFSET(DE104_3!$F$34,ROWS($F$34:F40)-1,COLUMNS($F$34:F40)-1)<>\"\",OFFSET(DE104_3!$F$34,ROWS($F$34:F40)-1,COLUMNS($F$34:F40)-1),\"\")","v":24},{"$f":"IF(OFFSET(DE104_3!$G$34,ROWS($G$34:G40)-1,COLUMNS($G$34:G40)-1)<>\"\",OFFSET(DE104_3!$G$34,ROWS($G$34:G40)-1,COLUMNS($G$34:G40)-1),\"\")","v":2000},{"$f":"IF(OFFSET(DE104_3!$H$34,ROWS($H$34:H40)-1,COLUMNS($H$34:H40)-1)<>\"\",OFFSET(DE104_3!$H$34,ROWS($H$34:H40)-1,COLUMNS($H$34:H40)-1),\"\")","v":"RCP"},{"$f":"IF(OFFSET(DE104_3!$I$34,ROWS($I$34:I40)-1,COLUMNS($I$34:I40)-1)<>\"\",OFFSET(DE104_3!$I$34,ROWS($I$34:I40)-1,COLUMNS($I$34:I40)-1),\"\")","v":68},{"$f":"IF(OFFSET(DE104_3!$J$34,ROWS($J$34:J40)-1,COLUMNS($J$34:J40)-1)<>\"\",OFFSET(DE104_3!$J$34,ROWS($J$34:J40)-1,COLUMNS($J$34:J40)-1),\"\")","v":"B"},{"$f":"IF(OFFSET(DE104_3!$K$34,ROWS($K$34:K40)-1,COLUMNS($K$34:K40)-1)<>\"\",OFFSET(DE104_3!$K$34,ROWS($K$34:K40)-1,COLUMNS($K$34:K40)-1),\"\")","v":3},{"$f":"IF(OFFSET(DE104_3!$L$34,ROWS($L$34:L40)-1,COLUMNS($L$34:L40)-1)<>\"\",OFFSET(DE104_3!$L$34,ROWS($L$34:L40)-1,COLUMNS($L$34:L40)-1),\"\")","v":""},{"$f":"IF(OFFSET(DE104_3!$M$34,ROWS($M$34:M40)-1,COLUMNS($M$34:M40)-1)<>\"\",OFFSET(DE104_3!$M$34,ROWS($M$34:M40)-1,COLUMNS($M$34:M40)-1),\"\")","v":1},{"$f":"IF(OFFSET(DE104_3!$N$34,ROWS($N$34:N40)-1,COLUMNS($N$34:N40)-1)<>\"\",OFFSET(DE104_3!$N$34,ROWS($N$34:N40)-1,COLUMNS($N$34:N40)-1),\"\")","v":""},{"$f":"IF(OFFSET(DE104_3!$O$34,ROWS($O$34:O40)-1,COLUMNS($O$34:O40)-1)<>\"\",OFFSET(DE104_3!$O$34,ROWS($O$34:O40)-1,COLUMNS($O$34:O40)-1),\"\")","v":""},{"$f":"IF(OFFSET(DE104_3!$P$34,ROWS($P$34:P40)-1,COLUMNS($P$34:P40)-1)<>\"\",OFFSET(DE104_3!$P$34,ROWS($P$34:P40)-1,COLUMNS($P$34:P40)-1),\"\")","v":""},{"$f":"IF(OFFSET(DE104_3!$Q$34,ROWS($Q$34:Q40)-1,COLUMNS($Q$34:Q40)-1)<>\"\",OFFSET(DE104_3!$Q$34,ROWS($Q$34:Q40)-1,COLUMNS($Q$34:Q40)-1),\"\")","v":""},{"$f":"IF(OFFSET(DE104_3!$R$34,ROWS($R$34:R40)-1,COLUMNS($R$34:R40)-1)<>\"\",OFFSET(DE104_3!$R$34,ROWS($R$34:R40)-1,COLUMNS($R$34:R40)-1),\"\")","v":1},{"$f":"IF(OFFSET(DE104_3!$S$34,ROWS($S$34:S40)-1,COLUMNS($S$34:S40)-1)<>\"\",OFFSET(DE104_3!$S$34,ROWS($S$34:S40)-1,COLUMNS($S$34:S40)-1),\"\")","v":""},{"$f":"IF(OFFSET(DE104_3!$T$34,ROWS($T$34:T40)-1,COLUMNS($T$34:T40)-1)<>\"\",OFFSET(DE104_3!$T$34,ROWS($T$34:T40)-1,COLUMNS($T$34:T40)-1),\"\")","v":"C-3"},{"$f":"IF(OFFSET(DE104_3!$U$34,ROWS($U$34:U40)-1,COLUMNS($U$34:U40)-1)<>\"\",OFFSET(DE104_3!$U$34,ROWS($U$34:U40)-1,COLUMNS($U$34:U40)-1),\"\")","v":1},{"$f":"IF(OFFSET(DE104_3!$V$34,ROWS($V$34:V40)-1,COLUMNS($V$34:V40)-1)<>\"\",OFFSET(DE104_3!$V$34,ROWS($V$34:V40)-1,COLUMNS($V$34:V40)-1),\"\")","v":"Type 3"},{"$f":"IF(OFFSET(DE104_3!$W$34,ROWS($W$34:W40)-1,COLUMNS($W$34:W40)-1)<>\"\",OFFSET(DE104_3!$W$34,ROWS($W$34:W40)-1,COLUMNS($W$34:W40)-1),\"\")","v":""},{"$f":"IF(OFFSET(DE104_3!$X$34,ROWS($X$34:X40)-1,COLUMNS($X$34:X40)-1)<>\"\",OFFSET(DE104_3!$X$34,ROWS($X$34:X40)-1,COLUMNS($X$34:X40)-1),\"\")","v":892.36},{"$f":"IF(OFFSET(DE104_3!$Y$34,ROWS($Y$34:Y40)-1,COLUMNS($Y$34:Y40)-1)<>\"\",OFFSET(DE104_3!$Y$34,ROWS($Y$34:Y40)-1,COLUMNS($Y$34:Y40)-1),\"\")","v":889.2},{"$f":"IF(OFFSET(DE104_3!$Z$34,ROWS($Z$34:Z40)-1,COLUMNS($Z$34:Z40)-1)<>\"\",OFFSET(DE104_3!$Z$34,ROWS($Z$34:Z40)-1,COLUMNS($Z$34:Z40)-1),\"\")","v":890.52},{"$f":"IF(OFFSET(DE104_3!$AA$34,ROWS($AA$34:AA40)-1,COLUMNS($AA$34:AA40)-1)<>\"\",OFFSET(DE104_3!$AA$34,ROWS($AA$34:AA40)-1,COLUMNS($AA$34:AA40)-1),\"\")","v":""},{"$f":"IF(OFFSET(DE104_3!$AB$34,ROWS($AB$34:AB40)-1,COLUMNS($AB$34:AB40)-1)<>\"\",OFFSET(DE104_3!$AB$34,ROWS($AB$34:AB40)-1,COLUMNS($AB$34:AB40)-1),\"\")","v":37},{"$f":"IF(OFFSET(DE104_3!$AC$34,ROWS($AC$34:AC40)-1,COLUMNS($AC$34:AC40)-1)<>\"\",OFFSET(DE104_3!$AC$34,ROWS($AC$34:AC40)-1,COLUMNS($AC$34:AC40)-1),\"\")","v":36.93},{"$f":"IF(OFFSET(DE104_3!$AD$34,ROWS($AD$34:AD40)-1,COLUMNS($AD$34:AD40)-1)<>\"\",OFFSET(DE104_3!$AD$34,ROWS($AD$34:AD40)-1,COLUMNS($AD$34:AD40)-1),\"\")","v":""},{"$f":"IF(OFFSET(DE104_3!$AE$34,ROWS($AE$34:AE40)-1,COLUMNS($AE$34:AE40)-1)<>\"\",OFFSET(DE104_3!$AE$34,ROWS($AE$34:AE40)-1,COLUMNS($AE$34:AE40)-1),\"\")","v":""},{"$f":"IF(OFFSET(DE104_3!$AF$34,ROWS($AF$34:AF40)-1,COLUMNS($AF$34:AF40)-1)<>\"\",OFFSET(DE104_3!$AF$34,ROWS($AF$34:AF40)-1,COLUMNS($AF$34:AF40)-1),\"\")","v":""},{"$f":"IF(OFFSET(DE104_3!$AG$34,ROWS($AG$34:AG40)-1,COLUMNS($AG$34:AG40)-1)<>\"\",OFFSET(DE104_3!$AG$34,ROWS($AG$34:AG40)-1,COLUMNS($AG$34:AG40)-1),\"\")","v":""},{"$f":"IF(OFFSET(DE104_3!$AH$34,ROWS($AH$34:AH40)-1,COLUMNS($AH$34:AH40)-1)<>\"\",OFFSET(DE104_3!$AH$34,ROWS($AH$34:AH40)-1,COLUMNS($AH$34:AH40)-1),\"\")","v":""},{"$f":"IF(OFFSET(DE104_3!$AI$34,ROWS($AI$34:AI40)-1,COLUMNS($AI$34:AI40)-1)<>\"\",OFFSET(DE104_3!$AI$34,ROWS($AI$34:AI40)-1,COLUMNS($AI$34:AI40)-1),\"\")","v":""},{"$f":"IF(OFFSET(DE104_3!$AJ$34,ROWS($AJ$34:AJ40)-1,COLUMNS($AJ$34:AJ40)-1)<>\"\",OFFSET(DE104_3!$AJ$34,ROWS($AJ$34:AJ40)-1,COLUMNS($AJ$34:AJ40)-1),\"\")","v":""},{"$f":"IF(OFFSET(DE104_3!$AK$34,ROWS($AK$34:AK40)-1,COLUMNS($AK$34:AK40)-1)<>\"\",OFFSET(DE104_3!$AK$34,ROWS($AK$34:AK40)-1,COLUMNS($AK$34:AK40)-1),\"\")","v":""},{"$f":"IF(OFFSET(DE104_3!$AL$34,ROWS($AL$34:AL40)-1,COLUMNS($AL$34:AL40)-1)<>\"\",OFFSET(DE104_3!$AL$34,ROWS($AL$34:AL40)-1,COLUMNS($AL$34:AL40)-1),\"\")","v":""},{"$f":"IF(OFFSET(DE104_3!$AM$34,ROWS($AM$34:AM40)-1,COLUMNS($AM$34:AM40)-1)<>\"\",OFFSET(DE104_3!$AM$34,ROWS($AM$34:AM40)-1,COLUMNS($AM$34:AM40)-1),\"\")","v":""},{"$f":"IF(OFFSET(DE104_3!$AN$34,ROWS($AN$34:AN40)-1,COLUMNS($AN$34:AN40)-1)<>\"\",OFFSET(DE104_3!$AN$34,ROWS($AN$34:AN40)-1,COLUMNS($AN$34:AN40)-1),\"\")","v":24.133333333333333},{"$f":"IF(OFFSET(DE104_3!$AO$34,ROWS($AO$34:AO40)-1,COLUMNS($AO$34:AO40)-1)<>\"\",OFFSET(DE104_3!$AO$34,ROWS($AO$34:AO40)-1,COLUMNS($AO$34:AO40)-1),\"\")","v":5.6399518518518512},{"$f":"IF(OFFSET(DE104_3!$AP$34,ROWS($AP$34:AP40)-1,COLUMNS($AP$34:AP40)-1)<>\"\",OFFSET(DE104_3!$AP$34,ROWS($AP$34:AP40)-1,COLUMNS($AP$34:AP40)-1),\"\")","v":29.773285185185184},{"$f":"IF(OFFSET(DE104_3!$AQ$34,ROWS($AQ$34:AQ40)-1,COLUMNS($AQ$34:AQ40)-1)<>\"\",OFFSET(DE104_3!$AQ$34,ROWS($AQ$34:AQ40)-1,COLUMNS($AQ$34:AQ40)-1),\"\")","v":"(3)"}]
[{"$f":"IF(OFFSET(DE104_3!$C$34,ROWS($C$34:C41)-1,COLUMNS($C$34:C41)-1)<>\"\",OFFSET(DE104_3!$C$34,ROWS($C$34:C41)-1,COLUMNS($C$34:C41)-1),\"\")","v":""},{"$f":"IF(OFFSET(DE104_3!$D$34,ROWS($D$34:D41)-1,COLUMNS($D$34:D41)-1)<>\"\",OFFSET(DE104_3!$D$34,ROWS($D$34:D41)-1,COLUMNS($D$34:D41)-1),\"\")","v":""},{"$f":"IF(OFFSET(DE104_3!$E$34,ROWS($E$34:E41)-1,COLUMNS($E$34:E41)-1)<>\"\",OFFSET(DE104_3!$E$34,ROWS($E$34:E41)-1,COLUMNS($E$34:E41)-1),\"\")","v":""},{"$f":"IF(OFFSET(DE104_3!$F$34,ROWS($F$34:F41)-1,COLUMNS($F$34:F41)-1)<>\"\",OFFSET(DE104_3!$F$34,ROWS($F$34:F41)-1,COLUMNS($F$34:F41)-1),\"\")","v":24},{"$f":"IF(OFFSET(DE104_3!$G$34,ROWS($G$34:G41)-1,COLUMNS($G$34:G41)-1)<>\"\",OFFSET(DE104_3!$G$34,ROWS($G$34:G41)-1,COLUMNS($G$34:G41)-1),\"\")","v":""},{"$f":"IF(OFFSET(DE104_3!$H$34,ROWS($H$34:H41)-1,COLUMNS($H$34:H41)-1)<>\"\",OFFSET(DE104_3!$H$34,ROWS($H$34:H41)-1,COLUMNS($H$34:H41)-1),\"\")","v":"CMP"},{"$f":"IF(OFFSET(DE104_3!$I$34,ROWS($I$34:I41)-1,COLUMNS($I$34:I41)-1)<>\"\",OFFSET(DE104_3!$I$34,ROWS($I$34:I41)-1,COLUMNS($I$34:I41)-1),\"\")","v":57},{"$f":"IF(OFFSET(DE104_3!$J$34,ROWS($J$34:J41)-1,COLUMNS($J$34:J41)-1)<>\"\",OFFSET(DE104_3!$J$34,ROWS($J$34:J41)-1,COLUMNS($J$34:J41)-1),\"\")","v":"B"},{"$f":"IF(OFFSET(DE104_3!$K$34,ROWS($K$34:K41)-1,COLUMNS($K$34:K41)-1)<>\"\",OFFSET(DE104_3!$K$34,ROWS($K$34:K41)-1,COLUMNS($K$34:K41)-1),\"\")","v":""},{"$f":"IF(OFFSET(DE104_3!$L$34,ROWS($L$34:L41)-1,COLUMNS($L$34:L41)-1)<>\"\",OFFSET(DE104_3!$L$34,ROWS($L$34:L41)-1,COLUMNS($L$34:L41)-1),\"\")","v":""},{"$f":"IF(OFFSET(DE104_3!$M$34,ROWS($M$34:M41)-1,COLUMNS($M$34:M41)-1)<>\"\",OFFSET(DE104_3!$M$34,ROWS($M$34:M41)-1,COLUMNS($M$34:M41)-1),\"\")","v":""},{"$f":"IF(OFFSET(DE104_3!$N$34,ROWS($N$34:N41)-1,COLUMNS($N$34:N41)-1)<>\"\",OFFSET(DE104_3!$N$34,ROWS($N$34:N41)-1,COLUMNS($N$34:N41)-1),\"\")","v":1},{"$f":"IF(OFFSET(DE104_3!$O$34,ROWS($O$34:O41)-1,COLUMNS($O$34:O41)-1)<>\"\",OFFSET(DE104_3!$O$34,ROWS($O$34:O41)-1,COLUMNS($O$34:O41)-1),\"\")","v":""},{"$f":"IF(OFFSET(DE104_3!$P$34,ROWS($P$34:P41)-1,COLUMNS($P$34:P41)-1)<>\"\",OFFSET(DE104_3!$P$34,ROWS($P$34:P41)-1,COLUMNS($P$34:P41)-1),\"\")","v":""},{"$f":"IF(OFFSET(DE104_3!$Q$34,ROWS($Q$34:Q41)-1,COLUMNS($Q$34:Q41)-1)<>\"\",OFFSET(DE104_3!$Q$34,ROWS($Q$34:Q41)-1,COLUMNS($Q$34:Q41)-1),\"\")","v":""},{"$f":"IF(OFFSET(DE104_3!$R$34,ROWS($R$34:R41)-1,COLUMNS($R$34:R41)-1)<>\"\",OFFSET(DE104_3!$R$34,ROWS($R$34:R41)-1,COLUMNS($R$34:R41)-1),\"\")","v":""},{"$f":"IF(OFFSET(DE104_3!$S$34,ROWS($S$34:S41)-1,COLUMNS($S$34:S41)-1)<>\"\",OFFSET(DE104_3!$S$34,ROWS($S$34:S41)-1,COLUMNS($S$34:S41)-1),\"\")","v":""},{"$f":"IF(OFFSET(DE104_3!$T$34,ROWS($T$34:T41)-1,COLUMNS($T$34:T41)-1)<>\"\",OFFSET(DE104_3!$T$34,ROWS($T$34:T41)-1,COLUMNS($T$34:T41)-1),\"\")","v":""},{"$f":"IF(OFFSET(DE104_3!$U$34,ROWS($U$34:U41)-1,COLUMNS($U$34:U41)-1)<>\"\",OFFSET(DE104_3!$U$34,ROWS($U$34:U41)-1,COLUMNS($U$34:U41)-1),\"\")","v":""},{"$f":"IF(OFFSET(DE104_3!$V$34,ROWS($V$34:V41)-1,COLUMNS($V$34:V41)-1)<>\"\",OFFSET(DE104_3!$V$34,ROWS($V$34:V41)-1,COLUMNS($V$34:V41)-1),\"\")","v":""},{"$f":"IF(OFFSET(DE104_3!$W$34,ROWS($W$34:W41)-1,COLUMNS($W$34:W41)-1)<>\"\",OFFSET(DE104_3!$W$34,ROWS($W$34:W41)-1,COLUMNS($W$34:W41)-1),\"\")","v":""},{"$f":"IF(OFFSET(DE104_3!$X$34,ROWS($X$34:X41)-1,COLUMNS($X$34:X41)-1)<>\"\",OFFSET(DE104_3!$X$34,ROWS($X$34:X41)-1,COLUMNS($X$34:X41)-1),\"\")","v":889.2},{"$f":"IF(OFFSET(DE104_3!$Y$34,ROWS($Y$34:Y41)-1,COLUMNS($Y$34:Y41)-1)<>\"\",OFFSET(DE104_3!$Y$34,ROWS($Y$34:Y41)-1,COLUMNS($Y$34:Y41)-1),\"\")","v":876.8},{"$f":"IF(OFFSET(DE104_3!$Z$34,ROWS($Z$34:Z41)-1,COLUMNS($Z$34:Z41)-1)<>\"\",OFFSET(DE104_3!$Z$34,ROWS($Z$34:Z41)-1,COLUMNS($Z$34:Z41)-1),\"\")","v":887.18},{"$f":"IF(OFFSET(DE104_3!$AA$34,ROWS($AA$34:AA41)-1,COLUMNS($AA$34:AA41)-1)<>\"\",OFFSET(DE104_3!$AA$34,ROWS($AA$34:AA41)-1,COLUMNS($AA$34:AA41)-1),\"\")","v":""},{"$f":"IF(OFFSET(DE104_3!$AB$34,ROWS($AB$34:AB41)-1,COLUMNS($AB$34:AB41)-1)<>\"\",OFFSET(DE104_3!$AB$34,ROWS($AB$34:AB41)-1,COLUMNS($AB$34:AB41)-1),\"\")","v":36.93},{"$f":"IF(OFFSET(DE104_3!$AC$34,ROWS($AC$34:AC41)-1,COLUMNS($AC$34:AC41)-1)<>\"\",OFFSET(DE104_3!$AC$34,ROWS($AC$34:AC41)-1,COLUMNS($AC$34:AC41)-1),\"\")","v":97.46},{"$f":"IF(OFFSET(DE104_3!$AD$34,ROWS($AD$34:AD41)-1,COLUMNS($AD$34:AD41)-1)<>\"\",OFFSET(DE104_3!$AD$34,ROWS($AD$34:AD41)-1,COLUMNS($AD$34:AD41)-1),\"\")","v":""},{"$f":"IF(OFFSET(DE104_3!$AE$34,ROWS($AE$34:AE41)-1,COLUMNS($AE$34:AE41)-1)<>\"\",OFFSET(DE104_3!$AE$34,ROWS($AE$34:AE41)-1,COLUMNS($AE$34:AE41)-1),\"\")","v":""},{"$f":"IF(OFFSET(DE104_3!$AF$34,ROWS($AF$34:AF41)-1,COLUMNS($AF$34:AF41)-1)<>\"\",OFFSET(DE104_3!$AF$34,ROWS($AF$34:AF41)-1,COLUMNS($AF$34:AF41)-1),\"\")","v":""},{"$f":"IF(OFFSET(DE104_3!$AG$34,ROWS($AG$34:AG41)-1,COLUMNS($AG$34:AG41)-1)<>\"\",OFFSET(DE104_3!$AG$34,ROWS($AG$34:AG41)-1,COLUMNS($AG$34:AG41)-1),\"\")","v":""},{"$f":"IF(OFFSET(DE104_3!$AH$34,ROWS($AH$34:AH41)-1,COLUMNS($AH$34:AH41)-1)<>\"\",OFFSET(DE104_3!$AH$34,ROWS($AH$34:AH41)-1,COLUMNS($AH$34:AH41)-1),\"\")","v":""},{"$f":"IF(OFFSET(DE104_3!$AI$34,ROWS($AI$34:AI41)-1,COLUMNS($AI$34:AI41)-1)<>\"\",OFFSET(DE104_3!$AI$34,ROWS($AI$34:AI41)-1,COLUMNS($AI$34:AI41)-1),\"\")","v":""},{"$f":"IF(OFFSET(DE104_3!$AJ$34,ROWS($AJ$34:AJ41)-1,COLUMNS($AJ$34:AJ41)-1)<>\"\",OFFSET(DE104_3!$AJ$34,ROWS($AJ$34:AJ41)-1,COLUMNS($AJ$34:AJ41)-1),\"\")","v":""},{"$f":"IF(OFFSET(DE104_3!$AK$34,ROWS($AK$34:AK41)-1,COLUMNS($AK$34:AK41)-1)<>\"\",OFFSET(DE104_3!$AK$34,ROWS($AK$34:AK41)-1,COLUMNS($AK$34:AK41)-1),\"\")","v":""},{"$f":"IF(OFFSET(DE104_3!$AL$34,ROWS($AL$34:AL41)-1,COLUMNS($AL$34:AL41)-1)<>\"\",OFFSET(DE104_3!$AL$34,ROWS($AL$34:AL41)-1,COLUMNS($AL$34:AL41)-1),\"\")","v":39.861000000000004},{"$f":"IF(OFFSET(DE104_3!$AM$34,ROWS($AM$34:AM41)-1,COLUMNS($AM$34:AM41)-1)<>\"\",OFFSET(DE104_3!$AM$34,ROWS($AM$34:AM41)-1,COLUMNS($AM$34:AM41)-1),\"\")","v":""},{"$f":"IF(OFFSET(DE104_3!$AN$34,ROWS($AN$34:AN41)-1,COLUMNS($AN$34:AN41)-1)<>\"\",OFFSET(DE104_3!$AN$34,ROWS($AN$34:AN41)-1,COLUMNS($AN$34:AN41)-1),\"\")","v":""},{"$f":"IF(OFFSET(DE104_3!$AO$34,ROWS($AO$34:AO41)-1,COLUMNS($AO$34:AO41)-1)<>\"\",OFFSET(DE104_3!$AO$34,ROWS($AO$34:AO41)-1,COLUMNS($AO$34:AO41)-1),\"\")","v":4.8639407407407411},{"$f":"IF(OFFSET(DE104_3!$AP$34,ROWS($AP$34:AP41)-1,COLUMNS($AP$34:AP41)-1)<>\"\",OFFSET(DE104_3!$AP$34,ROWS($AP$34:AP41)-1,COLUMNS($AP$34:AP41)-1),\"\")","v":4.8639407407407411},{"$f":"IF(OFFSET(DE104_3!$AQ$34,ROWS($AQ$34:AQ41)-1,COLUMNS($AQ$34:AQ41)-1)<>\"\",OFFSET(DE104_3!$AQ$34,ROWS($AQ$34:AQ41)-1,COLUMNS($AQ$34:AQ41)-1),\"\")","v":""}]
[{"$f":"IF(OFFSET(DE104_3!$C$34,ROWS($C$34:C42)-1,COLUMNS($C$34:C42)-1)<>\"\",OFFSET(DE104_3!$C$34,ROWS($C$34:C42)-1,COLUMNS($C$34:C42)-1),\"\")","v":227},{"$f":"IF(OFFSET(DE104_3!$D$34,ROWS($D$34:D42)-1,COLUMNS($D$34:D42)-1)<>\"\",OFFSET(DE104_3!$D$34,ROWS($D$34:D42)-1,COLUMNS($D$34:D42)-1),\"\")","v":142550},{"$f":"IF(OFFSET(DE104_3!$E$34,ROWS($E$34:E42)-1,COLUMNS($E$34:E42)-1)<>\"\",OFFSET(DE104_3!$E$34,ROWS($E$34:E42)-1,COLUMNS($E$34:E42)-1),\"\")","v":"DR-601"},{"$f":"IF(OFFSET(DE104_3!$F$34,ROWS($F$34:F42)-1,COLUMNS($F$34:F42)-1)<>\"\",OFFSET(DE104_3!$F$34,ROWS($F$34:F42)-1,COLUMNS($F$34:F42)-1),\"\")","v":72},{"$f":"IF(OFFSET(DE104_3!$G$34,ROWS($G$34:G42)-1,COLUMNS($G$34:G42)-1)<>\"\",OFFSET(DE104_3!$G$34,ROWS($G$34:G42)-1,COLUMNS($G$34:G42)-1),\"\")","v":2000},{"$f":"IF(OFFSET(DE104_3!$H$34,ROWS($H$34:H42)-1,COLUMNS($H$34:H42)-1)<>\"\",OFFSET(DE104_3!$H$34,ROWS($H$34:H42)-1,COLUMNS($H$34:H42)-1),\"\")","v":"RCP"},{"$f":"IF(OFFSET(DE104_3!$I$34,ROWS($I$34:I42)-1,COLUMNS($I$34:I42)-1)<>\"\",OFFSET(DE104_3!$I$34,ROWS($I$34:I42)-1,COLUMNS($I$34:I42)-1),\"\")","v":152},{"$f":"IF(OFFSET(DE104_3!$J$34,ROWS($J$34:J42)-1,COLUMNS($J$34:J42)-1)<>\"\",OFFSET(DE104_3!$J$34,ROWS($J$34:J42)-1,COLUMNS($J$34:J42)-1),\"\")","v":"B"},{"$f":"IF(OFFSET(DE104_3!$K$34,ROWS($K$34:K42)-1,COLUMNS($K$34:K42)-1)<>\"\",OFFSET(DE104_3!$K$34,ROWS($K$34:K42)-1,COLUMNS($K$34:K42)-1),\"\")","v":11.7},{"$f":"IF(OFFSET(DE104_3!$L$34,ROWS($L$34:L42)-1,COLUMNS($L$34:L42)-1)<>\"\",OFFSET(DE104_3!$L$34,ROWS($L$34:L42)-1,COLUMNS($L$34:L42)-1),\"\")","v":""},{"$f":"IF(OFFSET(DE104_3!$M$34,ROWS($M$34:M42)-1,COLUMNS($M$34:M42)-1)<>\"\",OFFSET(DE104_3!$M$34,ROWS($M$34:M42)-1,COLUMNS($M$34:M42)-1),\"\")","v":""},{"$f":"IF(OFFSET(DE104_3!$N$34,ROWS($N$34:N42)-1,COLUMNS($N$34:N42)-1)<>\"\",OFFSET(DE104_3!$N$34,ROWS($N$34:N42)-1,COLUMNS($N$34:N42)-1),\"\")","v":1},{"$f":"IF(OFFSET(DE104_3!$O$34,ROWS($O$34:O42)-1,COLUMNS($O$34:O42)-1)<>\"\",OFFSET(DE104_3!$O$34,ROWS($O$34:O42)-1,COLUMNS($O$34:O42)-1),\"\")","v":""},{"$f":"IF(OFFSET(DE104_3!$P$34,ROWS($P$34:P42)-1,COLUMNS($P$34:P42)-1)<>\"\",OFFSET(DE104_3!$P$34,ROWS($P$34:P42)-1,COLUMNS($P$34:P42)-1),\"\")","v":""},{"$f":"IF(OFFSET(DE104_3!$Q$34,ROWS($Q$34:Q42)-1,COLUMNS($Q$34:Q42)-1)<>\"\",OFFSET(DE104_3!$Q$34,ROWS($Q$34:Q42)-1,COLUMNS($Q$34:Q42)-1),\"\")","v":""},{"$f":"IF(OFFSET(DE104_3!$R$34,ROWS($R$34:R42)-1,COLUMNS($R$34:R42)-1)<>\"\",OFFSET(DE104_3!$R$34,ROWS($R$34:R42)-1,COLUMNS($R$34:R42)-1),\"\")","v":""},{"$f":"IF(OFFSET(DE104_3!$S$34,ROWS($S$34:S42)-1,COLUMNS($S$34:S42)-1)<>\"\",OFFSET(DE104_3!$S$34,ROWS($S$34:S42)-1,COLUMNS($S$34:S42)-1),\"\")","v":""},{"$f":"IF(OFFSET(DE104_3!$T$34,ROWS($T$34:T42)-1,COLUMNS($T$34:T42)-1)<>\"\",OFFSET(DE104_3!$T$34,ROWS($T$34:T42)-1,COLUMNS($T$34:T42)-1),\"\")","v":""},{"$f":"IF(OFFSET(DE104_3!$U$34,ROWS($U$34:U42)-1,COLUMNS($U$34:U42)-1)<>\"\",OFFSET(DE104_3!$U$34,ROWS($U$34:U42)-1,COLUMNS($U$34:U42)-1),\"\")","v":""},{"$f":"IF(OFFSET(DE104_3!$V$34,ROWS($V$34:V42)-1,COLUMNS($V$34:V42)-1)<>\"\",OFFSET(DE104_3!$V$34,ROWS($V$34:V42)-1,COLUMNS($V$34:V42)-1),\"\")","v":"Type 3"},{"$f":"IF(OFFSET(DE104_3!$W$34,ROWS($W$34:W42)-1,COLUMNS($W$34:W42)-1)<>\"\",OFFSET(DE104_3!$W$34,ROWS($W$34:W42)-1,COLUMNS($W$34:W42)-1),\"\")","v":""},{"$f":"IF(OFFSET(DE104_3!$X$34,ROWS($X$34:X42)-1,COLUMNS($X$34:X42)-1)<>\"\",OFFSET(DE104_3!$X$34,ROWS($X$34:X42)-1,COLUMNS($X$34:X42)-1),\"\")","v":""},{"$f":"IF(OFFSET(DE104_3!$Y$34,ROWS($Y$34:Y42)-1,COLUMNS($Y$34:Y42)-1)<>\"\",OFFSET(DE104_3!$Y$34,ROWS($Y$34:Y42)-1,COLUMNS($Y$34:Y42)-1),\"\")","v":""},{"$f":"IF(OFFSET(DE104_3!$Z$34,ROWS($Z$34:Z42)-1,COLUMNS($Z$34:Z42)-1)<>\"\",OFFSET(DE104_3!$Z$34,ROWS($Z$34:Z42)-1,COLUMNS($Z$34:Z42)-1),\"\")","v":""},{"$f":"IF(OFFSET(DE104_3!$AA$34,ROWS($AA$34:AA42)-1,COLUMNS($AA$34:AA42)-1)<>\"\",OFFSET(DE104_3!$AA$34,ROWS($AA$34:AA42)-1,COLUMNS($AA$34:AA42)-1),\"\")","v":""},{"$f":"IF(OFFSET(DE104_3!$AB$34,ROWS($AB$34:AB42)-1,COLUMNS($AB$34:AB42)-1)<>\"\",OFFSET(DE104_3!$AB$34,ROWS($AB$34:AB42)-1,COLUMNS($AB$34:AB42)-1),\"\")","v":""},{"$f":"IF(OFFSET(DE104_3!$AC$34,ROWS($AC$34:AC42)-1,COLUMNS($AC$34:AC42)-1)<>\"\",OFFSET(DE104_3!$AC$34,ROWS($AC$34:AC42)-1,COLUMNS($AC$34:AC42)-1),\"\")","v":""},{"$f":"IF(OFFSET(DE104_3!$AD$34,ROWS($AD$34:AD42)-1,COLUMNS($AD$34:AD42)-1)<>\"\",OFFSET(DE104_3!$AD$34,ROWS($AD$34:AD42)-1,COLUMNS($AD$34:AD42)-1),\"\")","v":""},{"$f":"IF(OFFSET(DE104_3!$AE$34,ROWS($AE$34:AE42)-1,COLUMNS($AE$34:AE42)-1)<>\"\",OFFSET(DE104_3!$AE$34,ROWS($AE$34:AE42)-1,COLUMNS($AE$34:AE42)-1),\"\")","v":""},{"$f":"IF(OFFSET(DE104_3!$AF$34,ROWS($AF$34:AF42)-1,COLUMNS($AF$34:AF42)-1)<>\"\",OFFSET(DE104_3!$AF$34,ROWS($AF$34:AF42)-1,COLUMNS($AF$34:AF42)-1),\"\")","v":""},{"$f":"IF(OFFSET(DE104_3!$AG$34,ROWS($AG$34:AG42)-1,COLUMNS($AG$34:AG42)-1)<>\"\",OFFSET(DE104_3!$AG$34,ROWS($AG$34:AG42)-1,COLUMNS($AG$34:AG42)-1),\"\")","v":""},{"$f":"IF(OFFSET(DE104_3!$AH$34,ROWS($AH$34:AH42)-1,COLUMNS($AH$34:AH42)-1)<>\"\",OFFSET(DE104_3!$AH$34,ROWS($AH$34:AH42)-1,COLUMNS($AH$34:AH42)-1),\"\")","v":""},{"$f":"IF(OFFSET(DE104_3!$AI$34,ROWS($AI$34:AI42)-1,COLUMNS($AI$34:AI42)-1)<>\"\",OFFSET(DE104_3!$AI$34,ROWS($AI$34:AI42)-1,COLUMNS($AI$34:AI42)-1),\"\")","v":""},{"$f":"IF(OFFSET(DE104_3!$AJ$34,ROWS($AJ$34:AJ42)-1,COLUMNS($AJ$34:AJ42)-1)<>\"\",OFFSET(DE104_3!$AJ$34,ROWS($AJ$34:AJ42)-1,COLUMNS($AJ$34:AJ42)-1),\"\")","v":""},{"$f":"IF(OFFSET(DE104_3!$AK$34,ROWS($AK$34:AK42)-1,COLUMNS($AK$34:AK42)-1)<>\"\",OFFSET(DE104_3!$AK$34,ROWS($AK$34:AK42)-1,COLUMNS($AK$34:AK42)-1),\"\")","v":""},{"$f":"IF(OFFSET(DE104_3!$AL$34,ROWS($AL$34:AL42)-1,COLUMNS($AL$34:AL42)-1)<>\"\",OFFSET(DE104_3!$AL$34,ROWS($AL$34:AL42)-1,COLUMNS($AL$34:AL42)-1),\"\")","v":353.97444444444443},{"$f":"IF(OFFSET(DE104_3!$AM$34,ROWS($AM$34:AM42)-1,COLUMNS($AM$34:AM42)-1)<>\"\",OFFSET(DE104_3!$AM$34,ROWS($AM$34:AM42)-1,COLUMNS($AM$34:AM42)-1),\"\")","v":""},{"$f":"IF(OFFSET(DE104_3!$AN$34,ROWS($AN$34:AN42)-1,COLUMNS($AN$34:AN42)-1)<>\"\",OFFSET(DE104_3!$AN$34,ROWS($AN$34:AN42)-1,COLUMNS($AN$34:AN42)-1),\"\")","v":426.40592592592589},{"$f":"IF(OFFSET(DE104_3!$AO$34,ROWS($AO$34:AO42)-1,COLUMNS($AO$34:AO42)-1)<>\"\",OFFSET(DE104_3!$AO$34,ROWS($AO$34:AO42)-1,COLUMNS($AO$34:AO42)-1),\"\")","v":20.162222222222223},{"$f":"IF(OFFSET(DE104_3!$AP$34,ROWS($AP$34:AP42)-1,COLUMNS($AP$34:AP42)-1)<>\"\",OFFSET(DE104_3!$AP$34,ROWS($AP$34:AP42)-1,COLUMNS($AP$34:AP42)-1),\"\")","v":446.56814814814811},{"$f":"IF(OFFSET(DE104_3!$AQ$34,ROWS($AQ$34:AQ42)-1,COLUMNS($AQ$34:AQ42)-1)<>\"\",OFFSET(DE104_3!$AQ$34,ROWS($AQ$34:AQ42)-1,COLUMNS($AQ$34:AQ42)-1),\"\")","v":""}]
[{"$f":"IF(OFFSET(DE104_3!$C$34,ROWS($C$34:C43)-1,COLUMNS($C$34:C43)-1)<>\"\",OFFSET(DE104_3!$C$34,ROWS($C$34:C43)-1,COLUMNS($C$34:C43)-1),\"\")","v":25},{"$f":"IF(OFFSET(DE104_3!$D$34,ROWS($D$34:D43)-1,COLUMNS($D$34:D43)-1)<>\"\",OFFSET(DE104_3!$D$34,ROWS($D$34:D43)-1,COLUMNS($D$34:D43)-1),\"\")","v":145400},{"$f":"IF(OFFSET(DE104_3!$E$34,ROWS($E$34:E43)-1,COLUMNS($E$34:E43)-1)<>\"\",OFFSET(DE104_3!$E$34,ROWS($E$34:E43)-1,COLUMNS($E$34:E43)-1),\"\")","v":"DR-601"},{"$f":"IF(OFFSET(DE104_3!$F$34,ROWS($F$34:F43)-1,COLUMNS($F$34:F43)-1)<>\"\",OFFSET(DE104_3!$F$34,ROWS($F$34:F43)-1,COLUMNS($F$34:F43)-1),\"\")","v":36},{"$f":"IF(OFFSET(DE104_3!$G$34,ROWS($G$34:G43)-1,COLUMNS($G$34:G43)-1)<>\"\",OFFSET(DE104_3!$G$34,ROWS($G$34:G43)-1,COLUMNS($G$34:G43)-1),\"\")","v":2000},{"$f":"IF(OFFSET(DE104_3!$H$34,ROWS($H$34:H43)-1,COLUMNS($H$34:H43)-1)<>\"\",OFFSET(DE104_3!$H$34,ROWS($H$34:H43)-1,COLUMNS($H$34:H43)-1),\"\")","v":"RCP"},{"$f":"IF(OFFSET(DE104_3!$I$34,ROWS($I$34:I43)-1,COLUMNS($I$34:I43)-1)<>\"\",OFFSET(DE104_3!$I$34,ROWS($I$34:I43)-1,COLUMNS($I$34:I43)-1),\"\")","v":142},{"$f":"IF(OFFSET(DE104_3!$J$34,ROWS($J$34:J43)-1,COLUMNS($J$34:J43)-1)<>\"\",OFFSET(DE104_3!$J$34,ROWS($J$34:J43)-1,COLUMNS($J$34:J43)-1),\"\")","v":"B"},{"$f":"IF(OFFSET(DE104_3!$K$34,ROWS($K$34:K43)-1,COLUMNS($K$34:K43)-1)<>\"\",OFFSET(DE104_3!$K$34,ROWS($K$34:K43)-1,COLUMNS($K$34:K43)-1),\"\")","v":11},{"$f":"IF(OFFSET(DE104_3!$L$34,ROWS($L$34:L43)-1,COLUMNS($L$34:L43)-1)<>\"\",OFFSET(DE104_3!$L$34,ROWS($L$34:L43)-1,COLUMNS($L$34:L43)-1),\"\")","v":""},{"$f":"IF(OFFSET(DE104_3!$M$34,ROWS($M$34:M43)-1,COLUMNS($M$34:M43)-1)<>\"\",OFFSET(DE104_3!$M$34,ROWS($M$34:M43)-1,COLUMNS($M$34:M43)-1),\"\")","v":""},{"$f":"IF(OFFSET(DE104_3!$N$34,ROWS($N$34:N43)-1,COLUMNS($N$34:N43)-1)<>\"\",OFFSET(DE104_3!$N$34,ROWS($N$34:N43)-1,COLUMNS($N$34:N43)-1),\"\")","v":1},{"$f":"IF(OFFSET(DE104_3!$O$34,ROWS($O$34:O43)-1,COLUMNS($O$34:O43)-1)<>\"\",OFFSET(DE104_3!$O$34,ROWS($O$34:O43)-1,COLUMNS($O$34:O43)-1),\"\")","v":""},{"$f":"IF(OFFSET(DE104_3!$P$34,ROWS($P$34:P43)-1,COLUMNS($P$34:P43)-1)<>\"\",OFFSET(DE104_3!$P$34,ROWS($P$34:P43)-1,COLUMNS($P$34:P43)-1),\"\")","v":""},{"$f":"IF(OFFSET(DE104_3!$Q$34,ROWS($Q$34:Q43)-1,COLUMNS($Q$34:Q43)-1)<>\"\",OFFSET(DE104_3!$Q$34,ROWS($Q$34:Q43)-1,COLUMNS($Q$34:Q43)-1),\"\")","v":""},{"$f":"IF(OFFSET(DE104_3!$R$34,ROWS($R$34:R43)-1,COLUMNS($R$34:R43)-1)<>\"\",OFFSET(DE104_3!$R$34,ROWS($R$34:R43)-1,COLUMNS($R$34:R43)-1),\"\")","v":""},{"$f":"IF(OFFSET(DE104_3!$S$34,ROWS($S$34:S43)-1,COLUMNS($S$34:S43)-1)<>\"\",OFFSET(DE104_3!$S$34,ROWS($S$34:S43)-1,COLUMNS($S$34:S43)-1),\"\")","v":""},{"$f":"IF(OFFSET(DE104_3!$T$34,ROWS($T$34:T43)-1,COLUMNS($T$34:T43)-1)<>\"\",OFFSET(DE104_3!$T$34,ROWS($T$34:T43)-1,COLUMNS($T$34:T43)-1),\"\")","v":""},{"$f":"IF(OFFSET(DE104_3!$U$34,ROWS($U$34:U43)-1,COLUMNS($U$34:U43)-1)<>\"\",OFFSET(DE104_3!$U$34,ROWS($U$34:U43)-1,COLUMNS($U$34:U43)-1),\"\")","v":""},{"$f":"IF(OFFSET(DE104_3!$V$34,ROWS($V$34:V43)-1,COLUMNS($V$34:V43)-1)<>\"\",OFFSET(DE104_3!$V$34,ROWS($V$34:V43)-1,COLUMNS($V$34:V43)-1),\"\")","v":"Type 3"},{"$f":"IF(OFFSET(DE104_3!$W$34,ROWS($W$34:W43)-1,COLUMNS($W$34:W43)-1)<>\"\",OFFSET(DE104_3!$W$34,ROWS($W$34:W43)-1,COLUMNS($W$34:W43)-1),\"\")","v":""},{"$f":"IF(OFFSET(DE104_3!$X$34,ROWS($X$34:X43)-1,COLUMNS($X$34:X43)-1)<>\"\",OFFSET(DE104_3!$X$34,ROWS($X$34:X43)-1,COLUMNS($X$34:X43)-1),\"\")","v":900.74},{"$f":"IF(OFFSET(DE104_3!$Y$34,ROWS($Y$34:Y43)-1,COLUMNS($Y$34:Y43)-1)<>\"\",OFFSET(DE104_3!$Y$34,ROWS($Y$34:Y43)-1,COLUMNS($Y$34:Y43)-1),\"\")","v":898.4},{"$f":"IF(OFFSET(DE104_3!$Z$34,ROWS($Z$34:Z43)-1,COLUMNS($Z$34:Z43)-1)<>\"\",OFFSET(DE104_3!$Z$34,ROWS($Z$34:Z43)-1,COLUMNS($Z$34:Z43)-1),\"\")","v":""},{"$f":"IF(OFFSET(DE104_3!$AA$34,ROWS($AA$34:AA43)-1,COLUMNS($AA$34:AA43)-1)<>\"\",OFFSET(DE104_3!$AA$34,ROWS($AA$34:AA43)-1,COLUMNS($AA$34:AA43)-1),\"\")","v":""},{"$f":"IF(OFFSET(DE104_3!$AB$34,ROWS($AB$34:AB43)-1,COLUMNS($AB$34:AB43)-1)<>\"\",OFFSET(DE104_3!$AB$34,ROWS($AB$34:AB43)-1,COLUMNS($AB$34:AB43)-1),\"\")","v":21.28},{"$f":"IF(OFFSET(DE104_3!$AC$34,ROWS($AC$34:AC43)-1,COLUMNS($AC$34:AC43)-1)<>\"\",OFFSET(DE104_3!$AC$34,ROWS($AC$34:AC43)-1,COLUMNS($AC$34:AC43)-1),\"\")","v":128.71},{"$f":"IF(OFFSET(DE104_3!$AD$34,ROWS($AD$34:AD43)-1,COLUMNS($AD$34:AD43)-1)<>\"\",OFFSET(DE104_3!$AD$34,ROWS($AD$34:AD43)-1,COLUMNS($AD$34:AD43)-1),\"\")","v":""},{"$f":"IF(OFFSET(DE104_3!$AE$34,ROWS($AE$34:AE43)-1,COLUMNS($AE$34:AE43)-1)<>\"\",OFFSET(DE104_3!$AE$34,ROWS($AE$34:AE43)-1,COLUMNS($AE$34:AE43)-1),\"\")","v":""},{"$f":"IF(OFFSET(DE104_3!$AF$34,ROWS($AF$34:AF43)-1,COLUMNS($AF$34:AF43)-1)<>\"\",OFFSET(DE104_3!$AF$34,ROWS($AF$34:AF43)-1,COLUMNS($AF$34:AF43)-1),\"\")","v":""},{"$f":"IF(OFFSET(DE104_3!$AG$34,ROWS($AG$34:AG43)-1,COLUMNS($AG$34:AG43)-1)<>\"\",OFFSET(DE104_3!$AG$34,ROWS($AG$34:AG43)-1,COLUMNS($AG$34:AG43)-1),\"\")","v":""},{"$f":"IF(OFFSET(DE104_3!$AH$34,ROWS($AH$34:AH43)-1,COLUMNS($AH$34:AH43)-1)<>\"\",OFFSET(DE104_3!$AH$34,ROWS($AH$34:AH43)-1,COLUMNS($AH$34:AH43)-1),\"\")","v":""},{"$f":"IF(OFFSET(DE104_3!$AI$34,ROWS($AI$34:AI43)-1,COLUMNS($AI$34:AI43)-1)<>\"\",OFFSET(DE104_3!$AI$34,ROWS($AI$34:AI43)-1,COLUMNS($AI$34:AI43)-1),\"\")","v":""},{"$f":"IF(OFFSET(DE104_3!$AJ$34,ROWS($AJ$34:AJ43)-1,COLUMNS($AJ$34:AJ43)-1)<>\"\",OFFSET(DE104_3!$AJ$34,ROWS($AJ$34:AJ43)-1,COLUMNS($AJ$34:AJ43)-1),\"\")","v":""},{"$f":"IF(OFFSET(DE104_3!$AK$34,ROWS($AK$34:AK43)-1,COLUMNS($AK$34:AK43)-1)<>\"\",OFFSET(DE104_3!$AK$34,ROWS($AK$34:AK43)-1,COLUMNS($AK$34:AK43)-1),\"\")","v":""},{"$f":"IF(OFFSET(DE104_3!$AL$34,ROWS($AL$34:AL43)-1,COLUMNS($AL$34:AL43)-1)<>\"\",OFFSET(DE104_3!$AL$34,ROWS($AL$34:AL43)-1,COLUMNS($AL$34:AL43)-1),\"\")","v":138.66666666666666},{"$f":"IF(OFFSET(DE104_3!$AM$34,ROWS($AM$34:AM43)-1,COLUMNS($AM$34:AM43)-1)<>\"\",OFFSET(DE104_3!$AM$34,ROWS($AM$34:AM43)-1,COLUMNS($AM$34:AM43)-1),\"\")","v":""},{"$f":"IF(OFFSET(DE104_3!$AN$34,ROWS($AN$34:AN43)-1,COLUMNS($AN$34:AN43)-1)<>\"\",OFFSET(DE104_3!$AN$34,ROWS($AN$34:AN43)-1,COLUMNS($AN$34:AN43)-1),\"\")","v":243.93481481481481},{"$f":"IF(OFFSET(DE104_3!$AO$34,ROWS($AO$34:AO43)-1,COLUMNS($AO$34:AO43)-1)<>\"\",OFFSET(DE104_3!$AO$34,ROWS($AO$34:AO43)-1,COLUMNS($AO$34:AO43)-1),\"\")","v":13.374814814814815},{"$f":"IF(OFFSET(DE104_3!$AP$34,ROWS($AP$34:AP43)-1,COLUMNS($AP$34:AP43)-1)<>\"\",OFFSET(DE104_3!$AP$34,ROWS($AP$34:AP43)-1,COLUMNS($AP$34:AP43)-1),\"\")","v":257.30962962962963},{"$f":"IF(OFFSET(DE104_3!$AQ$34,ROWS($AQ$34:AQ43)-1,COLUMNS($AQ$34:AQ43)-1)<>\"\",OFFSET(DE104_3!$AQ$34,ROWS($AQ$34:AQ43)-1,COLUMNS($AQ$34:AQ43)-1),\"\")","v":""}]
[{"$f":"IF(OFFSET(DE104_3!$C$34,ROWS($C$34:C44)-1,COLUMNS($C$34:C44)-1)<>\"\",OFFSET(DE104_3!$C$34,ROWS($C$34:C44)-1,COLUMNS($C$34:C44)-1),\"\")","v":48},{"$f":"IF(OFFSET(DE104_3!$D$34,ROWS($D$34:D44)-1,COLUMNS($D$34:D44)-1)<>\"\",OFFSET(DE104_3!$D$34,ROWS($D$34:D44)-1,COLUMNS($D$34:D44)-1),\"\")","v":146075},{"$f":"IF(OFFSET(DE104_3!$E$34,ROWS($E$34:E44)-1,COLUMNS($E$34:E44)-1)<>\"\",OFFSET(DE104_3!$E$34,ROWS($E$34:E44)-1,COLUMNS($E$34:E44)-1),\"\")","v":"JACK"},{"$f":"IF(OFFSET(DE104_3!$F$34,ROWS($F$34:F44)-1,COLUMNS($F$34:F44)-1)<>\"\",OFFSET(DE104_3!$F$34,ROWS($F$34:F44)-1,COLUMNS($F$34:F44)-1),\"\")","v":42},{"$f":"IF(OFFSET(DE104_3!$G$34,ROWS($G$34:G44)-1,COLUMNS($G$34:G44)-1)<>\"\",OFFSET(DE104_3!$G$34,ROWS($G$34:G44)-1,COLUMNS($G$34:G44)-1),\"\")","v":2000},{"$f":"IF(OFFSET(DE104_3!$H$34,ROWS($H$34:H44)-1,COLUMNS($H$34:H44)-1)<>\"\",OFFSET(DE104_3!$H$34,ROWS($H$34:H44)-1,COLUMNS($H$34:H44)-1),\"\")","v":"RCP"},{"$f":"IF(OFFSET(DE104_3!$I$34,ROWS($I$34:I44)-1,COLUMNS($I$34:I44)-1)<>\"\",OFFSET(DE104_3!$I$34,ROWS($I$34:I44)-1,COLUMNS($I$34:I44)-1),\"\")","v":108},{"$f":"IF(OFFSET(DE104_3!$J$34,ROWS($J$34:J44)-1,COLUMNS($J$34:J44)-1)<>\"\",OFFSET(DE104_3!$J$34,ROWS($J$34:J44)-1,COLUMNS($J$34:J44)-1),\"\")","v":""},{"$f":"IF(OFFSET(DE104_3!$K$34,ROWS($K$34:K44)-1,COLUMNS($K$34:K44)-1)<>\"\",OFFSET(DE104_3!$K$34,ROWS($K$34:K44)-1,COLUMNS($K$34:K44)-1),\"\")","v":""},{"$f":"IF(OFFSET(DE104_3!$L$34,ROWS($L$34:L44)-1,COLUMNS($L$34:L44)-1)<>\"\",OFFSET(DE104_3!$L$34,ROWS($L$34:L44)-1,COLUMNS($L$34:L44)-1),\"\")","v":""},{"$f":"IF(OFFSET(DE104_3!$M$34,ROWS($M$34:M44)-1,COLUMNS($M$34:M44)-1)<>\"\",OFFSET(DE104_3!$M$34,ROWS($M$34:M44)-1,COLUMNS($M$34:M44)-1),\"\")","v":1},{"$f":"IF(OFFSET(DE104_3!$N$34,ROWS($N$34:N44)-1,COLUMNS($N$34:N44)-1)<>\"\",OFFSET(DE104_3!$N$34,ROWS($N$34:N44)-1,COLUMNS($N$34:N44)-1),\"\")","v":""},{"$f":"IF(OFFSET(DE104_3!$O$34,ROWS($O$34:O44)-1,COLUMNS($O$34:O44)-1)<>\"\",OFFSET(DE104_3!$O$34,ROWS($O$34:O44)-1,COLUMNS($O$34:O44)-1),\"\")","v":""},{"$f":"IF(OFFSET(DE104_3!$P$34,ROWS($P$34:P44)-1,COLUMNS($P$34:P44)-1)<>\"\",OFFSET(DE104_3!$P$34,ROWS($P$34:P44)-1,COLUMNS($P$34:P44)-1),\"\")","v":""},{"$f":"IF(OFFSET(DE104_3!$Q$34,ROWS($Q$34:Q44)-1,COLUMNS($Q$34:Q44)-1)<>\"\",OFFSET(DE104_3!$Q$34,ROWS($Q$34:Q44)-1,COLUMNS($Q$34:Q44)-1),\"\")","v":""},{"$f":"IF(OFFSET(DE104_3!$R$34,ROWS($R$34:R44)-1,COLUMNS($R$34:R44)-1)<>\"\",OFFSET(DE104_3!$R$34,ROWS($R$34:R44)-1,COLUMNS($R$34:R44)-1),\"\")","v":""},{"$f":"IF(OFFSET(DE104_3!$S$34,ROWS($S$34:S44)-1,COLUMNS($S$34:S44)-1)<>\"\",OFFSET(DE104_3!$S$34,ROWS($S$34:S44)-1,COLUMNS($S$34:S44)-1),\"\")","v":""},{"$f":"IF(OFFSET(DE104_3!$T$34,ROWS($T$34:T44)-1,COLUMNS($T$34:T44)-1)<>\"\",OFFSET(DE104_3!$T$34,ROWS($T$34:T44)-1,COLUMNS($T$34:T44)-1),\"\")","v":""},{"$f":"IF(OFFSET(DE104_3!$U$34,ROWS($U$34:U44)-1,COLUMNS($U$34:U44)-1)<>\"\",OFFSET(DE104_3!$U$34,ROWS($U$34:U44)-1,COLUMNS($U$34:U44)-1),\"\")","v":""},{"$f":"IF(OFFSET(DE104_3!$V$34,ROWS($V$34:V44)-1,COLUMNS($V$34:V44)-1)<>\"\",OFFSET(DE104_3!$V$34,ROWS($V$34:V44)-1,COLUMNS($V$34:V44)-1),\"\")","v":"Type 3"},{"$f":"IF(OFFSET(DE104_3!$W$34,ROWS($W$34:W44)-1,COLUMNS($W$34:W44)-1)<>\"\",OFFSET(DE104_3!$W$34,ROWS($W$34:W44)-1,COLUMNS($W$34:W44)-1),\"\")","v":""},{"$f":"IF(OFFSET(DE104_3!$X$34,ROWS($X$34:X44)-1,COLUMNS($X$34:X44)-1)<>\"\",OFFSET(DE104_3!$X$34,ROWS($X$34:X44)-1,COLUMNS($X$34:X44)-1),\"\")","v":904.9},{"$f":"IF(OFFSET(DE104_3!$Y$34,ROWS($Y$34:Y44)-1,COLUMNS($Y$34:Y44)-1)<>\"\",OFFSET(DE104_3!$Y$34,ROWS($Y$34:Y44)-1,COLUMNS($Y$34:Y44)-1),\"\")","v":902.17},{"$f":"IF(OFFSET(DE104_3!$Z$34,ROWS($Z$34:Z44)-1,COLUMNS($Z$34:Z44)-1)<>\"\",OFFSET(DE104_3!$Z$34,ROWS($Z$34:Z44)-1,COLUMNS($Z$34:Z44)-1),\"\")","v":""},{"$f":"IF(OFFSET(DE104_3!$AA$34,ROWS($AA$34:AA44)-1,COLUMNS($AA$34:AA44)-1)<>\"\",OFFSET(DE104_3!$AA$34,ROWS($AA$34:AA44)-1,COLUMNS($AA$34:AA44)-1),\"\")","v":""},{"$f":"IF(OFFSET(DE104_3!$AB$34,ROWS($AB$34:AB44)-1,COLUMNS($AB$34:AB44)-1)<>\"\",OFFSET(DE104_3!$AB$34,ROWS($AB$34:AB44)-1,COLUMNS($AB$34:AB44)-1),\"\")","v":119.07},{"$f":"IF(OFFSET(DE104_3!$AC$34,ROWS($AC$34:AC44)-1,COLUMNS($AC$34:AC44)-1)<>\"\",OFFSET(DE104_3!$AC$34,ROWS($AC$34:AC44)-1,COLUMNS($AC$34:AC44)-1),\"\")","v":3.1},{"$f":"IF(OFFSET(DE104_3!$AD$34,ROWS($AD$34:AD44)-1,COLUMNS($AD$34:AD44)-1)<>\"\",OFFSET(DE104_3!$AD$34,ROWS($AD$34:AD44)-1,COLUMNS($AD$34:AD44)-1),\"\")","v":""},{"$f":"IF(OFFSET(DE104_3!$AE$34,ROWS($AE$34:AE44)-1,COLUMNS($AE$34:AE44)-1)<>\"\",OFFSET(DE104_3!$AE$34,ROWS($AE$34:AE44)-1,COLUMNS($AE$34:AE44)-1),\"\")","v":""},{"$f":"IF(OFFSET(DE104_3!$AF$34,ROWS($AF$34:AF44)-1,COLUMNS($AF$34:AF44)-1)<>\"\",OFFSET(DE104_3!$AF$34,ROWS($AF$34:AF44)-1,COLUMNS($AF$34:AF44)-1),\"\")","v":""},{"$f":"IF(OFFSET(DE104_3!$AG$34,ROWS($AG$34:AG44)-1,COLUMNS($AG$34:AG44)-1)<>\"\",OFFSET(DE104_3!$AG$34,ROWS($AG$34:AG44)-1,COLUMNS($AG$34:AG44)-1),\"\")","v":""},{"$f":"IF(OFFSET(DE104_3!$AH$34,ROWS($AH$34:AH44)-1,COLUMNS($AH$34:AH44)-1)<>\"\",OFFSET(DE104_3!$AH$34,ROWS($AH$34:AH44)-1,COLUMNS($AH$34:AH44)-1),\"\")","v":""},{"$f":"IF(OFFSET(DE104_3!$AI$34,ROWS($AI$34:AI44)-1,COLUMNS($AI$34:AI44)-1)<>\"\",OFFSET(DE104_3!$AI$34,ROWS($AI$34:AI44)-1,COLUMNS($AI$34:AI44)-1),\"\")","v":""},{"$f":"IF(OFFSET(DE104_3!$AJ$34,ROWS($AJ$34:AJ44)-1,COLUMNS($AJ$34:AJ44)-1)<>\"\",OFFSET(DE104_3!$AJ$34,ROWS($AJ$34:AJ44)-1,COLUMNS($AJ$34:AJ44)-1),\"\")","v":""},{"$f":"IF(OFFSET(DE104_3!$AK$34,ROWS($AK$34:AK44)-1,COLUMNS($AK$34:AK44)-1)<>\"\",OFFSET(DE104_3!$AK$34,ROWS($AK$34:AK44)-1,COLUMNS($AK$34:AK44)-1),\"\")","v":""},{"$f":"IF(OFFSET(DE104_3!$AL$34,ROWS($AL$34:AL44)-1,COLUMNS($AL$34:AL44)-1)<>\"\",OFFSET(DE104_3!$AL$34,ROWS($AL$34:AL44)-1,COLUMNS($AL$34:AL44)-1),\"\")","v":""},{"$f":"IF(OFFSET(DE104_3!$AM$34,ROWS($AM$34:AM44)-1,COLUMNS($AM$34:AM44)-1)<>\"\",OFFSET(DE104_3!$AM$34,ROWS($AM$34:AM44)-1,COLUMNS($AM$34:AM44)-1),\"\")","v":""},{"$f":"IF(OFFSET(DE104_3!$AN$34,ROWS($AN$34:AN44)-1,COLUMNS($AN$34:AN44)-1)<>\"\",OFFSET(DE104_3!$AN$34,ROWS($AN$34:AN44)-1,COLUMNS($AN$34:AN44)-1),\"\")","v":""},{"$f":"IF(OFFSET(DE104_3!$AO$34,ROWS($AO$34:AO44)-1,COLUMNS($AO$34:AO44)-1)<>\"\",OFFSET(DE104_3!$AO$34,ROWS($AO$34:AO44)-1,COLUMNS($AO$34:AO44)-1),\"\")","v":""},{"$f":"IF(OFFSET(DE104_3!$AP$34,ROWS($AP$34:AP44)-1,COLUMNS($AP$34:AP44)-1)<>\"\",OFFSET(DE104_3!$AP$34,ROWS($AP$34:AP44)-1,COLUMNS($AP$34:AP44)-1),\"\")","v":""},{"$f":"IF(OFFSET(DE104_3!$AQ$34,ROWS($AQ$34:AQ44)-1,COLUMNS($AQ$34:AQ44)-1)<>\"\",OFFSET(DE104_3!$AQ$34,ROWS($AQ$34:AQ44)-1,COLUMNS($AQ$34:AQ44)-1),\"\")","v":""}]
[{"$f":"IF(OFFSET(DE104_3!$C$34,ROWS($C$34:C45)-1,COLUMNS($C$34:C45)-1)<>\"\",OFFSET(DE104_3!$C$34,ROWS($C$34:C45)-1,COLUMNS($C$34:C45)-1),\"\")","v":""},{"$f":"IF(OFFSET(DE104_3!$D$34,ROWS($D$34:D45)-1,COLUMNS($D$34:D45)-1)<>\"\",OFFSET(DE104_3!$D$34,ROWS($D$34:D45)-1,COLUMNS($D$34:D45)-1),\"\")","v":""},{"$f":"IF(OFFSET(DE104_3!$E$34,ROWS($E$34:E45)-1,COLUMNS($E$34:E45)-1)<>\"\",OFFSET(DE104_3!$E$34,ROWS($E$34:E45)-1,COLUMNS($E$34:E45)-1),\"\")","v":"DR-621"},{"$f":"IF(OFFSET(DE104_3!$F$34,ROWS($F$34:F45)-1,COLUMNS($F$34:F45)-1)<>\"\",OFFSET(DE104_3!$F$34,ROWS($F$34:F45)-1,COLUMNS($F$34:F45)-1),\"\")","v":42},{"$f":"IF(OFFSET(DE104_3!$G$34,ROWS($G$34:G45)-1,COLUMNS($G$34:G45)-1)<>\"\",OFFSET(DE104_3!$G$34,ROWS($G$34:G45)-1,COLUMNS($G$34:G45)-1),\"\")","v":2000},{"$f":"IF(OFFSET(DE104_3!$H$34,ROWS($H$34:H45)-1,COLUMNS($H$34:H45)-1)<>\"\",OFFSET(DE104_3!$H$34,ROWS($H$34:H45)-1,COLUMNS($H$34:H45)-1),\"\")","v":"RCP"},{"$f":"IF(OFFSET(DE104_3!$I$34,ROWS($I$34:I45)-1,COLUMNS($I$34:I45)-1)<>\"\",OFFSET(DE104_3!$I$34,ROWS($I$34:I45)-1,COLUMNS($I$34:I45)-1),\"\")","v":112},{"$f":"IF(OFFSET(DE104_3!$J$34,ROWS($J$34:J45)-1,COLUMNS($J$34:J45)-1)<>\"\",OFFSET(DE104_3!$J$34,ROWS($J$34:J45)-1,COLUMNS($J$34:J45)-1),\"\")","v":"B"},{"$f":"IF(OFFSET(DE104_3!$K$34,ROWS($K$34:K45)-1,COLUMNS($K$34:K45)-1)<>\"\",OFFSET(DE104_3!$K$34,ROWS($K$34:K45)-1,COLUMNS($K$34:K45)-1),\"\")","v":""},{"$f":"IF(OFFSET(DE104_3!$L$34,ROWS($L$34:L45)-1,COLUMNS($L$34:L45)-1)<>\"\",OFFSET(DE104_3!$L$34,ROWS($L$34:L45)-1,COLUMNS($L$34:L45)-1),\"\")","v":""},{"$f":"IF(OFFSET(DE104_3!$M$34,ROWS($M$34:M45)-1,COLUMNS($M$34:M45)-1)<>\"\",OFFSET(DE104_3!$M$34,ROWS($M$34:M45)-1,COLUMNS($M$34:M45)-1),\"\")","v":""},{"$f":"IF(OFFSET(DE104_3!$N$34,ROWS($N$34:N45)-1,COLUMNS($N$34:N45)-1)<>\"\",OFFSET(DE104_3!$N$34,ROWS($N$34:N45)-1,COLUMNS($N$34:N45)-1),\"\")","v":1},{"$f":"IF(OFFSET(DE104_3!$O$34,ROWS($O$34:O45)-1,COLUMNS($O$34:O45)-1)<>\"\",OFFSET(DE104_3!$O$34,ROWS($O$34:O45)-1,COLUMNS($O$34:O45)-1),\"\")","v":""},{"$f":"IF(OFFSET(DE104_3!$P$34,ROWS($P$34:P45)-1,COLUMNS($P$34:P45)-1)<>\"\",OFFSET(DE104_3!$P$34,ROWS($P$34:P45)-1,COLUMNS($P$34:P45)-1),\"\")","v":""},{"$f":"IF(OFFSET(DE104_3!$Q$34,ROWS($Q$34:Q45)-1,COLUMNS($Q$34:Q45)-1)<>\"\",OFFSET(DE104_3!$Q$34,ROWS($Q$34:Q45)-1,COLUMNS($Q$34:Q45)-1),\"\")","v":""},{"$f":"IF(OFFSET(DE104_3!$R$34,ROWS($R$34:R45)-1,COLUMNS($R$34:R45)-1)<>\"\",OFFSET(DE104_3!$R$34,ROWS($R$34:R45)-1,COLUMNS($R$34:R45)-1),\"\")","v":""},{"$f":"IF(OFFSET(DE104_3!$S$34,ROWS($S$34:S45)-1,COLUMNS($S$34:S45)-1)<>\"\",OFFSET(DE104_3!$S$34,ROWS($S$34:S45)-1,COLUMNS($S$34:S45)-1),\"\")","v":""},{"$f":"IF(OFFSET(DE104_3!$T$34,ROWS($T$34:T45)-1,COLUMNS($T$34:T45)-1)<>\"\",OFFSET(DE104_3!$T$34,ROWS($T$34:T45)-1,COLUMNS($T$34:T45)-1),\"\")","v":""},{"$f":"IF(OFFSET(DE104_3!$U$34,ROWS($U$34:U45)-1,COLUMNS($U$34:U45)-1)<>\"\",OFFSET(DE104_3!$U$34,ROWS($U$34:U45)-1,COLUMNS($U$34:U45)-1),\"\")","v":""},{"$f":"IF(OFFSET(DE104_3!$V$34,ROWS($V$34:V45)-1,COLUMNS($V$34:V45)-1)<>\"\",OFFSET(DE104_3!$V$34,ROWS($V$34:V45)-1,COLUMNS($V$34:V45)-1),\"\")","v":"Type 3"},{"$f":"IF(OFFSET(DE104_3!$W$34,ROWS($W$34:W45)-1,COLUMNS($W$34:W45)-1)<>\"\",OFFSET(DE104_3!$W$34,ROWS($W$34:W45)-1,COLUMNS($W$34:W45)-1),\"\")","v":""},{"$f":"IF(OFFSET(DE104_3!$X$34,ROWS($X$34:X45)-1,COLUMNS($X$34:X45)-1)<>\"\",OFFSET(DE104_3!$X$34,ROWS($X$34:X45)-1,COLUMNS($X$34:X45)-1),\"\")","v":902.17},{"$f":"IF(OFFSET(DE104_3!$Y$34,ROWS($Y$34:Y45)-1,COLUMNS($Y$34:Y45)-1)<>\"\",OFFSET(DE104_3!$Y$34,ROWS($Y$34:Y45)-1,COLUMNS($Y$34:Y45)-1),\"\")","v":889.33},{"$f":"IF(OFFSET(DE104_3!$Z$34,ROWS($Z$34:Z45)-1,COLUMNS($Z$34:Z45)-1)<>\"\",OFFSET(DE104_3!$Z$34,ROWS($Z$34:Z45)-1,COLUMNS($Z$34:Z45)-1),\"\")","v":""},{"$f":"IF(OFFSET(DE104_3!$AA$34,ROWS($AA$34:AA45)-1,COLUMNS($AA$34:AA45)-1)<>\"\",OFFSET(DE104_3!$AA$34,ROWS($AA$34:AA45)-1,COLUMNS($AA$34:AA45)-1),\"\")","v":""},{"$f":"IF(OFFSET(DE104_3!$AB$34,ROWS($AB$34:AB45)-1,COLUMNS($AB$34:AB45)-1)<>\"\",OFFSET(DE104_3!$AB$34,ROWS($AB$34:AB45)-1,COLUMNS($AB$34:AB45)-1),\"\")","v":3.1},{"$f":"IF(OFFSET(DE104_3!$AC$34,ROWS($AC$34:AC45)-1,COLUMNS($AC$34:AC45)-1)<>\"\",OFFSET(DE104_3!$AC$34,ROWS($AC$34:AC45)-1,COLUMNS($AC$34:AC45)-1),\"\")","v":116.87},{"$f":"IF(OFFSET(DE104_3!$AD$34,ROWS($AD$34:AD45)-1,COLUMNS($AD$34:AD45)-1)<>\"\",OFFSET(DE104_3!$AD$34,ROWS($AD$34:AD45)-1,COLUMNS($AD$34:AD45)-1),\"\")","v":""},{"$f":"IF(OFFSET(DE104_3!$AE$34,ROWS($AE$34:AE45)-1,COLUMNS($AE$34:AE45)-1)<>\"\",OFFSET(DE104_3!$AE$34,ROWS($AE$34:AE45)-1,COLUMNS($AE$34:AE45)-1),\"\")","v":112},{"$f":"IF(OFFSET(DE104_3!$AF$34,ROWS($AF$34:AF45)-1,COLUMNS($AF$34:AF45)-1)<>\"\",OFFSET(DE104_3!$AF$34,ROWS($AF$34:AF45)-1,COLUMNS($AF$34:AF45)-1),\"\")","v":""},{"$f":"IF(OFFSET(DE104_3!$AG$34,ROWS($AG$34:AG45)-1,COLUMNS($AG$34:AG45)-1)<>\"\",OFFSET(DE104_3!$AG$34,ROWS($AG$34:AG45)-1,COLUMNS($AG$34:AG45)-1),\"\")","v":""},{"$f":"IF(OFFSET(DE104_3!$AH$34,ROWS($AH$34:AH45)-1,COLUMNS($AH$34:AH45)-1)<>\"\",OFFSET(DE104_3!$AH$34,ROWS($AH$34:AH45)-1,COLUMNS($AH$34:AH45)-1),\"\")","v":""},{"$f":"IF(OFFSET(DE104_3!$AI$34,ROWS($AI$34:AI45)-1,COLUMNS($AI$34:AI45)-1)<>\"\",OFFSET(DE104_3!$AI$34,ROWS($AI$34:AI45)-1,COLUMNS($AI$34:AI45)-1),\"\")","v":""},{"$f":"IF(OFFSET(DE104_3!$AJ$34,ROWS($AJ$34:AJ45)-1,COLUMNS($AJ$34:AJ45)-1)<>\"\",OFFSET(DE104_3!$AJ$34,ROWS($AJ$34:AJ45)-1,COLUMNS($AJ$34:AJ45)-1),\"\")","v":""},{"$f":"IF(OFFSET(DE104_3!$AK$34,ROWS($AK$34:AK45)-1,COLUMNS($AK$34:AK45)-1)<>\"\",OFFSET(DE104_3!$AK$34,ROWS($AK$34:AK45)-1,COLUMNS($AK$34:AK45)-1),\"\")","v":""},{"$f":"IF(OFFSET(DE104_3!$AL$34,ROWS($AL$34:AL45)-1,COLUMNS($AL$34:AL45)-1)<>\"\",OFFSET(DE104_3!$AL$34,ROWS($AL$34:AL45)-1,COLUMNS($AL$34:AL45)-1),\"\")","v":317.77777777777777},{"$f":"IF(OFFSET(DE104_3!$AM$34,ROWS($AM$34:AM45)-1,COLUMNS($AM$34:AM45)-1)<>\"\",OFFSET(DE104_3!$AM$34,ROWS($AM$34:AM45)-1,COLUMNS($AM$34:AM45)-1),\"\")","v":""},{"$f":"IF(OFFSET(DE104_3!$AN$34,ROWS($AN$34:AN45)-1,COLUMNS($AN$34:AN45)-1)<>\"\",OFFSET(DE104_3!$AN$34,ROWS($AN$34:AN45)-1,COLUMNS($AN$34:AN45)-1),\"\")","v":142.0562962962963},{"$f":"IF(OFFSET(DE104_3!$AO$34,ROWS($AO$34:AO45)-1,COLUMNS($AO$34:AO45)-1)<>\"\",OFFSET(DE104_3!$AO$34,ROWS($AO$34:AO45)-1,COLUMNS($AO$34:AO45)-1),\"\")","v":11.6},{"$f":"IF(OFFSET(DE104_3!$AP$34,ROWS($AP$34:AP45)-1,COLUMNS($AP$34:AP45)-1)<>\"\",OFFSET(DE104_3!$AP$34,ROWS($AP$34:AP45)-1,COLUMNS($AP$34:AP45)-1),\"\")","v":153.65629629629629},{"$f":"IF(OFFSET(DE104_3!$AQ$34,ROWS($AQ$34:AQ45)-1,COLUMNS($AQ$34:AQ45)-1)<>\"\",OFFSET(DE104_3!$AQ$34,ROWS($AQ$34:AQ45)-1,COLUMNS($AQ$34:AQ45)-1),\"\")","v":""}]
[{"$f":"IF(OFFSET(DE104_3!$C$34,ROWS($C$34:C46)-1,COLUMNS($C$34:C46)-1)<>\"\",OFFSET(DE104_3!$C$34,ROWS($C$34:C46)-1,COLUMNS($C$34:C46)-1),\"\")","v":"MED"},{"$f":"IF(OFFSET(DE104_3!$D$34,ROWS($D$34:D46)-1,COLUMNS($D$34:D46)-1)<>\"\",OFFSET(DE104_3!$D$34,ROWS($D$34:D46)-1,COLUMNS($D$34:D46)-1),\"\")","v":146525},{"$f":"IF(OFFSET(DE104_3!$E$34,ROWS($E$34:E46)-1,COLUMNS($E$34:E46)-1)<>\"\",OFFSET(DE104_3!$E$34,ROWS($E$34:E46)-1,COLUMNS($E$34:E46)-1),\"\")","v":"DR-601"},{"$f":"IF(OFFSET(DE104_3!$F$34,ROWS($F$34:F46)-1,COLUMNS($F$34:F46)-1)<>\"\",OFFSET(DE104_3!$F$34,ROWS($F$34:F46)-1,COLUMNS($F$34:F46)-1),\"\")","v":24},{"$f":"IF(OFFSET(DE104_3!$G$34,ROWS($G$34:G46)-1,COLUMNS($G$34:G46)-1)<>\"\",OFFSET(DE104_3!$G$34,ROWS($G$34:G46)-1,COLUMNS($G$34:G46)-1),\"\")","v":2000},{"$f":"IF(OFFSET(DE104_3!$H$34,ROWS($H$34:H46)-1,COLUMNS($H$34:H46)-1)<>\"\",OFFSET(DE104_3!$H$34,ROWS($H$34:H46)-1,COLUMNS($H$34:H46)-1),\"\")","v":"RCP"},{"$f":"IF(OFFSET(DE104_3!$I$34,ROWS($I$34:I46)-1,COLUMNS($I$34:I46)-1)<>\"\",OFFSET(DE104_3!$I$34,ROWS($I$34:I46)-1,COLUMNS($I$34:I46)-1),\"\")","v":74},{"$f":"IF(OFFSET(DE104_3!$J$34,ROWS($J$34:J46)-1,COLUMNS($J$34:J46)-1)<>\"\",OFFSET(DE104_3!$J$34,ROWS($J$34:J46)-1,COLUMNS($J$34:J46)-1),\"\")","v":"B"},{"$f":"IF(OFFSET(DE104_3!$K$34,ROWS($K$34:K46)-1,COLUMNS($K$34:K46)-1)<>\"\",OFFSET(DE104_3!$K$34,ROWS($K$34:K46)-1,COLUMNS($K$34:K46)-1),\"\")","v":2.2999999999999998},{"$f":"IF(OFFSET(DE104_3!$L$34,ROWS($L$34:L46)-1,COLUMNS($L$34:L46)-1)<>\"\",OFFSET(DE104_3!$L$34,ROWS($L$34:L46)-1,COLUMNS($L$34:L46)-1),\"\")","v":""},{"$f":"IF(OFFSET(DE104_3!$M$34,ROWS($M$34:M46)-1,COLUMNS($M$34:M46)-1)<>\"\",OFFSET(DE104_3!$M$34,ROWS($M$34:M46)-1,COLUMNS($M$34:M46)-1),\"\")","v":1},{"$f":"IF(OFFSET(DE104_3!$N$34,ROWS($N$34:N46)-1,COLUMNS($N$34:N46)-1)<>\"\",OFFSET(DE104_3!$N$34,ROWS($N$34:N46)-1,COLUMNS($N$34:N46)-1),\"\")","v":1},{"$f":"IF(OFFSET(DE104_3!$O$34,ROWS($O$34:O46)-1,COLUMNS($O$34:O46)-1)<>\"\",OFFSET(DE104_3!$O$34,ROWS($O$34:O46)-1,COLUMNS($O$34:O46)-1),\"\")","v":""},{"$f":"IF(OFFSET(DE104_3!$P$34,ROWS($P$34:P46)-1,COLUMNS($P$34:P46)-1)<>\"\",OFFSET(DE104_3!$P$34,ROWS($P$34:P46)-1,COLUMNS($P$34:P46)-1),\"\")","v":""},{"$f":"IF(OFFSET(DE104_3!$Q$34,ROWS($Q$34:Q46)-1,COLUMNS($Q$34:Q46)-1)<>\"\",OFFSET(DE104_3!$Q$34,ROWS($Q$34:Q46)-1,COLUMNS($Q$34:Q46)-1),\"\")","v":""},{"$f":"IF(OFFSET(DE104_3!$R$34,ROWS($R$34:R46)-1,COLUMNS($R$34:R46)-1)<>\"\",OFFSET(DE104_3!$R$34,ROWS($R$34:R46)-1,COLUMNS($R$34:R46)-1),\"\")","v":""},{"$f":"IF(OFFSET(DE104_3!$S$34,ROWS($S$34:S46)-1,COLUMNS($S$34:S46)-1)<>\"\",OFFSET(DE104_3!$S$34,ROWS($S$34:S46)-1,COLUMNS($S$34:S46)-1),\"\")","v":""},{"$f":"IF(OFFSET(DE104_3!$T$34,ROWS($T$34:T46)-1,COLUMNS($T$34:T46)-1)<>\"\",OFFSET(DE104_3!$T$34,ROWS($T$34:T46)-1,COLUMNS($T$34:T46)-1),\"\")","v":""},{"$f":"IF(OFFSET(DE104_3!$U$34,ROWS($U$34:U46)-1,COLUMNS($U$34:U46)-1)<>\"\",OFFSET(DE104_3!$U$34,ROWS($U$34:U46)-1,COLUMNS($U$34:U46)-1),\"\")","v":""},{"$f":"IF(OFFSET(DE104_3!$V$34,ROWS($V$34:V46)-1,COLUMNS($V$34:V46)-1)<>\"\",OFFSET(DE104_3!$V$34,ROWS($V$34:V46)-1,COLUMNS($V$34:V46)-1),\"\")","v":"Type 3"},{"$f":"IF(OFFSET(DE104_3!$W$34,ROWS($W$34:W46)-1,COLUMNS($W$34:W46)-1)<>\"\",OFFSET(DE104_3!$W$34,ROWS($W$34:W46)-1,COLUMNS($W$34:W46)-1),\"\")","v":""},{"$f":"IF(OFFSET(DE104_3!$X$34,ROWS($X$34:X46)-1,COLUMNS($X$34:X46)-1)<>\"\",OFFSET(DE104_3!$X$34,ROWS($X$34:X46)-1,COLUMNS($X$34:X46)-1),\"\")","v":906.34},{"$f":"IF(OFFSET(DE104_3!$Y$34,ROWS($Y$34:Y46)-1,COLUMNS($Y$34:Y46)-1)<>\"\",OFFSET(DE104_3!$Y$34,ROWS($Y$34:Y46)-1,COLUMNS($Y$34:Y46)-1),\"\")","v":904.1},{"$f":"IF(OFFSET(DE104_3!$Z$34,ROWS($Z$34:Z46)-1,COLUMNS($Z$34:Z46)-1)<>\"\",OFFSET(DE104_3!$Z$34,ROWS($Z$34:Z46)-1,COLUMNS($Z$34:Z46)-1),\"\")","v":""},{"$f":"IF(OFFSET(DE104_3!$AA$34,ROWS($AA$34:AA46)-1,COLUMNS($AA$34:AA46)-1)<>\"\",OFFSET(DE104_3!$AA$34,ROWS($AA$34:AA46)-1,COLUMNS($AA$34:AA46)-1),\"\")","v":""},{"$f":"IF(OFFSET(DE104_3!$AB$34,ROWS($AB$34:AB46)-1,COLUMNS($AB$34:AB46)-1)<>\"\",OFFSET(DE104_3!$AB$34,ROWS($AB$34:AB46)-1,COLUMNS($AB$34:AB46)-1),\"\")","v":36},{"$f":"IF(OFFSET(DE104_3!$AC$34,ROWS($AC$34:AC46)-1,COLUMNS($AC$34:AC46)-1)<>\"\",OFFSET(DE104_3!$AC$34,ROWS($AC$34:AC46)-1,COLUMNS($AC$34:AC46)-1),\"\")","v":50.22},{"$f":"IF(OFFSET(DE104_3!$AD$34,ROWS($AD$34:AD46)-1,COLUMNS($AD$34:AD46)-1)<>\"\",OFFSET(DE104_3!$AD$34,ROWS($AD$34:AD46)-1,COLUMNS($AD$34:AD46)-1),\"\")","v":""},{"$f":"IF(OFFSET(DE104_3!$AE$34,ROWS($AE$34:AE46)-1,COLUMNS($AE$34:AE46)-1)<>\"\",OFFSET(DE104_3!$AE$34,ROWS($AE$34:AE46)-1,COLUMNS($AE$34:AE46)-1),\"\")","v":""},{"$f":"IF(OFFSET(DE104_3!$AF$34,ROWS($AF$34:AF46)-1,COLUMNS($AF$34:AF46)-1)<>\"\",OFFSET(DE104_3!$AF$34,ROWS($AF$34:AF46)-1,COLUMNS($AF$34:AF46)-1),\"\")","v":""},{"$f":"IF(OFFSET(DE104_3!$AG$34,ROWS($AG$34:AG46)-1,COLUMNS($AG$34:AG46)-1)<>\"\",OFFSET(DE104_3!$AG$34,ROWS($AG$34:AG46)-1,COLUMNS($AG$34:AG46)-1),\"\")","v":""},{"$f":"IF(OFFSET(DE104_3!$AH$34,ROWS($AH$34:AH46)-1,COLUMNS($AH$34:AH46)-1)<>\"\",OFFSET(DE104_3!$AH$34,ROWS($AH$34:AH46)-1,COLUMNS($AH$34:AH46)-1),\"\")","v":""},{"$f":"IF(OFFSET(DE104_3!$AI$34,ROWS($AI$34:AI46)-1,COLUMNS($AI$34:AI46)-1)<>\"\",OFFSET(DE104_3!$AI$34,ROWS($AI$34:AI46)-1,COLUMNS($AI$34:AI46)-1),\"\")","v":""},{"$f":"IF(OFFSET(DE104_3!$AJ$34,ROWS($AJ$34:AJ46)-1,COLUMNS($AJ$34:AJ46)-1)<>\"\",OFFSET(DE104_3!$AJ$34,ROWS($AJ$34:AJ46)-1,COLUMNS($AJ$34:AJ46)-1),\"\")","v":""},{"$f":"IF(OFFSET(DE104_3!$AK$34,ROWS($AK$34:AK46)-1,COLUMNS($AK$34:AK46)-1)<>\"\",OFFSET(DE104_3!$AK$34,ROWS($AK$34:AK46)-1,COLUMNS($AK$34:AK46)-1),\"\")","v":""},{"$f":"IF(OFFSET(DE104_3!$AL$34,ROWS($AL$34:AL46)-1,COLUMNS($AL$34:AL46)-1)<>\"\",OFFSET(DE104_3!$AL$34,ROWS($AL$34:AL46)-1,COLUMNS($AL$34:AL46)-1),\"\")","v":102.09444444444445},{"$f":"IF(OFFSET(DE104_3!$AM$34,ROWS($AM$34:AM46)-1,COLUMNS($AM$34:AM46)-1)<>\"\",OFFSET(DE104_3!$AM$34,ROWS($AM$34:AM46)-1,COLUMNS($AM$34:AM46)-1),\"\")","v":""},{"$f":"IF(OFFSET(DE104_3!$AN$34,ROWS($AN$34:AN46)-1,COLUMNS($AN$34:AN46)-1)<>\"\",OFFSET(DE104_3!$AN$34,ROWS($AN$34:AN46)-1,COLUMNS($AN$34:AN46)-1),\"\")","v":13.274074074074074},{"$f":"IF(OFFSET(DE104_3!$AO$34,ROWS($AO$34:AO46)-1,COLUMNS($AO$34:AO46)-1)<>\"\",OFFSET(DE104_3!$AO$34,ROWS($AO$34:AO46)-1,COLUMNS($AO$34:AO46)-1),\"\")","v":6.583981481481481},{"$f":"IF(OFFSET(DE104_3!$AP$34,ROWS($AP$34:AP46)-1,COLUMNS($AP$34:AP46)-1)<>\"\",OFFSET(DE104_3!$AP$34,ROWS($AP$34:AP46)-1,COLUMNS($AP$34:AP46)-1),\"\")","v":19.858055555555556},{"$f":"IF(OFFSET(DE104_3!$AQ$34,ROWS($AQ$34:AQ46)-1,COLUMNS($AQ$34:AQ46)-1)<>\"\",OFFSET(DE104_3!$AQ$34,ROWS($AQ$34:AQ46)-1,COLUMNS($AQ$34:AQ46)-1),\"\")","v":""}]
[{"$f":"IF(OFFSET(DE104_3!$C$34,ROWS($C$34:C47)-1,COLUMNS($C$34:C47)-1)<>\"\",OFFSET(DE104_3!$C$34,ROWS($C$34:C47)-1,COLUMNS($C$34:C47)-1),\"\")","v":48},{"$f":"IF(OFFSET(DE104_3!$D$34,ROWS($D$34:D47)-1,COLUMNS($D$34:D47)-1)<>\"\",OFFSET(DE104_3!$D$34,ROWS($D$34:D47)-1,COLUMNS($D$34:D47)-1),\"\")","v":147000},{"$f":"IF(OFFSET(DE104_3!$E$34,ROWS($E$34:E47)-1,COLUMNS($E$34:E47)-1)<>\"\",OFFSET(DE104_3!$E$34,ROWS($E$34:E47)-1,COLUMNS($E$34:E47)-1),\"\")","v":"DR-601"},{"$f":"IF(OFFSET(DE104_3!$F$34,ROWS($F$34:F47)-1,COLUMNS($F$34:F47)-1)<>\"\",OFFSET(DE104_3!$F$34,ROWS($F$34:F47)-1,COLUMNS($F$34:F47)-1),\"\")","v":36},{"$f":"IF(OFFSET(DE104_3!$G$34,ROWS($G$34:G47)-1,COLUMNS($G$34:G47)-1)<>\"\",OFFSET(DE104_3!$G$34,ROWS($G$34:G47)-1,COLUMNS($G$34:G47)-1),\"\")","v":2000},{"$f":"IF(OFFSET(DE104_3!$H$34,ROWS($H$34:H47)-1,COLUMNS($H$34:H47)-1)<>\"\",OFFSET(DE104_3!$H$34,ROWS($H$34:H47)-1,COLUMNS($H$34:H47)-1),\"\")","v":"RCP"},{"$f":"IF(OFFSET(DE104_3!$I$34,ROWS($I$34:I47)-1,COLUMNS($I$34:I47)-1)<>\"\",OFFSET(DE104_3!$I$34,ROWS($I$34:I47)-1,COLUMNS($I$34:I47)-1),\"\")","v":100},{"$f":"IF(OFFSET(DE104_3!$J$34,ROWS($J$34:J47)-1,COLUMNS($J$34:J47)-1)<>\"\",OFFSET(DE104_3!$J$34,ROWS($J$34:J47)-1,COLUMNS($J$34:J47)-1),\"\")","v":"B"},{"$f":"IF(OFFSET(DE104_3!$K$34,ROWS($K$34:K47)-1,COLUMNS($K$34:K47)-1)<>\"\",OFFSET(DE104_3!$K$34,ROWS($K$34:K47)-1,COLUMNS($K$34:K47)-1),\"\")","v":2.2999999999999998},{"$f":"IF(OFFSET(DE104_3!$L$34,ROWS($L$34:L47)-1,COLUMNS($L$34:L47)-1)<>\"\",OFFSET(DE104_3!$L$34,ROWS($L$34:L47)-1,COLUMNS($L$34:L47)-1),\"\")","v":""},{"$f":"IF(OFFSET(DE104_3!$M$34,ROWS($M$34:M47)-1,COLUMNS($M$34:M47)-1)<>\"\",OFFSET(DE104_3!$M$34,ROWS($M$34:M47)-1,COLUMNS($M$34:M47)-1),\"\")","v":""},{"$f":"IF(OFFSET(DE104_3!$N$34,ROWS($N$34:N47)-1,COLUMNS($N$34:N47)-1)<>\"\",OFFSET(DE104_3!$N$34,ROWS($N$34:N47)-1,COLUMNS($N$34:N47)-1),\"\")","v":1},{"$f":"IF(OFFSET(DE104_3!$O$34,ROWS($O$34:O47)-1,COLUMNS($O$34:O47)-1)<>\"\",OFFSET(DE104_3!$O$34,ROWS($O$34:O47)-1,COLUMNS($O$34:O47)-1),\"\")","v":""},{"$f":"IF(OFFSET(DE104_3!$P$34,ROWS($P$34:P47)-1,COLUMNS($P$34:P47)-1)<>\"\",OFFSET(DE104_3!$P$34,ROWS($P$34:P47)-1,COLUMNS($P$34:P47)-1),\"\")","v":""},{"$f":"IF(OFFSET(DE104_3!$Q$34,ROWS($Q$34:Q47)-1,COLUMNS($Q$34:Q47)-1)<>\"\",OFFSET(DE104_3!$Q$34,ROWS($Q$34:Q47)-1,COLUMNS($Q$34:Q47)-1),\"\")","v":""},{"$f":"IF(OFFSET(DE104_3!$R$34,ROWS($R$34:R47)-1,COLUMNS($R$34:R47)-1)<>\"\",OFFSET(DE104_3!$R$34,ROWS($R$34:R47)-1,COLUMNS($R$34:R47)-1),\"\")","v":""},{"$f":"IF(OFFSET(DE104_3!$S$34,ROWS($S$34:S47)-1,COLUMNS($S$34:S47)-1)<>\"\",OFFSET(DE104_3!$S$34,ROWS($S$34:S47)-1,COLUMNS($S$34:S47)-1),\"\")","v":""},{"$f":"IF(OFFSET(DE104_3!$T$34,ROWS($T$34:T47)-1,COLUMNS($T$34:T47)-1)<>\"\",OFFSET(DE104_3!$T$34,ROWS($T$34:T47)-1,COLUMNS($T$34:T47)-1),\"\")","v":""},{"$f":"IF(OFFSET(DE104_3!$U$34,ROWS($U$34:U47)-1,COLUMNS($U$34:U47)-1)<>\"\",OFFSET(DE104_3!$U$34,ROWS($U$34:U47)-1,COLUMNS($U$34:U47)-1),\"\")","v":""},{"$f":"IF(OFFSET(DE104_3!$V$34,ROWS($V$34:V47)-1,COLUMNS($V$34:V47)-1)<>\"\",OFFSET(DE104_3!$V$34,ROWS($V$34:V47)-1,COLUMNS($V$34:V47)-1),\"\")","v":"Type 3"},{"$f":"IF(OFFSET(DE104_3!$W$34,ROWS($W$34:W47)-1,COLUMNS($W$34:W47)-1)<>\"\",OFFSET(DE104_3!$W$34,ROWS($W$34:W47)-1,COLUMNS($W$34:W47)-1),\"\")","v":""},{"$f":"IF(OFFSET(DE104_3!$X$34,ROWS($X$34:X47)-1,COLUMNS($X$34:X47)-1)<>\"\",OFFSET(DE104_3!$X$34,ROWS($X$34:X47)-1,COLUMNS($X$34:X47)-1),\"\")","v":908.66},{"$f":"IF(OFFSET(DE104_3!$Y$34,ROWS($Y$34:Y47)-1,COLUMNS($Y$34:Y47)-1)<>\"\",OFFSET(DE104_3!$Y$34,ROWS($Y$34:Y47)-1,COLUMNS($Y$34:Y47)-1),\"\")","v":907.9},{"$f":"IF(OFFSET(DE104_3!$Z$34,ROWS($Z$34:Z47)-1,COLUMNS($Z$34:Z47)-1)<>\"\",OFFSET(DE104_3!$Z$34,ROWS($Z$34:Z47)-1,COLUMNS($Z$34:Z47)-1),\"\")","v":""},{"$f":"IF(OFFSET(DE104_3!$AA$34,ROWS($AA$34:AA47)-1,COLUMNS($AA$34:AA47)-1)<>\"\",OFFSET(DE104_3!$AA$34,ROWS($AA$34:AA47)-1,COLUMNS($AA$34:AA47)-1),\"\")","v":""},{"$f":"IF(OFFSET(DE104_3!$AB$34,ROWS($AB$34:AB47)-1,COLUMNS($AB$34:AB47)-1)<>\"\",OFFSET(DE104_3!$AB$34,ROWS($AB$34:AB47)-1,COLUMNS($AB$34:AB47)-1),\"\")","v":14},{"$f":"IF(OFFSET(DE104_3!$AC$34,ROWS($AC$34:AC47)-1,COLUMNS($AC$34:AC47)-1)<>\"\",OFFSET(DE104_3!$AC$34,ROWS($AC$34:AC47)-1,COLUMNS($AC$34:AC47)-1),\"\")","v":93.98},{"$f":"IF(OFFSET(DE104_3!$AD$34,ROWS($AD$34:AD47)-1,COLUMNS($AD$34:AD47)-1)<>\"\",OFFSET(DE104_3!$AD$34,ROWS($AD$34:AD47)-1,COLUMNS($AD$34:AD47)-1),\"\")","v":""},{"$f":"IF(OFFSET(DE104_3!$AE$34,ROWS($AE$34:AE47)-1,COLUMNS($AE$34:AE47)-1)<>\"\",OFFSET(DE104_3!$AE$34,ROWS($AE$34:AE47)-1,COLUMNS($AE$34:AE47)-1),\"\")","v":""},{"$f":"IF(OFFSET(DE104_3!$AF$34,ROWS($AF$34:AF47)-1,COLUMNS($AF$34:AF47)-1)<>\"\",OFFSET(DE104_3!$AF$34,ROWS($AF$34:AF47)-1,COLUMNS($AF$34:AF47)-1),\"\")","v":""},{"$f":"IF(OFFSET(DE104_3!$AG$34,ROWS($AG$34:AG47)-1,COLUMNS($AG$34:AG47)-1)<>\"\",OFFSET(DE104_3!$AG$34,ROWS($AG$34:AG47)-1,COLUMNS($AG$34:AG47)-1),\"\")","v":""},{"$f":"IF(OFFSET(DE104_3!$AH$34,ROWS($AH$34:AH47)-1,COLUMNS($AH$34:AH47)-1)<>\"\",OFFSET(DE104_3!$AH$34,ROWS($AH$34:AH47)-1,COLUMNS($AH$34:AH47)-1),\"\")","v":""},{"$f":"IF(OFFSET(DE104_3!$AI$34,ROWS($AI$34:AI47)-1,COLUMNS($AI$34:AI47)-1)<>\"\",OFFSET(DE104_3!$AI$34,ROWS($AI$34:AI47)-1,COLUMNS($AI$34:AI47)-1),\"\")","v":""},{"$f":"IF(OFFSET(DE104_3!$AJ$34,ROWS($AJ$34:AJ47)-1,COLUMNS($AJ$34:AJ47)-1)<>\"\",OFFSET(DE104_3!$AJ$34,ROWS($AJ$34:AJ47)-1,COLUMNS($AJ$34:AJ47)-1),\"\")","v":""},{"$f":"IF(OFFSET(DE104_3!$AK$34,ROWS($AK$34:AK47)-1,COLUMNS($AK$34:AK47)-1)<>\"\",OFFSET(DE104_3!$AK$34,ROWS($AK$34:AK47)-1,COLUMNS($AK$34:AK47)-1),\"\")","v":""},{"$f":"IF(OFFSET(DE104_3!$AL$34,ROWS($AL$34:AL47)-1,COLUMNS($AL$34:AL47)-1)<>\"\",OFFSET(DE104_3!$AL$34,ROWS($AL$34:AL47)-1,COLUMNS($AL$34:AL47)-1),\"\")","v":408.96},{"$f":"IF(OFFSET(DE104_3!$AM$34,ROWS($AM$34:AM47)-1,COLUMNS($AM$34:AM47)-1)<>\"\",OFFSET(DE104_3!$AM$34,ROWS($AM$34:AM47)-1,COLUMNS($AM$34:AM47)-1),\"\")","v":""},{"$f":"IF(OFFSET(DE104_3!$AN$34,ROWS($AN$34:AN47)-1,COLUMNS($AN$34:AN47)-1)<>\"\",OFFSET(DE104_3!$AN$34,ROWS($AN$34:AN47)-1,COLUMNS($AN$34:AN47)-1),\"\")","v":35.105185185185185},{"$f":"IF(OFFSET(DE104_3!$AO$34,ROWS($AO$34:AO47)-1,COLUMNS($AO$34:AO47)-1)<>\"\",OFFSET(DE104_3!$AO$34,ROWS($AO$34:AO47)-1,COLUMNS($AO$34:AO47)-1),\"\")","v":9.579259259259258},{"$f":"IF(OFFSET(DE104_3!$AP$34,ROWS($AP$34:AP47)-1,COLUMNS($AP$34:AP47)-1)<>\"\",OFFSET(DE104_3!$AP$34,ROWS($AP$34:AP47)-1,COLUMNS($AP$34:AP47)-1),\"\")","v":44.684444444444445},{"$f":"IF(OFFSET(DE104_3!$AQ$34,ROWS($AQ$34:AQ47)-1,COLUMNS($AQ$34:AQ47)-1)<>\"\",OFFSET(DE104_3!$AQ$34,ROWS($AQ$34:AQ47)-1,COLUMNS($AQ$34:AQ47)-1),\"\")","v":""}]
[{"$f":"IF(OFFSET(DE104_3!$C$34,ROWS($C$34:C48)-1,COLUMNS($C$34:C48)-1)<>\"\",OFFSET(DE104_3!$C$34,ROWS($C$34:C48)-1,COLUMNS($C$34:C48)-1),\"\")","v":"MED"},{"$f":"IF(OFFSET(DE104_3!$D$34,ROWS($D$34:D48)-1,COLUMNS($D$34:D48)-1)<>\"\",OFFSET(DE104_3!$D$34,ROWS($D$34:D48)-1,COLUMNS($D$34:D48)-1),\"\")","v":147025},{"$f":"IF(OFFSET(DE104_3!$E$34,ROWS($E$34:E48)-1,COLUMNS($E$34:E48)-1)<>\"\",OFFSET(DE104_3!$E$34,ROWS($E$34:E48)-1,COLUMNS($E$34:E48)-1),\"\")","v":"DR-601"},{"$f":"IF(OFFSET(DE104_3!$F$34,ROWS($F$34:F48)-1,COLUMNS($F$34:F48)-1)<>\"\",OFFSET(DE104_3!$F$34,ROWS($F$34:F48)-1,COLUMNS($F$34:F48)-1),\"\")","v":24},{"$f":"IF(OFFSET(DE104_3!$G$34,ROWS($G$34:G48)-1,COLUMNS($G$34:G48)-1)<>\"\",OFFSET(DE104_3!$G$34,ROWS($G$34:G48)-1,COLUMNS($G$34:G48)-1),\"\")","v":2000},{"$f":"IF(OFFSET(DE104_3!$H$34,ROWS($H$34:H48)-1,COLUMNS($H$34:H48)-1)<>\"\",OFFSET(DE104_3!$H$34,ROWS($H$34:H48)-1,COLUMNS($H$34:H48)-1),\"\")","v":"RCP"},{"$f":"IF(OFFSET(DE104_3!$I$34,ROWS($I$34:I48)-1,COLUMNS($I$34:I48)-1)<>\"\",OFFSET(DE104_3!$I$34,ROWS($I$34:I48)-1,COLUMNS($I$34:I48)-1),\"\")","v":80},{"$f":"IF(OFFSET(DE104_3!$J$34,ROWS($J$34:J48)-1,COLUMNS($J$34:J48)-1)<>\"\",OFFSET(DE104_3!$J$34,ROWS($J$34:J48)-1,COLUMNS($J$34:J48)-1),\"\")","v":"B"},{"$f":"IF(OFFSET(DE104_3!$K$34,ROWS($K$34:K48)-1,COLUMNS($K$34:K48)-1)<>\"\",OFFSET(DE104_3!$K$34,ROWS($K$34:K48)-1,COLUMNS($K$34:K48)-1),\"\")","v":2.6},{"$f":"IF(OFFSET(DE104_3!$L$34,ROWS($L$34:L48)-1,COLUMNS($L$34:L48)-1)<>\"\",OFFSET(DE104_3!$L$34,ROWS($L$34:L48)-1,COLUMNS($L$34:L48)-1),\"\")","v":""},{"$f":"IF(OFFSET(DE104_3!$M$34,ROWS($M$34:M48)-1,COLUMNS($M$34:M48)-1)<>\"\",OFFSET(DE104_3!$M$34,ROWS($M$34:M48)-1,COLUMNS($M$34:M48)-1),\"\")","v":1},{"$f":"IF(OFFSET(DE104_3!$N$34,ROWS($N$34:N48)-1,COLUMNS($N$34:N48)-1)<>\"\",OFFSET(DE104_3!$N$34,ROWS($N$34:N48)-1,COLUMNS($N$34:N48)-1),\"\")","v":1},{"$f":"IF(OFFSET(DE104_3!$O$34,ROWS($O$34:O48)-1,COLUMNS($O$34:O48)-1)<>\"\",OFFSET(DE104_3!$O$34,ROWS($O$34:O48)-1,COLUMNS($O$34:O48)-1),\"\")","v":""},{"$f":"IF(OFFSET(DE104_3!$P$34,ROWS($P$34:P48)-1,COLUMNS($P$34:P48)-1)<>\"\",OFFSET(DE104_3!$P$34,ROWS($P$34:P48)-1,COLUMNS($P$34:P48)-1),\"\")","v":""},{"$f":"IF(OFFSET(DE104_3!$Q$34,ROWS($Q$34:Q48)-1,COLUMNS($Q$34:Q48)-1)<>\"\",OFFSET(DE104_3!$Q$34,ROWS($Q$34:Q48)-1,COLUMNS($Q$34:Q48)-1),\"\")","v":""},{"$f":"IF(OFFSET(DE104_3!$R$34,ROWS($R$34:R48)-1,COLUMNS($R$34:R48)-1)<>\"\",OFFSET(DE104_3!$R$34,ROWS($R$34:R48)-1,COLUMNS($R$34:R48)-1),\"\")","v":""},{"$f":"IF(OFFSET(DE104_3!$S$34,ROWS($S$34:S48)-1,COLUMNS($S$34:S48)-1)<>\"\",OFFSET(DE104_3!$S$34,ROWS($S$34:S48)-1,COLUMNS($S$34:S48)-1),\"\")","v":""},{"$f":"IF(OFFSET(DE104_3!$T$34,ROWS($T$34:T48)-1,COLUMNS($T$34:T48)-1)<>\"\",OFFSET(DE104_3!$T$34,ROWS($T$34:T48)-1,COLUMNS($T$34:T48)-1),\"\")","v":""},{"$f":"IF(OFFSET(DE104_3!$U$34,ROWS($U$34:U48)-1,COLUMNS($U$34:U48)-1)<>\"\",OFFSET(DE104_3!$U$34,ROWS($U$34:U48)-1,COLUMNS($U$34:U48)-1),\"\")","v":""},{"$f":"IF(OFFSET(DE104_3!$V$34,ROWS($V$34:V48)-1,COLUMNS($V$34:V48)-1)<>\"\",OFFSET(DE104_3!$V$34,ROWS($V$34:V48)-1,COLUMNS($V$34:V48)-1),\"\")","v":"Type 3"},{"$f":"IF(OFFSET(DE104_3!$W$34,ROWS($W$34:W48)-1,COLUMNS($W$34:W48)-1)<>\"\",OFFSET(DE104_3!$W$34,ROWS($W$34:W48)-1,COLUMNS($W$34:W48)-1),\"\")","v":""},{"$f":"IF(OFFSET(DE104_3!$X$34,ROWS($X$34:X48)-1,COLUMNS($X$34:X48)-1)<>\"\",OFFSET(DE104_3!$X$34,ROWS($X$34:X48)-1,COLUMNS($X$34:X48)-1),\"\")","v":911.29},{"$f":"IF(OFFSET(DE104_3!$Y$34,ROWS($Y$34:Y48)-1,COLUMNS($Y$34:Y48)-1)<>\"\",OFFSET(DE104_3!$Y$34,ROWS($Y$34:Y48)-1,COLUMNS($Y$34:Y48)-1),\"\")","v":908.08},{"$f":"IF(OFFSET(DE104_3!$Z$34,ROWS($Z$34:Z48)-1,COLUMNS($Z$34:Z48)-1)<>\"\",OFFSET(DE104_3!$Z$34,ROWS($Z$34:Z48)-1,COLUMNS($Z$34:Z48)-1),\"\")","v":""},{"$f":"IF(OFFSET(DE104_3!$AA$34,ROWS($AA$34:AA48)-1,COLUMNS($AA$34:AA48)-1)<>\"\",OFFSET(DE104_3!$AA$34,ROWS($AA$34:AA48)-1,COLUMNS($AA$34:AA48)-1),\"\")","v":""},{"$f":"IF(OFFSET(DE104_3!$AB$34,ROWS($AB$34:AB48)-1,COLUMNS($AB$34:AB48)-1)<>\"\",OFFSET(DE104_3!$AB$34,ROWS($AB$34:AB48)-1,COLUMNS($AB$34:AB48)-1),\"\")","v":36},{"$f":"IF(OFFSET(DE104_3!$AC$34,ROWS($AC$34:AC48)-1,COLUMNS($AC$34:AC48)-1)<>\"\",OFFSET(DE104_3!$AC$34,ROWS($AC$34:AC48)-1,COLUMNS($AC$34:AC48)-1),\"\")","v":56.2},{"$f":"IF(OFFSET(DE104_3!$AD$34,ROWS($AD$34:AD48)-1,COLUMNS($AD$34:AD48)-1)<>\"\",OFFSET(DE104_3!$AD$34,ROWS($AD$34:AD48)-1,COLUMNS($AD$34:AD48)-1),\"\")","v":""},{"$f":"IF(OFFSET(DE104_3!$AE$34,ROWS($AE$34:AE48)-1,COLUMNS($AE$34:AE48)-1)<>\"\",OFFSET(DE104_3!$AE$34,ROWS($AE$34:AE48)-1,COLUMNS($AE$34:AE48)-1),\"\")","v":""},{"$f":"IF(OFFSET(DE104_3!$AF$34,ROWS($AF$34:AF48)-1,COLUMNS($AF$34:AF48)-1)<>\"\",OFFSET(DE104_3!$AF$34,ROWS($AF$34:AF48)-1,COLUMNS($AF$34:AF48)-1),\"\")","v":""},{"$f":"IF(OFFSET(DE104_3!$AG$34,ROWS($AG$34:AG48)-1,COLUMNS($AG$34:AG48)-1)<>\"\",OFFSET(DE104_3!$AG$34,ROWS($AG$34:AG48)-1,COLUMNS($AG$34:AG48)-1),\"\")","v":""},{"$f":"IF(OFFSET(DE104_3!$AH$34,ROWS($AH$34:AH48)-1,COLUMNS($AH$34:AH48)-1)<>\"\",OFFSET(DE104_3!$AH$34,ROWS($AH$34:AH48)-1,COLUMNS($AH$34:AH48)-1),\"\")","v":""},{"$f":"IF(OFFSET(DE104_3!$AI$34,ROWS($AI$34:AI48)-1,COLUMNS($AI$34:AI48)-1)<>\"\",OFFSET(DE104_3!$AI$34,ROWS($AI$34:AI48)-1,COLUMNS($AI$34:AI48)-1),\"\")","v":""},{"$f":"IF(OFFSET(DE104_3!$AJ$34,ROWS($AJ$34:AJ48)-1,COLUMNS($AJ$34:AJ48)-1)<>\"\",OFFSET(DE104_3!$AJ$34,ROWS($AJ$34:AJ48)-1,COLUMNS($AJ$34:AJ48)-1),\"\")","v":""},{"$f":"IF(OFFSET(DE104_3!$AK$34,ROWS($AK$34:AK48)-1,COLUMNS($AK$34:AK48)-1)<>\"\",OFFSET(DE104_3!$AK$34,ROWS($AK$34:AK48)-1,COLUMNS($AK$34:AK48)-1),\"\")","v":""},{"$f":"IF(OFFSET(DE104_3!$AL$34,ROWS($AL$34:AL48)-1,COLUMNS($AL$34:AL48)-1)<>\"\",OFFSET(DE104_3!$AL$34,ROWS($AL$34:AL48)-1,COLUMNS($AL$34:AL48)-1),\"\")","v":233.83666666666667},{"$f":"IF(OFFSET(DE104_3!$AM$34,ROWS($AM$34:AM48)-1,COLUMNS($AM$34:AM48)-1)<>\"\",OFFSET(DE104_3!$AM$34,ROWS($AM$34:AM48)-1,COLUMNS($AM$34:AM48)-1),\"\")","v":""},{"$f":"IF(OFFSET(DE104_3!$AN$34,ROWS($AN$34:AN48)-1,COLUMNS($AN$34:AN48)-1)<>\"\",OFFSET(DE104_3!$AN$34,ROWS($AN$34:AN48)-1,COLUMNS($AN$34:AN48)-1),\"\")","v":16.355555555555558},{"$f":"IF(OFFSET(DE104_3!$AO$34,ROWS($AO$34:AO48)-1,COLUMNS($AO$34:AO48)-1)<>\"\",OFFSET(DE104_3!$AO$34,ROWS($AO$34:AO48)-1,COLUMNS($AO$34:AO48)-1),\"\")","v":7.0528703703703695},{"$f":"IF(OFFSET(DE104_3!$AP$34,ROWS($AP$34:AP48)-1,COLUMNS($AP$34:AP48)-1)<>\"\",OFFSET(DE104_3!$AP$34,ROWS($AP$34:AP48)-1,COLUMNS($AP$34:AP48)-1),\"\")","v":23.408425925925926},{"$f":"IF(OFFSET(DE104_3!$AQ$34,ROWS($AQ$34:AQ48)-1,COLUMNS($AQ$34:AQ48)-1)<>\"\",OFFSET(DE104_3!$AQ$34,ROWS($AQ$34:AQ48)-1,COLUMNS($AQ$34:AQ48)-1),\"\")","v":""}]
[{"$f":"IF(OFFSET(DE104_3!$C$34,ROWS($C$34:C49)-1,COLUMNS($C$34:C49)-1)<>\"\",OFFSET(DE104_3!$C$34,ROWS($C$34:C49)-1,COLUMNS($C$34:C49)-1),\"\")","v":"MED"},{"$f":"IF(OFFSET(DE104_3!$D$34,ROWS($D$34:D49)-1,COLUMNS($D$34:D49)-1)<>\"\",OFFSET(DE104_3!$D$34,ROWS($D$34:D49)-1,COLUMNS($D$34:D49)-1),\"\")","v":147700},{"$f":"IF(OFFSET(DE104_3!$E$34,ROWS($E$34:E49)-1,COLUMNS($E$34:E49)-1)<>\"\",OFFSET(DE104_3!$E$34,ROWS($E$34:E49)-1,COLUMNS($E$34:E49)-1),\"\")","v":"DR-601"},{"$f":"IF(OFFSET(DE104_3!$F$34,ROWS($F$34:F49)-1,COLUMNS($F$34:F49)-1)<>\"\",OFFSET(DE104_3!$F$34,ROWS($F$34:F49)-1,COLUMNS($F$34:F49)-1),\"\")","v":24},{"$f":"IF(OFFSET(DE104_3!$G$34,ROWS($G$34:G49)-1,COLUMNS($G$34:G49)-1)<>\"\",OFFSET(DE104_3!$G$34,ROWS($G$34:G49)-1,COLUMNS($G$34:G49)-1),\"\")","v":2000},{"$f":"IF(OFFSET(DE104_3!$H$34,ROWS($H$34:H49)-1,COLUMNS($H$34:H49)-1)<>\"\",OFFSET(DE104_3!$H$34,ROWS($H$34:H49)-1,COLUMNS($H$34:H49)-1),\"\")","v":"RCP"},{"$f":"IF(OFFSET(DE104_3!$I$34,ROWS($I$34:I49)-1,COLUMNS($I$34:I49)-1)<>\"\",OFFSET(DE104_3!$I$34,ROWS($I$34:I49)-1,COLUMNS($I$34:I49)-1),\"\")","v":92},{"$f":"IF(OFFSET(DE104_3!$J$34,ROWS($J$34:J49)-1,COLUMNS($J$34:J49)-1)<>\"\",OFFSET(DE104_3!$J$34,ROWS($J$34:J49)-1,COLUMNS($J$34:J49)-1),\"\")","v":"B"},{"$f":"IF(OFFSET(DE104_3!$K$34,ROWS($K$34:K49)-1,COLUMNS($K$34:K49)-1)<>\"\",OFFSET(DE104_3!$K$34,ROWS($K$34:K49)-1,COLUMNS($K$34:K49)-1),\"\")","v":2.2000000000000002},{"$f":"IF(OFFSET(DE104_3!$L$34,ROWS($L$34:L49)-1,COLUMNS($L$34:L49)-1)<>\"\",OFFSET(DE104_3!$L$34,ROWS($L$34:L49)-1,COLUMNS($L$34:L49)-1),\"\")","v":""},{"$f":"IF(OFFSET(DE104_3!$M$34,ROWS($M$34:M49)-1,COLUMNS($M$34:M49)-1)<>\"\",OFFSET(DE104_3!$M$34,ROWS($M$34:M49)-1,COLUMNS($M$34:M49)-1),\"\")","v":1},{"$f":"IF(OFFSET(DE104_3!$N$34,ROWS($N$34:N49)-1,COLUMNS($N$34:N49)-1)<>\"\",OFFSET(DE104_3!$N$34,ROWS($N$34:N49)-1,COLUMNS($N$34:N49)-1),\"\")","v":1},{"$f":"IF(OFFSET(DE104_3!$O$34,ROWS($O$34:O49)-1,COLUMNS($O$34:O49)-1)<>\"\",OFFSET(DE104_3!$O$34,ROWS($O$34:O49)-1,COLUMNS($O$34:O49)-1),\"\")","v":""},{"$f":"IF(OFFSET(DE104_3!$P$34,ROWS($P$34:P49)-1,COLUMNS($P$34:P49)-1)<>\"\",OFFSET(DE104_3!$P$34,ROWS($P$34:P49)-1,COLUMNS($P$34:P49)-1),\"\")","v":""},{"$f":"IF(OFFSET(DE104_3!$Q$34,ROWS($Q$34:Q49)-1,COLUMNS($Q$34:Q49)-1)<>\"\",OFFSET(DE104_3!$Q$34,ROWS($Q$34:Q49)-1,COLUMNS($Q$34:Q49)-1),\"\")","v":""},{"$f":"IF(OFFSET(DE104_3!$R$34,ROWS($R$34:R49)-1,COLUMNS($R$34:R49)-1)<>\"\",OFFSET(DE104_3!$R$34,ROWS($R$34:R49)-1,COLUMNS($R$34:R49)-1),\"\")","v":""},{"$f":"IF(OFFSET(DE104_3!$S$34,ROWS($S$34:S49)-1,COLUMNS($S$34:S49)-1)<>\"\",OFFSET(DE104_3!$S$34,ROWS($S$34:S49)-1,COLUMNS($S$34:S49)-1),\"\")","v":""},{"$f":"IF(OFFSET(DE104_3!$T$34,ROWS($T$34:T49)-1,COLUMNS($T$34:T49)-1)<>\"\",OFFSET(DE104_3!$T$34,ROWS($T$34:T49)-1,COLUMNS($T$34:T49)-1),\"\")","v":""},{"$f":"IF(OFFSET(DE104_3!$U$34,ROWS($U$34:U49)-1,COLUMNS($U$34:U49)-1)<>\"\",OFFSET(DE104_3!$U$34,ROWS($U$34:U49)-1,COLUMNS($U$34:U49)-1),\"\")","v":""},{"$f":"IF(OFFSET(DE104_3!$V$34,ROWS($V$34:V49)-1,COLUMNS($V$34:V49)-1)<>\"\",OFFSET(DE104_3!$V$34,ROWS($V$34:V49)-1,COLUMNS($V$34:V49)-1),\"\")","v":"Type 3"},{"$f":"IF(OFFSET(DE104_3!$W$34,ROWS($W$34:W49)-1,COLUMNS($W$34:W49)-1)<>\"\",OFFSET(DE104_3!$W$34,ROWS($W$34:W49)-1,COLUMNS($W$34:W49)-1),\"\")","v":""},{"$f":"IF(OFFSET(DE104_3!$X$34,ROWS($X$34:X49)-1,COLUMNS($X$34:X49)-1)<>\"\",OFFSET(DE104_3!$X$34,ROWS($X$34:X49)-1,COLUMNS($X$34:X49)-1),\"\")","v":919.88},{"$f":"IF(OFFSET(DE104_3!$Y$34,ROWS($Y$34:Y49)-1,COLUMNS($Y$34:Y49)-1)<>\"\",OFFSET(DE104_3!$Y$34,ROWS($Y$34:Y49)-1,COLUMNS($Y$34:Y49)-1),\"\")","v":917.84},{"$f":"IF(OFFSET(DE104_3!$Z$34,ROWS($Z$34:Z49)-1,COLUMNS($Z$34:Z49)-1)<>\"\",OFFSET(DE104_3!$Z$34,ROWS($Z$34:Z49)-1,COLUMNS($Z$34:Z49)-1),\"\")","v":""},{"$f":"IF(OFFSET(DE104_3!$AA$34,ROWS($AA$34:AA49)-1,COLUMNS($AA$34:AA49)-1)<>\"\",OFFSET(DE104_3!$AA$34,ROWS($AA$34:AA49)-1,COLUMNS($AA$34:AA49)-1),\"\")","v":""},{"$f":"IF(OFFSET(DE104_3!$AB$34,ROWS($AB$34:AB49)-1,COLUMNS($AB$34:AB49)-1)<>\"\",OFFSET(DE104_3!$AB$34,ROWS($AB$34:AB49)-1,COLUMNS($AB$34:AB49)-1),\"\")","v":35},{"$f":"IF(OFFSET(DE104_3!$AC$34,ROWS($AC$34:AC49)-1,COLUMNS($AC$34:AC49)-1)<>\"\",OFFSET(DE104_3!$AC$34,ROWS($AC$34:AC49)-1,COLUMNS($AC$34:AC49)-1),\"\")","v":62.23},{"$f":"IF(OFFSET(DE104_3!$AD$34,ROWS($AD$34:AD49)-1,COLUMNS($AD$34:AD49)-1)<>\"\",OFFSET(DE104_3!$AD$34,ROWS($AD$34:AD49)-1,COLUMNS($AD$34:AD49)-1),\"\")","v":""},{"$f":"IF(OFFSET(DE104_3!$AE$34,ROWS($AE$34:AE49)-1,COLUMNS($AE$34:AE49)-1)<>\"\",OFFSET(DE104_3!$AE$34,ROWS($AE$34:AE49)-1,COLUMNS($AE$34:AE49)-1),\"\")","v":""},{"$f":"IF(OFFSET(DE104_3!$AF$34,ROWS($AF$34:AF49)-1,COLUMNS($AF$34:AF49)-1)<>\"\",OFFSET(DE104_3!$AF$34,ROWS($AF$34:AF49)-1,COLUMNS($AF$34:AF49)-1),\"\")","v":""},{"$f":"IF(OFFSET(DE104_3!$AG$34,ROWS($AG$34:AG49)-1,COLUMNS($AG$34:AG49)-1)<>\"\",OFFSET(DE104_3!$AG$34,ROWS($AG$34:AG49)-1,COLUMNS($AG$34:AG49)-1),\"\")","v":""},{"$f":"IF(OFFSET(DE104_3!$AH$34,ROWS($AH$34:AH49)-1,COLUMNS($AH$34:AH49)-1)<>\"\",OFFSET(DE104_3!$AH$34,ROWS($AH$34:AH49)-1,COLUMNS($AH$34:AH49)-1),\"\")","v":""},{"$f":"IF(OFFSET(DE104_3!$AI$34,ROWS($AI$34:AI49)-1,COLUMNS($AI$34:AI49)-1)<>\"\",OFFSET(DE104_3!$AI$34,ROWS($AI$34:AI49)-1,COLUMNS($AI$34:AI49)-1),\"\")","v":""},{"$f":"IF(OFFSET(DE104_3!$AJ$34,ROWS($AJ$34:AJ49)-1,COLUMNS($AJ$34:AJ49)-1)<>\"\",OFFSET(DE104_3!$AJ$34,ROWS($AJ$34:AJ49)-1,COLUMNS($AJ$34:AJ49)-1),\"\")","v":""},{"$f":"IF(OFFSET(DE104_3!$AK$34,ROWS($AK$34:AK49)-1,COLUMNS($AK$34:AK49)-1)<>\"\",OFFSET(DE104_3!$AK$34,ROWS($AK$34:AK49)-1,COLUMNS($AK$34:AK49)-1),\"\")","v":""},{"$f":"IF(OFFSET(DE104_3!$AL$34,ROWS($AL$34:AL49)-1,COLUMNS($AL$34:AL49)-1)<>\"\",OFFSET(DE104_3!$AL$34,ROWS($AL$34:AL49)-1,COLUMNS($AL$34:AL49)-1),\"\")","v":264.25444444444446},{"$f":"IF(OFFSET(DE104_3!$AM$34,ROWS($AM$34:AM49)-1,COLUMNS($AM$34:AM49)-1)<>\"\",OFFSET(DE104_3!$AM$34,ROWS($AM$34:AM49)-1,COLUMNS($AM$34:AM49)-1),\"\")","v":""},{"$f":"IF(OFFSET(DE104_3!$AN$34,ROWS($AN$34:AN49)-1,COLUMNS($AN$34:AN49)-1)<>\"\",OFFSET(DE104_3!$AN$34,ROWS($AN$34:AN49)-1,COLUMNS($AN$34:AN49)-1),\"\")","v":22.538074074074075},{"$f":"IF(OFFSET(DE104_3!$AO$34,ROWS($AO$34:AO49)-1,COLUMNS($AO$34:AO49)-1)<>\"\",OFFSET(DE104_3!$AO$34,ROWS($AO$34:AO49)-1,COLUMNS($AO$34:AO49)-1),\"\")","v":7.9906481481481473},{"$f":"IF(OFFSET(DE104_3!$AP$34,ROWS($AP$34:AP49)-1,COLUMNS($AP$34:AP49)-1)<>\"\",OFFSET(DE104_3!$AP$34,ROWS($AP$34:AP49)-1,COLUMNS($AP$34:AP49)-1),\"\")","v":30.528722222222221},{"$f":"IF(OFFSET(DE104_3!$AQ$34,ROWS($AQ$34:AQ49)-1,COLUMNS($AQ$34:AQ49)-1)<>\"\",OFFSET(DE104_3!$AQ$34,ROWS($AQ$34:AQ49)-1,COLUMNS($AQ$34:AQ49)-1),\"\")","v":""}]
[{"$f":"IF(OFFSET(DE104_3!$C$34,ROWS($C$34:C50)-1,COLUMNS($C$34:C50)-1)<>\"\",OFFSET(DE104_3!$C$34,ROWS($C$34:C50)-1,COLUMNS($C$34:C50)-1),\"\")","v":""},{"$f":"IF(OFFSET(DE104_3!$D$34,ROWS($D$34:D50)-1,COLUMNS($D$34:D50)-1)<>\"\",OFFSET(DE104_3!$D$34,ROWS($D$34:D50)-1,COLUMNS($D$34:D50)-1),\"\")","v":148400},{"$f":"IF(OFFSET(DE104_3!$E$34,ROWS($E$34:E50)-1,COLUMNS($E$34:E50)-1)<>\"\",OFFSET(DE104_3!$E$34,ROWS($E$34:E50)-1,COLUMNS($E$34:E50)-1),\"\")","v":"JACK"},{"$f":"IF(OFFSET(DE104_3!$F$34,ROWS($F$34:F50)-1,COLUMNS($F$34:F50)-1)<>\"\",OFFSET(DE104_3!$F$34,ROWS($F$34:F50)-1,COLUMNS($F$34:F50)-1),\"\")","v":36},{"$f":"IF(OFFSET(DE104_3!$G$34,ROWS($G$34:G50)-1,COLUMNS($G$34:G50)-1)<>\"\",OFFSET(DE104_3!$G$34,ROWS($G$34:G50)-1,COLUMNS($G$34:G50)-1),\"\")","v":2000},{"$f":"IF(OFFSET(DE104_3!$H$34,ROWS($H$34:H50)-1,COLUMNS($H$34:H50)-1)<>\"\",OFFSET(DE104_3!$H$34,ROWS($H$34:H50)-1,COLUMNS($H$34:H50)-1),\"\")","v":"RCP"},{"$f":"IF(OFFSET(DE104_3!$I$34,ROWS($I$34:I50)-1,COLUMNS($I$34:I50)-1)<>\"\",OFFSET(DE104_3!$I$34,ROWS($I$34:I50)-1,COLUMNS($I$34:I50)-1),\"\")","v":232},{"$f":"IF(OFFSET(DE104_3!$J$34,ROWS($J$34:J50)-1,COLUMNS($J$34:J50)-1)<>\"\",OFFSET(DE104_3!$J$34,ROWS($J$34:J50)-1,COLUMNS($J$34:J50)-1),\"\")","v":""},{"$f":"IF(OFFSET(DE104_3!$K$34,ROWS($K$34:K50)-1,COLUMNS($K$34:K50)-1)<>\"\",OFFSET(DE104_3!$K$34,ROWS($K$34:K50)-1,COLUMNS($K$34:K50)-1),\"\")","v":7},{"$f":"IF(OFFSET(DE104_3!$L$34,ROWS($L$34:L50)-1,COLUMNS($L$34:L50)-1)<>\"\",OFFSET(DE104_3!$L$34,ROWS($L$34:L50)-1,COLUMNS($L$34:L50)-1),\"\")","v":""},{"$f":"IF(OFFSET(DE104_3!$M$34,ROWS($M$34:M50)-1,COLUMNS($M$34:M50)-1)<>\"\",OFFSET(DE104_3!$M$34,ROWS($M$34:M50)-1,COLUMNS($M$34:M50)-1),\"\")","v":1},{"$f":"IF(OFFSET(DE104_3!$N$34,ROWS($N$34:N50)-1,COLUMNS($N$34:N50)-1)<>\"\",OFFSET(DE104_3!$N$34,ROWS($N$34:N50)-1,COLUMNS($N$34:N50)-1),\"\")","v":1},{"$f":"IF(OFFSET(DE104_3!$O$34,ROWS($O$34:O50)-1,COLUMNS($O$34:O50)-1)<>\"\",OFFSET(DE104_3!$O$34,ROWS($O$34:O50)-1,COLUMNS($O$34:O50)-1),\"\")","v":""},{"$f":"IF(OFFSET(DE104_3!$P$34,ROWS($P$34:P50)-1,COLUMNS($P$34:P50)-1)<>\"\",OFFSET(DE104_3!$P$34,ROWS($P$34:P50)-1,COLUMNS($P$34:P50)-1),\"\")","v":""},{"$f":"IF(OFFSET(DE104_3!$Q$34,ROWS($Q$34:Q50)-1,COLUMNS($Q$34:Q50)-1)<>\"\",OFFSET(DE104_3!$Q$34,ROWS($Q$34:Q50)-1,COLUMNS($Q$34:Q50)-1),\"\")","v":""},{"$f":"IF(OFFSET(DE104_3!$R$34,ROWS($R$34:R50)-1,COLUMNS($R$34:R50)-1)<>\"\",OFFSET(DE104_3!$R$34,ROWS($R$34:R50)-1,COLUMNS($R$34:R50)-1),\"\")","v":""},{"$f":"IF(OFFSET(DE104_3!$S$34,ROWS($S$34:S50)-1,COLUMNS($S$34:S50)-1)<>\"\",OFFSET(DE104_3!$S$34,ROWS($S$34:S50)-1,COLUMNS($S$34:S50)-1),\"\")","v":""},{"$f":"IF(OFFSET(DE104_3!$T$34,ROWS($T$34:T50)-1,COLUMNS($T$34:T50)-1)<>\"\",OFFSET(DE104_3!$T$34,ROWS($T$34:T50)-1,COLUMNS($T$34:T50)-1),\"\")","v":""},{"$f":"IF(OFFSET(DE104_3!$U$34,ROWS($U$34:U50)-1,COLUMNS($U$34:U50)-1)<>\"\",OFFSET(DE104_3!$U$34,ROWS($U$34:U50)-1,COLUMNS($U$34:U50)-1),\"\")","v":""},{"$f":"IF(OFFSET(DE104_3!$V$34,ROWS($V$34:V50)-1,COLUMNS($V$34:V50)-1)<>\"\",OFFSET(DE104_3!$V$34,ROWS($V$34:V50)-1,COLUMNS($V$34:V50)-1),\"\")","v":"Type 3"},{"$f":"IF(OFFSET(DE104_3!$W$34,ROWS($W$34:W50)-1,COLUMNS($W$34:W50)-1)<>\"\",OFFSET(DE104_3!$W$34,ROWS($W$34:W50)-1,COLUMNS($W$34:W50)-1),\"\")","v":""},{"$f":"IF(OFFSET(DE104_3!$X$34,ROWS($X$34:X50)-1,COLUMNS($X$34:X50)-1)<>\"\",OFFSET(DE104_3!$X$34,ROWS($X$34:X50)-1,COLUMNS($X$34:X50)-1),\"\")","v":920.5},{"$f":"IF(OFFSET(DE104_3!$Y$34,ROWS($Y$34:Y50)-1,COLUMNS($Y$34:Y50)-1)<>\"\",OFFSET(DE104_3!$Y$34,ROWS($Y$34:Y50)-1,COLUMNS($Y$34:Y50)-1),\"\")","v":915.56},{"$f":"IF(OFFSET(DE104_3!$Z$34,ROWS($Z$34:Z50)-1,COLUMNS($Z$34:Z50)-1)<>\"\",OFFSET(DE104_3!$Z$34,ROWS($Z$34:Z50)-1,COLUMNS($Z$34:Z50)-1),\"\")","v":""},{"$f":"IF(OFFSET(DE104_3!$AA$34,ROWS($AA$34:AA50)-1,COLUMNS($AA$34:AA50)-1)<>\"\",OFFSET(DE104_3!$AA$34,ROWS($AA$34:AA50)-1,COLUMNS($AA$34:AA50)-1),\"\")","v":""},{"$f":"IF(OFFSET(DE104_3!$AB$34,ROWS($AB$34:AB50)-1,COLUMNS($AB$34:AB50)-1)<>\"\",OFFSET(DE104_3!$AB$34,ROWS($AB$34:AB50)-1,COLUMNS($AB$34:AB50)-1),\"\")","v":106.62},{"$f":"IF(OFFSET(DE104_3!$AC$34,ROWS($AC$34:AC50)-1,COLUMNS($AC$34:AC50)-1)<>\"\",OFFSET(DE104_3!$AC$34,ROWS($AC$34:AC50)-1,COLUMNS($AC$34:AC50)-1),\"\")","v":123.33},{"$f":"IF(OFFSET(DE104_3!$AD$34,ROWS($AD$34:AD50)-1,COLUMNS($AD$34:AD50)-1)<>\"\",OFFSET(DE104_3!$AD$34,ROWS($AD$34:AD50)-1,COLUMNS($AD$34:AD50)-1),\"\")","v":""},{"$f":"IF(OFFSET(DE104_3!$AE$34,ROWS($AE$34:AE50)-1,COLUMNS($AE$34:AE50)-1)<>\"\",OFFSET(DE104_3!$AE$34,ROWS($AE$34:AE50)-1,COLUMNS($AE$34:AE50)-1),\"\")","v":""},{"$f":"IF(OFFSET(DE104_3!$AF$34,ROWS($AF$34:AF50)-1,COLUMNS($AF$34:AF50)-1)<>\"\",OFFSET(DE104_3!$AF$34,ROWS($AF$34:AF50)-1,COLUMNS($AF$34:AF50)-1),\"\")","v":""},{"$f":"IF(OFFSET(DE104_3!$AG$34,ROWS($AG$34:AG50)-1,COLUMNS($AG$34:AG50)-1)<>\"\",OFFSET(DE104_3!$AG$34,ROWS($AG$34:AG50)-1,COLUMNS($AG$34:AG50)-1),\"\")","v":""},{"$f":"IF(OFFSET(DE104_3!$AH$34,ROWS($AH$34:AH50)-1,COLUMNS($AH$34:AH50)-1)<>\"\",OFFSET(DE104_3!$AH$34,ROWS($AH$34:AH50)-1,COLUMNS($AH$34:AH50)-1),\"\")","v":""},{"$f":"IF(OFFSET(DE104_3!$AI$34,ROWS($AI$34:AI50)-1,COLUMNS($AI$34:AI50)-1)<>\"\",OFFSET(DE104_3!$AI$34,ROWS($AI$34:AI50)-1,COLUMNS($AI$34:AI50)-1),\"\")","v":""},{"$f":"IF(OFFSET(DE104_3!$AJ$34,ROWS($AJ$34:AJ50)-1,COLUMNS($AJ$34:AJ50)-1)<>\"\",OFFSET(DE104_3!$AJ$34,ROWS($AJ$34:AJ50)-1,COLUMNS($AJ$34:AJ50)-1),\"\")","v":""},{"$f":"IF(OFFSET(DE104_3!$AK$34,ROWS($AK$34:AK50)-1,COLUMNS($AK$34:AK50)-1)<>\"\",OFFSET(DE104_3!$AK$34,ROWS($AK$34:AK50)-1,COLUMNS($AK$34:AK50)-1),\"\")","v":""},{"$f":"IF(OFFSET(DE104_3!$AL$34,ROWS($AL$34:AL50)-1,COLUMNS($AL$34:AL50)-1)<>\"\",OFFSET(DE104_3!$AL$34,ROWS($AL$34:AL50)-1,COLUMNS($AL$34:AL50)-1),\"\")","v":""},{"$f":"IF(OFFSET(DE104_3!$AM$34,ROWS($AM$34:AM50)-1,COLUMNS($AM$34:AM50)-1)<>\"\",OFFSET(DE104_3!$AM$34,ROWS($AM$34:AM50)-1,COLUMNS($AM$34:AM50)-1),\"\")","v":""},{"$f":"IF(OFFSET(DE104_3!$AN$34,ROWS($AN$34:AN50)-1,COLUMNS($AN$34:AN50)-1)<>\"\",OFFSET(DE104_3!$AN$34,ROWS($AN$34:AN50)-1,COLUMNS($AN$34:AN50)-1),\"\")","v":""},{"$f":"IF(OFFSET(DE104_3!$AO$34,ROWS($AO$34:AO50)-1,COLUMNS($AO$34:AO50)-1)<>\"\",OFFSET(DE104_3!$AO$34,ROWS($AO$34:AO50)-1,COLUMNS($AO$34:AO50)-1),\"\")","v":""},{"$f":"IF(OFFSET(DE104_3!$AP$34,ROWS($AP$34:AP50)-1,COLUMNS($AP$34:AP50)-1)<>\"\",OFFSET(DE104_3!$AP$34,ROWS($AP$34:AP50)-1,COLUMNS($AP$34:AP50)-1),\"\")","v":""},{"$f":"IF(OFFSET(DE104_3!$AQ$34,ROWS($AQ$34:AQ50)-1,COLUMNS($AQ$34:AQ50)-1)<>\"\",OFFSET(DE104_3!$AQ$34,ROWS($AQ$34:AQ50)-1,COLUMNS($AQ$34:AQ50)-1),\"\")","v":"(5)"}]
[{"$f":"IF(OFFSET(DE104_3!$C$34,ROWS($C$34:C51)-1,COLUMNS($C$34:C51)-1)<>\"\",OFFSET(DE104_3!$C$34,ROWS($C$34:C51)-1,COLUMNS($C$34:C51)-1),\"\")","v":""},{"$f":"IF(OFFSET(DE104_3!$D$34,ROWS($D$34:D51)-1,COLUMNS($D$34:D51)-1)<>\"\",OFFSET(DE104_3!$D$34,ROWS($D$34:D51)-1,COLUMNS($D$34:D51)-1),\"\")","v":149385},{"$f":"IF(OFFSET(DE104_3!$E$34,ROWS($E$34:E51)-1,COLUMNS($E$34:E51)-1)<>\"\",OFFSET(DE104_3!$E$34,ROWS($E$34:E51)-1,COLUMNS($E$34:E51)-1),\"\")","v":"JACK"},{"$f":"IF(OFFSET(DE104_3!$F$34,ROWS($F$34:F51)-1,COLUMNS($F$34:F51)-1)<>\"\",OFFSET(DE104_3!$F$34,ROWS($F$34:F51)-1,COLUMNS($F$34:F51)-1),\"\")","v":24},{"$f":"IF(OFFSET(DE104_3!$G$34,ROWS($G$34:G51)-1,COLUMNS($G$34:G51)-1)<>\"\",OFFSET(DE104_3!$G$34,ROWS($G$34:G51)-1,COLUMNS($G$34:G51)-1),\"\")","v":2000},{"$f":"IF(OFFSET(DE104_3!$H$34,ROWS($H$34:H51)-1,COLUMNS($H$34:H51)-1)<>\"\",OFFSET(DE104_3!$H$34,ROWS($H$34:H51)-1,COLUMNS($H$34:H51)-1),\"\")","v":"RCP"},{"$f":"IF(OFFSET(DE104_3!$I$34,ROWS($I$34:I51)-1,COLUMNS($I$34:I51)-1)<>\"\",OFFSET(DE104_3!$I$34,ROWS($I$34:I51)-1,COLUMNS($I$34:I51)-1),\"\")","v":170},{"$f":"IF(OFFSET(DE104_3!$J$34,ROWS($J$34:J51)-1,COLUMNS($J$34:J51)-1)<>\"\",OFFSET(DE104_3!$J$34,ROWS($J$34:J51)-1,COLUMNS($J$34:J51)-1),\"\")","v":""},{"$f":"IF(OFFSET(DE104_3!$K$34,ROWS($K$34:K51)-1,COLUMNS($K$34:K51)-1)<>\"\",OFFSET(DE104_3!$K$34,ROWS($K$34:K51)-1,COLUMNS($K$34:K51)-1),\"\")","v":4.7},{"$f":"IF(OFFSET(DE104_3!$L$34,ROWS($L$34:L51)-1,COLUMNS($L$34:L51)-1)<>\"\",OFFSET(DE104_3!$L$34,ROWS($L$34:L51)-1,COLUMNS($L$34:L51)-1),\"\")","v":""},{"$f":"IF(OFFSET(DE104_3!$M$34,ROWS($M$34:M51)-1,COLUMNS($M$34:M51)-1)<>\"\",OFFSET(DE104_3!$M$34,ROWS($M$34:M51)-1,COLUMNS($M$34:M51)-1),\"\")","v":1},{"$f":"IF(OFFSET(DE104_3!$N$34,ROWS($N$34:N51)-1,COLUMNS($N$34:N51)-1)<>\"\",OFFSET(DE104_3!$N$34,ROWS($N$34:N51)-1,COLUMNS($N$34:N51)-1),\"\")","v":""},{"$f":"IF(OFFSET(DE104_3!$O$34,ROWS($O$34:O51)-1,COLUMNS($O$34:O51)-1)<>\"\",OFFSET(DE104_3!$O$34,ROWS($O$34:O51)-1,COLUMNS($O$34:O51)-1),\"\")","v":""},{"$f":"IF(OFFSET(DE104_3!$P$34,ROWS($P$34:P51)-1,COLUMNS($P$34:P51)-1)<>\"\",OFFSET(DE104_3!$P$34,ROWS($P$34:P51)-1,COLUMNS($P$34:P51)-1),\"\")","v":""},{"$f":"IF(OFFSET(DE104_3!$Q$34,ROWS($Q$34:Q51)-1,COLUMNS($Q$34:Q51)-1)<>\"\",OFFSET(DE104_3!$Q$34,ROWS($Q$34:Q51)-1,COLUMNS($Q$34:Q51)-1),\"\")","v":""},{"$f":"IF(OFFSET(DE104_3!$R$34,ROWS($R$34:R51)-1,COLUMNS($R$34:R51)-1)<>\"\",OFFSET(DE104_3!$R$34,ROWS($R$34:R51)-1,COLUMNS($R$34:R51)-1),\"\")","v":""},{"$f":"IF(OFFSET(DE104_3!$S$34,ROWS($S$34:S51)-1,COLUMNS($S$34:S51)-1)<>\"\",OFFSET(DE104_3!$S$34,ROWS($S$34:S51)-1,COLUMNS($S$34:S51)-1),\"\")","v":""},{"$f":"IF(OFFSET(DE104_3!$T$34,ROWS($T$34:T51)-1,COLUMNS($T$34:T51)-1)<>\"\",OFFSET(DE104_3!$T$34,ROWS($T$34:T51)-1,COLUMNS($T$34:T51)-1),\"\")","v":""},{"$f":"IF(OFFSET(DE104_3!$U$34,ROWS($U$34:U51)-1,COLUMNS($U$34:U51)-1)<>\"\",OFFSET(DE104_3!$U$34,ROWS($U$34:U51)-1,COLUMNS($U$34:U51)-1),\"\")","v":""},{"$f":"IF(OFFSET(DE104_3!$V$34,ROWS($V$34:V51)-1,COLUMNS($V$34:V51)-1)<>\"\",OFFSET(DE104_3!$V$34,ROWS($V$34:V51)-1,COLUMNS($V$34:V51)-1),\"\")","v":"Type 3"},{"$f":"IF(OFFSET(DE104_3!$W$34,ROWS($W$34:W51)-1,COLUMNS($W$34:W51)-1)<>\"\",OFFSET(DE104_3!$W$34,ROWS($W$34:W51)-1,COLUMNS($W$34:W51)-1),\"\")","v":""},{"$f":"IF(OFFSET(DE104_3!$X$34,ROWS($X$34:X51)-1,COLUMNS($X$34:X51)-1)<>\"\",OFFSET(DE104_3!$X$34,ROWS($X$34:X51)-1,COLUMNS($X$34:X51)-1),\"\")","v":926.52},{"$f":"IF(OFFSET(DE104_3!$Y$34,ROWS($Y$34:Y51)-1,COLUMNS($Y$34:Y51)-1)<>\"\",OFFSET(DE104_3!$Y$34,ROWS($Y$34:Y51)-1,COLUMNS($Y$34:Y51)-1),\"\")","v":925.51},{"$f":"IF(OFFSET(DE104_3!$Z$34,ROWS($Z$34:Z51)-1,COLUMNS($Z$34:Z51)-1)<>\"\",OFFSET(DE104_3!$Z$34,ROWS($Z$34:Z51)-1,COLUMNS($Z$34:Z51)-1),\"\")","v":""},{"$f":"IF(OFFSET(DE104_3!$AA$34,ROWS($AA$34:AA51)-1,COLUMNS($AA$34:AA51)-1)<>\"\",OFFSET(DE104_3!$AA$34,ROWS($AA$34:AA51)-1,COLUMNS($AA$34:AA51)-1),\"\")","v":""},{"$f":"IF(OFFSET(DE104_3!$AB$34,ROWS($AB$34:AB51)-1,COLUMNS($AB$34:AB51)-1)<>\"\",OFFSET(DE104_3!$AB$34,ROWS($AB$34:AB51)-1,COLUMNS($AB$34:AB51)-1),\"\")","v":97.98},{"$f":"IF(OFFSET(DE104_3!$AC$34,ROWS($AC$34:AC51)-1,COLUMNS($AC$34:AC51)-1)<>\"\",OFFSET(DE104_3!$AC$34,ROWS($AC$34:AC51)-1,COLUMNS($AC$34:AC51)-1),\"\")","v":78.14},{"$f":"IF(OFFSET(DE104_3!$AD$34,ROWS($AD$34:AD51)-1,COLUMNS($AD$34:AD51)-1)<>\"\",OFFSET(DE104_3!$AD$34,ROWS($AD$34:AD51)-1,COLUMNS($AD$34:AD51)-1),\"\")","v":""},{"$f":"IF(OFFSET(DE104_3!$AE$34,ROWS($AE$34:AE51)-1,COLUMNS($AE$34:AE51)-1)<>\"\",OFFSET(DE104_3!$AE$34,ROWS($AE$34:AE51)-1,COLUMNS($AE$34:AE51)-1),\"\")","v":""},{"$f":"IF(OFFSET(DE104_3!$AF$34,ROWS($AF$34:AF51)-1,COLUMNS($AF$34:AF51)-1)<>\"\",OFFSET(DE104_3!$AF$34,ROWS($AF$34:AF51)-1,COLUMNS($AF$34:AF51)-1),\"\")","v":""},{"$f":"IF(OFFSET(DE104_3!$AG$34,ROWS($AG$34:AG51)-1,COLUMNS($AG$34:AG51)-1)<>\"\",OFFSET(DE104_3!$AG$34,ROWS($AG$34:AG51)-1,COLUMNS($AG$34:AG51)-1),\"\")","v":""},{"$f":"IF(OFFSET(DE104_3!$AH$34,ROWS($AH$34:AH51)-1,COLUMNS($AH$34:AH51)-1)<>\"\",OFFSET(DE104_3!$AH$34,ROWS($AH$34:AH51)-1,COLUMNS($AH$34:AH51)-1),\"\")","v":""},{"$f":"IF(OFFSET(DE104_3!$AI$34,ROWS($AI$34:AI51)-1,COLUMNS($AI$34:AI51)-1)<>\"\",OFFSET(DE104_3!$AI$34,ROWS($AI$34:AI51)-1,COLUMNS($AI$34:AI51)-1),\"\")","v":""},{"$f":"IF(OFFSET(DE104_3!$AJ$34,ROWS($AJ$34:AJ51)-1,COLUMNS($AJ$34:AJ51)-1)<>\"\",OFFSET(DE104_3!$AJ$34,ROWS($AJ$34:AJ51)-1,COLUMNS($AJ$34:AJ51)-1),\"\")","v":""},{"$f":"IF(OFFSET(DE104_3!$AK$34,ROWS($AK$34:AK51)-1,COLUMNS($AK$34:AK51)-1)<>\"\",OFFSET(DE104_3!$AK$34,ROWS($AK$34:AK51)-1,COLUMNS($AK$34:AK51)-1),\"\")","v":""},{"$f":"IF(OFFSET(DE104_3!$AL$34,ROWS($AL$34:AL51)-1,COLUMNS($AL$34:AL51)-1)<>\"\",OFFSET(DE104_3!$AL$34,ROWS($AL$34:AL51)-1,COLUMNS($AL$34:AL51)-1),\"\")","v":""},{"$f":"IF(OFFSET(DE104_3!$AM$34,ROWS($AM$34:AM51)-1,COLUMNS($AM$34:AM51)-1)<>\"\",OFFSET(DE104_3!$AM$34,ROWS($AM$34:AM51)-1,COLUMNS($AM$34:AM51)-1),\"\")","v":""},{"$f":"IF(OFFSET(DE104_3!$AN$34,ROWS($AN$34:AN51)-1,COLUMNS($AN$34:AN51)-1)<>\"\",OFFSET(DE104_3!$AN$34,ROWS($AN$34:AN51)-1,COLUMNS($AN$34:AN51)-1),\"\")","v":""},{"$f":"IF(OFFSET(DE104_3!$AO$34,ROWS($AO$34:AO51)-1,COLUMNS($AO$34:AO51)-1)<>\"\",OFFSET(DE104_3!$AO$34,ROWS($AO$34:AO51)-1,COLUMNS($AO$34:AO51)-1),\"\")","v":""},{"$f":"IF(OFFSET(DE104_3!$AP$34,ROWS($AP$34:AP51)-1,COLUMNS($AP$34:AP51)-1)<>\"\",OFFSET(DE104_3!$AP$34,ROWS($AP$34:AP51)-1,COLUMNS($AP$34:AP51)-1),\"\")","v":""},{"$f":"IF(OFFSET(DE104_3!$AQ$34,ROWS($AQ$34:AQ51)-1,COLUMNS($AQ$34:AQ51)-1)<>\"\",OFFSET(DE104_3!$AQ$34,ROWS($AQ$34:AQ51)-1,COLUMNS($AQ$34:AQ51)-1),\"\")","v":""}]
[{"$f":"IF(OFFSET(DE104_3!$C$34,ROWS($C$34:C52)-1,COLUMNS($C$34:C52)-1)<>\"\",OFFSET(DE104_3!$C$34,ROWS($C$34:C52)-1,COLUMNS($C$34:C52)-1),\"\")","v":""},{"$f":"IF(OFFSET(DE104_3!$D$34,ROWS($D$34:D52)-1,COLUMNS($D$34:D52)-1)<>\"\",OFFSET(DE104_3!$D$34,ROWS($D$34:D52)-1,COLUMNS($D$34:D52)-1),\"\")","v":""},{"$f":"IF(OFFSET(DE104_3!$E$34,ROWS($E$34:E52)-1,COLUMNS($E$34:E52)-1)<>\"\",OFFSET(DE104_3!$E$34,ROWS($E$34:E52)-1,COLUMNS($E$34:E52)-1),\"\")","v":"DR-621"},{"$f":"IF(OFFSET(DE104_3!$F$34,ROWS($F$34:F52)-1,COLUMNS($F$34:F52)-1)<>\"\",OFFSET(DE104_3!$F$34,ROWS($F$34:F52)-1,COLUMNS($F$34:F52)-1),\"\")","v":24},{"$f":"IF(OFFSET(DE104_3!$G$34,ROWS($G$34:G52)-1,COLUMNS($G$34:G52)-1)<>\"\",OFFSET(DE104_3!$G$34,ROWS($G$34:G52)-1,COLUMNS($G$34:G52)-1),\"\")","v":2000},{"$f":"IF(OFFSET(DE104_3!$H$34,ROWS($H$34:H52)-1,COLUMNS($H$34:H52)-1)<>\"\",OFFSET(DE104_3!$H$34,ROWS($H$34:H52)-1,COLUMNS($H$34:H52)-1),\"\")","v":"RCP"},{"$f":"IF(OFFSET(DE104_3!$I$34,ROWS($I$34:I52)-1,COLUMNS($I$34:I52)-1)<>\"\",OFFSET(DE104_3!$I$34,ROWS($I$34:I52)-1,COLUMNS($I$34:I52)-1),\"\")","v":32},{"$f":"IF(OFFSET(DE104_3!$J$34,ROWS($J$34:J52)-1,COLUMNS($J$34:J52)-1)<>\"\",OFFSET(DE104_3!$J$34,ROWS($J$34:J52)-1,COLUMNS($J$34:J52)-1),\"\")","v":"B"},{"$f":"IF(OFFSET(DE104_3!$K$34,ROWS($K$34:K52)-1,COLUMNS($K$34:K52)-1)<>\"\",OFFSET(DE104_3!$K$34,ROWS($K$34:K52)-1,COLUMNS($K$34:K52)-1),\"\")","v":4.7},{"$f":"IF(OFFSET(DE104_3!$L$34,ROWS($L$34:L52)-1,COLUMNS($L$34:L52)-1)<>\"\",OFFSET(DE104_3!$L$34,ROWS($L$34:L52)-1,COLUMNS($L$34:L52)-1),\"\")","v":""},{"$f":"IF(OFFSET(DE104_3!$M$34,ROWS($M$34:M52)-1,COLUMNS($M$34:M52)-1)<>\"\",OFFSET(DE104_3!$M$34,ROWS($M$34:M52)-1,COLUMNS($M$34:M52)-1),\"\")","v":""},{"$f":"IF(OFFSET(DE104_3!$N$34,ROWS($N$34:N52)-1,COLUMNS($N$34:N52)-1)<>\"\",OFFSET(DE104_3!$N$34,ROWS($N$34:N52)-1,COLUMNS($N$34:N52)-1),\"\")","v":1},{"$f":"IF(OFFSET(DE104_3!$O$34,ROWS($O$34:O52)-1,COLUMNS($O$34:O52)-1)<>\"\",OFFSET(DE104_3!$O$34,ROWS($O$34:O52)-1,COLUMNS($O$34:O52)-1),\"\")","v":""},{"$f":"IF(OFFSET(DE104_3!$P$34,ROWS($P$34:P52)-1,COLUMNS($P$34:P52)-1)<>\"\",OFFSET(DE104_3!$P$34,ROWS($P$34:P52)-1,COLUMNS($P$34:P52)-1),\"\")","v":""},{"$f":"IF(OFFSET(DE104_3!$Q$34,ROWS($Q$34:Q52)-1,COLUMNS($Q$34:Q52)-1)<>\"\",OFFSET(DE104_3!$Q$34,ROWS($Q$34:Q52)-1,COLUMNS($Q$34:Q52)-1),\"\")","v":""},{"$f":"IF(OFFSET(DE104_3!$R$34,ROWS($R$34:R52)-1,COLUMNS($R$34:R52)-1)<>\"\",OFFSET(DE104_3!$R$34,ROWS($R$34:R52)-1,COLUMNS($R$34:R52)-1),\"\")","v":""},{"$f":"IF(OFFSET(DE104_3!$S$34,ROWS($S$34:S52)-1,COLUMNS($S$34:S52)-1)<>\"\",OFFSET(DE104_3!$S$34,ROWS($S$34:S52)-1,COLUMNS($S$34:S52)-1),\"\")","v":""},{"$f":"IF(OFFSET(DE104_3!$T$34,ROWS($T$34:T52)-1,COLUMNS($T$34:T52)-1)<>\"\",OFFSET(DE104_3!$T$34,ROWS($T$34:T52)-1,COLUMNS($T$34:T52)-1),\"\")","v":""},{"$f":"IF(OFFSET(DE104_3!$U$34,ROWS($U$34:U52)-1,COLUMNS($U$34:U52)-1)<>\"\",OFFSET(DE104_3!$U$34,ROWS($U$34:U52)-1,COLUMNS($U$34:U52)-1),\"\")","v":""},{"$f":"IF(OFFSET(DE104_3!$V$34,ROWS($V$34:V52)-1,COLUMNS($V$34:V52)-1)<>\"\",OFFSET(DE104_3!$V$34,ROWS($V$34:V52)-1,COLUMNS($V$34:V52)-1),\"\")","v":"Type 3"},{"$f":"IF(OFFSET(DE104_3!$W$34,ROWS($W$34:W52)-1,COLUMNS($W$34:W52)-1)<>\"\",OFFSET(DE104_3!$W$34,ROWS($W$34:W52)-1,COLUMNS($W$34:W52)-1),\"\")","v":""},{"$f":"IF(OFFSET(DE104_3!$X$34,ROWS($X$34:X52)-1,COLUMNS($X$34:X52)-1)<>\"\",OFFSET(DE104_3!$X$34,ROWS($X$34:X52)-1,COLUMNS($X$34:X52)-1),\"\")","v":925.51},{"$f":"IF(OFFSET(DE104_3!$Y$34,ROWS($Y$34:Y52)-1,COLUMNS($Y$34:Y52)-1)<>\"\",OFFSET(DE104_3!$Y$34,ROWS($Y$34:Y52)-1,COLUMNS($Y$34:Y52)-1),\"\")","v":925.29},{"$f":"IF(OFFSET(DE104_3!$Z$34,ROWS($Z$34:Z52)-1,COLUMNS($Z$34:Z52)-1)<>\"\",OFFSET(DE104_3!$Z$34,ROWS($Z$34:Z52)-1,COLUMNS($Z$34:Z52)-1),\"\")","v":""},{"$f":"IF(OFFSET(DE104_3!$AA$34,ROWS($AA$34:AA52)-1,COLUMNS($AA$34:AA52)-1)<>\"\",OFFSET(DE104_3!$AA$34,ROWS($AA$34:AA52)-1,COLUMNS($AA$34:AA52)-1),\"\")","v":""},{"$f":"IF(OFFSET(DE104_3!$AB$34,ROWS($AB$34:AB52)-1,COLUMNS($AB$34:AB52)-1)<>\"\",OFFSET(DE104_3!$AB$34,ROWS($AB$34:AB52)-1,COLUMNS($AB$34:AB52)-1),\"\")","v":78.14},{"$f":"IF(OFFSET(DE104_3!$AC$34,ROWS($AC$34:AC52)-1,COLUMNS($AC$34:AC52)-1)<>\"\",OFFSET(DE104_3!$AC$34,ROWS($AC$34:AC52)-1,COLUMNS($AC$34:AC52)-1),\"\")","v":116.27},{"$f":"IF(OFFSET(DE104_3!$AD$34,ROWS($AD$34:AD52)-1,COLUMNS($AD$34:AD52)-1)<>\"\",OFFSET(DE104_3!$AD$34,ROWS($AD$34:AD52)-1,COLUMNS($AD$34:AD52)-1),\"\")","v":""},{"$f":"IF(OFFSET(DE104_3!$AE$34,ROWS($AE$34:AE52)-1,COLUMNS($AE$34:AE52)-1)<>\"\",OFFSET(DE104_3!$AE$34,ROWS($AE$34:AE52)-1,COLUMNS($AE$34:AE52)-1),\"\")","v":""},{"$f":"IF(OFFSET(DE104_3!$AF$34,ROWS($AF$34:AF52)-1,COLUMNS($AF$34:AF52)-1)<>\"\",OFFSET(DE104_3!$AF$34,ROWS($AF$34:AF52)-1,COLUMNS($AF$34:AF52)-1),\"\")","v":""},{"$f":"IF(OFFSET(DE104_3!$AG$34,ROWS($AG$34:AG52)-1,COLUMNS($AG$34:AG52)-1)<>\"\",OFFSET(DE104_3!$AG$34,ROWS($AG$34:AG52)-1,COLUMNS($AG$34:AG52)-1),\"\")","v":""},{"$f":"IF(OFFSET(DE104_3!$AH$34,ROWS($AH$34:AH52)-1,COLUMNS($AH$34:AH52)-1)<>\"\",OFFSET(DE104_3!$AH$34,ROWS($AH$34:AH52)-1,COLUMNS($AH$34:AH52)-1),\"\")","v":""},{"$f":"IF(OFFSET(DE104_3!$AI$34,ROWS($AI$34:AI52)-1,COLUMNS($AI$34:AI52)-1)<>\"\",OFFSET(DE104_3!$AI$34,ROWS($AI$34:AI52)-1,COLUMNS($AI$34:AI52)-1),\"\")","v":""},{"$f":"IF(OFFSET(DE104_3!$AJ$34,ROWS($AJ$34:AJ52)-1,COLUMNS($AJ$34:AJ52)-1)<>\"\",OFFSET(DE104_3!$AJ$34,ROWS($AJ$34:AJ52)-1,COLUMNS($AJ$34:AJ52)-1),\"\")","v":""},{"$f":"IF(OFFSET(DE104_3!$AK$34,ROWS($AK$34:AK52)-1,COLUMNS($AK$34:AK52)-1)<>\"\",OFFSET(DE104_3!$AK$34,ROWS($AK$34:AK52)-1,COLUMNS($AK$34:AK52)-1),\"\")","v":""},{"$f":"IF(OFFSET(DE104_3!$AL$34,ROWS($AL$34:AL52)-1,COLUMNS($AL$34:AL52)-1)<>\"\",OFFSET(DE104_3!$AL$34,ROWS($AL$34:AL52)-1,COLUMNS($AL$34:AL52)-1),\"\")","v":18.483564814814812},{"$f":"IF(OFFSET(DE104_3!$AM$34,ROWS($AM$34:AM52)-1,COLUMNS($AM$34:AM52)-1)<>\"\",OFFSET(DE104_3!$AM$34,ROWS($AM$34:AM52)-1,COLUMNS($AM$34:AM52)-1),\"\")","v":""},{"$f":"IF(OFFSET(DE104_3!$AN$34,ROWS($AN$34:AN52)-1,COLUMNS($AN$34:AN52)-1)<>\"\",OFFSET(DE104_3!$AN$34,ROWS($AN$34:AN52)-1,COLUMNS($AN$34:AN52)-1),\"\")","v":""},{"$f":"IF(OFFSET(DE104_3!$AO$34,ROWS($AO$34:AO52)-1,COLUMNS($AO$34:AO52)-1)<>\"\",OFFSET(DE104_3!$AO$34,ROWS($AO$34:AO52)-1,COLUMNS($AO$34:AO52)-1),\"\")","v":2.9793981481481477},{"$f":"IF(OFFSET(DE104_3!$AP$34,ROWS($AP$34:AP52)-1,COLUMNS($AP$34:AP52)-1)<>\"\",OFFSET(DE104_3!$AP$34,ROWS($AP$34:AP52)-1,COLUMNS($AP$34:AP52)-1),\"\")","v":2.9793981481481477},{"$f":"IF(OFFSET(DE104_3!$AQ$34,ROWS($AQ$34:AQ52)-1,COLUMNS($AQ$34:AQ52)-1)<>\"\",OFFSET(DE104_3!$AQ$34,ROWS($AQ$34:AQ52)-1,COLUMNS($AQ$34:AQ52)-1),\"\")","v":""}]
[{"$f":"IF(OFFSET(DE104_3!$C$34,ROWS($C$34:C53)-1,COLUMNS($C$34:C53)-1)<>\"\",OFFSET(DE104_3!$C$34,ROWS($C$34:C53)-1,COLUMNS($C$34:C53)-1),\"\")","v":"MED"},{"$f":"IF(OFFSET(DE104_3!$D$34,ROWS($D$34:D53)-1,COLUMNS($D$34:D53)-1)<>\"\",OFFSET(DE104_3!$D$34,ROWS($D$34:D53)-1,COLUMNS($D$34:D53)-1),\"\")","v":150100},{"$f":"IF(OFFSET(DE104_3!$E$34,ROWS($E$34:E53)-1,COLUMNS($E$34:E53)-1)<>\"\",OFFSET(DE104_3!$E$34,ROWS($E$34:E53)-1,COLUMNS($E$34:E53)-1),\"\")","v":"DR-611"},{"$f":"IF(OFFSET(DE104_3!$F$34,ROWS($F$34:F53)-1,COLUMNS($F$34:F53)-1)<>\"\",OFFSET(DE104_3!$F$34,ROWS($F$34:F53)-1,COLUMNS($F$34:F53)-1),\"\")","v":24},{"$f":"IF(OFFSET(DE104_3!$G$34,ROWS($G$34:G53)-1,COLUMNS($G$34:G53)-1)<>\"\",OFFSET(DE104_3!$G$34,ROWS($G$34:G53)-1,COLUMNS($G$34:G53)-1),\"\")","v":2000},{"$f":"IF(OFFSET(DE104_3!$H$34,ROWS($H$34:H53)-1,COLUMNS($H$34:H53)-1)<>\"\",OFFSET(DE104_3!$H$34,ROWS($H$34:H53)-1,COLUMNS($H$34:H53)-1),\"\")","v":"RCP"},{"$f":"IF(OFFSET(DE104_3!$I$34,ROWS($I$34:I53)-1,COLUMNS($I$34:I53)-1)<>\"\",OFFSET(DE104_3!$I$34,ROWS($I$34:I53)-1,COLUMNS($I$34:I53)-1),\"\")","v":74},{"$f":"IF(OFFSET(DE104_3!$J$34,ROWS($J$34:J53)-1,COLUMNS($J$34:J53)-1)<>\"\",OFFSET(DE104_3!$J$34,ROWS($J$34:J53)-1,COLUMNS($J$34:J53)-1),\"\")","v":"B"},{"$f":"IF(OFFSET(DE104_3!$K$34,ROWS($K$34:K53)-1,COLUMNS($K$34:K53)-1)<>\"\",OFFSET(DE104_3!$K$34,ROWS($K$34:K53)-1,COLUMNS($K$34:K53)-1),\"\")","v":3.2},{"$f":"IF(OFFSET(DE104_3!$L$34,ROWS($L$34:L53)-1,COLUMNS($L$34:L53)-1)<>\"\",OFFSET(DE104_3!$L$34,ROWS($L$34:L53)-1,COLUMNS($L$34:L53)-1),\"\")","v":""},{"$f":"IF(OFFSET(DE104_3!$M$34,ROWS($M$34:M53)-1,COLUMNS($M$34:M53)-1)<>\"\",OFFSET(DE104_3!$M$34,ROWS($M$34:M53)-1,COLUMNS($M$34:M53)-1),\"\")","v":1},{"$f":"IF(OFFSET(DE104_3!$N$34,ROWS($N$34:N53)-1,COLUMNS($N$34:N53)-1)<>\"\",OFFSET(DE104_3!$N$34,ROWS($N$34:N53)-1,COLUMNS($N$34:N53)-1),\"\")","v":1},{"$f":"IF(OFFSET(DE104_3!$O$34,ROWS($O$34:O53)-1,COLUMNS($O$34:O53)-1)<>\"\",OFFSET(DE104_3!$O$34,ROWS($O$34:O53)-1,COLUMNS($O$34:O53)-1),\"\")","v":""},{"$f":"IF(OFFSET(DE104_3!$P$34,ROWS($P$34:P53)-1,COLUMNS($P$34:P53)-1)<>\"\",OFFSET(DE104_3!$P$34,ROWS($P$34:P53)-1,COLUMNS($P$34:P53)-1),\"\")","v":""},{"$f":"IF(OFFSET(DE104_3!$Q$34,ROWS($Q$34:Q53)-1,COLUMNS($Q$34:Q53)-1)<>\"\",OFFSET(DE104_3!$Q$34,ROWS($Q$34:Q53)-1,COLUMNS($Q$34:Q53)-1),\"\")","v":""},{"$f":"IF(OFFSET(DE104_3!$R$34,ROWS($R$34:R53)-1,COLUMNS($R$34:R53)-1)<>\"\",OFFSET(DE104_3!$R$34,ROWS($R$34:R53)-1,COLUMNS($R$34:R53)-1),\"\")","v":""},{"$f":"IF(OFFSET(DE104_3!$S$34,ROWS($S$34:S53)-1,COLUMNS($S$34:S53)-1)<>\"\",OFFSET(DE104_3!$S$34,ROWS($S$34:S53)-1,COLUMNS($S$34:S53)-1),\"\")","v":""},{"$f":"IF(OFFSET(DE104_3!$T$34,ROWS($T$34:T53)-1,COLUMNS($T$34:T53)-1)<>\"\",OFFSET(DE104_3!$T$34,ROWS($T$34:T53)-1,COLUMNS($T$34:T53)-1),\"\")","v":""},{"$f":"IF(OFFSET(DE104_3!$U$34,ROWS($U$34:U53)-1,COLUMNS($U$34:U53)-1)<>\"\",OFFSET(DE104_3!$U$34,ROWS($U$34:U53)-1,COLUMNS($U$34:U53)-1),\"\")","v":""},{"$f":"IF(OFFSET(DE104_3!$V$34,ROWS($V$34:V53)-1,COLUMNS($V$34:V53)-1)<>\"\",OFFSET(DE104_3!$V$34,ROWS($V$34:V53)-1,COLUMNS($V$34:V53)-1),\"\")","v":"Type 3"},{"$f":"IF(OFFSET(DE104_3!$W$34,ROWS($W$34:W53)-1,COLUMNS($W$34:W53)-1)<>\"\",OFFSET(DE104_3!$W$34,ROWS($W$34:W53)-1,COLUMNS($W$34:W53)-1),\"\")","v":""},{"$f":"IF(OFFSET(DE104_3!$X$34,ROWS($X$34:X53)-1,COLUMNS($X$34:X53)-1)<>\"\",OFFSET(DE104_3!$X$34,ROWS($X$34:X53)-1,COLUMNS($X$34:X53)-1),\"\")","v":927.97},{"$f":"IF(OFFSET(DE104_3!$Y$34,ROWS($Y$34:Y53)-1,COLUMNS($Y$34:Y53)-1)<>\"\",OFFSET(DE104_3!$Y$34,ROWS($Y$34:Y53)-1,COLUMNS($Y$34:Y53)-1),\"\")","v":926.26},{"$f":"IF(OFFSET(DE104_3!$Z$34,ROWS($Z$34:Z53)-1,COLUMNS($Z$34:Z53)-1)<>\"\",OFFSET(DE104_3!$Z$34,ROWS($Z$34:Z53)-1,COLUMNS($Z$34:Z53)-1),\"\")","v":927.09},{"$f":"IF(OFFSET(DE104_3!$AA$34,ROWS($AA$34:AA53)-1,COLUMNS($AA$34:AA53)-1)<>\"\",OFFSET(DE104_3!$AA$34,ROWS($AA$34:AA53)-1,COLUMNS($AA$34:AA53)-1),\"\")","v":""},{"$f":"IF(OFFSET(DE104_3!$AB$34,ROWS($AB$34:AB53)-1,COLUMNS($AB$34:AB53)-1)<>\"\",OFFSET(DE104_3!$AB$34,ROWS($AB$34:AB53)-1,COLUMNS($AB$34:AB53)-1),\"\")","v":37.5},{"$f":"IF(OFFSET(DE104_3!$AC$34,ROWS($AC$34:AC53)-1,COLUMNS($AC$34:AC53)-1)<>\"\",OFFSET(DE104_3!$AC$34,ROWS($AC$34:AC53)-1,COLUMNS($AC$34:AC53)-1),\"\")","v":48.6},{"$f":"IF(OFFSET(DE104_3!$AD$34,ROWS($AD$34:AD53)-1,COLUMNS($AD$34:AD53)-1)<>\"\",OFFSET(DE104_3!$AD$34,ROWS($AD$34:AD53)-1,COLUMNS($AD$34:AD53)-1),\"\")","v":""},{"$f":"IF(OFFSET(DE104_3!$AE$34,ROWS($AE$34:AE53)-1,COLUMNS($AE$34:AE53)-1)<>\"\",OFFSET(DE104_3!$AE$34,ROWS($AE$34:AE53)-1,COLUMNS($AE$34:AE53)-1),\"\")","v":""},{"$f":"IF(OFFSET(DE104_3!$AF$34,ROWS($AF$34:AF53)-1,COLUMNS($AF$34:AF53)-1)<>\"\",OFFSET(DE104_3!$AF$34,ROWS($AF$34:AF53)-1,COLUMNS($AF$34:AF53)-1),\"\")","v":""},{"$f":"IF(OFFSET(DE104_3!$AG$34,ROWS($AG$34:AG53)-1,COLUMNS($AG$34:AG53)-1)<>\"\",OFFSET(DE104_3!$AG$34,ROWS($AG$34:AG53)-1,COLUMNS($AG$34:AG53)-1),\"\")","v":""},{"$f":"IF(OFFSET(DE104_3!$AH$34,ROWS($AH$34:AH53)-1,COLUMNS($AH$34:AH53)-1)<>\"\",OFFSET(DE104_3!$AH$34,ROWS($AH$34:AH53)-1,COLUMNS($AH$34:AH53)-1),\"\")","v":""},{"$f":"IF(OFFSET(DE104_3!$AI$34,ROWS($AI$34:AI53)-1,COLUMNS($AI$34:AI53)-1)<>\"\",OFFSET(DE104_3!$AI$34,ROWS($AI$34:AI53)-1,COLUMNS($AI$34:AI53)-1),\"\")","v":""},{"$f":"IF(OFFSET(DE104_3!$AJ$34,ROWS($AJ$34:AJ53)-1,COLUMNS($AJ$34:AJ53)-1)<>\"\",OFFSET(DE104_3!$AJ$34,ROWS($AJ$34:AJ53)-1,COLUMNS($AJ$34:AJ53)-1),\"\")","v":""},{"$f":"IF(OFFSET(DE104_3!$AK$34,ROWS($AK$34:AK53)-1,COLUMNS($AK$34:AK53)-1)<>\"\",OFFSET(DE104_3!$AK$34,ROWS($AK$34:AK53)-1,COLUMNS($AK$34:AK53)-1),\"\")","v":""},{"$f":"IF(OFFSET(DE104_3!$AL$34,ROWS($AL$34:AL53)-1,COLUMNS($AL$34:AL53)-1)<>\"\",OFFSET(DE104_3!$AL$34,ROWS($AL$34:AL53)-1,COLUMNS($AL$34:AL53)-1),\"\")","v":35.958333333333336},{"$f":"IF(OFFSET(DE104_3!$AM$34,ROWS($AM$34:AM53)-1,COLUMNS($AM$34:AM53)-1)<>\"\",OFFSET(DE104_3!$AM$34,ROWS($AM$34:AM53)-1,COLUMNS($AM$34:AM53)-1),\"\")","v":""},{"$f":"IF(OFFSET(DE104_3!$AN$34,ROWS($AN$34:AN53)-1,COLUMNS($AN$34:AN53)-1)<>\"\",OFFSET(DE104_3!$AN$34,ROWS($AN$34:AN53)-1,COLUMNS($AN$34:AN53)-1),\"\")","v":17.093333333333334},{"$f":"IF(OFFSET(DE104_3!$AO$34,ROWS($AO$34:AO53)-1,COLUMNS($AO$34:AO53)-1)<>\"\",OFFSET(DE104_3!$AO$34,ROWS($AO$34:AO53)-1,COLUMNS($AO$34:AO53)-1),\"\")","v":6.5878888888888882},{"$f":"IF(OFFSET(DE104_3!$AP$34,ROWS($AP$34:AP53)-1,COLUMNS($AP$34:AP53)-1)<>\"\",OFFSET(DE104_3!$AP$34,ROWS($AP$34:AP53)-1,COLUMNS($AP$34:AP53)-1),\"\")","v":23.681222222222221},{"$f":"IF(OFFSET(DE104_3!$AQ$34,ROWS($AQ$34:AQ53)-1,COLUMNS($AQ$34:AQ53)-1)<>\"\",OFFSET(DE104_3!$AQ$34,ROWS($AQ$34:AQ53)-1,COLUMNS($AQ$34:AQ53)-1),\"\")","v":""}]
[{"$f":"IF(OFFSET(DE104_3!$C$34,ROWS($C$34:C54)-1,COLUMNS($C$34:C54)-1)<>\"\",OFFSET(DE104_3!$C$34,ROWS($C$34:C54)-1,COLUMNS($C$34:C54)-1),\"\")","v":""},{"$f":"IF(OFFSET(DE104_3!$D$34,ROWS($D$34:D54)-1,COLUMNS($D$34:D54)-1)<>\"\",OFFSET(DE104_3!$D$34,ROWS($D$34:D54)-1,COLUMNS($D$34:D54)-1),\"\")","v":150625},{"$f":"IF(OFFSET(DE104_3!$E$34,ROWS($E$34:E54)-1,COLUMNS($E$34:E54)-1)<>\"\",OFFSET(DE104_3!$E$34,ROWS($E$34:E54)-1,COLUMNS($E$34:E54)-1),\"\")","v":"JACK"},{"$f":"IF(OFFSET(DE104_3!$F$34,ROWS($F$34:F54)-1,COLUMNS($F$34:F54)-1)<>\"\",OFFSET(DE104_3!$F$34,ROWS($F$34:F54)-1,COLUMNS($F$34:F54)-1),\"\")","v":24},{"$f":"IF(OFFSET(DE104_3!$G$34,ROWS($G$34:G54)-1,COLUMNS($G$34:G54)-1)<>\"\",OFFSET(DE104_3!$G$34,ROWS($G$34:G54)-1,COLUMNS($G$34:G54)-1),\"\")","v":2000},{"$f":"IF(OFFSET(DE104_3!$H$34,ROWS($H$34:H54)-1,COLUMNS($H$34:H54)-1)<>\"\",OFFSET(DE104_3!$H$34,ROWS($H$34:H54)-1,COLUMNS($H$34:H54)-1),\"\")","v":"RCP"},{"$f":"IF(OFFSET(DE104_3!$I$34,ROWS($I$34:I54)-1,COLUMNS($I$34:I54)-1)<>\"\",OFFSET(DE104_3!$I$34,ROWS($I$34:I54)-1,COLUMNS($I$34:I54)-1),\"\")","v":170},{"$f":"IF(OFFSET(DE104_3!$J$34,ROWS($J$34:J54)-1,COLUMNS($J$34:J54)-1)<>\"\",OFFSET(DE104_3!$J$34,ROWS($J$34:J54)-1,COLUMNS($J$34:J54)-1),\"\")","v":""},{"$f":"IF(OFFSET(DE104_3!$K$34,ROWS($K$34:K54)-1,COLUMNS($K$34:K54)-1)<>\"\",OFFSET(DE104_3!$K$34,ROWS($K$34:K54)-1,COLUMNS($K$34:K54)-1),\"\")","v":""},{"$f":"IF(OFFSET(DE104_3!$L$34,ROWS($L$34:L54)-1,COLUMNS($L$34:L54)-1)<>\"\",OFFSET(DE104_3!$L$34,ROWS($L$34:L54)-1,COLUMNS($L$34:L54)-1),\"\")","v":""},{"$f":"IF(OFFSET(DE104_3!$M$34,ROWS($M$34:M54)-1,COLUMNS($M$34:M54)-1)<>\"\",OFFSET(DE104_3!$M$34,ROWS($M$34:M54)-1,COLUMNS($M$34:M54)-1),\"\")","v":""},{"$f":"IF(OFFSET(DE104_3!$N$34,ROWS($N$34:N54)-1,COLUMNS($N$34:N54)-1)<>\"\",OFFSET(DE104_3!$N$34,ROWS($N$34:N54)-1,COLUMNS($N$34:N54)-1),\"\")","v":1},{"$f":"IF(OFFSET(DE104_3!$O$34,ROWS($O$34:O54)-1,COLUMNS($O$34:O54)-1)<>\"\",OFFSET(DE104_3!$O$34,ROWS($O$34:O54)-1,COLUMNS($O$34:O54)-1),\"\")","v":""},{"$f":"IF(OFFSET(DE104_3!$P$34,ROWS($P$34:P54)-1,COLUMNS($P$34:P54)-1)<>\"\",OFFSET(DE104_3!$P$34,ROWS($P$34:P54)-1,COLUMNS($P$34:P54)-1),\"\")","v":""},{"$f":"IF(OFFSET(DE104_3!$Q$34,ROWS($Q$34:Q54)-1,COLUMNS($Q$34:Q54)-1)<>\"\",OFFSET(DE104_3!$Q$34,ROWS($Q$34:Q54)-1,COLUMNS($Q$34:Q54)-1),\"\")","v":""},{"$f":"IF(OFFSET(DE104_3!$R$34,ROWS($R$34:R54)-1,COLUMNS($R$34:R54)-1)<>\"\",OFFSET(DE104_3!$R$34,ROWS($R$34:R54)-1,COLUMNS($R$34:R54)-1),\"\")","v":""},{"$f":"IF(OFFSET(DE104_3!$S$34,ROWS($S$34:S54)-1,COLUMNS($S$34:S54)-1)<>\"\",OFFSET(DE104_3!$S$34,ROWS($S$34:S54)-1,COLUMNS($S$34:S54)-1),\"\")","v":""},{"$f":"IF(OFFSET(DE104_3!$T$34,ROWS($T$34:T54)-1,COLUMNS($T$34:T54)-1)<>\"\",OFFSET(DE104_3!$T$34,ROWS($T$34:T54)-1,COLUMNS($T$34:T54)-1),\"\")","v":""},{"$f":"IF(OFFSET(DE104_3!$U$34,ROWS($U$34:U54)-1,COLUMNS($U$34:U54)-1)<>\"\",OFFSET(DE104_3!$U$34,ROWS($U$34:U54)-1,COLUMNS($U$34:U54)-1),\"\")","v":""},{"$f":"IF(OFFSET(DE104_3!$V$34,ROWS($V$34:V54)-1,COLUMNS($V$34:V54)-1)<>\"\",OFFSET(DE104_3!$V$34,ROWS($V$34:V54)-1,COLUMNS($V$34:V54)-1),\"\")","v":"Type 3"},{"$f":"IF(OFFSET(DE104_3!$W$34,ROWS($W$34:W54)-1,COLUMNS($W$34:W54)-1)<>\"\",OFFSET(DE104_3!$W$34,ROWS($W$34:W54)-1,COLUMNS($W$34:W54)-1),\"\")","v":""},{"$f":"IF(OFFSET(DE104_3!$X$34,ROWS($X$34:X54)-1,COLUMNS($X$34:X54)-1)<>\"\",OFFSET(DE104_3!$X$34,ROWS($X$34:X54)-1,COLUMNS($X$34:X54)-1),\"\")","v":916.49},{"$f":"IF(OFFSET(DE104_3!$Y$34,ROWS($Y$34:Y54)-1,COLUMNS($Y$34:Y54)-1)<>\"\",OFFSET(DE104_3!$Y$34,ROWS($Y$34:Y54)-1,COLUMNS($Y$34:Y54)-1),\"\")","v":919.19},{"$f":"IF(OFFSET(DE104_3!$Z$34,ROWS($Z$34:Z54)-1,COLUMNS($Z$34:Z54)-1)<>\"\",OFFSET(DE104_3!$Z$34,ROWS($Z$34:Z54)-1,COLUMNS($Z$34:Z54)-1),\"\")","v":""},{"$f":"IF(OFFSET(DE104_3!$AA$34,ROWS($AA$34:AA54)-1,COLUMNS($AA$34:AA54)-1)<>\"\",OFFSET(DE104_3!$AA$34,ROWS($AA$34:AA54)-1,COLUMNS($AA$34:AA54)-1),\"\")","v":""},{"$f":"IF(OFFSET(DE104_3!$AB$34,ROWS($AB$34:AB54)-1,COLUMNS($AB$34:AB54)-1)<>\"\",OFFSET(DE104_3!$AB$34,ROWS($AB$34:AB54)-1,COLUMNS($AB$34:AB54)-1),\"\")","v":99.45},{"$f":"IF(OFFSET(DE104_3!$AC$34,ROWS($AC$34:AC54)-1,COLUMNS($AC$34:AC54)-1)<>\"\",OFFSET(DE104_3!$AC$34,ROWS($AC$34:AC54)-1,COLUMNS($AC$34:AC54)-1),\"\")","v":76.650000000000006},{"$f":"IF(OFFSET(DE104_3!$AD$34,ROWS($AD$34:AD54)-1,COLUMNS($AD$34:AD54)-1)<>\"\",OFFSET(DE104_3!$AD$34,ROWS($AD$34:AD54)-1,COLUMNS($AD$34:AD54)-1),\"\")","v":""},{"$f":"IF(OFFSET(DE104_3!$AE$34,ROWS($AE$34:AE54)-1,COLUMNS($AE$34:AE54)-1)<>\"\",OFFSET(DE104_3!$AE$34,ROWS($AE$34:AE54)-1,COLUMNS($AE$34:AE54)-1),\"\")","v":""},{"$f":"IF(OFFSET(DE104_3!$AF$34,ROWS($AF$34:AF54)-1,COLUMNS($AF$34:AF54)-1)<>\"\",OFFSET(DE104_3!$AF$34,ROWS($AF$34:AF54)-1,COLUMNS($AF$34:AF54)-1),\"\")","v":""},{"$f":"IF(OFFSET(DE104_3!$AG$34,ROWS($AG$34:AG54)-1,COLUMNS($AG$34:AG54)-1)<>\"\",OFFSET(DE104_3!$AG$34,ROWS($AG$34:AG54)-1,COLUMNS($AG$34:AG54)-1),\"\")","v":""},{"$f":"IF(OFFSET(DE104_3!$AH$34,ROWS($AH$34:AH54)-1,COLUMNS($AH$34:AH54)-1)<>\"\",OFFSET(DE104_3!$AH$34,ROWS($AH$34:AH54)-1,COLUMNS($AH$34:AH54)-1),\"\")","v":""},{"$f":"IF(OFFSET(DE104_3!$AI$34,ROWS($AI$34:AI54)-1,COLUMNS($AI$34:AI54)-1)<>\"\",OFFSET(DE104_3!$AI$34,ROWS($AI$34:AI54)-1,COLUMNS($AI$34:AI54)-1),\"\")","v":""},{"$f":"IF(OFFSET(DE104_3!$AJ$34,ROWS($AJ$34:AJ54)-1,COLUMNS($AJ$34:AJ54)-1)<>\"\",OFFSET(DE104_3!$AJ$34,ROWS($AJ$34:AJ54)-1,COLUMNS($AJ$34:AJ54)-1),\"\")","v":""},{"$f":"IF(OFFSET(DE104_3!$AK$34,ROWS($AK$34:AK54)-1,COLUMNS($AK$34:AK54)-1)<>\"\",OFFSET(DE104_3!$AK$34,ROWS($AK$34:AK54)-1,COLUMNS($AK$34:AK54)-1),\"\")","v":""},{"$f":"IF(OFFSET(DE104_3!$AL$34,ROWS($AL$34:AL54)-1,COLUMNS($AL$34:AL54)-1)<>\"\",OFFSET(DE104_3!$AL$34,ROWS($AL$34:AL54)-1,COLUMNS($AL$34:AL54)-1),\"\")","v":""},{"$f":"IF(OFFSET(DE104_3!$AM$34,ROWS($AM$34:AM54)-1,COLUMNS($AM$34:AM54)-1)<>\"\",OFFSET(DE104_3!$AM$34,ROWS($AM$34:AM54)-1,COLUMNS($AM$34:AM54)-1),\"\")","v":""},{"$f":"IF(OFFSET(DE104_3!$AN$34,ROWS($AN$34:AN54)-1,COLUMNS($AN$34:AN54)-1)<>\"\",OFFSET(DE104_3!$AN$34,ROWS($AN$34:AN54)-1,COLUMNS($AN$34:AN54)-1),\"\")","v":""},{"$f":"IF(OFFSET(DE104_3!$AO$34,ROWS($AO$34:AO54)-1,COLUMNS($AO$34:AO54)-1)<>\"\",OFFSET(DE104_3!$AO$34,ROWS($AO$34:AO54)-1,COLUMNS($AO$34:AO54)-1),\"\")","v":""},{"$f":"IF(OFFSET(DE104_3!$AP$34,ROWS($AP$34:AP54)-1,COLUMNS($AP$34:AP54)-1)<>\"\",OFFSET(DE104_3!$AP$34,ROWS($AP$34:AP54)-1,COLUMNS($AP$34:AP54)-1),\"\")","v":""},{"$f":"IF(OFFSET(DE104_3!$AQ$34,ROWS($AQ$34:AQ54)-1,COLUMNS($AQ$34:AQ54)-1)<>\"\",OFFSET(DE104_3!$AQ$34,ROWS($AQ$34:AQ54)-1,COLUMNS($AQ$34:AQ54)-1),\"\")","v":""}]
[{"$f":"IF(OFFSET(DE104_3!$C$34,ROWS($C$34:C55)-1,COLUMNS($C$34:C55)-1)<>\"\",OFFSET(DE104_3!$C$34,ROWS($C$34:C55)-1,COLUMNS($C$34:C55)-1),\"\")","v":""},{"$f":"IF(OFFSET(DE104_3!$D$34,ROWS($D$34:D55)-1,COLUMNS($D$34:D55)-1)<>\"\",OFFSET(DE104_3!$D$34,ROWS($D$34:D55)-1,COLUMNS($D$34:D55)-1),\"\")","v":""},{"$f":"IF(OFFSET(DE104_3!$E$34,ROWS($E$34:E55)-1,COLUMNS($E$34:E55)-1)<>\"\",OFFSET(DE104_3!$E$34,ROWS($E$34:E55)-1,COLUMNS($E$34:E55)-1),\"\")","v":"DR-621"},{"$f":"IF(OFFSET(DE104_3!$F$34,ROWS($F$34:F55)-1,COLUMNS($F$34:F55)-1)<>\"\",OFFSET(DE104_3!$F$34,ROWS($F$34:F55)-1,COLUMNS($F$34:F55)-1),\"\")","v":24},{"$f":"IF(OFFSET(DE104_3!$G$34,ROWS($G$34:G55)-1,COLUMNS($G$34:G55)-1)<>\"\",OFFSET(DE104_3!$G$34,ROWS($G$34:G55)-1,COLUMNS($G$34:G55)-1),\"\")","v":2000},{"$f":"IF(OFFSET(DE104_3!$H$34,ROWS($H$34:H55)-1,COLUMNS($H$34:H55)-1)<>\"\",OFFSET(DE104_3!$H$34,ROWS($H$34:H55)-1,COLUMNS($H$34:H55)-1),\"\")","v":"RCP"},{"$f":"IF(OFFSET(DE104_3!$I$34,ROWS($I$34:I55)-1,COLUMNS($I$34:I55)-1)<>\"\",OFFSET(DE104_3!$I$34,ROWS($I$34:I55)-1,COLUMNS($I$34:I55)-1),\"\")","v":16},{"$f":"IF(OFFSET(DE104_3!$J$34,ROWS($J$34:J55)-1,COLUMNS($J$34:J55)-1)<>\"\",OFFSET(DE104_3!$J$34,ROWS($J$34:J55)-1,COLUMNS($J$34:J55)-1),\"\")","v":"B"},{"$f":"IF(OFFSET(DE104_3!$K$34,ROWS($K$34:K55)-1,COLUMNS($K$34:K55)-1)<>\"\",OFFSET(DE104_3!$K$34,ROWS($K$34:K55)-1,COLUMNS($K$34:K55)-1),\"\")","v":6.8},{"$f":"IF(OFFSET(DE104_3!$L$34,ROWS($L$34:L55)-1,COLUMNS($L$34:L55)-1)<>\"\",OFFSET(DE104_3!$L$34,ROWS($L$34:L55)-1,COLUMNS($L$34:L55)-1),\"\")","v":""},{"$f":"IF(OFFSET(DE104_3!$M$34,ROWS($M$34:M55)-1,COLUMNS($M$34:M55)-1)<>\"\",OFFSET(DE104_3!$M$34,ROWS($M$34:M55)-1,COLUMNS($M$34:M55)-1),\"\")","v":1},{"$f":"IF(OFFSET(DE104_3!$N$34,ROWS($N$34:N55)-1,COLUMNS($N$34:N55)-1)<>\"\",OFFSET(DE104_3!$N$34,ROWS($N$34:N55)-1,COLUMNS($N$34:N55)-1),\"\")","v":""},{"$f":"IF(OFFSET(DE104_3!$O$34,ROWS($O$34:O55)-1,COLUMNS($O$34:O55)-1)<>\"\",OFFSET(DE104_3!$O$34,ROWS($O$34:O55)-1,COLUMNS($O$34:O55)-1),\"\")","v":""},{"$f":"IF(OFFSET(DE104_3!$P$34,ROWS($P$34:P55)-1,COLUMNS($P$34:P55)-1)<>\"\",OFFSET(DE104_3!$P$34,ROWS($P$34:P55)-1,COLUMNS($P$34:P55)-1),\"\")","v":""},{"$f":"IF(OFFSET(DE104_3!$Q$34,ROWS($Q$34:Q55)-1,COLUMNS($Q$34:Q55)-1)<>\"\",OFFSET(DE104_3!$Q$34,ROWS($Q$34:Q55)-1,COLUMNS($Q$34:Q55)-1),\"\")","v":""},{"$f":"IF(OFFSET(DE104_3!$R$34,ROWS($R$34:R55)-1,COLUMNS($R$34:R55)-1)<>\"\",OFFSET(DE104_3!$R$34,ROWS($R$34:R55)-1,COLUMNS($R$34:R55)-1),\"\")","v":""},{"$f":"IF(OFFSET(DE104_3!$S$34,ROWS($S$34:S55)-1,COLUMNS($S$34:S55)-1)<>\"\",OFFSET(DE104_3!$S$34,ROWS($S$34:S55)-1,COLUMNS($S$34:S55)-1),\"\")","v":""},{"$f":"IF(OFFSET(DE104_3!$T$34,ROWS($T$34:T55)-1,COLUMNS($T$34:T55)-1)<>\"\",OFFSET(DE104_3!$T$34,ROWS($T$34:T55)-1,COLUMNS($T$34:T55)-1),\"\")","v":""},{"$f":"IF(OFFSET(DE104_3!$U$34,ROWS($U$34:U55)-1,COLUMNS($U$34:U55)-1)<>\"\",OFFSET(DE104_3!$U$34,ROWS($U$34:U55)-1,COLUMNS($U$34:U55)-1),\"\")","v":""},{"$f":"IF(OFFSET(DE104_3!$V$34,ROWS($V$34:V55)-1,COLUMNS($V$34:V55)-1)<>\"\",OFFSET(DE104_3!$V$34,ROWS($V$34:V55)-1,COLUMNS($V$34:V55)-1),\"\")","v":"Type 3"},{"$f":"IF(OFFSET(DE104_3!$W$34,ROWS($W$34:W55)-1,COLUMNS($W$34:W55)-1)<>\"\",OFFSET(DE104_3!$W$34,ROWS($W$34:W55)-1,COLUMNS($W$34:W55)-1),\"\")","v":""},{"$f":"IF(OFFSET(DE104_3!$X$34,ROWS($X$34:X55)-1,COLUMNS($X$34:X55)-1)<>\"\",OFFSET(DE104_3!$X$34,ROWS($X$34:X55)-1,COLUMNS($X$34:X55)-1),\"\")","v":919.19},{"$f":"IF(OFFSET(DE104_3!$Y$34,ROWS($Y$34:Y55)-1,COLUMNS($Y$34:Y55)-1)<>\"\",OFFSET(DE104_3!$Y$34,ROWS($Y$34:Y55)-1,COLUMNS($Y$34:Y55)-1),\"\")","v":919.53},{"$f":"IF(OFFSET(DE104_3!$Z$34,ROWS($Z$34:Z55)-1,COLUMNS($Z$34:Z55)-1)<>\"\",OFFSET(DE104_3!$Z$34,ROWS($Z$34:Z55)-1,COLUMNS($Z$34:Z55)-1),\"\")","v":""},{"$f":"IF(OFFSET(DE104_3!$AA$34,ROWS($AA$34:AA55)-1,COLUMNS($AA$34:AA55)-1)<>\"\",OFFSET(DE104_3!$AA$34,ROWS($AA$34:AA55)-1,COLUMNS($AA$34:AA55)-1),\"\")","v":""},{"$f":"IF(OFFSET(DE104_3!$AB$34,ROWS($AB$34:AB55)-1,COLUMNS($AB$34:AB55)-1)<>\"\",OFFSET(DE104_3!$AB$34,ROWS($AB$34:AB55)-1,COLUMNS($AB$34:AB55)-1),\"\")","v":79.67},{"$f":"IF(OFFSET(DE104_3!$AC$34,ROWS($AC$34:AC55)-1,COLUMNS($AC$34:AC55)-1)<>\"\",OFFSET(DE104_3!$AC$34,ROWS($AC$34:AC55)-1,COLUMNS($AC$34:AC55)-1),\"\")","v":98.78},{"$f":"IF(OFFSET(DE104_3!$AD$34,ROWS($AD$34:AD55)-1,COLUMNS($AD$34:AD55)-1)<>\"\",OFFSET(DE104_3!$AD$34,ROWS($AD$34:AD55)-1,COLUMNS($AD$34:AD55)-1),\"\")","v":""},{"$f":"IF(OFFSET(DE104_3!$AE$34,ROWS($AE$34:AE55)-1,COLUMNS($AE$34:AE55)-1)<>\"\",OFFSET(DE104_3!$AE$34,ROWS($AE$34:AE55)-1,COLUMNS($AE$34:AE55)-1),\"\")","v":""},{"$f":"IF(OFFSET(DE104_3!$AF$34,ROWS($AF$34:AF55)-1,COLUMNS($AF$34:AF55)-1)<>\"\",OFFSET(DE104_3!$AF$34,ROWS($AF$34:AF55)-1,COLUMNS($AF$34:AF55)-1),\"\")","v":""},{"$f":"IF(OFFSET(DE104_3!$AG$34,ROWS($AG$34:AG55)-1,COLUMNS($AG$34:AG55)-1)<>\"\",OFFSET(DE104_3!$AG$34,ROWS($AG$34:AG55)-1,COLUMNS($AG$34:AG55)-1),\"\")","v":""},{"$f":"IF(OFFSET(DE104_3!$AH$34,ROWS($AH$34:AH55)-1,COLUMNS($AH$34:AH55)-1)<>\"\",OFFSET(DE104_3!$AH$34,ROWS($AH$34:AH55)-1,COLUMNS($AH$34:AH55)-1),\"\")","v":""},{"$f":"IF(OFFSET(DE104_3!$AI$34,ROWS($AI$34:AI55)-1,COLUMNS($AI$34:AI55)-1)<>\"\",OFFSET(DE104_3!$AI$34,ROWS($AI$34:AI55)-1,COLUMNS($AI$34:AI55)-1),\"\")","v":""},{"$f":"IF(OFFSET(DE104_3!$AJ$34,ROWS($AJ$34:AJ55)-1,COLUMNS($AJ$34:AJ55)-1)<>\"\",OFFSET(DE104_3!$AJ$34,ROWS($AJ$34:AJ55)-1,COLUMNS($AJ$34:AJ55)-1),\"\")","v":""},{"$f":"IF(OFFSET(DE104_3!$AK$34,ROWS($AK$34:AK55)-1,COLUMNS($AK$34:AK55)-1)<>\"\",OFFSET(DE104_3!$AK$34,ROWS($AK$34:AK55)-1,COLUMNS($AK$34:AK55)-1),\"\")","v":""},{"$f":"IF(OFFSET(DE104_3!$AL$34,ROWS($AL$34:AL55)-1,COLUMNS($AL$34:AL55)-1)<>\"\",OFFSET(DE104_3!$AL$34,ROWS($AL$34:AL55)-1,COLUMNS($AL$34:AL55)-1),\"\")","v":9.964444444444446},{"$f":"IF(OFFSET(DE104_3!$AM$34,ROWS($AM$34:AM55)-1,COLUMNS($AM$34:AM55)-1)<>\"\",OFFSET(DE104_3!$AM$34,ROWS($AM$34:AM55)-1,COLUMNS($AM$34:AM55)-1),\"\")","v":""},{"$f":"IF(OFFSET(DE104_3!$AN$34,ROWS($AN$34:AN55)-1,COLUMNS($AN$34:AN55)-1)<>\"\",OFFSET(DE104_3!$AN$34,ROWS($AN$34:AN55)-1,COLUMNS($AN$34:AN55)-1),\"\")","v":""},{"$f":"IF(OFFSET(DE104_3!$AO$34,ROWS($AO$34:AO55)-1,COLUMNS($AO$34:AO55)-1)<>\"\",OFFSET(DE104_3!$AO$34,ROWS($AO$34:AO55)-1,COLUMNS($AO$34:AO55)-1),\"\")","v":1.7290277777777776},{"$f":"IF(OFFSET(DE104_3!$AP$34,ROWS($AP$34:AP55)-1,COLUMNS($AP$34:AP55)-1)<>\"\",OFFSET(DE104_3!$AP$34,ROWS($AP$34:AP55)-1,COLUMNS($AP$34:AP55)-1),\"\")","v":1.7290277777777776},{"$f":"IF(OFFSET(DE104_3!$AQ$34,ROWS($AQ$34:AQ55)-1,COLUMNS($AQ$34:AQ55)-1)<>\"\",OFFSET(DE104_3!$AQ$34,ROWS($AQ$34:AQ55)-1,COLUMNS($AQ$34:AQ55)-1),\"\")","v":""}]
[{"$f":"IF(OFFSET(DE104_3!$C$34,ROWS($C$34:C56)-1,COLUMNS($C$34:C56)-1)<>\"\",OFFSET(DE104_3!$C$34,ROWS($C$34:C56)-1,COLUMNS($C$34:C56)-1),\"\")","v":""},{"$f":"IF(OFFSET(DE104_3!$D$34,ROWS($D$34:D56)-1,COLUMNS($D$34:D56)-1)<>\"\",OFFSET(DE104_3!$D$34,ROWS($D$34:D56)-1,COLUMNS($D$34:D56)-1),\"\")","v":""},{"$f":"IF(OFFSET(DE104_3!$E$34,ROWS($E$34:E56)-1,COLUMNS($E$34:E56)-1)<>\"\",OFFSET(DE104_3!$E$34,ROWS($E$34:E56)-1,COLUMNS($E$34:E56)-1),\"\")","v":""},{"$f":"IF(OFFSET(DE104_3!$F$34,ROWS($F$34:F56)-1,COLUMNS($F$34:F56)-1)<>\"\",OFFSET(DE104_3!$F$34,ROWS($F$34:F56)-1,COLUMNS($F$34:F56)-1),\"\")","v":""},{"$f":"IF(OFFSET(DE104_3!$G$34,ROWS($G$34:G56)-1,COLUMNS($G$34:G56)-1)<>\"\",OFFSET(DE104_3!$G$34,ROWS($G$34:G56)-1,COLUMNS($G$34:G56)-1),\"\")","v":""},{"$f":"IF(OFFSET(DE104_3!$H$34,ROWS($H$34:H56)-1,COLUMNS($H$34:H56)-1)<>\"\",OFFSET(DE104_3!$H$34,ROWS($H$34:H56)-1,COLUMNS($H$34:H56)-1),\"\")","v":""},{"$f":"IF(OFFSET(DE104_3!$I$34,ROWS($I$34:I56)-1,COLUMNS($I$34:I56)-1)<>\"\",OFFSET(DE104_3!$I$34,ROWS($I$34:I56)-1,COLUMNS($I$34:I56)-1),\"\")","v":""},{"$f":"IF(OFFSET(DE104_3!$J$34,ROWS($J$34:J56)-1,COLUMNS($J$34:J56)-1)<>\"\",OFFSET(DE104_3!$J$34,ROWS($J$34:J56)-1,COLUMNS($J$34:J56)-1),\"\")","v":""},{"$f":"IF(OFFSET(DE104_3!$K$34,ROWS($K$34:K56)-1,COLUMNS($K$34:K56)-1)<>\"\",OFFSET(DE104_3!$K$34,ROWS($K$34:K56)-1,COLUMNS($K$34:K56)-1),\"\")","v":""},{"$f":"IF(OFFSET(DE104_3!$L$34,ROWS($L$34:L56)-1,COLUMNS($L$34:L56)-1)<>\"\",OFFSET(DE104_3!$L$34,ROWS($L$34:L56)-1,COLUMNS($L$34:L56)-1),\"\")","v":""},{"$f":"IF(OFFSET(DE104_3!$M$34,ROWS($M$34:M56)-1,COLUMNS($M$34:M56)-1)<>\"\",OFFSET(DE104_3!$M$34,ROWS($M$34:M56)-1,COLUMNS($M$34:M56)-1),\"\")","v":""},{"$f":"IF(OFFSET(DE104_3!$N$34,ROWS($N$34:N56)-1,COLUMNS($N$34:N56)-1)<>\"\",OFFSET(DE104_3!$N$34,ROWS($N$34:N56)-1,COLUMNS($N$34:N56)-1),\"\")","v":""},{"$f":"IF(OFFSET(DE104_3!$O$34,ROWS($O$34:O56)-1,COLUMNS($O$34:O56)-1)<>\"\",OFFSET(DE104_3!$O$34,ROWS($O$34:O56)-1,COLUMNS($O$34:O56)-1),\"\")","v":""},{"$f":"IF(OFFSET(DE104_3!$P$34,ROWS($P$34:P56)-1,COLUMNS($P$34:P56)-1)<>\"\",OFFSET(DE104_3!$P$34,ROWS($P$34:P56)-1,COLUMNS($P$34:P56)-1),\"\")","v":""},{"$f":"IF(OFFSET(DE104_3!$Q$34,ROWS($Q$34:Q56)-1,COLUMNS($Q$34:Q56)-1)<>\"\",OFFSET(DE104_3!$Q$34,ROWS($Q$34:Q56)-1,COLUMNS($Q$34:Q56)-1),\"\")","v":""},{"$f":"IF(OFFSET(DE104_3!$R$34,ROWS($R$34:R56)-1,COLUMNS($R$34:R56)-1)<>\"\",OFFSET(DE104_3!$R$34,ROWS($R$34:R56)-1,COLUMNS($R$34:R56)-1),\"\")","v":""},{"$f":"IF(OFFSET(DE104_3!$S$34,ROWS($S$34:S56)-1,COLUMNS($S$34:S56)-1)<>\"\",OFFSET(DE104_3!$S$34,ROWS($S$34:S56)-1,COLUMNS($S$34:S56)-1),\"\")","v":""},{"$f":"IF(OFFSET(DE104_3!$T$34,ROWS($T$34:T56)-1,COLUMNS($T$34:T56)-1)<>\"\",OFFSET(DE104_3!$T$34,ROWS($T$34:T56)-1,COLUMNS($T$34:T56)-1),\"\")","v":""},{"$f":"IF(OFFSET(DE104_3!$U$34,ROWS($U$34:U56)-1,COLUMNS($U$34:U56)-1)<>\"\",OFFSET(DE104_3!$U$34,ROWS($U$34:U56)-1,COLUMNS($U$34:U56)-1),\"\")","v":""},{"$f":"IF(OFFSET(DE104_3!$V$34,ROWS($V$34:V56)-1,COLUMNS($V$34:V56)-1)<>\"\",OFFSET(DE104_3!$V$34,ROWS($V$34:V56)-1,COLUMNS($V$34:V56)-1),\"\")","v":""},{"$f":"IF(OFFSET(DE104_3!$W$34,ROWS($W$34:W56)-1,COLUMNS($W$34:W56)-1)<>\"\",OFFSET(DE104_3!$W$34,ROWS($W$34:W56)-1,COLUMNS($W$34:W56)-1),\"\")","v":""},{"$f":"IF(OFFSET(DE104_3!$X$34,ROWS($X$34:X56)-1,COLUMNS($X$34:X56)-1)<>\"\",OFFSET(DE104_3!$X$34,ROWS($X$34:X56)-1,COLUMNS($X$34:X56)-1),\"\")","v":""},{"$f":"IF(OFFSET(DE104_3!$Y$34,ROWS($Y$34:Y56)-1,COLUMNS($Y$34:Y56)-1)<>\"\",OFFSET(DE104_3!$Y$34,ROWS($Y$34:Y56)-1,COLUMNS($Y$34:Y56)-1),\"\")","v":""},{"$f":"IF(OFFSET(DE104_3!$Z$34,ROWS($Z$34:Z56)-1,COLUMNS($Z$34:Z56)-1)<>\"\",OFFSET(DE104_3!$Z$34,ROWS($Z$34:Z56)-1,COLUMNS($Z$34:Z56)-1),\"\")","v":""},{"$f":"IF(OFFSET(DE104_3!$AA$34,ROWS($AA$34:AA56)-1,COLUMNS($AA$34:AA56)-1)<>\"\",OFFSET(DE104_3!$AA$34,ROWS($AA$34:AA56)-1,COLUMNS($AA$34:AA56)-1),\"\")","v":""},{"$f":"IF(OFFSET(DE104_3!$AB$34,ROWS($AB$34:AB56)-1,COLUMNS($AB$34:AB56)-1)<>\"\",OFFSET(DE104_3!$AB$34,ROWS($AB$34:AB56)-1,COLUMNS($AB$34:AB56)-1),\"\")","v":""},{"$f":"IF(OFFSET(DE104_3!$AC$34,ROWS($AC$34:AC56)-1,COLUMNS($AC$34:AC56)-1)<>\"\",OFFSET(DE104_3!$AC$34,ROWS($AC$34:AC56)-1,COLUMNS($AC$34:AC56)-1),\"\")","v":""},{"$f":"IF(OFFSET(DE104_3!$AD$34,ROWS($AD$34:AD56)-1,COLUMNS($AD$34:AD56)-1)<>\"\",OFFSET(DE104_3!$AD$34,ROWS($AD$34:AD56)-1,COLUMNS($AD$34:AD56)-1),\"\")","v":""},{"$f":"IF(OFFSET(DE104_3!$AE$34,ROWS($AE$34:AE56)-1,COLUMNS($AE$34:AE56)-1)<>\"\",OFFSET(DE104_3!$AE$34,ROWS($AE$34:AE56)-1,COLUMNS($AE$34:AE56)-1),\"\")","v":""},{"$f":"IF(OFFSET(DE104_3!$AF$34,ROWS($AF$34:AF56)-1,COLUMNS($AF$34:AF56)-1)<>\"\",OFFSET(DE104_3!$AF$34,ROWS($AF$34:AF56)-1,COLUMNS($AF$34:AF56)-1),\"\")","v":""},{"$f":"IF(OFFSET(DE104_3!$AG$34,ROWS($AG$34:AG56)-1,COLUMNS($AG$34:AG56)-1)<>\"\",OFFSET(DE104_3!$AG$34,ROWS($AG$34:AG56)-1,COLUMNS($AG$34:AG56)-1),\"\")","v":""},{"$f":"IF(OFFSET(DE104_3!$AH$34,ROWS($AH$34:AH56)-1,COLUMNS($AH$34:AH56)-1)<>\"\",OFFSET(DE104_3!$AH$34,ROWS($AH$34:AH56)-1,COLUMNS($AH$34:AH56)-1),\"\")","v":""},{"$f":"IF(OFFSET(DE104_3!$AI$34,ROWS($AI$34:AI56)-1,COLUMNS($AI$34:AI56)-1)<>\"\",OFFSET(DE104_3!$AI$34,ROWS($AI$34:AI56)-1,COLUMNS($AI$34:AI56)-1),\"\")","v":""},{"$f":"IF(OFFSET(DE104_3!$AJ$34,ROWS($AJ$34:AJ56)-1,COLUMNS($AJ$34:AJ56)-1)<>\"\",OFFSET(DE104_3!$AJ$34,ROWS($AJ$34:AJ56)-1,COLUMNS($AJ$34:AJ56)-1),\"\")","v":""},{"$f":"IF(OFFSET(DE104_3!$AK$34,ROWS($AK$34:AK56)-1,COLUMNS($AK$34:AK56)-1)<>\"\",OFFSET(DE104_3!$AK$34,ROWS($AK$34:AK56)-1,COLUMNS($AK$34:AK56)-1),\"\")","v":""},{"$f":"IF(OFFSET(DE104_3!$AL$34,ROWS($AL$34:AL56)-1,COLUMNS($AL$34:AL56)-1)<>\"\",OFFSET(DE104_3!$AL$34,ROWS($AL$34:AL56)-1,COLUMNS($AL$34:AL56)-1),\"\")","v":""},{"$f":"IF(OFFSET(DE104_3!$AM$34,ROWS($AM$34:AM56)-1,COLUMNS($AM$34:AM56)-1)<>\"\",OFFSET(DE104_3!$AM$34,ROWS($AM$34:AM56)-1,COLUMNS($AM$34:AM56)-1),\"\")","v":""},{"$f":"IF(OFFSET(DE104_3!$AN$34,ROWS($AN$34:AN56)-1,COLUMNS($AN$34:AN56)-1)<>\"\",OFFSET(DE104_3!$AN$34,ROWS($AN$34:AN56)-1,COLUMNS($AN$34:AN56)-1),\"\")","v":""},{"$f":"IF(OFFSET(DE104_3!$AO$34,ROWS($AO$34:AO56)-1,COLUMNS($AO$34:AO56)-1)<>\"\",OFFSET(DE104_3!$AO$34,ROWS($AO$34:AO56)-1,COLUMNS($AO$34:AO56)-1),\"\")","v":""},{"$f":"IF(OFFSET(DE104_3!$AP$34,ROWS($AP$34:AP56)-1,COLUMNS($AP$34:AP56)-1)<>\"\",OFFSET(DE104_3!$AP$34,ROWS($AP$34:AP56)-1,COLUMNS($AP$34:AP56)-1),\"\")","v":""},{"$f":"IF(OFFSET(DE104_3!$AQ$34,ROWS($AQ$34:AQ56)-1,COLUMNS($AQ$34:AQ56)-1)<>\"\",OFFSET(DE104_3!$AQ$34,ROWS($AQ$34:AQ56)-1,COLUMNS($AQ$34:AQ56)-1),\"\")","v":""}]
[{"$f":"IF(OFFSET(DE104_3!$C$34,ROWS($C$34:C57)-1,COLUMNS($C$34:C57)-1)<>\"\",OFFSET(DE104_3!$C$34,ROWS($C$34:C57)-1,COLUMNS($C$34:C57)-1),\"\")","v":""},{"$f":"IF(OFFSET(DE104_3!$D$34,ROWS($D$34:D57)-1,COLUMNS($D$34:D57)-1)<>\"\",OFFSET(DE104_3!$D$34,ROWS($D$34:D57)-1,COLUMNS($D$34:D57)-1),\"\")","v":""},{"$f":"IF(OFFSET(DE104_3!$E$34,ROWS($E$34:E57)-1,COLUMNS($E$34:E57)-1)<>\"\",OFFSET(DE104_3!$E$34,ROWS($E$34:E57)-1,COLUMNS($E$34:E57)-1),\"\")","v":""},{"$f":"IF(OFFSET(DE104_3!$F$34,ROWS($F$34:F57)-1,COLUMNS($F$34:F57)-1)<>\"\",OFFSET(DE104_3!$F$34,ROWS($F$34:F57)-1,COLUMNS($F$34:F57)-1),\"\")","v":""},{"$f":"IF(OFFSET(DE104_3!$G$34,ROWS($G$34:G57)-1,COLUMNS($G$34:G57)-1)<>\"\",OFFSET(DE104_3!$G$34,ROWS($G$34:G57)-1,COLUMNS($G$34:G57)-1),\"\")","v":""},{"$f":"IF(OFFSET(DE104_3!$H$34,ROWS($H$34:H57)-1,COLUMNS($H$34:H57)-1)<>\"\",OFFSET(DE104_3!$H$34,ROWS($H$34:H57)-1,COLUMNS($H$34:H57)-1),\"\")","v":""},{"$f":"IF(OFFSET(DE104_3!$I$34,ROWS($I$34:I57)-1,COLUMNS($I$34:I57)-1)<>\"\",OFFSET(DE104_3!$I$34,ROWS($I$34:I57)-1,COLUMNS($I$34:I57)-1),\"\")","v":""},{"$f":"IF(OFFSET(DE104_3!$J$34,ROWS($J$34:J57)-1,COLUMNS($J$34:J57)-1)<>\"\",OFFSET(DE104_3!$J$34,ROWS($J$34:J57)-1,COLUMNS($J$34:J57)-1),\"\")","v":""},{"$f":"IF(OFFSET(DE104_3!$K$34,ROWS($K$34:K57)-1,COLUMNS($K$34:K57)-1)<>\"\",OFFSET(DE104_3!$K$34,ROWS($K$34:K57)-1,COLUMNS($K$34:K57)-1),\"\")","v":""},{"$f":"IF(OFFSET(DE104_3!$L$34,ROWS($L$34:L57)-1,COLUMNS($L$34:L57)-1)<>\"\",OFFSET(DE104_3!$L$34,ROWS($L$34:L57)-1,COLUMNS($L$34:L57)-1),\"\")","v":""},{"$f":"IF(OFFSET(DE104_3!$M$34,ROWS($M$34:M57)-1,COLUMNS($M$34:M57)-1)<>\"\",OFFSET(DE104_3!$M$34,ROWS($M$34:M57)-1,COLUMNS($M$34:M57)-1),\"\")","v":""},{"$f":"IF(OFFSET(DE104_3!$N$34,ROWS($N$34:N57)-1,COLUMNS($N$34:N57)-1)<>\"\",OFFSET(DE104_3!$N$34,ROWS($N$34:N57)-1,COLUMNS($N$34:N57)-1),\"\")","v":""},{"$f":"IF(OFFSET(DE104_3!$O$34,ROWS($O$34:O57)-1,COLUMNS($O$34:O57)-1)<>\"\",OFFSET(DE104_3!$O$34,ROWS($O$34:O57)-1,COLUMNS($O$34:O57)-1),\"\")","v":""},{"$f":"IF(OFFSET(DE104_3!$P$34,ROWS($P$34:P57)-1,COLUMNS($P$34:P57)-1)<>\"\",OFFSET(DE104_3!$P$34,ROWS($P$34:P57)-1,COLUMNS($P$34:P57)-1),\"\")","v":""},{"$f":"IF(OFFSET(DE104_3!$Q$34,ROWS($Q$34:Q57)-1,COLUMNS($Q$34:Q57)-1)<>\"\",OFFSET(DE104_3!$Q$34,ROWS($Q$34:Q57)-1,COLUMNS($Q$34:Q57)-1),\"\")","v":""},{"$f":"IF(OFFSET(DE104_3!$R$34,ROWS($R$34:R57)-1,COLUMNS($R$34:R57)-1)<>\"\",OFFSET(DE104_3!$R$34,ROWS($R$34:R57)-1,COLUMNS($R$34:R57)-1),\"\")","v":""},{"$f":"IF(OFFSET(DE104_3!$S$34,ROWS($S$34:S57)-1,COLUMNS($S$34:S57)-1)<>\"\",OFFSET(DE104_3!$S$34,ROWS($S$34:S57)-1,COLUMNS($S$34:S57)-1),\"\")","v":""},{"$f":"IF(OFFSET(DE104_3!$T$34,ROWS($T$34:T57)-1,COLUMNS($T$34:T57)-1)<>\"\",OFFSET(DE104_3!$T$34,ROWS($T$34:T57)-1,COLUMNS($T$34:T57)-1),\"\")","v":""},{"$f":"IF(OFFSET(DE104_3!$U$34,ROWS($U$34:U57)-1,COLUMNS($U$34:U57)-1)<>\"\",OFFSET(DE104_3!$U$34,ROWS($U$34:U57)-1,COLUMNS($U$34:U57)-1),\"\")","v":""},{"$f":"IF(OFFSET(DE104_3!$V$34,ROWS($V$34:V57)-1,COLUMNS($V$34:V57)-1)<>\"\",OFFSET(DE104_3!$V$34,ROWS($V$34:V57)-1,COLUMNS($V$34:V57)-1),\"\")","v":""},{"$f":"IF(OFFSET(DE104_3!$W$34,ROWS($W$34:W57)-1,COLUMNS($W$34:W57)-1)<>\"\",OFFSET(DE104_3!$W$34,ROWS($W$34:W57)-1,COLUMNS($W$34:W57)-1),\"\")","v":""},{"$f":"IF(OFFSET(DE104_3!$X$34,ROWS($X$34:X57)-1,COLUMNS($X$34:X57)-1)<>\"\",OFFSET(DE104_3!$X$34,ROWS($X$34:X57)-1,COLUMNS($X$34:X57)-1),\"\")","v":""},{"$f":"IF(OFFSET(DE104_3!$Y$34,ROWS($Y$34:Y57)-1,COLUMNS($Y$34:Y57)-1)<>\"\",OFFSET(DE104_3!$Y$34,ROWS($Y$34:Y57)-1,COLUMNS($Y$34:Y57)-1),\"\")","v":""},{"$f":"IF(OFFSET(DE104_3!$Z$34,ROWS($Z$34:Z57)-1,COLUMNS($Z$34:Z57)-1)<>\"\",OFFSET(DE104_3!$Z$34,ROWS($Z$34:Z57)-1,COLUMNS($Z$34:Z57)-1),\"\")","v":""},{"$f":"IF(OFFSET(DE104_3!$AA$34,ROWS($AA$34:AA57)-1,COLUMNS($AA$34:AA57)-1)<>\"\",OFFSET(DE104_3!$AA$34,ROWS($AA$34:AA57)-1,COLUMNS($AA$34:AA57)-1),\"\")","v":""},{"$f":"IF(OFFSET(DE104_3!$AB$34,ROWS($AB$34:AB57)-1,COLUMNS($AB$34:AB57)-1)<>\"\",OFFSET(DE104_3!$AB$34,ROWS($AB$34:AB57)-1,COLUMNS($AB$34:AB57)-1),\"\")","v":""},{"$f":"IF(OFFSET(DE104_3!$AC$34,ROWS($AC$34:AC57)-1,COLUMNS($AC$34:AC57)-1)<>\"\",OFFSET(DE104_3!$AC$34,ROWS($AC$34:AC57)-1,COLUMNS($AC$34:AC57)-1),\"\")","v":""},{"$f":"IF(OFFSET(DE104_3!$AD$34,ROWS($AD$34:AD57)-1,COLUMNS($AD$34:AD57)-1)<>\"\",OFFSET(DE104_3!$AD$34,ROWS($AD$34:AD57)-1,COLUMNS($AD$34:AD57)-1),\"\")","v":""},{"$f":"IF(OFFSET(DE104_3!$AE$34,ROWS($AE$34:AE57)-1,COLUMNS($AE$34:AE57)-1)<>\"\",OFFSET(DE104_3!$AE$34,ROWS($AE$34:AE57)-1,COLUMNS($AE$34:AE57)-1),\"\")","v":""},{"$f":"IF(OFFSET(DE104_3!$AF$34,ROWS($AF$34:AF57)-1,COLUMNS($AF$34:AF57)-1)<>\"\",OFFSET(DE104_3!$AF$34,ROWS($AF$34:AF57)-1,COLUMNS($AF$34:AF57)-1),\"\")","v":""},{"$f":"IF(OFFSET(DE104_3!$AG$34,ROWS($AG$34:AG57)-1,COLUMNS($AG$34:AG57)-1)<>\"\",OFFSET(DE104_3!$AG$34,ROWS($AG$34:AG57)-1,COLUMNS($AG$34:AG57)-1),\"\")","v":""},{"$f":"IF(OFFSET(DE104_3!$AH$34,ROWS($AH$34:AH57)-1,COLUMNS($AH$34:AH57)-1)<>\"\",OFFSET(DE104_3!$AH$34,ROWS($AH$34:AH57)-1,COLUMNS($AH$34:AH57)-1),\"\")","v":""},{"$f":"IF(OFFSET(DE104_3!$AI$34,ROWS($AI$34:AI57)-1,COLUMNS($AI$34:AI57)-1)<>\"\",OFFSET(DE104_3!$AI$34,ROWS($AI$34:AI57)-1,COLUMNS($AI$34:AI57)-1),\"\")","v":""},{"$f":"IF(OFFSET(DE104_3!$AJ$34,ROWS($AJ$34:AJ57)-1,COLUMNS($AJ$34:AJ57)-1)<>\"\",OFFSET(DE104_3!$AJ$34,ROWS($AJ$34:AJ57)-1,COLUMNS($AJ$34:AJ57)-1),\"\")","v":""},{"$f":"IF(OFFSET(DE104_3!$AK$34,ROWS($AK$34:AK57)-1,COLUMNS($AK$34:AK57)-1)<>\"\",OFFSET(DE104_3!$AK$34,ROWS($AK$34:AK57)-1,COLUMNS($AK$34:AK57)-1),\"\")","v":""},{"$f":"IF(OFFSET(DE104_3!$AL$34,ROWS($AL$34:AL57)-1,COLUMNS($AL$34:AL57)-1)<>\"\",OFFSET(DE104_3!$AL$34,ROWS($AL$34:AL57)-1,COLUMNS($AL$34:AL57)-1),\"\")","v":""},{"$f":"IF(OFFSET(DE104_3!$AM$34,ROWS($AM$34:AM57)-1,COLUMNS($AM$34:AM57)-1)<>\"\",OFFSET(DE104_3!$AM$34,ROWS($AM$34:AM57)-1,COLUMNS($AM$34:AM57)-1),\"\")","v":""},{"$f":"IF(OFFSET(DE104_3!$AN$34,ROWS($AN$34:AN57)-1,COLUMNS($AN$34:AN57)-1)<>\"\",OFFSET(DE104_3!$AN$34,ROWS($AN$34:AN57)-1,COLUMNS($AN$34:AN57)-1),\"\")","v":""},{"$f":"IF(OFFSET(DE104_3!$AO$34,ROWS($AO$34:AO57)-1,COLUMNS($AO$34:AO57)-1)<>\"\",OFFSET(DE104_3!$AO$34,ROWS($AO$34:AO57)-1,COLUMNS($AO$34:AO57)-1),\"\")","v":""},{"$f":"IF(OFFSET(DE104_3!$AP$34,ROWS($AP$34:AP57)-1,COLUMNS($AP$34:AP57)-1)<>\"\",OFFSET(DE104_3!$AP$34,ROWS($AP$34:AP57)-1,COLUMNS($AP$34:AP57)-1),\"\")","v":""},{"$f":"IF(OFFSET(DE104_3!$AQ$34,ROWS($AQ$34:AQ57)-1,COLUMNS($AQ$34:AQ57)-1)<>\"\",OFFSET(DE104_3!$AQ$34,ROWS($AQ$34:AQ57)-1,COLUMNS($AQ$34:AQ57)-1),\"\")","v":""}]
[{"$f":"IF(OFFSET(DE104_3!$C$34,ROWS($C$34:C58)-1,COLUMNS($C$34:C58)-1)<>\"\",OFFSET(DE104_3!$C$34,ROWS($C$34:C58)-1,COLUMNS($C$34:C58)-1),\"\")","v":""},{"$f":"IF(OFFSET(DE104_3!$D$34,ROWS($D$34:D58)-1,COLUMNS($D$34:D58)-1)<>\"\",OFFSET(DE104_3!$D$34,ROWS($D$34:D58)-1,COLUMNS($D$34:D58)-1),\"\")","v":"US 218 Ramp D"},{"$f":"IF(OFFSET(DE104_3!$E$34,ROWS($E$34:E58)-1,COLUMNS($E$34:E58)-1)<>\"\",OFFSET(DE104_3!$E$34,ROWS($E$34:E58)-1,COLUMNS($E$34:E58)-1),\"\")","v":""},{"$f":"IF(OFFSET(DE104_3!$F$34,ROWS($F$34:F58)-1,COLUMNS($F$34:F58)-1)<>\"\",OFFSET(DE104_3!$F$34,ROWS($F$34:F58)-1,COLUMNS($F$34:F58)-1),\"\")","v":""},{"$f":"IF(OFFSET(DE104_3!$G$34,ROWS($G$34:G58)-1,COLUMNS($G$34:G58)-1)<>\"\",OFFSET(DE104_3!$G$34,ROWS($G$34:G58)-1,COLUMNS($G$34:G58)-1),\"\")","v":""},{"$f":"IF(OFFSET(DE104_3!$H$34,ROWS($H$34:H58)-1,COLUMNS($H$34:H58)-1)<>\"\",OFFSET(DE104_3!$H$34,ROWS($H$34:H58)-1,COLUMNS($H$34:H58)-1),\"\")","v":""},{"$f":"IF(OFFSET(DE104_3!$I$34,ROWS($I$34:I58)-1,COLUMNS($I$34:I58)-1)<>\"\",OFFSET(DE104_3!$I$34,ROWS($I$34:I58)-1,COLUMNS($I$34:I58)-1),\"\")","v":""},{"$f":"IF(OFFSET(DE104_3!$J$34,ROWS($J$34:J58)-1,COLUMNS($J$34:J58)-1)<>\"\",OFFSET(DE104_3!$J$34,ROWS($J$34:J58)-1,COLUMNS($J$34:J58)-1),\"\")","v":""},{"$f":"IF(OFFSET(DE104_3!$K$34,ROWS($K$34:K58)-1,COLUMNS($K$34:K58)-1)<>\"\",OFFSET(DE104_3!$K$34,ROWS($K$34:K58)-1,COLUMNS($K$34:K58)-1),\"\")","v":""},{"$f":"IF(OFFSET(DE104_3!$L$34,ROWS($L$34:L58)-1,COLUMNS($L$34:L58)-1)<>\"\",OFFSET(DE104_3!$L$34,ROWS($L$34:L58)-1,COLUMNS($L$34:L58)-1),\"\")","v":""},{"$f":"IF(OFFSET(DE104_3!$M$34,ROWS($M$34:M58)-1,COLUMNS($M$34:M58)-1)<>\"\",OFFSET(DE104_3!$M$34,ROWS($M$34:M58)-1,COLUMNS($M$34:M58)-1),\"\")","v":""},{"$f":"IF(OFFSET(DE104_3!$N$34,ROWS($N$34:N58)-1,COLUMNS($N$34:N58)-1)<>\"\",OFFSET(DE104_3!$N$34,ROWS($N$34:N58)-1,COLUMNS($N$34:N58)-1),\"\")","v":""},{"$f":"IF(OFFSET(DE104_3!$O$34,ROWS($O$34:O58)-1,COLUMNS($O$34:O58)-1)<>\"\",OFFSET(DE104_3!$O$34,ROWS($O$34:O58)-1,COLUMNS($O$34:O58)-1),\"\")","v":""},{"$f":"IF(OFFSET(DE104_3!$P$34,ROWS($P$34:P58)-1,COLUMNS($P$34:P58)-1)<>\"\",OFFSET(DE104_3!$P$34,ROWS($P$34:P58)-1,COLUMNS($P$34:P58)-1),\"\")","v":""},{"$f":"IF(OFFSET(DE104_3!$Q$34,ROWS($Q$34:Q58)-1,COLUMNS($Q$34:Q58)-1)<>\"\",OFFSET(DE104_3!$Q$34,ROWS($Q$34:Q58)-1,COLUMNS($Q$34:Q58)-1),\"\")","v":""},{"$f":"IF(OFFSET(DE104_3!$R$34,ROWS($R$34:R58)-1,COLUMNS($R$34:R58)-1)<>\"\",OFFSET(DE104_3!$R$34,ROWS($R$34:R58)-1,COLUMNS($R$34:R58)-1),\"\")","v":""},{"$f":"IF(OFFSET(DE104_3!$S$34,ROWS($S$34:S58)-1,COLUMNS($S$34:S58)-1)<>\"\",OFFSET(DE104_3!$S$34,ROWS($S$34:S58)-1,COLUMNS($S$34:S58)-1),\"\")","v":""},{"$f":"IF(OFFSET(DE104_3!$T$34,ROWS($T$34:T58)-1,COLUMNS($T$34:T58)-1)<>\"\",OFFSET(DE104_3!$T$34,ROWS($T$34:T58)-1,COLUMNS($T$34:T58)-1),\"\")","v":""},{"$f":"IF(OFFSET(DE104_3!$U$34,ROWS($U$34:U58)-1,COLUMNS($U$34:U58)-1)<>\"\",OFFSET(DE104_3!$U$34,ROWS($U$34:U58)-1,COLUMNS($U$34:U58)-1),\"\")","v":""},{"$f":"IF(OFFSET(DE104_3!$V$34,ROWS($V$34:V58)-1,COLUMNS($V$34:V58)-1)<>\"\",OFFSET(DE104_3!$V$34,ROWS($V$34:V58)-1,COLUMNS($V$34:V58)-1),\"\")","v":""},{"$f":"IF(OFFSET(DE104_3!$W$34,ROWS($W$34:W58)-1,COLUMNS($W$34:W58)-1)<>\"\",OFFSET(DE104_3!$W$34,ROWS($W$34:W58)-1,COLUMNS($W$34:W58)-1),\"\")","v":""},{"$f":"IF(OFFSET(DE104_3!$X$34,ROWS($X$34:X58)-1,COLUMNS($X$34:X58)-1)<>\"\",OFFSET(DE104_3!$X$34,ROWS($X$34:X58)-1,COLUMNS($X$34:X58)-1),\"\")","v":""},{"$f":"IF(OFFSET(DE104_3!$Y$34,ROWS($Y$34:Y58)-1,COLUMNS($Y$34:Y58)-1)<>\"\",OFFSET(DE104_3!$Y$34,ROWS($Y$34:Y58)-1,COLUMNS($Y$34:Y58)-1),\"\")","v":""},{"$f":"IF(OFFSET(DE104_3!$Z$34,ROWS($Z$34:Z58)-1,COLUMNS($Z$34:Z58)-1)<>\"\",OFFSET(DE104_3!$Z$34,ROWS($Z$34:Z58)-1,COLUMNS($Z$34:Z58)-1),\"\")","v":""},{"$f":"IF(OFFSET(DE104_3!$AA$34,ROWS($AA$34:AA58)-1,COLUMNS($AA$34:AA58)-1)<>\"\",OFFSET(DE104_3!$AA$34,ROWS($AA$34:AA58)-1,COLUMNS($AA$34:AA58)-1),\"\")","v":""},{"$f":"IF(OFFSET(DE104_3!$AB$34,ROWS($AB$34:AB58)-1,COLUMNS($AB$34:AB58)-1)<>\"\",OFFSET(DE104_3!$AB$34,ROWS($AB$34:AB58)-1,COLUMNS($AB$34:AB58)-1),\"\")","v":""},{"$f":"IF(OFFSET(DE104_3!$AC$34,ROWS($AC$34:AC58)-1,COLUMNS($AC$34:AC58)-1)<>\"\",OFFSET(DE104_3!$AC$34,ROWS($AC$34:AC58)-1,COLUMNS($AC$34:AC58)-1),\"\")","v":""},{"$f":"IF(OFFSET(DE104_3!$AD$34,ROWS($AD$34:AD58)-1,COLUMNS($AD$34:AD58)-1)<>\"\",OFFSET(DE104_3!$AD$34,ROWS($AD$34:AD58)-1,COLUMNS($AD$34:AD58)-1),\"\")","v":""},{"$f":"IF(OFFSET(DE104_3!$AE$34,ROWS($AE$34:AE58)-1,COLUMNS($AE$34:AE58)-1)<>\"\",OFFSET(DE104_3!$AE$34,ROWS($AE$34:AE58)-1,COLUMNS($AE$34:AE58)-1),\"\")","v":""},{"$f":"IF(OFFSET(DE104_3!$AF$34,ROWS($AF$34:AF58)-1,COLUMNS($AF$34:AF58)-1)<>\"\",OFFSET(DE104_3!$AF$34,ROWS($AF$34:AF58)-1,COLUMNS($AF$34:AF58)-1),\"\")","v":""},{"$f":"IF(OFFSET(DE104_3!$AG$34,ROWS($AG$34:AG58)-1,COLUMNS($AG$34:AG58)-1)<>\"\",OFFSET(DE104_3!$AG$34,ROWS($AG$34:AG58)-1,COLUMNS($AG$34:AG58)-1),\"\")","v":""},{"$f":"IF(OFFSET(DE104_3!$AH$34,ROWS($AH$34:AH58)-1,COLUMNS($AH$34:AH58)-1)<>\"\",OFFSET(DE104_3!$AH$34,ROWS($AH$34:AH58)-1,COLUMNS($AH$34:AH58)-1),\"\")","v":""},{"$f":"IF(OFFSET(DE104_3!$AI$34,ROWS($AI$34:AI58)-1,COLUMNS($AI$34:AI58)-1)<>\"\",OFFSET(DE104_3!$AI$34,ROWS($AI$34:AI58)-1,COLUMNS($AI$34:AI58)-1),\"\")","v":""},{"$f":"IF(OFFSET(DE104_3!$AJ$34,ROWS($AJ$34:AJ58)-1,COLUMNS($AJ$34:AJ58)-1)<>\"\",OFFSET(DE104_3!$AJ$34,ROWS($AJ$34:AJ58)-1,COLUMNS($AJ$34:AJ58)-1),\"\")","v":""},{"$f":"IF(OFFSET(DE104_3!$AK$34,ROWS($AK$34:AK58)-1,COLUMNS($AK$34:AK58)-1)<>\"\",OFFSET(DE104_3!$AK$34,ROWS($AK$34:AK58)-1,COLUMNS($AK$34:AK58)-1),\"\")","v":""},{"$f":"IF(OFFSET(DE104_3!$AL$34,ROWS($AL$34:AL58)-1,COLUMNS($AL$34:AL58)-1)<>\"\",OFFSET(DE104_3!$AL$34,ROWS($AL$34:AL58)-1,COLUMNS($AL$34:AL58)-1),\"\")","v":""},{"$f":"IF(OFFSET(DE104_3!$AM$34,ROWS($AM$34:AM58)-1,COLUMNS($AM$34:AM58)-1)<>\"\",OFFSET(DE104_3!$AM$34,ROWS($AM$34:AM58)-1,COLUMNS($AM$34:AM58)-1),\"\")","v":""},{"$f":"IF(OFFSET(DE104_3!$AN$34,ROWS($AN$34:AN58)-1,COLUMNS($AN$34:AN58)-1)<>\"\",OFFSET(DE104_3!$AN$34,ROWS($AN$34:AN58)-1,COLUMNS($AN$34:AN58)-1),\"\")","v":""},{"$f":"IF(OFFSET(DE104_3!$AO$34,ROWS($AO$34:AO58)-1,COLUMNS($AO$34:AO58)-1)<>\"\",OFFSET(DE104_3!$AO$34,ROWS($AO$34:AO58)-1,COLUMNS($AO$34:AO58)-1),\"\")","v":""},{"$f":"IF(OFFSET(DE104_3!$AP$34,ROWS($AP$34:AP58)-1,COLUMNS($AP$34:AP58)-1)<>\"\",OFFSET(DE104_3!$AP$34,ROWS($AP$34:AP58)-1,COLUMNS($AP$34:AP58)-1),\"\")","v":""},{"$f":"IF(OFFSET(DE104_3!$AQ$34,ROWS($AQ$34:AQ58)-1,COLUMNS($AQ$34:AQ58)-1)<>\"\",OFFSET(DE104_3!$AQ$34,ROWS($AQ$34:AQ58)-1,COLUMNS($AQ$34:AQ58)-1),\"\")","v":""}]
[{"$f":"IF(OFFSET(DE104_3!$C$34,ROWS($C$34:C59)-1,COLUMNS($C$34:C59)-1)<>\"\",OFFSET(DE104_3!$C$34,ROWS($C$34:C59)-1,COLUMNS($C$34:C59)-1),\"\")","v":""},{"$f":"IF(OFFSET(DE104_3!$D$34,ROWS($D$34:D59)-1,COLUMNS($D$34:D59)-1)<>\"\",OFFSET(DE104_3!$D$34,ROWS($D$34:D59)-1,COLUMNS($D$34:D59)-1),\"\")","v":4147617},{"$f":"IF(OFFSET(DE104_3!$E$34,ROWS($E$34:E59)-1,COLUMNS($E$34:E59)-1)<>\"\",OFFSET(DE104_3!$E$34,ROWS($E$34:E59)-1,COLUMNS($E$34:E59)-1),\"\")","v":"DR-601"},{"$f":"IF(OFFSET(DE104_3!$F$34,ROWS($F$34:F59)-1,COLUMNS($F$34:F59)-1)<>\"\",OFFSET(DE104_3!$F$34,ROWS($F$34:F59)-1,COLUMNS($F$34:F59)-1),\"\")","v":24},{"$f":"IF(OFFSET(DE104_3!$G$34,ROWS($G$34:G59)-1,COLUMNS($G$34:G59)-1)<>\"\",OFFSET(DE104_3!$G$34,ROWS($G$34:G59)-1,COLUMNS($G$34:G59)-1),\"\")","v":3000},{"$f":"IF(OFFSET(DE104_3!$H$34,ROWS($H$34:H59)-1,COLUMNS($H$34:H59)-1)<>\"\",OFFSET(DE104_3!$H$34,ROWS($H$34:H59)-1,COLUMNS($H$34:H59)-1),\"\")","v":"RCP"},{"$f":"IF(OFFSET(DE104_3!$I$34,ROWS($I$34:I59)-1,COLUMNS($I$34:I59)-1)<>\"\",OFFSET(DE104_3!$I$34,ROWS($I$34:I59)-1,COLUMNS($I$34:I59)-1),\"\")","v":210},{"$f":"IF(OFFSET(DE104_3!$J$34,ROWS($J$34:J59)-1,COLUMNS($J$34:J59)-1)<>\"\",OFFSET(DE104_3!$J$34,ROWS($J$34:J59)-1,COLUMNS($J$34:J59)-1),\"\")","v":"B"},{"$f":"IF(OFFSET(DE104_3!$K$34,ROWS($K$34:K59)-1,COLUMNS($K$34:K59)-1)<>\"\",OFFSET(DE104_3!$K$34,ROWS($K$34:K59)-1,COLUMNS($K$34:K59)-1),\"\")","v":19.8},{"$f":"IF(OFFSET(DE104_3!$L$34,ROWS($L$34:L59)-1,COLUMNS($L$34:L59)-1)<>\"\",OFFSET(DE104_3!$L$34,ROWS($L$34:L59)-1,COLUMNS($L$34:L59)-1),\"\")","v":""},{"$f":"IF(OFFSET(DE104_3!$M$34,ROWS($M$34:M59)-1,COLUMNS($M$34:M59)-1)<>\"\",OFFSET(DE104_3!$M$34,ROWS($M$34:M59)-1,COLUMNS($M$34:M59)-1),\"\")","v":1},{"$f":"IF(OFFSET(DE104_3!$N$34,ROWS($N$34:N59)-1,COLUMNS($N$34:N59)-1)<>\"\",OFFSET(DE104_3!$N$34,ROWS($N$34:N59)-1,COLUMNS($N$34:N59)-1),\"\")","v":1},{"$f":"IF(OFFSET(DE104_3!$O$34,ROWS($O$34:O59)-1,COLUMNS($O$34:O59)-1)<>\"\",OFFSET(DE104_3!$O$34,ROWS($O$34:O59)-1,COLUMNS($O$34:O59)-1),\"\")","v":""},{"$f":"IF(OFFSET(DE104_3!$P$34,ROWS($P$34:P59)-1,COLUMNS($P$34:P59)-1)<>\"\",OFFSET(DE104_3!$P$34,ROWS($P$34:P59)-1,COLUMNS($P$34:P59)-1),\"\")","v":""},{"$f":"IF(OFFSET(DE104_3!$Q$34,ROWS($Q$34:Q59)-1,COLUMNS($Q$34:Q59)-1)<>\"\",OFFSET(DE104_3!$Q$34,ROWS($Q$34:Q59)-1,COLUMNS($Q$34:Q59)-1),\"\")","v":""},{"$f":"IF(OFFSET(DE104_3!$R$34,ROWS($R$34:R59)-1,COLUMNS($R$34:R59)-1)<>\"\",OFFSET(DE104_3!$R$34,ROWS($R$34:R59)-1,COLUMNS($R$34:R59)-1),\"\")","v":""},{"$f":"IF(OFFSET(DE104_3!$S$34,ROWS($S$34:S59)-1,COLUMNS($S$34:S59)-1)<>\"\",OFFSET(DE104_3!$S$34,ROWS($S$34:S59)-1,COLUMNS($S$34:S59)-1),\"\")","v":""},{"$f":"IF(OFFSET(DE104_3!$T$34,ROWS($T$34:T59)-1,COLUMNS($T$34:T59)-1)<>\"\",OFFSET(DE104_3!$T$34,ROWS($T$34:T59)-1,COLUMNS($T$34:T59)-1),\"\")","v":""},{"$f":"IF(OFFSET(DE104_3!$U$34,ROWS($U$34:U59)-1,COLUMNS($U$34:U59)-1)<>\"\",OFFSET(DE104_3!$U$34,ROWS($U$34:U59)-1,COLUMNS($U$34:U59)-1),\"\")","v":""},{"$f":"IF(OFFSET(DE104_3!$V$34,ROWS($V$34:V59)-1,COLUMNS($V$34:V59)-1)<>\"\",OFFSET(DE104_3!$V$34,ROWS($V$34:V59)-1,COLUMNS($V$34:V59)-1),\"\")","v":"Type 3"},{"$f":"IF(OFFSET(DE104_3!$W$34,ROWS($W$34:W59)-1,COLUMNS($W$34:W59)-1)<>\"\",OFFSET(DE104_3!$W$34,ROWS($W$34:W59)-1,COLUMNS($W$34:W59)-1),\"\")","v":""},{"$f":"IF(OFFSET(DE104_3!$X$34,ROWS($X$34:X59)-1,COLUMNS($X$34:X59)-1)<>\"\",OFFSET(DE104_3!$X$34,ROWS($X$34:X59)-1,COLUMNS($X$34:X59)-1),\"\")","v":912.32},{"$f":"IF(OFFSET(DE104_3!$Y$34,ROWS($Y$34:Y59)-1,COLUMNS($Y$34:Y59)-1)<>\"\",OFFSET(DE104_3!$Y$34,ROWS($Y$34:Y59)-1,COLUMNS($Y$34:Y59)-1),\"\")","v":910.82},{"$f":"IF(OFFSET(DE104_3!$Z$34,ROWS($Z$34:Z59)-1,COLUMNS($Z$34:Z59)-1)<>\"\",OFFSET(DE104_3!$Z$34,ROWS($Z$34:Z59)-1,COLUMNS($Z$34:Z59)-1),\"\")","v":""},{"$f":"IF(OFFSET(DE104_3!$AA$34,ROWS($AA$34:AA59)-1,COLUMNS($AA$34:AA59)-1)<>\"\",OFFSET(DE104_3!$AA$34,ROWS($AA$34:AA59)-1,COLUMNS($AA$34:AA59)-1),\"\")","v":""},{"$f":"IF(OFFSET(DE104_3!$AB$34,ROWS($AB$34:AB59)-1,COLUMNS($AB$34:AB59)-1)<>\"\",OFFSET(DE104_3!$AB$34,ROWS($AB$34:AB59)-1,COLUMNS($AB$34:AB59)-1),\"\")","v":129.33000000000001},{"$f":"IF(OFFSET(DE104_3!$AC$34,ROWS($AC$34:AC59)-1,COLUMNS($AC$34:AC59)-1)<>\"\",OFFSET(DE104_3!$AC$34,ROWS($AC$34:AC59)-1,COLUMNS($AC$34:AC59)-1),\"\")","v":92.91},{"$f":"IF(OFFSET(DE104_3!$AD$34,ROWS($AD$34:AD59)-1,COLUMNS($AD$34:AD59)-1)<>\"\",OFFSET(DE104_3!$AD$34,ROWS($AD$34:AD59)-1,COLUMNS($AD$34:AD59)-1),\"\")","v":""},{"$f":"IF(OFFSET(DE104_3!$AE$34,ROWS($AE$34:AE59)-1,COLUMNS($AE$34:AE59)-1)<>\"\",OFFSET(DE104_3!$AE$34,ROWS($AE$34:AE59)-1,COLUMNS($AE$34:AE59)-1),\"\")","v":""},{"$f":"IF(OFFSET(DE104_3!$AF$34,ROWS($AF$34:AF59)-1,COLUMNS($AF$34:AF59)-1)<>\"\",OFFSET(DE104_3!$AF$34,ROWS($AF$34:AF59)-1,COLUMNS($AF$34:AF59)-1),\"\")","v":""},{"$f":"IF(OFFSET(DE104_3!$AG$34,ROWS($AG$34:AG59)-1,COLUMNS($AG$34:AG59)-1)<>\"\",OFFSET(DE104_3!$AG$34,ROWS($AG$34:AG59)-1,COLUMNS($AG$34:AG59)-1),\"\")","v":""},{"$f":"IF(OFFSET(DE104_3!$AH$34,ROWS($AH$34:AH59)-1,COLUMNS($AH$34:AH59)-1)<>\"\",OFFSET(DE104_3!$AH$34,ROWS($AH$34:AH59)-1,COLUMNS($AH$34:AH59)-1),\"\")","v":""},{"$f":"IF(OFFSET(DE104_3!$AI$34,ROWS($AI$34:AI59)-1,COLUMNS($AI$34:AI59)-1)<>\"\",OFFSET(DE104_3!$AI$34,ROWS($AI$34:AI59)-1,COLUMNS($AI$34:AI59)-1),\"\")","v":""},{"$f":"IF(OFFSET(DE104_3!$AJ$34,ROWS($AJ$34:AJ59)-1,COLUMNS($AJ$34:AJ59)-1)<>\"\",OFFSET(DE104_3!$AJ$34,ROWS($AJ$34:AJ59)-1,COLUMNS($AJ$34:AJ59)-1),\"\")","v":""},{"$f":"IF(OFFSET(DE104_3!$AK$34,ROWS($AK$34:AK59)-1,COLUMNS($AK$34:AK59)-1)<>\"\",OFFSET(DE104_3!$AK$34,ROWS($AK$34:AK59)-1,COLUMNS($AK$34:AK59)-1),\"\")","v":""},{"$f":"IF(OFFSET(DE104_3!$AL$34,ROWS($AL$34:AL59)-1,COLUMNS($AL$34:AL59)-1)<>\"\",OFFSET(DE104_3!$AL$34,ROWS($AL$34:AL59)-1,COLUMNS($AL$34:AL59)-1),\"\")","v":189.66186666666667},{"$f":"IF(OFFSET(DE104_3!$AM$34,ROWS($AM$34:AM59)-1,COLUMNS($AM$34:AM59)-1)<>\"\",OFFSET(DE104_3!$AM$34,ROWS($AM$34:AM59)-1,COLUMNS($AM$34:AM59)-1),\"\")","v":""},{"$f":"IF(OFFSET(DE104_3!$AN$34,ROWS($AN$34:AN59)-1,COLUMNS($AN$34:AN59)-1)<>\"\",OFFSET(DE104_3!$AN$34,ROWS($AN$34:AN59)-1,COLUMNS($AN$34:AN59)-1),\"\")","v":923.26650000000006},{"$f":"IF(OFFSET(DE104_3!$AO$34,ROWS($AO$34:AO59)-1,COLUMNS($AO$34:AO59)-1)<>\"\",OFFSET(DE104_3!$AO$34,ROWS($AO$34:AO59)-1,COLUMNS($AO$34:AO59)-1),\"\")","v":17.212911111111108},{"$f":"IF(OFFSET(DE104_3!$AP$34,ROWS($AP$34:AP59)-1,COLUMNS($AP$34:AP59)-1)<>\"\",OFFSET(DE104_3!$AP$34,ROWS($AP$34:AP59)-1,COLUMNS($AP$34:AP59)-1),\"\")","v":940.47941111111118},{"$f":"IF(OFFSET(DE104_3!$AQ$34,ROWS($AQ$34:AQ59)-1,COLUMNS($AQ$34:AQ59)-1)<>\"\",OFFSET(DE104_3!$AQ$34,ROWS($AQ$34:AQ59)-1,COLUMNS($AQ$34:AQ59)-1),\"\")","v":""}]
[{"$f":"IF(OFFSET(DE104_3!$C$34,ROWS($C$34:C60)-1,COLUMNS($C$34:C60)-1)<>\"\",OFFSET(DE104_3!$C$34,ROWS($C$34:C60)-1,COLUMNS($C$34:C60)-1),\"\")","v":""},{"$f":"IF(OFFSET(DE104_3!$D$34,ROWS($D$34:D60)-1,COLUMNS($D$34:D60)-1)<>\"\",OFFSET(DE104_3!$D$34,ROWS($D$34:D60)-1,COLUMNS($D$34:D60)-1),\"\")","v":4148200},{"$f":"IF(OFFSET(DE104_3!$E$34,ROWS($E$34:E60)-1,COLUMNS($E$34:E60)-1)<>\"\",OFFSET(DE104_3!$E$34,ROWS($E$34:E60)-1,COLUMNS($E$34:E60)-1),\"\")","v":"DR-601"},{"$f":"IF(OFFSET(DE104_3!$F$34,ROWS($F$34:F60)-1,COLUMNS($F$34:F60)-1)<>\"\",OFFSET(DE104_3!$F$34,ROWS($F$34:F60)-1,COLUMNS($F$34:F60)-1),\"\")","v":42},{"$f":"IF(OFFSET(DE104_3!$G$34,ROWS($G$34:G60)-1,COLUMNS($G$34:G60)-1)<>\"\",OFFSET(DE104_3!$G$34,ROWS($G$34:G60)-1,COLUMNS($G$34:G60)-1),\"\")","v":2000},{"$f":"IF(OFFSET(DE104_3!$H$34,ROWS($H$34:H60)-1,COLUMNS($H$34:H60)-1)<>\"\",OFFSET(DE104_3!$H$34,ROWS($H$34:H60)-1,COLUMNS($H$34:H60)-1),\"\")","v":"RCP"},{"$f":"IF(OFFSET(DE104_3!$I$34,ROWS($I$34:I60)-1,COLUMNS($I$34:I60)-1)<>\"\",OFFSET(DE104_3!$I$34,ROWS($I$34:I60)-1,COLUMNS($I$34:I60)-1),\"\")","v":282},{"$f":"IF(OFFSET(DE104_3!$J$34,ROWS($J$34:J60)-1,COLUMNS($J$34:J60)-1)<>\"\",OFFSET(DE104_3!$J$34,ROWS($J$34:J60)-1,COLUMNS($J$34:J60)-1),\"\")","v":"B"},{"$f":"IF(OFFSET(DE104_3!$K$34,ROWS($K$34:K60)-1,COLUMNS($K$34:K60)-1)<>\"\",OFFSET(DE104_3!$K$34,ROWS($K$34:K60)-1,COLUMNS($K$34:K60)-1),\"\")","v":11.8},{"$f":"IF(OFFSET(DE104_3!$L$34,ROWS($L$34:L60)-1,COLUMNS($L$34:L60)-1)<>\"\",OFFSET(DE104_3!$L$34,ROWS($L$34:L60)-1,COLUMNS($L$34:L60)-1),\"\")","v":""},{"$f":"IF(OFFSET(DE104_3!$M$34,ROWS($M$34:M60)-1,COLUMNS($M$34:M60)-1)<>\"\",OFFSET(DE104_3!$M$34,ROWS($M$34:M60)-1,COLUMNS($M$34:M60)-1),\"\")","v":1},{"$f":"IF(OFFSET(DE104_3!$N$34,ROWS($N$34:N60)-1,COLUMNS($N$34:N60)-1)<>\"\",OFFSET(DE104_3!$N$34,ROWS($N$34:N60)-1,COLUMNS($N$34:N60)-1),\"\")","v":1},{"$f":"IF(OFFSET(DE104_3!$O$34,ROWS($O$34:O60)-1,COLUMNS($O$34:O60)-1)<>\"\",OFFSET(DE104_3!$O$34,ROWS($O$34:O60)-1,COLUMNS($O$34:O60)-1),\"\")","v":""},{"$f":"IF(OFFSET(DE104_3!$P$34,ROWS($P$34:P60)-1,COLUMNS($P$34:P60)-1)<>\"\",OFFSET(DE104_3!$P$34,ROWS($P$34:P60)-1,COLUMNS($P$34:P60)-1),\"\")","v":""},{"$f":"IF(OFFSET(DE104_3!$Q$34,ROWS($Q$34:Q60)-1,COLUMNS($Q$34:Q60)-1)<>\"\",OFFSET(DE104_3!$Q$34,ROWS($Q$34:Q60)-1,COLUMNS($Q$34:Q60)-1),\"\")","v":""},{"$f":"IF(OFFSET(DE104_3!$R$34,ROWS($R$34:R60)-1,COLUMNS($R$34:R60)-1)<>\"\",OFFSET(DE104_3!$R$34,ROWS($R$34:R60)-1,COLUMNS($R$34:R60)-1),\"\")","v":""},{"$f":"IF(OFFSET(DE104_3!$S$34,ROWS($S$34:S60)-1,COLUMNS($S$34:S60)-1)<>\"\",OFFSET(DE104_3!$S$34,ROWS($S$34:S60)-1,COLUMNS($S$34:S60)-1),\"\")","v":""},{"$f":"IF(OFFSET(DE104_3!$T$34,ROWS($T$34:T60)-1,COLUMNS($T$34:T60)-1)<>\"\",OFFSET(DE104_3!$T$34,ROWS($T$34:T60)-1,COLUMNS($T$34:T60)-1),\"\")","v":""},{"$f":"IF(OFFSET(DE104_3!$U$34,ROWS($U$34:U60)-1,COLUMNS($U$34:U60)-1)<>\"\",OFFSET(DE104_3!$U$34,ROWS($U$34:U60)-1,COLUMNS($U$34:U60)-1),\"\")","v":""},{"$f":"IF(OFFSET(DE104_3!$V$34,ROWS($V$34:V60)-1,COLUMNS($V$34:V60)-1)<>\"\",OFFSET(DE104_3!$V$34,ROWS($V$34:V60)-1,COLUMNS($V$34:V60)-1),\"\")","v":"Type 3"},{"$f":"IF(OFFSET(DE104_3!$W$34,ROWS($W$34:W60)-1,COLUMNS($W$34:W60)-1)<>\"\",OFFSET(DE104_3!$W$34,ROWS($W$34:W60)-1,COLUMNS($W$34:W60)-1),\"\")","v":""},{"$f":"IF(OFFSET(DE104_3!$X$34,ROWS($X$34:X60)-1,COLUMNS($X$34:X60)-1)<>\"\",OFFSET(DE104_3!$X$34,ROWS($X$34:X60)-1,COLUMNS($X$34:X60)-1),\"\")","v":912.71},{"$f":"IF(OFFSET(DE104_3!$Y$34,ROWS($Y$34:Y60)-1,COLUMNS($Y$34:Y60)-1)<>\"\",OFFSET(DE104_3!$Y$34,ROWS($Y$34:Y60)-1,COLUMNS($Y$34:Y60)-1),\"\")","v":907.48},{"$f":"IF(OFFSET(DE104_3!$Z$34,ROWS($Z$34:Z60)-1,COLUMNS($Z$34:Z60)-1)<>\"\",OFFSET(DE104_3!$Z$34,ROWS($Z$34:Z60)-1,COLUMNS($Z$34:Z60)-1),\"\")","v":""},{"$f":"IF(OFFSET(DE104_3!$AA$34,ROWS($AA$34:AA60)-1,COLUMNS($AA$34:AA60)-1)<>\"\",OFFSET(DE104_3!$AA$34,ROWS($AA$34:AA60)-1,COLUMNS($AA$34:AA60)-1),\"\")","v":""},{"$f":"IF(OFFSET(DE104_3!$AB$34,ROWS($AB$34:AB60)-1,COLUMNS($AB$34:AB60)-1)<>\"\",OFFSET(DE104_3!$AB$34,ROWS($AB$34:AB60)-1,COLUMNS($AB$34:AB60)-1),\"\")","v":146.38999999999999},{"$f":"IF(OFFSET(DE104_3!$AC$34,ROWS($AC$34:AC60)-1,COLUMNS($AC$34:AC60)-1)<>\"\",OFFSET(DE104_3!$AC$34,ROWS($AC$34:AC60)-1,COLUMNS($AC$34:AC60)-1),\"\")","v":151.56},{"$f":"IF(OFFSET(DE104_3!$AD$34,ROWS($AD$34:AD60)-1,COLUMNS($AD$34:AD60)-1)<>\"\",OFFSET(DE104_3!$AD$34,ROWS($AD$34:AD60)-1,COLUMNS($AD$34:AD60)-1),\"\")","v":""},{"$f":"IF(OFFSET(DE104_3!$AE$34,ROWS($AE$34:AE60)-1,COLUMNS($AE$34:AE60)-1)<>\"\",OFFSET(DE104_3!$AE$34,ROWS($AE$34:AE60)-1,COLUMNS($AE$34:AE60)-1),\"\")","v":""},{"$f":"IF(OFFSET(DE104_3!$AF$34,ROWS($AF$34:AF60)-1,COLUMNS($AF$34:AF60)-1)<>\"\",OFFSET(DE104_3!$AF$34,ROWS($AF$34:AF60)-1,COLUMNS($AF$34:AF60)-1),\"\")","v":61},{"$f":"IF(OFFSET(DE104_3!$AG$34,ROWS($AG$34:AG60)-1,COLUMNS($AG$34:AG60)-1)<>\"\",OFFSET(DE104_3!$AG$34,ROWS($AG$34:AG60)-1,COLUMNS($AG$34:AG60)-1),\"\")","v":""},{"$f":"IF(OFFSET(DE104_3!$AH$34,ROWS($AH$34:AH60)-1,COLUMNS($AH$34:AH60)-1)<>\"\",OFFSET(DE104_3!$AH$34,ROWS($AH$34:AH60)-1,COLUMNS($AH$34:AH60)-1),\"\")","v":""},{"$f":"IF(OFFSET(DE104_3!$AI$34,ROWS($AI$34:AI60)-1,COLUMNS($AI$34:AI60)-1)<>\"\",OFFSET(DE104_3!$AI$34,ROWS($AI$34:AI60)-1,COLUMNS($AI$34:AI60)-1),\"\")","v":""},{"$f":"IF(OFFSET(DE104_3!$AJ$34,ROWS($AJ$34:AJ60)-1,COLUMNS($AJ$34:AJ60)-1)<>\"\",OFFSET(DE104_3!$AJ$34,ROWS($AJ$34:AJ60)-1,COLUMNS($AJ$34:AJ60)-1),\"\")","v":""},{"$f":"IF(OFFSET(DE104_3!$AK$34,ROWS($AK$34:AK60)-1,COLUMNS($AK$34:AK60)-1)<>\"\",OFFSET(DE104_3!$AK$34,ROWS($AK$34:AK60)-1,COLUMNS($AK$34:AK60)-1),\"\")","v":""},{"$f":"IF(OFFSET(DE104_3!$AL$34,ROWS($AL$34:AL60)-1,COLUMNS($AL$34:AL60)-1)<>\"\",OFFSET(DE104_3!$AL$34,ROWS($AL$34:AL60)-1,COLUMNS($AL$34:AL60)-1),\"\")","v":93.81481481481481},{"$f":"IF(OFFSET(DE104_3!$AM$34,ROWS($AM$34:AM60)-1,COLUMNS($AM$34:AM60)-1)<>\"\",OFFSET(DE104_3!$AM$34,ROWS($AM$34:AM60)-1,COLUMNS($AM$34:AM60)-1),\"\")","v":""},{"$f":"IF(OFFSET(DE104_3!$AN$34,ROWS($AN$34:AN60)-1,COLUMNS($AN$34:AN60)-1)<>\"\",OFFSET(DE104_3!$AN$34,ROWS($AN$34:AN60)-1,COLUMNS($AN$34:AN60)-1),\"\")","v":366.48444444444442},{"$f":"IF(OFFSET(DE104_3!$AO$34,ROWS($AO$34:AO60)-1,COLUMNS($AO$34:AO60)-1)<>\"\",OFFSET(DE104_3!$AO$34,ROWS($AO$34:AO60)-1,COLUMNS($AO$34:AO60)-1),\"\")","v":28.61333333333333},{"$f":"IF(OFFSET(DE104_3!$AP$34,ROWS($AP$34:AP60)-1,COLUMNS($AP$34:AP60)-1)<>\"\",OFFSET(DE104_3!$AP$34,ROWS($AP$34:AP60)-1,COLUMNS($AP$34:AP60)-1),\"\")","v":395.09777777777776},{"$f":"IF(OFFSET(DE104_3!$AQ$34,ROWS($AQ$34:AQ60)-1,COLUMNS($AQ$34:AQ60)-1)<>\"\",OFFSET(DE104_3!$AQ$34,ROWS($AQ$34:AQ60)-1,COLUMNS($AQ$34:AQ60)-1),\"\")","v":""}]
[{"$f":"IF(OFFSET(DE104_3!$C$34,ROWS($C$34:C61)-1,COLUMNS($C$34:C61)-1)<>\"\",OFFSET(DE104_3!$C$34,ROWS($C$34:C61)-1,COLUMNS($C$34:C61)-1),\"\")","v":""},{"$f":"IF(OFFSET(DE104_3!$D$34,ROWS($D$34:D61)-1,COLUMNS($D$34:D61)-1)<>\"\",OFFSET(DE104_3!$D$34,ROWS($D$34:D61)-1,COLUMNS($D$34:D61)-1),\"\")","v":""},{"$f":"IF(OFFSET(DE104_3!$E$34,ROWS($E$34:E61)-1,COLUMNS($E$34:E61)-1)<>\"\",OFFSET(DE104_3!$E$34,ROWS($E$34:E61)-1,COLUMNS($E$34:E61)-1),\"\")","v":""},{"$f":"IF(OFFSET(DE104_3!$F$34,ROWS($F$34:F61)-1,COLUMNS($F$34:F61)-1)<>\"\",OFFSET(DE104_3!$F$34,ROWS($F$34:F61)-1,COLUMNS($F$34:F61)-1),\"\")","v":""},{"$f":"IF(OFFSET(DE104_3!$G$34,ROWS($G$34:G61)-1,COLUMNS($G$34:G61)-1)<>\"\",OFFSET(DE104_3!$G$34,ROWS($G$34:G61)-1,COLUMNS($G$34:G61)-1),\"\")","v":""},{"$f":"IF(OFFSET(DE104_3!$H$34,ROWS($H$34:H61)-1,COLUMNS($H$34:H61)-1)<>\"\",OFFSET(DE104_3!$H$34,ROWS($H$34:H61)-1,COLUMNS($H$34:H61)-1),\"\")","v":""},{"$f":"IF(OFFSET(DE104_3!$I$34,ROWS($I$34:I61)-1,COLUMNS($I$34:I61)-1)<>\"\",OFFSET(DE104_3!$I$34,ROWS($I$34:I61)-1,COLUMNS($I$34:I61)-1),\"\")","v":""},{"$f":"IF(OFFSET(DE104_3!$J$34,ROWS($J$34:J61)-1,COLUMNS($J$34:J61)-1)<>\"\",OFFSET(DE104_3!$J$34,ROWS($J$34:J61)-1,COLUMNS($J$34:J61)-1),\"\")","v":""},{"$f":"IF(OFFSET(DE104_3!$K$34,ROWS($K$34:K61)-1,COLUMNS($K$34:K61)-1)<>\"\",OFFSET(DE104_3!$K$34,ROWS($K$34:K61)-1,COLUMNS($K$34:K61)-1),\"\")","v":""},{"$f":"IF(OFFSET(DE104_3!$L$34,ROWS($L$34:L61)-1,COLUMNS($L$34:L61)-1)<>\"\",OFFSET(DE104_3!$L$34,ROWS($L$34:L61)-1,COLUMNS($L$34:L61)-1),\"\")","v":""},{"$f":"IF(OFFSET(DE104_3!$M$34,ROWS($M$34:M61)-1,COLUMNS($M$34:M61)-1)<>\"\",OFFSET(DE104_3!$M$34,ROWS($M$34:M61)-1,COLUMNS($M$34:M61)-1),\"\")","v":""},{"$f":"IF(OFFSET(DE104_3!$N$34,ROWS($N$34:N61)-1,COLUMNS($N$34:N61)-1)<>\"\",OFFSET(DE104_3!$N$34,ROWS($N$34:N61)-1,COLUMNS($N$34:N61)-1),\"\")","v":""},{"$f":"IF(OFFSET(DE104_3!$O$34,ROWS($O$34:O61)-1,COLUMNS($O$34:O61)-1)<>\"\",OFFSET(DE104_3!$O$34,ROWS($O$34:O61)-1,COLUMNS($O$34:O61)-1),\"\")","v":""},{"$f":"IF(OFFSET(DE104_3!$P$34,ROWS($P$34:P61)-1,COLUMNS($P$34:P61)-1)<>\"\",OFFSET(DE104_3!$P$34,ROWS($P$34:P61)-1,COLUMNS($P$34:P61)-1),\"\")","v":""},{"$f":"IF(OFFSET(DE104_3!$Q$34,ROWS($Q$34:Q61)-1,COLUMNS($Q$34:Q61)-1)<>\"\",OFFSET(DE104_3!$Q$34,ROWS($Q$34:Q61)-1,COLUMNS($Q$34:Q61)-1),\"\")","v":""},{"$f":"IF(OFFSET(DE104_3!$R$34,ROWS($R$34:R61)-1,COLUMNS($R$34:R61)-1)<>\"\",OFFSET(DE104_3!$R$34,ROWS($R$34:R61)-1,COLUMNS($R$34:R61)-1),\"\")","v":""},{"$f":"IF(OFFSET(DE104_3!$S$34,ROWS($S$34:S61)-1,COLUMNS($S$34:S61)-1)<>\"\",OFFSET(DE104_3!$S$34,ROWS($S$34:S61)-1,COLUMNS($S$34:S61)-1),\"\")","v":""},{"$f":"IF(OFFSET(DE104_3!$T$34,ROWS($T$34:T61)-1,COLUMNS($T$34:T61)-1)<>\"\",OFFSET(DE104_3!$T$34,ROWS($T$34:T61)-1,COLUMNS($T$34:T61)-1),\"\")","v":""},{"$f":"IF(OFFSET(DE104_3!$U$34,ROWS($U$34:U61)-1,COLUMNS($U$34:U61)-1)<>\"\",OFFSET(DE104_3!$U$34,ROWS($U$34:U61)-1,COLUMNS($U$34:U61)-1),\"\")","v":""},{"$f":"IF(OFFSET(DE104_3!$V$34,ROWS($V$34:V61)-1,COLUMNS($V$34:V61)-1)<>\"\",OFFSET(DE104_3!$V$34,ROWS($V$34:V61)-1,COLUMNS($V$34:V61)-1),\"\")","v":""},{"$f":"IF(OFFSET(DE104_3!$W$34,ROWS($W$34:W61)-1,COLUMNS($W$34:W61)-1)<>\"\",OFFSET(DE104_3!$W$34,ROWS($W$34:W61)-1,COLUMNS($W$34:W61)-1),\"\")","v":""},{"$f":"IF(OFFSET(DE104_3!$X$34,ROWS($X$34:X61)-1,COLUMNS($X$34:X61)-1)<>\"\",OFFSET(DE104_3!$X$34,ROWS($X$34:X61)-1,COLUMNS($X$34:X61)-1),\"\")","v":""},{"$f":"IF(OFFSET(DE104_3!$Y$34,ROWS($Y$34:Y61)-1,COLUMNS($Y$34:Y61)-1)<>\"\",OFFSET(DE104_3!$Y$34,ROWS($Y$34:Y61)-1,COLUMNS($Y$34:Y61)-1),\"\")","v":""},{"$f":"IF(OFFSET(DE104_3!$Z$34,ROWS($Z$34:Z61)-1,COLUMNS($Z$34:Z61)-1)<>\"\",OFFSET(DE104_3!$Z$34,ROWS($Z$34:Z61)-1,COLUMNS($Z$34:Z61)-1),\"\")","v":""},{"$f":"IF(OFFSET(DE104_3!$AA$34,ROWS($AA$34:AA61)-1,COLUMNS($AA$34:AA61)-1)<>\"\",OFFSET(DE104_3!$AA$34,ROWS($AA$34:AA61)-1,COLUMNS($AA$34:AA61)-1),\"\")","v":""},{"$f":"IF(OFFSET(DE104_3!$AB$34,ROWS($AB$34:AB61)-1,COLUMNS($AB$34:AB61)-1)<>\"\",OFFSET(DE104_3!$AB$34,ROWS($AB$34:AB61)-1,COLUMNS($AB$34:AB61)-1),\"\")","v":""},{"$f":"IF(OFFSET(DE104_3!$AC$34,ROWS($AC$34:AC61)-1,COLUMNS($AC$34:AC61)-1)<>\"\",OFFSET(DE104_3!$AC$34,ROWS($AC$34:AC61)-1,COLUMNS($AC$34:AC61)-1),\"\")","v":""},{"$f":"IF(OFFSET(DE104_3!$AD$34,ROWS($AD$34:AD61)-1,COLUMNS($AD$34:AD61)-1)<>\"\",OFFSET(DE104_3!$AD$34,ROWS($AD$34:AD61)-1,COLUMNS($AD$34:AD61)-1),\"\")","v":""},{"$f":"IF(OFFSET(DE104_3!$AE$34,ROWS($AE$34:AE61)-1,COLUMNS($AE$34:AE61)-1)<>\"\",OFFSET(DE104_3!$AE$34,ROWS($AE$34:AE61)-1,COLUMNS($AE$34:AE61)-1),\"\")","v":""},{"$f":"IF(OFFSET(DE104_3!$AF$34,ROWS($AF$34:AF61)-1,COLUMNS($AF$34:AF61)-1)<>\"\",OFFSET(DE104_3!$AF$34,ROWS($AF$34:AF61)-1,COLUMNS($AF$34:AF61)-1),\"\")","v":""},{"$f":"IF(OFFSET(DE104_3!$AG$34,ROWS($AG$34:AG61)-1,COLUMNS($AG$34:AG61)-1)<>\"\",OFFSET(DE104_3!$AG$34,ROWS($AG$34:AG61)-1,COLUMNS($AG$34:AG61)-1),\"\")","v":""},{"$f":"IF(OFFSET(DE104_3!$AH$34,ROWS($AH$34:AH61)-1,COLUMNS($AH$34:AH61)-1)<>\"\",OFFSET(DE104_3!$AH$34,ROWS($AH$34:AH61)-1,COLUMNS($AH$34:AH61)-1),\"\")","v":""},{"$f":"IF(OFFSET(DE104_3!$AI$34,ROWS($AI$34:AI61)-1,COLUMNS($AI$34:AI61)-1)<>\"\",OFFSET(DE104_3!$AI$34,ROWS($AI$34:AI61)-1,COLUMNS($AI$34:AI61)-1),\"\")","v":""},{"$f":"IF(OFFSET(DE104_3!$AJ$34,ROWS($AJ$34:AJ61)-1,COLUMNS($AJ$34:AJ61)-1)<>\"\",OFFSET(DE104_3!$AJ$34,ROWS($AJ$34:AJ61)-1,COLUMNS($AJ$34:AJ61)-1),\"\")","v":""},{"$f":"IF(OFFSET(DE104_3!$AK$34,ROWS($AK$34:AK61)-1,COLUMNS($AK$34:AK61)-1)<>\"\",OFFSET(DE104_3!$AK$34,ROWS($AK$34:AK61)-1,COLUMNS($AK$34:AK61)-1),\"\")","v":""},{"$f":"IF(OFFSET(DE104_3!$AL$34,ROWS($AL$34:AL61)-1,COLUMNS($AL$34:AL61)-1)<>\"\",OFFSET(DE104_3!$AL$34,ROWS($AL$34:AL61)-1,COLUMNS($AL$34:AL61)-1),\"\")","v":""},{"$f":"IF(OFFSET(DE104_3!$AM$34,ROWS($AM$34:AM61)-1,COLUMNS($AM$34:AM61)-1)<>\"\",OFFSET(DE104_3!$AM$34,ROWS($AM$34:AM61)-1,COLUMNS($AM$34:AM61)-1),\"\")","v":""},{"$f":"IF(OFFSET(DE104_3!$AN$34,ROWS($AN$34:AN61)-1,COLUMNS($AN$34:AN61)-1)<>\"\",OFFSET(DE104_3!$AN$34,ROWS($AN$34:AN61)-1,COLUMNS($AN$34:AN61)-1),\"\")","v":""},{"$f":"IF(OFFSET(DE104_3!$AO$34,ROWS($AO$34:AO61)-1,COLUMNS($AO$34:AO61)-1)<>\"\",OFFSET(DE104_3!$AO$34,ROWS($AO$34:AO61)-1,COLUMNS($AO$34:AO61)-1),\"\")","v":""},{"$f":"IF(OFFSET(DE104_3!$AP$34,ROWS($AP$34:AP61)-1,COLUMNS($AP$34:AP61)-1)<>\"\",OFFSET(DE104_3!$AP$34,ROWS($AP$34:AP61)-1,COLUMNS($AP$34:AP61)-1),\"\")","v":""},{"$f":"IF(OFFSET(DE104_3!$AQ$34,ROWS($AQ$34:AQ61)-1,COLUMNS($AQ$34:AQ61)-1)<>\"\",OFFSET(DE104_3!$AQ$34,ROWS($AQ$34:AQ61)-1,COLUMNS($AQ$34:AQ61)-1),\"\")","v":""}]
[{"$f":"IF(OFFSET(DE104_3!$C$34,ROWS($C$34:C62)-1,COLUMNS($C$34:C62)-1)<>\"\",OFFSET(DE104_3!$C$34,ROWS($C$34:C62)-1,COLUMNS($C$34:C62)-1),\"\")","v":""},{"$f":"IF(OFFSET(DE104_3!$D$34,ROWS($D$34:D62)-1,COLUMNS($D$34:D62)-1)<>\"\",OFFSET(DE104_3!$D$34,ROWS($D$34:D62)-1,COLUMNS($D$34:D62)-1),\"\")","v":""},{"$f":"IF(OFFSET(DE104_3!$E$34,ROWS($E$34:E62)-1,COLUMNS($E$34:E62)-1)<>\"\",OFFSET(DE104_3!$E$34,ROWS($E$34:E62)-1,COLUMNS($E$34:E62)-1),\"\")","v":""},{"$f":"IF(OFFSET(DE104_3!$F$34,ROWS($F$34:F62)-1,COLUMNS($F$34:F62)-1)<>\"\",OFFSET(DE104_3!$F$34,ROWS($F$34:F62)-1,COLUMNS($F$34:F62)-1),\"\")","v":""},{"$f":"IF(OFFSET(DE104_3!$G$34,ROWS($G$34:G62)-1,COLUMNS($G$34:G62)-1)<>\"\",OFFSET(DE104_3!$G$34,ROWS($G$34:G62)-1,COLUMNS($G$34:G62)-1),\"\")","v":""},{"$f":"IF(OFFSET(DE104_3!$H$34,ROWS($H$34:H62)-1,COLUMNS($H$34:H62)-1)<>\"\",OFFSET(DE104_3!$H$34,ROWS($H$34:H62)-1,COLUMNS($H$34:H62)-1),\"\")","v":""},{"$f":"IF(OFFSET(DE104_3!$I$34,ROWS($I$34:I62)-1,COLUMNS($I$34:I62)-1)<>\"\",OFFSET(DE104_3!$I$34,ROWS($I$34:I62)-1,COLUMNS($I$34:I62)-1),\"\")","v":""},{"$f":"IF(OFFSET(DE104_3!$J$34,ROWS($J$34:J62)-1,COLUMNS($J$34:J62)-1)<>\"\",OFFSET(DE104_3!$J$34,ROWS($J$34:J62)-1,COLUMNS($J$34:J62)-1),\"\")","v":""},{"$f":"IF(OFFSET(DE104_3!$K$34,ROWS($K$34:K62)-1,COLUMNS($K$34:K62)-1)<>\"\",OFFSET(DE104_3!$K$34,ROWS($K$34:K62)-1,COLUMNS($K$34:K62)-1),\"\")","v":""},{"$f":"IF(OFFSET(DE104_3!$L$34,ROWS($L$34:L62)-1,COLUMNS($L$34:L62)-1)<>\"\",OFFSET(DE104_3!$L$34,ROWS($L$34:L62)-1,COLUMNS($L$34:L62)-1),\"\")","v":""},{"$f":"IF(OFFSET(DE104_3!$M$34,ROWS($M$34:M62)-1,COLUMNS($M$34:M62)-1)<>\"\",OFFSET(DE104_3!$M$34,ROWS($M$34:M62)-1,COLUMNS($M$34:M62)-1),\"\")","v":""},{"$f":"IF(OFFSET(DE104_3!$N$34,ROWS($N$34:N62)-1,COLUMNS($N$34:N62)-1)<>\"\",OFFSET(DE104_3!$N$34,ROWS($N$34:N62)-1,COLUMNS($N$34:N62)-1),\"\")","v":""},{"$f":"IF(OFFSET(DE104_3!$O$34,ROWS($O$34:O62)-1,COLUMNS($O$34:O62)-1)<>\"\",OFFSET(DE104_3!$O$34,ROWS($O$34:O62)-1,COLUMNS($O$34:O62)-1),\"\")","v":""},{"$f":"IF(OFFSET(DE104_3!$P$34,ROWS($P$34:P62)-1,COLUMNS($P$34:P62)-1)<>\"\",OFFSET(DE104_3!$P$34,ROWS($P$34:P62)-1,COLUMNS($P$34:P62)-1),\"\")","v":""},{"$f":"IF(OFFSET(DE104_3!$Q$34,ROWS($Q$34:Q62)-1,COLUMNS($Q$34:Q62)-1)<>\"\",OFFSET(DE104_3!$Q$34,ROWS($Q$34:Q62)-1,COLUMNS($Q$34:Q62)-1),\"\")","v":""},{"$f":"IF(OFFSET(DE104_3!$R$34,ROWS($R$34:R62)-1,COLUMNS($R$34:R62)-1)<>\"\",OFFSET(DE104_3!$R$34,ROWS($R$34:R62)-1,COLUMNS($R$34:R62)-1),\"\")","v":""},{"$f":"IF(OFFSET(DE104_3!$S$34,ROWS($S$34:S62)-1,COLUMNS($S$34:S62)-1)<>\"\",OFFSET(DE104_3!$S$34,ROWS($S$34:S62)-1,COLUMNS($S$34:S62)-1),\"\")","v":""},{"$f":"IF(OFFSET(DE104_3!$T$34,ROWS($T$34:T62)-1,COLUMNS($T$34:T62)-1)<>\"\",OFFSET(DE104_3!$T$34,ROWS($T$34:T62)-1,COLUMNS($T$34:T62)-1),\"\")","v":""},{"$f":"IF(OFFSET(DE104_3!$U$34,ROWS($U$34:U62)-1,COLUMNS($U$34:U62)-1)<>\"\",OFFSET(DE104_3!$U$34,ROWS($U$34:U62)-1,COLUMNS($U$34:U62)-1),\"\")","v":""},{"$f":"IF(OFFSET(DE104_3!$V$34,ROWS($V$34:V62)-1,COLUMNS($V$34:V62)-1)<>\"\",OFFSET(DE104_3!$V$34,ROWS($V$34:V62)-1,COLUMNS($V$34:V62)-1),\"\")","v":""},{"$f":"IF(OFFSET(DE104_3!$W$34,ROWS($W$34:W62)-1,COLUMNS($W$34:W62)-1)<>\"\",OFFSET(DE104_3!$W$34,ROWS($W$34:W62)-1,COLUMNS($W$34:W62)-1),\"\")","v":""},{"$f":"IF(OFFSET(DE104_3!$X$34,ROWS($X$34:X62)-1,COLUMNS($X$34:X62)-1)<>\"\",OFFSET(DE104_3!$X$34,ROWS($X$34:X62)-1,COLUMNS($X$34:X62)-1),\"\")","v":""},{"$f":"IF(OFFSET(DE104_3!$Y$34,ROWS($Y$34:Y62)-1,COLUMNS($Y$34:Y62)-1)<>\"\",OFFSET(DE104_3!$Y$34,ROWS($Y$34:Y62)-1,COLUMNS($Y$34:Y62)-1),\"\")","v":""},{"$f":"IF(OFFSET(DE104_3!$Z$34,ROWS($Z$34:Z62)-1,COLUMNS($Z$34:Z62)-1)<>\"\",OFFSET(DE104_3!$Z$34,ROWS($Z$34:Z62)-1,COLUMNS($Z$34:Z62)-1),\"\")","v":""},{"$f":"IF(OFFSET(DE104_3!$AA$34,ROWS($AA$34:AA62)-1,COLUMNS($AA$34:AA62)-1)<>\"\",OFFSET(DE104_3!$AA$34,ROWS($AA$34:AA62)-1,COLUMNS($AA$34:AA62)-1),\"\")","v":""},{"$f":"IF(OFFSET(DE104_3!$AB$34,ROWS($AB$34:AB62)-1,COLUMNS($AB$34:AB62)-1)<>\"\",OFFSET(DE104_3!$AB$34,ROWS($AB$34:AB62)-1,COLUMNS($AB$34:AB62)-1),\"\")","v":""},{"$f":"IF(OFFSET(DE104_3!$AC$34,ROWS($AC$34:AC62)-1,COLUMNS($AC$34:AC62)-1)<>\"\",OFFSET(DE104_3!$AC$34,ROWS($AC$34:AC62)-1,COLUMNS($AC$34:AC62)-1),\"\")","v":""},{"$f":"IF(OFFSET(DE104_3!$AD$34,ROWS($AD$34:AD62)-1,COLUMNS($AD$34:AD62)-1)<>\"\",OFFSET(DE104_3!$AD$34,ROWS($AD$34:AD62)-1,COLUMNS($AD$34:AD62)-1),\"\")","v":""},{"$f":"IF(OFFSET(DE104_3!$AE$34,ROWS($AE$34:AE62)-1,COLUMNS($AE$34:AE62)-1)<>\"\",OFFSET(DE104_3!$AE$34,ROWS($AE$34:AE62)-1,COLUMNS($AE$34:AE62)-1),\"\")","v":""},{"$f":"IF(OFFSET(DE104_3!$AF$34,ROWS($AF$34:AF62)-1,COLUMNS($AF$34:AF62)-1)<>\"\",OFFSET(DE104_3!$AF$34,ROWS($AF$34:AF62)-1,COLUMNS($AF$34:AF62)-1),\"\")","v":""},{"$f":"IF(OFFSET(DE104_3!$AG$34,ROWS($AG$34:AG62)-1,COLUMNS($AG$34:AG62)-1)<>\"\",OFFSET(DE104_3!$AG$34,ROWS($AG$34:AG62)-1,COLUMNS($AG$34:AG62)-1),\"\")","v":""},{"$f":"IF(OFFSET(DE104_3!$AH$34,ROWS($AH$34:AH62)-1,COLUMNS($AH$34:AH62)-1)<>\"\",OFFSET(DE104_3!$AH$34,ROWS($AH$34:AH62)-1,COLUMNS($AH$34:AH62)-1),\"\")","v":""},{"$f":"IF(OFFSET(DE104_3!$AI$34,ROWS($AI$34:AI62)-1,COLUMNS($AI$34:AI62)-1)<>\"\",OFFSET(DE104_3!$AI$34,ROWS($AI$34:AI62)-1,COLUMNS($AI$34:AI62)-1),\"\")","v":""},{"$f":"IF(OFFSET(DE104_3!$AJ$34,ROWS($AJ$34:AJ62)-1,COLUMNS($AJ$34:AJ62)-1)<>\"\",OFFSET(DE104_3!$AJ$34,ROWS($AJ$34:AJ62)-1,COLUMNS($AJ$34:AJ62)-1),\"\")","v":""},{"$f":"IF(OFFSET(DE104_3!$AK$34,ROWS($AK$34:AK62)-1,COLUMNS($AK$34:AK62)-1)<>\"\",OFFSET(DE104_3!$AK$34,ROWS($AK$34:AK62)-1,COLUMNS($AK$34:AK62)-1),\"\")","v":""},{"$f":"IF(OFFSET(DE104_3!$AL$34,ROWS($AL$34:AL62)-1,COLUMNS($AL$34:AL62)-1)<>\"\",OFFSET(DE104_3!$AL$34,ROWS($AL$34:AL62)-1,COLUMNS($AL$34:AL62)-1),\"\")","v":""},{"$f":"IF(OFFSET(DE104_3!$AM$34,ROWS($AM$34:AM62)-1,COLUMNS($AM$34:AM62)-1)<>\"\",OFFSET(DE104_3!$AM$34,ROWS($AM$34:AM62)-1,COLUMNS($AM$34:AM62)-1),\"\")","v":""},{"$f":"IF(OFFSET(DE104_3!$AN$34,ROWS($AN$34:AN62)-1,COLUMNS($AN$34:AN62)-1)<>\"\",OFFSET(DE104_3!$AN$34,ROWS($AN$34:AN62)-1,COLUMNS($AN$34:AN62)-1),\"\")","v":""},{"$f":"IF(OFFSET(DE104_3!$AO$34,ROWS($AO$34:AO62)-1,COLUMNS($AO$34:AO62)-1)<>\"\",OFFSET(DE104_3!$AO$34,ROWS($AO$34:AO62)-1,COLUMNS($AO$34:AO62)-1),\"\")","v":""},{"$f":"IF(OFFSET(DE104_3!$AP$34,ROWS($AP$34:AP62)-1,COLUMNS($AP$34:AP62)-1)<>\"\",OFFSET(DE104_3!$AP$34,ROWS($AP$34:AP62)-1,COLUMNS($AP$34:AP62)-1),\"\")","v":""},{"$f":"IF(OFFSET(DE104_3!$AQ$34,ROWS($AQ$34:AQ62)-1,COLUMNS($AQ$34:AQ62)-1)<>\"\",OFFSET(DE104_3!$AQ$34,ROWS($AQ$34:AQ62)-1,COLUMNS($AQ$34:AQ62)-1),\"\")","v":""}]
[{"$f":"IF(OFFSET(DE104_3!$C$34,ROWS($C$34:C63)-1,COLUMNS($C$34:C63)-1)<>\"\",OFFSET(DE104_3!$C$34,ROWS($C$34:C63)-1,COLUMNS($C$34:C63)-1),\"\")","v":""},{"$f":"IF(OFFSET(DE104_3!$D$34,ROWS($D$34:D63)-1,COLUMNS($D$34:D63)-1)<>\"\",OFFSET(DE104_3!$D$34,ROWS($D$34:D63)-1,COLUMNS($D$34:D63)-1),\"\")","v":"23rd Avenue"},{"$f":"IF(OFFSET(DE104_3!$E$34,ROWS($E$34:E63)-1,COLUMNS($E$34:E63)-1)<>\"\",OFFSET(DE104_3!$E$34,ROWS($E$34:E63)-1,COLUMNS($E$34:E63)-1),\"\")","v":""},{"$f":"IF(OFFSET(DE104_3!$F$34,ROWS($F$34:F63)-1,COLUMNS($F$34:F63)-1)<>\"\",OFFSET(DE104_3!$F$34,ROWS($F$34:F63)-1,COLUMNS($F$34:F63)-1),\"\")","v":""},{"$f":"IF(OFFSET(DE104_3!$G$34,ROWS($G$34:G63)-1,COLUMNS($G$34:G63)-1)<>\"\",OFFSET(DE104_3!$G$34,ROWS($G$34:G63)-1,COLUMNS($G$34:G63)-1),\"\")","v":""},{"$f":"IF(OFFSET(DE104_3!$H$34,ROWS($H$34:H63)-1,COLUMNS($H$34:H63)-1)<>\"\",OFFSET(DE104_3!$H$34,ROWS($H$34:H63)-1,COLUMNS($H$34:H63)-1),\"\")","v":""},{"$f":"IF(OFFSET(DE104_3!$I$34,ROWS($I$34:I63)-1,COLUMNS($I$34:I63)-1)<>\"\",OFFSET(DE104_3!$I$34,ROWS($I$34:I63)-1,COLUMNS($I$34:I63)-1),\"\")","v":""},{"$f":"IF(OFFSET(DE104_3!$J$34,ROWS($J$34:J63)-1,COLUMNS($J$34:J63)-1)<>\"\",OFFSET(DE104_3!$J$34,ROWS($J$34:J63)-1,COLUMNS($J$34:J63)-1),\"\")","v":""},{"$f":"IF(OFFSET(DE104_3!$K$34,ROWS($K$34:K63)-1,COLUMNS($K$34:K63)-1)<>\"\",OFFSET(DE104_3!$K$34,ROWS($K$34:K63)-1,COLUMNS($K$34:K63)-1),\"\")","v":""},{"$f":"IF(OFFSET(DE104_3!$L$34,ROWS($L$34:L63)-1,COLUMNS($L$34:L63)-1)<>\"\",OFFSET(DE104_3!$L$34,ROWS($L$34:L63)-1,COLUMNS($L$34:L63)-1),\"\")","v":""},{"$f":"IF(OFFSET(DE104_3!$M$34,ROWS($M$34:M63)-1,COLUMNS($M$34:M63)-1)<>\"\",OFFSET(DE104_3!$M$34,ROWS($M$34:M63)-1,COLUMNS($M$34:M63)-1),\"\")","v":""},{"$f":"IF(OFFSET(DE104_3!$N$34,ROWS($N$34:N63)-1,COLUMNS($N$34:N63)-1)<>\"\",OFFSET(DE104_3!$N$34,ROWS($N$34:N63)-1,COLUMNS($N$34:N63)-1),\"\")","v":""},{"$f":"IF(OFFSET(DE104_3!$O$34,ROWS($O$34:O63)-1,COLUMNS($O$34:O63)-1)<>\"\",OFFSET(DE104_3!$O$34,ROWS($O$34:O63)-1,COLUMNS($O$34:O63)-1),\"\")","v":""},{"$f":"IF(OFFSET(DE104_3!$P$34,ROWS($P$34:P63)-1,COLUMNS($P$34:P63)-1)<>\"\",OFFSET(DE104_3!$P$34,ROWS($P$34:P63)-1,COLUMNS($P$34:P63)-1),\"\")","v":""},{"$f":"IF(OFFSET(DE104_3!$Q$34,ROWS($Q$34:Q63)-1,COLUMNS($Q$34:Q63)-1)<>\"\",OFFSET(DE104_3!$Q$34,ROWS($Q$34:Q63)-1,COLUMNS($Q$34:Q63)-1),\"\")","v":""},{"$f":"IF(OFFSET(DE104_3!$R$34,ROWS($R$34:R63)-1,COLUMNS($R$34:R63)-1)<>\"\",OFFSET(DE104_3!$R$34,ROWS($R$34:R63)-1,COLUMNS($R$34:R63)-1),\"\")","v":""},{"$f":"IF(OFFSET(DE104_3!$S$34,ROWS($S$34:S63)-1,COLUMNS($S$34:S63)-1)<>\"\",OFFSET(DE104_3!$S$34,ROWS($S$34:S63)-1,COLUMNS($S$34:S63)-1),\"\")","v":""},{"$f":"IF(OFFSET(DE104_3!$T$34,ROWS($T$34:T63)-1,COLUMNS($T$34:T63)-1)<>\"\",OFFSET(DE104_3!$T$34,ROWS($T$34:T63)-1,COLUMNS($T$34:T63)-1),\"\")","v":""},{"$f":"IF(OFFSET(DE104_3!$U$34,ROWS($U$34:U63)-1,COLUMNS($U$34:U63)-1)<>\"\",OFFSET(DE104_3!$U$34,ROWS($U$34:U63)-1,COLUMNS($U$34:U63)-1),\"\")","v":""},{"$f":"IF(OFFSET(DE104_3!$V$34,ROWS($V$34:V63)-1,COLUMNS($V$34:V63)-1)<>\"\",OFFSET(DE104_3!$V$34,ROWS($V$34:V63)-1,COLUMNS($V$34:V63)-1),\"\")","v":""},{"$f":"IF(OFFSET(DE104_3!$W$34,ROWS($W$34:W63)-1,COLUMNS($W$34:W63)-1)<>\"\",OFFSET(DE104_3!$W$34,ROWS($W$34:W63)-1,COLUMNS($W$34:W63)-1),\"\")","v":""},{"$f":"IF(OFFSET(DE104_3!$X$34,ROWS($X$34:X63)-1,COLUMNS($X$34:X63)-1)<>\"\",OFFSET(DE104_3!$X$34,ROWS($X$34:X63)-1,COLUMNS($X$34:X63)-1),\"\")","v":""},{"$f":"IF(OFFSET(DE104_3!$Y$34,ROWS($Y$34:Y63)-1,COLUMNS($Y$34:Y63)-1)<>\"\",OFFSET(DE104_3!$Y$34,ROWS($Y$34:Y63)-1,COLUMNS($Y$34:Y63)-1),\"\")","v":""},{"$f":"IF(OFFSET(DE104_3!$Z$34,ROWS($Z$34:Z63)-1,COLUMNS($Z$34:Z63)-1)<>\"\",OFFSET(DE104_3!$Z$34,ROWS($Z$34:Z63)-1,COLUMNS($Z$34:Z63)-1),\"\")","v":""},{"$f":"IF(OFFSET(DE104_3!$AA$34,ROWS($AA$34:AA63)-1,COLUMNS($AA$34:AA63)-1)<>\"\",OFFSET(DE104_3!$AA$34,ROWS($AA$34:AA63)-1,COLUMNS($AA$34:AA63)-1),\"\")","v":""},{"$f":"IF(OFFSET(DE104_3!$AB$34,ROWS($AB$34:AB63)-1,COLUMNS($AB$34:AB63)-1)<>\"\",OFFSET(DE104_3!$AB$34,ROWS($AB$34:AB63)-1,COLUMNS($AB$34:AB63)-1),\"\")","v":""},{"$f":"IF(OFFSET(DE104_3!$AC$34,ROWS($AC$34:AC63)-1,COLUMNS($AC$34:AC63)-1)<>\"\",OFFSET(DE104_3!$AC$34,ROWS($AC$34:AC63)-1,COLUMNS($AC$34:AC63)-1),\"\")","v":""},{"$f":"IF(OFFSET(DE104_3!$AD$34,ROWS($AD$34:AD63)-1,COLUMNS($AD$34:AD63)-1)<>\"\",OFFSET(DE104_3!$AD$34,ROWS($AD$34:AD63)-1,COLUMNS($AD$34:AD63)-1),\"\")","v":""},{"$f":"IF(OFFSET(DE104_3!$AE$34,ROWS($AE$34:AE63)-1,COLUMNS($AE$34:AE63)-1)<>\"\",OFFSET(DE104_3!$AE$34,ROWS($AE$34:AE63)-1,COLUMNS($AE$34:AE63)-1),\"\")","v":""},{"$f":"IF(OFFSET(DE104_3!$AF$34,ROWS($AF$34:AF63)-1,COLUMNS($AF$34:AF63)-1)<>\"\",OFFSET(DE104_3!$AF$34,ROWS($AF$34:AF63)-1,COLUMNS($AF$34:AF63)-1),\"\")","v":""},{"$f":"IF(OFFSET(DE104_3!$AG$34,ROWS($AG$34:AG63)-1,COLUMNS($AG$34:AG63)-1)<>\"\",OFFSET(DE104_3!$AG$34,ROWS($AG$34:AG63)-1,COLUMNS($AG$34:AG63)-1),\"\")","v":""},{"$f":"IF(OFFSET(DE104_3!$AH$34,ROWS($AH$34:AH63)-1,COLUMNS($AH$34:AH63)-1)<>\"\",OFFSET(DE104_3!$AH$34,ROWS($AH$34:AH63)-1,COLUMNS($AH$34:AH63)-1),\"\")","v":""},{"$f":"IF(OFFSET(DE104_3!$AI$34,ROWS($AI$34:AI63)-1,COLUMNS($AI$34:AI63)-1)<>\"\",OFFSET(DE104_3!$AI$34,ROWS($AI$34:AI63)-1,COLUMNS($AI$34:AI63)-1),\"\")","v":""},{"$f":"IF(OFFSET(DE104_3!$AJ$34,ROWS($AJ$34:AJ63)-1,COLUMNS($AJ$34:AJ63)-1)<>\"\",OFFSET(DE104_3!$AJ$34,ROWS($AJ$34:AJ63)-1,COLUMNS($AJ$34:AJ63)-1),\"\")","v":""},{"$f":"IF(OFFSET(DE104_3!$AK$34,ROWS($AK$34:AK63)-1,COLUMNS($AK$34:AK63)-1)<>\"\",OFFSET(DE104_3!$AK$34,ROWS($AK$34:AK63)-1,COLUMNS($AK$34:AK63)-1),\"\")","v":""},{"$f":"IF(OFFSET(DE104_3!$AL$34,ROWS($AL$34:AL63)-1,COLUMNS($AL$34:AL63)-1)<>\"\",OFFSET(DE104_3!$AL$34,ROWS($AL$34:AL63)-1,COLUMNS($AL$34:AL63)-1),\"\")","v":""},{"$f":"IF(OFFSET(DE104_3!$AM$34,ROWS($AM$34:AM63)-1,COLUMNS($AM$34:AM63)-1)<>\"\",OFFSET(DE104_3!$AM$34,ROWS($AM$34:AM63)-1,COLUMNS($AM$34:AM63)-1),\"\")","v":""},{"$f":"IF(OFFSET(DE104_3!$AN$34,ROWS($AN$34:AN63)-1,COLUMNS($AN$34:AN63)-1)<>\"\",OFFSET(DE104_3!$AN$34,ROWS($AN$34:AN63)-1,COLUMNS($AN$34:AN63)-1),\"\")","v":""},{"$f":"IF(OFFSET(DE104_3!$AO$34,ROWS($AO$34:AO63)-1,COLUMNS($AO$34:AO63)-1)<>\"\",OFFSET(DE104_3!$AO$34,ROWS($AO$34:AO63)-1,COLUMNS($AO$34:AO63)-1),\"\")","v":""},{"$f":"IF(OFFSET(DE104_3!$AP$34,ROWS($AP$34:AP63)-1,COLUMNS($AP$34:AP63)-1)<>\"\",OFFSET(DE104_3!$AP$34,ROWS($AP$34:AP63)-1,COLUMNS($AP$34:AP63)-1),\"\")","v":""},{"$f":"IF(OFFSET(DE104_3!$AQ$34,ROWS($AQ$34:AQ63)-1,COLUMNS($AQ$34:AQ63)-1)<>\"\",OFFSET(DE104_3!$AQ$34,ROWS($AQ$34:AQ63)-1,COLUMNS($AQ$34:AQ63)-1),\"\")","v":""}]
[{"$f":"IF(OFFSET(DE104_3!$C$34,ROWS($C$34:C64)-1,COLUMNS($C$34:C64)-1)<>\"\",OFFSET(DE104_3!$C$34,ROWS($C$34:C64)-1,COLUMNS($C$34:C64)-1),\"\")","v":325},{"$f":"IF(OFFSET(DE104_3!$D$34,ROWS($D$34:D64)-1,COLUMNS($D$34:D64)-1)<>\"\",OFFSET(DE104_3!$D$34,ROWS($D$34:D64)-1,COLUMNS($D$34:D64)-1),\"\")","v":23142088},{"$f":"IF(OFFSET(DE104_3!$E$34,ROWS($E$34:E64)-1,COLUMNS($E$34:E64)-1)<>\"\",OFFSET(DE104_3!$E$34,ROWS($E$34:E64)-1,COLUMNS($E$34:E64)-1),\"\")","v":"DR-601"},{"$f":"IF(OFFSET(DE104_3!$F$34,ROWS($F$34:F64)-1,COLUMNS($F$34:F64)-1)<>\"\",OFFSET(DE104_3!$F$34,ROWS($F$34:F64)-1,COLUMNS($F$34:F64)-1),\"\")","v":78},{"$f":"IF(OFFSET(DE104_3!$G$34,ROWS($G$34:G64)-1,COLUMNS($G$34:G64)-1)<>\"\",OFFSET(DE104_3!$G$34,ROWS($G$34:G64)-1,COLUMNS($G$34:G64)-1),\"\")","v":2000},{"$f":"IF(OFFSET(DE104_3!$H$34,ROWS($H$34:H64)-1,COLUMNS($H$34:H64)-1)<>\"\",OFFSET(DE104_3!$H$34,ROWS($H$34:H64)-1,COLUMNS($H$34:H64)-1),\"\")","v":"RCP"},{"$f":"IF(OFFSET(DE104_3!$I$34,ROWS($I$34:I64)-1,COLUMNS($I$34:I64)-1)<>\"\",OFFSET(DE104_3!$I$34,ROWS($I$34:I64)-1,COLUMNS($I$34:I64)-1),\"\")","v":74},{"$f":"IF(OFFSET(DE104_3!$J$34,ROWS($J$34:J64)-1,COLUMNS($J$34:J64)-1)<>\"\",OFFSET(DE104_3!$J$34,ROWS($J$34:J64)-1,COLUMNS($J$34:J64)-1),\"\")","v":"B"},{"$f":"IF(OFFSET(DE104_3!$K$34,ROWS($K$34:K64)-1,COLUMNS($K$34:K64)-1)<>\"\",OFFSET(DE104_3!$K$34,ROWS($K$34:K64)-1,COLUMNS($K$34:K64)-1),\"\")","v":7},{"$f":"IF(OFFSET(DE104_3!$L$34,ROWS($L$34:L64)-1,COLUMNS($L$34:L64)-1)<>\"\",OFFSET(DE104_3!$L$34,ROWS($L$34:L64)-1,COLUMNS($L$34:L64)-1),\"\")","v":""},{"$f":"IF(OFFSET(DE104_3!$M$34,ROWS($M$34:M64)-1,COLUMNS($M$34:M64)-1)<>\"\",OFFSET(DE104_3!$M$34,ROWS($M$34:M64)-1,COLUMNS($M$34:M64)-1),\"\")","v":1},{"$f":"IF(OFFSET(DE104_3!$N$34,ROWS($N$34:N64)-1,COLUMNS($N$34:N64)-1)<>\"\",OFFSET(DE104_3!$N$34,ROWS($N$34:N64)-1,COLUMNS($N$34:N64)-1),\"\")","v":1},{"$f":"IF(OFFSET(DE104_3!$O$34,ROWS($O$34:O64)-1,COLUMNS($O$34:O64)-1)<>\"\",OFFSET(DE104_3!$O$34,ROWS($O$34:O64)-1,COLUMNS($O$34:O64)-1),\"\")","v":""},{"$f":"IF(OFFSET(DE104_3!$P$34,ROWS($P$34:P64)-1,COLUMNS($P$34:P64)-1)<>\"\",OFFSET(DE104_3!$P$34,ROWS($P$34:P64)-1,COLUMNS($P$34:P64)-1),\"\")","v":""},{"$f":"IF(OFFSET(DE104_3!$Q$34,ROWS($Q$34:Q64)-1,COLUMNS($Q$34:Q64)-1)<>\"\",OFFSET(DE104_3!$Q$34,ROWS($Q$34:Q64)-1,COLUMNS($Q$34:Q64)-1),\"\")","v":""},{"$f":"IF(OFFSET(DE104_3!$R$34,ROWS($R$34:R64)-1,COLUMNS($R$34:R64)-1)<>\"\",OFFSET(DE104_3!$R$34,ROWS($R$34:R64)-1,COLUMNS($R$34:R64)-1),\"\")","v":""},{"$f":"IF(OFFSET(DE104_3!$S$34,ROWS($S$34:S64)-1,COLUMNS($S$34:S64)-1)<>\"\",OFFSET(DE104_3!$S$34,ROWS($S$34:S64)-1,COLUMNS($S$34:S64)-1),\"\")","v":""},{"$f":"IF(OFFSET(DE104_3!$T$34,ROWS($T$34:T64)-1,COLUMNS($T$34:T64)-1)<>\"\",OFFSET(DE104_3!$T$34,ROWS($T$34:T64)-1,COLUMNS($T$34:T64)-1),\"\")","v":""},{"$f":"IF(OFFSET(DE104_3!$U$34,ROWS($U$34:U64)-1,COLUMNS($U$34:U64)-1)<>\"\",OFFSET(DE104_3!$U$34,ROWS($U$34:U64)-1,COLUMNS($U$34:U64)-1),\"\")","v":""},{"$f":"IF(OFFSET(DE104_3!$V$34,ROWS($V$34:V64)-1,COLUMNS($V$34:V64)-1)<>\"\",OFFSET(DE104_3!$V$34,ROWS($V$34:V64)-1,COLUMNS($V$34:V64)-1),\"\")","v":"Type 3"},{"$f":"IF(OFFSET(DE104_3!$W$34,ROWS($W$34:W64)-1,COLUMNS($W$34:W64)-1)<>\"\",OFFSET(DE104_3!$W$34,ROWS($W$34:W64)-1,COLUMNS($W$34:W64)-1),\"\")","v":""},{"$f":"IF(OFFSET(DE104_3!$X$34,ROWS($X$34:X64)-1,COLUMNS($X$34:X64)-1)<>\"\",OFFSET(DE104_3!$X$34,ROWS($X$34:X64)-1,COLUMNS($X$34:X64)-1),\"\")","v":875.5},{"$f":"IF(OFFSET(DE104_3!$Y$34,ROWS($Y$34:Y64)-1,COLUMNS($Y$34:Y64)-1)<>\"\",OFFSET(DE104_3!$Y$34,ROWS($Y$34:Y64)-1,COLUMNS($Y$34:Y64)-1),\"\")","v":876.05},{"$f":"IF(OFFSET(DE104_3!$Z$34,ROWS($Z$34:Z64)-1,COLUMNS($Z$34:Z64)-1)<>\"\",OFFSET(DE104_3!$Z$34,ROWS($Z$34:Z64)-1,COLUMNS($Z$34:Z64)-1),\"\")","v":""},{"$f":"IF(OFFSET(DE104_3!$AA$34,ROWS($AA$34:AA64)-1,COLUMNS($AA$34:AA64)-1)<>\"\",OFFSET(DE104_3!$AA$34,ROWS($AA$34:AA64)-1,COLUMNS($AA$34:AA64)-1),\"\")","v":""},{"$f":"IF(OFFSET(DE104_3!$AB$34,ROWS($AB$34:AB64)-1,COLUMNS($AB$34:AB64)-1)<>\"\",OFFSET(DE104_3!$AB$34,ROWS($AB$34:AB64)-1,COLUMNS($AB$34:AB64)-1),\"\")","v":46.95},{"$f":"IF(OFFSET(DE104_3!$AC$34,ROWS($AC$34:AC64)-1,COLUMNS($AC$34:AC64)-1)<>\"\",OFFSET(DE104_3!$AC$34,ROWS($AC$34:AC64)-1,COLUMNS($AC$34:AC64)-1),\"\")","v":45.55},{"$f":"IF(OFFSET(DE104_3!$AD$34,ROWS($AD$34:AD64)-1,COLUMNS($AD$34:AD64)-1)<>\"\",OFFSET(DE104_3!$AD$34,ROWS($AD$34:AD64)-1,COLUMNS($AD$34:AD64)-1),\"\")","v":""},{"$f":"IF(OFFSET(DE104_3!$AE$34,ROWS($AE$34:AE64)-1,COLUMNS($AE$34:AE64)-1)<>\"\",OFFSET(DE104_3!$AE$34,ROWS($AE$34:AE64)-1,COLUMNS($AE$34:AE64)-1),\"\")","v":""},{"$f":"IF(OFFSET(DE104_3!$AF$34,ROWS($AF$34:AF64)-1,COLUMNS($AF$34:AF64)-1)<>\"\",OFFSET(DE104_3!$AF$34,ROWS($AF$34:AF64)-1,COLUMNS($AF$34:AF64)-1),\"\")","v":""},{"$f":"IF(OFFSET(DE104_3!$AG$34,ROWS($AG$34:AG64)-1,COLUMNS($AG$34:AG64)-1)<>\"\",OFFSET(DE104_3!$AG$34,ROWS($AG$34:AG64)-1,COLUMNS($AG$34:AG64)-1),\"\")","v":""},{"$f":"IF(OFFSET(DE104_3!$AH$34,ROWS($AH$34:AH64)-1,COLUMNS($AH$34:AH64)-1)<>\"\",OFFSET(DE104_3!$AH$34,ROWS($AH$34:AH64)-1,COLUMNS($AH$34:AH64)-1),\"\")","v":""},{"$f":"IF(OFFSET(DE104_3!$AI$34,ROWS($AI$34:AI64)-1,COLUMNS($AI$34:AI64)-1)<>\"\",OFFSET(DE104_3!$AI$34,ROWS($AI$34:AI64)-1,COLUMNS($AI$34:AI64)-1),\"\")","v":""},{"$f":"IF(OFFSET(DE104_3!$AJ$34,ROWS($AJ$34:AJ64)-1,COLUMNS($AJ$34:AJ64)-1)<>\"\",OFFSET(DE104_3!$AJ$34,ROWS($AJ$34:AJ64)-1,COLUMNS($AJ$34:AJ64)-1),\"\")","v":""},{"$f":"IF(OFFSET(DE104_3!$AK$34,ROWS($AK$34:AK64)-1,COLUMNS($AK$34:AK64)-1)<>\"\",OFFSET(DE104_3!$AK$34,ROWS($AK$34:AK64)-1,COLUMNS($AK$34:AK64)-1),\"\")","v":""},{"$f":"IF(OFFSET(DE104_3!$AL$34,ROWS($AL$34:AL64)-1,COLUMNS($AL$34:AL64)-1)<>\"\",OFFSET(DE104_3!$AL$34,ROWS($AL$34:AL64)-1,COLUMNS($AL$34:AL64)-1),\"\")","v":224.6037037037037},{"$f":"IF(OFFSET(DE104_3!$AM$34,ROWS($AM$34:AM64)-1,COLUMNS($AM$34:AM64)-1)<>\"\",OFFSET(DE104_3!$AM$34,ROWS($AM$34:AM64)-1,COLUMNS($AM$34:AM64)-1),\"\")","v":""},{"$f":"IF(OFFSET(DE104_3!$AN$34,ROWS($AN$34:AN64)-1,COLUMNS($AN$34:AN64)-1)<>\"\",OFFSET(DE104_3!$AN$34,ROWS($AN$34:AN64)-1,COLUMNS($AN$34:AN64)-1),\"\")","v":380.34444444444443},{"$f":"IF(OFFSET(DE104_3!$AO$34,ROWS($AO$34:AO64)-1,COLUMNS($AO$34:AO64)-1)<>\"\",OFFSET(DE104_3!$AO$34,ROWS($AO$34:AO64)-1,COLUMNS($AO$34:AO64)-1),\"\")","v":12.100185185185184},{"$f":"IF(OFFSET(DE104_3!$AP$34,ROWS($AP$34:AP64)-1,COLUMNS($AP$34:AP64)-1)<>\"\",OFFSET(DE104_3!$AP$34,ROWS($AP$34:AP64)-1,COLUMNS($AP$34:AP64)-1),\"\")","v":392.44462962962962},{"$f":"IF(OFFSET(DE104_3!$AQ$34,ROWS($AQ$34:AQ64)-1,COLUMNS($AQ$34:AQ64)-1)<>\"\",OFFSET(DE104_3!$AQ$34,ROWS($AQ$34:AQ64)-1,COLUMNS($AQ$34:AQ64)-1),\"\")","v":""}]
[{"$f":"IF(OFFSET(DE104_3!$C$34,ROWS($C$34:C65)-1,COLUMNS($C$34:C65)-1)<>\"\",OFFSET(DE104_3!$C$34,ROWS($C$34:C65)-1,COLUMNS($C$34:C65)-1),\"\")","v":""},{"$f":"IF(OFFSET(DE104_3!$D$34,ROWS($D$34:D65)-1,COLUMNS($D$34:D65)-1)<>\"\",OFFSET(DE104_3!$D$34,ROWS($D$34:D65)-1,COLUMNS($D$34:D65)-1),\"\")","v":""},{"$f":"IF(OFFSET(DE104_3!$E$34,ROWS($E$34:E65)-1,COLUMNS($E$34:E65)-1)<>\"\",OFFSET(DE104_3!$E$34,ROWS($E$34:E65)-1,COLUMNS($E$34:E65)-1),\"\")","v":""},{"$f":"IF(OFFSET(DE104_3!$F$34,ROWS($F$34:F65)-1,COLUMNS($F$34:F65)-1)<>\"\",OFFSET(DE104_3!$F$34,ROWS($F$34:F65)-1,COLUMNS($F$34:F65)-1),\"\")","v":""},{"$f":"IF(OFFSET(DE104_3!$G$34,ROWS($G$34:G65)-1,COLUMNS($G$34:G65)-1)<>\"\",OFFSET(DE104_3!$G$34,ROWS($G$34:G65)-1,COLUMNS($G$34:G65)-1),\"\")","v":""},{"$f":"IF(OFFSET(DE104_3!$H$34,ROWS($H$34:H65)-1,COLUMNS($H$34:H65)-1)<>\"\",OFFSET(DE104_3!$H$34,ROWS($H$34:H65)-1,COLUMNS($H$34:H65)-1),\"\")","v":""},{"$f":"IF(OFFSET(DE104_3!$I$34,ROWS($I$34:I65)-1,COLUMNS($I$34:I65)-1)<>\"\",OFFSET(DE104_3!$I$34,ROWS($I$34:I65)-1,COLUMNS($I$34:I65)-1),\"\")","v":""},{"$f":"IF(OFFSET(DE104_3!$J$34,ROWS($J$34:J65)-1,COLUMNS($J$34:J65)-1)<>\"\",OFFSET(DE104_3!$J$34,ROWS($J$34:J65)-1,COLUMNS($J$34:J65)-1),\"\")","v":""},{"$f":"IF(OFFSET(DE104_3!$K$34,ROWS($K$34:K65)-1,COLUMNS($K$34:K65)-1)<>\"\",OFFSET(DE104_3!$K$34,ROWS($K$34:K65)-1,COLUMNS($K$34:K65)-1),\"\")","v":""},{"$f":"IF(OFFSET(DE104_3!$L$34,ROWS($L$34:L65)-1,COLUMNS($L$34:L65)-1)<>\"\",OFFSET(DE104_3!$L$34,ROWS($L$34:L65)-1,COLUMNS($L$34:L65)-1),\"\")","v":""},{"$f":"IF(OFFSET(DE104_3!$M$34,ROWS($M$34:M65)-1,COLUMNS($M$34:M65)-1)<>\"\",OFFSET(DE104_3!$M$34,ROWS($M$34:M65)-1,COLUMNS($M$34:M65)-1),\"\")","v":""},{"$f":"IF(OFFSET(DE104_3!$N$34,ROWS($N$34:N65)-1,COLUMNS($N$34:N65)-1)<>\"\",OFFSET(DE104_3!$N$34,ROWS($N$34:N65)-1,COLUMNS($N$34:N65)-1),\"\")","v":""},{"$f":"IF(OFFSET(DE104_3!$O$34,ROWS($O$34:O65)-1,COLUMNS($O$34:O65)-1)<>\"\",OFFSET(DE104_3!$O$34,ROWS($O$34:O65)-1,COLUMNS($O$34:O65)-1),\"\")","v":""},{"$f":"IF(OFFSET(DE104_3!$P$34,ROWS($P$34:P65)-1,COLUMNS($P$34:P65)-1)<>\"\",OFFSET(DE104_3!$P$34,ROWS($P$34:P65)-1,COLUMNS($P$34:P65)-1),\"\")","v":""},{"$f":"IF(OFFSET(DE104_3!$Q$34,ROWS($Q$34:Q65)-1,COLUMNS($Q$34:Q65)-1)<>\"\",OFFSET(DE104_3!$Q$34,ROWS($Q$34:Q65)-1,COLUMNS($Q$34:Q65)-1),\"\")","v":""},{"$f":"IF(OFFSET(DE104_3!$R$34,ROWS($R$34:R65)-1,COLUMNS($R$34:R65)-1)<>\"\",OFFSET(DE104_3!$R$34,ROWS($R$34:R65)-1,COLUMNS($R$34:R65)-1),\"\")","v":""},{"$f":"IF(OFFSET(DE104_3!$S$34,ROWS($S$34:S65)-1,COLUMNS($S$34:S65)-1)<>\"\",OFFSET(DE104_3!$S$34,ROWS($S$34:S65)-1,COLUMNS($S$34:S65)-1),\"\")","v":""},{"$f":"IF(OFFSET(DE104_3!$T$34,ROWS($T$34:T65)-1,COLUMNS($T$34:T65)-1)<>\"\",OFFSET(DE104_3!$T$34,ROWS($T$34:T65)-1,COLUMNS($T$34:T65)-1),\"\")","v":""},{"$f":"IF(OFFSET(DE104_3!$U$34,ROWS($U$34:U65)-1,COLUMNS($U$34:U65)-1)<>\"\",OFFSET(DE104_3!$U$34,ROWS($U$34:U65)-1,COLUMNS($U$34:U65)-1),\"\")","v":""},{"$f":"IF(OFFSET(DE104_3!$V$34,ROWS($V$34:V65)-1,COLUMNS($V$34:V65)-1)<>\"\",OFFSET(DE104_3!$V$34,ROWS($V$34:V65)-1,COLUMNS($V$34:V65)-1),\"\")","v":""},{"$f":"IF(OFFSET(DE104_3!$W$34,ROWS($W$34:W65)-1,COLUMNS($W$34:W65)-1)<>\"\",OFFSET(DE104_3!$W$34,ROWS($W$34:W65)-1,COLUMNS($W$34:W65)-1),\"\")","v":""},{"$f":"IF(OFFSET(DE104_3!$X$34,ROWS($X$34:X65)-1,COLUMNS($X$34:X65)-1)<>\"\",OFFSET(DE104_3!$X$34,ROWS($X$34:X65)-1,COLUMNS($X$34:X65)-1),\"\")","v":""},{"$f":"IF(OFFSET(DE104_3!$Y$34,ROWS($Y$34:Y65)-1,COLUMNS($Y$34:Y65)-1)<>\"\",OFFSET(DE104_3!$Y$34,ROWS($Y$34:Y65)-1,COLUMNS($Y$34:Y65)-1),\"\")","v":""},{"$f":"IF(OFFSET(DE104_3!$Z$34,ROWS($Z$34:Z65)-1,COLUMNS($Z$34:Z65)-1)<>\"\",OFFSET(DE104_3!$Z$34,ROWS($Z$34:Z65)-1,COLUMNS($Z$34:Z65)-1),\"\")","v":""},{"$f":"IF(OFFSET(DE104_3!$AA$34,ROWS($AA$34:AA65)-1,COLUMNS($AA$34:AA65)-1)<>\"\",OFFSET(DE104_3!$AA$34,ROWS($AA$34:AA65)-1,COLUMNS($AA$34:AA65)-1),\"\")","v":""},{"$f":"IF(OFFSET(DE104_3!$AB$34,ROWS($AB$34:AB65)-1,COLUMNS($AB$34:AB65)-1)<>\"\",OFFSET(DE104_3!$AB$34,ROWS($AB$34:AB65)-1,COLUMNS($AB$34:AB65)-1),\"\")","v":""},{"$f":"IF(OFFSET(DE104_3!$AC$34,ROWS($AC$34:AC65)-1,COLUMNS($AC$34:AC65)-1)<>\"\",OFFSET(DE104_3!$AC$34,ROWS($AC$34:AC65)-1,COLUMNS($AC$34:AC65)-1),\"\")","v":""},{"$f":"IF(OFFSET(DE104_3!$AD$34,ROWS($AD$34:AD65)-1,COLUMNS($AD$34:AD65)-1)<>\"\",OFFSET(DE104_3!$AD$34,ROWS($AD$34:AD65)-1,COLUMNS($AD$34:AD65)-1),\"\")","v":""},{"$f":"IF(OFFSET(DE104_3!$AE$34,ROWS($AE$34:AE65)-1,COLUMNS($AE$34:AE65)-1)<>\"\",OFFSET(DE104_3!$AE$34,ROWS($AE$34:AE65)-1,COLUMNS($AE$34:AE65)-1),\"\")","v":""},{"$f":"IF(OFFSET(DE104_3!$AF$34,ROWS($AF$34:AF65)-1,COLUMNS($AF$34:AF65)-1)<>\"\",OFFSET(DE104_3!$AF$34,ROWS($AF$34:AF65)-1,COLUMNS($AF$34:AF65)-1),\"\")","v":""},{"$f":"IF(OFFSET(DE104_3!$AG$34,ROWS($AG$34:AG65)-1,COLUMNS($AG$34:AG65)-1)<>\"\",OFFSET(DE104_3!$AG$34,ROWS($AG$34:AG65)-1,COLUMNS($AG$34:AG65)-1),\"\")","v":""},{"$f":"IF(OFFSET(DE104_3!$AH$34,ROWS($AH$34:AH65)-1,COLUMNS($AH$34:AH65)-1)<>\"\",OFFSET(DE104_3!$AH$34,ROWS($AH$34:AH65)-1,COLUMNS($AH$34:AH65)-1),\"\")","v":""},{"$f":"IF(OFFSET(DE104_3!$AI$34,ROWS($AI$34:AI65)-1,COLUMNS($AI$34:AI65)-1)<>\"\",OFFSET(DE104_3!$AI$34,ROWS($AI$34:AI65)-1,COLUMNS($AI$34:AI65)-1),\"\")","v":""},{"$f":"IF(OFFSET(DE104_3!$AJ$34,ROWS($AJ$34:AJ65)-1,COLUMNS($AJ$34:AJ65)-1)<>\"\",OFFSET(DE104_3!$AJ$34,ROWS($AJ$34:AJ65)-1,COLUMNS($AJ$34:AJ65)-1),\"\")","v":""},{"$f":"IF(OFFSET(DE104_3!$AK$34,ROWS($AK$34:AK65)-1,COLUMNS($AK$34:AK65)-1)<>\"\",OFFSET(DE104_3!$AK$34,ROWS($AK$34:AK65)-1,COLUMNS($AK$34:AK65)-1),\"\")","v":""},{"$f":"IF(OFFSET(DE104_3!$AL$34,ROWS($AL$34:AL65)-1,COLUMNS($AL$34:AL65)-1)<>\"\",OFFSET(DE104_3!$AL$34,ROWS($AL$34:AL65)-1,COLUMNS($AL$34:AL65)-1),\"\")","v":""},{"$f":"IF(OFFSET(DE104_3!$AM$34,ROWS($AM$34:AM65)-1,COLUMNS($AM$34:AM65)-1)<>\"\",OFFSET(DE104_3!$AM$34,ROWS($AM$34:AM65)-1,COLUMNS($AM$34:AM65)-1),\"\")","v":""},{"$f":"IF(OFFSET(DE104_3!$AN$34,ROWS($AN$34:AN65)-1,COLUMNS($AN$34:AN65)-1)<>\"\",OFFSET(DE104_3!$AN$34,ROWS($AN$34:AN65)-1,COLUMNS($AN$34:AN65)-1),\"\")","v":""},{"$f":"IF(OFFSET(DE104_3!$AO$34,ROWS($AO$34:AO65)-1,COLUMNS($AO$34:AO65)-1)<>\"\",OFFSET(DE104_3!$AO$34,ROWS($AO$34:AO65)-1,COLUMNS($AO$34:AO65)-1),\"\")","v":""},{"$f":"IF(OFFSET(DE104_3!$AP$34,ROWS($AP$34:AP65)-1,COLUMNS($AP$34:AP65)-1)<>\"\",OFFSET(DE104_3!$AP$34,ROWS($AP$34:AP65)-1,COLUMNS($AP$34:AP65)-1),\"\")","v":""},{"$f":"IF(OFFSET(DE104_3!$AQ$34,ROWS($AQ$34:AQ65)-1,COLUMNS($AQ$34:AQ65)-1)<>\"\",OFFSET(DE104_3!$AQ$34,ROWS($AQ$34:AQ65)-1,COLUMNS($AQ$34:AQ65)-1),\"\")","v":""}]
[{"$f":"IF(OFFSET(DE104_3!$C$34,ROWS($C$34:C66)-1,COLUMNS($C$34:C66)-1)<>\"\",OFFSET(DE104_3!$C$34,ROWS($C$34:C66)-1,COLUMNS($C$34:C66)-1),\"\")","v":""},{"$f":"IF(OFFSET(DE104_3!$D$34,ROWS($D$34:D66)-1,COLUMNS($D$34:D66)-1)<>\"\",OFFSET(DE104_3!$D$34,ROWS($D$34:D66)-1,COLUMNS($D$34:D66)-1),\"\")","v":""},{"$f":"IF(OFFSET(DE104_3!$E$34,ROWS($E$34:E66)-1,COLUMNS($E$34:E66)-1)<>\"\",OFFSET(DE104_3!$E$34,ROWS($E$34:E66)-1,COLUMNS($E$34:E66)-1),\"\")","v":""},{"$f":"IF(OFFSET(DE104_3!$F$34,ROWS($F$34:F66)-1,COLUMNS($F$34:F66)-1)<>\"\",OFFSET(DE104_3!$F$34,ROWS($F$34:F66)-1,COLUMNS($F$34:F66)-1),\"\")","v":""},{"$f":"IF(OFFSET(DE104_3!$G$34,ROWS($G$34:G66)-1,COLUMNS($G$34:G66)-1)<>\"\",OFFSET(DE104_3!$G$34,ROWS($G$34:G66)-1,COLUMNS($G$34:G66)-1),\"\")","v":""},{"$f":"IF(OFFSET(DE104_3!$H$34,ROWS($H$34:H66)-1,COLUMNS($H$34:H66)-1)<>\"\",OFFSET(DE104_3!$H$34,ROWS($H$34:H66)-1,COLUMNS($H$34:H66)-1),\"\")","v":""},{"$f":"IF(OFFSET(DE104_3!$I$34,ROWS($I$34:I66)-1,COLUMNS($I$34:I66)-1)<>\"\",OFFSET(DE104_3!$I$34,ROWS($I$34:I66)-1,COLUMNS($I$34:I66)-1),\"\")","v":""},{"$f":"IF(OFFSET(DE104_3!$J$34,ROWS($J$34:J66)-1,COLUMNS($J$34:J66)-1)<>\"\",OFFSET(DE104_3!$J$34,ROWS($J$34:J66)-1,COLUMNS($J$34:J66)-1),\"\")","v":""},{"$f":"IF(OFFSET(DE104_3!$K$34,ROWS($K$34:K66)-1,COLUMNS($K$34:K66)-1)<>\"\",OFFSET(DE104_3!$K$34,ROWS($K$34:K66)-1,COLUMNS($K$34:K66)-1),\"\")","v":""},{"$f":"IF(OFFSET(DE104_3!$L$34,ROWS($L$34:L66)-1,COLUMNS($L$34:L66)-1)<>\"\",OFFSET(DE104_3!$L$34,ROWS($L$34:L66)-1,COLUMNS($L$34:L66)-1),\"\")","v":""},{"$f":"IF(OFFSET(DE104_3!$M$34,ROWS($M$34:M66)-1,COLUMNS($M$34:M66)-1)<>\"\",OFFSET(DE104_3!$M$34,ROWS($M$34:M66)-1,COLUMNS($M$34:M66)-1),\"\")","v":""},{"$f":"IF(OFFSET(DE104_3!$N$34,ROWS($N$34:N66)-1,COLUMNS($N$34:N66)-1)<>\"\",OFFSET(DE104_3!$N$34,ROWS($N$34:N66)-1,COLUMNS($N$34:N66)-1),\"\")","v":""},{"$f":"IF(OFFSET(DE104_3!$O$34,ROWS($O$34:O66)-1,COLUMNS($O$34:O66)-1)<>\"\",OFFSET(DE104_3!$O$34,ROWS($O$34:O66)-1,COLUMNS($O$34:O66)-1),\"\")","v":""},{"$f":"IF(OFFSET(DE104_3!$P$34,ROWS($P$34:P66)-1,COLUMNS($P$34:P66)-1)<>\"\",OFFSET(DE104_3!$P$34,ROWS($P$34:P66)-1,COLUMNS($P$34:P66)-1),\"\")","v":""},{"$f":"IF(OFFSET(DE104_3!$Q$34,ROWS($Q$34:Q66)-1,COLUMNS($Q$34:Q66)-1)<>\"\",OFFSET(DE104_3!$Q$34,ROWS($Q$34:Q66)-1,COLUMNS($Q$34:Q66)-1),\"\")","v":""},{"$f":"IF(OFFSET(DE104_3!$R$34,ROWS($R$34:R66)-1,COLUMNS($R$34:R66)-1)<>\"\",OFFSET(DE104_3!$R$34,ROWS($R$34:R66)-1,COLUMNS($R$34:R66)-1),\"\")","v":""},{"$f":"IF(OFFSET(DE104_3!$S$34,ROWS($S$34:S66)-1,COLUMNS($S$34:S66)-1)<>\"\",OFFSET(DE104_3!$S$34,ROWS($S$34:S66)-1,COLUMNS($S$34:S66)-1),\"\")","v":""},{"$f":"IF(OFFSET(DE104_3!$T$34,ROWS($T$34:T66)-1,COLUMNS($T$34:T66)-1)<>\"\",OFFSET(DE104_3!$T$34,ROWS($T$34:T66)-1,COLUMNS($T$34:T66)-1),\"\")","v":""},{"$f":"IF(OFFSET(DE104_3!$U$34,ROWS($U$34:U66)-1,COLUMNS($U$34:U66)-1)<>\"\",OFFSET(DE104_3!$U$34,ROWS($U$34:U66)-1,COLUMNS($U$34:U66)-1),\"\")","v":""},{"$f":"IF(OFFSET(DE104_3!$V$34,ROWS($V$34:V66)-1,COLUMNS($V$34:V66)-1)<>\"\",OFFSET(DE104_3!$V$34,ROWS($V$34:V66)-1,COLUMNS($V$34:V66)-1),\"\")","v":""},{"$f":"IF(OFFSET(DE104_3!$W$34,ROWS($W$34:W66)-1,COLUMNS($W$34:W66)-1)<>\"\",OFFSET(DE104_3!$W$34,ROWS($W$34:W66)-1,COLUMNS($W$34:W66)-1),\"\")","v":""},{"$f":"IF(OFFSET(DE104_3!$X$34,ROWS($X$34:X66)-1,COLUMNS($X$34:X66)-1)<>\"\",OFFSET(DE104_3!$X$34,ROWS($X$34:X66)-1,COLUMNS($X$34:X66)-1),\"\")","v":""},{"$f":"IF(OFFSET(DE104_3!$Y$34,ROWS($Y$34:Y66)-1,COLUMNS($Y$34:Y66)-1)<>\"\",OFFSET(DE104_3!$Y$34,ROWS($Y$34:Y66)-1,COLUMNS($Y$34:Y66)-1),\"\")","v":""},{"$f":"IF(OFFSET(DE104_3!$Z$34,ROWS($Z$34:Z66)-1,COLUMNS($Z$34:Z66)-1)<>\"\",OFFSET(DE104_3!$Z$34,ROWS($Z$34:Z66)-1,COLUMNS($Z$34:Z66)-1),\"\")","v":""},{"$f":"IF(OFFSET(DE104_3!$AA$34,ROWS($AA$34:AA66)-1,COLUMNS($AA$34:AA66)-1)<>\"\",OFFSET(DE104_3!$AA$34,ROWS($AA$34:AA66)-1,COLUMNS($AA$34:AA66)-1),\"\")","v":""},{"$f":"IF(OFFSET(DE104_3!$AB$34,ROWS($AB$34:AB66)-1,COLUMNS($AB$34:AB66)-1)<>\"\",OFFSET(DE104_3!$AB$34,ROWS($AB$34:AB66)-1,COLUMNS($AB$34:AB66)-1),\"\")","v":""},{"$f":"IF(OFFSET(DE104_3!$AC$34,ROWS($AC$34:AC66)-1,COLUMNS($AC$34:AC66)-1)<>\"\",OFFSET(DE104_3!$AC$34,ROWS($AC$34:AC66)-1,COLUMNS($AC$34:AC66)-1),\"\")","v":""},{"$f":"IF(OFFSET(DE104_3!$AD$34,ROWS($AD$34:AD66)-1,COLUMNS($AD$34:AD66)-1)<>\"\",OFFSET(DE104_3!$AD$34,ROWS($AD$34:AD66)-1,COLUMNS($AD$34:AD66)-1),\"\")","v":""},{"$f":"IF(OFFSET(DE104_3!$AE$34,ROWS($AE$34:AE66)-1,COLUMNS($AE$34:AE66)-1)<>\"\",OFFSET(DE104_3!$AE$34,ROWS($AE$34:AE66)-1,COLUMNS($AE$34:AE66)-1),\"\")","v":""},{"$f":"IF(OFFSET(DE104_3!$AF$34,ROWS($AF$34:AF66)-1,COLUMNS($AF$34:AF66)-1)<>\"\",OFFSET(DE104_3!$AF$34,ROWS($AF$34:AF66)-1,COLUMNS($AF$34:AF66)-1),\"\")","v":""},{"$f":"IF(OFFSET(DE104_3!$AG$34,ROWS($AG$34:AG66)-1,COLUMNS($AG$34:AG66)-1)<>\"\",OFFSET(DE104_3!$AG$34,ROWS($AG$34:AG66)-1,COLUMNS($AG$34:AG66)-1),\"\")","v":""},{"$f":"IF(OFFSET(DE104_3!$AH$34,ROWS($AH$34:AH66)-1,COLUMNS($AH$34:AH66)-1)<>\"\",OFFSET(DE104_3!$AH$34,ROWS($AH$34:AH66)-1,COLUMNS($AH$34:AH66)-1),\"\")","v":""},{"$f":"IF(OFFSET(DE104_3!$AI$34,ROWS($AI$34:AI66)-1,COLUMNS($AI$34:AI66)-1)<>\"\",OFFSET(DE104_3!$AI$34,ROWS($AI$34:AI66)-1,COLUMNS($AI$34:AI66)-1),\"\")","v":""},{"$f":"IF(OFFSET(DE104_3!$AJ$34,ROWS($AJ$34:AJ66)-1,COLUMNS($AJ$34:AJ66)-1)<>\"\",OFFSET(DE104_3!$AJ$34,ROWS($AJ$34:AJ66)-1,COLUMNS($AJ$34:AJ66)-1),\"\")","v":""},{"$f":"IF(OFFSET(DE104_3!$AK$34,ROWS($AK$34:AK66)-1,COLUMNS($AK$34:AK66)-1)<>\"\",OFFSET(DE104_3!$AK$34,ROWS($AK$34:AK66)-1,COLUMNS($AK$34:AK66)-1),\"\")","v":""},{"$f":"IF(OFFSET(DE104_3!$AL$34,ROWS($AL$34:AL66)-1,COLUMNS($AL$34:AL66)-1)<>\"\",OFFSET(DE104_3!$AL$34,ROWS($AL$34:AL66)-1,COLUMNS($AL$34:AL66)-1),\"\")","v":""},{"$f":"IF(OFFSET(DE104_3!$AM$34,ROWS($AM$34:AM66)-1,COLUMNS($AM$34:AM66)-1)<>\"\",OFFSET(DE104_3!$AM$34,ROWS($AM$34:AM66)-1,COLUMNS($AM$34:AM66)-1),\"\")","v":""},{"$f":"IF(OFFSET(DE104_3!$AN$34,ROWS($AN$34:AN66)-1,COLUMNS($AN$34:AN66)-1)<>\"\",OFFSET(DE104_3!$AN$34,ROWS($AN$34:AN66)-1,COLUMNS($AN$34:AN66)-1),\"\")","v":""},{"$f":"IF(OFFSET(DE104_3!$AO$34,ROWS($AO$34:AO66)-1,COLUMNS($AO$34:AO66)-1)<>\"\",OFFSET(DE104_3!$AO$34,ROWS($AO$34:AO66)-1,COLUMNS($AO$34:AO66)-1),\"\")","v":""},{"$f":"IF(OFFSET(DE104_3!$AP$34,ROWS($AP$34:AP66)-1,COLUMNS($AP$34:AP66)-1)<>\"\",OFFSET(DE104_3!$AP$34,ROWS($AP$34:AP66)-1,COLUMNS($AP$34:AP66)-1),\"\")","v":""},{"$f":"IF(OFFSET(DE104_3!$AQ$34,ROWS($AQ$34:AQ66)-1,COLUMNS($AQ$34:AQ66)-1)<>\"\",OFFSET(DE104_3!$AQ$34,ROWS($AQ$34:AQ66)-1,COLUMNS($AQ$34:AQ66)-1),\"\")","v":""}]
[{"$f":"IF(OFFSET(DE104_3!$C$34,ROWS($C$34:C67)-1,COLUMNS($C$34:C67)-1)<>\"\",OFFSET(DE104_3!$C$34,ROWS($C$34:C67)-1,COLUMNS($C$34:C67)-1),\"\")","v":""},{"$f":"IF(OFFSET(DE104_3!$D$34,ROWS($D$34:D67)-1,COLUMNS($D$34:D67)-1)<>\"\",OFFSET(DE104_3!$D$34,ROWS($D$34:D67)-1,COLUMNS($D$34:D67)-1),\"\")","v":""},{"$f":"IF(OFFSET(DE104_3!$E$34,ROWS($E$34:E67)-1,COLUMNS($E$34:E67)-1)<>\"\",OFFSET(DE104_3!$E$34,ROWS($E$34:E67)-1,COLUMNS($E$34:E67)-1),\"\")","v":""},{"$f":"IF(OFFSET(DE104_3!$F$34,ROWS($F$34:F67)-1,COLUMNS($F$34:F67)-1)<>\"\",OFFSET(DE104_3!$F$34,ROWS($F$34:F67)-1,COLUMNS($F$34:F67)-1),\"\")","v":""},{"$f":"IF(OFFSET(DE104_3!$G$34,ROWS($G$34:G67)-1,COLUMNS($G$34:G67)-1)<>\"\",OFFSET(DE104_3!$G$34,ROWS($G$34:G67)-1,COLUMNS($G$34:G67)-1),\"\")","v":""},{"$f":"IF(OFFSET(DE104_3!$H$34,ROWS($H$34:H67)-1,COLUMNS($H$34:H67)-1)<>\"\",OFFSET(DE104_3!$H$34,ROWS($H$34:H67)-1,COLUMNS($H$34:H67)-1),\"\")","v":""},{"$f":"IF(OFFSET(DE104_3!$I$34,ROWS($I$34:I67)-1,COLUMNS($I$34:I67)-1)<>\"\",OFFSET(DE104_3!$I$34,ROWS($I$34:I67)-1,COLUMNS($I$34:I67)-1),\"\")","v":""},{"$f":"IF(OFFSET(DE104_3!$J$34,ROWS($J$34:J67)-1,COLUMNS($J$34:J67)-1)<>\"\",OFFSET(DE104_3!$J$34,ROWS($J$34:J67)-1,COLUMNS($J$34:J67)-1),\"\")","v":""},{"$f":"IF(OFFSET(DE104_3!$K$34,ROWS($K$34:K67)-1,COLUMNS($K$34:K67)-1)<>\"\",OFFSET(DE104_3!$K$34,ROWS($K$34:K67)-1,COLUMNS($K$34:K67)-1),\"\")","v":""},{"$f":"IF(OFFSET(DE104_3!$L$34,ROWS($L$34:L67)-1,COLUMNS($L$34:L67)-1)<>\"\",OFFSET(DE104_3!$L$34,ROWS($L$34:L67)-1,COLUMNS($L$34:L67)-1),\"\")","v":""},{"$f":"IF(OFFSET(DE104_3!$M$34,ROWS($M$34:M67)-1,COLUMNS($M$34:M67)-1)<>\"\",OFFSET(DE104_3!$M$34,ROWS($M$34:M67)-1,COLUMNS($M$34:M67)-1),\"\")","v":""},{"$f":"IF(OFFSET(DE104_3!$N$34,ROWS($N$34:N67)-1,COLUMNS($N$34:N67)-1)<>\"\",OFFSET(DE104_3!$N$34,ROWS($N$34:N67)-1,COLUMNS($N$34:N67)-1),\"\")","v":""},{"$f":"IF(OFFSET(DE104_3!$O$34,ROWS($O$34:O67)-1,COLUMNS($O$34:O67)-1)<>\"\",OFFSET(DE104_3!$O$34,ROWS($O$34:O67)-1,COLUMNS($O$34:O67)-1),\"\")","v":""},{"$f":"IF(OFFSET(DE104_3!$P$34,ROWS($P$34:P67)-1,COLUMNS($P$34:P67)-1)<>\"\",OFFSET(DE104_3!$P$34,ROWS($P$34:P67)-1,COLUMNS($P$34:P67)-1),\"\")","v":""},{"$f":"IF(OFFSET(DE104_3!$Q$34,ROWS($Q$34:Q67)-1,COLUMNS($Q$34:Q67)-1)<>\"\",OFFSET(DE104_3!$Q$34,ROWS($Q$34:Q67)-1,COLUMNS($Q$34:Q67)-1),\"\")","v":""},{"$f":"IF(OFFSET(DE104_3!$R$34,ROWS($R$34:R67)-1,COLUMNS($R$34:R67)-1)<>\"\",OFFSET(DE104_3!$R$34,ROWS($R$34:R67)-1,COLUMNS($R$34:R67)-1),\"\")","v":""},{"$f":"IF(OFFSET(DE104_3!$S$34,ROWS($S$34:S67)-1,COLUMNS($S$34:S67)-1)<>\"\",OFFSET(DE104_3!$S$34,ROWS($S$34:S67)-1,COLUMNS($S$34:S67)-1),\"\")","v":""},{"$f":"IF(OFFSET(DE104_3!$T$34,ROWS($T$34:T67)-1,COLUMNS($T$34:T67)-1)<>\"\",OFFSET(DE104_3!$T$34,ROWS($T$34:T67)-1,COLUMNS($T$34:T67)-1),\"\")","v":""},{"$f":"IF(OFFSET(DE104_3!$U$34,ROWS($U$34:U67)-1,COLUMNS($U$34:U67)-1)<>\"\",OFFSET(DE104_3!$U$34,ROWS($U$34:U67)-1,COLUMNS($U$34:U67)-1),\"\")","v":""},{"$f":"IF(OFFSET(DE104_3!$V$34,ROWS($V$34:V67)-1,COLUMNS($V$34:V67)-1)<>\"\",OFFSET(DE104_3!$V$34,ROWS($V$34:V67)-1,COLUMNS($V$34:V67)-1),\"\")","v":""},{"$f":"IF(OFFSET(DE104_3!$W$34,ROWS($W$34:W67)-1,COLUMNS($W$34:W67)-1)<>\"\",OFFSET(DE104_3!$W$34,ROWS($W$34:W67)-1,COLUMNS($W$34:W67)-1),\"\")","v":""},{"$f":"IF(OFFSET(DE104_3!$X$34,ROWS($X$34:X67)-1,COLUMNS($X$34:X67)-1)<>\"\",OFFSET(DE104_3!$X$34,ROWS($X$34:X67)-1,COLUMNS($X$34:X67)-1),\"\")","v":""},{"$f":"IF(OFFSET(DE104_3!$Y$34,ROWS($Y$34:Y67)-1,COLUMNS($Y$34:Y67)-1)<>\"\",OFFSET(DE104_3!$Y$34,ROWS($Y$34:Y67)-1,COLUMNS($Y$34:Y67)-1),\"\")","v":""},{"$f":"IF(OFFSET(DE104_3!$Z$34,ROWS($Z$34:Z67)-1,COLUMNS($Z$34:Z67)-1)<>\"\",OFFSET(DE104_3!$Z$34,ROWS($Z$34:Z67)-1,COLUMNS($Z$34:Z67)-1),\"\")","v":""},{"$f":"IF(OFFSET(DE104_3!$AA$34,ROWS($AA$34:AA67)-1,COLUMNS($AA$34:AA67)-1)<>\"\",OFFSET(DE104_3!$AA$34,ROWS($AA$34:AA67)-1,COLUMNS($AA$34:AA67)-1),\"\")","v":""},{"$f":"IF(OFFSET(DE104_3!$AB$34,ROWS($AB$34:AB67)-1,COLUMNS($AB$34:AB67)-1)<>\"\",OFFSET(DE104_3!$AB$34,ROWS($AB$34:AB67)-1,COLUMNS($AB$34:AB67)-1),\"\")","v":""},{"$f":"IF(OFFSET(DE104_3!$AC$34,ROWS($AC$34:AC67)-1,COLUMNS($AC$34:AC67)-1)<>\"\",OFFSET(DE104_3!$AC$34,ROWS($AC$34:AC67)-1,COLUMNS($AC$34:AC67)-1),\"\")","v":""},{"$f":"IF(OFFSET(DE104_3!$AD$34,ROWS($AD$34:AD67)-1,COLUMNS($AD$34:AD67)-1)<>\"\",OFFSET(DE104_3!$AD$34,ROWS($AD$34:AD67)-1,COLUMNS($AD$34:AD67)-1),\"\")","v":""},{"$f":"IF(OFFSET(DE104_3!$AE$34,ROWS($AE$34:AE67)-1,COLUMNS($AE$34:AE67)-1)<>\"\",OFFSET(DE104_3!$AE$34,ROWS($AE$34:AE67)-1,COLUMNS($AE$34:AE67)-1),\"\")","v":""},{"$f":"IF(OFFSET(DE104_3!$AF$34,ROWS($AF$34:AF67)-1,COLUMNS($AF$34:AF67)-1)<>\"\",OFFSET(DE104_3!$AF$34,ROWS($AF$34:AF67)-1,COLUMNS($AF$34:AF67)-1),\"\")","v":""},{"$f":"IF(OFFSET(DE104_3!$AG$34,ROWS($AG$34:AG67)-1,COLUMNS($AG$34:AG67)-1)<>\"\",OFFSET(DE104_3!$AG$34,ROWS($AG$34:AG67)-1,COLUMNS($AG$34:AG67)-1),\"\")","v":""},{"$f":"IF(OFFSET(DE104_3!$AH$34,ROWS($AH$34:AH67)-1,COLUMNS($AH$34:AH67)-1)<>\"\",OFFSET(DE104_3!$AH$34,ROWS($AH$34:AH67)-1,COLUMNS($AH$34:AH67)-1),\"\")","v":""},{"$f":"IF(OFFSET(DE104_3!$AI$34,ROWS($AI$34:AI67)-1,COLUMNS($AI$34:AI67)-1)<>\"\",OFFSET(DE104_3!$AI$34,ROWS($AI$34:AI67)-1,COLUMNS($AI$34:AI67)-1),\"\")","v":""},{"$f":"IF(OFFSET(DE104_3!$AJ$34,ROWS($AJ$34:AJ67)-1,COLUMNS($AJ$34:AJ67)-1)<>\"\",OFFSET(DE104_3!$AJ$34,ROWS($AJ$34:AJ67)-1,COLUMNS($AJ$34:AJ67)-1),\"\")","v":""},{"$f":"IF(OFFSET(DE104_3!$AK$34,ROWS($AK$34:AK67)-1,COLUMNS($AK$34:AK67)-1)<>\"\",OFFSET(DE104_3!$AK$34,ROWS($AK$34:AK67)-1,COLUMNS($AK$34:AK67)-1),\"\")","v":""},{"$f":"IF(OFFSET(DE104_3!$AL$34,ROWS($AL$34:AL67)-1,COLUMNS($AL$34:AL67)-1)<>\"\",OFFSET(DE104_3!$AL$34,ROWS($AL$34:AL67)-1,COLUMNS($AL$34:AL67)-1),\"\")","v":""},{"$f":"IF(OFFSET(DE104_3!$AM$34,ROWS($AM$34:AM67)-1,COLUMNS($AM$34:AM67)-1)<>\"\",OFFSET(DE104_3!$AM$34,ROWS($AM$34:AM67)-1,COLUMNS($AM$34:AM67)-1),\"\")","v":""},{"$f":"IF(OFFSET(DE104_3!$AN$34,ROWS($AN$34:AN67)-1,COLUMNS($AN$34:AN67)-1)<>\"\",OFFSET(DE104_3!$AN$34,ROWS($AN$34:AN67)-1,COLUMNS($AN$34:AN67)-1),\"\")","v":""},{"$f":"IF(OFFSET(DE104_3!$AO$34,ROWS($AO$34:AO67)-1,COLUMNS($AO$34:AO67)-1)<>\"\",OFFSET(DE104_3!$AO$34,ROWS($AO$34:AO67)-1,COLUMNS($AO$34:AO67)-1),\"\")","v":""},{"$f":"IF(OFFSET(DE104_3!$AP$34,ROWS($AP$34:AP67)-1,COLUMNS($AP$34:AP67)-1)<>\"\",OFFSET(DE104_3!$AP$34,ROWS($AP$34:AP67)-1,COLUMNS($AP$34:AP67)-1),\"\")","v":""},{"$f":"IF(OFFSET(DE104_3!$AQ$34,ROWS($AQ$34:AQ67)-1,COLUMNS($AQ$34:AQ67)-1)<>\"\",OFFSET(DE104_3!$AQ$34,ROWS($AQ$34:AQ67)-1,COLUMNS($AQ$34:AQ67)-1),\"\")","v":""}]
[{"$f":"IF(OFFSET(DE104_3!$C$34,ROWS($C$34:C68)-1,COLUMNS($C$34:C68)-1)<>\"\",OFFSET(DE104_3!$C$34,ROWS($C$34:C68)-1,COLUMNS($C$34:C68)-1),\"\")","v":""},{"$f":"IF(OFFSET(DE104_3!$D$34,ROWS($D$34:D68)-1,COLUMNS($D$34:D68)-1)<>\"\",OFFSET(DE104_3!$D$34,ROWS($D$34:D68)-1,COLUMNS($D$34:D68)-1),\"\")","v":""},{"$f":"IF(OFFSET(DE104_3!$E$34,ROWS($E$34:E68)-1,COLUMNS($E$34:E68)-1)<>\"\",OFFSET(DE104_3!$E$34,ROWS($E$34:E68)-1,COLUMNS($E$34:E68)-1),\"\")","v":""},{"$f":"IF(OFFSET(DE104_3!$F$34,ROWS($F$34:F68)-1,COLUMNS($F$34:F68)-1)<>\"\",OFFSET(DE104_3!$F$34,ROWS($F$34:F68)-1,COLUMNS($F$34:F68)-1),\"\")","v":""},{"$f":"IF(OFFSET(DE104_3!$G$34,ROWS($G$34:G68)-1,COLUMNS($G$34:G68)-1)<>\"\",OFFSET(DE104_3!$G$34,ROWS($G$34:G68)-1,COLUMNS($G$34:G68)-1),\"\")","v":""},{"$f":"IF(OFFSET(DE104_3!$H$34,ROWS($H$34:H68)-1,COLUMNS($H$34:H68)-1)<>\"\",OFFSET(DE104_3!$H$34,ROWS($H$34:H68)-1,COLUMNS($H$34:H68)-1),\"\")","v":""},{"$f":"IF(OFFSET(DE104_3!$I$34,ROWS($I$34:I68)-1,COLUMNS($I$34:I68)-1)<>\"\",OFFSET(DE104_3!$I$34,ROWS($I$34:I68)-1,COLUMNS($I$34:I68)-1),\"\")","v":""},{"$f":"IF(OFFSET(DE104_3!$J$34,ROWS($J$34:J68)-1,COLUMNS($J$34:J68)-1)<>\"\",OFFSET(DE104_3!$J$34,ROWS($J$34:J68)-1,COLUMNS($J$34:J68)-1),\"\")","v":""},{"$f":"IF(OFFSET(DE104_3!$K$34,ROWS($K$34:K68)-1,COLUMNS($K$34:K68)-1)<>\"\",OFFSET(DE104_3!$K$34,ROWS($K$34:K68)-1,COLUMNS($K$34:K68)-1),\"\")","v":""},{"$f":"IF(OFFSET(DE104_3!$L$34,ROWS($L$34:L68)-1,COLUMNS($L$34:L68)-1)<>\"\",OFFSET(DE104_3!$L$34,ROWS($L$34:L68)-1,COLUMNS($L$34:L68)-1),\"\")","v":""},{"$f":"IF(OFFSET(DE104_3!$M$34,ROWS($M$34:M68)-1,COLUMNS($M$34:M68)-1)<>\"\",OFFSET(DE104_3!$M$34,ROWS($M$34:M68)-1,COLUMNS($M$34:M68)-1),\"\")","v":""},{"$f":"IF(OFFSET(DE104_3!$N$34,ROWS($N$34:N68)-1,COLUMNS($N$34:N68)-1)<>\"\",OFFSET(DE104_3!$N$34,ROWS($N$34:N68)-1,COLUMNS($N$34:N68)-1),\"\")","v":""},{"$f":"IF(OFFSET(DE104_3!$O$34,ROWS($O$34:O68)-1,COLUMNS($O$34:O68)-1)<>\"\",OFFSET(DE104_3!$O$34,ROWS($O$34:O68)-1,COLUMNS($O$34:O68)-1),\"\")","v":""},{"$f":"IF(OFFSET(DE104_3!$P$34,ROWS($P$34:P68)-1,COLUMNS($P$34:P68)-1)<>\"\",OFFSET(DE104_3!$P$34,ROWS($P$34:P68)-1,COLUMNS($P$34:P68)-1),\"\")","v":""},{"$f":"IF(OFFSET(DE104_3!$Q$34,ROWS($Q$34:Q68)-1,COLUMNS($Q$34:Q68)-1)<>\"\",OFFSET(DE104_3!$Q$34,ROWS($Q$34:Q68)-1,COLUMNS($Q$34:Q68)-1),\"\")","v":""},{"$f":"IF(OFFSET(DE104_3!$R$34,ROWS($R$34:R68)-1,COLUMNS($R$34:R68)-1)<>\"\",OFFSET(DE104_3!$R$34,ROWS($R$34:R68)-1,COLUMNS($R$34:R68)-1),\"\")","v":""},{"$f":"IF(OFFSET(DE104_3!$S$34,ROWS($S$34:S68)-1,COLUMNS($S$34:S68)-1)<>\"\",OFFSET(DE104_3!$S$34,ROWS($S$34:S68)-1,COLUMNS($S$34:S68)-1),\"\")","v":""},{"$f":"IF(OFFSET(DE104_3!$T$34,ROWS($T$34:T68)-1,COLUMNS($T$34:T68)-1)<>\"\",OFFSET(DE104_3!$T$34,ROWS($T$34:T68)-1,COLUMNS($T$34:T68)-1),\"\")","v":""},{"$f":"IF(OFFSET(DE104_3!$U$34,ROWS($U$34:U68)-1,COLUMNS($U$34:U68)-1)<>\"\",OFFSET(DE104_3!$U$34,ROWS($U$34:U68)-1,COLUMNS($U$34:U68)-1),\"\")","v":""},{"$f":"IF(OFFSET(DE104_3!$V$34,ROWS($V$34:V68)-1,COLUMNS($V$34:V68)-1)<>\"\",OFFSET(DE104_3!$V$34,ROWS($V$34:V68)-1,COLUMNS($V$34:V68)-1),\"\")","v":""},{"$f":"IF(OFFSET(DE104_3!$W$34,ROWS($W$34:W68)-1,COLUMNS($W$34:W68)-1)<>\"\",OFFSET(DE104_3!$W$34,ROWS($W$34:W68)-1,COLUMNS($W$34:W68)-1),\"\")","v":""},{"$f":"IF(OFFSET(DE104_3!$X$34,ROWS($X$34:X68)-1,COLUMNS($X$34:X68)-1)<>\"\",OFFSET(DE104_3!$X$34,ROWS($X$34:X68)-1,COLUMNS($X$34:X68)-1),\"\")","v":""},{"$f":"IF(OFFSET(DE104_3!$Y$34,ROWS($Y$34:Y68)-1,COLUMNS($Y$34:Y68)-1)<>\"\",OFFSET(DE104_3!$Y$34,ROWS($Y$34:Y68)-1,COLUMNS($Y$34:Y68)-1),\"\")","v":""},{"$f":"IF(OFFSET(DE104_3!$Z$34,ROWS($Z$34:Z68)-1,COLUMNS($Z$34:Z68)-1)<>\"\",OFFSET(DE104_3!$Z$34,ROWS($Z$34:Z68)-1,COLUMNS($Z$34:Z68)-1),\"\")","v":""},{"$f":"IF(OFFSET(DE104_3!$AA$34,ROWS($AA$34:AA68)-1,COLUMNS($AA$34:AA68)-1)<>\"\",OFFSET(DE104_3!$AA$34,ROWS($AA$34:AA68)-1,COLUMNS($AA$34:AA68)-1),\"\")","v":""},{"$f":"IF(OFFSET(DE104_3!$AB$34,ROWS($AB$34:AB68)-1,COLUMNS($AB$34:AB68)-1)<>\"\",OFFSET(DE104_3!$AB$34,ROWS($AB$34:AB68)-1,COLUMNS($AB$34:AB68)-1),\"\")","v":""},{"$f":"IF(OFFSET(DE104_3!$AC$34,ROWS($AC$34:AC68)-1,COLUMNS($AC$34:AC68)-1)<>\"\",OFFSET(DE104_3!$AC$34,ROWS($AC$34:AC68)-1,COLUMNS($AC$34:AC68)-1),\"\")","v":""},{"$f":"IF(OFFSET(DE104_3!$AD$34,ROWS($AD$34:AD68)-1,COLUMNS($AD$34:AD68)-1)<>\"\",OFFSET(DE104_3!$AD$34,ROWS($AD$34:AD68)-1,COLUMNS($AD$34:AD68)-1),\"\")","v":""},{"$f":"IF(OFFSET(DE104_3!$AE$34,ROWS($AE$34:AE68)-1,COLUMNS($AE$34:AE68)-1)<>\"\",OFFSET(DE104_3!$AE$34,ROWS($AE$34:AE68)-1,COLUMNS($AE$34:AE68)-1),\"\")","v":""},{"$f":"IF(OFFSET(DE104_3!$AF$34,ROWS($AF$34:AF68)-1,COLUMNS($AF$34:AF68)-1)<>\"\",OFFSET(DE104_3!$AF$34,ROWS($AF$34:AF68)-1,COLUMNS($AF$34:AF68)-1),\"\")","v":""},{"$f":"IF(OFFSET(DE104_3!$AG$34,ROWS($AG$34:AG68)-1,COLUMNS($AG$34:AG68)-1)<>\"\",OFFSET(DE104_3!$AG$34,ROWS($AG$34:AG68)-1,COLUMNS($AG$34:AG68)-1),\"\")","v":""},{"$f":"IF(OFFSET(DE104_3!$AH$34,ROWS($AH$34:AH68)-1,COLUMNS($AH$34:AH68)-1)<>\"\",OFFSET(DE104_3!$AH$34,ROWS($AH$34:AH68)-1,COLUMNS($AH$34:AH68)-1),\"\")","v":""},{"$f":"IF(OFFSET(DE104_3!$AI$34,ROWS($AI$34:AI68)-1,COLUMNS($AI$34:AI68)-1)<>\"\",OFFSET(DE104_3!$AI$34,ROWS($AI$34:AI68)-1,COLUMNS($AI$34:AI68)-1),\"\")","v":""},{"$f":"IF(OFFSET(DE104_3!$AJ$34,ROWS($AJ$34:AJ68)-1,COLUMNS($AJ$34:AJ68)-1)<>\"\",OFFSET(DE104_3!$AJ$34,ROWS($AJ$34:AJ68)-1,COLUMNS($AJ$34:AJ68)-1),\"\")","v":""},{"$f":"IF(OFFSET(DE104_3!$AK$34,ROWS($AK$34:AK68)-1,COLUMNS($AK$34:AK68)-1)<>\"\",OFFSET(DE104_3!$AK$34,ROWS($AK$34:AK68)-1,COLUMNS($AK$34:AK68)-1),\"\")","v":""},{"$f":"IF(OFFSET(DE104_3!$AL$34,ROWS($AL$34:AL68)-1,COLUMNS($AL$34:AL68)-1)<>\"\",OFFSET(DE104_3!$AL$34,ROWS($AL$34:AL68)-1,COLUMNS($AL$34:AL68)-1),\"\")","v":""},{"$f":"IF(OFFSET(DE104_3!$AM$34,ROWS($AM$34:AM68)-1,COLUMNS($AM$34:AM68)-1)<>\"\",OFFSET(DE104_3!$AM$34,ROWS($AM$34:AM68)-1,COLUMNS($AM$34:AM68)-1),\"\")","v":""},{"$f":"IF(OFFSET(DE104_3!$AN$34,ROWS($AN$34:AN68)-1,COLUMNS($AN$34:AN68)-1)<>\"\",OFFSET(DE104_3!$AN$34,ROWS($AN$34:AN68)-1,COLUMNS($AN$34:AN68)-1),\"\")","v":""},{"$f":"IF(OFFSET(DE104_3!$AO$34,ROWS($AO$34:AO68)-1,COLUMNS($AO$34:AO68)-1)<>\"\",OFFSET(DE104_3!$AO$34,ROWS($AO$34:AO68)-1,COLUMNS($AO$34:AO68)-1),\"\")","v":""},{"$f":"IF(OFFSET(DE104_3!$AP$34,ROWS($AP$34:AP68)-1,COLUMNS($AP$34:AP68)-1)<>\"\",OFFSET(DE104_3!$AP$34,ROWS($AP$34:AP68)-1,COLUMNS($AP$34:AP68)-1),\"\")","v":""},{"$f":"IF(OFFSET(DE104_3!$AQ$34,ROWS($AQ$34:AQ68)-1,COLUMNS($AQ$34:AQ68)-1)<>\"\",OFFSET(DE104_3!$AQ$34,ROWS($AQ$34:AQ68)-1,COLUMNS($AQ$34:AQ68)-1),\"\")","v":""}]
[{"$f":"IF(OFFSET(DE104_3!$C$34,ROWS($C$34:C69)-1,COLUMNS($C$34:C69)-1)<>\"\",OFFSET(DE104_3!$C$34,ROWS($C$34:C69)-1,COLUMNS($C$34:C69)-1),\"\")","v":""},{"$f":"IF(OFFSET(DE104_3!$D$34,ROWS($D$34:D69)-1,COLUMNS($D$34:D69)-1)<>\"\",OFFSET(DE104_3!$D$34,ROWS($D$34:D69)-1,COLUMNS($D$34:D69)-1),\"\")","v":"STAGE 2"},{"$f":"IF(OFFSET(DE104_3!$E$34,ROWS($E$34:E69)-1,COLUMNS($E$34:E69)-1)<>\"\",OFFSET(DE104_3!$E$34,ROWS($E$34:E69)-1,COLUMNS($E$34:E69)-1),\"\")","v":""},{"$f":"IF(OFFSET(DE104_3!$F$34,ROWS($F$34:F69)-1,COLUMNS($F$34:F69)-1)<>\"\",OFFSET(DE104_3!$F$34,ROWS($F$34:F69)-1,COLUMNS($F$34:F69)-1),\"\")","v":""},{"$f":"IF(OFFSET(DE104_3!$G$34,ROWS($G$34:G69)-1,COLUMNS($G$34:G69)-1)<>\"\",OFFSET(DE104_3!$G$34,ROWS($G$34:G69)-1,COLUMNS($G$34:G69)-1),\"\")","v":""},{"$f":"IF(OFFSET(DE104_3!$H$34,ROWS($H$34:H69)-1,COLUMNS($H$34:H69)-1)<>\"\",OFFSET(DE104_3!$H$34,ROWS($H$34:H69)-1,COLUMNS($H$34:H69)-1),\"\")","v":""},{"$f":"IF(OFFSET(DE104_3!$I$34,ROWS($I$34:I69)-1,COLUMNS($I$34:I69)-1)<>\"\",OFFSET(DE104_3!$I$34,ROWS($I$34:I69)-1,COLUMNS($I$34:I69)-1),\"\")","v":""},{"$f":"IF(OFFSET(DE104_3!$J$34,ROWS($J$34:J69)-1,COLUMNS($J$34:J69)-1)<>\"\",OFFSET(DE104_3!$J$34,ROWS($J$34:J69)-1,COLUMNS($J$34:J69)-1),\"\")","v":""},{"$f":"IF(OFFSET(DE104_3!$K$34,ROWS($K$34:K69)-1,COLUMNS($K$34:K69)-1)<>\"\",OFFSET(DE104_3!$K$34,ROWS($K$34:K69)-1,COLUMNS($K$34:K69)-1),\"\")","v":""},{"$f":"IF(OFFSET(DE104_3!$L$34,ROWS($L$34:L69)-1,COLUMNS($L$34:L69)-1)<>\"\",OFFSET(DE104_3!$L$34,ROWS($L$34:L69)-1,COLUMNS($L$34:L69)-1),\"\")","v":""},{"$f":"IF(OFFSET(DE104_3!$M$34,ROWS($M$34:M69)-1,COLUMNS($M$34:M69)-1)<>\"\",OFFSET(DE104_3!$M$34,ROWS($M$34:M69)-1,COLUMNS($M$34:M69)-1),\"\")","v":""},{"$f":"IF(OFFSET(DE104_3!$N$34,ROWS($N$34:N69)-1,COLUMNS($N$34:N69)-1)<>\"\",OFFSET(DE104_3!$N$34,ROWS($N$34:N69)-1,COLUMNS($N$34:N69)-1),\"\")","v":""},{"$f":"IF(OFFSET(DE104_3!$O$34,ROWS($O$34:O69)-1,COLUMNS($O$34:O69)-1)<>\"\",OFFSET(DE104_3!$O$34,ROWS($O$34:O69)-1,COLUMNS($O$34:O69)-1),\"\")","v":""},{"$f":"IF(OFFSET(DE104_3!$P$34,ROWS($P$34:P69)-1,COLUMNS($P$34:P69)-1)<>\"\",OFFSET(DE104_3!$P$34,ROWS($P$34:P69)-1,COLUMNS($P$34:P69)-1),\"\")","v":""},{"$f":"IF(OFFSET(DE104_3!$Q$34,ROWS($Q$34:Q69)-1,COLUMNS($Q$34:Q69)-1)<>\"\",OFFSET(DE104_3!$Q$34,ROWS($Q$34:Q69)-1,COLUMNS($Q$34:Q69)-1),\"\")","v":""},{"$f":"IF(OFFSET(DE104_3!$R$34,ROWS($R$34:R69)-1,COLUMNS($R$34:R69)-1)<>\"\",OFFSET(DE104_3!$R$34,ROWS($R$34:R69)-1,COLUMNS($R$34:R69)-1),\"\")","v":""},{"$f":"IF(OFFSET(DE104_3!$S$34,ROWS($S$34:S69)-1,COLUMNS($S$34:S69)-1)<>\"\",OFFSET(DE104_3!$S$34,ROWS($S$34:S69)-1,COLUMNS($S$34:S69)-1),\"\")","v":""},{"$f":"IF(OFFSET(DE104_3!$T$34,ROWS($T$34:T69)-1,COLUMNS($T$34:T69)-1)<>\"\",OFFSET(DE104_3!$T$34,ROWS($T$34:T69)-1,COLUMNS($T$34:T69)-1),\"\")","v":""},{"$f":"IF(OFFSET(DE104_3!$U$34,ROWS($U$34:U69)-1,COLUMNS($U$34:U69)-1)<>\"\",OFFSET(DE104_3!$U$34,ROWS($U$34:U69)-1,COLUMNS($U$34:U69)-1),\"\")","v":""},{"$f":"IF(OFFSET(DE104_3!$V$34,ROWS($V$34:V69)-1,COLUMNS($V$34:V69)-1)<>\"\",OFFSET(DE104_3!$V$34,ROWS($V$34:V69)-1,COLUMNS($V$34:V69)-1),\"\")","v":""},{"$f":"IF(OFFSET(DE104_3!$W$34,ROWS($W$34:W69)-1,COLUMNS($W$34:W69)-1)<>\"\",OFFSET(DE104_3!$W$34,ROWS($W$34:W69)-1,COLUMNS($W$34:W69)-1),\"\")","v":""},{"$f":"IF(OFFSET(DE104_3!$X$34,ROWS($X$34:X69)-1,COLUMNS($X$34:X69)-1)<>\"\",OFFSET(DE104_3!$X$34,ROWS($X$34:X69)-1,COLUMNS($X$34:X69)-1),\"\")","v":""},{"$f":"IF(OFFSET(DE104_3!$Y$34,ROWS($Y$34:Y69)-1,COLUMNS($Y$34:Y69)-1)<>\"\",OFFSET(DE104_3!$Y$34,ROWS($Y$34:Y69)-1,COLUMNS($Y$34:Y69)-1),\"\")","v":""},{"$f":"IF(OFFSET(DE104_3!$Z$34,ROWS($Z$34:Z69)-1,COLUMNS($Z$34:Z69)-1)<>\"\",OFFSET(DE104_3!$Z$34,ROWS($Z$34:Z69)-1,COLUMNS($Z$34:Z69)-1),\"\")","v":""},{"$f":"IF(OFFSET(DE104_3!$AA$34,ROWS($AA$34:AA69)-1,COLUMNS($AA$34:AA69)-1)<>\"\",OFFSET(DE104_3!$AA$34,ROWS($AA$34:AA69)-1,COLUMNS($AA$34:AA69)-1),\"\")","v":""},{"$f":"IF(OFFSET(DE104_3!$AB$34,ROWS($AB$34:AB69)-1,COLUMNS($AB$34:AB69)-1)<>\"\",OFFSET(DE104_3!$AB$34,ROWS($AB$34:AB69)-1,COLUMNS($AB$34:AB69)-1),\"\")","v":""},{"$f":"IF(OFFSET(DE104_3!$AC$34,ROWS($AC$34:AC69)-1,COLUMNS($AC$34:AC69)-1)<>\"\",OFFSET(DE104_3!$AC$34,ROWS($AC$34:AC69)-1,COLUMNS($AC$34:AC69)-1),\"\")","v":""},{"$f":"IF(OFFSET(DE104_3!$AD$34,ROWS($AD$34:AD69)-1,COLUMNS($AD$34:AD69)-1)<>\"\",OFFSET(DE104_3!$AD$34,ROWS($AD$34:AD69)-1,COLUMNS($AD$34:AD69)-1),\"\")","v":""},{"$f":"IF(OFFSET(DE104_3!$AE$34,ROWS($AE$34:AE69)-1,COLUMNS($AE$34:AE69)-1)<>\"\",OFFSET(DE104_3!$AE$34,ROWS($AE$34:AE69)-1,COLUMNS($AE$34:AE69)-1),\"\")","v":""},{"$f":"IF(OFFSET(DE104_3!$AF$34,ROWS($AF$34:AF69)-1,COLUMNS($AF$34:AF69)-1)<>\"\",OFFSET(DE104_3!$AF$34,ROWS($AF$34:AF69)-1,COLUMNS($AF$34:AF69)-1),\"\")","v":""},{"$f":"IF(OFFSET(DE104_3!$AG$34,ROWS($AG$34:AG69)-1,COLUMNS($AG$34:AG69)-1)<>\"\",OFFSET(DE104_3!$AG$34,ROWS($AG$34:AG69)-1,COLUMNS($AG$34:AG69)-1),\"\")","v":""},{"$f":"IF(OFFSET(DE104_3!$AH$34,ROWS($AH$34:AH69)-1,COLUMNS($AH$34:AH69)-1)<>\"\",OFFSET(DE104_3!$AH$34,ROWS($AH$34:AH69)-1,COLUMNS($AH$34:AH69)-1),\"\")","v":""},{"$f":"IF(OFFSET(DE104_3!$AI$34,ROWS($AI$34:AI69)-1,COLUMNS($AI$34:AI69)-1)<>\"\",OFFSET(DE104_3!$AI$34,ROWS($AI$34:AI69)-1,COLUMNS($AI$34:AI69)-1),\"\")","v":""},{"$f":"IF(OFFSET(DE104_3!$AJ$34,ROWS($AJ$34:AJ69)-1,COLUMNS($AJ$34:AJ69)-1)<>\"\",OFFSET(DE104_3!$AJ$34,ROWS($AJ$34:AJ69)-1,COLUMNS($AJ$34:AJ69)-1),\"\")","v":""},{"$f":"IF(OFFSET(DE104_3!$AK$34,ROWS($AK$34:AK69)-1,COLUMNS($AK$34:AK69)-1)<>\"\",OFFSET(DE104_3!$AK$34,ROWS($AK$34:AK69)-1,COLUMNS($AK$34:AK69)-1),\"\")","v":""},{"$f":"IF(OFFSET(DE104_3!$AL$34,ROWS($AL$34:AL69)-1,COLUMNS($AL$34:AL69)-1)<>\"\",OFFSET(DE104_3!$AL$34,ROWS($AL$34:AL69)-1,COLUMNS($AL$34:AL69)-1),\"\")","v":""},{"$f":"IF(OFFSET(DE104_3!$AM$34,ROWS($AM$34:AM69)-1,COLUMNS($AM$34:AM69)-1)<>\"\",OFFSET(DE104_3!$AM$34,ROWS($AM$34:AM69)-1,COLUMNS($AM$34:AM69)-1),\"\")","v":""},{"$f":"IF(OFFSET(DE104_3!$AN$34,ROWS($AN$34:AN69)-1,COLUMNS($AN$34:AN69)-1)<>\"\",OFFSET(DE104_3!$AN$34,ROWS($AN$34:AN69)-1,COLUMNS($AN$34:AN69)-1),\"\")","v":""},{"$f":"IF(OFFSET(DE104_3!$AO$34,ROWS($AO$34:AO69)-1,COLUMNS($AO$34:AO69)-1)<>\"\",OFFSET(DE104_3!$AO$34,ROWS($AO$34:AO69)-1,COLUMNS($AO$34:AO69)-1),\"\")","v":""},{"$f":"IF(OFFSET(DE104_3!$AP$34,ROWS($AP$34:AP69)-1,COLUMNS($AP$34:AP69)-1)<>\"\",OFFSET(DE104_3!$AP$34,ROWS($AP$34:AP69)-1,COLUMNS($AP$34:AP69)-1),\"\")","v":""},{"$f":"IF(OFFSET(DE104_3!$AQ$34,ROWS($AQ$34:AQ69)-1,COLUMNS($AQ$34:AQ69)-1)<>\"\",OFFSET(DE104_3!$AQ$34,ROWS($AQ$34:AQ69)-1,COLUMNS($AQ$34:AQ69)-1),\"\")","v":""}]
[{"$f":"IF(OFFSET(DE104_3!$C$34,ROWS($C$34:C70)-1,COLUMNS($C$34:C70)-1)<>\"\",OFFSET(DE104_3!$C$34,ROWS($C$34:C70)-1,COLUMNS($C$34:C70)-1),\"\")","v":""},{"$f":"IF(OFFSET(DE104_3!$D$34,ROWS($D$34:D70)-1,COLUMNS($D$34:D70)-1)<>\"\",OFFSET(DE104_3!$D$34,ROWS($D$34:D70)-1,COLUMNS($D$34:D70)-1),\"\")","v":"US HWY 30"},{"$f":"IF(OFFSET(DE104_3!$E$34,ROWS($E$34:E70)-1,COLUMNS($E$34:E70)-1)<>\"\",OFFSET(DE104_3!$E$34,ROWS($E$34:E70)-1,COLUMNS($E$34:E70)-1),\"\")","v":""},{"$f":"IF(OFFSET(DE104_3!$F$34,ROWS($F$34:F70)-1,COLUMNS($F$34:F70)-1)<>\"\",OFFSET(DE104_3!$F$34,ROWS($F$34:F70)-1,COLUMNS($F$34:F70)-1),\"\")","v":""},{"$f":"IF(OFFSET(DE104_3!$G$34,ROWS($G$34:G70)-1,COLUMNS($G$34:G70)-1)<>\"\",OFFSET(DE104_3!$G$34,ROWS($G$34:G70)-1,COLUMNS($G$34:G70)-1),\"\")","v":""},{"$f":"IF(OFFSET(DE104_3!$H$34,ROWS($H$34:H70)-1,COLUMNS($H$34:H70)-1)<>\"\",OFFSET(DE104_3!$H$34,ROWS($H$34:H70)-1,COLUMNS($H$34:H70)-1),\"\")","v":""},{"$f":"IF(OFFSET(DE104_3!$I$34,ROWS($I$34:I70)-1,COLUMNS($I$34:I70)-1)<>\"\",OFFSET(DE104_3!$I$34,ROWS($I$34:I70)-1,COLUMNS($I$34:I70)-1),\"\")","v":""},{"$f":"IF(OFFSET(DE104_3!$J$34,ROWS($J$34:J70)-1,COLUMNS($J$34:J70)-1)<>\"\",OFFSET(DE104_3!$J$34,ROWS($J$34:J70)-1,COLUMNS($J$34:J70)-1),\"\")","v":""},{"$f":"IF(OFFSET(DE104_3!$K$34,ROWS($K$34:K70)-1,COLUMNS($K$34:K70)-1)<>\"\",OFFSET(DE104_3!$K$34,ROWS($K$34:K70)-1,COLUMNS($K$34:K70)-1),\"\")","v":""},{"$f":"IF(OFFSET(DE104_3!$L$34,ROWS($L$34:L70)-1,COLUMNS($L$34:L70)-1)<>\"\",OFFSET(DE104_3!$L$34,ROWS($L$34:L70)-1,COLUMNS($L$34:L70)-1),\"\")","v":""},{"$f":"IF(OFFSET(DE104_3!$M$34,ROWS($M$34:M70)-1,COLUMNS($M$34:M70)-1)<>\"\",OFFSET(DE104_3!$M$34,ROWS($M$34:M70)-1,COLUMNS($M$34:M70)-1),\"\")","v":""},{"$f":"IF(OFFSET(DE104_3!$N$34,ROWS($N$34:N70)-1,COLUMNS($N$34:N70)-1)<>\"\",OFFSET(DE104_3!$N$34,ROWS($N$34:N70)-1,COLUMNS($N$34:N70)-1),\"\")","v":""},{"$f":"IF(OFFSET(DE104_3!$O$34,ROWS($O$34:O70)-1,COLUMNS($O$34:O70)-1)<>\"\",OFFSET(DE104_3!$O$34,ROWS($O$34:O70)-1,COLUMNS($O$34:O70)-1),\"\")","v":""},{"$f":"IF(OFFSET(DE104_3!$P$34,ROWS($P$34:P70)-1,COLUMNS($P$34:P70)-1)<>\"\",OFFSET(DE104_3!$P$34,ROWS($P$34:P70)-1,COLUMNS($P$34:P70)-1),\"\")","v":""},{"$f":"IF(OFFSET(DE104_3!$Q$34,ROWS($Q$34:Q70)-1,COLUMNS($Q$34:Q70)-1)<>\"\",OFFSET(DE104_3!$Q$34,ROWS($Q$34:Q70)-1,COLUMNS($Q$34:Q70)-1),\"\")","v":""},{"$f":"IF(OFFSET(DE104_3!$R$34,ROWS($R$34:R70)-1,COLUMNS($R$34:R70)-1)<>\"\",OFFSET(DE104_3!$R$34,ROWS($R$34:R70)-1,COLUMNS($R$34:R70)-1),\"\")","v":""},{"$f":"IF(OFFSET(DE104_3!$S$34,ROWS($S$34:S70)-1,COLUMNS($S$34:S70)-1)<>\"\",OFFSET(DE104_3!$S$34,ROWS($S$34:S70)-1,COLUMNS($S$34:S70)-1),\"\")","v":""},{"$f":"IF(OFFSET(DE104_3!$T$34,ROWS($T$34:T70)-1,COLUMNS($T$34:T70)-1)<>\"\",OFFSET(DE104_3!$T$34,ROWS($T$34:T70)-1,COLUMNS($T$34:T70)-1),\"\")","v":""},{"$f":"IF(OFFSET(DE104_3!$U$34,ROWS($U$34:U70)-1,COLUMNS($U$34:U70)-1)<>\"\",OFFSET(DE104_3!$U$34,ROWS($U$34:U70)-1,COLUMNS($U$34:U70)-1),\"\")","v":""},{"$f":"IF(OFFSET(DE104_3!$V$34,ROWS($V$34:V70)-1,COLUMNS($V$34:V70)-1)<>\"\",OFFSET(DE104_3!$V$34,ROWS($V$34:V70)-1,COLUMNS($V$34:V70)-1),\"\")","v":""},{"$f":"IF(OFFSET(DE104_3!$W$34,ROWS($W$34:W70)-1,COLUMNS($W$34:W70)-1)<>\"\",OFFSET(DE104_3!$W$34,ROWS($W$34:W70)-1,COLUMNS($W$34:W70)-1),\"\")","v":""},{"$f":"IF(OFFSET(DE104_3!$X$34,ROWS($X$34:X70)-1,COLUMNS($X$34:X70)-1)<>\"\",OFFSET(DE104_3!$X$34,ROWS($X$34:X70)-1,COLUMNS($X$34:X70)-1),\"\")","v":""},{"$f":"IF(OFFSET(DE104_3!$Y$34,ROWS($Y$34:Y70)-1,COLUMNS($Y$34:Y70)-1)<>\"\",OFFSET(DE104_3!$Y$34,ROWS($Y$34:Y70)-1,COLUMNS($Y$34:Y70)-1),\"\")","v":""},{"$f":"IF(OFFSET(DE104_3!$Z$34,ROWS($Z$34:Z70)-1,COLUMNS($Z$34:Z70)-1)<>\"\",OFFSET(DE104_3!$Z$34,ROWS($Z$34:Z70)-1,COLUMNS($Z$34:Z70)-1),\"\")","v":""},{"$f":"IF(OFFSET(DE104_3!$AA$34,ROWS($AA$34:AA70)-1,COLUMNS($AA$34:AA70)-1)<>\"\",OFFSET(DE104_3!$AA$34,ROWS($AA$34:AA70)-1,COLUMNS($AA$34:AA70)-1),\"\")","v":""},{"$f":"IF(OFFSET(DE104_3!$AB$34,ROWS($AB$34:AB70)-1,COLUMNS($AB$34:AB70)-1)<>\"\",OFFSET(DE104_3!$AB$34,ROWS($AB$34:AB70)-1,COLUMNS($AB$34:AB70)-1),\"\")","v":""},{"$f":"IF(OFFSET(DE104_3!$AC$34,ROWS($AC$34:AC70)-1,COLUMNS($AC$34:AC70)-1)<>\"\",OFFSET(DE104_3!$AC$34,ROWS($AC$34:AC70)-1,COLUMNS($AC$34:AC70)-1),\"\")","v":""},{"$f":"IF(OFFSET(DE104_3!$AD$34,ROWS($AD$34:AD70)-1,COLUMNS($AD$34:AD70)-1)<>\"\",OFFSET(DE104_3!$AD$34,ROWS($AD$34:AD70)-1,COLUMNS($AD$34:AD70)-1),\"\")","v":""},{"$f":"IF(OFFSET(DE104_3!$AE$34,ROWS($AE$34:AE70)-1,COLUMNS($AE$34:AE70)-1)<>\"\",OFFSET(DE104_3!$AE$34,ROWS($AE$34:AE70)-1,COLUMNS($AE$34:AE70)-1),\"\")","v":""},{"$f":"IF(OFFSET(DE104_3!$AF$34,ROWS($AF$34:AF70)-1,COLUMNS($AF$34:AF70)-1)<>\"\",OFFSET(DE104_3!$AF$34,ROWS($AF$34:AF70)-1,COLUMNS($AF$34:AF70)-1),\"\")","v":""},{"$f":"IF(OFFSET(DE104_3!$AG$34,ROWS($AG$34:AG70)-1,COLUMNS($AG$34:AG70)-1)<>\"\",OFFSET(DE104_3!$AG$34,ROWS($AG$34:AG70)-1,COLUMNS($AG$34:AG70)-1),\"\")","v":""},{"$f":"IF(OFFSET(DE104_3!$AH$34,ROWS($AH$34:AH70)-1,COLUMNS($AH$34:AH70)-1)<>\"\",OFFSET(DE104_3!$AH$34,ROWS($AH$34:AH70)-1,COLUMNS($AH$34:AH70)-1),\"\")","v":""},{"$f":"IF(OFFSET(DE104_3!$AI$34,ROWS($AI$34:AI70)-1,COLUMNS($AI$34:AI70)-1)<>\"\",OFFSET(DE104_3!$AI$34,ROWS($AI$34:AI70)-1,COLUMNS($AI$34:AI70)-1),\"\")","v":""},{"$f":"IF(OFFSET(DE104_3!$AJ$34,ROWS($AJ$34:AJ70)-1,COLUMNS($AJ$34:AJ70)-1)<>\"\",OFFSET(DE104_3!$AJ$34,ROWS($AJ$34:AJ70)-1,COLUMNS($AJ$34:AJ70)-1),\"\")","v":""},{"$f":"IF(OFFSET(DE104_3!$AK$34,ROWS($AK$34:AK70)-1,COLUMNS($AK$34:AK70)-1)<>\"\",OFFSET(DE104_3!$AK$34,ROWS($AK$34:AK70)-1,COLUMNS($AK$34:AK70)-1),\"\")","v":""},{"$f":"IF(OFFSET(DE104_3!$AL$34,ROWS($AL$34:AL70)-1,COLUMNS($AL$34:AL70)-1)<>\"\",OFFSET(DE104_3!$AL$34,ROWS($AL$34:AL70)-1,COLUMNS($AL$34:AL70)-1),\"\")","v":""},{"$f":"IF(OFFSET(DE104_3!$AM$34,ROWS($AM$34:AM70)-1,COLUMNS($AM$34:AM70)-1)<>\"\",OFFSET(DE104_3!$AM$34,ROWS($AM$34:AM70)-1,COLUMNS($AM$34:AM70)-1),\"\")","v":""},{"$f":"IF(OFFSET(DE104_3!$AN$34,ROWS($AN$34:AN70)-1,COLUMNS($AN$34:AN70)-1)<>\"\",OFFSET(DE104_3!$AN$34,ROWS($AN$34:AN70)-1,COLUMNS($AN$34:AN70)-1),\"\")","v":""},{"$f":"IF(OFFSET(DE104_3!$AO$34,ROWS($AO$34:AO70)-1,COLUMNS($AO$34:AO70)-1)<>\"\",OFFSET(DE104_3!$AO$34,ROWS($AO$34:AO70)-1,COLUMNS($AO$34:AO70)-1),\"\")","v":""},{"$f":"IF(OFFSET(DE104_3!$AP$34,ROWS($AP$34:AP70)-1,COLUMNS($AP$34:AP70)-1)<>\"\",OFFSET(DE104_3!$AP$34,ROWS($AP$34:AP70)-1,COLUMNS($AP$34:AP70)-1),\"\")","v":""},{"$f":"IF(OFFSET(DE104_3!$AQ$34,ROWS($AQ$34:AQ70)-1,COLUMNS($AQ$34:AQ70)-1)<>\"\",OFFSET(DE104_3!$AQ$34,ROWS($AQ$34:AQ70)-1,COLUMNS($AQ$34:AQ70)-1),\"\")","v":""}]
[{"$f":"IF(OFFSET(DE104_3!$C$34,ROWS($C$34:C71)-1,COLUMNS($C$34:C71)-1)<>\"\",OFFSET(DE104_3!$C$34,ROWS($C$34:C71)-1,COLUMNS($C$34:C71)-1),\"\")","v":113},{"$f":"IF(OFFSET(DE104_3!$D$34,ROWS($D$34:D71)-1,COLUMNS($D$34:D71)-1)<>\"\",OFFSET(DE104_3!$D$34,ROWS($D$34:D71)-1,COLUMNS($D$34:D71)-1),\"\")","v":138810},{"$f":"IF(OFFSET(DE104_3!$E$34,ROWS($E$34:E71)-1,COLUMNS($E$34:E71)-1)<>\"\",OFFSET(DE104_3!$E$34,ROWS($E$34:E71)-1,COLUMNS($E$34:E71)-1),\"\")","v":"DR-621"},{"$f":"IF(OFFSET(DE104_3!$F$34,ROWS($F$34:F71)-1,COLUMNS($F$34:F71)-1)<>\"\",OFFSET(DE104_3!$F$34,ROWS($F$34:F71)-1,COLUMNS($F$34:F71)-1),\"\")","v":54},{"$f":"IF(OFFSET(DE104_3!$G$34,ROWS($G$34:G71)-1,COLUMNS($G$34:G71)-1)<>\"\",OFFSET(DE104_3!$G$34,ROWS($G$34:G71)-1,COLUMNS($G$34:G71)-1),\"\")","v":2000},{"$f":"IF(OFFSET(DE104_3!$H$34,ROWS($H$34:H71)-1,COLUMNS($H$34:H71)-1)<>\"\",OFFSET(DE104_3!$H$34,ROWS($H$34:H71)-1,COLUMNS($H$34:H71)-1),\"\")","v":"RCP"},{"$f":"IF(OFFSET(DE104_3!$I$34,ROWS($I$34:I71)-1,COLUMNS($I$34:I71)-1)<>\"\",OFFSET(DE104_3!$I$34,ROWS($I$34:I71)-1,COLUMNS($I$34:I71)-1),\"\")","v":90},{"$f":"IF(OFFSET(DE104_3!$J$34,ROWS($J$34:J71)-1,COLUMNS($J$34:J71)-1)<>\"\",OFFSET(DE104_3!$J$34,ROWS($J$34:J71)-1,COLUMNS($J$34:J71)-1),\"\")","v":"B"},{"$f":"IF(OFFSET(DE104_3!$K$34,ROWS($K$34:K71)-1,COLUMNS($K$34:K71)-1)<>\"\",OFFSET(DE104_3!$K$34,ROWS($K$34:K71)-1,COLUMNS($K$34:K71)-1),\"\")","v":14.8},{"$f":"IF(OFFSET(DE104_3!$L$34,ROWS($L$34:L71)-1,COLUMNS($L$34:L71)-1)<>\"\",OFFSET(DE104_3!$L$34,ROWS($L$34:L71)-1,COLUMNS($L$34:L71)-1),\"\")","v":""},{"$f":"IF(OFFSET(DE104_3!$M$34,ROWS($M$34:M71)-1,COLUMNS($M$34:M71)-1)<>\"\",OFFSET(DE104_3!$M$34,ROWS($M$34:M71)-1,COLUMNS($M$34:M71)-1),\"\")","v":1},{"$f":"IF(OFFSET(DE104_3!$N$34,ROWS($N$34:N71)-1,COLUMNS($N$34:N71)-1)<>\"\",OFFSET(DE104_3!$N$34,ROWS($N$34:N71)-1,COLUMNS($N$34:N71)-1),\"\")","v":""},{"$f":"IF(OFFSET(DE104_3!$O$34,ROWS($O$34:O71)-1,COLUMNS($O$34:O71)-1)<>\"\",OFFSET(DE104_3!$O$34,ROWS($O$34:O71)-1,COLUMNS($O$34:O71)-1),\"\")","v":""},{"$f":"IF(OFFSET(DE104_3!$P$34,ROWS($P$34:P71)-1,COLUMNS($P$34:P71)-1)<>\"\",OFFSET(DE104_3!$P$34,ROWS($P$34:P71)-1,COLUMNS($P$34:P71)-1),\"\")","v":""},{"$f":"IF(OFFSET(DE104_3!$Q$34,ROWS($Q$34:Q71)-1,COLUMNS($Q$34:Q71)-1)<>\"\",OFFSET(DE104_3!$Q$34,ROWS($Q$34:Q71)-1,COLUMNS($Q$34:Q71)-1),\"\")","v":""},{"$f":"IF(OFFSET(DE104_3!$R$34,ROWS($R$34:R71)-1,COLUMNS($R$34:R71)-1)<>\"\",OFFSET(DE104_3!$R$34,ROWS($R$34:R71)-1,COLUMNS($R$34:R71)-1),\"\")","v":""},{"$f":"IF(OFFSET(DE104_3!$S$34,ROWS($S$34:S71)-1,COLUMNS($S$34:S71)-1)<>\"\",OFFSET(DE104_3!$S$34,ROWS($S$34:S71)-1,COLUMNS($S$34:S71)-1),\"\")","v":""},{"$f":"IF(OFFSET(DE104_3!$T$34,ROWS($T$34:T71)-1,COLUMNS($T$34:T71)-1)<>\"\",OFFSET(DE104_3!$T$34,ROWS($T$34:T71)-1,COLUMNS($T$34:T71)-1),\"\")","v":""},{"$f":"IF(OFFSET(DE104_3!$U$34,ROWS($U$34:U71)-1,COLUMNS($U$34:U71)-1)<>\"\",OFFSET(DE104_3!$U$34,ROWS($U$34:U71)-1,COLUMNS($U$34:U71)-1),\"\")","v":""},{"$f":"IF(OFFSET(DE104_3!$V$34,ROWS($V$34:V71)-1,COLUMNS($V$34:V71)-1)<>\"\",OFFSET(DE104_3!$V$34,ROWS($V$34:V71)-1,COLUMNS($V$34:V71)-1),\"\")","v":"Type 3"},{"$f":"IF(OFFSET(DE104_3!$W$34,ROWS($W$34:W71)-1,COLUMNS($W$34:W71)-1)<>\"\",OFFSET(DE104_3!$W$34,ROWS($W$34:W71)-1,COLUMNS($W$34:W71)-1),\"\")","v":""},{"$f":"IF(OFFSET(DE104_3!$X$34,ROWS($X$34:X71)-1,COLUMNS($X$34:X71)-1)<>\"\",OFFSET(DE104_3!$X$34,ROWS($X$34:X71)-1,COLUMNS($X$34:X71)-1),\"\")","v":870.09},{"$f":"IF(OFFSET(DE104_3!$Y$34,ROWS($Y$34:Y71)-1,COLUMNS($Y$34:Y71)-1)<>\"\",OFFSET(DE104_3!$Y$34,ROWS($Y$34:Y71)-1,COLUMNS($Y$34:Y71)-1),\"\")","v":869.48},{"$f":"IF(OFFSET(DE104_3!$Z$34,ROWS($Z$34:Z71)-1,COLUMNS($Z$34:Z71)-1)<>\"\",OFFSET(DE104_3!$Z$34,ROWS($Z$34:Z71)-1,COLUMNS($Z$34:Z71)-1),\"\")","v":""},{"$f":"IF(OFFSET(DE104_3!$AA$34,ROWS($AA$34:AA71)-1,COLUMNS($AA$34:AA71)-1)<>\"\",OFFSET(DE104_3!$AA$34,ROWS($AA$34:AA71)-1,COLUMNS($AA$34:AA71)-1),\"\")","v":""},{"$f":"IF(OFFSET(DE104_3!$AB$34,ROWS($AB$34:AB71)-1,COLUMNS($AB$34:AB71)-1)<>\"\",OFFSET(DE104_3!$AB$34,ROWS($AB$34:AB71)-1,COLUMNS($AB$34:AB71)-1),\"\")","v":134.05000000000001},{"$f":"IF(OFFSET(DE104_3!$AC$34,ROWS($AC$34:AC71)-1,COLUMNS($AC$34:AC71)-1)<>\"\",OFFSET(DE104_3!$AC$34,ROWS($AC$34:AC71)-1,COLUMNS($AC$34:AC71)-1),\"\")","v":36.06},{"$f":"IF(OFFSET(DE104_3!$AD$34,ROWS($AD$34:AD71)-1,COLUMNS($AD$34:AD71)-1)<>\"\",OFFSET(DE104_3!$AD$34,ROWS($AD$34:AD71)-1,COLUMNS($AD$34:AD71)-1),\"\")","v":90},{"$f":"IF(OFFSET(DE104_3!$AE$34,ROWS($AE$34:AE71)-1,COLUMNS($AE$34:AE71)-1)<>\"\",OFFSET(DE104_3!$AE$34,ROWS($AE$34:AE71)-1,COLUMNS($AE$34:AE71)-1),\"\")","v":""},{"$f":"IF(OFFSET(DE104_3!$AF$34,ROWS($AF$34:AF71)-1,COLUMNS($AF$34:AF71)-1)<>\"\",OFFSET(DE104_3!$AF$34,ROWS($AF$34:AF71)-1,COLUMNS($AF$34:AF71)-1),\"\")","v":""},{"$f":"IF(OFFSET(DE104_3!$AG$34,ROWS($AG$34:AG71)-1,COLUMNS($AG$34:AG71)-1)<>\"\",OFFSET(DE104_3!$AG$34,ROWS($AG$34:AG71)-1,COLUMNS($AG$34:AG71)-1),\"\")","v":""},{"$f":"IF(OFFSET(DE104_3!$AH$34,ROWS($AH$34:AH71)-1,COLUMNS($AH$34:AH71)-1)<>\"\",OFFSET(DE104_3!$AH$34,ROWS($AH$34:AH71)-1,COLUMNS($AH$34:AH71)-1),\"\")","v":""},{"$f":"IF(OFFSET(DE104_3!$AI$34,ROWS($AI$34:AI71)-1,COLUMNS($AI$34:AI71)-1)<>\"\",OFFSET(DE104_3!$AI$34,ROWS($AI$34:AI71)-1,COLUMNS($AI$34:AI71)-1),\"\")","v":""},{"$f":"IF(OFFSET(DE104_3!$AJ$34,ROWS($AJ$34:AJ71)-1,COLUMNS($AJ$34:AJ71)-1)<>\"\",OFFSET(DE104_3!$AJ$34,ROWS($AJ$34:AJ71)-1,COLUMNS($AJ$34:AJ71)-1),\"\")","v":""},{"$f":"IF(OFFSET(DE104_3!$AK$34,ROWS($AK$34:AK71)-1,COLUMNS($AK$34:AK71)-1)<>\"\",OFFSET(DE104_3!$AK$34,ROWS($AK$34:AK71)-1,COLUMNS($AK$34:AK71)-1),\"\")","v":""},{"$f":"IF(OFFSET(DE104_3!$AL$34,ROWS($AL$34:AL71)-1,COLUMNS($AL$34:AL71)-1)<>\"\",OFFSET(DE104_3!$AL$34,ROWS($AL$34:AL71)-1,COLUMNS($AL$34:AL71)-1),\"\")","v":301.04148148148147},{"$f":"IF(OFFSET(DE104_3!$AM$34,ROWS($AM$34:AM71)-1,COLUMNS($AM$34:AM71)-1)<>\"\",OFFSET(DE104_3!$AM$34,ROWS($AM$34:AM71)-1,COLUMNS($AM$34:AM71)-1),\"\")","v":""},{"$f":"IF(OFFSET(DE104_3!$AN$34,ROWS($AN$34:AN71)-1,COLUMNS($AN$34:AN71)-1)<>\"\",OFFSET(DE104_3!$AN$34,ROWS($AN$34:AN71)-1,COLUMNS($AN$34:AN71)-1),\"\")","v":256.56148148148145},{"$f":"IF(OFFSET(DE104_3!$AO$34,ROWS($AO$34:AO71)-1,COLUMNS($AO$34:AO71)-1)<>\"\",OFFSET(DE104_3!$AO$34,ROWS($AO$34:AO71)-1,COLUMNS($AO$34:AO71)-1),\"\")","v":10.453333333333333},{"$f":"IF(OFFSET(DE104_3!$AP$34,ROWS($AP$34:AP71)-1,COLUMNS($AP$34:AP71)-1)<>\"\",OFFSET(DE104_3!$AP$34,ROWS($AP$34:AP71)-1,COLUMNS($AP$34:AP71)-1),\"\")","v":267.01481481481477},{"$f":"IF(OFFSET(DE104_3!$AQ$34,ROWS($AQ$34:AQ71)-1,COLUMNS($AQ$34:AQ71)-1)<>\"\",OFFSET(DE104_3!$AQ$34,ROWS($AQ$34:AQ71)-1,COLUMNS($AQ$34:AQ71)-1),\"\")","v":""}]
[{"$f":"IF(OFFSET(DE104_3!$C$34,ROWS($C$34:C72)-1,COLUMNS($C$34:C72)-1)<>\"\",OFFSET(DE104_3!$C$34,ROWS($C$34:C72)-1,COLUMNS($C$34:C72)-1),\"\")","v":"MED"},{"$f":"IF(OFFSET(DE104_3!$D$34,ROWS($D$34:D72)-1,COLUMNS($D$34:D72)-1)<>\"\",OFFSET(DE104_3!$D$34,ROWS($D$34:D72)-1,COLUMNS($D$34:D72)-1),\"\")","v":139750},{"$f":"IF(OFFSET(DE104_3!$E$34,ROWS($E$34:E72)-1,COLUMNS($E$34:E72)-1)<>\"\",OFFSET(DE104_3!$E$34,ROWS($E$34:E72)-1,COLUMNS($E$34:E72)-1),\"\")","v":"DR-601"},{"$f":"IF(OFFSET(DE104_3!$F$34,ROWS($F$34:F72)-1,COLUMNS($F$34:F72)-1)<>\"\",OFFSET(DE104_3!$F$34,ROWS($F$34:F72)-1,COLUMNS($F$34:F72)-1),\"\")","v":24},{"$f":"IF(OFFSET(DE104_3!$G$34,ROWS($G$34:G72)-1,COLUMNS($G$34:G72)-1)<>\"\",OFFSET(DE104_3!$G$34,ROWS($G$34:G72)-1,COLUMNS($G$34:G72)-1),\"\")","v":2000},{"$f":"IF(OFFSET(DE104_3!$H$34,ROWS($H$34:H72)-1,COLUMNS($H$34:H72)-1)<>\"\",OFFSET(DE104_3!$H$34,ROWS($H$34:H72)-1,COLUMNS($H$34:H72)-1),\"\")","v":"RCP"},{"$f":"IF(OFFSET(DE104_3!$I$34,ROWS($I$34:I72)-1,COLUMNS($I$34:I72)-1)<>\"\",OFFSET(DE104_3!$I$34,ROWS($I$34:I72)-1,COLUMNS($I$34:I72)-1),\"\")","v":68},{"$f":"IF(OFFSET(DE104_3!$J$34,ROWS($J$34:J72)-1,COLUMNS($J$34:J72)-1)<>\"\",OFFSET(DE104_3!$J$34,ROWS($J$34:J72)-1,COLUMNS($J$34:J72)-1),\"\")","v":"B"},{"$f":"IF(OFFSET(DE104_3!$K$34,ROWS($K$34:K72)-1,COLUMNS($K$34:K72)-1)<>\"\",OFFSET(DE104_3!$K$34,ROWS($K$34:K72)-1,COLUMNS($K$34:K72)-1),\"\")","v":2.2000000000000002},{"$f":"IF(OFFSET(DE104_3!$L$34,ROWS($L$34:L72)-1,COLUMNS($L$34:L72)-1)<>\"\",OFFSET(DE104_3!$L$34,ROWS($L$34:L72)-1,COLUMNS($L$34:L72)-1),\"\")","v":""},{"$f":"IF(OFFSET(DE104_3!$M$34,ROWS($M$34:M72)-1,COLUMNS($M$34:M72)-1)<>\"\",OFFSET(DE104_3!$M$34,ROWS($M$34:M72)-1,COLUMNS($M$34:M72)-1),\"\")","v":1},{"$f":"IF(OFFSET(DE104_3!$N$34,ROWS($N$34:N72)-1,COLUMNS($N$34:N72)-1)<>\"\",OFFSET(DE104_3!$N$34,ROWS($N$34:N72)-1,COLUMNS($N$34:N72)-1),\"\")","v":1},{"$f":"IF(OFFSET(DE104_3!$O$34,ROWS($O$34:O72)-1,COLUMNS($O$34:O72)-1)<>\"\",OFFSET(DE104_3!$O$34,ROWS($O$34:O72)-1,COLUMNS($O$34:O72)-1),\"\")","v":""},{"$f":"IF(OFFSET(DE104_3!$P$34,ROWS($P$34:P72)-1,COLUMNS($P$34:P72)-1)<>\"\",OFFSET(DE104_3!$P$34,ROWS($P$34:P72)-1,COLUMNS($P$34:P72)-1),\"\")","v":""},{"$f":"IF(OFFSET(DE104_3!$Q$34,ROWS($Q$34:Q72)-1,COLUMNS($Q$34:Q72)-1)<>\"\",OFFSET(DE104_3!$Q$34,ROWS($Q$34:Q72)-1,COLUMNS($Q$34:Q72)-1),\"\")","v":""},{"$f":"IF(OFFSET(DE104_3!$R$34,ROWS($R$34:R72)-1,COLUMNS($R$34:R72)-1)<>\"\",OFFSET(DE104_3!$R$34,ROWS($R$34:R72)-1,COLUMNS($R$34:R72)-1),\"\")","v":""},{"$f":"IF(OFFSET(DE104_3!$S$34,ROWS($S$34:S72)-1,COLUMNS($S$34:S72)-1)<>\"\",OFFSET(DE104_3!$S$34,ROWS($S$34:S72)-1,COLUMNS($S$34:S72)-1),\"\")","v":""},{"$f":"IF(OFFSET(DE104_3!$T$34,ROWS($T$34:T72)-1,COLUMNS($T$34:T72)-1)<>\"\",OFFSET(DE104_3!$T$34,ROWS($T$34:T72)-1,COLUMNS($T$34:T72)-1),\"\")","v":""},{"$f":"IF(OFFSET(DE104_3!$U$34,ROWS($U$34:U72)-1,COLUMNS($U$34:U72)-1)<>\"\",OFFSET(DE104_3!$U$34,ROWS($U$34:U72)-1,COLUMNS($U$34:U72)-1),\"\")","v":""},{"$f":"IF(OFFSET(DE104_3!$V$34,ROWS($V$34:V72)-1,COLUMNS($V$34:V72)-1)<>\"\",OFFSET(DE104_3!$V$34,ROWS($V$34:V72)-1,COLUMNS($V$34:V72)-1),\"\")","v":"Type 3"},{"$f":"IF(OFFSET(DE104_3!$W$34,ROWS($W$34:W72)-1,COLUMNS($W$34:W72)-1)<>\"\",OFFSET(DE104_3!$W$34,ROWS($W$34:W72)-1,COLUMNS($W$34:W72)-1),\"\")","v":""},{"$f":"IF(OFFSET(DE104_3!$X$34,ROWS($X$34:X72)-1,COLUMNS($X$34:X72)-1)<>\"\",OFFSET(DE104_3!$X$34,ROWS($X$34:X72)-1,COLUMNS($X$34:X72)-1),\"\")","v":878.55},{"$f":"IF(OFFSET(DE104_3!$Y$34,ROWS($Y$34:Y72)-1,COLUMNS($Y$34:Y72)-1)<>\"\",OFFSET(DE104_3!$Y$34,ROWS($Y$34:Y72)-1,COLUMNS($Y$34:Y72)-1),\"\")","v":880.2},{"$f":"IF(OFFSET(DE104_3!$Z$34,ROWS($Z$34:Z72)-1,COLUMNS($Z$34:Z72)-1)<>\"\",OFFSET(DE104_3!$Z$34,ROWS($Z$34:Z72)-1,COLUMNS($Z$34:Z72)-1),\"\")","v":""},{"$f":"IF(OFFSET(DE104_3!$AA$34,ROWS($AA$34:AA72)-1,COLUMNS($AA$34:AA72)-1)<>\"\",OFFSET(DE104_3!$AA$34,ROWS($AA$34:AA72)-1,COLUMNS($AA$34:AA72)-1),\"\")","v":""},{"$f":"IF(OFFSET(DE104_3!$AB$34,ROWS($AB$34:AB72)-1,COLUMNS($AB$34:AB72)-1)<>\"\",OFFSET(DE104_3!$AB$34,ROWS($AB$34:AB72)-1,COLUMNS($AB$34:AB72)-1),\"\")","v":45.23},{"$f":"IF(OFFSET(DE104_3!$AC$34,ROWS($AC$34:AC72)-1,COLUMNS($AC$34:AC72)-1)<>\"\",OFFSET(DE104_3!$AC$34,ROWS($AC$34:AC72)-1,COLUMNS($AC$34:AC72)-1),\"\")","v":35},{"$f":"IF(OFFSET(DE104_3!$AD$34,ROWS($AD$34:AD72)-1,COLUMNS($AD$34:AD72)-1)<>\"\",OFFSET(DE104_3!$AD$34,ROWS($AD$34:AD72)-1,COLUMNS($AD$34:AD72)-1),\"\")","v":""},{"$f":"IF(OFFSET(DE104_3!$AE$34,ROWS($AE$34:AE72)-1,COLUMNS($AE$34:AE72)-1)<>\"\",OFFSET(DE104_3!$AE$34,ROWS($AE$34:AE72)-1,COLUMNS($AE$34:AE72)-1),\"\")","v":""},{"$f":"IF(OFFSET(DE104_3!$AF$34,ROWS($AF$34:AF72)-1,COLUMNS($AF$34:AF72)-1)<>\"\",OFFSET(DE104_3!$AF$34,ROWS($AF$34:AF72)-1,COLUMNS($AF$34:AF72)-1),\"\")","v":""},{"$f":"IF(OFFSET(DE104_3!$AG$34,ROWS($AG$34:AG72)-1,COLUMNS($AG$34:AG72)-1)<>\"\",OFFSET(DE104_3!$AG$34,ROWS($AG$34:AG72)-1,COLUMNS($AG$34:AG72)-1),\"\")","v":""},{"$f":"IF(OFFSET(DE104_3!$AH$34,ROWS($AH$34:AH72)-1,COLUMNS($AH$34:AH72)-1)<>\"\",OFFSET(DE104_3!$AH$34,ROWS($AH$34:AH72)-1,COLUMNS($AH$34:AH72)-1),\"\")","v":""},{"$f":"IF(OFFSET(DE104_3!$AI$34,ROWS($AI$34:AI72)-1,COLUMNS($AI$34:AI72)-1)<>\"\",OFFSET(DE104_3!$AI$34,ROWS($AI$34:AI72)-1,COLUMNS($AI$34:AI72)-1),\"\")","v":""},{"$f":"IF(OFFSET(DE104_3!$AJ$34,ROWS($AJ$34:AJ72)-1,COLUMNS($AJ$34:AJ72)-1)<>\"\",OFFSET(DE104_3!$AJ$34,ROWS($AJ$34:AJ72)-1,COLUMNS($AJ$34:AJ72)-1),\"\")","v":""},{"$f":"IF(OFFSET(DE104_3!$AK$34,ROWS($AK$34:AK72)-1,COLUMNS($AK$34:AK72)-1)<>\"\",OFFSET(DE104_3!$AK$34,ROWS($AK$34:AK72)-1,COLUMNS($AK$34:AK72)-1),\"\")","v":""},{"$f":"IF(OFFSET(DE104_3!$AL$34,ROWS($AL$34:AL72)-1,COLUMNS($AL$34:AL72)-1)<>\"\",OFFSET(DE104_3!$AL$34,ROWS($AL$34:AL72)-1,COLUMNS($AL$34:AL72)-1),\"\")","v":26.765925925925924},{"$f":"IF(OFFSET(DE104_3!$AM$34,ROWS($AM$34:AM72)-1,COLUMNS($AM$34:AM72)-1)<>\"\",OFFSET(DE104_3!$AM$34,ROWS($AM$34:AM72)-1,COLUMNS($AM$34:AM72)-1),\"\")","v":""},{"$f":"IF(OFFSET(DE104_3!$AN$34,ROWS($AN$34:AN72)-1,COLUMNS($AN$34:AN72)-1)<>\"\",OFFSET(DE104_3!$AN$34,ROWS($AN$34:AN72)-1,COLUMNS($AN$34:AN72)-1),\"\")","v":10.595555555555555},{"$f":"IF(OFFSET(DE104_3!$AO$34,ROWS($AO$34:AO72)-1,COLUMNS($AO$34:AO72)-1)<>\"\",OFFSET(DE104_3!$AO$34,ROWS($AO$34:AO72)-1,COLUMNS($AO$34:AO72)-1),\"\")","v":6.1150925925925925},{"$f":"IF(OFFSET(DE104_3!$AP$34,ROWS($AP$34:AP72)-1,COLUMNS($AP$34:AP72)-1)<>\"\",OFFSET(DE104_3!$AP$34,ROWS($AP$34:AP72)-1,COLUMNS($AP$34:AP72)-1),\"\")","v":16.710648148148145},{"$f":"IF(OFFSET(DE104_3!$AQ$34,ROWS($AQ$34:AQ72)-1,COLUMNS($AQ$34:AQ72)-1)<>\"\",OFFSET(DE104_3!$AQ$34,ROWS($AQ$34:AQ72)-1,COLUMNS($AQ$34:AQ72)-1),\"\")","v":""}]
[{"$f":"IF(OFFSET(DE104_3!$C$34,ROWS($C$34:C73)-1,COLUMNS($C$34:C73)-1)<>\"\",OFFSET(DE104_3!$C$34,ROWS($C$34:C73)-1,COLUMNS($C$34:C73)-1),\"\")","v":"MED"},{"$f":"IF(OFFSET(DE104_3!$D$34,ROWS($D$34:D73)-1,COLUMNS($D$34:D73)-1)<>\"\",OFFSET(DE104_3!$D$34,ROWS($D$34:D73)-1,COLUMNS($D$34:D73)-1),\"\")","v":140475},{"$f":"IF(OFFSET(DE104_3!$E$34,ROWS($E$34:E73)-1,COLUMNS($E$34:E73)-1)<>\"\",OFFSET(DE104_3!$E$34,ROWS($E$34:E73)-1,COLUMNS($E$34:E73)-1),\"\")","v":"DR-611"},{"$f":"IF(OFFSET(DE104_3!$F$34,ROWS($F$34:F73)-1,COLUMNS($F$34:F73)-1)<>\"\",OFFSET(DE104_3!$F$34,ROWS($F$34:F73)-1,COLUMNS($F$34:F73)-1),\"\")","v":24},{"$f":"IF(OFFSET(DE104_3!$G$34,ROWS($G$34:G73)-1,COLUMNS($G$34:G73)-1)<>\"\",OFFSET(DE104_3!$G$34,ROWS($G$34:G73)-1,COLUMNS($G$34:G73)-1),\"\")","v":2000},{"$f":"IF(OFFSET(DE104_3!$H$34,ROWS($H$34:H73)-1,COLUMNS($H$34:H73)-1)<>\"\",OFFSET(DE104_3!$H$34,ROWS($H$34:H73)-1,COLUMNS($H$34:H73)-1),\"\")","v":"RCP"},{"$f":"IF(OFFSET(DE104_3!$I$34,ROWS($I$34:I73)-1,COLUMNS($I$34:I73)-1)<>\"\",OFFSET(DE104_3!$I$34,ROWS($I$34:I73)-1,COLUMNS($I$34:I73)-1),\"\")","v":92},{"$f":"IF(OFFSET(DE104_3!$J$34,ROWS($J$34:J73)-1,COLUMNS($J$34:J73)-1)<>\"\",OFFSET(DE104_3!$J$34,ROWS($J$34:J73)-1,COLUMNS($J$34:J73)-1),\"\")","v":"B"},{"$f":"IF(OFFSET(DE104_3!$K$34,ROWS($K$34:K73)-1,COLUMNS($K$34:K73)-1)<>\"\",OFFSET(DE104_3!$K$34,ROWS($K$34:K73)-1,COLUMNS($K$34:K73)-1),\"\")","v":3.8},{"$f":"IF(OFFSET(DE104_3!$L$34,ROWS($L$34:L73)-1,COLUMNS($L$34:L73)-1)<>\"\",OFFSET(DE104_3!$L$34,ROWS($L$34:L73)-1,COLUMNS($L$34:L73)-1),\"\")","v":""},{"$f":"IF(OFFSET(DE104_3!$M$34,ROWS($M$34:M73)-1,COLUMNS($M$34:M73)-1)<>\"\",OFFSET(DE104_3!$M$34,ROWS($M$34:M73)-1,COLUMNS($M$34:M73)-1),\"\")","v":1},{"$f":"IF(OFFSET(DE104_3!$N$34,ROWS($N$34:N73)-1,COLUMNS($N$34:N73)-1)<>\"\",OFFSET(DE104_3!$N$34,ROWS($N$34:N73)-1,COLUMNS($N$34:N73)-1),\"\")","v":1},{"$f":"IF(OFFSET(DE104_3!$O$34,ROWS($O$34:O73)-1,COLUMNS($O$34:O73)-1)<>\"\",OFFSET(DE104_3!$O$34,ROWS($O$34:O73)-1,COLUMNS($O$34:O73)-1),\"\")","v":""},{"$f":"IF(OFFSET(DE104_3!$P$34,ROWS($P$34:P73)-1,COLUMNS($P$34:P73)-1)<>\"\",OFFSET(DE104_3!$P$34,ROWS($P$34:P73)-1,COLUMNS($P$34:P73)-1),\"\")","v":1},{"$f":"IF(OFFSET(DE104_3!$Q$34,ROWS($Q$34:Q73)-1,COLUMNS($Q$34:Q73)-1)<>\"\",OFFSET(DE104_3!$Q$34,ROWS($Q$34:Q73)-1,COLUMNS($Q$34:Q73)-1),\"\")","v":""},{"$f":"IF(OFFSET(DE104_3!$R$34,ROWS($R$34:R73)-1,COLUMNS($R$34:R73)-1)<>\"\",OFFSET(DE104_3!$R$34,ROWS($R$34:R73)-1,COLUMNS($R$34:R73)-1),\"\")","v":""},{"$f":"IF(OFFSET(DE104_3!$S$34,ROWS($S$34:S73)-1,COLUMNS($S$34:S73)-1)<>\"\",OFFSET(DE104_3!$S$34,ROWS($S$34:S73)-1,COLUMNS($S$34:S73)-1),\"\")","v":""},{"$f":"IF(OFFSET(DE104_3!$T$34,ROWS($T$34:T73)-1,COLUMNS($T$34:T73)-1)<>\"\",OFFSET(DE104_3!$T$34,ROWS($T$34:T73)-1,COLUMNS($T$34:T73)-1),\"\")","v":""},{"$f":"IF(OFFSET(DE104_3!$U$34,ROWS($U$34:U73)-1,COLUMNS($U$34:U73)-1)<>\"\",OFFSET(DE104_3!$U$34,ROWS($U$34:U73)-1,COLUMNS($U$34:U73)-1),\"\")","v":""},{"$f":"IF(OFFSET(DE104_3!$V$34,ROWS($V$34:V73)-1,COLUMNS($V$34:V73)-1)<>\"\",OFFSET(DE104_3!$V$34,ROWS($V$34:V73)-1,COLUMNS($V$34:V73)-1),\"\")","v":"Type 3"},{"$f":"IF(OFFSET(DE104_3!$W$34,ROWS($W$34:W73)-1,COLUMNS($W$34:W73)-1)<>\"\",OFFSET(DE104_3!$W$34,ROWS($W$34:W73)-1,COLUMNS($W$34:W73)-1),\"\")","v":""},{"$f":"IF(OFFSET(DE104_3!$X$34,ROWS($X$34:X73)-1,COLUMNS($X$34:X73)-1)<>\"\",OFFSET(DE104_3!$X$34,ROWS($X$34:X73)-1,COLUMNS($X$34:X73)-1),\"\")","v":870},{"$f":"IF(OFFSET(DE104_3!$Y$34,ROWS($Y$34:Y73)-1,COLUMNS($Y$34:Y73)-1)<>\"\",OFFSET(DE104_3!$Y$34,ROWS($Y$34:Y73)-1,COLUMNS($Y$34:Y73)-1),\"\")","v":876.91},{"$f":"IF(OFFSET(DE104_3!$Z$34,ROWS($Z$34:Z73)-1,COLUMNS($Z$34:Z73)-1)<>\"\",OFFSET(DE104_3!$Z$34,ROWS($Z$34:Z73)-1,COLUMNS($Z$34:Z73)-1),\"\")","v":870.93},{"$f":"IF(OFFSET(DE104_3!$AA$34,ROWS($AA$34:AA73)-1,COLUMNS($AA$34:AA73)-1)<>\"\",OFFSET(DE104_3!$AA$34,ROWS($AA$34:AA73)-1,COLUMNS($AA$34:AA73)-1),\"\")","v":""},{"$f":"IF(OFFSET(DE104_3!$AB$34,ROWS($AB$34:AB73)-1,COLUMNS($AB$34:AB73)-1)<>\"\",OFFSET(DE104_3!$AB$34,ROWS($AB$34:AB73)-1,COLUMNS($AB$34:AB73)-1),\"\")","v":64.040000000000006},{"$f":"IF(OFFSET(DE104_3!$AC$34,ROWS($AC$34:AC73)-1,COLUMNS($AC$34:AC73)-1)<>\"\",OFFSET(DE104_3!$AC$34,ROWS($AC$34:AC73)-1,COLUMNS($AC$34:AC73)-1),\"\")","v":40},{"$f":"IF(OFFSET(DE104_3!$AD$34,ROWS($AD$34:AD73)-1,COLUMNS($AD$34:AD73)-1)<>\"\",OFFSET(DE104_3!$AD$34,ROWS($AD$34:AD73)-1,COLUMNS($AD$34:AD73)-1),\"\")","v":""},{"$f":"IF(OFFSET(DE104_3!$AE$34,ROWS($AE$34:AE73)-1,COLUMNS($AE$34:AE73)-1)<>\"\",OFFSET(DE104_3!$AE$34,ROWS($AE$34:AE73)-1,COLUMNS($AE$34:AE73)-1),\"\")","v":""},{"$f":"IF(OFFSET(DE104_3!$AF$34,ROWS($AF$34:AF73)-1,COLUMNS($AF$34:AF73)-1)<>\"\",OFFSET(DE104_3!$AF$34,ROWS($AF$34:AF73)-1,COLUMNS($AF$34:AF73)-1),\"\")","v":""},{"$f":"IF(OFFSET(DE104_3!$AG$34,ROWS($AG$34:AG73)-1,COLUMNS($AG$34:AG73)-1)<>\"\",OFFSET(DE104_3!$AG$34,ROWS($AG$34:AG73)-1,COLUMNS($AG$34:AG73)-1),\"\")","v":""},{"$f":"IF(OFFSET(DE104_3!$AH$34,ROWS($AH$34:AH73)-1,COLUMNS($AH$34:AH73)-1)<>\"\",OFFSET(DE104_3!$AH$34,ROWS($AH$34:AH73)-1,COLUMNS($AH$34:AH73)-1),\"\")","v":""},{"$f":"IF(OFFSET(DE104_3!$AI$34,ROWS($AI$34:AI73)-1,COLUMNS($AI$34:AI73)-1)<>\"\",OFFSET(DE104_3!$AI$34,ROWS($AI$34:AI73)-1,COLUMNS($AI$34:AI73)-1),\"\")","v":""},{"$f":"IF(OFFSET(DE104_3!$AJ$34,ROWS($AJ$34:AJ73)-1,COLUMNS($AJ$34:AJ73)-1)<>\"\",OFFSET(DE104_3!$AJ$34,ROWS($AJ$34:AJ73)-1,COLUMNS($AJ$34:AJ73)-1),\"\")","v":""},{"$f":"IF(OFFSET(DE104_3!$AK$34,ROWS($AK$34:AK73)-1,COLUMNS($AK$34:AK73)-1)<>\"\",OFFSET(DE104_3!$AK$34,ROWS($AK$34:AK73)-1,COLUMNS($AK$34:AK73)-1),\"\")","v":""},{"$f":"IF(OFFSET(DE104_3!$AL$34,ROWS($AL$34:AL73)-1,COLUMNS($AL$34:AL73)-1)<>\"\",OFFSET(DE104_3!$AL$34,ROWS($AL$34:AL73)-1,COLUMNS($AL$34:AL73)-1),\"\")","v":85.68},{"$f":"IF(OFFSET(DE104_3!$AM$34,ROWS($AM$34:AM73)-1,COLUMNS($AM$34:AM73)-1)<>\"\",OFFSET(DE104_3!$AM$34,ROWS($AM$34:AM73)-1,COLUMNS($AM$34:AM73)-1),\"\")","v":""},{"$f":"IF(OFFSET(DE104_3!$AN$34,ROWS($AN$34:AN73)-1,COLUMNS($AN$34:AN73)-1)<>\"\",OFFSET(DE104_3!$AN$34,ROWS($AN$34:AN73)-1,COLUMNS($AN$34:AN73)-1),\"\")","v":42.453333333333333},{"$f":"IF(OFFSET(DE104_3!$AO$34,ROWS($AO$34:AO73)-1,COLUMNS($AO$34:AO73)-1)<>\"\",OFFSET(DE104_3!$AO$34,ROWS($AO$34:AO73)-1,COLUMNS($AO$34:AO73)-1),\"\")","v":7.9984629629629627},{"$f":"IF(OFFSET(DE104_3!$AP$34,ROWS($AP$34:AP73)-1,COLUMNS($AP$34:AP73)-1)<>\"\",OFFSET(DE104_3!$AP$34,ROWS($AP$34:AP73)-1,COLUMNS($AP$34:AP73)-1),\"\")","v":50.451796296296294},{"$f":"IF(OFFSET(DE104_3!$AQ$34,ROWS($AQ$34:AQ73)-1,COLUMNS($AQ$34:AQ73)-1)<>\"\",OFFSET(DE104_3!$AQ$34,ROWS($AQ$34:AQ73)-1,COLUMNS($AQ$34:AQ73)-1),\"\")","v":"(6)"}]
[{"$f":"IF(OFFSET(DE104_3!$C$34,ROWS($C$34:C74)-1,COLUMNS($C$34:C74)-1)<>\"\",OFFSET(DE104_3!$C$34,ROWS($C$34:C74)-1,COLUMNS($C$34:C74)-1),\"\")","v":"MED"},{"$f":"IF(OFFSET(DE104_3!$D$34,ROWS($D$34:D74)-1,COLUMNS($D$34:D74)-1)<>\"\",OFFSET(DE104_3!$D$34,ROWS($D$34:D74)-1,COLUMNS($D$34:D74)-1),\"\")","v":141375},{"$f":"IF(OFFSET(DE104_3!$E$34,ROWS($E$34:E74)-1,COLUMNS($E$34:E74)-1)<>\"\",OFFSET(DE104_3!$E$34,ROWS($E$34:E74)-1,COLUMNS($E$34:E74)-1),\"\")","v":"DR-611"},{"$f":"IF(OFFSET(DE104_3!$F$34,ROWS($F$34:F74)-1,COLUMNS($F$34:F74)-1)<>\"\",OFFSET(DE104_3!$F$34,ROWS($F$34:F74)-1,COLUMNS($F$34:F74)-1),\"\")","v":24},{"$f":"IF(OFFSET(DE104_3!$G$34,ROWS($G$34:G74)-1,COLUMNS($G$34:G74)-1)<>\"\",OFFSET(DE104_3!$G$34,ROWS($G$34:G74)-1,COLUMNS($G$34:G74)-1),\"\")","v":2000},{"$f":"IF(OFFSET(DE104_3!$H$34,ROWS($H$34:H74)-1,COLUMNS($H$34:H74)-1)<>\"\",OFFSET(DE104_3!$H$34,ROWS($H$34:H74)-1,COLUMNS($H$34:H74)-1),\"\")","v":"RCP"},{"$f":"IF(OFFSET(DE104_3!$I$34,ROWS($I$34:I74)-1,COLUMNS($I$34:I74)-1)<>\"\",OFFSET(DE104_3!$I$34,ROWS($I$34:I74)-1,COLUMNS($I$34:I74)-1),\"\")","v":86},{"$f":"IF(OFFSET(DE104_3!$J$34,ROWS($J$34:J74)-1,COLUMNS($J$34:J74)-1)<>\"\",OFFSET(DE104_3!$J$34,ROWS($J$34:J74)-1,COLUMNS($J$34:J74)-1),\"\")","v":"B"},{"$f":"IF(OFFSET(DE104_3!$K$34,ROWS($K$34:K74)-1,COLUMNS($K$34:K74)-1)<>\"\",OFFSET(DE104_3!$K$34,ROWS($K$34:K74)-1,COLUMNS($K$34:K74)-1),\"\")","v":3.4},{"$f":"IF(OFFSET(DE104_3!$L$34,ROWS($L$34:L74)-1,COLUMNS($L$34:L74)-1)<>\"\",OFFSET(DE104_3!$L$34,ROWS($L$34:L74)-1,COLUMNS($L$34:L74)-1),\"\")","v":""},{"$f":"IF(OFFSET(DE104_3!$M$34,ROWS($M$34:M74)-1,COLUMNS($M$34:M74)-1)<>\"\",OFFSET(DE104_3!$M$34,ROWS($M$34:M74)-1,COLUMNS($M$34:M74)-1),\"\")","v":1},{"$f":"IF(OFFSET(DE104_3!$N$34,ROWS($N$34:N74)-1,COLUMNS($N$34:N74)-1)<>\"\",OFFSET(DE104_3!$N$34,ROWS($N$34:N74)-1,COLUMNS($N$34:N74)-1),\"\")","v":1},{"$f":"IF(OFFSET(DE104_3!$O$34,ROWS($O$34:O74)-1,COLUMNS($O$34:O74)-1)<>\"\",OFFSET(DE104_3!$O$34,ROWS($O$34:O74)-1,COLUMNS($O$34:O74)-1),\"\")","v":""},{"$f":"IF(OFFSET(DE104_3!$P$34,ROWS($P$34:P74)-1,COLUMNS($P$34:P74)-1)<>\"\",OFFSET(DE104_3!$P$34,ROWS($P$34:P74)-1,COLUMNS($P$34:P74)-1),\"\")","v":1},{"$f":"IF(OFFSET(DE104_3!$Q$34,ROWS($Q$34:Q74)-1,COLUMNS($Q$34:Q74)-1)<>\"\",OFFSET(DE104_3!$Q$34,ROWS($Q$34:Q74)-1,COLUMNS($Q$34:Q74)-1),\"\")","v":""},{"$f":"IF(OFFSET(DE104_3!$R$34,ROWS($R$34:R74)-1,COLUMNS($R$34:R74)-1)<>\"\",OFFSET(DE104_3!$R$34,ROWS($R$34:R74)-1,COLUMNS($R$34:R74)-1),\"\")","v":""},{"$f":"IF(OFFSET(DE104_3!$S$34,ROWS($S$34:S74)-1,COLUMNS($S$34:S74)-1)<>\"\",OFFSET(DE104_3!$S$34,ROWS($S$34:S74)-1,COLUMNS($S$34:S74)-1),\"\")","v":""},{"$f":"IF(OFFSET(DE104_3!$T$34,ROWS($T$34:T74)-1,COLUMNS($T$34:T74)-1)<>\"\",OFFSET(DE104_3!$T$34,ROWS($T$34:T74)-1,COLUMNS($T$34:T74)-1),\"\")","v":""},{"$f":"IF(OFFSET(DE104_3!$U$34,ROWS($U$34:U74)-1,COLUMNS($U$34:U74)-1)<>\"\",OFFSET(DE104_3!$U$34,ROWS($U$34:U74)-1,COLUMNS($U$34:U74)-1),\"\")","v":""},{"$f":"IF(OFFSET(DE104_3!$V$34,ROWS($V$34:V74)-1,COLUMNS($V$34:V74)-1)<>\"\",OFFSET(DE104_3!$V$34,ROWS($V$34:V74)-1,COLUMNS($V$34:V74)-1),\"\")","v":"Type 3"},{"$f":"IF(OFFSET(DE104_3!$W$34,ROWS($W$34:W74)-1,COLUMNS($W$34:W74)-1)<>\"\",OFFSET(DE104_3!$W$34,ROWS($W$34:W74)-1,COLUMNS($W$34:W74)-1),\"\")","v":""},{"$f":"IF(OFFSET(DE104_3!$X$34,ROWS($X$34:X74)-1,COLUMNS($X$34:X74)-1)<>\"\",OFFSET(DE104_3!$X$34,ROWS($X$34:X74)-1,COLUMNS($X$34:X74)-1),\"\")","v":878.7},{"$f":"IF(OFFSET(DE104_3!$Y$34,ROWS($Y$34:Y74)-1,COLUMNS($Y$34:Y74)-1)<>\"\",OFFSET(DE104_3!$Y$34,ROWS($Y$34:Y74)-1,COLUMNS($Y$34:Y74)-1),\"\")","v":883.45},{"$f":"IF(OFFSET(DE104_3!$Z$34,ROWS($Z$34:Z74)-1,COLUMNS($Z$34:Z74)-1)<>\"\",OFFSET(DE104_3!$Z$34,ROWS($Z$34:Z74)-1,COLUMNS($Z$34:Z74)-1),\"\")","v":878.89},{"$f":"IF(OFFSET(DE104_3!$AA$34,ROWS($AA$34:AA74)-1,COLUMNS($AA$34:AA74)-1)<>\"\",OFFSET(DE104_3!$AA$34,ROWS($AA$34:AA74)-1,COLUMNS($AA$34:AA74)-1),\"\")","v":""},{"$f":"IF(OFFSET(DE104_3!$AB$34,ROWS($AB$34:AB74)-1,COLUMNS($AB$34:AB74)-1)<>\"\",OFFSET(DE104_3!$AB$34,ROWS($AB$34:AB74)-1,COLUMNS($AB$34:AB74)-1),\"\")","v":61.16},{"$f":"IF(OFFSET(DE104_3!$AC$34,ROWS($AC$34:AC74)-1,COLUMNS($AC$34:AC74)-1)<>\"\",OFFSET(DE104_3!$AC$34,ROWS($AC$34:AC74)-1,COLUMNS($AC$34:AC74)-1),\"\")","v":37},{"$f":"IF(OFFSET(DE104_3!$AD$34,ROWS($AD$34:AD74)-1,COLUMNS($AD$34:AD74)-1)<>\"\",OFFSET(DE104_3!$AD$34,ROWS($AD$34:AD74)-1,COLUMNS($AD$34:AD74)-1),\"\")","v":""},{"$f":"IF(OFFSET(DE104_3!$AE$34,ROWS($AE$34:AE74)-1,COLUMNS($AE$34:AE74)-1)<>\"\",OFFSET(DE104_3!$AE$34,ROWS($AE$34:AE74)-1,COLUMNS($AE$34:AE74)-1),\"\")","v":""},{"$f":"IF(OFFSET(DE104_3!$AF$34,ROWS($AF$34:AF74)-1,COLUMNS($AF$34:AF74)-1)<>\"\",OFFSET(DE104_3!$AF$34,ROWS($AF$34:AF74)-1,COLUMNS($AF$34:AF74)-1),\"\")","v":""},{"$f":"IF(OFFSET(DE104_3!$AG$34,ROWS($AG$34:AG74)-1,COLUMNS($AG$34:AG74)-1)<>\"\",OFFSET(DE104_3!$AG$34,ROWS($AG$34:AG74)-1,COLUMNS($AG$34:AG74)-1),\"\")","v":""},{"$f":"IF(OFFSET(DE104_3!$AH$34,ROWS($AH$34:AH74)-1,COLUMNS($AH$34:AH74)-1)<>\"\",OFFSET(DE104_3!$AH$34,ROWS($AH$34:AH74)-1,COLUMNS($AH$34:AH74)-1),\"\")","v":"MED"},{"$f":"IF(OFFSET(DE104_3!$AI$34,ROWS($AI$34:AI74)-1,COLUMNS($AI$34:AI74)-1)<>\"\",OFFSET(DE104_3!$AI$34,ROWS($AI$34:AI74)-1,COLUMNS($AI$34:AI74)-1),\"\")","v":141355},{"$f":"IF(OFFSET(DE104_3!$AJ$34,ROWS($AJ$34:AJ74)-1,COLUMNS($AJ$34:AJ74)-1)<>\"\",OFFSET(DE104_3!$AJ$34,ROWS($AJ$34:AJ74)-1,COLUMNS($AJ$34:AJ74)-1),\"\")","v":886.21},{"$f":"IF(OFFSET(DE104_3!$AK$34,ROWS($AK$34:AK74)-1,COLUMNS($AK$34:AK74)-1)<>\"\",OFFSET(DE104_3!$AK$34,ROWS($AK$34:AK74)-1,COLUMNS($AK$34:AK74)-1),\"\")","v":"M"},{"$f":"IF(OFFSET(DE104_3!$AL$34,ROWS($AL$34:AL74)-1,COLUMNS($AL$34:AL74)-1)<>\"\",OFFSET(DE104_3!$AL$34,ROWS($AL$34:AL74)-1,COLUMNS($AL$34:AL74)-1),\"\")","v":103.68},{"$f":"IF(OFFSET(DE104_3!$AM$34,ROWS($AM$34:AM74)-1,COLUMNS($AM$34:AM74)-1)<>\"\",OFFSET(DE104_3!$AM$34,ROWS($AM$34:AM74)-1,COLUMNS($AM$34:AM74)-1),\"\")","v":""},{"$f":"IF(OFFSET(DE104_3!$AN$34,ROWS($AN$34:AN74)-1,COLUMNS($AN$34:AN74)-1)<>\"\",OFFSET(DE104_3!$AN$34,ROWS($AN$34:AN74)-1,COLUMNS($AN$34:AN74)-1),\"\")","v":32.64},{"$f":"IF(OFFSET(DE104_3!$AO$34,ROWS($AO$34:AO74)-1,COLUMNS($AO$34:AO74)-1)<>\"\",OFFSET(DE104_3!$AO$34,ROWS($AO$34:AO74)-1,COLUMNS($AO$34:AO74)-1),\"\")","v":7.5295740740740733},{"$f":"IF(OFFSET(DE104_3!$AP$34,ROWS($AP$34:AP74)-1,COLUMNS($AP$34:AP74)-1)<>\"\",OFFSET(DE104_3!$AP$34,ROWS($AP$34:AP74)-1,COLUMNS($AP$34:AP74)-1),\"\")","v":40.169574074074077},{"$f":"IF(OFFSET(DE104_3!$AQ$34,ROWS($AQ$34:AQ74)-1,COLUMNS($AQ$34:AQ74)-1)<>\"\",OFFSET(DE104_3!$AQ$34,ROWS($AQ$34:AQ74)-1,COLUMNS($AQ$34:AQ74)-1),\"\")","v":"(7)"}]
[{"$f":"IF(OFFSET(DE104_3!$C$34,ROWS($C$34:C75)-1,COLUMNS($C$34:C75)-1)<>\"\",OFFSET(DE104_3!$C$34,ROWS($C$34:C75)-1,COLUMNS($C$34:C75)-1),\"\")","v":227},{"$f":"IF(OFFSET(DE104_3!$D$34,ROWS($D$34:D75)-1,COLUMNS($D$34:D75)-1)<>\"\",OFFSET(DE104_3!$D$34,ROWS($D$34:D75)-1,COLUMNS($D$34:D75)-1),\"\")","v":142550},{"$f":"IF(OFFSET(DE104_3!$E$34,ROWS($E$34:E75)-1,COLUMNS($E$34:E75)-1)<>\"\",OFFSET(DE104_3!$E$34,ROWS($E$34:E75)-1,COLUMNS($E$34:E75)-1),\"\")","v":"DR-621"},{"$f":"IF(OFFSET(DE104_3!$F$34,ROWS($F$34:F75)-1,COLUMNS($F$34:F75)-1)<>\"\",OFFSET(DE104_3!$F$34,ROWS($F$34:F75)-1,COLUMNS($F$34:F75)-1),\"\")","v":72},{"$f":"IF(OFFSET(DE104_3!$G$34,ROWS($G$34:G75)-1,COLUMNS($G$34:G75)-1)<>\"\",OFFSET(DE104_3!$G$34,ROWS($G$34:G75)-1,COLUMNS($G$34:G75)-1),\"\")","v":2000},{"$f":"IF(OFFSET(DE104_3!$H$34,ROWS($H$34:H75)-1,COLUMNS($H$34:H75)-1)<>\"\",OFFSET(DE104_3!$H$34,ROWS($H$34:H75)-1,COLUMNS($H$34:H75)-1),\"\")","v":"RCP"},{"$f":"IF(OFFSET(DE104_3!$I$34,ROWS($I$34:I75)-1,COLUMNS($I$34:I75)-1)<>\"\",OFFSET(DE104_3!$I$34,ROWS($I$34:I75)-1,COLUMNS($I$34:I75)-1),\"\")","v":90},{"$f":"IF(OFFSET(DE104_3!$J$34,ROWS($J$34:J75)-1,COLUMNS($J$34:J75)-1)<>\"\",OFFSET(DE104_3!$J$34,ROWS($J$34:J75)-1,COLUMNS($J$34:J75)-1),\"\")","v":"B"},{"$f":"IF(OFFSET(DE104_3!$K$34,ROWS($K$34:K75)-1,COLUMNS($K$34:K75)-1)<>\"\",OFFSET(DE104_3!$K$34,ROWS($K$34:K75)-1,COLUMNS($K$34:K75)-1),\"\")","v":11.7},{"$f":"IF(OFFSET(DE104_3!$L$34,ROWS($L$34:L75)-1,COLUMNS($L$34:L75)-1)<>\"\",OFFSET(DE104_3!$L$34,ROWS($L$34:L75)-1,COLUMNS($L$34:L75)-1),\"\")","v":""},{"$f":"IF(OFFSET(DE104_3!$M$34,ROWS($M$34:M75)-1,COLUMNS($M$34:M75)-1)<>\"\",OFFSET(DE104_3!$M$34,ROWS($M$34:M75)-1,COLUMNS($M$34:M75)-1),\"\")","v":1},{"$f":"IF(OFFSET(DE104_3!$N$34,ROWS($N$34:N75)-1,COLUMNS($N$34:N75)-1)<>\"\",OFFSET(DE104_3!$N$34,ROWS($N$34:N75)-1,COLUMNS($N$34:N75)-1),\"\")","v":""},{"$f":"IF(OFFSET(DE104_3!$O$34,ROWS($O$34:O75)-1,COLUMNS($O$34:O75)-1)<>\"\",OFFSET(DE104_3!$O$34,ROWS($O$34:O75)-1,COLUMNS($O$34:O75)-1),\"\")","v":""},{"$f":"IF(OFFSET(DE104_3!$P$34,ROWS($P$34:P75)-1,COLUMNS($P$34:P75)-1)<>\"\",OFFSET(DE104_3!$P$34,ROWS($P$34:P75)-1,COLUMNS($P$34:P75)-1),\"\")","v":""},{"$f":"IF(OFFSET(DE104_3!$Q$34,ROWS($Q$34:Q75)-1,COLUMNS($Q$34:Q75)-1)<>\"\",OFFSET(DE104_3!$Q$34,ROWS($Q$34:Q75)-1,COLUMNS($Q$34:Q75)-1),\"\")","v":""},{"$f":"IF(OFFSET(DE104_3!$R$34,ROWS($R$34:R75)-1,COLUMNS($R$34:R75)-1)<>\"\",OFFSET(DE104_3!$R$34,ROWS($R$34:R75)-1,COLUMNS($R$34:R75)-1),\"\")","v":""},{"$f":"IF(OFFSET(DE104_3!$S$34,ROWS($S$34:S75)-1,COLUMNS($S$34:S75)-1)<>\"\",OFFSET(DE104_3!$S$34,ROWS($S$34:S75)-1,COLUMNS($S$34:S75)-1),\"\")","v":""},{"$f":"IF(OFFSET(DE104_3!$T$34,ROWS($T$34:T75)-1,COLUMNS($T$34:T75)-1)<>\"\",OFFSET(DE104_3!$T$34,ROWS($T$34:T75)-1,COLUMNS($T$34:T75)-1),\"\")","v":""},{"$f":"IF(OFFSET(DE104_3!$U$34,ROWS($U$34:U75)-1,COLUMNS($U$34:U75)-1)<>\"\",OFFSET(DE104_3!$U$34,ROWS($U$34:U75)-1,COLUMNS($U$34:U75)-1),\"\")","v":""},{"$f":"IF(OFFSET(DE104_3!$V$34,ROWS($V$34:V75)-1,COLUMNS($V$34:V75)-1)<>\"\",OFFSET(DE104_3!$V$34,ROWS($V$34:V75)-1,COLUMNS($V$34:V75)-1),\"\")","v":""},{"$f":"IF(OFFSET(DE104_3!$W$34,ROWS($W$34:W75)-1,COLUMNS($W$34:W75)-1)<>\"\",OFFSET(DE104_3!$W$34,ROWS($W$34:W75)-1,COLUMNS($W$34:W75)-1),\"\")","v":""},{"$f":"IF(OFFSET(DE104_3!$X$34,ROWS($X$34:X75)-1,COLUMNS($X$34:X75)-1)<>\"\",OFFSET(DE104_3!$X$34,ROWS($X$34:X75)-1,COLUMNS($X$34:X75)-1),\"\")","v":""},{"$f":"IF(OFFSET(DE104_3!$Y$34,ROWS($Y$34:Y75)-1,COLUMNS($Y$34:Y75)-1)<>\"\",OFFSET(DE104_3!$Y$34,ROWS($Y$34:Y75)-1,COLUMNS($Y$34:Y75)-1),\"\")","v":""},{"$f":"IF(OFFSET(DE104_3!$Z$34,ROWS($Z$34:Z75)-1,COLUMNS($Z$34:Z75)-1)<>\"\",OFFSET(DE104_3!$Z$34,ROWS($Z$34:Z75)-1,COLUMNS($Z$34:Z75)-1),\"\")","v":""},{"$f":"IF(OFFSET(DE104_3!$AA$34,ROWS($AA$34:AA75)-1,COLUMNS($AA$34:AA75)-1)<>\"\",OFFSET(DE104_3!$AA$34,ROWS($AA$34:AA75)-1,COLUMNS($AA$34:AA75)-1),\"\")","v":""},{"$f":"IF(OFFSET(DE104_3!$AB$34,ROWS($AB$34:AB75)-1,COLUMNS($AB$34:AB75)-1)<>\"\",OFFSET(DE104_3!$AB$34,ROWS($AB$34:AB75)-1,COLUMNS($AB$34:AB75)-1),\"\")","v":""},{"$f":"IF(OFFSET(DE104_3!$AC$34,ROWS($AC$34:AC75)-1,COLUMNS($AC$34:AC75)-1)<>\"\",OFFSET(DE104_3!$AC$34,ROWS($AC$34:AC75)-1,COLUMNS($AC$34:AC75)-1),\"\")","v":""},{"$f":"IF(OFFSET(DE104_3!$AD$34,ROWS($AD$34:AD75)-1,COLUMNS($AD$34:AD75)-1)<>\"\",OFFSET(DE104_3!$AD$34,ROWS($AD$34:AD75)-1,COLUMNS($AD$34:AD75)-1),\"\")","v":90},{"$f":"IF(OFFSET(DE104_3!$AE$34,ROWS($AE$34:AE75)-1,COLUMNS($AE$34:AE75)-1)<>\"\",OFFSET(DE104_3!$AE$34,ROWS($AE$34:AE75)-1,COLUMNS($AE$34:AE75)-1),\"\")","v":""},{"$f":"IF(OFFSET(DE104_3!$AF$34,ROWS($AF$34:AF75)-1,COLUMNS($AF$34:AF75)-1)<>\"\",OFFSET(DE104_3!$AF$34,ROWS($AF$34:AF75)-1,COLUMNS($AF$34:AF75)-1),\"\")","v":""},{"$f":"IF(OFFSET(DE104_3!$AG$34,ROWS($AG$34:AG75)-1,COLUMNS($AG$34:AG75)-1)<>\"\",OFFSET(DE104_3!$AG$34,ROWS($AG$34:AG75)-1,COLUMNS($AG$34:AG75)-1),\"\")","v":""},{"$f":"IF(OFFSET(DE104_3!$AH$34,ROWS($AH$34:AH75)-1,COLUMNS($AH$34:AH75)-1)<>\"\",OFFSET(DE104_3!$AH$34,ROWS($AH$34:AH75)-1,COLUMNS($AH$34:AH75)-1),\"\")","v":""},{"$f":"IF(OFFSET(DE104_3!$AI$34,ROWS($AI$34:AI75)-1,COLUMNS($AI$34:AI75)-1)<>\"\",OFFSET(DE104_3!$AI$34,ROWS($AI$34:AI75)-1,COLUMNS($AI$34:AI75)-1),\"\")","v":""},{"$f":"IF(OFFSET(DE104_3!$AJ$34,ROWS($AJ$34:AJ75)-1,COLUMNS($AJ$34:AJ75)-1)<>\"\",OFFSET(DE104_3!$AJ$34,ROWS($AJ$34:AJ75)-1,COLUMNS($AJ$34:AJ75)-1),\"\")","v":""},{"$f":"IF(OFFSET(DE104_3!$AK$34,ROWS($AK$34:AK75)-1,COLUMNS($AK$34:AK75)-1)<>\"\",OFFSET(DE104_3!$AK$34,ROWS($AK$34:AK75)-1,COLUMNS($AK$34:AK75)-1),\"\")","v":""},{"$f":"IF(OFFSET(DE104_3!$AL$34,ROWS($AL$34:AL75)-1,COLUMNS($AL$34:AL75)-1)<>\"\",OFFSET(DE104_3!$AL$34,ROWS($AL$34:AL75)-1,COLUMNS($AL$34:AL75)-1),\"\")","v":642.7733333333332},{"$f":"IF(OFFSET(DE104_3!$AM$34,ROWS($AM$34:AM75)-1,COLUMNS($AM$34:AM75)-1)<>\"\",OFFSET(DE104_3!$AM$34,ROWS($AM$34:AM75)-1,COLUMNS($AM$34:AM75)-1),\"\")","v":""},{"$f":"IF(OFFSET(DE104_3!$AN$34,ROWS($AN$34:AN75)-1,COLUMNS($AN$34:AN75)-1)<>\"\",OFFSET(DE104_3!$AN$34,ROWS($AN$34:AN75)-1,COLUMNS($AN$34:AN75)-1),\"\")","v":544.01277777777773},{"$f":"IF(OFFSET(DE104_3!$AO$34,ROWS($AO$34:AO75)-1,COLUMNS($AO$34:AO75)-1)<>\"\",OFFSET(DE104_3!$AO$34,ROWS($AO$34:AO75)-1,COLUMNS($AO$34:AO75)-1),\"\")","v":12.262962962962964},{"$f":"IF(OFFSET(DE104_3!$AP$34,ROWS($AP$34:AP75)-1,COLUMNS($AP$34:AP75)-1)<>\"\",OFFSET(DE104_3!$AP$34,ROWS($AP$34:AP75)-1,COLUMNS($AP$34:AP75)-1),\"\")","v":556.27574074074073},{"$f":"IF(OFFSET(DE104_3!$AQ$34,ROWS($AQ$34:AQ75)-1,COLUMNS($AQ$34:AQ75)-1)<>\"\",OFFSET(DE104_3!$AQ$34,ROWS($AQ$34:AQ75)-1,COLUMNS($AQ$34:AQ75)-1),\"\")","v":""}]
[{"$f":"IF(OFFSET(DE104_3!$C$34,ROWS($C$34:C76)-1,COLUMNS($C$34:C76)-1)<>\"\",OFFSET(DE104_3!$C$34,ROWS($C$34:C76)-1,COLUMNS($C$34:C76)-1),\"\")","v":"MED"},{"$f":"IF(OFFSET(DE104_3!$D$34,ROWS($D$34:D76)-1,COLUMNS($D$34:D76)-1)<>\"\",OFFSET(DE104_3!$D$34,ROWS($D$34:D76)-1,COLUMNS($D$34:D76)-1),\"\")","v":143900},{"$f":"IF(OFFSET(DE104_3!$E$34,ROWS($E$34:E76)-1,COLUMNS($E$34:E76)-1)<>\"\",OFFSET(DE104_3!$E$34,ROWS($E$34:E76)-1,COLUMNS($E$34:E76)-1),\"\")","v":"DR-611"},{"$f":"IF(OFFSET(DE104_3!$F$34,ROWS($F$34:F76)-1,COLUMNS($F$34:F76)-1)<>\"\",OFFSET(DE104_3!$F$34,ROWS($F$34:F76)-1,COLUMNS($F$34:F76)-1),\"\")","v":24},{"$f":"IF(OFFSET(DE104_3!$G$34,ROWS($G$34:G76)-1,COLUMNS($G$34:G76)-1)<>\"\",OFFSET(DE104_3!$G$34,ROWS($G$34:G76)-1,COLUMNS($G$34:G76)-1),\"\")","v":2000},{"$f":"IF(OFFSET(DE104_3!$H$34,ROWS($H$34:H76)-1,COLUMNS($H$34:H76)-1)<>\"\",OFFSET(DE104_3!$H$34,ROWS($H$34:H76)-1,COLUMNS($H$34:H76)-1),\"\")","v":"RCP"},{"$f":"IF(OFFSET(DE104_3!$I$34,ROWS($I$34:I76)-1,COLUMNS($I$34:I76)-1)<>\"\",OFFSET(DE104_3!$I$34,ROWS($I$34:I76)-1,COLUMNS($I$34:I76)-1),\"\")","v":82},{"$f":"IF(OFFSET(DE104_3!$J$34,ROWS($J$34:J76)-1,COLUMNS($J$34:J76)-1)<>\"\",OFFSET(DE104_3!$J$34,ROWS($J$34:J76)-1,COLUMNS($J$34:J76)-1),\"\")","v":"B"},{"$f":"IF(OFFSET(DE104_3!$K$34,ROWS($K$34:K76)-1,COLUMNS($K$34:K76)-1)<>\"\",OFFSET(DE104_3!$K$34,ROWS($K$34:K76)-1,COLUMNS($K$34:K76)-1),\"\")","v":2.8},{"$f":"IF(OFFSET(DE104_3!$L$34,ROWS($L$34:L76)-1,COLUMNS($L$34:L76)-1)<>\"\",OFFSET(DE104_3!$L$34,ROWS($L$34:L76)-1,COLUMNS($L$34:L76)-1),\"\")","v":""},{"$f":"IF(OFFSET(DE104_3!$M$34,ROWS($M$34:M76)-1,COLUMNS($M$34:M76)-1)<>\"\",OFFSET(DE104_3!$M$34,ROWS($M$34:M76)-1,COLUMNS($M$34:M76)-1),\"\")","v":1},{"$f":"IF(OFFSET(DE104_3!$N$34,ROWS($N$34:N76)-1,COLUMNS($N$34:N76)-1)<>\"\",OFFSET(DE104_3!$N$34,ROWS($N$34:N76)-1,COLUMNS($N$34:N76)-1),\"\")","v":1},{"$f":"IF(OFFSET(DE104_3!$O$34,ROWS($O$34:O76)-1,COLUMNS($O$34:O76)-1)<>\"\",OFFSET(DE104_3!$O$34,ROWS($O$34:O76)-1,COLUMNS($O$34:O76)-1),\"\")","v":""},{"$f":"IF(OFFSET(DE104_3!$P$34,ROWS($P$34:P76)-1,COLUMNS($P$34:P76)-1)<>\"\",OFFSET(DE104_3!$P$34,ROWS($P$34:P76)-1,COLUMNS($P$34:P76)-1),\"\")","v":1},{"$f":"IF(OFFSET(DE104_3!$Q$34,ROWS($Q$34:Q76)-1,COLUMNS($Q$34:Q76)-1)<>\"\",OFFSET(DE104_3!$Q$34,ROWS($Q$34:Q76)-1,COLUMNS($Q$34:Q76)-1),\"\")","v":""},{"$f":"IF(OFFSET(DE104_3!$R$34,ROWS($R$34:R76)-1,COLUMNS($R$34:R76)-1)<>\"\",OFFSET(DE104_3!$R$34,ROWS($R$34:R76)-1,COLUMNS($R$34:R76)-1),\"\")","v":""},{"$f":"IF(OFFSET(DE104_3!$S$34,ROWS($S$34:S76)-1,COLUMNS($S$34:S76)-1)<>\"\",OFFSET(DE104_3!$S$34,ROWS($S$34:S76)-1,COLUMNS($S$34:S76)-1),\"\")","v":""},{"$f":"IF(OFFSET(DE104_3!$T$34,ROWS($T$34:T76)-1,COLUMNS($T$34:T76)-1)<>\"\",OFFSET(DE104_3!$T$34,ROWS($T$34:T76)-1,COLUMNS($T$34:T76)-1),\"\")","v":""},{"$f":"IF(OFFSET(DE104_3!$U$34,ROWS($U$34:U76)-1,COLUMNS($U$34:U76)-1)<>\"\",OFFSET(DE104_3!$U$34,ROWS($U$34:U76)-1,COLUMNS($U$34:U76)-1),\"\")","v":""},{"$f":"IF(OFFSET(DE104_3!$V$34,ROWS($V$34:V76)-1,COLUMNS($V$34:V76)-1)<>\"\",OFFSET(DE104_3!$V$34,ROWS($V$34:V76)-1,COLUMNS($V$34:V76)-1),\"\")","v":"Type 3"},{"$f":"IF(OFFSET(DE104_3!$W$34,ROWS($W$34:W76)-1,COLUMNS($W$34:W76)-1)<>\"\",OFFSET(DE104_3!$W$34,ROWS($W$34:W76)-1,COLUMNS($W$34:W76)-1),\"\")","v":""},{"$f":"IF(OFFSET(DE104_3!$X$34,ROWS($X$34:X76)-1,COLUMNS($X$34:X76)-1)<>\"\",OFFSET(DE104_3!$X$34,ROWS($X$34:X76)-1,COLUMNS($X$34:X76)-1),\"\")","v":900.35},{"$f":"IF(OFFSET(DE104_3!$Y$34,ROWS($Y$34:Y76)-1,COLUMNS($Y$34:Y76)-1)<>\"\",OFFSET(DE104_3!$Y$34,ROWS($Y$34:Y76)-1,COLUMNS($Y$34:Y76)-1),\"\")","v":903.65},{"$f":"IF(OFFSET(DE104_3!$Z$34,ROWS($Z$34:Z76)-1,COLUMNS($Z$34:Z76)-1)<>\"\",OFFSET(DE104_3!$Z$34,ROWS($Z$34:Z76)-1,COLUMNS($Z$34:Z76)-1),\"\")","v":900.53},{"$f":"IF(OFFSET(DE104_3!$AA$34,ROWS($AA$34:AA76)-1,COLUMNS($AA$34:AA76)-1)<>\"\",OFFSET(DE104_3!$AA$34,ROWS($AA$34:AA76)-1,COLUMNS($AA$34:AA76)-1),\"\")","v":""},{"$f":"IF(OFFSET(DE104_3!$AB$34,ROWS($AB$34:AB76)-1,COLUMNS($AB$34:AB76)-1)<>\"\",OFFSET(DE104_3!$AB$34,ROWS($AB$34:AB76)-1,COLUMNS($AB$34:AB76)-1),\"\")","v":57.22},{"$f":"IF(OFFSET(DE104_3!$AC$34,ROWS($AC$34:AC76)-1,COLUMNS($AC$34:AC76)-1)<>\"\",OFFSET(DE104_3!$AC$34,ROWS($AC$34:AC76)-1,COLUMNS($AC$34:AC76)-1),\"\")","v":37},{"$f":"IF(OFFSET(DE104_3!$AD$34,ROWS($AD$34:AD76)-1,COLUMNS($AD$34:AD76)-1)<>\"\",OFFSET(DE104_3!$AD$34,ROWS($AD$34:AD76)-1,COLUMNS($AD$34:AD76)-1),\"\")","v":""},{"$f":"IF(OFFSET(DE104_3!$AE$34,ROWS($AE$34:AE76)-1,COLUMNS($AE$34:AE76)-1)<>\"\",OFFSET(DE104_3!$AE$34,ROWS($AE$34:AE76)-1,COLUMNS($AE$34:AE76)-1),\"\")","v":""},{"$f":"IF(OFFSET(DE104_3!$AF$34,ROWS($AF$34:AF76)-1,COLUMNS($AF$34:AF76)-1)<>\"\",OFFSET(DE104_3!$AF$34,ROWS($AF$34:AF76)-1,COLUMNS($AF$34:AF76)-1),\"\")","v":""},{"$f":"IF(OFFSET(DE104_3!$AG$34,ROWS($AG$34:AG76)-1,COLUMNS($AG$34:AG76)-1)<>\"\",OFFSET(DE104_3!$AG$34,ROWS($AG$34:AG76)-1,COLUMNS($AG$34:AG76)-1),\"\")","v":""},{"$f":"IF(OFFSET(DE104_3!$AH$34,ROWS($AH$34:AH76)-1,COLUMNS($AH$34:AH76)-1)<>\"\",OFFSET(DE104_3!$AH$34,ROWS($AH$34:AH76)-1,COLUMNS($AH$34:AH76)-1),\"\")","v":"MED"},{"$f":"IF(OFFSET(DE104_3!$AI$34,ROWS($AI$34:AI76)-1,COLUMNS($AI$34:AI76)-1)<>\"\",OFFSET(DE104_3!$AI$34,ROWS($AI$34:AI76)-1,COLUMNS($AI$34:AI76)-1),\"\")","v":143880},{"$f":"IF(OFFSET(DE104_3!$AJ$34,ROWS($AJ$34:AJ76)-1,COLUMNS($AJ$34:AJ76)-1)<>\"\",OFFSET(DE104_3!$AJ$34,ROWS($AJ$34:AJ76)-1,COLUMNS($AJ$34:AJ76)-1),\"\")","v":906.41},{"$f":"IF(OFFSET(DE104_3!$AK$34,ROWS($AK$34:AK76)-1,COLUMNS($AK$34:AK76)-1)<>\"\",OFFSET(DE104_3!$AK$34,ROWS($AK$34:AK76)-1,COLUMNS($AK$34:AK76)-1),\"\")","v":"M"},{"$f":"IF(OFFSET(DE104_3!$AL$34,ROWS($AL$34:AL76)-1,COLUMNS($AL$34:AL76)-1)<>\"\",OFFSET(DE104_3!$AL$34,ROWS($AL$34:AL76)-1,COLUMNS($AL$34:AL76)-1),\"\")","v":155.27037037037039},{"$f":"IF(OFFSET(DE104_3!$AM$34,ROWS($AM$34:AM76)-1,COLUMNS($AM$34:AM76)-1)<>\"\",OFFSET(DE104_3!$AM$34,ROWS($AM$34:AM76)-1,COLUMNS($AM$34:AM76)-1),\"\")","v":""},{"$f":"IF(OFFSET(DE104_3!$AN$34,ROWS($AN$34:AN76)-1,COLUMNS($AN$34:AN76)-1)<>\"\",OFFSET(DE104_3!$AN$34,ROWS($AN$34:AN76)-1,COLUMNS($AN$34:AN76)-1),\"\")","v":23.68},{"$f":"IF(OFFSET(DE104_3!$AO$34,ROWS($AO$34:AO76)-1,COLUMNS($AO$34:AO76)-1)<>\"\",OFFSET(DE104_3!$AO$34,ROWS($AO$34:AO76)-1,COLUMNS($AO$34:AO76)-1),\"\")","v":7.2146370370370354},{"$f":"IF(OFFSET(DE104_3!$AP$34,ROWS($AP$34:AP76)-1,COLUMNS($AP$34:AP76)-1)<>\"\",OFFSET(DE104_3!$AP$34,ROWS($AP$34:AP76)-1,COLUMNS($AP$34:AP76)-1),\"\")","v":30.894637037037036},{"$f":"IF(OFFSET(DE104_3!$AQ$34,ROWS($AQ$34:AQ76)-1,COLUMNS($AQ$34:AQ76)-1)<>\"\",OFFSET(DE104_3!$AQ$34,ROWS($AQ$34:AQ76)-1,COLUMNS($AQ$34:AQ76)-1),\"\")","v":"(7)"}]
[{"$f":"IF(OFFSET(DE104_3!$C$34,ROWS($C$34:C77)-1,COLUMNS($C$34:C77)-1)<>\"\",OFFSET(DE104_3!$C$34,ROWS($C$34:C77)-1,COLUMNS($C$34:C77)-1),\"\")","v":25},{"$f":"IF(OFFSET(DE104_3!$D$34,ROWS($D$34:D77)-1,COLUMNS($D$34:D77)-1)<>\"\",OFFSET(DE104_3!$D$34,ROWS($D$34:D77)-1,COLUMNS($D$34:D77)-1),\"\")","v":145400},{"$f":"IF(OFFSET(DE104_3!$E$34,ROWS($E$34:E77)-1,COLUMNS($E$34:E77)-1)<>\"\",OFFSET(DE104_3!$E$34,ROWS($E$34:E77)-1,COLUMNS($E$34:E77)-1),\"\")","v":"DR-321"},{"$f":"IF(OFFSET(DE104_3!$F$34,ROWS($F$34:F77)-1,COLUMNS($F$34:F77)-1)<>\"\",OFFSET(DE104_3!$F$34,ROWS($F$34:F77)-1,COLUMNS($F$34:F77)-1),\"\")","v":36},{"$f":"IF(OFFSET(DE104_3!$G$34,ROWS($G$34:G77)-1,COLUMNS($G$34:G77)-1)<>\"\",OFFSET(DE104_3!$G$34,ROWS($G$34:G77)-1,COLUMNS($G$34:G77)-1),\"\")","v":2000},{"$f":"IF(OFFSET(DE104_3!$H$34,ROWS($H$34:H77)-1,COLUMNS($H$34:H77)-1)<>\"\",OFFSET(DE104_3!$H$34,ROWS($H$34:H77)-1,COLUMNS($H$34:H77)-1),\"\")","v":"RCP"},{"$f":"IF(OFFSET(DE104_3!$I$34,ROWS($I$34:I77)-1,COLUMNS($I$34:I77)-1)<>\"\",OFFSET(DE104_3!$I$34,ROWS($I$34:I77)-1,COLUMNS($I$34:I77)-1),\"\")","v":96},{"$f":"IF(OFFSET(DE104_3!$J$34,ROWS($J$34:J77)-1,COLUMNS($J$34:J77)-1)<>\"\",OFFSET(DE104_3!$J$34,ROWS($J$34:J77)-1,COLUMNS($J$34:J77)-1),\"\")","v":"B"},{"$f":"IF(OFFSET(DE104_3!$K$34,ROWS($K$34:K77)-1,COLUMNS($K$34:K77)-1)<>\"\",OFFSET(DE104_3!$K$34,ROWS($K$34:K77)-1,COLUMNS($K$34:K77)-1),\"\")","v":11},{"$f":"IF(OFFSET(DE104_3!$L$34,ROWS($L$34:L77)-1,COLUMNS($L$34:L77)-1)<>\"\",OFFSET(DE104_3!$L$34,ROWS($L$34:L77)-1,COLUMNS($L$34:L77)-1),\"\")","v":""},{"$f":"IF(OFFSET(DE104_3!$M$34,ROWS($M$34:M77)-1,COLUMNS($M$34:M77)-1)<>\"\",OFFSET(DE104_3!$M$34,ROWS($M$34:M77)-1,COLUMNS($M$34:M77)-1),\"\")","v":1},{"$f":"IF(OFFSET(DE104_3!$N$34,ROWS($N$34:N77)-1,COLUMNS($N$34:N77)-1)<>\"\",OFFSET(DE104_3!$N$34,ROWS($N$34:N77)-1,COLUMNS($N$34:N77)-1),\"\")","v":""},{"$f":"IF(OFFSET(DE104_3!$O$34,ROWS($O$34:O77)-1,COLUMNS($O$34:O77)-1)<>\"\",OFFSET(DE104_3!$O$34,ROWS($O$34:O77)-1,COLUMNS($O$34:O77)-1),\"\")","v":""},{"$f":"IF(OFFSET(DE104_3!$P$34,ROWS($P$34:P77)-1,COLUMNS($P$34:P77)-1)<>\"\",OFFSET(DE104_3!$P$34,ROWS($P$34:P77)-1,COLUMNS($P$34:P77)-1),\"\")","v":""},{"$f":"IF(OFFSET(DE104_3!$Q$34,ROWS($Q$34:Q77)-1,COLUMNS($Q$34:Q77)-1)<>\"\",OFFSET(DE104_3!$Q$34,ROWS($Q$34:Q77)-1,COLUMNS($Q$34:Q77)-1),\"\")","v":""},{"$f":"IF(OFFSET(DE104_3!$R$34,ROWS($R$34:R77)-1,COLUMNS($R$34:R77)-1)<>\"\",OFFSET(DE104_3!$R$34,ROWS($R$34:R77)-1,COLUMNS($R$34:R77)-1),\"\")","v":""},{"$f":"IF(OFFSET(DE104_3!$S$34,ROWS($S$34:S77)-1,COLUMNS($S$34:S77)-1)<>\"\",OFFSET(DE104_3!$S$34,ROWS($S$34:S77)-1,COLUMNS($S$34:S77)-1),\"\")","v":""},{"$f":"IF(OFFSET(DE104_3!$T$34,ROWS($T$34:T77)-1,COLUMNS($T$34:T77)-1)<>\"\",OFFSET(DE104_3!$T$34,ROWS($T$34:T77)-1,COLUMNS($T$34:T77)-1),\"\")","v":""},{"$f":"IF(OFFSET(DE104_3!$U$34,ROWS($U$34:U77)-1,COLUMNS($U$34:U77)-1)<>\"\",OFFSET(DE104_3!$U$34,ROWS($U$34:U77)-1,COLUMNS($U$34:U77)-1),\"\")","v":""},{"$f":"IF(OFFSET(DE104_3!$V$34,ROWS($V$34:V77)-1,COLUMNS($V$34:V77)-1)<>\"\",OFFSET(DE104_3!$V$34,ROWS($V$34:V77)-1,COLUMNS($V$34:V77)-1),\"\")","v":"Type 3"},{"$f":"IF(OFFSET(DE104_3!$W$34,ROWS($W$34:W77)-1,COLUMNS($W$34:W77)-1)<>\"\",OFFSET(DE104_3!$W$34,ROWS($W$34:W77)-1,COLUMNS($W$34:W77)-1),\"\")","v":""},{"$f":"IF(OFFSET(DE104_3!$X$34,ROWS($X$34:X77)-1,COLUMNS($X$34:X77)-1)<>\"\",OFFSET(DE104_3!$X$34,ROWS($X$34:X77)-1,COLUMNS($X$34:X77)-1),\"\")","v":902.35},{"$f":"IF(OFFSET(DE104_3!$Y$34,ROWS($Y$34:Y77)-1,COLUMNS($Y$34:Y77)-1)<>\"\",OFFSET(DE104_3!$Y$34,ROWS($Y$34:Y77)-1,COLUMNS($Y$34:Y77)-1),\"\")","v":900.74},{"$f":"IF(OFFSET(DE104_3!$Z$34,ROWS($Z$34:Z77)-1,COLUMNS($Z$34:Z77)-1)<>\"\",OFFSET(DE104_3!$Z$34,ROWS($Z$34:Z77)-1,COLUMNS($Z$34:Z77)-1),\"\")","v":""},{"$f":"IF(OFFSET(DE104_3!$AA$34,ROWS($AA$34:AA77)-1,COLUMNS($AA$34:AA77)-1)<>\"\",OFFSET(DE104_3!$AA$34,ROWS($AA$34:AA77)-1,COLUMNS($AA$34:AA77)-1),\"\")","v":""},{"$f":"IF(OFFSET(DE104_3!$AB$34,ROWS($AB$34:AB77)-1,COLUMNS($AB$34:AB77)-1)<>\"\",OFFSET(DE104_3!$AB$34,ROWS($AB$34:AB77)-1,COLUMNS($AB$34:AB77)-1),\"\")","v":123.27},{"$f":"IF(OFFSET(DE104_3!$AC$34,ROWS($AC$34:AC77)-1,COLUMNS($AC$34:AC77)-1)<>\"\",OFFSET(DE104_3!$AC$34,ROWS($AC$34:AC77)-1,COLUMNS($AC$34:AC77)-1),\"\")","v":21.28},{"$f":"IF(OFFSET(DE104_3!$AD$34,ROWS($AD$34:AD77)-1,COLUMNS($AD$34:AD77)-1)<>\"\",OFFSET(DE104_3!$AD$34,ROWS($AD$34:AD77)-1,COLUMNS($AD$34:AD77)-1),\"\")","v":94},{"$f":"IF(OFFSET(DE104_3!$AE$34,ROWS($AE$34:AE77)-1,COLUMNS($AE$34:AE77)-1)<>\"\",OFFSET(DE104_3!$AE$34,ROWS($AE$34:AE77)-1,COLUMNS($AE$34:AE77)-1),\"\")","v":""},{"$f":"IF(OFFSET(DE104_3!$AF$34,ROWS($AF$34:AF77)-1,COLUMNS($AF$34:AF77)-1)<>\"\",OFFSET(DE104_3!$AF$34,ROWS($AF$34:AF77)-1,COLUMNS($AF$34:AF77)-1),\"\")","v":""},{"$f":"IF(OFFSET(DE104_3!$AG$34,ROWS($AG$34:AG77)-1,COLUMNS($AG$34:AG77)-1)<>\"\",OFFSET(DE104_3!$AG$34,ROWS($AG$34:AG77)-1,COLUMNS($AG$34:AG77)-1),\"\")","v":""},{"$f":"IF(OFFSET(DE104_3!$AH$34,ROWS($AH$34:AH77)-1,COLUMNS($AH$34:AH77)-1)<>\"\",OFFSET(DE104_3!$AH$34,ROWS($AH$34:AH77)-1,COLUMNS($AH$34:AH77)-1),\"\")","v":""},{"$f":"IF(OFFSET(DE104_3!$AI$34,ROWS($AI$34:AI77)-1,COLUMNS($AI$34:AI77)-1)<>\"\",OFFSET(DE104_3!$AI$34,ROWS($AI$34:AI77)-1,COLUMNS($AI$34:AI77)-1),\"\")","v":""},{"$f":"IF(OFFSET(DE104_3!$AJ$34,ROWS($AJ$34:AJ77)-1,COLUMNS($AJ$34:AJ77)-1)<>\"\",OFFSET(DE104_3!$AJ$34,ROWS($AJ$34:AJ77)-1,COLUMNS($AJ$34:AJ77)-1),\"\")","v":""},{"$f":"IF(OFFSET(DE104_3!$AK$34,ROWS($AK$34:AK77)-1,COLUMNS($AK$34:AK77)-1)<>\"\",OFFSET(DE104_3!$AK$34,ROWS($AK$34:AK77)-1,COLUMNS($AK$34:AK77)-1),\"\")","v":""},{"$f":"IF(OFFSET(DE104_3!$AL$34,ROWS($AL$34:AL77)-1,COLUMNS($AL$34:AL77)-1)<>\"\",OFFSET(DE104_3!$AL$34,ROWS($AL$34:AL77)-1,COLUMNS($AL$34:AL77)-1),\"\")","v":479.77777777777777},{"$f":"IF(OFFSET(DE104_3!$AM$34,ROWS($AM$34:AM77)-1,COLUMNS($AM$34:AM77)-1)<>\"\",OFFSET(DE104_3!$AM$34,ROWS($AM$34:AM77)-1,COLUMNS($AM$34:AM77)-1),\"\")","v":""},{"$f":"IF(OFFSET(DE104_3!$AN$34,ROWS($AN$34:AN77)-1,COLUMNS($AN$34:AN77)-1)<>\"\",OFFSET(DE104_3!$AN$34,ROWS($AN$34:AN77)-1,COLUMNS($AN$34:AN77)-1),\"\")","v":251.44259259259263},{"$f":"IF(OFFSET(DE104_3!$AO$34,ROWS($AO$34:AO77)-1,COLUMNS($AO$34:AO77)-1)<>\"\",OFFSET(DE104_3!$AO$34,ROWS($AO$34:AO77)-1,COLUMNS($AO$34:AO77)-1),\"\")","v":9.0370370370370363},{"$f":"IF(OFFSET(DE104_3!$AP$34,ROWS($AP$34:AP77)-1,COLUMNS($AP$34:AP77)-1)<>\"\",OFFSET(DE104_3!$AP$34,ROWS($AP$34:AP77)-1,COLUMNS($AP$34:AP77)-1),\"\")","v":260.47962962962964},{"$f":"IF(OFFSET(DE104_3!$AQ$34,ROWS($AQ$34:AQ77)-1,COLUMNS($AQ$34:AQ77)-1)<>\"\",OFFSET(DE104_3!$AQ$34,ROWS($AQ$34:AQ77)-1,COLUMNS($AQ$34:AQ77)-1),\"\")","v":""}]
[{"$f":"IF(OFFSET(DE104_3!$C$34,ROWS($C$34:C78)-1,COLUMNS($C$34:C78)-1)<>\"\",OFFSET(DE104_3!$C$34,ROWS($C$34:C78)-1,COLUMNS($C$34:C78)-1),\"\")","v":48},{"$f":"IF(OFFSET(DE104_3!$D$34,ROWS($D$34:D78)-1,COLUMNS($D$34:D78)-1)<>\"\",OFFSET(DE104_3!$D$34,ROWS($D$34:D78)-1,COLUMNS($D$34:D78)-1),\"\")","v":147000},{"$f":"IF(OFFSET(DE104_3!$E$34,ROWS($E$34:E78)-1,COLUMNS($E$34:E78)-1)<>\"\",OFFSET(DE104_3!$E$34,ROWS($E$34:E78)-1,COLUMNS($E$34:E78)-1),\"\")","v":"DR-621"},{"$f":"IF(OFFSET(DE104_3!$F$34,ROWS($F$34:F78)-1,COLUMNS($F$34:F78)-1)<>\"\",OFFSET(DE104_3!$F$34,ROWS($F$34:F78)-1,COLUMNS($F$34:F78)-1),\"\")","v":36},{"$f":"IF(OFFSET(DE104_3!$G$34,ROWS($G$34:G78)-1,COLUMNS($G$34:G78)-1)<>\"\",OFFSET(DE104_3!$G$34,ROWS($G$34:G78)-1,COLUMNS($G$34:G78)-1),\"\")","v":2000},{"$f":"IF(OFFSET(DE104_3!$H$34,ROWS($H$34:H78)-1,COLUMNS($H$34:H78)-1)<>\"\",OFFSET(DE104_3!$H$34,ROWS($H$34:H78)-1,COLUMNS($H$34:H78)-1),\"\")","v":"RCP"},{"$f":"IF(OFFSET(DE104_3!$I$34,ROWS($I$34:I78)-1,COLUMNS($I$34:I78)-1)<>\"\",OFFSET(DE104_3!$I$34,ROWS($I$34:I78)-1,COLUMNS($I$34:I78)-1),\"\")","v":64},{"$f":"IF(OFFSET(DE104_3!$J$34,ROWS($J$34:J78)-1,COLUMNS($J$34:J78)-1)<>\"\",OFFSET(DE104_3!$J$34,ROWS($J$34:J78)-1,COLUMNS($J$34:J78)-1),\"\")","v":"B"},{"$f":"IF(OFFSET(DE104_3!$K$34,ROWS($K$34:K78)-1,COLUMNS($K$34:K78)-1)<>\"\",OFFSET(DE104_3!$K$34,ROWS($K$34:K78)-1,COLUMNS($K$34:K78)-1),\"\")","v":2.2999999999999998},{"$f":"IF(OFFSET(DE104_3!$L$34,ROWS($L$34:L78)-1,COLUMNS($L$34:L78)-1)<>\"\",OFFSET(DE104_3!$L$34,ROWS($L$34:L78)-1,COLUMNS($L$34:L78)-1),\"\")","v":""},{"$f":"IF(OFFSET(DE104_3!$M$34,ROWS($M$34:M78)-1,COLUMNS($M$34:M78)-1)<>\"\",OFFSET(DE104_3!$M$34,ROWS($M$34:M78)-1,COLUMNS($M$34:M78)-1),\"\")","v":1},{"$f":"IF(OFFSET(DE104_3!$N$34,ROWS($N$34:N78)-1,COLUMNS($N$34:N78)-1)<>\"\",OFFSET(DE104_3!$N$34,ROWS($N$34:N78)-1,COLUMNS($N$34:N78)-1),\"\")","v":""},{"$f":"IF(OFFSET(DE104_3!$O$34,ROWS($O$34:O78)-1,COLUMNS($O$34:O78)-1)<>\"\",OFFSET(DE104_3!$O$34,ROWS($O$34:O78)-1,COLUMNS($O$34:O78)-1),\"\")","v":""},{"$f":"IF(OFFSET(DE104_3!$P$34,ROWS($P$34:P78)-1,COLUMNS($P$34:P78)-1)<>\"\",OFFSET(DE104_3!$P$34,ROWS($P$34:P78)-1,COLUMNS($P$34:P78)-1),\"\")","v":""},{"$f":"IF(OFFSET(DE104_3!$Q$34,ROWS($Q$34:Q78)-1,COLUMNS($Q$34:Q78)-1)<>\"\",OFFSET(DE104_3!$Q$34,ROWS($Q$34:Q78)-1,COLUMNS($Q$34:Q78)-1),\"\")","v":""},{"$f":"IF(OFFSET(DE104_3!$R$34,ROWS($R$34:R78)-1,COLUMNS($R$34:R78)-1)<>\"\",OFFSET(DE104_3!$R$34,ROWS($R$34:R78)-1,COLUMNS($R$34:R78)-1),\"\")","v":""},{"$f":"IF(OFFSET(DE104_3!$S$34,ROWS($S$34:S78)-1,COLUMNS($S$34:S78)-1)<>\"\",OFFSET(DE104_3!$S$34,ROWS($S$34:S78)-1,COLUMNS($S$34:S78)-1),\"\")","v":""},{"$f":"IF(OFFSET(DE104_3!$T$34,ROWS($T$34:T78)-1,COLUMNS($T$34:T78)-1)<>\"\",OFFSET(DE104_3!$T$34,ROWS($T$34:T78)-1,COLUMNS($T$34:T78)-1),\"\")","v":""},{"$f":"IF(OFFSET(DE104_3!$U$34,ROWS($U$34:U78)-1,COLUMNS($U$34:U78)-1)<>\"\",OFFSET(DE104_3!$U$34,ROWS($U$34:U78)-1,COLUMNS($U$34:U78)-1),\"\")","v":""},{"$f":"IF(OFFSET(DE104_3!$V$34,ROWS($V$34:V78)-1,COLUMNS($V$34:V78)-1)<>\"\",OFFSET(DE104_3!$V$34,ROWS($V$34:V78)-1,COLUMNS($V$34:V78)-1),\"\")","v":"Type 3"},{"$f":"IF(OFFSET(DE104_3!$W$34,ROWS($W$34:W78)-1,COLUMNS($W$34:W78)-1)<>\"\",OFFSET(DE104_3!$W$34,ROWS($W$34:W78)-1,COLUMNS($W$34:W78)-1),\"\")","v":""},{"$f":"IF(OFFSET(DE104_3!$X$34,ROWS($X$34:X78)-1,COLUMNS($X$34:X78)-1)<>\"\",OFFSET(DE104_3!$X$34,ROWS($X$34:X78)-1,COLUMNS($X$34:X78)-1),\"\")","v":909.15},{"$f":"IF(OFFSET(DE104_3!$Y$34,ROWS($Y$34:Y78)-1,COLUMNS($Y$34:Y78)-1)<>\"\",OFFSET(DE104_3!$Y$34,ROWS($Y$34:Y78)-1,COLUMNS($Y$34:Y78)-1),\"\")","v":908.66},{"$f":"IF(OFFSET(DE104_3!$Z$34,ROWS($Z$34:Z78)-1,COLUMNS($Z$34:Z78)-1)<>\"\",OFFSET(DE104_3!$Z$34,ROWS($Z$34:Z78)-1,COLUMNS($Z$34:Z78)-1),\"\")","v":""},{"$f":"IF(OFFSET(DE104_3!$AA$34,ROWS($AA$34:AA78)-1,COLUMNS($AA$34:AA78)-1)<>\"\",OFFSET(DE104_3!$AA$34,ROWS($AA$34:AA78)-1,COLUMNS($AA$34:AA78)-1),\"\")","v":""},{"$f":"IF(OFFSET(DE104_3!$AB$34,ROWS($AB$34:AB78)-1,COLUMNS($AB$34:AB78)-1)<>\"\",OFFSET(DE104_3!$AB$34,ROWS($AB$34:AB78)-1,COLUMNS($AB$34:AB78)-1),\"\")","v":86},{"$f":"IF(OFFSET(DE104_3!$AC$34,ROWS($AC$34:AC78)-1,COLUMNS($AC$34:AC78)-1)<>\"\",OFFSET(DE104_3!$AC$34,ROWS($AC$34:AC78)-1,COLUMNS($AC$34:AC78)-1),\"\")","v":14},{"$f":"IF(OFFSET(DE104_3!$AD$34,ROWS($AD$34:AD78)-1,COLUMNS($AD$34:AD78)-1)<>\"\",OFFSET(DE104_3!$AD$34,ROWS($AD$34:AD78)-1,COLUMNS($AD$34:AD78)-1),\"\")","v":""},{"$f":"IF(OFFSET(DE104_3!$AE$34,ROWS($AE$34:AE78)-1,COLUMNS($AE$34:AE78)-1)<>\"\",OFFSET(DE104_3!$AE$34,ROWS($AE$34:AE78)-1,COLUMNS($AE$34:AE78)-1),\"\")","v":""},{"$f":"IF(OFFSET(DE104_3!$AF$34,ROWS($AF$34:AF78)-1,COLUMNS($AF$34:AF78)-1)<>\"\",OFFSET(DE104_3!$AF$34,ROWS($AF$34:AF78)-1,COLUMNS($AF$34:AF78)-1),\"\")","v":""},{"$f":"IF(OFFSET(DE104_3!$AG$34,ROWS($AG$34:AG78)-1,COLUMNS($AG$34:AG78)-1)<>\"\",OFFSET(DE104_3!$AG$34,ROWS($AG$34:AG78)-1,COLUMNS($AG$34:AG78)-1),\"\")","v":""},{"$f":"IF(OFFSET(DE104_3!$AH$34,ROWS($AH$34:AH78)-1,COLUMNS($AH$34:AH78)-1)<>\"\",OFFSET(DE104_3!$AH$34,ROWS($AH$34:AH78)-1,COLUMNS($AH$34:AH78)-1),\"\")","v":"LT"},{"$f":"IF(OFFSET(DE104_3!$AI$34,ROWS($AI$34:AI78)-1,COLUMNS($AI$34:AI78)-1)<>\"\",OFFSET(DE104_3!$AI$34,ROWS($AI$34:AI78)-1,COLUMNS($AI$34:AI78)-1),\"\")","v":146975},{"$f":"IF(OFFSET(DE104_3!$AJ$34,ROWS($AJ$34:AJ78)-1,COLUMNS($AJ$34:AJ78)-1)<>\"\",OFFSET(DE104_3!$AJ$34,ROWS($AJ$34:AJ78)-1,COLUMNS($AJ$34:AJ78)-1),\"\")","v":910.85},{"$f":"IF(OFFSET(DE104_3!$AK$34,ROWS($AK$34:AK78)-1,COLUMNS($AK$34:AK78)-1)<>\"\",OFFSET(DE104_3!$AK$34,ROWS($AK$34:AK78)-1,COLUMNS($AK$34:AK78)-1),\"\")","v":"M"},{"$f":"IF(OFFSET(DE104_3!$AL$34,ROWS($AL$34:AL78)-1,COLUMNS($AL$34:AL78)-1)<>\"\",OFFSET(DE104_3!$AL$34,ROWS($AL$34:AL78)-1,COLUMNS($AL$34:AL78)-1),\"\")","v":121.36},{"$f":"IF(OFFSET(DE104_3!$AM$34,ROWS($AM$34:AM78)-1,COLUMNS($AM$34:AM78)-1)<>\"\",OFFSET(DE104_3!$AM$34,ROWS($AM$34:AM78)-1,COLUMNS($AM$34:AM78)-1),\"\")","v":""},{"$f":"IF(OFFSET(DE104_3!$AN$34,ROWS($AN$34:AN78)-1,COLUMNS($AN$34:AN78)-1)<>\"\",OFFSET(DE104_3!$AN$34,ROWS($AN$34:AN78)-1,COLUMNS($AN$34:AN78)-1),\"\")","v":26.571851851851854},{"$f":"IF(OFFSET(DE104_3!$AO$34,ROWS($AO$34:AO78)-1,COLUMNS($AO$34:AO78)-1)<>\"\",OFFSET(DE104_3!$AO$34,ROWS($AO$34:AO78)-1,COLUMNS($AO$34:AO78)-1),\"\")","v":6.3259259259259251},{"$f":"IF(OFFSET(DE104_3!$AP$34,ROWS($AP$34:AP78)-1,COLUMNS($AP$34:AP78)-1)<>\"\",OFFSET(DE104_3!$AP$34,ROWS($AP$34:AP78)-1,COLUMNS($AP$34:AP78)-1),\"\")","v":32.897777777777776},{"$f":"IF(OFFSET(DE104_3!$AQ$34,ROWS($AQ$34:AQ78)-1,COLUMNS($AQ$34:AQ78)-1)<>\"\",OFFSET(DE104_3!$AQ$34,ROWS($AQ$34:AQ78)-1,COLUMNS($AQ$34:AQ78)-1),\"\")","v":""}]
[{"$f":"IF(OFFSET(DE104_3!$C$34,ROWS($C$34:C79)-1,COLUMNS($C$34:C79)-1)<>\"\",OFFSET(DE104_3!$C$34,ROWS($C$34:C79)-1,COLUMNS($C$34:C79)-1),\"\")","v":""},{"$f":"IF(OFFSET(DE104_3!$D$34,ROWS($D$34:D79)-1,COLUMNS($D$34:D79)-1)<>\"\",OFFSET(DE104_3!$D$34,ROWS($D$34:D79)-1,COLUMNS($D$34:D79)-1),\"\")","v":""},{"$f":"IF(OFFSET(DE104_3!$E$34,ROWS($E$34:E79)-1,COLUMNS($E$34:E79)-1)<>\"\",OFFSET(DE104_3!$E$34,ROWS($E$34:E79)-1,COLUMNS($E$34:E79)-1),\"\")","v":""},{"$f":"IF(OFFSET(DE104_3!$F$34,ROWS($F$34:F79)-1,COLUMNS($F$34:F79)-1)<>\"\",OFFSET(DE104_3!$F$34,ROWS($F$34:F79)-1,COLUMNS($F$34:F79)-1),\"\")","v":""},{"$f":"IF(OFFSET(DE104_3!$G$34,ROWS($G$34:G79)-1,COLUMNS($G$34:G79)-1)<>\"\",OFFSET(DE104_3!$G$34,ROWS($G$34:G79)-1,COLUMNS($G$34:G79)-1),\"\")","v":""},{"$f":"IF(OFFSET(DE104_3!$H$34,ROWS($H$34:H79)-1,COLUMNS($H$34:H79)-1)<>\"\",OFFSET(DE104_3!$H$34,ROWS($H$34:H79)-1,COLUMNS($H$34:H79)-1),\"\")","v":""},{"$f":"IF(OFFSET(DE104_3!$I$34,ROWS($I$34:I79)-1,COLUMNS($I$34:I79)-1)<>\"\",OFFSET(DE104_3!$I$34,ROWS($I$34:I79)-1,COLUMNS($I$34:I79)-1),\"\")","v":""},{"$f":"IF(OFFSET(DE104_3!$J$34,ROWS($J$34:J79)-1,COLUMNS($J$34:J79)-1)<>\"\",OFFSET(DE104_3!$J$34,ROWS($J$34:J79)-1,COLUMNS($J$34:J79)-1),\"\")","v":""},{"$f":"IF(OFFSET(DE104_3!$K$34,ROWS($K$34:K79)-1,COLUMNS($K$34:K79)-1)<>\"\",OFFSET(DE104_3!$K$34,ROWS($K$34:K79)-1,COLUMNS($K$34:K79)-1),\"\")","v":""},{"$f":"IF(OFFSET(DE104_3!$L$34,ROWS($L$34:L79)-1,COLUMNS($L$34:L79)-1)<>\"\",OFFSET(DE104_3!$L$34,ROWS($L$34:L79)-1,COLUMNS($L$34:L79)-1),\"\")","v":""},{"$f":"IF(OFFSET(DE104_3!$M$34,ROWS($M$34:M79)-1,COLUMNS($M$34:M79)-1)<>\"\",OFFSET(DE104_3!$M$34,ROWS($M$34:M79)-1,COLUMNS($M$34:M79)-1),\"\")","v":""},{"$f":"IF(OFFSET(DE104_3!$N$34,ROWS($N$34:N79)-1,COLUMNS($N$34:N79)-1)<>\"\",OFFSET(DE104_3!$N$34,ROWS($N$34:N79)-1,COLUMNS($N$34:N79)-1),\"\")","v":""},{"$f":"IF(OFFSET(DE104_3!$O$34,ROWS($O$34:O79)-1,COLUMNS($O$34:O79)-1)<>\"\",OFFSET(DE104_3!$O$34,ROWS($O$34:O79)-1,COLUMNS($O$34:O79)-1),\"\")","v":""},{"$f":"IF(OFFSET(DE104_3!$P$34,ROWS($P$34:P79)-1,COLUMNS($P$34:P79)-1)<>\"\",OFFSET(DE104_3!$P$34,ROWS($P$34:P79)-1,COLUMNS($P$34:P79)-1),\"\")","v":""},{"$f":"IF(OFFSET(DE104_3!$Q$34,ROWS($Q$34:Q79)-1,COLUMNS($Q$34:Q79)-1)<>\"\",OFFSET(DE104_3!$Q$34,ROWS($Q$34:Q79)-1,COLUMNS($Q$34:Q79)-1),\"\")","v":""},{"$f":"IF(OFFSET(DE104_3!$R$34,ROWS($R$34:R79)-1,COLUMNS($R$34:R79)-1)<>\"\",OFFSET(DE104_3!$R$34,ROWS($R$34:R79)-1,COLUMNS($R$34:R79)-1),\"\")","v":""},{"$f":"IF(OFFSET(DE104_3!$S$34,ROWS($S$34:S79)-1,COLUMNS($S$34:S79)-1)<>\"\",OFFSET(DE104_3!$S$34,ROWS($S$34:S79)-1,COLUMNS($S$34:S79)-1),\"\")","v":""},{"$f":"IF(OFFSET(DE104_3!$T$34,ROWS($T$34:T79)-1,COLUMNS($T$34:T79)-1)<>\"\",OFFSET(DE104_3!$T$34,ROWS($T$34:T79)-1,COLUMNS($T$34:T79)-1),\"\")","v":""},{"$f":"IF(OFFSET(DE104_3!$U$34,ROWS($U$34:U79)-1,COLUMNS($U$34:U79)-1)<>\"\",OFFSET(DE104_3!$U$34,ROWS($U$34:U79)-1,COLUMNS($U$34:U79)-1),\"\")","v":""},{"$f":"IF(OFFSET(DE104_3!$V$34,ROWS($V$34:V79)-1,COLUMNS($V$34:V79)-1)<>\"\",OFFSET(DE104_3!$V$34,ROWS($V$34:V79)-1,COLUMNS($V$34:V79)-1),\"\")","v":""},{"$f":"IF(OFFSET(DE104_3!$W$34,ROWS($W$34:W79)-1,COLUMNS($W$34:W79)-1)<>\"\",OFFSET(DE104_3!$W$34,ROWS($W$34:W79)-1,COLUMNS($W$34:W79)-1),\"\")","v":""},{"$f":"IF(OFFSET(DE104_3!$X$34,ROWS($X$34:X79)-1,COLUMNS($X$34:X79)-1)<>\"\",OFFSET(DE104_3!$X$34,ROWS($X$34:X79)-1,COLUMNS($X$34:X79)-1),\"\")","v":""},{"$f":"IF(OFFSET(DE104_3!$Y$34,ROWS($Y$34:Y79)-1,COLUMNS($Y$34:Y79)-1)<>\"\",OFFSET(DE104_3!$Y$34,ROWS($Y$34:Y79)-1,COLUMNS($Y$34:Y79)-1),\"\")","v":""},{"$f":"IF(OFFSET(DE104_3!$Z$34,ROWS($Z$34:Z79)-1,COLUMNS($Z$34:Z79)-1)<>\"\",OFFSET(DE104_3!$Z$34,ROWS($Z$34:Z79)-1,COLUMNS($Z$34:Z79)-1),\"\")","v":""},{"$f":"IF(OFFSET(DE104_3!$AA$34,ROWS($AA$34:AA79)-1,COLUMNS($AA$34:AA79)-1)<>\"\",OFFSET(DE104_3!$AA$34,ROWS($AA$34:AA79)-1,COLUMNS($AA$34:AA79)-1),\"\")","v":""},{"$f":"IF(OFFSET(DE104_3!$AB$34,ROWS($AB$34:AB79)-1,COLUMNS($AB$34:AB79)-1)<>\"\",OFFSET(DE104_3!$AB$34,ROWS($AB$34:AB79)-1,COLUMNS($AB$34:AB79)-1),\"\")","v":""},{"$f":"IF(OFFSET(DE104_3!$AC$34,ROWS($AC$34:AC79)-1,COLUMNS($AC$34:AC79)-1)<>\"\",OFFSET(DE104_3!$AC$34,ROWS($AC$34:AC79)-1,COLUMNS($AC$34:AC79)-1),\"\")","v":""},{"$f":"IF(OFFSET(DE104_3!$AD$34,ROWS($AD$34:AD79)-1,COLUMNS($AD$34:AD79)-1)<>\"\",OFFSET(DE104_3!$AD$34,ROWS($AD$34:AD79)-1,COLUMNS($AD$34:AD79)-1),\"\")","v":""},{"$f":"IF(OFFSET(DE104_3!$AE$34,ROWS($AE$34:AE79)-1,COLUMNS($AE$34:AE79)-1)<>\"\",OFFSET(DE104_3!$AE$34,ROWS($AE$34:AE79)-1,COLUMNS($AE$34:AE79)-1),\"\")","v":""},{"$f":"IF(OFFSET(DE104_3!$AF$34,ROWS($AF$34:AF79)-1,COLUMNS($AF$34:AF79)-1)<>\"\",OFFSET(DE104_3!$AF$34,ROWS($AF$34:AF79)-1,COLUMNS($AF$34:AF79)-1),\"\")","v":""},{"$f":"IF(OFFSET(DE104_3!$AG$34,ROWS($AG$34:AG79)-1,COLUMNS($AG$34:AG79)-1)<>\"\",OFFSET(DE104_3!$AG$34,ROWS($AG$34:AG79)-1,COLUMNS($AG$34:AG79)-1),\"\")","v":""},{"$f":"IF(OFFSET(DE104_3!$AH$34,ROWS($AH$34:AH79)-1,COLUMNS($AH$34:AH79)-1)<>\"\",OFFSET(DE104_3!$AH$34,ROWS($AH$34:AH79)-1,COLUMNS($AH$34:AH79)-1),\"\")","v":"MED"},{"$f":"IF(OFFSET(DE104_3!$AI$34,ROWS($AI$34:AI79)-1,COLUMNS($AI$34:AI79)-1)<>\"\",OFFSET(DE104_3!$AI$34,ROWS($AI$34:AI79)-1,COLUMNS($AI$34:AI79)-1),\"\")","v":147000},{"$f":"IF(OFFSET(DE104_3!$AJ$34,ROWS($AJ$34:AJ79)-1,COLUMNS($AJ$34:AJ79)-1)<>\"\",OFFSET(DE104_3!$AJ$34,ROWS($AJ$34:AJ79)-1,COLUMNS($AJ$34:AJ79)-1),\"\")","v":913.69},{"$f":"IF(OFFSET(DE104_3!$AK$34,ROWS($AK$34:AK79)-1,COLUMNS($AK$34:AK79)-1)<>\"\",OFFSET(DE104_3!$AK$34,ROWS($AK$34:AK79)-1,COLUMNS($AK$34:AK79)-1),\"\")","v":"M"},{"$f":"IF(OFFSET(DE104_3!$AL$34,ROWS($AL$34:AL79)-1,COLUMNS($AL$34:AL79)-1)<>\"\",OFFSET(DE104_3!$AL$34,ROWS($AL$34:AL79)-1,COLUMNS($AL$34:AL79)-1),\"\")","v":""},{"$f":"IF(OFFSET(DE104_3!$AM$34,ROWS($AM$34:AM79)-1,COLUMNS($AM$34:AM79)-1)<>\"\",OFFSET(DE104_3!$AM$34,ROWS($AM$34:AM79)-1,COLUMNS($AM$34:AM79)-1),\"\")","v":""},{"$f":"IF(OFFSET(DE104_3!$AN$34,ROWS($AN$34:AN79)-1,COLUMNS($AN$34:AN79)-1)<>\"\",OFFSET(DE104_3!$AN$34,ROWS($AN$34:AN79)-1,COLUMNS($AN$34:AN79)-1),\"\")","v":""},{"$f":"IF(OFFSET(DE104_3!$AO$34,ROWS($AO$34:AO79)-1,COLUMNS($AO$34:AO79)-1)<>\"\",OFFSET(DE104_3!$AO$34,ROWS($AO$34:AO79)-1,COLUMNS($AO$34:AO79)-1),\"\")","v":""},{"$f":"IF(OFFSET(DE104_3!$AP$34,ROWS($AP$34:AP79)-1,COLUMNS($AP$34:AP79)-1)<>\"\",OFFSET(DE104_3!$AP$34,ROWS($AP$34:AP79)-1,COLUMNS($AP$34:AP79)-1),\"\")","v":""},{"$f":"IF(OFFSET(DE104_3!$AQ$34,ROWS($AQ$34:AQ79)-1,COLUMNS($AQ$34:AQ79)-1)<>\"\",OFFSET(DE104_3!$AQ$34,ROWS($AQ$34:AQ79)-1,COLUMNS($AQ$34:AQ79)-1),\"\")","v":""}]
[{"$f":"IF(OFFSET(DE104_3!$C$34,ROWS($C$34:C80)-1,COLUMNS($C$34:C80)-1)<>\"\",OFFSET(DE104_3!$C$34,ROWS($C$34:C80)-1,COLUMNS($C$34:C80)-1),\"\")","v":"MED"},{"$f":"IF(OFFSET(DE104_3!$D$34,ROWS($D$34:D80)-1,COLUMNS($D$34:D80)-1)<>\"\",OFFSET(DE104_3!$D$34,ROWS($D$34:D80)-1,COLUMNS($D$34:D80)-1),\"\")","v":147700},{"$f":"IF(OFFSET(DE104_3!$E$34,ROWS($E$34:E80)-1,COLUMNS($E$34:E80)-1)<>\"\",OFFSET(DE104_3!$E$34,ROWS($E$34:E80)-1,COLUMNS($E$34:E80)-1),\"\")","v":""},{"$f":"IF(OFFSET(DE104_3!$F$34,ROWS($F$34:F80)-1,COLUMNS($F$34:F80)-1)<>\"\",OFFSET(DE104_3!$F$34,ROWS($F$34:F80)-1,COLUMNS($F$34:F80)-1),\"\")","v":""},{"$f":"IF(OFFSET(DE104_3!$G$34,ROWS($G$34:G80)-1,COLUMNS($G$34:G80)-1)<>\"\",OFFSET(DE104_3!$G$34,ROWS($G$34:G80)-1,COLUMNS($G$34:G80)-1),\"\")","v":2000},{"$f":"IF(OFFSET(DE104_3!$H$34,ROWS($H$34:H80)-1,COLUMNS($H$34:H80)-1)<>\"\",OFFSET(DE104_3!$H$34,ROWS($H$34:H80)-1,COLUMNS($H$34:H80)-1),\"\")","v":""},{"$f":"IF(OFFSET(DE104_3!$I$34,ROWS($I$34:I80)-1,COLUMNS($I$34:I80)-1)<>\"\",OFFSET(DE104_3!$I$34,ROWS($I$34:I80)-1,COLUMNS($I$34:I80)-1),\"\")","v":""},{"$f":"IF(OFFSET(DE104_3!$J$34,ROWS($J$34:J80)-1,COLUMNS($J$34:J80)-1)<>\"\",OFFSET(DE104_3!$J$34,ROWS($J$34:J80)-1,COLUMNS($J$34:J80)-1),\"\")","v":""},{"$f":"IF(OFFSET(DE104_3!$K$34,ROWS($K$34:K80)-1,COLUMNS($K$34:K80)-1)<>\"\",OFFSET(DE104_3!$K$34,ROWS($K$34:K80)-1,COLUMNS($K$34:K80)-1),\"\")","v":""},{"$f":"IF(OFFSET(DE104_3!$L$34,ROWS($L$34:L80)-1,COLUMNS($L$34:L80)-1)<>\"\",OFFSET(DE104_3!$L$34,ROWS($L$34:L80)-1,COLUMNS($L$34:L80)-1),\"\")","v":""},{"$f":"IF(OFFSET(DE104_3!$M$34,ROWS($M$34:M80)-1,COLUMNS($M$34:M80)-1)<>\"\",OFFSET(DE104_3!$M$34,ROWS($M$34:M80)-1,COLUMNS($M$34:M80)-1),\"\")","v":""},{"$f":"IF(OFFSET(DE104_3!$N$34,ROWS($N$34:N80)-1,COLUMNS($N$34:N80)-1)<>\"\",OFFSET(DE104_3!$N$34,ROWS($N$34:N80)-1,COLUMNS($N$34:N80)-1),\"\")","v":""},{"$f":"IF(OFFSET(DE104_3!$O$34,ROWS($O$34:O80)-1,COLUMNS($O$34:O80)-1)<>\"\",OFFSET(DE104_3!$O$34,ROWS($O$34:O80)-1,COLUMNS($O$34:O80)-1),\"\")","v":""},{"$f":"IF(OFFSET(DE104_3!$P$34,ROWS($P$34:P80)-1,COLUMNS($P$34:P80)-1)<>\"\",OFFSET(DE104_3!$P$34,ROWS($P$34:P80)-1,COLUMNS($P$34:P80)-1),\"\")","v":""},{"$f":"IF(OFFSET(DE104_3!$Q$34,ROWS($Q$34:Q80)-1,COLUMNS($Q$34:Q80)-1)<>\"\",OFFSET(DE104_3!$Q$34,ROWS($Q$34:Q80)-1,COLUMNS($Q$34:Q80)-1),\"\")","v":""},{"$f":"IF(OFFSET(DE104_3!$R$34,ROWS($R$34:R80)-1,COLUMNS($R$34:R80)-1)<>\"\",OFFSET(DE104_3!$R$34,ROWS($R$34:R80)-1,COLUMNS($R$34:R80)-1),\"\")","v":""},{"$f":"IF(OFFSET(DE104_3!$S$34,ROWS($S$34:S80)-1,COLUMNS($S$34:S80)-1)<>\"\",OFFSET(DE104_3!$S$34,ROWS($S$34:S80)-1,COLUMNS($S$34:S80)-1),\"\")","v":""},{"$f":"IF(OFFSET(DE104_3!$T$34,ROWS($T$34:T80)-1,COLUMNS($T$34:T80)-1)<>\"\",OFFSET(DE104_3!$T$34,ROWS($T$34:T80)-1,COLUMNS($T$34:T80)-1),\"\")","v":""},{"$f":"IF(OFFSET(DE104_3!$U$34,ROWS($U$34:U80)-1,COLUMNS($U$34:U80)-1)<>\"\",OFFSET(DE104_3!$U$34,ROWS($U$34:U80)-1,COLUMNS($U$34:U80)-1),\"\")","v":""},{"$f":"IF(OFFSET(DE104_3!$V$34,ROWS($V$34:V80)-1,COLUMNS($V$34:V80)-1)<>\"\",OFFSET(DE104_3!$V$34,ROWS($V$34:V80)-1,COLUMNS($V$34:V80)-1),\"\")","v":""},{"$f":"IF(OFFSET(DE104_3!$W$34,ROWS($W$34:W80)-1,COLUMNS($W$34:W80)-1)<>\"\",OFFSET(DE104_3!$W$34,ROWS($W$34:W80)-1,COLUMNS($W$34:W80)-1),\"\")","v":""},{"$f":"IF(OFFSET(DE104_3!$X$34,ROWS($X$34:X80)-1,COLUMNS($X$34:X80)-1)<>\"\",OFFSET(DE104_3!$X$34,ROWS($X$34:X80)-1,COLUMNS($X$34:X80)-1),\"\")","v":""},{"$f":"IF(OFFSET(DE104_3!$Y$34,ROWS($Y$34:Y80)-1,COLUMNS($Y$34:Y80)-1)<>\"\",OFFSET(DE104_3!$Y$34,ROWS($Y$34:Y80)-1,COLUMNS($Y$34:Y80)-1),\"\")","v":""},{"$f":"IF(OFFSET(DE104_3!$Z$34,ROWS($Z$34:Z80)-1,COLUMNS($Z$34:Z80)-1)<>\"\",OFFSET(DE104_3!$Z$34,ROWS($Z$34:Z80)-1,COLUMNS($Z$34:Z80)-1),\"\")","v":""},{"$f":"IF(OFFSET(DE104_3!$AA$34,ROWS($AA$34:AA80)-1,COLUMNS($AA$34:AA80)-1)<>\"\",OFFSET(DE104_3!$AA$34,ROWS($AA$34:AA80)-1,COLUMNS($AA$34:AA80)-1),\"\")","v":""},{"$f":"IF(OFFSET(DE104_3!$AB$34,ROWS($AB$34:AB80)-1,COLUMNS($AB$34:AB80)-1)<>\"\",OFFSET(DE104_3!$AB$34,ROWS($AB$34:AB80)-1,COLUMNS($AB$34:AB80)-1),\"\")","v":""},{"$f":"IF(OFFSET(DE104_3!$AC$34,ROWS($AC$34:AC80)-1,COLUMNS($AC$34:AC80)-1)<>\"\",OFFSET(DE104_3!$AC$34,ROWS($AC$34:AC80)-1,COLUMNS($AC$34:AC80)-1),\"\")","v":""},{"$f":"IF(OFFSET(DE104_3!$AD$34,ROWS($AD$34:AD80)-1,COLUMNS($AD$34:AD80)-1)<>\"\",OFFSET(DE104_3!$AD$34,ROWS($AD$34:AD80)-1,COLUMNS($AD$34:AD80)-1),\"\")","v":""},{"$f":"IF(OFFSET(DE104_3!$AE$34,ROWS($AE$34:AE80)-1,COLUMNS($AE$34:AE80)-1)<>\"\",OFFSET(DE104_3!$AE$34,ROWS($AE$34:AE80)-1,COLUMNS($AE$34:AE80)-1),\"\")","v":""},{"$f":"IF(OFFSET(DE104_3!$AF$34,ROWS($AF$34:AF80)-1,COLUMNS($AF$34:AF80)-1)<>\"\",OFFSET(DE104_3!$AF$34,ROWS($AF$34:AF80)-1,COLUMNS($AF$34:AF80)-1),\"\")","v":""},{"$f":"IF(OFFSET(DE104_3!$AG$34,ROWS($AG$34:AG80)-1,COLUMNS($AG$34:AG80)-1)<>\"\",OFFSET(DE104_3!$AG$34,ROWS($AG$34:AG80)-1,COLUMNS($AG$34:AG80)-1),\"\")","v":""},{"$f":"IF(OFFSET(DE104_3!$AH$34,ROWS($AH$34:AH80)-1,COLUMNS($AH$34:AH80)-1)<>\"\",OFFSET(DE104_3!$AH$34,ROWS($AH$34:AH80)-1,COLUMNS($AH$34:AH80)-1),\"\")","v":"MED"},{"$f":"IF(OFFSET(DE104_3!$AI$34,ROWS($AI$34:AI80)-1,COLUMNS($AI$34:AI80)-1)<>\"\",OFFSET(DE104_3!$AI$34,ROWS($AI$34:AI80)-1,COLUMNS($AI$34:AI80)-1),\"\")","v":147685},{"$f":"IF(OFFSET(DE104_3!$AJ$34,ROWS($AJ$34:AJ80)-1,COLUMNS($AJ$34:AJ80)-1)<>\"\",OFFSET(DE104_3!$AJ$34,ROWS($AJ$34:AJ80)-1,COLUMNS($AJ$34:AJ80)-1),\"\")","v":921.82},{"$f":"IF(OFFSET(DE104_3!$AK$34,ROWS($AK$34:AK80)-1,COLUMNS($AK$34:AK80)-1)<>\"\",OFFSET(DE104_3!$AK$34,ROWS($AK$34:AK80)-1,COLUMNS($AK$34:AK80)-1),\"\")","v":"M"},{"$f":"IF(OFFSET(DE104_3!$AL$34,ROWS($AL$34:AL80)-1,COLUMNS($AL$34:AL80)-1)<>\"\",OFFSET(DE104_3!$AL$34,ROWS($AL$34:AL80)-1,COLUMNS($AL$34:AL80)-1),\"\")","v":""},{"$f":"IF(OFFSET(DE104_3!$AM$34,ROWS($AM$34:AM80)-1,COLUMNS($AM$34:AM80)-1)<>\"\",OFFSET(DE104_3!$AM$34,ROWS($AM$34:AM80)-1,COLUMNS($AM$34:AM80)-1),\"\")","v":""},{"$f":"IF(OFFSET(DE104_3!$AN$34,ROWS($AN$34:AN80)-1,COLUMNS($AN$34:AN80)-1)<>\"\",OFFSET(DE104_3!$AN$34,ROWS($AN$34:AN80)-1,COLUMNS($AN$34:AN80)-1),\"\")","v":""},{"$f":"IF(OFFSET(DE104_3!$AO$34,ROWS($AO$34:AO80)-1,COLUMNS($AO$34:AO80)-1)<>\"\",OFFSET(DE104_3!$AO$34,ROWS($AO$34:AO80)-1,COLUMNS($AO$34:AO80)-1),\"\")","v":""},{"$f":"IF(OFFSET(DE104_3!$AP$34,ROWS($AP$34:AP80)-1,COLUMNS($AP$34:AP80)-1)<>\"\",OFFSET(DE104_3!$AP$34,ROWS($AP$34:AP80)-1,COLUMNS($AP$34:AP80)-1),\"\")","v":""},{"$f":"IF(OFFSET(DE104_3!$AQ$34,ROWS($AQ$34:AQ80)-1,COLUMNS($AQ$34:AQ80)-1)<>\"\",OFFSET(DE104_3!$AQ$34,ROWS($AQ$34:AQ80)-1,COLUMNS($AQ$34:AQ80)-1),\"\")","v":""}]
[{"$f":"IF(OFFSET(DE104_3!$C$34,ROWS($C$34:C81)-1,COLUMNS($C$34:C81)-1)<>\"\",OFFSET(DE104_3!$C$34,ROWS($C$34:C81)-1,COLUMNS($C$34:C81)-1),\"\")","v":"MED"},{"$f":"IF(OFFSET(DE104_3!$D$34,ROWS($D$34:D81)-1,COLUMNS($D$34:D81)-1)<>\"\",OFFSET(DE104_3!$D$34,ROWS($D$34:D81)-1,COLUMNS($D$34:D81)-1),\"\")","v":150100},{"$f":"IF(OFFSET(DE104_3!$E$34,ROWS($E$34:E81)-1,COLUMNS($E$34:E81)-1)<>\"\",OFFSET(DE104_3!$E$34,ROWS($E$34:E81)-1,COLUMNS($E$34:E81)-1),\"\")","v":""},{"$f":"IF(OFFSET(DE104_3!$F$34,ROWS($F$34:F81)-1,COLUMNS($F$34:F81)-1)<>\"\",OFFSET(DE104_3!$F$34,ROWS($F$34:F81)-1,COLUMNS($F$34:F81)-1),\"\")","v":""},{"$f":"IF(OFFSET(DE104_3!$G$34,ROWS($G$34:G81)-1,COLUMNS($G$34:G81)-1)<>\"\",OFFSET(DE104_3!$G$34,ROWS($G$34:G81)-1,COLUMNS($G$34:G81)-1),\"\")","v":2000},{"$f":"IF(OFFSET(DE104_3!$H$34,ROWS($H$34:H81)-1,COLUMNS($H$34:H81)-1)<>\"\",OFFSET(DE104_3!$H$34,ROWS($H$34:H81)-1,COLUMNS($H$34:H81)-1),\"\")","v":""},{"$f":"IF(OFFSET(DE104_3!$I$34,ROWS($I$34:I81)-1,COLUMNS($I$34:I81)-1)<>\"\",OFFSET(DE104_3!$I$34,ROWS($I$34:I81)-1,COLUMNS($I$34:I81)-1),\"\")","v":""},{"$f":"IF(OFFSET(DE104_3!$J$34,ROWS($J$34:J81)-1,COLUMNS($J$34:J81)-1)<>\"\",OFFSET(DE104_3!$J$34,ROWS($J$34:J81)-1,COLUMNS($J$34:J81)-1),\"\")","v":""},{"$f":"IF(OFFSET(DE104_3!$K$34,ROWS($K$34:K81)-1,COLUMNS($K$34:K81)-1)<>\"\",OFFSET(DE104_3!$K$34,ROWS($K$34:K81)-1,COLUMNS($K$34:K81)-1),\"\")","v":""},{"$f":"IF(OFFSET(DE104_3!$L$34,ROWS($L$34:L81)-1,COLUMNS($L$34:L81)-1)<>\"\",OFFSET(DE104_3!$L$34,ROWS($L$34:L81)-1,COLUMNS($L$34:L81)-1),\"\")","v":""},{"$f":"IF(OFFSET(DE104_3!$M$34,ROWS($M$34:M81)-1,COLUMNS($M$34:M81)-1)<>\"\",OFFSET(DE104_3!$M$34,ROWS($M$34:M81)-1,COLUMNS($M$34:M81)-1),\"\")","v":""},{"$f":"IF(OFFSET(DE104_3!$N$34,ROWS($N$34:N81)-1,COLUMNS($N$34:N81)-1)<>\"\",OFFSET(DE104_3!$N$34,ROWS($N$34:N81)-1,COLUMNS($N$34:N81)-1),\"\")","v":""},{"$f":"IF(OFFSET(DE104_3!$O$34,ROWS($O$34:O81)-1,COLUMNS($O$34:O81)-1)<>\"\",OFFSET(DE104_3!$O$34,ROWS($O$34:O81)-1,COLUMNS($O$34:O81)-1),\"\")","v":""},{"$f":"IF(OFFSET(DE104_3!$P$34,ROWS($P$34:P81)-1,COLUMNS($P$34:P81)-1)<>\"\",OFFSET(DE104_3!$P$34,ROWS($P$34:P81)-1,COLUMNS($P$34:P81)-1),\"\")","v":""},{"$f":"IF(OFFSET(DE104_3!$Q$34,ROWS($Q$34:Q81)-1,COLUMNS($Q$34:Q81)-1)<>\"\",OFFSET(DE104_3!$Q$34,ROWS($Q$34:Q81)-1,COLUMNS($Q$34:Q81)-1),\"\")","v":""},{"$f":"IF(OFFSET(DE104_3!$R$34,ROWS($R$34:R81)-1,COLUMNS($R$34:R81)-1)<>\"\",OFFSET(DE104_3!$R$34,ROWS($R$34:R81)-1,COLUMNS($R$34:R81)-1),\"\")","v":""},{"$f":"IF(OFFSET(DE104_3!$S$34,ROWS($S$34:S81)-1,COLUMNS($S$34:S81)-1)<>\"\",OFFSET(DE104_3!$S$34,ROWS($S$34:S81)-1,COLUMNS($S$34:S81)-1),\"\")","v":""},{"$f":"IF(OFFSET(DE104_3!$T$34,ROWS($T$34:T81)-1,COLUMNS($T$34:T81)-1)<>\"\",OFFSET(DE104_3!$T$34,ROWS($T$34:T81)-1,COLUMNS($T$34:T81)-1),\"\")","v":""},{"$f":"IF(OFFSET(DE104_3!$U$34,ROWS($U$34:U81)-1,COLUMNS($U$34:U81)-1)<>\"\",OFFSET(DE104_3!$U$34,ROWS($U$34:U81)-1,COLUMNS($U$34:U81)-1),\"\")","v":""},{"$f":"IF(OFFSET(DE104_3!$V$34,ROWS($V$34:V81)-1,COLUMNS($V$34:V81)-1)<>\"\",OFFSET(DE104_3!$V$34,ROWS($V$34:V81)-1,COLUMNS($V$34:V81)-1),\"\")","v":""},{"$f":"IF(OFFSET(DE104_3!$W$34,ROWS($W$34:W81)-1,COLUMNS($W$34:W81)-1)<>\"\",OFFSET(DE104_3!$W$34,ROWS($W$34:W81)-1,COLUMNS($W$34:W81)-1),\"\")","v":""},{"$f":"IF(OFFSET(DE104_3!$X$34,ROWS($X$34:X81)-1,COLUMNS($X$34:X81)-1)<>\"\",OFFSET(DE104_3!$X$34,ROWS($X$34:X81)-1,COLUMNS($X$34:X81)-1),\"\")","v":""},{"$f":"IF(OFFSET(DE104_3!$Y$34,ROWS($Y$34:Y81)-1,COLUMNS($Y$34:Y81)-1)<>\"\",OFFSET(DE104_3!$Y$34,ROWS($Y$34:Y81)-1,COLUMNS($Y$34:Y81)-1),\"\")","v":""},{"$f":"IF(OFFSET(DE104_3!$Z$34,ROWS($Z$34:Z81)-1,COLUMNS($Z$34:Z81)-1)<>\"\",OFFSET(DE104_3!$Z$34,ROWS($Z$34:Z81)-1,COLUMNS($Z$34:Z81)-1),\"\")","v":""},{"$f":"IF(OFFSET(DE104_3!$AA$34,ROWS($AA$34:AA81)-1,COLUMNS($AA$34:AA81)-1)<>\"\",OFFSET(DE104_3!$AA$34,ROWS($AA$34:AA81)-1,COLUMNS($AA$34:AA81)-1),\"\")","v":""},{"$f":"IF(OFFSET(DE104_3!$AB$34,ROWS($AB$34:AB81)-1,COLUMNS($AB$34:AB81)-1)<>\"\",OFFSET(DE104_3!$AB$34,ROWS($AB$34:AB81)-1,COLUMNS($AB$34:AB81)-1),\"\")","v":""},{"$f":"IF(OFFSET(DE104_3!$AC$34,ROWS($AC$34:AC81)-1,COLUMNS($AC$34:AC81)-1)<>\"\",OFFSET(DE104_3!$AC$34,ROWS($AC$34:AC81)-1,COLUMNS($AC$34:AC81)-1),\"\")","v":""},{"$f":"IF(OFFSET(DE104_3!$AD$34,ROWS($AD$34:AD81)-1,COLUMNS($AD$34:AD81)-1)<>\"\",OFFSET(DE104_3!$AD$34,ROWS($AD$34:AD81)-1,COLUMNS($AD$34:AD81)-1),\"\")","v":""},{"$f":"IF(OFFSET(DE104_3!$AE$34,ROWS($AE$34:AE81)-1,COLUMNS($AE$34:AE81)-1)<>\"\",OFFSET(DE104_3!$AE$34,ROWS($AE$34:AE81)-1,COLUMNS($AE$34:AE81)-1),\"\")","v":""},{"$f":"IF(OFFSET(DE104_3!$AF$34,ROWS($AF$34:AF81)-1,COLUMNS($AF$34:AF81)-1)<>\"\",OFFSET(DE104_3!$AF$34,ROWS($AF$34:AF81)-1,COLUMNS($AF$34:AF81)-1),\"\")","v":""},{"$f":"IF(OFFSET(DE104_3!$AG$34,ROWS($AG$34:AG81)-1,COLUMNS($AG$34:AG81)-1)<>\"\",OFFSET(DE104_3!$AG$34,ROWS($AG$34:AG81)-1,COLUMNS($AG$34:AG81)-1),\"\")","v":""},{"$f":"IF(OFFSET(DE104_3!$AH$34,ROWS($AH$34:AH81)-1,COLUMNS($AH$34:AH81)-1)<>\"\",OFFSET(DE104_3!$AH$34,ROWS($AH$34:AH81)-1,COLUMNS($AH$34:AH81)-1),\"\")","v":"MED"},{"$f":"IF(OFFSET(DE104_3!$AI$34,ROWS($AI$34:AI81)-1,COLUMNS($AI$34:AI81)-1)<>\"\",OFFSET(DE104_3!$AI$34,ROWS($AI$34:AI81)-1,COLUMNS($AI$34:AI81)-1),\"\")","v":150115},{"$f":"IF(OFFSET(DE104_3!$AJ$34,ROWS($AJ$34:AJ81)-1,COLUMNS($AJ$34:AJ81)-1)<>\"\",OFFSET(DE104_3!$AJ$34,ROWS($AJ$34:AJ81)-1,COLUMNS($AJ$34:AJ81)-1),\"\")","v":931},{"$f":"IF(OFFSET(DE104_3!$AK$34,ROWS($AK$34:AK81)-1,COLUMNS($AK$34:AK81)-1)<>\"\",OFFSET(DE104_3!$AK$34,ROWS($AK$34:AK81)-1,COLUMNS($AK$34:AK81)-1),\"\")","v":"M"},{"$f":"IF(OFFSET(DE104_3!$AL$34,ROWS($AL$34:AL81)-1,COLUMNS($AL$34:AL81)-1)<>\"\",OFFSET(DE104_3!$AL$34,ROWS($AL$34:AL81)-1,COLUMNS($AL$34:AL81)-1),\"\")","v":""},{"$f":"IF(OFFSET(DE104_3!$AM$34,ROWS($AM$34:AM81)-1,COLUMNS($AM$34:AM81)-1)<>\"\",OFFSET(DE104_3!$AM$34,ROWS($AM$34:AM81)-1,COLUMNS($AM$34:AM81)-1),\"\")","v":""},{"$f":"IF(OFFSET(DE104_3!$AN$34,ROWS($AN$34:AN81)-1,COLUMNS($AN$34:AN81)-1)<>\"\",OFFSET(DE104_3!$AN$34,ROWS($AN$34:AN81)-1,COLUMNS($AN$34:AN81)-1),\"\")","v":""},{"$f":"IF(OFFSET(DE104_3!$AO$34,ROWS($AO$34:AO81)-1,COLUMNS($AO$34:AO81)-1)<>\"\",OFFSET(DE104_3!$AO$34,ROWS($AO$34:AO81)-1,COLUMNS($AO$34:AO81)-1),\"\")","v":""},{"$f":"IF(OFFSET(DE104_3!$AP$34,ROWS($AP$34:AP81)-1,COLUMNS($AP$34:AP81)-1)<>\"\",OFFSET(DE104_3!$AP$34,ROWS($AP$34:AP81)-1,COLUMNS($AP$34:AP81)-1),\"\")","v":""},{"$f":"IF(OFFSET(DE104_3!$AQ$34,ROWS($AQ$34:AQ81)-1,COLUMNS($AQ$34:AQ81)-1)<>\"\",OFFSET(DE104_3!$AQ$34,ROWS($AQ$34:AQ81)-1,COLUMNS($AQ$34:AQ81)-1),\"\")","v":""}]
[{"$f":"IF(OFFSET(DE104_3!$C$34,ROWS($C$34:C82)-1,COLUMNS($C$34:C82)-1)<>\"\",OFFSET(DE104_3!$C$34,ROWS($C$34:C82)-1,COLUMNS($C$34:C82)-1),\"\")","v":""},{"$f":"IF(OFFSET(DE104_3!$D$34,ROWS($D$34:D82)-1,COLUMNS($D$34:D82)-1)<>\"\",OFFSET(DE104_3!$D$34,ROWS($D$34:D82)-1,COLUMNS($D$34:D82)-1),\"\")","v":""},{"$f":"IF(OFFSET(DE104_3!$E$34,ROWS($E$34:E82)-1,COLUMNS($E$34:E82)-1)<>\"\",OFFSET(DE104_3!$E$34,ROWS($E$34:E82)-1,COLUMNS($E$34:E82)-1),\"\")","v":""},{"$f":"IF(OFFSET(DE104_3!$F$34,ROWS($F$34:F82)-1,COLUMNS($F$34:F82)-1)<>\"\",OFFSET(DE104_3!$F$34,ROWS($F$34:F82)-1,COLUMNS($F$34:F82)-1),\"\")","v":""},{"$f":"IF(OFFSET(DE104_3!$G$34,ROWS($G$34:G82)-1,COLUMNS($G$34:G82)-1)<>\"\",OFFSET(DE104_3!$G$34,ROWS($G$34:G82)-1,COLUMNS($G$34:G82)-1),\"\")","v":""},{"$f":"IF(OFFSET(DE104_3!$H$34,ROWS($H$34:H82)-1,COLUMNS($H$34:H82)-1)<>\"\",OFFSET(DE104_3!$H$34,ROWS($H$34:H82)-1,COLUMNS($H$34:H82)-1),\"\")","v":""},{"$f":"IF(OFFSET(DE104_3!$I$34,ROWS($I$34:I82)-1,COLUMNS($I$34:I82)-1)<>\"\",OFFSET(DE104_3!$I$34,ROWS($I$34:I82)-1,COLUMNS($I$34:I82)-1),\"\")","v":""},{"$f":"IF(OFFSET(DE104_3!$J$34,ROWS($J$34:J82)-1,COLUMNS($J$34:J82)-1)<>\"\",OFFSET(DE104_3!$J$34,ROWS($J$34:J82)-1,COLUMNS($J$34:J82)-1),\"\")","v":""},{"$f":"IF(OFFSET(DE104_3!$K$34,ROWS($K$34:K82)-1,COLUMNS($K$34:K82)-1)<>\"\",OFFSET(DE104_3!$K$34,ROWS($K$34:K82)-1,COLUMNS($K$34:K82)-1),\"\")","v":""},{"$f":"IF(OFFSET(DE104_3!$L$34,ROWS($L$34:L82)-1,COLUMNS($L$34:L82)-1)<>\"\",OFFSET(DE104_3!$L$34,ROWS($L$34:L82)-1,COLUMNS($L$34:L82)-1),\"\")","v":""},{"$f":"IF(OFFSET(DE104_3!$M$34,ROWS($M$34:M82)-1,COLUMNS($M$34:M82)-1)<>\"\",OFFSET(DE104_3!$M$34,ROWS($M$34:M82)-1,COLUMNS($M$34:M82)-1),\"\")","v":""},{"$f":"IF(OFFSET(DE104_3!$N$34,ROWS($N$34:N82)-1,COLUMNS($N$34:N82)-1)<>\"\",OFFSET(DE104_3!$N$34,ROWS($N$34:N82)-1,COLUMNS($N$34:N82)-1),\"\")","v":""},{"$f":"IF(OFFSET(DE104_3!$O$34,ROWS($O$34:O82)-1,COLUMNS($O$34:O82)-1)<>\"\",OFFSET(DE104_3!$O$34,ROWS($O$34:O82)-1,COLUMNS($O$34:O82)-1),\"\")","v":""},{"$f":"IF(OFFSET(DE104_3!$P$34,ROWS($P$34:P82)-1,COLUMNS($P$34:P82)-1)<>\"\",OFFSET(DE104_3!$P$34,ROWS($P$34:P82)-1,COLUMNS($P$34:P82)-1),\"\")","v":""},{"$f":"IF(OFFSET(DE104_3!$Q$34,ROWS($Q$34:Q82)-1,COLUMNS($Q$34:Q82)-1)<>\"\",OFFSET(DE104_3!$Q$34,ROWS($Q$34:Q82)-1,COLUMNS($Q$34:Q82)-1),\"\")","v":""},{"$f":"IF(OFFSET(DE104_3!$R$34,ROWS($R$34:R82)-1,COLUMNS($R$34:R82)-1)<>\"\",OFFSET(DE104_3!$R$34,ROWS($R$34:R82)-1,COLUMNS($R$34:R82)-1),\"\")","v":""},{"$f":"IF(OFFSET(DE104_3!$S$34,ROWS($S$34:S82)-1,COLUMNS($S$34:S82)-1)<>\"\",OFFSET(DE104_3!$S$34,ROWS($S$34:S82)-1,COLUMNS($S$34:S82)-1),\"\")","v":""},{"$f":"IF(OFFSET(DE104_3!$T$34,ROWS($T$34:T82)-1,COLUMNS($T$34:T82)-1)<>\"\",OFFSET(DE104_3!$T$34,ROWS($T$34:T82)-1,COLUMNS($T$34:T82)-1),\"\")","v":""},{"$f":"IF(OFFSET(DE104_3!$U$34,ROWS($U$34:U82)-1,COLUMNS($U$34:U82)-1)<>\"\",OFFSET(DE104_3!$U$34,ROWS($U$34:U82)-1,COLUMNS($U$34:U82)-1),\"\")","v":""},{"$f":"IF(OFFSET(DE104_3!$V$34,ROWS($V$34:V82)-1,COLUMNS($V$34:V82)-1)<>\"\",OFFSET(DE104_3!$V$34,ROWS($V$34:V82)-1,COLUMNS($V$34:V82)-1),\"\")","v":""},{"$f":"IF(OFFSET(DE104_3!$W$34,ROWS($W$34:W82)-1,COLUMNS($W$34:W82)-1)<>\"\",OFFSET(DE104_3!$W$34,ROWS($W$34:W82)-1,COLUMNS($W$34:W82)-1),\"\")","v":""},{"$f":"IF(OFFSET(DE104_3!$X$34,ROWS($X$34:X82)-1,COLUMNS($X$34:X82)-1)<>\"\",OFFSET(DE104_3!$X$34,ROWS($X$34:X82)-1,COLUMNS($X$34:X82)-1),\"\")","v":""},{"$f":"IF(OFFSET(DE104_3!$Y$34,ROWS($Y$34:Y82)-1,COLUMNS($Y$34:Y82)-1)<>\"\",OFFSET(DE104_3!$Y$34,ROWS($Y$34:Y82)-1,COLUMNS($Y$34:Y82)-1),\"\")","v":""},{"$f":"IF(OFFSET(DE104_3!$Z$34,ROWS($Z$34:Z82)-1,COLUMNS($Z$34:Z82)-1)<>\"\",OFFSET(DE104_3!$Z$34,ROWS($Z$34:Z82)-1,COLUMNS($Z$34:Z82)-1),\"\")","v":""},{"$f":"IF(OFFSET(DE104_3!$AA$34,ROWS($AA$34:AA82)-1,COLUMNS($AA$34:AA82)-1)<>\"\",OFFSET(DE104_3!$AA$34,ROWS($AA$34:AA82)-1,COLUMNS($AA$34:AA82)-1),\"\")","v":""},{"$f":"IF(OFFSET(DE104_3!$AB$34,ROWS($AB$34:AB82)-1,COLUMNS($AB$34:AB82)-1)<>\"\",OFFSET(DE104_3!$AB$34,ROWS($AB$34:AB82)-1,COLUMNS($AB$34:AB82)-1),\"\")","v":""},{"$f":"IF(OFFSET(DE104_3!$AC$34,ROWS($AC$34:AC82)-1,COLUMNS($AC$34:AC82)-1)<>\"\",OFFSET(DE104_3!$AC$34,ROWS($AC$34:AC82)-1,COLUMNS($AC$34:AC82)-1),\"\")","v":""},{"$f":"IF(OFFSET(DE104_3!$AD$34,ROWS($AD$34:AD82)-1,COLUMNS($AD$34:AD82)-1)<>\"\",OFFSET(DE104_3!$AD$34,ROWS($AD$34:AD82)-1,COLUMNS($AD$34:AD82)-1),\"\")","v":""},{"$f":"IF(OFFSET(DE104_3!$AE$34,ROWS($AE$34:AE82)-1,COLUMNS($AE$34:AE82)-1)<>\"\",OFFSET(DE104_3!$AE$34,ROWS($AE$34:AE82)-1,COLUMNS($AE$34:AE82)-1),\"\")","v":""},{"$f":"IF(OFFSET(DE104_3!$AF$34,ROWS($AF$34:AF82)-1,COLUMNS($AF$34:AF82)-1)<>\"\",OFFSET(DE104_3!$AF$34,ROWS($AF$34:AF82)-1,COLUMNS($AF$34:AF82)-1),\"\")","v":""},{"$f":"IF(OFFSET(DE104_3!$AG$34,ROWS($AG$34:AG82)-1,COLUMNS($AG$34:AG82)-1)<>\"\",OFFSET(DE104_3!$AG$34,ROWS($AG$34:AG82)-1,COLUMNS($AG$34:AG82)-1),\"\")","v":""},{"$f":"IF(OFFSET(DE104_3!$AH$34,ROWS($AH$34:AH82)-1,COLUMNS($AH$34:AH82)-1)<>\"\",OFFSET(DE104_3!$AH$34,ROWS($AH$34:AH82)-1,COLUMNS($AH$34:AH82)-1),\"\")","v":""},{"$f":"IF(OFFSET(DE104_3!$AI$34,ROWS($AI$34:AI82)-1,COLUMNS($AI$34:AI82)-1)<>\"\",OFFSET(DE104_3!$AI$34,ROWS($AI$34:AI82)-1,COLUMNS($AI$34:AI82)-1),\"\")","v":""},{"$f":"IF(OFFSET(DE104_3!$AJ$34,ROWS($AJ$34:AJ82)-1,COLUMNS($AJ$34:AJ82)-1)<>\"\",OFFSET(DE104_3!$AJ$34,ROWS($AJ$34:AJ82)-1,COLUMNS($AJ$34:AJ82)-1),\"\")","v":""},{"$f":"IF(OFFSET(DE104_3!$AK$34,ROWS($AK$34:AK82)-1,COLUMNS($AK$34:AK82)-1)<>\"\",OFFSET(DE104_3!$AK$34,ROWS($AK$34:AK82)-1,COLUMNS($AK$34:AK82)-1),\"\")","v":""},{"$f":"IF(OFFSET(DE104_3!$AL$34,ROWS($AL$34:AL82)-1,COLUMNS($AL$34:AL82)-1)<>\"\",OFFSET(DE104_3!$AL$34,ROWS($AL$34:AL82)-1,COLUMNS($AL$34:AL82)-1),\"\")","v":""},{"$f":"IF(OFFSET(DE104_3!$AM$34,ROWS($AM$34:AM82)-1,COLUMNS($AM$34:AM82)-1)<>\"\",OFFSET(DE104_3!$AM$34,ROWS($AM$34:AM82)-1,COLUMNS($AM$34:AM82)-1),\"\")","v":""},{"$f":"IF(OFFSET(DE104_3!$AN$34,ROWS($AN$34:AN82)-1,COLUMNS($AN$34:AN82)-1)<>\"\",OFFSET(DE104_3!$AN$34,ROWS($AN$34:AN82)-1,COLUMNS($AN$34:AN82)-1),\"\")","v":""},{"$f":"IF(OFFSET(DE104_3!$AO$34,ROWS($AO$34:AO82)-1,COLUMNS($AO$34:AO82)-1)<>\"\",OFFSET(DE104_3!$AO$34,ROWS($AO$34:AO82)-1,COLUMNS($AO$34:AO82)-1),\"\")","v":""},{"$f":"IF(OFFSET(DE104_3!$AP$34,ROWS($AP$34:AP82)-1,COLUMNS($AP$34:AP82)-1)<>\"\",OFFSET(DE104_3!$AP$34,ROWS($AP$34:AP82)-1,COLUMNS($AP$34:AP82)-1),\"\")","v":""},{"$f":"IF(OFFSET(DE104_3!$AQ$34,ROWS($AQ$34:AQ82)-1,COLUMNS($AQ$34:AQ82)-1)<>\"\",OFFSET(DE104_3!$AQ$34,ROWS($AQ$34:AQ82)-1,COLUMNS($AQ$34:AQ82)-1),\"\")","v":""}]
[{"$f":"IF(OFFSET(DE104_3!$C$34,ROWS($C$34:C83)-1,COLUMNS($C$34:C83)-1)<>\"\",OFFSET(DE104_3!$C$34,ROWS($C$34:C83)-1,COLUMNS($C$34:C83)-1),\"\")","v":""},{"$f":"IF(OFFSET(DE104_3!$D$34,ROWS($D$34:D83)-1,COLUMNS($D$34:D83)-1)<>\"\",OFFSET(DE104_3!$D$34,ROWS($D$34:D83)-1,COLUMNS($D$34:D83)-1),\"\")","v":"US 218"},{"$f":"IF(OFFSET(DE104_3!$E$34,ROWS($E$34:E83)-1,COLUMNS($E$34:E83)-1)<>\"\",OFFSET(DE104_3!$E$34,ROWS($E$34:E83)-1,COLUMNS($E$34:E83)-1),\"\")","v":""},{"$f":"IF(OFFSET(DE104_3!$F$34,ROWS($F$34:F83)-1,COLUMNS($F$34:F83)-1)<>\"\",OFFSET(DE104_3!$F$34,ROWS($F$34:F83)-1,COLUMNS($F$34:F83)-1),\"\")","v":""},{"$f":"IF(OFFSET(DE104_3!$G$34,ROWS($G$34:G83)-1,COLUMNS($G$34:G83)-1)<>\"\",OFFSET(DE104_3!$G$34,ROWS($G$34:G83)-1,COLUMNS($G$34:G83)-1),\"\")","v":""},{"$f":"IF(OFFSET(DE104_3!$H$34,ROWS($H$34:H83)-1,COLUMNS($H$34:H83)-1)<>\"\",OFFSET(DE104_3!$H$34,ROWS($H$34:H83)-1,COLUMNS($H$34:H83)-1),\"\")","v":""},{"$f":"IF(OFFSET(DE104_3!$I$34,ROWS($I$34:I83)-1,COLUMNS($I$34:I83)-1)<>\"\",OFFSET(DE104_3!$I$34,ROWS($I$34:I83)-1,COLUMNS($I$34:I83)-1),\"\")","v":""},{"$f":"IF(OFFSET(DE104_3!$J$34,ROWS($J$34:J83)-1,COLUMNS($J$34:J83)-1)<>\"\",OFFSET(DE104_3!$J$34,ROWS($J$34:J83)-1,COLUMNS($J$34:J83)-1),\"\")","v":""},{"$f":"IF(OFFSET(DE104_3!$K$34,ROWS($K$34:K83)-1,COLUMNS($K$34:K83)-1)<>\"\",OFFSET(DE104_3!$K$34,ROWS($K$34:K83)-1,COLUMNS($K$34:K83)-1),\"\")","v":""},{"$f":"IF(OFFSET(DE104_3!$L$34,ROWS($L$34:L83)-1,COLUMNS($L$34:L83)-1)<>\"\",OFFSET(DE104_3!$L$34,ROWS($L$34:L83)-1,COLUMNS($L$34:L83)-1),\"\")","v":""},{"$f":"IF(OFFSET(DE104_3!$M$34,ROWS($M$34:M83)-1,COLUMNS($M$34:M83)-1)<>\"\",OFFSET(DE104_3!$M$34,ROWS($M$34:M83)-1,COLUMNS($M$34:M83)-1),\"\")","v":""},{"$f":"IF(OFFSET(DE104_3!$N$34,ROWS($N$34:N83)-1,COLUMNS($N$34:N83)-1)<>\"\",OFFSET(DE104_3!$N$34,ROWS($N$34:N83)-1,COLUMNS($N$34:N83)-1),\"\")","v":""},{"$f":"IF(OFFSET(DE104_3!$O$34,ROWS($O$34:O83)-1,COLUMNS($O$34:O83)-1)<>\"\",OFFSET(DE104_3!$O$34,ROWS($O$34:O83)-1,COLUMNS($O$34:O83)-1),\"\")","v":""},{"$f":"IF(OFFSET(DE104_3!$P$34,ROWS($P$34:P83)-1,COLUMNS($P$34:P83)-1)<>\"\",OFFSET(DE104_3!$P$34,ROWS($P$34:P83)-1,COLUMNS($P$34:P83)-1),\"\")","v":""},{"$f":"IF(OFFSET(DE104_3!$Q$34,ROWS($Q$34:Q83)-1,COLUMNS($Q$34:Q83)-1)<>\"\",OFFSET(DE104_3!$Q$34,ROWS($Q$34:Q83)-1,COLUMNS($Q$34:Q83)-1),\"\")","v":""},{"$f":"IF(OFFSET(DE104_3!$R$34,ROWS($R$34:R83)-1,COLUMNS($R$34:R83)-1)<>\"\",OFFSET(DE104_3!$R$34,ROWS($R$34:R83)-1,COLUMNS($R$34:R83)-1),\"\")","v":""},{"$f":"IF(OFFSET(DE104_3!$S$34,ROWS($S$34:S83)-1,COLUMNS($S$34:S83)-1)<>\"\",OFFSET(DE104_3!$S$34,ROWS($S$34:S83)-1,COLUMNS($S$34:S83)-1),\"\")","v":""},{"$f":"IF(OFFSET(DE104_3!$T$34,ROWS($T$34:T83)-1,COLUMNS($T$34:T83)-1)<>\"\",OFFSET(DE104_3!$T$34,ROWS($T$34:T83)-1,COLUMNS($T$34:T83)-1),\"\")","v":""},{"$f":"IF(OFFSET(DE104_3!$U$34,ROWS($U$34:U83)-1,COLUMNS($U$34:U83)-1)<>\"\",OFFSET(DE104_3!$U$34,ROWS($U$34:U83)-1,COLUMNS($U$34:U83)-1),\"\")","v":""},{"$f":"IF(OFFSET(DE104_3!$V$34,ROWS($V$34:V83)-1,COLUMNS($V$34:V83)-1)<>\"\",OFFSET(DE104_3!$V$34,ROWS($V$34:V83)-1,COLUMNS($V$34:V83)-1),\"\")","v":""},{"$f":"IF(OFFSET(DE104_3!$W$34,ROWS($W$34:W83)-1,COLUMNS($W$34:W83)-1)<>\"\",OFFSET(DE104_3!$W$34,ROWS($W$34:W83)-1,COLUMNS($W$34:W83)-1),\"\")","v":""},{"$f":"IF(OFFSET(DE104_3!$X$34,ROWS($X$34:X83)-1,COLUMNS($X$34:X83)-1)<>\"\",OFFSET(DE104_3!$X$34,ROWS($X$34:X83)-1,COLUMNS($X$34:X83)-1),\"\")","v":""},{"$f":"IF(OFFSET(DE104_3!$Y$34,ROWS($Y$34:Y83)-1,COLUMNS($Y$34:Y83)-1)<>\"\",OFFSET(DE104_3!$Y$34,ROWS($Y$34:Y83)-1,COLUMNS($Y$34:Y83)-1),\"\")","v":""},{"$f":"IF(OFFSET(DE104_3!$Z$34,ROWS($Z$34:Z83)-1,COLUMNS($Z$34:Z83)-1)<>\"\",OFFSET(DE104_3!$Z$34,ROWS($Z$34:Z83)-1,COLUMNS($Z$34:Z83)-1),\"\")","v":""},{"$f":"IF(OFFSET(DE104_3!$AA$34,ROWS($AA$34:AA83)-1,COLUMNS($AA$34:AA83)-1)<>\"\",OFFSET(DE104_3!$AA$34,ROWS($AA$34:AA83)-1,COLUMNS($AA$34:AA83)-1),\"\")","v":""},{"$f":"IF(OFFSET(DE104_3!$AB$34,ROWS($AB$34:AB83)-1,COLUMNS($AB$34:AB83)-1)<>\"\",OFFSET(DE104_3!$AB$34,ROWS($AB$34:AB83)-1,COLUMNS($AB$34:AB83)-1),\"\")","v":""},{"$f":"IF(OFFSET(DE104_3!$AC$34,ROWS($AC$34:AC83)-1,COLUMNS($AC$34:AC83)-1)<>\"\",OFFSET(DE104_3!$AC$34,ROWS($AC$34:AC83)-1,COLUMNS($AC$34:AC83)-1),\"\")","v":""},{"$f":"IF(OFFSET(DE104_3!$AD$34,ROWS($AD$34:AD83)-1,COLUMNS($AD$34:AD83)-1)<>\"\",OFFSET(DE104_3!$AD$34,ROWS($AD$34:AD83)-1,COLUMNS($AD$34:AD83)-1),\"\")","v":""},{"$f":"IF(OFFSET(DE104_3!$AE$34,ROWS($AE$34:AE83)-1,COLUMNS($AE$34:AE83)-1)<>\"\",OFFSET(DE104_3!$AE$34,ROWS($AE$34:AE83)-1,COLUMNS($AE$34:AE83)-1),\"\")","v":""},{"$f":"IF(OFFSET(DE104_3!$AF$34,ROWS($AF$34:AF83)-1,COLUMNS($AF$34:AF83)-1)<>\"\",OFFSET(DE104_3!$AF$34,ROWS($AF$34:AF83)-1,COLUMNS($AF$34:AF83)-1),\"\")","v":""},{"$f":"IF(OFFSET(DE104_3!$AG$34,ROWS($AG$34:AG83)-1,COLUMNS($AG$34:AG83)-1)<>\"\",OFFSET(DE104_3!$AG$34,ROWS($AG$34:AG83)-1,COLUMNS($AG$34:AG83)-1),\"\")","v":""},{"$f":"IF(OFFSET(DE104_3!$AH$34,ROWS($AH$34:AH83)-1,COLUMNS($AH$34:AH83)-1)<>\"\",OFFSET(DE104_3!$AH$34,ROWS($AH$34:AH83)-1,COLUMNS($AH$34:AH83)-1),\"\")","v":""},{"$f":"IF(OFFSET(DE104_3!$AI$34,ROWS($AI$34:AI83)-1,COLUMNS($AI$34:AI83)-1)<>\"\",OFFSET(DE104_3!$AI$34,ROWS($AI$34:AI83)-1,COLUMNS($AI$34:AI83)-1),\"\")","v":""},{"$f":"IF(OFFSET(DE104_3!$AJ$34,ROWS($AJ$34:AJ83)-1,COLUMNS($AJ$34:AJ83)-1)<>\"\",OFFSET(DE104_3!$AJ$34,ROWS($AJ$34:AJ83)-1,COLUMNS($AJ$34:AJ83)-1),\"\")","v":""},{"$f":"IF(OFFSET(DE104_3!$AK$34,ROWS($AK$34:AK83)-1,COLUMNS($AK$34:AK83)-1)<>\"\",OFFSET(DE104_3!$AK$34,ROWS($AK$34:AK83)-1,COLUMNS($AK$34:AK83)-1),\"\")","v":""},{"$f":"IF(OFFSET(DE104_3!$AL$34,ROWS($AL$34:AL83)-1,COLUMNS($AL$34:AL83)-1)<>\"\",OFFSET(DE104_3!$AL$34,ROWS($AL$34:AL83)-1,COLUMNS($AL$34:AL83)-1),\"\")","v":""},{"$f":"IF(OFFSET(DE104_3!$AM$34,ROWS($AM$34:AM83)-1,COLUMNS($AM$34:AM83)-1)<>\"\",OFFSET(DE104_3!$AM$34,ROWS($AM$34:AM83)-1,COLUMNS($AM$34:AM83)-1),\"\")","v":""},{"$f":"IF(OFFSET(DE104_3!$AN$34,ROWS($AN$34:AN83)-1,COLUMNS($AN$34:AN83)-1)<>\"\",OFFSET(DE104_3!$AN$34,ROWS($AN$34:AN83)-1,COLUMNS($AN$34:AN83)-1),\"\")","v":""},{"$f":"IF(OFFSET(DE104_3!$AO$34,ROWS($AO$34:AO83)-1,COLUMNS($AO$34:AO83)-1)<>\"\",OFFSET(DE104_3!$AO$34,ROWS($AO$34:AO83)-1,COLUMNS($AO$34:AO83)-1),\"\")","v":""},{"$f":"IF(OFFSET(DE104_3!$AP$34,ROWS($AP$34:AP83)-1,COLUMNS($AP$34:AP83)-1)<>\"\",OFFSET(DE104_3!$AP$34,ROWS($AP$34:AP83)-1,COLUMNS($AP$34:AP83)-1),\"\")","v":""},{"$f":"IF(OFFSET(DE104_3!$AQ$34,ROWS($AQ$34:AQ83)-1,COLUMNS($AQ$34:AQ83)-1)<>\"\",OFFSET(DE104_3!$AQ$34,ROWS($AQ$34:AQ83)-1,COLUMNS($AQ$34:AQ83)-1),\"\")","v":""}]
[{"$f":"IF(OFFSET(DE104_3!$C$34,ROWS($C$34:C84)-1,COLUMNS($C$34:C84)-1)<>\"\",OFFSET(DE104_3!$C$34,ROWS($C$34:C84)-1,COLUMNS($C$34:C84)-1),\"\")","v":20},{"$f":"IF(OFFSET(DE104_3!$D$34,ROWS($D$34:D84)-1,COLUMNS($D$34:D84)-1)<>\"\",OFFSET(DE104_3!$D$34,ROWS($D$34:D84)-1,COLUMNS($D$34:D84)-1),\"\")","v":24147690.899999999},{"$f":"IF(OFFSET(DE104_3!$E$34,ROWS($E$34:E84)-1,COLUMNS($E$34:E84)-1)<>\"\",OFFSET(DE104_3!$E$34,ROWS($E$34:E84)-1,COLUMNS($E$34:E84)-1),\"\")","v":"DR-601"},{"$f":"IF(OFFSET(DE104_3!$F$34,ROWS($F$34:F84)-1,COLUMNS($F$34:F84)-1)<>\"\",OFFSET(DE104_3!$F$34,ROWS($F$34:F84)-1,COLUMNS($F$34:F84)-1),\"\")","v":36},{"$f":"IF(OFFSET(DE104_3!$G$34,ROWS($G$34:G84)-1,COLUMNS($G$34:G84)-1)<>\"\",OFFSET(DE104_3!$G$34,ROWS($G$34:G84)-1,COLUMNS($G$34:G84)-1),\"\")","v":3000},{"$f":"IF(OFFSET(DE104_3!$H$34,ROWS($H$34:H84)-1,COLUMNS($H$34:H84)-1)<>\"\",OFFSET(DE104_3!$H$34,ROWS($H$34:H84)-1,COLUMNS($H$34:H84)-1),\"\")","v":"RCP"},{"$f":"IF(OFFSET(DE104_3!$I$34,ROWS($I$34:I84)-1,COLUMNS($I$34:I84)-1)<>\"\",OFFSET(DE104_3!$I$34,ROWS($I$34:I84)-1,COLUMNS($I$34:I84)-1),\"\")","v":296},{"$f":"IF(OFFSET(DE104_3!$J$34,ROWS($J$34:J84)-1,COLUMNS($J$34:J84)-1)<>\"\",OFFSET(DE104_3!$J$34,ROWS($J$34:J84)-1,COLUMNS($J$34:J84)-1),\"\")","v":"B"},{"$f":"IF(OFFSET(DE104_3!$K$34,ROWS($K$34:K84)-1,COLUMNS($K$34:K84)-1)<>\"\",OFFSET(DE104_3!$K$34,ROWS($K$34:K84)-1,COLUMNS($K$34:K84)-1),\"\")","v":17.3},{"$f":"IF(OFFSET(DE104_3!$L$34,ROWS($L$34:L84)-1,COLUMNS($L$34:L84)-1)<>\"\",OFFSET(DE104_3!$L$34,ROWS($L$34:L84)-1,COLUMNS($L$34:L84)-1),\"\")","v":""},{"$f":"IF(OFFSET(DE104_3!$M$34,ROWS($M$34:M84)-1,COLUMNS($M$34:M84)-1)<>\"\",OFFSET(DE104_3!$M$34,ROWS($M$34:M84)-1,COLUMNS($M$34:M84)-1),\"\")","v":1},{"$f":"IF(OFFSET(DE104_3!$N$34,ROWS($N$34:N84)-1,COLUMNS($N$34:N84)-1)<>\"\",OFFSET(DE104_3!$N$34,ROWS($N$34:N84)-1,COLUMNS($N$34:N84)-1),\"\")","v":1},{"$f":"IF(OFFSET(DE104_3!$O$34,ROWS($O$34:O84)-1,COLUMNS($O$34:O84)-1)<>\"\",OFFSET(DE104_3!$O$34,ROWS($O$34:O84)-1,COLUMNS($O$34:O84)-1),\"\")","v":""},{"$f":"IF(OFFSET(DE104_3!$P$34,ROWS($P$34:P84)-1,COLUMNS($P$34:P84)-1)<>\"\",OFFSET(DE104_3!$P$34,ROWS($P$34:P84)-1,COLUMNS($P$34:P84)-1),\"\")","v":""},{"$f":"IF(OFFSET(DE104_3!$Q$34,ROWS($Q$34:Q84)-1,COLUMNS($Q$34:Q84)-1)<>\"\",OFFSET(DE104_3!$Q$34,ROWS($Q$34:Q84)-1,COLUMNS($Q$34:Q84)-1),\"\")","v":""},{"$f":"IF(OFFSET(DE104_3!$R$34,ROWS($R$34:R84)-1,COLUMNS($R$34:R84)-1)<>\"\",OFFSET(DE104_3!$R$34,ROWS($R$34:R84)-1,COLUMNS($R$34:R84)-1),\"\")","v":""},{"$f":"IF(OFFSET(DE104_3!$S$34,ROWS($S$34:S84)-1,COLUMNS($S$34:S84)-1)<>\"\",OFFSET(DE104_3!$S$34,ROWS($S$34:S84)-1,COLUMNS($S$34:S84)-1),\"\")","v":""},{"$f":"IF(OFFSET(DE104_3!$T$34,ROWS($T$34:T84)-1,COLUMNS($T$34:T84)-1)<>\"\",OFFSET(DE104_3!$T$34,ROWS($T$34:T84)-1,COLUMNS($T$34:T84)-1),\"\")","v":""},{"$f":"IF(OFFSET(DE104_3!$U$34,ROWS($U$34:U84)-1,COLUMNS($U$34:U84)-1)<>\"\",OFFSET(DE104_3!$U$34,ROWS($U$34:U84)-1,COLUMNS($U$34:U84)-1),\"\")","v":""},{"$f":"IF(OFFSET(DE104_3!$V$34,ROWS($V$34:V84)-1,COLUMNS($V$34:V84)-1)<>\"\",OFFSET(DE104_3!$V$34,ROWS($V$34:V84)-1,COLUMNS($V$34:V84)-1),\"\")","v":"Type 3"},{"$f":"IF(OFFSET(DE104_3!$W$34,ROWS($W$34:W84)-1,COLUMNS($W$34:W84)-1)<>\"\",OFFSET(DE104_3!$W$34,ROWS($W$34:W84)-1,COLUMNS($W$34:W84)-1),\"\")","v":""},{"$f":"IF(OFFSET(DE104_3!$X$34,ROWS($X$34:X84)-1,COLUMNS($X$34:X84)-1)<>\"\",OFFSET(DE104_3!$X$34,ROWS($X$34:X84)-1,COLUMNS($X$34:X84)-1),\"\")","v":913.72},{"$f":"IF(OFFSET(DE104_3!$Y$34,ROWS($Y$34:Y84)-1,COLUMNS($Y$34:Y84)-1)<>\"\",OFFSET(DE104_3!$Y$34,ROWS($Y$34:Y84)-1,COLUMNS($Y$34:Y84)-1),\"\")","v":919.4},{"$f":"IF(OFFSET(DE104_3!$Z$34,ROWS($Z$34:Z84)-1,COLUMNS($Z$34:Z84)-1)<>\"\",OFFSET(DE104_3!$Z$34,ROWS($Z$34:Z84)-1,COLUMNS($Z$34:Z84)-1),\"\")","v":""},{"$f":"IF(OFFSET(DE104_3!$AA$34,ROWS($AA$34:AA84)-1,COLUMNS($AA$34:AA84)-1)<>\"\",OFFSET(DE104_3!$AA$34,ROWS($AA$34:AA84)-1,COLUMNS($AA$34:AA84)-1),\"\")","v":""},{"$f":"IF(OFFSET(DE104_3!$AB$34,ROWS($AB$34:AB84)-1,COLUMNS($AB$34:AB84)-1)<>\"\",OFFSET(DE104_3!$AB$34,ROWS($AB$34:AB84)-1,COLUMNS($AB$34:AB84)-1),\"\")","v":117.6},{"$f":"IF(OFFSET(DE104_3!$AC$34,ROWS($AC$34:AC84)-1,COLUMNS($AC$34:AC84)-1)<>\"\",OFFSET(DE104_3!$AC$34,ROWS($AC$34:AC84)-1,COLUMNS($AC$34:AC84)-1),\"\")","v":194.4},{"$f":"IF(OFFSET(DE104_3!$AD$34,ROWS($AD$34:AD84)-1,COLUMNS($AD$34:AD84)-1)<>\"\",OFFSET(DE104_3!$AD$34,ROWS($AD$34:AD84)-1,COLUMNS($AD$34:AD84)-1),\"\")","v":""},{"$f":"IF(OFFSET(DE104_3!$AE$34,ROWS($AE$34:AE84)-1,COLUMNS($AE$34:AE84)-1)<>\"\",OFFSET(DE104_3!$AE$34,ROWS($AE$34:AE84)-1,COLUMNS($AE$34:AE84)-1),\"\")","v":""},{"$f":"IF(OFFSET(DE104_3!$AF$34,ROWS($AF$34:AF84)-1,COLUMNS($AF$34:AF84)-1)<>\"\",OFFSET(DE104_3!$AF$34,ROWS($AF$34:AF84)-1,COLUMNS($AF$34:AF84)-1),\"\")","v":5.89},{"$f":"IF(OFFSET(DE104_3!$AG$34,ROWS($AG$34:AG84)-1,COLUMNS($AG$34:AG84)-1)<>\"\",OFFSET(DE104_3!$AG$34,ROWS($AG$34:AG84)-1,COLUMNS($AG$34:AG84)-1),\"\")","v":""},{"$f":"IF(OFFSET(DE104_3!$AH$34,ROWS($AH$34:AH84)-1,COLUMNS($AH$34:AH84)-1)<>\"\",OFFSET(DE104_3!$AH$34,ROWS($AH$34:AH84)-1,COLUMNS($AH$34:AH84)-1),\"\")","v":""},{"$f":"IF(OFFSET(DE104_3!$AI$34,ROWS($AI$34:AI84)-1,COLUMNS($AI$34:AI84)-1)<>\"\",OFFSET(DE104_3!$AI$34,ROWS($AI$34:AI84)-1,COLUMNS($AI$34:AI84)-1),\"\")","v":""},{"$f":"IF(OFFSET(DE104_3!$AJ$34,ROWS($AJ$34:AJ84)-1,COLUMNS($AJ$34:AJ84)-1)<>\"\",OFFSET(DE104_3!$AJ$34,ROWS($AJ$34:AJ84)-1,COLUMNS($AJ$34:AJ84)-1),\"\")","v":""},{"$f":"IF(OFFSET(DE104_3!$AK$34,ROWS($AK$34:AK84)-1,COLUMNS($AK$34:AK84)-1)<>\"\",OFFSET(DE104_3!$AK$34,ROWS($AK$34:AK84)-1,COLUMNS($AK$34:AK84)-1),\"\")","v":""},{"$f":"IF(OFFSET(DE104_3!$AL$34,ROWS($AL$34:AL84)-1,COLUMNS($AL$34:AL84)-1)<>\"\",OFFSET(DE104_3!$AL$34,ROWS($AL$34:AL84)-1,COLUMNS($AL$34:AL84)-1),\"\")","v":791.96444444444433},{"$f":"IF(OFFSET(DE104_3!$AM$34,ROWS($AM$34:AM84)-1,COLUMNS($AM$34:AM84)-1)<>\"\",OFFSET(DE104_3!$AM$34,ROWS($AM$34:AM84)-1,COLUMNS($AM$34:AM84)-1),\"\")","v":""},{"$f":"IF(OFFSET(DE104_3!$AN$34,ROWS($AN$34:AN84)-1,COLUMNS($AN$34:AN84)-1)<>\"\",OFFSET(DE104_3!$AN$34,ROWS($AN$34:AN84)-1,COLUMNS($AN$34:AN84)-1),\"\")","v":190.76511111111108},{"$f":"IF(OFFSET(DE104_3!$AO$34,ROWS($AO$34:AO84)-1,COLUMNS($AO$34:AO84)-1)<>\"\",OFFSET(DE104_3!$AO$34,ROWS($AO$34:AO84)-1,COLUMNS($AO$34:AO84)-1),\"\")","v":27.785185185185181},{"$f":"IF(OFFSET(DE104_3!$AP$34,ROWS($AP$34:AP84)-1,COLUMNS($AP$34:AP84)-1)<>\"\",OFFSET(DE104_3!$AP$34,ROWS($AP$34:AP84)-1,COLUMNS($AP$34:AP84)-1),\"\")","v":218.55029629629627},{"$f":"IF(OFFSET(DE104_3!$AQ$34,ROWS($AQ$34:AQ84)-1,COLUMNS($AQ$34:AQ84)-1)<>\"\",OFFSET(DE104_3!$AQ$34,ROWS($AQ$34:AQ84)-1,COLUMNS($AQ$34:AQ84)-1),\"\")","v":""}]
[{"$f":"IF(OFFSET(DE104_3!$C$34,ROWS($C$34:C85)-1,COLUMNS($C$34:C85)-1)<>\"\",OFFSET(DE104_3!$C$34,ROWS($C$34:C85)-1,COLUMNS($C$34:C85)-1),\"\")","v":""},{"$f":"IF(OFFSET(DE104_3!$D$34,ROWS($D$34:D85)-1,COLUMNS($D$34:D85)-1)<>\"\",OFFSET(DE104_3!$D$34,ROWS($D$34:D85)-1,COLUMNS($D$34:D85)-1),\"\")","v":""},{"$f":"IF(OFFSET(DE104_3!$E$34,ROWS($E$34:E85)-1,COLUMNS($E$34:E85)-1)<>\"\",OFFSET(DE104_3!$E$34,ROWS($E$34:E85)-1,COLUMNS($E$34:E85)-1),\"\")","v":""},{"$f":"IF(OFFSET(DE104_3!$F$34,ROWS($F$34:F85)-1,COLUMNS($F$34:F85)-1)<>\"\",OFFSET(DE104_3!$F$34,ROWS($F$34:F85)-1,COLUMNS($F$34:F85)-1),\"\")","v":""},{"$f":"IF(OFFSET(DE104_3!$G$34,ROWS($G$34:G85)-1,COLUMNS($G$34:G85)-1)<>\"\",OFFSET(DE104_3!$G$34,ROWS($G$34:G85)-1,COLUMNS($G$34:G85)-1),\"\")","v":""},{"$f":"IF(OFFSET(DE104_3!$H$34,ROWS($H$34:H85)-1,COLUMNS($H$34:H85)-1)<>\"\",OFFSET(DE104_3!$H$34,ROWS($H$34:H85)-1,COLUMNS($H$34:H85)-1),\"\")","v":""},{"$f":"IF(OFFSET(DE104_3!$I$34,ROWS($I$34:I85)-1,COLUMNS($I$34:I85)-1)<>\"\",OFFSET(DE104_3!$I$34,ROWS($I$34:I85)-1,COLUMNS($I$34:I85)-1),\"\")","v":""},{"$f":"IF(OFFSET(DE104_3!$J$34,ROWS($J$34:J85)-1,COLUMNS($J$34:J85)-1)<>\"\",OFFSET(DE104_3!$J$34,ROWS($J$34:J85)-1,COLUMNS($J$34:J85)-1),\"\")","v":""},{"$f":"IF(OFFSET(DE104_3!$K$34,ROWS($K$34:K85)-1,COLUMNS($K$34:K85)-1)<>\"\",OFFSET(DE104_3!$K$34,ROWS($K$34:K85)-1,COLUMNS($K$34:K85)-1),\"\")","v":""},{"$f":"IF(OFFSET(DE104_3!$L$34,ROWS($L$34:L85)-1,COLUMNS($L$34:L85)-1)<>\"\",OFFSET(DE104_3!$L$34,ROWS($L$34:L85)-1,COLUMNS($L$34:L85)-1),\"\")","v":""},{"$f":"IF(OFFSET(DE104_3!$M$34,ROWS($M$34:M85)-1,COLUMNS($M$34:M85)-1)<>\"\",OFFSET(DE104_3!$M$34,ROWS($M$34:M85)-1,COLUMNS($M$34:M85)-1),\"\")","v":""},{"$f":"IF(OFFSET(DE104_3!$N$34,ROWS($N$34:N85)-1,COLUMNS($N$34:N85)-1)<>\"\",OFFSET(DE104_3!$N$34,ROWS($N$34:N85)-1,COLUMNS($N$34:N85)-1),\"\")","v":""},{"$f":"IF(OFFSET(DE104_3!$O$34,ROWS($O$34:O85)-1,COLUMNS($O$34:O85)-1)<>\"\",OFFSET(DE104_3!$O$34,ROWS($O$34:O85)-1,COLUMNS($O$34:O85)-1),\"\")","v":""},{"$f":"IF(OFFSET(DE104_3!$P$34,ROWS($P$34:P85)-1,COLUMNS($P$34:P85)-1)<>\"\",OFFSET(DE104_3!$P$34,ROWS($P$34:P85)-1,COLUMNS($P$34:P85)-1),\"\")","v":""},{"$f":"IF(OFFSET(DE104_3!$Q$34,ROWS($Q$34:Q85)-1,COLUMNS($Q$34:Q85)-1)<>\"\",OFFSET(DE104_3!$Q$34,ROWS($Q$34:Q85)-1,COLUMNS($Q$34:Q85)-1),\"\")","v":""},{"$f":"IF(OFFSET(DE104_3!$R$34,ROWS($R$34:R85)-1,COLUMNS($R$34:R85)-1)<>\"\",OFFSET(DE104_3!$R$34,ROWS($R$34:R85)-1,COLUMNS($R$34:R85)-1),\"\")","v":""},{"$f":"IF(OFFSET(DE104_3!$S$34,ROWS($S$34:S85)-1,COLUMNS($S$34:S85)-1)<>\"\",OFFSET(DE104_3!$S$34,ROWS($S$34:S85)-1,COLUMNS($S$34:S85)-1),\"\")","v":""},{"$f":"IF(OFFSET(DE104_3!$T$34,ROWS($T$34:T85)-1,COLUMNS($T$34:T85)-1)<>\"\",OFFSET(DE104_3!$T$34,ROWS($T$34:T85)-1,COLUMNS($T$34:T85)-1),\"\")","v":""},{"$f":"IF(OFFSET(DE104_3!$U$34,ROWS($U$34:U85)-1,COLUMNS($U$34:U85)-1)<>\"\",OFFSET(DE104_3!$U$34,ROWS($U$34:U85)-1,COLUMNS($U$34:U85)-1),\"\")","v":""},{"$f":"IF(OFFSET(DE104_3!$V$34,ROWS($V$34:V85)-1,COLUMNS($V$34:V85)-1)<>\"\",OFFSET(DE104_3!$V$34,ROWS($V$34:V85)-1,COLUMNS($V$34:V85)-1),\"\")","v":""},{"$f":"IF(OFFSET(DE104_3!$W$34,ROWS($W$34:W85)-1,COLUMNS($W$34:W85)-1)<>\"\",OFFSET(DE104_3!$W$34,ROWS($W$34:W85)-1,COLUMNS($W$34:W85)-1),\"\")","v":""},{"$f":"IF(OFFSET(DE104_3!$X$34,ROWS($X$34:X85)-1,COLUMNS($X$34:X85)-1)<>\"\",OFFSET(DE104_3!$X$34,ROWS($X$34:X85)-1,COLUMNS($X$34:X85)-1),\"\")","v":""},{"$f":"IF(OFFSET(DE104_3!$Y$34,ROWS($Y$34:Y85)-1,COLUMNS($Y$34:Y85)-1)<>\"\",OFFSET(DE104_3!$Y$34,ROWS($Y$34:Y85)-1,COLUMNS($Y$34:Y85)-1),\"\")","v":""},{"$f":"IF(OFFSET(DE104_3!$Z$34,ROWS($Z$34:Z85)-1,COLUMNS($Z$34:Z85)-1)<>\"\",OFFSET(DE104_3!$Z$34,ROWS($Z$34:Z85)-1,COLUMNS($Z$34:Z85)-1),\"\")","v":""},{"$f":"IF(OFFSET(DE104_3!$AA$34,ROWS($AA$34:AA85)-1,COLUMNS($AA$34:AA85)-1)<>\"\",OFFSET(DE104_3!$AA$34,ROWS($AA$34:AA85)-1,COLUMNS($AA$34:AA85)-1),\"\")","v":""},{"$f":"IF(OFFSET(DE104_3!$AB$34,ROWS($AB$34:AB85)-1,COLUMNS($AB$34:AB85)-1)<>\"\",OFFSET(DE104_3!$AB$34,ROWS($AB$34:AB85)-1,COLUMNS($AB$34:AB85)-1),\"\")","v":""},{"$f":"IF(OFFSET(DE104_3!$AC$34,ROWS($AC$34:AC85)-1,COLUMNS($AC$34:AC85)-1)<>\"\",OFFSET(DE104_3!$AC$34,ROWS($AC$34:AC85)-1,COLUMNS($AC$34:AC85)-1),\"\")","v":""},{"$f":"IF(OFFSET(DE104_3!$AD$34,ROWS($AD$34:AD85)-1,COLUMNS($AD$34:AD85)-1)<>\"\",OFFSET(DE104_3!$AD$34,ROWS($AD$34:AD85)-1,COLUMNS($AD$34:AD85)-1),\"\")","v":""},{"$f":"IF(OFFSET(DE104_3!$AE$34,ROWS($AE$34:AE85)-1,COLUMNS($AE$34:AE85)-1)<>\"\",OFFSET(DE104_3!$AE$34,ROWS($AE$34:AE85)-1,COLUMNS($AE$34:AE85)-1),\"\")","v":""},{"$f":"IF(OFFSET(DE104_3!$AF$34,ROWS($AF$34:AF85)-1,COLUMNS($AF$34:AF85)-1)<>\"\",OFFSET(DE104_3!$AF$34,ROWS($AF$34:AF85)-1,COLUMNS($AF$34:AF85)-1),\"\")","v":""},{"$f":"IF(OFFSET(DE104_3!$AG$34,ROWS($AG$34:AG85)-1,COLUMNS($AG$34:AG85)-1)<>\"\",OFFSET(DE104_3!$AG$34,ROWS($AG$34:AG85)-1,COLUMNS($AG$34:AG85)-1),\"\")","v":""},{"$f":"IF(OFFSET(DE104_3!$AH$34,ROWS($AH$34:AH85)-1,COLUMNS($AH$34:AH85)-1)<>\"\",OFFSET(DE104_3!$AH$34,ROWS($AH$34:AH85)-1,COLUMNS($AH$34:AH85)-1),\"\")","v":""},{"$f":"IF(OFFSET(DE104_3!$AI$34,ROWS($AI$34:AI85)-1,COLUMNS($AI$34:AI85)-1)<>\"\",OFFSET(DE104_3!$AI$34,ROWS($AI$34:AI85)-1,COLUMNS($AI$34:AI85)-1),\"\")","v":""},{"$f":"IF(OFFSET(DE104_3!$AJ$34,ROWS($AJ$34:AJ85)-1,COLUMNS($AJ$34:AJ85)-1)<>\"\",OFFSET(DE104_3!$AJ$34,ROWS($AJ$34:AJ85)-1,COLUMNS($AJ$34:AJ85)-1),\"\")","v":""},{"$f":"IF(OFFSET(DE104_3!$AK$34,ROWS($AK$34:AK85)-1,COLUMNS($AK$34:AK85)-1)<>\"\",OFFSET(DE104_3!$AK$34,ROWS($AK$34:AK85)-1,COLUMNS($AK$34:AK85)-1),\"\")","v":""},{"$f":"IF(OFFSET(DE104_3!$AL$34,ROWS($AL$34:AL85)-1,COLUMNS($AL$34:AL85)-1)<>\"\",OFFSET(DE104_3!$AL$34,ROWS($AL$34:AL85)-1,COLUMNS($AL$34:AL85)-1),\"\")","v":""},{"$f":"IF(OFFSET(DE104_3!$AM$34,ROWS($AM$34:AM85)-1,COLUMNS($AM$34:AM85)-1)<>\"\",OFFSET(DE104_3!$AM$34,ROWS($AM$34:AM85)-1,COLUMNS($AM$34:AM85)-1),\"\")","v":""},{"$f":"IF(OFFSET(DE104_3!$AN$34,ROWS($AN$34:AN85)-1,COLUMNS($AN$34:AN85)-1)<>\"\",OFFSET(DE104_3!$AN$34,ROWS($AN$34:AN85)-1,COLUMNS($AN$34:AN85)-1),\"\")","v":1},{"$f":"IF(OFFSET(DE104_3!$AO$34,ROWS($AO$34:AO85)-1,COLUMNS($AO$34:AO85)-1)<>\"\",OFFSET(DE104_3!$AO$34,ROWS($AO$34:AO85)-1,COLUMNS($AO$34:AO85)-1),\"\")","v":""},{"$f":"IF(OFFSET(DE104_3!$AP$34,ROWS($AP$34:AP85)-1,COLUMNS($AP$34:AP85)-1)<>\"\",OFFSET(DE104_3!$AP$34,ROWS($AP$34:AP85)-1,COLUMNS($AP$34:AP85)-1),\"\")","v":""},{"$f":"IF(OFFSET(DE104_3!$AQ$34,ROWS($AQ$34:AQ85)-1,COLUMNS($AQ$34:AQ85)-1)<>\"\",OFFSET(DE104_3!$AQ$34,ROWS($AQ$34:AQ85)-1,COLUMNS($AQ$34:AQ85)-1),\"\")","v":""}]
[{"$f":"IF(OFFSET(DE104_3!$C$34,ROWS($C$34:C86)-1,COLUMNS($C$34:C86)-1)<>\"\",OFFSET(DE104_3!$C$34,ROWS($C$34:C86)-1,COLUMNS($C$34:C86)-1),\"\")","v":""},{"$f":"IF(OFFSET(DE104_3!$D$34,ROWS($D$34:D86)-1,COLUMNS($D$34:D86)-1)<>\"\",OFFSET(DE104_3!$D$34,ROWS($D$34:D86)-1,COLUMNS($D$34:D86)-1),\"\")","v":""},{"$f":"IF(OFFSET(DE104_3!$E$34,ROWS($E$34:E86)-1,COLUMNS($E$34:E86)-1)<>\"\",OFFSET(DE104_3!$E$34,ROWS($E$34:E86)-1,COLUMNS($E$34:E86)-1),\"\")","v":""},{"$f":"IF(OFFSET(DE104_3!$F$34,ROWS($F$34:F86)-1,COLUMNS($F$34:F86)-1)<>\"\",OFFSET(DE104_3!$F$34,ROWS($F$34:F86)-1,COLUMNS($F$34:F86)-1),\"\")","v":""},{"$f":"IF(OFFSET(DE104_3!$G$34,ROWS($G$34:G86)-1,COLUMNS($G$34:G86)-1)<>\"\",OFFSET(DE104_3!$G$34,ROWS($G$34:G86)-1,COLUMNS($G$34:G86)-1),\"\")","v":""},{"$f":"IF(OFFSET(DE104_3!$H$34,ROWS($H$34:H86)-1,COLUMNS($H$34:H86)-1)<>\"\",OFFSET(DE104_3!$H$34,ROWS($H$34:H86)-1,COLUMNS($H$34:H86)-1),\"\")","v":""},{"$f":"IF(OFFSET(DE104_3!$I$34,ROWS($I$34:I86)-1,COLUMNS($I$34:I86)-1)<>\"\",OFFSET(DE104_3!$I$34,ROWS($I$34:I86)-1,COLUMNS($I$34:I86)-1),\"\")","v":""},{"$f":"IF(OFFSET(DE104_3!$J$34,ROWS($J$34:J86)-1,COLUMNS($J$34:J86)-1)<>\"\",OFFSET(DE104_3!$J$34,ROWS($J$34:J86)-1,COLUMNS($J$34:J86)-1),\"\")","v":""},{"$f":"IF(OFFSET(DE104_3!$K$34,ROWS($K$34:K86)-1,COLUMNS($K$34:K86)-1)<>\"\",OFFSET(DE104_3!$K$34,ROWS($K$34:K86)-1,COLUMNS($K$34:K86)-1),\"\")","v":""},{"$f":"IF(OFFSET(DE104_3!$L$34,ROWS($L$34:L86)-1,COLUMNS($L$34:L86)-1)<>\"\",OFFSET(DE104_3!$L$34,ROWS($L$34:L86)-1,COLUMNS($L$34:L86)-1),\"\")","v":""},{"$f":"IF(OFFSET(DE104_3!$M$34,ROWS($M$34:M86)-1,COLUMNS($M$34:M86)-1)<>\"\",OFFSET(DE104_3!$M$34,ROWS($M$34:M86)-1,COLUMNS($M$34:M86)-1),\"\")","v":""},{"$f":"IF(OFFSET(DE104_3!$N$34,ROWS($N$34:N86)-1,COLUMNS($N$34:N86)-1)<>\"\",OFFSET(DE104_3!$N$34,ROWS($N$34:N86)-1,COLUMNS($N$34:N86)-1),\"\")","v":""},{"$f":"IF(OFFSET(DE104_3!$O$34,ROWS($O$34:O86)-1,COLUMNS($O$34:O86)-1)<>\"\",OFFSET(DE104_3!$O$34,ROWS($O$34:O86)-1,COLUMNS($O$34:O86)-1),\"\")","v":""},{"$f":"IF(OFFSET(DE104_3!$P$34,ROWS($P$34:P86)-1,COLUMNS($P$34:P86)-1)<>\"\",OFFSET(DE104_3!$P$34,ROWS($P$34:P86)-1,COLUMNS($P$34:P86)-1),\"\")","v":""},{"$f":"IF(OFFSET(DE104_3!$Q$34,ROWS($Q$34:Q86)-1,COLUMNS($Q$34:Q86)-1)<>\"\",OFFSET(DE104_3!$Q$34,ROWS($Q$34:Q86)-1,COLUMNS($Q$34:Q86)-1),\"\")","v":""},{"$f":"IF(OFFSET(DE104_3!$R$34,ROWS($R$34:R86)-1,COLUMNS($R$34:R86)-1)<>\"\",OFFSET(DE104_3!$R$34,ROWS($R$34:R86)-1,COLUMNS($R$34:R86)-1),\"\")","v":""},{"$f":"IF(OFFSET(DE104_3!$S$34,ROWS($S$34:S86)-1,COLUMNS($S$34:S86)-1)<>\"\",OFFSET(DE104_3!$S$34,ROWS($S$34:S86)-1,COLUMNS($S$34:S86)-1),\"\")","v":""},{"$f":"IF(OFFSET(DE104_3!$T$34,ROWS($T$34:T86)-1,COLUMNS($T$34:T86)-1)<>\"\",OFFSET(DE104_3!$T$34,ROWS($T$34:T86)-1,COLUMNS($T$34:T86)-1),\"\")","v":""},{"$f":"IF(OFFSET(DE104_3!$U$34,ROWS($U$34:U86)-1,COLUMNS($U$34:U86)-1)<>\"\",OFFSET(DE104_3!$U$34,ROWS($U$34:U86)-1,COLUMNS($U$34:U86)-1),\"\")","v":""},{"$f":"IF(OFFSET(DE104_3!$V$34,ROWS($V$34:V86)-1,COLUMNS($V$34:V86)-1)<>\"\",OFFSET(DE104_3!$V$34,ROWS($V$34:V86)-1,COLUMNS($V$34:V86)-1),\"\")","v":""},{"$f":"IF(OFFSET(DE104_3!$W$34,ROWS($W$34:W86)-1,COLUMNS($W$34:W86)-1)<>\"\",OFFSET(DE104_3!$W$34,ROWS($W$34:W86)-1,COLUMNS($W$34:W86)-1),\"\")","v":""},{"$f":"IF(OFFSET(DE104_3!$X$34,ROWS($X$34:X86)-1,COLUMNS($X$34:X86)-1)<>\"\",OFFSET(DE104_3!$X$34,ROWS($X$34:X86)-1,COLUMNS($X$34:X86)-1),\"\")","v":""},{"$f":"IF(OFFSET(DE104_3!$Y$34,ROWS($Y$34:Y86)-1,COLUMNS($Y$34:Y86)-1)<>\"\",OFFSET(DE104_3!$Y$34,ROWS($Y$34:Y86)-1,COLUMNS($Y$34:Y86)-1),\"\")","v":""},{"$f":"IF(OFFSET(DE104_3!$Z$34,ROWS($Z$34:Z86)-1,COLUMNS($Z$34:Z86)-1)<>\"\",OFFSET(DE104_3!$Z$34,ROWS($Z$34:Z86)-1,COLUMNS($Z$34:Z86)-1),\"\")","v":""},{"$f":"IF(OFFSET(DE104_3!$AA$34,ROWS($AA$34:AA86)-1,COLUMNS($AA$34:AA86)-1)<>\"\",OFFSET(DE104_3!$AA$34,ROWS($AA$34:AA86)-1,COLUMNS($AA$34:AA86)-1),\"\")","v":""},{"$f":"IF(OFFSET(DE104_3!$AB$34,ROWS($AB$34:AB86)-1,COLUMNS($AB$34:AB86)-1)<>\"\",OFFSET(DE104_3!$AB$34,ROWS($AB$34:AB86)-1,COLUMNS($AB$34:AB86)-1),\"\")","v":""},{"$f":"IF(OFFSET(DE104_3!$AC$34,ROWS($AC$34:AC86)-1,COLUMNS($AC$34:AC86)-1)<>\"\",OFFSET(DE104_3!$AC$34,ROWS($AC$34:AC86)-1,COLUMNS($AC$34:AC86)-1),\"\")","v":""},{"$f":"IF(OFFSET(DE104_3!$AD$34,ROWS($AD$34:AD86)-1,COLUMNS($AD$34:AD86)-1)<>\"\",OFFSET(DE104_3!$AD$34,ROWS($AD$34:AD86)-1,COLUMNS($AD$34:AD86)-1),\"\")","v":""},{"$f":"IF(OFFSET(DE104_3!$AE$34,ROWS($AE$34:AE86)-1,COLUMNS($AE$34:AE86)-1)<>\"\",OFFSET(DE104_3!$AE$34,ROWS($AE$34:AE86)-1,COLUMNS($AE$34:AE86)-1),\"\")","v":""},{"$f":"IF(OFFSET(DE104_3!$AF$34,ROWS($AF$34:AF86)-1,COLUMNS($AF$34:AF86)-1)<>\"\",OFFSET(DE104_3!$AF$34,ROWS($AF$34:AF86)-1,COLUMNS($AF$34:AF86)-1),\"\")","v":""},{"$f":"IF(OFFSET(DE104_3!$AG$34,ROWS($AG$34:AG86)-1,COLUMNS($AG$34:AG86)-1)<>\"\",OFFSET(DE104_3!$AG$34,ROWS($AG$34:AG86)-1,COLUMNS($AG$34:AG86)-1),\"\")","v":""},{"$f":"IF(OFFSET(DE104_3!$AH$34,ROWS($AH$34:AH86)-1,COLUMNS($AH$34:AH86)-1)<>\"\",OFFSET(DE104_3!$AH$34,ROWS($AH$34:AH86)-1,COLUMNS($AH$34:AH86)-1),\"\")","v":""},{"$f":"IF(OFFSET(DE104_3!$AI$34,ROWS($AI$34:AI86)-1,COLUMNS($AI$34:AI86)-1)<>\"\",OFFSET(DE104_3!$AI$34,ROWS($AI$34:AI86)-1,COLUMNS($AI$34:AI86)-1),\"\")","v":""},{"$f":"IF(OFFSET(DE104_3!$AJ$34,ROWS($AJ$34:AJ86)-1,COLUMNS($AJ$34:AJ86)-1)<>\"\",OFFSET(DE104_3!$AJ$34,ROWS($AJ$34:AJ86)-1,COLUMNS($AJ$34:AJ86)-1),\"\")","v":""},{"$f":"IF(OFFSET(DE104_3!$AK$34,ROWS($AK$34:AK86)-1,COLUMNS($AK$34:AK86)-1)<>\"\",OFFSET(DE104_3!$AK$34,ROWS($AK$34:AK86)-1,COLUMNS($AK$34:AK86)-1),\"\")","v":""},{"$f":"IF(OFFSET(DE104_3!$AL$34,ROWS($AL$34:AL86)-1,COLUMNS($AL$34:AL86)-1)<>\"\",OFFSET(DE104_3!$AL$34,ROWS($AL$34:AL86)-1,COLUMNS($AL$34:AL86)-1),\"\")","v":""},{"$f":"IF(OFFSET(DE104_3!$AM$34,ROWS($AM$34:AM86)-1,COLUMNS($AM$34:AM86)-1)<>\"\",OFFSET(DE104_3!$AM$34,ROWS($AM$34:AM86)-1,COLUMNS($AM$34:AM86)-1),\"\")","v":""},{"$f":"IF(OFFSET(DE104_3!$AN$34,ROWS($AN$34:AN86)-1,COLUMNS($AN$34:AN86)-1)<>\"\",OFFSET(DE104_3!$AN$34,ROWS($AN$34:AN86)-1,COLUMNS($AN$34:AN86)-1),\"\")","v":""},{"$f":"IF(OFFSET(DE104_3!$AO$34,ROWS($AO$34:AO86)-1,COLUMNS($AO$34:AO86)-1)<>\"\",OFFSET(DE104_3!$AO$34,ROWS($AO$34:AO86)-1,COLUMNS($AO$34:AO86)-1),\"\")","v":""},{"$f":"IF(OFFSET(DE104_3!$AP$34,ROWS($AP$34:AP86)-1,COLUMNS($AP$34:AP86)-1)<>\"\",OFFSET(DE104_3!$AP$34,ROWS($AP$34:AP86)-1,COLUMNS($AP$34:AP86)-1),\"\")","v":""},{"$f":"IF(OFFSET(DE104_3!$AQ$34,ROWS($AQ$34:AQ86)-1,COLUMNS($AQ$34:AQ86)-1)<>\"\",OFFSET(DE104_3!$AQ$34,ROWS($AQ$34:AQ86)-1,COLUMNS($AQ$34:AQ86)-1),\"\")","v":""}]
[{"$f":"IF(OFFSET(DE104_3!$C$34,ROWS($C$34:C87)-1,COLUMNS($C$34:C87)-1)<>\"\",OFFSET(DE104_3!$C$34,ROWS($C$34:C87)-1,COLUMNS($C$34:C87)-1),\"\")","v":""},{"$f":"IF(OFFSET(DE104_3!$D$34,ROWS($D$34:D87)-1,COLUMNS($D$34:D87)-1)<>\"\",OFFSET(DE104_3!$D$34,ROWS($D$34:D87)-1,COLUMNS($D$34:D87)-1),\"\")","v":"US 218 Loop B"},{"$f":"IF(OFFSET(DE104_3!$E$34,ROWS($E$34:E87)-1,COLUMNS($E$34:E87)-1)<>\"\",OFFSET(DE104_3!$E$34,ROWS($E$34:E87)-1,COLUMNS($E$34:E87)-1),\"\")","v":""},{"$f":"IF(OFFSET(DE104_3!$F$34,ROWS($F$34:F87)-1,COLUMNS($F$34:F87)-1)<>\"\",OFFSET(DE104_3!$F$34,ROWS($F$34:F87)-1,COLUMNS($F$34:F87)-1),\"\")","v":""},{"$f":"IF(OFFSET(DE104_3!$G$34,ROWS($G$34:G87)-1,COLUMNS($G$34:G87)-1)<>\"\",OFFSET(DE104_3!$G$34,ROWS($G$34:G87)-1,COLUMNS($G$34:G87)-1),\"\")","v":""},{"$f":"IF(OFFSET(DE104_3!$H$34,ROWS($H$34:H87)-1,COLUMNS($H$34:H87)-1)<>\"\",OFFSET(DE104_3!$H$34,ROWS($H$34:H87)-1,COLUMNS($H$34:H87)-1),\"\")","v":""},{"$f":"IF(OFFSET(DE104_3!$I$34,ROWS($I$34:I87)-1,COLUMNS($I$34:I87)-1)<>\"\",OFFSET(DE104_3!$I$34,ROWS($I$34:I87)-1,COLUMNS($I$34:I87)-1),\"\")","v":""},{"$f":"IF(OFFSET(DE104_3!$J$34,ROWS($J$34:J87)-1,COLUMNS($J$34:J87)-1)<>\"\",OFFSET(DE104_3!$J$34,ROWS($J$34:J87)-1,COLUMNS($J$34:J87)-1),\"\")","v":""},{"$f":"IF(OFFSET(DE104_3!$K$34,ROWS($K$34:K87)-1,COLUMNS($K$34:K87)-1)<>\"\",OFFSET(DE104_3!$K$34,ROWS($K$34:K87)-1,COLUMNS($K$34:K87)-1),\"\")","v":""},{"$f":"IF(OFFSET(DE104_3!$L$34,ROWS($L$34:L87)-1,COLUMNS($L$34:L87)-1)<>\"\",OFFSET(DE104_3!$L$34,ROWS($L$34:L87)-1,COLUMNS($L$34:L87)-1),\"\")","v":""},{"$f":"IF(OFFSET(DE104_3!$M$34,ROWS($M$34:M87)-1,COLUMNS($M$34:M87)-1)<>\"\",OFFSET(DE104_3!$M$34,ROWS($M$34:M87)-1,COLUMNS($M$34:M87)-1),\"\")","v":""},{"$f":"IF(OFFSET(DE104_3!$N$34,ROWS($N$34:N87)-1,COLUMNS($N$34:N87)-1)<>\"\",OFFSET(DE104_3!$N$34,ROWS($N$34:N87)-1,COLUMNS($N$34:N87)-1),\"\")","v":""},{"$f":"IF(OFFSET(DE104_3!$O$34,ROWS($O$34:O87)-1,COLUMNS($O$34:O87)-1)<>\"\",OFFSET(DE104_3!$O$34,ROWS($O$34:O87)-1,COLUMNS($O$34:O87)-1),\"\")","v":""},{"$f":"IF(OFFSET(DE104_3!$P$34,ROWS($P$34:P87)-1,COLUMNS($P$34:P87)-1)<>\"\",OFFSET(DE104_3!$P$34,ROWS($P$34:P87)-1,COLUMNS($P$34:P87)-1),\"\")","v":""},{"$f":"IF(OFFSET(DE104_3!$Q$34,ROWS($Q$34:Q87)-1,COLUMNS($Q$34:Q87)-1)<>\"\",OFFSET(DE104_3!$Q$34,ROWS($Q$34:Q87)-1,COLUMNS($Q$34:Q87)-1),\"\")","v":""},{"$f":"IF(OFFSET(DE104_3!$R$34,ROWS($R$34:R87)-1,COLUMNS($R$34:R87)-1)<>\"\",OFFSET(DE104_3!$R$34,ROWS($R$34:R87)-1,COLUMNS($R$34:R87)-1),\"\")","v":""},{"$f":"IF(OFFSET(DE104_3!$S$34,ROWS($S$34:S87)-1,COLUMNS($S$34:S87)-1)<>\"\",OFFSET(DE104_3!$S$34,ROWS($S$34:S87)-1,COLUMNS($S$34:S87)-1),\"\")","v":""},{"$f":"IF(OFFSET(DE104_3!$T$34,ROWS($T$34:T87)-1,COLUMNS($T$34:T87)-1)<>\"\",OFFSET(DE104_3!$T$34,ROWS($T$34:T87)-1,COLUMNS($T$34:T87)-1),\"\")","v":""},{"$f":"IF(OFFSET(DE104_3!$U$34,ROWS($U$34:U87)-1,COLUMNS($U$34:U87)-1)<>\"\",OFFSET(DE104_3!$U$34,ROWS($U$34:U87)-1,COLUMNS($U$34:U87)-1),\"\")","v":""},{"$f":"IF(OFFSET(DE104_3!$V$34,ROWS($V$34:V87)-1,COLUMNS($V$34:V87)-1)<>\"\",OFFSET(DE104_3!$V$34,ROWS($V$34:V87)-1,COLUMNS($V$34:V87)-1),\"\")","v":""},{"$f":"IF(OFFSET(DE104_3!$W$34,ROWS($W$34:W87)-1,COLUMNS($W$34:W87)-1)<>\"\",OFFSET(DE104_3!$W$34,ROWS($W$34:W87)-1,COLUMNS($W$34:W87)-1),\"\")","v":""},{"$f":"IF(OFFSET(DE104_3!$X$34,ROWS($X$34:X87)-1,COLUMNS($X$34:X87)-1)<>\"\",OFFSET(DE104_3!$X$34,ROWS($X$34:X87)-1,COLUMNS($X$34:X87)-1),\"\")","v":""},{"$f":"IF(OFFSET(DE104_3!$Y$34,ROWS($Y$34:Y87)-1,COLUMNS($Y$34:Y87)-1)<>\"\",OFFSET(DE104_3!$Y$34,ROWS($Y$34:Y87)-1,COLUMNS($Y$34:Y87)-1),\"\")","v":""},{"$f":"IF(OFFSET(DE104_3!$Z$34,ROWS($Z$34:Z87)-1,COLUMNS($Z$34:Z87)-1)<>\"\",OFFSET(DE104_3!$Z$34,ROWS($Z$34:Z87)-1,COLUMNS($Z$34:Z87)-1),\"\")","v":""},{"$f":"IF(OFFSET(DE104_3!$AA$34,ROWS($AA$34:AA87)-1,COLUMNS($AA$34:AA87)-1)<>\"\",OFFSET(DE104_3!$AA$34,ROWS($AA$34:AA87)-1,COLUMNS($AA$34:AA87)-1),\"\")","v":""},{"$f":"IF(OFFSET(DE104_3!$AB$34,ROWS($AB$34:AB87)-1,COLUMNS($AB$34:AB87)-1)<>\"\",OFFSET(DE104_3!$AB$34,ROWS($AB$34:AB87)-1,COLUMNS($AB$34:AB87)-1),\"\")","v":""},{"$f":"IF(OFFSET(DE104_3!$AC$34,ROWS($AC$34:AC87)-1,COLUMNS($AC$34:AC87)-1)<>\"\",OFFSET(DE104_3!$AC$34,ROWS($AC$34:AC87)-1,COLUMNS($AC$34:AC87)-1),\"\")","v":""},{"$f":"IF(OFFSET(DE104_3!$AD$34,ROWS($AD$34:AD87)-1,COLUMNS($AD$34:AD87)-1)<>\"\",OFFSET(DE104_3!$AD$34,ROWS($AD$34:AD87)-1,COLUMNS($AD$34:AD87)-1),\"\")","v":""},{"$f":"IF(OFFSET(DE104_3!$AE$34,ROWS($AE$34:AE87)-1,COLUMNS($AE$34:AE87)-1)<>\"\",OFFSET(DE104_3!$AE$34,ROWS($AE$34:AE87)-1,COLUMNS($AE$34:AE87)-1),\"\")","v":""},{"$f":"IF(OFFSET(DE104_3!$AF$34,ROWS($AF$34:AF87)-1,COLUMNS($AF$34:AF87)-1)<>\"\",OFFSET(DE104_3!$AF$34,ROWS($AF$34:AF87)-1,COLUMNS($AF$34:AF87)-1),\"\")","v":""},{"$f":"IF(OFFSET(DE104_3!$AG$34,ROWS($AG$34:AG87)-1,COLUMNS($AG$34:AG87)-1)<>\"\",OFFSET(DE104_3!$AG$34,ROWS($AG$34:AG87)-1,COLUMNS($AG$34:AG87)-1),\"\")","v":""},{"$f":"IF(OFFSET(DE104_3!$AH$34,ROWS($AH$34:AH87)-1,COLUMNS($AH$34:AH87)-1)<>\"\",OFFSET(DE104_3!$AH$34,ROWS($AH$34:AH87)-1,COLUMNS($AH$34:AH87)-1),\"\")","v":""},{"$f":"IF(OFFSET(DE104_3!$AI$34,ROWS($AI$34:AI87)-1,COLUMNS($AI$34:AI87)-1)<>\"\",OFFSET(DE104_3!$AI$34,ROWS($AI$34:AI87)-1,COLUMNS($AI$34:AI87)-1),\"\")","v":""},{"$f":"IF(OFFSET(DE104_3!$AJ$34,ROWS($AJ$34:AJ87)-1,COLUMNS($AJ$34:AJ87)-1)<>\"\",OFFSET(DE104_3!$AJ$34,ROWS($AJ$34:AJ87)-1,COLUMNS($AJ$34:AJ87)-1),\"\")","v":""},{"$f":"IF(OFFSET(DE104_3!$AK$34,ROWS($AK$34:AK87)-1,COLUMNS($AK$34:AK87)-1)<>\"\",OFFSET(DE104_3!$AK$34,ROWS($AK$34:AK87)-1,COLUMNS($AK$34:AK87)-1),\"\")","v":""},{"$f":"IF(OFFSET(DE104_3!$AL$34,ROWS($AL$34:AL87)-1,COLUMNS($AL$34:AL87)-1)<>\"\",OFFSET(DE104_3!$AL$34,ROWS($AL$34:AL87)-1,COLUMNS($AL$34:AL87)-1),\"\")","v":""},{"$f":"IF(OFFSET(DE104_3!$AM$34,ROWS($AM$34:AM87)-1,COLUMNS($AM$34:AM87)-1)<>\"\",OFFSET(DE104_3!$AM$34,ROWS($AM$34:AM87)-1,COLUMNS($AM$34:AM87)-1),\"\")","v":""},{"$f":"IF(OFFSET(DE104_3!$AN$34,ROWS($AN$34:AN87)-1,COLUMNS($AN$34:AN87)-1)<>\"\",OFFSET(DE104_3!$AN$34,ROWS($AN$34:AN87)-1,COLUMNS($AN$34:AN87)-1),\"\")","v":""},{"$f":"IF(OFFSET(DE104_3!$AO$34,ROWS($AO$34:AO87)-1,COLUMNS($AO$34:AO87)-1)<>\"\",OFFSET(DE104_3!$AO$34,ROWS($AO$34:AO87)-1,COLUMNS($AO$34:AO87)-1),\"\")","v":""},{"$f":"IF(OFFSET(DE104_3!$AP$34,ROWS($AP$34:AP87)-1,COLUMNS($AP$34:AP87)-1)<>\"\",OFFSET(DE104_3!$AP$34,ROWS($AP$34:AP87)-1,COLUMNS($AP$34:AP87)-1),\"\")","v":""},{"$f":"IF(OFFSET(DE104_3!$AQ$34,ROWS($AQ$34:AQ87)-1,COLUMNS($AQ$34:AQ87)-1)<>\"\",OFFSET(DE104_3!$AQ$34,ROWS($AQ$34:AQ87)-1,COLUMNS($AQ$34:AQ87)-1),\"\")","v":""}]
[{"$f":"IF(OFFSET(DE104_3!$C$34,ROWS($C$34:C88)-1,COLUMNS($C$34:C88)-1)<>\"\",OFFSET(DE104_3!$C$34,ROWS($C$34:C88)-1,COLUMNS($C$34:C88)-1),\"\")","v":48},{"$f":"IF(OFFSET(DE104_3!$D$34,ROWS($D$34:D88)-1,COLUMNS($D$34:D88)-1)<>\"\",OFFSET(DE104_3!$D$34,ROWS($D$34:D88)-1,COLUMNS($D$34:D88)-1),\"\")","v":2147400},{"$f":"IF(OFFSET(DE104_3!$E$34,ROWS($E$34:E88)-1,COLUMNS($E$34:E88)-1)<>\"\",OFFSET(DE104_3!$E$34,ROWS($E$34:E88)-1,COLUMNS($E$34:E88)-1),\"\")","v":"DR-601"},{"$f":"IF(OFFSET(DE104_3!$F$34,ROWS($F$34:F88)-1,COLUMNS($F$34:F88)-1)<>\"\",OFFSET(DE104_3!$F$34,ROWS($F$34:F88)-1,COLUMNS($F$34:F88)-1),\"\")","v":"44x27"},{"$f":"IF(OFFSET(DE104_3!$G$34,ROWS($G$34:G88)-1,COLUMNS($G$34:G88)-1)<>\"\",OFFSET(DE104_3!$G$34,ROWS($G$34:G88)-1,COLUMNS($G$34:G88)-1),\"\")","v":2000},{"$f":"IF(OFFSET(DE104_3!$H$34,ROWS($H$34:H88)-1,COLUMNS($H$34:H88)-1)<>\"\",OFFSET(DE104_3!$H$34,ROWS($H$34:H88)-1,COLUMNS($H$34:H88)-1),\"\")","v":"LCP"},{"$f":"IF(OFFSET(DE104_3!$I$34,ROWS($I$34:I88)-1,COLUMNS($I$34:I88)-1)<>\"\",OFFSET(DE104_3!$I$34,ROWS($I$34:I88)-1,COLUMNS($I$34:I88)-1),\"\")","v":66},{"$f":"IF(OFFSET(DE104_3!$J$34,ROWS($J$34:J88)-1,COLUMNS($J$34:J88)-1)<>\"\",OFFSET(DE104_3!$J$34,ROWS($J$34:J88)-1,COLUMNS($J$34:J88)-1),\"\")","v":"B"},{"$f":"IF(OFFSET(DE104_3!$K$34,ROWS($K$34:K88)-1,COLUMNS($K$34:K88)-1)<>\"\",OFFSET(DE104_3!$K$34,ROWS($K$34:K88)-1,COLUMNS($K$34:K88)-1),\"\")","v":1.5},{"$f":"IF(OFFSET(DE104_3!$L$34,ROWS($L$34:L88)-1,COLUMNS($L$34:L88)-1)<>\"\",OFFSET(DE104_3!$L$34,ROWS($L$34:L88)-1,COLUMNS($L$34:L88)-1),\"\")","v":""},{"$f":"IF(OFFSET(DE104_3!$M$34,ROWS($M$34:M88)-1,COLUMNS($M$34:M88)-1)<>\"\",OFFSET(DE104_3!$M$34,ROWS($M$34:M88)-1,COLUMNS($M$34:M88)-1),\"\")","v":1},{"$f":"IF(OFFSET(DE104_3!$N$34,ROWS($N$34:N88)-1,COLUMNS($N$34:N88)-1)<>\"\",OFFSET(DE104_3!$N$34,ROWS($N$34:N88)-1,COLUMNS($N$34:N88)-1),\"\")","v":1},{"$f":"IF(OFFSET(DE104_3!$O$34,ROWS($O$34:O88)-1,COLUMNS($O$34:O88)-1)<>\"\",OFFSET(DE104_3!$O$34,ROWS($O$34:O88)-1,COLUMNS($O$34:O88)-1),\"\")","v":""},{"$f":"IF(OFFSET(DE104_3!$P$34,ROWS($P$34:P88)-1,COLUMNS($P$34:P88)-1)<>\"\",OFFSET(DE104_3!$P$34,ROWS($P$34:P88)-1,COLUMNS($P$34:P88)-1),\"\")","v":""},{"$f":"IF(OFFSET(DE104_3!$Q$34,ROWS($Q$34:Q88)-1,COLUMNS($Q$34:Q88)-1)<>\"\",OFFSET(DE104_3!$Q$34,ROWS($Q$34:Q88)-1,COLUMNS($Q$34:Q88)-1),\"\")","v":""},{"$f":"IF(OFFSET(DE104_3!$R$34,ROWS($R$34:R88)-1,COLUMNS($R$34:R88)-1)<>\"\",OFFSET(DE104_3!$R$34,ROWS($R$34:R88)-1,COLUMNS($R$34:R88)-1),\"\")","v":""},{"$f":"IF(OFFSET(DE104_3!$S$34,ROWS($S$34:S88)-1,COLUMNS($S$34:S88)-1)<>\"\",OFFSET(DE104_3!$S$34,ROWS($S$34:S88)-1,COLUMNS($S$34:S88)-1),\"\")","v":""},{"$f":"IF(OFFSET(DE104_3!$T$34,ROWS($T$34:T88)-1,COLUMNS($T$34:T88)-1)<>\"\",OFFSET(DE104_3!$T$34,ROWS($T$34:T88)-1,COLUMNS($T$34:T88)-1),\"\")","v":""},{"$f":"IF(OFFSET(DE104_3!$U$34,ROWS($U$34:U88)-1,COLUMNS($U$34:U88)-1)<>\"\",OFFSET(DE104_3!$U$34,ROWS($U$34:U88)-1,COLUMNS($U$34:U88)-1),\"\")","v":""},{"$f":"IF(OFFSET(DE104_3!$V$34,ROWS($V$34:V88)-1,COLUMNS($V$34:V88)-1)<>\"\",OFFSET(DE104_3!$V$34,ROWS($V$34:V88)-1,COLUMNS($V$34:V88)-1),\"\")","v":"Type 3"},{"$f":"IF(OFFSET(DE104_3!$W$34,ROWS($W$34:W88)-1,COLUMNS($W$34:W88)-1)<>\"\",OFFSET(DE104_3!$W$34,ROWS($W$34:W88)-1,COLUMNS($W$34:W88)-1),\"\")","v":""},{"$f":"IF(OFFSET(DE104_3!$X$34,ROWS($X$34:X88)-1,COLUMNS($X$34:X88)-1)<>\"\",OFFSET(DE104_3!$X$34,ROWS($X$34:X88)-1,COLUMNS($X$34:X88)-1),\"\")","v":909.37},{"$f":"IF(OFFSET(DE104_3!$Y$34,ROWS($Y$34:Y88)-1,COLUMNS($Y$34:Y88)-1)<>\"\",OFFSET(DE104_3!$Y$34,ROWS($Y$34:Y88)-1,COLUMNS($Y$34:Y88)-1),\"\")","v":910.03},{"$f":"IF(OFFSET(DE104_3!$Z$34,ROWS($Z$34:Z88)-1,COLUMNS($Z$34:Z88)-1)<>\"\",OFFSET(DE104_3!$Z$34,ROWS($Z$34:Z88)-1,COLUMNS($Z$34:Z88)-1),\"\")","v":""},{"$f":"IF(OFFSET(DE104_3!$AA$34,ROWS($AA$34:AA88)-1,COLUMNS($AA$34:AA88)-1)<>\"\",OFFSET(DE104_3!$AA$34,ROWS($AA$34:AA88)-1,COLUMNS($AA$34:AA88)-1),\"\")","v":""},{"$f":"IF(OFFSET(DE104_3!$AB$34,ROWS($AB$34:AB88)-1,COLUMNS($AB$34:AB88)-1)<>\"\",OFFSET(DE104_3!$AB$34,ROWS($AB$34:AB88)-1,COLUMNS($AB$34:AB88)-1),\"\")","v":54.78},{"$f":"IF(OFFSET(DE104_3!$AC$34,ROWS($AC$34:AC88)-1,COLUMNS($AC$34:AC88)-1)<>\"\",OFFSET(DE104_3!$AC$34,ROWS($AC$34:AC88)-1,COLUMNS($AC$34:AC88)-1),\"\")","v":27.22},{"$f":"IF(OFFSET(DE104_3!$AD$34,ROWS($AD$34:AD88)-1,COLUMNS($AD$34:AD88)-1)<>\"\",OFFSET(DE104_3!$AD$34,ROWS($AD$34:AD88)-1,COLUMNS($AD$34:AD88)-1),\"\")","v":""},{"$f":"IF(OFFSET(DE104_3!$AE$34,ROWS($AE$34:AE88)-1,COLUMNS($AE$34:AE88)-1)<>\"\",OFFSET(DE104_3!$AE$34,ROWS($AE$34:AE88)-1,COLUMNS($AE$34:AE88)-1),\"\")","v":""},{"$f":"IF(OFFSET(DE104_3!$AF$34,ROWS($AF$34:AF88)-1,COLUMNS($AF$34:AF88)-1)<>\"\",OFFSET(DE104_3!$AF$34,ROWS($AF$34:AF88)-1,COLUMNS($AF$34:AF88)-1),\"\")","v":""},{"$f":"IF(OFFSET(DE104_3!$AG$34,ROWS($AG$34:AG88)-1,COLUMNS($AG$34:AG88)-1)<>\"\",OFFSET(DE104_3!$AG$34,ROWS($AG$34:AG88)-1,COLUMNS($AG$34:AG88)-1),\"\")","v":""},{"$f":"IF(OFFSET(DE104_3!$AH$34,ROWS($AH$34:AH88)-1,COLUMNS($AH$34:AH88)-1)<>\"\",OFFSET(DE104_3!$AH$34,ROWS($AH$34:AH88)-1,COLUMNS($AH$34:AH88)-1),\"\")","v":""},{"$f":"IF(OFFSET(DE104_3!$AI$34,ROWS($AI$34:AI88)-1,COLUMNS($AI$34:AI88)-1)<>\"\",OFFSET(DE104_3!$AI$34,ROWS($AI$34:AI88)-1,COLUMNS($AI$34:AI88)-1),\"\")","v":""},{"$f":"IF(OFFSET(DE104_3!$AJ$34,ROWS($AJ$34:AJ88)-1,COLUMNS($AJ$34:AJ88)-1)<>\"\",OFFSET(DE104_3!$AJ$34,ROWS($AJ$34:AJ88)-1,COLUMNS($AJ$34:AJ88)-1),\"\")","v":""},{"$f":"IF(OFFSET(DE104_3!$AK$34,ROWS($AK$34:AK88)-1,COLUMNS($AK$34:AK88)-1)<>\"\",OFFSET(DE104_3!$AK$34,ROWS($AK$34:AK88)-1,COLUMNS($AK$34:AK88)-1),\"\")","v":""},{"$f":"IF(OFFSET(DE104_3!$AL$34,ROWS($AL$34:AL88)-1,COLUMNS($AL$34:AL88)-1)<>\"\",OFFSET(DE104_3!$AL$34,ROWS($AL$34:AL88)-1,COLUMNS($AL$34:AL88)-1),\"\")","v":156.28592592592594},{"$f":"IF(OFFSET(DE104_3!$AM$34,ROWS($AM$34:AM88)-1,COLUMNS($AM$34:AM88)-1)<>\"\",OFFSET(DE104_3!$AM$34,ROWS($AM$34:AM88)-1,COLUMNS($AM$34:AM88)-1),\"\")","v":""},{"$f":"IF(OFFSET(DE104_3!$AN$34,ROWS($AN$34:AN88)-1,COLUMNS($AN$34:AN88)-1)<>\"\",OFFSET(DE104_3!$AN$34,ROWS($AN$34:AN88)-1,COLUMNS($AN$34:AN88)-1),\"\")","v":34.124444444444443},{"$f":"IF(OFFSET(DE104_3!$AO$34,ROWS($AO$34:AO88)-1,COLUMNS($AO$34:AO88)-1)<>\"\",OFFSET(DE104_3!$AO$34,ROWS($AO$34:AO88)-1,COLUMNS($AO$34:AO88)-1),\"\")","v":7.8814814814814822},{"$f":"IF(OFFSET(DE104_3!$AP$34,ROWS($AP$34:AP88)-1,COLUMNS($AP$34:AP88)-1)<>\"\",OFFSET(DE104_3!$AP$34,ROWS($AP$34:AP88)-1,COLUMNS($AP$34:AP88)-1),\"\")","v":42.005925925925922},{"$f":"IF(OFFSET(DE104_3!$AQ$34,ROWS($AQ$34:AQ88)-1,COLUMNS($AQ$34:AQ88)-1)<>\"\",OFFSET(DE104_3!$AQ$34,ROWS($AQ$34:AQ88)-1,COLUMNS($AQ$34:AQ88)-1),\"\")","v":""}]
[{"$f":"IF(OFFSET(DE104_3!$C$34,ROWS($C$34:C89)-1,COLUMNS($C$34:C89)-1)<>\"\",OFFSET(DE104_3!$C$34,ROWS($C$34:C89)-1,COLUMNS($C$34:C89)-1),\"\")","v":""},{"$f":"IF(OFFSET(DE104_3!$D$34,ROWS($D$34:D89)-1,COLUMNS($D$34:D89)-1)<>\"\",OFFSET(DE104_3!$D$34,ROWS($D$34:D89)-1,COLUMNS($D$34:D89)-1),\"\")","v":""},{"$f":"IF(OFFSET(DE104_3!$E$34,ROWS($E$34:E89)-1,COLUMNS($E$34:E89)-1)<>\"\",OFFSET(DE104_3!$E$34,ROWS($E$34:E89)-1,COLUMNS($E$34:E89)-1),\"\")","v":""},{"$f":"IF(OFFSET(DE104_3!$F$34,ROWS($F$34:F89)-1,COLUMNS($F$34:F89)-1)<>\"\",OFFSET(DE104_3!$F$34,ROWS($F$34:F89)-1,COLUMNS($F$34:F89)-1),\"\")","v":""},{"$f":"IF(OFFSET(DE104_3!$G$34,ROWS($G$34:G89)-1,COLUMNS($G$34:G89)-1)<>\"\",OFFSET(DE104_3!$G$34,ROWS($G$34:G89)-1,COLUMNS($G$34:G89)-1),\"\")","v":""},{"$f":"IF(OFFSET(DE104_3!$H$34,ROWS($H$34:H89)-1,COLUMNS($H$34:H89)-1)<>\"\",OFFSET(DE104_3!$H$34,ROWS($H$34:H89)-1,COLUMNS($H$34:H89)-1),\"\")","v":""},{"$f":"IF(OFFSET(DE104_3!$I$34,ROWS($I$34:I89)-1,COLUMNS($I$34:I89)-1)<>\"\",OFFSET(DE104_3!$I$34,ROWS($I$34:I89)-1,COLUMNS($I$34:I89)-1),\"\")","v":""},{"$f":"IF(OFFSET(DE104_3!$J$34,ROWS($J$34:J89)-1,COLUMNS($J$34:J89)-1)<>\"\",OFFSET(DE104_3!$J$34,ROWS($J$34:J89)-1,COLUMNS($J$34:J89)-1),\"\")","v":""},{"$f":"IF(OFFSET(DE104_3!$K$34,ROWS($K$34:K89)-1,COLUMNS($K$34:K89)-1)<>\"\",OFFSET(DE104_3!$K$34,ROWS($K$34:K89)-1,COLUMNS($K$34:K89)-1),\"\")","v":""},{"$f":"IF(OFFSET(DE104_3!$L$34,ROWS($L$34:L89)-1,COLUMNS($L$34:L89)-1)<>\"\",OFFSET(DE104_3!$L$34,ROWS($L$34:L89)-1,COLUMNS($L$34:L89)-1),\"\")","v":""},{"$f":"IF(OFFSET(DE104_3!$M$34,ROWS($M$34:M89)-1,COLUMNS($M$34:M89)-1)<>\"\",OFFSET(DE104_3!$M$34,ROWS($M$34:M89)-1,COLUMNS($M$34:M89)-1),\"\")","v":""},{"$f":"IF(OFFSET(DE104_3!$N$34,ROWS($N$34:N89)-1,COLUMNS($N$34:N89)-1)<>\"\",OFFSET(DE104_3!$N$34,ROWS($N$34:N89)-1,COLUMNS($N$34:N89)-1),\"\")","v":""},{"$f":"IF(OFFSET(DE104_3!$O$34,ROWS($O$34:O89)-1,COLUMNS($O$34:O89)-1)<>\"\",OFFSET(DE104_3!$O$34,ROWS($O$34:O89)-1,COLUMNS($O$34:O89)-1),\"\")","v":""},{"$f":"IF(OFFSET(DE104_3!$P$34,ROWS($P$34:P89)-1,COLUMNS($P$34:P89)-1)<>\"\",OFFSET(DE104_3!$P$34,ROWS($P$34:P89)-1,COLUMNS($P$34:P89)-1),\"\")","v":""},{"$f":"IF(OFFSET(DE104_3!$Q$34,ROWS($Q$34:Q89)-1,COLUMNS($Q$34:Q89)-1)<>\"\",OFFSET(DE104_3!$Q$34,ROWS($Q$34:Q89)-1,COLUMNS($Q$34:Q89)-1),\"\")","v":""},{"$f":"IF(OFFSET(DE104_3!$R$34,ROWS($R$34:R89)-1,COLUMNS($R$34:R89)-1)<>\"\",OFFSET(DE104_3!$R$34,ROWS($R$34:R89)-1,COLUMNS($R$34:R89)-1),\"\")","v":""},{"$f":"IF(OFFSET(DE104_3!$S$34,ROWS($S$34:S89)-1,COLUMNS($S$34:S89)-1)<>\"\",OFFSET(DE104_3!$S$34,ROWS($S$34:S89)-1,COLUMNS($S$34:S89)-1),\"\")","v":""},{"$f":"IF(OFFSET(DE104_3!$T$34,ROWS($T$34:T89)-1,COLUMNS($T$34:T89)-1)<>\"\",OFFSET(DE104_3!$T$34,ROWS($T$34:T89)-1,COLUMNS($T$34:T89)-1),\"\")","v":""},{"$f":"IF(OFFSET(DE104_3!$U$34,ROWS($U$34:U89)-1,COLUMNS($U$34:U89)-1)<>\"\",OFFSET(DE104_3!$U$34,ROWS($U$34:U89)-1,COLUMNS($U$34:U89)-1),\"\")","v":""},{"$f":"IF(OFFSET(DE104_3!$V$34,ROWS($V$34:V89)-1,COLUMNS($V$34:V89)-1)<>\"\",OFFSET(DE104_3!$V$34,ROWS($V$34:V89)-1,COLUMNS($V$34:V89)-1),\"\")","v":""},{"$f":"IF(OFFSET(DE104_3!$W$34,ROWS($W$34:W89)-1,COLUMNS($W$34:W89)-1)<>\"\",OFFSET(DE104_3!$W$34,ROWS($W$34:W89)-1,COLUMNS($W$34:W89)-1),\"\")","v":""},{"$f":"IF(OFFSET(DE104_3!$X$34,ROWS($X$34:X89)-1,COLUMNS($X$34:X89)-1)<>\"\",OFFSET(DE104_3!$X$34,ROWS($X$34:X89)-1,COLUMNS($X$34:X89)-1),\"\")","v":""},{"$f":"IF(OFFSET(DE104_3!$Y$34,ROWS($Y$34:Y89)-1,COLUMNS($Y$34:Y89)-1)<>\"\",OFFSET(DE104_3!$Y$34,ROWS($Y$34:Y89)-1,COLUMNS($Y$34:Y89)-1),\"\")","v":""},{"$f":"IF(OFFSET(DE104_3!$Z$34,ROWS($Z$34:Z89)-1,COLUMNS($Z$34:Z89)-1)<>\"\",OFFSET(DE104_3!$Z$34,ROWS($Z$34:Z89)-1,COLUMNS($Z$34:Z89)-1),\"\")","v":""},{"$f":"IF(OFFSET(DE104_3!$AA$34,ROWS($AA$34:AA89)-1,COLUMNS($AA$34:AA89)-1)<>\"\",OFFSET(DE104_3!$AA$34,ROWS($AA$34:AA89)-1,COLUMNS($AA$34:AA89)-1),\"\")","v":""},{"$f":"IF(OFFSET(DE104_3!$AB$34,ROWS($AB$34:AB89)-1,COLUMNS($AB$34:AB89)-1)<>\"\",OFFSET(DE104_3!$AB$34,ROWS($AB$34:AB89)-1,COLUMNS($AB$34:AB89)-1),\"\")","v":""},{"$f":"IF(OFFSET(DE104_3!$AC$34,ROWS($AC$34:AC89)-1,COLUMNS($AC$34:AC89)-1)<>\"\",OFFSET(DE104_3!$AC$34,ROWS($AC$34:AC89)-1,COLUMNS($AC$34:AC89)-1),\"\")","v":""},{"$f":"IF(OFFSET(DE104_3!$AD$34,ROWS($AD$34:AD89)-1,COLUMNS($AD$34:AD89)-1)<>\"\",OFFSET(DE104_3!$AD$34,ROWS($AD$34:AD89)-1,COLUMNS($AD$34:AD89)-1),\"\")","v":""},{"$f":"IF(OFFSET(DE104_3!$AE$34,ROWS($AE$34:AE89)-1,COLUMNS($AE$34:AE89)-1)<>\"\",OFFSET(DE104_3!$AE$34,ROWS($AE$34:AE89)-1,COLUMNS($AE$34:AE89)-1),\"\")","v":""},{"$f":"IF(OFFSET(DE104_3!$AF$34,ROWS($AF$34:AF89)-1,COLUMNS($AF$34:AF89)-1)<>\"\",OFFSET(DE104_3!$AF$34,ROWS($AF$34:AF89)-1,COLUMNS($AF$34:AF89)-1),\"\")","v":""},{"$f":"IF(OFFSET(DE104_3!$AG$34,ROWS($AG$34:AG89)-1,COLUMNS($AG$34:AG89)-1)<>\"\",OFFSET(DE104_3!$AG$34,ROWS($AG$34:AG89)-1,COLUMNS($AG$34:AG89)-1),\"\")","v":""},{"$f":"IF(OFFSET(DE104_3!$AH$34,ROWS($AH$34:AH89)-1,COLUMNS($AH$34:AH89)-1)<>\"\",OFFSET(DE104_3!$AH$34,ROWS($AH$34:AH89)-1,COLUMNS($AH$34:AH89)-1),\"\")","v":""},{"$f":"IF(OFFSET(DE104_3!$AI$34,ROWS($AI$34:AI89)-1,COLUMNS($AI$34:AI89)-1)<>\"\",OFFSET(DE104_3!$AI$34,ROWS($AI$34:AI89)-1,COLUMNS($AI$34:AI89)-1),\"\")","v":""},{"$f":"IF(OFFSET(DE104_3!$AJ$34,ROWS($AJ$34:AJ89)-1,COLUMNS($AJ$34:AJ89)-1)<>\"\",OFFSET(DE104_3!$AJ$34,ROWS($AJ$34:AJ89)-1,COLUMNS($AJ$34:AJ89)-1),\"\")","v":""},{"$f":"IF(OFFSET(DE104_3!$AK$34,ROWS($AK$34:AK89)-1,COLUMNS($AK$34:AK89)-1)<>\"\",OFFSET(DE104_3!$AK$34,ROWS($AK$34:AK89)-1,COLUMNS($AK$34:AK89)-1),\"\")","v":""},{"$f":"IF(OFFSET(DE104_3!$AL$34,ROWS($AL$34:AL89)-1,COLUMNS($AL$34:AL89)-1)<>\"\",OFFSET(DE104_3!$AL$34,ROWS($AL$34:AL89)-1,COLUMNS($AL$34:AL89)-1),\"\")","v":""},{"$f":"IF(OFFSET(DE104_3!$AM$34,ROWS($AM$34:AM89)-1,COLUMNS($AM$34:AM89)-1)<>\"\",OFFSET(DE104_3!$AM$34,ROWS($AM$34:AM89)-1,COLUMNS($AM$34:AM89)-1),\"\")","v":""},{"$f":"IF(OFFSET(DE104_3!$AN$34,ROWS($AN$34:AN89)-1,COLUMNS($AN$34:AN89)-1)<>\"\",OFFSET(DE104_3!$AN$34,ROWS($AN$34:AN89)-1,COLUMNS($AN$34:AN89)-1),\"\")","v":""},{"$f":"IF(OFFSET(DE104_3!$AO$34,ROWS($AO$34:AO89)-1,COLUMNS($AO$34:AO89)-1)<>\"\",OFFSET(DE104_3!$AO$34,ROWS($AO$34:AO89)-1,COLUMNS($AO$34:AO89)-1),\"\")","v":""},{"$f":"IF(OFFSET(DE104_3!$AP$34,ROWS($AP$34:AP89)-1,COLUMNS($AP$34:AP89)-1)<>\"\",OFFSET(DE104_3!$AP$34,ROWS($AP$34:AP89)-1,COLUMNS($AP$34:AP89)-1),\"\")","v":""},{"$f":"IF(OFFSET(DE104_3!$AQ$34,ROWS($AQ$34:AQ89)-1,COLUMNS($AQ$34:AQ89)-1)<>\"\",OFFSET(DE104_3!$AQ$34,ROWS($AQ$34:AQ89)-1,COLUMNS($AQ$34:AQ89)-1),\"\")","v":""}]
[{"$f":"IF(OFFSET(DE104_3!$C$34,ROWS($C$34:C90)-1,COLUMNS($C$34:C90)-1)<>\"\",OFFSET(DE104_3!$C$34,ROWS($C$34:C90)-1,COLUMNS($C$34:C90)-1),\"\")","v":""},{"$f":"IF(OFFSET(DE104_3!$D$34,ROWS($D$34:D90)-1,COLUMNS($D$34:D90)-1)<>\"\",OFFSET(DE104_3!$D$34,ROWS($D$34:D90)-1,COLUMNS($D$34:D90)-1),\"\")","v":""},{"$f":"IF(OFFSET(DE104_3!$E$34,ROWS($E$34:E90)-1,COLUMNS($E$34:E90)-1)<>\"\",OFFSET(DE104_3!$E$34,ROWS($E$34:E90)-1,COLUMNS($E$34:E90)-1),\"\")","v":""},{"$f":"IF(OFFSET(DE104_3!$F$34,ROWS($F$34:F90)-1,COLUMNS($F$34:F90)-1)<>\"\",OFFSET(DE104_3!$F$34,ROWS($F$34:F90)-1,COLUMNS($F$34:F90)-1),\"\")","v":""},{"$f":"IF(OFFSET(DE104_3!$G$34,ROWS($G$34:G90)-1,COLUMNS($G$34:G90)-1)<>\"\",OFFSET(DE104_3!$G$34,ROWS($G$34:G90)-1,COLUMNS($G$34:G90)-1),\"\")","v":""},{"$f":"IF(OFFSET(DE104_3!$H$34,ROWS($H$34:H90)-1,COLUMNS($H$34:H90)-1)<>\"\",OFFSET(DE104_3!$H$34,ROWS($H$34:H90)-1,COLUMNS($H$34:H90)-1),\"\")","v":""},{"$f":"IF(OFFSET(DE104_3!$I$34,ROWS($I$34:I90)-1,COLUMNS($I$34:I90)-1)<>\"\",OFFSET(DE104_3!$I$34,ROWS($I$34:I90)-1,COLUMNS($I$34:I90)-1),\"\")","v":""},{"$f":"IF(OFFSET(DE104_3!$J$34,ROWS($J$34:J90)-1,COLUMNS($J$34:J90)-1)<>\"\",OFFSET(DE104_3!$J$34,ROWS($J$34:J90)-1,COLUMNS($J$34:J90)-1),\"\")","v":""},{"$f":"IF(OFFSET(DE104_3!$K$34,ROWS($K$34:K90)-1,COLUMNS($K$34:K90)-1)<>\"\",OFFSET(DE104_3!$K$34,ROWS($K$34:K90)-1,COLUMNS($K$34:K90)-1),\"\")","v":""},{"$f":"IF(OFFSET(DE104_3!$L$34,ROWS($L$34:L90)-1,COLUMNS($L$34:L90)-1)<>\"\",OFFSET(DE104_3!$L$34,ROWS($L$34:L90)-1,COLUMNS($L$34:L90)-1),\"\")","v":""},{"$f":"IF(OFFSET(DE104_3!$M$34,ROWS($M$34:M90)-1,COLUMNS($M$34:M90)-1)<>\"\",OFFSET(DE104_3!$M$34,ROWS($M$34:M90)-1,COLUMNS($M$34:M90)-1),\"\")","v":""},{"$f":"IF(OFFSET(DE104_3!$N$34,ROWS($N$34:N90)-1,COLUMNS($N$34:N90)-1)<>\"\",OFFSET(DE104_3!$N$34,ROWS($N$34:N90)-1,COLUMNS($N$34:N90)-1),\"\")","v":""},{"$f":"IF(OFFSET(DE104_3!$O$34,ROWS($O$34:O90)-1,COLUMNS($O$34:O90)-1)<>\"\",OFFSET(DE104_3!$O$34,ROWS($O$34:O90)-1,COLUMNS($O$34:O90)-1),\"\")","v":""},{"$f":"IF(OFFSET(DE104_3!$P$34,ROWS($P$34:P90)-1,COLUMNS($P$34:P90)-1)<>\"\",OFFSET(DE104_3!$P$34,ROWS($P$34:P90)-1,COLUMNS($P$34:P90)-1),\"\")","v":""},{"$f":"IF(OFFSET(DE104_3!$Q$34,ROWS($Q$34:Q90)-1,COLUMNS($Q$34:Q90)-1)<>\"\",OFFSET(DE104_3!$Q$34,ROWS($Q$34:Q90)-1,COLUMNS($Q$34:Q90)-1),\"\")","v":""},{"$f":"IF(OFFSET(DE104_3!$R$34,ROWS($R$34:R90)-1,COLUMNS($R$34:R90)-1)<>\"\",OFFSET(DE104_3!$R$34,ROWS($R$34:R90)-1,COLUMNS($R$34:R90)-1),\"\")","v":""},{"$f":"IF(OFFSET(DE104_3!$S$34,ROWS($S$34:S90)-1,COLUMNS($S$34:S90)-1)<>\"\",OFFSET(DE104_3!$S$34,ROWS($S$34:S90)-1,COLUMNS($S$34:S90)-1),\"\")","v":""},{"$f":"IF(OFFSET(DE104_3!$T$34,ROWS($T$34:T90)-1,COLUMNS($T$34:T90)-1)<>\"\",OFFSET(DE104_3!$T$34,ROWS($T$34:T90)-1,COLUMNS($T$34:T90)-1),\"\")","v":""},{"$f":"IF(OFFSET(DE104_3!$U$34,ROWS($U$34:U90)-1,COLUMNS($U$34:U90)-1)<>\"\",OFFSET(DE104_3!$U$34,ROWS($U$34:U90)-1,COLUMNS($U$34:U90)-1),\"\")","v":""},{"$f":"IF(OFFSET(DE104_3!$V$34,ROWS($V$34:V90)-1,COLUMNS($V$34:V90)-1)<>\"\",OFFSET(DE104_3!$V$34,ROWS($V$34:V90)-1,COLUMNS($V$34:V90)-1),\"\")","v":""},{"$f":"IF(OFFSET(DE104_3!$W$34,ROWS($W$34:W90)-1,COLUMNS($W$34:W90)-1)<>\"\",OFFSET(DE104_3!$W$34,ROWS($W$34:W90)-1,COLUMNS($W$34:W90)-1),\"\")","v":""},{"$f":"IF(OFFSET(DE104_3!$X$34,ROWS($X$34:X90)-1,COLUMNS($X$34:X90)-1)<>\"\",OFFSET(DE104_3!$X$34,ROWS($X$34:X90)-1,COLUMNS($X$34:X90)-1),\"\")","v":""},{"$f":"IF(OFFSET(DE104_3!$Y$34,ROWS($Y$34:Y90)-1,COLUMNS($Y$34:Y90)-1)<>\"\",OFFSET(DE104_3!$Y$34,ROWS($Y$34:Y90)-1,COLUMNS($Y$34:Y90)-1),\"\")","v":""},{"$f":"IF(OFFSET(DE104_3!$Z$34,ROWS($Z$34:Z90)-1,COLUMNS($Z$34:Z90)-1)<>\"\",OFFSET(DE104_3!$Z$34,ROWS($Z$34:Z90)-1,COLUMNS($Z$34:Z90)-1),\"\")","v":""},{"$f":"IF(OFFSET(DE104_3!$AA$34,ROWS($AA$34:AA90)-1,COLUMNS($AA$34:AA90)-1)<>\"\",OFFSET(DE104_3!$AA$34,ROWS($AA$34:AA90)-1,COLUMNS($AA$34:AA90)-1),\"\")","v":""},{"$f":"IF(OFFSET(DE104_3!$AB$34,ROWS($AB$34:AB90)-1,COLUMNS($AB$34:AB90)-1)<>\"\",OFFSET(DE104_3!$AB$34,ROWS($AB$34:AB90)-1,COLUMNS($AB$34:AB90)-1),\"\")","v":""},{"$f":"IF(OFFSET(DE104_3!$AC$34,ROWS($AC$34:AC90)-1,COLUMNS($AC$34:AC90)-1)<>\"\",OFFSET(DE104_3!$AC$34,ROWS($AC$34:AC90)-1,COLUMNS($AC$34:AC90)-1),\"\")","v":""},{"$f":"IF(OFFSET(DE104_3!$AD$34,ROWS($AD$34:AD90)-1,COLUMNS($AD$34:AD90)-1)<>\"\",OFFSET(DE104_3!$AD$34,ROWS($AD$34:AD90)-1,COLUMNS($AD$34:AD90)-1),\"\")","v":""},{"$f":"IF(OFFSET(DE104_3!$AE$34,ROWS($AE$34:AE90)-1,COLUMNS($AE$34:AE90)-1)<>\"\",OFFSET(DE104_3!$AE$34,ROWS($AE$34:AE90)-1,COLUMNS($AE$34:AE90)-1),\"\")","v":""},{"$f":"IF(OFFSET(DE104_3!$AF$34,ROWS($AF$34:AF90)-1,COLUMNS($AF$34:AF90)-1)<>\"\",OFFSET(DE104_3!$AF$34,ROWS($AF$34:AF90)-1,COLUMNS($AF$34:AF90)-1),\"\")","v":""},{"$f":"IF(OFFSET(DE104_3!$AG$34,ROWS($AG$34:AG90)-1,COLUMNS($AG$34:AG90)-1)<>\"\",OFFSET(DE104_3!$AG$34,ROWS($AG$34:AG90)-1,COLUMNS($AG$34:AG90)-1),\"\")","v":""},{"$f":"IF(OFFSET(DE104_3!$AH$34,ROWS($AH$34:AH90)-1,COLUMNS($AH$34:AH90)-1)<>\"\",OFFSET(DE104_3!$AH$34,ROWS($AH$34:AH90)-1,COLUMNS($AH$34:AH90)-1),\"\")","v":""},{"$f":"IF(OFFSET(DE104_3!$AI$34,ROWS($AI$34:AI90)-1,COLUMNS($AI$34:AI90)-1)<>\"\",OFFSET(DE104_3!$AI$34,ROWS($AI$34:AI90)-1,COLUMNS($AI$34:AI90)-1),\"\")","v":""},{"$f":"IF(OFFSET(DE104_3!$AJ$34,ROWS($AJ$34:AJ90)-1,COLUMNS($AJ$34:AJ90)-1)<>\"\",OFFSET(DE104_3!$AJ$34,ROWS($AJ$34:AJ90)-1,COLUMNS($AJ$34:AJ90)-1),\"\")","v":""},{"$f":"IF(OFFSET(DE104_3!$AK$34,ROWS($AK$34:AK90)-1,COLUMNS($AK$34:AK90)-1)<>\"\",OFFSET(DE104_3!$AK$34,ROWS($AK$34:AK90)-1,COLUMNS($AK$34:AK90)-1),\"\")","v":""},{"$f":"IF(OFFSET(DE104_3!$AL$34,ROWS($AL$34:AL90)-1,COLUMNS($AL$34:AL90)-1)<>\"\",OFFSET(DE104_3!$AL$34,ROWS($AL$34:AL90)-1,COLUMNS($AL$34:AL90)-1),\"\")","v":""},{"$f":"IF(OFFSET(DE104_3!$AM$34,ROWS($AM$34:AM90)-1,COLUMNS($AM$34:AM90)-1)<>\"\",OFFSET(DE104_3!$AM$34,ROWS($AM$34:AM90)-1,COLUMNS($AM$34:AM90)-1),\"\")","v":""},{"$f":"IF(OFFSET(DE104_3!$AN$34,ROWS($AN$34:AN90)-1,COLUMNS($AN$34:AN90)-1)<>\"\",OFFSET(DE104_3!$AN$34,ROWS($AN$34:AN90)-1,COLUMNS($AN$34:AN90)-1),\"\")","v":""},{"$f":"IF(OFFSET(DE104_3!$AO$34,ROWS($AO$34:AO90)-1,COLUMNS($AO$34:AO90)-1)<>\"\",OFFSET(DE104_3!$AO$34,ROWS($AO$34:AO90)-1,COLUMNS($AO$34:AO90)-1),\"\")","v":""},{"$f":"IF(OFFSET(DE104_3!$AP$34,ROWS($AP$34:AP90)-1,COLUMNS($AP$34:AP90)-1)<>\"\",OFFSET(DE104_3!$AP$34,ROWS($AP$34:AP90)-1,COLUMNS($AP$34:AP90)-1),\"\")","v":""},{"$f":"IF(OFFSET(DE104_3!$AQ$34,ROWS($AQ$34:AQ90)-1,COLUMNS($AQ$34:AQ90)-1)<>\"\",OFFSET(DE104_3!$AQ$34,ROWS($AQ$34:AQ90)-1,COLUMNS($AQ$34:AQ90)-1),\"\")","v":""}]
[{"$f":"IF(OFFSET(DE104_3!$C$34,ROWS($C$34:C91)-1,COLUMNS($C$34:C91)-1)<>\"\",OFFSET(DE104_3!$C$34,ROWS($C$34:C91)-1,COLUMNS($C$34:C91)-1),\"\")","v":""},{"$f":"IF(OFFSET(DE104_3!$D$34,ROWS($D$34:D91)-1,COLUMNS($D$34:D91)-1)<>\"\",OFFSET(DE104_3!$D$34,ROWS($D$34:D91)-1,COLUMNS($D$34:D91)-1),\"\")","v":"US 218 Ramp C"},{"$f":"IF(OFFSET(DE104_3!$E$34,ROWS($E$34:E91)-1,COLUMNS($E$34:E91)-1)<>\"\",OFFSET(DE104_3!$E$34,ROWS($E$34:E91)-1,COLUMNS($E$34:E91)-1),\"\")","v":""},{"$f":"IF(OFFSET(DE104_3!$F$34,ROWS($F$34:F91)-1,COLUMNS($F$34:F91)-1)<>\"\",OFFSET(DE104_3!$F$34,ROWS($F$34:F91)-1,COLUMNS($F$34:F91)-1),\"\")","v":""},{"$f":"IF(OFFSET(DE104_3!$G$34,ROWS($G$34:G91)-1,COLUMNS($G$34:G91)-1)<>\"\",OFFSET(DE104_3!$G$34,ROWS($G$34:G91)-1,COLUMNS($G$34:G91)-1),\"\")","v":""},{"$f":"IF(OFFSET(DE104_3!$H$34,ROWS($H$34:H91)-1,COLUMNS($H$34:H91)-1)<>\"\",OFFSET(DE104_3!$H$34,ROWS($H$34:H91)-1,COLUMNS($H$34:H91)-1),\"\")","v":""},{"$f":"IF(OFFSET(DE104_3!$I$34,ROWS($I$34:I91)-1,COLUMNS($I$34:I91)-1)<>\"\",OFFSET(DE104_3!$I$34,ROWS($I$34:I91)-1,COLUMNS($I$34:I91)-1),\"\")","v":""},{"$f":"IF(OFFSET(DE104_3!$J$34,ROWS($J$34:J91)-1,COLUMNS($J$34:J91)-1)<>\"\",OFFSET(DE104_3!$J$34,ROWS($J$34:J91)-1,COLUMNS($J$34:J91)-1),\"\")","v":""},{"$f":"IF(OFFSET(DE104_3!$K$34,ROWS($K$34:K91)-1,COLUMNS($K$34:K91)-1)<>\"\",OFFSET(DE104_3!$K$34,ROWS($K$34:K91)-1,COLUMNS($K$34:K91)-1),\"\")","v":""},{"$f":"IF(OFFSET(DE104_3!$L$34,ROWS($L$34:L91)-1,COLUMNS($L$34:L91)-1)<>\"\",OFFSET(DE104_3!$L$34,ROWS($L$34:L91)-1,COLUMNS($L$34:L91)-1),\"\")","v":""},{"$f":"IF(OFFSET(DE104_3!$M$34,ROWS($M$34:M91)-1,COLUMNS($M$34:M91)-1)<>\"\",OFFSET(DE104_3!$M$34,ROWS($M$34:M91)-1,COLUMNS($M$34:M91)-1),\"\")","v":""},{"$f":"IF(OFFSET(DE104_3!$N$34,ROWS($N$34:N91)-1,COLUMNS($N$34:N91)-1)<>\"\",OFFSET(DE104_3!$N$34,ROWS($N$34:N91)-1,COLUMNS($N$34:N91)-1),\"\")","v":""},{"$f":"IF(OFFSET(DE104_3!$O$34,ROWS($O$34:O91)-1,COLUMNS($O$34:O91)-1)<>\"\",OFFSET(DE104_3!$O$34,ROWS($O$34:O91)-1,COLUMNS($O$34:O91)-1),\"\")","v":""},{"$f":"IF(OFFSET(DE104_3!$P$34,ROWS($P$34:P91)-1,COLUMNS($P$34:P91)-1)<>\"\",OFFSET(DE104_3!$P$34,ROWS($P$34:P91)-1,COLUMNS($P$34:P91)-1),\"\")","v":""},{"$f":"IF(OFFSET(DE104_3!$Q$34,ROWS($Q$34:Q91)-1,COLUMNS($Q$34:Q91)-1)<>\"\",OFFSET(DE104_3!$Q$34,ROWS($Q$34:Q91)-1,COLUMNS($Q$34:Q91)-1),\"\")","v":""},{"$f":"IF(OFFSET(DE104_3!$R$34,ROWS($R$34:R91)-1,COLUMNS($R$34:R91)-1)<>\"\",OFFSET(DE104_3!$R$34,ROWS($R$34:R91)-1,COLUMNS($R$34:R91)-1),\"\")","v":""},{"$f":"IF(OFFSET(DE104_3!$S$34,ROWS($S$34:S91)-1,COLUMNS($S$34:S91)-1)<>\"\",OFFSET(DE104_3!$S$34,ROWS($S$34:S91)-1,COLUMNS($S$34:S91)-1),\"\")","v":""},{"$f":"IF(OFFSET(DE104_3!$T$34,ROWS($T$34:T91)-1,COLUMNS($T$34:T91)-1)<>\"\",OFFSET(DE104_3!$T$34,ROWS($T$34:T91)-1,COLUMNS($T$34:T91)-1),\"\")","v":""},{"$f":"IF(OFFSET(DE104_3!$U$34,ROWS($U$34:U91)-1,COLUMNS($U$34:U91)-1)<>\"\",OFFSET(DE104_3!$U$34,ROWS($U$34:U91)-1,COLUMNS($U$34:U91)-1),\"\")","v":""},{"$f":"IF(OFFSET(DE104_3!$V$34,ROWS($V$34:V91)-1,COLUMNS($V$34:V91)-1)<>\"\",OFFSET(DE104_3!$V$34,ROWS($V$34:V91)-1,COLUMNS($V$34:V91)-1),\"\")","v":""},{"$f":"IF(OFFSET(DE104_3!$W$34,ROWS($W$34:W91)-1,COLUMNS($W$34:W91)-1)<>\"\",OFFSET(DE104_3!$W$34,ROWS($W$34:W91)-1,COLUMNS($W$34:W91)-1),\"\")","v":""},{"$f":"IF(OFFSET(DE104_3!$X$34,ROWS($X$34:X91)-1,COLUMNS($X$34:X91)-1)<>\"\",OFFSET(DE104_3!$X$34,ROWS($X$34:X91)-1,COLUMNS($X$34:X91)-1),\"\")","v":""},{"$f":"IF(OFFSET(DE104_3!$Y$34,ROWS($Y$34:Y91)-1,COLUMNS($Y$34:Y91)-1)<>\"\",OFFSET(DE104_3!$Y$34,ROWS($Y$34:Y91)-1,COLUMNS($Y$34:Y91)-1),\"\")","v":""},{"$f":"IF(OFFSET(DE104_3!$Z$34,ROWS($Z$34:Z91)-1,COLUMNS($Z$34:Z91)-1)<>\"\",OFFSET(DE104_3!$Z$34,ROWS($Z$34:Z91)-1,COLUMNS($Z$34:Z91)-1),\"\")","v":""},{"$f":"IF(OFFSET(DE104_3!$AA$34,ROWS($AA$34:AA91)-1,COLUMNS($AA$34:AA91)-1)<>\"\",OFFSET(DE104_3!$AA$34,ROWS($AA$34:AA91)-1,COLUMNS($AA$34:AA91)-1),\"\")","v":""},{"$f":"IF(OFFSET(DE104_3!$AB$34,ROWS($AB$34:AB91)-1,COLUMNS($AB$34:AB91)-1)<>\"\",OFFSET(DE104_3!$AB$34,ROWS($AB$34:AB91)-1,COLUMNS($AB$34:AB91)-1),\"\")","v":""},{"$f":"IF(OFFSET(DE104_3!$AC$34,ROWS($AC$34:AC91)-1,COLUMNS($AC$34:AC91)-1)<>\"\",OFFSET(DE104_3!$AC$34,ROWS($AC$34:AC91)-1,COLUMNS($AC$34:AC91)-1),\"\")","v":""},{"$f":"IF(OFFSET(DE104_3!$AD$34,ROWS($AD$34:AD91)-1,COLUMNS($AD$34:AD91)-1)<>\"\",OFFSET(DE104_3!$AD$34,ROWS($AD$34:AD91)-1,COLUMNS($AD$34:AD91)-1),\"\")","v":""},{"$f":"IF(OFFSET(DE104_3!$AE$34,ROWS($AE$34:AE91)-1,COLUMNS($AE$34:AE91)-1)<>\"\",OFFSET(DE104_3!$AE$34,ROWS($AE$34:AE91)-1,COLUMNS($AE$34:AE91)-1),\"\")","v":""},{"$f":"IF(OFFSET(DE104_3!$AF$34,ROWS($AF$34:AF91)-1,COLUMNS($AF$34:AF91)-1)<>\"\",OFFSET(DE104_3!$AF$34,ROWS($AF$34:AF91)-1,COLUMNS($AF$34:AF91)-1),\"\")","v":""},{"$f":"IF(OFFSET(DE104_3!$AG$34,ROWS($AG$34:AG91)-1,COLUMNS($AG$34:AG91)-1)<>\"\",OFFSET(DE104_3!$AG$34,ROWS($AG$34:AG91)-1,COLUMNS($AG$34:AG91)-1),\"\")","v":""},{"$f":"IF(OFFSET(DE104_3!$AH$34,ROWS($AH$34:AH91)-1,COLUMNS($AH$34:AH91)-1)<>\"\",OFFSET(DE104_3!$AH$34,ROWS($AH$34:AH91)-1,COLUMNS($AH$34:AH91)-1),\"\")","v":""},{"$f":"IF(OFFSET(DE104_3!$AI$34,ROWS($AI$34:AI91)-1,COLUMNS($AI$34:AI91)-1)<>\"\",OFFSET(DE104_3!$AI$34,ROWS($AI$34:AI91)-1,COLUMNS($AI$34:AI91)-1),\"\")","v":""},{"$f":"IF(OFFSET(DE104_3!$AJ$34,ROWS($AJ$34:AJ91)-1,COLUMNS($AJ$34:AJ91)-1)<>\"\",OFFSET(DE104_3!$AJ$34,ROWS($AJ$34:AJ91)-1,COLUMNS($AJ$34:AJ91)-1),\"\")","v":""},{"$f":"IF(OFFSET(DE104_3!$AK$34,ROWS($AK$34:AK91)-1,COLUMNS($AK$34:AK91)-1)<>\"\",OFFSET(DE104_3!$AK$34,ROWS($AK$34:AK91)-1,COLUMNS($AK$34:AK91)-1),\"\")","v":""},{"$f":"IF(OFFSET(DE104_3!$AL$34,ROWS($AL$34:AL91)-1,COLUMNS($AL$34:AL91)-1)<>\"\",OFFSET(DE104_3!$AL$34,ROWS($AL$34:AL91)-1,COLUMNS($AL$34:AL91)-1),\"\")","v":""},{"$f":"IF(OFFSET(DE104_3!$AM$34,ROWS($AM$34:AM91)-1,COLUMNS($AM$34:AM91)-1)<>\"\",OFFSET(DE104_3!$AM$34,ROWS($AM$34:AM91)-1,COLUMNS($AM$34:AM91)-1),\"\")","v":""},{"$f":"IF(OFFSET(DE104_3!$AN$34,ROWS($AN$34:AN91)-1,COLUMNS($AN$34:AN91)-1)<>\"\",OFFSET(DE104_3!$AN$34,ROWS($AN$34:AN91)-1,COLUMNS($AN$34:AN91)-1),\"\")","v":""},{"$f":"IF(OFFSET(DE104_3!$AO$34,ROWS($AO$34:AO91)-1,COLUMNS($AO$34:AO91)-1)<>\"\",OFFSET(DE104_3!$AO$34,ROWS($AO$34:AO91)-1,COLUMNS($AO$34:AO91)-1),\"\")","v":""},{"$f":"IF(OFFSET(DE104_3!$AP$34,ROWS($AP$34:AP91)-1,COLUMNS($AP$34:AP91)-1)<>\"\",OFFSET(DE104_3!$AP$34,ROWS($AP$34:AP91)-1,COLUMNS($AP$34:AP91)-1),\"\")","v":""},{"$f":"IF(OFFSET(DE104_3!$AQ$34,ROWS($AQ$34:AQ91)-1,COLUMNS($AQ$34:AQ91)-1)<>\"\",OFFSET(DE104_3!$AQ$34,ROWS($AQ$34:AQ91)-1,COLUMNS($AQ$34:AQ91)-1),\"\")","v":""}]
[{"$f":"IF(OFFSET(DE104_3!$C$34,ROWS($C$34:C92)-1,COLUMNS($C$34:C92)-1)<>\"\",OFFSET(DE104_3!$C$34,ROWS($C$34:C92)-1,COLUMNS($C$34:C92)-1),\"\")","v":""},{"$f":"IF(OFFSET(DE104_3!$D$34,ROWS($D$34:D92)-1,COLUMNS($D$34:D92)-1)<>\"\",OFFSET(DE104_3!$D$34,ROWS($D$34:D92)-1,COLUMNS($D$34:D92)-1),\"\")","v":3145375},{"$f":"IF(OFFSET(DE104_3!$E$34,ROWS($E$34:E92)-1,COLUMNS($E$34:E92)-1)<>\"\",OFFSET(DE104_3!$E$34,ROWS($E$34:E92)-1,COLUMNS($E$34:E92)-1),\"\")","v":"DR-601"},{"$f":"IF(OFFSET(DE104_3!$F$34,ROWS($F$34:F92)-1,COLUMNS($F$34:F92)-1)<>\"\",OFFSET(DE104_3!$F$34,ROWS($F$34:F92)-1,COLUMNS($F$34:F92)-1),\"\")","v":24},{"$f":"IF(OFFSET(DE104_3!$G$34,ROWS($G$34:G92)-1,COLUMNS($G$34:G92)-1)<>\"\",OFFSET(DE104_3!$G$34,ROWS($G$34:G92)-1,COLUMNS($G$34:G92)-1),\"\")","v":2000},{"$f":"IF(OFFSET(DE104_3!$H$34,ROWS($H$34:H92)-1,COLUMNS($H$34:H92)-1)<>\"\",OFFSET(DE104_3!$H$34,ROWS($H$34:H92)-1,COLUMNS($H$34:H92)-1),\"\")","v":"RCP"},{"$f":"IF(OFFSET(DE104_3!$I$34,ROWS($I$34:I92)-1,COLUMNS($I$34:I92)-1)<>\"\",OFFSET(DE104_3!$I$34,ROWS($I$34:I92)-1,COLUMNS($I$34:I92)-1),\"\")","v":56},{"$f":"IF(OFFSET(DE104_3!$J$34,ROWS($J$34:J92)-1,COLUMNS($J$34:J92)-1)<>\"\",OFFSET(DE104_3!$J$34,ROWS($J$34:J92)-1,COLUMNS($J$34:J92)-1),\"\")","v":"B"},{"$f":"IF(OFFSET(DE104_3!$K$34,ROWS($K$34:K92)-1,COLUMNS($K$34:K92)-1)<>\"\",OFFSET(DE104_3!$K$34,ROWS($K$34:K92)-1,COLUMNS($K$34:K92)-1),\"\")","v":2},{"$f":"IF(OFFSET(DE104_3!$L$34,ROWS($L$34:L92)-1,COLUMNS($L$34:L92)-1)<>\"\",OFFSET(DE104_3!$L$34,ROWS($L$34:L92)-1,COLUMNS($L$34:L92)-1),\"\")","v":""},{"$f":"IF(OFFSET(DE104_3!$M$34,ROWS($M$34:M92)-1,COLUMNS($M$34:M92)-1)<>\"\",OFFSET(DE104_3!$M$34,ROWS($M$34:M92)-1,COLUMNS($M$34:M92)-1),\"\")","v":1},{"$f":"IF(OFFSET(DE104_3!$N$34,ROWS($N$34:N92)-1,COLUMNS($N$34:N92)-1)<>\"\",OFFSET(DE104_3!$N$34,ROWS($N$34:N92)-1,COLUMNS($N$34:N92)-1),\"\")","v":1},{"$f":"IF(OFFSET(DE104_3!$O$34,ROWS($O$34:O92)-1,COLUMNS($O$34:O92)-1)<>\"\",OFFSET(DE104_3!$O$34,ROWS($O$34:O92)-1,COLUMNS($O$34:O92)-1),\"\")","v":""},{"$f":"IF(OFFSET(DE104_3!$P$34,ROWS($P$34:P92)-1,COLUMNS($P$34:P92)-1)<>\"\",OFFSET(DE104_3!$P$34,ROWS($P$34:P92)-1,COLUMNS($P$34:P92)-1),\"\")","v":""},{"$f":"IF(OFFSET(DE104_3!$Q$34,ROWS($Q$34:Q92)-1,COLUMNS($Q$34:Q92)-1)<>\"\",OFFSET(DE104_3!$Q$34,ROWS($Q$34:Q92)-1,COLUMNS($Q$34:Q92)-1),\"\")","v":""},{"$f":"IF(OFFSET(DE104_3!$R$34,ROWS($R$34:R92)-1,COLUMNS($R$34:R92)-1)<>\"\",OFFSET(DE104_3!$R$34,ROWS($R$34:R92)-1,COLUMNS($R$34:R92)-1),\"\")","v":""},{"$f":"IF(OFFSET(DE104_3!$S$34,ROWS($S$34:S92)-1,COLUMNS($S$34:S92)-1)<>\"\",OFFSET(DE104_3!$S$34,ROWS($S$34:S92)-1,COLUMNS($S$34:S92)-1),\"\")","v":""},{"$f":"IF(OFFSET(DE104_3!$T$34,ROWS($T$34:T92)-1,COLUMNS($T$34:T92)-1)<>\"\",OFFSET(DE104_3!$T$34,ROWS($T$34:T92)-1,COLUMNS($T$34:T92)-1),\"\")","v":""},{"$f":"IF(OFFSET(DE104_3!$U$34,ROWS($U$34:U92)-1,COLUMNS($U$34:U92)-1)<>\"\",OFFSET(DE104_3!$U$34,ROWS($U$34:U92)-1,COLUMNS($U$34:U92)-1),\"\")","v":""},{"$f":"IF(OFFSET(DE104_3!$V$34,ROWS($V$34:V92)-1,COLUMNS($V$34:V92)-1)<>\"\",OFFSET(DE104_3!$V$34,ROWS($V$34:V92)-1,COLUMNS($V$34:V92)-1),\"\")","v":"Type 3"},{"$f":"IF(OFFSET(DE104_3!$W$34,ROWS($W$34:W92)-1,COLUMNS($W$34:W92)-1)<>\"\",OFFSET(DE104_3!$W$34,ROWS($W$34:W92)-1,COLUMNS($W$34:W92)-1),\"\")","v":""},{"$f":"IF(OFFSET(DE104_3!$X$34,ROWS($X$34:X92)-1,COLUMNS($X$34:X92)-1)<>\"\",OFFSET(DE104_3!$X$34,ROWS($X$34:X92)-1,COLUMNS($X$34:X92)-1),\"\")","v":905.78},{"$f":"IF(OFFSET(DE104_3!$Y$34,ROWS($Y$34:Y92)-1,COLUMNS($Y$34:Y92)-1)<>\"\",OFFSET(DE104_3!$Y$34,ROWS($Y$34:Y92)-1,COLUMNS($Y$34:Y92)-1),\"\")","v":905.43},{"$f":"IF(OFFSET(DE104_3!$Z$34,ROWS($Z$34:Z92)-1,COLUMNS($Z$34:Z92)-1)<>\"\",OFFSET(DE104_3!$Z$34,ROWS($Z$34:Z92)-1,COLUMNS($Z$34:Z92)-1),\"\")","v":""},{"$f":"IF(OFFSET(DE104_3!$AA$34,ROWS($AA$34:AA92)-1,COLUMNS($AA$34:AA92)-1)<>\"\",OFFSET(DE104_3!$AA$34,ROWS($AA$34:AA92)-1,COLUMNS($AA$34:AA92)-1),\"\")","v":""},{"$f":"IF(OFFSET(DE104_3!$AB$34,ROWS($AB$34:AB92)-1,COLUMNS($AB$34:AB92)-1)<>\"\",OFFSET(DE104_3!$AB$34,ROWS($AB$34:AB92)-1,COLUMNS($AB$34:AB92)-1),\"\")","v":43.78},{"$f":"IF(OFFSET(DE104_3!$AC$34,ROWS($AC$34:AC92)-1,COLUMNS($AC$34:AC92)-1)<>\"\",OFFSET(DE104_3!$AC$34,ROWS($AC$34:AC92)-1,COLUMNS($AC$34:AC92)-1),\"\")","v":24.42},{"$f":"IF(OFFSET(DE104_3!$AD$34,ROWS($AD$34:AD92)-1,COLUMNS($AD$34:AD92)-1)<>\"\",OFFSET(DE104_3!$AD$34,ROWS($AD$34:AD92)-1,COLUMNS($AD$34:AD92)-1),\"\")","v":""},{"$f":"IF(OFFSET(DE104_3!$AE$34,ROWS($AE$34:AE92)-1,COLUMNS($AE$34:AE92)-1)<>\"\",OFFSET(DE104_3!$AE$34,ROWS($AE$34:AE92)-1,COLUMNS($AE$34:AE92)-1),\"\")","v":""},{"$f":"IF(OFFSET(DE104_3!$AF$34,ROWS($AF$34:AF92)-1,COLUMNS($AF$34:AF92)-1)<>\"\",OFFSET(DE104_3!$AF$34,ROWS($AF$34:AF92)-1,COLUMNS($AF$34:AF92)-1),\"\")","v":""},{"$f":"IF(OFFSET(DE104_3!$AG$34,ROWS($AG$34:AG92)-1,COLUMNS($AG$34:AG92)-1)<>\"\",OFFSET(DE104_3!$AG$34,ROWS($AG$34:AG92)-1,COLUMNS($AG$34:AG92)-1),\"\")","v":""},{"$f":"IF(OFFSET(DE104_3!$AH$34,ROWS($AH$34:AH92)-1,COLUMNS($AH$34:AH92)-1)<>\"\",OFFSET(DE104_3!$AH$34,ROWS($AH$34:AH92)-1,COLUMNS($AH$34:AH92)-1),\"\")","v":""},{"$f":"IF(OFFSET(DE104_3!$AI$34,ROWS($AI$34:AI92)-1,COLUMNS($AI$34:AI92)-1)<>\"\",OFFSET(DE104_3!$AI$34,ROWS($AI$34:AI92)-1,COLUMNS($AI$34:AI92)-1),\"\")","v":""},{"$f":"IF(OFFSET(DE104_3!$AJ$34,ROWS($AJ$34:AJ92)-1,COLUMNS($AJ$34:AJ92)-1)<>\"\",OFFSET(DE104_3!$AJ$34,ROWS($AJ$34:AJ92)-1,COLUMNS($AJ$34:AJ92)-1),\"\")","v":""},{"$f":"IF(OFFSET(DE104_3!$AK$34,ROWS($AK$34:AK92)-1,COLUMNS($AK$34:AK92)-1)<>\"\",OFFSET(DE104_3!$AK$34,ROWS($AK$34:AK92)-1,COLUMNS($AK$34:AK92)-1),\"\")","v":""},{"$f":"IF(OFFSET(DE104_3!$AL$34,ROWS($AL$34:AL92)-1,COLUMNS($AL$34:AL92)-1)<>\"\",OFFSET(DE104_3!$AL$34,ROWS($AL$34:AL92)-1,COLUMNS($AL$34:AL92)-1),\"\")","v":68.25},{"$f":"IF(OFFSET(DE104_3!$AM$34,ROWS($AM$34:AM92)-1,COLUMNS($AM$34:AM92)-1)<>\"\",OFFSET(DE104_3!$AM$34,ROWS($AM$34:AM92)-1,COLUMNS($AM$34:AM92)-1),\"\")","v":""},{"$f":"IF(OFFSET(DE104_3!$AN$34,ROWS($AN$34:AN92)-1,COLUMNS($AN$34:AN92)-1)<>\"\",OFFSET(DE104_3!$AN$34,ROWS($AN$34:AN92)-1,COLUMNS($AN$34:AN92)-1),\"\")","v":17.265925925925927},{"$f":"IF(OFFSET(DE104_3!$AO$34,ROWS($AO$34:AO92)-1,COLUMNS($AO$34:AO92)-1)<>\"\",OFFSET(DE104_3!$AO$34,ROWS($AO$34:AO92)-1,COLUMNS($AO$34:AO92)-1),\"\")","v":5.1773148148148147},{"$f":"IF(OFFSET(DE104_3!$AP$34,ROWS($AP$34:AP92)-1,COLUMNS($AP$34:AP92)-1)<>\"\",OFFSET(DE104_3!$AP$34,ROWS($AP$34:AP92)-1,COLUMNS($AP$34:AP92)-1),\"\")","v":22.443240740740741},{"$f":"IF(OFFSET(DE104_3!$AQ$34,ROWS($AQ$34:AQ92)-1,COLUMNS($AQ$34:AQ92)-1)<>\"\",OFFSET(DE104_3!$AQ$34,ROWS($AQ$34:AQ92)-1,COLUMNS($AQ$34:AQ92)-1),\"\")","v":""}]
[{"$f":"IF(OFFSET(DE104_3!$C$34,ROWS($C$34:C93)-1,COLUMNS($C$34:C93)-1)<>\"\",OFFSET(DE104_3!$C$34,ROWS($C$34:C93)-1,COLUMNS($C$34:C93)-1),\"\")","v":""},{"$f":"IF(OFFSET(DE104_3!$D$34,ROWS($D$34:D93)-1,COLUMNS($D$34:D93)-1)<>\"\",OFFSET(DE104_3!$D$34,ROWS($D$34:D93)-1,COLUMNS($D$34:D93)-1),\"\")","v":""},{"$f":"IF(OFFSET(DE104_3!$E$34,ROWS($E$34:E93)-1,COLUMNS($E$34:E93)-1)<>\"\",OFFSET(DE104_3!$E$34,ROWS($E$34:E93)-1,COLUMNS($E$34:E93)-1),\"\")","v":""},{"$f":"IF(OFFSET(DE104_3!$F$34,ROWS($F$34:F93)-1,COLUMNS($F$34:F93)-1)<>\"\",OFFSET(DE104_3!$F$34,ROWS($F$34:F93)-1,COLUMNS($F$34:F93)-1),\"\")","v":""},{"$f":"IF(OFFSET(DE104_3!$G$34,ROWS($G$34:G93)-1,COLUMNS($G$34:G93)-1)<>\"\",OFFSET(DE104_3!$G$34,ROWS($G$34:G93)-1,COLUMNS($G$34:G93)-1),\"\")","v":""},{"$f":"IF(OFFSET(DE104_3!$H$34,ROWS($H$34:H93)-1,COLUMNS($H$34:H93)-1)<>\"\",OFFSET(DE104_3!$H$34,ROWS($H$34:H93)-1,COLUMNS($H$34:H93)-1),\"\")","v":""},{"$f":"IF(OFFSET(DE104_3!$I$34,ROWS($I$34:I93)-1,COLUMNS($I$34:I93)-1)<>\"\",OFFSET(DE104_3!$I$34,ROWS($I$34:I93)-1,COLUMNS($I$34:I93)-1),\"\")","v":""},{"$f":"IF(OFFSET(DE104_3!$J$34,ROWS($J$34:J93)-1,COLUMNS($J$34:J93)-1)<>\"\",OFFSET(DE104_3!$J$34,ROWS($J$34:J93)-1,COLUMNS($J$34:J93)-1),\"\")","v":""},{"$f":"IF(OFFSET(DE104_3!$K$34,ROWS($K$34:K93)-1,COLUMNS($K$34:K93)-1)<>\"\",OFFSET(DE104_3!$K$34,ROWS($K$34:K93)-1,COLUMNS($K$34:K93)-1),\"\")","v":""},{"$f":"IF(OFFSET(DE104_3!$L$34,ROWS($L$34:L93)-1,COLUMNS($L$34:L93)-1)<>\"\",OFFSET(DE104_3!$L$34,ROWS($L$34:L93)-1,COLUMNS($L$34:L93)-1),\"\")","v":""},{"$f":"IF(OFFSET(DE104_3!$M$34,ROWS($M$34:M93)-1,COLUMNS($M$34:M93)-1)<>\"\",OFFSET(DE104_3!$M$34,ROWS($M$34:M93)-1,COLUMNS($M$34:M93)-1),\"\")","v":""},{"$f":"IF(OFFSET(DE104_3!$N$34,ROWS($N$34:N93)-1,COLUMNS($N$34:N93)-1)<>\"\",OFFSET(DE104_3!$N$34,ROWS($N$34:N93)-1,COLUMNS($N$34:N93)-1),\"\")","v":""},{"$f":"IF(OFFSET(DE104_3!$O$34,ROWS($O$34:O93)-1,COLUMNS($O$34:O93)-1)<>\"\",OFFSET(DE104_3!$O$34,ROWS($O$34:O93)-1,COLUMNS($O$34:O93)-1),\"\")","v":""},{"$f":"IF(OFFSET(DE104_3!$P$34,ROWS($P$34:P93)-1,COLUMNS($P$34:P93)-1)<>\"\",OFFSET(DE104_3!$P$34,ROWS($P$34:P93)-1,COLUMNS($P$34:P93)-1),\"\")","v":""},{"$f":"IF(OFFSET(DE104_3!$Q$34,ROWS($Q$34:Q93)-1,COLUMNS($Q$34:Q93)-1)<>\"\",OFFSET(DE104_3!$Q$34,ROWS($Q$34:Q93)-1,COLUMNS($Q$34:Q93)-1),\"\")","v":""},{"$f":"IF(OFFSET(DE104_3!$R$34,ROWS($R$34:R93)-1,COLUMNS($R$34:R93)-1)<>\"\",OFFSET(DE104_3!$R$34,ROWS($R$34:R93)-1,COLUMNS($R$34:R93)-1),\"\")","v":""},{"$f":"IF(OFFSET(DE104_3!$S$34,ROWS($S$34:S93)-1,COLUMNS($S$34:S93)-1)<>\"\",OFFSET(DE104_3!$S$34,ROWS($S$34:S93)-1,COLUMNS($S$34:S93)-1),\"\")","v":""},{"$f":"IF(OFFSET(DE104_3!$T$34,ROWS($T$34:T93)-1,COLUMNS($T$34:T93)-1)<>\"\",OFFSET(DE104_3!$T$34,ROWS($T$34:T93)-1,COLUMNS($T$34:T93)-1),\"\")","v":""},{"$f":"IF(OFFSET(DE104_3!$U$34,ROWS($U$34:U93)-1,COLUMNS($U$34:U93)-1)<>\"\",OFFSET(DE104_3!$U$34,ROWS($U$34:U93)-1,COLUMNS($U$34:U93)-1),\"\")","v":""},{"$f":"IF(OFFSET(DE104_3!$V$34,ROWS($V$34:V93)-1,COLUMNS($V$34:V93)-1)<>\"\",OFFSET(DE104_3!$V$34,ROWS($V$34:V93)-1,COLUMNS($V$34:V93)-1),\"\")","v":""},{"$f":"IF(OFFSET(DE104_3!$W$34,ROWS($W$34:W93)-1,COLUMNS($W$34:W93)-1)<>\"\",OFFSET(DE104_3!$W$34,ROWS($W$34:W93)-1,COLUMNS($W$34:W93)-1),\"\")","v":""},{"$f":"IF(OFFSET(DE104_3!$X$34,ROWS($X$34:X93)-1,COLUMNS($X$34:X93)-1)<>\"\",OFFSET(DE104_3!$X$34,ROWS($X$34:X93)-1,COLUMNS($X$34:X93)-1),\"\")","v":""},{"$f":"IF(OFFSET(DE104_3!$Y$34,ROWS($Y$34:Y93)-1,COLUMNS($Y$34:Y93)-1)<>\"\",OFFSET(DE104_3!$Y$34,ROWS($Y$34:Y93)-1,COLUMNS($Y$34:Y93)-1),\"\")","v":""},{"$f":"IF(OFFSET(DE104_3!$Z$34,ROWS($Z$34:Z93)-1,COLUMNS($Z$34:Z93)-1)<>\"\",OFFSET(DE104_3!$Z$34,ROWS($Z$34:Z93)-1,COLUMNS($Z$34:Z93)-1),\"\")","v":""},{"$f":"IF(OFFSET(DE104_3!$AA$34,ROWS($AA$34:AA93)-1,COLUMNS($AA$34:AA93)-1)<>\"\",OFFSET(DE104_3!$AA$34,ROWS($AA$34:AA93)-1,COLUMNS($AA$34:AA93)-1),\"\")","v":""},{"$f":"IF(OFFSET(DE104_3!$AB$34,ROWS($AB$34:AB93)-1,COLUMNS($AB$34:AB93)-1)<>\"\",OFFSET(DE104_3!$AB$34,ROWS($AB$34:AB93)-1,COLUMNS($AB$34:AB93)-1),\"\")","v":""},{"$f":"IF(OFFSET(DE104_3!$AC$34,ROWS($AC$34:AC93)-1,COLUMNS($AC$34:AC93)-1)<>\"\",OFFSET(DE104_3!$AC$34,ROWS($AC$34:AC93)-1,COLUMNS($AC$34:AC93)-1),\"\")","v":""},{"$f":"IF(OFFSET(DE104_3!$AD$34,ROWS($AD$34:AD93)-1,COLUMNS($AD$34:AD93)-1)<>\"\",OFFSET(DE104_3!$AD$34,ROWS($AD$34:AD93)-1,COLUMNS($AD$34:AD93)-1),\"\")","v":""},{"$f":"IF(OFFSET(DE104_3!$AE$34,ROWS($AE$34:AE93)-1,COLUMNS($AE$34:AE93)-1)<>\"\",OFFSET(DE104_3!$AE$34,ROWS($AE$34:AE93)-1,COLUMNS($AE$34:AE93)-1),\"\")","v":""},{"$f":"IF(OFFSET(DE104_3!$AF$34,ROWS($AF$34:AF93)-1,COLUMNS($AF$34:AF93)-1)<>\"\",OFFSET(DE104_3!$AF$34,ROWS($AF$34:AF93)-1,COLUMNS($AF$34:AF93)-1),\"\")","v":""},{"$f":"IF(OFFSET(DE104_3!$AG$34,ROWS($AG$34:AG93)-1,COLUMNS($AG$34:AG93)-1)<>\"\",OFFSET(DE104_3!$AG$34,ROWS($AG$34:AG93)-1,COLUMNS($AG$34:AG93)-1),\"\")","v":""},{"$f":"IF(OFFSET(DE104_3!$AH$34,ROWS($AH$34:AH93)-1,COLUMNS($AH$34:AH93)-1)<>\"\",OFFSET(DE104_3!$AH$34,ROWS($AH$34:AH93)-1,COLUMNS($AH$34:AH93)-1),\"\")","v":""},{"$f":"IF(OFFSET(DE104_3!$AI$34,ROWS($AI$34:AI93)-1,COLUMNS($AI$34:AI93)-1)<>\"\",OFFSET(DE104_3!$AI$34,ROWS($AI$34:AI93)-1,COLUMNS($AI$34:AI93)-1),\"\")","v":""},{"$f":"IF(OFFSET(DE104_3!$AJ$34,ROWS($AJ$34:AJ93)-1,COLUMNS($AJ$34:AJ93)-1)<>\"\",OFFSET(DE104_3!$AJ$34,ROWS($AJ$34:AJ93)-1,COLUMNS($AJ$34:AJ93)-1),\"\")","v":""},{"$f":"IF(OFFSET(DE104_3!$AK$34,ROWS($AK$34:AK93)-1,COLUMNS($AK$34:AK93)-1)<>\"\",OFFSET(DE104_3!$AK$34,ROWS($AK$34:AK93)-1,COLUMNS($AK$34:AK93)-1),\"\")","v":""},{"$f":"IF(OFFSET(DE104_3!$AL$34,ROWS($AL$34:AL93)-1,COLUMNS($AL$34:AL93)-1)<>\"\",OFFSET(DE104_3!$AL$34,ROWS($AL$34:AL93)-1,COLUMNS($AL$34:AL93)-1),\"\")","v":""},{"$f":"IF(OFFSET(DE104_3!$AM$34,ROWS($AM$34:AM93)-1,COLUMNS($AM$34:AM93)-1)<>\"\",OFFSET(DE104_3!$AM$34,ROWS($AM$34:AM93)-1,COLUMNS($AM$34:AM93)-1),\"\")","v":""},{"$f":"IF(OFFSET(DE104_3!$AN$34,ROWS($AN$34:AN93)-1,COLUMNS($AN$34:AN93)-1)<>\"\",OFFSET(DE104_3!$AN$34,ROWS($AN$34:AN93)-1,COLUMNS($AN$34:AN93)-1),\"\")","v":""},{"$f":"IF(OFFSET(DE104_3!$AO$34,ROWS($AO$34:AO93)-1,COLUMNS($AO$34:AO93)-1)<>\"\",OFFSET(DE104_3!$AO$34,ROWS($AO$34:AO93)-1,COLUMNS($AO$34:AO93)-1),\"\")","v":""},{"$f":"IF(OFFSET(DE104_3!$AP$34,ROWS($AP$34:AP93)-1,COLUMNS($AP$34:AP93)-1)<>\"\",OFFSET(DE104_3!$AP$34,ROWS($AP$34:AP93)-1,COLUMNS($AP$34:AP93)-1),\"\")","v":""},{"$f":"IF(OFFSET(DE104_3!$AQ$34,ROWS($AQ$34:AQ93)-1,COLUMNS($AQ$34:AQ93)-1)<>\"\",OFFSET(DE104_3!$AQ$34,ROWS($AQ$34:AQ93)-1,COLUMNS($AQ$34:AQ93)-1),\"\")","v":""}]
[{"$f":"IF(OFFSET(DE104_3!$C$34,ROWS($C$34:C94)-1,COLUMNS($C$34:C94)-1)<>\"\",OFFSET(DE104_3!$C$34,ROWS($C$34:C94)-1,COLUMNS($C$34:C94)-1),\"\")","v":""},{"$f":"IF(OFFSET(DE104_3!$D$34,ROWS($D$34:D94)-1,COLUMNS($D$34:D94)-1)<>\"\",OFFSET(DE104_3!$D$34,ROWS($D$34:D94)-1,COLUMNS($D$34:D94)-1),\"\")","v":""},{"$f":"IF(OFFSET(DE104_3!$E$34,ROWS($E$34:E94)-1,COLUMNS($E$34:E94)-1)<>\"\",OFFSET(DE104_3!$E$34,ROWS($E$34:E94)-1,COLUMNS($E$34:E94)-1),\"\")","v":""},{"$f":"IF(OFFSET(DE104_3!$F$34,ROWS($F$34:F94)-1,COLUMNS($F$34:F94)-1)<>\"\",OFFSET(DE104_3!$F$34,ROWS($F$34:F94)-1,COLUMNS($F$34:F94)-1),\"\")","v":""},{"$f":"IF(OFFSET(DE104_3!$G$34,ROWS($G$34:G94)-1,COLUMNS($G$34:G94)-1)<>\"\",OFFSET(DE104_3!$G$34,ROWS($G$34:G94)-1,COLUMNS($G$34:G94)-1),\"\")","v":""},{"$f":"IF(OFFSET(DE104_3!$H$34,ROWS($H$34:H94)-1,COLUMNS($H$34:H94)-1)<>\"\",OFFSET(DE104_3!$H$34,ROWS($H$34:H94)-1,COLUMNS($H$34:H94)-1),\"\")","v":""},{"$f":"IF(OFFSET(DE104_3!$I$34,ROWS($I$34:I94)-1,COLUMNS($I$34:I94)-1)<>\"\",OFFSET(DE104_3!$I$34,ROWS($I$34:I94)-1,COLUMNS($I$34:I94)-1),\"\")","v":""},{"$f":"IF(OFFSET(DE104_3!$J$34,ROWS($J$34:J94)-1,COLUMNS($J$34:J94)-1)<>\"\",OFFSET(DE104_3!$J$34,ROWS($J$34:J94)-1,COLUMNS($J$34:J94)-1),\"\")","v":""},{"$f":"IF(OFFSET(DE104_3!$K$34,ROWS($K$34:K94)-1,COLUMNS($K$34:K94)-1)<>\"\",OFFSET(DE104_3!$K$34,ROWS($K$34:K94)-1,COLUMNS($K$34:K94)-1),\"\")","v":""},{"$f":"IF(OFFSET(DE104_3!$L$34,ROWS($L$34:L94)-1,COLUMNS($L$34:L94)-1)<>\"\",OFFSET(DE104_3!$L$34,ROWS($L$34:L94)-1,COLUMNS($L$34:L94)-1),\"\")","v":""},{"$f":"IF(OFFSET(DE104_3!$M$34,ROWS($M$34:M94)-1,COLUMNS($M$34:M94)-1)<>\"\",OFFSET(DE104_3!$M$34,ROWS($M$34:M94)-1,COLUMNS($M$34:M94)-1),\"\")","v":""},{"$f":"IF(OFFSET(DE104_3!$N$34,ROWS($N$34:N94)-1,COLUMNS($N$34:N94)-1)<>\"\",OFFSET(DE104_3!$N$34,ROWS($N$34:N94)-1,COLUMNS($N$34:N94)-1),\"\")","v":""},{"$f":"IF(OFFSET(DE104_3!$O$34,ROWS($O$34:O94)-1,COLUMNS($O$34:O94)-1)<>\"\",OFFSET(DE104_3!$O$34,ROWS($O$34:O94)-1,COLUMNS($O$34:O94)-1),\"\")","v":""},{"$f":"IF(OFFSET(DE104_3!$P$34,ROWS($P$34:P94)-1,COLUMNS($P$34:P94)-1)<>\"\",OFFSET(DE104_3!$P$34,ROWS($P$34:P94)-1,COLUMNS($P$34:P94)-1),\"\")","v":""},{"$f":"IF(OFFSET(DE104_3!$Q$34,ROWS($Q$34:Q94)-1,COLUMNS($Q$34:Q94)-1)<>\"\",OFFSET(DE104_3!$Q$34,ROWS($Q$34:Q94)-1,COLUMNS($Q$34:Q94)-1),\"\")","v":""},{"$f":"IF(OFFSET(DE104_3!$R$34,ROWS($R$34:R94)-1,COLUMNS($R$34:R94)-1)<>\"\",OFFSET(DE104_3!$R$34,ROWS($R$34:R94)-1,COLUMNS($R$34:R94)-1),\"\")","v":""},{"$f":"IF(OFFSET(DE104_3!$S$34,ROWS($S$34:S94)-1,COLUMNS($S$34:S94)-1)<>\"\",OFFSET(DE104_3!$S$34,ROWS($S$34:S94)-1,COLUMNS($S$34:S94)-1),\"\")","v":""},{"$f":"IF(OFFSET(DE104_3!$T$34,ROWS($T$34:T94)-1,COLUMNS($T$34:T94)-1)<>\"\",OFFSET(DE104_3!$T$34,ROWS($T$34:T94)-1,COLUMNS($T$34:T94)-1),\"\")","v":""},{"$f":"IF(OFFSET(DE104_3!$U$34,ROWS($U$34:U94)-1,COLUMNS($U$34:U94)-1)<>\"\",OFFSET(DE104_3!$U$34,ROWS($U$34:U94)-1,COLUMNS($U$34:U94)-1),\"\")","v":""},{"$f":"IF(OFFSET(DE104_3!$V$34,ROWS($V$34:V94)-1,COLUMNS($V$34:V94)-1)<>\"\",OFFSET(DE104_3!$V$34,ROWS($V$34:V94)-1,COLUMNS($V$34:V94)-1),\"\")","v":""},{"$f":"IF(OFFSET(DE104_3!$W$34,ROWS($W$34:W94)-1,COLUMNS($W$34:W94)-1)<>\"\",OFFSET(DE104_3!$W$34,ROWS($W$34:W94)-1,COLUMNS($W$34:W94)-1),\"\")","v":""},{"$f":"IF(OFFSET(DE104_3!$X$34,ROWS($X$34:X94)-1,COLUMNS($X$34:X94)-1)<>\"\",OFFSET(DE104_3!$X$34,ROWS($X$34:X94)-1,COLUMNS($X$34:X94)-1),\"\")","v":""},{"$f":"IF(OFFSET(DE104_3!$Y$34,ROWS($Y$34:Y94)-1,COLUMNS($Y$34:Y94)-1)<>\"\",OFFSET(DE104_3!$Y$34,ROWS($Y$34:Y94)-1,COLUMNS($Y$34:Y94)-1),\"\")","v":""},{"$f":"IF(OFFSET(DE104_3!$Z$34,ROWS($Z$34:Z94)-1,COLUMNS($Z$34:Z94)-1)<>\"\",OFFSET(DE104_3!$Z$34,ROWS($Z$34:Z94)-1,COLUMNS($Z$34:Z94)-1),\"\")","v":""},{"$f":"IF(OFFSET(DE104_3!$AA$34,ROWS($AA$34:AA94)-1,COLUMNS($AA$34:AA94)-1)<>\"\",OFFSET(DE104_3!$AA$34,ROWS($AA$34:AA94)-1,COLUMNS($AA$34:AA94)-1),\"\")","v":""},{"$f":"IF(OFFSET(DE104_3!$AB$34,ROWS($AB$34:AB94)-1,COLUMNS($AB$34:AB94)-1)<>\"\",OFFSET(DE104_3!$AB$34,ROWS($AB$34:AB94)-1,COLUMNS($AB$34:AB94)-1),\"\")","v":""},{"$f":"IF(OFFSET(DE104_3!$AC$34,ROWS($AC$34:AC94)-1,COLUMNS($AC$34:AC94)-1)<>\"\",OFFSET(DE104_3!$AC$34,ROWS($AC$34:AC94)-1,COLUMNS($AC$34:AC94)-1),\"\")","v":""},{"$f":"IF(OFFSET(DE104_3!$AD$34,ROWS($AD$34:AD94)-1,COLUMNS($AD$34:AD94)-1)<>\"\",OFFSET(DE104_3!$AD$34,ROWS($AD$34:AD94)-1,COLUMNS($AD$34:AD94)-1),\"\")","v":""},{"$f":"IF(OFFSET(DE104_3!$AE$34,ROWS($AE$34:AE94)-1,COLUMNS($AE$34:AE94)-1)<>\"\",OFFSET(DE104_3!$AE$34,ROWS($AE$34:AE94)-1,COLUMNS($AE$34:AE94)-1),\"\")","v":""},{"$f":"IF(OFFSET(DE104_3!$AF$34,ROWS($AF$34:AF94)-1,COLUMNS($AF$34:AF94)-1)<>\"\",OFFSET(DE104_3!$AF$34,ROWS($AF$34:AF94)-1,COLUMNS($AF$34:AF94)-1),\"\")","v":""},{"$f":"IF(OFFSET(DE104_3!$AG$34,ROWS($AG$34:AG94)-1,COLUMNS($AG$34:AG94)-1)<>\"\",OFFSET(DE104_3!$AG$34,ROWS($AG$34:AG94)-1,COLUMNS($AG$34:AG94)-1),\"\")","v":""},{"$f":"IF(OFFSET(DE104_3!$AH$34,ROWS($AH$34:AH94)-1,COLUMNS($AH$34:AH94)-1)<>\"\",OFFSET(DE104_3!$AH$34,ROWS($AH$34:AH94)-1,COLUMNS($AH$34:AH94)-1),\"\")","v":""},{"$f":"IF(OFFSET(DE104_3!$AI$34,ROWS($AI$34:AI94)-1,COLUMNS($AI$34:AI94)-1)<>\"\",OFFSET(DE104_3!$AI$34,ROWS($AI$34:AI94)-1,COLUMNS($AI$34:AI94)-1),\"\")","v":""},{"$f":"IF(OFFSET(DE104_3!$AJ$34,ROWS($AJ$34:AJ94)-1,COLUMNS($AJ$34:AJ94)-1)<>\"\",OFFSET(DE104_3!$AJ$34,ROWS($AJ$34:AJ94)-1,COLUMNS($AJ$34:AJ94)-1),\"\")","v":""},{"$f":"IF(OFFSET(DE104_3!$AK$34,ROWS($AK$34:AK94)-1,COLUMNS($AK$34:AK94)-1)<>\"\",OFFSET(DE104_3!$AK$34,ROWS($AK$34:AK94)-1,COLUMNS($AK$34:AK94)-1),\"\")","v":""},{"$f":"IF(OFFSET(DE104_3!$AL$34,ROWS($AL$34:AL94)-1,COLUMNS($AL$34:AL94)-1)<>\"\",OFFSET(DE104_3!$AL$34,ROWS($AL$34:AL94)-1,COLUMNS($AL$34:AL94)-1),\"\")","v":""},{"$f":"IF(OFFSET(DE104_3!$AM$34,ROWS($AM$34:AM94)-1,COLUMNS($AM$34:AM94)-1)<>\"\",OFFSET(DE104_3!$AM$34,ROWS($AM$34:AM94)-1,COLUMNS($AM$34:AM94)-1),\"\")","v":""},{"$f":"IF(OFFSET(DE104_3!$AN$34,ROWS($AN$34:AN94)-1,COLUMNS($AN$34:AN94)-1)<>\"\",OFFSET(DE104_3!$AN$34,ROWS($AN$34:AN94)-1,COLUMNS($AN$34:AN94)-1),\"\")","v":""},{"$f":"IF(OFFSET(DE104_3!$AO$34,ROWS($AO$34:AO94)-1,COLUMNS($AO$34:AO94)-1)<>\"\",OFFSET(DE104_3!$AO$34,ROWS($AO$34:AO94)-1,COLUMNS($AO$34:AO94)-1),\"\")","v":""},{"$f":"IF(OFFSET(DE104_3!$AP$34,ROWS($AP$34:AP94)-1,COLUMNS($AP$34:AP94)-1)<>\"\",OFFSET(DE104_3!$AP$34,ROWS($AP$34:AP94)-1,COLUMNS($AP$34:AP94)-1),\"\")","v":""},{"$f":"IF(OFFSET(DE104_3!$AQ$34,ROWS($AQ$34:AQ94)-1,COLUMNS($AQ$34:AQ94)-1)<>\"\",OFFSET(DE104_3!$AQ$34,ROWS($AQ$34:AQ94)-1,COLUMNS($AQ$34:AQ94)-1),\"\")","v":""}]
[{"$f":"IF(OFFSET(DE104_3!$C$34,ROWS($C$34:C95)-1,COLUMNS($C$34:C95)-1)<>\"\",OFFSET(DE104_3!$C$34,ROWS($C$34:C95)-1,COLUMNS($C$34:C95)-1),\"\")","v":""},{"$f":"IF(OFFSET(DE104_3!$D$34,ROWS($D$34:D95)-1,COLUMNS($D$34:D95)-1)<>\"\",OFFSET(DE104_3!$D$34,ROWS($D$34:D95)-1,COLUMNS($D$34:D95)-1),\"\")","v":"23rd Avenue"},{"$f":"IF(OFFSET(DE104_3!$E$34,ROWS($E$34:E95)-1,COLUMNS($E$34:E95)-1)<>\"\",OFFSET(DE104_3!$E$34,ROWS($E$34:E95)-1,COLUMNS($E$34:E95)-1),\"\")","v":""},{"$f":"IF(OFFSET(DE104_3!$F$34,ROWS($F$34:F95)-1,COLUMNS($F$34:F95)-1)<>\"\",OFFSET(DE104_3!$F$34,ROWS($F$34:F95)-1,COLUMNS($F$34:F95)-1),\"\")","v":""},{"$f":"IF(OFFSET(DE104_3!$G$34,ROWS($G$34:G95)-1,COLUMNS($G$34:G95)-1)<>\"\",OFFSET(DE104_3!$G$34,ROWS($G$34:G95)-1,COLUMNS($G$34:G95)-1),\"\")","v":""},{"$f":"IF(OFFSET(DE104_3!$H$34,ROWS($H$34:H95)-1,COLUMNS($H$34:H95)-1)<>\"\",OFFSET(DE104_3!$H$34,ROWS($H$34:H95)-1,COLUMNS($H$34:H95)-1),\"\")","v":""},{"$f":"IF(OFFSET(DE104_3!$I$34,ROWS($I$34:I95)-1,COLUMNS($I$34:I95)-1)<>\"\",OFFSET(DE104_3!$I$34,ROWS($I$34:I95)-1,COLUMNS($I$34:I95)-1),\"\")","v":""},{"$f":"IF(OFFSET(DE104_3!$J$34,ROWS($J$34:J95)-1,COLUMNS($J$34:J95)-1)<>\"\",OFFSET(DE104_3!$J$34,ROWS($J$34:J95)-1,COLUMNS($J$34:J95)-1),\"\")","v":""},{"$f":"IF(OFFSET(DE104_3!$K$34,ROWS($K$34:K95)-1,COLUMNS($K$34:K95)-1)<>\"\",OFFSET(DE104_3!$K$34,ROWS($K$34:K95)-1,COLUMNS($K$34:K95)-1),\"\")","v":""},{"$f":"IF(OFFSET(DE104_3!$L$34,ROWS($L$34:L95)-1,COLUMNS($L$34:L95)-1)<>\"\",OFFSET(DE104_3!$L$34,ROWS($L$34:L95)-1,COLUMNS($L$34:L95)-1),\"\")","v":""},{"$f":"IF(OFFSET(DE104_3!$M$34,ROWS($M$34:M95)-1,COLUMNS($M$34:M95)-1)<>\"\",OFFSET(DE104_3!$M$34,ROWS($M$34:M95)-1,COLUMNS($M$34:M95)-1),\"\")","v":""},{"$f":"IF(OFFSET(DE104_3!$N$34,ROWS($N$34:N95)-1,COLUMNS($N$34:N95)-1)<>\"\",OFFSET(DE104_3!$N$34,ROWS($N$34:N95)-1,COLUMNS($N$34:N95)-1),\"\")","v":""},{"$f":"IF(OFFSET(DE104_3!$O$34,ROWS($O$34:O95)-1,COLUMNS($O$34:O95)-1)<>\"\",OFFSET(DE104_3!$O$34,ROWS($O$34:O95)-1,COLUMNS($O$34:O95)-1),\"\")","v":""},{"$f":"IF(OFFSET(DE104_3!$P$34,ROWS($P$34:P95)-1,COLUMNS($P$34:P95)-1)<>\"\",OFFSET(DE104_3!$P$34,ROWS($P$34:P95)-1,COLUMNS($P$34:P95)-1),\"\")","v":""},{"$f":"IF(OFFSET(DE104_3!$Q$34,ROWS($Q$34:Q95)-1,COLUMNS($Q$34:Q95)-1)<>\"\",OFFSET(DE104_3!$Q$34,ROWS($Q$34:Q95)-1,COLUMNS($Q$34:Q95)-1),\"\")","v":""},{"$f":"IF(OFFSET(DE104_3!$R$34,ROWS($R$34:R95)-1,COLUMNS($R$34:R95)-1)<>\"\",OFFSET(DE104_3!$R$34,ROWS($R$34:R95)-1,COLUMNS($R$34:R95)-1),\"\")","v":""},{"$f":"IF(OFFSET(DE104_3!$S$34,ROWS($S$34:S95)-1,COLUMNS($S$34:S95)-1)<>\"\",OFFSET(DE104_3!$S$34,ROWS($S$34:S95)-1,COLUMNS($S$34:S95)-1),\"\")","v":""},{"$f":"IF(OFFSET(DE104_3!$T$34,ROWS($T$34:T95)-1,COLUMNS($T$34:T95)-1)<>\"\",OFFSET(DE104_3!$T$34,ROWS($T$34:T95)-1,COLUMNS($T$34:T95)-1),\"\")","v":""},{"$f":"IF(OFFSET(DE104_3!$U$34,ROWS($U$34:U95)-1,COLUMNS($U$34:U95)-1)<>\"\",OFFSET(DE104_3!$U$34,ROWS($U$34:U95)-1,COLUMNS($U$34:U95)-1),\"\")","v":""},{"$f":"IF(OFFSET(DE104_3!$V$34,ROWS($V$34:V95)-1,COLUMNS($V$34:V95)-1)<>\"\",OFFSET(DE104_3!$V$34,ROWS($V$34:V95)-1,COLUMNS($V$34:V95)-1),\"\")","v":""},{"$f":"IF(OFFSET(DE104_3!$W$34,ROWS($W$34:W95)-1,COLUMNS($W$34:W95)-1)<>\"\",OFFSET(DE104_3!$W$34,ROWS($W$34:W95)-1,COLUMNS($W$34:W95)-1),\"\")","v":""},{"$f":"IF(OFFSET(DE104_3!$X$34,ROWS($X$34:X95)-1,COLUMNS($X$34:X95)-1)<>\"\",OFFSET(DE104_3!$X$34,ROWS($X$34:X95)-1,COLUMNS($X$34:X95)-1),\"\")","v":""},{"$f":"IF(OFFSET(DE104_3!$Y$34,ROWS($Y$34:Y95)-1,COLUMNS($Y$34:Y95)-1)<>\"\",OFFSET(DE104_3!$Y$34,ROWS($Y$34:Y95)-1,COLUMNS($Y$34:Y95)-1),\"\")","v":""},{"$f":"IF(OFFSET(DE104_3!$Z$34,ROWS($Z$34:Z95)-1,COLUMNS($Z$34:Z95)-1)<>\"\",OFFSET(DE104_3!$Z$34,ROWS($Z$34:Z95)-1,COLUMNS($Z$34:Z95)-1),\"\")","v":""},{"$f":"IF(OFFSET(DE104_3!$AA$34,ROWS($AA$34:AA95)-1,COLUMNS($AA$34:AA95)-1)<>\"\",OFFSET(DE104_3!$AA$34,ROWS($AA$34:AA95)-1,COLUMNS($AA$34:AA95)-1),\"\")","v":""},{"$f":"IF(OFFSET(DE104_3!$AB$34,ROWS($AB$34:AB95)-1,COLUMNS($AB$34:AB95)-1)<>\"\",OFFSET(DE104_3!$AB$34,ROWS($AB$34:AB95)-1,COLUMNS($AB$34:AB95)-1),\"\")","v":""},{"$f":"IF(OFFSET(DE104_3!$AC$34,ROWS($AC$34:AC95)-1,COLUMNS($AC$34:AC95)-1)<>\"\",OFFSET(DE104_3!$AC$34,ROWS($AC$34:AC95)-1,COLUMNS($AC$34:AC95)-1),\"\")","v":""},{"$f":"IF(OFFSET(DE104_3!$AD$34,ROWS($AD$34:AD95)-1,COLUMNS($AD$34:AD95)-1)<>\"\",OFFSET(DE104_3!$AD$34,ROWS($AD$34:AD95)-1,COLUMNS($AD$34:AD95)-1),\"\")","v":""},{"$f":"IF(OFFSET(DE104_3!$AE$34,ROWS($AE$34:AE95)-1,COLUMNS($AE$34:AE95)-1)<>\"\",OFFSET(DE104_3!$AE$34,ROWS($AE$34:AE95)-1,COLUMNS($AE$34:AE95)-1),\"\")","v":""},{"$f":"IF(OFFSET(DE104_3!$AF$34,ROWS($AF$34:AF95)-1,COLUMNS($AF$34:AF95)-1)<>\"\",OFFSET(DE104_3!$AF$34,ROWS($AF$34:AF95)-1,COLUMNS($AF$34:AF95)-1),\"\")","v":""},{"$f":"IF(OFFSET(DE104_3!$AG$34,ROWS($AG$34:AG95)-1,COLUMNS($AG$34:AG95)-1)<>\"\",OFFSET(DE104_3!$AG$34,ROWS($AG$34:AG95)-1,COLUMNS($AG$34:AG95)-1),\"\")","v":""},{"$f":"IF(OFFSET(DE104_3!$AH$34,ROWS($AH$34:AH95)-1,COLUMNS($AH$34:AH95)-1)<>\"\",OFFSET(DE104_3!$AH$34,ROWS($AH$34:AH95)-1,COLUMNS($AH$34:AH95)-1),\"\")","v":""},{"$f":"IF(OFFSET(DE104_3!$AI$34,ROWS($AI$34:AI95)-1,COLUMNS($AI$34:AI95)-1)<>\"\",OFFSET(DE104_3!$AI$34,ROWS($AI$34:AI95)-1,COLUMNS($AI$34:AI95)-1),\"\")","v":""},{"$f":"IF(OFFSET(DE104_3!$AJ$34,ROWS($AJ$34:AJ95)-1,COLUMNS($AJ$34:AJ95)-1)<>\"\",OFFSET(DE104_3!$AJ$34,ROWS($AJ$34:AJ95)-1,COLUMNS($AJ$34:AJ95)-1),\"\")","v":""},{"$f":"IF(OFFSET(DE104_3!$AK$34,ROWS($AK$34:AK95)-1,COLUMNS($AK$34:AK95)-1)<>\"\",OFFSET(DE104_3!$AK$34,ROWS($AK$34:AK95)-1,COLUMNS($AK$34:AK95)-1),\"\")","v":""},{"$f":"IF(OFFSET(DE104_3!$AL$34,ROWS($AL$34:AL95)-1,COLUMNS($AL$34:AL95)-1)<>\"\",OFFSET(DE104_3!$AL$34,ROWS($AL$34:AL95)-1,COLUMNS($AL$34:AL95)-1),\"\")","v":""},{"$f":"IF(OFFSET(DE104_3!$AM$34,ROWS($AM$34:AM95)-1,COLUMNS($AM$34:AM95)-1)<>\"\",OFFSET(DE104_3!$AM$34,ROWS($AM$34:AM95)-1,COLUMNS($AM$34:AM95)-1),\"\")","v":""},{"$f":"IF(OFFSET(DE104_3!$AN$34,ROWS($AN$34:AN95)-1,COLUMNS($AN$34:AN95)-1)<>\"\",OFFSET(DE104_3!$AN$34,ROWS($AN$34:AN95)-1,COLUMNS($AN$34:AN95)-1),\"\")","v":""},{"$f":"IF(OFFSET(DE104_3!$AO$34,ROWS($AO$34:AO95)-1,COLUMNS($AO$34:AO95)-1)<>\"\",OFFSET(DE104_3!$AO$34,ROWS($AO$34:AO95)-1,COLUMNS($AO$34:AO95)-1),\"\")","v":""},{"$f":"IF(OFFSET(DE104_3!$AP$34,ROWS($AP$34:AP95)-1,COLUMNS($AP$34:AP95)-1)<>\"\",OFFSET(DE104_3!$AP$34,ROWS($AP$34:AP95)-1,COLUMNS($AP$34:AP95)-1),\"\")","v":""},{"$f":"IF(OFFSET(DE104_3!$AQ$34,ROWS($AQ$34:AQ95)-1,COLUMNS($AQ$34:AQ95)-1)<>\"\",OFFSET(DE104_3!$AQ$34,ROWS($AQ$34:AQ95)-1,COLUMNS($AQ$34:AQ95)-1),\"\")","v":""}]
[{"$f":"IF(OFFSET(DE104_3!$C$34,ROWS($C$34:C96)-1,COLUMNS($C$34:C96)-1)<>\"\",OFFSET(DE104_3!$C$34,ROWS($C$34:C96)-1,COLUMNS($C$34:C96)-1),\"\")","v":""},{"$f":"IF(OFFSET(DE104_3!$D$34,ROWS($D$34:D96)-1,COLUMNS($D$34:D96)-1)<>\"\",OFFSET(DE104_3!$D$34,ROWS($D$34:D96)-1,COLUMNS($D$34:D96)-1),\"\")","v":23142425},{"$f":"IF(OFFSET(DE104_3!$E$34,ROWS($E$34:E96)-1,COLUMNS($E$34:E96)-1)<>\"\",OFFSET(DE104_3!$E$34,ROWS($E$34:E96)-1,COLUMNS($E$34:E96)-1),\"\")","v":"DR-601"},{"$f":"IF(OFFSET(DE104_3!$F$34,ROWS($F$34:F96)-1,COLUMNS($F$34:F96)-1)<>\"\",OFFSET(DE104_3!$F$34,ROWS($F$34:F96)-1,COLUMNS($F$34:F96)-1),\"\")","v":24},{"$f":"IF(OFFSET(DE104_3!$G$34,ROWS($G$34:G96)-1,COLUMNS($G$34:G96)-1)<>\"\",OFFSET(DE104_3!$G$34,ROWS($G$34:G96)-1,COLUMNS($G$34:G96)-1),\"\")","v":2000},{"$f":"IF(OFFSET(DE104_3!$H$34,ROWS($H$34:H96)-1,COLUMNS($H$34:H96)-1)<>\"\",OFFSET(DE104_3!$H$34,ROWS($H$34:H96)-1,COLUMNS($H$34:H96)-1),\"\")","v":"RCP"},{"$f":"IF(OFFSET(DE104_3!$I$34,ROWS($I$34:I96)-1,COLUMNS($I$34:I96)-1)<>\"\",OFFSET(DE104_3!$I$34,ROWS($I$34:I96)-1,COLUMNS($I$34:I96)-1),\"\")","v":96},{"$f":"IF(OFFSET(DE104_3!$J$34,ROWS($J$34:J96)-1,COLUMNS($J$34:J96)-1)<>\"\",OFFSET(DE104_3!$J$34,ROWS($J$34:J96)-1,COLUMNS($J$34:J96)-1),\"\")","v":"B"},{"$f":"IF(OFFSET(DE104_3!$K$34,ROWS($K$34:K96)-1,COLUMNS($K$34:K96)-1)<>\"\",OFFSET(DE104_3!$K$34,ROWS($K$34:K96)-1,COLUMNS($K$34:K96)-1),\"\")","v":8.3000000000000007},{"$f":"IF(OFFSET(DE104_3!$L$34,ROWS($L$34:L96)-1,COLUMNS($L$34:L96)-1)<>\"\",OFFSET(DE104_3!$L$34,ROWS($L$34:L96)-1,COLUMNS($L$34:L96)-1),\"\")","v":""},{"$f":"IF(OFFSET(DE104_3!$M$34,ROWS($M$34:M96)-1,COLUMNS($M$34:M96)-1)<>\"\",OFFSET(DE104_3!$M$34,ROWS($M$34:M96)-1,COLUMNS($M$34:M96)-1),\"\")","v":1},{"$f":"IF(OFFSET(DE104_3!$N$34,ROWS($N$34:N96)-1,COLUMNS($N$34:N96)-1)<>\"\",OFFSET(DE104_3!$N$34,ROWS($N$34:N96)-1,COLUMNS($N$34:N96)-1),\"\")","v":1},{"$f":"IF(OFFSET(DE104_3!$O$34,ROWS($O$34:O96)-1,COLUMNS($O$34:O96)-1)<>\"\",OFFSET(DE104_3!$O$34,ROWS($O$34:O96)-1,COLUMNS($O$34:O96)-1),\"\")","v":""},{"$f":"IF(OFFSET(DE104_3!$P$34,ROWS($P$34:P96)-1,COLUMNS($P$34:P96)-1)<>\"\",OFFSET(DE104_3!$P$34,ROWS($P$34:P96)-1,COLUMNS($P$34:P96)-1),\"\")","v":""},{"$f":"IF(OFFSET(DE104_3!$Q$34,ROWS($Q$34:Q96)-1,COLUMNS($Q$34:Q96)-1)<>\"\",OFFSET(DE104_3!$Q$34,ROWS($Q$34:Q96)-1,COLUMNS($Q$34:Q96)-1),\"\")","v":""},{"$f":"IF(OFFSET(DE104_3!$R$34,ROWS($R$34:R96)-1,COLUMNS($R$34:R96)-1)<>\"\",OFFSET(DE104_3!$R$34,ROWS($R$34:R96)-1,COLUMNS($R$34:R96)-1),\"\")","v":""},{"$f":"IF(OFFSET(DE104_3!$S$34,ROWS($S$34:S96)-1,COLUMNS($S$34:S96)-1)<>\"\",OFFSET(DE104_3!$S$34,ROWS($S$34:S96)-1,COLUMNS($S$34:S96)-1),\"\")","v":""},{"$f":"IF(OFFSET(DE104_3!$T$34,ROWS($T$34:T96)-1,COLUMNS($T$34:T96)-1)<>\"\",OFFSET(DE104_3!$T$34,ROWS($T$34:T96)-1,COLUMNS($T$34:T96)-1),\"\")","v":""},{"$f":"IF(OFFSET(DE104_3!$U$34,ROWS($U$34:U96)-1,COLUMNS($U$34:U96)-1)<>\"\",OFFSET(DE104_3!$U$34,ROWS($U$34:U96)-1,COLUMNS($U$34:U96)-1),\"\")","v":""},{"$f":"IF(OFFSET(DE104_3!$V$34,ROWS($V$34:V96)-1,COLUMNS($V$34:V96)-1)<>\"\",OFFSET(DE104_3!$V$34,ROWS($V$34:V96)-1,COLUMNS($V$34:V96)-1),\"\")","v":"Type 3"},{"$f":"IF(OFFSET(DE104_3!$W$34,ROWS($W$34:W96)-1,COLUMNS($W$34:W96)-1)<>\"\",OFFSET(DE104_3!$W$34,ROWS($W$34:W96)-1,COLUMNS($W$34:W96)-1),\"\")","v":""},{"$f":"IF(OFFSET(DE104_3!$X$34,ROWS($X$34:X96)-1,COLUMNS($X$34:X96)-1)<>\"\",OFFSET(DE104_3!$X$34,ROWS($X$34:X96)-1,COLUMNS($X$34:X96)-1),\"\")","v":881.73},{"$f":"IF(OFFSET(DE104_3!$Y$34,ROWS($Y$34:Y96)-1,COLUMNS($Y$34:Y96)-1)<>\"\",OFFSET(DE104_3!$Y$34,ROWS($Y$34:Y96)-1,COLUMNS($Y$34:Y96)-1),\"\")","v":881.19},{"$f":"IF(OFFSET(DE104_3!$Z$34,ROWS($Z$34:Z96)-1,COLUMNS($Z$34:Z96)-1)<>\"\",OFFSET(DE104_3!$Z$34,ROWS($Z$34:Z96)-1,COLUMNS($Z$34:Z96)-1),\"\")","v":""},{"$f":"IF(OFFSET(DE104_3!$AA$34,ROWS($AA$34:AA96)-1,COLUMNS($AA$34:AA96)-1)<>\"\",OFFSET(DE104_3!$AA$34,ROWS($AA$34:AA96)-1,COLUMNS($AA$34:AA96)-1),\"\")","v":""},{"$f":"IF(OFFSET(DE104_3!$AB$34,ROWS($AB$34:AB96)-1,COLUMNS($AB$34:AB96)-1)<>\"\",OFFSET(DE104_3!$AB$34,ROWS($AB$34:AB96)-1,COLUMNS($AB$34:AB96)-1),\"\")","v":53.55},{"$f":"IF(OFFSET(DE104_3!$AC$34,ROWS($AC$34:AC96)-1,COLUMNS($AC$34:AC96)-1)<>\"\",OFFSET(DE104_3!$AC$34,ROWS($AC$34:AC96)-1,COLUMNS($AC$34:AC96)-1),\"\")","v":54.68},{"$f":"IF(OFFSET(DE104_3!$AD$34,ROWS($AD$34:AD96)-1,COLUMNS($AD$34:AD96)-1)<>\"\",OFFSET(DE104_3!$AD$34,ROWS($AD$34:AD96)-1,COLUMNS($AD$34:AD96)-1),\"\")","v":""},{"$f":"IF(OFFSET(DE104_3!$AE$34,ROWS($AE$34:AE96)-1,COLUMNS($AE$34:AE96)-1)<>\"\",OFFSET(DE104_3!$AE$34,ROWS($AE$34:AE96)-1,COLUMNS($AE$34:AE96)-1),\"\")","v":""},{"$f":"IF(OFFSET(DE104_3!$AF$34,ROWS($AF$34:AF96)-1,COLUMNS($AF$34:AF96)-1)<>\"\",OFFSET(DE104_3!$AF$34,ROWS($AF$34:AF96)-1,COLUMNS($AF$34:AF96)-1),\"\")","v":""},{"$f":"IF(OFFSET(DE104_3!$AG$34,ROWS($AG$34:AG96)-1,COLUMNS($AG$34:AG96)-1)<>\"\",OFFSET(DE104_3!$AG$34,ROWS($AG$34:AG96)-1,COLUMNS($AG$34:AG96)-1),\"\")","v":""},{"$f":"IF(OFFSET(DE104_3!$AH$34,ROWS($AH$34:AH96)-1,COLUMNS($AH$34:AH96)-1)<>\"\",OFFSET(DE104_3!$AH$34,ROWS($AH$34:AH96)-1,COLUMNS($AH$34:AH96)-1),\"\")","v":""},{"$f":"IF(OFFSET(DE104_3!$AI$34,ROWS($AI$34:AI96)-1,COLUMNS($AI$34:AI96)-1)<>\"\",OFFSET(DE104_3!$AI$34,ROWS($AI$34:AI96)-1,COLUMNS($AI$34:AI96)-1),\"\")","v":""},{"$f":"IF(OFFSET(DE104_3!$AJ$34,ROWS($AJ$34:AJ96)-1,COLUMNS($AJ$34:AJ96)-1)<>\"\",OFFSET(DE104_3!$AJ$34,ROWS($AJ$34:AJ96)-1,COLUMNS($AJ$34:AJ96)-1),\"\")","v":""},{"$f":"IF(OFFSET(DE104_3!$AK$34,ROWS($AK$34:AK96)-1,COLUMNS($AK$34:AK96)-1)<>\"\",OFFSET(DE104_3!$AK$34,ROWS($AK$34:AK96)-1,COLUMNS($AK$34:AK96)-1),\"\")","v":""},{"$f":"IF(OFFSET(DE104_3!$AL$34,ROWS($AL$34:AL96)-1,COLUMNS($AL$34:AL96)-1)<>\"\",OFFSET(DE104_3!$AL$34,ROWS($AL$34:AL96)-1,COLUMNS($AL$34:AL96)-1),\"\")","v":270.17414814814816},{"$f":"IF(OFFSET(DE104_3!$AM$34,ROWS($AM$34:AM96)-1,COLUMNS($AM$34:AM96)-1)<>\"\",OFFSET(DE104_3!$AM$34,ROWS($AM$34:AM96)-1,COLUMNS($AM$34:AM96)-1),\"\")","v":""},{"$f":"IF(OFFSET(DE104_3!$AN$34,ROWS($AN$34:AN96)-1,COLUMNS($AN$34:AN96)-1)<>\"\",OFFSET(DE104_3!$AN$34,ROWS($AN$34:AN96)-1,COLUMNS($AN$34:AN96)-1),\"\")","v":209.73333333333332},{"$f":"IF(OFFSET(DE104_3!$AO$34,ROWS($AO$34:AO96)-1,COLUMNS($AO$34:AO96)-1)<>\"\",OFFSET(DE104_3!$AO$34,ROWS($AO$34:AO96)-1,COLUMNS($AO$34:AO96)-1),\"\")","v":8.3016777777777779},{"$f":"IF(OFFSET(DE104_3!$AP$34,ROWS($AP$34:AP96)-1,COLUMNS($AP$34:AP96)-1)<>\"\",OFFSET(DE104_3!$AP$34,ROWS($AP$34:AP96)-1,COLUMNS($AP$34:AP96)-1),\"\")","v":218.03501111111109},{"$f":"IF(OFFSET(DE104_3!$AQ$34,ROWS($AQ$34:AQ96)-1,COLUMNS($AQ$34:AQ96)-1)<>\"\",OFFSET(DE104_3!$AQ$34,ROWS($AQ$34:AQ96)-1,COLUMNS($AQ$34:AQ96)-1),\"\")","v":""}]
[{"$f":"IF(OFFSET(DE104_3!$C$34,ROWS($C$34:C97)-1,COLUMNS($C$34:C97)-1)<>\"\",OFFSET(DE104_3!$C$34,ROWS($C$34:C97)-1,COLUMNS($C$34:C97)-1),\"\")","v":""},{"$f":"IF(OFFSET(DE104_3!$D$34,ROWS($D$34:D97)-1,COLUMNS($D$34:D97)-1)<>\"\",OFFSET(DE104_3!$D$34,ROWS($D$34:D97)-1,COLUMNS($D$34:D97)-1),\"\")","v":""},{"$f":"IF(OFFSET(DE104_3!$E$34,ROWS($E$34:E97)-1,COLUMNS($E$34:E97)-1)<>\"\",OFFSET(DE104_3!$E$34,ROWS($E$34:E97)-1,COLUMNS($E$34:E97)-1),\"\")","v":""},{"$f":"IF(OFFSET(DE104_3!$F$34,ROWS($F$34:F97)-1,COLUMNS($F$34:F97)-1)<>\"\",OFFSET(DE104_3!$F$34,ROWS($F$34:F97)-1,COLUMNS($F$34:F97)-1),\"\")","v":""},{"$f":"IF(OFFSET(DE104_3!$G$34,ROWS($G$34:G97)-1,COLUMNS($G$34:G97)-1)<>\"\",OFFSET(DE104_3!$G$34,ROWS($G$34:G97)-1,COLUMNS($G$34:G97)-1),\"\")","v":""},{"$f":"IF(OFFSET(DE104_3!$H$34,ROWS($H$34:H97)-1,COLUMNS($H$34:H97)-1)<>\"\",OFFSET(DE104_3!$H$34,ROWS($H$34:H97)-1,COLUMNS($H$34:H97)-1),\"\")","v":""},{"$f":"IF(OFFSET(DE104_3!$I$34,ROWS($I$34:I97)-1,COLUMNS($I$34:I97)-1)<>\"\",OFFSET(DE104_3!$I$34,ROWS($I$34:I97)-1,COLUMNS($I$34:I97)-1),\"\")","v":""},{"$f":"IF(OFFSET(DE104_3!$J$34,ROWS($J$34:J97)-1,COLUMNS($J$34:J97)-1)<>\"\",OFFSET(DE104_3!$J$34,ROWS($J$34:J97)-1,COLUMNS($J$34:J97)-1),\"\")","v":""},{"$f":"IF(OFFSET(DE104_3!$K$34,ROWS($K$34:K97)-1,COLUMNS($K$34:K97)-1)<>\"\",OFFSET(DE104_3!$K$34,ROWS($K$34:K97)-1,COLUMNS($K$34:K97)-1),\"\")","v":""},{"$f":"IF(OFFSET(DE104_3!$L$34,ROWS($L$34:L97)-1,COLUMNS($L$34:L97)-1)<>\"\",OFFSET(DE104_3!$L$34,ROWS($L$34:L97)-1,COLUMNS($L$34:L97)-1),\"\")","v":""},{"$f":"IF(OFFSET(DE104_3!$M$34,ROWS($M$34:M97)-1,COLUMNS($M$34:M97)-1)<>\"\",OFFSET(DE104_3!$M$34,ROWS($M$34:M97)-1,COLUMNS($M$34:M97)-1),\"\")","v":""},{"$f":"IF(OFFSET(DE104_3!$N$34,ROWS($N$34:N97)-1,COLUMNS($N$34:N97)-1)<>\"\",OFFSET(DE104_3!$N$34,ROWS($N$34:N97)-1,COLUMNS($N$34:N97)-1),\"\")","v":""},{"$f":"IF(OFFSET(DE104_3!$O$34,ROWS($O$34:O97)-1,COLUMNS($O$34:O97)-1)<>\"\",OFFSET(DE104_3!$O$34,ROWS($O$34:O97)-1,COLUMNS($O$34:O97)-1),\"\")","v":""},{"$f":"IF(OFFSET(DE104_3!$P$34,ROWS($P$34:P97)-1,COLUMNS($P$34:P97)-1)<>\"\",OFFSET(DE104_3!$P$34,ROWS($P$34:P97)-1,COLUMNS($P$34:P97)-1),\"\")","v":""},{"$f":"IF(OFFSET(DE104_3!$Q$34,ROWS($Q$34:Q97)-1,COLUMNS($Q$34:Q97)-1)<>\"\",OFFSET(DE104_3!$Q$34,ROWS($Q$34:Q97)-1,COLUMNS($Q$34:Q97)-1),\"\")","v":""},{"$f":"IF(OFFSET(DE104_3!$R$34,ROWS($R$34:R97)-1,COLUMNS($R$34:R97)-1)<>\"\",OFFSET(DE104_3!$R$34,ROWS($R$34:R97)-1,COLUMNS($R$34:R97)-1),\"\")","v":""},{"$f":"IF(OFFSET(DE104_3!$S$34,ROWS($S$34:S97)-1,COLUMNS($S$34:S97)-1)<>\"\",OFFSET(DE104_3!$S$34,ROWS($S$34:S97)-1,COLUMNS($S$34:S97)-1),\"\")","v":""},{"$f":"IF(OFFSET(DE104_3!$T$34,ROWS($T$34:T97)-1,COLUMNS($T$34:T97)-1)<>\"\",OFFSET(DE104_3!$T$34,ROWS($T$34:T97)-1,COLUMNS($T$34:T97)-1),\"\")","v":""},{"$f":"IF(OFFSET(DE104_3!$U$34,ROWS($U$34:U97)-1,COLUMNS($U$34:U97)-1)<>\"\",OFFSET(DE104_3!$U$34,ROWS($U$34:U97)-1,COLUMNS($U$34:U97)-1),\"\")","v":""},{"$f":"IF(OFFSET(DE104_3!$V$34,ROWS($V$34:V97)-1,COLUMNS($V$34:V97)-1)<>\"\",OFFSET(DE104_3!$V$34,ROWS($V$34:V97)-1,COLUMNS($V$34:V97)-1),\"\")","v":""},{"$f":"IF(OFFSET(DE104_3!$W$34,ROWS($W$34:W97)-1,COLUMNS($W$34:W97)-1)<>\"\",OFFSET(DE104_3!$W$34,ROWS($W$34:W97)-1,COLUMNS($W$34:W97)-1),\"\")","v":""},{"$f":"IF(OFFSET(DE104_3!$X$34,ROWS($X$34:X97)-1,COLUMNS($X$34:X97)-1)<>\"\",OFFSET(DE104_3!$X$34,ROWS($X$34:X97)-1,COLUMNS($X$34:X97)-1),\"\")","v":""},{"$f":"IF(OFFSET(DE104_3!$Y$34,ROWS($Y$34:Y97)-1,COLUMNS($Y$34:Y97)-1)<>\"\",OFFSET(DE104_3!$Y$34,ROWS($Y$34:Y97)-1,COLUMNS($Y$34:Y97)-1),\"\")","v":""},{"$f":"IF(OFFSET(DE104_3!$Z$34,ROWS($Z$34:Z97)-1,COLUMNS($Z$34:Z97)-1)<>\"\",OFFSET(DE104_3!$Z$34,ROWS($Z$34:Z97)-1,COLUMNS($Z$34:Z97)-1),\"\")","v":""},{"$f":"IF(OFFSET(DE104_3!$AA$34,ROWS($AA$34:AA97)-1,COLUMNS($AA$34:AA97)-1)<>\"\",OFFSET(DE104_3!$AA$34,ROWS($AA$34:AA97)-1,COLUMNS($AA$34:AA97)-1),\"\")","v":""},{"$f":"IF(OFFSET(DE104_3!$AB$34,ROWS($AB$34:AB97)-1,COLUMNS($AB$34:AB97)-1)<>\"\",OFFSET(DE104_3!$AB$34,ROWS($AB$34:AB97)-1,COLUMNS($AB$34:AB97)-1),\"\")","v":""},{"$f":"IF(OFFSET(DE104_3!$AC$34,ROWS($AC$34:AC97)-1,COLUMNS($AC$34:AC97)-1)<>\"\",OFFSET(DE104_3!$AC$34,ROWS($AC$34:AC97)-1,COLUMNS($AC$34:AC97)-1),\"\")","v":""},{"$f":"IF(OFFSET(DE104_3!$AD$34,ROWS($AD$34:AD97)-1,COLUMNS($AD$34:AD97)-1)<>\"\",OFFSET(DE104_3!$AD$34,ROWS($AD$34:AD97)-1,COLUMNS($AD$34:AD97)-1),\"\")","v":""},{"$f":"IF(OFFSET(DE104_3!$AE$34,ROWS($AE$34:AE97)-1,COLUMNS($AE$34:AE97)-1)<>\"\",OFFSET(DE104_3!$AE$34,ROWS($AE$34:AE97)-1,COLUMNS($AE$34:AE97)-1),\"\")","v":""},{"$f":"IF(OFFSET(DE104_3!$AF$34,ROWS($AF$34:AF97)-1,COLUMNS($AF$34:AF97)-1)<>\"\",OFFSET(DE104_3!$AF$34,ROWS($AF$34:AF97)-1,COLUMNS($AF$34:AF97)-1),\"\")","v":""},{"$f":"IF(OFFSET(DE104_3!$AG$34,ROWS($AG$34:AG97)-1,COLUMNS($AG$34:AG97)-1)<>\"\",OFFSET(DE104_3!$AG$34,ROWS($AG$34:AG97)-1,COLUMNS($AG$34:AG97)-1),\"\")","v":""},{"$f":"IF(OFFSET(DE104_3!$AH$34,ROWS($AH$34:AH97)-1,COLUMNS($AH$34:AH97)-1)<>\"\",OFFSET(DE104_3!$AH$34,ROWS($AH$34:AH97)-1,COLUMNS($AH$34:AH97)-1),\"\")","v":""},{"$f":"IF(OFFSET(DE104_3!$AI$34,ROWS($AI$34:AI97)-1,COLUMNS($AI$34:AI97)-1)<>\"\",OFFSET(DE104_3!$AI$34,ROWS($AI$34:AI97)-1,COLUMNS($AI$34:AI97)-1),\"\")","v":""},{"$f":"IF(OFFSET(DE104_3!$AJ$34,ROWS($AJ$34:AJ97)-1,COLUMNS($AJ$34:AJ97)-1)<>\"\",OFFSET(DE104_3!$AJ$34,ROWS($AJ$34:AJ97)-1,COLUMNS($AJ$34:AJ97)-1),\"\")","v":""},{"$f":"IF(OFFSET(DE104_3!$AK$34,ROWS($AK$34:AK97)-1,COLUMNS($AK$34:AK97)-1)<>\"\",OFFSET(DE104_3!$AK$34,ROWS($AK$34:AK97)-1,COLUMNS($AK$34:AK97)-1),\"\")","v":""},{"$f":"IF(OFFSET(DE104_3!$AL$34,ROWS($AL$34:AL97)-1,COLUMNS($AL$34:AL97)-1)<>\"\",OFFSET(DE104_3!$AL$34,ROWS($AL$34:AL97)-1,COLUMNS($AL$34:AL97)-1),\"\")","v":""},{"$f":"IF(OFFSET(DE104_3!$AM$34,ROWS($AM$34:AM97)-1,COLUMNS($AM$34:AM97)-1)<>\"\",OFFSET(DE104_3!$AM$34,ROWS($AM$34:AM97)-1,COLUMNS($AM$34:AM97)-1),\"\")","v":""},{"$f":"IF(OFFSET(DE104_3!$AN$34,ROWS($AN$34:AN97)-1,COLUMNS($AN$34:AN97)-1)<>\"\",OFFSET(DE104_3!$AN$34,ROWS($AN$34:AN97)-1,COLUMNS($AN$34:AN97)-1),\"\")","v":""},{"$f":"IF(OFFSET(DE104_3!$AO$34,ROWS($AO$34:AO97)-1,COLUMNS($AO$34:AO97)-1)<>\"\",OFFSET(DE104_3!$AO$34,ROWS($AO$34:AO97)-1,COLUMNS($AO$34:AO97)-1),\"\")","v":""},{"$f":"IF(OFFSET(DE104_3!$AP$34,ROWS($AP$34:AP97)-1,COLUMNS($AP$34:AP97)-1)<>\"\",OFFSET(DE104_3!$AP$34,ROWS($AP$34:AP97)-1,COLUMNS($AP$34:AP97)-1),\"\")","v":""},{"$f":"IF(OFFSET(DE104_3!$AQ$34,ROWS($AQ$34:AQ97)-1,COLUMNS($AQ$34:AQ97)-1)<>\"\",OFFSET(DE104_3!$AQ$34,ROWS($AQ$34:AQ97)-1,COLUMNS($AQ$34:AQ97)-1),\"\")","v":""}]
[{"$f":"IF(OFFSET(DE104_3!$C$34,ROWS($C$34:C98)-1,COLUMNS($C$34:C98)-1)<>\"\",OFFSET(DE104_3!$C$34,ROWS($C$34:C98)-1,COLUMNS($C$34:C98)-1),\"\")","v":""},{"$f":"IF(OFFSET(DE104_3!$D$34,ROWS($D$34:D98)-1,COLUMNS($D$34:D98)-1)<>\"\",OFFSET(DE104_3!$D$34,ROWS($D$34:D98)-1,COLUMNS($D$34:D98)-1),\"\")","v":""},{"$f":"IF(OFFSET(DE104_3!$E$34,ROWS($E$34:E98)-1,COLUMNS($E$34:E98)-1)<>\"\",OFFSET(DE104_3!$E$34,ROWS($E$34:E98)-1,COLUMNS($E$34:E98)-1),\"\")","v":""},{"$f":"IF(OFFSET(DE104_3!$F$34,ROWS($F$34:F98)-1,COLUMNS($F$34:F98)-1)<>\"\",OFFSET(DE104_3!$F$34,ROWS($F$34:F98)-1,COLUMNS($F$34:F98)-1),\"\")","v":""},{"$f":"IF(OFFSET(DE104_3!$G$34,ROWS($G$34:G98)-1,COLUMNS($G$34:G98)-1)<>\"\",OFFSET(DE104_3!$G$34,ROWS($G$34:G98)-1,COLUMNS($G$34:G98)-1),\"\")","v":""},{"$f":"IF(OFFSET(DE104_3!$H$34,ROWS($H$34:H98)-1,COLUMNS($H$34:H98)-1)<>\"\",OFFSET(DE104_3!$H$34,ROWS($H$34:H98)-1,COLUMNS($H$34:H98)-1),\"\")","v":""},{"$f":"IF(OFFSET(DE104_3!$I$34,ROWS($I$34:I98)-1,COLUMNS($I$34:I98)-1)<>\"\",OFFSET(DE104_3!$I$34,ROWS($I$34:I98)-1,COLUMNS($I$34:I98)-1),\"\")","v":""},{"$f":"IF(OFFSET(DE104_3!$J$34,ROWS($J$34:J98)-1,COLUMNS($J$34:J98)-1)<>\"\",OFFSET(DE104_3!$J$34,ROWS($J$34:J98)-1,COLUMNS($J$34:J98)-1),\"\")","v":""},{"$f":"IF(OFFSET(DE104_3!$K$34,ROWS($K$34:K98)-1,COLUMNS($K$34:K98)-1)<>\"\",OFFSET(DE104_3!$K$34,ROWS($K$34:K98)-1,COLUMNS($K$34:K98)-1),\"\")","v":""},{"$f":"IF(OFFSET(DE104_3!$L$34,ROWS($L$34:L98)-1,COLUMNS($L$34:L98)-1)<>\"\",OFFSET(DE104_3!$L$34,ROWS($L$34:L98)-1,COLUMNS($L$34:L98)-1),\"\")","v":""},{"$f":"IF(OFFSET(DE104_3!$M$34,ROWS($M$34:M98)-1,COLUMNS($M$34:M98)-1)<>\"\",OFFSET(DE104_3!$M$34,ROWS($M$34:M98)-1,COLUMNS($M$34:M98)-1),\"\")","v":""},{"$f":"IF(OFFSET(DE104_3!$N$34,ROWS($N$34:N98)-1,COLUMNS($N$34:N98)-1)<>\"\",OFFSET(DE104_3!$N$34,ROWS($N$34:N98)-1,COLUMNS($N$34:N98)-1),\"\")","v":""},{"$f":"IF(OFFSET(DE104_3!$O$34,ROWS($O$34:O98)-1,COLUMNS($O$34:O98)-1)<>\"\",OFFSET(DE104_3!$O$34,ROWS($O$34:O98)-1,COLUMNS($O$34:O98)-1),\"\")","v":""},{"$f":"IF(OFFSET(DE104_3!$P$34,ROWS($P$34:P98)-1,COLUMNS($P$34:P98)-1)<>\"\",OFFSET(DE104_3!$P$34,ROWS($P$34:P98)-1,COLUMNS($P$34:P98)-1),\"\")","v":""},{"$f":"IF(OFFSET(DE104_3!$Q$34,ROWS($Q$34:Q98)-1,COLUMNS($Q$34:Q98)-1)<>\"\",OFFSET(DE104_3!$Q$34,ROWS($Q$34:Q98)-1,COLUMNS($Q$34:Q98)-1),\"\")","v":""},{"$f":"IF(OFFSET(DE104_3!$R$34,ROWS($R$34:R98)-1,COLUMNS($R$34:R98)-1)<>\"\",OFFSET(DE104_3!$R$34,ROWS($R$34:R98)-1,COLUMNS($R$34:R98)-1),\"\")","v":""},{"$f":"IF(OFFSET(DE104_3!$S$34,ROWS($S$34:S98)-1,COLUMNS($S$34:S98)-1)<>\"\",OFFSET(DE104_3!$S$34,ROWS($S$34:S98)-1,COLUMNS($S$34:S98)-1),\"\")","v":""},{"$f":"IF(OFFSET(DE104_3!$T$34,ROWS($T$34:T98)-1,COLUMNS($T$34:T98)-1)<>\"\",OFFSET(DE104_3!$T$34,ROWS($T$34:T98)-1,COLUMNS($T$34:T98)-1),\"\")","v":""},{"$f":"IF(OFFSET(DE104_3!$U$34,ROWS($U$34:U98)-1,COLUMNS($U$34:U98)-1)<>\"\",OFFSET(DE104_3!$U$34,ROWS($U$34:U98)-1,COLUMNS($U$34:U98)-1),\"\")","v":""},{"$f":"IF(OFFSET(DE104_3!$V$34,ROWS($V$34:V98)-1,COLUMNS($V$34:V98)-1)<>\"\",OFFSET(DE104_3!$V$34,ROWS($V$34:V98)-1,COLUMNS($V$34:V98)-1),\"\")","v":""},{"$f":"IF(OFFSET(DE104_3!$W$34,ROWS($W$34:W98)-1,COLUMNS($W$34:W98)-1)<>\"\",OFFSET(DE104_3!$W$34,ROWS($W$34:W98)-1,COLUMNS($W$34:W98)-1),\"\")","v":""},{"$f":"IF(OFFSET(DE104_3!$X$34,ROWS($X$34:X98)-1,COLUMNS($X$34:X98)-1)<>\"\",OFFSET(DE104_3!$X$34,ROWS($X$34:X98)-1,COLUMNS($X$34:X98)-1),\"\")","v":""},{"$f":"IF(OFFSET(DE104_3!$Y$34,ROWS($Y$34:Y98)-1,COLUMNS($Y$34:Y98)-1)<>\"\",OFFSET(DE104_3!$Y$34,ROWS($Y$34:Y98)-1,COLUMNS($Y$34:Y98)-1),\"\")","v":""},{"$f":"IF(OFFSET(DE104_3!$Z$34,ROWS($Z$34:Z98)-1,COLUMNS($Z$34:Z98)-1)<>\"\",OFFSET(DE104_3!$Z$34,ROWS($Z$34:Z98)-1,COLUMNS($Z$34:Z98)-1),\"\")","v":""},{"$f":"IF(OFFSET(DE104_3!$AA$34,ROWS($AA$34:AA98)-1,COLUMNS($AA$34:AA98)-1)<>\"\",OFFSET(DE104_3!$AA$34,ROWS($AA$34:AA98)-1,COLUMNS($AA$34:AA98)-1),\"\")","v":""},{"$f":"IF(OFFSET(DE104_3!$AB$34,ROWS($AB$34:AB98)-1,COLUMNS($AB$34:AB98)-1)<>\"\",OFFSET(DE104_3!$AB$34,ROWS($AB$34:AB98)-1,COLUMNS($AB$34:AB98)-1),\"\")","v":""},{"$f":"IF(OFFSET(DE104_3!$AC$34,ROWS($AC$34:AC98)-1,COLUMNS($AC$34:AC98)-1)<>\"\",OFFSET(DE104_3!$AC$34,ROWS($AC$34:AC98)-1,COLUMNS($AC$34:AC98)-1),\"\")","v":""},{"$f":"IF(OFFSET(DE104_3!$AD$34,ROWS($AD$34:AD98)-1,COLUMNS($AD$34:AD98)-1)<>\"\",OFFSET(DE104_3!$AD$34,ROWS($AD$34:AD98)-1,COLUMNS($AD$34:AD98)-1),\"\")","v":""},{"$f":"IF(OFFSET(DE104_3!$AE$34,ROWS($AE$34:AE98)-1,COLUMNS($AE$34:AE98)-1)<>\"\",OFFSET(DE104_3!$AE$34,ROWS($AE$34:AE98)-1,COLUMNS($AE$34:AE98)-1),\"\")","v":""},{"$f":"IF(OFFSET(DE104_3!$AF$34,ROWS($AF$34:AF98)-1,COLUMNS($AF$34:AF98)-1)<>\"\",OFFSET(DE104_3!$AF$34,ROWS($AF$34:AF98)-1,COLUMNS($AF$34:AF98)-1),\"\")","v":""},{"$f":"IF(OFFSET(DE104_3!$AG$34,ROWS($AG$34:AG98)-1,COLUMNS($AG$34:AG98)-1)<>\"\",OFFSET(DE104_3!$AG$34,ROWS($AG$34:AG98)-1,COLUMNS($AG$34:AG98)-1),\"\")","v":""},{"$f":"IF(OFFSET(DE104_3!$AH$34,ROWS($AH$34:AH98)-1,COLUMNS($AH$34:AH98)-1)<>\"\",OFFSET(DE104_3!$AH$34,ROWS($AH$34:AH98)-1,COLUMNS($AH$34:AH98)-1),\"\")","v":""},{"$f":"IF(OFFSET(DE104_3!$AI$34,ROWS($AI$34:AI98)-1,COLUMNS($AI$34:AI98)-1)<>\"\",OFFSET(DE104_3!$AI$34,ROWS($AI$34:AI98)-1,COLUMNS($AI$34:AI98)-1),\"\")","v":""},{"$f":"IF(OFFSET(DE104_3!$AJ$34,ROWS($AJ$34:AJ98)-1,COLUMNS($AJ$34:AJ98)-1)<>\"\",OFFSET(DE104_3!$AJ$34,ROWS($AJ$34:AJ98)-1,COLUMNS($AJ$34:AJ98)-1),\"\")","v":"TOTALS:"},{"$f":"IF(OFFSET(DE104_3!$AK$34,ROWS($AK$34:AK98)-1,COLUMNS($AK$34:AK98)-1)<>\"\",OFFSET(DE104_3!$AK$34,ROWS($AK$34:AK98)-1,COLUMNS($AK$34:AK98)-1),\"\")","v":""},{"$f":"IF(OFFSET(DE104_3!$AL$34,ROWS($AL$34:AL98)-1,COLUMNS($AL$34:AL98)-1)<>\"\",OFFSET(DE104_3!$AL$34,ROWS($AL$34:AL98)-1,COLUMNS($AL$34:AL98)-1),\"\")","v":5791.5656240740727},{"$f":"IF(OFFSET(DE104_3!$AM$34,ROWS($AM$34:AM98)-1,COLUMNS($AM$34:AM98)-1)<>\"\",OFFSET(DE104_3!$AM$34,ROWS($AM$34:AM98)-1,COLUMNS($AM$34:AM98)-1),\"\")","v":""},{"$f":"IF(OFFSET(DE104_3!$AN$34,ROWS($AN$34:AN98)-1,COLUMNS($AN$34:AN98)-1)<>\"\",OFFSET(DE104_3!$AN$34,ROWS($AN$34:AN98)-1,COLUMNS($AN$34:AN98)-1),\"\")","v":4847.7257962962967},{"$f":"IF(OFFSET(DE104_3!$AO$34,ROWS($AO$34:AO98)-1,COLUMNS($AO$34:AO98)-1)<>\"\",OFFSET(DE104_3!$AO$34,ROWS($AO$34:AO98)-1,COLUMNS($AO$34:AO98)-1),\"\")","v":307.9883814814815},{"$f":"IF(OFFSET(DE104_3!$AP$34,ROWS($AP$34:AP98)-1,COLUMNS($AP$34:AP98)-1)<>\"\",OFFSET(DE104_3!$AP$34,ROWS($AP$34:AP98)-1,COLUMNS($AP$34:AP98)-1),\"\")","v":5154.7141777777779},{"$f":"IF(OFFSET(DE104_3!$AQ$34,ROWS($AQ$34:AQ98)-1,COLUMNS($AQ$34:AQ98)-1)<>\"\",OFFSET(DE104_3!$AQ$34,ROWS($AQ$34:AQ98)-1,COLUMNS($AQ$34:AQ98)-1),\"\")","v":""}]
[{"$f":"IF(OFFSET(DE104_3!$C$34,ROWS($C$34:C99)-1,COLUMNS($C$34:C99)-1)<>\"\",OFFSET(DE104_3!$C$34,ROWS($C$34:C99)-1,COLUMNS($C$34:C99)-1),\"\")","v":""},{"$f":"IF(OFFSET(DE104_3!$D$34,ROWS($D$34:D99)-1,COLUMNS($D$34:D99)-1)<>\"\",OFFSET(DE104_3!$D$34,ROWS($D$34:D99)-1,COLUMNS($D$34:D99)-1),\"\")","v":""},{"$f":"IF(OFFSET(DE104_3!$E$34,ROWS($E$34:E99)-1,COLUMNS($E$34:E99)-1)<>\"\",OFFSET(DE104_3!$E$34,ROWS($E$34:E99)-1,COLUMNS($E$34:E99)-1),\"\")","v":""},{"$f":"IF(OFFSET(DE104_3!$F$34,ROWS($F$34:F99)-1,COLUMNS($F$34:F99)-1)<>\"\",OFFSET(DE104_3!$F$34,ROWS($F$34:F99)-1,COLUMNS($F$34:F99)-1),\"\")","v":""},{"$f":"IF(OFFSET(DE104_3!$G$34,ROWS($G$34:G99)-1,COLUMNS($G$34:G99)-1)<>\"\",OFFSET(DE104_3!$G$34,ROWS($G$34:G99)-1,COLUMNS($G$34:G99)-1),\"\")","v":""},{"$f":"IF(OFFSET(DE104_3!$H$34,ROWS($H$34:H99)-1,COLUMNS($H$34:H99)-1)<>\"\",OFFSET(DE104_3!$H$34,ROWS($H$34:H99)-1,COLUMNS($H$34:H99)-1),\"\")","v":""},{"$f":"IF(OFFSET(DE104_3!$I$34,ROWS($I$34:I99)-1,COLUMNS($I$34:I99)-1)<>\"\",OFFSET(DE104_3!$I$34,ROWS($I$34:I99)-1,COLUMNS($I$34:I99)-1),\"\")","v":""},{"$f":"IF(OFFSET(DE104_3!$J$34,ROWS($J$34:J99)-1,COLUMNS($J$34:J99)-1)<>\"\",OFFSET(DE104_3!$J$34,ROWS($J$34:J99)-1,COLUMNS($J$34:J99)-1),\"\")","v":""},{"$f":"IF(OFFSET(DE104_3!$K$34,ROWS($K$34:K99)-1,COLUMNS($K$34:K99)-1)<>\"\",OFFSET(DE104_3!$K$34,ROWS($K$34:K99)-1,COLUMNS($K$34:K99)-1),\"\")","v":""},{"$f":"IF(OFFSET(DE104_3!$L$34,ROWS($L$34:L99)-1,COLUMNS($L$34:L99)-1)<>\"\",OFFSET(DE104_3!$L$34,ROWS($L$34:L99)-1,COLUMNS($L$34:L99)-1),\"\")","v":""},{"$f":"IF(OFFSET(DE104_3!$M$34,ROWS($M$34:M99)-1,COLUMNS($M$34:M99)-1)<>\"\",OFFSET(DE104_3!$M$34,ROWS($M$34:M99)-1,COLUMNS($M$34:M99)-1),\"\")","v":""},{"$f":"IF(OFFSET(DE104_3!$N$34,ROWS($N$34:N99)-1,COLUMNS($N$34:N99)-1)<>\"\",OFFSET(DE104_3!$N$34,ROWS($N$34:N99)-1,COLUMNS($N$34:N99)-1),\"\")","v":""},{"$f":"IF(OFFSET(DE104_3!$O$34,ROWS($O$34:O99)-1,COLUMNS($O$34:O99)-1)<>\"\",OFFSET(DE104_3!$O$34,ROWS($O$34:O99)-1,COLUMNS($O$34:O99)-1),\"\")","v":""},{"$f":"IF(OFFSET(DE104_3!$P$34,ROWS($P$34:P99)-1,COLUMNS($P$34:P99)-1)<>\"\",OFFSET(DE104_3!$P$34,ROWS($P$34:P99)-1,COLUMNS($P$34:P99)-1),\"\")","v":""},{"$f":"IF(OFFSET(DE104_3!$Q$34,ROWS($Q$34:Q99)-1,COLUMNS($Q$34:Q99)-1)<>\"\",OFFSET(DE104_3!$Q$34,ROWS($Q$34:Q99)-1,COLUMNS($Q$34:Q99)-1),\"\")","v":""},{"$f":"IF(OFFSET(DE104_3!$R$34,ROWS($R$34:R99)-1,COLUMNS($R$34:R99)-1)<>\"\",OFFSET(DE104_3!$R$34,ROWS($R$34:R99)-1,COLUMNS($R$34:R99)-1),\"\")","v":""},{"$f":"IF(OFFSET(DE104_3!$S$34,ROWS($S$34:S99)-1,COLUMNS($S$34:S99)-1)<>\"\",OFFSET(DE104_3!$S$34,ROWS($S$34:S99)-1,COLUMNS($S$34:S99)-1),\"\")","v":""},{"$f":"IF(OFFSET(DE104_3!$T$34,ROWS($T$34:T99)-1,COLUMNS($T$34:T99)-1)<>\"\",OFFSET(DE104_3!$T$34,ROWS($T$34:T99)-1,COLUMNS($T$34:T99)-1),\"\")","v":""},{"$f":"IF(OFFSET(DE104_3!$U$34,ROWS($U$34:U99)-1,COLUMNS($U$34:U99)-1)<>\"\",OFFSET(DE104_3!$U$34,ROWS($U$34:U99)-1,COLUMNS($U$34:U99)-1),\"\")","v":""},{"$f":"IF(OFFSET(DE104_3!$V$34,ROWS($V$34:V99)-1,COLUMNS($V$34:V99)-1)<>\"\",OFFSET(DE104_3!$V$34,ROWS($V$34:V99)-1,COLUMNS($V$34:V99)-1),\"\")","v":""},{"$f":"IF(OFFSET(DE104_3!$W$34,ROWS($W$34:W99)-1,COLUMNS($W$34:W99)-1)<>\"\",OFFSET(DE104_3!$W$34,ROWS($W$34:W99)-1,COLUMNS($W$34:W99)-1),\"\")","v":""},{"$f":"IF(OFFSET(DE104_3!$X$34,ROWS($X$34:X99)-1,COLUMNS($X$34:X99)-1)<>\"\",OFFSET(DE104_3!$X$34,ROWS($X$34:X99)-1,COLUMNS($X$34:X99)-1),\"\")","v":""},{"$f":"IF(OFFSET(DE104_3!$Y$34,ROWS($Y$34:Y99)-1,COLUMNS($Y$34:Y99)-1)<>\"\",OFFSET(DE104_3!$Y$34,ROWS($Y$34:Y99)-1,COLUMNS($Y$34:Y99)-1),\"\")","v":""},{"$f":"IF(OFFSET(DE104_3!$Z$34,ROWS($Z$34:Z99)-1,COLUMNS($Z$34:Z99)-1)<>\"\",OFFSET(DE104_3!$Z$34,ROWS($Z$34:Z99)-1,COLUMNS($Z$34:Z99)-1),\"\")","v":""},{"$f":"IF(OFFSET(DE104_3!$AA$34,ROWS($AA$34:AA99)-1,COLUMNS($AA$34:AA99)-1)<>\"\",OFFSET(DE104_3!$AA$34,ROWS($AA$34:AA99)-1,COLUMNS($AA$34:AA99)-1),\"\")","v":""},{"$f":"IF(OFFSET(DE104_3!$AB$34,ROWS($AB$34:AB99)-1,COLUMNS($AB$34:AB99)-1)<>\"\",OFFSET(DE104_3!$AB$34,ROWS($AB$34:AB99)-1,COLUMNS($AB$34:AB99)-1),\"\")","v":""},{"$f":"IF(OFFSET(DE104_3!$AC$34,ROWS($AC$34:AC99)-1,COLUMNS($AC$34:AC99)-1)<>\"\",OFFSET(DE104_3!$AC$34,ROWS($AC$34:AC99)-1,COLUMNS($AC$34:AC99)-1),\"\")","v":""},{"$f":"IF(OFFSET(DE104_3!$AD$34,ROWS($AD$34:AD99)-1,COLUMNS($AD$34:AD99)-1)<>\"\",OFFSET(DE104_3!$AD$34,ROWS($AD$34:AD99)-1,COLUMNS($AD$34:AD99)-1),\"\")","v":""},{"$f":"IF(OFFSET(DE104_3!$AE$34,ROWS($AE$34:AE99)-1,COLUMNS($AE$34:AE99)-1)<>\"\",OFFSET(DE104_3!$AE$34,ROWS($AE$34:AE99)-1,COLUMNS($AE$34:AE99)-1),\"\")","v":""},{"$f":"IF(OFFSET(DE104_3!$AF$34,ROWS($AF$34:AF99)-1,COLUMNS($AF$34:AF99)-1)<>\"\",OFFSET(DE104_3!$AF$34,ROWS($AF$34:AF99)-1,COLUMNS($AF$34:AF99)-1),\"\")","v":""},{"$f":"IF(OFFSET(DE104_3!$AG$34,ROWS($AG$34:AG99)-1,COLUMNS($AG$34:AG99)-1)<>\"\",OFFSET(DE104_3!$AG$34,ROWS($AG$34:AG99)-1,COLUMNS($AG$34:AG99)-1),\"\")","v":""},{"$f":"IF(OFFSET(DE104_3!$AH$34,ROWS($AH$34:AH99)-1,COLUMNS($AH$34:AH99)-1)<>\"\",OFFSET(DE104_3!$AH$34,ROWS($AH$34:AH99)-1,COLUMNS($AH$34:AH99)-1),\"\")","v":""},{"$f":"IF(OFFSET(DE104_3!$AI$34,ROWS($AI$34:AI99)-1,COLUMNS($AI$34:AI99)-1)<>\"\",OFFSET(DE104_3!$AI$34,ROWS($AI$34:AI99)-1,COLUMNS($AI$34:AI99)-1),\"\")","v":""},{"$f":"IF(OFFSET(DE104_3!$AJ$34,ROWS($AJ$34:AJ99)-1,COLUMNS($AJ$34:AJ99)-1)<>\"\",OFFSET(DE104_3!$AJ$34,ROWS($AJ$34:AJ99)-1,COLUMNS($AJ$34:AJ99)-1),\"\")","v":""},{"$f":"IF(OFFSET(DE104_3!$AK$34,ROWS($AK$34:AK99)-1,COLUMNS($AK$34:AK99)-1)<>\"\",OFFSET(DE104_3!$AK$34,ROWS($AK$34:AK99)-1,COLUMNS($AK$34:AK99)-1),\"\")","v":""},{"$f":"IF(OFFSET(DE104_3!$AL$34,ROWS($AL$34:AL99)-1,COLUMNS($AL$34:AL99)-1)<>\"\",OFFSET(DE104_3!$AL$34,ROWS($AL$34:AL99)-1,COLUMNS($AL$34:AL99)-1),\"\")","v":""},{"$f":"IF(OFFSET(DE104_3!$AM$34,ROWS($AM$34:AM99)-1,COLUMNS($AM$34:AM99)-1)<>\"\",OFFSET(DE104_3!$AM$34,ROWS($AM$34:AM99)-1,COLUMNS($AM$34:AM99)-1),\"\")","v":""},{"$f":"IF(OFFSET(DE104_3!$AN$34,ROWS($AN$34:AN99)-1,COLUMNS($AN$34:AN99)-1)<>\"\",OFFSET(DE104_3!$AN$34,ROWS($AN$34:AN99)-1,COLUMNS($AN$34:AN99)-1),\"\")","v":""},{"$f":"IF(OFFSET(DE104_3!$AO$34,ROWS($AO$34:AO99)-1,COLUMNS($AO$34:AO99)-1)<>\"\",OFFSET(DE104_3!$AO$34,ROWS($AO$34:AO99)-1,COLUMNS($AO$34:AO99)-1),\"\")","v":""},{"$f":"IF(OFFSET(DE104_3!$AP$34,ROWS($AP$34:AP99)-1,COLUMNS($AP$34:AP99)-1)<>\"\",OFFSET(DE104_3!$AP$34,ROWS($AP$34:AP99)-1,COLUMNS($AP$34:AP99)-1),\"\")","v":""},{"$f":"IF(OFFSET(DE104_3!$AQ$34,ROWS($AQ$34:AQ99)-1,COLUMNS($AQ$34:AQ99)-1)<>\"\",OFFSET(DE104_3!$AQ$34,ROWS($AQ$34:AQ99)-1,COLUMNS($AQ$34:AQ99)-1),\"\")","v":""}]
[{"$f":"IF(OFFSET(DE104_3!$C$34,ROWS($C$34:C100)-1,COLUMNS($C$34:C100)-1)<>\"\",OFFSET(DE104_3!$C$34,ROWS($C$34:C100)-1,COLUMNS($C$34:C100)-1),\"\")","v":""},{"$f":"IF(OFFSET(DE104_3!$D$34,ROWS($D$34:D100)-1,COLUMNS($D$34:D100)-1)<>\"\",OFFSET(DE104_3!$D$34,ROWS($D$34:D100)-1,COLUMNS($D$34:D100)-1),\"\")","v":""},{"$f":"IF(OFFSET(DE104_3!$E$34,ROWS($E$34:E100)-1,COLUMNS($E$34:E100)-1)<>\"\",OFFSET(DE104_3!$E$34,ROWS($E$34:E100)-1,COLUMNS($E$34:E100)-1),\"\")","v":""},{"$f":"IF(OFFSET(DE104_3!$F$34,ROWS($F$34:F100)-1,COLUMNS($F$34:F100)-1)<>\"\",OFFSET(DE104_3!$F$34,ROWS($F$34:F100)-1,COLUMNS($F$34:F100)-1),\"\")","v":""},{"$f":"IF(OFFSET(DE104_3!$G$34,ROWS($G$34:G100)-1,COLUMNS($G$34:G100)-1)<>\"\",OFFSET(DE104_3!$G$34,ROWS($G$34:G100)-1,COLUMNS($G$34:G100)-1),\"\")","v":""},{"$f":"IF(OFFSET(DE104_3!$H$34,ROWS($H$34:H100)-1,COLUMNS($H$34:H100)-1)<>\"\",OFFSET(DE104_3!$H$34,ROWS($H$34:H100)-1,COLUMNS($H$34:H100)-1),\"\")","v":""},{"$f":"IF(OFFSET(DE104_3!$I$34,ROWS($I$34:I100)-1,COLUMNS($I$34:I100)-1)<>\"\",OFFSET(DE104_3!$I$34,ROWS($I$34:I100)-1,COLUMNS($I$34:I100)-1),\"\")","v":""},{"$f":"IF(OFFSET(DE104_3!$J$34,ROWS($J$34:J100)-1,COLUMNS($J$34:J100)-1)<>\"\",OFFSET(DE104_3!$J$34,ROWS($J$34:J100)-1,COLUMNS($J$34:J100)-1),\"\")","v":""},{"$f":"IF(OFFSET(DE104_3!$K$34,ROWS($K$34:K100)-1,COLUMNS($K$34:K100)-1)<>\"\",OFFSET(DE104_3!$K$34,ROWS($K$34:K100)-1,COLUMNS($K$34:K100)-1),\"\")","v":""},{"$f":"IF(OFFSET(DE104_3!$L$34,ROWS($L$34:L100)-1,COLUMNS($L$34:L100)-1)<>\"\",OFFSET(DE104_3!$L$34,ROWS($L$34:L100)-1,COLUMNS($L$34:L100)-1),\"\")","v":""},{"$f":"IF(OFFSET(DE104_3!$M$34,ROWS($M$34:M100)-1,COLUMNS($M$34:M100)-1)<>\"\",OFFSET(DE104_3!$M$34,ROWS($M$34:M100)-1,COLUMNS($M$34:M100)-1),\"\")","v":""},{"$f":"IF(OFFSET(DE104_3!$N$34,ROWS($N$34:N100)-1,COLUMNS($N$34:N100)-1)<>\"\",OFFSET(DE104_3!$N$34,ROWS($N$34:N100)-1,COLUMNS($N$34:N100)-1),\"\")","v":""},{"$f":"IF(OFFSET(DE104_3!$O$34,ROWS($O$34:O100)-1,COLUMNS($O$34:O100)-1)<>\"\",OFFSET(DE104_3!$O$34,ROWS($O$34:O100)-1,COLUMNS($O$34:O100)-1),\"\")","v":""},{"$f":"IF(OFFSET(DE104_3!$P$34,ROWS($P$34:P100)-1,COLUMNS($P$34:P100)-1)<>\"\",OFFSET(DE104_3!$P$34,ROWS($P$34:P100)-1,COLUMNS($P$34:P100)-1),\"\")","v":""},{"$f":"IF(OFFSET(DE104_3!$Q$34,ROWS($Q$34:Q100)-1,COLUMNS($Q$34:Q100)-1)<>\"\",OFFSET(DE104_3!$Q$34,ROWS($Q$34:Q100)-1,COLUMNS($Q$34:Q100)-1),\"\")","v":""},{"$f":"IF(OFFSET(DE104_3!$R$34,ROWS($R$34:R100)-1,COLUMNS($R$34:R100)-1)<>\"\",OFFSET(DE104_3!$R$34,ROWS($R$34:R100)-1,COLUMNS($R$34:R100)-1),\"\")","v":""},{"$f":"IF(OFFSET(DE104_3!$S$34,ROWS($S$34:S100)-1,COLUMNS($S$34:S100)-1)<>\"\",OFFSET(DE104_3!$S$34,ROWS($S$34:S100)-1,COLUMNS($S$34:S100)-1),\"\")","v":""},{"$f":"IF(OFFSET(DE104_3!$T$34,ROWS($T$34:T100)-1,COLUMNS($T$34:T100)-1)<>\"\",OFFSET(DE104_3!$T$34,ROWS($T$34:T100)-1,COLUMNS($T$34:T100)-1),\"\")","v":""},{"$f":"IF(OFFSET(DE104_3!$U$34,ROWS($U$34:U100)-1,COLUMNS($U$34:U100)-1)<>\"\",OFFSET(DE104_3!$U$34,ROWS($U$34:U100)-1,COLUMNS($U$34:U100)-1),\"\")","v":""},{"$f":"IF(OFFSET(DE104_3!$V$34,ROWS($V$34:V100)-1,COLUMNS($V$34:V100)-1)<>\"\",OFFSET(DE104_3!$V$34,ROWS($V$34:V100)-1,COLUMNS($V$34:V100)-1),\"\")","v":""},{"$f":"IF(OFFSET(DE104_3!$W$34,ROWS($W$34:W100)-1,COLUMNS($W$34:W100)-1)<>\"\",OFFSET(DE104_3!$W$34,ROWS($W$34:W100)-1,COLUMNS($W$34:W100)-1),\"\")","v":""},{"$f":"IF(OFFSET(DE104_3!$X$34,ROWS($X$34:X100)-1,COLUMNS($X$34:X100)-1)<>\"\",OFFSET(DE104_3!$X$34,ROWS($X$34:X100)-1,COLUMNS($X$34:X100)-1),\"\")","v":""},{"$f":"IF(OFFSET(DE104_3!$Y$34,ROWS($Y$34:Y100)-1,COLUMNS($Y$34:Y100)-1)<>\"\",OFFSET(DE104_3!$Y$34,ROWS($Y$34:Y100)-1,COLUMNS($Y$34:Y100)-1),\"\")","v":""},{"$f":"IF(OFFSET(DE104_3!$Z$34,ROWS($Z$34:Z100)-1,COLUMNS($Z$34:Z100)-1)<>\"\",OFFSET(DE104_3!$Z$34,ROWS($Z$34:Z100)-1,COLUMNS($Z$34:Z100)-1),\"\")","v":""},{"$f":"IF(OFFSET(DE104_3!$AA$34,ROWS($AA$34:AA100)-1,COLUMNS($AA$34:AA100)-1)<>\"\",OFFSET(DE104_3!$AA$34,ROWS($AA$34:AA100)-1,COLUMNS($AA$34:AA100)-1),\"\")","v":""},{"$f":"IF(OFFSET(DE104_3!$AB$34,ROWS($AB$34:AB100)-1,COLUMNS($AB$34:AB100)-1)<>\"\",OFFSET(DE104_3!$AB$34,ROWS($AB$34:AB100)-1,COLUMNS($AB$34:AB100)-1),\"\")","v":""},{"$f":"IF(OFFSET(DE104_3!$AC$34,ROWS($AC$34:AC100)-1,COLUMNS($AC$34:AC100)-1)<>\"\",OFFSET(DE104_3!$AC$34,ROWS($AC$34:AC100)-1,COLUMNS($AC$34:AC100)-1),\"\")","v":""},{"$f":"IF(OFFSET(DE104_3!$AD$34,ROWS($AD$34:AD100)-1,COLUMNS($AD$34:AD100)-1)<>\"\",OFFSET(DE104_3!$AD$34,ROWS($AD$34:AD100)-1,COLUMNS($AD$34:AD100)-1),\"\")","v":""},{"$f":"IF(OFFSET(DE104_3!$AE$34,ROWS($AE$34:AE100)-1,COLUMNS($AE$34:AE100)-1)<>\"\",OFFSET(DE104_3!$AE$34,ROWS($AE$34:AE100)-1,COLUMNS($AE$34:AE100)-1),\"\")","v":""},{"$f":"IF(OFFSET(DE104_3!$AF$34,ROWS($AF$34:AF100)-1,COLUMNS($AF$34:AF100)-1)<>\"\",OFFSET(DE104_3!$AF$34,ROWS($AF$34:AF100)-1,COLUMNS($AF$34:AF100)-1),\"\")","v":""},{"$f":"IF(OFFSET(DE104_3!$AG$34,ROWS($AG$34:AG100)-1,COLUMNS($AG$34:AG100)-1)<>\"\",OFFSET(DE104_3!$AG$34,ROWS($AG$34:AG100)-1,COLUMNS($AG$34:AG100)-1),\"\")","v":""},{"$f":"IF(OFFSET(DE104_3!$AH$34,ROWS($AH$34:AH100)-1,COLUMNS($AH$34:AH100)-1)<>\"\",OFFSET(DE104_3!$AH$34,ROWS($AH$34:AH100)-1,COLUMNS($AH$34:AH100)-1),\"\")","v":""},{"$f":"IF(OFFSET(DE104_3!$AI$34,ROWS($AI$34:AI100)-1,COLUMNS($AI$34:AI100)-1)<>\"\",OFFSET(DE104_3!$AI$34,ROWS($AI$34:AI100)-1,COLUMNS($AI$34:AI100)-1),\"\")","v":""},{"$f":"IF(OFFSET(DE104_3!$AJ$34,ROWS($AJ$34:AJ100)-1,COLUMNS($AJ$34:AJ100)-1)<>\"\",OFFSET(DE104_3!$AJ$34,ROWS($AJ$34:AJ100)-1,COLUMNS($AJ$34:AJ100)-1),\"\")","v":""},{"$f":"IF(OFFSET(DE104_3!$AK$34,ROWS($AK$34:AK100)-1,COLUMNS($AK$34:AK100)-1)<>\"\",OFFSET(DE104_3!$AK$34,ROWS($AK$34:AK100)-1,COLUMNS($AK$34:AK100)-1),\"\")","v":""},{"$f":"IF(OFFSET(DE104_3!$AL$34,ROWS($AL$34:AL100)-1,COLUMNS($AL$34:AL100)-1)<>\"\",OFFSET(DE104_3!$AL$34,ROWS($AL$34:AL100)-1,COLUMNS($AL$34:AL100)-1),\"\")","v":""},{"$f":"IF(OFFSET(DE104_3!$AM$34,ROWS($AM$34:AM100)-1,COLUMNS($AM$34:AM100)-1)<>\"\",OFFSET(DE104_3!$AM$34,ROWS($AM$34:AM100)-1,COLUMNS($AM$34:AM100)-1),\"\")","v":""},{"$f":"IF(OFFSET(DE104_3!$AN$34,ROWS($AN$34:AN100)-1,COLUMNS($AN$34:AN100)-1)<>\"\",OFFSET(DE104_3!$AN$34,ROWS($AN$34:AN100)-1,COLUMNS($AN$34:AN100)-1),\"\")","v":""},{"$f":"IF(OFFSET(DE104_3!$AO$34,ROWS($AO$34:AO100)-1,COLUMNS($AO$34:AO100)-1)<>\"\",OFFSET(DE104_3!$AO$34,ROWS($AO$34:AO100)-1,COLUMNS($AO$34:AO100)-1),\"\")","v":""},{"$f":"IF(OFFSET(DE104_3!$AP$34,ROWS($AP$34:AP100)-1,COLUMNS($AP$34:AP100)-1)<>\"\",OFFSET(DE104_3!$AP$34,ROWS($AP$34:AP100)-1,COLUMNS($AP$34:AP100)-1),\"\")","v":""},{"$f":"IF(OFFSET(DE104_3!$AQ$34,ROWS($AQ$34:AQ100)-1,COLUMNS($AQ$34:AQ100)-1)<>\"\",OFFSET(DE104_3!$AQ$34,ROWS($AQ$34:AQ100)-1,COLUMNS($AQ$34:AQ100)-1),\"\")","v":""}]
[{"$f":"IF(OFFSET(DE104_3!$C$34,ROWS($C$34:C101)-1,COLUMNS($C$34:C101)-1)<>\"\",OFFSET(DE104_3!$C$34,ROWS($C$34:C101)-1,COLUMNS($C$34:C101)-1),\"\")","v":""},{"$f":"IF(OFFSET(DE104_3!$D$34,ROWS($D$34:D101)-1,COLUMNS($D$34:D101)-1)<>\"\",OFFSET(DE104_3!$D$34,ROWS($D$34:D101)-1,COLUMNS($D$34:D101)-1),\"\")","v":"(Continued on sheet CD.3)"},null,null,null,null,null,null,null,null,null,null,{"$f":"IF(OFFSET(DE104_3!$O$34,ROWS($O$34:O101)-1,COLUMNS($O$34:O101)-1)<>\"\",OFFSET(DE104_3!$O$34,ROWS($O$34:O101)-1,COLUMNS($O$34:O101)-1),\"\")","v":""},{"$f":"IF(OFFSET(DE104_3!$P$34,ROWS($P$34:P101)-1,COLUMNS($P$34:P101)-1)<>\"\",OFFSET(DE104_3!$P$34,ROWS($P$34:P101)-1,COLUMNS($P$34:P101)-1),\"\")","v":""},{"$f":"IF(OFFSET(DE104_3!$Q$34,ROWS($Q$34:Q101)-1,COLUMNS($Q$34:Q101)-1)<>\"\",OFFSET(DE104_3!$Q$34,ROWS($Q$34:Q101)-1,COLUMNS($Q$34:Q101)-1),\"\")","v":""},{"$f":"IF(OFFSET(DE104_3!$R$34,ROWS($R$34:R101)-1,COLUMNS($R$34:R101)-1)<>\"\",OFFSET(DE104_3!$R$34,ROWS($R$34:R101)-1,COLUMNS($R$34:R101)-1),\"\")","v":""},{"$f":"IF(OFFSET(DE104_3!$S$34,ROWS($S$34:S101)-1,COLUMNS($S$34:S101)-1)<>\"\",OFFSET(DE104_3!$S$34,ROWS($S$34:S101)-1,COLUMNS($S$34:S101)-1),\"\")","v":""},{"$f":"IF(OFFSET(DE104_3!$T$34,ROWS($T$34:T101)-1,COLUMNS($T$34:T101)-1)<>\"\",OFFSET(DE104_3!$T$34,ROWS($T$34:T101)-1,COLUMNS($T$34:T101)-1),\"\")","v":""},{"$f":"IF(OFFSET(DE104_3!$U$34,ROWS($U$34:U101)-1,COLUMNS($U$34:U101)-1)<>\"\",OFFSET(DE104_3!$U$34,ROWS($U$34:U101)-1,COLUMNS($U$34:U101)-1),\"\")","v":""},{"$f":"IF(OFFSET(DE104_3!$V$34,ROWS($V$34:V101)-1,COLUMNS($V$34:V101)-1)<>\"\",OFFSET(DE104_3!$V$34,ROWS($V$34:V101)-1,COLUMNS($V$34:V101)-1),\"\")","v":""},{"$f":"IF(OFFSET(DE104_3!$W$34,ROWS($W$34:W101)-1,COLUMNS($W$34:W101)-1)<>\"\",OFFSET(DE104_3!$W$34,ROWS($W$34:W101)-1,COLUMNS($W$34:W101)-1),\"\")","v":""},{"$f":"IF(OFFSET(DE104_3!$X$34,ROWS($X$34:X101)-1,COLUMNS($X$34:X101)-1)<>\"\",OFFSET(DE104_3!$X$34,ROWS($X$34:X101)-1,COLUMNS($X$34:X101)-1),\"\")","v":""},{"$f":"IF(OFFSET(DE104_3!$Y$34,ROWS($Y$34:Y101)-1,COLUMNS($Y$34:Y101)-1)<>\"\",OFFSET(DE104_3!$Y$34,ROWS($Y$34:Y101)-1,COLUMNS($Y$34:Y101)-1),\"\")","v":""},{"$f":"IF(OFFSET(DE104_3!$Z$34,ROWS($Z$34:Z101)-1,COLUMNS($Z$34:Z101)-1)<>\"\",OFFSET(DE104_3!$Z$34,ROWS($Z$34:Z101)-1,COLUMNS($Z$34:Z101)-1),\"\")","v":""},{"$f":"IF(OFFSET(DE104_3!$AA$34,ROWS($AA$34:AA101)-1,COLUMNS($AA$34:AA101)-1)<>\"\",OFFSET(DE104_3!$AA$34,ROWS($AA$34:AA101)-1,COLUMNS($AA$34:AA101)-1),\"\")","v":""},{"$f":"IF(OFFSET(DE104_3!$AB$34,ROWS($AB$34:AB101)-1,COLUMNS($AB$34:AB101)-1)<>\"\",OFFSET(DE104_3!$AB$34,ROWS($AB$34:AB101)-1,COLUMNS($AB$34:AB101)-1),\"\")","v":""},{"$f":"IF(OFFSET(DE104_3!$AC$34,ROWS($AC$34:AC101)-1,COLUMNS($AC$34:AC101)-1)<>\"\",OFFSET(DE104_3!$AC$34,ROWS($AC$34:AC101)-1,COLUMNS($AC$34:AC101)-1),\"\")","v":""},{"$f":"IF(OFFSET(DE104_3!$AD$34,ROWS($AD$34:AD101)-1,COLUMNS($AD$34:AD101)-1)<>\"\",OFFSET(DE104_3!$AD$34,ROWS($AD$34:AD101)-1,COLUMNS($AD$34:AD101)-1),\"\")","v":""},{"$f":"IF(OFFSET(DE104_3!$AE$34,ROWS($AE$34:AE101)-1,COLUMNS($AE$34:AE101)-1)<>\"\",OFFSET(DE104_3!$AE$34,ROWS($AE$34:AE101)-1,COLUMNS($AE$34:AE101)-1),\"\")","v":""},{"$f":"IF(OFFSET(DE104_3!$AF$34,ROWS($AF$34:AF101)-1,COLUMNS($AF$34:AF101)-1)<>\"\",OFFSET(DE104_3!$AF$34,ROWS($AF$34:AF101)-1,COLUMNS($AF$34:AF101)-1),\"\")","v":""},{"$f":"IF(OFFSET(DE104_3!$AG$34,ROWS($AG$34:AG101)-1,COLUMNS($AG$34:AG101)-1)<>\"\",OFFSET(DE104_3!$AG$34,ROWS($AG$34:AG101)-1,COLUMNS($AG$34:AG101)-1),\"\")","v":""},{"$f":"IF(OFFSET(DE104_3!$AH$34,ROWS($AH$34:AH101)-1,COLUMNS($AH$34:AH101)-1)<>\"\",OFFSET(DE104_3!$AH$34,ROWS($AH$34:AH101)-1,COLUMNS($AH$34:AH101)-1),\"\")","v":""},{"$f":"IF(OFFSET(DE104_3!$AI$34,ROWS($AI$34:AI101)-1,COLUMNS($AI$34:AI101)-1)<>\"\",OFFSET(DE104_3!$AI$34,ROWS($AI$34:AI101)-1,COLUMNS($AI$34:AI101)-1),\"\")","v":""},{"$f":"IF(OFFSET(DE104_3!$AJ$34,ROWS($AJ$34:AJ101)-1,COLUMNS($AJ$34:AJ101)-1)<>\"\",OFFSET(DE104_3!$AJ$34,ROWS($AJ$34:AJ101)-1,COLUMNS($AJ$34:AJ101)-1),\"\")","v":""},{"$f":"IF(OFFSET(DE104_3!$AK$34,ROWS($AK$34:AK101)-1,COLUMNS($AK$34:AK101)-1)<>\"\",OFFSET(DE104_3!$AK$34,ROWS($AK$34:AK101)-1,COLUMNS($AK$34:AK101)-1),\"\")","v":""},{"$f":"IF(OFFSET(DE104_3!$AL$34,ROWS($AL$34:AL101)-1,COLUMNS($AL$34:AL101)-1)<>\"\",OFFSET(DE104_3!$AL$34,ROWS($AL$34:AL101)-1,COLUMNS($AL$34:AL101)-1),\"\")","v":""},{"$f":"IF(OFFSET(DE104_3!$AM$34,ROWS($AM$34:AM101)-1,COLUMNS($AM$34:AM101)-1)<>\"\",OFFSET(DE104_3!$AM$34,ROWS($AM$34:AM101)-1,COLUMNS($AM$34:AM101)-1),\"\")","v":""},{"$f":"IF(OFFSET(DE104_3!$AN$34,ROWS($AN$34:AN101)-1,COLUMNS($AN$34:AN101)-1)<>\"\",OFFSET(DE104_3!$AN$34,ROWS($AN$34:AN101)-1,COLUMNS($AN$34:AN101)-1),\"\")","v":""},{"$f":"IF(OFFSET(DE104_3!$AO$34,ROWS($AO$34:AO101)-1,COLUMNS($AO$34:AO101)-1)<>\"\",OFFSET(DE104_3!$AO$34,ROWS($AO$34:AO101)-1,COLUMNS($AO$34:AO101)-1),\"\")","v":""},{"$f":"IF(OFFSET(DE104_3!$AP$34,ROWS($AP$34:AP101)-1,COLUMNS($AP$34:AP101)-1)<>\"\",OFFSET(DE104_3!$AP$34,ROWS($AP$34:AP101)-1,COLUMNS($AP$34:AP101)-1),\"\")","v":""},{"$f":"IF(OFFSET(DE104_3!$AQ$34,ROWS($AQ$34:AQ101)-1,COLUMNS($AQ$34:AQ101)-1)<>\"\",OFFSET(DE104_3!$AQ$34,ROWS($AQ$34:AQ101)-1,COLUMNS($AQ$34:AQ101)-1),\"\")","v":""}]
[{"$f":"IF(OFFSET(DE104_3!$C$34,ROWS($C$34:C102)-1,COLUMNS($C$34:C102)-1)<>\"\",OFFSET(DE104_3!$C$34,ROWS($C$34:C102)-1,COLUMNS($C$34:C102)-1),\"\")","v":""},{"$f":"IF(OFFSET(DE104_3!$D$34,ROWS($D$34:D102)-1,COLUMNS($D$34:D102)-1)<>\"\",OFFSET(DE104_3!$D$34,ROWS($D$34:D102)-1,COLUMNS($D$34:D102)-1),\"\")","v":""},{"$f":"IF(OFFSET(DE104_3!$E$34,ROWS($E$34:E102)-1,COLUMNS($E$34:E102)-1)<>\"\",OFFSET(DE104_3!$E$34,ROWS($E$34:E102)-1,COLUMNS($E$34:E102)-1),\"\")","v":""},{"$f":"IF(OFFSET(DE104_3!$F$34,ROWS($F$34:F102)-1,COLUMNS($F$34:F102)-1)<>\"\",OFFSET(DE104_3!$F$34,ROWS($F$34:F102)-1,COLUMNS($F$34:F102)-1),\"\")","v":""},{"$f":"IF(OFFSET(DE104_3!$G$34,ROWS($G$34:G102)-1,COLUMNS($G$34:G102)-1)<>\"\",OFFSET(DE104_3!$G$34,ROWS($G$34:G102)-1,COLUMNS($G$34:G102)-1),\"\")","v":""},{"$f":"IF(OFFSET(DE104_3!$H$34,ROWS($H$34:H102)-1,COLUMNS($H$34:H102)-1)<>\"\",OFFSET(DE104_3!$H$34,ROWS($H$34:H102)-1,COLUMNS($H$34:H102)-1),\"\")","v":""},{"$f":"IF(OFFSET(DE104_3!$I$34,ROWS($I$34:I102)-1,COLUMNS($I$34:I102)-1)<>\"\",OFFSET(DE104_3!$I$34,ROWS($I$34:I102)-1,COLUMNS($I$34:I102)-1),\"\")","v":""},{"$f":"IF(OFFSET(DE104_3!$J$34,ROWS($J$34:J102)-1,COLUMNS($J$34:J102)-1)<>\"\",OFFSET(DE104_3!$J$34,ROWS($J$34:J102)-1,COLUMNS($J$34:J102)-1),\"\")","v":""},{"$f":"IF(OFFSET(DE104_3!$K$34,ROWS($K$34:K102)-1,COLUMNS($K$34:K102)-1)<>\"\",OFFSET(DE104_3!$K$34,ROWS($K$34:K102)-1,COLUMNS($K$34:K102)-1),\"\")","v":""},{"$f":"IF(OFFSET(DE104_3!$L$34,ROWS($L$34:L102)-1,COLUMNS($L$34:L102)-1)<>\"\",OFFSET(DE104_3!$L$34,ROWS($L$34:L102)-1,COLUMNS($L$34:L102)-1),\"\")","v":""},{"$f":"IF(OFFSET(DE104_3!$M$34,ROWS($M$34:M102)-1,COLUMNS($M$34:M102)-1)<>\"\",OFFSET(DE104_3!$M$34,ROWS($M$34:M102)-1,COLUMNS($M$34:M102)-1),\"\")","v":""},{"$f":"IF(OFFSET(DE104_3!$N$34,ROWS($N$34:N102)-1,COLUMNS($N$34:N102)-1)<>\"\",OFFSET(DE104_3!$N$34,ROWS($N$34:N102)-1,COLUMNS($N$34:N102)-1),\"\")","v":""},{"$f":"IF(OFFSET(DE104_3!$O$34,ROWS($O$34:O102)-1,COLUMNS($O$34:O102)-1)<>\"\",OFFSET(DE104_3!$O$34,ROWS($O$34:O102)-1,COLUMNS($O$34:O102)-1),\"\")","v":""},{"$f":"IF(OFFSET(DE104_3!$P$34,ROWS($P$34:P102)-1,COLUMNS($P$34:P102)-1)<>\"\",OFFSET(DE104_3!$P$34,ROWS($P$34:P102)-1,COLUMNS($P$34:P102)-1),\"\")","v":""},{"$f":"IF(OFFSET(DE104_3!$Q$34,ROWS($Q$34:Q102)-1,COLUMNS($Q$34:Q102)-1)<>\"\",OFFSET(DE104_3!$Q$34,ROWS($Q$34:Q102)-1,COLUMNS($Q$34:Q102)-1),\"\")","v":""},{"$f":"IF(OFFSET(DE104_3!$R$34,ROWS($R$34:R102)-1,COLUMNS($R$34:R102)-1)<>\"\",OFFSET(DE104_3!$R$34,ROWS($R$34:R102)-1,COLUMNS($R$34:R102)-1),\"\")","v":""},{"$f":"IF(OFFSET(DE104_3!$S$34,ROWS($S$34:S102)-1,COLUMNS($S$34:S102)-1)<>\"\",OFFSET(DE104_3!$S$34,ROWS($S$34:S102)-1,COLUMNS($S$34:S102)-1),\"\")","v":""},{"$f":"IF(OFFSET(DE104_3!$T$34,ROWS($T$34:T102)-1,COLUMNS($T$34:T102)-1)<>\"\",OFFSET(DE104_3!$T$34,ROWS($T$34:T102)-1,COLUMNS($T$34:T102)-1),\"\")","v":""},{"$f":"IF(OFFSET(DE104_3!$U$34,ROWS($U$34:U102)-1,COLUMNS($U$34:U102)-1)<>\"\",OFFSET(DE104_3!$U$34,ROWS($U$34:U102)-1,COLUMNS($U$34:U102)-1),\"\")","v":""},{"$f":"IF(OFFSET(DE104_3!$V$34,ROWS($V$34:V102)-1,COLUMNS($V$34:V102)-1)<>\"\",OFFSET(DE104_3!$V$34,ROWS($V$34:V102)-1,COLUMNS($V$34:V102)-1),\"\")","v":""},{"$f":"IF(OFFSET(DE104_3!$W$34,ROWS($W$34:W102)-1,COLUMNS($W$34:W102)-1)<>\"\",OFFSET(DE104_3!$W$34,ROWS($W$34:W102)-1,COLUMNS($W$34:W102)-1),\"\")","v":""},{"$f":"IF(OFFSET(DE104_3!$X$34,ROWS($X$34:X102)-1,COLUMNS($X$34:X102)-1)<>\"\",OFFSET(DE104_3!$X$34,ROWS($X$34:X102)-1,COLUMNS($X$34:X102)-1),\"\")","v":""},{"$f":"IF(OFFSET(DE104_3!$Y$34,ROWS($Y$34:Y102)-1,COLUMNS($Y$34:Y102)-1)<>\"\",OFFSET(DE104_3!$Y$34,ROWS($Y$34:Y102)-1,COLUMNS($Y$34:Y102)-1),\"\")","v":""},{"$f":"IF(OFFSET(DE104_3!$Z$34,ROWS($Z$34:Z102)-1,COLUMNS($Z$34:Z102)-1)<>\"\",OFFSET(DE104_3!$Z$34,ROWS($Z$34:Z102)-1,COLUMNS($Z$34:Z102)-1),\"\")","v":""},{"$f":"IF(OFFSET(DE104_3!$AA$34,ROWS($AA$34:AA102)-1,COLUMNS($AA$34:AA102)-1)<>\"\",OFFSET(DE104_3!$AA$34,ROWS($AA$34:AA102)-1,COLUMNS($AA$34:AA102)-1),\"\")","v":""},{"$f":"IF(OFFSET(DE104_3!$AB$34,ROWS($AB$34:AB102)-1,COLUMNS($AB$34:AB102)-1)<>\"\",OFFSET(DE104_3!$AB$34,ROWS($AB$34:AB102)-1,COLUMNS($AB$34:AB102)-1),\"\")","v":""},{"$f":"IF(OFFSET(DE104_3!$AC$34,ROWS($AC$34:AC102)-1,COLUMNS($AC$34:AC102)-1)<>\"\",OFFSET(DE104_3!$AC$34,ROWS($AC$34:AC102)-1,COLUMNS($AC$34:AC102)-1),\"\")","v":""},{"$f":"IF(OFFSET(DE104_3!$AD$34,ROWS($AD$34:AD102)-1,COLUMNS($AD$34:AD102)-1)<>\"\",OFFSET(DE104_3!$AD$34,ROWS($AD$34:AD102)-1,COLUMNS($AD$34:AD102)-1),\"\")","v":""},{"$f":"IF(OFFSET(DE104_3!$AE$34,ROWS($AE$34:AE102)-1,COLUMNS($AE$34:AE102)-1)<>\"\",OFFSET(DE104_3!$AE$34,ROWS($AE$34:AE102)-1,COLUMNS($AE$34:AE102)-1),\"\")","v":""},{"$f":"IF(OFFSET(DE104_3!$AF$34,ROWS($AF$34:AF102)-1,COLUMNS($AF$34:AF102)-1)<>\"\",OFFSET(DE104_3!$AF$34,ROWS($AF$34:AF102)-1,COLUMNS($AF$34:AF102)-1),\"\")","v":""},{"$f":"IF(OFFSET(DE104_3!$AG$34,ROWS($AG$34:AG102)-1,COLUMNS($AG$34:AG102)-1)<>\"\",OFFSET(DE104_3!$AG$34,ROWS($AG$34:AG102)-1,COLUMNS($AG$34:AG102)-1),\"\")","v":""},{"$f":"IF(OFFSET(DE104_3!$AH$34,ROWS($AH$34:AH102)-1,COLUMNS($AH$34:AH102)-1)<>\"\",OFFSET(DE104_3!$AH$34,ROWS($AH$34:AH102)-1,COLUMNS($AH$34:AH102)-1),\"\")","v":""},{"$f":"IF(OFFSET(DE104_3!$AI$34,ROWS($AI$34:AI102)-1,COLUMNS($AI$34:AI102)-1)<>\"\",OFFSET(DE104_3!$AI$34,ROWS($AI$34:AI102)-1,COLUMNS($AI$34:AI102)-1),\"\")","v":""},{"$f":"IF(OFFSET(DE104_3!$AJ$34,ROWS($AJ$34:AJ102)-1,COLUMNS($AJ$34:AJ102)-1)<>\"\",OFFSET(DE104_3!$AJ$34,ROWS($AJ$34:AJ102)-1,COLUMNS($AJ$34:AJ102)-1),\"\")","v":""},{"$f":"IF(OFFSET(DE104_3!$AK$34,ROWS($AK$34:AK102)-1,COLUMNS($AK$34:AK102)-1)<>\"\",OFFSET(DE104_3!$AK$34,ROWS($AK$34:AK102)-1,COLUMNS($AK$34:AK102)-1),\"\")","v":""},{"$f":"IF(OFFSET(DE104_3!$AL$34,ROWS($AL$34:AL102)-1,COLUMNS($AL$34:AL102)-1)<>\"\",OFFSET(DE104_3!$AL$34,ROWS($AL$34:AL102)-1,COLUMNS($AL$34:AL102)-1),\"\")","v":""},{"$f":"IF(OFFSET(DE104_3!$AM$34,ROWS($AM$34:AM102)-1,COLUMNS($AM$34:AM102)-1)<>\"\",OFFSET(DE104_3!$AM$34,ROWS($AM$34:AM102)-1,COLUMNS($AM$34:AM102)-1),\"\")","v":""},{"$f":"IF(OFFSET(DE104_3!$AN$34,ROWS($AN$34:AN102)-1,COLUMNS($AN$34:AN102)-1)<>\"\",OFFSET(DE104_3!$AN$34,ROWS($AN$34:AN102)-1,COLUMNS($AN$34:AN102)-1),\"\")","v":""},{"$f":"IF(OFFSET(DE104_3!$AO$34,ROWS($AO$34:AO102)-1,COLUMNS($AO$34:AO102)-1)<>\"\",OFFSET(DE104_3!$AO$34,ROWS($AO$34:AO102)-1,COLUMNS($AO$34:AO102)-1),\"\")","v":""},{"$f":"IF(OFFSET(DE104_3!$AP$34,ROWS($AP$34:AP102)-1,COLUMNS($AP$34:AP102)-1)<>\"\",OFFSET(DE104_3!$AP$34,ROWS($AP$34:AP102)-1,COLUMNS($AP$34:AP102)-1),\"\")","v":""},{"$f":"IF(OFFSET(DE104_3!$AQ$34,ROWS($AQ$34:AQ102)-1,COLUMNS($AQ$34:AQ102)-1)<>\"\",OFFSET(DE104_3!$AQ$34,ROWS($AQ$34:AQ102)-1,COLUMNS($AQ$34:AQ102)-1),\"\")","v":""}]
[{"$f":"IF(OFFSET(DE104_3!$C$34,ROWS($C$34:C103)-1,COLUMNS($C$34:C103)-1)<>\"\",OFFSET(DE104_3!$C$34,ROWS($C$34:C103)-1,COLUMNS($C$34:C103)-1),\"\")","v":""},{"$f":"IF(OFFSET(DE104_3!$D$34,ROWS($D$34:D103)-1,COLUMNS($D$34:D103)-1)<>\"\",OFFSET(DE104_3!$D$34,ROWS($D$34:D103)-1,COLUMNS($D$34:D103)-1),\"\")","v":""},{"$f":"IF(OFFSET(DE104_3!$E$34,ROWS($E$34:E103)-1,COLUMNS($E$34:E103)-1)<>\"\",OFFSET(DE104_3!$E$34,ROWS($E$34:E103)-1,COLUMNS($E$34:E103)-1),\"\")","v":""},{"$f":"IF(OFFSET(DE104_3!$F$34,ROWS($F$34:F103)-1,COLUMNS($F$34:F103)-1)<>\"\",OFFSET(DE104_3!$F$34,ROWS($F$34:F103)-1,COLUMNS($F$34:F103)-1),\"\")","v":""},{"$f":"IF(OFFSET(DE104_3!$G$34,ROWS($G$34:G103)-1,COLUMNS($G$34:G103)-1)<>\"\",OFFSET(DE104_3!$G$34,ROWS($G$34:G103)-1,COLUMNS($G$34:G103)-1),\"\")","v":""},{"$f":"IF(OFFSET(DE104_3!$H$34,ROWS($H$34:H103)-1,COLUMNS($H$34:H103)-1)<>\"\",OFFSET(DE104_3!$H$34,ROWS($H$34:H103)-1,COLUMNS($H$34:H103)-1),\"\")","v":""},{"$f":"IF(OFFSET(DE104_3!$I$34,ROWS($I$34:I103)-1,COLUMNS($I$34:I103)-1)<>\"\",OFFSET(DE104_3!$I$34,ROWS($I$34:I103)-1,COLUMNS($I$34:I103)-1),\"\")","v":""},{"$f":"IF(OFFSET(DE104_3!$J$34,ROWS($J$34:J103)-1,COLUMNS($J$34:J103)-1)<>\"\",OFFSET(DE104_3!$J$34,ROWS($J$34:J103)-1,COLUMNS($J$34:J103)-1),\"\")","v":""},{"$f":"IF(OFFSET(DE104_3!$K$34,ROWS($K$34:K103)-1,COLUMNS($K$34:K103)-1)<>\"\",OFFSET(DE104_3!$K$34,ROWS($K$34:K103)-1,COLUMNS($K$34:K103)-1),\"\")","v":""},{"$f":"IF(OFFSET(DE104_3!$L$34,ROWS($L$34:L103)-1,COLUMNS($L$34:L103)-1)<>\"\",OFFSET(DE104_3!$L$34,ROWS($L$34:L103)-1,COLUMNS($L$34:L103)-1),\"\")","v":""},{"$f":"IF(OFFSET(DE104_3!$M$34,ROWS($M$34:M103)-1,COLUMNS($M$34:M103)-1)<>\"\",OFFSET(DE104_3!$M$34,ROWS($M$34:M103)-1,COLUMNS($M$34:M103)-1),\"\")","v":""},{"$f":"IF(OFFSET(DE104_3!$N$34,ROWS($N$34:N103)-1,COLUMNS($N$34:N103)-1)<>\"\",OFFSET(DE104_3!$N$34,ROWS($N$34:N103)-1,COLUMNS($N$34:N103)-1),\"\")","v":""},{"$f":"IF(OFFSET(DE104_3!$O$34,ROWS($O$34:O103)-1,COLUMNS($O$34:O103)-1)<>\"\",OFFSET(DE104_3!$O$34,ROWS($O$34:O103)-1,COLUMNS($O$34:O103)-1),\"\")","v":""},{"$f":"IF(OFFSET(DE104_3!$P$34,ROWS($P$34:P103)-1,COLUMNS($P$34:P103)-1)<>\"\",OFFSET(DE104_3!$P$34,ROWS($P$34:P103)-1,COLUMNS($P$34:P103)-1),\"\")","v":""},{"$f":"IF(OFFSET(DE104_3!$Q$34,ROWS($Q$34:Q103)-1,COLUMNS($Q$34:Q103)-1)<>\"\",OFFSET(DE104_3!$Q$34,ROWS($Q$34:Q103)-1,COLUMNS($Q$34:Q103)-1),\"\")","v":""},{"$f":"IF(OFFSET(DE104_3!$R$34,ROWS($R$34:R103)-1,COLUMNS($R$34:R103)-1)<>\"\",OFFSET(DE104_3!$R$34,ROWS($R$34:R103)-1,COLUMNS($R$34:R103)-1),\"\")","v":""},{"$f":"IF(OFFSET(DE104_3!$S$34,ROWS($S$34:S103)-1,COLUMNS($S$34:S103)-1)<>\"\",OFFSET(DE104_3!$S$34,ROWS($S$34:S103)-1,COLUMNS($S$34:S103)-1),\"\")","v":""},{"$f":"IF(OFFSET(DE104_3!$T$34,ROWS($T$34:T103)-1,COLUMNS($T$34:T103)-1)<>\"\",OFFSET(DE104_3!$T$34,ROWS($T$34:T103)-1,COLUMNS($T$34:T103)-1),\"\")","v":""},{"$f":"IF(OFFSET(DE104_3!$U$34,ROWS($U$34:U103)-1,COLUMNS($U$34:U103)-1)<>\"\",OFFSET(DE104_3!$U$34,ROWS($U$34:U103)-1,COLUMNS($U$34:U103)-1),\"\")","v":""},{"$f":"IF(OFFSET(DE104_3!$V$34,ROWS($V$34:V103)-1,COLUMNS($V$34:V103)-1)<>\"\",OFFSET(DE104_3!$V$34,ROWS($V$34:V103)-1,COLUMNS($V$34:V103)-1),\"\")","v":""},{"$f":"IF(OFFSET(DE104_3!$W$34,ROWS($W$34:W103)-1,COLUMNS($W$34:W103)-1)<>\"\",OFFSET(DE104_3!$W$34,ROWS($W$34:W103)-1,COLUMNS($W$34:W103)-1),\"\")","v":""},{"$f":"IF(OFFSET(DE104_3!$X$34,ROWS($X$34:X103)-1,COLUMNS($X$34:X103)-1)<>\"\",OFFSET(DE104_3!$X$34,ROWS($X$34:X103)-1,COLUMNS($X$34:X103)-1),\"\")","v":""},{"$f":"IF(OFFSET(DE104_3!$Y$34,ROWS($Y$34:Y103)-1,COLUMNS($Y$34:Y103)-1)<>\"\",OFFSET(DE104_3!$Y$34,ROWS($Y$34:Y103)-1,COLUMNS($Y$34:Y103)-1),\"\")","v":""},{"$f":"IF(OFFSET(DE104_3!$Z$34,ROWS($Z$34:Z103)-1,COLUMNS($Z$34:Z103)-1)<>\"\",OFFSET(DE104_3!$Z$34,ROWS($Z$34:Z103)-1,COLUMNS($Z$34:Z103)-1),\"\")","v":""},{"$f":"IF(OFFSET(DE104_3!$AA$34,ROWS($AA$34:AA103)-1,COLUMNS($AA$34:AA103)-1)<>\"\",OFFSET(DE104_3!$AA$34,ROWS($AA$34:AA103)-1,COLUMNS($AA$34:AA103)-1),\"\")","v":""},{"$f":"IF(OFFSET(DE104_3!$AB$34,ROWS($AB$34:AB103)-1,COLUMNS($AB$34:AB103)-1)<>\"\",OFFSET(DE104_3!$AB$34,ROWS($AB$34:AB103)-1,COLUMNS($AB$34:AB103)-1),\"\")","v":""},{"$f":"IF(OFFSET(DE104_3!$AC$34,ROWS($AC$34:AC103)-1,COLUMNS($AC$34:AC103)-1)<>\"\",OFFSET(DE104_3!$AC$34,ROWS($AC$34:AC103)-1,COLUMNS($AC$34:AC103)-1),\"\")","v":""},{"$f":"IF(OFFSET(DE104_3!$AD$34,ROWS($AD$34:AD103)-1,COLUMNS($AD$34:AD103)-1)<>\"\",OFFSET(DE104_3!$AD$34,ROWS($AD$34:AD103)-1,COLUMNS($AD$34:AD103)-1),\"\")","v":""},{"$f":"IF(OFFSET(DE104_3!$AE$34,ROWS($AE$34:AE103)-1,COLUMNS($AE$34:AE103)-1)<>\"\",OFFSET(DE104_3!$AE$34,ROWS($AE$34:AE103)-1,COLUMNS($AE$34:AE103)-1),\"\")","v":""},{"$f":"IF(OFFSET(DE104_3!$AF$34,ROWS($AF$34:AF103)-1,COLUMNS($AF$34:AF103)-1)<>\"\",OFFSET(DE104_3!$AF$34,ROWS($AF$34:AF103)-1,COLUMNS($AF$34:AF103)-1),\"\")","v":""},{"$f":"IF(OFFSET(DE104_3!$AG$34,ROWS($AG$34:AG103)-1,COLUMNS($AG$34:AG103)-1)<>\"\",OFFSET(DE104_3!$AG$34,ROWS($AG$34:AG103)-1,COLUMNS($AG$34:AG103)-1),\"\")","v":""},{"$f":"IF(OFFSET(DE104_3!$AH$34,ROWS($AH$34:AH103)-1,COLUMNS($AH$34:AH103)-1)<>\"\",OFFSET(DE104_3!$AH$34,ROWS($AH$34:AH103)-1,COLUMNS($AH$34:AH103)-1),\"\")","v":""},{"$f":"IF(OFFSET(DE104_3!$AI$34,ROWS($AI$34:AI103)-1,COLUMNS($AI$34:AI103)-1)<>\"\",OFFSET(DE104_3!$AI$34,ROWS($AI$34:AI103)-1,COLUMNS($AI$34:AI103)-1),\"\")","v":""},{"$f":"IF(OFFSET(DE104_3!$AJ$34,ROWS($AJ$34:AJ103)-1,COLUMNS($AJ$34:AJ103)-1)<>\"\",OFFSET(DE104_3!$AJ$34,ROWS($AJ$34:AJ103)-1,COLUMNS($AJ$34:AJ103)-1),\"\")","v":""},{"$f":"IF(OFFSET(DE104_3!$AK$34,ROWS($AK$34:AK103)-1,COLUMNS($AK$34:AK103)-1)<>\"\",OFFSET(DE104_3!$AK$34,ROWS($AK$34:AK103)-1,COLUMNS($AK$34:AK103)-1),\"\")","v":""},{"$f":"IF(OFFSET(DE104_3!$AL$34,ROWS($AL$34:AL103)-1,COLUMNS($AL$34:AL103)-1)<>\"\",OFFSET(DE104_3!$AL$34,ROWS($AL$34:AL103)-1,COLUMNS($AL$34:AL103)-1),\"\")","v":""},{"$f":"IF(OFFSET(DE104_3!$AM$34,ROWS($AM$34:AM103)-1,COLUMNS($AM$34:AM103)-1)<>\"\",OFFSET(DE104_3!$AM$34,ROWS($AM$34:AM103)-1,COLUMNS($AM$34:AM103)-1),\"\")","v":""},{"$f":"IF(OFFSET(DE104_3!$AN$34,ROWS($AN$34:AN103)-1,COLUMNS($AN$34:AN103)-1)<>\"\",OFFSET(DE104_3!$AN$34,ROWS($AN$34:AN103)-1,COLUMNS($AN$34:AN103)-1),\"\")","v":""},{"$f":"IF(OFFSET(DE104_3!$AO$34,ROWS($AO$34:AO103)-1,COLUMNS($AO$34:AO103)-1)<>\"\",OFFSET(DE104_3!$AO$34,ROWS($AO$34:AO103)-1,COLUMNS($AO$34:AO103)-1),\"\")","v":""},{"$f":"IF(OFFSET(DE104_3!$AP$34,ROWS($AP$34:AP103)-1,COLUMNS($AP$34:AP103)-1)<>\"\",OFFSET(DE104_3!$AP$34,ROWS($AP$34:AP103)-1,COLUMNS($AP$34:AP103)-1),\"\")","v":""},{"$f":"IF(OFFSET(DE104_3!$AQ$34,ROWS($AQ$34:AQ103)-1,COLUMNS($AQ$34:AQ103)-1)<>\"\",OFFSET(DE104_3!$AQ$34,ROWS($AQ$34:AQ103)-1,COLUMNS($AQ$34:AQ103)-1),\"\")","v":""}]
[{"$f":"IF(OFFSET(DE104_3!$C$34,ROWS($C$34:C104)-1,COLUMNS($C$34:C104)-1)<>\"\",OFFSET(DE104_3!$C$34,ROWS($C$34:C104)-1,COLUMNS($C$34:C104)-1),\"\")","v":""},{"$f":"IF(OFFSET(DE104_3!$D$34,ROWS($D$34:D104)-1,COLUMNS($D$34:D104)-1)<>\"\",OFFSET(DE104_3!$D$34,ROWS($D$34:D104)-1,COLUMNS($D$34:D104)-1),\"\")","v":""},{"$f":"IF(OFFSET(DE104_3!$E$34,ROWS($E$34:E104)-1,COLUMNS($E$34:E104)-1)<>\"\",OFFSET(DE104_3!$E$34,ROWS($E$34:E104)-1,COLUMNS($E$34:E104)-1),\"\")","v":""},{"$f":"IF(OFFSET(DE104_3!$F$34,ROWS($F$34:F104)-1,COLUMNS($F$34:F104)-1)<>\"\",OFFSET(DE104_3!$F$34,ROWS($F$34:F104)-1,COLUMNS($F$34:F104)-1),\"\")","v":""},{"$f":"IF(OFFSET(DE104_3!$G$34,ROWS($G$34:G104)-1,COLUMNS($G$34:G104)-1)<>\"\",OFFSET(DE104_3!$G$34,ROWS($G$34:G104)-1,COLUMNS($G$34:G104)-1),\"\")","v":""},{"$f":"IF(OFFSET(DE104_3!$H$34,ROWS($H$34:H104)-1,COLUMNS($H$34:H104)-1)<>\"\",OFFSET(DE104_3!$H$34,ROWS($H$34:H104)-1,COLUMNS($H$34:H104)-1),\"\")","v":""},{"$f":"IF(OFFSET(DE104_3!$I$34,ROWS($I$34:I104)-1,COLUMNS($I$34:I104)-1)<>\"\",OFFSET(DE104_3!$I$34,ROWS($I$34:I104)-1,COLUMNS($I$34:I104)-1),\"\")","v":""},{"$f":"IF(OFFSET(DE104_3!$J$34,ROWS($J$34:J104)-1,COLUMNS($J$34:J104)-1)<>\"\",OFFSET(DE104_3!$J$34,ROWS($J$34:J104)-1,COLUMNS($J$34:J104)-1),\"\")","v":""},{"$f":"IF(OFFSET(DE104_3!$K$34,ROWS($K$34:K104)-1,COLUMNS($K$34:K104)-1)<>\"\",OFFSET(DE104_3!$K$34,ROWS($K$34:K104)-1,COLUMNS($K$34:K104)-1),\"\")","v":""},{"$f":"IF(OFFSET(DE104_3!$L$34,ROWS($L$34:L104)-1,COLUMNS($L$34:L104)-1)<>\"\",OFFSET(DE104_3!$L$34,ROWS($L$34:L104)-1,COLUMNS($L$34:L104)-1),\"\")","v":""},{"$f":"IF(OFFSET(DE104_3!$M$34,ROWS($M$34:M104)-1,COLUMNS($M$34:M104)-1)<>\"\",OFFSET(DE104_3!$M$34,ROWS($M$34:M104)-1,COLUMNS($M$34:M104)-1),\"\")","v":""},{"$f":"IF(OFFSET(DE104_3!$N$34,ROWS($N$34:N104)-1,COLUMNS($N$34:N104)-1)<>\"\",OFFSET(DE104_3!$N$34,ROWS($N$34:N104)-1,COLUMNS($N$34:N104)-1),\"\")","v":""},{"$f":"IF(OFFSET(DE104_3!$O$34,ROWS($O$34:O104)-1,COLUMNS($O$34:O104)-1)<>\"\",OFFSET(DE104_3!$O$34,ROWS($O$34:O104)-1,COLUMNS($O$34:O104)-1),\"\")","v":""},{"$f":"IF(OFFSET(DE104_3!$P$34,ROWS($P$34:P104)-1,COLUMNS($P$34:P104)-1)<>\"\",OFFSET(DE104_3!$P$34,ROWS($P$34:P104)-1,COLUMNS($P$34:P104)-1),\"\")","v":""},{"$f":"IF(OFFSET(DE104_3!$Q$34,ROWS($Q$34:Q104)-1,COLUMNS($Q$34:Q104)-1)<>\"\",OFFSET(DE104_3!$Q$34,ROWS($Q$34:Q104)-1,COLUMNS($Q$34:Q104)-1),\"\")","v":""},{"$f":"IF(OFFSET(DE104_3!$R$34,ROWS($R$34:R104)-1,COLUMNS($R$34:R104)-1)<>\"\",OFFSET(DE104_3!$R$34,ROWS($R$34:R104)-1,COLUMNS($R$34:R104)-1),\"\")","v":""},{"$f":"IF(OFFSET(DE104_3!$S$34,ROWS($S$34:S104)-1,COLUMNS($S$34:S104)-1)<>\"\",OFFSET(DE104_3!$S$34,ROWS($S$34:S104)-1,COLUMNS($S$34:S104)-1),\"\")","v":""},{"$f":"IF(OFFSET(DE104_3!$T$34,ROWS($T$34:T104)-1,COLUMNS($T$34:T104)-1)<>\"\",OFFSET(DE104_3!$T$34,ROWS($T$34:T104)-1,COLUMNS($T$34:T104)-1),\"\")","v":""},{"$f":"IF(OFFSET(DE104_3!$U$34,ROWS($U$34:U104)-1,COLUMNS($U$34:U104)-1)<>\"\",OFFSET(DE104_3!$U$34,ROWS($U$34:U104)-1,COLUMNS($U$34:U104)-1),\"\")","v":""},{"$f":"IF(OFFSET(DE104_3!$V$34,ROWS($V$34:V104)-1,COLUMNS($V$34:V104)-1)<>\"\",OFFSET(DE104_3!$V$34,ROWS($V$34:V104)-1,COLUMNS($V$34:V104)-1),\"\")","v":""},{"$f":"IF(OFFSET(DE104_3!$W$34,ROWS($W$34:W104)-1,COLUMNS($W$34:W104)-1)<>\"\",OFFSET(DE104_3!$W$34,ROWS($W$34:W104)-1,COLUMNS($W$34:W104)-1),\"\")","v":""},{"$f":"IF(OFFSET(DE104_3!$X$34,ROWS($X$34:X104)-1,COLUMNS($X$34:X104)-1)<>\"\",OFFSET(DE104_3!$X$34,ROWS($X$34:X104)-1,COLUMNS($X$34:X104)-1),\"\")","v":""},{"$f":"IF(OFFSET(DE104_3!$Y$34,ROWS($Y$34:Y104)-1,COLUMNS($Y$34:Y104)-1)<>\"\",OFFSET(DE104_3!$Y$34,ROWS($Y$34:Y104)-1,COLUMNS($Y$34:Y104)-1),\"\")","v":""},{"$f":"IF(OFFSET(DE104_3!$Z$34,ROWS($Z$34:Z104)-1,COLUMNS($Z$34:Z104)-1)<>\"\",OFFSET(DE104_3!$Z$34,ROWS($Z$34:Z104)-1,COLUMNS($Z$34:Z104)-1),\"\")","v":""},{"$f":"IF(OFFSET(DE104_3!$AA$34,ROWS($AA$34:AA104)-1,COLUMNS($AA$34:AA104)-1)<>\"\",OFFSET(DE104_3!$AA$34,ROWS($AA$34:AA104)-1,COLUMNS($AA$34:AA104)-1),\"\")","v":""},{"$f":"IF(OFFSET(DE104_3!$AB$34,ROWS($AB$34:AB104)-1,COLUMNS($AB$34:AB104)-1)<>\"\",OFFSET(DE104_3!$AB$34,ROWS($AB$34:AB104)-1,COLUMNS($AB$34:AB104)-1),\"\")","v":""},{"$f":"IF(OFFSET(DE104_3!$AC$34,ROWS($AC$34:AC104)-1,COLUMNS($AC$34:AC104)-1)<>\"\",OFFSET(DE104_3!$AC$34,ROWS($AC$34:AC104)-1,COLUMNS($AC$34:AC104)-1),\"\")","v":""},{"$f":"IF(OFFSET(DE104_3!$AD$34,ROWS($AD$34:AD104)-1,COLUMNS($AD$34:AD104)-1)<>\"\",OFFSET(DE104_3!$AD$34,ROWS($AD$34:AD104)-1,COLUMNS($AD$34:AD104)-1),\"\")","v":""},{"$f":"IF(OFFSET(DE104_3!$AE$34,ROWS($AE$34:AE104)-1,COLUMNS($AE$34:AE104)-1)<>\"\",OFFSET(DE104_3!$AE$34,ROWS($AE$34:AE104)-1,COLUMNS($AE$34:AE104)-1),\"\")","v":""},{"$f":"IF(OFFSET(DE104_3!$AF$34,ROWS($AF$34:AF104)-1,COLUMNS($AF$34:AF104)-1)<>\"\",OFFSET(DE104_3!$AF$34,ROWS($AF$34:AF104)-1,COLUMNS($AF$34:AF104)-1),\"\")","v":""},{"$f":"IF(OFFSET(DE104_3!$AG$34,ROWS($AG$34:AG104)-1,COLUMNS($AG$34:AG104)-1)<>\"\",OFFSET(DE104_3!$AG$34,ROWS($AG$34:AG104)-1,COLUMNS($AG$34:AG104)-1),\"\")","v":""},{"$f":"IF(OFFSET(DE104_3!$AH$34,ROWS($AH$34:AH104)-1,COLUMNS($AH$34:AH104)-1)<>\"\",OFFSET(DE104_3!$AH$34,ROWS($AH$34:AH104)-1,COLUMNS($AH$34:AH104)-1),\"\")","v":""},{"$f":"IF(OFFSET(DE104_3!$AI$34,ROWS($AI$34:AI104)-1,COLUMNS($AI$34:AI104)-1)<>\"\",OFFSET(DE104_3!$AI$34,ROWS($AI$34:AI104)-1,COLUMNS($AI$34:AI104)-1),\"\")","v":""},{"$f":"IF(OFFSET(DE104_3!$AJ$34,ROWS($AJ$34:AJ104)-1,COLUMNS($AJ$34:AJ104)-1)<>\"\",OFFSET(DE104_3!$AJ$34,ROWS($AJ$34:AJ104)-1,COLUMNS($AJ$34:AJ104)-1),\"\")","v":""},{"$f":"IF(OFFSET(DE104_3!$AK$34,ROWS($AK$34:AK104)-1,COLUMNS($AK$34:AK104)-1)<>\"\",OFFSET(DE104_3!$AK$34,ROWS($AK$34:AK104)-1,COLUMNS($AK$34:AK104)-1),\"\")","v":""},{"$f":"IF(OFFSET(DE104_3!$AL$34,ROWS($AL$34:AL104)-1,COLUMNS($AL$34:AL104)-1)<>\"\",OFFSET(DE104_3!$AL$34,ROWS($AL$34:AL104)-1,COLUMNS($AL$34:AL104)-1),\"\")","v":""},{"$f":"IF(OFFSET(DE104_3!$AM$34,ROWS($AM$34:AM104)-1,COLUMNS($AM$34:AM104)-1)<>\"\",OFFSET(DE104_3!$AM$34,ROWS($AM$34:AM104)-1,COLUMNS($AM$34:AM104)-1),\"\")","v":""},{"$f":"IF(OFFSET(DE104_3!$AN$34,ROWS($AN$34:AN104)-1,COLUMNS($AN$34:AN104)-1)<>\"\",OFFSET(DE104_3!$AN$34,ROWS($AN$34:AN104)-1,COLUMNS($AN$34:AN104)-1),\"\")","v":""},{"$f":"IF(OFFSET(DE104_3!$AO$34,ROWS($AO$34:AO104)-1,COLUMNS($AO$34:AO104)-1)<>\"\",OFFSET(DE104_3!$AO$34,ROWS($AO$34:AO104)-1,COLUMNS($AO$34:AO104)-1),\"\")","v":""},{"$f":"IF(OFFSET(DE104_3!$AP$34,ROWS($AP$34:AP104)-1,COLUMNS($AP$34:AP104)-1)<>\"\",OFFSET(DE104_3!$AP$34,ROWS($AP$34:AP104)-1,COLUMNS($AP$34:AP104)-1),\"\")","v":""},{"$f":"IF(OFFSET(DE104_3!$AQ$34,ROWS($AQ$34:AQ104)-1,COLUMNS($AQ$34:AQ104)-1)<>\"\",OFFSET(DE104_3!$AQ$34,ROWS($AQ$34:AQ104)-1,COLUMNS($AQ$34:AQ104)-1),\"\")","v":""}]
["104-3"]
["Modified"]
["DRAINAGE STRUCTURE BY ROAD CONTRACTOR"]
[]
[]
["Length of unclassified pipe calculated is based on using ",null,null,null,null,null,null,null,null,null,"Reinforced Concrete Pipe."]
["  * Not a bid item"]
[" Diameter or equivalent diameter"]
[" UNCL = Unclassified Pipe  CMP = Corrugated Metal Pipe  RCP = Reinforced Concrete Pipe  LCP = Arch or Elliptical Low Clearance Pipe  SARC = Steel Arch Pipe          Backfill according to DR-101"]
["Drainage Area","Location","Type","Size","Pipe Classification","Kind\nOf\nPipe","Length New Const.","Bedding\nClass","Design Cover (H)","Camber*\n(DR-102)","Apron\nNo.",null,"Apron Guard*\n(DR-213)","Elbow*\n(DR-141)","Tee Section*\n(DR-142)","\"D\" Section*\n(DR-141)","Reducer*","Type 'C' Connections*\n(DR-122)",null,"Connected\nPipe Joint*\n(DR-121)","4\" Perforated Subdrain*","Flow Line\nElevations",null,null,null,"Dimensions\nLin. Ft.",null,null,null,"Skew Ahead\nDegrees",null,"Dike",null,null,null,"Class\n20","Flowable\nMortar","Floodable* Backfill","Porous*\nBackfill","Flooded\nBackfill","Remarks"]
[]
[]
[]
[]
[]
[]
[null,null,null,null,null,null,null,null,null,null,null,null,null,null,null,null,null,null,null,null,null,null,null,null,null,null,null,null,null,null,null,"Rt.","Location\nStation","Top\nElevation","Type"]
[null,null,null,null,null,null,null,null,null,null,null,null,null,null,null,null,null,null,null,null,null,null,null,null,null,"Total",null,"Extensions",null,null,null,null,null,null,null,null,null,"(A)","(B)","(A+B)"]
["ACRE",null,null,"IN",null,null,"LF",null,"FT","FT","IN","OUT","No.","No.","No.","No.","No.","Type","No.","Type","FT","Lt.","Rt.","Other","Other","Lt.","Rt.","Lt.","Rt.","Lt.","Rt.","Lt.",null,null,null,"CY","CY","CY","CY","CY"]
[{"$f":"IF(OFFSET(DE104_3!$C$105,ROWS($C$105:C105)-1,COLUMNS($C$105:C105)-1)<>\"\",OFFSET(DE104_3!$C$105,ROWS($C$105:C105)-1,COLUMNS($C$105:C105)-1),\"\")","v":""},{"$f":"IF(OFFSET(DE104_3!$D$105,ROWS($D$105:D105)-1,COLUMNS($D$105:D105)-1)<>\"\",OFFSET(DE104_3!$D$105,ROWS($D$105:D105)-1,COLUMNS($D$105:D105)-1),\"\")","v":""},{"$f":"IF(OFFSET(DE104_3!$E$105,ROWS($E$105:E105)-1,COLUMNS($E$105:E105)-1)<>\"\",OFFSET(DE104_3!$E$105,ROWS($E$105:E105)-1,COLUMNS($E$105:E105)-1),\"\")","v":""},{"$f":"IF(OFFSET(DE104_3!$F$105,ROWS($F$105:F105)-1,COLUMNS($F$105:F105)-1)<>\"\",OFFSET(DE104_3!$F$105,ROWS($F$105:F105)-1,COLUMNS($F$105:F105)-1),\"\")","v":""},{"$f":"IF(OFFSET(DE104_3!$G$105,ROWS($G$105:G105)-1,COLUMNS($G$105:G105)-1)<>\"\",OFFSET(DE104_3!$G$105,ROWS($G$105:G105)-1,COLUMNS($G$105:G105)-1),\"\")","v":""},{"$f":"IF(OFFSET(DE104_3!$H$105,ROWS($H$105:H105)-1,COLUMNS($H$105:H105)-1)<>\"\",OFFSET(DE104_3!$H$105,ROWS($H$105:H105)-1,COLUMNS($H$105:H105)-1),\"\")","v":""},{"$f":"IF(OFFSET(DE104_3!$I$105,ROWS($I$105:I105)-1,COLUMNS($I$105:I105)-1)<>\"\",OFFSET(DE104_3!$I$105,ROWS($I$105:I105)-1,COLUMNS($I$105:I105)-1),\"\")","v":""},{"$f":"IF(OFFSET(DE104_3!$J$105,ROWS($J$105:J105)-1,COLUMNS($J$105:J105)-1)<>\"\",OFFSET(DE104_3!$J$105,ROWS($J$105:J105)-1,COLUMNS($J$105:J105)-1),\"\")","v":""},{"$f":"IF(OFFSET(DE104_3!$K$105,ROWS($K$105:K105)-1,COLUMNS($K$105:K105)-1)<>\"\",OFFSET(DE104_3!$K$105,ROWS($K$105:K105)-1,COLUMNS($K$105:K105)-1),\"\")","v":""},{"$f":"IF(OFFSET(DE104_3!$L$105,ROWS($L$105:L105)-1,COLUMNS($L$105:L105)-1)<>\"\",OFFSET(DE104_3!$L$105,ROWS($L$105:L105)-1,COLUMNS($L$105:L105)-1),\"\")","v":""},{"$f":"IF(OFFSET(DE104_3!$M$105,ROWS($M$105:M105)-1,COLUMNS($M$105:M105)-1)<>\"\",OFFSET(DE104_3!$M$105,ROWS($M$105:M105)-1,COLUMNS($M$105:M105)-1),\"\")","v":""},{"$f":"IF(OFFSET(DE104_3!$N$105,ROWS($N$105:N105)-1,COLUMNS($N$105:N105)-1)<>\"\",OFFSET(DE104_3!$N$105,ROWS($N$105:N105)-1,COLUMNS($N$105:N105)-1),\"\")","v":""},{"$f":"IF(OFFSET(DE104_3!$O$105,ROWS($O$105:O105)-1,COLUMNS($O$105:O105)-1)<>\"\",OFFSET(DE104_3!$O$105,ROWS($O$105:O105)-1,COLUMNS($O$105:O105)-1),\"\")","v":""},{"$f":"IF(OFFSET(DE104_3!$P$105,ROWS($P$105:P105)-1,COLUMNS($P$105:P105)-1)<>\"\",OFFSET(DE104_3!$P$105,ROWS($P$105:P105)-1,COLUMNS($P$105:P105)-1),\"\")","v":""},{"$f":"IF(OFFSET(DE104_3!$Q$105,ROWS($Q$105:Q105)-1,COLUMNS($Q$105:Q105)-1)<>\"\",OFFSET(DE104_3!$Q$105,ROWS($Q$105:Q105)-1,COLUMNS($Q$105:Q105)-1),\"\")","v":""},{"$f":"IF(OFFSET(DE104_3!$R$105,ROWS($R$105:R105)-1,COLUMNS($R$105:R105)-1)<>\"\",OFFSET(DE104_3!$R$105,ROWS($R$105:R105)-1,COLUMNS($R$105:R105)-1),\"\")","v":""},{"$f":"IF(OFFSET(DE104_3!$S$105,ROWS($S$105:S105)-1,COLUMNS($S$105:S105)-1)<>\"\",OFFSET(DE104_3!$S$105,ROWS($S$105:S105)-1,COLUMNS($S$105:S105)-1),\"\")","v":""},{"$f":"IF(OFFSET(DE104_3!$T$105,ROWS($T$105:T105)-1,COLUMNS($T$105:T105)-1)<>\"\",OFFSET(DE104_3!$T$105,ROWS($T$105:T105)-1,COLUMNS($T$105:T105)-1),\"\")","v":""},{"$f":"IF(OFFSET(DE104_3!$U$105,ROWS($U$105:U105)-1,COLUMNS($U$105:U105)-1)<>\"\",OFFSET(DE104_3!$U$105,ROWS($U$105:U105)-1,COLUMNS($U$105:U105)-1),\"\")","v":""},{"$f":"IF(OFFSET(DE104_3!$V$105,ROWS($V$105:V105)-1,COLUMNS($V$105:V105)-1)<>\"\",OFFSET(DE104_3!$V$105,ROWS($V$105:V105)-1,COLUMNS($V$105:V105)-1),\"\")","v":""},{"$f":"IF(OFFSET(DE104_3!$W$105,ROWS($W$105:W105)-1,COLUMNS($W$105:W105)-1)<>\"\",OFFSET(DE104_3!$W$105,ROWS($W$105:W105)-1,COLUMNS($W$105:W105)-1),\"\")","v":""},{"$f":"IF(OFFSET(DE104_3!$X$105,ROWS($X$105:X105)-1,COLUMNS($X$105:X105)-1)<>\"\",OFFSET(DE104_3!$X$105,ROWS($X$105:X105)-1,COLUMNS($X$105:X105)-1),\"\")","v":""},{"$f":"IF(OFFSET(DE104_3!$Y$105,ROWS($Y$105:Y105)-1,COLUMNS($Y$105:Y105)-1)<>\"\",OFFSET(DE104_3!$Y$105,ROWS($Y$105:Y105)-1,COLUMNS($Y$105:Y105)-1),\"\")","v":""},{"$f":"IF(OFFSET(DE104_3!$Z$105,ROWS($Z$105:Z105)-1,COLUMNS($Z$105:Z105)-1)<>\"\",OFFSET(DE104_3!$Z$105,ROWS($Z$105:Z105)-1,COLUMNS($Z$105:Z105)-1),\"\")","v":""},{"$f":"IF(OFFSET(DE104_3!$AA$105,ROWS($AA$105:AA105)-1,COLUMNS($AA$105:AA105)-1)<>\"\",OFFSET(DE104_3!$AA$105,ROWS($AA$105:AA105)-1,COLUMNS($AA$105:AA105)-1),\"\")","v":""},{"$f":"IF(OFFSET(DE104_3!$AB$105,ROWS($AB$105:AB105)-1,COLUMNS($AB$105:AB105)-1)<>\"\",OFFSET(DE104_3!$AB$105,ROWS($AB$105:AB105)-1,COLUMNS($AB$105:AB105)-1),\"\")","v":""},{"$f":"IF(OFFSET(DE104_3!$AC$105,ROWS($AC$105:AC105)-1,COLUMNS($AC$105:AC105)-1)<>\"\",OFFSET(DE104_3!$AC$105,ROWS($AC$105:AC105)-1,COLUMNS($AC$105:AC105)-1),\"\")","v":""},{"$f":"IF(OFFSET(DE104_3!$AD$105,ROWS($AD$105:AD105)-1,COLUMNS($AD$105:AD105)-1)<>\"\",OFFSET(DE104_3!$AD$105,ROWS($AD$105:AD105)-1,COLUMNS($AD$105:AD105)-1),\"\")","v":""},{"$f":"IF(OFFSET(DE104_3!$AE$105,ROWS($AE$105:AE105)-1,COLUMNS($AE$105:AE105)-1)<>\"\",OFFSET(DE104_3!$AE$105,ROWS($AE$105:AE105)-1,COLUMNS($AE$105:AE105)-1),\"\")","v":""},{"$f":"IF(OFFSET(DE104_3!$AF$105,ROWS($AF$105:AF105)-1,COLUMNS($AF$105:AF105)-1)<>\"\",OFFSET(DE104_3!$AF$105,ROWS($AF$105:AF105)-1,COLUMNS($AF$105:AF105)-1),\"\")","v":""},{"$f":"IF(OFFSET(DE104_3!$AG$105,ROWS($AG$105:AG105)-1,COLUMNS($AG$105:AG105)-1)<>\"\",OFFSET(DE104_3!$AG$105,ROWS($AG$105:AG105)-1,COLUMNS($AG$105:AG105)-1),\"\")","v":""},{"$f":"IF(OFFSET(DE104_3!$AH$105,ROWS($AH$105:AH105)-1,COLUMNS($AH$105:AH105)-1)<>\"\",OFFSET(DE104_3!$AH$105,ROWS($AH$105:AH105)-1,COLUMNS($AH$105:AH105)-1),\"\")","v":""},{"$f":"IF(OFFSET(DE104_3!$AI$105,ROWS($AI$105:AI105)-1,COLUMNS($AI$105:AI105)-1)<>\"\",OFFSET(DE104_3!$AI$105,ROWS($AI$105:AI105)-1,COLUMNS($AI$105:AI105)-1),\"\")","v":""},{"$f":"IF(OFFSET(DE104_3!$AJ$105,ROWS($AJ$105:AJ105)-1,COLUMNS($AJ$105:AJ105)-1)<>\"\",OFFSET(DE104_3!$AJ$105,ROWS($AJ$105:AJ105)-1,COLUMNS($AJ$105:AJ105)-1),\"\")","v":""},{"$f":"IF(OFFSET(DE104_3!$AK$105,ROWS($AK$105:AK105)-1,COLUMNS($AK$105:AK105)-1)<>\"\",OFFSET(DE104_3!$AK$105,ROWS($AK$105:AK105)-1,COLUMNS($AK$105:AK105)-1),\"\")","v":""},{"$f":"IF(OFFSET(DE104_3!$AL$105,ROWS($AL$105:AL105)-1,COLUMNS($AL$105:AL105)-1)<>\"\",OFFSET(DE104_3!$AL$105,ROWS($AL$105:AL105)-1,COLUMNS($AL$105:AL105)-1),\"\")","v":""},{"$f":"IF(OFFSET(DE104_3!$AM$105,ROWS($AM$105:AM105)-1,COLUMNS($AM$105:AM105)-1)<>\"\",OFFSET(DE104_3!$AM$105,ROWS($AM$105:AM105)-1,COLUMNS($AM$105:AM105)-1),\"\")","v":""},{"$f":"IF(OFFSET(DE104_3!$AN$105,ROWS($AN$105:AN105)-1,COLUMNS($AN$105:AN105)-1)<>\"\",OFFSET(DE104_3!$AN$105,ROWS($AN$105:AN105)-1,COLUMNS($AN$105:AN105)-1),\"\")","v":""},{"$f":"IF(OFFSET(DE104_3!$AO$105,ROWS($AO$105:AO105)-1,COLUMNS($AO$105:AO105)-1)<>\"\",OFFSET(DE104_3!$AO$105,ROWS($AO$105:AO105)-1,COLUMNS($AO$105:AO105)-1),\"\")","v":""},{"$f":"IF(OFFSET(DE104_3!$AP$105,ROWS($AP$105:AP105)-1,COLUMNS($AP$105:AP105)-1)<>\"\",OFFSET(DE104_3!$AP$105,ROWS($AP$105:AP105)-1,COLUMNS($AP$105:AP105)-1),\"\")","v":""},{"$f":"IF(OFFSET(DE104_3!$AQ$105,ROWS($AQ$105:AQ105)-1,COLUMNS($AQ$105:AQ105)-1)<>\"\",OFFSET(DE104_3!$AQ$105,ROWS($AQ$105:AQ105)-1,COLUMNS($AQ$105:AQ105)-1),\"\")","v":""}]
[{"$f":"IF(OFFSET(DE104_3!$C$105,ROWS($C$105:C106)-1,COLUMNS($C$105:C106)-1)<>\"\",OFFSET(DE104_3!$C$105,ROWS($C$105:C106)-1,COLUMNS($C$105:C106)-1),\"\")","v":""},{"$f":"IF(OFFSET(DE104_3!$D$105,ROWS($D$105:D106)-1,COLUMNS($D$105:D106)-1)<>\"\",OFFSET(DE104_3!$D$105,ROWS($D$105:D106)-1,COLUMNS($D$105:D106)-1),\"\")","v":""},{"$f":"IF(OFFSET(DE104_3!$E$105,ROWS($E$105:E106)-1,COLUMNS($E$105:E106)-1)<>\"\",OFFSET(DE104_3!$E$105,ROWS($E$105:E106)-1,COLUMNS($E$105:E106)-1),\"\")","v":""},{"$f":"IF(OFFSET(DE104_3!$F$105,ROWS($F$105:F106)-1,COLUMNS($F$105:F106)-1)<>\"\",OFFSET(DE104_3!$F$105,ROWS($F$105:F106)-1,COLUMNS($F$105:F106)-1),\"\")","v":""},{"$f":"IF(OFFSET(DE104_3!$G$105,ROWS($G$105:G106)-1,COLUMNS($G$105:G106)-1)<>\"\",OFFSET(DE104_3!$G$105,ROWS($G$105:G106)-1,COLUMNS($G$105:G106)-1),\"\")","v":""},{"$f":"IF(OFFSET(DE104_3!$H$105,ROWS($H$105:H106)-1,COLUMNS($H$105:H106)-1)<>\"\",OFFSET(DE104_3!$H$105,ROWS($H$105:H106)-1,COLUMNS($H$105:H106)-1),\"\")","v":""},{"$f":"IF(OFFSET(DE104_3!$I$105,ROWS($I$105:I106)-1,COLUMNS($I$105:I106)-1)<>\"\",OFFSET(DE104_3!$I$105,ROWS($I$105:I106)-1,COLUMNS($I$105:I106)-1),\"\")","v":""},{"$f":"IF(OFFSET(DE104_3!$J$105,ROWS($J$105:J106)-1,COLUMNS($J$105:J106)-1)<>\"\",OFFSET(DE104_3!$J$105,ROWS($J$105:J106)-1,COLUMNS($J$105:J106)-1),\"\")","v":""},{"$f":"IF(OFFSET(DE104_3!$K$105,ROWS($K$105:K106)-1,COLUMNS($K$105:K106)-1)<>\"\",OFFSET(DE104_3!$K$105,ROWS($K$105:K106)-1,COLUMNS($K$105:K106)-1),\"\")","v":""},{"$f":"IF(OFFSET(DE104_3!$L$105,ROWS($L$105:L106)-1,COLUMNS($L$105:L106)-1)<>\"\",OFFSET(DE104_3!$L$105,ROWS($L$105:L106)-1,COLUMNS($L$105:L106)-1),\"\")","v":""},{"$f":"IF(OFFSET(DE104_3!$M$105,ROWS($M$105:M106)-1,COLUMNS($M$105:M106)-1)<>\"\",OFFSET(DE104_3!$M$105,ROWS($M$105:M106)-1,COLUMNS($M$105:M106)-1),\"\")","v":""},{"$f":"IF(OFFSET(DE104_3!$N$105,ROWS($N$105:N106)-1,COLUMNS($N$105:N106)-1)<>\"\",OFFSET(DE104_3!$N$105,ROWS($N$105:N106)-1,COLUMNS($N$105:N106)-1),\"\")","v":""},{"$f":"IF(OFFSET(DE104_3!$O$105,ROWS($O$105:O106)-1,COLUMNS($O$105:O106)-1)<>\"\",OFFSET(DE104_3!$O$105,ROWS($O$105:O106)-1,COLUMNS($O$105:O106)-1),\"\")","v":""},{"$f":"IF(OFFSET(DE104_3!$P$105,ROWS($P$105:P106)-1,COLUMNS($P$105:P106)-1)<>\"\",OFFSET(DE104_3!$P$105,ROWS($P$105:P106)-1,COLUMNS($P$105:P106)-1),\"\")","v":""},{"$f":"IF(OFFSET(DE104_3!$Q$105,ROWS($Q$105:Q106)-1,COLUMNS($Q$105:Q106)-1)<>\"\",OFFSET(DE104_3!$Q$105,ROWS($Q$105:Q106)-1,COLUMNS($Q$105:Q106)-1),\"\")","v":""},{"$f":"IF(OFFSET(DE104_3!$R$105,ROWS($R$105:R106)-1,COLUMNS($R$105:R106)-1)<>\"\",OFFSET(DE104_3!$R$105,ROWS($R$105:R106)-1,COLUMNS($R$105:R106)-1),\"\")","v":""},{"$f":"IF(OFFSET(DE104_3!$S$105,ROWS($S$105:S106)-1,COLUMNS($S$105:S106)-1)<>\"\",OFFSET(DE104_3!$S$105,ROWS($S$105:S106)-1,COLUMNS($S$105:S106)-1),\"\")","v":""},{"$f":"IF(OFFSET(DE104_3!$T$105,ROWS($T$105:T106)-1,COLUMNS($T$105:T106)-1)<>\"\",OFFSET(DE104_3!$T$105,ROWS($T$105:T106)-1,COLUMNS($T$105:T106)-1),\"\")","v":""},{"$f":"IF(OFFSET(DE104_3!$U$105,ROWS($U$105:U106)-1,COLUMNS($U$105:U106)-1)<>\"\",OFFSET(DE104_3!$U$105,ROWS($U$105:U106)-1,COLUMNS($U$105:U106)-1),\"\")","v":""},{"$f":"IF(OFFSET(DE104_3!$V$105,ROWS($V$105:V106)-1,COLUMNS($V$105:V106)-1)<>\"\",OFFSET(DE104_3!$V$105,ROWS($V$105:V106)-1,COLUMNS($V$105:V106)-1),\"\")","v":""},{"$f":"IF(OFFSET(DE104_3!$W$105,ROWS($W$105:W106)-1,COLUMNS($W$105:W106)-1)<>\"\",OFFSET(DE104_3!$W$105,ROWS($W$105:W106)-1,COLUMNS($W$105:W106)-1),\"\")","v":""},{"$f":"IF(OFFSET(DE104_3!$X$105,ROWS($X$105:X106)-1,COLUMNS($X$105:X106)-1)<>\"\",OFFSET(DE104_3!$X$105,ROWS($X$105:X106)-1,COLUMNS($X$105:X106)-1),\"\")","v":""},{"$f":"IF(OFFSET(DE104_3!$Y$105,ROWS($Y$105:Y106)-1,COLUMNS($Y$105:Y106)-1)<>\"\",OFFSET(DE104_3!$Y$105,ROWS($Y$105:Y106)-1,COLUMNS($Y$105:Y106)-1),\"\")","v":""},{"$f":"IF(OFFSET(DE104_3!$Z$105,ROWS($Z$105:Z106)-1,COLUMNS($Z$105:Z106)-1)<>\"\",OFFSET(DE104_3!$Z$105,ROWS($Z$105:Z106)-1,COLUMNS($Z$105:Z106)-1),\"\")","v":""},{"$f":"IF(OFFSET(DE104_3!$AA$105,ROWS($AA$105:AA106)-1,COLUMNS($AA$105:AA106)-1)<>\"\",OFFSET(DE104_3!$AA$105,ROWS($AA$105:AA106)-1,COLUMNS($AA$105:AA106)-1),\"\")","v":""},{"$f":"IF(OFFSET(DE104_3!$AB$105,ROWS($AB$105:AB106)-1,COLUMNS($AB$105:AB106)-1)<>\"\",OFFSET(DE104_3!$AB$105,ROWS($AB$105:AB106)-1,COLUMNS($AB$105:AB106)-1),\"\")","v":""},{"$f":"IF(OFFSET(DE104_3!$AC$105,ROWS($AC$105:AC106)-1,COLUMNS($AC$105:AC106)-1)<>\"\",OFFSET(DE104_3!$AC$105,ROWS($AC$105:AC106)-1,COLUMNS($AC$105:AC106)-1),\"\")","v":""},{"$f":"IF(OFFSET(DE104_3!$AD$105,ROWS($AD$105:AD106)-1,COLUMNS($AD$105:AD106)-1)<>\"\",OFFSET(DE104_3!$AD$105,ROWS($AD$105:AD106)-1,COLUMNS($AD$105:AD106)-1),\"\")","v":""},{"$f":"IF(OFFSET(DE104_3!$AE$105,ROWS($AE$105:AE106)-1,COLUMNS($AE$105:AE106)-1)<>\"\",OFFSET(DE104_3!$AE$105,ROWS($AE$105:AE106)-1,COLUMNS($AE$105:AE106)-1),\"\")","v":""},{"$f":"IF(OFFSET(DE104_3!$AF$105,ROWS($AF$105:AF106)-1,COLUMNS($AF$105:AF106)-1)<>\"\",OFFSET(DE104_3!$AF$105,ROWS($AF$105:AF106)-1,COLUMNS($AF$105:AF106)-1),\"\")","v":""},{"$f":"IF(OFFSET(DE104_3!$AG$105,ROWS($AG$105:AG106)-1,COLUMNS($AG$105:AG106)-1)<>\"\",OFFSET(DE104_3!$AG$105,ROWS($AG$105:AG106)-1,COLUMNS($AG$105:AG106)-1),\"\")","v":""},{"$f":"IF(OFFSET(DE104_3!$AH$105,ROWS($AH$105:AH106)-1,COLUMNS($AH$105:AH106)-1)<>\"\",OFFSET(DE104_3!$AH$105,ROWS($AH$105:AH106)-1,COLUMNS($AH$105:AH106)-1),\"\")","v":""},{"$f":"IF(OFFSET(DE104_3!$AI$105,ROWS($AI$105:AI106)-1,COLUMNS($AI$105:AI106)-1)<>\"\",OFFSET(DE104_3!$AI$105,ROWS($AI$105:AI106)-1,COLUMNS($AI$105:AI106)-1),\"\")","v":""},{"$f":"IF(OFFSET(DE104_3!$AJ$105,ROWS($AJ$105:AJ106)-1,COLUMNS($AJ$105:AJ106)-1)<>\"\",OFFSET(DE104_3!$AJ$105,ROWS($AJ$105:AJ106)-1,COLUMNS($AJ$105:AJ106)-1),\"\")","v":""},{"$f":"IF(OFFSET(DE104_3!$AK$105,ROWS($AK$105:AK106)-1,COLUMNS($AK$105:AK106)-1)<>\"\",OFFSET(DE104_3!$AK$105,ROWS($AK$105:AK106)-1,COLUMNS($AK$105:AK106)-1),\"\")","v":""},{"$f":"IF(OFFSET(DE104_3!$AL$105,ROWS($AL$105:AL106)-1,COLUMNS($AL$105:AL106)-1)<>\"\",OFFSET(DE104_3!$AL$105,ROWS($AL$105:AL106)-1,COLUMNS($AL$105:AL106)-1),\"\")","v":""},{"$f":"IF(OFFSET(DE104_3!$AM$105,ROWS($AM$105:AM106)-1,COLUMNS($AM$105:AM106)-1)<>\"\",OFFSET(DE104_3!$AM$105,ROWS($AM$105:AM106)-1,COLUMNS($AM$105:AM106)-1),\"\")","v":""},{"$f":"IF(OFFSET(DE104_3!$AN$105,ROWS($AN$105:AN106)-1,COLUMNS($AN$105:AN106)-1)<>\"\",OFFSET(DE104_3!$AN$105,ROWS($AN$105:AN106)-1,COLUMNS($AN$105:AN106)-1),\"\")","v":""},{"$f":"IF(OFFSET(DE104_3!$AO$105,ROWS($AO$105:AO106)-1,COLUMNS($AO$105:AO106)-1)<>\"\",OFFSET(DE104_3!$AO$105,ROWS($AO$105:AO106)-1,COLUMNS($AO$105:AO106)-1),\"\")","v":""},{"$f":"IF(OFFSET(DE104_3!$AP$105,ROWS($AP$105:AP106)-1,COLUMNS($AP$105:AP106)-1)<>\"\",OFFSET(DE104_3!$AP$105,ROWS($AP$105:AP106)-1,COLUMNS($AP$105:AP106)-1),\"\")","v":""},{"$f":"IF(OFFSET(DE104_3!$AQ$105,ROWS($AQ$105:AQ106)-1,COLUMNS($AQ$105:AQ106)-1)<>\"\",OFFSET(DE104_3!$AQ$105,ROWS($AQ$105:AQ106)-1,COLUMNS($AQ$105:AQ106)-1),\"\")","v":""}]
[{"$f":"IF(OFFSET(DE104_3!$C$105,ROWS($C$105:C107)-1,COLUMNS($C$105:C107)-1)<>\"\",OFFSET(DE104_3!$C$105,ROWS($C$105:C107)-1,COLUMNS($C$105:C107)-1),\"\")","v":""},{"$f":"IF(OFFSET(DE104_3!$D$105,ROWS($D$105:D107)-1,COLUMNS($D$105:D107)-1)<>\"\",OFFSET(DE104_3!$D$105,ROWS($D$105:D107)-1,COLUMNS($D$105:D107)-1),\"\")","v":""},{"$f":"IF(OFFSET(DE104_3!$E$105,ROWS($E$105:E107)-1,COLUMNS($E$105:E107)-1)<>\"\",OFFSET(DE104_3!$E$105,ROWS($E$105:E107)-1,COLUMNS($E$105:E107)-1),\"\")","v":""},{"$f":"IF(OFFSET(DE104_3!$F$105,ROWS($F$105:F107)-1,COLUMNS($F$105:F107)-1)<>\"\",OFFSET(DE104_3!$F$105,ROWS($F$105:F107)-1,COLUMNS($F$105:F107)-1),\"\")","v":""},{"$f":"IF(OFFSET(DE104_3!$G$105,ROWS($G$105:G107)-1,COLUMNS($G$105:G107)-1)<>\"\",OFFSET(DE104_3!$G$105,ROWS($G$105:G107)-1,COLUMNS($G$105:G107)-1),\"\")","v":""},{"$f":"IF(OFFSET(DE104_3!$H$105,ROWS($H$105:H107)-1,COLUMNS($H$105:H107)-1)<>\"\",OFFSET(DE104_3!$H$105,ROWS($H$105:H107)-1,COLUMNS($H$105:H107)-1),\"\")","v":""},{"$f":"IF(OFFSET(DE104_3!$I$105,ROWS($I$105:I107)-1,COLUMNS($I$105:I107)-1)<>\"\",OFFSET(DE104_3!$I$105,ROWS($I$105:I107)-1,COLUMNS($I$105:I107)-1),\"\")","v":""},{"$f":"IF(OFFSET(DE104_3!$J$105,ROWS($J$105:J107)-1,COLUMNS($J$105:J107)-1)<>\"\",OFFSET(DE104_3!$J$105,ROWS($J$105:J107)-1,COLUMNS($J$105:J107)-1),\"\")","v":""},{"$f":"IF(OFFSET(DE104_3!$K$105,ROWS($K$105:K107)-1,COLUMNS($K$105:K107)-1)<>\"\",OFFSET(DE104_3!$K$105,ROWS($K$105:K107)-1,COLUMNS($K$105:K107)-1),\"\")","v":""},{"$f":"IF(OFFSET(DE104_3!$L$105,ROWS($L$105:L107)-1,COLUMNS($L$105:L107)-1)<>\"\",OFFSET(DE104_3!$L$105,ROWS($L$105:L107)-1,COLUMNS($L$105:L107)-1),\"\")","v":""},{"$f":"IF(OFFSET(DE104_3!$M$105,ROWS($M$105:M107)-1,COLUMNS($M$105:M107)-1)<>\"\",OFFSET(DE104_3!$M$105,ROWS($M$105:M107)-1,COLUMNS($M$105:M107)-1),\"\")","v":""},{"$f":"IF(OFFSET(DE104_3!$N$105,ROWS($N$105:N107)-1,COLUMNS($N$105:N107)-1)<>\"\",OFFSET(DE104_3!$N$105,ROWS($N$105:N107)-1,COLUMNS($N$105:N107)-1),\"\")","v":""},{"$f":"IF(OFFSET(DE104_3!$O$105,ROWS($O$105:O107)-1,COLUMNS($O$105:O107)-1)<>\"\",OFFSET(DE104_3!$O$105,ROWS($O$105:O107)-1,COLUMNS($O$105:O107)-1),\"\")","v":""},{"$f":"IF(OFFSET(DE104_3!$P$105,ROWS($P$105:P107)-1,COLUMNS($P$105:P107)-1)<>\"\",OFFSET(DE104_3!$P$105,ROWS($P$105:P107)-1,COLUMNS($P$105:P107)-1),\"\")","v":""},{"$f":"IF(OFFSET(DE104_3!$Q$105,ROWS($Q$105:Q107)-1,COLUMNS($Q$105:Q107)-1)<>\"\",OFFSET(DE104_3!$Q$105,ROWS($Q$105:Q107)-1,COLUMNS($Q$105:Q107)-1),\"\")","v":""},{"$f":"IF(OFFSET(DE104_3!$R$105,ROWS($R$105:R107)-1,COLUMNS($R$105:R107)-1)<>\"\",OFFSET(DE104_3!$R$105,ROWS($R$105:R107)-1,COLUMNS($R$105:R107)-1),\"\")","v":""},{"$f":"IF(OFFSET(DE104_3!$S$105,ROWS($S$105:S107)-1,COLUMNS($S$105:S107)-1)<>\"\",OFFSET(DE104_3!$S$105,ROWS($S$105:S107)-1,COLUMNS($S$105:S107)-1),\"\")","v":""},{"$f":"IF(OFFSET(DE104_3!$T$105,ROWS($T$105:T107)-1,COLUMNS($T$105:T107)-1)<>\"\",OFFSET(DE104_3!$T$105,ROWS($T$105:T107)-1,COLUMNS($T$105:T107)-1),\"\")","v":""},{"$f":"IF(OFFSET(DE104_3!$U$105,ROWS($U$105:U107)-1,COLUMNS($U$105:U107)-1)<>\"\",OFFSET(DE104_3!$U$105,ROWS($U$105:U107)-1,COLUMNS($U$105:U107)-1),\"\")","v":""},{"$f":"IF(OFFSET(DE104_3!$V$105,ROWS($V$105:V107)-1,COLUMNS($V$105:V107)-1)<>\"\",OFFSET(DE104_3!$V$105,ROWS($V$105:V107)-1,COLUMNS($V$105:V107)-1),\"\")","v":""},{"$f":"IF(OFFSET(DE104_3!$W$105,ROWS($W$105:W107)-1,COLUMNS($W$105:W107)-1)<>\"\",OFFSET(DE104_3!$W$105,ROWS($W$105:W107)-1,COLUMNS($W$105:W107)-1),\"\")","v":""},{"$f":"IF(OFFSET(DE104_3!$X$105,ROWS($X$105:X107)-1,COLUMNS($X$105:X107)-1)<>\"\",OFFSET(DE104_3!$X$105,ROWS($X$105:X107)-1,COLUMNS($X$105:X107)-1),\"\")","v":""},{"$f":"IF(OFFSET(DE104_3!$Y$105,ROWS($Y$105:Y107)-1,COLUMNS($Y$105:Y107)-1)<>\"\",OFFSET(DE104_3!$Y$105,ROWS($Y$105:Y107)-1,COLUMNS($Y$105:Y107)-1),\"\")","v":""},{"$f":"IF(OFFSET(DE104_3!$Z$105,ROWS($Z$105:Z107)-1,COLUMNS($Z$105:Z107)-1)<>\"\",OFFSET(DE104_3!$Z$105,ROWS($Z$105:Z107)-1,COLUMNS($Z$105:Z107)-1),\"\")","v":""},{"$f":"IF(OFFSET(DE104_3!$AA$105,ROWS($AA$105:AA107)-1,COLUMNS($AA$105:AA107)-1)<>\"\",OFFSET(DE104_3!$AA$105,ROWS($AA$105:AA107)-1,COLUMNS($AA$105:AA107)-1),\"\")","v":""},{"$f":"IF(OFFSET(DE104_3!$AB$105,ROWS($AB$105:AB107)-1,COLUMNS($AB$105:AB107)-1)<>\"\",OFFSET(DE104_3!$AB$105,ROWS($AB$105:AB107)-1,COLUMNS($AB$105:AB107)-1),\"\")","v":""},{"$f":"IF(OFFSET(DE104_3!$AC$105,ROWS($AC$105:AC107)-1,COLUMNS($AC$105:AC107)-1)<>\"\",OFFSET(DE104_3!$AC$105,ROWS($AC$105:AC107)-1,COLUMNS($AC$105:AC107)-1),\"\")","v":""},{"$f":"IF(OFFSET(DE104_3!$AD$105,ROWS($AD$105:AD107)-1,COLUMNS($AD$105:AD107)-1)<>\"\",OFFSET(DE104_3!$AD$105,ROWS($AD$105:AD107)-1,COLUMNS($AD$105:AD107)-1),\"\")","v":""},{"$f":"IF(OFFSET(DE104_3!$AE$105,ROWS($AE$105:AE107)-1,COLUMNS($AE$105:AE107)-1)<>\"\",OFFSET(DE104_3!$AE$105,ROWS($AE$105:AE107)-1,COLUMNS($AE$105:AE107)-1),\"\")","v":""},{"$f":"IF(OFFSET(DE104_3!$AF$105,ROWS($AF$105:AF107)-1,COLUMNS($AF$105:AF107)-1)<>\"\",OFFSET(DE104_3!$AF$105,ROWS($AF$105:AF107)-1,COLUMNS($AF$105:AF107)-1),\"\")","v":""},{"$f":"IF(OFFSET(DE104_3!$AG$105,ROWS($AG$105:AG107)-1,COLUMNS($AG$105:AG107)-1)<>\"\",OFFSET(DE104_3!$AG$105,ROWS($AG$105:AG107)-1,COLUMNS($AG$105:AG107)-1),\"\")","v":""},{"$f":"IF(OFFSET(DE104_3!$AH$105,ROWS($AH$105:AH107)-1,COLUMNS($AH$105:AH107)-1)<>\"\",OFFSET(DE104_3!$AH$105,ROWS($AH$105:AH107)-1,COLUMNS($AH$105:AH107)-1),\"\")","v":""},{"$f":"IF(OFFSET(DE104_3!$AI$105,ROWS($AI$105:AI107)-1,COLUMNS($AI$105:AI107)-1)<>\"\",OFFSET(DE104_3!$AI$105,ROWS($AI$105:AI107)-1,COLUMNS($AI$105:AI107)-1),\"\")","v":""},{"$f":"IF(OFFSET(DE104_3!$AJ$105,ROWS($AJ$105:AJ107)-1,COLUMNS($AJ$105:AJ107)-1)<>\"\",OFFSET(DE104_3!$AJ$105,ROWS($AJ$105:AJ107)-1,COLUMNS($AJ$105:AJ107)-1),\"\")","v":""},{"$f":"IF(OFFSET(DE104_3!$AK$105,ROWS($AK$105:AK107)-1,COLUMNS($AK$105:AK107)-1)<>\"\",OFFSET(DE104_3!$AK$105,ROWS($AK$105:AK107)-1,COLUMNS($AK$105:AK107)-1),\"\")","v":""},{"$f":"IF(OFFSET(DE104_3!$AL$105,ROWS($AL$105:AL107)-1,COLUMNS($AL$105:AL107)-1)<>\"\",OFFSET(DE104_3!$AL$105,ROWS($AL$105:AL107)-1,COLUMNS($AL$105:AL107)-1),\"\")","v":""},{"$f":"IF(OFFSET(DE104_3!$AM$105,ROWS($AM$105:AM107)-1,COLUMNS($AM$105:AM107)-1)<>\"\",OFFSET(DE104_3!$AM$105,ROWS($AM$105:AM107)-1,COLUMNS($AM$105:AM107)-1),\"\")","v":""},{"$f":"IF(OFFSET(DE104_3!$AN$105,ROWS($AN$105:AN107)-1,COLUMNS($AN$105:AN107)-1)<>\"\",OFFSET(DE104_3!$AN$105,ROWS($AN$105:AN107)-1,COLUMNS($AN$105:AN107)-1),\"\")","v":""},{"$f":"IF(OFFSET(DE104_3!$AO$105,ROWS($AO$105:AO107)-1,COLUMNS($AO$105:AO107)-1)<>\"\",OFFSET(DE104_3!$AO$105,ROWS($AO$105:AO107)-1,COLUMNS($AO$105:AO107)-1),\"\")","v":""},{"$f":"IF(OFFSET(DE104_3!$AP$105,ROWS($AP$105:AP107)-1,COLUMNS($AP$105:AP107)-1)<>\"\",OFFSET(DE104_3!$AP$105,ROWS($AP$105:AP107)-1,COLUMNS($AP$105:AP107)-1),\"\")","v":""},{"$f":"IF(OFFSET(DE104_3!$AQ$105,ROWS($AQ$105:AQ107)-1,COLUMNS($AQ$105:AQ107)-1)<>\"\",OFFSET(DE104_3!$AQ$105,ROWS($AQ$105:AQ107)-1,COLUMNS($AQ$105:AQ107)-1),\"\")","v":""}]
[{"$f":"IF(OFFSET(DE104_3!$C$105,ROWS($C$105:C108)-1,COLUMNS($C$105:C108)-1)<>\"\",OFFSET(DE104_3!$C$105,ROWS($C$105:C108)-1,COLUMNS($C$105:C108)-1),\"\")","v":""},{"$f":"IF(OFFSET(DE104_3!$D$105,ROWS($D$105:D108)-1,COLUMNS($D$105:D108)-1)<>\"\",OFFSET(DE104_3!$D$105,ROWS($D$105:D108)-1,COLUMNS($D$105:D108)-1),\"\")","v":""},{"$f":"IF(OFFSET(DE104_3!$E$105,ROWS($E$105:E108)-1,COLUMNS($E$105:E108)-1)<>\"\",OFFSET(DE104_3!$E$105,ROWS($E$105:E108)-1,COLUMNS($E$105:E108)-1),\"\")","v":""},{"$f":"IF(OFFSET(DE104_3!$F$105,ROWS($F$105:F108)-1,COLUMNS($F$105:F108)-1)<>\"\",OFFSET(DE104_3!$F$105,ROWS($F$105:F108)-1,COLUMNS($F$105:F108)-1),\"\")","v":""},{"$f":"IF(OFFSET(DE104_3!$G$105,ROWS($G$105:G108)-1,COLUMNS($G$105:G108)-1)<>\"\",OFFSET(DE104_3!$G$105,ROWS($G$105:G108)-1,COLUMNS($G$105:G108)-1),\"\")","v":""},{"$f":"IF(OFFSET(DE104_3!$H$105,ROWS($H$105:H108)-1,COLUMNS($H$105:H108)-1)<>\"\",OFFSET(DE104_3!$H$105,ROWS($H$105:H108)-1,COLUMNS($H$105:H108)-1),\"\")","v":""},{"$f":"IF(OFFSET(DE104_3!$I$105,ROWS($I$105:I108)-1,COLUMNS($I$105:I108)-1)<>\"\",OFFSET(DE104_3!$I$105,ROWS($I$105:I108)-1,COLUMNS($I$105:I108)-1),\"\")","v":""},{"$f":"IF(OFFSET(DE104_3!$J$105,ROWS($J$105:J108)-1,COLUMNS($J$105:J108)-1)<>\"\",OFFSET(DE104_3!$J$105,ROWS($J$105:J108)-1,COLUMNS($J$105:J108)-1),\"\")","v":""},{"$f":"IF(OFFSET(DE104_3!$K$105,ROWS($K$105:K108)-1,COLUMNS($K$105:K108)-1)<>\"\",OFFSET(DE104_3!$K$105,ROWS($K$105:K108)-1,COLUMNS($K$105:K108)-1),\"\")","v":""},{"$f":"IF(OFFSET(DE104_3!$L$105,ROWS($L$105:L108)-1,COLUMNS($L$105:L108)-1)<>\"\",OFFSET(DE104_3!$L$105,ROWS($L$105:L108)-1,COLUMNS($L$105:L108)-1),\"\")","v":""},{"$f":"IF(OFFSET(DE104_3!$M$105,ROWS($M$105:M108)-1,COLUMNS($M$105:M108)-1)<>\"\",OFFSET(DE104_3!$M$105,ROWS($M$105:M108)-1,COLUMNS($M$105:M108)-1),\"\")","v":""},{"$f":"IF(OFFSET(DE104_3!$N$105,ROWS($N$105:N108)-1,COLUMNS($N$105:N108)-1)<>\"\",OFFSET(DE104_3!$N$105,ROWS($N$105:N108)-1,COLUMNS($N$105:N108)-1),\"\")","v":""},{"$f":"IF(OFFSET(DE104_3!$O$105,ROWS($O$105:O108)-1,COLUMNS($O$105:O108)-1)<>\"\",OFFSET(DE104_3!$O$105,ROWS($O$105:O108)-1,COLUMNS($O$105:O108)-1),\"\")","v":""},{"$f":"IF(OFFSET(DE104_3!$P$105,ROWS($P$105:P108)-1,COLUMNS($P$105:P108)-1)<>\"\",OFFSET(DE104_3!$P$105,ROWS($P$105:P108)-1,COLUMNS($P$105:P108)-1),\"\")","v":""},{"$f":"IF(OFFSET(DE104_3!$Q$105,ROWS($Q$105:Q108)-1,COLUMNS($Q$105:Q108)-1)<>\"\",OFFSET(DE104_3!$Q$105,ROWS($Q$105:Q108)-1,COLUMNS($Q$105:Q108)-1),\"\")","v":""},{"$f":"IF(OFFSET(DE104_3!$R$105,ROWS($R$105:R108)-1,COLUMNS($R$105:R108)-1)<>\"\",OFFSET(DE104_3!$R$105,ROWS($R$105:R108)-1,COLUMNS($R$105:R108)-1),\"\")","v":""},{"$f":"IF(OFFSET(DE104_3!$S$105,ROWS($S$105:S108)-1,COLUMNS($S$105:S108)-1)<>\"\",OFFSET(DE104_3!$S$105,ROWS($S$105:S108)-1,COLUMNS($S$105:S108)-1),\"\")","v":""},{"$f":"IF(OFFSET(DE104_3!$T$105,ROWS($T$105:T108)-1,COLUMNS($T$105:T108)-1)<>\"\",OFFSET(DE104_3!$T$105,ROWS($T$105:T108)-1,COLUMNS($T$105:T108)-1),\"\")","v":""},{"$f":"IF(OFFSET(DE104_3!$U$105,ROWS($U$105:U108)-1,COLUMNS($U$105:U108)-1)<>\"\",OFFSET(DE104_3!$U$105,ROWS($U$105:U108)-1,COLUMNS($U$105:U108)-1),\"\")","v":""},{"$f":"IF(OFFSET(DE104_3!$V$105,ROWS($V$105:V108)-1,COLUMNS($V$105:V108)-1)<>\"\",OFFSET(DE104_3!$V$105,ROWS($V$105:V108)-1,COLUMNS($V$105:V108)-1),\"\")","v":""},{"$f":"IF(OFFSET(DE104_3!$W$105,ROWS($W$105:W108)-1,COLUMNS($W$105:W108)-1)<>\"\",OFFSET(DE104_3!$W$105,ROWS($W$105:W108)-1,COLUMNS($W$105:W108)-1),\"\")","v":""},{"$f":"IF(OFFSET(DE104_3!$X$105,ROWS($X$105:X108)-1,COLUMNS($X$105:X108)-1)<>\"\",OFFSET(DE104_3!$X$105,ROWS($X$105:X108)-1,COLUMNS($X$105:X108)-1),\"\")","v":""},{"$f":"IF(OFFSET(DE104_3!$Y$105,ROWS($Y$105:Y108)-1,COLUMNS($Y$105:Y108)-1)<>\"\",OFFSET(DE104_3!$Y$105,ROWS($Y$105:Y108)-1,COLUMNS($Y$105:Y108)-1),\"\")","v":""},{"$f":"IF(OFFSET(DE104_3!$Z$105,ROWS($Z$105:Z108)-1,COLUMNS($Z$105:Z108)-1)<>\"\",OFFSET(DE104_3!$Z$105,ROWS($Z$105:Z108)-1,COLUMNS($Z$105:Z108)-1),\"\")","v":""},{"$f":"IF(OFFSET(DE104_3!$AA$105,ROWS($AA$105:AA108)-1,COLUMNS($AA$105:AA108)-1)<>\"\",OFFSET(DE104_3!$AA$105,ROWS($AA$105:AA108)-1,COLUMNS($AA$105:AA108)-1),\"\")","v":""},{"$f":"IF(OFFSET(DE104_3!$AB$105,ROWS($AB$105:AB108)-1,COLUMNS($AB$105:AB108)-1)<>\"\",OFFSET(DE104_3!$AB$105,ROWS($AB$105:AB108)-1,COLUMNS($AB$105:AB108)-1),\"\")","v":""},{"$f":"IF(OFFSET(DE104_3!$AC$105,ROWS($AC$105:AC108)-1,COLUMNS($AC$105:AC108)-1)<>\"\",OFFSET(DE104_3!$AC$105,ROWS($AC$105:AC108)-1,COLUMNS($AC$105:AC108)-1),\"\")","v":""},{"$f":"IF(OFFSET(DE104_3!$AD$105,ROWS($AD$105:AD108)-1,COLUMNS($AD$105:AD108)-1)<>\"\",OFFSET(DE104_3!$AD$105,ROWS($AD$105:AD108)-1,COLUMNS($AD$105:AD108)-1),\"\")","v":""},{"$f":"IF(OFFSET(DE104_3!$AE$105,ROWS($AE$105:AE108)-1,COLUMNS($AE$105:AE108)-1)<>\"\",OFFSET(DE104_3!$AE$105,ROWS($AE$105:AE108)-1,COLUMNS($AE$105:AE108)-1),\"\")","v":""},{"$f":"IF(OFFSET(DE104_3!$AF$105,ROWS($AF$105:AF108)-1,COLUMNS($AF$105:AF108)-1)<>\"\",OFFSET(DE104_3!$AF$105,ROWS($AF$105:AF108)-1,COLUMNS($AF$105:AF108)-1),\"\")","v":""},{"$f":"IF(OFFSET(DE104_3!$AG$105,ROWS($AG$105:AG108)-1,COLUMNS($AG$105:AG108)-1)<>\"\",OFFSET(DE104_3!$AG$105,ROWS($AG$105:AG108)-1,COLUMNS($AG$105:AG108)-1),\"\")","v":""},{"$f":"IF(OFFSET(DE104_3!$AH$105,ROWS($AH$105:AH108)-1,COLUMNS($AH$105:AH108)-1)<>\"\",OFFSET(DE104_3!$AH$105,ROWS($AH$105:AH108)-1,COLUMNS($AH$105:AH108)-1),\"\")","v":""},{"$f":"IF(OFFSET(DE104_3!$AI$105,ROWS($AI$105:AI108)-1,COLUMNS($AI$105:AI108)-1)<>\"\",OFFSET(DE104_3!$AI$105,ROWS($AI$105:AI108)-1,COLUMNS($AI$105:AI108)-1),\"\")","v":""},{"$f":"IF(OFFSET(DE104_3!$AJ$105,ROWS($AJ$105:AJ108)-1,COLUMNS($AJ$105:AJ108)-1)<>\"\",OFFSET(DE104_3!$AJ$105,ROWS($AJ$105:AJ108)-1,COLUMNS($AJ$105:AJ108)-1),\"\")","v":""},{"$f":"IF(OFFSET(DE104_3!$AK$105,ROWS($AK$105:AK108)-1,COLUMNS($AK$105:AK108)-1)<>\"\",OFFSET(DE104_3!$AK$105,ROWS($AK$105:AK108)-1,COLUMNS($AK$105:AK108)-1),\"\")","v":""},{"$f":"IF(OFFSET(DE104_3!$AL$105,ROWS($AL$105:AL108)-1,COLUMNS($AL$105:AL108)-1)<>\"\",OFFSET(DE104_3!$AL$105,ROWS($AL$105:AL108)-1,COLUMNS($AL$105:AL108)-1),\"\")","v":""},{"$f":"IF(OFFSET(DE104_3!$AM$105,ROWS($AM$105:AM108)-1,COLUMNS($AM$105:AM108)-1)<>\"\",OFFSET(DE104_3!$AM$105,ROWS($AM$105:AM108)-1,COLUMNS($AM$105:AM108)-1),\"\")","v":""},{"$f":"IF(OFFSET(DE104_3!$AN$105,ROWS($AN$105:AN108)-1,COLUMNS($AN$105:AN108)-1)<>\"\",OFFSET(DE104_3!$AN$105,ROWS($AN$105:AN108)-1,COLUMNS($AN$105:AN108)-1),\"\")","v":""},{"$f":"IF(OFFSET(DE104_3!$AO$105,ROWS($AO$105:AO108)-1,COLUMNS($AO$105:AO108)-1)<>\"\",OFFSET(DE104_3!$AO$105,ROWS($AO$105:AO108)-1,COLUMNS($AO$105:AO108)-1),\"\")","v":""},{"$f":"IF(OFFSET(DE104_3!$AP$105,ROWS($AP$105:AP108)-1,COLUMNS($AP$105:AP108)-1)<>\"\",OFFSET(DE104_3!$AP$105,ROWS($AP$105:AP108)-1,COLUMNS($AP$105:AP108)-1),\"\")","v":""},{"$f":"IF(OFFSET(DE104_3!$AQ$105,ROWS($AQ$105:AQ108)-1,COLUMNS($AQ$105:AQ108)-1)<>\"\",OFFSET(DE104_3!$AQ$105,ROWS($AQ$105:AQ108)-1,COLUMNS($AQ$105:AQ108)-1),\"\")","v":""}]
[{"$f":"IF(OFFSET(DE104_3!$C$105,ROWS($C$105:C109)-1,COLUMNS($C$105:C109)-1)<>\"\",OFFSET(DE104_3!$C$105,ROWS($C$105:C109)-1,COLUMNS($C$105:C109)-1),\"\")","v":""},{"$f":"IF(OFFSET(DE104_3!$D$105,ROWS($D$105:D109)-1,COLUMNS($D$105:D109)-1)<>\"\",OFFSET(DE104_3!$D$105,ROWS($D$105:D109)-1,COLUMNS($D$105:D109)-1),\"\")","v":"BID ITEMS:"},null,null,null,null,null,null,null,null,null,null,null,null,{"$f":"IF(OFFSET(DE104_3!$Q$105,ROWS($Q$105:Q109)-1,COLUMNS($Q$105:Q109)-1)<>\"\",OFFSET(DE104_3!$Q$105,ROWS($Q$105:Q109)-1,COLUMNS($Q$105:Q109)-1),\"\")","v":""},{"$f":"IF(OFFSET(DE104_3!$R$105,ROWS($R$105:R109)-1,COLUMNS($R$105:R109)-1)<>\"\",OFFSET(DE104_3!$R$105,ROWS($R$105:R109)-1,COLUMNS($R$105:R109)-1),\"\")","v":""},{"$f":"IF(OFFSET(DE104_3!$S$105,ROWS($S$105:S109)-1,COLUMNS($S$105:S109)-1)<>\"\",OFFSET(DE104_3!$S$105,ROWS($S$105:S109)-1,COLUMNS($S$105:S109)-1),\"\")","v":""},{"$f":"IF(OFFSET(DE104_3!$T$105,ROWS($T$105:T109)-1,COLUMNS($T$105:T109)-1)<>\"\",OFFSET(DE104_3!$T$105,ROWS($T$105:T109)-1,COLUMNS($T$105:T109)-1),\"\")","v":""},{"$f":"IF(OFFSET(DE104_3!$U$105,ROWS($U$105:U109)-1,COLUMNS($U$105:U109)-1)<>\"\",OFFSET(DE104_3!$U$105,ROWS($U$105:U109)-1,COLUMNS($U$105:U109)-1),\"\")","v":""},{"$f":"IF(OFFSET(DE104_3!$V$105,ROWS($V$105:V109)-1,COLUMNS($V$105:V109)-1)<>\"\",OFFSET(DE104_3!$V$105,ROWS($V$105:V109)-1,COLUMNS($V$105:V109)-1),\"\")","v":""},{"$f":"IF(OFFSET(DE104_3!$W$105,ROWS($W$105:W109)-1,COLUMNS($W$105:W109)-1)<>\"\",OFFSET(DE104_3!$W$105,ROWS($W$105:W109)-1,COLUMNS($W$105:W109)-1),\"\")","v":""},{"$f":"IF(OFFSET(DE104_3!$X$105,ROWS($X$105:X109)-1,COLUMNS($X$105:X109)-1)<>\"\",OFFSET(DE104_3!$X$105,ROWS($X$105:X109)-1,COLUMNS($X$105:X109)-1),\"\")","v":""},{"$f":"IF(OFFSET(DE104_3!$Y$105,ROWS($Y$105:Y109)-1,COLUMNS($Y$105:Y109)-1)<>\"\",OFFSET(DE104_3!$Y$105,ROWS($Y$105:Y109)-1,COLUMNS($Y$105:Y109)-1),\"\")","v":""},{"$f":"IF(OFFSET(DE104_3!$Z$105,ROWS($Z$105:Z109)-1,COLUMNS($Z$105:Z109)-1)<>\"\",OFFSET(DE104_3!$Z$105,ROWS($Z$105:Z109)-1,COLUMNS($Z$105:Z109)-1),\"\")","v":""},{"$f":"IF(OFFSET(DE104_3!$AA$105,ROWS($AA$105:AA109)-1,COLUMNS($AA$105:AA109)-1)<>\"\",OFFSET(DE104_3!$AA$105,ROWS($AA$105:AA109)-1,COLUMNS($AA$105:AA109)-1),\"\")","v":""},{"$f":"IF(OFFSET(DE104_3!$AB$105,ROWS($AB$105:AB109)-1,COLUMNS($AB$105:AB109)-1)<>\"\",OFFSET(DE104_3!$AB$105,ROWS($AB$105:AB109)-1,COLUMNS($AB$105:AB109)-1),\"\")","v":""},{"$f":"IF(OFFSET(DE104_3!$AC$105,ROWS($AC$105:AC109)-1,COLUMNS($AC$105:AC109)-1)<>\"\",OFFSET(DE104_3!$AC$105,ROWS($AC$105:AC109)-1,COLUMNS($AC$105:AC109)-1),\"\")","v":""},{"$f":"IF(OFFSET(DE104_3!$AD$105,ROWS($AD$105:AD109)-1,COLUMNS($AD$105:AD109)-1)<>\"\",OFFSET(DE104_3!$AD$105,ROWS($AD$105:AD109)-1,COLUMNS($AD$105:AD109)-1),\"\")","v":""},{"$f":"IF(OFFSET(DE104_3!$AE$105,ROWS($AE$105:AE109)-1,COLUMNS($AE$105:AE109)-1)<>\"\",OFFSET(DE104_3!$AE$105,ROWS($AE$105:AE109)-1,COLUMNS($AE$105:AE109)-1),\"\")","v":""},{"$f":"IF(OFFSET(DE104_3!$AF$105,ROWS($AF$105:AF109)-1,COLUMNS($AF$105:AF109)-1)<>\"\",OFFSET(DE104_3!$AF$105,ROWS($AF$105:AF109)-1,COLUMNS($AF$105:AF109)-1),\"\")","v":""},{"$f":"IF(OFFSET(DE104_3!$AG$105,ROWS($AG$105:AG109)-1,COLUMNS($AG$105:AG109)-1)<>\"\",OFFSET(DE104_3!$AG$105,ROWS($AG$105:AG109)-1,COLUMNS($AG$105:AG109)-1),\"\")","v":""},{"$f":"IF(OFFSET(DE104_3!$AH$105,ROWS($AH$105:AH109)-1,COLUMNS($AH$105:AH109)-1)<>\"\",OFFSET(DE104_3!$AH$105,ROWS($AH$105:AH109)-1,COLUMNS($AH$105:AH109)-1),\"\")","v":""},{"$f":"IF(OFFSET(DE104_3!$AI$105,ROWS($AI$105:AI109)-1,COLUMNS($AI$105:AI109)-1)<>\"\",OFFSET(DE104_3!$AI$105,ROWS($AI$105:AI109)-1,COLUMNS($AI$105:AI109)-1),\"\")","v":""},{"$f":"IF(OFFSET(DE104_3!$AJ$105,ROWS($AJ$105:AJ109)-1,COLUMNS($AJ$105:AJ109)-1)<>\"\",OFFSET(DE104_3!$AJ$105,ROWS($AJ$105:AJ109)-1,COLUMNS($AJ$105:AJ109)-1),\"\")","v":""},{"$f":"IF(OFFSET(DE104_3!$AK$105,ROWS($AK$105:AK109)-1,COLUMNS($AK$105:AK109)-1)<>\"\",OFFSET(DE104_3!$AK$105,ROWS($AK$105:AK109)-1,COLUMNS($AK$105:AK109)-1),\"\")","v":""},{"$f":"IF(OFFSET(DE104_3!$AL$105,ROWS($AL$105:AL109)-1,COLUMNS($AL$105:AL109)-1)<>\"\",OFFSET(DE104_3!$AL$105,ROWS($AL$105:AL109)-1,COLUMNS($AL$105:AL109)-1),\"\")","v":""},{"$f":"IF(OFFSET(DE104_3!$AM$105,ROWS($AM$105:AM109)-1,COLUMNS($AM$105:AM109)-1)<>\"\",OFFSET(DE104_3!$AM$105,ROWS($AM$105:AM109)-1,COLUMNS($AM$105:AM109)-1),\"\")","v":""},{"$f":"IF(OFFSET(DE104_3!$AN$105,ROWS($AN$105:AN109)-1,COLUMNS($AN$105:AN109)-1)<>\"\",OFFSET(DE104_3!$AN$105,ROWS($AN$105:AN109)-1,COLUMNS($AN$105:AN109)-1),\"\")","v":""},{"$f":"IF(OFFSET(DE104_3!$AO$105,ROWS($AO$105:AO109)-1,COLUMNS($AO$105:AO109)-1)<>\"\",OFFSET(DE104_3!$AO$105,ROWS($AO$105:AO109)-1,COLUMNS($AO$105:AO109)-1),\"\")","v":""},{"$f":"IF(OFFSET(DE104_3!$AP$105,ROWS($AP$105:AP109)-1,COLUMNS($AP$105:AP109)-1)<>\"\",OFFSET(DE104_3!$AP$105,ROWS($AP$105:AP109)-1,COLUMNS($AP$105:AP109)-1),\"\")","v":""},{"$f":"IF(OFFSET(DE104_3!$AQ$105,ROWS($AQ$105:AQ109)-1,COLUMNS($AQ$105:AQ109)-1)<>\"\",OFFSET(DE104_3!$AQ$105,ROWS($AQ$105:AQ109)-1,COLUMNS($AQ$105:AQ109)-1),\"\")","v":""}]
[{"$f":"IF(OFFSET(DE104_3!$C$105,ROWS($C$105:C110)-1,COLUMNS($C$105:C110)-1)<>\"\",OFFSET(DE104_3!$C$105,ROWS($C$105:C110)-1,COLUMNS($C$105:C110)-1),\"\")","v":""},{"$f":"IF(OFFSET(DE104_3!$D$105,ROWS($D$105:D110)-1,COLUMNS($D$105:D110)-1)<>\"\",OFFSET(DE104_3!$D$105,ROWS($D$105:D110)-1,COLUMNS($D$105:D110)-1),\"\")","v":"APRONS, CONCRETE, 24 IN. DIA."},null,null,null,null,null,null,null,null,null,{"$f":"IF(OFFSET(DE104_3!$N$105,ROWS($N$105:N110)-1,COLUMNS($N$105:N110)-1)<>\"\",OFFSET(DE104_3!$N$105,ROWS($N$105:N110)-1,COLUMNS($N$105:N110)-1),\"\")","v":""},{"$f":"IF(OFFSET(DE104_3!$O$105,ROWS($O$105:O110)-1,COLUMNS($O$105:O110)-1)<>\"\",OFFSET(DE104_3!$O$105,ROWS($O$105:O110)-1,COLUMNS($O$105:O110)-1),\"\")","v":30},{"$f":"IF(OFFSET(DE104_3!$P$105,ROWS($P$105:P110)-1,COLUMNS($P$105:P110)-1)<>\"\",OFFSET(DE104_3!$P$105,ROWS($P$105:P110)-1,COLUMNS($P$105:P110)-1),\"\")","v":"EACH"},{"$f":"IF(OFFSET(DE104_3!$Q$105,ROWS($Q$105:Q110)-1,COLUMNS($Q$105:Q110)-1)<>\"\",OFFSET(DE104_3!$Q$105,ROWS($Q$105:Q110)-1,COLUMNS($Q$105:Q110)-1),\"\")","v":""},{"$f":"IF(OFFSET(DE104_3!$R$105,ROWS($R$105:R110)-1,COLUMNS($R$105:R110)-1)<>\"\",OFFSET(DE104_3!$R$105,ROWS($R$105:R110)-1,COLUMNS($R$105:R110)-1),\"\")","v":""},{"$f":"IF(OFFSET(DE104_3!$S$105,ROWS($S$105:S110)-1,COLUMNS($S$105:S110)-1)<>\"\",OFFSET(DE104_3!$S$105,ROWS($S$105:S110)-1,COLUMNS($S$105:S110)-1),\"\")","v":""},{"$f":"IF(OFFSET(DE104_3!$T$105,ROWS($T$105:T110)-1,COLUMNS($T$105:T110)-1)<>\"\",OFFSET(DE104_3!$T$105,ROWS($T$105:T110)-1,COLUMNS($T$105:T110)-1),\"\")","v":""},{"$f":"IF(OFFSET(DE104_3!$U$105,ROWS($U$105:U110)-1,COLUMNS($U$105:U110)-1)<>\"\",OFFSET(DE104_3!$U$105,ROWS($U$105:U110)-1,COLUMNS($U$105:U110)-1),\"\")","v":""},{"$f":"IF(OFFSET(DE104_3!$V$105,ROWS($V$105:V110)-1,COLUMNS($V$105:V110)-1)<>\"\",OFFSET(DE104_3!$V$105,ROWS($V$105:V110)-1,COLUMNS($V$105:V110)-1),\"\")","v":""},{"$f":"IF(OFFSET(DE104_3!$W$105,ROWS($W$105:W110)-1,COLUMNS($W$105:W110)-1)<>\"\",OFFSET(DE104_3!$W$105,ROWS($W$105:W110)-1,COLUMNS($W$105:W110)-1),\"\")","v":""},{"$f":"IF(OFFSET(DE104_3!$X$105,ROWS($X$105:X110)-1,COLUMNS($X$105:X110)-1)<>\"\",OFFSET(DE104_3!$X$105,ROWS($X$105:X110)-1,COLUMNS($X$105:X110)-1),\"\")","v":""},{"$f":"IF(OFFSET(DE104_3!$Y$105,ROWS($Y$105:Y110)-1,COLUMNS($Y$105:Y110)-1)<>\"\",OFFSET(DE104_3!$Y$105,ROWS($Y$105:Y110)-1,COLUMNS($Y$105:Y110)-1),\"\")","v":""},{"$f":"IF(OFFSET(DE104_3!$Z$105,ROWS($Z$105:Z110)-1,COLUMNS($Z$105:Z110)-1)<>\"\",OFFSET(DE104_3!$Z$105,ROWS($Z$105:Z110)-1,COLUMNS($Z$105:Z110)-1),\"\")","v":""},{"$f":"IF(OFFSET(DE104_3!$AA$105,ROWS($AA$105:AA110)-1,COLUMNS($AA$105:AA110)-1)<>\"\",OFFSET(DE104_3!$AA$105,ROWS($AA$105:AA110)-1,COLUMNS($AA$105:AA110)-1),\"\")","v":""},{"$f":"IF(OFFSET(DE104_3!$AB$105,ROWS($AB$105:AB110)-1,COLUMNS($AB$105:AB110)-1)<>\"\",OFFSET(DE104_3!$AB$105,ROWS($AB$105:AB110)-1,COLUMNS($AB$105:AB110)-1),\"\")","v":""},{"$f":"IF(OFFSET(DE104_3!$AC$105,ROWS($AC$105:AC110)-1,COLUMNS($AC$105:AC110)-1)<>\"\",OFFSET(DE104_3!$AC$105,ROWS($AC$105:AC110)-1,COLUMNS($AC$105:AC110)-1),\"\")","v":""},{"$f":"IF(OFFSET(DE104_3!$AD$105,ROWS($AD$105:AD110)-1,COLUMNS($AD$105:AD110)-1)<>\"\",OFFSET(DE104_3!$AD$105,ROWS($AD$105:AD110)-1,COLUMNS($AD$105:AD110)-1),\"\")","v":""},{"$f":"IF(OFFSET(DE104_3!$AE$105,ROWS($AE$105:AE110)-1,COLUMNS($AE$105:AE110)-1)<>\"\",OFFSET(DE104_3!$AE$105,ROWS($AE$105:AE110)-1,COLUMNS($AE$105:AE110)-1),\"\")","v":""},{"$f":"IF(OFFSET(DE104_3!$AF$105,ROWS($AF$105:AF110)-1,COLUMNS($AF$105:AF110)-1)<>\"\",OFFSET(DE104_3!$AF$105,ROWS($AF$105:AF110)-1,COLUMNS($AF$105:AF110)-1),\"\")","v":""},{"$f":"IF(OFFSET(DE104_3!$AG$105,ROWS($AG$105:AG110)-1,COLUMNS($AG$105:AG110)-1)<>\"\",OFFSET(DE104_3!$AG$105,ROWS($AG$105:AG110)-1,COLUMNS($AG$105:AG110)-1),\"\")","v":""},{"$f":"IF(OFFSET(DE104_3!$AH$105,ROWS($AH$105:AH110)-1,COLUMNS($AH$105:AH110)-1)<>\"\",OFFSET(DE104_3!$AH$105,ROWS($AH$105:AH110)-1,COLUMNS($AH$105:AH110)-1),\"\")","v":""},{"$f":"IF(OFFSET(DE104_3!$AI$105,ROWS($AI$105:AI110)-1,COLUMNS($AI$105:AI110)-1)<>\"\",OFFSET(DE104_3!$AI$105,ROWS($AI$105:AI110)-1,COLUMNS($AI$105:AI110)-1),\"\")","v":""},{"$f":"IF(OFFSET(DE104_3!$AJ$105,ROWS($AJ$105:AJ110)-1,COLUMNS($AJ$105:AJ110)-1)<>\"\",OFFSET(DE104_3!$AJ$105,ROWS($AJ$105:AJ110)-1,COLUMNS($AJ$105:AJ110)-1),\"\")","v":""},{"$f":"IF(OFFSET(DE104_3!$AK$105,ROWS($AK$105:AK110)-1,COLUMNS($AK$105:AK110)-1)<>\"\",OFFSET(DE104_3!$AK$105,ROWS($AK$105:AK110)-1,COLUMNS($AK$105:AK110)-1),\"\")","v":""},{"$f":"IF(OFFSET(DE104_3!$AL$105,ROWS($AL$105:AL110)-1,COLUMNS($AL$105:AL110)-1)<>\"\",OFFSET(DE104_3!$AL$105,ROWS($AL$105:AL110)-1,COLUMNS($AL$105:AL110)-1),\"\")","v":""},{"$f":"IF(OFFSET(DE104_3!$AM$105,ROWS($AM$105:AM110)-1,COLUMNS($AM$105:AM110)-1)<>\"\",OFFSET(DE104_3!$AM$105,ROWS($AM$105:AM110)-1,COLUMNS($AM$105:AM110)-1),\"\")","v":""},{"$f":"IF(OFFSET(DE104_3!$AN$105,ROWS($AN$105:AN110)-1,COLUMNS($AN$105:AN110)-1)<>\"\",OFFSET(DE104_3!$AN$105,ROWS($AN$105:AN110)-1,COLUMNS($AN$105:AN110)-1),\"\")","v":""},{"$f":"IF(OFFSET(DE104_3!$AO$105,ROWS($AO$105:AO110)-1,COLUMNS($AO$105:AO110)-1)<>\"\",OFFSET(DE104_3!$AO$105,ROWS($AO$105:AO110)-1,COLUMNS($AO$105:AO110)-1),\"\")","v":""},{"$f":"IF(OFFSET(DE104_3!$AP$105,ROWS($AP$105:AP110)-1,COLUMNS($AP$105:AP110)-1)<>\"\",OFFSET(DE104_3!$AP$105,ROWS($AP$105:AP110)-1,COLUMNS($AP$105:AP110)-1),\"\")","v":""},{"$f":"IF(OFFSET(DE104_3!$AQ$105,ROWS($AQ$105:AQ110)-1,COLUMNS($AQ$105:AQ110)-1)<>\"\",OFFSET(DE104_3!$AQ$105,ROWS($AQ$105:AQ110)-1,COLUMNS($AQ$105:AQ110)-1),\"\")","v":""}]
[{"$f":"IF(OFFSET(DE104_3!$C$105,ROWS($C$105:C111)-1,COLUMNS($C$105:C111)-1)<>\"\",OFFSET(DE104_3!$C$105,ROWS($C$105:C111)-1,COLUMNS($C$105:C111)-1),\"\")","v":""},{"$f":"IF(OFFSET(DE104_3!$D$105,ROWS($D$105:D111)-1,COLUMNS($D$105:D111)-1)<>\"\",OFFSET(DE104_3!$D$105,ROWS($D$105:D111)-1,COLUMNS($D$105:D111)-1),\"\")","v":"APRONS, CONCRETE, 36 IN. DIA."},null,null,null,null,null,null,null,null,null,{"$f":"IF(OFFSET(DE104_3!$N$105,ROWS($N$105:N111)-1,COLUMNS($N$105:N111)-1)<>\"\",OFFSET(DE104_3!$N$105,ROWS($N$105:N111)-1,COLUMNS($N$105:N111)-1),\"\")","v":""},{"$f":"IF(OFFSET(DE104_3!$O$105,ROWS($O$105:O111)-1,COLUMNS($O$105:O111)-1)<>\"\",OFFSET(DE104_3!$O$105,ROWS($O$105:O111)-1,COLUMNS($O$105:O111)-1),\"\")","v":8},{"$f":"IF(OFFSET(DE104_3!$P$105,ROWS($P$105:P111)-1,COLUMNS($P$105:P111)-1)<>\"\",OFFSET(DE104_3!$P$105,ROWS($P$105:P111)-1,COLUMNS($P$105:P111)-1),\"\")","v":"EACH"},{"$f":"IF(OFFSET(DE104_3!$Q$105,ROWS($Q$105:Q111)-1,COLUMNS($Q$105:Q111)-1)<>\"\",OFFSET(DE104_3!$Q$105,ROWS($Q$105:Q111)-1,COLUMNS($Q$105:Q111)-1),\"\")","v":""},{"$f":"IF(OFFSET(DE104_3!$R$105,ROWS($R$105:R111)-1,COLUMNS($R$105:R111)-1)<>\"\",OFFSET(DE104_3!$R$105,ROWS($R$105:R111)-1,COLUMNS($R$105:R111)-1),\"\")","v":""},{"$f":"IF(OFFSET(DE104_3!$S$105,ROWS($S$105:S111)-1,COLUMNS($S$105:S111)-1)<>\"\",OFFSET(DE104_3!$S$105,ROWS($S$105:S111)-1,COLUMNS($S$105:S111)-1),\"\")","v":""},{"$f":"IF(OFFSET(DE104_3!$T$105,ROWS($T$105:T111)-1,COLUMNS($T$105:T111)-1)<>\"\",OFFSET(DE104_3!$T$105,ROWS($T$105:T111)-1,COLUMNS($T$105:T111)-1),\"\")","v":""},{"$f":"IF(OFFSET(DE104_3!$U$105,ROWS($U$105:U111)-1,COLUMNS($U$105:U111)-1)<>\"\",OFFSET(DE104_3!$U$105,ROWS($U$105:U111)-1,COLUMNS($U$105:U111)-1),\"\")","v":""},{"$f":"IF(OFFSET(DE104_3!$V$105,ROWS($V$105:V111)-1,COLUMNS($V$105:V111)-1)<>\"\",OFFSET(DE104_3!$V$105,ROWS($V$105:V111)-1,COLUMNS($V$105:V111)-1),\"\")","v":""},{"$f":"IF(OFFSET(DE104_3!$W$105,ROWS($W$105:W111)-1,COLUMNS($W$105:W111)-1)<>\"\",OFFSET(DE104_3!$W$105,ROWS($W$105:W111)-1,COLUMNS($W$105:W111)-1),\"\")","v":""},{"$f":"IF(OFFSET(DE104_3!$X$105,ROWS($X$105:X111)-1,COLUMNS($X$105:X111)-1)<>\"\",OFFSET(DE104_3!$X$105,ROWS($X$105:X111)-1,COLUMNS($X$105:X111)-1),\"\")","v":""},{"$f":"IF(OFFSET(DE104_3!$Y$105,ROWS($Y$105:Y111)-1,COLUMNS($Y$105:Y111)-1)<>\"\",OFFSET(DE104_3!$Y$105,ROWS($Y$105:Y111)-1,COLUMNS($Y$105:Y111)-1),\"\")","v":""},{"$f":"IF(OFFSET(DE104_3!$Z$105,ROWS($Z$105:Z111)-1,COLUMNS($Z$105:Z111)-1)<>\"\",OFFSET(DE104_3!$Z$105,ROWS($Z$105:Z111)-1,COLUMNS($Z$105:Z111)-1),\"\")","v":""},{"$f":"IF(OFFSET(DE104_3!$AA$105,ROWS($AA$105:AA111)-1,COLUMNS($AA$105:AA111)-1)<>\"\",OFFSET(DE104_3!$AA$105,ROWS($AA$105:AA111)-1,COLUMNS($AA$105:AA111)-1),\"\")","v":""},{"$f":"IF(OFFSET(DE104_3!$AB$105,ROWS($AB$105:AB111)-1,COLUMNS($AB$105:AB111)-1)<>\"\",OFFSET(DE104_3!$AB$105,ROWS($AB$105:AB111)-1,COLUMNS($AB$105:AB111)-1),\"\")","v":""},{"$f":"IF(OFFSET(DE104_3!$AC$105,ROWS($AC$105:AC111)-1,COLUMNS($AC$105:AC111)-1)<>\"\",OFFSET(DE104_3!$AC$105,ROWS($AC$105:AC111)-1,COLUMNS($AC$105:AC111)-1),\"\")","v":""},{"$f":"IF(OFFSET(DE104_3!$AD$105,ROWS($AD$105:AD111)-1,COLUMNS($AD$105:AD111)-1)<>\"\",OFFSET(DE104_3!$AD$105,ROWS($AD$105:AD111)-1,COLUMNS($AD$105:AD111)-1),\"\")","v":""},{"$f":"IF(OFFSET(DE104_3!$AE$105,ROWS($AE$105:AE111)-1,COLUMNS($AE$105:AE111)-1)<>\"\",OFFSET(DE104_3!$AE$105,ROWS($AE$105:AE111)-1,COLUMNS($AE$105:AE111)-1),\"\")","v":""},{"$f":"IF(OFFSET(DE104_3!$AF$105,ROWS($AF$105:AF111)-1,COLUMNS($AF$105:AF111)-1)<>\"\",OFFSET(DE104_3!$AF$105,ROWS($AF$105:AF111)-1,COLUMNS($AF$105:AF111)-1),\"\")","v":""},{"$f":"IF(OFFSET(DE104_3!$AG$105,ROWS($AG$105:AG111)-1,COLUMNS($AG$105:AG111)-1)<>\"\",OFFSET(DE104_3!$AG$105,ROWS($AG$105:AG111)-1,COLUMNS($AG$105:AG111)-1),\"\")","v":""},{"$f":"IF(OFFSET(DE104_3!$AH$105,ROWS($AH$105:AH111)-1,COLUMNS($AH$105:AH111)-1)<>\"\",OFFSET(DE104_3!$AH$105,ROWS($AH$105:AH111)-1,COLUMNS($AH$105:AH111)-1),\"\")","v":""},{"$f":"IF(OFFSET(DE104_3!$AI$105,ROWS($AI$105:AI111)-1,COLUMNS($AI$105:AI111)-1)<>\"\",OFFSET(DE104_3!$AI$105,ROWS($AI$105:AI111)-1,COLUMNS($AI$105:AI111)-1),\"\")","v":""},{"$f":"IF(OFFSET(DE104_3!$AJ$105,ROWS($AJ$105:AJ111)-1,COLUMNS($AJ$105:AJ111)-1)<>\"\",OFFSET(DE104_3!$AJ$105,ROWS($AJ$105:AJ111)-1,COLUMNS($AJ$105:AJ111)-1),\"\")","v":""},{"$f":"IF(OFFSET(DE104_3!$AK$105,ROWS($AK$105:AK111)-1,COLUMNS($AK$105:AK111)-1)<>\"\",OFFSET(DE104_3!$AK$105,ROWS($AK$105:AK111)-1,COLUMNS($AK$105:AK111)-1),\"\")","v":""},{"$f":"IF(OFFSET(DE104_3!$AL$105,ROWS($AL$105:AL111)-1,COLUMNS($AL$105:AL111)-1)<>\"\",OFFSET(DE104_3!$AL$105,ROWS($AL$105:AL111)-1,COLUMNS($AL$105:AL111)-1),\"\")","v":""},{"$f":"IF(OFFSET(DE104_3!$AM$105,ROWS($AM$105:AM111)-1,COLUMNS($AM$105:AM111)-1)<>\"\",OFFSET(DE104_3!$AM$105,ROWS($AM$105:AM111)-1,COLUMNS($AM$105:AM111)-1),\"\")","v":""},{"$f":"IF(OFFSET(DE104_3!$AN$105,ROWS($AN$105:AN111)-1,COLUMNS($AN$105:AN111)-1)<>\"\",OFFSET(DE104_3!$AN$105,ROWS($AN$105:AN111)-1,COLUMNS($AN$105:AN111)-1),\"\")","v":""},{"$f":"IF(OFFSET(DE104_3!$AO$105,ROWS($AO$105:AO111)-1,COLUMNS($AO$105:AO111)-1)<>\"\",OFFSET(DE104_3!$AO$105,ROWS($AO$105:AO111)-1,COLUMNS($AO$105:AO111)-1),\"\")","v":""},{"$f":"IF(OFFSET(DE104_3!$AP$105,ROWS($AP$105:AP111)-1,COLUMNS($AP$105:AP111)-1)<>\"\",OFFSET(DE104_3!$AP$105,ROWS($AP$105:AP111)-1,COLUMNS($AP$105:AP111)-1),\"\")","v":""},{"$f":"IF(OFFSET(DE104_3!$AQ$105,ROWS($AQ$105:AQ111)-1,COLUMNS($AQ$105:AQ111)-1)<>\"\",OFFSET(DE104_3!$AQ$105,ROWS($AQ$105:AQ111)-1,COLUMNS($AQ$105:AQ111)-1),\"\")","v":""}]
[{"$f":"IF(OFFSET(DE104_3!$C$105,ROWS($C$105:C112)-1,COLUMNS($C$105:C112)-1)<>\"\",OFFSET(DE104_3!$C$105,ROWS($C$105:C112)-1,COLUMNS($C$105:C112)-1),\"\")","v":""},{"$f":"IF(OFFSET(DE104_3!$D$105,ROWS($D$105:D112)-1,COLUMNS($D$105:D112)-1)<>\"\",OFFSET(DE104_3!$D$105,ROWS($D$105:D112)-1,COLUMNS($D$105:D112)-1),\"\")","v":"APRONS, CONCRETE, 42 IN. DIA."},null,null,null,null,null,null,null,null,null,{"$f":"IF(OFFSET(DE104_3!$N$105,ROWS($N$105:N112)-1,COLUMNS($N$105:N112)-1)<>\"\",OFFSET(DE104_3!$N$105,ROWS($N$105:N112)-1,COLUMNS($N$105:N112)-1),\"\")","v":""},{"$f":"IF(OFFSET(DE104_3!$O$105,ROWS($O$105:O112)-1,COLUMNS($O$105:O112)-1)<>\"\",OFFSET(DE104_3!$O$105,ROWS($O$105:O112)-1,COLUMNS($O$105:O112)-1),\"\")","v":4},{"$f":"IF(OFFSET(DE104_3!$P$105,ROWS($P$105:P112)-1,COLUMNS($P$105:P112)-1)<>\"\",OFFSET(DE104_3!$P$105,ROWS($P$105:P112)-1,COLUMNS($P$105:P112)-1),\"\")","v":"EACH"},{"$f":"IF(OFFSET(DE104_3!$Q$105,ROWS($Q$105:Q112)-1,COLUMNS($Q$105:Q112)-1)<>\"\",OFFSET(DE104_3!$Q$105,ROWS($Q$105:Q112)-1,COLUMNS($Q$105:Q112)-1),\"\")","v":""},{"$f":"IF(OFFSET(DE104_3!$R$105,ROWS($R$105:R112)-1,COLUMNS($R$105:R112)-1)<>\"\",OFFSET(DE104_3!$R$105,ROWS($R$105:R112)-1,COLUMNS($R$105:R112)-1),\"\")","v":""},{"$f":"IF(OFFSET(DE104_3!$S$105,ROWS($S$105:S112)-1,COLUMNS($S$105:S112)-1)<>\"\",OFFSET(DE104_3!$S$105,ROWS($S$105:S112)-1,COLUMNS($S$105:S112)-1),\"\")","v":""},{"$f":"IF(OFFSET(DE104_3!$T$105,ROWS($T$105:T112)-1,COLUMNS($T$105:T112)-1)<>\"\",OFFSET(DE104_3!$T$105,ROWS($T$105:T112)-1,COLUMNS($T$105:T112)-1),\"\")","v":""},{"$f":"IF(OFFSET(DE104_3!$U$105,ROWS($U$105:U112)-1,COLUMNS($U$105:U112)-1)<>\"\",OFFSET(DE104_3!$U$105,ROWS($U$105:U112)-1,COLUMNS($U$105:U112)-1),\"\")","v":""},{"$f":"IF(OFFSET(DE104_3!$V$105,ROWS($V$105:V112)-1,COLUMNS($V$105:V112)-1)<>\"\",OFFSET(DE104_3!$V$105,ROWS($V$105:V112)-1,COLUMNS($V$105:V112)-1),\"\")","v":""},{"$f":"IF(OFFSET(DE104_3!$W$105,ROWS($W$105:W112)-1,COLUMNS($W$105:W112)-1)<>\"\",OFFSET(DE104_3!$W$105,ROWS($W$105:W112)-1,COLUMNS($W$105:W112)-1),\"\")","v":""},{"$f":"IF(OFFSET(DE104_3!$X$105,ROWS($X$105:X112)-1,COLUMNS($X$105:X112)-1)<>\"\",OFFSET(DE104_3!$X$105,ROWS($X$105:X112)-1,COLUMNS($X$105:X112)-1),\"\")","v":""},{"$f":"IF(OFFSET(DE104_3!$Y$105,ROWS($Y$105:Y112)-1,COLUMNS($Y$105:Y112)-1)<>\"\",OFFSET(DE104_3!$Y$105,ROWS($Y$105:Y112)-1,COLUMNS($Y$105:Y112)-1),\"\")","v":""},{"$f":"IF(OFFSET(DE104_3!$Z$105,ROWS($Z$105:Z112)-1,COLUMNS($Z$105:Z112)-1)<>\"\",OFFSET(DE104_3!$Z$105,ROWS($Z$105:Z112)-1,COLUMNS($Z$105:Z112)-1),\"\")","v":""},{"$f":"IF(OFFSET(DE104_3!$AA$105,ROWS($AA$105:AA112)-1,COLUMNS($AA$105:AA112)-1)<>\"\",OFFSET(DE104_3!$AA$105,ROWS($AA$105:AA112)-1,COLUMNS($AA$105:AA112)-1),\"\")","v":""},{"$f":"IF(OFFSET(DE104_3!$AB$105,ROWS($AB$105:AB112)-1,COLUMNS($AB$105:AB112)-1)<>\"\",OFFSET(DE104_3!$AB$105,ROWS($AB$105:AB112)-1,COLUMNS($AB$105:AB112)-1),\"\")","v":""},{"$f":"IF(OFFSET(DE104_3!$AC$105,ROWS($AC$105:AC112)-1,COLUMNS($AC$105:AC112)-1)<>\"\",OFFSET(DE104_3!$AC$105,ROWS($AC$105:AC112)-1,COLUMNS($AC$105:AC112)-1),\"\")","v":""},{"$f":"IF(OFFSET(DE104_3!$AD$105,ROWS($AD$105:AD112)-1,COLUMNS($AD$105:AD112)-1)<>\"\",OFFSET(DE104_3!$AD$105,ROWS($AD$105:AD112)-1,COLUMNS($AD$105:AD112)-1),\"\")","v":""},{"$f":"IF(OFFSET(DE104_3!$AE$105,ROWS($AE$105:AE112)-1,COLUMNS($AE$105:AE112)-1)<>\"\",OFFSET(DE104_3!$AE$105,ROWS($AE$105:AE112)-1,COLUMNS($AE$105:AE112)-1),\"\")","v":""},{"$f":"IF(OFFSET(DE104_3!$AF$105,ROWS($AF$105:AF112)-1,COLUMNS($AF$105:AF112)-1)<>\"\",OFFSET(DE104_3!$AF$105,ROWS($AF$105:AF112)-1,COLUMNS($AF$105:AF112)-1),\"\")","v":""},{"$f":"IF(OFFSET(DE104_3!$AG$105,ROWS($AG$105:AG112)-1,COLUMNS($AG$105:AG112)-1)<>\"\",OFFSET(DE104_3!$AG$105,ROWS($AG$105:AG112)-1,COLUMNS($AG$105:AG112)-1),\"\")","v":""},{"$f":"IF(OFFSET(DE104_3!$AH$105,ROWS($AH$105:AH112)-1,COLUMNS($AH$105:AH112)-1)<>\"\",OFFSET(DE104_3!$AH$105,ROWS($AH$105:AH112)-1,COLUMNS($AH$105:AH112)-1),\"\")","v":""},{"$f":"IF(OFFSET(DE104_3!$AI$105,ROWS($AI$105:AI112)-1,COLUMNS($AI$105:AI112)-1)<>\"\",OFFSET(DE104_3!$AI$105,ROWS($AI$105:AI112)-1,COLUMNS($AI$105:AI112)-1),\"\")","v":""},{"$f":"IF(OFFSET(DE104_3!$AJ$105,ROWS($AJ$105:AJ112)-1,COLUMNS($AJ$105:AJ112)-1)<>\"\",OFFSET(DE104_3!$AJ$105,ROWS($AJ$105:AJ112)-1,COLUMNS($AJ$105:AJ112)-1),\"\")","v":""},{"$f":"IF(OFFSET(DE104_3!$AK$105,ROWS($AK$105:AK112)-1,COLUMNS($AK$105:AK112)-1)<>\"\",OFFSET(DE104_3!$AK$105,ROWS($AK$105:AK112)-1,COLUMNS($AK$105:AK112)-1),\"\")","v":""},{"$f":"IF(OFFSET(DE104_3!$AL$105,ROWS($AL$105:AL112)-1,COLUMNS($AL$105:AL112)-1)<>\"\",OFFSET(DE104_3!$AL$105,ROWS($AL$105:AL112)-1,COLUMNS($AL$105:AL112)-1),\"\")","v":""},{"$f":"IF(OFFSET(DE104_3!$AM$105,ROWS($AM$105:AM112)-1,COLUMNS($AM$105:AM112)-1)<>\"\",OFFSET(DE104_3!$AM$105,ROWS($AM$105:AM112)-1,COLUMNS($AM$105:AM112)-1),\"\")","v":""},{"$f":"IF(OFFSET(DE104_3!$AN$105,ROWS($AN$105:AN112)-1,COLUMNS($AN$105:AN112)-1)<>\"\",OFFSET(DE104_3!$AN$105,ROWS($AN$105:AN112)-1,COLUMNS($AN$105:AN112)-1),\"\")","v":""},{"$f":"IF(OFFSET(DE104_3!$AO$105,ROWS($AO$105:AO112)-1,COLUMNS($AO$105:AO112)-1)<>\"\",OFFSET(DE104_3!$AO$105,ROWS($AO$105:AO112)-1,COLUMNS($AO$105:AO112)-1),\"\")","v":""},{"$f":"IF(OFFSET(DE104_3!$AP$105,ROWS($AP$105:AP112)-1,COLUMNS($AP$105:AP112)-1)<>\"\",OFFSET(DE104_3!$AP$105,ROWS($AP$105:AP112)-1,COLUMNS($AP$105:AP112)-1),\"\")","v":""},{"$f":"IF(OFFSET(DE104_3!$AQ$105,ROWS($AQ$105:AQ112)-1,COLUMNS($AQ$105:AQ112)-1)<>\"\",OFFSET(DE104_3!$AQ$105,ROWS($AQ$105:AQ112)-1,COLUMNS($AQ$105:AQ112)-1),\"\")","v":""}]
[{"$f":"IF(OFFSET(DE104_3!$C$105,ROWS($C$105:C113)-1,COLUMNS($C$105:C113)-1)<>\"\",OFFSET(DE104_3!$C$105,ROWS($C$105:C113)-1,COLUMNS($C$105:C113)-1),\"\")","v":""},{"$f":"IF(OFFSET(DE104_3!$D$105,ROWS($D$105:D113)-1,COLUMNS($D$105:D113)-1)<>\"\",OFFSET(DE104_3!$D$105,ROWS($D$105:D113)-1,COLUMNS($D$105:D113)-1),\"\")","v":"APRONS, CONCRETE, 54 IN. DIA."},null,null,null,null,null,null,null,null,null,{"$f":"IF(OFFSET(DE104_3!$N$105,ROWS($N$105:N113)-1,COLUMNS($N$105:N113)-1)<>\"\",OFFSET(DE104_3!$N$105,ROWS($N$105:N113)-1,COLUMNS($N$105:N113)-1),\"\")","v":""},{"$f":"IF(OFFSET(DE104_3!$O$105,ROWS($O$105:O113)-1,COLUMNS($O$105:O113)-1)<>\"\",OFFSET(DE104_3!$O$105,ROWS($O$105:O113)-1,COLUMNS($O$105:O113)-1),\"\")","v":2},{"$f":"IF(OFFSET(DE104_3!$P$105,ROWS($P$105:P113)-1,COLUMNS($P$105:P113)-1)<>\"\",OFFSET(DE104_3!$P$105,ROWS($P$105:P113)-1,COLUMNS($P$105:P113)-1),\"\")","v":"EACH"},{"$f":"IF(OFFSET(DE104_3!$Q$105,ROWS($Q$105:Q113)-1,COLUMNS($Q$105:Q113)-1)<>\"\",OFFSET(DE104_3!$Q$105,ROWS($Q$105:Q113)-1,COLUMNS($Q$105:Q113)-1),\"\")","v":""},{"$f":"IF(OFFSET(DE104_3!$R$105,ROWS($R$105:R113)-1,COLUMNS($R$105:R113)-1)<>\"\",OFFSET(DE104_3!$R$105,ROWS($R$105:R113)-1,COLUMNS($R$105:R113)-1),\"\")","v":""},{"$f":"IF(OFFSET(DE104_3!$S$105,ROWS($S$105:S113)-1,COLUMNS($S$105:S113)-1)<>\"\",OFFSET(DE104_3!$S$105,ROWS($S$105:S113)-1,COLUMNS($S$105:S113)-1),\"\")","v":""},{"$f":"IF(OFFSET(DE104_3!$T$105,ROWS($T$105:T113)-1,COLUMNS($T$105:T113)-1)<>\"\",OFFSET(DE104_3!$T$105,ROWS($T$105:T113)-1,COLUMNS($T$105:T113)-1),\"\")","v":""},{"$f":"IF(OFFSET(DE104_3!$U$105,ROWS($U$105:U113)-1,COLUMNS($U$105:U113)-1)<>\"\",OFFSET(DE104_3!$U$105,ROWS($U$105:U113)-1,COLUMNS($U$105:U113)-1),\"\")","v":""},{"$f":"IF(OFFSET(DE104_3!$V$105,ROWS($V$105:V113)-1,COLUMNS($V$105:V113)-1)<>\"\",OFFSET(DE104_3!$V$105,ROWS($V$105:V113)-1,COLUMNS($V$105:V113)-1),\"\")","v":""},{"$f":"IF(OFFSET(DE104_3!$W$105,ROWS($W$105:W113)-1,COLUMNS($W$105:W113)-1)<>\"\",OFFSET(DE104_3!$W$105,ROWS($W$105:W113)-1,COLUMNS($W$105:W113)-1),\"\")","v":""},{"$f":"IF(OFFSET(DE104_3!$X$105,ROWS($X$105:X113)-1,COLUMNS($X$105:X113)-1)<>\"\",OFFSET(DE104_3!$X$105,ROWS($X$105:X113)-1,COLUMNS($X$105:X113)-1),\"\")","v":""},{"$f":"IF(OFFSET(DE104_3!$Y$105,ROWS($Y$105:Y113)-1,COLUMNS($Y$105:Y113)-1)<>\"\",OFFSET(DE104_3!$Y$105,ROWS($Y$105:Y113)-1,COLUMNS($Y$105:Y113)-1),\"\")","v":""},{"$f":"IF(OFFSET(DE104_3!$Z$105,ROWS($Z$105:Z113)-1,COLUMNS($Z$105:Z113)-1)<>\"\",OFFSET(DE104_3!$Z$105,ROWS($Z$105:Z113)-1,COLUMNS($Z$105:Z113)-1),\"\")","v":""},{"$f":"IF(OFFSET(DE104_3!$AA$105,ROWS($AA$105:AA113)-1,COLUMNS($AA$105:AA113)-1)<>\"\",OFFSET(DE104_3!$AA$105,ROWS($AA$105:AA113)-1,COLUMNS($AA$105:AA113)-1),\"\")","v":""},{"$f":"IF(OFFSET(DE104_3!$AB$105,ROWS($AB$105:AB113)-1,COLUMNS($AB$105:AB113)-1)<>\"\",OFFSET(DE104_3!$AB$105,ROWS($AB$105:AB113)-1,COLUMNS($AB$105:AB113)-1),\"\")","v":""},{"$f":"IF(OFFSET(DE104_3!$AC$105,ROWS($AC$105:AC113)-1,COLUMNS($AC$105:AC113)-1)<>\"\",OFFSET(DE104_3!$AC$105,ROWS($AC$105:AC113)-1,COLUMNS($AC$105:AC113)-1),\"\")","v":""},{"$f":"IF(OFFSET(DE104_3!$AD$105,ROWS($AD$105:AD113)-1,COLUMNS($AD$105:AD113)-1)<>\"\",OFFSET(DE104_3!$AD$105,ROWS($AD$105:AD113)-1,COLUMNS($AD$105:AD113)-1),\"\")","v":""},{"$f":"IF(OFFSET(DE104_3!$AE$105,ROWS($AE$105:AE113)-1,COLUMNS($AE$105:AE113)-1)<>\"\",OFFSET(DE104_3!$AE$105,ROWS($AE$105:AE113)-1,COLUMNS($AE$105:AE113)-1),\"\")","v":""},{"$f":"IF(OFFSET(DE104_3!$AF$105,ROWS($AF$105:AF113)-1,COLUMNS($AF$105:AF113)-1)<>\"\",OFFSET(DE104_3!$AF$105,ROWS($AF$105:AF113)-1,COLUMNS($AF$105:AF113)-1),\"\")","v":""},{"$f":"IF(OFFSET(DE104_3!$AG$105,ROWS($AG$105:AG113)-1,COLUMNS($AG$105:AG113)-1)<>\"\",OFFSET(DE104_3!$AG$105,ROWS($AG$105:AG113)-1,COLUMNS($AG$105:AG113)-1),\"\")","v":""},{"$f":"IF(OFFSET(DE104_3!$AH$105,ROWS($AH$105:AH113)-1,COLUMNS($AH$105:AH113)-1)<>\"\",OFFSET(DE104_3!$AH$105,ROWS($AH$105:AH113)-1,COLUMNS($AH$105:AH113)-1),\"\")","v":""},{"$f":"IF(OFFSET(DE104_3!$AI$105,ROWS($AI$105:AI113)-1,COLUMNS($AI$105:AI113)-1)<>\"\",OFFSET(DE104_3!$AI$105,ROWS($AI$105:AI113)-1,COLUMNS($AI$105:AI113)-1),\"\")","v":""},{"$f":"IF(OFFSET(DE104_3!$AJ$105,ROWS($AJ$105:AJ113)-1,COLUMNS($AJ$105:AJ113)-1)<>\"\",OFFSET(DE104_3!$AJ$105,ROWS($AJ$105:AJ113)-1,COLUMNS($AJ$105:AJ113)-1),\"\")","v":""},{"$f":"IF(OFFSET(DE104_3!$AK$105,ROWS($AK$105:AK113)-1,COLUMNS($AK$105:AK113)-1)<>\"\",OFFSET(DE104_3!$AK$105,ROWS($AK$105:AK113)-1,COLUMNS($AK$105:AK113)-1),\"\")","v":""},{"$f":"IF(OFFSET(DE104_3!$AL$105,ROWS($AL$105:AL113)-1,COLUMNS($AL$105:AL113)-1)<>\"\",OFFSET(DE104_3!$AL$105,ROWS($AL$105:AL113)-1,COLUMNS($AL$105:AL113)-1),\"\")","v":""},{"$f":"IF(OFFSET(DE104_3!$AM$105,ROWS($AM$105:AM113)-1,COLUMNS($AM$105:AM113)-1)<>\"\",OFFSET(DE104_3!$AM$105,ROWS($AM$105:AM113)-1,COLUMNS($AM$105:AM113)-1),\"\")","v":""},{"$f":"IF(OFFSET(DE104_3!$AN$105,ROWS($AN$105:AN113)-1,COLUMNS($AN$105:AN113)-1)<>\"\",OFFSET(DE104_3!$AN$105,ROWS($AN$105:AN113)-1,COLUMNS($AN$105:AN113)-1),\"\")","v":""},{"$f":"IF(OFFSET(DE104_3!$AO$105,ROWS($AO$105:AO113)-1,COLUMNS($AO$105:AO113)-1)<>\"\",OFFSET(DE104_3!$AO$105,ROWS($AO$105:AO113)-1,COLUMNS($AO$105:AO113)-1),\"\")","v":""},{"$f":"IF(OFFSET(DE104_3!$AP$105,ROWS($AP$105:AP113)-1,COLUMNS($AP$105:AP113)-1)<>\"\",OFFSET(DE104_3!$AP$105,ROWS($AP$105:AP113)-1,COLUMNS($AP$105:AP113)-1),\"\")","v":""},{"$f":"IF(OFFSET(DE104_3!$AQ$105,ROWS($AQ$105:AQ113)-1,COLUMNS($AQ$105:AQ113)-1)<>\"\",OFFSET(DE104_3!$AQ$105,ROWS($AQ$105:AQ113)-1,COLUMNS($AQ$105:AQ113)-1),\"\")","v":""}]
[{"$f":"IF(OFFSET(DE104_3!$C$105,ROWS($C$105:C114)-1,COLUMNS($C$105:C114)-1)<>\"\",OFFSET(DE104_3!$C$105,ROWS($C$105:C114)-1,COLUMNS($C$105:C114)-1),\"\")","v":""},{"$f":"IF(OFFSET(DE104_3!$D$105,ROWS($D$105:D114)-1,COLUMNS($D$105:D114)-1)<>\"\",OFFSET(DE104_3!$D$105,ROWS($D$105:D114)-1,COLUMNS($D$105:D114)-1),\"\")","v":"APRONS, CONCRETE, 72 IN. DIA."},null,null,null,null,null,null,null,null,null,{"$f":"IF(OFFSET(DE104_3!$N$105,ROWS($N$105:N114)-1,COLUMNS($N$105:N114)-1)<>\"\",OFFSET(DE104_3!$N$105,ROWS($N$105:N114)-1,COLUMNS($N$105:N114)-1),\"\")","v":""},{"$f":"IF(OFFSET(DE104_3!$O$105,ROWS($O$105:O114)-1,COLUMNS($O$105:O114)-1)<>\"\",OFFSET(DE104_3!$O$105,ROWS($O$105:O114)-1,COLUMNS($O$105:O114)-1),\"\")","v":2},{"$f":"IF(OFFSET(DE104_3!$P$105,ROWS($P$105:P114)-1,COLUMNS($P$105:P114)-1)<>\"\",OFFSET(DE104_3!$P$105,ROWS($P$105:P114)-1,COLUMNS($P$105:P114)-1),\"\")","v":"EACH"},{"$f":"IF(OFFSET(DE104_3!$Q$105,ROWS($Q$105:Q114)-1,COLUMNS($Q$105:Q114)-1)<>\"\",OFFSET(DE104_3!$Q$105,ROWS($Q$105:Q114)-1,COLUMNS($Q$105:Q114)-1),\"\")","v":""},{"$f":"IF(OFFSET(DE104_3!$R$105,ROWS($R$105:R114)-1,COLUMNS($R$105:R114)-1)<>\"\",OFFSET(DE104_3!$R$105,ROWS($R$105:R114)-1,COLUMNS($R$105:R114)-1),\"\")","v":""},{"$f":"IF(OFFSET(DE104_3!$S$105,ROWS($S$105:S114)-1,COLUMNS($S$105:S114)-1)<>\"\",OFFSET(DE104_3!$S$105,ROWS($S$105:S114)-1,COLUMNS($S$105:S114)-1),\"\")","v":""},{"$f":"IF(OFFSET(DE104_3!$T$105,ROWS($T$105:T114)-1,COLUMNS($T$105:T114)-1)<>\"\",OFFSET(DE104_3!$T$105,ROWS($T$105:T114)-1,COLUMNS($T$105:T114)-1),\"\")","v":""},{"$f":"IF(OFFSET(DE104_3!$U$105,ROWS($U$105:U114)-1,COLUMNS($U$105:U114)-1)<>\"\",OFFSET(DE104_3!$U$105,ROWS($U$105:U114)-1,COLUMNS($U$105:U114)-1),\"\")","v":""},{"$f":"IF(OFFSET(DE104_3!$V$105,ROWS($V$105:V114)-1,COLUMNS($V$105:V114)-1)<>\"\",OFFSET(DE104_3!$V$105,ROWS($V$105:V114)-1,COLUMNS($V$105:V114)-1),\"\")","v":""},{"$f":"IF(OFFSET(DE104_3!$W$105,ROWS($W$105:W114)-1,COLUMNS($W$105:W114)-1)<>\"\",OFFSET(DE104_3!$W$105,ROWS($W$105:W114)-1,COLUMNS($W$105:W114)-1),\"\")","v":""},{"$f":"IF(OFFSET(DE104_3!$X$105,ROWS($X$105:X114)-1,COLUMNS($X$105:X114)-1)<>\"\",OFFSET(DE104_3!$X$105,ROWS($X$105:X114)-1,COLUMNS($X$105:X114)-1),\"\")","v":""},{"$f":"IF(OFFSET(DE104_3!$Y$105,ROWS($Y$105:Y114)-1,COLUMNS($Y$105:Y114)-1)<>\"\",OFFSET(DE104_3!$Y$105,ROWS($Y$105:Y114)-1,COLUMNS($Y$105:Y114)-1),\"\")","v":""},{"$f":"IF(OFFSET(DE104_3!$Z$105,ROWS($Z$105:Z114)-1,COLUMNS($Z$105:Z114)-1)<>\"\",OFFSET(DE104_3!$Z$105,ROWS($Z$105:Z114)-1,COLUMNS($Z$105:Z114)-1),\"\")","v":""},{"$f":"IF(OFFSET(DE104_3!$AA$105,ROWS($AA$105:AA114)-1,COLUMNS($AA$105:AA114)-1)<>\"\",OFFSET(DE104_3!$AA$105,ROWS($AA$105:AA114)-1,COLUMNS($AA$105:AA114)-1),\"\")","v":""},{"$f":"IF(OFFSET(DE104_3!$AB$105,ROWS($AB$105:AB114)-1,COLUMNS($AB$105:AB114)-1)<>\"\",OFFSET(DE104_3!$AB$105,ROWS($AB$105:AB114)-1,COLUMNS($AB$105:AB114)-1),\"\")","v":""},{"$f":"IF(OFFSET(DE104_3!$AC$105,ROWS($AC$105:AC114)-1,COLUMNS($AC$105:AC114)-1)<>\"\",OFFSET(DE104_3!$AC$105,ROWS($AC$105:AC114)-1,COLUMNS($AC$105:AC114)-1),\"\")","v":""},{"$f":"IF(OFFSET(DE104_3!$AD$105,ROWS($AD$105:AD114)-1,COLUMNS($AD$105:AD114)-1)<>\"\",OFFSET(DE104_3!$AD$105,ROWS($AD$105:AD114)-1,COLUMNS($AD$105:AD114)-1),\"\")","v":""},{"$f":"IF(OFFSET(DE104_3!$AE$105,ROWS($AE$105:AE114)-1,COLUMNS($AE$105:AE114)-1)<>\"\",OFFSET(DE104_3!$AE$105,ROWS($AE$105:AE114)-1,COLUMNS($AE$105:AE114)-1),\"\")","v":""},{"$f":"IF(OFFSET(DE104_3!$AF$105,ROWS($AF$105:AF114)-1,COLUMNS($AF$105:AF114)-1)<>\"\",OFFSET(DE104_3!$AF$105,ROWS($AF$105:AF114)-1,COLUMNS($AF$105:AF114)-1),\"\")","v":""},{"$f":"IF(OFFSET(DE104_3!$AG$105,ROWS($AG$105:AG114)-1,COLUMNS($AG$105:AG114)-1)<>\"\",OFFSET(DE104_3!$AG$105,ROWS($AG$105:AG114)-1,COLUMNS($AG$105:AG114)-1),\"\")","v":""},{"$f":"IF(OFFSET(DE104_3!$AH$105,ROWS($AH$105:AH114)-1,COLUMNS($AH$105:AH114)-1)<>\"\",OFFSET(DE104_3!$AH$105,ROWS($AH$105:AH114)-1,COLUMNS($AH$105:AH114)-1),\"\")","v":""},{"$f":"IF(OFFSET(DE104_3!$AI$105,ROWS($AI$105:AI114)-1,COLUMNS($AI$105:AI114)-1)<>\"\",OFFSET(DE104_3!$AI$105,ROWS($AI$105:AI114)-1,COLUMNS($AI$105:AI114)-1),\"\")","v":""},{"$f":"IF(OFFSET(DE104_3!$AJ$105,ROWS($AJ$105:AJ114)-1,COLUMNS($AJ$105:AJ114)-1)<>\"\",OFFSET(DE104_3!$AJ$105,ROWS($AJ$105:AJ114)-1,COLUMNS($AJ$105:AJ114)-1),\"\")","v":""},{"$f":"IF(OFFSET(DE104_3!$AK$105,ROWS($AK$105:AK114)-1,COLUMNS($AK$105:AK114)-1)<>\"\",OFFSET(DE104_3!$AK$105,ROWS($AK$105:AK114)-1,COLUMNS($AK$105:AK114)-1),\"\")","v":""},{"$f":"IF(OFFSET(DE104_3!$AL$105,ROWS($AL$105:AL114)-1,COLUMNS($AL$105:AL114)-1)<>\"\",OFFSET(DE104_3!$AL$105,ROWS($AL$105:AL114)-1,COLUMNS($AL$105:AL114)-1),\"\")","v":""},{"$f":"IF(OFFSET(DE104_3!$AM$105,ROWS($AM$105:AM114)-1,COLUMNS($AM$105:AM114)-1)<>\"\",OFFSET(DE104_3!$AM$105,ROWS($AM$105:AM114)-1,COLUMNS($AM$105:AM114)-1),\"\")","v":""},{"$f":"IF(OFFSET(DE104_3!$AN$105,ROWS($AN$105:AN114)-1,COLUMNS($AN$105:AN114)-1)<>\"\",OFFSET(DE104_3!$AN$105,ROWS($AN$105:AN114)-1,COLUMNS($AN$105:AN114)-1),\"\")","v":""},{"$f":"IF(OFFSET(DE104_3!$AO$105,ROWS($AO$105:AO114)-1,COLUMNS($AO$105:AO114)-1)<>\"\",OFFSET(DE104_3!$AO$105,ROWS($AO$105:AO114)-1,COLUMNS($AO$105:AO114)-1),\"\")","v":""},{"$f":"IF(OFFSET(DE104_3!$AP$105,ROWS($AP$105:AP114)-1,COLUMNS($AP$105:AP114)-1)<>\"\",OFFSET(DE104_3!$AP$105,ROWS($AP$105:AP114)-1,COLUMNS($AP$105:AP114)-1),\"\")","v":""},{"$f":"IF(OFFSET(DE104_3!$AQ$105,ROWS($AQ$105:AQ114)-1,COLUMNS($AQ$105:AQ114)-1)<>\"\",OFFSET(DE104_3!$AQ$105,ROWS($AQ$105:AQ114)-1,COLUMNS($AQ$105:AQ114)-1),\"\")","v":""}]
[{"$f":"IF(OFFSET(DE104_3!$C$105,ROWS($C$105:C115)-1,COLUMNS($C$105:C115)-1)<>\"\",OFFSET(DE104_3!$C$105,ROWS($C$105:C115)-1,COLUMNS($C$105:C115)-1),\"\")","v":""},{"$f":"IF(OFFSET(DE104_3!$D$105,ROWS($D$105:D115)-1,COLUMNS($D$105:D115)-1)<>\"\",OFFSET(DE104_3!$D$105,ROWS($D$105:D115)-1,COLUMNS($D$105:D115)-1),\"\")","v":"APRONS, CONCRETE, 78 IN. DIA."},null,null,null,null,null,null,null,null,null,{"$f":"IF(OFFSET(DE104_3!$N$105,ROWS($N$105:N115)-1,COLUMNS($N$105:N115)-1)<>\"\",OFFSET(DE104_3!$N$105,ROWS($N$105:N115)-1,COLUMNS($N$105:N115)-1),\"\")","v":""},{"$f":"IF(OFFSET(DE104_3!$O$105,ROWS($O$105:O115)-1,COLUMNS($O$105:O115)-1)<>\"\",OFFSET(DE104_3!$O$105,ROWS($O$105:O115)-1,COLUMNS($O$105:O115)-1),\"\")","v":2},{"$f":"IF(OFFSET(DE104_3!$P$105,ROWS($P$105:P115)-1,COLUMNS($P$105:P115)-1)<>\"\",OFFSET(DE104_3!$P$105,ROWS($P$105:P115)-1,COLUMNS($P$105:P115)-1),\"\")","v":"EACH"},{"$f":"IF(OFFSET(DE104_3!$Q$105,ROWS($Q$105:Q115)-1,COLUMNS($Q$105:Q115)-1)<>\"\",OFFSET(DE104_3!$Q$105,ROWS($Q$105:Q115)-1,COLUMNS($Q$105:Q115)-1),\"\")","v":""},{"$f":"IF(OFFSET(DE104_3!$R$105,ROWS($R$105:R115)-1,COLUMNS($R$105:R115)-1)<>\"\",OFFSET(DE104_3!$R$105,ROWS($R$105:R115)-1,COLUMNS($R$105:R115)-1),\"\")","v":""},{"$f":"IF(OFFSET(DE104_3!$S$105,ROWS($S$105:S115)-1,COLUMNS($S$105:S115)-1)<>\"\",OFFSET(DE104_3!$S$105,ROWS($S$105:S115)-1,COLUMNS($S$105:S115)-1),\"\")","v":""},{"$f":"IF(OFFSET(DE104_3!$T$105,ROWS($T$105:T115)-1,COLUMNS($T$105:T115)-1)<>\"\",OFFSET(DE104_3!$T$105,ROWS($T$105:T115)-1,COLUMNS($T$105:T115)-1),\"\")","v":""},{"$f":"IF(OFFSET(DE104_3!$U$105,ROWS($U$105:U115)-1,COLUMNS($U$105:U115)-1)<>\"\",OFFSET(DE104_3!$U$105,ROWS($U$105:U115)-1,COLUMNS($U$105:U115)-1),\"\")","v":""},{"$f":"IF(OFFSET(DE104_3!$V$105,ROWS($V$105:V115)-1,COLUMNS($V$105:V115)-1)<>\"\",OFFSET(DE104_3!$V$105,ROWS($V$105:V115)-1,COLUMNS($V$105:V115)-1),\"\")","v":""},{"$f":"IF(OFFSET(DE104_3!$W$105,ROWS($W$105:W115)-1,COLUMNS($W$105:W115)-1)<>\"\",OFFSET(DE104_3!$W$105,ROWS($W$105:W115)-1,COLUMNS($W$105:W115)-1),\"\")","v":""},{"$f":"IF(OFFSET(DE104_3!$X$105,ROWS($X$105:X115)-1,COLUMNS($X$105:X115)-1)<>\"\",OFFSET(DE104_3!$X$105,ROWS($X$105:X115)-1,COLUMNS($X$105:X115)-1),\"\")","v":""},{"$f":"IF(OFFSET(DE104_3!$Y$105,ROWS($Y$105:Y115)-1,COLUMNS($Y$105:Y115)-1)<>\"\",OFFSET(DE104_3!$Y$105,ROWS($Y$105:Y115)-1,COLUMNS($Y$105:Y115)-1),\"\")","v":""},{"$f":"IF(OFFSET(DE104_3!$Z$105,ROWS($Z$105:Z115)-1,COLUMNS($Z$105:Z115)-1)<>\"\",OFFSET(DE104_3!$Z$105,ROWS($Z$105:Z115)-1,COLUMNS($Z$105:Z115)-1),\"\")","v":""},{"$f":"IF(OFFSET(DE104_3!$AA$105,ROWS($AA$105:AA115)-1,COLUMNS($AA$105:AA115)-1)<>\"\",OFFSET(DE104_3!$AA$105,ROWS($AA$105:AA115)-1,COLUMNS($AA$105:AA115)-1),\"\")","v":""},{"$f":"IF(OFFSET(DE104_3!$AB$105,ROWS($AB$105:AB115)-1,COLUMNS($AB$105:AB115)-1)<>\"\",OFFSET(DE104_3!$AB$105,ROWS($AB$105:AB115)-1,COLUMNS($AB$105:AB115)-1),\"\")","v":""},{"$f":"IF(OFFSET(DE104_3!$AC$105,ROWS($AC$105:AC115)-1,COLUMNS($AC$105:AC115)-1)<>\"\",OFFSET(DE104_3!$AC$105,ROWS($AC$105:AC115)-1,COLUMNS($AC$105:AC115)-1),\"\")","v":""},{"$f":"IF(OFFSET(DE104_3!$AD$105,ROWS($AD$105:AD115)-1,COLUMNS($AD$105:AD115)-1)<>\"\",OFFSET(DE104_3!$AD$105,ROWS($AD$105:AD115)-1,COLUMNS($AD$105:AD115)-1),\"\")","v":""},{"$f":"IF(OFFSET(DE104_3!$AE$105,ROWS($AE$105:AE115)-1,COLUMNS($AE$105:AE115)-1)<>\"\",OFFSET(DE104_3!$AE$105,ROWS($AE$105:AE115)-1,COLUMNS($AE$105:AE115)-1),\"\")","v":""},{"$f":"IF(OFFSET(DE104_3!$AF$105,ROWS($AF$105:AF115)-1,COLUMNS($AF$105:AF115)-1)<>\"\",OFFSET(DE104_3!$AF$105,ROWS($AF$105:AF115)-1,COLUMNS($AF$105:AF115)-1),\"\")","v":""},{"$f":"IF(OFFSET(DE104_3!$AG$105,ROWS($AG$105:AG115)-1,COLUMNS($AG$105:AG115)-1)<>\"\",OFFSET(DE104_3!$AG$105,ROWS($AG$105:AG115)-1,COLUMNS($AG$105:AG115)-1),\"\")","v":""},{"$f":"IF(OFFSET(DE104_3!$AH$105,ROWS($AH$105:AH115)-1,COLUMNS($AH$105:AH115)-1)<>\"\",OFFSET(DE104_3!$AH$105,ROWS($AH$105:AH115)-1,COLUMNS($AH$105:AH115)-1),\"\")","v":""},{"$f":"IF(OFFSET(DE104_3!$AI$105,ROWS($AI$105:AI115)-1,COLUMNS($AI$105:AI115)-1)<>\"\",OFFSET(DE104_3!$AI$105,ROWS($AI$105:AI115)-1,COLUMNS($AI$105:AI115)-1),\"\")","v":""},{"$f":"IF(OFFSET(DE104_3!$AJ$105,ROWS($AJ$105:AJ115)-1,COLUMNS($AJ$105:AJ115)-1)<>\"\",OFFSET(DE104_3!$AJ$105,ROWS($AJ$105:AJ115)-1,COLUMNS($AJ$105:AJ115)-1),\"\")","v":""},{"$f":"IF(OFFSET(DE104_3!$AK$105,ROWS($AK$105:AK115)-1,COLUMNS($AK$105:AK115)-1)<>\"\",OFFSET(DE104_3!$AK$105,ROWS($AK$105:AK115)-1,COLUMNS($AK$105:AK115)-1),\"\")","v":""},{"$f":"IF(OFFSET(DE104_3!$AL$105,ROWS($AL$105:AL115)-1,COLUMNS($AL$105:AL115)-1)<>\"\",OFFSET(DE104_3!$AL$105,ROWS($AL$105:AL115)-1,COLUMNS($AL$105:AL115)-1),\"\")","v":""},{"$f":"IF(OFFSET(DE104_3!$AM$105,ROWS($AM$105:AM115)-1,COLUMNS($AM$105:AM115)-1)<>\"\",OFFSET(DE104_3!$AM$105,ROWS($AM$105:AM115)-1,COLUMNS($AM$105:AM115)-1),\"\")","v":""},{"$f":"IF(OFFSET(DE104_3!$AN$105,ROWS($AN$105:AN115)-1,COLUMNS($AN$105:AN115)-1)<>\"\",OFFSET(DE104_3!$AN$105,ROWS($AN$105:AN115)-1,COLUMNS($AN$105:AN115)-1),\"\")","v":""},{"$f":"IF(OFFSET(DE104_3!$AO$105,ROWS($AO$105:AO115)-1,COLUMNS($AO$105:AO115)-1)<>\"\",OFFSET(DE104_3!$AO$105,ROWS($AO$105:AO115)-1,COLUMNS($AO$105:AO115)-1),\"\")","v":""},{"$f":"IF(OFFSET(DE104_3!$AP$105,ROWS($AP$105:AP115)-1,COLUMNS($AP$105:AP115)-1)<>\"\",OFFSET(DE104_3!$AP$105,ROWS($AP$105:AP115)-1,COLUMNS($AP$105:AP115)-1),\"\")","v":""},{"$f":"IF(OFFSET(DE104_3!$AQ$105,ROWS($AQ$105:AQ115)-1,COLUMNS($AQ$105:AQ115)-1)<>\"\",OFFSET(DE104_3!$AQ$105,ROWS($AQ$105:AQ115)-1,COLUMNS($AQ$105:AQ115)-1),\"\")","v":""}]
[{"$f":"IF(OFFSET(DE104_3!$C$105,ROWS($C$105:C116)-1,COLUMNS($C$105:C116)-1)<>\"\",OFFSET(DE104_3!$C$105,ROWS($C$105:C116)-1,COLUMNS($C$105:C116)-1),\"\")","v":""},{"$f":"IF(OFFSET(DE104_3!$D$105,ROWS($D$105:D116)-1,COLUMNS($D$105:D116)-1)<>\"\",OFFSET(DE104_3!$D$105,ROWS($D$105:D116)-1,COLUMNS($D$105:D116)-1),\"\")","v":"APRON, LOW CLEARANCE CONCRETE, EQUIVALENT DIAMETER 36 IN."},null,null,null,null,null,null,null,null,null,{"$f":"IF(OFFSET(DE104_3!$N$105,ROWS($N$105:N116)-1,COLUMNS($N$105:N116)-1)<>\"\",OFFSET(DE104_3!$N$105,ROWS($N$105:N116)-1,COLUMNS($N$105:N116)-1),\"\")","v":""},{"$f":"IF(OFFSET(DE104_3!$O$105,ROWS($O$105:O116)-1,COLUMNS($O$105:O116)-1)<>\"\",OFFSET(DE104_3!$O$105,ROWS($O$105:O116)-1,COLUMNS($O$105:O116)-1),\"\")","v":2},{"$f":"IF(OFFSET(DE104_3!$P$105,ROWS($P$105:P116)-1,COLUMNS($P$105:P116)-1)<>\"\",OFFSET(DE104_3!$P$105,ROWS($P$105:P116)-1,COLUMNS($P$105:P116)-1),\"\")","v":"EACH"},{"$f":"IF(OFFSET(DE104_3!$Q$105,ROWS($Q$105:Q116)-1,COLUMNS($Q$105:Q116)-1)<>\"\",OFFSET(DE104_3!$Q$105,ROWS($Q$105:Q116)-1,COLUMNS($Q$105:Q116)-1),\"\")","v":""},{"$f":"IF(OFFSET(DE104_3!$R$105,ROWS($R$105:R116)-1,COLUMNS($R$105:R116)-1)<>\"\",OFFSET(DE104_3!$R$105,ROWS($R$105:R116)-1,COLUMNS($R$105:R116)-1),\"\")","v":""},{"$f":"IF(OFFSET(DE104_3!$S$105,ROWS($S$105:S116)-1,COLUMNS($S$105:S116)-1)<>\"\",OFFSET(DE104_3!$S$105,ROWS($S$105:S116)-1,COLUMNS($S$105:S116)-1),\"\")","v":""},{"$f":"IF(OFFSET(DE104_3!$T$105,ROWS($T$105:T116)-1,COLUMNS($T$105:T116)-1)<>\"\",OFFSET(DE104_3!$T$105,ROWS($T$105:T116)-1,COLUMNS($T$105:T116)-1),\"\")","v":""},{"$f":"IF(OFFSET(DE104_3!$U$105,ROWS($U$105:U116)-1,COLUMNS($U$105:U116)-1)<>\"\",OFFSET(DE104_3!$U$105,ROWS($U$105:U116)-1,COLUMNS($U$105:U116)-1),\"\")","v":""},{"$f":"IF(OFFSET(DE104_3!$V$105,ROWS($V$105:V116)-1,COLUMNS($V$105:V116)-1)<>\"\",OFFSET(DE104_3!$V$105,ROWS($V$105:V116)-1,COLUMNS($V$105:V116)-1),\"\")","v":""},{"$f":"IF(OFFSET(DE104_3!$W$105,ROWS($W$105:W116)-1,COLUMNS($W$105:W116)-1)<>\"\",OFFSET(DE104_3!$W$105,ROWS($W$105:W116)-1,COLUMNS($W$105:W116)-1),\"\")","v":""},{"$f":"IF(OFFSET(DE104_3!$X$105,ROWS($X$105:X116)-1,COLUMNS($X$105:X116)-1)<>\"\",OFFSET(DE104_3!$X$105,ROWS($X$105:X116)-1,COLUMNS($X$105:X116)-1),\"\")","v":""},{"$f":"IF(OFFSET(DE104_3!$Y$105,ROWS($Y$105:Y116)-1,COLUMNS($Y$105:Y116)-1)<>\"\",OFFSET(DE104_3!$Y$105,ROWS($Y$105:Y116)-1,COLUMNS($Y$105:Y116)-1),\"\")","v":""},{"$f":"IF(OFFSET(DE104_3!$Z$105,ROWS($Z$105:Z116)-1,COLUMNS($Z$105:Z116)-1)<>\"\",OFFSET(DE104_3!$Z$105,ROWS($Z$105:Z116)-1,COLUMNS($Z$105:Z116)-1),\"\")","v":""},{"$f":"IF(OFFSET(DE104_3!$AA$105,ROWS($AA$105:AA116)-1,COLUMNS($AA$105:AA116)-1)<>\"\",OFFSET(DE104_3!$AA$105,ROWS($AA$105:AA116)-1,COLUMNS($AA$105:AA116)-1),\"\")","v":""},{"$f":"IF(OFFSET(DE104_3!$AB$105,ROWS($AB$105:AB116)-1,COLUMNS($AB$105:AB116)-1)<>\"\",OFFSET(DE104_3!$AB$105,ROWS($AB$105:AB116)-1,COLUMNS($AB$105:AB116)-1),\"\")","v":""},{"$f":"IF(OFFSET(DE104_3!$AC$105,ROWS($AC$105:AC116)-1,COLUMNS($AC$105:AC116)-1)<>\"\",OFFSET(DE104_3!$AC$105,ROWS($AC$105:AC116)-1,COLUMNS($AC$105:AC116)-1),\"\")","v":""},{"$f":"IF(OFFSET(DE104_3!$AD$105,ROWS($AD$105:AD116)-1,COLUMNS($AD$105:AD116)-1)<>\"\",OFFSET(DE104_3!$AD$105,ROWS($AD$105:AD116)-1,COLUMNS($AD$105:AD116)-1),\"\")","v":""},{"$f":"IF(OFFSET(DE104_3!$AE$105,ROWS($AE$105:AE116)-1,COLUMNS($AE$105:AE116)-1)<>\"\",OFFSET(DE104_3!$AE$105,ROWS($AE$105:AE116)-1,COLUMNS($AE$105:AE116)-1),\"\")","v":""},{"$f":"IF(OFFSET(DE104_3!$AF$105,ROWS($AF$105:AF116)-1,COLUMNS($AF$105:AF116)-1)<>\"\",OFFSET(DE104_3!$AF$105,ROWS($AF$105:AF116)-1,COLUMNS($AF$105:AF116)-1),\"\")","v":""},{"$f":"IF(OFFSET(DE104_3!$AG$105,ROWS($AG$105:AG116)-1,COLUMNS($AG$105:AG116)-1)<>\"\",OFFSET(DE104_3!$AG$105,ROWS($AG$105:AG116)-1,COLUMNS($AG$105:AG116)-1),\"\")","v":""},{"$f":"IF(OFFSET(DE104_3!$AH$105,ROWS($AH$105:AH116)-1,COLUMNS($AH$105:AH116)-1)<>\"\",OFFSET(DE104_3!$AH$105,ROWS($AH$105:AH116)-1,COLUMNS($AH$105:AH116)-1),\"\")","v":""},{"$f":"IF(OFFSET(DE104_3!$AI$105,ROWS($AI$105:AI116)-1,COLUMNS($AI$105:AI116)-1)<>\"\",OFFSET(DE104_3!$AI$105,ROWS($AI$105:AI116)-1,COLUMNS($AI$105:AI116)-1),\"\")","v":""},{"$f":"IF(OFFSET(DE104_3!$AJ$105,ROWS($AJ$105:AJ116)-1,COLUMNS($AJ$105:AJ116)-1)<>\"\",OFFSET(DE104_3!$AJ$105,ROWS($AJ$105:AJ116)-1,COLUMNS($AJ$105:AJ116)-1),\"\")","v":""},{"$f":"IF(OFFSET(DE104_3!$AK$105,ROWS($AK$105:AK116)-1,COLUMNS($AK$105:AK116)-1)<>\"\",OFFSET(DE104_3!$AK$105,ROWS($AK$105:AK116)-1,COLUMNS($AK$105:AK116)-1),\"\")","v":""},{"$f":"IF(OFFSET(DE104_3!$AL$105,ROWS($AL$105:AL116)-1,COLUMNS($AL$105:AL116)-1)<>\"\",OFFSET(DE104_3!$AL$105,ROWS($AL$105:AL116)-1,COLUMNS($AL$105:AL116)-1),\"\")","v":""},{"$f":"IF(OFFSET(DE104_3!$AM$105,ROWS($AM$105:AM116)-1,COLUMNS($AM$105:AM116)-1)<>\"\",OFFSET(DE104_3!$AM$105,ROWS($AM$105:AM116)-1,COLUMNS($AM$105:AM116)-1),\"\")","v":""},{"$f":"IF(OFFSET(DE104_3!$AN$105,ROWS($AN$105:AN116)-1,COLUMNS($AN$105:AN116)-1)<>\"\",OFFSET(DE104_3!$AN$105,ROWS($AN$105:AN116)-1,COLUMNS($AN$105:AN116)-1),\"\")","v":""},{"$f":"IF(OFFSET(DE104_3!$AO$105,ROWS($AO$105:AO116)-1,COLUMNS($AO$105:AO116)-1)<>\"\",OFFSET(DE104_3!$AO$105,ROWS($AO$105:AO116)-1,COLUMNS($AO$105:AO116)-1),\"\")","v":""},{"$f":"IF(OFFSET(DE104_3!$AP$105,ROWS($AP$105:AP116)-1,COLUMNS($AP$105:AP116)-1)<>\"\",OFFSET(DE104_3!$AP$105,ROWS($AP$105:AP116)-1,COLUMNS($AP$105:AP116)-1),\"\")","v":""},{"$f":"IF(OFFSET(DE104_3!$AQ$105,ROWS($AQ$105:AQ116)-1,COLUMNS($AQ$105:AQ116)-1)<>\"\",OFFSET(DE104_3!$AQ$105,ROWS($AQ$105:AQ116)-1,COLUMNS($AQ$105:AQ116)-1),\"\")","v":""}]
[{"$f":"IF(OFFSET(DE104_3!$C$105,ROWS($C$105:C117)-1,COLUMNS($C$105:C117)-1)<>\"\",OFFSET(DE104_3!$C$105,ROWS($C$105:C117)-1,COLUMNS($C$105:C117)-1),\"\")","v":""},{"$f":"IF(OFFSET(DE104_3!$D$105,ROWS($D$105:D117)-1,COLUMNS($D$105:D117)-1)<>\"\",OFFSET(DE104_3!$D$105,ROWS($D$105:D117)-1,COLUMNS($D$105:D117)-1),\"\")","v":"CULVERT, CONCRETE ROADWAY PIPE, 24 IN. DIA."},null,null,null,null,null,null,null,null,null,{"$f":"IF(OFFSET(DE104_3!$N$105,ROWS($N$105:N117)-1,COLUMNS($N$105:N117)-1)<>\"\",OFFSET(DE104_3!$N$105,ROWS($N$105:N117)-1,COLUMNS($N$105:N117)-1),\"\")","v":""},{"$f":"IF(OFFSET(DE104_3!$O$105,ROWS($O$105:O117)-1,COLUMNS($O$105:O117)-1)<>\"\",OFFSET(DE104_3!$O$105,ROWS($O$105:O117)-1,COLUMNS($O$105:O117)-1),\"\")","v":1082},{"$f":"IF(OFFSET(DE104_3!$P$105,ROWS($P$105:P117)-1,COLUMNS($P$105:P117)-1)<>\"\",OFFSET(DE104_3!$P$105,ROWS($P$105:P117)-1,COLUMNS($P$105:P117)-1),\"\")","v":"LF"},{"$f":"IF(OFFSET(DE104_3!$Q$105,ROWS($Q$105:Q117)-1,COLUMNS($Q$105:Q117)-1)<>\"\",OFFSET(DE104_3!$Q$105,ROWS($Q$105:Q117)-1,COLUMNS($Q$105:Q117)-1),\"\")","v":""},{"$f":"IF(OFFSET(DE104_3!$R$105,ROWS($R$105:R117)-1,COLUMNS($R$105:R117)-1)<>\"\",OFFSET(DE104_3!$R$105,ROWS($R$105:R117)-1,COLUMNS($R$105:R117)-1),\"\")","v":""},{"$f":"IF(OFFSET(DE104_3!$S$105,ROWS($S$105:S117)-1,COLUMNS($S$105:S117)-1)<>\"\",OFFSET(DE104_3!$S$105,ROWS($S$105:S117)-1,COLUMNS($S$105:S117)-1),\"\")","v":""},{"$f":"IF(OFFSET(DE104_3!$T$105,ROWS($T$105:T117)-1,COLUMNS($T$105:T117)-1)<>\"\",OFFSET(DE104_3!$T$105,ROWS($T$105:T117)-1,COLUMNS($T$105:T117)-1),\"\")","v":""},{"$f":"IF(OFFSET(DE104_3!$U$105,ROWS($U$105:U117)-1,COLUMNS($U$105:U117)-1)<>\"\",OFFSET(DE104_3!$U$105,ROWS($U$105:U117)-1,COLUMNS($U$105:U117)-1),\"\")","v":""},{"$f":"IF(OFFSET(DE104_3!$V$105,ROWS($V$105:V117)-1,COLUMNS($V$105:V117)-1)<>\"\",OFFSET(DE104_3!$V$105,ROWS($V$105:V117)-1,COLUMNS($V$105:V117)-1),\"\")","v":""},{"$f":"IF(OFFSET(DE104_3!$W$105,ROWS($W$105:W117)-1,COLUMNS($W$105:W117)-1)<>\"\",OFFSET(DE104_3!$W$105,ROWS($W$105:W117)-1,COLUMNS($W$105:W117)-1),\"\")","v":""},{"$f":"IF(OFFSET(DE104_3!$X$105,ROWS($X$105:X117)-1,COLUMNS($X$105:X117)-1)<>\"\",OFFSET(DE104_3!$X$105,ROWS($X$105:X117)-1,COLUMNS($X$105:X117)-1),\"\")","v":""},{"$f":"IF(OFFSET(DE104_3!$Y$105,ROWS($Y$105:Y117)-1,COLUMNS($Y$105:Y117)-1)<>\"\",OFFSET(DE104_3!$Y$105,ROWS($Y$105:Y117)-1,COLUMNS($Y$105:Y117)-1),\"\")","v":""},{"$f":"IF(OFFSET(DE104_3!$Z$105,ROWS($Z$105:Z117)-1,COLUMNS($Z$105:Z117)-1)<>\"\",OFFSET(DE104_3!$Z$105,ROWS($Z$105:Z117)-1,COLUMNS($Z$105:Z117)-1),\"\")","v":""},{"$f":"IF(OFFSET(DE104_3!$AA$105,ROWS($AA$105:AA117)-1,COLUMNS($AA$105:AA117)-1)<>\"\",OFFSET(DE104_3!$AA$105,ROWS($AA$105:AA117)-1,COLUMNS($AA$105:AA117)-1),\"\")","v":""},{"$f":"IF(OFFSET(DE104_3!$AB$105,ROWS($AB$105:AB117)-1,COLUMNS($AB$105:AB117)-1)<>\"\",OFFSET(DE104_3!$AB$105,ROWS($AB$105:AB117)-1,COLUMNS($AB$105:AB117)-1),\"\")","v":""},{"$f":"IF(OFFSET(DE104_3!$AC$105,ROWS($AC$105:AC117)-1,COLUMNS($AC$105:AC117)-1)<>\"\",OFFSET(DE104_3!$AC$105,ROWS($AC$105:AC117)-1,COLUMNS($AC$105:AC117)-1),\"\")","v":""},{"$f":"IF(OFFSET(DE104_3!$AD$105,ROWS($AD$105:AD117)-1,COLUMNS($AD$105:AD117)-1)<>\"\",OFFSET(DE104_3!$AD$105,ROWS($AD$105:AD117)-1,COLUMNS($AD$105:AD117)-1),\"\")","v":""},{"$f":"IF(OFFSET(DE104_3!$AE$105,ROWS($AE$105:AE117)-1,COLUMNS($AE$105:AE117)-1)<>\"\",OFFSET(DE104_3!$AE$105,ROWS($AE$105:AE117)-1,COLUMNS($AE$105:AE117)-1),\"\")","v":""},{"$f":"IF(OFFSET(DE104_3!$AF$105,ROWS($AF$105:AF117)-1,COLUMNS($AF$105:AF117)-1)<>\"\",OFFSET(DE104_3!$AF$105,ROWS($AF$105:AF117)-1,COLUMNS($AF$105:AF117)-1),\"\")","v":""},{"$f":"IF(OFFSET(DE104_3!$AG$105,ROWS($AG$105:AG117)-1,COLUMNS($AG$105:AG117)-1)<>\"\",OFFSET(DE104_3!$AG$105,ROWS($AG$105:AG117)-1,COLUMNS($AG$105:AG117)-1),\"\")","v":""},{"$f":"IF(OFFSET(DE104_3!$AH$105,ROWS($AH$105:AH117)-1,COLUMNS($AH$105:AH117)-1)<>\"\",OFFSET(DE104_3!$AH$105,ROWS($AH$105:AH117)-1,COLUMNS($AH$105:AH117)-1),\"\")","v":""},{"$f":"IF(OFFSET(DE104_3!$AI$105,ROWS($AI$105:AI117)-1,COLUMNS($AI$105:AI117)-1)<>\"\",OFFSET(DE104_3!$AI$105,ROWS($AI$105:AI117)-1,COLUMNS($AI$105:AI117)-1),\"\")","v":""},{"$f":"IF(OFFSET(DE104_3!$AJ$105,ROWS($AJ$105:AJ117)-1,COLUMNS($AJ$105:AJ117)-1)<>\"\",OFFSET(DE104_3!$AJ$105,ROWS($AJ$105:AJ117)-1,COLUMNS($AJ$105:AJ117)-1),\"\")","v":""},{"$f":"IF(OFFSET(DE104_3!$AK$105,ROWS($AK$105:AK117)-1,COLUMNS($AK$105:AK117)-1)<>\"\",OFFSET(DE104_3!$AK$105,ROWS($AK$105:AK117)-1,COLUMNS($AK$105:AK117)-1),\"\")","v":""},{"$f":"IF(OFFSET(DE104_3!$AL$105,ROWS($AL$105:AL117)-1,COLUMNS($AL$105:AL117)-1)<>\"\",OFFSET(DE104_3!$AL$105,ROWS($AL$105:AL117)-1,COLUMNS($AL$105:AL117)-1),\"\")","v":""},{"$f":"IF(OFFSET(DE104_3!$AM$105,ROWS($AM$105:AM117)-1,COLUMNS($AM$105:AM117)-1)<>\"\",OFFSET(DE104_3!$AM$105,ROWS($AM$105:AM117)-1,COLUMNS($AM$105:AM117)-1),\"\")","v":""},{"$f":"IF(OFFSET(DE104_3!$AN$105,ROWS($AN$105:AN117)-1,COLUMNS($AN$105:AN117)-1)<>\"\",OFFSET(DE104_3!$AN$105,ROWS($AN$105:AN117)-1,COLUMNS($AN$105:AN117)-1),\"\")","v":""},{"$f":"IF(OFFSET(DE104_3!$AO$105,ROWS($AO$105:AO117)-1,COLUMNS($AO$105:AO117)-1)<>\"\",OFFSET(DE104_3!$AO$105,ROWS($AO$105:AO117)-1,COLUMNS($AO$105:AO117)-1),\"\")","v":""},{"$f":"IF(OFFSET(DE104_3!$AP$105,ROWS($AP$105:AP117)-1,COLUMNS($AP$105:AP117)-1)<>\"\",OFFSET(DE104_3!$AP$105,ROWS($AP$105:AP117)-1,COLUMNS($AP$105:AP117)-1),\"\")","v":""},{"$f":"IF(OFFSET(DE104_3!$AQ$105,ROWS($AQ$105:AQ117)-1,COLUMNS($AQ$105:AQ117)-1)<>\"\",OFFSET(DE104_3!$AQ$105,ROWS($AQ$105:AQ117)-1,COLUMNS($AQ$105:AQ117)-1),\"\")","v":""}]
[{"$f":"IF(OFFSET(DE104_3!$C$105,ROWS($C$105:C118)-1,COLUMNS($C$105:C118)-1)<>\"\",OFFSET(DE104_3!$C$105,ROWS($C$105:C118)-1,COLUMNS($C$105:C118)-1),\"\")","v":""},{"$f":"IF(OFFSET(DE104_3!$D$105,ROWS($D$105:D118)-1,COLUMNS($D$105:D118)-1)<>\"\",OFFSET(DE104_3!$D$105,ROWS($D$105:D118)-1,COLUMNS($D$105:D118)-1),\"\")","v":"CULVERT, CONCRETE ROADWAY PIPE, 36 IN. DIA."},null,null,null,null,null,null,null,null,null,{"$f":"IF(OFFSET(DE104_3!$N$105,ROWS($N$105:N118)-1,COLUMNS($N$105:N118)-1)<>\"\",OFFSET(DE104_3!$N$105,ROWS($N$105:N118)-1,COLUMNS($N$105:N118)-1),\"\")","v":""},{"$f":"IF(OFFSET(DE104_3!$O$105,ROWS($O$105:O118)-1,COLUMNS($O$105:O118)-1)<>\"\",OFFSET(DE104_3!$O$105,ROWS($O$105:O118)-1,COLUMNS($O$105:O118)-1),\"\")","v":402},{"$f":"IF(OFFSET(DE104_3!$P$105,ROWS($P$105:P118)-1,COLUMNS($P$105:P118)-1)<>\"\",OFFSET(DE104_3!$P$105,ROWS($P$105:P118)-1,COLUMNS($P$105:P118)-1),\"\")","v":"LF"},{"$f":"IF(OFFSET(DE104_3!$Q$105,ROWS($Q$105:Q118)-1,COLUMNS($Q$105:Q118)-1)<>\"\",OFFSET(DE104_3!$Q$105,ROWS($Q$105:Q118)-1,COLUMNS($Q$105:Q118)-1),\"\")","v":""},{"$f":"IF(OFFSET(DE104_3!$R$105,ROWS($R$105:R118)-1,COLUMNS($R$105:R118)-1)<>\"\",OFFSET(DE104_3!$R$105,ROWS($R$105:R118)-1,COLUMNS($R$105:R118)-1),\"\")","v":""},{"$f":"IF(OFFSET(DE104_3!$S$105,ROWS($S$105:S118)-1,COLUMNS($S$105:S118)-1)<>\"\",OFFSET(DE104_3!$S$105,ROWS($S$105:S118)-1,COLUMNS($S$105:S118)-1),\"\")","v":""},{"$f":"IF(OFFSET(DE104_3!$T$105,ROWS($T$105:T118)-1,COLUMNS($T$105:T118)-1)<>\"\",OFFSET(DE104_3!$T$105,ROWS($T$105:T118)-1,COLUMNS($T$105:T118)-1),\"\")","v":""},{"$f":"IF(OFFSET(DE104_3!$U$105,ROWS($U$105:U118)-1,COLUMNS($U$105:U118)-1)<>\"\",OFFSET(DE104_3!$U$105,ROWS($U$105:U118)-1,COLUMNS($U$105:U118)-1),\"\")","v":""},{"$f":"IF(OFFSET(DE104_3!$V$105,ROWS($V$105:V118)-1,COLUMNS($V$105:V118)-1)<>\"\",OFFSET(DE104_3!$V$105,ROWS($V$105:V118)-1,COLUMNS($V$105:V118)-1),\"\")","v":""},{"$f":"IF(OFFSET(DE104_3!$W$105,ROWS($W$105:W118)-1,COLUMNS($W$105:W118)-1)<>\"\",OFFSET(DE104_3!$W$105,ROWS($W$105:W118)-1,COLUMNS($W$105:W118)-1),\"\")","v":""},{"$f":"IF(OFFSET(DE104_3!$X$105,ROWS($X$105:X118)-1,COLUMNS($X$105:X118)-1)<>\"\",OFFSET(DE104_3!$X$105,ROWS($X$105:X118)-1,COLUMNS($X$105:X118)-1),\"\")","v":""},{"$f":"IF(OFFSET(DE104_3!$Y$105,ROWS($Y$105:Y118)-1,COLUMNS($Y$105:Y118)-1)<>\"\",OFFSET(DE104_3!$Y$105,ROWS($Y$105:Y118)-1,COLUMNS($Y$105:Y118)-1),\"\")","v":""},{"$f":"IF(OFFSET(DE104_3!$Z$105,ROWS($Z$105:Z118)-1,COLUMNS($Z$105:Z118)-1)<>\"\",OFFSET(DE104_3!$Z$105,ROWS($Z$105:Z118)-1,COLUMNS($Z$105:Z118)-1),\"\")","v":""},{"$f":"IF(OFFSET(DE104_3!$AA$105,ROWS($AA$105:AA118)-1,COLUMNS($AA$105:AA118)-1)<>\"\",OFFSET(DE104_3!$AA$105,ROWS($AA$105:AA118)-1,COLUMNS($AA$105:AA118)-1),\"\")","v":""},{"$f":"IF(OFFSET(DE104_3!$AB$105,ROWS($AB$105:AB118)-1,COLUMNS($AB$105:AB118)-1)<>\"\",OFFSET(DE104_3!$AB$105,ROWS($AB$105:AB118)-1,COLUMNS($AB$105:AB118)-1),\"\")","v":""},{"$f":"IF(OFFSET(DE104_3!$AC$105,ROWS($AC$105:AC118)-1,COLUMNS($AC$105:AC118)-1)<>\"\",OFFSET(DE104_3!$AC$105,ROWS($AC$105:AC118)-1,COLUMNS($AC$105:AC118)-1),\"\")","v":""},{"$f":"IF(OFFSET(DE104_3!$AD$105,ROWS($AD$105:AD118)-1,COLUMNS($AD$105:AD118)-1)<>\"\",OFFSET(DE104_3!$AD$105,ROWS($AD$105:AD118)-1,COLUMNS($AD$105:AD118)-1),\"\")","v":""},{"$f":"IF(OFFSET(DE104_3!$AE$105,ROWS($AE$105:AE118)-1,COLUMNS($AE$105:AE118)-1)<>\"\",OFFSET(DE104_3!$AE$105,ROWS($AE$105:AE118)-1,COLUMNS($AE$105:AE118)-1),\"\")","v":""},{"$f":"IF(OFFSET(DE104_3!$AF$105,ROWS($AF$105:AF118)-1,COLUMNS($AF$105:AF118)-1)<>\"\",OFFSET(DE104_3!$AF$105,ROWS($AF$105:AF118)-1,COLUMNS($AF$105:AF118)-1),\"\")","v":""},{"$f":"IF(OFFSET(DE104_3!$AG$105,ROWS($AG$105:AG118)-1,COLUMNS($AG$105:AG118)-1)<>\"\",OFFSET(DE104_3!$AG$105,ROWS($AG$105:AG118)-1,COLUMNS($AG$105:AG118)-1),\"\")","v":""},{"$f":"IF(OFFSET(DE104_3!$AH$105,ROWS($AH$105:AH118)-1,COLUMNS($AH$105:AH118)-1)<>\"\",OFFSET(DE104_3!$AH$105,ROWS($AH$105:AH118)-1,COLUMNS($AH$105:AH118)-1),\"\")","v":""},{"$f":"IF(OFFSET(DE104_3!$AI$105,ROWS($AI$105:AI118)-1,COLUMNS($AI$105:AI118)-1)<>\"\",OFFSET(DE104_3!$AI$105,ROWS($AI$105:AI118)-1,COLUMNS($AI$105:AI118)-1),\"\")","v":""},{"$f":"IF(OFFSET(DE104_3!$AJ$105,ROWS($AJ$105:AJ118)-1,COLUMNS($AJ$105:AJ118)-1)<>\"\",OFFSET(DE104_3!$AJ$105,ROWS($AJ$105:AJ118)-1,COLUMNS($AJ$105:AJ118)-1),\"\")","v":""},{"$f":"IF(OFFSET(DE104_3!$AK$105,ROWS($AK$105:AK118)-1,COLUMNS($AK$105:AK118)-1)<>\"\",OFFSET(DE104_3!$AK$105,ROWS($AK$105:AK118)-1,COLUMNS($AK$105:AK118)-1),\"\")","v":""},{"$f":"IF(OFFSET(DE104_3!$AL$105,ROWS($AL$105:AL118)-1,COLUMNS($AL$105:AL118)-1)<>\"\",OFFSET(DE104_3!$AL$105,ROWS($AL$105:AL118)-1,COLUMNS($AL$105:AL118)-1),\"\")","v":""},{"$f":"IF(OFFSET(DE104_3!$AM$105,ROWS($AM$105:AM118)-1,COLUMNS($AM$105:AM118)-1)<>\"\",OFFSET(DE104_3!$AM$105,ROWS($AM$105:AM118)-1,COLUMNS($AM$105:AM118)-1),\"\")","v":""},{"$f":"IF(OFFSET(DE104_3!$AN$105,ROWS($AN$105:AN118)-1,COLUMNS($AN$105:AN118)-1)<>\"\",OFFSET(DE104_3!$AN$105,ROWS($AN$105:AN118)-1,COLUMNS($AN$105:AN118)-1),\"\")","v":""},{"$f":"IF(OFFSET(DE104_3!$AO$105,ROWS($AO$105:AO118)-1,COLUMNS($AO$105:AO118)-1)<>\"\",OFFSET(DE104_3!$AO$105,ROWS($AO$105:AO118)-1,COLUMNS($AO$105:AO118)-1),\"\")","v":""},{"$f":"IF(OFFSET(DE104_3!$AP$105,ROWS($AP$105:AP118)-1,COLUMNS($AP$105:AP118)-1)<>\"\",OFFSET(DE104_3!$AP$105,ROWS($AP$105:AP118)-1,COLUMNS($AP$105:AP118)-1),\"\")","v":""},{"$f":"IF(OFFSET(DE104_3!$AQ$105,ROWS($AQ$105:AQ118)-1,COLUMNS($AQ$105:AQ118)-1)<>\"\",OFFSET(DE104_3!$AQ$105,ROWS($AQ$105:AQ118)-1,COLUMNS($AQ$105:AQ118)-1),\"\")","v":""}]
[{"$f":"IF(OFFSET(DE104_3!$C$105,ROWS($C$105:C119)-1,COLUMNS($C$105:C119)-1)<>\"\",OFFSET(DE104_3!$C$105,ROWS($C$105:C119)-1,COLUMNS($C$105:C119)-1),\"\")","v":""},{"$f":"IF(OFFSET(DE104_3!$D$105,ROWS($D$105:D119)-1,COLUMNS($D$105:D119)-1)<>\"\",OFFSET(DE104_3!$D$105,ROWS($D$105:D119)-1,COLUMNS($D$105:D119)-1),\"\")","v":"CULVERT, CONCRETE ROADWAY PIPE, 42 IN. DIA."},null,null,null,null,null,null,null,null,null,{"$f":"IF(OFFSET(DE104_3!$N$105,ROWS($N$105:N119)-1,COLUMNS($N$105:N119)-1)<>\"\",OFFSET(DE104_3!$N$105,ROWS($N$105:N119)-1,COLUMNS($N$105:N119)-1),\"\")","v":""},{"$f":"IF(OFFSET(DE104_3!$O$105,ROWS($O$105:O119)-1,COLUMNS($O$105:O119)-1)<>\"\",OFFSET(DE104_3!$O$105,ROWS($O$105:O119)-1,COLUMNS($O$105:O119)-1),\"\")","v":394},{"$f":"IF(OFFSET(DE104_3!$P$105,ROWS($P$105:P119)-1,COLUMNS($P$105:P119)-1)<>\"\",OFFSET(DE104_3!$P$105,ROWS($P$105:P119)-1,COLUMNS($P$105:P119)-1),\"\")","v":"LF"},{"$f":"IF(OFFSET(DE104_3!$Q$105,ROWS($Q$105:Q119)-1,COLUMNS($Q$105:Q119)-1)<>\"\",OFFSET(DE104_3!$Q$105,ROWS($Q$105:Q119)-1,COLUMNS($Q$105:Q119)-1),\"\")","v":""},{"$f":"IF(OFFSET(DE104_3!$R$105,ROWS($R$105:R119)-1,COLUMNS($R$105:R119)-1)<>\"\",OFFSET(DE104_3!$R$105,ROWS($R$105:R119)-1,COLUMNS($R$105:R119)-1),\"\")","v":""},{"$f":"IF(OFFSET(DE104_3!$S$105,ROWS($S$105:S119)-1,COLUMNS($S$105:S119)-1)<>\"\",OFFSET(DE104_3!$S$105,ROWS($S$105:S119)-1,COLUMNS($S$105:S119)-1),\"\")","v":""},{"$f":"IF(OFFSET(DE104_3!$T$105,ROWS($T$105:T119)-1,COLUMNS($T$105:T119)-1)<>\"\",OFFSET(DE104_3!$T$105,ROWS($T$105:T119)-1,COLUMNS($T$105:T119)-1),\"\")","v":""},{"$f":"IF(OFFSET(DE104_3!$U$105,ROWS($U$105:U119)-1,COLUMNS($U$105:U119)-1)<>\"\",OFFSET(DE104_3!$U$105,ROWS($U$105:U119)-1,COLUMNS($U$105:U119)-1),\"\")","v":""},{"$f":"IF(OFFSET(DE104_3!$V$105,ROWS($V$105:V119)-1,COLUMNS($V$105:V119)-1)<>\"\",OFFSET(DE104_3!$V$105,ROWS($V$105:V119)-1,COLUMNS($V$105:V119)-1),\"\")","v":""},{"$f":"IF(OFFSET(DE104_3!$W$105,ROWS($W$105:W119)-1,COLUMNS($W$105:W119)-1)<>\"\",OFFSET(DE104_3!$W$105,ROWS($W$105:W119)-1,COLUMNS($W$105:W119)-1),\"\")","v":""},{"$f":"IF(OFFSET(DE104_3!$X$105,ROWS($X$105:X119)-1,COLUMNS($X$105:X119)-1)<>\"\",OFFSET(DE104_3!$X$105,ROWS($X$105:X119)-1,COLUMNS($X$105:X119)-1),\"\")","v":""},{"$f":"IF(OFFSET(DE104_3!$Y$105,ROWS($Y$105:Y119)-1,COLUMNS($Y$105:Y119)-1)<>\"\",OFFSET(DE104_3!$Y$105,ROWS($Y$105:Y119)-1,COLUMNS($Y$105:Y119)-1),\"\")","v":""},{"$f":"IF(OFFSET(DE104_3!$Z$105,ROWS($Z$105:Z119)-1,COLUMNS($Z$105:Z119)-1)<>\"\",OFFSET(DE104_3!$Z$105,ROWS($Z$105:Z119)-1,COLUMNS($Z$105:Z119)-1),\"\")","v":""},{"$f":"IF(OFFSET(DE104_3!$AA$105,ROWS($AA$105:AA119)-1,COLUMNS($AA$105:AA119)-1)<>\"\",OFFSET(DE104_3!$AA$105,ROWS($AA$105:AA119)-1,COLUMNS($AA$105:AA119)-1),\"\")","v":""},{"$f":"IF(OFFSET(DE104_3!$AB$105,ROWS($AB$105:AB119)-1,COLUMNS($AB$105:AB119)-1)<>\"\",OFFSET(DE104_3!$AB$105,ROWS($AB$105:AB119)-1,COLUMNS($AB$105:AB119)-1),\"\")","v":""},{"$f":"IF(OFFSET(DE104_3!$AC$105,ROWS($AC$105:AC119)-1,COLUMNS($AC$105:AC119)-1)<>\"\",OFFSET(DE104_3!$AC$105,ROWS($AC$105:AC119)-1,COLUMNS($AC$105:AC119)-1),\"\")","v":""},{"$f":"IF(OFFSET(DE104_3!$AD$105,ROWS($AD$105:AD119)-1,COLUMNS($AD$105:AD119)-1)<>\"\",OFFSET(DE104_3!$AD$105,ROWS($AD$105:AD119)-1,COLUMNS($AD$105:AD119)-1),\"\")","v":""},{"$f":"IF(OFFSET(DE104_3!$AE$105,ROWS($AE$105:AE119)-1,COLUMNS($AE$105:AE119)-1)<>\"\",OFFSET(DE104_3!$AE$105,ROWS($AE$105:AE119)-1,COLUMNS($AE$105:AE119)-1),\"\")","v":""},{"$f":"IF(OFFSET(DE104_3!$AF$105,ROWS($AF$105:AF119)-1,COLUMNS($AF$105:AF119)-1)<>\"\",OFFSET(DE104_3!$AF$105,ROWS($AF$105:AF119)-1,COLUMNS($AF$105:AF119)-1),\"\")","v":""},{"$f":"IF(OFFSET(DE104_3!$AG$105,ROWS($AG$105:AG119)-1,COLUMNS($AG$105:AG119)-1)<>\"\",OFFSET(DE104_3!$AG$105,ROWS($AG$105:AG119)-1,COLUMNS($AG$105:AG119)-1),\"\")","v":""},{"$f":"IF(OFFSET(DE104_3!$AH$105,ROWS($AH$105:AH119)-1,COLUMNS($AH$105:AH119)-1)<>\"\",OFFSET(DE104_3!$AH$105,ROWS($AH$105:AH119)-1,COLUMNS($AH$105:AH119)-1),\"\")","v":""},{"$f":"IF(OFFSET(DE104_3!$AI$105,ROWS($AI$105:AI119)-1,COLUMNS($AI$105:AI119)-1)<>\"\",OFFSET(DE104_3!$AI$105,ROWS($AI$105:AI119)-1,COLUMNS($AI$105:AI119)-1),\"\")","v":""},{"$f":"IF(OFFSET(DE104_3!$AJ$105,ROWS($AJ$105:AJ119)-1,COLUMNS($AJ$105:AJ119)-1)<>\"\",OFFSET(DE104_3!$AJ$105,ROWS($AJ$105:AJ119)-1,COLUMNS($AJ$105:AJ119)-1),\"\")","v":""},{"$f":"IF(OFFSET(DE104_3!$AK$105,ROWS($AK$105:AK119)-1,COLUMNS($AK$105:AK119)-1)<>\"\",OFFSET(DE104_3!$AK$105,ROWS($AK$105:AK119)-1,COLUMNS($AK$105:AK119)-1),\"\")","v":""},{"$f":"IF(OFFSET(DE104_3!$AL$105,ROWS($AL$105:AL119)-1,COLUMNS($AL$105:AL119)-1)<>\"\",OFFSET(DE104_3!$AL$105,ROWS($AL$105:AL119)-1,COLUMNS($AL$105:AL119)-1),\"\")","v":""},{"$f":"IF(OFFSET(DE104_3!$AM$105,ROWS($AM$105:AM119)-1,COLUMNS($AM$105:AM119)-1)<>\"\",OFFSET(DE104_3!$AM$105,ROWS($AM$105:AM119)-1,COLUMNS($AM$105:AM119)-1),\"\")","v":""},{"$f":"IF(OFFSET(DE104_3!$AN$105,ROWS($AN$105:AN119)-1,COLUMNS($AN$105:AN119)-1)<>\"\",OFFSET(DE104_3!$AN$105,ROWS($AN$105:AN119)-1,COLUMNS($AN$105:AN119)-1),\"\")","v":""},{"$f":"IF(OFFSET(DE104_3!$AO$105,ROWS($AO$105:AO119)-1,COLUMNS($AO$105:AO119)-1)<>\"\",OFFSET(DE104_3!$AO$105,ROWS($AO$105:AO119)-1,COLUMNS($AO$105:AO119)-1),\"\")","v":""},{"$f":"IF(OFFSET(DE104_3!$AP$105,ROWS($AP$105:AP119)-1,COLUMNS($AP$105:AP119)-1)<>\"\",OFFSET(DE104_3!$AP$105,ROWS($AP$105:AP119)-1,COLUMNS($AP$105:AP119)-1),\"\")","v":""},{"$f":"IF(OFFSET(DE104_3!$AQ$105,ROWS($AQ$105:AQ119)-1,COLUMNS($AQ$105:AQ119)-1)<>\"\",OFFSET(DE104_3!$AQ$105,ROWS($AQ$105:AQ119)-1,COLUMNS($AQ$105:AQ119)-1),\"\")","v":""}]
[{"$f":"IF(OFFSET(DE104_3!$C$105,ROWS($C$105:C120)-1,COLUMNS($C$105:C120)-1)<>\"\",OFFSET(DE104_3!$C$105,ROWS($C$105:C120)-1,COLUMNS($C$105:C120)-1),\"\")","v":""},{"$f":"IF(OFFSET(DE104_3!$D$105,ROWS($D$105:D120)-1,COLUMNS($D$105:D120)-1)<>\"\",OFFSET(DE104_3!$D$105,ROWS($D$105:D120)-1,COLUMNS($D$105:D120)-1),\"\")","v":"CULVERT, CONCRETE ROADWAY PIPE, 54 IN. DIA."},null,null,null,null,null,null,null,null,null,{"$f":"IF(OFFSET(DE104_3!$N$105,ROWS($N$105:N120)-1,COLUMNS($N$105:N120)-1)<>\"\",OFFSET(DE104_3!$N$105,ROWS($N$105:N120)-1,COLUMNS($N$105:N120)-1),\"\")","v":""},{"$f":"IF(OFFSET(DE104_3!$O$105,ROWS($O$105:O120)-1,COLUMNS($O$105:O120)-1)<>\"\",OFFSET(DE104_3!$O$105,ROWS($O$105:O120)-1,COLUMNS($O$105:O120)-1),\"\")","v":258},{"$f":"IF(OFFSET(DE104_3!$P$105,ROWS($P$105:P120)-1,COLUMNS($P$105:P120)-1)<>\"\",OFFSET(DE104_3!$P$105,ROWS($P$105:P120)-1,COLUMNS($P$105:P120)-1),\"\")","v":"LF"},{"$f":"IF(OFFSET(DE104_3!$Q$105,ROWS($Q$105:Q120)-1,COLUMNS($Q$105:Q120)-1)<>\"\",OFFSET(DE104_3!$Q$105,ROWS($Q$105:Q120)-1,COLUMNS($Q$105:Q120)-1),\"\")","v":""},{"$f":"IF(OFFSET(DE104_3!$R$105,ROWS($R$105:R120)-1,COLUMNS($R$105:R120)-1)<>\"\",OFFSET(DE104_3!$R$105,ROWS($R$105:R120)-1,COLUMNS($R$105:R120)-1),\"\")","v":""},{"$f":"IF(OFFSET(DE104_3!$S$105,ROWS($S$105:S120)-1,COLUMNS($S$105:S120)-1)<>\"\",OFFSET(DE104_3!$S$105,ROWS($S$105:S120)-1,COLUMNS($S$105:S120)-1),\"\")","v":""},{"$f":"IF(OFFSET(DE104_3!$T$105,ROWS($T$105:T120)-1,COLUMNS($T$105:T120)-1)<>\"\",OFFSET(DE104_3!$T$105,ROWS($T$105:T120)-1,COLUMNS($T$105:T120)-1),\"\")","v":""},{"$f":"IF(OFFSET(DE104_3!$U$105,ROWS($U$105:U120)-1,COLUMNS($U$105:U120)-1)<>\"\",OFFSET(DE104_3!$U$105,ROWS($U$105:U120)-1,COLUMNS($U$105:U120)-1),\"\")","v":""},{"$f":"IF(OFFSET(DE104_3!$V$105,ROWS($V$105:V120)-1,COLUMNS($V$105:V120)-1)<>\"\",OFFSET(DE104_3!$V$105,ROWS($V$105:V120)-1,COLUMNS($V$105:V120)-1),\"\")","v":""},{"$f":"IF(OFFSET(DE104_3!$W$105,ROWS($W$105:W120)-1,COLUMNS($W$105:W120)-1)<>\"\",OFFSET(DE104_3!$W$105,ROWS($W$105:W120)-1,COLUMNS($W$105:W120)-1),\"\")","v":""},{"$f":"IF(OFFSET(DE104_3!$X$105,ROWS($X$105:X120)-1,COLUMNS($X$105:X120)-1)<>\"\",OFFSET(DE104_3!$X$105,ROWS($X$105:X120)-1,COLUMNS($X$105:X120)-1),\"\")","v":""},{"$f":"IF(OFFSET(DE104_3!$Y$105,ROWS($Y$105:Y120)-1,COLUMNS($Y$105:Y120)-1)<>\"\",OFFSET(DE104_3!$Y$105,ROWS($Y$105:Y120)-1,COLUMNS($Y$105:Y120)-1),\"\")","v":""},{"$f":"IF(OFFSET(DE104_3!$Z$105,ROWS($Z$105:Z120)-1,COLUMNS($Z$105:Z120)-1)<>\"\",OFFSET(DE104_3!$Z$105,ROWS($Z$105:Z120)-1,COLUMNS($Z$105:Z120)-1),\"\")","v":""},{"$f":"IF(OFFSET(DE104_3!$AA$105,ROWS($AA$105:AA120)-1,COLUMNS($AA$105:AA120)-1)<>\"\",OFFSET(DE104_3!$AA$105,ROWS($AA$105:AA120)-1,COLUMNS($AA$105:AA120)-1),\"\")","v":""},{"$f":"IF(OFFSET(DE104_3!$AB$105,ROWS($AB$105:AB120)-1,COLUMNS($AB$105:AB120)-1)<>\"\",OFFSET(DE104_3!$AB$105,ROWS($AB$105:AB120)-1,COLUMNS($AB$105:AB120)-1),\"\")","v":""},{"$f":"IF(OFFSET(DE104_3!$AC$105,ROWS($AC$105:AC120)-1,COLUMNS($AC$105:AC120)-1)<>\"\",OFFSET(DE104_3!$AC$105,ROWS($AC$105:AC120)-1,COLUMNS($AC$105:AC120)-1),\"\")","v":""},{"$f":"IF(OFFSET(DE104_3!$AD$105,ROWS($AD$105:AD120)-1,COLUMNS($AD$105:AD120)-1)<>\"\",OFFSET(DE104_3!$AD$105,ROWS($AD$105:AD120)-1,COLUMNS($AD$105:AD120)-1),\"\")","v":""},{"$f":"IF(OFFSET(DE104_3!$AE$105,ROWS($AE$105:AE120)-1,COLUMNS($AE$105:AE120)-1)<>\"\",OFFSET(DE104_3!$AE$105,ROWS($AE$105:AE120)-1,COLUMNS($AE$105:AE120)-1),\"\")","v":""},{"$f":"IF(OFFSET(DE104_3!$AF$105,ROWS($AF$105:AF120)-1,COLUMNS($AF$105:AF120)-1)<>\"\",OFFSET(DE104_3!$AF$105,ROWS($AF$105:AF120)-1,COLUMNS($AF$105:AF120)-1),\"\")","v":""},{"$f":"IF(OFFSET(DE104_3!$AG$105,ROWS($AG$105:AG120)-1,COLUMNS($AG$105:AG120)-1)<>\"\",OFFSET(DE104_3!$AG$105,ROWS($AG$105:AG120)-1,COLUMNS($AG$105:AG120)-1),\"\")","v":""},{"$f":"IF(OFFSET(DE104_3!$AH$105,ROWS($AH$105:AH120)-1,COLUMNS($AH$105:AH120)-1)<>\"\",OFFSET(DE104_3!$AH$105,ROWS($AH$105:AH120)-1,COLUMNS($AH$105:AH120)-1),\"\")","v":""},{"$f":"IF(OFFSET(DE104_3!$AI$105,ROWS($AI$105:AI120)-1,COLUMNS($AI$105:AI120)-1)<>\"\",OFFSET(DE104_3!$AI$105,ROWS($AI$105:AI120)-1,COLUMNS($AI$105:AI120)-1),\"\")","v":""},{"$f":"IF(OFFSET(DE104_3!$AJ$105,ROWS($AJ$105:AJ120)-1,COLUMNS($AJ$105:AJ120)-1)<>\"\",OFFSET(DE104_3!$AJ$105,ROWS($AJ$105:AJ120)-1,COLUMNS($AJ$105:AJ120)-1),\"\")","v":""},{"$f":"IF(OFFSET(DE104_3!$AK$105,ROWS($AK$105:AK120)-1,COLUMNS($AK$105:AK120)-1)<>\"\",OFFSET(DE104_3!$AK$105,ROWS($AK$105:AK120)-1,COLUMNS($AK$105:AK120)-1),\"\")","v":""},{"$f":"IF(OFFSET(DE104_3!$AL$105,ROWS($AL$105:AL120)-1,COLUMNS($AL$105:AL120)-1)<>\"\",OFFSET(DE104_3!$AL$105,ROWS($AL$105:AL120)-1,COLUMNS($AL$105:AL120)-1),\"\")","v":""},{"$f":"IF(OFFSET(DE104_3!$AM$105,ROWS($AM$105:AM120)-1,COLUMNS($AM$105:AM120)-1)<>\"\",OFFSET(DE104_3!$AM$105,ROWS($AM$105:AM120)-1,COLUMNS($AM$105:AM120)-1),\"\")","v":""},{"$f":"IF(OFFSET(DE104_3!$AN$105,ROWS($AN$105:AN120)-1,COLUMNS($AN$105:AN120)-1)<>\"\",OFFSET(DE104_3!$AN$105,ROWS($AN$105:AN120)-1,COLUMNS($AN$105:AN120)-1),\"\")","v":""},{"$f":"IF(OFFSET(DE104_3!$AO$105,ROWS($AO$105:AO120)-1,COLUMNS($AO$105:AO120)-1)<>\"\",OFFSET(DE104_3!$AO$105,ROWS($AO$105:AO120)-1,COLUMNS($AO$105:AO120)-1),\"\")","v":""},{"$f":"IF(OFFSET(DE104_3!$AP$105,ROWS($AP$105:AP120)-1,COLUMNS($AP$105:AP120)-1)<>\"\",OFFSET(DE104_3!$AP$105,ROWS($AP$105:AP120)-1,COLUMNS($AP$105:AP120)-1),\"\")","v":""},{"$f":"IF(OFFSET(DE104_3!$AQ$105,ROWS($AQ$105:AQ120)-1,COLUMNS($AQ$105:AQ120)-1)<>\"\",OFFSET(DE104_3!$AQ$105,ROWS($AQ$105:AQ120)-1,COLUMNS($AQ$105:AQ120)-1),\"\")","v":""}]
[{"$f":"IF(OFFSET(DE104_3!$C$105,ROWS($C$105:C121)-1,COLUMNS($C$105:C121)-1)<>\"\",OFFSET(DE104_3!$C$105,ROWS($C$105:C121)-1,COLUMNS($C$105:C121)-1),\"\")","v":""},{"$f":"IF(OFFSET(DE104_3!$D$105,ROWS($D$105:D121)-1,COLUMNS($D$105:D121)-1)<>\"\",OFFSET(DE104_3!$D$105,ROWS($D$105:D121)-1,COLUMNS($D$105:D121)-1),\"\")","v":"CULVERT, CONCRETE ROADWAY PIPE, 72 IN. DIA."},null,null,null,null,null,null,null,null,null,{"$f":"IF(OFFSET(DE104_3!$N$105,ROWS($N$105:N121)-1,COLUMNS($N$105:N121)-1)<>\"\",OFFSET(DE104_3!$N$105,ROWS($N$105:N121)-1,COLUMNS($N$105:N121)-1),\"\")","v":""},{"$f":"IF(OFFSET(DE104_3!$O$105,ROWS($O$105:O121)-1,COLUMNS($O$105:O121)-1)<>\"\",OFFSET(DE104_3!$O$105,ROWS($O$105:O121)-1,COLUMNS($O$105:O121)-1),\"\")","v":242},{"$f":"IF(OFFSET(DE104_3!$P$105,ROWS($P$105:P121)-1,COLUMNS($P$105:P121)-1)<>\"\",OFFSET(DE104_3!$P$105,ROWS($P$105:P121)-1,COLUMNS($P$105:P121)-1),\"\")","v":"LF"},{"$f":"IF(OFFSET(DE104_3!$Q$105,ROWS($Q$105:Q121)-1,COLUMNS($Q$105:Q121)-1)<>\"\",OFFSET(DE104_3!$Q$105,ROWS($Q$105:Q121)-1,COLUMNS($Q$105:Q121)-1),\"\")","v":""},{"$f":"IF(OFFSET(DE104_3!$R$105,ROWS($R$105:R121)-1,COLUMNS($R$105:R121)-1)<>\"\",OFFSET(DE104_3!$R$105,ROWS($R$105:R121)-1,COLUMNS($R$105:R121)-1),\"\")","v":""},{"$f":"IF(OFFSET(DE104_3!$S$105,ROWS($S$105:S121)-1,COLUMNS($S$105:S121)-1)<>\"\",OFFSET(DE104_3!$S$105,ROWS($S$105:S121)-1,COLUMNS($S$105:S121)-1),\"\")","v":""},{"$f":"IF(OFFSET(DE104_3!$T$105,ROWS($T$105:T121)-1,COLUMNS($T$105:T121)-1)<>\"\",OFFSET(DE104_3!$T$105,ROWS($T$105:T121)-1,COLUMNS($T$105:T121)-1),\"\")","v":""},{"$f":"IF(OFFSET(DE104_3!$U$105,ROWS($U$105:U121)-1,COLUMNS($U$105:U121)-1)<>\"\",OFFSET(DE104_3!$U$105,ROWS($U$105:U121)-1,COLUMNS($U$105:U121)-1),\"\")","v":""},{"$f":"IF(OFFSET(DE104_3!$V$105,ROWS($V$105:V121)-1,COLUMNS($V$105:V121)-1)<>\"\",OFFSET(DE104_3!$V$105,ROWS($V$105:V121)-1,COLUMNS($V$105:V121)-1),\"\")","v":""},{"$f":"IF(OFFSET(DE104_3!$W$105,ROWS($W$105:W121)-1,COLUMNS($W$105:W121)-1)<>\"\",OFFSET(DE104_3!$W$105,ROWS($W$105:W121)-1,COLUMNS($W$105:W121)-1),\"\")","v":""},{"$f":"IF(OFFSET(DE104_3!$X$105,ROWS($X$105:X121)-1,COLUMNS($X$105:X121)-1)<>\"\",OFFSET(DE104_3!$X$105,ROWS($X$105:X121)-1,COLUMNS($X$105:X121)-1),\"\")","v":""},{"$f":"IF(OFFSET(DE104_3!$Y$105,ROWS($Y$105:Y121)-1,COLUMNS($Y$105:Y121)-1)<>\"\",OFFSET(DE104_3!$Y$105,ROWS($Y$105:Y121)-1,COLUMNS($Y$105:Y121)-1),\"\")","v":""},{"$f":"IF(OFFSET(DE104_3!$Z$105,ROWS($Z$105:Z121)-1,COLUMNS($Z$105:Z121)-1)<>\"\",OFFSET(DE104_3!$Z$105,ROWS($Z$105:Z121)-1,COLUMNS($Z$105:Z121)-1),\"\")","v":""},{"$f":"IF(OFFSET(DE104_3!$AA$105,ROWS($AA$105:AA121)-1,COLUMNS($AA$105:AA121)-1)<>\"\",OFFSET(DE104_3!$AA$105,ROWS($AA$105:AA121)-1,COLUMNS($AA$105:AA121)-1),\"\")","v":""},{"$f":"IF(OFFSET(DE104_3!$AB$105,ROWS($AB$105:AB121)-1,COLUMNS($AB$105:AB121)-1)<>\"\",OFFSET(DE104_3!$AB$105,ROWS($AB$105:AB121)-1,COLUMNS($AB$105:AB121)-1),\"\")","v":""},{"$f":"IF(OFFSET(DE104_3!$AC$105,ROWS($AC$105:AC121)-1,COLUMNS($AC$105:AC121)-1)<>\"\",OFFSET(DE104_3!$AC$105,ROWS($AC$105:AC121)-1,COLUMNS($AC$105:AC121)-1),\"\")","v":""},{"$f":"IF(OFFSET(DE104_3!$AD$105,ROWS($AD$105:AD121)-1,COLUMNS($AD$105:AD121)-1)<>\"\",OFFSET(DE104_3!$AD$105,ROWS($AD$105:AD121)-1,COLUMNS($AD$105:AD121)-1),\"\")","v":""},{"$f":"IF(OFFSET(DE104_3!$AE$105,ROWS($AE$105:AE121)-1,COLUMNS($AE$105:AE121)-1)<>\"\",OFFSET(DE104_3!$AE$105,ROWS($AE$105:AE121)-1,COLUMNS($AE$105:AE121)-1),\"\")","v":""},{"$f":"IF(OFFSET(DE104_3!$AF$105,ROWS($AF$105:AF121)-1,COLUMNS($AF$105:AF121)-1)<>\"\",OFFSET(DE104_3!$AF$105,ROWS($AF$105:AF121)-1,COLUMNS($AF$105:AF121)-1),\"\")","v":""},{"$f":"IF(OFFSET(DE104_3!$AG$105,ROWS($AG$105:AG121)-1,COLUMNS($AG$105:AG121)-1)<>\"\",OFFSET(DE104_3!$AG$105,ROWS($AG$105:AG121)-1,COLUMNS($AG$105:AG121)-1),\"\")","v":""},{"$f":"IF(OFFSET(DE104_3!$AH$105,ROWS($AH$105:AH121)-1,COLUMNS($AH$105:AH121)-1)<>\"\",OFFSET(DE104_3!$AH$105,ROWS($AH$105:AH121)-1,COLUMNS($AH$105:AH121)-1),\"\")","v":""},{"$f":"IF(OFFSET(DE104_3!$AI$105,ROWS($AI$105:AI121)-1,COLUMNS($AI$105:AI121)-1)<>\"\",OFFSET(DE104_3!$AI$105,ROWS($AI$105:AI121)-1,COLUMNS($AI$105:AI121)-1),\"\")","v":""},{"$f":"IF(OFFSET(DE104_3!$AJ$105,ROWS($AJ$105:AJ121)-1,COLUMNS($AJ$105:AJ121)-1)<>\"\",OFFSET(DE104_3!$AJ$105,ROWS($AJ$105:AJ121)-1,COLUMNS($AJ$105:AJ121)-1),\"\")","v":""},{"$f":"IF(OFFSET(DE104_3!$AK$105,ROWS($AK$105:AK121)-1,COLUMNS($AK$105:AK121)-1)<>\"\",OFFSET(DE104_3!$AK$105,ROWS($AK$105:AK121)-1,COLUMNS($AK$105:AK121)-1),\"\")","v":""},{"$f":"IF(OFFSET(DE104_3!$AL$105,ROWS($AL$105:AL121)-1,COLUMNS($AL$105:AL121)-1)<>\"\",OFFSET(DE104_3!$AL$105,ROWS($AL$105:AL121)-1,COLUMNS($AL$105:AL121)-1),\"\")","v":""},{"$f":"IF(OFFSET(DE104_3!$AM$105,ROWS($AM$105:AM121)-1,COLUMNS($AM$105:AM121)-1)<>\"\",OFFSET(DE104_3!$AM$105,ROWS($AM$105:AM121)-1,COLUMNS($AM$105:AM121)-1),\"\")","v":""},{"$f":"IF(OFFSET(DE104_3!$AN$105,ROWS($AN$105:AN121)-1,COLUMNS($AN$105:AN121)-1)<>\"\",OFFSET(DE104_3!$AN$105,ROWS($AN$105:AN121)-1,COLUMNS($AN$105:AN121)-1),\"\")","v":""},{"$f":"IF(OFFSET(DE104_3!$AO$105,ROWS($AO$105:AO121)-1,COLUMNS($AO$105:AO121)-1)<>\"\",OFFSET(DE104_3!$AO$105,ROWS($AO$105:AO121)-1,COLUMNS($AO$105:AO121)-1),\"\")","v":""},{"$f":"IF(OFFSET(DE104_3!$AP$105,ROWS($AP$105:AP121)-1,COLUMNS($AP$105:AP121)-1)<>\"\",OFFSET(DE104_3!$AP$105,ROWS($AP$105:AP121)-1,COLUMNS($AP$105:AP121)-1),\"\")","v":""},{"$f":"IF(OFFSET(DE104_3!$AQ$105,ROWS($AQ$105:AQ121)-1,COLUMNS($AQ$105:AQ121)-1)<>\"\",OFFSET(DE104_3!$AQ$105,ROWS($AQ$105:AQ121)-1,COLUMNS($AQ$105:AQ121)-1),\"\")","v":""}]
[{"$f":"IF(OFFSET(DE104_3!$C$105,ROWS($C$105:C122)-1,COLUMNS($C$105:C122)-1)<>\"\",OFFSET(DE104_3!$C$105,ROWS($C$105:C122)-1,COLUMNS($C$105:C122)-1),\"\")","v":""},{"$f":"IF(OFFSET(DE104_3!$D$105,ROWS($D$105:D122)-1,COLUMNS($D$105:D122)-1)<>\"\",OFFSET(DE104_3!$D$105,ROWS($D$105:D122)-1,COLUMNS($D$105:D122)-1),\"\")","v":"CULVERT, CONCRETE ROADWAY PIPE, 78 IN. DIA."},null,null,null,null,null,null,null,null,null,{"$f":"IF(OFFSET(DE104_3!$N$105,ROWS($N$105:N122)-1,COLUMNS($N$105:N122)-1)<>\"\",OFFSET(DE104_3!$N$105,ROWS($N$105:N122)-1,COLUMNS($N$105:N122)-1),\"\")","v":""},{"$f":"IF(OFFSET(DE104_3!$O$105,ROWS($O$105:O122)-1,COLUMNS($O$105:O122)-1)<>\"\",OFFSET(DE104_3!$O$105,ROWS($O$105:O122)-1,COLUMNS($O$105:O122)-1),\"\")","v":74},{"$f":"IF(OFFSET(DE104_3!$P$105,ROWS($P$105:P122)-1,COLUMNS($P$105:P122)-1)<>\"\",OFFSET(DE104_3!$P$105,ROWS($P$105:P122)-1,COLUMNS($P$105:P122)-1),\"\")","v":"LF"},{"$f":"IF(OFFSET(DE104_3!$Q$105,ROWS($Q$105:Q122)-1,COLUMNS($Q$105:Q122)-1)<>\"\",OFFSET(DE104_3!$Q$105,ROWS($Q$105:Q122)-1,COLUMNS($Q$105:Q122)-1),\"\")","v":""},{"$f":"IF(OFFSET(DE104_3!$R$105,ROWS($R$105:R122)-1,COLUMNS($R$105:R122)-1)<>\"\",OFFSET(DE104_3!$R$105,ROWS($R$105:R122)-1,COLUMNS($R$105:R122)-1),\"\")","v":""},{"$f":"IF(OFFSET(DE104_3!$S$105,ROWS($S$105:S122)-1,COLUMNS($S$105:S122)-1)<>\"\",OFFSET(DE104_3!$S$105,ROWS($S$105:S122)-1,COLUMNS($S$105:S122)-1),\"\")","v":""},{"$f":"IF(OFFSET(DE104_3!$T$105,ROWS($T$105:T122)-1,COLUMNS($T$105:T122)-1)<>\"\",OFFSET(DE104_3!$T$105,ROWS($T$105:T122)-1,COLUMNS($T$105:T122)-1),\"\")","v":""},{"$f":"IF(OFFSET(DE104_3!$U$105,ROWS($U$105:U122)-1,COLUMNS($U$105:U122)-1)<>\"\",OFFSET(DE104_3!$U$105,ROWS($U$105:U122)-1,COLUMNS($U$105:U122)-1),\"\")","v":""},{"$f":"IF(OFFSET(DE104_3!$V$105,ROWS($V$105:V122)-1,COLUMNS($V$105:V122)-1)<>\"\",OFFSET(DE104_3!$V$105,ROWS($V$105:V122)-1,COLUMNS($V$105:V122)-1),\"\")","v":""},{"$f":"IF(OFFSET(DE104_3!$W$105,ROWS($W$105:W122)-1,COLUMNS($W$105:W122)-1)<>\"\",OFFSET(DE104_3!$W$105,ROWS($W$105:W122)-1,COLUMNS($W$105:W122)-1),\"\")","v":""},{"$f":"IF(OFFSET(DE104_3!$X$105,ROWS($X$105:X122)-1,COLUMNS($X$105:X122)-1)<>\"\",OFFSET(DE104_3!$X$105,ROWS($X$105:X122)-1,COLUMNS($X$105:X122)-1),\"\")","v":""},{"$f":"IF(OFFSET(DE104_3!$Y$105,ROWS($Y$105:Y122)-1,COLUMNS($Y$105:Y122)-1)<>\"\",OFFSET(DE104_3!$Y$105,ROWS($Y$105:Y122)-1,COLUMNS($Y$105:Y122)-1),\"\")","v":""},{"$f":"IF(OFFSET(DE104_3!$Z$105,ROWS($Z$105:Z122)-1,COLUMNS($Z$105:Z122)-1)<>\"\",OFFSET(DE104_3!$Z$105,ROWS($Z$105:Z122)-1,COLUMNS($Z$105:Z122)-1),\"\")","v":""},{"$f":"IF(OFFSET(DE104_3!$AA$105,ROWS($AA$105:AA122)-1,COLUMNS($AA$105:AA122)-1)<>\"\",OFFSET(DE104_3!$AA$105,ROWS($AA$105:AA122)-1,COLUMNS($AA$105:AA122)-1),\"\")","v":""},{"$f":"IF(OFFSET(DE104_3!$AB$105,ROWS($AB$105:AB122)-1,COLUMNS($AB$105:AB122)-1)<>\"\",OFFSET(DE104_3!$AB$105,ROWS($AB$105:AB122)-1,COLUMNS($AB$105:AB122)-1),\"\")","v":""},{"$f":"IF(OFFSET(DE104_3!$AC$105,ROWS($AC$105:AC122)-1,COLUMNS($AC$105:AC122)-1)<>\"\",OFFSET(DE104_3!$AC$105,ROWS($AC$105:AC122)-1,COLUMNS($AC$105:AC122)-1),\"\")","v":""},{"$f":"IF(OFFSET(DE104_3!$AD$105,ROWS($AD$105:AD122)-1,COLUMNS($AD$105:AD122)-1)<>\"\",OFFSET(DE104_3!$AD$105,ROWS($AD$105:AD122)-1,COLUMNS($AD$105:AD122)-1),\"\")","v":""},{"$f":"IF(OFFSET(DE104_3!$AE$105,ROWS($AE$105:AE122)-1,COLUMNS($AE$105:AE122)-1)<>\"\",OFFSET(DE104_3!$AE$105,ROWS($AE$105:AE122)-1,COLUMNS($AE$105:AE122)-1),\"\")","v":""},{"$f":"IF(OFFSET(DE104_3!$AF$105,ROWS($AF$105:AF122)-1,COLUMNS($AF$105:AF122)-1)<>\"\",OFFSET(DE104_3!$AF$105,ROWS($AF$105:AF122)-1,COLUMNS($AF$105:AF122)-1),\"\")","v":""},{"$f":"IF(OFFSET(DE104_3!$AG$105,ROWS($AG$105:AG122)-1,COLUMNS($AG$105:AG122)-1)<>\"\",OFFSET(DE104_3!$AG$105,ROWS($AG$105:AG122)-1,COLUMNS($AG$105:AG122)-1),\"\")","v":""},{"$f":"IF(OFFSET(DE104_3!$AH$105,ROWS($AH$105:AH122)-1,COLUMNS($AH$105:AH122)-1)<>\"\",OFFSET(DE104_3!$AH$105,ROWS($AH$105:AH122)-1,COLUMNS($AH$105:AH122)-1),\"\")","v":""},{"$f":"IF(OFFSET(DE104_3!$AI$105,ROWS($AI$105:AI122)-1,COLUMNS($AI$105:AI122)-1)<>\"\",OFFSET(DE104_3!$AI$105,ROWS($AI$105:AI122)-1,COLUMNS($AI$105:AI122)-1),\"\")","v":""},{"$f":"IF(OFFSET(DE104_3!$AJ$105,ROWS($AJ$105:AJ122)-1,COLUMNS($AJ$105:AJ122)-1)<>\"\",OFFSET(DE104_3!$AJ$105,ROWS($AJ$105:AJ122)-1,COLUMNS($AJ$105:AJ122)-1),\"\")","v":""},{"$f":"IF(OFFSET(DE104_3!$AK$105,ROWS($AK$105:AK122)-1,COLUMNS($AK$105:AK122)-1)<>\"\",OFFSET(DE104_3!$AK$105,ROWS($AK$105:AK122)-1,COLUMNS($AK$105:AK122)-1),\"\")","v":""},{"$f":"IF(OFFSET(DE104_3!$AL$105,ROWS($AL$105:AL122)-1,COLUMNS($AL$105:AL122)-1)<>\"\",OFFSET(DE104_3!$AL$105,ROWS($AL$105:AL122)-1,COLUMNS($AL$105:AL122)-1),\"\")","v":""},{"$f":"IF(OFFSET(DE104_3!$AM$105,ROWS($AM$105:AM122)-1,COLUMNS($AM$105:AM122)-1)<>\"\",OFFSET(DE104_3!$AM$105,ROWS($AM$105:AM122)-1,COLUMNS($AM$105:AM122)-1),\"\")","v":""},{"$f":"IF(OFFSET(DE104_3!$AN$105,ROWS($AN$105:AN122)-1,COLUMNS($AN$105:AN122)-1)<>\"\",OFFSET(DE104_3!$AN$105,ROWS($AN$105:AN122)-1,COLUMNS($AN$105:AN122)-1),\"\")","v":""},{"$f":"IF(OFFSET(DE104_3!$AO$105,ROWS($AO$105:AO122)-1,COLUMNS($AO$105:AO122)-1)<>\"\",OFFSET(DE104_3!$AO$105,ROWS($AO$105:AO122)-1,COLUMNS($AO$105:AO122)-1),\"\")","v":""},{"$f":"IF(OFFSET(DE104_3!$AP$105,ROWS($AP$105:AP122)-1,COLUMNS($AP$105:AP122)-1)<>\"\",OFFSET(DE104_3!$AP$105,ROWS($AP$105:AP122)-1,COLUMNS($AP$105:AP122)-1),\"\")","v":""},{"$f":"IF(OFFSET(DE104_3!$AQ$105,ROWS($AQ$105:AQ122)-1,COLUMNS($AQ$105:AQ122)-1)<>\"\",OFFSET(DE104_3!$AQ$105,ROWS($AQ$105:AQ122)-1,COLUMNS($AQ$105:AQ122)-1),\"\")","v":""}]
[{"$f":"IF(OFFSET(DE104_3!$C$105,ROWS($C$105:C123)-1,COLUMNS($C$105:C123)-1)<>\"\",OFFSET(DE104_3!$C$105,ROWS($C$105:C123)-1,COLUMNS($C$105:C123)-1),\"\")","v":""},{"$f":"IF(OFFSET(DE104_3!$D$105,ROWS($D$105:D123)-1,COLUMNS($D$105:D123)-1)<>\"\",OFFSET(DE104_3!$D$105,ROWS($D$105:D123)-1,COLUMNS($D$105:D123)-1),\"\")","v":"CULVERT, LOW CLEARANCE CONCRETE RDWY PIPE, EQ. DIA. 36 IN."},null,null,null,null,null,null,null,null,null,{"$f":"IF(OFFSET(DE104_3!$N$105,ROWS($N$105:N123)-1,COLUMNS($N$105:N123)-1)<>\"\",OFFSET(DE104_3!$N$105,ROWS($N$105:N123)-1,COLUMNS($N$105:N123)-1),\"\")","v":""},{"$f":"IF(OFFSET(DE104_3!$O$105,ROWS($O$105:O123)-1,COLUMNS($O$105:O123)-1)<>\"\",OFFSET(DE104_3!$O$105,ROWS($O$105:O123)-1,COLUMNS($O$105:O123)-1),\"\")","v":66},{"$f":"IF(OFFSET(DE104_3!$P$105,ROWS($P$105:P123)-1,COLUMNS($P$105:P123)-1)<>\"\",OFFSET(DE104_3!$P$105,ROWS($P$105:P123)-1,COLUMNS($P$105:P123)-1),\"\")","v":"LF"},{"$f":"IF(OFFSET(DE104_3!$Q$105,ROWS($Q$105:Q123)-1,COLUMNS($Q$105:Q123)-1)<>\"\",OFFSET(DE104_3!$Q$105,ROWS($Q$105:Q123)-1,COLUMNS($Q$105:Q123)-1),\"\")","v":""},{"$f":"IF(OFFSET(DE104_3!$R$105,ROWS($R$105:R123)-1,COLUMNS($R$105:R123)-1)<>\"\",OFFSET(DE104_3!$R$105,ROWS($R$105:R123)-1,COLUMNS($R$105:R123)-1),\"\")","v":""},{"$f":"IF(OFFSET(DE104_3!$S$105,ROWS($S$105:S123)-1,COLUMNS($S$105:S123)-1)<>\"\",OFFSET(DE104_3!$S$105,ROWS($S$105:S123)-1,COLUMNS($S$105:S123)-1),\"\")","v":""},{"$f":"IF(OFFSET(DE104_3!$T$105,ROWS($T$105:T123)-1,COLUMNS($T$105:T123)-1)<>\"\",OFFSET(DE104_3!$T$105,ROWS($T$105:T123)-1,COLUMNS($T$105:T123)-1),\"\")","v":""},{"$f":"IF(OFFSET(DE104_3!$U$105,ROWS($U$105:U123)-1,COLUMNS($U$105:U123)-1)<>\"\",OFFSET(DE104_3!$U$105,ROWS($U$105:U123)-1,COLUMNS($U$105:U123)-1),\"\")","v":""},{"$f":"IF(OFFSET(DE104_3!$V$105,ROWS($V$105:V123)-1,COLUMNS($V$105:V123)-1)<>\"\",OFFSET(DE104_3!$V$105,ROWS($V$105:V123)-1,COLUMNS($V$105:V123)-1),\"\")","v":""},{"$f":"IF(OFFSET(DE104_3!$W$105,ROWS($W$105:W123)-1,COLUMNS($W$105:W123)-1)<>\"\",OFFSET(DE104_3!$W$105,ROWS($W$105:W123)-1,COLUMNS($W$105:W123)-1),\"\")","v":""},{"$f":"IF(OFFSET(DE104_3!$X$105,ROWS($X$105:X123)-1,COLUMNS($X$105:X123)-1)<>\"\",OFFSET(DE104_3!$X$105,ROWS($X$105:X123)-1,COLUMNS($X$105:X123)-1),\"\")","v":""},{"$f":"IF(OFFSET(DE104_3!$Y$105,ROWS($Y$105:Y123)-1,COLUMNS($Y$105:Y123)-1)<>\"\",OFFSET(DE104_3!$Y$105,ROWS($Y$105:Y123)-1,COLUMNS($Y$105:Y123)-1),\"\")","v":""},{"$f":"IF(OFFSET(DE104_3!$Z$105,ROWS($Z$105:Z123)-1,COLUMNS($Z$105:Z123)-1)<>\"\",OFFSET(DE104_3!$Z$105,ROWS($Z$105:Z123)-1,COLUMNS($Z$105:Z123)-1),\"\")","v":""},{"$f":"IF(OFFSET(DE104_3!$AA$105,ROWS($AA$105:AA123)-1,COLUMNS($AA$105:AA123)-1)<>\"\",OFFSET(DE104_3!$AA$105,ROWS($AA$105:AA123)-1,COLUMNS($AA$105:AA123)-1),\"\")","v":""},{"$f":"IF(OFFSET(DE104_3!$AB$105,ROWS($AB$105:AB123)-1,COLUMNS($AB$105:AB123)-1)<>\"\",OFFSET(DE104_3!$AB$105,ROWS($AB$105:AB123)-1,COLUMNS($AB$105:AB123)-1),\"\")","v":""},{"$f":"IF(OFFSET(DE104_3!$AC$105,ROWS($AC$105:AC123)-1,COLUMNS($AC$105:AC123)-1)<>\"\",OFFSET(DE104_3!$AC$105,ROWS($AC$105:AC123)-1,COLUMNS($AC$105:AC123)-1),\"\")","v":""},{"$f":"IF(OFFSET(DE104_3!$AD$105,ROWS($AD$105:AD123)-1,COLUMNS($AD$105:AD123)-1)<>\"\",OFFSET(DE104_3!$AD$105,ROWS($AD$105:AD123)-1,COLUMNS($AD$105:AD123)-1),\"\")","v":""},{"$f":"IF(OFFSET(DE104_3!$AE$105,ROWS($AE$105:AE123)-1,COLUMNS($AE$105:AE123)-1)<>\"\",OFFSET(DE104_3!$AE$105,ROWS($AE$105:AE123)-1,COLUMNS($AE$105:AE123)-1),\"\")","v":""},{"$f":"IF(OFFSET(DE104_3!$AF$105,ROWS($AF$105:AF123)-1,COLUMNS($AF$105:AF123)-1)<>\"\",OFFSET(DE104_3!$AF$105,ROWS($AF$105:AF123)-1,COLUMNS($AF$105:AF123)-1),\"\")","v":""},{"$f":"IF(OFFSET(DE104_3!$AG$105,ROWS($AG$105:AG123)-1,COLUMNS($AG$105:AG123)-1)<>\"\",OFFSET(DE104_3!$AG$105,ROWS($AG$105:AG123)-1,COLUMNS($AG$105:AG123)-1),\"\")","v":""},{"$f":"IF(OFFSET(DE104_3!$AH$105,ROWS($AH$105:AH123)-1,COLUMNS($AH$105:AH123)-1)<>\"\",OFFSET(DE104_3!$AH$105,ROWS($AH$105:AH123)-1,COLUMNS($AH$105:AH123)-1),\"\")","v":""},{"$f":"IF(OFFSET(DE104_3!$AI$105,ROWS($AI$105:AI123)-1,COLUMNS($AI$105:AI123)-1)<>\"\",OFFSET(DE104_3!$AI$105,ROWS($AI$105:AI123)-1,COLUMNS($AI$105:AI123)-1),\"\")","v":""},{"$f":"IF(OFFSET(DE104_3!$AJ$105,ROWS($AJ$105:AJ123)-1,COLUMNS($AJ$105:AJ123)-1)<>\"\",OFFSET(DE104_3!$AJ$105,ROWS($AJ$105:AJ123)-1,COLUMNS($AJ$105:AJ123)-1),\"\")","v":""},{"$f":"IF(OFFSET(DE104_3!$AK$105,ROWS($AK$105:AK123)-1,COLUMNS($AK$105:AK123)-1)<>\"\",OFFSET(DE104_3!$AK$105,ROWS($AK$105:AK123)-1,COLUMNS($AK$105:AK123)-1),\"\")","v":""},{"$f":"IF(OFFSET(DE104_3!$AL$105,ROWS($AL$105:AL123)-1,COLUMNS($AL$105:AL123)-1)<>\"\",OFFSET(DE104_3!$AL$105,ROWS($AL$105:AL123)-1,COLUMNS($AL$105:AL123)-1),\"\")","v":""},{"$f":"IF(OFFSET(DE104_3!$AM$105,ROWS($AM$105:AM123)-1,COLUMNS($AM$105:AM123)-1)<>\"\",OFFSET(DE104_3!$AM$105,ROWS($AM$105:AM123)-1,COLUMNS($AM$105:AM123)-1),\"\")","v":""},{"$f":"IF(OFFSET(DE104_3!$AN$105,ROWS($AN$105:AN123)-1,COLUMNS($AN$105:AN123)-1)<>\"\",OFFSET(DE104_3!$AN$105,ROWS($AN$105:AN123)-1,COLUMNS($AN$105:AN123)-1),\"\")","v":""},{"$f":"IF(OFFSET(DE104_3!$AO$105,ROWS($AO$105:AO123)-1,COLUMNS($AO$105:AO123)-1)<>\"\",OFFSET(DE104_3!$AO$105,ROWS($AO$105:AO123)-1,COLUMNS($AO$105:AO123)-1),\"\")","v":""},{"$f":"IF(OFFSET(DE104_3!$AP$105,ROWS($AP$105:AP123)-1,COLUMNS($AP$105:AP123)-1)<>\"\",OFFSET(DE104_3!$AP$105,ROWS($AP$105:AP123)-1,COLUMNS($AP$105:AP123)-1),\"\")","v":""},{"$f":"IF(OFFSET(DE104_3!$AQ$105,ROWS($AQ$105:AQ123)-1,COLUMNS($AQ$105:AQ123)-1)<>\"\",OFFSET(DE104_3!$AQ$105,ROWS($AQ$105:AQ123)-1,COLUMNS($AQ$105:AQ123)-1),\"\")","v":""}]
[{"$f":"IF(OFFSET(DE104_3!$C$105,ROWS($C$105:C124)-1,COLUMNS($C$105:C124)-1)<>\"\",OFFSET(DE104_3!$C$105,ROWS($C$105:C124)-1,COLUMNS($C$105:C124)-1),\"\")","v":""},{"$f":"IF(OFFSET(DE104_3!$D$105,ROWS($D$105:D124)-1,COLUMNS($D$105:D124)-1)<>\"\",OFFSET(DE104_3!$D$105,ROWS($D$105:D124)-1,COLUMNS($D$105:D124)-1),\"\")","v":"CULVERT, 3000D CONCRETE ROADWAY PIPE, 24 IN. DIA."},null,null,null,null,null,null,null,null,null,{"$f":"IF(OFFSET(DE104_3!$N$105,ROWS($N$105:N124)-1,COLUMNS($N$105:N124)-1)<>\"\",OFFSET(DE104_3!$N$105,ROWS($N$105:N124)-1,COLUMNS($N$105:N124)-1),\"\")","v":""},{"$f":"IF(OFFSET(DE104_3!$O$105,ROWS($O$105:O124)-1,COLUMNS($O$105:O124)-1)<>\"\",OFFSET(DE104_3!$O$105,ROWS($O$105:O124)-1,COLUMNS($O$105:O124)-1),\"\")","v":210},{"$f":"IF(OFFSET(DE104_3!$P$105,ROWS($P$105:P124)-1,COLUMNS($P$105:P124)-1)<>\"\",OFFSET(DE104_3!$P$105,ROWS($P$105:P124)-1,COLUMNS($P$105:P124)-1),\"\")","v":"LF"},{"$f":"IF(OFFSET(DE104_3!$Q$105,ROWS($Q$105:Q124)-1,COLUMNS($Q$105:Q124)-1)<>\"\",OFFSET(DE104_3!$Q$105,ROWS($Q$105:Q124)-1,COLUMNS($Q$105:Q124)-1),\"\")","v":""},{"$f":"IF(OFFSET(DE104_3!$R$105,ROWS($R$105:R124)-1,COLUMNS($R$105:R124)-1)<>\"\",OFFSET(DE104_3!$R$105,ROWS($R$105:R124)-1,COLUMNS($R$105:R124)-1),\"\")","v":""},{"$f":"IF(OFFSET(DE104_3!$S$105,ROWS($S$105:S124)-1,COLUMNS($S$105:S124)-1)<>\"\",OFFSET(DE104_3!$S$105,ROWS($S$105:S124)-1,COLUMNS($S$105:S124)-1),\"\")","v":""},{"$f":"IF(OFFSET(DE104_3!$T$105,ROWS($T$105:T124)-1,COLUMNS($T$105:T124)-1)<>\"\",OFFSET(DE104_3!$T$105,ROWS($T$105:T124)-1,COLUMNS($T$105:T124)-1),\"\")","v":""},{"$f":"IF(OFFSET(DE104_3!$U$105,ROWS($U$105:U124)-1,COLUMNS($U$105:U124)-1)<>\"\",OFFSET(DE104_3!$U$105,ROWS($U$105:U124)-1,COLUMNS($U$105:U124)-1),\"\")","v":""},{"$f":"IF(OFFSET(DE104_3!$V$105,ROWS($V$105:V124)-1,COLUMNS($V$105:V124)-1)<>\"\",OFFSET(DE104_3!$V$105,ROWS($V$105:V124)-1,COLUMNS($V$105:V124)-1),\"\")","v":""},{"$f":"IF(OFFSET(DE104_3!$W$105,ROWS($W$105:W124)-1,COLUMNS($W$105:W124)-1)<>\"\",OFFSET(DE104_3!$W$105,ROWS($W$105:W124)-1,COLUMNS($W$105:W124)-1),\"\")","v":""},{"$f":"IF(OFFSET(DE104_3!$X$105,ROWS($X$105:X124)-1,COLUMNS($X$105:X124)-1)<>\"\",OFFSET(DE104_3!$X$105,ROWS($X$105:X124)-1,COLUMNS($X$105:X124)-1),\"\")","v":""},{"$f":"IF(OFFSET(DE104_3!$Y$105,ROWS($Y$105:Y124)-1,COLUMNS($Y$105:Y124)-1)<>\"\",OFFSET(DE104_3!$Y$105,ROWS($Y$105:Y124)-1,COLUMNS($Y$105:Y124)-1),\"\")","v":""},{"$f":"IF(OFFSET(DE104_3!$Z$105,ROWS($Z$105:Z124)-1,COLUMNS($Z$105:Z124)-1)<>\"\",OFFSET(DE104_3!$Z$105,ROWS($Z$105:Z124)-1,COLUMNS($Z$105:Z124)-1),\"\")","v":""},{"$f":"IF(OFFSET(DE104_3!$AA$105,ROWS($AA$105:AA124)-1,COLUMNS($AA$105:AA124)-1)<>\"\",OFFSET(DE104_3!$AA$105,ROWS($AA$105:AA124)-1,COLUMNS($AA$105:AA124)-1),\"\")","v":""},{"$f":"IF(OFFSET(DE104_3!$AB$105,ROWS($AB$105:AB124)-1,COLUMNS($AB$105:AB124)-1)<>\"\",OFFSET(DE104_3!$AB$105,ROWS($AB$105:AB124)-1,COLUMNS($AB$105:AB124)-1),\"\")","v":""},{"$f":"IF(OFFSET(DE104_3!$AC$105,ROWS($AC$105:AC124)-1,COLUMNS($AC$105:AC124)-1)<>\"\",OFFSET(DE104_3!$AC$105,ROWS($AC$105:AC124)-1,COLUMNS($AC$105:AC124)-1),\"\")","v":""},{"$f":"IF(OFFSET(DE104_3!$AD$105,ROWS($AD$105:AD124)-1,COLUMNS($AD$105:AD124)-1)<>\"\",OFFSET(DE104_3!$AD$105,ROWS($AD$105:AD124)-1,COLUMNS($AD$105:AD124)-1),\"\")","v":""},{"$f":"IF(OFFSET(DE104_3!$AE$105,ROWS($AE$105:AE124)-1,COLUMNS($AE$105:AE124)-1)<>\"\",OFFSET(DE104_3!$AE$105,ROWS($AE$105:AE124)-1,COLUMNS($AE$105:AE124)-1),\"\")","v":""},{"$f":"IF(OFFSET(DE104_3!$AF$105,ROWS($AF$105:AF124)-1,COLUMNS($AF$105:AF124)-1)<>\"\",OFFSET(DE104_3!$AF$105,ROWS($AF$105:AF124)-1,COLUMNS($AF$105:AF124)-1),\"\")","v":""},{"$f":"IF(OFFSET(DE104_3!$AG$105,ROWS($AG$105:AG124)-1,COLUMNS($AG$105:AG124)-1)<>\"\",OFFSET(DE104_3!$AG$105,ROWS($AG$105:AG124)-1,COLUMNS($AG$105:AG124)-1),\"\")","v":""},{"$f":"IF(OFFSET(DE104_3!$AH$105,ROWS($AH$105:AH124)-1,COLUMNS($AH$105:AH124)-1)<>\"\",OFFSET(DE104_3!$AH$105,ROWS($AH$105:AH124)-1,COLUMNS($AH$105:AH124)-1),\"\")","v":""},{"$f":"IF(OFFSET(DE104_3!$AI$105,ROWS($AI$105:AI124)-1,COLUMNS($AI$105:AI124)-1)<>\"\",OFFSET(DE104_3!$AI$105,ROWS($AI$105:AI124)-1,COLUMNS($AI$105:AI124)-1),\"\")","v":""},{"$f":"IF(OFFSET(DE104_3!$AJ$105,ROWS($AJ$105:AJ124)-1,COLUMNS($AJ$105:AJ124)-1)<>\"\",OFFSET(DE104_3!$AJ$105,ROWS($AJ$105:AJ124)-1,COLUMNS($AJ$105:AJ124)-1),\"\")","v":""},{"$f":"IF(OFFSET(DE104_3!$AK$105,ROWS($AK$105:AK124)-1,COLUMNS($AK$105:AK124)-1)<>\"\",OFFSET(DE104_3!$AK$105,ROWS($AK$105:AK124)-1,COLUMNS($AK$105:AK124)-1),\"\")","v":""},{"$f":"IF(OFFSET(DE104_3!$AL$105,ROWS($AL$105:AL124)-1,COLUMNS($AL$105:AL124)-1)<>\"\",OFFSET(DE104_3!$AL$105,ROWS($AL$105:AL124)-1,COLUMNS($AL$105:AL124)-1),\"\")","v":""},{"$f":"IF(OFFSET(DE104_3!$AM$105,ROWS($AM$105:AM124)-1,COLUMNS($AM$105:AM124)-1)<>\"\",OFFSET(DE104_3!$AM$105,ROWS($AM$105:AM124)-1,COLUMNS($AM$105:AM124)-1),\"\")","v":""},{"$f":"IF(OFFSET(DE104_3!$AN$105,ROWS($AN$105:AN124)-1,COLUMNS($AN$105:AN124)-1)<>\"\",OFFSET(DE104_3!$AN$105,ROWS($AN$105:AN124)-1,COLUMNS($AN$105:AN124)-1),\"\")","v":""},{"$f":"IF(OFFSET(DE104_3!$AO$105,ROWS($AO$105:AO124)-1,COLUMNS($AO$105:AO124)-1)<>\"\",OFFSET(DE104_3!$AO$105,ROWS($AO$105:AO124)-1,COLUMNS($AO$105:AO124)-1),\"\")","v":""},{"$f":"IF(OFFSET(DE104_3!$AP$105,ROWS($AP$105:AP124)-1,COLUMNS($AP$105:AP124)-1)<>\"\",OFFSET(DE104_3!$AP$105,ROWS($AP$105:AP124)-1,COLUMNS($AP$105:AP124)-1),\"\")","v":""},{"$f":"IF(OFFSET(DE104_3!$AQ$105,ROWS($AQ$105:AQ124)-1,COLUMNS($AQ$105:AQ124)-1)<>\"\",OFFSET(DE104_3!$AQ$105,ROWS($AQ$105:AQ124)-1,COLUMNS($AQ$105:AQ124)-1),\"\")","v":""}]
[{"$f":"IF(OFFSET(DE104_3!$C$105,ROWS($C$105:C125)-1,COLUMNS($C$105:C125)-1)<>\"\",OFFSET(DE104_3!$C$105,ROWS($C$105:C125)-1,COLUMNS($C$105:C125)-1),\"\")","v":""},{"$f":"IF(OFFSET(DE104_3!$D$105,ROWS($D$105:D125)-1,COLUMNS($D$105:D125)-1)<>\"\",OFFSET(DE104_3!$D$105,ROWS($D$105:D125)-1,COLUMNS($D$105:D125)-1),\"\")","v":"CULVERT, 3000D CONCRETE ROADWAY PIPE, 36 IN. DIA."},null,null,null,null,null,null,null,null,null,{"$f":"IF(OFFSET(DE104_3!$N$105,ROWS($N$105:N125)-1,COLUMNS($N$105:N125)-1)<>\"\",OFFSET(DE104_3!$N$105,ROWS($N$105:N125)-1,COLUMNS($N$105:N125)-1),\"\")","v":""},{"$f":"IF(OFFSET(DE104_3!$O$105,ROWS($O$105:O125)-1,COLUMNS($O$105:O125)-1)<>\"\",OFFSET(DE104_3!$O$105,ROWS($O$105:O125)-1,COLUMNS($O$105:O125)-1),\"\")","v":296},{"$f":"IF(OFFSET(DE104_3!$P$105,ROWS($P$105:P125)-1,COLUMNS($P$105:P125)-1)<>\"\",OFFSET(DE104_3!$P$105,ROWS($P$105:P125)-1,COLUMNS($P$105:P125)-1),\"\")","v":"LF"},{"$f":"IF(OFFSET(DE104_3!$Q$105,ROWS($Q$105:Q125)-1,COLUMNS($Q$105:Q125)-1)<>\"\",OFFSET(DE104_3!$Q$105,ROWS($Q$105:Q125)-1,COLUMNS($Q$105:Q125)-1),\"\")","v":""},{"$f":"IF(OFFSET(DE104_3!$R$105,ROWS($R$105:R125)-1,COLUMNS($R$105:R125)-1)<>\"\",OFFSET(DE104_3!$R$105,ROWS($R$105:R125)-1,COLUMNS($R$105:R125)-1),\"\")","v":""},{"$f":"IF(OFFSET(DE104_3!$S$105,ROWS($S$105:S125)-1,COLUMNS($S$105:S125)-1)<>\"\",OFFSET(DE104_3!$S$105,ROWS($S$105:S125)-1,COLUMNS($S$105:S125)-1),\"\")","v":""},{"$f":"IF(OFFSET(DE104_3!$T$105,ROWS($T$105:T125)-1,COLUMNS($T$105:T125)-1)<>\"\",OFFSET(DE104_3!$T$105,ROWS($T$105:T125)-1,COLUMNS($T$105:T125)-1),\"\")","v":""},{"$f":"IF(OFFSET(DE104_3!$U$105,ROWS($U$105:U125)-1,COLUMNS($U$105:U125)-1)<>\"\",OFFSET(DE104_3!$U$105,ROWS($U$105:U125)-1,COLUMNS($U$105:U125)-1),\"\")","v":""},{"$f":"IF(OFFSET(DE104_3!$V$105,ROWS($V$105:V125)-1,COLUMNS($V$105:V125)-1)<>\"\",OFFSET(DE104_3!$V$105,ROWS($V$105:V125)-1,COLUMNS($V$105:V125)-1),\"\")","v":""},{"$f":"IF(OFFSET(DE104_3!$W$105,ROWS($W$105:W125)-1,COLUMNS($W$105:W125)-1)<>\"\",OFFSET(DE104_3!$W$105,ROWS($W$105:W125)-1,COLUMNS($W$105:W125)-1),\"\")","v":""},{"$f":"IF(OFFSET(DE104_3!$X$105,ROWS($X$105:X125)-1,COLUMNS($X$105:X125)-1)<>\"\",OFFSET(DE104_3!$X$105,ROWS($X$105:X125)-1,COLUMNS($X$105:X125)-1),\"\")","v":""},{"$f":"IF(OFFSET(DE104_3!$Y$105,ROWS($Y$105:Y125)-1,COLUMNS($Y$105:Y125)-1)<>\"\",OFFSET(DE104_3!$Y$105,ROWS($Y$105:Y125)-1,COLUMNS($Y$105:Y125)-1),\"\")","v":""},{"$f":"IF(OFFSET(DE104_3!$Z$105,ROWS($Z$105:Z125)-1,COLUMNS($Z$105:Z125)-1)<>\"\",OFFSET(DE104_3!$Z$105,ROWS($Z$105:Z125)-1,COLUMNS($Z$105:Z125)-1),\"\")","v":""},{"$f":"IF(OFFSET(DE104_3!$AA$105,ROWS($AA$105:AA125)-1,COLUMNS($AA$105:AA125)-1)<>\"\",OFFSET(DE104_3!$AA$105,ROWS($AA$105:AA125)-1,COLUMNS($AA$105:AA125)-1),\"\")","v":""},{"$f":"IF(OFFSET(DE104_3!$AB$105,ROWS($AB$105:AB125)-1,COLUMNS($AB$105:AB125)-1)<>\"\",OFFSET(DE104_3!$AB$105,ROWS($AB$105:AB125)-1,COLUMNS($AB$105:AB125)-1),\"\")","v":""},{"$f":"IF(OFFSET(DE104_3!$AC$105,ROWS($AC$105:AC125)-1,COLUMNS($AC$105:AC125)-1)<>\"\",OFFSET(DE104_3!$AC$105,ROWS($AC$105:AC125)-1,COLUMNS($AC$105:AC125)-1),\"\")","v":""},{"$f":"IF(OFFSET(DE104_3!$AD$105,ROWS($AD$105:AD125)-1,COLUMNS($AD$105:AD125)-1)<>\"\",OFFSET(DE104_3!$AD$105,ROWS($AD$105:AD125)-1,COLUMNS($AD$105:AD125)-1),\"\")","v":""},{"$f":"IF(OFFSET(DE104_3!$AE$105,ROWS($AE$105:AE125)-1,COLUMNS($AE$105:AE125)-1)<>\"\",OFFSET(DE104_3!$AE$105,ROWS($AE$105:AE125)-1,COLUMNS($AE$105:AE125)-1),\"\")","v":""},{"$f":"IF(OFFSET(DE104_3!$AF$105,ROWS($AF$105:AF125)-1,COLUMNS($AF$105:AF125)-1)<>\"\",OFFSET(DE104_3!$AF$105,ROWS($AF$105:AF125)-1,COLUMNS($AF$105:AF125)-1),\"\")","v":""},{"$f":"IF(OFFSET(DE104_3!$AG$105,ROWS($AG$105:AG125)-1,COLUMNS($AG$105:AG125)-1)<>\"\",OFFSET(DE104_3!$AG$105,ROWS($AG$105:AG125)-1,COLUMNS($AG$105:AG125)-1),\"\")","v":""},{"$f":"IF(OFFSET(DE104_3!$AH$105,ROWS($AH$105:AH125)-1,COLUMNS($AH$105:AH125)-1)<>\"\",OFFSET(DE104_3!$AH$105,ROWS($AH$105:AH125)-1,COLUMNS($AH$105:AH125)-1),\"\")","v":""},{"$f":"IF(OFFSET(DE104_3!$AI$105,ROWS($AI$105:AI125)-1,COLUMNS($AI$105:AI125)-1)<>\"\",OFFSET(DE104_3!$AI$105,ROWS($AI$105:AI125)-1,COLUMNS($AI$105:AI125)-1),\"\")","v":""},{"$f":"IF(OFFSET(DE104_3!$AJ$105,ROWS($AJ$105:AJ125)-1,COLUMNS($AJ$105:AJ125)-1)<>\"\",OFFSET(DE104_3!$AJ$105,ROWS($AJ$105:AJ125)-1,COLUMNS($AJ$105:AJ125)-1),\"\")","v":""},{"$f":"IF(OFFSET(DE104_3!$AK$105,ROWS($AK$105:AK125)-1,COLUMNS($AK$105:AK125)-1)<>\"\",OFFSET(DE104_3!$AK$105,ROWS($AK$105:AK125)-1,COLUMNS($AK$105:AK125)-1),\"\")","v":""},{"$f":"IF(OFFSET(DE104_3!$AL$105,ROWS($AL$105:AL125)-1,COLUMNS($AL$105:AL125)-1)<>\"\",OFFSET(DE104_3!$AL$105,ROWS($AL$105:AL125)-1,COLUMNS($AL$105:AL125)-1),\"\")","v":""},{"$f":"IF(OFFSET(DE104_3!$AM$105,ROWS($AM$105:AM125)-1,COLUMNS($AM$105:AM125)-1)<>\"\",OFFSET(DE104_3!$AM$105,ROWS($AM$105:AM125)-1,COLUMNS($AM$105:AM125)-1),\"\")","v":""},{"$f":"IF(OFFSET(DE104_3!$AN$105,ROWS($AN$105:AN125)-1,COLUMNS($AN$105:AN125)-1)<>\"\",OFFSET(DE104_3!$AN$105,ROWS($AN$105:AN125)-1,COLUMNS($AN$105:AN125)-1),\"\")","v":""},{"$f":"IF(OFFSET(DE104_3!$AO$105,ROWS($AO$105:AO125)-1,COLUMNS($AO$105:AO125)-1)<>\"\",OFFSET(DE104_3!$AO$105,ROWS($AO$105:AO125)-1,COLUMNS($AO$105:AO125)-1),\"\")","v":""},{"$f":"IF(OFFSET(DE104_3!$AP$105,ROWS($AP$105:AP125)-1,COLUMNS($AP$105:AP125)-1)<>\"\",OFFSET(DE104_3!$AP$105,ROWS($AP$105:AP125)-1,COLUMNS($AP$105:AP125)-1),\"\")","v":""},{"$f":"IF(OFFSET(DE104_3!$AQ$105,ROWS($AQ$105:AQ125)-1,COLUMNS($AQ$105:AQ125)-1)<>\"\",OFFSET(DE104_3!$AQ$105,ROWS($AQ$105:AQ125)-1,COLUMNS($AQ$105:AQ125)-1),\"\")","v":""}]
[{"$f":"IF(OFFSET(DE104_3!$C$105,ROWS($C$105:C126)-1,COLUMNS($C$105:C126)-1)<>\"\",OFFSET(DE104_3!$C$105,ROWS($C$105:C126)-1,COLUMNS($C$105:C126)-1),\"\")","v":""},{"$f":"IF(OFFSET(DE104_3!$D$105,ROWS($D$105:D126)-1,COLUMNS($D$105:D126)-1)<>\"\",OFFSET(DE104_3!$D$105,ROWS($D$105:D126)-1,COLUMNS($D$105:D126)-1),\"\")","v":"CULVERT, CONCRETE PIPE, 2000D, TRENCHLESS, 24 IN. DIA."},null,null,null,null,null,null,null,null,null,{"$f":"IF(OFFSET(DE104_3!$N$105,ROWS($N$105:N126)-1,COLUMNS($N$105:N126)-1)<>\"\",OFFSET(DE104_3!$N$105,ROWS($N$105:N126)-1,COLUMNS($N$105:N126)-1),\"\")","v":""},{"$f":"IF(OFFSET(DE104_3!$O$105,ROWS($O$105:O126)-1,COLUMNS($O$105:O126)-1)<>\"\",OFFSET(DE104_3!$O$105,ROWS($O$105:O126)-1,COLUMNS($O$105:O126)-1),\"\")","v":340},{"$f":"IF(OFFSET(DE104_3!$P$105,ROWS($P$105:P126)-1,COLUMNS($P$105:P126)-1)<>\"\",OFFSET(DE104_3!$P$105,ROWS($P$105:P126)-1,COLUMNS($P$105:P126)-1),\"\")","v":"LF"},{"$f":"IF(OFFSET(DE104_3!$Q$105,ROWS($Q$105:Q126)-1,COLUMNS($Q$105:Q126)-1)<>\"\",OFFSET(DE104_3!$Q$105,ROWS($Q$105:Q126)-1,COLUMNS($Q$105:Q126)-1),\"\")","v":""},{"$f":"IF(OFFSET(DE104_3!$R$105,ROWS($R$105:R126)-1,COLUMNS($R$105:R126)-1)<>\"\",OFFSET(DE104_3!$R$105,ROWS($R$105:R126)-1,COLUMNS($R$105:R126)-1),\"\")","v":""},{"$f":"IF(OFFSET(DE104_3!$S$105,ROWS($S$105:S126)-1,COLUMNS($S$105:S126)-1)<>\"\",OFFSET(DE104_3!$S$105,ROWS($S$105:S126)-1,COLUMNS($S$105:S126)-1),\"\")","v":""},{"$f":"IF(OFFSET(DE104_3!$T$105,ROWS($T$105:T126)-1,COLUMNS($T$105:T126)-1)<>\"\",OFFSET(DE104_3!$T$105,ROWS($T$105:T126)-1,COLUMNS($T$105:T126)-1),\"\")","v":""},{"$f":"IF(OFFSET(DE104_3!$U$105,ROWS($U$105:U126)-1,COLUMNS($U$105:U126)-1)<>\"\",OFFSET(DE104_3!$U$105,ROWS($U$105:U126)-1,COLUMNS($U$105:U126)-1),\"\")","v":""},{"$f":"IF(OFFSET(DE104_3!$V$105,ROWS($V$105:V126)-1,COLUMNS($V$105:V126)-1)<>\"\",OFFSET(DE104_3!$V$105,ROWS($V$105:V126)-1,COLUMNS($V$105:V126)-1),\"\")","v":""},{"$f":"IF(OFFSET(DE104_3!$W$105,ROWS($W$105:W126)-1,COLUMNS($W$105:W126)-1)<>\"\",OFFSET(DE104_3!$W$105,ROWS($W$105:W126)-1,COLUMNS($W$105:W126)-1),\"\")","v":""},{"$f":"IF(OFFSET(DE104_3!$X$105,ROWS($X$105:X126)-1,COLUMNS($X$105:X126)-1)<>\"\",OFFSET(DE104_3!$X$105,ROWS($X$105:X126)-1,COLUMNS($X$105:X126)-1),\"\")","v":""},{"$f":"IF(OFFSET(DE104_3!$Y$105,ROWS($Y$105:Y126)-1,COLUMNS($Y$105:Y126)-1)<>\"\",OFFSET(DE104_3!$Y$105,ROWS($Y$105:Y126)-1,COLUMNS($Y$105:Y126)-1),\"\")","v":""},{"$f":"IF(OFFSET(DE104_3!$Z$105,ROWS($Z$105:Z126)-1,COLUMNS($Z$105:Z126)-1)<>\"\",OFFSET(DE104_3!$Z$105,ROWS($Z$105:Z126)-1,COLUMNS($Z$105:Z126)-1),\"\")","v":""},{"$f":"IF(OFFSET(DE104_3!$AA$105,ROWS($AA$105:AA126)-1,COLUMNS($AA$105:AA126)-1)<>\"\",OFFSET(DE104_3!$AA$105,ROWS($AA$105:AA126)-1,COLUMNS($AA$105:AA126)-1),\"\")","v":""},{"$f":"IF(OFFSET(DE104_3!$AB$105,ROWS($AB$105:AB126)-1,COLUMNS($AB$105:AB126)-1)<>\"\",OFFSET(DE104_3!$AB$105,ROWS($AB$105:AB126)-1,COLUMNS($AB$105:AB126)-1),\"\")","v":""},{"$f":"IF(OFFSET(DE104_3!$AC$105,ROWS($AC$105:AC126)-1,COLUMNS($AC$105:AC126)-1)<>\"\",OFFSET(DE104_3!$AC$105,ROWS($AC$105:AC126)-1,COLUMNS($AC$105:AC126)-1),\"\")","v":""},{"$f":"IF(OFFSET(DE104_3!$AD$105,ROWS($AD$105:AD126)-1,COLUMNS($AD$105:AD126)-1)<>\"\",OFFSET(DE104_3!$AD$105,ROWS($AD$105:AD126)-1,COLUMNS($AD$105:AD126)-1),\"\")","v":""},{"$f":"IF(OFFSET(DE104_3!$AE$105,ROWS($AE$105:AE126)-1,COLUMNS($AE$105:AE126)-1)<>\"\",OFFSET(DE104_3!$AE$105,ROWS($AE$105:AE126)-1,COLUMNS($AE$105:AE126)-1),\"\")","v":""},{"$f":"IF(OFFSET(DE104_3!$AF$105,ROWS($AF$105:AF126)-1,COLUMNS($AF$105:AF126)-1)<>\"\",OFFSET(DE104_3!$AF$105,ROWS($AF$105:AF126)-1,COLUMNS($AF$105:AF126)-1),\"\")","v":""},{"$f":"IF(OFFSET(DE104_3!$AG$105,ROWS($AG$105:AG126)-1,COLUMNS($AG$105:AG126)-1)<>\"\",OFFSET(DE104_3!$AG$105,ROWS($AG$105:AG126)-1,COLUMNS($AG$105:AG126)-1),\"\")","v":""},{"$f":"IF(OFFSET(DE104_3!$AH$105,ROWS($AH$105:AH126)-1,COLUMNS($AH$105:AH126)-1)<>\"\",OFFSET(DE104_3!$AH$105,ROWS($AH$105:AH126)-1,COLUMNS($AH$105:AH126)-1),\"\")","v":""},{"$f":"IF(OFFSET(DE104_3!$AI$105,ROWS($AI$105:AI126)-1,COLUMNS($AI$105:AI126)-1)<>\"\",OFFSET(DE104_3!$AI$105,ROWS($AI$105:AI126)-1,COLUMNS($AI$105:AI126)-1),\"\")","v":""},{"$f":"IF(OFFSET(DE104_3!$AJ$105,ROWS($AJ$105:AJ126)-1,COLUMNS($AJ$105:AJ126)-1)<>\"\",OFFSET(DE104_3!$AJ$105,ROWS($AJ$105:AJ126)-1,COLUMNS($AJ$105:AJ126)-1),\"\")","v":""},{"$f":"IF(OFFSET(DE104_3!$AK$105,ROWS($AK$105:AK126)-1,COLUMNS($AK$105:AK126)-1)<>\"\",OFFSET(DE104_3!$AK$105,ROWS($AK$105:AK126)-1,COLUMNS($AK$105:AK126)-1),\"\")","v":""},{"$f":"IF(OFFSET(DE104_3!$AL$105,ROWS($AL$105:AL126)-1,COLUMNS($AL$105:AL126)-1)<>\"\",OFFSET(DE104_3!$AL$105,ROWS($AL$105:AL126)-1,COLUMNS($AL$105:AL126)-1),\"\")","v":""},{"$f":"IF(OFFSET(DE104_3!$AM$105,ROWS($AM$105:AM126)-1,COLUMNS($AM$105:AM126)-1)<>\"\",OFFSET(DE104_3!$AM$105,ROWS($AM$105:AM126)-1,COLUMNS($AM$105:AM126)-1),\"\")","v":""},{"$f":"IF(OFFSET(DE104_3!$AN$105,ROWS($AN$105:AN126)-1,COLUMNS($AN$105:AN126)-1)<>\"\",OFFSET(DE104_3!$AN$105,ROWS($AN$105:AN126)-1,COLUMNS($AN$105:AN126)-1),\"\")","v":""},{"$f":"IF(OFFSET(DE104_3!$AO$105,ROWS($AO$105:AO126)-1,COLUMNS($AO$105:AO126)-1)<>\"\",OFFSET(DE104_3!$AO$105,ROWS($AO$105:AO126)-1,COLUMNS($AO$105:AO126)-1),\"\")","v":""},{"$f":"IF(OFFSET(DE104_3!$AP$105,ROWS($AP$105:AP126)-1,COLUMNS($AP$105:AP126)-1)<>\"\",OFFSET(DE104_3!$AP$105,ROWS($AP$105:AP126)-1,COLUMNS($AP$105:AP126)-1),\"\")","v":""},{"$f":"IF(OFFSET(DE104_3!$AQ$105,ROWS($AQ$105:AQ126)-1,COLUMNS($AQ$105:AQ126)-1)<>\"\",OFFSET(DE104_3!$AQ$105,ROWS($AQ$105:AQ126)-1,COLUMNS($AQ$105:AQ126)-1),\"\")","v":""}]
[{"$f":"IF(OFFSET(DE104_3!$C$105,ROWS($C$105:C127)-1,COLUMNS($C$105:C127)-1)<>\"\",OFFSET(DE104_3!$C$105,ROWS($C$105:C127)-1,COLUMNS($C$105:C127)-1),\"\")","v":""},{"$f":"IF(OFFSET(DE104_3!$D$105,ROWS($D$105:D127)-1,COLUMNS($D$105:D127)-1)<>\"\",OFFSET(DE104_3!$D$105,ROWS($D$105:D127)-1,COLUMNS($D$105:D127)-1),\"\")","v":"CULVERT, CONCRETE PIPE, 2000D, TRENCHLESS, 36 IN. DIA."},null,null,null,null,null,null,null,null,null,{"$f":"IF(OFFSET(DE104_3!$N$105,ROWS($N$105:N127)-1,COLUMNS($N$105:N127)-1)<>\"\",OFFSET(DE104_3!$N$105,ROWS($N$105:N127)-1,COLUMNS($N$105:N127)-1),\"\")","v":""},{"$f":"IF(OFFSET(DE104_3!$O$105,ROWS($O$105:O127)-1,COLUMNS($O$105:O127)-1)<>\"\",OFFSET(DE104_3!$O$105,ROWS($O$105:O127)-1,COLUMNS($O$105:O127)-1),\"\")","v":232},{"$f":"IF(OFFSET(DE104_3!$P$105,ROWS($P$105:P127)-1,COLUMNS($P$105:P127)-1)<>\"\",OFFSET(DE104_3!$P$105,ROWS($P$105:P127)-1,COLUMNS($P$105:P127)-1),\"\")","v":"LF"},{"$f":"IF(OFFSET(DE104_3!$Q$105,ROWS($Q$105:Q127)-1,COLUMNS($Q$105:Q127)-1)<>\"\",OFFSET(DE104_3!$Q$105,ROWS($Q$105:Q127)-1,COLUMNS($Q$105:Q127)-1),\"\")","v":""},{"$f":"IF(OFFSET(DE104_3!$R$105,ROWS($R$105:R127)-1,COLUMNS($R$105:R127)-1)<>\"\",OFFSET(DE104_3!$R$105,ROWS($R$105:R127)-1,COLUMNS($R$105:R127)-1),\"\")","v":""},{"$f":"IF(OFFSET(DE104_3!$S$105,ROWS($S$105:S127)-1,COLUMNS($S$105:S127)-1)<>\"\",OFFSET(DE104_3!$S$105,ROWS($S$105:S127)-1,COLUMNS($S$105:S127)-1),\"\")","v":""},{"$f":"IF(OFFSET(DE104_3!$T$105,ROWS($T$105:T127)-1,COLUMNS($T$105:T127)-1)<>\"\",OFFSET(DE104_3!$T$105,ROWS($T$105:T127)-1,COLUMNS($T$105:T127)-1),\"\")","v":""},{"$f":"IF(OFFSET(DE104_3!$U$105,ROWS($U$105:U127)-1,COLUMNS($U$105:U127)-1)<>\"\",OFFSET(DE104_3!$U$105,ROWS($U$105:U127)-1,COLUMNS($U$105:U127)-1),\"\")","v":""},{"$f":"IF(OFFSET(DE104_3!$V$105,ROWS($V$105:V127)-1,COLUMNS($V$105:V127)-1)<>\"\",OFFSET(DE104_3!$V$105,ROWS($V$105:V127)-1,COLUMNS($V$105:V127)-1),\"\")","v":""},{"$f":"IF(OFFSET(DE104_3!$W$105,ROWS($W$105:W127)-1,COLUMNS($W$105:W127)-1)<>\"\",OFFSET(DE104_3!$W$105,ROWS($W$105:W127)-1,COLUMNS($W$105:W127)-1),\"\")","v":""},{"$f":"IF(OFFSET(DE104_3!$X$105,ROWS($X$105:X127)-1,COLUMNS($X$105:X127)-1)<>\"\",OFFSET(DE104_3!$X$105,ROWS($X$105:X127)-1,COLUMNS($X$105:X127)-1),\"\")","v":""},{"$f":"IF(OFFSET(DE104_3!$Y$105,ROWS($Y$105:Y127)-1,COLUMNS($Y$105:Y127)-1)<>\"\",OFFSET(DE104_3!$Y$105,ROWS($Y$105:Y127)-1,COLUMNS($Y$105:Y127)-1),\"\")","v":""},{"$f":"IF(OFFSET(DE104_3!$Z$105,ROWS($Z$105:Z127)-1,COLUMNS($Z$105:Z127)-1)<>\"\",OFFSET(DE104_3!$Z$105,ROWS($Z$105:Z127)-1,COLUMNS($Z$105:Z127)-1),\"\")","v":""},{"$f":"IF(OFFSET(DE104_3!$AA$105,ROWS($AA$105:AA127)-1,COLUMNS($AA$105:AA127)-1)<>\"\",OFFSET(DE104_3!$AA$105,ROWS($AA$105:AA127)-1,COLUMNS($AA$105:AA127)-1),\"\")","v":""},{"$f":"IF(OFFSET(DE104_3!$AB$105,ROWS($AB$105:AB127)-1,COLUMNS($AB$105:AB127)-1)<>\"\",OFFSET(DE104_3!$AB$105,ROWS($AB$105:AB127)-1,COLUMNS($AB$105:AB127)-1),\"\")","v":""},{"$f":"IF(OFFSET(DE104_3!$AC$105,ROWS($AC$105:AC127)-1,COLUMNS($AC$105:AC127)-1)<>\"\",OFFSET(DE104_3!$AC$105,ROWS($AC$105:AC127)-1,COLUMNS($AC$105:AC127)-1),\"\")","v":""},{"$f":"IF(OFFSET(DE104_3!$AD$105,ROWS($AD$105:AD127)-1,COLUMNS($AD$105:AD127)-1)<>\"\",OFFSET(DE104_3!$AD$105,ROWS($AD$105:AD127)-1,COLUMNS($AD$105:AD127)-1),\"\")","v":""},{"$f":"IF(OFFSET(DE104_3!$AE$105,ROWS($AE$105:AE127)-1,COLUMNS($AE$105:AE127)-1)<>\"\",OFFSET(DE104_3!$AE$105,ROWS($AE$105:AE127)-1,COLUMNS($AE$105:AE127)-1),\"\")","v":""},{"$f":"IF(OFFSET(DE104_3!$AF$105,ROWS($AF$105:AF127)-1,COLUMNS($AF$105:AF127)-1)<>\"\",OFFSET(DE104_3!$AF$105,ROWS($AF$105:AF127)-1,COLUMNS($AF$105:AF127)-1),\"\")","v":""},{"$f":"IF(OFFSET(DE104_3!$AG$105,ROWS($AG$105:AG127)-1,COLUMNS($AG$105:AG127)-1)<>\"\",OFFSET(DE104_3!$AG$105,ROWS($AG$105:AG127)-1,COLUMNS($AG$105:AG127)-1),\"\")","v":""},{"$f":"IF(OFFSET(DE104_3!$AH$105,ROWS($AH$105:AH127)-1,COLUMNS($AH$105:AH127)-1)<>\"\",OFFSET(DE104_3!$AH$105,ROWS($AH$105:AH127)-1,COLUMNS($AH$105:AH127)-1),\"\")","v":""},{"$f":"IF(OFFSET(DE104_3!$AI$105,ROWS($AI$105:AI127)-1,COLUMNS($AI$105:AI127)-1)<>\"\",OFFSET(DE104_3!$AI$105,ROWS($AI$105:AI127)-1,COLUMNS($AI$105:AI127)-1),\"\")","v":""},{"$f":"IF(OFFSET(DE104_3!$AJ$105,ROWS($AJ$105:AJ127)-1,COLUMNS($AJ$105:AJ127)-1)<>\"\",OFFSET(DE104_3!$AJ$105,ROWS($AJ$105:AJ127)-1,COLUMNS($AJ$105:AJ127)-1),\"\")","v":""},{"$f":"IF(OFFSET(DE104_3!$AK$105,ROWS($AK$105:AK127)-1,COLUMNS($AK$105:AK127)-1)<>\"\",OFFSET(DE104_3!$AK$105,ROWS($AK$105:AK127)-1,COLUMNS($AK$105:AK127)-1),\"\")","v":""},{"$f":"IF(OFFSET(DE104_3!$AL$105,ROWS($AL$105:AL127)-1,COLUMNS($AL$105:AL127)-1)<>\"\",OFFSET(DE104_3!$AL$105,ROWS($AL$105:AL127)-1,COLUMNS($AL$105:AL127)-1),\"\")","v":""},{"$f":"IF(OFFSET(DE104_3!$AM$105,ROWS($AM$105:AM127)-1,COLUMNS($AM$105:AM127)-1)<>\"\",OFFSET(DE104_3!$AM$105,ROWS($AM$105:AM127)-1,COLUMNS($AM$105:AM127)-1),\"\")","v":""},{"$f":"IF(OFFSET(DE104_3!$AN$105,ROWS($AN$105:AN127)-1,COLUMNS($AN$105:AN127)-1)<>\"\",OFFSET(DE104_3!$AN$105,ROWS($AN$105:AN127)-1,COLUMNS($AN$105:AN127)-1),\"\")","v":""},{"$f":"IF(OFFSET(DE104_3!$AO$105,ROWS($AO$105:AO127)-1,COLUMNS($AO$105:AO127)-1)<>\"\",OFFSET(DE104_3!$AO$105,ROWS($AO$105:AO127)-1,COLUMNS($AO$105:AO127)-1),\"\")","v":""},{"$f":"IF(OFFSET(DE104_3!$AP$105,ROWS($AP$105:AP127)-1,COLUMNS($AP$105:AP127)-1)<>\"\",OFFSET(DE104_3!$AP$105,ROWS($AP$105:AP127)-1,COLUMNS($AP$105:AP127)-1),\"\")","v":""},{"$f":"IF(OFFSET(DE104_3!$AQ$105,ROWS($AQ$105:AQ127)-1,COLUMNS($AQ$105:AQ127)-1)<>\"\",OFFSET(DE104_3!$AQ$105,ROWS($AQ$105:AQ127)-1,COLUMNS($AQ$105:AQ127)-1),\"\")","v":""}]
[{"$f":"IF(OFFSET(DE104_3!$C$105,ROWS($C$105:C128)-1,COLUMNS($C$105:C128)-1)<>\"\",OFFSET(DE104_3!$C$105,ROWS($C$105:C128)-1,COLUMNS($C$105:C128)-1),\"\")","v":""},{"$f":"IF(OFFSET(DE104_3!$D$105,ROWS($D$105:D128)-1,COLUMNS($D$105:D128)-1)<>\"\",OFFSET(DE104_3!$D$105,ROWS($D$105:D128)-1,COLUMNS($D$105:D128)-1),\"\")","v":"CULVERT, CONCRETE PIPE, 2000D, TRENCHLESS, 42 IN. DIA."},null,null,null,null,null,null,null,null,null,{"$f":"IF(OFFSET(DE104_3!$N$105,ROWS($N$105:N128)-1,COLUMNS($N$105:N128)-1)<>\"\",OFFSET(DE104_3!$N$105,ROWS($N$105:N128)-1,COLUMNS($N$105:N128)-1),\"\")","v":""},{"$f":"IF(OFFSET(DE104_3!$O$105,ROWS($O$105:O128)-1,COLUMNS($O$105:O128)-1)<>\"\",OFFSET(DE104_3!$O$105,ROWS($O$105:O128)-1,COLUMNS($O$105:O128)-1),\"\")","v":108},{"$f":"IF(OFFSET(DE104_3!$P$105,ROWS($P$105:P128)-1,COLUMNS($P$105:P128)-1)<>\"\",OFFSET(DE104_3!$P$105,ROWS($P$105:P128)-1,COLUMNS($P$105:P128)-1),\"\")","v":"LF"},{"$f":"IF(OFFSET(DE104_3!$Q$105,ROWS($Q$105:Q128)-1,COLUMNS($Q$105:Q128)-1)<>\"\",OFFSET(DE104_3!$Q$105,ROWS($Q$105:Q128)-1,COLUMNS($Q$105:Q128)-1),\"\")","v":""},{"$f":"IF(OFFSET(DE104_3!$R$105,ROWS($R$105:R128)-1,COLUMNS($R$105:R128)-1)<>\"\",OFFSET(DE104_3!$R$105,ROWS($R$105:R128)-1,COLUMNS($R$105:R128)-1),\"\")","v":""},{"$f":"IF(OFFSET(DE104_3!$S$105,ROWS($S$105:S128)-1,COLUMNS($S$105:S128)-1)<>\"\",OFFSET(DE104_3!$S$105,ROWS($S$105:S128)-1,COLUMNS($S$105:S128)-1),\"\")","v":""},{"$f":"IF(OFFSET(DE104_3!$T$105,ROWS($T$105:T128)-1,COLUMNS($T$105:T128)-1)<>\"\",OFFSET(DE104_3!$T$105,ROWS($T$105:T128)-1,COLUMNS($T$105:T128)-1),\"\")","v":""},{"$f":"IF(OFFSET(DE104_3!$U$105,ROWS($U$105:U128)-1,COLUMNS($U$105:U128)-1)<>\"\",OFFSET(DE104_3!$U$105,ROWS($U$105:U128)-1,COLUMNS($U$105:U128)-1),\"\")","v":""},{"$f":"IF(OFFSET(DE104_3!$V$105,ROWS($V$105:V128)-1,COLUMNS($V$105:V128)-1)<>\"\",OFFSET(DE104_3!$V$105,ROWS($V$105:V128)-1,COLUMNS($V$105:V128)-1),\"\")","v":""},{"$f":"IF(OFFSET(DE104_3!$W$105,ROWS($W$105:W128)-1,COLUMNS($W$105:W128)-1)<>\"\",OFFSET(DE104_3!$W$105,ROWS($W$105:W128)-1,COLUMNS($W$105:W128)-1),\"\")","v":""},{"$f":"IF(OFFSET(DE104_3!$X$105,ROWS($X$105:X128)-1,COLUMNS($X$105:X128)-1)<>\"\",OFFSET(DE104_3!$X$105,ROWS($X$105:X128)-1,COLUMNS($X$105:X128)-1),\"\")","v":""},{"$f":"IF(OFFSET(DE104_3!$Y$105,ROWS($Y$105:Y128)-1,COLUMNS($Y$105:Y128)-1)<>\"\",OFFSET(DE104_3!$Y$105,ROWS($Y$105:Y128)-1,COLUMNS($Y$105:Y128)-1),\"\")","v":""},{"$f":"IF(OFFSET(DE104_3!$Z$105,ROWS($Z$105:Z128)-1,COLUMNS($Z$105:Z128)-1)<>\"\",OFFSET(DE104_3!$Z$105,ROWS($Z$105:Z128)-1,COLUMNS($Z$105:Z128)-1),\"\")","v":""},{"$f":"IF(OFFSET(DE104_3!$AA$105,ROWS($AA$105:AA128)-1,COLUMNS($AA$105:AA128)-1)<>\"\",OFFSET(DE104_3!$AA$105,ROWS($AA$105:AA128)-1,COLUMNS($AA$105:AA128)-1),\"\")","v":""},{"$f":"IF(OFFSET(DE104_3!$AB$105,ROWS($AB$105:AB128)-1,COLUMNS($AB$105:AB128)-1)<>\"\",OFFSET(DE104_3!$AB$105,ROWS($AB$105:AB128)-1,COLUMNS($AB$105:AB128)-1),\"\")","v":""},{"$f":"IF(OFFSET(DE104_3!$AC$105,ROWS($AC$105:AC128)-1,COLUMNS($AC$105:AC128)-1)<>\"\",OFFSET(DE104_3!$AC$105,ROWS($AC$105:AC128)-1,COLUMNS($AC$105:AC128)-1),\"\")","v":""},{"$f":"IF(OFFSET(DE104_3!$AD$105,ROWS($AD$105:AD128)-1,COLUMNS($AD$105:AD128)-1)<>\"\",OFFSET(DE104_3!$AD$105,ROWS($AD$105:AD128)-1,COLUMNS($AD$105:AD128)-1),\"\")","v":""},{"$f":"IF(OFFSET(DE104_3!$AE$105,ROWS($AE$105:AE128)-1,COLUMNS($AE$105:AE128)-1)<>\"\",OFFSET(DE104_3!$AE$105,ROWS($AE$105:AE128)-1,COLUMNS($AE$105:AE128)-1),\"\")","v":""},{"$f":"IF(OFFSET(DE104_3!$AF$105,ROWS($AF$105:AF128)-1,COLUMNS($AF$105:AF128)-1)<>\"\",OFFSET(DE104_3!$AF$105,ROWS($AF$105:AF128)-1,COLUMNS($AF$105:AF128)-1),\"\")","v":""},{"$f":"IF(OFFSET(DE104_3!$AG$105,ROWS($AG$105:AG128)-1,COLUMNS($AG$105:AG128)-1)<>\"\",OFFSET(DE104_3!$AG$105,ROWS($AG$105:AG128)-1,COLUMNS($AG$105:AG128)-1),\"\")","v":""},{"$f":"IF(OFFSET(DE104_3!$AH$105,ROWS($AH$105:AH128)-1,COLUMNS($AH$105:AH128)-1)<>\"\",OFFSET(DE104_3!$AH$105,ROWS($AH$105:AH128)-1,COLUMNS($AH$105:AH128)-1),\"\")","v":""},{"$f":"IF(OFFSET(DE104_3!$AI$105,ROWS($AI$105:AI128)-1,COLUMNS($AI$105:AI128)-1)<>\"\",OFFSET(DE104_3!$AI$105,ROWS($AI$105:AI128)-1,COLUMNS($AI$105:AI128)-1),\"\")","v":""},{"$f":"IF(OFFSET(DE104_3!$AJ$105,ROWS($AJ$105:AJ128)-1,COLUMNS($AJ$105:AJ128)-1)<>\"\",OFFSET(DE104_3!$AJ$105,ROWS($AJ$105:AJ128)-1,COLUMNS($AJ$105:AJ128)-1),\"\")","v":""},{"$f":"IF(OFFSET(DE104_3!$AK$105,ROWS($AK$105:AK128)-1,COLUMNS($AK$105:AK128)-1)<>\"\",OFFSET(DE104_3!$AK$105,ROWS($AK$105:AK128)-1,COLUMNS($AK$105:AK128)-1),\"\")","v":""},{"$f":"IF(OFFSET(DE104_3!$AL$105,ROWS($AL$105:AL128)-1,COLUMNS($AL$105:AL128)-1)<>\"\",OFFSET(DE104_3!$AL$105,ROWS($AL$105:AL128)-1,COLUMNS($AL$105:AL128)-1),\"\")","v":""},{"$f":"IF(OFFSET(DE104_3!$AM$105,ROWS($AM$105:AM128)-1,COLUMNS($AM$105:AM128)-1)<>\"\",OFFSET(DE104_3!$AM$105,ROWS($AM$105:AM128)-1,COLUMNS($AM$105:AM128)-1),\"\")","v":""},{"$f":"IF(OFFSET(DE104_3!$AN$105,ROWS($AN$105:AN128)-1,COLUMNS($AN$105:AN128)-1)<>\"\",OFFSET(DE104_3!$AN$105,ROWS($AN$105:AN128)-1,COLUMNS($AN$105:AN128)-1),\"\")","v":""},{"$f":"IF(OFFSET(DE104_3!$AO$105,ROWS($AO$105:AO128)-1,COLUMNS($AO$105:AO128)-1)<>\"\",OFFSET(DE104_3!$AO$105,ROWS($AO$105:AO128)-1,COLUMNS($AO$105:AO128)-1),\"\")","v":""},{"$f":"IF(OFFSET(DE104_3!$AP$105,ROWS($AP$105:AP128)-1,COLUMNS($AP$105:AP128)-1)<>\"\",OFFSET(DE104_3!$AP$105,ROWS($AP$105:AP128)-1,COLUMNS($AP$105:AP128)-1),\"\")","v":""},{"$f":"IF(OFFSET(DE104_3!$AQ$105,ROWS($AQ$105:AQ128)-1,COLUMNS($AQ$105:AQ128)-1)<>\"\",OFFSET(DE104_3!$AQ$105,ROWS($AQ$105:AQ128)-1,COLUMNS($AQ$105:AQ128)-1),\"\")","v":""}]
[{"$f":"IF(OFFSET(DE104_3!$C$105,ROWS($C$105:C129)-1,COLUMNS($C$105:C129)-1)<>\"\",OFFSET(DE104_3!$C$105,ROWS($C$105:C129)-1,COLUMNS($C$105:C129)-1),\"\")","v":""},{"$f":"IF(OFFSET(DE104_3!$D$105,ROWS($D$105:D129)-1,COLUMNS($D$105:D129)-1)<>\"\",OFFSET(DE104_3!$D$105,ROWS($D$105:D129)-1,COLUMNS($D$105:D129)-1),\"\")","v":"APRONS, METAL, 24 IN. DIA."},null,null,null,null,null,null,null,null,null,{"$f":"IF(OFFSET(DE104_3!$N$105,ROWS($N$105:N129)-1,COLUMNS($N$105:N129)-1)<>\"\",OFFSET(DE104_3!$N$105,ROWS($N$105:N129)-1,COLUMNS($N$105:N129)-1),\"\")","v":""},{"$f":"IF(OFFSET(DE104_3!$O$105,ROWS($O$105:O129)-1,COLUMNS($O$105:O129)-1)<>\"\",OFFSET(DE104_3!$O$105,ROWS($O$105:O129)-1,COLUMNS($O$105:O129)-1),\"\")","v":2},{"$f":"IF(OFFSET(DE104_3!$P$105,ROWS($P$105:P129)-1,COLUMNS($P$105:P129)-1)<>\"\",OFFSET(DE104_3!$P$105,ROWS($P$105:P129)-1,COLUMNS($P$105:P129)-1),\"\")","v":"EACH"},{"$f":"IF(OFFSET(DE104_3!$Q$105,ROWS($Q$105:Q129)-1,COLUMNS($Q$105:Q129)-1)<>\"\",OFFSET(DE104_3!$Q$105,ROWS($Q$105:Q129)-1,COLUMNS($Q$105:Q129)-1),\"\")","v":""},{"$f":"IF(OFFSET(DE104_3!$R$105,ROWS($R$105:R129)-1,COLUMNS($R$105:R129)-1)<>\"\",OFFSET(DE104_3!$R$105,ROWS($R$105:R129)-1,COLUMNS($R$105:R129)-1),\"\")","v":""},{"$f":"IF(OFFSET(DE104_3!$S$105,ROWS($S$105:S129)-1,COLUMNS($S$105:S129)-1)<>\"\",OFFSET(DE104_3!$S$105,ROWS($S$105:S129)-1,COLUMNS($S$105:S129)-1),\"\")","v":""},{"$f":"IF(OFFSET(DE104_3!$T$105,ROWS($T$105:T129)-1,COLUMNS($T$105:T129)-1)<>\"\",OFFSET(DE104_3!$T$105,ROWS($T$105:T129)-1,COLUMNS($T$105:T129)-1),\"\")","v":""},{"$f":"IF(OFFSET(DE104_3!$U$105,ROWS($U$105:U129)-1,COLUMNS($U$105:U129)-1)<>\"\",OFFSET(DE104_3!$U$105,ROWS($U$105:U129)-1,COLUMNS($U$105:U129)-1),\"\")","v":""},{"$f":"IF(OFFSET(DE104_3!$V$105,ROWS($V$105:V129)-1,COLUMNS($V$105:V129)-1)<>\"\",OFFSET(DE104_3!$V$105,ROWS($V$105:V129)-1,COLUMNS($V$105:V129)-1),\"\")","v":""},{"$f":"IF(OFFSET(DE104_3!$W$105,ROWS($W$105:W129)-1,COLUMNS($W$105:W129)-1)<>\"\",OFFSET(DE104_3!$W$105,ROWS($W$105:W129)-1,COLUMNS($W$105:W129)-1),\"\")","v":""},{"$f":"IF(OFFSET(DE104_3!$X$105,ROWS($X$105:X129)-1,COLUMNS($X$105:X129)-1)<>\"\",OFFSET(DE104_3!$X$105,ROWS($X$105:X129)-1,COLUMNS($X$105:X129)-1),\"\")","v":""},{"$f":"IF(OFFSET(DE104_3!$Y$105,ROWS($Y$105:Y129)-1,COLUMNS($Y$105:Y129)-1)<>\"\",OFFSET(DE104_3!$Y$105,ROWS($Y$105:Y129)-1,COLUMNS($Y$105:Y129)-1),\"\")","v":""},{"$f":"IF(OFFSET(DE104_3!$Z$105,ROWS($Z$105:Z129)-1,COLUMNS($Z$105:Z129)-1)<>\"\",OFFSET(DE104_3!$Z$105,ROWS($Z$105:Z129)-1,COLUMNS($Z$105:Z129)-1),\"\")","v":""},{"$f":"IF(OFFSET(DE104_3!$AA$105,ROWS($AA$105:AA129)-1,COLUMNS($AA$105:AA129)-1)<>\"\",OFFSET(DE104_3!$AA$105,ROWS($AA$105:AA129)-1,COLUMNS($AA$105:AA129)-1),\"\")","v":""},{"$f":"IF(OFFSET(DE104_3!$AB$105,ROWS($AB$105:AB129)-1,COLUMNS($AB$105:AB129)-1)<>\"\",OFFSET(DE104_3!$AB$105,ROWS($AB$105:AB129)-1,COLUMNS($AB$105:AB129)-1),\"\")","v":""},{"$f":"IF(OFFSET(DE104_3!$AC$105,ROWS($AC$105:AC129)-1,COLUMNS($AC$105:AC129)-1)<>\"\",OFFSET(DE104_3!$AC$105,ROWS($AC$105:AC129)-1,COLUMNS($AC$105:AC129)-1),\"\")","v":""},{"$f":"IF(OFFSET(DE104_3!$AD$105,ROWS($AD$105:AD129)-1,COLUMNS($AD$105:AD129)-1)<>\"\",OFFSET(DE104_3!$AD$105,ROWS($AD$105:AD129)-1,COLUMNS($AD$105:AD129)-1),\"\")","v":""},{"$f":"IF(OFFSET(DE104_3!$AE$105,ROWS($AE$105:AE129)-1,COLUMNS($AE$105:AE129)-1)<>\"\",OFFSET(DE104_3!$AE$105,ROWS($AE$105:AE129)-1,COLUMNS($AE$105:AE129)-1),\"\")","v":""},{"$f":"IF(OFFSET(DE104_3!$AF$105,ROWS($AF$105:AF129)-1,COLUMNS($AF$105:AF129)-1)<>\"\",OFFSET(DE104_3!$AF$105,ROWS($AF$105:AF129)-1,COLUMNS($AF$105:AF129)-1),\"\")","v":""},{"$f":"IF(OFFSET(DE104_3!$AG$105,ROWS($AG$105:AG129)-1,COLUMNS($AG$105:AG129)-1)<>\"\",OFFSET(DE104_3!$AG$105,ROWS($AG$105:AG129)-1,COLUMNS($AG$105:AG129)-1),\"\")","v":""},{"$f":"IF(OFFSET(DE104_3!$AH$105,ROWS($AH$105:AH129)-1,COLUMNS($AH$105:AH129)-1)<>\"\",OFFSET(DE104_3!$AH$105,ROWS($AH$105:AH129)-1,COLUMNS($AH$105:AH129)-1),\"\")","v":""},{"$f":"IF(OFFSET(DE104_3!$AI$105,ROWS($AI$105:AI129)-1,COLUMNS($AI$105:AI129)-1)<>\"\",OFFSET(DE104_3!$AI$105,ROWS($AI$105:AI129)-1,COLUMNS($AI$105:AI129)-1),\"\")","v":""},{"$f":"IF(OFFSET(DE104_3!$AJ$105,ROWS($AJ$105:AJ129)-1,COLUMNS($AJ$105:AJ129)-1)<>\"\",OFFSET(DE104_3!$AJ$105,ROWS($AJ$105:AJ129)-1,COLUMNS($AJ$105:AJ129)-1),\"\")","v":""},{"$f":"IF(OFFSET(DE104_3!$AK$105,ROWS($AK$105:AK129)-1,COLUMNS($AK$105:AK129)-1)<>\"\",OFFSET(DE104_3!$AK$105,ROWS($AK$105:AK129)-1,COLUMNS($AK$105:AK129)-1),\"\")","v":""},{"$f":"IF(OFFSET(DE104_3!$AL$105,ROWS($AL$105:AL129)-1,COLUMNS($AL$105:AL129)-1)<>\"\",OFFSET(DE104_3!$AL$105,ROWS($AL$105:AL129)-1,COLUMNS($AL$105:AL129)-1),\"\")","v":""},{"$f":"IF(OFFSET(DE104_3!$AM$105,ROWS($AM$105:AM129)-1,COLUMNS($AM$105:AM129)-1)<>\"\",OFFSET(DE104_3!$AM$105,ROWS($AM$105:AM129)-1,COLUMNS($AM$105:AM129)-1),\"\")","v":""},{"$f":"IF(OFFSET(DE104_3!$AN$105,ROWS($AN$105:AN129)-1,COLUMNS($AN$105:AN129)-1)<>\"\",OFFSET(DE104_3!$AN$105,ROWS($AN$105:AN129)-1,COLUMNS($AN$105:AN129)-1),\"\")","v":""},{"$f":"IF(OFFSET(DE104_3!$AO$105,ROWS($AO$105:AO129)-1,COLUMNS($AO$105:AO129)-1)<>\"\",OFFSET(DE104_3!$AO$105,ROWS($AO$105:AO129)-1,COLUMNS($AO$105:AO129)-1),\"\")","v":""},{"$f":"IF(OFFSET(DE104_3!$AP$105,ROWS($AP$105:AP129)-1,COLUMNS($AP$105:AP129)-1)<>\"\",OFFSET(DE104_3!$AP$105,ROWS($AP$105:AP129)-1,COLUMNS($AP$105:AP129)-1),\"\")","v":""},{"$f":"IF(OFFSET(DE104_3!$AQ$105,ROWS($AQ$105:AQ129)-1,COLUMNS($AQ$105:AQ129)-1)<>\"\",OFFSET(DE104_3!$AQ$105,ROWS($AQ$105:AQ129)-1,COLUMNS($AQ$105:AQ129)-1),\"\")","v":""}]
[{"$f":"IF(OFFSET(DE104_3!$C$105,ROWS($C$105:C130)-1,COLUMNS($C$105:C130)-1)<>\"\",OFFSET(DE104_3!$C$105,ROWS($C$105:C130)-1,COLUMNS($C$105:C130)-1),\"\")","v":""},{"$f":"IF(OFFSET(DE104_3!$D$105,ROWS($D$105:D130)-1,COLUMNS($D$105:D130)-1)<>\"\",OFFSET(DE104_3!$D$105,ROWS($D$105:D130)-1,COLUMNS($D$105:D130)-1),\"\")","v":"CULVERT, CORRUGATED METAL ROADWAY PIPE, 24 IN. DIA."},null,null,null,null,null,null,null,null,null,{"$f":"IF(OFFSET(DE104_3!$N$105,ROWS($N$105:N130)-1,COLUMNS($N$105:N130)-1)<>\"\",OFFSET(DE104_3!$N$105,ROWS($N$105:N130)-1,COLUMNS($N$105:N130)-1),\"\")","v":""},{"$f":"IF(OFFSET(DE104_3!$O$105,ROWS($O$105:O130)-1,COLUMNS($O$105:O130)-1)<>\"\",OFFSET(DE104_3!$O$105,ROWS($O$105:O130)-1,COLUMNS($O$105:O130)-1),\"\")","v":87},{"$f":"IF(OFFSET(DE104_3!$P$105,ROWS($P$105:P130)-1,COLUMNS($P$105:P130)-1)<>\"\",OFFSET(DE104_3!$P$105,ROWS($P$105:P130)-1,COLUMNS($P$105:P130)-1),\"\")","v":"LF"},{"$f":"IF(OFFSET(DE104_3!$Q$105,ROWS($Q$105:Q130)-1,COLUMNS($Q$105:Q130)-1)<>\"\",OFFSET(DE104_3!$Q$105,ROWS($Q$105:Q130)-1,COLUMNS($Q$105:Q130)-1),\"\")","v":""},{"$f":"IF(OFFSET(DE104_3!$R$105,ROWS($R$105:R130)-1,COLUMNS($R$105:R130)-1)<>\"\",OFFSET(DE104_3!$R$105,ROWS($R$105:R130)-1,COLUMNS($R$105:R130)-1),\"\")","v":""},{"$f":"IF(OFFSET(DE104_3!$S$105,ROWS($S$105:S130)-1,COLUMNS($S$105:S130)-1)<>\"\",OFFSET(DE104_3!$S$105,ROWS($S$105:S130)-1,COLUMNS($S$105:S130)-1),\"\")","v":""},{"$f":"IF(OFFSET(DE104_3!$T$105,ROWS($T$105:T130)-1,COLUMNS($T$105:T130)-1)<>\"\",OFFSET(DE104_3!$T$105,ROWS($T$105:T130)-1,COLUMNS($T$105:T130)-1),\"\")","v":""},{"$f":"IF(OFFSET(DE104_3!$U$105,ROWS($U$105:U130)-1,COLUMNS($U$105:U130)-1)<>\"\",OFFSET(DE104_3!$U$105,ROWS($U$105:U130)-1,COLUMNS($U$105:U130)-1),\"\")","v":""},{"$f":"IF(OFFSET(DE104_3!$V$105,ROWS($V$105:V130)-1,COLUMNS($V$105:V130)-1)<>\"\",OFFSET(DE104_3!$V$105,ROWS($V$105:V130)-1,COLUMNS($V$105:V130)-1),\"\")","v":""},{"$f":"IF(OFFSET(DE104_3!$W$105,ROWS($W$105:W130)-1,COLUMNS($W$105:W130)-1)<>\"\",OFFSET(DE104_3!$W$105,ROWS($W$105:W130)-1,COLUMNS($W$105:W130)-1),\"\")","v":""},{"$f":"IF(OFFSET(DE104_3!$X$105,ROWS($X$105:X130)-1,COLUMNS($X$105:X130)-1)<>\"\",OFFSET(DE104_3!$X$105,ROWS($X$105:X130)-1,COLUMNS($X$105:X130)-1),\"\")","v":""},{"$f":"IF(OFFSET(DE104_3!$Y$105,ROWS($Y$105:Y130)-1,COLUMNS($Y$105:Y130)-1)<>\"\",OFFSET(DE104_3!$Y$105,ROWS($Y$105:Y130)-1,COLUMNS($Y$105:Y130)-1),\"\")","v":""},{"$f":"IF(OFFSET(DE104_3!$Z$105,ROWS($Z$105:Z130)-1,COLUMNS($Z$105:Z130)-1)<>\"\",OFFSET(DE104_3!$Z$105,ROWS($Z$105:Z130)-1,COLUMNS($Z$105:Z130)-1),\"\")","v":""},{"$f":"IF(OFFSET(DE104_3!$AA$105,ROWS($AA$105:AA130)-1,COLUMNS($AA$105:AA130)-1)<>\"\",OFFSET(DE104_3!$AA$105,ROWS($AA$105:AA130)-1,COLUMNS($AA$105:AA130)-1),\"\")","v":""},{"$f":"IF(OFFSET(DE104_3!$AB$105,ROWS($AB$105:AB130)-1,COLUMNS($AB$105:AB130)-1)<>\"\",OFFSET(DE104_3!$AB$105,ROWS($AB$105:AB130)-1,COLUMNS($AB$105:AB130)-1),\"\")","v":""},{"$f":"IF(OFFSET(DE104_3!$AC$105,ROWS($AC$105:AC130)-1,COLUMNS($AC$105:AC130)-1)<>\"\",OFFSET(DE104_3!$AC$105,ROWS($AC$105:AC130)-1,COLUMNS($AC$105:AC130)-1),\"\")","v":""},{"$f":"IF(OFFSET(DE104_3!$AD$105,ROWS($AD$105:AD130)-1,COLUMNS($AD$105:AD130)-1)<>\"\",OFFSET(DE104_3!$AD$105,ROWS($AD$105:AD130)-1,COLUMNS($AD$105:AD130)-1),\"\")","v":""},{"$f":"IF(OFFSET(DE104_3!$AE$105,ROWS($AE$105:AE130)-1,COLUMNS($AE$105:AE130)-1)<>\"\",OFFSET(DE104_3!$AE$105,ROWS($AE$105:AE130)-1,COLUMNS($AE$105:AE130)-1),\"\")","v":""},{"$f":"IF(OFFSET(DE104_3!$AF$105,ROWS($AF$105:AF130)-1,COLUMNS($AF$105:AF130)-1)<>\"\",OFFSET(DE104_3!$AF$105,ROWS($AF$105:AF130)-1,COLUMNS($AF$105:AF130)-1),\"\")","v":""},{"$f":"IF(OFFSET(DE104_3!$AG$105,ROWS($AG$105:AG130)-1,COLUMNS($AG$105:AG130)-1)<>\"\",OFFSET(DE104_3!$AG$105,ROWS($AG$105:AG130)-1,COLUMNS($AG$105:AG130)-1),\"\")","v":""},{"$f":"IF(OFFSET(DE104_3!$AH$105,ROWS($AH$105:AH130)-1,COLUMNS($AH$105:AH130)-1)<>\"\",OFFSET(DE104_3!$AH$105,ROWS($AH$105:AH130)-1,COLUMNS($AH$105:AH130)-1),\"\")","v":""},{"$f":"IF(OFFSET(DE104_3!$AI$105,ROWS($AI$105:AI130)-1,COLUMNS($AI$105:AI130)-1)<>\"\",OFFSET(DE104_3!$AI$105,ROWS($AI$105:AI130)-1,COLUMNS($AI$105:AI130)-1),\"\")","v":""},{"$f":"IF(OFFSET(DE104_3!$AJ$105,ROWS($AJ$105:AJ130)-1,COLUMNS($AJ$105:AJ130)-1)<>\"\",OFFSET(DE104_3!$AJ$105,ROWS($AJ$105:AJ130)-1,COLUMNS($AJ$105:AJ130)-1),\"\")","v":""},{"$f":"IF(OFFSET(DE104_3!$AK$105,ROWS($AK$105:AK130)-1,COLUMNS($AK$105:AK130)-1)<>\"\",OFFSET(DE104_3!$AK$105,ROWS($AK$105:AK130)-1,COLUMNS($AK$105:AK130)-1),\"\")","v":""},{"$f":"IF(OFFSET(DE104_3!$AL$105,ROWS($AL$105:AL130)-1,COLUMNS($AL$105:AL130)-1)<>\"\",OFFSET(DE104_3!$AL$105,ROWS($AL$105:AL130)-1,COLUMNS($AL$105:AL130)-1),\"\")","v":""},{"$f":"IF(OFFSET(DE104_3!$AM$105,ROWS($AM$105:AM130)-1,COLUMNS($AM$105:AM130)-1)<>\"\",OFFSET(DE104_3!$AM$105,ROWS($AM$105:AM130)-1,COLUMNS($AM$105:AM130)-1),\"\")","v":""},{"$f":"IF(OFFSET(DE104_3!$AN$105,ROWS($AN$105:AN130)-1,COLUMNS($AN$105:AN130)-1)<>\"\",OFFSET(DE104_3!$AN$105,ROWS($AN$105:AN130)-1,COLUMNS($AN$105:AN130)-1),\"\")","v":""},{"$f":"IF(OFFSET(DE104_3!$AO$105,ROWS($AO$105:AO130)-1,COLUMNS($AO$105:AO130)-1)<>\"\",OFFSET(DE104_3!$AO$105,ROWS($AO$105:AO130)-1,COLUMNS($AO$105:AO130)-1),\"\")","v":""},{"$f":"IF(OFFSET(DE104_3!$AP$105,ROWS($AP$105:AP130)-1,COLUMNS($AP$105:AP130)-1)<>\"\",OFFSET(DE104_3!$AP$105,ROWS($AP$105:AP130)-1,COLUMNS($AP$105:AP130)-1),\"\")","v":""},{"$f":"IF(OFFSET(DE104_3!$AQ$105,ROWS($AQ$105:AQ130)-1,COLUMNS($AQ$105:AQ130)-1)<>\"\",OFFSET(DE104_3!$AQ$105,ROWS($AQ$105:AQ130)-1,COLUMNS($AQ$105:AQ130)-1),\"\")","v":""}]
[{"$f":"IF(OFFSET(DE104_3!$C$105,ROWS($C$105:C131)-1,COLUMNS($C$105:C131)-1)<>\"\",OFFSET(DE104_3!$C$105,ROWS($C$105:C131)-1,COLUMNS($C$105:C131)-1),\"\")","v":""},{"$f":"IF(OFFSET(DE104_3!$D$105,ROWS($D$105:D131)-1,COLUMNS($D$105:D131)-1)<>\"\",OFFSET(DE104_3!$D$105,ROWS($D$105:D131)-1,COLUMNS($D$105:D131)-1),\"\")","v":""},{"$f":"IF(OFFSET(DE104_3!$E$105,ROWS($E$105:E131)-1,COLUMNS($E$105:E131)-1)<>\"\",OFFSET(DE104_3!$E$105,ROWS($E$105:E131)-1,COLUMNS($E$105:E131)-1),\"\")","v":""},{"$f":"IF(OFFSET(DE104_3!$F$105,ROWS($F$105:F131)-1,COLUMNS($F$105:F131)-1)<>\"\",OFFSET(DE104_3!$F$105,ROWS($F$105:F131)-1,COLUMNS($F$105:F131)-1),\"\")","v":""},{"$f":"IF(OFFSET(DE104_3!$G$105,ROWS($G$105:G131)-1,COLUMNS($G$105:G131)-1)<>\"\",OFFSET(DE104_3!$G$105,ROWS($G$105:G131)-1,COLUMNS($G$105:G131)-1),\"\")","v":""},{"$f":"IF(OFFSET(DE104_3!$H$105,ROWS($H$105:H131)-1,COLUMNS($H$105:H131)-1)<>\"\",OFFSET(DE104_3!$H$105,ROWS($H$105:H131)-1,COLUMNS($H$105:H131)-1),\"\")","v":""},{"$f":"IF(OFFSET(DE104_3!$I$105,ROWS($I$105:I131)-1,COLUMNS($I$105:I131)-1)<>\"\",OFFSET(DE104_3!$I$105,ROWS($I$105:I131)-1,COLUMNS($I$105:I131)-1),\"\")","v":""},{"$f":"IF(OFFSET(DE104_3!$J$105,ROWS($J$105:J131)-1,COLUMNS($J$105:J131)-1)<>\"\",OFFSET(DE104_3!$J$105,ROWS($J$105:J131)-1,COLUMNS($J$105:J131)-1),\"\")","v":""},{"$f":"IF(OFFSET(DE104_3!$K$105,ROWS($K$105:K131)-1,COLUMNS($K$105:K131)-1)<>\"\",OFFSET(DE104_3!$K$105,ROWS($K$105:K131)-1,COLUMNS($K$105:K131)-1),\"\")","v":""},{"$f":"IF(OFFSET(DE104_3!$L$105,ROWS($L$105:L131)-1,COLUMNS($L$105:L131)-1)<>\"\",OFFSET(DE104_3!$L$105,ROWS($L$105:L131)-1,COLUMNS($L$105:L131)-1),\"\")","v":""},{"$f":"IF(OFFSET(DE104_3!$M$105,ROWS($M$105:M131)-1,COLUMNS($M$105:M131)-1)<>\"\",OFFSET(DE104_3!$M$105,ROWS($M$105:M131)-1,COLUMNS($M$105:M131)-1),\"\")","v":""},{"$f":"IF(OFFSET(DE104_3!$N$105,ROWS($N$105:N131)-1,COLUMNS($N$105:N131)-1)<>\"\",OFFSET(DE104_3!$N$105,ROWS($N$105:N131)-1,COLUMNS($N$105:N131)-1),\"\")","v":""},{"$f":"IF(OFFSET(DE104_3!$O$105,ROWS($O$105:O131)-1,COLUMNS($O$105:O131)-1)<>\"\",OFFSET(DE104_3!$O$105,ROWS($O$105:O131)-1,COLUMNS($O$105:O131)-1),\"\")","v":""},{"$f":"IF(OFFSET(DE104_3!$P$105,ROWS($P$105:P131)-1,COLUMNS($P$105:P131)-1)<>\"\",OFFSET(DE104_3!$P$105,ROWS($P$105:P131)-1,COLUMNS($P$105:P131)-1),\"\")","v":""},{"$f":"IF(OFFSET(DE104_3!$Q$105,ROWS($Q$105:Q131)-1,COLUMNS($Q$105:Q131)-1)<>\"\",OFFSET(DE104_3!$Q$105,ROWS($Q$105:Q131)-1,COLUMNS($Q$105:Q131)-1),\"\")","v":""},{"$f":"IF(OFFSET(DE104_3!$R$105,ROWS($R$105:R131)-1,COLUMNS($R$105:R131)-1)<>\"\",OFFSET(DE104_3!$R$105,ROWS($R$105:R131)-1,COLUMNS($R$105:R131)-1),\"\")","v":""},{"$f":"IF(OFFSET(DE104_3!$S$105,ROWS($S$105:S131)-1,COLUMNS($S$105:S131)-1)<>\"\",OFFSET(DE104_3!$S$105,ROWS($S$105:S131)-1,COLUMNS($S$105:S131)-1),\"\")","v":""},{"$f":"IF(OFFSET(DE104_3!$T$105,ROWS($T$105:T131)-1,COLUMNS($T$105:T131)-1)<>\"\",OFFSET(DE104_3!$T$105,ROWS($T$105:T131)-1,COLUMNS($T$105:T131)-1),\"\")","v":""},{"$f":"IF(OFFSET(DE104_3!$U$105,ROWS($U$105:U131)-1,COLUMNS($U$105:U131)-1)<>\"\",OFFSET(DE104_3!$U$105,ROWS($U$105:U131)-1,COLUMNS($U$105:U131)-1),\"\")","v":""},{"$f":"IF(OFFSET(DE104_3!$V$105,ROWS($V$105:V131)-1,COLUMNS($V$105:V131)-1)<>\"\",OFFSET(DE104_3!$V$105,ROWS($V$105:V131)-1,COLUMNS($V$105:V131)-1),\"\")","v":""},{"$f":"IF(OFFSET(DE104_3!$W$105,ROWS($W$105:W131)-1,COLUMNS($W$105:W131)-1)<>\"\",OFFSET(DE104_3!$W$105,ROWS($W$105:W131)-1,COLUMNS($W$105:W131)-1),\"\")","v":""},{"$f":"IF(OFFSET(DE104_3!$X$105,ROWS($X$105:X131)-1,COLUMNS($X$105:X131)-1)<>\"\",OFFSET(DE104_3!$X$105,ROWS($X$105:X131)-1,COLUMNS($X$105:X131)-1),\"\")","v":""},{"$f":"IF(OFFSET(DE104_3!$Y$105,ROWS($Y$105:Y131)-1,COLUMNS($Y$105:Y131)-1)<>\"\",OFFSET(DE104_3!$Y$105,ROWS($Y$105:Y131)-1,COLUMNS($Y$105:Y131)-1),\"\")","v":""},{"$f":"IF(OFFSET(DE104_3!$Z$105,ROWS($Z$105:Z131)-1,COLUMNS($Z$105:Z131)-1)<>\"\",OFFSET(DE104_3!$Z$105,ROWS($Z$105:Z131)-1,COLUMNS($Z$105:Z131)-1),\"\")","v":""},{"$f":"IF(OFFSET(DE104_3!$AA$105,ROWS($AA$105:AA131)-1,COLUMNS($AA$105:AA131)-1)<>\"\",OFFSET(DE104_3!$AA$105,ROWS($AA$105:AA131)-1,COLUMNS($AA$105:AA131)-1),\"\")","v":""},{"$f":"IF(OFFSET(DE104_3!$AB$105,ROWS($AB$105:AB131)-1,COLUMNS($AB$105:AB131)-1)<>\"\",OFFSET(DE104_3!$AB$105,ROWS($AB$105:AB131)-1,COLUMNS($AB$105:AB131)-1),\"\")","v":""},{"$f":"IF(OFFSET(DE104_3!$AC$105,ROWS($AC$105:AC131)-1,COLUMNS($AC$105:AC131)-1)<>\"\",OFFSET(DE104_3!$AC$105,ROWS($AC$105:AC131)-1,COLUMNS($AC$105:AC131)-1),\"\")","v":""},{"$f":"IF(OFFSET(DE104_3!$AD$105,ROWS($AD$105:AD131)-1,COLUMNS($AD$105:AD131)-1)<>\"\",OFFSET(DE104_3!$AD$105,ROWS($AD$105:AD131)-1,COLUMNS($AD$105:AD131)-1),\"\")","v":""},{"$f":"IF(OFFSET(DE104_3!$AE$105,ROWS($AE$105:AE131)-1,COLUMNS($AE$105:AE131)-1)<>\"\",OFFSET(DE104_3!$AE$105,ROWS($AE$105:AE131)-1,COLUMNS($AE$105:AE131)-1),\"\")","v":""},{"$f":"IF(OFFSET(DE104_3!$AF$105,ROWS($AF$105:AF131)-1,COLUMNS($AF$105:AF131)-1)<>\"\",OFFSET(DE104_3!$AF$105,ROWS($AF$105:AF131)-1,COLUMNS($AF$105:AF131)-1),\"\")","v":""},{"$f":"IF(OFFSET(DE104_3!$AG$105,ROWS($AG$105:AG131)-1,COLUMNS($AG$105:AG131)-1)<>\"\",OFFSET(DE104_3!$AG$105,ROWS($AG$105:AG131)-1,COLUMNS($AG$105:AG131)-1),\"\")","v":""},{"$f":"IF(OFFSET(DE104_3!$AH$105,ROWS($AH$105:AH131)-1,COLUMNS($AH$105:AH131)-1)<>\"\",OFFSET(DE104_3!$AH$105,ROWS($AH$105:AH131)-1,COLUMNS($AH$105:AH131)-1),\"\")","v":""},{"$f":"IF(OFFSET(DE104_3!$AI$105,ROWS($AI$105:AI131)-1,COLUMNS($AI$105:AI131)-1)<>\"\",OFFSET(DE104_3!$AI$105,ROWS($AI$105:AI131)-1,COLUMNS($AI$105:AI131)-1),\"\")","v":""},{"$f":"IF(OFFSET(DE104_3!$AJ$105,ROWS($AJ$105:AJ131)-1,COLUMNS($AJ$105:AJ131)-1)<>\"\",OFFSET(DE104_3!$AJ$105,ROWS($AJ$105:AJ131)-1,COLUMNS($AJ$105:AJ131)-1),\"\")","v":""},{"$f":"IF(OFFSET(DE104_3!$AK$105,ROWS($AK$105:AK131)-1,COLUMNS($AK$105:AK131)-1)<>\"\",OFFSET(DE104_3!$AK$105,ROWS($AK$105:AK131)-1,COLUMNS($AK$105:AK131)-1),\"\")","v":""},{"$f":"IF(OFFSET(DE104_3!$AL$105,ROWS($AL$105:AL131)-1,COLUMNS($AL$105:AL131)-1)<>\"\",OFFSET(DE104_3!$AL$105,ROWS($AL$105:AL131)-1,COLUMNS($AL$105:AL131)-1),\"\")","v":""},{"$f":"IF(OFFSET(DE104_3!$AM$105,ROWS($AM$105:AM131)-1,COLUMNS($AM$105:AM131)-1)<>\"\",OFFSET(DE104_3!$AM$105,ROWS($AM$105:AM131)-1,COLUMNS($AM$105:AM131)-1),\"\")","v":""},{"$f":"IF(OFFSET(DE104_3!$AN$105,ROWS($AN$105:AN131)-1,COLUMNS($AN$105:AN131)-1)<>\"\",OFFSET(DE104_3!$AN$105,ROWS($AN$105:AN131)-1,COLUMNS($AN$105:AN131)-1),\"\")","v":""},{"$f":"IF(OFFSET(DE104_3!$AO$105,ROWS($AO$105:AO131)-1,COLUMNS($AO$105:AO131)-1)<>\"\",OFFSET(DE104_3!$AO$105,ROWS($AO$105:AO131)-1,COLUMNS($AO$105:AO131)-1),\"\")","v":""},{"$f":"IF(OFFSET(DE104_3!$AP$105,ROWS($AP$105:AP131)-1,COLUMNS($AP$105:AP131)-1)<>\"\",OFFSET(DE104_3!$AP$105,ROWS($AP$105:AP131)-1,COLUMNS($AP$105:AP131)-1),\"\")","v":""},{"$f":"IF(OFFSET(DE104_3!$AQ$105,ROWS($AQ$105:AQ131)-1,COLUMNS($AQ$105:AQ131)-1)<>\"\",OFFSET(DE104_3!$AQ$105,ROWS($AQ$105:AQ131)-1,COLUMNS($AQ$105:AQ131)-1),\"\")","v":""}]
[{"$f":"IF(OFFSET(DE104_3!$C$105,ROWS($C$105:C132)-1,COLUMNS($C$105:C132)-1)<>\"\",OFFSET(DE104_3!$C$105,ROWS($C$105:C132)-1,COLUMNS($C$105:C132)-1),\"\")","v":""},{"$f":"IF(OFFSET(DE104_3!$D$105,ROWS($D$105:D132)-1,COLUMNS($D$105:D132)-1)<>\"\",OFFSET(DE104_3!$D$105,ROWS($D$105:D132)-1,COLUMNS($D$105:D132)-1),\"\")","v":""},{"$f":"IF(OFFSET(DE104_3!$E$105,ROWS($E$105:E132)-1,COLUMNS($E$105:E132)-1)<>\"\",OFFSET(DE104_3!$E$105,ROWS($E$105:E132)-1,COLUMNS($E$105:E132)-1),\"\")","v":""},{"$f":"IF(OFFSET(DE104_3!$F$105,ROWS($F$105:F132)-1,COLUMNS($F$105:F132)-1)<>\"\",OFFSET(DE104_3!$F$105,ROWS($F$105:F132)-1,COLUMNS($F$105:F132)-1),\"\")","v":""},{"$f":"IF(OFFSET(DE104_3!$G$105,ROWS($G$105:G132)-1,COLUMNS($G$105:G132)-1)<>\"\",OFFSET(DE104_3!$G$105,ROWS($G$105:G132)-1,COLUMNS($G$105:G132)-1),\"\")","v":""},{"$f":"IF(OFFSET(DE104_3!$H$105,ROWS($H$105:H132)-1,COLUMNS($H$105:H132)-1)<>\"\",OFFSET(DE104_3!$H$105,ROWS($H$105:H132)-1,COLUMNS($H$105:H132)-1),\"\")","v":""},{"$f":"IF(OFFSET(DE104_3!$I$105,ROWS($I$105:I132)-1,COLUMNS($I$105:I132)-1)<>\"\",OFFSET(DE104_3!$I$105,ROWS($I$105:I132)-1,COLUMNS($I$105:I132)-1),\"\")","v":""},{"$f":"IF(OFFSET(DE104_3!$J$105,ROWS($J$105:J132)-1,COLUMNS($J$105:J132)-1)<>\"\",OFFSET(DE104_3!$J$105,ROWS($J$105:J132)-1,COLUMNS($J$105:J132)-1),\"\")","v":""},{"$f":"IF(OFFSET(DE104_3!$K$105,ROWS($K$105:K132)-1,COLUMNS($K$105:K132)-1)<>\"\",OFFSET(DE104_3!$K$105,ROWS($K$105:K132)-1,COLUMNS($K$105:K132)-1),\"\")","v":""},{"$f":"IF(OFFSET(DE104_3!$L$105,ROWS($L$105:L132)-1,COLUMNS($L$105:L132)-1)<>\"\",OFFSET(DE104_3!$L$105,ROWS($L$105:L132)-1,COLUMNS($L$105:L132)-1),\"\")","v":""},{"$f":"IF(OFFSET(DE104_3!$M$105,ROWS($M$105:M132)-1,COLUMNS($M$105:M132)-1)<>\"\",OFFSET(DE104_3!$M$105,ROWS($M$105:M132)-1,COLUMNS($M$105:M132)-1),\"\")","v":""},{"$f":"IF(OFFSET(DE104_3!$N$105,ROWS($N$105:N132)-1,COLUMNS($N$105:N132)-1)<>\"\",OFFSET(DE104_3!$N$105,ROWS($N$105:N132)-1,COLUMNS($N$105:N132)-1),\"\")","v":""},{"$f":"IF(OFFSET(DE104_3!$O$105,ROWS($O$105:O132)-1,COLUMNS($O$105:O132)-1)<>\"\",OFFSET(DE104_3!$O$105,ROWS($O$105:O132)-1,COLUMNS($O$105:O132)-1),\"\")","v":""},{"$f":"IF(OFFSET(DE104_3!$P$105,ROWS($P$105:P132)-1,COLUMNS($P$105:P132)-1)<>\"\",OFFSET(DE104_3!$P$105,ROWS($P$105:P132)-1,COLUMNS($P$105:P132)-1),\"\")","v":""},{"$f":"IF(OFFSET(DE104_3!$Q$105,ROWS($Q$105:Q132)-1,COLUMNS($Q$105:Q132)-1)<>\"\",OFFSET(DE104_3!$Q$105,ROWS($Q$105:Q132)-1,COLUMNS($Q$105:Q132)-1),\"\")","v":""},{"$f":"IF(OFFSET(DE104_3!$R$105,ROWS($R$105:R132)-1,COLUMNS($R$105:R132)-1)<>\"\",OFFSET(DE104_3!$R$105,ROWS($R$105:R132)-1,COLUMNS($R$105:R132)-1),\"\")","v":""},{"$f":"IF(OFFSET(DE104_3!$S$105,ROWS($S$105:S132)-1,COLUMNS($S$105:S132)-1)<>\"\",OFFSET(DE104_3!$S$105,ROWS($S$105:S132)-1,COLUMNS($S$105:S132)-1),\"\")","v":""},{"$f":"IF(OFFSET(DE104_3!$T$105,ROWS($T$105:T132)-1,COLUMNS($T$105:T132)-1)<>\"\",OFFSET(DE104_3!$T$105,ROWS($T$105:T132)-1,COLUMNS($T$105:T132)-1),\"\")","v":""},{"$f":"IF(OFFSET(DE104_3!$U$105,ROWS($U$105:U132)-1,COLUMNS($U$105:U132)-1)<>\"\",OFFSET(DE104_3!$U$105,ROWS($U$105:U132)-1,COLUMNS($U$105:U132)-1),\"\")","v":""},{"$f":"IF(OFFSET(DE104_3!$V$105,ROWS($V$105:V132)-1,COLUMNS($V$105:V132)-1)<>\"\",OFFSET(DE104_3!$V$105,ROWS($V$105:V132)-1,COLUMNS($V$105:V132)-1),\"\")","v":""},{"$f":"IF(OFFSET(DE104_3!$W$105,ROWS($W$105:W132)-1,COLUMNS($W$105:W132)-1)<>\"\",OFFSET(DE104_3!$W$105,ROWS($W$105:W132)-1,COLUMNS($W$105:W132)-1),\"\")","v":""},{"$f":"IF(OFFSET(DE104_3!$X$105,ROWS($X$105:X132)-1,COLUMNS($X$105:X132)-1)<>\"\",OFFSET(DE104_3!$X$105,ROWS($X$105:X132)-1,COLUMNS($X$105:X132)-1),\"\")","v":""},{"$f":"IF(OFFSET(DE104_3!$Y$105,ROWS($Y$105:Y132)-1,COLUMNS($Y$105:Y132)-1)<>\"\",OFFSET(DE104_3!$Y$105,ROWS($Y$105:Y132)-1,COLUMNS($Y$105:Y132)-1),\"\")","v":""},{"$f":"IF(OFFSET(DE104_3!$Z$105,ROWS($Z$105:Z132)-1,COLUMNS($Z$105:Z132)-1)<>\"\",OFFSET(DE104_3!$Z$105,ROWS($Z$105:Z132)-1,COLUMNS($Z$105:Z132)-1),\"\")","v":""},{"$f":"IF(OFFSET(DE104_3!$AA$105,ROWS($AA$105:AA132)-1,COLUMNS($AA$105:AA132)-1)<>\"\",OFFSET(DE104_3!$AA$105,ROWS($AA$105:AA132)-1,COLUMNS($AA$105:AA132)-1),\"\")","v":""},{"$f":"IF(OFFSET(DE104_3!$AB$105,ROWS($AB$105:AB132)-1,COLUMNS($AB$105:AB132)-1)<>\"\",OFFSET(DE104_3!$AB$105,ROWS($AB$105:AB132)-1,COLUMNS($AB$105:AB132)-1),\"\")","v":""},{"$f":"IF(OFFSET(DE104_3!$AC$105,ROWS($AC$105:AC132)-1,COLUMNS($AC$105:AC132)-1)<>\"\",OFFSET(DE104_3!$AC$105,ROWS($AC$105:AC132)-1,COLUMNS($AC$105:AC132)-1),\"\")","v":""},{"$f":"IF(OFFSET(DE104_3!$AD$105,ROWS($AD$105:AD132)-1,COLUMNS($AD$105:AD132)-1)<>\"\",OFFSET(DE104_3!$AD$105,ROWS($AD$105:AD132)-1,COLUMNS($AD$105:AD132)-1),\"\")","v":""},{"$f":"IF(OFFSET(DE104_3!$AE$105,ROWS($AE$105:AE132)-1,COLUMNS($AE$105:AE132)-1)<>\"\",OFFSET(DE104_3!$AE$105,ROWS($AE$105:AE132)-1,COLUMNS($AE$105:AE132)-1),\"\")","v":""},{"$f":"IF(OFFSET(DE104_3!$AF$105,ROWS($AF$105:AF132)-1,COLUMNS($AF$105:AF132)-1)<>\"\",OFFSET(DE104_3!$AF$105,ROWS($AF$105:AF132)-1,COLUMNS($AF$105:AF132)-1),\"\")","v":""},{"$f":"IF(OFFSET(DE104_3!$AG$105,ROWS($AG$105:AG132)-1,COLUMNS($AG$105:AG132)-1)<>\"\",OFFSET(DE104_3!$AG$105,ROWS($AG$105:AG132)-1,COLUMNS($AG$105:AG132)-1),\"\")","v":""},{"$f":"IF(OFFSET(DE104_3!$AH$105,ROWS($AH$105:AH132)-1,COLUMNS($AH$105:AH132)-1)<>\"\",OFFSET(DE104_3!$AH$105,ROWS($AH$105:AH132)-1,COLUMNS($AH$105:AH132)-1),\"\")","v":""},{"$f":"IF(OFFSET(DE104_3!$AI$105,ROWS($AI$105:AI132)-1,COLUMNS($AI$105:AI132)-1)<>\"\",OFFSET(DE104_3!$AI$105,ROWS($AI$105:AI132)-1,COLUMNS($AI$105:AI132)-1),\"\")","v":""},{"$f":"IF(OFFSET(DE104_3!$AJ$105,ROWS($AJ$105:AJ132)-1,COLUMNS($AJ$105:AJ132)-1)<>\"\",OFFSET(DE104_3!$AJ$105,ROWS($AJ$105:AJ132)-1,COLUMNS($AJ$105:AJ132)-1),\"\")","v":""},{"$f":"IF(OFFSET(DE104_3!$AK$105,ROWS($AK$105:AK132)-1,COLUMNS($AK$105:AK132)-1)<>\"\",OFFSET(DE104_3!$AK$105,ROWS($AK$105:AK132)-1,COLUMNS($AK$105:AK132)-1),\"\")","v":""},{"$f":"IF(OFFSET(DE104_3!$AL$105,ROWS($AL$105:AL132)-1,COLUMNS($AL$105:AL132)-1)<>\"\",OFFSET(DE104_3!$AL$105,ROWS($AL$105:AL132)-1,COLUMNS($AL$105:AL132)-1),\"\")","v":""},{"$f":"IF(OFFSET(DE104_3!$AM$105,ROWS($AM$105:AM132)-1,COLUMNS($AM$105:AM132)-1)<>\"\",OFFSET(DE104_3!$AM$105,ROWS($AM$105:AM132)-1,COLUMNS($AM$105:AM132)-1),\"\")","v":""},{"$f":"IF(OFFSET(DE104_3!$AN$105,ROWS($AN$105:AN132)-1,COLUMNS($AN$105:AN132)-1)<>\"\",OFFSET(DE104_3!$AN$105,ROWS($AN$105:AN132)-1,COLUMNS($AN$105:AN132)-1),\"\")","v":""},{"$f":"IF(OFFSET(DE104_3!$AO$105,ROWS($AO$105:AO132)-1,COLUMNS($AO$105:AO132)-1)<>\"\",OFFSET(DE104_3!$AO$105,ROWS($AO$105:AO132)-1,COLUMNS($AO$105:AO132)-1),\"\")","v":""},{"$f":"IF(OFFSET(DE104_3!$AP$105,ROWS($AP$105:AP132)-1,COLUMNS($AP$105:AP132)-1)<>\"\",OFFSET(DE104_3!$AP$105,ROWS($AP$105:AP132)-1,COLUMNS($AP$105:AP132)-1),\"\")","v":""},{"$f":"IF(OFFSET(DE104_3!$AQ$105,ROWS($AQ$105:AQ132)-1,COLUMNS($AQ$105:AQ132)-1)<>\"\",OFFSET(DE104_3!$AQ$105,ROWS($AQ$105:AQ132)-1,COLUMNS($AQ$105:AQ132)-1),\"\")","v":""}]
[{"$f":"IF(OFFSET(DE104_3!$C$105,ROWS($C$105:C133)-1,COLUMNS($C$105:C133)-1)<>\"\",OFFSET(DE104_3!$C$105,ROWS($C$105:C133)-1,COLUMNS($C$105:C133)-1),\"\")","v":""},{"$f":"IF(OFFSET(DE104_3!$D$105,ROWS($D$105:D133)-1,COLUMNS($D$105:D133)-1)<>\"\",OFFSET(DE104_3!$D$105,ROWS($D$105:D133)-1,COLUMNS($D$105:D133)-1),\"\")","v":""},{"$f":"IF(OFFSET(DE104_3!$E$105,ROWS($E$105:E133)-1,COLUMNS($E$105:E133)-1)<>\"\",OFFSET(DE104_3!$E$105,ROWS($E$105:E133)-1,COLUMNS($E$105:E133)-1),\"\")","v":""},{"$f":"IF(OFFSET(DE104_3!$F$105,ROWS($F$105:F133)-1,COLUMNS($F$105:F133)-1)<>\"\",OFFSET(DE104_3!$F$105,ROWS($F$105:F133)-1,COLUMNS($F$105:F133)-1),\"\")","v":""},{"$f":"IF(OFFSET(DE104_3!$G$105,ROWS($G$105:G133)-1,COLUMNS($G$105:G133)-1)<>\"\",OFFSET(DE104_3!$G$105,ROWS($G$105:G133)-1,COLUMNS($G$105:G133)-1),\"\")","v":""},{"$f":"IF(OFFSET(DE104_3!$H$105,ROWS($H$105:H133)-1,COLUMNS($H$105:H133)-1)<>\"\",OFFSET(DE104_3!$H$105,ROWS($H$105:H133)-1,COLUMNS($H$105:H133)-1),\"\")","v":""},{"$f":"IF(OFFSET(DE104_3!$I$105,ROWS($I$105:I133)-1,COLUMNS($I$105:I133)-1)<>\"\",OFFSET(DE104_3!$I$105,ROWS($I$105:I133)-1,COLUMNS($I$105:I133)-1),\"\")","v":""},{"$f":"IF(OFFSET(DE104_3!$J$105,ROWS($J$105:J133)-1,COLUMNS($J$105:J133)-1)<>\"\",OFFSET(DE104_3!$J$105,ROWS($J$105:J133)-1,COLUMNS($J$105:J133)-1),\"\")","v":""},{"$f":"IF(OFFSET(DE104_3!$K$105,ROWS($K$105:K133)-1,COLUMNS($K$105:K133)-1)<>\"\",OFFSET(DE104_3!$K$105,ROWS($K$105:K133)-1,COLUMNS($K$105:K133)-1),\"\")","v":""},{"$f":"IF(OFFSET(DE104_3!$L$105,ROWS($L$105:L133)-1,COLUMNS($L$105:L133)-1)<>\"\",OFFSET(DE104_3!$L$105,ROWS($L$105:L133)-1,COLUMNS($L$105:L133)-1),\"\")","v":""},{"$f":"IF(OFFSET(DE104_3!$M$105,ROWS($M$105:M133)-1,COLUMNS($M$105:M133)-1)<>\"\",OFFSET(DE104_3!$M$105,ROWS($M$105:M133)-1,COLUMNS($M$105:M133)-1),\"\")","v":""},{"$f":"IF(OFFSET(DE104_3!$N$105,ROWS($N$105:N133)-1,COLUMNS($N$105:N133)-1)<>\"\",OFFSET(DE104_3!$N$105,ROWS($N$105:N133)-1,COLUMNS($N$105:N133)-1),\"\")","v":""},{"$f":"IF(OFFSET(DE104_3!$O$105,ROWS($O$105:O133)-1,COLUMNS($O$105:O133)-1)<>\"\",OFFSET(DE104_3!$O$105,ROWS($O$105:O133)-1,COLUMNS($O$105:O133)-1),\"\")","v":""},{"$f":"IF(OFFSET(DE104_3!$P$105,ROWS($P$105:P133)-1,COLUMNS($P$105:P133)-1)<>\"\",OFFSET(DE104_3!$P$105,ROWS($P$105:P133)-1,COLUMNS($P$105:P133)-1),\"\")","v":""},{"$f":"IF(OFFSET(DE104_3!$Q$105,ROWS($Q$105:Q133)-1,COLUMNS($Q$105:Q133)-1)<>\"\",OFFSET(DE104_3!$Q$105,ROWS($Q$105:Q133)-1,COLUMNS($Q$105:Q133)-1),\"\")","v":""},{"$f":"IF(OFFSET(DE104_3!$R$105,ROWS($R$105:R133)-1,COLUMNS($R$105:R133)-1)<>\"\",OFFSET(DE104_3!$R$105,ROWS($R$105:R133)-1,COLUMNS($R$105:R133)-1),\"\")","v":""},{"$f":"IF(OFFSET(DE104_3!$S$105,ROWS($S$105:S133)-1,COLUMNS($S$105:S133)-1)<>\"\",OFFSET(DE104_3!$S$105,ROWS($S$105:S133)-1,COLUMNS($S$105:S133)-1),\"\")","v":""},{"$f":"IF(OFFSET(DE104_3!$T$105,ROWS($T$105:T133)-1,COLUMNS($T$105:T133)-1)<>\"\",OFFSET(DE104_3!$T$105,ROWS($T$105:T133)-1,COLUMNS($T$105:T133)-1),\"\")","v":""},{"$f":"IF(OFFSET(DE104_3!$U$105,ROWS($U$105:U133)-1,COLUMNS($U$105:U133)-1)<>\"\",OFFSET(DE104_3!$U$105,ROWS($U$105:U133)-1,COLUMNS($U$105:U133)-1),\"\")","v":""},{"$f":"IF(OFFSET(DE104_3!$V$105,ROWS($V$105:V133)-1,COLUMNS($V$105:V133)-1)<>\"\",OFFSET(DE104_3!$V$105,ROWS($V$105:V133)-1,COLUMNS($V$105:V133)-1),\"\")","v":""},{"$f":"IF(OFFSET(DE104_3!$W$105,ROWS($W$105:W133)-1,COLUMNS($W$105:W133)-1)<>\"\",OFFSET(DE104_3!$W$105,ROWS($W$105:W133)-1,COLUMNS($W$105:W133)-1),\"\")","v":""},{"$f":"IF(OFFSET(DE104_3!$X$105,ROWS($X$105:X133)-1,COLUMNS($X$105:X133)-1)<>\"\",OFFSET(DE104_3!$X$105,ROWS($X$105:X133)-1,COLUMNS($X$105:X133)-1),\"\")","v":""},{"$f":"IF(OFFSET(DE104_3!$Y$105,ROWS($Y$105:Y133)-1,COLUMNS($Y$105:Y133)-1)<>\"\",OFFSET(DE104_3!$Y$105,ROWS($Y$105:Y133)-1,COLUMNS($Y$105:Y133)-1),\"\")","v":""},{"$f":"IF(OFFSET(DE104_3!$Z$105,ROWS($Z$105:Z133)-1,COLUMNS($Z$105:Z133)-1)<>\"\",OFFSET(DE104_3!$Z$105,ROWS($Z$105:Z133)-1,COLUMNS($Z$105:Z133)-1),\"\")","v":""},{"$f":"IF(OFFSET(DE104_3!$AA$105,ROWS($AA$105:AA133)-1,COLUMNS($AA$105:AA133)-1)<>\"\",OFFSET(DE104_3!$AA$105,ROWS($AA$105:AA133)-1,COLUMNS($AA$105:AA133)-1),\"\")","v":""},{"$f":"IF(OFFSET(DE104_3!$AB$105,ROWS($AB$105:AB133)-1,COLUMNS($AB$105:AB133)-1)<>\"\",OFFSET(DE104_3!$AB$105,ROWS($AB$105:AB133)-1,COLUMNS($AB$105:AB133)-1),\"\")","v":""},{"$f":"IF(OFFSET(DE104_3!$AC$105,ROWS($AC$105:AC133)-1,COLUMNS($AC$105:AC133)-1)<>\"\",OFFSET(DE104_3!$AC$105,ROWS($AC$105:AC133)-1,COLUMNS($AC$105:AC133)-1),\"\")","v":""},{"$f":"IF(OFFSET(DE104_3!$AD$105,ROWS($AD$105:AD133)-1,COLUMNS($AD$105:AD133)-1)<>\"\",OFFSET(DE104_3!$AD$105,ROWS($AD$105:AD133)-1,COLUMNS($AD$105:AD133)-1),\"\")","v":""},{"$f":"IF(OFFSET(DE104_3!$AE$105,ROWS($AE$105:AE133)-1,COLUMNS($AE$105:AE133)-1)<>\"\",OFFSET(DE104_3!$AE$105,ROWS($AE$105:AE133)-1,COLUMNS($AE$105:AE133)-1),\"\")","v":""},{"$f":"IF(OFFSET(DE104_3!$AF$105,ROWS($AF$105:AF133)-1,COLUMNS($AF$105:AF133)-1)<>\"\",OFFSET(DE104_3!$AF$105,ROWS($AF$105:AF133)-1,COLUMNS($AF$105:AF133)-1),\"\")","v":""},{"$f":"IF(OFFSET(DE104_3!$AG$105,ROWS($AG$105:AG133)-1,COLUMNS($AG$105:AG133)-1)<>\"\",OFFSET(DE104_3!$AG$105,ROWS($AG$105:AG133)-1,COLUMNS($AG$105:AG133)-1),\"\")","v":""},{"$f":"IF(OFFSET(DE104_3!$AH$105,ROWS($AH$105:AH133)-1,COLUMNS($AH$105:AH133)-1)<>\"\",OFFSET(DE104_3!$AH$105,ROWS($AH$105:AH133)-1,COLUMNS($AH$105:AH133)-1),\"\")","v":""},{"$f":"IF(OFFSET(DE104_3!$AI$105,ROWS($AI$105:AI133)-1,COLUMNS($AI$105:AI133)-1)<>\"\",OFFSET(DE104_3!$AI$105,ROWS($AI$105:AI133)-1,COLUMNS($AI$105:AI133)-1),\"\")","v":""},{"$f":"IF(OFFSET(DE104_3!$AJ$105,ROWS($AJ$105:AJ133)-1,COLUMNS($AJ$105:AJ133)-1)<>\"\",OFFSET(DE104_3!$AJ$105,ROWS($AJ$105:AJ133)-1,COLUMNS($AJ$105:AJ133)-1),\"\")","v":""},{"$f":"IF(OFFSET(DE104_3!$AK$105,ROWS($AK$105:AK133)-1,COLUMNS($AK$105:AK133)-1)<>\"\",OFFSET(DE104_3!$AK$105,ROWS($AK$105:AK133)-1,COLUMNS($AK$105:AK133)-1),\"\")","v":""},{"$f":"IF(OFFSET(DE104_3!$AL$105,ROWS($AL$105:AL133)-1,COLUMNS($AL$105:AL133)-1)<>\"\",OFFSET(DE104_3!$AL$105,ROWS($AL$105:AL133)-1,COLUMNS($AL$105:AL133)-1),\"\")","v":""},{"$f":"IF(OFFSET(DE104_3!$AM$105,ROWS($AM$105:AM133)-1,COLUMNS($AM$105:AM133)-1)<>\"\",OFFSET(DE104_3!$AM$105,ROWS($AM$105:AM133)-1,COLUMNS($AM$105:AM133)-1),\"\")","v":""},{"$f":"IF(OFFSET(DE104_3!$AN$105,ROWS($AN$105:AN133)-1,COLUMNS($AN$105:AN133)-1)<>\"\",OFFSET(DE104_3!$AN$105,ROWS($AN$105:AN133)-1,COLUMNS($AN$105:AN133)-1),\"\")","v":""},{"$f":"IF(OFFSET(DE104_3!$AO$105,ROWS($AO$105:AO133)-1,COLUMNS($AO$105:AO133)-1)<>\"\",OFFSET(DE104_3!$AO$105,ROWS($AO$105:AO133)-1,COLUMNS($AO$105:AO133)-1),\"\")","v":""},{"$f":"IF(OFFSET(DE104_3!$AP$105,ROWS($AP$105:AP133)-1,COLUMNS($AP$105:AP133)-1)<>\"\",OFFSET(DE104_3!$AP$105,ROWS($AP$105:AP133)-1,COLUMNS($AP$105:AP133)-1),\"\")","v":""},{"$f":"IF(OFFSET(DE104_3!$AQ$105,ROWS($AQ$105:AQ133)-1,COLUMNS($AQ$105:AQ133)-1)<>\"\",OFFSET(DE104_3!$AQ$105,ROWS($AQ$105:AQ133)-1,COLUMNS($AQ$105:AQ133)-1),\"\")","v":""}]
[{"$f":"IF(OFFSET(DE104_3!$C$105,ROWS($C$105:C134)-1,COLUMNS($C$105:C134)-1)<>\"\",OFFSET(DE104_3!$C$105,ROWS($C$105:C134)-1,COLUMNS($C$105:C134)-1),\"\")","v":"NOTES:"},null,{"$f":"IF(OFFSET(DE104_3!$E$105,ROWS($E$105:E134)-1,COLUMNS($E$105:E134)-1)<>\"\",OFFSET(DE104_3!$E$105,ROWS($E$105:E134)-1,COLUMNS($E$105:E134)-1),\"\")","v":""},{"$f":"IF(OFFSET(DE104_3!$F$105,ROWS($F$105:F134)-1,COLUMNS($F$105:F134)-1)<>\"\",OFFSET(DE104_3!$F$105,ROWS($F$105:F134)-1,COLUMNS($F$105:F134)-1),\"\")","v":""},{"$f":"IF(OFFSET(DE104_3!$G$105,ROWS($G$105:G134)-1,COLUMNS($G$105:G134)-1)<>\"\",OFFSET(DE104_3!$G$105,ROWS($G$105:G134)-1,COLUMNS($G$105:G134)-1),\"\")","v":""},{"$f":"IF(OFFSET(DE104_3!$H$105,ROWS($H$105:H134)-1,COLUMNS($H$105:H134)-1)<>\"\",OFFSET(DE104_3!$H$105,ROWS($H$105:H134)-1,COLUMNS($H$105:H134)-1),\"\")","v":""},{"$f":"IF(OFFSET(DE104_3!$I$105,ROWS($I$105:I134)-1,COLUMNS($I$105:I134)-1)<>\"\",OFFSET(DE104_3!$I$105,ROWS($I$105:I134)-1,COLUMNS($I$105:I134)-1),\"\")","v":""},{"$f":"IF(OFFSET(DE104_3!$J$105,ROWS($J$105:J134)-1,COLUMNS($J$105:J134)-1)<>\"\",OFFSET(DE104_3!$J$105,ROWS($J$105:J134)-1,COLUMNS($J$105:J134)-1),\"\")","v":""},{"$f":"IF(OFFSET(DE104_3!$K$105,ROWS($K$105:K134)-1,COLUMNS($K$105:K134)-1)<>\"\",OFFSET(DE104_3!$K$105,ROWS($K$105:K134)-1,COLUMNS($K$105:K134)-1),\"\")","v":""},{"$f":"IF(OFFSET(DE104_3!$L$105,ROWS($L$105:L134)-1,COLUMNS($L$105:L134)-1)<>\"\",OFFSET(DE104_3!$L$105,ROWS($L$105:L134)-1,COLUMNS($L$105:L134)-1),\"\")","v":""},{"$f":"IF(OFFSET(DE104_3!$M$105,ROWS($M$105:M134)-1,COLUMNS($M$105:M134)-1)<>\"\",OFFSET(DE104_3!$M$105,ROWS($M$105:M134)-1,COLUMNS($M$105:M134)-1),\"\")","v":""},{"$f":"IF(OFFSET(DE104_3!$N$105,ROWS($N$105:N134)-1,COLUMNS($N$105:N134)-1)<>\"\",OFFSET(DE104_3!$N$105,ROWS($N$105:N134)-1,COLUMNS($N$105:N134)-1),\"\")","v":""},{"$f":"IF(OFFSET(DE104_3!$O$105,ROWS($O$105:O134)-1,COLUMNS($O$105:O134)-1)<>\"\",OFFSET(DE104_3!$O$105,ROWS($O$105:O134)-1,COLUMNS($O$105:O134)-1),\"\")","v":""},{"$f":"IF(OFFSET(DE104_3!$P$105,ROWS($P$105:P134)-1,COLUMNS($P$105:P134)-1)<>\"\",OFFSET(DE104_3!$P$105,ROWS($P$105:P134)-1,COLUMNS($P$105:P134)-1),\"\")","v":""},{"$f":"IF(OFFSET(DE104_3!$Q$105,ROWS($Q$105:Q134)-1,COLUMNS($Q$105:Q134)-1)<>\"\",OFFSET(DE104_3!$Q$105,ROWS($Q$105:Q134)-1,COLUMNS($Q$105:Q134)-1),\"\")","v":""},{"$f":"IF(OFFSET(DE104_3!$R$105,ROWS($R$105:R134)-1,COLUMNS($R$105:R134)-1)<>\"\",OFFSET(DE104_3!$R$105,ROWS($R$105:R134)-1,COLUMNS($R$105:R134)-1),\"\")","v":""},{"$f":"IF(OFFSET(DE104_3!$S$105,ROWS($S$105:S134)-1,COLUMNS($S$105:S134)-1)<>\"\",OFFSET(DE104_3!$S$105,ROWS($S$105:S134)-1,COLUMNS($S$105:S134)-1),\"\")","v":""},{"$f":"IF(OFFSET(DE104_3!$T$105,ROWS($T$105:T134)-1,COLUMNS($T$105:T134)-1)<>\"\",OFFSET(DE104_3!$T$105,ROWS($T$105:T134)-1,COLUMNS($T$105:T134)-1),\"\")","v":""},{"$f":"IF(OFFSET(DE104_3!$U$105,ROWS($U$105:U134)-1,COLUMNS($U$105:U134)-1)<>\"\",OFFSET(DE104_3!$U$105,ROWS($U$105:U134)-1,COLUMNS($U$105:U134)-1),\"\")","v":""},{"$f":"IF(OFFSET(DE104_3!$V$105,ROWS($V$105:V134)-1,COLUMNS($V$105:V134)-1)<>\"\",OFFSET(DE104_3!$V$105,ROWS($V$105:V134)-1,COLUMNS($V$105:V134)-1),\"\")","v":""},{"$f":"IF(OFFSET(DE104_3!$W$105,ROWS($W$105:W134)-1,COLUMNS($W$105:W134)-1)<>\"\",OFFSET(DE104_3!$W$105,ROWS($W$105:W134)-1,COLUMNS($W$105:W134)-1),\"\")","v":""},{"$f":"IF(OFFSET(DE104_3!$X$105,ROWS($X$105:X134)-1,COLUMNS($X$105:X134)-1)<>\"\",OFFSET(DE104_3!$X$105,ROWS($X$105:X134)-1,COLUMNS($X$105:X134)-1),\"\")","v":""},{"$f":"IF(OFFSET(DE104_3!$Y$105,ROWS($Y$105:Y134)-1,COLUMNS($Y$105:Y134)-1)<>\"\",OFFSET(DE104_3!$Y$105,ROWS($Y$105:Y134)-1,COLUMNS($Y$105:Y134)-1),\"\")","v":""},{"$f":"IF(OFFSET(DE104_3!$Z$105,ROWS($Z$105:Z134)-1,COLUMNS($Z$105:Z134)-1)<>\"\",OFFSET(DE104_3!$Z$105,ROWS($Z$105:Z134)-1,COLUMNS($Z$105:Z134)-1),\"\")","v":""},{"$f":"IF(OFFSET(DE104_3!$AA$105,ROWS($AA$105:AA134)-1,COLUMNS($AA$105:AA134)-1)<>\"\",OFFSET(DE104_3!$AA$105,ROWS($AA$105:AA134)-1,COLUMNS($AA$105:AA134)-1),\"\")","v":""},{"$f":"IF(OFFSET(DE104_3!$AB$105,ROWS($AB$105:AB134)-1,COLUMNS($AB$105:AB134)-1)<>\"\",OFFSET(DE104_3!$AB$105,ROWS($AB$105:AB134)-1,COLUMNS($AB$105:AB134)-1),\"\")","v":""},{"$f":"IF(OFFSET(DE104_3!$AC$105,ROWS($AC$105:AC134)-1,COLUMNS($AC$105:AC134)-1)<>\"\",OFFSET(DE104_3!$AC$105,ROWS($AC$105:AC134)-1,COLUMNS($AC$105:AC134)-1),\"\")","v":""},{"$f":"IF(OFFSET(DE104_3!$AD$105,ROWS($AD$105:AD134)-1,COLUMNS($AD$105:AD134)-1)<>\"\",OFFSET(DE104_3!$AD$105,ROWS($AD$105:AD134)-1,COLUMNS($AD$105:AD134)-1),\"\")","v":""},{"$f":"IF(OFFSET(DE104_3!$AE$105,ROWS($AE$105:AE134)-1,COLUMNS($AE$105:AE134)-1)<>\"\",OFFSET(DE104_3!$AE$105,ROWS($AE$105:AE134)-1,COLUMNS($AE$105:AE134)-1),\"\")","v":""},{"$f":"IF(OFFSET(DE104_3!$AF$105,ROWS($AF$105:AF134)-1,COLUMNS($AF$105:AF134)-1)<>\"\",OFFSET(DE104_3!$AF$105,ROWS($AF$105:AF134)-1,COLUMNS($AF$105:AF134)-1),\"\")","v":""},{"$f":"IF(OFFSET(DE104_3!$AG$105,ROWS($AG$105:AG134)-1,COLUMNS($AG$105:AG134)-1)<>\"\",OFFSET(DE104_3!$AG$105,ROWS($AG$105:AG134)-1,COLUMNS($AG$105:AG134)-1),\"\")","v":""},{"$f":"IF(OFFSET(DE104_3!$AH$105,ROWS($AH$105:AH134)-1,COLUMNS($AH$105:AH134)-1)<>\"\",OFFSET(DE104_3!$AH$105,ROWS($AH$105:AH134)-1,COLUMNS($AH$105:AH134)-1),\"\")","v":""},{"$f":"IF(OFFSET(DE104_3!$AI$105,ROWS($AI$105:AI134)-1,COLUMNS($AI$105:AI134)-1)<>\"\",OFFSET(DE104_3!$AI$105,ROWS($AI$105:AI134)-1,COLUMNS($AI$105:AI134)-1),\"\")","v":""},{"$f":"IF(OFFSET(DE104_3!$AJ$105,ROWS($AJ$105:AJ134)-1,COLUMNS($AJ$105:AJ134)-1)<>\"\",OFFSET(DE104_3!$AJ$105,ROWS($AJ$105:AJ134)-1,COLUMNS($AJ$105:AJ134)-1),\"\")","v":""},{"$f":"IF(OFFSET(DE104_3!$AK$105,ROWS($AK$105:AK134)-1,COLUMNS($AK$105:AK134)-1)<>\"\",OFFSET(DE104_3!$AK$105,ROWS($AK$105:AK134)-1,COLUMNS($AK$105:AK134)-1),\"\")","v":""},{"$f":"IF(OFFSET(DE104_3!$AL$105,ROWS($AL$105:AL134)-1,COLUMNS($AL$105:AL134)-1)<>\"\",OFFSET(DE104_3!$AL$105,ROWS($AL$105:AL134)-1,COLUMNS($AL$105:AL134)-1),\"\")","v":""},{"$f":"IF(OFFSET(DE104_3!$AM$105,ROWS($AM$105:AM134)-1,COLUMNS($AM$105:AM134)-1)<>\"\",OFFSET(DE104_3!$AM$105,ROWS($AM$105:AM134)-1,COLUMNS($AM$105:AM134)-1),\"\")","v":""},{"$f":"IF(OFFSET(DE104_3!$AN$105,ROWS($AN$105:AN134)-1,COLUMNS($AN$105:AN134)-1)<>\"\",OFFSET(DE104_3!$AN$105,ROWS($AN$105:AN134)-1,COLUMNS($AN$105:AN134)-1),\"\")","v":""},{"$f":"IF(OFFSET(DE104_3!$AO$105,ROWS($AO$105:AO134)-1,COLUMNS($AO$105:AO134)-1)<>\"\",OFFSET(DE104_3!$AO$105,ROWS($AO$105:AO134)-1,COLUMNS($AO$105:AO134)-1),\"\")","v":""},{"$f":"IF(OFFSET(DE104_3!$AP$105,ROWS($AP$105:AP134)-1,COLUMNS($AP$105:AP134)-1)<>\"\",OFFSET(DE104_3!$AP$105,ROWS($AP$105:AP134)-1,COLUMNS($AP$105:AP134)-1),\"\")","v":""},{"$f":"IF(OFFSET(DE104_3!$AQ$105,ROWS($AQ$105:AQ134)-1,COLUMNS($AQ$105:AQ134)-1)<>\"\",OFFSET(DE104_3!$AQ$105,ROWS($AQ$105:AQ134)-1,COLUMNS($AQ$105:AQ134)-1),\"\")","v":""}]
[{"$f":"IF(OFFSET(DE104_3!$C$105,ROWS($C$105:C135)-1,COLUMNS($C$105:C135)-1)<>\"\",OFFSET(DE104_3!$C$105,ROWS($C$105:C135)-1,COLUMNS($C$105:C135)-1),\"\")","v":"(1)"},{"$f":"IF(OFFSET(DE104_3!$D$105,ROWS($D$105:D135)-1,COLUMNS($D$105:D135)-1)<>\"\",OFFSET(DE104_3!$D$105,ROWS($D$105:D135)-1,COLUMNS($D$105:D135)-1),\"\")","v":"A=68.0', D=6.0'; one 7.5° DR-141"},null,null,null,null,null,null,null,null,null,null,null,null,null,null,null,null,null,{"$f":"IF(OFFSET(DE104_3!$V$105,ROWS($V$105:V135)-1,COLUMNS($V$105:V135)-1)<>\"\",OFFSET(DE104_3!$V$105,ROWS($V$105:V135)-1,COLUMNS($V$105:V135)-1),\"\")","v":""},{"$f":"IF(OFFSET(DE104_3!$W$105,ROWS($W$105:W135)-1,COLUMNS($W$105:W135)-1)<>\"\",OFFSET(DE104_3!$W$105,ROWS($W$105:W135)-1,COLUMNS($W$105:W135)-1),\"\")","v":""},{"$f":"IF(OFFSET(DE104_3!$X$105,ROWS($X$105:X135)-1,COLUMNS($X$105:X135)-1)<>\"\",OFFSET(DE104_3!$X$105,ROWS($X$105:X135)-1,COLUMNS($X$105:X135)-1),\"\")","v":""},{"$f":"IF(OFFSET(DE104_3!$Y$105,ROWS($Y$105:Y135)-1,COLUMNS($Y$105:Y135)-1)<>\"\",OFFSET(DE104_3!$Y$105,ROWS($Y$105:Y135)-1,COLUMNS($Y$105:Y135)-1),\"\")","v":""},{"$f":"IF(OFFSET(DE104_3!$Z$105,ROWS($Z$105:Z135)-1,COLUMNS($Z$105:Z135)-1)<>\"\",OFFSET(DE104_3!$Z$105,ROWS($Z$105:Z135)-1,COLUMNS($Z$105:Z135)-1),\"\")","v":""},{"$f":"IF(OFFSET(DE104_3!$AA$105,ROWS($AA$105:AA135)-1,COLUMNS($AA$105:AA135)-1)<>\"\",OFFSET(DE104_3!$AA$105,ROWS($AA$105:AA135)-1,COLUMNS($AA$105:AA135)-1),\"\")","v":""},{"$f":"IF(OFFSET(DE104_3!$AB$105,ROWS($AB$105:AB135)-1,COLUMNS($AB$105:AB135)-1)<>\"\",OFFSET(DE104_3!$AB$105,ROWS($AB$105:AB135)-1,COLUMNS($AB$105:AB135)-1),\"\")","v":""},{"$f":"IF(OFFSET(DE104_3!$AC$105,ROWS($AC$105:AC135)-1,COLUMNS($AC$105:AC135)-1)<>\"\",OFFSET(DE104_3!$AC$105,ROWS($AC$105:AC135)-1,COLUMNS($AC$105:AC135)-1),\"\")","v":""},{"$f":"IF(OFFSET(DE104_3!$AD$105,ROWS($AD$105:AD135)-1,COLUMNS($AD$105:AD135)-1)<>\"\",OFFSET(DE104_3!$AD$105,ROWS($AD$105:AD135)-1,COLUMNS($AD$105:AD135)-1),\"\")","v":""},{"$f":"IF(OFFSET(DE104_3!$AE$105,ROWS($AE$105:AE135)-1,COLUMNS($AE$105:AE135)-1)<>\"\",OFFSET(DE104_3!$AE$105,ROWS($AE$105:AE135)-1,COLUMNS($AE$105:AE135)-1),\"\")","v":""},{"$f":"IF(OFFSET(DE104_3!$AF$105,ROWS($AF$105:AF135)-1,COLUMNS($AF$105:AF135)-1)<>\"\",OFFSET(DE104_3!$AF$105,ROWS($AF$105:AF135)-1,COLUMNS($AF$105:AF135)-1),\"\")","v":""},{"$f":"IF(OFFSET(DE104_3!$AG$105,ROWS($AG$105:AG135)-1,COLUMNS($AG$105:AG135)-1)<>\"\",OFFSET(DE104_3!$AG$105,ROWS($AG$105:AG135)-1,COLUMNS($AG$105:AG135)-1),\"\")","v":""},{"$f":"IF(OFFSET(DE104_3!$AH$105,ROWS($AH$105:AH135)-1,COLUMNS($AH$105:AH135)-1)<>\"\",OFFSET(DE104_3!$AH$105,ROWS($AH$105:AH135)-1,COLUMNS($AH$105:AH135)-1),\"\")","v":""},{"$f":"IF(OFFSET(DE104_3!$AI$105,ROWS($AI$105:AI135)-1,COLUMNS($AI$105:AI135)-1)<>\"\",OFFSET(DE104_3!$AI$105,ROWS($AI$105:AI135)-1,COLUMNS($AI$105:AI135)-1),\"\")","v":""},{"$f":"IF(OFFSET(DE104_3!$AJ$105,ROWS($AJ$105:AJ135)-1,COLUMNS($AJ$105:AJ135)-1)<>\"\",OFFSET(DE104_3!$AJ$105,ROWS($AJ$105:AJ135)-1,COLUMNS($AJ$105:AJ135)-1),\"\")","v":""},{"$f":"IF(OFFSET(DE104_3!$AK$105,ROWS($AK$105:AK135)-1,COLUMNS($AK$105:AK135)-1)<>\"\",OFFSET(DE104_3!$AK$105,ROWS($AK$105:AK135)-1,COLUMNS($AK$105:AK135)-1),\"\")","v":""},{"$f":"IF(OFFSET(DE104_3!$AL$105,ROWS($AL$105:AL135)-1,COLUMNS($AL$105:AL135)-1)<>\"\",OFFSET(DE104_3!$AL$105,ROWS($AL$105:AL135)-1,COLUMNS($AL$105:AL135)-1),\"\")","v":""},{"$f":"IF(OFFSET(DE104_3!$AM$105,ROWS($AM$105:AM135)-1,COLUMNS($AM$105:AM135)-1)<>\"\",OFFSET(DE104_3!$AM$105,ROWS($AM$105:AM135)-1,COLUMNS($AM$105:AM135)-1),\"\")","v":""},{"$f":"IF(OFFSET(DE104_3!$AN$105,ROWS($AN$105:AN135)-1,COLUMNS($AN$105:AN135)-1)<>\"\",OFFSET(DE104_3!$AN$105,ROWS($AN$105:AN135)-1,COLUMNS($AN$105:AN135)-1),\"\")","v":""},{"$f":"IF(OFFSET(DE104_3!$AO$105,ROWS($AO$105:AO135)-1,COLUMNS($AO$105:AO135)-1)<>\"\",OFFSET(DE104_3!$AO$105,ROWS($AO$105:AO135)-1,COLUMNS($AO$105:AO135)-1),\"\")","v":""},{"$f":"IF(OFFSET(DE104_3!$AP$105,ROWS($AP$105:AP135)-1,COLUMNS($AP$105:AP135)-1)<>\"\",OFFSET(DE104_3!$AP$105,ROWS($AP$105:AP135)-1,COLUMNS($AP$105:AP135)-1),\"\")","v":""},{"$f":"IF(OFFSET(DE104_3!$AQ$105,ROWS($AQ$105:AQ135)-1,COLUMNS($AQ$105:AQ135)-1)<>\"\",OFFSET(DE104_3!$AQ$105,ROWS($AQ$105:AQ135)-1,COLUMNS($AQ$105:AQ135)-1),\"\")","v":""}]
[{"$f":"IF(OFFSET(DE104_3!$C$105,ROWS($C$105:C136)-1,COLUMNS($C$105:C136)-1)<>\"\",OFFSET(DE104_3!$C$105,ROWS($C$105:C136)-1,COLUMNS($C$105:C136)-1),\"\")","v":"(2)"},{"$f":"IF(OFFSET(DE104_3!$D$105,ROWS($D$105:D136)-1,COLUMNS($D$105:D136)-1)<>\"\",OFFSET(DE104_3!$D$105,ROWS($D$105:D136)-1,COLUMNS($D$105:D136)-1),\"\")","v":"B=15.0', C=2.0', E=15.0', L=3.5'; includes two 15° CMP elbows"},null,null,null,null,null,null,null,null,null,null,null,null,null,null,null,null,null,{"$f":"IF(OFFSET(DE104_3!$V$105,ROWS($V$105:V136)-1,COLUMNS($V$105:V136)-1)<>\"\",OFFSET(DE104_3!$V$105,ROWS($V$105:V136)-1,COLUMNS($V$105:V136)-1),\"\")","v":""},{"$f":"IF(OFFSET(DE104_3!$W$105,ROWS($W$105:W136)-1,COLUMNS($W$105:W136)-1)<>\"\",OFFSET(DE104_3!$W$105,ROWS($W$105:W136)-1,COLUMNS($W$105:W136)-1),\"\")","v":""},{"$f":"IF(OFFSET(DE104_3!$X$105,ROWS($X$105:X136)-1,COLUMNS($X$105:X136)-1)<>\"\",OFFSET(DE104_3!$X$105,ROWS($X$105:X136)-1,COLUMNS($X$105:X136)-1),\"\")","v":""},{"$f":"IF(OFFSET(DE104_3!$Y$105,ROWS($Y$105:Y136)-1,COLUMNS($Y$105:Y136)-1)<>\"\",OFFSET(DE104_3!$Y$105,ROWS($Y$105:Y136)-1,COLUMNS($Y$105:Y136)-1),\"\")","v":""},{"$f":"IF(OFFSET(DE104_3!$Z$105,ROWS($Z$105:Z136)-1,COLUMNS($Z$105:Z136)-1)<>\"\",OFFSET(DE104_3!$Z$105,ROWS($Z$105:Z136)-1,COLUMNS($Z$105:Z136)-1),\"\")","v":""},{"$f":"IF(OFFSET(DE104_3!$AA$105,ROWS($AA$105:AA136)-1,COLUMNS($AA$105:AA136)-1)<>\"\",OFFSET(DE104_3!$AA$105,ROWS($AA$105:AA136)-1,COLUMNS($AA$105:AA136)-1),\"\")","v":""},{"$f":"IF(OFFSET(DE104_3!$AB$105,ROWS($AB$105:AB136)-1,COLUMNS($AB$105:AB136)-1)<>\"\",OFFSET(DE104_3!$AB$105,ROWS($AB$105:AB136)-1,COLUMNS($AB$105:AB136)-1),\"\")","v":""},{"$f":"IF(OFFSET(DE104_3!$AC$105,ROWS($AC$105:AC136)-1,COLUMNS($AC$105:AC136)-1)<>\"\",OFFSET(DE104_3!$AC$105,ROWS($AC$105:AC136)-1,COLUMNS($AC$105:AC136)-1),\"\")","v":""},{"$f":"IF(OFFSET(DE104_3!$AD$105,ROWS($AD$105:AD136)-1,COLUMNS($AD$105:AD136)-1)<>\"\",OFFSET(DE104_3!$AD$105,ROWS($AD$105:AD136)-1,COLUMNS($AD$105:AD136)-1),\"\")","v":""},{"$f":"IF(OFFSET(DE104_3!$AE$105,ROWS($AE$105:AE136)-1,COLUMNS($AE$105:AE136)-1)<>\"\",OFFSET(DE104_3!$AE$105,ROWS($AE$105:AE136)-1,COLUMNS($AE$105:AE136)-1),\"\")","v":""},{"$f":"IF(OFFSET(DE104_3!$AF$105,ROWS($AF$105:AF136)-1,COLUMNS($AF$105:AF136)-1)<>\"\",OFFSET(DE104_3!$AF$105,ROWS($AF$105:AF136)-1,COLUMNS($AF$105:AF136)-1),\"\")","v":""},{"$f":"IF(OFFSET(DE104_3!$AG$105,ROWS($AG$105:AG136)-1,COLUMNS($AG$105:AG136)-1)<>\"\",OFFSET(DE104_3!$AG$105,ROWS($AG$105:AG136)-1,COLUMNS($AG$105:AG136)-1),\"\")","v":""},{"$f":"IF(OFFSET(DE104_3!$AH$105,ROWS($AH$105:AH136)-1,COLUMNS($AH$105:AH136)-1)<>\"\",OFFSET(DE104_3!$AH$105,ROWS($AH$105:AH136)-1,COLUMNS($AH$105:AH136)-1),\"\")","v":""},{"$f":"IF(OFFSET(DE104_3!$AI$105,ROWS($AI$105:AI136)-1,COLUMNS($AI$105:AI136)-1)<>\"\",OFFSET(DE104_3!$AI$105,ROWS($AI$105:AI136)-1,COLUMNS($AI$105:AI136)-1),\"\")","v":""},{"$f":"IF(OFFSET(DE104_3!$AJ$105,ROWS($AJ$105:AJ136)-1,COLUMNS($AJ$105:AJ136)-1)<>\"\",OFFSET(DE104_3!$AJ$105,ROWS($AJ$105:AJ136)-1,COLUMNS($AJ$105:AJ136)-1),\"\")","v":""},{"$f":"IF(OFFSET(DE104_3!$AK$105,ROWS($AK$105:AK136)-1,COLUMNS($AK$105:AK136)-1)<>\"\",OFFSET(DE104_3!$AK$105,ROWS($AK$105:AK136)-1,COLUMNS($AK$105:AK136)-1),\"\")","v":""},{"$f":"IF(OFFSET(DE104_3!$AL$105,ROWS($AL$105:AL136)-1,COLUMNS($AL$105:AL136)-1)<>\"\",OFFSET(DE104_3!$AL$105,ROWS($AL$105:AL136)-1,COLUMNS($AL$105:AL136)-1),\"\")","v":""},{"$f":"IF(OFFSET(DE104_3!$AM$105,ROWS($AM$105:AM136)-1,COLUMNS($AM$105:AM136)-1)<>\"\",OFFSET(DE104_3!$AM$105,ROWS($AM$105:AM136)-1,COLUMNS($AM$105:AM136)-1),\"\")","v":""},{"$f":"IF(OFFSET(DE104_3!$AN$105,ROWS($AN$105:AN136)-1,COLUMNS($AN$105:AN136)-1)<>\"\",OFFSET(DE104_3!$AN$105,ROWS($AN$105:AN136)-1,COLUMNS($AN$105:AN136)-1),\"\")","v":""},{"$f":"IF(OFFSET(DE104_3!$AO$105,ROWS($AO$105:AO136)-1,COLUMNS($AO$105:AO136)-1)<>\"\",OFFSET(DE104_3!$AO$105,ROWS($AO$105:AO136)-1,COLUMNS($AO$105:AO136)-1),\"\")","v":""},{"$f":"IF(OFFSET(DE104_3!$AP$105,ROWS($AP$105:AP136)-1,COLUMNS($AP$105:AP136)-1)<>\"\",OFFSET(DE104_3!$AP$105,ROWS($AP$105:AP136)-1,COLUMNS($AP$105:AP136)-1),\"\")","v":""},{"$f":"IF(OFFSET(DE104_3!$AQ$105,ROWS($AQ$105:AQ136)-1,COLUMNS($AQ$105:AQ136)-1)<>\"\",OFFSET(DE104_3!$AQ$105,ROWS($AQ$105:AQ136)-1,COLUMNS($AQ$105:AQ136)-1),\"\")","v":""}]
[{"$f":"IF(OFFSET(DE104_3!$C$105,ROWS($C$105:C137)-1,COLUMNS($C$105:C137)-1)<>\"\",OFFSET(DE104_3!$C$105,ROWS($C$105:C137)-1,COLUMNS($C$105:C137)-1),\"\")","v":"(3)"},{"$f":"IF(OFFSET(DE104_3!$D$105,ROWS($D$105:D137)-1,COLUMNS($D$105:D137)-1)<>\"\",OFFSET(DE104_3!$D$105,ROWS($D$105:D137)-1,COLUMNS($D$105:D137)-1),\"\")","v":"A=68.0', D=6.0'; one 7.5° DR-141"},null,null,null,null,null,null,null,null,null,null,null,null,null,null,null,null,null,{"$f":"IF(OFFSET(DE104_3!$V$105,ROWS($V$105:V137)-1,COLUMNS($V$105:V137)-1)<>\"\",OFFSET(DE104_3!$V$105,ROWS($V$105:V137)-1,COLUMNS($V$105:V137)-1),\"\")","v":""},{"$f":"IF(OFFSET(DE104_3!$W$105,ROWS($W$105:W137)-1,COLUMNS($W$105:W137)-1)<>\"\",OFFSET(DE104_3!$W$105,ROWS($W$105:W137)-1,COLUMNS($W$105:W137)-1),\"\")","v":""},{"$f":"IF(OFFSET(DE104_3!$X$105,ROWS($X$105:X137)-1,COLUMNS($X$105:X137)-1)<>\"\",OFFSET(DE104_3!$X$105,ROWS($X$105:X137)-1,COLUMNS($X$105:X137)-1),\"\")","v":""},{"$f":"IF(OFFSET(DE104_3!$Y$105,ROWS($Y$105:Y137)-1,COLUMNS($Y$105:Y137)-1)<>\"\",OFFSET(DE104_3!$Y$105,ROWS($Y$105:Y137)-1,COLUMNS($Y$105:Y137)-1),\"\")","v":""},{"$f":"IF(OFFSET(DE104_3!$Z$105,ROWS($Z$105:Z137)-1,COLUMNS($Z$105:Z137)-1)<>\"\",OFFSET(DE104_3!$Z$105,ROWS($Z$105:Z137)-1,COLUMNS($Z$105:Z137)-1),\"\")","v":""},{"$f":"IF(OFFSET(DE104_3!$AA$105,ROWS($AA$105:AA137)-1,COLUMNS($AA$105:AA137)-1)<>\"\",OFFSET(DE104_3!$AA$105,ROWS($AA$105:AA137)-1,COLUMNS($AA$105:AA137)-1),\"\")","v":""},{"$f":"IF(OFFSET(DE104_3!$AB$105,ROWS($AB$105:AB137)-1,COLUMNS($AB$105:AB137)-1)<>\"\",OFFSET(DE104_3!$AB$105,ROWS($AB$105:AB137)-1,COLUMNS($AB$105:AB137)-1),\"\")","v":""},{"$f":"IF(OFFSET(DE104_3!$AC$105,ROWS($AC$105:AC137)-1,COLUMNS($AC$105:AC137)-1)<>\"\",OFFSET(DE104_3!$AC$105,ROWS($AC$105:AC137)-1,COLUMNS($AC$105:AC137)-1),\"\")","v":""},{"$f":"IF(OFFSET(DE104_3!$AD$105,ROWS($AD$105:AD137)-1,COLUMNS($AD$105:AD137)-1)<>\"\",OFFSET(DE104_3!$AD$105,ROWS($AD$105:AD137)-1,COLUMNS($AD$105:AD137)-1),\"\")","v":""},{"$f":"IF(OFFSET(DE104_3!$AE$105,ROWS($AE$105:AE137)-1,COLUMNS($AE$105:AE137)-1)<>\"\",OFFSET(DE104_3!$AE$105,ROWS($AE$105:AE137)-1,COLUMNS($AE$105:AE137)-1),\"\")","v":""},{"$f":"IF(OFFSET(DE104_3!$AF$105,ROWS($AF$105:AF137)-1,COLUMNS($AF$105:AF137)-1)<>\"\",OFFSET(DE104_3!$AF$105,ROWS($AF$105:AF137)-1,COLUMNS($AF$105:AF137)-1),\"\")","v":""},{"$f":"IF(OFFSET(DE104_3!$AG$105,ROWS($AG$105:AG137)-1,COLUMNS($AG$105:AG137)-1)<>\"\",OFFSET(DE104_3!$AG$105,ROWS($AG$105:AG137)-1,COLUMNS($AG$105:AG137)-1),\"\")","v":""},{"$f":"IF(OFFSET(DE104_3!$AH$105,ROWS($AH$105:AH137)-1,COLUMNS($AH$105:AH137)-1)<>\"\",OFFSET(DE104_3!$AH$105,ROWS($AH$105:AH137)-1,COLUMNS($AH$105:AH137)-1),\"\")","v":""},{"$f":"IF(OFFSET(DE104_3!$AI$105,ROWS($AI$105:AI137)-1,COLUMNS($AI$105:AI137)-1)<>\"\",OFFSET(DE104_3!$AI$105,ROWS($AI$105:AI137)-1,COLUMNS($AI$105:AI137)-1),\"\")","v":""},{"$f":"IF(OFFSET(DE104_3!$AJ$105,ROWS($AJ$105:AJ137)-1,COLUMNS($AJ$105:AJ137)-1)<>\"\",OFFSET(DE104_3!$AJ$105,ROWS($AJ$105:AJ137)-1,COLUMNS($AJ$105:AJ137)-1),\"\")","v":""},{"$f":"IF(OFFSET(DE104_3!$AK$105,ROWS($AK$105:AK137)-1,COLUMNS($AK$105:AK137)-1)<>\"\",OFFSET(DE104_3!$AK$105,ROWS($AK$105:AK137)-1,COLUMNS($AK$105:AK137)-1),\"\")","v":""},{"$f":"IF(OFFSET(DE104_3!$AL$105,ROWS($AL$105:AL137)-1,COLUMNS($AL$105:AL137)-1)<>\"\",OFFSET(DE104_3!$AL$105,ROWS($AL$105:AL137)-1,COLUMNS($AL$105:AL137)-1),\"\")","v":""},{"$f":"IF(OFFSET(DE104_3!$AM$105,ROWS($AM$105:AM137)-1,COLUMNS($AM$105:AM137)-1)<>\"\",OFFSET(DE104_3!$AM$105,ROWS($AM$105:AM137)-1,COLUMNS($AM$105:AM137)-1),\"\")","v":""},{"$f":"IF(OFFSET(DE104_3!$AN$105,ROWS($AN$105:AN137)-1,COLUMNS($AN$105:AN137)-1)<>\"\",OFFSET(DE104_3!$AN$105,ROWS($AN$105:AN137)-1,COLUMNS($AN$105:AN137)-1),\"\")","v":""},{"$f":"IF(OFFSET(DE104_3!$AO$105,ROWS($AO$105:AO137)-1,COLUMNS($AO$105:AO137)-1)<>\"\",OFFSET(DE104_3!$AO$105,ROWS($AO$105:AO137)-1,COLUMNS($AO$105:AO137)-1),\"\")","v":""},{"$f":"IF(OFFSET(DE104_3!$AP$105,ROWS($AP$105:AP137)-1,COLUMNS($AP$105:AP137)-1)<>\"\",OFFSET(DE104_3!$AP$105,ROWS($AP$105:AP137)-1,COLUMNS($AP$105:AP137)-1),\"\")","v":""},{"$f":"IF(OFFSET(DE104_3!$AQ$105,ROWS($AQ$105:AQ137)-1,COLUMNS($AQ$105:AQ137)-1)<>\"\",OFFSET(DE104_3!$AQ$105,ROWS($AQ$105:AQ137)-1,COLUMNS($AQ$105:AQ137)-1),\"\")","v":""}]
[{"$f":"IF(OFFSET(DE104_3!$C$105,ROWS($C$105:C138)-1,COLUMNS($C$105:C138)-1)<>\"\",OFFSET(DE104_3!$C$105,ROWS($C$105:C138)-1,COLUMNS($C$105:C138)-1),\"\")","v":"(4)"},{"$f":"IF(OFFSET(DE104_3!$D$105,ROWS($D$105:D138)-1,COLUMNS($D$105:D138)-1)<>\"\",OFFSET(DE104_3!$D$105,ROWS($D$105:D138)-1,COLUMNS($D$105:D138)-1),\"\")","v":"B=43.0', C=2.0', E=14.0', L=3.5'; includes two 15° CMP elbows"},null,null,null,null,null,null,null,null,null,null,null,null,null,null,null,null,null,{"$f":"IF(OFFSET(DE104_3!$V$105,ROWS($V$105:V138)-1,COLUMNS($V$105:V138)-1)<>\"\",OFFSET(DE104_3!$V$105,ROWS($V$105:V138)-1,COLUMNS($V$105:V138)-1),\"\")","v":""},{"$f":"IF(OFFSET(DE104_3!$W$105,ROWS($W$105:W138)-1,COLUMNS($W$105:W138)-1)<>\"\",OFFSET(DE104_3!$W$105,ROWS($W$105:W138)-1,COLUMNS($W$105:W138)-1),\"\")","v":""},{"$f":"IF(OFFSET(DE104_3!$X$105,ROWS($X$105:X138)-1,COLUMNS($X$105:X138)-1)<>\"\",OFFSET(DE104_3!$X$105,ROWS($X$105:X138)-1,COLUMNS($X$105:X138)-1),\"\")","v":""},{"$f":"IF(OFFSET(DE104_3!$Y$105,ROWS($Y$105:Y138)-1,COLUMNS($Y$105:Y138)-1)<>\"\",OFFSET(DE104_3!$Y$105,ROWS($Y$105:Y138)-1,COLUMNS($Y$105:Y138)-1),\"\")","v":""},{"$f":"IF(OFFSET(DE104_3!$Z$105,ROWS($Z$105:Z138)-1,COLUMNS($Z$105:Z138)-1)<>\"\",OFFSET(DE104_3!$Z$105,ROWS($Z$105:Z138)-1,COLUMNS($Z$105:Z138)-1),\"\")","v":""},{"$f":"IF(OFFSET(DE104_3!$AA$105,ROWS($AA$105:AA138)-1,COLUMNS($AA$105:AA138)-1)<>\"\",OFFSET(DE104_3!$AA$105,ROWS($AA$105:AA138)-1,COLUMNS($AA$105:AA138)-1),\"\")","v":""},{"$f":"IF(OFFSET(DE104_3!$AB$105,ROWS($AB$105:AB138)-1,COLUMNS($AB$105:AB138)-1)<>\"\",OFFSET(DE104_3!$AB$105,ROWS($AB$105:AB138)-1,COLUMNS($AB$105:AB138)-1),\"\")","v":""},{"$f":"IF(OFFSET(DE104_3!$AC$105,ROWS($AC$105:AC138)-1,COLUMNS($AC$105:AC138)-1)<>\"\",OFFSET(DE104_3!$AC$105,ROWS($AC$105:AC138)-1,COLUMNS($AC$105:AC138)-1),\"\")","v":""},{"$f":"IF(OFFSET(DE104_3!$AD$105,ROWS($AD$105:AD138)-1,COLUMNS($AD$105:AD138)-1)<>\"\",OFFSET(DE104_3!$AD$105,ROWS($AD$105:AD138)-1,COLUMNS($AD$105:AD138)-1),\"\")","v":""},{"$f":"IF(OFFSET(DE104_3!$AE$105,ROWS($AE$105:AE138)-1,COLUMNS($AE$105:AE138)-1)<>\"\",OFFSET(DE104_3!$AE$105,ROWS($AE$105:AE138)-1,COLUMNS($AE$105:AE138)-1),\"\")","v":""},{"$f":"IF(OFFSET(DE104_3!$AF$105,ROWS($AF$105:AF138)-1,COLUMNS($AF$105:AF138)-1)<>\"\",OFFSET(DE104_3!$AF$105,ROWS($AF$105:AF138)-1,COLUMNS($AF$105:AF138)-1),\"\")","v":""},{"$f":"IF(OFFSET(DE104_3!$AG$105,ROWS($AG$105:AG138)-1,COLUMNS($AG$105:AG138)-1)<>\"\",OFFSET(DE104_3!$AG$105,ROWS($AG$105:AG138)-1,COLUMNS($AG$105:AG138)-1),\"\")","v":""},{"$f":"IF(OFFSET(DE104_3!$AH$105,ROWS($AH$105:AH138)-1,COLUMNS($AH$105:AH138)-1)<>\"\",OFFSET(DE104_3!$AH$105,ROWS($AH$105:AH138)-1,COLUMNS($AH$105:AH138)-1),\"\")","v":""},{"$f":"IF(OFFSET(DE104_3!$AI$105,ROWS($AI$105:AI138)-1,COLUMNS($AI$105:AI138)-1)<>\"\",OFFSET(DE104_3!$AI$105,ROWS($AI$105:AI138)-1,COLUMNS($AI$105:AI138)-1),\"\")","v":""},{"$f":"IF(OFFSET(DE104_3!$AJ$105,ROWS($AJ$105:AJ138)-1,COLUMNS($AJ$105:AJ138)-1)<>\"\",OFFSET(DE104_3!$AJ$105,ROWS($AJ$105:AJ138)-1,COLUMNS($AJ$105:AJ138)-1),\"\")","v":""},{"$f":"IF(OFFSET(DE104_3!$AK$105,ROWS($AK$105:AK138)-1,COLUMNS($AK$105:AK138)-1)<>\"\",OFFSET(DE104_3!$AK$105,ROWS($AK$105:AK138)-1,COLUMNS($AK$105:AK138)-1),\"\")","v":""},{"$f":"IF(OFFSET(DE104_3!$AL$105,ROWS($AL$105:AL138)-1,COLUMNS($AL$105:AL138)-1)<>\"\",OFFSET(DE104_3!$AL$105,ROWS($AL$105:AL138)-1,COLUMNS($AL$105:AL138)-1),\"\")","v":""},{"$f":"IF(OFFSET(DE104_3!$AM$105,ROWS($AM$105:AM138)-1,COLUMNS($AM$105:AM138)-1)<>\"\",OFFSET(DE104_3!$AM$105,ROWS($AM$105:AM138)-1,COLUMNS($AM$105:AM138)-1),\"\")","v":""},{"$f":"IF(OFFSET(DE104_3!$AN$105,ROWS($AN$105:AN138)-1,COLUMNS($AN$105:AN138)-1)<>\"\",OFFSET(DE104_3!$AN$105,ROWS($AN$105:AN138)-1,COLUMNS($AN$105:AN138)-1),\"\")","v":""},{"$f":"IF(OFFSET(DE104_3!$AO$105,ROWS($AO$105:AO138)-1,COLUMNS($AO$105:AO138)-1)<>\"\",OFFSET(DE104_3!$AO$105,ROWS($AO$105:AO138)-1,COLUMNS($AO$105:AO138)-1),\"\")","v":""},{"$f":"IF(OFFSET(DE104_3!$AP$105,ROWS($AP$105:AP138)-1,COLUMNS($AP$105:AP138)-1)<>\"\",OFFSET(DE104_3!$AP$105,ROWS($AP$105:AP138)-1,COLUMNS($AP$105:AP138)-1),\"\")","v":""},{"$f":"IF(OFFSET(DE104_3!$AQ$105,ROWS($AQ$105:AQ138)-1,COLUMNS($AQ$105:AQ138)-1)<>\"\",OFFSET(DE104_3!$AQ$105,ROWS($AQ$105:AQ138)-1,COLUMNS($AQ$105:AQ138)-1),\"\")","v":""}]
[{"$f":"IF(OFFSET(DE104_3!$C$105,ROWS($C$105:C139)-1,COLUMNS($C$105:C139)-1)<>\"\",OFFSET(DE104_3!$C$105,ROWS($C$105:C139)-1,COLUMNS($C$105:C139)-1),\"\")","v":"(5)"},{"$f":"IF(OFFSET(DE104_3!$D$105,ROWS($D$105:D139)-1,COLUMNS($D$105:D139)-1)<>\"\",OFFSET(DE104_3!$D$105,ROWS($D$105:D139)-1,COLUMNS($D$105:D139)-1),\"\")","v":"Stage 1: Remove existing outlet apron to provide room to jack 232' of RCP.  Install outlet apron"},null,null,null,null,null,null,null,null,null,null,null,null,null,null,null,null,null,{"$f":"IF(OFFSET(DE104_3!$V$105,ROWS($V$105:V139)-1,COLUMNS($V$105:V139)-1)<>\"\",OFFSET(DE104_3!$V$105,ROWS($V$105:V139)-1,COLUMNS($V$105:V139)-1),\"\")","v":""},{"$f":"IF(OFFSET(DE104_3!$W$105,ROWS($W$105:W139)-1,COLUMNS($W$105:W139)-1)<>\"\",OFFSET(DE104_3!$W$105,ROWS($W$105:W139)-1,COLUMNS($W$105:W139)-1),\"\")","v":""},{"$f":"IF(OFFSET(DE104_3!$X$105,ROWS($X$105:X139)-1,COLUMNS($X$105:X139)-1)<>\"\",OFFSET(DE104_3!$X$105,ROWS($X$105:X139)-1,COLUMNS($X$105:X139)-1),\"\")","v":""},{"$f":"IF(OFFSET(DE104_3!$Y$105,ROWS($Y$105:Y139)-1,COLUMNS($Y$105:Y139)-1)<>\"\",OFFSET(DE104_3!$Y$105,ROWS($Y$105:Y139)-1,COLUMNS($Y$105:Y139)-1),\"\")","v":""},{"$f":"IF(OFFSET(DE104_3!$Z$105,ROWS($Z$105:Z139)-1,COLUMNS($Z$105:Z139)-1)<>\"\",OFFSET(DE104_3!$Z$105,ROWS($Z$105:Z139)-1,COLUMNS($Z$105:Z139)-1),\"\")","v":""},{"$f":"IF(OFFSET(DE104_3!$AA$105,ROWS($AA$105:AA139)-1,COLUMNS($AA$105:AA139)-1)<>\"\",OFFSET(DE104_3!$AA$105,ROWS($AA$105:AA139)-1,COLUMNS($AA$105:AA139)-1),\"\")","v":""},{"$f":"IF(OFFSET(DE104_3!$AB$105,ROWS($AB$105:AB139)-1,COLUMNS($AB$105:AB139)-1)<>\"\",OFFSET(DE104_3!$AB$105,ROWS($AB$105:AB139)-1,COLUMNS($AB$105:AB139)-1),\"\")","v":""},{"$f":"IF(OFFSET(DE104_3!$AC$105,ROWS($AC$105:AC139)-1,COLUMNS($AC$105:AC139)-1)<>\"\",OFFSET(DE104_3!$AC$105,ROWS($AC$105:AC139)-1,COLUMNS($AC$105:AC139)-1),\"\")","v":""},{"$f":"IF(OFFSET(DE104_3!$AD$105,ROWS($AD$105:AD139)-1,COLUMNS($AD$105:AD139)-1)<>\"\",OFFSET(DE104_3!$AD$105,ROWS($AD$105:AD139)-1,COLUMNS($AD$105:AD139)-1),\"\")","v":""},{"$f":"IF(OFFSET(DE104_3!$AE$105,ROWS($AE$105:AE139)-1,COLUMNS($AE$105:AE139)-1)<>\"\",OFFSET(DE104_3!$AE$105,ROWS($AE$105:AE139)-1,COLUMNS($AE$105:AE139)-1),\"\")","v":""},{"$f":"IF(OFFSET(DE104_3!$AF$105,ROWS($AF$105:AF139)-1,COLUMNS($AF$105:AF139)-1)<>\"\",OFFSET(DE104_3!$AF$105,ROWS($AF$105:AF139)-1,COLUMNS($AF$105:AF139)-1),\"\")","v":""},{"$f":"IF(OFFSET(DE104_3!$AG$105,ROWS($AG$105:AG139)-1,COLUMNS($AG$105:AG139)-1)<>\"\",OFFSET(DE104_3!$AG$105,ROWS($AG$105:AG139)-1,COLUMNS($AG$105:AG139)-1),\"\")","v":""},{"$f":"IF(OFFSET(DE104_3!$AH$105,ROWS($AH$105:AH139)-1,COLUMNS($AH$105:AH139)-1)<>\"\",OFFSET(DE104_3!$AH$105,ROWS($AH$105:AH139)-1,COLUMNS($AH$105:AH139)-1),\"\")","v":""},{"$f":"IF(OFFSET(DE104_3!$AI$105,ROWS($AI$105:AI139)-1,COLUMNS($AI$105:AI139)-1)<>\"\",OFFSET(DE104_3!$AI$105,ROWS($AI$105:AI139)-1,COLUMNS($AI$105:AI139)-1),\"\")","v":""},{"$f":"IF(OFFSET(DE104_3!$AJ$105,ROWS($AJ$105:AJ139)-1,COLUMNS($AJ$105:AJ139)-1)<>\"\",OFFSET(DE104_3!$AJ$105,ROWS($AJ$105:AJ139)-1,COLUMNS($AJ$105:AJ139)-1),\"\")","v":""},{"$f":"IF(OFFSET(DE104_3!$AK$105,ROWS($AK$105:AK139)-1,COLUMNS($AK$105:AK139)-1)<>\"\",OFFSET(DE104_3!$AK$105,ROWS($AK$105:AK139)-1,COLUMNS($AK$105:AK139)-1),\"\")","v":""},{"$f":"IF(OFFSET(DE104_3!$AL$105,ROWS($AL$105:AL139)-1,COLUMNS($AL$105:AL139)-1)<>\"\",OFFSET(DE104_3!$AL$105,ROWS($AL$105:AL139)-1,COLUMNS($AL$105:AL139)-1),\"\")","v":""},{"$f":"IF(OFFSET(DE104_3!$AM$105,ROWS($AM$105:AM139)-1,COLUMNS($AM$105:AM139)-1)<>\"\",OFFSET(DE104_3!$AM$105,ROWS($AM$105:AM139)-1,COLUMNS($AM$105:AM139)-1),\"\")","v":""},{"$f":"IF(OFFSET(DE104_3!$AN$105,ROWS($AN$105:AN139)-1,COLUMNS($AN$105:AN139)-1)<>\"\",OFFSET(DE104_3!$AN$105,ROWS($AN$105:AN139)-1,COLUMNS($AN$105:AN139)-1),\"\")","v":""},{"$f":"IF(OFFSET(DE104_3!$AO$105,ROWS($AO$105:AO139)-1,COLUMNS($AO$105:AO139)-1)<>\"\",OFFSET(DE104_3!$AO$105,ROWS($AO$105:AO139)-1,COLUMNS($AO$105:AO139)-1),\"\")","v":""},{"$f":"IF(OFFSET(DE104_3!$AP$105,ROWS($AP$105:AP139)-1,COLUMNS($AP$105:AP139)-1)<>\"\",OFFSET(DE104_3!$AP$105,ROWS($AP$105:AP139)-1,COLUMNS($AP$105:AP139)-1),\"\")","v":""},{"$f":"IF(OFFSET(DE104_3!$AQ$105,ROWS($AQ$105:AQ139)-1,COLUMNS($AQ$105:AQ139)-1)<>\"\",OFFSET(DE104_3!$AQ$105,ROWS($AQ$105:AQ139)-1,COLUMNS($AQ$105:AQ139)-1),\"\")","v":""}]
[{"$f":"IF(OFFSET(DE104_3!$C$105,ROWS($C$105:C140)-1,COLUMNS($C$105:C140)-1)<>\"\",OFFSET(DE104_3!$C$105,ROWS($C$105:C140)-1,COLUMNS($C$105:C140)-1),\"\")","v":""},{"$f":"IF(OFFSET(DE104_3!$D$105,ROWS($D$105:D140)-1,COLUMNS($D$105:D140)-1)<>\"\",OFFSET(DE104_3!$D$105,ROWS($D$105:D140)-1,COLUMNS($D$105:D140)-1),\"\")","v":"Stage 2: Remove 18' of jacked 36\" RCP from inlet end  & install inlet apron"},null,null,null,null,null,null,null,null,null,null,null,null,null,null,null,null,null,{"$f":"IF(OFFSET(DE104_3!$V$105,ROWS($V$105:V140)-1,COLUMNS($V$105:V140)-1)<>\"\",OFFSET(DE104_3!$V$105,ROWS($V$105:V140)-1,COLUMNS($V$105:V140)-1),\"\")","v":""},{"$f":"IF(OFFSET(DE104_3!$W$105,ROWS($W$105:W140)-1,COLUMNS($W$105:W140)-1)<>\"\",OFFSET(DE104_3!$W$105,ROWS($W$105:W140)-1,COLUMNS($W$105:W140)-1),\"\")","v":""},{"$f":"IF(OFFSET(DE104_3!$X$105,ROWS($X$105:X140)-1,COLUMNS($X$105:X140)-1)<>\"\",OFFSET(DE104_3!$X$105,ROWS($X$105:X140)-1,COLUMNS($X$105:X140)-1),\"\")","v":""},{"$f":"IF(OFFSET(DE104_3!$Y$105,ROWS($Y$105:Y140)-1,COLUMNS($Y$105:Y140)-1)<>\"\",OFFSET(DE104_3!$Y$105,ROWS($Y$105:Y140)-1,COLUMNS($Y$105:Y140)-1),\"\")","v":""},{"$f":"IF(OFFSET(DE104_3!$Z$105,ROWS($Z$105:Z140)-1,COLUMNS($Z$105:Z140)-1)<>\"\",OFFSET(DE104_3!$Z$105,ROWS($Z$105:Z140)-1,COLUMNS($Z$105:Z140)-1),\"\")","v":""},{"$f":"IF(OFFSET(DE104_3!$AA$105,ROWS($AA$105:AA140)-1,COLUMNS($AA$105:AA140)-1)<>\"\",OFFSET(DE104_3!$AA$105,ROWS($AA$105:AA140)-1,COLUMNS($AA$105:AA140)-1),\"\")","v":""},{"$f":"IF(OFFSET(DE104_3!$AB$105,ROWS($AB$105:AB140)-1,COLUMNS($AB$105:AB140)-1)<>\"\",OFFSET(DE104_3!$AB$105,ROWS($AB$105:AB140)-1,COLUMNS($AB$105:AB140)-1),\"\")","v":""},{"$f":"IF(OFFSET(DE104_3!$AC$105,ROWS($AC$105:AC140)-1,COLUMNS($AC$105:AC140)-1)<>\"\",OFFSET(DE104_3!$AC$105,ROWS($AC$105:AC140)-1,COLUMNS($AC$105:AC140)-1),\"\")","v":""},{"$f":"IF(OFFSET(DE104_3!$AD$105,ROWS($AD$105:AD140)-1,COLUMNS($AD$105:AD140)-1)<>\"\",OFFSET(DE104_3!$AD$105,ROWS($AD$105:AD140)-1,COLUMNS($AD$105:AD140)-1),\"\")","v":""},{"$f":"IF(OFFSET(DE104_3!$AE$105,ROWS($AE$105:AE140)-1,COLUMNS($AE$105:AE140)-1)<>\"\",OFFSET(DE104_3!$AE$105,ROWS($AE$105:AE140)-1,COLUMNS($AE$105:AE140)-1),\"\")","v":""},{"$f":"IF(OFFSET(DE104_3!$AF$105,ROWS($AF$105:AF140)-1,COLUMNS($AF$105:AF140)-1)<>\"\",OFFSET(DE104_3!$AF$105,ROWS($AF$105:AF140)-1,COLUMNS($AF$105:AF140)-1),\"\")","v":""},{"$f":"IF(OFFSET(DE104_3!$AG$105,ROWS($AG$105:AG140)-1,COLUMNS($AG$105:AG140)-1)<>\"\",OFFSET(DE104_3!$AG$105,ROWS($AG$105:AG140)-1,COLUMNS($AG$105:AG140)-1),\"\")","v":""},{"$f":"IF(OFFSET(DE104_3!$AH$105,ROWS($AH$105:AH140)-1,COLUMNS($AH$105:AH140)-1)<>\"\",OFFSET(DE104_3!$AH$105,ROWS($AH$105:AH140)-1,COLUMNS($AH$105:AH140)-1),\"\")","v":""},{"$f":"IF(OFFSET(DE104_3!$AI$105,ROWS($AI$105:AI140)-1,COLUMNS($AI$105:AI140)-1)<>\"\",OFFSET(DE104_3!$AI$105,ROWS($AI$105:AI140)-1,COLUMNS($AI$105:AI140)-1),\"\")","v":""},{"$f":"IF(OFFSET(DE104_3!$AJ$105,ROWS($AJ$105:AJ140)-1,COLUMNS($AJ$105:AJ140)-1)<>\"\",OFFSET(DE104_3!$AJ$105,ROWS($AJ$105:AJ140)-1,COLUMNS($AJ$105:AJ140)-1),\"\")","v":""},{"$f":"IF(OFFSET(DE104_3!$AK$105,ROWS($AK$105:AK140)-1,COLUMNS($AK$105:AK140)-1)<>\"\",OFFSET(DE104_3!$AK$105,ROWS($AK$105:AK140)-1,COLUMNS($AK$105:AK140)-1),\"\")","v":""},{"$f":"IF(OFFSET(DE104_3!$AL$105,ROWS($AL$105:AL140)-1,COLUMNS($AL$105:AL140)-1)<>\"\",OFFSET(DE104_3!$AL$105,ROWS($AL$105:AL140)-1,COLUMNS($AL$105:AL140)-1),\"\")","v":""},{"$f":"IF(OFFSET(DE104_3!$AM$105,ROWS($AM$105:AM140)-1,COLUMNS($AM$105:AM140)-1)<>\"\",OFFSET(DE104_3!$AM$105,ROWS($AM$105:AM140)-1,COLUMNS($AM$105:AM140)-1),\"\")","v":""},{"$f":"IF(OFFSET(DE104_3!$AN$105,ROWS($AN$105:AN140)-1,COLUMNS($AN$105:AN140)-1)<>\"\",OFFSET(DE104_3!$AN$105,ROWS($AN$105:AN140)-1,COLUMNS($AN$105:AN140)-1),\"\")","v":""},{"$f":"IF(OFFSET(DE104_3!$AO$105,ROWS($AO$105:AO140)-1,COLUMNS($AO$105:AO140)-1)<>\"\",OFFSET(DE104_3!$AO$105,ROWS($AO$105:AO140)-1,COLUMNS($AO$105:AO140)-1),\"\")","v":""},{"$f":"IF(OFFSET(DE104_3!$AP$105,ROWS($AP$105:AP140)-1,COLUMNS($AP$105:AP140)-1)<>\"\",OFFSET(DE104_3!$AP$105,ROWS($AP$105:AP140)-1,COLUMNS($AP$105:AP140)-1),\"\")","v":""},{"$f":"IF(OFFSET(DE104_3!$AQ$105,ROWS($AQ$105:AQ140)-1,COLUMNS($AQ$105:AQ140)-1)<>\"\",OFFSET(DE104_3!$AQ$105,ROWS($AQ$105:AQ140)-1,COLUMNS($AQ$105:AQ140)-1),\"\")","v":""}]
[{"$f":"IF(OFFSET(DE104_3!$C$105,ROWS($C$105:C141)-1,COLUMNS($C$105:C141)-1)<>\"\",OFFSET(DE104_3!$C$105,ROWS($C$105:C141)-1,COLUMNS($C$105:C141)-1),\"\")","v":"(6)"},{"$f":"IF(OFFSET(DE104_3!$D$105,ROWS($D$105:D141)-1,COLUMNS($D$105:D141)-1)<>\"\",OFFSET(DE104_3!$D$105,ROWS($D$105:D141)-1,COLUMNS($D$105:D141)-1),\"\")","v":"F=34.19; One 3° Elbow"},null,null,null,null,null,null,null,null,null,null,null,null,null,null,null,null,null,{"$f":"IF(OFFSET(DE104_3!$V$105,ROWS($V$105:V141)-1,COLUMNS($V$105:V141)-1)<>\"\",OFFSET(DE104_3!$V$105,ROWS($V$105:V141)-1,COLUMNS($V$105:V141)-1),\"\")","v":""},{"$f":"IF(OFFSET(DE104_3!$W$105,ROWS($W$105:W141)-1,COLUMNS($W$105:W141)-1)<>\"\",OFFSET(DE104_3!$W$105,ROWS($W$105:W141)-1,COLUMNS($W$105:W141)-1),\"\")","v":""},{"$f":"IF(OFFSET(DE104_3!$X$105,ROWS($X$105:X141)-1,COLUMNS($X$105:X141)-1)<>\"\",OFFSET(DE104_3!$X$105,ROWS($X$105:X141)-1,COLUMNS($X$105:X141)-1),\"\")","v":""},{"$f":"IF(OFFSET(DE104_3!$Y$105,ROWS($Y$105:Y141)-1,COLUMNS($Y$105:Y141)-1)<>\"\",OFFSET(DE104_3!$Y$105,ROWS($Y$105:Y141)-1,COLUMNS($Y$105:Y141)-1),\"\")","v":""},{"$f":"IF(OFFSET(DE104_3!$Z$105,ROWS($Z$105:Z141)-1,COLUMNS($Z$105:Z141)-1)<>\"\",OFFSET(DE104_3!$Z$105,ROWS($Z$105:Z141)-1,COLUMNS($Z$105:Z141)-1),\"\")","v":""},{"$f":"IF(OFFSET(DE104_3!$AA$105,ROWS($AA$105:AA141)-1,COLUMNS($AA$105:AA141)-1)<>\"\",OFFSET(DE104_3!$AA$105,ROWS($AA$105:AA141)-1,COLUMNS($AA$105:AA141)-1),\"\")","v":""},{"$f":"IF(OFFSET(DE104_3!$AB$105,ROWS($AB$105:AB141)-1,COLUMNS($AB$105:AB141)-1)<>\"\",OFFSET(DE104_3!$AB$105,ROWS($AB$105:AB141)-1,COLUMNS($AB$105:AB141)-1),\"\")","v":""},{"$f":"IF(OFFSET(DE104_3!$AC$105,ROWS($AC$105:AC141)-1,COLUMNS($AC$105:AC141)-1)<>\"\",OFFSET(DE104_3!$AC$105,ROWS($AC$105:AC141)-1,COLUMNS($AC$105:AC141)-1),\"\")","v":""},{"$f":"IF(OFFSET(DE104_3!$AD$105,ROWS($AD$105:AD141)-1,COLUMNS($AD$105:AD141)-1)<>\"\",OFFSET(DE104_3!$AD$105,ROWS($AD$105:AD141)-1,COLUMNS($AD$105:AD141)-1),\"\")","v":""},{"$f":"IF(OFFSET(DE104_3!$AE$105,ROWS($AE$105:AE141)-1,COLUMNS($AE$105:AE141)-1)<>\"\",OFFSET(DE104_3!$AE$105,ROWS($AE$105:AE141)-1,COLUMNS($AE$105:AE141)-1),\"\")","v":""},{"$f":"IF(OFFSET(DE104_3!$AF$105,ROWS($AF$105:AF141)-1,COLUMNS($AF$105:AF141)-1)<>\"\",OFFSET(DE104_3!$AF$105,ROWS($AF$105:AF141)-1,COLUMNS($AF$105:AF141)-1),\"\")","v":""},{"$f":"IF(OFFSET(DE104_3!$AG$105,ROWS($AG$105:AG141)-1,COLUMNS($AG$105:AG141)-1)<>\"\",OFFSET(DE104_3!$AG$105,ROWS($AG$105:AG141)-1,COLUMNS($AG$105:AG141)-1),\"\")","v":""},{"$f":"IF(OFFSET(DE104_3!$AH$105,ROWS($AH$105:AH141)-1,COLUMNS($AH$105:AH141)-1)<>\"\",OFFSET(DE104_3!$AH$105,ROWS($AH$105:AH141)-1,COLUMNS($AH$105:AH141)-1),\"\")","v":""},{"$f":"IF(OFFSET(DE104_3!$AI$105,ROWS($AI$105:AI141)-1,COLUMNS($AI$105:AI141)-1)<>\"\",OFFSET(DE104_3!$AI$105,ROWS($AI$105:AI141)-1,COLUMNS($AI$105:AI141)-1),\"\")","v":""},{"$f":"IF(OFFSET(DE104_3!$AJ$105,ROWS($AJ$105:AJ141)-1,COLUMNS($AJ$105:AJ141)-1)<>\"\",OFFSET(DE104_3!$AJ$105,ROWS($AJ$105:AJ141)-1,COLUMNS($AJ$105:AJ141)-1),\"\")","v":""},{"$f":"IF(OFFSET(DE104_3!$AK$105,ROWS($AK$105:AK141)-1,COLUMNS($AK$105:AK141)-1)<>\"\",OFFSET(DE104_3!$AK$105,ROWS($AK$105:AK141)-1,COLUMNS($AK$105:AK141)-1),\"\")","v":""},{"$f":"IF(OFFSET(DE104_3!$AL$105,ROWS($AL$105:AL141)-1,COLUMNS($AL$105:AL141)-1)<>\"\",OFFSET(DE104_3!$AL$105,ROWS($AL$105:AL141)-1,COLUMNS($AL$105:AL141)-1),\"\")","v":""},{"$f":"IF(OFFSET(DE104_3!$AM$105,ROWS($AM$105:AM141)-1,COLUMNS($AM$105:AM141)-1)<>\"\",OFFSET(DE104_3!$AM$105,ROWS($AM$105:AM141)-1,COLUMNS($AM$105:AM141)-1),\"\")","v":""},{"$f":"IF(OFFSET(DE104_3!$AN$105,ROWS($AN$105:AN141)-1,COLUMNS($AN$105:AN141)-1)<>\"\",OFFSET(DE104_3!$AN$105,ROWS($AN$105:AN141)-1,COLUMNS($AN$105:AN141)-1),\"\")","v":""},{"$f":"IF(OFFSET(DE104_3!$AO$105,ROWS($AO$105:AO141)-1,COLUMNS($AO$105:AO141)-1)<>\"\",OFFSET(DE104_3!$AO$105,ROWS($AO$105:AO141)-1,COLUMNS($AO$105:AO141)-1),\"\")","v":""},{"$f":"IF(OFFSET(DE104_3!$AP$105,ROWS($AP$105:AP141)-1,COLUMNS($AP$105:AP141)-1)<>\"\",OFFSET(DE104_3!$AP$105,ROWS($AP$105:AP141)-1,COLUMNS($AP$105:AP141)-1),\"\")","v":""},{"$f":"IF(OFFSET(DE104_3!$AQ$105,ROWS($AQ$105:AQ141)-1,COLUMNS($AQ$105:AQ141)-1)<>\"\",OFFSET(DE104_3!$AQ$105,ROWS($AQ$105:AQ141)-1,COLUMNS($AQ$105:AQ141)-1),\"\")","v":""}]
[{"$f":"IF(OFFSET(DE104_3!$C$105,ROWS($C$105:C142)-1,COLUMNS($C$105:C142)-1)<>\"\",OFFSET(DE104_3!$C$105,ROWS($C$105:C142)-1,COLUMNS($C$105:C142)-1),\"\")","v":"(7)"},{"$f":"IF(OFFSET(DE104_3!$D$105,ROWS($D$105:D142)-1,COLUMNS($D$105:D142)-1)<>\"\",OFFSET(DE104_3!$D$105,ROWS($D$105:D142)-1,COLUMNS($D$105:D142)-1),\"\")","v":"F=28.19; One 3° Elbow"},null,null,null,null,null,null,null,null,null,null,null,null,null,null,null,null,null,{"$f":"IF(OFFSET(DE104_3!$V$105,ROWS($V$105:V142)-1,COLUMNS($V$105:V142)-1)<>\"\",OFFSET(DE104_3!$V$105,ROWS($V$105:V142)-1,COLUMNS($V$105:V142)-1),\"\")","v":""},{"$f":"IF(OFFSET(DE104_3!$W$105,ROWS($W$105:W142)-1,COLUMNS($W$105:W142)-1)<>\"\",OFFSET(DE104_3!$W$105,ROWS($W$105:W142)-1,COLUMNS($W$105:W142)-1),\"\")","v":""},{"$f":"IF(OFFSET(DE104_3!$X$105,ROWS($X$105:X142)-1,COLUMNS($X$105:X142)-1)<>\"\",OFFSET(DE104_3!$X$105,ROWS($X$105:X142)-1,COLUMNS($X$105:X142)-1),\"\")","v":""},{"$f":"IF(OFFSET(DE104_3!$Y$105,ROWS($Y$105:Y142)-1,COLUMNS($Y$105:Y142)-1)<>\"\",OFFSET(DE104_3!$Y$105,ROWS($Y$105:Y142)-1,COLUMNS($Y$105:Y142)-1),\"\")","v":""},{"$f":"IF(OFFSET(DE104_3!$Z$105,ROWS($Z$105:Z142)-1,COLUMNS($Z$105:Z142)-1)<>\"\",OFFSET(DE104_3!$Z$105,ROWS($Z$105:Z142)-1,COLUMNS($Z$105:Z142)-1),\"\")","v":""},{"$f":"IF(OFFSET(DE104_3!$AA$105,ROWS($AA$105:AA142)-1,COLUMNS($AA$105:AA142)-1)<>\"\",OFFSET(DE104_3!$AA$105,ROWS($AA$105:AA142)-1,COLUMNS($AA$105:AA142)-1),\"\")","v":""},{"$f":"IF(OFFSET(DE104_3!$AB$105,ROWS($AB$105:AB142)-1,COLUMNS($AB$105:AB142)-1)<>\"\",OFFSET(DE104_3!$AB$105,ROWS($AB$105:AB142)-1,COLUMNS($AB$105:AB142)-1),\"\")","v":""},{"$f":"IF(OFFSET(DE104_3!$AC$105,ROWS($AC$105:AC142)-1,COLUMNS($AC$105:AC142)-1)<>\"\",OFFSET(DE104_3!$AC$105,ROWS($AC$105:AC142)-1,COLUMNS($AC$105:AC142)-1),\"\")","v":""},{"$f":"IF(OFFSET(DE104_3!$AD$105,ROWS($AD$105:AD142)-1,COLUMNS($AD$105:AD142)-1)<>\"\",OFFSET(DE104_3!$AD$105,ROWS($AD$105:AD142)-1,COLUMNS($AD$105:AD142)-1),\"\")","v":""},{"$f":"IF(OFFSET(DE104_3!$AE$105,ROWS($AE$105:AE142)-1,COLUMNS($AE$105:AE142)-1)<>\"\",OFFSET(DE104_3!$AE$105,ROWS($AE$105:AE142)-1,COLUMNS($AE$105:AE142)-1),\"\")","v":""},{"$f":"IF(OFFSET(DE104_3!$AF$105,ROWS($AF$105:AF142)-1,COLUMNS($AF$105:AF142)-1)<>\"\",OFFSET(DE104_3!$AF$105,ROWS($AF$105:AF142)-1,COLUMNS($AF$105:AF142)-1),\"\")","v":""},{"$f":"IF(OFFSET(DE104_3!$AG$105,ROWS($AG$105:AG142)-1,COLUMNS($AG$105:AG142)-1)<>\"\",OFFSET(DE104_3!$AG$105,ROWS($AG$105:AG142)-1,COLUMNS($AG$105:AG142)-1),\"\")","v":""},{"$f":"IF(OFFSET(DE104_3!$AH$105,ROWS($AH$105:AH142)-1,COLUMNS($AH$105:AH142)-1)<>\"\",OFFSET(DE104_3!$AH$105,ROWS($AH$105:AH142)-1,COLUMNS($AH$105:AH142)-1),\"\")","v":""},{"$f":"IF(OFFSET(DE104_3!$AI$105,ROWS($AI$105:AI142)-1,COLUMNS($AI$105:AI142)-1)<>\"\",OFFSET(DE104_3!$AI$105,ROWS($AI$105:AI142)-1,COLUMNS($AI$105:AI142)-1),\"\")","v":""},{"$f":"IF(OFFSET(DE104_3!$AJ$105,ROWS($AJ$105:AJ142)-1,COLUMNS($AJ$105:AJ142)-1)<>\"\",OFFSET(DE104_3!$AJ$105,ROWS($AJ$105:AJ142)-1,COLUMNS($AJ$105:AJ142)-1),\"\")","v":""},{"$f":"IF(OFFSET(DE104_3!$AK$105,ROWS($AK$105:AK142)-1,COLUMNS($AK$105:AK142)-1)<>\"\",OFFSET(DE104_3!$AK$105,ROWS($AK$105:AK142)-1,COLUMNS($AK$105:AK142)-1),\"\")","v":""},{"$f":"IF(OFFSET(DE104_3!$AL$105,ROWS($AL$105:AL142)-1,COLUMNS($AL$105:AL142)-1)<>\"\",OFFSET(DE104_3!$AL$105,ROWS($AL$105:AL142)-1,COLUMNS($AL$105:AL142)-1),\"\")","v":""},{"$f":"IF(OFFSET(DE104_3!$AM$105,ROWS($AM$105:AM142)-1,COLUMNS($AM$105:AM142)-1)<>\"\",OFFSET(DE104_3!$AM$105,ROWS($AM$105:AM142)-1,COLUMNS($AM$105:AM142)-1),\"\")","v":""},{"$f":"IF(OFFSET(DE104_3!$AN$105,ROWS($AN$105:AN142)-1,COLUMNS($AN$105:AN142)-1)<>\"\",OFFSET(DE104_3!$AN$105,ROWS($AN$105:AN142)-1,COLUMNS($AN$105:AN142)-1),\"\")","v":""},{"$f":"IF(OFFSET(DE104_3!$AO$105,ROWS($AO$105:AO142)-1,COLUMNS($AO$105:AO142)-1)<>\"\",OFFSET(DE104_3!$AO$105,ROWS($AO$105:AO142)-1,COLUMNS($AO$105:AO142)-1),\"\")","v":""},{"$f":"IF(OFFSET(DE104_3!$AP$105,ROWS($AP$105:AP142)-1,COLUMNS($AP$105:AP142)-1)<>\"\",OFFSET(DE104_3!$AP$105,ROWS($AP$105:AP142)-1,COLUMNS($AP$105:AP142)-1),\"\")","v":""},{"$f":"IF(OFFSET(DE104_3!$AQ$105,ROWS($AQ$105:AQ142)-1,COLUMNS($AQ$105:AQ142)-1)<>\"\",OFFSET(DE104_3!$AQ$105,ROWS($AQ$105:AQ142)-1,COLUMNS($AQ$105:AQ142)-1),\"\")","v":""}]
[{"$f":"IF(OFFSET(DE104_3!$C$105,ROWS($C$105:C143)-1,COLUMNS($C$105:C143)-1)<>\"\",OFFSET(DE104_3!$C$105,ROWS($C$105:C143)-1,COLUMNS($C$105:C143)-1),\"\")","v":""},{"$f":"IF(OFFSET(DE104_3!$D$105,ROWS($D$105:D143)-1,COLUMNS($D$105:D143)-1)<>\"\",OFFSET(DE104_3!$D$105,ROWS($D$105:D143)-1,COLUMNS($D$105:D143)-1),\"\")","v":""},{"$f":"IF(OFFSET(DE104_3!$E$105,ROWS($E$105:E143)-1,COLUMNS($E$105:E143)-1)<>\"\",OFFSET(DE104_3!$E$105,ROWS($E$105:E143)-1,COLUMNS($E$105:E143)-1),\"\")","v":""},{"$f":"IF(OFFSET(DE104_3!$F$105,ROWS($F$105:F143)-1,COLUMNS($F$105:F143)-1)<>\"\",OFFSET(DE104_3!$F$105,ROWS($F$105:F143)-1,COLUMNS($F$105:F143)-1),\"\")","v":""},{"$f":"IF(OFFSET(DE104_3!$G$105,ROWS($G$105:G143)-1,COLUMNS($G$105:G143)-1)<>\"\",OFFSET(DE104_3!$G$105,ROWS($G$105:G143)-1,COLUMNS($G$105:G143)-1),\"\")","v":""},{"$f":"IF(OFFSET(DE104_3!$H$105,ROWS($H$105:H143)-1,COLUMNS($H$105:H143)-1)<>\"\",OFFSET(DE104_3!$H$105,ROWS($H$105:H143)-1,COLUMNS($H$105:H143)-1),\"\")","v":""},{"$f":"IF(OFFSET(DE104_3!$I$105,ROWS($I$105:I143)-1,COLUMNS($I$105:I143)-1)<>\"\",OFFSET(DE104_3!$I$105,ROWS($I$105:I143)-1,COLUMNS($I$105:I143)-1),\"\")","v":""},{"$f":"IF(OFFSET(DE104_3!$J$105,ROWS($J$105:J143)-1,COLUMNS($J$105:J143)-1)<>\"\",OFFSET(DE104_3!$J$105,ROWS($J$105:J143)-1,COLUMNS($J$105:J143)-1),\"\")","v":""},{"$f":"IF(OFFSET(DE104_3!$K$105,ROWS($K$105:K143)-1,COLUMNS($K$105:K143)-1)<>\"\",OFFSET(DE104_3!$K$105,ROWS($K$105:K143)-1,COLUMNS($K$105:K143)-1),\"\")","v":""},{"$f":"IF(OFFSET(DE104_3!$L$105,ROWS($L$105:L143)-1,COLUMNS($L$105:L143)-1)<>\"\",OFFSET(DE104_3!$L$105,ROWS($L$105:L143)-1,COLUMNS($L$105:L143)-1),\"\")","v":""},{"$f":"IF(OFFSET(DE104_3!$M$105,ROWS($M$105:M143)-1,COLUMNS($M$105:M143)-1)<>\"\",OFFSET(DE104_3!$M$105,ROWS($M$105:M143)-1,COLUMNS($M$105:M143)-1),\"\")","v":""},{"$f":"IF(OFFSET(DE104_3!$N$105,ROWS($N$105:N143)-1,COLUMNS($N$105:N143)-1)<>\"\",OFFSET(DE104_3!$N$105,ROWS($N$105:N143)-1,COLUMNS($N$105:N143)-1),\"\")","v":""},{"$f":"IF(OFFSET(DE104_3!$O$105,ROWS($O$105:O143)-1,COLUMNS($O$105:O143)-1)<>\"\",OFFSET(DE104_3!$O$105,ROWS($O$105:O143)-1,COLUMNS($O$105:O143)-1),\"\")","v":""},{"$f":"IF(OFFSET(DE104_3!$P$105,ROWS($P$105:P143)-1,COLUMNS($P$105:P143)-1)<>\"\",OFFSET(DE104_3!$P$105,ROWS($P$105:P143)-1,COLUMNS($P$105:P143)-1),\"\")","v":""},{"$f":"IF(OFFSET(DE104_3!$Q$105,ROWS($Q$105:Q143)-1,COLUMNS($Q$105:Q143)-1)<>\"\",OFFSET(DE104_3!$Q$105,ROWS($Q$105:Q143)-1,COLUMNS($Q$105:Q143)-1),\"\")","v":""},{"$f":"IF(OFFSET(DE104_3!$R$105,ROWS($R$105:R143)-1,COLUMNS($R$105:R143)-1)<>\"\",OFFSET(DE104_3!$R$105,ROWS($R$105:R143)-1,COLUMNS($R$105:R143)-1),\"\")","v":""},{"$f":"IF(OFFSET(DE104_3!$S$105,ROWS($S$105:S143)-1,COLUMNS($S$105:S143)-1)<>\"\",OFFSET(DE104_3!$S$105,ROWS($S$105:S143)-1,COLUMNS($S$105:S143)-1),\"\")","v":""},{"$f":"IF(OFFSET(DE104_3!$T$105,ROWS($T$105:T143)-1,COLUMNS($T$105:T143)-1)<>\"\",OFFSET(DE104_3!$T$105,ROWS($T$105:T143)-1,COLUMNS($T$105:T143)-1),\"\")","v":""},{"$f":"IF(OFFSET(DE104_3!$U$105,ROWS($U$105:U143)-1,COLUMNS($U$105:U143)-1)<>\"\",OFFSET(DE104_3!$U$105,ROWS($U$105:U143)-1,COLUMNS($U$105:U143)-1),\"\")","v":""},{"$f":"IF(OFFSET(DE104_3!$V$105,ROWS($V$105:V143)-1,COLUMNS($V$105:V143)-1)<>\"\",OFFSET(DE104_3!$V$105,ROWS($V$105:V143)-1,COLUMNS($V$105:V143)-1),\"\")","v":""},{"$f":"IF(OFFSET(DE104_3!$W$105,ROWS($W$105:W143)-1,COLUMNS($W$105:W143)-1)<>\"\",OFFSET(DE104_3!$W$105,ROWS($W$105:W143)-1,COLUMNS($W$105:W143)-1),\"\")","v":""},{"$f":"IF(OFFSET(DE104_3!$X$105,ROWS($X$105:X143)-1,COLUMNS($X$105:X143)-1)<>\"\",OFFSET(DE104_3!$X$105,ROWS($X$105:X143)-1,COLUMNS($X$105:X143)-1),\"\")","v":""},{"$f":"IF(OFFSET(DE104_3!$Y$105,ROWS($Y$105:Y143)-1,COLUMNS($Y$105:Y143)-1)<>\"\",OFFSET(DE104_3!$Y$105,ROWS($Y$105:Y143)-1,COLUMNS($Y$105:Y143)-1),\"\")","v":""},{"$f":"IF(OFFSET(DE104_3!$Z$105,ROWS($Z$105:Z143)-1,COLUMNS($Z$105:Z143)-1)<>\"\",OFFSET(DE104_3!$Z$105,ROWS($Z$105:Z143)-1,COLUMNS($Z$105:Z143)-1),\"\")","v":""},{"$f":"IF(OFFSET(DE104_3!$AA$105,ROWS($AA$105:AA143)-1,COLUMNS($AA$105:AA143)-1)<>\"\",OFFSET(DE104_3!$AA$105,ROWS($AA$105:AA143)-1,COLUMNS($AA$105:AA143)-1),\"\")","v":""},{"$f":"IF(OFFSET(DE104_3!$AB$105,ROWS($AB$105:AB143)-1,COLUMNS($AB$105:AB143)-1)<>\"\",OFFSET(DE104_3!$AB$105,ROWS($AB$105:AB143)-1,COLUMNS($AB$105:AB143)-1),\"\")","v":""},{"$f":"IF(OFFSET(DE104_3!$AC$105,ROWS($AC$105:AC143)-1,COLUMNS($AC$105:AC143)-1)<>\"\",OFFSET(DE104_3!$AC$105,ROWS($AC$105:AC143)-1,COLUMNS($AC$105:AC143)-1),\"\")","v":""},{"$f":"IF(OFFSET(DE104_3!$AD$105,ROWS($AD$105:AD143)-1,COLUMNS($AD$105:AD143)-1)<>\"\",OFFSET(DE104_3!$AD$105,ROWS($AD$105:AD143)-1,COLUMNS($AD$105:AD143)-1),\"\")","v":""},{"$f":"IF(OFFSET(DE104_3!$AE$105,ROWS($AE$105:AE143)-1,COLUMNS($AE$105:AE143)-1)<>\"\",OFFSET(DE104_3!$AE$105,ROWS($AE$105:AE143)-1,COLUMNS($AE$105:AE143)-1),\"\")","v":""},{"$f":"IF(OFFSET(DE104_3!$AF$105,ROWS($AF$105:AF143)-1,COLUMNS($AF$105:AF143)-1)<>\"\",OFFSET(DE104_3!$AF$105,ROWS($AF$105:AF143)-1,COLUMNS($AF$105:AF143)-1),\"\")","v":""},{"$f":"IF(OFFSET(DE104_3!$AG$105,ROWS($AG$105:AG143)-1,COLUMNS($AG$105:AG143)-1)<>\"\",OFFSET(DE104_3!$AG$105,ROWS($AG$105:AG143)-1,COLUMNS($AG$105:AG143)-1),\"\")","v":""},{"$f":"IF(OFFSET(DE104_3!$AH$105,ROWS($AH$105:AH143)-1,COLUMNS($AH$105:AH143)-1)<>\"\",OFFSET(DE104_3!$AH$105,ROWS($AH$105:AH143)-1,COLUMNS($AH$105:AH143)-1),\"\")","v":""},{"$f":"IF(OFFSET(DE104_3!$AI$105,ROWS($AI$105:AI143)-1,COLUMNS($AI$105:AI143)-1)<>\"\",OFFSET(DE104_3!$AI$105,ROWS($AI$105:AI143)-1,COLUMNS($AI$105:AI143)-1),\"\")","v":""},{"$f":"IF(OFFSET(DE104_3!$AJ$105,ROWS($AJ$105:AJ143)-1,COLUMNS($AJ$105:AJ143)-1)<>\"\",OFFSET(DE104_3!$AJ$105,ROWS($AJ$105:AJ143)-1,COLUMNS($AJ$105:AJ143)-1),\"\")","v":""},{"$f":"IF(OFFSET(DE104_3!$AK$105,ROWS($AK$105:AK143)-1,COLUMNS($AK$105:AK143)-1)<>\"\",OFFSET(DE104_3!$AK$105,ROWS($AK$105:AK143)-1,COLUMNS($AK$105:AK143)-1),\"\")","v":""},{"$f":"IF(OFFSET(DE104_3!$AL$105,ROWS($AL$105:AL143)-1,COLUMNS($AL$105:AL143)-1)<>\"\",OFFSET(DE104_3!$AL$105,ROWS($AL$105:AL143)-1,COLUMNS($AL$105:AL143)-1),\"\")","v":""},{"$f":"IF(OFFSET(DE104_3!$AM$105,ROWS($AM$105:AM143)-1,COLUMNS($AM$105:AM143)-1)<>\"\",OFFSET(DE104_3!$AM$105,ROWS($AM$105:AM143)-1,COLUMNS($AM$105:AM143)-1),\"\")","v":""},{"$f":"IF(OFFSET(DE104_3!$AN$105,ROWS($AN$105:AN143)-1,COLUMNS($AN$105:AN143)-1)<>\"\",OFFSET(DE104_3!$AN$105,ROWS($AN$105:AN143)-1,COLUMNS($AN$105:AN143)-1),\"\")","v":""},{"$f":"IF(OFFSET(DE104_3!$AO$105,ROWS($AO$105:AO143)-1,COLUMNS($AO$105:AO143)-1)<>\"\",OFFSET(DE104_3!$AO$105,ROWS($AO$105:AO143)-1,COLUMNS($AO$105:AO143)-1),\"\")","v":""},{"$f":"IF(OFFSET(DE104_3!$AP$105,ROWS($AP$105:AP143)-1,COLUMNS($AP$105:AP143)-1)<>\"\",OFFSET(DE104_3!$AP$105,ROWS($AP$105:AP143)-1,COLUMNS($AP$105:AP143)-1),\"\")","v":""},{"$f":"IF(OFFSET(DE104_3!$AQ$105,ROWS($AQ$105:AQ143)-1,COLUMNS($AQ$105:AQ143)-1)<>\"\",OFFSET(DE104_3!$AQ$105,ROWS($AQ$105:AQ143)-1,COLUMNS($AQ$105:AQ143)-1),\"\")","v":""}]
[{"$f":"IF(OFFSET(DE104_3!$C$105,ROWS($C$105:C144)-1,COLUMNS($C$105:C144)-1)<>\"\",OFFSET(DE104_3!$C$105,ROWS($C$105:C144)-1,COLUMNS($C$105:C144)-1),\"\")","v":""},{"$f":"IF(OFFSET(DE104_3!$D$105,ROWS($D$105:D144)-1,COLUMNS($D$105:D144)-1)<>\"\",OFFSET(DE104_3!$D$105,ROWS($D$105:D144)-1,COLUMNS($D$105:D144)-1),\"\")","v":""},{"$f":"IF(OFFSET(DE104_3!$E$105,ROWS($E$105:E144)-1,COLUMNS($E$105:E144)-1)<>\"\",OFFSET(DE104_3!$E$105,ROWS($E$105:E144)-1,COLUMNS($E$105:E144)-1),\"\")","v":""},{"$f":"IF(OFFSET(DE104_3!$F$105,ROWS($F$105:F144)-1,COLUMNS($F$105:F144)-1)<>\"\",OFFSET(DE104_3!$F$105,ROWS($F$105:F144)-1,COLUMNS($F$105:F144)-1),\"\")","v":""},{"$f":"IF(OFFSET(DE104_3!$G$105,ROWS($G$105:G144)-1,COLUMNS($G$105:G144)-1)<>\"\",OFFSET(DE104_3!$G$105,ROWS($G$105:G144)-1,COLUMNS($G$105:G144)-1),\"\")","v":""},{"$f":"IF(OFFSET(DE104_3!$H$105,ROWS($H$105:H144)-1,COLUMNS($H$105:H144)-1)<>\"\",OFFSET(DE104_3!$H$105,ROWS($H$105:H144)-1,COLUMNS($H$105:H144)-1),\"\")","v":""},{"$f":"IF(OFFSET(DE104_3!$I$105,ROWS($I$105:I144)-1,COLUMNS($I$105:I144)-1)<>\"\",OFFSET(DE104_3!$I$105,ROWS($I$105:I144)-1,COLUMNS($I$105:I144)-1),\"\")","v":""},{"$f":"IF(OFFSET(DE104_3!$J$105,ROWS($J$105:J144)-1,COLUMNS($J$105:J144)-1)<>\"\",OFFSET(DE104_3!$J$105,ROWS($J$105:J144)-1,COLUMNS($J$105:J144)-1),\"\")","v":""},{"$f":"IF(OFFSET(DE104_3!$K$105,ROWS($K$105:K144)-1,COLUMNS($K$105:K144)-1)<>\"\",OFFSET(DE104_3!$K$105,ROWS($K$105:K144)-1,COLUMNS($K$105:K144)-1),\"\")","v":""},{"$f":"IF(OFFSET(DE104_3!$L$105,ROWS($L$105:L144)-1,COLUMNS($L$105:L144)-1)<>\"\",OFFSET(DE104_3!$L$105,ROWS($L$105:L144)-1,COLUMNS($L$105:L144)-1),\"\")","v":""},{"$f":"IF(OFFSET(DE104_3!$M$105,ROWS($M$105:M144)-1,COLUMNS($M$105:M144)-1)<>\"\",OFFSET(DE104_3!$M$105,ROWS($M$105:M144)-1,COLUMNS($M$105:M144)-1),\"\")","v":""},{"$f":"IF(OFFSET(DE104_3!$N$105,ROWS($N$105:N144)-1,COLUMNS($N$105:N144)-1)<>\"\",OFFSET(DE104_3!$N$105,ROWS($N$105:N144)-1,COLUMNS($N$105:N144)-1),\"\")","v":""},{"$f":"IF(OFFSET(DE104_3!$O$105,ROWS($O$105:O144)-1,COLUMNS($O$105:O144)-1)<>\"\",OFFSET(DE104_3!$O$105,ROWS($O$105:O144)-1,COLUMNS($O$105:O144)-1),\"\")","v":""},{"$f":"IF(OFFSET(DE104_3!$P$105,ROWS($P$105:P144)-1,COLUMNS($P$105:P144)-1)<>\"\",OFFSET(DE104_3!$P$105,ROWS($P$105:P144)-1,COLUMNS($P$105:P144)-1),\"\")","v":""},{"$f":"IF(OFFSET(DE104_3!$Q$105,ROWS($Q$105:Q144)-1,COLUMNS($Q$105:Q144)-1)<>\"\",OFFSET(DE104_3!$Q$105,ROWS($Q$105:Q144)-1,COLUMNS($Q$105:Q144)-1),\"\")","v":""},{"$f":"IF(OFFSET(DE104_3!$R$105,ROWS($R$105:R144)-1,COLUMNS($R$105:R144)-1)<>\"\",OFFSET(DE104_3!$R$105,ROWS($R$105:R144)-1,COLUMNS($R$105:R144)-1),\"\")","v":""},{"$f":"IF(OFFSET(DE104_3!$S$105,ROWS($S$105:S144)-1,COLUMNS($S$105:S144)-1)<>\"\",OFFSET(DE104_3!$S$105,ROWS($S$105:S144)-1,COLUMNS($S$105:S144)-1),\"\")","v":""},{"$f":"IF(OFFSET(DE104_3!$T$105,ROWS($T$105:T144)-1,COLUMNS($T$105:T144)-1)<>\"\",OFFSET(DE104_3!$T$105,ROWS($T$105:T144)-1,COLUMNS($T$105:T144)-1),\"\")","v":""},{"$f":"IF(OFFSET(DE104_3!$U$105,ROWS($U$105:U144)-1,COLUMNS($U$105:U144)-1)<>\"\",OFFSET(DE104_3!$U$105,ROWS($U$105:U144)-1,COLUMNS($U$105:U144)-1),\"\")","v":""},{"$f":"IF(OFFSET(DE104_3!$V$105,ROWS($V$105:V144)-1,COLUMNS($V$105:V144)-1)<>\"\",OFFSET(DE104_3!$V$105,ROWS($V$105:V144)-1,COLUMNS($V$105:V144)-1),\"\")","v":""},{"$f":"IF(OFFSET(DE104_3!$W$105,ROWS($W$105:W144)-1,COLUMNS($W$105:W144)-1)<>\"\",OFFSET(DE104_3!$W$105,ROWS($W$105:W144)-1,COLUMNS($W$105:W144)-1),\"\")","v":""},{"$f":"IF(OFFSET(DE104_3!$X$105,ROWS($X$105:X144)-1,COLUMNS($X$105:X144)-1)<>\"\",OFFSET(DE104_3!$X$105,ROWS($X$105:X144)-1,COLUMNS($X$105:X144)-1),\"\")","v":""},{"$f":"IF(OFFSET(DE104_3!$Y$105,ROWS($Y$105:Y144)-1,COLUMNS($Y$105:Y144)-1)<>\"\",OFFSET(DE104_3!$Y$105,ROWS($Y$105:Y144)-1,COLUMNS($Y$105:Y144)-1),\"\")","v":""},{"$f":"IF(OFFSET(DE104_3!$Z$105,ROWS($Z$105:Z144)-1,COLUMNS($Z$105:Z144)-1)<>\"\",OFFSET(DE104_3!$Z$105,ROWS($Z$105:Z144)-1,COLUMNS($Z$105:Z144)-1),\"\")","v":""},{"$f":"IF(OFFSET(DE104_3!$AA$105,ROWS($AA$105:AA144)-1,COLUMNS($AA$105:AA144)-1)<>\"\",OFFSET(DE104_3!$AA$105,ROWS($AA$105:AA144)-1,COLUMNS($AA$105:AA144)-1),\"\")","v":""},{"$f":"IF(OFFSET(DE104_3!$AB$105,ROWS($AB$105:AB144)-1,COLUMNS($AB$105:AB144)-1)<>\"\",OFFSET(DE104_3!$AB$105,ROWS($AB$105:AB144)-1,COLUMNS($AB$105:AB144)-1),\"\")","v":""},{"$f":"IF(OFFSET(DE104_3!$AC$105,ROWS($AC$105:AC144)-1,COLUMNS($AC$105:AC144)-1)<>\"\",OFFSET(DE104_3!$AC$105,ROWS($AC$105:AC144)-1,COLUMNS($AC$105:AC144)-1),\"\")","v":""},{"$f":"IF(OFFSET(DE104_3!$AD$105,ROWS($AD$105:AD144)-1,COLUMNS($AD$105:AD144)-1)<>\"\",OFFSET(DE104_3!$AD$105,ROWS($AD$105:AD144)-1,COLUMNS($AD$105:AD144)-1),\"\")","v":""},{"$f":"IF(OFFSET(DE104_3!$AE$105,ROWS($AE$105:AE144)-1,COLUMNS($AE$105:AE144)-1)<>\"\",OFFSET(DE104_3!$AE$105,ROWS($AE$105:AE144)-1,COLUMNS($AE$105:AE144)-1),\"\")","v":""},{"$f":"IF(OFFSET(DE104_3!$AF$105,ROWS($AF$105:AF144)-1,COLUMNS($AF$105:AF144)-1)<>\"\",OFFSET(DE104_3!$AF$105,ROWS($AF$105:AF144)-1,COLUMNS($AF$105:AF144)-1),\"\")","v":""},{"$f":"IF(OFFSET(DE104_3!$AG$105,ROWS($AG$105:AG144)-1,COLUMNS($AG$105:AG144)-1)<>\"\",OFFSET(DE104_3!$AG$105,ROWS($AG$105:AG144)-1,COLUMNS($AG$105:AG144)-1),\"\")","v":""},{"$f":"IF(OFFSET(DE104_3!$AH$105,ROWS($AH$105:AH144)-1,COLUMNS($AH$105:AH144)-1)<>\"\",OFFSET(DE104_3!$AH$105,ROWS($AH$105:AH144)-1,COLUMNS($AH$105:AH144)-1),\"\")","v":""},{"$f":"IF(OFFSET(DE104_3!$AI$105,ROWS($AI$105:AI144)-1,COLUMNS($AI$105:AI144)-1)<>\"\",OFFSET(DE104_3!$AI$105,ROWS($AI$105:AI144)-1,COLUMNS($AI$105:AI144)-1),\"\")","v":""},{"$f":"IF(OFFSET(DE104_3!$AJ$105,ROWS($AJ$105:AJ144)-1,COLUMNS($AJ$105:AJ144)-1)<>\"\",OFFSET(DE104_3!$AJ$105,ROWS($AJ$105:AJ144)-1,COLUMNS($AJ$105:AJ144)-1),\"\")","v":""},{"$f":"IF(OFFSET(DE104_3!$AK$105,ROWS($AK$105:AK144)-1,COLUMNS($AK$105:AK144)-1)<>\"\",OFFSET(DE104_3!$AK$105,ROWS($AK$105:AK144)-1,COLUMNS($AK$105:AK144)-1),\"\")","v":""},{"$f":"IF(OFFSET(DE104_3!$AL$105,ROWS($AL$105:AL144)-1,COLUMNS($AL$105:AL144)-1)<>\"\",OFFSET(DE104_3!$AL$105,ROWS($AL$105:AL144)-1,COLUMNS($AL$105:AL144)-1),\"\")","v":""},{"$f":"IF(OFFSET(DE104_3!$AM$105,ROWS($AM$105:AM144)-1,COLUMNS($AM$105:AM144)-1)<>\"\",OFFSET(DE104_3!$AM$105,ROWS($AM$105:AM144)-1,COLUMNS($AM$105:AM144)-1),\"\")","v":""},{"$f":"IF(OFFSET(DE104_3!$AN$105,ROWS($AN$105:AN144)-1,COLUMNS($AN$105:AN144)-1)<>\"\",OFFSET(DE104_3!$AN$105,ROWS($AN$105:AN144)-1,COLUMNS($AN$105:AN144)-1),\"\")","v":""},{"$f":"IF(OFFSET(DE104_3!$AO$105,ROWS($AO$105:AO144)-1,COLUMNS($AO$105:AO144)-1)<>\"\",OFFSET(DE104_3!$AO$105,ROWS($AO$105:AO144)-1,COLUMNS($AO$105:AO144)-1),\"\")","v":""},{"$f":"IF(OFFSET(DE104_3!$AP$105,ROWS($AP$105:AP144)-1,COLUMNS($AP$105:AP144)-1)<>\"\",OFFSET(DE104_3!$AP$105,ROWS($AP$105:AP144)-1,COLUMNS($AP$105:AP144)-1),\"\")","v":""},{"$f":"IF(OFFSET(DE104_3!$AQ$105,ROWS($AQ$105:AQ144)-1,COLUMNS($AQ$105:AQ144)-1)<>\"\",OFFSET(DE104_3!$AQ$105,ROWS($AQ$105:AQ144)-1,COLUMNS($AQ$105:AQ144)-1),\"\")","v":""}]
[{"$f":"IF(OFFSET(DE104_3!$C$105,ROWS($C$105:C145)-1,COLUMNS($C$105:C145)-1)<>\"\",OFFSET(DE104_3!$C$105,ROWS($C$105:C145)-1,COLUMNS($C$105:C145)-1),\"\")","v":""},{"$f":"IF(OFFSET(DE104_3!$D$105,ROWS($D$105:D145)-1,COLUMNS($D$105:D145)-1)<>\"\",OFFSET(DE104_3!$D$105,ROWS($D$105:D145)-1,COLUMNS($D$105:D145)-1),\"\")","v":""},{"$f":"IF(OFFSET(DE104_3!$E$105,ROWS($E$105:E145)-1,COLUMNS($E$105:E145)-1)<>\"\",OFFSET(DE104_3!$E$105,ROWS($E$105:E145)-1,COLUMNS($E$105:E145)-1),\"\")","v":""},{"$f":"IF(OFFSET(DE104_3!$F$105,ROWS($F$105:F145)-1,COLUMNS($F$105:F145)-1)<>\"\",OFFSET(DE104_3!$F$105,ROWS($F$105:F145)-1,COLUMNS($F$105:F145)-1),\"\")","v":""},{"$f":"IF(OFFSET(DE104_3!$G$105,ROWS($G$105:G145)-1,COLUMNS($G$105:G145)-1)<>\"\",OFFSET(DE104_3!$G$105,ROWS($G$105:G145)-1,COLUMNS($G$105:G145)-1),\"\")","v":""},{"$f":"IF(OFFSET(DE104_3!$H$105,ROWS($H$105:H145)-1,COLUMNS($H$105:H145)-1)<>\"\",OFFSET(DE104_3!$H$105,ROWS($H$105:H145)-1,COLUMNS($H$105:H145)-1),\"\")","v":""},{"$f":"IF(OFFSET(DE104_3!$I$105,ROWS($I$105:I145)-1,COLUMNS($I$105:I145)-1)<>\"\",OFFSET(DE104_3!$I$105,ROWS($I$105:I145)-1,COLUMNS($I$105:I145)-1),\"\")","v":""},{"$f":"IF(OFFSET(DE104_3!$J$105,ROWS($J$105:J145)-1,COLUMNS($J$105:J145)-1)<>\"\",OFFSET(DE104_3!$J$105,ROWS($J$105:J145)-1,COLUMNS($J$105:J145)-1),\"\")","v":""},{"$f":"IF(OFFSET(DE104_3!$K$105,ROWS($K$105:K145)-1,COLUMNS($K$105:K145)-1)<>\"\",OFFSET(DE104_3!$K$105,ROWS($K$105:K145)-1,COLUMNS($K$105:K145)-1),\"\")","v":""},{"$f":"IF(OFFSET(DE104_3!$L$105,ROWS($L$105:L145)-1,COLUMNS($L$105:L145)-1)<>\"\",OFFSET(DE104_3!$L$105,ROWS($L$105:L145)-1,COLUMNS($L$105:L145)-1),\"\")","v":""},{"$f":"IF(OFFSET(DE104_3!$M$105,ROWS($M$105:M145)-1,COLUMNS($M$105:M145)-1)<>\"\",OFFSET(DE104_3!$M$105,ROWS($M$105:M145)-1,COLUMNS($M$105:M145)-1),\"\")","v":""},{"$f":"IF(OFFSET(DE104_3!$N$105,ROWS($N$105:N145)-1,COLUMNS($N$105:N145)-1)<>\"\",OFFSET(DE104_3!$N$105,ROWS($N$105:N145)-1,COLUMNS($N$105:N145)-1),\"\")","v":""},{"$f":"IF(OFFSET(DE104_3!$O$105,ROWS($O$105:O145)-1,COLUMNS($O$105:O145)-1)<>\"\",OFFSET(DE104_3!$O$105,ROWS($O$105:O145)-1,COLUMNS($O$105:O145)-1),\"\")","v":""},{"$f":"IF(OFFSET(DE104_3!$P$105,ROWS($P$105:P145)-1,COLUMNS($P$105:P145)-1)<>\"\",OFFSET(DE104_3!$P$105,ROWS($P$105:P145)-1,COLUMNS($P$105:P145)-1),\"\")","v":""},{"$f":"IF(OFFSET(DE104_3!$Q$105,ROWS($Q$105:Q145)-1,COLUMNS($Q$105:Q145)-1)<>\"\",OFFSET(DE104_3!$Q$105,ROWS($Q$105:Q145)-1,COLUMNS($Q$105:Q145)-1),\"\")","v":""},{"$f":"IF(OFFSET(DE104_3!$R$105,ROWS($R$105:R145)-1,COLUMNS($R$105:R145)-1)<>\"\",OFFSET(DE104_3!$R$105,ROWS($R$105:R145)-1,COLUMNS($R$105:R145)-1),\"\")","v":""},{"$f":"IF(OFFSET(DE104_3!$S$105,ROWS($S$105:S145)-1,COLUMNS($S$105:S145)-1)<>\"\",OFFSET(DE104_3!$S$105,ROWS($S$105:S145)-1,COLUMNS($S$105:S145)-1),\"\")","v":""},{"$f":"IF(OFFSET(DE104_3!$T$105,ROWS($T$105:T145)-1,COLUMNS($T$105:T145)-1)<>\"\",OFFSET(DE104_3!$T$105,ROWS($T$105:T145)-1,COLUMNS($T$105:T145)-1),\"\")","v":""},{"$f":"IF(OFFSET(DE104_3!$U$105,ROWS($U$105:U145)-1,COLUMNS($U$105:U145)-1)<>\"\",OFFSET(DE104_3!$U$105,ROWS($U$105:U145)-1,COLUMNS($U$105:U145)-1),\"\")","v":""},{"$f":"IF(OFFSET(DE104_3!$V$105,ROWS($V$105:V145)-1,COLUMNS($V$105:V145)-1)<>\"\",OFFSET(DE104_3!$V$105,ROWS($V$105:V145)-1,COLUMNS($V$105:V145)-1),\"\")","v":""},{"$f":"IF(OFFSET(DE104_3!$W$105,ROWS($W$105:W145)-1,COLUMNS($W$105:W145)-1)<>\"\",OFFSET(DE104_3!$W$105,ROWS($W$105:W145)-1,COLUMNS($W$105:W145)-1),\"\")","v":""},{"$f":"IF(OFFSET(DE104_3!$X$105,ROWS($X$105:X145)-1,COLUMNS($X$105:X145)-1)<>\"\",OFFSET(DE104_3!$X$105,ROWS($X$105:X145)-1,COLUMNS($X$105:X145)-1),\"\")","v":""},{"$f":"IF(OFFSET(DE104_3!$Y$105,ROWS($Y$105:Y145)-1,COLUMNS($Y$105:Y145)-1)<>\"\",OFFSET(DE104_3!$Y$105,ROWS($Y$105:Y145)-1,COLUMNS($Y$105:Y145)-1),\"\")","v":""},{"$f":"IF(OFFSET(DE104_3!$Z$105,ROWS($Z$105:Z145)-1,COLUMNS($Z$105:Z145)-1)<>\"\",OFFSET(DE104_3!$Z$105,ROWS($Z$105:Z145)-1,COLUMNS($Z$105:Z145)-1),\"\")","v":""},{"$f":"IF(OFFSET(DE104_3!$AA$105,ROWS($AA$105:AA145)-1,COLUMNS($AA$105:AA145)-1)<>\"\",OFFSET(DE104_3!$AA$105,ROWS($AA$105:AA145)-1,COLUMNS($AA$105:AA145)-1),\"\")","v":""},{"$f":"IF(OFFSET(DE104_3!$AB$105,ROWS($AB$105:AB145)-1,COLUMNS($AB$105:AB145)-1)<>\"\",OFFSET(DE104_3!$AB$105,ROWS($AB$105:AB145)-1,COLUMNS($AB$105:AB145)-1),\"\")","v":""},{"$f":"IF(OFFSET(DE104_3!$AC$105,ROWS($AC$105:AC145)-1,COLUMNS($AC$105:AC145)-1)<>\"\",OFFSET(DE104_3!$AC$105,ROWS($AC$105:AC145)-1,COLUMNS($AC$105:AC145)-1),\"\")","v":""},{"$f":"IF(OFFSET(DE104_3!$AD$105,ROWS($AD$105:AD145)-1,COLUMNS($AD$105:AD145)-1)<>\"\",OFFSET(DE104_3!$AD$105,ROWS($AD$105:AD145)-1,COLUMNS($AD$105:AD145)-1),\"\")","v":""},{"$f":"IF(OFFSET(DE104_3!$AE$105,ROWS($AE$105:AE145)-1,COLUMNS($AE$105:AE145)-1)<>\"\",OFFSET(DE104_3!$AE$105,ROWS($AE$105:AE145)-1,COLUMNS($AE$105:AE145)-1),\"\")","v":""},{"$f":"IF(OFFSET(DE104_3!$AF$105,ROWS($AF$105:AF145)-1,COLUMNS($AF$105:AF145)-1)<>\"\",OFFSET(DE104_3!$AF$105,ROWS($AF$105:AF145)-1,COLUMNS($AF$105:AF145)-1),\"\")","v":""},{"$f":"IF(OFFSET(DE104_3!$AG$105,ROWS($AG$105:AG145)-1,COLUMNS($AG$105:AG145)-1)<>\"\",OFFSET(DE104_3!$AG$105,ROWS($AG$105:AG145)-1,COLUMNS($AG$105:AG145)-1),\"\")","v":""},{"$f":"IF(OFFSET(DE104_3!$AH$105,ROWS($AH$105:AH145)-1,COLUMNS($AH$105:AH145)-1)<>\"\",OFFSET(DE104_3!$AH$105,ROWS($AH$105:AH145)-1,COLUMNS($AH$105:AH145)-1),\"\")","v":""},{"$f":"IF(OFFSET(DE104_3!$AI$105,ROWS($AI$105:AI145)-1,COLUMNS($AI$105:AI145)-1)<>\"\",OFFSET(DE104_3!$AI$105,ROWS($AI$105:AI145)-1,COLUMNS($AI$105:AI145)-1),\"\")","v":""},{"$f":"IF(OFFSET(DE104_3!$AJ$105,ROWS($AJ$105:AJ145)-1,COLUMNS($AJ$105:AJ145)-1)<>\"\",OFFSET(DE104_3!$AJ$105,ROWS($AJ$105:AJ145)-1,COLUMNS($AJ$105:AJ145)-1),\"\")","v":""},{"$f":"IF(OFFSET(DE104_3!$AK$105,ROWS($AK$105:AK145)-1,COLUMNS($AK$105:AK145)-1)<>\"\",OFFSET(DE104_3!$AK$105,ROWS($AK$105:AK145)-1,COLUMNS($AK$105:AK145)-1),\"\")","v":""},{"$f":"IF(OFFSET(DE104_3!$AL$105,ROWS($AL$105:AL145)-1,COLUMNS($AL$105:AL145)-1)<>\"\",OFFSET(DE104_3!$AL$105,ROWS($AL$105:AL145)-1,COLUMNS($AL$105:AL145)-1),\"\")","v":""},{"$f":"IF(OFFSET(DE104_3!$AM$105,ROWS($AM$105:AM145)-1,COLUMNS($AM$105:AM145)-1)<>\"\",OFFSET(DE104_3!$AM$105,ROWS($AM$105:AM145)-1,COLUMNS($AM$105:AM145)-1),\"\")","v":""},{"$f":"IF(OFFSET(DE104_3!$AN$105,ROWS($AN$105:AN145)-1,COLUMNS($AN$105:AN145)-1)<>\"\",OFFSET(DE104_3!$AN$105,ROWS($AN$105:AN145)-1,COLUMNS($AN$105:AN145)-1),\"\")","v":""},{"$f":"IF(OFFSET(DE104_3!$AO$105,ROWS($AO$105:AO145)-1,COLUMNS($AO$105:AO145)-1)<>\"\",OFFSET(DE104_3!$AO$105,ROWS($AO$105:AO145)-1,COLUMNS($AO$105:AO145)-1),\"\")","v":""},{"$f":"IF(OFFSET(DE104_3!$AP$105,ROWS($AP$105:AP145)-1,COLUMNS($AP$105:AP145)-1)<>\"\",OFFSET(DE104_3!$AP$105,ROWS($AP$105:AP145)-1,COLUMNS($AP$105:AP145)-1),\"\")","v":""},{"$f":"IF(OFFSET(DE104_3!$AQ$105,ROWS($AQ$105:AQ145)-1,COLUMNS($AQ$105:AQ145)-1)<>\"\",OFFSET(DE104_3!$AQ$105,ROWS($AQ$105:AQ145)-1,COLUMNS($AQ$105:AQ145)-1),\"\")","v":""}]
[{"$f":"IF(OFFSET(DE104_3!$C$105,ROWS($C$105:C146)-1,COLUMNS($C$105:C146)-1)<>\"\",OFFSET(DE104_3!$C$105,ROWS($C$105:C146)-1,COLUMNS($C$105:C146)-1),\"\")","v":""},{"$f":"IF(OFFSET(DE104_3!$D$105,ROWS($D$105:D146)-1,COLUMNS($D$105:D146)-1)<>\"\",OFFSET(DE104_3!$D$105,ROWS($D$105:D146)-1,COLUMNS($D$105:D146)-1),\"\")","v":""},{"$f":"IF(OFFSET(DE104_3!$E$105,ROWS($E$105:E146)-1,COLUMNS($E$105:E146)-1)<>\"\",OFFSET(DE104_3!$E$105,ROWS($E$105:E146)-1,COLUMNS($E$105:E146)-1),\"\")","v":""},{"$f":"IF(OFFSET(DE104_3!$F$105,ROWS($F$105:F146)-1,COLUMNS($F$105:F146)-1)<>\"\",OFFSET(DE104_3!$F$105,ROWS($F$105:F146)-1,COLUMNS($F$105:F146)-1),\"\")","v":""},{"$f":"IF(OFFSET(DE104_3!$G$105,ROWS($G$105:G146)-1,COLUMNS($G$105:G146)-1)<>\"\",OFFSET(DE104_3!$G$105,ROWS($G$105:G146)-1,COLUMNS($G$105:G146)-1),\"\")","v":""},{"$f":"IF(OFFSET(DE104_3!$H$105,ROWS($H$105:H146)-1,COLUMNS($H$105:H146)-1)<>\"\",OFFSET(DE104_3!$H$105,ROWS($H$105:H146)-1,COLUMNS($H$105:H146)-1),\"\")","v":""},{"$f":"IF(OFFSET(DE104_3!$I$105,ROWS($I$105:I146)-1,COLUMNS($I$105:I146)-1)<>\"\",OFFSET(DE104_3!$I$105,ROWS($I$105:I146)-1,COLUMNS($I$105:I146)-1),\"\")","v":""},{"$f":"IF(OFFSET(DE104_3!$J$105,ROWS($J$105:J146)-1,COLUMNS($J$105:J146)-1)<>\"\",OFFSET(DE104_3!$J$105,ROWS($J$105:J146)-1,COLUMNS($J$105:J146)-1),\"\")","v":""},{"$f":"IF(OFFSET(DE104_3!$K$105,ROWS($K$105:K146)-1,COLUMNS($K$105:K146)-1)<>\"\",OFFSET(DE104_3!$K$105,ROWS($K$105:K146)-1,COLUMNS($K$105:K146)-1),\"\")","v":""},{"$f":"IF(OFFSET(DE104_3!$L$105,ROWS($L$105:L146)-1,COLUMNS($L$105:L146)-1)<>\"\",OFFSET(DE104_3!$L$105,ROWS($L$105:L146)-1,COLUMNS($L$105:L146)-1),\"\")","v":""},{"$f":"IF(OFFSET(DE104_3!$M$105,ROWS($M$105:M146)-1,COLUMNS($M$105:M146)-1)<>\"\",OFFSET(DE104_3!$M$105,ROWS($M$105:M146)-1,COLUMNS($M$105:M146)-1),\"\")","v":""},{"$f":"IF(OFFSET(DE104_3!$N$105,ROWS($N$105:N146)-1,COLUMNS($N$105:N146)-1)<>\"\",OFFSET(DE104_3!$N$105,ROWS($N$105:N146)-1,COLUMNS($N$105:N146)-1),\"\")","v":""},{"$f":"IF(OFFSET(DE104_3!$O$105,ROWS($O$105:O146)-1,COLUMNS($O$105:O146)-1)<>\"\",OFFSET(DE104_3!$O$105,ROWS($O$105:O146)-1,COLUMNS($O$105:O146)-1),\"\")","v":""},{"$f":"IF(OFFSET(DE104_3!$P$105,ROWS($P$105:P146)-1,COLUMNS($P$105:P146)-1)<>\"\",OFFSET(DE104_3!$P$105,ROWS($P$105:P146)-1,COLUMNS($P$105:P146)-1),\"\")","v":""},{"$f":"IF(OFFSET(DE104_3!$Q$105,ROWS($Q$105:Q146)-1,COLUMNS($Q$105:Q146)-1)<>\"\",OFFSET(DE104_3!$Q$105,ROWS($Q$105:Q146)-1,COLUMNS($Q$105:Q146)-1),\"\")","v":""},{"$f":"IF(OFFSET(DE104_3!$R$105,ROWS($R$105:R146)-1,COLUMNS($R$105:R146)-1)<>\"\",OFFSET(DE104_3!$R$105,ROWS($R$105:R146)-1,COLUMNS($R$105:R146)-1),\"\")","v":""},{"$f":"IF(OFFSET(DE104_3!$S$105,ROWS($S$105:S146)-1,COLUMNS($S$105:S146)-1)<>\"\",OFFSET(DE104_3!$S$105,ROWS($S$105:S146)-1,COLUMNS($S$105:S146)-1),\"\")","v":""},{"$f":"IF(OFFSET(DE104_3!$T$105,ROWS($T$105:T146)-1,COLUMNS($T$105:T146)-1)<>\"\",OFFSET(DE104_3!$T$105,ROWS($T$105:T146)-1,COLUMNS($T$105:T146)-1),\"\")","v":""},{"$f":"IF(OFFSET(DE104_3!$U$105,ROWS($U$105:U146)-1,COLUMNS($U$105:U146)-1)<>\"\",OFFSET(DE104_3!$U$105,ROWS($U$105:U146)-1,COLUMNS($U$105:U146)-1),\"\")","v":""},{"$f":"IF(OFFSET(DE104_3!$V$105,ROWS($V$105:V146)-1,COLUMNS($V$105:V146)-1)<>\"\",OFFSET(DE104_3!$V$105,ROWS($V$105:V146)-1,COLUMNS($V$105:V146)-1),\"\")","v":""},{"$f":"IF(OFFSET(DE104_3!$W$105,ROWS($W$105:W146)-1,COLUMNS($W$105:W146)-1)<>\"\",OFFSET(DE104_3!$W$105,ROWS($W$105:W146)-1,COLUMNS($W$105:W146)-1),\"\")","v":""},{"$f":"IF(OFFSET(DE104_3!$X$105,ROWS($X$105:X146)-1,COLUMNS($X$105:X146)-1)<>\"\",OFFSET(DE104_3!$X$105,ROWS($X$105:X146)-1,COLUMNS($X$105:X146)-1),\"\")","v":""},{"$f":"IF(OFFSET(DE104_3!$Y$105,ROWS($Y$105:Y146)-1,COLUMNS($Y$105:Y146)-1)<>\"\",OFFSET(DE104_3!$Y$105,ROWS($Y$105:Y146)-1,COLUMNS($Y$105:Y146)-1),\"\")","v":""},{"$f":"IF(OFFSET(DE104_3!$Z$105,ROWS($Z$105:Z146)-1,COLUMNS($Z$105:Z146)-1)<>\"\",OFFSET(DE104_3!$Z$105,ROWS($Z$105:Z146)-1,COLUMNS($Z$105:Z146)-1),\"\")","v":""},{"$f":"IF(OFFSET(DE104_3!$AA$105,ROWS($AA$105:AA146)-1,COLUMNS($AA$105:AA146)-1)<>\"\",OFFSET(DE104_3!$AA$105,ROWS($AA$105:AA146)-1,COLUMNS($AA$105:AA146)-1),\"\")","v":""},{"$f":"IF(OFFSET(DE104_3!$AB$105,ROWS($AB$105:AB146)-1,COLUMNS($AB$105:AB146)-1)<>\"\",OFFSET(DE104_3!$AB$105,ROWS($AB$105:AB146)-1,COLUMNS($AB$105:AB146)-1),\"\")","v":""},{"$f":"IF(OFFSET(DE104_3!$AC$105,ROWS($AC$105:AC146)-1,COLUMNS($AC$105:AC146)-1)<>\"\",OFFSET(DE104_3!$AC$105,ROWS($AC$105:AC146)-1,COLUMNS($AC$105:AC146)-1),\"\")","v":""},{"$f":"IF(OFFSET(DE104_3!$AD$105,ROWS($AD$105:AD146)-1,COLUMNS($AD$105:AD146)-1)<>\"\",OFFSET(DE104_3!$AD$105,ROWS($AD$105:AD146)-1,COLUMNS($AD$105:AD146)-1),\"\")","v":""},{"$f":"IF(OFFSET(DE104_3!$AE$105,ROWS($AE$105:AE146)-1,COLUMNS($AE$105:AE146)-1)<>\"\",OFFSET(DE104_3!$AE$105,ROWS($AE$105:AE146)-1,COLUMNS($AE$105:AE146)-1),\"\")","v":""},{"$f":"IF(OFFSET(DE104_3!$AF$105,ROWS($AF$105:AF146)-1,COLUMNS($AF$105:AF146)-1)<>\"\",OFFSET(DE104_3!$AF$105,ROWS($AF$105:AF146)-1,COLUMNS($AF$105:AF146)-1),\"\")","v":""},{"$f":"IF(OFFSET(DE104_3!$AG$105,ROWS($AG$105:AG146)-1,COLUMNS($AG$105:AG146)-1)<>\"\",OFFSET(DE104_3!$AG$105,ROWS($AG$105:AG146)-1,COLUMNS($AG$105:AG146)-1),\"\")","v":""},{"$f":"IF(OFFSET(DE104_3!$AH$105,ROWS($AH$105:AH146)-1,COLUMNS($AH$105:AH146)-1)<>\"\",OFFSET(DE104_3!$AH$105,ROWS($AH$105:AH146)-1,COLUMNS($AH$105:AH146)-1),\"\")","v":""},{"$f":"IF(OFFSET(DE104_3!$AI$105,ROWS($AI$105:AI146)-1,COLUMNS($AI$105:AI146)-1)<>\"\",OFFSET(DE104_3!$AI$105,ROWS($AI$105:AI146)-1,COLUMNS($AI$105:AI146)-1),\"\")","v":""},{"$f":"IF(OFFSET(DE104_3!$AJ$105,ROWS($AJ$105:AJ146)-1,COLUMNS($AJ$105:AJ146)-1)<>\"\",OFFSET(DE104_3!$AJ$105,ROWS($AJ$105:AJ146)-1,COLUMNS($AJ$105:AJ146)-1),\"\")","v":""},{"$f":"IF(OFFSET(DE104_3!$AK$105,ROWS($AK$105:AK146)-1,COLUMNS($AK$105:AK146)-1)<>\"\",OFFSET(DE104_3!$AK$105,ROWS($AK$105:AK146)-1,COLUMNS($AK$105:AK146)-1),\"\")","v":""},{"$f":"IF(OFFSET(DE104_3!$AL$105,ROWS($AL$105:AL146)-1,COLUMNS($AL$105:AL146)-1)<>\"\",OFFSET(DE104_3!$AL$105,ROWS($AL$105:AL146)-1,COLUMNS($AL$105:AL146)-1),\"\")","v":""},{"$f":"IF(OFFSET(DE104_3!$AM$105,ROWS($AM$105:AM146)-1,COLUMNS($AM$105:AM146)-1)<>\"\",OFFSET(DE104_3!$AM$105,ROWS($AM$105:AM146)-1,COLUMNS($AM$105:AM146)-1),\"\")","v":""},{"$f":"IF(OFFSET(DE104_3!$AN$105,ROWS($AN$105:AN146)-1,COLUMNS($AN$105:AN146)-1)<>\"\",OFFSET(DE104_3!$AN$105,ROWS($AN$105:AN146)-1,COLUMNS($AN$105:AN146)-1),\"\")","v":""},{"$f":"IF(OFFSET(DE104_3!$AO$105,ROWS($AO$105:AO146)-1,COLUMNS($AO$105:AO146)-1)<>\"\",OFFSET(DE104_3!$AO$105,ROWS($AO$105:AO146)-1,COLUMNS($AO$105:AO146)-1),\"\")","v":""},{"$f":"IF(OFFSET(DE104_3!$AP$105,ROWS($AP$105:AP146)-1,COLUMNS($AP$105:AP146)-1)<>\"\",OFFSET(DE104_3!$AP$105,ROWS($AP$105:AP146)-1,COLUMNS($AP$105:AP146)-1),\"\")","v":""},{"$f":"IF(OFFSET(DE104_3!$AQ$105,ROWS($AQ$105:AQ146)-1,COLUMNS($AQ$105:AQ146)-1)<>\"\",OFFSET(DE104_3!$AQ$105,ROWS($AQ$105:AQ146)-1,COLUMNS($AQ$105:AQ146)-1),\"\")","v":""}]
[{"$f":"IF(OFFSET(DE104_3!$C$105,ROWS($C$105:C147)-1,COLUMNS($C$105:C147)-1)<>\"\",OFFSET(DE104_3!$C$105,ROWS($C$105:C147)-1,COLUMNS($C$105:C147)-1),\"\")","v":""},{"$f":"IF(OFFSET(DE104_3!$D$105,ROWS($D$105:D147)-1,COLUMNS($D$105:D147)-1)<>\"\",OFFSET(DE104_3!$D$105,ROWS($D$105:D147)-1,COLUMNS($D$105:D147)-1),\"\")","v":""},{"$f":"IF(OFFSET(DE104_3!$E$105,ROWS($E$105:E147)-1,COLUMNS($E$105:E147)-1)<>\"\",OFFSET(DE104_3!$E$105,ROWS($E$105:E147)-1,COLUMNS($E$105:E147)-1),\"\")","v":""},{"$f":"IF(OFFSET(DE104_3!$F$105,ROWS($F$105:F147)-1,COLUMNS($F$105:F147)-1)<>\"\",OFFSET(DE104_3!$F$105,ROWS($F$105:F147)-1,COLUMNS($F$105:F147)-1),\"\")","v":""},{"$f":"IF(OFFSET(DE104_3!$G$105,ROWS($G$105:G147)-1,COLUMNS($G$105:G147)-1)<>\"\",OFFSET(DE104_3!$G$105,ROWS($G$105:G147)-1,COLUMNS($G$105:G147)-1),\"\")","v":""},{"$f":"IF(OFFSET(DE104_3!$H$105,ROWS($H$105:H147)-1,COLUMNS($H$105:H147)-1)<>\"\",OFFSET(DE104_3!$H$105,ROWS($H$105:H147)-1,COLUMNS($H$105:H147)-1),\"\")","v":""},{"$f":"IF(OFFSET(DE104_3!$I$105,ROWS($I$105:I147)-1,COLUMNS($I$105:I147)-1)<>\"\",OFFSET(DE104_3!$I$105,ROWS($I$105:I147)-1,COLUMNS($I$105:I147)-1),\"\")","v":""},{"$f":"IF(OFFSET(DE104_3!$J$105,ROWS($J$105:J147)-1,COLUMNS($J$105:J147)-1)<>\"\",OFFSET(DE104_3!$J$105,ROWS($J$105:J147)-1,COLUMNS($J$105:J147)-1),\"\")","v":""},{"$f":"IF(OFFSET(DE104_3!$K$105,ROWS($K$105:K147)-1,COLUMNS($K$105:K147)-1)<>\"\",OFFSET(DE104_3!$K$105,ROWS($K$105:K147)-1,COLUMNS($K$105:K147)-1),\"\")","v":""},{"$f":"IF(OFFSET(DE104_3!$L$105,ROWS($L$105:L147)-1,COLUMNS($L$105:L147)-1)<>\"\",OFFSET(DE104_3!$L$105,ROWS($L$105:L147)-1,COLUMNS($L$105:L147)-1),\"\")","v":""},{"$f":"IF(OFFSET(DE104_3!$M$105,ROWS($M$105:M147)-1,COLUMNS($M$105:M147)-1)<>\"\",OFFSET(DE104_3!$M$105,ROWS($M$105:M147)-1,COLUMNS($M$105:M147)-1),\"\")","v":""},{"$f":"IF(OFFSET(DE104_3!$N$105,ROWS($N$105:N147)-1,COLUMNS($N$105:N147)-1)<>\"\",OFFSET(DE104_3!$N$105,ROWS($N$105:N147)-1,COLUMNS($N$105:N147)-1),\"\")","v":""},{"$f":"IF(OFFSET(DE104_3!$O$105,ROWS($O$105:O147)-1,COLUMNS($O$105:O147)-1)<>\"\",OFFSET(DE104_3!$O$105,ROWS($O$105:O147)-1,COLUMNS($O$105:O147)-1),\"\")","v":""},{"$f":"IF(OFFSET(DE104_3!$P$105,ROWS($P$105:P147)-1,COLUMNS($P$105:P147)-1)<>\"\",OFFSET(DE104_3!$P$105,ROWS($P$105:P147)-1,COLUMNS($P$105:P147)-1),\"\")","v":""},{"$f":"IF(OFFSET(DE104_3!$Q$105,ROWS($Q$105:Q147)-1,COLUMNS($Q$105:Q147)-1)<>\"\",OFFSET(DE104_3!$Q$105,ROWS($Q$105:Q147)-1,COLUMNS($Q$105:Q147)-1),\"\")","v":""},{"$f":"IF(OFFSET(DE104_3!$R$105,ROWS($R$105:R147)-1,COLUMNS($R$105:R147)-1)<>\"\",OFFSET(DE104_3!$R$105,ROWS($R$105:R147)-1,COLUMNS($R$105:R147)-1),\"\")","v":""},{"$f":"IF(OFFSET(DE104_3!$S$105,ROWS($S$105:S147)-1,COLUMNS($S$105:S147)-1)<>\"\",OFFSET(DE104_3!$S$105,ROWS($S$105:S147)-1,COLUMNS($S$105:S147)-1),\"\")","v":""},{"$f":"IF(OFFSET(DE104_3!$T$105,ROWS($T$105:T147)-1,COLUMNS($T$105:T147)-1)<>\"\",OFFSET(DE104_3!$T$105,ROWS($T$105:T147)-1,COLUMNS($T$105:T147)-1),\"\")","v":""},{"$f":"IF(OFFSET(DE104_3!$U$105,ROWS($U$105:U147)-1,COLUMNS($U$105:U147)-1)<>\"\",OFFSET(DE104_3!$U$105,ROWS($U$105:U147)-1,COLUMNS($U$105:U147)-1),\"\")","v":""},{"$f":"IF(OFFSET(DE104_3!$V$105,ROWS($V$105:V147)-1,COLUMNS($V$105:V147)-1)<>\"\",OFFSET(DE104_3!$V$105,ROWS($V$105:V147)-1,COLUMNS($V$105:V147)-1),\"\")","v":""},{"$f":"IF(OFFSET(DE104_3!$W$105,ROWS($W$105:W147)-1,COLUMNS($W$105:W147)-1)<>\"\",OFFSET(DE104_3!$W$105,ROWS($W$105:W147)-1,COLUMNS($W$105:W147)-1),\"\")","v":""},{"$f":"IF(OFFSET(DE104_3!$X$105,ROWS($X$105:X147)-1,COLUMNS($X$105:X147)-1)<>\"\",OFFSET(DE104_3!$X$105,ROWS($X$105:X147)-1,COLUMNS($X$105:X147)-1),\"\")","v":""},{"$f":"IF(OFFSET(DE104_3!$Y$105,ROWS($Y$105:Y147)-1,COLUMNS($Y$105:Y147)-1)<>\"\",OFFSET(DE104_3!$Y$105,ROWS($Y$105:Y147)-1,COLUMNS($Y$105:Y147)-1),\"\")","v":""},{"$f":"IF(OFFSET(DE104_3!$Z$105,ROWS($Z$105:Z147)-1,COLUMNS($Z$105:Z147)-1)<>\"\",OFFSET(DE104_3!$Z$105,ROWS($Z$105:Z147)-1,COLUMNS($Z$105:Z147)-1),\"\")","v":""},{"$f":"IF(OFFSET(DE104_3!$AA$105,ROWS($AA$105:AA147)-1,COLUMNS($AA$105:AA147)-1)<>\"\",OFFSET(DE104_3!$AA$105,ROWS($AA$105:AA147)-1,COLUMNS($AA$105:AA147)-1),\"\")","v":""},{"$f":"IF(OFFSET(DE104_3!$AB$105,ROWS($AB$105:AB147)-1,COLUMNS($AB$105:AB147)-1)<>\"\",OFFSET(DE104_3!$AB$105,ROWS($AB$105:AB147)-1,COLUMNS($AB$105:AB147)-1),\"\")","v":""},{"$f":"IF(OFFSET(DE104_3!$AC$105,ROWS($AC$105:AC147)-1,COLUMNS($AC$105:AC147)-1)<>\"\",OFFSET(DE104_3!$AC$105,ROWS($AC$105:AC147)-1,COLUMNS($AC$105:AC147)-1),\"\")","v":""},{"$f":"IF(OFFSET(DE104_3!$AD$105,ROWS($AD$105:AD147)-1,COLUMNS($AD$105:AD147)-1)<>\"\",OFFSET(DE104_3!$AD$105,ROWS($AD$105:AD147)-1,COLUMNS($AD$105:AD147)-1),\"\")","v":""},{"$f":"IF(OFFSET(DE104_3!$AE$105,ROWS($AE$105:AE147)-1,COLUMNS($AE$105:AE147)-1)<>\"\",OFFSET(DE104_3!$AE$105,ROWS($AE$105:AE147)-1,COLUMNS($AE$105:AE147)-1),\"\")","v":""},{"$f":"IF(OFFSET(DE104_3!$AF$105,ROWS($AF$105:AF147)-1,COLUMNS($AF$105:AF147)-1)<>\"\",OFFSET(DE104_3!$AF$105,ROWS($AF$105:AF147)-1,COLUMNS($AF$105:AF147)-1),\"\")","v":""},{"$f":"IF(OFFSET(DE104_3!$AG$105,ROWS($AG$105:AG147)-1,COLUMNS($AG$105:AG147)-1)<>\"\",OFFSET(DE104_3!$AG$105,ROWS($AG$105:AG147)-1,COLUMNS($AG$105:AG147)-1),\"\")","v":""},{"$f":"IF(OFFSET(DE104_3!$AH$105,ROWS($AH$105:AH147)-1,COLUMNS($AH$105:AH147)-1)<>\"\",OFFSET(DE104_3!$AH$105,ROWS($AH$105:AH147)-1,COLUMNS($AH$105:AH147)-1),\"\")","v":""},{"$f":"IF(OFFSET(DE104_3!$AI$105,ROWS($AI$105:AI147)-1,COLUMNS($AI$105:AI147)-1)<>\"\",OFFSET(DE104_3!$AI$105,ROWS($AI$105:AI147)-1,COLUMNS($AI$105:AI147)-1),\"\")","v":""},{"$f":"IF(OFFSET(DE104_3!$AJ$105,ROWS($AJ$105:AJ147)-1,COLUMNS($AJ$105:AJ147)-1)<>\"\",OFFSET(DE104_3!$AJ$105,ROWS($AJ$105:AJ147)-1,COLUMNS($AJ$105:AJ147)-1),\"\")","v":""},{"$f":"IF(OFFSET(DE104_3!$AK$105,ROWS($AK$105:AK147)-1,COLUMNS($AK$105:AK147)-1)<>\"\",OFFSET(DE104_3!$AK$105,ROWS($AK$105:AK147)-1,COLUMNS($AK$105:AK147)-1),\"\")","v":""},{"$f":"IF(OFFSET(DE104_3!$AL$105,ROWS($AL$105:AL147)-1,COLUMNS($AL$105:AL147)-1)<>\"\",OFFSET(DE104_3!$AL$105,ROWS($AL$105:AL147)-1,COLUMNS($AL$105:AL147)-1),\"\")","v":""},{"$f":"IF(OFFSET(DE104_3!$AM$105,ROWS($AM$105:AM147)-1,COLUMNS($AM$105:AM147)-1)<>\"\",OFFSET(DE104_3!$AM$105,ROWS($AM$105:AM147)-1,COLUMNS($AM$105:AM147)-1),\"\")","v":""},{"$f":"IF(OFFSET(DE104_3!$AN$105,ROWS($AN$105:AN147)-1,COLUMNS($AN$105:AN147)-1)<>\"\",OFFSET(DE104_3!$AN$105,ROWS($AN$105:AN147)-1,COLUMNS($AN$105:AN147)-1),\"\")","v":""},{"$f":"IF(OFFSET(DE104_3!$AO$105,ROWS($AO$105:AO147)-1,COLUMNS($AO$105:AO147)-1)<>\"\",OFFSET(DE104_3!$AO$105,ROWS($AO$105:AO147)-1,COLUMNS($AO$105:AO147)-1),\"\")","v":""},{"$f":"IF(OFFSET(DE104_3!$AP$105,ROWS($AP$105:AP147)-1,COLUMNS($AP$105:AP147)-1)<>\"\",OFFSET(DE104_3!$AP$105,ROWS($AP$105:AP147)-1,COLUMNS($AP$105:AP147)-1),\"\")","v":""},{"$f":"IF(OFFSET(DE104_3!$AQ$105,ROWS($AQ$105:AQ147)-1,COLUMNS($AQ$105:AQ147)-1)<>\"\",OFFSET(DE104_3!$AQ$105,ROWS($AQ$105:AQ147)-1,COLUMNS($AQ$105:AQ147)-1),\"\")","v":""}]
[{"$f":"IF(OFFSET(DE104_3!$C$105,ROWS($C$105:C148)-1,COLUMNS($C$105:C148)-1)<>\"\",OFFSET(DE104_3!$C$105,ROWS($C$105:C148)-1,COLUMNS($C$105:C148)-1),\"\")","v":""},{"$f":"IF(OFFSET(DE104_3!$D$105,ROWS($D$105:D148)-1,COLUMNS($D$105:D148)-1)<>\"\",OFFSET(DE104_3!$D$105,ROWS($D$105:D148)-1,COLUMNS($D$105:D148)-1),\"\")","v":""},{"$f":"IF(OFFSET(DE104_3!$E$105,ROWS($E$105:E148)-1,COLUMNS($E$105:E148)-1)<>\"\",OFFSET(DE104_3!$E$105,ROWS($E$105:E148)-1,COLUMNS($E$105:E148)-1),\"\")","v":""},{"$f":"IF(OFFSET(DE104_3!$F$105,ROWS($F$105:F148)-1,COLUMNS($F$105:F148)-1)<>\"\",OFFSET(DE104_3!$F$105,ROWS($F$105:F148)-1,COLUMNS($F$105:F148)-1),\"\")","v":""},{"$f":"IF(OFFSET(DE104_3!$G$105,ROWS($G$105:G148)-1,COLUMNS($G$105:G148)-1)<>\"\",OFFSET(DE104_3!$G$105,ROWS($G$105:G148)-1,COLUMNS($G$105:G148)-1),\"\")","v":""},{"$f":"IF(OFFSET(DE104_3!$H$105,ROWS($H$105:H148)-1,COLUMNS($H$105:H148)-1)<>\"\",OFFSET(DE104_3!$H$105,ROWS($H$105:H148)-1,COLUMNS($H$105:H148)-1),\"\")","v":""},{"$f":"IF(OFFSET(DE104_3!$I$105,ROWS($I$105:I148)-1,COLUMNS($I$105:I148)-1)<>\"\",OFFSET(DE104_3!$I$105,ROWS($I$105:I148)-1,COLUMNS($I$105:I148)-1),\"\")","v":""},{"$f":"IF(OFFSET(DE104_3!$J$105,ROWS($J$105:J148)-1,COLUMNS($J$105:J148)-1)<>\"\",OFFSET(DE104_3!$J$105,ROWS($J$105:J148)-1,COLUMNS($J$105:J148)-1),\"\")","v":""},{"$f":"IF(OFFSET(DE104_3!$K$105,ROWS($K$105:K148)-1,COLUMNS($K$105:K148)-1)<>\"\",OFFSET(DE104_3!$K$105,ROWS($K$105:K148)-1,COLUMNS($K$105:K148)-1),\"\")","v":""},{"$f":"IF(OFFSET(DE104_3!$L$105,ROWS($L$105:L148)-1,COLUMNS($L$105:L148)-1)<>\"\",OFFSET(DE104_3!$L$105,ROWS($L$105:L148)-1,COLUMNS($L$105:L148)-1),\"\")","v":""},{"$f":"IF(OFFSET(DE104_3!$M$105,ROWS($M$105:M148)-1,COLUMNS($M$105:M148)-1)<>\"\",OFFSET(DE104_3!$M$105,ROWS($M$105:M148)-1,COLUMNS($M$105:M148)-1),\"\")","v":""},{"$f":"IF(OFFSET(DE104_3!$N$105,ROWS($N$105:N148)-1,COLUMNS($N$105:N148)-1)<>\"\",OFFSET(DE104_3!$N$105,ROWS($N$105:N148)-1,COLUMNS($N$105:N148)-1),\"\")","v":""},{"$f":"IF(OFFSET(DE104_3!$O$105,ROWS($O$105:O148)-1,COLUMNS($O$105:O148)-1)<>\"\",OFFSET(DE104_3!$O$105,ROWS($O$105:O148)-1,COLUMNS($O$105:O148)-1),\"\")","v":""},{"$f":"IF(OFFSET(DE104_3!$P$105,ROWS($P$105:P148)-1,COLUMNS($P$105:P148)-1)<>\"\",OFFSET(DE104_3!$P$105,ROWS($P$105:P148)-1,COLUMNS($P$105:P148)-1),\"\")","v":""},{"$f":"IF(OFFSET(DE104_3!$Q$105,ROWS($Q$105:Q148)-1,COLUMNS($Q$105:Q148)-1)<>\"\",OFFSET(DE104_3!$Q$105,ROWS($Q$105:Q148)-1,COLUMNS($Q$105:Q148)-1),\"\")","v":""},{"$f":"IF(OFFSET(DE104_3!$R$105,ROWS($R$105:R148)-1,COLUMNS($R$105:R148)-1)<>\"\",OFFSET(DE104_3!$R$105,ROWS($R$105:R148)-1,COLUMNS($R$105:R148)-1),\"\")","v":""},{"$f":"IF(OFFSET(DE104_3!$S$105,ROWS($S$105:S148)-1,COLUMNS($S$105:S148)-1)<>\"\",OFFSET(DE104_3!$S$105,ROWS($S$105:S148)-1,COLUMNS($S$105:S148)-1),\"\")","v":""},{"$f":"IF(OFFSET(DE104_3!$T$105,ROWS($T$105:T148)-1,COLUMNS($T$105:T148)-1)<>\"\",OFFSET(DE104_3!$T$105,ROWS($T$105:T148)-1,COLUMNS($T$105:T148)-1),\"\")","v":""},{"$f":"IF(OFFSET(DE104_3!$U$105,ROWS($U$105:U148)-1,COLUMNS($U$105:U148)-1)<>\"\",OFFSET(DE104_3!$U$105,ROWS($U$105:U148)-1,COLUMNS($U$105:U148)-1),\"\")","v":""},{"$f":"IF(OFFSET(DE104_3!$V$105,ROWS($V$105:V148)-1,COLUMNS($V$105:V148)-1)<>\"\",OFFSET(DE104_3!$V$105,ROWS($V$105:V148)-1,COLUMNS($V$105:V148)-1),\"\")","v":""},{"$f":"IF(OFFSET(DE104_3!$W$105,ROWS($W$105:W148)-1,COLUMNS($W$105:W148)-1)<>\"\",OFFSET(DE104_3!$W$105,ROWS($W$105:W148)-1,COLUMNS($W$105:W148)-1),\"\")","v":""},{"$f":"IF(OFFSET(DE104_3!$X$105,ROWS($X$105:X148)-1,COLUMNS($X$105:X148)-1)<>\"\",OFFSET(DE104_3!$X$105,ROWS($X$105:X148)-1,COLUMNS($X$105:X148)-1),\"\")","v":""},{"$f":"IF(OFFSET(DE104_3!$Y$105,ROWS($Y$105:Y148)-1,COLUMNS($Y$105:Y148)-1)<>\"\",OFFSET(DE104_3!$Y$105,ROWS($Y$105:Y148)-1,COLUMNS($Y$105:Y148)-1),\"\")","v":""},{"$f":"IF(OFFSET(DE104_3!$Z$105,ROWS($Z$105:Z148)-1,COLUMNS($Z$105:Z148)-1)<>\"\",OFFSET(DE104_3!$Z$105,ROWS($Z$105:Z148)-1,COLUMNS($Z$105:Z148)-1),\"\")","v":""},{"$f":"IF(OFFSET(DE104_3!$AA$105,ROWS($AA$105:AA148)-1,COLUMNS($AA$105:AA148)-1)<>\"\",OFFSET(DE104_3!$AA$105,ROWS($AA$105:AA148)-1,COLUMNS($AA$105:AA148)-1),\"\")","v":""},{"$f":"IF(OFFSET(DE104_3!$AB$105,ROWS($AB$105:AB148)-1,COLUMNS($AB$105:AB148)-1)<>\"\",OFFSET(DE104_3!$AB$105,ROWS($AB$105:AB148)-1,COLUMNS($AB$105:AB148)-1),\"\")","v":""},{"$f":"IF(OFFSET(DE104_3!$AC$105,ROWS($AC$105:AC148)-1,COLUMNS($AC$105:AC148)-1)<>\"\",OFFSET(DE104_3!$AC$105,ROWS($AC$105:AC148)-1,COLUMNS($AC$105:AC148)-1),\"\")","v":""},{"$f":"IF(OFFSET(DE104_3!$AD$105,ROWS($AD$105:AD148)-1,COLUMNS($AD$105:AD148)-1)<>\"\",OFFSET(DE104_3!$AD$105,ROWS($AD$105:AD148)-1,COLUMNS($AD$105:AD148)-1),\"\")","v":""},{"$f":"IF(OFFSET(DE104_3!$AE$105,ROWS($AE$105:AE148)-1,COLUMNS($AE$105:AE148)-1)<>\"\",OFFSET(DE104_3!$AE$105,ROWS($AE$105:AE148)-1,COLUMNS($AE$105:AE148)-1),\"\")","v":""},{"$f":"IF(OFFSET(DE104_3!$AF$105,ROWS($AF$105:AF148)-1,COLUMNS($AF$105:AF148)-1)<>\"\",OFFSET(DE104_3!$AF$105,ROWS($AF$105:AF148)-1,COLUMNS($AF$105:AF148)-1),\"\")","v":""},{"$f":"IF(OFFSET(DE104_3!$AG$105,ROWS($AG$105:AG148)-1,COLUMNS($AG$105:AG148)-1)<>\"\",OFFSET(DE104_3!$AG$105,ROWS($AG$105:AG148)-1,COLUMNS($AG$105:AG148)-1),\"\")","v":""},{"$f":"IF(OFFSET(DE104_3!$AH$105,ROWS($AH$105:AH148)-1,COLUMNS($AH$105:AH148)-1)<>\"\",OFFSET(DE104_3!$AH$105,ROWS($AH$105:AH148)-1,COLUMNS($AH$105:AH148)-1),\"\")","v":""},{"$f":"IF(OFFSET(DE104_3!$AI$105,ROWS($AI$105:AI148)-1,COLUMNS($AI$105:AI148)-1)<>\"\",OFFSET(DE104_3!$AI$105,ROWS($AI$105:AI148)-1,COLUMNS($AI$105:AI148)-1),\"\")","v":""},{"$f":"IF(OFFSET(DE104_3!$AJ$105,ROWS($AJ$105:AJ148)-1,COLUMNS($AJ$105:AJ148)-1)<>\"\",OFFSET(DE104_3!$AJ$105,ROWS($AJ$105:AJ148)-1,COLUMNS($AJ$105:AJ148)-1),\"\")","v":""},{"$f":"IF(OFFSET(DE104_3!$AK$105,ROWS($AK$105:AK148)-1,COLUMNS($AK$105:AK148)-1)<>\"\",OFFSET(DE104_3!$AK$105,ROWS($AK$105:AK148)-1,COLUMNS($AK$105:AK148)-1),\"\")","v":""},{"$f":"IF(OFFSET(DE104_3!$AL$105,ROWS($AL$105:AL148)-1,COLUMNS($AL$105:AL148)-1)<>\"\",OFFSET(DE104_3!$AL$105,ROWS($AL$105:AL148)-1,COLUMNS($AL$105:AL148)-1),\"\")","v":""},{"$f":"IF(OFFSET(DE104_3!$AM$105,ROWS($AM$105:AM148)-1,COLUMNS($AM$105:AM148)-1)<>\"\",OFFSET(DE104_3!$AM$105,ROWS($AM$105:AM148)-1,COLUMNS($AM$105:AM148)-1),\"\")","v":""},{"$f":"IF(OFFSET(DE104_3!$AN$105,ROWS($AN$105:AN148)-1,COLUMNS($AN$105:AN148)-1)<>\"\",OFFSET(DE104_3!$AN$105,ROWS($AN$105:AN148)-1,COLUMNS($AN$105:AN148)-1),\"\")","v":""},{"$f":"IF(OFFSET(DE104_3!$AO$105,ROWS($AO$105:AO148)-1,COLUMNS($AO$105:AO148)-1)<>\"\",OFFSET(DE104_3!$AO$105,ROWS($AO$105:AO148)-1,COLUMNS($AO$105:AO148)-1),\"\")","v":""},{"$f":"IF(OFFSET(DE104_3!$AP$105,ROWS($AP$105:AP148)-1,COLUMNS($AP$105:AP148)-1)<>\"\",OFFSET(DE104_3!$AP$105,ROWS($AP$105:AP148)-1,COLUMNS($AP$105:AP148)-1),\"\")","v":""},{"$f":"IF(OFFSET(DE104_3!$AQ$105,ROWS($AQ$105:AQ148)-1,COLUMNS($AQ$105:AQ148)-1)<>\"\",OFFSET(DE104_3!$AQ$105,ROWS($AQ$105:AQ148)-1,COLUMNS($AQ$105:AQ148)-1),\"\")","v":""}]
[{"$f":"IF(OFFSET(DE104_3!$C$105,ROWS($C$105:C149)-1,COLUMNS($C$105:C149)-1)<>\"\",OFFSET(DE104_3!$C$105,ROWS($C$105:C149)-1,COLUMNS($C$105:C149)-1),\"\")","v":""},{"$f":"IF(OFFSET(DE104_3!$D$105,ROWS($D$105:D149)-1,COLUMNS($D$105:D149)-1)<>\"\",OFFSET(DE104_3!$D$105,ROWS($D$105:D149)-1,COLUMNS($D$105:D149)-1),\"\")","v":""},{"$f":"IF(OFFSET(DE104_3!$E$105,ROWS($E$105:E149)-1,COLUMNS($E$105:E149)-1)<>\"\",OFFSET(DE104_3!$E$105,ROWS($E$105:E149)-1,COLUMNS($E$105:E149)-1),\"\")","v":""},{"$f":"IF(OFFSET(DE104_3!$F$105,ROWS($F$105:F149)-1,COLUMNS($F$105:F149)-1)<>\"\",OFFSET(DE104_3!$F$105,ROWS($F$105:F149)-1,COLUMNS($F$105:F149)-1),\"\")","v":""},{"$f":"IF(OFFSET(DE104_3!$G$105,ROWS($G$105:G149)-1,COLUMNS($G$105:G149)-1)<>\"\",OFFSET(DE104_3!$G$105,ROWS($G$105:G149)-1,COLUMNS($G$105:G149)-1),\"\")","v":""},{"$f":"IF(OFFSET(DE104_3!$H$105,ROWS($H$105:H149)-1,COLUMNS($H$105:H149)-1)<>\"\",OFFSET(DE104_3!$H$105,ROWS($H$105:H149)-1,COLUMNS($H$105:H149)-1),\"\")","v":""},{"$f":"IF(OFFSET(DE104_3!$I$105,ROWS($I$105:I149)-1,COLUMNS($I$105:I149)-1)<>\"\",OFFSET(DE104_3!$I$105,ROWS($I$105:I149)-1,COLUMNS($I$105:I149)-1),\"\")","v":""},{"$f":"IF(OFFSET(DE104_3!$J$105,ROWS($J$105:J149)-1,COLUMNS($J$105:J149)-1)<>\"\",OFFSET(DE104_3!$J$105,ROWS($J$105:J149)-1,COLUMNS($J$105:J149)-1),\"\")","v":""},{"$f":"IF(OFFSET(DE104_3!$K$105,ROWS($K$105:K149)-1,COLUMNS($K$105:K149)-1)<>\"\",OFFSET(DE104_3!$K$105,ROWS($K$105:K149)-1,COLUMNS($K$105:K149)-1),\"\")","v":""},{"$f":"IF(OFFSET(DE104_3!$L$105,ROWS($L$105:L149)-1,COLUMNS($L$105:L149)-1)<>\"\",OFFSET(DE104_3!$L$105,ROWS($L$105:L149)-1,COLUMNS($L$105:L149)-1),\"\")","v":""},{"$f":"IF(OFFSET(DE104_3!$M$105,ROWS($M$105:M149)-1,COLUMNS($M$105:M149)-1)<>\"\",OFFSET(DE104_3!$M$105,ROWS($M$105:M149)-1,COLUMNS($M$105:M149)-1),\"\")","v":""},{"$f":"IF(OFFSET(DE104_3!$N$105,ROWS($N$105:N149)-1,COLUMNS($N$105:N149)-1)<>\"\",OFFSET(DE104_3!$N$105,ROWS($N$105:N149)-1,COLUMNS($N$105:N149)-1),\"\")","v":""},{"$f":"IF(OFFSET(DE104_3!$O$105,ROWS($O$105:O149)-1,COLUMNS($O$105:O149)-1)<>\"\",OFFSET(DE104_3!$O$105,ROWS($O$105:O149)-1,COLUMNS($O$105:O149)-1),\"\")","v":""},{"$f":"IF(OFFSET(DE104_3!$P$105,ROWS($P$105:P149)-1,COLUMNS($P$105:P149)-1)<>\"\",OFFSET(DE104_3!$P$105,ROWS($P$105:P149)-1,COLUMNS($P$105:P149)-1),\"\")","v":""},{"$f":"IF(OFFSET(DE104_3!$Q$105,ROWS($Q$105:Q149)-1,COLUMNS($Q$105:Q149)-1)<>\"\",OFFSET(DE104_3!$Q$105,ROWS($Q$105:Q149)-1,COLUMNS($Q$105:Q149)-1),\"\")","v":""},{"$f":"IF(OFFSET(DE104_3!$R$105,ROWS($R$105:R149)-1,COLUMNS($R$105:R149)-1)<>\"\",OFFSET(DE104_3!$R$105,ROWS($R$105:R149)-1,COLUMNS($R$105:R149)-1),\"\")","v":""},{"$f":"IF(OFFSET(DE104_3!$S$105,ROWS($S$105:S149)-1,COLUMNS($S$105:S149)-1)<>\"\",OFFSET(DE104_3!$S$105,ROWS($S$105:S149)-1,COLUMNS($S$105:S149)-1),\"\")","v":""},{"$f":"IF(OFFSET(DE104_3!$T$105,ROWS($T$105:T149)-1,COLUMNS($T$105:T149)-1)<>\"\",OFFSET(DE104_3!$T$105,ROWS($T$105:T149)-1,COLUMNS($T$105:T149)-1),\"\")","v":""},{"$f":"IF(OFFSET(DE104_3!$U$105,ROWS($U$105:U149)-1,COLUMNS($U$105:U149)-1)<>\"\",OFFSET(DE104_3!$U$105,ROWS($U$105:U149)-1,COLUMNS($U$105:U149)-1),\"\")","v":""},{"$f":"IF(OFFSET(DE104_3!$V$105,ROWS($V$105:V149)-1,COLUMNS($V$105:V149)-1)<>\"\",OFFSET(DE104_3!$V$105,ROWS($V$105:V149)-1,COLUMNS($V$105:V149)-1),\"\")","v":""},{"$f":"IF(OFFSET(DE104_3!$W$105,ROWS($W$105:W149)-1,COLUMNS($W$105:W149)-1)<>\"\",OFFSET(DE104_3!$W$105,ROWS($W$105:W149)-1,COLUMNS($W$105:W149)-1),\"\")","v":""},{"$f":"IF(OFFSET(DE104_3!$X$105,ROWS($X$105:X149)-1,COLUMNS($X$105:X149)-1)<>\"\",OFFSET(DE104_3!$X$105,ROWS($X$105:X149)-1,COLUMNS($X$105:X149)-1),\"\")","v":""},{"$f":"IF(OFFSET(DE104_3!$Y$105,ROWS($Y$105:Y149)-1,COLUMNS($Y$105:Y149)-1)<>\"\",OFFSET(DE104_3!$Y$105,ROWS($Y$105:Y149)-1,COLUMNS($Y$105:Y149)-1),\"\")","v":""},{"$f":"IF(OFFSET(DE104_3!$Z$105,ROWS($Z$105:Z149)-1,COLUMNS($Z$105:Z149)-1)<>\"\",OFFSET(DE104_3!$Z$105,ROWS($Z$105:Z149)-1,COLUMNS($Z$105:Z149)-1),\"\")","v":""},{"$f":"IF(OFFSET(DE104_3!$AA$105,ROWS($AA$105:AA149)-1,COLUMNS($AA$105:AA149)-1)<>\"\",OFFSET(DE104_3!$AA$105,ROWS($AA$105:AA149)-1,COLUMNS($AA$105:AA149)-1),\"\")","v":""},{"$f":"IF(OFFSET(DE104_3!$AB$105,ROWS($AB$105:AB149)-1,COLUMNS($AB$105:AB149)-1)<>\"\",OFFSET(DE104_3!$AB$105,ROWS($AB$105:AB149)-1,COLUMNS($AB$105:AB149)-1),\"\")","v":""},{"$f":"IF(OFFSET(DE104_3!$AC$105,ROWS($AC$105:AC149)-1,COLUMNS($AC$105:AC149)-1)<>\"\",OFFSET(DE104_3!$AC$105,ROWS($AC$105:AC149)-1,COLUMNS($AC$105:AC149)-1),\"\")","v":""},{"$f":"IF(OFFSET(DE104_3!$AD$105,ROWS($AD$105:AD149)-1,COLUMNS($AD$105:AD149)-1)<>\"\",OFFSET(DE104_3!$AD$105,ROWS($AD$105:AD149)-1,COLUMNS($AD$105:AD149)-1),\"\")","v":""},{"$f":"IF(OFFSET(DE104_3!$AE$105,ROWS($AE$105:AE149)-1,COLUMNS($AE$105:AE149)-1)<>\"\",OFFSET(DE104_3!$AE$105,ROWS($AE$105:AE149)-1,COLUMNS($AE$105:AE149)-1),\"\")","v":""},{"$f":"IF(OFFSET(DE104_3!$AF$105,ROWS($AF$105:AF149)-1,COLUMNS($AF$105:AF149)-1)<>\"\",OFFSET(DE104_3!$AF$105,ROWS($AF$105:AF149)-1,COLUMNS($AF$105:AF149)-1),\"\")","v":""},{"$f":"IF(OFFSET(DE104_3!$AG$105,ROWS($AG$105:AG149)-1,COLUMNS($AG$105:AG149)-1)<>\"\",OFFSET(DE104_3!$AG$105,ROWS($AG$105:AG149)-1,COLUMNS($AG$105:AG149)-1),\"\")","v":""},{"$f":"IF(OFFSET(DE104_3!$AH$105,ROWS($AH$105:AH149)-1,COLUMNS($AH$105:AH149)-1)<>\"\",OFFSET(DE104_3!$AH$105,ROWS($AH$105:AH149)-1,COLUMNS($AH$105:AH149)-1),\"\")","v":""},{"$f":"IF(OFFSET(DE104_3!$AI$105,ROWS($AI$105:AI149)-1,COLUMNS($AI$105:AI149)-1)<>\"\",OFFSET(DE104_3!$AI$105,ROWS($AI$105:AI149)-1,COLUMNS($AI$105:AI149)-1),\"\")","v":""},{"$f":"IF(OFFSET(DE104_3!$AJ$105,ROWS($AJ$105:AJ149)-1,COLUMNS($AJ$105:AJ149)-1)<>\"\",OFFSET(DE104_3!$AJ$105,ROWS($AJ$105:AJ149)-1,COLUMNS($AJ$105:AJ149)-1),\"\")","v":""},{"$f":"IF(OFFSET(DE104_3!$AK$105,ROWS($AK$105:AK149)-1,COLUMNS($AK$105:AK149)-1)<>\"\",OFFSET(DE104_3!$AK$105,ROWS($AK$105:AK149)-1,COLUMNS($AK$105:AK149)-1),\"\")","v":""},{"$f":"IF(OFFSET(DE104_3!$AL$105,ROWS($AL$105:AL149)-1,COLUMNS($AL$105:AL149)-1)<>\"\",OFFSET(DE104_3!$AL$105,ROWS($AL$105:AL149)-1,COLUMNS($AL$105:AL149)-1),\"\")","v":""},{"$f":"IF(OFFSET(DE104_3!$AM$105,ROWS($AM$105:AM149)-1,COLUMNS($AM$105:AM149)-1)<>\"\",OFFSET(DE104_3!$AM$105,ROWS($AM$105:AM149)-1,COLUMNS($AM$105:AM149)-1),\"\")","v":""},{"$f":"IF(OFFSET(DE104_3!$AN$105,ROWS($AN$105:AN149)-1,COLUMNS($AN$105:AN149)-1)<>\"\",OFFSET(DE104_3!$AN$105,ROWS($AN$105:AN149)-1,COLUMNS($AN$105:AN149)-1),\"\")","v":""},{"$f":"IF(OFFSET(DE104_3!$AO$105,ROWS($AO$105:AO149)-1,COLUMNS($AO$105:AO149)-1)<>\"\",OFFSET(DE104_3!$AO$105,ROWS($AO$105:AO149)-1,COLUMNS($AO$105:AO149)-1),\"\")","v":""},{"$f":"IF(OFFSET(DE104_3!$AP$105,ROWS($AP$105:AP149)-1,COLUMNS($AP$105:AP149)-1)<>\"\",OFFSET(DE104_3!$AP$105,ROWS($AP$105:AP149)-1,COLUMNS($AP$105:AP149)-1),\"\")","v":""},{"$f":"IF(OFFSET(DE104_3!$AQ$105,ROWS($AQ$105:AQ149)-1,COLUMNS($AQ$105:AQ149)-1)<>\"\",OFFSET(DE104_3!$AQ$105,ROWS($AQ$105:AQ149)-1,COLUMNS($AQ$105:AQ149)-1),\"\")","v":""}]
[{"$f":"IF(OFFSET(DE104_3!$C$105,ROWS($C$105:C150)-1,COLUMNS($C$105:C150)-1)<>\"\",OFFSET(DE104_3!$C$105,ROWS($C$105:C150)-1,COLUMNS($C$105:C150)-1),\"\")","v":""},{"$f":"IF(OFFSET(DE104_3!$D$105,ROWS($D$105:D150)-1,COLUMNS($D$105:D150)-1)<>\"\",OFFSET(DE104_3!$D$105,ROWS($D$105:D150)-1,COLUMNS($D$105:D150)-1),\"\")","v":""},{"$f":"IF(OFFSET(DE104_3!$E$105,ROWS($E$105:E150)-1,COLUMNS($E$105:E150)-1)<>\"\",OFFSET(DE104_3!$E$105,ROWS($E$105:E150)-1,COLUMNS($E$105:E150)-1),\"\")","v":""},{"$f":"IF(OFFSET(DE104_3!$F$105,ROWS($F$105:F150)-1,COLUMNS($F$105:F150)-1)<>\"\",OFFSET(DE104_3!$F$105,ROWS($F$105:F150)-1,COLUMNS($F$105:F150)-1),\"\")","v":""},{"$f":"IF(OFFSET(DE104_3!$G$105,ROWS($G$105:G150)-1,COLUMNS($G$105:G150)-1)<>\"\",OFFSET(DE104_3!$G$105,ROWS($G$105:G150)-1,COLUMNS($G$105:G150)-1),\"\")","v":""},{"$f":"IF(OFFSET(DE104_3!$H$105,ROWS($H$105:H150)-1,COLUMNS($H$105:H150)-1)<>\"\",OFFSET(DE104_3!$H$105,ROWS($H$105:H150)-1,COLUMNS($H$105:H150)-1),\"\")","v":""},{"$f":"IF(OFFSET(DE104_3!$I$105,ROWS($I$105:I150)-1,COLUMNS($I$105:I150)-1)<>\"\",OFFSET(DE104_3!$I$105,ROWS($I$105:I150)-1,COLUMNS($I$105:I150)-1),\"\")","v":""},{"$f":"IF(OFFSET(DE104_3!$J$105,ROWS($J$105:J150)-1,COLUMNS($J$105:J150)-1)<>\"\",OFFSET(DE104_3!$J$105,ROWS($J$105:J150)-1,COLUMNS($J$105:J150)-1),\"\")","v":""},{"$f":"IF(OFFSET(DE104_3!$K$105,ROWS($K$105:K150)-1,COLUMNS($K$105:K150)-1)<>\"\",OFFSET(DE104_3!$K$105,ROWS($K$105:K150)-1,COLUMNS($K$105:K150)-1),\"\")","v":""},{"$f":"IF(OFFSET(DE104_3!$L$105,ROWS($L$105:L150)-1,COLUMNS($L$105:L150)-1)<>\"\",OFFSET(DE104_3!$L$105,ROWS($L$105:L150)-1,COLUMNS($L$105:L150)-1),\"\")","v":""},{"$f":"IF(OFFSET(DE104_3!$M$105,ROWS($M$105:M150)-1,COLUMNS($M$105:M150)-1)<>\"\",OFFSET(DE104_3!$M$105,ROWS($M$105:M150)-1,COLUMNS($M$105:M150)-1),\"\")","v":""},{"$f":"IF(OFFSET(DE104_3!$N$105,ROWS($N$105:N150)-1,COLUMNS($N$105:N150)-1)<>\"\",OFFSET(DE104_3!$N$105,ROWS($N$105:N150)-1,COLUMNS($N$105:N150)-1),\"\")","v":""},{"$f":"IF(OFFSET(DE104_3!$O$105,ROWS($O$105:O150)-1,COLUMNS($O$105:O150)-1)<>\"\",OFFSET(DE104_3!$O$105,ROWS($O$105:O150)-1,COLUMNS($O$105:O150)-1),\"\")","v":""},{"$f":"IF(OFFSET(DE104_3!$P$105,ROWS($P$105:P150)-1,COLUMNS($P$105:P150)-1)<>\"\",OFFSET(DE104_3!$P$105,ROWS($P$105:P150)-1,COLUMNS($P$105:P150)-1),\"\")","v":""},{"$f":"IF(OFFSET(DE104_3!$Q$105,ROWS($Q$105:Q150)-1,COLUMNS($Q$105:Q150)-1)<>\"\",OFFSET(DE104_3!$Q$105,ROWS($Q$105:Q150)-1,COLUMNS($Q$105:Q150)-1),\"\")","v":""},{"$f":"IF(OFFSET(DE104_3!$R$105,ROWS($R$105:R150)-1,COLUMNS($R$105:R150)-1)<>\"\",OFFSET(DE104_3!$R$105,ROWS($R$105:R150)-1,COLUMNS($R$105:R150)-1),\"\")","v":""},{"$f":"IF(OFFSET(DE104_3!$S$105,ROWS($S$105:S150)-1,COLUMNS($S$105:S150)-1)<>\"\",OFFSET(DE104_3!$S$105,ROWS($S$105:S150)-1,COLUMNS($S$105:S150)-1),\"\")","v":""},{"$f":"IF(OFFSET(DE104_3!$T$105,ROWS($T$105:T150)-1,COLUMNS($T$105:T150)-1)<>\"\",OFFSET(DE104_3!$T$105,ROWS($T$105:T150)-1,COLUMNS($T$105:T150)-1),\"\")","v":""},{"$f":"IF(OFFSET(DE104_3!$U$105,ROWS($U$105:U150)-1,COLUMNS($U$105:U150)-1)<>\"\",OFFSET(DE104_3!$U$105,ROWS($U$105:U150)-1,COLUMNS($U$105:U150)-1),\"\")","v":""},{"$f":"IF(OFFSET(DE104_3!$V$105,ROWS($V$105:V150)-1,COLUMNS($V$105:V150)-1)<>\"\",OFFSET(DE104_3!$V$105,ROWS($V$105:V150)-1,COLUMNS($V$105:V150)-1),\"\")","v":""},{"$f":"IF(OFFSET(DE104_3!$W$105,ROWS($W$105:W150)-1,COLUMNS($W$105:W150)-1)<>\"\",OFFSET(DE104_3!$W$105,ROWS($W$105:W150)-1,COLUMNS($W$105:W150)-1),\"\")","v":""},{"$f":"IF(OFFSET(DE104_3!$X$105,ROWS($X$105:X150)-1,COLUMNS($X$105:X150)-1)<>\"\",OFFSET(DE104_3!$X$105,ROWS($X$105:X150)-1,COLUMNS($X$105:X150)-1),\"\")","v":""},{"$f":"IF(OFFSET(DE104_3!$Y$105,ROWS($Y$105:Y150)-1,COLUMNS($Y$105:Y150)-1)<>\"\",OFFSET(DE104_3!$Y$105,ROWS($Y$105:Y150)-1,COLUMNS($Y$105:Y150)-1),\"\")","v":""},{"$f":"IF(OFFSET(DE104_3!$Z$105,ROWS($Z$105:Z150)-1,COLUMNS($Z$105:Z150)-1)<>\"\",OFFSET(DE104_3!$Z$105,ROWS($Z$105:Z150)-1,COLUMNS($Z$105:Z150)-1),\"\")","v":""},{"$f":"IF(OFFSET(DE104_3!$AA$105,ROWS($AA$105:AA150)-1,COLUMNS($AA$105:AA150)-1)<>\"\",OFFSET(DE104_3!$AA$105,ROWS($AA$105:AA150)-1,COLUMNS($AA$105:AA150)-1),\"\")","v":""},{"$f":"IF(OFFSET(DE104_3!$AB$105,ROWS($AB$105:AB150)-1,COLUMNS($AB$105:AB150)-1)<>\"\",OFFSET(DE104_3!$AB$105,ROWS($AB$105:AB150)-1,COLUMNS($AB$105:AB150)-1),\"\")","v":""},{"$f":"IF(OFFSET(DE104_3!$AC$105,ROWS($AC$105:AC150)-1,COLUMNS($AC$105:AC150)-1)<>\"\",OFFSET(DE104_3!$AC$105,ROWS($AC$105:AC150)-1,COLUMNS($AC$105:AC150)-1),\"\")","v":""},{"$f":"IF(OFFSET(DE104_3!$AD$105,ROWS($AD$105:AD150)-1,COLUMNS($AD$105:AD150)-1)<>\"\",OFFSET(DE104_3!$AD$105,ROWS($AD$105:AD150)-1,COLUMNS($AD$105:AD150)-1),\"\")","v":""},{"$f":"IF(OFFSET(DE104_3!$AE$105,ROWS($AE$105:AE150)-1,COLUMNS($AE$105:AE150)-1)<>\"\",OFFSET(DE104_3!$AE$105,ROWS($AE$105:AE150)-1,COLUMNS($AE$105:AE150)-1),\"\")","v":""},{"$f":"IF(OFFSET(DE104_3!$AF$105,ROWS($AF$105:AF150)-1,COLUMNS($AF$105:AF150)-1)<>\"\",OFFSET(DE104_3!$AF$105,ROWS($AF$105:AF150)-1,COLUMNS($AF$105:AF150)-1),\"\")","v":""},{"$f":"IF(OFFSET(DE104_3!$AG$105,ROWS($AG$105:AG150)-1,COLUMNS($AG$105:AG150)-1)<>\"\",OFFSET(DE104_3!$AG$105,ROWS($AG$105:AG150)-1,COLUMNS($AG$105:AG150)-1),\"\")","v":""},{"$f":"IF(OFFSET(DE104_3!$AH$105,ROWS($AH$105:AH150)-1,COLUMNS($AH$105:AH150)-1)<>\"\",OFFSET(DE104_3!$AH$105,ROWS($AH$105:AH150)-1,COLUMNS($AH$105:AH150)-1),\"\")","v":""},{"$f":"IF(OFFSET(DE104_3!$AI$105,ROWS($AI$105:AI150)-1,COLUMNS($AI$105:AI150)-1)<>\"\",OFFSET(DE104_3!$AI$105,ROWS($AI$105:AI150)-1,COLUMNS($AI$105:AI150)-1),\"\")","v":""},{"$f":"IF(OFFSET(DE104_3!$AJ$105,ROWS($AJ$105:AJ150)-1,COLUMNS($AJ$105:AJ150)-1)<>\"\",OFFSET(DE104_3!$AJ$105,ROWS($AJ$105:AJ150)-1,COLUMNS($AJ$105:AJ150)-1),\"\")","v":""},{"$f":"IF(OFFSET(DE104_3!$AK$105,ROWS($AK$105:AK150)-1,COLUMNS($AK$105:AK150)-1)<>\"\",OFFSET(DE104_3!$AK$105,ROWS($AK$105:AK150)-1,COLUMNS($AK$105:AK150)-1),\"\")","v":""},{"$f":"IF(OFFSET(DE104_3!$AL$105,ROWS($AL$105:AL150)-1,COLUMNS($AL$105:AL150)-1)<>\"\",OFFSET(DE104_3!$AL$105,ROWS($AL$105:AL150)-1,COLUMNS($AL$105:AL150)-1),\"\")","v":""},{"$f":"IF(OFFSET(DE104_3!$AM$105,ROWS($AM$105:AM150)-1,COLUMNS($AM$105:AM150)-1)<>\"\",OFFSET(DE104_3!$AM$105,ROWS($AM$105:AM150)-1,COLUMNS($AM$105:AM150)-1),\"\")","v":""},{"$f":"IF(OFFSET(DE104_3!$AN$105,ROWS($AN$105:AN150)-1,COLUMNS($AN$105:AN150)-1)<>\"\",OFFSET(DE104_3!$AN$105,ROWS($AN$105:AN150)-1,COLUMNS($AN$105:AN150)-1),\"\")","v":""},{"$f":"IF(OFFSET(DE104_3!$AO$105,ROWS($AO$105:AO150)-1,COLUMNS($AO$105:AO150)-1)<>\"\",OFFSET(DE104_3!$AO$105,ROWS($AO$105:AO150)-1,COLUMNS($AO$105:AO150)-1),\"\")","v":""},{"$f":"IF(OFFSET(DE104_3!$AP$105,ROWS($AP$105:AP150)-1,COLUMNS($AP$105:AP150)-1)<>\"\",OFFSET(DE104_3!$AP$105,ROWS($AP$105:AP150)-1,COLUMNS($AP$105:AP150)-1),\"\")","v":""},{"$f":"IF(OFFSET(DE104_3!$AQ$105,ROWS($AQ$105:AQ150)-1,COLUMNS($AQ$105:AQ150)-1)<>\"\",OFFSET(DE104_3!$AQ$105,ROWS($AQ$105:AQ150)-1,COLUMNS($AQ$105:AQ150)-1),\"\")","v":""}]
[{"$f":"IF(OFFSET(DE104_3!$C$105,ROWS($C$105:C151)-1,COLUMNS($C$105:C151)-1)<>\"\",OFFSET(DE104_3!$C$105,ROWS($C$105:C151)-1,COLUMNS($C$105:C151)-1),\"\")","v":""},{"$f":"IF(OFFSET(DE104_3!$D$105,ROWS($D$105:D151)-1,COLUMNS($D$105:D151)-1)<>\"\",OFFSET(DE104_3!$D$105,ROWS($D$105:D151)-1,COLUMNS($D$105:D151)-1),\"\")","v":""},{"$f":"IF(OFFSET(DE104_3!$E$105,ROWS($E$105:E151)-1,COLUMNS($E$105:E151)-1)<>\"\",OFFSET(DE104_3!$E$105,ROWS($E$105:E151)-1,COLUMNS($E$105:E151)-1),\"\")","v":""},{"$f":"IF(OFFSET(DE104_3!$F$105,ROWS($F$105:F151)-1,COLUMNS($F$105:F151)-1)<>\"\",OFFSET(DE104_3!$F$105,ROWS($F$105:F151)-1,COLUMNS($F$105:F151)-1),\"\")","v":""},{"$f":"IF(OFFSET(DE104_3!$G$105,ROWS($G$105:G151)-1,COLUMNS($G$105:G151)-1)<>\"\",OFFSET(DE104_3!$G$105,ROWS($G$105:G151)-1,COLUMNS($G$105:G151)-1),\"\")","v":""},{"$f":"IF(OFFSET(DE104_3!$H$105,ROWS($H$105:H151)-1,COLUMNS($H$105:H151)-1)<>\"\",OFFSET(DE104_3!$H$105,ROWS($H$105:H151)-1,COLUMNS($H$105:H151)-1),\"\")","v":""},{"$f":"IF(OFFSET(DE104_3!$I$105,ROWS($I$105:I151)-1,COLUMNS($I$105:I151)-1)<>\"\",OFFSET(DE104_3!$I$105,ROWS($I$105:I151)-1,COLUMNS($I$105:I151)-1),\"\")","v":""},{"$f":"IF(OFFSET(DE104_3!$J$105,ROWS($J$105:J151)-1,COLUMNS($J$105:J151)-1)<>\"\",OFFSET(DE104_3!$J$105,ROWS($J$105:J151)-1,COLUMNS($J$105:J151)-1),\"\")","v":""},{"$f":"IF(OFFSET(DE104_3!$K$105,ROWS($K$105:K151)-1,COLUMNS($K$105:K151)-1)<>\"\",OFFSET(DE104_3!$K$105,ROWS($K$105:K151)-1,COLUMNS($K$105:K151)-1),\"\")","v":""},{"$f":"IF(OFFSET(DE104_3!$L$105,ROWS($L$105:L151)-1,COLUMNS($L$105:L151)-1)<>\"\",OFFSET(DE104_3!$L$105,ROWS($L$105:L151)-1,COLUMNS($L$105:L151)-1),\"\")","v":""},{"$f":"IF(OFFSET(DE104_3!$M$105,ROWS($M$105:M151)-1,COLUMNS($M$105:M151)-1)<>\"\",OFFSET(DE104_3!$M$105,ROWS($M$105:M151)-1,COLUMNS($M$105:M151)-1),\"\")","v":""},{"$f":"IF(OFFSET(DE104_3!$N$105,ROWS($N$105:N151)-1,COLUMNS($N$105:N151)-1)<>\"\",OFFSET(DE104_3!$N$105,ROWS($N$105:N151)-1,COLUMNS($N$105:N151)-1),\"\")","v":""},{"$f":"IF(OFFSET(DE104_3!$O$105,ROWS($O$105:O151)-1,COLUMNS($O$105:O151)-1)<>\"\",OFFSET(DE104_3!$O$105,ROWS($O$105:O151)-1,COLUMNS($O$105:O151)-1),\"\")","v":""},{"$f":"IF(OFFSET(DE104_3!$P$105,ROWS($P$105:P151)-1,COLUMNS($P$105:P151)-1)<>\"\",OFFSET(DE104_3!$P$105,ROWS($P$105:P151)-1,COLUMNS($P$105:P151)-1),\"\")","v":""},{"$f":"IF(OFFSET(DE104_3!$Q$105,ROWS($Q$105:Q151)-1,COLUMNS($Q$105:Q151)-1)<>\"\",OFFSET(DE104_3!$Q$105,ROWS($Q$105:Q151)-1,COLUMNS($Q$105:Q151)-1),\"\")","v":""},{"$f":"IF(OFFSET(DE104_3!$R$105,ROWS($R$105:R151)-1,COLUMNS($R$105:R151)-1)<>\"\",OFFSET(DE104_3!$R$105,ROWS($R$105:R151)-1,COLUMNS($R$105:R151)-1),\"\")","v":""},{"$f":"IF(OFFSET(DE104_3!$S$105,ROWS($S$105:S151)-1,COLUMNS($S$105:S151)-1)<>\"\",OFFSET(DE104_3!$S$105,ROWS($S$105:S151)-1,COLUMNS($S$105:S151)-1),\"\")","v":""},{"$f":"IF(OFFSET(DE104_3!$T$105,ROWS($T$105:T151)-1,COLUMNS($T$105:T151)-1)<>\"\",OFFSET(DE104_3!$T$105,ROWS($T$105:T151)-1,COLUMNS($T$105:T151)-1),\"\")","v":""},{"$f":"IF(OFFSET(DE104_3!$U$105,ROWS($U$105:U151)-1,COLUMNS($U$105:U151)-1)<>\"\",OFFSET(DE104_3!$U$105,ROWS($U$105:U151)-1,COLUMNS($U$105:U151)-1),\"\")","v":""},{"$f":"IF(OFFSET(DE104_3!$V$105,ROWS($V$105:V151)-1,COLUMNS($V$105:V151)-1)<>\"\",OFFSET(DE104_3!$V$105,ROWS($V$105:V151)-1,COLUMNS($V$105:V151)-1),\"\")","v":""},{"$f":"IF(OFFSET(DE104_3!$W$105,ROWS($W$105:W151)-1,COLUMNS($W$105:W151)-1)<>\"\",OFFSET(DE104_3!$W$105,ROWS($W$105:W151)-1,COLUMNS($W$105:W151)-1),\"\")","v":""},{"$f":"IF(OFFSET(DE104_3!$X$105,ROWS($X$105:X151)-1,COLUMNS($X$105:X151)-1)<>\"\",OFFSET(DE104_3!$X$105,ROWS($X$105:X151)-1,COLUMNS($X$105:X151)-1),\"\")","v":""},{"$f":"IF(OFFSET(DE104_3!$Y$105,ROWS($Y$105:Y151)-1,COLUMNS($Y$105:Y151)-1)<>\"\",OFFSET(DE104_3!$Y$105,ROWS($Y$105:Y151)-1,COLUMNS($Y$105:Y151)-1),\"\")","v":""},{"$f":"IF(OFFSET(DE104_3!$Z$105,ROWS($Z$105:Z151)-1,COLUMNS($Z$105:Z151)-1)<>\"\",OFFSET(DE104_3!$Z$105,ROWS($Z$105:Z151)-1,COLUMNS($Z$105:Z151)-1),\"\")","v":""},{"$f":"IF(OFFSET(DE104_3!$AA$105,ROWS($AA$105:AA151)-1,COLUMNS($AA$105:AA151)-1)<>\"\",OFFSET(DE104_3!$AA$105,ROWS($AA$105:AA151)-1,COLUMNS($AA$105:AA151)-1),\"\")","v":""},{"$f":"IF(OFFSET(DE104_3!$AB$105,ROWS($AB$105:AB151)-1,COLUMNS($AB$105:AB151)-1)<>\"\",OFFSET(DE104_3!$AB$105,ROWS($AB$105:AB151)-1,COLUMNS($AB$105:AB151)-1),\"\")","v":""},{"$f":"IF(OFFSET(DE104_3!$AC$105,ROWS($AC$105:AC151)-1,COLUMNS($AC$105:AC151)-1)<>\"\",OFFSET(DE104_3!$AC$105,ROWS($AC$105:AC151)-1,COLUMNS($AC$105:AC151)-1),\"\")","v":""},{"$f":"IF(OFFSET(DE104_3!$AD$105,ROWS($AD$105:AD151)-1,COLUMNS($AD$105:AD151)-1)<>\"\",OFFSET(DE104_3!$AD$105,ROWS($AD$105:AD151)-1,COLUMNS($AD$105:AD151)-1),\"\")","v":""},{"$f":"IF(OFFSET(DE104_3!$AE$105,ROWS($AE$105:AE151)-1,COLUMNS($AE$105:AE151)-1)<>\"\",OFFSET(DE104_3!$AE$105,ROWS($AE$105:AE151)-1,COLUMNS($AE$105:AE151)-1),\"\")","v":""},{"$f":"IF(OFFSET(DE104_3!$AF$105,ROWS($AF$105:AF151)-1,COLUMNS($AF$105:AF151)-1)<>\"\",OFFSET(DE104_3!$AF$105,ROWS($AF$105:AF151)-1,COLUMNS($AF$105:AF151)-1),\"\")","v":""},{"$f":"IF(OFFSET(DE104_3!$AG$105,ROWS($AG$105:AG151)-1,COLUMNS($AG$105:AG151)-1)<>\"\",OFFSET(DE104_3!$AG$105,ROWS($AG$105:AG151)-1,COLUMNS($AG$105:AG151)-1),\"\")","v":""},{"$f":"IF(OFFSET(DE104_3!$AH$105,ROWS($AH$105:AH151)-1,COLUMNS($AH$105:AH151)-1)<>\"\",OFFSET(DE104_3!$AH$105,ROWS($AH$105:AH151)-1,COLUMNS($AH$105:AH151)-1),\"\")","v":""},{"$f":"IF(OFFSET(DE104_3!$AI$105,ROWS($AI$105:AI151)-1,COLUMNS($AI$105:AI151)-1)<>\"\",OFFSET(DE104_3!$AI$105,ROWS($AI$105:AI151)-1,COLUMNS($AI$105:AI151)-1),\"\")","v":""},{"$f":"IF(OFFSET(DE104_3!$AJ$105,ROWS($AJ$105:AJ151)-1,COLUMNS($AJ$105:AJ151)-1)<>\"\",OFFSET(DE104_3!$AJ$105,ROWS($AJ$105:AJ151)-1,COLUMNS($AJ$105:AJ151)-1),\"\")","v":""},{"$f":"IF(OFFSET(DE104_3!$AK$105,ROWS($AK$105:AK151)-1,COLUMNS($AK$105:AK151)-1)<>\"\",OFFSET(DE104_3!$AK$105,ROWS($AK$105:AK151)-1,COLUMNS($AK$105:AK151)-1),\"\")","v":""},{"$f":"IF(OFFSET(DE104_3!$AL$105,ROWS($AL$105:AL151)-1,COLUMNS($AL$105:AL151)-1)<>\"\",OFFSET(DE104_3!$AL$105,ROWS($AL$105:AL151)-1,COLUMNS($AL$105:AL151)-1),\"\")","v":""},{"$f":"IF(OFFSET(DE104_3!$AM$105,ROWS($AM$105:AM151)-1,COLUMNS($AM$105:AM151)-1)<>\"\",OFFSET(DE104_3!$AM$105,ROWS($AM$105:AM151)-1,COLUMNS($AM$105:AM151)-1),\"\")","v":""},{"$f":"IF(OFFSET(DE104_3!$AN$105,ROWS($AN$105:AN151)-1,COLUMNS($AN$105:AN151)-1)<>\"\",OFFSET(DE104_3!$AN$105,ROWS($AN$105:AN151)-1,COLUMNS($AN$105:AN151)-1),\"\")","v":""},{"$f":"IF(OFFSET(DE104_3!$AO$105,ROWS($AO$105:AO151)-1,COLUMNS($AO$105:AO151)-1)<>\"\",OFFSET(DE104_3!$AO$105,ROWS($AO$105:AO151)-1,COLUMNS($AO$105:AO151)-1),\"\")","v":""},{"$f":"IF(OFFSET(DE104_3!$AP$105,ROWS($AP$105:AP151)-1,COLUMNS($AP$105:AP151)-1)<>\"\",OFFSET(DE104_3!$AP$105,ROWS($AP$105:AP151)-1,COLUMNS($AP$105:AP151)-1),\"\")","v":""},{"$f":"IF(OFFSET(DE104_3!$AQ$105,ROWS($AQ$105:AQ151)-1,COLUMNS($AQ$105:AQ151)-1)<>\"\",OFFSET(DE104_3!$AQ$105,ROWS($AQ$105:AQ151)-1,COLUMNS($AQ$105:AQ151)-1),\"\")","v":""}]
[{"$f":"IF(OFFSET(DE104_3!$C$105,ROWS($C$105:C152)-1,COLUMNS($C$105:C152)-1)<>\"\",OFFSET(DE104_3!$C$105,ROWS($C$105:C152)-1,COLUMNS($C$105:C152)-1),\"\")","v":""},{"$f":"IF(OFFSET(DE104_3!$D$105,ROWS($D$105:D152)-1,COLUMNS($D$105:D152)-1)<>\"\",OFFSET(DE104_3!$D$105,ROWS($D$105:D152)-1,COLUMNS($D$105:D152)-1),\"\")","v":""},{"$f":"IF(OFFSET(DE104_3!$E$105,ROWS($E$105:E152)-1,COLUMNS($E$105:E152)-1)<>\"\",OFFSET(DE104_3!$E$105,ROWS($E$105:E152)-1,COLUMNS($E$105:E152)-1),\"\")","v":""},{"$f":"IF(OFFSET(DE104_3!$F$105,ROWS($F$105:F152)-1,COLUMNS($F$105:F152)-1)<>\"\",OFFSET(DE104_3!$F$105,ROWS($F$105:F152)-1,COLUMNS($F$105:F152)-1),\"\")","v":""},{"$f":"IF(OFFSET(DE104_3!$G$105,ROWS($G$105:G152)-1,COLUMNS($G$105:G152)-1)<>\"\",OFFSET(DE104_3!$G$105,ROWS($G$105:G152)-1,COLUMNS($G$105:G152)-1),\"\")","v":""},{"$f":"IF(OFFSET(DE104_3!$H$105,ROWS($H$105:H152)-1,COLUMNS($H$105:H152)-1)<>\"\",OFFSET(DE104_3!$H$105,ROWS($H$105:H152)-1,COLUMNS($H$105:H152)-1),\"\")","v":""},{"$f":"IF(OFFSET(DE104_3!$I$105,ROWS($I$105:I152)-1,COLUMNS($I$105:I152)-1)<>\"\",OFFSET(DE104_3!$I$105,ROWS($I$105:I152)-1,COLUMNS($I$105:I152)-1),\"\")","v":""},{"$f":"IF(OFFSET(DE104_3!$J$105,ROWS($J$105:J152)-1,COLUMNS($J$105:J152)-1)<>\"\",OFFSET(DE104_3!$J$105,ROWS($J$105:J152)-1,COLUMNS($J$105:J152)-1),\"\")","v":""},{"$f":"IF(OFFSET(DE104_3!$K$105,ROWS($K$105:K152)-1,COLUMNS($K$105:K152)-1)<>\"\",OFFSET(DE104_3!$K$105,ROWS($K$105:K152)-1,COLUMNS($K$105:K152)-1),\"\")","v":""},{"$f":"IF(OFFSET(DE104_3!$L$105,ROWS($L$105:L152)-1,COLUMNS($L$105:L152)-1)<>\"\",OFFSET(DE104_3!$L$105,ROWS($L$105:L152)-1,COLUMNS($L$105:L152)-1),\"\")","v":""},{"$f":"IF(OFFSET(DE104_3!$M$105,ROWS($M$105:M152)-1,COLUMNS($M$105:M152)-1)<>\"\",OFFSET(DE104_3!$M$105,ROWS($M$105:M152)-1,COLUMNS($M$105:M152)-1),\"\")","v":""},{"$f":"IF(OFFSET(DE104_3!$N$105,ROWS($N$105:N152)-1,COLUMNS($N$105:N152)-1)<>\"\",OFFSET(DE104_3!$N$105,ROWS($N$105:N152)-1,COLUMNS($N$105:N152)-1),\"\")","v":""},{"$f":"IF(OFFSET(DE104_3!$O$105,ROWS($O$105:O152)-1,COLUMNS($O$105:O152)-1)<>\"\",OFFSET(DE104_3!$O$105,ROWS($O$105:O152)-1,COLUMNS($O$105:O152)-1),\"\")","v":""},{"$f":"IF(OFFSET(DE104_3!$P$105,ROWS($P$105:P152)-1,COLUMNS($P$105:P152)-1)<>\"\",OFFSET(DE104_3!$P$105,ROWS($P$105:P152)-1,COLUMNS($P$105:P152)-1),\"\")","v":""},{"$f":"IF(OFFSET(DE104_3!$Q$105,ROWS($Q$105:Q152)-1,COLUMNS($Q$105:Q152)-1)<>\"\",OFFSET(DE104_3!$Q$105,ROWS($Q$105:Q152)-1,COLUMNS($Q$105:Q152)-1),\"\")","v":""},{"$f":"IF(OFFSET(DE104_3!$R$105,ROWS($R$105:R152)-1,COLUMNS($R$105:R152)-1)<>\"\",OFFSET(DE104_3!$R$105,ROWS($R$105:R152)-1,COLUMNS($R$105:R152)-1),\"\")","v":""},{"$f":"IF(OFFSET(DE104_3!$S$105,ROWS($S$105:S152)-1,COLUMNS($S$105:S152)-1)<>\"\",OFFSET(DE104_3!$S$105,ROWS($S$105:S152)-1,COLUMNS($S$105:S152)-1),\"\")","v":""},{"$f":"IF(OFFSET(DE104_3!$T$105,ROWS($T$105:T152)-1,COLUMNS($T$105:T152)-1)<>\"\",OFFSET(DE104_3!$T$105,ROWS($T$105:T152)-1,COLUMNS($T$105:T152)-1),\"\")","v":""},{"$f":"IF(OFFSET(DE104_3!$U$105,ROWS($U$105:U152)-1,COLUMNS($U$105:U152)-1)<>\"\",OFFSET(DE104_3!$U$105,ROWS($U$105:U152)-1,COLUMNS($U$105:U152)-1),\"\")","v":""},{"$f":"IF(OFFSET(DE104_3!$V$105,ROWS($V$105:V152)-1,COLUMNS($V$105:V152)-1)<>\"\",OFFSET(DE104_3!$V$105,ROWS($V$105:V152)-1,COLUMNS($V$105:V152)-1),\"\")","v":""},{"$f":"IF(OFFSET(DE104_3!$W$105,ROWS($W$105:W152)-1,COLUMNS($W$105:W152)-1)<>\"\",OFFSET(DE104_3!$W$105,ROWS($W$105:W152)-1,COLUMNS($W$105:W152)-1),\"\")","v":""},{"$f":"IF(OFFSET(DE104_3!$X$105,ROWS($X$105:X152)-1,COLUMNS($X$105:X152)-1)<>\"\",OFFSET(DE104_3!$X$105,ROWS($X$105:X152)-1,COLUMNS($X$105:X152)-1),\"\")","v":""},{"$f":"IF(OFFSET(DE104_3!$Y$105,ROWS($Y$105:Y152)-1,COLUMNS($Y$105:Y152)-1)<>\"\",OFFSET(DE104_3!$Y$105,ROWS($Y$105:Y152)-1,COLUMNS($Y$105:Y152)-1),\"\")","v":""},{"$f":"IF(OFFSET(DE104_3!$Z$105,ROWS($Z$105:Z152)-1,COLUMNS($Z$105:Z152)-1)<>\"\",OFFSET(DE104_3!$Z$105,ROWS($Z$105:Z152)-1,COLUMNS($Z$105:Z152)-1),\"\")","v":""},{"$f":"IF(OFFSET(DE104_3!$AA$105,ROWS($AA$105:AA152)-1,COLUMNS($AA$105:AA152)-1)<>\"\",OFFSET(DE104_3!$AA$105,ROWS($AA$105:AA152)-1,COLUMNS($AA$105:AA152)-1),\"\")","v":""},{"$f":"IF(OFFSET(DE104_3!$AB$105,ROWS($AB$105:AB152)-1,COLUMNS($AB$105:AB152)-1)<>\"\",OFFSET(DE104_3!$AB$105,ROWS($AB$105:AB152)-1,COLUMNS($AB$105:AB152)-1),\"\")","v":""},{"$f":"IF(OFFSET(DE104_3!$AC$105,ROWS($AC$105:AC152)-1,COLUMNS($AC$105:AC152)-1)<>\"\",OFFSET(DE104_3!$AC$105,ROWS($AC$105:AC152)-1,COLUMNS($AC$105:AC152)-1),\"\")","v":""},{"$f":"IF(OFFSET(DE104_3!$AD$105,ROWS($AD$105:AD152)-1,COLUMNS($AD$105:AD152)-1)<>\"\",OFFSET(DE104_3!$AD$105,ROWS($AD$105:AD152)-1,COLUMNS($AD$105:AD152)-1),\"\")","v":""},{"$f":"IF(OFFSET(DE104_3!$AE$105,ROWS($AE$105:AE152)-1,COLUMNS($AE$105:AE152)-1)<>\"\",OFFSET(DE104_3!$AE$105,ROWS($AE$105:AE152)-1,COLUMNS($AE$105:AE152)-1),\"\")","v":""},{"$f":"IF(OFFSET(DE104_3!$AF$105,ROWS($AF$105:AF152)-1,COLUMNS($AF$105:AF152)-1)<>\"\",OFFSET(DE104_3!$AF$105,ROWS($AF$105:AF152)-1,COLUMNS($AF$105:AF152)-1),\"\")","v":""},{"$f":"IF(OFFSET(DE104_3!$AG$105,ROWS($AG$105:AG152)-1,COLUMNS($AG$105:AG152)-1)<>\"\",OFFSET(DE104_3!$AG$105,ROWS($AG$105:AG152)-1,COLUMNS($AG$105:AG152)-1),\"\")","v":""},{"$f":"IF(OFFSET(DE104_3!$AH$105,ROWS($AH$105:AH152)-1,COLUMNS($AH$105:AH152)-1)<>\"\",OFFSET(DE104_3!$AH$105,ROWS($AH$105:AH152)-1,COLUMNS($AH$105:AH152)-1),\"\")","v":""},{"$f":"IF(OFFSET(DE104_3!$AI$105,ROWS($AI$105:AI152)-1,COLUMNS($AI$105:AI152)-1)<>\"\",OFFSET(DE104_3!$AI$105,ROWS($AI$105:AI152)-1,COLUMNS($AI$105:AI152)-1),\"\")","v":""},{"$f":"IF(OFFSET(DE104_3!$AJ$105,ROWS($AJ$105:AJ152)-1,COLUMNS($AJ$105:AJ152)-1)<>\"\",OFFSET(DE104_3!$AJ$105,ROWS($AJ$105:AJ152)-1,COLUMNS($AJ$105:AJ152)-1),\"\")","v":""},{"$f":"IF(OFFSET(DE104_3!$AK$105,ROWS($AK$105:AK152)-1,COLUMNS($AK$105:AK152)-1)<>\"\",OFFSET(DE104_3!$AK$105,ROWS($AK$105:AK152)-1,COLUMNS($AK$105:AK152)-1),\"\")","v":""},{"$f":"IF(OFFSET(DE104_3!$AL$105,ROWS($AL$105:AL152)-1,COLUMNS($AL$105:AL152)-1)<>\"\",OFFSET(DE104_3!$AL$105,ROWS($AL$105:AL152)-1,COLUMNS($AL$105:AL152)-1),\"\")","v":""},{"$f":"IF(OFFSET(DE104_3!$AM$105,ROWS($AM$105:AM152)-1,COLUMNS($AM$105:AM152)-1)<>\"\",OFFSET(DE104_3!$AM$105,ROWS($AM$105:AM152)-1,COLUMNS($AM$105:AM152)-1),\"\")","v":""},{"$f":"IF(OFFSET(DE104_3!$AN$105,ROWS($AN$105:AN152)-1,COLUMNS($AN$105:AN152)-1)<>\"\",OFFSET(DE104_3!$AN$105,ROWS($AN$105:AN152)-1,COLUMNS($AN$105:AN152)-1),\"\")","v":""},{"$f":"IF(OFFSET(DE104_3!$AO$105,ROWS($AO$105:AO152)-1,COLUMNS($AO$105:AO152)-1)<>\"\",OFFSET(DE104_3!$AO$105,ROWS($AO$105:AO152)-1,COLUMNS($AO$105:AO152)-1),\"\")","v":""},{"$f":"IF(OFFSET(DE104_3!$AP$105,ROWS($AP$105:AP152)-1,COLUMNS($AP$105:AP152)-1)<>\"\",OFFSET(DE104_3!$AP$105,ROWS($AP$105:AP152)-1,COLUMNS($AP$105:AP152)-1),\"\")","v":""},{"$f":"IF(OFFSET(DE104_3!$AQ$105,ROWS($AQ$105:AQ152)-1,COLUMNS($AQ$105:AQ152)-1)<>\"\",OFFSET(DE104_3!$AQ$105,ROWS($AQ$105:AQ152)-1,COLUMNS($AQ$105:AQ152)-1),\"\")","v":""}]
[{"$f":"IF(OFFSET(DE104_3!$C$105,ROWS($C$105:C153)-1,COLUMNS($C$105:C153)-1)<>\"\",OFFSET(DE104_3!$C$105,ROWS($C$105:C153)-1,COLUMNS($C$105:C153)-1),\"\")","v":""},{"$f":"IF(OFFSET(DE104_3!$D$105,ROWS($D$105:D153)-1,COLUMNS($D$105:D153)-1)<>\"\",OFFSET(DE104_3!$D$105,ROWS($D$105:D153)-1,COLUMNS($D$105:D153)-1),\"\")","v":""},{"$f":"IF(OFFSET(DE104_3!$E$105,ROWS($E$105:E153)-1,COLUMNS($E$105:E153)-1)<>\"\",OFFSET(DE104_3!$E$105,ROWS($E$105:E153)-1,COLUMNS($E$105:E153)-1),\"\")","v":""},{"$f":"IF(OFFSET(DE104_3!$F$105,ROWS($F$105:F153)-1,COLUMNS($F$105:F153)-1)<>\"\",OFFSET(DE104_3!$F$105,ROWS($F$105:F153)-1,COLUMNS($F$105:F153)-1),\"\")","v":""},{"$f":"IF(OFFSET(DE104_3!$G$105,ROWS($G$105:G153)-1,COLUMNS($G$105:G153)-1)<>\"\",OFFSET(DE104_3!$G$105,ROWS($G$105:G153)-1,COLUMNS($G$105:G153)-1),\"\")","v":""},{"$f":"IF(OFFSET(DE104_3!$H$105,ROWS($H$105:H153)-1,COLUMNS($H$105:H153)-1)<>\"\",OFFSET(DE104_3!$H$105,ROWS($H$105:H153)-1,COLUMNS($H$105:H153)-1),\"\")","v":""},{"$f":"IF(OFFSET(DE104_3!$I$105,ROWS($I$105:I153)-1,COLUMNS($I$105:I153)-1)<>\"\",OFFSET(DE104_3!$I$105,ROWS($I$105:I153)-1,COLUMNS($I$105:I153)-1),\"\")","v":""},{"$f":"IF(OFFSET(DE104_3!$J$105,ROWS($J$105:J153)-1,COLUMNS($J$105:J153)-1)<>\"\",OFFSET(DE104_3!$J$105,ROWS($J$105:J153)-1,COLUMNS($J$105:J153)-1),\"\")","v":""},{"$f":"IF(OFFSET(DE104_3!$K$105,ROWS($K$105:K153)-1,COLUMNS($K$105:K153)-1)<>\"\",OFFSET(DE104_3!$K$105,ROWS($K$105:K153)-1,COLUMNS($K$105:K153)-1),\"\")","v":""},{"$f":"IF(OFFSET(DE104_3!$L$105,ROWS($L$105:L153)-1,COLUMNS($L$105:L153)-1)<>\"\",OFFSET(DE104_3!$L$105,ROWS($L$105:L153)-1,COLUMNS($L$105:L153)-1),\"\")","v":""},{"$f":"IF(OFFSET(DE104_3!$M$105,ROWS($M$105:M153)-1,COLUMNS($M$105:M153)-1)<>\"\",OFFSET(DE104_3!$M$105,ROWS($M$105:M153)-1,COLUMNS($M$105:M153)-1),\"\")","v":""},{"$f":"IF(OFFSET(DE104_3!$N$105,ROWS($N$105:N153)-1,COLUMNS($N$105:N153)-1)<>\"\",OFFSET(DE104_3!$N$105,ROWS($N$105:N153)-1,COLUMNS($N$105:N153)-1),\"\")","v":""},{"$f":"IF(OFFSET(DE104_3!$O$105,ROWS($O$105:O153)-1,COLUMNS($O$105:O153)-1)<>\"\",OFFSET(DE104_3!$O$105,ROWS($O$105:O153)-1,COLUMNS($O$105:O153)-1),\"\")","v":""},{"$f":"IF(OFFSET(DE104_3!$P$105,ROWS($P$105:P153)-1,COLUMNS($P$105:P153)-1)<>\"\",OFFSET(DE104_3!$P$105,ROWS($P$105:P153)-1,COLUMNS($P$105:P153)-1),\"\")","v":""},{"$f":"IF(OFFSET(DE104_3!$Q$105,ROWS($Q$105:Q153)-1,COLUMNS($Q$105:Q153)-1)<>\"\",OFFSET(DE104_3!$Q$105,ROWS($Q$105:Q153)-1,COLUMNS($Q$105:Q153)-1),\"\")","v":""},{"$f":"IF(OFFSET(DE104_3!$R$105,ROWS($R$105:R153)-1,COLUMNS($R$105:R153)-1)<>\"\",OFFSET(DE104_3!$R$105,ROWS($R$105:R153)-1,COLUMNS($R$105:R153)-1),\"\")","v":""},{"$f":"IF(OFFSET(DE104_3!$S$105,ROWS($S$105:S153)-1,COLUMNS($S$105:S153)-1)<>\"\",OFFSET(DE104_3!$S$105,ROWS($S$105:S153)-1,COLUMNS($S$105:S153)-1),\"\")","v":""},{"$f":"IF(OFFSET(DE104_3!$T$105,ROWS($T$105:T153)-1,COLUMNS($T$105:T153)-1)<>\"\",OFFSET(DE104_3!$T$105,ROWS($T$105:T153)-1,COLUMNS($T$105:T153)-1),\"\")","v":""},{"$f":"IF(OFFSET(DE104_3!$U$105,ROWS($U$105:U153)-1,COLUMNS($U$105:U153)-1)<>\"\",OFFSET(DE104_3!$U$105,ROWS($U$105:U153)-1,COLUMNS($U$105:U153)-1),\"\")","v":""},{"$f":"IF(OFFSET(DE104_3!$V$105,ROWS($V$105:V153)-1,COLUMNS($V$105:V153)-1)<>\"\",OFFSET(DE104_3!$V$105,ROWS($V$105:V153)-1,COLUMNS($V$105:V153)-1),\"\")","v":""},{"$f":"IF(OFFSET(DE104_3!$W$105,ROWS($W$105:W153)-1,COLUMNS($W$105:W153)-1)<>\"\",OFFSET(DE104_3!$W$105,ROWS($W$105:W153)-1,COLUMNS($W$105:W153)-1),\"\")","v":""},{"$f":"IF(OFFSET(DE104_3!$X$105,ROWS($X$105:X153)-1,COLUMNS($X$105:X153)-1)<>\"\",OFFSET(DE104_3!$X$105,ROWS($X$105:X153)-1,COLUMNS($X$105:X153)-1),\"\")","v":""},{"$f":"IF(OFFSET(DE104_3!$Y$105,ROWS($Y$105:Y153)-1,COLUMNS($Y$105:Y153)-1)<>\"\",OFFSET(DE104_3!$Y$105,ROWS($Y$105:Y153)-1,COLUMNS($Y$105:Y153)-1),\"\")","v":""},{"$f":"IF(OFFSET(DE104_3!$Z$105,ROWS($Z$105:Z153)-1,COLUMNS($Z$105:Z153)-1)<>\"\",OFFSET(DE104_3!$Z$105,ROWS($Z$105:Z153)-1,COLUMNS($Z$105:Z153)-1),\"\")","v":""},{"$f":"IF(OFFSET(DE104_3!$AA$105,ROWS($AA$105:AA153)-1,COLUMNS($AA$105:AA153)-1)<>\"\",OFFSET(DE104_3!$AA$105,ROWS($AA$105:AA153)-1,COLUMNS($AA$105:AA153)-1),\"\")","v":""},{"$f":"IF(OFFSET(DE104_3!$AB$105,ROWS($AB$105:AB153)-1,COLUMNS($AB$105:AB153)-1)<>\"\",OFFSET(DE104_3!$AB$105,ROWS($AB$105:AB153)-1,COLUMNS($AB$105:AB153)-1),\"\")","v":""},{"$f":"IF(OFFSET(DE104_3!$AC$105,ROWS($AC$105:AC153)-1,COLUMNS($AC$105:AC153)-1)<>\"\",OFFSET(DE104_3!$AC$105,ROWS($AC$105:AC153)-1,COLUMNS($AC$105:AC153)-1),\"\")","v":""},{"$f":"IF(OFFSET(DE104_3!$AD$105,ROWS($AD$105:AD153)-1,COLUMNS($AD$105:AD153)-1)<>\"\",OFFSET(DE104_3!$AD$105,ROWS($AD$105:AD153)-1,COLUMNS($AD$105:AD153)-1),\"\")","v":""},{"$f":"IF(OFFSET(DE104_3!$AE$105,ROWS($AE$105:AE153)-1,COLUMNS($AE$105:AE153)-1)<>\"\",OFFSET(DE104_3!$AE$105,ROWS($AE$105:AE153)-1,COLUMNS($AE$105:AE153)-1),\"\")","v":""},{"$f":"IF(OFFSET(DE104_3!$AF$105,ROWS($AF$105:AF153)-1,COLUMNS($AF$105:AF153)-1)<>\"\",OFFSET(DE104_3!$AF$105,ROWS($AF$105:AF153)-1,COLUMNS($AF$105:AF153)-1),\"\")","v":""},{"$f":"IF(OFFSET(DE104_3!$AG$105,ROWS($AG$105:AG153)-1,COLUMNS($AG$105:AG153)-1)<>\"\",OFFSET(DE104_3!$AG$105,ROWS($AG$105:AG153)-1,COLUMNS($AG$105:AG153)-1),\"\")","v":""},{"$f":"IF(OFFSET(DE104_3!$AH$105,ROWS($AH$105:AH153)-1,COLUMNS($AH$105:AH153)-1)<>\"\",OFFSET(DE104_3!$AH$105,ROWS($AH$105:AH153)-1,COLUMNS($AH$105:AH153)-1),\"\")","v":""},{"$f":"IF(OFFSET(DE104_3!$AI$105,ROWS($AI$105:AI153)-1,COLUMNS($AI$105:AI153)-1)<>\"\",OFFSET(DE104_3!$AI$105,ROWS($AI$105:AI153)-1,COLUMNS($AI$105:AI153)-1),\"\")","v":""},{"$f":"IF(OFFSET(DE104_3!$AJ$105,ROWS($AJ$105:AJ153)-1,COLUMNS($AJ$105:AJ153)-1)<>\"\",OFFSET(DE104_3!$AJ$105,ROWS($AJ$105:AJ153)-1,COLUMNS($AJ$105:AJ153)-1),\"\")","v":""},{"$f":"IF(OFFSET(DE104_3!$AK$105,ROWS($AK$105:AK153)-1,COLUMNS($AK$105:AK153)-1)<>\"\",OFFSET(DE104_3!$AK$105,ROWS($AK$105:AK153)-1,COLUMNS($AK$105:AK153)-1),\"\")","v":""},{"$f":"IF(OFFSET(DE104_3!$AL$105,ROWS($AL$105:AL153)-1,COLUMNS($AL$105:AL153)-1)<>\"\",OFFSET(DE104_3!$AL$105,ROWS($AL$105:AL153)-1,COLUMNS($AL$105:AL153)-1),\"\")","v":""},{"$f":"IF(OFFSET(DE104_3!$AM$105,ROWS($AM$105:AM153)-1,COLUMNS($AM$105:AM153)-1)<>\"\",OFFSET(DE104_3!$AM$105,ROWS($AM$105:AM153)-1,COLUMNS($AM$105:AM153)-1),\"\")","v":""},{"$f":"IF(OFFSET(DE104_3!$AN$105,ROWS($AN$105:AN153)-1,COLUMNS($AN$105:AN153)-1)<>\"\",OFFSET(DE104_3!$AN$105,ROWS($AN$105:AN153)-1,COLUMNS($AN$105:AN153)-1),\"\")","v":""},{"$f":"IF(OFFSET(DE104_3!$AO$105,ROWS($AO$105:AO153)-1,COLUMNS($AO$105:AO153)-1)<>\"\",OFFSET(DE104_3!$AO$105,ROWS($AO$105:AO153)-1,COLUMNS($AO$105:AO153)-1),\"\")","v":""},{"$f":"IF(OFFSET(DE104_3!$AP$105,ROWS($AP$105:AP153)-1,COLUMNS($AP$105:AP153)-1)<>\"\",OFFSET(DE104_3!$AP$105,ROWS($AP$105:AP153)-1,COLUMNS($AP$105:AP153)-1),\"\")","v":""},{"$f":"IF(OFFSET(DE104_3!$AQ$105,ROWS($AQ$105:AQ153)-1,COLUMNS($AQ$105:AQ153)-1)<>\"\",OFFSET(DE104_3!$AQ$105,ROWS($AQ$105:AQ153)-1,COLUMNS($AQ$105:AQ153)-1),\"\")","v":""}]
[{"$f":"IF(OFFSET(DE104_3!$C$105,ROWS($C$105:C154)-1,COLUMNS($C$105:C154)-1)<>\"\",OFFSET(DE104_3!$C$105,ROWS($C$105:C154)-1,COLUMNS($C$105:C154)-1),\"\")","v":""},{"$f":"IF(OFFSET(DE104_3!$D$105,ROWS($D$105:D154)-1,COLUMNS($D$105:D154)-1)<>\"\",OFFSET(DE104_3!$D$105,ROWS($D$105:D154)-1,COLUMNS($D$105:D154)-1),\"\")","v":""},{"$f":"IF(OFFSET(DE104_3!$E$105,ROWS($E$105:E154)-1,COLUMNS($E$105:E154)-1)<>\"\",OFFSET(DE104_3!$E$105,ROWS($E$105:E154)-1,COLUMNS($E$105:E154)-1),\"\")","v":""},{"$f":"IF(OFFSET(DE104_3!$F$105,ROWS($F$105:F154)-1,COLUMNS($F$105:F154)-1)<>\"\",OFFSET(DE104_3!$F$105,ROWS($F$105:F154)-1,COLUMNS($F$105:F154)-1),\"\")","v":""},{"$f":"IF(OFFSET(DE104_3!$G$105,ROWS($G$105:G154)-1,COLUMNS($G$105:G154)-1)<>\"\",OFFSET(DE104_3!$G$105,ROWS($G$105:G154)-1,COLUMNS($G$105:G154)-1),\"\")","v":""},{"$f":"IF(OFFSET(DE104_3!$H$105,ROWS($H$105:H154)-1,COLUMNS($H$105:H154)-1)<>\"\",OFFSET(DE104_3!$H$105,ROWS($H$105:H154)-1,COLUMNS($H$105:H154)-1),\"\")","v":""},{"$f":"IF(OFFSET(DE104_3!$I$105,ROWS($I$105:I154)-1,COLUMNS($I$105:I154)-1)<>\"\",OFFSET(DE104_3!$I$105,ROWS($I$105:I154)-1,COLUMNS($I$105:I154)-1),\"\")","v":""},{"$f":"IF(OFFSET(DE104_3!$J$105,ROWS($J$105:J154)-1,COLUMNS($J$105:J154)-1)<>\"\",OFFSET(DE104_3!$J$105,ROWS($J$105:J154)-1,COLUMNS($J$105:J154)-1),\"\")","v":""},{"$f":"IF(OFFSET(DE104_3!$K$105,ROWS($K$105:K154)-1,COLUMNS($K$105:K154)-1)<>\"\",OFFSET(DE104_3!$K$105,ROWS($K$105:K154)-1,COLUMNS($K$105:K154)-1),\"\")","v":""},{"$f":"IF(OFFSET(DE104_3!$L$105,ROWS($L$105:L154)-1,COLUMNS($L$105:L154)-1)<>\"\",OFFSET(DE104_3!$L$105,ROWS($L$105:L154)-1,COLUMNS($L$105:L154)-1),\"\")","v":""},{"$f":"IF(OFFSET(DE104_3!$M$105,ROWS($M$105:M154)-1,COLUMNS($M$105:M154)-1)<>\"\",OFFSET(DE104_3!$M$105,ROWS($M$105:M154)-1,COLUMNS($M$105:M154)-1),\"\")","v":""},{"$f":"IF(OFFSET(DE104_3!$N$105,ROWS($N$105:N154)-1,COLUMNS($N$105:N154)-1)<>\"\",OFFSET(DE104_3!$N$105,ROWS($N$105:N154)-1,COLUMNS($N$105:N154)-1),\"\")","v":""},{"$f":"IF(OFFSET(DE104_3!$O$105,ROWS($O$105:O154)-1,COLUMNS($O$105:O154)-1)<>\"\",OFFSET(DE104_3!$O$105,ROWS($O$105:O154)-1,COLUMNS($O$105:O154)-1),\"\")","v":""},{"$f":"IF(OFFSET(DE104_3!$P$105,ROWS($P$105:P154)-1,COLUMNS($P$105:P154)-1)<>\"\",OFFSET(DE104_3!$P$105,ROWS($P$105:P154)-1,COLUMNS($P$105:P154)-1),\"\")","v":""},{"$f":"IF(OFFSET(DE104_3!$Q$105,ROWS($Q$105:Q154)-1,COLUMNS($Q$105:Q154)-1)<>\"\",OFFSET(DE104_3!$Q$105,ROWS($Q$105:Q154)-1,COLUMNS($Q$105:Q154)-1),\"\")","v":""},{"$f":"IF(OFFSET(DE104_3!$R$105,ROWS($R$105:R154)-1,COLUMNS($R$105:R154)-1)<>\"\",OFFSET(DE104_3!$R$105,ROWS($R$105:R154)-1,COLUMNS($R$105:R154)-1),\"\")","v":""},{"$f":"IF(OFFSET(DE104_3!$S$105,ROWS($S$105:S154)-1,COLUMNS($S$105:S154)-1)<>\"\",OFFSET(DE104_3!$S$105,ROWS($S$105:S154)-1,COLUMNS($S$105:S154)-1),\"\")","v":""},{"$f":"IF(OFFSET(DE104_3!$T$105,ROWS($T$105:T154)-1,COLUMNS($T$105:T154)-1)<>\"\",OFFSET(DE104_3!$T$105,ROWS($T$105:T154)-1,COLUMNS($T$105:T154)-1),\"\")","v":""},{"$f":"IF(OFFSET(DE104_3!$U$105,ROWS($U$105:U154)-1,COLUMNS($U$105:U154)-1)<>\"\",OFFSET(DE104_3!$U$105,ROWS($U$105:U154)-1,COLUMNS($U$105:U154)-1),\"\")","v":""},{"$f":"IF(OFFSET(DE104_3!$V$105,ROWS($V$105:V154)-1,COLUMNS($V$105:V154)-1)<>\"\",OFFSET(DE104_3!$V$105,ROWS($V$105:V154)-1,COLUMNS($V$105:V154)-1),\"\")","v":""},{"$f":"IF(OFFSET(DE104_3!$W$105,ROWS($W$105:W154)-1,COLUMNS($W$105:W154)-1)<>\"\",OFFSET(DE104_3!$W$105,ROWS($W$105:W154)-1,COLUMNS($W$105:W154)-1),\"\")","v":""},{"$f":"IF(OFFSET(DE104_3!$X$105,ROWS($X$105:X154)-1,COLUMNS($X$105:X154)-1)<>\"\",OFFSET(DE104_3!$X$105,ROWS($X$105:X154)-1,COLUMNS($X$105:X154)-1),\"\")","v":""},{"$f":"IF(OFFSET(DE104_3!$Y$105,ROWS($Y$105:Y154)-1,COLUMNS($Y$105:Y154)-1)<>\"\",OFFSET(DE104_3!$Y$105,ROWS($Y$105:Y154)-1,COLUMNS($Y$105:Y154)-1),\"\")","v":""},{"$f":"IF(OFFSET(DE104_3!$Z$105,ROWS($Z$105:Z154)-1,COLUMNS($Z$105:Z154)-1)<>\"\",OFFSET(DE104_3!$Z$105,ROWS($Z$105:Z154)-1,COLUMNS($Z$105:Z154)-1),\"\")","v":""},{"$f":"IF(OFFSET(DE104_3!$AA$105,ROWS($AA$105:AA154)-1,COLUMNS($AA$105:AA154)-1)<>\"\",OFFSET(DE104_3!$AA$105,ROWS($AA$105:AA154)-1,COLUMNS($AA$105:AA154)-1),\"\")","v":""},{"$f":"IF(OFFSET(DE104_3!$AB$105,ROWS($AB$105:AB154)-1,COLUMNS($AB$105:AB154)-1)<>\"\",OFFSET(DE104_3!$AB$105,ROWS($AB$105:AB154)-1,COLUMNS($AB$105:AB154)-1),\"\")","v":""},{"$f":"IF(OFFSET(DE104_3!$AC$105,ROWS($AC$105:AC154)-1,COLUMNS($AC$105:AC154)-1)<>\"\",OFFSET(DE104_3!$AC$105,ROWS($AC$105:AC154)-1,COLUMNS($AC$105:AC154)-1),\"\")","v":""},{"$f":"IF(OFFSET(DE104_3!$AD$105,ROWS($AD$105:AD154)-1,COLUMNS($AD$105:AD154)-1)<>\"\",OFFSET(DE104_3!$AD$105,ROWS($AD$105:AD154)-1,COLUMNS($AD$105:AD154)-1),\"\")","v":""},{"$f":"IF(OFFSET(DE104_3!$AE$105,ROWS($AE$105:AE154)-1,COLUMNS($AE$105:AE154)-1)<>\"\",OFFSET(DE104_3!$AE$105,ROWS($AE$105:AE154)-1,COLUMNS($AE$105:AE154)-1),\"\")","v":""},{"$f":"IF(OFFSET(DE104_3!$AF$105,ROWS($AF$105:AF154)-1,COLUMNS($AF$105:AF154)-1)<>\"\",OFFSET(DE104_3!$AF$105,ROWS($AF$105:AF154)-1,COLUMNS($AF$105:AF154)-1),\"\")","v":""},{"$f":"IF(OFFSET(DE104_3!$AG$105,ROWS($AG$105:AG154)-1,COLUMNS($AG$105:AG154)-1)<>\"\",OFFSET(DE104_3!$AG$105,ROWS($AG$105:AG154)-1,COLUMNS($AG$105:AG154)-1),\"\")","v":""},{"$f":"IF(OFFSET(DE104_3!$AH$105,ROWS($AH$105:AH154)-1,COLUMNS($AH$105:AH154)-1)<>\"\",OFFSET(DE104_3!$AH$105,ROWS($AH$105:AH154)-1,COLUMNS($AH$105:AH154)-1),\"\")","v":""},{"$f":"IF(OFFSET(DE104_3!$AI$105,ROWS($AI$105:AI154)-1,COLUMNS($AI$105:AI154)-1)<>\"\",OFFSET(DE104_3!$AI$105,ROWS($AI$105:AI154)-1,COLUMNS($AI$105:AI154)-1),\"\")","v":""},{"$f":"IF(OFFSET(DE104_3!$AJ$105,ROWS($AJ$105:AJ154)-1,COLUMNS($AJ$105:AJ154)-1)<>\"\",OFFSET(DE104_3!$AJ$105,ROWS($AJ$105:AJ154)-1,COLUMNS($AJ$105:AJ154)-1),\"\")","v":""},{"$f":"IF(OFFSET(DE104_3!$AK$105,ROWS($AK$105:AK154)-1,COLUMNS($AK$105:AK154)-1)<>\"\",OFFSET(DE104_3!$AK$105,ROWS($AK$105:AK154)-1,COLUMNS($AK$105:AK154)-1),\"\")","v":""},{"$f":"IF(OFFSET(DE104_3!$AL$105,ROWS($AL$105:AL154)-1,COLUMNS($AL$105:AL154)-1)<>\"\",OFFSET(DE104_3!$AL$105,ROWS($AL$105:AL154)-1,COLUMNS($AL$105:AL154)-1),\"\")","v":""},{"$f":"IF(OFFSET(DE104_3!$AM$105,ROWS($AM$105:AM154)-1,COLUMNS($AM$105:AM154)-1)<>\"\",OFFSET(DE104_3!$AM$105,ROWS($AM$105:AM154)-1,COLUMNS($AM$105:AM154)-1),\"\")","v":""},{"$f":"IF(OFFSET(DE104_3!$AN$105,ROWS($AN$105:AN154)-1,COLUMNS($AN$105:AN154)-1)<>\"\",OFFSET(DE104_3!$AN$105,ROWS($AN$105:AN154)-1,COLUMNS($AN$105:AN154)-1),\"\")","v":""},{"$f":"IF(OFFSET(DE104_3!$AO$105,ROWS($AO$105:AO154)-1,COLUMNS($AO$105:AO154)-1)<>\"\",OFFSET(DE104_3!$AO$105,ROWS($AO$105:AO154)-1,COLUMNS($AO$105:AO154)-1),\"\")","v":""},{"$f":"IF(OFFSET(DE104_3!$AP$105,ROWS($AP$105:AP154)-1,COLUMNS($AP$105:AP154)-1)<>\"\",OFFSET(DE104_3!$AP$105,ROWS($AP$105:AP154)-1,COLUMNS($AP$105:AP154)-1),\"\")","v":""},{"$f":"IF(OFFSET(DE104_3!$AQ$105,ROWS($AQ$105:AQ154)-1,COLUMNS($AQ$105:AQ154)-1)<>\"\",OFFSET(DE104_3!$AQ$105,ROWS($AQ$105:AQ154)-1,COLUMNS($AQ$105:AQ154)-1),\"\")","v":""}]
[{"$f":"IF(OFFSET(DE104_3!$C$105,ROWS($C$105:C155)-1,COLUMNS($C$105:C155)-1)<>\"\",OFFSET(DE104_3!$C$105,ROWS($C$105:C155)-1,COLUMNS($C$105:C155)-1),\"\")","v":""},{"$f":"IF(OFFSET(DE104_3!$D$105,ROWS($D$105:D155)-1,COLUMNS($D$105:D155)-1)<>\"\",OFFSET(DE104_3!$D$105,ROWS($D$105:D155)-1,COLUMNS($D$105:D155)-1),\"\")","v":""},{"$f":"IF(OFFSET(DE104_3!$E$105,ROWS($E$105:E155)-1,COLUMNS($E$105:E155)-1)<>\"\",OFFSET(DE104_3!$E$105,ROWS($E$105:E155)-1,COLUMNS($E$105:E155)-1),\"\")","v":""},{"$f":"IF(OFFSET(DE104_3!$F$105,ROWS($F$105:F155)-1,COLUMNS($F$105:F155)-1)<>\"\",OFFSET(DE104_3!$F$105,ROWS($F$105:F155)-1,COLUMNS($F$105:F155)-1),\"\")","v":""},{"$f":"IF(OFFSET(DE104_3!$G$105,ROWS($G$105:G155)-1,COLUMNS($G$105:G155)-1)<>\"\",OFFSET(DE104_3!$G$105,ROWS($G$105:G155)-1,COLUMNS($G$105:G155)-1),\"\")","v":""},{"$f":"IF(OFFSET(DE104_3!$H$105,ROWS($H$105:H155)-1,COLUMNS($H$105:H155)-1)<>\"\",OFFSET(DE104_3!$H$105,ROWS($H$105:H155)-1,COLUMNS($H$105:H155)-1),\"\")","v":""},{"$f":"IF(OFFSET(DE104_3!$I$105,ROWS($I$105:I155)-1,COLUMNS($I$105:I155)-1)<>\"\",OFFSET(DE104_3!$I$105,ROWS($I$105:I155)-1,COLUMNS($I$105:I155)-1),\"\")","v":""},{"$f":"IF(OFFSET(DE104_3!$J$105,ROWS($J$105:J155)-1,COLUMNS($J$105:J155)-1)<>\"\",OFFSET(DE104_3!$J$105,ROWS($J$105:J155)-1,COLUMNS($J$105:J155)-1),\"\")","v":""},{"$f":"IF(OFFSET(DE104_3!$K$105,ROWS($K$105:K155)-1,COLUMNS($K$105:K155)-1)<>\"\",OFFSET(DE104_3!$K$105,ROWS($K$105:K155)-1,COLUMNS($K$105:K155)-1),\"\")","v":""},{"$f":"IF(OFFSET(DE104_3!$L$105,ROWS($L$105:L155)-1,COLUMNS($L$105:L155)-1)<>\"\",OFFSET(DE104_3!$L$105,ROWS($L$105:L155)-1,COLUMNS($L$105:L155)-1),\"\")","v":""},{"$f":"IF(OFFSET(DE104_3!$M$105,ROWS($M$105:M155)-1,COLUMNS($M$105:M155)-1)<>\"\",OFFSET(DE104_3!$M$105,ROWS($M$105:M155)-1,COLUMNS($M$105:M155)-1),\"\")","v":""},{"$f":"IF(OFFSET(DE104_3!$N$105,ROWS($N$105:N155)-1,COLUMNS($N$105:N155)-1)<>\"\",OFFSET(DE104_3!$N$105,ROWS($N$105:N155)-1,COLUMNS($N$105:N155)-1),\"\")","v":""},{"$f":"IF(OFFSET(DE104_3!$O$105,ROWS($O$105:O155)-1,COLUMNS($O$105:O155)-1)<>\"\",OFFSET(DE104_3!$O$105,ROWS($O$105:O155)-1,COLUMNS($O$105:O155)-1),\"\")","v":""},{"$f":"IF(OFFSET(DE104_3!$P$105,ROWS($P$105:P155)-1,COLUMNS($P$105:P155)-1)<>\"\",OFFSET(DE104_3!$P$105,ROWS($P$105:P155)-1,COLUMNS($P$105:P155)-1),\"\")","v":""},{"$f":"IF(OFFSET(DE104_3!$Q$105,ROWS($Q$105:Q155)-1,COLUMNS($Q$105:Q155)-1)<>\"\",OFFSET(DE104_3!$Q$105,ROWS($Q$105:Q155)-1,COLUMNS($Q$105:Q155)-1),\"\")","v":""},{"$f":"IF(OFFSET(DE104_3!$R$105,ROWS($R$105:R155)-1,COLUMNS($R$105:R155)-1)<>\"\",OFFSET(DE104_3!$R$105,ROWS($R$105:R155)-1,COLUMNS($R$105:R155)-1),\"\")","v":""},{"$f":"IF(OFFSET(DE104_3!$S$105,ROWS($S$105:S155)-1,COLUMNS($S$105:S155)-1)<>\"\",OFFSET(DE104_3!$S$105,ROWS($S$105:S155)-1,COLUMNS($S$105:S155)-1),\"\")","v":""},{"$f":"IF(OFFSET(DE104_3!$T$105,ROWS($T$105:T155)-1,COLUMNS($T$105:T155)-1)<>\"\",OFFSET(DE104_3!$T$105,ROWS($T$105:T155)-1,COLUMNS($T$105:T155)-1),\"\")","v":""},{"$f":"IF(OFFSET(DE104_3!$U$105,ROWS($U$105:U155)-1,COLUMNS($U$105:U155)-1)<>\"\",OFFSET(DE104_3!$U$105,ROWS($U$105:U155)-1,COLUMNS($U$105:U155)-1),\"\")","v":""},{"$f":"IF(OFFSET(DE104_3!$V$105,ROWS($V$105:V155)-1,COLUMNS($V$105:V155)-1)<>\"\",OFFSET(DE104_3!$V$105,ROWS($V$105:V155)-1,COLUMNS($V$105:V155)-1),\"\")","v":""},{"$f":"IF(OFFSET(DE104_3!$W$105,ROWS($W$105:W155)-1,COLUMNS($W$105:W155)-1)<>\"\",OFFSET(DE104_3!$W$105,ROWS($W$105:W155)-1,COLUMNS($W$105:W155)-1),\"\")","v":""},{"$f":"IF(OFFSET(DE104_3!$X$105,ROWS($X$105:X155)-1,COLUMNS($X$105:X155)-1)<>\"\",OFFSET(DE104_3!$X$105,ROWS($X$105:X155)-1,COLUMNS($X$105:X155)-1),\"\")","v":""},{"$f":"IF(OFFSET(DE104_3!$Y$105,ROWS($Y$105:Y155)-1,COLUMNS($Y$105:Y155)-1)<>\"\",OFFSET(DE104_3!$Y$105,ROWS($Y$105:Y155)-1,COLUMNS($Y$105:Y155)-1),\"\")","v":""},{"$f":"IF(OFFSET(DE104_3!$Z$105,ROWS($Z$105:Z155)-1,COLUMNS($Z$105:Z155)-1)<>\"\",OFFSET(DE104_3!$Z$105,ROWS($Z$105:Z155)-1,COLUMNS($Z$105:Z155)-1),\"\")","v":""},{"$f":"IF(OFFSET(DE104_3!$AA$105,ROWS($AA$105:AA155)-1,COLUMNS($AA$105:AA155)-1)<>\"\",OFFSET(DE104_3!$AA$105,ROWS($AA$105:AA155)-1,COLUMNS($AA$105:AA155)-1),\"\")","v":""},{"$f":"IF(OFFSET(DE104_3!$AB$105,ROWS($AB$105:AB155)-1,COLUMNS($AB$105:AB155)-1)<>\"\",OFFSET(DE104_3!$AB$105,ROWS($AB$105:AB155)-1,COLUMNS($AB$105:AB155)-1),\"\")","v":""},{"$f":"IF(OFFSET(DE104_3!$AC$105,ROWS($AC$105:AC155)-1,COLUMNS($AC$105:AC155)-1)<>\"\",OFFSET(DE104_3!$AC$105,ROWS($AC$105:AC155)-1,COLUMNS($AC$105:AC155)-1),\"\")","v":""},{"$f":"IF(OFFSET(DE104_3!$AD$105,ROWS($AD$105:AD155)-1,COLUMNS($AD$105:AD155)-1)<>\"\",OFFSET(DE104_3!$AD$105,ROWS($AD$105:AD155)-1,COLUMNS($AD$105:AD155)-1),\"\")","v":""},{"$f":"IF(OFFSET(DE104_3!$AE$105,ROWS($AE$105:AE155)-1,COLUMNS($AE$105:AE155)-1)<>\"\",OFFSET(DE104_3!$AE$105,ROWS($AE$105:AE155)-1,COLUMNS($AE$105:AE155)-1),\"\")","v":""},{"$f":"IF(OFFSET(DE104_3!$AF$105,ROWS($AF$105:AF155)-1,COLUMNS($AF$105:AF155)-1)<>\"\",OFFSET(DE104_3!$AF$105,ROWS($AF$105:AF155)-1,COLUMNS($AF$105:AF155)-1),\"\")","v":""},{"$f":"IF(OFFSET(DE104_3!$AG$105,ROWS($AG$105:AG155)-1,COLUMNS($AG$105:AG155)-1)<>\"\",OFFSET(DE104_3!$AG$105,ROWS($AG$105:AG155)-1,COLUMNS($AG$105:AG155)-1),\"\")","v":""},{"$f":"IF(OFFSET(DE104_3!$AH$105,ROWS($AH$105:AH155)-1,COLUMNS($AH$105:AH155)-1)<>\"\",OFFSET(DE104_3!$AH$105,ROWS($AH$105:AH155)-1,COLUMNS($AH$105:AH155)-1),\"\")","v":""},{"$f":"IF(OFFSET(DE104_3!$AI$105,ROWS($AI$105:AI155)-1,COLUMNS($AI$105:AI155)-1)<>\"\",OFFSET(DE104_3!$AI$105,ROWS($AI$105:AI155)-1,COLUMNS($AI$105:AI155)-1),\"\")","v":""},{"$f":"IF(OFFSET(DE104_3!$AJ$105,ROWS($AJ$105:AJ155)-1,COLUMNS($AJ$105:AJ155)-1)<>\"\",OFFSET(DE104_3!$AJ$105,ROWS($AJ$105:AJ155)-1,COLUMNS($AJ$105:AJ155)-1),\"\")","v":""},{"$f":"IF(OFFSET(DE104_3!$AK$105,ROWS($AK$105:AK155)-1,COLUMNS($AK$105:AK155)-1)<>\"\",OFFSET(DE104_3!$AK$105,ROWS($AK$105:AK155)-1,COLUMNS($AK$105:AK155)-1),\"\")","v":""},{"$f":"IF(OFFSET(DE104_3!$AL$105,ROWS($AL$105:AL155)-1,COLUMNS($AL$105:AL155)-1)<>\"\",OFFSET(DE104_3!$AL$105,ROWS($AL$105:AL155)-1,COLUMNS($AL$105:AL155)-1),\"\")","v":""},{"$f":"IF(OFFSET(DE104_3!$AM$105,ROWS($AM$105:AM155)-1,COLUMNS($AM$105:AM155)-1)<>\"\",OFFSET(DE104_3!$AM$105,ROWS($AM$105:AM155)-1,COLUMNS($AM$105:AM155)-1),\"\")","v":""},{"$f":"IF(OFFSET(DE104_3!$AN$105,ROWS($AN$105:AN155)-1,COLUMNS($AN$105:AN155)-1)<>\"\",OFFSET(DE104_3!$AN$105,ROWS($AN$105:AN155)-1,COLUMNS($AN$105:AN155)-1),\"\")","v":""},{"$f":"IF(OFFSET(DE104_3!$AO$105,ROWS($AO$105:AO155)-1,COLUMNS($AO$105:AO155)-1)<>\"\",OFFSET(DE104_3!$AO$105,ROWS($AO$105:AO155)-1,COLUMNS($AO$105:AO155)-1),\"\")","v":""},{"$f":"IF(OFFSET(DE104_3!$AP$105,ROWS($AP$105:AP155)-1,COLUMNS($AP$105:AP155)-1)<>\"\",OFFSET(DE104_3!$AP$105,ROWS($AP$105:AP155)-1,COLUMNS($AP$105:AP155)-1),\"\")","v":""},{"$f":"IF(OFFSET(DE104_3!$AQ$105,ROWS($AQ$105:AQ155)-1,COLUMNS($AQ$105:AQ155)-1)<>\"\",OFFSET(DE104_3!$AQ$105,ROWS($AQ$105:AQ155)-1,COLUMNS($AQ$105:AQ155)-1),\"\")","v":""}]
[{"$f":"IF(OFFSET(DE104_3!$C$105,ROWS($C$105:C156)-1,COLUMNS($C$105:C156)-1)<>\"\",OFFSET(DE104_3!$C$105,ROWS($C$105:C156)-1,COLUMNS($C$105:C156)-1),\"\")","v":""},{"$f":"IF(OFFSET(DE104_3!$D$105,ROWS($D$105:D156)-1,COLUMNS($D$105:D156)-1)<>\"\",OFFSET(DE104_3!$D$105,ROWS($D$105:D156)-1,COLUMNS($D$105:D156)-1),\"\")","v":""},{"$f":"IF(OFFSET(DE104_3!$E$105,ROWS($E$105:E156)-1,COLUMNS($E$105:E156)-1)<>\"\",OFFSET(DE104_3!$E$105,ROWS($E$105:E156)-1,COLUMNS($E$105:E156)-1),\"\")","v":""},{"$f":"IF(OFFSET(DE104_3!$F$105,ROWS($F$105:F156)-1,COLUMNS($F$105:F156)-1)<>\"\",OFFSET(DE104_3!$F$105,ROWS($F$105:F156)-1,COLUMNS($F$105:F156)-1),\"\")","v":""},{"$f":"IF(OFFSET(DE104_3!$G$105,ROWS($G$105:G156)-1,COLUMNS($G$105:G156)-1)<>\"\",OFFSET(DE104_3!$G$105,ROWS($G$105:G156)-1,COLUMNS($G$105:G156)-1),\"\")","v":""},{"$f":"IF(OFFSET(DE104_3!$H$105,ROWS($H$105:H156)-1,COLUMNS($H$105:H156)-1)<>\"\",OFFSET(DE104_3!$H$105,ROWS($H$105:H156)-1,COLUMNS($H$105:H156)-1),\"\")","v":""},{"$f":"IF(OFFSET(DE104_3!$I$105,ROWS($I$105:I156)-1,COLUMNS($I$105:I156)-1)<>\"\",OFFSET(DE104_3!$I$105,ROWS($I$105:I156)-1,COLUMNS($I$105:I156)-1),\"\")","v":""},{"$f":"IF(OFFSET(DE104_3!$J$105,ROWS($J$105:J156)-1,COLUMNS($J$105:J156)-1)<>\"\",OFFSET(DE104_3!$J$105,ROWS($J$105:J156)-1,COLUMNS($J$105:J156)-1),\"\")","v":""},{"$f":"IF(OFFSET(DE104_3!$K$105,ROWS($K$105:K156)-1,COLUMNS($K$105:K156)-1)<>\"\",OFFSET(DE104_3!$K$105,ROWS($K$105:K156)-1,COLUMNS($K$105:K156)-1),\"\")","v":""},{"$f":"IF(OFFSET(DE104_3!$L$105,ROWS($L$105:L156)-1,COLUMNS($L$105:L156)-1)<>\"\",OFFSET(DE104_3!$L$105,ROWS($L$105:L156)-1,COLUMNS($L$105:L156)-1),\"\")","v":""},{"$f":"IF(OFFSET(DE104_3!$M$105,ROWS($M$105:M156)-1,COLUMNS($M$105:M156)-1)<>\"\",OFFSET(DE104_3!$M$105,ROWS($M$105:M156)-1,COLUMNS($M$105:M156)-1),\"\")","v":""},{"$f":"IF(OFFSET(DE104_3!$N$105,ROWS($N$105:N156)-1,COLUMNS($N$105:N156)-1)<>\"\",OFFSET(DE104_3!$N$105,ROWS($N$105:N156)-1,COLUMNS($N$105:N156)-1),\"\")","v":""},{"$f":"IF(OFFSET(DE104_3!$O$105,ROWS($O$105:O156)-1,COLUMNS($O$105:O156)-1)<>\"\",OFFSET(DE104_3!$O$105,ROWS($O$105:O156)-1,COLUMNS($O$105:O156)-1),\"\")","v":""},{"$f":"IF(OFFSET(DE104_3!$P$105,ROWS($P$105:P156)-1,COLUMNS($P$105:P156)-1)<>\"\",OFFSET(DE104_3!$P$105,ROWS($P$105:P156)-1,COLUMNS($P$105:P156)-1),\"\")","v":""},{"$f":"IF(OFFSET(DE104_3!$Q$105,ROWS($Q$105:Q156)-1,COLUMNS($Q$105:Q156)-1)<>\"\",OFFSET(DE104_3!$Q$105,ROWS($Q$105:Q156)-1,COLUMNS($Q$105:Q156)-1),\"\")","v":""},{"$f":"IF(OFFSET(DE104_3!$R$105,ROWS($R$105:R156)-1,COLUMNS($R$105:R156)-1)<>\"\",OFFSET(DE104_3!$R$105,ROWS($R$105:R156)-1,COLUMNS($R$105:R156)-1),\"\")","v":""},{"$f":"IF(OFFSET(DE104_3!$S$105,ROWS($S$105:S156)-1,COLUMNS($S$105:S156)-1)<>\"\",OFFSET(DE104_3!$S$105,ROWS($S$105:S156)-1,COLUMNS($S$105:S156)-1),\"\")","v":""},{"$f":"IF(OFFSET(DE104_3!$T$105,ROWS($T$105:T156)-1,COLUMNS($T$105:T156)-1)<>\"\",OFFSET(DE104_3!$T$105,ROWS($T$105:T156)-1,COLUMNS($T$105:T156)-1),\"\")","v":""},{"$f":"IF(OFFSET(DE104_3!$U$105,ROWS($U$105:U156)-1,COLUMNS($U$105:U156)-1)<>\"\",OFFSET(DE104_3!$U$105,ROWS($U$105:U156)-1,COLUMNS($U$105:U156)-1),\"\")","v":""},{"$f":"IF(OFFSET(DE104_3!$V$105,ROWS($V$105:V156)-1,COLUMNS($V$105:V156)-1)<>\"\",OFFSET(DE104_3!$V$105,ROWS($V$105:V156)-1,COLUMNS($V$105:V156)-1),\"\")","v":""},{"$f":"IF(OFFSET(DE104_3!$W$105,ROWS($W$105:W156)-1,COLUMNS($W$105:W156)-1)<>\"\",OFFSET(DE104_3!$W$105,ROWS($W$105:W156)-1,COLUMNS($W$105:W156)-1),\"\")","v":""},{"$f":"IF(OFFSET(DE104_3!$X$105,ROWS($X$105:X156)-1,COLUMNS($X$105:X156)-1)<>\"\",OFFSET(DE104_3!$X$105,ROWS($X$105:X156)-1,COLUMNS($X$105:X156)-1),\"\")","v":""},{"$f":"IF(OFFSET(DE104_3!$Y$105,ROWS($Y$105:Y156)-1,COLUMNS($Y$105:Y156)-1)<>\"\",OFFSET(DE104_3!$Y$105,ROWS($Y$105:Y156)-1,COLUMNS($Y$105:Y156)-1),\"\")","v":""},{"$f":"IF(OFFSET(DE104_3!$Z$105,ROWS($Z$105:Z156)-1,COLUMNS($Z$105:Z156)-1)<>\"\",OFFSET(DE104_3!$Z$105,ROWS($Z$105:Z156)-1,COLUMNS($Z$105:Z156)-1),\"\")","v":""},{"$f":"IF(OFFSET(DE104_3!$AA$105,ROWS($AA$105:AA156)-1,COLUMNS($AA$105:AA156)-1)<>\"\",OFFSET(DE104_3!$AA$105,ROWS($AA$105:AA156)-1,COLUMNS($AA$105:AA156)-1),\"\")","v":""},{"$f":"IF(OFFSET(DE104_3!$AB$105,ROWS($AB$105:AB156)-1,COLUMNS($AB$105:AB156)-1)<>\"\",OFFSET(DE104_3!$AB$105,ROWS($AB$105:AB156)-1,COLUMNS($AB$105:AB156)-1),\"\")","v":""},{"$f":"IF(OFFSET(DE104_3!$AC$105,ROWS($AC$105:AC156)-1,COLUMNS($AC$105:AC156)-1)<>\"\",OFFSET(DE104_3!$AC$105,ROWS($AC$105:AC156)-1,COLUMNS($AC$105:AC156)-1),\"\")","v":""},{"$f":"IF(OFFSET(DE104_3!$AD$105,ROWS($AD$105:AD156)-1,COLUMNS($AD$105:AD156)-1)<>\"\",OFFSET(DE104_3!$AD$105,ROWS($AD$105:AD156)-1,COLUMNS($AD$105:AD156)-1),\"\")","v":""},{"$f":"IF(OFFSET(DE104_3!$AE$105,ROWS($AE$105:AE156)-1,COLUMNS($AE$105:AE156)-1)<>\"\",OFFSET(DE104_3!$AE$105,ROWS($AE$105:AE156)-1,COLUMNS($AE$105:AE156)-1),\"\")","v":""},{"$f":"IF(OFFSET(DE104_3!$AF$105,ROWS($AF$105:AF156)-1,COLUMNS($AF$105:AF156)-1)<>\"\",OFFSET(DE104_3!$AF$105,ROWS($AF$105:AF156)-1,COLUMNS($AF$105:AF156)-1),\"\")","v":""},{"$f":"IF(OFFSET(DE104_3!$AG$105,ROWS($AG$105:AG156)-1,COLUMNS($AG$105:AG156)-1)<>\"\",OFFSET(DE104_3!$AG$105,ROWS($AG$105:AG156)-1,COLUMNS($AG$105:AG156)-1),\"\")","v":""},{"$f":"IF(OFFSET(DE104_3!$AH$105,ROWS($AH$105:AH156)-1,COLUMNS($AH$105:AH156)-1)<>\"\",OFFSET(DE104_3!$AH$105,ROWS($AH$105:AH156)-1,COLUMNS($AH$105:AH156)-1),\"\")","v":""},{"$f":"IF(OFFSET(DE104_3!$AI$105,ROWS($AI$105:AI156)-1,COLUMNS($AI$105:AI156)-1)<>\"\",OFFSET(DE104_3!$AI$105,ROWS($AI$105:AI156)-1,COLUMNS($AI$105:AI156)-1),\"\")","v":""},{"$f":"IF(OFFSET(DE104_3!$AJ$105,ROWS($AJ$105:AJ156)-1,COLUMNS($AJ$105:AJ156)-1)<>\"\",OFFSET(DE104_3!$AJ$105,ROWS($AJ$105:AJ156)-1,COLUMNS($AJ$105:AJ156)-1),\"\")","v":""},{"$f":"IF(OFFSET(DE104_3!$AK$105,ROWS($AK$105:AK156)-1,COLUMNS($AK$105:AK156)-1)<>\"\",OFFSET(DE104_3!$AK$105,ROWS($AK$105:AK156)-1,COLUMNS($AK$105:AK156)-1),\"\")","v":""},{"$f":"IF(OFFSET(DE104_3!$AL$105,ROWS($AL$105:AL156)-1,COLUMNS($AL$105:AL156)-1)<>\"\",OFFSET(DE104_3!$AL$105,ROWS($AL$105:AL156)-1,COLUMNS($AL$105:AL156)-1),\"\")","v":""},{"$f":"IF(OFFSET(DE104_3!$AM$105,ROWS($AM$105:AM156)-1,COLUMNS($AM$105:AM156)-1)<>\"\",OFFSET(DE104_3!$AM$105,ROWS($AM$105:AM156)-1,COLUMNS($AM$105:AM156)-1),\"\")","v":""},{"$f":"IF(OFFSET(DE104_3!$AN$105,ROWS($AN$105:AN156)-1,COLUMNS($AN$105:AN156)-1)<>\"\",OFFSET(DE104_3!$AN$105,ROWS($AN$105:AN156)-1,COLUMNS($AN$105:AN156)-1),\"\")","v":""},{"$f":"IF(OFFSET(DE104_3!$AO$105,ROWS($AO$105:AO156)-1,COLUMNS($AO$105:AO156)-1)<>\"\",OFFSET(DE104_3!$AO$105,ROWS($AO$105:AO156)-1,COLUMNS($AO$105:AO156)-1),\"\")","v":""},{"$f":"IF(OFFSET(DE104_3!$AP$105,ROWS($AP$105:AP156)-1,COLUMNS($AP$105:AP156)-1)<>\"\",OFFSET(DE104_3!$AP$105,ROWS($AP$105:AP156)-1,COLUMNS($AP$105:AP156)-1),\"\")","v":""},{"$f":"IF(OFFSET(DE104_3!$AQ$105,ROWS($AQ$105:AQ156)-1,COLUMNS($AQ$105:AQ156)-1)<>\"\",OFFSET(DE104_3!$AQ$105,ROWS($AQ$105:AQ156)-1,COLUMNS($AQ$105:AQ156)-1),\"\")","v":""}]
[{"$f":"IF(OFFSET(DE104_3!$C$105,ROWS($C$105:C157)-1,COLUMNS($C$105:C157)-1)<>\"\",OFFSET(DE104_3!$C$105,ROWS($C$105:C157)-1,COLUMNS($C$105:C157)-1),\"\")","v":""},{"$f":"IF(OFFSET(DE104_3!$D$105,ROWS($D$105:D157)-1,COLUMNS($D$105:D157)-1)<>\"\",OFFSET(DE104_3!$D$105,ROWS($D$105:D157)-1,COLUMNS($D$105:D157)-1),\"\")","v":""},{"$f":"IF(OFFSET(DE104_3!$E$105,ROWS($E$105:E157)-1,COLUMNS($E$105:E157)-1)<>\"\",OFFSET(DE104_3!$E$105,ROWS($E$105:E157)-1,COLUMNS($E$105:E157)-1),\"\")","v":""},{"$f":"IF(OFFSET(DE104_3!$F$105,ROWS($F$105:F157)-1,COLUMNS($F$105:F157)-1)<>\"\",OFFSET(DE104_3!$F$105,ROWS($F$105:F157)-1,COLUMNS($F$105:F157)-1),\"\")","v":""},{"$f":"IF(OFFSET(DE104_3!$G$105,ROWS($G$105:G157)-1,COLUMNS($G$105:G157)-1)<>\"\",OFFSET(DE104_3!$G$105,ROWS($G$105:G157)-1,COLUMNS($G$105:G157)-1),\"\")","v":""},{"$f":"IF(OFFSET(DE104_3!$H$105,ROWS($H$105:H157)-1,COLUMNS($H$105:H157)-1)<>\"\",OFFSET(DE104_3!$H$105,ROWS($H$105:H157)-1,COLUMNS($H$105:H157)-1),\"\")","v":""},{"$f":"IF(OFFSET(DE104_3!$I$105,ROWS($I$105:I157)-1,COLUMNS($I$105:I157)-1)<>\"\",OFFSET(DE104_3!$I$105,ROWS($I$105:I157)-1,COLUMNS($I$105:I157)-1),\"\")","v":""},{"$f":"IF(OFFSET(DE104_3!$J$105,ROWS($J$105:J157)-1,COLUMNS($J$105:J157)-1)<>\"\",OFFSET(DE104_3!$J$105,ROWS($J$105:J157)-1,COLUMNS($J$105:J157)-1),\"\")","v":""},{"$f":"IF(OFFSET(DE104_3!$K$105,ROWS($K$105:K157)-1,COLUMNS($K$105:K157)-1)<>\"\",OFFSET(DE104_3!$K$105,ROWS($K$105:K157)-1,COLUMNS($K$105:K157)-1),\"\")","v":""},{"$f":"IF(OFFSET(DE104_3!$L$105,ROWS($L$105:L157)-1,COLUMNS($L$105:L157)-1)<>\"\",OFFSET(DE104_3!$L$105,ROWS($L$105:L157)-1,COLUMNS($L$105:L157)-1),\"\")","v":""},{"$f":"IF(OFFSET(DE104_3!$M$105,ROWS($M$105:M157)-1,COLUMNS($M$105:M157)-1)<>\"\",OFFSET(DE104_3!$M$105,ROWS($M$105:M157)-1,COLUMNS($M$105:M157)-1),\"\")","v":""},{"$f":"IF(OFFSET(DE104_3!$N$105,ROWS($N$105:N157)-1,COLUMNS($N$105:N157)-1)<>\"\",OFFSET(DE104_3!$N$105,ROWS($N$105:N157)-1,COLUMNS($N$105:N157)-1),\"\")","v":""},{"$f":"IF(OFFSET(DE104_3!$O$105,ROWS($O$105:O157)-1,COLUMNS($O$105:O157)-1)<>\"\",OFFSET(DE104_3!$O$105,ROWS($O$105:O157)-1,COLUMNS($O$105:O157)-1),\"\")","v":""},{"$f":"IF(OFFSET(DE104_3!$P$105,ROWS($P$105:P157)-1,COLUMNS($P$105:P157)-1)<>\"\",OFFSET(DE104_3!$P$105,ROWS($P$105:P157)-1,COLUMNS($P$105:P157)-1),\"\")","v":""},{"$f":"IF(OFFSET(DE104_3!$Q$105,ROWS($Q$105:Q157)-1,COLUMNS($Q$105:Q157)-1)<>\"\",OFFSET(DE104_3!$Q$105,ROWS($Q$105:Q157)-1,COLUMNS($Q$105:Q157)-1),\"\")","v":""},{"$f":"IF(OFFSET(DE104_3!$R$105,ROWS($R$105:R157)-1,COLUMNS($R$105:R157)-1)<>\"\",OFFSET(DE104_3!$R$105,ROWS($R$105:R157)-1,COLUMNS($R$105:R157)-1),\"\")","v":""},{"$f":"IF(OFFSET(DE104_3!$S$105,ROWS($S$105:S157)-1,COLUMNS($S$105:S157)-1)<>\"\",OFFSET(DE104_3!$S$105,ROWS($S$105:S157)-1,COLUMNS($S$105:S157)-1),\"\")","v":""},{"$f":"IF(OFFSET(DE104_3!$T$105,ROWS($T$105:T157)-1,COLUMNS($T$105:T157)-1)<>\"\",OFFSET(DE104_3!$T$105,ROWS($T$105:T157)-1,COLUMNS($T$105:T157)-1),\"\")","v":""},{"$f":"IF(OFFSET(DE104_3!$U$105,ROWS($U$105:U157)-1,COLUMNS($U$105:U157)-1)<>\"\",OFFSET(DE104_3!$U$105,ROWS($U$105:U157)-1,COLUMNS($U$105:U157)-1),\"\")","v":""},{"$f":"IF(OFFSET(DE104_3!$V$105,ROWS($V$105:V157)-1,COLUMNS($V$105:V157)-1)<>\"\",OFFSET(DE104_3!$V$105,ROWS($V$105:V157)-1,COLUMNS($V$105:V157)-1),\"\")","v":""},{"$f":"IF(OFFSET(DE104_3!$W$105,ROWS($W$105:W157)-1,COLUMNS($W$105:W157)-1)<>\"\",OFFSET(DE104_3!$W$105,ROWS($W$105:W157)-1,COLUMNS($W$105:W157)-1),\"\")","v":""},{"$f":"IF(OFFSET(DE104_3!$X$105,ROWS($X$105:X157)-1,COLUMNS($X$105:X157)-1)<>\"\",OFFSET(DE104_3!$X$105,ROWS($X$105:X157)-1,COLUMNS($X$105:X157)-1),\"\")","v":""},{"$f":"IF(OFFSET(DE104_3!$Y$105,ROWS($Y$105:Y157)-1,COLUMNS($Y$105:Y157)-1)<>\"\",OFFSET(DE104_3!$Y$105,ROWS($Y$105:Y157)-1,COLUMNS($Y$105:Y157)-1),\"\")","v":""},{"$f":"IF(OFFSET(DE104_3!$Z$105,ROWS($Z$105:Z157)-1,COLUMNS($Z$105:Z157)-1)<>\"\",OFFSET(DE104_3!$Z$105,ROWS($Z$105:Z157)-1,COLUMNS($Z$105:Z157)-1),\"\")","v":""},{"$f":"IF(OFFSET(DE104_3!$AA$105,ROWS($AA$105:AA157)-1,COLUMNS($AA$105:AA157)-1)<>\"\",OFFSET(DE104_3!$AA$105,ROWS($AA$105:AA157)-1,COLUMNS($AA$105:AA157)-1),\"\")","v":""},{"$f":"IF(OFFSET(DE104_3!$AB$105,ROWS($AB$105:AB157)-1,COLUMNS($AB$105:AB157)-1)<>\"\",OFFSET(DE104_3!$AB$105,ROWS($AB$105:AB157)-1,COLUMNS($AB$105:AB157)-1),\"\")","v":""},{"$f":"IF(OFFSET(DE104_3!$AC$105,ROWS($AC$105:AC157)-1,COLUMNS($AC$105:AC157)-1)<>\"\",OFFSET(DE104_3!$AC$105,ROWS($AC$105:AC157)-1,COLUMNS($AC$105:AC157)-1),\"\")","v":""},{"$f":"IF(OFFSET(DE104_3!$AD$105,ROWS($AD$105:AD157)-1,COLUMNS($AD$105:AD157)-1)<>\"\",OFFSET(DE104_3!$AD$105,ROWS($AD$105:AD157)-1,COLUMNS($AD$105:AD157)-1),\"\")","v":""},{"$f":"IF(OFFSET(DE104_3!$AE$105,ROWS($AE$105:AE157)-1,COLUMNS($AE$105:AE157)-1)<>\"\",OFFSET(DE104_3!$AE$105,ROWS($AE$105:AE157)-1,COLUMNS($AE$105:AE157)-1),\"\")","v":""},{"$f":"IF(OFFSET(DE104_3!$AF$105,ROWS($AF$105:AF157)-1,COLUMNS($AF$105:AF157)-1)<>\"\",OFFSET(DE104_3!$AF$105,ROWS($AF$105:AF157)-1,COLUMNS($AF$105:AF157)-1),\"\")","v":""},{"$f":"IF(OFFSET(DE104_3!$AG$105,ROWS($AG$105:AG157)-1,COLUMNS($AG$105:AG157)-1)<>\"\",OFFSET(DE104_3!$AG$105,ROWS($AG$105:AG157)-1,COLUMNS($AG$105:AG157)-1),\"\")","v":""},{"$f":"IF(OFFSET(DE104_3!$AH$105,ROWS($AH$105:AH157)-1,COLUMNS($AH$105:AH157)-1)<>\"\",OFFSET(DE104_3!$AH$105,ROWS($AH$105:AH157)-1,COLUMNS($AH$105:AH157)-1),\"\")","v":""},{"$f":"IF(OFFSET(DE104_3!$AI$105,ROWS($AI$105:AI157)-1,COLUMNS($AI$105:AI157)-1)<>\"\",OFFSET(DE104_3!$AI$105,ROWS($AI$105:AI157)-1,COLUMNS($AI$105:AI157)-1),\"\")","v":""},{"$f":"IF(OFFSET(DE104_3!$AJ$105,ROWS($AJ$105:AJ157)-1,COLUMNS($AJ$105:AJ157)-1)<>\"\",OFFSET(DE104_3!$AJ$105,ROWS($AJ$105:AJ157)-1,COLUMNS($AJ$105:AJ157)-1),\"\")","v":""},{"$f":"IF(OFFSET(DE104_3!$AK$105,ROWS($AK$105:AK157)-1,COLUMNS($AK$105:AK157)-1)<>\"\",OFFSET(DE104_3!$AK$105,ROWS($AK$105:AK157)-1,COLUMNS($AK$105:AK157)-1),\"\")","v":""},{"$f":"IF(OFFSET(DE104_3!$AL$105,ROWS($AL$105:AL157)-1,COLUMNS($AL$105:AL157)-1)<>\"\",OFFSET(DE104_3!$AL$105,ROWS($AL$105:AL157)-1,COLUMNS($AL$105:AL157)-1),\"\")","v":""},{"$f":"IF(OFFSET(DE104_3!$AM$105,ROWS($AM$105:AM157)-1,COLUMNS($AM$105:AM157)-1)<>\"\",OFFSET(DE104_3!$AM$105,ROWS($AM$105:AM157)-1,COLUMNS($AM$105:AM157)-1),\"\")","v":""},{"$f":"IF(OFFSET(DE104_3!$AN$105,ROWS($AN$105:AN157)-1,COLUMNS($AN$105:AN157)-1)<>\"\",OFFSET(DE104_3!$AN$105,ROWS($AN$105:AN157)-1,COLUMNS($AN$105:AN157)-1),\"\")","v":""},{"$f":"IF(OFFSET(DE104_3!$AO$105,ROWS($AO$105:AO157)-1,COLUMNS($AO$105:AO157)-1)<>\"\",OFFSET(DE104_3!$AO$105,ROWS($AO$105:AO157)-1,COLUMNS($AO$105:AO157)-1),\"\")","v":""},{"$f":"IF(OFFSET(DE104_3!$AP$105,ROWS($AP$105:AP157)-1,COLUMNS($AP$105:AP157)-1)<>\"\",OFFSET(DE104_3!$AP$105,ROWS($AP$105:AP157)-1,COLUMNS($AP$105:AP157)-1),\"\")","v":""},{"$f":"IF(OFFSET(DE104_3!$AQ$105,ROWS($AQ$105:AQ157)-1,COLUMNS($AQ$105:AQ157)-1)<>\"\",OFFSET(DE104_3!$AQ$105,ROWS($AQ$105:AQ157)-1,COLUMNS($AQ$105:AQ157)-1),\"\")","v":""}]
[{"$f":"IF(OFFSET(DE104_3!$C$105,ROWS($C$105:C158)-1,COLUMNS($C$105:C158)-1)<>\"\",OFFSET(DE104_3!$C$105,ROWS($C$105:C158)-1,COLUMNS($C$105:C158)-1),\"\")","v":""},{"$f":"IF(OFFSET(DE104_3!$D$105,ROWS($D$105:D158)-1,COLUMNS($D$105:D158)-1)<>\"\",OFFSET(DE104_3!$D$105,ROWS($D$105:D158)-1,COLUMNS($D$105:D158)-1),\"\")","v":""},{"$f":"IF(OFFSET(DE104_3!$E$105,ROWS($E$105:E158)-1,COLUMNS($E$105:E158)-1)<>\"\",OFFSET(DE104_3!$E$105,ROWS($E$105:E158)-1,COLUMNS($E$105:E158)-1),\"\")","v":""},{"$f":"IF(OFFSET(DE104_3!$F$105,ROWS($F$105:F158)-1,COLUMNS($F$105:F158)-1)<>\"\",OFFSET(DE104_3!$F$105,ROWS($F$105:F158)-1,COLUMNS($F$105:F158)-1),\"\")","v":""},{"$f":"IF(OFFSET(DE104_3!$G$105,ROWS($G$105:G158)-1,COLUMNS($G$105:G158)-1)<>\"\",OFFSET(DE104_3!$G$105,ROWS($G$105:G158)-1,COLUMNS($G$105:G158)-1),\"\")","v":""},{"$f":"IF(OFFSET(DE104_3!$H$105,ROWS($H$105:H158)-1,COLUMNS($H$105:H158)-1)<>\"\",OFFSET(DE104_3!$H$105,ROWS($H$105:H158)-1,COLUMNS($H$105:H158)-1),\"\")","v":""},{"$f":"IF(OFFSET(DE104_3!$I$105,ROWS($I$105:I158)-1,COLUMNS($I$105:I158)-1)<>\"\",OFFSET(DE104_3!$I$105,ROWS($I$105:I158)-1,COLUMNS($I$105:I158)-1),\"\")","v":""},{"$f":"IF(OFFSET(DE104_3!$J$105,ROWS($J$105:J158)-1,COLUMNS($J$105:J158)-1)<>\"\",OFFSET(DE104_3!$J$105,ROWS($J$105:J158)-1,COLUMNS($J$105:J158)-1),\"\")","v":""},{"$f":"IF(OFFSET(DE104_3!$K$105,ROWS($K$105:K158)-1,COLUMNS($K$105:K158)-1)<>\"\",OFFSET(DE104_3!$K$105,ROWS($K$105:K158)-1,COLUMNS($K$105:K158)-1),\"\")","v":""},{"$f":"IF(OFFSET(DE104_3!$L$105,ROWS($L$105:L158)-1,COLUMNS($L$105:L158)-1)<>\"\",OFFSET(DE104_3!$L$105,ROWS($L$105:L158)-1,COLUMNS($L$105:L158)-1),\"\")","v":""},{"$f":"IF(OFFSET(DE104_3!$M$105,ROWS($M$105:M158)-1,COLUMNS($M$105:M158)-1)<>\"\",OFFSET(DE104_3!$M$105,ROWS($M$105:M158)-1,COLUMNS($M$105:M158)-1),\"\")","v":""},{"$f":"IF(OFFSET(DE104_3!$N$105,ROWS($N$105:N158)-1,COLUMNS($N$105:N158)-1)<>\"\",OFFSET(DE104_3!$N$105,ROWS($N$105:N158)-1,COLUMNS($N$105:N158)-1),\"\")","v":""},{"$f":"IF(OFFSET(DE104_3!$O$105,ROWS($O$105:O158)-1,COLUMNS($O$105:O158)-1)<>\"\",OFFSET(DE104_3!$O$105,ROWS($O$105:O158)-1,COLUMNS($O$105:O158)-1),\"\")","v":""},{"$f":"IF(OFFSET(DE104_3!$P$105,ROWS($P$105:P158)-1,COLUMNS($P$105:P158)-1)<>\"\",OFFSET(DE104_3!$P$105,ROWS($P$105:P158)-1,COLUMNS($P$105:P158)-1),\"\")","v":""},{"$f":"IF(OFFSET(DE104_3!$Q$105,ROWS($Q$105:Q158)-1,COLUMNS($Q$105:Q158)-1)<>\"\",OFFSET(DE104_3!$Q$105,ROWS($Q$105:Q158)-1,COLUMNS($Q$105:Q158)-1),\"\")","v":""},{"$f":"IF(OFFSET(DE104_3!$R$105,ROWS($R$105:R158)-1,COLUMNS($R$105:R158)-1)<>\"\",OFFSET(DE104_3!$R$105,ROWS($R$105:R158)-1,COLUMNS($R$105:R158)-1),\"\")","v":""},{"$f":"IF(OFFSET(DE104_3!$S$105,ROWS($S$105:S158)-1,COLUMNS($S$105:S158)-1)<>\"\",OFFSET(DE104_3!$S$105,ROWS($S$105:S158)-1,COLUMNS($S$105:S158)-1),\"\")","v":""},{"$f":"IF(OFFSET(DE104_3!$T$105,ROWS($T$105:T158)-1,COLUMNS($T$105:T158)-1)<>\"\",OFFSET(DE104_3!$T$105,ROWS($T$105:T158)-1,COLUMNS($T$105:T158)-1),\"\")","v":""},{"$f":"IF(OFFSET(DE104_3!$U$105,ROWS($U$105:U158)-1,COLUMNS($U$105:U158)-1)<>\"\",OFFSET(DE104_3!$U$105,ROWS($U$105:U158)-1,COLUMNS($U$105:U158)-1),\"\")","v":""},{"$f":"IF(OFFSET(DE104_3!$V$105,ROWS($V$105:V158)-1,COLUMNS($V$105:V158)-1)<>\"\",OFFSET(DE104_3!$V$105,ROWS($V$105:V158)-1,COLUMNS($V$105:V158)-1),\"\")","v":""},{"$f":"IF(OFFSET(DE104_3!$W$105,ROWS($W$105:W158)-1,COLUMNS($W$105:W158)-1)<>\"\",OFFSET(DE104_3!$W$105,ROWS($W$105:W158)-1,COLUMNS($W$105:W158)-1),\"\")","v":""},{"$f":"IF(OFFSET(DE104_3!$X$105,ROWS($X$105:X158)-1,COLUMNS($X$105:X158)-1)<>\"\",OFFSET(DE104_3!$X$105,ROWS($X$105:X158)-1,COLUMNS($X$105:X158)-1),\"\")","v":""},{"$f":"IF(OFFSET(DE104_3!$Y$105,ROWS($Y$105:Y158)-1,COLUMNS($Y$105:Y158)-1)<>\"\",OFFSET(DE104_3!$Y$105,ROWS($Y$105:Y158)-1,COLUMNS($Y$105:Y158)-1),\"\")","v":""},{"$f":"IF(OFFSET(DE104_3!$Z$105,ROWS($Z$105:Z158)-1,COLUMNS($Z$105:Z158)-1)<>\"\",OFFSET(DE104_3!$Z$105,ROWS($Z$105:Z158)-1,COLUMNS($Z$105:Z158)-1),\"\")","v":""},{"$f":"IF(OFFSET(DE104_3!$AA$105,ROWS($AA$105:AA158)-1,COLUMNS($AA$105:AA158)-1)<>\"\",OFFSET(DE104_3!$AA$105,ROWS($AA$105:AA158)-1,COLUMNS($AA$105:AA158)-1),\"\")","v":""},{"$f":"IF(OFFSET(DE104_3!$AB$105,ROWS($AB$105:AB158)-1,COLUMNS($AB$105:AB158)-1)<>\"\",OFFSET(DE104_3!$AB$105,ROWS($AB$105:AB158)-1,COLUMNS($AB$105:AB158)-1),\"\")","v":""},{"$f":"IF(OFFSET(DE104_3!$AC$105,ROWS($AC$105:AC158)-1,COLUMNS($AC$105:AC158)-1)<>\"\",OFFSET(DE104_3!$AC$105,ROWS($AC$105:AC158)-1,COLUMNS($AC$105:AC158)-1),\"\")","v":""},{"$f":"IF(OFFSET(DE104_3!$AD$105,ROWS($AD$105:AD158)-1,COLUMNS($AD$105:AD158)-1)<>\"\",OFFSET(DE104_3!$AD$105,ROWS($AD$105:AD158)-1,COLUMNS($AD$105:AD158)-1),\"\")","v":""},{"$f":"IF(OFFSET(DE104_3!$AE$105,ROWS($AE$105:AE158)-1,COLUMNS($AE$105:AE158)-1)<>\"\",OFFSET(DE104_3!$AE$105,ROWS($AE$105:AE158)-1,COLUMNS($AE$105:AE158)-1),\"\")","v":""},{"$f":"IF(OFFSET(DE104_3!$AF$105,ROWS($AF$105:AF158)-1,COLUMNS($AF$105:AF158)-1)<>\"\",OFFSET(DE104_3!$AF$105,ROWS($AF$105:AF158)-1,COLUMNS($AF$105:AF158)-1),\"\")","v":""},{"$f":"IF(OFFSET(DE104_3!$AG$105,ROWS($AG$105:AG158)-1,COLUMNS($AG$105:AG158)-1)<>\"\",OFFSET(DE104_3!$AG$105,ROWS($AG$105:AG158)-1,COLUMNS($AG$105:AG158)-1),\"\")","v":""},{"$f":"IF(OFFSET(DE104_3!$AH$105,ROWS($AH$105:AH158)-1,COLUMNS($AH$105:AH158)-1)<>\"\",OFFSET(DE104_3!$AH$105,ROWS($AH$105:AH158)-1,COLUMNS($AH$105:AH158)-1),\"\")","v":""},{"$f":"IF(OFFSET(DE104_3!$AI$105,ROWS($AI$105:AI158)-1,COLUMNS($AI$105:AI158)-1)<>\"\",OFFSET(DE104_3!$AI$105,ROWS($AI$105:AI158)-1,COLUMNS($AI$105:AI158)-1),\"\")","v":""},{"$f":"IF(OFFSET(DE104_3!$AJ$105,ROWS($AJ$105:AJ158)-1,COLUMNS($AJ$105:AJ158)-1)<>\"\",OFFSET(DE104_3!$AJ$105,ROWS($AJ$105:AJ158)-1,COLUMNS($AJ$105:AJ158)-1),\"\")","v":""},{"$f":"IF(OFFSET(DE104_3!$AK$105,ROWS($AK$105:AK158)-1,COLUMNS($AK$105:AK158)-1)<>\"\",OFFSET(DE104_3!$AK$105,ROWS($AK$105:AK158)-1,COLUMNS($AK$105:AK158)-1),\"\")","v":""},{"$f":"IF(OFFSET(DE104_3!$AL$105,ROWS($AL$105:AL158)-1,COLUMNS($AL$105:AL158)-1)<>\"\",OFFSET(DE104_3!$AL$105,ROWS($AL$105:AL158)-1,COLUMNS($AL$105:AL158)-1),\"\")","v":""},{"$f":"IF(OFFSET(DE104_3!$AM$105,ROWS($AM$105:AM158)-1,COLUMNS($AM$105:AM158)-1)<>\"\",OFFSET(DE104_3!$AM$105,ROWS($AM$105:AM158)-1,COLUMNS($AM$105:AM158)-1),\"\")","v":""},{"$f":"IF(OFFSET(DE104_3!$AN$105,ROWS($AN$105:AN158)-1,COLUMNS($AN$105:AN158)-1)<>\"\",OFFSET(DE104_3!$AN$105,ROWS($AN$105:AN158)-1,COLUMNS($AN$105:AN158)-1),\"\")","v":""},{"$f":"IF(OFFSET(DE104_3!$AO$105,ROWS($AO$105:AO158)-1,COLUMNS($AO$105:AO158)-1)<>\"\",OFFSET(DE104_3!$AO$105,ROWS($AO$105:AO158)-1,COLUMNS($AO$105:AO158)-1),\"\")","v":""},{"$f":"IF(OFFSET(DE104_3!$AP$105,ROWS($AP$105:AP158)-1,COLUMNS($AP$105:AP158)-1)<>\"\",OFFSET(DE104_3!$AP$105,ROWS($AP$105:AP158)-1,COLUMNS($AP$105:AP158)-1),\"\")","v":""},{"$f":"IF(OFFSET(DE104_3!$AQ$105,ROWS($AQ$105:AQ158)-1,COLUMNS($AQ$105:AQ158)-1)<>\"\",OFFSET(DE104_3!$AQ$105,ROWS($AQ$105:AQ158)-1,COLUMNS($AQ$105:AQ158)-1),\"\")","v":""}]
[{"$f":"IF(OFFSET(DE104_3!$C$105,ROWS($C$105:C159)-1,COLUMNS($C$105:C159)-1)<>\"\",OFFSET(DE104_3!$C$105,ROWS($C$105:C159)-1,COLUMNS($C$105:C159)-1),\"\")","v":""},{"$f":"IF(OFFSET(DE104_3!$D$105,ROWS($D$105:D159)-1,COLUMNS($D$105:D159)-1)<>\"\",OFFSET(DE104_3!$D$105,ROWS($D$105:D159)-1,COLUMNS($D$105:D159)-1),\"\")","v":""},{"$f":"IF(OFFSET(DE104_3!$E$105,ROWS($E$105:E159)-1,COLUMNS($E$105:E159)-1)<>\"\",OFFSET(DE104_3!$E$105,ROWS($E$105:E159)-1,COLUMNS($E$105:E159)-1),\"\")","v":""},{"$f":"IF(OFFSET(DE104_3!$F$105,ROWS($F$105:F159)-1,COLUMNS($F$105:F159)-1)<>\"\",OFFSET(DE104_3!$F$105,ROWS($F$105:F159)-1,COLUMNS($F$105:F159)-1),\"\")","v":""},{"$f":"IF(OFFSET(DE104_3!$G$105,ROWS($G$105:G159)-1,COLUMNS($G$105:G159)-1)<>\"\",OFFSET(DE104_3!$G$105,ROWS($G$105:G159)-1,COLUMNS($G$105:G159)-1),\"\")","v":""},{"$f":"IF(OFFSET(DE104_3!$H$105,ROWS($H$105:H159)-1,COLUMNS($H$105:H159)-1)<>\"\",OFFSET(DE104_3!$H$105,ROWS($H$105:H159)-1,COLUMNS($H$105:H159)-1),\"\")","v":""},{"$f":"IF(OFFSET(DE104_3!$I$105,ROWS($I$105:I159)-1,COLUMNS($I$105:I159)-1)<>\"\",OFFSET(DE104_3!$I$105,ROWS($I$105:I159)-1,COLUMNS($I$105:I159)-1),\"\")","v":""},{"$f":"IF(OFFSET(DE104_3!$J$105,ROWS($J$105:J159)-1,COLUMNS($J$105:J159)-1)<>\"\",OFFSET(DE104_3!$J$105,ROWS($J$105:J159)-1,COLUMNS($J$105:J159)-1),\"\")","v":""},{"$f":"IF(OFFSET(DE104_3!$K$105,ROWS($K$105:K159)-1,COLUMNS($K$105:K159)-1)<>\"\",OFFSET(DE104_3!$K$105,ROWS($K$105:K159)-1,COLUMNS($K$105:K159)-1),\"\")","v":""},{"$f":"IF(OFFSET(DE104_3!$L$105,ROWS($L$105:L159)-1,COLUMNS($L$105:L159)-1)<>\"\",OFFSET(DE104_3!$L$105,ROWS($L$105:L159)-1,COLUMNS($L$105:L159)-1),\"\")","v":""},{"$f":"IF(OFFSET(DE104_3!$M$105,ROWS($M$105:M159)-1,COLUMNS($M$105:M159)-1)<>\"\",OFFSET(DE104_3!$M$105,ROWS($M$105:M159)-1,COLUMNS($M$105:M159)-1),\"\")","v":""},{"$f":"IF(OFFSET(DE104_3!$N$105,ROWS($N$105:N159)-1,COLUMNS($N$105:N159)-1)<>\"\",OFFSET(DE104_3!$N$105,ROWS($N$105:N159)-1,COLUMNS($N$105:N159)-1),\"\")","v":""},{"$f":"IF(OFFSET(DE104_3!$O$105,ROWS($O$105:O159)-1,COLUMNS($O$105:O159)-1)<>\"\",OFFSET(DE104_3!$O$105,ROWS($O$105:O159)-1,COLUMNS($O$105:O159)-1),\"\")","v":""},{"$f":"IF(OFFSET(DE104_3!$P$105,ROWS($P$105:P159)-1,COLUMNS($P$105:P159)-1)<>\"\",OFFSET(DE104_3!$P$105,ROWS($P$105:P159)-1,COLUMNS($P$105:P159)-1),\"\")","v":""},{"$f":"IF(OFFSET(DE104_3!$Q$105,ROWS($Q$105:Q159)-1,COLUMNS($Q$105:Q159)-1)<>\"\",OFFSET(DE104_3!$Q$105,ROWS($Q$105:Q159)-1,COLUMNS($Q$105:Q159)-1),\"\")","v":""},{"$f":"IF(OFFSET(DE104_3!$R$105,ROWS($R$105:R159)-1,COLUMNS($R$105:R159)-1)<>\"\",OFFSET(DE104_3!$R$105,ROWS($R$105:R159)-1,COLUMNS($R$105:R159)-1),\"\")","v":""},{"$f":"IF(OFFSET(DE104_3!$S$105,ROWS($S$105:S159)-1,COLUMNS($S$105:S159)-1)<>\"\",OFFSET(DE104_3!$S$105,ROWS($S$105:S159)-1,COLUMNS($S$105:S159)-1),\"\")","v":""},{"$f":"IF(OFFSET(DE104_3!$T$105,ROWS($T$105:T159)-1,COLUMNS($T$105:T159)-1)<>\"\",OFFSET(DE104_3!$T$105,ROWS($T$105:T159)-1,COLUMNS($T$105:T159)-1),\"\")","v":""},{"$f":"IF(OFFSET(DE104_3!$U$105,ROWS($U$105:U159)-1,COLUMNS($U$105:U159)-1)<>\"\",OFFSET(DE104_3!$U$105,ROWS($U$105:U159)-1,COLUMNS($U$105:U159)-1),\"\")","v":""},{"$f":"IF(OFFSET(DE104_3!$V$105,ROWS($V$105:V159)-1,COLUMNS($V$105:V159)-1)<>\"\",OFFSET(DE104_3!$V$105,ROWS($V$105:V159)-1,COLUMNS($V$105:V159)-1),\"\")","v":""},{"$f":"IF(OFFSET(DE104_3!$W$105,ROWS($W$105:W159)-1,COLUMNS($W$105:W159)-1)<>\"\",OFFSET(DE104_3!$W$105,ROWS($W$105:W159)-1,COLUMNS($W$105:W159)-1),\"\")","v":""},{"$f":"IF(OFFSET(DE104_3!$X$105,ROWS($X$105:X159)-1,COLUMNS($X$105:X159)-1)<>\"\",OFFSET(DE104_3!$X$105,ROWS($X$105:X159)-1,COLUMNS($X$105:X159)-1),\"\")","v":""},{"$f":"IF(OFFSET(DE104_3!$Y$105,ROWS($Y$105:Y159)-1,COLUMNS($Y$105:Y159)-1)<>\"\",OFFSET(DE104_3!$Y$105,ROWS($Y$105:Y159)-1,COLUMNS($Y$105:Y159)-1),\"\")","v":""},{"$f":"IF(OFFSET(DE104_3!$Z$105,ROWS($Z$105:Z159)-1,COLUMNS($Z$105:Z159)-1)<>\"\",OFFSET(DE104_3!$Z$105,ROWS($Z$105:Z159)-1,COLUMNS($Z$105:Z159)-1),\"\")","v":""},{"$f":"IF(OFFSET(DE104_3!$AA$105,ROWS($AA$105:AA159)-1,COLUMNS($AA$105:AA159)-1)<>\"\",OFFSET(DE104_3!$AA$105,ROWS($AA$105:AA159)-1,COLUMNS($AA$105:AA159)-1),\"\")","v":""},{"$f":"IF(OFFSET(DE104_3!$AB$105,ROWS($AB$105:AB159)-1,COLUMNS($AB$105:AB159)-1)<>\"\",OFFSET(DE104_3!$AB$105,ROWS($AB$105:AB159)-1,COLUMNS($AB$105:AB159)-1),\"\")","v":""},{"$f":"IF(OFFSET(DE104_3!$AC$105,ROWS($AC$105:AC159)-1,COLUMNS($AC$105:AC159)-1)<>\"\",OFFSET(DE104_3!$AC$105,ROWS($AC$105:AC159)-1,COLUMNS($AC$105:AC159)-1),\"\")","v":""},{"$f":"IF(OFFSET(DE104_3!$AD$105,ROWS($AD$105:AD159)-1,COLUMNS($AD$105:AD159)-1)<>\"\",OFFSET(DE104_3!$AD$105,ROWS($AD$105:AD159)-1,COLUMNS($AD$105:AD159)-1),\"\")","v":""},{"$f":"IF(OFFSET(DE104_3!$AE$105,ROWS($AE$105:AE159)-1,COLUMNS($AE$105:AE159)-1)<>\"\",OFFSET(DE104_3!$AE$105,ROWS($AE$105:AE159)-1,COLUMNS($AE$105:AE159)-1),\"\")","v":""},{"$f":"IF(OFFSET(DE104_3!$AF$105,ROWS($AF$105:AF159)-1,COLUMNS($AF$105:AF159)-1)<>\"\",OFFSET(DE104_3!$AF$105,ROWS($AF$105:AF159)-1,COLUMNS($AF$105:AF159)-1),\"\")","v":""},{"$f":"IF(OFFSET(DE104_3!$AG$105,ROWS($AG$105:AG159)-1,COLUMNS($AG$105:AG159)-1)<>\"\",OFFSET(DE104_3!$AG$105,ROWS($AG$105:AG159)-1,COLUMNS($AG$105:AG159)-1),\"\")","v":""},{"$f":"IF(OFFSET(DE104_3!$AH$105,ROWS($AH$105:AH159)-1,COLUMNS($AH$105:AH159)-1)<>\"\",OFFSET(DE104_3!$AH$105,ROWS($AH$105:AH159)-1,COLUMNS($AH$105:AH159)-1),\"\")","v":""},{"$f":"IF(OFFSET(DE104_3!$AI$105,ROWS($AI$105:AI159)-1,COLUMNS($AI$105:AI159)-1)<>\"\",OFFSET(DE104_3!$AI$105,ROWS($AI$105:AI159)-1,COLUMNS($AI$105:AI159)-1),\"\")","v":""},{"$f":"IF(OFFSET(DE104_3!$AJ$105,ROWS($AJ$105:AJ159)-1,COLUMNS($AJ$105:AJ159)-1)<>\"\",OFFSET(DE104_3!$AJ$105,ROWS($AJ$105:AJ159)-1,COLUMNS($AJ$105:AJ159)-1),\"\")","v":""},{"$f":"IF(OFFSET(DE104_3!$AK$105,ROWS($AK$105:AK159)-1,COLUMNS($AK$105:AK159)-1)<>\"\",OFFSET(DE104_3!$AK$105,ROWS($AK$105:AK159)-1,COLUMNS($AK$105:AK159)-1),\"\")","v":""},{"$f":"IF(OFFSET(DE104_3!$AL$105,ROWS($AL$105:AL159)-1,COLUMNS($AL$105:AL159)-1)<>\"\",OFFSET(DE104_3!$AL$105,ROWS($AL$105:AL159)-1,COLUMNS($AL$105:AL159)-1),\"\")","v":""},{"$f":"IF(OFFSET(DE104_3!$AM$105,ROWS($AM$105:AM159)-1,COLUMNS($AM$105:AM159)-1)<>\"\",OFFSET(DE104_3!$AM$105,ROWS($AM$105:AM159)-1,COLUMNS($AM$105:AM159)-1),\"\")","v":""},{"$f":"IF(OFFSET(DE104_3!$AN$105,ROWS($AN$105:AN159)-1,COLUMNS($AN$105:AN159)-1)<>\"\",OFFSET(DE104_3!$AN$105,ROWS($AN$105:AN159)-1,COLUMNS($AN$105:AN159)-1),\"\")","v":""},{"$f":"IF(OFFSET(DE104_3!$AO$105,ROWS($AO$105:AO159)-1,COLUMNS($AO$105:AO159)-1)<>\"\",OFFSET(DE104_3!$AO$105,ROWS($AO$105:AO159)-1,COLUMNS($AO$105:AO159)-1),\"\")","v":""},{"$f":"IF(OFFSET(DE104_3!$AP$105,ROWS($AP$105:AP159)-1,COLUMNS($AP$105:AP159)-1)<>\"\",OFFSET(DE104_3!$AP$105,ROWS($AP$105:AP159)-1,COLUMNS($AP$105:AP159)-1),\"\")","v":""},{"$f":"IF(OFFSET(DE104_3!$AQ$105,ROWS($AQ$105:AQ159)-1,COLUMNS($AQ$105:AQ159)-1)<>\"\",OFFSET(DE104_3!$AQ$105,ROWS($AQ$105:AQ159)-1,COLUMNS($AQ$105:AQ159)-1),\"\")","v":""}]
[{"$f":"IF(OFFSET(DE104_3!$C$105,ROWS($C$105:C160)-1,COLUMNS($C$105:C160)-1)<>\"\",OFFSET(DE104_3!$C$105,ROWS($C$105:C160)-1,COLUMNS($C$105:C160)-1),\"\")","v":""},{"$f":"IF(OFFSET(DE104_3!$D$105,ROWS($D$105:D160)-1,COLUMNS($D$105:D160)-1)<>\"\",OFFSET(DE104_3!$D$105,ROWS($D$105:D160)-1,COLUMNS($D$105:D160)-1),\"\")","v":""},{"$f":"IF(OFFSET(DE104_3!$E$105,ROWS($E$105:E160)-1,COLUMNS($E$105:E160)-1)<>\"\",OFFSET(DE104_3!$E$105,ROWS($E$105:E160)-1,COLUMNS($E$105:E160)-1),\"\")","v":""},{"$f":"IF(OFFSET(DE104_3!$F$105,ROWS($F$105:F160)-1,COLUMNS($F$105:F160)-1)<>\"\",OFFSET(DE104_3!$F$105,ROWS($F$105:F160)-1,COLUMNS($F$105:F160)-1),\"\")","v":""},{"$f":"IF(OFFSET(DE104_3!$G$105,ROWS($G$105:G160)-1,COLUMNS($G$105:G160)-1)<>\"\",OFFSET(DE104_3!$G$105,ROWS($G$105:G160)-1,COLUMNS($G$105:G160)-1),\"\")","v":""},{"$f":"IF(OFFSET(DE104_3!$H$105,ROWS($H$105:H160)-1,COLUMNS($H$105:H160)-1)<>\"\",OFFSET(DE104_3!$H$105,ROWS($H$105:H160)-1,COLUMNS($H$105:H160)-1),\"\")","v":""},{"$f":"IF(OFFSET(DE104_3!$I$105,ROWS($I$105:I160)-1,COLUMNS($I$105:I160)-1)<>\"\",OFFSET(DE104_3!$I$105,ROWS($I$105:I160)-1,COLUMNS($I$105:I160)-1),\"\")","v":""},{"$f":"IF(OFFSET(DE104_3!$J$105,ROWS($J$105:J160)-1,COLUMNS($J$105:J160)-1)<>\"\",OFFSET(DE104_3!$J$105,ROWS($J$105:J160)-1,COLUMNS($J$105:J160)-1),\"\")","v":""},{"$f":"IF(OFFSET(DE104_3!$K$105,ROWS($K$105:K160)-1,COLUMNS($K$105:K160)-1)<>\"\",OFFSET(DE104_3!$K$105,ROWS($K$105:K160)-1,COLUMNS($K$105:K160)-1),\"\")","v":""},{"$f":"IF(OFFSET(DE104_3!$L$105,ROWS($L$105:L160)-1,COLUMNS($L$105:L160)-1)<>\"\",OFFSET(DE104_3!$L$105,ROWS($L$105:L160)-1,COLUMNS($L$105:L160)-1),\"\")","v":""},{"$f":"IF(OFFSET(DE104_3!$M$105,ROWS($M$105:M160)-1,COLUMNS($M$105:M160)-1)<>\"\",OFFSET(DE104_3!$M$105,ROWS($M$105:M160)-1,COLUMNS($M$105:M160)-1),\"\")","v":""},{"$f":"IF(OFFSET(DE104_3!$N$105,ROWS($N$105:N160)-1,COLUMNS($N$105:N160)-1)<>\"\",OFFSET(DE104_3!$N$105,ROWS($N$105:N160)-1,COLUMNS($N$105:N160)-1),\"\")","v":""},{"$f":"IF(OFFSET(DE104_3!$O$105,ROWS($O$105:O160)-1,COLUMNS($O$105:O160)-1)<>\"\",OFFSET(DE104_3!$O$105,ROWS($O$105:O160)-1,COLUMNS($O$105:O160)-1),\"\")","v":""},{"$f":"IF(OFFSET(DE104_3!$P$105,ROWS($P$105:P160)-1,COLUMNS($P$105:P160)-1)<>\"\",OFFSET(DE104_3!$P$105,ROWS($P$105:P160)-1,COLUMNS($P$105:P160)-1),\"\")","v":""},{"$f":"IF(OFFSET(DE104_3!$Q$105,ROWS($Q$105:Q160)-1,COLUMNS($Q$105:Q160)-1)<>\"\",OFFSET(DE104_3!$Q$105,ROWS($Q$105:Q160)-1,COLUMNS($Q$105:Q160)-1),\"\")","v":""},{"$f":"IF(OFFSET(DE104_3!$R$105,ROWS($R$105:R160)-1,COLUMNS($R$105:R160)-1)<>\"\",OFFSET(DE104_3!$R$105,ROWS($R$105:R160)-1,COLUMNS($R$105:R160)-1),\"\")","v":""},{"$f":"IF(OFFSET(DE104_3!$S$105,ROWS($S$105:S160)-1,COLUMNS($S$105:S160)-1)<>\"\",OFFSET(DE104_3!$S$105,ROWS($S$105:S160)-1,COLUMNS($S$105:S160)-1),\"\")","v":""},{"$f":"IF(OFFSET(DE104_3!$T$105,ROWS($T$105:T160)-1,COLUMNS($T$105:T160)-1)<>\"\",OFFSET(DE104_3!$T$105,ROWS($T$105:T160)-1,COLUMNS($T$105:T160)-1),\"\")","v":""},{"$f":"IF(OFFSET(DE104_3!$U$105,ROWS($U$105:U160)-1,COLUMNS($U$105:U160)-1)<>\"\",OFFSET(DE104_3!$U$105,ROWS($U$105:U160)-1,COLUMNS($U$105:U160)-1),\"\")","v":""},{"$f":"IF(OFFSET(DE104_3!$V$105,ROWS($V$105:V160)-1,COLUMNS($V$105:V160)-1)<>\"\",OFFSET(DE104_3!$V$105,ROWS($V$105:V160)-1,COLUMNS($V$105:V160)-1),\"\")","v":""},{"$f":"IF(OFFSET(DE104_3!$W$105,ROWS($W$105:W160)-1,COLUMNS($W$105:W160)-1)<>\"\",OFFSET(DE104_3!$W$105,ROWS($W$105:W160)-1,COLUMNS($W$105:W160)-1),\"\")","v":""},{"$f":"IF(OFFSET(DE104_3!$X$105,ROWS($X$105:X160)-1,COLUMNS($X$105:X160)-1)<>\"\",OFFSET(DE104_3!$X$105,ROWS($X$105:X160)-1,COLUMNS($X$105:X160)-1),\"\")","v":""},{"$f":"IF(OFFSET(DE104_3!$Y$105,ROWS($Y$105:Y160)-1,COLUMNS($Y$105:Y160)-1)<>\"\",OFFSET(DE104_3!$Y$105,ROWS($Y$105:Y160)-1,COLUMNS($Y$105:Y160)-1),\"\")","v":""},{"$f":"IF(OFFSET(DE104_3!$Z$105,ROWS($Z$105:Z160)-1,COLUMNS($Z$105:Z160)-1)<>\"\",OFFSET(DE104_3!$Z$105,ROWS($Z$105:Z160)-1,COLUMNS($Z$105:Z160)-1),\"\")","v":""},{"$f":"IF(OFFSET(DE104_3!$AA$105,ROWS($AA$105:AA160)-1,COLUMNS($AA$105:AA160)-1)<>\"\",OFFSET(DE104_3!$AA$105,ROWS($AA$105:AA160)-1,COLUMNS($AA$105:AA160)-1),\"\")","v":""},{"$f":"IF(OFFSET(DE104_3!$AB$105,ROWS($AB$105:AB160)-1,COLUMNS($AB$105:AB160)-1)<>\"\",OFFSET(DE104_3!$AB$105,ROWS($AB$105:AB160)-1,COLUMNS($AB$105:AB160)-1),\"\")","v":""},{"$f":"IF(OFFSET(DE104_3!$AC$105,ROWS($AC$105:AC160)-1,COLUMNS($AC$105:AC160)-1)<>\"\",OFFSET(DE104_3!$AC$105,ROWS($AC$105:AC160)-1,COLUMNS($AC$105:AC160)-1),\"\")","v":""},{"$f":"IF(OFFSET(DE104_3!$AD$105,ROWS($AD$105:AD160)-1,COLUMNS($AD$105:AD160)-1)<>\"\",OFFSET(DE104_3!$AD$105,ROWS($AD$105:AD160)-1,COLUMNS($AD$105:AD160)-1),\"\")","v":""},{"$f":"IF(OFFSET(DE104_3!$AE$105,ROWS($AE$105:AE160)-1,COLUMNS($AE$105:AE160)-1)<>\"\",OFFSET(DE104_3!$AE$105,ROWS($AE$105:AE160)-1,COLUMNS($AE$105:AE160)-1),\"\")","v":""},{"$f":"IF(OFFSET(DE104_3!$AF$105,ROWS($AF$105:AF160)-1,COLUMNS($AF$105:AF160)-1)<>\"\",OFFSET(DE104_3!$AF$105,ROWS($AF$105:AF160)-1,COLUMNS($AF$105:AF160)-1),\"\")","v":""},{"$f":"IF(OFFSET(DE104_3!$AG$105,ROWS($AG$105:AG160)-1,COLUMNS($AG$105:AG160)-1)<>\"\",OFFSET(DE104_3!$AG$105,ROWS($AG$105:AG160)-1,COLUMNS($AG$105:AG160)-1),\"\")","v":""},{"$f":"IF(OFFSET(DE104_3!$AH$105,ROWS($AH$105:AH160)-1,COLUMNS($AH$105:AH160)-1)<>\"\",OFFSET(DE104_3!$AH$105,ROWS($AH$105:AH160)-1,COLUMNS($AH$105:AH160)-1),\"\")","v":""},{"$f":"IF(OFFSET(DE104_3!$AI$105,ROWS($AI$105:AI160)-1,COLUMNS($AI$105:AI160)-1)<>\"\",OFFSET(DE104_3!$AI$105,ROWS($AI$105:AI160)-1,COLUMNS($AI$105:AI160)-1),\"\")","v":""},{"$f":"IF(OFFSET(DE104_3!$AJ$105,ROWS($AJ$105:AJ160)-1,COLUMNS($AJ$105:AJ160)-1)<>\"\",OFFSET(DE104_3!$AJ$105,ROWS($AJ$105:AJ160)-1,COLUMNS($AJ$105:AJ160)-1),\"\")","v":""},{"$f":"IF(OFFSET(DE104_3!$AK$105,ROWS($AK$105:AK160)-1,COLUMNS($AK$105:AK160)-1)<>\"\",OFFSET(DE104_3!$AK$105,ROWS($AK$105:AK160)-1,COLUMNS($AK$105:AK160)-1),\"\")","v":""},{"$f":"IF(OFFSET(DE104_3!$AL$105,ROWS($AL$105:AL160)-1,COLUMNS($AL$105:AL160)-1)<>\"\",OFFSET(DE104_3!$AL$105,ROWS($AL$105:AL160)-1,COLUMNS($AL$105:AL160)-1),\"\")","v":""},{"$f":"IF(OFFSET(DE104_3!$AM$105,ROWS($AM$105:AM160)-1,COLUMNS($AM$105:AM160)-1)<>\"\",OFFSET(DE104_3!$AM$105,ROWS($AM$105:AM160)-1,COLUMNS($AM$105:AM160)-1),\"\")","v":""},{"$f":"IF(OFFSET(DE104_3!$AN$105,ROWS($AN$105:AN160)-1,COLUMNS($AN$105:AN160)-1)<>\"\",OFFSET(DE104_3!$AN$105,ROWS($AN$105:AN160)-1,COLUMNS($AN$105:AN160)-1),\"\")","v":""},{"$f":"IF(OFFSET(DE104_3!$AO$105,ROWS($AO$105:AO160)-1,COLUMNS($AO$105:AO160)-1)<>\"\",OFFSET(DE104_3!$AO$105,ROWS($AO$105:AO160)-1,COLUMNS($AO$105:AO160)-1),\"\")","v":""},{"$f":"IF(OFFSET(DE104_3!$AP$105,ROWS($AP$105:AP160)-1,COLUMNS($AP$105:AP160)-1)<>\"\",OFFSET(DE104_3!$AP$105,ROWS($AP$105:AP160)-1,COLUMNS($AP$105:AP160)-1),\"\")","v":""},{"$f":"IF(OFFSET(DE104_3!$AQ$105,ROWS($AQ$105:AQ160)-1,COLUMNS($AQ$105:AQ160)-1)<>\"\",OFFSET(DE104_3!$AQ$105,ROWS($AQ$105:AQ160)-1,COLUMNS($AQ$105:AQ160)-1),\"\")","v":""}]
[{"$f":"IF(OFFSET(DE104_3!$C$105,ROWS($C$105:C161)-1,COLUMNS($C$105:C161)-1)<>\"\",OFFSET(DE104_3!$C$105,ROWS($C$105:C161)-1,COLUMNS($C$105:C161)-1),\"\")","v":""},{"$f":"IF(OFFSET(DE104_3!$D$105,ROWS($D$105:D161)-1,COLUMNS($D$105:D161)-1)<>\"\",OFFSET(DE104_3!$D$105,ROWS($D$105:D161)-1,COLUMNS($D$105:D161)-1),\"\")","v":""},{"$f":"IF(OFFSET(DE104_3!$E$105,ROWS($E$105:E161)-1,COLUMNS($E$105:E161)-1)<>\"\",OFFSET(DE104_3!$E$105,ROWS($E$105:E161)-1,COLUMNS($E$105:E161)-1),\"\")","v":""},{"$f":"IF(OFFSET(DE104_3!$F$105,ROWS($F$105:F161)-1,COLUMNS($F$105:F161)-1)<>\"\",OFFSET(DE104_3!$F$105,ROWS($F$105:F161)-1,COLUMNS($F$105:F161)-1),\"\")","v":""},{"$f":"IF(OFFSET(DE104_3!$G$105,ROWS($G$105:G161)-1,COLUMNS($G$105:G161)-1)<>\"\",OFFSET(DE104_3!$G$105,ROWS($G$105:G161)-1,COLUMNS($G$105:G161)-1),\"\")","v":""},{"$f":"IF(OFFSET(DE104_3!$H$105,ROWS($H$105:H161)-1,COLUMNS($H$105:H161)-1)<>\"\",OFFSET(DE104_3!$H$105,ROWS($H$105:H161)-1,COLUMNS($H$105:H161)-1),\"\")","v":""},{"$f":"IF(OFFSET(DE104_3!$I$105,ROWS($I$105:I161)-1,COLUMNS($I$105:I161)-1)<>\"\",OFFSET(DE104_3!$I$105,ROWS($I$105:I161)-1,COLUMNS($I$105:I161)-1),\"\")","v":""},{"$f":"IF(OFFSET(DE104_3!$J$105,ROWS($J$105:J161)-1,COLUMNS($J$105:J161)-1)<>\"\",OFFSET(DE104_3!$J$105,ROWS($J$105:J161)-1,COLUMNS($J$105:J161)-1),\"\")","v":""},{"$f":"IF(OFFSET(DE104_3!$K$105,ROWS($K$105:K161)-1,COLUMNS($K$105:K161)-1)<>\"\",OFFSET(DE104_3!$K$105,ROWS($K$105:K161)-1,COLUMNS($K$105:K161)-1),\"\")","v":""},{"$f":"IF(OFFSET(DE104_3!$L$105,ROWS($L$105:L161)-1,COLUMNS($L$105:L161)-1)<>\"\",OFFSET(DE104_3!$L$105,ROWS($L$105:L161)-1,COLUMNS($L$105:L161)-1),\"\")","v":""},{"$f":"IF(OFFSET(DE104_3!$M$105,ROWS($M$105:M161)-1,COLUMNS($M$105:M161)-1)<>\"\",OFFSET(DE104_3!$M$105,ROWS($M$105:M161)-1,COLUMNS($M$105:M161)-1),\"\")","v":""},{"$f":"IF(OFFSET(DE104_3!$N$105,ROWS($N$105:N161)-1,COLUMNS($N$105:N161)-1)<>\"\",OFFSET(DE104_3!$N$105,ROWS($N$105:N161)-1,COLUMNS($N$105:N161)-1),\"\")","v":""},{"$f":"IF(OFFSET(DE104_3!$O$105,ROWS($O$105:O161)-1,COLUMNS($O$105:O161)-1)<>\"\",OFFSET(DE104_3!$O$105,ROWS($O$105:O161)-1,COLUMNS($O$105:O161)-1),\"\")","v":""},{"$f":"IF(OFFSET(DE104_3!$P$105,ROWS($P$105:P161)-1,COLUMNS($P$105:P161)-1)<>\"\",OFFSET(DE104_3!$P$105,ROWS($P$105:P161)-1,COLUMNS($P$105:P161)-1),\"\")","v":""},{"$f":"IF(OFFSET(DE104_3!$Q$105,ROWS($Q$105:Q161)-1,COLUMNS($Q$105:Q161)-1)<>\"\",OFFSET(DE104_3!$Q$105,ROWS($Q$105:Q161)-1,COLUMNS($Q$105:Q161)-1),\"\")","v":""},{"$f":"IF(OFFSET(DE104_3!$R$105,ROWS($R$105:R161)-1,COLUMNS($R$105:R161)-1)<>\"\",OFFSET(DE104_3!$R$105,ROWS($R$105:R161)-1,COLUMNS($R$105:R161)-1),\"\")","v":""},{"$f":"IF(OFFSET(DE104_3!$S$105,ROWS($S$105:S161)-1,COLUMNS($S$105:S161)-1)<>\"\",OFFSET(DE104_3!$S$105,ROWS($S$105:S161)-1,COLUMNS($S$105:S161)-1),\"\")","v":""},{"$f":"IF(OFFSET(DE104_3!$T$105,ROWS($T$105:T161)-1,COLUMNS($T$105:T161)-1)<>\"\",OFFSET(DE104_3!$T$105,ROWS($T$105:T161)-1,COLUMNS($T$105:T161)-1),\"\")","v":""},{"$f":"IF(OFFSET(DE104_3!$U$105,ROWS($U$105:U161)-1,COLUMNS($U$105:U161)-1)<>\"\",OFFSET(DE104_3!$U$105,ROWS($U$105:U161)-1,COLUMNS($U$105:U161)-1),\"\")","v":""},{"$f":"IF(OFFSET(DE104_3!$V$105,ROWS($V$105:V161)-1,COLUMNS($V$105:V161)-1)<>\"\",OFFSET(DE104_3!$V$105,ROWS($V$105:V161)-1,COLUMNS($V$105:V161)-1),\"\")","v":""},{"$f":"IF(OFFSET(DE104_3!$W$105,ROWS($W$105:W161)-1,COLUMNS($W$105:W161)-1)<>\"\",OFFSET(DE104_3!$W$105,ROWS($W$105:W161)-1,COLUMNS($W$105:W161)-1),\"\")","v":""},{"$f":"IF(OFFSET(DE104_3!$X$105,ROWS($X$105:X161)-1,COLUMNS($X$105:X161)-1)<>\"\",OFFSET(DE104_3!$X$105,ROWS($X$105:X161)-1,COLUMNS($X$105:X161)-1),\"\")","v":""},{"$f":"IF(OFFSET(DE104_3!$Y$105,ROWS($Y$105:Y161)-1,COLUMNS($Y$105:Y161)-1)<>\"\",OFFSET(DE104_3!$Y$105,ROWS($Y$105:Y161)-1,COLUMNS($Y$105:Y161)-1),\"\")","v":""},{"$f":"IF(OFFSET(DE104_3!$Z$105,ROWS($Z$105:Z161)-1,COLUMNS($Z$105:Z161)-1)<>\"\",OFFSET(DE104_3!$Z$105,ROWS($Z$105:Z161)-1,COLUMNS($Z$105:Z161)-1),\"\")","v":""},{"$f":"IF(OFFSET(DE104_3!$AA$105,ROWS($AA$105:AA161)-1,COLUMNS($AA$105:AA161)-1)<>\"\",OFFSET(DE104_3!$AA$105,ROWS($AA$105:AA161)-1,COLUMNS($AA$105:AA161)-1),\"\")","v":""},{"$f":"IF(OFFSET(DE104_3!$AB$105,ROWS($AB$105:AB161)-1,COLUMNS($AB$105:AB161)-1)<>\"\",OFFSET(DE104_3!$AB$105,ROWS($AB$105:AB161)-1,COLUMNS($AB$105:AB161)-1),\"\")","v":""},{"$f":"IF(OFFSET(DE104_3!$AC$105,ROWS($AC$105:AC161)-1,COLUMNS($AC$105:AC161)-1)<>\"\",OFFSET(DE104_3!$AC$105,ROWS($AC$105:AC161)-1,COLUMNS($AC$105:AC161)-1),\"\")","v":""},{"$f":"IF(OFFSET(DE104_3!$AD$105,ROWS($AD$105:AD161)-1,COLUMNS($AD$105:AD161)-1)<>\"\",OFFSET(DE104_3!$AD$105,ROWS($AD$105:AD161)-1,COLUMNS($AD$105:AD161)-1),\"\")","v":""},{"$f":"IF(OFFSET(DE104_3!$AE$105,ROWS($AE$105:AE161)-1,COLUMNS($AE$105:AE161)-1)<>\"\",OFFSET(DE104_3!$AE$105,ROWS($AE$105:AE161)-1,COLUMNS($AE$105:AE161)-1),\"\")","v":""},{"$f":"IF(OFFSET(DE104_3!$AF$105,ROWS($AF$105:AF161)-1,COLUMNS($AF$105:AF161)-1)<>\"\",OFFSET(DE104_3!$AF$105,ROWS($AF$105:AF161)-1,COLUMNS($AF$105:AF161)-1),\"\")","v":""},{"$f":"IF(OFFSET(DE104_3!$AG$105,ROWS($AG$105:AG161)-1,COLUMNS($AG$105:AG161)-1)<>\"\",OFFSET(DE104_3!$AG$105,ROWS($AG$105:AG161)-1,COLUMNS($AG$105:AG161)-1),\"\")","v":""},{"$f":"IF(OFFSET(DE104_3!$AH$105,ROWS($AH$105:AH161)-1,COLUMNS($AH$105:AH161)-1)<>\"\",OFFSET(DE104_3!$AH$105,ROWS($AH$105:AH161)-1,COLUMNS($AH$105:AH161)-1),\"\")","v":""},{"$f":"IF(OFFSET(DE104_3!$AI$105,ROWS($AI$105:AI161)-1,COLUMNS($AI$105:AI161)-1)<>\"\",OFFSET(DE104_3!$AI$105,ROWS($AI$105:AI161)-1,COLUMNS($AI$105:AI161)-1),\"\")","v":""},{"$f":"IF(OFFSET(DE104_3!$AJ$105,ROWS($AJ$105:AJ161)-1,COLUMNS($AJ$105:AJ161)-1)<>\"\",OFFSET(DE104_3!$AJ$105,ROWS($AJ$105:AJ161)-1,COLUMNS($AJ$105:AJ161)-1),\"\")","v":""},{"$f":"IF(OFFSET(DE104_3!$AK$105,ROWS($AK$105:AK161)-1,COLUMNS($AK$105:AK161)-1)<>\"\",OFFSET(DE104_3!$AK$105,ROWS($AK$105:AK161)-1,COLUMNS($AK$105:AK161)-1),\"\")","v":""},{"$f":"IF(OFFSET(DE104_3!$AL$105,ROWS($AL$105:AL161)-1,COLUMNS($AL$105:AL161)-1)<>\"\",OFFSET(DE104_3!$AL$105,ROWS($AL$105:AL161)-1,COLUMNS($AL$105:AL161)-1),\"\")","v":""},{"$f":"IF(OFFSET(DE104_3!$AM$105,ROWS($AM$105:AM161)-1,COLUMNS($AM$105:AM161)-1)<>\"\",OFFSET(DE104_3!$AM$105,ROWS($AM$105:AM161)-1,COLUMNS($AM$105:AM161)-1),\"\")","v":""},{"$f":"IF(OFFSET(DE104_3!$AN$105,ROWS($AN$105:AN161)-1,COLUMNS($AN$105:AN161)-1)<>\"\",OFFSET(DE104_3!$AN$105,ROWS($AN$105:AN161)-1,COLUMNS($AN$105:AN161)-1),\"\")","v":""},{"$f":"IF(OFFSET(DE104_3!$AO$105,ROWS($AO$105:AO161)-1,COLUMNS($AO$105:AO161)-1)<>\"\",OFFSET(DE104_3!$AO$105,ROWS($AO$105:AO161)-1,COLUMNS($AO$105:AO161)-1),\"\")","v":""},{"$f":"IF(OFFSET(DE104_3!$AP$105,ROWS($AP$105:AP161)-1,COLUMNS($AP$105:AP161)-1)<>\"\",OFFSET(DE104_3!$AP$105,ROWS($AP$105:AP161)-1,COLUMNS($AP$105:AP161)-1),\"\")","v":""},{"$f":"IF(OFFSET(DE104_3!$AQ$105,ROWS($AQ$105:AQ161)-1,COLUMNS($AQ$105:AQ161)-1)<>\"\",OFFSET(DE104_3!$AQ$105,ROWS($AQ$105:AQ161)-1,COLUMNS($AQ$105:AQ161)-1),\"\")","v":""}]
[{"$f":"IF(OFFSET(DE104_3!$C$105,ROWS($C$105:C162)-1,COLUMNS($C$105:C162)-1)<>\"\",OFFSET(DE104_3!$C$105,ROWS($C$105:C162)-1,COLUMNS($C$105:C162)-1),\"\")","v":""},{"$f":"IF(OFFSET(DE104_3!$D$105,ROWS($D$105:D162)-1,COLUMNS($D$105:D162)-1)<>\"\",OFFSET(DE104_3!$D$105,ROWS($D$105:D162)-1,COLUMNS($D$105:D162)-1),\"\")","v":""},{"$f":"IF(OFFSET(DE104_3!$E$105,ROWS($E$105:E162)-1,COLUMNS($E$105:E162)-1)<>\"\",OFFSET(DE104_3!$E$105,ROWS($E$105:E162)-1,COLUMNS($E$105:E162)-1),\"\")","v":""},{"$f":"IF(OFFSET(DE104_3!$F$105,ROWS($F$105:F162)-1,COLUMNS($F$105:F162)-1)<>\"\",OFFSET(DE104_3!$F$105,ROWS($F$105:F162)-1,COLUMNS($F$105:F162)-1),\"\")","v":""},{"$f":"IF(OFFSET(DE104_3!$G$105,ROWS($G$105:G162)-1,COLUMNS($G$105:G162)-1)<>\"\",OFFSET(DE104_3!$G$105,ROWS($G$105:G162)-1,COLUMNS($G$105:G162)-1),\"\")","v":""},{"$f":"IF(OFFSET(DE104_3!$H$105,ROWS($H$105:H162)-1,COLUMNS($H$105:H162)-1)<>\"\",OFFSET(DE104_3!$H$105,ROWS($H$105:H162)-1,COLUMNS($H$105:H162)-1),\"\")","v":""},{"$f":"IF(OFFSET(DE104_3!$I$105,ROWS($I$105:I162)-1,COLUMNS($I$105:I162)-1)<>\"\",OFFSET(DE104_3!$I$105,ROWS($I$105:I162)-1,COLUMNS($I$105:I162)-1),\"\")","v":""},{"$f":"IF(OFFSET(DE104_3!$J$105,ROWS($J$105:J162)-1,COLUMNS($J$105:J162)-1)<>\"\",OFFSET(DE104_3!$J$105,ROWS($J$105:J162)-1,COLUMNS($J$105:J162)-1),\"\")","v":""},{"$f":"IF(OFFSET(DE104_3!$K$105,ROWS($K$105:K162)-1,COLUMNS($K$105:K162)-1)<>\"\",OFFSET(DE104_3!$K$105,ROWS($K$105:K162)-1,COLUMNS($K$105:K162)-1),\"\")","v":""},{"$f":"IF(OFFSET(DE104_3!$L$105,ROWS($L$105:L162)-1,COLUMNS($L$105:L162)-1)<>\"\",OFFSET(DE104_3!$L$105,ROWS($L$105:L162)-1,COLUMNS($L$105:L162)-1),\"\")","v":""},{"$f":"IF(OFFSET(DE104_3!$M$105,ROWS($M$105:M162)-1,COLUMNS($M$105:M162)-1)<>\"\",OFFSET(DE104_3!$M$105,ROWS($M$105:M162)-1,COLUMNS($M$105:M162)-1),\"\")","v":""},{"$f":"IF(OFFSET(DE104_3!$N$105,ROWS($N$105:N162)-1,COLUMNS($N$105:N162)-1)<>\"\",OFFSET(DE104_3!$N$105,ROWS($N$105:N162)-1,COLUMNS($N$105:N162)-1),\"\")","v":""},{"$f":"IF(OFFSET(DE104_3!$O$105,ROWS($O$105:O162)-1,COLUMNS($O$105:O162)-1)<>\"\",OFFSET(DE104_3!$O$105,ROWS($O$105:O162)-1,COLUMNS($O$105:O162)-1),\"\")","v":""},{"$f":"IF(OFFSET(DE104_3!$P$105,ROWS($P$105:P162)-1,COLUMNS($P$105:P162)-1)<>\"\",OFFSET(DE104_3!$P$105,ROWS($P$105:P162)-1,COLUMNS($P$105:P162)-1),\"\")","v":""},{"$f":"IF(OFFSET(DE104_3!$Q$105,ROWS($Q$105:Q162)-1,COLUMNS($Q$105:Q162)-1)<>\"\",OFFSET(DE104_3!$Q$105,ROWS($Q$105:Q162)-1,COLUMNS($Q$105:Q162)-1),\"\")","v":""},{"$f":"IF(OFFSET(DE104_3!$R$105,ROWS($R$105:R162)-1,COLUMNS($R$105:R162)-1)<>\"\",OFFSET(DE104_3!$R$105,ROWS($R$105:R162)-1,COLUMNS($R$105:R162)-1),\"\")","v":""},{"$f":"IF(OFFSET(DE104_3!$S$105,ROWS($S$105:S162)-1,COLUMNS($S$105:S162)-1)<>\"\",OFFSET(DE104_3!$S$105,ROWS($S$105:S162)-1,COLUMNS($S$105:S162)-1),\"\")","v":""},{"$f":"IF(OFFSET(DE104_3!$T$105,ROWS($T$105:T162)-1,COLUMNS($T$105:T162)-1)<>\"\",OFFSET(DE104_3!$T$105,ROWS($T$105:T162)-1,COLUMNS($T$105:T162)-1),\"\")","v":""},{"$f":"IF(OFFSET(DE104_3!$U$105,ROWS($U$105:U162)-1,COLUMNS($U$105:U162)-1)<>\"\",OFFSET(DE104_3!$U$105,ROWS($U$105:U162)-1,COLUMNS($U$105:U162)-1),\"\")","v":""},{"$f":"IF(OFFSET(DE104_3!$V$105,ROWS($V$105:V162)-1,COLUMNS($V$105:V162)-1)<>\"\",OFFSET(DE104_3!$V$105,ROWS($V$105:V162)-1,COLUMNS($V$105:V162)-1),\"\")","v":""},{"$f":"IF(OFFSET(DE104_3!$W$105,ROWS($W$105:W162)-1,COLUMNS($W$105:W162)-1)<>\"\",OFFSET(DE104_3!$W$105,ROWS($W$105:W162)-1,COLUMNS($W$105:W162)-1),\"\")","v":""},{"$f":"IF(OFFSET(DE104_3!$X$105,ROWS($X$105:X162)-1,COLUMNS($X$105:X162)-1)<>\"\",OFFSET(DE104_3!$X$105,ROWS($X$105:X162)-1,COLUMNS($X$105:X162)-1),\"\")","v":""},{"$f":"IF(OFFSET(DE104_3!$Y$105,ROWS($Y$105:Y162)-1,COLUMNS($Y$105:Y162)-1)<>\"\",OFFSET(DE104_3!$Y$105,ROWS($Y$105:Y162)-1,COLUMNS($Y$105:Y162)-1),\"\")","v":""},{"$f":"IF(OFFSET(DE104_3!$Z$105,ROWS($Z$105:Z162)-1,COLUMNS($Z$105:Z162)-1)<>\"\",OFFSET(DE104_3!$Z$105,ROWS($Z$105:Z162)-1,COLUMNS($Z$105:Z162)-1),\"\")","v":""},{"$f":"IF(OFFSET(DE104_3!$AA$105,ROWS($AA$105:AA162)-1,COLUMNS($AA$105:AA162)-1)<>\"\",OFFSET(DE104_3!$AA$105,ROWS($AA$105:AA162)-1,COLUMNS($AA$105:AA162)-1),\"\")","v":""},{"$f":"IF(OFFSET(DE104_3!$AB$105,ROWS($AB$105:AB162)-1,COLUMNS($AB$105:AB162)-1)<>\"\",OFFSET(DE104_3!$AB$105,ROWS($AB$105:AB162)-1,COLUMNS($AB$105:AB162)-1),\"\")","v":""},{"$f":"IF(OFFSET(DE104_3!$AC$105,ROWS($AC$105:AC162)-1,COLUMNS($AC$105:AC162)-1)<>\"\",OFFSET(DE104_3!$AC$105,ROWS($AC$105:AC162)-1,COLUMNS($AC$105:AC162)-1),\"\")","v":""},{"$f":"IF(OFFSET(DE104_3!$AD$105,ROWS($AD$105:AD162)-1,COLUMNS($AD$105:AD162)-1)<>\"\",OFFSET(DE104_3!$AD$105,ROWS($AD$105:AD162)-1,COLUMNS($AD$105:AD162)-1),\"\")","v":""},{"$f":"IF(OFFSET(DE104_3!$AE$105,ROWS($AE$105:AE162)-1,COLUMNS($AE$105:AE162)-1)<>\"\",OFFSET(DE104_3!$AE$105,ROWS($AE$105:AE162)-1,COLUMNS($AE$105:AE162)-1),\"\")","v":""},{"$f":"IF(OFFSET(DE104_3!$AF$105,ROWS($AF$105:AF162)-1,COLUMNS($AF$105:AF162)-1)<>\"\",OFFSET(DE104_3!$AF$105,ROWS($AF$105:AF162)-1,COLUMNS($AF$105:AF162)-1),\"\")","v":""},{"$f":"IF(OFFSET(DE104_3!$AG$105,ROWS($AG$105:AG162)-1,COLUMNS($AG$105:AG162)-1)<>\"\",OFFSET(DE104_3!$AG$105,ROWS($AG$105:AG162)-1,COLUMNS($AG$105:AG162)-1),\"\")","v":""},{"$f":"IF(OFFSET(DE104_3!$AH$105,ROWS($AH$105:AH162)-1,COLUMNS($AH$105:AH162)-1)<>\"\",OFFSET(DE104_3!$AH$105,ROWS($AH$105:AH162)-1,COLUMNS($AH$105:AH162)-1),\"\")","v":""},{"$f":"IF(OFFSET(DE104_3!$AI$105,ROWS($AI$105:AI162)-1,COLUMNS($AI$105:AI162)-1)<>\"\",OFFSET(DE104_3!$AI$105,ROWS($AI$105:AI162)-1,COLUMNS($AI$105:AI162)-1),\"\")","v":""},{"$f":"IF(OFFSET(DE104_3!$AJ$105,ROWS($AJ$105:AJ162)-1,COLUMNS($AJ$105:AJ162)-1)<>\"\",OFFSET(DE104_3!$AJ$105,ROWS($AJ$105:AJ162)-1,COLUMNS($AJ$105:AJ162)-1),\"\")","v":""},{"$f":"IF(OFFSET(DE104_3!$AK$105,ROWS($AK$105:AK162)-1,COLUMNS($AK$105:AK162)-1)<>\"\",OFFSET(DE104_3!$AK$105,ROWS($AK$105:AK162)-1,COLUMNS($AK$105:AK162)-1),\"\")","v":""},{"$f":"IF(OFFSET(DE104_3!$AL$105,ROWS($AL$105:AL162)-1,COLUMNS($AL$105:AL162)-1)<>\"\",OFFSET(DE104_3!$AL$105,ROWS($AL$105:AL162)-1,COLUMNS($AL$105:AL162)-1),\"\")","v":""},{"$f":"IF(OFFSET(DE104_3!$AM$105,ROWS($AM$105:AM162)-1,COLUMNS($AM$105:AM162)-1)<>\"\",OFFSET(DE104_3!$AM$105,ROWS($AM$105:AM162)-1,COLUMNS($AM$105:AM162)-1),\"\")","v":""},{"$f":"IF(OFFSET(DE104_3!$AN$105,ROWS($AN$105:AN162)-1,COLUMNS($AN$105:AN162)-1)<>\"\",OFFSET(DE104_3!$AN$105,ROWS($AN$105:AN162)-1,COLUMNS($AN$105:AN162)-1),\"\")","v":""},{"$f":"IF(OFFSET(DE104_3!$AO$105,ROWS($AO$105:AO162)-1,COLUMNS($AO$105:AO162)-1)<>\"\",OFFSET(DE104_3!$AO$105,ROWS($AO$105:AO162)-1,COLUMNS($AO$105:AO162)-1),\"\")","v":""},{"$f":"IF(OFFSET(DE104_3!$AP$105,ROWS($AP$105:AP162)-1,COLUMNS($AP$105:AP162)-1)<>\"\",OFFSET(DE104_3!$AP$105,ROWS($AP$105:AP162)-1,COLUMNS($AP$105:AP162)-1),\"\")","v":""},{"$f":"IF(OFFSET(DE104_3!$AQ$105,ROWS($AQ$105:AQ162)-1,COLUMNS($AQ$105:AQ162)-1)<>\"\",OFFSET(DE104_3!$AQ$105,ROWS($AQ$105:AQ162)-1,COLUMNS($AQ$105:AQ162)-1),\"\")","v":""}]
[{"$f":"IF(OFFSET(DE104_3!$C$105,ROWS($C$105:C163)-1,COLUMNS($C$105:C163)-1)<>\"\",OFFSET(DE104_3!$C$105,ROWS($C$105:C163)-1,COLUMNS($C$105:C163)-1),\"\")","v":""},{"$f":"IF(OFFSET(DE104_3!$D$105,ROWS($D$105:D163)-1,COLUMNS($D$105:D163)-1)<>\"\",OFFSET(DE104_3!$D$105,ROWS($D$105:D163)-1,COLUMNS($D$105:D163)-1),\"\")","v":""},{"$f":"IF(OFFSET(DE104_3!$E$105,ROWS($E$105:E163)-1,COLUMNS($E$105:E163)-1)<>\"\",OFFSET(DE104_3!$E$105,ROWS($E$105:E163)-1,COLUMNS($E$105:E163)-1),\"\")","v":""},{"$f":"IF(OFFSET(DE104_3!$F$105,ROWS($F$105:F163)-1,COLUMNS($F$105:F163)-1)<>\"\",OFFSET(DE104_3!$F$105,ROWS($F$105:F163)-1,COLUMNS($F$105:F163)-1),\"\")","v":""},{"$f":"IF(OFFSET(DE104_3!$G$105,ROWS($G$105:G163)-1,COLUMNS($G$105:G163)-1)<>\"\",OFFSET(DE104_3!$G$105,ROWS($G$105:G163)-1,COLUMNS($G$105:G163)-1),\"\")","v":""},{"$f":"IF(OFFSET(DE104_3!$H$105,ROWS($H$105:H163)-1,COLUMNS($H$105:H163)-1)<>\"\",OFFSET(DE104_3!$H$105,ROWS($H$105:H163)-1,COLUMNS($H$105:H163)-1),\"\")","v":""},{"$f":"IF(OFFSET(DE104_3!$I$105,ROWS($I$105:I163)-1,COLUMNS($I$105:I163)-1)<>\"\",OFFSET(DE104_3!$I$105,ROWS($I$105:I163)-1,COLUMNS($I$105:I163)-1),\"\")","v":""},{"$f":"IF(OFFSET(DE104_3!$J$105,ROWS($J$105:J163)-1,COLUMNS($J$105:J163)-1)<>\"\",OFFSET(DE104_3!$J$105,ROWS($J$105:J163)-1,COLUMNS($J$105:J163)-1),\"\")","v":""},{"$f":"IF(OFFSET(DE104_3!$K$105,ROWS($K$105:K163)-1,COLUMNS($K$105:K163)-1)<>\"\",OFFSET(DE104_3!$K$105,ROWS($K$105:K163)-1,COLUMNS($K$105:K163)-1),\"\")","v":""},{"$f":"IF(OFFSET(DE104_3!$L$105,ROWS($L$105:L163)-1,COLUMNS($L$105:L163)-1)<>\"\",OFFSET(DE104_3!$L$105,ROWS($L$105:L163)-1,COLUMNS($L$105:L163)-1),\"\")","v":""},{"$f":"IF(OFFSET(DE104_3!$M$105,ROWS($M$105:M163)-1,COLUMNS($M$105:M163)-1)<>\"\",OFFSET(DE104_3!$M$105,ROWS($M$105:M163)-1,COLUMNS($M$105:M163)-1),\"\")","v":""},{"$f":"IF(OFFSET(DE104_3!$N$105,ROWS($N$105:N163)-1,COLUMNS($N$105:N163)-1)<>\"\",OFFSET(DE104_3!$N$105,ROWS($N$105:N163)-1,COLUMNS($N$105:N163)-1),\"\")","v":""},{"$f":"IF(OFFSET(DE104_3!$O$105,ROWS($O$105:O163)-1,COLUMNS($O$105:O163)-1)<>\"\",OFFSET(DE104_3!$O$105,ROWS($O$105:O163)-1,COLUMNS($O$105:O163)-1),\"\")","v":""},{"$f":"IF(OFFSET(DE104_3!$P$105,ROWS($P$105:P163)-1,COLUMNS($P$105:P163)-1)<>\"\",OFFSET(DE104_3!$P$105,ROWS($P$105:P163)-1,COLUMNS($P$105:P163)-1),\"\")","v":""},{"$f":"IF(OFFSET(DE104_3!$Q$105,ROWS($Q$105:Q163)-1,COLUMNS($Q$105:Q163)-1)<>\"\",OFFSET(DE104_3!$Q$105,ROWS($Q$105:Q163)-1,COLUMNS($Q$105:Q163)-1),\"\")","v":""},{"$f":"IF(OFFSET(DE104_3!$R$105,ROWS($R$105:R163)-1,COLUMNS($R$105:R163)-1)<>\"\",OFFSET(DE104_3!$R$105,ROWS($R$105:R163)-1,COLUMNS($R$105:R163)-1),\"\")","v":""},{"$f":"IF(OFFSET(DE104_3!$S$105,ROWS($S$105:S163)-1,COLUMNS($S$105:S163)-1)<>\"\",OFFSET(DE104_3!$S$105,ROWS($S$105:S163)-1,COLUMNS($S$105:S163)-1),\"\")","v":""},{"$f":"IF(OFFSET(DE104_3!$T$105,ROWS($T$105:T163)-1,COLUMNS($T$105:T163)-1)<>\"\",OFFSET(DE104_3!$T$105,ROWS($T$105:T163)-1,COLUMNS($T$105:T163)-1),\"\")","v":""},{"$f":"IF(OFFSET(DE104_3!$U$105,ROWS($U$105:U163)-1,COLUMNS($U$105:U163)-1)<>\"\",OFFSET(DE104_3!$U$105,ROWS($U$105:U163)-1,COLUMNS($U$105:U163)-1),\"\")","v":""},{"$f":"IF(OFFSET(DE104_3!$V$105,ROWS($V$105:V163)-1,COLUMNS($V$105:V163)-1)<>\"\",OFFSET(DE104_3!$V$105,ROWS($V$105:V163)-1,COLUMNS($V$105:V163)-1),\"\")","v":""},{"$f":"IF(OFFSET(DE104_3!$W$105,ROWS($W$105:W163)-1,COLUMNS($W$105:W163)-1)<>\"\",OFFSET(DE104_3!$W$105,ROWS($W$105:W163)-1,COLUMNS($W$105:W163)-1),\"\")","v":""},{"$f":"IF(OFFSET(DE104_3!$X$105,ROWS($X$105:X163)-1,COLUMNS($X$105:X163)-1)<>\"\",OFFSET(DE104_3!$X$105,ROWS($X$105:X163)-1,COLUMNS($X$105:X163)-1),\"\")","v":""},{"$f":"IF(OFFSET(DE104_3!$Y$105,ROWS($Y$105:Y163)-1,COLUMNS($Y$105:Y163)-1)<>\"\",OFFSET(DE104_3!$Y$105,ROWS($Y$105:Y163)-1,COLUMNS($Y$105:Y163)-1),\"\")","v":""},{"$f":"IF(OFFSET(DE104_3!$Z$105,ROWS($Z$105:Z163)-1,COLUMNS($Z$105:Z163)-1)<>\"\",OFFSET(DE104_3!$Z$105,ROWS($Z$105:Z163)-1,COLUMNS($Z$105:Z163)-1),\"\")","v":""},{"$f":"IF(OFFSET(DE104_3!$AA$105,ROWS($AA$105:AA163)-1,COLUMNS($AA$105:AA163)-1)<>\"\",OFFSET(DE104_3!$AA$105,ROWS($AA$105:AA163)-1,COLUMNS($AA$105:AA163)-1),\"\")","v":""},{"$f":"IF(OFFSET(DE104_3!$AB$105,ROWS($AB$105:AB163)-1,COLUMNS($AB$105:AB163)-1)<>\"\",OFFSET(DE104_3!$AB$105,ROWS($AB$105:AB163)-1,COLUMNS($AB$105:AB163)-1),\"\")","v":""},{"$f":"IF(OFFSET(DE104_3!$AC$105,ROWS($AC$105:AC163)-1,COLUMNS($AC$105:AC163)-1)<>\"\",OFFSET(DE104_3!$AC$105,ROWS($AC$105:AC163)-1,COLUMNS($AC$105:AC163)-1),\"\")","v":""},{"$f":"IF(OFFSET(DE104_3!$AD$105,ROWS($AD$105:AD163)-1,COLUMNS($AD$105:AD163)-1)<>\"\",OFFSET(DE104_3!$AD$105,ROWS($AD$105:AD163)-1,COLUMNS($AD$105:AD163)-1),\"\")","v":""},{"$f":"IF(OFFSET(DE104_3!$AE$105,ROWS($AE$105:AE163)-1,COLUMNS($AE$105:AE163)-1)<>\"\",OFFSET(DE104_3!$AE$105,ROWS($AE$105:AE163)-1,COLUMNS($AE$105:AE163)-1),\"\")","v":""},{"$f":"IF(OFFSET(DE104_3!$AF$105,ROWS($AF$105:AF163)-1,COLUMNS($AF$105:AF163)-1)<>\"\",OFFSET(DE104_3!$AF$105,ROWS($AF$105:AF163)-1,COLUMNS($AF$105:AF163)-1),\"\")","v":""},{"$f":"IF(OFFSET(DE104_3!$AG$105,ROWS($AG$105:AG163)-1,COLUMNS($AG$105:AG163)-1)<>\"\",OFFSET(DE104_3!$AG$105,ROWS($AG$105:AG163)-1,COLUMNS($AG$105:AG163)-1),\"\")","v":""},{"$f":"IF(OFFSET(DE104_3!$AH$105,ROWS($AH$105:AH163)-1,COLUMNS($AH$105:AH163)-1)<>\"\",OFFSET(DE104_3!$AH$105,ROWS($AH$105:AH163)-1,COLUMNS($AH$105:AH163)-1),\"\")","v":""},{"$f":"IF(OFFSET(DE104_3!$AI$105,ROWS($AI$105:AI163)-1,COLUMNS($AI$105:AI163)-1)<>\"\",OFFSET(DE104_3!$AI$105,ROWS($AI$105:AI163)-1,COLUMNS($AI$105:AI163)-1),\"\")","v":""},{"$f":"IF(OFFSET(DE104_3!$AJ$105,ROWS($AJ$105:AJ163)-1,COLUMNS($AJ$105:AJ163)-1)<>\"\",OFFSET(DE104_3!$AJ$105,ROWS($AJ$105:AJ163)-1,COLUMNS($AJ$105:AJ163)-1),\"\")","v":""},{"$f":"IF(OFFSET(DE104_3!$AK$105,ROWS($AK$105:AK163)-1,COLUMNS($AK$105:AK163)-1)<>\"\",OFFSET(DE104_3!$AK$105,ROWS($AK$105:AK163)-1,COLUMNS($AK$105:AK163)-1),\"\")","v":""},{"$f":"IF(OFFSET(DE104_3!$AL$105,ROWS($AL$105:AL163)-1,COLUMNS($AL$105:AL163)-1)<>\"\",OFFSET(DE104_3!$AL$105,ROWS($AL$105:AL163)-1,COLUMNS($AL$105:AL163)-1),\"\")","v":""},{"$f":"IF(OFFSET(DE104_3!$AM$105,ROWS($AM$105:AM163)-1,COLUMNS($AM$105:AM163)-1)<>\"\",OFFSET(DE104_3!$AM$105,ROWS($AM$105:AM163)-1,COLUMNS($AM$105:AM163)-1),\"\")","v":""},{"$f":"IF(OFFSET(DE104_3!$AN$105,ROWS($AN$105:AN163)-1,COLUMNS($AN$105:AN163)-1)<>\"\",OFFSET(DE104_3!$AN$105,ROWS($AN$105:AN163)-1,COLUMNS($AN$105:AN163)-1),\"\")","v":""},{"$f":"IF(OFFSET(DE104_3!$AO$105,ROWS($AO$105:AO163)-1,COLUMNS($AO$105:AO163)-1)<>\"\",OFFSET(DE104_3!$AO$105,ROWS($AO$105:AO163)-1,COLUMNS($AO$105:AO163)-1),\"\")","v":""},{"$f":"IF(OFFSET(DE104_3!$AP$105,ROWS($AP$105:AP163)-1,COLUMNS($AP$105:AP163)-1)<>\"\",OFFSET(DE104_3!$AP$105,ROWS($AP$105:AP163)-1,COLUMNS($AP$105:AP163)-1),\"\")","v":""},{"$f":"IF(OFFSET(DE104_3!$AQ$105,ROWS($AQ$105:AQ163)-1,COLUMNS($AQ$105:AQ163)-1)<>\"\",OFFSET(DE104_3!$AQ$105,ROWS($AQ$105:AQ163)-1,COLUMNS($AQ$105:AQ163)-1),\"\")","v":""}]
[{"$f":"IF(OFFSET(DE104_3!$C$105,ROWS($C$105:C164)-1,COLUMNS($C$105:C164)-1)<>\"\",OFFSET(DE104_3!$C$105,ROWS($C$105:C164)-1,COLUMNS($C$105:C164)-1),\"\")","v":""},{"$f":"IF(OFFSET(DE104_3!$D$105,ROWS($D$105:D164)-1,COLUMNS($D$105:D164)-1)<>\"\",OFFSET(DE104_3!$D$105,ROWS($D$105:D164)-1,COLUMNS($D$105:D164)-1),\"\")","v":""},{"$f":"IF(OFFSET(DE104_3!$E$105,ROWS($E$105:E164)-1,COLUMNS($E$105:E164)-1)<>\"\",OFFSET(DE104_3!$E$105,ROWS($E$105:E164)-1,COLUMNS($E$105:E164)-1),\"\")","v":""},{"$f":"IF(OFFSET(DE104_3!$F$105,ROWS($F$105:F164)-1,COLUMNS($F$105:F164)-1)<>\"\",OFFSET(DE104_3!$F$105,ROWS($F$105:F164)-1,COLUMNS($F$105:F164)-1),\"\")","v":""},{"$f":"IF(OFFSET(DE104_3!$G$105,ROWS($G$105:G164)-1,COLUMNS($G$105:G164)-1)<>\"\",OFFSET(DE104_3!$G$105,ROWS($G$105:G164)-1,COLUMNS($G$105:G164)-1),\"\")","v":""},{"$f":"IF(OFFSET(DE104_3!$H$105,ROWS($H$105:H164)-1,COLUMNS($H$105:H164)-1)<>\"\",OFFSET(DE104_3!$H$105,ROWS($H$105:H164)-1,COLUMNS($H$105:H164)-1),\"\")","v":""},{"$f":"IF(OFFSET(DE104_3!$I$105,ROWS($I$105:I164)-1,COLUMNS($I$105:I164)-1)<>\"\",OFFSET(DE104_3!$I$105,ROWS($I$105:I164)-1,COLUMNS($I$105:I164)-1),\"\")","v":""},{"$f":"IF(OFFSET(DE104_3!$J$105,ROWS($J$105:J164)-1,COLUMNS($J$105:J164)-1)<>\"\",OFFSET(DE104_3!$J$105,ROWS($J$105:J164)-1,COLUMNS($J$105:J164)-1),\"\")","v":""},{"$f":"IF(OFFSET(DE104_3!$K$105,ROWS($K$105:K164)-1,COLUMNS($K$105:K164)-1)<>\"\",OFFSET(DE104_3!$K$105,ROWS($K$105:K164)-1,COLUMNS($K$105:K164)-1),\"\")","v":""},{"$f":"IF(OFFSET(DE104_3!$L$105,ROWS($L$105:L164)-1,COLUMNS($L$105:L164)-1)<>\"\",OFFSET(DE104_3!$L$105,ROWS($L$105:L164)-1,COLUMNS($L$105:L164)-1),\"\")","v":""},{"$f":"IF(OFFSET(DE104_3!$M$105,ROWS($M$105:M164)-1,COLUMNS($M$105:M164)-1)<>\"\",OFFSET(DE104_3!$M$105,ROWS($M$105:M164)-1,COLUMNS($M$105:M164)-1),\"\")","v":""},{"$f":"IF(OFFSET(DE104_3!$N$105,ROWS($N$105:N164)-1,COLUMNS($N$105:N164)-1)<>\"\",OFFSET(DE104_3!$N$105,ROWS($N$105:N164)-1,COLUMNS($N$105:N164)-1),\"\")","v":""},{"$f":"IF(OFFSET(DE104_3!$O$105,ROWS($O$105:O164)-1,COLUMNS($O$105:O164)-1)<>\"\",OFFSET(DE104_3!$O$105,ROWS($O$105:O164)-1,COLUMNS($O$105:O164)-1),\"\")","v":""},{"$f":"IF(OFFSET(DE104_3!$P$105,ROWS($P$105:P164)-1,COLUMNS($P$105:P164)-1)<>\"\",OFFSET(DE104_3!$P$105,ROWS($P$105:P164)-1,COLUMNS($P$105:P164)-1),\"\")","v":""},{"$f":"IF(OFFSET(DE104_3!$Q$105,ROWS($Q$105:Q164)-1,COLUMNS($Q$105:Q164)-1)<>\"\",OFFSET(DE104_3!$Q$105,ROWS($Q$105:Q164)-1,COLUMNS($Q$105:Q164)-1),\"\")","v":""},{"$f":"IF(OFFSET(DE104_3!$R$105,ROWS($R$105:R164)-1,COLUMNS($R$105:R164)-1)<>\"\",OFFSET(DE104_3!$R$105,ROWS($R$105:R164)-1,COLUMNS($R$105:R164)-1),\"\")","v":""},{"$f":"IF(OFFSET(DE104_3!$S$105,ROWS($S$105:S164)-1,COLUMNS($S$105:S164)-1)<>\"\",OFFSET(DE104_3!$S$105,ROWS($S$105:S164)-1,COLUMNS($S$105:S164)-1),\"\")","v":""},{"$f":"IF(OFFSET(DE104_3!$T$105,ROWS($T$105:T164)-1,COLUMNS($T$105:T164)-1)<>\"\",OFFSET(DE104_3!$T$105,ROWS($T$105:T164)-1,COLUMNS($T$105:T164)-1),\"\")","v":""},{"$f":"IF(OFFSET(DE104_3!$U$105,ROWS($U$105:U164)-1,COLUMNS($U$105:U164)-1)<>\"\",OFFSET(DE104_3!$U$105,ROWS($U$105:U164)-1,COLUMNS($U$105:U164)-1),\"\")","v":""},{"$f":"IF(OFFSET(DE104_3!$V$105,ROWS($V$105:V164)-1,COLUMNS($V$105:V164)-1)<>\"\",OFFSET(DE104_3!$V$105,ROWS($V$105:V164)-1,COLUMNS($V$105:V164)-1),\"\")","v":""},{"$f":"IF(OFFSET(DE104_3!$W$105,ROWS($W$105:W164)-1,COLUMNS($W$105:W164)-1)<>\"\",OFFSET(DE104_3!$W$105,ROWS($W$105:W164)-1,COLUMNS($W$105:W164)-1),\"\")","v":""},{"$f":"IF(OFFSET(DE104_3!$X$105,ROWS($X$105:X164)-1,COLUMNS($X$105:X164)-1)<>\"\",OFFSET(DE104_3!$X$105,ROWS($X$105:X164)-1,COLUMNS($X$105:X164)-1),\"\")","v":""},{"$f":"IF(OFFSET(DE104_3!$Y$105,ROWS($Y$105:Y164)-1,COLUMNS($Y$105:Y164)-1)<>\"\",OFFSET(DE104_3!$Y$105,ROWS($Y$105:Y164)-1,COLUMNS($Y$105:Y164)-1),\"\")","v":""},{"$f":"IF(OFFSET(DE104_3!$Z$105,ROWS($Z$105:Z164)-1,COLUMNS($Z$105:Z164)-1)<>\"\",OFFSET(DE104_3!$Z$105,ROWS($Z$105:Z164)-1,COLUMNS($Z$105:Z164)-1),\"\")","v":""},{"$f":"IF(OFFSET(DE104_3!$AA$105,ROWS($AA$105:AA164)-1,COLUMNS($AA$105:AA164)-1)<>\"\",OFFSET(DE104_3!$AA$105,ROWS($AA$105:AA164)-1,COLUMNS($AA$105:AA164)-1),\"\")","v":""},{"$f":"IF(OFFSET(DE104_3!$AB$105,ROWS($AB$105:AB164)-1,COLUMNS($AB$105:AB164)-1)<>\"\",OFFSET(DE104_3!$AB$105,ROWS($AB$105:AB164)-1,COLUMNS($AB$105:AB164)-1),\"\")","v":""},{"$f":"IF(OFFSET(DE104_3!$AC$105,ROWS($AC$105:AC164)-1,COLUMNS($AC$105:AC164)-1)<>\"\",OFFSET(DE104_3!$AC$105,ROWS($AC$105:AC164)-1,COLUMNS($AC$105:AC164)-1),\"\")","v":""},{"$f":"IF(OFFSET(DE104_3!$AD$105,ROWS($AD$105:AD164)-1,COLUMNS($AD$105:AD164)-1)<>\"\",OFFSET(DE104_3!$AD$105,ROWS($AD$105:AD164)-1,COLUMNS($AD$105:AD164)-1),\"\")","v":""},{"$f":"IF(OFFSET(DE104_3!$AE$105,ROWS($AE$105:AE164)-1,COLUMNS($AE$105:AE164)-1)<>\"\",OFFSET(DE104_3!$AE$105,ROWS($AE$105:AE164)-1,COLUMNS($AE$105:AE164)-1),\"\")","v":""},{"$f":"IF(OFFSET(DE104_3!$AF$105,ROWS($AF$105:AF164)-1,COLUMNS($AF$105:AF164)-1)<>\"\",OFFSET(DE104_3!$AF$105,ROWS($AF$105:AF164)-1,COLUMNS($AF$105:AF164)-1),\"\")","v":""},{"$f":"IF(OFFSET(DE104_3!$AG$105,ROWS($AG$105:AG164)-1,COLUMNS($AG$105:AG164)-1)<>\"\",OFFSET(DE104_3!$AG$105,ROWS($AG$105:AG164)-1,COLUMNS($AG$105:AG164)-1),\"\")","v":""},{"$f":"IF(OFFSET(DE104_3!$AH$105,ROWS($AH$105:AH164)-1,COLUMNS($AH$105:AH164)-1)<>\"\",OFFSET(DE104_3!$AH$105,ROWS($AH$105:AH164)-1,COLUMNS($AH$105:AH164)-1),\"\")","v":""},{"$f":"IF(OFFSET(DE104_3!$AI$105,ROWS($AI$105:AI164)-1,COLUMNS($AI$105:AI164)-1)<>\"\",OFFSET(DE104_3!$AI$105,ROWS($AI$105:AI164)-1,COLUMNS($AI$105:AI164)-1),\"\")","v":""},{"$f":"IF(OFFSET(DE104_3!$AJ$105,ROWS($AJ$105:AJ164)-1,COLUMNS($AJ$105:AJ164)-1)<>\"\",OFFSET(DE104_3!$AJ$105,ROWS($AJ$105:AJ164)-1,COLUMNS($AJ$105:AJ164)-1),\"\")","v":""},{"$f":"IF(OFFSET(DE104_3!$AK$105,ROWS($AK$105:AK164)-1,COLUMNS($AK$105:AK164)-1)<>\"\",OFFSET(DE104_3!$AK$105,ROWS($AK$105:AK164)-1,COLUMNS($AK$105:AK164)-1),\"\")","v":""},{"$f":"IF(OFFSET(DE104_3!$AL$105,ROWS($AL$105:AL164)-1,COLUMNS($AL$105:AL164)-1)<>\"\",OFFSET(DE104_3!$AL$105,ROWS($AL$105:AL164)-1,COLUMNS($AL$105:AL164)-1),\"\")","v":""},{"$f":"IF(OFFSET(DE104_3!$AM$105,ROWS($AM$105:AM164)-1,COLUMNS($AM$105:AM164)-1)<>\"\",OFFSET(DE104_3!$AM$105,ROWS($AM$105:AM164)-1,COLUMNS($AM$105:AM164)-1),\"\")","v":""},{"$f":"IF(OFFSET(DE104_3!$AN$105,ROWS($AN$105:AN164)-1,COLUMNS($AN$105:AN164)-1)<>\"\",OFFSET(DE104_3!$AN$105,ROWS($AN$105:AN164)-1,COLUMNS($AN$105:AN164)-1),\"\")","v":""},{"$f":"IF(OFFSET(DE104_3!$AO$105,ROWS($AO$105:AO164)-1,COLUMNS($AO$105:AO164)-1)<>\"\",OFFSET(DE104_3!$AO$105,ROWS($AO$105:AO164)-1,COLUMNS($AO$105:AO164)-1),\"\")","v":""},{"$f":"IF(OFFSET(DE104_3!$AP$105,ROWS($AP$105:AP164)-1,COLUMNS($AP$105:AP164)-1)<>\"\",OFFSET(DE104_3!$AP$105,ROWS($AP$105:AP164)-1,COLUMNS($AP$105:AP164)-1),\"\")","v":""},{"$f":"IF(OFFSET(DE104_3!$AQ$105,ROWS($AQ$105:AQ164)-1,COLUMNS($AQ$105:AQ164)-1)<>\"\",OFFSET(DE104_3!$AQ$105,ROWS($AQ$105:AQ164)-1,COLUMNS($AQ$105:AQ164)-1),\"\")","v":""}]
[{"$f":"IF(OFFSET(DE104_3!$C$105,ROWS($C$105:C165)-1,COLUMNS($C$105:C165)-1)<>\"\",OFFSET(DE104_3!$C$105,ROWS($C$105:C165)-1,COLUMNS($C$105:C165)-1),\"\")","v":""},{"$f":"IF(OFFSET(DE104_3!$D$105,ROWS($D$105:D165)-1,COLUMNS($D$105:D165)-1)<>\"\",OFFSET(DE104_3!$D$105,ROWS($D$105:D165)-1,COLUMNS($D$105:D165)-1),\"\")","v":""},{"$f":"IF(OFFSET(DE104_3!$E$105,ROWS($E$105:E165)-1,COLUMNS($E$105:E165)-1)<>\"\",OFFSET(DE104_3!$E$105,ROWS($E$105:E165)-1,COLUMNS($E$105:E165)-1),\"\")","v":""},{"$f":"IF(OFFSET(DE104_3!$F$105,ROWS($F$105:F165)-1,COLUMNS($F$105:F165)-1)<>\"\",OFFSET(DE104_3!$F$105,ROWS($F$105:F165)-1,COLUMNS($F$105:F165)-1),\"\")","v":""},{"$f":"IF(OFFSET(DE104_3!$G$105,ROWS($G$105:G165)-1,COLUMNS($G$105:G165)-1)<>\"\",OFFSET(DE104_3!$G$105,ROWS($G$105:G165)-1,COLUMNS($G$105:G165)-1),\"\")","v":""},{"$f":"IF(OFFSET(DE104_3!$H$105,ROWS($H$105:H165)-1,COLUMNS($H$105:H165)-1)<>\"\",OFFSET(DE104_3!$H$105,ROWS($H$105:H165)-1,COLUMNS($H$105:H165)-1),\"\")","v":""},{"$f":"IF(OFFSET(DE104_3!$I$105,ROWS($I$105:I165)-1,COLUMNS($I$105:I165)-1)<>\"\",OFFSET(DE104_3!$I$105,ROWS($I$105:I165)-1,COLUMNS($I$105:I165)-1),\"\")","v":""},{"$f":"IF(OFFSET(DE104_3!$J$105,ROWS($J$105:J165)-1,COLUMNS($J$105:J165)-1)<>\"\",OFFSET(DE104_3!$J$105,ROWS($J$105:J165)-1,COLUMNS($J$105:J165)-1),\"\")","v":""},{"$f":"IF(OFFSET(DE104_3!$K$105,ROWS($K$105:K165)-1,COLUMNS($K$105:K165)-1)<>\"\",OFFSET(DE104_3!$K$105,ROWS($K$105:K165)-1,COLUMNS($K$105:K165)-1),\"\")","v":""},{"$f":"IF(OFFSET(DE104_3!$L$105,ROWS($L$105:L165)-1,COLUMNS($L$105:L165)-1)<>\"\",OFFSET(DE104_3!$L$105,ROWS($L$105:L165)-1,COLUMNS($L$105:L165)-1),\"\")","v":""},{"$f":"IF(OFFSET(DE104_3!$M$105,ROWS($M$105:M165)-1,COLUMNS($M$105:M165)-1)<>\"\",OFFSET(DE104_3!$M$105,ROWS($M$105:M165)-1,COLUMNS($M$105:M165)-1),\"\")","v":""},{"$f":"IF(OFFSET(DE104_3!$N$105,ROWS($N$105:N165)-1,COLUMNS($N$105:N165)-1)<>\"\",OFFSET(DE104_3!$N$105,ROWS($N$105:N165)-1,COLUMNS($N$105:N165)-1),\"\")","v":""},{"$f":"IF(OFFSET(DE104_3!$O$105,ROWS($O$105:O165)-1,COLUMNS($O$105:O165)-1)<>\"\",OFFSET(DE104_3!$O$105,ROWS($O$105:O165)-1,COLUMNS($O$105:O165)-1),\"\")","v":""},{"$f":"IF(OFFSET(DE104_3!$P$105,ROWS($P$105:P165)-1,COLUMNS($P$105:P165)-1)<>\"\",OFFSET(DE104_3!$P$105,ROWS($P$105:P165)-1,COLUMNS($P$105:P165)-1),\"\")","v":""},{"$f":"IF(OFFSET(DE104_3!$Q$105,ROWS($Q$105:Q165)-1,COLUMNS($Q$105:Q165)-1)<>\"\",OFFSET(DE104_3!$Q$105,ROWS($Q$105:Q165)-1,COLUMNS($Q$105:Q165)-1),\"\")","v":""},{"$f":"IF(OFFSET(DE104_3!$R$105,ROWS($R$105:R165)-1,COLUMNS($R$105:R165)-1)<>\"\",OFFSET(DE104_3!$R$105,ROWS($R$105:R165)-1,COLUMNS($R$105:R165)-1),\"\")","v":""},{"$f":"IF(OFFSET(DE104_3!$S$105,ROWS($S$105:S165)-1,COLUMNS($S$105:S165)-1)<>\"\",OFFSET(DE104_3!$S$105,ROWS($S$105:S165)-1,COLUMNS($S$105:S165)-1),\"\")","v":""},{"$f":"IF(OFFSET(DE104_3!$T$105,ROWS($T$105:T165)-1,COLUMNS($T$105:T165)-1)<>\"\",OFFSET(DE104_3!$T$105,ROWS($T$105:T165)-1,COLUMNS($T$105:T165)-1),\"\")","v":""},{"$f":"IF(OFFSET(DE104_3!$U$105,ROWS($U$105:U165)-1,COLUMNS($U$105:U165)-1)<>\"\",OFFSET(DE104_3!$U$105,ROWS($U$105:U165)-1,COLUMNS($U$105:U165)-1),\"\")","v":""},{"$f":"IF(OFFSET(DE104_3!$V$105,ROWS($V$105:V165)-1,COLUMNS($V$105:V165)-1)<>\"\",OFFSET(DE104_3!$V$105,ROWS($V$105:V165)-1,COLUMNS($V$105:V165)-1),\"\")","v":""},{"$f":"IF(OFFSET(DE104_3!$W$105,ROWS($W$105:W165)-1,COLUMNS($W$105:W165)-1)<>\"\",OFFSET(DE104_3!$W$105,ROWS($W$105:W165)-1,COLUMNS($W$105:W165)-1),\"\")","v":""},{"$f":"IF(OFFSET(DE104_3!$X$105,ROWS($X$105:X165)-1,COLUMNS($X$105:X165)-1)<>\"\",OFFSET(DE104_3!$X$105,ROWS($X$105:X165)-1,COLUMNS($X$105:X165)-1),\"\")","v":""},{"$f":"IF(OFFSET(DE104_3!$Y$105,ROWS($Y$105:Y165)-1,COLUMNS($Y$105:Y165)-1)<>\"\",OFFSET(DE104_3!$Y$105,ROWS($Y$105:Y165)-1,COLUMNS($Y$105:Y165)-1),\"\")","v":""},{"$f":"IF(OFFSET(DE104_3!$Z$105,ROWS($Z$105:Z165)-1,COLUMNS($Z$105:Z165)-1)<>\"\",OFFSET(DE104_3!$Z$105,ROWS($Z$105:Z165)-1,COLUMNS($Z$105:Z165)-1),\"\")","v":""},{"$f":"IF(OFFSET(DE104_3!$AA$105,ROWS($AA$105:AA165)-1,COLUMNS($AA$105:AA165)-1)<>\"\",OFFSET(DE104_3!$AA$105,ROWS($AA$105:AA165)-1,COLUMNS($AA$105:AA165)-1),\"\")","v":""},{"$f":"IF(OFFSET(DE104_3!$AB$105,ROWS($AB$105:AB165)-1,COLUMNS($AB$105:AB165)-1)<>\"\",OFFSET(DE104_3!$AB$105,ROWS($AB$105:AB165)-1,COLUMNS($AB$105:AB165)-1),\"\")","v":""},{"$f":"IF(OFFSET(DE104_3!$AC$105,ROWS($AC$105:AC165)-1,COLUMNS($AC$105:AC165)-1)<>\"\",OFFSET(DE104_3!$AC$105,ROWS($AC$105:AC165)-1,COLUMNS($AC$105:AC165)-1),\"\")","v":""},{"$f":"IF(OFFSET(DE104_3!$AD$105,ROWS($AD$105:AD165)-1,COLUMNS($AD$105:AD165)-1)<>\"\",OFFSET(DE104_3!$AD$105,ROWS($AD$105:AD165)-1,COLUMNS($AD$105:AD165)-1),\"\")","v":""},{"$f":"IF(OFFSET(DE104_3!$AE$105,ROWS($AE$105:AE165)-1,COLUMNS($AE$105:AE165)-1)<>\"\",OFFSET(DE104_3!$AE$105,ROWS($AE$105:AE165)-1,COLUMNS($AE$105:AE165)-1),\"\")","v":""},{"$f":"IF(OFFSET(DE104_3!$AF$105,ROWS($AF$105:AF165)-1,COLUMNS($AF$105:AF165)-1)<>\"\",OFFSET(DE104_3!$AF$105,ROWS($AF$105:AF165)-1,COLUMNS($AF$105:AF165)-1),\"\")","v":""},{"$f":"IF(OFFSET(DE104_3!$AG$105,ROWS($AG$105:AG165)-1,COLUMNS($AG$105:AG165)-1)<>\"\",OFFSET(DE104_3!$AG$105,ROWS($AG$105:AG165)-1,COLUMNS($AG$105:AG165)-1),\"\")","v":""},{"$f":"IF(OFFSET(DE104_3!$AH$105,ROWS($AH$105:AH165)-1,COLUMNS($AH$105:AH165)-1)<>\"\",OFFSET(DE104_3!$AH$105,ROWS($AH$105:AH165)-1,COLUMNS($AH$105:AH165)-1),\"\")","v":""},{"$f":"IF(OFFSET(DE104_3!$AI$105,ROWS($AI$105:AI165)-1,COLUMNS($AI$105:AI165)-1)<>\"\",OFFSET(DE104_3!$AI$105,ROWS($AI$105:AI165)-1,COLUMNS($AI$105:AI165)-1),\"\")","v":""},{"$f":"IF(OFFSET(DE104_3!$AJ$105,ROWS($AJ$105:AJ165)-1,COLUMNS($AJ$105:AJ165)-1)<>\"\",OFFSET(DE104_3!$AJ$105,ROWS($AJ$105:AJ165)-1,COLUMNS($AJ$105:AJ165)-1),\"\")","v":""},{"$f":"IF(OFFSET(DE104_3!$AK$105,ROWS($AK$105:AK165)-1,COLUMNS($AK$105:AK165)-1)<>\"\",OFFSET(DE104_3!$AK$105,ROWS($AK$105:AK165)-1,COLUMNS($AK$105:AK165)-1),\"\")","v":""},{"$f":"IF(OFFSET(DE104_3!$AL$105,ROWS($AL$105:AL165)-1,COLUMNS($AL$105:AL165)-1)<>\"\",OFFSET(DE104_3!$AL$105,ROWS($AL$105:AL165)-1,COLUMNS($AL$105:AL165)-1),\"\")","v":""},{"$f":"IF(OFFSET(DE104_3!$AM$105,ROWS($AM$105:AM165)-1,COLUMNS($AM$105:AM165)-1)<>\"\",OFFSET(DE104_3!$AM$105,ROWS($AM$105:AM165)-1,COLUMNS($AM$105:AM165)-1),\"\")","v":""},{"$f":"IF(OFFSET(DE104_3!$AN$105,ROWS($AN$105:AN165)-1,COLUMNS($AN$105:AN165)-1)<>\"\",OFFSET(DE104_3!$AN$105,ROWS($AN$105:AN165)-1,COLUMNS($AN$105:AN165)-1),\"\")","v":""},{"$f":"IF(OFFSET(DE104_3!$AO$105,ROWS($AO$105:AO165)-1,COLUMNS($AO$105:AO165)-1)<>\"\",OFFSET(DE104_3!$AO$105,ROWS($AO$105:AO165)-1,COLUMNS($AO$105:AO165)-1),\"\")","v":""},{"$f":"IF(OFFSET(DE104_3!$AP$105,ROWS($AP$105:AP165)-1,COLUMNS($AP$105:AP165)-1)<>\"\",OFFSET(DE104_3!$AP$105,ROWS($AP$105:AP165)-1,COLUMNS($AP$105:AP165)-1),\"\")","v":""},{"$f":"IF(OFFSET(DE104_3!$AQ$105,ROWS($AQ$105:AQ165)-1,COLUMNS($AQ$105:AQ165)-1)<>\"\",OFFSET(DE104_3!$AQ$105,ROWS($AQ$105:AQ165)-1,COLUMNS($AQ$105:AQ165)-1),\"\")","v":""}]
[{"$f":"IF(OFFSET(DE104_3!$C$105,ROWS($C$105:C166)-1,COLUMNS($C$105:C166)-1)<>\"\",OFFSET(DE104_3!$C$105,ROWS($C$105:C166)-1,COLUMNS($C$105:C166)-1),\"\")","v":""},{"$f":"IF(OFFSET(DE104_3!$D$105,ROWS($D$105:D166)-1,COLUMNS($D$105:D166)-1)<>\"\",OFFSET(DE104_3!$D$105,ROWS($D$105:D166)-1,COLUMNS($D$105:D166)-1),\"\")","v":""},{"$f":"IF(OFFSET(DE104_3!$E$105,ROWS($E$105:E166)-1,COLUMNS($E$105:E166)-1)<>\"\",OFFSET(DE104_3!$E$105,ROWS($E$105:E166)-1,COLUMNS($E$105:E166)-1),\"\")","v":""},{"$f":"IF(OFFSET(DE104_3!$F$105,ROWS($F$105:F166)-1,COLUMNS($F$105:F166)-1)<>\"\",OFFSET(DE104_3!$F$105,ROWS($F$105:F166)-1,COLUMNS($F$105:F166)-1),\"\")","v":""},{"$f":"IF(OFFSET(DE104_3!$G$105,ROWS($G$105:G166)-1,COLUMNS($G$105:G166)-1)<>\"\",OFFSET(DE104_3!$G$105,ROWS($G$105:G166)-1,COLUMNS($G$105:G166)-1),\"\")","v":""},{"$f":"IF(OFFSET(DE104_3!$H$105,ROWS($H$105:H166)-1,COLUMNS($H$105:H166)-1)<>\"\",OFFSET(DE104_3!$H$105,ROWS($H$105:H166)-1,COLUMNS($H$105:H166)-1),\"\")","v":""},{"$f":"IF(OFFSET(DE104_3!$I$105,ROWS($I$105:I166)-1,COLUMNS($I$105:I166)-1)<>\"\",OFFSET(DE104_3!$I$105,ROWS($I$105:I166)-1,COLUMNS($I$105:I166)-1),\"\")","v":""},{"$f":"IF(OFFSET(DE104_3!$J$105,ROWS($J$105:J166)-1,COLUMNS($J$105:J166)-1)<>\"\",OFFSET(DE104_3!$J$105,ROWS($J$105:J166)-1,COLUMNS($J$105:J166)-1),\"\")","v":""},{"$f":"IF(OFFSET(DE104_3!$K$105,ROWS($K$105:K166)-1,COLUMNS($K$105:K166)-1)<>\"\",OFFSET(DE104_3!$K$105,ROWS($K$105:K166)-1,COLUMNS($K$105:K166)-1),\"\")","v":""},{"$f":"IF(OFFSET(DE104_3!$L$105,ROWS($L$105:L166)-1,COLUMNS($L$105:L166)-1)<>\"\",OFFSET(DE104_3!$L$105,ROWS($L$105:L166)-1,COLUMNS($L$105:L166)-1),\"\")","v":""},{"$f":"IF(OFFSET(DE104_3!$M$105,ROWS($M$105:M166)-1,COLUMNS($M$105:M166)-1)<>\"\",OFFSET(DE104_3!$M$105,ROWS($M$105:M166)-1,COLUMNS($M$105:M166)-1),\"\")","v":""},{"$f":"IF(OFFSET(DE104_3!$N$105,ROWS($N$105:N166)-1,COLUMNS($N$105:N166)-1)<>\"\",OFFSET(DE104_3!$N$105,ROWS($N$105:N166)-1,COLUMNS($N$105:N166)-1),\"\")","v":""},{"$f":"IF(OFFSET(DE104_3!$O$105,ROWS($O$105:O166)-1,COLUMNS($O$105:O166)-1)<>\"\",OFFSET(DE104_3!$O$105,ROWS($O$105:O166)-1,COLUMNS($O$105:O166)-1),\"\")","v":""},{"$f":"IF(OFFSET(DE104_3!$P$105,ROWS($P$105:P166)-1,COLUMNS($P$105:P166)-1)<>\"\",OFFSET(DE104_3!$P$105,ROWS($P$105:P166)-1,COLUMNS($P$105:P166)-1),\"\")","v":""},{"$f":"IF(OFFSET(DE104_3!$Q$105,ROWS($Q$105:Q166)-1,COLUMNS($Q$105:Q166)-1)<>\"\",OFFSET(DE104_3!$Q$105,ROWS($Q$105:Q166)-1,COLUMNS($Q$105:Q166)-1),\"\")","v":""},{"$f":"IF(OFFSET(DE104_3!$R$105,ROWS($R$105:R166)-1,COLUMNS($R$105:R166)-1)<>\"\",OFFSET(DE104_3!$R$105,ROWS($R$105:R166)-1,COLUMNS($R$105:R166)-1),\"\")","v":""},{"$f":"IF(OFFSET(DE104_3!$S$105,ROWS($S$105:S166)-1,COLUMNS($S$105:S166)-1)<>\"\",OFFSET(DE104_3!$S$105,ROWS($S$105:S166)-1,COLUMNS($S$105:S166)-1),\"\")","v":""},{"$f":"IF(OFFSET(DE104_3!$T$105,ROWS($T$105:T166)-1,COLUMNS($T$105:T166)-1)<>\"\",OFFSET(DE104_3!$T$105,ROWS($T$105:T166)-1,COLUMNS($T$105:T166)-1),\"\")","v":""},{"$f":"IF(OFFSET(DE104_3!$U$105,ROWS($U$105:U166)-1,COLUMNS($U$105:U166)-1)<>\"\",OFFSET(DE104_3!$U$105,ROWS($U$105:U166)-1,COLUMNS($U$105:U166)-1),\"\")","v":""},{"$f":"IF(OFFSET(DE104_3!$V$105,ROWS($V$105:V166)-1,COLUMNS($V$105:V166)-1)<>\"\",OFFSET(DE104_3!$V$105,ROWS($V$105:V166)-1,COLUMNS($V$105:V166)-1),\"\")","v":""},{"$f":"IF(OFFSET(DE104_3!$W$105,ROWS($W$105:W166)-1,COLUMNS($W$105:W166)-1)<>\"\",OFFSET(DE104_3!$W$105,ROWS($W$105:W166)-1,COLUMNS($W$105:W166)-1),\"\")","v":""},{"$f":"IF(OFFSET(DE104_3!$X$105,ROWS($X$105:X166)-1,COLUMNS($X$105:X166)-1)<>\"\",OFFSET(DE104_3!$X$105,ROWS($X$105:X166)-1,COLUMNS($X$105:X166)-1),\"\")","v":""},{"$f":"IF(OFFSET(DE104_3!$Y$105,ROWS($Y$105:Y166)-1,COLUMNS($Y$105:Y166)-1)<>\"\",OFFSET(DE104_3!$Y$105,ROWS($Y$105:Y166)-1,COLUMNS($Y$105:Y166)-1),\"\")","v":""},{"$f":"IF(OFFSET(DE104_3!$Z$105,ROWS($Z$105:Z166)-1,COLUMNS($Z$105:Z166)-1)<>\"\",OFFSET(DE104_3!$Z$105,ROWS($Z$105:Z166)-1,COLUMNS($Z$105:Z166)-1),\"\")","v":""},{"$f":"IF(OFFSET(DE104_3!$AA$105,ROWS($AA$105:AA166)-1,COLUMNS($AA$105:AA166)-1)<>\"\",OFFSET(DE104_3!$AA$105,ROWS($AA$105:AA166)-1,COLUMNS($AA$105:AA166)-1),\"\")","v":""},{"$f":"IF(OFFSET(DE104_3!$AB$105,ROWS($AB$105:AB166)-1,COLUMNS($AB$105:AB166)-1)<>\"\",OFFSET(DE104_3!$AB$105,ROWS($AB$105:AB166)-1,COLUMNS($AB$105:AB166)-1),\"\")","v":""},{"$f":"IF(OFFSET(DE104_3!$AC$105,ROWS($AC$105:AC166)-1,COLUMNS($AC$105:AC166)-1)<>\"\",OFFSET(DE104_3!$AC$105,ROWS($AC$105:AC166)-1,COLUMNS($AC$105:AC166)-1),\"\")","v":""},{"$f":"IF(OFFSET(DE104_3!$AD$105,ROWS($AD$105:AD166)-1,COLUMNS($AD$105:AD166)-1)<>\"\",OFFSET(DE104_3!$AD$105,ROWS($AD$105:AD166)-1,COLUMNS($AD$105:AD166)-1),\"\")","v":""},{"$f":"IF(OFFSET(DE104_3!$AE$105,ROWS($AE$105:AE166)-1,COLUMNS($AE$105:AE166)-1)<>\"\",OFFSET(DE104_3!$AE$105,ROWS($AE$105:AE166)-1,COLUMNS($AE$105:AE166)-1),\"\")","v":""},{"$f":"IF(OFFSET(DE104_3!$AF$105,ROWS($AF$105:AF166)-1,COLUMNS($AF$105:AF166)-1)<>\"\",OFFSET(DE104_3!$AF$105,ROWS($AF$105:AF166)-1,COLUMNS($AF$105:AF166)-1),\"\")","v":""},{"$f":"IF(OFFSET(DE104_3!$AG$105,ROWS($AG$105:AG166)-1,COLUMNS($AG$105:AG166)-1)<>\"\",OFFSET(DE104_3!$AG$105,ROWS($AG$105:AG166)-1,COLUMNS($AG$105:AG166)-1),\"\")","v":""},{"$f":"IF(OFFSET(DE104_3!$AH$105,ROWS($AH$105:AH166)-1,COLUMNS($AH$105:AH166)-1)<>\"\",OFFSET(DE104_3!$AH$105,ROWS($AH$105:AH166)-1,COLUMNS($AH$105:AH166)-1),\"\")","v":""},{"$f":"IF(OFFSET(DE104_3!$AI$105,ROWS($AI$105:AI166)-1,COLUMNS($AI$105:AI166)-1)<>\"\",OFFSET(DE104_3!$AI$105,ROWS($AI$105:AI166)-1,COLUMNS($AI$105:AI166)-1),\"\")","v":""},{"$f":"IF(OFFSET(DE104_3!$AJ$105,ROWS($AJ$105:AJ166)-1,COLUMNS($AJ$105:AJ166)-1)<>\"\",OFFSET(DE104_3!$AJ$105,ROWS($AJ$105:AJ166)-1,COLUMNS($AJ$105:AJ166)-1),\"\")","v":""},{"$f":"IF(OFFSET(DE104_3!$AK$105,ROWS($AK$105:AK166)-1,COLUMNS($AK$105:AK166)-1)<>\"\",OFFSET(DE104_3!$AK$105,ROWS($AK$105:AK166)-1,COLUMNS($AK$105:AK166)-1),\"\")","v":""},{"$f":"IF(OFFSET(DE104_3!$AL$105,ROWS($AL$105:AL166)-1,COLUMNS($AL$105:AL166)-1)<>\"\",OFFSET(DE104_3!$AL$105,ROWS($AL$105:AL166)-1,COLUMNS($AL$105:AL166)-1),\"\")","v":""},{"$f":"IF(OFFSET(DE104_3!$AM$105,ROWS($AM$105:AM166)-1,COLUMNS($AM$105:AM166)-1)<>\"\",OFFSET(DE104_3!$AM$105,ROWS($AM$105:AM166)-1,COLUMNS($AM$105:AM166)-1),\"\")","v":""},{"$f":"IF(OFFSET(DE104_3!$AN$105,ROWS($AN$105:AN166)-1,COLUMNS($AN$105:AN166)-1)<>\"\",OFFSET(DE104_3!$AN$105,ROWS($AN$105:AN166)-1,COLUMNS($AN$105:AN166)-1),\"\")","v":""},{"$f":"IF(OFFSET(DE104_3!$AO$105,ROWS($AO$105:AO166)-1,COLUMNS($AO$105:AO166)-1)<>\"\",OFFSET(DE104_3!$AO$105,ROWS($AO$105:AO166)-1,COLUMNS($AO$105:AO166)-1),\"\")","v":""},{"$f":"IF(OFFSET(DE104_3!$AP$105,ROWS($AP$105:AP166)-1,COLUMNS($AP$105:AP166)-1)<>\"\",OFFSET(DE104_3!$AP$105,ROWS($AP$105:AP166)-1,COLUMNS($AP$105:AP166)-1),\"\")","v":""},{"$f":"IF(OFFSET(DE104_3!$AQ$105,ROWS($AQ$105:AQ166)-1,COLUMNS($AQ$105:AQ166)-1)<>\"\",OFFSET(DE104_3!$AQ$105,ROWS($AQ$105:AQ166)-1,COLUMNS($AQ$105:AQ166)-1),\"\")","v":""}]
[{"$f":"IF(OFFSET(DE104_3!$C$105,ROWS($C$105:C167)-1,COLUMNS($C$105:C167)-1)<>\"\",OFFSET(DE104_3!$C$105,ROWS($C$105:C167)-1,COLUMNS($C$105:C167)-1),\"\")","v":""},{"$f":"IF(OFFSET(DE104_3!$D$105,ROWS($D$105:D167)-1,COLUMNS($D$105:D167)-1)<>\"\",OFFSET(DE104_3!$D$105,ROWS($D$105:D167)-1,COLUMNS($D$105:D167)-1),\"\")","v":""},{"$f":"IF(OFFSET(DE104_3!$E$105,ROWS($E$105:E167)-1,COLUMNS($E$105:E167)-1)<>\"\",OFFSET(DE104_3!$E$105,ROWS($E$105:E167)-1,COLUMNS($E$105:E167)-1),\"\")","v":""},{"$f":"IF(OFFSET(DE104_3!$F$105,ROWS($F$105:F167)-1,COLUMNS($F$105:F167)-1)<>\"\",OFFSET(DE104_3!$F$105,ROWS($F$105:F167)-1,COLUMNS($F$105:F167)-1),\"\")","v":""},{"$f":"IF(OFFSET(DE104_3!$G$105,ROWS($G$105:G167)-1,COLUMNS($G$105:G167)-1)<>\"\",OFFSET(DE104_3!$G$105,ROWS($G$105:G167)-1,COLUMNS($G$105:G167)-1),\"\")","v":""},{"$f":"IF(OFFSET(DE104_3!$H$105,ROWS($H$105:H167)-1,COLUMNS($H$105:H167)-1)<>\"\",OFFSET(DE104_3!$H$105,ROWS($H$105:H167)-1,COLUMNS($H$105:H167)-1),\"\")","v":""},{"$f":"IF(OFFSET(DE104_3!$I$105,ROWS($I$105:I167)-1,COLUMNS($I$105:I167)-1)<>\"\",OFFSET(DE104_3!$I$105,ROWS($I$105:I167)-1,COLUMNS($I$105:I167)-1),\"\")","v":""},{"$f":"IF(OFFSET(DE104_3!$J$105,ROWS($J$105:J167)-1,COLUMNS($J$105:J167)-1)<>\"\",OFFSET(DE104_3!$J$105,ROWS($J$105:J167)-1,COLUMNS($J$105:J167)-1),\"\")","v":""},{"$f":"IF(OFFSET(DE104_3!$K$105,ROWS($K$105:K167)-1,COLUMNS($K$105:K167)-1)<>\"\",OFFSET(DE104_3!$K$105,ROWS($K$105:K167)-1,COLUMNS($K$105:K167)-1),\"\")","v":""},{"$f":"IF(OFFSET(DE104_3!$L$105,ROWS($L$105:L167)-1,COLUMNS($L$105:L167)-1)<>\"\",OFFSET(DE104_3!$L$105,ROWS($L$105:L167)-1,COLUMNS($L$105:L167)-1),\"\")","v":""},{"$f":"IF(OFFSET(DE104_3!$M$105,ROWS($M$105:M167)-1,COLUMNS($M$105:M167)-1)<>\"\",OFFSET(DE104_3!$M$105,ROWS($M$105:M167)-1,COLUMNS($M$105:M167)-1),\"\")","v":""},{"$f":"IF(OFFSET(DE104_3!$N$105,ROWS($N$105:N167)-1,COLUMNS($N$105:N167)-1)<>\"\",OFFSET(DE104_3!$N$105,ROWS($N$105:N167)-1,COLUMNS($N$105:N167)-1),\"\")","v":""},{"$f":"IF(OFFSET(DE104_3!$O$105,ROWS($O$105:O167)-1,COLUMNS($O$105:O167)-1)<>\"\",OFFSET(DE104_3!$O$105,ROWS($O$105:O167)-1,COLUMNS($O$105:O167)-1),\"\")","v":""},{"$f":"IF(OFFSET(DE104_3!$P$105,ROWS($P$105:P167)-1,COLUMNS($P$105:P167)-1)<>\"\",OFFSET(DE104_3!$P$105,ROWS($P$105:P167)-1,COLUMNS($P$105:P167)-1),\"\")","v":""},{"$f":"IF(OFFSET(DE104_3!$Q$105,ROWS($Q$105:Q167)-1,COLUMNS($Q$105:Q167)-1)<>\"\",OFFSET(DE104_3!$Q$105,ROWS($Q$105:Q167)-1,COLUMNS($Q$105:Q167)-1),\"\")","v":""},{"$f":"IF(OFFSET(DE104_3!$R$105,ROWS($R$105:R167)-1,COLUMNS($R$105:R167)-1)<>\"\",OFFSET(DE104_3!$R$105,ROWS($R$105:R167)-1,COLUMNS($R$105:R167)-1),\"\")","v":""},{"$f":"IF(OFFSET(DE104_3!$S$105,ROWS($S$105:S167)-1,COLUMNS($S$105:S167)-1)<>\"\",OFFSET(DE104_3!$S$105,ROWS($S$105:S167)-1,COLUMNS($S$105:S167)-1),\"\")","v":""},{"$f":"IF(OFFSET(DE104_3!$T$105,ROWS($T$105:T167)-1,COLUMNS($T$105:T167)-1)<>\"\",OFFSET(DE104_3!$T$105,ROWS($T$105:T167)-1,COLUMNS($T$105:T167)-1),\"\")","v":""},{"$f":"IF(OFFSET(DE104_3!$U$105,ROWS($U$105:U167)-1,COLUMNS($U$105:U167)-1)<>\"\",OFFSET(DE104_3!$U$105,ROWS($U$105:U167)-1,COLUMNS($U$105:U167)-1),\"\")","v":""},{"$f":"IF(OFFSET(DE104_3!$V$105,ROWS($V$105:V167)-1,COLUMNS($V$105:V167)-1)<>\"\",OFFSET(DE104_3!$V$105,ROWS($V$105:V167)-1,COLUMNS($V$105:V167)-1),\"\")","v":""},{"$f":"IF(OFFSET(DE104_3!$W$105,ROWS($W$105:W167)-1,COLUMNS($W$105:W167)-1)<>\"\",OFFSET(DE104_3!$W$105,ROWS($W$105:W167)-1,COLUMNS($W$105:W167)-1),\"\")","v":""},{"$f":"IF(OFFSET(DE104_3!$X$105,ROWS($X$105:X167)-1,COLUMNS($X$105:X167)-1)<>\"\",OFFSET(DE104_3!$X$105,ROWS($X$105:X167)-1,COLUMNS($X$105:X167)-1),\"\")","v":""},{"$f":"IF(OFFSET(DE104_3!$Y$105,ROWS($Y$105:Y167)-1,COLUMNS($Y$105:Y167)-1)<>\"\",OFFSET(DE104_3!$Y$105,ROWS($Y$105:Y167)-1,COLUMNS($Y$105:Y167)-1),\"\")","v":""},{"$f":"IF(OFFSET(DE104_3!$Z$105,ROWS($Z$105:Z167)-1,COLUMNS($Z$105:Z167)-1)<>\"\",OFFSET(DE104_3!$Z$105,ROWS($Z$105:Z167)-1,COLUMNS($Z$105:Z167)-1),\"\")","v":""},{"$f":"IF(OFFSET(DE104_3!$AA$105,ROWS($AA$105:AA167)-1,COLUMNS($AA$105:AA167)-1)<>\"\",OFFSET(DE104_3!$AA$105,ROWS($AA$105:AA167)-1,COLUMNS($AA$105:AA167)-1),\"\")","v":""},{"$f":"IF(OFFSET(DE104_3!$AB$105,ROWS($AB$105:AB167)-1,COLUMNS($AB$105:AB167)-1)<>\"\",OFFSET(DE104_3!$AB$105,ROWS($AB$105:AB167)-1,COLUMNS($AB$105:AB167)-1),\"\")","v":""},{"$f":"IF(OFFSET(DE104_3!$AC$105,ROWS($AC$105:AC167)-1,COLUMNS($AC$105:AC167)-1)<>\"\",OFFSET(DE104_3!$AC$105,ROWS($AC$105:AC167)-1,COLUMNS($AC$105:AC167)-1),\"\")","v":""},{"$f":"IF(OFFSET(DE104_3!$AD$105,ROWS($AD$105:AD167)-1,COLUMNS($AD$105:AD167)-1)<>\"\",OFFSET(DE104_3!$AD$105,ROWS($AD$105:AD167)-1,COLUMNS($AD$105:AD167)-1),\"\")","v":""},{"$f":"IF(OFFSET(DE104_3!$AE$105,ROWS($AE$105:AE167)-1,COLUMNS($AE$105:AE167)-1)<>\"\",OFFSET(DE104_3!$AE$105,ROWS($AE$105:AE167)-1,COLUMNS($AE$105:AE167)-1),\"\")","v":""},{"$f":"IF(OFFSET(DE104_3!$AF$105,ROWS($AF$105:AF167)-1,COLUMNS($AF$105:AF167)-1)<>\"\",OFFSET(DE104_3!$AF$105,ROWS($AF$105:AF167)-1,COLUMNS($AF$105:AF167)-1),\"\")","v":""},{"$f":"IF(OFFSET(DE104_3!$AG$105,ROWS($AG$105:AG167)-1,COLUMNS($AG$105:AG167)-1)<>\"\",OFFSET(DE104_3!$AG$105,ROWS($AG$105:AG167)-1,COLUMNS($AG$105:AG167)-1),\"\")","v":""},{"$f":"IF(OFFSET(DE104_3!$AH$105,ROWS($AH$105:AH167)-1,COLUMNS($AH$105:AH167)-1)<>\"\",OFFSET(DE104_3!$AH$105,ROWS($AH$105:AH167)-1,COLUMNS($AH$105:AH167)-1),\"\")","v":""},{"$f":"IF(OFFSET(DE104_3!$AI$105,ROWS($AI$105:AI167)-1,COLUMNS($AI$105:AI167)-1)<>\"\",OFFSET(DE104_3!$AI$105,ROWS($AI$105:AI167)-1,COLUMNS($AI$105:AI167)-1),\"\")","v":""},{"$f":"IF(OFFSET(DE104_3!$AJ$105,ROWS($AJ$105:AJ167)-1,COLUMNS($AJ$105:AJ167)-1)<>\"\",OFFSET(DE104_3!$AJ$105,ROWS($AJ$105:AJ167)-1,COLUMNS($AJ$105:AJ167)-1),\"\")","v":""},{"$f":"IF(OFFSET(DE104_3!$AK$105,ROWS($AK$105:AK167)-1,COLUMNS($AK$105:AK167)-1)<>\"\",OFFSET(DE104_3!$AK$105,ROWS($AK$105:AK167)-1,COLUMNS($AK$105:AK167)-1),\"\")","v":""},{"$f":"IF(OFFSET(DE104_3!$AL$105,ROWS($AL$105:AL167)-1,COLUMNS($AL$105:AL167)-1)<>\"\",OFFSET(DE104_3!$AL$105,ROWS($AL$105:AL167)-1,COLUMNS($AL$105:AL167)-1),\"\")","v":""},{"$f":"IF(OFFSET(DE104_3!$AM$105,ROWS($AM$105:AM167)-1,COLUMNS($AM$105:AM167)-1)<>\"\",OFFSET(DE104_3!$AM$105,ROWS($AM$105:AM167)-1,COLUMNS($AM$105:AM167)-1),\"\")","v":""},{"$f":"IF(OFFSET(DE104_3!$AN$105,ROWS($AN$105:AN167)-1,COLUMNS($AN$105:AN167)-1)<>\"\",OFFSET(DE104_3!$AN$105,ROWS($AN$105:AN167)-1,COLUMNS($AN$105:AN167)-1),\"\")","v":""},{"$f":"IF(OFFSET(DE104_3!$AO$105,ROWS($AO$105:AO167)-1,COLUMNS($AO$105:AO167)-1)<>\"\",OFFSET(DE104_3!$AO$105,ROWS($AO$105:AO167)-1,COLUMNS($AO$105:AO167)-1),\"\")","v":""},{"$f":"IF(OFFSET(DE104_3!$AP$105,ROWS($AP$105:AP167)-1,COLUMNS($AP$105:AP167)-1)<>\"\",OFFSET(DE104_3!$AP$105,ROWS($AP$105:AP167)-1,COLUMNS($AP$105:AP167)-1),\"\")","v":""},{"$f":"IF(OFFSET(DE104_3!$AQ$105,ROWS($AQ$105:AQ167)-1,COLUMNS($AQ$105:AQ167)-1)<>\"\",OFFSET(DE104_3!$AQ$105,ROWS($AQ$105:AQ167)-1,COLUMNS($AQ$105:AQ167)-1),\"\")","v":""}]
[{"$f":"IF(OFFSET(DE104_3!$C$105,ROWS($C$105:C168)-1,COLUMNS($C$105:C168)-1)<>\"\",OFFSET(DE104_3!$C$105,ROWS($C$105:C168)-1,COLUMNS($C$105:C168)-1),\"\")","v":""},{"$f":"IF(OFFSET(DE104_3!$D$105,ROWS($D$105:D168)-1,COLUMNS($D$105:D168)-1)<>\"\",OFFSET(DE104_3!$D$105,ROWS($D$105:D168)-1,COLUMNS($D$105:D168)-1),\"\")","v":""},{"$f":"IF(OFFSET(DE104_3!$E$105,ROWS($E$105:E168)-1,COLUMNS($E$105:E168)-1)<>\"\",OFFSET(DE104_3!$E$105,ROWS($E$105:E168)-1,COLUMNS($E$105:E168)-1),\"\")","v":""},{"$f":"IF(OFFSET(DE104_3!$F$105,ROWS($F$105:F168)-1,COLUMNS($F$105:F168)-1)<>\"\",OFFSET(DE104_3!$F$105,ROWS($F$105:F168)-1,COLUMNS($F$105:F168)-1),\"\")","v":""},{"$f":"IF(OFFSET(DE104_3!$G$105,ROWS($G$105:G168)-1,COLUMNS($G$105:G168)-1)<>\"\",OFFSET(DE104_3!$G$105,ROWS($G$105:G168)-1,COLUMNS($G$105:G168)-1),\"\")","v":""},{"$f":"IF(OFFSET(DE104_3!$H$105,ROWS($H$105:H168)-1,COLUMNS($H$105:H168)-1)<>\"\",OFFSET(DE104_3!$H$105,ROWS($H$105:H168)-1,COLUMNS($H$105:H168)-1),\"\")","v":""},{"$f":"IF(OFFSET(DE104_3!$I$105,ROWS($I$105:I168)-1,COLUMNS($I$105:I168)-1)<>\"\",OFFSET(DE104_3!$I$105,ROWS($I$105:I168)-1,COLUMNS($I$105:I168)-1),\"\")","v":""},{"$f":"IF(OFFSET(DE104_3!$J$105,ROWS($J$105:J168)-1,COLUMNS($J$105:J168)-1)<>\"\",OFFSET(DE104_3!$J$105,ROWS($J$105:J168)-1,COLUMNS($J$105:J168)-1),\"\")","v":""},{"$f":"IF(OFFSET(DE104_3!$K$105,ROWS($K$105:K168)-1,COLUMNS($K$105:K168)-1)<>\"\",OFFSET(DE104_3!$K$105,ROWS($K$105:K168)-1,COLUMNS($K$105:K168)-1),\"\")","v":""},{"$f":"IF(OFFSET(DE104_3!$L$105,ROWS($L$105:L168)-1,COLUMNS($L$105:L168)-1)<>\"\",OFFSET(DE104_3!$L$105,ROWS($L$105:L168)-1,COLUMNS($L$105:L168)-1),\"\")","v":""},{"$f":"IF(OFFSET(DE104_3!$M$105,ROWS($M$105:M168)-1,COLUMNS($M$105:M168)-1)<>\"\",OFFSET(DE104_3!$M$105,ROWS($M$105:M168)-1,COLUMNS($M$105:M168)-1),\"\")","v":""},{"$f":"IF(OFFSET(DE104_3!$N$105,ROWS($N$105:N168)-1,COLUMNS($N$105:N168)-1)<>\"\",OFFSET(DE104_3!$N$105,ROWS($N$105:N168)-1,COLUMNS($N$105:N168)-1),\"\")","v":""},{"$f":"IF(OFFSET(DE104_3!$O$105,ROWS($O$105:O168)-1,COLUMNS($O$105:O168)-1)<>\"\",OFFSET(DE104_3!$O$105,ROWS($O$105:O168)-1,COLUMNS($O$105:O168)-1),\"\")","v":""},{"$f":"IF(OFFSET(DE104_3!$P$105,ROWS($P$105:P168)-1,COLUMNS($P$105:P168)-1)<>\"\",OFFSET(DE104_3!$P$105,ROWS($P$105:P168)-1,COLUMNS($P$105:P168)-1),\"\")","v":""},{"$f":"IF(OFFSET(DE104_3!$Q$105,ROWS($Q$105:Q168)-1,COLUMNS($Q$105:Q168)-1)<>\"\",OFFSET(DE104_3!$Q$105,ROWS($Q$105:Q168)-1,COLUMNS($Q$105:Q168)-1),\"\")","v":""},{"$f":"IF(OFFSET(DE104_3!$R$105,ROWS($R$105:R168)-1,COLUMNS($R$105:R168)-1)<>\"\",OFFSET(DE104_3!$R$105,ROWS($R$105:R168)-1,COLUMNS($R$105:R168)-1),\"\")","v":""},{"$f":"IF(OFFSET(DE104_3!$S$105,ROWS($S$105:S168)-1,COLUMNS($S$105:S168)-1)<>\"\",OFFSET(DE104_3!$S$105,ROWS($S$105:S168)-1,COLUMNS($S$105:S168)-1),\"\")","v":""},{"$f":"IF(OFFSET(DE104_3!$T$105,ROWS($T$105:T168)-1,COLUMNS($T$105:T168)-1)<>\"\",OFFSET(DE104_3!$T$105,ROWS($T$105:T168)-1,COLUMNS($T$105:T168)-1),\"\")","v":""},{"$f":"IF(OFFSET(DE104_3!$U$105,ROWS($U$105:U168)-1,COLUMNS($U$105:U168)-1)<>\"\",OFFSET(DE104_3!$U$105,ROWS($U$105:U168)-1,COLUMNS($U$105:U168)-1),\"\")","v":""},{"$f":"IF(OFFSET(DE104_3!$V$105,ROWS($V$105:V168)-1,COLUMNS($V$105:V168)-1)<>\"\",OFFSET(DE104_3!$V$105,ROWS($V$105:V168)-1,COLUMNS($V$105:V168)-1),\"\")","v":""},{"$f":"IF(OFFSET(DE104_3!$W$105,ROWS($W$105:W168)-1,COLUMNS($W$105:W168)-1)<>\"\",OFFSET(DE104_3!$W$105,ROWS($W$105:W168)-1,COLUMNS($W$105:W168)-1),\"\")","v":""},{"$f":"IF(OFFSET(DE104_3!$X$105,ROWS($X$105:X168)-1,COLUMNS($X$105:X168)-1)<>\"\",OFFSET(DE104_3!$X$105,ROWS($X$105:X168)-1,COLUMNS($X$105:X168)-1),\"\")","v":""},{"$f":"IF(OFFSET(DE104_3!$Y$105,ROWS($Y$105:Y168)-1,COLUMNS($Y$105:Y168)-1)<>\"\",OFFSET(DE104_3!$Y$105,ROWS($Y$105:Y168)-1,COLUMNS($Y$105:Y168)-1),\"\")","v":""},{"$f":"IF(OFFSET(DE104_3!$Z$105,ROWS($Z$105:Z168)-1,COLUMNS($Z$105:Z168)-1)<>\"\",OFFSET(DE104_3!$Z$105,ROWS($Z$105:Z168)-1,COLUMNS($Z$105:Z168)-1),\"\")","v":""},{"$f":"IF(OFFSET(DE104_3!$AA$105,ROWS($AA$105:AA168)-1,COLUMNS($AA$105:AA168)-1)<>\"\",OFFSET(DE104_3!$AA$105,ROWS($AA$105:AA168)-1,COLUMNS($AA$105:AA168)-1),\"\")","v":""},{"$f":"IF(OFFSET(DE104_3!$AB$105,ROWS($AB$105:AB168)-1,COLUMNS($AB$105:AB168)-1)<>\"\",OFFSET(DE104_3!$AB$105,ROWS($AB$105:AB168)-1,COLUMNS($AB$105:AB168)-1),\"\")","v":""},{"$f":"IF(OFFSET(DE104_3!$AC$105,ROWS($AC$105:AC168)-1,COLUMNS($AC$105:AC168)-1)<>\"\",OFFSET(DE104_3!$AC$105,ROWS($AC$105:AC168)-1,COLUMNS($AC$105:AC168)-1),\"\")","v":""},{"$f":"IF(OFFSET(DE104_3!$AD$105,ROWS($AD$105:AD168)-1,COLUMNS($AD$105:AD168)-1)<>\"\",OFFSET(DE104_3!$AD$105,ROWS($AD$105:AD168)-1,COLUMNS($AD$105:AD168)-1),\"\")","v":""},{"$f":"IF(OFFSET(DE104_3!$AE$105,ROWS($AE$105:AE168)-1,COLUMNS($AE$105:AE168)-1)<>\"\",OFFSET(DE104_3!$AE$105,ROWS($AE$105:AE168)-1,COLUMNS($AE$105:AE168)-1),\"\")","v":""},{"$f":"IF(OFFSET(DE104_3!$AF$105,ROWS($AF$105:AF168)-1,COLUMNS($AF$105:AF168)-1)<>\"\",OFFSET(DE104_3!$AF$105,ROWS($AF$105:AF168)-1,COLUMNS($AF$105:AF168)-1),\"\")","v":""},{"$f":"IF(OFFSET(DE104_3!$AG$105,ROWS($AG$105:AG168)-1,COLUMNS($AG$105:AG168)-1)<>\"\",OFFSET(DE104_3!$AG$105,ROWS($AG$105:AG168)-1,COLUMNS($AG$105:AG168)-1),\"\")","v":""},{"$f":"IF(OFFSET(DE104_3!$AH$105,ROWS($AH$105:AH168)-1,COLUMNS($AH$105:AH168)-1)<>\"\",OFFSET(DE104_3!$AH$105,ROWS($AH$105:AH168)-1,COLUMNS($AH$105:AH168)-1),\"\")","v":""},{"$f":"IF(OFFSET(DE104_3!$AI$105,ROWS($AI$105:AI168)-1,COLUMNS($AI$105:AI168)-1)<>\"\",OFFSET(DE104_3!$AI$105,ROWS($AI$105:AI168)-1,COLUMNS($AI$105:AI168)-1),\"\")","v":""},{"$f":"IF(OFFSET(DE104_3!$AJ$105,ROWS($AJ$105:AJ168)-1,COLUMNS($AJ$105:AJ168)-1)<>\"\",OFFSET(DE104_3!$AJ$105,ROWS($AJ$105:AJ168)-1,COLUMNS($AJ$105:AJ168)-1),\"\")","v":""},{"$f":"IF(OFFSET(DE104_3!$AK$105,ROWS($AK$105:AK168)-1,COLUMNS($AK$105:AK168)-1)<>\"\",OFFSET(DE104_3!$AK$105,ROWS($AK$105:AK168)-1,COLUMNS($AK$105:AK168)-1),\"\")","v":""},{"$f":"IF(OFFSET(DE104_3!$AL$105,ROWS($AL$105:AL168)-1,COLUMNS($AL$105:AL168)-1)<>\"\",OFFSET(DE104_3!$AL$105,ROWS($AL$105:AL168)-1,COLUMNS($AL$105:AL168)-1),\"\")","v":""},{"$f":"IF(OFFSET(DE104_3!$AM$105,ROWS($AM$105:AM168)-1,COLUMNS($AM$105:AM168)-1)<>\"\",OFFSET(DE104_3!$AM$105,ROWS($AM$105:AM168)-1,COLUMNS($AM$105:AM168)-1),\"\")","v":""},{"$f":"IF(OFFSET(DE104_3!$AN$105,ROWS($AN$105:AN168)-1,COLUMNS($AN$105:AN168)-1)<>\"\",OFFSET(DE104_3!$AN$105,ROWS($AN$105:AN168)-1,COLUMNS($AN$105:AN168)-1),\"\")","v":""},{"$f":"IF(OFFSET(DE104_3!$AO$105,ROWS($AO$105:AO168)-1,COLUMNS($AO$105:AO168)-1)<>\"\",OFFSET(DE104_3!$AO$105,ROWS($AO$105:AO168)-1,COLUMNS($AO$105:AO168)-1),\"\")","v":""},{"$f":"IF(OFFSET(DE104_3!$AP$105,ROWS($AP$105:AP168)-1,COLUMNS($AP$105:AP168)-1)<>\"\",OFFSET(DE104_3!$AP$105,ROWS($AP$105:AP168)-1,COLUMNS($AP$105:AP168)-1),\"\")","v":""},{"$f":"IF(OFFSET(DE104_3!$AQ$105,ROWS($AQ$105:AQ168)-1,COLUMNS($AQ$105:AQ168)-1)<>\"\",OFFSET(DE104_3!$AQ$105,ROWS($AQ$105:AQ168)-1,COLUMNS($AQ$105:AQ168)-1),\"\")","v":""}]
[{"$f":"IF(OFFSET(DE104_3!$C$105,ROWS($C$105:C169)-1,COLUMNS($C$105:C169)-1)<>\"\",OFFSET(DE104_3!$C$105,ROWS($C$105:C169)-1,COLUMNS($C$105:C169)-1),\"\")","v":""},{"$f":"IF(OFFSET(DE104_3!$D$105,ROWS($D$105:D169)-1,COLUMNS($D$105:D169)-1)<>\"\",OFFSET(DE104_3!$D$105,ROWS($D$105:D169)-1,COLUMNS($D$105:D169)-1),\"\")","v":""},{"$f":"IF(OFFSET(DE104_3!$E$105,ROWS($E$105:E169)-1,COLUMNS($E$105:E169)-1)<>\"\",OFFSET(DE104_3!$E$105,ROWS($E$105:E169)-1,COLUMNS($E$105:E169)-1),\"\")","v":""},{"$f":"IF(OFFSET(DE104_3!$F$105,ROWS($F$105:F169)-1,COLUMNS($F$105:F169)-1)<>\"\",OFFSET(DE104_3!$F$105,ROWS($F$105:F169)-1,COLUMNS($F$105:F169)-1),\"\")","v":""},{"$f":"IF(OFFSET(DE104_3!$G$105,ROWS($G$105:G169)-1,COLUMNS($G$105:G169)-1)<>\"\",OFFSET(DE104_3!$G$105,ROWS($G$105:G169)-1,COLUMNS($G$105:G169)-1),\"\")","v":""},{"$f":"IF(OFFSET(DE104_3!$H$105,ROWS($H$105:H169)-1,COLUMNS($H$105:H169)-1)<>\"\",OFFSET(DE104_3!$H$105,ROWS($H$105:H169)-1,COLUMNS($H$105:H169)-1),\"\")","v":""},{"$f":"IF(OFFSET(DE104_3!$I$105,ROWS($I$105:I169)-1,COLUMNS($I$105:I169)-1)<>\"\",OFFSET(DE104_3!$I$105,ROWS($I$105:I169)-1,COLUMNS($I$105:I169)-1),\"\")","v":""},{"$f":"IF(OFFSET(DE104_3!$J$105,ROWS($J$105:J169)-1,COLUMNS($J$105:J169)-1)<>\"\",OFFSET(DE104_3!$J$105,ROWS($J$105:J169)-1,COLUMNS($J$105:J169)-1),\"\")","v":""},{"$f":"IF(OFFSET(DE104_3!$K$105,ROWS($K$105:K169)-1,COLUMNS($K$105:K169)-1)<>\"\",OFFSET(DE104_3!$K$105,ROWS($K$105:K169)-1,COLUMNS($K$105:K169)-1),\"\")","v":""},{"$f":"IF(OFFSET(DE104_3!$L$105,ROWS($L$105:L169)-1,COLUMNS($L$105:L169)-1)<>\"\",OFFSET(DE104_3!$L$105,ROWS($L$105:L169)-1,COLUMNS($L$105:L169)-1),\"\")","v":""},{"$f":"IF(OFFSET(DE104_3!$M$105,ROWS($M$105:M169)-1,COLUMNS($M$105:M169)-1)<>\"\",OFFSET(DE104_3!$M$105,ROWS($M$105:M169)-1,COLUMNS($M$105:M169)-1),\"\")","v":""},{"$f":"IF(OFFSET(DE104_3!$N$105,ROWS($N$105:N169)-1,COLUMNS($N$105:N169)-1)<>\"\",OFFSET(DE104_3!$N$105,ROWS($N$105:N169)-1,COLUMNS($N$105:N169)-1),\"\")","v":""},{"$f":"IF(OFFSET(DE104_3!$O$105,ROWS($O$105:O169)-1,COLUMNS($O$105:O169)-1)<>\"\",OFFSET(DE104_3!$O$105,ROWS($O$105:O169)-1,COLUMNS($O$105:O169)-1),\"\")","v":""},{"$f":"IF(OFFSET(DE104_3!$P$105,ROWS($P$105:P169)-1,COLUMNS($P$105:P169)-1)<>\"\",OFFSET(DE104_3!$P$105,ROWS($P$105:P169)-1,COLUMNS($P$105:P169)-1),\"\")","v":""},{"$f":"IF(OFFSET(DE104_3!$Q$105,ROWS($Q$105:Q169)-1,COLUMNS($Q$105:Q169)-1)<>\"\",OFFSET(DE104_3!$Q$105,ROWS($Q$105:Q169)-1,COLUMNS($Q$105:Q169)-1),\"\")","v":""},{"$f":"IF(OFFSET(DE104_3!$R$105,ROWS($R$105:R169)-1,COLUMNS($R$105:R169)-1)<>\"\",OFFSET(DE104_3!$R$105,ROWS($R$105:R169)-1,COLUMNS($R$105:R169)-1),\"\")","v":""},{"$f":"IF(OFFSET(DE104_3!$S$105,ROWS($S$105:S169)-1,COLUMNS($S$105:S169)-1)<>\"\",OFFSET(DE104_3!$S$105,ROWS($S$105:S169)-1,COLUMNS($S$105:S169)-1),\"\")","v":""},{"$f":"IF(OFFSET(DE104_3!$T$105,ROWS($T$105:T169)-1,COLUMNS($T$105:T169)-1)<>\"\",OFFSET(DE104_3!$T$105,ROWS($T$105:T169)-1,COLUMNS($T$105:T169)-1),\"\")","v":""},{"$f":"IF(OFFSET(DE104_3!$U$105,ROWS($U$105:U169)-1,COLUMNS($U$105:U169)-1)<>\"\",OFFSET(DE104_3!$U$105,ROWS($U$105:U169)-1,COLUMNS($U$105:U169)-1),\"\")","v":""},{"$f":"IF(OFFSET(DE104_3!$V$105,ROWS($V$105:V169)-1,COLUMNS($V$105:V169)-1)<>\"\",OFFSET(DE104_3!$V$105,ROWS($V$105:V169)-1,COLUMNS($V$105:V169)-1),\"\")","v":""},{"$f":"IF(OFFSET(DE104_3!$W$105,ROWS($W$105:W169)-1,COLUMNS($W$105:W169)-1)<>\"\",OFFSET(DE104_3!$W$105,ROWS($W$105:W169)-1,COLUMNS($W$105:W169)-1),\"\")","v":""},{"$f":"IF(OFFSET(DE104_3!$X$105,ROWS($X$105:X169)-1,COLUMNS($X$105:X169)-1)<>\"\",OFFSET(DE104_3!$X$105,ROWS($X$105:X169)-1,COLUMNS($X$105:X169)-1),\"\")","v":""},{"$f":"IF(OFFSET(DE104_3!$Y$105,ROWS($Y$105:Y169)-1,COLUMNS($Y$105:Y169)-1)<>\"\",OFFSET(DE104_3!$Y$105,ROWS($Y$105:Y169)-1,COLUMNS($Y$105:Y169)-1),\"\")","v":""},{"$f":"IF(OFFSET(DE104_3!$Z$105,ROWS($Z$105:Z169)-1,COLUMNS($Z$105:Z169)-1)<>\"\",OFFSET(DE104_3!$Z$105,ROWS($Z$105:Z169)-1,COLUMNS($Z$105:Z169)-1),\"\")","v":""},{"$f":"IF(OFFSET(DE104_3!$AA$105,ROWS($AA$105:AA169)-1,COLUMNS($AA$105:AA169)-1)<>\"\",OFFSET(DE104_3!$AA$105,ROWS($AA$105:AA169)-1,COLUMNS($AA$105:AA169)-1),\"\")","v":""},{"$f":"IF(OFFSET(DE104_3!$AB$105,ROWS($AB$105:AB169)-1,COLUMNS($AB$105:AB169)-1)<>\"\",OFFSET(DE104_3!$AB$105,ROWS($AB$105:AB169)-1,COLUMNS($AB$105:AB169)-1),\"\")","v":""},{"$f":"IF(OFFSET(DE104_3!$AC$105,ROWS($AC$105:AC169)-1,COLUMNS($AC$105:AC169)-1)<>\"\",OFFSET(DE104_3!$AC$105,ROWS($AC$105:AC169)-1,COLUMNS($AC$105:AC169)-1),\"\")","v":""},{"$f":"IF(OFFSET(DE104_3!$AD$105,ROWS($AD$105:AD169)-1,COLUMNS($AD$105:AD169)-1)<>\"\",OFFSET(DE104_3!$AD$105,ROWS($AD$105:AD169)-1,COLUMNS($AD$105:AD169)-1),\"\")","v":""},{"$f":"IF(OFFSET(DE104_3!$AE$105,ROWS($AE$105:AE169)-1,COLUMNS($AE$105:AE169)-1)<>\"\",OFFSET(DE104_3!$AE$105,ROWS($AE$105:AE169)-1,COLUMNS($AE$105:AE169)-1),\"\")","v":""},{"$f":"IF(OFFSET(DE104_3!$AF$105,ROWS($AF$105:AF169)-1,COLUMNS($AF$105:AF169)-1)<>\"\",OFFSET(DE104_3!$AF$105,ROWS($AF$105:AF169)-1,COLUMNS($AF$105:AF169)-1),\"\")","v":""},{"$f":"IF(OFFSET(DE104_3!$AG$105,ROWS($AG$105:AG169)-1,COLUMNS($AG$105:AG169)-1)<>\"\",OFFSET(DE104_3!$AG$105,ROWS($AG$105:AG169)-1,COLUMNS($AG$105:AG169)-1),\"\")","v":""},{"$f":"IF(OFFSET(DE104_3!$AH$105,ROWS($AH$105:AH169)-1,COLUMNS($AH$105:AH169)-1)<>\"\",OFFSET(DE104_3!$AH$105,ROWS($AH$105:AH169)-1,COLUMNS($AH$105:AH169)-1),\"\")","v":""},{"$f":"IF(OFFSET(DE104_3!$AI$105,ROWS($AI$105:AI169)-1,COLUMNS($AI$105:AI169)-1)<>\"\",OFFSET(DE104_3!$AI$105,ROWS($AI$105:AI169)-1,COLUMNS($AI$105:AI169)-1),\"\")","v":""},{"$f":"IF(OFFSET(DE104_3!$AJ$105,ROWS($AJ$105:AJ169)-1,COLUMNS($AJ$105:AJ169)-1)<>\"\",OFFSET(DE104_3!$AJ$105,ROWS($AJ$105:AJ169)-1,COLUMNS($AJ$105:AJ169)-1),\"\")","v":""},{"$f":"IF(OFFSET(DE104_3!$AK$105,ROWS($AK$105:AK169)-1,COLUMNS($AK$105:AK169)-1)<>\"\",OFFSET(DE104_3!$AK$105,ROWS($AK$105:AK169)-1,COLUMNS($AK$105:AK169)-1),\"\")","v":""},{"$f":"IF(OFFSET(DE104_3!$AL$105,ROWS($AL$105:AL169)-1,COLUMNS($AL$105:AL169)-1)<>\"\",OFFSET(DE104_3!$AL$105,ROWS($AL$105:AL169)-1,COLUMNS($AL$105:AL169)-1),\"\")","v":""},{"$f":"IF(OFFSET(DE104_3!$AM$105,ROWS($AM$105:AM169)-1,COLUMNS($AM$105:AM169)-1)<>\"\",OFFSET(DE104_3!$AM$105,ROWS($AM$105:AM169)-1,COLUMNS($AM$105:AM169)-1),\"\")","v":""},{"$f":"IF(OFFSET(DE104_3!$AN$105,ROWS($AN$105:AN169)-1,COLUMNS($AN$105:AN169)-1)<>\"\",OFFSET(DE104_3!$AN$105,ROWS($AN$105:AN169)-1,COLUMNS($AN$105:AN169)-1),\"\")","v":""},{"$f":"IF(OFFSET(DE104_3!$AO$105,ROWS($AO$105:AO169)-1,COLUMNS($AO$105:AO169)-1)<>\"\",OFFSET(DE104_3!$AO$105,ROWS($AO$105:AO169)-1,COLUMNS($AO$105:AO169)-1),\"\")","v":""},{"$f":"IF(OFFSET(DE104_3!$AP$105,ROWS($AP$105:AP169)-1,COLUMNS($AP$105:AP169)-1)<>\"\",OFFSET(DE104_3!$AP$105,ROWS($AP$105:AP169)-1,COLUMNS($AP$105:AP169)-1),\"\")","v":""},{"$f":"IF(OFFSET(DE104_3!$AQ$105,ROWS($AQ$105:AQ169)-1,COLUMNS($AQ$105:AQ169)-1)<>\"\",OFFSET(DE104_3!$AQ$105,ROWS($AQ$105:AQ169)-1,COLUMNS($AQ$105:AQ169)-1),\"\")","v":""}]
[{"$f":"IF(OFFSET(DE104_3!$C$105,ROWS($C$105:C170)-1,COLUMNS($C$105:C170)-1)<>\"\",OFFSET(DE104_3!$C$105,ROWS($C$105:C170)-1,COLUMNS($C$105:C170)-1),\"\")","v":""},{"$f":"IF(OFFSET(DE104_3!$D$105,ROWS($D$105:D170)-1,COLUMNS($D$105:D170)-1)<>\"\",OFFSET(DE104_3!$D$105,ROWS($D$105:D170)-1,COLUMNS($D$105:D170)-1),\"\")","v":""},{"$f":"IF(OFFSET(DE104_3!$E$105,ROWS($E$105:E170)-1,COLUMNS($E$105:E170)-1)<>\"\",OFFSET(DE104_3!$E$105,ROWS($E$105:E170)-1,COLUMNS($E$105:E170)-1),\"\")","v":""},{"$f":"IF(OFFSET(DE104_3!$F$105,ROWS($F$105:F170)-1,COLUMNS($F$105:F170)-1)<>\"\",OFFSET(DE104_3!$F$105,ROWS($F$105:F170)-1,COLUMNS($F$105:F170)-1),\"\")","v":""},{"$f":"IF(OFFSET(DE104_3!$G$105,ROWS($G$105:G170)-1,COLUMNS($G$105:G170)-1)<>\"\",OFFSET(DE104_3!$G$105,ROWS($G$105:G170)-1,COLUMNS($G$105:G170)-1),\"\")","v":""},{"$f":"IF(OFFSET(DE104_3!$H$105,ROWS($H$105:H170)-1,COLUMNS($H$105:H170)-1)<>\"\",OFFSET(DE104_3!$H$105,ROWS($H$105:H170)-1,COLUMNS($H$105:H170)-1),\"\")","v":""},{"$f":"IF(OFFSET(DE104_3!$I$105,ROWS($I$105:I170)-1,COLUMNS($I$105:I170)-1)<>\"\",OFFSET(DE104_3!$I$105,ROWS($I$105:I170)-1,COLUMNS($I$105:I170)-1),\"\")","v":""},{"$f":"IF(OFFSET(DE104_3!$J$105,ROWS($J$105:J170)-1,COLUMNS($J$105:J170)-1)<>\"\",OFFSET(DE104_3!$J$105,ROWS($J$105:J170)-1,COLUMNS($J$105:J170)-1),\"\")","v":""},{"$f":"IF(OFFSET(DE104_3!$K$105,ROWS($K$105:K170)-1,COLUMNS($K$105:K170)-1)<>\"\",OFFSET(DE104_3!$K$105,ROWS($K$105:K170)-1,COLUMNS($K$105:K170)-1),\"\")","v":""},{"$f":"IF(OFFSET(DE104_3!$L$105,ROWS($L$105:L170)-1,COLUMNS($L$105:L170)-1)<>\"\",OFFSET(DE104_3!$L$105,ROWS($L$105:L170)-1,COLUMNS($L$105:L170)-1),\"\")","v":""},{"$f":"IF(OFFSET(DE104_3!$M$105,ROWS($M$105:M170)-1,COLUMNS($M$105:M170)-1)<>\"\",OFFSET(DE104_3!$M$105,ROWS($M$105:M170)-1,COLUMNS($M$105:M170)-1),\"\")","v":""},{"$f":"IF(OFFSET(DE104_3!$N$105,ROWS($N$105:N170)-1,COLUMNS($N$105:N170)-1)<>\"\",OFFSET(DE104_3!$N$105,ROWS($N$105:N170)-1,COLUMNS($N$105:N170)-1),\"\")","v":""},{"$f":"IF(OFFSET(DE104_3!$O$105,ROWS($O$105:O170)-1,COLUMNS($O$105:O170)-1)<>\"\",OFFSET(DE104_3!$O$105,ROWS($O$105:O170)-1,COLUMNS($O$105:O170)-1),\"\")","v":""},{"$f":"IF(OFFSET(DE104_3!$P$105,ROWS($P$105:P170)-1,COLUMNS($P$105:P170)-1)<>\"\",OFFSET(DE104_3!$P$105,ROWS($P$105:P170)-1,COLUMNS($P$105:P170)-1),\"\")","v":""},{"$f":"IF(OFFSET(DE104_3!$Q$105,ROWS($Q$105:Q170)-1,COLUMNS($Q$105:Q170)-1)<>\"\",OFFSET(DE104_3!$Q$105,ROWS($Q$105:Q170)-1,COLUMNS($Q$105:Q170)-1),\"\")","v":""},{"$f":"IF(OFFSET(DE104_3!$R$105,ROWS($R$105:R170)-1,COLUMNS($R$105:R170)-1)<>\"\",OFFSET(DE104_3!$R$105,ROWS($R$105:R170)-1,COLUMNS($R$105:R170)-1),\"\")","v":""},{"$f":"IF(OFFSET(DE104_3!$S$105,ROWS($S$105:S170)-1,COLUMNS($S$105:S170)-1)<>\"\",OFFSET(DE104_3!$S$105,ROWS($S$105:S170)-1,COLUMNS($S$105:S170)-1),\"\")","v":""},{"$f":"IF(OFFSET(DE104_3!$T$105,ROWS($T$105:T170)-1,COLUMNS($T$105:T170)-1)<>\"\",OFFSET(DE104_3!$T$105,ROWS($T$105:T170)-1,COLUMNS($T$105:T170)-1),\"\")","v":""},{"$f":"IF(OFFSET(DE104_3!$U$105,ROWS($U$105:U170)-1,COLUMNS($U$105:U170)-1)<>\"\",OFFSET(DE104_3!$U$105,ROWS($U$105:U170)-1,COLUMNS($U$105:U170)-1),\"\")","v":""},{"$f":"IF(OFFSET(DE104_3!$V$105,ROWS($V$105:V170)-1,COLUMNS($V$105:V170)-1)<>\"\",OFFSET(DE104_3!$V$105,ROWS($V$105:V170)-1,COLUMNS($V$105:V170)-1),\"\")","v":""},{"$f":"IF(OFFSET(DE104_3!$W$105,ROWS($W$105:W170)-1,COLUMNS($W$105:W170)-1)<>\"\",OFFSET(DE104_3!$W$105,ROWS($W$105:W170)-1,COLUMNS($W$105:W170)-1),\"\")","v":""},{"$f":"IF(OFFSET(DE104_3!$X$105,ROWS($X$105:X170)-1,COLUMNS($X$105:X170)-1)<>\"\",OFFSET(DE104_3!$X$105,ROWS($X$105:X170)-1,COLUMNS($X$105:X170)-1),\"\")","v":""},{"$f":"IF(OFFSET(DE104_3!$Y$105,ROWS($Y$105:Y170)-1,COLUMNS($Y$105:Y170)-1)<>\"\",OFFSET(DE104_3!$Y$105,ROWS($Y$105:Y170)-1,COLUMNS($Y$105:Y170)-1),\"\")","v":""},{"$f":"IF(OFFSET(DE104_3!$Z$105,ROWS($Z$105:Z170)-1,COLUMNS($Z$105:Z170)-1)<>\"\",OFFSET(DE104_3!$Z$105,ROWS($Z$105:Z170)-1,COLUMNS($Z$105:Z170)-1),\"\")","v":""},{"$f":"IF(OFFSET(DE104_3!$AA$105,ROWS($AA$105:AA170)-1,COLUMNS($AA$105:AA170)-1)<>\"\",OFFSET(DE104_3!$AA$105,ROWS($AA$105:AA170)-1,COLUMNS($AA$105:AA170)-1),\"\")","v":""},{"$f":"IF(OFFSET(DE104_3!$AB$105,ROWS($AB$105:AB170)-1,COLUMNS($AB$105:AB170)-1)<>\"\",OFFSET(DE104_3!$AB$105,ROWS($AB$105:AB170)-1,COLUMNS($AB$105:AB170)-1),\"\")","v":""},{"$f":"IF(OFFSET(DE104_3!$AC$105,ROWS($AC$105:AC170)-1,COLUMNS($AC$105:AC170)-1)<>\"\",OFFSET(DE104_3!$AC$105,ROWS($AC$105:AC170)-1,COLUMNS($AC$105:AC170)-1),\"\")","v":""},{"$f":"IF(OFFSET(DE104_3!$AD$105,ROWS($AD$105:AD170)-1,COLUMNS($AD$105:AD170)-1)<>\"\",OFFSET(DE104_3!$AD$105,ROWS($AD$105:AD170)-1,COLUMNS($AD$105:AD170)-1),\"\")","v":""},{"$f":"IF(OFFSET(DE104_3!$AE$105,ROWS($AE$105:AE170)-1,COLUMNS($AE$105:AE170)-1)<>\"\",OFFSET(DE104_3!$AE$105,ROWS($AE$105:AE170)-1,COLUMNS($AE$105:AE170)-1),\"\")","v":""},{"$f":"IF(OFFSET(DE104_3!$AF$105,ROWS($AF$105:AF170)-1,COLUMNS($AF$105:AF170)-1)<>\"\",OFFSET(DE104_3!$AF$105,ROWS($AF$105:AF170)-1,COLUMNS($AF$105:AF170)-1),\"\")","v":""},{"$f":"IF(OFFSET(DE104_3!$AG$105,ROWS($AG$105:AG170)-1,COLUMNS($AG$105:AG170)-1)<>\"\",OFFSET(DE104_3!$AG$105,ROWS($AG$105:AG170)-1,COLUMNS($AG$105:AG170)-1),\"\")","v":""},{"$f":"IF(OFFSET(DE104_3!$AH$105,ROWS($AH$105:AH170)-1,COLUMNS($AH$105:AH170)-1)<>\"\",OFFSET(DE104_3!$AH$105,ROWS($AH$105:AH170)-1,COLUMNS($AH$105:AH170)-1),\"\")","v":""},{"$f":"IF(OFFSET(DE104_3!$AI$105,ROWS($AI$105:AI170)-1,COLUMNS($AI$105:AI170)-1)<>\"\",OFFSET(DE104_3!$AI$105,ROWS($AI$105:AI170)-1,COLUMNS($AI$105:AI170)-1),\"\")","v":""},{"$f":"IF(OFFSET(DE104_3!$AJ$105,ROWS($AJ$105:AJ170)-1,COLUMNS($AJ$105:AJ170)-1)<>\"\",OFFSET(DE104_3!$AJ$105,ROWS($AJ$105:AJ170)-1,COLUMNS($AJ$105:AJ170)-1),\"\")","v":""},{"$f":"IF(OFFSET(DE104_3!$AK$105,ROWS($AK$105:AK170)-1,COLUMNS($AK$105:AK170)-1)<>\"\",OFFSET(DE104_3!$AK$105,ROWS($AK$105:AK170)-1,COLUMNS($AK$105:AK170)-1),\"\")","v":""},{"$f":"IF(OFFSET(DE104_3!$AL$105,ROWS($AL$105:AL170)-1,COLUMNS($AL$105:AL170)-1)<>\"\",OFFSET(DE104_3!$AL$105,ROWS($AL$105:AL170)-1,COLUMNS($AL$105:AL170)-1),\"\")","v":""},{"$f":"IF(OFFSET(DE104_3!$AM$105,ROWS($AM$105:AM170)-1,COLUMNS($AM$105:AM170)-1)<>\"\",OFFSET(DE104_3!$AM$105,ROWS($AM$105:AM170)-1,COLUMNS($AM$105:AM170)-1),\"\")","v":""},{"$f":"IF(OFFSET(DE104_3!$AN$105,ROWS($AN$105:AN170)-1,COLUMNS($AN$105:AN170)-1)<>\"\",OFFSET(DE104_3!$AN$105,ROWS($AN$105:AN170)-1,COLUMNS($AN$105:AN170)-1),\"\")","v":""},{"$f":"IF(OFFSET(DE104_3!$AO$105,ROWS($AO$105:AO170)-1,COLUMNS($AO$105:AO170)-1)<>\"\",OFFSET(DE104_3!$AO$105,ROWS($AO$105:AO170)-1,COLUMNS($AO$105:AO170)-1),\"\")","v":""},{"$f":"IF(OFFSET(DE104_3!$AP$105,ROWS($AP$105:AP170)-1,COLUMNS($AP$105:AP170)-1)<>\"\",OFFSET(DE104_3!$AP$105,ROWS($AP$105:AP170)-1,COLUMNS($AP$105:AP170)-1),\"\")","v":""},{"$f":"IF(OFFSET(DE104_3!$AQ$105,ROWS($AQ$105:AQ170)-1,COLUMNS($AQ$105:AQ170)-1)<>\"\",OFFSET(DE104_3!$AQ$105,ROWS($AQ$105:AQ170)-1,COLUMNS($AQ$105:AQ170)-1),\"\")","v":""}]
[{"$f":"IF(OFFSET(DE104_3!$C$105,ROWS($C$105:C171)-1,COLUMNS($C$105:C171)-1)<>\"\",OFFSET(DE104_3!$C$105,ROWS($C$105:C171)-1,COLUMNS($C$105:C171)-1),\"\")","v":""},{"$f":"IF(OFFSET(DE104_3!$D$105,ROWS($D$105:D171)-1,COLUMNS($D$105:D171)-1)<>\"\",OFFSET(DE104_3!$D$105,ROWS($D$105:D171)-1,COLUMNS($D$105:D171)-1),\"\")","v":""},{"$f":"IF(OFFSET(DE104_3!$E$105,ROWS($E$105:E171)-1,COLUMNS($E$105:E171)-1)<>\"\",OFFSET(DE104_3!$E$105,ROWS($E$105:E171)-1,COLUMNS($E$105:E171)-1),\"\")","v":""},{"$f":"IF(OFFSET(DE104_3!$F$105,ROWS($F$105:F171)-1,COLUMNS($F$105:F171)-1)<>\"\",OFFSET(DE104_3!$F$105,ROWS($F$105:F171)-1,COLUMNS($F$105:F171)-1),\"\")","v":""},{"$f":"IF(OFFSET(DE104_3!$G$105,ROWS($G$105:G171)-1,COLUMNS($G$105:G171)-1)<>\"\",OFFSET(DE104_3!$G$105,ROWS($G$105:G171)-1,COLUMNS($G$105:G171)-1),\"\")","v":""},{"$f":"IF(OFFSET(DE104_3!$H$105,ROWS($H$105:H171)-1,COLUMNS($H$105:H171)-1)<>\"\",OFFSET(DE104_3!$H$105,ROWS($H$105:H171)-1,COLUMNS($H$105:H171)-1),\"\")","v":""},{"$f":"IF(OFFSET(DE104_3!$I$105,ROWS($I$105:I171)-1,COLUMNS($I$105:I171)-1)<>\"\",OFFSET(DE104_3!$I$105,ROWS($I$105:I171)-1,COLUMNS($I$105:I171)-1),\"\")","v":""},{"$f":"IF(OFFSET(DE104_3!$J$105,ROWS($J$105:J171)-1,COLUMNS($J$105:J171)-1)<>\"\",OFFSET(DE104_3!$J$105,ROWS($J$105:J171)-1,COLUMNS($J$105:J171)-1),\"\")","v":""},{"$f":"IF(OFFSET(DE104_3!$K$105,ROWS($K$105:K171)-1,COLUMNS($K$105:K171)-1)<>\"\",OFFSET(DE104_3!$K$105,ROWS($K$105:K171)-1,COLUMNS($K$105:K171)-1),\"\")","v":""},{"$f":"IF(OFFSET(DE104_3!$L$105,ROWS($L$105:L171)-1,COLUMNS($L$105:L171)-1)<>\"\",OFFSET(DE104_3!$L$105,ROWS($L$105:L171)-1,COLUMNS($L$105:L171)-1),\"\")","v":""},{"$f":"IF(OFFSET(DE104_3!$M$105,ROWS($M$105:M171)-1,COLUMNS($M$105:M171)-1)<>\"\",OFFSET(DE104_3!$M$105,ROWS($M$105:M171)-1,COLUMNS($M$105:M171)-1),\"\")","v":""},{"$f":"IF(OFFSET(DE104_3!$N$105,ROWS($N$105:N171)-1,COLUMNS($N$105:N171)-1)<>\"\",OFFSET(DE104_3!$N$105,ROWS($N$105:N171)-1,COLUMNS($N$105:N171)-1),\"\")","v":""},{"$f":"IF(OFFSET(DE104_3!$O$105,ROWS($O$105:O171)-1,COLUMNS($O$105:O171)-1)<>\"\",OFFSET(DE104_3!$O$105,ROWS($O$105:O171)-1,COLUMNS($O$105:O171)-1),\"\")","v":""},{"$f":"IF(OFFSET(DE104_3!$P$105,ROWS($P$105:P171)-1,COLUMNS($P$105:P171)-1)<>\"\",OFFSET(DE104_3!$P$105,ROWS($P$105:P171)-1,COLUMNS($P$105:P171)-1),\"\")","v":""},{"$f":"IF(OFFSET(DE104_3!$Q$105,ROWS($Q$105:Q171)-1,COLUMNS($Q$105:Q171)-1)<>\"\",OFFSET(DE104_3!$Q$105,ROWS($Q$105:Q171)-1,COLUMNS($Q$105:Q171)-1),\"\")","v":""},{"$f":"IF(OFFSET(DE104_3!$R$105,ROWS($R$105:R171)-1,COLUMNS($R$105:R171)-1)<>\"\",OFFSET(DE104_3!$R$105,ROWS($R$105:R171)-1,COLUMNS($R$105:R171)-1),\"\")","v":""},{"$f":"IF(OFFSET(DE104_3!$S$105,ROWS($S$105:S171)-1,COLUMNS($S$105:S171)-1)<>\"\",OFFSET(DE104_3!$S$105,ROWS($S$105:S171)-1,COLUMNS($S$105:S171)-1),\"\")","v":""},{"$f":"IF(OFFSET(DE104_3!$T$105,ROWS($T$105:T171)-1,COLUMNS($T$105:T171)-1)<>\"\",OFFSET(DE104_3!$T$105,ROWS($T$105:T171)-1,COLUMNS($T$105:T171)-1),\"\")","v":""},{"$f":"IF(OFFSET(DE104_3!$U$105,ROWS($U$105:U171)-1,COLUMNS($U$105:U171)-1)<>\"\",OFFSET(DE104_3!$U$105,ROWS($U$105:U171)-1,COLUMNS($U$105:U171)-1),\"\")","v":""},{"$f":"IF(OFFSET(DE104_3!$V$105,ROWS($V$105:V171)-1,COLUMNS($V$105:V171)-1)<>\"\",OFFSET(DE104_3!$V$105,ROWS($V$105:V171)-1,COLUMNS($V$105:V171)-1),\"\")","v":""},{"$f":"IF(OFFSET(DE104_3!$W$105,ROWS($W$105:W171)-1,COLUMNS($W$105:W171)-1)<>\"\",OFFSET(DE104_3!$W$105,ROWS($W$105:W171)-1,COLUMNS($W$105:W171)-1),\"\")","v":""},{"$f":"IF(OFFSET(DE104_3!$X$105,ROWS($X$105:X171)-1,COLUMNS($X$105:X171)-1)<>\"\",OFFSET(DE104_3!$X$105,ROWS($X$105:X171)-1,COLUMNS($X$105:X171)-1),\"\")","v":""},{"$f":"IF(OFFSET(DE104_3!$Y$105,ROWS($Y$105:Y171)-1,COLUMNS($Y$105:Y171)-1)<>\"\",OFFSET(DE104_3!$Y$105,ROWS($Y$105:Y171)-1,COLUMNS($Y$105:Y171)-1),\"\")","v":""},{"$f":"IF(OFFSET(DE104_3!$Z$105,ROWS($Z$105:Z171)-1,COLUMNS($Z$105:Z171)-1)<>\"\",OFFSET(DE104_3!$Z$105,ROWS($Z$105:Z171)-1,COLUMNS($Z$105:Z171)-1),\"\")","v":""},{"$f":"IF(OFFSET(DE104_3!$AA$105,ROWS($AA$105:AA171)-1,COLUMNS($AA$105:AA171)-1)<>\"\",OFFSET(DE104_3!$AA$105,ROWS($AA$105:AA171)-1,COLUMNS($AA$105:AA171)-1),\"\")","v":""},{"$f":"IF(OFFSET(DE104_3!$AB$105,ROWS($AB$105:AB171)-1,COLUMNS($AB$105:AB171)-1)<>\"\",OFFSET(DE104_3!$AB$105,ROWS($AB$105:AB171)-1,COLUMNS($AB$105:AB171)-1),\"\")","v":""},{"$f":"IF(OFFSET(DE104_3!$AC$105,ROWS($AC$105:AC171)-1,COLUMNS($AC$105:AC171)-1)<>\"\",OFFSET(DE104_3!$AC$105,ROWS($AC$105:AC171)-1,COLUMNS($AC$105:AC171)-1),\"\")","v":""},{"$f":"IF(OFFSET(DE104_3!$AD$105,ROWS($AD$105:AD171)-1,COLUMNS($AD$105:AD171)-1)<>\"\",OFFSET(DE104_3!$AD$105,ROWS($AD$105:AD171)-1,COLUMNS($AD$105:AD171)-1),\"\")","v":""},{"$f":"IF(OFFSET(DE104_3!$AE$105,ROWS($AE$105:AE171)-1,COLUMNS($AE$105:AE171)-1)<>\"\",OFFSET(DE104_3!$AE$105,ROWS($AE$105:AE171)-1,COLUMNS($AE$105:AE171)-1),\"\")","v":""},{"$f":"IF(OFFSET(DE104_3!$AF$105,ROWS($AF$105:AF171)-1,COLUMNS($AF$105:AF171)-1)<>\"\",OFFSET(DE104_3!$AF$105,ROWS($AF$105:AF171)-1,COLUMNS($AF$105:AF171)-1),\"\")","v":""},{"$f":"IF(OFFSET(DE104_3!$AG$105,ROWS($AG$105:AG171)-1,COLUMNS($AG$105:AG171)-1)<>\"\",OFFSET(DE104_3!$AG$105,ROWS($AG$105:AG171)-1,COLUMNS($AG$105:AG171)-1),\"\")","v":""},{"$f":"IF(OFFSET(DE104_3!$AH$105,ROWS($AH$105:AH171)-1,COLUMNS($AH$105:AH171)-1)<>\"\",OFFSET(DE104_3!$AH$105,ROWS($AH$105:AH171)-1,COLUMNS($AH$105:AH171)-1),\"\")","v":""},{"$f":"IF(OFFSET(DE104_3!$AI$105,ROWS($AI$105:AI171)-1,COLUMNS($AI$105:AI171)-1)<>\"\",OFFSET(DE104_3!$AI$105,ROWS($AI$105:AI171)-1,COLUMNS($AI$105:AI171)-1),\"\")","v":""},{"$f":"IF(OFFSET(DE104_3!$AJ$105,ROWS($AJ$105:AJ171)-1,COLUMNS($AJ$105:AJ171)-1)<>\"\",OFFSET(DE104_3!$AJ$105,ROWS($AJ$105:AJ171)-1,COLUMNS($AJ$105:AJ171)-1),\"\")","v":""},{"$f":"IF(OFFSET(DE104_3!$AK$105,ROWS($AK$105:AK171)-1,COLUMNS($AK$105:AK171)-1)<>\"\",OFFSET(DE104_3!$AK$105,ROWS($AK$105:AK171)-1,COLUMNS($AK$105:AK171)-1),\"\")","v":""},{"$f":"IF(OFFSET(DE104_3!$AL$105,ROWS($AL$105:AL171)-1,COLUMNS($AL$105:AL171)-1)<>\"\",OFFSET(DE104_3!$AL$105,ROWS($AL$105:AL171)-1,COLUMNS($AL$105:AL171)-1),\"\")","v":""},{"$f":"IF(OFFSET(DE104_3!$AM$105,ROWS($AM$105:AM171)-1,COLUMNS($AM$105:AM171)-1)<>\"\",OFFSET(DE104_3!$AM$105,ROWS($AM$105:AM171)-1,COLUMNS($AM$105:AM171)-1),\"\")","v":""},{"$f":"IF(OFFSET(DE104_3!$AN$105,ROWS($AN$105:AN171)-1,COLUMNS($AN$105:AN171)-1)<>\"\",OFFSET(DE104_3!$AN$105,ROWS($AN$105:AN171)-1,COLUMNS($AN$105:AN171)-1),\"\")","v":""},{"$f":"IF(OFFSET(DE104_3!$AO$105,ROWS($AO$105:AO171)-1,COLUMNS($AO$105:AO171)-1)<>\"\",OFFSET(DE104_3!$AO$105,ROWS($AO$105:AO171)-1,COLUMNS($AO$105:AO171)-1),\"\")","v":""},{"$f":"IF(OFFSET(DE104_3!$AP$105,ROWS($AP$105:AP171)-1,COLUMNS($AP$105:AP171)-1)<>\"\",OFFSET(DE104_3!$AP$105,ROWS($AP$105:AP171)-1,COLUMNS($AP$105:AP171)-1),\"\")","v":""},{"$f":"IF(OFFSET(DE104_3!$AQ$105,ROWS($AQ$105:AQ171)-1,COLUMNS($AQ$105:AQ171)-1)<>\"\",OFFSET(DE104_3!$AQ$105,ROWS($AQ$105:AQ171)-1,COLUMNS($AQ$105:AQ171)-1),\"\")","v":""}]
[{"$f":"IF(OFFSET(DE104_3!$C$105,ROWS($C$105:C172)-1,COLUMNS($C$105:C172)-1)<>\"\",OFFSET(DE104_3!$C$105,ROWS($C$105:C172)-1,COLUMNS($C$105:C172)-1),\"\")","v":""},{"$f":"IF(OFFSET(DE104_3!$D$105,ROWS($D$105:D172)-1,COLUMNS($D$105:D172)-1)<>\"\",OFFSET(DE104_3!$D$105,ROWS($D$105:D172)-1,COLUMNS($D$105:D172)-1),\"\")","v":""},{"$f":"IF(OFFSET(DE104_3!$E$105,ROWS($E$105:E172)-1,COLUMNS($E$105:E172)-1)<>\"\",OFFSET(DE104_3!$E$105,ROWS($E$105:E172)-1,COLUMNS($E$105:E172)-1),\"\")","v":""},{"$f":"IF(OFFSET(DE104_3!$F$105,ROWS($F$105:F172)-1,COLUMNS($F$105:F172)-1)<>\"\",OFFSET(DE104_3!$F$105,ROWS($F$105:F172)-1,COLUMNS($F$105:F172)-1),\"\")","v":""},{"$f":"IF(OFFSET(DE104_3!$G$105,ROWS($G$105:G172)-1,COLUMNS($G$105:G172)-1)<>\"\",OFFSET(DE104_3!$G$105,ROWS($G$105:G172)-1,COLUMNS($G$105:G172)-1),\"\")","v":""},{"$f":"IF(OFFSET(DE104_3!$H$105,ROWS($H$105:H172)-1,COLUMNS($H$105:H172)-1)<>\"\",OFFSET(DE104_3!$H$105,ROWS($H$105:H172)-1,COLUMNS($H$105:H172)-1),\"\")","v":""},{"$f":"IF(OFFSET(DE104_3!$I$105,ROWS($I$105:I172)-1,COLUMNS($I$105:I172)-1)<>\"\",OFFSET(DE104_3!$I$105,ROWS($I$105:I172)-1,COLUMNS($I$105:I172)-1),\"\")","v":""},{"$f":"IF(OFFSET(DE104_3!$J$105,ROWS($J$105:J172)-1,COLUMNS($J$105:J172)-1)<>\"\",OFFSET(DE104_3!$J$105,ROWS($J$105:J172)-1,COLUMNS($J$105:J172)-1),\"\")","v":""},{"$f":"IF(OFFSET(DE104_3!$K$105,ROWS($K$105:K172)-1,COLUMNS($K$105:K172)-1)<>\"\",OFFSET(DE104_3!$K$105,ROWS($K$105:K172)-1,COLUMNS($K$105:K172)-1),\"\")","v":""},{"$f":"IF(OFFSET(DE104_3!$L$105,ROWS($L$105:L172)-1,COLUMNS($L$105:L172)-1)<>\"\",OFFSET(DE104_3!$L$105,ROWS($L$105:L172)-1,COLUMNS($L$105:L172)-1),\"\")","v":""},{"$f":"IF(OFFSET(DE104_3!$M$105,ROWS($M$105:M172)-1,COLUMNS($M$105:M172)-1)<>\"\",OFFSET(DE104_3!$M$105,ROWS($M$105:M172)-1,COLUMNS($M$105:M172)-1),\"\")","v":""},{"$f":"IF(OFFSET(DE104_3!$N$105,ROWS($N$105:N172)-1,COLUMNS($N$105:N172)-1)<>\"\",OFFSET(DE104_3!$N$105,ROWS($N$105:N172)-1,COLUMNS($N$105:N172)-1),\"\")","v":""},{"$f":"IF(OFFSET(DE104_3!$O$105,ROWS($O$105:O172)-1,COLUMNS($O$105:O172)-1)<>\"\",OFFSET(DE104_3!$O$105,ROWS($O$105:O172)-1,COLUMNS($O$105:O172)-1),\"\")","v":""},{"$f":"IF(OFFSET(DE104_3!$P$105,ROWS($P$105:P172)-1,COLUMNS($P$105:P172)-1)<>\"\",OFFSET(DE104_3!$P$105,ROWS($P$105:P172)-1,COLUMNS($P$105:P172)-1),\"\")","v":""},{"$f":"IF(OFFSET(DE104_3!$Q$105,ROWS($Q$105:Q172)-1,COLUMNS($Q$105:Q172)-1)<>\"\",OFFSET(DE104_3!$Q$105,ROWS($Q$105:Q172)-1,COLUMNS($Q$105:Q172)-1),\"\")","v":""},{"$f":"IF(OFFSET(DE104_3!$R$105,ROWS($R$105:R172)-1,COLUMNS($R$105:R172)-1)<>\"\",OFFSET(DE104_3!$R$105,ROWS($R$105:R172)-1,COLUMNS($R$105:R172)-1),\"\")","v":""},{"$f":"IF(OFFSET(DE104_3!$S$105,ROWS($S$105:S172)-1,COLUMNS($S$105:S172)-1)<>\"\",OFFSET(DE104_3!$S$105,ROWS($S$105:S172)-1,COLUMNS($S$105:S172)-1),\"\")","v":""},{"$f":"IF(OFFSET(DE104_3!$T$105,ROWS($T$105:T172)-1,COLUMNS($T$105:T172)-1)<>\"\",OFFSET(DE104_3!$T$105,ROWS($T$105:T172)-1,COLUMNS($T$105:T172)-1),\"\")","v":""},{"$f":"IF(OFFSET(DE104_3!$U$105,ROWS($U$105:U172)-1,COLUMNS($U$105:U172)-1)<>\"\",OFFSET(DE104_3!$U$105,ROWS($U$105:U172)-1,COLUMNS($U$105:U172)-1),\"\")","v":""},{"$f":"IF(OFFSET(DE104_3!$V$105,ROWS($V$105:V172)-1,COLUMNS($V$105:V172)-1)<>\"\",OFFSET(DE104_3!$V$105,ROWS($V$105:V172)-1,COLUMNS($V$105:V172)-1),\"\")","v":""},{"$f":"IF(OFFSET(DE104_3!$W$105,ROWS($W$105:W172)-1,COLUMNS($W$105:W172)-1)<>\"\",OFFSET(DE104_3!$W$105,ROWS($W$105:W172)-1,COLUMNS($W$105:W172)-1),\"\")","v":""},{"$f":"IF(OFFSET(DE104_3!$X$105,ROWS($X$105:X172)-1,COLUMNS($X$105:X172)-1)<>\"\",OFFSET(DE104_3!$X$105,ROWS($X$105:X172)-1,COLUMNS($X$105:X172)-1),\"\")","v":""},{"$f":"IF(OFFSET(DE104_3!$Y$105,ROWS($Y$105:Y172)-1,COLUMNS($Y$105:Y172)-1)<>\"\",OFFSET(DE104_3!$Y$105,ROWS($Y$105:Y172)-1,COLUMNS($Y$105:Y172)-1),\"\")","v":""},{"$f":"IF(OFFSET(DE104_3!$Z$105,ROWS($Z$105:Z172)-1,COLUMNS($Z$105:Z172)-1)<>\"\",OFFSET(DE104_3!$Z$105,ROWS($Z$105:Z172)-1,COLUMNS($Z$105:Z172)-1),\"\")","v":""},{"$f":"IF(OFFSET(DE104_3!$AA$105,ROWS($AA$105:AA172)-1,COLUMNS($AA$105:AA172)-1)<>\"\",OFFSET(DE104_3!$AA$105,ROWS($AA$105:AA172)-1,COLUMNS($AA$105:AA172)-1),\"\")","v":""},{"$f":"IF(OFFSET(DE104_3!$AB$105,ROWS($AB$105:AB172)-1,COLUMNS($AB$105:AB172)-1)<>\"\",OFFSET(DE104_3!$AB$105,ROWS($AB$105:AB172)-1,COLUMNS($AB$105:AB172)-1),\"\")","v":""},{"$f":"IF(OFFSET(DE104_3!$AC$105,ROWS($AC$105:AC172)-1,COLUMNS($AC$105:AC172)-1)<>\"\",OFFSET(DE104_3!$AC$105,ROWS($AC$105:AC172)-1,COLUMNS($AC$105:AC172)-1),\"\")","v":""},{"$f":"IF(OFFSET(DE104_3!$AD$105,ROWS($AD$105:AD172)-1,COLUMNS($AD$105:AD172)-1)<>\"\",OFFSET(DE104_3!$AD$105,ROWS($AD$105:AD172)-1,COLUMNS($AD$105:AD172)-1),\"\")","v":""},{"$f":"IF(OFFSET(DE104_3!$AE$105,ROWS($AE$105:AE172)-1,COLUMNS($AE$105:AE172)-1)<>\"\",OFFSET(DE104_3!$AE$105,ROWS($AE$105:AE172)-1,COLUMNS($AE$105:AE172)-1),\"\")","v":""},{"$f":"IF(OFFSET(DE104_3!$AF$105,ROWS($AF$105:AF172)-1,COLUMNS($AF$105:AF172)-1)<>\"\",OFFSET(DE104_3!$AF$105,ROWS($AF$105:AF172)-1,COLUMNS($AF$105:AF172)-1),\"\")","v":""},{"$f":"IF(OFFSET(DE104_3!$AG$105,ROWS($AG$105:AG172)-1,COLUMNS($AG$105:AG172)-1)<>\"\",OFFSET(DE104_3!$AG$105,ROWS($AG$105:AG172)-1,COLUMNS($AG$105:AG172)-1),\"\")","v":""},{"$f":"IF(OFFSET(DE104_3!$AH$105,ROWS($AH$105:AH172)-1,COLUMNS($AH$105:AH172)-1)<>\"\",OFFSET(DE104_3!$AH$105,ROWS($AH$105:AH172)-1,COLUMNS($AH$105:AH172)-1),\"\")","v":""},{"$f":"IF(OFFSET(DE104_3!$AI$105,ROWS($AI$105:AI172)-1,COLUMNS($AI$105:AI172)-1)<>\"\",OFFSET(DE104_3!$AI$105,ROWS($AI$105:AI172)-1,COLUMNS($AI$105:AI172)-1),\"\")","v":""},{"$f":"IF(OFFSET(DE104_3!$AJ$105,ROWS($AJ$105:AJ172)-1,COLUMNS($AJ$105:AJ172)-1)<>\"\",OFFSET(DE104_3!$AJ$105,ROWS($AJ$105:AJ172)-1,COLUMNS($AJ$105:AJ172)-1),\"\")","v":""},{"$f":"IF(OFFSET(DE104_3!$AK$105,ROWS($AK$105:AK172)-1,COLUMNS($AK$105:AK172)-1)<>\"\",OFFSET(DE104_3!$AK$105,ROWS($AK$105:AK172)-1,COLUMNS($AK$105:AK172)-1),\"\")","v":""},{"$f":"IF(OFFSET(DE104_3!$AL$105,ROWS($AL$105:AL172)-1,COLUMNS($AL$105:AL172)-1)<>\"\",OFFSET(DE104_3!$AL$105,ROWS($AL$105:AL172)-1,COLUMNS($AL$105:AL172)-1),\"\")","v":""},{"$f":"IF(OFFSET(DE104_3!$AM$105,ROWS($AM$105:AM172)-1,COLUMNS($AM$105:AM172)-1)<>\"\",OFFSET(DE104_3!$AM$105,ROWS($AM$105:AM172)-1,COLUMNS($AM$105:AM172)-1),\"\")","v":""},{"$f":"IF(OFFSET(DE104_3!$AN$105,ROWS($AN$105:AN172)-1,COLUMNS($AN$105:AN172)-1)<>\"\",OFFSET(DE104_3!$AN$105,ROWS($AN$105:AN172)-1,COLUMNS($AN$105:AN172)-1),\"\")","v":""},{"$f":"IF(OFFSET(DE104_3!$AO$105,ROWS($AO$105:AO172)-1,COLUMNS($AO$105:AO172)-1)<>\"\",OFFSET(DE104_3!$AO$105,ROWS($AO$105:AO172)-1,COLUMNS($AO$105:AO172)-1),\"\")","v":""},{"$f":"IF(OFFSET(DE104_3!$AP$105,ROWS($AP$105:AP172)-1,COLUMNS($AP$105:AP172)-1)<>\"\",OFFSET(DE104_3!$AP$105,ROWS($AP$105:AP172)-1,COLUMNS($AP$105:AP172)-1),\"\")","v":""},{"$f":"IF(OFFSET(DE104_3!$AQ$105,ROWS($AQ$105:AQ172)-1,COLUMNS($AQ$105:AQ172)-1)<>\"\",OFFSET(DE104_3!$AQ$105,ROWS($AQ$105:AQ172)-1,COLUMNS($AQ$105:AQ172)-1),\"\")","v":""}]
[{"$f":"IF(OFFSET(DE104_3!$C$105,ROWS($C$105:C173)-1,COLUMNS($C$105:C173)-1)<>\"\",OFFSET(DE104_3!$C$105,ROWS($C$105:C173)-1,COLUMNS($C$105:C173)-1),\"\")","v":""},{"$f":"IF(OFFSET(DE104_3!$D$105,ROWS($D$105:D173)-1,COLUMNS($D$105:D173)-1)<>\"\",OFFSET(DE104_3!$D$105,ROWS($D$105:D173)-1,COLUMNS($D$105:D173)-1),\"\")","v":""},{"$f":"IF(OFFSET(DE104_3!$E$105,ROWS($E$105:E173)-1,COLUMNS($E$105:E173)-1)<>\"\",OFFSET(DE104_3!$E$105,ROWS($E$105:E173)-1,COLUMNS($E$105:E173)-1),\"\")","v":""},{"$f":"IF(OFFSET(DE104_3!$F$105,ROWS($F$105:F173)-1,COLUMNS($F$105:F173)-1)<>\"\",OFFSET(DE104_3!$F$105,ROWS($F$105:F173)-1,COLUMNS($F$105:F173)-1),\"\")","v":""},{"$f":"IF(OFFSET(DE104_3!$G$105,ROWS($G$105:G173)-1,COLUMNS($G$105:G173)-1)<>\"\",OFFSET(DE104_3!$G$105,ROWS($G$105:G173)-1,COLUMNS($G$105:G173)-1),\"\")","v":""},{"$f":"IF(OFFSET(DE104_3!$H$105,ROWS($H$105:H173)-1,COLUMNS($H$105:H173)-1)<>\"\",OFFSET(DE104_3!$H$105,ROWS($H$105:H173)-1,COLUMNS($H$105:H173)-1),\"\")","v":""},{"$f":"IF(OFFSET(DE104_3!$I$105,ROWS($I$105:I173)-1,COLUMNS($I$105:I173)-1)<>\"\",OFFSET(DE104_3!$I$105,ROWS($I$105:I173)-1,COLUMNS($I$105:I173)-1),\"\")","v":""},{"$f":"IF(OFFSET(DE104_3!$J$105,ROWS($J$105:J173)-1,COLUMNS($J$105:J173)-1)<>\"\",OFFSET(DE104_3!$J$105,ROWS($J$105:J173)-1,COLUMNS($J$105:J173)-1),\"\")","v":""},{"$f":"IF(OFFSET(DE104_3!$K$105,ROWS($K$105:K173)-1,COLUMNS($K$105:K173)-1)<>\"\",OFFSET(DE104_3!$K$105,ROWS($K$105:K173)-1,COLUMNS($K$105:K173)-1),\"\")","v":""},{"$f":"IF(OFFSET(DE104_3!$L$105,ROWS($L$105:L173)-1,COLUMNS($L$105:L173)-1)<>\"\",OFFSET(DE104_3!$L$105,ROWS($L$105:L173)-1,COLUMNS($L$105:L173)-1),\"\")","v":""},{"$f":"IF(OFFSET(DE104_3!$M$105,ROWS($M$105:M173)-1,COLUMNS($M$105:M173)-1)<>\"\",OFFSET(DE104_3!$M$105,ROWS($M$105:M173)-1,COLUMNS($M$105:M173)-1),\"\")","v":""},{"$f":"IF(OFFSET(DE104_3!$N$105,ROWS($N$105:N173)-1,COLUMNS($N$105:N173)-1)<>\"\",OFFSET(DE104_3!$N$105,ROWS($N$105:N173)-1,COLUMNS($N$105:N173)-1),\"\")","v":""},{"$f":"IF(OFFSET(DE104_3!$O$105,ROWS($O$105:O173)-1,COLUMNS($O$105:O173)-1)<>\"\",OFFSET(DE104_3!$O$105,ROWS($O$105:O173)-1,COLUMNS($O$105:O173)-1),\"\")","v":""},{"$f":"IF(OFFSET(DE104_3!$P$105,ROWS($P$105:P173)-1,COLUMNS($P$105:P173)-1)<>\"\",OFFSET(DE104_3!$P$105,ROWS($P$105:P173)-1,COLUMNS($P$105:P173)-1),\"\")","v":""},{"$f":"IF(OFFSET(DE104_3!$Q$105,ROWS($Q$105:Q173)-1,COLUMNS($Q$105:Q173)-1)<>\"\",OFFSET(DE104_3!$Q$105,ROWS($Q$105:Q173)-1,COLUMNS($Q$105:Q173)-1),\"\")","v":""},{"$f":"IF(OFFSET(DE104_3!$R$105,ROWS($R$105:R173)-1,COLUMNS($R$105:R173)-1)<>\"\",OFFSET(DE104_3!$R$105,ROWS($R$105:R173)-1,COLUMNS($R$105:R173)-1),\"\")","v":""},{"$f":"IF(OFFSET(DE104_3!$S$105,ROWS($S$105:S173)-1,COLUMNS($S$105:S173)-1)<>\"\",OFFSET(DE104_3!$S$105,ROWS($S$105:S173)-1,COLUMNS($S$105:S173)-1),\"\")","v":""},{"$f":"IF(OFFSET(DE104_3!$T$105,ROWS($T$105:T173)-1,COLUMNS($T$105:T173)-1)<>\"\",OFFSET(DE104_3!$T$105,ROWS($T$105:T173)-1,COLUMNS($T$105:T173)-1),\"\")","v":""},{"$f":"IF(OFFSET(DE104_3!$U$105,ROWS($U$105:U173)-1,COLUMNS($U$105:U173)-1)<>\"\",OFFSET(DE104_3!$U$105,ROWS($U$105:U173)-1,COLUMNS($U$105:U173)-1),\"\")","v":""},{"$f":"IF(OFFSET(DE104_3!$V$105,ROWS($V$105:V173)-1,COLUMNS($V$105:V173)-1)<>\"\",OFFSET(DE104_3!$V$105,ROWS($V$105:V173)-1,COLUMNS($V$105:V173)-1),\"\")","v":""},{"$f":"IF(OFFSET(DE104_3!$W$105,ROWS($W$105:W173)-1,COLUMNS($W$105:W173)-1)<>\"\",OFFSET(DE104_3!$W$105,ROWS($W$105:W173)-1,COLUMNS($W$105:W173)-1),\"\")","v":""},{"$f":"IF(OFFSET(DE104_3!$X$105,ROWS($X$105:X173)-1,COLUMNS($X$105:X173)-1)<>\"\",OFFSET(DE104_3!$X$105,ROWS($X$105:X173)-1,COLUMNS($X$105:X173)-1),\"\")","v":""},{"$f":"IF(OFFSET(DE104_3!$Y$105,ROWS($Y$105:Y173)-1,COLUMNS($Y$105:Y173)-1)<>\"\",OFFSET(DE104_3!$Y$105,ROWS($Y$105:Y173)-1,COLUMNS($Y$105:Y173)-1),\"\")","v":""},{"$f":"IF(OFFSET(DE104_3!$Z$105,ROWS($Z$105:Z173)-1,COLUMNS($Z$105:Z173)-1)<>\"\",OFFSET(DE104_3!$Z$105,ROWS($Z$105:Z173)-1,COLUMNS($Z$105:Z173)-1),\"\")","v":""},{"$f":"IF(OFFSET(DE104_3!$AA$105,ROWS($AA$105:AA173)-1,COLUMNS($AA$105:AA173)-1)<>\"\",OFFSET(DE104_3!$AA$105,ROWS($AA$105:AA173)-1,COLUMNS($AA$105:AA173)-1),\"\")","v":""},{"$f":"IF(OFFSET(DE104_3!$AB$105,ROWS($AB$105:AB173)-1,COLUMNS($AB$105:AB173)-1)<>\"\",OFFSET(DE104_3!$AB$105,ROWS($AB$105:AB173)-1,COLUMNS($AB$105:AB173)-1),\"\")","v":""},{"$f":"IF(OFFSET(DE104_3!$AC$105,ROWS($AC$105:AC173)-1,COLUMNS($AC$105:AC173)-1)<>\"\",OFFSET(DE104_3!$AC$105,ROWS($AC$105:AC173)-1,COLUMNS($AC$105:AC173)-1),\"\")","v":""},{"$f":"IF(OFFSET(DE104_3!$AD$105,ROWS($AD$105:AD173)-1,COLUMNS($AD$105:AD173)-1)<>\"\",OFFSET(DE104_3!$AD$105,ROWS($AD$105:AD173)-1,COLUMNS($AD$105:AD173)-1),\"\")","v":""},{"$f":"IF(OFFSET(DE104_3!$AE$105,ROWS($AE$105:AE173)-1,COLUMNS($AE$105:AE173)-1)<>\"\",OFFSET(DE104_3!$AE$105,ROWS($AE$105:AE173)-1,COLUMNS($AE$105:AE173)-1),\"\")","v":""},{"$f":"IF(OFFSET(DE104_3!$AF$105,ROWS($AF$105:AF173)-1,COLUMNS($AF$105:AF173)-1)<>\"\",OFFSET(DE104_3!$AF$105,ROWS($AF$105:AF173)-1,COLUMNS($AF$105:AF173)-1),\"\")","v":""},{"$f":"IF(OFFSET(DE104_3!$AG$105,ROWS($AG$105:AG173)-1,COLUMNS($AG$105:AG173)-1)<>\"\",OFFSET(DE104_3!$AG$105,ROWS($AG$105:AG173)-1,COLUMNS($AG$105:AG173)-1),\"\")","v":""},{"$f":"IF(OFFSET(DE104_3!$AH$105,ROWS($AH$105:AH173)-1,COLUMNS($AH$105:AH173)-1)<>\"\",OFFSET(DE104_3!$AH$105,ROWS($AH$105:AH173)-1,COLUMNS($AH$105:AH173)-1),\"\")","v":""},{"$f":"IF(OFFSET(DE104_3!$AI$105,ROWS($AI$105:AI173)-1,COLUMNS($AI$105:AI173)-1)<>\"\",OFFSET(DE104_3!$AI$105,ROWS($AI$105:AI173)-1,COLUMNS($AI$105:AI173)-1),\"\")","v":""},{"$f":"IF(OFFSET(DE104_3!$AJ$105,ROWS($AJ$105:AJ173)-1,COLUMNS($AJ$105:AJ173)-1)<>\"\",OFFSET(DE104_3!$AJ$105,ROWS($AJ$105:AJ173)-1,COLUMNS($AJ$105:AJ173)-1),\"\")","v":""},{"$f":"IF(OFFSET(DE104_3!$AK$105,ROWS($AK$105:AK173)-1,COLUMNS($AK$105:AK173)-1)<>\"\",OFFSET(DE104_3!$AK$105,ROWS($AK$105:AK173)-1,COLUMNS($AK$105:AK173)-1),\"\")","v":""},{"$f":"IF(OFFSET(DE104_3!$AL$105,ROWS($AL$105:AL173)-1,COLUMNS($AL$105:AL173)-1)<>\"\",OFFSET(DE104_3!$AL$105,ROWS($AL$105:AL173)-1,COLUMNS($AL$105:AL173)-1),\"\")","v":""},{"$f":"IF(OFFSET(DE104_3!$AM$105,ROWS($AM$105:AM173)-1,COLUMNS($AM$105:AM173)-1)<>\"\",OFFSET(DE104_3!$AM$105,ROWS($AM$105:AM173)-1,COLUMNS($AM$105:AM173)-1),\"\")","v":""},{"$f":"IF(OFFSET(DE104_3!$AN$105,ROWS($AN$105:AN173)-1,COLUMNS($AN$105:AN173)-1)<>\"\",OFFSET(DE104_3!$AN$105,ROWS($AN$105:AN173)-1,COLUMNS($AN$105:AN173)-1),\"\")","v":""},{"$f":"IF(OFFSET(DE104_3!$AO$105,ROWS($AO$105:AO173)-1,COLUMNS($AO$105:AO173)-1)<>\"\",OFFSET(DE104_3!$AO$105,ROWS($AO$105:AO173)-1,COLUMNS($AO$105:AO173)-1),\"\")","v":""},{"$f":"IF(OFFSET(DE104_3!$AP$105,ROWS($AP$105:AP173)-1,COLUMNS($AP$105:AP173)-1)<>\"\",OFFSET(DE104_3!$AP$105,ROWS($AP$105:AP173)-1,COLUMNS($AP$105:AP173)-1),\"\")","v":""},{"$f":"IF(OFFSET(DE104_3!$AQ$105,ROWS($AQ$105:AQ173)-1,COLUMNS($AQ$105:AQ173)-1)<>\"\",OFFSET(DE104_3!$AQ$105,ROWS($AQ$105:AQ173)-1,COLUMNS($AQ$105:AQ173)-1),\"\")","v":""}]
[{"$f":"IF(OFFSET(DE104_3!$C$105,ROWS($C$105:C174)-1,COLUMNS($C$105:C174)-1)<>\"\",OFFSET(DE104_3!$C$105,ROWS($C$105:C174)-1,COLUMNS($C$105:C174)-1),\"\")","v":""},{"$f":"IF(OFFSET(DE104_3!$D$105,ROWS($D$105:D174)-1,COLUMNS($D$105:D174)-1)<>\"\",OFFSET(DE104_3!$D$105,ROWS($D$105:D174)-1,COLUMNS($D$105:D174)-1),\"\")","v":""},{"$f":"IF(OFFSET(DE104_3!$E$105,ROWS($E$105:E174)-1,COLUMNS($E$105:E174)-1)<>\"\",OFFSET(DE104_3!$E$105,ROWS($E$105:E174)-1,COLUMNS($E$105:E174)-1),\"\")","v":""},{"$f":"IF(OFFSET(DE104_3!$F$105,ROWS($F$105:F174)-1,COLUMNS($F$105:F174)-1)<>\"\",OFFSET(DE104_3!$F$105,ROWS($F$105:F174)-1,COLUMNS($F$105:F174)-1),\"\")","v":""},{"$f":"IF(OFFSET(DE104_3!$G$105,ROWS($G$105:G174)-1,COLUMNS($G$105:G174)-1)<>\"\",OFFSET(DE104_3!$G$105,ROWS($G$105:G174)-1,COLUMNS($G$105:G174)-1),\"\")","v":""},{"$f":"IF(OFFSET(DE104_3!$H$105,ROWS($H$105:H174)-1,COLUMNS($H$105:H174)-1)<>\"\",OFFSET(DE104_3!$H$105,ROWS($H$105:H174)-1,COLUMNS($H$105:H174)-1),\"\")","v":""},{"$f":"IF(OFFSET(DE104_3!$I$105,ROWS($I$105:I174)-1,COLUMNS($I$105:I174)-1)<>\"\",OFFSET(DE104_3!$I$105,ROWS($I$105:I174)-1,COLUMNS($I$105:I174)-1),\"\")","v":""},{"$f":"IF(OFFSET(DE104_3!$J$105,ROWS($J$105:J174)-1,COLUMNS($J$105:J174)-1)<>\"\",OFFSET(DE104_3!$J$105,ROWS($J$105:J174)-1,COLUMNS($J$105:J174)-1),\"\")","v":""},{"$f":"IF(OFFSET(DE104_3!$K$105,ROWS($K$105:K174)-1,COLUMNS($K$105:K174)-1)<>\"\",OFFSET(DE104_3!$K$105,ROWS($K$105:K174)-1,COLUMNS($K$105:K174)-1),\"\")","v":""},{"$f":"IF(OFFSET(DE104_3!$L$105,ROWS($L$105:L174)-1,COLUMNS($L$105:L174)-1)<>\"\",OFFSET(DE104_3!$L$105,ROWS($L$105:L174)-1,COLUMNS($L$105:L174)-1),\"\")","v":""},{"$f":"IF(OFFSET(DE104_3!$M$105,ROWS($M$105:M174)-1,COLUMNS($M$105:M174)-1)<>\"\",OFFSET(DE104_3!$M$105,ROWS($M$105:M174)-1,COLUMNS($M$105:M174)-1),\"\")","v":""},{"$f":"IF(OFFSET(DE104_3!$N$105,ROWS($N$105:N174)-1,COLUMNS($N$105:N174)-1)<>\"\",OFFSET(DE104_3!$N$105,ROWS($N$105:N174)-1,COLUMNS($N$105:N174)-1),\"\")","v":""},{"$f":"IF(OFFSET(DE104_3!$O$105,ROWS($O$105:O174)-1,COLUMNS($O$105:O174)-1)<>\"\",OFFSET(DE104_3!$O$105,ROWS($O$105:O174)-1,COLUMNS($O$105:O174)-1),\"\")","v":""},{"$f":"IF(OFFSET(DE104_3!$P$105,ROWS($P$105:P174)-1,COLUMNS($P$105:P174)-1)<>\"\",OFFSET(DE104_3!$P$105,ROWS($P$105:P174)-1,COLUMNS($P$105:P174)-1),\"\")","v":""},{"$f":"IF(OFFSET(DE104_3!$Q$105,ROWS($Q$105:Q174)-1,COLUMNS($Q$105:Q174)-1)<>\"\",OFFSET(DE104_3!$Q$105,ROWS($Q$105:Q174)-1,COLUMNS($Q$105:Q174)-1),\"\")","v":""},{"$f":"IF(OFFSET(DE104_3!$R$105,ROWS($R$105:R174)-1,COLUMNS($R$105:R174)-1)<>\"\",OFFSET(DE104_3!$R$105,ROWS($R$105:R174)-1,COLUMNS($R$105:R174)-1),\"\")","v":""},{"$f":"IF(OFFSET(DE104_3!$S$105,ROWS($S$105:S174)-1,COLUMNS($S$105:S174)-1)<>\"\",OFFSET(DE104_3!$S$105,ROWS($S$105:S174)-1,COLUMNS($S$105:S174)-1),\"\")","v":""},{"$f":"IF(OFFSET(DE104_3!$T$105,ROWS($T$105:T174)-1,COLUMNS($T$105:T174)-1)<>\"\",OFFSET(DE104_3!$T$105,ROWS($T$105:T174)-1,COLUMNS($T$105:T174)-1),\"\")","v":""},{"$f":"IF(OFFSET(DE104_3!$U$105,ROWS($U$105:U174)-1,COLUMNS($U$105:U174)-1)<>\"\",OFFSET(DE104_3!$U$105,ROWS($U$105:U174)-1,COLUMNS($U$105:U174)-1),\"\")","v":""},{"$f":"IF(OFFSET(DE104_3!$V$105,ROWS($V$105:V174)-1,COLUMNS($V$105:V174)-1)<>\"\",OFFSET(DE104_3!$V$105,ROWS($V$105:V174)-1,COLUMNS($V$105:V174)-1),\"\")","v":""},{"$f":"IF(OFFSET(DE104_3!$W$105,ROWS($W$105:W174)-1,COLUMNS($W$105:W174)-1)<>\"\",OFFSET(DE104_3!$W$105,ROWS($W$105:W174)-1,COLUMNS($W$105:W174)-1),\"\")","v":""},{"$f":"IF(OFFSET(DE104_3!$X$105,ROWS($X$105:X174)-1,COLUMNS($X$105:X174)-1)<>\"\",OFFSET(DE104_3!$X$105,ROWS($X$105:X174)-1,COLUMNS($X$105:X174)-1),\"\")","v":""},{"$f":"IF(OFFSET(DE104_3!$Y$105,ROWS($Y$105:Y174)-1,COLUMNS($Y$105:Y174)-1)<>\"\",OFFSET(DE104_3!$Y$105,ROWS($Y$105:Y174)-1,COLUMNS($Y$105:Y174)-1),\"\")","v":""},{"$f":"IF(OFFSET(DE104_3!$Z$105,ROWS($Z$105:Z174)-1,COLUMNS($Z$105:Z174)-1)<>\"\",OFFSET(DE104_3!$Z$105,ROWS($Z$105:Z174)-1,COLUMNS($Z$105:Z174)-1),\"\")","v":""},{"$f":"IF(OFFSET(DE104_3!$AA$105,ROWS($AA$105:AA174)-1,COLUMNS($AA$105:AA174)-1)<>\"\",OFFSET(DE104_3!$AA$105,ROWS($AA$105:AA174)-1,COLUMNS($AA$105:AA174)-1),\"\")","v":""},{"$f":"IF(OFFSET(DE104_3!$AB$105,ROWS($AB$105:AB174)-1,COLUMNS($AB$105:AB174)-1)<>\"\",OFFSET(DE104_3!$AB$105,ROWS($AB$105:AB174)-1,COLUMNS($AB$105:AB174)-1),\"\")","v":""},{"$f":"IF(OFFSET(DE104_3!$AC$105,ROWS($AC$105:AC174)-1,COLUMNS($AC$105:AC174)-1)<>\"\",OFFSET(DE104_3!$AC$105,ROWS($AC$105:AC174)-1,COLUMNS($AC$105:AC174)-1),\"\")","v":""},{"$f":"IF(OFFSET(DE104_3!$AD$105,ROWS($AD$105:AD174)-1,COLUMNS($AD$105:AD174)-1)<>\"\",OFFSET(DE104_3!$AD$105,ROWS($AD$105:AD174)-1,COLUMNS($AD$105:AD174)-1),\"\")","v":""},{"$f":"IF(OFFSET(DE104_3!$AE$105,ROWS($AE$105:AE174)-1,COLUMNS($AE$105:AE174)-1)<>\"\",OFFSET(DE104_3!$AE$105,ROWS($AE$105:AE174)-1,COLUMNS($AE$105:AE174)-1),\"\")","v":""},{"$f":"IF(OFFSET(DE104_3!$AF$105,ROWS($AF$105:AF174)-1,COLUMNS($AF$105:AF174)-1)<>\"\",OFFSET(DE104_3!$AF$105,ROWS($AF$105:AF174)-1,COLUMNS($AF$105:AF174)-1),\"\")","v":""},{"$f":"IF(OFFSET(DE104_3!$AG$105,ROWS($AG$105:AG174)-1,COLUMNS($AG$105:AG174)-1)<>\"\",OFFSET(DE104_3!$AG$105,ROWS($AG$105:AG174)-1,COLUMNS($AG$105:AG174)-1),\"\")","v":""},{"$f":"IF(OFFSET(DE104_3!$AH$105,ROWS($AH$105:AH174)-1,COLUMNS($AH$105:AH174)-1)<>\"\",OFFSET(DE104_3!$AH$105,ROWS($AH$105:AH174)-1,COLUMNS($AH$105:AH174)-1),\"\")","v":""},{"$f":"IF(OFFSET(DE104_3!$AI$105,ROWS($AI$105:AI174)-1,COLUMNS($AI$105:AI174)-1)<>\"\",OFFSET(DE104_3!$AI$105,ROWS($AI$105:AI174)-1,COLUMNS($AI$105:AI174)-1),\"\")","v":""},{"$f":"IF(OFFSET(DE104_3!$AJ$105,ROWS($AJ$105:AJ174)-1,COLUMNS($AJ$105:AJ174)-1)<>\"\",OFFSET(DE104_3!$AJ$105,ROWS($AJ$105:AJ174)-1,COLUMNS($AJ$105:AJ174)-1),\"\")","v":""},{"$f":"IF(OFFSET(DE104_3!$AK$105,ROWS($AK$105:AK174)-1,COLUMNS($AK$105:AK174)-1)<>\"\",OFFSET(DE104_3!$AK$105,ROWS($AK$105:AK174)-1,COLUMNS($AK$105:AK174)-1),\"\")","v":""},{"$f":"IF(OFFSET(DE104_3!$AL$105,ROWS($AL$105:AL174)-1,COLUMNS($AL$105:AL174)-1)<>\"\",OFFSET(DE104_3!$AL$105,ROWS($AL$105:AL174)-1,COLUMNS($AL$105:AL174)-1),\"\")","v":""},{"$f":"IF(OFFSET(DE104_3!$AM$105,ROWS($AM$105:AM174)-1,COLUMNS($AM$105:AM174)-1)<>\"\",OFFSET(DE104_3!$AM$105,ROWS($AM$105:AM174)-1,COLUMNS($AM$105:AM174)-1),\"\")","v":""},{"$f":"IF(OFFSET(DE104_3!$AN$105,ROWS($AN$105:AN174)-1,COLUMNS($AN$105:AN174)-1)<>\"\",OFFSET(DE104_3!$AN$105,ROWS($AN$105:AN174)-1,COLUMNS($AN$105:AN174)-1),\"\")","v":""},{"$f":"IF(OFFSET(DE104_3!$AO$105,ROWS($AO$105:AO174)-1,COLUMNS($AO$105:AO174)-1)<>\"\",OFFSET(DE104_3!$AO$105,ROWS($AO$105:AO174)-1,COLUMNS($AO$105:AO174)-1),\"\")","v":""},{"$f":"IF(OFFSET(DE104_3!$AP$105,ROWS($AP$105:AP174)-1,COLUMNS($AP$105:AP174)-1)<>\"\",OFFSET(DE104_3!$AP$105,ROWS($AP$105:AP174)-1,COLUMNS($AP$105:AP174)-1),\"\")","v":""},{"$f":"IF(OFFSET(DE104_3!$AQ$105,ROWS($AQ$105:AQ174)-1,COLUMNS($AQ$105:AQ174)-1)<>\"\",OFFSET(DE104_3!$AQ$105,ROWS($AQ$105:AQ174)-1,COLUMNS($AQ$105:AQ174)-1),\"\")","v":""}]
[{"$f":"IF(OFFSET(DE104_3!$C$105,ROWS($C$105:C175)-1,COLUMNS($C$105:C175)-1)<>\"\",OFFSET(DE104_3!$C$105,ROWS($C$105:C175)-1,COLUMNS($C$105:C175)-1),\"\")","v":""},{"$f":"IF(OFFSET(DE104_3!$D$105,ROWS($D$105:D175)-1,COLUMNS($D$105:D175)-1)<>\"\",OFFSET(DE104_3!$D$105,ROWS($D$105:D175)-1,COLUMNS($D$105:D175)-1),\"\")","v":""},{"$f":"IF(OFFSET(DE104_3!$E$105,ROWS($E$105:E175)-1,COLUMNS($E$105:E175)-1)<>\"\",OFFSET(DE104_3!$E$105,ROWS($E$105:E175)-1,COLUMNS($E$105:E175)-1),\"\")","v":""},{"$f":"IF(OFFSET(DE104_3!$F$105,ROWS($F$105:F175)-1,COLUMNS($F$105:F175)-1)<>\"\",OFFSET(DE104_3!$F$105,ROWS($F$105:F175)-1,COLUMNS($F$105:F175)-1),\"\")","v":""},{"$f":"IF(OFFSET(DE104_3!$G$105,ROWS($G$105:G175)-1,COLUMNS($G$105:G175)-1)<>\"\",OFFSET(DE104_3!$G$105,ROWS($G$105:G175)-1,COLUMNS($G$105:G175)-1),\"\")","v":""},{"$f":"IF(OFFSET(DE104_3!$H$105,ROWS($H$105:H175)-1,COLUMNS($H$105:H175)-1)<>\"\",OFFSET(DE104_3!$H$105,ROWS($H$105:H175)-1,COLUMNS($H$105:H175)-1),\"\")","v":""},{"$f":"IF(OFFSET(DE104_3!$I$105,ROWS($I$105:I175)-1,COLUMNS($I$105:I175)-1)<>\"\",OFFSET(DE104_3!$I$105,ROWS($I$105:I175)-1,COLUMNS($I$105:I175)-1),\"\")","v":""},{"$f":"IF(OFFSET(DE104_3!$J$105,ROWS($J$105:J175)-1,COLUMNS($J$105:J175)-1)<>\"\",OFFSET(DE104_3!$J$105,ROWS($J$105:J175)-1,COLUMNS($J$105:J175)-1),\"\")","v":""},{"$f":"IF(OFFSET(DE104_3!$K$105,ROWS($K$105:K175)-1,COLUMNS($K$105:K175)-1)<>\"\",OFFSET(DE104_3!$K$105,ROWS($K$105:K175)-1,COLUMNS($K$105:K175)-1),\"\")","v":""},{"$f":"IF(OFFSET(DE104_3!$L$105,ROWS($L$105:L175)-1,COLUMNS($L$105:L175)-1)<>\"\",OFFSET(DE104_3!$L$105,ROWS($L$105:L175)-1,COLUMNS($L$105:L175)-1),\"\")","v":""},{"$f":"IF(OFFSET(DE104_3!$M$105,ROWS($M$105:M175)-1,COLUMNS($M$105:M175)-1)<>\"\",OFFSET(DE104_3!$M$105,ROWS($M$105:M175)-1,COLUMNS($M$105:M175)-1),\"\")","v":""},{"$f":"IF(OFFSET(DE104_3!$N$105,ROWS($N$105:N175)-1,COLUMNS($N$105:N175)-1)<>\"\",OFFSET(DE104_3!$N$105,ROWS($N$105:N175)-1,COLUMNS($N$105:N175)-1),\"\")","v":""},{"$f":"IF(OFFSET(DE104_3!$O$105,ROWS($O$105:O175)-1,COLUMNS($O$105:O175)-1)<>\"\",OFFSET(DE104_3!$O$105,ROWS($O$105:O175)-1,COLUMNS($O$105:O175)-1),\"\")","v":""},{"$f":"IF(OFFSET(DE104_3!$P$105,ROWS($P$105:P175)-1,COLUMNS($P$105:P175)-1)<>\"\",OFFSET(DE104_3!$P$105,ROWS($P$105:P175)-1,COLUMNS($P$105:P175)-1),\"\")","v":""},{"$f":"IF(OFFSET(DE104_3!$Q$105,ROWS($Q$105:Q175)-1,COLUMNS($Q$105:Q175)-1)<>\"\",OFFSET(DE104_3!$Q$105,ROWS($Q$105:Q175)-1,COLUMNS($Q$105:Q175)-1),\"\")","v":""},{"$f":"IF(OFFSET(DE104_3!$R$105,ROWS($R$105:R175)-1,COLUMNS($R$105:R175)-1)<>\"\",OFFSET(DE104_3!$R$105,ROWS($R$105:R175)-1,COLUMNS($R$105:R175)-1),\"\")","v":""},{"$f":"IF(OFFSET(DE104_3!$S$105,ROWS($S$105:S175)-1,COLUMNS($S$105:S175)-1)<>\"\",OFFSET(DE104_3!$S$105,ROWS($S$105:S175)-1,COLUMNS($S$105:S175)-1),\"\")","v":""},{"$f":"IF(OFFSET(DE104_3!$T$105,ROWS($T$105:T175)-1,COLUMNS($T$105:T175)-1)<>\"\",OFFSET(DE104_3!$T$105,ROWS($T$105:T175)-1,COLUMNS($T$105:T175)-1),\"\")","v":""},{"$f":"IF(OFFSET(DE104_3!$U$105,ROWS($U$105:U175)-1,COLUMNS($U$105:U175)-1)<>\"\",OFFSET(DE104_3!$U$105,ROWS($U$105:U175)-1,COLUMNS($U$105:U175)-1),\"\")","v":""},{"$f":"IF(OFFSET(DE104_3!$V$105,ROWS($V$105:V175)-1,COLUMNS($V$105:V175)-1)<>\"\",OFFSET(DE104_3!$V$105,ROWS($V$105:V175)-1,COLUMNS($V$105:V175)-1),\"\")","v":""},{"$f":"IF(OFFSET(DE104_3!$W$105,ROWS($W$105:W175)-1,COLUMNS($W$105:W175)-1)<>\"\",OFFSET(DE104_3!$W$105,ROWS($W$105:W175)-1,COLUMNS($W$105:W175)-1),\"\")","v":""},{"$f":"IF(OFFSET(DE104_3!$X$105,ROWS($X$105:X175)-1,COLUMNS($X$105:X175)-1)<>\"\",OFFSET(DE104_3!$X$105,ROWS($X$105:X175)-1,COLUMNS($X$105:X175)-1),\"\")","v":""},{"$f":"IF(OFFSET(DE104_3!$Y$105,ROWS($Y$105:Y175)-1,COLUMNS($Y$105:Y175)-1)<>\"\",OFFSET(DE104_3!$Y$105,ROWS($Y$105:Y175)-1,COLUMNS($Y$105:Y175)-1),\"\")","v":""},{"$f":"IF(OFFSET(DE104_3!$Z$105,ROWS($Z$105:Z175)-1,COLUMNS($Z$105:Z175)-1)<>\"\",OFFSET(DE104_3!$Z$105,ROWS($Z$105:Z175)-1,COLUMNS($Z$105:Z175)-1),\"\")","v":""},{"$f":"IF(OFFSET(DE104_3!$AA$105,ROWS($AA$105:AA175)-1,COLUMNS($AA$105:AA175)-1)<>\"\",OFFSET(DE104_3!$AA$105,ROWS($AA$105:AA175)-1,COLUMNS($AA$105:AA175)-1),\"\")","v":""},{"$f":"IF(OFFSET(DE104_3!$AB$105,ROWS($AB$105:AB175)-1,COLUMNS($AB$105:AB175)-1)<>\"\",OFFSET(DE104_3!$AB$105,ROWS($AB$105:AB175)-1,COLUMNS($AB$105:AB175)-1),\"\")","v":""},{"$f":"IF(OFFSET(DE104_3!$AC$105,ROWS($AC$105:AC175)-1,COLUMNS($AC$105:AC175)-1)<>\"\",OFFSET(DE104_3!$AC$105,ROWS($AC$105:AC175)-1,COLUMNS($AC$105:AC175)-1),\"\")","v":""},{"$f":"IF(OFFSET(DE104_3!$AD$105,ROWS($AD$105:AD175)-1,COLUMNS($AD$105:AD175)-1)<>\"\",OFFSET(DE104_3!$AD$105,ROWS($AD$105:AD175)-1,COLUMNS($AD$105:AD175)-1),\"\")","v":""},{"$f":"IF(OFFSET(DE104_3!$AE$105,ROWS($AE$105:AE175)-1,COLUMNS($AE$105:AE175)-1)<>\"\",OFFSET(DE104_3!$AE$105,ROWS($AE$105:AE175)-1,COLUMNS($AE$105:AE175)-1),\"\")","v":""},{"$f":"IF(OFFSET(DE104_3!$AF$105,ROWS($AF$105:AF175)-1,COLUMNS($AF$105:AF175)-1)<>\"\",OFFSET(DE104_3!$AF$105,ROWS($AF$105:AF175)-1,COLUMNS($AF$105:AF175)-1),\"\")","v":""},{"$f":"IF(OFFSET(DE104_3!$AG$105,ROWS($AG$105:AG175)-1,COLUMNS($AG$105:AG175)-1)<>\"\",OFFSET(DE104_3!$AG$105,ROWS($AG$105:AG175)-1,COLUMNS($AG$105:AG175)-1),\"\")","v":""},{"$f":"IF(OFFSET(DE104_3!$AH$105,ROWS($AH$105:AH175)-1,COLUMNS($AH$105:AH175)-1)<>\"\",OFFSET(DE104_3!$AH$105,ROWS($AH$105:AH175)-1,COLUMNS($AH$105:AH175)-1),\"\")","v":""},{"$f":"IF(OFFSET(DE104_3!$AI$105,ROWS($AI$105:AI175)-1,COLUMNS($AI$105:AI175)-1)<>\"\",OFFSET(DE104_3!$AI$105,ROWS($AI$105:AI175)-1,COLUMNS($AI$105:AI175)-1),\"\")","v":""},{"$f":"IF(OFFSET(DE104_3!$AJ$105,ROWS($AJ$105:AJ175)-1,COLUMNS($AJ$105:AJ175)-1)<>\"\",OFFSET(DE104_3!$AJ$105,ROWS($AJ$105:AJ175)-1,COLUMNS($AJ$105:AJ175)-1),\"\")","v":""},{"$f":"IF(OFFSET(DE104_3!$AK$105,ROWS($AK$105:AK175)-1,COLUMNS($AK$105:AK175)-1)<>\"\",OFFSET(DE104_3!$AK$105,ROWS($AK$105:AK175)-1,COLUMNS($AK$105:AK175)-1),\"\")","v":""},{"$f":"IF(OFFSET(DE104_3!$AL$105,ROWS($AL$105:AL175)-1,COLUMNS($AL$105:AL175)-1)<>\"\",OFFSET(DE104_3!$AL$105,ROWS($AL$105:AL175)-1,COLUMNS($AL$105:AL175)-1),\"\")","v":""},{"$f":"IF(OFFSET(DE104_3!$AM$105,ROWS($AM$105:AM175)-1,COLUMNS($AM$105:AM175)-1)<>\"\",OFFSET(DE104_3!$AM$105,ROWS($AM$105:AM175)-1,COLUMNS($AM$105:AM175)-1),\"\")","v":""},{"$f":"IF(OFFSET(DE104_3!$AN$105,ROWS($AN$105:AN175)-1,COLUMNS($AN$105:AN175)-1)<>\"\",OFFSET(DE104_3!$AN$105,ROWS($AN$105:AN175)-1,COLUMNS($AN$105:AN175)-1),\"\")","v":""},{"$f":"IF(OFFSET(DE104_3!$AO$105,ROWS($AO$105:AO175)-1,COLUMNS($AO$105:AO175)-1)<>\"\",OFFSET(DE104_3!$AO$105,ROWS($AO$105:AO175)-1,COLUMNS($AO$105:AO175)-1),\"\")","v":""},{"$f":"IF(OFFSET(DE104_3!$AP$105,ROWS($AP$105:AP175)-1,COLUMNS($AP$105:AP175)-1)<>\"\",OFFSET(DE104_3!$AP$105,ROWS($AP$105:AP175)-1,COLUMNS($AP$105:AP175)-1),\"\")","v":""},{"$f":"IF(OFFSET(DE104_3!$AQ$105,ROWS($AQ$105:AQ175)-1,COLUMNS($AQ$105:AQ175)-1)<>\"\",OFFSET(DE104_3!$AQ$105,ROWS($AQ$105:AQ175)-1,COLUMNS($AQ$105:AQ175)-1),\"\")","v":""}]

{"sheet":"104_4","index":6,"n_rows":43,"n_cols":21,"rows_kept":43,"cut":false,"hidden":false,"merged":[[6,0,11,0],[6,1,11,1],[6,2,11,2],[6,3,11,3],[6,4,6,11],[0,0,0,20],[1,0,1,20],[2,0,3,20],[4,0,4,20],[5,0,5,20],[6,20,11,20],[7,4,8,8],[7,9,10,9],[7,10,10,10],[7,11,10,11],[9,6,11,6],[9,7,11,7],[9,8,11,8],[10,15,11,15],[10,17,11,17],[6,12,9,12],[6,13,9,13],[6,14,9,14],[6,15,9,16],[6,17,9,18],[6,19,10,19]]}
["104-4"]
["2017-10-17"]
["ROADWAY ITEMS FOR DRAINAGE STRUCTURES INSTALLED BY CULVERT CONTRACTOR"]
[]
["   * Not a Bid Item"]
["   Backfill according to DR-111"]
["Location","Design\nNumber","Size","Kind","By Road Contractor",null,null,null,null,null,null,null,"Floodable* Backfill","Porous* Backfill","Flooded Backfill","Excavation",null,"Revetment",null,"Engineering Fabric","Remarks"]
[null,null,null,null,"Dike",null,null,null,null,"Compacting Backfill Adjacent","Compaction w/Moisture Control","Compaction w/Moisture and Density"]
[]
[null,null,null,null,"","Rt.","Location\nStation","Top.\nElev.","Type"]
[null,null,null,null,null,null,null,null,null,null,null,null,"(A)","(B)","(A+B)","Type","Quantity","Type","Quantity"]
[null,null,null,null,"Lt.",null,null,null,null,"CY","CY","CY","CY","CY","CY",null,"CY",null,"TONS","SY"]
[{"$f":"IF(OFFSET(DE104_4!$C$27,ROWS($C$27:C27)-1,COLUMNS($C$27:C27)-1)<>\"\",OFFSET(DE104_4!$C$27,ROWS($C$27:C27)-1,COLUMNS($C$27:C27)-1),\"\")","v":"STAGE 1"},{"$f":"IF(OFFSET(DE104_4!$D$27,ROWS($D$27:D27)-1,COLUMNS($D$27:D27)-1)<>\"\",OFFSET(DE104_4!$D$27,ROWS($D$27:D27)-1,COLUMNS($D$27:D27)-1),\"\")","v":""},{"$f":"IF(OFFSET(DE104_4!$E$27,ROWS($E$27:E27)-1,COLUMNS($E$27:E27)-1)<>\"\",OFFSET(DE104_4!$E$27,ROWS($E$27:E27)-1,COLUMNS($E$27:E27)-1),\"\")","v":""},{"$f":"IF(OFFSET(DE104_4!$F$27,ROWS($F$27:F27)-1,COLUMNS($F$27:F27)-1)<>\"\",OFFSET(DE104_4!$F$27,ROWS($F$27:F27)-1,COLUMNS($F$27:F27)-1),\"\")","v":""},{"$f":"IF(OFFSET(DE104_4!$G$27,ROWS($G$27:G27)-1,COLUMNS($G$27:G27)-1)<>\"\",OFFSET(DE104_4!$G$27,ROWS($G$27:G27)-1,COLUMNS($G$27:G27)-1),\"\")","v":""},{"$f":"IF(OFFSET(DE104_4!$H$27,ROWS($H$27:H27)-1,COLUMNS($H$27:H27)-1)<>\"\",OFFSET(DE104_4!$H$27,ROWS($H$27:H27)-1,COLUMNS($H$27:H27)-1),\"\")","v":""},{"$f":"IF(OFFSET(DE104_4!$I$27,ROWS($I$27:I27)-1,COLUMNS($I$27:I27)-1)<>\"\",OFFSET(DE104_4!$I$27,ROWS($I$27:I27)-1,COLUMNS($I$27:I27)-1),\"\")","v":""},{"$f":"IF(OFFSET(DE104_4!$J$27,ROWS($J$27:J27)-1,COLUMNS($J$27:J27)-1)<>\"\",OFFSET(DE104_4!$J$27,ROWS($J$27:J27)-1,COLUMNS($J$27:J27)-1),\"\")","v":""},{"$f":"IF(OFFSET(DE104_4!$K$27,ROWS($K$27:K27)-1,COLUMNS($K$27:K27)-1)<>\"\",OFFSET(DE104_4!$K$27,ROWS($K$27:K27)-1,COLUMNS($K$27:K27)-1),\"\")","v":""},{"$f":"IF(OFFSET(DE104_4!$L$27,ROWS($L$27:L27)-1,COLUMNS($L$27:L27)-1)<>\"\",OFFSET(DE104_4!$L$27,ROWS($L$27:L27)-1,COLUMNS($L$27:L27)-1),\"\")","v":""},{"$f":"IF(OFFSET(DE104_4!$M$27,ROWS($M$27:M27)-1,COLUMNS($M$27:M27)-1)<>\"\",OFFSET(DE104_4!$M$27,ROWS($M$27:M27)-1,COLUMNS($M$27:M27)-1),\"\")","v":""},{"$f":"IF(OFFSET(DE104_4!$N$27,ROWS($N$27:N27)-1,COLUMNS($N$27:N27)-1)<>\"\",OFFSET(DE104_4!$N$27,ROWS($N$27:N27)-1,COLUMNS($N$27:N27)-1),\"\")","v":""},{"$f":"IF(OFFSET(DE104_4!$O$27,ROWS($O$27:O27)-1,COLUMNS($O$27:O27)-1)<>\"\",OFFSET(DE104_4!$O$27,ROWS($O$27:O27)-1,COLUMNS($O$27:O27)-1),\"\")","v":""},{"$f":"IF(OFFSET(DE104_4!$P$27,ROWS($P$27:P27)-1,COLUMNS($P$27:P27)-1)<>\"\",OFFSET(DE104_4!$P$27,ROWS($P$27:P27)-1,COLUMNS($P$27:P27)-1),\"\")","v":""},{"$f":"IF(OFFSET(DE104_4!$Q$27,ROWS($Q$27:Q27)-1,COLUMNS($Q$27:Q27)-1)<>\"\",OFFSET(DE104_4!$Q$27,ROWS($Q$27:Q27)-1,COLUMNS($Q$27:Q27)-1),\"\")","v":""},{"$f":"IF(OFFSET(DE104_4!$R$27,ROWS($R$27:R27)-1,COLUMNS($R$27:R27)-1)<>\"\",OFFSET(DE104_4!$R$27,ROWS($R$27:R27)-1,COLUMNS($R$27:R27)-1),\"\")","v":""},{"$f":"IF(OFFSET(DE104_4!$S$27,ROWS($S$27:S27)-1,COLUMNS($S$27:S27)-1)<>\"\",OFFSET(DE104_4!$S$27,ROWS($S$27:S27)-1,COLUMNS($S$27:S27)-1),\"\")","v":""},{"$f":"IF(OFFSET(DE104_4!$T$27,ROWS($T$27:T27)-1,COLUMNS($T$27:T27)-1)<>\"\",OFFSET(DE104_4!$T$27,ROWS($T$27:T27)-1,COLUMNS($T$27:T27)-1),\"\")","v":""},{"$f":"IF(OFFSET(DE104_4!$U$27,ROWS($U$27:U27)-1,COLUMNS($U$27:U27)-1)<>\"\",OFFSET(DE104_4!$U$27,ROWS($U$27:U27)-1,COLUMNS($U$27:U27)-1),\"\")","v":""},{"$f":"IF(OFFSET(DE104_4!$V$27,ROWS($V$27:V27)-1,COLUMNS($V$27:V27)-1)<>\"\",OFFSET(DE104_4!$V$27,ROWS($V$27:V27)-1,COLUMNS($V$27:V27)-1),\"\")","v":""},{"$f":"IF(OFFSET(DE104_4!$W$27,ROWS($W$27:W27)-1,COLUMNS($W$27:W27)-1)<>\"\",OFFSET(DE104_4!$W$27,ROWS($W$27:W27)-1,COLUMNS($W$27:W27)-1),\"\")","v":""}]
[{"$f":"IF(OFFSET(DE104_4!$C$27,ROWS($C$27:C28)-1,COLUMNS($C$27:C28)-1)<>\"\",OFFSET(DE104_4!$C$27,ROWS($C$27:C28)-1,COLUMNS($C$27:C28)-1),\"\")","v":"US HWY 30"},{"$f":"IF(OFFSET(DE104_4!$D$27,ROWS($D$27:D28)-1,COLUMNS($D$27:D28)-1)<>\"\",OFFSET(DE104_4!$D$27,ROWS($D$27:D28)-1,COLUMNS($D$27:D28)-1),\"\")","v":""},{"$f":"IF(OFFSET(DE104_4!$E$27,ROWS($E$27:E28)-1,COLUMNS($E$27:E28)-1)<>\"\",OFFSET(DE104_4!$E$27,ROWS($E$27:E28)-1,COLUMNS($E$27:E28)-1),\"\")","v":""},{"$f":"IF(OFFSET(DE104_4!$F$27,ROWS($F$27:F28)-1,COLUMNS($F$27:F28)-1)<>\"\",OFFSET(DE104_4!$F$27,ROWS($F$27:F28)-1,COLUMNS($F$27:F28)-1),\"\")","v":""},{"$f":"IF(OFFSET(DE104_4!$G$27,ROWS($G$27:G28)-1,COLUMNS($G$27:G28)-1)<>\"\",OFFSET(DE104_4!$G$27,ROWS($G$27:G28)-1,COLUMNS($G$27:G28)-1),\"\")","v":""},{"$f":"IF(OFFSET(DE104_4!$H$27,ROWS($H$27:H28)-1,COLUMNS($H$27:H28)-1)<>\"\",OFFSET(DE104_4!$H$27,ROWS($H$27:H28)-1,COLUMNS($H$27:H28)-1),\"\")","v":""},{"$f":"IF(OFFSET(DE104_4!$I$27,ROWS($I$27:I28)-1,COLUMNS($I$27:I28)-1)<>\"\",OFFSET(DE104_4!$I$27,ROWS($I$27:I28)-1,COLUMNS($I$27:I28)-1),\"\")","v":""},{"$f":"IF(OFFSET(DE104_4!$J$27,ROWS($J$27:J28)-1,COLUMNS($J$27:J28)-1)<>\"\",OFFSET(DE104_4!$J$27,ROWS($J$27:J28)-1,COLUMNS($J$27:J28)-1),\"\")","v":""},{"$f":"IF(OFFSET(DE104_4!$K$27,ROWS($K$27:K28)-1,COLUMNS($K$27:K28)-1)<>\"\",OFFSET(DE104_4!$K$27,ROWS($K$27:K28)-1,COLUMNS($K$27:K28)-1),\"\")","v":""},{"$f":"IF(OFFSET(DE104_4!$L$27,ROWS($L$27:L28)-1,COLUMNS($L$27:L28)-1)<>\"\",OFFSET(DE104_4!$L$27,ROWS($L$27:L28)-1,COLUMNS($L$27:L28)-1),\"\")","v":""},{"$f":"IF(OFFSET(DE104_4!$M$27,ROWS($M$27:M28)-1,COLUMNS($M$27:M28)-1)<>\"\",OFFSET(DE104_4!$M$27,ROWS($M$27:M28)-1,COLUMNS($M$27:M28)-1),\"\")","v":""},{"$f":"IF(OFFSET(DE104_4!$N$27,ROWS($N$27:N28)-1,COLUMNS($N$27:N28)-1)<>\"\",OFFSET(DE104_4!$N$27,ROWS($N$27:N28)-1,COLUMNS($N$27:N28)-1),\"\")","v":""},{"$f":"IF(OFFSET(DE104_4!$O$27,ROWS($O$27:O28)-1,COLUMNS($O$27:O28)-1)<>\"\",OFFSET(DE104_4!$O$27,ROWS($O$27:O28)-1,COLUMNS($O$27:O28)-1),\"\")","v":""},{"$f":"IF(OFFSET(DE104_4!$P$27,ROWS($P$27:P28)-1,COLUMNS($P$27:P28)-1)<>\"\",OFFSET(DE104_4!$P$27,ROWS($P$27:P28)-1,COLUMNS($P$27:P28)-1),\"\")","v":""},{"$f":"IF(OFFSET(DE104_4!$Q$27,ROWS($Q$27:Q28)-1,COLUMNS($Q$27:Q28)-1)<>\"\",OFFSET(DE104_4!$Q$27,ROWS($Q$27:Q28)-1,COLUMNS($Q$27:Q28)-1),\"\")","v":""},{"$f":"IF(OFFSET(DE104_4!$R$27,ROWS($R$27:R28)-1,COLUMNS($R$27:R28)-1)<>\"\",OFFSET(DE104_4!$R$27,ROWS($R$27:R28)-1,COLUMNS($R$27:R28)-1),\"\")","v":""},{"$f":"IF(OFFSET(DE104_4!$S$27,ROWS($S$27:S28)-1,COLUMNS($S$27:S28)-1)<>\"\",OFFSET(DE104_4!$S$27,ROWS($S$27:S28)-1,COLUMNS($S$27:S28)-1),\"\")","v":""},{"$f":"IF(OFFSET(DE104_4!$T$27,ROWS($T$27:T28)-1,COLUMNS($T$27:T28)-1)<>\"\",OFFSET(DE104_4!$T$27,ROWS($T$27:T28)-1,COLUMNS($T$27:T28)-1),\"\")","v":""},{"$f":"IF(OFFSET(DE104_4!$U$27,ROWS($U$27:U28)-1,COLUMNS($U$27:U28)-1)<>\"\",OFFSET(DE104_4!$U$27,ROWS($U$27:U28)-1,COLUMNS($U$27:U28)-1),\"\")","v":""},{"$f":"IF(OFFSET(DE104_4!$V$27,ROWS($V$27:V28)-1,COLUMNS($V$27:V28)-1)<>\"\",OFFSET(DE104_4!$V$27,ROWS($V$27:V28)-1,COLUMNS($V$27:V28)-1),\"\")","v":""},{"$f":"IF(OFFSET(DE104_4!$W$27,ROWS($W$27:W28)-1,COLUMNS($W$27:W28)-1)<>\"\",OFFSET(DE104_4!$W$27,ROWS($W$27:W28)-1,COLUMNS($W$27:W28)-1),\"\")","v":""}]
[{"$f":"IF(OFFSET(DE104_4!$C$27,ROWS($C$27:C29)-1,COLUMNS($C$27:C29)-1)<>\"\",OFFSET(DE104_4!$C$27,ROWS($C$27:C29)-1,COLUMNS($C$27:C29)-1),\"\")","v":140100},{"$f":"IF(OFFSET(DE104_4!$D$27,ROWS($D$27:D29)-1,COLUMNS($D$27:D29)-1)<>\"\",OFFSET(DE104_4!$D$27,ROWS($D$27:D29)-1,COLUMNS($D$27:D29)-1),\"\")","v":718},{"$f":"IF(OFFSET(DE104_4!$E$27,ROWS($E$27:E29)-1,COLUMNS($E$27:E29)-1)<>\"\",OFFSET(DE104_4!$E$27,ROWS($E$27:E29)-1,COLUMNS($E$27:E29)-1),\"\")","v":"8' x 8'"},{"$f":"IF(OFFSET(DE104_4!$F$27,ROWS($F$27:F29)-1,COLUMNS($F$27:F29)-1)<>\"\",OFFSET(DE104_4!$F$27,ROWS($F$27:F29)-1,COLUMNS($F$27:F29)-1),\"\")","v":"RCB"},{"$f":"IF(OFFSET(DE104_4!$G$27,ROWS($G$27:G29)-1,COLUMNS($G$27:G29)-1)<>\"\",OFFSET(DE104_4!$G$27,ROWS($G$27:G29)-1,COLUMNS($G$27:G29)-1),\"\")","v":""},{"$f":"IF(OFFSET(DE104_4!$H$27,ROWS($H$27:H29)-1,COLUMNS($H$27:H29)-1)<>\"\",OFFSET(DE104_4!$H$27,ROWS($H$27:H29)-1,COLUMNS($H$27:H29)-1),\"\")","v":""},{"$f":"IF(OFFSET(DE104_4!$I$27,ROWS($I$27:I29)-1,COLUMNS($I$27:I29)-1)<>\"\",OFFSET(DE104_4!$I$27,ROWS($I$27:I29)-1,COLUMNS($I$27:I29)-1),\"\")","v":""},{"$f":"IF(OFFSET(DE104_4!$J$27,ROWS($J$27:J29)-1,COLUMNS($J$27:J29)-1)<>\"\",OFFSET(DE104_4!$J$27,ROWS($J$27:J29)-1,COLUMNS($J$27:J29)-1),\"\")","v":""},{"$f":"IF(OFFSET(DE104_4!$K$27,ROWS($K$27:K29)-1,COLUMNS($K$27:K29)-1)<>\"\",OFFSET(DE104_4!$K$27,ROWS($K$27:K29)-1,COLUMNS($K$27:K29)-1),\"\")","v":""},{"$f":"IF(OFFSET(DE104_4!$L$27,ROWS($L$27:L29)-1,COLUMNS($L$27:L29)-1)<>\"\",OFFSET(DE104_4!$L$27,ROWS($L$27:L29)-1,COLUMNS($L$27:L29)-1),\"\")","v":2061.6},{"$f":"IF(OFFSET(DE104_4!$M$27,ROWS($M$27:M29)-1,COLUMNS($M$27:M29)-1)<>\"\",OFFSET(DE104_4!$M$27,ROWS($M$27:M29)-1,COLUMNS($M$27:M29)-1),\"\")","v":""},{"$f":"IF(OFFSET(DE104_4!$N$27,ROWS($N$27:N29)-1,COLUMNS($N$27:N29)-1)<>\"\",OFFSET(DE104_4!$N$27,ROWS($N$27:N29)-1,COLUMNS($N$27:N29)-1),\"\")","v":""},{"$f":"IF(OFFSET(DE104_4!$O$27,ROWS($O$27:O29)-1,COLUMNS($O$27:O29)-1)<>\"\",OFFSET(DE104_4!$O$27,ROWS($O$27:O29)-1,COLUMNS($O$27:O29)-1),\"\")","v":42.8},{"$f":"IF(OFFSET(DE104_4!$P$27,ROWS($P$27:P29)-1,COLUMNS($P$27:P29)-1)<>\"\",OFFSET(DE104_4!$P$27,ROWS($P$27:P29)-1,COLUMNS($P$27:P29)-1),\"\")","v":3.7},{"$f":"IF(OFFSET(DE104_4!$Q$27,ROWS($Q$27:Q29)-1,COLUMNS($Q$27:Q29)-1)<>\"\",OFFSET(DE104_4!$Q$27,ROWS($Q$27:Q29)-1,COLUMNS($Q$27:Q29)-1),\"\")","v":46.5},{"$f":"IF(OFFSET(DE104_4!$R$27,ROWS($R$27:R29)-1,COLUMNS($R$27:R29)-1)<>\"\",OFFSET(DE104_4!$R$27,ROWS($R$27:R29)-1,COLUMNS($R$27:R29)-1),\"\")","v":""},{"$f":"IF(OFFSET(DE104_4!$S$27,ROWS($S$27:S29)-1,COLUMNS($S$27:S29)-1)<>\"\",OFFSET(DE104_4!$S$27,ROWS($S$27:S29)-1,COLUMNS($S$27:S29)-1),\"\")","v":""},{"$f":"IF(OFFSET(DE104_4!$T$27,ROWS($T$27:T29)-1,COLUMNS($T$27:T29)-1)<>\"\",OFFSET(DE104_4!$T$27,ROWS($T$27:T29)-1,COLUMNS($T$27:T29)-1),\"\")","v":""},{"$f":"IF(OFFSET(DE104_4!$U$27,ROWS($U$27:U29)-1,COLUMNS($U$27:U29)-1)<>\"\",OFFSET(DE104_4!$U$27,ROWS($U$27:U29)-1,COLUMNS($U$27:U29)-1),\"\")","v":""},{"$f":"IF(OFFSET(DE104_4!$V$27,ROWS($V$27:V29)-1,COLUMNS($V$27:V29)-1)<>\"\",OFFSET(DE104_4!$V$27,ROWS($V$27:V29)-1,COLUMNS($V$27:V29)-1),\"\")","v":""},{"$f":"IF(OFFSET(DE104_4!$W$27,ROWS($W$27:W29)-1,COLUMNS($W$27:W29)-1)<>\"\",OFFSET(DE104_4!$W$27,ROWS($W$27:W29)-1,COLUMNS($W$27:W29)-1),\"\")","v":""}]
[{"$f":"IF(OFFSET(DE104_4!$C$27,ROWS($C$27:C30)-1,COLUMNS($C$27:C30)-1)<>\"\",OFFSET(DE104_4!$C$27,ROWS($C$27:C30)-1,COLUMNS($C$27:C30)-1),\"\")","v":""},{"$f":"IF(OFFSET(DE104_4!$D$27,ROWS($D$27:D30)-1,COLUMNS($D$27:D30)-1)<>\"\",OFFSET(DE104_4!$D$27,ROWS($D$27:D30)-1,COLUMNS($D$27:D30)-1),\"\")","v":""},{"$f":"IF(OFFSET(DE104_4!$E$27,ROWS($E$27:E30)-1,COLUMNS($E$27:E30)-1)<>\"\",OFFSET(DE104_4!$E$27,ROWS($E$27:E30)-1,COLUMNS($E$27:E30)-1),\"\")","v":""},{"$f":"IF(OFFSET(DE104_4!$F$27,ROWS($F$27:F30)-1,COLUMNS($F$27:F30)-1)<>\"\",OFFSET(DE104_4!$F$27,ROWS($F$27:F30)-1,COLUMNS($F$27:F30)-1),\"\")","v":""},{"$f":"IF(OFFSET(DE104_4!$G$27,ROWS($G$27:G30)-1,COLUMNS($G$27:G30)-1)<>\"\",OFFSET(DE104_4!$G$27,ROWS($G$27:G30)-1,COLUMNS($G$27:G30)-1),\"\")","v":""},{"$f":"IF(OFFSET(DE104_4!$H$27,ROWS($H$27:H30)-1,COLUMNS($H$27:H30)-1)<>\"\",OFFSET(DE104_4!$H$27,ROWS($H$27:H30)-1,COLUMNS($H$27:H30)-1),\"\")","v":""},{"$f":"IF(OFFSET(DE104_4!$I$27,ROWS($I$27:I30)-1,COLUMNS($I$27:I30)-1)<>\"\",OFFSET(DE104_4!$I$27,ROWS($I$27:I30)-1,COLUMNS($I$27:I30)-1),\"\")","v":""},{"$f":"IF(OFFSET(DE104_4!$J$27,ROWS($J$27:J30)-1,COLUMNS($J$27:J30)-1)<>\"\",OFFSET(DE104_4!$J$27,ROWS($J$27:J30)-1,COLUMNS($J$27:J30)-1),\"\")","v":""},{"$f":"IF(OFFSET(DE104_4!$K$27,ROWS($K$27:K30)-1,COLUMNS($K$27:K30)-1)<>\"\",OFFSET(DE104_4!$K$27,ROWS($K$27:K30)-1,COLUMNS($K$27:K30)-1),\"\")","v":""},{"$f":"IF(OFFSET(DE104_4!$L$27,ROWS($L$27:L30)-1,COLUMNS($L$27:L30)-1)<>\"\",OFFSET(DE104_4!$L$27,ROWS($L$27:L30)-1,COLUMNS($L$27:L30)-1),\"\")","v":""},{"$f":"IF(OFFSET(DE104_4!$M$27,ROWS($M$27:M30)-1,COLUMNS($M$27:M30)-1)<>\"\",OFFSET(DE104_4!$M$27,ROWS($M$27:M30)-1,COLUMNS($M$27:M30)-1),\"\")","v":""},{"$f":"IF(OFFSET(DE104_4!$N$27,ROWS($N$27:N30)-1,COLUMNS($N$27:N30)-1)<>\"\",OFFSET(DE104_4!$N$27,ROWS($N$27:N30)-1,COLUMNS($N$27:N30)-1),\"\")","v":""},{"$f":"IF(OFFSET(DE104_4!$O$27,ROWS($O$27:O30)-1,COLUMNS($O$27:O30)-1)<>\"\",OFFSET(DE104_4!$O$27,ROWS($O$27:O30)-1,COLUMNS($O$27:O30)-1),\"\")","v":""},{"$f":"IF(OFFSET(DE104_4!$P$27,ROWS($P$27:P30)-1,COLUMNS($P$27:P30)-1)<>\"\",OFFSET(DE104_4!$P$27,ROWS($P$27:P30)-1,COLUMNS($P$27:P30)-1),\"\")","v":""},{"$f":"IF(OFFSET(DE104_4!$Q$27,ROWS($Q$27:Q30)-1,COLUMNS($Q$27:Q30)-1)<>\"\",OFFSET(DE104_4!$Q$27,ROWS($Q$27:Q30)-1,COLUMNS($Q$27:Q30)-1),\"\")","v":""},{"$f":"IF(OFFSET(DE104_4!$R$27,ROWS($R$27:R30)-1,COLUMNS($R$27:R30)-1)<>\"\",OFFSET(DE104_4!$R$27,ROWS($R$27:R30)-1,COLUMNS($R$27:R30)-1),\"\")","v":""},{"$f":"IF(OFFSET(DE104_4!$S$27,ROWS($S$27:S30)-1,COLUMNS($S$27:S30)-1)<>\"\",OFFSET(DE104_4!$S$27,ROWS($S$27:S30)-1,COLUMNS($S$27:S30)-1),\"\")","v":""},{"$f":"IF(OFFSET(DE104_4!$T$27,ROWS($T$27:T30)-1,COLUMNS($T$27:T30)-1)<>\"\",OFFSET(DE104_4!$T$27,ROWS($T$27:T30)-1,COLUMNS($T$27:T30)-1),\"\")","v":""},{"$f":"IF(OFFSET(DE104_4!$U$27,ROWS($U$27:U30)-1,COLUMNS($U$27:U30)-1)<>\"\",OFFSET(DE104_4!$U$27,ROWS($U$27:U30)-1,COLUMNS($U$27:U30)-1),\"\")","v":""},{"$f":"IF(OFFSET(DE104_4!$V$27,ROWS($V$27:V30)-1,COLUMNS($V$27:V30)-1)<>\"\",OFFSET(DE104_4!$V$27,ROWS($V$27:V30)-1,COLUMNS($V$27:V30)-1),\"\")","v":""},{"$f":"IF(OFFSET(DE104_4!$W$27,ROWS($W$27:W30)-1,COLUMNS($W$27:W30)-1)<>\"\",OFFSET(DE104_4!$W$27,ROWS($W$27:W30)-1,COLUMNS($W$27:W30)-1),\"\")","v":""}]
[{"$f":"IF(OFFSET(DE104_4!$C$27,ROWS($C$27:C31)-1,COLUMNS($C$27:C31)-1)<>\"\",OFFSET(DE104_4!$C$27,ROWS($C$27:C31)-1,COLUMNS($C$27:C31)-1),\"\")","v":""},{"$f":"IF(OFFSET(DE104_4!$D$27,ROWS($D$27:D31)-1,COLUMNS($D$27:D31)-1)<>\"\",OFFSET(DE104_4!$D$27,ROWS($D$27:D31)-1,COLUMNS($D$27:D31)-1),\"\")","v":""},{"$f":"IF(OFFSET(DE104_4!$E$27,ROWS($E$27:E31)-1,COLUMNS($E$27:E31)-1)<>\"\",OFFSET(DE104_4!$E$27,ROWS($E$27:E31)-1,COLUMNS($E$27:E31)-1),\"\")","v":""},{"$f":"IF(OFFSET(DE104_4!$F$27,ROWS($F$27:F31)-1,COLUMNS($F$27:F31)-1)<>\"\",OFFSET(DE104_4!$F$27,ROWS($F$27:F31)-1,COLUMNS($F$27:F31)-1),\"\")","v":""},{"$f":"IF(OFFSET(DE104_4!$G$27,ROWS($G$27:G31)-1,COLUMNS($G$27:G31)-1)<>\"\",OFFSET(DE104_4!$G$27,ROWS($G$27:G31)-1,COLUMNS($G$27:G31)-1),\"\")","v":""},{"$f":"IF(OFFSET(DE104_4!$H$27,ROWS($H$27:H31)-1,COLUMNS($H$27:H31)-1)<>\"\",OFFSET(DE104_4!$H$27,ROWS($H$27:H31)-1,COLUMNS($H$27:H31)-1),\"\")","v":""},{"$f":"IF(OFFSET(DE104_4!$I$27,ROWS($I$27:I31)-1,COLUMNS($I$27:I31)-1)<>\"\",OFFSET(DE104_4!$I$27,ROWS($I$27:I31)-1,COLUMNS($I$27:I31)-1),\"\")","v":""},{"$f":"IF(OFFSET(DE104_4!$J$27,ROWS($J$27:J31)-1,COLUMNS($J$27:J31)-1)<>\"\",OFFSET(DE104_4!$J$27,ROWS($J$27:J31)-1,COLUMNS($J$27:J31)-1),\"\")","v":""},{"$f":"IF(OFFSET(DE104_4!$K$27,ROWS($K$27:K31)-1,COLUMNS($K$27:K31)-1)<>\"\",OFFSET(DE104_4!$K$27,ROWS($K$27:K31)-1,COLUMNS($K$27:K31)-1),\"\")","v":""},{"$f":"IF(OFFSET(DE104_4!$L$27,ROWS($L$27:L31)-1,COLUMNS($L$27:L31)-1)<>\"\",OFFSET(DE104_4!$L$27,ROWS($L$27:L31)-1,COLUMNS($L$27:L31)-1),\"\")","v":""},{"$f":"IF(OFFSET(DE104_4!$M$27,ROWS($M$27:M31)-1,COLUMNS($M$27:M31)-1)<>\"\",OFFSET(DE104_4!$M$27,ROWS($M$27:M31)-1,COLUMNS($M$27:M31)-1),\"\")","v":""},{"$f":"IF(OFFSET(DE104_4!$N$27,ROWS($N$27:N31)-1,COLUMNS($N$27:N31)-1)<>\"\",OFFSET(DE104_4!$N$27,ROWS($N$27:N31)-1,COLUMNS($N$27:N31)-1),\"\")","v":""},{"$f":"IF(OFFSET(DE104_4!$O$27,ROWS($O$27:O31)-1,COLUMNS($O$27:O31)-1)<>\"\",OFFSET(DE104_4!$O$27,ROWS($O$27:O31)-1,COLUMNS($O$27:O31)-1),\"\")","v":""},{"$f":"IF(OFFSET(DE104_4!$P$27,ROWS($P$27:P31)-1,COLUMNS($P$27:P31)-1)<>\"\",OFFSET(DE104_4!$P$27,ROWS($P$27:P31)-1,COLUMNS($P$27:P31)-1),\"\")","v":""},{"$f":"IF(OFFSET(DE104_4!$Q$27,ROWS($Q$27:Q31)-1,COLUMNS($Q$27:Q31)-1)<>\"\",OFFSET(DE104_4!$Q$27,ROWS($Q$27:Q31)-1,COLUMNS($Q$27:Q31)-1),\"\")","v":""},{"$f":"IF(OFFSET(DE104_4!$R$27,ROWS($R$27:R31)-1,COLUMNS($R$27:R31)-1)<>\"\",OFFSET(DE104_4!$R$27,ROWS($R$27:R31)-1,COLUMNS($R$27:R31)-1),\"\")","v":""},{"$f":"IF(OFFSET(DE104_4!$S$27,ROWS($S$27:S31)-1,COLUMNS($S$27:S31)-1)<>\"\",OFFSET(DE104_4!$S$27,ROWS($S$27:S31)-1,COLUMNS($S$27:S31)-1),\"\")","v":""},{"$f":"IF(OFFSET(DE104_4!$T$27,ROWS($T$27:T31)-1,COLUMNS($T$27:T31)-1)<>\"\",OFFSET(DE104_4!$T$27,ROWS($T$27:T31)-1,COLUMNS($T$27:T31)-1),\"\")","v":""},{"$f":"IF(OFFSET(DE104_4!$U$27,ROWS($U$27:U31)-1,COLUMNS($U$27:U31)-1)<>\"\",OFFSET(DE104_4!$U$27,ROWS($U$27:U31)-1,COLUMNS($U$27:U31)-1),\"\")","v":""},{"$f":"IF(OFFSET(DE104_4!$V$27,ROWS($V$27:V31)-1,COLUMNS($V$27:V31)-1)<>\"\",OFFSET(DE104_4!$V$27,ROWS($V$27:V31)-1,COLUMNS($V$27:V31)-1),\"\")","v":""},{"$f":"IF(OFFSET(DE104_4!$W$27,ROWS($W$27:W31)-1,COLUMNS($W$27:W31)-1)<>\"\",OFFSET(DE104_4!$W$27,ROWS($W$27:W31)-1,COLUMNS($W$27:W31)-1),\"\")","v":""}]
[{"$f":"IF(OFFSET(DE104_4!$C$27,ROWS($C$27:C32)-1,COLUMNS($C$27:C32)-1)<>\"\",OFFSET(DE104_4!$C$27,ROWS($C$27:C32)-1,COLUMNS($C$27:C32)-1),\"\")","v":""},{"$f":"IF(OFFSET(DE104_4!$D$27,ROWS($D$27:D32)-1,COLUMNS($D$27:D32)-1)<>\"\",OFFSET(DE104_4!$D$27,ROWS($D$27:D32)-1,COLUMNS($D$27:D32)-1),\"\")","v":""},{"$f":"IF(OFFSET(DE104_4!$E$27,ROWS($E$27:E32)-1,COLUMNS($E$27:E32)-1)<>\"\",OFFSET(DE104_4!$E$27,ROWS($E$27:E32)-1,COLUMNS($E$27:E32)-1),\"\")","v":""},{"$f":"IF(OFFSET(DE104_4!$F$27,ROWS($F$27:F32)-1,COLUMNS($F$27:F32)-1)<>\"\",OFFSET(DE104_4!$F$27,ROWS($F$27:F32)-1,COLUMNS($F$27:F32)-1),\"\")","v":""},{"$f":"IF(OFFSET(DE104_4!$G$27,ROWS($G$27:G32)-1,COLUMNS($G$27:G32)-1)<>\"\",OFFSET(DE104_4!$G$27,ROWS($G$27:G32)-1,COLUMNS($G$27:G32)-1),\"\")","v":""},{"$f":"IF(OFFSET(DE104_4!$H$27,ROWS($H$27:H32)-1,COLUMNS($H$27:H32)-1)<>\"\",OFFSET(DE104_4!$H$27,ROWS($H$27:H32)-1,COLUMNS($H$27:H32)-1),\"\")","v":""},{"$f":"IF(OFFSET(DE104_4!$I$27,ROWS($I$27:I32)-1,COLUMNS($I$27:I32)-1)<>\"\",OFFSET(DE104_4!$I$27,ROWS($I$27:I32)-1,COLUMNS($I$27:I32)-1),\"\")","v":""},{"$f":"IF(OFFSET(DE104_4!$J$27,ROWS($J$27:J32)-1,COLUMNS($J$27:J32)-1)<>\"\",OFFSET(DE104_4!$J$27,ROWS($J$27:J32)-1,COLUMNS($J$27:J32)-1),\"\")","v":""},{"$f":"IF(OFFSET(DE104_4!$K$27,ROWS($K$27:K32)-1,COLUMNS($K$27:K32)-1)<>\"\",OFFSET(DE104_4!$K$27,ROWS($K$27:K32)-1,COLUMNS($K$27:K32)-1),\"\")","v":""},{"$f":"IF(OFFSET(DE104_4!$L$27,ROWS($L$27:L32)-1,COLUMNS($L$27:L32)-1)<>\"\",OFFSET(DE104_4!$L$27,ROWS($L$27:L32)-1,COLUMNS($L$27:L32)-1),\"\")","v":""},{"$f":"IF(OFFSET(DE104_4!$M$27,ROWS($M$27:M32)-1,COLUMNS($M$27:M32)-1)<>\"\",OFFSET(DE104_4!$M$27,ROWS($M$27:M32)-1,COLUMNS($M$27:M32)-1),\"\")","v":""},{"$f":"IF(OFFSET(DE104_4!$N$27,ROWS($N$27:N32)-1,COLUMNS($N$27:N32)-1)<>\"\",OFFSET(DE104_4!$N$27,ROWS($N$27:N32)-1,COLUMNS($N$27:N32)-1),\"\")","v":""},{"$f":"IF(OFFSET(DE104_4!$O$27,ROWS($O$27:O32)-1,COLUMNS($O$27:O32)-1)<>\"\",OFFSET(DE104_4!$O$27,ROWS($O$27:O32)-1,COLUMNS($O$27:O32)-1),\"\")","v":""},{"$f":"IF(OFFSET(DE104_4!$P$27,ROWS($P$27:P32)-1,COLUMNS($P$27:P32)-1)<>\"\",OFFSET(DE104_4!$P$27,ROWS($P$27:P32)-1,COLUMNS($P$27:P32)-1),\"\")","v":""},{"$f":"IF(OFFSET(DE104_4!$Q$27,ROWS($Q$27:Q32)-1,COLUMNS($Q$27:Q32)-1)<>\"\",OFFSET(DE104_4!$Q$27,ROWS($Q$27:Q32)-1,COLUMNS($Q$27:Q32)-1),\"\")","v":""},{"$f":"IF(OFFSET(DE104_4!$R$27,ROWS($R$27:R32)-1,COLUMNS($R$27:R32)-1)<>\"\",OFFSET(DE104_4!$R$27,ROWS($R$27:R32)-1,COLUMNS($R$27:R32)-1),\"\")","v":""},{"$f":"IF(OFFSET(DE104_4!$S$27,ROWS($S$27:S32)-1,COLUMNS($S$27:S32)-1)<>\"\",OFFSET(DE104_4!$S$27,ROWS($S$27:S32)-1,COLUMNS($S$27:S32)-1),\"\")","v":""},{"$f":"IF(OFFSET(DE104_4!$T$27,ROWS($T$27:T32)-1,COLUMNS($T$27:T32)-1)<>\"\",OFFSET(DE104_4!$T$27,ROWS($T$27:T32)-1,COLUMNS($T$27:T32)-1),\"\")","v":""},{"$f":"IF(OFFSET(DE104_4!$U$27,ROWS($U$27:U32)-1,COLUMNS($U$27:U32)-1)<>\"\",OFFSET(DE104_4!$U$27,ROWS($U$27:U32)-1,COLUMNS($U$27:U32)-1),\"\")","v":""},{"$f":"IF(OFFSET(DE104_4!$V$27,ROWS($V$27:V32)-1,COLUMNS($V$27:V32)-1)<>\"\",OFFSET(DE104_4!$V$27,ROWS($V$27:V32)-1,COLUMNS($V$27:V32)-1),\"\")","v":""},{"$f":"IF(OFFSET(DE104_4!$W$27,ROWS($W$27:W32)-1,COLUMNS($W$27:W32)-1)<>\"\",OFFSET(DE104_4!$W$27,ROWS($W$27:W32)-1,COLUMNS($W$27:W32)-1),\"\")","v":""}]
[{"$f":"IF(OFFSET(DE104_4!$C$27,ROWS($C$27:C33)-1,COLUMNS($C$27:C33)-1)<>\"\",OFFSET(DE104_4!$C$27,ROWS($C$27:C33)-1,COLUMNS($C$27:C33)-1),\"\")","v":"STAGE 2"},{"$f":"IF(OFFSET(DE104_4!$D$27,ROWS($D$27:D33)-1,COLUMNS($D$27:D33)-1)<>\"\",OFFSET(DE104_4!$D$27,ROWS($D$27:D33)-1,COLUMNS($D$27:D33)-1),\"\")","v":""},{"$f":"IF(OFFSET(DE104_4!$E$27,ROWS($E$27:E33)-1,COLUMNS($E$27:E33)-1)<>\"\",OFFSET(DE104_4!$E$27,ROWS($E$27:E33)-1,COLUMNS($E$27:E33)-1),\"\")","v":""},{"$f":"IF(OFFSET(DE104_4!$F$27,ROWS($F$27:F33)-1,COLUMNS($F$27:F33)-1)<>\"\",OFFSET(DE104_4!$F$27,ROWS($F$27:F33)-1,COLUMNS($F$27:F33)-1),\"\")","v":""},{"$f":"IF(OFFSET(DE104_4!$G$27,ROWS($G$27:G33)-1,COLUMNS($G$27:G33)-1)<>\"\",OFFSET(DE104_4!$G$27,ROWS($G$27:G33)-1,COLUMNS($G$27:G33)-1),\"\")","v":""},{"$f":"IF(OFFSET(DE104_4!$H$27,ROWS($H$27:H33)-1,COLUMNS($H$27:H33)-1)<>\"\",OFFSET(DE104_4!$H$27,ROWS($H$27:H33)-1,COLUMNS($H$27:H33)-1),\"\")","v":""},{"$f":"IF(OFFSET(DE104_4!$I$27,ROWS($I$27:I33)-1,COLUMNS($I$27:I33)-1)<>\"\",OFFSET(DE104_4!$I$27,ROWS($I$27:I33)-1,COLUMNS($I$27:I33)-1),\"\")","v":""},{"$f":"IF(OFFSET(DE104_4!$J$27,ROWS($J$27:J33)-1,COLUMNS($J$27:J33)-1)<>\"\",OFFSET(DE104_4!$J$27,ROWS($J$27:J33)-1,COLUMNS($J$27:J33)-1),\"\")","v":""},{"$f":"IF(OFFSET(DE104_4!$K$27,ROWS($K$27:K33)-1,COLUMNS($K$27:K33)-1)<>\"\",OFFSET(DE104_4!$K$27,ROWS($K$27:K33)-1,COLUMNS($K$27:K33)-1),\"\")","v":""},{"$f":"IF(OFFSET(DE104_4!$L$27,ROWS($L$27:L33)-1,COLUMNS($L$27:L33)-1)<>\"\",OFFSET(DE104_4!$L$27,ROWS($L$27:L33)-1,COLUMNS($L$27:L33)-1),\"\")","v":""},{"$f":"IF(OFFSET(DE104_4!$M$27,ROWS($M$27:M33)-1,COLUMNS($M$27:M33)-1)<>\"\",OFFSET(DE104_4!$M$27,ROWS($M$27:M33)-1,COLUMNS($M$27:M33)-1),\"\")","v":""},{"$f":"IF(OFFSET(DE104_4!$N$27,ROWS($N$27:N33)-1,COLUMNS($N$27:N33)-1)<>\"\",OFFSET(DE104_4!$N$27,ROWS($N$27:N33)-1,COLUMNS($N$27:N33)-1),\"\")","v":""},{"$f":"IF(OFFSET(DE104_4!$O$27,ROWS($O$27:O33)-1,COLUMNS($O$27:O33)-1)<>\"\",OFFSET(DE104_4!$O$27,ROWS($O$27:O33)-1,COLUMNS($O$27:O33)-1),\"\")","v":""},{"$f":"IF(OFFSET(DE104_4!$P$27,ROWS($P$27:P33)-1,COLUMNS($P$27:P33)-1)<>\"\",OFFSET(DE104_4!$P$27,ROWS($P$27:P33)-1,COLUMNS($P$27:P33)-1),\"\")","v":""},{"$f":"IF(OFFSET(DE104_4!$Q$27,ROWS($Q$27:Q33)-1,COLUMNS($Q$27:Q33)-1)<>\"\",OFFSET(DE104_4!$Q$27,ROWS($Q$27:Q33)-1,COLUMNS($Q$27:Q33)-1),\"\")","v":""},{"$f":"IF(OFFSET(DE104_4!$R$27,ROWS($R$27:R33)-1,COLUMNS($R$27:R33)-1)<>\"\",OFFSET(DE104_4!$R$27,ROWS($R$27:R33)-1,COLUMNS($R$27:R33)-1),\"\")","v":""},{"$f":"IF(OFFSET(DE104_4!$S$27,ROWS($S$27:S33)-1,COLUMNS($S$27:S33)-1)<>\"\",OFFSET(DE104_4!$S$27,ROWS($S$27:S33)-1,COLUMNS($S$27:S33)-1),\"\")","v":""},{"$f":"IF(OFFSET(DE104_4!$T$27,ROWS($T$27:T33)-1,COLUMNS($T$27:T33)-1)<>\"\",OFFSET(DE104_4!$T$27,ROWS($T$27:T33)-1,COLUMNS($T$27:T33)-1),\"\")","v":""},{"$f":"IF(OFFSET(DE104_4!$U$27,ROWS($U$27:U33)-1,COLUMNS($U$27:U33)-1)<>\"\",OFFSET(DE104_4!$U$27,ROWS($U$27:U33)-1,COLUMNS($U$27:U33)-1),\"\")","v":""},{"$f":"IF(OFFSET(DE104_4!$V$27,ROWS($V$27:V33)-1,COLUMNS($V$27:V33)-1)<>\"\",OFFSET(DE104_4!$V$27,ROWS($V$27:V33)-1,COLUMNS($V$27:V33)-1),\"\")","v":""},{"$f":"IF(OFFSET(DE104_4!$W$27,ROWS($W$27:W33)-1,COLUMNS($W$27:W33)-1)<>\"\",OFFSET(DE104_4!$W$27,ROWS($W$27:W33)-1,COLUMNS($W$27:W33)-1),\"\")","v":""}]
[{"$f":"IF(OFFSET(DE104_4!$C$27,ROWS($C$27:C34)-1,COLUMNS($C$27:C34)-1)<>\"\",OFFSET(DE104_4!$C$27,ROWS($C$27:C34)-1,COLUMNS($C$27:C34)-1),\"\")","v":"US HWY 30"},{"$f":"IF(OFFSET(DE104_4!$D$27,ROWS($D$27:D34)-1,COLUMNS($D$27:D34)-1)<>\"\",OFFSET(DE104_4!$D$27,ROWS($D$27:D34)-1,COLUMNS($D$27:D34)-1),\"\")","v":""},{"$f":"IF(OFFSET(DE104_4!$E$27,ROWS($E$27:E34)-1,COLUMNS($E$27:E34)-1)<>\"\",OFFSET(DE104_4!$E$27,ROWS($E$27:E34)-1,COLUMNS($E$27:E34)-1),\"\")","v":""},{"$f":"IF(OFFSET(DE104_4!$F$27,ROWS($F$27:F34)-1,COLUMNS($F$27:F34)-1)<>\"\",OFFSET(DE104_4!$F$27,ROWS($F$27:F34)-1,COLUMNS($F$27:F34)-1),\"\")","v":""},{"$f":"IF(OFFSET(DE104_4!$G$27,ROWS($G$27:G34)-1,COLUMNS($G$27:G34)-1)<>\"\",OFFSET(DE104_4!$G$27,ROWS($G$27:G34)-1,COLUMNS($G$27:G34)-1),\"\")","v":""},{"$f":"IF(OFFSET(DE104_4!$H$27,ROWS($H$27:H34)-1,COLUMNS($H$27:H34)-1)<>\"\",OFFSET(DE104_4!$H$27,ROWS($H$27:H34)-1,COLUMNS($H$27:H34)-1),\"\")","v":""},{"$f":"IF(OFFSET(DE104_4!$I$27,ROWS($I$27:I34)-1,COLUMNS($I$27:I34)-1)<>\"\",OFFSET(DE104_4!$I$27,ROWS($I$27:I34)-1,COLUMNS($I$27:I34)-1),\"\")","v":""},{"$f":"IF(OFFSET(DE104_4!$J$27,ROWS($J$27:J34)-1,COLUMNS($J$27:J34)-1)<>\"\",OFFSET(DE104_4!$J$27,ROWS($J$27:J34)-1,COLUMNS($J$27:J34)-1),\"\")","v":""},{"$f":"IF(OFFSET(DE104_4!$K$27,ROWS($K$27:K34)-1,COLUMNS($K$27:K34)-1)<>\"\",OFFSET(DE104_4!$K$27,ROWS($K$27:K34)-1,COLUMNS($K$27:K34)-1),\"\")","v":""},{"$f":"IF(OFFSET(DE104_4!$L$27,ROWS($L$27:L34)-1,COLUMNS($L$27:L34)-1)<>\"\",OFFSET(DE104_4!$L$27,ROWS($L$27:L34)-1,COLUMNS($L$27:L34)-1),\"\")","v":""},{"$f":"IF(OFFSET(DE104_4!$M$27,ROWS($M$27:M34)-1,COLUMNS($M$27:M34)-1)<>\"\",OFFSET(DE104_4!$M$27,ROWS($M$27:M34)-1,COLUMNS($M$27:M34)-1),\"\")","v":""},{"$f":"IF(OFFSET(DE104_4!$N$27,ROWS($N$27:N34)-1,COLUMNS($N$27:N34)-1)<>\"\",OFFSET(DE104_4!$N$27,ROWS($N$27:N34)-1,COLUMNS($N$27:N34)-1),\"\")","v":""},{"$f":"IF(OFFSET(DE104_4!$O$27,ROWS($O$27:O34)-1,COLUMNS($O$27:O34)-1)<>\"\",OFFSET(DE104_4!$O$27,ROWS($O$27:O34)-1,COLUMNS($O$27:O34)-1),\"\")","v":""},{"$f":"IF(OFFSET(DE104_4!$P$27,ROWS($P$27:P34)-1,COLUMNS($P$27:P34)-1)<>\"\",OFFSET(DE104_4!$P$27,ROWS($P$27:P34)-1,COLUMNS($P$27:P34)-1),\"\")","v":""},{"$f":"IF(OFFSET(DE104_4!$Q$27,ROWS($Q$27:Q34)-1,COLUMNS($Q$27:Q34)-1)<>\"\",OFFSET(DE104_4!$Q$27,ROWS($Q$27:Q34)-1,COLUMNS($Q$27:Q34)-1),\"\")","v":""},{"$f":"IF(OFFSET(DE104_4!$R$27,ROWS($R$27:R34)-1,COLUMNS($R$27:R34)-1)<>\"\",OFFSET(DE104_4!$R$27,ROWS($R$27:R34)-1,COLUMNS($R$27:R34)-1),\"\")","v":""},{"$f":"IF(OFFSET(DE104_4!$S$27,ROWS($S$27:S34)-1,COLUMNS($S$27:S34)-1)<>\"\",OFFSET(DE104_4!$S$27,ROWS($S$27:S34)-1,COLUMNS($S$27:S34)-1),\"\")","v":""},{"$f":"IF(OFFSET(DE104_4!$T$27,ROWS($T$27:T34)-1,COLUMNS($T$27:T34)-1)<>\"\",OFFSET(DE104_4!$T$27,ROWS($T$27:T34)-1,COLUMNS($T$27:T34)-1),\"\")","v":""},{"$f":"IF(OFFSET(DE104_4!$U$27,ROWS($U$27:U34)-1,COLUMNS($U$27:U34)-1)<>\"\",OFFSET(DE104_4!$U$27,ROWS($U$27:U34)-1,COLUMNS($U$27:U34)-1),\"\")","v":""},{"$f":"IF(OFFSET(DE104_4!$V$27,ROWS($V$27:V34)-1,COLUMNS($V$27:V34)-1)<>\"\",OFFSET(DE104_4!$V$27,ROWS($V$27:V34)-1,COLUMNS($V$27:V34)-1),\"\")","v":""},{"$f":"IF(OFFSET(DE104_4!$W$27,ROWS($W$27:W34)-1,COLUMNS($W$27:W34)-1)<>\"\",OFFSET(DE104_4!$W$27,ROWS($W$27:W34)-1,COLUMNS($W$27:W34)-1),\"\")","v":""}]
[{"$f":"IF(OFFSET(DE104_4!$C$27,ROWS($C$27:C35)-1,COLUMNS($C$27:C35)-1)<>\"\",OFFSET(DE104_4!$C$27,ROWS($C$27:C35)-1,COLUMNS($C$27:C35)-1),\"\")","v":140100},{"$f":"IF(OFFSET(DE104_4!$D$27,ROWS($D$27:D35)-1,COLUMNS($D$27:D35)-1)<>\"\",OFFSET(DE104_4!$D$27,ROWS($D$27:D35)-1,COLUMNS($D$27:D35)-1),\"\")","v":718},{"$f":"IF(OFFSET(DE104_4!$E$27,ROWS($E$27:E35)-1,COLUMNS($E$27:E35)-1)<>\"\",OFFSET(DE104_4!$E$27,ROWS($E$27:E35)-1,COLUMNS($E$27:E35)-1),\"\")","v":"8' x 8'"},{"$f":"IF(OFFSET(DE104_4!$F$27,ROWS($F$27:F35)-1,COLUMNS($F$27:F35)-1)<>\"\",OFFSET(DE104_4!$F$27,ROWS($F$27:F35)-1,COLUMNS($F$27:F35)-1),\"\")","v":"RCB"},{"$f":"IF(OFFSET(DE104_4!$G$27,ROWS($G$27:G35)-1,COLUMNS($G$27:G35)-1)<>\"\",OFFSET(DE104_4!$G$27,ROWS($G$27:G35)-1,COLUMNS($G$27:G35)-1),\"\")","v":""},{"$f":"IF(OFFSET(DE104_4!$H$27,ROWS($H$27:H35)-1,COLUMNS($H$27:H35)-1)<>\"\",OFFSET(DE104_4!$H$27,ROWS($H$27:H35)-1,COLUMNS($H$27:H35)-1),\"\")","v":""},{"$f":"IF(OFFSET(DE104_4!$I$27,ROWS($I$27:I35)-1,COLUMNS($I$27:I35)-1)<>\"\",OFFSET(DE104_4!$I$27,ROWS($I$27:I35)-1,COLUMNS($I$27:I35)-1),\"\")","v":""},{"$f":"IF(OFFSET(DE104_4!$J$27,ROWS($J$27:J35)-1,COLUMNS($J$27:J35)-1)<>\"\",OFFSET(DE104_4!$J$27,ROWS($J$27:J35)-1,COLUMNS($J$27:J35)-1),\"\")","v":""},{"$f":"IF(OFFSET(DE104_4!$K$27,ROWS($K$27:K35)-1,COLUMNS($K$27:K35)-1)<>\"\",OFFSET(DE104_4!$K$27,ROWS($K$27:K35)-1,COLUMNS($K$27:K35)-1),\"\")","v":""},{"$f":"IF(OFFSET(DE104_4!$L$27,ROWS($L$27:L35)-1,COLUMNS($L$27:L35)-1)<>\"\",OFFSET(DE104_4!$L$27,ROWS($L$27:L35)-1,COLUMNS($L$27:L35)-1),\"\")","v":""},{"$f":"IF(OFFSET(DE104_4!$M$27,ROWS($M$27:M35)-1,COLUMNS($M$27:M35)-1)<>\"\",OFFSET(DE104_4!$M$27,ROWS($M$27:M35)-1,COLUMNS($M$27:M35)-1),\"\")","v":""},{"$f":"IF(OFFSET(DE104_4!$N$27,ROWS($N$27:N35)-1,COLUMNS($N$27:N35)-1)<>\"\",OFFSET(DE104_4!$N$27,ROWS($N$27:N35)-1,COLUMNS($N$27:N35)-1),\"\")","v":""},{"$f":"IF(OFFSET(DE104_4!$O$27,ROWS($O$27:O35)-1,COLUMNS($O$27:O35)-1)<>\"\",OFFSET(DE104_4!$O$27,ROWS($O$27:O35)-1,COLUMNS($O$27:O35)-1),\"\")","v":""},{"$f":"IF(OFFSET(DE104_4!$P$27,ROWS($P$27:P35)-1,COLUMNS($P$27:P35)-1)<>\"\",OFFSET(DE104_4!$P$27,ROWS($P$27:P35)-1,COLUMNS($P$27:P35)-1),\"\")","v":""},{"$f":"IF(OFFSET(DE104_4!$Q$27,ROWS($Q$27:Q35)-1,COLUMNS($Q$27:Q35)-1)<>\"\",OFFSET(DE104_4!$Q$27,ROWS($Q$27:Q35)-1,COLUMNS($Q$27:Q35)-1),\"\")","v":""},{"$f":"IF(OFFSET(DE104_4!$R$27,ROWS($R$27:R35)-1,COLUMNS($R$27:R35)-1)<>\"\",OFFSET(DE104_4!$R$27,ROWS($R$27:R35)-1,COLUMNS($R$27:R35)-1),\"\")","v":""},{"$f":"IF(OFFSET(DE104_4!$S$27,ROWS($S$27:S35)-1,COLUMNS($S$27:S35)-1)<>\"\",OFFSET(DE104_4!$S$27,ROWS($S$27:S35)-1,COLUMNS($S$27:S35)-1),\"\")","v":""},{"$f":"IF(OFFSET(DE104_4!$T$27,ROWS($T$27:T35)-1,COLUMNS($T$27:T35)-1)<>\"\",OFFSET(DE104_4!$T$27,ROWS($T$27:T35)-1,COLUMNS($T$27:T35)-1),\"\")","v":""},{"$f":"IF(OFFSET(DE104_4!$U$27,ROWS($U$27:U35)-1,COLUMNS($U$27:U35)-1)<>\"\",OFFSET(DE104_4!$U$27,ROWS($U$27:U35)-1,COLUMNS($U$27:U35)-1),\"\")","v":""},{"$f":"IF(OFFSET(DE104_4!$V$27,ROWS($V$27:V35)-1,COLUMNS($V$27:V35)-1)<>\"\",OFFSET(DE104_4!$V$27,ROWS($V$27:V35)-1,COLUMNS($V$27:V35)-1),\"\")","v":""},{"$f":"IF(OFFSET(DE104_4!$W$27,ROWS($W$27:W35)-1,COLUMNS($W$27:W35)-1)<>\"\",OFFSET(DE104_4!$W$27,ROWS($W$27:W35)-1,COLUMNS($W$27:W35)-1),\"\")","v":""}]
[{"$f":"IF(OFFSET(DE104_4!$C$27,ROWS($C$27:C36)-1,COLUMNS($C$27:C36)-1)<>\"\",OFFSET(DE104_4!$C$27,ROWS($C$27:C36)-1,COLUMNS($C$27:C36)-1),\"\")","v":""},{"$f":"IF(OFFSET(DE104_4!$D$27,ROWS($D$27:D36)-1,COLUMNS($D$27:D36)-1)<>\"\",OFFSET(DE104_4!$D$27,ROWS($D$27:D36)-1,COLUMNS($D$27:D36)-1),\"\")","v":""},{"$f":"IF(OFFSET(DE104_4!$E$27,ROWS($E$27:E36)-1,COLUMNS($E$27:E36)-1)<>\"\",OFFSET(DE104_4!$E$27,ROWS($E$27:E36)-1,COLUMNS($E$27:E36)-1),\"\")","v":""},{"$f":"IF(OFFSET(DE104_4!$F$27,ROWS($F$27:F36)-1,COLUMNS($F$27:F36)-1)<>\"\",OFFSET(DE104_4!$F$27,ROWS($F$27:F36)-1,COLUMNS($F$27:F36)-1),\"\")","v":""},{"$f":"IF(OFFSET(DE104_4!$G$27,ROWS($G$27:G36)-1,COLUMNS($G$27:G36)-1)<>\"\",OFFSET(DE104_4!$G$27,ROWS($G$27:G36)-1,COLUMNS($G$27:G36)-1),\"\")","v":""},{"$f":"IF(OFFSET(DE104_4!$H$27,ROWS($H$27:H36)-1,COLUMNS($H$27:H36)-1)<>\"\",OFFSET(DE104_4!$H$27,ROWS($H$27:H36)-1,COLUMNS($H$27:H36)-1),\"\")","v":""},{"$f":"IF(OFFSET(DE104_4!$I$27,ROWS($I$27:I36)-1,COLUMNS($I$27:I36)-1)<>\"\",OFFSET(DE104_4!$I$27,ROWS($I$27:I36)-1,COLUMNS($I$27:I36)-1),\"\")","v":""},{"$f":"IF(OFFSET(DE104_4!$J$27,ROWS($J$27:J36)-1,COLUMNS($J$27:J36)-1)<>\"\",OFFSET(DE104_4!$J$27,ROWS($J$27:J36)-1,COLUMNS($J$27:J36)-1),\"\")","v":""},{"$f":"IF(OFFSET(DE104_4!$K$27,ROWS($K$27:K36)-1,COLUMNS($K$27:K36)-1)<>\"\",OFFSET(DE104_4!$K$27,ROWS($K$27:K36)-1,COLUMNS($K$27:K36)-1),\"\")","v":""},{"$f":"IF(OFFSET(DE104_4!$L$27,ROWS($L$27:L36)-1,COLUMNS($L$27:L36)-1)<>\"\",OFFSET(DE104_4!$L$27,ROWS($L$27:L36)-1,COLUMNS($L$27:L36)-1),\"\")","v":""},{"$f":"IF(OFFSET(DE104_4!$M$27,ROWS($M$27:M36)-1,COLUMNS($M$27:M36)-1)<>\"\",OFFSET(DE104_4!$M$27,ROWS($M$27:M36)-1,COLUMNS($M$27:M36)-1),\"\")","v":""},{"$f":"IF(OFFSET(DE104_4!$N$27,ROWS($N$27:N36)-1,COLUMNS($N$27:N36)-1)<>\"\",OFFSET(DE104_4!$N$27,ROWS($N$27:N36)-1,COLUMNS($N$27:N36)-1),\"\")","v":""},{"$f":"IF(OFFSET(DE104_4!$O$27,ROWS($O$27:O36)-1,COLUMNS($O$27:O36)-1)<>\"\",OFFSET(DE104_4!$O$27,ROWS($O$27:O36)-1,COLUMNS($O$27:O36)-1),\"\")","v":""},{"$f":"IF(OFFSET(DE104_4!$P$27,ROWS($P$27:P36)-1,COLUMNS($P$27:P36)-1)<>\"\",OFFSET(DE104_4!$P$27,ROWS($P$27:P36)-1,COLUMNS($P$27:P36)-1),\"\")","v":""},{"$f":"IF(OFFSET(DE104_4!$Q$27,ROWS($Q$27:Q36)-1,COLUMNS($Q$27:Q36)-1)<>\"\",OFFSET(DE104_4!$Q$27,ROWS($Q$27:Q36)-1,COLUMNS($Q$27:Q36)-1),\"\")","v":""},{"$f":"IF(OFFSET(DE104_4!$R$27,ROWS($R$27:R36)-1,COLUMNS($R$27:R36)-1)<>\"\",OFFSET(DE104_4!$R$27,ROWS($R$27:R36)-1,COLUMNS($R$27:R36)-1),\"\")","v":""},{"$f":"IF(OFFSET(DE104_4!$S$27,ROWS($S$27:S36)-1,COLUMNS($S$27:S36)-1)<>\"\",OFFSET(DE104_4!$S$27,ROWS($S$27:S36)-1,COLUMNS($S$27:S36)-1),\"\")","v":""},{"$f":"IF(OFFSET(DE104_4!$T$27,ROWS($T$27:T36)-1,COLUMNS($T$27:T36)-1)<>\"\",OFFSET(DE104_4!$T$27,ROWS($T$27:T36)-1,COLUMNS($T$27:T36)-1),\"\")","v":""},{"$f":"IF(OFFSET(DE104_4!$U$27,ROWS($U$27:U36)-1,COLUMNS($U$27:U36)-1)<>\"\",OFFSET(DE104_4!$U$27,ROWS($U$27:U36)-1,COLUMNS($U$27:U36)-1),\"\")","v":""},{"$f":"IF(OFFSET(DE104_4!$V$27,ROWS($V$27:V36)-1,COLUMNS($V$27:V36)-1)<>\"\",OFFSET(DE104_4!$V$27,ROWS($V$27:V36)-1,COLUMNS($V$27:V36)-1),\"\")","v":""},{"$f":"IF(OFFSET(DE104_4!$W$27,ROWS($W$27:W36)-1,COLUMNS($W$27:W36)-1)<>\"\",OFFSET(DE104_4!$W$27,ROWS($W$27:W36)-1,COLUMNS($W$27:W36)-1),\"\")","v":""}]
[{"$f":"IF(OFFSET(DE104_4!$C$27,ROWS($C$27:C37)-1,COLUMNS($C$27:C37)-1)<>\"\",OFFSET(DE104_4!$C$27,ROWS($C$27:C37)-1,COLUMNS($C$27:C37)-1),\"\")","v":""},{"$f":"IF(OFFSET(DE104_4!$D$27,ROWS($D$27:D37)-1,COLUMNS($D$27:D37)-1)<>\"\",OFFSET(DE104_4!$D$27,ROWS($D$27:D37)-1,COLUMNS($D$27:D37)-1),\"\")","v":""},{"$f":"IF(OFFSET(DE104_4!$E$27,ROWS($E$27:E37)-1,COLUMNS($E$27:E37)-1)<>\"\",OFFSET(DE104_4!$E$27,ROWS($E$27:E37)-1,COLUMNS($E$27:E37)-1),\"\")","v":""},{"$f":"IF(OFFSET(DE104_4!$F$27,ROWS($F$27:F37)-1,COLUMNS($F$27:F37)-1)<>\"\",OFFSET(DE104_4!$F$27,ROWS($F$27:F37)-1,COLUMNS($F$27:F37)-1),\"\")","v":""},{"$f":"IF(OFFSET(DE104_4!$G$27,ROWS($G$27:G37)-1,COLUMNS($G$27:G37)-1)<>\"\",OFFSET(DE104_4!$G$27,ROWS($G$27:G37)-1,COLUMNS($G$27:G37)-1),\"\")","v":""},{"$f":"IF(OFFSET(DE104_4!$H$27,ROWS($H$27:H37)-1,COLUMNS($H$27:H37)-1)<>\"\",OFFSET(DE104_4!$H$27,ROWS($H$27:H37)-1,COLUMNS($H$27:H37)-1),\"\")","v":""},{"$f":"IF(OFFSET(DE104_4!$I$27,ROWS($I$27:I37)-1,COLUMNS($I$27:I37)-1)<>\"\",OFFSET(DE104_4!$I$27,ROWS($I$27:I37)-1,COLUMNS($I$27:I37)-1),\"\")","v":""},{"$f":"IF(OFFSET(DE104_4!$J$27,ROWS($J$27:J37)-1,COLUMNS($J$27:J37)-1)<>\"\",OFFSET(DE104_4!$J$27,ROWS($J$27:J37)-1,COLUMNS($J$27:J37)-1),\"\")","v":"TOTALS:"},{"$f":"IF(OFFSET(DE104_4!$K$27,ROWS($K$27:K37)-1,COLUMNS($K$27:K37)-1)<>\"\",OFFSET(DE104_4!$K$27,ROWS($K$27:K37)-1,COLUMNS($K$27:K37)-1),\"\")","v":""},{"$f":"IF(OFFSET(DE104_4!$L$27,ROWS($L$27:L37)-1,COLUMNS($L$27:L37)-1)<>\"\",OFFSET(DE104_4!$L$27,ROWS($L$27:L37)-1,COLUMNS($L$27:L37)-1),\"\")","v":2061.6},{"$f":"IF(OFFSET(DE104_4!$M$27,ROWS($M$27:M37)-1,COLUMNS($M$27:M37)-1)<>\"\",OFFSET(DE104_4!$M$27,ROWS($M$27:M37)-1,COLUMNS($M$27:M37)-1),\"\")","v":""},{"$f":"IF(OFFSET(DE104_4!$N$27,ROWS($N$27:N37)-1,COLUMNS($N$27:N37)-1)<>\"\",OFFSET(DE104_4!$N$27,ROWS($N$27:N37)-1,COLUMNS($N$27:N37)-1),\"\")","v":""},{"$f":"IF(OFFSET(DE104_4!$O$27,ROWS($O$27:O37)-1,COLUMNS($O$27:O37)-1)<>\"\",OFFSET(DE104_4!$O$27,ROWS($O$27:O37)-1,COLUMNS($O$27:O37)-1),\"\")","v":42.8},{"$f":"IF(OFFSET(DE104_4!$P$27,ROWS($P$27:P37)-1,COLUMNS($P$27:P37)-1)<>\"\",OFFSET(DE104_4!$P$27,ROWS($P$27:P37)-1,COLUMNS($P$27:P37)-1),\"\")","v":3.7},{"$f":"IF(OFFSET(DE104_4!$Q$27,ROWS($Q$27:Q37)-1,COLUMNS($Q$27:Q37)-1)<>\"\",OFFSET(DE104_4!$Q$27,ROWS($Q$27:Q37)-1,COLUMNS($Q$27:Q37)-1),\"\")","v":46.5},{"$f":"IF(OFFSET(DE104_4!$R$27,ROWS($R$27:R37)-1,COLUMNS($R$27:R37)-1)<>\"\",OFFSET(DE104_4!$R$27,ROWS($R$27:R37)-1,COLUMNS($R$27:R37)-1),\"\")","v":""},{"$f":"IF(OFFSET(DE104_4!$S$27,ROWS($S$27:S37)-1,COLUMNS($S$27:S37)-1)<>\"\",OFFSET(DE104_4!$S$27,ROWS($S$27:S37)-1,COLUMNS($S$27:S37)-1),\"\")","v":""},{"$f":"IF(OFFSET(DE104_4!$T$27,ROWS($T$27:T37)-1,COLUMNS($T$27:T37)-1)<>\"\",OFFSET(DE104_4!$T$27,ROWS($T$27:T37)-1,COLUMNS($T$27:T37)-1),\"\")","v":""},{"$f":"IF(OFFSET(DE104_4!$U$27,ROWS($U$27:U37)-1,COLUMNS($U$27:U37)-1)<>\"\",OFFSET(DE104_4!$U$27,ROWS($U$27:U37)-1,COLUMNS($U$27:U37)-1),\"\")","v":""},{"$f":"IF(OFFSET(DE104_4!$V$27,ROWS($V$27:V37)-1,COLUMNS($V$27:V37)-1)<>\"\",OFFSET(DE104_4!$V$27,ROWS($V$27:V37)-1,COLUMNS($V$27:V37)-1),\"\")","v":""},{"$f":"IF(OFFSET(DE104_4!$W$27,ROWS($W$27:W37)-1,COLUMNS($W$27:W37)-1)<>\"\",OFFSET(DE104_4!$W$27,ROWS($W$27:W37)-1,COLUMNS($W$27:W37)-1),\"\")","v":""}]
[{"$f":"IF(OFFSET(DE104_4!$C$27,ROWS($C$27:C38)-1,COLUMNS($C$27:C38)-1)<>\"\",OFFSET(DE104_4!$C$27,ROWS($C$27:C38)-1,COLUMNS($C$27:C38)-1),\"\")","v":""},{"$f":"IF(OFFSET(DE104_4!$D$27,ROWS($D$27:D38)-1,COLUMNS($D$27:D38)-1)<>\"\",OFFSET(DE104_4!$D$27,ROWS($D$27:D38)-1,COLUMNS($D$27:D38)-1),\"\")","v":""},{"$f":"IF(OFFSET(DE104_4!$E$27,ROWS($E$27:E38)-1,COLUMNS($E$27:E38)-1)<>\"\",OFFSET(DE104_4!$E$27,ROWS($E$27:E38)-1,COLUMNS($E$27:E38)-1),\"\")","v":""},{"$f":"IF(OFFSET(DE104_4!$F$27,ROWS($F$27:F38)-1,COLUMNS($F$27:F38)-1)<>\"\",OFFSET(DE104_4!$F$27,ROWS($F$27:F38)-1,COLUMNS($F$27:F38)-1),\"\")","v":""},{"$f":"IF(OFFSET(DE104_4!$G$27,ROWS($G$27:G38)-1,COLUMNS($G$27:G38)-1)<>\"\",OFFSET(DE104_4!$G$27,ROWS($G$27:G38)-1,COLUMNS($G$27:G38)-1),\"\")","v":""},{"$f":"IF(OFFSET(DE104_4!$H$27,ROWS($H$27:H38)-1,COLUMNS($H$27:H38)-1)<>\"\",OFFSET(DE104_4!$H$27,ROWS($H$27:H38)-1,COLUMNS($H$27:H38)-1),\"\")","v":""},{"$f":"IF(OFFSET(DE104_4!$I$27,ROWS($I$27:I38)-1,COLUMNS($I$27:I38)-1)<>\"\",OFFSET(DE104_4!$I$27,ROWS($I$27:I38)-1,COLUMNS($I$27:I38)-1),\"\")","v":""},{"$f":"IF(OFFSET(DE104_4!$J$27,ROWS($J$27:J38)-1,COLUMNS($J$27:J38)-1)<>\"\",OFFSET(DE104_4!$J$27,ROWS($J$27:J38)-1,COLUMNS($J$27:J38)-1),\"\")","v":""},{"$f":"IF(OFFSET(DE104_4!$K$27,ROWS($K$27:K38)-1,COLUMNS($K$27:K38)-1)<>\"\",OFFSET(DE104_4!$K$27,ROWS($K$27:K38)-1,COLUMNS($K$27:K38)-1),\"\")","v":""},{"$f":"IF(OFFSET(DE104_4!$L$27,ROWS($L$27:L38)-1,COLUMNS($L$27:L38)-1)<>\"\",OFFSET(DE104_4!$L$27,ROWS($L$27:L38)-1,COLUMNS($L$27:L38)-1),\"\")","v":""},{"$f":"IF(OFFSET(DE104_4!$M$27,ROWS($M$27:M38)-1,COLUMNS($M$27:M38)-1)<>\"\",OFFSET(DE104_4!$M$27,ROWS($M$27:M38)-1,COLUMNS($M$27:M38)-1),\"\")","v":""},{"$f":"IF(OFFSET(DE104_4!$N$27,ROWS($N$27:N38)-1,COLUMNS($N$27:N38)-1)<>\"\",OFFSET(DE104_4!$N$27,ROWS($N$27:N38)-1,COLUMNS($N$27:N38)-1),\"\")","v":""},{"$f":"IF(OFFSET(DE104_4!$O$27,ROWS($O$27:O38)-1,COLUMNS($O$27:O38)-1)<>\"\",OFFSET(DE104_4!$O$27,ROWS($O$27:O38)-1,COLUMNS($O$27:O38)-1),\"\")","v":""},{"$f":"IF(OFFSET(DE104_4!$P$27,ROWS($P$27:P38)-1,COLUMNS($P$27:P38)-1)<>\"\",OFFSET(DE104_4!$P$27,ROWS($P$27:P38)-1,COLUMNS($P$27:P38)-1),\"\")","v":""},{"$f":"IF(OFFSET(DE104_4!$Q$27,ROWS($Q$27:Q38)-1,COLUMNS($Q$27:Q38)-1)<>\"\",OFFSET(DE104_4!$Q$27,ROWS($Q$27:Q38)-1,COLUMNS($Q$27:Q38)-1),\"\")","v":""},{"$f":"IF(OFFSET(DE104_4!$R$27,ROWS($R$27:R38)-1,COLUMNS($R$27:R38)-1)<>\"\",OFFSET(DE104_4!$R$27,ROWS($R$27:R38)-1,COLUMNS($R$27:R38)-1),\"\")","v":""},{"$f":"IF(OFFSET(DE104_4!$S$27,ROWS($S$27:S38)-1,COLUMNS($S$27:S38)-1)<>\"\",OFFSET(DE104_4!$S$27,ROWS($S$27:S38)-1,COLUMNS($S$27:S38)-1),\"\")","v":""},{"$f":"IF(OFFSET(DE104_4!$T$27,ROWS($T$27:T38)-1,COLUMNS($T$27:T38)-1)<>\"\",OFFSET(DE104_4!$T$27,ROWS($T$27:T38)-1,COLUMNS($T$27:T38)-1),\"\")","v":""},{"$f":"IF(OFFSET(DE104_4!$U$27,ROWS($U$27:U38)-1,COLUMNS($U$27:U38)-1)<>\"\",OFFSET(DE104_4!$U$27,ROWS($U$27:U38)-1,COLUMNS($U$27:U38)-1),\"\")","v":""},{"$f":"IF(OFFSET(DE104_4!$V$27,ROWS($V$27:V38)-1,COLUMNS($V$27:V38)-1)<>\"\",OFFSET(DE104_4!$V$27,ROWS($V$27:V38)-1,COLUMNS($V$27:V38)-1),\"\")","v":""},{"$f":"IF(OFFSET(DE104_4!$W$27,ROWS($W$27:W38)-1,COLUMNS($W$27:W38)-1)<>\"\",OFFSET(DE104_4!$W$27,ROWS($W$27:W38)-1,COLUMNS($W$27:W38)-1),\"\")","v":""}]
[{"$f":"IF(OFFSET(DE104_4!$C$27,ROWS($C$27:C39)-1,COLUMNS($C$27:C39)-1)<>\"\",OFFSET(DE104_4!$C$27,ROWS($C$27:C39)-1,COLUMNS($C$27:C39)-1),\"\")","v":""},{"$f":"IF(OFFSET(DE104_4!$D$27,ROWS($D$27:D39)-1,COLUMNS($D$27:D39)-1)<>\"\",OFFSET(DE104_4!$D$27,ROWS($D$27:D39)-1,COLUMNS($D$27:D39)-1),\"\")","v":""},{"$f":"IF(OFFSET(DE104_4!$E$27,ROWS($E$27:E39)-1,COLUMNS($E$27:E39)-1)<>\"\",OFFSET(DE104_4!$E$27,ROWS($E$27:E39)-1,COLUMNS($E$27:E39)-1),\"\")","v":""},{"$f":"IF(OFFSET(DE104_4!$F$27,ROWS($F$27:F39)-1,COLUMNS($F$27:F39)-1)<>\"\",OFFSET(DE104_4!$F$27,ROWS($F$27:F39)-1,COLUMNS($F$27:F39)-1),\"\")","v":""},{"$f":"IF(OFFSET(DE104_4!$G$27,ROWS($G$27:G39)-1,COLUMNS($G$27:G39)-1)<>\"\",OFFSET(DE104_4!$G$27,ROWS($G$27:G39)-1,COLUMNS($G$27:G39)-1),\"\")","v":""},{"$f":"IF(OFFSET(DE104_4!$H$27,ROWS($H$27:H39)-1,COLUMNS($H$27:H39)-1)<>\"\",OFFSET(DE104_4!$H$27,ROWS($H$27:H39)-1,COLUMNS($H$27:H39)-1),\"\")","v":""},{"$f":"IF(OFFSET(DE104_4!$I$27,ROWS($I$27:I39)-1,COLUMNS($I$27:I39)-1)<>\"\",OFFSET(DE104_4!$I$27,ROWS($I$27:I39)-1,COLUMNS($I$27:I39)-1),\"\")","v":""},{"$f":"IF(OFFSET(DE104_4!$J$27,ROWS($J$27:J39)-1,COLUMNS($J$27:J39)-1)<>\"\",OFFSET(DE104_4!$J$27,ROWS($J$27:J39)-1,COLUMNS($J$27:J39)-1),\"\")","v":""},{"$f":"IF(OFFSET(DE104_4!$K$27,ROWS($K$27:K39)-1,COLUMNS($K$27:K39)-1)<>\"\",OFFSET(DE104_4!$K$27,ROWS($K$27:K39)-1,COLUMNS($K$27:K39)-1),\"\")","v":""},{"$f":"IF(OFFSET(DE104_4!$L$27,ROWS($L$27:L39)-1,COLUMNS($L$27:L39)-1)<>\"\",OFFSET(DE104_4!$L$27,ROWS($L$27:L39)-1,COLUMNS($L$27:L39)-1),\"\")","v":""},{"$f":"IF(OFFSET(DE104_4!$M$27,ROWS($M$27:M39)-1,COLUMNS($M$27:M39)-1)<>\"\",OFFSET(DE104_4!$M$27,ROWS($M$27:M39)-1,COLUMNS($M$27:M39)-1),\"\")","v":""},{"$f":"IF(OFFSET(DE104_4!$N$27,ROWS($N$27:N39)-1,COLUMNS($N$27:N39)-1)<>\"\",OFFSET(DE104_4!$N$27,ROWS($N$27:N39)-1,COLUMNS($N$27:N39)-1),\"\")","v":""},{"$f":"IF(OFFSET(DE104_4!$O$27,ROWS($O$27:O39)-1,COLUMNS($O$27:O39)-1)<>\"\",OFFSET(DE104_4!$O$27,ROWS($O$27:O39)-1,COLUMNS($O$27:O39)-1),\"\")","v":""},{"$f":"IF(OFFSET(DE104_4!$P$27,ROWS($P$27:P39)-1,COLUMNS($P$27:P39)-1)<>\"\",OFFSET(DE104_4!$P$27,ROWS($P$27:P39)-1,COLUMNS($P$27:P39)-1),\"\")","v":""},{"$f":"IF(OFFSET(DE104_4!$Q$27,ROWS($Q$27:Q39)-1,COLUMNS($Q$27:Q39)-1)<>\"\",OFFSET(DE104_4!$Q$27,ROWS($Q$27:Q39)-1,COLUMNS($Q$27:Q39)-1),\"\")","v":""},{"$f":"IF(OFFSET(DE104_4!$R$27,ROWS($R$27:R39)-1,COLUMNS($R$27:R39)-1)<>\"\",OFFSET(DE104_4!$R$27,ROWS($R$27:R39)-1,COLUMNS($R$27:R39)-1),\"\")","v":""},{"$f":"IF(OFFSET(DE104_4!$S$27,ROWS($S$27:S39)-1,COLUMNS($S$27:S39)-1)<>\"\",OFFSET(DE104_4!$S$27,ROWS($S$27:S39)-1,COLUMNS($S$27:S39)-1),\"\")","v":""},{"$f":"IF(OFFSET(DE104_4!$T$27,ROWS($T$27:T39)-1,COLUMNS($T$27:T39)-1)<>\"\",OFFSET(DE104_4!$T$27,ROWS($T$27:T39)-1,COLUMNS($T$27:T39)-1),\"\")","v":""},{"$f":"IF(OFFSET(DE104_4!$U$27,ROWS($U$27:U39)-1,COLUMNS($U$27:U39)-1)<>\"\",OFFSET(DE104_4!$U$27,ROWS($U$27:U39)-1,COLUMNS($U$27:U39)-1),\"\")","v":""},{"$f":"IF(OFFSET(DE104_4!$V$27,ROWS($V$27:V39)-1,COLUMNS($V$27:V39)-1)<>\"\",OFFSET(DE104_4!$V$27,ROWS($V$27:V39)-1,COLUMNS($V$27:V39)-1),\"\")","v":""},{"$f":"IF(OFFSET(DE104_4!$W$27,ROWS($W$27:W39)-1,COLUMNS($W$27:W39)-1)<>\"\",OFFSET(DE104_4!$W$27,ROWS($W$27:W39)-1,COLUMNS($W$27:W39)-1),\"\")","v":""}]
[{"$f":"IF(OFFSET(DE104_4!$C$27,ROWS($C$27:C40)-1,COLUMNS($C$27:C40)-1)<>\"\",OFFSET(DE104_4!$C$27,ROWS($C$27:C40)-1,COLUMNS($C$27:C40)-1),\"\")","v":""},{"$f":"IF(OFFSET(DE104_4!$D$27,ROWS($D$27:D40)-1,COLUMNS($D$27:D40)-1)<>\"\",OFFSET(DE104_4!$D$27,ROWS($D$27:D40)-1,COLUMNS($D$27:D40)-1),\"\")","v":""},{"$f":"IF(OFFSET(DE104_4!$E$27,ROWS($E$27:E40)-1,COLUMNS($E$27:E40)-1)<>\"\",OFFSET(DE104_4!$E$27,ROWS($E$27:E40)-1,COLUMNS($E$27:E40)-1),\"\")","v":""},{"$f":"IF(OFFSET(DE104_4!$F$27,ROWS($F$27:F40)-1,COLUMNS($F$27:F40)-1)<>\"\",OFFSET(DE104_4!$F$27,ROWS($F$27:F40)-1,COLUMNS($F$27:F40)-1),\"\")","v":""},{"$f":"IF(OFFSET(DE104_4!$G$27,ROWS($G$27:G40)-1,COLUMNS($G$27:G40)-1)<>\"\",OFFSET(DE104_4!$G$27,ROWS($G$27:G40)-1,COLUMNS($G$27:G40)-1),\"\")","v":""},{"$f":"IF(OFFSET(DE104_4!$H$27,ROWS($H$27:H40)-1,COLUMNS($H$27:H40)-1)<>\"\",OFFSET(DE104_4!$H$27,ROWS($H$27:H40)-1,COLUMNS($H$27:H40)-1),\"\")","v":""},{"$f":"IF(OFFSET(DE104_4!$I$27,ROWS($I$27:I40)-1,COLUMNS($I$27:I40)-1)<>\"\",OFFSET(DE104_4!$I$27,ROWS($I$27:I40)-1,COLUMNS($I$27:I40)-1),\"\")","v":""},{"$f":"IF(OFFSET(DE104_4!$J$27,ROWS($J$27:J40)-1,COLUMNS($J$27:J40)-1)<>\"\",OFFSET(DE104_4!$J$27,ROWS($J$27:J40)-1,COLUMNS($J$27:J40)-1),\"\")","v":""},{"$f":"IF(OFFSET(DE104_4!$K$27,ROWS($K$27:K40)-1,COLUMNS($K$27:K40)-1)<>\"\",OFFSET(DE104_4!$K$27,ROWS($K$27:K40)-1,COLUMNS($K$27:K40)-1),\"\")","v":""},{"$f":"IF(OFFSET(DE104_4!$L$27,ROWS($L$27:L40)-1,COLUMNS($L$27:L40)-1)<>\"\",OFFSET(DE104_4!$L$27,ROWS($L$27:L40)-1,COLUMNS($L$27:L40)-1),\"\")","v":""},{"$f":"IF(OFFSET(DE104_4!$M$27,ROWS($M$27:M40)-1,COLUMNS($M$27:M40)-1)<>\"\",OFFSET(DE104_4!$M$27,ROWS($M$27:M40)-1,COLUMNS($M$27:M40)-1),\"\")","v":""},{"$f":"IF(OFFSET(DE104_4!$N$27,ROWS($N$27:N40)-1,COLUMNS($N$27:N40)-1)<>\"\",OFFSET(DE104_4!$N$27,ROWS($N$27:N40)-1,COLUMNS($N$27:N40)-1),\"\")","v":""},{"$f":"IF(OFFSET(DE104_4!$O$27,ROWS($O$27:O40)-1,COLUMNS($O$27:O40)-1)<>\"\",OFFSET(DE104_4!$O$27,ROWS($O$27:O40)-1,COLUMNS($O$27:O40)-1),\"\")","v":""},{"$f":"IF(OFFSET(DE104_4!$P$27,ROWS($P$27:P40)-1,COLUMNS($P$27:P40)-1)<>\"\",OFFSET(DE104_4!$P$27,ROWS($P$27:P40)-1,COLUMNS($P$27:P40)-1),\"\")","v":""},{"$f":"IF(OFFSET(DE104_4!$Q$27,ROWS($Q$27:Q40)-1,COLUMNS($Q$27:Q40)-1)<>\"\",OFFSET(DE104_4!$Q$27,ROWS($Q$27:Q40)-1,COLUMNS($Q$27:Q40)-1),\"\")","v":""},{"$f":"IF(OFFSET(DE104_4!$R$27,ROWS($R$27:R40)-1,COLUMNS($R$27:R40)-1)<>\"\",OFFSET(DE104_4!$R$27,ROWS($R$27:R40)-1,COLUMNS($R$27:R40)-1),\"\")","v":""},{"$f":"IF(OFFSET(DE104_4!$S$27,ROWS($S$27:S40)-1,COLUMNS($S$27:S40)-1)<>\"\",OFFSET(DE104_4!$S$27,ROWS($S$27:S40)-1,COLUMNS($S$27:S40)-1),\"\")","v":""},{"$f":"IF(OFFSET(DE104_4!$T$27,ROWS($T$27:T40)-1,COLUMNS($T$27:T40)-1)<>\"\",OFFSET(DE104_4!$T$27,ROWS($T$27:T40)-1,COLUMNS($T$27:T40)-1),\"\")","v":""},{"$f":"IF(OFFSET(DE104_4!$U$27,ROWS($U$27:U40)-1,COLUMNS($U$27:U40)-1)<>\"\",OFFSET(DE104_4!$U$27,ROWS($U$27:U40)-1,COLUMNS($U$27:U40)-1),\"\")","v":""},{"$f":"IF(OFFSET(DE104_4!$V$27,ROWS($V$27:V40)-1,COLUMNS($V$27:V40)-1)<>\"\",OFFSET(DE104_4!$V$27,ROWS($V$27:V40)-1,COLUMNS($V$27:V40)-1),\"\")","v":""},{"$f":"IF(OFFSET(DE104_4!$W$27,ROWS($W$27:W40)-1,COLUMNS($W$27:W40)-1)<>\"\",OFFSET(DE104_4!$W$27,ROWS($W$27:W40)-1,COLUMNS($W$27:W40)-1),\"\")","v":""}]
[{"$f":"IF(OFFSET(DE104_4!$C$27,ROWS($C$27:C41)-1,COLUMNS($C$27:C41)-1)<>\"\",OFFSET(DE104_4!$C$27,ROWS($C$27:C41)-1,COLUMNS($C$27:C41)-1),\"\")","v":""},{"$f":"IF(OFFSET(DE104_4!$D$27,ROWS($D$27:D41)-1,COLUMNS($D$27:D41)-1)<>\"\",OFFSET(DE104_4!$D$27,ROWS($D$27:D41)-1,COLUMNS($D$27:D41)-1),\"\")","v":""},{"$f":"IF(OFFSET(DE104_4!$E$27,ROWS($E$27:E41)-1,COLUMNS($E$27:E41)-1)<>\"\",OFFSET(DE104_4!$E$27,ROWS($E$27:E41)-1,COLUMNS($E$27:E41)-1),\"\")","v":""},{"$f":"IF(OFFSET(DE104_4!$F$27,ROWS($F$27:F41)-1,COLUMNS($F$27:F41)-1)<>\"\",OFFSET(DE104_4!$F$27,ROWS($F$27:F41)-1,COLUMNS($F$27:F41)-1),\"\")","v":""},{"$f":"IF(OFFSET(DE104_4!$G$27,ROWS($G$27:G41)-1,COLUMNS($G$27:G41)-1)<>\"\",OFFSET(DE104_4!$G$27,ROWS($G$27:G41)-1,COLUMNS($G$27:G41)-1),\"\")","v":""},{"$f":"IF(OFFSET(DE104_4!$H$27,ROWS($H$27:H41)-1,COLUMNS($H$27:H41)-1)<>\"\",OFFSET(DE104_4!$H$27,ROWS($H$27:H41)-1,COLUMNS($H$27:H41)-1),\"\")","v":""},{"$f":"IF(OFFSET(DE104_4!$I$27,ROWS($I$27:I41)-1,COLUMNS($I$27:I41)-1)<>\"\",OFFSET(DE104_4!$I$27,ROWS($I$27:I41)-1,COLUMNS($I$27:I41)-1),\"\")","v":""},{"$f":"IF(OFFSET(DE104_4!$J$27,ROWS($J$27:J41)-1,COLUMNS($J$27:J41)-1)<>\"\",OFFSET(DE104_4!$J$27,ROWS($J$27:J41)-1,COLUMNS($J$27:J41)-1),\"\")","v":""},{"$f":"IF(OFFSET(DE104_4!$K$27,ROWS($K$27:K41)-1,COLUMNS($K$27:K41)-1)<>\"\",OFFSET(DE104_4!$K$27,ROWS($K$27:K41)-1,COLUMNS($K$27:K41)-1),\"\")","v":""},{"$f":"IF(OFFSET(DE104_4!$L$27,ROWS($L$27:L41)-1,COLUMNS($L$27:L41)-1)<>\"\",OFFSET(DE104_4!$L$27,ROWS($L$27:L41)-1,COLUMNS($L$27:L41)-1),\"\")","v":""},{"$f":"IF(OFFSET(DE104_4!$M$27,ROWS($M$27:M41)-1,COLUMNS($M$27:M41)-1)<>\"\",OFFSET(DE104_4!$M$27,ROWS($M$27:M41)-1,COLUMNS($M$27:M41)-1),\"\")","v":""},{"$f":"IF(OFFSET(DE104_4!$N$27,ROWS($N$27:N41)-1,COLUMNS($N$27:N41)-1)<>\"\",OFFSET(DE104_4!$N$27,ROWS($N$27:N41)-1,COLUMNS($N$27:N41)-1),\"\")","v":""},{"$f":"IF(OFFSET(DE104_4!$O$27,ROWS($O$27:O41)-1,COLUMNS($O$27:O41)-1)<>\"\",OFFSET(DE104_4!$O$27,ROWS($O$27:O41)-1,COLUMNS($O$27:O41)-1),\"\")","v":""},{"$f":"IF(OFFSET(DE104_4!$P$27,ROWS($P$27:P41)-1,COLUMNS($P$27:P41)-1)<>\"\",OFFSET(DE104_4!$P$27,ROWS($P$27:P41)-1,COLUMNS($P$27:P41)-1),\"\")","v":""},{"$f":"IF(OFFSET(DE104_4!$Q$27,ROWS($Q$27:Q41)-1,COLUMNS($Q$27:Q41)-1)<>\"\",OFFSET(DE104_4!$Q$27,ROWS($Q$27:Q41)-1,COLUMNS($Q$27:Q41)-1),\"\")","v":""},{"$f":"IF(OFFSET(DE104_4!$R$27,ROWS($R$27:R41)-1,COLUMNS($R$27:R41)-1)<>\"\",OFFSET(DE104_4!$R$27,ROWS($R$27:R41)-1,COLUMNS($R$27:R41)-1),\"\")","v":""},{"$f":"IF(OFFSET(DE104_4!$S$27,ROWS($S$27:S41)-1,COLUMNS($S$27:S41)-1)<>\"\",OFFSET(DE104_4!$S$27,ROWS($S$27:S41)-1,COLUMNS($S$27:S41)-1),\"\")","v":""},{"$f":"IF(OFFSET(DE104_4!$T$27,ROWS($T$27:T41)-1,COLUMNS($T$27:T41)-1)<>\"\",OFFSET(DE104_4!$T$27,ROWS($T$27:T41)-1,COLUMNS($T$27:T41)-1),\"\")","v":""},{"$f":"IF(OFFSET(DE104_4!$U$27,ROWS($U$27:U41)-1,COLUMNS($U$27:U41)-1)<>\"\",OFFSET(DE104_4!$U$27,ROWS($U$27:U41)-1,COLUMNS($U$27:U41)-1),\"\")","v":""},{"$f":"IF(OFFSET(DE104_4!$V$27,ROWS($V$27:V41)-1,COLUMNS($V$27:V41)-1)<>\"\",OFFSET(DE104_4!$V$27,ROWS($V$27:V41)-1,COLUMNS($V$27:V41)-1),\"\")","v":""},{"$f":"IF(OFFSET(DE104_4!$W$27,ROWS($W$27:W41)-1,COLUMNS($W$27:W41)-1)<>\"\",OFFSET(DE104_4!$W$27,ROWS($W$27:W41)-1,COLUMNS($W$27:W41)-1),\"\")","v":""}]
[{"$f":"IF(OFFSET(DE104_4!$C$27,ROWS($C$27:C42)-1,COLUMNS($C$27:C42)-1)<>\"\",OFFSET(DE104_4!$C$27,ROWS($C$27:C42)-1,COLUMNS($C$27:C42)-1),\"\")","v":""},{"$f":"IF(OFFSET(DE104_4!$D$27,ROWS($D$27:D42)-1,COLUMNS($D$27:D42)-1)<>\"\",OFFSET(DE104_4!$D$27,ROWS($D$27:D42)-1,COLUMNS($D$27:D42)-1),\"\")","v":""},{"$f":"IF(OFFSET(DE104_4!$E$27,ROWS($E$27:E42)-1,COLUMNS($E$27:E42)-1)<>\"\",OFFSET(DE104_4!$E$27,ROWS($E$27:E42)-1,COLUMNS($E$27:E42)-1),\"\")","v":""},{"$f":"IF(OFFSET(DE104_4!$F$27,ROWS($F$27:F42)-1,COLUMNS($F$27:F42)-1)<>\"\",OFFSET(DE104_4!$F$27,ROWS($F$27:F42)-1,COLUMNS($F$27:F42)-1),\"\")","v":""},{"$f":"IF(OFFSET(DE104_4!$G$27,ROWS($G$27:G42)-1,COLUMNS($G$27:G42)-1)<>\"\",OFFSET(DE104_4!$G$27,ROWS($G$27:G42)-1,COLUMNS($G$27:G42)-1),\"\")","v":""},{"$f":"IF(OFFSET(DE104_4!$H$27,ROWS($H$27:H42)-1,COLUMNS($H$27:H42)-1)<>\"\",OFFSET(DE104_4!$H$27,ROWS($H$27:H42)-1,COLUMNS($H$27:H42)-1),\"\")","v":""},{"$f":"IF(OFFSET(DE104_4!$I$27,ROWS($I$27:I42)-1,COLUMNS($I$27:I42)-1)<>\"\",OFFSET(DE104_4!$I$27,ROWS($I$27:I42)-1,COLUMNS($I$27:I42)-1),\"\")","v":""},{"$f":"IF(OFFSET(DE104_4!$J$27,ROWS($J$27:J42)-1,COLUMNS($J$27:J42)-1)<>\"\",OFFSET(DE104_4!$J$27,ROWS($J$27:J42)-1,COLUMNS($J$27:J42)-1),\"\")","v":""},{"$f":"IF(OFFSET(DE104_4!$K$27,ROWS($K$27:K42)-1,COLUMNS($K$27:K42)-1)<>\"\",OFFSET(DE104_4!$K$27,ROWS($K$27:K42)-1,COLUMNS($K$27:K42)-1),\"\")","v":""},{"$f":"IF(OFFSET(DE104_4!$L$27,ROWS($L$27:L42)-1,COLUMNS($L$27:L42)-1)<>\"\",OFFSET(DE104_4!$L$27,ROWS($L$27:L42)-1,COLUMNS($L$27:L42)-1),\"\")","v":""},{"$f":"IF(OFFSET(DE104_4!$M$27,ROWS($M$27:M42)-1,COLUMNS($M$27:M42)-1)<>\"\",OFFSET(DE104_4!$M$27,ROWS($M$27:M42)-1,COLUMNS($M$27:M42)-1),\"\")","v":""},{"$f":"IF(OFFSET(DE104_4!$N$27,ROWS($N$27:N42)-1,COLUMNS($N$27:N42)-1)<>\"\",OFFSET(DE104_4!$N$27,ROWS($N$27:N42)-1,COLUMNS($N$27:N42)-1),\"\")","v":""},{"$f":"IF(OFFSET(DE104_4!$O$27,ROWS($O$27:O42)-1,COLUMNS($O$27:O42)-1)<>\"\",OFFSET(DE104_4!$O$27,ROWS($O$27:O42)-1,COLUMNS($O$27:O42)-1),\"\")","v":""},{"$f":"IF(OFFSET(DE104_4!$P$27,ROWS($P$27:P42)-1,COLUMNS($P$27:P42)-1)<>\"\",OFFSET(DE104_4!$P$27,ROWS($P$27:P42)-1,COLUMNS($P$27:P42)-1),\"\")","v":""},{"$f":"IF(OFFSET(DE104_4!$Q$27,ROWS($Q$27:Q42)-1,COLUMNS($Q$27:Q42)-1)<>\"\",OFFSET(DE104_4!$Q$27,ROWS($Q$27:Q42)-1,COLUMNS($Q$27:Q42)-1),\"\")","v":""},{"$f":"IF(OFFSET(DE104_4!$R$27,ROWS($R$27:R42)-1,COLUMNS($R$27:R42)-1)<>\"\",OFFSET(DE104_4!$R$27,ROWS($R$27:R42)-1,COLUMNS($R$27:R42)-1),\"\")","v":""},{"$f":"IF(OFFSET(DE104_4!$S$27,ROWS($S$27:S42)-1,COLUMNS($S$27:S42)-1)<>\"\",OFFSET(DE104_4!$S$27,ROWS($S$27:S42)-1,COLUMNS($S$27:S42)-1),\"\")","v":""},{"$f":"IF(OFFSET(DE104_4!$T$27,ROWS($T$27:T42)-1,COLUMNS($T$27:T42)-1)<>\"\",OFFSET(DE104_4!$T$27,ROWS($T$27:T42)-1,COLUMNS($T$27:T42)-1),\"\")","v":""},{"$f":"IF(OFFSET(DE104_4!$U$27,ROWS($U$27:U42)-1,COLUMNS($U$27:U42)-1)<>\"\",OFFSET(DE104_4!$U$27,ROWS($U$27:U42)-1,COLUMNS($U$27:U42)-1),\"\")","v":""},{"$f":"IF(OFFSET(DE104_4!$V$27,ROWS($V$27:V42)-1,COLUMNS($V$27:V42)-1)<>\"\",OFFSET(DE104_4!$V$27,ROWS($V$27:V42)-1,COLUMNS($V$27:V42)-1),\"\")","v":""},{"$f":"IF(OFFSET(DE104_4!$W$27,ROWS($W$27:W42)-1,COLUMNS($W$27:W42)-1)<>\"\",OFFSET(DE104_4!$W$27,ROWS($W$27:W42)-1,COLUMNS($W$27:W42)-1),\"\")","v":""}]
[{"$f":"IF(OFFSET(DE104_4!$C$27,ROWS($C$27:C43)-1,COLUMNS($C$27:C43)-1)<>\"\",OFFSET(DE104_4!$C$27,ROWS($C$27:C43)-1,COLUMNS($C$27:C43)-1),\"\")","v":""},{"$f":"IF(OFFSET(DE104_4!$D$27,ROWS($D$27:D43)-1,COLUMNS($D$27:D43)-1)<>\"\",OFFSET(DE104_4!$D$27,ROWS($D$27:D43)-1,COLUMNS($D$27:D43)-1),\"\")","v":""},{"$f":"IF(OFFSET(DE104_4!$E$27,ROWS($E$27:E43)-1,COLUMNS($E$27:E43)-1)<>\"\",OFFSET(DE104_4!$E$27,ROWS($E$27:E43)-1,COLUMNS($E$27:E43)-1),\"\")","v":""},{"$f":"IF(OFFSET(DE104_4!$F$27,ROWS($F$27:F43)-1,COLUMNS($F$27:F43)-1)<>\"\",OFFSET(DE104_4!$F$27,ROWS($F$27:F43)-1,COLUMNS($F$27:F43)-1),\"\")","v":""},{"$f":"IF(OFFSET(DE104_4!$G$27,ROWS($G$27:G43)-1,COLUMNS($G$27:G43)-1)<>\"\",OFFSET(DE104_4!$G$27,ROWS($G$27:G43)-1,COLUMNS($G$27:G43)-1),\"\")","v":""},{"$f":"IF(OFFSET(DE104_4!$H$27,ROWS($H$27:H43)-1,COLUMNS($H$27:H43)-1)<>\"\",OFFSET(DE104_4!$H$27,ROWS($H$27:H43)-1,COLUMNS($H$27:H43)-1),\"\")","v":""},{"$f":"IF(OFFSET(DE104_4!$I$27,ROWS($I$27:I43)-1,COLUMNS($I$27:I43)-1)<>\"\",OFFSET(DE104_4!$I$27,ROWS($I$27:I43)-1,COLUMNS($I$27:I43)-1),\"\")","v":""},{"$f":"IF(OFFSET(DE104_4!$J$27,ROWS($J$27:J43)-1,COLUMNS($J$27:J43)-1)<>\"\",OFFSET(DE104_4!$J$27,ROWS($J$27:J43)-1,COLUMNS($J$27:J43)-1),\"\")","v":""},{"$f":"IF(OFFSET(DE104_4!$K$27,ROWS($K$27:K43)-1,COLUMNS($K$27:K43)-1)<>\"\",OFFSET(DE104_4!$K$27,ROWS($K$27:K43)-1,COLUMNS($K$27:K43)-1),\"\")","v":""},{"$f":"IF(OFFSET(DE104_4!$L$27,ROWS($L$27:L43)-1,COLUMNS($L$27:L43)-1)<>\"\",OFFSET(DE104_4!$L$27,ROWS($L$27:L43)-1,COLUMNS($L$27:L43)-1),\"\")","v":""},{"$f":"IF(OFFSET(DE104_4!$M$27,ROWS($M$27:M43)-1,COLUMNS($M$27:M43)-1)<>\"\",OFFSET(DE104_4!$M$27,ROWS($M$27:M43)-1,COLUMNS($M$27:M43)-1),\"\")","v":""},{"$f":"IF(OFFSET(DE104_4!$N$27,ROWS($N$27:N43)-1,COLUMNS($N$27:N43)-1)<>\"\",OFFSET(DE104_4!$N$27,ROWS($N$27:N43)-1,COLUMNS($N$27:N43)-1),\"\")","v":""},{"$f":"IF(OFFSET(DE104_4!$O$27,ROWS($O$27:O43)-1,COLUMNS($O$27:O43)-1)<>\"\",OFFSET(DE104_4!$O$27,ROWS($O$27:O43)-1,COLUMNS($O$27:O43)-1),\"\")","v":""},{"$f":"IF(OFFSET(DE104_4!$P$27,ROWS($P$27:P43)-1,COLUMNS($P$27:P43)-1)<>\"\",OFFSET(DE104_4!$P$27,ROWS($P$27:P43)-1,COLUMNS($P$27:P43)-1),\"\")","v":""},{"$f":"IF(OFFSET(DE104_4!$Q$27,ROWS($Q$27:Q43)-1,COLUMNS($Q$27:Q43)-1)<>\"\",OFFSET(DE104_4!$Q$27,ROWS($Q$27:Q43)-1,COLUMNS($Q$27:Q43)-1),\"\")","v":""},{"$f":"IF(OFFSET(DE104_4!$R$27,ROWS($R$27:R43)-1,COLUMNS($R$27:R43)-1)<>\"\",OFFSET(DE104_4!$R$27,ROWS($R$27:R43)-1,COLUMNS($R$27:R43)-1),\"\")","v":""},{"$f":"IF(OFFSET(DE104_4!$S$27,ROWS($S$27:S43)-1,COLUMNS($S$27:S43)-1)<>\"\",OFFSET(DE104_4!$S$27,ROWS($S$27:S43)-1,COLUMNS($S$27:S43)-1),\"\")","v":""},{"$f":"IF(OFFSET(DE104_4!$T$27,ROWS($T$27:T43)-1,COLUMNS($T$27:T43)-1)<>\"\",OFFSET(DE104_4!$T$27,ROWS($T$27:T43)-1,COLUMNS($T$27:T43)-1),\"\")","v":""},{"$f":"IF(OFFSET(DE104_4!$U$27,ROWS($U$27:U43)-1,COLUMNS($U$27:U43)-1)<>\"\",OFFSET(DE104_4!$U$27,ROWS($U$27:U43)-1,COLUMNS($U$27:U43)-1),\"\")","v":""},{"$f":"IF(OFFSET(DE104_4!$V$27,ROWS($V$27:V43)-1,COLUMNS($V$27:V43)-1)<>\"\",OFFSET(DE104_4!$V$27,ROWS($V$27:V43)-1,COLUMNS($V$27:V43)-1),\"\")","v":""},{"$f":"IF(OFFSET(DE104_4!$W$27,ROWS($W$27:W43)-1,COLUMNS($W$27:W43)-1)<>\"\",OFFSET(DE104_4!$W$27,ROWS($W$27:W43)-1,COLUMNS($W$27:W43)-1),\"\")","v":""}]
[{"$f":"IF(OFFSET(DE104_4!$C$27,ROWS($C$27:C44)-1,COLUMNS($C$27:C44)-1)<>\"\",OFFSET(DE104_4!$C$27,ROWS($C$27:C44)-1,COLUMNS($C$27:C44)-1),\"\")","v":""},{"$f":"IF(OFFSET(DE104_4!$D$27,ROWS($D$27:D44)-1,COLUMNS($D$27:D44)-1)<>\"\",OFFSET(DE104_4!$D$27,ROWS($D$27:D44)-1,COLUMNS($D$27:D44)-1),\"\")","v":""},{"$f":"IF(OFFSET(DE104_4!$E$27,ROWS($E$27:E44)-1,COLUMNS($E$27:E44)-1)<>\"\",OFFSET(DE104_4!$E$27,ROWS($E$27:E44)-1,COLUMNS($E$27:E44)-1),\"\")","v":""},{"$f":"IF(OFFSET(DE104_4!$F$27,ROWS($F$27:F44)-1,COLUMNS($F$27:F44)-1)<>\"\",OFFSET(DE104_4!$F$27,ROWS($F$27:F44)-1,COLUMNS($F$27:F44)-1),\"\")","v":""},{"$f":"IF(OFFSET(DE104_4!$G$27,ROWS($G$27:G44)-1,COLUMNS($G$27:G44)-1)<>\"\",OFFSET(DE104_4!$G$27,ROWS($G$27:G44)-1,COLUMNS($G$27:G44)-1),\"\")","v":""},{"$f":"IF(OFFSET(DE104_4!$H$27,ROWS($H$27:H44)-1,COLUMNS($H$27:H44)-1)<>\"\",OFFSET(DE104_4!$H$27,ROWS($H$27:H44)-1,COLUMNS($H$27:H44)-1),\"\")","v":""},{"$f":"IF(OFFSET(DE104_4!$I$27,ROWS($I$27:I44)-1,COLUMNS($I$27:I44)-1)<>\"\",OFFSET(DE104_4!$I$27,ROWS($I$27:I44)-1,COLUMNS($I$27:I44)-1),\"\")","v":""},{"$f":"IF(OFFSET(DE104_4!$J$27,ROWS($J$27:J44)-1,COLUMNS($J$27:J44)-1)<>\"\",OFFSET(DE104_4!$J$27,ROWS($J$27:J44)-1,COLUMNS($J$27:J44)-1),\"\")","v":""},{"$f":"IF(OFFSET(DE104_4!$K$27,ROWS($K$27:K44)-1,COLUMNS($K$27:K44)-1)<>\"\",OFFSET(DE104_4!$K$27,ROWS($K$27:K44)-1,COLUMNS($K$27:K44)-1),\"\")","v":""},{"$f":"IF(OFFSET(DE104_4!$L$27,ROWS($L$27:L44)-1,COLUMNS($L$27:L44)-1)<>\"\",OFFSET(DE104_4!$L$27,ROWS($L$27:L44)-1,COLUMNS($L$27:L44)-1),\"\")","v":""},{"$f":"IF(OFFSET(DE104_4!$M$27,ROWS($M$27:M44)-1,COLUMNS($M$27:M44)-1)<>\"\",OFFSET(DE104_4!$M$27,ROWS($M$27:M44)-1,COLUMNS($M$27:M44)-1),\"\")","v":""},{"$f":"IF(OFFSET(DE104_4!$N$27,ROWS($N$27:N44)-1,COLUMNS($N$27:N44)-1)<>\"\",OFFSET(DE104_4!$N$27,ROWS($N$27:N44)-1,COLUMNS($N$27:N44)-1),\"\")","v":""},{"$f":"IF(OFFSET(DE104_4!$O$27,ROWS($O$27:O44)-1,COLUMNS($O$27:O44)-1)<>\"\",OFFSET(DE104_4!$O$27,ROWS($O$27:O44)-1,COLUMNS($O$27:O44)-1),\"\")","v":""},{"$f":"IF(OFFSET(DE104_4!$P$27,ROWS($P$27:P44)-1,COLUMNS($P$27:P44)-1)<>\"\",OFFSET(DE104_4!$P$27,ROWS($P$27:P44)-1,COLUMNS($P$27:P44)-1),\"\")","v":""},{"$f":"IF(OFFSET(DE104_4!$Q$27,ROWS($Q$27:Q44)-1,COLUMNS($Q$27:Q44)-1)<>\"\",OFFSET(DE104_4!$Q$27,ROWS($Q$27:Q44)-1,COLUMNS($Q$27:Q44)-1),\"\")","v":""},{"$f":"IF(OFFSET(DE104_4!$R$27,ROWS($R$27:R44)-1,COLUMNS($R$27:R44)-1)<>\"\",OFFSET(DE104_4!$R$27,ROWS($R$27:R44)-1,COLUMNS($R$27:R44)-1),\"\")","v":""},{"$f":"IF(OFFSET(DE104_4!$S$27,ROWS($S$27:S44)-1,COLUMNS($S$27:S44)-1)<>\"\",OFFSET(DE104_4!$S$27,ROWS($S$27:S44)-1,COLUMNS($S$27:S44)-1),\"\")","v":""},{"$f":"IF(OFFSET(DE104_4!$T$27,ROWS($T$27:T44)-1,COLUMNS($T$27:T44)-1)<>\"\",OFFSET(DE104_4!$T$27,ROWS($T$27:T44)-1,COLUMNS($T$27:T44)-1),\"\")","v":""},{"$f":"IF(OFFSET(DE104_4!$U$27,ROWS($U$27:U44)-1,COLUMNS($U$27:U44)-1)<>\"\",OFFSET(DE104_4!$U$27,ROWS($U$27:U44)-1,COLUMNS($U$27:U44)-1),\"\")","v":""},{"$f":"IF(OFFSET(DE104_4!$V$27,ROWS($V$27:V44)-1,COLUMNS($V$27:V44)-1)<>\"\",OFFSET(DE104_4!$V$27,ROWS($V$27:V44)-1,COLUMNS($V$27:V44)-1),\"\")","v":""},{"$f":"IF(OFFSET(DE104_4!$W$27,ROWS($W$27:W44)-1,COLUMNS($W$27:W44)-1)<>\"\",OFFSET(DE104_4!$W$27,ROWS($W$27:W44)-1,COLUMNS($W$27:W44)-1),\"\")","v":""}]
[{"$f":"IF(OFFSET(DE104_4!$C$27,ROWS($C$27:C45)-1,COLUMNS($C$27:C45)-1)<>\"\",OFFSET(DE104_4!$C$27,ROWS($C$27:C45)-1,COLUMNS($C$27:C45)-1),\"\")","v":""},{"$f":"IF(OFFSET(DE104_4!$D$27,ROWS($D$27:D45)-1,COLUMNS($D$27:D45)-1)<>\"\",OFFSET(DE104_4!$D$27,ROWS($D$27:D45)-1,COLUMNS($D$27:D45)-1),\"\")","v":""},{"$f":"IF(OFFSET(DE104_4!$E$27,ROWS($E$27:E45)-1,COLUMNS($E$27:E45)-1)<>\"\",OFFSET(DE104_4!$E$27,ROWS($E$27:E45)-1,COLUMNS($E$27:E45)-1),\"\")","v":""},{"$f":"IF(OFFSET(DE104_4!$F$27,ROWS($F$27:F45)-1,COLUMNS($F$27:F45)-1)<>\"\",OFFSET(DE104_4!$F$27,ROWS($F$27:F45)-1,COLUMNS($F$27:F45)-1),\"\")","v":""},{"$f":"IF(OFFSET(DE104_4!$G$27,ROWS($G$27:G45)-1,COLUMNS($G$27:G45)-1)<>\"\",OFFSET(DE104_4!$G$27,ROWS($G$27:G45)-1,COLUMNS($G$27:G45)-1),\"\")","v":""},{"$f":"IF(OFFSET(DE104_4!$H$27,ROWS($H$27:H45)-1,COLUMNS($H$27:H45)-1)<>\"\",OFFSET(DE104_4!$H$27,ROWS($H$27:H45)-1,COLUMNS($H$27:H45)-1),\"\")","v":""},{"$f":"IF(OFFSET(DE104_4!$I$27,ROWS($I$27:I45)-1,COLUMNS($I$27:I45)-1)<>\"\",OFFSET(DE104_4!$I$27,ROWS($I$27:I45)-1,COLUMNS($I$27:I45)-1),\"\")","v":""},{"$f":"IF(OFFSET(DE104_4!$J$27,ROWS($J$27:J45)-1,COLUMNS($J$27:J45)-1)<>\"\",OFFSET(DE104_4!$J$27,ROWS($J$27:J45)-1,COLUMNS($J$27:J45)-1),\"\")","v":""},{"$f":"IF(OFFSET(DE104_4!$K$27,ROWS($K$27:K45)-1,COLUMNS($K$27:K45)-1)<>\"\",OFFSET(DE104_4!$K$27,ROWS($K$27:K45)-1,COLUMNS($K$27:K45)-1),\"\")","v":""},{"$f":"IF(OFFSET(DE104_4!$L$27,ROWS($L$27:L45)-1,COLUMNS($L$27:L45)-1)<>\"\",OFFSET(DE104_4!$L$27,ROWS($L$27:L45)-1,COLUMNS($L$27:L45)-1),\"\")","v":""},{"$f":"IF(OFFSET(DE104_4!$M$27,ROWS($M$27:M45)-1,COLUMNS($M$27:M45)-1)<>\"\",OFFSET(DE104_4!$M$27,ROWS($M$27:M45)-1,COLUMNS($M$27:M45)-1),\"\")","v":""},{"$f":"IF(OFFSET(DE104_4!$N$27,ROWS($N$27:N45)-1,COLUMNS($N$27:N45)-1)<>\"\",OFFSET(DE104_4!$N$27,ROWS($N$27:N45)-1,COLUMNS($N$27:N45)-1),\"\")","v":""},{"$f":"IF(OFFSET(DE104_4!$O$27,ROWS($O$27:O45)-1,COLUMNS($O$27:O45)-1)<>\"\",OFFSET(DE104_4!$O$27,ROWS($O$27:O45)-1,COLUMNS($O$27:O45)-1),\"\")","v":""},{"$f":"IF(OFFSET(DE104_4!$P$27,ROWS($P$27:P45)-1,COLUMNS($P$27:P45)-1)<>\"\",OFFSET(DE104_4!$P$27,ROWS($P$27:P45)-1,COLUMNS($P$27:P45)-1),\"\")","v":""},{"$f":"IF(OFFSET(DE104_4!$Q$27,ROWS($Q$27:Q45)-1,COLUMNS($Q$27:Q45)-1)<>\"\",OFFSET(DE104_4!$Q$27,ROWS($Q$27:Q45)-1,COLUMNS($Q$27:Q45)-1),\"\")","v":""},{"$f":"IF(OFFSET(DE104_4!$R$27,ROWS($R$27:R45)-1,COLUMNS($R$27:R45)-1)<>\"\",OFFSET(DE104_4!$R$27,ROWS($R$27:R45)-1,COLUMNS($R$27:R45)-1),\"\")","v":""},{"$f":"IF(OFFSET(DE104_4!$S$27,ROWS($S$27:S45)-1,COLUMNS($S$27:S45)-1)<>\"\",OFFSET(DE104_4!$S$27,ROWS($S$27:S45)-1,COLUMNS($S$27:S45)-1),\"\")","v":""},{"$f":"IF(OFFSET(DE104_4!$T$27,ROWS($T$27:T45)-1,COLUMNS($T$27:T45)-1)<>\"\",OFFSET(DE104_4!$T$27,ROWS($T$27:T45)-1,COLUMNS($T$27:T45)-1),\"\")","v":""},{"$f":"IF(OFFSET(DE104_4!$U$27,ROWS($U$27:U45)-1,COLUMNS($U$27:U45)-1)<>\"\",OFFSET(DE104_4!$U$27,ROWS($U$27:U45)-1,COLUMNS($U$27:U45)-1),\"\")","v":""},{"$f":"IF(OFFSET(DE104_4!$V$27,ROWS($V$27:V45)-1,COLUMNS($V$27:V45)-1)<>\"\",OFFSET(DE104_4!$V$27,ROWS($V$27:V45)-1,COLUMNS($V$27:V45)-1),\"\")","v":""},{"$f":"IF(OFFSET(DE104_4!$W$27,ROWS($W$27:W45)-1,COLUMNS($W$27:W45)-1)<>\"\",OFFSET(DE104_4!$W$27,ROWS($W$27:W45)-1,COLUMNS($W$27:W45)-1),\"\")","v":""}]
[{"$f":"IF(OFFSET(DE104_4!$C$27,ROWS($C$27:C46)-1,COLUMNS($C$27:C46)-1)<>\"\",OFFSET(DE104_4!$C$27,ROWS($C$27:C46)-1,COLUMNS($C$27:C46)-1),\"\")","v":""},{"$f":"IF(OFFSET(DE104_4!$D$27,ROWS($D$27:D46)-1,COLUMNS($D$27:D46)-1)<>\"\",OFFSET(DE104_4!$D$27,ROWS($D$27:D46)-1,COLUMNS($D$27:D46)-1),\"\")","v":""},{"$f":"IF(OFFSET(DE104_4!$E$27,ROWS($E$27:E46)-1,COLUMNS($E$27:E46)-1)<>\"\",OFFSET(DE104_4!$E$27,ROWS($E$27:E46)-1,COLUMNS($E$27:E46)-1),\"\")","v":""},{"$f":"IF(OFFSET(DE104_4!$F$27,ROWS($F$27:F46)-1,COLUMNS($F$27:F46)-1)<>\"\",OFFSET(DE104_4!$F$27,ROWS($F$27:F46)-1,COLUMNS($F$27:F46)-1),\"\")","v":""},{"$f":"IF(OFFSET(DE104_4!$G$27,ROWS($G$27:G46)-1,COLUMNS($G$27:G46)-1)<>\"\",OFFSET(DE104_4!$G$27,ROWS($G$27:G46)-1,COLUMNS($G$27:G46)-1),\"\")","v":""},{"$f":"IF(OFFSET(DE104_4!$H$27,ROWS($H$27:H46)-1,COLUMNS($H$27:H46)-1)<>\"\",OFFSET(DE104_4!$H$27,ROWS($H$27:H46)-1,COLUMNS($H$27:H46)-1),\"\")","v":""},{"$f":"IF(OFFSET(DE104_4!$I$27,ROWS($I$27:I46)-1,COLUMNS($I$27:I46)-1)<>\"\",OFFSET(DE104_4!$I$27,ROWS($I$27:I46)-1,COLUMNS($I$27:I46)-1),\"\")","v":""},{"$f":"IF(OFFSET(DE104_4!$J$27,ROWS($J$27:J46)-1,COLUMNS($J$27:J46)-1)<>\"\",OFFSET(DE104_4!$J$27,ROWS($J$27:J46)-1,COLUMNS($J$27:J46)-1),\"\")","v":""},{"$f":"IF(OFFSET(DE104_4!$K$27,ROWS($K$27:K46)-1,COLUMNS($K$27:K46)-1)<>\"\",OFFSET(DE104_4!$K$27,ROWS($K$27:K46)-1,COLUMNS($K$27:K46)-1),\"\")","v":""},{"$f":"IF(OFFSET(DE104_4!$L$27,ROWS($L$27:L46)-1,COLUMNS($L$27:L46)-1)<>\"\",OFFSET(DE104_4!$L$27,ROWS($L$27:L46)-1,COLUMNS($L$27:L46)-1),\"\")","v":""},{"$f":"IF(OFFSET(DE104_4!$M$27,ROWS($M$27:M46)-1,COLUMNS($M$27:M46)-1)<>\"\",OFFSET(DE104_4!$M$27,ROWS($M$27:M46)-1,COLUMNS($M$27:M46)-1),\"\")","v":""},{"$f":"IF(OFFSET(DE104_4!$N$27,ROWS($N$27:N46)-1,COLUMNS($N$27:N46)-1)<>\"\",OFFSET(DE104_4!$N$27,ROWS($N$27:N46)-1,COLUMNS($N$27:N46)-1),\"\")","v":""},{"$f":"IF(OFFSET(DE104_4!$O$27,ROWS($O$27:O46)-1,COLUMNS($O$27:O46)-1)<>\"\",OFFSET(DE104_4!$O$27,ROWS($O$27:O46)-1,COLUMNS($O$27:O46)-1),\"\")","v":""},{"$f":"IF(OFFSET(DE104_4!$P$27,ROWS($P$27:P46)-1,COLUMNS($P$27:P46)-1)<>\"\",OFFSET(DE104_4!$P$27,ROWS($P$27:P46)-1,COLUMNS($P$27:P46)-1),\"\")","v":""},{"$f":"IF(OFFSET(DE104_4!$Q$27,ROWS($Q$27:Q46)-1,COLUMNS($Q$27:Q46)-1)<>\"\",OFFSET(DE104_4!$Q$27,ROWS($Q$27:Q46)-1,COLUMNS($Q$27:Q46)-1),\"\")","v":""},{"$f":"IF(OFFSET(DE104_4!$R$27,ROWS($R$27:R46)-1,COLUMNS($R$27:R46)-1)<>\"\",OFFSET(DE104_4!$R$27,ROWS($R$27:R46)-1,COLUMNS($R$27:R46)-1),\"\")","v":""},{"$f":"IF(OFFSET(DE104_4!$S$27,ROWS($S$27:S46)-1,COLUMNS($S$27:S46)-1)<>\"\",OFFSET(DE104_4!$S$27,ROWS($S$27:S46)-1,COLUMNS($S$27:S46)-1),\"\")","v":""},{"$f":"IF(OFFSET(DE104_4!$T$27,ROWS($T$27:T46)-1,COLUMNS($T$27:T46)-1)<>\"\",OFFSET(DE104_4!$T$27,ROWS($T$27:T46)-1,COLUMNS($T$27:T46)-1),\"\")","v":""},{"$f":"IF(OFFSET(DE104_4!$U$27,ROWS($U$27:U46)-1,COLUMNS($U$27:U46)-1)<>\"\",OFFSET(DE104_4!$U$27,ROWS($U$27:U46)-1,COLUMNS($U$27:U46)-1),\"\")","v":""},{"$f":"IF(OFFSET(DE104_4!$V$27,ROWS($V$27:V46)-1,COLUMNS($V$27:V46)-1)<>\"\",OFFSET(DE104_4!$V$27,ROWS($V$27:V46)-1,COLUMNS($V$27:V46)-1),\"\")","v":""},{"$f":"IF(OFFSET(DE104_4!$W$27,ROWS($W$27:W46)-1,COLUMNS($W$27:W46)-1)<>\"\",OFFSET(DE104_4!$W$27,ROWS($W$27:W46)-1,COLUMNS($W$27:W46)-1),\"\")","v":""}]
[{"$f":"IF(OFFSET(DE104_4!$C$27,ROWS($C$27:C47)-1,COLUMNS($C$27:C47)-1)<>\"\",OFFSET(DE104_4!$C$27,ROWS($C$27:C47)-1,COLUMNS($C$27:C47)-1),\"\")","v":""},{"$f":"IF(OFFSET(DE104_4!$D$27,ROWS($D$27:D47)-1,COLUMNS($D$27:D47)-1)<>\"\",OFFSET(DE104_4!$D$27,ROWS($D$27:D47)-1,COLUMNS($D$27:D47)-1),\"\")","v":""},{"$f":"IF(OFFSET(DE104_4!$E$27,ROWS($E$27:E47)-1,COLUMNS($E$27:E47)-1)<>\"\",OFFSET(DE104_4!$E$27,ROWS($E$27:E47)-1,COLUMNS($E$27:E47)-1),\"\")","v":""},{"$f":"IF(OFFSET(DE104_4!$F$27,ROWS($F$27:F47)-1,COLUMNS($F$27:F47)-1)<>\"\",OFFSET(DE104_4!$F$27,ROWS($F$27:F47)-1,COLUMNS($F$27:F47)-1),\"\")","v":""},{"$f":"IF(OFFSET(DE104_4!$G$27,ROWS($G$27:G47)-1,COLUMNS($G$27:G47)-1)<>\"\",OFFSET(DE104_4!$G$27,ROWS($G$27:G47)-1,COLUMNS($G$27:G47)-1),\"\")","v":""},{"$f":"IF(OFFSET(DE104_4!$H$27,ROWS($H$27:H47)-1,COLUMNS($H$27:H47)-1)<>\"\",OFFSET(DE104_4!$H$27,ROWS($H$27:H47)-1,COLUMNS($H$27:H47)-1),\"\")","v":""},{"$f":"IF(OFFSET(DE104_4!$I$27,ROWS($I$27:I47)-1,COLUMNS($I$27:I47)-1)<>\"\",OFFSET(DE104_4!$I$27,ROWS($I$27:I47)-1,COLUMNS($I$27:I47)-1),\"\")","v":""},{"$f":"IF(OFFSET(DE104_4!$J$27,ROWS($J$27:J47)-1,COLUMNS($J$27:J47)-1)<>\"\",OFFSET(DE104_4!$J$27,ROWS($J$27:J47)-1,COLUMNS($J$27:J47)-1),\"\")","v":""},{"$f":"IF(OFFSET(DE104_4!$K$27,ROWS($K$27:K47)-1,COLUMNS($K$27:K47)-1)<>\"\",OFFSET(DE104_4!$K$27,ROWS($K$27:K47)-1,COLUMNS($K$27:K47)-1),\"\")","v":""},{"$f":"IF(OFFSET(DE104_4!$L$27,ROWS($L$27:L47)-1,COLUMNS($L$27:L47)-1)<>\"\",OFFSET(DE104_4!$L$27,ROWS($L$27:L47)-1,COLUMNS($L$27:L47)-1),\"\")","v":""},{"$f":"IF(OFFSET(DE104_4!$M$27,ROWS($M$27:M47)-1,COLUMNS($M$27:M47)-1)<>\"\",OFFSET(DE104_4!$M$27,ROWS($M$27:M47)-1,COLUMNS($M$27:M47)-1),\"\")","v":""},{"$f":"IF(OFFSET(DE104_4!$N$27,ROWS($N$27:N47)-1,COLUMNS($N$27:N47)-1)<>\"\",OFFSET(DE104_4!$N$27,ROWS($N$27:N47)-1,COLUMNS($N$27:N47)-1),\"\")","v":""},{"$f":"IF(OFFSET(DE104_4!$O$27,ROWS($O$27:O47)-1,COLUMNS($O$27:O47)-1)<>\"\",OFFSET(DE104_4!$O$27,ROWS($O$27:O47)-1,COLUMNS($O$27:O47)-1),\"\")","v":""},{"$f":"IF(OFFSET(DE104_4!$P$27,ROWS($P$27:P47)-1,COLUMNS($P$27:P47)-1)<>\"\",OFFSET(DE104_4!$P$27,ROWS($P$27:P47)-1,COLUMNS($P$27:P47)-1),\"\")","v":""},{"$f":"IF(OFFSET(DE104_4!$Q$27,ROWS($Q$27:Q47)-1,COLUMNS($Q$27:Q47)-1)<>\"\",OFFSET(DE104_4!$Q$27,ROWS($Q$27:Q47)-1,COLUMNS($Q$27:Q47)-1),\"\")","v":""},{"$f":"IF(OFFSET(DE104_4!$R$27,ROWS($R$27:R47)-1,COLUMNS($R$27:R47)-1)<>\"\",OFFSET(DE104_4!$R$27,ROWS($R$27:R47)-1,COLUMNS($R$27:R47)-1),\"\")","v":""},{"$f":"IF(OFFSET(DE104_4!$S$27,ROWS($S$27:S47)-1,COLUMNS($S$27:S47)-1)<>\"\",OFFSET(DE104_4!$S$27,ROWS($S$27:S47)-1,COLUMNS($S$27:S47)-1),\"\")","v":""},{"$f":"IF(OFFSET(DE104_4!$T$27,ROWS($T$27:T47)-1,COLUMNS($T$27:T47)-1)<>\"\",OFFSET(DE104_4!$T$27,ROWS($T$27:T47)-1,COLUMNS($T$27:T47)-1),\"\")","v":""},{"$f":"IF(OFFSET(DE104_4!$U$27,ROWS($U$27:U47)-1,COLUMNS($U$27:U47)-1)<>\"\",OFFSET(DE104_4!$U$27,ROWS($U$27:U47)-1,COLUMNS($U$27:U47)-1),\"\")","v":""},{"$f":"IF(OFFSET(DE104_4!$V$27,ROWS($V$27:V47)-1,COLUMNS($V$27:V47)-1)<>\"\",OFFSET(DE104_4!$V$27,ROWS($V$27:V47)-1,COLUMNS($V$27:V47)-1),\"\")","v":""},{"$f":"IF(OFFSET(DE104_4!$W$27,ROWS($W$27:W47)-1,COLUMNS($W$27:W47)-1)<>\"\",OFFSET(DE104_4!$W$27,ROWS($W$27:W47)-1,COLUMNS($W$27:W47)-1),\"\")","v":""}]
[{"$f":"IF(OFFSET(DE104_4!$C$27,ROWS($C$27:C48)-1,COLUMNS($C$27:C48)-1)<>\"\",OFFSET(DE104_4!$C$27,ROWS($C$27:C48)-1,COLUMNS($C$27:C48)-1),\"\")","v":""},{"$f":"IF(OFFSET(DE104_4!$D$27,ROWS($D$27:D48)-1,COLUMNS($D$27:D48)-1)<>\"\",OFFSET(DE104_4!$D$27,ROWS($D$27:D48)-1,COLUMNS($D$27:D48)-1),\"\")","v":""},{"$f":"IF(OFFSET(DE104_4!$E$27,ROWS($E$27:E48)-1,COLUMNS($E$27:E48)-1)<>\"\",OFFSET(DE104_4!$E$27,ROWS($E$27:E48)-1,COLUMNS($E$27:E48)-1),\"\")","v":""},{"$f":"IF(OFFSET(DE104_4!$F$27,ROWS($F$27:F48)-1,COLUMNS($F$27:F48)-1)<>\"\",OFFSET(DE104_4!$F$27,ROWS($F$27:F48)-1,COLUMNS($F$27:F48)-1),\"\")","v":""},{"$f":"IF(OFFSET(DE104_4!$G$27,ROWS($G$27:G48)-1,COLUMNS($G$27:G48)-1)<>\"\",OFFSET(DE104_4!$G$27,ROWS($G$27:G48)-1,COLUMNS($G$27:G48)-1),\"\")","v":""},{"$f":"IF(OFFSET(DE104_4!$H$27,ROWS($H$27:H48)-1,COLUMNS($H$27:H48)-1)<>\"\",OFFSET(DE104_4!$H$27,ROWS($H$27:H48)-1,COLUMNS($H$27:H48)-1),\"\")","v":""},{"$f":"IF(OFFSET(DE104_4!$I$27,ROWS($I$27:I48)-1,COLUMNS($I$27:I48)-1)<>\"\",OFFSET(DE104_4!$I$27,ROWS($I$27:I48)-1,COLUMNS($I$27:I48)-1),\"\")","v":""},{"$f":"IF(OFFSET(DE104_4!$J$27,ROWS($J$27:J48)-1,COLUMNS($J$27:J48)-1)<>\"\",OFFSET(DE104_4!$J$27,ROWS($J$27:J48)-1,COLUMNS($J$27:J48)-1),\"\")","v":""},{"$f":"IF(OFFSET(DE104_4!$K$27,ROWS($K$27:K48)-1,COLUMNS($K$27:K48)-1)<>\"\",OFFSET(DE104_4!$K$27,ROWS($K$27:K48)-1,COLUMNS($K$27:K48)-1),\"\")","v":""},{"$f":"IF(OFFSET(DE104_4!$L$27,ROWS($L$27:L48)-1,COLUMNS($L$27:L48)-1)<>\"\",OFFSET(DE104_4!$L$27,ROWS($L$27:L48)-1,COLUMNS($L$27:L48)-1),\"\")","v":""},{"$f":"IF(OFFSET(DE104_4!$M$27,ROWS($M$27:M48)-1,COLUMNS($M$27:M48)-1)<>\"\",OFFSET(DE104_4!$M$27,ROWS($M$27:M48)-1,COLUMNS($M$27:M48)-1),\"\")","v":""},{"$f":"IF(OFFSET(DE104_4!$N$27,ROWS($N$27:N48)-1,COLUMNS($N$27:N48)-1)<>\"\",OFFSET(DE104_4!$N$27,ROWS($N$27:N48)-1,COLUMNS($N$27:N48)-1),\"\")","v":""},{"$f":"IF(OFFSET(DE104_4!$O$27,ROWS($O$27:O48)-1,COLUMNS($O$27:O48)-1)<>\"\",OFFSET(DE104_4!$O$27,ROWS($O$27:O48)-1,COLUMNS($O$27:O48)-1),\"\")","v":""},{"$f":"IF(OFFSET(DE104_4!$P$27,ROWS($P$27:P48)-1,COLUMNS($P$27:P48)-1)<>\"\",OFFSET(DE104_4!$P$27,ROWS($P$27:P48)-1,COLUMNS($P$27:P48)-1),\"\")","v":""},{"$f":"IF(OFFSET(DE104_4!$Q$27,ROWS($Q$27:Q48)-1,COLUMNS($Q$27:Q48)-1)<>\"\",OFFSET(DE104_4!$Q$27,ROWS($Q$27:Q48)-1,COLUMNS($Q$27:Q48)-1),\"\")","v":""},{"$f":"IF(OFFSET(DE104_4!$R$27,ROWS($R$27:R48)-1,COLUMNS($R$27:R48)-1)<>\"\",OFFSET(DE104_4!$R$27,ROWS($R$27:R48)-1,COLUMNS($R$27:R48)-1),\"\")","v":""},{"$f":"IF(OFFSET(DE104_4!$S$27,ROWS($S$27:S48)-1,COLUMNS($S$27:S48)-1)<>\"\",OFFSET(DE104_4!$S$27,ROWS($S$27:S48)-1,COLUMNS($S$27:S48)-1),\"\")","v":""},{"$f":"IF(OFFSET(DE104_4!$T$27,ROWS($T$27:T48)-1,COLUMNS($T$27:T48)-1)<>\"\",OFFSET(DE104_4!$T$27,ROWS($T$27:T48)-1,COLUMNS($T$27:T48)-1),\"\")","v":""},{"$f":"IF(OFFSET(DE104_4!$U$27,ROWS($U$27:U48)-1,COLUMNS($U$27:U48)-1)<>\"\",OFFSET(DE104_4!$U$27,ROWS($U$27:U48)-1,COLUMNS($U$27:U48)-1),\"\")","v":""},{"$f":"IF(OFFSET(DE104_4!$V$27,ROWS($V$27:V48)-1,COLUMNS($V$27:V48)-1)<>\"\",OFFSET(DE104_4!$V$27,ROWS($V$27:V48)-1,COLUMNS($V$27:V48)-1),\"\")","v":""},{"$f":"IF(OFFSET(DE104_4!$W$27,ROWS($W$27:W48)-1,COLUMNS($W$27:W48)-1)<>\"\",OFFSET(DE104_4!$W$27,ROWS($W$27:W48)-1,COLUMNS($W$27:W48)-1),\"\")","v":""}]
[{"$f":"IF(OFFSET(DE104_4!$C$27,ROWS($C$27:C49)-1,COLUMNS($C$27:C49)-1)<>\"\",OFFSET(DE104_4!$C$27,ROWS($C$27:C49)-1,COLUMNS($C$27:C49)-1),\"\")","v":""},{"$f":"IF(OFFSET(DE104_4!$D$27,ROWS($D$27:D49)-1,COLUMNS($D$27:D49)-1)<>\"\",OFFSET(DE104_4!$D$27,ROWS($D$27:D49)-1,COLUMNS($D$27:D49)-1),\"\")","v":""},{"$f":"IF(OFFSET(DE104_4!$E$27,ROWS($E$27:E49)-1,COLUMNS($E$27:E49)-1)<>\"\",OFFSET(DE104_4!$E$27,ROWS($E$27:E49)-1,COLUMNS($E$27:E49)-1),\"\")","v":""},{"$f":"IF(OFFSET(DE104_4!$F$27,ROWS($F$27:F49)-1,COLUMNS($F$27:F49)-1)<>\"\",OFFSET(DE104_4!$F$27,ROWS($F$27:F49)-1,COLUMNS($F$27:F49)-1),\"\")","v":""},{"$f":"IF(OFFSET(DE104_4!$G$27,ROWS($G$27:G49)-1,COLUMNS($G$27:G49)-1)<>\"\",OFFSET(DE104_4!$G$27,ROWS($G$27:G49)-1,COLUMNS($G$27:G49)-1),\"\")","v":""},{"$f":"IF(OFFSET(DE104_4!$H$27,ROWS($H$27:H49)-1,COLUMNS($H$27:H49)-1)<>\"\",OFFSET(DE104_4!$H$27,ROWS($H$27:H49)-1,COLUMNS($H$27:H49)-1),\"\")","v":""},{"$f":"IF(OFFSET(DE104_4!$I$27,ROWS($I$27:I49)-1,COLUMNS($I$27:I49)-1)<>\"\",OFFSET(DE104_4!$I$27,ROWS($I$27:I49)-1,COLUMNS($I$27:I49)-1),\"\")","v":""},{"$f":"IF(OFFSET(DE104_4!$J$27,ROWS($J$27:J49)-1,COLUMNS($J$27:J49)-1)<>\"\",OFFSET(DE104_4!$J$27,ROWS($J$27:J49)-1,COLUMNS($J$27:J49)-1),\"\")","v":""},{"$f":"IF(OFFSET(DE104_4!$K$27,ROWS($K$27:K49)-1,COLUMNS($K$27:K49)-1)<>\"\",OFFSET(DE104_4!$K$27,ROWS($K$27:K49)-1,COLUMNS($K$27:K49)-1),\"\")","v":""},{"$f":"IF(OFFSET(DE104_4!$L$27,ROWS($L$27:L49)-1,COLUMNS($L$27:L49)-1)<>\"\",OFFSET(DE104_4!$L$27,ROWS($L$27:L49)-1,COLUMNS($L$27:L49)-1),\"\")","v":""},{"$f":"IF(OFFSET(DE104_4!$M$27,ROWS($M$27:M49)-1,COLUMNS($M$27:M49)-1)<>\"\",OFFSET(DE104_4!$M$27,ROWS($M$27:M49)-1,COLUMNS($M$27:M49)-1),\"\")","v":""},{"$f":"IF(OFFSET(DE104_4!$N$27,ROWS($N$27:N49)-1,COLUMNS($N$27:N49)-1)<>\"\",OFFSET(DE104_4!$N$27,ROWS($N$27:N49)-1,COLUMNS($N$27:N49)-1),\"\")","v":""},{"$f":"IF(OFFSET(DE104_4!$O$27,ROWS($O$27:O49)-1,COLUMNS($O$27:O49)-1)<>\"\",OFFSET(DE104_4!$O$27,ROWS($O$27:O49)-1,COLUMNS($O$27:O49)-1),\"\")","v":""},{"$f":"IF(OFFSET(DE104_4!$P$27,ROWS($P$27:P49)-1,COLUMNS($P$27:P49)-1)<>\"\",OFFSET(DE104_4!$P$27,ROWS($P$27:P49)-1,COLUMNS($P$27:P49)-1),\"\")","v":""},{"$f":"IF(OFFSET(DE104_4!$Q$27,ROWS($Q$27:Q49)-1,COLUMNS($Q$27:Q49)-1)<>\"\",OFFSET(DE104_4!$Q$27,ROWS($Q$27:Q49)-1,COLUMNS($Q$27:Q49)-1),\"\")","v":""},{"$f":"IF(OFFSET(DE104_4!$R$27,ROWS($R$27:R49)-1,COLUMNS($R$27:R49)-1)<>\"\",OFFSET(DE104_4!$R$27,ROWS($R$27:R49)-1,COLUMNS($R$27:R49)-1),\"\")","v":""},{"$f":"IF(OFFSET(DE104_4!$S$27,ROWS($S$27:S49)-1,COLUMNS($S$27:S49)-1)<>\"\",OFFSET(DE104_4!$S$27,ROWS($S$27:S49)-1,COLUMNS($S$27:S49)-1),\"\")","v":""},{"$f":"IF(OFFSET(DE104_4!$T$27,ROWS($T$27:T49)-1,COLUMNS($T$27:T49)-1)<>\"\",OFFSET(DE104_4!$T$27,ROWS($T$27:T49)-1,COLUMNS($T$27:T49)-1),\"\")","v":""},{"$f":"IF(OFFSET(DE104_4!$U$27,ROWS($U$27:U49)-1,COLUMNS($U$27:U49)-1)<>\"\",OFFSET(DE104_4!$U$27,ROWS($U$27:U49)-1,COLUMNS($U$27:U49)-1),\"\")","v":""},{"$f":"IF(OFFSET(DE104_4!$V$27,ROWS($V$27:V49)-1,COLUMNS($V$27:V49)-1)<>\"\",OFFSET(DE104_4!$V$27,ROWS($V$27:V49)-1,COLUMNS($V$27:V49)-1),\"\")","v":""},{"$f":"IF(OFFSET(DE104_4!$W$27,ROWS($W$27:W49)-1,COLUMNS($W$27:W49)-1)<>\"\",OFFSET(DE104_4!$W$27,ROWS($W$27:W49)-1,COLUMNS($W$27:W49)-1),\"\")","v":""}]
[{"$f":"IF(OFFSET(DE104_4!$C$27,ROWS($C$27:C50)-1,COLUMNS($C$27:C50)-1)<>\"\",OFFSET(DE104_4!$C$27,ROWS($C$27:C50)-1,COLUMNS($C$27:C50)-1),\"\")","v":""},{"$f":"IF(OFFSET(DE104_4!$D$27,ROWS($D$27:D50)-1,COLUMNS($D$27:D50)-1)<>\"\",OFFSET(DE104_4!$D$27,ROWS($D$27:D50)-1,COLUMNS($D$27:D50)-1),\"\")","v":""},{"$f":"IF(OFFSET(DE104_4!$E$27,ROWS($E$27:E50)-1,COLUMNS($E$27:E50)-1)<>\"\",OFFSET(DE104_4!$E$27,ROWS($E$27:E50)-1,COLUMNS($E$27:E50)-1),\"\")","v":""},{"$f":"IF(OFFSET(DE104_4!$F$27,ROWS($F$27:F50)-1,COLUMNS($F$27:F50)-1)<>\"\",OFFSET(DE104_4!$F$27,ROWS($F$27:F50)-1,COLUMNS($F$27:F50)-1),\"\")","v":""},{"$f":"IF(OFFSET(DE104_4!$G$27,ROWS($G$27:G50)-1,COLUMNS($G$27:G50)-1)<>\"\",OFFSET(DE104_4!$G$27,ROWS($G$27:G50)-1,COLUMNS($G$27:G50)-1),\"\")","v":""},{"$f":"IF(OFFSET(DE104_4!$H$27,ROWS($H$27:H50)-1,COLUMNS($H$27:H50)-1)<>\"\",OFFSET(DE104_4!$H$27,ROWS($H$27:H50)-1,COLUMNS($H$27:H50)-1),\"\")","v":""},{"$f":"IF(OFFSET(DE104_4!$I$27,ROWS($I$27:I50)-1,COLUMNS($I$27:I50)-1)<>\"\",OFFSET(DE104_4!$I$27,ROWS($I$27:I50)-1,COLUMNS($I$27:I50)-1),\"\")","v":""},{"$f":"IF(OFFSET(DE104_4!$J$27,ROWS($J$27:J50)-1,COLUMNS($J$27:J50)-1)<>\"\",OFFSET(DE104_4!$J$27,ROWS($J$27:J50)-1,COLUMNS($J$27:J50)-1),\"\")","v":""},{"$f":"IF(OFFSET(DE104_4!$K$27,ROWS($K$27:K50)-1,COLUMNS($K$27:K50)-1)<>\"\",OFFSET(DE104_4!$K$27,ROWS($K$27:K50)-1,COLUMNS($K$27:K50)-1),\"\")","v":""},{"$f":"IF(OFFSET(DE104_4!$L$27,ROWS($L$27:L50)-1,COLUMNS($L$27:L50)-1)<>\"\",OFFSET(DE104_4!$L$27,ROWS($L$27:L50)-1,COLUMNS($L$27:L50)-1),\"\")","v":""},{"$f":"IF(OFFSET(DE104_4!$M$27,ROWS($M$27:M50)-1,COLUMNS($M$27:M50)-1)<>\"\",OFFSET(DE104_4!$M$27,ROWS($M$27:M50)-1,COLUMNS($M$27:M50)-1),\"\")","v":""},{"$f":"IF(OFFSET(DE104_4!$N$27,ROWS($N$27:N50)-1,COLUMNS($N$27:N50)-1)<>\"\",OFFSET(DE104_4!$N$27,ROWS($N$27:N50)-1,COLUMNS($N$27:N50)-1),\"\")","v":""},{"$f":"IF(OFFSET(DE104_4!$O$27,ROWS($O$27:O50)-1,COLUMNS($O$27:O50)-1)<>\"\",OFFSET(DE104_4!$O$27,ROWS($O$27:O50)-1,COLUMNS($O$27:O50)-1),\"\")","v":""},{"$f":"IF(OFFSET(DE104_4!$P$27,ROWS($P$27:P50)-1,COLUMNS($P$27:P50)-1)<>\"\",OFFSET(DE104_4!$P$27,ROWS($P$27:P50)-1,COLUMNS($P$27:P50)-1),\"\")","v":""},{"$f":"IF(OFFSET(DE104_4!$Q$27,ROWS($Q$27:Q50)-1,COLUMNS($Q$27:Q50)-1)<>\"\",OFFSET(DE104_4!$Q$27,ROWS($Q$27:Q50)-1,COLUMNS($Q$27:Q50)-1),\"\")","v":""},{"$f":"IF(OFFSET(DE104_4!$R$27,ROWS($R$27:R50)-1,COLUMNS($R$27:R50)-1)<>\"\",OFFSET(DE104_4!$R$27,ROWS($R$27:R50)-1,COLUMNS($R$27:R50)-1),\"\")","v":""},{"$f":"IF(OFFSET(DE104_4!$S$27,ROWS($S$27:S50)-1,COLUMNS($S$27:S50)-1)<>\"\",OFFSET(DE104_4!$S$27,ROWS($S$27:S50)-1,COLUMNS($S$27:S50)-1),\"\")","v":""},{"$f":"IF(OFFSET(DE104_4!$T$27,ROWS($T$27:T50)-1,COLUMNS($T$27:T50)-1)<>\"\",OFFSET(DE104_4!$T$27,ROWS($T$27:T50)-1,COLUMNS($T$27:T50)-1),\"\")","v":""},{"$f":"IF(OFFSET(DE104_4!$U$27,ROWS($U$27:U50)-1,COLUMNS($U$27:U50)-1)<>\"\",OFFSET(DE104_4!$U$27,ROWS($U$27:U50)-1,COLUMNS($U$27:U50)-1),\"\")","v":""},{"$f":"IF(OFFSET(DE104_4!$V$27,ROWS($V$27:V50)-1,COLUMNS($V$27:V50)-1)<>\"\",OFFSET(DE104_4!$V$27,ROWS($V$27:V50)-1,COLUMNS($V$27:V50)-1),\"\")","v":""},{"$f":"IF(OFFSET(DE104_4!$W$27,ROWS($W$27:W50)-1,COLUMNS($W$27:W50)-1)<>\"\",OFFSET(DE104_4!$W$27,ROWS($W$27:W50)-1,COLUMNS($W$27:W50)-1),\"\")","v":""}]
[{"$f":"IF(OFFSET(DE104_4!$C$27,ROWS($C$27:C51)-1,COLUMNS($C$27:C51)-1)<>\"\",OFFSET(DE104_4!$C$27,ROWS($C$27:C51)-1,COLUMNS($C$27:C51)-1),\"\")","v":""},{"$f":"IF(OFFSET(DE104_4!$D$27,ROWS($D$27:D51)-1,COLUMNS($D$27:D51)-1)<>\"\",OFFSET(DE104_4!$D$27,ROWS($D$27:D51)-1,COLUMNS($D$27:D51)-1),\"\")","v":""},{"$f":"IF(OFFSET(DE104_4!$E$27,ROWS($E$27:E51)-1,COLUMNS($E$27:E51)-1)<>\"\",OFFSET(DE104_4!$E$27,ROWS($E$27:E51)-1,COLUMNS($E$27:E51)-1),\"\")","v":""},{"$f":"IF(OFFSET(DE104_4!$F$27,ROWS($F$27:F51)-1,COLUMNS($F$27:F51)-1)<>\"\",OFFSET(DE104_4!$F$27,ROWS($F$27:F51)-1,COLUMNS($F$27:F51)-1),\"\")","v":""},{"$f":"IF(OFFSET(DE104_4!$G$27,ROWS($G$27:G51)-1,COLUMNS($G$27:G51)-1)<>\"\",OFFSET(DE104_4!$G$27,ROWS($G$27:G51)-1,COLUMNS($G$27:G51)-1),\"\")","v":""},{"$f":"IF(OFFSET(DE104_4!$H$27,ROWS($H$27:H51)-1,COLUMNS($H$27:H51)-1)<>\"\",OFFSET(DE104_4!$H$27,ROWS($H$27:H51)-1,COLUMNS($H$27:H51)-1),\"\")","v":""},{"$f":"IF(OFFSET(DE104_4!$I$27,ROWS($I$27:I51)-1,COLUMNS($I$27:I51)-1)<>\"\",OFFSET(DE104_4!$I$27,ROWS($I$27:I51)-1,COLUMNS($I$27:I51)-1),\"\")","v":""},{"$f":"IF(OFFSET(DE104_4!$J$27,ROWS($J$27:J51)-1,COLUMNS($J$27:J51)-1)<>\"\",OFFSET(DE104_4!$J$27,ROWS($J$27:J51)-1,COLUMNS($J$27:J51)-1),\"\")","v":""},{"$f":"IF(OFFSET(DE104_4!$K$27,ROWS($K$27:K51)-1,COLUMNS($K$27:K51)-1)<>\"\",OFFSET(DE104_4!$K$27,ROWS($K$27:K51)-1,COLUMNS($K$27:K51)-1),\"\")","v":""},{"$f":"IF(OFFSET(DE104_4!$L$27,ROWS($L$27:L51)-1,COLUMNS($L$27:L51)-1)<>\"\",OFFSET(DE104_4!$L$27,ROWS($L$27:L51)-1,COLUMNS($L$27:L51)-1),\"\")","v":""},{"$f":"IF(OFFSET(DE104_4!$M$27,ROWS($M$27:M51)-1,COLUMNS($M$27:M51)-1)<>\"\",OFFSET(DE104_4!$M$27,ROWS($M$27:M51)-1,COLUMNS($M$27:M51)-1),\"\")","v":""},{"$f":"IF(OFFSET(DE104_4!$N$27,ROWS($N$27:N51)-1,COLUMNS($N$27:N51)-1)<>\"\",OFFSET(DE104_4!$N$27,ROWS($N$27:N51)-1,COLUMNS($N$27:N51)-1),\"\")","v":""},{"$f":"IF(OFFSET(DE104_4!$O$27,ROWS($O$27:O51)-1,COLUMNS($O$27:O51)-1)<>\"\",OFFSET(DE104_4!$O$27,ROWS($O$27:O51)-1,COLUMNS($O$27:O51)-1),\"\")","v":""},{"$f":"IF(OFFSET(DE104_4!$P$27,ROWS($P$27:P51)-1,COLUMNS($P$27:P51)-1)<>\"\",OFFSET(DE104_4!$P$27,ROWS($P$27:P51)-1,COLUMNS($P$27:P51)-1),\"\")","v":""},{"$f":"IF(OFFSET(DE104_4!$Q$27,ROWS($Q$27:Q51)-1,COLUMNS($Q$27:Q51)-1)<>\"\",OFFSET(DE104_4!$Q$27,ROWS($Q$27:Q51)-1,COLUMNS($Q$27:Q51)-1),\"\")","v":""},{"$f":"IF(OFFSET(DE104_4!$R$27,ROWS($R$27:R51)-1,COLUMNS($R$27:R51)-1)<>\"\",OFFSET(DE104_4!$R$27,ROWS($R$27:R51)-1,COLUMNS($R$27:R51)-1),\"\")","v":""},{"$f":"IF(OFFSET(DE104_4!$S$27,ROWS($S$27:S51)-1,COLUMNS($S$27:S51)-1)<>\"\",OFFSET(DE104_4!$S$27,ROWS($S$27:S51)-1,COLUMNS($S$27:S51)-1),\"\")","v":""},{"$f":"IF(OFFSET(DE104_4!$T$27,ROWS($T$27:T51)-1,COLUMNS($T$27:T51)-1)<>\"\",OFFSET(DE104_4!$T$27,ROWS($T$27:T51)-1,COLUMNS($T$27:T51)-1),\"\")","v":""},{"$f":"IF(OFFSET(DE104_4!$U$27,ROWS($U$27:U51)-1,COLUMNS($U$27:U51)-1)<>\"\",OFFSET(DE104_4!$U$27,ROWS($U$27:U51)-1,COLUMNS($U$27:U51)-1),\"\")","v":""},{"$f":"IF(OFFSET(DE104_4!$V$27,ROWS($V$27:V51)-1,COLUMNS($V$27:V51)-1)<>\"\",OFFSET(DE104_4!$V$27,ROWS($V$27:V51)-1,COLUMNS($V$27:V51)-1),\"\")","v":""},{"$f":"IF(OFFSET(DE104_4!$W$27,ROWS($W$27:W51)-1,COLUMNS($W$27:W51)-1)<>\"\",OFFSET(DE104_4!$W$27,ROWS($W$27:W51)-1,COLUMNS($W$27:W51)-1),\"\")","v":""}]
[{"$f":"IF(OFFSET(DE104_4!$C$27,ROWS($C$27:C52)-1,COLUMNS($C$27:C52)-1)<>\"\",OFFSET(DE104_4!$C$27,ROWS($C$27:C52)-1,COLUMNS($C$27:C52)-1),\"\")","v":""},{"$f":"IF(OFFSET(DE104_4!$D$27,ROWS($D$27:D52)-1,COLUMNS($D$27:D52)-1)<>\"\",OFFSET(DE104_4!$D$27,ROWS($D$27:D52)-1,COLUMNS($D$27:D52)-1),\"\")","v":""},{"$f":"IF(OFFSET(DE104_4!$E$27,ROWS($E$27:E52)-1,COLUMNS($E$27:E52)-1)<>\"\",OFFSET(DE104_4!$E$27,ROWS($E$27:E52)-1,COLUMNS($E$27:E52)-1),\"\")","v":""},{"$f":"IF(OFFSET(DE104_4!$F$27,ROWS($F$27:F52)-1,COLUMNS($F$27:F52)-1)<>\"\",OFFSET(DE104_4!$F$27,ROWS($F$27:F52)-1,COLUMNS($F$27:F52)-1),\"\")","v":""},{"$f":"IF(OFFSET(DE104_4!$G$27,ROWS($G$27:G52)-1,COLUMNS($G$27:G52)-1)<>\"\",OFFSET(DE104_4!$G$27,ROWS($G$27:G52)-1,COLUMNS($G$27:G52)-1),\"\")","v":""},{"$f":"IF(OFFSET(DE104_4!$H$27,ROWS($H$27:H52)-1,COLUMNS($H$27:H52)-1)<>\"\",OFFSET(DE104_4!$H$27,ROWS($H$27:H52)-1,COLUMNS($H$27:H52)-1),\"\")","v":""},{"$f":"IF(OFFSET(DE104_4!$I$27,ROWS($I$27:I52)-1,COLUMNS($I$27:I52)-1)<>\"\",OFFSET(DE104_4!$I$27,ROWS($I$27:I52)-1,COLUMNS($I$27:I52)-1),\"\")","v":""},{"$f":"IF(OFFSET(DE104_4!$J$27,ROWS($J$27:J52)-1,COLUMNS($J$27:J52)-1)<>\"\",OFFSET(DE104_4!$J$27,ROWS($J$27:J52)-1,COLUMNS($J$27:J52)-1),\"\")","v":""},{"$f":"IF(OFFSET(DE104_4!$K$27,ROWS($K$27:K52)-1,COLUMNS($K$27:K52)-1)<>\"\",OFFSET(DE104_4!$K$27,ROWS($K$27:K52)-1,COLUMNS($K$27:K52)-1),\"\")","v":""},{"$f":"IF(OFFSET(DE104_4!$L$27,ROWS($L$27:L52)-1,COLUMNS($L$27:L52)-1)<>\"\",OFFSET(DE104_4!$L$27,ROWS($L$27:L52)-1,COLUMNS($L$27:L52)-1),\"\")","v":""},{"$f":"IF(OFFSET(DE104_4!$M$27,ROWS($M$27:M52)-1,COLUMNS($M$27:M52)-1)<>\"\",OFFSET(DE104_4!$M$27,ROWS($M$27:M52)-1,COLUMNS($M$27:M52)-1),\"\")","v":""},{"$f":"IF(OFFSET(DE104_4!$N$27,ROWS($N$27:N52)-1,COLUMNS($N$27:N52)-1)<>\"\",OFFSET(DE104_4!$N$27,ROWS($N$27:N52)-1,COLUMNS($N$27:N52)-1),\"\")","v":""},{"$f":"IF(OFFSET(DE104_4!$O$27,ROWS($O$27:O52)-1,COLUMNS($O$27:O52)-1)<>\"\",OFFSET(DE104_4!$O$27,ROWS($O$27:O52)-1,COLUMNS($O$27:O52)-1),\"\")","v":""},{"$f":"IF(OFFSET(DE104_4!$P$27,ROWS($P$27:P52)-1,COLUMNS($P$27:P52)-1)<>\"\",OFFSET(DE104_4!$P$27,ROWS($P$27:P52)-1,COLUMNS($P$27:P52)-1),\"\")","v":""},{"$f":"IF(OFFSET(DE104_4!$Q$27,ROWS($Q$27:Q52)-1,COLUMNS($Q$27:Q52)-1)<>\"\",OFFSET(DE104_4!$Q$27,ROWS($Q$27:Q52)-1,COLUMNS($Q$27:Q52)-1),\"\")","v":""},{"$f":"IF(OFFSET(DE104_4!$R$27,ROWS($R$27:R52)-1,COLUMNS($R$27:R52)-1)<>\"\",OFFSET(DE104_4!$R$27,ROWS($R$27:R52)-1,COLUMNS($R$27:R52)-1),\"\")","v":""},{"$f":"IF(OFFSET(DE104_4!$S$27,ROWS($S$27:S52)-1,COLUMNS($S$27:S52)-1)<>\"\",OFFSET(DE104_4!$S$27,ROWS($S$27:S52)-1,COLUMNS($S$27:S52)-1),\"\")","v":""},{"$f":"IF(OFFSET(DE104_4!$T$27,ROWS($T$27:T52)-1,COLUMNS($T$27:T52)-1)<>\"\",OFFSET(DE104_4!$T$27,ROWS($T$27:T52)-1,COLUMNS($T$27:T52)-1),\"\")","v":""},{"$f":"IF(OFFSET(DE104_4!$U$27,ROWS($U$27:U52)-1,COLUMNS($U$27:U52)-1)<>\"\",OFFSET(DE104_4!$U$27,ROWS($U$27:U52)-1,COLUMNS($U$27:U52)-1),\"\")","v":""},{"$f":"IF(OFFSET(DE104_4!$V$27,ROWS($V$27:V52)-1,COLUMNS($V$27:V52)-1)<>\"\",OFFSET(DE104_4!$V$27,ROWS($V$27:V52)-1,COLUMNS($V$27:V52)-1),\"\")","v":""},{"$f":"IF(OFFSET(DE104_4!$W$27,ROWS($W$27:W52)-1,COLUMNS($W$27:W52)-1)<>\"\",OFFSET(DE104_4!$W$27,ROWS($W$27:W52)-1,COLUMNS($W$27:W52)-1),\"\")","v":""}]
[{"$f":"IF(OFFSET(DE104_4!$C$27,ROWS($C$27:C53)-1,COLUMNS($C$27:C53)-1)<>\"\",OFFSET(DE104_4!$C$27,ROWS($C$27:C53)-1,COLUMNS($C$27:C53)-1),\"\")","v":""},{"$f":"IF(OFFSET(DE104_4!$D$27,ROWS($D$27:D53)-1,COLUMNS($D$27:D53)-1)<>\"\",OFFSET(DE104_4!$D$27,ROWS($D$27:D53)-1,COLUMNS($D$27:D53)-1),\"\")","v":""},{"$f":"IF(OFFSET(DE104_4!$E$27,ROWS($E$27:E53)-1,COLUMNS($E$27:E53)-1)<>\"\",OFFSET(DE104_4!$E$27,ROWS($E$27:E53)-1,COLUMNS($E$27:E53)-1),\"\")","v":""},{"$f":"IF(OFFSET(DE104_4!$F$27,ROWS($F$27:F53)-1,COLUMNS($F$27:F53)-1)<>\"\",OFFSET(DE104_4!$F$27,ROWS($F$27:F53)-1,COLUMNS($F$27:F53)-1),\"\")","v":""},{"$f":"IF(OFFSET(DE104_4!$G$27,ROWS($G$27:G53)-1,COLUMNS($G$27:G53)-1)<>\"\",OFFSET(DE104_4!$G$27,ROWS($G$27:G53)-1,COLUMNS($G$27:G53)-1),\"\")","v":""},{"$f":"IF(OFFSET(DE104_4!$H$27,ROWS($H$27:H53)-1,COLUMNS($H$27:H53)-1)<>\"\",OFFSET(DE104_4!$H$27,ROWS($H$27:H53)-1,COLUMNS($H$27:H53)-1),\"\")","v":""},{"$f":"IF(OFFSET(DE104_4!$I$27,ROWS($I$27:I53)-1,COLUMNS($I$27:I53)-1)<>\"\",OFFSET(DE104_4!$I$27,ROWS($I$27:I53)-1,COLUMNS($I$27:I53)-1),\"\")","v":""},{"$f":"IF(OFFSET(DE104_4!$J$27,ROWS($J$27:J53)-1,COLUMNS($J$27:J53)-1)<>\"\",OFFSET(DE104_4!$J$27,ROWS($J$27:J53)-1,COLUMNS($J$27:J53)-1),\"\")","v":""},{"$f":"IF(OFFSET(DE104_4!$K$27,ROWS($K$27:K53)-1,COLUMNS($K$27:K53)-1)<>\"\",OFFSET(DE104_4!$K$27,ROWS($K$27:K53)-1,COLUMNS($K$27:K53)-1),\"\")","v":""},{"$f":"IF(OFFSET(DE104_4!$L$27,ROWS($L$27:L53)-1,COLUMNS($L$27:L53)-1)<>\"\",OFFSET(DE104_4!$L$27,ROWS($L$27:L53)-1,COLUMNS($L$27:L53)-1),\"\")","v":""},{"$f":"IF(OFFSET(DE104_4!$M$27,ROWS($M$27:M53)-1,COLUMNS($M$27:M53)-1)<>\"\",OFFSET(DE104_4!$M$27,ROWS($M$27:M53)-1,COLUMNS($M$27:M53)-1),\"\")","v":""},{"$f":"IF(OFFSET(DE104_4!$N$27,ROWS($N$27:N53)-1,COLUMNS($N$27:N53)-1)<>\"\",OFFSET(DE104_4!$N$27,ROWS($N$27:N53)-1,COLUMNS($N$27:N53)-1),\"\")","v":""},{"$f":"IF(OFFSET(DE104_4!$O$27,ROWS($O$27:O53)-1,COLUMNS($O$27:O53)-1)<>\"\",OFFSET(DE104_4!$O$27,ROWS($O$27:O53)-1,COLUMNS($O$27:O53)-1),\"\")","v":""},{"$f":"IF(OFFSET(DE104_4!$P$27,ROWS($P$27:P53)-1,COLUMNS($P$27:P53)-1)<>\"\",OFFSET(DE104_4!$P$27,ROWS($P$27:P53)-1,COLUMNS($P$27:P53)-1),\"\")","v":""},{"$f":"IF(OFFSET(DE104_4!$Q$27,ROWS($Q$27:Q53)-1,COLUMNS($Q$27:Q53)-1)<>\"\",OFFSET(DE104_4!$Q$27,ROWS($Q$27:Q53)-1,COLUMNS($Q$27:Q53)-1),\"\")","v":""},{"$f":"IF(OFFSET(DE104_4!$R$27,ROWS($R$27:R53)-1,COLUMNS($R$27:R53)-1)<>\"\",OFFSET(DE104_4!$R$27,ROWS($R$27:R53)-1,COLUMNS($R$27:R53)-1),\"\")","v":""},{"$f":"IF(OFFSET(DE104_4!$S$27,ROWS($S$27:S53)-1,COLUMNS($S$27:S53)-1)<>\"\",OFFSET(DE104_4!$S$27,ROWS($S$27:S53)-1,COLUMNS($S$27:S53)-1),\"\")","v":""},{"$f":"IF(OFFSET(DE104_4!$T$27,ROWS($T$27:T53)-1,COLUMNS($T$27:T53)-1)<>\"\",OFFSET(DE104_4!$T$27,ROWS($T$27:T53)-1,COLUMNS($T$27:T53)-1),\"\")","v":""},{"$f":"IF(OFFSET(DE104_4!$U$27,ROWS($U$27:U53)-1,COLUMNS($U$27:U53)-1)<>\"\",OFFSET(DE104_4!$U$27,ROWS($U$27:U53)-1,COLUMNS($U$27:U53)-1),\"\")","v":""},{"$f":"IF(OFFSET(DE104_4!$V$27,ROWS($V$27:V53)-1,COLUMNS($V$27:V53)-1)<>\"\",OFFSET(DE104_4!$V$27,ROWS($V$27:V53)-1,COLUMNS($V$27:V53)-1),\"\")","v":""},{"$f":"IF(OFFSET(DE104_4!$W$27,ROWS($W$27:W53)-1,COLUMNS($W$27:W53)-1)<>\"\",OFFSET(DE104_4!$W$27,ROWS($W$27:W53)-1,COLUMNS($W$27:W53)-1),\"\")","v":""}]
[{"$f":"IF(OFFSET(DE104_4!$C$27,ROWS($C$27:C54)-1,COLUMNS($C$27:C54)-1)<>\"\",OFFSET(DE104_4!$C$27,ROWS($C$27:C54)-1,COLUMNS($C$27:C54)-1),\"\")","v":""},{"$f":"IF(OFFSET(DE104_4!$D$27,ROWS($D$27:D54)-1,COLUMNS($D$27:D54)-1)<>\"\",OFFSET(DE104_4!$D$27,ROWS($D$27:D54)-1,COLUMNS($D$27:D54)-1),\"\")","v":""},{"$f":"IF(OFFSET(DE104_4!$E$27,ROWS($E$27:E54)-1,COLUMNS($E$27:E54)-1)<>\"\",OFFSET(DE104_4!$E$27,ROWS($E$27:E54)-1,COLUMNS($E$27:E54)-1),\"\")","v":""},{"$f":"IF(OFFSET(DE104_4!$F$27,ROWS($F$27:F54)-1,COLUMNS($F$27:F54)-1)<>\"\",OFFSET(DE104_4!$F$27,ROWS($F$27:F54)-1,COLUMNS($F$27:F54)-1),\"\")","v":""},{"$f":"IF(OFFSET(DE104_4!$G$27,ROWS($G$27:G54)-1,COLUMNS($G$27:G54)-1)<>\"\",OFFSET(DE104_4!$G$27,ROWS($G$27:G54)-1,COLUMNS($G$27:G54)-1),\"\")","v":""},{"$f":"IF(OFFSET(DE104_4!$H$27,ROWS($H$27:H54)-1,COLUMNS($H$27:H54)-1)<>\"\",OFFSET(DE104_4!$H$27,ROWS($H$27:H54)-1,COLUMNS($H$27:H54)-1),\"\")","v":""},{"$f":"IF(OFFSET(DE104_4!$I$27,ROWS($I$27:I54)-1,COLUMNS($I$27:I54)-1)<>\"\",OFFSET(DE104_4!$I$27,ROWS($I$27:I54)-1,COLUMNS($I$27:I54)-1),\"\")","v":""},{"$f":"IF(OFFSET(DE104_4!$J$27,ROWS($J$27:J54)-1,COLUMNS($J$27:J54)-1)<>\"\",OFFSET(DE104_4!$J$27,ROWS($J$27:J54)-1,COLUMNS($J$27:J54)-1),\"\")","v":""},{"$f":"IF(OFFSET(DE104_4!$K$27,ROWS($K$27:K54)-1,COLUMNS($K$27:K54)-1)<>\"\",OFFSET(DE104_4!$K$27,ROWS($K$27:K54)-1,COLUMNS($K$27:K54)-1),\"\")","v":""},{"$f":"IF(OFFSET(DE104_4!$L$27,ROWS($L$27:L54)-1,COLUMNS($L$27:L54)-1)<>\"\",OFFSET(DE104_4!$L$27,ROWS($L$27:L54)-1,COLUMNS($L$27:L54)-1),\"\")","v":""},{"$f":"IF(OFFSET(DE104_4!$M$27,ROWS($M$27:M54)-1,COLUMNS($M$27:M54)-1)<>\"\",OFFSET(DE104_4!$M$27,ROWS($M$27:M54)-1,COLUMNS($M$27:M54)-1),\"\")","v":""},{"$f":"IF(OFFSET(DE104_4!$N$27,ROWS($N$27:N54)-1,COLUMNS($N$27:N54)-1)<>\"\",OFFSET(DE104_4!$N$27,ROWS($N$27:N54)-1,COLUMNS($N$27:N54)-1),\"\")","v":""},{"$f":"IF(OFFSET(DE104_4!$O$27,ROWS($O$27:O54)-1,COLUMNS($O$27:O54)-1)<>\"\",OFFSET(DE104_4!$O$27,ROWS($O$27:O54)-1,COLUMNS($O$27:O54)-1),\"\")","v":""},{"$f":"IF(OFFSET(DE104_4!$P$27,ROWS($P$27:P54)-1,COLUMNS($P$27:P54)-1)<>\"\",OFFSET(DE104_4!$P$27,ROWS($P$27:P54)-1,COLUMNS($P$27:P54)-1),\"\")","v":""},{"$f":"IF(OFFSET(DE104_4!$Q$27,ROWS($Q$27:Q54)-1,COLUMNS($Q$27:Q54)-1)<>\"\",OFFSET(DE104_4!$Q$27,ROWS($Q$27:Q54)-1,COLUMNS($Q$27:Q54)-1),\"\")","v":""},{"$f":"IF(OFFSET(DE104_4!$R$27,ROWS($R$27:R54)-1,COLUMNS($R$27:R54)-1)<>\"\",OFFSET(DE104_4!$R$27,ROWS($R$27:R54)-1,COLUMNS($R$27:R54)-1),\"\")","v":""},{"$f":"IF(OFFSET(DE104_4!$S$27,ROWS($S$27:S54)-1,COLUMNS($S$27:S54)-1)<>\"\",OFFSET(DE104_4!$S$27,ROWS($S$27:S54)-1,COLUMNS($S$27:S54)-1),\"\")","v":""},{"$f":"IF(OFFSET(DE104_4!$T$27,ROWS($T$27:T54)-1,COLUMNS($T$27:T54)-1)<>\"\",OFFSET(DE104_4!$T$27,ROWS($T$27:T54)-1,COLUMNS($T$27:T54)-1),\"\")","v":""},{"$f":"IF(OFFSET(DE104_4!$U$27,ROWS($U$27:U54)-1,COLUMNS($U$27:U54)-1)<>\"\",OFFSET(DE104_4!$U$27,ROWS($U$27:U54)-1,COLUMNS($U$27:U54)-1),\"\")","v":""},{"$f":"IF(OFFSET(DE104_4!$V$27,ROWS($V$27:V54)-1,COLUMNS($V$27:V54)-1)<>\"\",OFFSET(DE104_4!$V$27,ROWS($V$27:V54)-1,COLUMNS($V$27:V54)-1),\"\")","v":""},{"$f":"IF(OFFSET(DE104_4!$W$27,ROWS($W$27:W54)-1,COLUMNS($W$27:W54)-1)<>\"\",OFFSET(DE104_4!$W$27,ROWS($W$27:W54)-1,COLUMNS($W$27:W54)-1),\"\")","v":""}]
[{"$f":"IF(OFFSET(DE104_4!$C$27,ROWS($C$27:C55)-1,COLUMNS($C$27:C55)-1)<>\"\",OFFSET(DE104_4!$C$27,ROWS($C$27:C55)-1,COLUMNS($C$27:C55)-1),\"\")","v":""},{"$f":"IF(OFFSET(DE104_4!$D$27,ROWS($D$27:D55)-1,COLUMNS($D$27:D55)-1)<>\"\",OFFSET(DE104_4!$D$27,ROWS($D$27:D55)-1,COLUMNS($D$27:D55)-1),\"\")","v":""},{"$f":"IF(OFFSET(DE104_4!$E$27,ROWS($E$27:E55)-1,COLUMNS($E$27:E55)-1)<>\"\",OFFSET(DE104_4!$E$27,ROWS($E$27:E55)-1,COLUMNS($E$27:E55)-1),\"\")","v":""},{"$f":"IF(OFFSET(DE104_4!$F$27,ROWS($F$27:F55)-1,COLUMNS($F$27:F55)-1)<>\"\",OFFSET(DE104_4!$F$27,ROWS($F$27:F55)-1,COLUMNS($F$27:F55)-1),\"\")","v":""},{"$f":"IF(OFFSET(DE104_4!$G$27,ROWS($G$27:G55)-1,COLUMNS($G$27:G55)-1)<>\"\",OFFSET(DE104_4!$G$27,ROWS($G$27:G55)-1,COLUMNS($G$27:G55)-1),\"\")","v":""},{"$f":"IF(OFFSET(DE104_4!$H$27,ROWS($H$27:H55)-1,COLUMNS($H$27:H55)-1)<>\"\",OFFSET(DE104_4!$H$27,ROWS($H$27:H55)-1,COLUMNS($H$27:H55)-1),\"\")","v":""},{"$f":"IF(OFFSET(DE104_4!$I$27,ROWS($I$27:I55)-1,COLUMNS($I$27:I55)-1)<>\"\",OFFSET(DE104_4!$I$27,ROWS($I$27:I55)-1,COLUMNS($I$27:I55)-1),\"\")","v":""},{"$f":"IF(OFFSET(DE104_4!$J$27,ROWS($J$27:J55)-1,COLUMNS($J$27:J55)-1)<>\"\",OFFSET(DE104_4!$J$27,ROWS($J$27:J55)-1,COLUMNS($J$27:J55)-1),\"\")","v":""},{"$f":"IF(OFFSET(DE104_4!$K$27,ROWS($K$27:K55)-1,COLUMNS($K$27:K55)-1)<>\"\",OFFSET(DE104_4!$K$27,ROWS($K$27:K55)-1,COLUMNS($K$27:K55)-1),\"\")","v":""},{"$f":"IF(OFFSET(DE104_4!$L$27,ROWS($L$27:L55)-1,COLUMNS($L$27:L55)-1)<>\"\",OFFSET(DE104_4!$L$27,ROWS($L$27:L55)-1,COLUMNS($L$27:L55)-1),\"\")","v":""},{"$f":"IF(OFFSET(DE104_4!$M$27,ROWS($M$27:M55)-1,COLUMNS($M$27:M55)-1)<>\"\",OFFSET(DE104_4!$M$27,ROWS($M$27:M55)-1,COLUMNS($M$27:M55)-1),\"\")","v":""},{"$f":"IF(OFFSET(DE104_4!$N$27,ROWS($N$27:N55)-1,COLUMNS($N$27:N55)-1)<>\"\",OFFSET(DE104_4!$N$27,ROWS($N$27:N55)-1,COLUMNS($N$27:N55)-1),\"\")","v":""},{"$f":"IF(OFFSET(DE104_4!$O$27,ROWS($O$27:O55)-1,COLUMNS($O$27:O55)-1)<>\"\",OFFSET(DE104_4!$O$27,ROWS($O$27:O55)-1,COLUMNS($O$27:O55)-1),\"\")","v":""},{"$f":"IF(OFFSET(DE104_4!$P$27,ROWS($P$27:P55)-1,COLUMNS($P$27:P55)-1)<>\"\",OFFSET(DE104_4!$P$27,ROWS($P$27:P55)-1,COLUMNS($P$27:P55)-1),\"\")","v":""},{"$f":"IF(OFFSET(DE104_4!$Q$27,ROWS($Q$27:Q55)-1,COLUMNS($Q$27:Q55)-1)<>\"\",OFFSET(DE104_4!$Q$27,ROWS($Q$27:Q55)-1,COLUMNS($Q$27:Q55)-1),\"\")","v":""},{"$f":"IF(OFFSET(DE104_4!$R$27,ROWS($R$27:R55)-1,COLUMNS($R$27:R55)-1)<>\"\",OFFSET(DE104_4!$R$27,ROWS($R$27:R55)-1,COLUMNS($R$27:R55)-1),\"\")","v":""},{"$f":"IF(OFFSET(DE104_4!$S$27,ROWS($S$27:S55)-1,COLUMNS($S$27:S55)-1)<>\"\",OFFSET(DE104_4!$S$27,ROWS($S$27:S55)-1,COLUMNS($S$27:S55)-1),\"\")","v":""},{"$f":"IF(OFFSET(DE104_4!$T$27,ROWS($T$27:T55)-1,COLUMNS($T$27:T55)-1)<>\"\",OFFSET(DE104_4!$T$27,ROWS($T$27:T55)-1,COLUMNS($T$27:T55)-1),\"\")","v":""},{"$f":"IF(OFFSET(DE104_4!$U$27,ROWS($U$27:U55)-1,COLUMNS($U$27:U55)-1)<>\"\",OFFSET(DE104_4!$U$27,ROWS($U$27:U55)-1,COLUMNS($U$27:U55)-1),\"\")","v":""},{"$f":"IF(OFFSET(DE104_4!$V$27,ROWS($V$27:V55)-1,COLUMNS($V$27:V55)-1)<>\"\",OFFSET(DE104_4!$V$27,ROWS($V$27:V55)-1,COLUMNS($V$27:V55)-1),\"\")","v":""},{"$f":"IF(OFFSET(DE104_4!$W$27,ROWS($W$27:W55)-1,COLUMNS($W$27:W55)-1)<>\"\",OFFSET(DE104_4!$W$27,ROWS($W$27:W55)-1,COLUMNS($W$27:W55)-1),\"\")","v":""}]
[{"$f":"IF(OFFSET(DE104_4!$C$27,ROWS($C$27:C56)-1,COLUMNS($C$27:C56)-1)<>\"\",OFFSET(DE104_4!$C$27,ROWS($C$27:C56)-1,COLUMNS($C$27:C56)-1),\"\")","v":""},{"$f":"IF(OFFSET(DE104_4!$D$27,ROWS($D$27:D56)-1,COLUMNS($D$27:D56)-1)<>\"\",OFFSET(DE104_4!$D$27,ROWS($D$27:D56)-1,COLUMNS($D$27:D56)-1),\"\")","v":""},{"$f":"IF(OFFSET(DE104_4!$E$27,ROWS($E$27:E56)-1,COLUMNS($E$27:E56)-1)<>\"\",OFFSET(DE104_4!$E$27,ROWS($E$27:E56)-1,COLUMNS($E$27:E56)-1),\"\")","v":""},{"$f":"IF(OFFSET(DE104_4!$F$27,ROWS($F$27:F56)-1,COLUMNS($F$27:F56)-1)<>\"\",OFFSET(DE104_4!$F$27,ROWS($F$27:F56)-1,COLUMNS($F$27:F56)-1),\"\")","v":""},{"$f":"IF(OFFSET(DE104_4!$G$27,ROWS($G$27:G56)-1,COLUMNS($G$27:G56)-1)<>\"\",OFFSET(DE104_4!$G$27,ROWS($G$27:G56)-1,COLUMNS($G$27:G56)-1),\"\")","v":""},{"$f":"IF(OFFSET(DE104_4!$H$27,ROWS($H$27:H56)-1,COLUMNS($H$27:H56)-1)<>\"\",OFFSET(DE104_4!$H$27,ROWS($H$27:H56)-1,COLUMNS($H$27:H56)-1),\"\")","v":""},{"$f":"IF(OFFSET(DE104_4!$I$27,ROWS($I$27:I56)-1,COLUMNS($I$27:I56)-1)<>\"\",OFFSET(DE104_4!$I$27,ROWS($I$27:I56)-1,COLUMNS($I$27:I56)-1),\"\")","v":""},{"$f":"IF(OFFSET(DE104_4!$J$27,ROWS($J$27:J56)-1,COLUMNS($J$27:J56)-1)<>\"\",OFFSET(DE104_4!$J$27,ROWS($J$27:J56)-1,COLUMNS($J$27:J56)-1),\"\")","v":""},{"$f":"IF(OFFSET(DE104_4!$K$27,ROWS($K$27:K56)-1,COLUMNS($K$27:K56)-1)<>\"\",OFFSET(DE104_4!$K$27,ROWS($K$27:K56)-1,COLUMNS($K$27:K56)-1),\"\")","v":""},{"$f":"IF(OFFSET(DE104_4!$L$27,ROWS($L$27:L56)-1,COLUMNS($L$27:L56)-1)<>\"\",OFFSET(DE104_4!$L$27,ROWS($L$27:L56)-1,COLUMNS($L$27:L56)-1),\"\")","v":""},{"$f":"IF(OFFSET(DE104_4!$M$27,ROWS($M$27:M56)-1,COLUMNS($M$27:M56)-1)<>\"\",OFFSET(DE104_4!$M$27,ROWS($M$27:M56)-1,COLUMNS($M$27:M56)-1),\"\")","v":""},{"$f":"IF(OFFSET(DE104_4!$N$27,ROWS($N$27:N56)-1,COLUMNS($N$27:N56)-1)<>\"\",OFFSET(DE104_4!$N$27,ROWS($N$27:N56)-1,COLUMNS($N$27:N56)-1),\"\")","v":""},{"$f":"IF(OFFSET(DE104_4!$O$27,ROWS($O$27:O56)-1,COLUMNS($O$27:O56)-1)<>\"\",OFFSET(DE104_4!$O$27,ROWS($O$27:O56)-1,COLUMNS($O$27:O56)-1),\"\")","v":""},{"$f":"IF(OFFSET(DE104_4!$P$27,ROWS($P$27:P56)-1,COLUMNS($P$27:P56)-1)<>\"\",OFFSET(DE104_4!$P$27,ROWS($P$27:P56)-1,COLUMNS($P$27:P56)-1),\"\")","v":""},{"$f":"IF(OFFSET(DE104_4!$Q$27,ROWS($Q$27:Q56)-1,COLUMNS($Q$27:Q56)-1)<>\"\",OFFSET(DE104_4!$Q$27,ROWS($Q$27:Q56)-1,COLUMNS($Q$27:Q56)-1),\"\")","v":""},{"$f":"IF(OFFSET(DE104_4!$R$27,ROWS($R$27:R56)-1,COLUMNS($R$27:R56)-1)<>\"\",OFFSET(DE104_4!$R$27,ROWS($R$27:R56)-1,COLUMNS($R$27:R56)-1),\"\")","v":""},{"$f":"IF(OFFSET(DE104_4!$S$27,ROWS($S$27:S56)-1,COLUMNS($S$27:S56)-1)<>\"\",OFFSET(DE104_4!$S$27,ROWS($S$27:S56)-1,COLUMNS($S$27:S56)-1),\"\")","v":""},{"$f":"IF(OFFSET(DE104_4!$T$27,ROWS($T$27:T56)-1,COLUMNS($T$27:T56)-1)<>\"\",OFFSET(DE104_4!$T$27,ROWS($T$27:T56)-1,COLUMNS($T$27:T56)-1),\"\")","v":""},{"$f":"IF(OFFSET(DE104_4!$U$27,ROWS($U$27:U56)-1,COLUMNS($U$27:U56)-1)<>\"\",OFFSET(DE104_4!$U$27,ROWS($U$27:U56)-1,COLUMNS($U$27:U56)-1),\"\")","v":""},{"$f":"IF(OFFSET(DE104_4!$V$27,ROWS($V$27:V56)-1,COLUMNS($V$27:V56)-1)<>\"\",OFFSET(DE104_4!$V$27,ROWS($V$27:V56)-1,COLUMNS($V$27:V56)-1),\"\")","v":""},{"$f":"IF(OFFSET(DE104_4!$W$27,ROWS($W$27:W56)-1,COLUMNS($W$27:W56)-1)<>\"\",OFFSET(DE104_4!$W$27,ROWS($W$27:W56)-1,COLUMNS($W$27:W56)-1),\"\")","v":""}]
[{"$f":"IF(OFFSET(DE104_4!$C$27,ROWS($C$27:C57)-1,COLUMNS($C$27:C57)-1)<>\"\",OFFSET(DE104_4!$C$27,ROWS($C$27:C57)-1,COLUMNS($C$27:C57)-1),\"\")","v":""},{"$f":"IF(OFFSET(DE104_4!$D$27,ROWS($D$27:D57)-1,COLUMNS($D$27:D57)-1)<>\"\",OFFSET(DE104_4!$D$27,ROWS($D$27:D57)-1,COLUMNS($D$27:D57)-1),\"\")","v":""},{"$f":"IF(OFFSET(DE104_4!$E$27,ROWS($E$27:E57)-1,COLUMNS($E$27:E57)-1)<>\"\",OFFSET(DE104_4!$E$27,ROWS($E$27:E57)-1,COLUMNS($E$27:E57)-1),\"\")","v":""},{"$f":"IF(OFFSET(DE104_4!$F$27,ROWS($F$27:F57)-1,COLUMNS($F$27:F57)-1)<>\"\",OFFSET(DE104_4!$F$27,ROWS($F$27:F57)-1,COLUMNS($F$27:F57)-1),\"\")","v":""},{"$f":"IF(OFFSET(DE104_4!$G$27,ROWS($G$27:G57)-1,COLUMNS($G$27:G57)-1)<>\"\",OFFSET(DE104_4!$G$27,ROWS($G$27:G57)-1,COLUMNS($G$27:G57)-1),\"\")","v":""},{"$f":"IF(OFFSET(DE104_4!$H$27,ROWS($H$27:H57)-1,COLUMNS($H$27:H57)-1)<>\"\",OFFSET(DE104_4!$H$27,ROWS($H$27:H57)-1,COLUMNS($H$27:H57)-1),\"\")","v":""},{"$f":"IF(OFFSET(DE104_4!$I$27,ROWS($I$27:I57)-1,COLUMNS($I$27:I57)-1)<>\"\",OFFSET(DE104_4!$I$27,ROWS($I$27:I57)-1,COLUMNS($I$27:I57)-1),\"\")","v":""},{"$f":"IF(OFFSET(DE104_4!$J$27,ROWS($J$27:J57)-1,COLUMNS($J$27:J57)-1)<>\"\",OFFSET(DE104_4!$J$27,ROWS($J$27:J57)-1,COLUMNS($J$27:J57)-1),\"\")","v":""},{"$f":"IF(OFFSET(DE104_4!$K$27,ROWS($K$27:K57)-1,COLUMNS($K$27:K57)-1)<>\"\",OFFSET(DE104_4!$K$27,ROWS($K$27:K57)-1,COLUMNS($K$27:K57)-1),\"\")","v":""},{"$f":"IF(OFFSET(DE104_4!$L$27,ROWS($L$27:L57)-1,COLUMNS($L$27:L57)-1)<>\"\",OFFSET(DE104_4!$L$27,ROWS($L$27:L57)-1,COLUMNS($L$27:L57)-1),\"\")","v":""},{"$f":"IF(OFFSET(DE104_4!$M$27,ROWS($M$27:M57)-1,COLUMNS($M$27:M57)-1)<>\"\",OFFSET(DE104_4!$M$27,ROWS($M$27:M57)-1,COLUMNS($M$27:M57)-1),\"\")","v":""},{"$f":"IF(OFFSET(DE104_4!$N$27,ROWS($N$27:N57)-1,COLUMNS($N$27:N57)-1)<>\"\",OFFSET(DE104_4!$N$27,ROWS($N$27:N57)-1,COLUMNS($N$27:N57)-1),\"\")","v":""},{"$f":"IF(OFFSET(DE104_4!$O$27,ROWS($O$27:O57)-1,COLUMNS($O$27:O57)-1)<>\"\",OFFSET(DE104_4!$O$27,ROWS($O$27:O57)-1,COLUMNS($O$27:O57)-1),\"\")","v":""},{"$f":"IF(OFFSET(DE104_4!$P$27,ROWS($P$27:P57)-1,COLUMNS($P$27:P57)-1)<>\"\",OFFSET(DE104_4!$P$27,ROWS($P$27:P57)-1,COLUMNS($P$27:P57)-1),\"\")","v":""},{"$f":"IF(OFFSET(DE104_4!$Q$27,ROWS($Q$27:Q57)-1,COLUMNS($Q$27:Q57)-1)<>\"\",OFFSET(DE104_4!$Q$27,ROWS($Q$27:Q57)-1,COLUMNS($Q$27:Q57)-1),\"\")","v":""},{"$f":"IF(OFFSET(DE104_4!$R$27,ROWS($R$27:R57)-1,COLUMNS($R$27:R57)-1)<>\"\",OFFSET(DE104_4!$R$27,ROWS($R$27:R57)-1,COLUMNS($R$27:R57)-1),\"\")","v":""},{"$f":"IF(OFFSET(DE104_4!$S$27,ROWS($S$27:S57)-1,COLUMNS($S$27:S57)-1)<>\"\",OFFSET(DE104_4!$S$27,ROWS($S$27:S57)-1,COLUMNS($S$27:S57)-1),\"\")","v":""},{"$f":"IF(OFFSET(DE104_4!$T$27,ROWS($T$27:T57)-1,COLUMNS($T$27:T57)-1)<>\"\",OFFSET(DE104_4!$T$27,ROWS($T$27:T57)-1,COLUMNS($T$27:T57)-1),\"\")","v":""},{"$f":"IF(OFFSET(DE104_4!$U$27,ROWS($U$27:U57)-1,COLUMNS($U$27:U57)-1)<>\"\",OFFSET(DE104_4!$U$27,ROWS($U$27:U57)-1,COLUMNS($U$27:U57)-1),\"\")","v":""},{"$f":"IF(OFFSET(DE104_4!$V$27,ROWS($V$27:V57)-1,COLUMNS($V$27:V57)-1)<>\"\",OFFSET(DE104_4!$V$27,ROWS($V$27:V57)-1,COLUMNS($V$27:V57)-1),\"\")","v":""},{"$f":"IF(OFFSET(DE104_4!$W$27,ROWS($W$27:W57)-1,COLUMNS($W$27:W57)-1)<>\"\",OFFSET(DE104_4!$W$27,ROWS($W$27:W57)-1,COLUMNS($W$27:W57)-1),\"\")","v":""}]

{"sheet":"PrintSheetTemplate","index":7,"n_rows":95,"n_cols":179,"rows_kept":95,"cut":false,"hidden":true,"merged":[[93,171,93,178],[94,1,94,178],[93,101,93,106],[93,107,93,118],[93,119,93,148],[93,149,93,158],[93,159,93,164],[93,165,93,170],[93,1,93,7],[93,8,93,14],[93,15,93,21],[93,22,93,30],[93,31,93,64],[93,65,93,100]]}
[" "]
[]
[]
[]
[]
[]
[]
[]
[]
[]
[]
[]
[]
[]
[]
[]
[]
[]
[]
[]
[]
[]
[]
[]
[]
[]
[]
[]
[]
[]
[]
[]
[]
[]
[]
[]
[]
[]
[]
[]
[]
[]
[]
[]
[]
[]
[]
[]
[]
[]
[]
[]
[]
[]
[]
[]
[]
[]
[]
[]
[]
[]
[]
[]
[]
[]
[]
[]
[]
[]
[]
[]
[]
[]
[]
[]
[]
[]
[]
[]
[]
[]
[]
[]
[]
[]
[]
[]
[]
[]
[]
[]
[null,"","","","","","","","","","","","","","","","","","","","","","","","","","","","","","","","","","","","","","","","","","","","","","","","","","","","","","","","","","","","","","","","","","","","","","","","","","","","","","","","","","","","","","","","","","","","","","","","","","","","","","","","","","","","","","","","","","","","","","","","","","","","","","","","","","","","","","","","","","","","","","","","","","","","","","","",null,"","","","","","","","","","","","","","","","","","","","","","","","","",""]
[null,"FILE NO.",null,null,null,null,null,null,{"$f":"IF(ProjectInformation!$B$11<>\"\",ProjectInformation!$B$11,\"\")","v":""},null,null,null,null,null,null,{"$f":"UPPER(ProjectInformation!$B$8)","v":"ENGLISH"},null,null,null,null,null,null,"DESIGN TEAM",null,null,null,null,null,null,null,null,{"$f":"IF(AND(ProjectInformation!$B$3<>\"\",ProjectInformation!$B$4<>\"\",ProjectInformation!$B$5<>\"\"),ProjectInformation!$B$3&\"\\\"&ProjectInformation!$B$4&\"\\\"&ProjectInformation!$B$5,IF(AND(ProjectInformation!$B$3<>\"\",ProjectInformation!$B$4<>\"\"),ProjectInformation!$B$3&\"\\\"&ProjectInformation!$B$4,IF(ProjectInformation!$B$3<>\"\",ProjectInformation!$B$3,\"\")))","v":"Claman\\Cornelis"},null,null,null,null,null,null,null,null,null,null,null,null,null,null,null,null,null,null,null,null,null,null,null,null,null,null,null,null,null,null,null,null,null,{"$f":"IF(ProjectInformation!$B$6<>\"\",ProjectInformation!$B$6,\"\")","v":"BENTON"},null,null,null,null,null,null,null,null,null,null,null,null,null,null,null,null,null,null,null,null,null,null,null,null,null,null,null,null,null,null,null,null,null,null,null,"COUNTY",null,null,null,null,null,"PROJECT NUMBER",null,null,null,null,null,null,null,null,null,null,null,{"$f":"IF(ProjectInformation!$B$7<>\"\",ProjectInformation!$B$7,\"\")","v":"NHSX-030-6(231)--3H-06"},null,null,null,null,null,null,null,null,null,null,null,null,null,null,null,null,null,null,null,null,null,null,null,null,null,null,null,null,null,"SHEET NUMBER",null,null,null,null,null,null,null,null,null,null,null,null,null,null,null,{"$f":"IF(FP94<>\"\",\"REVISED\",\"\")","v":""},null,null,null,null,null,{"$f":"IF(ProjectInformation!$B$9<>\"\",ProjectInformation!$B$9,\"\")","v":""}]
[""]

{"sheet":"Note1","index":8,"n_rows":1,"n_cols":1,"rows_kept":1,"cut":false,"hidden":true,"merged":[[0,0,2,0]]}
["SEE V SHEETS FOR ADDITIONAL BID ITEMS AND QUANTITIES"]

{"sheet":"BridgeBlock","index":9,"n_rows":4,"n_cols":14,"rows_kept":4,"cut":false,"hidden":true,"merged":[[2,2,2,8],[3,2,3,7],[2,9,2,12],[3,8,3,12]]}
[2]
[null,"","","","","","","","","","","","",""]
[null,null,"Design No.",null,null,null,null,null,null,{"$f":"IF(#REF!<>\"\",#REF!,\"\")","v":{"$error":"#REF!"}}]
[null,null,"File No.",null,null,null,null,null,{"$f":"IF(#REF!<>\"\",#REF!,\"\")","v":{"$error":"#REF!"}}]

{"sheet":"Index","index":10,"n_rows":164,"n_cols":17,"rows_kept":164,"cut":false,"hidden":true,"merged":[]}
["100-0A","1997-10-28","4.5.5","ADAIR",null,"Live English File Path","W:\\Highway\\Design\\RoadDesignDetails\\ExcelTabs\\",null,"Brian R. Smith","bsmith2","Methods","ROADWAY DESIGN",null,"104_3(1)","='104_3'!$A$1:$AO$90",null,"A_DE111Series.xlsm"]
["100-1A","1997-07-15","10/01/15","ADAMS",null,"Live Metric File Path","W:\\Highway\\Design\\RoadDesignDetails\\ExcelTabs\\MetricTabs\\",null,"Khyle B. Clute","kclute","Methods","ROADWAY DESIGN",null,"104_3(2)","='104_3'!$A$91:$AO$180",null,"C_DE100Series.xlsm"]
["100-1C","2012-04-17","CD","ALLAMAKEE",null,"Index File Path","W:\\Highway\\Design\\RoadDesignDetails\\PDFsandWebFiles\\Indexes\\",null,"Thomas M. Hamski","thamski","Methods","ROADWAY DESIGN",null,"104_4(1)","='104_4'!$A$1:$U$43",null,"C_DE102Series.xlsm"]
["100-1D","2005-10-18",null,"APPANOOSE",null,"Index File Name","TNT_EnglishIndexes.xlsx",null,"Wesley L. Mayberry","wmayber","Methods","ROADWAY DESIGN",null,null,null,null,"C_DE103Series.xlsm"]
["100-4A","2002-10-29",null,"AUDUBON",null,"Last Revision English File Path","W:\\Highway\\Design\\RoadDesignDetails\\Old_Details\\ExcelTabs\\",null,"John M. Narigon","jnarigo","Methods","ROADWAY DESIGN",null,null,null,null,"C_DE104Series.xlsm"]
["100-7","2012-10-16",null,"BENTON",null,"Last Revision Metric File Path","W:\\Highway\\Design\\RoadDesignDetails\\Old_Details\\ExcelTabs\\MetricTabs\\",null,"Christopher Poole","cpoole","Methods","ROADWAY DESIGN",null,null,null,null,"C_DE105Series.xlsm"]
["100-10","2011-10-18",null,"BLACK HAWK",null,"Seed Path","W:\\Highway\\Design\\CADD\\SpreadSheets\\ExcelTabulations.xltm",null,"Daniel J. Harness","dharnes","Methods","ROADWAY DESIGN",null,null,null,null,"C_DE106Series.xlsm"]
["100-11","2008-08-01",null,"BOONE",null,"VersionCheck Path","W:\\Highway\\Design\\CADD\\SpreadSheets\\ExcelTabulations.xlsm",null,"Jason M. Holst","jholst","Road2","ROADWAY DESIGN",null,null,null,null,"C_DE107Series.xlsm"]
["100-12","2008-08-01",null,"BREMER",null,"Standard Road Plan Path","W:\\Highway\\Design\\StandardRoadPlans\\PDFsAndWebFiles\\Indexes\\SRP_EnglishIndex.xls",null,"Jason R. Strum","jstrum","Road1","ROADWAY DESIGN",null,null,null,null,"C_DE108Series.xlsm"]
["100-12A","2008-08-01",null,"BUCHANAN",null,"Last Revision Standard Road Plan Path","W:\\Highway\\Design\\StandardRoadPlans\\PDFsAndWebFiles\\Old_Indexes\\SRP_EnglishIndex.xls",null,"Robert A. Schoenrock","rschoen","Road1","ROADWAY DESIGN",null,null,null,null,"C_DE110Series.xlsm"]
["100-13","2010-04-20",null,"BUENA VISTA",null,"AddIn Path","W:\\Highway\\Design\\CADD\\SpreadSheets\\ExcelTabulations.xlam",null,"Stacy M. Ryan","sryan","Road1","ROADWAY DESIGN",null,null,null,null,"C_DE111Series.xlsm"]
["100-14","2010-04-20",null,"BUTLER",null,"Old Files Path","W:\\Highway\\Design\\RoadDesignDetails\\Old_Details\\ExcelTabs\\",null,"Nathan A. Thede","nthede","Road1","ROADWAY DESIGN",null,null,null,null,"C_DE112Series.xlsm"]
["100-15","2010-04-20",null,"CALHOUN",null,null,null,null,"Yanxiao Jia","yjia","Road2","ROADWAY DESIGN",null,null,null,null,"C_DE113Series.xlsm"]
["100-16","2010-10-19",null,"CARROLL",null,null,null,null,"Ryan R. Miller","rmille3","Road2","ROADWAY DESIGN",null,null,null,null,"C_DE190Series.xlsm"]
["100-17","2010-04-20",null,"CASS",null,null,null,null,"Dustin T. Skogerboe","dskoge2","Road2","ROADWAY DESIGN",null,null,null,null,"C_DE192Series.xlsm"]
["100-18","2010-04-20",null,"CEDAR",null,null,null,null,"Dung T. Ta","dta","Road2","ROADWAY DESIGN",null,null,null,null,"C_DE231Series.xlsm"]
["100-19","2012-10-16",null,"CERRO GORDO",null,null,null,null,"Allison L. P. Smyth","asmyth","Road2","ROADWAY DESIGN",null,null,null,null,"C_DE232Series.xlsm"]
["100-20","2008-08-01",null,"CHEROKEE",null,null,null,null,"Paul W. Flattery","pflatte","Road3","ROADWAY DESIGN",null,null,null,null,"C_DE252Series.xlsm"]
["100-21","2008-08-01",null,"CHICKASAW",null,null,null,null,"Kelly C. Bell","kbell","Road3","ROADWAY DESIGN",null,null,null,null,"C_DE253Series.xlsm"]
["100-22","2008-08-01",null,"CLARKE",null,null,null,null,"Angela K. Johnson","ajohns1","Road3","ROADWAY DESIGN",null,null,null,null,"C_DE254Series.xlsm"]
["100-23","2010-10-19",null,"CLAY",null,null,null,null,"Elijah D. Gansen","egansen","Road3","ROADWAY DESIGN",null,null,null,null,"C_DE259Series.xlsm"]
["100-24","2013-04-16",null,"CLAYTON",null,null,null,null,"James R. Schoenrock","jschoen","Consultant","ROADWAY DESIGN",null,null,null,null,"C_DE262Series.xlsm"]
["100-26","2008-08-01",null,"CLINTON",null,null,null,null,"Randall E. Schlei","rschlie","Consultant","ROADWAY DESIGN",null,null,null,null,"C_DE271Series.xlsm"]
["100-27","2009-10-20",null,"CRAWFORD",null,null,null,null,"Mark D. Mastellar","mmastel","Roadside","ROADWAY DESIGN",null,null,null,null,"C_DE281Series.xlsm"]
["100-28","2010-10-19",null,"DALLAS",null,null,null,null,"Robert L. Stanley","rstanle","Soils","GEOTECHNICAL DESIGN",null,null,null,null,"C_DE282Series.xlsm"]
["101-4","2002-04-30",null,"DAVIS",null,null,null,null,"Stephen J. Megivern","smegive","Soils","GEOTECHNICAL DESIGN",null,null,null,null,"C_DE290Series.xlsm"]
["101-5","2002-04-30",null,"DECATUR",null,null,null,null,"Mark A. Dell","mdell","Soils","GEOTECHNICAL DESIGN",null,null,null,null,"G_DE101Series.xlsm"]
["101-6","2002-04-30",null,"DELAWARE",null,null,null,null,"David R. Claman","dclaman","Bridge","HYDRAULIC DESIGN",null,null,null,null,"J_DE108Series.xlsm"]
["101-7","2002-04-30",null,"DES MOINES",null,null,null,null,"Zachary K. Abrams","zabrams","TrafficAndSafety","ROADWAY DESIGN",null,null,null,null,"J_DE111Series.xlsm"]
["101-8","2013-04-16",null,"DICKINSON",null,null,null,null,null,null,null,null,null,null,null,null,"J_DE113Series.xlsm"]
["101-13","2004-04-20",null,"DUBUQUE",null,null,null,null,null,null,null,null,null,null,null,null,"S_DE113Series.xlsm"]
["101-16","2009-10-20",null,"EMMET"]
["101-17","2011-04-19",null,"FAYETTE"]
["101-18","2011-04-19",null,"FLOYD"]
["102-3","2013-04-16",null,"FRANKLIN"]
["102-4","2011-10-18",null,"FREMONT"]
["102-5","2012-10-16",null,"GREENE"]
["102-5A","2008-08-01",null,"GRUNDY"]
["102-6C","2011-10-18",null,"GUTHRIE"]
["102-10","2008-08-01",null,"HAMILTON"]
["102-11","2008-08-01",null,"HANCOCK"]
["102-12","2008-08-01",null,"HARDIN"]
["102-14","2012-04-17",null,"HARRISON"]
["102-15","2008-08-01",null,"HENRY"]
["103-1","2010-10-19",null,"HOWARD"]
["103-3","2012-10-16",null,"HUMBOLDT"]
["103-4","2011-04-19",null,"IDA"]
["103-5","2008-08-01",null,"IOWA"]
["103-6","2011-04-19",null,"JACKSON"]
["103-7","2008-08-01",null,"JASPER"]
["104-3","2012-10-16",null,"JEFFERSON"]
["104-4","2009-10-20",null,"JOHNSON"]
["104-5A","2011-10-18",null,"JONES"]
["104-5B","2011-10-18",null,"KEOKUK"]
["104-5C","2012-04-17",null,"KOSSUTH"]
["104-8","2008-08-01",null,"LEE"]
["104-8A","2010-04-20",null,"LINN"]
["104-9","2012-04-17",null,"LOUISA"]
["104-10","2008-08-01",null,"LUCAS"]
["104-11","2008-08-01",null,"LYON"]
["104-12","2012-10-16",null,"MADISON"]
["104-13","2013-04-16",null,"MAHASKA"]
["105-1","1994-09-27",null,"MARION"]
["105-3","2005-10-18",null,"MARSHALL"]
["105-4","2011-10-18",null,"MILLS"]
["106-1","2008-08-01",null,"MITCHELL"]
["106-2","2008-08-01",null,"MONONA"]
["106-3","2008-08-01",null,"MONROE"]
["106-4","2013-04-16",null,"MONTGOMERY"]
["106-5","2008-08-01",null,"MUSCATINE"]
["106-7","2008-08-01",null,"O'BRIEN"]
["106-8","2011-04-19",null,"OSCEOLA"]
["107-7","2008-08-01",null,"PAGE"]
["107-22","2013-04-16",null,"PALO ALTO"]
["107-23","2011-10-18",null,"PLYMOUTH"]
["107-24","2008-08-01",null,"POCAHONTAS"]
["107-25","2008-08-01",null,"POLK"]
["107-29","2012-04-17",null,"POTTAWATTAMIE"]
["107-30","2012-04-17",null,"POWESHIEK"]
["107-31","2011-04-19",null,"RINGGOLD"]
["108-1","2008-08-01",null,"SAC"]
["108-2","2008-08-01",null,"SCOTT"]
["108-2A","2008-08-01",null,"SHELBY"]
["108-8A","2010-10-19",null,"SIOUX"]
["108-8B","2011-10-18",null,"STORY"]
["108-8C","2011-10-18",null,"TAMA"]
["108-8D","2010-10-19",null,"TAYLOR"]
["108-9A","2010-04-20",null,"UNION"]
["108-11A","2008-08-01",null,"VAN BUREN"]
["108-12","2008-08-01",null,"WAPELLO"]
["108-13A","2008-08-01",null,"WARREN"]
["108-15","2008-08-01",null,"WASHINGTON"]
["108-16","2010-10-19",null,"WAYNE"]
["108-18","2011-10-18",null,"WEBSTER"]
["108-18B","2012-10-16",null,"WINNEBAGO"]
["108-22","2013-04-16",null,"WINNESHIEK"]
["108-23A","2008-08-01",null,"WOODBURY"]
["108-24","2011-04-19",null,"WORTH"]
["108-26A","2008-08-01",null,"WRIGHT"]
["108-27","2012-10-16"]
["108-28","2008-08-01"]
["108-29","2012-10-16"]
["108-30","2013-04-16"]
["108-33","2013-04-16"]
["108-34","2010-10-19"]
["108-35","2012-04-17"]
["110-1","2013-04-16"]
["110-2","2013-04-16"]
["110-3","2008-08-01"]
["110-4","2008-08-01"]
["110-5","2008-08-01"]
["110-6","2008-08-01"]
["110-7A","2012-04-17"]
["110-7B","2010-10-19"]
["110-8","2008-08-01"]
["110-9","2011-10-18"]
["110-10","2008-08-01"]
["110-11","2008-08-01"]
["110-12A","2013-04-16"]
["110-13","2010-04-20"]
["110-14","2013-04-16"]
["110-15","2013-04-16"]
["110-16","2013-04-16"]
["111-1","2012-04-17"]
["111-2","1989-02-28"]
["111-23","2002-10-29"]
["111-25","2011-10-18"]
["112-3","2013-04-16"]
["112-5","2008-08-01"]
["112-6","2013-04-16"]
["112-7","2010-10-19"]
["112-8","2012-10-16"]
["112-9","2012-04-17"]
["112-10","2011-04-19"]
["113-1","2013-04-16"]
["113-2","2013-04-16"]
["113-3","2011-10-18"]
["113-10","2012-10-16"]
["213-2","2011-10-18"]
["213-3","2011-10-18"]
["231-1","2011-10-18"]
["231-2","2012-10-16"]
["232-3A","2012-10-16"]
["232-3B","2012-10-16"]
["232-3C","2012-10-16"]
["232-3D","2012-10-16"]
["232-4","2011-10-18"]
["232-6","2011-10-18"]
["232-7","2012-10-16"]
["232-9","2011-10-18"]
["232-11","2012-10-16"]
["241-5","2011-10-18"]
["252-1","2012-10-16"]
["253-1","2011-10-18"]
["254-1","2001-10-02"]
["262-3","2012-10-16"]
["262-4","2013-04-16"]
["262-5","2005-10-18"]
["262-6","2005-10-18"]
["263-1","2011-10-18"]
["271-1","2011-10-18"]
["271-2","1985-08-20"]
["271-4","2011-10-18"]
["271-9","1994-09-27"]