{"text_format":"1","workbook":"xlsx","n_sheets":6,"sheets":["ProjectInformation","PrintSheets","DE104_5B","Index","104_5BTemplate","BidItemCalculations"],"not_rendered":{"charts":0,"images":0,"macros":1,"external_links":0,"defined_names":0,"comments":0,"pivot_tables":0},"unopened":[],"bounds":{"document_bytes":16777216,"sheet_cells":100000,"rows_first":2000,"rows_last":500,"rows_between":2000,"halvings":0,"cell_chars":16384,"cell_head_chars":4096},"cells_cut":0,"cells_raw":0,"read":"whole","date_system":"1900"}

{"sheet":"ProjectInformation","index":0,"n_rows":15,"n_cols":2,"rows_kept":15,"cut":false,"hidden":false,"merged":[[0,0,0,1],[1,0,1,1],[3,0,4,0],[9,0,9,1]]}
["CPN DATA"]
["INFORMATION ADDED BY DESIGNER"]
["Section Engineer","Flattery"]
["Design Team","Bell"]
[]
["County","BENTON"]
["Project Number","NHSX-030-6(231)--3H-06"]
["English or Metric","English"]
["Revised"]
["Bridge Block"]
["File No."]
[]
[]
[]
[null,"     "]

{"sheet":"PrintSheets","index":1,"n_rows":177,"n_cols":172,"rows_kept":177,"cut":false,"hidden":false,"merged":[[8,2,11,53],[8,81,11,100],[8,54,11,80],[8,101,11,177],[112,81,113,86],[112,87,113,90],[112,91,113,94],[112,95,113,99],[112,100,113,106],[112,107,113,112],[112,113,113,118],[112,119,113,123],[112,134,113,141],[112,142,113,149],[112,150,113,157],[112,158,113,164],[112,165,113,177],[66,113,67,118],[66,119,67,123],[66,134,67,141],[66,142,67,149],[66,150,67,157],[66,158,67,164],[66,165,67,177],[64,81,65,86],[64,87,65,90],[111,6,112,24],[111,25,112,48],[64,150,65,157],[84,142,85,149],[84,150,85,157],[68,119,69,123],[171,101,174,106],[120,119,121,123],[120,134,121,141],[140,87,141,90],[140,91,141,94],[140,95,141,99],[140,100,141,106],[140,107,141,112],[146,91,147,94],[146,95,147,99],[142,100,143,106],[134,81,135,86],[135,49,136,53],[135,54,136,59],[135,60,136,67],[148,95,149,99],[124,81,125,86],[124,87,125,90],[124,91,125,94],[130,107,131,112],[134,87,135,90],[134,91,135,94],[134,95,135,99],[134,100,135,106],[134,107,135,112],[134,113,135,118],[124,95,125,99],[124,100,125,106],[124,107,125,112],[124,113,125,118],[124,119,125,123],[143,60,144,67],[168,81,168,177],[116,107,117,112],[116,113,117,118],[138,107,139,112],[138,113,139,118],[138,119,139,123],[140,81,141,86],[154,150,155,157],[154,158,155,164],[148,119,149,123],[150,87,151,90],[140,134,141,141],[140,142,141,149],[142,87,143,90],[142,91,143,94],[136,91,137,94],[128,87,129,90],[128,91,129,94],[128,95,129,99],[130,81,131,86],[130,87,131,90],[130,91,131,94],[130,95,131,99],[130,100,131,106],[142,142,143,149],[144,150,145,157],[130,150,131,157],[130,158,131,164],[130,165,131,177],[138,150,139,157],[126,150,127,157],[115,6,116,24],[115,25,116,48],[115,49,116,53],[115,54,116,59],[115,60,116,67],[115,68,116,80],[150,150,151,157],[150,158,151,164],[150,165,151,177],[146,150,147,157],[138,81,139,86],[138,87,139,90],[138,91,139,94],[138,95,139,99],[136,87,137,90],[146,142,147,149],[146,100,147,106],[148,107,149,112],[148,113,149,118],[138,100,139,106],[126,87,127,90],[126,91,127,94],[116,81,117,86],[126,81,127,86],[136,81,137,86],[144,81,145,86],[135,68,136,80],[143,68,144,80],[142,95,143,99],[80,142,81,149],[108,81,109,86],[108,87,109,90],[108,91,109,94],[124,150,125,157],[124,158,125,164],[124,165,125,177],[148,134,149,141],[148,142,149,149],[148,150,149,157],[148,158,149,164],[148,165,149,177],[146,158,147,164],[124,142,125,149],[124,134,125,141],[64,158,65,164],[126,119,127,123],[68,142,69,149],[68,165,69,177],[70,119,71,123],[74,107,75,112],[74,113,75,118],[80,134,81,141],[90,119,91,123],[90,134,91,141],[92,113,93,118],[92,119,93,123],[92,134,93,141],[126,95,127,99],[126,100,127,106],[120,150,121,157],[144,134,145,141],[80,165,81,177],[74,119,75,123],[74,134,75,141],[92,150,93,157],[92,158,93,164],[98,158,99,164],[120,158,121,164],[120,165,121,177],[122,150,123,157],[122,158,123,164],[122,165,123,177],[80,124,81,133],[82,124,83,133],[78,142,79,149],[86,142,87,149],[86,150,87,157],[86,158,87,164],[86,165,87,177],[82,165,83,177],[84,165,85,177],[92,165,93,177],[100,150,101,157],[100,158,101,164],[100,165,101,177],[106,150,107,157],[106,158,107,164],[106,165,107,177],[118,165,119,177],[122,142,123,149],[78,134,79,141],[116,150,117,157],[120,142,121,149],[72,165,73,177],[74,142,75,149],[62,81,63,86],[62,87,63,90],[62,91,63,94],[62,95,63,99],[62,100,63,106],[62,107,63,112],[62,113,63,118],[62,119,63,123],[62,134,63,141],[62,142,63,149],[62,150,63,157],[62,158,63,164],[62,165,63,177],[60,81,61,86],[60,87,61,90],[60,91,61,94],[60,95,61,99],[60,119,61,123],[60,134,61,141],[74,150,75,157],[74,158,75,164],[74,165,75,177],[72,124,73,133],[74,124,75,133],[68,134,69,141],[64,165,65,177],[70,158,71,164],[58,87,59,90],[58,91,59,94],[58,95,59,99],[58,100,59,106],[58,107,59,112],[58,113,59,118],[58,119,59,123],[58,134,59,141],[58,142,59,149],[58,150,59,157],[58,158,59,164],[58,165,59,177],[56,81,57,86],[56,87,57,90],[56,91,57,94],[56,95,57,99],[56,100,57,106],[56,107,57,112],[56,113,57,118],[56,119,57,123],[56,134,57,141],[46,165,47,177],[46,134,47,141],[46,142,47,149],[46,158,47,164],[46,100,47,106],[46,107,47,112],[46,113,47,118],[46,119,47,123],[46,124,47,133],[54,142,55,149],[54,150,55,157],[54,158,55,164],[54,165,55,177],[52,81,53,86],[52,87,53,90],[52,91,53,94],[52,95,53,99],[52,100,53,106],[52,107,53,112],[52,113,53,118],[52,119,53,123],[52,134,53,141],[52,150,53,157],[52,158,53,164],[50,134,51,141],[48,124,49,133],[50,124,51,133],[52,124,53,133],[50,87,51,90],[50,91,51,94],[50,95,51,99],[50,100,51,106],[59,49,60,53],[59,2,60,5],[59,6,60,24],[54,119,55,123],[54,134,55,141],[66,81,67,86],[66,87,67,90],[66,100,67,106],[66,107,67,112],[64,91,65,94],[64,95,65,99],[64,100,65,106],[64,107,65,112],[64,113,65,118],[64,119,65,123],[64,134,65,141],[115,2,116,5],[111,49,112,53],[111,54,112,59],[78,119,79,123],[106,107,107,112],[106,113,107,118],[81,60,82,67],[81,68,82,80],[113,49,114,53],[113,54,114,59],[113,60,114,67],[113,2,114,5],[93,68,94,80],[87,6,88,24],[67,25,68,48],[103,6,104,24],[139,2,140,5],[126,134,127,141],[120,95,121,99],[120,100,121,106],[120,107,121,112],[120,113,121,118],[106,95,107,99],[47,49,48,53],[54,95,55,99],[70,81,71,86],[70,87,71,90],[68,95,69,99],[68,100,69,106],[68,107,69,112],[68,113,69,118],[71,68,72,80],[73,54,74,59],[73,60,74,67],[126,107,127,112],[126,113,127,118],[49,60,50,67],[127,68,128,80],[87,49,88,53],[87,54,88,59],[87,60,88,67],[70,91,71,94],[114,91,115,94],[82,87,83,90],[80,81,81,86],[80,87,81,90],[80,91,81,94],[106,100,107,106],[46,150,47,157],[67,60,68,67],[48,134,49,141],[100,107,101,112],[100,113,101,118],[100,95,101,99],[100,100,101,106],[70,95,71,99],[70,100,71,106],[82,142,83,149],[70,142,71,149],[70,150,71,157],[67,68,68,80],[75,49,76,53],[75,54,76,59],[66,95,67,99],[48,81,49,86],[48,87,49,90],[48,91,49,94],[48,95,49,99],[48,100,49,106],[48,107,49,112],[48,113,49,118],[48,119,49,123],[54,81,55,86],[54,87,55,90],[54,91,55,94],[55,60,56,67],[67,54,68,59],[60,100,61,106],[60,107,61,112],[50,81,51,86],[44,107,45,112],[55,54,56,59],[82,95,83,99],[82,100,83,106],[82,107,83,112],[92,100,93,106],[92,107,93,112],[82,91,83,94],[88,87,89,90],[66,91,67,94],[49,68,50,80],[47,54,48,59],[47,60,48,67],[65,60,66,67],[65,68,66,80],[59,68,60,80],[74,95,75,99],[74,100,75,106],[92,95,93,99],[80,95,81,99],[80,100,81,106],[84,95,85,99],[68,81,69,86],[68,87,69,90],[68,91,69,94],[72,81,73,86],[82,81,83,86],[46,81,47,86],[46,87,47,90],[46,91,47,94],[46,95,47,99],[58,81,59,86],[4,2,5,177],[6,2,7,177],[25,60,34,67],[25,54,34,59],[25,49,34,53],[25,113,34,118],[25,107,34,112],[25,100,34,106],[25,87,34,94],[45,2,46,5],[45,6,46,24],[45,25,46,48],[45,49,46,53],[45,54,46,59],[45,60,46,67],[45,68,46,80],[47,2,48,5],[47,6,48,24],[47,68,48,80],[48,142,49,149],[48,150,49,157],[48,158,49,164],[43,25,44,48],[49,2,50,5],[49,6,50,24],[49,25,50,48],[37,2,38,5],[39,2,40,5],[12,2,13,177],[14,2,15,177],[16,2,18,80],[16,81,18,177],[48,165,49,177],[50,142,51,149],[52,142,53,149],[56,142,57,149],[60,142,61,149],[64,142,65,149],[138,142,139,149],[50,165,51,177],[50,150,51,157],[50,158,51,164],[52,165,53,177],[54,100,55,106],[54,107,55,112],[54,113,55,118],[68,150,69,157],[68,158,69,164],[136,158,137,164],[136,165,137,177],[50,107,51,112],[50,113,51,118],[50,119,51,123],[60,113,61,118],[56,150,57,157],[82,113,83,118],[56,158,57,164],[70,107,71,112],[70,113,71,118],[56,165,57,177],[60,150,61,157],[60,158,61,164],[60,165,61,177],[84,158,85,164],[35,49,36,53],[49,49,50,53],[49,54,50,59],[63,49,64,53],[63,54,64,59],[63,60,64,67],[63,68,64,80],[67,2,68,5],[47,25,48,48],[119,68,120,80],[71,54,72,59],[71,60,72,67],[69,68,70,80],[105,25,106,48],[109,2,110,5],[57,54,58,59],[87,2,88,5],[71,2,72,5],[57,2,58,5],[57,6,58,24],[57,25,58,48],[63,2,64,5],[63,6,64,24],[63,25,64,48],[55,2,56,5],[55,6,56,24],[55,25,56,48],[75,2,76,5],[105,6,106,24],[77,2,78,5],[111,60,112,67],[111,68,112,80],[157,2,158,5],[159,2,160,5],[51,6,52,24],[51,25,52,48],[51,49,52,53],[51,54,52,59],[51,60,52,67],[51,68,52,80],[53,2,54,5],[53,6,54,24],[53,25,54,48],[53,49,54,53],[53,54,54,59],[53,60,54,67],[53,68,54,80],[133,49,134,53],[135,25,136,48],[59,54,60,59],[59,60,60,67],[75,68,76,80],[141,49,142,53],[67,49,68,53],[73,49,74,53],[55,49,56,53],[55,68,56,80],[129,49,130,53],[129,54,130,59],[129,60,130,67],[129,68,130,80],[113,6,114,24],[113,25,114,48],[113,68,114,80],[125,49,126,53],[125,54,126,59],[125,60,126,67],[125,68,126,80],[117,60,118,67],[117,68,118,80],[161,6,162,24],[153,6,154,24],[153,25,154,48],[153,49,154,53],[153,54,154,59],[153,60,154,67],[149,25,150,48],[142,81,143,86],[75,6,76,24],[75,25,76,48],[139,6,140,24],[131,60,132,67],[77,6,78,24],[77,25,78,48],[123,6,124,24],[109,49,110,53],[161,25,162,48],[147,25,148,48],[155,54,156,59],[155,60,156,67],[155,68,156,80],[155,25,156,48],[155,49,156,53],[157,25,158,48],[129,25,130,48],[143,54,144,59],[155,2,156,5],[61,25,62,48],[61,49,62,53],[61,54,62,59],[61,60,62,67],[61,68,62,80],[161,2,162,5],[153,2,154,5],[153,68,154,80],[135,2,136,5],[135,6,136,24],[141,2,142,5],[141,6,142,24],[127,2,128,5],[149,2,150,5],[149,6,150,24],[127,25,128,48],[143,49,144,53],[93,2,94,5],[137,2,138,5],[157,49,158,53],[151,25,152,48],[143,6,144,24],[151,6,152,24],[125,2,126,5],[125,6,126,24],[133,6,134,24],[133,2,134,5],[133,54,134,59],[133,60,134,67],[65,2,66,5],[65,6,66,24],[167,25,168,48],[167,49,168,53],[167,54,168,59],[167,60,168,67],[167,68,168,80],[147,60,148,67],[131,49,132,53],[163,2,164,5],[165,25,166,48],[151,54,152,59],[151,60,152,67],[145,54,146,59],[139,49,140,53],[139,54,140,59],[139,60,140,67],[139,68,140,80],[117,2,118,5],[117,6,118,24],[143,2,144,5],[121,54,122,59],[129,2,130,5],[131,2,132,5],[145,2,146,5],[167,6,168,24],[163,6,164,24],[165,6,166,24],[165,2,166,5],[165,49,166,53],[165,54,166,59],[165,60,166,67],[155,6,156,24],[157,6,158,24],[61,2,62,5],[61,6,62,24],[59,25,60,48],[111,2,112,5],[127,6,128,24],[70,134,71,141],[125,25,126,48],[121,2,122,5],[121,6,122,24],[123,2,124,5],[71,25,72,48],[73,2,74,5],[73,6,74,24],[73,25,74,48],[69,2,70,5],[79,2,80,5],[79,6,80,24],[127,54,128,59],[127,60,128,67],[121,60,122,67],[121,68,122,80],[107,6,108,24],[93,6,94,24],[93,25,94,48],[109,60,110,67],[109,68,110,80],[117,25,118,48],[117,49,118,53],[117,54,118,59],[128,119,129,123],[128,134,129,141],[122,119,123,123],[38,158,39,164],[38,150,39,157],[38,142,39,149],[38,134,39,141],[79,49,80,53],[81,54,82,59],[71,6,72,24],[105,60,106,67],[105,68,106,80],[107,49,108,53],[107,54,108,59],[107,60,108,67],[109,6,110,24],[107,68,108,80],[109,25,110,48],[77,49,78,53],[77,54,78,59],[91,25,92,48],[77,60,78,67],[77,68,78,80],[79,25,80,48],[87,25,88,48],[40,95,41,99],[37,68,38,80],[41,6,42,24],[90,150,91,157],[44,100,45,106],[42,95,43,99],[72,150,73,157],[72,158,73,164],[80,150,81,157],[80,158,81,164],[51,2,52,5],[69,54,70,59],[25,165,36,177],[35,87,36,90],[35,91,36,94],[35,60,36,67],[31,134,36,141],[25,134,30,157],[25,119,36,123],[35,100,36,106],[35,107,36,112],[25,2,36,5],[25,6,36,24],[25,25,36,48],[25,68,36,80],[35,113,36,118],[25,81,36,86],[35,124,36,133],[25,124,34,133],[57,60,58,67],[57,68,58,80],[65,25,66,48],[65,49,66,53],[65,54,66,59],[69,6,70,24],[69,25,70,48],[69,60,70,67],[69,49,70,53],[42,142,43,149],[42,150,43,157],[42,87,43,90],[42,91,43,94],[145,25,146,48],[145,49,146,53],[129,6,130,24],[131,6,132,24],[152,165,153,177],[131,25,132,48],[107,25,108,48],[67,6,68,24],[57,49,58,53],[73,68,74,80],[145,6,146,24],[147,6,148,24],[134,158,135,164],[134,165,135,177],[121,25,122,48],[121,49,122,53],[127,49,128,53],[123,25,124,48],[137,6,138,24],[128,81,129,86],[133,25,134,48],[144,107,145,112],[144,113,145,118],[144,119,145,123],[146,81,147,86],[146,87,147,90],[150,81,151,86],[109,54,110,59],[133,68,134,80],[146,107,147,112],[146,113,147,118],[144,87,145,90],[136,95,137,99],[136,100,137,106],[137,49,138,53],[137,54,138,59],[137,60,138,67],[137,68,138,80],[132,100,133,106],[148,87,149,90],[150,91,151,94],[146,119,147,123],[146,134,147,141],[159,6,160,24],[132,81,133,86],[132,87,133,90],[132,91,133,94],[132,95,133,99],[131,54,132,59],[131,68,132,80],[160,81,161,86],[157,60,158,67],[157,68,158,80],[151,49,152,53],[140,113,141,118],[140,119,141,123],[130,119,131,123],[130,134,131,141],[132,107,133,112],[132,113,133,118],[134,124,135,133],[136,124,137,133],[130,124,131,133],[132,124,133,133],[163,25,164,48],[163,49,164,53],[159,60,160,67],[144,158,145,164],[142,134,143,141],[142,150,143,157],[142,158,143,164],[142,165,143,177],[142,119,143,123],[143,25,144,48],[141,25,142,48],[147,2,148,5],[139,25,140,48],[160,87,161,90],[160,91,161,94],[151,68,152,80],[149,49,150,53],[162,158,163,164],[162,165,163,177],[162,107,163,112],[162,113,163,118],[138,158,139,164],[138,165,139,177],[162,142,163,149],[150,100,151,106],[154,95,155,99],[147,68,148,80],[141,68,142,80],[160,95,161,99],[160,100,161,106],[159,68,160,80],[137,25,138,48],[164,158,165,164],[164,165,165,177],[164,107,165,112],[164,113,165,118],[164,119,165,123],[164,134,165,141],[164,142,165,149],[140,150,141,157],[140,158,141,164],[140,165,141,177],[141,54,142,59],[141,60,142,67],[145,60,146,67],[145,68,146,80],[144,91,145,94],[144,95,145,99],[144,100,145,106],[148,81,149,86],[154,165,155,177],[144,165,145,177],[144,142,145,149],[156,150,157,157],[156,158,157,164],[156,165,157,177],[152,150,153,157],[150,95,151,99],[156,81,157,86],[156,87,157,90],[156,91,157,94],[164,81,165,86],[164,87,165,90],[164,91,165,94],[166,158,167,164],[163,68,164,80],[166,81,167,86],[166,87,167,90],[148,91,149,94],[148,100,149,106],[167,2,168,5],[166,91,167,94],[166,95,167,99],[166,100,167,106],[152,95,153,99],[154,100,155,106],[152,81,153,86],[152,87,153,90],[152,91,153,94],[151,2,152,5],[149,54,150,59],[161,49,162,53],[161,54,162,59],[161,60,162,67],[161,68,162,80],[159,25,160,48],[159,49,160,53],[159,54,160,59],[157,54,158,59],[165,68,166,80],[147,49,148,53],[147,54,148,59],[163,54,164,59],[163,60,164,67],[149,60,150,67],[149,68,150,80],[166,150,167,157],[164,150,165,157],[158,81,159,86],[158,87,159,90],[158,91,159,94],[158,95,159,99],[158,100,159,106],[158,107,159,112],[158,113,159,118],[158,119,159,123],[158,134,159,141],[158,142,159,149],[150,134,151,141],[154,81,155,86],[154,87,155,90],[154,91,155,94],[154,107,155,112],[154,113,155,118],[152,134,153,141],[152,142,153,149],[154,134,155,141],[154,142,155,149],[156,95,157,99],[156,100,157,106],[156,107,157,112],[154,119,155,123],[160,119,161,123],[160,134,161,141],[160,142,161,149],[160,107,161,112],[160,113,161,118],[162,100,163,106],[31,142,36,149],[43,54,44,59],[43,60,44,67],[44,124,45,133],[37,81,37,177],[38,165,39,177],[43,68,44,80],[31,150,36,157],[25,95,36,99],[25,158,36,164],[35,54,36,59],[136,107,137,112],[88,158,89,164],[88,165,89,177],[90,142,91,149],[90,158,91,164],[116,119,117,123],[116,134,117,141],[116,142,117,149],[128,150,129,157],[128,158,129,164],[128,165,129,177],[90,113,91,118],[132,119,133,123],[132,134,133,141],[132,150,133,157],[132,158,133,164],[132,165,133,177],[82,150,83,157],[82,158,83,164],[92,142,93,149],[130,113,131,118],[43,2,44,5],[38,100,39,106],[44,113,45,118],[44,119,45,123],[44,134,45,141],[44,142,45,149],[44,150,45,157],[44,158,45,164],[44,165,45,177],[41,68,42,80],[41,60,42,67],[41,54,42,59],[42,81,43,86],[43,6,44,24],[38,119,39,123],[38,113,39,118],[38,107,39,112],[38,95,39,99],[37,6,38,24],[40,91,41,94],[37,60,38,67],[37,54,38,59],[39,6,40,24],[39,49,40,53],[39,25,40,48],[43,49,44,53],[39,60,40,67],[39,54,40,59],[44,81,45,86],[44,87,45,90],[44,91,45,94],[44,95,45,99],[19,81,24,177],[39,68,40,80],[40,81,41,86],[40,87,41,90],[38,91,39,94],[38,87,39,90],[38,81,39,86],[37,25,38,48],[42,158,43,164],[42,165,43,177],[40,150,41,157],[40,158,41,164],[40,165,41,177],[40,107,41,112],[40,113,41,118],[40,119,41,123],[40,134,41,141],[40,142,41,149],[38,124,39,133],[40,124,41,133],[42,124,43,133],[41,49,42,53],[41,25,42,48],[37,49,38,53],[19,2,24,80],[42,100,43,106]],"merged_total":1430,"flags":["merged_cut"]}
[]
[]
[]
[]
[null,null,"104-5B"]
[]
[null,null,"2015-10-20"]
[]
[null,null,"    Diameter or equivalent diameter",null,null,null,null,null,null,null,null,null,null,null,null,null,null,null,null,null,null,null,null,null,null,null,null,null,null,null,null,null,null,null,null,null,null,null,null,null,null,null,null,null,null,null,null,null,null,null,null,null,null,null,null,null,null,null,null,null,null,null,null,null,null,null,null,null,null,null,null,null,null,null,null,null,null,null,null,null,null,"STORM SEWER"]
[]
[]
[]
[null,null,"* Bid Item"]
[]
[null,null,"** For SW-545"]
[]
[null,null,"INTAKES AND UTILITY ACCESSES",null,null,null,null,null,null,null,null,null,null,null,null,null,null,null,null,null,null,null,null,null,null,null,null,null,null,null,null,null,null,null,null,null,null,null,null,null,null,null,null,null,null,null,null,null,null,null,null,null,null,null,null,null,null,null,null,null,null,null,null,null,null,null,null,null,null,null,null,null,null,null,null,null,null,null,null,null,null,"PIPES"]
[]
[]
[null,null,null,null,null,null,null,null,null,null,null,null,null,null,null,null,null,null,null,null,null,null,null,null,null,null,null,null,null,null,null,null,null,null,null,null,null,null,null,null,null,null,null,null,null,null,null,null,null,null,null,null,null,null,null,null,null,null,null,null,null,null,null,null,null,null,null,null,null,null,null,null,null,null,null,null,null,null,null,null,null,"Design Length, Slope, and Flowlines are calculated from inside wall to inside wall along CL of pipe. An additional 2 ft length is added to each side of the Design Length to account for estimated length to center of structures."]
[]
[]
[]
[]
[]
[null,null,"No.",null,null,null,"Location Station and Offset",null,null,null,null,null,null,null,null,null,null,null,null,null,null,null,null,null,null,"*Type or Standard Road Plan",null,null,null,null,null,null,null,null,null,null,null,null,null,null,null,null,null,null,null,null,null,null,null,"Form Grade",null,null,null,null,"Bottom Well",null,null,null,null,null,"Extension Length**",null,null,null,null,null,null,null,"Notes",null,null,null,null,null,null,null,null,null,null,null,null,"Line Number",null,null,null,null,null,"Intake/\nUtility\nAccess\nNo.",null,null,null,null,null,null,null,"Class\n'D'",null,null,null,null,"Pipe\nSize",null,null,null,null,null,null,"Bid* Length",null,null,null,null,null,"Design Length",null,null,null,null,null,"Slope %",null,null,null,null,"Connected Pipe Joint (DR-121)",null,null,null,null,null,null,null,null,null,"Flow Lines",null,null,null,null,null,null,null,null,null,null,null,null,null,null,null,null,null,null,null,null,null,null,null,"Pipe Profile Sheet No.",null,null,null,null,null,null,"Notes"]
[]
[]
[]
[]
[]
[null,null,null,null,null,null,null,null,null,null,null,null,null,null,null,null,null,null,null,null,null,null,null,null,null,null,null,null,null,null,null,null,null,null,null,null,null,null,null,null,null,null,null,null,null,null,null,null,null,null,null,null,null,null,null,null,null,null,null,null,null,null,null,null,null,null,null,null,null,null,null,null,null,null,null,null,null,null,null,null,null,null,null,null,null,null,null,null,null,null,null,null,null,null,null,null,null,null,null,null,null,null,null,null,null,null,null,null,null,null,null,null,null,null,null,null,null,null,null,null,null,null,null,null,null,null,null,null,null,null,null,null,null,null,"Inlet Elevation",null,null,null,null,null,null,null,"Outlet Elevation",null,null,null,null,null,null,null,"Other Elevation"]
[]
[]
[]
[null,null,null,null,null,null,null,null,null,null,null,null,null,null,null,null,null,null,null,null,null,null,null,null,null,null,null,null,null,null,null,null,null,null,null,null,null,null,null,null,null,null,null,null,null,null,null,null,null,"Elev.",null,null,null,null,"Elev.",null,null,null,null,null,"FT",null,null,null,null,null,null,null,null,null,null,null,null,null,null,null,null,null,null,null,null,null,null,null,null,null,null,"From",null,null,null,"To",null,null,null,null,null,null,null,null,"IN",null,null,null,null,null,null,"FT",null,null,null,null,null,"FT",null,null,null,null,null,null,null,null,null,null,"Type"]
[]
[null,null,{"$f":"IF(OFFSET(DE104_5B!$A$33,ROWS($A$33:A33)-1,COLUMNS($A$33:A33)-1)<>\"\",OFFSET(DE104_5B!$A$33,ROWS($A$33:A33)-1,COLUMNS($A$33:A33)-1),\"\")","v":1},null,null,null,{"$f":"IF(OFFSET(DE104_5B!$B$33,ROWS($B$33:B33)-1,COLUMNS($B$33:B33)-1)<>\"\",OFFSET(DE104_5B!$B$33,ROWS($B$33:B33)-1,COLUMNS($B$33:B33)-1),\"\")","v":"241473+95.00, 21.96"},null,null,null,null,null,null,null,null,null,null,null,null,null,null,null,null,null,null,{"$f":"IF(OFFSET(DE104_5B!$C$33,ROWS($C$33:C33)-1,COLUMNS($C$33:C33)-1)<>\"\",OFFSET(DE104_5B!$C$33,ROWS($C$33:C33)-1,COLUMNS($C$33:C33)-1),\"\")","v":"SW-549"},null,null,null,null,null,null,null,null,null,null,null,null,null,null,null,null,null,null,null,null,null,null,null,{"$f":"IF(OFFSET(DE104_5B!$D$33,ROWS($D$33:D33)-1,COLUMNS($D$33:D33)-1)<>\"\",OFFSET(DE104_5B!$D$33,ROWS($D$33:D33)-1,COLUMNS($D$33:D33)-1),\"\")","v":943.94},null,null,null,null,{"$f":"IF(OFFSET(DE104_5B!$E$33,ROWS($E$33:E33)-1,COLUMNS($E$33:E33)-1)<>\"\",OFFSET(DE104_5B!$E$33,ROWS($E$33:E33)-1,COLUMNS($E$33:E33)-1),\"\")","v":938.9},null,null,null,null,null,{"$f":"IF(OFFSET(DE104_5B!$F$33,ROWS($F$33:F33)-1,COLUMNS($F$33:F33)-1)<>\"\",OFFSET(DE104_5B!$F$33,ROWS($F$33:F33)-1,COLUMNS($F$33:F33)-1),\"\")","v":""},null,null,null,null,null,null,null,{"$f":"IF(OFFSET(DE104_5B!$G$33,ROWS($G$33:G33)-1,COLUMNS($G$33:G33)-1)<>\"\",OFFSET(DE104_5B!$G$33,ROWS($G$33:G33)-1,COLUMNS($G$33:G33)-1),\"\")","v":""}]
[null,null,null,null,null,null,null,null,null,null,null,null,null,null,null,null,null,null,null,null,null,null,null,null,null,null,null,null,null,null,null,null,null,null,null,null,null,null,null,null,null,null,null,null,null,null,null,null,null,null,null,null,null,null,null,null,null,null,null,null,null,null,null,null,null,null,null,null,null,null,null,null,null,null,null,null,null,null,null,null,null,{"$f":"IF(OFFSET(DE104_5B!$H$34,ROWS($H$34:H34)-1,COLUMNS($H$34:H34)-1)<>\"\",OFFSET(DE104_5B!$H$34,ROWS($H$34:H34)-1,COLUMNS($H$34:H34)-1),\"\")","v":"P-1"},null,null,null,null,null,{"$f":"IF(OFFSET(DE104_5B!$I$34,ROWS($I$34:I34)-1,COLUMNS($I$34:I34)-1)<>\"\",OFFSET(DE104_5B!$I$34,ROWS($I$34:I34)-1,COLUMNS($I$34:I34)-1),\"\")","v":1},null,null,null,{"$f":"IF(OFFSET(DE104_5B!$J$34,ROWS($J$34:J34)-1,COLUMNS($J$34:J34)-1)<>\"\",OFFSET(DE104_5B!$J$34,ROWS($J$34:J34)-1,COLUMNS($J$34:J34)-1),\"\")","v":2},null,null,null,{"$f":"IF(OFFSET(DE104_5B!$K$34,ROWS($K$34:K34)-1,COLUMNS($K$34:K34)-1)<>\"\",OFFSET(DE104_5B!$K$34,ROWS($K$34:K34)-1,COLUMNS($K$34:K34)-1),\"\")","v":2000},null,null,null,null,{"$f":"IF(OFFSET(DE104_5B!$L$34,ROWS($L$34:L34)-1,COLUMNS($L$34:L34)-1)<>\"\",OFFSET(DE104_5B!$L$34,ROWS($L$34:L34)-1,COLUMNS($L$34:L34)-1),\"\")","v":18},null,null,null,null,null,null,{"$f":"IF(OFFSET(DE104_5B!$M$34,ROWS($M$34:M34)-1,COLUMNS($M$34:M34)-1)<>\"\",OFFSET(DE104_5B!$M$34,ROWS($M$34:M34)-1,COLUMNS($M$34:M34)-1),\"\")","v":40},null,null,null,null,null,{"$f":"IF(OFFSET(DE104_5B!$O$34,ROWS($O$34:O34)-1,COLUMNS($O$34:O34)-1)<>\"\",OFFSET(DE104_5B!$O$34,ROWS($O$34:O34)-1,COLUMNS($O$34:O34)-1),\"\")","v":35.5},null,null,null,null,null,{"$f":"IF(OFFSET(DE104_5B!$P$34,ROWS($P$34:P34)-1,COLUMNS($P$34:P34)-1)<>\"\",OFFSET(DE104_5B!$P$34,ROWS($P$34:P34)-1,COLUMNS($P$34:P34)-1),\"\")","v":0.5},null,null,null,null,{"$f":"IF(OFFSET(DE104_5B!$Q$34,ROWS($Q$34:Q34)-1,COLUMNS($Q$34:Q34)-1)<>\"\",OFFSET(DE104_5B!$Q$34,ROWS($Q$34:Q34)-1,COLUMNS($Q$34:Q34)-1),\"\")","v":2},null,null,null,null,null,null,null,null,null,{"$f":"IF(OFFSET(DE104_5B!$R$34,ROWS($R$34:R34)-1,COLUMNS($R$34:R34)-1)<>\"\",OFFSET(DE104_5B!$R$34,ROWS($R$34:R34)-1,COLUMNS($R$34:R34)-1),\"\")","v":939.4},null,null,null,null,null,null,null,{"$f":"IF(OFFSET(DE104_5B!$S$34,ROWS($S$34:S34)-1,COLUMNS($S$34:S34)-1)<>\"\",OFFSET(DE104_5B!$S$34,ROWS($S$34:S34)-1,COLUMNS($S$34:S34)-1),\"\")","v":939.22},null,null,null,null,null,null,null,{"$f":"IF(OFFSET(DE104_5B!$T$34,ROWS($T$34:T34)-1,COLUMNS($T$34:T34)-1)<>\"\",OFFSET(DE104_5B!$T$34,ROWS($T$34:T34)-1,COLUMNS($T$34:T34)-1),\"\")","v":""},null,null,null,null,null,null,null,{"$f":"IF(OFFSET(DE104_5B!$U$34,ROWS($U$34:U34)-1,COLUMNS($U$34:U34)-1)<>\"\",OFFSET(DE104_5B!$U$34,ROWS($U$34:U34)-1,COLUMNS($U$34:U34)-1),\"\")","v":"M.4"},null,null,null,null,null,null,{"$f":"IF(OFFSET(DE104_5B!$V$34,ROWS($V$34:V34)-1,COLUMNS($V$34:V34)-1)<>\"\",OFFSET(DE104_5B!$V$34,ROWS($V$34:V34)-1,COLUMNS($V$34:V34)-1),\"\")","v":""}]
[null,null,{"$f":"IF(OFFSET(DE104_5B!$A$33,ROWS($A$33:A35)-1,COLUMNS($A$33:A35)-1)<>\"\",OFFSET(DE104_5B!$A$33,ROWS($A$33:A35)-1,COLUMNS($A$33:A35)-1),\"\")","v":2},null,null,null,{"$f":"IF(OFFSET(DE104_5B!$B$33,ROWS($B$33:B35)-1,COLUMNS($B$33:B35)-1)<>\"\",OFFSET(DE104_5B!$B$33,ROWS($B$33:B35)-1,COLUMNS($B$33:B35)-1),\"\")","v":"241473+95.00, -21.96"},null,null,null,null,null,null,null,null,null,null,null,null,null,null,null,null,null,null,{"$f":"IF(OFFSET(DE104_5B!$C$33,ROWS($C$33:C35)-1,COLUMNS($C$33:C35)-1)<>\"\",OFFSET(DE104_5B!$C$33,ROWS($C$33:C35)-1,COLUMNS($C$33:C35)-1),\"\")","v":"SW-549"},null,null,null,null,null,null,null,null,null,null,null,null,null,null,null,null,null,null,null,null,null,null,null,{"$f":"IF(OFFSET(DE104_5B!$D$33,ROWS($D$33:D35)-1,COLUMNS($D$33:D35)-1)<>\"\",OFFSET(DE104_5B!$D$33,ROWS($D$33:D35)-1,COLUMNS($D$33:D35)-1),\"\")","v":943.94},null,null,null,null,{"$f":"IF(OFFSET(DE104_5B!$E$33,ROWS($E$33:E35)-1,COLUMNS($E$33:E35)-1)<>\"\",OFFSET(DE104_5B!$E$33,ROWS($E$33:E35)-1,COLUMNS($E$33:E35)-1),\"\")","v":938.4},null,null,null,null,null,{"$f":"IF(OFFSET(DE104_5B!$F$33,ROWS($F$33:F35)-1,COLUMNS($F$33:F35)-1)<>\"\",OFFSET(DE104_5B!$F$33,ROWS($F$33:F35)-1,COLUMNS($F$33:F35)-1),\"\")","v":""},null,null,null,null,null,null,null,{"$f":"IF(OFFSET(DE104_5B!$G$33,ROWS($G$33:G35)-1,COLUMNS($G$33:G35)-1)<>\"\",OFFSET(DE104_5B!$G$33,ROWS($G$33:G35)-1,COLUMNS($G$33:G35)-1),\"\")","v":""}]
[null,null,null,null,null,null,null,null,null,null,null,null,null,null,null,null,null,null,null,null,null,null,null,null,null,null,null,null,null,null,null,null,null,null,null,null,null,null,null,null,null,null,null,null,null,null,null,null,null,null,null,null,null,null,null,null,null,null,null,null,null,null,null,null,null,null,null,null,null,null,null,null,null,null,null,null,null,null,null,null,null,{"$f":"IF(OFFSET(DE104_5B!$H$34,ROWS($H$34:H36)-1,COLUMNS($H$34:H36)-1)<>\"\",OFFSET(DE104_5B!$H$34,ROWS($H$34:H36)-1,COLUMNS($H$34:H36)-1),\"\")","v":"P-2"},null,null,null,null,null,{"$f":"IF(OFFSET(DE104_5B!$I$34,ROWS($I$34:I36)-1,COLUMNS($I$34:I36)-1)<>\"\",OFFSET(DE104_5B!$I$34,ROWS($I$34:I36)-1,COLUMNS($I$34:I36)-1),\"\")","v":2},null,null,null,{"$f":"IF(OFFSET(DE104_5B!$J$34,ROWS($J$34:J36)-1,COLUMNS($J$34:J36)-1)<>\"\",OFFSET(DE104_5B!$J$34,ROWS($J$34:J36)-1,COLUMNS($J$34:J36)-1),\"\")","v":3},null,null,null,{"$f":"IF(OFFSET(DE104_5B!$K$34,ROWS($K$34:K36)-1,COLUMNS($K$34:K36)-1)<>\"\",OFFSET(DE104_5B!$K$34,ROWS($K$34:K36)-1,COLUMNS($K$34:K36)-1),\"\")","v":2000},null,null,null,null,{"$f":"IF(OFFSET(DE104_5B!$L$34,ROWS($L$34:L36)-1,COLUMNS($L$34:L36)-1)<>\"\",OFFSET(DE104_5B!$L$34,ROWS($L$34:L36)-1,COLUMNS($L$34:L36)-1),\"\")","v":18},null,null,null,null,null,null,{"$f":"IF(OFFSET(DE104_5B!$M$34,ROWS($M$34:M36)-1,COLUMNS($M$34:M36)-1)<>\"\",OFFSET(DE104_5B!$M$34,ROWS($M$34:M36)-1,COLUMNS($M$34:M36)-1),\"\")","v":114},null,null,null,null,null,{"$f":"IF(OFFSET(DE104_5B!$O$34,ROWS($O$34:O36)-1,COLUMNS($O$34:O36)-1)<>\"\",OFFSET(DE104_5B!$O$34,ROWS($O$34:O36)-1,COLUMNS($O$34:O36)-1),\"\")","v":110},null,null,null,null,null,{"$f":"IF(OFFSET(DE104_5B!$P$34,ROWS($P$34:P36)-1,COLUMNS($P$34:P36)-1)<>\"\",OFFSET(DE104_5B!$P$34,ROWS($P$34:P36)-1,COLUMNS($P$34:P36)-1),\"\")","v":1},null,null,null,null,{"$f":"IF(OFFSET(DE104_5B!$Q$34,ROWS($Q$34:Q36)-1,COLUMNS($Q$34:Q36)-1)<>\"\",OFFSET(DE104_5B!$Q$34,ROWS($Q$34:Q36)-1,COLUMNS($Q$34:Q36)-1),\"\")","v":2},null,null,null,null,null,null,null,null,null,{"$f":"IF(OFFSET(DE104_5B!$R$34,ROWS($R$34:R36)-1,COLUMNS($R$34:R36)-1)<>\"\",OFFSET(DE104_5B!$R$34,ROWS($R$34:R36)-1,COLUMNS($R$34:R36)-1),\"\")","v":938.9},null,null,null,null,null,null,null,{"$f":"IF(OFFSET(DE104_5B!$S$34,ROWS($S$34:S36)-1,COLUMNS($S$34:S36)-1)<>\"\",OFFSET(DE104_5B!$S$34,ROWS($S$34:S36)-1,COLUMNS($S$34:S36)-1),\"\")","v":937.8},null,null,null,null,null,null,null,{"$f":"IF(OFFSET(DE104_5B!$T$34,ROWS($T$34:T36)-1,COLUMNS($T$34:T36)-1)<>\"\",OFFSET(DE104_5B!$T$34,ROWS($T$34:T36)-1,COLUMNS($T$34:T36)-1),\"\")","v":""},null,null,null,null,null,null,null,{"$f":"IF(OFFSET(DE104_5B!$U$34,ROWS($U$34:U36)-1,COLUMNS($U$34:U36)-1)<>\"\",OFFSET(DE104_5B!$U$34,ROWS($U$34:U36)-1,COLUMNS($U$34:U36)-1),\"\")","v":"M.4"},null,null,null,null,null,null,{"$f":"IF(OFFSET(DE104_5B!$V$34,ROWS($V$34:V36)-1,COLUMNS($V$34:V36)-1)<>\"\",OFFSET(DE104_5B!$V$34,ROWS($V$34:V36)-1,COLUMNS($V$34:V36)-1),\"\")","v":""}]
[null,null,{"$f":"IF(OFFSET(DE104_5B!$A$33,ROWS($A$33:A37)-1,COLUMNS($A$33:A37)-1)<>\"\",OFFSET(DE104_5B!$A$33,ROWS($A$33:A37)-1,COLUMNS($A$33:A37)-1),\"\")","v":3},null,null,null,{"$f":"IF(OFFSET(DE104_5B!$B$33,ROWS($B$33:B37)-1,COLUMNS($B$33:B37)-1)<>\"\",OFFSET(DE104_5B!$B$33,ROWS($B$33:B37)-1,COLUMNS($B$33:B37)-1),\"\")","v":"241472+80.00, -21.96"},null,null,null,null,null,null,null,null,null,null,null,null,null,null,null,null,null,null,{"$f":"IF(OFFSET(DE104_5B!$C$33,ROWS($C$33:C37)-1,COLUMNS($C$33:C37)-1)<>\"\",OFFSET(DE104_5B!$C$33,ROWS($C$33:C37)-1,COLUMNS($C$33:C37)-1),\"\")","v":"SW-549"},null,null,null,null,null,null,null,null,null,null,null,null,null,null,null,null,null,null,null,null,null,null,null,{"$f":"IF(OFFSET(DE104_5B!$D$33,ROWS($D$33:D37)-1,COLUMNS($D$33:D37)-1)<>\"\",OFFSET(DE104_5B!$D$33,ROWS($D$33:D37)-1,COLUMNS($D$33:D37)-1),\"\")","v":942.7},null,null,null,null,{"$f":"IF(OFFSET(DE104_5B!$E$33,ROWS($E$33:E37)-1,COLUMNS($E$33:E37)-1)<>\"\",OFFSET(DE104_5B!$E$33,ROWS($E$33:E37)-1,COLUMNS($E$33:E37)-1),\"\")","v":937},null,null,null,null,null,{"$f":"IF(OFFSET(DE104_5B!$F$33,ROWS($F$33:F37)-1,COLUMNS($F$33:F37)-1)<>\"\",OFFSET(DE104_5B!$F$33,ROWS($F$33:F37)-1,COLUMNS($F$33:F37)-1),\"\")","v":""},null,null,null,null,null,null,null,{"$f":"IF(OFFSET(DE104_5B!$G$33,ROWS($G$33:G37)-1,COLUMNS($G$33:G37)-1)<>\"\",OFFSET(DE104_5B!$G$33,ROWS($G$33:G37)-1,COLUMNS($G$33:G37)-1),\"\")","v":""}]
[null,null,null,null,null,null,null,null,null,null,null,null,null,null,null,null,null,null,null,null,null,null,null,null,null,null,null,null,null,null,null,null,null,null,null,null,null,null,null,null,null,null,null,null,null,null,null,null,null,null,null,null,null,null,null,null,null,null,null,null,null,null,null,null,null,null,null,null,null,null,null,null,null,null,null,null,null,null,null,null,null,{"$f":"IF(OFFSET(DE104_5B!$H$34,ROWS($H$34:H38)-1,COLUMNS($H$34:H38)-1)<>\"\",OFFSET(DE104_5B!$H$34,ROWS($H$34:H38)-1,COLUMNS($H$34:H38)-1),\"\")","v":"P-3"},null,null,null,null,null,{"$f":"IF(OFFSET(DE104_5B!$I$34,ROWS($I$34:I38)-1,COLUMNS($I$34:I38)-1)<>\"\",OFFSET(DE104_5B!$I$34,ROWS($I$34:I38)-1,COLUMNS($I$34:I38)-1),\"\")","v":3},null,null,null,{"$f":"IF(OFFSET(DE104_5B!$J$34,ROWS($J$34:J38)-1,COLUMNS($J$34:J38)-1)<>\"\",OFFSET(DE104_5B!$J$34,ROWS($J$34:J38)-1,COLUMNS($J$34:J38)-1),\"\")","v":4},null,null,null,{"$f":"IF(OFFSET(DE104_5B!$K$34,ROWS($K$34:K38)-1,COLUMNS($K$34:K38)-1)<>\"\",OFFSET(DE104_5B!$K$34,ROWS($K$34:K38)-1,COLUMNS($K$34:K38)-1),\"\")","v":2000},null,null,null,null,{"$f":"IF(OFFSET(DE104_5B!$L$34,ROWS($L$34:L38)-1,COLUMNS($L$34:L38)-1)<>\"\",OFFSET(DE104_5B!$L$34,ROWS($L$34:L38)-1,COLUMNS($L$34:L38)-1),\"\")","v":18},null,null,null,null,null,null,{"$f":"IF(OFFSET(DE104_5B!$M$34,ROWS($M$34:M38)-1,COLUMNS($M$34:M38)-1)<>\"\",OFFSET(DE104_5B!$M$34,ROWS($M$34:M38)-1,COLUMNS($M$34:M38)-1),\"\")","v":114},null,null,null,null,null,{"$f":"IF(OFFSET(DE104_5B!$O$34,ROWS($O$34:O38)-1,COLUMNS($O$34:O38)-1)<>\"\",OFFSET(DE104_5B!$O$34,ROWS($O$34:O38)-1,COLUMNS($O$34:O38)-1),\"\")","v":110},null,null,null,null,null,{"$f":"IF(OFFSET(DE104_5B!$P$34,ROWS($P$34:P38)-1,COLUMNS($P$34:P38)-1)<>\"\",OFFSET(DE104_5B!$P$34,ROWS($P$34:P38)-1,COLUMNS($P$34:P38)-1),\"\")","v":1.5},null,null,null,null,{"$f":"IF(OFFSET(DE104_5B!$Q$34,ROWS($Q$34:Q38)-1,COLUMNS($Q$34:Q38)-1)<>\"\",OFFSET(DE104_5B!$Q$34,ROWS($Q$34:Q38)-1,COLUMNS($Q$34:Q38)-1),\"\")","v":2},null,null,null,null,null,null,null,null,null,{"$f":"IF(OFFSET(DE104_5B!$R$34,ROWS($R$34:R38)-1,COLUMNS($R$34:R38)-1)<>\"\",OFFSET(DE104_5B!$R$34,ROWS($R$34:R38)-1,COLUMNS($R$34:R38)-1),\"\")","v":937.5},null,null,null,null,null,null,null,{"$f":"IF(OFFSET(DE104_5B!$S$34,ROWS($S$34:S38)-1,COLUMNS($S$34:S38)-1)<>\"\",OFFSET(DE104_5B!$S$34,ROWS($S$34:S38)-1,COLUMNS($S$34:S38)-1),\"\")","v":935.85},null,null,null,null,null,null,null,{"$f":"IF(OFFSET(DE104_5B!$T$34,ROWS($T$34:T38)-1,COLUMNS($T$34:T38)-1)<>\"\",OFFSET(DE104_5B!$T$34,ROWS($T$34:T38)-1,COLUMNS($T$34:T38)-1),\"\")","v":""},null,null,null,null,null,null,null,{"$f":"IF(OFFSET(DE104_5B!$U$34,ROWS($U$34:U38)-1,COLUMNS($U$34:U38)-1)<>\"\",OFFSET(DE104_5B!$U$34,ROWS($U$34:U38)-1,COLUMNS($U$34:U38)-1),\"\")","v":"M.4"},null,null,null,null,null,null,{"$f":"IF(OFFSET(DE104_5B!$V$34,ROWS($V$34:V38)-1,COLUMNS($V$34:V38)-1)<>\"\",OFFSET(DE104_5B!$V$34,ROWS($V$34:V38)-1,COLUMNS($V$34:V38)-1),\"\")","v":""}]
[null,null,{"$f":"IF(OFFSET(DE104_5B!$A$33,ROWS($A$33:A39)-1,COLUMNS($A$33:A39)-1)<>\"\",OFFSET(DE104_5B!$A$33,ROWS($A$33:A39)-1,COLUMNS($A$33:A39)-1),\"\")","v":4},null,null,null,{"$f":"IF(OFFSET(DE104_5B!$B$33,ROWS($B$33:B39)-1,COLUMNS($B$33:B39)-1)<>\"\",OFFSET(DE104_5B!$B$33,ROWS($B$33:B39)-1,COLUMNS($B$33:B39)-1),\"\")","v":"241471+65.00, -21.96"},null,null,null,null,null,null,null,null,null,null,null,null,null,null,null,null,null,null,{"$f":"IF(OFFSET(DE104_5B!$C$33,ROWS($C$33:C39)-1,COLUMNS($C$33:C39)-1)<>\"\",OFFSET(DE104_5B!$C$33,ROWS($C$33:C39)-1,COLUMNS($C$33:C39)-1),\"\")","v":"SW-549"},null,null,null,null,null,null,null,null,null,null,null,null,null,null,null,null,null,null,null,null,null,null,null,{"$f":"IF(OFFSET(DE104_5B!$D$33,ROWS($D$33:D39)-1,COLUMNS($D$33:D39)-1)<>\"\",OFFSET(DE104_5B!$D$33,ROWS($D$33:D39)-1,COLUMNS($D$33:D39)-1),\"\")","v":941.09},null,null,null,null,{"$f":"IF(OFFSET(DE104_5B!$E$33,ROWS($E$33:E39)-1,COLUMNS($E$33:E39)-1)<>\"\",OFFSET(DE104_5B!$E$33,ROWS($E$33:E39)-1,COLUMNS($E$33:E39)-1),\"\")","v":935},null,null,null,null,null,{"$f":"IF(OFFSET(DE104_5B!$F$33,ROWS($F$33:F39)-1,COLUMNS($F$33:F39)-1)<>\"\",OFFSET(DE104_5B!$F$33,ROWS($F$33:F39)-1,COLUMNS($F$33:F39)-1),\"\")","v":""},null,null,null,null,null,null,null,{"$f":"IF(OFFSET(DE104_5B!$G$33,ROWS($G$33:G39)-1,COLUMNS($G$33:G39)-1)<>\"\",OFFSET(DE104_5B!$G$33,ROWS($G$33:G39)-1,COLUMNS($G$33:G39)-1),\"\")","v":""}]
[null,null,null,null,null,null,null,null,null,null,null,null,null,null,null,null,null,null,null,null,null,null,null,null,null,null,null,null,null,null,null,null,null,null,null,null,null,null,null,null,null,null,null,null,null,null,null,null,null,null,null,null,null,null,null,null,null,null,null,null,null,null,null,null,null,null,null,null,null,null,null,null,null,null,null,null,null,null,null,null,null,{"$f":"IF(OFFSET(DE104_5B!$H$34,ROWS($H$34:H40)-1,COLUMNS($H$34:H40)-1)<>\"\",OFFSET(DE104_5B!$H$34,ROWS($H$34:H40)-1,COLUMNS($H$34:H40)-1),\"\")","v":"P-4"},null,null,null,null,null,{"$f":"IF(OFFSET(DE104_5B!$I$34,ROWS($I$34:I40)-1,COLUMNS($I$34:I40)-1)<>\"\",OFFSET(DE104_5B!$I$34,ROWS($I$34:I40)-1,COLUMNS($I$34:I40)-1),\"\")","v":4},null,null,null,{"$f":"IF(OFFSET(DE104_5B!$J$34,ROWS($J$34:J40)-1,COLUMNS($J$34:J40)-1)<>\"\",OFFSET(DE104_5B!$J$34,ROWS($J$34:J40)-1,COLUMNS($J$34:J40)-1),\"\")","v":5},null,null,null,{"$f":"IF(OFFSET(DE104_5B!$K$34,ROWS($K$34:K40)-1,COLUMNS($K$34:K40)-1)<>\"\",OFFSET(DE104_5B!$K$34,ROWS($K$34:K40)-1,COLUMNS($K$34:K40)-1),\"\")","v":2000},null,null,null,null,{"$f":"IF(OFFSET(DE104_5B!$L$34,ROWS($L$34:L40)-1,COLUMNS($L$34:L40)-1)<>\"\",OFFSET(DE104_5B!$L$34,ROWS($L$34:L40)-1,COLUMNS($L$34:L40)-1),\"\")","v":18},null,null,null,null,null,null,{"$f":"IF(OFFSET(DE104_5B!$M$34,ROWS($M$34:M40)-1,COLUMNS($M$34:M40)-1)<>\"\",OFFSET(DE104_5B!$M$34,ROWS($M$34:M40)-1,COLUMNS($M$34:M40)-1),\"\")","v":79},null,null,null,null,null,{"$f":"IF(OFFSET(DE104_5B!$O$34,ROWS($O$34:O40)-1,COLUMNS($O$34:O40)-1)<>\"\",OFFSET(DE104_5B!$O$34,ROWS($O$34:O40)-1,COLUMNS($O$34:O40)-1),\"\")","v":74.02},null,null,null,null,null,{"$f":"IF(OFFSET(DE104_5B!$P$34,ROWS($P$34:P40)-1,COLUMNS($P$34:P40)-1)<>\"\",OFFSET(DE104_5B!$P$34,ROWS($P$34:P40)-1,COLUMNS($P$34:P40)-1),\"\")","v":2},null,null,null,null,{"$f":"IF(OFFSET(DE104_5B!$Q$34,ROWS($Q$34:Q40)-1,COLUMNS($Q$34:Q40)-1)<>\"\",OFFSET(DE104_5B!$Q$34,ROWS($Q$34:Q40)-1,COLUMNS($Q$34:Q40)-1),\"\")","v":2},null,null,null,null,null,null,null,null,null,{"$f":"IF(OFFSET(DE104_5B!$R$34,ROWS($R$34:R40)-1,COLUMNS($R$34:R40)-1)<>\"\",OFFSET(DE104_5B!$R$34,ROWS($R$34:R40)-1,COLUMNS($R$34:R40)-1),\"\")","v":935.5},null,null,null,null,null,null,null,{"$f":"IF(OFFSET(DE104_5B!$S$34,ROWS($S$34:S40)-1,COLUMNS($S$34:S40)-1)<>\"\",OFFSET(DE104_5B!$S$34,ROWS($S$34:S40)-1,COLUMNS($S$34:S40)-1),\"\")","v":934.02},null,null,null,null,null,null,null,{"$f":"IF(OFFSET(DE104_5B!$T$34,ROWS($T$34:T40)-1,COLUMNS($T$34:T40)-1)<>\"\",OFFSET(DE104_5B!$T$34,ROWS($T$34:T40)-1,COLUMNS($T$34:T40)-1),\"\")","v":""},null,null,null,null,null,null,null,{"$f":"IF(OFFSET(DE104_5B!$U$34,ROWS($U$34:U40)-1,COLUMNS($U$34:U40)-1)<>\"\",OFFSET(DE104_5B!$U$34,ROWS($U$34:U40)-1,COLUMNS($U$34:U40)-1),\"\")","v":"M.4"},null,null,null,null,null,null,{"$f":"IF(OFFSET(DE104_5B!$V$34,ROWS($V$34:V40)-1,COLUMNS($V$34:V40)-1)<>\"\",OFFSET(DE104_5B!$V$34,ROWS($V$34:V40)-1,COLUMNS($V$34:V40)-1),\"\")","v":""}]
[null,null,{"$f":"IF(OFFSET(DE104_5B!$A$33,ROWS($A$33:A41)-1,COLUMNS($A$33:A41)-1)<>\"\",OFFSET(DE104_5B!$A$33,ROWS($A$33:A41)-1,COLUMNS($A$33:A41)-1),\"\")","v":5},null,null,null,{"$f":"IF(OFFSET(DE104_5B!$B$33,ROWS($B$33:B41)-1,COLUMNS($B$33:B41)-1)<>\"\",OFFSET(DE104_5B!$B$33,ROWS($B$33:B41)-1,COLUMNS($B$33:B41)-1),\"\")","v":"241470+87.00, -23.58"},null,null,null,null,null,null,null,null,null,null,null,null,null,null,null,null,null,null,{"$f":"IF(OFFSET(DE104_5B!$C$33,ROWS($C$33:C41)-1,COLUMNS($C$33:C41)-1)<>\"\",OFFSET(DE104_5B!$C$33,ROWS($C$33:C41)-1,COLUMNS($C$33:C41)-1),\"\")","v":"SW-538"},null,null,null,null,null,null,null,null,null,null,null,null,null,null,null,null,null,null,null,null,null,null,null,{"$f":"IF(OFFSET(DE104_5B!$D$33,ROWS($D$33:D41)-1,COLUMNS($D$33:D41)-1)<>\"\",OFFSET(DE104_5B!$D$33,ROWS($D$33:D41)-1,COLUMNS($D$33:D41)-1),\"\")","v":939.62},null,null,null,null,{"$f":"IF(OFFSET(DE104_5B!$E$33,ROWS($E$33:E41)-1,COLUMNS($E$33:E41)-1)<>\"\",OFFSET(DE104_5B!$E$33,ROWS($E$33:E41)-1,COLUMNS($E$33:E41)-1),\"\")","v":933},null,null,null,null,null,{"$f":"IF(OFFSET(DE104_5B!$F$33,ROWS($F$33:F41)-1,COLUMNS($F$33:F41)-1)<>\"\",OFFSET(DE104_5B!$F$33,ROWS($F$33:F41)-1,COLUMNS($F$33:F41)-1),\"\")","v":""},null,null,null,null,null,null,null,{"$f":"IF(OFFSET(DE104_5B!$G$33,ROWS($G$33:G41)-1,COLUMNS($G$33:G41)-1)<>\"\",OFFSET(DE104_5B!$G$33,ROWS($G$33:G41)-1,COLUMNS($G$33:G41)-1),\"\")","v":""}]
[null,null,null,null,null,null,null,null,null,null,null,null,null,null,null,null,null,null,null,null,null,null,null,null,null,null,null,null,null,null,null,null,null,null,null,null,null,null,null,null,null,null,null,null,null,null,null,null,null,null,null,null,null,null,null,null,null,null,null,null,null,null,null,null,null,null,null,null,null,null,null,null,null,null,null,null,null,null,null,null,null,{"$f":"IF(OFFSET(DE104_5B!$H$34,ROWS($H$34:H42)-1,COLUMNS($H$34:H42)-1)<>\"\",OFFSET(DE104_5B!$H$34,ROWS($H$34:H42)-1,COLUMNS($H$34:H42)-1),\"\")","v":"P-5"},null,null,null,null,null,{"$f":"IF(OFFSET(DE104_5B!$I$34,ROWS($I$34:I42)-1,COLUMNS($I$34:I42)-1)<>\"\",OFFSET(DE104_5B!$I$34,ROWS($I$34:I42)-1,COLUMNS($I$34:I42)-1),\"\")","v":5},null,null,null,{"$f":"IF(OFFSET(DE104_5B!$J$34,ROWS($J$34:J42)-1,COLUMNS($J$34:J42)-1)<>\"\",OFFSET(DE104_5B!$J$34,ROWS($J$34:J42)-1,COLUMNS($J$34:J42)-1),\"\")","v":6},null,null,null,{"$f":"IF(OFFSET(DE104_5B!$K$34,ROWS($K$34:K42)-1,COLUMNS($K$34:K42)-1)<>\"\",OFFSET(DE104_5B!$K$34,ROWS($K$34:K42)-1,COLUMNS($K$34:K42)-1),\"\")","v":2000},null,null,null,null,{"$f":"IF(OFFSET(DE104_5B!$L$34,ROWS($L$34:L42)-1,COLUMNS($L$34:L42)-1)<>\"\",OFFSET(DE104_5B!$L$34,ROWS($L$34:L42)-1,COLUMNS($L$34:L42)-1),\"\")","v":18},null,null,null,null,null,null,{"$f":"IF(OFFSET(DE104_5B!$M$34,ROWS($M$34:M42)-1,COLUMNS($M$34:M42)-1)<>\"\",OFFSET(DE104_5B!$M$34,ROWS($M$34:M42)-1,COLUMNS($M$34:M42)-1),\"\")","v":16},null,null,null,null,null,{"$f":"IF(OFFSET(DE104_5B!$O$34,ROWS($O$34:O42)-1,COLUMNS($O$34:O42)-1)<>\"\",OFFSET(DE104_5B!$O$34,ROWS($O$34:O42)-1,COLUMNS($O$34:O42)-1),\"\")","v":11.61},null,null,null,null,null,{"$f":"IF(OFFSET(DE104_5B!$P$34,ROWS($P$34:P42)-1,COLUMNS($P$34:P42)-1)<>\"\",OFFSET(DE104_5B!$P$34,ROWS($P$34:P42)-1,COLUMNS($P$34:P42)-1),\"\")","v":4},null,null,null,null,{"$f":"IF(OFFSET(DE104_5B!$Q$34,ROWS($Q$34:Q42)-1,COLUMNS($Q$34:Q42)-1)<>\"\",OFFSET(DE104_5B!$Q$34,ROWS($Q$34:Q42)-1,COLUMNS($Q$34:Q42)-1),\"\")","v":2},null,null,null,null,null,null,null,null,null,{"$f":"IF(OFFSET(DE104_5B!$R$34,ROWS($R$34:R42)-1,COLUMNS($R$34:R42)-1)<>\"\",OFFSET(DE104_5B!$R$34,ROWS($R$34:R42)-1,COLUMNS($R$34:R42)-1),\"\")","v":933.5},null,null,null,null,null,null,null,{"$f":"IF(OFFSET(DE104_5B!$S$34,ROWS($S$34:S42)-1,COLUMNS($S$34:S42)-1)<>\"\",OFFSET(DE104_5B!$S$34,ROWS($S$34:S42)-1,COLUMNS($S$34:S42)-1),\"\")","v":933.04},null,null,null,null,null,null,null,{"$f":"IF(OFFSET(DE104_5B!$T$34,ROWS($T$34:T42)-1,COLUMNS($T$34:T42)-1)<>\"\",OFFSET(DE104_5B!$T$34,ROWS($T$34:T42)-1,COLUMNS($T$34:T42)-1),\"\")","v":""},null,null,null,null,null,null,null,{"$f":"IF(OFFSET(DE104_5B!$U$34,ROWS($U$34:U42)-1,COLUMNS($U$34:U42)-1)<>\"\",OFFSET(DE104_5B!$U$34,ROWS($U$34:U42)-1,COLUMNS($U$34:U42)-1),\"\")","v":"M.4"},null,null,null,null,null,null,{"$f":"IF(OFFSET(DE104_5B!$V$34,ROWS($V$34:V42)-1,COLUMNS($V$34:V42)-1)<>\"\",OFFSET(DE104_5B!$V$34,ROWS($V$34:V42)-1,COLUMNS($V$34:V42)-1),\"\")","v":""}]
[null,null,{"$f":"IF(OFFSET(DE104_5B!$A$33,ROWS($A$33:A43)-1,COLUMNS($A$33:A43)-1)<>\"\",OFFSET(DE104_5B!$A$33,ROWS($A$33:A43)-1,COLUMNS($A$33:A43)-1),\"\")","v":6},null,null,null,{"$f":"IF(OFFSET(DE104_5B!$B$33,ROWS($B$33:B43)-1,COLUMNS($B$33:B43)-1)<>\"\",OFFSET(DE104_5B!$B$33,ROWS($B$33:B43)-1,COLUMNS($B$33:B43)-1),\"\")","v":"241470+87.00, -35"},null,null,null,null,null,null,null,null,null,null,null,null,null,null,null,null,null,null,{"$f":"IF(OFFSET(DE104_5B!$C$33,ROWS($C$33:C43)-1,COLUMNS($C$33:C43)-1)<>\"\",OFFSET(DE104_5B!$C$33,ROWS($C$33:C43)-1,COLUMNS($C$33:C43)-1),\"\")","v":"DR-122"},null,null,null,null,null,null,null,null,null,null,null,null,null,null,null,null,null,null,null,null,null,null,null,{"$f":"IF(OFFSET(DE104_5B!$D$33,ROWS($D$33:D43)-1,COLUMNS($D$33:D43)-1)<>\"\",OFFSET(DE104_5B!$D$33,ROWS($D$33:D43)-1,COLUMNS($D$33:D43)-1),\"\")","v":937.97},null,null,null,null,{"$f":"IF(OFFSET(DE104_5B!$E$33,ROWS($E$33:E43)-1,COLUMNS($E$33:E43)-1)<>\"\",OFFSET(DE104_5B!$E$33,ROWS($E$33:E43)-1,COLUMNS($E$33:E43)-1),\"\")","v":933.04},null,null,null,null,null,{"$f":"IF(OFFSET(DE104_5B!$F$33,ROWS($F$33:F43)-1,COLUMNS($F$33:F43)-1)<>\"\",OFFSET(DE104_5B!$F$33,ROWS($F$33:F43)-1,COLUMNS($F$33:F43)-1),\"\")","v":""},null,null,null,null,null,null,null,{"$f":"IF(OFFSET(DE104_5B!$G$33,ROWS($G$33:G43)-1,COLUMNS($G$33:G43)-1)<>\"\",OFFSET(DE104_5B!$G$33,ROWS($G$33:G43)-1,COLUMNS($G$33:G43)-1),\"\")","v":""}]
[null,null,null,null,null,null,null,null,null,null,null,null,null,null,null,null,null,null,null,null,null,null,null,null,null,null,null,null,null,null,null,null,null,null,null,null,null,null,null,null,null,null,null,null,null,null,null,null,null,null,null,null,null,null,null,null,null,null,null,null,null,null,null,null,null,null,null,null,null,null,null,null,null,null,null,null,null,null,null,null,null,{"$f":"IF(OFFSET(DE104_5B!$H$34,ROWS($H$34:H44)-1,COLUMNS($H$34:H44)-1)<>\"\",OFFSET(DE104_5B!$H$34,ROWS($H$34:H44)-1,COLUMNS($H$34:H44)-1),\"\")","v":"P-6"},null,null,null,null,null,{"$f":"IF(OFFSET(DE104_5B!$I$34,ROWS($I$34:I44)-1,COLUMNS($I$34:I44)-1)<>\"\",OFFSET(DE104_5B!$I$34,ROWS($I$34:I44)-1,COLUMNS($I$34:I44)-1),\"\")","v":6},null,null,null,{"$f":"IF(OFFSET(DE104_5B!$J$34,ROWS($J$34:J44)-1,COLUMNS($J$34:J44)-1)<>\"\",OFFSET(DE104_5B!$J$34,ROWS($J$34:J44)-1,COLUMNS($J$34:J44)-1),\"\")","v":7},null,null,null,{"$f":"IF(OFFSET(DE104_5B!$K$34,ROWS($K$34:K44)-1,COLUMNS($K$34:K44)-1)<>\"\",OFFSET(DE104_5B!$K$34,ROWS($K$34:K44)-1,COLUMNS($K$34:K44)-1),\"\")","v":2000},null,null,null,null,{"$f":"IF(OFFSET(DE104_5B!$L$34,ROWS($L$34:L44)-1,COLUMNS($L$34:L44)-1)<>\"\",OFFSET(DE104_5B!$L$34,ROWS($L$34:L44)-1,COLUMNS($L$34:L44)-1),\"\")","v":18},null,null,null,null,null,null,{"$f":"IF(OFFSET(DE104_5B!$M$34,ROWS($M$34:M44)-1,COLUMNS($M$34:M44)-1)<>\"\",OFFSET(DE104_5B!$M$34,ROWS($M$34:M44)-1,COLUMNS($M$34:M44)-1),\"\")","v":57},null,null,null,null,null,{"$f":"IF(OFFSET(DE104_5B!$O$34,ROWS($O$34:O44)-1,COLUMNS($O$34:O44)-1)<>\"\",OFFSET(DE104_5B!$O$34,ROWS($O$34:O44)-1,COLUMNS($O$34:O44)-1),\"\")","v":53},null,null,null,null,null,{"$f":"IF(OFFSET(DE104_5B!$P$34,ROWS($P$34:P44)-1,COLUMNS($P$34:P44)-1)<>\"\",OFFSET(DE104_5B!$P$34,ROWS($P$34:P44)-1,COLUMNS($P$34:P44)-1),\"\")","v":22.49},null,null,null,null,{"$f":"IF(OFFSET(DE104_5B!$Q$34,ROWS($Q$34:Q44)-1,COLUMNS($Q$34:Q44)-1)<>\"\",OFFSET(DE104_5B!$Q$34,ROWS($Q$34:Q44)-1,COLUMNS($Q$34:Q44)-1),\"\")","v":2},null,null,null,null,null,null,null,null,null,{"$f":"IF(OFFSET(DE104_5B!$R$34,ROWS($R$34:R44)-1,COLUMNS($R$34:R44)-1)<>\"\",OFFSET(DE104_5B!$R$34,ROWS($R$34:R44)-1,COLUMNS($R$34:R44)-1),\"\")","v":933.04},null,null,null,null,null,null,null,{"$f":"IF(OFFSET(DE104_5B!$S$34,ROWS($S$34:S44)-1,COLUMNS($S$34:S44)-1)<>\"\",OFFSET(DE104_5B!$S$34,ROWS($S$34:S44)-1,COLUMNS($S$34:S44)-1),\"\")","v":921.12},null,null,null,null,null,null,null,{"$f":"IF(OFFSET(DE104_5B!$T$34,ROWS($T$34:T44)-1,COLUMNS($T$34:T44)-1)<>\"\",OFFSET(DE104_5B!$T$34,ROWS($T$34:T44)-1,COLUMNS($T$34:T44)-1),\"\")","v":""},null,null,null,null,null,null,null,{"$f":"IF(OFFSET(DE104_5B!$U$34,ROWS($U$34:U44)-1,COLUMNS($U$34:U44)-1)<>\"\",OFFSET(DE104_5B!$U$34,ROWS($U$34:U44)-1,COLUMNS($U$34:U44)-1),\"\")","v":"M.4"},null,null,null,null,null,null,{"$f":"IF(OFFSET(DE104_5B!$V$34,ROWS($V$34:V44)-1,COLUMNS($V$34:V44)-1)<>\"\",OFFSET(DE104_5B!$V$34,ROWS($V$34:V44)-1,COLUMNS($V$34:V44)-1),\"\")","v":""}]
[null,null,{"$f":"IF(OFFSET(DE104_5B!$A$33,ROWS($A$33:A45)-1,COLUMNS($A$33:A45)-1)<>\"\",OFFSET(DE104_5B!$A$33,ROWS($A$33:A45)-1,COLUMNS($A$33:A45)-1),\"\")","v":7},null,null,null,{"$f":"IF(OFFSET(DE104_5B!$B$33,ROWS($B$33:B45)-1,COLUMNS($B$33:B45)-1)<>\"\",OFFSET(DE104_5B!$B$33,ROWS($B$33:B45)-1,COLUMNS($B$33:B45)-1),\"\")","v":"241470+87.00, -88"},null,null,null,null,null,null,null,null,null,null,null,null,null,null,null,null,null,null,{"$f":"IF(OFFSET(DE104_5B!$C$33,ROWS($C$33:C45)-1,COLUMNS($C$33:C45)-1)<>\"\",OFFSET(DE104_5B!$C$33,ROWS($C$33:C45)-1,COLUMNS($C$33:C45)-1),\"\")","v":"DR-122"},null,null,null,null,null,null,null,null,null,null,null,null,null,null,null,null,null,null,null,null,null,null,null,{"$f":"IF(OFFSET(DE104_5B!$D$33,ROWS($D$33:D45)-1,COLUMNS($D$33:D45)-1)<>\"\",OFFSET(DE104_5B!$D$33,ROWS($D$33:D45)-1,COLUMNS($D$33:D45)-1),\"\")","v":922.9},null,null,null,null,{"$f":"IF(OFFSET(DE104_5B!$E$33,ROWS($E$33:E45)-1,COLUMNS($E$33:E45)-1)<>\"\",OFFSET(DE104_5B!$E$33,ROWS($E$33:E45)-1,COLUMNS($E$33:E45)-1),\"\")","v":921.12},null,null,null,null,null,{"$f":"IF(OFFSET(DE104_5B!$F$33,ROWS($F$33:F45)-1,COLUMNS($F$33:F45)-1)<>\"\",OFFSET(DE104_5B!$F$33,ROWS($F$33:F45)-1,COLUMNS($F$33:F45)-1),\"\")","v":""},null,null,null,null,null,null,null,{"$f":"IF(OFFSET(DE104_5B!$G$33,ROWS($G$33:G45)-1,COLUMNS($G$33:G45)-1)<>\"\",OFFSET(DE104_5B!$G$33,ROWS($G$33:G45)-1,COLUMNS($G$33:G45)-1),\"\")","v":""}]
[null,null,null,null,null,null,null,null,null,null,null,null,null,null,null,null,null,null,null,null,null,null,null,null,null,null,null,null,null,null,null,null,null,null,null,null,null,null,null,null,null,null,null,null,null,null,null,null,null,null,null,null,null,null,null,null,null,null,null,null,null,null,null,null,null,null,null,null,null,null,null,null,null,null,null,null,null,null,null,null,null,{"$f":"IF(OFFSET(DE104_5B!$H$34,ROWS($H$34:H46)-1,COLUMNS($H$34:H46)-1)<>\"\",OFFSET(DE104_5B!$H$34,ROWS($H$34:H46)-1,COLUMNS($H$34:H46)-1),\"\")","v":"P-7"},null,null,null,null,null,{"$f":"IF(OFFSET(DE104_5B!$I$34,ROWS($I$34:I46)-1,COLUMNS($I$34:I46)-1)<>\"\",OFFSET(DE104_5B!$I$34,ROWS($I$34:I46)-1,COLUMNS($I$34:I46)-1),\"\")","v":7},null,null,null,{"$f":"IF(OFFSET(DE104_5B!$J$34,ROWS($J$34:J46)-1,COLUMNS($J$34:J46)-1)<>\"\",OFFSET(DE104_5B!$J$34,ROWS($J$34:J46)-1,COLUMNS($J$34:J46)-1),\"\")","v":8},null,null,null,{"$f":"IF(OFFSET(DE104_5B!$K$34,ROWS($K$34:K46)-1,COLUMNS($K$34:K46)-1)<>\"\",OFFSET(DE104_5B!$K$34,ROWS($K$34:K46)-1,COLUMNS($K$34:K46)-1),\"\")","v":2000},null,null,null,null,{"$f":"IF(OFFSET(DE104_5B!$L$34,ROWS($L$34:L46)-1,COLUMNS($L$34:L46)-1)<>\"\",OFFSET(DE104_5B!$L$34,ROWS($L$34:L46)-1,COLUMNS($L$34:L46)-1),\"\")","v":18},null,null,null,null,null,null,{"$f":"IF(OFFSET(DE104_5B!$M$34,ROWS($M$34:M46)-1,COLUMNS($M$34:M46)-1)<>\"\",OFFSET(DE104_5B!$M$34,ROWS($M$34:M46)-1,COLUMNS($M$34:M46)-1),\"\")","v":8},null,null,null,null,null,{"$f":"IF(OFFSET(DE104_5B!$O$34,ROWS($O$34:O46)-1,COLUMNS($O$34:O46)-1)<>\"\",OFFSET(DE104_5B!$O$34,ROWS($O$34:O46)-1,COLUMNS($O$34:O46)-1),\"\")","v":5.92},null,null,null,null,null,{"$f":"IF(OFFSET(DE104_5B!$P$34,ROWS($P$34:P46)-1,COLUMNS($P$34:P46)-1)<>\"\",OFFSET(DE104_5B!$P$34,ROWS($P$34:P46)-1,COLUMNS($P$34:P46)-1),\"\")","v":2},null,null,null,null,{"$f":"IF(OFFSET(DE104_5B!$Q$34,ROWS($Q$34:Q46)-1,COLUMNS($Q$34:Q46)-1)<>\"\",OFFSET(DE104_5B!$Q$34,ROWS($Q$34:Q46)-1,COLUMNS($Q$34:Q46)-1),\"\")","v":2},null,null,null,null,null,null,null,null,null,{"$f":"IF(OFFSET(DE104_5B!$R$34,ROWS($R$34:R46)-1,COLUMNS($R$34:R46)-1)<>\"\",OFFSET(DE104_5B!$R$34,ROWS($R$34:R46)-1,COLUMNS($R$34:R46)-1),\"\")","v":921.12},null,null,null,null,null,null,null,{"$f":"IF(OFFSET(DE104_5B!$S$34,ROWS($S$34:S46)-1,COLUMNS($S$34:S46)-1)<>\"\",OFFSET(DE104_5B!$S$34,ROWS($S$34:S46)-1,COLUMNS($S$34:S46)-1),\"\")","v":921},null,null,null,null,null,null,null,{"$f":"IF(OFFSET(DE104_5B!$T$34,ROWS($T$34:T46)-1,COLUMNS($T$34:T46)-1)<>\"\",OFFSET(DE104_5B!$T$34,ROWS($T$34:T46)-1,COLUMNS($T$34:T46)-1),\"\")","v":""},null,null,null,null,null,null,null,{"$f":"IF(OFFSET(DE104_5B!$U$34,ROWS($U$34:U46)-1,COLUMNS($U$34:U46)-1)<>\"\",OFFSET(DE104_5B!$U$34,ROWS($U$34:U46)-1,COLUMNS($U$34:U46)-1),\"\")","v":"M.4"},null,null,null,null,null,null,{"$f":"IF(OFFSET(DE104_5B!$V$34,ROWS($V$34:V46)-1,COLUMNS($V$34:V46)-1)<>\"\",OFFSET(DE104_5B!$V$34,ROWS($V$34:V46)-1,COLUMNS($V$34:V46)-1),\"\")","v":""}]
[null,null,{"$f":"IF(OFFSET(DE104_5B!$A$33,ROWS($A$33:A47)-1,COLUMNS($A$33:A47)-1)<>\"\",OFFSET(DE104_5B!$A$33,ROWS($A$33:A47)-1,COLUMNS($A$33:A47)-1),\"\")","v":8},null,null,null,{"$f":"IF(OFFSET(DE104_5B!$B$33,ROWS($B$33:B47)-1,COLUMNS($B$33:B47)-1)<>\"\",OFFSET(DE104_5B!$B$33,ROWS($B$33:B47)-1,COLUMNS($B$33:B47)-1),\"\")","v":"241470+87.00, -100.05"},null,null,null,null,null,null,null,null,null,null,null,null,null,null,null,null,null,null,{"$f":"IF(OFFSET(DE104_5B!$C$33,ROWS($C$33:C47)-1,COLUMNS($C$33:C47)-1)<>\"\",OFFSET(DE104_5B!$C$33,ROWS($C$33:C47)-1,COLUMNS($C$33:C47)-1),\"\")","v":"DR-201 (18\")"},null,null,null,null,null,null,null,null,null,null,null,null,null,null,null,null,null,null,null,null,null,null,null,{"$f":"IF(OFFSET(DE104_5B!$D$33,ROWS($D$33:D47)-1,COLUMNS($D$33:D47)-1)<>\"\",OFFSET(DE104_5B!$D$33,ROWS($D$33:D47)-1,COLUMNS($D$33:D47)-1),\"\")","v":"---"},null,null,null,null,{"$f":"IF(OFFSET(DE104_5B!$E$33,ROWS($E$33:E47)-1,COLUMNS($E$33:E47)-1)<>\"\",OFFSET(DE104_5B!$E$33,ROWS($E$33:E47)-1,COLUMNS($E$33:E47)-1),\"\")","v":921},null,null,null,null,null,{"$f":"IF(OFFSET(DE104_5B!$F$33,ROWS($F$33:F47)-1,COLUMNS($F$33:F47)-1)<>\"\",OFFSET(DE104_5B!$F$33,ROWS($F$33:F47)-1,COLUMNS($F$33:F47)-1),\"\")","v":""},null,null,null,null,null,null,null,{"$f":"IF(OFFSET(DE104_5B!$G$33,ROWS($G$33:G47)-1,COLUMNS($G$33:G47)-1)<>\"\",OFFSET(DE104_5B!$G$33,ROWS($G$33:G47)-1,COLUMNS($G$33:G47)-1),\"\")","v":""}]
[null,null,null,null,null,null,null,null,null,null,null,null,null,null,null,null,null,null,null,null,null,null,null,null,null,null,null,null,null,null,null,null,null,null,null,null,null,null,null,null,null,null,null,null,null,null,null,null,null,null,null,null,null,null,null,null,null,null,null,null,null,null,null,null,null,null,null,null,null,null,null,null,null,null,null,null,null,null,null,null,null,{"$f":"IF(OFFSET(DE104_5B!$H$34,ROWS($H$34:H48)-1,COLUMNS($H$34:H48)-1)<>\"\",OFFSET(DE104_5B!$H$34,ROWS($H$34:H48)-1,COLUMNS($H$34:H48)-1),\"\")","v":""},null,null,null,null,null,{"$f":"IF(OFFSET(DE104_5B!$I$34,ROWS($I$34:I48)-1,COLUMNS($I$34:I48)-1)<>\"\",OFFSET(DE104_5B!$I$34,ROWS($I$34:I48)-1,COLUMNS($I$34:I48)-1),\"\")","v":""},null,null,null,{"$f":"IF(OFFSET(DE104_5B!$J$34,ROWS($J$34:J48)-1,COLUMNS($J$34:J48)-1)<>\"\",OFFSET(DE104_5B!$J$34,ROWS($J$34:J48)-1,COLUMNS($J$34:J48)-1),\"\")","v":""},null,null,null,{"$f":"IF(OFFSET(DE104_5B!$K$34,ROWS($K$34:K48)-1,COLUMNS($K$34:K48)-1)<>\"\",OFFSET(DE104_5B!$K$34,ROWS($K$34:K48)-1,COLUMNS($K$34:K48)-1),\"\")","v":""},null,null,null,null,{"$f":"IF(OFFSET(DE104_5B!$L$34,ROWS($L$34:L48)-1,COLUMNS($L$34:L48)-1)<>\"\",OFFSET(DE104_5B!$L$34,ROWS($L$34:L48)-1,COLUMNS($L$34:L48)-1),\"\")","v":""},null,null,null,null,null,null,{"$f":"IF(OFFSET(DE104_5B!$M$34,ROWS($M$34:M48)-1,COLUMNS($M$34:M48)-1)<>\"\",OFFSET(DE104_5B!$M$34,ROWS($M$34:M48)-1,COLUMNS($M$34:M48)-1),\"\")","v":""},null,null,null,null,null,{"$f":"IF(OFFSET(DE104_5B!$O$34,ROWS($O$34:O48)-1,COLUMNS($O$34:O48)-1)<>\"\",OFFSET(DE104_5B!$O$34,ROWS($O$34:O48)-1,COLUMNS($O$34:O48)-1),\"\")","v":""},null,null,null,null,null,{"$f":"IF(OFFSET(DE104_5B!$P$34,ROWS($P$34:P48)-1,COLUMNS($P$34:P48)-1)<>\"\",OFFSET(DE104_5B!$P$34,ROWS($P$34:P48)-1,COLUMNS($P$34:P48)-1),\"\")","v":""},null,null,null,null,{"$f":"IF(OFFSET(DE104_5B!$Q$34,ROWS($Q$34:Q48)-1,COLUMNS($Q$34:Q48)-1)<>\"\",OFFSET(DE104_5B!$Q$34,ROWS($Q$34:Q48)-1,COLUMNS($Q$34:Q48)-1),\"\")","v":""},null,null,null,null,null,null,null,null,null,{"$f":"IF(OFFSET(DE104_5B!$R$34,ROWS($R$34:R48)-1,COLUMNS($R$34:R48)-1)<>\"\",OFFSET(DE104_5B!$R$34,ROWS($R$34:R48)-1,COLUMNS($R$34:R48)-1),\"\")","v":""},null,null,null,null,null,null,null,{"$f":"IF(OFFSET(DE104_5B!$S$34,ROWS($S$34:S48)-1,COLUMNS($S$34:S48)-1)<>\"\",OFFSET(DE104_5B!$S$34,ROWS($S$34:S48)-1,COLUMNS($S$34:S48)-1),\"\")","v":""},null,null,null,null,null,null,null,{"$f":"IF(OFFSET(DE104_5B!$T$34,ROWS($T$34:T48)-1,COLUMNS($T$34:T48)-1)<>\"\",OFFSET(DE104_5B!$T$34,ROWS($T$34:T48)-1,COLUMNS($T$34:T48)-1),\"\")","v":""},null,null,null,null,null,null,null,{"$f":"IF(OFFSET(DE104_5B!$U$34,ROWS($U$34:U48)-1,COLUMNS($U$34:U48)-1)<>\"\",OFFSET(DE104_5B!$U$34,ROWS($U$34:U48)-1,COLUMNS($U$34:U48)-1),\"\")","v":""},null,null,null,null,null,null,{"$f":"IF(OFFSET(DE104_5B!$V$34,ROWS($V$34:V48)-1,COLUMNS($V$34:V48)-1)<>\"\",OFFSET(DE104_5B!$V$34,ROWS($V$34:V48)-1,COLUMNS($V$34:V48)-1),\"\")","v":""}]
[null,null,{"$f":"IF(OFFSET(DE104_5B!$A$33,ROWS($A$33:A49)-1,COLUMNS($A$33:A49)-1)<>\"\",OFFSET(DE104_5B!$A$33,ROWS($A$33:A49)-1,COLUMNS($A$33:A49)-1),\"\")","v":""},null,null,null,{"$f":"IF(OFFSET(DE104_5B!$B$33,ROWS($B$33:B49)-1,COLUMNS($B$33:B49)-1)<>\"\",OFFSET(DE104_5B!$B$33,ROWS($B$33:B49)-1,COLUMNS($B$33:B49)-1),\"\")","v":""},null,null,null,null,null,null,null,null,null,null,null,null,null,null,null,null,null,null,{"$f":"IF(OFFSET(DE104_5B!$C$33,ROWS($C$33:C49)-1,COLUMNS($C$33:C49)-1)<>\"\",OFFSET(DE104_5B!$C$33,ROWS($C$33:C49)-1,COLUMNS($C$33:C49)-1),\"\")","v":""},null,null,null,null,null,null,null,null,null,null,null,null,null,null,null,null,null,null,null,null,null,null,null,{"$f":"IF(OFFSET(DE104_5B!$D$33,ROWS($D$33:D49)-1,COLUMNS($D$33:D49)-1)<>\"\",OFFSET(DE104_5B!$D$33,ROWS($D$33:D49)-1,COLUMNS($D$33:D49)-1),\"\")","v":""},null,null,null,null,{"$f":"IF(OFFSET(DE104_5B!$E$33,ROWS($E$33:E49)-1,COLUMNS($E$33:E49)-1)<>\"\",OFFSET(DE104_5B!$E$33,ROWS($E$33:E49)-1,COLUMNS($E$33:E49)-1),\"\")","v":""},null,null,null,null,null,{"$f":"IF(OFFSET(DE104_5B!$F$33,ROWS($F$33:F49)-1,COLUMNS($F$33:F49)-1)<>\"\",OFFSET(DE104_5B!$F$33,ROWS($F$33:F49)-1,COLUMNS($F$33:F49)-1),\"\")","v":""},null,null,null,null,null,null,null,{"$f":"IF(OFFSET(DE104_5B!$G$33,ROWS($G$33:G49)-1,COLUMNS($G$33:G49)-1)<>\"\",OFFSET(DE104_5B!$G$33,ROWS($G$33:G49)-1,COLUMNS($G$33:G49)-1),\"\")","v":""}]
[null,null,null,null,null,null,null,null,null,null,null,null,null,null,null,null,null,null,null,null,null,null,null,null,null,null,null,null,null,null,null,null,null,null,null,null,null,null,null,null,null,null,null,null,null,null,null,null,null,null,null,null,null,null,null,null,null,null,null,null,null,null,null,null,null,null,null,null,null,null,null,null,null,null,null,null,null,null,null,null,null,{"$f":"IF(OFFSET(DE104_5B!$H$34,ROWS($H$34:H50)-1,COLUMNS($H$34:H50)-1)<>\"\",OFFSET(DE104_5B!$H$34,ROWS($H$34:H50)-1,COLUMNS($H$34:H50)-1),\"\")","v":""},null,null,null,null,null,{"$f":"IF(OFFSET(DE104_5B!$I$34,ROWS($I$34:I50)-1,COLUMNS($I$34:I50)-1)<>\"\",OFFSET(DE104_5B!$I$34,ROWS($I$34:I50)-1,COLUMNS($I$34:I50)-1),\"\")","v":""},null,null,null,{"$f":"IF(OFFSET(DE104_5B!$J$34,ROWS($J$34:J50)-1,COLUMNS($J$34:J50)-1)<>\"\",OFFSET(DE104_5B!$J$34,ROWS($J$34:J50)-1,COLUMNS($J$34:J50)-1),\"\")","v":""},null,null,null,{"$f":"IF(OFFSET(DE104_5B!$K$34,ROWS($K$34:K50)-1,COLUMNS($K$34:K50)-1)<>\"\",OFFSET(DE104_5B!$K$34,ROWS($K$34:K50)-1,COLUMNS($K$34:K50)-1),\"\")","v":""},null,null,null,null,{"$f":"IF(OFFSET(DE104_5B!$L$34,ROWS($L$34:L50)-1,COLUMNS($L$34:L50)-1)<>\"\",OFFSET(DE104_5B!$L$34,ROWS($L$34:L50)-1,COLUMNS($L$34:L50)-1),\"\")","v":""},null,null,null,null,null,null,{"$f":"IF(OFFSET(DE104_5B!$M$34,ROWS($M$34:M50)-1,COLUMNS($M$34:M50)-1)<>\"\",OFFSET(DE104_5B!$M$34,ROWS($M$34:M50)-1,COLUMNS($M$34:M50)-1),\"\")","v":""},null,null,null,null,null,{"$f":"IF(OFFSET(DE104_5B!$O$34,ROWS($O$34:O50)-1,COLUMNS($O$34:O50)-1)<>\"\",OFFSET(DE104_5B!$O$34,ROWS($O$34:O50)-1,COLUMNS($O$34:O50)-1),\"\")","v":""},null,null,null,null,null,{"$f":"IF(OFFSET(DE104_5B!$P$34,ROWS($P$34:P50)-1,COLUMNS($P$34:P50)-1)<>\"\",OFFSET(DE104_5B!$P$34,ROWS($P$34:P50)-1,COLUMNS($P$34:P50)-1),\"\")","v":""},null,null,null,null,{"$f":"IF(OFFSET(DE104_5B!$Q$34,ROWS($Q$34:Q50)-1,COLUMNS($Q$34:Q50)-1)<>\"\",OFFSET(DE104_5B!$Q$34,ROWS($Q$34:Q50)-1,COLUMNS($Q$34:Q50)-1),\"\")","v":""},null,null,null,null,null,null,null,null,null,{"$f":"IF(OFFSET(DE104_5B!$R$34,ROWS($R$34:R50)-1,COLUMNS($R$34:R50)-1)<>\"\",OFFSET(DE104_5B!$R$34,ROWS($R$34:R50)-1,COLUMNS($R$34:R50)-1),\"\")","v":""},null,null,null,null,null,null,null,{"$f":"IF(OFFSET(DE104_5B!$S$34,ROWS($S$34:S50)-1,COLUMNS($S$34:S50)-1)<>\"\",OFFSET(DE104_5B!$S$34,ROWS($S$34:S50)-1,COLUMNS($S$34:S50)-1),\"\")","v":""},null,null,null,null,null,null,null,{"$f":"IF(OFFSET(DE104_5B!$T$34,ROWS($T$34:T50)-1,COLUMNS($T$34:T50)-1)<>\"\",OFFSET(DE104_5B!$T$34,ROWS($T$34:T50)-1,COLUMNS($T$34:T50)-1),\"\")","v":""},null,null,null,null,null,null,null,{"$f":"IF(OFFSET(DE104_5B!$U$34,ROWS($U$34:U50)-1,COLUMNS($U$34:U50)-1)<>\"\",OFFSET(DE104_5B!$U$34,ROWS($U$34:U50)-1,COLUMNS($U$34:U50)-1),\"\")","v":""},null,null,null,null,null,null,{"$f":"IF(OFFSET(DE104_5B!$V$34,ROWS($V$34:V50)-1,COLUMNS($V$34:V50)-1)<>\"\",OFFSET(DE104_5B!$V$34,ROWS($V$34:V50)-1,COLUMNS($V$34:V50)-1),\"\")","v":""}]
[null,null,{"$f":"IF(OFFSET(DE104_5B!$A$33,ROWS($A$33:A51)-1,COLUMNS($A$33:A51)-1)<>\"\",OFFSET(DE104_5B!$A$33,ROWS($A$33:A51)-1,COLUMNS($A$33:A51)-1),\"\")","v":""},null,null,null,{"$f":"IF(OFFSET(DE104_5B!$B$33,ROWS($B$33:B51)-1,COLUMNS($B$33:B51)-1)<>\"\",OFFSET(DE104_5B!$B$33,ROWS($B$33:B51)-1,COLUMNS($B$33:B51)-1),\"\")","v":""},null,null,null,null,null,null,null,null,null,null,null,null,null,null,null,null,null,null,{"$f":"IF(OFFSET(DE104_5B!$C$33,ROWS($C$33:C51)-1,COLUMNS($C$33:C51)-1)<>\"\",OFFSET(DE104_5B!$C$33,ROWS($C$33:C51)-1,COLUMNS($C$33:C51)-1),\"\")","v":""},null,null,null,null,null,null,null,null,null,null,null,null,null,null,null,null,null,null,null,null,null,null,null,{"$f":"IF(OFFSET(DE104_5B!$D$33,ROWS($D$33:D51)-1,COLUMNS($D$33:D51)-1)<>\"\",OFFSET(DE104_5B!$D$33,ROWS($D$33:D51)-1,COLUMNS($D$33:D51)-1),\"\")","v":""},null,null,null,null,{"$f":"IF(OFFSET(DE104_5B!$E$33,ROWS($E$33:E51)-1,COLUMNS($E$33:E51)-1)<>\"\",OFFSET(DE104_5B!$E$33,ROWS($E$33:E51)-1,COLUMNS($E$33:E51)-1),\"\")","v":""},null,null,null,null,null,{"$f":"IF(OFFSET(DE104_5B!$F$33,ROWS($F$33:F51)-1,COLUMNS($F$33:F51)-1)<>\"\",OFFSET(DE104_5B!$F$33,ROWS($F$33:F51)-1,COLUMNS($F$33:F51)-1),\"\")","v":""},null,null,null,null,null,null,null,{"$f":"IF(OFFSET(DE104_5B!$G$33,ROWS($G$33:G51)-1,COLUMNS($G$33:G51)-1)<>\"\",OFFSET(DE104_5B!$G$33,ROWS($G$33:G51)-1,COLUMNS($G$33:G51)-1),\"\")","v":""}]
[null,null,null,null,null,null,null,null,null,null,null,null,null,null,null,null,null,null,null,null,null,null,null,null,null,null,null,null,null,null,null,null,null,null,null,null,null,null,null,null,null,null,null,null,null,null,null,null,null,null,null,null,null,null,null,null,null,null,null,null,null,null,null,null,null,null,null,null,null,null,null,null,null,null,null,null,null,null,null,null,null,{"$f":"IF(OFFSET(DE104_5B!$H$34,ROWS($H$34:H52)-1,COLUMNS($H$34:H52)-1)<>\"\",OFFSET(DE104_5B!$H$34,ROWS($H$34:H52)-1,COLUMNS($H$34:H52)-1),\"\")","v":""},null,null,null,null,null,{"$f":"IF(OFFSET(DE104_5B!$I$34,ROWS($I$34:I52)-1,COLUMNS($I$34:I52)-1)<>\"\",OFFSET(DE104_5B!$I$34,ROWS($I$34:I52)-1,COLUMNS($I$34:I52)-1),\"\")","v":""},null,null,null,{"$f":"IF(OFFSET(DE104_5B!$J$34,ROWS($J$34:J52)-1,COLUMNS($J$34:J52)-1)<>\"\",OFFSET(DE104_5B!$J$34,ROWS($J$34:J52)-1,COLUMNS($J$34:J52)-1),\"\")","v":""},null,null,null,{"$f":"IF(OFFSET(DE104_5B!$K$34,ROWS($K$34:K52)-1,COLUMNS($K$34:K52)-1)<>\"\",OFFSET(DE104_5B!$K$34,ROWS($K$34:K52)-1,COLUMNS($K$34:K52)-1),\"\")","v":"Total:"},null,null,null,null,{"$f":"IF(OFFSET(DE104_5B!$L$34,ROWS($L$34:L52)-1,COLUMNS($L$34:L52)-1)<>\"\",OFFSET(DE104_5B!$L$34,ROWS($L$34:L52)-1,COLUMNS($L$34:L52)-1),\"\")","v":""},null,null,null,null,null,null,{"$f":"IF(OFFSET(DE104_5B!$M$34,ROWS($M$34:M52)-1,COLUMNS($M$34:M52)-1)<>\"\",OFFSET(DE104_5B!$M$34,ROWS($M$34:M52)-1,COLUMNS($M$34:M52)-1),\"\")","v":""},null,null,null,null,null,{"$f":"IF(OFFSET(DE104_5B!$O$34,ROWS($O$34:O52)-1,COLUMNS($O$34:O52)-1)<>\"\",OFFSET(DE104_5B!$O$34,ROWS($O$34:O52)-1,COLUMNS($O$34:O52)-1),\"\")","v":""},null,null,null,null,null,{"$f":"IF(OFFSET(DE104_5B!$P$34,ROWS($P$34:P52)-1,COLUMNS($P$34:P52)-1)<>\"\",OFFSET(DE104_5B!$P$34,ROWS($P$34:P52)-1,COLUMNS($P$34:P52)-1),\"\")","v":""},null,null,null,null,{"$f":"IF(OFFSET(DE104_5B!$Q$34,ROWS($Q$34:Q52)-1,COLUMNS($Q$34:Q52)-1)<>\"\",OFFSET(DE104_5B!$Q$34,ROWS($Q$34:Q52)-1,COLUMNS($Q$34:Q52)-1),\"\")","v":""},null,null,null,null,null,null,null,null,null,{"$f":"IF(OFFSET(DE104_5B!$R$34,ROWS($R$34:R52)-1,COLUMNS($R$34:R52)-1)<>\"\",OFFSET(DE104_5B!$R$34,ROWS($R$34:R52)-1,COLUMNS($R$34:R52)-1),\"\")","v":""},null,null,null,null,null,null,null,{"$f":"IF(OFFSET(DE104_5B!$S$34,ROWS($S$34:S52)-1,COLUMNS($S$34:S52)-1)<>\"\",OFFSET(DE104_5B!$S$34,ROWS($S$34:S52)-1,COLUMNS($S$34:S52)-1),\"\")","v":""},null,null,null,null,null,null,null,{"$f":"IF(OFFSET(DE104_5B!$T$34,ROWS($T$34:T52)-1,COLUMNS($T$34:T52)-1)<>\"\",OFFSET(DE104_5B!$T$34,ROWS($T$34:T52)-1,COLUMNS($T$34:T52)-1),\"\")","v":""},null,null,null,null,null,null,null,{"$f":"IF(OFFSET(DE104_5B!$U$34,ROWS($U$34:U52)-1,COLUMNS($U$34:U52)-1)<>\"\",OFFSET(DE104_5B!$U$34,ROWS($U$34:U52)-1,COLUMNS($U$34:U52)-1),\"\")","v":""},null,null,null,null,null,null,{"$f":"IF(OFFSET(DE104_5B!$V$34,ROWS($V$34:V52)-1,COLUMNS($V$34:V52)-1)<>\"\",OFFSET(DE104_5B!$V$34,ROWS($V$34:V52)-1,COLUMNS($V$34:V52)-1),\"\")","v":""}]
[null,null,{"$f":"IF(OFFSET(DE104_5B!$A$33,ROWS($A$33:A53)-1,COLUMNS($A$33:A53)-1)<>\"\",OFFSET(DE104_5B!$A$33,ROWS($A$33:A53)-1,COLUMNS($A$33:A53)-1),\"\")","v":""},null,null,null,{"$f":"IF(OFFSET(DE104_5B!$B$33,ROWS($B$33:B53)-1,COLUMNS($B$33:B53)-1)<>\"\",OFFSET(DE104_5B!$B$33,ROWS($B$33:B53)-1,COLUMNS($B$33:B53)-1),\"\")","v":""},null,null,null,null,null,null,null,null,null,null,null,null,null,null,null,null,null,null,{"$f":"IF(OFFSET(DE104_5B!$C$33,ROWS($C$33:C53)-1,COLUMNS($C$33:C53)-1)<>\"\",OFFSET(DE104_5B!$C$33,ROWS($C$33:C53)-1,COLUMNS($C$33:C53)-1),\"\")","v":"Total:"},null,null,null,null,null,null,null,null,null,null,null,null,null,null,null,null,null,null,null,null,null,null,null,{"$f":"IF(OFFSET(DE104_5B!$D$33,ROWS($D$33:D53)-1,COLUMNS($D$33:D53)-1)<>\"\",OFFSET(DE104_5B!$D$33,ROWS($D$33:D53)-1,COLUMNS($D$33:D53)-1),\"\")","v":""},null,null,null,null,{"$f":"IF(OFFSET(DE104_5B!$E$33,ROWS($E$33:E53)-1,COLUMNS($E$33:E53)-1)<>\"\",OFFSET(DE104_5B!$E$33,ROWS($E$33:E53)-1,COLUMNS($E$33:E53)-1),\"\")","v":""},null,null,null,null,null,{"$f":"IF(OFFSET(DE104_5B!$F$33,ROWS($F$33:F53)-1,COLUMNS($F$33:F53)-1)<>\"\",OFFSET(DE104_5B!$F$33,ROWS($F$33:F53)-1,COLUMNS($F$33:F53)-1),\"\")","v":""},null,null,null,null,null,null,null,{"$f":"IF(OFFSET(DE104_5B!$G$33,ROWS($G$33:G53)-1,COLUMNS($G$33:G53)-1)<>\"\",OFFSET(DE104_5B!$G$33,ROWS($G$33:G53)-1,COLUMNS($G$33:G53)-1),\"\")","v":""}]
[null,null,null,null,null,null,null,null,null,null,null,null,null,null,null,null,null,null,null,null,null,null,null,null,null,null,null,null,null,null,null,null,null,null,null,null,null,null,null,null,null,null,null,null,null,null,null,null,null,null,null,null,null,null,null,null,null,null,null,null,null,null,null,null,null,null,null,null,null,null,null,null,null,null,null,null,null,null,null,null,null,{"$f":"IF(OFFSET(DE104_5B!$H$34,ROWS($H$34:H54)-1,COLUMNS($H$34:H54)-1)<>\"\",OFFSET(DE104_5B!$H$34,ROWS($H$34:H54)-1,COLUMNS($H$34:H54)-1),\"\")","v":""},null,null,null,null,null,{"$f":"IF(OFFSET(DE104_5B!$I$34,ROWS($I$34:I54)-1,COLUMNS($I$34:I54)-1)<>\"\",OFFSET(DE104_5B!$I$34,ROWS($I$34:I54)-1,COLUMNS($I$34:I54)-1),\"\")","v":""},null,null,null,{"$f":"IF(OFFSET(DE104_5B!$J$34,ROWS($J$34:J54)-1,COLUMNS($J$34:J54)-1)<>\"\",OFFSET(DE104_5B!$J$34,ROWS($J$34:J54)-1,COLUMNS($J$34:J54)-1),\"\")","v":""},null,null,null,{"$f":"IF(OFFSET(DE104_5B!$K$34,ROWS($K$34:K54)-1,COLUMNS($K$34:K54)-1)<>\"\",OFFSET(DE104_5B!$K$34,ROWS($K$34:K54)-1,COLUMNS($K$34:K54)-1),\"\")","v":2000},null,null,null,null,{"$f":"IF(OFFSET(DE104_5B!$L$34,ROWS($L$34:L54)-1,COLUMNS($L$34:L54)-1)<>\"\",OFFSET(DE104_5B!$L$34,ROWS($L$34:L54)-1,COLUMNS($L$34:L54)-1),\"\")","v":18},null,null,null,null,null,null,{"$f":"IF(OFFSET(DE104_5B!$M$34,ROWS($M$34:M54)-1,COLUMNS($M$34:M54)-1)<>\"\",OFFSET(DE104_5B!$M$34,ROWS($M$34:M54)-1,COLUMNS($M$34:M54)-1),\"\")","v":428},null,null,null,null,null,{"$f":"IF(OFFSET(DE104_5B!$O$34,ROWS($O$34:O54)-1,COLUMNS($O$34:O54)-1)<>\"\",OFFSET(DE104_5B!$O$34,ROWS($O$34:O54)-1,COLUMNS($O$34:O54)-1),\"\")","v":""},null,null,null,null,null,{"$f":"IF(OFFSET(DE104_5B!$P$34,ROWS($P$34:P54)-1,COLUMNS($P$34:P54)-1)<>\"\",OFFSET(DE104_5B!$P$34,ROWS($P$34:P54)-1,COLUMNS($P$34:P54)-1),\"\")","v":""},null,null,null,null,{"$f":"IF(OFFSET(DE104_5B!$Q$34,ROWS($Q$34:Q54)-1,COLUMNS($Q$34:Q54)-1)<>\"\",OFFSET(DE104_5B!$Q$34,ROWS($Q$34:Q54)-1,COLUMNS($Q$34:Q54)-1),\"\")","v":""},null,null,null,null,null,null,null,null,null,{"$f":"IF(OFFSET(DE104_5B!$R$34,ROWS($R$34:R54)-1,COLUMNS($R$34:R54)-1)<>\"\",OFFSET(DE104_5B!$R$34,ROWS($R$34:R54)-1,COLUMNS($R$34:R54)-1),\"\")","v":""},null,null,null,null,null,null,null,{"$f":"IF(OFFSET(DE104_5B!$S$34,ROWS($S$34:S54)-1,COLUMNS($S$34:S54)-1)<>\"\",OFFSET(DE104_5B!$S$34,ROWS($S$34:S54)-1,COLUMNS($S$34:S54)-1),\"\")","v":""},null,null,null,null,null,null,null,{"$f":"IF(OFFSET(DE104_5B!$T$34,ROWS($T$34:T54)-1,COLUMNS($T$34:T54)-1)<>\"\",OFFSET(DE104_5B!$T$34,ROWS($T$34:T54)-1,COLUMNS($T$34:T54)-1),\"\")","v":""},null,null,null,null,null,null,null,{"$f":"IF(OFFSET(DE104_5B!$U$34,ROWS($U$34:U54)-1,COLUMNS($U$34:U54)-1)<>\"\",OFFSET(DE104_5B!$U$34,ROWS($U$34:U54)-1,COLUMNS($U$34:U54)-1),\"\")","v":""},null,null,null,null,null,null,{"$f":"IF(OFFSET(DE104_5B!$V$34,ROWS($V$34:V54)-1,COLUMNS($V$34:V54)-1)<>\"\",OFFSET(DE104_5B!$V$34,ROWS($V$34:V54)-1,COLUMNS($V$34:V54)-1),\"\")","v":""}]
[null,null,{"$f":"IF(OFFSET(DE104_5B!$A$33,ROWS($A$33:A55)-1,COLUMNS($A$33:A55)-1)<>\"\",OFFSET(DE104_5B!$A$33,ROWS($A$33:A55)-1,COLUMNS($A$33:A55)-1),\"\")","v":""},null,null,null,{"$f":"IF(OFFSET(DE104_5B!$B$33,ROWS($B$33:B55)-1,COLUMNS($B$33:B55)-1)<>\"\",OFFSET(DE104_5B!$B$33,ROWS($B$33:B55)-1,COLUMNS($B$33:B55)-1),\"\")","v":""},null,null,null,null,null,null,null,null,null,null,null,null,null,null,null,null,null,null,{"$f":"IF(OFFSET(DE104_5B!$C$33,ROWS($C$33:C55)-1,COLUMNS($C$33:C55)-1)<>\"\",OFFSET(DE104_5B!$C$33,ROWS($C$33:C55)-1,COLUMNS($C$33:C55)-1),\"\")","v":"DR-122"},null,null,null,null,null,null,null,null,null,null,null,null,null,null,null,null,null,null,null,null,null,null,null,{"$f":"IF(OFFSET(DE104_5B!$D$33,ROWS($D$33:D55)-1,COLUMNS($D$33:D55)-1)<>\"\",OFFSET(DE104_5B!$D$33,ROWS($D$33:D55)-1,COLUMNS($D$33:D55)-1),\"\")","v":2},null,null,null,null,{"$f":"IF(OFFSET(DE104_5B!$E$33,ROWS($E$33:E55)-1,COLUMNS($E$33:E55)-1)<>\"\",OFFSET(DE104_5B!$E$33,ROWS($E$33:E55)-1,COLUMNS($E$33:E55)-1),\"\")","v":""},null,null,null,null,null,{"$f":"IF(OFFSET(DE104_5B!$F$33,ROWS($F$33:F55)-1,COLUMNS($F$33:F55)-1)<>\"\",OFFSET(DE104_5B!$F$33,ROWS($F$33:F55)-1,COLUMNS($F$33:F55)-1),\"\")","v":""},null,null,null,null,null,null,null,{"$f":"IF(OFFSET(DE104_5B!$G$33,ROWS($G$33:G55)-1,COLUMNS($G$33:G55)-1)<>\"\",OFFSET(DE104_5B!$G$33,ROWS($G$33:G55)-1,COLUMNS($G$33:G55)-1),\"\")","v":""}]
[null,null,null,null,null,null,null,null,null,null,null,null,null,null,null,null,null,null,null,null,null,null,null,null,null,null,null,null,null,null,null,null,null,null,null,null,null,null,null,null,null,null,null,null,null,null,null,null,null,null,null,null,null,null,null,null,null,null,null,null,null,null,null,null,null,null,null,null,null,null,null,null,null,null,null,null,null,null,null,null,null,{"$f":"IF(OFFSET(DE104_5B!$H$34,ROWS($H$34:H56)-1,COLUMNS($H$34:H56)-1)<>\"\",OFFSET(DE104_5B!$H$34,ROWS($H$34:H56)-1,COLUMNS($H$34:H56)-1),\"\")","v":""},null,null,null,null,null,{"$f":"IF(OFFSET(DE104_5B!$I$34,ROWS($I$34:I56)-1,COLUMNS($I$34:I56)-1)<>\"\",OFFSET(DE104_5B!$I$34,ROWS($I$34:I56)-1,COLUMNS($I$34:I56)-1),\"\")","v":""},null,null,null,{"$f":"IF(OFFSET(DE104_5B!$J$34,ROWS($J$34:J56)-1,COLUMNS($J$34:J56)-1)<>\"\",OFFSET(DE104_5B!$J$34,ROWS($J$34:J56)-1,COLUMNS($J$34:J56)-1),\"\")","v":""},null,null,null,{"$f":"IF(OFFSET(DE104_5B!$K$34,ROWS($K$34:K56)-1,COLUMNS($K$34:K56)-1)<>\"\",OFFSET(DE104_5B!$K$34,ROWS($K$34:K56)-1,COLUMNS($K$34:K56)-1),\"\")","v":""},null,null,null,null,{"$f":"IF(OFFSET(DE104_5B!$L$34,ROWS($L$34:L56)-1,COLUMNS($L$34:L56)-1)<>\"\",OFFSET(DE104_5B!$L$34,ROWS($L$34:L56)-1,COLUMNS($L$34:L56)-1),\"\")","v":""},null,null,null,null,null,null,{"$f":"IF(OFFSET(DE104_5B!$M$34,ROWS($M$34:M56)-1,COLUMNS($M$34:M56)-1)<>\"\",OFFSET(DE104_5B!$M$34,ROWS($M$34:M56)-1,COLUMNS($M$34:M56)-1),\"\")","v":""},null,null,null,null,null,{"$f":"IF(OFFSET(DE104_5B!$O$34,ROWS($O$34:O56)-1,COLUMNS($O$34:O56)-1)<>\"\",OFFSET(DE104_5B!$O$34,ROWS($O$34:O56)-1,COLUMNS($O$34:O56)-1),\"\")","v":""},null,null,null,null,null,{"$f":"IF(OFFSET(DE104_5B!$P$34,ROWS($P$34:P56)-1,COLUMNS($P$34:P56)-1)<>\"\",OFFSET(DE104_5B!$P$34,ROWS($P$34:P56)-1,COLUMNS($P$34:P56)-1),\"\")","v":""},null,null,null,null,{"$f":"IF(OFFSET(DE104_5B!$Q$34,ROWS($Q$34:Q56)-1,COLUMNS($Q$34:Q56)-1)<>\"\",OFFSET(DE104_5B!$Q$34,ROWS($Q$34:Q56)-1,COLUMNS($Q$34:Q56)-1),\"\")","v":""},null,null,null,null,null,null,null,null,null,{"$f":"IF(OFFSET(DE104_5B!$R$34,ROWS($R$34:R56)-1,COLUMNS($R$34:R56)-1)<>\"\",OFFSET(DE104_5B!$R$34,ROWS($R$34:R56)-1,COLUMNS($R$34:R56)-1),\"\")","v":""},null,null,null,null,null,null,null,{"$f":"IF(OFFSET(DE104_5B!$S$34,ROWS($S$34:S56)-1,COLUMNS($S$34:S56)-1)<>\"\",OFFSET(DE104_5B!$S$34,ROWS($S$34:S56)-1,COLUMNS($S$34:S56)-1),\"\")","v":""},null,null,null,null,null,null,null,{"$f":"IF(OFFSET(DE104_5B!$T$34,ROWS($T$34:T56)-1,COLUMNS($T$34:T56)-1)<>\"\",OFFSET(DE104_5B!$T$34,ROWS($T$34:T56)-1,COLUMNS($T$34:T56)-1),\"\")","v":""},null,null,null,null,null,null,null,{"$f":"IF(OFFSET(DE104_5B!$U$34,ROWS($U$34:U56)-1,COLUMNS($U$34:U56)-1)<>\"\",OFFSET(DE104_5B!$U$34,ROWS($U$34:U56)-1,COLUMNS($U$34:U56)-1),\"\")","v":""},null,null,null,null,null,null,{"$f":"IF(OFFSET(DE104_5B!$V$34,ROWS($V$34:V56)-1,COLUMNS($V$34:V56)-1)<>\"\",OFFSET(DE104_5B!$V$34,ROWS($V$34:V56)-1,COLUMNS($V$34:V56)-1),\"\")","v":""}]
[null,null,{"$f":"IF(OFFSET(DE104_5B!$A$33,ROWS($A$33:A57)-1,COLUMNS($A$33:A57)-1)<>\"\",OFFSET(DE104_5B!$A$33,ROWS($A$33:A57)-1,COLUMNS($A$33:A57)-1),\"\")","v":""},null,null,null,{"$f":"IF(OFFSET(DE104_5B!$B$33,ROWS($B$33:B57)-1,COLUMNS($B$33:B57)-1)<>\"\",OFFSET(DE104_5B!$B$33,ROWS($B$33:B57)-1,COLUMNS($B$33:B57)-1),\"\")","v":""},null,null,null,null,null,null,null,null,null,null,null,null,null,null,null,null,null,null,{"$f":"IF(OFFSET(DE104_5B!$C$33,ROWS($C$33:C57)-1,COLUMNS($C$33:C57)-1)<>\"\",OFFSET(DE104_5B!$C$33,ROWS($C$33:C57)-1,COLUMNS($C$33:C57)-1),\"\")","v":"DR-201 (18\")"},null,null,null,null,null,null,null,null,null,null,null,null,null,null,null,null,null,null,null,null,null,null,null,{"$f":"IF(OFFSET(DE104_5B!$D$33,ROWS($D$33:D57)-1,COLUMNS($D$33:D57)-1)<>\"\",OFFSET(DE104_5B!$D$33,ROWS($D$33:D57)-1,COLUMNS($D$33:D57)-1),\"\")","v":1},null,null,null,null,{"$f":"IF(OFFSET(DE104_5B!$E$33,ROWS($E$33:E57)-1,COLUMNS($E$33:E57)-1)<>\"\",OFFSET(DE104_5B!$E$33,ROWS($E$33:E57)-1,COLUMNS($E$33:E57)-1),\"\")","v":""},null,null,null,null,null,{"$f":"IF(OFFSET(DE104_5B!$F$33,ROWS($F$33:F57)-1,COLUMNS($F$33:F57)-1)<>\"\",OFFSET(DE104_5B!$F$33,ROWS($F$33:F57)-1,COLUMNS($F$33:F57)-1),\"\")","v":""},null,null,null,null,null,null,null,{"$f":"IF(OFFSET(DE104_5B!$G$33,ROWS($G$33:G57)-1,COLUMNS($G$33:G57)-1)<>\"\",OFFSET(DE104_5B!$G$33,ROWS($G$33:G57)-1,COLUMNS($G$33:G57)-1),\"\")","v":""}]
[null,null,null,null,null,null,null,null,null,null,null,null,null,null,null,null,null,null,null,null,null,null,null,null,null,null,null,null,null,null,null,null,null,null,null,null,null,null,null,null,null,null,null,null,null,null,null,null,null,null,null,null,null,null,null,null,null,null,null,null,null,null,null,null,null,null,null,null,null,null,null,null,null,null,null,null,null,null,null,null,null,{"$f":"IF(OFFSET(DE104_5B!$H$34,ROWS($H$34:H58)-1,COLUMNS($H$34:H58)-1)<>\"\",OFFSET(DE104_5B!$H$34,ROWS($H$34:H58)-1,COLUMNS($H$34:H58)-1),\"\")","v":""},null,null,null,null,null,{"$f":"IF(OFFSET(DE104_5B!$I$34,ROWS($I$34:I58)-1,COLUMNS($I$34:I58)-1)<>\"\",OFFSET(DE104_5B!$I$34,ROWS($I$34:I58)-1,COLUMNS($I$34:I58)-1),\"\")","v":""},null,null,null,{"$f":"IF(OFFSET(DE104_5B!$J$34,ROWS($J$34:J58)-1,COLUMNS($J$34:J58)-1)<>\"\",OFFSET(DE104_5B!$J$34,ROWS($J$34:J58)-1,COLUMNS($J$34:J58)-1),\"\")","v":""},null,null,null,{"$f":"IF(OFFSET(DE104_5B!$K$34,ROWS($K$34:K58)-1,COLUMNS($K$34:K58)-1)<>\"\",OFFSET(DE104_5B!$K$34,ROWS($K$34:K58)-1,COLUMNS($K$34:K58)-1),\"\")","v":""},null,null,null,null,{"$f":"IF(OFFSET(DE104_5B!$L$34,ROWS($L$34:L58)-1,COLUMNS($L$34:L58)-1)<>\"\",OFFSET(DE104_5B!$L$34,ROWS($L$34:L58)-1,COLUMNS($L$34:L58)-1),\"\")","v":""},null,null,null,null,null,null,{"$f":"IF(OFFSET(DE104_5B!$M$34,ROWS($M$34:M58)-1,COLUMNS($M$34:M58)-1)<>\"\",OFFSET(DE104_5B!$M$34,ROWS($M$34:M58)-1,COLUMNS($M$34:M58)-1),\"\")","v":""},null,null,null,null,null,{"$f":"IF(OFFSET(DE104_5B!$O$34,ROWS($O$34:O58)-1,COLUMNS($O$34:O58)-1)<>\"\",OFFSET(DE104_5B!$O$34,ROWS($O$34:O58)-1,COLUMNS($O$34:O58)-1),\"\")","v":""},null,null,null,null,null,{"$f":"IF(OFFSET(DE104_5B!$P$34,ROWS($P$34:P58)-1,COLUMNS($P$34:P58)-1)<>\"\",OFFSET(DE104_5B!$P$34,ROWS($P$34:P58)-1,COLUMNS($P$34:P58)-1),\"\")","v":""},null,null,null,null,{"$f":"IF(OFFSET(DE104_5B!$Q$34,ROWS($Q$34:Q58)-1,COLUMNS($Q$34:Q58)-1)<>\"\",OFFSET(DE104_5B!$Q$34,ROWS($Q$34:Q58)-1,COLUMNS($Q$34:Q58)-1),\"\")","v":""},null,null,null,null,null,null,null,null,null,{"$f":"IF(OFFSET(DE104_5B!$R$34,ROWS($R$34:R58)-1,COLUMNS($R$34:R58)-1)<>\"\",OFFSET(DE104_5B!$R$34,ROWS($R$34:R58)-1,COLUMNS($R$34:R58)-1),\"\")","v":""},null,null,null,null,null,null,null,{"$f":"IF(OFFSET(DE104_5B!$S$34,ROWS($S$34:S58)-1,COLUMNS($S$34:S58)-1)<>\"\",OFFSET(DE104_5B!$S$34,ROWS($S$34:S58)-1,COLUMNS($S$34:S58)-1),\"\")","v":""},null,null,null,null,null,null,null,{"$f":"IF(OFFSET(DE104_5B!$T$34,ROWS($T$34:T58)-1,COLUMNS($T$34:T58)-1)<>\"\",OFFSET(DE104_5B!$T$34,ROWS($T$34:T58)-1,COLUMNS($T$34:T58)-1),\"\")","v":""},null,null,null,null,null,null,null,{"$f":"IF(OFFSET(DE104_5B!$U$34,ROWS($U$34:U58)-1,COLUMNS($U$34:U58)-1)<>\"\",OFFSET(DE104_5B!$U$34,ROWS($U$34:U58)-1,COLUMNS($U$34:U58)-1),\"\")","v":""},null,null,null,null,null,null,{"$f":"IF(OFFSET(DE104_5B!$V$34,ROWS($V$34:V58)-1,COLUMNS($V$34:V58)-1)<>\"\",OFFSET(DE104_5B!$V$34,ROWS($V$34:V58)-1,COLUMNS($V$34:V58)-1),\"\")","v":""}]
[null,null,{"$f":"IF(OFFSET(DE104_5B!$A$33,ROWS($A$33:A59)-1,COLUMNS($A$33:A59)-1)<>\"\",OFFSET(DE104_5B!$A$33,ROWS($A$33:A59)-1,COLUMNS($A$33:A59)-1),\"\")","v":""},null,null,null,{"$f":"IF(OFFSET(DE104_5B!$B$33,ROWS($B$33:B59)-1,COLUMNS($B$33:B59)-1)<>\"\",OFFSET(DE104_5B!$B$33,ROWS($B$33:B59)-1,COLUMNS($B$33:B59)-1),\"\")","v":""},null,null,null,null,null,null,null,null,null,null,null,null,null,null,null,null,null,null,{"$f":"IF(OFFSET(DE104_5B!$C$33,ROWS($C$33:C59)-1,COLUMNS($C$33:C59)-1)<>\"\",OFFSET(DE104_5B!$C$33,ROWS($C$33:C59)-1,COLUMNS($C$33:C59)-1),\"\")","v":"SW-538"},null,null,null,null,null,null,null,null,null,null,null,null,null,null,null,null,null,null,null,null,null,null,null,{"$f":"IF(OFFSET(DE104_5B!$D$33,ROWS($D$33:D59)-1,COLUMNS($D$33:D59)-1)<>\"\",OFFSET(DE104_5B!$D$33,ROWS($D$33:D59)-1,COLUMNS($D$33:D59)-1),\"\")","v":1},null,null,null,null,{"$f":"IF(OFFSET(DE104_5B!$E$33,ROWS($E$33:E59)-1,COLUMNS($E$33:E59)-1)<>\"\",OFFSET(DE104_5B!$E$33,ROWS($E$33:E59)-1,COLUMNS($E$33:E59)-1),\"\")","v":""},null,null,null,null,null,{"$f":"IF(OFFSET(DE104_5B!$F$33,ROWS($F$33:F59)-1,COLUMNS($F$33:F59)-1)<>\"\",OFFSET(DE104_5B!$F$33,ROWS($F$33:F59)-1,COLUMNS($F$33:F59)-1),\"\")","v":""},null,null,null,null,null,null,null,{"$f":"IF(OFFSET(DE104_5B!$G$33,ROWS($G$33:G59)-1,COLUMNS($G$33:G59)-1)<>\"\",OFFSET(DE104_5B!$G$33,ROWS($G$33:G59)-1,COLUMNS($G$33:G59)-1),\"\")","v":""}]
[null,null,null,null,null,null,null,null,null,null,null,null,null,null,null,null,null,null,null,null,null,null,null,null,null,null,null,null,null,null,null,null,null,null,null,null,null,null,null,null,null,null,null,null,null,null,null,null,null,null,null,null,null,null,null,null,null,null,null,null,null,null,null,null,null,null,null,null,null,null,null,null,null,null,null,null,null,null,null,null,null,{"$f":"IF(OFFSET(DE104_5B!$H$34,ROWS($H$34:H60)-1,COLUMNS($H$34:H60)-1)<>\"\",OFFSET(DE104_5B!$H$34,ROWS($H$34:H60)-1,COLUMNS($H$34:H60)-1),\"\")","v":""},null,null,null,null,null,{"$f":"IF(OFFSET(DE104_5B!$I$34,ROWS($I$34:I60)-1,COLUMNS($I$34:I60)-1)<>\"\",OFFSET(DE104_5B!$I$34,ROWS($I$34:I60)-1,COLUMNS($I$34:I60)-1),\"\")","v":""},null,null,null,{"$f":"IF(OFFSET(DE104_5B!$J$34,ROWS($J$34:J60)-1,COLUMNS($J$34:J60)-1)<>\"\",OFFSET(DE104_5B!$J$34,ROWS($J$34:J60)-1,COLUMNS($J$34:J60)-1),\"\")","v":""},null,null,null,{"$f":"IF(OFFSET(DE104_5B!$K$34,ROWS($K$34:K60)-1,COLUMNS($K$34:K60)-1)<>\"\",OFFSET(DE104_5B!$K$34,ROWS($K$34:K60)-1,COLUMNS($K$34:K60)-1),\"\")","v":""},null,null,null,null,{"$f":"IF(OFFSET(DE104_5B!$L$34,ROWS($L$34:L60)-1,COLUMNS($L$34:L60)-1)<>\"\",OFFSET(DE104_5B!$L$34,ROWS($L$34:L60)-1,COLUMNS($L$34:L60)-1),\"\")","v":""},null,null,null,null,null,null,{"$f":"IF(OFFSET(DE104_5B!$M$34,ROWS($M$34:M60)-1,COLUMNS($M$34:M60)-1)<>\"\",OFFSET(DE104_5B!$M$34,ROWS($M$34:M60)-1,COLUMNS($M$34:M60)-1),\"\")","v":""},null,null,null,null,null,{"$f":"IF(OFFSET(DE104_5B!$O$34,ROWS($O$34:O60)-1,COLUMNS($O$34:O60)-1)<>\"\",OFFSET(DE104_5B!$O$34,ROWS($O$34:O60)-1,COLUMNS($O$34:O60)-1),\"\")","v":""},null,null,null,null,null,{"$f":"IF(OFFSET(DE104_5B!$P$34,ROWS($P$34:P60)-1,COLUMNS($P$34:P60)-1)<>\"\",OFFSET(DE104_5B!$P$34,ROWS($P$34:P60)-1,COLUMNS($P$34:P60)-1),\"\")","v":""},null,null,null,null,{"$f":"IF(OFFSET(DE104_5B!$Q$34,ROWS($Q$34:Q60)-1,COLUMNS($Q$34:Q60)-1)<>\"\",OFFSET(DE104_5B!$Q$34,ROWS($Q$34:Q60)-1,COLUMNS($Q$34:Q60)-1),\"\")","v":""},null,null,null,null,null,null,null,null,null,{"$f":"IF(OFFSET(DE104_5B!$R$34,ROWS($R$34:R60)-1,COLUMNS($R$34:R60)-1)<>\"\",OFFSET(DE104_5B!$R$34,ROWS($R$34:R60)-1,COLUMNS($R$34:R60)-1),\"\")","v":""},null,null,null,null,null,null,null,{"$f":"IF(OFFSET(DE104_5B!$S$34,ROWS($S$34:S60)-1,COLUMNS($S$34:S60)-1)<>\"\",OFFSET(DE104_5B!$S$34,ROWS($S$34:S60)-1,COLUMNS($S$34:S60)-1),\"\")","v":""},null,null,null,null,null,null,null,{"$f":"IF(OFFSET(DE104_5B!$T$34,ROWS($T$34:T60)-1,COLUMNS($T$34:T60)-1)<>\"\",OFFSET(DE104_5B!$T$34,ROWS($T$34:T60)-1,COLUMNS($T$34:T60)-1),\"\")","v":""},null,null,null,null,null,null,null,{"$f":"IF(OFFSET(DE104_5B!$U$34,ROWS($U$34:U60)-1,COLUMNS($U$34:U60)-1)<>\"\",OFFSET(DE104_5B!$U$34,ROWS($U$34:U60)-1,COLUMNS($U$34:U60)-1),\"\")","v":""},null,null,null,null,null,null,{"$f":"IF(OFFSET(DE104_5B!$V$34,ROWS($V$34:V60)-1,COLUMNS($V$34:V60)-1)<>\"\",OFFSET(DE104_5B!$V$34,ROWS($V$34:V60)-1,COLUMNS($V$34:V60)-1),\"\")","v":""}]
[null,null,{"$f":"IF(OFFSET(DE104_5B!$A$33,ROWS($A$33:A61)-1,COLUMNS($A$33:A61)-1)<>\"\",OFFSET(DE104_5B!$A$33,ROWS($A$33:A61)-1,COLUMNS($A$33:A61)-1),\"\")","v":""},null,null,null,{"$f":"IF(OFFSET(DE104_5B!$B$33,ROWS($B$33:B61)-1,COLUMNS($B$33:B61)-1)<>\"\",OFFSET(DE104_5B!$B$33,ROWS($B$33:B61)-1,COLUMNS($B$33:B61)-1),\"\")","v":""},null,null,null,null,null,null,null,null,null,null,null,null,null,null,null,null,null,null,{"$f":"IF(OFFSET(DE104_5B!$C$33,ROWS($C$33:C61)-1,COLUMNS($C$33:C61)-1)<>\"\",OFFSET(DE104_5B!$C$33,ROWS($C$33:C61)-1,COLUMNS($C$33:C61)-1),\"\")","v":"SW-549"},null,null,null,null,null,null,null,null,null,null,null,null,null,null,null,null,null,null,null,null,null,null,null,{"$f":"IF(OFFSET(DE104_5B!$D$33,ROWS($D$33:D61)-1,COLUMNS($D$33:D61)-1)<>\"\",OFFSET(DE104_5B!$D$33,ROWS($D$33:D61)-1,COLUMNS($D$33:D61)-1),\"\")","v":4},null,null,null,null,{"$f":"IF(OFFSET(DE104_5B!$E$33,ROWS($E$33:E61)-1,COLUMNS($E$33:E61)-1)<>\"\",OFFSET(DE104_5B!$E$33,ROWS($E$33:E61)-1,COLUMNS($E$33:E61)-1),\"\")","v":""},null,null,null,null,null,{"$f":"IF(OFFSET(DE104_5B!$F$33,ROWS($F$33:F61)-1,COLUMNS($F$33:F61)-1)<>\"\",OFFSET(DE104_5B!$F$33,ROWS($F$33:F61)-1,COLUMNS($F$33:F61)-1),\"\")","v":""},null,null,null,null,null,null,null,{"$f":"IF(OFFSET(DE104_5B!$G$33,ROWS($G$33:G61)-1,COLUMNS($G$33:G61)-1)<>\"\",OFFSET(DE104_5B!$G$33,ROWS($G$33:G61)-1,COLUMNS($G$33:G61)-1),\"\")","v":""}]
[null,null,null,null,null,null,null,null,null,null,null,null,null,null,null,null,null,null,null,null,null,null,null,null,null,null,null,null,null,null,null,null,null,null,null,null,null,null,null,null,null,null,null,null,null,null,null,null,null,null,null,null,null,null,null,null,null,null,null,null,null,null,null,null,null,null,null,null,null,null,null,null,null,null,null,null,null,null,null,null,null,{"$f":"IF(OFFSET(DE104_5B!$H$34,ROWS($H$34:H62)-1,COLUMNS($H$34:H62)-1)<>\"\",OFFSET(DE104_5B!$H$34,ROWS($H$34:H62)-1,COLUMNS($H$34:H62)-1),\"\")","v":""},null,null,null,null,null,{"$f":"IF(OFFSET(DE104_5B!$I$34,ROWS($I$34:I62)-1,COLUMNS($I$34:I62)-1)<>\"\",OFFSET(DE104_5B!$I$34,ROWS($I$34:I62)-1,COLUMNS($I$34:I62)-1),\"\")","v":""},null,null,null,{"$f":"IF(OFFSET(DE104_5B!$J$34,ROWS($J$34:J62)-1,COLUMNS($J$34:J62)-1)<>\"\",OFFSET(DE104_5B!$J$34,ROWS($J$34:J62)-1,COLUMNS($J$34:J62)-1),\"\")","v":""},null,null,null,{"$f":"IF(OFFSET(DE104_5B!$K$34,ROWS($K$34:K62)-1,COLUMNS($K$34:K62)-1)<>\"\",OFFSET(DE104_5B!$K$34,ROWS($K$34:K62)-1,COLUMNS($K$34:K62)-1),\"\")","v":""},null,null,null,null,{"$f":"IF(OFFSET(DE104_5B!$L$34,ROWS($L$34:L62)-1,COLUMNS($L$34:L62)-1)<>\"\",OFFSET(DE104_5B!$L$34,ROWS($L$34:L62)-1,COLUMNS($L$34:L62)-1),\"\")","v":""},null,null,null,null,null,null,{"$f":"IF(OFFSET(DE104_5B!$M$34,ROWS($M$34:M62)-1,COLUMNS($M$34:M62)-1)<>\"\",OFFSET(DE104_5B!$M$34,ROWS($M$34:M62)-1,COLUMNS($M$34:M62)-1),\"\")","v":""},null,null,null,null,null,{"$f":"IF(OFFSET(DE104_5B!$O$34,ROWS($O$34:O62)-1,COLUMNS($O$34:O62)-1)<>\"\",OFFSET(DE104_5B!$O$34,ROWS($O$34:O62)-1,COLUMNS($O$34:O62)-1),\"\")","v":""},null,null,null,null,null,{"$f":"IF(OFFSET(DE104_5B!$P$34,ROWS($P$34:P62)-1,COLUMNS($P$34:P62)-1)<>\"\",OFFSET(DE104_5B!$P$34,ROWS($P$34:P62)-1,COLUMNS($P$34:P62)-1),\"\")","v":""},null,null,null,null,{"$f":"IF(OFFSET(DE104_5B!$Q$34,ROWS($Q$34:Q62)-1,COLUMNS($Q$34:Q62)-1)<>\"\",OFFSET(DE104_5B!$Q$34,ROWS($Q$34:Q62)-1,COLUMNS($Q$34:Q62)-1),\"\")","v":""},null,null,null,null,null,null,null,null,null,{"$f":"IF(OFFSET(DE104_5B!$R$34,ROWS($R$34:R62)-1,COLUMNS($R$34:R62)-1)<>\"\",OFFSET(DE104_5B!$R$34,ROWS($R$34:R62)-1,COLUMNS($R$34:R62)-1),\"\")","v":""},null,null,null,null,null,null,null,{"$f":"IF(OFFSET(DE104_5B!$S$34,ROWS($S$34:S62)-1,COLUMNS($S$34:S62)-1)<>\"\",OFFSET(DE104_5B!$S$34,ROWS($S$34:S62)-1,COLUMNS($S$34:S62)-1),\"\")","v":""},null,null,null,null,null,null,null,{"$f":"IF(OFFSET(DE104_5B!$T$34,ROWS($T$34:T62)-1,COLUMNS($T$34:T62)-1)<>\"\",OFFSET(DE104_5B!$T$34,ROWS($T$34:T62)-1,COLUMNS($T$34:T62)-1),\"\")","v":""},null,null,null,null,null,null,null,{"$f":"IF(OFFSET(DE104_5B!$U$34,ROWS($U$34:U62)-1,COLUMNS($U$34:U62)-1)<>\"\",OFFSET(DE104_5B!$U$34,ROWS($U$34:U62)-1,COLUMNS($U$34:U62)-1),\"\")","v":""},null,null,null,null,null,null,{"$f":"IF(OFFSET(DE104_5B!$V$34,ROWS($V$34:V62)-1,COLUMNS($V$34:V62)-1)<>\"\",OFFSET(DE104_5B!$V$34,ROWS($V$34:V62)-1,COLUMNS($V$34:V62)-1),\"\")","v":""}]
[null,null,{"$f":"IF(OFFSET(DE104_5B!$A$33,ROWS($A$33:A63)-1,COLUMNS($A$33:A63)-1)<>\"\",OFFSET(DE104_5B!$A$33,ROWS($A$33:A63)-1,COLUMNS($A$33:A63)-1),\"\")","v":""},null,null,null,{"$f":"IF(OFFSET(DE104_5B!$B$33,ROWS($B$33:B63)-1,COLUMNS($B$33:B63)-1)<>\"\",OFFSET(DE104_5B!$B$33,ROWS($B$33:B63)-1,COLUMNS($B$33:B63)-1),\"\")","v":""},null,null,null,null,null,null,null,null,null,null,null,null,null,null,null,null,null,null,{"$f":"IF(OFFSET(DE104_5B!$C$33,ROWS($C$33:C63)-1,COLUMNS($C$33:C63)-1)<>\"\",OFFSET(DE104_5B!$C$33,ROWS($C$33:C63)-1,COLUMNS($C$33:C63)-1),\"\")","v":""},null,null,null,null,null,null,null,null,null,null,null,null,null,null,null,null,null,null,null,null,null,null,null,{"$f":"IF(OFFSET(DE104_5B!$D$33,ROWS($D$33:D63)-1,COLUMNS($D$33:D63)-1)<>\"\",OFFSET(DE104_5B!$D$33,ROWS($D$33:D63)-1,COLUMNS($D$33:D63)-1),\"\")","v":""},null,null,null,null,{"$f":"IF(OFFSET(DE104_5B!$E$33,ROWS($E$33:E63)-1,COLUMNS($E$33:E63)-1)<>\"\",OFFSET(DE104_5B!$E$33,ROWS($E$33:E63)-1,COLUMNS($E$33:E63)-1),\"\")","v":""},null,null,null,null,null,{"$f":"IF(OFFSET(DE104_5B!$F$33,ROWS($F$33:F63)-1,COLUMNS($F$33:F63)-1)<>\"\",OFFSET(DE104_5B!$F$33,ROWS($F$33:F63)-1,COLUMNS($F$33:F63)-1),\"\")","v":""},null,null,null,null,null,null,null,{"$f":"IF(OFFSET(DE104_5B!$G$33,ROWS($G$33:G63)-1,COLUMNS($G$33:G63)-1)<>\"\",OFFSET(DE104_5B!$G$33,ROWS($G$33:G63)-1,COLUMNS($G$33:G63)-1),\"\")","v":""}]
[null,null,null,null,null,null,null,null,null,null,null,null,null,null,null,null,null,null,null,null,null,null,null,null,null,null,null,null,null,null,null,null,null,null,null,null,null,null,null,null,null,null,null,null,null,null,null,null,null,null,null,null,null,null,null,null,null,null,null,null,null,null,null,null,null,null,null,null,null,null,null,null,null,null,null,null,null,null,null,null,null,{"$f":"IF(OFFSET(DE104_5B!$H$34,ROWS($H$34:H64)-1,COLUMNS($H$34:H64)-1)<>\"\",OFFSET(DE104_5B!$H$34,ROWS($H$34:H64)-1,COLUMNS($H$34:H64)-1),\"\")","v":""},null,null,null,null,null,{"$f":"IF(OFFSET(DE104_5B!$I$34,ROWS($I$34:I64)-1,COLUMNS($I$34:I64)-1)<>\"\",OFFSET(DE104_5B!$I$34,ROWS($I$34:I64)-1,COLUMNS($I$34:I64)-1),\"\")","v":""},null,null,null,{"$f":"IF(OFFSET(DE104_5B!$J$34,ROWS($J$34:J64)-1,COLUMNS($J$34:J64)-1)<>\"\",OFFSET(DE104_5B!$J$34,ROWS($J$34:J64)-1,COLUMNS($J$34:J64)-1),\"\")","v":""},null,null,null,{"$f":"IF(OFFSET(DE104_5B!$K$34,ROWS($K$34:K64)-1,COLUMNS($K$34:K64)-1)<>\"\",OFFSET(DE104_5B!$K$34,ROWS($K$34:K64)-1,COLUMNS($K$34:K64)-1),\"\")","v":""},null,null,null,null,{"$f":"IF(OFFSET(DE104_5B!$L$34,ROWS($L$34:L64)-1,COLUMNS($L$34:L64)-1)<>\"\",OFFSET(DE104_5B!$L$34,ROWS($L$34:L64)-1,COLUMNS($L$34:L64)-1),\"\")","v":""},null,null,null,null,null,null,{"$f":"IF(OFFSET(DE104_5B!$M$34,ROWS($M$34:M64)-1,COLUMNS($M$34:M64)-1)<>\"\",OFFSET(DE104_5B!$M$34,ROWS($M$34:M64)-1,COLUMNS($M$34:M64)-1),\"\")","v":""},null,null,null,null,null,{"$f":"IF(OFFSET(DE104_5B!$O$34,ROWS($O$34:O64)-1,COLUMNS($O$34:O64)-1)<>\"\",OFFSET(DE104_5B!$O$34,ROWS($O$34:O64)-1,COLUMNS($O$34:O64)-1),\"\")","v":""},null,null,null,null,null,{"$f":"IF(OFFSET(DE104_5B!$P$34,ROWS($P$34:P64)-1,COLUMNS($P$34:P64)-1)<>\"\",OFFSET(DE104_5B!$P$34,ROWS($P$34:P64)-1,COLUMNS($P$34:P64)-1),\"\")","v":""},null,null,null,null,{"$f":"IF(OFFSET(DE104_5B!$Q$34,ROWS($Q$34:Q64)-1,COLUMNS($Q$34:Q64)-1)<>\"\",OFFSET(DE104_5B!$Q$34,ROWS($Q$34:Q64)-1,COLUMNS($Q$34:Q64)-1),\"\")","v":""},null,null,null,null,null,null,null,null,null,{"$f":"IF(OFFSET(DE104_5B!$R$34,ROWS($R$34:R64)-1,COLUMNS($R$34:R64)-1)<>\"\",OFFSET(DE104_5B!$R$34,ROWS($R$34:R64)-1,COLUMNS($R$34:R64)-1),\"\")","v":""},null,null,null,null,null,null,null,{"$f":"IF(OFFSET(DE104_5B!$S$34,ROWS($S$34:S64)-1,COLUMNS($S$34:S64)-1)<>\"\",OFFSET(DE104_5B!$S$34,ROWS($S$34:S64)-1,COLUMNS($S$34:S64)-1),\"\")","v":""},null,null,null,null,null,null,null,{"$f":"IF(OFFSET(DE104_5B!$T$34,ROWS($T$34:T64)-1,COLUMNS($T$34:T64)-1)<>\"\",OFFSET(DE104_5B!$T$34,ROWS($T$34:T64)-1,COLUMNS($T$34:T64)-1),\"\")","v":""},null,null,null,null,null,null,null,{"$f":"IF(OFFSET(DE104_5B!$U$34,ROWS($U$34:U64)-1,COLUMNS($U$34:U64)-1)<>\"\",OFFSET(DE104_5B!$U$34,ROWS($U$34:U64)-1,COLUMNS($U$34:U64)-1),\"\")","v":""},null,null,null,null,null,null,{"$f":"IF(OFFSET(DE104_5B!$V$34,ROWS($V$34:V64)-1,COLUMNS($V$34:V64)-1)<>\"\",OFFSET(DE104_5B!$V$34,ROWS($V$34:V64)-1,COLUMNS($V$34:V64)-1),\"\")","v":""}]
[null,null,{"$f":"IF(OFFSET(DE104_5B!$A$33,ROWS($A$33:A65)-1,COLUMNS($A$33:A65)-1)<>\"\",OFFSET(DE104_5B!$A$33,ROWS($A$33:A65)-1,COLUMNS($A$33:A65)-1),\"\")","v":""},null,null,null,{"$f":"IF(OFFSET(DE104_5B!$B$33,ROWS($B$33:B65)-1,COLUMNS($B$33:B65)-1)<>\"\",OFFSET(DE104_5B!$B$33,ROWS($B$33:B65)-1,COLUMNS($B$33:B65)-1),\"\")","v":""},null,null,null,null,null,null,null,null,null,null,null,null,null,null,null,null,null,null,{"$f":"IF(OFFSET(DE104_5B!$C$33,ROWS($C$33:C65)-1,COLUMNS($C$33:C65)-1)<>\"\",OFFSET(DE104_5B!$C$33,ROWS($C$33:C65)-1,COLUMNS($C$33:C65)-1),\"\")","v":""},null,null,null,null,null,null,null,null,null,null,null,null,null,null,null,null,null,null,null,null,null,null,null,{"$f":"IF(OFFSET(DE104_5B!$D$33,ROWS($D$33:D65)-1,COLUMNS($D$33:D65)-1)<>\"\",OFFSET(DE104_5B!$D$33,ROWS($D$33:D65)-1,COLUMNS($D$33:D65)-1),\"\")","v":""},null,null,null,null,{"$f":"IF(OFFSET(DE104_5B!$E$33,ROWS($E$33:E65)-1,COLUMNS($E$33:E65)-1)<>\"\",OFFSET(DE104_5B!$E$33,ROWS($E$33:E65)-1,COLUMNS($E$33:E65)-1),\"\")","v":""},null,null,null,null,null,{"$f":"IF(OFFSET(DE104_5B!$F$33,ROWS($F$33:F65)-1,COLUMNS($F$33:F65)-1)<>\"\",OFFSET(DE104_5B!$F$33,ROWS($F$33:F65)-1,COLUMNS($F$33:F65)-1),\"\")","v":""},null,null,null,null,null,null,null,{"$f":"IF(OFFSET(DE104_5B!$G$33,ROWS($G$33:G65)-1,COLUMNS($G$33:G65)-1)<>\"\",OFFSET(DE104_5B!$G$33,ROWS($G$33:G65)-1,COLUMNS($G$33:G65)-1),\"\")","v":""}]
[null,null,null,null,null,null,null,null,null,null,null,null,null,null,null,null,null,null,null,null,null,null,null,null,null,null,null,null,null,null,null,null,null,null,null,null,null,null,null,null,null,null,null,null,null,null,null,null,null,null,null,null,null,null,null,null,null,null,null,null,null,null,null,null,null,null,null,null,null,null,null,null,null,null,null,null,null,null,null,null,null,{"$f":"IF(OFFSET(DE104_5B!$H$34,ROWS($H$34:H66)-1,COLUMNS($H$34:H66)-1)<>\"\",OFFSET(DE104_5B!$H$34,ROWS($H$34:H66)-1,COLUMNS($H$34:H66)-1),\"\")","v":""},null,null,null,null,null,{"$f":"IF(OFFSET(DE104_5B!$I$34,ROWS($I$34:I66)-1,COLUMNS($I$34:I66)-1)<>\"\",OFFSET(DE104_5B!$I$34,ROWS($I$34:I66)-1,COLUMNS($I$34:I66)-1),\"\")","v":""},null,null,null,{"$f":"IF(OFFSET(DE104_5B!$J$34,ROWS($J$34:J66)-1,COLUMNS($J$34:J66)-1)<>\"\",OFFSET(DE104_5B!$J$34,ROWS($J$34:J66)-1,COLUMNS($J$34:J66)-1),\"\")","v":""},null,null,null,{"$f":"IF(OFFSET(DE104_5B!$K$34,ROWS($K$34:K66)-1,COLUMNS($K$34:K66)-1)<>\"\",OFFSET(DE104_5B!$K$34,ROWS($K$34:K66)-1,COLUMNS($K$34:K66)-1),\"\")","v":""},null,null,null,null,{"$f":"IF(OFFSET(DE104_5B!$L$34,ROWS($L$34:L66)-1,COLUMNS($L$34:L66)-1)<>\"\",OFFSET(DE104_5B!$L$34,ROWS($L$34:L66)-1,COLUMNS($L$34:L66)-1),\"\")","v":""},null,null,null,null,null,null,{"$f":"IF(OFFSET(DE104_5B!$M$34,ROWS($M$34:M66)-1,COLUMNS($M$34:M66)-1)<>\"\",OFFSET(DE104_5B!$M$34,ROWS($M$34:M66)-1,COLUMNS($M$34:M66)-1),\"\")","v":""},null,null,null,null,null,{"$f":"IF(OFFSET(DE104_5B!$O$34,ROWS($O$34:O66)-1,COLUMNS($O$34:O66)-1)<>\"\",OFFSET(DE104_5B!$O$34,ROWS($O$34:O66)-1,COLUMNS($O$34:O66)-1),\"\")","v":""},null,null,null,null,null,{"$f":"IF(OFFSET(DE104_5B!$P$34,ROWS($P$34:P66)-1,COLUMNS($P$34:P66)-1)<>\"\",OFFSET(DE104_5B!$P$34,ROWS($P$34:P66)-1,COLUMNS($P$34:P66)-1),\"\")","v":""},null,null,null,null,{"$f":"IF(OFFSET(DE104_5B!$Q$34,ROWS($Q$34:Q66)-1,COLUMNS($Q$34:Q66)-1)<>\"\",OFFSET(DE104_5B!$Q$34,ROWS($Q$34:Q66)-1,COLUMNS($Q$34:Q66)-1),\"\")","v":""},null,null,null,null,null,null,null,null,null,{"$f":"IF(OFFSET(DE104_5B!$R$34,ROWS($R$34:R66)-1,COLUMNS($R$34:R66)-1)<>\"\",OFFSET(DE104_5B!$R$34,ROWS($R$34:R66)-1,COLUMNS($R$34:R66)-1),\"\")","v":""},null,null,null,null,null,null,null,{"$f":"IF(OFFSET(DE104_5B!$S$34,ROWS($S$34:S66)-1,COLUMNS($S$34:S66)-1)<>\"\",OFFSET(DE104_5B!$S$34,ROWS($S$34:S66)-1,COLUMNS($S$34:S66)-1),\"\")","v":""},null,null,null,null,null,null,null,{"$f":"IF(OFFSET(DE104_5B!$T$34,ROWS($T$34:T66)-1,COLUMNS($T$34:T66)-1)<>\"\",OFFSET(DE104_5B!$T$34,ROWS($T$34:T66)-1,COLUMNS($T$34:T66)-1),\"\")","v":""},null,null,null,null,null,null,null,{"$f":"IF(OFFSET(DE104_5B!$U$34,ROWS($U$34:U66)-1,COLUMNS($U$34:U66)-1)<>\"\",OFFSET(DE104_5B!$U$34,ROWS($U$34:U66)-1,COLUMNS($U$34:U66)-1),\"\")","v":""},null,null,null,null,null,null,{"$f":"IF(OFFSET(DE104_5B!$V$34,ROWS($V$34:V66)-1,COLUMNS($V$34:V66)-1)<>\"\",OFFSET(DE104_5B!$V$34,ROWS($V$34:V66)-1,COLUMNS($V$34:V66)-1),\"\")","v":""}]
[null,null,{"$f":"IF(OFFSET(DE104_5B!$A$33,ROWS($A$33:A67)-1,COLUMNS($A$33:A67)-1)<>\"\",OFFSET(DE104_5B!$A$33,ROWS($A$33:A67)-1,COLUMNS($A$33:A67)-1),\"\")","v":""},null,null,null,{"$f":"IF(OFFSET(DE104_5B!$B$33,ROWS($B$33:B67)-1,COLUMNS($B$33:B67)-1)<>\"\",OFFSET(DE104_5B!$B$33,ROWS($B$33:B67)-1,COLUMNS($B$33:B67)-1),\"\")","v":""},null,null,null,null,null,null,null,null,null,null,null,null,null,null,null,null,null,null,{"$f":"IF(OFFSET(DE104_5B!$C$33,ROWS($C$33:C67)-1,COLUMNS($C$33:C67)-1)<>\"\",OFFSET(DE104_5B!$C$33,ROWS($C$33:C67)-1,COLUMNS($C$33:C67)-1),\"\")","v":""},null,null,null,null,null,null,null,null,null,null,null,null,null,null,null,null,null,null,null,null,null,null,null,{"$f":"IF(OFFSET(DE104_5B!$D$33,ROWS($D$33:D67)-1,COLUMNS($D$33:D67)-1)<>\"\",OFFSET(DE104_5B!$D$33,ROWS($D$33:D67)-1,COLUMNS($D$33:D67)-1),\"\")","v":""},null,null,null,null,{"$f":"IF(OFFSET(DE104_5B!$E$33,ROWS($E$33:E67)-1,COLUMNS($E$33:E67)-1)<>\"\",OFFSET(DE104_5B!$E$33,ROWS($E$33:E67)-1,COLUMNS($E$33:E67)-1),\"\")","v":""},null,null,null,null,null,{"$f":"IF(OFFSET(DE104_5B!$F$33,ROWS($F$33:F67)-1,COLUMNS($F$33:F67)-1)<>\"\",OFFSET(DE104_5B!$F$33,ROWS($F$33:F67)-1,COLUMNS($F$33:F67)-1),\"\")","v":""},null,null,null,null,null,null,null,{"$f":"IF(OFFSET(DE104_5B!$G$33,ROWS($G$33:G67)-1,COLUMNS($G$33:G67)-1)<>\"\",OFFSET(DE104_5B!$G$33,ROWS($G$33:G67)-1,COLUMNS($G$33:G67)-1),\"\")","v":""}]
[null,null,null,null,null,null,null,null,null,null,null,null,null,null,null,null,null,null,null,null,null,null,null,null,null,null,null,null,null,null,null,null,null,null,null,null,null,null,null,null,null,null,null,null,null,null,null,null,null,null,null,null,null,null,null,null,null,null,null,null,null,null,null,null,null,null,null,null,null,null,null,null,null,null,null,null,null,null,null,null,null,{"$f":"IF(OFFSET(DE104_5B!$H$34,ROWS($H$34:H68)-1,COLUMNS($H$34:H68)-1)<>\"\",OFFSET(DE104_5B!$H$34,ROWS($H$34:H68)-1,COLUMNS($H$34:H68)-1),\"\")","v":""},null,null,null,null,null,{"$f":"IF(OFFSET(DE104_5B!$I$34,ROWS($I$34:I68)-1,COLUMNS($I$34:I68)-1)<>\"\",OFFSET(DE104_5B!$I$34,ROWS($I$34:I68)-1,COLUMNS($I$34:I68)-1),\"\")","v":""},null,null,null,{"$f":"IF(OFFSET(DE104_5B!$J$34,ROWS($J$34:J68)-1,COLUMNS($J$34:J68)-1)<>\"\",OFFSET(DE104_5B!$J$34,ROWS($J$34:J68)-1,COLUMNS($J$34:J68)-1),\"\")","v":""},null,null,null,{"$f":"IF(OFFSET(DE104_5B!$K$34,ROWS($K$34:K68)-1,COLUMNS($K$34:K68)-1)<>\"\",OFFSET(DE104_5B!$K$34,ROWS($K$34:K68)-1,COLUMNS($K$34:K68)-1),\"\")","v":""},null,null,null,null,{"$f":"IF(OFFSET(DE104_5B!$L$34,ROWS($L$34:L68)-1,COLUMNS($L$34:L68)-1)<>\"\",OFFSET(DE104_5B!$L$34,ROWS($L$34:L68)-1,COLUMNS($L$34:L68)-1),\"\")","v":""},null,null,null,null,null,null,{"$f":"IF(OFFSET(DE104_5B!$M$34,ROWS($M$34:M68)-1,COLUMNS($M$34:M68)-1)<>\"\",OFFSET(DE104_5B!$M$34,ROWS($M$34:M68)-1,COLUMNS($M$34:M68)-1),\"\")","v":""},null,null,null,null,null,{"$f":"IF(OFFSET(DE104_5B!$O$34,ROWS($O$34:O68)-1,COLUMNS($O$34:O68)-1)<>\"\",OFFSET(DE104_5B!$O$34,ROWS($O$34:O68)-1,COLUMNS($O$34:O68)-1),\"\")","v":""},null,null,null,null,null,{"$f":"IF(OFFSET(DE104_5B!$P$34,ROWS($P$34:P68)-1,COLUMNS($P$34:P68)-1)<>\"\",OFFSET(DE104_5B!$P$34,ROWS($P$34:P68)-1,COLUMNS($P$34:P68)-1),\"\")","v":""},null,null,null,null,{"$f":"IF(OFFSET(DE104_5B!$Q$34,ROWS($Q$34:Q68)-1,COLUMNS($Q$34:Q68)-1)<>\"\",OFFSET(DE104_5B!$Q$34,ROWS($Q$34:Q68)-1,COLUMNS($Q$34:Q68)-1),\"\")","v":""},null,null,null,null,null,null,null,null,null,{"$f":"IF(OFFSET(DE104_5B!$R$34,ROWS($R$34:R68)-1,COLUMNS($R$34:R68)-1)<>\"\",OFFSET(DE104_5B!$R$34,ROWS($R$34:R68)-1,COLUMNS($R$34:R68)-1),\"\")","v":""},null,null,null,null,null,null,null,{"$f":"IF(OFFSET(DE104_5B!$S$34,ROWS($S$34:S68)-1,COLUMNS($S$34:S68)-1)<>\"\",OFFSET(DE104_5B!$S$34,ROWS($S$34:S68)-1,COLUMNS($S$34:S68)-1),\"\")","v":""},null,null,null,null,null,null,null,{"$f":"IF(OFFSET(DE104_5B!$T$34,ROWS($T$34:T68)-1,COLUMNS($T$34:T68)-1)<>\"\",OFFSET(DE104_5B!$T$34,ROWS($T$34:T68)-1,COLUMNS($T$34:T68)-1),\"\")","v":""},null,null,null,null,null,null,null,{"$f":"IF(OFFSET(DE104_5B!$U$34,ROWS($U$34:U68)-1,COLUMNS($U$34:U68)-1)<>\"\",OFFSET(DE104_5B!$U$34,ROWS($U$34:U68)-1,COLUMNS($U$34:U68)-1),\"\")","v":""},null,null,null,null,null,null,{"$f":"IF(OFFSET(DE104_5B!$V$34,ROWS($V$34:V68)-1,COLUMNS($V$34:V68)-1)<>\"\",OFFSET(DE104_5B!$V$34,ROWS($V$34:V68)-1,COLUMNS($V$34:V68)-1),\"\")","v":""}]
[null,null,{"$f":"IF(OFFSET(DE104_5B!$A$33,ROWS($A$33:A69)-1,COLUMNS($A$33:A69)-1)<>\"\",OFFSET(DE104_5B!$A$33,ROWS($A$33:A69)-1,COLUMNS($A$33:A69)-1),\"\")","v":""},null,null,null,{"$f":"IF(OFFSET(DE104_5B!$B$33,ROWS($B$33:B69)-1,COLUMNS($B$33:B69)-1)<>\"\",OFFSET(DE104_5B!$B$33,ROWS($B$33:B69)-1,COLUMNS($B$33:B69)-1),\"\")","v":""},null,null,null,null,null,null,null,null,null,null,null,null,null,null,null,null,null,null,{"$f":"IF(OFFSET(DE104_5B!$C$33,ROWS($C$33:C69)-1,COLUMNS($C$33:C69)-1)<>\"\",OFFSET(DE104_5B!$C$33,ROWS($C$33:C69)-1,COLUMNS($C$33:C69)-1),\"\")","v":""},null,null,null,null,null,null,null,null,null,null,null,null,null,null,null,null,null,null,null,null,null,null,null,{"$f":"IF(OFFSET(DE104_5B!$D$33,ROWS($D$33:D69)-1,COLUMNS($D$33:D69)-1)<>\"\",OFFSET(DE104_5B!$D$33,ROWS($D$33:D69)-1,COLUMNS($D$33:D69)-1),\"\")","v":""},null,null,null,null,{"$f":"IF(OFFSET(DE104_5B!$E$33,ROWS($E$33:E69)-1,COLUMNS($E$33:E69)-1)<>\"\",OFFSET(DE104_5B!$E$33,ROWS($E$33:E69)-1,COLUMNS($E$33:E69)-1),\"\")","v":""},null,null,null,null,null,{"$f":"IF(OFFSET(DE104_5B!$F$33,ROWS($F$33:F69)-1,COLUMNS($F$33:F69)-1)<>\"\",OFFSET(DE104_5B!$F$33,ROWS($F$33:F69)-1,COLUMNS($F$33:F69)-1),\"\")","v":""},null,null,null,null,null,null,null,{"$f":"IF(OFFSET(DE104_5B!$G$33,ROWS($G$33:G69)-1,COLUMNS($G$33:G69)-1)<>\"\",OFFSET(DE104_5B!$G$33,ROWS($G$33:G69)-1,COLUMNS($G$33:G69)-1),\"\")","v":""}]
[null,null,null,null,null,null,null,null,null,null,null,null,null,null,null,null,null,null,null,null,null,null,null,null,null,null,null,null,null,null,null,null,null,null,null,null,null,null,null,null,null,null,null,null,null,null,null,null,null,null,null,null,null,null,null,null,null,null,null,null,null,null,null,null,null,null,null,null,null,null,null,null,null,null,null,null,null,null,null,null,null,{"$f":"IF(OFFSET(DE104_5B!$H$34,ROWS($H$34:H70)-1,COLUMNS($H$34:H70)-1)<>\"\",OFFSET(DE104_5B!$H$34,ROWS($H$34:H70)-1,COLUMNS($H$34:H70)-1),\"\")","v":""},null,null,null,null,null,{"$f":"IF(OFFSET(DE104_5B!$I$34,ROWS($I$34:I70)-1,COLUMNS($I$34:I70)-1)<>\"\",OFFSET(DE104_5B!$I$34,ROWS($I$34:I70)-1,COLUMNS($I$34:I70)-1),\"\")","v":""},null,null,null,{"$f":"IF(OFFSET(DE104_5B!$J$34,ROWS($J$34:J70)-1,COLUMNS($J$34:J70)-1)<>\"\",OFFSET(DE104_5B!$J$34,ROWS($J$34:J70)-1,COLUMNS($J$34:J70)-1),\"\")","v":""},null,null,null,{"$f":"IF(OFFSET(DE104_5B!$K$34,ROWS($K$34:K70)-1,COLUMNS($K$34:K70)-1)<>\"\",OFFSET(DE104_5B!$K$34,ROWS($K$34:K70)-1,COLUMNS($K$34:K70)-1),\"\")","v":""},null,null,null,null,{"$f":"IF(OFFSET(DE104_5B!$L$34,ROWS($L$34:L70)-1,COLUMNS($L$34:L70)-1)<>\"\",OFFSET(DE104_5B!$L$34,ROWS($L$34:L70)-1,COLUMNS($L$34:L70)-1),\"\")","v":""},null,null,null,null,null,null,{"$f":"IF(OFFSET(DE104_5B!$M$34,ROWS($M$34:M70)-1,COLUMNS($M$34:M70)-1)<>\"\",OFFSET(DE104_5B!$M$34,ROWS($M$34:M70)-1,COLUMNS($M$34:M70)-1),\"\")","v":""},null,null,null,null,null,{"$f":"IF(OFFSET(DE104_5B!$O$34,ROWS($O$34:O70)-1,COLUMNS($O$34:O70)-1)<>\"\",OFFSET(DE104_5B!$O$34,ROWS($O$34:O70)-1,COLUMNS($O$34:O70)-1),\"\")","v":""},null,null,null,null,null,{"$f":"IF(OFFSET(DE104_5B!$P$34,ROWS($P$34:P70)-1,COLUMNS($P$34:P70)-1)<>\"\",OFFSET(DE104_5B!$P$34,ROWS($P$34:P70)-1,COLUMNS($P$34:P70)-1),\"\")","v":""},null,null,null,null,{"$f":"IF(OFFSET(DE104_5B!$Q$34,ROWS($Q$34:Q70)-1,COLUMNS($Q$34:Q70)-1)<>\"\",OFFSET(DE104_5B!$Q$34,ROWS($Q$34:Q70)-1,COLUMNS($Q$34:Q70)-1),\"\")","v":""},null,null,null,null,null,null,null,null,null,{"$f":"IF(OFFSET(DE104_5B!$R$34,ROWS($R$34:R70)-1,COLUMNS($R$34:R70)-1)<>\"\",OFFSET(DE104_5B!$R$34,ROWS($R$34:R70)-1,COLUMNS($R$34:R70)-1),\"\")","v":""},null,null,null,null,null,null,null,{"$f":"IF(OFFSET(DE104_5B!$S$34,ROWS($S$34:S70)-1,COLUMNS($S$34:S70)-1)<>\"\",OFFSET(DE104_5B!$S$34,ROWS($S$34:S70)-1,COLUMNS($S$34:S70)-1),\"\")","v":""},null,null,null,null,null,null,null,{"$f":"IF(OFFSET(DE104_5B!$T$34,ROWS($T$34:T70)-1,COLUMNS($T$34:T70)-1)<>\"\",OFFSET(DE104_5B!$T$34,ROWS($T$34:T70)-1,COLUMNS($T$34:T70)-1),\"\")","v":""},null,null,null,null,null,null,null,{"$f":"IF(OFFSET(DE104_5B!$U$34,ROWS($U$34:U70)-1,COLUMNS($U$34:U70)-1)<>\"\",OFFSET(DE104_5B!$U$34,ROWS($U$34:U70)-1,COLUMNS($U$34:U70)-1),\"\")","v":""},null,null,null,null,null,null,{"$f":"IF(OFFSET(DE104_5B!$V$34,ROWS($V$34:V70)-1,COLUMNS($V$34:V70)-1)<>\"\",OFFSET(DE104_5B!$V$34,ROWS($V$34:V70)-1,COLUMNS($V$34:V70)-1),\"\")","v":""}]
[null,null,{"$f":"IF(OFFSET(DE104_5B!$A$33,ROWS($A$33:A71)-1,COLUMNS($A$33:A71)-1)<>\"\",OFFSET(DE104_5B!$A$33,ROWS($A$33:A71)-1,COLUMNS($A$33:A71)-1),\"\")","v":""},null,null,null,{"$f":"IF(OFFSET(DE104_5B!$B$33,ROWS($B$33:B71)-1,COLUMNS($B$33:B71)-1)<>\"\",OFFSET(DE104_5B!$B$33,ROWS($B$33:B71)-1,COLUMNS($B$33:B71)-1),\"\")","v":""},null,null,null,null,null,null,null,null,null,null,null,null,null,null,null,null,null,null,{"$f":"IF(OFFSET(DE104_5B!$C$33,ROWS($C$33:C71)-1,COLUMNS($C$33:C71)-1)<>\"\",OFFSET(DE104_5B!$C$33,ROWS($C$33:C71)-1,COLUMNS($C$33:C71)-1),\"\")","v":""},null,null,null,null,null,null,null,null,null,null,null,null,null,null,null,null,null,null,null,null,null,null,null,{"$f":"IF(OFFSET(DE104_5B!$D$33,ROWS($D$33:D71)-1,COLUMNS($D$33:D71)-1)<>\"\",OFFSET(DE104_5B!$D$33,ROWS($D$33:D71)-1,COLUMNS($D$33:D71)-1),\"\")","v":""},null,null,null,null,{"$f":"IF(OFFSET(DE104_5B!$E$33,ROWS($E$33:E71)-1,COLUMNS($E$33:E71)-1)<>\"\",OFFSET(DE104_5B!$E$33,ROWS($E$33:E71)-1,COLUMNS($E$33:E71)-1),\"\")","v":""},null,null,null,null,null,{"$f":"IF(OFFSET(DE104_5B!$F$33,ROWS($F$33:F71)-1,COLUMNS($F$33:F71)-1)<>\"\",OFFSET(DE104_5B!$F$33,ROWS($F$33:F71)-1,COLUMNS($F$33:F71)-1),\"\")","v":""},null,null,null,null,null,null,null,{"$f":"IF(OFFSET(DE104_5B!$G$33,ROWS($G$33:G71)-1,COLUMNS($G$33:G71)-1)<>\"\",OFFSET(DE104_5B!$G$33,ROWS($G$33:G71)-1,COLUMNS($G$33:G71)-1),\"\")","v":""}]
[null,null,null,null,null,null,null,null,null,null,null,null,null,null,null,null,null,null,null,null,null,null,null,null,null,null,null,null,null,null,null,null,null,null,null,null,null,null,null,null,null,null,null,null,null,null,null,null,null,null,null,null,null,null,null,null,null,null,null,null,null,null,null,null,null,null,null,null,null,null,null,null,null,null,null,null,null,null,null,null,null,{"$f":"IF(OFFSET(DE104_5B!$H$34,ROWS($H$34:H72)-1,COLUMNS($H$34:H72)-1)<>\"\",OFFSET(DE104_5B!$H$34,ROWS($H$34:H72)-1,COLUMNS($H$34:H72)-1),\"\")","v":""},null,null,null,null,null,{"$f":"IF(OFFSET(DE104_5B!$I$34,ROWS($I$34:I72)-1,COLUMNS($I$34:I72)-1)<>\"\",OFFSET(DE104_5B!$I$34,ROWS($I$34:I72)-1,COLUMNS($I$34:I72)-1),\"\")","v":""},null,null,null,{"$f":"IF(OFFSET(DE104_5B!$J$34,ROWS($J$34:J72)-1,COLUMNS($J$34:J72)-1)<>\"\",OFFSET(DE104_5B!$J$34,ROWS($J$34:J72)-1,COLUMNS($J$34:J72)-1),\"\")","v":""},null,null,null,{"$f":"IF(OFFSET(DE104_5B!$K$34,ROWS($K$34:K72)-1,COLUMNS($K$34:K72)-1)<>\"\",OFFSET(DE104_5B!$K$34,ROWS($K$34:K72)-1,COLUMNS($K$34:K72)-1),\"\")","v":""},null,null,null,null,{"$f":"IF(OFFSET(DE104_5B!$L$34,ROWS($L$34:L72)-1,COLUMNS($L$34:L72)-1)<>\"\",OFFSET(DE104_5B!$L$34,ROWS($L$34:L72)-1,COLUMNS($L$34:L72)-1),\"\")","v":""},null,null,null,null,null,null,{"$f":"IF(OFFSET(DE104_5B!$M$34,ROWS($M$34:M72)-1,COLUMNS($M$34:M72)-1)<>\"\",OFFSET(DE104_5B!$M$34,ROWS($M$34:M72)-1,COLUMNS($M$34:M72)-1),\"\")","v":""},null,null,null,null,null,{"$f":"IF(OFFSET(DE104_5B!$O$34,ROWS($O$34:O72)-1,COLUMNS($O$34:O72)-1)<>\"\",OFFSET(DE104_5B!$O$34,ROWS($O$34:O72)-1,COLUMNS($O$34:O72)-1),\"\")","v":""},null,null,null,null,null,{"$f":"IF(OFFSET(DE104_5B!$P$34,ROWS($P$34:P72)-1,COLUMNS($P$34:P72)-1)<>\"\",OFFSET(DE104_5B!$P$34,ROWS($P$34:P72)-1,COLUMNS($P$34:P72)-1),\"\")","v":""},null,null,null,null,{"$f":"IF(OFFSET(DE104_5B!$Q$34,ROWS($Q$34:Q72)-1,COLUMNS($Q$34:Q72)-1)<>\"\",OFFSET(DE104_5B!$Q$34,ROWS($Q$34:Q72)-1,COLUMNS($Q$34:Q72)-1),\"\")","v":""},null,null,null,null,null,null,null,null,null,{"$f":"IF(OFFSET(DE104_5B!$R$34,ROWS($R$34:R72)-1,COLUMNS($R$34:R72)-1)<>\"\",OFFSET(DE104_5B!$R$34,ROWS($R$34:R72)-1,COLUMNS($R$34:R72)-1),\"\")","v":""},null,null,null,null,null,null,null,{"$f":"IF(OFFSET(DE104_5B!$S$34,ROWS($S$34:S72)-1,COLUMNS($S$34:S72)-1)<>\"\",OFFSET(DE104_5B!$S$34,ROWS($S$34:S72)-1,COLUMNS($S$34:S72)-1),\"\")","v":""},null,null,null,null,null,null,null,{"$f":"IF(OFFSET(DE104_5B!$T$34,ROWS($T$34:T72)-1,COLUMNS($T$34:T72)-1)<>\"\",OFFSET(DE104_5B!$T$34,ROWS($T$34:T72)-1,COLUMNS($T$34:T72)-1),\"\")","v":""},null,null,null,null,null,null,null,{"$f":"IF(OFFSET(DE104_5B!$U$34,ROWS($U$34:U72)-1,COLUMNS($U$34:U72)-1)<>\"\",OFFSET(DE104_5B!$U$34,ROWS($U$34:U72)-1,COLUMNS($U$34:U72)-1),\"\")","v":""},null,null,null,null,null,null,{"$f":"IF(OFFSET(DE104_5B!$V$34,ROWS($V$34:V72)-1,COLUMNS($V$34:V72)-1)<>\"\",OFFSET(DE104_5B!$V$34,ROWS($V$34:V72)-1,COLUMNS($V$34:V72)-1),\"\")","v":""}]
[null,null,{"$f":"IF(OFFSET(DE104_5B!$A$33,ROWS($A$33:A73)-1,COLUMNS($A$33:A73)-1)<>\"\",OFFSET(DE104_5B!$A$33,ROWS($A$33:A73)-1,COLUMNS($A$33:A73)-1),\"\")","v":""},null,null,null,{"$f":"IF(OFFSET(DE104_5B!$B$33,ROWS($B$33:B73)-1,COLUMNS($B$33:B73)-1)<>\"\",OFFSET(DE104_5B!$B$33,ROWS($B$33:B73)-1,COLUMNS($B$33:B73)-1),\"\")","v":""},null,null,null,null,null,null,null,null,null,null,null,null,null,null,null,null,null,null,{"$f":"IF(OFFSET(DE104_5B!$C$33,ROWS($C$33:C73)-1,COLUMNS($C$33:C73)-1)<>\"\",OFFSET(DE104_5B!$C$33,ROWS($C$33:C73)-1,COLUMNS($C$33:C73)-1),\"\")","v":""},null,null,null,null,null,null,null,null,null,null,null,null,null,null,null,null,null,null,null,null,null,null,null,{"$f":"IF(OFFSET(DE104_5B!$D$33,ROWS($D$33:D73)-1,COLUMNS($D$33:D73)-1)<>\"\",OFFSET(DE104_5B!$D$33,ROWS($D$33:D73)-1,COLUMNS($D$33:D73)-1),\"\")","v":""},null,null,null,null,{"$f":"IF(OFFSET(DE104_5B!$E$33,ROWS($E$33:E73)-1,COLUMNS($E$33:E73)-1)<>\"\",OFFSET(DE104_5B!$E$33,ROWS($E$33:E73)-1,COLUMNS($E$33:E73)-1),\"\")","v":""},null,null,null,null,null,{"$f":"IF(OFFSET(DE104_5B!$F$33,ROWS($F$33:F73)-1,COLUMNS($F$33:F73)-1)<>\"\",OFFSET(DE104_5B!$F$33,ROWS($F$33:F73)-1,COLUMNS($F$33:F73)-1),\"\")","v":""},null,null,null,null,null,null,null,{"$f":"IF(OFFSET(DE104_5B!$G$33,ROWS($G$33:G73)-1,COLUMNS($G$33:G73)-1)<>\"\",OFFSET(DE104_5B!$G$33,ROWS($G$33:G73)-1,COLUMNS($G$33:G73)-1),\"\")","v":""}]
[null,null,null,null,null,null,null,null,null,null,null,null,null,null,null,null,null,null,null,null,null,null,null,null,null,null,null,null,null,null,null,null,null,null,null,null,null,null,null,null,null,null,null,null,null,null,null,null,null,null,null,null,null,null,null,null,null,null,null,null,null,null,null,null,null,null,null,null,null,null,null,null,null,null,null,null,null,null,null,null,null,{"$f":"IF(OFFSET(DE104_5B!$H$34,ROWS($H$34:H74)-1,COLUMNS($H$34:H74)-1)<>\"\",OFFSET(DE104_5B!$H$34,ROWS($H$34:H74)-1,COLUMNS($H$34:H74)-1),\"\")","v":""},null,null,null,null,null,{"$f":"IF(OFFSET(DE104_5B!$I$34,ROWS($I$34:I74)-1,COLUMNS($I$34:I74)-1)<>\"\",OFFSET(DE104_5B!$I$34,ROWS($I$34:I74)-1,COLUMNS($I$34:I74)-1),\"\")","v":""},null,null,null,{"$f":"IF(OFFSET(DE104_5B!$J$34,ROWS($J$34:J74)-1,COLUMNS($J$34:J74)-1)<>\"\",OFFSET(DE104_5B!$J$34,ROWS($J$34:J74)-1,COLUMNS($J$34:J74)-1),\"\")","v":""},null,null,null,{"$f":"IF(OFFSET(DE104_5B!$K$34,ROWS($K$34:K74)-1,COLUMNS($K$34:K74)-1)<>\"\",OFFSET(DE104_5B!$K$34,ROWS($K$34:K74)-1,COLUMNS($K$34:K74)-1),\"\")","v":""},null,null,null,null,{"$f":"IF(OFFSET(DE104_5B!$L$34,ROWS($L$34:L74)-1,COLUMNS($L$34:L74)-1)<>\"\",OFFSET(DE104_5B!$L$34,ROWS($L$34:L74)-1,COLUMNS($L$34:L74)-1),\"\")","v":""},null,null,null,null,null,null,{"$f":"IF(OFFSET(DE104_5B!$M$34,ROWS($M$34:M74)-1,COLUMNS($M$34:M74)-1)<>\"\",OFFSET(DE104_5B!$M$34,ROWS($M$34:M74)-1,COLUMNS($M$34:M74)-1),\"\")","v":""},null,null,null,null,null,{"$f":"IF(OFFSET(DE104_5B!$O$34,ROWS($O$34:O74)-1,COLUMNS($O$34:O74)-1)<>\"\",OFFSET(DE104_5B!$O$34,ROWS($O$34:O74)-1,COLUMNS($O$34:O74)-1),\"\")","v":""},null,null,null,null,null,{"$f":"IF(OFFSET(DE104_5B!$P$34,ROWS($P$34:P74)-1,COLUMNS($P$34:P74)-1)<>\"\",OFFSET(DE104_5B!$P$34,ROWS($P$34:P74)-1,COLUMNS($P$34:P74)-1),\"\")","v":""},null,null,null,null,{"$f":"IF(OFFSET(DE104_5B!$Q$34,ROWS($Q$34:Q74)-1,COLUMNS($Q$34:Q74)-1)<>\"\",OFFSET(DE104_5B!$Q$34,ROWS($Q$34:Q74)-1,COLUMNS($Q$34:Q74)-1),\"\")","v":""},null,null,null,null,null,null,null,null,null,{"$f":"IF(OFFSET(DE104_5B!$R$34,ROWS($R$34:R74)-1,COLUMNS($R$34:R74)-1)<>\"\",OFFSET(DE104_5B!$R$34,ROWS($R$34:R74)-1,COLUMNS($R$34:R74)-1),\"\")","v":""},null,null,null,null,null,null,null,{"$f":"IF(OFFSET(DE104_5B!$S$34,ROWS($S$34:S74)-1,COLUMNS($S$34:S74)-1)<>\"\",OFFSET(DE104_5B!$S$34,ROWS($S$34:S74)-1,COLUMNS($S$34:S74)-1),\"\")","v":""},null,null,null,null,null,null,null,{"$f":"IF(OFFSET(DE104_5B!$T$34,ROWS($T$34:T74)-1,COLUMNS($T$34:T74)-1)<>\"\",OFFSET(DE104_5B!$T$34,ROWS($T$34:T74)-1,COLUMNS($T$34:T74)-1),\"\")","v":""},null,null,null,null,null,null,null,{"$f":"IF(OFFSET(DE104_5B!$U$34,ROWS($U$34:U74)-1,COLUMNS($U$34:U74)-1)<>\"\",OFFSET(DE104_5B!$U$34,ROWS($U$34:U74)-1,COLUMNS($U$34:U74)-1),\"\")","v":""},null,null,null,null,null,null,{"$f":"IF(OFFSET(DE104_5B!$V$34,ROWS($V$34:V74)-1,COLUMNS($V$34:V74)-1)<>\"\",OFFSET(DE104_5B!$V$34,ROWS($V$34:V74)-1,COLUMNS($V$34:V74)-1),\"\")","v":""}]
[null,null,{"$f":"IF(OFFSET(DE104_5B!$A$33,ROWS($A$33:A75)-1,COLUMNS($A$33:A75)-1)<>\"\",OFFSET(DE104_5B!$A$33,ROWS($A$33:A75)-1,COLUMNS($A$33:A75)-1),\"\")","v":""},null,null,null,{"$f":"IF(OFFSET(DE104_5B!$B$33,ROWS($B$33:B75)-1,COLUMNS($B$33:B75)-1)<>\"\",OFFSET(DE104_5B!$B$33,ROWS($B$33:B75)-1,COLUMNS($B$33:B75)-1),\"\")","v":""},null,null,null,null,null,null,null,null,null,null,null,null,null,null,null,null,null,null,{"$f":"IF(OFFSET(DE104_5B!$C$33,ROWS($C$33:C75)-1,COLUMNS($C$33:C75)-1)<>\"\",OFFSET(DE104_5B!$C$33,ROWS($C$33:C75)-1,COLUMNS($C$33:C75)-1),\"\")","v":""},null,null,null,null,null,null,null,null,null,null,null,null,null,null,null,null,null,null,null,null,null,null,null,{"$f":"IF(OFFSET(DE104_5B!$D$33,ROWS($D$33:D75)-1,COLUMNS($D$33:D75)-1)<>\"\",OFFSET(DE104_5B!$D$33,ROWS($D$33:D75)-1,COLUMNS($D$33:D75)-1),\"\")","v":""},null,null,null,null,{"$f":"IF(OFFSET(DE104_5B!$E$33,ROWS($E$33:E75)-1,COLUMNS($E$33:E75)-1)<>\"\",OFFSET(DE104_5B!$E$33,ROWS($E$33:E75)-1,COLUMNS($E$33:E75)-1),\"\")","v":""},null,null,null,null,null,{"$f":"IF(OFFSET(DE104_5B!$F$33,ROWS($F$33:F75)-1,COLUMNS($F$33:F75)-1)<>\"\",OFFSET(DE104_5B!$F$33,ROWS($F$33:F75)-1,COLUMNS($F$33:F75)-1),\"\")","v":""},null,null,null,null,null,null,null,{"$f":"IF(OFFSET(DE104_5B!$G$33,ROWS($G$33:G75)-1,COLUMNS($G$33:G75)-1)<>\"\",OFFSET(DE104_5B!$G$33,ROWS($G$33:G75)-1,COLUMNS($G$33:G75)-1),\"\")","v":""}]
[null,null,null,null,null,null,null,null,null,null,null,null,null,null,null,null,null,null,null,null,null,null,null,null,null,null,null,null,null,null,null,null,null,null,null,null,null,null,null,null,null,null,null,null,null,null,null,null,null,null,null,null,null,null,null,null,null,null,null,null,null,null,null,null,null,null,null,null,null,null,null,null,null,null,null,null,null,null,null,null,null,{"$f":"IF(OFFSET(DE104_5B!$H$34,ROWS($H$34:H76)-1,COLUMNS($H$34:H76)-1)<>\"\",OFFSET(DE104_5B!$H$34,ROWS($H$34:H76)-1,COLUMNS($H$34:H76)-1),\"\")","v":""},null,null,null,null,null,{"$f":"IF(OFFSET(DE104_5B!$I$34,ROWS($I$34:I76)-1,COLUMNS($I$34:I76)-1)<>\"\",OFFSET(DE104_5B!$I$34,ROWS($I$34:I76)-1,COLUMNS($I$34:I76)-1),\"\")","v":""},null,null,null,{"$f":"IF(OFFSET(DE104_5B!$J$34,ROWS($J$34:J76)-1,COLUMNS($J$34:J76)-1)<>\"\",OFFSET(DE104_5B!$J$34,ROWS($J$34:J76)-1,COLUMNS($J$34:J76)-1),\"\")","v":""},null,null,null,{"$f":"IF(OFFSET(DE104_5B!$K$34,ROWS($K$34:K76)-1,COLUMNS($K$34:K76)-1)<>\"\",OFFSET(DE104_5B!$K$34,ROWS($K$34:K76)-1,COLUMNS($K$34:K76)-1),\"\")","v":""},null,null,null,null,{"$f":"IF(OFFSET(DE104_5B!$L$34,ROWS($L$34:L76)-1,COLUMNS($L$34:L76)-1)<>\"\",OFFSET(DE104_5B!$L$34,ROWS($L$34:L76)-1,COLUMNS($L$34:L76)-1),\"\")","v":""},null,null,null,null,null,null,{"$f":"IF(OFFSET(DE104_5B!$M$34,ROWS($M$34:M76)-1,COLUMNS($M$34:M76)-1)<>\"\",OFFSET(DE104_5B!$M$34,ROWS($M$34:M76)-1,COLUMNS($M$34:M76)-1),\"\")","v":""},null,null,null,null,null,{"$f":"IF(OFFSET(DE104_5B!$O$34,ROWS($O$34:O76)-1,COLUMNS($O$34:O76)-1)<>\"\",OFFSET(DE104_5B!$O$34,ROWS($O$34:O76)-1,COLUMNS($O$34:O76)-1),\"\")","v":""},null,null,null,null,null,{"$f":"IF(OFFSET(DE104_5B!$P$34,ROWS($P$34:P76)-1,COLUMNS($P$34:P76)-1)<>\"\",OFFSET(DE104_5B!$P$34,ROWS($P$34:P76)-1,COLUMNS($P$34:P76)-1),\"\")","v":""},null,null,null,null,{"$f":"IF(OFFSET(DE104_5B!$Q$34,ROWS($Q$34:Q76)-1,COLUMNS($Q$34:Q76)-1)<>\"\",OFFSET(DE104_5B!$Q$34,ROWS($Q$34:Q76)-1,COLUMNS($Q$34:Q76)-1),\"\")","v":""},null,null,null,null,null,null,null,null,null,{"$f":"IF(OFFSET(DE104_5B!$R$34,ROWS($R$34:R76)-1,COLUMNS($R$34:R76)-1)<>\"\",OFFSET(DE104_5B!$R$34,ROWS($R$34:R76)-1,COLUMNS($R$34:R76)-1),\"\")","v":""},null,null,null,null,null,null,null,{"$f":"IF(OFFSET(DE104_5B!$S$34,ROWS($S$34:S76)-1,COLUMNS($S$34:S76)-1)<>\"\",OFFSET(DE104_5B!$S$34,ROWS($S$34:S76)-1,COLUMNS($S$34:S76)-1),\"\")","v":""},null,null,null,null,null,null,null,{"$f":"IF(OFFSET(DE104_5B!$T$34,ROWS($T$34:T76)-1,COLUMNS($T$34:T76)-1)<>\"\",OFFSET(DE104_5B!$T$34,ROWS($T$34:T76)-1,COLUMNS($T$34:T76)-1),\"\")","v":""},null,null,null,null,null,null,null,{"$f":"IF(OFFSET(DE104_5B!$U$34,ROWS($U$34:U76)-1,COLUMNS($U$34:U76)-1)<>\"\",OFFSET(DE104_5B!$U$34,ROWS($U$34:U76)-1,COLUMNS($U$34:U76)-1),\"\")","v":""},null,null,null,null,null,null,{"$f":"IF(OFFSET(DE104_5B!$V$34,ROWS($V$34:V76)-1,COLUMNS($V$34:V76)-1)<>\"\",OFFSET(DE104_5B!$V$34,ROWS($V$34:V76)-1,COLUMNS($V$34:V76)-1),\"\")","v":""}]
[null,null,{"$f":"IF(OFFSET(DE104_5B!$A$33,ROWS($A$33:A77)-1,COLUMNS($A$33:A77)-1)<>\"\",OFFSET(DE104_5B!$A$33,ROWS($A$33:A77)-1,COLUMNS($A$33:A77)-1),\"\")","v":""},null,null,null,{"$f":"IF(OFFSET(DE104_5B!$B$33,ROWS($B$33:B77)-1,COLUMNS($B$33:B77)-1)<>\"\",OFFSET(DE104_5B!$B$33,ROWS($B$33:B77)-1,COLUMNS($B$33:B77)-1),\"\")","v":""},null,null,null,null,null,null,null,null,null,null,null,null,null,null,null,null,null,null,{"$f":"IF(OFFSET(DE104_5B!$C$33,ROWS($C$33:C77)-1,COLUMNS($C$33:C77)-1)<>\"\",OFFSET(DE104_5B!$C$33,ROWS($C$33:C77)-1,COLUMNS($C$33:C77)-1),\"\")","v":""},null,null,null,null,null,null,null,null,null,null,null,null,null,null,null,null,null,null,null,null,null,null,null,{"$f":"IF(OFFSET(DE104_5B!$D$33,ROWS($D$33:D77)-1,COLUMNS($D$33:D77)-1)<>\"\",OFFSET(DE104_5B!$D$33,ROWS($D$33:D77)-1,COLUMNS($D$33:D77)-1),\"\")","v":""},null,null,null,null,{"$f":"IF(OFFSET(DE104_5B!$E$33,ROWS($E$33:E77)-1,COLUMNS($E$33:E77)-1)<>\"\",OFFSET(DE104_5B!$E$33,ROWS($E$33:E77)-1,COLUMNS($E$33:E77)-1),\"\")","v":""},null,null,null,null,null,{"$f":"IF(OFFSET(DE104_5B!$F$33,ROWS($F$33:F77)-1,COLUMNS($F$33:F77)-1)<>\"\",OFFSET(DE104_5B!$F$33,ROWS($F$33:F77)-1,COLUMNS($F$33:F77)-1),\"\")","v":""},null,null,null,null,null,null,null,{"$f":"IF(OFFSET(DE104_5B!$G$33,ROWS($G$33:G77)-1,COLUMNS($G$33:G77)-1)<>\"\",OFFSET(DE104_5B!$G$33,ROWS($G$33:G77)-1,COLUMNS($G$33:G77)-1),\"\")","v":""}]
[null,null,null,null,null,null,null,null,null,null,null,null,null,null,null,null,null,null,null,null,null,null,null,null,null,null,null,null,null,null,null,null,null,null,null,null,null,null,null,null,null,null,null,null,null,null,null,null,null,null,null,null,null,null,null,null,null,null,null,null,null,null,null,null,null,null,null,null,null,null,null,null,null,null,null,null,null,null,null,null,null,{"$f":"IF(OFFSET(DE104_5B!$H$34,ROWS($H$34:H78)-1,COLUMNS($H$34:H78)-1)<>\"\",OFFSET(DE104_5B!$H$34,ROWS($H$34:H78)-1,COLUMNS($H$34:H78)-1),\"\")","v":""},null,null,null,null,null,{"$f":"IF(OFFSET(DE104_5B!$I$34,ROWS($I$34:I78)-1,COLUMNS($I$34:I78)-1)<>\"\",OFFSET(DE104_5B!$I$34,ROWS($I$34:I78)-1,COLUMNS($I$34:I78)-1),\"\")","v":""},null,null,null,{"$f":"IF(OFFSET(DE104_5B!$J$34,ROWS($J$34:J78)-1,COLUMNS($J$34:J78)-1)<>\"\",OFFSET(DE104_5B!$J$34,ROWS($J$34:J78)-1,COLUMNS($J$34:J78)-1),\"\")","v":""},null,null,null,{"$f":"IF(OFFSET(DE104_5B!$K$34,ROWS($K$34:K78)-1,COLUMNS($K$34:K78)-1)<>\"\",OFFSET(DE104_5B!$K$34,ROWS($K$34:K78)-1,COLUMNS($K$34:K78)-1),\"\")","v":""},null,null,null,null,{"$f":"IF(OFFSET(DE104_5B!$L$34,ROWS($L$34:L78)-1,COLUMNS($L$34:L78)-1)<>\"\",OFFSET(DE104_5B!$L$34,ROWS($L$34:L78)-1,COLUMNS($L$34:L78)-1),\"\")","v":""},null,null,null,null,null,null,{"$f":"IF(OFFSET(DE104_5B!$M$34,ROWS($M$34:M78)-1,COLUMNS($M$34:M78)-1)<>\"\",OFFSET(DE104_5B!$M$34,ROWS($M$34:M78)-1,COLUMNS($M$34:M78)-1),\"\")","v":""},null,null,null,null,null,{"$f":"IF(OFFSET(DE104_5B!$O$34,ROWS($O$34:O78)-1,COLUMNS($O$34:O78)-1)<>\"\",OFFSET(DE104_5B!$O$34,ROWS($O$34:O78)-1,COLUMNS($O$34:O78)-1),\"\")","v":""},null,null,null,null,null,{"$f":"IF(OFFSET(DE104_5B!$P$34,ROWS($P$34:P78)-1,COLUMNS($P$34:P78)-1)<>\"\",OFFSET(DE104_5B!$P$34,ROWS($P$34:P78)-1,COLUMNS($P$34:P78)-1),\"\")","v":""},null,null,null,null,{"$f":"IF(OFFSET(DE104_5B!$Q$34,ROWS($Q$34:Q78)-1,COLUMNS($Q$34:Q78)-1)<>\"\",OFFSET(DE104_5B!$Q$34,ROWS($Q$34:Q78)-1,COLUMNS($Q$34:Q78)-1),\"\")","v":""},null,null,null,null,null,null,null,null,null,{"$f":"IF(OFFSET(DE104_5B!$R$34,ROWS($R$34:R78)-1,COLUMNS($R$34:R78)-1)<>\"\",OFFSET(DE104_5B!$R$34,ROWS($R$34:R78)-1,COLUMNS($R$34:R78)-1),\"\")","v":""},null,null,null,null,null,null,null,{"$f":"IF(OFFSET(DE104_5B!$S$34,ROWS($S$34:S78)-1,COLUMNS($S$34:S78)-1)<>\"\",OFFSET(DE104_5B!$S$34,ROWS($S$34:S78)-1,COLUMNS($S$34:S78)-1),\"\")","v":""},null,null,null,null,null,null,null,{"$f":"IF(OFFSET(DE104_5B!$T$34,ROWS($T$34:T78)-1,COLUMNS($T$34:T78)-1)<>\"\",OFFSET(DE104_5B!$T$34,ROWS($T$34:T78)-1,COLUMNS($T$34:T78)-1),\"\")","v":""},null,null,null,null,null,null,null,{"$f":"IF(OFFSET(DE104_5B!$U$34,ROWS($U$34:U78)-1,COLUMNS($U$34:U78)-1)<>\"\",OFFSET(DE104_5B!$U$34,ROWS($U$34:U78)-1,COLUMNS($U$34:U78)-1),\"\")","v":""},null,null,null,null,null,null,{"$f":"IF(OFFSET(DE104_5B!$V$34,ROWS($V$34:V78)-1,COLUMNS($V$34:V78)-1)<>\"\",OFFSET(DE104_5B!$V$34,ROWS($V$34:V78)-1,COLUMNS($V$34:V78)-1),\"\")","v":""}]
[null,null,{"$f":"IF(OFFSET(DE104_5B!$A$33,ROWS($A$33:A79)-1,COLUMNS($A$33:A79)-1)<>\"\",OFFSET(DE104_5B!$A$33,ROWS($A$33:A79)-1,COLUMNS($A$33:A79)-1),\"\")","v":""},null,null,null,{"$f":"IF(OFFSET(DE104_5B!$B$33,ROWS($B$33:B79)-1,COLUMNS($B$33:B79)-1)<>\"\",OFFSET(DE104_5B!$B$33,ROWS($B$33:B79)-1,COLUMNS($B$33:B79)-1),\"\")","v":""},null,null,null,null,null,null,null,null,null,null,null,null,null,null,null,null,null,null,{"$f":"IF(OFFSET(DE104_5B!$C$33,ROWS($C$33:C79)-1,COLUMNS($C$33:C79)-1)<>\"\",OFFSET(DE104_5B!$C$33,ROWS($C$33:C79)-1,COLUMNS($C$33:C79)-1),\"\")","v":""},null,null,null,null,null,null,null,null,null,null,null,null,null,null,null,null,null,null,null,null,null,null,null,{"$f":"IF(OFFSET(DE104_5B!$D$33,ROWS($D$33:D79)-1,COLUMNS($D$33:D79)-1)<>\"\",OFFSET(DE104_5B!$D$33,ROWS($D$33:D79)-1,COLUMNS($D$33:D79)-1),\"\")","v":""},null,null,null,null,{"$f":"IF(OFFSET(DE104_5B!$E$33,ROWS($E$33:E79)-1,COLUMNS($E$33:E79)-1)<>\"\",OFFSET(DE104_5B!$E$33,ROWS($E$33:E79)-1,COLUMNS($E$33:E79)-1),\"\")","v":""},null,null,null,null,null,{"$f":"IF(OFFSET(DE104_5B!$F$33,ROWS($F$33:F79)-1,COLUMNS($F$33:F79)-1)<>\"\",OFFSET(DE104_5B!$F$33,ROWS($F$33:F79)-1,COLUMNS($F$33:F79)-1),\"\")","v":""},null,null,null,null,null,null,null,{"$f":"IF(OFFSET(DE104_5B!$G$33,ROWS($G$33:G79)-1,COLUMNS($G$33:G79)-1)<>\"\",OFFSET(DE104_5B!$G$33,ROWS($G$33:G79)-1,COLUMNS($G$33:G79)-1),\"\")","v":""}]
[null,null,null,null,null,null,null,null,null,null,null,null,null,null,null,null,null,null,null,null,null,null,null,null,null,null,null,null,null,null,null,null,null,null,null,null,null,null,null,null,null,null,null,null,null,null,null,null,null,null,null,null,null,null,null,null,null,null,null,null,null,null,null,null,null,null,null,null,null,null,null,null,null,null,null,null,null,null,null,null,null,{"$f":"IF(OFFSET(DE104_5B!$H$34,ROWS($H$34:H80)-1,COLUMNS($H$34:H80)-1)<>\"\",OFFSET(DE104_5B!$H$34,ROWS($H$34:H80)-1,COLUMNS($H$34:H80)-1),\"\")","v":""},null,null,null,null,null,{"$f":"IF(OFFSET(DE104_5B!$I$34,ROWS($I$34:I80)-1,COLUMNS($I$34:I80)-1)<>\"\",OFFSET(DE104_5B!$I$34,ROWS($I$34:I80)-1,COLUMNS($I$34:I80)-1),\"\")","v":""},null,null,null,{"$f":"IF(OFFSET(DE104_5B!$J$34,ROWS($J$34:J80)-1,COLUMNS($J$34:J80)-1)<>\"\",OFFSET(DE104_5B!$J$34,ROWS($J$34:J80)-1,COLUMNS($J$34:J80)-1),\"\")","v":""},null,null,null,{"$f":"IF(OFFSET(DE104_5B!$K$34,ROWS($K$34:K80)-1,COLUMNS($K$34:K80)-1)<>\"\",OFFSET(DE104_5B!$K$34,ROWS($K$34:K80)-1,COLUMNS($K$34:K80)-1),\"\")","v":""},null,null,null,null,{"$f":"IF(OFFSET(DE104_5B!$L$34,ROWS($L$34:L80)-1,COLUMNS($L$34:L80)-1)<>\"\",OFFSET(DE104_5B!$L$34,ROWS($L$34:L80)-1,COLUMNS($L$34:L80)-1),\"\")","v":""},null,null,null,null,null,null,{"$f":"IF(OFFSET(DE104_5B!$M$34,ROWS($M$34:M80)-1,COLUMNS($M$34:M80)-1)<>\"\",OFFSET(DE104_5B!$M$34,ROWS($M$34:M80)-1,COLUMNS($M$34:M80)-1),\"\")","v":""},null,null,null,null,null,{"$f":"IF(OFFSET(DE104_5B!$O$34,ROWS($O$34:O80)-1,COLUMNS($O$34:O80)-1)<>\"\",OFFSET(DE104_5B!$O$34,ROWS($O$34:O80)-1,COLUMNS($O$34:O80)-1),\"\")","v":""},null,null,null,null,null,{"$f":"IF(OFFSET(DE104_5B!$P$34,ROWS($P$34:P80)-1,COLUMNS($P$34:P80)-1)<>\"\",OFFSET(DE104_5B!$P$34,ROWS($P$34:P80)-1,COLUMNS($P$34:P80)-1),\"\")","v":""},null,null,null,null,{"$f":"IF(OFFSET(DE104_5B!$Q$34,ROWS($Q$34:Q80)-1,COLUMNS($Q$34:Q80)-1)<>\"\",OFFSET(DE104_5B!$Q$34,ROWS($Q$34:Q80)-1,COLUMNS($Q$34:Q80)-1),\"\")","v":""},null,null,null,null,null,null,null,null,null,{"$f":"IF(OFFSET(DE104_5B!$R$34,ROWS($R$34:R80)-1,COLUMNS($R$34:R80)-1)<>\"\",OFFSET(DE104_5B!$R$34,ROWS($R$34:R80)-1,COLUMNS($R$34:R80)-1),\"\")","v":""},null,null,null,null,null,null,null,{"$f":"IF(OFFSET(DE104_5B!$S$34,ROWS($S$34:S80)-1,COLUMNS($S$34:S80)-1)<>\"\",OFFSET(DE104_5B!$S$34,ROWS($S$34:S80)-1,COLUMNS($S$34:S80)-1),\"\")","v":""},null,null,null,null,null,null,null,{"$f":"IF(OFFSET(DE104_5B!$T$34,ROWS($T$34:T80)-1,COLUMNS($T$34:T80)-1)<>\"\",OFFSET(DE104_5B!$T$34,ROWS($T$34:T80)-1,COLUMNS($T$34:T80)-1),\"\")","v":""},null,null,null,null,null,null,null,{"$f":"IF(OFFSET(DE104_5B!$U$34,ROWS($U$34:U80)-1,COLUMNS($U$34:U80)-1)<>\"\",OFFSET(DE104_5B!$U$34,ROWS($U$34:U80)-1,COLUMNS($U$34:U80)-1),\"\")","v":""},null,null,null,null,null,null,{"$f":"IF(OFFSET(DE104_5B!$V$34,ROWS($V$34:V80)-1,COLUMNS($V$34:V80)-1)<>\"\",OFFSET(DE104_5B!$V$34,ROWS($V$34:V80)-1,COLUMNS($V$34:V80)-1),\"\")","v":""}]
[null,null,{"$f":"IF(OFFSET(DE104_5B!$A$33,ROWS($A$33:A81)-1,COLUMNS($A$33:A81)-1)<>\"\",OFFSET(DE104_5B!$A$33,ROWS($A$33:A81)-1,COLUMNS($A$33:A81)-1),\"\")","v":""},null,null,null,{"$f":"IF(OFFSET(DE104_5B!$B$33,ROWS($B$33:B81)-1,COLUMNS($B$33:B81)-1)<>\"\",OFFSET(DE104_5B!$B$33,ROWS($B$33:B81)-1,COLUMNS($B$33:B81)-1),\"\")","v":""},null,null,null,null,null,null,null,null,null,null,null,null,null,null,null,null,null,null,{"$f":"IF(OFFSET(DE104_5B!$C$33,ROWS($C$33:C81)-1,COLUMNS($C$33:C81)-1)<>\"\",OFFSET(DE104_5B!$C$33,ROWS($C$33:C81)-1,COLUMNS($C$33:C81)-1),\"\")","v":""},null,null,null,null,null,null,null,null,null,null,null,null,null,null,null,null,null,null,null,null,null,null,null,{"$f":"IF(OFFSET(DE104_5B!$D$33,ROWS($D$33:D81)-1,COLUMNS($D$33:D81)-1)<>\"\",OFFSET(DE104_5B!$D$33,ROWS($D$33:D81)-1,COLUMNS($D$33:D81)-1),\"\")","v":""},null,null,null,null,{"$f":"IF(OFFSET(DE104_5B!$E$33,ROWS($E$33:E81)-1,COLUMNS($E$33:E81)-1)<>\"\",OFFSET(DE104_5B!$E$33,ROWS($E$33:E81)-1,COLUMNS($E$33:E81)-1),\"\")","v":""},null,null,null,null,null,{"$f":"IF(OFFSET(DE104_5B!$F$33,ROWS($F$33:F81)-1,COLUMNS($F$33:F81)-1)<>\"\",OFFSET(DE104_5B!$F$33,ROWS($F$33:F81)-1,COLUMNS($F$33:F81)-1),\"\")","v":""},null,null,null,null,null,null,null,{"$f":"IF(OFFSET(DE104_5B!$G$33,ROWS($G$33:G81)-1,COLUMNS($G$33:G81)-1)<>\"\",OFFSET(DE104_5B!$G$33,ROWS($G$33:G81)-1,COLUMNS($G$33:G81)-1),\"\")","v":""}]
[null,null,null,null,null,null,null,null,null,null,null,null,null,null,null,null,null,null,null,null,null,null,null,null,null,null,null,null,null,null,null,null,null,null,null,null,null,null,null,null,null,null,null,null,null,null,null,null,null,null,null,null,null,null,null,null,null,null,null,null,null,null,null,null,null,null,null,null,null,null,null,null,null,null,null,null,null,null,null,null,null,{"$f":"IF(OFFSET(DE104_5B!$H$34,ROWS($H$34:H82)-1,COLUMNS($H$34:H82)-1)<>\"\",OFFSET(DE104_5B!$H$34,ROWS($H$34:H82)-1,COLUMNS($H$34:H82)-1),\"\")","v":""},null,null,null,null,null,{"$f":"IF(OFFSET(DE104_5B!$I$34,ROWS($I$34:I82)-1,COLUMNS($I$34:I82)-1)<>\"\",OFFSET(DE104_5B!$I$34,ROWS($I$34:I82)-1,COLUMNS($I$34:I82)-1),\"\")","v":""},null,null,null,{"$f":"IF(OFFSET(DE104_5B!$J$34,ROWS($J$34:J82)-1,COLUMNS($J$34:J82)-1)<>\"\",OFFSET(DE104_5B!$J$34,ROWS($J$34:J82)-1,COLUMNS($J$34:J82)-1),\"\")","v":""},null,null,null,{"$f":"IF(OFFSET(DE104_5B!$K$34,ROWS($K$34:K82)-1,COLUMNS($K$34:K82)-1)<>\"\",OFFSET(DE104_5B!$K$34,ROWS($K$34:K82)-1,COLUMNS($K$34:K82)-1),\"\")","v":""},null,null,null,null,{"$f":"IF(OFFSET(DE104_5B!$L$34,ROWS($L$34:L82)-1,COLUMNS($L$34:L82)-1)<>\"\",OFFSET(DE104_5B!$L$34,ROWS($L$34:L82)-1,COLUMNS($L$34:L82)-1),\"\")","v":""},null,null,null,null,null,null,{"$f":"IF(OFFSET(DE104_5B!$M$34,ROWS($M$34:M82)-1,COLUMNS($M$34:M82)-1)<>\"\",OFFSET(DE104_5B!$M$34,ROWS($M$34:M82)-1,COLUMNS($M$34:M82)-1),\"\")","v":""},null,null,null,null,null,{"$f":"IF(OFFSET(DE104_5B!$O$34,ROWS($O$34:O82)-1,COLUMNS($O$34:O82)-1)<>\"\",OFFSET(DE104_5B!$O$34,ROWS($O$34:O82)-1,COLUMNS($O$34:O82)-1),\"\")","v":""},null,null,null,null,null,{"$f":"IF(OFFSET(DE104_5B!$P$34,ROWS($P$34:P82)-1,COLUMNS($P$34:P82)-1)<>\"\",OFFSET(DE104_5B!$P$34,ROWS($P$34:P82)-1,COLUMNS($P$34:P82)-1),\"\")","v":""},null,null,null,null,{"$f":"IF(OFFSET(DE104_5B!$Q$34,ROWS($Q$34:Q82)-1,COLUMNS($Q$34:Q82)-1)<>\"\",OFFSET(DE104_5B!$Q$34,ROWS($Q$34:Q82)-1,COLUMNS($Q$34:Q82)-1),\"\")","v":""},null,null,null,null,null,null,null,null,null,{"$f":"IF(OFFSET(DE104_5B!$R$34,ROWS($R$34:R82)-1,COLUMNS($R$34:R82)-1)<>\"\",OFFSET(DE104_5B!$R$34,ROWS($R$34:R82)-1,COLUMNS($R$34:R82)-1),\"\")","v":""},null,null,null,null,null,null,null,{"$f":"IF(OFFSET(DE104_5B!$S$34,ROWS($S$34:S82)-1,COLUMNS($S$34:S82)-1)<>\"\",OFFSET(DE104_5B!$S$34,ROWS($S$34:S82)-1,COLUMNS($S$34:S82)-1),\"\")","v":""},null,null,null,null,null,null,null,{"$f":"IF(OFFSET(DE104_5B!$T$34,ROWS($T$34:T82)-1,COLUMNS($T$34:T82)-1)<>\"\",OFFSET(DE104_5B!$T$34,ROWS($T$34:T82)-1,COLUMNS($T$34:T82)-1),\"\")","v":""},null,null,null,null,null,null,null,{"$f":"IF(OFFSET(DE104_5B!$U$34,ROWS($U$34:U82)-1,COLUMNS($U$34:U82)-1)<>\"\",OFFSET(DE104_5B!$U$34,ROWS($U$34:U82)-1,COLUMNS($U$34:U82)-1),\"\")","v":""},null,null,null,null,null,null,{"$f":"IF(OFFSET(DE104_5B!$V$34,ROWS($V$34:V82)-1,COLUMNS($V$34:V82)-1)<>\"\",OFFSET(DE104_5B!$V$34,ROWS($V$34:V82)-1,COLUMNS($V$34:V82)-1),\"\")","v":""}]
[null,null,{"$f":"IF(OFFSET(DE104_5B!$A$33,ROWS($A$33:A83)-1,COLUMNS($A$33:A83)-1)<>\"\",OFFSET(DE104_5B!$A$33,ROWS($A$33:A83)-1,COLUMNS($A$33:A83)-1),\"\")","v":""},null,null,null,{"$f":"IF(OFFSET(DE104_5B!$B$33,ROWS($B$33:B83)-1,COLUMNS($B$33:B83)-1)<>\"\",OFFSET(DE104_5B!$B$33,ROWS($B$33:B83)-1,COLUMNS($B$33:B83)-1),\"\")","v":""},null,null,null,null,null,null,null,null,null,null,null,null,null,null,null,null,null,null,{"$f":"IF(OFFSET(DE104_5B!$C$33,ROWS($C$33:C83)-1,COLUMNS($C$33:C83)-1)<>\"\",OFFSET(DE104_5B!$C$33,ROWS($C$33:C83)-1,COLUMNS($C$33:C83)-1),\"\")","v":""},null,null,null,null,null,null,null,null,null,null,null,null,null,null,null,null,null,null,null,null,null,null,null,{"$f":"IF(OFFSET(DE104_5B!$D$33,ROWS($D$33:D83)-1,COLUMNS($D$33:D83)-1)<>\"\",OFFSET(DE104_5B!$D$33,ROWS($D$33:D83)-1,COLUMNS($D$33:D83)-1),\"\")","v":""},null,null,null,null,{"$f":"IF(OFFSET(DE104_5B!$E$33,ROWS($E$33:E83)-1,COLUMNS($E$33:E83)-1)<>\"\",OFFSET(DE104_5B!$E$33,ROWS($E$33:E83)-1,COLUMNS($E$33:E83)-1),\"\")","v":""},null,null,null,null,null,{"$f":"IF(OFFSET(DE104_5B!$F$33,ROWS($F$33:F83)-1,COLUMNS($F$33:F83)-1)<>\"\",OFFSET(DE104_5B!$F$33,ROWS($F$33:F83)-1,COLUMNS($F$33:F83)-1),\"\")","v":""},null,null,null,null,null,null,null,{"$f":"IF(OFFSET(DE104_5B!$G$33,ROWS($G$33:G83)-1,COLUMNS($G$33:G83)-1)<>\"\",OFFSET(DE104_5B!$G$33,ROWS($G$33:G83)-1,COLUMNS($G$33:G83)-1),\"\")","v":""}]
[null,null,null,null,null,null,null,null,null,null,null,null,null,null,null,null,null,null,null,null,null,null,null,null,null,null,null,null,null,null,null,null,null,null,null,null,null,null,null,null,null,null,null,null,null,null,null,null,null,null,null,null,null,null,null,null,null,null,null,null,null,null,null,null,null,null,null,null,null,null,null,null,null,null,null,null,null,null,null,null,null,{"$f":"IF(OFFSET(DE104_5B!$H$34,ROWS($H$34:H84)-1,COLUMNS($H$34:H84)-1)<>\"\",OFFSET(DE104_5B!$H$34,ROWS($H$34:H84)-1,COLUMNS($H$34:H84)-1),\"\")","v":""},null,null,null,null,null,{"$f":"IF(OFFSET(DE104_5B!$I$34,ROWS($I$34:I84)-1,COLUMNS($I$34:I84)-1)<>\"\",OFFSET(DE104_5B!$I$34,ROWS($I$34:I84)-1,COLUMNS($I$34:I84)-1),\"\")","v":""},null,null,null,{"$f":"IF(OFFSET(DE104_5B!$J$34,ROWS($J$34:J84)-1,COLUMNS($J$34:J84)-1)<>\"\",OFFSET(DE104_5B!$J$34,ROWS($J$34:J84)-1,COLUMNS($J$34:J84)-1),\"\")","v":""},null,null,null,{"$f":"IF(OFFSET(DE104_5B!$K$34,ROWS($K$34:K84)-1,COLUMNS($K$34:K84)-1)<>\"\",OFFSET(DE104_5B!$K$34,ROWS($K$34:K84)-1,COLUMNS($K$34:K84)-1),\"\")","v":""},null,null,null,null,{"$f":"IF(OFFSET(DE104_5B!$L$34,ROWS($L$34:L84)-1,COLUMNS($L$34:L84)-1)<>\"\",OFFSET(DE104_5B!$L$34,ROWS($L$34:L84)-1,COLUMNS($L$34:L84)-1),\"\")","v":""},null,null,null,null,null,null,{"$f":"IF(OFFSET(DE104_5B!$M$34,ROWS($M$34:M84)-1,COLUMNS($M$34:M84)-1)<>\"\",OFFSET(DE104_5B!$M$34,ROWS($M$34:M84)-1,COLUMNS($M$34:M84)-1),\"\")","v":""},null,null,null,null,null,{"$f":"IF(OFFSET(DE104_5B!$O$34,ROWS($O$34:O84)-1,COLUMNS($O$34:O84)-1)<>\"\",OFFSET(DE104_5B!$O$34,ROWS($O$34:O84)-1,COLUMNS($O$34:O84)-1),\"\")","v":""},null,null,null,null,null,{"$f":"IF(OFFSET(DE104_5B!$P$34,ROWS($P$34:P84)-1,COLUMNS($P$34:P84)-1)<>\"\",OFFSET(DE104_5B!$P$34,ROWS($P$34:P84)-1,COLUMNS($P$34:P84)-1),\"\")","v":""},null,null,null,null,{"$f":"IF(OFFSET(DE104_5B!$Q$34,ROWS($Q$34:Q84)-1,COLUMNS($Q$34:Q84)-1)<>\"\",OFFSET(DE104_5B!$Q$34,ROWS($Q$34:Q84)-1,COLUMNS($Q$34:Q84)-1),\"\")","v":""},null,null,null,null,null,null,null,null,null,{"$f":"IF(OFFSET(DE104_5B!$R$34,ROWS($R$34:R84)-1,COLUMNS($R$34:R84)-1)<>\"\",OFFSET(DE104_5B!$R$34,ROWS($R$34:R84)-1,COLUMNS($R$34:R84)-1),\"\")","v":""},null,null,null,null,null,null,null,{"$f":"IF(OFFSET(DE104_5B!$S$34,ROWS($S$34:S84)-1,COLUMNS($S$34:S84)-1)<>\"\",OFFSET(DE104_5B!$S$34,ROWS($S$34:S84)-1,COLUMNS($S$34:S84)-1),\"\")","v":""},null,null,null,null,null,null,null,{"$f":"IF(OFFSET(DE104_5B!$T$34,ROWS($T$34:T84)-1,COLUMNS($T$34:T84)-1)<>\"\",OFFSET(DE104_5B!$T$34,ROWS($T$34:T84)-1,COLUMNS($T$34:T84)-1),\"\")","v":""},null,null,null,null,null,null,null,{"$f":"IF(OFFSET(DE104_5B!$U$34,ROWS($U$34:U84)-1,COLUMNS($U$34:U84)-1)<>\"\",OFFSET(DE104_5B!$U$34,ROWS($U$34:U84)-1,COLUMNS($U$34:U84)-1),\"\")","v":""},null,null,null,null,null,null,{"$f":"IF(OFFSET(DE104_5B!$V$34,ROWS($V$34:V84)-1,COLUMNS($V$34:V84)-1)<>\"\",OFFSET(DE104_5B!$V$34,ROWS($V$34:V84)-1,COLUMNS($V$34:V84)-1),\"\")","v":""}]
[null,null,{"$f":"IF(OFFSET(DE104_5B!$A$33,ROWS($A$33:A85)-1,COLUMNS($A$33:A85)-1)<>\"\",OFFSET(DE104_5B!$A$33,ROWS($A$33:A85)-1,COLUMNS($A$33:A85)-1),\"\")","v":""},null,null,null,{"$f":"IF(OFFSET(DE104_5B!$B$33,ROWS($B$33:B85)-1,COLUMNS($B$33:B85)-1)<>\"\",OFFSET(DE104_5B!$B$33,ROWS($B$33:B85)-1,COLUMNS($B$33:B85)-1),\"\")","v":""},null,null,null,null,null,null,null,null,null,null,null,null,null,null,null,null,null,null,{"$f":"IF(OFFSET(DE104_5B!$C$33,ROWS($C$33:C85)-1,COLUMNS($C$33:C85)-1)<>\"\",OFFSET(DE104_5B!$C$33,ROWS($C$33:C85)-1,COLUMNS($C$33:C85)-1),\"\")","v":""},null,null,null,null,null,null,null,null,null,null,null,null,null,null,null,null,null,null,null,null,null,null,null,{"$f":"IF(OFFSET(DE104_5B!$D$33,ROWS($D$33:D85)-1,COLUMNS($D$33:D85)-1)<>\"\",OFFSET(DE104_5B!$D$33,ROWS($D$33:D85)-1,COLUMNS($D$33:D85)-1),\"\")","v":""},null,null,null,null,{"$f":"IF(OFFSET(DE104_5B!$E$33,ROWS($E$33:E85)-1,COLUMNS($E$33:E85)-1)<>\"\",OFFSET(DE104_5B!$E$33,ROWS($E$33:E85)-1,COLUMNS($E$33:E85)-1),\"\")","v":""},null,null,null,null,null,{"$f":"IF(OFFSET(DE104_5B!$F$33,ROWS($F$33:F85)-1,COLUMNS($F$33:F85)-1)<>\"\",OFFSET(DE104_5B!$F$33,ROWS($F$33:F85)-1,COLUMNS($F$33:F85)-1),\"\")","v":""},null,null,null,null,null,null,null,{"$f":"IF(OFFSET(DE104_5B!$G$33,ROWS($G$33:G85)-1,COLUMNS($G$33:G85)-1)<>\"\",OFFSET(DE104_5B!$G$33,ROWS($G$33:G85)-1,COLUMNS($G$33:G85)-1),\"\")","v":""}]
[null,null,null,null,null,null,null,null,null,null,null,null,null,null,null,null,null,null,null,null,null,null,null,null,null,null,null,null,null,null,null,null,null,null,null,null,null,null,null,null,null,null,null,null,null,null,null,null,null,null,null,null,null,null,null,null,null,null,null,null,null,null,null,null,null,null,null,null,null,null,null,null,null,null,null,null,null,null,null,null,null,{"$f":"IF(OFFSET(DE104_5B!$H$34,ROWS($H$34:H86)-1,COLUMNS($H$34:H86)-1)<>\"\",OFFSET(DE104_5B!$H$34,ROWS($H$34:H86)-1,COLUMNS($H$34:H86)-1),\"\")","v":""},null,null,null,null,null,{"$f":"IF(OFFSET(DE104_5B!$I$34,ROWS($I$34:I86)-1,COLUMNS($I$34:I86)-1)<>\"\",OFFSET(DE104_5B!$I$34,ROWS($I$34:I86)-1,COLUMNS($I$34:I86)-1),\"\")","v":""},null,null,null,{"$f":"IF(OFFSET(DE104_5B!$J$34,ROWS($J$34:J86)-1,COLUMNS($J$34:J86)-1)<>\"\",OFFSET(DE104_5B!$J$34,ROWS($J$34:J86)-1,COLUMNS($J$34:J86)-1),\"\")","v":""},null,null,null,{"$f":"IF(OFFSET(DE104_5B!$K$34,ROWS($K$34:K86)-1,COLUMNS($K$34:K86)-1)<>\"\",OFFSET(DE104_5B!$K$34,ROWS($K$34:K86)-1,COLUMNS($K$34:K86)-1),\"\")","v":""},null,null,null,null,{"$f":"IF(OFFSET(DE104_5B!$L$34,ROWS($L$34:L86)-1,COLUMNS($L$34:L86)-1)<>\"\",OFFSET(DE104_5B!$L$34,ROWS($L$34:L86)-1,COLUMNS($L$34:L86)-1),\"\")","v":""},null,null,null,null,null,null,{"$f":"IF(OFFSET(DE104_5B!$M$34,ROWS($M$34:M86)-1,COLUMNS($M$34:M86)-1)<>\"\",OFFSET(DE104_5B!$M$34,ROWS($M$34:M86)-1,COLUMNS($M$34:M86)-1),\"\")","v":""},null,null,null,null,null,{"$f":"IF(OFFSET(DE104_5B!$O$34,ROWS($O$34:O86)-1,COLUMNS($O$34:O86)-1)<>\"\",OFFSET(DE104_5B!$O$34,ROWS($O$34:O86)-1,COLUMNS($O$34:O86)-1),\"\")","v":""},null,null,null,null,null,{"$f":"IF(OFFSET(DE104_5B!$P$34,ROWS($P$34:P86)-1,COLUMNS($P$34:P86)-1)<>\"\",OFFSET(DE104_5B!$P$34,ROWS($P$34:P86)-1,COLUMNS($P$34:P86)-1),\"\")","v":""},null,null,null,null,{"$f":"IF(OFFSET(DE104_5B!$Q$34,ROWS($Q$34:Q86)-1,COLUMNS($Q$34:Q86)-1)<>\"\",OFFSET(DE104_5B!$Q$34,ROWS($Q$34:Q86)-1,COLUMNS($Q$34:Q86)-1),\"\")","v":""},null,null,null,null,null,null,null,null,null,{"$f":"IF(OFFSET(DE104_5B!$R$34,ROWS($R$34:R86)-1,COLUMNS($R$34:R86)-1)<>\"\",OFFSET(DE104_5B!$R$34,ROWS($R$34:R86)-1,COLUMNS($R$34:R86)-1),\"\")","v":""},null,null,null,null,null,null,null,{"$f":"IF(OFFSET(DE104_5B!$S$34,ROWS($S$34:S86)-1,COLUMNS($S$34:S86)-1)<>\"\",OFFSET(DE104_5B!$S$34,ROWS($S$34:S86)-1,COLUMNS($S$34:S86)-1),\"\")","v":""},null,null,null,null,null,null,null,{"$f":"IF(OFFSET(DE104_5B!$T$34,ROWS($T$34:T86)-1,COLUMNS($T$34:T86)-1)<>\"\",OFFSET(DE104_5B!$T$34,ROWS($T$34:T86)-1,COLUMNS($T$34:T86)-1),\"\")","v":""},null,null,null,null,null,null,null,{"$f":"IF(OFFSET(DE104_5B!$U$34,ROWS($U$34:U86)-1,COLUMNS($U$34:U86)-1)<>\"\",OFFSET(DE104_5B!$U$34,ROWS($U$34:U86)-1,COLUMNS($U$34:U86)-1),\"\")","v":""},null,null,null,null,null,null,{"$f":"IF(OFFSET(DE104_5B!$V$34,ROWS($V$34:V86)-1,COLUMNS($V$34:V86)-1)<>\"\",OFFSET(DE104_5B!$V$34,ROWS($V$34:V86)-1,COLUMNS($V$34:V86)-1),\"\")","v":""}]
[null,null,{"$f":"IF(OFFSET(DE104_5B!$A$33,ROWS($A$33:A87)-1,COLUMNS($A$33:A87)-1)<>\"\",OFFSET(DE104_5B!$A$33,ROWS($A$33:A87)-1,COLUMNS($A$33:A87)-1),\"\")","v":""},null,null,null,{"$f":"IF(OFFSET(DE104_5B!$B$33,ROWS($B$33:B87)-1,COLUMNS($B$33:B87)-1)<>\"\",OFFSET(DE104_5B!$B$33,ROWS($B$33:B87)-1,COLUMNS($B$33:B87)-1),\"\")","v":""},null,null,null,null,null,null,null,null,null,null,null,null,null,null,null,null,null,null,{"$f":"IF(OFFSET(DE104_5B!$C$33,ROWS($C$33:C87)-1,COLUMNS($C$33:C87)-1)<>\"\",OFFSET(DE104_5B!$C$33,ROWS($C$33:C87)-1,COLUMNS($C$33:C87)-1),\"\")","v":""},null,null,null,null,null,null,null,null,null,null,null,null,null,null,null,null,null,null,null,null,null,null,null,{"$f":"IF(OFFSET(DE104_5B!$D$33,ROWS($D$33:D87)-1,COLUMNS($D$33:D87)-1)<>\"\",OFFSET(DE104_5B!$D$33,ROWS($D$33:D87)-1,COLUMNS($D$33:D87)-1),\"\")","v":""},null,null,null,null,{"$f":"IF(OFFSET(DE104_5B!$E$33,ROWS($E$33:E87)-1,COLUMNS($E$33:E87)-1)<>\"\",OFFSET(DE104_5B!$E$33,ROWS($E$33:E87)-1,COLUMNS($E$33:E87)-1),\"\")","v":""},null,null,null,null,null,{"$f":"IF(OFFSET(DE104_5B!$F$33,ROWS($F$33:F87)-1,COLUMNS($F$33:F87)-1)<>\"\",OFFSET(DE104_5B!$F$33,ROWS($F$33:F87)-1,COLUMNS($F$33:F87)-1),\"\")","v":""},null,null,null,null,null,null,null,{"$f":"IF(OFFSET(DE104_5B!$G$33,ROWS($G$33:G87)-1,COLUMNS($G$33:G87)-1)<>\"\",OFFSET(DE104_5B!$G$33,ROWS($G$33:G87)-1,COLUMNS($G$33:G87)-1),\"\")","v":""}]
[null,null,null,null,null,null,null,null,null,null,null,null,null,null,null,null,null,null,null,null,null,null,null,null,null,null,null,null,null,null,null,null,null,null,null,null,null,null,null,null,null,null,null,null,null,null,null,null,null,null,null,null,null,null,null,null,null,null,null,null,null,null,null,null,null,null,null,null,null,null,null,null,null,null,null,null,null,null,null,null,null,{"$f":"IF(OFFSET(DE104_5B!$H$34,ROWS($H$34:H88)-1,COLUMNS($H$34:H88)-1)<>\"\",OFFSET(DE104_5B!$H$34,ROWS($H$34:H88)-1,COLUMNS($H$34:H88)-1),\"\")","v":""},null,null,null,null,null,{"$f":"IF(OFFSET(DE104_5B!$I$34,ROWS($I$34:I88)-1,COLUMNS($I$34:I88)-1)<>\"\",OFFSET(DE104_5B!$I$34,ROWS($I$34:I88)-1,COLUMNS($I$34:I88)-1),\"\")","v":""},null,null,null,{"$f":"IF(OFFSET(DE104_5B!$J$34,ROWS($J$34:J88)-1,COLUMNS($J$34:J88)-1)<>\"\",OFFSET(DE104_5B!$J$34,ROWS($J$34:J88)-1,COLUMNS($J$34:J88)-1),\"\")","v":""},null,null,null,{"$f":"IF(OFFSET(DE104_5B!$K$34,ROWS($K$34:K88)-1,COLUMNS($K$34:K88)-1)<>\"\",OFFSET(DE104_5B!$K$34,ROWS($K$34:K88)-1,COLUMNS($K$34:K88)-1),\"\")","v":""},null,null,null,null,{"$f":"IF(OFFSET(DE104_5B!$L$34,ROWS($L$34:L88)-1,COLUMNS($L$34:L88)-1)<>\"\",OFFSET(DE104_5B!$L$34,ROWS($L$34:L88)-1,COLUMNS($L$34:L88)-1),\"\")","v":""},null,null,null,null,null,null,{"$f":"IF(OFFSET(DE104_5B!$M$34,ROWS($M$34:M88)-1,COLUMNS($M$34:M88)-1)<>\"\",OFFSET(DE104_5B!$M$34,ROWS($M$34:M88)-1,COLUMNS($M$34:M88)-1),\"\")","v":""},null,null,null,null,null,{"$f":"IF(OFFSET(DE104_5B!$O$34,ROWS($O$34:O88)-1,COLUMNS($O$34:O88)-1)<>\"\",OFFSET(DE104_5B!$O$34,ROWS($O$34:O88)-1,COLUMNS($O$34:O88)-1),\"\")","v":""},null,null,null,null,null,{"$f":"IF(OFFSET(DE104_5B!$P$34,ROWS($P$34:P88)-1,COLUMNS($P$34:P88)-1)<>\"\",OFFSET(DE104_5B!$P$34,ROWS($P$34:P88)-1,COLUMNS($P$34:P88)-1),\"\")","v":""},null,null,null,null,{"$f":"IF(OFFSET(DE104_5B!$Q$34,ROWS($Q$34:Q88)-1,COLUMNS($Q$34:Q88)-1)<>\"\",OFFSET(DE104_5B!$Q$34,ROWS($Q$34:Q88)-1,COLUMNS($Q$34:Q88)-1),\"\")","v":""},null,null,null,null,null,null,null,null,null,{"$f":"IF(OFFSET(DE104_5B!$R$34,ROWS($R$34:R88)-1,COLUMNS($R$34:R88)-1)<>\"\",OFFSET(DE104_5B!$R$34,ROWS($R$34:R88)-1,COLUMNS($R$34:R88)-1),\"\")","v":""},null,null,null,null,null,null,null,{"$f":"IF(OFFSET(DE104_5B!$S$34,ROWS($S$34:S88)-1,COLUMNS($S$34:S88)-1)<>\"\",OFFSET(DE104_5B!$S$34,ROWS($S$34:S88)-1,COLUMNS($S$34:S88)-1),\"\")","v":""},null,null,null,null,null,null,null,{"$f":"IF(OFFSET(DE104_5B!$T$34,ROWS($T$34:T88)-1,COLUMNS($T$34:T88)-1)<>\"\",OFFSET(DE104_5B!$T$34,ROWS($T$34:T88)-1,COLUMNS($T$34:T88)-1),\"\")","v":""},null,null,null,null,null,null,null,{"$f":"IF(OFFSET(DE104_5B!$U$34,ROWS($U$34:U88)-1,COLUMNS($U$34:U88)-1)<>\"\",OFFSET(DE104_5B!$U$34,ROWS($U$34:U88)-1,COLUMNS($U$34:U88)-1),\"\")","v":""},null,null,null,null,null,null,{"$f":"IF(OFFSET(DE104_5B!$V$34,ROWS($V$34:V88)-1,COLUMNS($V$34:V88)-1)<>\"\",OFFSET(DE104_5B!$V$34,ROWS($V$34:V88)-1,COLUMNS($V$34:V88)-1),\"\")","v":""}]
[null,null,{"$f":"IF(OFFSET(DE104_5B!$A$33,ROWS($A$33:A89)-1,COLUMNS($A$33:A89)-1)<>\"\",OFFSET(DE104_5B!$A$33,ROWS($A$33:A89)-1,COLUMNS($A$33:A89)-1),\"\")","v":""},null,null,null,{"$f":"IF(OFFSET(DE104_5B!$B$33,ROWS($B$33:B89)-1,COLUMNS($B$33:B89)-1)<>\"\",OFFSET(DE104_5B!$B$33,ROWS($B$33:B89)-1,COLUMNS($B$33:B89)-1),\"\")","v":""},null,null,null,null,null,null,null,null,null,null,null,null,null,null,null,null,null,null,{"$f":"IF(OFFSET(DE104_5B!$C$33,ROWS($C$33:C89)-1,COLUMNS($C$33:C89)-1)<>\"\",OFFSET(DE104_5B!$C$33,ROWS($C$33:C89)-1,COLUMNS($C$33:C89)-1),\"\")","v":""},null,null,null,null,null,null,null,null,null,null,null,null,null,null,null,null,null,null,null,null,null,null,null,{"$f":"IF(OFFSET(DE104_5B!$D$33,ROWS($D$33:D89)-1,COLUMNS($D$33:D89)-1)<>\"\",OFFSET(DE104_5B!$D$33,ROWS($D$33:D89)-1,COLUMNS($D$33:D89)-1),\"\")","v":""},null,null,null,null,{"$f":"IF(OFFSET(DE104_5B!$E$33,ROWS($E$33:E89)-1,COLUMNS($E$33:E89)-1)<>\"\",OFFSET(DE104_5B!$E$33,ROWS($E$33:E89)-1,COLUMNS($E$33:E89)-1),\"\")","v":""},null,null,null,null,null,{"$f":"IF(OFFSET(DE104_5B!$F$33,ROWS($F$33:F89)-1,COLUMNS($F$33:F89)-1)<>\"\",OFFSET(DE104_5B!$F$33,ROWS($F$33:F89)-1,COLUMNS($F$33:F89)-1),\"\")","v":""},null,null,null,null,null,null,null,{"$f":"IF(OFFSET(DE104_5B!$G$33,ROWS($G$33:G89)-1,COLUMNS($G$33:G89)-1)<>\"\",OFFSET(DE104_5B!$G$33,ROWS($G$33:G89)-1,COLUMNS($G$33:G89)-1),\"\")","v":""}]
[null,null,null,null,null,null,null,null,null,null,null,null,null,null,null,null,null,null,null,null,null,null,null,null,null,null,null,null,null,null,null,null,null,null,null,null,null,null,null,null,null,null,null,null,null,null,null,null,null,null,null,null,null,null,null,null,null,null,null,null,null,null,null,null,null,null,null,null,null,null,null,null,null,null,null,null,null,null,null,null,null,{"$f":"IF(OFFSET(DE104_5B!$H$34,ROWS($H$34:H90)-1,COLUMNS($H$34:H90)-1)<>\"\",OFFSET(DE104_5B!$H$34,ROWS($H$34:H90)-1,COLUMNS($H$34:H90)-1),\"\")","v":""},null,null,null,null,null,{"$f":"IF(OFFSET(DE104_5B!$I$34,ROWS($I$34:I90)-1,COLUMNS($I$34:I90)-1)<>\"\",OFFSET(DE104_5B!$I$34,ROWS($I$34:I90)-1,COLUMNS($I$34:I90)-1),\"\")","v":""},null,null,null,{"$f":"IF(OFFSET(DE104_5B!$J$34,ROWS($J$34:J90)-1,COLUMNS($J$34:J90)-1)<>\"\",OFFSET(DE104_5B!$J$34,ROWS($J$34:J90)-1,COLUMNS($J$34:J90)-1),\"\")","v":""},null,null,null,{"$f":"IF(OFFSET(DE104_5B!$K$34,ROWS($K$34:K90)-1,COLUMNS($K$34:K90)-1)<>\"\",OFFSET(DE104_5B!$K$34,ROWS($K$34:K90)-1,COLUMNS($K$34:K90)-1),\"\")","v":""},null,null,null,null,{"$f":"IF(OFFSET(DE104_5B!$L$34,ROWS($L$34:L90)-1,COLUMNS($L$34:L90)-1)<>\"\",OFFSET(DE104_5B!$L$34,ROWS($L$34:L90)-1,COLUMNS($L$34:L90)-1),\"\")","v":""},null,null,null,null,null,null,{"$f":"IF(OFFSET(DE104_5B!$M$34,ROWS($M$34:M90)-1,COLUMNS($M$34:M90)-1)<>\"\",OFFSET(DE104_5B!$M$34,ROWS($M$34:M90)-1,COLUMNS($M$34:M90)-1),\"\")","v":""},null,null,null,null,null,{"$f":"IF(OFFSET(DE104_5B!$O$34,ROWS($O$34:O90)-1,COLUMNS($O$34:O90)-1)<>\"\",OFFSET(DE104_5B!$O$34,ROWS($O$34:O90)-1,COLUMNS($O$34:O90)-1),\"\")","v":""},null,null,null,null,null,{"$f":"IF(OFFSET(DE104_5B!$P$34,ROWS($P$34:P90)-1,COLUMNS($P$34:P90)-1)<>\"\",OFFSET(DE104_5B!$P$34,ROWS($P$34:P90)-1,COLUMNS($P$34:P90)-1),\"\")","v":""},null,null,null,null,{"$f":"IF(OFFSET(DE104_5B!$Q$34,ROWS($Q$34:Q90)-1,COLUMNS($Q$34:Q90)-1)<>\"\",OFFSET(DE104_5B!$Q$34,ROWS($Q$34:Q90)-1,COLUMNS($Q$34:Q90)-1),\"\")","v":""},null,null,null,null,null,null,null,null,null,{"$f":"IF(OFFSET(DE104_5B!$R$34,ROWS($R$34:R90)-1,COLUMNS($R$34:R90)-1)<>\"\",OFFSET(DE104_5B!$R$34,ROWS($R$34:R90)-1,COLUMNS($R$34:R90)-1),\"\")","v":""},null,null,null,null,null,null,null,{"$f":"IF(OFFSET(DE104_5B!$S$34,ROWS($S$34:S90)-1,COLUMNS($S$34:S90)-1)<>\"\",OFFSET(DE104_5B!$S$34,ROWS($S$34:S90)-1,COLUMNS($S$34:S90)-1),\"\")","v":""},null,null,null,null,null,null,null,{"$f":"IF(OFFSET(DE104_5B!$T$34,ROWS($T$34:T90)-1,COLUMNS($T$34:T90)-1)<>\"\",OFFSET(DE104_5B!$T$34,ROWS($T$34:T90)-1,COLUMNS($T$34:T90)-1),\"\")","v":""},null,null,null,null,null,null,null,{"$f":"IF(OFFSET(DE104_5B!$U$34,ROWS($U$34:U90)-1,COLUMNS($U$34:U90)-1)<>\"\",OFFSET(DE104_5B!$U$34,ROWS($U$34:U90)-1,COLUMNS($U$34:U90)-1),\"\")","v":""},null,null,null,null,null,null,{"$f":"IF(OFFSET(DE104_5B!$V$34,ROWS($V$34:V90)-1,COLUMNS($V$34:V90)-1)<>\"\",OFFSET(DE104_5B!$V$34,ROWS($V$34:V90)-1,COLUMNS($V$34:V90)-1),\"\")","v":""}]
[null,null,{"$f":"IF(OFFSET(DE104_5B!$A$33,ROWS($A$33:A91)-1,COLUMNS($A$33:A91)-1)<>\"\",OFFSET(DE104_5B!$A$33,ROWS($A$33:A91)-1,COLUMNS($A$33:A91)-1),\"\")","v":""},null,null,null,{"$f":"IF(OFFSET(DE104_5B!$B$33,ROWS($B$33:B91)-1,COLUMNS($B$33:B91)-1)<>\"\",OFFSET(DE104_5B!$B$33,ROWS($B$33:B91)-1,COLUMNS($B$33:B91)-1),\"\")","v":""},null,null,null,null,null,null,null,null,null,null,null,null,null,null,null,null,null,null,{"$f":"IF(OFFSET(DE104_5B!$C$33,ROWS($C$33:C91)-1,COLUMNS($C$33:C91)-1)<>\"\",OFFSET(DE104_5B!$C$33,ROWS($C$33:C91)-1,COLUMNS($C$33:C91)-1),\"\")","v":""},null,null,null,null,null,null,null,null,null,null,null,null,null,null,null,null,null,null,null,null,null,null,null,{"$f":"IF(OFFSET(DE104_5B!$D$33,ROWS($D$33:D91)-1,COLUMNS($D$33:D91)-1)<>\"\",OFFSET(DE104_5B!$D$33,ROWS($D$33:D91)-1,COLUMNS($D$33:D91)-1),\"\")","v":""},null,null,null,null,{"$f":"IF(OFFSET(DE104_5B!$E$33,ROWS($E$33:E91)-1,COLUMNS($E$33:E91)-1)<>\"\",OFFSET(DE104_5B!$E$33,ROWS($E$33:E91)-1,COLUMNS($E$33:E91)-1),\"\")","v":""},null,null,null,null,null,{"$f":"IF(OFFSET(DE104_5B!$F$33,ROWS($F$33:F91)-1,COLUMNS($F$33:F91)-1)<>\"\",OFFSET(DE104_5B!$F$33,ROWS($F$33:F91)-1,COLUMNS($F$33:F91)-1),\"\")","v":""},null,null,null,null,null,null,null,{"$f":"IF(OFFSET(DE104_5B!$G$33,ROWS($G$33:G91)-1,COLUMNS($G$33:G91)-1)<>\"\",OFFSET(DE104_5B!$G$33,ROWS($G$33:G91)-1,COLUMNS($G$33:G91)-1),\"\")","v":""}]
[null,null,null,null,null,null,null,null,null,null,null,null,null,null,null,null,null,null,null,null,null,null,null,null,null,null,null,null,null,null,null,null,null,null,null,null,null,null,null,null,null,null,null,null,null,null,null,null,null,null,null,null,null,null,null,null,null,null,null,null,null,null,null,null,null,null,null,null,null,null,null,null,null,null,null,null,null,null,null,null,null,{"$f":"IF(OFFSET(DE104_5B!$H$34,ROWS($H$34:H92)-1,COLUMNS($H$34:H92)-1)<>\"\",OFFSET(DE104_5B!$H$34,ROWS($H$34:H92)-1,COLUMNS($H$34:H92)-1),\"\")","v":""},null,null,null,null,null,{"$f":"IF(OFFSET(DE104_5B!$I$34,ROWS($I$34:I92)-1,COLUMNS($I$34:I92)-1)<>\"\",OFFSET(DE104_5B!$I$34,ROWS($I$34:I92)-1,COLUMNS($I$34:I92)-1),\"\")","v":""},null,null,null,{"$f":"IF(OFFSET(DE104_5B!$J$34,ROWS($J$34:J92)-1,COLUMNS($J$34:J92)-1)<>\"\",OFFSET(DE104_5B!$J$34,ROWS($J$34:J92)-1,COLUMNS($J$34:J92)-1),\"\")","v":""},null,null,null,{"$f":"IF(OFFSET(DE104_5B!$K$34,ROWS($K$34:K92)-1,COLUMNS($K$34:K92)-1)<>\"\",OFFSET(DE104_5B!$K$34,ROWS($K$34:K92)-1,COLUMNS($K$34:K92)-1),\"\")","v":""},null,null,null,null,{"$f":"IF(OFFSET(DE104_5B!$L$34,ROWS($L$34:L92)-1,COLUMNS($L$34:L92)-1)<>\"\",OFFSET(DE104_5B!$L$34,ROWS($L$34:L92)-1,COLUMNS($L$34:L92)-1),\"\")","v":""},null,null,null,null,null,null,{"$f":"IF(OFFSET(DE104_5B!$M$34,ROWS($M$34:M92)-1,COLUMNS($M$34:M92)-1)<>\"\",OFFSET(DE104_5B!$M$34,ROWS($M$34:M92)-1,COLUMNS($M$34:M92)-1),\"\")","v":""},null,null,null,null,null,{"$f":"IF(OFFSET(DE104_5B!$O$34,ROWS($O$34:O92)-1,COLUMNS($O$34:O92)-1)<>\"\",OFFSET(DE104_5B!$O$34,ROWS($O$34:O92)-1,COLUMNS($O$34:O92)-1),\"\")","v":""},null,null,null,null,null,{"$f":"IF(OFFSET(DE104_5B!$P$34,ROWS($P$34:P92)-1,COLUMNS($P$34:P92)-1)<>\"\",OFFSET(DE104_5B!$P$34,ROWS($P$34:P92)-1,COLUMNS($P$34:P92)-1),\"\")","v":""},null,null,null,null,{"$f":"IF(OFFSET(DE104_5B!$Q$34,ROWS($Q$34:Q92)-1,COLUMNS($Q$34:Q92)-1)<>\"\",OFFSET(DE104_5B!$Q$34,ROWS($Q$34:Q92)-1,COLUMNS($Q$34:Q92)-1),\"\")","v":""},null,null,null,null,null,null,null,null,null,{"$f":"IF(OFFSET(DE104_5B!$R$34,ROWS($R$34:R92)-1,COLUMNS($R$34:R92)-1)<>\"\",OFFSET(DE104_5B!$R$34,ROWS($R$34:R92)-1,COLUMNS($R$34:R92)-1),\"\")","v":""},null,null,null,null,null,null,null,{"$f":"IF(OFFSET(DE104_5B!$S$34,ROWS($S$34:S92)-1,COLUMNS($S$34:S92)-1)<>\"\",OFFSET(DE104_5B!$S$34,ROWS($S$34:S92)-1,COLUMNS($S$34:S92)-1),\"\")","v":""},null,null,null,null,null,null,null,{"$f":"IF(OFFSET(DE104_5B!$T$34,ROWS($T$34:T92)-1,COLUMNS($T$34:T92)-1)<>\"\",OFFSET(DE104_5B!$T$34,ROWS($T$34:T92)-1,COLUMNS($T$34:T92)-1),\"\")","v":""},null,null,null,null,null,null,null,{"$f":"IF(OFFSET(DE104_5B!$U$34,ROWS($U$34:U92)-1,COLUMNS($U$34:U92)-1)<>\"\",OFFSET(DE104_5B!$U$34,ROWS($U$34:U92)-1,COLUMNS($U$34:U92)-1),\"\")","v":""},null,null,null,null,null,null,{"$f":"IF(OFFSET(DE104_5B!$V$34,ROWS($V$34:V92)-1,COLUMNS($V$34:V92)-1)<>\"\",OFFSET(DE104_5B!$V$34,ROWS($V$34:V92)-1,COLUMNS($V$34:V92)-1),\"\")","v":""}]
[null,null,{"$f":"IF(OFFSET(DE104_5B!$A$33,ROWS($A$33:A93)-1,COLUMNS($A$33:A93)-1)<>\"\",OFFSET(DE104_5B!$A$33,ROWS($A$33:A93)-1,COLUMNS($A$33:A93)-1),\"\")","v":""},null,null,null,{"$f":"IF(OFFSET(DE104_5B!$B$33,ROWS($B$33:B93)-1,COLUMNS($B$33:B93)-1)<>\"\",OFFSET(DE104_5B!$B$33,ROWS($B$33:B93)-1,COLUMNS($B$33:B93)-1),\"\")","v":""},null,null,null,null,null,null,null,null,null,null,null,null,null,null,null,null,null,null,{"$f":"IF(OFFSET(DE104_5B!$C$33,ROWS($C$33:C93)-1,COLUMNS($C$33:C93)-1)<>\"\",OFFSET(DE104_5B!$C$33,ROWS($C$33:C93)-1,COLUMNS($C$33:C93)-1),\"\")","v":""},null,null,null,null,null,null,null,null,null,null,null,null,null,null,null,null,null,null,null,null,null,null,null,{"$f":"IF(OFFSET(DE104_5B!$D$33,ROWS($D$33:D93)-1,COLUMNS($D$33:D93)-1)<>\"\",OFFSET(DE104_5B!$D$33,ROWS($D$33:D93)-1,COLUMNS($D$33:D93)-1),\"\")","v":""},null,null,null,null,{"$f":"IF(OFFSET(DE104_5B!$E$33,ROWS($E$33:E93)-1,COLUMNS($E$33:E93)-1)<>\"\",OFFSET(DE104_5B!$E$33,ROWS($E$33:E93)-1,COLUMNS($E$33:E93)-1),\"\")","v":""},null,null,null,null,null,{"$f":"IF(OFFSET(DE104_5B!$F$33,ROWS($F$33:F93)-1,COLUMNS($F$33:F93)-1)<>\"\",OFFSET(DE104_5B!$F$33,ROWS($F$33:F93)-1,COLUMNS($F$33:F93)-1),\"\")","v":""},null,null,null,null,null,null,null,{"$f":"IF(OFFSET(DE104_5B!$G$33,ROWS($G$33:G93)-1,COLUMNS($G$33:G93)-1)<>\"\",OFFSET(DE104_5B!$G$33,ROWS($G$33:G93)-1,COLUMNS($G$33:G93)-1),\"\")","v":""}]
[null,null,null,null,null,null,null,null,null,null,null,null,null,null,null,null,null,null,null,null,null,null,null,null,null,null,null,null,null,null,null,null,null,null,null,null,null,null,null,null,null,null,null,null,null,null,null,null,null,null,null,null,null,null,null,null,null,null,null,null,null,null,null,null,null,null,null,null,null,null,null,null,null,null,null,null,null,null,null,null,null,{"$f":"IF(OFFSET(DE104_5B!$H$34,ROWS($H$34:H94)-1,COLUMNS($H$34:H94)-1)<>\"\",OFFSET(DE104_5B!$H$34,ROWS($H$34:H94)-1,COLUMNS($H$34:H94)-1),\"\")","v":""},null,null,null,null,null,{"$f":"IF(OFFSET(DE104_5B!$I$34,ROWS($I$34:I94)-1,COLUMNS($I$34:I94)-1)<>\"\",OFFSET(DE104_5B!$I$34,ROWS($I$34:I94)-1,COLUMNS($I$34:I94)-1),\"\")","v":""},null,null,null,{"$f":"IF(OFFSET(DE104_5B!$J$34,ROWS($J$34:J94)-1,COLUMNS($J$34:J94)-1)<>\"\",OFFSET(DE104_5B!$J$34,ROWS($J$34:J94)-1,COLUMNS($J$34:J94)-1),\"\")","v":""},null,null,null,{"$f":"IF(OFFSET(DE104_5B!$K$34,ROWS($K$34:K94)-1,COLUMNS($K$34:K94)-1)<>\"\",OFFSET(DE104_5B!$K$34,ROWS($K$34:K94)-1,COLUMNS($K$34:K94)-1),\"\")","v":""},null,null,null,null,{"$f":"IF(OFFSET(DE104_5B!$L$34,ROWS($L$34:L94)-1,COLUMNS($L$34:L94)-1)<>\"\",OFFSET(DE104_5B!$L$34,ROWS($L$34:L94)-1,COLUMNS($L$34:L94)-1),\"\")","v":""},null,null,null,null,null,null,{"$f":"IF(OFFSET(DE104_5B!$M$34,ROWS($M$34:M94)-1,COLUMNS($M$34:M94)-1)<>\"\",OFFSET(DE104_5B!$M$34,ROWS($M$34:M94)-1,COLUMNS($M$34:M94)-1),\"\")","v":""},null,null,null,null,null,{"$f":"IF(OFFSET(DE104_5B!$O$34,ROWS($O$34:O94)-1,COLUMNS($O$34:O94)-1)<>\"\",OFFSET(DE104_5B!$O$34,ROWS($O$34:O94)-1,COLUMNS($O$34:O94)-1),\"\")","v":""},null,null,null,null,null,{"$f":"IF(OFFSET(DE104_5B!$P$34,ROWS($P$34:P94)-1,COLUMNS($P$34:P94)-1)<>\"\",OFFSET(DE104_5B!$P$34,ROWS($P$34:P94)-1,COLUMNS($P$34:P94)-1),\"\")","v":""},null,null,null,null,{"$f":"IF(OFFSET(DE104_5B!$Q$34,ROWS($Q$34:Q94)-1,COLUMNS($Q$34:Q94)-1)<>\"\",OFFSET(DE104_5B!$Q$34,ROWS($Q$34:Q94)-1,COLUMNS($Q$34:Q94)-1),\"\")","v":""},null,null,null,null,null,null,null,null,null,{"$f":"IF(OFFSET(DE104_5B!$R$34,ROWS($R$34:R94)-1,COLUMNS($R$34:R94)-1)<>\"\",OFFSET(DE104_5B!$R$34,ROWS($R$34:R94)-1,COLUMNS($R$34:R94)-1),\"\")","v":""},null,null,null,null,null,null,null,{"$f":"IF(OFFSET(DE104_5B!$S$34,ROWS($S$34:S94)-1,COLUMNS($S$34:S94)-1)<>\"\",OFFSET(DE104_5B!$S$34,ROWS($S$34:S94)-1,COLUMNS($S$34:S94)-1),\"\")","v":""},null,null,null,null,null,null,null,{"$f":"IF(OFFSET(DE104_5B!$T$34,ROWS($T$34:T94)-1,COLUMNS($T$34:T94)-1)<>\"\",OFFSET(DE104_5B!$T$34,ROWS($T$34:T94)-1,COLUMNS($T$34:T94)-1),\"\")","v":""},null,null,null,null,null,null,null,{"$f":"IF(OFFSET(DE104_5B!$U$34,ROWS($U$34:U94)-1,COLUMNS($U$34:U94)-1)<>\"\",OFFSET(DE104_5B!$U$34,ROWS($U$34:U94)-1,COLUMNS($U$34:U94)-1),\"\")","v":""},null,null,null,null,null,null,{"$f":"IF(OFFSET(DE104_5B!$V$34,ROWS($V$34:V94)-1,COLUMNS($V$34:V94)-1)<>\"\",OFFSET(DE104_5B!$V$34,ROWS($V$34:V94)-1,COLUMNS($V$34:V94)-1),\"\")","v":""}]
[null,null,{"$f":"IF(OFFSET(DE104_5B!$A$33,ROWS($A$33:A95)-1,COLUMNS($A$33:A95)-1)<>\"\",OFFSET(DE104_5B!$A$33,ROWS($A$33:A95)-1,COLUMNS($A$33:A95)-1),\"\")","v":""},null,null,null,{"$f":"IF(OFFSET(DE104_5B!$B$33,ROWS($B$33:B95)-1,COLUMNS($B$33:B95)-1)<>\"\",OFFSET(DE104_5B!$B$33,ROWS($B$33:B95)-1,COLUMNS($B$33:B95)-1),\"\")","v":""},null,null,null,null,null,null,null,null,null,null,null,null,null,null,null,null,null,null,{"$f":"IF(OFFSET(DE104_5B!$C$33,ROWS($C$33:C95)-1,COLUMNS($C$33:C95)-1)<>\"\",OFFSET(DE104_5B!$C$33,ROWS($C$33:C95)-1,COLUMNS($C$33:C95)-1),\"\")","v":""},null,null,null,null,null,null,null,null,null,null,null,null,null,null,null,null,null,null,null,null,null,null,null,{"$f":"IF(OFFSET(DE104_5B!$D$33,ROWS($D$33:D95)-1,COLUMNS($D$33:D95)-1)<>\"\",OFFSET(DE104_5B!$D$33,ROWS($D$33:D95)-1,COLUMNS($D$33:D95)-1),\"\")","v":""},null,null,null,null,{"$f":"IF(OFFSET(DE104_5B!$E$33,ROWS($E$33:E95)-1,COLUMNS($E$33:E95)-1)<>\"\",OFFSET(DE104_5B!$E$33,ROWS($E$33:E95)-1,COLUMNS($E$33:E95)-1),\"\")","v":""},null,null,null,null,null,{"$f":"IF(OFFSET(DE104_5B!$F$33,ROWS($F$33:F95)-1,COLUMNS($F$33:F95)-1)<>\"\",OFFSET(DE104_5B!$F$33,ROWS($F$33:F95)-1,COLUMNS($F$33:F95)-1),\"\")","v":""},null,null,null,null,null,null,null,{"$f":"IF(OFFSET(DE104_5B!$G$33,ROWS($G$33:G95)-1,COLUMNS($G$33:G95)-1)<>\"\",OFFSET(DE104_5B!$G$33,ROWS($G$33:G95)-1,COLUMNS($G$33:G95)-1),\"\")","v":""}]
[null,null,null,null,null,null,null,null,null,null,null,null,null,null,null,null,null,null,null,null,null,null,null,null,null,null,null,null,null,null,null,null,null,null,null,null,null,null,null,null,null,null,null,null,null,null,null,null,null,null,null,null,null,null,null,null,null,null,null,null,null,null,null,null,null,null,null,null,null,null,null,null,null,null,null,null,null,null,null,null,null,{"$f":"IF(OFFSET(DE104_5B!$H$34,ROWS($H$34:H96)-1,COLUMNS($H$34:H96)-1)<>\"\",OFFSET(DE104_5B!$H$34,ROWS($H$34:H96)-1,COLUMNS($H$34:H96)-1),\"\")","v":""},null,null,null,null,null,{"$f":"IF(OFFSET(DE104_5B!$I$34,ROWS($I$34:I96)-1,COLUMNS($I$34:I96)-1)<>\"\",OFFSET(DE104_5B!$I$34,ROWS($I$34:I96)-1,COLUMNS($I$34:I96)-1),\"\")","v":""},null,null,null,{"$f":"IF(OFFSET(DE104_5B!$J$34,ROWS($J$34:J96)-1,COLUMNS($J$34:J96)-1)<>\"\",OFFSET(DE104_5B!$J$34,ROWS($J$34:J96)-1,COLUMNS($J$34:J96)-1),\"\")","v":""},null,null,null,{"$f":"IF(OFFSET(DE104_5B!$K$34,ROWS($K$34:K96)-1,COLUMNS($K$34:K96)-1)<>\"\",OFFSET(DE104_5B!$K$34,ROWS($K$34:K96)-1,COLUMNS($K$34:K96)-1),\"\")","v":""},null,null,null,null,{"$f":"IF(OFFSET(DE104_5B!$L$34,ROWS($L$34:L96)-1,COLUMNS($L$34:L96)-1)<>\"\",OFFSET(DE104_5B!$L$34,ROWS($L$34:L96)-1,COLUMNS($L$34:L96)-1),\"\")","v":""},null,null,null,null,null,null,{"$f":"IF(OFFSET(DE104_5B!$M$34,ROWS($M$34:M96)-1,COLUMNS($M$34:M96)-1)<>\"\",OFFSET(DE104_5B!$M$34,ROWS($M$34:M96)-1,COLUMNS($M$34:M96)-1),\"\")","v":""},null,null,null,null,null,{"$f":"IF(OFFSET(DE104_5B!$O$34,ROWS($O$34:O96)-1,COLUMNS($O$34:O96)-1)<>\"\",OFFSET(DE104_5B!$O$34,ROWS($O$34:O96)-1,COLUMNS($O$34:O96)-1),\"\")","v":""},null,null,null,null,null,{"$f":"IF(OFFSET(DE104_5B!$P$34,ROWS($P$34:P96)-1,COLUMNS($P$34:P96)-1)<>\"\",OFFSET(DE104_5B!$P$34,ROWS($P$34:P96)-1,COLUMNS($P$34:P96)-1),\"\")","v":""},null,null,null,null,{"$f":"IF(OFFSET(DE104_5B!$Q$34,ROWS($Q$34:Q96)-1,COLUMNS($Q$34:Q96)-1)<>\"\",OFFSET(DE104_5B!$Q$34,ROWS($Q$34:Q96)-1,COLUMNS($Q$34:Q96)-1),\"\")","v":""},null,null,null,null,null,null,null,null,null,{"$f":"IF(OFFSET(DE104_5B!$R$34,ROWS($R$34:R96)-1,COLUMNS($R$34:R96)-1)<>\"\",OFFSET(DE104_5B!$R$34,ROWS($R$34:R96)-1,COLUMNS($R$34:R96)-1),\"\")","v":""},null,null,null,null,null,null,null,{"$f":"IF(OFFSET(DE104_5B!$S$34,ROWS($S$34:S96)-1,COLUMNS($S$34:S96)-1)<>\"\",OFFSET(DE104_5B!$S$34,ROWS($S$34:S96)-1,COLUMNS($S$34:S96)-1),\"\")","v":""},null,null,null,null,null,null,null,{"$f":"IF(OFFSET(DE104_5B!$T$34,ROWS($T$34:T96)-1,COLUMNS($T$34:T96)-1)<>\"\",OFFSET(DE104_5B!$T$34,ROWS($T$34:T96)-1,COLUMNS($T$34:T96)-1),\"\")","v":""},null,null,null,null,null,null,null,{"$f":"IF(OFFSET(DE104_5B!$U$34,ROWS($U$34:U96)-1,COLUMNS($U$34:U96)-1)<>\"\",OFFSET(DE104_5B!$U$34,ROWS($U$34:U96)-1,COLUMNS($U$34:U96)-1),\"\")","v":""},null,null,null,null,null,null,{"$f":"IF(OFFSET(DE104_5B!$V$34,ROWS($V$34:V96)-1,COLUMNS($V$34:V96)-1)<>\"\",OFFSET(DE104_5B!$V$34,ROWS($V$34:V96)-1,COLUMNS($V$34:V96)-1),\"\")","v":""}]
[null,null,{"$f":"IF(OFFSET(DE104_5B!$A$33,ROWS($A$33:A97)-1,COLUMNS($A$33:A97)-1)<>\"\",OFFSET(DE104_5B!$A$33,ROWS($A$33:A97)-1,COLUMNS($A$33:A97)-1),\"\")","v":""},null,null,null,{"$f":"IF(OFFSET(DE104_5B!$B$33,ROWS($B$33:B97)-1,COLUMNS($B$33:B97)-1)<>\"\",OFFSET(DE104_5B!$B$33,ROWS($B$33:B97)-1,COLUMNS($B$33:B97)-1),\"\")","v":""},null,null,null,null,null,null,null,null,null,null,null,null,null,null,null,null,null,null,{"$f":"IF(OFFSET(DE104_5B!$C$33,ROWS($C$33:C97)-1,COLUMNS($C$33:C97)-1)<>\"\",OFFSET(DE104_5B!$C$33,ROWS($C$33:C97)-1,COLUMNS($C$33:C97)-1),\"\")","v":""},null,null,null,null,null,null,null,null,null,null,null,null,null,null,null,null,null,null,null,null,null,null,null,{"$f":"IF(OFFSET(DE104_5B!$D$33,ROWS($D$33:D97)-1,COLUMNS($D$33:D97)-1)<>\"\",OFFSET(DE104_5B!$D$33,ROWS($D$33:D97)-1,COLUMNS($D$33:D97)-1),\"\")","v":""},null,null,null,null,{"$f":"IF(OFFSET(DE104_5B!$E$33,ROWS($E$33:E97)-1,COLUMNS($E$33:E97)-1)<>\"\",OFFSET(DE104_5B!$E$33,ROWS($E$33:E97)-1,COLUMNS($E$33:E97)-1),\"\")","v":""},null,null,null,null,null,{"$f":"IF(OFFSET(DE104_5B!$F$33,ROWS($F$33:F97)-1,COLUMNS($F$33:F97)-1)<>\"\",OFFSET(DE104_5B!$F$33,ROWS($F$33:F97)-1,COLUMNS($F$33:F97)-1),\"\")","v":""},null,null,null,null,null,null,null,{"$f":"IF(OFFSET(DE104_5B!$G$33,ROWS($G$33:G97)-1,COLUMNS($G$33:G97)-1)<>\"\",OFFSET(DE104_5B!$G$33,ROWS($G$33:G97)-1,COLUMNS($G$33:G97)-1),\"\")","v":""}]
[null,null,null,null,null,null,null,null,null,null,null,null,null,null,null,null,null,null,null,null,null,null,null,null,null,null,null,null,null,null,null,null,null,null,null,null,null,null,null,null,null,null,null,null,null,null,null,null,null,null,null,null,null,null,null,null,null,null,null,null,null,null,null,null,null,null,null,null,null,null,null,null,null,null,null,null,null,null,null,null,null,{"$f":"IF(OFFSET(DE104_5B!$H$34,ROWS($H$34:H98)-1,COLUMNS($H$34:H98)-1)<>\"\",OFFSET(DE104_5B!$H$34,ROWS($H$34:H98)-1,COLUMNS($H$34:H98)-1),\"\")","v":""},null,null,null,null,null,{"$f":"IF(OFFSET(DE104_5B!$I$34,ROWS($I$34:I98)-1,COLUMNS($I$34:I98)-1)<>\"\",OFFSET(DE104_5B!$I$34,ROWS($I$34:I98)-1,COLUMNS($I$34:I98)-1),\"\")","v":""},null,null,null,{"$f":"IF(OFFSET(DE104_5B!$J$34,ROWS($J$34:J98)-1,COLUMNS($J$34:J98)-1)<>\"\",OFFSET(DE104_5B!$J$34,ROWS($J$34:J98)-1,COLUMNS($J$34:J98)-1),\"\")","v":""},null,null,null,{"$f":"IF(OFFSET(DE104_5B!$K$34,ROWS($K$34:K98)-1,COLUMNS($K$34:K98)-1)<>\"\",OFFSET(DE104_5B!$K$34,ROWS($K$34:K98)-1,COLUMNS($K$34:K98)-1),\"\")","v":""},null,null,null,null,{"$f":"IF(OFFSET(DE104_5B!$L$34,ROWS($L$34:L98)-1,COLUMNS($L$34:L98)-1)<>\"\",OFFSET(DE104_5B!$L$34,ROWS($L$34:L98)-1,COLUMNS($L$34:L98)-1),\"\")","v":""},null,null,null,null,null,null,{"$f":"IF(OFFSET(DE104_5B!$M$34,ROWS($M$34:M98)-1,COLUMNS($M$34:M98)-1)<>\"\",OFFSET(DE104_5B!$M$34,ROWS($M$34:M98)-1,COLUMNS($M$34:M98)-1),\"\")","v":""},null,null,null,null,null,{"$f":"IF(OFFSET(DE104_5B!$O$34,ROWS($O$34:O98)-1,COLUMNS($O$34:O98)-1)<>\"\",OFFSET(DE104_5B!$O$34,ROWS($O$34:O98)-1,COLUMNS($O$34:O98)-1),\"\")","v":""},null,null,null,null,null,{"$f":"IF(OFFSET(DE104_5B!$P$34,ROWS($P$34:P98)-1,COLUMNS($P$34:P98)-1)<>\"\",OFFSET(DE104_5B!$P$34,ROWS($P$34:P98)-1,COLUMNS($P$34:P98)-1),\"\")","v":""},null,null,null,null,{"$f":"IF(OFFSET(DE104_5B!$Q$34,ROWS($Q$34:Q98)-1,COLUMNS($Q$34:Q98)-1)<>\"\",OFFSET(DE104_5B!$Q$34,ROWS($Q$34:Q98)-1,COLUMNS($Q$34:Q98)-1),\"\")","v":""},null,null,null,null,null,null,null,null,null,{"$f":"IF(OFFSET(DE104_5B!$R$34,ROWS($R$34:R98)-1,COLUMNS($R$34:R98)-1)<>\"\",OFFSET(DE104_5B!$R$34,ROWS($R$34:R98)-1,COLUMNS($R$34:R98)-1),\"\")","v":""},null,null,null,null,null,null,null,{"$f":"IF(OFFSET(DE104_5B!$S$34,ROWS($S$34:S98)-1,COLUMNS($S$34:S98)-1)<>\"\",OFFSET(DE104_5B!$S$34,ROWS($S$34:S98)-1,COLUMNS($S$34:S98)-1),\"\")","v":""},null,null,null,null,null,null,null,{"$f":"IF(OFFSET(DE104_5B!$T$34,ROWS($T$34:T98)-1,COLUMNS($T$34:T98)-1)<>\"\",OFFSET(DE104_5B!$T$34,ROWS($T$34:T98)-1,COLUMNS($T$34:T98)-1),\"\")","v":""},null,null,null,null,null,null,null,{"$f":"IF(OFFSET(DE104_5B!$U$34,ROWS($U$34:U98)-1,COLUMNS($U$34:U98)-1)<>\"\",OFFSET(DE104_5B!$U$34,ROWS($U$34:U98)-1,COLUMNS($U$34:U98)-1),\"\")","v":""},null,null,null,null,null,null,{"$f":"IF(OFFSET(DE104_5B!$V$34,ROWS($V$34:V98)-1,COLUMNS($V$34:V98)-1)<>\"\",OFFSET(DE104_5B!$V$34,ROWS($V$34:V98)-1,COLUMNS($V$34:V98)-1),\"\")","v":""}]
[null,null,{"$f":"IF(OFFSET(DE104_5B!$A$33,ROWS($A$33:A99)-1,COLUMNS($A$33:A99)-1)<>\"\",OFFSET(DE104_5B!$A$33,ROWS($A$33:A99)-1,COLUMNS($A$33:A99)-1),\"\")","v":""},null,null,null,{"$f":"IF(OFFSET(DE104_5B!$B$33,ROWS($B$33:B99)-1,COLUMNS($B$33:B99)-1)<>\"\",OFFSET(DE104_5B!$B$33,ROWS($B$33:B99)-1,COLUMNS($B$33:B99)-1),\"\")","v":""},null,null,null,null,null,null,null,null,null,null,null,null,null,null,null,null,null,null,{"$f":"IF(OFFSET(DE104_5B!$C$33,ROWS($C$33:C99)-1,COLUMNS($C$33:C99)-1)<>\"\",OFFSET(DE104_5B!$C$33,ROWS($C$33:C99)-1,COLUMNS($C$33:C99)-1),\"\")","v":""},null,null,null,null,null,null,null,null,null,null,null,null,null,null,null,null,null,null,null,null,null,null,null,{"$f":"IF(OFFSET(DE104_5B!$D$33,ROWS($D$33:D99)-1,COLUMNS($D$33:D99)-1)<>\"\",OFFSET(DE104_5B!$D$33,ROWS($D$33:D99)-1,COLUMNS($D$33:D99)-1),\"\")","v":""},null,null,null,null,{"$f":"IF(OFFSET(DE104_5B!$E$33,ROWS($E$33:E99)-1,COLUMNS($E$33:E99)-1)<>\"\",OFFSET(DE104_5B!$E$33,ROWS($E$33:E99)-1,COLUMNS($E$33:E99)-1),\"\")","v":""},null,null,null,null,null,{"$f":"IF(OFFSET(DE104_5B!$F$33,ROWS($F$33:F99)-1,COLUMNS($F$33:F99)-1)<>\"\",OFFSET(DE104_5B!$F$33,ROWS($F$33:F99)-1,COLUMNS($F$33:F99)-1),\"\")","v":""},null,null,null,null,null,null,null,{"$f":"IF(OFFSET(DE104_5B!$G$33,ROWS($G$33:G99)-1,COLUMNS($G$33:G99)-1)<>\"\",OFFSET(DE104_5B!$G$33,ROWS($G$33:G99)-1,COLUMNS($G$33:G99)-1),\"\")","v":""}]
[null,null,null,null,null,null,null,null,null,null,null,null,null,null,null,null,null,null,null,null,null,null,null,null,null,null,null,null,null,null,null,null,null,null,null,null,null,null,null,null,null,null,null,null,null,null,null,null,null,null,null,null,null,null,null,null,null,null,null,null,null,null,null,null,null,null,null,null,null,null,null,null,null,null,null,null,null,null,null,null,null,{"$f":"IF(OFFSET(DE104_5B!$H$34,ROWS($H$34:H100)-1,COLUMNS($H$34:H100)-1)<>\"\",OFFSET(DE104_5B!$H$34,ROWS($H$34:H100)-1,COLUMNS($H$34:H100)-1),\"\")","v":""},null,null,null,null,null,{"$f":"IF(OFFSET(DE104_5B!$I$34,ROWS($I$34:I100)-1,COLUMNS($I$34:I100)-1)<>\"\",OFFSET(DE104_5B!$I$34,ROWS($I$34:I100)-1,COLUMNS($I$34:I100)-1),\"\")","v":""},null,null,null,{"$f":"IF(OFFSET(DE104_5B!$J$34,ROWS($J$34:J100)-1,COLUMNS($J$34:J100)-1)<>\"\",OFFSET(DE104_5B!$J$34,ROWS($J$34:J100)-1,COLUMNS($J$34:J100)-1),\"\")","v":""},null,null,null,{"$f":"IF(OFFSET(DE104_5B!$K$34,ROWS($K$34:K100)-1,COLUMNS($K$34:K100)-1)<>\"\",OFFSET(DE104_5B!$K$34,ROWS($K$34:K100)-1,COLUMNS($K$34:K100)-1),\"\")","v":""},null,null,null,null,{"$f":"IF(OFFSET(DE104_5B!$L$34,ROWS($L$34:L100)-1,COLUMNS($L$34:L100)-1)<>\"\",OFFSET(DE104_5B!$L$34,ROWS($L$34:L100)-1,COLUMNS($L$34:L100)-1),\"\")","v":""},null,null,null,null,null,null,{"$f":"IF(OFFSET(DE104_5B!$M$34,ROWS($M$34:M100)-1,COLUMNS($M$34:M100)-1)<>\"\",OFFSET(DE104_5B!$M$34,ROWS($M$34:M100)-1,COLUMNS($M$34:M100)-1),\"\")","v":""},null,null,null,null,null,{"$f":"IF(OFFSET(DE104_5B!$O$34,ROWS($O$34:O100)-1,COLUMNS($O$34:O100)-1)<>\"\",OFFSET(DE104_5B!$O$34,ROWS($O$34:O100)-1,COLUMNS($O$34:O100)-1),\"\")","v":""},null,null,null,null,null,{"$f":"IF(OFFSET(DE104_5B!$P$34,ROWS($P$34:P100)-1,COLUMNS($P$34:P100)-1)<>\"\",OFFSET(DE104_5B!$P$34,ROWS($P$34:P100)-1,COLUMNS($P$34:P100)-1),\"\")","v":""},null,null,null,null,{"$f":"IF(OFFSET(DE104_5B!$Q$34,ROWS($Q$34:Q100)-1,COLUMNS($Q$34:Q100)-1)<>\"\",OFFSET(DE104_5B!$Q$34,ROWS($Q$34:Q100)-1,COLUMNS($Q$34:Q100)-1),\"\")","v":""},null,null,null,null,null,null,null,null,null,{"$f":"IF(OFFSET(DE104_5B!$R$34,ROWS($R$34:R100)-1,COLUMNS($R$34:R100)-1)<>\"\",OFFSET(DE104_5B!$R$34,ROWS($R$34:R100)-1,COLUMNS($R$34:R100)-1),\"\")","v":""},null,null,null,null,null,null,null,{"$f":"IF(OFFSET(DE104_5B!$S$34,ROWS($S$34:S100)-1,COLUMNS($S$34:S100)-1)<>\"\",OFFSET(DE104_5B!$S$34,ROWS($S$34:S100)-1,COLUMNS($S$34:S100)-1),\"\")","v":""},null,null,null,null,null,null,null,{"$f":"IF(OFFSET(DE104_5B!$T$34,ROWS($T$34:T100)-1,COLUMNS($T$34:T100)-1)<>\"\",OFFSET(DE104_5B!$T$34,ROWS($T$34:T100)-1,COLUMNS($T$34:T100)-1),\"\")","v":""},null,null,null,null,null,null,null,{"$f":"IF(OFFSET(DE104_5B!$U$34,ROWS($U$34:U100)-1,COLUMNS($U$34:U100)-1)<>\"\",OFFSET(DE104_5B!$U$34,ROWS($U$34:U100)-1,COLUMNS($U$34:U100)-1),\"\")","v":""},null,null,null,null,null,null,{"$f":"IF(OFFSET(DE104_5B!$V$34,ROWS($V$34:V100)-1,COLUMNS($V$34:V100)-1)<>\"\",OFFSET(DE104_5B!$V$34,ROWS($V$34:V100)-1,COLUMNS($V$34:V100)-1),\"\")","v":""}]
[null,null,{"$f":"IF(OFFSET(DE104_5B!$A$33,ROWS($A$33:A101)-1,COLUMNS($A$33:A101)-1)<>\"\",OFFSET(DE104_5B!$A$33,ROWS($A$33:A101)-1,COLUMNS($A$33:A101)-1),\"\")","v":""},null,null,null,{"$f":"IF(OFFSET(DE104_5B!$B$33,ROWS($B$33:B101)-1,COLUMNS($B$33:B101)-1)<>\"\",OFFSET(DE104_5B!$B$33,ROWS($B$33:B101)-1,COLUMNS($B$33:B101)-1),\"\")","v":""},null,null,null,null,null,null,null,null,null,null,null,null,null,null,null,null,null,null,{"$f":"IF(OFFSET(DE104_5B!$C$33,ROWS($C$33:C101)-1,COLUMNS($C$33:C101)-1)<>\"\",OFFSET(DE104_5B!$C$33,ROWS($C$33:C101)-1,COLUMNS($C$33:C101)-1),\"\")","v":""},null,null,null,null,null,null,null,null,null,null,null,null,null,null,null,null,null,null,null,null,null,null,null,{"$f":"IF(OFFSET(DE104_5B!$D$33,ROWS($D$33:D101)-1,COLUMNS($D$33:D101)-1)<>\"\",OFFSET(DE104_5B!$D$33,ROWS($D$33:D101)-1,COLUMNS($D$33:D101)-1),\"\")","v":""},null,null,null,null,{"$f":"IF(OFFSET(DE104_5B!$E$33,ROWS($E$33:E101)-1,COLUMNS($E$33:E101)-1)<>\"\",OFFSET(DE104_5B!$E$33,ROWS($E$33:E101)-1,COLUMNS($E$33:E101)-1),\"\")","v":""},null,null,null,null,null,{"$f":"IF(OFFSET(DE104_5B!$F$33,ROWS($F$33:F101)-1,COLUMNS($F$33:F101)-1)<>\"\",OFFSET(DE104_5B!$F$33,ROWS($F$33:F101)-1,COLUMNS($F$33:F101)-1),\"\")","v":""},null,null,null,null,null,null,null,{"$f":"IF(OFFSET(DE104_5B!$G$33,ROWS($G$33:G101)-1,COLUMNS($G$33:G101)-1)<>\"\",OFFSET(DE104_5B!$G$33,ROWS($G$33:G101)-1,COLUMNS($G$33:G101)-1),\"\")","v":""}]
[null,null,null,null,null,null,null,null,null,null,null,null,null,null,null,null,null,null,null,null,null,null,null,null,null,null,null,null,null,null,null,null,null,null,null,null,null,null,null,null,null,null,null,null,null,null,null,null,null,null,null,null,null,null,null,null,null,null,null,null,null,null,null,null,null,null,null,null,null,null,null,null,null,null,null,null,null,null,null,null,null,{"$f":"IF(OFFSET(DE104_5B!$H$34,ROWS($H$34:H102)-1,COLUMNS($H$34:H102)-1)<>\"\",OFFSET(DE104_5B!$H$34,ROWS($H$34:H102)-1,COLUMNS($H$34:H102)-1),\"\")","v":""},null,null,null,null,null,{"$f":"IF(OFFSET(DE104_5B!$I$34,ROWS($I$34:I102)-1,COLUMNS($I$34:I102)-1)<>\"\",OFFSET(DE104_5B!$I$34,ROWS($I$34:I102)-1,COLUMNS($I$34:I102)-1),\"\")","v":""},null,null,null,{"$f":"IF(OFFSET(DE104_5B!$J$34,ROWS($J$34:J102)-1,COLUMNS($J$34:J102)-1)<>\"\",OFFSET(DE104_5B!$J$34,ROWS($J$34:J102)-1,COLUMNS($J$34:J102)-1),\"\")","v":""},null,null,null,{"$f":"IF(OFFSET(DE104_5B!$K$34,ROWS($K$34:K102)-1,COLUMNS($K$34:K102)-1)<>\"\",OFFSET(DE104_5B!$K$34,ROWS($K$34:K102)-1,COLUMNS($K$34:K102)-1),\"\")","v":""},null,null,null,null,{"$f":"IF(OFFSET(DE104_5B!$L$34,ROWS($L$34:L102)-1,COLUMNS($L$34:L102)-1)<>\"\",OFFSET(DE104_5B!$L$34,ROWS($L$34:L102)-1,COLUMNS($L$34:L102)-1),\"\")","v":""},null,null,null,null,null,null,{"$f":"IF(OFFSET(DE104_5B!$M$34,ROWS($M$34:M102)-1,COLUMNS($M$34:M102)-1)<>\"\",OFFSET(DE104_5B!$M$34,ROWS($M$34:M102)-1,COLUMNS($M$34:M102)-1),\"\")","v":""},null,null,null,null,null,{"$f":"IF(OFFSET(DE104_5B!$O$34,ROWS($O$34:O102)-1,COLUMNS($O$34:O102)-1)<>\"\",OFFSET(DE104_5B!$O$34,ROWS($O$34:O102)-1,COLUMNS($O$34:O102)-1),\"\")","v":""},null,null,null,null,null,{"$f":"IF(OFFSET(DE104_5B!$P$34,ROWS($P$34:P102)-1,COLUMNS($P$34:P102)-1)<>\"\",OFFSET(DE104_5B!$P$34,ROWS($P$34:P102)-1,COLUMNS($P$34:P102)-1),\"\")","v":""},null,null,null,null,{"$f":"IF(OFFSET(DE104_5B!$Q$34,ROWS($Q$34:Q102)-1,COLUMNS($Q$34:Q102)-1)<>\"\",OFFSET(DE104_5B!$Q$34,ROWS($Q$34:Q102)-1,COLUMNS($Q$34:Q102)-1),\"\")","v":""},null,null,null,null,null,null,null,null,null,{"$f":"IF(OFFSET(DE104_5B!$R$34,ROWS($R$34:R102)-1,COLUMNS($R$34:R102)-1)<>\"\",OFFSET(DE104_5B!$R$34,ROWS($R$34:R102)-1,COLUMNS($R$34:R102)-1),\"\")","v":""},null,null,null,null,null,null,null,{"$f":"IF(OFFSET(DE104_5B!$S$34,ROWS($S$34:S102)-1,COLUMNS($S$34:S102)-1)<>\"\",OFFSET(DE104_5B!$S$34,ROWS($S$34:S102)-1,COLUMNS($S$34:S102)-1),\"\")","v":""},null,null,null,null,null,null,null,{"$f":"IF(OFFSET(DE104_5B!$T$34,ROWS($T$34:T102)-1,COLUMNS($T$34:T102)-1)<>\"\",OFFSET(DE104_5B!$T$34,ROWS($T$34:T102)-1,COLUMNS($T$34:T102)-1),\"\")","v":""},null,null,null,null,null,null,null,{"$f":"IF(OFFSET(DE104_5B!$U$34,ROWS($U$34:U102)-1,COLUMNS($U$34:U102)-1)<>\"\",OFFSET(DE104_5B!$U$34,ROWS($U$34:U102)-1,COLUMNS($U$34:U102)-1),\"\")","v":""},null,null,null,null,null,null,{"$f":"IF(OFFSET(DE104_5B!$V$34,ROWS($V$34:V102)-1,COLUMNS($V$34:V102)-1)<>\"\",OFFSET(DE104_5B!$V$34,ROWS($V$34:V102)-1,COLUMNS($V$34:V102)-1),\"\")","v":""}]
[null,null,{"$f":"IF(OFFSET(DE104_5B!$A$33,ROWS($A$33:A103)-1,COLUMNS($A$33:A103)-1)<>\"\",OFFSET(DE104_5B!$A$33,ROWS($A$33:A103)-1,COLUMNS($A$33:A103)-1),\"\")","v":""},null,null,null,{"$f":"IF(OFFSET(DE104_5B!$B$33,ROWS($B$33:B103)-1,COLUMNS($B$33:B103)-1)<>\"\",OFFSET(DE104_5B!$B$33,ROWS($B$33:B103)-1,COLUMNS($B$33:B103)-1),\"\")","v":""},null,null,null,null,null,null,null,null,null,null,null,null,null,null,null,null,null,null,{"$f":"IF(OFFSET(DE104_5B!$C$33,ROWS($C$33:C103)-1,COLUMNS($C$33:C103)-1)<>\"\",OFFSET(DE104_5B!$C$33,ROWS($C$33:C103)-1,COLUMNS($C$33:C103)-1),\"\")","v":""},null,null,null,null,null,null,null,null,null,null,null,null,null,null,null,null,null,null,null,null,null,null,null,{"$f":"IF(OFFSET(DE104_5B!$D$33,ROWS($D$33:D103)-1,COLUMNS($D$33:D103)-1)<>\"\",OFFSET(DE104_5B!$D$33,ROWS($D$33:D103)-1,COLUMNS($D$33:D103)-1),\"\")","v":""},null,null,null,null,{"$f":"IF(OFFSET(DE104_5B!$E$33,ROWS($E$33:E103)-1,COLUMNS($E$33:E103)-1)<>\"\",OFFSET(DE104_5B!$E$33,ROWS($E$33:E103)-1,COLUMNS($E$33:E103)-1),\"\")","v":""},null,null,null,null,null,{"$f":"IF(OFFSET(DE104_5B!$F$33,ROWS($F$33:F103)-1,COLUMNS($F$33:F103)-1)<>\"\",OFFSET(DE104_5B!$F$33,ROWS($F$33:F103)-1,COLUMNS($F$33:F103)-1),\"\")","v":""},null,null,null,null,null,null,null,{"$f":"IF(OFFSET(DE104_5B!$G$33,ROWS($G$33:G103)-1,COLUMNS($G$33:G103)-1)<>\"\",OFFSET(DE104_5B!$G$33,ROWS($G$33:G103)-1,COLUMNS($G$33:G103)-1),\"\")","v":""}]
[null,null,null,null,null,null,null,null,null,null,null,null,null,null,null,null,null,null,null,null,null,null,null,null,null,null,null,null,null,null,null,null,null,null,null,null,null,null,null,null,null,null,null,null,null,null,null,null,null,null,null,null,null,null,null,null,null,null,null,null,null,null,null,null,null,null,null,null,null,null,null,null,null,null,null,null,null,null,null,null,null,{"$f":"IF(OFFSET(DE104_5B!$H$34,ROWS($H$34:H104)-1,COLUMNS($H$34:H104)-1)<>\"\",OFFSET(DE104_5B!$H$34,ROWS($H$34:H104)-1,COLUMNS($H$34:H104)-1),\"\")","v":""},null,null,null,null,null,{"$f":"IF(OFFSET(DE104_5B!$I$34,ROWS($I$34:I104)-1,COLUMNS($I$34:I104)-1)<>\"\",OFFSET(DE104_5B!$I$34,ROWS($I$34:I104)-1,COLUMNS($I$34:I104)-1),\"\")","v":""},null,null,null,{"$f":"IF(OFFSET(DE104_5B!$J$34,ROWS($J$34:J104)-1,COLUMNS($J$34:J104)-1)<>\"\",OFFSET(DE104_5B!$J$34,ROWS($J$34:J104)-1,COLUMNS($J$34:J104)-1),\"\")","v":""},null,null,null,{"$f":"IF(OFFSET(DE104_5B!$K$34,ROWS($K$34:K104)-1,COLUMNS($K$34:K104)-1)<>\"\",OFFSET(DE104_5B!$K$34,ROWS($K$34:K104)-1,COLUMNS($K$34:K104)-1),\"\")","v":""},null,null,null,null,{"$f":"IF(OFFSET(DE104_5B!$L$34,ROWS($L$34:L104)-1,COLUMNS($L$34:L104)-1)<>\"\",OFFSET(DE104_5B!$L$34,ROWS($L$34:L104)-1,COLUMNS($L$34:L104)-1),\"\")","v":""},null,null,null,null,null,null,{"$f":"IF(OFFSET(DE104_5B!$M$34,ROWS($M$34:M104)-1,COLUMNS($M$34:M104)-1)<>\"\",OFFSET(DE104_5B!$M$34,ROWS($M$34:M104)-1,COLUMNS($M$34:M104)-1),\"\")","v":""},null,null,null,null,null,{"$f":"IF(OFFSET(DE104_5B!$O$34,ROWS($O$34:O104)-1,COLUMNS($O$34:O104)-1)<>\"\",OFFSET(DE104_5B!$O$34,ROWS($O$34:O104)-1,COLUMNS($O$34:O104)-1),\"\")","v":""},null,null,null,null,null,{"$f":"IF(OFFSET(DE104_5B!$P$34,ROWS($P$34:P104)-1,COLUMNS($P$34:P104)-1)<>\"\",OFFSET(DE104_5B!$P$34,ROWS($P$34:P104)-1,COLUMNS($P$34:P104)-1),\"\")","v":""},null,null,null,null,{"$f":"IF(OFFSET(DE104_5B!$Q$34,ROWS($Q$34:Q104)-1,COLUMNS($Q$34:Q104)-1)<>\"\",OFFSET(DE104_5B!$Q$34,ROWS($Q$34:Q104)-1,COLUMNS($Q$34:Q104)-1),\"\")","v":""},null,null,null,null,null,null,null,null,null,{"$f":"IF(OFFSET(DE104_5B!$R$34,ROWS($R$34:R104)-1,COLUMNS($R$34:R104)-1)<>\"\",OFFSET(DE104_5B!$R$34,ROWS($R$34:R104)-1,COLUMNS($R$34:R104)-1),\"\")","v":""},null,null,null,null,null,null,null,{"$f":"IF(OFFSET(DE104_5B!$S$34,ROWS($S$34:S104)-1,COLUMNS($S$34:S104)-1)<>\"\",OFFSET(DE104_5B!$S$34,ROWS($S$34:S104)-1,COLUMNS($S$34:S104)-1),\"\")","v":""},null,null,null,null,null,null,null,{"$f":"IF(OFFSET(DE104_5B!$T$34,ROWS($T$34:T104)-1,COLUMNS($T$34:T104)-1)<>\"\",OFFSET(DE104_5B!$T$34,ROWS($T$34:T104)-1,COLUMNS($T$34:T104)-1),\"\")","v":""},null,null,null,null,null,null,null,{"$f":"IF(OFFSET(DE104_5B!$U$34,ROWS($U$34:U104)-1,COLUMNS($U$34:U104)-1)<>\"\",OFFSET(DE104_5B!$U$34,ROWS($U$34:U104)-1,COLUMNS($U$34:U104)-1),\"\")","v":""},null,null,null,null,null,null,{"$f":"IF(OFFSET(DE104_5B!$V$34,ROWS($V$34:V104)-1,COLUMNS($V$34:V104)-1)<>\"\",OFFSET(DE104_5B!$V$34,ROWS($V$34:V104)-1,COLUMNS($V$34:V104)-1),\"\")","v":""}]
[null,null,{"$f":"IF(OFFSET(DE104_5B!$A$33,ROWS($A$33:A105)-1,COLUMNS($A$33:A105)-1)<>\"\",OFFSET(DE104_5B!$A$33,ROWS($A$33:A105)-1,COLUMNS($A$33:A105)-1),\"\")","v":""},null,null,null,{"$f":"IF(OFFSET(DE104_5B!$B$33,ROWS($B$33:B105)-1,COLUMNS($B$33:B105)-1)<>\"\",OFFSET(DE104_5B!$B$33,ROWS($B$33:B105)-1,COLUMNS($B$33:B105)-1),\"\")","v":""},null,null,null,null,null,null,null,null,null,null,null,null,null,null,null,null,null,null,{"$f":"IF(OFFSET(DE104_5B!$C$33,ROWS($C$33:C105)-1,COLUMNS($C$33:C105)-1)<>\"\",OFFSET(DE104_5B!$C$33,ROWS($C$33:C105)-1,COLUMNS($C$33:C105)-1),\"\")","v":""},null,null,null,null,null,null,null,null,null,null,null,null,null,null,null,null,null,null,null,null,null,null,null,{"$f":"IF(OFFSET(DE104_5B!$D$33,ROWS($D$33:D105)-1,COLUMNS($D$33:D105)-1)<>\"\",OFFSET(DE104_5B!$D$33,ROWS($D$33:D105)-1,COLUMNS($D$33:D105)-1),\"\")","v":""},null,null,null,null,{"$f":"IF(OFFSET(DE104_5B!$E$33,ROWS($E$33:E105)-1,COLUMNS($E$33:E105)-1)<>\"\",OFFSET(DE104_5B!$E$33,ROWS($E$33:E105)-1,COLUMNS($E$33:E105)-1),\"\")","v":""},null,null,null,null,null,{"$f":"IF(OFFSET(DE104_5B!$F$33,ROWS($F$33:F105)-1,COLUMNS($F$33:F105)-1)<>\"\",OFFSET(DE104_5B!$F$33,ROWS($F$33:F105)-1,COLUMNS($F$33:F105)-1),\"\")","v":""},null,null,null,null,null,null,null,{"$f":"IF(OFFSET(DE104_5B!$G$33,ROWS($G$33:G105)-1,COLUMNS($G$33:G105)-1)<>\"\",OFFSET(DE104_5B!$G$33,ROWS($G$33:G105)-1,COLUMNS($G$33:G105)-1),\"\")","v":""}]
[null,null,null,null,null,null,null,null,null,null,null,null,null,null,null,null,null,null,null,null,null,null,null,null,null,null,null,null,null,null,null,null,null,null,null,null,null,null,null,null,null,null,null,null,null,null,null,null,null,null,null,null,null,null,null,null,null,null,null,null,null,null,null,null,null,null,null,null,null,null,null,null,null,null,null,null,null,null,null,null,null,{"$f":"IF(OFFSET(DE104_5B!$H$34,ROWS($H$34:H106)-1,COLUMNS($H$34:H106)-1)<>\"\",OFFSET(DE104_5B!$H$34,ROWS($H$34:H106)-1,COLUMNS($H$34:H106)-1),\"\")","v":""},null,null,null,null,null,{"$f":"IF(OFFSET(DE104_5B!$I$34,ROWS($I$34:I106)-1,COLUMNS($I$34:I106)-1)<>\"\",OFFSET(DE104_5B!$I$34,ROWS($I$34:I106)-1,COLUMNS($I$34:I106)-1),\"\")","v":""},null,null,null,{"$f":"IF(OFFSET(DE104_5B!$J$34,ROWS($J$34:J106)-1,COLUMNS($J$34:J106)-1)<>\"\",OFFSET(DE104_5B!$J$34,ROWS($J$34:J106)-1,COLUMNS($J$34:J106)-1),\"\")","v":""},null,null,null,{"$f":"IF(OFFSET(DE104_5B!$K$34,ROWS($K$34:K106)-1,COLUMNS($K$34:K106)-1)<>\"\",OFFSET(DE104_5B!$K$34,ROWS($K$34:K106)-1,COLUMNS($K$34:K106)-1),\"\")","v":""},null,null,null,null,{"$f":"IF(OFFSET(DE104_5B!$L$34,ROWS($L$34:L106)-1,COLUMNS($L$34:L106)-1)<>\"\",OFFSET(DE104_5B!$L$34,ROWS($L$34:L106)-1,COLUMNS($L$34:L106)-1),\"\")","v":""},null,null,null,null,null,null,{"$f":"IF(OFFSET(DE104_5B!$M$34,ROWS($M$34:M106)-1,COLUMNS($M$34:M106)-1)<>\"\",OFFSET(DE104_5B!$M$34,ROWS($M$34:M106)-1,COLUMNS($M$34:M106)-1),\"\")","v":""},null,null,null,null,null,{"$f":"IF(OFFSET(DE104_5B!$O$34,ROWS($O$34:O106)-1,COLUMNS($O$34:O106)-1)<>\"\",OFFSET(DE104_5B!$O$34,ROWS($O$34:O106)-1,COLUMNS($O$34:O106)-1),\"\")","v":""},null,null,null,null,null,{"$f":"IF(OFFSET(DE104_5B!$P$34,ROWS($P$34:P106)-1,COLUMNS($P$34:P106)-1)<>\"\",OFFSET(DE104_5B!$P$34,ROWS($P$34:P106)-1,COLUMNS($P$34:P106)-1),\"\")","v":""},null,null,null,null,{"$f":"IF(OFFSET(DE104_5B!$Q$34,ROWS($Q$34:Q106)-1,COLUMNS($Q$34:Q106)-1)<>\"\",OFFSET(DE104_5B!$Q$34,ROWS($Q$34:Q106)-1,COLUMNS($Q$34:Q106)-1),\"\")","v":""},null,null,null,null,null,null,null,null,null,{"$f":"IF(OFFSET(DE104_5B!$R$34,ROWS($R$34:R106)-1,COLUMNS($R$34:R106)-1)<>\"\",OFFSET(DE104_5B!$R$34,ROWS($R$34:R106)-1,COLUMNS($R$34:R106)-1),\"\")","v":""},null,null,null,null,null,null,null,{"$f":"IF(OFFSET(DE104_5B!$S$34,ROWS($S$34:S106)-1,COLUMNS($S$34:S106)-1)<>\"\",OFFSET(DE104_5B!$S$34,ROWS($S$34:S106)-1,COLUMNS($S$34:S106)-1),\"\")","v":""},null,null,null,null,null,null,null,{"$f":"IF(OFFSET(DE104_5B!$T$34,ROWS($T$34:T106)-1,COLUMNS($T$34:T106)-1)<>\"\",OFFSET(DE104_5B!$T$34,ROWS($T$34:T106)-1,COLUMNS($T$34:T106)-1),\"\")","v":""},null,null,null,null,null,null,null,{"$f":"IF(OFFSET(DE104_5B!$U$34,ROWS($U$34:U106)-1,COLUMNS($U$34:U106)-1)<>\"\",OFFSET(DE104_5B!$U$34,ROWS($U$34:U106)-1,COLUMNS($U$34:U106)-1),\"\")","v":""},null,null,null,null,null,null,{"$f":"IF(OFFSET(DE104_5B!$V$34,ROWS($V$34:V106)-1,COLUMNS($V$34:V106)-1)<>\"\",OFFSET(DE104_5B!$V$34,ROWS($V$34:V106)-1,COLUMNS($V$34:V106)-1),\"\")","v":""}]
[null,null,{"$f":"IF(OFFSET(DE104_5B!$A$33,ROWS($A$33:A107)-1,COLUMNS($A$33:A107)-1)<>\"\",OFFSET(DE104_5B!$A$33,ROWS($A$33:A107)-1,COLUMNS($A$33:A107)-1),\"\")","v":""},null,null,null,{"$f":"IF(OFFSET(DE104_5B!$B$33,ROWS($B$33:B107)-1,COLUMNS($B$33:B107)-1)<>\"\",OFFSET(DE104_5B!$B$33,ROWS($B$33:B107)-1,COLUMNS($B$33:B107)-1),\"\")","v":""},null,null,null,null,null,null,null,null,null,null,null,null,null,null,null,null,null,null,{"$f":"IF(OFFSET(DE104_5B!$C$33,ROWS($C$33:C107)-1,COLUMNS($C$33:C107)-1)<>\"\",OFFSET(DE104_5B!$C$33,ROWS($C$33:C107)-1,COLUMNS($C$33:C107)-1),\"\")","v":""},null,null,null,null,null,null,null,null,null,null,null,null,null,null,null,null,null,null,null,null,null,null,null,{"$f":"IF(OFFSET(DE104_5B!$D$33,ROWS($D$33:D107)-1,COLUMNS($D$33:D107)-1)<>\"\",OFFSET(DE104_5B!$D$33,ROWS($D$33:D107)-1,COLUMNS($D$33:D107)-1),\"\")","v":""},null,null,null,null,{"$f":"IF(OFFSET(DE104_5B!$E$33,ROWS($E$33:E107)-1,COLUMNS($E$33:E107)-1)<>\"\",OFFSET(DE104_5B!$E$33,ROWS($E$33:E107)-1,COLUMNS($E$33:E107)-1),\"\")","v":""},null,null,null,null,null,{"$f":"IF(OFFSET(DE104_5B!$F$33,ROWS($F$33:F107)-1,COLUMNS($F$33:F107)-1)<>\"\",OFFSET(DE104_5B!$F$33,ROWS($F$33:F107)-1,COLUMNS($F$33:F107)-1),\"\")","v":""},null,null,null,null,null,null,null,{"$f":"IF(OFFSET(DE104_5B!$G$33,ROWS($G$33:G107)-1,COLUMNS($G$33:G107)-1)<>\"\",OFFSET(DE104_5B!$G$33,ROWS($G$33:G107)-1,COLUMNS($G$33:G107)-1),\"\")","v":""}]
[null,null,null,null,null,null,null,null,null,null,null,null,null,null,null,null,null,null,null,null,null,null,null,null,null,null,null,null,null,null,null,null,null,null,null,null,null,null,null,null,null,null,null,null,null,null,null,null,null,null,null,null,null,null,null,null,null,null,null,null,null,null,null,null,null,null,null,null,null,null,null,null,null,null,null,null,null,null,null,null,null,{"$f":"IF(OFFSET(DE104_5B!$H$34,ROWS($H$34:H108)-1,COLUMNS($H$34:H108)-1)<>\"\",OFFSET(DE104_5B!$H$34,ROWS($H$34:H108)-1,COLUMNS($H$34:H108)-1),\"\")","v":""},null,null,null,null,null,{"$f":"IF(OFFSET(DE104_5B!$I$34,ROWS($I$34:I108)-1,COLUMNS($I$34:I108)-1)<>\"\",OFFSET(DE104_5B!$I$34,ROWS($I$34:I108)-1,COLUMNS($I$34:I108)-1),\"\")","v":""},null,null,null,{"$f":"IF(OFFSET(DE104_5B!$J$34,ROWS($J$34:J108)-1,COLUMNS($J$34:J108)-1)<>\"\",OFFSET(DE104_5B!$J$34,ROWS($J$34:J108)-1,COLUMNS($J$34:J108)-1),\"\")","v":""},null,null,null,{"$f":"IF(OFFSET(DE104_5B!$K$34,ROWS($K$34:K108)-1,COLUMNS($K$34:K108)-1)<>\"\",OFFSET(DE104_5B!$K$34,ROWS($K$34:K108)-1,COLUMNS($K$34:K108)-1),\"\")","v":""},null,null,null,null,{"$f":"IF(OFFSET(DE104_5B!$L$34,ROWS($L$34:L108)-1,COLUMNS($L$34:L108)-1)<>\"\",OFFSET(DE104_5B!$L$34,ROWS($L$34:L108)-1,COLUMNS($L$34:L108)-1),\"\")","v":""},null,null,null,null,null,null,{"$f":"IF(OFFSET(DE104_5B!$M$34,ROWS($M$34:M108)-1,COLUMNS($M$34:M108)-1)<>\"\",OFFSET(DE104_5B!$M$34,ROWS($M$34:M108)-1,COLUMNS($M$34:M108)-1),\"\")","v":""},null,null,null,null,null,{"$f":"IF(OFFSET(DE104_5B!$O$34,ROWS($O$34:O108)-1,COLUMNS($O$34:O108)-1)<>\"\",OFFSET(DE104_5B!$O$34,ROWS($O$34:O108)-1,COLUMNS($O$34:O108)-1),\"\")","v":""},null,null,null,null,null,{"$f":"IF(OFFSET(DE104_5B!$P$34,ROWS($P$34:P108)-1,COLUMNS($P$34:P108)-1)<>\"\",OFFSET(DE104_5B!$P$34,ROWS($P$34:P108)-1,COLUMNS($P$34:P108)-1),\"\")","v":""},null,null,null,null,{"$f":"IF(OFFSET(DE104_5B!$Q$34,ROWS($Q$34:Q108)-1,COLUMNS($Q$34:Q108)-1)<>\"\",OFFSET(DE104_5B!$Q$34,ROWS($Q$34:Q108)-1,COLUMNS($Q$34:Q108)-1),\"\")","v":""},null,null,null,null,null,null,null,null,null,{"$f":"IF(OFFSET(DE104_5B!$R$34,ROWS($R$34:R108)-1,COLUMNS($R$34:R108)-1)<>\"\",OFFSET(DE104_5B!$R$34,ROWS($R$34:R108)-1,COLUMNS($R$34:R108)-1),\"\")","v":""},null,null,null,null,null,null,null,{"$f":"IF(OFFSET(DE104_5B!$S$34,ROWS($S$34:S108)-1,COLUMNS($S$34:S108)-1)<>\"\",OFFSET(DE104_5B!$S$34,ROWS($S$34:S108)-1,COLUMNS($S$34:S108)-1),\"\")","v":""},null,null,null,null,null,null,null,{"$f":"IF(OFFSET(DE104_5B!$T$34,ROWS($T$34:T108)-1,COLUMNS($T$34:T108)-1)<>\"\",OFFSET(DE104_5B!$T$34,ROWS($T$34:T108)-1,COLUMNS($T$34:T108)-1),\"\")","v":""},null,null,null,null,null,null,null,{"$f":"IF(OFFSET(DE104_5B!$U$34,ROWS($U$34:U108)-1,COLUMNS($U$34:U108)-1)<>\"\",OFFSET(DE104_5B!$U$34,ROWS($U$34:U108)-1,COLUMNS($U$34:U108)-1),\"\")","v":""},null,null,null,null,null,null,{"$f":"IF(OFFSET(DE104_5B!$V$34,ROWS($V$34:V108)-1,COLUMNS($V$34:V108)-1)<>\"\",OFFSET(DE104_5B!$V$34,ROWS($V$34:V108)-1,COLUMNS($V$34:V108)-1),\"\")","v":""}]
[null,null,{"$f":"IF(OFFSET(DE104_5B!$A$33,ROWS($A$33:A109)-1,COLUMNS($A$33:A109)-1)<>\"\",OFFSET(DE104_5B!$A$33,ROWS($A$33:A109)-1,COLUMNS($A$33:A109)-1),\"\")","v":""},null,null,null,{"$f":"IF(OFFSET(DE104_5B!$B$33,ROWS($B$33:B109)-1,COLUMNS($B$33:B109)-1)<>\"\",OFFSET(DE104_5B!$B$33,ROWS($B$33:B109)-1,COLUMNS($B$33:B109)-1),\"\")","v":""},null,null,null,null,null,null,null,null,null,null,null,null,null,null,null,null,null,null,{"$f":"IF(OFFSET(DE104_5B!$C$33,ROWS($C$33:C109)-1,COLUMNS($C$33:C109)-1)<>\"\",OFFSET(DE104_5B!$C$33,ROWS($C$33:C109)-1,COLUMNS($C$33:C109)-1),\"\")","v":""},null,null,null,null,null,null,null,null,null,null,null,null,null,null,null,null,null,null,null,null,null,null,null,{"$f":"IF(OFFSET(DE104_5B!$D$33,ROWS($D$33:D109)-1,COLUMNS($D$33:D109)-1)<>\"\",OFFSET(DE104_5B!$D$33,ROWS($D$33:D109)-1,COLUMNS($D$33:D109)-1),\"\")","v":""},null,null,null,null,{"$f":"IF(OFFSET(DE104_5B!$E$33,ROWS($E$33:E109)-1,COLUMNS($E$33:E109)-1)<>\"\",OFFSET(DE104_5B!$E$33,ROWS($E$33:E109)-1,COLUMNS($E$33:E109)-1),\"\")","v":""},null,null,null,null,null,{"$f":"IF(OFFSET(DE104_5B!$F$33,ROWS($F$33:F109)-1,COLUMNS($F$33:F109)-1)<>\"\",OFFSET(DE104_5B!$F$33,ROWS($F$33:F109)-1,COLUMNS($F$33:F109)-1),\"\")","v":""},null,null,null,null,null,null,null,{"$f":"IF(OFFSET(DE104_5B!$G$33,ROWS($G$33:G109)-1,COLUMNS($G$33:G109)-1)<>\"\",OFFSET(DE104_5B!$G$33,ROWS($G$33:G109)-1,COLUMNS($G$33:G109)-1),\"\")","v":""}]
[null,null,null,null,null,null,null,null,null,null,null,null,null,null,null,null,null,null,null,null,null,null,null,null,null,null,null,null,null,null,null,null,null,null,null,null,null,null,null,null,null,null,null,null,null,null,null,null,null,null,null,null,null,null,null,null,null,null,null,null,null,null,null,null,null,null,null,null,null,null,null,null,null,null,null,null,null,null,null,null,null,{"$f":"IF(OFFSET(DE104_5B!$H$34,ROWS($H$34:H110)-1,COLUMNS($H$34:H110)-1)<>\"\",OFFSET(DE104_5B!$H$34,ROWS($H$34:H110)-1,COLUMNS($H$34:H110)-1),\"\")","v":""},null,null,null,null,null,{"$f":"IF(OFFSET(DE104_5B!$I$34,ROWS($I$34:I110)-1,COLUMNS($I$34:I110)-1)<>\"\",OFFSET(DE104_5B!$I$34,ROWS($I$34:I110)-1,COLUMNS($I$34:I110)-1),\"\")","v":""},null,null,null,{"$f":"IF(OFFSET(DE104_5B!$J$34,ROWS($J$34:J110)-1,COLUMNS($J$34:J110)-1)<>\"\",OFFSET(DE104_5B!$J$34,ROWS($J$34:J110)-1,COLUMNS($J$34:J110)-1),\"\")","v":""},null,null,null,{"$f":"IF(OFFSET(DE104_5B!$K$34,ROWS($K$34:K110)-1,COLUMNS($K$34:K110)-1)<>\"\",OFFSET(DE104_5B!$K$34,ROWS($K$34:K110)-1,COLUMNS($K$34:K110)-1),\"\")","v":""},null,null,null,null,{"$f":"IF(OFFSET(DE104_5B!$L$34,ROWS($L$34:L110)-1,COLUMNS($L$34:L110)-1)<>\"\",OFFSET(DE104_5B!$L$34,ROWS($L$34:L110)-1,COLUMNS($L$34:L110)-1),\"\")","v":""},null,null,null,null,null,null,{"$f":"IF(OFFSET(DE104_5B!$M$34,ROWS($M$34:M110)-1,COLUMNS($M$34:M110)-1)<>\"\",OFFSET(DE104_5B!$M$34,ROWS($M$34:M110)-1,COLUMNS($M$34:M110)-1),\"\")","v":""},null,null,null,null,null,{"$f":"IF(OFFSET(DE104_5B!$O$34,ROWS($O$34:O110)-1,COLUMNS($O$34:O110)-1)<>\"\",OFFSET(DE104_5B!$O$34,ROWS($O$34:O110)-1,COLUMNS($O$34:O110)-1),\"\")","v":""},null,null,null,null,null,{"$f":"IF(OFFSET(DE104_5B!$P$34,ROWS($P$34:P110)-1,COLUMNS($P$34:P110)-1)<>\"\",OFFSET(DE104_5B!$P$34,ROWS($P$34:P110)-1,COLUMNS($P$34:P110)-1),\"\")","v":""},null,null,null,null,{"$f":"IF(OFFSET(DE104_5B!$Q$34,ROWS($Q$34:Q110)-1,COLUMNS($Q$34:Q110)-1)<>\"\",OFFSET(DE104_5B!$Q$34,ROWS($Q$34:Q110)-1,COLUMNS($Q$34:Q110)-1),\"\")","v":""},null,null,null,null,null,null,null,null,null,{"$f":"IF(OFFSET(DE104_5B!$R$34,ROWS($R$34:R110)-1,COLUMNS($R$34:R110)-1)<>\"\",OFFSET(DE104_5B!$R$34,ROWS($R$34:R110)-1,COLUMNS($R$34:R110)-1),\"\")","v":""},null,null,null,null,null,null,null,{"$f":"IF(OFFSET(DE104_5B!$S$34,ROWS($S$34:S110)-1,COLUMNS($S$34:S110)-1)<>\"\",OFFSET(DE104_5B!$S$34,ROWS($S$34:S110)-1,COLUMNS($S$34:S110)-1),\"\")","v":""},null,null,null,null,null,null,null,{"$f":"IF(OFFSET(DE104_5B!$T$34,ROWS($T$34:T110)-1,COLUMNS($T$34:T110)-1)<>\"\",OFFSET(DE104_5B!$T$34,ROWS($T$34:T110)-1,COLUMNS($T$34:T110)-1),\"\")","v":""},null,null,null,null,null,null,null,{"$f":"IF(OFFSET(DE104_5B!$U$34,ROWS($U$34:U110)-1,COLUMNS($U$34:U110)-1)<>\"\",OFFSET(DE104_5B!$U$34,ROWS($U$34:U110)-1,COLUMNS($U$34:U110)-1),\"\")","v":""},null,null,null,null,null,null,{"$f":"IF(OFFSET(DE104_5B!$V$34,ROWS($V$34:V110)-1,COLUMNS($V$34:V110)-1)<>\"\",OFFSET(DE104_5B!$V$34,ROWS($V$34:V110)-1,COLUMNS($V$34:V110)-1),\"\")","v":""}]
[null,null,{"$f":"IF(OFFSET(DE104_5B!$A$33,ROWS($A$33:A111)-1,COLUMNS($A$33:A111)-1)<>\"\",OFFSET(DE104_5B!$A$33,ROWS($A$33:A111)-1,COLUMNS($A$33:A111)-1),\"\")","v":""},null,null,null,{"$f":"IF(OFFSET(DE104_5B!$B$33,ROWS($B$33:B111)-1,COLUMNS($B$33:B111)-1)<>\"\",OFFSET(DE104_5B!$B$33,ROWS($B$33:B111)-1,COLUMNS($B$33:B111)-1),\"\")","v":""},null,null,null,null,null,null,null,null,null,null,null,null,null,null,null,null,null,null,{"$f":"IF(OFFSET(DE104_5B!$C$33,ROWS($C$33:C111)-1,COLUMNS($C$33:C111)-1)<>\"\",OFFSET(DE104_5B!$C$33,ROWS($C$33:C111)-1,COLUMNS($C$33:C111)-1),\"\")","v":""},null,null,null,null,null,null,null,null,null,null,null,null,null,null,null,null,null,null,null,null,null,null,null,{"$f":"IF(OFFSET(DE104_5B!$D$33,ROWS($D$33:D111)-1,COLUMNS($D$33:D111)-1)<>\"\",OFFSET(DE104_5B!$D$33,ROWS($D$33:D111)-1,COLUMNS($D$33:D111)-1),\"\")","v":""},null,null,null,null,{"$f":"IF(OFFSET(DE104_5B!$E$33,ROWS($E$33:E111)-1,COLUMNS($E$33:E111)-1)<>\"\",OFFSET(DE104_5B!$E$33,ROWS($E$33:E111)-1,COLUMNS($E$33:E111)-1),\"\")","v":""},null,null,null,null,null,{"$f":"IF(OFFSET(DE104_5B!$F$33,ROWS($F$33:F111)-1,COLUMNS($F$33:F111)-1)<>\"\",OFFSET(DE104_5B!$F$33,ROWS($F$33:F111)-1,COLUMNS($F$33:F111)-1),\"\")","v":""},null,null,null,null,null,null,null,{"$f":"IF(OFFSET(DE104_5B!$G$33,ROWS($G$33:G111)-1,COLUMNS($G$33:G111)-1)<>\"\",OFFSET(DE104_5B!$G$33,ROWS($G$33:G111)-1,COLUMNS($G$33:G111)-1),\"\")","v":""}]
[null,null,null,null,null,null,null,null,null,null,null,null,null,null,null,null,null,null,null,null,null,null,null,null,null,null,null,null,null,null,null,null,null,null,null,null,null,null,null,null,null,null,null,null,null,null,null,null,null,null,null,null,null,null,null,null,null,null,null,null,null,null,null,null,null,null,null,null,null,null,null,null,null,null,null,null,null,null,null,null,null,{"$f":"IF(OFFSET(DE104_5B!$H$34,ROWS($H$34:H112)-1,COLUMNS($H$34:H112)-1)<>\"\",OFFSET(DE104_5B!$H$34,ROWS($H$34:H112)-1,COLUMNS($H$34:H112)-1),\"\")","v":""},null,null,null,null,null,{"$f":"IF(OFFSET(DE104_5B!$I$34,ROWS($I$34:I112)-1,COLUMNS($I$34:I112)-1)<>\"\",OFFSET(DE104_5B!$I$34,ROWS($I$34:I112)-1,COLUMNS($I$34:I112)-1),\"\")","v":""},null,null,null,{"$f":"IF(OFFSET(DE104_5B!$J$34,ROWS($J$34:J112)-1,COLUMNS($J$34:J112)-1)<>\"\",OFFSET(DE104_5B!$J$34,ROWS($J$34:J112)-1,COLUMNS($J$34:J112)-1),\"\")","v":""},null,null,null,{"$f":"IF(OFFSET(DE104_5B!$K$34,ROWS($K$34:K112)-1,COLUMNS($K$34:K112)-1)<>\"\",OFFSET(DE104_5B!$K$34,ROWS($K$34:K112)-1,COLUMNS($K$34:K112)-1),\"\")","v":""},null,null,null,null,{"$f":"IF(OFFSET(DE104_5B!$L$34,ROWS($L$34:L112)-1,COLUMNS($L$34:L112)-1)<>\"\",OFFSET(DE104_5B!$L$34,ROWS($L$34:L112)-1,COLUMNS($L$34:L112)-1),\"\")","v":""},null,null,null,null,null,null,{"$f":"IF(OFFSET(DE104_5B!$M$34,ROWS($M$34:M112)-1,COLUMNS($M$34:M112)-1)<>\"\",OFFSET(DE104_5B!$M$34,ROWS($M$34:M112)-1,COLUMNS($M$34:M112)-1),\"\")","v":""},null,null,null,null,null,{"$f":"IF(OFFSET(DE104_5B!$O$34,ROWS($O$34:O112)-1,COLUMNS($O$34:O112)-1)<>\"\",OFFSET(DE104_5B!$O$34,ROWS($O$34:O112)-1,COLUMNS($O$34:O112)-1),\"\")","v":""},null,null,null,null,null,{"$f":"IF(OFFSET(DE104_5B!$P$34,ROWS($P$34:P112)-1,COLUMNS($P$34:P112)-1)<>\"\",OFFSET(DE104_5B!$P$34,ROWS($P$34:P112)-1,COLUMNS($P$34:P112)-1),\"\")","v":""},null,null,null,null,{"$f":"IF(OFFSET(DE104_5B!$Q$34,ROWS($Q$34:Q112)-1,COLUMNS($Q$34:Q112)-1)<>\"\",OFFSET(DE104_5B!$Q$34,ROWS($Q$34:Q112)-1,COLUMNS($Q$34:Q112)-1),\"\")","v":""},null,null,null,null,null,null,null,null,null,{"$f":"IF(OFFSET(DE104_5B!$R$34,ROWS($R$34:R112)-1,COLUMNS($R$34:R112)-1)<>\"\",OFFSET(DE104_5B!$R$34,ROWS($R$34:R112)-1,COLUMNS($R$34:R112)-1),\"\")","v":""},null,null,null,null,null,null,null,{"$f":"IF(OFFSET(DE104_5B!$S$34,ROWS($S$34:S112)-1,COLUMNS($S$34:S112)-1)<>\"\",OFFSET(DE104_5B!$S$34,ROWS($S$34:S112)-1,COLUMNS($S$34:S112)-1),\"\")","v":""},null,null,null,null,null,null,null,{"$f":"IF(OFFSET(DE104_5B!$T$34,ROWS($T$34:T112)-1,COLUMNS($T$34:T112)-1)<>\"\",OFFSET(DE104_5B!$T$34,ROWS($T$34:T112)-1,COLUMNS($T$34:T112)-1),\"\")","v":""},null,null,null,null,null,null,null,{"$f":"IF(OFFSET(DE104_5B!$U$34,ROWS($U$34:U112)-1,COLUMNS($U$34:U112)-1)<>\"\",OFFSET(DE104_5B!$U$34,ROWS($U$34:U112)-1,COLUMNS($U$34:U112)-1),\"\")","v":""},null,null,null,null,null,null,{"$f":"IF(OFFSET(DE104_5B!$V$34,ROWS($V$34:V112)-1,COLUMNS($V$34:V112)-1)<>\"\",OFFSET(DE104_5B!$V$34,ROWS($V$34:V112)-1,COLUMNS($V$34:V112)-1),\"\")","v":""}]
[null,null,{"$f":"IF(OFFSET(DE104_5B!$A$33,ROWS($A$33:A113)-1,COLUMNS($A$33:A113)-1)<>\"\",OFFSET(DE104_5B!$A$33,ROWS($A$33:A113)-1,COLUMNS($A$33:A113)-1),\"\")","v":""},null,null,null,{"$f":"IF(OFFSET(DE104_5B!$B$33,ROWS($B$33:B113)-1,COLUMNS($B$33:B113)-1)<>\"\",OFFSET(DE104_5B!$B$33,ROWS($B$33:B113)-1,COLUMNS($B$33:B113)-1),\"\")","v":""},null,null,null,null,null,null,null,null,null,null,null,null,null,null,null,null,null,null,{"$f":"IF(OFFSET(DE104_5B!$C$33,ROWS($C$33:C113)-1,COLUMNS($C$33:C113)-1)<>\"\",OFFSET(DE104_5B!$C$33,ROWS($C$33:C113)-1,COLUMNS($C$33:C113)-1),\"\")","v":""},null,null,null,null,null,null,null,null,null,null,null,null,null,null,null,null,null,null,null,null,null,null,null,{"$f":"IF(OFFSET(DE104_5B!$D$33,ROWS($D$33:D113)-1,COLUMNS($D$33:D113)-1)<>\"\",OFFSET(DE104_5B!$D$33,ROWS($D$33:D113)-1,COLUMNS($D$33:D113)-1),\"\")","v":""},null,null,null,null,{"$f":"IF(OFFSET(DE104_5B!$E$33,ROWS($E$33:E113)-1,COLUMNS($E$33:E113)-1)<>\"\",OFFSET(DE104_5B!$E$33,ROWS($E$33:E113)-1,COLUMNS($E$33:E113)-1),\"\")","v":""},null,null,null,null,null,{"$f":"IF(OFFSET(DE104_5B!$F$33,ROWS($F$33:F113)-1,COLUMNS($F$33:F113)-1)<>\"\",OFFSET(DE104_5B!$F$33,ROWS($F$33:F113)-1,COLUMNS($F$33:F113)-1),\"\")","v":""},null,null,null,null,null,null,null,{"$f":"IF(OFFSET(DE104_5B!$G$33,ROWS($G$33:G113)-1,COLUMNS($G$33:G113)-1)<>\"\",OFFSET(DE104_5B!$G$33,ROWS($G$33:G113)-1,COLUMNS($G$33:G113)-1),\"\")","v":""}]
[null,null,null,null,null,null,null,null,null,null,null,null,null,null,null,null,null,null,null,null,null,null,null,null,null,null,null,null,null,null,null,null,null,null,null,null,null,null,null,null,null,null,null,null,null,null,null,null,null,null,null,null,null,null,null,null,null,null,null,null,null,null,null,null,null,null,null,null,null,null,null,null,null,null,null,null,null,null,null,null,null,{"$f":"IF(OFFSET(DE104_5B!$H$34,ROWS($H$34:H114)-1,COLUMNS($H$34:H114)-1)<>\"\",OFFSET(DE104_5B!$H$34,ROWS($H$34:H114)-1,COLUMNS($H$34:H114)-1),\"\")","v":""},null,null,null,null,null,{"$f":"IF(OFFSET(DE104_5B!$I$34,ROWS($I$34:I114)-1,COLUMNS($I$34:I114)-1)<>\"\",OFFSET(DE104_5B!$I$34,ROWS($I$34:I114)-1,COLUMNS($I$34:I114)-1),\"\")","v":""},null,null,null,{"$f":"IF(OFFSET(DE104_5B!$J$34,ROWS($J$34:J114)-1,COLUMNS($J$34:J114)-1)<>\"\",OFFSET(DE104_5B!$J$34,ROWS($J$34:J114)-1,COLUMNS($J$34:J114)-1),\"\")","v":""},null,null,null,{"$f":"IF(OFFSET(DE104_5B!$K$34,ROWS($K$34:K114)-1,COLUMNS($K$34:K114)-1)<>\"\",OFFSET(DE104_5B!$K$34,ROWS($K$34:K114)-1,COLUMNS($K$34:K114)-1),\"\")","v":""},null,null,null,null,{"$f":"IF(OFFSET(DE104_5B!$L$34,ROWS($L$34:L114)-1,COLUMNS($L$34:L114)-1)<>\"\",OFFSET(DE104_5B!$L$34,ROWS($L$34:L114)-1,COLUMNS($L$34:L114)-1),\"\")","v":""},null,null,null,null,null,null,{"$f":"IF(OFFSET(DE104_5B!$M$34,ROWS($M$34:M114)-1,COLUMNS($M$34:M114)-1)<>\"\",OFFSET(DE104_5B!$M$34,ROWS($M$34:M114)-1,COLUMNS($M$34:M114)-1),\"\")","v":""},null,null,null,null,null,{"$f":"IF(OFFSET(DE104_5B!$O$34,ROWS($O$34:O114)-1,COLUMNS($O$34:O114)-1)<>\"\",OFFSET(DE104_5B!$O$34,ROWS($O$34:O114)-1,COLUMNS($O$34:O114)-1),\"\")","v":""},null,null,null,null,null,{"$f":"IF(OFFSET(DE104_5B!$P$34,ROWS($P$34:P114)-1,COLUMNS($P$34:P114)-1)<>\"\",OFFSET(DE104_5B!$P$34,ROWS($P$34:P114)-1,COLUMNS($P$34:P114)-1),\"\")","v":""},null,null,null,null,{"$f":"IF(OFFSET(DE104_5B!$Q$34,ROWS($Q$34:Q114)-1,COLUMNS($Q$34:Q114)-1)<>\"\",OFFSET(DE104_5B!$Q$34,ROWS($Q$34:Q114)-1,COLUMNS($Q$34:Q114)-1),\"\")","v":""},null,null,null,null,null,null,null,null,null,{"$f":"IF(OFFSET(DE104_5B!$R$34,ROWS($R$34:R114)-1,COLUMNS($R$34:R114)-1)<>\"\",OFFSET(DE104_5B!$R$34,ROWS($R$34:R114)-1,COLUMNS($R$34:R114)-1),\"\")","v":""},null,null,null,null,null,null,null,{"$f":"IF(OFFSET(DE104_5B!$S$34,ROWS($S$34:S114)-1,COLUMNS($S$34:S114)-1)<>\"\",OFFSET(DE104_5B!$S$34,ROWS($S$34:S114)-1,COLUMNS($S$34:S114)-1),\"\")","v":""},null,null,null,null,null,null,null,{"$f":"IF(OFFSET(DE104_5B!$T$34,ROWS($T$34:T114)-1,COLUMNS($T$34:T114)-1)<>\"\",OFFSET(DE104_5B!$T$34,ROWS($T$34:T114)-1,COLUMNS($T$34:T114)-1),\"\")","v":""},null,null,null,null,null,null,null,{"$f":"IF(OFFSET(DE104_5B!$U$34,ROWS($U$34:U114)-1,COLUMNS($U$34:U114)-1)<>\"\",OFFSET(DE104_5B!$U$34,ROWS($U$34:U114)-1,COLUMNS($U$34:U114)-1),\"\")","v":""},null,null,null,null,null,null,{"$f":"IF(OFFSET(DE104_5B!$V$34,ROWS($V$34:V114)-1,COLUMNS($V$34:V114)-1)<>\"\",OFFSET(DE104_5B!$V$34,ROWS($V$34:V114)-1,COLUMNS($V$34:V114)-1),\"\")","v":""}]
[null,null,{"$f":"IF(OFFSET(DE104_5B!$A$33,ROWS($A$33:A115)-1,COLUMNS($A$33:A115)-1)<>\"\",OFFSET(DE104_5B!$A$33,ROWS($A$33:A115)-1,COLUMNS($A$33:A115)-1),\"\")","v":""},null,null,null,{"$f":"IF(OFFSET(DE104_5B!$B$33,ROWS($B$33:B115)-1,COLUMNS($B$33:B115)-1)<>\"\",OFFSET(DE104_5B!$B$33,ROWS($B$33:B115)-1,COLUMNS($B$33:B115)-1),\"\")","v":""},null,null,null,null,null,null,null,null,null,null,null,null,null,null,null,null,null,null,{"$f":"IF(OFFSET(DE104_5B!$C$33,ROWS($C$33:C115)-1,COLUMNS($C$33:C115)-1)<>\"\",OFFSET(DE104_5B!$C$33,ROWS($C$33:C115)-1,COLUMNS($C$33:C115)-1),\"\")","v":""},null,null,null,null,null,null,null,null,null,null,null,null,null,null,null,null,null,null,null,null,null,null,null,{"$f":"IF(OFFSET(DE104_5B!$D$33,ROWS($D$33:D115)-1,COLUMNS($D$33:D115)-1)<>\"\",OFFSET(DE104_5B!$D$33,ROWS($D$33:D115)-1,COLUMNS($D$33:D115)-1),\"\")","v":""},null,null,null,null,{"$f":"IF(OFFSET(DE104_5B!$E$33,ROWS($E$33:E115)-1,COLUMNS($E$33:E115)-1)<>\"\",OFFSET(DE104_5B!$E$33,ROWS($E$33:E115)-1,COLUMNS($E$33:E115)-1),\"\")","v":""},null,null,null,null,null,{"$f":"IF(OFFSET(DE104_5B!$F$33,ROWS($F$33:F115)-1,COLUMNS($F$33:F115)-1)<>\"\",OFFSET(DE104_5B!$F$33,ROWS($F$33:F115)-1,COLUMNS($F$33:F115)-1),\"\")","v":""},null,null,null,null,null,null,null,{"$f":"IF(OFFSET(DE104_5B!$G$33,ROWS($G$33:G115)-1,COLUMNS($G$33:G115)-1)<>\"\",OFFSET(DE104_5B!$G$33,ROWS($G$33:G115)-1,COLUMNS($G$33:G115)-1),\"\")","v":""}]
[null,null,null,null,null,null,null,null,null,null,null,null,null,null,null,null,null,null,null,null,null,null,null,null,null,null,null,null,null,null,null,null,null,null,null,null,null,null,null,null,null,null,null,null,null,null,null,null,null,null,null,null,null,null,null,null,null,null,null,null,null,null,null,null,null,null,null,null,null,null,null,null,null,null,null,null,null,null,null,null,null,{"$f":"IF(OFFSET(DE104_5B!$H$34,ROWS($H$34:H116)-1,COLUMNS($H$34:H116)-1)<>\"\",OFFSET(DE104_5B!$H$34,ROWS($H$34:H116)-1,COLUMNS($H$34:H116)-1),\"\")","v":""},null,null,null,null,null,{"$f":"IF(OFFSET(DE104_5B!$I$34,ROWS($I$34:I116)-1,COLUMNS($I$34:I116)-1)<>\"\",OFFSET(DE104_5B!$I$34,ROWS($I$34:I116)-1,COLUMNS($I$34:I116)-1),\"\")","v":""},null,null,null,{"$f":"IF(OFFSET(DE104_5B!$J$34,ROWS($J$34:J116)-1,COLUMNS($J$34:J116)-1)<>\"\",OFFSET(DE104_5B!$J$34,ROWS($J$34:J116)-1,COLUMNS($J$34:J116)-1),\"\")","v":""},null,null,null,{"$f":"IF(OFFSET(DE104_5B!$K$34,ROWS($K$34:K116)-1,COLUMNS($K$34:K116)-1)<>\"\",OFFSET(DE104_5B!$K$34,ROWS($K$34:K116)-1,COLUMNS($K$34:K116)-1),\"\")","v":""},null,null,null,null,{"$f":"IF(OFFSET(DE104_5B!$L$34,ROWS($L$34:L116)-1,COLUMNS($L$34:L116)-1)<>\"\",OFFSET(DE104_5B!$L$34,ROWS($L$34:L116)-1,COLUMNS($L$34:L116)-1),\"\")","v":""},null,null,null,null,null,null,{"$f":"IF(OFFSET(DE104_5B!$M$34,ROWS($M$34:M116)-1,COLUMNS($M$34:M116)-1)<>\"\",OFFSET(DE104_5B!$M$34,ROWS($M$34:M116)-1,COLUMNS($M$34:M116)-1),\"\")","v":""},null,null,null,null,null,{"$f":"IF(OFFSET(DE104_5B!$O$34,ROWS($O$34:O116)-1,COLUMNS($O$34:O116)-1)<>\"\",OFFSET(DE104_5B!$O$34,ROWS($O$34:O116)-1,COLUMNS($O$34:O116)-1),\"\")","v":""},null,null,null,null,null,{"$f":"IF(OFFSET(DE104_5B!$P$34,ROWS($P$34:P116)-1,COLUMNS($P$34:P116)-1)<>\"\",OFFSET(DE104_5B!$P$34,ROWS($P$34:P116)-1,COLUMNS($P$34:P116)-1),\"\")","v":""},null,null,null,null,{"$f":"IF(OFFSET(DE104_5B!$Q$34,ROWS($Q$34:Q116)-1,COLUMNS($Q$34:Q116)-1)<>\"\",OFFSET(DE104_5B!$Q$34,ROWS($Q$34:Q116)-1,COLUMNS($Q$34:Q116)-1),\"\")","v":""},null,null,null,null,null,null,null,null,null,{"$f":"IF(OFFSET(DE104_5B!$R$34,ROWS($R$34:R116)-1,COLUMNS($R$34:R116)-1)<>\"\",OFFSET(DE104_5B!$R$34,ROWS($R$34:R116)-1,COLUMNS($R$34:R116)-1),\"\")","v":""},null,null,null,null,null,null,null,{"$f":"IF(OFFSET(DE104_5B!$S$34,ROWS($S$34:S116)-1,COLUMNS($S$34:S116)-1)<>\"\",OFFSET(DE104_5B!$S$34,ROWS($S$34:S116)-1,COLUMNS($S$34:S116)-1),\"\")","v":""},null,null,null,null,null,null,null,{"$f":"IF(OFFSET(DE104_5B!$T$34,ROWS($T$34:T116)-1,COLUMNS($T$34:T116)-1)<>\"\",OFFSET(DE104_5B!$T$34,ROWS($T$34:T116)-1,COLUMNS($T$34:T116)-1),\"\")","v":""},null,null,null,null,null,null,null,{"$f":"IF(OFFSET(DE104_5B!$U$34,ROWS($U$34:U116)-1,COLUMNS($U$34:U116)-1)<>\"\",OFFSET(DE104_5B!$U$34,ROWS($U$34:U116)-1,COLUMNS($U$34:U116)-1),\"\")","v":""},null,null,null,null,null,null,{"$f":"IF(OFFSET(DE104_5B!$V$34,ROWS($V$34:V116)-1,COLUMNS($V$34:V116)-1)<>\"\",OFFSET(DE104_5B!$V$34,ROWS($V$34:V116)-1,COLUMNS($V$34:V116)-1),\"\")","v":""}]
[null,null,{"$f":"IF(OFFSET(DE104_5B!$A$33,ROWS($A$33:A117)-1,COLUMNS($A$33:A117)-1)<>\"\",OFFSET(DE104_5B!$A$33,ROWS($A$33:A117)-1,COLUMNS($A$33:A117)-1),\"\")","v":""},null,null,null,{"$f":"IF(OFFSET(DE104_5B!$B$33,ROWS($B$33:B117)-1,COLUMNS($B$33:B117)-1)<>\"\",OFFSET(DE104_5B!$B$33,ROWS($B$33:B117)-1,COLUMNS($B$33:B117)-1),\"\")","v":""},null,null,null,null,null,null,null,null,null,null,null,null,null,null,null,null,null,null,{"$f":"IF(OFFSET(DE104_5B!$C$33,ROWS($C$33:C117)-1,COLUMNS($C$33:C117)-1)<>\"\",OFFSET(DE104_5B!$C$33,ROWS($C$33:C117)-1,COLUMNS($C$33:C117)-1),\"\")","v":""},null,null,null,null,null,null,null,null,null,null,null,null,null,null,null,null,null,null,null,null,null,null,null,{"$f":"IF(OFFSET(DE104_5B!$D$33,ROWS($D$33:D117)-1,COLUMNS($D$33:D117)-1)<>\"\",OFFSET(DE104_5B!$D$33,ROWS($D$33:D117)-1,COLUMNS($D$33:D117)-1),\"\")","v":""},null,null,null,null,{"$f":"IF(OFFSET(DE104_5B!$E$33,ROWS($E$33:E117)-1,COLUMNS($E$33:E117)-1)<>\"\",OFFSET(DE104_5B!$E$33,ROWS($E$33:E117)-1,COLUMNS($E$33:E117)-1),\"\")","v":""},null,null,null,null,null,{"$f":"IF(OFFSET(DE104_5B!$F$33,ROWS($F$33:F117)-1,COLUMNS($F$33:F117)-1)<>\"\",OFFSET(DE104_5B!$F$33,ROWS($F$33:F117)-1,COLUMNS($F$33:F117)-1),\"\")","v":""},null,null,null,null,null,null,null,{"$f":"IF(OFFSET(DE104_5B!$G$33,ROWS($G$33:G117)-1,COLUMNS($G$33:G117)-1)<>\"\",OFFSET(DE104_5B!$G$33,ROWS($G$33:G117)-1,COLUMNS($G$33:G117)-1),\"\")","v":""}]
[null,null,null,null,null,null,null,null,null,null,null,null,null,null,null,null,null,null,null,null,null,null,null,null,null,null,null,null,null,null,null,null,null,null,null,null,null,null,null,null,null,null,null,null,null,null,null,null,null,null,null,null,null,null,null,null,null,null,null,null,null,null,null,null,null,null,null,null,null,null,null,null,null,null,null,null,null,null,null,null,null,{"$f":"IF(OFFSET(DE104_5B!$H$34,ROWS($H$34:H118)-1,COLUMNS($H$34:H118)-1)<>\"\",OFFSET(DE104_5B!$H$34,ROWS($H$34:H118)-1,COLUMNS($H$34:H118)-1),\"\")","v":""},null,null,null,null,null,{"$f":"IF(OFFSET(DE104_5B!$I$34,ROWS($I$34:I118)-1,COLUMNS($I$34:I118)-1)<>\"\",OFFSET(DE104_5B!$I$34,ROWS($I$34:I118)-1,COLUMNS($I$34:I118)-1),\"\")","v":""},null,null,null,{"$f":"IF(OFFSET(DE104_5B!$J$34,ROWS($J$34:J118)-1,COLUMNS($J$34:J118)-1)<>\"\",OFFSET(DE104_5B!$J$34,ROWS($J$34:J118)-1,COLUMNS($J$34:J118)-1),\"\")","v":""},null,null,null,{"$f":"IF(OFFSET(DE104_5B!$K$34,ROWS($K$34:K118)-1,COLUMNS($K$34:K118)-1)<>\"\",OFFSET(DE104_5B!$K$34,ROWS($K$34:K118)-1,COLUMNS($K$34:K118)-1),\"\")","v":""},null,null,null,null,{"$f":"IF(OFFSET(DE104_5B!$L$34,ROWS($L$34:L118)-1,COLUMNS($L$34:L118)-1)<>\"\",OFFSET(DE104_5B!$L$34,ROWS($L$34:L118)-1,COLUMNS($L$34:L118)-1),\"\")","v":""},null,null,null,null,null,null,{"$f":"IF(OFFSET(DE104_5B!$M$34,ROWS($M$34:M118)-1,COLUMNS($M$34:M118)-1)<>\"\",OFFSET(DE104_5B!$M$34,ROWS($M$34:M118)-1,COLUMNS($M$34:M118)-1),\"\")","v":""},null,null,null,null,null,{"$f":"IF(OFFSET(DE104_5B!$O$34,ROWS($O$34:O118)-1,COLUMNS($O$34:O118)-1)<>\"\",OFFSET(DE104_5B!$O$34,ROWS($O$34:O118)-1,COLUMNS($O$34:O118)-1),\"\")","v":""},null,null,null,null,null,{"$f":"IF(OFFSET(DE104_5B!$P$34,ROWS($P$34:P118)-1,COLUMNS($P$34:P118)-1)<>\"\",OFFSET(DE104_5B!$P$34,ROWS($P$34:P118)-1,COLUMNS($P$34:P118)-1),\"\")","v":""},null,null,null,null,{"$f":"IF(OFFSET(DE104_5B!$Q$34,ROWS($Q$34:Q118)-1,COLUMNS($Q$34:Q118)-1)<>\"\",OFFSET(DE104_5B!$Q$34,ROWS($Q$34:Q118)-1,COLUMNS($Q$34:Q118)-1),\"\")","v":""},null,null,null,null,null,null,null,null,null,{"$f":"IF(OFFSET(DE104_5B!$R$34,ROWS($R$34:R118)-1,COLUMNS($R$34:R118)-1)<>\"\",OFFSET(DE104_5B!$R$34,ROWS($R$34:R118)-1,COLUMNS($R$34:R118)-1),\"\")","v":""},null,null,null,null,null,null,null,{"$f":"IF(OFFSET(DE104_5B!$S$34,ROWS($S$34:S118)-1,COLUMNS($S$34:S118)-1)<>\"\",OFFSET(DE104_5B!$S$34,ROWS($S$34:S118)-1,COLUMNS($S$34:S118)-1),\"\")","v":""},null,null,null,null,null,null,null,{"$f":"IF(OFFSET(DE104_5B!$T$34,ROWS($T$34:T118)-1,COLUMNS($T$34:T118)-1)<>\"\",OFFSET(DE104_5B!$T$34,ROWS($T$34:T118)-1,COLUMNS($T$34:T118)-1),\"\")","v":""},null,null,null,null,null,null,null,{"$f":"IF(OFFSET(DE104_5B!$U$34,ROWS($U$34:U118)-1,COLUMNS($U$34:U118)-1)<>\"\",OFFSET(DE104_5B!$U$34,ROWS($U$34:U118)-1,COLUMNS($U$34:U118)-1),\"\")","v":""},null,null,null,null,null,null,{"$f":"IF(OFFSET(DE104_5B!$V$34,ROWS($V$34:V118)-1,COLUMNS($V$34:V118)-1)<>\"\",OFFSET(DE104_5B!$V$34,ROWS($V$34:V118)-1,COLUMNS($V$34:V118)-1),\"\")","v":""}]
[null,null,{"$f":"IF(OFFSET(DE104_5B!$A$33,ROWS($A$33:A119)-1,COLUMNS($A$33:A119)-1)<>\"\",OFFSET(DE104_5B!$A$33,ROWS($A$33:A119)-1,COLUMNS($A$33:A119)-1),\"\")","v":""},null,null,null,{"$f":"IF(OFFSET(DE104_5B!$B$33,ROWS($B$33:B119)-1,COLUMNS($B$33:B119)-1)<>\"\",OFFSET(DE104_5B!$B$33,ROWS($B$33:B119)-1,COLUMNS($B$33:B119)-1),\"\")","v":""},null,null,null,null,null,null,null,null,null,null,null,null,null,null,null,null,null,null,{"$f":"IF(OFFSET(DE104_5B!$C$33,ROWS($C$33:C119)-1,COLUMNS($C$33:C119)-1)<>\"\",OFFSET(DE104_5B!$C$33,ROWS($C$33:C119)-1,COLUMNS($C$33:C119)-1),\"\")","v":""},null,null,null,null,null,null,null,null,null,null,null,null,null,null,null,null,null,null,null,null,null,null,null,{"$f":"IF(OFFSET(DE104_5B!$D$33,ROWS($D$33:D119)-1,COLUMNS($D$33:D119)-1)<>\"\",OFFSET(DE104_5B!$D$33,ROWS($D$33:D119)-1,COLUMNS($D$33:D119)-1),\"\")","v":""},null,null,null,null,{"$f":"IF(OFFSET(DE104_5B!$E$33,ROWS($E$33:E119)-1,COLUMNS($E$33:E119)-1)<>\"\",OFFSET(DE104_5B!$E$33,ROWS($E$33:E119)-1,COLUMNS($E$33:E119)-1),\"\")","v":""},null,null,null,null,null,{"$f":"IF(OFFSET(DE104_5B!$F$33,ROWS($F$33:F119)-1,COLUMNS($F$33:F119)-1)<>\"\",OFFSET(DE104_5B!$F$33,ROWS($F$33:F119)-1,COLUMNS($F$33:F119)-1),\"\")","v":""},null,null,null,null,null,null,null,{"$f":"IF(OFFSET(DE104_5B!$G$33,ROWS($G$33:G119)-1,COLUMNS($G$33:G119)-1)<>\"\",OFFSET(DE104_5B!$G$33,ROWS($G$33:G119)-1,COLUMNS($G$33:G119)-1),\"\")","v":""}]
[null,null,null,null,null,null,null,null,null,null,null,null,null,null,null,null,null,null,null,null,null,null,null,null,null,null,null,null,null,null,null,null,null,null,null,null,null,null,null,null,null,null,null,null,null,null,null,null,null,null,null,null,null,null,null,null,null,null,null,null,null,null,null,null,null,null,null,null,null,null,null,null,null,null,null,null,null,null,null,null,null,{"$f":"IF(OFFSET(DE104_5B!$H$34,ROWS($H$34:H120)-1,COLUMNS($H$34:H120)-1)<>\"\",OFFSET(DE104_5B!$H$34,ROWS($H$34:H120)-1,COLUMNS($H$34:H120)-1),\"\")","v":""},null,null,null,null,null,{"$f":"IF(OFFSET(DE104_5B!$I$34,ROWS($I$34:I120)-1,COLUMNS($I$34:I120)-1)<>\"\",OFFSET(DE104_5B!$I$34,ROWS($I$34:I120)-1,COLUMNS($I$34:I120)-1),\"\")","v":""},null,null,null,{"$f":"IF(OFFSET(DE104_5B!$J$34,ROWS($J$34:J120)-1,COLUMNS($J$34:J120)-1)<>\"\",OFFSET(DE104_5B!$J$34,ROWS($J$34:J120)-1,COLUMNS($J$34:J120)-1),\"\")","v":""},null,null,null,{"$f":"IF(OFFSET(DE104_5B!$K$34,ROWS($K$34:K120)-1,COLUMNS($K$34:K120)-1)<>\"\",OFFSET(DE104_5B!$K$34,ROWS($K$34:K120)-1,COLUMNS($K$34:K120)-1),\"\")","v":""},null,null,null,null,{"$f":"IF(OFFSET(DE104_5B!$L$34,ROWS($L$34:L120)-1,COLUMNS($L$34:L120)-1)<>\"\",OFFSET(DE104_5B!$L$34,ROWS($L$34:L120)-1,COLUMNS($L$34:L120)-1),\"\")","v":""},null,null,null,null,null,null,{"$f":"IF(OFFSET(DE104_5B!$M$34,ROWS($M$34:M120)-1,COLUMNS($M$34:M120)-1)<>\"\",OFFSET(DE104_5B!$M$34,ROWS($M$34:M120)-1,COLUMNS($M$34:M120)-1),\"\")","v":""},null,null,null,null,null,{"$f":"IF(OFFSET(DE104_5B!$O$34,ROWS($O$34:O120)-1,COLUMNS($O$34:O120)-1)<>\"\",OFFSET(DE104_5B!$O$34,ROWS($O$34:O120)-1,COLUMNS($O$34:O120)-1),\"\")","v":""},null,null,null,null,null,{"$f":"IF(OFFSET(DE104_5B!$P$34,ROWS($P$34:P120)-1,COLUMNS($P$34:P120)-1)<>\"\",OFFSET(DE104_5B!$P$34,ROWS($P$34:P120)-1,COLUMNS($P$34:P120)-1),\"\")","v":""},null,null,null,null,{"$f":"IF(OFFSET(DE104_5B!$Q$34,ROWS($Q$34:Q120)-1,COLUMNS($Q$34:Q120)-1)<>\"\",OFFSET(DE104_5B!$Q$34,ROWS($Q$34:Q120)-1,COLUMNS($Q$34:Q120)-1),\"\")","v":""},null,null,null,null,null,null,null,null,null,{"$f":"IF(OFFSET(DE104_5B!$R$34,ROWS($R$34:R120)-1,COLUMNS($R$34:R120)-1)<>\"\",OFFSET(DE104_5B!$R$34,ROWS($R$34:R120)-1,COLUMNS($R$34:R120)-1),\"\")","v":""},null,null,null,null,null,null,null,{"$f":"IF(OFFSET(DE104_5B!$S$34,ROWS($S$34:S120)-1,COLUMNS($S$34:S120)-1)<>\"\",OFFSET(DE104_5B!$S$34,ROWS($S$34:S120)-1,COLUMNS($S$34:S120)-1),\"\")","v":""},null,null,null,null,null,null,null,{"$f":"IF(OFFSET(DE104_5B!$T$34,ROWS($T$34:T120)-1,COLUMNS($T$34:T120)-1)<>\"\",OFFSET(DE104_5B!$T$34,ROWS($T$34:T120)-1,COLUMNS($T$34:T120)-1),\"\")","v":""},null,null,null,null,null,null,null,{"$f":"IF(OFFSET(DE104_5B!$U$34,ROWS($U$34:U120)-1,COLUMNS($U$34:U120)-1)<>\"\",OFFSET(DE104_5B!$U$34,ROWS($U$34:U120)-1,COLUMNS($U$34:U120)-1),\"\")","v":""},null,null,null,null,null,null,{"$f":"IF(OFFSET(DE104_5B!$V$34,ROWS($V$34:V120)-1,COLUMNS($V$34:V120)-1)<>\"\",OFFSET(DE104_5B!$V$34,ROWS($V$34:V120)-1,COLUMNS($V$34:V120)-1),\"\")","v":""}]
[null,null,{"$f":"IF(OFFSET(DE104_5B!$A$33,ROWS($A$33:A121)-1,COLUMNS($A$33:A121)-1)<>\"\",OFFSET(DE104_5B!$A$33,ROWS($A$33:A121)-1,COLUMNS($A$33:A121)-1),\"\")","v":""},null,null,null,{"$f":"IF(OFFSET(DE104_5B!$B$33,ROWS($B$33:B121)-1,COLUMNS($B$33:B121)-1)<>\"\",OFFSET(DE104_5B!$B$33,ROWS($B$33:B121)-1,COLUMNS($B$33:B121)-1),\"\")","v":""},null,null,null,null,null,null,null,null,null,null,null,null,null,null,null,null,null,null,{"$f":"IF(OFFSET(DE104_5B!$C$33,ROWS($C$33:C121)-1,COLUMNS($C$33:C121)-1)<>\"\",OFFSET(DE104_5B!$C$33,ROWS($C$33:C121)-1,COLUMNS($C$33:C121)-1),\"\")","v":""},null,null,null,null,null,null,null,null,null,null,null,null,null,null,null,null,null,null,null,null,null,null,null,{"$f":"IF(OFFSET(DE104_5B!$D$33,ROWS($D$33:D121)-1,COLUMNS($D$33:D121)-1)<>\"\",OFFSET(DE104_5B!$D$33,ROWS($D$33:D121)-1,COLUMNS($D$33:D121)-1),\"\")","v":""},null,null,null,null,{"$f":"IF(OFFSET(DE104_5B!$E$33,ROWS($E$33:E121)-1,COLUMNS($E$33:E121)-1)<>\"\",OFFSET(DE104_5B!$E$33,ROWS($E$33:E121)-1,COLUMNS($E$33:E121)-1),\"\")","v":""},null,null,null,null,null,{"$f":"IF(OFFSET(DE104_5B!$F$33,ROWS($F$33:F121)-1,COLUMNS($F$33:F121)-1)<>\"\",OFFSET(DE104_5B!$F$33,ROWS($F$33:F121)-1,COLUMNS($F$33:F121)-1),\"\")","v":""},null,null,null,null,null,null,null,{"$f":"IF(OFFSET(DE104_5B!$G$33,ROWS($G$33:G121)-1,COLUMNS($G$33:G121)-1)<>\"\",OFFSET(DE104_5B!$G$33,ROWS($G$33:G121)-1,COLUMNS($G$33:G121)-1),\"\")","v":""}]
[null,null,null,null,null,null,null,null,null,null,null,null,null,null,null,null,null,null,null,null,null,null,null,null,null,null,null,null,null,null,null,null,null,null,null,null,null,null,null,null,null,null,null,null,null,null,null,null,null,null,null,null,null,null,null,null,null,null,null,null,null,null,null,null,null,null,null,null,null,null,null,null,null,null,null,null,null,null,null,null,null,{"$f":"IF(OFFSET(DE104_5B!$H$34,ROWS($H$34:H122)-1,COLUMNS($H$34:H122)-1)<>\"\",OFFSET(DE104_5B!$H$34,ROWS($H$34:H122)-1,COLUMNS($H$34:H122)-1),\"\")","v":""},null,null,null,null,null,{"$f":"IF(OFFSET(DE104_5B!$I$34,ROWS($I$34:I122)-1,COLUMNS($I$34:I122)-1)<>\"\",OFFSET(DE104_5B!$I$34,ROWS($I$34:I122)-1,COLUMNS($I$34:I122)-1),\"\")","v":""},null,null,null,{"$f":"IF(OFFSET(DE104_5B!$J$34,ROWS($J$34:J122)-1,COLUMNS($J$34:J122)-1)<>\"\",OFFSET(DE104_5B!$J$34,ROWS($J$34:J122)-1,COLUMNS($J$34:J122)-1),\"\")","v":""},null,null,null,{"$f":"IF(OFFSET(DE104_5B!$K$34,ROWS($K$34:K122)-1,COLUMNS($K$34:K122)-1)<>\"\",OFFSET(DE104_5B!$K$34,ROWS($K$34:K122)-1,COLUMNS($K$34:K122)-1),\"\")","v":""},null,null,null,null,{"$f":"IF(OFFSET(DE104_5B!$L$34,ROWS($L$34:L122)-1,COLUMNS($L$34:L122)-1)<>\"\",OFFSET(DE104_5B!$L$34,ROWS($L$34:L122)-1,COLUMNS($L$34:L122)-1),\"\")","v":""},null,null,null,null,null,null,{"$f":"IF(OFFSET(DE104_5B!$M$34,ROWS($M$34:M122)-1,COLUMNS($M$34:M122)-1)<>\"\",OFFSET(DE104_5B!$M$34,ROWS($M$34:M122)-1,COLUMNS($M$34:M122)-1),\"\")","v":""},null,null,null,null,null,{"$f":"IF(OFFSET(DE104_5B!$O$34,ROWS($O$34:O122)-1,COLUMNS($O$34:O122)-1)<>\"\",OFFSET(DE104_5B!$O$34,ROWS($O$34:O122)-1,COLUMNS($O$34:O122)-1),\"\")","v":""},null,null,null,null,null,{"$f":"IF(OFFSET(DE104_5B!$P$34,ROWS($P$34:P122)-1,COLUMNS($P$34:P122)-1)<>\"\",OFFSET(DE104_5B!$P$34,ROWS($P$34:P122)-1,COLUMNS($P$34:P122)-1),\"\")","v":""},null,null,null,null,{"$f":"IF(OFFSET(DE104_5B!$Q$34,ROWS($Q$34:Q122)-1,COLUMNS($Q$34:Q122)-1)<>\"\",OFFSET(DE104_5B!$Q$34,ROWS($Q$34:Q122)-1,COLUMNS($Q$34:Q122)-1),\"\")","v":""},null,null,null,null,null,null,null,null,null,{"$f":"IF(OFFSET(DE104_5B!$R$34,ROWS($R$34:R122)-1,COLUMNS($R$34:R122)-1)<>\"\",OFFSET(DE104_5B!$R$34,ROWS($R$34:R122)-1,COLUMNS($R$34:R122)-1),\"\")","v":""},null,null,null,null,null,null,null,{"$f":"IF(OFFSET(DE104_5B!$S$34,ROWS($S$34:S122)-1,COLUMNS($S$34:S122)-1)<>\"\",OFFSET(DE104_5B!$S$34,ROWS($S$34:S122)-1,COLUMNS($S$34:S122)-1),\"\")","v":""},null,null,null,null,null,null,null,{"$f":"IF(OFFSET(DE104_5B!$T$34,ROWS($T$34:T122)-1,COLUMNS($T$34:T122)-1)<>\"\",OFFSET(DE104_5B!$T$34,ROWS($T$34:T122)-1,COLUMNS($T$34:T122)-1),\"\")","v":""},null,null,null,null,null,null,null,{"$f":"IF(OFFSET(DE104_5B!$U$34,ROWS($U$34:U122)-1,COLUMNS($U$34:U122)-1)<>\"\",OFFSET(DE104_5B!$U$34,ROWS($U$34:U122)-1,COLUMNS($U$34:U122)-1),\"\")","v":""},null,null,null,null,null,null,{"$f":"IF(OFFSET(DE104_5B!$V$34,ROWS($V$34:V122)-1,COLUMNS($V$34:V122)-1)<>\"\",OFFSET(DE104_5B!$V$34,ROWS($V$34:V122)-1,COLUMNS($V$34:V122)-1),\"\")","v":""}]
[null,null,{"$f":"IF(OFFSET(DE104_5B!$A$33,ROWS($A$33:A123)-1,COLUMNS($A$33:A123)-1)<>\"\",OFFSET(DE104_5B!$A$33,ROWS($A$33:A123)-1,COLUMNS($A$33:A123)-1),\"\")","v":""},null,null,null,{"$f":"IF(OFFSET(DE104_5B!$B$33,ROWS($B$33:B123)-1,COLUMNS($B$33:B123)-1)<>\"\",OFFSET(DE104_5B!$B$33,ROWS($B$33:B123)-1,COLUMNS($B$33:B123)-1),\"\")","v":""},null,null,null,null,null,null,null,null,null,null,null,null,null,null,null,null,null,null,{"$f":"IF(OFFSET(DE104_5B!$C$33,ROWS($C$33:C123)-1,COLUMNS($C$33:C123)-1)<>\"\",OFFSET(DE104_5B!$C$33,ROWS($C$33:C123)-1,COLUMNS($C$33:C123)-1),\"\")","v":""},null,null,null,null,null,null,null,null,null,null,null,null,null,null,null,null,null,null,null,null,null,null,null,{"$f":"IF(OFFSET(DE104_5B!$D$33,ROWS($D$33:D123)-1,COLUMNS($D$33:D123)-1)<>\"\",OFFSET(DE104_5B!$D$33,ROWS($D$33:D123)-1,COLUMNS($D$33:D123)-1),\"\")","v":""},null,null,null,null,{"$f":"IF(OFFSET(DE104_5B!$E$33,ROWS($E$33:E123)-1,COLUMNS($E$33:E123)-1)<>\"\",OFFSET(DE104_5B!$E$33,ROWS($E$33:E123)-1,COLUMNS($E$33:E123)-1),\"\")","v":""},null,null,null,null,null,{"$f":"IF(OFFSET(DE104_5B!$F$33,ROWS($F$33:F123)-1,COLUMNS($F$33:F123)-1)<>\"\",OFFSET(DE104_5B!$F$33,ROWS($F$33:F123)-1,COLUMNS($F$33:F123)-1),\"\")","v":""},null,null,null,null,null,null,null,{"$f":"IF(OFFSET(DE104_5B!$G$33,ROWS($G$33:G123)-1,COLUMNS($G$33:G123)-1)<>\"\",OFFSET(DE104_5B!$G$33,ROWS($G$33:G123)-1,COLUMNS($G$33:G123)-1),\"\")","v":""}]
[null,null,null,null,null,null,null,null,null,null,null,null,null,null,null,null,null,null,null,null,null,null,null,null,null,null,null,null,null,null,null,null,null,null,null,null,null,null,null,null,null,null,null,null,null,null,null,null,null,null,null,null,null,null,null,null,null,null,null,null,null,null,null,null,null,null,null,null,null,null,null,null,null,null,null,null,null,null,null,null,null,{"$f":"IF(OFFSET(DE104_5B!$H$34,ROWS($H$34:H124)-1,COLUMNS($H$34:H124)-1)<>\"\",OFFSET(DE104_5B!$H$34,ROWS($H$34:H124)-1,COLUMNS($H$34:H124)-1),\"\")","v":""},null,null,null,null,null,{"$f":"IF(OFFSET(DE104_5B!$I$34,ROWS($I$34:I124)-1,COLUMNS($I$34:I124)-1)<>\"\",OFFSET(DE104_5B!$I$34,ROWS($I$34:I124)-1,COLUMNS($I$34:I124)-1),\"\")","v":""},null,null,null,{"$f":"IF(OFFSET(DE104_5B!$J$34,ROWS($J$34:J124)-1,COLUMNS($J$34:J124)-1)<>\"\",OFFSET(DE104_5B!$J$34,ROWS($J$34:J124)-1,COLUMNS($J$34:J124)-1),\"\")","v":""},null,null,null,{"$f":"IF(OFFSET(DE104_5B!$K$34,ROWS($K$34:K124)-1,COLUMNS($K$34:K124)-1)<>\"\",OFFSET(DE104_5B!$K$34,ROWS($K$34:K124)-1,COLUMNS($K$34:K124)-1),\"\")","v":""},null,null,null,null,{"$f":"IF(OFFSET(DE104_5B!$L$34,ROWS($L$34:L124)-1,COLUMNS($L$34:L124)-1)<>\"\",OFFSET(DE104_5B!$L$34,ROWS($L$34:L124)-1,COLUMNS($L$34:L124)-1),\"\")","v":""},null,null,null,null,null,null,{"$f":"IF(OFFSET(DE104_5B!$M$34,ROWS($M$34:M124)-1,COLUMNS($M$34:M124)-1)<>\"\",OFFSET(DE104_5B!$M$34,ROWS($M$34:M124)-1,COLUMNS($M$34:M124)-1),\"\")","v":""},null,null,null,null,null,{"$f":"IF(OFFSET(DE104_5B!$O$34,ROWS($O$34:O124)-1,COLUMNS($O$34:O124)-1)<>\"\",OFFSET(DE104_5B!$O$34,ROWS($O$34:O124)-1,COLUMNS($O$34:O124)-1),\"\")","v":""},null,null,null,null,null,{"$f":"IF(OFFSET(DE104_5B!$P$34,ROWS($P$34:P124)-1,COLUMNS($P$34:P124)-1)<>\"\",OFFSET(DE104_5B!$P$34,ROWS($P$34:P124)-1,COLUMNS($P$34:P124)-1),\"\")","v":""},null,null,null,null,{"$f":"IF(OFFSET(DE104_5B!$Q$34,ROWS($Q$34:Q124)-1,COLUMNS($Q$34:Q124)-1)<>\"\",OFFSET(DE104_5B!$Q$34,ROWS($Q$34:Q124)-1,COLUMNS($Q$34:Q124)-1),\"\")","v":""},null,null,null,null,null,null,null,null,null,{"$f":"IF(OFFSET(DE104_5B!$R$34,ROWS($R$34:R124)-1,COLUMNS($R$34:R124)-1)<>\"\",OFFSET(DE104_5B!$R$34,ROWS($R$34:R124)-1,COLUMNS($R$34:R124)-1),\"\")","v":""},null,null,null,null,null,null,null,{"$f":"IF(OFFSET(DE104_5B!$S$34,ROWS($S$34:S124)-1,COLUMNS($S$34:S124)-1)<>\"\",OFFSET(DE104_5B!$S$34,ROWS($S$34:S124)-1,COLUMNS($S$34:S124)-1),\"\")","v":""},null,null,null,null,null,null,null,{"$f":"IF(OFFSET(DE104_5B!$T$34,ROWS($T$34:T124)-1,COLUMNS($T$34:T124)-1)<>\"\",OFFSET(DE104_5B!$T$34,ROWS($T$34:T124)-1,COLUMNS($T$34:T124)-1),\"\")","v":""},null,null,null,null,null,null,null,{"$f":"IF(OFFSET(DE104_5B!$U$34,ROWS($U$34:U124)-1,COLUMNS($U$34:U124)-1)<>\"\",OFFSET(DE104_5B!$U$34,ROWS($U$34:U124)-1,COLUMNS($U$34:U124)-1),\"\")","v":""},null,null,null,null,null,null,{"$f":"IF(OFFSET(DE104_5B!$V$34,ROWS($V$34:V124)-1,COLUMNS($V$34:V124)-1)<>\"\",OFFSET(DE104_5B!$V$34,ROWS($V$34:V124)-1,COLUMNS($V$34:V124)-1),\"\")","v":""}]
[null,null,{"$f":"IF(OFFSET(DE104_5B!$A$33,ROWS($A$33:A125)-1,COLUMNS($A$33:A125)-1)<>\"\",OFFSET(DE104_5B!$A$33,ROWS($A$33:A125)-1,COLUMNS($A$33:A125)-1),\"\")","v":""},null,null,null,{"$f":"IF(OFFSET(DE104_5B!$B$33,ROWS($B$33:B125)-1,COLUMNS($B$33:B125)-1)<>\"\",OFFSET(DE104_5B!$B$33,ROWS($B$33:B125)-1,COLUMNS($B$33:B125)-1),\"\")","v":""},null,null,null,null,null,null,null,null,null,null,null,null,null,null,null,null,null,null,{"$f":"IF(OFFSET(DE104_5B!$C$33,ROWS($C$33:C125)-1,COLUMNS($C$33:C125)-1)<>\"\",OFFSET(DE104_5B!$C$33,ROWS($C$33:C125)-1,COLUMNS($C$33:C125)-1),\"\")","v":""},null,null,null,null,null,null,null,null,null,null,null,null,null,null,null,null,null,null,null,null,null,null,null,{"$f":"IF(OFFSET(DE104_5B!$D$33,ROWS($D$33:D125)-1,COLUMNS($D$33:D125)-1)<>\"\",OFFSET(DE104_5B!$D$33,ROWS($D$33:D125)-1,COLUMNS($D$33:D125)-1),\"\")","v":""},null,null,null,null,{"$f":"IF(OFFSET(DE104_5B!$E$33,ROWS($E$33:E125)-1,COLUMNS($E$33:E125)-1)<>\"\",OFFSET(DE104_5B!$E$33,ROWS($E$33:E125)-1,COLUMNS($E$33:E125)-1),\"\")","v":""},null,null,null,null,null,{"$f":"IF(OFFSET(DE104_5B!$F$33,ROWS($F$33:F125)-1,COLUMNS($F$33:F125)-1)<>\"\",OFFSET(DE104_5B!$F$33,ROWS($F$33:F125)-1,COLUMNS($F$33:F125)-1),\"\")","v":""},null,null,null,null,null,null,null,{"$f":"IF(OFFSET(DE104_5B!$G$33,ROWS($G$33:G125)-1,COLUMNS($G$33:G125)-1)<>\"\",OFFSET(DE104_5B!$G$33,ROWS($G$33:G125)-1,COLUMNS($G$33:G125)-1),\"\")","v":""}]
[null,null,null,null,null,null,null,null,null,null,null,null,null,null,null,null,null,null,null,null,null,null,null,null,null,null,null,null,null,null,null,null,null,null,null,null,null,null,null,null,null,null,null,null,null,null,null,null,null,null,null,null,null,null,null,null,null,null,null,null,null,null,null,null,null,null,null,null,null,null,null,null,null,null,null,null,null,null,null,null,null,{"$f":"IF(OFFSET(DE104_5B!$H$34,ROWS($H$34:H126)-1,COLUMNS($H$34:H126)-1)<>\"\",OFFSET(DE104_5B!$H$34,ROWS($H$34:H126)-1,COLUMNS($H$34:H126)-1),\"\")","v":""},null,null,null,null,null,{"$f":"IF(OFFSET(DE104_5B!$I$34,ROWS($I$34:I126)-1,COLUMNS($I$34:I126)-1)<>\"\",OFFSET(DE104_5B!$I$34,ROWS($I$34:I126)-1,COLUMNS($I$34:I126)-1),\"\")","v":""},null,null,null,{"$f":"IF(OFFSET(DE104_5B!$J$34,ROWS($J$34:J126)-1,COLUMNS($J$34:J126)-1)<>\"\",OFFSET(DE104_5B!$J$34,ROWS($J$34:J126)-1,COLUMNS($J$34:J126)-1),\"\")","v":""},null,null,null,{"$f":"IF(OFFSET(DE104_5B!$K$34,ROWS($K$34:K126)-1,COLUMNS($K$34:K126)-1)<>\"\",OFFSET(DE104_5B!$K$34,ROWS($K$34:K126)-1,COLUMNS($K$34:K126)-1),\"\")","v":""},null,null,null,null,{"$f":"IF(OFFSET(DE104_5B!$L$34,ROWS($L$34:L126)-1,COLUMNS($L$34:L126)-1)<>\"\",OFFSET(DE104_5B!$L$34,ROWS($L$34:L126)-1,COLUMNS($L$34:L126)-1),\"\")","v":""},null,null,null,null,null,null,{"$f":"IF(OFFSET(DE104_5B!$M$34,ROWS($M$34:M126)-1,COLUMNS($M$34:M126)-1)<>\"\",OFFSET(DE104_5B!$M$34,ROWS($M$34:M126)-1,COLUMNS($M$34:M126)-1),\"\")","v":""},null,null,null,null,null,{"$f":"IF(OFFSET(DE104_5B!$O$34,ROWS($O$34:O126)-1,COLUMNS($O$34:O126)-1)<>\"\",OFFSET(DE104_5B!$O$34,ROWS($O$34:O126)-1,COLUMNS($O$34:O126)-1),\"\")","v":""},null,null,null,null,null,{"$f":"IF(OFFSET(DE104_5B!$P$34,ROWS($P$34:P126)-1,COLUMNS($P$34:P126)-1)<>\"\",OFFSET(DE104_5B!$P$34,ROWS($P$34:P126)-1,COLUMNS($P$34:P126)-1),\"\")","v":""},null,null,null,null,{"$f":"IF(OFFSET(DE104_5B!$Q$34,ROWS($Q$34:Q126)-1,COLUMNS($Q$34:Q126)-1)<>\"\",OFFSET(DE104_5B!$Q$34,ROWS($Q$34:Q126)-1,COLUMNS($Q$34:Q126)-1),\"\")","v":""},null,null,null,null,null,null,null,null,null,{"$f":"IF(OFFSET(DE104_5B!$R$34,ROWS($R$34:R126)-1,COLUMNS($R$34:R126)-1)<>\"\",OFFSET(DE104_5B!$R$34,ROWS($R$34:R126)-1,COLUMNS($R$34:R126)-1),\"\")","v":""},null,null,null,null,null,null,null,{"$f":"IF(OFFSET(DE104_5B!$S$34,ROWS($S$34:S126)-1,COLUMNS($S$34:S126)-1)<>\"\",OFFSET(DE104_5B!$S$34,ROWS($S$34:S126)-1,COLUMNS($S$34:S126)-1),\"\")","v":""},null,null,null,null,null,null,null,{"$f":"IF(OFFSET(DE104_5B!$T$34,ROWS($T$34:T126)-1,COLUMNS($T$34:T126)-1)<>\"\",OFFSET(DE104_5B!$T$34,ROWS($T$34:T126)-1,COLUMNS($T$34:T126)-1),\"\")","v":""},null,null,null,null,null,null,null,{"$f":"IF(OFFSET(DE104_5B!$U$34,ROWS($U$34:U126)-1,COLUMNS($U$34:U126)-1)<>\"\",OFFSET(DE104_5B!$U$34,ROWS($U$34:U126)-1,COLUMNS($U$34:U126)-1),\"\")","v":""},null,null,null,null,null,null,{"$f":"IF(OFFSET(DE104_5B!$V$34,ROWS($V$34:V126)-1,COLUMNS($V$34:V126)-1)<>\"\",OFFSET(DE104_5B!$V$34,ROWS($V$34:V126)-1,COLUMNS($V$34:V126)-1),\"\")","v":""}]
[null,null,{"$f":"IF(OFFSET(DE104_5B!$A$33,ROWS($A$33:A127)-1,COLUMNS($A$33:A127)-1)<>\"\",OFFSET(DE104_5B!$A$33,ROWS($A$33:A127)-1,COLUMNS($A$33:A127)-1),\"\")","v":""},null,null,null,{"$f":"IF(OFFSET(DE104_5B!$B$33,ROWS($B$33:B127)-1,COLUMNS($B$33:B127)-1)<>\"\",OFFSET(DE104_5B!$B$33,ROWS($B$33:B127)-1,COLUMNS($B$33:B127)-1),\"\")","v":""},null,null,null,null,null,null,null,null,null,null,null,null,null,null,null,null,null,null,{"$f":"IF(OFFSET(DE104_5B!$C$33,ROWS($C$33:C127)-1,COLUMNS($C$33:C127)-1)<>\"\",OFFSET(DE104_5B!$C$33,ROWS($C$33:C127)-1,COLUMNS($C$33:C127)-1),\"\")","v":""},null,null,null,null,null,null,null,null,null,null,null,null,null,null,null,null,null,null,null,null,null,null,null,{"$f":"IF(OFFSET(DE104_5B!$D$33,ROWS($D$33:D127)-1,COLUMNS($D$33:D127)-1)<>\"\",OFFSET(DE104_5B!$D$33,ROWS($D$33:D127)-1,COLUMNS($D$33:D127)-1),\"\")","v":""},null,null,null,null,{"$f":"IF(OFFSET(DE104_5B!$E$33,ROWS($E$33:E127)-1,COLUMNS($E$33:E127)-1)<>\"\",OFFSET(DE104_5B!$E$33,ROWS($E$33:E127)-1,COLUMNS($E$33:E127)-1),\"\")","v":""},null,null,null,null,null,{"$f":"IF(OFFSET(DE104_5B!$F$33,ROWS($F$33:F127)-1,COLUMNS($F$33:F127)-1)<>\"\",OFFSET(DE104_5B!$F$33,ROWS($F$33:F127)-1,COLUMNS($F$33:F127)-1),\"\")","v":""},null,null,null,null,null,null,null,{"$f":"IF(OFFSET(DE104_5B!$G$33,ROWS($G$33:G127)-1,COLUMNS($G$33:G127)-1)<>\"\",OFFSET(DE104_5B!$G$33,ROWS($G$33:G127)-1,COLUMNS($G$33:G127)-1),\"\")","v":""}]
[null,null,null,null,null,null,null,null,null,null,null,null,null,null,null,null,null,null,null,null,null,null,null,null,null,null,null,null,null,null,null,null,null,null,null,null,null,null,null,null,null,null,null,null,null,null,null,null,null,null,null,null,null,null,null,null,null,null,null,null,null,null,null,null,null,null,null,null,null,null,null,null,null,null,null,null,null,null,null,null,null,{"$f":"IF(OFFSET(DE104_5B!$H$34,ROWS($H$34:H128)-1,COLUMNS($H$34:H128)-1)<>\"\",OFFSET(DE104_5B!$H$34,ROWS($H$34:H128)-1,COLUMNS($H$34:H128)-1),\"\")","v":""},null,null,null,null,null,{"$f":"IF(OFFSET(DE104_5B!$I$34,ROWS($I$34:I128)-1,COLUMNS($I$34:I128)-1)<>\"\",OFFSET(DE104_5B!$I$34,ROWS($I$34:I128)-1,COLUMNS($I$34:I128)-1),\"\")","v":""},null,null,null,{"$f":"IF(OFFSET(DE104_5B!$J$34,ROWS($J$34:J128)-1,COLUMNS($J$34:J128)-1)<>\"\",OFFSET(DE104_5B!$J$34,ROWS($J$34:J128)-1,COLUMNS($J$34:J128)-1),\"\")","v":""},null,null,null,{"$f":"IF(OFFSET(DE104_5B!$K$34,ROWS($K$34:K128)-1,COLUMNS($K$34:K128)-1)<>\"\",OFFSET(DE104_5B!$K$34,ROWS($K$34:K128)-1,COLUMNS($K$34:K128)-1),\"\")","v":""},null,null,null,null,{"$f":"IF(OFFSET(DE104_5B!$L$34,ROWS($L$34:L128)-1,COLUMNS($L$34:L128)-1)<>\"\",OFFSET(DE104_5B!$L$34,ROWS($L$34:L128)-1,COLUMNS($L$34:L128)-1),\"\")","v":""},null,null,null,null,null,null,{"$f":"IF(OFFSET(DE104_5B!$M$34,ROWS($M$34:M128)-1,COLUMNS($M$34:M128)-1)<>\"\",OFFSET(DE104_5B!$M$34,ROWS($M$34:M128)-1,COLUMNS($M$34:M128)-1),\"\")","v":""},null,null,null,null,null,{"$f":"IF(OFFSET(DE104_5B!$O$34,ROWS($O$34:O128)-1,COLUMNS($O$34:O128)-1)<>\"\",OFFSET(DE104_5B!$O$34,ROWS($O$34:O128)-1,COLUMNS($O$34:O128)-1),\"\")","v":""},null,null,null,null,null,{"$f":"IF(OFFSET(DE104_5B!$P$34,ROWS($P$34:P128)-1,COLUMNS($P$34:P128)-1)<>\"\",OFFSET(DE104_5B!$P$34,ROWS($P$34:P128)-1,COLUMNS($P$34:P128)-1),\"\")","v":""},null,null,null,null,{"$f":"IF(OFFSET(DE104_5B!$Q$34,ROWS($Q$34:Q128)-1,COLUMNS($Q$34:Q128)-1)<>\"\",OFFSET(DE104_5B!$Q$34,ROWS($Q$34:Q128)-1,COLUMNS($Q$34:Q128)-1),\"\")","v":""},null,null,null,null,null,null,null,null,null,{"$f":"IF(OFFSET(DE104_5B!$R$34,ROWS($R$34:R128)-1,COLUMNS($R$34:R128)-1)<>\"\",OFFSET(DE104_5B!$R$34,ROWS($R$34:R128)-1,COLUMNS($R$34:R128)-1),\"\")","v":""},null,null,null,null,null,null,null,{"$f":"IF(OFFSET(DE104_5B!$S$34,ROWS($S$34:S128)-1,COLUMNS($S$34:S128)-1)<>\"\",OFFSET(DE104_5B!$S$34,ROWS($S$34:S128)-1,COLUMNS($S$34:S128)-1),\"\")","v":""},null,null,null,null,null,null,null,{"$f":"IF(OFFSET(DE104_5B!$T$34,ROWS($T$34:T128)-1,COLUMNS($T$34:T128)-1)<>\"\",OFFSET(DE104_5B!$T$34,ROWS($T$34:T128)-1,COLUMNS($T$34:T128)-1),\"\")","v":""},null,null,null,null,null,null,null,{"$f":"IF(OFFSET(DE104_5B!$U$34,ROWS($U$34:U128)-1,COLUMNS($U$34:U128)-1)<>\"\",OFFSET(DE104_5B!$U$34,ROWS($U$34:U128)-1,COLUMNS($U$34:U128)-1),\"\")","v":""},null,null,null,null,null,null,{"$f":"IF(OFFSET(DE104_5B!$V$34,ROWS($V$34:V128)-1,COLUMNS($V$34:V128)-1)<>\"\",OFFSET(DE104_5B!$V$34,ROWS($V$34:V128)-1,COLUMNS($V$34:V128)-1),\"\")","v":""}]
[null,null,{"$f":"IF(OFFSET(DE104_5B!$A$33,ROWS($A$33:A129)-1,COLUMNS($A$33:A129)-1)<>\"\",OFFSET(DE104_5B!$A$33,ROWS($A$33:A129)-1,COLUMNS($A$33:A129)-1),\"\")","v":""},null,null,null,{"$f":"IF(OFFSET(DE104_5B!$B$33,ROWS($B$33:B129)-1,COLUMNS($B$33:B129)-1)<>\"\",OFFSET(DE104_5B!$B$33,ROWS($B$33:B129)-1,COLUMNS($B$33:B129)-1),\"\")","v":""},null,null,null,null,null,null,null,null,null,null,null,null,null,null,null,null,null,null,{"$f":"IF(OFFSET(DE104_5B!$C$33,ROWS($C$33:C129)-1,COLUMNS($C$33:C129)-1)<>\"\",OFFSET(DE104_5B!$C$33,ROWS($C$33:C129)-1,COLUMNS($C$33:C129)-1),\"\")","v":""},null,null,null,null,null,null,null,null,null,null,null,null,null,null,null,null,null,null,null,null,null,null,null,{"$f":"IF(OFFSET(DE104_5B!$D$33,ROWS($D$33:D129)-1,COLUMNS($D$33:D129)-1)<>\"\",OFFSET(DE104_5B!$D$33,ROWS($D$33:D129)-1,COLUMNS($D$33:D129)-1),\"\")","v":""},null,null,null,null,{"$f":"IF(OFFSET(DE104_5B!$E$33,ROWS($E$33:E129)-1,COLUMNS($E$33:E129)-1)<>\"\",OFFSET(DE104_5B!$E$33,ROWS($E$33:E129)-1,COLUMNS($E$33:E129)-1),\"\")","v":""},null,null,null,null,null,{"$f":"IF(OFFSET(DE104_5B!$F$33,ROWS($F$33:F129)-1,COLUMNS($F$33:F129)-1)<>\"\",OFFSET(DE104_5B!$F$33,ROWS($F$33:F129)-1,COLUMNS($F$33:F129)-1),\"\")","v":""},null,null,null,null,null,null,null,{"$f":"IF(OFFSET(DE104_5B!$G$33,ROWS($G$33:G129)-1,COLUMNS($G$33:G129)-1)<>\"\",OFFSET(DE104_5B!$G$33,ROWS($G$33:G129)-1,COLUMNS($G$33:G129)-1),\"\")","v":""}]
[null,null,null,null,null,null,null,null,null,null,null,null,null,null,null,null,null,null,null,null,null,null,null,null,null,null,null,null,null,null,null,null,null,null,null,null,null,null,null,null,null,null,null,null,null,null,null,null,null,null,null,null,null,null,null,null,null,null,null,null,null,null,null,null,null,null,null,null,null,null,null,null,null,null,null,null,null,null,null,null,null,{"$f":"IF(OFFSET(DE104_5B!$H$34,ROWS($H$34:H130)-1,COLUMNS($H$34:H130)-1)<>\"\",OFFSET(DE104_5B!$H$34,ROWS($H$34:H130)-1,COLUMNS($H$34:H130)-1),\"\")","v":""},null,null,null,null,null,{"$f":"IF(OFFSET(DE104_5B!$I$34,ROWS($I$34:I130)-1,COLUMNS($I$34:I130)-1)<>\"\",OFFSET(DE104_5B!$I$34,ROWS($I$34:I130)-1,COLUMNS($I$34:I130)-1),\"\")","v":""},null,null,null,{"$f":"IF(OFFSET(DE104_5B!$J$34,ROWS($J$34:J130)-1,COLUMNS($J$34:J130)-1)<>\"\",OFFSET(DE104_5B!$J$34,ROWS($J$34:J130)-1,COLUMNS($J$34:J130)-1),\"\")","v":""},null,null,null,{"$f":"IF(OFFSET(DE104_5B!$K$34,ROWS($K$34:K130)-1,COLUMNS($K$34:K130)-1)<>\"\",OFFSET(DE104_5B!$K$34,ROWS($K$34:K130)-1,COLUMNS($K$34:K130)-1),\"\")","v":""},null,null,null,null,{"$f":"IF(OFFSET(DE104_5B!$L$34,ROWS($L$34:L130)-1,COLUMNS($L$34:L130)-1)<>\"\",OFFSET(DE104_5B!$L$34,ROWS($L$34:L130)-1,COLUMNS($L$34:L130)-1),\"\")","v":""},null,null,null,null,null,null,{"$f":"IF(OFFSET(DE104_5B!$M$34,ROWS($M$34:M130)-1,COLUMNS($M$34:M130)-1)<>\"\",OFFSET(DE104_5B!$M$34,ROWS($M$34:M130)-1,COLUMNS($M$34:M130)-1),\"\")","v":""},null,null,null,null,null,{"$f":"IF(OFFSET(DE104_5B!$O$34,ROWS($O$34:O130)-1,COLUMNS($O$34:O130)-1)<>\"\",OFFSET(DE104_5B!$O$34,ROWS($O$34:O130)-1,COLUMNS($O$34:O130)-1),\"\")","v":""},null,null,null,null,null,{"$f":"IF(OFFSET(DE104_5B!$P$34,ROWS($P$34:P130)-1,COLUMNS($P$34:P130)-1)<>\"\",OFFSET(DE104_5B!$P$34,ROWS($P$34:P130)-1,COLUMNS($P$34:P130)-1),\"\")","v":""},null,null,null,null,{"$f":"IF(OFFSET(DE104_5B!$Q$34,ROWS($Q$34:Q130)-1,COLUMNS($Q$34:Q130)-1)<>\"\",OFFSET(DE104_5B!$Q$34,ROWS($Q$34:Q130)-1,COLUMNS($Q$34:Q130)-1),\"\")","v":""},null,null,null,null,null,null,null,null,null,{"$f":"IF(OFFSET(DE104_5B!$R$34,ROWS($R$34:R130)-1,COLUMNS($R$34:R130)-1)<>\"\",OFFSET(DE104_5B!$R$34,ROWS($R$34:R130)-1,COLUMNS($R$34:R130)-1),\"\")","v":""},null,null,null,null,null,null,null,{"$f":"IF(OFFSET(DE104_5B!$S$34,ROWS($S$34:S130)-1,COLUMNS($S$34:S130)-1)<>\"\",OFFSET(DE104_5B!$S$34,ROWS($S$34:S130)-1,COLUMNS($S$34:S130)-1),\"\")","v":""},null,null,null,null,null,null,null,{"$f":"IF(OFFSET(DE104_5B!$T$34,ROWS($T$34:T130)-1,COLUMNS($T$34:T130)-1)<>\"\",OFFSET(DE104_5B!$T$34,ROWS($T$34:T130)-1,COLUMNS($T$34:T130)-1),\"\")","v":""},null,null,null,null,null,null,null,{"$f":"IF(OFFSET(DE104_5B!$U$34,ROWS($U$34:U130)-1,COLUMNS($U$34:U130)-1)<>\"\",OFFSET(DE104_5B!$U$34,ROWS($U$34:U130)-1,COLUMNS($U$34:U130)-1),\"\")","v":""},null,null,null,null,null,null,{"$f":"IF(OFFSET(DE104_5B!$V$34,ROWS($V$34:V130)-1,COLUMNS($V$34:V130)-1)<>\"\",OFFSET(DE104_5B!$V$34,ROWS($V$34:V130)-1,COLUMNS($V$34:V130)-1),\"\")","v":""}]
[null,null,{"$f":"IF(OFFSET(DE104_5B!$A$33,ROWS($A$33:A131)-1,COLUMNS($A$33:A131)-1)<>\"\",OFFSET(DE104_5B!$A$33,ROWS($A$33:A131)-1,COLUMNS($A$33:A131)-1),\"\")","v":""},null,null,null,{"$f":"IF(OFFSET(DE104_5B!$B$33,ROWS($B$33:B131)-1,COLUMNS($B$33:B131)-1)<>\"\",OFFSET(DE104_5B!$B$33,ROWS($B$33:B131)-1,COLUMNS($B$33:B131)-1),\"\")","v":""},null,null,null,null,null,null,null,null,null,null,null,null,null,null,null,null,null,null,{"$f":"IF(OFFSET(DE104_5B!$C$33,ROWS($C$33:C131)-1,COLUMNS($C$33:C131)-1)<>\"\",OFFSET(DE104_5B!$C$33,ROWS($C$33:C131)-1,COLUMNS($C$33:C131)-1),\"\")","v":""},null,null,null,null,null,null,null,null,null,null,null,null,null,null,null,null,null,null,null,null,null,null,null,{"$f":"IF(OFFSET(DE104_5B!$D$33,ROWS($D$33:D131)-1,COLUMNS($D$33:D131)-1)<>\"\",OFFSET(DE104_5B!$D$33,ROWS($D$33:D131)-1,COLUMNS($D$33:D131)-1),\"\")","v":""},null,null,null,null,{"$f":"IF(OFFSET(DE104_5B!$E$33,ROWS($E$33:E131)-1,COLUMNS($E$33:E131)-1)<>\"\",OFFSET(DE104_5B!$E$33,ROWS($E$33:E131)-1,COLUMNS($E$33:E131)-1),\"\")","v":""},null,null,null,null,null,{"$f":"IF(OFFSET(DE104_5B!$F$33,ROWS($F$33:F131)-1,COLUMNS($F$33:F131)-1)<>\"\",OFFSET(DE104_5B!$F$33,ROWS($F$33:F131)-1,COLUMNS($F$33:F131)-1),\"\")","v":""},null,null,null,null,null,null,null,{"$f":"IF(OFFSET(DE104_5B!$G$33,ROWS($G$33:G131)-1,COLUMNS($G$33:G131)-1)<>\"\",OFFSET(DE104_5B!$G$33,ROWS($G$33:G131)-1,COLUMNS($G$33:G131)-1),\"\")","v":""}]
[null,null,null,null,null,null,null,null,null,null,null,null,null,null,null,null,null,null,null,null,null,null,null,null,null,null,null,null,null,null,null,null,null,null,null,null,null,null,null,null,null,null,null,null,null,null,null,null,null,null,null,null,null,null,null,null,null,null,null,null,null,null,null,null,null,null,null,null,null,null,null,null,null,null,null,null,null,null,null,null,null,{"$f":"IF(OFFSET(DE104_5B!$H$34,ROWS($H$34:H132)-1,COLUMNS($H$34:H132)-1)<>\"\",OFFSET(DE104_5B!$H$34,ROWS($H$34:H132)-1,COLUMNS($H$34:H132)-1),\"\")","v":""},null,null,null,null,null,{"$f":"IF(OFFSET(DE104_5B!$I$34,ROWS($I$34:I132)-1,COLUMNS($I$34:I132)-1)<>\"\",OFFSET(DE104_5B!$I$34,ROWS($I$34:I132)-1,COLUMNS($I$34:I132)-1),\"\")","v":""},null,null,null,{"$f":"IF(OFFSET(DE104_5B!$J$34,ROWS($J$34:J132)-1,COLUMNS($J$34:J132)-1)<>\"\",OFFSET(DE104_5B!$J$34,ROWS($J$34:J132)-1,COLUMNS($J$34:J132)-1),\"\")","v":""},null,null,null,{"$f":"IF(OFFSET(DE104_5B!$K$34,ROWS($K$34:K132)-1,COLUMNS($K$34:K132)-1)<>\"\",OFFSET(DE104_5B!$K$34,ROWS($K$34:K132)-1,COLUMNS($K$34:K132)-1),\"\")","v":""},null,null,null,null,{"$f":"IF(OFFSET(DE104_5B!$L$34,ROWS($L$34:L132)-1,COLUMNS($L$34:L132)-1)<>\"\",OFFSET(DE104_5B!$L$34,ROWS($L$34:L132)-1,COLUMNS($L$34:L132)-1),\"\")","v":""},null,null,null,null,null,null,{"$f":"IF(OFFSET(DE104_5B!$M$34,ROWS($M$34:M132)-1,COLUMNS($M$34:M132)-1)<>\"\",OFFSET(DE104_5B!$M$34,ROWS($M$34:M132)-1,COLUMNS($M$34:M132)-1),\"\")","v":""},null,null,null,null,null,{"$f":"IF(OFFSET(DE104_5B!$O$34,ROWS($O$34:O132)-1,COLUMNS($O$34:O132)-1)<>\"\",OFFSET(DE104_5B!$O$34,ROWS($O$34:O132)-1,COLUMNS($O$34:O132)-1),\"\")","v":""},null,null,null,null,null,{"$f":"IF(OFFSET(DE104_5B!$P$34,ROWS($P$34:P132)-1,COLUMNS($P$34:P132)-1)<>\"\",OFFSET(DE104_5B!$P$34,ROWS($P$34:P132)-1,COLUMNS($P$34:P132)-1),\"\")","v":""},null,null,null,null,{"$f":"IF(OFFSET(DE104_5B!$Q$34,ROWS($Q$34:Q132)-1,COLUMNS($Q$34:Q132)-1)<>\"\",OFFSET(DE104_5B!$Q$34,ROWS($Q$34:Q132)-1,COLUMNS($Q$34:Q132)-1),\"\")","v":""},null,null,null,null,null,null,null,null,null,{"$f":"IF(OFFSET(DE104_5B!$R$34,ROWS($R$34:R132)-1,COLUMNS($R$34:R132)-1)<>\"\",OFFSET(DE104_5B!$R$34,ROWS($R$34:R132)-1,COLUMNS($R$34:R132)-1),\"\")","v":""},null,null,null,null,null,null,null,{"$f":"IF(OFFSET(DE104_5B!$S$34,ROWS($S$34:S132)-1,COLUMNS($S$34:S132)-1)<>\"\",OFFSET(DE104_5B!$S$34,ROWS($S$34:S132)-1,COLUMNS($S$34:S132)-1),\"\")","v":""},null,null,null,null,null,null,null,{"$f":"IF(OFFSET(DE104_5B!$T$34,ROWS($T$34:T132)-1,COLUMNS($T$34:T132)-1)<>\"\",OFFSET(DE104_5B!$T$34,ROWS($T$34:T132)-1,COLUMNS($T$34:T132)-1),\"\")","v":""},null,null,null,null,null,null,null,{"$f":"IF(OFFSET(DE104_5B!$U$34,ROWS($U$34:U132)-1,COLUMNS($U$34:U132)-1)<>\"\",OFFSET(DE104_5B!$U$34,ROWS($U$34:U132)-1,COLUMNS($U$34:U132)-1),\"\")","v":""},null,null,null,null,null,null,{"$f":"IF(OFFSET(DE104_5B!$V$34,ROWS($V$34:V132)-1,COLUMNS($V$34:V132)-1)<>\"\",OFFSET(DE104_5B!$V$34,ROWS($V$34:V132)-1,COLUMNS($V$34:V132)-1),\"\")","v":""}]
[null,null,{"$f":"IF(OFFSET(DE104_5B!$A$33,ROWS($A$33:A133)-1,COLUMNS($A$33:A133)-1)<>\"\",OFFSET(DE104_5B!$A$33,ROWS($A$33:A133)-1,COLUMNS($A$33:A133)-1),\"\")","v":""},null,null,null,{"$f":"IF(OFFSET(DE104_5B!$B$33,ROWS($B$33:B133)-1,COLUMNS($B$33:B133)-1)<>\"\",OFFSET(DE104_5B!$B$33,ROWS($B$33:B133)-1,COLUMNS($B$33:B133)-1),\"\")","v":""},null,null,null,null,null,null,null,null,null,null,null,null,null,null,null,null,null,null,{"$f":"IF(OFFSET(DE104_5B!$C$33,ROWS($C$33:C133)-1,COLUMNS($C$33:C133)-1)<>\"\",OFFSET(DE104_5B!$C$33,ROWS($C$33:C133)-1,COLUMNS($C$33:C133)-1),\"\")","v":""},null,null,null,null,null,null,null,null,null,null,null,null,null,null,null,null,null,null,null,null,null,null,null,{"$f":"IF(OFFSET(DE104_5B!$D$33,ROWS($D$33:D133)-1,COLUMNS($D$33:D133)-1)<>\"\",OFFSET(DE104_5B!$D$33,ROWS($D$33:D133)-1,COLUMNS($D$33:D133)-1),\"\")","v":""},null,null,null,null,{"$f":"IF(OFFSET(DE104_5B!$E$33,ROWS($E$33:E133)-1,COLUMNS($E$33:E133)-1)<>\"\",OFFSET(DE104_5B!$E$33,ROWS($E$33:E133)-1,COLUMNS($E$33:E133)-1),\"\")","v":""},null,null,null,null,null,{"$f":"IF(OFFSET(DE104_5B!$F$33,ROWS($F$33:F133)-1,COLUMNS($F$33:F133)-1)<>\"\",OFFSET(DE104_5B!$F$33,ROWS($F$33:F133)-1,COLUMNS($F$33:F133)-1),\"\")","v":""},null,null,null,null,null,null,null,{"$f":"IF(OFFSET(DE104_5B!$G$33,ROWS($G$33:G133)-1,COLUMNS($G$33:G133)-1)<>\"\",OFFSET(DE104_5B!$G$33,ROWS($G$33:G133)-1,COLUMNS($G$33:G133)-1),\"\")","v":""}]
[null,null,null,null,null,null,null,null,null,null,null,null,null,null,null,null,null,null,null,null,null,null,null,null,null,null,null,null,null,null,null,null,null,null,null,null,null,null,null,null,null,null,null,null,null,null,null,null,null,null,null,null,null,null,null,null,null,null,null,null,null,null,null,null,null,null,null,null,null,null,null,null,null,null,null,null,null,null,null,null,null,{"$f":"IF(OFFSET(DE104_5B!$H$34,ROWS($H$34:H134)-1,COLUMNS($H$34:H134)-1)<>\"\",OFFSET(DE104_5B!$H$34,ROWS($H$34:H134)-1,COLUMNS($H$34:H134)-1),\"\")","v":""},null,null,null,null,null,{"$f":"IF(OFFSET(DE104_5B!$I$34,ROWS($I$34:I134)-1,COLUMNS($I$34:I134)-1)<>\"\",OFFSET(DE104_5B!$I$34,ROWS($I$34:I134)-1,COLUMNS($I$34:I134)-1),\"\")","v":""},null,null,null,{"$f":"IF(OFFSET(DE104_5B!$J$34,ROWS($J$34:J134)-1,COLUMNS($J$34:J134)-1)<>\"\",OFFSET(DE104_5B!$J$34,ROWS($J$34:J134)-1,COLUMNS($J$34:J134)-1),\"\")","v":""},null,null,null,{"$f":"IF(OFFSET(DE104_5B!$K$34,ROWS($K$34:K134)-1,COLUMNS($K$34:K134)-1)<>\"\",OFFSET(DE104_5B!$K$34,ROWS($K$34:K134)-1,COLUMNS($K$34:K134)-1),\"\")","v":""},null,null,null,null,{"$f":"IF(OFFSET(DE104_5B!$L$34,ROWS($L$34:L134)-1,COLUMNS($L$34:L134)-1)<>\"\",OFFSET(DE104_5B!$L$34,ROWS($L$34:L134)-1,COLUMNS($L$34:L134)-1),\"\")","v":""},null,null,null,null,null,null,{"$f":"IF(OFFSET(DE104_5B!$M$34,ROWS($M$34:M134)-1,COLUMNS($M$34:M134)-1)<>\"\",OFFSET(DE104_5B!$M$34,ROWS($M$34:M134)-1,COLUMNS($M$34:M134)-1),\"\")","v":""},null,null,null,null,null,{"$f":"IF(OFFSET(DE104_5B!$O$34,ROWS($O$34:O134)-1,COLUMNS($O$34:O134)-1)<>\"\",OFFSET(DE104_5B!$O$34,ROWS($O$34:O134)-1,COLUMNS($O$34:O134)-1),\"\")","v":""},null,null,null,null,null,{"$f":"IF(OFFSET(DE104_5B!$P$34,ROWS($P$34:P134)-1,COLUMNS($P$34:P134)-1)<>\"\",OFFSET(DE104_5B!$P$34,ROWS($P$34:P134)-1,COLUMNS($P$34:P134)-1),\"\")","v":""},null,null,null,null,{"$f":"IF(OFFSET(DE104_5B!$Q$34,ROWS($Q$34:Q134)-1,COLUMNS($Q$34:Q134)-1)<>\"\",OFFSET(DE104_5B!$Q$34,ROWS($Q$34:Q134)-1,COLUMNS($Q$34:Q134)-1),\"\")","v":""},null,null,null,null,null,null,null,null,null,{"$f":"IF(OFFSET(DE104_5B!$R$34,ROWS($R$34:R134)-1,COLUMNS($R$34:R134)-1)<>\"\",OFFSET(DE104_5B!$R$34,ROWS($R$34:R134)-1,COLUMNS($R$34:R134)-1),\"\")","v":""},null,null,null,null,null,null,null,{"$f":"IF(OFFSET(DE104_5B!$S$34,ROWS($S$34:S134)-1,COLUMNS($S$34:S134)-1)<>\"\",OFFSET(DE104_5B!$S$34,ROWS($S$34:S134)-1,COLUMNS($S$34:S134)-1),\"\")","v":""},null,null,null,null,null,null,null,{"$f":"IF(OFFSET(DE104_5B!$T$34,ROWS($T$34:T134)-1,COLUMNS($T$34:T134)-1)<>\"\",OFFSET(DE104_5B!$T$34,ROWS($T$34:T134)-1,COLUMNS($T$34:T134)-1),\"\")","v":""},null,null,null,null,null,null,null,{"$f":"IF(OFFSET(DE104_5B!$U$34,ROWS($U$34:U134)-1,COLUMNS($U$34:U134)-1)<>\"\",OFFSET(DE104_5B!$U$34,ROWS($U$34:U134)-1,COLUMNS($U$34:U134)-1),\"\")","v":""},null,null,null,null,null,null,{"$f":"IF(OFFSET(DE104_5B!$V$34,ROWS($V$34:V134)-1,COLUMNS($V$34:V134)-1)<>\"\",OFFSET(DE104_5B!$V$34,ROWS($V$34:V134)-1,COLUMNS($V$34:V134)-1),\"\")","v":""}]
[null,null,{"$f":"IF(OFFSET(DE104_5B!$A$33,ROWS($A$33:A135)-1,COLUMNS($A$33:A135)-1)<>\"\",OFFSET(DE104_5B!$A$33,ROWS($A$33:A135)-1,COLUMNS($A$33:A135)-1),\"\")","v":""},null,null,null,{"$f":"IF(OFFSET(DE104_5B!$B$33,ROWS($B$33:B135)-1,COLUMNS($B$33:B135)-1)<>\"\",OFFSET(DE104_5B!$B$33,ROWS($B$33:B135)-1,COLUMNS($B$33:B135)-1),\"\")","v":""},null,null,null,null,null,null,null,null,null,null,null,null,null,null,null,null,null,null,{"$f":"IF(OFFSET(DE104_5B!$C$33,ROWS($C$33:C135)-1,COLUMNS($C$33:C135)-1)<>\"\",OFFSET(DE104_5B!$C$33,ROWS($C$33:C135)-1,COLUMNS($C$33:C135)-1),\"\")","v":""},null,null,null,null,null,null,null,null,null,null,null,null,null,null,null,null,null,null,null,null,null,null,null,{"$f":"IF(OFFSET(DE104_5B!$D$33,ROWS($D$33:D135)-1,COLUMNS($D$33:D135)-1)<>\"\",OFFSET(DE104_5B!$D$33,ROWS($D$33:D135)-1,COLUMNS($D$33:D135)-1),\"\")","v":""},null,null,null,null,{"$f":"IF(OFFSET(DE104_5B!$E$33,ROWS($E$33:E135)-1,COLUMNS($E$33:E135)-1)<>\"\",OFFSET(DE104_5B!$E$33,ROWS($E$33:E135)-1,COLUMNS($E$33:E135)-1),\"\")","v":""},null,null,null,null,null,{"$f":"IF(OFFSET(DE104_5B!$F$33,ROWS($F$33:F135)-1,COLUMNS($F$33:F135)-1)<>\"\",OFFSET(DE104_5B!$F$33,ROWS($F$33:F135)-1,COLUMNS($F$33:F135)-1),\"\")","v":""},null,null,null,null,null,null,null,{"$f":"IF(OFFSET(DE104_5B!$G$33,ROWS($G$33:G135)-1,COLUMNS($G$33:G135)-1)<>\"\",OFFSET(DE104_5B!$G$33,ROWS($G$33:G135)-1,COLUMNS($G$33:G135)-1),\"\")","v":""}]
[null,null,null,null,null,null,null,null,null,null,null,null,null,null,null,null,null,null,null,null,null,null,null,null,null,null,null,null,null,null,null,null,null,null,null,null,null,null,null,null,null,null,null,null,null,null,null,null,null,null,null,null,null,null,null,null,null,null,null,null,null,null,null,null,null,null,null,null,null,null,null,null,null,null,null,null,null,null,null,null,null,{"$f":"IF(OFFSET(DE104_5B!$H$34,ROWS($H$34:H136)-1,COLUMNS($H$34:H136)-1)<>\"\",OFFSET(DE104_5B!$H$34,ROWS($H$34:H136)-1,COLUMNS($H$34:H136)-1),\"\")","v":""},null,null,null,null,null,{"$f":"IF(OFFSET(DE104_5B!$I$34,ROWS($I$34:I136)-1,COLUMNS($I$34:I136)-1)<>\"\",OFFSET(DE104_5B!$I$34,ROWS($I$34:I136)-1,COLUMNS($I$34:I136)-1),\"\")","v":""},null,null,null,{"$f":"IF(OFFSET(DE104_5B!$J$34,ROWS($J$34:J136)-1,COLUMNS($J$34:J136)-1)<>\"\",OFFSET(DE104_5B!$J$34,ROWS($J$34:J136)-1,COLUMNS($J$34:J136)-1),\"\")","v":""},null,null,null,{"$f":"IF(OFFSET(DE104_5B!$K$34,ROWS($K$34:K136)-1,COLUMNS($K$34:K136)-1)<>\"\",OFFSET(DE104_5B!$K$34,ROWS($K$34:K136)-1,COLUMNS($K$34:K136)-1),\"\")","v":""},null,null,null,null,{"$f":"IF(OFFSET(DE104_5B!$L$34,ROWS($L$34:L136)-1,COLUMNS($L$34:L136)-1)<>\"\",OFFSET(DE104_5B!$L$34,ROWS($L$34:L136)-1,COLUMNS($L$34:L136)-1),\"\")","v":""},null,null,null,null,null,null,{"$f":"IF(OFFSET(DE104_5B!$M$34,ROWS($M$34:M136)-1,COLUMNS($M$34:M136)-1)<>\"\",OFFSET(DE104_5B!$M$34,ROWS($M$34:M136)-1,COLUMNS($M$34:M136)-1),\"\")","v":""},null,null,null,null,null,{"$f":"IF(OFFSET(DE104_5B!$O$34,ROWS($O$34:O136)-1,COLUMNS($O$34:O136)-1)<>\"\",OFFSET(DE104_5B!$O$34,ROWS($O$34:O136)-1,COLUMNS($O$34:O136)-1),\"\")","v":""},null,null,null,null,null,{"$f":"IF(OFFSET(DE104_5B!$P$34,ROWS($P$34:P136)-1,COLUMNS($P$34:P136)-1)<>\"\",OFFSET(DE104_5B!$P$34,ROWS($P$34:P136)-1,COLUMNS($P$34:P136)-1),\"\")","v":""},null,null,null,null,{"$f":"IF(OFFSET(DE104_5B!$Q$34,ROWS($Q$34:Q136)-1,COLUMNS($Q$34:Q136)-1)<>\"\",OFFSET(DE104_5B!$Q$34,ROWS($Q$34:Q136)-1,COLUMNS($Q$34:Q136)-1),\"\")","v":""},null,null,null,null,null,null,null,null,null,{"$f":"IF(OFFSET(DE104_5B!$R$34,ROWS($R$34:R136)-1,COLUMNS($R$34:R136)-1)<>\"\",OFFSET(DE104_5B!$R$34,ROWS($R$34:R136)-1,COLUMNS($R$34:R136)-1),\"\")","v":""},null,null,null,null,null,null,null,{"$f":"IF(OFFSET(DE104_5B!$S$34,ROWS($S$34:S136)-1,COLUMNS($S$34:S136)-1)<>\"\",OFFSET(DE104_5B!$S$34,ROWS($S$34:S136)-1,COLUMNS($S$34:S136)-1),\"\")","v":""},null,null,null,null,null,null,null,{"$f":"IF(OFFSET(DE104_5B!$T$34,ROWS($T$34:T136)-1,COLUMNS($T$34:T136)-1)<>\"\",OFFSET(DE104_5B!$T$34,ROWS($T$34:T136)-1,COLUMNS($T$34:T136)-1),\"\")","v":""},null,null,null,null,null,null,null,{"$f":"IF(OFFSET(DE104_5B!$U$34,ROWS($U$34:U136)-1,COLUMNS($U$34:U136)-1)<>\"\",OFFSET(DE104_5B!$U$34,ROWS($U$34:U136)-1,COLUMNS($U$34:U136)-1),\"\")","v":""},null,null,null,null,null,null,{"$f":"IF(OFFSET(DE104_5B!$V$34,ROWS($V$34:V136)-1,COLUMNS($V$34:V136)-1)<>\"\",OFFSET(DE104_5B!$V$34,ROWS($V$34:V136)-1,COLUMNS($V$34:V136)-1),\"\")","v":""}]
[null,null,{"$f":"IF(OFFSET(DE104_5B!$A$33,ROWS($A$33:A137)-1,COLUMNS($A$33:A137)-1)<>\"\",OFFSET(DE104_5B!$A$33,ROWS($A$33:A137)-1,COLUMNS($A$33:A137)-1),\"\")","v":""},null,null,null,{"$f":"IF(OFFSET(DE104_5B!$B$33,ROWS($B$33:B137)-1,COLUMNS($B$33:B137)-1)<>\"\",OFFSET(DE104_5B!$B$33,ROWS($B$33:B137)-1,COLUMNS($B$33:B137)-1),\"\")","v":""},null,null,null,null,null,null,null,null,null,null,null,null,null,null,null,null,null,null,{"$f":"IF(OFFSET(DE104_5B!$C$33,ROWS($C$33:C137)-1,COLUMNS($C$33:C137)-1)<>\"\",OFFSET(DE104_5B!$C$33,ROWS($C$33:C137)-1,COLUMNS($C$33:C137)-1),\"\")","v":""},null,null,null,null,null,null,null,null,null,null,null,null,null,null,null,null,null,null,null,null,null,null,null,{"$f":"IF(OFFSET(DE104_5B!$D$33,ROWS($D$33:D137)-1,COLUMNS($D$33:D137)-1)<>\"\",OFFSET(DE104_5B!$D$33,ROWS($D$33:D137)-1,COLUMNS($D$33:D137)-1),\"\")","v":""},null,null,null,null,{"$f":"IF(OFFSET(DE104_5B!$E$33,ROWS($E$33:E137)-1,COLUMNS($E$33:E137)-1)<>\"\",OFFSET(DE104_5B!$E$33,ROWS($E$33:E137)-1,COLUMNS($E$33:E137)-1),\"\")","v":""},null,null,null,null,null,{"$f":"IF(OFFSET(DE104_5B!$F$33,ROWS($F$33:F137)-1,COLUMNS($F$33:F137)-1)<>\"\",OFFSET(DE104_5B!$F$33,ROWS($F$33:F137)-1,COLUMNS($F$33:F137)-1),\"\")","v":""},null,null,null,null,null,null,null,{"$f":"IF(OFFSET(DE104_5B!$G$33,ROWS($G$33:G137)-1,COLUMNS($G$33:G137)-1)<>\"\",OFFSET(DE104_5B!$G$33,ROWS($G$33:G137)-1,COLUMNS($G$33:G137)-1),\"\")","v":""}]
[null,null,null,null,null,null,null,null,null,null,null,null,null,null,null,null,null,null,null,null,null,null,null,null,null,null,null,null,null,null,null,null,null,null,null,null,null,null,null,null,null,null,null,null,null,null,null,null,null,null,null,null,null,null,null,null,null,null,null,null,null,null,null,null,null,null,null,null,null,null,null,null,null,null,null,null,null,null,null,null,null,{"$f":"IF(OFFSET(DE104_5B!$H$34,ROWS($H$34:H138)-1,COLUMNS($H$34:H138)-1)<>\"\",OFFSET(DE104_5B!$H$34,ROWS($H$34:H138)-1,COLUMNS($H$34:H138)-1),\"\")","v":""},null,null,null,null,null,{"$f":"IF(OFFSET(DE104_5B!$I$34,ROWS($I$34:I138)-1,COLUMNS($I$34:I138)-1)<>\"\",OFFSET(DE104_5B!$I$34,ROWS($I$34:I138)-1,COLUMNS($I$34:I138)-1),\"\")","v":""},null,null,null,{"$f":"IF(OFFSET(DE104_5B!$J$34,ROWS($J$34:J138)-1,COLUMNS($J$34:J138)-1)<>\"\",OFFSET(DE104_5B!$J$34,ROWS($J$34:J138)-1,COLUMNS($J$34:J138)-1),\"\")","v":""},null,null,null,{"$f":"IF(OFFSET(DE104_5B!$K$34,ROWS($K$34:K138)-1,COLUMNS($K$34:K138)-1)<>\"\",OFFSET(DE104_5B!$K$34,ROWS($K$34:K138)-1,COLUMNS($K$34:K138)-1),\"\")","v":""},null,null,null,null,{"$f":"IF(OFFSET(DE104_5B!$L$34,ROWS($L$34:L138)-1,COLUMNS($L$34:L138)-1)<>\"\",OFFSET(DE104_5B!$L$34,ROWS($L$34:L138)-1,COLUMNS($L$34:L138)-1),\"\")","v":""},null,null,null,null,null,null,{"$f":"IF(OFFSET(DE104_5B!$M$34,ROWS($M$34:M138)-1,COLUMNS($M$34:M138)-1)<>\"\",OFFSET(DE104_5B!$M$34,ROWS($M$34:M138)-1,COLUMNS($M$34:M138)-1),\"\")","v":""},null,null,null,null,null,{"$f":"IF(OFFSET(DE104_5B!$O$34,ROWS($O$34:O138)-1,COLUMNS($O$34:O138)-1)<>\"\",OFFSET(DE104_5B!$O$34,ROWS($O$34:O138)-1,COLUMNS($O$34:O138)-1),\"\")","v":""},null,null,null,null,null,{"$f":"IF(OFFSET(DE104_5B!$P$34,ROWS($P$34:P138)-1,COLUMNS($P$34:P138)-1)<>\"\",OFFSET(DE104_5B!$P$34,ROWS($P$34:P138)-1,COLUMNS($P$34:P138)-1),\"\")","v":""},null,null,null,null,{"$f":"IF(OFFSET(DE104_5B!$Q$34,ROWS($Q$34:Q138)-1,COLUMNS($Q$34:Q138)-1)<>\"\",OFFSET(DE104_5B!$Q$34,ROWS($Q$34:Q138)-1,COLUMNS($Q$34:Q138)-1),\"\")","v":""},null,null,null,null,null,null,null,null,null,{"$f":"IF(OFFSET(DE104_5B!$R$34,ROWS($R$34:R138)-1,COLUMNS($R$34:R138)-1)<>\"\",OFFSET(DE104_5B!$R$34,ROWS($R$34:R138)-1,COLUMNS($R$34:R138)-1),\"\")","v":""},null,null,null,null,null,null,null,{"$f":"IF(OFFSET(DE104_5B!$S$34,ROWS($S$34:S138)-1,COLUMNS($S$34:S138)-1)<>\"\",OFFSET(DE104_5B!$S$34,ROWS($S$34:S138)-1,COLUMNS($S$34:S138)-1),\"\")","v":""},null,null,null,null,null,null,null,{"$f":"IF(OFFSET(DE104_5B!$T$34,ROWS($T$34:T138)-1,COLUMNS($T$34:T138)-1)<>\"\",OFFSET(DE104_5B!$T$34,ROWS($T$34:T138)-1,COLUMNS($T$34:T138)-1),\"\")","v":""},null,null,null,null,null,null,null,{"$f":"IF(OFFSET(DE104_5B!$U$34,ROWS($U$34:U138)-1,COLUMNS($U$34:U138)-1)<>\"\",OFFSET(DE104_5B!$U$34,ROWS($U$34:U138)-1,COLUMNS($U$34:U138)-1),\"\")","v":""},null,null,null,null,null,null,{"$f":"IF(OFFSET(DE104_5B!$V$34,ROWS($V$34:V138)-1,COLUMNS($V$34:V138)-1)<>\"\",OFFSET(DE104_5B!$V$34,ROWS($V$34:V138)-1,COLUMNS($V$34:V138)-1),\"\")","v":""}]
[null,null,{"$f":"IF(OFFSET(DE104_5B!$A$33,ROWS($A$33:A139)-1,COLUMNS($A$33:A139)-1)<>\"\",OFFSET(DE104_5B!$A$33,ROWS($A$33:A139)-1,COLUMNS($A$33:A139)-1),\"\")","v":""},null,null,null,{"$f":"IF(OFFSET(DE104_5B!$B$33,ROWS($B$33:B139)-1,COLUMNS($B$33:B139)-1)<>\"\",OFFSET(DE104_5B!$B$33,ROWS($B$33:B139)-1,COLUMNS($B$33:B139)-1),\"\")","v":""},null,null,null,null,null,null,null,null,null,null,null,null,null,null,null,null,null,null,{"$f":"IF(OFFSET(DE104_5B!$C$33,ROWS($C$33:C139)-1,COLUMNS($C$33:C139)-1)<>\"\",OFFSET(DE104_5B!$C$33,ROWS($C$33:C139)-1,COLUMNS($C$33:C139)-1),\"\")","v":""},null,null,null,null,null,null,null,null,null,null,null,null,null,null,null,null,null,null,null,null,null,null,null,{"$f":"IF(OFFSET(DE104_5B!$D$33,ROWS($D$33:D139)-1,COLUMNS($D$33:D139)-1)<>\"\",OFFSET(DE104_5B!$D$33,ROWS($D$33:D139)-1,COLUMNS($D$33:D139)-1),\"\")","v":""},null,null,null,null,{"$f":"IF(OFFSET(DE104_5B!$E$33,ROWS($E$33:E139)-1,COLUMNS($E$33:E139)-1)<>\"\",OFFSET(DE104_5B!$E$33,ROWS($E$33:E139)-1,COLUMNS($E$33:E139)-1),\"\")","v":""},null,null,null,null,null,{"$f":"IF(OFFSET(DE104_5B!$F$33,ROWS($F$33:F139)-1,COLUMNS($F$33:F139)-1)<>\"\",OFFSET(DE104_5B!$F$33,ROWS($F$33:F139)-1,COLUMNS($F$33:F139)-1),\"\")","v":""},null,null,null,null,null,null,null,{"$f":"IF(OFFSET(DE104_5B!$G$33,ROWS($G$33:G139)-1,COLUMNS($G$33:G139)-1)<>\"\",OFFSET(DE104_5B!$G$33,ROWS($G$33:G139)-1,COLUMNS($G$33:G139)-1),\"\")","v":""}]
[null,null,null,null,null,null,null,null,null,null,null,null,null,null,null,null,null,null,null,null,null,null,null,null,null,null,null,null,null,null,null,null,null,null,null,null,null,null,null,null,null,null,null,null,null,null,null,null,null,null,null,null,null,null,null,null,null,null,null,null,null,null,null,null,null,null,null,null,null,null,null,null,null,null,null,null,null,null,null,null,null,{"$f":"IF(OFFSET(DE104_5B!$H$34,ROWS($H$34:H140)-1,COLUMNS($H$34:H140)-1)<>\"\",OFFSET(DE104_5B!$H$34,ROWS($H$34:H140)-1,COLUMNS($H$34:H140)-1),\"\")","v":""},null,null,null,null,null,{"$f":"IF(OFFSET(DE104_5B!$I$34,ROWS($I$34:I140)-1,COLUMNS($I$34:I140)-1)<>\"\",OFFSET(DE104_5B!$I$34,ROWS($I$34:I140)-1,COLUMNS($I$34:I140)-1),\"\")","v":""},null,null,null,{"$f":"IF(OFFSET(DE104_5B!$J$34,ROWS($J$34:J140)-1,COLUMNS($J$34:J140)-1)<>\"\",OFFSET(DE104_5B!$J$34,ROWS($J$34:J140)-1,COLUMNS($J$34:J140)-1),\"\")","v":""},null,null,null,{"$f":"IF(OFFSET(DE104_5B!$K$34,ROWS($K$34:K140)-1,COLUMNS($K$34:K140)-1)<>\"\",OFFSET(DE104_5B!$K$34,ROWS($K$34:K140)-1,COLUMNS($K$34:K140)-1),\"\")","v":""},null,null,null,null,{"$f":"IF(OFFSET(DE104_5B!$L$34,ROWS($L$34:L140)-1,COLUMNS($L$34:L140)-1)<>\"\",OFFSET(DE104_5B!$L$34,ROWS($L$34:L140)-1,COLUMNS($L$34:L140)-1),\"\")","v":""},null,null,null,null,null,null,{"$f":"IF(OFFSET(DE104_5B!$M$34,ROWS($M$34:M140)-1,COLUMNS($M$34:M140)-1)<>\"\",OFFSET(DE104_5B!$M$34,ROWS($M$34:M140)-1,COLUMNS($M$34:M140)-1),\"\")","v":""},null,null,null,null,null,{"$f":"IF(OFFSET(DE104_5B!$O$34,ROWS($O$34:O140)-1,COLUMNS($O$34:O140)-1)<>\"\",OFFSET(DE104_5B!$O$34,ROWS($O$34:O140)-1,COLUMNS($O$34:O140)-1),\"\")","v":""},null,null,null,null,null,{"$f":"IF(OFFSET(DE104_5B!$P$34,ROWS($P$34:P140)-1,COLUMNS($P$34:P140)-1)<>\"\",OFFSET(DE104_5B!$P$34,ROWS($P$34:P140)-1,COLUMNS($P$34:P140)-1),\"\")","v":""},null,null,null,null,{"$f":"IF(OFFSET(DE104_5B!$Q$34,ROWS($Q$34:Q140)-1,COLUMNS($Q$34:Q140)-1)<>\"\",OFFSET(DE104_5B!$Q$34,ROWS($Q$34:Q140)-1,COLUMNS($Q$34:Q140)-1),\"\")","v":""},null,null,null,null,null,null,null,null,null,{"$f":"IF(OFFSET(DE104_5B!$R$34,ROWS($R$34:R140)-1,COLUMNS($R$34:R140)-1)<>\"\",OFFSET(DE104_5B!$R$34,ROWS($R$34:R140)-1,COLUMNS($R$34:R140)-1),\"\")","v":""},null,null,null,null,null,null,null,{"$f":"IF(OFFSET(DE104_5B!$S$34,ROWS($S$34:S140)-1,COLUMNS($S$34:S140)-1)<>\"\",OFFSET(DE104_5B!$S$34,ROWS($S$34:S140)-1,COLUMNS($S$34:S140)-1),\"\")","v":""},null,null,null,null,null,null,null,{"$f":"IF(OFFSET(DE104_5B!$T$34,ROWS($T$34:T140)-1,COLUMNS($T$34:T140)-1)<>\"\",OFFSET(DE104_5B!$T$34,ROWS($T$34:T140)-1,COLUMNS($T$34:T140)-1),\"\")","v":""},null,null,null,null,null,null,null,{"$f":"IF(OFFSET(DE104_5B!$U$34,ROWS($U$34:U140)-1,COLUMNS($U$34:U140)-1)<>\"\",OFFSET(DE104_5B!$U$34,ROWS($U$34:U140)-1,COLUMNS($U$34:U140)-1),\"\")","v":""},null,null,null,null,null,null,{"$f":"IF(OFFSET(DE104_5B!$V$34,ROWS($V$34:V140)-1,COLUMNS($V$34:V140)-1)<>\"\",OFFSET(DE104_5B!$V$34,ROWS($V$34:V140)-1,COLUMNS($V$34:V140)-1),\"\")","v":""}]
[null,null,{"$f":"IF(OFFSET(DE104_5B!$A$33,ROWS($A$33:A141)-1,COLUMNS($A$33:A141)-1)<>\"\",OFFSET(DE104_5B!$A$33,ROWS($A$33:A141)-1,COLUMNS($A$33:A141)-1),\"\")","v":""},null,null,null,{"$f":"IF(OFFSET(DE104_5B!$B$33,ROWS($B$33:B141)-1,COLUMNS($B$33:B141)-1)<>\"\",OFFSET(DE104_5B!$B$33,ROWS($B$33:B141)-1,COLUMNS($B$33:B141)-1),\"\")","v":""},null,null,null,null,null,null,null,null,null,null,null,null,null,null,null,null,null,null,{"$f":"IF(OFFSET(DE104_5B!$C$33,ROWS($C$33:C141)-1,COLUMNS($C$33:C141)-1)<>\"\",OFFSET(DE104_5B!$C$33,ROWS($C$33:C141)-1,COLUMNS($C$33:C141)-1),\"\")","v":""},null,null,null,null,null,null,null,null,null,null,null,null,null,null,null,null,null,null,null,null,null,null,null,{"$f":"IF(OFFSET(DE104_5B!$D$33,ROWS($D$33:D141)-1,COLUMNS($D$33:D141)-1)<>\"\",OFFSET(DE104_5B!$D$33,ROWS($D$33:D141)-1,COLUMNS($D$33:D141)-1),\"\")","v":""},null,null,null,null,{"$f":"IF(OFFSET(DE104_5B!$E$33,ROWS($E$33:E141)-1,COLUMNS($E$33:E141)-1)<>\"\",OFFSET(DE104_5B!$E$33,ROWS($E$33:E141)-1,COLUMNS($E$33:E141)-1),\"\")","v":""},null,null,null,null,null,{"$f":"IF(OFFSET(DE104_5B!$F$33,ROWS($F$33:F141)-1,COLUMNS($F$33:F141)-1)<>\"\",OFFSET(DE104_5B!$F$33,ROWS($F$33:F141)-1,COLUMNS($F$33:F141)-1),\"\")","v":""},null,null,null,null,null,null,null,{"$f":"IF(OFFSET(DE104_5B!$G$33,ROWS($G$33:G141)-1,COLUMNS($G$33:G141)-1)<>\"\",OFFSET(DE104_5B!$G$33,ROWS($G$33:G141)-1,COLUMNS($G$33:G141)-1),\"\")","v":""}]
[null,null,null,null,null,null,null,null,null,null,null,null,null,null,null,null,null,null,null,null,null,null,null,null,null,null,null,null,null,null,null,null,null,null,null,null,null,null,null,null,null,null,null,null,null,null,null,null,null,null,null,null,null,null,null,null,null,null,null,null,null,null,null,null,null,null,null,null,null,null,null,null,null,null,null,null,null,null,null,null,null,{"$f":"IF(OFFSET(DE104_5B!$H$34,ROWS($H$34:H142)-1,COLUMNS($H$34:H142)-1)<>\"\",OFFSET(DE104_5B!$H$34,ROWS($H$34:H142)-1,COLUMNS($H$34:H142)-1),\"\")","v":""},null,null,null,null,null,{"$f":"IF(OFFSET(DE104_5B!$I$34,ROWS($I$34:I142)-1,COLUMNS($I$34:I142)-1)<>\"\",OFFSET(DE104_5B!$I$34,ROWS($I$34:I142)-1,COLUMNS($I$34:I142)-1),\"\")","v":""},null,null,null,{"$f":"IF(OFFSET(DE104_5B!$J$34,ROWS($J$34:J142)-1,COLUMNS($J$34:J142)-1)<>\"\",OFFSET(DE104_5B!$J$34,ROWS($J$34:J142)-1,COLUMNS($J$34:J142)-1),\"\")","v":""},null,null,null,{"$f":"IF(OFFSET(DE104_5B!$K$34,ROWS($K$34:K142)-1,COLUMNS($K$34:K142)-1)<>\"\",OFFSET(DE104_5B!$K$34,ROWS($K$34:K142)-1,COLUMNS($K$34:K142)-1),\"\")","v":""},null,null,null,null,{"$f":"IF(OFFSET(DE104_5B!$L$34,ROWS($L$34:L142)-1,COLUMNS($L$34:L142)-1)<>\"\",OFFSET(DE104_5B!$L$34,ROWS($L$34:L142)-1,COLUMNS($L$34:L142)-1),\"\")","v":""},null,null,null,null,null,null,{"$f":"IF(OFFSET(DE104_5B!$M$34,ROWS($M$34:M142)-1,COLUMNS($M$34:M142)-1)<>\"\",OFFSET(DE104_5B!$M$34,ROWS($M$34:M142)-1,COLUMNS($M$34:M142)-1),\"\")","v":""},null,null,null,null,null,{"$f":"IF(OFFSET(DE104_5B!$O$34,ROWS($O$34:O142)-1,COLUMNS($O$34:O142)-1)<>\"\",OFFSET(DE104_5B!$O$34,ROWS($O$34:O142)-1,COLUMNS($O$34:O142)-1),\"\")","v":""},null,null,null,null,null,{"$f":"IF(OFFSET(DE104_5B!$P$34,ROWS($P$34:P142)-1,COLUMNS($P$34:P142)-1)<>\"\",OFFSET(DE104_5B!$P$34,ROWS($P$34:P142)-1,COLUMNS($P$34:P142)-1),\"\")","v":""},null,null,null,null,{"$f":"IF(OFFSET(DE104_5B!$Q$34,ROWS($Q$34:Q142)-1,COLUMNS($Q$34:Q142)-1)<>\"\",OFFSET(DE104_5B!$Q$34,ROWS($Q$34:Q142)-1,COLUMNS($Q$34:Q142)-1),\"\")","v":""},null,null,null,null,null,null,null,null,null,{"$f":"IF(OFFSET(DE104_5B!$R$34,ROWS($R$34:R142)-1,COLUMNS($R$34:R142)-1)<>\"\",OFFSET(DE104_5B!$R$34,ROWS($R$34:R142)-1,COLUMNS($R$34:R142)-1),\"\")","v":""},null,null,null,null,null,null,null,{"$f":"IF(OFFSET(DE104_5B!$S$34,ROWS($S$34:S142)-1,COLUMNS($S$34:S142)-1)<>\"\",OFFSET(DE104_5B!$S$34,ROWS($S$34:S142)-1,COLUMNS($S$34:S142)-1),\"\")","v":""},null,null,null,null,null,null,null,{"$f":"IF(OFFSET(DE104_5B!$T$34,ROWS($T$34:T142)-1,COLUMNS($T$34:T142)-1)<>\"\",OFFSET(DE104_5B!$T$34,ROWS($T$34:T142)-1,COLUMNS($T$34:T142)-1),\"\")","v":""},null,null,null,null,null,null,null,{"$f":"IF(OFFSET(DE104_5B!$U$34,ROWS($U$34:U142)-1,COLUMNS($U$34:U142)-1)<>\"\",OFFSET(DE104_5B!$U$34,ROWS($U$34:U142)-1,COLUMNS($U$34:U142)-1),\"\")","v":""},null,null,null,null,null,null,{"$f":"IF(OFFSET(DE104_5B!$V$34,ROWS($V$34:V142)-1,COLUMNS($V$34:V142)-1)<>\"\",OFFSET(DE104_5B!$V$34,ROWS($V$34:V142)-1,COLUMNS($V$34:V142)-1),\"\")","v":""}]
[null,null,{"$f":"IF(OFFSET(DE104_5B!$A$33,ROWS($A$33:A143)-1,COLUMNS($A$33:A143)-1)<>\"\",OFFSET(DE104_5B!$A$33,ROWS($A$33:A143)-1,COLUMNS($A$33:A143)-1),\"\")","v":""},null,null,null,{"$f":"IF(OFFSET(DE104_5B!$B$33,ROWS($B$33:B143)-1,COLUMNS($B$33:B143)-1)<>\"\",OFFSET(DE104_5B!$B$33,ROWS($B$33:B143)-1,COLUMNS($B$33:B143)-1),\"\")","v":""},null,null,null,null,null,null,null,null,null,null,null,null,null,null,null,null,null,null,{"$f":"IF(OFFSET(DE104_5B!$C$33,ROWS($C$33:C143)-1,COLUMNS($C$33:C143)-1)<>\"\",OFFSET(DE104_5B!$C$33,ROWS($C$33:C143)-1,COLUMNS($C$33:C143)-1),\"\")","v":""},null,null,null,null,null,null,null,null,null,null,null,null,null,null,null,null,null,null,null,null,null,null,null,{"$f":"IF(OFFSET(DE104_5B!$D$33,ROWS($D$33:D143)-1,COLUMNS($D$33:D143)-1)<>\"\",OFFSET(DE104_5B!$D$33,ROWS($D$33:D143)-1,COLUMNS($D$33:D143)-1),\"\")","v":""},null,null,null,null,{"$f":"IF(OFFSET(DE104_5B!$E$33,ROWS($E$33:E143)-1,COLUMNS($E$33:E143)-1)<>\"\",OFFSET(DE104_5B!$E$33,ROWS($E$33:E143)-1,COLUMNS($E$33:E143)-1),\"\")","v":""},null,null,null,null,null,{"$f":"IF(OFFSET(DE104_5B!$F$33,ROWS($F$33:F143)-1,COLUMNS($F$33:F143)-1)<>\"\",OFFSET(DE104_5B!$F$33,ROWS($F$33:F143)-1,COLUMNS($F$33:F143)-1),\"\")","v":""},null,null,null,null,null,null,null,{"$f":"IF(OFFSET(DE104_5B!$G$33,ROWS($G$33:G143)-1,COLUMNS($G$33:G143)-1)<>\"\",OFFSET(DE104_5B!$G$33,ROWS($G$33:G143)-1,COLUMNS($G$33:G143)-1),\"\")","v":""}]
[null,null,null,null,null,null,null,null,null,null,null,null,null,null,null,null,null,null,null,null,null,null,null,null,null,null,null,null,null,null,null,null,null,null,null,null,null,null,null,null,null,null,null,null,null,null,null,null,null,null,null,null,null,null,null,null,null,null,null,null,null,null,null,null,null,null,null,null,null,null,null,null,null,null,null,null,null,null,null,null,null,{"$f":"IF(OFFSET(DE104_5B!$H$34,ROWS($H$34:H144)-1,COLUMNS($H$34:H144)-1)<>\"\",OFFSET(DE104_5B!$H$34,ROWS($H$34:H144)-1,COLUMNS($H$34:H144)-1),\"\")","v":""},null,null,null,null,null,{"$f":"IF(OFFSET(DE104_5B!$I$34,ROWS($I$34:I144)-1,COLUMNS($I$34:I144)-1)<>\"\",OFFSET(DE104_5B!$I$34,ROWS($I$34:I144)-1,COLUMNS($I$34:I144)-1),\"\")","v":""},null,null,null,{"$f":"IF(OFFSET(DE104_5B!$J$34,ROWS($J$34:J144)-1,COLUMNS($J$34:J144)-1)<>\"\",OFFSET(DE104_5B!$J$34,ROWS($J$34:J144)-1,COLUMNS($J$34:J144)-1),\"\")","v":""},null,null,null,{"$f":"IF(OFFSET(DE104_5B!$K$34,ROWS($K$34:K144)-1,COLUMNS($K$34:K144)-1)<>\"\",OFFSET(DE104_5B!$K$34,ROWS($K$34:K144)-1,COLUMNS($K$34:K144)-1),\"\")","v":""},null,null,null,null,{"$f":"IF(OFFSET(DE104_5B!$L$34,ROWS($L$34:L144)-1,COLUMNS($L$34:L144)-1)<>\"\",OFFSET(DE104_5B!$L$34,ROWS($L$34:L144)-1,COLUMNS($L$34:L144)-1),\"\")","v":""},null,null,null,null,null,null,{"$f":"IF(OFFSET(DE104_5B!$M$34,ROWS($M$34:M144)-1,COLUMNS($M$34:M144)-1)<>\"\",OFFSET(DE104_5B!$M$34,ROWS($M$34:M144)-1,COLUMNS($M$34:M144)-1),\"\")","v":""},null,null,null,null,null,{"$f":"IF(OFFSET(DE104_5B!$O$34,ROWS($O$34:O144)-1,COLUMNS($O$34:O144)-1)<>\"\",OFFSET(DE104_5B!$O$34,ROWS($O$34:O144)-1,COLUMNS($O$34:O144)-1),\"\")","v":""},null,null,null,null,null,{"$f":"IF(OFFSET(DE104_5B!$P$34,ROWS($P$34:P144)-1,COLUMNS($P$34:P144)-1)<>\"\",OFFSET(DE104_5B!$P$34,ROWS($P$34:P144)-1,COLUMNS($P$34:P144)-1),\"\")","v":""},null,null,null,null,{"$f":"IF(OFFSET(DE104_5B!$Q$34,ROWS($Q$34:Q144)-1,COLUMNS($Q$34:Q144)-1)<>\"\",OFFSET(DE104_5B!$Q$34,ROWS($Q$34:Q144)-1,COLUMNS($Q$34:Q144)-1),\"\")","v":""},null,null,null,null,null,null,null,null,null,{"$f":"IF(OFFSET(DE104_5B!$R$34,ROWS($R$34:R144)-1,COLUMNS($R$34:R144)-1)<>\"\",OFFSET(DE104_5B!$R$34,ROWS($R$34:R144)-1,COLUMNS($R$34:R144)-1),\"\")","v":""},null,null,null,null,null,null,null,{"$f":"IF(OFFSET(DE104_5B!$S$34,ROWS($S$34:S144)-1,COLUMNS($S$34:S144)-1)<>\"\",OFFSET(DE104_5B!$S$34,ROWS($S$34:S144)-1,COLUMNS($S$34:S144)-1),\"\")","v":""},null,null,null,null,null,null,null,{"$f":"IF(OFFSET(DE104_5B!$T$34,ROWS($T$34:T144)-1,COLUMNS($T$34:T144)-1)<>\"\",OFFSET(DE104_5B!$T$34,ROWS($T$34:T144)-1,COLUMNS($T$34:T144)-1),\"\")","v":""},null,null,null,null,null,null,null,{"$f":"IF(OFFSET(DE104_5B!$U$34,ROWS($U$34:U144)-1,COLUMNS($U$34:U144)-1)<>\"\",OFFSET(DE104_5B!$U$34,ROWS($U$34:U144)-1,COLUMNS($U$34:U144)-1),\"\")","v":""},null,null,null,null,null,null,{"$f":"IF(OFFSET(DE104_5B!$V$34,ROWS($V$34:V144)-1,COLUMNS($V$34:V144)-1)<>\"\",OFFSET(DE104_5B!$V$34,ROWS($V$34:V144)-1,COLUMNS($V$34:V144)-1),\"\")","v":""}]
[null,null,{"$f":"IF(OFFSET(DE104_5B!$A$33,ROWS($A$33:A145)-1,COLUMNS($A$33:A145)-1)<>\"\",OFFSET(DE104_5B!$A$33,ROWS($A$33:A145)-1,COLUMNS($A$33:A145)-1),\"\")","v":""},null,null,null,{"$f":"IF(OFFSET(DE104_5B!$B$33,ROWS($B$33:B145)-1,COLUMNS($B$33:B145)-1)<>\"\",OFFSET(DE104_5B!$B$33,ROWS($B$33:B145)-1,COLUMNS($B$33:B145)-1),\"\")","v":""},null,null,null,null,null,null,null,null,null,null,null,null,null,null,null,null,null,null,{"$f":"IF(OFFSET(DE104_5B!$C$33,ROWS($C$33:C145)-1,COLUMNS($C$33:C145)-1)<>\"\",OFFSET(DE104_5B!$C$33,ROWS($C$33:C145)-1,COLUMNS($C$33:C145)-1),\"\")","v":""},null,null,null,null,null,null,null,null,null,null,null,null,null,null,null,null,null,null,null,null,null,null,null,{"$f":"IF(OFFSET(DE104_5B!$D$33,ROWS($D$33:D145)-1,COLUMNS($D$33:D145)-1)<>\"\",OFFSET(DE104_5B!$D$33,ROWS($D$33:D145)-1,COLUMNS($D$33:D145)-1),\"\")","v":""},null,null,null,null,{"$f":"IF(OFFSET(DE104_5B!$E$33,ROWS($E$33:E145)-1,COLUMNS($E$33:E145)-1)<>\"\",OFFSET(DE104_5B!$E$33,ROWS($E$33:E145)-1,COLUMNS($E$33:E145)-1),\"\")","v":""},null,null,null,null,null,{"$f":"IF(OFFSET(DE104_5B!$F$33,ROWS($F$33:F145)-1,COLUMNS($F$33:F145)-1)<>\"\",OFFSET(DE104_5B!$F$33,ROWS($F$33:F145)-1,COLUMNS($F$33:F145)-1),\"\")","v":""},null,null,null,null,null,null,null,{"$f":"IF(OFFSET(DE104_5B!$G$33,ROWS($G$33:G145)-1,COLUMNS($G$33:G145)-1)<>\"\",OFFSET(DE104_5B!$G$33,ROWS($G$33:G145)-1,COLUMNS($G$33:G145)-1),\"\")","v":""}]
[null,null,null,null,null,null,null,null,null,null,null,null,null,null,null,null,null,null,null,null,null,null,null,null,null,null,null,null,null,null,null,null,null,null,null,null,null,null,null,null,null,null,null,null,null,null,null,null,null,null,null,null,null,null,null,null,null,null,null,null,null,null,null,null,null,null,null,null,null,null,null,null,null,null,null,null,null,null,null,null,null,{"$f":"IF(OFFSET(DE104_5B!$H$34,ROWS($H$34:H146)-1,COLUMNS($H$34:H146)-1)<>\"\",OFFSET(DE104_5B!$H$34,ROWS($H$34:H146)-1,COLUMNS($H$34:H146)-1),\"\")","v":""},null,null,null,null,null,{"$f":"IF(OFFSET(DE104_5B!$I$34,ROWS($I$34:I146)-1,COLUMNS($I$34:I146)-1)<>\"\",OFFSET(DE104_5B!$I$34,ROWS($I$34:I146)-1,COLUMNS($I$34:I146)-1),\"\")","v":""},null,null,null,{"$f":"IF(OFFSET(DE104_5B!$J$34,ROWS($J$34:J146)-1,COLUMNS($J$34:J146)-1)<>\"\",OFFSET(DE104_5B!$J$34,ROWS($J$34:J146)-1,COLUMNS($J$34:J146)-1),\"\")","v":""},null,null,null,{"$f":"IF(OFFSET(DE104_5B!$K$34,ROWS($K$34:K146)-1,COLUMNS($K$34:K146)-1)<>\"\",OFFSET(DE104_5B!$K$34,ROWS($K$34:K146)-1,COLUMNS($K$34:K146)-1),\"\")","v":""},null,null,null,null,{"$f":"IF(OFFSET(DE104_5B!$L$34,ROWS($L$34:L146)-1,COLUMNS($L$34:L146)-1)<>\"\",OFFSET(DE104_5B!$L$34,ROWS($L$34:L146)-1,COLUMNS($L$34:L146)-1),\"\")","v":""},null,null,null,null,null,null,{"$f":"IF(OFFSET(DE104_5B!$M$34,ROWS($M$34:M146)-1,COLUMNS($M$34:M146)-1)<>\"\",OFFSET(DE104_5B!$M$34,ROWS($M$34:M146)-1,COLUMNS($M$34:M146)-1),\"\")","v":""},null,null,null,null,null,{"$f":"IF(OFFSET(DE104_5B!$O$34,ROWS($O$34:O146)-1,COLUMNS($O$34:O146)-1)<>\"\",OFFSET(DE104_5B!$O$34,ROWS($O$34:O146)-1,COLUMNS($O$34:O146)-1),\"\")","v":""},null,null,null,null,null,{"$f":"IF(OFFSET(DE104_5B!$P$34,ROWS($P$34:P146)-1,COLUMNS($P$34:P146)-1)<>\"\",OFFSET(DE104_5B!$P$34,ROWS($P$34:P146)-1,COLUMNS($P$34:P146)-1),\"\")","v":""},null,null,null,null,{"$f":"IF(OFFSET(DE104_5B!$Q$34,ROWS($Q$34:Q146)-1,COLUMNS($Q$34:Q146)-1)<>\"\",OFFSET(DE104_5B!$Q$34,ROWS($Q$34:Q146)-1,COLUMNS($Q$34:Q146)-1),\"\")","v":""},null,null,null,null,null,null,null,null,null,{"$f":"IF(OFFSET(DE104_5B!$R$34,ROWS($R$34:R146)-1,COLUMNS($R$34:R146)-1)<>\"\",OFFSET(DE104_5B!$R$34,ROWS($R$34:R146)-1,COLUMNS($R$34:R146)-1),\"\")","v":""},null,null,null,null,null,null,null,{"$f":"IF(OFFSET(DE104_5B!$S$34,ROWS($S$34:S146)-1,COLUMNS($S$34:S146)-1)<>\"\",OFFSET(DE104_5B!$S$34,ROWS($S$34:S146)-1,COLUMNS($S$34:S146)-1),\"\")","v":""},null,null,null,null,null,null,null,{"$f":"IF(OFFSET(DE104_5B!$T$34,ROWS($T$34:T146)-1,COLUMNS($T$34:T146)-1)<>\"\",OFFSET(DE104_5B!$T$34,ROWS($T$34:T146)-1,COLUMNS($T$34:T146)-1),\"\")","v":""},null,null,null,null,null,null,null,{"$f":"IF(OFFSET(DE104_5B!$U$34,ROWS($U$34:U146)-1,COLUMNS($U$34:U146)-1)<>\"\",OFFSET(DE104_5B!$U$34,ROWS($U$34:U146)-1,COLUMNS($U$34:U146)-1),\"\")","v":""},null,null,null,null,null,null,{"$f":"IF(OFFSET(DE104_5B!$V$34,ROWS($V$34:V146)-1,COLUMNS($V$34:V146)-1)<>\"\",OFFSET(DE104_5B!$V$34,ROWS($V$34:V146)-1,COLUMNS($V$34:V146)-1),\"\")","v":""}]
[null,null,{"$f":"IF(OFFSET(DE104_5B!$A$33,ROWS($A$33:A147)-1,COLUMNS($A$33:A147)-1)<>\"\",OFFSET(DE104_5B!$A$33,ROWS($A$33:A147)-1,COLUMNS($A$33:A147)-1),\"\")","v":""},null,null,null,{"$f":"IF(OFFSET(DE104_5B!$B$33,ROWS($B$33:B147)-1,COLUMNS($B$33:B147)-1)<>\"\",OFFSET(DE104_5B!$B$33,ROWS($B$33:B147)-1,COLUMNS($B$33:B147)-1),\"\")","v":""},null,null,null,null,null,null,null,null,null,null,null,null,null,null,null,null,null,null,{"$f":"IF(OFFSET(DE104_5B!$C$33,ROWS($C$33:C147)-1,COLUMNS($C$33:C147)-1)<>\"\",OFFSET(DE104_5B!$C$33,ROWS($C$33:C147)-1,COLUMNS($C$33:C147)-1),\"\")","v":""},null,null,null,null,null,null,null,null,null,null,null,null,null,null,null,null,null,null,null,null,null,null,null,{"$f":"IF(OFFSET(DE104_5B!$D$33,ROWS($D$33:D147)-1,COLUMNS($D$33:D147)-1)<>\"\",OFFSET(DE104_5B!$D$33,ROWS($D$33:D147)-1,COLUMNS($D$33:D147)-1),\"\")","v":""},null,null,null,null,{"$f":"IF(OFFSET(DE104_5B!$E$33,ROWS($E$33:E147)-1,COLUMNS($E$33:E147)-1)<>\"\",OFFSET(DE104_5B!$E$33,ROWS($E$33:E147)-1,COLUMNS($E$33:E147)-1),\"\")","v":""},null,null,null,null,null,{"$f":"IF(OFFSET(DE104_5B!$F$33,ROWS($F$33:F147)-1,COLUMNS($F$33:F147)-1)<>\"\",OFFSET(DE104_5B!$F$33,ROWS($F$33:F147)-1,COLUMNS($F$33:F147)-1),\"\")","v":""},null,null,null,null,null,null,null,{"$f":"IF(OFFSET(DE104_5B!$G$33,ROWS($G$33:G147)-1,COLUMNS($G$33:G147)-1)<>\"\",OFFSET(DE104_5B!$G$33,ROWS($G$33:G147)-1,COLUMNS($G$33:G147)-1),\"\")","v":""}]
[null,null,null,null,null,null,null,null,null,null,null,null,null,null,null,null,null,null,null,null,null,null,null,null,null,null,null,null,null,null,null,null,null,null,null,null,null,null,null,null,null,null,null,null,null,null,null,null,null,null,null,null,null,null,null,null,null,null,null,null,null,null,null,null,null,null,null,null,null,null,null,null,null,null,null,null,null,null,null,null,null,{"$f":"IF(OFFSET(DE104_5B!$H$34,ROWS($H$34:H148)-1,COLUMNS($H$34:H148)-1)<>\"\",OFFSET(DE104_5B!$H$34,ROWS($H$34:H148)-1,COLUMNS($H$34:H148)-1),\"\")","v":""},null,null,null,null,null,{"$f":"IF(OFFSET(DE104_5B!$I$34,ROWS($I$34:I148)-1,COLUMNS($I$34:I148)-1)<>\"\",OFFSET(DE104_5B!$I$34,ROWS($I$34:I148)-1,COLUMNS($I$34:I148)-1),\"\")","v":""},null,null,null,{"$f":"IF(OFFSET(DE104_5B!$J$34,ROWS($J$34:J148)-1,COLUMNS($J$34:J148)-1)<>\"\",OFFSET(DE104_5B!$J$34,ROWS($J$34:J148)-1,COLUMNS($J$34:J148)-1),\"\")","v":""},null,null,null,{"$f":"IF(OFFSET(DE104_5B!$K$34,ROWS($K$34:K148)-1,COLUMNS($K$34:K148)-1)<>\"\",OFFSET(DE104_5B!$K$34,ROWS($K$34:K148)-1,COLUMNS($K$34:K148)-1),\"\")","v":""},null,null,null,null,{"$f":"IF(OFFSET(DE104_5B!$L$34,ROWS($L$34:L148)-1,COLUMNS($L$34:L148)-1)<>\"\",OFFSET(DE104_5B!$L$34,ROWS($L$34:L148)-1,COLUMNS($L$34:L148)-1),\"\")","v":""},null,null,null,null,null,null,{"$f":"IF(OFFSET(DE104_5B!$M$34,ROWS($M$34:M148)-1,COLUMNS($M$34:M148)-1)<>\"\",OFFSET(DE104_5B!$M$34,ROWS($M$34:M148)-1,COLUMNS($M$34:M148)-1),\"\")","v":""},null,null,null,null,null,{"$f":"IF(OFFSET(DE104_5B!$O$34,ROWS($O$34:O148)-1,COLUMNS($O$34:O148)-1)<>\"\",OFFSET(DE104_5B!$O$34,ROWS($O$34:O148)-1,COLUMNS($O$34:O148)-1),\"\")","v":""},null,null,null,null,null,{"$f":"IF(OFFSET(DE104_5B!$P$34,ROWS($P$34:P148)-1,COLUMNS($P$34:P148)-1)<>\"\",OFFSET(DE104_5B!$P$34,ROWS($P$34:P148)-1,COLUMNS($P$34:P148)-1),\"\")","v":""},null,null,null,null,{"$f":"IF(OFFSET(DE104_5B!$Q$34,ROWS($Q$34:Q148)-1,COLUMNS($Q$34:Q148)-1)<>\"\",OFFSET(DE104_5B!$Q$34,ROWS($Q$34:Q148)-1,COLUMNS($Q$34:Q148)-1),\"\")","v":""},null,null,null,null,null,null,null,null,null,{"$f":"IF(OFFSET(DE104_5B!$R$34,ROWS($R$34:R148)-1,COLUMNS($R$34:R148)-1)<>\"\",OFFSET(DE104_5B!$R$34,ROWS($R$34:R148)-1,COLUMNS($R$34:R148)-1),\"\")","v":""},null,null,null,null,null,null,null,{"$f":"IF(OFFSET(DE104_5B!$S$34,ROWS($S$34:S148)-1,COLUMNS($S$34:S148)-1)<>\"\",OFFSET(DE104_5B!$S$34,ROWS($S$34:S148)-1,COLUMNS($S$34:S148)-1),\"\")","v":""},null,null,null,null,null,null,null,{"$f":"IF(OFFSET(DE104_5B!$T$34,ROWS($T$34:T148)-1,COLUMNS($T$34:T148)-1)<>\"\",OFFSET(DE104_5B!$T$34,ROWS($T$34:T148)-1,COLUMNS($T$34:T148)-1),\"\")","v":""},null,null,null,null,null,null,null,{"$f":"IF(OFFSET(DE104_5B!$U$34,ROWS($U$34:U148)-1,COLUMNS($U$34:U148)-1)<>\"\",OFFSET(DE104_5B!$U$34,ROWS($U$34:U148)-1,COLUMNS($U$34:U148)-1),\"\")","v":""},null,null,null,null,null,null,{"$f":"IF(OFFSET(DE104_5B!$V$34,ROWS($V$34:V148)-1,COLUMNS($V$34:V148)-1)<>\"\",OFFSET(DE104_5B!$V$34,ROWS($V$34:V148)-1,COLUMNS($V$34:V148)-1),\"\")","v":""}]
[null,null,{"$f":"IF(OFFSET(DE104_5B!$A$33,ROWS($A$33:A149)-1,COLUMNS($A$33:A149)-1)<>\"\",OFFSET(DE104_5B!$A$33,ROWS($A$33:A149)-1,COLUMNS($A$33:A149)-1),\"\")","v":""},null,null,null,{"$f":"IF(OFFSET(DE104_5B!$B$33,ROWS($B$33:B149)-1,COLUMNS($B$33:B149)-1)<>\"\",OFFSET(DE104_5B!$B$33,ROWS($B$33:B149)-1,COLUMNS($B$33:B149)-1),\"\")","v":""},null,null,null,null,null,null,null,null,null,null,null,null,null,null,null,null,null,null,{"$f":"IF(OFFSET(DE104_5B!$C$33,ROWS($C$33:C149)-1,COLUMNS($C$33:C149)-1)<>\"\",OFFSET(DE104_5B!$C$33,ROWS($C$33:C149)-1,COLUMNS($C$33:C149)-1),\"\")","v":""},null,null,null,null,null,null,null,null,null,null,null,null,null,null,null,null,null,null,null,null,null,null,null,{"$f":"IF(OFFSET(DE104_5B!$D$33,ROWS($D$33:D149)-1,COLUMNS($D$33:D149)-1)<>\"\",OFFSET(DE104_5B!$D$33,ROWS($D$33:D149)-1,COLUMNS($D$33:D149)-1),\"\")","v":""},null,null,null,null,{"$f":"IF(OFFSET(DE104_5B!$E$33,ROWS($E$33:E149)-1,COLUMNS($E$33:E149)-1)<>\"\",OFFSET(DE104_5B!$E$33,ROWS($E$33:E149)-1,COLUMNS($E$33:E149)-1),\"\")","v":""},null,null,null,null,null,{"$f":"IF(OFFSET(DE104_5B!$F$33,ROWS($F$33:F149)-1,COLUMNS($F$33:F149)-1)<>\"\",OFFSET(DE104_5B!$F$33,ROWS($F$33:F149)-1,COLUMNS($F$33:F149)-1),\"\")","v":""},null,null,null,null,null,null,null,{"$f":"IF(OFFSET(DE104_5B!$G$33,ROWS($G$33:G149)-1,COLUMNS($G$33:G149)-1)<>\"\",OFFSET(DE104_5B!$G$33,ROWS($G$33:G149)-1,COLUMNS($G$33:G149)-1),\"\")","v":""}]
[null,null,null,null,null,null,null,null,null,null,null,null,null,null,null,null,null,null,null,null,null,null,null,null,null,null,null,null,null,null,null,null,null,null,null,null,null,null,null,null,null,null,null,null,null,null,null,null,null,null,null,null,null,null,null,null,null,null,null,null,null,null,null,null,null,null,null,null,null,null,null,null,null,null,null,null,null,null,null,null,null,{"$f":"IF(OFFSET(DE104_5B!$H$34,ROWS($H$34:H150)-1,COLUMNS($H$34:H150)-1)<>\"\",OFFSET(DE104_5B!$H$34,ROWS($H$34:H150)-1,COLUMNS($H$34:H150)-1),\"\")","v":""},null,null,null,null,null,{"$f":"IF(OFFSET(DE104_5B!$I$34,ROWS($I$34:I150)-1,COLUMNS($I$34:I150)-1)<>\"\",OFFSET(DE104_5B!$I$34,ROWS($I$34:I150)-1,COLUMNS($I$34:I150)-1),\"\")","v":""},null,null,null,{"$f":"IF(OFFSET(DE104_5B!$J$34,ROWS($J$34:J150)-1,COLUMNS($J$34:J150)-1)<>\"\",OFFSET(DE104_5B!$J$34,ROWS($J$34:J150)-1,COLUMNS($J$34:J150)-1),\"\")","v":""},null,null,null,{"$f":"IF(OFFSET(DE104_5B!$K$34,ROWS($K$34:K150)-1,COLUMNS($K$34:K150)-1)<>\"\",OFFSET(DE104_5B!$K$34,ROWS($K$34:K150)-1,COLUMNS($K$34:K150)-1),\"\")","v":""},null,null,null,null,{"$f":"IF(OFFSET(DE104_5B!$L$34,ROWS($L$34:L150)-1,COLUMNS($L$34:L150)-1)<>\"\",OFFSET(DE104_5B!$L$34,ROWS($L$34:L150)-1,COLUMNS($L$34:L150)-1),\"\")","v":""},null,null,null,null,null,null,{"$f":"IF(OFFSET(DE104_5B!$M$34,ROWS($M$34:M150)-1,COLUMNS($M$34:M150)-1)<>\"\",OFFSET(DE104_5B!$M$34,ROWS($M$34:M150)-1,COLUMNS($M$34:M150)-1),\"\")","v":""},null,null,null,null,null,{"$f":"IF(OFFSET(DE104_5B!$O$34,ROWS($O$34:O150)-1,COLUMNS($O$34:O150)-1)<>\"\",OFFSET(DE104_5B!$O$34,ROWS($O$34:O150)-1,COLUMNS($O$34:O150)-1),\"\")","v":""},null,null,null,null,null,{"$f":"IF(OFFSET(DE104_5B!$P$34,ROWS($P$34:P150)-1,COLUMNS($P$34:P150)-1)<>\"\",OFFSET(DE104_5B!$P$34,ROWS($P$34:P150)-1,COLUMNS($P$34:P150)-1),\"\")","v":""},null,null,null,null,{"$f":"IF(OFFSET(DE104_5B!$Q$34,ROWS($Q$34:Q150)-1,COLUMNS($Q$34:Q150)-1)<>\"\",OFFSET(DE104_5B!$Q$34,ROWS($Q$34:Q150)-1,COLUMNS($Q$34:Q150)-1),\"\")","v":""},null,null,null,null,null,null,null,null,null,{"$f":"IF(OFFSET(DE104_5B!$R$34,ROWS($R$34:R150)-1,COLUMNS($R$34:R150)-1)<>\"\",OFFSET(DE104_5B!$R$34,ROWS($R$34:R150)-1,COLUMNS($R$34:R150)-1),\"\")","v":""},null,null,null,null,null,null,null,{"$f":"IF(OFFSET(DE104_5B!$S$34,ROWS($S$34:S150)-1,COLUMNS($S$34:S150)-1)<>\"\",OFFSET(DE104_5B!$S$34,ROWS($S$34:S150)-1,COLUMNS($S$34:S150)-1),\"\")","v":""},null,null,null,null,null,null,null,{"$f":"IF(OFFSET(DE104_5B!$T$34,ROWS($T$34:T150)-1,COLUMNS($T$34:T150)-1)<>\"\",OFFSET(DE104_5B!$T$34,ROWS($T$34:T150)-1,COLUMNS($T$34:T150)-1),\"\")","v":""},null,null,null,null,null,null,null,{"$f":"IF(OFFSET(DE104_5B!$U$34,ROWS($U$34:U150)-1,COLUMNS($U$34:U150)-1)<>\"\",OFFSET(DE104_5B!$U$34,ROWS($U$34:U150)-1,COLUMNS($U$34:U150)-1),\"\")","v":""},null,null,null,null,null,null,{"$f":"IF(OFFSET(DE104_5B!$V$34,ROWS($V$34:V150)-1,COLUMNS($V$34:V150)-1)<>\"\",OFFSET(DE104_5B!$V$34,ROWS($V$34:V150)-1,COLUMNS($V$34:V150)-1),\"\")","v":""}]
[null,null,{"$f":"IF(OFFSET(DE104_5B!$A$33,ROWS($A$33:A151)-1,COLUMNS($A$33:A151)-1)<>\"\",OFFSET(DE104_5B!$A$33,ROWS($A$33:A151)-1,COLUMNS($A$33:A151)-1),\"\")","v":""},null,null,null,{"$f":"IF(OFFSET(DE104_5B!$B$33,ROWS($B$33:B151)-1,COLUMNS($B$33:B151)-1)<>\"\",OFFSET(DE104_5B!$B$33,ROWS($B$33:B151)-1,COLUMNS($B$33:B151)-1),\"\")","v":""},null,null,null,null,null,null,null,null,null,null,null,null,null,null,null,null,null,null,{"$f":"IF(OFFSET(DE104_5B!$C$33,ROWS($C$33:C151)-1,COLUMNS($C$33:C151)-1)<>\"\",OFFSET(DE104_5B!$C$33,ROWS($C$33:C151)-1,COLUMNS($C$33:C151)-1),\"\")","v":""},null,null,null,null,null,null,null,null,null,null,null,null,null,null,null,null,null,null,null,null,null,null,null,{"$f":"IF(OFFSET(DE104_5B!$D$33,ROWS($D$33:D151)-1,COLUMNS($D$33:D151)-1)<>\"\",OFFSET(DE104_5B!$D$33,ROWS($D$33:D151)-1,COLUMNS($D$33:D151)-1),\"\")","v":""},null,null,null,null,{"$f":"IF(OFFSET(DE104_5B!$E$33,ROWS($E$33:E151)-1,COLUMNS($E$33:E151)-1)<>\"\",OFFSET(DE104_5B!$E$33,ROWS($E$33:E151)-1,COLUMNS($E$33:E151)-1),\"\")","v":""},null,null,null,null,null,{"$f":"IF(OFFSET(DE104_5B!$F$33,ROWS($F$33:F151)-1,COLUMNS($F$33:F151)-1)<>\"\",OFFSET(DE104_5B!$F$33,ROWS($F$33:F151)-1,COLUMNS($F$33:F151)-1),\"\")","v":""},null,null,null,null,null,null,null,{"$f":"IF(OFFSET(DE104_5B!$G$33,ROWS($G$33:G151)-1,COLUMNS($G$33:G151)-1)<>\"\",OFFSET(DE104_5B!$G$33,ROWS($G$33:G151)-1,COLUMNS($G$33:G151)-1),\"\")","v":""}]
[null,null,null,null,null,null,null,null,null,null,null,null,null,null,null,null,null,null,null,null,null,null,null,null,null,null,null,null,null,null,null,null,null,null,null,null,null,null,null,null,null,null,null,null,null,null,null,null,null,null,null,null,null,null,null,null,null,null,null,null,null,null,null,null,null,null,null,null,null,null,null,null,null,null,null,null,null,null,null,null,null,{"$f":"IF(OFFSET(DE104_5B!$H$34,ROWS($H$34:H152)-1,COLUMNS($H$34:H152)-1)<>\"\",OFFSET(DE104_5B!$H$34,ROWS($H$34:H152)-1,COLUMNS($H$34:H152)-1),\"\")","v":""},null,null,null,null,null,{"$f":"IF(OFFSET(DE104_5B!$I$34,ROWS($I$34:I152)-1,COLUMNS($I$34:I152)-1)<>\"\",OFFSET(DE104_5B!$I$34,ROWS($I$34:I152)-1,COLUMNS($I$34:I152)-1),\"\")","v":""},null,null,null,{"$f":"IF(OFFSET(DE104_5B!$J$34,ROWS($J$34:J152)-1,COLUMNS($J$34:J152)-1)<>\"\",OFFSET(DE104_5B!$J$34,ROWS($J$34:J152)-1,COLUMNS($J$34:J152)-1),\"\")","v":""},null,null,null,{"$f":"IF(OFFSET(DE104_5B!$K$34,ROWS($K$34:K152)-1,COLUMNS($K$34:K152)-1)<>\"\",OFFSET(DE104_5B!$K$34,ROWS($K$34:K152)-1,COLUMNS($K$34:K152)-1),\"\")","v":""},null,null,null,null,{"$f":"IF(OFFSET(DE104_5B!$L$34,ROWS($L$34:L152)-1,COLUMNS($L$34:L152)-1)<>\"\",OFFSET(DE104_5B!$L$34,ROWS($L$34:L152)-1,COLUMNS($L$34:L152)-1),\"\")","v":""},null,null,null,null,null,null,{"$f":"IF(OFFSET(DE104_5B!$M$34,ROWS($M$34:M152)-1,COLUMNS($M$34:M152)-1)<>\"\",OFFSET(DE104_5B!$M$34,ROWS($M$34:M152)-1,COLUMNS($M$34:M152)-1),\"\")","v":""},null,null,null,null,null,{"$f":"IF(OFFSET(DE104_5B!$O$34,ROWS($O$34:O152)-1,COLUMNS($O$34:O152)-1)<>\"\",OFFSET(DE104_5B!$O$34,ROWS($O$34:O152)-1,COLUMNS($O$34:O152)-1),\"\")","v":""},null,null,null,null,null,{"$f":"IF(OFFSET(DE104_5B!$P$34,ROWS($P$34:P152)-1,COLUMNS($P$34:P152)-1)<>\"\",OFFSET(DE104_5B!$P$34,ROWS($P$34:P152)-1,COLUMNS($P$34:P152)-1),\"\")","v":""},null,null,null,null,{"$f":"IF(OFFSET(DE104_5B!$Q$34,ROWS($Q$34:Q152)-1,COLUMNS($Q$34:Q152)-1)<>\"\",OFFSET(DE104_5B!$Q$34,ROWS($Q$34:Q152)-1,COLUMNS($Q$34:Q152)-1),\"\")","v":""},null,null,null,null,null,null,null,null,null,{"$f":"IF(OFFSET(DE104_5B!$R$34,ROWS($R$34:R152)-1,COLUMNS($R$34:R152)-1)<>\"\",OFFSET(DE104_5B!$R$34,ROWS($R$34:R152)-1,COLUMNS($R$34:R152)-1),\"\")","v":""},null,null,null,null,null,null,null,{"$f":"IF(OFFSET(DE104_5B!$S$34,ROWS($S$34:S152)-1,COLUMNS($S$34:S152)-1)<>\"\",OFFSET(DE104_5B!$S$34,ROWS($S$34:S152)-1,COLUMNS($S$34:S152)-1),\"\")","v":""},null,null,null,null,null,null,null,{"$f":"IF(OFFSET(DE104_5B!$T$34,ROWS($T$34:T152)-1,COLUMNS($T$34:T152)-1)<>\"\",OFFSET(DE104_5B!$T$34,ROWS($T$34:T152)-1,COLUMNS($T$34:T152)-1),\"\")","v":""},null,null,null,null,null,null,null,{"$f":"IF(OFFSET(DE104_5B!$U$34,ROWS($U$34:U152)-1,COLUMNS($U$34:U152)-1)<>\"\",OFFSET(DE104_5B!$U$34,ROWS($U$34:U152)-1,COLUMNS($U$34:U152)-1),\"\")","v":""},null,null,null,null,null,null,{"$f":"IF(OFFSET(DE104_5B!$V$34,ROWS($V$34:V152)-1,COLUMNS($V$34:V152)-1)<>\"\",OFFSET(DE104_5B!$V$34,ROWS($V$34:V152)-1,COLUMNS($V$34:V152)-1),\"\")","v":""}]
[null,null,{"$f":"IF(OFFSET(DE104_5B!$A$33,ROWS($A$33:A153)-1,COLUMNS($A$33:A153)-1)<>\"\",OFFSET(DE104_5B!$A$33,ROWS($A$33:A153)-1,COLUMNS($A$33:A153)-1),\"\")","v":""},null,null,null,{"$f":"IF(OFFSET(DE104_5B!$B$33,ROWS($B$33:B153)-1,COLUMNS($B$33:B153)-1)<>\"\",OFFSET(DE104_5B!$B$33,ROWS($B$33:B153)-1,COLUMNS($B$33:B153)-1),\"\")","v":""},null,null,null,null,null,null,null,null,null,null,null,null,null,null,null,null,null,null,{"$f":"IF(OFFSET(DE104_5B!$C$33,ROWS($C$33:C153)-1,COLUMNS($C$33:C153)-1)<>\"\",OFFSET(DE104_5B!$C$33,ROWS($C$33:C153)-1,COLUMNS($C$33:C153)-1),\"\")","v":""},null,null,null,null,null,null,null,null,null,null,null,null,null,null,null,null,null,null,null,null,null,null,null,{"$f":"IF(OFFSET(DE104_5B!$D$33,ROWS($D$33:D153)-1,COLUMNS($D$33:D153)-1)<>\"\",OFFSET(DE104_5B!$D$33,ROWS($D$33:D153)-1,COLUMNS($D$33:D153)-1),\"\")","v":""},null,null,null,null,{"$f":"IF(OFFSET(DE104_5B!$E$33,ROWS($E$33:E153)-1,COLUMNS($E$33:E153)-1)<>\"\",OFFSET(DE104_5B!$E$33,ROWS($E$33:E153)-1,COLUMNS($E$33:E153)-1),\"\")","v":""},null,null,null,null,null,{"$f":"IF(OFFSET(DE104_5B!$F$33,ROWS($F$33:F153)-1,COLUMNS($F$33:F153)-1)<>\"\",OFFSET(DE104_5B!$F$33,ROWS($F$33:F153)-1,COLUMNS($F$33:F153)-1),\"\")","v":""},null,null,null,null,null,null,null,{"$f":"IF(OFFSET(DE104_5B!$G$33,ROWS($G$33:G153)-1,COLUMNS($G$33:G153)-1)<>\"\",OFFSET(DE104_5B!$G$33,ROWS($G$33:G153)-1,COLUMNS($G$33:G153)-1),\"\")","v":""}]
[null,null,null,null,null,null,null,null,null,null,null,null,null,null,null,null,null,null,null,null,null,null,null,null,null,null,null,null,null,null,null,null,null,null,null,null,null,null,null,null,null,null,null,null,null,null,null,null,null,null,null,null,null,null,null,null,null,null,null,null,null,null,null,null,null,null,null,null,null,null,null,null,null,null,null,null,null,null,null,null,null,{"$f":"IF(OFFSET(DE104_5B!$H$34,ROWS($H$34:H154)-1,COLUMNS($H$34:H154)-1)<>\"\",OFFSET(DE104_5B!$H$34,ROWS($H$34:H154)-1,COLUMNS($H$34:H154)-1),\"\")","v":""},null,null,null,null,null,{"$f":"IF(OFFSET(DE104_5B!$I$34,ROWS($I$34:I154)-1,COLUMNS($I$34:I154)-1)<>\"\",OFFSET(DE104_5B!$I$34,ROWS($I$34:I154)-1,COLUMNS($I$34:I154)-1),\"\")","v":""},null,null,null,{"$f":"IF(OFFSET(DE104_5B!$J$34,ROWS($J$34:J154)-1,COLUMNS($J$34:J154)-1)<>\"\",OFFSET(DE104_5B!$J$34,ROWS($J$34:J154)-1,COLUMNS($J$34:J154)-1),\"\")","v":""},null,null,null,{"$f":"IF(OFFSET(DE104_5B!$K$34,ROWS($K$34:K154)-1,COLUMNS($K$34:K154)-1)<>\"\",OFFSET(DE104_5B!$K$34,ROWS($K$34:K154)-1,COLUMNS($K$34:K154)-1),\"\")","v":""},null,null,null,null,{"$f":"IF(OFFSET(DE104_5B!$L$34,ROWS($L$34:L154)-1,COLUMNS($L$34:L154)-1)<>\"\",OFFSET(DE104_5B!$L$34,ROWS($L$34:L154)-1,COLUMNS($L$34:L154)-1),\"\")","v":""},null,null,null,null,null,null,{"$f":"IF(OFFSET(DE104_5B!$M$34,ROWS($M$34:M154)-1,COLUMNS($M$34:M154)-1)<>\"\",OFFSET(DE104_5B!$M$34,ROWS($M$34:M154)-1,COLUMNS($M$34:M154)-1),\"\")","v":""},null,null,null,null,null,{"$f":"IF(OFFSET(DE104_5B!$O$34,ROWS($O$34:O154)-1,COLUMNS($O$34:O154)-1)<>\"\",OFFSET(DE104_5B!$O$34,ROWS($O$34:O154)-1,COLUMNS($O$34:O154)-1),\"\")","v":""},null,null,null,null,null,{"$f":"IF(OFFSET(DE104_5B!$P$34,ROWS($P$34:P154)-1,COLUMNS($P$34:P154)-1)<>\"\",OFFSET(DE104_5B!$P$34,ROWS($P$34:P154)-1,COLUMNS($P$34:P154)-1),\"\")","v":""},null,null,null,null,{"$f":"IF(OFFSET(DE104_5B!$Q$34,ROWS($Q$34:Q154)-1,COLUMNS($Q$34:Q154)-1)<>\"\",OFFSET(DE104_5B!$Q$34,ROWS($Q$34:Q154)-1,COLUMNS($Q$34:Q154)-1),\"\")","v":""},null,null,null,null,null,null,null,null,null,{"$f":"IF(OFFSET(DE104_5B!$R$34,ROWS($R$34:R154)-1,COLUMNS($R$34:R154)-1)<>\"\",OFFSET(DE104_5B!$R$34,ROWS($R$34:R154)-1,COLUMNS($R$34:R154)-1),\"\")","v":""},null,null,null,null,null,null,null,{"$f":"IF(OFFSET(DE104_5B!$S$34,ROWS($S$34:S154)-1,COLUMNS($S$34:S154)-1)<>\"\",OFFSET(DE104_5B!$S$34,ROWS($S$34:S154)-1,COLUMNS($S$34:S154)-1),\"\")","v":""},null,null,null,null,null,null,null,{"$f":"IF(OFFSET(DE104_5B!$T$34,ROWS($T$34:T154)-1,COLUMNS($T$34:T154)-1)<>\"\",OFFSET(DE104_5B!$T$34,ROWS($T$34:T154)-1,COLUMNS($T$34:T154)-1),\"\")","v":""},null,null,null,null,null,null,null,{"$f":"IF(OFFSET(DE104_5B!$U$34,ROWS($U$34:U154)-1,COLUMNS($U$34:U154)-1)<>\"\",OFFSET(DE104_5B!$U$34,ROWS($U$34:U154)-1,COLUMNS($U$34:U154)-1),\"\")","v":""},null,null,null,null,null,null,{"$f":"IF(OFFSET(DE104_5B!$V$34,ROWS($V$34:V154)-1,COLUMNS($V$34:V154)-1)<>\"\",OFFSET(DE104_5B!$V$34,ROWS($V$34:V154)-1,COLUMNS($V$34:V154)-1),\"\")","v":""}]
[null,null,{"$f":"IF(OFFSET(DE104_5B!$A$33,ROWS($A$33:A155)-1,COLUMNS($A$33:A155)-1)<>\"\",OFFSET(DE104_5B!$A$33,ROWS($A$33:A155)-1,COLUMNS($A$33:A155)-1),\"\")","v":""},null,null,null,{"$f":"IF(OFFSET(DE104_5B!$B$33,ROWS($B$33:B155)-1,COLUMNS($B$33:B155)-1)<>\"\",OFFSET(DE104_5B!$B$33,ROWS($B$33:B155)-1,COLUMNS($B$33:B155)-1),\"\")","v":""},null,null,null,null,null,null,null,null,null,null,null,null,null,null,null,null,null,null,{"$f":"IF(OFFSET(DE104_5B!$C$33,ROWS($C$33:C155)-1,COLUMNS($C$33:C155)-1)<>\"\",OFFSET(DE104_5B!$C$33,ROWS($C$33:C155)-1,COLUMNS($C$33:C155)-1),\"\")","v":""},null,null,null,null,null,null,null,null,null,null,null,null,null,null,null,null,null,null,null,null,null,null,null,{"$f":"IF(OFFSET(DE104_5B!$D$33,ROWS($D$33:D155)-1,COLUMNS($D$33:D155)-1)<>\"\",OFFSET(DE104_5B!$D$33,ROWS($D$33:D155)-1,COLUMNS($D$33:D155)-1),\"\")","v":""},null,null,null,null,{"$f":"IF(OFFSET(DE104_5B!$E$33,ROWS($E$33:E155)-1,COLUMNS($E$33:E155)-1)<>\"\",OFFSET(DE104_5B!$E$33,ROWS($E$33:E155)-1,COLUMNS($E$33:E155)-1),\"\")","v":""},null,null,null,null,null,{"$f":"IF(OFFSET(DE104_5B!$F$33,ROWS($F$33:F155)-1,COLUMNS($F$33:F155)-1)<>\"\",OFFSET(DE104_5B!$F$33,ROWS($F$33:F155)-1,COLUMNS($F$33:F155)-1),\"\")","v":""},null,null,null,null,null,null,null,{"$f":"IF(OFFSET(DE104_5B!$G$33,ROWS($G$33:G155)-1,COLUMNS($G$33:G155)-1)<>\"\",OFFSET(DE104_5B!$G$33,ROWS($G$33:G155)-1,COLUMNS($G$33:G155)-1),\"\")","v":""}]
[null,null,null,null,null,null,null,null,null,null,null,null,null,null,null,null,null,null,null,null,null,null,null,null,null,null,null,null,null,null,null,null,null,null,null,null,null,null,null,null,null,null,null,null,null,null,null,null,null,null,null,null,null,null,null,null,null,null,null,null,null,null,null,null,null,null,null,null,null,null,null,null,null,null,null,null,null,null,null,null,null,{"$f":"IF(OFFSET(DE104_5B!$H$34,ROWS($H$34:H156)-1,COLUMNS($H$34:H156)-1)<>\"\",OFFSET(DE104_5B!$H$34,ROWS($H$34:H156)-1,COLUMNS($H$34:H156)-1),\"\")","v":""},null,null,null,null,null,{"$f":"IF(OFFSET(DE104_5B!$I$34,ROWS($I$34:I156)-1,COLUMNS($I$34:I156)-1)<>\"\",OFFSET(DE104_5B!$I$34,ROWS($I$34:I156)-1,COLUMNS($I$34:I156)-1),\"\")","v":""},null,null,null,{"$f":"IF(OFFSET(DE104_5B!$J$34,ROWS($J$34:J156)-1,COLUMNS($J$34:J156)-1)<>\"\",OFFSET(DE104_5B!$J$34,ROWS($J$34:J156)-1,COLUMNS($J$34:J156)-1),\"\")","v":""},null,null,null,{"$f":"IF(OFFSET(DE104_5B!$K$34,ROWS($K$34:K156)-1,COLUMNS($K$34:K156)-1)<>\"\",OFFSET(DE104_5B!$K$34,ROWS($K$34:K156)-1,COLUMNS($K$34:K156)-1),\"\")","v":""},null,null,null,null,{"$f":"IF(OFFSET(DE104_5B!$L$34,ROWS($L$34:L156)-1,COLUMNS($L$34:L156)-1)<>\"\",OFFSET(DE104_5B!$L$34,ROWS($L$34:L156)-1,COLUMNS($L$34:L156)-1),\"\")","v":""},null,null,null,null,null,null,{"$f":"IF(OFFSET(DE104_5B!$M$34,ROWS($M$34:M156)-1,COLUMNS($M$34:M156)-1)<>\"\",OFFSET(DE104_5B!$M$34,ROWS($M$34:M156)-1,COLUMNS($M$34:M156)-1),\"\")","v":""},null,null,null,null,null,{"$f":"IF(OFFSET(DE104_5B!$O$34,ROWS($O$34:O156)-1,COLUMNS($O$34:O156)-1)<>\"\",OFFSET(DE104_5B!$O$34,ROWS($O$34:O156)-1,COLUMNS($O$34:O156)-1),\"\")","v":""},null,null,null,null,null,{"$f":"IF(OFFSET(DE104_5B!$P$34,ROWS($P$34:P156)-1,COLUMNS($P$34:P156)-1)<>\"\",OFFSET(DE104_5B!$P$34,ROWS($P$34:P156)-1,COLUMNS($P$34:P156)-1),\"\")","v":""},null,null,null,null,{"$f":"IF(OFFSET(DE104_5B!$Q$34,ROWS($Q$34:Q156)-1,COLUMNS($Q$34:Q156)-1)<>\"\",OFFSET(DE104_5B!$Q$34,ROWS($Q$34:Q156)-1,COLUMNS($Q$34:Q156)-1),\"\")","v":""},null,null,null,null,null,null,null,null,null,{"$f":"IF(OFFSET(DE104_5B!$R$34,ROWS($R$34:R156)-1,COLUMNS($R$34:R156)-1)<>\"\",OFFSET(DE104_5B!$R$34,ROWS($R$34:R156)-1,COLUMNS($R$34:R156)-1),\"\")","v":""},null,null,null,null,null,null,null,{"$f":"IF(OFFSET(DE104_5B!$S$34,ROWS($S$34:S156)-1,COLUMNS($S$34:S156)-1)<>\"\",OFFSET(DE104_5B!$S$34,ROWS($S$34:S156)-1,COLUMNS($S$34:S156)-1),\"\")","v":""},null,null,null,null,null,null,null,{"$f":"IF(OFFSET(DE104_5B!$T$34,ROWS($T$34:T156)-1,COLUMNS($T$34:T156)-1)<>\"\",OFFSET(DE104_5B!$T$34,ROWS($T$34:T156)-1,COLUMNS($T$34:T156)-1),\"\")","v":""},null,null,null,null,null,null,null,{"$f":"IF(OFFSET(DE104_5B!$U$34,ROWS($U$34:U156)-1,COLUMNS($U$34:U156)-1)<>\"\",OFFSET(DE104_5B!$U$34,ROWS($U$34:U156)-1,COLUMNS($U$34:U156)-1),\"\")","v":""},null,null,null,null,null,null,{"$f":"IF(OFFSET(DE104_5B!$V$34,ROWS($V$34:V156)-1,COLUMNS($V$34:V156)-1)<>\"\",OFFSET(DE104_5B!$V$34,ROWS($V$34:V156)-1,COLUMNS($V$34:V156)-1),\"\")","v":""}]
[null,null,{"$f":"IF(OFFSET(DE104_5B!$A$33,ROWS($A$33:A157)-1,COLUMNS($A$33:A157)-1)<>\"\",OFFSET(DE104_5B!$A$33,ROWS($A$33:A157)-1,COLUMNS($A$33:A157)-1),\"\")","v":""},null,null,null,{"$f":"IF(OFFSET(DE104_5B!$B$33,ROWS($B$33:B157)-1,COLUMNS($B$33:B157)-1)<>\"\",OFFSET(DE104_5B!$B$33,ROWS($B$33:B157)-1,COLUMNS($B$33:B157)-1),\"\")","v":""},null,null,null,null,null,null,null,null,null,null,null,null,null,null,null,null,null,null,{"$f":"IF(OFFSET(DE104_5B!$C$33,ROWS($C$33:C157)-1,COLUMNS($C$33:C157)-1)<>\"\",OFFSET(DE104_5B!$C$33,ROWS($C$33:C157)-1,COLUMNS($C$33:C157)-1),\"\")","v":""},null,null,null,null,null,null,null,null,null,null,null,null,null,null,null,null,null,null,null,null,null,null,null,{"$f":"IF(OFFSET(DE104_5B!$D$33,ROWS($D$33:D157)-1,COLUMNS($D$33:D157)-1)<>\"\",OFFSET(DE104_5B!$D$33,ROWS($D$33:D157)-1,COLUMNS($D$33:D157)-1),\"\")","v":""},null,null,null,null,{"$f":"IF(OFFSET(DE104_5B!$E$33,ROWS($E$33:E157)-1,COLUMNS($E$33:E157)-1)<>\"\",OFFSET(DE104_5B!$E$33,ROWS($E$33:E157)-1,COLUMNS($E$33:E157)-1),\"\")","v":""},null,null,null,null,null,{"$f":"IF(OFFSET(DE104_5B!$F$33,ROWS($F$33:F157)-1,COLUMNS($F$33:F157)-1)<>\"\",OFFSET(DE104_5B!$F$33,ROWS($F$33:F157)-1,COLUMNS($F$33:F157)-1),\"\")","v":""},null,null,null,null,null,null,null,{"$f":"IF(OFFSET(DE104_5B!$G$33,ROWS($G$33:G157)-1,COLUMNS($G$33:G157)-1)<>\"\",OFFSET(DE104_5B!$G$33,ROWS($G$33:G157)-1,COLUMNS($G$33:G157)-1),\"\")","v":""}]
[null,null,null,null,null,null,null,null,null,null,null,null,null,null,null,null,null,null,null,null,null,null,null,null,null,null,null,null,null,null,null,null,null,null,null,null,null,null,null,null,null,null,null,null,null,null,null,null,null,null,null,null,null,null,null,null,null,null,null,null,null,null,null,null,null,null,null,null,null,null,null,null,null,null,null,null,null,null,null,null,null,{"$f":"IF(OFFSET(DE104_5B!$H$34,ROWS($H$34:H158)-1,COLUMNS($H$34:H158)-1)<>\"\",OFFSET(DE104_5B!$H$34,ROWS($H$34:H158)-1,COLUMNS($H$34:H158)-1),\"\")","v":""},null,null,null,null,null,{"$f":"IF(OFFSET(DE104_5B!$I$34,ROWS($I$34:I158)-1,COLUMNS($I$34:I158)-1)<>\"\",OFFSET(DE104_5B!$I$34,ROWS($I$34:I158)-1,COLUMNS($I$34:I158)-1),\"\")","v":""},null,null,null,{"$f":"IF(OFFSET(DE104_5B!$J$34,ROWS($J$34:J158)-1,COLUMNS($J$34:J158)-1)<>\"\",OFFSET(DE104_5B!$J$34,ROWS($J$34:J158)-1,COLUMNS($J$34:J158)-1),\"\")","v":""},null,null,null,{"$f":"IF(OFFSET(DE104_5B!$K$34,ROWS($K$34:K158)-1,COLUMNS($K$34:K158)-1)<>\"\",OFFSET(DE104_5B!$K$34,ROWS($K$34:K158)-1,COLUMNS($K$34:K158)-1),\"\")","v":""},null,null,null,null,{"$f":"IF(OFFSET(DE104_5B!$L$34,ROWS($L$34:L158)-1,COLUMNS($L$34:L158)-1)<>\"\",OFFSET(DE104_5B!$L$34,ROWS($L$34:L158)-1,COLUMNS($L$34:L158)-1),\"\")","v":""},null,null,null,null,null,null,{"$f":"IF(OFFSET(DE104_5B!$M$34,ROWS($M$34:M158)-1,COLUMNS($M$34:M158)-1)<>\"\",OFFSET(DE104_5B!$M$34,ROWS($M$34:M158)-1,COLUMNS($M$34:M158)-1),\"\")","v":""},null,null,null,null,null,{"$f":"IF(OFFSET(DE104_5B!$O$34,ROWS($O$34:O158)-1,COLUMNS($O$34:O158)-1)<>\"\",OFFSET(DE104_5B!$O$34,ROWS($O$34:O158)-1,COLUMNS($O$34:O158)-1),\"\")","v":""},null,null,null,null,null,{"$f":"IF(OFFSET(DE104_5B!$P$34,ROWS($P$34:P158)-1,COLUMNS($P$34:P158)-1)<>\"\",OFFSET(DE104_5B!$P$34,ROWS($P$34:P158)-1,COLUMNS($P$34:P158)-1),\"\")","v":""},null,null,null,null,{"$f":"IF(OFFSET(DE104_5B!$Q$34,ROWS($Q$34:Q158)-1,COLUMNS($Q$34:Q158)-1)<>\"\",OFFSET(DE104_5B!$Q$34,ROWS($Q$34:Q158)-1,COLUMNS($Q$34:Q158)-1),\"\")","v":""},null,null,null,null,null,null,null,null,null,{"$f":"IF(OFFSET(DE104_5B!$R$34,ROWS($R$34:R158)-1,COLUMNS($R$34:R158)-1)<>\"\",OFFSET(DE104_5B!$R$34,ROWS($R$34:R158)-1,COLUMNS($R$34:R158)-1),\"\")","v":""},null,null,null,null,null,null,null,{"$f":"IF(OFFSET(DE104_5B!$S$34,ROWS($S$34:S158)-1,COLUMNS($S$34:S158)-1)<>\"\",OFFSET(DE104_5B!$S$34,ROWS($S$34:S158)-1,COLUMNS($S$34:S158)-1),\"\")","v":""},null,null,null,null,null,null,null,{"$f":"IF(OFFSET(DE104_5B!$T$34,ROWS($T$34:T158)-1,COLUMNS($T$34:T158)-1)<>\"\",OFFSET(DE104_5B!$T$34,ROWS($T$34:T158)-1,COLUMNS($T$34:T158)-1),\"\")","v":""},null,null,null,null,null,null,null,{"$f":"IF(OFFSET(DE104_5B!$U$34,ROWS($U$34:U158)-1,COLUMNS($U$34:U158)-1)<>\"\",OFFSET(DE104_5B!$U$34,ROWS($U$34:U158)-1,COLUMNS($U$34:U158)-1),\"\")","v":""},null,null,null,null,null,null,{"$f":"IF(OFFSET(DE104_5B!$V$34,ROWS($V$34:V158)-1,COLUMNS($V$34:V158)-1)<>\"\",OFFSET(DE104_5B!$V$34,ROWS($V$34:V158)-1,COLUMNS($V$34:V158)-1),\"\")","v":""}]
[null,null,{"$f":"IF(OFFSET(DE104_5B!$A$33,ROWS($A$33:A159)-1,COLUMNS($A$33:A159)-1)<>\"\",OFFSET(DE104_5B!$A$33,ROWS($A$33:A159)-1,COLUMNS($A$33:A159)-1),\"\")","v":""},null,null,null,{"$f":"IF(OFFSET(DE104_5B!$B$33,ROWS($B$33:B159)-1,COLUMNS($B$33:B159)-1)<>\"\",OFFSET(DE104_5B!$B$33,ROWS($B$33:B159)-1,COLUMNS($B$33:B159)-1),\"\")","v":""},null,null,null,null,null,null,null,null,null,null,null,null,null,null,null,null,null,null,{"$f":"IF(OFFSET(DE104_5B!$C$33,ROWS($C$33:C159)-1,COLUMNS($C$33:C159)-1)<>\"\",OFFSET(DE104_5B!$C$33,ROWS($C$33:C159)-1,COLUMNS($C$33:C159)-1),\"\")","v":""},null,null,null,null,null,null,null,null,null,null,null,null,null,null,null,null,null,null,null,null,null,null,null,{"$f":"IF(OFFSET(DE104_5B!$D$33,ROWS($D$33:D159)-1,COLUMNS($D$33:D159)-1)<>\"\",OFFSET(DE104_5B!$D$33,ROWS($D$33:D159)-1,COLUMNS($D$33:D159)-1),\"\")","v":""},null,null,null,null,{"$f":"IF(OFFSET(DE104_5B!$E$33,ROWS($E$33:E159)-1,COLUMNS($E$33:E159)-1)<>\"\",OFFSET(DE104_5B!$E$33,ROWS($E$33:E159)-1,COLUMNS($E$33:E159)-1),\"\")","v":""},null,null,null,null,null,{"$f":"IF(OFFSET(DE104_5B!$F$33,ROWS($F$33:F159)-1,COLUMNS($F$33:F159)-1)<>\"\",OFFSET(DE104_5B!$F$33,ROWS($F$33:F159)-1,COLUMNS($F$33:F159)-1),\"\")","v":""},null,null,null,null,null,null,null,{"$f":"IF(OFFSET(DE104_5B!$G$33,ROWS($G$33:G159)-1,COLUMNS($G$33:G159)-1)<>\"\",OFFSET(DE104_5B!$G$33,ROWS($G$33:G159)-1,COLUMNS($G$33:G159)-1),\"\")","v":""}]
[null,null,null,null,null,null,null,null,null,null,null,null,null,null,null,null,null,null,null,null,null,null,null,null,null,null,null,null,null,null,null,null,null,null,null,null,null,null,null,null,null,null,null,null,null,null,null,null,null,null,null,null,null,null,null,null,null,null,null,null,null,null,null,null,null,null,null,null,null,null,null,null,null,null,null,null,null,null,null,null,null,{"$f":"IF(OFFSET(DE104_5B!$H$34,ROWS($H$34:H160)-1,COLUMNS($H$34:H160)-1)<>\"\",OFFSET(DE104_5B!$H$34,ROWS($H$34:H160)-1,COLUMNS($H$34:H160)-1),\"\")","v":""},null,null,null,null,null,{"$f":"IF(OFFSET(DE104_5B!$I$34,ROWS($I$34:I160)-1,COLUMNS($I$34:I160)-1)<>\"\",OFFSET(DE104_5B!$I$34,ROWS($I$34:I160)-1,COLUMNS($I$34:I160)-1),\"\")","v":""},null,null,null,{"$f":"IF(OFFSET(DE104_5B!$J$34,ROWS($J$34:J160)-1,COLUMNS($J$34:J160)-1)<>\"\",OFFSET(DE104_5B!$J$34,ROWS($J$34:J160)-1,COLUMNS($J$34:J160)-1),\"\")","v":""},null,null,null,{"$f":"IF(OFFSET(DE104_5B!$K$34,ROWS($K$34:K160)-1,COLUMNS($K$34:K160)-1)<>\"\",OFFSET(DE104_5B!$K$34,ROWS($K$34:K160)-1,COLUMNS($K$34:K160)-1),\"\")","v":""},null,null,null,null,{"$f":"IF(OFFSET(DE104_5B!$L$34,ROWS($L$34:L160)-1,COLUMNS($L$34:L160)-1)<>\"\",OFFSET(DE104_5B!$L$34,ROWS($L$34:L160)-1,COLUMNS($L$34:L160)-1),\"\")","v":""},null,null,null,null,null,null,{"$f":"IF(OFFSET(DE104_5B!$M$34,ROWS($M$34:M160)-1,COLUMNS($M$34:M160)-1)<>\"\",OFFSET(DE104_5B!$M$34,ROWS($M$34:M160)-1,COLUMNS($M$34:M160)-1),\"\")","v":""},null,null,null,null,null,{"$f":"IF(OFFSET(DE104_5B!$O$34,ROWS($O$34:O160)-1,COLUMNS($O$34:O160)-1)<>\"\",OFFSET(DE104_5B!$O$34,ROWS($O$34:O160)-1,COLUMNS($O$34:O160)-1),\"\")","v":""},null,null,null,null,null,{"$f":"IF(OFFSET(DE104_5B!$P$34,ROWS($P$34:P160)-1,COLUMNS($P$34:P160)-1)<>\"\",OFFSET(DE104_5B!$P$34,ROWS($P$34:P160)-1,COLUMNS($P$34:P160)-1),\"\")","v":""},null,null,null,null,{"$f":"IF(OFFSET(DE104_5B!$Q$34,ROWS($Q$34:Q160)-1,COLUMNS($Q$34:Q160)-1)<>\"\",OFFSET(DE104_5B!$Q$34,ROWS($Q$34:Q160)-1,COLUMNS($Q$34:Q160)-1),\"\")","v":""},null,null,null,null,null,null,null,null,null,{"$f":"IF(OFFSET(DE104_5B!$R$34,ROWS($R$34:R160)-1,COLUMNS($R$34:R160)-1)<>\"\",OFFSET(DE104_5B!$R$34,ROWS($R$34:R160)-1,COLUMNS($R$34:R160)-1),\"\")","v":""},null,null,null,null,null,null,null,{"$f":"IF(OFFSET(DE104_5B!$S$34,ROWS($S$34:S160)-1,COLUMNS($S$34:S160)-1)<>\"\",OFFSET(DE104_5B!$S$34,ROWS($S$34:S160)-1,COLUMNS($S$34:S160)-1),\"\")","v":""},null,null,null,null,null,null,null,{"$f":"IF(OFFSET(DE104_5B!$T$34,ROWS($T$34:T160)-1,COLUMNS($T$34:T160)-1)<>\"\",OFFSET(DE104_5B!$T$34,ROWS($T$34:T160)-1,COLUMNS($T$34:T160)-1),\"\")","v":""},null,null,null,null,null,null,null,{"$f":"IF(OFFSET(DE104_5B!$U$34,ROWS($U$34:U160)-1,COLUMNS($U$34:U160)-1)<>\"\",OFFSET(DE104_5B!$U$34,ROWS($U$34:U160)-1,COLUMNS($U$34:U160)-1),\"\")","v":""},null,null,null,null,null,null,{"$f":"IF(OFFSET(DE104_5B!$V$34,ROWS($V$34:V160)-1,COLUMNS($V$34:V160)-1)<>\"\",OFFSET(DE104_5B!$V$34,ROWS($V$34:V160)-1,COLUMNS($V$34:V160)-1),\"\")","v":""}]
[null,null,{"$f":"IF(OFFSET(DE104_5B!$A$33,ROWS($A$33:A161)-1,COLUMNS($A$33:A161)-1)<>\"\",OFFSET(DE104_5B!$A$33,ROWS($A$33:A161)-1,COLUMNS($A$33:A161)-1),\"\")","v":""},null,null,null,{"$f":"IF(OFFSET(DE104_5B!$B$33,ROWS($B$33:B161)-1,COLUMNS($B$33:B161)-1)<>\"\",OFFSET(DE104_5B!$B$33,ROWS($B$33:B161)-1,COLUMNS($B$33:B161)-1),\"\")","v":""},null,null,null,null,null,null,null,null,null,null,null,null,null,null,null,null,null,null,{"$f":"IF(OFFSET(DE104_5B!$C$33,ROWS($C$33:C161)-1,COLUMNS($C$33:C161)-1)<>\"\",OFFSET(DE104_5B!$C$33,ROWS($C$33:C161)-1,COLUMNS($C$33:C161)-1),\"\")","v":""},null,null,null,null,null,null,null,null,null,null,null,null,null,null,null,null,null,null,null,null,null,null,null,{"$f":"IF(OFFSET(DE104_5B!$D$33,ROWS($D$33:D161)-1,COLUMNS($D$33:D161)-1)<>\"\",OFFSET(DE104_5B!$D$33,ROWS($D$33:D161)-1,COLUMNS($D$33:D161)-1),\"\")","v":""},null,null,null,null,{"$f":"IF(OFFSET(DE104_5B!$E$33,ROWS($E$33:E161)-1,COLUMNS($E$33:E161)-1)<>\"\",OFFSET(DE104_5B!$E$33,ROWS($E$33:E161)-1,COLUMNS($E$33:E161)-1),\"\")","v":""},null,null,null,null,null,{"$f":"IF(OFFSET(DE104_5B!$F$33,ROWS($F$33:F161)-1,COLUMNS($F$33:F161)-1)<>\"\",OFFSET(DE104_5B!$F$33,ROWS($F$33:F161)-1,COLUMNS($F$33:F161)-1),\"\")","v":""},null,null,null,null,null,null,null,{"$f":"IF(OFFSET(DE104_5B!$G$33,ROWS($G$33:G161)-1,COLUMNS($G$33:G161)-1)<>\"\",OFFSET(DE104_5B!$G$33,ROWS($G$33:G161)-1,COLUMNS($G$33:G161)-1),\"\")","v":""}]
[null,null,null,null,null,null,null,null,null,null,null,null,null,null,null,null,null,null,null,null,null,null,null,null,null,null,null,null,null,null,null,null,null,null,null,null,null,null,null,null,null,null,null,null,null,null,null,null,null,null,null,null,null,null,null,null,null,null,null,null,null,null,null,null,null,null,null,null,null,null,null,null,null,null,null,null,null,null,null,null,null,{"$f":"IF(OFFSET(DE104_5B!$H$34,ROWS($H$34:H162)-1,COLUMNS($H$34:H162)-1)<>\"\",OFFSET(DE104_5B!$H$34,ROWS($H$34:H162)-1,COLUMNS($H$34:H162)-1),\"\")","v":""},null,null,null,null,null,{"$f":"IF(OFFSET(DE104_5B!$I$34,ROWS($I$34:I162)-1,COLUMNS($I$34:I162)-1)<>\"\",OFFSET(DE104_5B!$I$34,ROWS($I$34:I162)-1,COLUMNS($I$34:I162)-1),\"\")","v":""},null,null,null,{"$f":"IF(OFFSET(DE104_5B!$J$34,ROWS($J$34:J162)-1,COLUMNS($J$34:J162)-1)<>\"\",OFFSET(DE104_5B!$J$34,ROWS($J$34:J162)-1,COLUMNS($J$34:J162)-1),\"\")","v":""},null,null,null,{"$f":"IF(OFFSET(DE104_5B!$K$34,ROWS($K$34:K162)-1,COLUMNS($K$34:K162)-1)<>\"\",OFFSET(DE104_5B!$K$34,ROWS($K$34:K162)-1,COLUMNS($K$34:K162)-1),\"\")","v":""},null,null,null,null,{"$f":"IF(OFFSET(DE104_5B!$L$34,ROWS($L$34:L162)-1,COLUMNS($L$34:L162)-1)<>\"\",OFFSET(DE104_5B!$L$34,ROWS($L$34:L162)-1,COLUMNS($L$34:L162)-1),\"\")","v":""},null,null,null,null,null,null,{"$f":"IF(OFFSET(DE104_5B!$M$34,ROWS($M$34:M162)-1,COLUMNS($M$34:M162)-1)<>\"\",OFFSET(DE104_5B!$M$34,ROWS($M$34:M162)-1,COLUMNS($M$34:M162)-1),\"\")","v":""},null,null,null,null,null,{"$f":"IF(OFFSET(DE104_5B!$O$34,ROWS($O$34:O162)-1,COLUMNS($O$34:O162)-1)<>\"\",OFFSET(DE104_5B!$O$34,ROWS($O$34:O162)-1,COLUMNS($O$34:O162)-1),\"\")","v":""},null,null,null,null,null,{"$f":"IF(OFFSET(DE104_5B!$P$34,ROWS($P$34:P162)-1,COLUMNS($P$34:P162)-1)<>\"\",OFFSET(DE104_5B!$P$34,ROWS($P$34:P162)-1,COLUMNS($P$34:P162)-1),\"\")","v":""},null,null,null,null,{"$f":"IF(OFFSET(DE104_5B!$Q$34,ROWS($Q$34:Q162)-1,COLUMNS($Q$34:Q162)-1)<>\"\",OFFSET(DE104_5B!$Q$34,ROWS($Q$34:Q162)-1,COLUMNS($Q$34:Q162)-1),\"\")","v":""},null,null,null,null,null,null,null,null,null,{"$f":"IF(OFFSET(DE104_5B!$R$34,ROWS($R$34:R162)-1,COLUMNS($R$34:R162)-1)<>\"\",OFFSET(DE104_5B!$R$34,ROWS($R$34:R162)-1,COLUMNS($R$34:R162)-1),\"\")","v":""},null,null,null,null,null,null,null,{"$f":"IF(OFFSET(DE104_5B!$S$34,ROWS($S$34:S162)-1,COLUMNS($S$34:S162)-1)<>\"\",OFFSET(DE104_5B!$S$34,ROWS($S$34:S162)-1,COLUMNS($S$34:S162)-1),\"\")","v":""},null,null,null,null,null,null,null,{"$f":"IF(OFFSET(DE104_5B!$T$34,ROWS($T$34:T162)-1,COLUMNS($T$34:T162)-1)<>\"\",OFFSET(DE104_5B!$T$34,ROWS($T$34:T162)-1,COLUMNS($T$34:T162)-1),\"\")","v":""},null,null,null,null,null,null,null,{"$f":"IF(OFFSET(DE104_5B!$U$34,ROWS($U$34:U162)-1,COLUMNS($U$34:U162)-1)<>\"\",OFFSET(DE104_5B!$U$34,ROWS($U$34:U162)-1,COLUMNS($U$34:U162)-1),\"\")","v":""},null,null,null,null,null,null,{"$f":"IF(OFFSET(DE104_5B!$V$34,ROWS($V$34:V162)-1,COLUMNS($V$34:V162)-1)<>\"\",OFFSET(DE104_5B!$V$34,ROWS($V$34:V162)-1,COLUMNS($V$34:V162)-1),\"\")","v":""}]
[null,null,{"$f":"IF(OFFSET(DE104_5B!$A$33,ROWS($A$33:A163)-1,COLUMNS($A$33:A163)-1)<>\"\",OFFSET(DE104_5B!$A$33,ROWS($A$33:A163)-1,COLUMNS($A$33:A163)-1),\"\")","v":""},null,null,null,{"$f":"IF(OFFSET(DE104_5B!$B$33,ROWS($B$33:B163)-1,COLUMNS($B$33:B163)-1)<>\"\",OFFSET(DE104_5B!$B$33,ROWS($B$33:B163)-1,COLUMNS($B$33:B163)-1),\"\")","v":""},null,null,null,null,null,null,null,null,null,null,null,null,null,null,null,null,null,null,{"$f":"IF(OFFSET(DE104_5B!$C$33,ROWS($C$33:C163)-1,COLUMNS($C$33:C163)-1)<>\"\",OFFSET(DE104_5B!$C$33,ROWS($C$33:C163)-1,COLUMNS($C$33:C163)-1),\"\")","v":""},null,null,null,null,null,null,null,null,null,null,null,null,null,null,null,null,null,null,null,null,null,null,null,{"$f":"IF(OFFSET(DE104_5B!$D$33,ROWS($D$33:D163)-1,COLUMNS($D$33:D163)-1)<>\"\",OFFSET(DE104_5B!$D$33,ROWS($D$33:D163)-1,COLUMNS($D$33:D163)-1),\"\")","v":""},null,null,null,null,{"$f":"IF(OFFSET(DE104_5B!$E$33,ROWS($E$33:E163)-1,COLUMNS($E$33:E163)-1)<>\"\",OFFSET(DE104_5B!$E$33,ROWS($E$33:E163)-1,COLUMNS($E$33:E163)-1),\"\")","v":""},null,null,null,null,null,{"$f":"IF(OFFSET(DE104_5B!$F$33,ROWS($F$33:F163)-1,COLUMNS($F$33:F163)-1)<>\"\",OFFSET(DE104_5B!$F$33,ROWS($F$33:F163)-1,COLUMNS($F$33:F163)-1),\"\")","v":""},null,null,null,null,null,null,null,{"$f":"IF(OFFSET(DE104_5B!$G$33,ROWS($G$33:G163)-1,COLUMNS($G$33:G163)-1)<>\"\",OFFSET(DE104_5B!$G$33,ROWS($G$33:G163)-1,COLUMNS($G$33:G163)-1),\"\")","v":""}]
[]
[]
[]
[null,"FILE NO.",null,null,null,null,null,null,{"$f":"IF(ProjectInformation!$B$11<>\"\",ProjectInformation!$B$11,\"\")","v":""},null,null,null,null,null,null,{"$f":"UPPER(ProjectInformation!B8)","v":"ENGLISH"},null,null,null,null,null,null,"DESIGN TEAM",null,null,null,null,null,null,null,null,{"$f":"IF(AND(ProjectInformation!$B$3<>\"\",ProjectInformation!$B$4<>\"\",ProjectInformation!$B$5<>\"\"),ProjectInformation!$B$3&\"\\\"&ProjectInformation!$B$4&\"\\\"&ProjectInformation!$B$5,IF(AND(ProjectInformation!$B$3<>\"\",ProjectInformation!$B$4<>\"\"),ProjectInformation!$B$3&\"\\\"&ProjectInformation!$B$4,IF(ProjectInformation!$B$3<>\"\",ProjectInformation!$B$3,\"\")))","v":"Flattery\\Bell"},null,null,null,null,null,null,null,null,null,null,null,null,null,null,null,null,null,null,null,null,null,null,null,null,null,null,null,null,null,null,null,null,null,{"$f":"IF(ProjectInformation!$B$6<>\"\",ProjectInformation!$B$6,\"\")","v":"BENTON"},null,null,null,null,null,null,null,null,null,null,null,null,null,null,null,null,null,null,null,null,null,null,null,null,null,null,null,null,null,null,null,null,null,null,null,"COUNTY",null,null,null,null,null,"PROJECT NUMBER",null,null,null,null,null,null,null,null,null,null,null,{"$f":"IF(ProjectInformation!$B$7<>\"\",ProjectInformation!$B$7,\"\")","v":"NHSX-030-6(231)--3H-06"},null,null,null,null,null,null,null,null,null,null,null,null,null,null,null,null,null,null,null,null,null,null,null,null,null,null,null,null,null,"SHEET NUMBER",null,null,null,null,null,null,null,null,null,"M.1",null,null,null,null,null,{"$f":"IF(FP172<>\"\",\"REVISED\",\"\")","v":""},null,null,null,null,null,{"$f":"IF(ProjectInformation!$B$9<>\"\",ProjectInformation!$B$9,\"\")","v":""}]
[]
[]
[]
[null,"4/5/2017     7:22:51 AM     kbell     c:\\pw_work\\pwmain\\kbell\\d0797678\\06030231M01.xlsm"]
[""]

{"sheet":"DE104_5B","index":2,"n_rows":3998,"n_cols":22,"rows_kept":3998,"cut":false,"hidden":false,"merged":[[42,4,43,4],[36,4,37,4],[38,4,39,4],[44,4,45,4],[46,4,47,4],[48,4,49,4],[50,4,51,4],[52,4,53,4],[54,4,55,4],[56,4,57,4],[58,4,59,4],[60,4,61,4],[62,4,63,4],[64,4,65,4],[66,4,67,4],[68,4,69,4],[70,4,71,4],[72,4,73,4],[74,4,75,4],[76,4,77,4],[78,4,79,4],[80,4,81,4],[82,4,83,4],[84,4,85,4],[86,4,87,4],[88,4,89,4],[90,4,91,4],[92,4,93,4],[94,4,95,4],[96,4,97,4],[98,4,99,4],[100,4,101,4],[102,4,103,4],[40,4,41,4],[42,3,43,3],[40,3,41,3],[38,3,39,3],[36,3,37,3],[46,3,47,3],[44,3,45,3],[50,3,51,3],[48,3,49,3],[54,3,55,3],[52,3,53,3],[58,3,59,3],[56,3,57,3],[62,3,63,3],[60,3,61,3],[66,3,67,3],[64,3,65,3],[70,3,71,3],[68,3,69,3],[74,3,75,3],[72,3,73,3],[78,3,79,3],[76,3,77,3],[82,3,83,3],[80,3,81,3],[86,3,87,3],[84,3,85,3],[90,3,91,3],[88,3,89,3],[94,3,95,3],[92,3,93,3],[98,3,99,3],[96,3,97,3],[102,3,103,3],[100,3,101,3],[42,2,43,2],[40,2,41,2],[38,2,39,2],[36,2,37,2],[46,2,47,2],[44,2,45,2],[50,2,51,2],[48,2,49,2],[54,2,55,2],[52,2,53,2],[58,2,59,2],[56,2,57,2],[62,2,63,2],[60,2,61,2],[66,2,67,2],[64,2,65,2],[70,2,71,2],[68,2,69,2],[74,2,75,2],[72,2,73,2],[78,2,79,2],[76,2,77,2],[82,2,83,2],[80,2,81,2],[86,2,87,2],[84,2,85,2],[90,2,91,2],[88,2,89,2],[94,2,95,2],[92,2,93,2],[98,2,99,2],[96,2,97,2],[102,2,103,2],[100,2,101,2],[42,1,43,1],[40,1,41,1],[36,1,37,1],[46,1,47,1],[44,1,45,1],[50,1,51,1],[48,1,49,1],[54,1,55,1],[52,1,53,1],[58,1,59,1],[56,1,57,1],[62,1,63,1],[60,1,61,1],[66,1,67,1],[64,1,65,1],[70,1,71,1],[68,1,69,1],[74,1,75,1],[72,1,73,1],[78,1,79,1],[76,1,77,1],[82,1,83,1],[80,1,81,1],[86,1,87,1],[84,1,85,1],[90,1,91,1],[88,1,89,1],[94,1,95,1],[92,1,93,1],[98,1,99,1],[96,1,97,1],[102,1,103,1],[100,1,101,1],[42,0,43,0],[40,0,41,0],[36,0,37,0],[44,0,45,0],[50,0,51,0],[48,0,49,0],[54,0,55,0],[52,0,53,0],[46,0,47,0],[58,0,59,0],[56,0,57,0],[62,0,63,0],[60,0,61,0],[66,0,67,0],[64,0,65,0],[70,0,71,0],[68,0,69,0],[74,0,75,0],[72,0,73,0],[78,0,79,0],[76,0,77,0],[82,0,83,0],[80,0,81,0],[86,0,87,0],[84,0,85,0],[90,0,91,0],[88,0,89,0],[94,0,95,0],[92,0,93,0],[98,0,99,0],[96,0,97,0],[102,0,103,0],[100,0,101,0],[3927,13,3928,13],[3929,13,3930,13],[3931,13,3932,13],[3933,13,3934,13],[3935,13,3936,13],[3937,13,3938,13],[3939,13,3940,13],[3941,13,3942,13],[3943,13,3944,13],[3945,13,3946,13],[3947,13,3948,13],[3949,13,3950,13],[3997,13,3998,13],[3963,13,3964,13],[3965,13,3966,13],[3967,13,3968,13],[3969,13,3970,13],[3971,13,3972,13],[3973,13,3974,13],[3975,13,3976,13],[3977,13,3978,13],[3979,13,3980,13],[3981,13,3982,13],[3983,13,3984,13],[3985,13,3986,13],[3987,13,3988,13],[3989,13,3990,13],[3991,13,3992,13],[3993,13,3994,13],[3995,13,3996,13],[0,0,5,2],[3993,14,3994,14],[3993,15,3994,15],[3998,3,3999,3],[3998,4,3999,4],[3998,5,3999,5],[3998,6,3999,6],[3934,1,3935,1],[3934,2,3935,2],[3934,3,3935,3],[3934,4,3935,4],[3934,5,3935,5],[3934,6,3935,6],[3936,1,3937,1],[3936,2,3937,2],[3936,3,3937,3],[3936,4,3937,4],[3936,5,3937,5],[3936,6,3937,6],[3938,1,3939,1],[3938,2,3939,2],[3938,3,3939,3],[3938,4,3939,4],[3938,5,3939,5],[3938,6,3939,6],[3939,7,3940,7],[3937,7,3938,7],[3935,7,3936,7],[3933,7,3934,7],[3995,7,3996,7],[3995,8,3996,8],[3995,9,3996,9],[3995,10,3996,10],[3995,11,3996,11],[3993,17,3994,17],[3993,18,3994,18],[3993,19,3994,19],[3993,20,3994,20],[3993,21,3994,21],[3990,0,3991,0],[3990,1,3991,1],[3990,2,3991,2],[3990,3,3991,3],[3990,4,3991,4],[3990,5,3991,5],[3990,6,3991,6],[3992,0,3993,0],[3992,1,3993,1],[3992,2,3993,2],[3992,3,3993,3],[3992,4,3993,4],[3992,5,3993,5],[3992,6,3993,6],[3994,0,3995,0],[3994,1,3995,1],[3994,2,3995,2],[3994,3,3995,3],[3994,4,3995,4],[3994,5,3995,5],[3994,6,3995,6],[3996,0,3997,0],[3996,1,3997,1],[3996,2,3997,2],[3996,3,3997,3],[3996,4,3997,4],[3996,5,3997,5],[3996,6,3997,6],[3997,9,3998,9],[3997,10,3998,10],[3997,11,3998,11],[3997,12,3998,12],[3997,14,3998,14],[3997,15,3998,15],[3997,17,3998,17],[3997,18,3998,18],[3997,19,3998,19],[3997,20,3998,20],[3997,21,3998,21],[3989,7,3990,7],[3989,8,3990,8],[3989,9,3990,9],[3989,10,3990,10],[3989,11,3990,11],[3989,12,3990,12],[3989,14,3990,14],[3989,15,3990,15],[3989,17,3990,17],[3989,18,3990,18],[3989,19,3990,19],[3989,20,3990,20],[3989,21,3990,21],[3991,7,3992,7],[3991,8,3992,8],[3991,9,3992,9],[3991,10,3992,10],[3998,0,3999,0],[3998,1,3999,1],[3998,2,3999,2],[3943,21,3944,21],[3929,17,3930,17],[3929,18,3930,18],[3929,19,3930,19],[3929,20,3930,20],[3929,21,3930,21],[3931,8,3932,8],[3931,9,3932,9],[3931,10,3932,10],[3931,11,3932,11],[3931,12,3932,12],[3931,14,3932,14],[3931,15,3932,15],[3931,17,3932,17],[3931,18,3932,18],[3931,19,3932,19],[3931,20,3932,20],[3931,21,3932,21],[3933,8,3934,8],[3933,9,3934,9],[3933,10,3934,10],[3933,11,3934,11],[3935,20,3936,20],[3935,21,3936,21],[3935,11,3936,11],[3935,12,3936,12],[3935,14,3936,14],[3933,12,3934,12],[3933,14,3934,14],[3933,15,3934,15],[3933,17,3934,17],[3933,18,3934,18],[3933,19,3934,19],[3933,20,3934,20],[3933,21,3934,21],[3941,15,3942,15],[3941,17,3942,17],[3941,18,3942,18],[3941,19,3942,19],[3941,20,3942,20],[3941,21,3942,21],[3941,8,3942,8],[3941,9,3942,9],[3941,10,3942,10],[3941,11,3942,11],[3941,12,3942,12],[3941,14,3942,14],[3913,21,3914,21],[3995,12,3996,12],[3995,14,3996,14],[3995,15,3996,15],[3995,17,3996,17],[3995,18,3996,18],[3995,19,3996,19],[3995,20,3996,20],[3995,21,3996,21],[3997,7,3998,7],[3997,8,3998,8],[3991,12,3992,12],[3991,14,3992,14],[3991,15,3992,15],[3991,17,3992,17],[3991,18,3992,18],[3991,19,3992,19],[3991,20,3992,20],[3991,21,3992,21],[3993,7,3994,7],[3993,8,3994,8],[3993,9,3994,9],[3993,10,3994,10],[3993,11,3994,11],[3993,12,3994,12],[3915,10,3916,10],[3915,11,3916,11],[3915,12,3916,12],[3915,14,3916,14],[3915,15,3916,15],[3915,17,3916,17],[3915,18,3916,18],[3915,19,3916,19],[3915,20,3916,20],[3915,21,3916,21],[3917,8,3918,8],[3935,17,3936,17],[3935,18,3936,18],[3935,19,3936,19],[3927,15,3928,15],[3927,17,3928,17],[3927,18,3928,18],[3927,19,3928,19],[3991,11,3992,11],[3927,20,3928,20],[3927,21,3928,21],[3929,8,3930,8],[3929,9,3930,9],[3929,10,3930,10],[3929,11,3930,11],[3929,12,3930,12],[3925,8,3926,8],[3925,9,3926,9],[3925,10,3926,10],[3925,11,3926,11],[3925,12,3926,12],[3925,14,3926,14],[3919,19,3920,19],[3919,20,3920,20],[3919,21,3920,21],[3921,8,3922,8],[3943,18,3944,18],[3943,19,3944,19],[3943,20,3944,20],[3913,20,3914,20],[3925,15,3926,15],[47,21,48,21],[47,19,48,19],[51,19,52,19],[43,19,44,19],[55,19,56,19],[43,20,44,20],[43,21,44,21],[51,20,52,20],[51,21,52,21],[3917,20,3918,20],[3917,21,3918,21],[3921,14,3922,14],[3921,15,3922,15],[3921,17,3922,17],[3921,18,3922,18],[3921,19,3922,19],[3921,20,3922,20],[3921,21,3922,21],[3923,8,3924,8],[3923,9,3924,9],[3923,10,3924,10],[3923,11,3924,11],[3923,12,3924,12],[3923,14,3924,14],[3923,15,3924,15],[3923,17,3924,17],[3923,18,3924,18],[3923,19,3924,19],[3923,20,3924,20],[3923,21,3924,21],[3924,3,3925,3],[3924,4,3925,4],[3924,5,3925,5],[3924,6,3925,6],[3917,9,3918,9],[3917,10,3918,10],[3917,11,3918,11],[51,8,52,8],[51,9,52,9],[52,5,53,5],[52,6,53,6],[53,7,54,7],[63,19,64,19],[63,20,64,20],[63,21,64,21],[49,10,50,10],[49,11,50,11],[49,12,50,12],[49,14,50,14],[61,21,62,21],[61,14,62,14],[67,19,68,19],[67,20,68,20],[67,21,68,21],[71,19,72,19],[71,20,72,20],[71,21,72,21],[75,19,76,19],[75,20,76,20],[75,21,76,21],[79,19,80,19],[79,20,80,20],[30,5,31,5],[30,8,31,8],[30,9,31,9],[26,17,31,17],[30,11,31,11],[30,12,31,12],[39,20,40,20],[47,20,48,20],[3937,8,3938,8],[3937,9,3938,9],[3937,10,3938,10],[3937,11,3938,11],[3937,12,3938,12],[3937,14,3938,14],[3937,15,3938,15],[3937,17,3938,17],[3937,18,3938,18],[3937,19,3938,19],[3937,20,3938,20],[3926,1,3927,1],[3926,2,3927,2],[3915,9,3916,9],[43,18,44,18],[51,11,52,11],[51,12,52,12],[51,14,52,14],[51,15,52,15],[51,17,52,17],[50,5,51,5],[50,6,51,6],[51,7,52,7],[61,17,62,17],[61,18,62,18],[61,19,62,19],[61,20,62,20],[61,8,62,8],[61,9,62,9],[61,10,62,10],[61,11,62,11],[61,12,62,12],[39,13,40,13],[41,13,42,13],[43,13,44,13],[45,13,46,13],[47,13,48,13],[49,13,50,13],[51,13,52,13],[53,13,54,13],[55,13,56,13],[57,13,58,13],[59,13,60,13],[61,13,62,13],[63,13,64,13],[65,13,66,13],[75,13,76,13],[77,13,78,13],[79,13,80,13],[81,13,82,13],[83,13,84,13],[85,13,86,13],[87,13,88,13],[89,13,90,13],[91,13,92,13],[93,13,94,13],[33,16,34,16],[35,16,36,16],[37,16,38,16],[39,16,40,16],[38,0,39,0],[38,1,39,1],[3925,17,3926,17],[3925,18,3926,18],[3925,19,3926,19],[3925,20,3926,20],[3925,21,3926,21],[22,20,31,20],[22,21,31,21],[22,6,31,6],[22,7,31,7],[22,8,29,9],[22,10,31,10],[22,11,29,11],[22,12,29,12],[43,12,44,12],[43,14,44,14],[43,15,44,15],[43,17,44,17],[42,5,43,5],[42,6,43,6],[43,7,44,7],[43,8,44,8],[43,9,44,9],[3926,3,3927,3],[3926,4,3927,4],[3926,5,3927,5],[3926,6,3927,6],[3935,8,3936,8],[3935,9,3936,9],[3935,10,3936,10],[45,10,46,10],[45,11,46,11],[45,12,46,12],[3919,15,3920,15],[3919,17,3920,17],[3919,18,3920,18],[47,18,48,18],[51,18,52,18],[3929,14,3930,14],[3929,15,3930,15],[47,10,48,10],[47,11,48,11],[47,12,48,12],[47,14,48,14],[47,15,48,15],[47,17,48,17],[46,5,47,5],[46,6,47,6],[47,7,48,7],[47,8,48,8],[47,9,48,9],[48,5,49,5],[48,6,49,6],[49,7,50,7],[3921,9,3922,9],[3921,10,3922,10],[3921,11,3922,11],[3921,12,3922,12],[30,4,31,4],[3932,0,3933,0],[3930,0,3931,0],[3928,0,3929,0],[3926,0,3927,0],[3924,0,3925,0],[3922,0,3923,0],[3920,0,3921,0],[3918,0,3919,0],[3916,0,3917,0],[3914,0,3915,0],[3912,0,3913,0],[3912,1,3913,1],[3912,2,3913,2],[3912,3,3913,3],[3912,4,3913,4],[3912,5,3913,5],[3912,6,3913,6],[3914,1,3915,1],[3914,2,3915,2],[3914,3,3915,3],[3914,4,3915,4],[3914,5,3915,5],[3914,6,3915,6],[3916,1,3917,1],[3916,2,3917,2],[3916,3,3917,3],[3916,4,3917,4],[3916,5,3917,5],[3916,6,3917,6],[35,18,36,18],[35,19,36,19],[3922,3,3923,3],[3922,4,3923,4],[3922,5,3923,5],[3922,6,3923,6],[3911,15,3912,15],[3911,17,3912,17],[3911,18,3912,18],[3911,19,3912,19],[3913,8,3914,8],[3913,9,3914,9],[3913,10,3914,10],[3913,11,3914,11],[3913,12,3914,12],[3913,14,3914,14],[3913,15,3914,15],[3913,17,3914,17],[3913,18,3914,18],[3913,19,3914,19],[3918,1,3919,1],[3918,2,3919,2],[3918,3,3919,3],[3918,4,3919,4],[3918,5,3919,5],[3918,6,3919,6],[67,13,68,13],[69,13,70,13],[71,13,72,13],[73,13,74,13],[103,13,104,13],[105,13,106,13],[3919,13,3920,13],[45,19,46,19],[34,0,35,0],[20,0,21,21],[14,0,15,6],[14,7,19,21],[10,0,13,6],[35,20,36,20],[35,21,36,21],[22,0,31,0],[22,1,31,1],[22,2,31,2],[22,3,29,3],[22,4,29,4],[22,5,29,5],[33,7,34,7],[33,8,34,8],[33,9,34,9],[33,10,34,10],[33,11,34,11],[33,12,34,12],[33,14,34,14],[33,15,34,15],[33,17,34,17],[32,4,33,4],[32,5,33,5],[32,6,33,6],[33,18,34,18],[33,19,34,19],[33,20,34,20],[33,21,34,21],[32,0,33,0],[32,1,33,1],[32,2,33,2],[32,3,33,3],[32,7,32,21],[26,18,31,18],[26,19,31,19],[30,3,31,3],[30,14,31,14],[22,14,29,14],[22,15,31,15],[22,17,25,19],[34,4,35,4],[34,5,35,5],[34,6,35,6],[35,7,36,7],[35,10,36,10],[35,11,36,11],[35,12,36,12],[35,14,36,14],[36,5,37,5],[36,6,37,6],[37,7,38,7],[34,1,35,1],[34,2,35,2],[34,3,35,3],[37,15,38,15],[37,17,38,17],[37,8,38,8],[30,13,31,13],[33,13,34,13],[35,13,36,13],[37,13,38,13],[22,13,29,13],[30,16,31,16],[22,16,29,16],[37,18,38,18],[37,19,38,19],[35,8,36,8],[35,9,36,9],[55,18,56,18],[59,18,60,18],[63,18,64,18],[67,18,68,18],[71,18,72,18],[75,18,76,18],[79,18,80,18],[83,18,84,18],[87,18,88,18],[91,18,92,18],[95,18,96,18],[99,18,100,18],[103,18,104,18],[51,10,52,10],[95,13,96,13],[97,13,98,13],[99,13,100,13],[101,13,102,13],[79,21,80,21],[69,17,70,17],[69,18,70,18],[69,19,70,19],[69,20,70,20],[69,21,70,21],[69,8,70,8],[69,9,70,9],[69,10,70,10],[69,11,70,11],[69,12,70,12],[69,14,70,14],[67,10,68,10],[67,11,68,11],[67,12,68,12],[67,14,68,14],[67,15,68,15],[67,17,68,17],[77,12,78,12],[77,14,78,14],[75,10,76,10],[75,11,76,11],[75,12,76,12],[75,14,76,14],[75,15,76,15],[75,17,76,17],[45,20,46,20],[45,21,46,21],[45,8,46,8],[45,9,46,9],[39,18,40,18],[39,19,40,19],[55,11,56,11],[55,12,56,12],[55,14,56,14],[55,15,56,15],[55,17,56,17],[73,15,74,15],[73,17,74,17],[73,18,74,18],[73,19,74,19],[73,20,74,20],[3924,1,3925,1],[3924,2,3925,2],[45,14,46,14],[44,5,45,5],[44,6,45,6],[45,7,46,7],[35,15,36,15],[35,17,36,17],[3917,12,3918,12],[3917,14,3918,14],[3917,15,3918,15],[3917,17,3918,17],[3917,18,3918,18],[3917,19,3918,19],[41,15,42,15],[41,17,42,17],[41,18,42,18],[41,19,42,19],[41,20,42,20],[41,21,42,21],[41,8,42,8],[41,9,42,9],[41,10,42,10],[41,11,42,11],[41,12,42,12],[41,14,42,14],[39,10,40,10],[39,11,40,11],[39,12,40,12],[39,14,40,14],[39,15,40,15],[39,17,40,17],[38,5,39,5],[38,6,39,6],[39,7,40,7],[39,8,40,8],[39,9,40,9],[40,5,41,5],[40,6,41,6],[41,7,42,7],[49,19,50,19],[37,20,38,20],[49,20,50,20],[49,21,50,21],[49,8,50,8],[49,9,50,9],[39,21,40,21],[37,9,38,9],[37,10,38,10],[37,11,38,11],[37,12,38,12],[37,14,38,14],[43,10,44,10],[43,11,44,11],[45,15,46,15],[45,17,46,17],[45,18,46,18],[37,21,38,21],[65,15,66,15],[65,17,66,17],[65,18,66,18],[55,20,56,20],[55,21,56,21],[55,10,56,10],[53,18,54,18],[53,19,54,19],[53,20,54,20],[53,21,54,21],[53,8,54,8],[53,9,54,9],[53,10,54,10],[53,11,54,11],[53,12,54,12],[53,14,54,14],[63,17,64,17],[62,5,63,5],[62,6,63,6],[63,7,64,7],[63,8,64,8],[63,9,64,9],[64,5,65,5],[64,6,65,6],[65,7,66,7],[61,15,62,15],[65,19,66,19],[65,20,66,20],[65,21,66,21],[65,8,66,8],[65,9,66,9],[65,10,66,10],[65,11,66,11],[65,12,66,12],[65,14,66,14],[63,10,64,10],[63,11,64,11],[63,12,64,12],[63,14,64,14],[63,15,64,15],[72,6,73,6],[73,7,74,7],[69,15,70,15],[71,10,72,10],[71,11,72,11],[71,12,72,12],[71,14,72,14],[71,15,72,15],[71,17,72,17],[70,5,71,5],[70,6,71,6],[66,5,67,5],[66,6,67,6],[67,7,68,7],[67,8,68,8],[67,9,68,9],[68,5,69,5],[68,6,69,6],[69,7,70,7],[71,7,72,7],[71,8,72,8],[71,9,72,9],[74,5,75,5],[74,6,75,6],[54,5,55,5],[54,6,55,6],[55,7,56,7],[55,8,56,8],[55,9,56,9],[56,5,57,5],[56,6,57,6],[57,7,58,7],[53,15,54,15],[53,17,54,17],[75,7,76,7],[75,8,76,8],[75,9,76,9],[76,5,77,5],[76,6,77,6],[77,7,78,7],[79,10,80,10],[79,11,80,11],[79,12,80,12],[79,14,80,14],[79,15,80,15],[79,17,80,17],[78,5,79,5],[78,6,79,6],[79,7,80,7],[79,8,80,8],[79,9,80,9],[80,5,81,5],[80,6,81,6],[81,7,82,7],[77,15,78,15],[77,17,78,17],[77,18,78,18],[77,19,78,19],[77,20,78,20],[77,21,78,21],[77,8,78,8],[77,9,78,9],[77,10,78,10],[77,11,78,11],[73,21,74,21],[73,8,74,8],[73,9,74,9],[73,10,74,10],[73,11,74,11],[73,12,74,12],[73,14,74,14],[49,15,50,15],[49,17,50,17],[59,19,60,19],[59,20,60,20],[59,21,60,21],[59,10,60,10],[59,11,60,11],[59,12,60,12],[59,14,60,14],[59,15,60,15],[59,17,60,17],[58,5,59,5],[58,6,59,6],[59,7,60,7],[59,8,60,8],[59,9,60,9],[60,5,61,5],[60,6,61,6],[61,7,62,7],[57,15,58,15],[57,17,58,17],[57,18,58,18],[57,19,58,19],[57,20,58,20],[57,21,58,21],[57,8,58,8],[57,9,58,9],[57,10,58,10],[57,11,58,11],[57,12,58,12],[57,14,58,14],[49,18,50,18],[72,5,73,5],[87,19,88,19],[87,20,88,20],[87,21,88,21],[87,10,88,10],[87,11,88,11],[87,12,88,12],[87,14,88,14]],"merged_total":43675,"flags":["merged_cut"]}
["Diameter or equivalent diameter",null,null,"STORM SEWER"]
[]
[]
[]
[]
[]
["* Bid Item"]
[]
["** For SW-545"]
[]
["INTAKES AND UTILITY ACCESSES",null,null,null,null,null,null,"PIPE"]
[]
[]
[]
[null,null,null,null,null,null,null,"Design Length, Slope, and Flowlines are calculated from inside wall to inside wall along CL of pipe. An additional 2 ft length is added to each end of the Design Length to account for estimated length to center of structures.\n"]
[]
[]
[]
[]
[]
["This Data Entry Sheet fills Tab 104-5B effective 04-21-15."]
[]
["No.","Location Station and Offset","*Type or Standard Road Plan","Form Grade","Bottom Well","Extension Length**","Notes","Line Number","Intake/\nUtility Access No.",null,"Class 'D'","Pipe Diameter","Bid* Length","Change to 2 if an Apron is used","Design Length","Slope %","Connected Pipe Joint\n(DR-121)","Flow Lines",null,null,"Pipe Profile Sheet No.","Notes"]
[]
[]
[]
[null,null,null,null,null,null,null,null,null,null,null,null,null,null,null,null,null,"Inlet Elevation","Outlet Elevation","Other Elevation"]
[]
[]
[]
[null,null,null,"Elev.","Elev.","FT",null,null,"From","To",null,"IN","FT","FT","FT",null,"TYPE"]
[]
[1,"241473+95.00, 21.96","SW-549",943.94,938.9]
[null,null,null,null,null,null,null,"P-1",1,2,2000,18,{"$f":"IF(O34<>\"\",ROUNDUP(SUM(N34:O34),0),\"\")","v":40},4,35.5,0.5,2,939.4,939.22,null,"M.4"]
[2,"241473+95.00, -21.96","SW-549",943.94,938.4]
[null,null,null,null,null,null,null,"P-2",2,3,2000,18,{"$f":"IF(O36<>\"\",ROUNDUP(SUM(N36:O36),0),\"\")","v":114},4,110,1,2,938.9,937.8,null,"M.4"]
[3,"241472+80.00, -21.96","SW-549",942.7,937]
[null,null,null,null,null,null,null,"P-3",3,4,2000,18,{"$f":"IF(O38<>\"\",ROUNDUP(SUM(N38:O38),0),\"\")","v":114},4,110,1.5,2,937.5,935.85,null,"M.4"]
[4,"241471+65.00, -21.96","SW-549",941.09,935]
[null,null,null,null,null,null,null,"P-4",4,5,2000,18,{"$f":"IF(O40<>\"\",ROUNDUP(SUM(N40:O40),0),\"\")","v":79},4,74.02,2,2,935.5,934.02,null,"M.4"]
[5,"241470+87.00, -23.58","SW-538",939.62,933]
[null,null,null,null,null,null,null,"P-5",5,6,2000,18,{"$f":"IF(O42<>\"\",ROUNDUP(SUM(N42:O42),0),\"\")","v":16},4,11.61,4,2,933.5,933.04,null,"M.4"]
[6,"241470+87.00, -35","DR-122",937.97,933.04]
[null,null,null,null,null,null,null,"P-6",6,7,2000,18,{"$f":"IF(O44<>\"\",ROUNDUP(SUM(N44:O44),0),\"\")","v":57},4,53,22.49,2,933.04,921.12,null,"M.4"]
[7,"241470+87.00, -88","DR-122",922.9,921.12]
[null,null,null,null,null,null,null,"P-7",7,8,2000,18,{"$f":"IF(O46<>\"\",ROUNDUP(SUM(N46:O46),0),\"\")","v":8},2,5.92,2,2,921.12,921,null,"M.4"]
[8,"241470+87.00, -100.05","DR-201 (18\")","---",921]
[null,null,null,null,null,null,null,null,null,null,null,null,null,4]
[]
[null,null,null,null,null,null,null,null,null,null,null,null,null,4]
[]
[null,null,null,null,null,null,null,null,null,null,"Total:",null,null,4]
[null,null,"Total:"]
[null,null,null,null,null,null,null,null,null,null,2000,18,428,4]
[null,null,"DR-122",2]
[null,null,null,null,null,null,null,null,null,null,null,null,null,4]
[null,null,"DR-201 (18\")",1]
[null,null,null,null,null,null,null,null,null,null,null,null,null,4]
[null,null,"SW-538",1]
[null,null,null,null,null,null,null,null,null,null,null,null,null,4]
[null,null,"SW-549",4]
[null,null,null,null,null,null,null,null,null,null,null,null,null,4]
[]
[null,null,null,null,null,null,null,null,null,null,null,null,null,4]
[]
[null,null,null,null,null,null,null,null,null,null,null,null,null,4]
[]
[null,null,null,null,null,null,null,null,null,null,null,null,null,4]
[]
[null,null,null,null,null,null,null,null,null,null,null,null,null,4]
[]
[null,null,null,null,null,null,null,null,null,null,null,null,null,4]
[]
[null,null,null,null,null,null,null,null,null,null,null,null,null,4]
[]
[null,null,null,null,null,null,null,null,null,null,null,null,null,4]
[]
[null,null,null,null,null,null,null,null,null,null,null,null,null,4]
[]
[null,null,null,null,null,null,null,null,null,null,null,null,null,4]
[]
[null,null,null,null,null,null,null,null,null,null,null,null,null,4]
[]
[null,null,null,null,null,null,null,null,null,null,null,null,null,4]
[]
[null,null,null,null,null,null,null,null,null,null,null,null,null,4]
[]
[null,null,null,null,null,null,null,null,null,null,null,null,null,4]
[]
[null,null,null,null,null,null,null,null,null,null,null,null,null,4]
[]
[null,null,null,null,null,null,null,null,null,null,null,null,null,4]
[]
[null,null,null,null,null,null,null,null,null,null,null,null,null,4]
[]
[null,null,null,null,null,null,null,null,null,null,null,null,null,4]
[]
[null,null,null,null,null,null,null,null,null,null,null,null,null,4]
[]
[null,null,null,null,null,null,null,null,null,null,null,null,null,4]
[]
[null,null,null,null,null,null,null,null,null,null,null,null,null,4]
[]
[null,null,null,null,null,null,null,null,null,null,null,null,null,4]
[]
[null,null,null,null,null,null,null,null,null,null,null,null,null,4]
[]
[null,null,null,null,null,null,null,null,null,null,null,null,null,4]
[]
[null,null,null,null,null,null,null,null,null,null,null,null,null,4]
[]
[null,null,null,null,null,null,null,null,null,null,null,null,null,4]
[]
[null,null,null,null,null,null,null,null,null,null,null,null,null,4]
[]
[null,null,null,null,null,null,null,null,null,null,null,null,null,4]
[]
[null,null,null,null,null,null,null,null,null,null,null,null,null,4]
[]
[null,null,null,null,null,null,null,null,null,null,null,null,null,4]
[]
[null,null,null,null,null,null,null,null,null,null,null,null,null,4]
[]
[null,null,null,null,null,null,null,null,null,null,null,null,null,4]
[]
[null,null,null,null,null,null,null,null,null,null,null,null,null,4]
[]
[null,null,null,null,null,null,null,null,null,null,null,null,null,4]
[]
[null,null,null,null,null,null,null,null,null,null,null,null,null,4]
[]
[null,null,null,null,null,null,null,null,null,null,null,null,null,4]
[]
[null,null,null,null,null,null,null,null,null,null,null,null,null,4]
[]
[null,null,null,null,null,null,null,null,null,null,null,null,null,4]
[]
[null,null,null,null,null,null,null,null,null,null,null,null,null,4]
[]
[null,null,null,null,null,null,null,null,null,null,null,null,null,4]
[]
[null,null,null,null,null,null,null,null,null,null,null,null,null,4]
[]
[null,null,null,null,null,null,null,null,null,null,null,null,null,4]
[]
[null,null,null,null,null,null,null,null,null,null,null,null,null,4]
[]
[null,null,null,null,null,null,null,null,null,null,null,null,null,4]
[]
[null,null,null,null,null,null,null,null,null,null,null,null,null,4]
[]
[null,null,null,null,null,null,null,null,null,null,null,null,null,4]
[]
[null,null,null,null,null,null,null,null,null,null,null,null,null,4]
[]
[null,null,null,null,null,null,null,null,null,null,null,null,null,4]
[]
[null,null,null,null,null,null,null,null,null,null,null,null,null,4]
[]
[null,null,null,null,null,null,null,null,null,null,null,null,null,4]
[]
[null,null,null,null,null,null,null,null,null,null,null,null,null,4]
[]
[null,null,null,null,null,null,null,null,null,null,null,null,null,4]
[]
[null,null,null,null,null,null,null,null,null,null,null,null,null,4]
[]
[null,null,null,null,null,null,null,null,null,null,null,null,null,4]
[]
[null,null,null,null,null,null,null,null,null,null,null,null,null,4]
[]
[null,null,null,null,null,null,null,null,null,null,null,null,null,4]
[]
[null,null,null,null,null,null,null,null,null,null,null,null,null,4]
[]
[null,null,null,null,null,null,null,null,null,null,null,null,null,4]
[]
[null,null,null,null,null,null,null,null,null,null,null,null,null,4]
[]
[null,null,null,null,null,null,null,null,null,null,null,null,null,4]
[]
[null,null,null,null,null,null,null,null,null,null,null,null,null,4]
[]
[null,null,null,null,null,null,null,null,null,null,null,null,null,4]
[]
[null,null,null,null,null,null,null,null,null,null,null,null,null,4]
[]
[null,null,null,null,null,null,null,null,null,null,null,null,null,4]
[]
[null,null,null,null,null,null,null,null,null,null,null,null,null,4]
[]
[null,null,null,null,null,null,null,null,null,null,null,null,null,4]
[]
[null,null,null,null,null,null,null,null,null,null,null,null,null,4]
[]
[null,null,null,null,null,null,null,null,null,null,null,null,null,4]
[]
[null,null,null,null,null,null,null,null,null,null,null,null,null,4]
[]
[null,null,null,null,null,null,null,null,null,null,null,null,null,4]
[]
[null,null,null,null,null,null,null,null,null,null,null,null,null,4]
[]
[null,null,null,null,null,null,null,null,null,null,null,null,null,4]
[]
[null,null,null,null,null,null,null,null,null,null,null,null,null,4]
[]
[null,null,null,null,null,null,null,null,null,null,null,null,null,4]
[]
[null,null,null,null,null,null,null,null,null,null,null,null,null,4]
[]
[null,null,null,null,null,null,null,null,null,null,null,null,null,4]
[]
[null,null,null,null,null,null,null,null,null,null,null,null,null,4]
[]
[null,null,null,null,null,null,null,null,null,null,null,null,null,4]
[]
[null,null,null,null,null,null,null,null,null,null,null,null,null,4]
[]
[null,null,null,null,null,null,null,null,null,null,null,null,null,4]
[]
[null,null,null,null,null,null,null,null,null,null,null,null,null,4]
[]
[null,null,null,null,null,null,null,null,null,null,null,null,null,4]
[]
[null,null,null,null,null,null,null,null,null,null,null,null,null,4]
[]
[null,null,null,null,null,null,null,null,null,null,null,null,null,4]
[]
[null,null,null,null,null,null,null,null,null,null,null,null,null,4]
[]
[null,null,null,null,null,null,null,null,null,null,null,null,null,4]
[]
[null,null,null,null,null,null,null,null,null,null,null,null,null,4]
[]
[null,null,null,null,null,null,null,null,null,null,null,null,null,4]
[]
[null,null,null,null,null,null,null,null,null,null,null,null,null,4]
[]
[null,null,null,null,null,null,null,null,null,null,null,null,null,4]
[]
[null,null,null,null,null,null,null,null,null,null,null,null,null,4]
[]
[null,null,null,null,null,null,null,null,null,null,null,null,null,4]
[]
[null,null,null,null,null,null,null,null,null,null,null,null,null,4]
[]
[null,null,null,null,null,null,null,null,null,null,null,null,null,4]
[]
[null,null,null,null,null,null,null,null,null,null,null,null,null,4]
[]
[null,null,null,null,null,null,null,null,null,null,null,null,null,4]
[]
[null,null,null,null,null,null,null,null,null,null,null,null,null,4]
[]
[null,null,null,null,null,null,null,null,null,null,null,null,null,4]
[]
[null,null,null,null,null,null,null,null,null,null,null,null,null,4]
[]
[null,null,null,null,null,null,null,null,null,null,null,null,null,4]
[]
[null,null,null,null,null,null,null,null,null,null,null,null,null,4]
[]
[null,null,null,null,null,null,null,null,null,null,null,null,null,4]
[]
[null,null,null,null,null,null,null,null,null,null,null,null,null,4]
[]
[null,null,null,null,null,null,null,null,null,null,null,null,null,4]
[]
[null,null,null,null,null,null,null,null,null,null,null,null,null,4]
[]
[null,null,null,null,null,null,null,null,null,null,null,null,null,4]
[]
[null,null,null,null,null,null,null,null,null,null,null,null,null,4]
[]
[null,null,null,null,null,null,null,null,null,null,null,null,null,4]
[]
[null,null,null,null,null,null,null,null,null,null,null,null,null,4]
[]
[null,null,null,null,null,null,null,null,null,null,null,null,null,4]
[]
[null,null,null,null,null,null,null,null,null,null,null,null,null,4]
[]
[null,null,null,null,null,null,null,null,null,null,null,null,null,4]
[]
[null,null,null,null,null,null,null,null,null,null,null,null,null,4]
[]
[null,null,null,null,null,null,null,null,null,null,null,null,null,4]
[]
[null,null,null,null,null,null,null,null,null,null,null,null,null,4]
[]
[null,null,null,null,null,null,null,null,null,null,null,null,null,4]
[]
[null,null,null,null,null,null,null,null,null,null,null,null,null,4]
[]
[null,null,null,null,null,null,null,null,null,null,null,null,null,4]
[]
[null,null,null,null,null,null,null,null,null,null,null,null,null,4]
[]
[null,null,null,null,null,null,null,null,null,null,null,null,null,4]
[]
[null,null,null,null,null,null,null,null,null,null,null,null,null,4]
[]
[null,null,null,null,null,null,null,null,null,null,null,null,null,4]
[]
[null,null,null,null,null,null,null,null,null,null,null,null,null,4]
[]
[null,null,null,null,null,null,null,null,null,null,null,null,null,4]
[]
[null,null,null,null,null,null,null,null,null,null,null,null,null,4]
[]
[null,null,null,null,null,null,null,null,null,null,null,null,null,4]
[]
[null,null,null,null,null,null,null,null,null,null,null,null,null,4]
[]
[null,null,null,null,null,null,null,null,null,null,null,null,null,4]
[]
[null,null,null,null,null,null,null,null,null,null,null,null,null,4]
[]
[null,null,null,null,null,null,null,null,null,null,null,null,null,4]
[]
[null,null,null,null,null,null,null,null,null,null,null,null,null,4]
[]
[null,null,null,null,null,null,null,null,null,null,null,null,null,4]
[]
[null,null,null,null,null,null,null,null,null,null,null,null,null,4]
[]
[null,null,null,null,null,null,null,null,null,null,null,null,null,4]
[]
[null,null,null,null,null,null,null,null,null,null,null,null,null,4]
[]
[null,null,null,null,null,null,null,null,null,null,null,null,null,4]
[]
[null,null,null,null,null,null,null,null,null,null,null,null,null,4]
[]
[null,null,null,null,null,null,null,null,null,null,null,null,null,4]
[]
[null,null,null,null,null,null,null,null,null,null,null,null,null,4]
[]
[null,null,null,null,null,null,null,null,null,null,null,null,null,4]
[]
[null,null,null,null,null,null,null,null,null,null,null,null,null,4]
[]
[null,null,null,null,null,null,null,null,null,null,null,null,null,4]
[]
[null,null,null,null,null,null,null,null,null,null,null,null,null,4]
[]
[null,null,null,null,null,null,null,null,null,null,null,null,null,4]
[]
[null,null,null,null,null,null,null,null,null,null,null,null,null,4]
[]
[null,null,null,null,null,null,null,null,null,null,null,null,null,4]
[]
[null,null,null,null,null,null,null,null,null,null,null,null,null,4]
[]
[null,null,null,null,null,null,null,null,null,null,null,null,null,4]
[]
[null,null,null,null,null,null,null,null,null,null,null,null,null,4]
[]
[null,null,null,null,null,null,null,null,null,null,null,null,null,4]
[]
[null,null,null,null,null,null,null,null,null,null,null,null,null,4]
[]
[null,null,null,null,null,null,null,null,null,null,null,null,null,4]
[]
[null,null,null,null,null,null,null,null,null,null,null,null,null,4]
[]
[null,null,null,null,null,null,null,null,null,null,null,null,null,4]
[]
[null,null,null,null,null,null,null,null,null,null,null,null,null,4]
[]
[null,null,null,null,null,null,null,null,null,null,null,null,null,4]
[]
[null,null,null,null,null,null,null,null,null,null,null,null,null,4]
[]
[null,null,null,null,null,null,null,null,null,null,null,null,null,4]
[]
[null,null,null,null,null,null,null,null,null,null,null,null,null,4]
[]
[null,null,null,null,null,null,null,null,null,null,null,null,null,4]
[]
[null,null,null,null,null,null,null,null,null,null,null,null,null,4]
[]
[null,null,null,null,null,null,null,null,null,null,null,null,null,4]
[]
[null,null,null,null,null,null,null,null,null,null,null,null,null,4]
[]
[null,null,null,null,null,null,null,null,null,null,null,null,null,4]
[]
[null,null,null,null,null,null,null,null,null,null,null,null,null,4]
[]
[null,null,null,null,null,null,null,null,null,null,null,null,null,4]
[]
[null,null,null,null,null,null,null,null,null,null,null,null,null,4]
[]
[null,null,null,null,null,null,null,null,null,null,null,null,null,2]
[]
[null,null,null,null,null,null,null,null,null,null,null,null,null,4]
[]
[null,null,null,null,null,null,null,null,null,null,null,null,null,4]
[]
[null,null,null,null,null,null,null,null,null,null,null,null,null,4]
[]
[null,null,null,null,null,null,null,null,null,null,null,null,null,2]
[]
[null,null,null,null,null,null,null,null,null,null,null,null,null,4]
[]
[null,null,null,null,null,null,null,null,null,null,null,null,null,4]
[]
[null,null,null,null,null,null,null,null,null,null,null,null,null,4]
[]
[null,null,null,null,null,null,null,null,null,null,null,null,null,4]
[]
[null,null,null,null,null,null,null,null,null,null,null,null,null,4]
[]
[null,null,null,null,null,null,null,null,null,null,null,null,null,4]
[]
[null,null,null,null,null,null,null,null,null,null,null,null,null,4]
[]
[null,null,null,null,null,null,null,null,null,null,null,null,null,4]
[]
[null,null,null,null,null,null,null,null,null,null,null,null,null,4]
[]
[null,null,null,null,null,null,null,null,null,null,null,null,null,4]
[]
[null,null,null,null,null,null,null,null,null,null,null,null,null,4]
[]
[null,null,null,null,null,null,null,null,null,null,null,null,null,4]
[]
[null,null,null,null,null,null,null,null,null,null,null,null,null,4]
[]
[null,null,null,null,null,null,null,null,null,null,null,null,null,4]
[]
[null,null,null,null,null,null,null,null,null,null,null,null,null,4]
[]
[null,null,null,null,null,null,null,null,null,null,null,null,null,4]
[]
[null,null,null,null,null,null,null,null,null,null,null,null,null,4]
[]
[null,null,null,null,null,null,null,null,null,null,null,null,null,4]
[]
[null,null,null,null,null,null,null,null,null,null,null,null,null,4]
[]
[null,null,null,null,null,null,null,null,null,null,null,null,null,4]
[]
[null,null,null,null,null,null,null,null,null,null,null,null,null,4]
[]
[null,null,null,null,null,null,null,null,null,null,null,null,null,4]
[]
[null,null,null,null,null,null,null,null,null,null,null,null,null,4]
[]
[null,null,null,null,null,null,null,null,null,null,null,null,null,4]
[]
[null,null,null,null,null,null,null,null,null,null,null,null,null,4]
[]
[null,null,null,null,null,null,null,null,null,null,null,null,null,4]
[]
[null,null,null,null,null,null,null,null,null,null,null,null,null,4]
[]
[null,null,null,null,null,null,null,null,null,null,null,null,null,4]
[]
[null,null,null,null,null,null,null,null,null,null,null,null,null,4]
[]
[null,null,null,null,null,null,null,null,null,null,null,null,null,4]
[]
[null,null,null,null,null,null,null,null,null,null,null,null,null,4]
[]
[null,null,null,null,null,null,null,null,null,null,null,null,null,4]
[]
[null,null,null,null,null,null,null,null,null,null,null,null,null,4]
[]
[null,null,null,null,null,null,null,null,null,null,null,null,null,4]
[]
[null,null,null,null,null,null,null,null,null,null,null,null,null,4]
[]
[null,null,null,null,null,null,null,null,null,null,null,null,null,4]
[]
[null,null,null,null,null,null,null,null,null,null,null,null,null,4]
[]
[null,null,null,null,null,null,null,null,null,null,null,null,null,4]
[]
[null,null,null,null,null,null,null,null,null,null,null,null,null,4]
[]
[null,null,null,null,null,null,null,null,null,null,null,null,null,4]
[]
[null,null,null,null,null,null,null,null,null,null,null,null,null,4]
[]
[null,null,null,null,null,null,null,null,null,null,null,null,null,4]
[]
[null,null,null,null,null,null,null,null,null,null,null,null,null,4]
[]
[null,null,null,null,null,null,null,null,null,null,null,null,null,4]
[]
[null,null,null,null,null,null,null,null,null,null,null,null,null,4]
[]
[null,null,null,null,null,null,null,null,null,null,null,null,null,4]
[]
[null,null,null,null,null,null,null,null,null,null,null,null,null,4]
[]
[null,null,null,null,null,null,null,null,null,null,null,null,null,4]
[]
[null,null,null,null,null,null,null,null,null,null,null,null,null,4]
[]
[null,null,null,null,null,null,null,null,null,null,null,null,null,4]
[]
[null,null,null,null,null,null,null,null,null,null,null,null,null,4]
[]
[null,null,null,null,null,null,null,null,null,null,null,null,null,4]
[]
[null,null,null,null,null,null,null,null,null,null,null,null,null,4]
[]
[null,null,null,null,null,null,null,null,null,null,null,null,null,4]
[]
[null,null,null,null,null,null,null,null,null,null,null,null,null,4]
[]
[null,null,null,null,null,null,null,null,null,null,null,null,null,4]
[]
[null,null,null,null,null,null,null,null,null,null,null,null,null,4]
[]
[null,null,null,null,null,null,null,null,null,null,null,null,null,4]
[]
[null,null,null,null,null,null,null,null,null,null,null,null,null,4]
[]
[null,null,null,null,null,null,null,null,null,null,null,null,null,4]
[]
[null,null,null,null,null,null,null,null,null,null,null,null,null,4]
[]
[null,null,null,null,null,null,null,null,null,null,null,null,null,4]
[]
[null,null,null,null,null,null,null,null,null,null,null,null,null,4]
[]
[null,null,null,null,null,null,null,null,null,null,null,null,null,4]
[]
[null,null,null,null,null,null,null,null,null,null,null,null,null,4]
[]
[null,null,null,null,null,null,null,null,null,null,null,null,null,4]
[]
[null,null,null,null,null,null,null,null,null,null,null,null,null,4]
[]
[null,null,null,null,null,null,null,null,null,null,null,null,null,4]
[]
[null,null,null,null,null,null,null,null,null,null,null,null,null,4]
[]
[null,null,null,null,null,null,null,null,null,null,null,null,null,4]
[]
[null,null,null,null,null,null,null,null,null,null,null,null,null,4]
[]
[null,null,null,null,null,null,null,null,null,null,null,null,null,4]
[]
[null,null,null,null,null,null,null,null,null,null,null,null,null,4]
[]
[null,null,null,null,null,null,null,null,null,null,null,null,null,4]
[]
[null,null,null,null,null,null,null,null,null,null,null,null,null,4]
[]
[null,null,null,null,null,null,null,null,null,null,null,null,null,4]
[]
[null,null,null,null,null,null,null,null,null,null,null,null,null,4]
[]
[null,null,null,null,null,null,null,null,null,null,null,null,null,4]
[]
[null,null,null,null,null,null,null,null,null,null,null,null,null,4]
[]
[null,null,null,null,null,null,null,null,null,null,null,null,null,4]
[]
[null,null,null,null,null,null,null,null,null,null,null,null,null,4]
[]
[null,null,null,null,null,null,null,null,null,null,null,null,null,4]
[]
[null,null,null,null,null,null,null,null,null,null,null,null,null,4]
[]
[null,null,null,null,null,null,null,null,null,null,null,null,null,4]
[]
[null,null,null,null,null,null,null,null,null,null,null,null,null,4]
[]
[null,null,null,null,null,null,null,null,null,null,null,null,null,4]
[]
[null,null,null,null,null,null,null,null,null,null,null,null,null,4]
[]
[null,null,null,null,null,null,null,null,null,null,null,null,null,4]
[]
[null,null,null,null,null,null,null,null,null,null,null,null,null,4]
[]
[null,null,null,null,null,null,null,null,null,null,null,null,null,4]
[]
[null,null,null,null,null,null,null,null,null,null,null,null,null,4]
[]
[null,null,null,null,null,null,null,null,null,null,null,null,null,4]
[]
[null,null,null,null,null,null,null,null,null,null,null,null,null,4]
[]
[null,null,null,null,null,null,null,null,null,null,null,null,null,4]
[]
[null,null,null,null,null,null,null,null,null,null,null,null,null,4]
[]
[null,null,null,null,null,null,null,null,null,null,null,null,null,4]
[]
[null,null,null,null,null,null,null,null,null,null,null,null,null,4]
[]
[null,null,null,null,null,null,null,null,null,null,null,null,null,4]
[]
[null,null,null,null,null,null,null,null,null,null,null,null,null,4]
[]
[null,null,null,null,null,null,null,null,null,null,null,null,null,4]
[]
[null,null,null,null,null,null,null,null,null,null,null,null,null,4]
[]
[null,null,null,null,null,null,null,null,null,null,null,null,null,4]
[]
[null,null,null,null,null,null,null,null,null,null,null,null,null,4]
[]
[null,null,null,null,null,null,null,null,null,null,null,null,null,4]
[]
[null,null,null,null,null,null,null,null,null,null,null,null,null,4]
[]
[null,null,null,null,null,null,null,null,null,null,null,null,null,4]
[]
[null,null,null,null,null,null,null,null,null,null,null,null,null,4]
[]
[null,null,null,null,null,null,null,null,null,null,null,null,null,4]
[]
[null,null,null,null,null,null,null,null,null,null,null,null,null,4]
[]
[null,null,null,null,null,null,null,null,null,null,null,null,null,4]
[]
[null,null,null,null,null,null,null,null,null,null,null,null,null,4]
[]
[null,null,null,null,null,null,null,null,null,null,null,null,null,4]
[]
[null,null,null,null,null,null,null,null,null,null,null,null,null,4]
[]
[null,null,null,null,null,null,null,null,null,null,null,null,null,4]
[]
[null,null,null,null,null,null,null,null,null,null,null,null,null,4]
[]
[null,null,null,null,null,null,null,null,null,null,null,null,null,4]
[]
[null,null,null,null,null,null,null,null,null,null,null,null,null,4]
[]
[null,null,null,null,null,null,null,null,null,null,null,null,null,4]
[]
[null,null,null,null,null,null,null,null,null,null,null,null,null,4]
[]
[null,null,null,null,null,null,null,null,null,null,null,null,null,4]
[]
[null,null,null,null,null,null,null,null,null,null,null,null,null,4]
[]
[null,null,null,null,null,null,null,null,null,null,null,null,null,4]
[]
[null,null,null,null,null,null,null,null,null,null,null,null,null,4]
[]
[null,null,null,null,null,null,null,null,null,null,null,null,null,4]
[]
[null,null,null,null,null,null,null,null,null,null,null,null,null,4]
[]
[null,null,null,null,null,null,null,null,null,null,null,null,null,4]
[]
[null,null,null,null,null,null,null,null,null,null,null,null,null,4]
[]
[null,null,null,null,null,null,null,null,null,null,null,null,null,4]
[]
[null,null,null,null,null,null,null,null,null,null,null,null,null,4]
[]
[null,null,null,null,null,null,null,null,null,null,null,null,null,4]
[]
[null,null,null,null,null,null,null,null,null,null,null,null,null,4]
[]
[null,null,null,null,null,null,null,null,null,null,null,null,null,4]
[]
[null,null,null,null,null,null,null,null,null,null,null,null,null,4]
[]
[null,null,null,null,null,null,null,null,null,null,null,null,null,4]
[]
[null,null,null,null,null,null,null,null,null,null,null,null,null,4]
[]
[null,null,null,null,null,null,null,null,null,null,null,null,null,4]
[]
[null,null,null,null,null,null,null,null,null,null,null,null,null,4]
[]
[null,null,null,null,null,null,null,null,null,null,null,null,null,4]
[]
[null,null,null,null,null,null,null,null,null,null,null,null,null,4]
[]
[null,null,null,null,null,null,null,null,null,null,null,null,null,4]
[]
[null,null,null,null,null,null,null,null,null,null,null,null,null,4]
[]
[null,null,null,null,null,null,null,null,null,null,null,null,null,4]
[]
[null,null,null,null,null,null,null,null,null,null,null,null,null,4]
[]
[null,null,null,null,null,null,null,null,null,null,null,null,null,4]
[]
[null,null,null,null,null,null,null,null,null,null,null,null,null,4]
[]
[null,null,null,null,null,null,null,null,null,null,null,null,null,4]
[]
[null,null,null,null,null,null,null,null,null,null,null,null,null,4]
[]
[null,null,null,null,null,null,null,null,null,null,null,null,null,4]
[]
[null,null,null,null,null,null,null,null,null,null,null,null,null,4]
[]
[null,null,null,null,null,null,null,null,null,null,null,null,null,4]
[]
[null,null,null,null,null,null,null,null,null,null,null,null,null,4]
[]
[null,null,null,null,null,null,null,null,null,null,null,null,null,4]
[]
[null,null,null,null,null,null,null,null,null,null,null,null,null,4]
[]
[null,null,null,null,null,null,null,null,null,null,null,null,null,4]
[]
[null,null,null,null,null,null,null,null,null,null,null,null,null,4]
[]
[null,null,null,null,null,null,null,null,null,null,null,null,null,4]
[]
[null,null,null,null,null,null,null,null,null,null,null,null,null,4]
[]
[null,null,null,null,null,null,null,null,null,null,null,null,null,4]
[]
[null,null,null,null,null,null,null,null,null,null,null,null,null,4]
[]
[null,null,null,null,null,null,null,null,null,null,null,null,null,4]
[]
[null,null,null,null,null,null,null,null,null,null,null,null,null,4]
[]
[null,null,null,null,null,null,null,null,null,null,null,null,null,4]
[]
[null,null,null,null,null,null,null,null,null,null,null,null,null,4]
[]
[null,null,null,null,null,null,null,null,null,null,null,null,null,4]
[]
[null,null,null,null,null,null,null,null,null,null,null,null,null,4]
[]
[null,null,null,null,null,null,null,null,null,null,null,null,null,4]
[]
[null,null,null,null,null,null,null,null,null,null,null,null,null,4]
[]
[null,null,null,null,null,null,null,null,null,null,null,null,null,4]
[]
[null,null,null,null,null,null,null,null,null,null,null,null,null,4]
[]
[null,null,null,null,null,null,null,null,null,null,null,null,null,4]
[]
[null,null,null,null,null,null,null,null,null,null,null,null,null,4]
[]
[null,null,null,null,null,null,null,null,null,null,null,null,null,4]
[]
[null,null,null,null,null,null,null,null,null,null,null,null,null,4]
[]
[null,null,null,null,null,null,null,null,null,null,null,null,null,4]
[]
[null,null,null,null,null,null,null,null,null,null,null,null,null,4]
[]
[null,null,null,null,null,null,null,null,null,null,null,null,null,4]
[]
[null,null,null,null,null,null,null,null,null,null,null,null,null,4]
[]
[null,null,null,null,null,null,null,null,null,null,null,null,null,4]
[]
[null,null,null,null,null,null,null,null,null,null,null,null,null,4]
[]
[null,null,null,null,null,null,null,null,null,null,null,null,null,4]
[]
[null,null,null,null,null,null,null,null,null,null,null,null,null,4]
[]
[null,null,null,null,null,null,null,null,null,null,null,null,null,4]
[]
[null,null,null,null,null,null,null,null,null,null,null,null,null,4]
[]
[null,null,null,null,null,null,null,null,null,null,null,null,null,4]
[]
[null,null,null,null,null,null,null,null,null,null,null,null,null,4]
[]
[null,null,null,null,null,null,null,null,null,null,null,null,null,4]
[]
[null,null,null,null,null,null,null,null,null,null,null,null,null,4]
[]
[null,null,null,null,null,null,null,null,null,null,null,null,null,4]
[]
[null,null,null,null,null,null,null,null,null,null,null,null,null,4]
[]
[null,null,null,null,null,null,null,null,null,null,null,null,null,4]
[]
[null,null,null,null,null,null,null,null,null,null,null,null,null,4]
[]
[null,null,null,null,null,null,null,null,null,null,null,null,null,4]
[]
[null,null,null,null,null,null,null,null,null,null,null,null,null,4]
[]
[null,null,null,null,null,null,null,null,null,null,null,null,null,4]
[]
[null,null,null,null,null,null,null,null,null,null,null,null,null,4]
[]
[null,null,null,null,null,null,null,null,null,null,null,null,null,4]
[]
[null,null,null,null,null,null,null,null,null,null,null,null,null,4]
[]
[null,null,null,null,null,null,null,null,null,null,null,null,null,4]
[]
[null,null,null,null,null,null,null,null,null,null,null,null,null,4]
[]
[null,null,null,null,null,null,null,null,null,null,null,null,null,4]
[]
[null,null,null,null,null,null,null,null,null,null,null,null,null,4]
[]
[null,null,null,null,null,null,null,null,null,null,null,null,null,4]
[]
[null,null,null,null,null,null,null,null,null,null,null,null,null,4]
[]
[null,null,null,null,null,null,null,null,null,null,null,null,null,4]
[]
[null,null,null,null,null,null,null,null,null,null,null,null,null,4]
[]
[null,null,null,null,null,null,null,null,null,null,null,null,null,4]
[]
[null,null,null,null,null,null,null,null,null,null,null,null,null,4]
[]
[null,null,null,null,null,null,null,null,null,null,null,null,null,4]
[]
[null,null,null,null,null,null,null,null,null,null,null,null,null,4]
[]
[null,null,null,null,null,null,null,null,null,null,null,null,null,4]
[]
[null,null,null,null,null,null,null,null,null,null,null,null,null,4]
[]
[null,null,null,null,null,null,null,null,null,null,null,null,null,4]
[]
[null,null,null,null,null,null,null,null,null,null,null,null,null,4]
[]
[null,null,null,null,null,null,null,null,null,null,null,null,null,4]
[]
[null,null,null,null,null,null,null,null,null,null,null,null,null,4]
[]
[null,null,null,null,null,null,null,null,null,null,null,null,null,4]
[]
[null,null,null,null,null,null,null,null,null,null,null,null,null,4]
[]
[null,null,null,null,null,null,null,null,null,null,null,null,null,4]
[]
[null,null,null,null,null,null,null,null,null,null,null,null,null,4]
[]
[null,null,null,null,null,null,null,null,null,null,null,null,null,4]
[]
[null,null,null,null,null,null,null,null,null,null,null,null,null,4]
[]
[null,null,null,null,null,null,null,null,null,null,null,null,null,4]
[]
[null,null,null,null,null,null,null,null,null,null,null,null,null,4]
[]
[null,null,null,null,null,null,null,null,null,null,null,null,null,4]
[]
[null,null,null,null,null,null,null,null,null,null,null,null,null,4]
[]
[null,null,null,null,null,null,null,null,null,null,null,null,null,4]
[]
[null,null,null,null,null,null,null,null,null,null,null,null,null,4]
[]
[null,null,null,null,null,null,null,null,null,null,null,null,null,4]
[]
[null,null,null,null,null,null,null,null,null,null,null,null,null,4]
[]
[null,null,null,null,null,null,null,null,null,null,null,null,null,4]
[]
[null,null,null,null,null,null,null,null,null,null,null,null,null,4]
[]
[null,null,null,null,null,null,null,null,null,null,null,null,null,4]
[]
[null,null,null,null,null,null,null,null,null,null,null,null,null,4]
[]
[null,null,null,null,null,null,null,null,null,null,null,null,null,4]
[]
[null,null,null,null,null,null,null,null,null,null,null,null,null,4]
[]
[null,null,null,null,null,null,null,null,null,null,null,null,null,4]
[]
[null,null,null,null,null,null,null,null,null,null,null,null,null,4]
[]
[null,null,null,null,null,null,null,null,null,null,null,null,null,4]
[]
[null,null,null,null,null,null,null,null,null,null,null,null,null,4]
[]
[null,null,null,null,null,null,null,null,null,null,null,null,null,4]
[]
[null,null,null,null,null,null,null,null,null,null,null,null,null,4]
[]
[null,null,null,null,null,null,null,null,null,null,null,null,null,4]
[]
[null,null,null,null,null,null,null,null,null,null,null,null,null,4]
[]
[null,null,null,null,null,null,null,null,null,null,null,null,null,4]
[]
[null,null,null,null,null,null,null,null,null,null,null,null,null,4]
[]
[null,null,null,null,null,null,null,null,null,null,null,null,null,4]
[]
[null,null,null,null,null,null,null,null,null,null,null,null,null,4]
[]
[null,null,null,null,null,null,null,null,null,null,null,null,null,4]
[]
[null,null,null,null,null,null,null,null,null,null,null,null,null,4]
[]
[null,null,null,null,null,null,null,null,null,null,null,null,null,4]
[]
[null,null,null,null,null,null,null,null,null,null,null,null,null,4]
[]
[null,null,null,null,null,null,null,null,null,null,null,null,null,4]
[]
[null,null,null,null,null,null,null,null,null,null,null,null,null,4]
[]
[null,null,null,null,null,null,null,null,null,null,null,null,null,4]
[]
[null,null,null,null,null,null,null,null,null,null,null,null,null,4]
[]
[null,null,null,null,null,null,null,null,null,null,null,null,null,4]
[]
[null,null,null,null,null,null,null,null,null,null,null,null,null,4]
[]
[null,null,null,null,null,null,null,null,null,null,null,null,null,4]
[]
[null,null,null,null,null,null,null,null,null,null,null,null,null,4]
[]
[null,null,null,null,null,null,null,null,null,null,null,null,null,4]
[]
[null,null,null,null,null,null,null,null,null,null,null,null,null,4]
[]
[null,null,null,null,null,null,null,null,null,null,null,null,null,4]
[]
[null,null,null,null,null,null,null,null,null,null,null,null,null,4]
[]
[null,null,null,null,null,null,null,null,null,null,null,null,null,4]
[]
[null,null,null,null,null,null,null,null,null,null,null,null,null,4]
[]
[null,null,null,null,null,null,null,null,null,null,null,null,null,4]
[]
[null,null,null,null,null,null,null,null,null,null,null,null,null,4]
[]
[null,null,null,null,null,null,null,null,null,null,null,null,null,4]
[]
[null,null,null,null,null,null,null,null,null,null,null,null,null,4]
[]
[null,null,null,null,null,null,null,null,null,null,null,null,null,4]
[]
[null,null,null,null,null,null,null,null,null,null,null,null,null,4]
[]
[null,null,null,null,null,null,null,null,null,null,null,null,null,4]
[]
[null,null,null,null,null,null,null,null,null,null,null,null,null,4]
[]
[null,null,null,null,null,null,null,null,null,null,null,null,null,4]
[]
[null,null,null,null,null,null,null,null,null,null,null,null,null,4]
[]
[null,null,null,null,null,null,null,null,null,null,null,null,null,4]
[]
[null,null,null,null,null,null,null,null,null,null,null,null,null,4]
[]
[null,null,null,null,null,null,null,null,null,null,null,null,null,4]
[]
[null,null,null,null,null,null,null,null,null,null,null,null,null,4]
[]
[null,null,null,null,null,null,null,null,null,null,null,null,null,4]
[]
[null,null,null,null,null,null,null,null,null,null,null,null,null,4]
[]
[null,null,null,null,null,null,null,null,null,null,null,null,null,4]
[]
[null,null,null,null,null,null,null,null,null,null,null,null,null,4]
[]
[null,null,null,null,null,null,null,null,null,null,null,null,null,4]
[]
[null,null,null,null,null,null,null,null,null,null,null,null,null,4]
[]
[null,null,null,null,null,null,null,null,null,null,null,null,null,4]
[]
[null,null,null,null,null,null,null,null,null,null,null,null,null,4]
[]
[null,null,null,null,null,null,null,null,null,null,null,null,null,4]
[]
[null,null,null,null,null,null,null,null,null,null,null,null,null,4]
[]
[null,null,null,null,null,null,null,null,null,null,null,null,null,4]
[]
[null,null,null,null,null,null,null,null,null,null,null,null,null,4]
[]
[null,null,null,null,null,null,null,null,null,null,null,null,null,4]
[]
[null,null,null,null,null,null,null,null,null,null,null,null,null,4]
[]
[null,null,null,null,null,null,null,null,null,null,null,null,null,4]
[]
[null,null,null,null,null,null,null,null,null,null,null,null,null,4]
[]
[null,null,null,null,null,null,null,null,null,null,null,null,null,4]
[]
[null,null,null,null,null,null,null,null,null,null,null,null,null,4]
[]
[null,null,null,null,null,null,null,null,null,null,null,null,null,4]
[]
[null,null,null,null,null,null,null,null,null,null,null,null,null,4]
[]
[null,null,null,null,null,null,null,null,null,null,null,null,null,4]
[]
[null,null,null,null,null,null,null,null,null,null,null,null,null,4]
[]
[null,null,null,null,null,null,null,null,null,null,null,null,null,4]
[]
[null,null,null,null,null,null,null,null,null,null,null,null,null,4]
[]
[null,null,null,null,null,null,null,null,null,null,null,null,null,4]
[]
[null,null,null,null,null,null,null,null,null,null,null,null,null,4]
[]
[null,null,null,null,null,null,null,null,null,null,null,null,null,4]
[]
[null,null,null,null,null,null,null,null,null,null,null,null,null,4]
[]
[null,null,null,null,null,null,null,null,null,null,null,null,null,4]
[]
[null,null,null,null,null,null,null,null,null,null,null,null,null,4]
[]
[null,null,null,null,null,null,null,null,null,null,null,null,null,4]
[]
[null,null,null,null,null,null,null,null,null,null,null,null,null,4]
[]
[null,null,null,null,null,null,null,null,null,null,null,null,null,4]
[]
[null,null,null,null,null,null,null,null,null,null,null,null,null,4]
[]
[null,null,null,null,null,null,null,null,null,null,null,null,null,4]
[]
[null,null,null,null,null,null,null,null,null,null,null,null,null,4]
[]
[null,null,null,null,null,null,null,null,null,null,null,null,null,4]
[]
[null,null,null,null,null,null,null,null,null,null,null,null,null,4]
[]
[null,null,null,null,null,null,null,null,null,null,null,null,null,4]
[]
[null,null,null,null,null,null,null,null,null,null,null,null,null,4]
[]
[null,null,null,null,null,null,null,null,null,null,null,null,null,4]
[]
[null,null,null,null,null,null,null,null,null,null,null,null,null,4]
[]
[null,null,null,null,null,null,null,null,null,null,null,null,null,4]
[]
[null,null,null,null,null,null,null,null,null,null,null,null,null,4]
[]
[null,null,null,null,null,null,null,null,null,null,null,null,null,4]
[]
[null,null,null,null,null,null,null,null,null,null,null,null,null,4]
[]
[null,null,null,null,null,null,null,null,null,null,null,null,null,4]
[]
[null,null,null,null,null,null,null,null,null,null,null,null,null,4]
[]
[null,null,null,null,null,null,null,null,null,null,null,null,null,4]
[]
[null,null,null,null,null,null,null,null,null,null,null,null,null,4]
[]
[null,null,null,null,null,null,null,null,null,null,null,null,null,4]
[]
[null,null,null,null,null,null,null,null,null,null,null,null,null,4]
[]
[null,null,null,null,null,null,null,null,null,null,null,null,null,4]
[]
[null,null,null,null,null,null,null,null,null,null,null,null,null,4]
[]
[null,null,null,null,null,null,null,null,null,null,null,null,null,4]
[]
[null,null,null,null,null,null,null,null,null,null,null,null,null,4]
[]
[null,null,null,null,null,null,null,null,null,null,null,null,null,4]
[]
[null,null,null,null,null,null,null,null,null,null,null,null,null,4]
[]
[null,null,null,null,null,null,null,null,null,null,null,null,null,4]
[]
[null,null,null,null,null,null,null,null,null,null,null,null,null,4]
[]
[null,null,null,null,null,null,null,null,null,null,null,null,null,4]
[]
[null,null,null,null,null,null,null,null,null,null,null,null,null,4]
[]
[null,null,null,null,null,null,null,null,null,null,null,null,null,4]
[]
[null,null,null,null,null,null,null,null,null,null,null,null,null,4]
[]
[null,null,null,null,null,null,null,null,null,null,null,null,null,4]
[]
[null,null,null,null,null,null,null,null,null,null,null,null,null,4]
[]
[null,null,null,null,null,null,null,null,null,null,null,null,null,4]
[]
[null,null,null,null,null,null,null,null,null,null,null,null,null,4]
[]
[null,null,null,null,null,null,null,null,null,null,null,null,null,4]
[]
[null,null,null,null,null,null,null,null,null,null,null,null,null,4]
[]
[null,null,null,null,null,null,null,null,null,null,null,null,null,4]
[]
[null,null,null,null,null,null,null,null,null,null,null,null,null,4]
[]
[null,null,null,null,null,null,null,null,null,null,null,null,null,4]
[]
[null,null,null,null,null,null,null,null,null,null,null,null,null,4]
[]
[null,null,null,null,null,null,null,null,null,null,null,null,null,4]
[]
[null,null,null,null,null,null,null,null,null,null,null,null,null,4]
[]
[null,null,null,null,null,null,null,null,null,null,null,null,null,4]
[]
[null,null,null,null,null,null,null,null,null,null,null,null,null,4]
[]
[null,null,null,null,null,null,null,null,null,null,null,null,null,4]
[]
[null,null,null,null,null,null,null,null,null,null,null,null,null,4]
[]
[null,null,null,null,null,null,null,null,null,null,null,null,null,4]
[]
[null,null,null,null,null,null,null,null,null,null,null,null,null,4]
[]
[null,null,null,null,null,null,null,null,null,null,null,null,null,4]
[]
[null,null,null,null,null,null,null,null,null,null,null,null,null,4]
[]
[null,null,null,null,null,null,null,null,null,null,null,null,null,4]
[]
[null,null,null,null,null,null,null,null,null,null,null,null,null,4]
[]
[null,null,null,null,null,null,null,null,null,null,null,null,null,4]
[]
[null,null,null,null,null,null,null,null,null,null,null,null,null,4]
[]
[null,null,null,null,null,null,null,null,null,null,null,null,null,4]
[]
[null,null,null,null,null,null,null,null,null,null,null,null,null,4]
[]
[null,null,null,null,null,null,null,null,null,null,null,null,null,4]
[]
[null,null,null,null,null,null,null,null,null,null,null,null,null,4]
[]
[null,null,null,null,null,null,null,null,null,null,null,null,null,4]
[]
[null,null,null,null,null,null,null,null,null,null,null,null,null,4]
[]
[null,null,null,null,null,null,null,null,null,null,null,null,null,4]
[]
[null,null,null,null,null,null,null,null,null,null,null,null,null,4]
[]
[null,null,null,null,null,null,null,null,null,null,null,null,null,4]
[]
[null,null,null,null,null,null,null,null,null,null,null,null,null,4]
[]
[null,null,null,null,null,null,null,null,null,null,null,null,null,4]
[]
[null,null,null,null,null,null,null,null,null,null,null,null,null,4]
[]
[null,null,null,null,null,null,null,null,null,null,null,null,null,4]
[]
[null,null,null,null,null,null,null,null,null,null,null,null,null,4]
[]
[null,null,null,null,null,null,null,null,null,null,null,null,null,4]
[]
[null,null,null,null,null,null,null,null,null,null,null,null,null,4]
[]
[null,null,null,null,null,null,null,null,null,null,null,null,null,4]
[]
[null,null,null,null,null,null,null,null,null,null,null,null,null,4]
[]
[null,null,null,null,null,null,null,null,null,null,null,null,null,4]
[]
[null,null,null,null,null,null,null,null,null,null,null,null,null,4]
[]
[null,null,null,null,null,null,null,null,null,null,null,null,null,4]
[]
[null,null,null,null,null,null,null,null,null,null,null,null,null,4]
[]
[null,null,null,null,null,null,null,null,null,null,null,null,null,4]
[]
[null,null,null,null,null,null,null,null,null,null,null,null,null,4]
[]
[null,null,null,null,null,null,null,null,null,null,null,null,null,4]
[]
[null,null,null,null,null,null,null,null,null,null,null,null,null,4]
[]
[null,null,null,null,null,null,null,null,null,null,null,null,null,4]
[]
[null,null,null,null,null,null,null,null,null,null,null,null,null,4]
[]
[null,null,null,null,null,null,null,null,null,null,null,null,null,4]
[]
[null,null,null,null,null,null,null,null,null,null,null,null,null,4]
[]
[null,null,null,null,null,null,null,null,null,null,null,null,null,4]
[]
[null,null,null,null,null,null,null,null,null,null,null,null,null,4]
[]
[null,null,null,null,null,null,null,null,null,null,null,null,null,4]
[]
[null,null,null,null,null,null,null,null,null,null,null,null,null,4]
[]
[null,null,null,null,null,null,null,null,null,null,null,null,null,4]
[]
[null,null,null,null,null,null,null,null,null,null,null,null,null,4]
[]
[null,null,null,null,null,null,null,null,null,null,null,null,null,4]
[]
[null,null,null,null,null,null,null,null,null,null,null,null,null,4]
[]
[null,null,null,null,null,null,null,null,null,null,null,null,null,4]
[]
[null,null,null,null,null,null,null,null,null,null,null,null,null,4]
[]
[null,null,null,null,null,null,null,null,null,null,null,null,null,4]
[]
[null,null,null,null,null,null,null,null,null,null,null,null,null,4]
[]
[null,null,null,null,null,null,null,null,null,null,null,null,null,4]
[]
[null,null,null,null,null,null,null,null,null,null,null,null,null,4]
[]
[null,null,null,null,null,null,null,null,null,null,null,null,null,4]
[]
[null,null,null,null,null,null,null,null,null,null,null,null,null,4]
[]
[null,null,null,null,null,null,null,null,null,null,null,null,null,4]
[]
[null,null,null,null,null,null,null,null,null,null,null,null,null,4]
[]
[null,null,null,null,null,null,null,null,null,null,null,null,null,4]
[]
[null,null,null,null,null,null,null,null,null,null,null,null,null,4]
[]
[null,null,null,null,null,null,null,null,null,null,null,null,null,4]
[]
[null,null,null,null,null,null,null,null,null,null,null,null,null,4]
[]
[null,null,null,null,null,null,null,null,null,null,null,null,null,4]
[]
[null,null,null,null,null,null,null,null,null,null,null,null,null,4]
[]
[null,null,null,null,null,null,null,null,null,null,null,null,null,4]
[]
[null,null,null,null,null,null,null,null,null,null,null,null,null,4]
[]
[null,null,null,null,null,null,null,null,null,null,null,null,null,4]
[]
[null,null,null,null,null,null,null,null,null,null,null,null,null,4]
[]
[null,null,null,null,null,null,null,null,null,null,null,null,null,4]
[]
[null,null,null,null,null,null,null,null,null,null,null,null,null,4]
[]
[null,null,null,null,null,null,null,null,null,null,null,null,null,4]
[]
[null,null,null,null,null,null,null,null,null,null,null,null,null,4]
[]
[null,null,null,null,null,null,null,null,null,null,null,null,null,4]
[]
[null,null,null,null,null,null,null,null,null,null,null,null,null,4]
[]
[null,null,null,null,null,null,null,null,null,null,null,null,null,4]
[]
[null,null,null,null,null,null,null,null,null,null,null,null,null,4]
[]
[null,null,null,null,null,null,null,null,null,null,null,null,null,4]
[]
[null,null,null,null,null,null,null,null,null,null,null,null,null,4]
[]
[null,null,null,null,null,null,null,null,null,null,null,null,null,4]
[]
[null,null,null,null,null,null,null,null,null,null,null,null,null,4]
[]
[null,null,null,null,null,null,null,null,null,null,null,null,null,4]
[]
[null,null,null,null,null,null,null,null,null,null,null,null,null,4]
[]
[null,null,null,null,null,null,null,null,null,null,null,null,null,4]
[]
[null,null,null,null,null,null,null,null,null,null,null,null,null,4]
[]
[null,null,null,null,null,null,null,null,null,null,null,null,null,4]
[]
[null,null,null,null,null,null,null,null,null,null,null,null,null,4]
[]
[null,null,null,null,null,null,null,null,null,null,null,null,null,4]
[]
[null,null,null,null,null,null,null,null,null,null,null,null,null,4]
[]
[null,null,null,null,null,null,null,null,null,null,null,null,null,4]
[]
[null,null,null,null,null,null,null,null,null,null,null,null,null,4]
[]
[null,null,null,null,null,null,null,null,null,null,null,null,null,4]
[]
[null,null,null,null,null,null,null,null,null,null,null,null,null,4]
[]
[null,null,null,null,null,null,null,null,null,null,null,null,null,4]
[]
[null,null,null,null,null,null,null,null,null,null,null,null,null,4]
[]
[null,null,null,null,null,null,null,null,null,null,null,null,null,4]
[]
[null,null,null,null,null,null,null,null,null,null,null,null,null,4]
[]
[null,null,null,null,null,null,null,null,null,null,null,null,null,4]
[]
[null,null,null,null,null,null,null,null,null,null,null,null,null,4]
[]
[null,null,null,null,null,null,null,null,null,null,null,null,null,4]
[]
[null,null,null,null,null,null,null,null,null,null,null,null,null,4]
[]
[null,null,null,null,null,null,null,null,null,null,null,null,null,4]
[]
[null,null,null,null,null,null,null,null,null,null,null,null,null,4]
[]
[null,null,null,null,null,null,null,null,null,null,null,null,null,4]
[]
[null,null,null,null,null,null,null,null,null,null,null,null,null,4]
[]
[null,null,null,null,null,null,null,null,null,null,null,null,null,4]
[]
[null,null,null,null,null,null,null,null,null,null,null,null,null,4]
[]
[null,null,null,null,null,null,null,null,null,null,null,null,null,4]
[]
[null,null,null,null,null,null,null,null,null,null,null,null,null,4]
[]
[null,null,null,null,null,null,null,null,null,null,null,null,null,4]
[]
[null,null,null,null,null,null,null,null,null,null,null,null,null,4]
[]
[null,null,null,null,null,null,null,null,null,null,null,null,null,4]
[]
[null,null,null,null,null,null,null,null,null,null,null,null,null,4]
[]
[null,null,null,null,null,null,null,null,null,null,null,null,null,4]
[]
[null,null,null,null,null,null,null,null,null,null,null,null,null,4]
[]
[null,null,null,null,null,null,null,null,null,null,null,null,null,4]
[]
[null,null,null,null,null,null,null,null,null,null,null,null,null,4]
[]
[null,null,null,null,null,null,null,null,null,null,null,null,null,4]
[]
[null,null,null,null,null,null,null,null,null,null,null,null,null,4]
[]
[null,null,null,null,null,null,null,null,null,null,null,null,null,4]
[]
[null,null,null,null,null,null,null,null,null,null,null,null,null,4]
[]
[null,null,null,null,null,null,null,null,null,null,null,null,null,4]
[]
[null,null,null,null,null,null,null,null,null,null,null,null,null,4]
[]
[null,null,null,null,null,null,null,null,null,null,null,null,null,4]
[]
[null,null,null,null,null,null,null,null,null,null,null,null,null,4]
[]
[null,null,null,null,null,null,null,null,null,null,null,null,null,4]
[]
[null,null,null,null,null,null,null,null,null,null,null,null,null,4]
[]
[null,null,null,null,null,null,null,null,null,null,null,null,null,4]
[]
[null,null,null,null,null,null,null,null,null,null,null,null,null,4]
[]
[null,null,null,null,null,null,null,null,null,null,null,null,null,4]
[]
[null,null,null,null,null,null,null,null,null,null,null,null,null,4]
[]
[null,null,null,null,null,null,null,null,null,null,null,null,null,4]
[]
[null,null,null,null,null,null,null,null,null,null,null,null,null,4]
[]
[null,null,null,null,null,null,null,null,null,null,null,null,null,4]
[]
[null,null,null,null,null,null,null,null,null,null,null,null,null,4]
[]
[null,null,null,null,null,null,null,null,null,null,null,null,null,4]
[]
[null,null,null,null,null,null,null,null,null,null,null,null,null,4]
[]
[null,null,null,null,null,null,null,null,null,null,null,null,null,4]
[]
[null,null,null,null,null,null,null,null,null,null,null,null,null,4]
[]
[null,null,null,null,null,null,null,null,null,null,null,null,null,4]
[]
[null,null,null,null,null,null,null,null,null,null,null,null,null,4]
[]
[null,null,null,null,null,null,null,null,null,null,null,null,null,4]
[]
[null,null,null,null,null,null,null,null,null,null,null,null,null,4]
[]
[null,null,null,null,null,null,null,null,null,null,null,null,null,4]
[]
[null,null,null,null,null,null,null,null,null,null,null,null,null,4]
[]
[null,null,null,null,null,null,null,null,null,null,null,null,null,4]
[]
[null,null,null,null,null,null,null,null,null,null,null,null,null,4]
[]
[null,null,null,null,null,null,null,null,null,null,null,null,null,4]
[]
[null,null,null,null,null,null,null,null,null,null,null,null,null,4]
[]
[null,null,null,null,null,null,null,null,null,null,null,null,null,4]
[]
[null,null,null,null,null,null,null,null,null,null,null,null,null,4]
[]
[null,null,null,null,null,null,null,null,null,null,null,null,null,4]
[]
[null,null,null,null,null,null,null,null,null,null,null,null,null,4]
[]
[null,null,null,null,null,null,null,null,null,null,null,null,null,4]
[]
[null,null,null,null,null,null,null,null,null,null,null,null,null,4]
[]
[null,null,null,null,null,null,null,null,null,null,null,null,null,4]
[]
[null,null,null,null,null,null,null,null,null,null,null,null,null,4]
[]
[null,null,null,null,null,null,null,null,null,null,null,null,null,4]
[]
[null,null,null,null,null,null,null,null,null,null,null,null,null,4]
[]
[null,null,null,null,null,null,null,null,null,null,null,null,null,4]
[]
[null,null,null,null,null,null,null,null,null,null,null,null,null,4]
[]
[null,null,null,null,null,null,null,null,null,null,null,null,null,4]
[]
[null,null,null,null,null,null,null,null,null,null,null,null,null,4]
[]
[null,null,null,null,null,null,null,null,null,null,null,null,null,4]
[]
[null,null,null,null,null,null,null,null,null,null,null,null,null,4]
[]
[null,null,null,null,null,null,null,null,null,null,null,null,null,4]
[]
[null,null,null,null,null,null,null,null,null,null,null,null,null,4]
[]
[null,null,null,null,null,null,null,null,null,null,null,null,null,4]
[]
[null,null,null,null,null,null,null,null,null,null,null,null,null,4]
[]
[null,null,null,null,null,null,null,null,null,null,null,null,null,4]
[]
[null,null,null,null,null,null,null,null,null,null,null,null,null,4]
[]
[null,null,null,null,null,null,null,null,null,null,null,null,null,4]
[]
[null,null,null,null,null,null,null,null,null,null,null,null,null,4]
[]
[null,null,null,null,null,null,null,null,null,null,null,null,null,4]
[]
[null,null,null,null,null,null,null,null,null,null,null,null,null,4]
[]
[null,null,null,null,null,null,null,null,null,null,null,null,null,4]
[]
[null,null,null,null,null,null,null,null,null,null,null,null,null,4]
[]
[null,null,null,null,null,null,null,null,null,null,null,null,null,4]
[]
[null,null,null,null,null,null,null,null,null,null,null,null,null,4]
[]
[null,null,null,null,null,null,null,null,null,null,null,null,null,4]
[]
[null,null,null,null,null,null,null,null,null,null,null,null,null,4]
[]
[null,null,null,null,null,null,null,null,null,null,null,null,null,4]
[]
[null,null,null,null,null,null,null,null,null,null,null,null,null,4]
[]
[null,null,null,null,null,null,null,null,null,null,null,null,null,4]
[]
[null,null,null,null,null,null,null,null,null,null,null,null,null,4]
[]
[null,null,null,null,null,null,null,null,null,null,null,null,null,4]
[]
[null,null,null,null,null,null,null,null,null,null,null,null,null,4]
[]
[null,null,null,null,null,null,null,null,null,null,null,null,null,4]
[]
[null,null,null,null,null,null,null,null,null,null,null,null,null,4]
[]
[null,null,null,null,null,null,null,null,null,null,null,null,null,4]
[]
[null,null,null,null,null,null,null,null,null,null,null,null,null,4]
[]
[null,null,null,null,null,null,null,null,null,null,null,null,null,4]
[]
[null,null,null,null,null,null,null,null,null,null,null,null,null,4]
[]
[null,null,null,null,null,null,null,null,null,null,null,null,null,4]
[]
[null,null,null,null,null,null,null,null,null,null,null,null,null,4]
[]
[null,null,null,null,null,null,null,null,null,null,null,null,null,4]
[]
[null,null,null,null,null,null,null,null,null,null,null,null,null,4]
[]
[null,null,null,null,null,null,null,null,null,null,null,null,null,4]
[]
[null,null,null,null,null,null,null,null,null,null,null,null,null,4]
[]
[null,null,null,null,null,null,null,null,null,null,null,null,null,4]
[]
[null,null,null,null,null,null,null,null,null,null,null,null,null,4]
[]
[null,null,null,null,null,null,null,null,null,null,null,null,null,4]
[]
[null,null,null,null,null,null,null,null,null,null,null,null,null,4]
[]
[null,null,null,null,null,null,null,null,null,null,null,null,null,4]
[]
[null,null,null,null,null,null,null,null,null,null,null,null,null,4]
[]
[null,null,null,null,null,null,null,null,null,null,null,null,null,4]
[]
[null,null,null,null,null,null,null,null,null,null,null,null,null,4]
[]
[null,null,null,null,null,null,null,null,null,null,null,null,null,4]
[]
[null,null,null,null,null,null,null,null,null,null,null,null,null,4]
[]
[null,null,null,null,null,null,null,null,null,null,null,null,null,4]
[]
[null,null,null,null,null,null,null,null,null,null,null,null,null,4]
[]
[null,null,null,null,null,null,null,null,null,null,null,null,null,4]
[]
[null,null,null,null,null,null,null,null,null,null,null,null,null,4]
[]
[null,null,null,null,null,null,null,null,null,null,null,null,null,4]
[]
[null,null,null,null,null,null,null,null,null,null,null,null,null,4]
[]
[null,null,null,null,null,null,null,null,null,null,null,null,null,4]
[]
[null,null,null,null,null,null,null,null,null,null,null,null,null,4]
[]
[null,null,null,null,null,null,null,null,null,null,null,null,null,4]
[]
[null,null,null,null,null,null,null,null,null,null,null,null,null,4]
[]
[null,null,null,null,null,null,null,null,null,null,null,null,null,4]
[]
[null,null,null,null,null,null,null,null,null,null,null,null,null,4]
[]
[null,null,null,null,null,null,null,null,null,null,null,null,null,4]
[]
[null,null,null,null,null,null,null,null,null,null,null,null,null,4]
[]
[null,null,null,null,null,null,null,null,null,null,null,null,null,4]
[]
[null,null,null,null,null,null,null,null,null,null,null,null,null,4]
[]
[null,null,null,null,null,null,null,null,null,null,null,null,null,4]
[]
[null,null,null,null,null,null,null,null,null,null,null,null,null,4]
[]
[null,null,null,null,null,null,null,null,null,null,null,null,null,4]
[]
[null,null,null,null,null,null,null,null,null,null,null,null,null,4]
[]
[null,null,null,null,null,null,null,null,null,null,null,null,null,4]
[]
[null,null,null,null,null,null,null,null,null,null,null,null,null,4]
[]
[null,null,null,null,null,null,null,null,null,null,null,null,null,4]
[]
[null,null,null,null,null,null,null,null,null,null,null,null,null,4]
[]
[null,null,null,null,null,null,null,null,null,null,null,null,null,4]
[]
[null,null,null,null,null,null,null,null,null,null,null,null,null,4]
[]
[null,null,null,null,null,null,null,null,null,null,null,null,null,4]
[]
[null,null,null,null,null,null,null,null,null,null,null,null,null,4]
[]
[null,null,null,null,null,null,null,null,null,null,null,null,null,4]
[]
[null,null,null,null,null,null,null,null,null,null,null,null,null,4]
[]
[null,null,null,null,null,null,null,null,null,null,null,null,null,4]
[]
[null,null,null,null,null,null,null,null,null,null,null,null,null,4]
[]
[null,null,null,null,null,null,null,null,null,null,null,null,null,4]
[]
[null,null,null,null,null,null,null,null,null,null,null,null,null,4]
[]
[null,null,null,null,null,null,null,null,null,null,null,null,null,4]
[]
[null,null,null,null,null,null,null,null,null,null,null,null,null,4]
[]
[null,null,null,null,null,null,null,null,null,null,null,null,null,4]
[]
[null,null,null,null,null,null,null,null,null,null,null,null,null,4]
[]
[null,null,null,null,null,null,null,null,null,null,null,null,null,4]
[]
[null,null,null,null,null,null,null,null,null,null,null,null,null,4]
[]
[null,null,null,null,null,null,null,null,null,null,null,null,null,4]
[]
[null,null,null,null,null,null,null,null,null,null,null,null,null,4]
[]
[null,null,null,null,null,null,null,null,null,null,null,null,null,4]
[]
[null,null,null,null,null,null,null,null,null,null,null,null,null,4]
[]
[null,null,null,null,null,null,null,null,null,null,null,null,null,4]
[]
[null,null,null,null,null,null,null,null,null,null,null,null,null,4]
[]
[null,null,null,null,null,null,null,null,null,null,null,null,null,4]
[]
[null,null,null,null,null,null,null,null,null,null,null,null,null,4]
[]
[null,null,null,null,null,null,null,null,null,null,null,null,null,4]
[]
[null,null,null,null,null,null,null,null,null,null,null,null,null,4]
[]
[null,null,null,null,null,null,null,null,null,null,null,null,null,4]
[]
[null,null,null,null,null,null,null,null,null,null,null,null,null,4]
[]
[null,null,null,null,null,null,null,null,null,null,null,null,null,4]
[]
[null,null,null,null,null,null,null,null,null,null,null,null,null,4]
[]
[null,null,null,null,null,null,null,null,null,null,null,null,null,4]
[]
[null,null,null,null,null,null,null,null,null,null,null,null,null,4]
[]
[null,null,null,null,null,null,null,null,null,null,null,null,null,4]
[]
[null,null,null,null,null,null,null,null,null,null,null,null,null,4]
[]
[null,null,null,null,null,null,null,null,null,null,null,null,null,4]
[]
[null,null,null,null,null,null,null,null,null,null,null,null,null,4]
[]
[null,null,null,null,null,null,null,null,null,null,null,null,null,4]
[]
[null,null,null,null,null,null,null,null,null,null,null,null,null,4]
[]
[null,null,null,null,null,null,null,null,null,null,null,null,null,4]
[]
[null,null,null,null,null,null,null,null,null,null,null,null,null,4]
[]
[null,null,null,null,null,null,null,null,null,null,null,null,null,4]
[]
[null,null,null,null,null,null,null,null,null,null,null,null,null,4]
[]
[null,null,null,null,null,null,null,null,null,null,null,null,null,4]
[]
[null,null,null,null,null,null,null,null,null,null,null,null,null,4]
[]
[null,null,null,null,null,null,null,null,null,null,null,null,null,4]
[]
[null,null,null,null,null,null,null,null,null,null,null,null,null,4]
[]
[null,null,null,null,null,null,null,null,null,null,null,null,null,4]
[]
[null,null,null,null,null,null,null,null,null,null,null,null,null,4]
[]
[null,null,null,null,null,null,null,null,null,null,null,null,null,4]
[]
[null,null,null,null,null,null,null,null,null,null,null,null,null,4]
[]
[null,null,null,null,null,null,null,null,null,null,null,null,null,4]
[]
[null,null,null,null,null,null,null,null,null,null,null,null,null,4]
[]
[null,null,null,null,null,null,null,null,null,null,null,null,null,4]
[]
[null,null,null,null,null,null,null,null,null,null,null,null,null,4]
[]
[null,null,null,null,null,null,null,null,null,null,null,null,null,4]
[]
[null,null,null,null,null,null,null,null,null,null,null,null,null,4]
[]
[null,null,null,null,null,null,null,null,null,null,null,null,null,4]
[]
[null,null,null,null,null,null,null,null,null,null,null,null,null,4]
[]
[null,null,null,null,null,null,null,null,null,null,null,null,null,4]
[]
[null,null,null,null,null,null,null,null,null,null,null,null,null,4]
[]
[null,null,null,null,null,null,null,null,null,null,null,null,null,4]
[]
[null,null,null,null,null,null,null,null,null,null,null,null,null,4]
[]
[null,null,null,null,null,null,null,null,null,null,null,null,null,4]
[]
[null,null,null,null,null,null,null,null,null,null,null,null,null,4]
[]
[null,null,null,null,null,null,null,null,null,null,null,null,null,4]
[]
[null,null,null,null,null,null,null,null,null,null,null,null,null,4]
[]
[null,null,null,null,null,null,null,null,null,null,null,null,null,4]
[]
[null,null,null,null,null,null,null,null,null,null,null,null,null,4]
[]
[null,null,null,null,null,null,null,null,null,null,null,null,null,4]
[]
[null,null,null,null,null,null,null,null,null,null,null,null,null,4]
[]
[null,null,null,null,null,null,null,null,null,null,null,null,null,4]
[]
[null,null,null,null,null,null,null,null,null,null,null,null,null,4]
[]
[null,null,null,null,null,null,null,null,null,null,null,null,null,4]
[]
[null,null,null,null,null,null,null,null,null,null,null,null,null,4]
[]
[null,null,null,null,null,null,null,null,null,null,null,null,null,4]
[]
[null,null,null,null,null,null,null,null,null,null,null,null,null,4]
[]
[null,null,null,null,null,null,null,null,null,null,null,null,null,4]
[]
[null,null,null,null,null,null,null,null,null,null,null,null,null,4]
[]
[null,null,null,null,null,null,null,null,null,null,null,null,null,4]
[]
[null,null,null,null,null,null,null,null,null,null,null,null,null,4]
[]
[null,null,null,null,null,null,null,null,null,null,null,null,null,4]
[]
[null,null,null,null,null,null,null,null,null,null,null,null,null,4]
[]
[null,null,null,null,null,null,null,null,null,null,null,null,null,4]
[]
[null,null,null,null,null,null,null,null,null,null,null,null,null,4]
[]
[null,null,null,null,null,null,null,null,null,null,null,null,null,4]
[]
[null,null,null,null,null,null,null,null,null,null,null,null,null,4]
[]
[null,null,null,null,null,null,null,null,null,null,null,null,null,4]
[]
[null,null,null,null,null,null,null,null,null,null,null,null,null,4]
[]
[null,null,null,null,null,null,null,null,null,null,null,null,null,4]
[]
[null,null,null,null,null,null,null,null,null,null,null,null,null,4]
[]
[null,null,null,null,null,null,null,null,null,null,null,null,null,4]
[]
[null,null,null,null,null,null,null,null,null,null,null,null,null,4]
[]
[null,null,null,null,null,null,null,null,null,null,null,null,null,4]
[]
[null,null,null,null,null,null,null,null,null,null,null,null,null,4]
[]
[null,null,null,null,null,null,null,null,null,null,null,null,null,4]
[]
[null,null,null,null,null,null,null,null,null,null,null,null,null,4]
[]
[null,null,null,null,null,null,null,null,null,null,null,null,null,4]
[]
[null,null,null,null,null,null,null,null,null,null,null,null,null,4]
[]
[null,null,null,null,null,null,null,null,null,null,null,null,null,4]
[]
[null,null,null,null,null,null,null,null,null,null,null,null,null,4]
[]
[null,null,null,null,null,null,null,null,null,null,null,null,null,4]
[]
[null,null,null,null,null,null,null,null,null,null,null,null,null,4]
[]
[null,null,null,null,null,null,null,null,null,null,null,null,null,4]
[]
[null,null,null,null,null,null,null,null,null,null,null,null,null,4]
[]
[null,null,null,null,null,null,null,null,null,null,null,null,null,4]
[]
[null,null,null,null,null,null,null,null,null,null,null,null,null,4]
[]
[null,null,null,null,null,null,null,null,null,null,null,null,null,4]
[]
[null,null,null,null,null,null,null,null,null,null,null,null,null,4]
[]
[null,null,null,null,null,null,null,null,null,null,null,null,null,4]
[]
[null,null,null,null,null,null,null,null,null,null,null,null,null,4]
[]
[null,null,null,null,null,null,null,null,null,null,null,null,null,4]
[]
[null,null,null,null,null,null,null,null,null,null,null,null,null,4]
[]
[null,null,null,null,null,null,null,null,null,null,null,null,null,4]
[]
[null,null,null,null,null,null,null,null,null,null,null,null,null,4]
[]
[null,null,null,null,null,null,null,null,null,null,null,null,null,4]
[]
[null,null,null,null,null,null,null,null,null,null,null,null,null,4]
[]
[null,null,null,null,null,null,null,null,null,null,null,null,null,4]
[]
[null,null,null,null,null,null,null,null,null,null,null,null,null,4]
[]
[null,null,null,null,null,null,null,null,null,null,null,null,null,4]
[]
[null,null,null,null,null,null,null,null,null,null,null,null,null,4]
[]
[null,null,null,null,null,null,null,null,null,null,null,null,null,4]
[]
[null,null,null,null,null,null,null,null,null,null,null,null,null,4]
[]
[null,null,null,null,null,null,null,null,null,null,null,null,null,4]
[]
[null,null,null,null,null,null,null,null,null,null,null,null,null,4]
[]
[null,null,null,null,null,null,null,null,null,null,null,null,null,4]
[]
[null,null,null,null,null,null,null,null,null,null,null,null,null,4]
[]
[null,null,null,null,null,null,null,null,null,null,null,null,null,4]
[]
[null,null,null,null,null,null,null,null,null,null,null,null,null,4]
[]
[null,null,null,null,null,null,null,null,null,null,null,null,null,4]
[]
[null,null,null,null,null,null,null,null,null,null,null,null,null,4]
[]
[null,null,null,null,null,null,null,null,null,null,null,null,null,4]
[]
[null,null,null,null,null,null,null,null,null,null,null,null,null,4]
[]
[null,null,null,null,null,null,null,null,null,null,null,null,null,4]
[]
[null,null,null,null,null,null,null,null,null,null,null,null,null,4]
[]
[null,null,null,null,null,null,null,null,null,null,null,null,null,4]
[]
[null,null,null,null,null,null,null,null,null,null,null,null,null,4]
[]
[null,null,null,null,null,null,null,null,null,null,null,null,null,4]
[]
[null,null,null,null,null,null,null,null,null,null,null,null,null,4]
[]
[null,null,null,null,null,null,null,null,null,null,null,null,null,4]
[]
[null,null,null,null,null,null,null,null,null,null,null,null,null,4]
[]
[null,null,null,null,null,null,null,null,null,null,null,null,null,4]
[]
[null,null,null,null,null,null,null,null,null,null,null,null,null,4]
[]
[null,null,null,null,null,null,null,null,null,null,null,null,null,4]
[]
[null,null,null,null,null,null,null,null,null,null,null,null,null,4]
[]
[null,null,null,null,null,null,null,null,null,null,null,null,null,4]
[]
[null,null,null,null,null,null,null,null,null,null,null,null,null,4]
[]
[null,null,null,null,null,null,null,null,null,null,null,null,null,4]
[]
[null,null,null,null,null,null,null,null,null,null,null,null,null,4]
[]
[null,null,null,null,null,null,null,null,null,null,null,null,null,4]
[]
[null,null,null,null,null,null,null,null,null,null,null,null,null,4]
[]
[null,null,null,null,null,null,null,null,null,null,null,null,null,4]
[]
[null,null,null,null,null,null,null,null,null,null,null,null,null,4]
[]
[null,null,null,null,null,null,null,null,null,null,null,null,null,4]
[]
[null,null,null,null,null,null,null,null,null,null,null,null,null,4]
[]
[null,null,null,null,null,null,null,null,null,null,null,null,null,4]
[]
[null,null,null,null,null,null,null,null,null,null,null,null,null,4]
[]
[null,null,null,null,null,null,null,null,null,null,null,null,null,4]
[]
[null,null,null,null,null,null,null,null,null,null,null,null,null,4]
[]
[null,null,null,null,null,null,null,null,null,null,null,null,null,4]
[]
[null,null,null,null,null,null,null,null,null,null,null,null,null,4]
[]
[null,null,null,null,null,null,null,null,null,null,null,null,null,4]
[]
[null,null,null,null,null,null,null,null,null,null,null,null,null,4]
[]
[null,null,null,null,null,null,null,null,null,null,null,null,null,4]
[]
[null,null,null,null,null,null,null,null,null,null,null,null,null,4]
[]
[null,null,null,null,null,null,null,null,null,null,null,null,null,4]
[]
[null,null,null,null,null,null,null,null,null,null,null,null,null,4]
[]
[null,null,null,null,null,null,null,null,null,null,null,null,null,4]
[]
[null,null,null,null,null,null,null,null,null,null,null,null,null,4]
[]
[null,null,null,null,null,null,null,null,null,null,null,null,null,4]
[]
[null,null,null,null,null,null,null,null,null,null,null,null,null,4]
[]
[null,null,null,null,null,null,null,null,null,null,null,null,null,4]
[]
[null,null,null,null,null,null,null,null,null,null,null,null,null,4]
[]
[null,null,null,null,null,null,null,null,null,null,null,null,null,4]
[]
[null,null,null,null,null,null,null,null,null,null,null,null,null,4]
[]
[null,null,null,null,null,null,null,null,null,null,null,null,null,4]
[]
[null,null,null,null,null,null,null,null,null,null,null,null,null,4]
[]
[null,null,null,null,null,null,null,null,null,null,null,null,null,4]
[]
[null,null,null,null,null,null,null,null,null,null,null,null,null,4]
[]
[null,null,null,null,null,null,null,null,null,null,null,null,null,4]
[]
[null,null,null,null,null,null,null,null,null,null,null,null,null,4]
[]
[null,null,null,null,null,null,null,null,null,null,null,null,null,4]
[]
[null,null,null,null,null,null,null,null,null,null,null,null,null,4]
[]
[null,null,null,null,null,null,null,null,null,null,null,null,null,4]
[]
[null,null,null,null,null,null,null,null,null,null,null,null,null,4]
[]
[null,null,null,null,null,null,null,null,null,null,null,null,null,4]
[]
[null,null,null,null,null,null,null,null,null,null,null,null,null,4]
[]
[null,null,null,null,null,null,null,null,null,null,null,null,null,4]
[]
[null,null,null,null,null,null,null,null,null,null,null,null,null,4]
[]
[null,null,null,null,null,null,null,null,null,null,null,null,null,4]
[]
[null,null,null,null,null,null,null,null,null,null,null,null,null,4]
[]
[null,null,null,null,null,null,null,null,null,null,null,null,null,4]
[]
[null,null,null,null,null,null,null,null,null,null,null,null,null,4]
[]
[null,null,null,null,null,null,null,null,null,null,null,null,null,4]
[]
[null,null,null,null,null,null,null,null,null,null,null,null,null,4]
[]
[null,null,null,null,null,null,null,null,null,null,null,null,null,4]
[]
[null,null,null,null,null,null,null,null,null,null,null,null,null,4]
[]
[null,null,null,null,null,null,null,null,null,null,null,null,null,4]
[]
[null,null,null,null,null,null,null,null,null,null,null,null,null,4]
[]
[null,null,null,null,null,null,null,null,null,null,null,null,null,4]
[]
[null,null,null,null,null,null,null,null,null,null,null,null,null,4]
[]
[null,null,null,null,null,null,null,null,null,null,null,null,null,4]
[]
[null,null,null,null,null,null,null,null,null,null,null,null,null,4]
[]
[null,null,null,null,null,null,null,null,null,null,null,null,null,4]
[]
[null,null,null,null,null,null,null,null,null,null,null,null,null,4]
[]
[null,null,null,null,null,null,null,null,null,null,null,null,null,4]
[]
[null,null,null,null,null,null,null,null,null,null,null,null,null,4]
[]
[null,null,null,null,null,null,null,null,null,null,null,null,null,4]
[]
[null,null,null,null,null,null,null,null,null,null,null,null,null,4]
[]
[null,null,null,null,null,null,null,null,null,null,null,null,null,4]
[]
[null,null,null,null,null,null,null,null,null,null,null,null,null,4]
[]
[null,null,null,null,null,null,null,null,null,null,null,null,null,4]
[]
[null,null,null,null,null,null,null,null,null,null,null,null,null,4]
[]
[null,null,null,null,null,null,null,null,null,null,null,null,null,4]
[]
[null,null,null,null,null,null,null,null,null,null,null,null,null,4]
[]
[null,null,null,null,null,null,null,null,null,null,null,null,null,4]
[]
[null,null,null,null,null,null,null,null,null,null,null,null,null,4]
[]
[null,null,null,null,null,null,null,null,null,null,null,null,null,4]
[]
[null,null,null,null,null,null,null,null,null,null,null,null,null,4]
[]
[null,null,null,null,null,null,null,null,null,null,null,null,null,4]
[]
[null,null,null,null,null,null,null,null,null,null,null,null,null,4]
[]
[null,null,null,null,null,null,null,null,null,null,null,null,null,4]
[]
[null,null,null,null,null,null,null,null,null,null,null,null,null,4]
[]
[null,null,null,null,null,null,null,null,null,null,null,null,null,4]
[]
[null,null,null,null,null,null,null,null,null,null,null,null,null,4]
[]
[null,null,null,null,null,null,null,null,null,null,null,null,null,4]
[]
[null,null,null,null,null,null,null,null,null,null,null,null,null,4]
[]
[null,null,null,null,null,null,null,null,null,null,null,null,null,4]
[]
[null,null,null,null,null,null,null,null,null,null,null,null,null,4]
[]
[null,null,null,null,null,null,null,null,null,null,null,null,null,4]
[]
[null,null,null,null,null,null,null,null,null,null,null,null,null,4]
[]
[null,null,null,null,null,null,null,null,null,null,null,null,null,4]
[]
[null,null,null,null,null,null,null,null,null,null,null,null,null,4]
[]
[null,null,null,null,null,null,null,null,null,null,null,null,null,4]
[]
[null,null,null,null,null,null,null,null,null,null,null,null,null,4]
[]
[null,null,null,null,null,null,null,null,null,null,null,null,null,4]
[]
[null,null,null,null,null,null,null,null,null,null,null,null,null,4]
[]
[null,null,null,null,null,null,null,null,null,null,null,null,null,4]
[]
[null,null,null,null,null,null,null,null,null,null,null,null,null,4]
[]
[null,null,null,null,null,null,null,null,null,null,null,null,null,4]
[]
[null,null,null,null,null,null,null,null,null,null,null,null,null,4]
[]
[null,null,null,null,null,null,null,null,null,null,null,null,null,4]
[]
[null,null,null,null,null,null,null,null,null,null,null,null,null,4]
[]
[null,null,null,null,null,null,null,null,null,null,null,null,null,4]
[]
[null,null,null,null,null,null,null,null,null,null,null,null,null,4]
[]
[null,null,null,null,null,null,null,null,null,null,null,null,null,4]
[]
[null,null,null,null,null,null,null,null,null,null,null,null,null,4]
[]
[null,null,null,null,null,null,null,null,null,null,null,null,null,4]
[]
[null,null,null,null,null,null,null,null,null,null,null,null,null,4]
[]
[null,null,null,null,null,null,null,null,null,null,null,null,null,4]
[]
[null,null,null,null,null,null,null,null,null,null,null,null,null,4]
[]
[null,null,null,null,null,null,null,null,null,null,null,null,null,4]
[]
[null,null,null,null,null,null,null,null,null,null,null,null,null,4]
[]
[null,null,null,null,null,null,null,null,null,null,null,null,null,4]
[]
[null,null,null,null,null,null,null,null,null,null,null,null,null,4]
[]
[null,null,null,null,null,null,null,null,null,null,null,null,null,4]
[]
[null,null,null,null,null,null,null,null,null,null,null,null,null,4]
[]
[null,null,null,null,null,null,null,null,null,null,null,null,null,4]
[]
[null,null,null,null,null,null,null,null,null,null,null,null,null,4]
[]
[null,null,null,null,null,null,null,null,null,null,null,null,null,4]
[]
[null,null,null,null,null,null,null,null,null,null,null,null,null,4]
[]
[null,null,null,null,null,null,null,null,null,null,null,null,null,4]
[]
[null,null,null,null,null,null,null,null,null,null,null,null,null,4]
[]
[null,null,null,null,null,null,null,null,null,null,null,null,null,4]
[]
[null,null,null,null,null,null,null,null,null,null,null,null,null,4]
[]
[null,null,null,null,null,null,null,null,null,null,null,null,null,4]
[]
[null,null,null,null,null,null,null,null,null,null,null,null,null,4]
[]
[null,null,null,null,null,null,null,null,null,null,null,null,null,4]
[]
[null,null,null,null,null,null,null,null,null,null,null,null,null,4]
[]
[null,null,null,null,null,null,null,null,null,null,null,null,null,4]
[]
[null,null,null,null,null,null,null,null,null,null,null,null,null,4]
[]
[null,null,null,null,null,null,null,null,null,null,null,null,null,4]
[]
[null,null,null,null,null,null,null,null,null,null,null,null,null,4]
[]
[null,null,null,null,null,null,null,null,null,null,null,null,null,4]
[]
[null,null,null,null,null,null,null,null,null,null,null,null,null,4]
[]
[null,null,null,null,null,null,null,null,null,null,null,null,null,4]
[]
[null,null,null,null,null,null,null,null,null,null,null,null,null,4]
[]
[null,null,null,null,null,null,null,null,null,null,null,null,null,4]
[]
[null,null,null,null,null,null,null,null,null,null,null,null,null,4]
[]
[null,null,null,null,null,null,null,null,null,null,null,null,null,4]
[]
[null,null,null,null,null,null,null,null,null,null,null,null,null,4]
[]
[null,null,null,null,null,null,null,null,null,null,null,null,null,4]
[]
[null,null,null,null,null,null,null,null,null,null,null,null,null,4]
[]
[null,null,null,null,null,null,null,null,null,null,null,null,null,4]
[]
[null,null,null,null,null,null,null,null,null,null,null,null,null,4]
[]
[null,null,null,null,null,null,null,null,null,null,null,null,null,4]
[]
[null,null,null,null,null,null,null,null,null,null,null,null,null,4]
[]
[null,null,null,null,null,null,null,null,null,null,null,null,null,4]
[]
[null,null,null,null,null,null,null,null,null,null,null,null,null,4]
[]
[null,null,null,null,null,null,null,null,null,null,null,null,null,4]
[]
[null,null,null,null,null,null,null,null,null,null,null,null,null,4]
[]
[null,null,null,null,null,null,null,null,null,null,null,null,null,4]
[]
[null,null,null,null,null,null,null,null,null,null,null,null,null,4]
[]
[null,null,null,null,null,null,null,null,null,null,null,null,null,4]
[]
[null,null,null,null,null,null,null,null,null,null,null,null,null,4]
[]
[null,null,null,null,null,null,null,null,null,null,null,null,null,4]
[]
[null,null,null,null,null,null,null,null,null,null,null,null,null,4]
[]
[null,null,null,null,null,null,null,null,null,null,null,null,null,4]
[]
[null,null,null,null,null,null,null,null,null,null,null,null,null,4]
[]
[null,null,null,null,null,null,null,null,null,null,null,null,null,4]
[]
[null,null,null,null,null,null,null,null,null,null,null,null,null,4]
[]
[null,null,null,null,null,null,null,null,null,null,null,null,null,4]
[]
[null,null,null,null,null,null,null,null,null,null,null,null,null,4]
[]
[null,null,null,null,null,null,null,null,null,null,null,null,null,4]
[]
[null,null,null,null,null,null,null,null,null,null,null,null,null,4]
[]
[null,null,null,null,null,null,null,null,null,null,null,null,null,4]
[]
[null,null,null,null,null,null,null,null,null,null,null,null,null,4]
[]
[null,null,null,null,null,null,null,null,null,null,null,null,null,4]
[]
[null,null,null,null,null,null,null,null,null,null,null,null,null,4]
[]
[null,null,null,null,null,null,null,null,null,null,null,null,null,4]
[]
[null,null,null,null,null,null,null,null,null,null,null,null,null,4]
[]
[null,null,null,null,null,null,null,null,null,null,null,null,null,4]
[]
[null,null,null,null,null,null,null,null,null,null,null,null,null,4]
[]
[null,null,null,null,null,null,null,null,null,null,null,null,null,4]
[]
[null,null,null,null,null,null,null,null,null,null,null,null,null,4]
[]
[null,null,null,null,null,null,null,null,null,null,null,null,null,4]
[]
[null,null,null,null,null,null,null,null,null,null,null,null,null,4]
[]
[null,null,null,null,null,null,null,null,null,null,null,null,null,4]
[]
[null,null,null,null,null,null,null,null,null,null,null,null,null,4]
[]
[null,null,null,null,null,null,null,null,null,null,null,null,null,4]
[]
[null,null,null,null,null,null,null,null,null,null,null,null,null,4]
[]
[null,null,null,null,null,null,null,null,null,null,null,null,null,4]
[]
[null,null,null,null,null,null,null,null,null,null,null,null,null,4]
[]
[null,null,null,null,null,null,null,null,null,null,null,null,null,4]
[]
[null,null,null,null,null,null,null,null,null,null,null,null,null,4]
[]
[null,null,null,null,null,null,null,null,null,null,null,null,null,4]
[]
[null,null,null,null,null,null,null,null,null,null,null,null,null,4]
[]
[null,null,null,null,null,null,null,null,null,null,null,null,null,4]
[]
[null,null,null,null,null,null,null,null,null,null,null,null,null,4]
[]
[null,null,null,null,null,null,null,null,null,null,null,null,null,4]
[]
[null,null,null,null,null,null,null,null,null,null,null,null,null,4]
[]
[null,null,null,null,null,null,null,null,null,null,null,null,null,4]
[]
[null,null,null,null,null,null,null,null,null,null,null,null,null,4]
[]
[null,null,null,null,null,null,null,null,null,null,null,null,null,4]
[]
[null,null,null,null,null,null,null,null,null,null,null,null,null,4]
[]
[null,null,null,null,null,null,null,null,null,null,null,null,null,4]
[]
[null,null,null,null,null,null,null,null,null,null,null,null,null,4]
[]
[null,null,null,null,null,null,null,null,null,null,null,null,null,4]
[]
[null,null,null,null,null,null,null,null,null,null,null,null,null,4]
[]
[null,null,null,null,null,null,null,null,null,null,null,null,null,4]
[]
[null,null,null,null,null,null,null,null,null,null,null,null,null,4]
[]
[null,null,null,null,null,null,null,null,null,null,null,null,null,4]
[]
[null,null,null,null,null,null,null,null,null,null,null,null,null,4]
[]
[null,null,null,null,null,null,null,null,null,null,null,null,null,4]
[]
[null,null,null,null,null,null,null,null,null,null,null,null,null,4]
[]
[null,null,null,null,null,null,null,null,null,null,null,null,null,4]
[]
[null,null,null,null,null,null,null,null,null,null,null,null,null,4]
[]
[null,null,null,null,null,null,null,null,null,null,null,null,null,4]
[]
[null,null,null,null,null,null,null,null,null,null,null,null,null,4]
[]
[null,null,null,null,null,null,null,null,null,null,null,null,null,4]
[]
[null,null,null,null,null,null,null,null,null,null,null,null,null,4]
[]
[null,null,null,null,null,null,null,null,null,null,null,null,null,4]
[]
[null,null,null,null,null,null,null,null,null,null,null,null,null,4]
[]
[null,null,null,null,null,null,null,null,null,null,null,null,null,4]
[]
[null,null,null,null,null,null,null,null,null,null,null,null,null,4]
[]
[null,null,null,null,null,null,null,null,null,null,null,null,null,4]
[]
[null,null,null,null,null,null,null,null,null,null,null,null,null,4]
[]
[null,null,null,null,null,null,null,null,null,null,null,null,null,4]
[]
[null,null,null,null,null,null,null,null,null,null,null,null,null,4]
[]
[null,null,null,null,null,null,null,null,null,null,null,null,null,4]
[]
[null,null,null,null,null,null,null,null,null,null,null,null,null,4]
[]
[null,null,null,null,null,null,null,null,null,null,null,null,null,4]
[]
[null,null,null,null,null,null,null,null,null,null,null,null,null,4]
[]
[null,null,null,null,null,null,null,null,null,null,null,null,null,4]
[]
[null,null,null,null,null,null,null,null,null,null,null,null,null,4]
[]
[null,null,null,null,null,null,null,null,null,null,null,null,null,4]
[]
[null,null,null,null,null,null,null,null,null,null,null,null,null,4]
[]
[null,null,null,null,null,null,null,null,null,null,null,null,null,4]
[]
[null,null,null,null,null,null,null,null,null,null,null,null,null,4]
[]
[null,null,null,null,null,null,null,null,null,null,null,null,null,4]
[]
[null,null,null,null,null,null,null,null,null,null,null,null,null,4]
[]
[null,null,null,null,null,null,null,null,null,null,null,null,null,4]
[]
[null,null,null,null,null,null,null,null,null,null,null,null,null,4]
[]
[null,null,null,null,null,null,null,null,null,null,null,null,null,4]
[]
[null,null,null,null,null,null,null,null,null,null,null,null,null,4]
[]
[null,null,null,null,null,null,null,null,null,null,null,null,null,4]
[]
[null,null,null,null,null,null,null,null,null,null,null,null,null,4]
[]
[null,null,null,null,null,null,null,null,null,null,null,null,null,4]
[]
[null,null,null,null,null,null,null,null,null,null,null,null,null,4]
[]
[null,null,null,null,null,null,null,null,null,null,null,null,null,4]
[]
[null,null,null,null,null,null,null,null,null,null,null,null,null,4]
[]
[null,null,null,null,null,null,null,null,null,null,null,null,null,4]
[]
[null,null,null,null,null,null,null,null,null,null,null,null,null,4]
[]
[null,null,null,null,null,null,null,null,null,null,null,null,null,4]
[]
[null,null,null,null,null,null,null,null,null,null,null,null,null,4]
[]
[null,null,null,null,null,null,null,null,null,null,null,null,null,4]
[]
[null,null,null,null,null,null,null,null,null,null,null,null,null,4]
[]
[null,null,null,null,null,null,null,null,null,null,null,null,null,4]
[]
[null,null,null,null,null,null,null,null,null,null,null,null,null,4]
[]
[null,null,null,null,null,null,null,null,null,null,null,null,null,4]
[]
[null,null,null,null,null,null,null,null,null,null,null,null,null,4]
[]
[null,null,null,null,null,null,null,null,null,null,null,null,null,4]
[]
[null,null,null,null,null,null,null,null,null,null,null,null,null,4]
[]
[null,null,null,null,null,null,null,null,null,null,null,null,null,4]
[]
[null,null,null,null,null,null,null,null,null,null,null,null,null,4]
[]
[null,null,null,null,null,null,null,null,null,null,null,null,null,4]
[]
[null,null,null,null,null,null,null,null,null,null,null,null,null,4]
[]
[null,null,null,null,null,null,null,null,null,null,null,null,null,4]
[]
[null,null,null,null,null,null,null,null,null,null,null,null,null,4]
[]
[null,null,null,null,null,null,null,null,null,null,null,null,null,4]
[]
[null,null,null,null,null,null,null,null,null,null,null,null,null,4]
[]
[null,null,null,null,null,null,null,null,null,null,null,null,null,4]
[]
[null,null,null,null,null,null,null,null,null,null,null,null,null,4]
[]
[null,null,null,null,null,null,null,null,null,null,null,null,null,4]
[]
[null,null,null,null,null,null,null,null,null,null,null,null,null,4]
[]
[null,null,null,null,null,null,null,null,null,null,null,null,null,4]
[]
[null,null,null,null,null,null,null,null,null,null,null,null,null,4]
[]
[null,null,null,null,null,null,null,null,null,null,null,null,null,4]
[]
[null,null,null,null,null,null,null,null,null,null,null,null,null,4]
[]
[null,null,null,null,null,null,null,null,null,null,null,null,null,4]
[]
[null,null,null,null,null,null,null,null,null,null,null,null,null,4]
[]
[null,null,null,null,null,null,null,null,null,null,null,null,null,4]
[]
[null,null,null,null,null,null,null,null,null,null,null,null,null,4]
[]
[null,null,null,null,null,null,null,null,null,null,null,null,null,4]
[]
[null,null,null,null,null,null,null,null,null,null,null,null,null,4]
[]
[null,null,null,null,null,null,null,null,null,null,null,null,null,4]
[]
[null,null,null,null,null,null,null,null,null,null,null,null,null,4]
[]
[null,null,null,null,null,null,null,null,null,null,null,null,null,4]
[]
[null,null,null,null,null,null,null,null,null,null,null,null,null,4]
[]
[null,null,null,null,null,null,null,null,null,null,null,null,null,4]
[]
[null,null,null,null,null,null,null,null,null,null,null,null,null,4]
[]
[null,null,null,null,null,null,null,null,null,null,null,null,null,4]
[]
[null,null,null,null,null,null,null,null,null,null,null,null,null,4]
[]
[null,null,null,null,null,null,null,null,null,null,null,null,null,4]
[]
[null,null,null,null,null,null,null,null,null,null,null,null,null,4]
[]
[null,null,null,null,null,null,null,null,null,null,null,null,null,4]
[]
[null,null,null,null,null,null,null,null,null,null,null,null,null,4]
[]
[null,null,null,null,null,null,null,null,null,null,null,null,null,4]
[]
[null,null,null,null,null,null,null,null,null,null,null,null,null,4]
[]
[null,null,null,null,null,null,null,null,null,null,null,null,null,4]
[]
[null,null,null,null,null,null,null,null,null,null,null,null,null,4]
[]
[null,null,null,null,null,null,null,null,null,null,null,null,null,4]
[]
[null,null,null,null,null,null,null,null,null,null,null,null,null,4]
[]
[null,null,null,null,null,null,null,null,null,null,null,null,null,4]
[]
[null,null,null,null,null,null,null,null,null,null,null,null,null,4]
[]
[null,null,null,null,null,null,null,null,null,null,null,null,null,4]
[]
[null,null,null,null,null,null,null,null,null,null,null,null,null,4]
[]
[null,null,null,null,null,null,null,null,null,null,null,null,null,4]
[]
[null,null,null,null,null,null,null,null,null,null,null,null,null,4]
[]
[null,null,null,null,null,null,null,null,null,null,null,null,null,4]
[]
[null,null,null,null,null,null,null,null,null,null,null,null,null,4]
[]
[null,null,null,null,null,null,null,null,null,null,null,null,null,4]
[]
[null,null,null,null,null,null,null,null,null,null,null,null,null,4]
[]
[null,null,null,null,null,null,null,null,null,null,null,null,null,4]
[]
[null,null,null,null,null,null,null,null,null,null,null,null,null,4]
[]
[null,null,null,null,null,null,null,null,null,null,null,null,null,4]
[]
[null,null,null,null,null,null,null,null,null,null,null,null,null,4]
[]
[null,null,null,null,null,null,null,null,null,null,null,null,null,4]
[]
[null,null,null,null,null,null,null,null,null,null,null,null,null,4]
[]
[null,null,null,null,null,null,null,null,null,null,null,null,null,4]
[]
[null,null,null,null,null,null,null,null,null,null,null,null,null,4]
[]
[null,null,null,null,null,null,null,null,null,null,null,null,null,4]
[]
[null,null,null,null,null,null,null,null,null,null,null,null,null,4]
[]
[null,null,null,null,null,null,null,null,null,null,null,null,null,4]
[]
[null,null,null,null,null,null,null,null,null,null,null,null,null,4]
[]
[null,null,null,null,null,null,null,null,null,null,null,null,null,4]
[]
[null,null,null,null,null,null,null,null,null,null,null,null,null,4]
[]
[null,null,null,null,null,null,null,null,null,null,null,null,null,4]
[]
[null,null,null,null,null,null,null,null,null,null,null,null,null,4]
[]
[null,null,null,null,null,null,null,null,null,null,null,null,null,4]
[]
[null,null,null,null,null,null,null,null,null,null,null,null,null,4]
[]
[null,null,null,null,null,null,null,null,null,null,null,null,null,4]
[]
[null,null,null,null,null,null,null,null,null,null,null,null,null,4]
[]
[null,null,null,null,null,null,null,null,null,null,null,null,null,4]
[]
[null,null,null,null,null,null,null,null,null,null,null,null,null,4]
[]
[null,null,null,null,null,null,null,null,null,null,null,null,null,4]
[]
[null,null,null,null,null,null,null,null,null,null,null,null,null,4]
[]
[null,null,null,null,null,null,null,null,null,null,null,null,null,4]
[]
[null,null,null,null,null,null,null,null,null,null,null,null,null,4]
[]
[null,null,null,null,null,null,null,null,null,null,null,null,null,4]
[]
[null,null,null,null,null,null,null,null,null,null,null,null,null,4]
[]
[null,null,null,null,null,null,null,null,null,null,null,null,null,4]
[]
[null,null,null,null,null,null,null,null,null,null,null,null,null,4]
[]
[null,null,null,null,null,null,null,null,null,null,null,null,null,4]
[]
[null,null,null,null,null,null,null,null,null,null,null,null,null,4]
[]
[null,null,null,null,null,null,null,null,null,null,null,null,null,4]
[]
[null,null,null,null,null,null,null,null,null,null,null,null,null,4]
[]
[null,null,null,null,null,null,null,null,null,null,null,null,null,4]
[]
[null,null,null,null,null,null,null,null,null,null,null,null,null,4]
[]
[null,null,null,null,null,null,null,null,null,null,null,null,null,4]
[]
[null,null,null,null,null,null,null,null,null,null,null,null,null,4]
[]
[null,null,null,null,null,null,null,null,null,null,null,null,null,4]
[]
[null,null,null,null,null,null,null,null,null,null,null,null,null,4]
[]
[null,null,null,null,null,null,null,null,null,null,null,null,null,4]
[]
[null,null,null,null,null,null,null,null,null,null,null,null,null,4]
[]
[null,null,null,null,null,null,null,null,null,null,null,null,null,4]
[]
[null,null,null,null,null,null,null,null,null,null,null,null,null,4]
[]
[null,null,null,null,null,null,null,null,null,null,null,null,null,4]
[]
[null,null,null,null,null,null,null,null,null,null,null,null,null,4]
[]
[null,null,null,null,null,null,null,null,null,null,null,null,null,4]
[]
[null,null,null,null,null,null,null,null,null,null,null,null,null,4]
[]
[null,null,null,null,null,null,null,null,null,null,null,null,null,4]
[]
[null,null,null,null,null,null,null,null,null,null,null,null,null,4]
[]
[null,null,null,null,null,null,null,null,null,null,null,null,null,4]
[]
[null,null,null,null,null,null,null,null,null,null,null,null,null,4]
[]
[null,null,null,null,null,null,null,null,null,null,null,null,null,4]
[]
[null,null,null,null,null,null,null,null,null,null,null,null,null,4]
[]
[null,null,null,null,null,null,null,null,null,null,null,null,null,4]
[]
[null,null,null,null,null,null,null,null,null,null,null,null,null,4]
[]
[null,null,null,null,null,null,null,null,null,null,null,null,null,4]
[]
[null,null,null,null,null,null,null,null,null,null,null,null,null,4]
[]
[null,null,null,null,null,null,null,null,null,null,null,null,null,4]
[]
[null,null,null,null,null,null,null,null,null,null,null,null,null,4]
[]
[null,null,null,null,null,null,null,null,null,null,null,null,null,4]
[]
[null,null,null,null,null,null,null,null,null,null,null,null,null,4]
[]
[null,null,null,null,null,null,null,null,null,null,null,null,null,4]
[]
[null,null,null,null,null,null,null,null,null,null,null,null,null,4]
[]
[null,null,null,null,null,null,null,null,null,null,null,null,null,4]
[]
[null,null,null,null,null,null,null,null,null,null,null,null,null,4]
[]
[null,null,null,null,null,null,null,null,null,null,null,null,null,4]
[]
[null,null,null,null,null,null,null,null,null,null,null,null,null,4]
[]
[null,null,null,null,null,null,null,null,null,null,null,null,null,4]
[]
[null,null,null,null,null,null,null,null,null,null,null,null,null,4]
[]
[null,null,null,null,null,null,null,null,null,null,null,null,null,4]
[]
[null,null,null,null,null,null,null,null,null,null,null,null,null,4]
[]
[null,null,null,null,null,null,null,null,null,null,null,null,null,4]
[]
[null,null,null,null,null,null,null,null,null,null,null,null,null,4]
[]
[null,null,null,null,null,null,null,null,null,null,null,null,null,4]
[]
[null,null,null,null,null,null,null,null,null,null,null,null,null,4]
[]
[null,null,null,null,null,null,null,null,null,null,null,null,null,4]
[]
[null,null,null,null,null,null,null,null,null,null,null,null,null,4]
[]
[null,null,null,null,null,null,null,null,null,null,null,null,null,4]
[]
[null,null,null,null,null,null,null,null,null,null,null,null,null,4]
[]
[null,null,null,null,null,null,null,null,null,null,null,null,null,4]
[]
[null,null,null,null,null,null,null,null,null,null,null,null,null,4]
[]
[null,null,null,null,null,null,null,null,null,null,null,null,null,4]
[]
[null,null,null,null,null,null,null,null,null,null,null,null,null,4]
[]
[null,null,null,null,null,null,null,null,null,null,null,null,null,4]
[]
[null,null,null,null,null,null,null,null,null,null,null,null,null,4]
[]
[null,null,null,null,null,null,null,null,null,null,null,null,null,4]
[]
[null,null,null,null,null,null,null,null,null,null,null,null,null,4]
[]
[null,null,null,null,null,null,null,null,null,null,null,null,null,4]
[]
[null,null,null,null,null,null,null,null,null,null,null,null,null,4]
[]
[null,null,null,null,null,null,null,null,null,null,null,null,null,4]
[]
[null,null,null,null,null,null,null,null,null,null,null,null,null,4]
[]
[null,null,null,null,null,null,null,null,null,null,null,null,null,4]
[]
[null,null,null,null,null,null,null,null,null,null,null,null,null,4]
[]
[null,null,null,null,null,null,null,null,null,null,null,null,null,4]
[]
[null,null,null,null,null,null,null,null,null,null,null,null,null,4]
[]
[null,null,null,null,null,null,null,null,null,null,null,null,null,4]
[]
[null,null,null,null,null,null,null,null,null,null,null,null,null,4]
[]
[null,null,null,null,null,null,null,null,null,null,null,null,null,4]
[]
[null,null,null,null,null,null,null,null,null,null,null,null,null,4]
[]
[null,null,null,null,null,null,null,null,null,null,null,null,null,4]
[]
[null,null,null,null,null,null,null,null,null,null,null,null,null,4]
[]
[null,null,null,null,null,null,null,null,null,null,null,null,null,4]
[]
[null,null,null,null,null,null,null,null,null,null,null,null,null,4]
[]
[null,null,null,null,null,null,null,null,null,null,null,null,null,4]
[]
[null,null,null,null,null,null,null,null,null,null,null,null,null,4]
[]
[null,null,null,null,null,null,null,null,null,null,null,null,null,4]
[]
[null,null,null,null,null,null,null,null,null,null,null,null,null,4]
[]
[null,null,null,null,null,null,null,null,null,null,null,null,null,4]
[]
[null,null,null,null,null,null,null,null,null,null,null,null,null,4]
[]
[null,null,null,null,null,null,null,null,null,null,null,null,null,4]
[]
[null,null,null,null,null,null,null,null,null,null,null,null,null,4]
[]
[null,null,null,null,null,null,null,null,null,null,null,null,null,4]
[]
[null,null,null,null,null,null,null,null,null,null,null,null,null,4]
[]
[null,null,null,null,null,null,null,null,null,null,null,null,null,4]
[]
[null,null,null,null,null,null,null,null,null,null,null,null,null,4]
[]
[null,null,null,null,null,null,null,null,null,null,null,null,null,4]
[]
[null,null,null,null,null,null,null,null,null,null,null,null,null,4]
[]
[null,null,null,null,null,null,null,null,null,null,null,null,null,4]
[]
[null,null,null,null,null,null,null,null,null,null,null,null,null,4]
[]
[null,null,null,null,null,null,null,null,null,null,null,null,null,4]
[]
[null,null,null,null,null,null,null,null,null,null,null,null,null,4]
[]
[null,null,null,null,null,null,null,null,null,null,null,null,null,4]
[]
[null,null,null,null,null,null,null,null,null,null,null,null,null,4]
[]
[null,null,null,null,null,null,null,null,null,null,null,null,null,4]
[]
[null,null,null,null,null,null,null,null,null,null,null,null,null,4]
[]
[null,null,null,null,null,null,null,null,null,null,null,null,null,4]
[]
[null,null,null,null,null,null,null,null,null,null,null,null,null,4]
[]
[null,null,null,null,null,null,null,null,null,null,null,null,null,4]
[]
[null,null,null,null,null,null,null,null,null,null,null,null,null,4]
[]
[null,null,null,null,null,null,null,null,null,null,null,null,null,4]
[]
[null,null,null,null,null,null,null,null,null,null,null,null,null,4]
[]
[null,null,null,null,null,null,null,null,null,null,null,null,null,4]
[]
[null,null,null,null,null,null,null,null,null,null,null,null,null,4]
[]
[null,null,null,null,null,null,null,null,null,null,null,null,null,4]
[]
[null,null,null,null,null,null,null,null,null,null,null,null,null,4]
[]
[null,null,null,null,null,null,null,null,null,null,null,null,null,4]
[]
[null,null,null,null,null,null,null,null,null,null,null,null,null,4]
[]
[null,null,null,null,null,null,null,null,null,null,null,null,null,4]
[]
[null,null,null,null,null,null,null,null,null,null,null,null,null,4]
[]
[null,null,null,null,null,null,null,null,null,null,null,null,null,4]
[]
[null,null,null,null,null,null,null,null,null,null,null,null,null,4]
[]
[null,null,null,null,null,null,null,null,null,null,null,null,null,4]
[]
[null,null,null,null,null,null,null,null,null,null,null,null,null,4]
[]
[null,null,null,null,null,null,null,null,null,null,null,null,null,4]
[]
[null,null,null,null,null,null,null,null,null,null,null,null,null,4]
[]
[null,null,null,null,null,null,null,null,null,null,null,null,null,4]
[]
[null,null,null,null,null,null,null,null,null,null,null,null,null,4]
[]
[null,null,null,null,null,null,null,null,null,null,null,null,null,4]
[]
[null,null,null,null,null,null,null,null,null,null,null,null,null,4]
[]
[null,null,null,null,null,null,null,null,null,null,null,null,null,4]
[]
[null,null,null,null,null,null,null,null,null,null,null,null,null,4]
[]
[null,null,null,null,null,null,null,null,null,null,null,null,null,4]
[]
[null,null,null,null,null,null,null,null,null,null,null,null,null,4]
[]
[null,null,null,null,null,null,null,null,null,null,null,null,null,4]
[]
[null,null,null,null,null,null,null,null,null,null,null,null,null,4]
[]
[null,null,null,null,null,null,null,null,null,null,null,null,null,4]
[]
[null,null,null,null,null,null,null,null,null,null,null,null,null,4]
[]
[null,null,null,null,null,null,null,null,null,null,null,null,null,4]
[]
[null,null,null,null,null,null,null,null,null,null,null,null,null,4]
[]
[null,null,null,null,null,null,null,null,null,null,null,null,null,4]
[]
[null,null,null,null,null,null,null,null,null,null,null,null,null,4]
[]
[null,null,null,null,null,null,null,null,null,null,null,null,null,4]
[]
[null,null,null,null,null,null,null,null,null,null,null,null,null,4]
[]
[null,null,null,null,null,null,null,null,null,null,null,null,null,4]
[]
[null,null,null,null,null,null,null,null,null,null,null,null,null,4]
[]
[null,null,null,null,null,null,null,null,null,null,null,null,null,4]
[]
[null,null,null,null,null,null,null,null,null,null,null,null,null,4]
[]
[null,null,null,null,null,null,null,null,null,null,null,null,null,4]
[]
[null,null,null,null,null,null,null,null,null,null,null,null,null,4]
[]
[null,null,null,null,null,null,null,null,null,null,null,null,null,4]
[]
[null,null,null,null,null,null,null,null,null,null,null,null,null,4]
[]
[null,null,null,null,null,null,null,null,null,null,null,null,null,4]
[]
[null,null,null,null,null,null,null,null,null,null,null,null,null,4]
[]
[null,null,null,null,null,null,null,null,null,null,null,null,null,4]
[]
[null,null,null,null,null,null,null,null,null,null,null,null,null,4]
[]
[null,null,null,null,null,null,null,null,null,null,null,null,null,4]
[]
[null,null,null,null,null,null,null,null,null,null,null,null,null,4]
[]
[null,null,null,null,null,null,null,null,null,null,null,null,null,4]
[]
[null,null,null,null,null,null,null,null,null,null,null,null,null,4]
[]
[null,null,null,null,null,null,null,null,null,null,null,null,null,4]
[]
[null,null,null,null,null,null,null,null,null,null,null,null,null,4]
[]
[null,null,null,null,null,null,null,null,null,null,null,null,null,4]
[]
[null,null,null,null,null,null,null,null,null,null,null,null,null,4]
[]
[null,null,null,null,null,null,null,null,null,null,null,null,null,4]
[]
[null,null,null,null,null,null,null,null,null,null,null,null,null,4]
[]
[null,null,null,null,null,null,null,null,null,null,null,null,null,4]
[]
[null,null,null,null,null,null,null,null,null,null,null,null,null,4]
[]
[null,null,null,null,null,null,null,null,null,null,null,null,null,4]
[]
[null,null,null,null,null,null,null,null,null,null,null,null,null,4]
[]
[null,null,null,null,null,null,null,null,null,null,null,null,null,4]
[]
[null,null,null,null,null,null,null,null,null,null,null,null,null,4]
[]
[null,null,null,null,null,null,null,null,null,null,null,null,null,4]
[]
[null,null,null,null,null,null,null,null,null,null,null,null,null,4]
[]
[null,null,null,null,null,null,null,null,null,null,null,null,null,4]
[]
[null,null,null,null,null,null,null,null,null,null,null,null,null,4]
[]
[null,null,null,null,null,null,null,null,null,null,null,null,null,4]
[]
[null,null,null,null,null,null,null,null,null,null,null,null,null,4]
[]
[null,null,null,null,null,null,null,null,null,null,null,null,null,4]
[]
[null,null,null,null,null,null,null,null,null,null,null,null,null,4]
[]
[null,null,null,null,null,null,null,null,null,null,null,null,null,4]
[]
[null,null,null,null,null,null,null,null,null,null,null,null,null,4]
[]
[null,null,null,null,null,null,null,null,null,null,null,null,null,4]
[]
[null,null,null,null,null,null,null,null,null,null,null,null,null,4]
[]
[null,null,null,null,null,null,null,null,null,null,null,null,null,4]
[]
[null,null,null,null,null,null,null,null,null,null,null,null,null,4]
[]
[null,null,null,null,null,null,null,null,null,null,null,null,null,4]
[]
[null,null,null,null,null,null,null,null,null,null,null,null,null,4]
[]
[null,null,null,null,null,null,null,null,null,null,null,null,null,4]
[]
[null,null,null,null,null,null,null,null,null,null,null,null,null,4]
[]
[null,null,null,null,null,null,null,null,null,null,null,null,null,4]
[]
[null,null,null,null,null,null,null,null,null,null,null,null,null,4]
[]
[null,null,null,null,null,null,null,null,null,null,null,null,null,4]
[]
[null,null,null,null,null,null,null,null,null,null,null,null,null,4]
[]
[null,null,null,null,null,null,null,null,null,null,null,null,null,4]
[]
[null,null,null,null,null,null,null,null,null,null,null,null,null,4]
[]
[null,null,null,null,null,null,null,null,null,null,null,null,null,4]
[]
[null,null,null,null,null,null,null,null,null,null,null,null,null,4]
[]
[null,null,null,null,null,null,null,null,null,null,null,null,null,4]
[]
[null,null,null,null,null,null,null,null,null,null,null,null,null,4]
[]
[null,null,null,null,null,null,null,null,null,null,null,null,null,4]
[]
[null,null,null,null,null,null,null,null,null,null,null,null,null,4]
[]
[null,null,null,null,null,null,null,null,null,null,null,null,null,4]
[]
[null,null,null,null,null,null,null,null,null,null,null,null,null,4]
[]
[null,null,null,null,null,null,null,null,null,null,null,null,null,4]
[]
[null,null,null,null,null,null,null,null,null,null,null,null,null,4]
[]
[null,null,null,null,null,null,null,null,null,null,null,null,null,4]
[]
[null,null,null,null,null,null,null,null,null,null,null,null,null,4]
[]
[null,null,null,null,null,null,null,null,null,null,null,null,null,4]
[]
[null,null,null,null,null,null,null,null,null,null,null,null,null,4]
[]
[null,null,null,null,null,null,null,null,null,null,null,null,null,4]
[]
[null,null,null,null,null,null,null,null,null,null,null,null,null,4]
[]
[null,null,null,null,null,null,null,null,null,null,null,null,null,4]
[]
[null,null,null,null,null,null,null,null,null,null,null,null,null,4]
[]
[null,null,null,null,null,null,null,null,null,null,null,null,null,4]
[]
[null,null,null,null,null,null,null,null,null,null,null,null,null,4]
[]
[null,null,null,null,null,null,null,null,null,null,null,null,null,4]
[]
[null,null,null,null,null,null,null,null,null,null,null,null,null,4]
[]
[null,null,null,null,null,null,null,null,null,null,null,null,null,4]
[]
[null,null,null,null,null,null,null,null,null,null,null,null,null,4]
[]
[null,null,null,null,null,null,null,null,null,null,null,null,null,4]
[]
[null,null,null,null,null,null,null,null,null,null,null,null,null,4]
[]
[null,null,null,null,null,null,null,null,null,null,null,null,null,4]
[]
[null,null,null,null,null,null,null,null,null,null,null,null,null,4]
[]
[null,null,null,null,null,null,null,null,null,null,null,null,null,4]
[]
[null,null,null,null,null,null,null,null,null,null,null,null,null,4]
[]
[null,null,null,null,null,null,null,null,null,null,null,null,null,4]
[]
[null,null,null,null,null,null,null,null,null,null,null,null,null,4]
[]
[null,null,null,null,null,null,null,null,null,null,null,null,null,4]
[]
[null,null,null,null,null,null,null,null,null,null,null,null,null,4]
[]
[null,null,null,null,null,null,null,null,null,null,null,null,null,4]
[]
[null,null,null,null,null,null,null,null,null,null,null,null,null,4]
[]
[null,null,null,null,null,null,null,null,null,null,null,null,null,4]
[]
[null,null,null,null,null,null,null,null,null,null,null,null,null,4]
[]
[null,null,null,null,null,null,null,null,null,null,null,null,null,4]
[]
[null,null,null,null,null,null,null,null,null,null,null,null,null,4]
[]
[null,null,null,null,null,null,null,null,null,null,null,null,null,4]
[]
[null,null,null,null,null,null,null,null,null,null,null,null,null,4]
[]
[null,null,null,null,null,null,null,null,null,null,null,null,null,4]
[]
[null,null,null,null,null,null,null,null,null,null,null,null,null,4]
[]
[null,null,null,null,null,null,null,null,null,null,null,null,null,4]
[]
[null,null,null,null,null,null,null,null,null,null,null,null,null,4]
[]
[null,null,null,null,null,null,null,null,null,null,null,null,null,4]
[]
[null,null,null,null,null,null,null,null,null,null,null,null,null,4]
[]
[null,null,null,null,null,null,null,null,null,null,null,null,null,4]
[]
[null,null,null,null,null,null,null,null,null,null,null,null,null,4]
[]
[null,null,null,null,null,null,null,null,null,null,null,null,null,4]
[]
[null,null,null,null,null,null,null,null,null,null,null,null,null,4]
[]
[null,null,null,null,null,null,null,null,null,null,null,null,null,4]
[]
[null,null,null,null,null,null,null,null,null,null,null,null,null,4]
[]
[null,null,null,null,null,null,null,null,null,null,null,null,null,4]
[]
[null,null,null,null,null,null,null,null,null,null,null,null,null,4]
[]
[null,null,null,null,null,null,null,null,null,null,null,null,null,4]
[]
[null,null,null,null,null,null,null,null,null,null,null,null,null,4]
[]
[null,null,null,null,null,null,null,null,null,null,null,null,null,4]
[]
[null,null,null,null,null,null,null,null,null,null,null,null,null,4]
[]
[null,null,null,null,null,null,null,null,null,null,null,null,null,4]
[]
[null,null,null,null,null,null,null,null,null,null,null,null,null,4]
[]
[null,null,null,null,null,null,null,null,null,null,null,null,null,4]
[]
[null,null,null,null,null,null,null,null,null,null,null,null,null,4]
[]
[null,null,null,null,null,null,null,null,null,null,null,null,null,4]
[]
[null,null,null,null,null,null,null,null,null,null,null,null,null,4]
[]
[null,null,null,null,null,null,null,null,null,null,null,null,null,4]
[]
[null,null,null,null,null,null,null,null,null,null,null,null,null,4]
[]
[null,null,null,null,null,null,null,null,null,null,null,null,null,4]
[]
[null,null,null,null,null,null,null,null,null,null,null,null,null,4]
[]
[null,null,null,null,null,null,null,null,null,null,null,null,null,4]
[]
[null,null,null,null,null,null,null,null,null,null,null,null,null,4]
[]
[null,null,null,null,null,null,null,null,null,null,null,null,null,4]
[]
[null,null,null,null,null,null,null,null,null,null,null,null,null,4]
[]
[null,null,null,null,null,null,null,null,null,null,null,null,null,4]
[]
[null,null,null,null,null,null,null,null,null,null,null,null,null,4]
[]
[null,null,null,null,null,null,null,null,null,null,null,null,null,4]
[]
[null,null,null,null,null,null,null,null,null,null,null,null,null,4]
[]
[null,null,null,null,null,null,null,null,null,null,null,null,null,4]
[]
[null,null,null,null,null,null,null,null,null,null,null,null,null,4]
[]
[null,null,null,null,null,null,null,null,null,null,null,null,null,4]
[]
[null,null,null,null,null,null,null,null,null,null,null,null,null,4]
[]
[null,null,null,null,null,null,null,null,null,null,null,null,null,4]
[]
[null,null,null,null,null,null,null,null,null,null,null,null,null,4]
[]
[null,null,null,null,null,null,null,null,null,null,null,null,null,4]
[]
[null,null,null,null,null,null,null,null,null,null,null,null,null,4]
[]
[null,null,null,null,null,null,null,null,null,null,null,null,null,4]
[]
[null,null,null,null,null,null,null,null,null,null,null,null,null,4]
[]
[null,null,null,null,null,null,null,null,null,null,null,null,null,4]
[]
[null,null,null,null,null,null,null,null,null,null,null,null,null,4]
[]
[null,null,null,null,null,null,null,null,null,null,null,null,null,4]
[]
[null,null,null,null,null,null,null,null,null,null,null,null,null,4]
[]
[null,null,null,null,null,null,null,null,null,null,null,null,null,4]
[]
[null,null,null,null,null,null,null,null,null,null,null,null,null,4]
[]
[null,null,null,null,null,null,null,null,null,null,null,null,null,4]
[]
[null,null,null,null,null,null,null,null,null,null,null,null,null,4]
[]
[null,null,null,null,null,null,null,null,null,null,null,null,null,4]
[]
[null,null,null,null,null,null,null,null,null,null,null,null,null,4]
[]
[null,null,null,null,null,null,null,null,null,null,null,null,null,4]
[]
[null,null,null,null,null,null,null,null,null,null,null,null,null,4]
[]
[null,null,null,null,null,null,null,null,null,null,null,null,null,4]
[]
[null,null,null,null,null,null,null,null,null,null,null,null,null,4]
[]
[null,null,null,null,null,null,null,null,null,null,null,null,null,4]
[]
[null,null,null,null,null,null,null,null,null,null,null,null,null,4]
[]
[null,null,null,null,null,null,null,null,null,null,null,null,null,4]
[]
[null,null,null,null,null,null,null,null,null,null,null,null,null,4]
[]
[null,null,null,null,null,null,null,null,null,null,null,null,null,4]
[]
[null,null,null,null,null,null,null,null,null,null,null,null,null,4]
[]
[null,null,null,null,null,null,null,null,null,null,null,null,null,4]
[]
[null,null,null,null,null,null,null,null,null,null,null,null,null,4]
[]
[null,null,null,null,null,null,null,null,null,null,null,null,null,4]
[]
[null,null,null,null,null,null,null,null,null,null,null,null,null,4]
[]
[null,null,null,null,null,null,null,null,null,null,null,null,null,4]
[]
[null,null,null,null,null,null,null,null,null,null,null,null,null,4]
[]
[null,null,null,null,null,null,null,null,null,null,null,null,null,4]
[]
[null,null,null,null,null,null,null,null,null,null,null,null,null,4]
[]
[null,null,null,null,null,null,null,null,null,null,null,null,null,4]
[]
[null,null,null,null,null,null,null,null,null,null,null,null,null,4]
[]
[null,null,null,null,null,null,null,null,null,null,null,null,null,4]
[]
[null,null,null,null,null,null,null,null,null,null,null,null,null,4]
[]
[null,null,null,null,null,null,null,null,null,null,null,null,null,4]
[]
[null,null,null,null,null,null,null,null,null,null,null,null,null,4]
[]
[null,null,null,null,null,null,null,null,null,null,null,null,null,4]
[]
[null,null,null,null,null,null,null,null,null,null,null,null,null,4]
[]
[null,null,null,null,null,null,null,null,null,null,null,null,null,4]
[]
[null,null,null,null,null,null,null,null,null,null,null,null,null,4]
[]
[null,null,null,null,null,null,null,null,null,null,null,null,null,4]
[]
[null,null,null,null,null,null,null,null,null,null,null,null,null,4]
[]
[null,null,null,null,null,null,null,null,null,null,null,null,null,4]
[]
[null,null,null,null,null,null,null,null,null,null,null,null,null,4]
[]
[null,null,null,null,null,null,null,null,null,null,null,null,null,4]
[]
[null,null,null,null,null,null,null,null,null,null,null,null,null,4]
[]
[null,null,null,null,null,null,null,null,null,null,null,null,null,4]
[]
[null,null,null,null,null,null,null,null,null,null,null,null,null,4]
[]
[null,null,null,null,null,null,null,null,null,null,null,null,null,4]
[]
[null,null,null,null,null,null,null,null,null,null,null,null,null,4]
[]
[null,null,null,null,null,null,null,null,null,null,null,null,null,4]
[]
[null,null,null,null,null,null,null,null,null,null,null,null,null,4]
[]
[null,null,null,null,null,null,null,null,null,null,null,null,null,4]
[]
[null,null,null,null,null,null,null,null,null,null,null,null,null,4]
[]
[null,null,null,null,null,null,null,null,null,null,null,null,null,4]
[]
[null,null,null,null,null,null,null,null,null,null,null,null,null,4]
[]
[null,null,null,null,null,null,null,null,null,null,null,null,null,4]
[]
[null,null,null,null,null,null,null,null,null,null,null,null,null,4]
[]
[null,null,null,null,null,null,null,null,null,null,null,null,null,4]
[]
[null,null,null,null,null,null,null,null,null,null,null,null,null,4]
[]
[null,null,null,null,null,null,null,null,null,null,null,null,null,4]
[]
[null,null,null,null,null,null,null,null,null,null,null,null,null,4]
[]
[null,null,null,null,null,null,null,null,null,null,null,null,null,4]
[]
[null,null,null,null,null,null,null,null,null,null,null,null,null,4]
[]
[null,null,null,null,null,null,null,null,null,null,null,null,null,4]
[]
[null,null,null,null,null,null,null,null,null,null,null,null,null,4]
[]
[null,null,null,null,null,null,null,null,null,null,null,null,null,4]
[]
[null,null,null,null,null,null,null,null,null,null,null,null,null,4]
[]
[null,null,null,null,null,null,null,null,null,null,null,null,null,4]
[]
[null,null,null,null,null,null,null,null,null,null,null,null,null,4]
[]
[null,null,null,null,null,null,null,null,null,null,null,null,null,4]
[]
[null,null,null,null,null,null,null,null,null,null,null,null,null,4]
[]
[null,null,null,null,null,null,null,null,null,null,null,null,null,4]
[]
[null,null,null,null,null,null,null,null,null,null,null,null,null,4]
[]
[null,null,null,null,null,null,null,null,null,null,null,null,null,4]
[]
[null,null,null,null,null,null,null,null,null,null,null,null,null,4]
[]
[null,null,null,null,null,null,null,null,null,null,null,null,null,4]
[]
[null,null,null,null,null,null,null,null,null,null,null,null,null,4]
[]
[null,null,null,null,null,null,null,null,null,null,null,null,null,4]
[]
[null,null,null,null,null,null,null,null,null,null,null,null,null,4]
[]
[null,null,null,null,null,null,null,null,null,null,null,null,null,4]
[]
[null,null,null,null,null,null,null,null,null,null,null,null,null,4]
[]
[null,null,null,null,null,null,null,null,null,null,null,null,null,4]
[]
[null,null,null,null,null,null,null,null,null,null,null,null,null,4]
[]
[null,null,null,null,null,null,null,null,null,null,null,null,null,4]
[]
[null,null,null,null,null,null,null,null,null,null,null,null,null,4]
[]
[null,null,null,null,null,null,null,null,null,null,null,null,null,4]
[]
[null,null,null,null,null,null,null,null,null,null,null,null,null,4]
[]
[null,null,null,null,null,null,null,null,null,null,null,null,null,4]
[]
[null,null,null,null,null,null,null,null,null,null,null,null,null,4]
[]
[null,null,null,null,null,null,null,null,null,null,null,null,null,4]
[]
[null,null,null,null,null,null,null,null,null,null,null,null,null,4]
[]
[null,null,null,null,null,null,null,null,null,null,null,null,null,4]
[]
[null,null,null,null,null,null,null,null,null,null,null,null,null,4]
[]
[null,null,null,null,null,null,null,null,null,null,null,null,null,4]
[]
[null,null,null,null,null,null,null,null,null,null,null,null,null,4]
[]
[null,null,null,null,null,null,null,null,null,null,null,null,null,4]
[]
[null,null,null,null,null,null,null,null,null,null,null,null,null,4]
[]
[null,null,null,null,null,null,null,null,null,null,null,null,null,4]
[]
[null,null,null,null,null,null,null,null,null,null,null,null,null,4]
[]
[null,null,null,null,null,null,null,null,null,null,null,null,null,4]
[]
[null,null,null,null,null,null,null,null,null,null,null,null,null,4]
[]
[null,null,null,null,null,null,null,null,null,null,null,null,null,4]
[]
[null,null,null,null,null,null,null,null,null,null,null,null,null,4]
[]
[null,null,null,null,null,null,null,null,null,null,null,null,null,4]
[]
[null,null,null,null,null,null,null,null,null,null,null,null,null,4]
[]
[null,null,null,null,null,null,null,null,null,null,null,null,null,4]
[]
[null,null,null,null,null,null,null,null,null,null,null,null,null,4]
[]
[null,null,null,null,null,null,null,null,null,null,null,null,null,4]
[]
[null,null,null,null,null,null,null,null,null,null,null,null,null,4]
[]
[null,null,null,null,null,null,null,null,null,null,null,null,null,4]
[]
[null,null,null,null,null,null,null,null,null,null,null,null,null,4]
[]
[null,null,null,null,null,null,null,null,null,null,null,null,null,4]
[]
[null,null,null,null,null,null,null,null,null,null,null,null,null,4]
[]
[null,null,null,null,null,null,null,null,null,null,null,null,null,4]
[]
[null,null,null,null,null,null,null,null,null,null,null,null,null,4]
[]
[null,null,null,null,null,null,null,null,null,null,null,null,null,4]
[]
[null,null,null,null,null,null,null,null,null,null,null,null,null,4]
[]
[null,null,null,null,null,null,null,null,null,null,null,null,null,4]
[]
[null,null,null,null,null,null,null,null,null,null,null,null,null,4]
[]
[null,null,null,null,null,null,null,null,null,null,null,null,null,4]
[]
[null,null,null,null,null,null,null,null,null,null,null,null,null,4]
[]
[null,null,null,null,null,null,null,null,null,null,null,null,null,4]
[]
[null,null,null,null,null,null,null,null,null,null,null,null,null,4]
[]
[null,null,null,null,null,null,null,null,null,null,null,null,null,4]
[]
[null,null,null,null,null,null,null,null,null,null,null,null,null,4]
[]
[null,null,null,null,null,null,null,null,null,null,null,null,null,4]
[]
[null,null,null,null,null,null,null,null,null,null,null,null,null,4]
[]
[null,null,null,null,null,null,null,null,null,null,null,null,null,4]
[]
[null,null,null,null,null,null,null,null,null,null,null,null,null,4]
[]
[null,null,null,null,null,null,null,null,null,null,null,null,null,4]
[]
[null,null,null,null,null,null,null,null,null,null,null,null,null,4]
[]
[null,null,null,null,null,null,null,null,null,null,null,null,null,4]
[]
[null,null,null,null,null,null,null,null,null,null,null,null,null,4]
[]
[null,null,null,null,null,null,null,null,null,null,null,null,null,4]
[]
[null,null,null,null,null,null,null,null,null,null,null,null,null,4]
[]
[null,null,null,null,null,null,null,null,null,null,null,null,null,4]
[]
[null,null,null,null,null,null,null,null,null,null,null,null,null,4]
[]
[null,null,null,null,null,null,null,null,null,null,null,null,null,4]
[]
[null,null,null,null,null,null,null,null,null,null,null,null,null,4]
[]
[null,null,null,null,null,null,null,null,null,null,null,null,null,4]
[]
[null,null,null,null,null,null,null,null,null,null,null,null,null,4]
[]
[null,null,null,null,null,null,null,null,null,null,null,null,null,4]
[]
[null,null,null,null,null,null,null,null,null,null,null,null,null,4]
[]
[null,null,null,null,null,null,null,null,null,null,null,null,null,4]
[]
[null,null,null,null,null,null,null,null,null,null,null,null,null,4]
[]
[null,null,null,null,null,null,null,null,null,null,null,null,null,4]
[]
[null,null,null,null,null,null,null,null,null,null,null,null,null,4]
[]
[null,null,null,null,null,null,null,null,null,null,null,null,null,4]
[]
[null,null,null,null,null,null,null,null,null,null,null,null,null,4]
[]
[null,null,null,null,null,null,null,null,null,null,null,null,null,4]
[]
[null,null,null,null,null,null,null,null,null,null,null,null,null,4]
[]
[null,null,null,null,null,null,null,null,null,null,null,null,null,4]
[]
[null,null,null,null,null,null,null,null,null,null,null,null,null,4]
[]
[null,null,null,null,null,null,null,null,null,null,null,null,null,4]
[]
[null,null,null,null,null,null,null,null,null,null,null,null,null,4]
[]
[null,null,null,null,null,null,null,null,null,null,null,null,null,4]
[]
[null,null,null,null,null,null,null,null,null,null,null,null,null,4]
[]
[null,null,null,null,null,null,null,null,null,null,null,null,null,4]
[]
[null,null,null,null,null,null,null,null,null,null,null,null,null,4]
[]
[null,null,null,null,null,null,null,null,null,null,null,null,null,4]
[]
[null,null,null,null,null,null,null,null,null,null,null,null,null,4]
[]
[null,null,null,null,null,null,null,null,null,null,null,null,null,4]
[]
[null,null,null,null,null,null,null,null,null,null,null,null,null,4]
[]
[null,null,null,null,null,null,null,null,null,null,null,null,null,4]
[]
[null,null,null,null,null,null,null,null,null,null,null,null,null,4]
[]
[null,null,null,null,null,null,null,null,null,null,null,null,null,4]
[]
[null,null,null,null,null,null,null,null,null,null,null,null,null,4]
[]
[null,null,null,null,null,null,null,null,null,null,null,null,null,4]
[]
[null,null,null,null,null,null,null,null,null,null,null,null,null,4]
[]
[null,null,null,null,null,null,null,null,null,null,null,null,null,4]
[]
[null,null,null,null,null,null,null,null,null,null,null,null,null,4]
[]
[null,null,null,null,null,null,null,null,null,null,null,null,null,4]
[]
[null,null,null,null,null,null,null,null,null,null,null,null,null,4]
[]
[null,null,null,null,null,null,null,null,null,null,null,null,null,4]
[]
[null,null,null,null,null,null,null,null,null,null,null,null,null,4]
[]
[null,null,null,null,null,null,null,null,null,null,null,null,null,4]
[]
[null,null,null,null,null,null,null,null,null,null,null,null,null,4]
[]
[null,null,null,null,null,null,null,null,null,null,null,null,null,4]
[]
[null,null,null,null,null,null,null,null,null,null,null,null,null,4]
[]
[null,null,null,null,null,null,null,null,null,null,null,null,null,4]
[]
[null,null,null,null,null,null,null,null,null,null,null,null,null,4]
[]
[null,null,null,null,null,null,null,null,null,null,null,null,null,4]
[]
[null,null,null,null,null,null,null,null,null,null,null,null,null,4]
[]
[null,null,null,null,null,null,null,null,null,null,null,null,null,4]
[]
[null,null,null,null,null,null,null,null,null,null,null,null,null,4]
[]
[null,null,null,null,null,null,null,null,null,null,null,null,null,4]
[]
[null,null,null,null,null,null,null,null,null,null,null,null,null,4]
[]
[null,null,null,null,null,null,null,null,null,null,null,null,null,4]
[]
[null,null,null,null,null,null,null,null,null,null,null,null,null,4]
[]
[null,null,null,null,null,null,null,null,null,null,null,null,null,4]
[]
[null,null,null,null,null,null,null,null,null,null,null,null,null,4]
[]
[null,null,null,null,null,null,null,null,null,null,null,null,null,4]
[]
[null,null,null,null,null,null,null,null,null,null,null,null,null,4]
[]
[null,null,null,null,null,null,null,null,null,null,null,null,null,4]
[]
[null,null,null,null,null,null,null,null,null,null,null,null,null,4]
[]
[null,null,null,null,null,null,null,null,null,null,null,null,null,4]
[]
[null,null,null,null,null,null,null,null,null,null,null,null,null,4]
[]
[null,null,null,null,null,null,null,null,null,null,null,null,null,4]
[]
[null,null,null,null,null,null,null,null,null,null,null,null,null,4]
[]
[null,null,null,null,null,null,null,null,null,null,null,null,null,4]
[]
[null,null,null,null,null,null,null,null,null,null,null,null,null,4]
[]
[null,null,null,null,null,null,null,null,null,null,null,null,null,4]
[]
[null,null,null,null,null,null,null,null,null,null,null,null,null,4]
[]
[null,null,null,null,null,null,null,null,null,null,null,null,null,4]
[]
[null,null,null,null,null,null,null,null,null,null,null,null,null,4]
[]
[null,null,null,null,null,null,null,null,null,null,null,null,null,4]
[]
[null,null,null,null,null,null,null,null,null,null,null,null,null,4]
[]
[null,null,null,null,null,null,null,null,null,null,null,null,null,4]
[]
[null,null,null,null,null,null,null,null,null,null,null,null,null,4]
[]
[null,null,null,null,null,null,null,null,null,null,null,null,null,4]
[]
[null,null,null,null,null,null,null,null,null,null,null,null,null,4]
[]
[null,null,null,null,null,null,null,null,null,null,null,null,null,4]
[]
[null,null,null,null,null,null,null,null,null,null,null,null,null,4]
[]
[null,null,null,null,null,null,null,null,null,null,null,null,null,4]
[]
[null,null,null,null,null,null,null,null,null,null,null,null,null,4]
[]
[null,null,null,null,null,null,null,null,null,null,null,null,null,4]
[]
[null,null,null,null,null,null,null,null,null,null,null,null,null,4]
[]
[null,null,null,null,null,null,null,null,null,null,null,null,null,4]
[]
[null,null,null,null,null,null,null,null,null,null,null,null,null,4]
[]
[null,null,null,null,null,null,null,null,null,null,null,null,null,4]
[]
[null,null,null,null,null,null,null,null,null,null,null,null,null,4]
[]
[null,null,null,null,null,null,null,null,null,null,null,null,null,4]
[]
[null,null,null,null,null,null,null,null,null,null,null,null,null,4]
[]
[null,null,null,null,null,null,null,null,null,null,null,null,null,4]
[]
[null,null,null,null,null,null,null,null,null,null,null,null,null,4]
[]
[null,null,null,null,null,null,null,null,null,null,null,null,null,4]
[]
[null,null,null,null,null,null,null,null,null,null,null,null,null,4]
[]
[null,null,null,null,null,null,null,null,null,null,null,null,null,4]
[]
[null,null,null,null,null,null,null,null,null,null,null,null,null,4]
[]
[null,null,null,null,null,null,null,null,null,null,null,null,null,4]
[]
[null,null,null,null,null,null,null,null,null,null,null,null,null,4]
[]
[null,null,null,null,null,null,null,null,null,null,null,null,null,4]
[]
[null,null,null,null,null,null,null,null,null,null,null,null,null,4]
[]
[null,null,null,null,null,null,null,null,null,null,null,null,null,4]
[]
[null,null,null,null,null,null,null,null,null,null,null,null,null,4]
[]
[null,null,null,null,null,null,null,null,null,null,null,null,null,4]
[]
[null,null,null,null,null,null,null,null,null,null,null,null,null,4]
[]
[null,null,null,null,null,null,null,null,null,null,null,null,null,4]
[]
[null,null,null,null,null,null,null,null,null,null,null,null,null,4]
[]
[null,null,null,null,null,null,null,null,null,null,null,null,null,4]
[]
[null,null,null,null,null,null,null,null,null,null,null,null,null,4]
[]
[null,null,null,null,null,null,null,null,null,null,null,null,null,4]
[]
[null,null,null,null,null,null,null,null,null,null,null,null,null,4]
[]
[null,null,null,null,null,null,null,null,null,null,null,null,null,4]
[]
[null,null,null,null,null,null,null,null,null,null,null,null,null,4]
[]
[null,null,null,null,null,null,null,null,null,null,null,null,null,4]
[]
[null,null,null,null,null,null,null,null,null,null,null,null,null,4]
[]
[null,null,null,null,null,null,null,null,null,null,null,null,null,4]
[]
[null,null,null,null,null,null,null,null,null,null,null,null,null,4]
[]
[null,null,null,null,null,null,null,null,null,null,null,null,null,4]
[]
[null,null,null,null,null,null,null,null,null,null,null,null,null,4]
[]
[null,null,null,null,null,null,null,null,null,null,null,null,null,4]
[]
[null,null,null,null,null,null,null,null,null,null,null,null,null,4]
[]
[null,null,null,null,null,null,null,null,null,null,null,null,null,4]
[]
[null,null,null,null,null,null,null,null,null,null,null,null,null,4]
[]
[null,null,null,null,null,null,null,null,null,null,null,null,null,4]
[]
[null,null,null,null,null,null,null,null,null,null,null,null,null,4]
[]
[null,null,null,null,null,null,null,null,null,null,null,null,null,4]
[]
[null,null,null,null,null,null,null,null,null,null,null,null,null,4]
[]
[null,null,null,null,null,null,null,null,null,null,null,null,null,4]
[]
[null,null,null,null,null,null,null,null,null,null,null,null,null,4]
[]
[null,null,null,null,null,null,null,null,null,null,null,null,null,4]
[]
[null,null,null,null,null,null,null,null,null,null,null,null,null,4]
[]
[null,null,null,null,null,null,null,null,null,null,null,null,null,4]
[]
[null,null,null,null,null,null,null,null,null,null,null,null,null,4]
[]
[null,null,null,null,null,null,null,null,null,null,null,null,null,4]
[]
[null,null,null,null,null,null,null,null,null,null,null,null,null,4]
[]
[null,null,null,null,null,null,null,null,null,null,null,null,null,4]
[]
[null,null,null,null,null,null,null,null,null,null,null,null,null,4]
[]
[null,null,null,null,null,null,null,null,null,null,null,null,null,4]
[]
[null,null,null,null,null,null,null,null,null,null,null,null,null,4]
[]
[null,null,null,null,null,null,null,null,null,null,null,null,null,4]
[]
[null,null,null,null,null,null,null,null,null,null,null,null,null,4]
[]
[null,null,null,null,null,null,null,null,null,null,null,null,null,4]
[]
[null,null,null,null,null,null,null,null,null,null,null,null,null,4]
[]
[null,null,null,null,null,null,null,null,null,null,null,null,null,4]
[]
[null,null,null,null,null,null,null,null,null,null,null,null,null,4]
[]
[null,null,null,null,null,null,null,null,null,null,null,null,null,4]
[]
[null,null,null,null,null,null,null,null,null,null,null,null,null,4]
[]
[null,null,null,null,null,null,null,null,null,null,null,null,null,4]
[]
[null,null,null,null,null,null,null,null,null,null,null,null,null,4]
[]
[null,null,null,null,null,null,null,null,null,null,null,null,null,4]
[]
[null,null,null,null,null,null,null,null,null,null,null,null,null,4]
[]
[null,null,null,null,null,null,null,null,null,null,null,null,null,4]
[]
[null,null,null,null,null,null,null,null,null,null,null,null,null,4]
[]
[null,null,null,null,null,null,null,null,null,null,null,null,null,4]
[]
[null,null,null,null,null,null,null,null,null,null,null,null,null,4]
[]
[null,null,null,null,null,null,null,null,null,null,null,null,null,4]
[]
[null,null,null,null,null,null,null,null,null,null,null,null,null,4]
[]
[null,null,null,null,null,null,null,null,null,null,null,null,null,4]
[]
[null,null,null,null,null,null,null,null,null,null,null,null,null,4]
[]
[null,null,null,null,null,null,null,null,null,null,null,null,null,4]
[]
[null,null,null,null,null,null,null,null,null,null,null,null,null,4]
[]
[null,null,null,null,null,null,null,null,null,null,null,null,null,4]
[]
[null,null,null,null,null,null,null,null,null,null,null,null,null,4]
[]
[null,null,null,null,null,null,null,null,null,null,null,null,null,4]
[]
[null,null,null,null,null,null,null,null,null,null,null,null,null,4]
[]
[null,null,null,null,null,null,null,null,null,null,null,null,null,4]
[]
[null,null,null,null,null,null,null,null,null,null,null,null,null,4]
[]
[null,null,null,null,null,null,null,null,null,null,null,null,null,4]
[]
[null,null,null,null,null,null,null,null,null,null,null,null,null,4]
[]
[null,null,null,null,null,null,null,null,null,null,null,null,null,4]
[]
[null,null,null,null,null,null,null,null,null,null,null,null,null,4]
[]
[null,null,null,null,null,null,null,null,null,null,null,null,null,4]
[]
[null,null,null,null,null,null,null,null,null,null,null,null,null,4]
[]
[null,null,null,null,null,null,null,null,null,null,null,null,null,4]
[]
[null,null,null,null,null,null,null,null,null,null,null,null,null,4]
[]
[null,null,null,null,null,null,null,null,null,null,null,null,null,4]
[]
[null,null,null,null,null,null,null,null,null,null,null,null,null,4]
[]
[null,null,null,null,null,null,null,null,null,null,null,null,null,4]
[]
[null,null,null,null,null,null,null,null,null,null,null,null,null,4]
[]
[null,null,null,null,null,null,null,null,null,null,null,null,null,4]
[]
[null,null,null,null,null,null,null,null,null,null,null,null,null,4]
[]
[null,null,null,null,null,null,null,null,null,null,null,null,null,4]
[]
[null,null,null,null,null,null,null,null,null,null,null,null,null,4]
[]
[null,null,null,null,null,null,null,null,null,null,null,null,null,4]
[]
[null,null,null,null,null,null,null,null,null,null,null,null,null,4]
[]
[null,null,null,null,null,null,null,null,null,null,null,null,null,4]
[]
[null,null,null,null,null,null,null,null,null,null,null,null,null,4]
[]
[null,null,null,null,null,null,null,null,null,null,null,null,null,4]
[]
[null,null,null,null,null,null,null,null,null,null,null,null,null,4]
[]
[null,null,null,null,null,null,null,null,null,null,null,null,null,4]
[]
[null,null,null,null,null,null,null,null,null,null,null,null,null,4]
[]
[null,null,null,null,null,null,null,null,null,null,null,null,null,4]
[]
[null,null,null,null,null,null,null,null,null,null,null,null,null,4]
[]
[null,null,null,null,null,null,null,null,null,null,null,null,null,4]
[]
[null,null,null,null,null,null,null,null,null,null,null,null,null,4]
[]
[null,null,null,null,null,null,null,null,null,null,null,null,null,4]
[]
[null,null,null,null,null,null,null,null,null,null,null,null,null,4]
[]
[null,null,null,null,null,null,null,null,null,null,null,null,null,4]
[]
[null,null,null,null,null,null,null,null,null,null,null,null,null,4]
[]
[null,null,null,null,null,null,null,null,null,null,null,null,null,4]
[]
[null,null,null,null,null,null,null,null,null,null,null,null,null,4]
[]
[null,null,null,null,null,null,null,null,null,null,null,null,null,4]
[]
[null,null,null,null,null,null,null,null,null,null,null,null,null,4]
[]
[null,null,null,null,null,null,null,null,null,null,null,null,null,4]
[]
[null,null,null,null,null,null,null,null,null,null,null,null,null,4]
[]
[null,null,null,null,null,null,null,null,null,null,null,null,null,4]
[]
[null,null,null,null,null,null,null,null,null,null,null,null,null,4]
[]
[null,null,null,null,null,null,null,null,null,null,null,null,null,4]
[]
[null,null,null,null,null,null,null,null,null,null,null,null,null,4]
[]
[null,null,null,null,null,null,null,null,null,null,null,null,null,4]
[]
[null,null,null,null,null,null,null,null,null,null,null,null,null,4]
[]
[null,null,null,null,null,null,null,null,null,null,null,null,null,4]
[]
[null,null,null,null,null,null,null,null,null,null,null,null,null,4]
[]
[null,null,null,null,null,null,null,null,null,null,null,null,null,4]
[]
[null,null,null,null,null,null,null,null,null,null,null,null,null,4]
[]
[null,null,null,null,null,null,null,null,null,null,null,null,null,4]
[]
[null,null,null,null,null,null,null,null,null,null,null,null,null,4]
[]
[null,null,null,null,null,null,null,null,null,null,null,null,null,4]
[]
[null,null,null,null,null,null,null,null,null,null,null,null,null,4]
[]
[null,null,null,null,null,null,null,null,null,null,null,null,null,4]
[]
[null,null,null,null,null,null,null,null,null,null,null,null,null,4]
[]
[null,null,null,null,null,null,null,null,null,null,null,null,null,4]
[]
[null,null,null,null,null,null,null,null,null,null,null,null,null,4]
[]
[null,null,null,null,null,null,null,null,null,null,null,null,null,4]
[]
[null,null,null,null,null,null,null,null,null,null,null,null,null,4]
[]
[null,null,null,null,null,null,null,null,null,null,null,null,null,4]
[]
[null,null,null,null,null,null,null,null,null,null,null,null,null,4]
[]
[null,null,null,null,null,null,null,null,null,null,null,null,null,4]
[]
[null,null,null,null,null,null,null,null,null,null,null,null,null,4]
[]
[null,null,null,null,null,null,null,null,null,null,null,null,null,4]
[]
[null,null,null,null,null,null,null,null,null,null,null,null,null,4]
[]
[null,null,null,null,null,null,null,null,null,null,null,null,null,4]
[]
[null,null,null,null,null,null,null,null,null,null,null,null,null,4]
[]
[null,null,null,null,null,null,null,null,null,null,null,null,null,4]
[]
[null,null,null,null,null,null,null,null,null,null,null,null,null,4]
[]
[null,null,null,null,null,null,null,null,null,null,null,null,null,4]
[]
[null,null,null,null,null,null,null,null,null,null,null,null,null,4]
[]
[null,null,null,null,null,null,null,null,null,null,null,null,null,4]
[]
[null,null,null,null,null,null,null,null,null,null,null,null,null,4]
[]
[null,null,null,null,null,null,null,null,null,null,null,null,null,4]
[]
[null,null,null,null,null,null,null,null,null,null,null,null,null,4]
[]
[null,null,null,null,null,null,null,null,null,null,null,null,null,4]
[]
[null,null,null,null,null,null,null,null,null,null,null,null,null,4]
[]
[null,null,null,null,null,null,null,null,null,null,null,null,null,4]
[]
[null,null,null,null,null,null,null,null,null,null,null,null,null,4]
[]
[null,null,null,null,null,null,null,null,null,null,null,null,null,4]
[]
[null,null,null,null,null,null,null,null,null,null,null,null,null,4]
[]
[null,null,null,null,null,null,null,null,null,null,null,null,null,4]
[]
[null,null,null,null,null,null,null,null,null,null,null,null,null,4]
[]
[null,null,null,null,null,null,null,null,null,null,null,null,null,4]
[]
[null,null,null,null,null,null,null,null,null,null,null,null,null,4]
[]
[null,null,null,null,null,null,null,null,null,null,null,null,null,4]
[]
[null,null,null,null,null,null,null,null,null,null,null,null,null,4]
[]
[null,null,null,null,null,null,null,null,null,null,null,null,null,4]
[]
[null,null,null,null,null,null,null,null,null,null,null,null,null,4]
[]
[null,null,null,null,null,null,null,null,null,null,null,null,null,4]
[]
[null,null,null,null,null,null,null,null,null,null,null,null,null,4]
[]
[null,null,null,null,null,null,null,null,null,null,null,null,null,4]
[]
[null,null,null,null,null,null,null,null,null,null,null,null,null,4]
[]
[null,null,null,null,null,null,null,null,null,null,null,null,null,4]
[]
[null,null,null,null,null,null,null,null,null,null,null,null,null,4]
[]
[null,null,null,null,null,null,null,null,null,null,null,null,null,4]
[]
[null,null,null,null,null,null,null,null,null,null,null,null,null,4]
[]
[null,null,null,null,null,null,null,null,null,null,null,null,null,4]
[]
[null,null,null,null,null,null,null,null,null,null,null,null,null,4]
[]
[null,null,null,null,null,null,null,null,null,null,null,null,null,4]
[]
[null,null,null,null,null,null,null,null,null,null,null,null,null,4]
[]
[null,null,null,null,null,null,null,null,null,null,null,null,null,4]
[]
[null,null,null,null,null,null,null,null,null,null,null,null,null,4]
[]
[null,null,null,null,null,null,null,null,null,null,null,null,null,4]
[]
[null,null,null,null,null,null,null,null,null,null,null,null,null,4]
[]
[null,null,null,null,null,null,null,null,null,null,null,null,null,4]
[]
[null,null,null,null,null,null,null,null,null,null,null,null,null,4]
[]
[null,null,null,null,null,null,null,null,null,null,null,null,null,4]
[]
[null,null,null,null,null,null,null,null,null,null,null,null,null,4]
[]
[null,null,null,null,null,null,null,null,null,null,null,null,null,4]
[]
[null,null,null,null,null,null,null,null,null,null,null,null,null,4]
[]
[null,null,null,null,null,null,null,null,null,null,null,null,null,4]
[]
[null,null,null,null,null,null,null,null,null,null,null,null,null,4]
[]
[null,null,null,null,null,null,null,null,null,null,null,null,null,4]
[]
[null,null,null,null,null,null,null,null,null,null,null,null,null,4]
[]
[null,null,null,null,null,null,null,null,null,null,null,null,null,4]
[]
[null,null,null,null,null,null,null,null,null,null,null,null,null,4]
[]
[null,null,null,null,null,null,null,null,null,null,null,null,null,4]
[]
[null,null,null,null,null,null,null,null,null,null,null,null,null,4]
[]
[null,null,null,null,null,null,null,null,null,null,null,null,null,4]
[]
[null,null,null,null,null,null,null,null,null,null,null,null,null,4]
[]
[null,null,null,null,null,null,null,null,null,null,null,null,null,4]
[]
[null,null,null,null,null,null,null,null,null,null,null,null,null,4]
[]
[null,null,null,null,null,null,null,null,null,null,null,null,null,4]
[]
[null,null,null,null,null,null,null,null,null,null,null,null,null,4]
[]
[null,null,null,null,null,null,null,null,null,null,null,null,null,4]
[]
[null,null,null,null,null,null,null,null,null,null,null,null,null,4]
[]
[null,null,null,null,null,null,null,null,null,null,null,null,null,4]
[]
[null,null,null,null,null,null,null,null,null,null,null,null,null,4]
[]
[null,null,null,null,null,null,null,null,null,null,null,null,null,4]
[]
[null,null,null,null,null,null,null,null,null,null,null,null,null,4]
[]
[null,null,null,null,null,null,null,null,null,null,null,null,null,4]
[]
[null,null,null,null,null,null,null,null,null,null,null,null,null,4]
[]
[null,null,null,null,null,null,null,null,null,null,null,null,null,4]
[]
[null,null,null,null,null,null,null,null,null,null,null,null,null,4]
[]
[null,null,null,null,null,null,null,null,null,null,null,null,null,4]
[]
[null,null,null,null,null,null,null,null,null,null,null,null,null,4]
[]
[null,null,null,null,null,null,null,null,null,null,null,null,null,4]
[]
[null,null,null,null,null,null,null,null,null,null,null,null,null,4]
[]
[null,null,null,null,null,null,null,null,null,null,null,null,null,4]
[]
[null,null,null,null,null,null,null,null,null,null,null,null,null,4]
[]
[null,null,null,null,null,null,null,null,null,null,null,null,null,4]
[]
[null,null,null,null,null,null,null,null,null,null,null,null,null,4]
[]
[null,null,null,null,null,null,null,null,null,null,null,null,null,4]
[]
[null,null,null,null,null,null,null,null,null,null,null,null,null,4]
[]
[null,null,null,null,null,null,null,null,null,null,null,null,null,4]
[]
[null,null,null,null,null,null,null,null,null,null,null,null,null,4]
[]
[null,null,null,null,null,null,null,null,null,null,null,null,null,4]
[]
[null,null,null,null,null,null,null,null,null,null,null,null,null,4]
[]
[null,null,null,null,null,null,null,null,null,null,null,null,null,4]
[]
[null,null,null,null,null,null,null,null,null,null,null,null,null,4]
[]
[null,null,null,null,null,null,null,null,null,null,null,null,null,4]
[]
[null,null,null,null,null,null,null,null,null,null,null,null,null,4]
[]
[null,null,null,null,null,null,null,null,null,null,null,null,null,4]
[]
[null,null,null,null,null,null,null,null,null,null,null,null,null,4]
[]
[null,null,null,null,null,null,null,null,null,null,null,null,null,4]
[]
[null,null,null,null,null,null,null,null,null,null,null,null,null,4]
[]
[null,null,null,null,null,null,null,null,null,null,null,null,null,4]
[]
[null,null,null,null,null,null,null,null,null,null,null,null,null,4]
[]
[null,null,null,null,null,null,null,null,null,null,null,null,null,4]
[]
[null,null,null,null,null,null,null,null,null,null,null,null,null,4]
[]
[null,null,null,null,null,null,null,null,null,null,null,null,null,4]
[]
[null,null,null,null,null,null,null,null,null,null,null,null,null,4]
[]
[null,null,null,null,null,null,null,null,null,null,null,null,null,4]
[]
[null,null,null,null,null,null,null,null,null,null,null,null,null,4]

{"sheet":"Index","index":3,"n_rows":141,"n_cols":12,"rows_kept":141,"cut":false,"hidden":true,"merged":[]}
["100-0A","1997-10-28","3.5",null,null,"Live English File Path","W:\\Highway\\Design\\RoadDesignDetails\\ExcelTabs\\",null,"R.D. Skogerboe","dskoger","Road1","ROADWAY DESIGN"]
["100-1A","1997-07-15","11/22/10",null,null,"Live Metric File Path","W:\\Highway\\Design\\RoadDesignDetails\\ExcelTabs\\MetricTabs\\",null,"Stacy M. Ryan","sryan","Road1","ROADWAY DESIGN"]
["100-1B","2002-10-29","M",null,null,"Index File Path","W:\\Highway\\Design\\RoadDesignDetails\\PDFsandWebFiles\\Indexes\\",null,"Robert A. Schoenrock","rschoen","Road1","ROADWAY DESIGN"]
["100-1C","1997-07-15",null,null,null,"Last Revision English File Path","W:\\Highway\\Design\\RoadDesignDetails\\Old_Details\\ExcelTabs\\",null,"Yanxiao Jia","yjia","Road2","ROADWAY DESIGN"]
["100-1D","2005-10-18",null,null,null,"Last Revision Metric File Path","W:\\Highway\\Design\\RoadDesignDetails\\Old_Details\\ExcelTabs\\MetricTabs\\",null,"Jennifer L. Hoskins","jhoskin","Road2","ROADWAY DESIGN"]
["100-4A","2002-10-29",null,null,null,null,null,null,"Jason R. Strum","jstrum","Road2","ROADWAY DESIGN"]
["100-7","2010-10-19",null,null,null,null,null,null,"Ryan R. Miller","rmille3","Road2","ROADWAY DESIGN"]
["100-11","1998-10-27",null,null,null,null,null,null,"Paul W. Flattery","pflatte","Road3","ROADWAY DESIGN"]
["100-12","2001-04-03",null,null,null,null,null,null,"James R. Schoenrock","jschoen","Road5","ROADWAY DESIGN"]
["100-12A","1989-02-28",null,null,null,null,null,null,"Kelly Bell","kbell","Road5","ROADWAY DESIGN"]
["100-13","2010-04-20",null,null,null,null,null,null,"Donald G. Drake","drake","Road5","ROADWAY DESIGN"]
["100-14","2010-04-20",null,null,null,null,null,null,"Robert L. Stanley","rstanle","Soils","GEOTECHNICAL DESIGN"]
["100-15","2010-04-20",null,null,null,null,null,null,"Stephen J. Megivern","smegive","Soils","GEOTECHNICAL DESIGN"]
["100-16","2010-10-19",null,null,null,null,null,null,"Clint A. Pickering","cpicker","Methods","ROADWAY DESIGN"]
["100-17","2010-04-20"]
["100-18","2010-04-20"]
["100-20","1993-10-22"]
["100-21","1994-06-07"]
["100-22","2003-04-15"]
["100-23","2010-10-19"]
["100-24","2010-04-20"]
["100-26","2005-10-18"]
["100-27","2009-10-20"]
["100-28","2007-10-16"]
["101-4","2002-04-30"]
["101-5","2002-04-30"]
["101-6","2002-04-30"]
["101-7","2002-04-30"]
["101-8","2011-04-19"]
["101-12","1972-04-21"]
["101-13 ","2004-04-20"]
["101-14 ","---"]
["101-16 ","2009-10-20"]
["101-17 ","2011-04-19"]
["101-18","2011-04-19"]
["102-3","2010-10-19"]
["102-4","2010-04-20"]
["102-5","2002-10-29"]
["102-5A","2004-04-20"]
["102-6C","2010-10-19"]
["102-10","1993-06-15"]
["102-11","2001-10-02"]
["102-12","2001-10-02"]
["102-13A","2002-10-29"]
["102-14","2011-04-19"]
["102-15","2002-10-29"]
["103-1","2010-10-19"]
["103-3","2002-10-29"]
["103-4","2011-04-19"]
["103-5","2006-10-17"]
["103-6","2011-04-19"]
["103-7","2008-04-15"]
["104-3  ","2009-10-20"]
["104-3A ","2005-04-19"]
["104-4","2009-10-20"]
["104-5A","2010-04-20"]
["104-5B","2010-04-20"]
["104-5C","2010-10-19"]
["104-8","2006-10-17"]
["104-8A","2010-04-20"]
["104-9","2010-10-19"]
["104-10","2002-10-29"]
["104-11","2002-10-29"]
["104-12","2002-10-29"]
["105-1","1994-09-27"]
["105-3","2005-10-18"]
["105-4","2010-04-20"]
["106-1","2002-10-29"]
["106-2","2002-10-29"]
["106-3","2002-10-29"]
["106-4","1986-04-01"]
["106-5","1986-04-01"]
["106-7","1993-10-22"]
["106-8","2011-04-19"]
["107-5","1987-07-21"]
["107-7","1985-08-20"]
["107-20","1989-04-04"]
["107-21","1968-06-20"]
["107-22","1976-06-25"]
["107-23","2011-04-19"]
["107-24","2008-04-15"]
["107-25","1982-02-12"]
["107-26","1983-11-10"]
["107-27A","2001-04-03"]
["107-27B","2001-04-03"]
["107-28","2001-04-03"]
["107-29","2001-04-03"]
["107-30","2001-04-03"]
["107-31","2011-04-19"]
["108-1","2000-02-11"]
["108-2","1985-08-20"]
["108-2A","2002-10-29"]
["108-8A","2010-10-19"]
["108-8B","2010-10-19"]
["108-8D","2010-10-19"]
["108-9A","2010-04-20"]
["108-11A","2002-10-29"]
["108-12","2000-02-11"]
["108-13A","1997-10-28"]
["108-15","1974-08-30"]
["108-16","2010-10-19"]
["108-18","2010-04-20"]
["108-18B","2010-04-20"]
["108-22","2011-04-19"]
["108-23A","2002-10-29"]
["108-24","2011-04-19"]
["108-26A","2002-10-29"]
["108-27","1996-04-30"]
["108-28","2006-04-18"]
["108-29","2011-04-19"]
["108-30","2010-04-20"]
["108-31","---"]
["108-32","---"]
["108-33","2010-04-20"]
["108-34","2010-10-19"]
["110-1","2005-04-19"]
["110-2","1972-10-13"]
["110-3","1985-08-20"]
["110-4","1995-03-28"]
["110-5","1972-10-13"]
["110-6","1984-06-22"]
["110-7A","2010-10-19"]
["110-7B","2010-10-19"]
["110-8","1980-04-18"]
["110-9","1997-07-15"]
["110-10","1992-01-07"]
["110-11","1992-04-28"]
["110-12A","2011-04-19"]
["110-13","2010-04-20"]
["111-2","1989-02-28"]
["111-22","1989-02-28"]
["111-23","2002-10-29"]
["111-25","2009-04-21"]
["112-3","1971-03-19"]
["112-4","2010-04-20"]
["112-5","1980-04-18"]
["112-6","2008-10-21"]
["112-7","2010-10-19"]
["112-8 ","2010-10-19"]
["112-9 ","2011-04-19"]
["112-10","2011-04-19"]

{"sheet":"104_5BTemplate","index":4,"n_rows":177,"n_cols":172,"rows_kept":177,"cut":false,"hidden":true,"merged":[[88,124,89,133],[90,124,91,133],[92,124,93,133],[94,124,95,133],[96,124,97,133],[98,124,99,133],[100,124,101,133],[102,124,103,133],[104,124,105,133],[106,124,107,133],[108,124,109,133],[110,124,111,133],[112,124,113,133],[114,124,115,133],[116,124,117,133],[154,124,155,133],[156,124,157,133],[118,124,119,133],[120,124,121,133],[122,124,123,133],[124,124,125,133],[126,124,127,133],[128,124,129,133],[130,124,131,133],[132,124,133,133],[134,124,135,133],[136,124,137,133],[138,124,139,133],[140,124,141,133],[142,124,143,133],[144,124,145,133],[146,124,147,133],[50,124,51,133],[52,124,53,133],[54,124,55,133],[56,124,57,133],[58,124,59,133],[60,124,61,133],[62,124,63,133],[64,124,65,133],[66,124,67,133],[68,124,69,133],[70,124,71,133],[72,124,73,133],[74,124,75,133],[76,124,77,133],[78,124,79,133],[80,124,81,133],[82,124,83,133],[171,165,174,170],[171,171,174,178],[165,6,166,24],[165,25,166,48],[165,49,166,53],[165,54,166,59],[165,60,166,67],[167,6,168,24],[167,25,168,48],[167,49,168,53],[167,54,168,59],[159,60,160,67],[161,6,162,24],[161,25,162,48],[161,49,162,53],[161,54,162,59],[161,60,162,67],[163,6,164,24],[163,25,164,48],[163,49,164,53],[163,54,164,59],[163,60,164,67],[167,60,168,67],[171,65,174,100],[171,101,174,106],[171,107,174,118],[171,119,174,148],[171,15,174,21],[171,22,174,30],[171,31,174,64],[158,165,159,177],[160,165,161,177],[151,6,152,24],[151,25,152,48],[151,49,152,53],[151,54,152,59],[151,60,152,67],[153,6,154,24],[153,25,154,48],[153,49,154,53],[153,54,154,59],[153,60,154,67],[155,6,156,24],[155,25,156,48],[155,49,156,53],[155,54,156,59],[155,60,156,67],[171,149,174,158],[171,159,174,164],[159,68,160,80],[160,81,161,86],[160,87,161,90],[160,134,161,141],[160,142,161,149],[160,150,161,157],[160,158,161,164],[161,68,162,80],[160,124,161,133],[162,124,163,133],[166,91,167,94],[166,95,167,99],[166,100,167,106],[166,107,167,112],[166,113,167,118],[146,100,147,106],[146,107,147,112],[146,113,147,118],[146,119,147,123],[146,134,147,141],[146,142,147,149],[146,150,147,157],[144,134,145,141],[157,6,158,24],[157,25,158,48],[157,49,158,53],[157,54,158,59],[157,60,158,67],[158,124,159,133],[148,124,149,133],[150,124,151,133],[143,6,144,24],[143,25,144,48],[143,49,144,53],[143,54,144,59],[143,60,144,67],[145,6,146,24],[145,25,146,48],[145,49,146,53],[145,54,146,59],[145,60,146,67],[159,6,160,24],[159,25,160,48],[159,49,160,53],[159,54,160,59],[144,142,145,149],[154,142,155,149],[147,6,148,24],[147,25,148,48],[147,49,148,53],[147,54,148,59],[147,60,148,67],[149,6,150,24],[149,25,150,48],[129,60,130,67],[131,6,132,24],[131,25,132,48],[131,49,132,53],[131,54,132,59],[131,60,132,67],[133,6,134,24],[133,25,134,48],[133,49,134,53],[133,54,134,59],[133,60,134,67],[135,6,136,24],[135,25,136,48],[135,49,136,53],[135,54,136,59],[135,60,136,67],[129,54,130,59],[141,6,142,24],[141,25,142,48],[141,49,142,53],[141,54,142,59],[141,60,142,67],[149,49,150,53],[149,54,150,59],[149,60,150,67],[137,6,138,24],[137,25,138,48],[137,49,138,53],[137,54,138,59],[137,60,138,67],[139,6,140,24],[139,25,140,48],[139,49,140,53],[139,54,140,59],[139,60,140,67],[118,119,119,123],[118,134,119,141],[118,142,119,149],[118,150,119,157],[121,6,122,24],[121,25,122,48],[121,49,122,53],[121,54,122,59],[121,60,122,67],[123,6,124,24],[123,25,124,48],[123,49,124,53],[123,54,124,59],[123,60,124,67],[125,6,126,24],[125,25,126,48],[125,49,126,53],[125,54,126,59],[125,60,126,67],[127,6,128,24],[127,25,128,48],[140,119,141,123],[127,49,128,53],[127,54,128,59],[127,60,128,67],[129,6,130,24],[129,25,130,48],[129,49,130,53],[109,60,110,67],[111,6,112,24],[111,25,112,48],[111,49,112,53],[111,54,112,59],[111,60,112,67],[113,6,114,24],[113,25,114,48],[113,49,114,53],[113,54,114,59],[113,60,114,67],[115,6,116,24],[115,25,116,48],[115,49,116,53],[115,54,116,59],[115,60,116,67],[117,6,118,24],[117,25,118,48],[117,49,118,53],[117,54,118,59],[117,60,118,67],[119,6,120,24],[119,25,120,48],[119,49,120,53],[119,54,120,59],[119,60,120,67],[99,49,100,53],[99,54,100,59],[99,60,100,67],[101,6,102,24],[101,25,102,48],[101,49,102,53],[101,54,102,59],[101,60,102,67],[103,6,104,24],[103,25,104,48],[103,49,104,53],[103,54,104,59],[103,60,104,67],[105,6,106,24],[105,25,106,48],[105,49,106,53],[105,54,106,59],[105,60,106,67],[107,6,108,24],[107,25,108,48],[107,49,108,53],[107,54,108,59],[107,60,108,67],[109,6,110,24],[109,25,110,48],[109,49,110,53],[109,54,110,59],[89,6,90,24],[89,25,90,48],[89,49,90,53],[89,54,90,59],[89,60,90,67],[91,6,92,24],[91,25,92,48],[91,49,92,53],[91,54,92,59],[91,60,92,67],[93,6,94,24],[93,25,94,48],[93,49,94,53],[93,54,94,59],[93,60,94,67],[95,6,96,24],[95,25,96,48],[95,49,96,53],[95,54,96,59],[95,60,96,67],[97,6,98,24],[97,25,98,48],[97,49,98,53],[75,49,76,53],[75,54,76,59],[75,60,76,67],[77,6,78,24],[77,25,78,48],[77,49,78,53],[65,6,66,24],[97,54,98,59],[97,60,98,67],[79,49,80,53],[79,54,80,59],[79,60,80,67],[81,6,82,24],[81,25,82,48],[81,49,82,53],[81,54,82,59],[81,60,82,67],[83,6,84,24],[83,25,84,48],[83,49,84,53],[83,54,84,59],[83,60,84,67],[85,6,86,24],[85,25,86,48],[85,49,86,53],[85,54,86,59],[85,60,86,67],[87,6,88,24],[87,25,88,48],[87,49,88,53],[87,54,88,59],[87,60,88,67],[62,142,63,149],[67,6,68,24],[67,25,68,48],[67,49,68,53],[67,54,68,59],[67,60,68,67],[69,6,70,24],[69,25,70,48],[69,49,70,53],[69,54,70,59],[69,60,70,67],[71,6,72,24],[71,25,72,48],[71,49,72,53],[71,54,72,59],[71,60,72,67],[73,6,74,24],[73,49,74,53],[73,54,74,59],[73,60,74,67],[65,25,66,48],[62,119,63,123],[62,134,63,141],[68,81,69,86],[68,87,69,90],[68,91,69,94],[68,95,69,99],[68,100,69,106],[68,107,69,112],[68,113,69,118],[68,119,69,123],[68,134,69,141],[57,54,58,59],[57,60,58,67],[59,6,60,24],[59,25,60,48],[59,49,60,53],[59,54,60,59],[59,60,60,67],[61,6,62,24],[61,25,62,48],[61,49,62,53],[61,54,62,59],[61,60,62,67],[63,6,64,24],[63,25,64,48],[63,49,64,53],[63,54,64,59],[63,60,64,67],[58,100,59,106],[58,107,59,112],[58,113,59,118],[58,119,59,123],[72,81,73,86],[72,87,73,90],[72,91,73,94],[72,95,73,99],[72,100,73,106],[72,107,73,112],[72,113,73,118],[72,119,73,123],[77,54,78,59],[77,60,78,67],[79,6,80,24],[47,25,48,48],[47,49,48,53],[47,54,48,59],[47,60,48,67],[49,6,50,24],[49,25,50,48],[49,49,50,53],[49,54,50,59],[49,60,50,67],[51,6,52,24],[51,25,52,48],[51,49,52,53],[51,54,52,59],[51,60,52,67],[53,6,54,24],[53,25,54,48],[53,49,54,53],[53,54,54,59],[53,60,54,67],[55,6,56,24],[55,25,56,48],[55,49,56,53],[55,54,56,59],[55,60,56,67],[57,6,58,24],[57,25,58,48],[57,49,58,53],[35,60,36,67],[37,6,38,24],[37,25,38,48],[37,49,38,53],[37,54,38,59],[37,60,38,67],[39,6,40,24],[39,25,40,48],[39,49,40,53],[39,54,40,59],[39,60,40,67],[41,6,42,24],[41,25,42,48],[41,49,42,53],[41,54,42,59],[41,60,42,67],[43,6,44,24],[43,25,44,48],[43,49,44,53],[43,54,44,59],[43,60,44,67],[45,6,46,24],[45,25,46,48],[45,49,46,53],[45,54,46,59],[45,60,46,67],[47,6,48,24],[41,2,42,5],[43,2,44,5],[37,2,38,5],[39,2,40,5],[25,2,36,5],[35,100,36,106],[35,107,36,112],[35,113,36,118],[35,124,36,133],[38,124,39,133],[40,124,41,133],[42,124,43,133],[44,124,45,133],[46,124,47,133],[48,124,49,133],[37,68,38,80],[37,81,37,177],[38,81,39,86],[38,87,39,90],[38,91,39,94],[38,95,39,99],[38,100,39,106],[38,107,39,112],[38,113,39,118],[38,119,39,123],[38,134,39,141],[38,142,39,149],[175,1,176,178],[165,2,166,5],[167,2,168,5],[161,2,162,5],[163,2,164,5],[157,2,158,5],[159,2,160,5],[153,2,154,5],[155,2,156,5],[149,2,150,5],[151,2,152,5],[145,2,146,5],[147,2,148,5],[141,2,142,5],[143,2,144,5],[142,142,143,149],[142,150,143,157],[142,158,143,164],[142,165,143,177],[143,68,144,80],[144,81,145,86],[144,87,145,90],[144,91,145,94],[144,95,145,99],[144,100,145,106],[144,107,145,112],[144,113,145,118],[144,119,145,123],[142,100,143,106],[142,107,143,112],[142,113,143,118],[142,119,143,123],[139,2,140,5],[135,2,136,5],[137,2,138,5],[133,2,134,5],[25,6,36,24],[25,25,36,48],[25,49,34,53],[25,54,34,59],[25,60,34,67],[59,2,60,5],[75,2,76,5],[81,2,82,5],[77,2,78,5],[79,2,80,5],[83,2,84,5],[73,25,74,48],[75,6,76,24],[75,25,76,48],[129,2,130,5],[131,2,132,5],[125,2,126,5],[127,2,128,5],[121,2,122,5],[123,2,124,5],[119,2,120,5],[115,2,116,5],[117,2,118,5],[111,2,112,5],[113,2,114,5],[107,2,108,5],[109,2,110,5],[99,2,100,5],[101,2,102,5],[95,2,96,5],[97,2,98,5],[103,2,104,5],[105,2,106,5],[99,25,100,48],[99,6,100,24],[79,25,80,48],[171,1,174,7],[171,8,174,14],[4,2,5,177],[6,2,7,177],[12,2,13,177],[14,2,15,177],[65,49,66,53],[65,54,66,59],[65,60,66,67],[91,2,92,5],[93,2,94,5],[87,2,88,5],[89,2,90,5],[85,2,86,5],[45,2,46,5],[51,2,52,5],[47,2,48,5],[49,2,50,5],[61,2,62,5],[55,2,56,5],[57,2,58,5],[63,2,64,5],[65,2,66,5],[53,2,54,5],[71,2,72,5],[73,2,74,5],[67,2,68,5],[69,2,70,5],[8,54,11,80],[8,81,11,100],[8,101,11,177],[16,2,18,80],[16,81,18,177],[19,2,24,80],[19,81,24,177],[25,68,36,80],[25,81,36,86],[25,87,34,94],[25,95,36,99],[25,100,34,106],[25,107,34,112],[25,113,34,118],[25,119,36,123],[25,124,34,133],[25,134,30,157],[25,158,36,164],[25,165,36,177],[31,134,36,141],[31,142,36,149],[31,150,36,157],[35,87,36,90],[35,91,36,94],[8,2,11,53],[35,49,36,53],[35,54,36,59],[38,150,39,157],[38,158,39,164],[38,165,39,177],[39,68,40,80],[40,81,41,86],[40,87,41,90],[40,91,41,94],[40,95,41,99],[40,100,41,106],[40,107,41,112],[40,113,41,118],[40,119,41,123],[40,134,41,141],[40,142,41,149],[40,150,41,157],[40,158,41,164],[40,165,41,177],[41,68,42,80],[42,81,43,86],[42,87,43,90],[42,91,43,94],[42,95,43,99],[42,100,43,106],[42,107,43,112],[42,113,43,118],[42,119,43,123],[42,134,43,141],[42,142,43,149],[42,150,43,157],[42,158,43,164],[42,165,43,177],[43,68,44,80],[44,81,45,86],[44,87,45,90],[44,91,45,94],[44,95,45,99],[44,100,45,106],[44,107,45,112],[44,113,45,118],[44,119,45,123],[44,134,45,141],[44,142,45,149],[44,150,45,157],[44,158,45,164],[44,165,45,177],[45,68,46,80],[46,81,47,86],[46,87,47,90],[46,91,47,94],[46,95,47,99],[46,100,47,106],[46,107,47,112],[46,113,47,118],[46,119,47,123],[46,134,47,141],[46,142,47,149],[46,150,47,157],[46,158,47,164],[46,165,47,177],[47,68,48,80],[48,81,49,86],[48,87,49,90],[48,91,49,94],[48,95,49,99],[48,100,49,106],[48,107,49,112],[48,113,49,118],[48,119,49,123],[48,134,49,141],[48,142,49,149],[48,150,49,157],[48,158,49,164],[48,165,49,177],[49,68,50,80],[50,81,51,86],[50,87,51,90],[50,91,51,94],[50,95,51,99],[50,100,51,106],[50,107,51,112],[50,113,51,118],[50,119,51,123],[50,134,51,141],[50,142,51,149],[50,150,51,157],[50,158,51,164],[50,165,51,177],[51,68,52,80],[52,81,53,86],[52,87,53,90],[52,91,53,94],[52,95,53,99],[52,100,53,106],[52,107,53,112],[52,113,53,118],[52,119,53,123],[52,134,53,141],[52,142,53,149],[52,150,53,157],[52,158,53,164],[52,165,53,177],[53,68,54,80],[54,81,55,86],[54,87,55,90],[54,91,55,94],[54,95,55,99],[54,100,55,106],[54,107,55,112],[54,113,55,118],[54,119,55,123],[54,134,55,141],[54,142,55,149],[54,150,55,157],[54,158,55,164],[54,165,55,177],[55,68,56,80],[56,81,57,86],[56,87,57,90],[56,91,57,94],[56,95,57,99],[56,100,57,106],[56,107,57,112],[56,113,57,118],[56,119,57,123],[56,134,57,141],[56,142,57,149],[56,150,57,157],[56,158,57,164],[56,165,57,177],[57,68,58,80],[58,81,59,86],[58,87,59,90],[58,91,59,94],[58,95,59,99],[58,134,59,141],[58,142,59,149],[58,150,59,157],[58,158,59,164],[58,165,59,177],[59,68,60,80],[60,81,61,86],[60,87,61,90],[60,91,61,94],[60,95,61,99],[60,100,61,106],[60,107,61,112],[60,113,61,118],[60,119,61,123],[60,134,61,141],[60,142,61,149],[60,150,61,157],[60,158,61,164],[60,165,61,177],[61,68,62,80],[62,81,63,86],[62,87,63,90],[62,91,63,94],[62,95,63,99],[62,100,63,106],[62,107,63,112],[62,113,63,118],[62,150,63,157],[62,158,63,164],[62,165,63,177],[63,68,64,80],[64,81,65,86],[64,87,65,90],[64,91,65,94],[64,95,65,99],[64,100,65,106],[64,107,65,112],[64,113,65,118],[64,119,65,123],[64,134,65,141],[64,142,65,149],[64,150,65,157],[64,158,65,164],[64,165,65,177],[65,68,66,80],[66,81,67,86],[66,87,67,90],[66,91,67,94],[66,95,67,99],[66,100,67,106],[66,107,67,112],[66,113,67,118],[66,119,67,123],[66,134,67,141],[66,142,67,149],[66,150,67,157],[66,158,67,164],[66,165,67,177],[67,68,68,80],[68,142,69,149],[68,150,69,157],[68,158,69,164],[68,165,69,177],[69,68,70,80],[70,81,71,86],[70,87,71,90],[70,91,71,94],[70,95,71,99],[70,100,71,106],[70,107,71,112],[70,113,71,118],[70,119,71,123],[70,134,71,141],[70,142,71,149],[70,150,71,157],[70,158,71,164],[70,165,71,177],[71,68,72,80],[72,134,73,141],[72,142,73,149],[72,150,73,157],[72,158,73,164],[72,165,73,177],[73,68,74,80],[74,81,75,86],[74,87,75,90],[74,91,75,94],[74,95,75,99],[74,100,75,106],[74,107,75,112],[74,113,75,118],[74,119,75,123],[74,134,75,141],[74,142,75,149],[74,150,75,157],[74,158,75,164],[74,165,75,177],[75,68,76,80],[76,81,77,86],[76,87,77,90],[76,91,77,94],[76,95,77,99],[76,100,77,106],[76,107,77,112],[76,113,77,118],[76,119,77,123],[76,134,77,141],[76,142,77,149],[76,150,77,157],[76,158,77,164],[76,165,77,177],[77,68,78,80],[78,81,79,86],[78,87,79,90],[78,91,79,94],[78,95,79,99],[78,100,79,106],[78,107,79,112],[78,113,79,118],[78,119,79,123],[78,134,79,141],[78,142,79,149],[78,150,79,157],[78,158,79,164],[78,165,79,177],[79,68,80,80],[80,81,81,86],[80,87,81,90],[80,91,81,94],[80,95,81,99],[80,100,81,106],[80,107,81,112],[80,113,81,118],[80,119,81,123],[80,134,81,141],[80,142,81,149],[80,150,81,157],[80,158,81,164],[80,165,81,177],[81,68,82,80],[82,81,83,86],[82,87,83,90],[82,91,83,94],[82,95,83,99],[82,100,83,106],[82,107,83,112],[82,113,83,118],[82,119,83,123],[82,134,83,141],[82,142,83,149],[82,150,83,157],[82,158,83,164],[82,165,83,177],[83,68,84,80],[84,81,85,86],[84,87,85,90],[84,91,85,94],[84,95,85,99],[84,100,85,106],[84,107,85,112],[84,113,85,118],[84,119,85,123],[84,134,85,141],[84,142,85,149],[84,150,85,157],[84,158,85,164],[84,165,85,177],[85,68,86,80],[86,81,87,86],[86,87,87,90],[86,91,87,94],[86,95,87,99],[84,124,85,133],[86,124,87,133],[86,100,87,106],[86,107,87,112],[86,113,87,118],[86,119,87,123],[86,134,87,141],[86,142,87,149],[86,150,87,157],[86,158,87,164],[86,165,87,177],[87,68,88,80],[88,81,89,86],[88,87,89,90],[88,91,89,94],[88,95,89,99],[88,100,89,106],[88,107,89,112],[88,113,89,118],[88,119,89,123],[88,134,89,141],[88,142,89,149],[88,150,89,157],[88,158,89,164],[88,165,89,177],[89,68,90,80],[90,81,91,86],[90,87,91,90],[90,91,91,94],[90,95,91,99],[90,100,91,106],[90,107,91,112],[90,113,91,118],[90,119,91,123],[90,134,91,141],[90,142,91,149],[90,150,91,157],[90,158,91,164],[90,165,91,177],[91,68,92,80],[92,81,93,86],[92,87,93,90],[92,91,93,94],[92,95,93,99],[92,100,93,106],[92,107,93,112],[92,113,93,118],[92,119,93,123],[92,134,93,141],[92,142,93,149],[92,150,93,157],[92,158,93,164],[92,165,93,177],[93,68,94,80],[94,81,95,86],[94,87,95,90],[94,91,95,94],[94,95,95,99],[94,100,95,106],[94,107,95,112],[94,113,95,118],[94,119,95,123],[94,134,95,141],[94,142,95,149],[94,150,95,157],[94,158,95,164],[94,165,95,177],[95,68,96,80],[96,81,97,86],[96,87,97,90],[96,91,97,94],[96,95,97,99],[96,100,97,106],[96,107,97,112],[96,113,97,118],[96,119,97,123],[96,134,97,141],[96,142,97,149],[96,150,97,157],[96,158,97,164],[96,165,97,177],[97,68,98,80],[98,81,99,86],[98,87,99,90],[98,91,99,94],[98,95,99,99],[98,100,99,106],[98,107,99,112],[98,113,99,118],[98,119,99,123],[98,134,99,141],[98,142,99,149],[98,150,99,157],[98,158,99,164],[98,165,99,177],[99,68,100,80],[100,81,101,86],[100,87,101,90],[100,91,101,94]],"merged_total":1430,"flags":["merged_cut"]}
[]
[]
[]
[]
[null,null,"104-5B"]
[]
[null,null,"2015-04-21"]
[]
[null,null,"    Diameter or equivalent diameter",null,null,null,null,null,null,null,null,null,null,null,null,null,null,null,null,null,null,null,null,null,null,null,null,null,null,null,null,null,null,null,null,null,null,null,null,null,null,null,null,null,null,null,null,null,null,null,null,null,null,null,null,null,null,null,null,null,null,null,null,null,null,null,null,null,null,null,null,null,null,null,null,null,null,null,null,null,null,"STORM SEWER"]
[]
[]
[]
[null,null,"* Bid Item"]
[]
[null,null,"** For SW-545"]
[]
[null,null,"INTAKES AND UTILITY ACCESSES",null,null,null,null,null,null,null,null,null,null,null,null,null,null,null,null,null,null,null,null,null,null,null,null,null,null,null,null,null,null,null,null,null,null,null,null,null,null,null,null,null,null,null,null,null,null,null,null,null,null,null,null,null,null,null,null,null,null,null,null,null,null,null,null,null,null,null,null,null,null,null,null,null,null,null,null,null,null,"PIPES"]
[]
[]
[null,null,null,null,null,null,null,null,null,null,null,null,null,null,null,null,null,null,null,null,null,null,null,null,null,null,null,null,null,null,null,null,null,null,null,null,null,null,null,null,null,null,null,null,null,null,null,null,null,null,null,null,null,null,null,null,null,null,null,null,null,null,null,null,null,null,null,null,null,null,null,null,null,null,null,null,null,null,null,null,null,"Design Length, Slope, and Flowlines are calculated from inside wall to inside wall along CL of pipe. An additional 3 ft length is added to each side of the Design Length to account for estimated length to center of structures."]
[]
[]
[]
[]
[]
[null,null,"No.",null,null,null,"Location Station and Offset",null,null,null,null,null,null,null,null,null,null,null,null,null,null,null,null,null,null,"*Type or Standard Road Plan",null,null,null,null,null,null,null,null,null,null,null,null,null,null,null,null,null,null,null,null,null,null,null,"Form Grade",null,null,null,null,"Bottom Well",null,null,null,null,null,"Extension Length**",null,null,null,null,null,null,null,"Notes",null,null,null,null,null,null,null,null,null,null,null,null,"Line Number",null,null,null,null,null,"Intake/\nUtility\nAccess\nNo.",null,null,null,null,null,null,null,"Class\n'D'",null,null,null,null,"Pipe\nSize",null,null,null,null,null,null,"Bid* Length",null,null,null,null,null,"Design Length",null,null,null,null,null,"Slope %",null,null,null,null,"Connected Pipe Joint (DR-121)",null,null,null,null,null,null,null,null,null,"Flow Lines",null,null,null,null,null,null,null,null,null,null,null,null,null,null,null,null,null,null,null,null,null,null,null,"Pipe Profile Sheet No.",null,null,null,null,null,null,"Notes"]
[]
[]
[]
[]
[]
[null,null,null,null,null,null,null,null,null,null,null,null,null,null,null,null,null,null,null,null,null,null,null,null,null,null,null,null,null,null,null,null,null,null,null,null,null,null,null,null,null,null,null,null,null,null,null,null,null,null,null,null,null,null,null,null,null,null,null,null,null,null,null,null,null,null,null,null,null,null,null,null,null,null,null,null,null,null,null,null,null,null,null,null,null,null,null,null,null,null,null,null,null,null,null,null,null,null,null,null,null,null,null,null,null,null,null,null,null,null,null,null,null,null,null,null,null,null,null,null,null,null,null,null,null,null,null,null,null,null,null,null,null,null,"Inlet Elevation",null,null,null,null,null,null,null,"Outlet Elevation",null,null,null,null,null,null,null,"Other Elevation"]
[]
[]
[]
[null,null,null,null,null,null,null,null,null,null,null,null,null,null,null,null,null,null,null,null,null,null,null,null,null,null,null,null,null,null,null,null,null,null,null,null,null,null,null,null,null,null,null,null,null,null,null,null,null,"Elev.",null,null,null,null,"Elev.",null,null,null,null,null,"FT",null,null,null,null,null,null,null,null,null,null,null,null,null,null,null,null,null,null,null,null,null,null,null,null,null,null,"From",null,null,null,"To",null,null,null,null,null,null,null,null,"IN",null,null,null,null,null,null,"FT",null,null,null,null,null,"FT",null,null,null,null,null,null,null,null,null,null,"Type"]
[]
[null,null,{"$f":"IF(OFFSET(DE104_5B!$A$33,ROWS($A$33:A33)-1,COLUMNS($A$33:A33)-1)<>\"\",OFFSET(DE104_5B!$A$33,ROWS($A$33:A33)-1,COLUMNS($A$33:A33)-1),\"\")","v":1},null,null,null,{"$f":"IF(OFFSET(DE104_5B!$B$33,ROWS($B$33:B33)-1,COLUMNS($B$33:B33)-1)<>\"\",OFFSET(DE104_5B!$B$33,ROWS($B$33:B33)-1,COLUMNS($B$33:B33)-1),\"\")","v":"241473+95.00, 21.96"},null,null,null,null,null,null,null,null,null,null,null,null,null,null,null,null,null,null,{"$f":"IF(OFFSET(DE104_5B!$C$33,ROWS($C$33:C33)-1,COLUMNS($C$33:C33)-1)<>\"\",OFFSET(DE104_5B!$C$33,ROWS($C$33:C33)-1,COLUMNS($C$33:C33)-1),\"\")","v":"SW-549"},null,null,null,null,null,null,null,null,null,null,null,null,null,null,null,null,null,null,null,null,null,null,null,{"$f":"IF(OFFSET(DE104_5B!$D$33,ROWS($D$33:D33)-1,COLUMNS($D$33:D33)-1)<>\"\",OFFSET(DE104_5B!$D$33,ROWS($D$33:D33)-1,COLUMNS($D$33:D33)-1),\"\")","v":943.94},null,null,null,null,{"$f":"IF(OFFSET(DE104_5B!$E$33,ROWS($E$33:E33)-1,COLUMNS($E$33:E33)-1)<>\"\",OFFSET(DE104_5B!$E$33,ROWS($E$33:E33)-1,COLUMNS($E$33:E33)-1),\"\")","v":938.9},null,null,null,null,null,{"$f":"IF(OFFSET(DE104_5B!$F$33,ROWS($F$33:F33)-1,COLUMNS($F$33:F33)-1)<>\"\",OFFSET(DE104_5B!$F$33,ROWS($F$33:F33)-1,COLUMNS($F$33:F33)-1),\"\")","v":""},null,null,null,null,null,null,null,{"$f":"IF(OFFSET(DE104_5B!$G$33,ROWS($G$33:G33)-1,COLUMNS($G$33:G33)-1)<>\"\",OFFSET(DE104_5B!$G$33,ROWS($G$33:G33)-1,COLUMNS($G$33:G33)-1),\"\")","v":""}]
[null,null,null,null,null,null,null,null,null,null,null,null,null,null,null,null,null,null,null,null,null,null,null,null,null,null,null,null,null,null,null,null,null,null,null,null,null,null,null,null,null,null,null,null,null,null,null,null,null,null,null,null,null,null,null,null,null,null,null,null,null,null,null,null,null,null,null,null,null,null,null,null,null,null,null,null,null,null,null,null,null,{"$f":"IF(OFFSET(DE104_5B!$H$34,ROWS($H$34:H34)-1,COLUMNS($H$34:H34)-1)<>\"\",OFFSET(DE104_5B!$H$34,ROWS($H$34:H34)-1,COLUMNS($H$34:H34)-1),\"\")","v":"P-1"},null,null,null,null,null,{"$f":"IF(OFFSET(DE104_5B!$I$34,ROWS($I$34:I34)-1,COLUMNS($I$34:I34)-1)<>\"\",OFFSET(DE104_5B!$I$34,ROWS($I$34:I34)-1,COLUMNS($I$34:I34)-1),\"\")","v":1},null,null,null,{"$f":"IF(OFFSET(DE104_5B!$J$34,ROWS($J$34:J34)-1,COLUMNS($J$34:J34)-1)<>\"\",OFFSET(DE104_5B!$J$34,ROWS($J$34:J34)-1,COLUMNS($J$34:J34)-1),\"\")","v":2},null,null,null,{"$f":"IF(OFFSET(DE104_5B!$K$34,ROWS($K$34:K34)-1,COLUMNS($K$34:K34)-1)<>\"\",OFFSET(DE104_5B!$K$34,ROWS($K$34:K34)-1,COLUMNS($K$34:K34)-1),\"\")","v":2000},null,null,null,null,{"$f":"IF(OFFSET(DE104_5B!$L$34,ROWS($L$34:L34)-1,COLUMNS($L$34:L34)-1)<>\"\",OFFSET(DE104_5B!$L$34,ROWS($L$34:L34)-1,COLUMNS($L$34:L34)-1),\"\")","v":18},null,null,null,null,null,null,{"$f":"IF(OFFSET(DE104_5B!$M$34,ROWS($M$34:M34)-1,COLUMNS($M$34:M34)-1)<>\"\",OFFSET(DE104_5B!$M$34,ROWS($M$34:M34)-1,COLUMNS($M$34:M34)-1),\"\")","v":40},null,null,null,null,null,{"$f":"IF(OFFSET(DE104_5B!$O$34,ROWS($O$34:O34)-1,COLUMNS($O$34:O34)-1)<>\"\",OFFSET(DE104_5B!$O$34,ROWS($O$34:O34)-1,COLUMNS($O$34:O34)-1),\"\")","v":35.5},null,null,null,null,null,{"$f":"IF(OFFSET(DE104_5B!$P$34,ROWS($P$34:P34)-1,COLUMNS($P$34:P34)-1)<>\"\",OFFSET(DE104_5B!$P$34,ROWS($P$34:P34)-1,COLUMNS($P$34:P34)-1),\"\")","v":0.5},null,null,null,null,{"$f":"IF(OFFSET(DE104_5B!$Q$34,ROWS($Q$34:Q34)-1,COLUMNS($Q$34:Q34)-1)<>\"\",OFFSET(DE104_5B!$Q$34,ROWS($Q$34:Q34)-1,COLUMNS($Q$34:Q34)-1),\"\")","v":2},null,null,null,null,null,null,null,null,null,{"$f":"IF(OFFSET(DE104_5B!$R$34,ROWS($S$34:S34)-1,COLUMNS($S$34:S34)-1)<>\"\",OFFSET(DE104_5B!$R$34,ROWS($S$34:S34)-1,COLUMNS($S$34:S34)-1),\"\")","v":939.4},null,null,null,null,null,null,null,{"$f":"IF(OFFSET(DE104_5B!$S$34,ROWS($T$34:T34)-1,COLUMNS($T$34:T34)-1)<>\"\",OFFSET(DE104_5B!$S$34,ROWS($T$34:T34)-1,COLUMNS($T$34:T34)-1),\"\")","v":939.22},null,null,null,null,null,null,null,{"$f":"IF(OFFSET(DE104_5B!$T$34,ROWS($U$34:U34)-1,COLUMNS($U$34:U34)-1)<>\"\",OFFSET(DE104_5B!$T$34,ROWS($U$34:U34)-1,COLUMNS($U$34:U34)-1),\"\")","v":""},null,null,null,null,null,null,null,{"$f":"IF(OFFSET(DE104_5B!$U$34,ROWS($V$34:V34)-1,COLUMNS($V$34:V34)-1)<>\"\",OFFSET(DE104_5B!$U$34,ROWS($V$34:V34)-1,COLUMNS($V$34:V34)-1),\"\")","v":"M.4"},null,null,null,null,null,null,{"$f":"IF(OFFSET(DE104_5B!$V$34,ROWS($W$34:W34)-1,COLUMNS($W$34:W34)-1)<>\"\",OFFSET(DE104_5B!$V$34,ROWS($W$34:W34)-1,COLUMNS($W$34:W34)-1),\"\")","v":""}]
[null,null,{"$f":"IF(OFFSET(DE104_5B!$A$33,ROWS($A$33:A35)-1,COLUMNS($A$33:A35)-1)<>\"\",OFFSET(DE104_5B!$A$33,ROWS($A$33:A35)-1,COLUMNS($A$33:A35)-1),\"\")","v":2},null,null,null,{"$f":"IF(OFFSET(DE104_5B!$B$33,ROWS($B$33:B35)-1,COLUMNS($B$33:B35)-1)<>\"\",OFFSET(DE104_5B!$B$33,ROWS($B$33:B35)-1,COLUMNS($B$33:B35)-1),\"\")","v":"241473+95.00, -21.96"},null,null,null,null,null,null,null,null,null,null,null,null,null,null,null,null,null,null,{"$f":"IF(OFFSET(DE104_5B!$C$33,ROWS($C$33:C35)-1,COLUMNS($C$33:C35)-1)<>\"\",OFFSET(DE104_5B!$C$33,ROWS($C$33:C35)-1,COLUMNS($C$33:C35)-1),\"\")","v":"SW-549"},null,null,null,null,null,null,null,null,null,null,null,null,null,null,null,null,null,null,null,null,null,null,null,{"$f":"IF(OFFSET(DE104_5B!$D$33,ROWS($D$33:D35)-1,COLUMNS($D$33:D35)-1)<>\"\",OFFSET(DE104_5B!$D$33,ROWS($D$33:D35)-1,COLUMNS($D$33:D35)-1),\"\")","v":943.94},null,null,null,null,{"$f":"IF(OFFSET(DE104_5B!$E$33,ROWS($E$33:E35)-1,COLUMNS($E$33:E35)-1)<>\"\",OFFSET(DE104_5B!$E$33,ROWS($E$33:E35)-1,COLUMNS($E$33:E35)-1),\"\")","v":938.4},null,null,null,null,null,{"$f":"IF(OFFSET(DE104_5B!$F$33,ROWS($F$33:F35)-1,COLUMNS($F$33:F35)-1)<>\"\",OFFSET(DE104_5B!$F$33,ROWS($F$33:F35)-1,COLUMNS($F$33:F35)-1),\"\")","v":""},null,null,null,null,null,null,null,{"$f":"IF(OFFSET(DE104_5B!$G$33,ROWS($G$33:G35)-1,COLUMNS($G$33:G35)-1)<>\"\",OFFSET(DE104_5B!$G$33,ROWS($G$33:G35)-1,COLUMNS($G$33:G35)-1),\"\")","v":""}]
[null,null,null,null,null,null,null,null,null,null,null,null,null,null,null,null,null,null,null,null,null,null,null,null,null,null,null,null,null,null,null,null,null,null,null,null,null,null,null,null,null,null,null,null,null,null,null,null,null,null,null,null,null,null,null,null,null,null,null,null,null,null,null,null,null,null,null,null,null,null,null,null,null,null,null,null,null,null,null,null,null,{"$f":"IF(OFFSET(DE104_5B!$H$34,ROWS($H$34:H36)-1,COLUMNS($H$34:H36)-1)<>\"\",OFFSET(DE104_5B!$H$34,ROWS($H$34:H36)-1,COLUMNS($H$34:H36)-1),\"\")","v":"P-2"},null,null,null,null,null,{"$f":"IF(OFFSET(DE104_5B!$I$34,ROWS($I$34:I36)-1,COLUMNS($I$34:I36)-1)<>\"\",OFFSET(DE104_5B!$I$34,ROWS($I$34:I36)-1,COLUMNS($I$34:I36)-1),\"\")","v":2},null,null,null,{"$f":"IF(OFFSET(DE104_5B!$J$34,ROWS($J$34:J36)-1,COLUMNS($J$34:J36)-1)<>\"\",OFFSET(DE104_5B!$J$34,ROWS($J$34:J36)-1,COLUMNS($J$34:J36)-1),\"\")","v":3},null,null,null,{"$f":"IF(OFFSET(DE104_5B!$K$34,ROWS($K$34:K36)-1,COLUMNS($K$34:K36)-1)<>\"\",OFFSET(DE104_5B!$K$34,ROWS($K$34:K36)-1,COLUMNS($K$34:K36)-1),\"\")","v":2000},null,null,null,null,{"$f":"IF(OFFSET(DE104_5B!$L$34,ROWS($L$34:L36)-1,COLUMNS($L$34:L36)-1)<>\"\",OFFSET(DE104_5B!$L$34,ROWS($L$34:L36)-1,COLUMNS($L$34:L36)-1),\"\")","v":18},null,null,null,null,null,null,{"$f":"IF(OFFSET(DE104_5B!$M$34,ROWS($M$34:M36)-1,COLUMNS($M$34:M36)-1)<>\"\",OFFSET(DE104_5B!$M$34,ROWS($M$34:M36)-1,COLUMNS($M$34:M36)-1),\"\")","v":114},null,null,null,null,null,{"$f":"IF(OFFSET(DE104_5B!$O$34,ROWS($O$34:O36)-1,COLUMNS($O$34:O36)-1)<>\"\",OFFSET(DE104_5B!$O$34,ROWS($O$34:O36)-1,COLUMNS($O$34:O36)-1),\"\")","v":110},null,null,null,null,null,{"$f":"IF(OFFSET(DE104_5B!$P$34,ROWS($P$34:P36)-1,COLUMNS($P$34:P36)-1)<>\"\",OFFSET(DE104_5B!$P$34,ROWS($P$34:P36)-1,COLUMNS($P$34:P36)-1),\"\")","v":1},null,null,null,null,{"$f":"IF(OFFSET(DE104_5B!$Q$34,ROWS($Q$34:Q36)-1,COLUMNS($Q$34:Q36)-1)<>\"\",OFFSET(DE104_5B!$Q$34,ROWS($Q$34:Q36)-1,COLUMNS($Q$34:Q36)-1),\"\")","v":2},null,null,null,null,null,null,null,null,null,{"$f":"IF(OFFSET(DE104_5B!$R$34,ROWS($S$34:S36)-1,COLUMNS($S$34:S36)-1)<>\"\",OFFSET(DE104_5B!$R$34,ROWS($S$34:S36)-1,COLUMNS($S$34:S36)-1),\"\")","v":938.9},null,null,null,null,null,null,null,{"$f":"IF(OFFSET(DE104_5B!$S$34,ROWS($T$34:T36)-1,COLUMNS($T$34:T36)-1)<>\"\",OFFSET(DE104_5B!$S$34,ROWS($T$34:T36)-1,COLUMNS($T$34:T36)-1),\"\")","v":937.8},null,null,null,null,null,null,null,{"$f":"IF(OFFSET(DE104_5B!$T$34,ROWS($U$34:U36)-1,COLUMNS($U$34:U36)-1)<>\"\",OFFSET(DE104_5B!$T$34,ROWS($U$34:U36)-1,COLUMNS($U$34:U36)-1),\"\")","v":""},null,null,null,null,null,null,null,{"$f":"IF(OFFSET(DE104_5B!$U$34,ROWS($V$34:V36)-1,COLUMNS($V$34:V36)-1)<>\"\",OFFSET(DE104_5B!$U$34,ROWS($V$34:V36)-1,COLUMNS($V$34:V36)-1),\"\")","v":"M.4"},null,null,null,null,null,null,{"$f":"IF(OFFSET(DE104_5B!$V$34,ROWS($W$34:W36)-1,COLUMNS($W$34:W36)-1)<>\"\",OFFSET(DE104_5B!$V$34,ROWS($W$34:W36)-1,COLUMNS($W$34:W36)-1),\"\")","v":""}]
[null,null,{"$f":"IF(OFFSET(DE104_5B!$A$33,ROWS($A$33:A37)-1,COLUMNS($A$33:A37)-1)<>\"\",OFFSET(DE104_5B!$A$33,ROWS($A$33:A37)-1,COLUMNS($A$33:A37)-1),\"\")","v":3},null,null,null,{"$f":"IF(OFFSET(DE104_5B!$B$33,ROWS($B$33:B37)-1,COLUMNS($B$33:B37)-1)<>\"\",OFFSET(DE104_5B!$B$33,ROWS($B$33:B37)-1,COLUMNS($B$33:B37)-1),\"\")","v":"241472+80.00, -21.96"},null,null,null,null,null,null,null,null,null,null,null,null,null,null,null,null,null,null,{"$f":"IF(OFFSET(DE104_5B!$C$33,ROWS($C$33:C37)-1,COLUMNS($C$33:C37)-1)<>\"\",OFFSET(DE104_5B!$C$33,ROWS($C$33:C37)-1,COLUMNS($C$33:C37)-1),\"\")","v":"SW-549"},null,null,null,null,null,null,null,null,null,null,null,null,null,null,null,null,null,null,null,null,null,null,null,{"$f":"IF(OFFSET(DE104_5B!$D$33,ROWS($D$33:D37)-1,COLUMNS($D$33:D37)-1)<>\"\",OFFSET(DE104_5B!$D$33,ROWS($D$33:D37)-1,COLUMNS($D$33:D37)-1),\"\")","v":942.7},null,null,null,null,{"$f":"IF(OFFSET(DE104_5B!$E$33,ROWS($E$33:E37)-1,COLUMNS($E$33:E37)-1)<>\"\",OFFSET(DE104_5B!$E$33,ROWS($E$33:E37)-1,COLUMNS($E$33:E37)-1),\"\")","v":937},null,null,null,null,null,{"$f":"IF(OFFSET(DE104_5B!$F$33,ROWS($F$33:F37)-1,COLUMNS($F$33:F37)-1)<>\"\",OFFSET(DE104_5B!$F$33,ROWS($F$33:F37)-1,COLUMNS($F$33:F37)-1),\"\")","v":""},null,null,null,null,null,null,null,{"$f":"IF(OFFSET(DE104_5B!$G$33,ROWS($G$33:G37)-1,COLUMNS($G$33:G37)-1)<>\"\",OFFSET(DE104_5B!$G$33,ROWS($G$33:G37)-1,COLUMNS($G$33:G37)-1),\"\")","v":""}]
[null,null,null,null,null,null,null,null,null,null,null,null,null,null,null,null,null,null,null,null,null,null,null,null,null,null,null,null,null,null,null,null,null,null,null,null,null,null,null,null,null,null,null,null,null,null,null,null,null,null,null,null,null,null,null,null,null,null,null,null,null,null,null,null,null,null,null,null,null,null,null,null,null,null,null,null,null,null,null,null,null,{"$f":"IF(OFFSET(DE104_5B!$H$34,ROWS($H$34:H38)-1,COLUMNS($H$34:H38)-1)<>\"\",OFFSET(DE104_5B!$H$34,ROWS($H$34:H38)-1,COLUMNS($H$34:H38)-1),\"\")","v":"P-3"},null,null,null,null,null,{"$f":"IF(OFFSET(DE104_5B!$I$34,ROWS($I$34:I38)-1,COLUMNS($I$34:I38)-1)<>\"\",OFFSET(DE104_5B!$I$34,ROWS($I$34:I38)-1,COLUMNS($I$34:I38)-1),\"\")","v":3},null,null,null,{"$f":"IF(OFFSET(DE104_5B!$J$34,ROWS($J$34:J38)-1,COLUMNS($J$34:J38)-1)<>\"\",OFFSET(DE104_5B!$J$34,ROWS($J$34:J38)-1,COLUMNS($J$34:J38)-1),\"\")","v":4},null,null,null,{"$f":"IF(OFFSET(DE104_5B!$K$34,ROWS($K$34:K38)-1,COLUMNS($K$34:K38)-1)<>\"\",OFFSET(DE104_5B!$K$34,ROWS($K$34:K38)-1,COLUMNS($K$34:K38)-1),\"\")","v":2000},null,null,null,null,{"$f":"IF(OFFSET(DE104_5B!$L$34,ROWS($L$34:L38)-1,COLUMNS($L$34:L38)-1)<>\"\",OFFSET(DE104_5B!$L$34,ROWS($L$34:L38)-1,COLUMNS($L$34:L38)-1),\"\")","v":18},null,null,null,null,null,null,{"$f":"IF(OFFSET(DE104_5B!$M$34,ROWS($M$34:M38)-1,COLUMNS($M$34:M38)-1)<>\"\",OFFSET(DE104_5B!$M$34,ROWS($M$34:M38)-1,COLUMNS($M$34:M38)-1),\"\")","v":114},null,null,null,null,null,{"$f":"IF(OFFSET(DE104_5B!$O$34,ROWS($O$34:O38)-1,COLUMNS($O$34:O38)-1)<>\"\",OFFSET(DE104_5B!$O$34,ROWS($O$34:O38)-1,COLUMNS($O$34:O38)-1),\"\")","v":110},null,null,null,null,null,{"$f":"IF(OFFSET(DE104_5B!$P$34,ROWS($P$34:P38)-1,COLUMNS($P$34:P38)-1)<>\"\",OFFSET(DE104_5B!$P$34,ROWS($P$34:P38)-1,COLUMNS($P$34:P38)-1),\"\")","v":1.5},null,null,null,null,{"$f":"IF(OFFSET(DE104_5B!$Q$34,ROWS($Q$34:Q38)-1,COLUMNS($Q$34:Q38)-1)<>\"\",OFFSET(DE104_5B!$Q$34,ROWS($Q$34:Q38)-1,COLUMNS($Q$34:Q38)-1),\"\")","v":2},null,null,null,null,null,null,null,null,null,{"$f":"IF(OFFSET(DE104_5B!$R$34,ROWS($S$34:S38)-1,COLUMNS($S$34:S38)-1)<>\"\",OFFSET(DE104_5B!$R$34,ROWS($S$34:S38)-1,COLUMNS($S$34:S38)-1),\"\")","v":937.5},null,null,null,null,null,null,null,{"$f":"IF(OFFSET(DE104_5B!$S$34,ROWS($T$34:T38)-1,COLUMNS($T$34:T38)-1)<>\"\",OFFSET(DE104_5B!$S$34,ROWS($T$34:T38)-1,COLUMNS($T$34:T38)-1),\"\")","v":935.85},null,null,null,null,null,null,null,{"$f":"IF(OFFSET(DE104_5B!$T$34,ROWS($U$34:U38)-1,COLUMNS($U$34:U38)-1)<>\"\",OFFSET(DE104_5B!$T$34,ROWS($U$34:U38)-1,COLUMNS($U$34:U38)-1),\"\")","v":""},null,null,null,null,null,null,null,{"$f":"IF(OFFSET(DE104_5B!$U$34,ROWS($V$34:V38)-1,COLUMNS($V$34:V38)-1)<>\"\",OFFSET(DE104_5B!$U$34,ROWS($V$34:V38)-1,COLUMNS($V$34:V38)-1),\"\")","v":"M.4"},null,null,null,null,null,null,{"$f":"IF(OFFSET(DE104_5B!$V$34,ROWS($W$34:W38)-1,COLUMNS($W$34:W38)-1)<>\"\",OFFSET(DE104_5B!$V$34,ROWS($W$34:W38)-1,COLUMNS($W$34:W38)-1),\"\")","v":""}]
[null,null,{"$f":"IF(OFFSET(DE104_5B!$A$33,ROWS($A$33:A39)-1,COLUMNS($A$33:A39)-1)<>\"\",OFFSET(DE104_5B!$A$33,ROWS($A$33:A39)-1,COLUMNS($A$33:A39)-1),\"\")","v":4},null,null,null,{"$f":"IF(OFFSET(DE104_5B!$B$33,ROWS($B$33:B39)-1,COLUMNS($B$33:B39)-1)<>\"\",OFFSET(DE104_5B!$B$33,ROWS($B$33:B39)-1,COLUMNS($B$33:B39)-1),\"\")","v":"241471+65.00, -21.96"},null,null,null,null,null,null,null,null,null,null,null,null,null,null,null,null,null,null,{"$f":"IF(OFFSET(DE104_5B!$C$33,ROWS($C$33:C39)-1,COLUMNS($C$33:C39)-1)<>\"\",OFFSET(DE104_5B!$C$33,ROWS($C$33:C39)-1,COLUMNS($C$33:C39)-1),\"\")","v":"SW-549"},null,null,null,null,null,null,null,null,null,null,null,null,null,null,null,null,null,null,null,null,null,null,null,{"$f":"IF(OFFSET(DE104_5B!$D$33,ROWS($D$33:D39)-1,COLUMNS($D$33:D39)-1)<>\"\",OFFSET(DE104_5B!$D$33,ROWS($D$33:D39)-1,COLUMNS($D$33:D39)-1),\"\")","v":941.09},null,null,null,null,{"$f":"IF(OFFSET(DE104_5B!$E$33,ROWS($E$33:E39)-1,COLUMNS($E$33:E39)-1)<>\"\",OFFSET(DE104_5B!$E$33,ROWS($E$33:E39)-1,COLUMNS($E$33:E39)-1),\"\")","v":935},null,null,null,null,null,{"$f":"IF(OFFSET(DE104_5B!$F$33,ROWS($F$33:F39)-1,COLUMNS($F$33:F39)-1)<>\"\",OFFSET(DE104_5B!$F$33,ROWS($F$33:F39)-1,COLUMNS($F$33:F39)-1),\"\")","v":""},null,null,null,null,null,null,null,{"$f":"IF(OFFSET(DE104_5B!$G$33,ROWS($G$33:G39)-1,COLUMNS($G$33:G39)-1)<>\"\",OFFSET(DE104_5B!$G$33,ROWS($G$33:G39)-1,COLUMNS($G$33:G39)-1),\"\")","v":""}]
[null,null,null,null,null,null,null,null,null,null,null,null,null,null,null,null,null,null,null,null,null,null,null,null,null,null,null,null,null,null,null,null,null,null,null,null,null,null,null,null,null,null,null,null,null,null,null,null,null,null,null,null,null,null,null,null,null,null,null,null,null,null,null,null,null,null,null,null,null,null,null,null,null,null,null,null,null,null,null,null,null,{"$f":"IF(OFFSET(DE104_5B!$H$34,ROWS($H$34:H40)-1,COLUMNS($H$34:H40)-1)<>\"\",OFFSET(DE104_5B!$H$34,ROWS($H$34:H40)-1,COLUMNS($H$34:H40)-1),\"\")","v":"P-4"},null,null,null,null,null,{"$f":"IF(OFFSET(DE104_5B!$I$34,ROWS($I$34:I40)-1,COLUMNS($I$34:I40)-1)<>\"\",OFFSET(DE104_5B!$I$34,ROWS($I$34:I40)-1,COLUMNS($I$34:I40)-1),\"\")","v":4},null,null,null,{"$f":"IF(OFFSET(DE104_5B!$J$34,ROWS($J$34:J40)-1,COLUMNS($J$34:J40)-1)<>\"\",OFFSET(DE104_5B!$J$34,ROWS($J$34:J40)-1,COLUMNS($J$34:J40)-1),\"\")","v":5},null,null,null,{"$f":"IF(OFFSET(DE104_5B!$K$34,ROWS($K$34:K40)-1,COLUMNS($K$34:K40)-1)<>\"\",OFFSET(DE104_5B!$K$34,ROWS($K$34:K40)-1,COLUMNS($K$34:K40)-1),\"\")","v":2000},null,null,null,null,{"$f":"IF(OFFSET(DE104_5B!$L$34,ROWS($L$34:L40)-1,COLUMNS($L$34:L40)-1)<>\"\",OFFSET(DE104_5B!$L$34,ROWS($L$34:L40)-1,COLUMNS($L$34:L40)-1),\"\")","v":18},null,null,null,null,null,null,{"$f":"IF(OFFSET(DE104_5B!$M$34,ROWS($M$34:M40)-1,COLUMNS($M$34:M40)-1)<>\"\",OFFSET(DE104_5B!$M$34,ROWS($M$34:M40)-1,COLUMNS($M$34:M40)-1),\"\")","v":79},null,null,null,null,null,{"$f":"IF(OFFSET(DE104_5B!$O$34,ROWS($O$34:O40)-1,COLUMNS($O$34:O40)-1)<>\"\",OFFSET(DE104_5B!$O$34,ROWS($O$34:O40)-1,COLUMNS($O$34:O40)-1),\"\")","v":74.02},null,null,null,null,null,{"$f":"IF(OFFSET(DE104_5B!$P$34,ROWS($P$34:P40)-1,COLUMNS($P$34:P40)-1)<>\"\",OFFSET(DE104_5B!$P$34,ROWS($P$34:P40)-1,COLUMNS($P$34:P40)-1),\"\")","v":2},null,null,null,null,{"$f":"IF(OFFSET(DE104_5B!$Q$34,ROWS($Q$34:Q40)-1,COLUMNS($Q$34:Q40)-1)<>\"\",OFFSET(DE104_5B!$Q$34,ROWS($Q$34:Q40)-1,COLUMNS($Q$34:Q40)-1),\"\")","v":2},null,null,null,null,null,null,null,null,null,{"$f":"IF(OFFSET(DE104_5B!$R$34,ROWS($S$34:S40)-1,COLUMNS($S$34:S40)-1)<>\"\",OFFSET(DE104_5B!$R$34,ROWS($S$34:S40)-1,COLUMNS($S$34:S40)-1),\"\")","v":935.5},null,null,null,null,null,null,null,{"$f":"IF(OFFSET(DE104_5B!$S$34,ROWS($T$34:T40)-1,COLUMNS($T$34:T40)-1)<>\"\",OFFSET(DE104_5B!$S$34,ROWS($T$34:T40)-1,COLUMNS($T$34:T40)-1),\"\")","v":934.02},null,null,null,null,null,null,null,{"$f":"IF(OFFSET(DE104_5B!$T$34,ROWS($U$34:U40)-1,COLUMNS($U$34:U40)-1)<>\"\",OFFSET(DE104_5B!$T$34,ROWS($U$34:U40)-1,COLUMNS($U$34:U40)-1),\"\")","v":""},null,null,null,null,null,null,null,{"$f":"IF(OFFSET(DE104_5B!$U$34,ROWS($V$34:V40)-1,COLUMNS($V$34:V40)-1)<>\"\",OFFSET(DE104_5B!$U$34,ROWS($V$34:V40)-1,COLUMNS($V$34:V40)-1),\"\")","v":"M.4"},null,null,null,null,null,null,{"$f":"IF(OFFSET(DE104_5B!$V$34,ROWS($W$34:W40)-1,COLUMNS($W$34:W40)-1)<>\"\",OFFSET(DE104_5B!$V$34,ROWS($W$34:W40)-1,COLUMNS($W$34:W40)-1),\"\")","v":""}]
[null,null,{"$f":"IF(OFFSET(DE104_5B!$A$33,ROWS($A$33:A41)-1,COLUMNS($A$33:A41)-1)<>\"\",OFFSET(DE104_5B!$A$33,ROWS($A$33:A41)-1,COLUMNS($A$33:A41)-1),\"\")","v":5},null,null,null,{"$f":"IF(OFFSET(DE104_5B!$B$33,ROWS($B$33:B41)-1,COLUMNS($B$33:B41)-1)<>\"\",OFFSET(DE104_5B!$B$33,ROWS($B$33:B41)-1,COLUMNS($B$33:B41)-1),\"\")","v":"241470+87.00, -23.58"},null,null,null,null,null,null,null,null,null,null,null,null,null,null,null,null,null,null,{"$f":"IF(OFFSET(DE104_5B!$C$33,ROWS($C$33:C41)-1,COLUMNS($C$33:C41)-1)<>\"\",OFFSET(DE104_5B!$C$33,ROWS($C$33:C41)-1,COLUMNS($C$33:C41)-1),\"\")","v":"SW-538"},null,null,null,null,null,null,null,null,null,null,null,null,null,null,null,null,null,null,null,null,null,null,null,{"$f":"IF(OFFSET(DE104_5B!$D$33,ROWS($D$33:D41)-1,COLUMNS($D$33:D41)-1)<>\"\",OFFSET(DE104_5B!$D$33,ROWS($D$33:D41)-1,COLUMNS($D$33:D41)-1),\"\")","v":939.62},null,null,null,null,{"$f":"IF(OFFSET(DE104_5B!$E$33,ROWS($E$33:E41)-1,COLUMNS($E$33:E41)-1)<>\"\",OFFSET(DE104_5B!$E$33,ROWS($E$33:E41)-1,COLUMNS($E$33:E41)-1),\"\")","v":933},null,null,null,null,null,{"$f":"IF(OFFSET(DE104_5B!$F$33,ROWS($F$33:F41)-1,COLUMNS($F$33:F41)-1)<>\"\",OFFSET(DE104_5B!$F$33,ROWS($F$33:F41)-1,COLUMNS($F$33:F41)-1),\"\")","v":""},null,null,null,null,null,null,null,{"$f":"IF(OFFSET(DE104_5B!$G$33,ROWS($G$33:G41)-1,COLUMNS($G$33:G41)-1)<>\"\",OFFSET(DE104_5B!$G$33,ROWS($G$33:G41)-1,COLUMNS($G$33:G41)-1),\"\")","v":""}]
[null,null,null,null,null,null,null,null,null,null,null,null,null,null,null,null,null,null,null,null,null,null,null,null,null,null,null,null,null,null,null,null,null,null,null,null,null,null,null,null,null,null,null,null,null,null,null,null,null,null,null,null,null,null,null,null,null,null,null,null,null,null,null,null,null,null,null,null,null,null,null,null,null,null,null,null,null,null,null,null,null,{"$f":"IF(OFFSET(DE104_5B!$H$34,ROWS($H$34:H42)-1,COLUMNS($H$34:H42)-1)<>\"\",OFFSET(DE104_5B!$H$34,ROWS($H$34:H42)-1,COLUMNS($H$34:H42)-1),\"\")","v":"P-5"},null,null,null,null,null,{"$f":"IF(OFFSET(DE104_5B!$I$34,ROWS($I$34:I42)-1,COLUMNS($I$34:I42)-1)<>\"\",OFFSET(DE104_5B!$I$34,ROWS($I$34:I42)-1,COLUMNS($I$34:I42)-1),\"\")","v":5},null,null,null,{"$f":"IF(OFFSET(DE104_5B!$J$34,ROWS($J$34:J42)-1,COLUMNS($J$34:J42)-1)<>\"\",OFFSET(DE104_5B!$J$34,ROWS($J$34:J42)-1,COLUMNS($J$34:J42)-1),\"\")","v":6},null,null,null,{"$f":"IF(OFFSET(DE104_5B!$K$34,ROWS($K$34:K42)-1,COLUMNS($K$34:K42)-1)<>\"\",OFFSET(DE104_5B!$K$34,ROWS($K$34:K42)-1,COLUMNS($K$34:K42)-1),\"\")","v":2000},null,null,null,null,{"$f":"IF(OFFSET(DE104_5B!$L$34,ROWS($L$34:L42)-1,COLUMNS($L$34:L42)-1)<>\"\",OFFSET(DE104_5B!$L$34,ROWS($L$34:L42)-1,COLUMNS($L$34:L42)-1),\"\")","v":18},null,null,null,null,null,null,{"$f":"IF(OFFSET(DE104_5B!$M$34,ROWS($M$34:M42)-1,COLUMNS($M$34:M42)-1)<>\"\",OFFSET(DE104_5B!$M$34,ROWS($M$34:M42)-1,COLUMNS($M$34:M42)-1),\"\")","v":16},null,null,null,null,null,{"$f":"IF(OFFSET(DE104_5B!$O$34,ROWS($O$34:O42)-1,COLUMNS($O$34:O42)-1)<>\"\",OFFSET(DE104_5B!$O$34,ROWS($O$34:O42)-1,COLUMNS($O$34:O42)-1),\"\")","v":11.61},null,null,null,null,null,{"$f":"IF(OFFSET(DE104_5B!$P$34,ROWS($P$34:P42)-1,COLUMNS($P$34:P42)-1)<>\"\",OFFSET(DE104_5B!$P$34,ROWS($P$34:P42)-1,COLUMNS($P$34:P42)-1),\"\")","v":4},null,null,null,null,{"$f":"IF(OFFSET(DE104_5B!$Q$34,ROWS($Q$34:Q42)-1,COLUMNS($Q$34:Q42)-1)<>\"\",OFFSET(DE104_5B!$Q$34,ROWS($Q$34:Q42)-1,COLUMNS($Q$34:Q42)-1),\"\")","v":2},null,null,null,null,null,null,null,null,null,{"$f":"IF(OFFSET(DE104_5B!$R$34,ROWS($S$34:S42)-1,COLUMNS($S$34:S42)-1)<>\"\",OFFSET(DE104_5B!$R$34,ROWS($S$34:S42)-1,COLUMNS($S$34:S42)-1),\"\")","v":933.5},null,null,null,null,null,null,null,{"$f":"IF(OFFSET(DE104_5B!$S$34,ROWS($T$34:T42)-1,COLUMNS($T$34:T42)-1)<>\"\",OFFSET(DE104_5B!$S$34,ROWS($T$34:T42)-1,COLUMNS($T$34:T42)-1),\"\")","v":933.04},null,null,null,null,null,null,null,{"$f":"IF(OFFSET(DE104_5B!$T$34,ROWS($U$34:U42)-1,COLUMNS($U$34:U42)-1)<>\"\",OFFSET(DE104_5B!$T$34,ROWS($U$34:U42)-1,COLUMNS($U$34:U42)-1),\"\")","v":""},null,null,null,null,null,null,null,{"$f":"IF(OFFSET(DE104_5B!$U$34,ROWS($V$34:V42)-1,COLUMNS($V$34:V42)-1)<>\"\",OFFSET(DE104_5B!$U$34,ROWS($V$34:V42)-1,COLUMNS($V$34:V42)-1),\"\")","v":"M.4"},null,null,null,null,null,null,{"$f":"IF(OFFSET(DE104_5B!$V$34,ROWS($W$34:W42)-1,COLUMNS($W$34:W42)-1)<>\"\",OFFSET(DE104_5B!$V$34,ROWS($W$34:W42)-1,COLUMNS($W$34:W42)-1),\"\")","v":""}]
[null,null,{"$f":"IF(OFFSET(DE104_5B!$A$33,ROWS($A$33:A43)-1,COLUMNS($A$33:A43)-1)<>\"\",OFFSET(DE104_5B!$A$33,ROWS($A$33:A43)-1,COLUMNS($A$33:A43)-1),\"\")","v":6},null,null,null,{"$f":"IF(OFFSET(DE104_5B!$B$33,ROWS($B$33:B43)-1,COLUMNS($B$33:B43)-1)<>\"\",OFFSET(DE104_5B!$B$33,ROWS($B$33:B43)-1,COLUMNS($B$33:B43)-1),\"\")","v":"241470+87.00, -35"},null,null,null,null,null,null,null,null,null,null,null,null,null,null,null,null,null,null,{"$f":"IF(OFFSET(DE104_5B!$C$33,ROWS($C$33:C43)-1,COLUMNS($C$33:C43)-1)<>\"\",OFFSET(DE104_5B!$C$33,ROWS($C$33:C43)-1,COLUMNS($C$33:C43)-1),\"\")","v":"DR-122"},null,null,null,null,null,null,null,null,null,null,null,null,null,null,null,null,null,null,null,null,null,null,null,{"$f":"IF(OFFSET(DE104_5B!$D$33,ROWS($D$33:D43)-1,COLUMNS($D$33:D43)-1)<>\"\",OFFSET(DE104_5B!$D$33,ROWS($D$33:D43)-1,COLUMNS($D$33:D43)-1),\"\")","v":937.97},null,null,null,null,{"$f":"IF(OFFSET(DE104_5B!$E$33,ROWS($E$33:E43)-1,COLUMNS($E$33:E43)-1)<>\"\",OFFSET(DE104_5B!$E$33,ROWS($E$33:E43)-1,COLUMNS($E$33:E43)-1),\"\")","v":933.04},null,null,null,null,null,{"$f":"IF(OFFSET(DE104_5B!$F$33,ROWS($F$33:F43)-1,COLUMNS($F$33:F43)-1)<>\"\",OFFSET(DE104_5B!$F$33,ROWS($F$33:F43)-1,COLUMNS($F$33:F43)-1),\"\")","v":""},null,null,null,null,null,null,null,{"$f":"IF(OFFSET(DE104_5B!$G$33,ROWS($G$33:G43)-1,COLUMNS($G$33:G43)-1)<>\"\",OFFSET(DE104_5B!$G$33,ROWS($G$33:G43)-1,COLUMNS($G$33:G43)-1),\"\")","v":""}]
[null,null,null,null,null,null,null,null,null,null,null,null,null,null,null,null,null,null,null,null,null,null,null,null,null,null,null,null,null,null,null,null,null,null,null,null,null,null,null,null,null,null,null,null,null,null,null,null,null,null,null,null,null,null,null,null,null,null,null,null,null,null,null,null,null,null,null,null,null,null,null,null,null,null,null,null,null,null,null,null,null,{"$f":"IF(OFFSET(DE104_5B!$H$34,ROWS($H$34:H44)-1,COLUMNS($H$34:H44)-1)<>\"\",OFFSET(DE104_5B!$H$34,ROWS($H$34:H44)-1,COLUMNS($H$34:H44)-1),\"\")","v":"P-6"},null,null,null,null,null,{"$f":"IF(OFFSET(DE104_5B!$I$34,ROWS($I$34:I44)-1,COLUMNS($I$34:I44)-1)<>\"\",OFFSET(DE104_5B!$I$34,ROWS($I$34:I44)-1,COLUMNS($I$34:I44)-1),\"\")","v":6},null,null,null,{"$f":"IF(OFFSET(DE104_5B!$J$34,ROWS($J$34:J44)-1,COLUMNS($J$34:J44)-1)<>\"\",OFFSET(DE104_5B!$J$34,ROWS($J$34:J44)-1,COLUMNS($J$34:J44)-1),\"\")","v":7},null,null,null,{"$f":"IF(OFFSET(DE104_5B!$K$34,ROWS($K$34:K44)-1,COLUMNS($K$34:K44)-1)<>\"\",OFFSET(DE104_5B!$K$34,ROWS($K$34:K44)-1,COLUMNS($K$34:K44)-1),\"\")","v":2000},null,null,null,null,{"$f":"IF(OFFSET(DE104_5B!$L$34,ROWS($L$34:L44)-1,COLUMNS($L$34:L44)-1)<>\"\",OFFSET(DE104_5B!$L$34,ROWS($L$34:L44)-1,COLUMNS($L$34:L44)-1),\"\")","v":18},null,null,null,null,null,null,{"$f":"IF(OFFSET(DE104_5B!$M$34,ROWS($M$34:M44)-1,COLUMNS($M$34:M44)-1)<>\"\",OFFSET(DE104_5B!$M$34,ROWS($M$34:M44)-1,COLUMNS($M$34:M44)-1),\"\")","v":57},null,null,null,null,null,{"$f":"IF(OFFSET(DE104_5B!$O$34,ROWS($O$34:O44)-1,COLUMNS($O$34:O44)-1)<>\"\",OFFSET(DE104_5B!$O$34,ROWS($O$34:O44)-1,COLUMNS($O$34:O44)-1),\"\")","v":53},null,null,null,null,null,{"$f":"IF(OFFSET(DE104_5B!$P$34,ROWS($P$34:P44)-1,COLUMNS($P$34:P44)-1)<>\"\",OFFSET(DE104_5B!$P$34,ROWS($P$34:P44)-1,COLUMNS($P$34:P44)-1),\"\")","v":22.49},null,null,null,null,{"$f":"IF(OFFSET(DE104_5B!$Q$34,ROWS($Q$34:Q44)-1,COLUMNS($Q$34:Q44)-1)<>\"\",OFFSET(DE104_5B!$Q$34,ROWS($Q$34:Q44)-1,COLUMNS($Q$34:Q44)-1),\"\")","v":2},null,null,null,null,null,null,null,null,null,{"$f":"IF(OFFSET(DE104_5B!$R$34,ROWS($S$34:S44)-1,COLUMNS($S$34:S44)-1)<>\"\",OFFSET(DE104_5B!$R$34,ROWS($S$34:S44)-1,COLUMNS($S$34:S44)-1),\"\")","v":933.04},null,null,null,null,null,null,null,{"$f":"IF(OFFSET(DE104_5B!$S$34,ROWS($T$34:T44)-1,COLUMNS($T$34:T44)-1)<>\"\",OFFSET(DE104_5B!$S$34,ROWS($T$34:T44)-1,COLUMNS($T$34:T44)-1),\"\")","v":921.12},null,null,null,null,null,null,null,{"$f":"IF(OFFSET(DE104_5B!$T$34,ROWS($U$34:U44)-1,COLUMNS($U$34:U44)-1)<>\"\",OFFSET(DE104_5B!$T$34,ROWS($U$34:U44)-1,COLUMNS($U$34:U44)-1),\"\")","v":""},null,null,null,null,null,null,null,{"$f":"IF(OFFSET(DE104_5B!$U$34,ROWS($V$34:V44)-1,COLUMNS($V$34:V44)-1)<>\"\",OFFSET(DE104_5B!$U$34,ROWS($V$34:V44)-1,COLUMNS($V$34:V44)-1),\"\")","v":"M.4"},null,null,null,null,null,null,{"$f":"IF(OFFSET(DE104_5B!$V$34,ROWS($W$34:W44)-1,COLUMNS($W$34:W44)-1)<>\"\",OFFSET(DE104_5B!$V$34,ROWS($W$34:W44)-1,COLUMNS($W$34:W44)-1),\"\")","v":""}]
[null,null,{"$f":"IF(OFFSET(DE104_5B!$A$33,ROWS($A$33:A45)-1,COLUMNS($A$33:A45)-1)<>\"\",OFFSET(DE104_5B!$A$33,ROWS($A$33:A45)-1,COLUMNS($A$33:A45)-1),\"\")","v":7},null,null,null,{"$f":"IF(OFFSET(DE104_5B!$B$33,ROWS($B$33:B45)-1,COLUMNS($B$33:B45)-1)<>\"\",OFFSET(DE104_5B!$B$33,ROWS($B$33:B45)-1,COLUMNS($B$33:B45)-1),\"\")","v":"241470+87.00, -88"},null,null,null,null,null,null,null,null,null,null,null,null,null,null,null,null,null,null,{"$f":"IF(OFFSET(DE104_5B!$C$33,ROWS($C$33:C45)-1,COLUMNS($C$33:C45)-1)<>\"\",OFFSET(DE104_5B!$C$33,ROWS($C$33:C45)-1,COLUMNS($C$33:C45)-1),\"\")","v":"DR-122"},null,null,null,null,null,null,null,null,null,null,null,null,null,null,null,null,null,null,null,null,null,null,null,{"$f":"IF(OFFSET(DE104_5B!$D$33,ROWS($D$33:D45)-1,COLUMNS($D$33:D45)-1)<>\"\",OFFSET(DE104_5B!$D$33,ROWS($D$33:D45)-1,COLUMNS($D$33:D45)-1),\"\")","v":922.9},null,null,null,null,{"$f":"IF(OFFSET(DE104_5B!$E$33,ROWS($E$33:E45)-1,COLUMNS($E$33:E45)-1)<>\"\",OFFSET(DE104_5B!$E$33,ROWS($E$33:E45)-1,COLUMNS($E$33:E45)-1),\"\")","v":921.12},null,null,null,null,null,{"$f":"IF(OFFSET(DE104_5B!$F$33,ROWS($F$33:F45)-1,COLUMNS($F$33:F45)-1)<>\"\",OFFSET(DE104_5B!$F$33,ROWS($F$33:F45)-1,COLUMNS($F$33:F45)-1),\"\")","v":""},null,null,null,null,null,null,null,{"$f":"IF(OFFSET(DE104_5B!$G$33,ROWS($G$33:G45)-1,COLUMNS($G$33:G45)-1)<>\"\",OFFSET(DE104_5B!$G$33,ROWS($G$33:G45)-1,COLUMNS($G$33:G45)-1),\"\")","v":""}]
[null,null,null,null,null,null,null,null,null,null,null,null,null,null,null,null,null,null,null,null,null,null,null,null,null,null,null,null,null,null,null,null,null,null,null,null,null,null,null,null,null,null,null,null,null,null,null,null,null,null,null,null,null,null,null,null,null,null,null,null,null,null,null,null,null,null,null,null,null,null,null,null,null,null,null,null,null,null,null,null,null,{"$f":"IF(OFFSET(DE104_5B!$H$34,ROWS($H$34:H46)-1,COLUMNS($H$34:H46)-1)<>\"\",OFFSET(DE104_5B!$H$34,ROWS($H$34:H46)-1,COLUMNS($H$34:H46)-1),\"\")","v":"P-7"},null,null,null,null,null,{"$f":"IF(OFFSET(DE104_5B!$I$34,ROWS($I$34:I46)-1,COLUMNS($I$34:I46)-1)<>\"\",OFFSET(DE104_5B!$I$34,ROWS($I$34:I46)-1,COLUMNS($I$34:I46)-1),\"\")","v":7},null,null,null,{"$f":"IF(OFFSET(DE104_5B!$J$34,ROWS($J$34:J46)-1,COLUMNS($J$34:J46)-1)<>\"\",OFFSET(DE104_5B!$J$34,ROWS($J$34:J46)-1,COLUMNS($J$34:J46)-1),\"\")","v":8},null,null,null,{"$f":"IF(OFFSET(DE104_5B!$K$34,ROWS($K$34:K46)-1,COLUMNS($K$34:K46)-1)<>\"\",OFFSET(DE104_5B!$K$34,ROWS($K$34:K46)-1,COLUMNS($K$34:K46)-1),\"\")","v":2000},null,null,null,null,{"$f":"IF(OFFSET(DE104_5B!$L$34,ROWS($L$34:L46)-1,COLUMNS($L$34:L46)-1)<>\"\",OFFSET(DE104_5B!$L$34,ROWS($L$34:L46)-1,COLUMNS($L$34:L46)-1),\"\")","v":18},null,null,null,null,null,null,{"$f":"IF(OFFSET(DE104_5B!$M$34,ROWS($M$34:M46)-1,COLUMNS($M$34:M46)-1)<>\"\",OFFSET(DE104_5B!$M$34,ROWS($M$34:M46)-1,COLUMNS($M$34:M46)-1),\"\")","v":8},null,null,null,null,null,{"$f":"IF(OFFSET(DE104_5B!$O$34,ROWS($O$34:O46)-1,COLUMNS($O$34:O46)-1)<>\"\",OFFSET(DE104_5B!$O$34,ROWS($O$34:O46)-1,COLUMNS($O$34:O46)-1),\"\")","v":5.92},null,null,null,null,null,{"$f":"IF(OFFSET(DE104_5B!$P$34,ROWS($P$34:P46)-1,COLUMNS($P$34:P46)-1)<>\"\",OFFSET(DE104_5B!$P$34,ROWS($P$34:P46)-1,COLUMNS($P$34:P46)-1),\"\")","v":2},null,null,null,null,{"$f":"IF(OFFSET(DE104_5B!$Q$34,ROWS($Q$34:Q46)-1,COLUMNS($Q$34:Q46)-1)<>\"\",OFFSET(DE104_5B!$Q$34,ROWS($Q$34:Q46)-1,COLUMNS($Q$34:Q46)-1),\"\")","v":2},null,null,null,null,null,null,null,null,null,{"$f":"IF(OFFSET(DE104_5B!$R$34,ROWS($S$34:S46)-1,COLUMNS($S$34:S46)-1)<>\"\",OFFSET(DE104_5B!$R$34,ROWS($S$34:S46)-1,COLUMNS($S$34:S46)-1),\"\")","v":921.12},null,null,null,null,null,null,null,{"$f":"IF(OFFSET(DE104_5B!$S$34,ROWS($T$34:T46)-1,COLUMNS($T$34:T46)-1)<>\"\",OFFSET(DE104_5B!$S$34,ROWS($T$34:T46)-1,COLUMNS($T$34:T46)-1),\"\")","v":921},null,null,null,null,null,null,null,{"$f":"IF(OFFSET(DE104_5B!$T$34,ROWS($U$34:U46)-1,COLUMNS($U$34:U46)-1)<>\"\",OFFSET(DE104_5B!$T$34,ROWS($U$34:U46)-1,COLUMNS($U$34:U46)-1),\"\")","v":""},null,null,null,null,null,null,null,{"$f":"IF(OFFSET(DE104_5B!$U$34,ROWS($V$34:V46)-1,COLUMNS($V$34:V46)-1)<>\"\",OFFSET(DE104_5B!$U$34,ROWS($V$34:V46)-1,COLUMNS($V$34:V46)-1),\"\")","v":"M.4"},null,null,null,null,null,null,{"$f":"IF(OFFSET(DE104_5B!$V$34,ROWS($W$34:W46)-1,COLUMNS($W$34:W46)-1)<>\"\",OFFSET(DE104_5B!$V$34,ROWS($W$34:W46)-1,COLUMNS($W$34:W46)-1),\"\")","v":""}]
[null,null,{"$f":"IF(OFFSET(DE104_5B!$A$33,ROWS($A$33:A47)-1,COLUMNS($A$33:A47)-1)<>\"\",OFFSET(DE104_5B!$A$33,ROWS($A$33:A47)-1,COLUMNS($A$33:A47)-1),\"\")","v":8},null,null,null,{"$f":"IF(OFFSET(DE104_5B!$B$33,ROWS($B$33:B47)-1,COLUMNS($B$33:B47)-1)<>\"\",OFFSET(DE104_5B!$B$33,ROWS($B$33:B47)-1,COLUMNS($B$33:B47)-1),\"\")","v":"241470+87.00, -100.05"},null,null,null,null,null,null,null,null,null,null,null,null,null,null,null,null,null,null,{"$f":"IF(OFFSET(DE104_5B!$C$33,ROWS($C$33:C47)-1,COLUMNS($C$33:C47)-1)<>\"\",OFFSET(DE104_5B!$C$33,ROWS($C$33:C47)-1,COLUMNS($C$33:C47)-1),\"\")","v":"DR-201 (18\")"},null,null,null,null,null,null,null,null,null,null,null,null,null,null,null,null,null,null,null,null,null,null,null,{"$f":"IF(OFFSET(DE104_5B!$D$33,ROWS($D$33:D47)-1,COLUMNS($D$33:D47)-1)<>\"\",OFFSET(DE104_5B!$D$33,ROWS($D$33:D47)-1,COLUMNS($D$33:D47)-1),\"\")","v":"---"},null,null,null,null,{"$f":"IF(OFFSET(DE104_5B!$E$33,ROWS($E$33:E47)-1,COLUMNS($E$33:E47)-1)<>\"\",OFFSET(DE104_5B!$E$33,ROWS($E$33:E47)-1,COLUMNS($E$33:E47)-1),\"\")","v":921},null,null,null,null,null,{"$f":"IF(OFFSET(DE104_5B!$F$33,ROWS($F$33:F47)-1,COLUMNS($F$33:F47)-1)<>\"\",OFFSET(DE104_5B!$F$33,ROWS($F$33:F47)-1,COLUMNS($F$33:F47)-1),\"\")","v":""},null,null,null,null,null,null,null,{"$f":"IF(OFFSET(DE104_5B!$G$33,ROWS($G$33:G47)-1,COLUMNS($G$33:G47)-1)<>\"\",OFFSET(DE104_5B!$G$33,ROWS($G$33:G47)-1,COLUMNS($G$33:G47)-1),\"\")","v":""}]
[null,null,null,null,null,null,null,null,null,null,null,null,null,null,null,null,null,null,null,null,null,null,null,null,null,null,null,null,null,null,null,null,null,null,null,null,null,null,null,null,null,null,null,null,null,null,null,null,null,null,null,null,null,null,null,null,null,null,null,null,null,null,null,null,null,null,null,null,null,null,null,null,null,null,null,null,null,null,null,null,null,{"$f":"IF(OFFSET(DE104_5B!$H$34,ROWS($H$34:H48)-1,COLUMNS($H$34:H48)-1)<>\"\",OFFSET(DE104_5B!$H$34,ROWS($H$34:H48)-1,COLUMNS($H$34:H48)-1),\"\")","v":""},null,null,null,null,null,{"$f":"IF(OFFSET(DE104_5B!$I$34,ROWS($I$34:I48)-1,COLUMNS($I$34:I48)-1)<>\"\",OFFSET(DE104_5B!$I$34,ROWS($I$34:I48)-1,COLUMNS($I$34:I48)-1),\"\")","v":""},null,null,null,{"$f":"IF(OFFSET(DE104_5B!$J$34,ROWS($J$34:J48)-1,COLUMNS($J$34:J48)-1)<>\"\",OFFSET(DE104_5B!$J$34,ROWS($J$34:J48)-1,COLUMNS($J$34:J48)-1),\"\")","v":""},null,null,null,{"$f":"IF(OFFSET(DE104_5B!$K$34,ROWS($K$34:K48)-1,COLUMNS($K$34:K48)-1)<>\"\",OFFSET(DE104_5B!$K$34,ROWS($K$34:K48)-1,COLUMNS($K$34:K48)-1),\"\")","v":""},null,null,null,null,{"$f":"IF(OFFSET(DE104_5B!$L$34,ROWS($L$34:L48)-1,COLUMNS($L$34:L48)-1)<>\"\",OFFSET(DE104_5B!$L$34,ROWS($L$34:L48)-1,COLUMNS($L$34:L48)-1),\"\")","v":""},null,null,null,null,null,null,{"$f":"IF(OFFSET(DE104_5B!$M$34,ROWS($M$34:M48)-1,COLUMNS($M$34:M48)-1)<>\"\",OFFSET(DE104_5B!$M$34,ROWS($M$34:M48)-1,COLUMNS($M$34:M48)-1),\"\")","v":""},null,null,null,null,null,{"$f":"IF(OFFSET(DE104_5B!$O$34,ROWS($O$34:O48)-1,COLUMNS($O$34:O48)-1)<>\"\",OFFSET(DE104_5B!$O$34,ROWS($O$34:O48)-1,COLUMNS($O$34:O48)-1),\"\")","v":""},null,null,null,null,null,{"$f":"IF(OFFSET(DE104_5B!$P$34,ROWS($P$34:P48)-1,COLUMNS($P$34:P48)-1)<>\"\",OFFSET(DE104_5B!$P$34,ROWS($P$34:P48)-1,COLUMNS($P$34:P48)-1),\"\")","v":""},null,null,null,null,{"$f":"IF(OFFSET(DE104_5B!$Q$34,ROWS($Q$34:Q48)-1,COLUMNS($Q$34:Q48)-1)<>\"\",OFFSET(DE104_5B!$Q$34,ROWS($Q$34:Q48)-1,COLUMNS($Q$34:Q48)-1),\"\")","v":""},null,null,null,null,null,null,null,null,null,{"$f":"IF(OFFSET(DE104_5B!$R$34,ROWS($S$34:S48)-1,COLUMNS($S$34:S48)-1)<>\"\",OFFSET(DE104_5B!$R$34,ROWS($S$34:S48)-1,COLUMNS($S$34:S48)-1),\"\")","v":""},null,null,null,null,null,null,null,{"$f":"IF(OFFSET(DE104_5B!$S$34,ROWS($T$34:T48)-1,COLUMNS($T$34:T48)-1)<>\"\",OFFSET(DE104_5B!$S$34,ROWS($T$34:T48)-1,COLUMNS($T$34:T48)-1),\"\")","v":""},null,null,null,null,null,null,null,{"$f":"IF(OFFSET(DE104_5B!$T$34,ROWS($U$34:U48)-1,COLUMNS($U$34:U48)-1)<>\"\",OFFSET(DE104_5B!$T$34,ROWS($U$34:U48)-1,COLUMNS($U$34:U48)-1),\"\")","v":""},null,null,null,null,null,null,null,{"$f":"IF(OFFSET(DE104_5B!$U$34,ROWS($V$34:V48)-1,COLUMNS($V$34:V48)-1)<>\"\",OFFSET(DE104_5B!$U$34,ROWS($V$34:V48)-1,COLUMNS($V$34:V48)-1),\"\")","v":""},null,null,null,null,null,null,{"$f":"IF(OFFSET(DE104_5B!$V$34,ROWS($W$34:W48)-1,COLUMNS($W$34:W48)-1)<>\"\",OFFSET(DE104_5B!$V$34,ROWS($W$34:W48)-1,COLUMNS($W$34:W48)-1),\"\")","v":""}]
[null,null,{"$f":"IF(OFFSET(DE104_5B!$A$33,ROWS($A$33:A49)-1,COLUMNS($A$33:A49)-1)<>\"\",OFFSET(DE104_5B!$A$33,ROWS($A$33:A49)-1,COLUMNS($A$33:A49)-1),\"\")","v":""},null,null,null,{"$f":"IF(OFFSET(DE104_5B!$B$33,ROWS($B$33:B49)-1,COLUMNS($B$33:B49)-1)<>\"\",OFFSET(DE104_5B!$B$33,ROWS($B$33:B49)-1,COLUMNS($B$33:B49)-1),\"\")","v":""},null,null,null,null,null,null,null,null,null,null,null,null,null,null,null,null,null,null,{"$f":"IF(OFFSET(DE104_5B!$C$33,ROWS($C$33:C49)-1,COLUMNS($C$33:C49)-1)<>\"\",OFFSET(DE104_5B!$C$33,ROWS($C$33:C49)-1,COLUMNS($C$33:C49)-1),\"\")","v":""},null,null,null,null,null,null,null,null,null,null,null,null,null,null,null,null,null,null,null,null,null,null,null,{"$f":"IF(OFFSET(DE104_5B!$D$33,ROWS($D$33:D49)-1,COLUMNS($D$33:D49)-1)<>\"\",OFFSET(DE104_5B!$D$33,ROWS($D$33:D49)-1,COLUMNS($D$33:D49)-1),\"\")","v":""},null,null,null,null,{"$f":"IF(OFFSET(DE104_5B!$E$33,ROWS($E$33:E49)-1,COLUMNS($E$33:E49)-1)<>\"\",OFFSET(DE104_5B!$E$33,ROWS($E$33:E49)-1,COLUMNS($E$33:E49)-1),\"\")","v":""},null,null,null,null,null,{"$f":"IF(OFFSET(DE104_5B!$F$33,ROWS($F$33:F49)-1,COLUMNS($F$33:F49)-1)<>\"\",OFFSET(DE104_5B!$F$33,ROWS($F$33:F49)-1,COLUMNS($F$33:F49)-1),\"\")","v":""},null,null,null,null,null,null,null,{"$f":"IF(OFFSET(DE104_5B!$G$33,ROWS($G$33:G49)-1,COLUMNS($G$33:G49)-1)<>\"\",OFFSET(DE104_5B!$G$33,ROWS($G$33:G49)-1,COLUMNS($G$33:G49)-1),\"\")","v":""}]
[null,null,null,null,null,null,null,null,null,null,null,null,null,null,null,null,null,null,null,null,null,null,null,null,null,null,null,null,null,null,null,null,null,null,null,null,null,null,null,null,null,null,null,null,null,null,null,null,null,null,null,null,null,null,null,null,null,null,null,null,null,null,null,null,null,null,null,null,null,null,null,null,null,null,null,null,null,null,null,null,null,{"$f":"IF(OFFSET(DE104_5B!$H$34,ROWS($H$34:H50)-1,COLUMNS($H$34:H50)-1)<>\"\",OFFSET(DE104_5B!$H$34,ROWS($H$34:H50)-1,COLUMNS($H$34:H50)-1),\"\")","v":""},null,null,null,null,null,{"$f":"IF(OFFSET(DE104_5B!$I$34,ROWS($I$34:I50)-1,COLUMNS($I$34:I50)-1)<>\"\",OFFSET(DE104_5B!$I$34,ROWS($I$34:I50)-1,COLUMNS($I$34:I50)-1),\"\")","v":""},null,null,null,{"$f":"IF(OFFSET(DE104_5B!$J$34,ROWS($J$34:J50)-1,COLUMNS($J$34:J50)-1)<>\"\",OFFSET(DE104_5B!$J$34,ROWS($J$34:J50)-1,COLUMNS($J$34:J50)-1),\"\")","v":""},null,null,null,{"$f":"IF(OFFSET(DE104_5B!$K$34,ROWS($K$34:K50)-1,COLUMNS($K$34:K50)-1)<>\"\",OFFSET(DE104_5B!$K$34,ROWS($K$34:K50)-1,COLUMNS($K$34:K50)-1),\"\")","v":""},null,null,null,null,{"$f":"IF(OFFSET(DE104_5B!$L$34,ROWS($L$34:L50)-1,COLUMNS($L$34:L50)-1)<>\"\",OFFSET(DE104_5B!$L$34,ROWS($L$34:L50)-1,COLUMNS($L$34:L50)-1),\"\")","v":""},null,null,null,null,null,null,{"$f":"IF(OFFSET(DE104_5B!$M$34,ROWS($M$34:M50)-1,COLUMNS($M$34:M50)-1)<>\"\",OFFSET(DE104_5B!$M$34,ROWS($M$34:M50)-1,COLUMNS($M$34:M50)-1),\"\")","v":""},null,null,null,null,null,{"$f":"IF(OFFSET(DE104_5B!$O$34,ROWS($O$34:O50)-1,COLUMNS($O$34:O50)-1)<>\"\",OFFSET(DE104_5B!$O$34,ROWS($O$34:O50)-1,COLUMNS($O$34:O50)-1),\"\")","v":""},null,null,null,null,null,{"$f":"IF(OFFSET(DE104_5B!$P$34,ROWS($P$34:P50)-1,COLUMNS($P$34:P50)-1)<>\"\",OFFSET(DE104_5B!$P$34,ROWS($P$34:P50)-1,COLUMNS($P$34:P50)-1),\"\")","v":""},null,null,null,null,{"$f":"IF(OFFSET(DE104_5B!$Q$34,ROWS($Q$34:Q50)-1,COLUMNS($Q$34:Q50)-1)<>\"\",OFFSET(DE104_5B!$Q$34,ROWS($Q$34:Q50)-1,COLUMNS($Q$34:Q50)-1),\"\")","v":""},null,null,null,null,null,null,null,null,null,{"$f":"IF(OFFSET(DE104_5B!$R$34,ROWS($S$34:S50)-1,COLUMNS($S$34:S50)-1)<>\"\",OFFSET(DE104_5B!$R$34,ROWS($S$34:S50)-1,COLUMNS($S$34:S50)-1),\"\")","v":""},null,null,null,null,null,null,null,{"$f":"IF(OFFSET(DE104_5B!$S$34,ROWS($T$34:T50)-1,COLUMNS($T$34:T50)-1)<>\"\",OFFSET(DE104_5B!$S$34,ROWS($T$34:T50)-1,COLUMNS($T$34:T50)-1),\"\")","v":""},null,null,null,null,null,null,null,{"$f":"IF(OFFSET(DE104_5B!$T$34,ROWS($U$34:U50)-1,COLUMNS($U$34:U50)-1)<>\"\",OFFSET(DE104_5B!$T$34,ROWS($U$34:U50)-1,COLUMNS($U$34:U50)-1),\"\")","v":""},null,null,null,null,null,null,null,{"$f":"IF(OFFSET(DE104_5B!$U$34,ROWS($V$34:V50)-1,COLUMNS($V$34:V50)-1)<>\"\",OFFSET(DE104_5B!$U$34,ROWS($V$34:V50)-1,COLUMNS($V$34:V50)-1),\"\")","v":""},null,null,null,null,null,null,{"$f":"IF(OFFSET(DE104_5B!$V$34,ROWS($W$34:W50)-1,COLUMNS($W$34:W50)-1)<>\"\",OFFSET(DE104_5B!$V$34,ROWS($W$34:W50)-1,COLUMNS($W$34:W50)-1),\"\")","v":""}]
[null,null,{"$f":"IF(OFFSET(DE104_5B!$A$33,ROWS($A$33:A51)-1,COLUMNS($A$33:A51)-1)<>\"\",OFFSET(DE104_5B!$A$33,ROWS($A$33:A51)-1,COLUMNS($A$33:A51)-1),\"\")","v":""},null,null,null,{"$f":"IF(OFFSET(DE104_5B!$B$33,ROWS($B$33:B51)-1,COLUMNS($B$33:B51)-1)<>\"\",OFFSET(DE104_5B!$B$33,ROWS($B$33:B51)-1,COLUMNS($B$33:B51)-1),\"\")","v":""},null,null,null,null,null,null,null,null,null,null,null,null,null,null,null,null,null,null,{"$f":"IF(OFFSET(DE104_5B!$C$33,ROWS($C$33:C51)-1,COLUMNS($C$33:C51)-1)<>\"\",OFFSET(DE104_5B!$C$33,ROWS($C$33:C51)-1,COLUMNS($C$33:C51)-1),\"\")","v":""},null,null,null,null,null,null,null,null,null,null,null,null,null,null,null,null,null,null,null,null,null,null,null,{"$f":"IF(OFFSET(DE104_5B!$D$33,ROWS($D$33:D51)-1,COLUMNS($D$33:D51)-1)<>\"\",OFFSET(DE104_5B!$D$33,ROWS($D$33:D51)-1,COLUMNS($D$33:D51)-1),\"\")","v":""},null,null,null,null,{"$f":"IF(OFFSET(DE104_5B!$E$33,ROWS($E$33:E51)-1,COLUMNS($E$33:E51)-1)<>\"\",OFFSET(DE104_5B!$E$33,ROWS($E$33:E51)-1,COLUMNS($E$33:E51)-1),\"\")","v":""},null,null,null,null,null,{"$f":"IF(OFFSET(DE104_5B!$F$33,ROWS($F$33:F51)-1,COLUMNS($F$33:F51)-1)<>\"\",OFFSET(DE104_5B!$F$33,ROWS($F$33:F51)-1,COLUMNS($F$33:F51)-1),\"\")","v":""},null,null,null,null,null,null,null,{"$f":"IF(OFFSET(DE104_5B!$G$33,ROWS($G$33:G51)-1,COLUMNS($G$33:G51)-1)<>\"\",OFFSET(DE104_5B!$G$33,ROWS($G$33:G51)-1,COLUMNS($G$33:G51)-1),\"\")","v":""}]
[null,null,null,null,null,null,null,null,null,null,null,null,null,null,null,null,null,null,null,null,null,null,null,null,null,null,null,null,null,null,null,null,null,null,null,null,null,null,null,null,null,null,null,null,null,null,null,null,null,null,null,null,null,null,null,null,null,null,null,null,null,null,null,null,null,null,null,null,null,null,null,null,null,null,null,null,null,null,null,null,null,{"$f":"IF(OFFSET(DE104_5B!$H$34,ROWS($H$34:H52)-1,COLUMNS($H$34:H52)-1)<>\"\",OFFSET(DE104_5B!$H$34,ROWS($H$34:H52)-1,COLUMNS($H$34:H52)-1),\"\")","v":""},null,null,null,null,null,{"$f":"IF(OFFSET(DE104_5B!$I$34,ROWS($I$34:I52)-1,COLUMNS($I$34:I52)-1)<>\"\",OFFSET(DE104_5B!$I$34,ROWS($I$34:I52)-1,COLUMNS($I$34:I52)-1),\"\")","v":""},null,null,null,{"$f":"IF(OFFSET(DE104_5B!$J$34,ROWS($J$34:J52)-1,COLUMNS($J$34:J52)-1)<>\"\",OFFSET(DE104_5B!$J$34,ROWS($J$34:J52)-1,COLUMNS($J$34:J52)-1),\"\")","v":""},null,null,null,{"$f":"IF(OFFSET(DE104_5B!$K$34,ROWS($K$34:K52)-1,COLUMNS($K$34:K52)-1)<>\"\",OFFSET(DE104_5B!$K$34,ROWS($K$34:K52)-1,COLUMNS($K$34:K52)-1),\"\")","v":"Total:"},null,null,null,null,{"$f":"IF(OFFSET(DE104_5B!$L$34,ROWS($L$34:L52)-1,COLUMNS($L$34:L52)-1)<>\"\",OFFSET(DE104_5B!$L$34,ROWS($L$34:L52)-1,COLUMNS($L$34:L52)-1),\"\")","v":""},null,null,null,null,null,null,{"$f":"IF(OFFSET(DE104_5B!$M$34,ROWS($M$34:M52)-1,COLUMNS($M$34:M52)-1)<>\"\",OFFSET(DE104_5B!$M$34,ROWS($M$34:M52)-1,COLUMNS($M$34:M52)-1),\"\")","v":""},null,null,null,null,null,{"$f":"IF(OFFSET(DE104_5B!$O$34,ROWS($O$34:O52)-1,COLUMNS($O$34:O52)-1)<>\"\",OFFSET(DE104_5B!$O$34,ROWS($O$34:O52)-1,COLUMNS($O$34:O52)-1),\"\")","v":""},null,null,null,null,null,{"$f":"IF(OFFSET(DE104_5B!$P$34,ROWS($P$34:P52)-1,COLUMNS($P$34:P52)-1)<>\"\",OFFSET(DE104_5B!$P$34,ROWS($P$34:P52)-1,COLUMNS($P$34:P52)-1),\"\")","v":""},null,null,null,null,{"$f":"IF(OFFSET(DE104_5B!$Q$34,ROWS($Q$34:Q52)-1,COLUMNS($Q$34:Q52)-1)<>\"\",OFFSET(DE104_5B!$Q$34,ROWS($Q$34:Q52)-1,COLUMNS($Q$34:Q52)-1),\"\")","v":""},null,null,null,null,null,null,null,null,null,{"$f":"IF(OFFSET(DE104_5B!$R$34,ROWS($S$34:S52)-1,COLUMNS($S$34:S52)-1)<>\"\",OFFSET(DE104_5B!$R$34,ROWS($S$34:S52)-1,COLUMNS($S$34:S52)-1),\"\")","v":""},null,null,null,null,null,null,null,{"$f":"IF(OFFSET(DE104_5B!$S$34,ROWS($T$34:T52)-1,COLUMNS($T$34:T52)-1)<>\"\",OFFSET(DE104_5B!$S$34,ROWS($T$34:T52)-1,COLUMNS($T$34:T52)-1),\"\")","v":""},null,null,null,null,null,null,null,{"$f":"IF(OFFSET(DE104_5B!$T$34,ROWS($U$34:U52)-1,COLUMNS($U$34:U52)-1)<>\"\",OFFSET(DE104_5B!$T$34,ROWS($U$34:U52)-1,COLUMNS($U$34:U52)-1),\"\")","v":""},null,null,null,null,null,null,null,{"$f":"IF(OFFSET(DE104_5B!$U$34,ROWS($V$34:V52)-1,COLUMNS($V$34:V52)-1)<>\"\",OFFSET(DE104_5B!$U$34,ROWS($V$34:V52)-1,COLUMNS($V$34:V52)-1),\"\")","v":""},null,null,null,null,null,null,{"$f":"IF(OFFSET(DE104_5B!$V$34,ROWS($W$34:W52)-1,COLUMNS($W$34:W52)-1)<>\"\",OFFSET(DE104_5B!$V$34,ROWS($W$34:W52)-1,COLUMNS($W$34:W52)-1),\"\")","v":""}]
[null,null,{"$f":"IF(OFFSET(DE104_5B!$A$33,ROWS($A$33:A53)-1,COLUMNS($A$33:A53)-1)<>\"\",OFFSET(DE104_5B!$A$33,ROWS($A$33:A53)-1,COLUMNS($A$33:A53)-1),\"\")","v":""},null,null,null,{"$f":"IF(OFFSET(DE104_5B!$B$33,ROWS($B$33:B53)-1,COLUMNS($B$33:B53)-1)<>\"\",OFFSET(DE104_5B!$B$33,ROWS($B$33:B53)-1,COLUMNS($B$33:B53)-1),\"\")","v":""},null,null,null,null,null,null,null,null,null,null,null,null,null,null,null,null,null,null,{"$f":"IF(OFFSET(DE104_5B!$C$33,ROWS($C$33:C53)-1,COLUMNS($C$33:C53)-1)<>\"\",OFFSET(DE104_5B!$C$33,ROWS($C$33:C53)-1,COLUMNS($C$33:C53)-1),\"\")","v":"Total:"},null,null,null,null,null,null,null,null,null,null,null,null,null,null,null,null,null,null,null,null,null,null,null,{"$f":"IF(OFFSET(DE104_5B!$D$33,ROWS($D$33:D53)-1,COLUMNS($D$33:D53)-1)<>\"\",OFFSET(DE104_5B!$D$33,ROWS($D$33:D53)-1,COLUMNS($D$33:D53)-1),\"\")","v":""},null,null,null,null,{"$f":"IF(OFFSET(DE104_5B!$E$33,ROWS($E$33:E53)-1,COLUMNS($E$33:E53)-1)<>\"\",OFFSET(DE104_5B!$E$33,ROWS($E$33:E53)-1,COLUMNS($E$33:E53)-1),\"\")","v":""},null,null,null,null,null,{"$f":"IF(OFFSET(DE104_5B!$F$33,ROWS($F$33:F53)-1,COLUMNS($F$33:F53)-1)<>\"\",OFFSET(DE104_5B!$F$33,ROWS($F$33:F53)-1,COLUMNS($F$33:F53)-1),\"\")","v":""},null,null,null,null,null,null,null,{"$f":"IF(OFFSET(DE104_5B!$G$33,ROWS($G$33:G53)-1,COLUMNS($G$33:G53)-1)<>\"\",OFFSET(DE104_5B!$G$33,ROWS($G$33:G53)-1,COLUMNS($G$33:G53)-1),\"\")","v":""}]
[null,null,null,null,null,null,null,null,null,null,null,null,null,null,null,null,null,null,null,null,null,null,null,null,null,null,null,null,null,null,null,null,null,null,null,null,null,null,null,null,null,null,null,null,null,null,null,null,null,null,null,null,null,null,null,null,null,null,null,null,null,null,null,null,null,null,null,null,null,null,null,null,null,null,null,null,null,null,null,null,null,{"$f":"IF(OFFSET(DE104_5B!$H$34,ROWS($H$34:H54)-1,COLUMNS($H$34:H54)-1)<>\"\",OFFSET(DE104_5B!$H$34,ROWS($H$34:H54)-1,COLUMNS($H$34:H54)-1),\"\")","v":""},null,null,null,null,null,{"$f":"IF(OFFSET(DE104_5B!$I$34,ROWS($I$34:I54)-1,COLUMNS($I$34:I54)-1)<>\"\",OFFSET(DE104_5B!$I$34,ROWS($I$34:I54)-1,COLUMNS($I$34:I54)-1),\"\")","v":""},null,null,null,{"$f":"IF(OFFSET(DE104_5B!$J$34,ROWS($J$34:J54)-1,COLUMNS($J$34:J54)-1)<>\"\",OFFSET(DE104_5B!$J$34,ROWS($J$34:J54)-1,COLUMNS($J$34:J54)-1),\"\")","v":""},null,null,null,{"$f":"IF(OFFSET(DE104_5B!$K$34,ROWS($K$34:K54)-1,COLUMNS($K$34:K54)-1)<>\"\",OFFSET(DE104_5B!$K$34,ROWS($K$34:K54)-1,COLUMNS($K$34:K54)-1),\"\")","v":2000},null,null,null,null,{"$f":"IF(OFFSET(DE104_5B!$L$34,ROWS($L$34:L54)-1,COLUMNS($L$34:L54)-1)<>\"\",OFFSET(DE104_5B!$L$34,ROWS($L$34:L54)-1,COLUMNS($L$34:L54)-1),\"\")","v":18},null,null,null,null,null,null,{"$f":"IF(OFFSET(DE104_5B!$M$34,ROWS($M$34:M54)-1,COLUMNS($M$34:M54)-1)<>\"\",OFFSET(DE104_5B!$M$34,ROWS($M$34:M54)-1,COLUMNS($M$34:M54)-1),\"\")","v":428},null,null,null,null,null,{"$f":"IF(OFFSET(DE104_5B!$O$34,ROWS($O$34:O54)-1,COLUMNS($O$34:O54)-1)<>\"\",OFFSET(DE104_5B!$O$34,ROWS($O$34:O54)-1,COLUMNS($O$34:O54)-1),\"\")","v":""},null,null,null,null,null,{"$f":"IF(OFFSET(DE104_5B!$P$34,ROWS($P$34:P54)-1,COLUMNS($P$34:P54)-1)<>\"\",OFFSET(DE104_5B!$P$34,ROWS($P$34:P54)-1,COLUMNS($P$34:P54)-1),\"\")","v":""},null,null,null,null,{"$f":"IF(OFFSET(DE104_5B!$Q$34,ROWS($Q$34:Q54)-1,COLUMNS($Q$34:Q54)-1)<>\"\",OFFSET(DE104_5B!$Q$34,ROWS($Q$34:Q54)-1,COLUMNS($Q$34:Q54)-1),\"\")","v":""},null,null,null,null,null,null,null,null,null,{"$f":"IF(OFFSET(DE104_5B!$R$34,ROWS($S$34:S54)-1,COLUMNS($S$34:S54)-1)<>\"\",OFFSET(DE104_5B!$R$34,ROWS($S$34:S54)-1,COLUMNS($S$34:S54)-1),\"\")","v":""},null,null,null,null,null,null,null,{"$f":"IF(OFFSET(DE104_5B!$S$34,ROWS($T$34:T54)-1,COLUMNS($T$34:T54)-1)<>\"\",OFFSET(DE104_5B!$S$34,ROWS($T$34:T54)-1,COLUMNS($T$34:T54)-1),\"\")","v":""},null,null,null,null,null,null,null,{"$f":"IF(OFFSET(DE104_5B!$T$34,ROWS($U$34:U54)-1,COLUMNS($U$34:U54)-1)<>\"\",OFFSET(DE104_5B!$T$34,ROWS($U$34:U54)-1,COLUMNS($U$34:U54)-1),\"\")","v":""},null,null,null,null,null,null,null,{"$f":"IF(OFFSET(DE104_5B!$U$34,ROWS($V$34:V54)-1,COLUMNS($V$34:V54)-1)<>\"\",OFFSET(DE104_5B!$U$34,ROWS($V$34:V54)-1,COLUMNS($V$34:V54)-1),\"\")","v":""},null,null,null,null,null,null,{"$f":"IF(OFFSET(DE104_5B!$V$34,ROWS($W$34:W54)-1,COLUMNS($W$34:W54)-1)<>\"\",OFFSET(DE104_5B!$V$34,ROWS($W$34:W54)-1,COLUMNS($W$34:W54)-1),\"\")","v":""}]
[null,null,{"$f":"IF(OFFSET(DE104_5B!$A$33,ROWS($A$33:A55)-1,COLUMNS($A$33:A55)-1)<>\"\",OFFSET(DE104_5B!$A$33,ROWS($A$33:A55)-1,COLUMNS($A$33:A55)-1),\"\")","v":""},null,null,null,{"$f":"IF(OFFSET(DE104_5B!$B$33,ROWS($B$33:B55)-1,COLUMNS($B$33:B55)-1)<>\"\",OFFSET(DE104_5B!$B$33,ROWS($B$33:B55)-1,COLUMNS($B$33:B55)-1),\"\")","v":""},null,null,null,null,null,null,null,null,null,null,null,null,null,null,null,null,null,null,{"$f":"IF(OFFSET(DE104_5B!$C$33,ROWS($C$33:C55)-1,COLUMNS($C$33:C55)-1)<>\"\",OFFSET(DE104_5B!$C$33,ROWS($C$33:C55)-1,COLUMNS($C$33:C55)-1),\"\")","v":"DR-122"},null,null,null,null,null,null,null,null,null,null,null,null,null,null,null,null,null,null,null,null,null,null,null,{"$f":"IF(OFFSET(DE104_5B!$D$33,ROWS($D$33:D55)-1,COLUMNS($D$33:D55)-1)<>\"\",OFFSET(DE104_5B!$D$33,ROWS($D$33:D55)-1,COLUMNS($D$33:D55)-1),\"\")","v":2},null,null,null,null,{"$f":"IF(OFFSET(DE104_5B!$E$33,ROWS($E$33:E55)-1,COLUMNS($E$33:E55)-1)<>\"\",OFFSET(DE104_5B!$E$33,ROWS($E$33:E55)-1,COLUMNS($E$33:E55)-1),\"\")","v":""},null,null,null,null,null,{"$f":"IF(OFFSET(DE104_5B!$F$33,ROWS($F$33:F55)-1,COLUMNS($F$33:F55)-1)<>\"\",OFFSET(DE104_5B!$F$33,ROWS($F$33:F55)-1,COLUMNS($F$33:F55)-1),\"\")","v":""},null,null,null,null,null,null,null,{"$f":"IF(OFFSET(DE104_5B!$G$33,ROWS($G$33:G55)-1,COLUMNS($G$33:G55)-1)<>\"\",OFFSET(DE104_5B!$G$33,ROWS($G$33:G55)-1,COLUMNS($G$33:G55)-1),\"\")","v":""}]
[null,null,null,null,null,null,null,null,null,null,null,null,null,null,null,null,null,null,null,null,null,null,null,null,null,null,null,null,null,null,null,null,null,null,null,null,null,null,null,null,null,null,null,null,null,null,null,null,null,null,null,null,null,null,null,null,null,null,null,null,null,null,null,null,null,null,null,null,null,null,null,null,null,null,null,null,null,null,null,null,null,{"$f":"IF(OFFSET(DE104_5B!$H$34,ROWS($H$34:H56)-1,COLUMNS($H$34:H56)-1)<>\"\",OFFSET(DE104_5B!$H$34,ROWS($H$34:H56)-1,COLUMNS($H$34:H56)-1),\"\")","v":""},null,null,null,null,null,{"$f":"IF(OFFSET(DE104_5B!$I$34,ROWS($I$34:I56)-1,COLUMNS($I$34:I56)-1)<>\"\",OFFSET(DE104_5B!$I$34,ROWS($I$34:I56)-1,COLUMNS($I$34:I56)-1),\"\")","v":""},null,null,null,{"$f":"IF(OFFSET(DE104_5B!$J$34,ROWS($J$34:J56)-1,COLUMNS($J$34:J56)-1)<>\"\",OFFSET(DE104_5B!$J$34,ROWS($J$34:J56)-1,COLUMNS($J$34:J56)-1),\"\")","v":""},null,null,null,{"$f":"IF(OFFSET(DE104_5B!$K$34,ROWS($K$34:K56)-1,COLUMNS($K$34:K56)-1)<>\"\",OFFSET(DE104_5B!$K$34,ROWS($K$34:K56)-1,COLUMNS($K$34:K56)-1),\"\")","v":""},null,null,null,null,{"$f":"IF(OFFSET(DE104_5B!$L$34,ROWS($L$34:L56)-1,COLUMNS($L$34:L56)-1)<>\"\",OFFSET(DE104_5B!$L$34,ROWS($L$34:L56)-1,COLUMNS($L$34:L56)-1),\"\")","v":""},null,null,null,null,null,null,{"$f":"IF(OFFSET(DE104_5B!$M$34,ROWS($M$34:M56)-1,COLUMNS($M$34:M56)-1)<>\"\",OFFSET(DE104_5B!$M$34,ROWS($M$34:M56)-1,COLUMNS($M$34:M56)-1),\"\")","v":""},null,null,null,null,null,{"$f":"IF(OFFSET(DE104_5B!$O$34,ROWS($O$34:O56)-1,COLUMNS($O$34:O56)-1)<>\"\",OFFSET(DE104_5B!$O$34,ROWS($O$34:O56)-1,COLUMNS($O$34:O56)-1),\"\")","v":""},null,null,null,null,null,{"$f":"IF(OFFSET(DE104_5B!$P$34,ROWS($P$34:P56)-1,COLUMNS($P$34:P56)-1)<>\"\",OFFSET(DE104_5B!$P$34,ROWS($P$34:P56)-1,COLUMNS($P$34:P56)-1),\"\")","v":""},null,null,null,null,{"$f":"IF(OFFSET(DE104_5B!$Q$34,ROWS($Q$34:Q56)-1,COLUMNS($Q$34:Q56)-1)<>\"\",OFFSET(DE104_5B!$Q$34,ROWS($Q$34:Q56)-1,COLUMNS($Q$34:Q56)-1),\"\")","v":""},null,null,null,null,null,null,null,null,null,{"$f":"IF(OFFSET(DE104_5B!$R$34,ROWS($S$34:S56)-1,COLUMNS($S$34:S56)-1)<>\"\",OFFSET(DE104_5B!$R$34,ROWS($S$34:S56)-1,COLUMNS($S$34:S56)-1),\"\")","v":""},null,null,null,null,null,null,null,{"$f":"IF(OFFSET(DE104_5B!$S$34,ROWS($T$34:T56)-1,COLUMNS($T$34:T56)-1)<>\"\",OFFSET(DE104_5B!$S$34,ROWS($T$34:T56)-1,COLUMNS($T$34:T56)-1),\"\")","v":""},null,null,null,null,null,null,null,{"$f":"IF(OFFSET(DE104_5B!$T$34,ROWS($U$34:U56)-1,COLUMNS($U$34:U56)-1)<>\"\",OFFSET(DE104_5B!$T$34,ROWS($U$34:U56)-1,COLUMNS($U$34:U56)-1),\"\")","v":""},null,null,null,null,null,null,null,{"$f":"IF(OFFSET(DE104_5B!$U$34,ROWS($V$34:V56)-1,COLUMNS($V$34:V56)-1)<>\"\",OFFSET(DE104_5B!$U$34,ROWS($V$34:V56)-1,COLUMNS($V$34:V56)-1),\"\")","v":""},null,null,null,null,null,null,{"$f":"IF(OFFSET(DE104_5B!$V$34,ROWS($W$34:W56)-1,COLUMNS($W$34:W56)-1)<>\"\",OFFSET(DE104_5B!$V$34,ROWS($W$34:W56)-1,COLUMNS($W$34:W56)-1),\"\")","v":""}]
[null,null,{"$f":"IF(OFFSET(DE104_5B!$A$33,ROWS($A$33:A57)-1,COLUMNS($A$33:A57)-1)<>\"\",OFFSET(DE104_5B!$A$33,ROWS($A$33:A57)-1,COLUMNS($A$33:A57)-1),\"\")","v":""},null,null,null,{"$f":"IF(OFFSET(DE104_5B!$B$33,ROWS($B$33:B57)-1,COLUMNS($B$33:B57)-1)<>\"\",OFFSET(DE104_5B!$B$33,ROWS($B$33:B57)-1,COLUMNS($B$33:B57)-1),\"\")","v":""},null,null,null,null,null,null,null,null,null,null,null,null,null,null,null,null,null,null,{"$f":"IF(OFFSET(DE104_5B!$C$33,ROWS($C$33:C57)-1,COLUMNS($C$33:C57)-1)<>\"\",OFFSET(DE104_5B!$C$33,ROWS($C$33:C57)-1,COLUMNS($C$33:C57)-1),\"\")","v":"DR-201 (18\")"},null,null,null,null,null,null,null,null,null,null,null,null,null,null,null,null,null,null,null,null,null,null,null,{"$f":"IF(OFFSET(DE104_5B!$D$33,ROWS($D$33:D57)-1,COLUMNS($D$33:D57)-1)<>\"\",OFFSET(DE104_5B!$D$33,ROWS($D$33:D57)-1,COLUMNS($D$33:D57)-1),\"\")","v":1},null,null,null,null,{"$f":"IF(OFFSET(DE104_5B!$E$33,ROWS($E$33:E57)-1,COLUMNS($E$33:E57)-1)<>\"\",OFFSET(DE104_5B!$E$33,ROWS($E$33:E57)-1,COLUMNS($E$33:E57)-1),\"\")","v":""},null,null,null,null,null,{"$f":"IF(OFFSET(DE104_5B!$F$33,ROWS($F$33:F57)-1,COLUMNS($F$33:F57)-1)<>\"\",OFFSET(DE104_5B!$F$33,ROWS($F$33:F57)-1,COLUMNS($F$33:F57)-1),\"\")","v":""},null,null,null,null,null,null,null,{"$f":"IF(OFFSET(DE104_5B!$G$33,ROWS($G$33:G57)-1,COLUMNS($G$33:G57)-1)<>\"\",OFFSET(DE104_5B!$G$33,ROWS($G$33:G57)-1,COLUMNS($G$33:G57)-1),\"\")","v":""}]
[null,null,null,null,null,null,null,null,null,null,null,null,null,null,null,null,null,null,null,null,null,null,null,null,null,null,null,null,null,null,null,null,null,null,null,null,null,null,null,null,null,null,null,null,null,null,null,null,null,null,null,null,null,null,null,null,null,null,null,null,null,null,null,null,null,null,null,null,null,null,null,null,null,null,null,null,null,null,null,null,null,{"$f":"IF(OFFSET(DE104_5B!$H$34,ROWS($H$34:H58)-1,COLUMNS($H$34:H58)-1)<>\"\",OFFSET(DE104_5B!$H$34,ROWS($H$34:H58)-1,COLUMNS($H$34:H58)-1),\"\")","v":""},null,null,null,null,null,{"$f":"IF(OFFSET(DE104_5B!$I$34,ROWS($I$34:I58)-1,COLUMNS($I$34:I58)-1)<>\"\",OFFSET(DE104_5B!$I$34,ROWS($I$34:I58)-1,COLUMNS($I$34:I58)-1),\"\")","v":""},null,null,null,{"$f":"IF(OFFSET(DE104_5B!$J$34,ROWS($J$34:J58)-1,COLUMNS($J$34:J58)-1)<>\"\",OFFSET(DE104_5B!$J$34,ROWS($J$34:J58)-1,COLUMNS($J$34:J58)-1),\"\")","v":""},null,null,null,{"$f":"IF(OFFSET(DE104_5B!$K$34,ROWS($K$34:K58)-1,COLUMNS($K$34:K58)-1)<>\"\",OFFSET(DE104_5B!$K$34,ROWS($K$34:K58)-1,COLUMNS($K$34:K58)-1),\"\")","v":""},null,null,null,null,{"$f":"IF(OFFSET(DE104_5B!$L$34,ROWS($L$34:L58)-1,COLUMNS($L$34:L58)-1)<>\"\",OFFSET(DE104_5B!$L$34,ROWS($L$34:L58)-1,COLUMNS($L$34:L58)-1),\"\")","v":""},null,null,null,null,null,null,{"$f":"IF(OFFSET(DE104_5B!$M$34,ROWS($M$34:M58)-1,COLUMNS($M$34:M58)-1)<>\"\",OFFSET(DE104_5B!$M$34,ROWS($M$34:M58)-1,COLUMNS($M$34:M58)-1),\"\")","v":""},null,null,null,null,null,{"$f":"IF(OFFSET(DE104_5B!$O$34,ROWS($O$34:O58)-1,COLUMNS($O$34:O58)-1)<>\"\",OFFSET(DE104_5B!$O$34,ROWS($O$34:O58)-1,COLUMNS($O$34:O58)-1),\"\")","v":""},null,null,null,null,null,{"$f":"IF(OFFSET(DE104_5B!$P$34,ROWS($P$34:P58)-1,COLUMNS($P$34:P58)-1)<>\"\",OFFSET(DE104_5B!$P$34,ROWS($P$34:P58)-1,COLUMNS($P$34:P58)-1),\"\")","v":""},null,null,null,null,{"$f":"IF(OFFSET(DE104_5B!$Q$34,ROWS($Q$34:Q58)-1,COLUMNS($Q$34:Q58)-1)<>\"\",OFFSET(DE104_5B!$Q$34,ROWS($Q$34:Q58)-1,COLUMNS($Q$34:Q58)-1),\"\")","v":""},null,null,null,null,null,null,null,null,null,{"$f":"IF(OFFSET(DE104_5B!$R$34,ROWS($S$34:S58)-1,COLUMNS($S$34:S58)-1)<>\"\",OFFSET(DE104_5B!$R$34,ROWS($S$34:S58)-1,COLUMNS($S$34:S58)-1),\"\")","v":""},null,null,null,null,null,null,null,{"$f":"IF(OFFSET(DE104_5B!$S$34,ROWS($T$34:T58)-1,COLUMNS($T$34:T58)-1)<>\"\",OFFSET(DE104_5B!$S$34,ROWS($T$34:T58)-1,COLUMNS($T$34:T58)-1),\"\")","v":""},null,null,null,null,null,null,null,{"$f":"IF(OFFSET(DE104_5B!$T$34,ROWS($U$34:U58)-1,COLUMNS($U$34:U58)-1)<>\"\",OFFSET(DE104_5B!$T$34,ROWS($U$34:U58)-1,COLUMNS($U$34:U58)-1),\"\")","v":""},null,null,null,null,null,null,null,{"$f":"IF(OFFSET(DE104_5B!$U$34,ROWS($V$34:V58)-1,COLUMNS($V$34:V58)-1)<>\"\",OFFSET(DE104_5B!$U$34,ROWS($V$34:V58)-1,COLUMNS($V$34:V58)-1),\"\")","v":""},null,null,null,null,null,null,{"$f":"IF(OFFSET(DE104_5B!$V$34,ROWS($W$34:W58)-1,COLUMNS($W$34:W58)-1)<>\"\",OFFSET(DE104_5B!$V$34,ROWS($W$34:W58)-1,COLUMNS($W$34:W58)-1),\"\")","v":""}]
[null,null,{"$f":"IF(OFFSET(DE104_5B!$A$33,ROWS($A$33:A59)-1,COLUMNS($A$33:A59)-1)<>\"\",OFFSET(DE104_5B!$A$33,ROWS($A$33:A59)-1,COLUMNS($A$33:A59)-1),\"\")","v":""},null,null,null,{"$f":"IF(OFFSET(DE104_5B!$B$33,ROWS($B$33:B59)-1,COLUMNS($B$33:B59)-1)<>\"\",OFFSET(DE104_5B!$B$33,ROWS($B$33:B59)-1,COLUMNS($B$33:B59)-1),\"\")","v":""},null,null,null,null,null,null,null,null,null,null,null,null,null,null,null,null,null,null,{"$f":"IF(OFFSET(DE104_5B!$C$33,ROWS($C$33:C59)-1,COLUMNS($C$33:C59)-1)<>\"\",OFFSET(DE104_5B!$C$33,ROWS($C$33:C59)-1,COLUMNS($C$33:C59)-1),\"\")","v":"SW-538"},null,null,null,null,null,null,null,null,null,null,null,null,null,null,null,null,null,null,null,null,null,null,null,{"$f":"IF(OFFSET(DE104_5B!$D$33,ROWS($D$33:D59)-1,COLUMNS($D$33:D59)-1)<>\"\",OFFSET(DE104_5B!$D$33,ROWS($D$33:D59)-1,COLUMNS($D$33:D59)-1),\"\")","v":1},null,null,null,null,{"$f":"IF(OFFSET(DE104_5B!$E$33,ROWS($E$33:E59)-1,COLUMNS($E$33:E59)-1)<>\"\",OFFSET(DE104_5B!$E$33,ROWS($E$33:E59)-1,COLUMNS($E$33:E59)-1),\"\")","v":""},null,null,null,null,null,{"$f":"IF(OFFSET(DE104_5B!$F$33,ROWS($F$33:F59)-1,COLUMNS($F$33:F59)-1)<>\"\",OFFSET(DE104_5B!$F$33,ROWS($F$33:F59)-1,COLUMNS($F$33:F59)-1),\"\")","v":""},null,null,null,null,null,null,null,{"$f":"IF(OFFSET(DE104_5B!$G$33,ROWS($G$33:G59)-1,COLUMNS($G$33:G59)-1)<>\"\",OFFSET(DE104_5B!$G$33,ROWS($G$33:G59)-1,COLUMNS($G$33:G59)-1),\"\")","v":""}]
[null,null,null,null,null,null,null,null,null,null,null,null,null,null,null,null,null,null,null,null,null,null,null,null,null,null,null,null,null,null,null,null,null,null,null,null,null,null,null,null,null,null,null,null,null,null,null,null,null,null,null,null,null,null,null,null,null,null,null,null,null,null,null,null,null,null,null,null,null,null,null,null,null,null,null,null,null,null,null,null,null,{"$f":"IF(OFFSET(DE104_5B!$H$34,ROWS($H$34:H60)-1,COLUMNS($H$34:H60)-1)<>\"\",OFFSET(DE104_5B!$H$34,ROWS($H$34:H60)-1,COLUMNS($H$34:H60)-1),\"\")","v":""},null,null,null,null,null,{"$f":"IF(OFFSET(DE104_5B!$I$34,ROWS($I$34:I60)-1,COLUMNS($I$34:I60)-1)<>\"\",OFFSET(DE104_5B!$I$34,ROWS($I$34:I60)-1,COLUMNS($I$34:I60)-1),\"\")","v":""},null,null,null,{"$f":"IF(OFFSET(DE104_5B!$J$34,ROWS($J$34:J60)-1,COLUMNS($J$34:J60)-1)<>\"\",OFFSET(DE104_5B!$J$34,ROWS($J$34:J60)-1,COLUMNS($J$34:J60)-1),\"\")","v":""},null,null,null,{"$f":"IF(OFFSET(DE104_5B!$K$34,ROWS($K$34:K60)-1,COLUMNS($K$34:K60)-1)<>\"\",OFFSET(DE104_5B!$K$34,ROWS($K$34:K60)-1,COLUMNS($K$34:K60)-1),\"\")","v":""},null,null,null,null,{"$f":"IF(OFFSET(DE104_5B!$L$34,ROWS($L$34:L60)-1,COLUMNS($L$34:L60)-1)<>\"\",OFFSET(DE104_5B!$L$34,ROWS($L$34:L60)-1,COLUMNS($L$34:L60)-1),\"\")","v":""},null,null,null,null,null,null,{"$f":"IF(OFFSET(DE104_5B!$M$34,ROWS($M$34:M60)-1,COLUMNS($M$34:M60)-1)<>\"\",OFFSET(DE104_5B!$M$34,ROWS($M$34:M60)-1,COLUMNS($M$34:M60)-1),\"\")","v":""},null,null,null,null,null,{"$f":"IF(OFFSET(DE104_5B!$O$34,ROWS($O$34:O60)-1,COLUMNS($O$34:O60)-1)<>\"\",OFFSET(DE104_5B!$O$34,ROWS($O$34:O60)-1,COLUMNS($O$34:O60)-1),\"\")","v":""},null,null,null,null,null,{"$f":"IF(OFFSET(DE104_5B!$P$34,ROWS($P$34:P60)-1,COLUMNS($P$34:P60)-1)<>\"\",OFFSET(DE104_5B!$P$34,ROWS($P$34:P60)-1,COLUMNS($P$34:P60)-1),\"\")","v":""},null,null,null,null,{"$f":"IF(OFFSET(DE104_5B!$Q$34,ROWS($Q$34:Q60)-1,COLUMNS($Q$34:Q60)-1)<>\"\",OFFSET(DE104_5B!$Q$34,ROWS($Q$34:Q60)-1,COLUMNS($Q$34:Q60)-1),\"\")","v":""},null,null,null,null,null,null,null,null,null,{"$f":"IF(OFFSET(DE104_5B!$R$34,ROWS($S$34:S60)-1,COLUMNS($S$34:S60)-1)<>\"\",OFFSET(DE104_5B!$R$34,ROWS($S$34:S60)-1,COLUMNS($S$34:S60)-1),\"\")","v":""},null,null,null,null,null,null,null,{"$f":"IF(OFFSET(DE104_5B!$S$34,ROWS($T$34:T60)-1,COLUMNS($T$34:T60)-1)<>\"\",OFFSET(DE104_5B!$S$34,ROWS($T$34:T60)-1,COLUMNS($T$34:T60)-1),\"\")","v":""},null,null,null,null,null,null,null,{"$f":"IF(OFFSET(DE104_5B!$T$34,ROWS($U$34:U60)-1,COLUMNS($U$34:U60)-1)<>\"\",OFFSET(DE104_5B!$T$34,ROWS($U$34:U60)-1,COLUMNS($U$34:U60)-1),\"\")","v":""},null,null,null,null,null,null,null,{"$f":"IF(OFFSET(DE104_5B!$U$34,ROWS($V$34:V60)-1,COLUMNS($V$34:V60)-1)<>\"\",OFFSET(DE104_5B!$U$34,ROWS($V$34:V60)-1,COLUMNS($V$34:V60)-1),\"\")","v":""},null,null,null,null,null,null,{"$f":"IF(OFFSET(DE104_5B!$V$34,ROWS($W$34:W60)-1,COLUMNS($W$34:W60)-1)<>\"\",OFFSET(DE104_5B!$V$34,ROWS($W$34:W60)-1,COLUMNS($W$34:W60)-1),\"\")","v":""}]
[null,null,{"$f":"IF(OFFSET(DE104_5B!$A$33,ROWS($A$33:A61)-1,COLUMNS($A$33:A61)-1)<>\"\",OFFSET(DE104_5B!$A$33,ROWS($A$33:A61)-1,COLUMNS($A$33:A61)-1),\"\")","v":""},null,null,null,{"$f":"IF(OFFSET(DE104_5B!$B$33,ROWS($B$33:B61)-1,COLUMNS($B$33:B61)-1)<>\"\",OFFSET(DE104_5B!$B$33,ROWS($B$33:B61)-1,COLUMNS($B$33:B61)-1),\"\")","v":""},null,null,null,null,null,null,null,null,null,null,null,null,null,null,null,null,null,null,{"$f":"IF(OFFSET(DE104_5B!$C$33,ROWS($C$33:C61)-1,COLUMNS($C$33:C61)-1)<>\"\",OFFSET(DE104_5B!$C$33,ROWS($C$33:C61)-1,COLUMNS($C$33:C61)-1),\"\")","v":"SW-549"},null,null,null,null,null,null,null,null,null,null,null,null,null,null,null,null,null,null,null,null,null,null,null,{"$f":"IF(OFFSET(DE104_5B!$D$33,ROWS($D$33:D61)-1,COLUMNS($D$33:D61)-1)<>\"\",OFFSET(DE104_5B!$D$33,ROWS($D$33:D61)-1,COLUMNS($D$33:D61)-1),\"\")","v":4},null,null,null,null,{"$f":"IF(OFFSET(DE104_5B!$E$33,ROWS($E$33:E61)-1,COLUMNS($E$33:E61)-1)<>\"\",OFFSET(DE104_5B!$E$33,ROWS($E$33:E61)-1,COLUMNS($E$33:E61)-1),\"\")","v":""},null,null,null,null,null,{"$f":"IF(OFFSET(DE104_5B!$F$33,ROWS($F$33:F61)-1,COLUMNS($F$33:F61)-1)<>\"\",OFFSET(DE104_5B!$F$33,ROWS($F$33:F61)-1,COLUMNS($F$33:F61)-1),\"\")","v":""},null,null,null,null,null,null,null,{"$f":"IF(OFFSET(DE104_5B!$G$33,ROWS($G$33:G61)-1,COLUMNS($G$33:G61)-1)<>\"\",OFFSET(DE104_5B!$G$33,ROWS($G$33:G61)-1,COLUMNS($G$33:G61)-1),\"\")","v":""}]
[null,null,null,null,null,null,null,null,null,null,null,null,null,null,null,null,null,null,null,null,null,null,null,null,null,null,null,null,null,null,null,null,null,null,null,null,null,null,null,null,null,null,null,null,null,null,null,null,null,null,null,null,null,null,null,null,null,null,null,null,null,null,null,null,null,null,null,null,null,null,null,null,null,null,null,null,null,null,null,null,null,{"$f":"IF(OFFSET(DE104_5B!$H$34,ROWS($H$34:H62)-1,COLUMNS($H$34:H62)-1)<>\"\",OFFSET(DE104_5B!$H$34,ROWS($H$34:H62)-1,COLUMNS($H$34:H62)-1),\"\")","v":""},null,null,null,null,null,{"$f":"IF(OFFSET(DE104_5B!$I$34,ROWS($I$34:I62)-1,COLUMNS($I$34:I62)-1)<>\"\",OFFSET(DE104_5B!$I$34,ROWS($I$34:I62)-1,COLUMNS($I$34:I62)-1),\"\")","v":""},null,null,null,{"$f":"IF(OFFSET(DE104_5B!$J$34,ROWS($J$34:J62)-1,COLUMNS($J$34:J62)-1)<>\"\",OFFSET(DE104_5B!$J$34,ROWS($J$34:J62)-1,COLUMNS($J$34:J62)-1),\"\")","v":""},null,null,null,{"$f":"IF(OFFSET(DE104_5B!$K$34,ROWS($K$34:K62)-1,COLUMNS($K$34:K62)-1)<>\"\",OFFSET(DE104_5B!$K$34,ROWS($K$34:K62)-1,COLUMNS($K$34:K62)-1),\"\")","v":""},null,null,null,null,{"$f":"IF(OFFSET(DE104_5B!$L$34,ROWS($L$34:L62)-1,COLUMNS($L$34:L62)-1)<>\"\",OFFSET(DE104_5B!$L$34,ROWS($L$34:L62)-1,COLUMNS($L$34:L62)-1),\"\")","v":""},null,null,null,null,null,null,{"$f":"IF(OFFSET(DE104_5B!$M$34,ROWS($M$34:M62)-1,COLUMNS($M$34:M62)-1)<>\"\",OFFSET(DE104_5B!$M$34,ROWS($M$34:M62)-1,COLUMNS($M$34:M62)-1),\"\")","v":""},null,null,null,null,null,{"$f":"IF(OFFSET(DE104_5B!$O$34,ROWS($O$34:O62)-1,COLUMNS($O$34:O62)-1)<>\"\",OFFSET(DE104_5B!$O$34,ROWS($O$34:O62)-1,COLUMNS($O$34:O62)-1),\"\")","v":""},null,null,null,null,null,{"$f":"IF(OFFSET(DE104_5B!$P$34,ROWS($P$34:P62)-1,COLUMNS($P$34:P62)-1)<>\"\",OFFSET(DE104_5B!$P$34,ROWS($P$34:P62)-1,COLUMNS($P$34:P62)-1),\"\")","v":""},null,null,null,null,{"$f":"IF(OFFSET(DE104_5B!$Q$34,ROWS($Q$34:Q62)-1,COLUMNS($Q$34:Q62)-1)<>\"\",OFFSET(DE104_5B!$Q$34,ROWS($Q$34:Q62)-1,COLUMNS($Q$34:Q62)-1),\"\")","v":""},null,null,null,null,null,null,null,null,null,{"$f":"IF(OFFSET(DE104_5B!$R$34,ROWS($S$34:S62)-1,COLUMNS($S$34:S62)-1)<>\"\",OFFSET(DE104_5B!$R$34,ROWS($S$34:S62)-1,COLUMNS($S$34:S62)-1),\"\")","v":""},null,null,null,null,null,null,null,{"$f":"IF(OFFSET(DE104_5B!$S$34,ROWS($T$34:T62)-1,COLUMNS($T$34:T62)-1)<>\"\",OFFSET(DE104_5B!$S$34,ROWS($T$34:T62)-1,COLUMNS($T$34:T62)-1),\"\")","v":""},null,null,null,null,null,null,null,{"$f":"IF(OFFSET(DE104_5B!$T$34,ROWS($U$34:U62)-1,COLUMNS($U$34:U62)-1)<>\"\",OFFSET(DE104_5B!$T$34,ROWS($U$34:U62)-1,COLUMNS($U$34:U62)-1),\"\")","v":""},null,null,null,null,null,null,null,{"$f":"IF(OFFSET(DE104_5B!$U$34,ROWS($V$34:V62)-1,COLUMNS($V$34:V62)-1)<>\"\",OFFSET(DE104_5B!$U$34,ROWS($V$34:V62)-1,COLUMNS($V$34:V62)-1),\"\")","v":""},null,null,null,null,null,null,{"$f":"IF(OFFSET(DE104_5B!$V$34,ROWS($W$34:W62)-1,COLUMNS($W$34:W62)-1)<>\"\",OFFSET(DE104_5B!$V$34,ROWS($W$34:W62)-1,COLUMNS($W$34:W62)-1),\"\")","v":""}]
[null,null,{"$f":"IF(OFFSET(DE104_5B!$A$33,ROWS($A$33:A63)-1,COLUMNS($A$33:A63)-1)<>\"\",OFFSET(DE104_5B!$A$33,ROWS($A$33:A63)-1,COLUMNS($A$33:A63)-1),\"\")","v":""},null,null,null,{"$f":"IF(OFFSET(DE104_5B!$B$33,ROWS($B$33:B63)-1,COLUMNS($B$33:B63)-1)<>\"\",OFFSET(DE104_5B!$B$33,ROWS($B$33:B63)-1,COLUMNS($B$33:B63)-1),\"\")","v":""},null,null,null,null,null,null,null,null,null,null,null,null,null,null,null,null,null,null,{"$f":"IF(OFFSET(DE104_5B!$C$33,ROWS($C$33:C63)-1,COLUMNS($C$33:C63)-1)<>\"\",OFFSET(DE104_5B!$C$33,ROWS($C$33:C63)-1,COLUMNS($C$33:C63)-1),\"\")","v":""},null,null,null,null,null,null,null,null,null,null,null,null,null,null,null,null,null,null,null,null,null,null,null,{"$f":"IF(OFFSET(DE104_5B!$D$33,ROWS($D$33:D63)-1,COLUMNS($D$33:D63)-1)<>\"\",OFFSET(DE104_5B!$D$33,ROWS($D$33:D63)-1,COLUMNS($D$33:D63)-1),\"\")","v":""},null,null,null,null,{"$f":"IF(OFFSET(DE104_5B!$E$33,ROWS($E$33:E63)-1,COLUMNS($E$33:E63)-1)<>\"\",OFFSET(DE104_5B!$E$33,ROWS($E$33:E63)-1,COLUMNS($E$33:E63)-1),\"\")","v":""},null,null,null,null,null,{"$f":"IF(OFFSET(DE104_5B!$F$33,ROWS($F$33:F63)-1,COLUMNS($F$33:F63)-1)<>\"\",OFFSET(DE104_5B!$F$33,ROWS($F$33:F63)-1,COLUMNS($F$33:F63)-1),\"\")","v":""},null,null,null,null,null,null,null,{"$f":"IF(OFFSET(DE104_5B!$G$33,ROWS($G$33:G63)-1,COLUMNS($G$33:G63)-1)<>\"\",OFFSET(DE104_5B!$G$33,ROWS($G$33:G63)-1,COLUMNS($G$33:G63)-1),\"\")","v":""}]
[null,null,null,null,null,null,null,null,null,null,null,null,null,null,null,null,null,null,null,null,null,null,null,null,null,null,null,null,null,null,null,null,null,null,null,null,null,null,null,null,null,null,null,null,null,null,null,null,null,null,null,null,null,null,null,null,null,null,null,null,null,null,null,null,null,null,null,null,null,null,null,null,null,null,null,null,null,null,null,null,null,{"$f":"IF(OFFSET(DE104_5B!$H$34,ROWS($H$34:H64)-1,COLUMNS($H$34:H64)-1)<>\"\",OFFSET(DE104_5B!$H$34,ROWS($H$34:H64)-1,COLUMNS($H$34:H64)-1),\"\")","v":""},null,null,null,null,null,{"$f":"IF(OFFSET(DE104_5B!$I$34,ROWS($I$34:I64)-1,COLUMNS($I$34:I64)-1)<>\"\",OFFSET(DE104_5B!$I$34,ROWS($I$34:I64)-1,COLUMNS($I$34:I64)-1),\"\")","v":""},null,null,null,{"$f":"IF(OFFSET(DE104_5B!$J$34,ROWS($J$34:J64)-1,COLUMNS($J$34:J64)-1)<>\"\",OFFSET(DE104_5B!$J$34,ROWS($J$34:J64)-1,COLUMNS($J$34:J64)-1),\"\")","v":""},null,null,null,{"$f":"IF(OFFSET(DE104_5B!$K$34,ROWS($K$34:K64)-1,COLUMNS($K$34:K64)-1)<>\"\",OFFSET(DE104_5B!$K$34,ROWS($K$34:K64)-1,COLUMNS($K$34:K64)-1),\"\")","v":""},null,null,null,null,{"$f":"IF(OFFSET(DE104_5B!$L$34,ROWS($L$34:L64)-1,COLUMNS($L$34:L64)-1)<>\"\",OFFSET(DE104_5B!$L$34,ROWS($L$34:L64)-1,COLUMNS($L$34:L64)-1),\"\")","v":""},null,null,null,null,null,null,{"$f":"IF(OFFSET(DE104_5B!$M$34,ROWS($M$34:M64)-1,COLUMNS($M$34:M64)-1)<>\"\",OFFSET(DE104_5B!$M$34,ROWS($M$34:M64)-1,COLUMNS($M$34:M64)-1),\"\")","v":""},null,null,null,null,null,{"$f":"IF(OFFSET(DE104_5B!$O$34,ROWS($O$34:O64)-1,COLUMNS($O$34:O64)-1)<>\"\",OFFSET(DE104_5B!$O$34,ROWS($O$34:O64)-1,COLUMNS($O$34:O64)-1),\"\")","v":""},null,null,null,null,null,{"$f":"IF(OFFSET(DE104_5B!$P$34,ROWS($P$34:P64)-1,COLUMNS($P$34:P64)-1)<>\"\",OFFSET(DE104_5B!$P$34,ROWS($P$34:P64)-1,COLUMNS($P$34:P64)-1),\"\")","v":""},null,null,null,null,{"$f":"IF(OFFSET(DE104_5B!$Q$34,ROWS($Q$34:Q64)-1,COLUMNS($Q$34:Q64)-1)<>\"\",OFFSET(DE104_5B!$Q$34,ROWS($Q$34:Q64)-1,COLUMNS($Q$34:Q64)-1),\"\")","v":""},null,null,null,null,null,null,null,null,null,{"$f":"IF(OFFSET(DE104_5B!$R$34,ROWS($S$34:S64)-1,COLUMNS($S$34:S64)-1)<>\"\",OFFSET(DE104_5B!$R$34,ROWS($S$34:S64)-1,COLUMNS($S$34:S64)-1),\"\")","v":""},null,null,null,null,null,null,null,{"$f":"IF(OFFSET(DE104_5B!$S$34,ROWS($T$34:T64)-1,COLUMNS($T$34:T64)-1)<>\"\",OFFSET(DE104_5B!$S$34,ROWS($T$34:T64)-1,COLUMNS($T$34:T64)-1),\"\")","v":""},null,null,null,null,null,null,null,{"$f":"IF(OFFSET(DE104_5B!$T$34,ROWS($U$34:U64)-1,COLUMNS($U$34:U64)-1)<>\"\",OFFSET(DE104_5B!$T$34,ROWS($U$34:U64)-1,COLUMNS($U$34:U64)-1),\"\")","v":""},null,null,null,null,null,null,null,{"$f":"IF(OFFSET(DE104_5B!$U$34,ROWS($V$34:V64)-1,COLUMNS($V$34:V64)-1)<>\"\",OFFSET(DE104_5B!$U$34,ROWS($V$34:V64)-1,COLUMNS($V$34:V64)-1),\"\")","v":""},null,null,null,null,null,null,{"$f":"IF(OFFSET(DE104_5B!$V$34,ROWS($W$34:W64)-1,COLUMNS($W$34:W64)-1)<>\"\",OFFSET(DE104_5B!$V$34,ROWS($W$34:W64)-1,COLUMNS($W$34:W64)-1),\"\")","v":""}]
[null,null,{"$f":"IF(OFFSET(DE104_5B!$A$33,ROWS($A$33:A65)-1,COLUMNS($A$33:A65)-1)<>\"\",OFFSET(DE104_5B!$A$33,ROWS($A$33:A65)-1,COLUMNS($A$33:A65)-1),\"\")","v":""},null,null,null,{"$f":"IF(OFFSET(DE104_5B!$B$33,ROWS($B$33:B65)-1,COLUMNS($B$33:B65)-1)<>\"\",OFFSET(DE104_5B!$B$33,ROWS($B$33:B65)-1,COLUMNS($B$33:B65)-1),\"\")","v":""},null,null,null,null,null,null,null,null,null,null,null,null,null,null,null,null,null,null,{"$f":"IF(OFFSET(DE104_5B!$C$33,ROWS($C$33:C65)-1,COLUMNS($C$33:C65)-1)<>\"\",OFFSET(DE104_5B!$C$33,ROWS($C$33:C65)-1,COLUMNS($C$33:C65)-1),\"\")","v":""},null,null,null,null,null,null,null,null,null,null,null,null,null,null,null,null,null,null,null,null,null,null,null,{"$f":"IF(OFFSET(DE104_5B!$D$33,ROWS($D$33:D65)-1,COLUMNS($D$33:D65)-1)<>\"\",OFFSET(DE104_5B!$D$33,ROWS($D$33:D65)-1,COLUMNS($D$33:D65)-1),\"\")","v":""},null,null,null,null,{"$f":"IF(OFFSET(DE104_5B!$E$33,ROWS($E$33:E65)-1,COLUMNS($E$33:E65)-1)<>\"\",OFFSET(DE104_5B!$E$33,ROWS($E$33:E65)-1,COLUMNS($E$33:E65)-1),\"\")","v":""},null,null,null,null,null,{"$f":"IF(OFFSET(DE104_5B!$F$33,ROWS($F$33:F65)-1,COLUMNS($F$33:F65)-1)<>\"\",OFFSET(DE104_5B!$F$33,ROWS($F$33:F65)-1,COLUMNS($F$33:F65)-1),\"\")","v":""},null,null,null,null,null,null,null,{"$f":"IF(OFFSET(DE104_5B!$G$33,ROWS($G$33:G65)-1,COLUMNS($G$33:G65)-1)<>\"\",OFFSET(DE104_5B!$G$33,ROWS($G$33:G65)-1,COLUMNS($G$33:G65)-1),\"\")","v":""}]
[null,null,null,null,null,null,null,null,null,null,null,null,null,null,null,null,null,null,null,null,null,null,null,null,null,null,null,null,null,null,null,null,null,null,null,null,null,null,null,null,null,null,null,null,null,null,null,null,null,null,null,null,null,null,null,null,null,null,null,null,null,null,null,null,null,null,null,null,null,null,null,null,null,null,null,null,null,null,null,null,null,{"$f":"IF(OFFSET(DE104_5B!$H$34,ROWS($H$34:H66)-1,COLUMNS($H$34:H66)-1)<>\"\",OFFSET(DE104_5B!$H$34,ROWS($H$34:H66)-1,COLUMNS($H$34:H66)-1),\"\")","v":""},null,null,null,null,null,{"$f":"IF(OFFSET(DE104_5B!$I$34,ROWS($I$34:I66)-1,COLUMNS($I$34:I66)-1)<>\"\",OFFSET(DE104_5B!$I$34,ROWS($I$34:I66)-1,COLUMNS($I$34:I66)-1),\"\")","v":""},null,null,null,{"$f":"IF(OFFSET(DE104_5B!$J$34,ROWS($J$34:J66)-1,COLUMNS($J$34:J66)-1)<>\"\",OFFSET(DE104_5B!$J$34,ROWS($J$34:J66)-1,COLUMNS($J$34:J66)-1),\"\")","v":""},null,null,null,{"$f":"IF(OFFSET(DE104_5B!$K$34,ROWS($K$34:K66)-1,COLUMNS($K$34:K66)-1)<>\"\",OFFSET(DE104_5B!$K$34,ROWS($K$34:K66)-1,COLUMNS($K$34:K66)-1),\"\")","v":""},null,null,null,null,{"$f":"IF(OFFSET(DE104_5B!$L$34,ROWS($L$34:L66)-1,COLUMNS($L$34:L66)-1)<>\"\",OFFSET(DE104_5B!$L$34,ROWS($L$34:L66)-1,COLUMNS($L$34:L66)-1),\"\")","v":""},null,null,null,null,null,null,{"$f":"IF(OFFSET(DE104_5B!$M$34,ROWS($M$34:M66)-1,COLUMNS($M$34:M66)-1)<>\"\",OFFSET(DE104_5B!$M$34,ROWS($M$34:M66)-1,COLUMNS($M$34:M66)-1),\"\")","v":""},null,null,null,null,null,{"$f":"IF(OFFSET(DE104_5B!$O$34,ROWS($O$34:O66)-1,COLUMNS($O$34:O66)-1)<>\"\",OFFSET(DE104_5B!$O$34,ROWS($O$34:O66)-1,COLUMNS($O$34:O66)-1),\"\")","v":""},null,null,null,null,null,{"$f":"IF(OFFSET(DE104_5B!$P$34,ROWS($P$34:P66)-1,COLUMNS($P$34:P66)-1)<>\"\",OFFSET(DE104_5B!$P$34,ROWS($P$34:P66)-1,COLUMNS($P$34:P66)-1),\"\")","v":""},null,null,null,null,{"$f":"IF(OFFSET(DE104_5B!$Q$34,ROWS($Q$34:Q66)-1,COLUMNS($Q$34:Q66)-1)<>\"\",OFFSET(DE104_5B!$Q$34,ROWS($Q$34:Q66)-1,COLUMNS($Q$34:Q66)-1),\"\")","v":""},null,null,null,null,null,null,null,null,null,{"$f":"IF(OFFSET(DE104_5B!$R$34,ROWS($S$34:S66)-1,COLUMNS($S$34:S66)-1)<>\"\",OFFSET(DE104_5B!$R$34,ROWS($S$34:S66)-1,COLUMNS($S$34:S66)-1),\"\")","v":""},null,null,null,null,null,null,null,{"$f":"IF(OFFSET(DE104_5B!$S$34,ROWS($T$34:T66)-1,COLUMNS($T$34:T66)-1)<>\"\",OFFSET(DE104_5B!$S$34,ROWS($T$34:T66)-1,COLUMNS($T$34:T66)-1),\"\")","v":""},null,null,null,null,null,null,null,{"$f":"IF(OFFSET(DE104_5B!$T$34,ROWS($U$34:U66)-1,COLUMNS($U$34:U66)-1)<>\"\",OFFSET(DE104_5B!$T$34,ROWS($U$34:U66)-1,COLUMNS($U$34:U66)-1),\"\")","v":""},null,null,null,null,null,null,null,{"$f":"IF(OFFSET(DE104_5B!$U$34,ROWS($V$34:V66)-1,COLUMNS($V$34:V66)-1)<>\"\",OFFSET(DE104_5B!$U$34,ROWS($V$34:V66)-1,COLUMNS($V$34:V66)-1),\"\")","v":""},null,null,null,null,null,null,{"$f":"IF(OFFSET(DE104_5B!$V$34,ROWS($W$34:W66)-1,COLUMNS($W$34:W66)-1)<>\"\",OFFSET(DE104_5B!$V$34,ROWS($W$34:W66)-1,COLUMNS($W$34:W66)-1),\"\")","v":""}]
[null,null,{"$f":"IF(OFFSET(DE104_5B!$A$33,ROWS($A$33:A67)-1,COLUMNS($A$33:A67)-1)<>\"\",OFFSET(DE104_5B!$A$33,ROWS($A$33:A67)-1,COLUMNS($A$33:A67)-1),\"\")","v":""},null,null,null,{"$f":"IF(OFFSET(DE104_5B!$B$33,ROWS($B$33:B67)-1,COLUMNS($B$33:B67)-1)<>\"\",OFFSET(DE104_5B!$B$33,ROWS($B$33:B67)-1,COLUMNS($B$33:B67)-1),\"\")","v":""},null,null,null,null,null,null,null,null,null,null,null,null,null,null,null,null,null,null,{"$f":"IF(OFFSET(DE104_5B!$C$33,ROWS($C$33:C67)-1,COLUMNS($C$33:C67)-1)<>\"\",OFFSET(DE104_5B!$C$33,ROWS($C$33:C67)-1,COLUMNS($C$33:C67)-1),\"\")","v":""},null,null,null,null,null,null,null,null,null,null,null,null,null,null,null,null,null,null,null,null,null,null,null,{"$f":"IF(OFFSET(DE104_5B!$D$33,ROWS($D$33:D67)-1,COLUMNS($D$33:D67)-1)<>\"\",OFFSET(DE104_5B!$D$33,ROWS($D$33:D67)-1,COLUMNS($D$33:D67)-1),\"\")","v":""},null,null,null,null,{"$f":"IF(OFFSET(DE104_5B!$E$33,ROWS($E$33:E67)-1,COLUMNS($E$33:E67)-1)<>\"\",OFFSET(DE104_5B!$E$33,ROWS($E$33:E67)-1,COLUMNS($E$33:E67)-1),\"\")","v":""},null,null,null,null,null,{"$f":"IF(OFFSET(DE104_5B!$F$33,ROWS($F$33:F67)-1,COLUMNS($F$33:F67)-1)<>\"\",OFFSET(DE104_5B!$F$33,ROWS($F$33:F67)-1,COLUMNS($F$33:F67)-1),\"\")","v":""},null,null,null,null,null,null,null,{"$f":"IF(OFFSET(DE104_5B!$G$33,ROWS($G$33:G67)-1,COLUMNS($G$33:G67)-1)<>\"\",OFFSET(DE104_5B!$G$33,ROWS($G$33:G67)-1,COLUMNS($G$33:G67)-1),\"\")","v":""}]
[null,null,null,null,null,null,null,null,null,null,null,null,null,null,null,null,null,null,null,null,null,null,null,null,null,null,null,null,null,null,null,null,null,null,null,null,null,null,null,null,null,null,null,null,null,null,null,null,null,null,null,null,null,null,null,null,null,null,null,null,null,null,null,null,null,null,null,null,null,null,null,null,null,null,null,null,null,null,null,null,null,{"$f":"IF(OFFSET(DE104_5B!$H$34,ROWS($H$34:H68)-1,COLUMNS($H$34:H68)-1)<>\"\",OFFSET(DE104_5B!$H$34,ROWS($H$34:H68)-1,COLUMNS($H$34:H68)-1),\"\")","v":""},null,null,null,null,null,{"$f":"IF(OFFSET(DE104_5B!$I$34,ROWS($I$34:I68)-1,COLUMNS($I$34:I68)-1)<>\"\",OFFSET(DE104_5B!$I$34,ROWS($I$34:I68)-1,COLUMNS($I$34:I68)-1),\"\")","v":""},null,null,null,{"$f":"IF(OFFSET(DE104_5B!$J$34,ROWS($J$34:J68)-1,COLUMNS($J$34:J68)-1)<>\"\",OFFSET(DE104_5B!$J$34,ROWS($J$34:J68)-1,COLUMNS($J$34:J68)-1),\"\")","v":""},null,null,null,{"$f":"IF(OFFSET(DE104_5B!$K$34,ROWS($K$34:K68)-1,COLUMNS($K$34:K68)-1)<>\"\",OFFSET(DE104_5B!$K$34,ROWS($K$34:K68)-1,COLUMNS($K$34:K68)-1),\"\")","v":""},null,null,null,null,{"$f":"IF(OFFSET(DE104_5B!$L$34,ROWS($L$34:L68)-1,COLUMNS($L$34:L68)-1)<>\"\",OFFSET(DE104_5B!$L$34,ROWS($L$34:L68)-1,COLUMNS($L$34:L68)-1),\"\")","v":""},null,null,null,null,null,null,{"$f":"IF(OFFSET(DE104_5B!$M$34,ROWS($M$34:M68)-1,COLUMNS($M$34:M68)-1)<>\"\",OFFSET(DE104_5B!$M$34,ROWS($M$34:M68)-1,COLUMNS($M$34:M68)-1),\"\")","v":""},null,null,null,null,null,{"$f":"IF(OFFSET(DE104_5B!$O$34,ROWS($O$34:O68)-1,COLUMNS($O$34:O68)-1)<>\"\",OFFSET(DE104_5B!$O$34,ROWS($O$34:O68)-1,COLUMNS($O$34:O68)-1),\"\")","v":""},null,null,null,null,null,{"$f":"IF(OFFSET(DE104_5B!$P$34,ROWS($P$34:P68)-1,COLUMNS($P$34:P68)-1)<>\"\",OFFSET(DE104_5B!$P$34,ROWS($P$34:P68)-1,COLUMNS($P$34:P68)-1),\"\")","v":""},null,null,null,null,{"$f":"IF(OFFSET(DE104_5B!$Q$34,ROWS($Q$34:Q68)-1,COLUMNS($Q$34:Q68)-1)<>\"\",OFFSET(DE104_5B!$Q$34,ROWS($Q$34:Q68)-1,COLUMNS($Q$34:Q68)-1),\"\")","v":""},null,null,null,null,null,null,null,null,null,{"$f":"IF(OFFSET(DE104_5B!$R$34,ROWS($S$34:S68)-1,COLUMNS($S$34:S68)-1)<>\"\",OFFSET(DE104_5B!$R$34,ROWS($S$34:S68)-1,COLUMNS($S$34:S68)-1),\"\")","v":""},null,null,null,null,null,null,null,{"$f":"IF(OFFSET(DE104_5B!$S$34,ROWS($T$34:T68)-1,COLUMNS($T$34:T68)-1)<>\"\",OFFSET(DE104_5B!$S$34,ROWS($T$34:T68)-1,COLUMNS($T$34:T68)-1),\"\")","v":""},null,null,null,null,null,null,null,{"$f":"IF(OFFSET(DE104_5B!$T$34,ROWS($U$34:U68)-1,COLUMNS($U$34:U68)-1)<>\"\",OFFSET(DE104_5B!$T$34,ROWS($U$34:U68)-1,COLUMNS($U$34:U68)-1),\"\")","v":""},null,null,null,null,null,null,null,{"$f":"IF(OFFSET(DE104_5B!$U$34,ROWS($V$34:V68)-1,COLUMNS($V$34:V68)-1)<>\"\",OFFSET(DE104_5B!$U$34,ROWS($V$34:V68)-1,COLUMNS($V$34:V68)-1),\"\")","v":""},null,null,null,null,null,null,{"$f":"IF(OFFSET(DE104_5B!$V$34,ROWS($W$34:W68)-1,COLUMNS($W$34:W68)-1)<>\"\",OFFSET(DE104_5B!$V$34,ROWS($W$34:W68)-1,COLUMNS($W$34:W68)-1),\"\")","v":""}]
[null,null,{"$f":"IF(OFFSET(DE104_5B!$A$33,ROWS($A$33:A69)-1,COLUMNS($A$33:A69)-1)<>\"\",OFFSET(DE104_5B!$A$33,ROWS($A$33:A69)-1,COLUMNS($A$33:A69)-1),\"\")","v":""},null,null,null,{"$f":"IF(OFFSET(DE104_5B!$B$33,ROWS($B$33:B69)-1,COLUMNS($B$33:B69)-1)<>\"\",OFFSET(DE104_5B!$B$33,ROWS($B$33:B69)-1,COLUMNS($B$33:B69)-1),\"\")","v":""},null,null,null,null,null,null,null,null,null,null,null,null,null,null,null,null,null,null,{"$f":"IF(OFFSET(DE104_5B!$C$33,ROWS($C$33:C69)-1,COLUMNS($C$33:C69)-1)<>\"\",OFFSET(DE104_5B!$C$33,ROWS($C$33:C69)-1,COLUMNS($C$33:C69)-1),\"\")","v":""},null,null,null,null,null,null,null,null,null,null,null,null,null,null,null,null,null,null,null,null,null,null,null,{"$f":"IF(OFFSET(DE104_5B!$D$33,ROWS($D$33:D69)-1,COLUMNS($D$33:D69)-1)<>\"\",OFFSET(DE104_5B!$D$33,ROWS($D$33:D69)-1,COLUMNS($D$33:D69)-1),\"\")","v":""},null,null,null,null,{"$f":"IF(OFFSET(DE104_5B!$E$33,ROWS($E$33:E69)-1,COLUMNS($E$33:E69)-1)<>\"\",OFFSET(DE104_5B!$E$33,ROWS($E$33:E69)-1,COLUMNS($E$33:E69)-1),\"\")","v":""},null,null,null,null,null,{"$f":"IF(OFFSET(DE104_5B!$F$33,ROWS($F$33:F69)-1,COLUMNS($F$33:F69)-1)<>\"\",OFFSET(DE104_5B!$F$33,ROWS($F$33:F69)-1,COLUMNS($F$33:F69)-1),\"\")","v":""},null,null,null,null,null,null,null,{"$f":"IF(OFFSET(DE104_5B!$G$33,ROWS($G$33:G69)-1,COLUMNS($G$33:G69)-1)<>\"\",OFFSET(DE104_5B!$G$33,ROWS($G$33:G69)-1,COLUMNS($G$33:G69)-1),\"\")","v":""}]
[null,null,null,null,null,null,null,null,null,null,null,null,null,null,null,null,null,null,null,null,null,null,null,null,null,null,null,null,null,null,null,null,null,null,null,null,null,null,null,null,null,null,null,null,null,null,null,null,null,null,null,null,null,null,null,null,null,null,null,null,null,null,null,null,null,null,null,null,null,null,null,null,null,null,null,null,null,null,null,null,null,{"$f":"IF(OFFSET(DE104_5B!$H$34,ROWS($H$34:H70)-1,COLUMNS($H$34:H70)-1)<>\"\",OFFSET(DE104_5B!$H$34,ROWS($H$34:H70)-1,COLUMNS($H$34:H70)-1),\"\")","v":""},null,null,null,null,null,{"$f":"IF(OFFSET(DE104_5B!$I$34,ROWS($I$34:I70)-1,COLUMNS($I$34:I70)-1)<>\"\",OFFSET(DE104_5B!$I$34,ROWS($I$34:I70)-1,COLUMNS($I$34:I70)-1),\"\")","v":""},null,null,null,{"$f":"IF(OFFSET(DE104_5B!$J$34,ROWS($J$34:J70)-1,COLUMNS($J$34:J70)-1)<>\"\",OFFSET(DE104_5B!$J$34,ROWS($J$34:J70)-1,COLUMNS($J$34:J70)-1),\"\")","v":""},null,null,null,{"$f":"IF(OFFSET(DE104_5B!$K$34,ROWS($K$34:K70)-1,COLUMNS($K$34:K70)-1)<>\"\",OFFSET(DE104_5B!$K$34,ROWS($K$34:K70)-1,COLUMNS($K$34:K70)-1),\"\")","v":""},null,null,null,null,{"$f":"IF(OFFSET(DE104_5B!$L$34,ROWS($L$34:L70)-1,COLUMNS($L$34:L70)-1)<>\"\",OFFSET(DE104_5B!$L$34,ROWS($L$34:L70)-1,COLUMNS($L$34:L70)-1),\"\")","v":""},null,null,null,null,null,null,{"$f":"IF(OFFSET(DE104_5B!$M$34,ROWS($M$34:M70)-1,COLUMNS($M$34:M70)-1)<>\"\",OFFSET(DE104_5B!$M$34,ROWS($M$34:M70)-1,COLUMNS($M$34:M70)-1),\"\")","v":""},null,null,null,null,null,{"$f":"IF(OFFSET(DE104_5B!$O$34,ROWS($O$34:O70)-1,COLUMNS($O$34:O70)-1)<>\"\",OFFSET(DE104_5B!$O$34,ROWS($O$34:O70)-1,COLUMNS($O$34:O70)-1),\"\")","v":""},null,null,null,null,null,{"$f":"IF(OFFSET(DE104_5B!$P$34,ROWS($P$34:P70)-1,COLUMNS($P$34:P70)-1)<>\"\",OFFSET(DE104_5B!$P$34,ROWS($P$34:P70)-1,COLUMNS($P$34:P70)-1),\"\")","v":""},null,null,null,null,{"$f":"IF(OFFSET(DE104_5B!$Q$34,ROWS($Q$34:Q70)-1,COLUMNS($Q$34:Q70)-1)<>\"\",OFFSET(DE104_5B!$Q$34,ROWS($Q$34:Q70)-1,COLUMNS($Q$34:Q70)-1),\"\")","v":""},null,null,null,null,null,null,null,null,null,{"$f":"IF(OFFSET(DE104_5B!$R$34,ROWS($S$34:S70)-1,COLUMNS($S$34:S70)-1)<>\"\",OFFSET(DE104_5B!$R$34,ROWS($S$34:S70)-1,COLUMNS($S$34:S70)-1),\"\")","v":""},null,null,null,null,null,null,null,{"$f":"IF(OFFSET(DE104_5B!$S$34,ROWS($T$34:T70)-1,COLUMNS($T$34:T70)-1)<>\"\",OFFSET(DE104_5B!$S$34,ROWS($T$34:T70)-1,COLUMNS($T$34:T70)-1),\"\")","v":""},null,null,null,null,null,null,null,{"$f":"IF(OFFSET(DE104_5B!$T$34,ROWS($U$34:U70)-1,COLUMNS($U$34:U70)-1)<>\"\",OFFSET(DE104_5B!$T$34,ROWS($U$34:U70)-1,COLUMNS($U$34:U70)-1),\"\")","v":""},null,null,null,null,null,null,null,{"$f":"IF(OFFSET(DE104_5B!$U$34,ROWS($V$34:V70)-1,COLUMNS($V$34:V70)-1)<>\"\",OFFSET(DE104_5B!$U$34,ROWS($V$34:V70)-1,COLUMNS($V$34:V70)-1),\"\")","v":""},null,null,null,null,null,null,{"$f":"IF(OFFSET(DE104_5B!$V$34,ROWS($W$34:W70)-1,COLUMNS($W$34:W70)-1)<>\"\",OFFSET(DE104_5B!$V$34,ROWS($W$34:W70)-1,COLUMNS($W$34:W70)-1),\"\")","v":""}]
[null,null,{"$f":"IF(OFFSET(DE104_5B!$A$33,ROWS($A$33:A71)-1,COLUMNS($A$33:A71)-1)<>\"\",OFFSET(DE104_5B!$A$33,ROWS($A$33:A71)-1,COLUMNS($A$33:A71)-1),\"\")","v":""},null,null,null,{"$f":"IF(OFFSET(DE104_5B!$B$33,ROWS($B$33:B71)-1,COLUMNS($B$33:B71)-1)<>\"\",OFFSET(DE104_5B!$B$33,ROWS($B$33:B71)-1,COLUMNS($B$33:B71)-1),\"\")","v":""},null,null,null,null,null,null,null,null,null,null,null,null,null,null,null,null,null,null,{"$f":"IF(OFFSET(DE104_5B!$C$33,ROWS($C$33:C71)-1,COLUMNS($C$33:C71)-1)<>\"\",OFFSET(DE104_5B!$C$33,ROWS($C$33:C71)-1,COLUMNS($C$33:C71)-1),\"\")","v":""},null,null,null,null,null,null,null,null,null,null,null,null,null,null,null,null,null,null,null,null,null,null,null,{"$f":"IF(OFFSET(DE104_5B!$D$33,ROWS($D$33:D71)-1,COLUMNS($D$33:D71)-1)<>\"\",OFFSET(DE104_5B!$D$33,ROWS($D$33:D71)-1,COLUMNS($D$33:D71)-1),\"\")","v":""},null,null,null,null,{"$f":"IF(OFFSET(DE104_5B!$E$33,ROWS($E$33:E71)-1,COLUMNS($E$33:E71)-1)<>\"\",OFFSET(DE104_5B!$E$33,ROWS($E$33:E71)-1,COLUMNS($E$33:E71)-1),\"\")","v":""},null,null,null,null,null,{"$f":"IF(OFFSET(DE104_5B!$F$33,ROWS($F$33:F71)-1,COLUMNS($F$33:F71)-1)<>\"\",OFFSET(DE104_5B!$F$33,ROWS($F$33:F71)-1,COLUMNS($F$33:F71)-1),\"\")","v":""},null,null,null,null,null,null,null,{"$f":"IF(OFFSET(DE104_5B!$G$33,ROWS($G$33:G71)-1,COLUMNS($G$33:G71)-1)<>\"\",OFFSET(DE104_5B!$G$33,ROWS($G$33:G71)-1,COLUMNS($G$33:G71)-1),\"\")","v":""}]
[null,null,null,null,null,null,null,null,null,null,null,null,null,null,null,null,null,null,null,null,null,null,null,null,null,null,null,null,null,null,null,null,null,null,null,null,null,null,null,null,null,null,null,null,null,null,null,null,null,null,null,null,null,null,null,null,null,null,null,null,null,null,null,null,null,null,null,null,null,null,null,null,null,null,null,null,null,null,null,null,null,{"$f":"IF(OFFSET(DE104_5B!$H$34,ROWS($H$34:H72)-1,COLUMNS($H$34:H72)-1)<>\"\",OFFSET(DE104_5B!$H$34,ROWS($H$34:H72)-1,COLUMNS($H$34:H72)-1),\"\")","v":""},null,null,null,null,null,{"$f":"IF(OFFSET(DE104_5B!$I$34,ROWS($I$34:I72)-1,COLUMNS($I$34:I72)-1)<>\"\",OFFSET(DE104_5B!$I$34,ROWS($I$34:I72)-1,COLUMNS($I$34:I72)-1),\"\")","v":""},null,null,null,{"$f":"IF(OFFSET(DE104_5B!$J$34,ROWS($J$34:J72)-1,COLUMNS($J$34:J72)-1)<>\"\",OFFSET(DE104_5B!$J$34,ROWS($J$34:J72)-1,COLUMNS($J$34:J72)-1),\"\")","v":""},null,null,null,{"$f":"IF(OFFSET(DE104_5B!$K$34,ROWS($K$34:K72)-1,COLUMNS($K$34:K72)-1)<>\"\",OFFSET(DE104_5B!$K$34,ROWS($K$34:K72)-1,COLUMNS($K$34:K72)-1),\"\")","v":""},null,null,null,null,{"$f":"IF(OFFSET(DE104_5B!$L$34,ROWS($L$34:L72)-1,COLUMNS($L$34:L72)-1)<>\"\",OFFSET(DE104_5B!$L$34,ROWS($L$34:L72)-1,COLUMNS($L$34:L72)-1),\"\")","v":""},null,null,null,null,null,null,{"$f":"IF(OFFSET(DE104_5B!$M$34,ROWS($M$34:M72)-1,COLUMNS($M$34:M72)-1)<>\"\",OFFSET(DE104_5B!$M$34,ROWS($M$34:M72)-1,COLUMNS($M$34:M72)-1),\"\")","v":""},null,null,null,null,null,{"$f":"IF(OFFSET(DE104_5B!$O$34,ROWS($O$34:O72)-1,COLUMNS($O$34:O72)-1)<>\"\",OFFSET(DE104_5B!$O$34,ROWS($O$34:O72)-1,COLUMNS($O$34:O72)-1),\"\")","v":""},null,null,null,null,null,{"$f":"IF(OFFSET(DE104_5B!$P$34,ROWS($P$34:P72)-1,COLUMNS($P$34:P72)-1)<>\"\",OFFSET(DE104_5B!$P$34,ROWS($P$34:P72)-1,COLUMNS($P$34:P72)-1),\"\")","v":""},null,null,null,null,{"$f":"IF(OFFSET(DE104_5B!$Q$34,ROWS($Q$34:Q72)-1,COLUMNS($Q$34:Q72)-1)<>\"\",OFFSET(DE104_5B!$Q$34,ROWS($Q$34:Q72)-1,COLUMNS($Q$34:Q72)-1),\"\")","v":""},null,null,null,null,null,null,null,null,null,{"$f":"IF(OFFSET(DE104_5B!$R$34,ROWS($S$34:S72)-1,COLUMNS($S$34:S72)-1)<>\"\",OFFSET(DE104_5B!$R$34,ROWS($S$34:S72)-1,COLUMNS($S$34:S72)-1),\"\")","v":""},null,null,null,null,null,null,null,{"$f":"IF(OFFSET(DE104_5B!$S$34,ROWS($T$34:T72)-1,COLUMNS($T$34:T72)-1)<>\"\",OFFSET(DE104_5B!$S$34,ROWS($T$34:T72)-1,COLUMNS($T$34:T72)-1),\"\")","v":""},null,null,null,null,null,null,null,{"$f":"IF(OFFSET(DE104_5B!$T$34,ROWS($U$34:U72)-1,COLUMNS($U$34:U72)-1)<>\"\",OFFSET(DE104_5B!$T$34,ROWS($U$34:U72)-1,COLUMNS($U$34:U72)-1),\"\")","v":""},null,null,null,null,null,null,null,{"$f":"IF(OFFSET(DE104_5B!$U$34,ROWS($V$34:V72)-1,COLUMNS($V$34:V72)-1)<>\"\",OFFSET(DE104_5B!$U$34,ROWS($V$34:V72)-1,COLUMNS($V$34:V72)-1),\"\")","v":""},null,null,null,null,null,null,{"$f":"IF(OFFSET(DE104_5B!$V$34,ROWS($W$34:W72)-1,COLUMNS($W$34:W72)-1)<>\"\",OFFSET(DE104_5B!$V$34,ROWS($W$34:W72)-1,COLUMNS($W$34:W72)-1),\"\")","v":""}]
[null,null,{"$f":"IF(OFFSET(DE104_5B!$A$33,ROWS($A$33:A73)-1,COLUMNS($A$33:A73)-1)<>\"\",OFFSET(DE104_5B!$A$33,ROWS($A$33:A73)-1,COLUMNS($A$33:A73)-1),\"\")","v":""},null,null,null,{"$f":"IF(OFFSET(DE104_5B!$B$33,ROWS($B$33:B73)-1,COLUMNS($B$33:B73)-1)<>\"\",OFFSET(DE104_5B!$B$33,ROWS($B$33:B73)-1,COLUMNS($B$33:B73)-1),\"\")","v":""},null,null,null,null,null,null,null,null,null,null,null,null,null,null,null,null,null,null,{"$f":"IF(OFFSET(DE104_5B!$C$33,ROWS($C$33:C73)-1,COLUMNS($C$33:C73)-1)<>\"\",OFFSET(DE104_5B!$C$33,ROWS($C$33:C73)-1,COLUMNS($C$33:C73)-1),\"\")","v":""},null,null,null,null,null,null,null,null,null,null,null,null,null,null,null,null,null,null,null,null,null,null,null,{"$f":"IF(OFFSET(DE104_5B!$D$33,ROWS($D$33:D73)-1,COLUMNS($D$33:D73)-1)<>\"\",OFFSET(DE104_5B!$D$33,ROWS($D$33:D73)-1,COLUMNS($D$33:D73)-1),\"\")","v":""},null,null,null,null,{"$f":"IF(OFFSET(DE104_5B!$E$33,ROWS($E$33:E73)-1,COLUMNS($E$33:E73)-1)<>\"\",OFFSET(DE104_5B!$E$33,ROWS($E$33:E73)-1,COLUMNS($E$33:E73)-1),\"\")","v":""},null,null,null,null,null,{"$f":"IF(OFFSET(DE104_5B!$F$33,ROWS($F$33:F73)-1,COLUMNS($F$33:F73)-1)<>\"\",OFFSET(DE104_5B!$F$33,ROWS($F$33:F73)-1,COLUMNS($F$33:F73)-1),\"\")","v":""},null,null,null,null,null,null,null,{"$f":"IF(OFFSET(DE104_5B!$G$33,ROWS($G$33:G73)-1,COLUMNS($G$33:G73)-1)<>\"\",OFFSET(DE104_5B!$G$33,ROWS($G$33:G73)-1,COLUMNS($G$33:G73)-1),\"\")","v":""}]
[null,null,null,null,null,null,null,null,null,null,null,null,null,null,null,null,null,null,null,null,null,null,null,null,null,null,null,null,null,null,null,null,null,null,null,null,null,null,null,null,null,null,null,null,null,null,null,null,null,null,null,null,null,null,null,null,null,null,null,null,null,null,null,null,null,null,null,null,null,null,null,null,null,null,null,null,null,null,null,null,null,{"$f":"IF(OFFSET(DE104_5B!$H$34,ROWS($H$34:H74)-1,COLUMNS($H$34:H74)-1)<>\"\",OFFSET(DE104_5B!$H$34,ROWS($H$34:H74)-1,COLUMNS($H$34:H74)-1),\"\")","v":""},null,null,null,null,null,{"$f":"IF(OFFSET(DE104_5B!$I$34,ROWS($I$34:I74)-1,COLUMNS($I$34:I74)-1)<>\"\",OFFSET(DE104_5B!$I$34,ROWS($I$34:I74)-1,COLUMNS($I$34:I74)-1),\"\")","v":""},null,null,null,{"$f":"IF(OFFSET(DE104_5B!$J$34,ROWS($J$34:J74)-1,COLUMNS($J$34:J74)-1)<>\"\",OFFSET(DE104_5B!$J$34,ROWS($J$34:J74)-1,COLUMNS($J$34:J74)-1),\"\")","v":""},null,null,null,{"$f":"IF(OFFSET(DE104_5B!$K$34,ROWS($K$34:K74)-1,COLUMNS($K$34:K74)-1)<>\"\",OFFSET(DE104_5B!$K$34,ROWS($K$34:K74)-1,COLUMNS($K$34:K74)-1),\"\")","v":""},null,null,null,null,{"$f":"IF(OFFSET(DE104_5B!$L$34,ROWS($L$34:L74)-1,COLUMNS($L$34:L74)-1)<>\"\",OFFSET(DE104_5B!$L$34,ROWS($L$34:L74)-1,COLUMNS($L$34:L74)-1),\"\")","v":""},null,null,null,null,null,null,{"$f":"IF(OFFSET(DE104_5B!$M$34,ROWS($M$34:M74)-1,COLUMNS($M$34:M74)-1)<>\"\",OFFSET(DE104_5B!$M$34,ROWS($M$34:M74)-1,COLUMNS($M$34:M74)-1),\"\")","v":""},null,null,null,null,null,{"$f":"IF(OFFSET(DE104_5B!$O$34,ROWS($O$34:O74)-1,COLUMNS($O$34:O74)-1)<>\"\",OFFSET(DE104_5B!$O$34,ROWS($O$34:O74)-1,COLUMNS($O$34:O74)-1),\"\")","v":""},null,null,null,null,null,{"$f":"IF(OFFSET(DE104_5B!$P$34,ROWS($P$34:P74)-1,COLUMNS($P$34:P74)-1)<>\"\",OFFSET(DE104_5B!$P$34,ROWS($P$34:P74)-1,COLUMNS($P$34:P74)-1),\"\")","v":""},null,null,null,null,{"$f":"IF(OFFSET(DE104_5B!$Q$34,ROWS($Q$34:Q74)-1,COLUMNS($Q$34:Q74)-1)<>\"\",OFFSET(DE104_5B!$Q$34,ROWS($Q$34:Q74)-1,COLUMNS($Q$34:Q74)-1),\"\")","v":""},null,null,null,null,null,null,null,null,null,{"$f":"IF(OFFSET(DE104_5B!$R$34,ROWS($S$34:S74)-1,COLUMNS($S$34:S74)-1)<>\"\",OFFSET(DE104_5B!$R$34,ROWS($S$34:S74)-1,COLUMNS($S$34:S74)-1),\"\")","v":""},null,null,null,null,null,null,null,{"$f":"IF(OFFSET(DE104_5B!$S$34,ROWS($T$34:T74)-1,COLUMNS($T$34:T74)-1)<>\"\",OFFSET(DE104_5B!$S$34,ROWS($T$34:T74)-1,COLUMNS($T$34:T74)-1),\"\")","v":""},null,null,null,null,null,null,null,{"$f":"IF(OFFSET(DE104_5B!$T$34,ROWS($U$34:U74)-1,COLUMNS($U$34:U74)-1)<>\"\",OFFSET(DE104_5B!$T$34,ROWS($U$34:U74)-1,COLUMNS($U$34:U74)-1),\"\")","v":""},null,null,null,null,null,null,null,{"$f":"IF(OFFSET(DE104_5B!$U$34,ROWS($V$34:V74)-1,COLUMNS($V$34:V74)-1)<>\"\",OFFSET(DE104_5B!$U$34,ROWS($V$34:V74)-1,COLUMNS($V$34:V74)-1),\"\")","v":""},null,null,null,null,null,null,{"$f":"IF(OFFSET(DE104_5B!$V$34,ROWS($W$34:W74)-1,COLUMNS($W$34:W74)-1)<>\"\",OFFSET(DE104_5B!$V$34,ROWS($W$34:W74)-1,COLUMNS($W$34:W74)-1),\"\")","v":""}]
[null,null,{"$f":"IF(OFFSET(DE104_5B!$A$33,ROWS($A$33:A75)-1,COLUMNS($A$33:A75)-1)<>\"\",OFFSET(DE104_5B!$A$33,ROWS($A$33:A75)-1,COLUMNS($A$33:A75)-1),\"\")","v":""},null,null,null,{"$f":"IF(OFFSET(DE104_5B!$B$33,ROWS($B$33:B75)-1,COLUMNS($B$33:B75)-1)<>\"\",OFFSET(DE104_5B!$B$33,ROWS($B$33:B75)-1,COLUMNS($B$33:B75)-1),\"\")","v":""},null,null,null,null,null,null,null,null,null,null,null,null,null,null,null,null,null,null,{"$f":"IF(OFFSET(DE104_5B!$C$33,ROWS($C$33:C75)-1,COLUMNS($C$33:C75)-1)<>\"\",OFFSET(DE104_5B!$C$33,ROWS($C$33:C75)-1,COLUMNS($C$33:C75)-1),\"\")","v":""},null,null,null,null,null,null,null,null,null,null,null,null,null,null,null,null,null,null,null,null,null,null,null,{"$f":"IF(OFFSET(DE104_5B!$D$33,ROWS($D$33:D75)-1,COLUMNS($D$33:D75)-1)<>\"\",OFFSET(DE104_5B!$D$33,ROWS($D$33:D75)-1,COLUMNS($D$33:D75)-1),\"\")","v":""},null,null,null,null,{"$f":"IF(OFFSET(DE104_5B!$E$33,ROWS($E$33:E75)-1,COLUMNS($E$33:E75)-1)<>\"\",OFFSET(DE104_5B!$E$33,ROWS($E$33:E75)-1,COLUMNS($E$33:E75)-1),\"\")","v":""},null,null,null,null,null,{"$f":"IF(OFFSET(DE104_5B!$F$33,ROWS($F$33:F75)-1,COLUMNS($F$33:F75)-1)<>\"\",OFFSET(DE104_5B!$F$33,ROWS($F$33:F75)-1,COLUMNS($F$33:F75)-1),\"\")","v":""},null,null,null,null,null,null,null,{"$f":"IF(OFFSET(DE104_5B!$G$33,ROWS($G$33:G75)-1,COLUMNS($G$33:G75)-1)<>\"\",OFFSET(DE104_5B!$G$33,ROWS($G$33:G75)-1,COLUMNS($G$33:G75)-1),\"\")","v":""}]
[null,null,null,null,null,null,null,null,null,null,null,null,null,null,null,null,null,null,null,null,null,null,null,null,null,null,null,null,null,null,null,null,null,null,null,null,null,null,null,null,null,null,null,null,null,null,null,null,null,null,null,null,null,null,null,null,null,null,null,null,null,null,null,null,null,null,null,null,null,null,null,null,null,null,null,null,null,null,null,null,null,{"$f":"IF(OFFSET(DE104_5B!$H$34,ROWS($H$34:H76)-1,COLUMNS($H$34:H76)-1)<>\"\",OFFSET(DE104_5B!$H$34,ROWS($H$34:H76)-1,COLUMNS($H$34:H76)-1),\"\")","v":""},null,null,null,null,null,{"$f":"IF(OFFSET(DE104_5B!$I$34,ROWS($I$34:I76)-1,COLUMNS($I$34:I76)-1)<>\"\",OFFSET(DE104_5B!$I$34,ROWS($I$34:I76)-1,COLUMNS($I$34:I76)-1),\"\")","v":""},null,null,null,{"$f":"IF(OFFSET(DE104_5B!$J$34,ROWS($J$34:J76)-1,COLUMNS($J$34:J76)-1)<>\"\",OFFSET(DE104_5B!$J$34,ROWS($J$34:J76)-1,COLUMNS($J$34:J76)-1),\"\")","v":""},null,null,null,{"$f":"IF(OFFSET(DE104_5B!$K$34,ROWS($K$34:K76)-1,COLUMNS($K$34:K76)-1)<>\"\",OFFSET(DE104_5B!$K$34,ROWS($K$34:K76)-1,COLUMNS($K$34:K76)-1),\"\")","v":""},null,null,null,null,{"$f":"IF(OFFSET(DE104_5B!$L$34,ROWS($L$34:L76)-1,COLUMNS($L$34:L76)-1)<>\"\",OFFSET(DE104_5B!$L$34,ROWS($L$34:L76)-1,COLUMNS($L$34:L76)-1),\"\")","v":""},null,null,null,null,null,null,{"$f":"IF(OFFSET(DE104_5B!$M$34,ROWS($M$34:M76)-1,COLUMNS($M$34:M76)-1)<>\"\",OFFSET(DE104_5B!$M$34,ROWS($M$34:M76)-1,COLUMNS($M$34:M76)-1),\"\")","v":""},null,null,null,null,null,{"$f":"IF(OFFSET(DE104_5B!$O$34,ROWS($O$34:O76)-1,COLUMNS($O$34:O76)-1)<>\"\",OFFSET(DE104_5B!$O$34,ROWS($O$34:O76)-1,COLUMNS($O$34:O76)-1),\"\")","v":""},null,null,null,null,null,{"$f":"IF(OFFSET(DE104_5B!$P$34,ROWS($P$34:P76)-1,COLUMNS($P$34:P76)-1)<>\"\",OFFSET(DE104_5B!$P$34,ROWS($P$34:P76)-1,COLUMNS($P$34:P76)-1),\"\")","v":""},null,null,null,null,{"$f":"IF(OFFSET(DE104_5B!$Q$34,ROWS($Q$34:Q76)-1,COLUMNS($Q$34:Q76)-1)<>\"\",OFFSET(DE104_5B!$Q$34,ROWS($Q$34:Q76)-1,COLUMNS($Q$34:Q76)-1),\"\")","v":""},null,null,null,null,null,null,null,null,null,{"$f":"IF(OFFSET(DE104_5B!$R$34,ROWS($S$34:S76)-1,COLUMNS($S$34:S76)-1)<>\"\",OFFSET(DE104_5B!$R$34,ROWS($S$34:S76)-1,COLUMNS($S$34:S76)-1),\"\")","v":""},null,null,null,null,null,null,null,{"$f":"IF(OFFSET(DE104_5B!$S$34,ROWS($T$34:T76)-1,COLUMNS($T$34:T76)-1)<>\"\",OFFSET(DE104_5B!$S$34,ROWS($T$34:T76)-1,COLUMNS($T$34:T76)-1),\"\")","v":""},null,null,null,null,null,null,null,{"$f":"IF(OFFSET(DE104_5B!$T$34,ROWS($U$34:U76)-1,COLUMNS($U$34:U76)-1)<>\"\",OFFSET(DE104_5B!$T$34,ROWS($U$34:U76)-1,COLUMNS($U$34:U76)-1),\"\")","v":""},null,null,null,null,null,null,null,{"$f":"IF(OFFSET(DE104_5B!$U$34,ROWS($V$34:V76)-1,COLUMNS($V$34:V76)-1)<>\"\",OFFSET(DE104_5B!$U$34,ROWS($V$34:V76)-1,COLUMNS($V$34:V76)-1),\"\")","v":""},null,null,null,null,null,null,{"$f":"IF(OFFSET(DE104_5B!$V$34,ROWS($W$34:W76)-1,COLUMNS($W$34:W76)-1)<>\"\",OFFSET(DE104_5B!$V$34,ROWS($W$34:W76)-1,COLUMNS($W$34:W76)-1),\"\")","v":""}]
[null,null,{"$f":"IF(OFFSET(DE104_5B!$A$33,ROWS($A$33:A77)-1,COLUMNS($A$33:A77)-1)<>\"\",OFFSET(DE104_5B!$A$33,ROWS($A$33:A77)-1,COLUMNS($A$33:A77)-1),\"\")","v":""},null,null,null,{"$f":"IF(OFFSET(DE104_5B!$B$33,ROWS($B$33:B77)-1,COLUMNS($B$33:B77)-1)<>\"\",OFFSET(DE104_5B!$B$33,ROWS($B$33:B77)-1,COLUMNS($B$33:B77)-1),\"\")","v":""},null,null,null,null,null,null,null,null,null,null,null,null,null,null,null,null,null,null,{"$f":"IF(OFFSET(DE104_5B!$C$33,ROWS($C$33:C77)-1,COLUMNS($C$33:C77)-1)<>\"\",OFFSET(DE104_5B!$C$33,ROWS($C$33:C77)-1,COLUMNS($C$33:C77)-1),\"\")","v":""},null,null,null,null,null,null,null,null,null,null,null,null,null,null,null,null,null,null,null,null,null,null,null,{"$f":"IF(OFFSET(DE104_5B!$D$33,ROWS($D$33:D77)-1,COLUMNS($D$33:D77)-1)<>\"\",OFFSET(DE104_5B!$D$33,ROWS($D$33:D77)-1,COLUMNS($D$33:D77)-1),\"\")","v":""},null,null,null,null,{"$f":"IF(OFFSET(DE104_5B!$E$33,ROWS($E$33:E77)-1,COLUMNS($E$33:E77)-1)<>\"\",OFFSET(DE104_5B!$E$33,ROWS($E$33:E77)-1,COLUMNS($E$33:E77)-1),\"\")","v":""},null,null,null,null,null,{"$f":"IF(OFFSET(DE104_5B!$F$33,ROWS($F$33:F77)-1,COLUMNS($F$33:F77)-1)<>\"\",OFFSET(DE104_5B!$F$33,ROWS($F$33:F77)-1,COLUMNS($F$33:F77)-1),\"\")","v":""},null,null,null,null,null,null,null,{"$f":"IF(OFFSET(DE104_5B!$G$33,ROWS($G$33:G77)-1,COLUMNS($G$33:G77)-1)<>\"\",OFFSET(DE104_5B!$G$33,ROWS($G$33:G77)-1,COLUMNS($G$33:G77)-1),\"\")","v":""}]
[null,null,null,null,null,null,null,null,null,null,null,null,null,null,null,null,null,null,null,null,null,null,null,null,null,null,null,null,null,null,null,null,null,null,null,null,null,null,null,null,null,null,null,null,null,null,null,null,null,null,null,null,null,null,null,null,null,null,null,null,null,null,null,null,null,null,null,null,null,null,null,null,null,null,null,null,null,null,null,null,null,{"$f":"IF(OFFSET(DE104_5B!$H$34,ROWS($H$34:H78)-1,COLUMNS($H$34:H78)-1)<>\"\",OFFSET(DE104_5B!$H$34,ROWS($H$34:H78)-1,COLUMNS($H$34:H78)-1),\"\")","v":""},null,null,null,null,null,{"$f":"IF(OFFSET(DE104_5B!$I$34,ROWS($I$34:I78)-1,COLUMNS($I$34:I78)-1)<>\"\",OFFSET(DE104_5B!$I$34,ROWS($I$34:I78)-1,COLUMNS($I$34:I78)-1),\"\")","v":""},null,null,null,{"$f":"IF(OFFSET(DE104_5B!$J$34,ROWS($J$34:J78)-1,COLUMNS($J$34:J78)-1)<>\"\",OFFSET(DE104_5B!$J$34,ROWS($J$34:J78)-1,COLUMNS($J$34:J78)-1),\"\")","v":""},null,null,null,{"$f":"IF(OFFSET(DE104_5B!$K$34,ROWS($K$34:K78)-1,COLUMNS($K$34:K78)-1)<>\"\",OFFSET(DE104_5B!$K$34,ROWS($K$34:K78)-1,COLUMNS($K$34:K78)-1),\"\")","v":""},null,null,null,null,{"$f":"IF(OFFSET(DE104_5B!$L$34,ROWS($L$34:L78)-1,COLUMNS($L$34:L78)-1)<>\"\",OFFSET(DE104_5B!$L$34,ROWS($L$34:L78)-1,COLUMNS($L$34:L78)-1),\"\")","v":""},null,null,null,null,null,null,{"$f":"IF(OFFSET(DE104_5B!$M$34,ROWS($M$34:M78)-1,COLUMNS($M$34:M78)-1)<>\"\",OFFSET(DE104_5B!$M$34,ROWS($M$34:M78)-1,COLUMNS($M$34:M78)-1),\"\")","v":""},null,null,null,null,null,{"$f":"IF(OFFSET(DE104_5B!$O$34,ROWS($O$34:O78)-1,COLUMNS($O$34:O78)-1)<>\"\",OFFSET(DE104_5B!$O$34,ROWS($O$34:O78)-1,COLUMNS($O$34:O78)-1),\"\")","v":""},null,null,null,null,null,{"$f":"IF(OFFSET(DE104_5B!$P$34,ROWS($P$34:P78)-1,COLUMNS($P$34:P78)-1)<>\"\",OFFSET(DE104_5B!$P$34,ROWS($P$34:P78)-1,COLUMNS($P$34:P78)-1),\"\")","v":""},null,null,null,null,{"$f":"IF(OFFSET(DE104_5B!$Q$34,ROWS($Q$34:Q78)-1,COLUMNS($Q$34:Q78)-1)<>\"\",OFFSET(DE104_5B!$Q$34,ROWS($Q$34:Q78)-1,COLUMNS($Q$34:Q78)-1),\"\")","v":""},null,null,null,null,null,null,null,null,null,{"$f":"IF(OFFSET(DE104_5B!$R$34,ROWS($S$34:S78)-1,COLUMNS($S$34:S78)-1)<>\"\",OFFSET(DE104_5B!$R$34,ROWS($S$34:S78)-1,COLUMNS($S$34:S78)-1),\"\")","v":""},null,null,null,null,null,null,null,{"$f":"IF(OFFSET(DE104_5B!$S$34,ROWS($T$34:T78)-1,COLUMNS($T$34:T78)-1)<>\"\",OFFSET(DE104_5B!$S$34,ROWS($T$34:T78)-1,COLUMNS($T$34:T78)-1),\"\")","v":""},null,null,null,null,null,null,null,{"$f":"IF(OFFSET(DE104_5B!$T$34,ROWS($U$34:U78)-1,COLUMNS($U$34:U78)-1)<>\"\",OFFSET(DE104_5B!$T$34,ROWS($U$34:U78)-1,COLUMNS($U$34:U78)-1),\"\")","v":""},null,null,null,null,null,null,null,{"$f":"IF(OFFSET(DE104_5B!$U$34,ROWS($V$34:V78)-1,COLUMNS($V$34:V78)-1)<>\"\",OFFSET(DE104_5B!$U$34,ROWS($V$34:V78)-1,COLUMNS($V$34:V78)-1),\"\")","v":""},null,null,null,null,null,null,{"$f":"IF(OFFSET(DE104_5B!$V$34,ROWS($W$34:W78)-1,COLUMNS($W$34:W78)-1)<>\"\",OFFSET(DE104_5B!$V$34,ROWS($W$34:W78)-1,COLUMNS($W$34:W78)-1),\"\")","v":""}]
[null,null,{"$f":"IF(OFFSET(DE104_5B!$A$33,ROWS($A$33:A79)-1,COLUMNS($A$33:A79)-1)<>\"\",OFFSET(DE104_5B!$A$33,ROWS($A$33:A79)-1,COLUMNS($A$33:A79)-1),\"\")","v":""},null,null,null,{"$f":"IF(OFFSET(DE104_5B!$B$33,ROWS($B$33:B79)-1,COLUMNS($B$33:B79)-1)<>\"\",OFFSET(DE104_5B!$B$33,ROWS($B$33:B79)-1,COLUMNS($B$33:B79)-1),\"\")","v":""},null,null,null,null,null,null,null,null,null,null,null,null,null,null,null,null,null,null,{"$f":"IF(OFFSET(DE104_5B!$C$33,ROWS($C$33:C79)-1,COLUMNS($C$33:C79)-1)<>\"\",OFFSET(DE104_5B!$C$33,ROWS($C$33:C79)-1,COLUMNS($C$33:C79)-1),\"\")","v":""},null,null,null,null,null,null,null,null,null,null,null,null,null,null,null,null,null,null,null,null,null,null,null,{"$f":"IF(OFFSET(DE104_5B!$D$33,ROWS($D$33:D79)-1,COLUMNS($D$33:D79)-1)<>\"\",OFFSET(DE104_5B!$D$33,ROWS($D$33:D79)-1,COLUMNS($D$33:D79)-1),\"\")","v":""},null,null,null,null,{"$f":"IF(OFFSET(DE104_5B!$E$33,ROWS($E$33:E79)-1,COLUMNS($E$33:E79)-1)<>\"\",OFFSET(DE104_5B!$E$33,ROWS($E$33:E79)-1,COLUMNS($E$33:E79)-1),\"\")","v":""},null,null,null,null,null,{"$f":"IF(OFFSET(DE104_5B!$F$33,ROWS($F$33:F79)-1,COLUMNS($F$33:F79)-1)<>\"\",OFFSET(DE104_5B!$F$33,ROWS($F$33:F79)-1,COLUMNS($F$33:F79)-1),\"\")","v":""},null,null,null,null,null,null,null,{"$f":"IF(OFFSET(DE104_5B!$G$33,ROWS($G$33:G79)-1,COLUMNS($G$33:G79)-1)<>\"\",OFFSET(DE104_5B!$G$33,ROWS($G$33:G79)-1,COLUMNS($G$33:G79)-1),\"\")","v":""}]
[null,null,null,null,null,null,null,null,null,null,null,null,null,null,null,null,null,null,null,null,null,null,null,null,null,null,null,null,null,null,null,null,null,null,null,null,null,null,null,null,null,null,null,null,null,null,null,null,null,null,null,null,null,null,null,null,null,null,null,null,null,null,null,null,null,null,null,null,null,null,null,null,null,null,null,null,null,null,null,null,null,{"$f":"IF(OFFSET(DE104_5B!$H$34,ROWS($H$34:H80)-1,COLUMNS($H$34:H80)-1)<>\"\",OFFSET(DE104_5B!$H$34,ROWS($H$34:H80)-1,COLUMNS($H$34:H80)-1),\"\")","v":""},null,null,null,null,null,{"$f":"IF(OFFSET(DE104_5B!$I$34,ROWS($I$34:I80)-1,COLUMNS($I$34:I80)-1)<>\"\",OFFSET(DE104_5B!$I$34,ROWS($I$34:I80)-1,COLUMNS($I$34:I80)-1),\"\")","v":""},null,null,null,{"$f":"IF(OFFSET(DE104_5B!$J$34,ROWS($J$34:J80)-1,COLUMNS($J$34:J80)-1)<>\"\",OFFSET(DE104_5B!$J$34,ROWS($J$34:J80)-1,COLUMNS($J$34:J80)-1),\"\")","v":""},null,null,null,{"$f":"IF(OFFSET(DE104_5B!$K$34,ROWS($K$34:K80)-1,COLUMNS($K$34:K80)-1)<>\"\",OFFSET(DE104_5B!$K$34,ROWS($K$34:K80)-1,COLUMNS($K$34:K80)-1),\"\")","v":""},null,null,null,null,{"$f":"IF(OFFSET(DE104_5B!$L$34,ROWS($L$34:L80)-1,COLUMNS($L$34:L80)-1)<>\"\",OFFSET(DE104_5B!$L$34,ROWS($L$34:L80)-1,COLUMNS($L$34:L80)-1),\"\")","v":""},null,null,null,null,null,null,{"$f":"IF(OFFSET(DE104_5B!$M$34,ROWS($M$34:M80)-1,COLUMNS($M$34:M80)-1)<>\"\",OFFSET(DE104_5B!$M$34,ROWS($M$34:M80)-1,COLUMNS($M$34:M80)-1),\"\")","v":""},null,null,null,null,null,{"$f":"IF(OFFSET(DE104_5B!$O$34,ROWS($O$34:O80)-1,COLUMNS($O$34:O80)-1)<>\"\",OFFSET(DE104_5B!$O$34,ROWS($O$34:O80)-1,COLUMNS($O$34:O80)-1),\"\")","v":""},null,null,null,null,null,{"$f":"IF(OFFSET(DE104_5B!$P$34,ROWS($P$34:P80)-1,COLUMNS($P$34:P80)-1)<>\"\",OFFSET(DE104_5B!$P$34,ROWS($P$34:P80)-1,COLUMNS($P$34:P80)-1),\"\")","v":""},null,null,null,null,{"$f":"IF(OFFSET(DE104_5B!$Q$34,ROWS($Q$34:Q80)-1,COLUMNS($Q$34:Q80)-1)<>\"\",OFFSET(DE104_5B!$Q$34,ROWS($Q$34:Q80)-1,COLUMNS($Q$34:Q80)-1),\"\")","v":""},null,null,null,null,null,null,null,null,null,{"$f":"IF(OFFSET(DE104_5B!$R$34,ROWS($S$34:S80)-1,COLUMNS($S$34:S80)-1)<>\"\",OFFSET(DE104_5B!$R$34,ROWS($S$34:S80)-1,COLUMNS($S$34:S80)-1),\"\")","v":""},null,null,null,null,null,null,null,{"$f":"IF(OFFSET(DE104_5B!$S$34,ROWS($T$34:T80)-1,COLUMNS($T$34:T80)-1)<>\"\",OFFSET(DE104_5B!$S$34,ROWS($T$34:T80)-1,COLUMNS($T$34:T80)-1),\"\")","v":""},null,null,null,null,null,null,null,{"$f":"IF(OFFSET(DE104_5B!$T$34,ROWS($U$34:U80)-1,COLUMNS($U$34:U80)-1)<>\"\",OFFSET(DE104_5B!$T$34,ROWS($U$34:U80)-1,COLUMNS($U$34:U80)-1),\"\")","v":""},null,null,null,null,null,null,null,{"$f":"IF(OFFSET(DE104_5B!$U$34,ROWS($V$34:V80)-1,COLUMNS($V$34:V80)-1)<>\"\",OFFSET(DE104_5B!$U$34,ROWS($V$34:V80)-1,COLUMNS($V$34:V80)-1),\"\")","v":""},null,null,null,null,null,null,{"$f":"IF(OFFSET(DE104_5B!$V$34,ROWS($W$34:W80)-1,COLUMNS($W$34:W80)-1)<>\"\",OFFSET(DE104_5B!$V$34,ROWS($W$34:W80)-1,COLUMNS($W$34:W80)-1),\"\")","v":""}]
[null,null,{"$f":"IF(OFFSET(DE104_5B!$A$33,ROWS($A$33:A81)-1,COLUMNS($A$33:A81)-1)<>\"\",OFFSET(DE104_5B!$A$33,ROWS($A$33:A81)-1,COLUMNS($A$33:A81)-1),\"\")","v":""},null,null,null,{"$f":"IF(OFFSET(DE104_5B!$B$33,ROWS($B$33:B81)-1,COLUMNS($B$33:B81)-1)<>\"\",OFFSET(DE104_5B!$B$33,ROWS($B$33:B81)-1,COLUMNS($B$33:B81)-1),\"\")","v":""},null,null,null,null,null,null,null,null,null,null,null,null,null,null,null,null,null,null,{"$f":"IF(OFFSET(DE104_5B!$C$33,ROWS($C$33:C81)-1,COLUMNS($C$33:C81)-1)<>\"\",OFFSET(DE104_5B!$C$33,ROWS($C$33:C81)-1,COLUMNS($C$33:C81)-1),\"\")","v":""},null,null,null,null,null,null,null,null,null,null,null,null,null,null,null,null,null,null,null,null,null,null,null,{"$f":"IF(OFFSET(DE104_5B!$D$33,ROWS($D$33:D81)-1,COLUMNS($D$33:D81)-1)<>\"\",OFFSET(DE104_5B!$D$33,ROWS($D$33:D81)-1,COLUMNS($D$33:D81)-1),\"\")","v":""},null,null,null,null,{"$f":"IF(OFFSET(DE104_5B!$E$33,ROWS($E$33:E81)-1,COLUMNS($E$33:E81)-1)<>\"\",OFFSET(DE104_5B!$E$33,ROWS($E$33:E81)-1,COLUMNS($E$33:E81)-1),\"\")","v":""},null,null,null,null,null,{"$f":"IF(OFFSET(DE104_5B!$F$33,ROWS($F$33:F81)-1,COLUMNS($F$33:F81)-1)<>\"\",OFFSET(DE104_5B!$F$33,ROWS($F$33:F81)-1,COLUMNS($F$33:F81)-1),\"\")","v":""},null,null,null,null,null,null,null,{"$f":"IF(OFFSET(DE104_5B!$G$33,ROWS($G$33:G81)-1,COLUMNS($G$33:G81)-1)<>\"\",OFFSET(DE104_5B!$G$33,ROWS($G$33:G81)-1,COLUMNS($G$33:G81)-1),\"\")","v":""}]
[null,null,null,null,null,null,null,null,null,null,null,null,null,null,null,null,null,null,null,null,null,null,null,null,null,null,null,null,null,null,null,null,null,null,null,null,null,null,null,null,null,null,null,null,null,null,null,null,null,null,null,null,null,null,null,null,null,null,null,null,null,null,null,null,null,null,null,null,null,null,null,null,null,null,null,null,null,null,null,null,null,{"$f":"IF(OFFSET(DE104_5B!$H$34,ROWS($H$34:H82)-1,COLUMNS($H$34:H82)-1)<>\"\",OFFSET(DE104_5B!$H$34,ROWS($H$34:H82)-1,COLUMNS($H$34:H82)-1),\"\")","v":""},null,null,null,null,null,{"$f":"IF(OFFSET(DE104_5B!$I$34,ROWS($I$34:I82)-1,COLUMNS($I$34:I82)-1)<>\"\",OFFSET(DE104_5B!$I$34,ROWS($I$34:I82)-1,COLUMNS($I$34:I82)-1),\"\")","v":""},null,null,null,{"$f":"IF(OFFSET(DE104_5B!$J$34,ROWS($J$34:J82)-1,COLUMNS($J$34:J82)-1)<>\"\",OFFSET(DE104_5B!$J$34,ROWS($J$34:J82)-1,COLUMNS($J$34:J82)-1),\"\")","v":""},null,null,null,{"$f":"IF(OFFSET(DE104_5B!$K$34,ROWS($K$34:K82)-1,COLUMNS($K$34:K82)-1)<>\"\",OFFSET(DE104_5B!$K$34,ROWS($K$34:K82)-1,COLUMNS($K$34:K82)-1),\"\")","v":""},null,null,null,null,{"$f":"IF(OFFSET(DE104_5B!$L$34,ROWS($L$34:L82)-1,COLUMNS($L$34:L82)-1)<>\"\",OFFSET(DE104_5B!$L$34,ROWS($L$34:L82)-1,COLUMNS($L$34:L82)-1),\"\")","v":""},null,null,null,null,null,null,{"$f":"IF(OFFSET(DE104_5B!$M$34,ROWS($M$34:M82)-1,COLUMNS($M$34:M82)-1)<>\"\",OFFSET(DE104_5B!$M$34,ROWS($M$34:M82)-1,COLUMNS($M$34:M82)-1),\"\")","v":""},null,null,null,null,null,{"$f":"IF(OFFSET(DE104_5B!$O$34,ROWS($O$34:O82)-1,COLUMNS($O$34:O82)-1)<>\"\",OFFSET(DE104_5B!$O$34,ROWS($O$34:O82)-1,COLUMNS($O$34:O82)-1),\"\")","v":""},null,null,null,null,null,{"$f":"IF(OFFSET(DE104_5B!$P$34,ROWS($P$34:P82)-1,COLUMNS($P$34:P82)-1)<>\"\",OFFSET(DE104_5B!$P$34,ROWS($P$34:P82)-1,COLUMNS($P$34:P82)-1),\"\")","v":""},null,null,null,null,{"$f":"IF(OFFSET(DE104_5B!$Q$34,ROWS($Q$34:Q82)-1,COLUMNS($Q$34:Q82)-1)<>\"\",OFFSET(DE104_5B!$Q$34,ROWS($Q$34:Q82)-1,COLUMNS($Q$34:Q82)-1),\"\")","v":""},null,null,null,null,null,null,null,null,null,{"$f":"IF(OFFSET(DE104_5B!$R$34,ROWS($S$34:S82)-1,COLUMNS($S$34:S82)-1)<>\"\",OFFSET(DE104_5B!$R$34,ROWS($S$34:S82)-1,COLUMNS($S$34:S82)-1),\"\")","v":""},null,null,null,null,null,null,null,{"$f":"IF(OFFSET(DE104_5B!$S$34,ROWS($T$34:T82)-1,COLUMNS($T$34:T82)-1)<>\"\",OFFSET(DE104_5B!$S$34,ROWS($T$34:T82)-1,COLUMNS($T$34:T82)-1),\"\")","v":""},null,null,null,null,null,null,null,{"$f":"IF(OFFSET(DE104_5B!$T$34,ROWS($U$34:U82)-1,COLUMNS($U$34:U82)-1)<>\"\",OFFSET(DE104_5B!$T$34,ROWS($U$34:U82)-1,COLUMNS($U$34:U82)-1),\"\")","v":""},null,null,null,null,null,null,null,{"$f":"IF(OFFSET(DE104_5B!$U$34,ROWS($V$34:V82)-1,COLUMNS($V$34:V82)-1)<>\"\",OFFSET(DE104_5B!$U$34,ROWS($V$34:V82)-1,COLUMNS($V$34:V82)-1),\"\")","v":""},null,null,null,null,null,null,{"$f":"IF(OFFSET(DE104_5B!$V$34,ROWS($W$34:W82)-1,COLUMNS($W$34:W82)-1)<>\"\",OFFSET(DE104_5B!$V$34,ROWS($W$34:W82)-1,COLUMNS($W$34:W82)-1),\"\")","v":""}]
[null,null,{"$f":"IF(OFFSET(DE104_5B!$A$33,ROWS($A$33:A83)-1,COLUMNS($A$33:A83)-1)<>\"\",OFFSET(DE104_5B!$A$33,ROWS($A$33:A83)-1,COLUMNS($A$33:A83)-1),\"\")","v":""},null,null,null,{"$f":"IF(OFFSET(DE104_5B!$B$33,ROWS($B$33:B83)-1,COLUMNS($B$33:B83)-1)<>\"\",OFFSET(DE104_5B!$B$33,ROWS($B$33:B83)-1,COLUMNS($B$33:B83)-1),\"\")","v":""},null,null,null,null,null,null,null,null,null,null,null,null,null,null,null,null,null,null,{"$f":"IF(OFFSET(DE104_5B!$C$33,ROWS($C$33:C83)-1,COLUMNS($C$33:C83)-1)<>\"\",OFFSET(DE104_5B!$C$33,ROWS($C$33:C83)-1,COLUMNS($C$33:C83)-1),\"\")","v":""},null,null,null,null,null,null,null,null,null,null,null,null,null,null,null,null,null,null,null,null,null,null,null,{"$f":"IF(OFFSET(DE104_5B!$D$33,ROWS($D$33:D83)-1,COLUMNS($D$33:D83)-1)<>\"\",OFFSET(DE104_5B!$D$33,ROWS($D$33:D83)-1,COLUMNS($D$33:D83)-1),\"\")","v":""},null,null,null,null,{"$f":"IF(OFFSET(DE104_5B!$E$33,ROWS($E$33:E83)-1,COLUMNS($E$33:E83)-1)<>\"\",OFFSET(DE104_5B!$E$33,ROWS($E$33:E83)-1,COLUMNS($E$33:E83)-1),\"\")","v":""},null,null,null,null,null,{"$f":"IF(OFFSET(DE104_5B!$F$33,ROWS($F$33:F83)-1,COLUMNS($F$33:F83)-1)<>\"\",OFFSET(DE104_5B!$F$33,ROWS($F$33:F83)-1,COLUMNS($F$33:F83)-1),\"\")","v":""},null,null,null,null,null,null,null,{"$f":"IF(OFFSET(DE104_5B!$G$33,ROWS($G$33:G83)-1,COLUMNS($G$33:G83)-1)<>\"\",OFFSET(DE104_5B!$G$33,ROWS($G$33:G83)-1,COLUMNS($G$33:G83)-1),\"\")","v":""}]
[null,null,null,null,null,null,null,null,null,null,null,null,null,null,null,null,null,null,null,null,null,null,null,null,null,null,null,null,null,null,null,null,null,null,null,null,null,null,null,null,null,null,null,null,null,null,null,null,null,null,null,null,null,null,null,null,null,null,null,null,null,null,null,null,null,null,null,null,null,null,null,null,null,null,null,null,null,null,null,null,null,{"$f":"IF(OFFSET(DE104_5B!$H$34,ROWS($H$34:H84)-1,COLUMNS($H$34:H84)-1)<>\"\",OFFSET(DE104_5B!$H$34,ROWS($H$34:H84)-1,COLUMNS($H$34:H84)-1),\"\")","v":""},null,null,null,null,null,{"$f":"IF(OFFSET(DE104_5B!$I$34,ROWS($I$34:I84)-1,COLUMNS($I$34:I84)-1)<>\"\",OFFSET(DE104_5B!$I$34,ROWS($I$34:I84)-1,COLUMNS($I$34:I84)-1),\"\")","v":""},null,null,null,{"$f":"IF(OFFSET(DE104_5B!$J$34,ROWS($J$34:J84)-1,COLUMNS($J$34:J84)-1)<>\"\",OFFSET(DE104_5B!$J$34,ROWS($J$34:J84)-1,COLUMNS($J$34:J84)-1),\"\")","v":""},null,null,null,{"$f":"IF(OFFSET(DE104_5B!$K$34,ROWS($K$34:K84)-1,COLUMNS($K$34:K84)-1)<>\"\",OFFSET(DE104_5B!$K$34,ROWS($K$34:K84)-1,COLUMNS($K$34:K84)-1),\"\")","v":""},null,null,null,null,{"$f":"IF(OFFSET(DE104_5B!$L$34,ROWS($L$34:L84)-1,COLUMNS($L$34:L84)-1)<>\"\",OFFSET(DE104_5B!$L$34,ROWS($L$34:L84)-1,COLUMNS($L$34:L84)-1),\"\")","v":""},null,null,null,null,null,null,{"$f":"IF(OFFSET(DE104_5B!$M$34,ROWS($M$34:M84)-1,COLUMNS($M$34:M84)-1)<>\"\",OFFSET(DE104_5B!$M$34,ROWS($M$34:M84)-1,COLUMNS($M$34:M84)-1),\"\")","v":""},null,null,null,null,null,{"$f":"IF(OFFSET(DE104_5B!$O$34,ROWS($O$34:O84)-1,COLUMNS($O$34:O84)-1)<>\"\",OFFSET(DE104_5B!$O$34,ROWS($O$34:O84)-1,COLUMNS($O$34:O84)-1),\"\")","v":""},null,null,null,null,null,{"$f":"IF(OFFSET(DE104_5B!$P$34,ROWS($P$34:P84)-1,COLUMNS($P$34:P84)-1)<>\"\",OFFSET(DE104_5B!$P$34,ROWS($P$34:P84)-1,COLUMNS($P$34:P84)-1),\"\")","v":""},null,null,null,null,{"$f":"IF(OFFSET(DE104_5B!$Q$34,ROWS($Q$34:Q84)-1,COLUMNS($Q$34:Q84)-1)<>\"\",OFFSET(DE104_5B!$Q$34,ROWS($Q$34:Q84)-1,COLUMNS($Q$34:Q84)-1),\"\")","v":""},null,null,null,null,null,null,null,null,null,{"$f":"IF(OFFSET(DE104_5B!$R$34,ROWS($S$34:S84)-1,COLUMNS($S$34:S84)-1)<>\"\",OFFSET(DE104_5B!$R$34,ROWS($S$34:S84)-1,COLUMNS($S$34:S84)-1),\"\")","v":""},null,null,null,null,null,null,null,{"$f":"IF(OFFSET(DE104_5B!$S$34,ROWS($T$34:T84)-1,COLUMNS($T$34:T84)-1)<>\"\",OFFSET(DE104_5B!$S$34,ROWS($T$34:T84)-1,COLUMNS($T$34:T84)-1),\"\")","v":""},null,null,null,null,null,null,null,{"$f":"IF(OFFSET(DE104_5B!$T$34,ROWS($U$34:U84)-1,COLUMNS($U$34:U84)-1)<>\"\",OFFSET(DE104_5B!$T$34,ROWS($U$34:U84)-1,COLUMNS($U$34:U84)-1),\"\")","v":""},null,null,null,null,null,null,null,{"$f":"IF(OFFSET(DE104_5B!$U$34,ROWS($V$34:V84)-1,COLUMNS($V$34:V84)-1)<>\"\",OFFSET(DE104_5B!$U$34,ROWS($V$34:V84)-1,COLUMNS($V$34:V84)-1),\"\")","v":""},null,null,null,null,null,null,{"$f":"IF(OFFSET(DE104_5B!$V$34,ROWS($W$34:W84)-1,COLUMNS($W$34:W84)-1)<>\"\",OFFSET(DE104_5B!$V$34,ROWS($W$34:W84)-1,COLUMNS($W$34:W84)-1),\"\")","v":""}]
[null,null,{"$f":"IF(OFFSET(DE104_5B!$A$33,ROWS($A$33:A85)-1,COLUMNS($A$33:A85)-1)<>\"\",OFFSET(DE104_5B!$A$33,ROWS($A$33:A85)-1,COLUMNS($A$33:A85)-1),\"\")","v":""},null,null,null,{"$f":"IF(OFFSET(DE104_5B!$B$33,ROWS($B$33:B85)-1,COLUMNS($B$33:B85)-1)<>\"\",OFFSET(DE104_5B!$B$33,ROWS($B$33:B85)-1,COLUMNS($B$33:B85)-1),\"\")","v":""},null,null,null,null,null,null,null,null,null,null,null,null,null,null,null,null,null,null,{"$f":"IF(OFFSET(DE104_5B!$C$33,ROWS($C$33:C85)-1,COLUMNS($C$33:C85)-1)<>\"\",OFFSET(DE104_5B!$C$33,ROWS($C$33:C85)-1,COLUMNS($C$33:C85)-1),\"\")","v":""},null,null,null,null,null,null,null,null,null,null,null,null,null,null,null,null,null,null,null,null,null,null,null,{"$f":"IF(OFFSET(DE104_5B!$D$33,ROWS($D$33:D85)-1,COLUMNS($D$33:D85)-1)<>\"\",OFFSET(DE104_5B!$D$33,ROWS($D$33:D85)-1,COLUMNS($D$33:D85)-1),\"\")","v":""},null,null,null,null,{"$f":"IF(OFFSET(DE104_5B!$E$33,ROWS($E$33:E85)-1,COLUMNS($E$33:E85)-1)<>\"\",OFFSET(DE104_5B!$E$33,ROWS($E$33:E85)-1,COLUMNS($E$33:E85)-1),\"\")","v":""},null,null,null,null,null,{"$f":"IF(OFFSET(DE104_5B!$F$33,ROWS($F$33:F85)-1,COLUMNS($F$33:F85)-1)<>\"\",OFFSET(DE104_5B!$F$33,ROWS($F$33:F85)-1,COLUMNS($F$33:F85)-1),\"\")","v":""},null,null,null,null,null,null,null,{"$f":"IF(OFFSET(DE104_5B!$G$33,ROWS($G$33:G85)-1,COLUMNS($G$33:G85)-1)<>\"\",OFFSET(DE104_5B!$G$33,ROWS($G$33:G85)-1,COLUMNS($G$33:G85)-1),\"\")","v":""}]
[null,null,null,null,null,null,null,null,null,null,null,null,null,null,null,null,null,null,null,null,null,null,null,null,null,null,null,null,null,null,null,null,null,null,null,null,null,null,null,null,null,null,null,null,null,null,null,null,null,null,null,null,null,null,null,null,null,null,null,null,null,null,null,null,null,null,null,null,null,null,null,null,null,null,null,null,null,null,null,null,null,{"$f":"IF(OFFSET(DE104_5B!$H$34,ROWS($H$34:H86)-1,COLUMNS($H$34:H86)-1)<>\"\",OFFSET(DE104_5B!$H$34,ROWS($H$34:H86)-1,COLUMNS($H$34:H86)-1),\"\")","v":""},null,null,null,null,null,{"$f":"IF(OFFSET(DE104_5B!$I$34,ROWS($I$34:I86)-1,COLUMNS($I$34:I86)-1)<>\"\",OFFSET(DE104_5B!$I$34,ROWS($I$34:I86)-1,COLUMNS($I$34:I86)-1),\"\")","v":""},null,null,null,{"$f":"IF(OFFSET(DE104_5B!$J$34,ROWS($J$34:J86)-1,COLUMNS($J$34:J86)-1)<>\"\",OFFSET(DE104_5B!$J$34,ROWS($J$34:J86)-1,COLUMNS($J$34:J86)-1),\"\")","v":""},null,null,null,{"$f":"IF(OFFSET(DE104_5B!$K$34,ROWS($K$34:K86)-1,COLUMNS($K$34:K86)-1)<>\"\",OFFSET(DE104_5B!$K$34,ROWS($K$34:K86)-1,COLUMNS($K$34:K86)-1),\"\")","v":""},null,null,null,null,{"$f":"IF(OFFSET(DE104_5B!$L$34,ROWS($L$34:L86)-1,COLUMNS($L$34:L86)-1)<>\"\",OFFSET(DE104_5B!$L$34,ROWS($L$34:L86)-1,COLUMNS($L$34:L86)-1),\"\")","v":""},null,null,null,null,null,null,{"$f":"IF(OFFSET(DE104_5B!$M$34,ROWS($M$34:M86)-1,COLUMNS($M$34:M86)-1)<>\"\",OFFSET(DE104_5B!$M$34,ROWS($M$34:M86)-1,COLUMNS($M$34:M86)-1),\"\")","v":""},null,null,null,null,null,{"$f":"IF(OFFSET(DE104_5B!$O$34,ROWS($O$34:O86)-1,COLUMNS($O$34:O86)-1)<>\"\",OFFSET(DE104_5B!$O$34,ROWS($O$34:O86)-1,COLUMNS($O$34:O86)-1),\"\")","v":""},null,null,null,null,null,{"$f":"IF(OFFSET(DE104_5B!$P$34,ROWS($P$34:P86)-1,COLUMNS($P$34:P86)-1)<>\"\",OFFSET(DE104_5B!$P$34,ROWS($P$34:P86)-1,COLUMNS($P$34:P86)-1),\"\")","v":""},null,null,null,null,{"$f":"IF(OFFSET(DE104_5B!$Q$34,ROWS($Q$34:Q86)-1,COLUMNS($Q$34:Q86)-1)<>\"\",OFFSET(DE104_5B!$Q$34,ROWS($Q$34:Q86)-1,COLUMNS($Q$34:Q86)-1),\"\")","v":""},null,null,null,null,null,null,null,null,null,{"$f":"IF(OFFSET(DE104_5B!$R$34,ROWS($S$34:S86)-1,COLUMNS($S$34:S86)-1)<>\"\",OFFSET(DE104_5B!$R$34,ROWS($S$34:S86)-1,COLUMNS($S$34:S86)-1),\"\")","v":""},null,null,null,null,null,null,null,{"$f":"IF(OFFSET(DE104_5B!$S$34,ROWS($T$34:T86)-1,COLUMNS($T$34:T86)-1)<>\"\",OFFSET(DE104_5B!$S$34,ROWS($T$34:T86)-1,COLUMNS($T$34:T86)-1),\"\")","v":""},null,null,null,null,null,null,null,{"$f":"IF(OFFSET(DE104_5B!$T$34,ROWS($U$34:U86)-1,COLUMNS($U$34:U86)-1)<>\"\",OFFSET(DE104_5B!$T$34,ROWS($U$34:U86)-1,COLUMNS($U$34:U86)-1),\"\")","v":""},null,null,null,null,null,null,null,{"$f":"IF(OFFSET(DE104_5B!$U$34,ROWS($V$34:V86)-1,COLUMNS($V$34:V86)-1)<>\"\",OFFSET(DE104_5B!$U$34,ROWS($V$34:V86)-1,COLUMNS($V$34:V86)-1),\"\")","v":""},null,null,null,null,null,null,{"$f":"IF(OFFSET(DE104_5B!$V$34,ROWS($W$34:W86)-1,COLUMNS($W$34:W86)-1)<>\"\",OFFSET(DE104_5B!$V$34,ROWS($W$34:W86)-1,COLUMNS($W$34:W86)-1),\"\")","v":""}]
[null,null,{"$f":"IF(OFFSET(DE104_5B!$A$33,ROWS($A$33:A87)-1,COLUMNS($A$33:A87)-1)<>\"\",OFFSET(DE104_5B!$A$33,ROWS($A$33:A87)-1,COLUMNS($A$33:A87)-1),\"\")","v":""},null,null,null,{"$f":"IF(OFFSET(DE104_5B!$B$33,ROWS($B$33:B87)-1,COLUMNS($B$33:B87)-1)<>\"\",OFFSET(DE104_5B!$B$33,ROWS($B$33:B87)-1,COLUMNS($B$33:B87)-1),\"\")","v":""},null,null,null,null,null,null,null,null,null,null,null,null,null,null,null,null,null,null,{"$f":"IF(OFFSET(DE104_5B!$C$33,ROWS($C$33:C87)-1,COLUMNS($C$33:C87)-1)<>\"\",OFFSET(DE104_5B!$C$33,ROWS($C$33:C87)-1,COLUMNS($C$33:C87)-1),\"\")","v":""},null,null,null,null,null,null,null,null,null,null,null,null,null,null,null,null,null,null,null,null,null,null,null,{"$f":"IF(OFFSET(DE104_5B!$D$33,ROWS($D$33:D87)-1,COLUMNS($D$33:D87)-1)<>\"\",OFFSET(DE104_5B!$D$33,ROWS($D$33:D87)-1,COLUMNS($D$33:D87)-1),\"\")","v":""},null,null,null,null,{"$f":"IF(OFFSET(DE104_5B!$E$33,ROWS($E$33:E87)-1,COLUMNS($E$33:E87)-1)<>\"\",OFFSET(DE104_5B!$E$33,ROWS($E$33:E87)-1,COLUMNS($E$33:E87)-1),\"\")","v":""},null,null,null,null,null,{"$f":"IF(OFFSET(DE104_5B!$F$33,ROWS($F$33:F87)-1,COLUMNS($F$33:F87)-1)<>\"\",OFFSET(DE104_5B!$F$33,ROWS($F$33:F87)-1,COLUMNS($F$33:F87)-1),\"\")","v":""},null,null,null,null,null,null,null,{"$f":"IF(OFFSET(DE104_5B!$G$33,ROWS($G$33:G87)-1,COLUMNS($G$33:G87)-1)<>\"\",OFFSET(DE104_5B!$G$33,ROWS($G$33:G87)-1,COLUMNS($G$33:G87)-1),\"\")","v":""}]
[null,null,null,null,null,null,null,null,null,null,null,null,null,null,null,null,null,null,null,null,null,null,null,null,null,null,null,null,null,null,null,null,null,null,null,null,null,null,null,null,null,null,null,null,null,null,null,null,null,null,null,null,null,null,null,null,null,null,null,null,null,null,null,null,null,null,null,null,null,null,null,null,null,null,null,null,null,null,null,null,null,{"$f":"IF(OFFSET(DE104_5B!$H$34,ROWS($H$34:H88)-1,COLUMNS($H$34:H88)-1)<>\"\",OFFSET(DE104_5B!$H$34,ROWS($H$34:H88)-1,COLUMNS($H$34:H88)-1),\"\")","v":""},null,null,null,null,null,{"$f":"IF(OFFSET(DE104_5B!$I$34,ROWS($I$34:I88)-1,COLUMNS($I$34:I88)-1)<>\"\",OFFSET(DE104_5B!$I$34,ROWS($I$34:I88)-1,COLUMNS($I$34:I88)-1),\"\")","v":""},null,null,null,{"$f":"IF(OFFSET(DE104_5B!$J$34,ROWS($J$34:J88)-1,COLUMNS($J$34:J88)-1)<>\"\",OFFSET(DE104_5B!$J$34,ROWS($J$34:J88)-1,COLUMNS($J$34:J88)-1),\"\")","v":""},null,null,null,{"$f":"IF(OFFSET(DE104_5B!$K$34,ROWS($K$34:K88)-1,COLUMNS($K$34:K88)-1)<>\"\",OFFSET(DE104_5B!$K$34,ROWS($K$34:K88)-1,COLUMNS($K$34:K88)-1),\"\")","v":""},null,null,null,null,{"$f":"IF(OFFSET(DE104_5B!$L$34,ROWS($L$34:L88)-1,COLUMNS($L$34:L88)-1)<>\"\",OFFSET(DE104_5B!$L$34,ROWS($L$34:L88)-1,COLUMNS($L$34:L88)-1),\"\")","v":""},null,null,null,null,null,null,{"$f":"IF(OFFSET(DE104_5B!$M$34,ROWS($M$34:M88)-1,COLUMNS($M$34:M88)-1)<>\"\",OFFSET(DE104_5B!$M$34,ROWS($M$34:M88)-1,COLUMNS($M$34:M88)-1),\"\")","v":""},null,null,null,null,null,{"$f":"IF(OFFSET(DE104_5B!$O$34,ROWS($O$34:O88)-1,COLUMNS($O$34:O88)-1)<>\"\",OFFSET(DE104_5B!$O$34,ROWS($O$34:O88)-1,COLUMNS($O$34:O88)-1),\"\")","v":""},null,null,null,null,null,{"$f":"IF(OFFSET(DE104_5B!$P$34,ROWS($P$34:P88)-1,COLUMNS($P$34:P88)-1)<>\"\",OFFSET(DE104_5B!$P$34,ROWS($P$34:P88)-1,COLUMNS($P$34:P88)-1),\"\")","v":""},null,null,null,null,{"$f":"IF(OFFSET(DE104_5B!$Q$34,ROWS($Q$34:Q88)-1,COLUMNS($Q$34:Q88)-1)<>\"\",OFFSET(DE104_5B!$Q$34,ROWS($Q$34:Q88)-1,COLUMNS($Q$34:Q88)-1),\"\")","v":""},null,null,null,null,null,null,null,null,null,{"$f":"IF(OFFSET(DE104_5B!$R$34,ROWS($S$34:S88)-1,COLUMNS($S$34:S88)-1)<>\"\",OFFSET(DE104_5B!$R$34,ROWS($S$34:S88)-1,COLUMNS($S$34:S88)-1),\"\")","v":""},null,null,null,null,null,null,null,{"$f":"IF(OFFSET(DE104_5B!$S$34,ROWS($T$34:T88)-1,COLUMNS($T$34:T88)-1)<>\"\",OFFSET(DE104_5B!$S$34,ROWS($T$34:T88)-1,COLUMNS($T$34:T88)-1),\"\")","v":""},null,null,null,null,null,null,null,{"$f":"IF(OFFSET(DE104_5B!$T$34,ROWS($U$34:U88)-1,COLUMNS($U$34:U88)-1)<>\"\",OFFSET(DE104_5B!$T$34,ROWS($U$34:U88)-1,COLUMNS($U$34:U88)-1),\"\")","v":""},null,null,null,null,null,null,null,{"$f":"IF(OFFSET(DE104_5B!$U$34,ROWS($V$34:V88)-1,COLUMNS($V$34:V88)-1)<>\"\",OFFSET(DE104_5B!$U$34,ROWS($V$34:V88)-1,COLUMNS($V$34:V88)-1),\"\")","v":""},null,null,null,null,null,null,{"$f":"IF(OFFSET(DE104_5B!$V$34,ROWS($W$34:W88)-1,COLUMNS($W$34:W88)-1)<>\"\",OFFSET(DE104_5B!$V$34,ROWS($W$34:W88)-1,COLUMNS($W$34:W88)-1),\"\")","v":""}]
[null,null,{"$f":"IF(OFFSET(DE104_5B!$A$33,ROWS($A$33:A89)-1,COLUMNS($A$33:A89)-1)<>\"\",OFFSET(DE104_5B!$A$33,ROWS($A$33:A89)-1,COLUMNS($A$33:A89)-1),\"\")","v":""},null,null,null,{"$f":"IF(OFFSET(DE104_5B!$B$33,ROWS($B$33:B89)-1,COLUMNS($B$33:B89)-1)<>\"\",OFFSET(DE104_5B!$B$33,ROWS($B$33:B89)-1,COLUMNS($B$33:B89)-1),\"\")","v":""},null,null,null,null,null,null,null,null,null,null,null,null,null,null,null,null,null,null,{"$f":"IF(OFFSET(DE104_5B!$C$33,ROWS($C$33:C89)-1,COLUMNS($C$33:C89)-1)<>\"\",OFFSET(DE104_5B!$C$33,ROWS($C$33:C89)-1,COLUMNS($C$33:C89)-1),\"\")","v":""},null,null,null,null,null,null,null,null,null,null,null,null,null,null,null,null,null,null,null,null,null,null,null,{"$f":"IF(OFFSET(DE104_5B!$D$33,ROWS($D$33:D89)-1,COLUMNS($D$33:D89)-1)<>\"\",OFFSET(DE104_5B!$D$33,ROWS($D$33:D89)-1,COLUMNS($D$33:D89)-1),\"\")","v":""},null,null,null,null,{"$f":"IF(OFFSET(DE104_5B!$E$33,ROWS($E$33:E89)-1,COLUMNS($E$33:E89)-1)<>\"\",OFFSET(DE104_5B!$E$33,ROWS($E$33:E89)-1,COLUMNS($E$33:E89)-1),\"\")","v":""},null,null,null,null,null,{"$f":"IF(OFFSET(DE104_5B!$F$33,ROWS($F$33:F89)-1,COLUMNS($F$33:F89)-1)<>\"\",OFFSET(DE104_5B!$F$33,ROWS($F$33:F89)-1,COLUMNS($F$33:F89)-1),\"\")","v":""},null,null,null,null,null,null,null,{"$f":"IF(OFFSET(DE104_5B!$G$33,ROWS($G$33:G89)-1,COLUMNS($G$33:G89)-1)<>\"\",OFFSET(DE104_5B!$G$33,ROWS($G$33:G89)-1,COLUMNS($G$33:G89)-1),\"\")","v":""}]
[null,null,null,null,null,null,null,null,null,null,null,null,null,null,null,null,null,null,null,null,null,null,null,null,null,null,null,null,null,null,null,null,null,null,null,null,null,null,null,null,null,null,null,null,null,null,null,null,null,null,null,null,null,null,null,null,null,null,null,null,null,null,null,null,null,null,null,null,null,null,null,null,null,null,null,null,null,null,null,null,null,{"$f":"IF(OFFSET(DE104_5B!$H$34,ROWS($H$34:H90)-1,COLUMNS($H$34:H90)-1)<>\"\",OFFSET(DE104_5B!$H$34,ROWS($H$34:H90)-1,COLUMNS($H$34:H90)-1),\"\")","v":""},null,null,null,null,null,{"$f":"IF(OFFSET(DE104_5B!$I$34,ROWS($I$34:I90)-1,COLUMNS($I$34:I90)-1)<>\"\",OFFSET(DE104_5B!$I$34,ROWS($I$34:I90)-1,COLUMNS($I$34:I90)-1),\"\")","v":""},null,null,null,{"$f":"IF(OFFSET(DE104_5B!$J$34,ROWS($J$34:J90)-1,COLUMNS($J$34:J90)-1)<>\"\",OFFSET(DE104_5B!$J$34,ROWS($J$34:J90)-1,COLUMNS($J$34:J90)-1),\"\")","v":""},null,null,null,{"$f":"IF(OFFSET(DE104_5B!$K$34,ROWS($K$34:K90)-1,COLUMNS($K$34:K90)-1)<>\"\",OFFSET(DE104_5B!$K$34,ROWS($K$34:K90)-1,COLUMNS($K$34:K90)-1),\"\")","v":""},null,null,null,null,{"$f":"IF(OFFSET(DE104_5B!$L$34,ROWS($L$34:L90)-1,COLUMNS($L$34:L90)-1)<>\"\",OFFSET(DE104_5B!$L$34,ROWS($L$34:L90)-1,COLUMNS($L$34:L90)-1),\"\")","v":""},null,null,null,null,null,null,{"$f":"IF(OFFSET(DE104_5B!$M$34,ROWS($M$34:M90)-1,COLUMNS($M$34:M90)-1)<>\"\",OFFSET(DE104_5B!$M$34,ROWS($M$34:M90)-1,COLUMNS($M$34:M90)-1),\"\")","v":""},null,null,null,null,null,{"$f":"IF(OFFSET(DE104_5B!$O$34,ROWS($O$34:O90)-1,COLUMNS($O$34:O90)-1)<>\"\",OFFSET(DE104_5B!$O$34,ROWS($O$34:O90)-1,COLUMNS($O$34:O90)-1),\"\")","v":""},null,null,null,null,null,{"$f":"IF(OFFSET(DE104_5B!$P$34,ROWS($P$34:P90)-1,COLUMNS($P$34:P90)-1)<>\"\",OFFSET(DE104_5B!$P$34,ROWS($P$34:P90)-1,COLUMNS($P$34:P90)-1),\"\")","v":""},null,null,null,null,{"$f":"IF(OFFSET(DE104_5B!$Q$34,ROWS($Q$34:Q90)-1,COLUMNS($Q$34:Q90)-1)<>\"\",OFFSET(DE104_5B!$Q$34,ROWS($Q$34:Q90)-1,COLUMNS($Q$34:Q90)-1),\"\")","v":""},null,null,null,null,null,null,null,null,null,{"$f":"IF(OFFSET(DE104_5B!$R$34,ROWS($S$34:S90)-1,COLUMNS($S$34:S90)-1)<>\"\",OFFSET(DE104_5B!$R$34,ROWS($S$34:S90)-1,COLUMNS($S$34:S90)-1),\"\")","v":""},null,null,null,null,null,null,null,{"$f":"IF(OFFSET(DE104_5B!$S$34,ROWS($T$34:T90)-1,COLUMNS($T$34:T90)-1)<>\"\",OFFSET(DE104_5B!$S$34,ROWS($T$34:T90)-1,COLUMNS($T$34:T90)-1),\"\")","v":""},null,null,null,null,null,null,null,{"$f":"IF(OFFSET(DE104_5B!$T$34,ROWS($U$34:U90)-1,COLUMNS($U$34:U90)-1)<>\"\",OFFSET(DE104_5B!$T$34,ROWS($U$34:U90)-1,COLUMNS($U$34:U90)-1),\"\")","v":""},null,null,null,null,null,null,null,{"$f":"IF(OFFSET(DE104_5B!$U$34,ROWS($V$34:V90)-1,COLUMNS($V$34:V90)-1)<>\"\",OFFSET(DE104_5B!$U$34,ROWS($V$34:V90)-1,COLUMNS($V$34:V90)-1),\"\")","v":""},null,null,null,null,null,null,{"$f":"IF(OFFSET(DE104_5B!$V$34,ROWS($W$34:W90)-1,COLUMNS($W$34:W90)-1)<>\"\",OFFSET(DE104_5B!$V$34,ROWS($W$34:W90)-1,COLUMNS($W$34:W90)-1),\"\")","v":""}]
[null,null,{"$f":"IF(OFFSET(DE104_5B!$A$33,ROWS($A$33:A91)-1,COLUMNS($A$33:A91)-1)<>\"\",OFFSET(DE104_5B!$A$33,ROWS($A$33:A91)-1,COLUMNS($A$33:A91)-1),\"\")","v":""},null,null,null,{"$f":"IF(OFFSET(DE104_5B!$B$33,ROWS($B$33:B91)-1,COLUMNS($B$33:B91)-1)<>\"\",OFFSET(DE104_5B!$B$33,ROWS($B$33:B91)-1,COLUMNS($B$33:B91)-1),\"\")","v":""},null,null,null,null,null,null,null,null,null,null,null,null,null,null,null,null,null,null,{"$f":"IF(OFFSET(DE104_5B!$C$33,ROWS($C$33:C91)-1,COLUMNS($C$33:C91)-1)<>\"\",OFFSET(DE104_5B!$C$33,ROWS($C$33:C91)-1,COLUMNS($C$33:C91)-1),\"\")","v":""},null,null,null,null,null,null,null,null,null,null,null,null,null,null,null,null,null,null,null,null,null,null,null,{"$f":"IF(OFFSET(DE104_5B!$D$33,ROWS($D$33:D91)-1,COLUMNS($D$33:D91)-1)<>\"\",OFFSET(DE104_5B!$D$33,ROWS($D$33:D91)-1,COLUMNS($D$33:D91)-1),\"\")","v":""},null,null,null,null,{"$f":"IF(OFFSET(DE104_5B!$E$33,ROWS($E$33:E91)-1,COLUMNS($E$33:E91)-1)<>\"\",OFFSET(DE104_5B!$E$33,ROWS($E$33:E91)-1,COLUMNS($E$33:E91)-1),\"\")","v":""},null,null,null,null,null,{"$f":"IF(OFFSET(DE104_5B!$F$33,ROWS($F$33:F91)-1,COLUMNS($F$33:F91)-1)<>\"\",OFFSET(DE104_5B!$F$33,ROWS($F$33:F91)-1,COLUMNS($F$33:F91)-1),\"\")","v":""},null,null,null,null,null,null,null,{"$f":"IF(OFFSET(DE104_5B!$G$33,ROWS($G$33:G91)-1,COLUMNS($G$33:G91)-1)<>\"\",OFFSET(DE104_5B!$G$33,ROWS($G$33:G91)-1,COLUMNS($G$33:G91)-1),\"\")","v":""}]
[null,null,null,null,null,null,null,null,null,null,null,null,null,null,null,null,null,null,null,null,null,null,null,null,null,null,null,null,null,null,null,null,null,null,null,null,null,null,null,null,null,null,null,null,null,null,null,null,null,null,null,null,null,null,null,null,null,null,null,null,null,null,null,null,null,null,null,null,null,null,null,null,null,null,null,null,null,null,null,null,null,{"$f":"IF(OFFSET(DE104_5B!$H$34,ROWS($H$34:H92)-1,COLUMNS($H$34:H92)-1)<>\"\",OFFSET(DE104_5B!$H$34,ROWS($H$34:H92)-1,COLUMNS($H$34:H92)-1),\"\")","v":""},null,null,null,null,null,{"$f":"IF(OFFSET(DE104_5B!$I$34,ROWS($I$34:I92)-1,COLUMNS($I$34:I92)-1)<>\"\",OFFSET(DE104_5B!$I$34,ROWS($I$34:I92)-1,COLUMNS($I$34:I92)-1),\"\")","v":""},null,null,null,{"$f":"IF(OFFSET(DE104_5B!$J$34,ROWS($J$34:J92)-1,COLUMNS($J$34:J92)-1)<>\"\",OFFSET(DE104_5B!$J$34,ROWS($J$34:J92)-1,COLUMNS($J$34:J92)-1),\"\")","v":""},null,null,null,{"$f":"IF(OFFSET(DE104_5B!$K$34,ROWS($K$34:K92)-1,COLUMNS($K$34:K92)-1)<>\"\",OFFSET(DE104_5B!$K$34,ROWS($K$34:K92)-1,COLUMNS($K$34:K92)-1),\"\")","v":""},null,null,null,null,{"$f":"IF(OFFSET(DE104_5B!$L$34,ROWS($L$34:L92)-1,COLUMNS($L$34:L92)-1)<>\"\",OFFSET(DE104_5B!$L$34,ROWS($L$34:L92)-1,COLUMNS($L$34:L92)-1),\"\")","v":""},null,null,null,null,null,null,{"$f":"IF(OFFSET(DE104_5B!$M$34,ROWS($M$34:M92)-1,COLUMNS($M$34:M92)-1)<>\"\",OFFSET(DE104_5B!$M$34,ROWS($M$34:M92)-1,COLUMNS($M$34:M92)-1),\"\")","v":""},null,null,null,null,null,{"$f":"IF(OFFSET(DE104_5B!$O$34,ROWS($O$34:O92)-1,COLUMNS($O$34:O92)-1)<>\"\",OFFSET(DE104_5B!$O$34,ROWS($O$34:O92)-1,COLUMNS($O$34:O92)-1),\"\")","v":""},null,null,null,null,null,{"$f":"IF(OFFSET(DE104_5B!$P$34,ROWS($P$34:P92)-1,COLUMNS($P$34:P92)-1)<>\"\",OFFSET(DE104_5B!$P$34,ROWS($P$34:P92)-1,COLUMNS($P$34:P92)-1),\"\")","v":""},null,null,null,null,{"$f":"IF(OFFSET(DE104_5B!$Q$34,ROWS($Q$34:Q92)-1,COLUMNS($Q$34:Q92)-1)<>\"\",OFFSET(DE104_5B!$Q$34,ROWS($Q$34:Q92)-1,COLUMNS($Q$34:Q92)-1),\"\")","v":""},null,null,null,null,null,null,null,null,null,{"$f":"IF(OFFSET(DE104_5B!$R$34,ROWS($S$34:S92)-1,COLUMNS($S$34:S92)-1)<>\"\",OFFSET(DE104_5B!$R$34,ROWS($S$34:S92)-1,COLUMNS($S$34:S92)-1),\"\")","v":""},null,null,null,null,null,null,null,{"$f":"IF(OFFSET(DE104_5B!$S$34,ROWS($T$34:T92)-1,COLUMNS($T$34:T92)-1)<>\"\",OFFSET(DE104_5B!$S$34,ROWS($T$34:T92)-1,COLUMNS($T$34:T92)-1),\"\")","v":""},null,null,null,null,null,null,null,{"$f":"IF(OFFSET(DE104_5B!$T$34,ROWS($U$34:U92)-1,COLUMNS($U$34:U92)-1)<>\"\",OFFSET(DE104_5B!$T$34,ROWS($U$34:U92)-1,COLUMNS($U$34:U92)-1),\"\")","v":""},null,null,null,null,null,null,null,{"$f":"IF(OFFSET(DE104_5B!$U$34,ROWS($V$34:V92)-1,COLUMNS($V$34:V92)-1)<>\"\",OFFSET(DE104_5B!$U$34,ROWS($V$34:V92)-1,COLUMNS($V$34:V92)-1),\"\")","v":""},null,null,null,null,null,null,{"$f":"IF(OFFSET(DE104_5B!$V$34,ROWS($W$34:W92)-1,COLUMNS($W$34:W92)-1)<>\"\",OFFSET(DE104_5B!$V$34,ROWS($W$34:W92)-1,COLUMNS($W$34:W92)-1),\"\")","v":""}]
[null,null,{"$f":"IF(OFFSET(DE104_5B!$A$33,ROWS($A$33:A93)-1,COLUMNS($A$33:A93)-1)<>\"\",OFFSET(DE104_5B!$A$33,ROWS($A$33:A93)-1,COLUMNS($A$33:A93)-1),\"\")","v":""},null,null,null,{"$f":"IF(OFFSET(DE104_5B!$B$33,ROWS($B$33:B93)-1,COLUMNS($B$33:B93)-1)<>\"\",OFFSET(DE104_5B!$B$33,ROWS($B$33:B93)-1,COLUMNS($B$33:B93)-1),\"\")","v":""},null,null,null,null,null,null,null,null,null,null,null,null,null,null,null,null,null,null,{"$f":"IF(OFFSET(DE104_5B!$C$33,ROWS($C$33:C93)-1,COLUMNS($C$33:C93)-1)<>\"\",OFFSET(DE104_5B!$C$33,ROWS($C$33:C93)-1,COLUMNS($C$33:C93)-1),\"\")","v":""},null,null,null,null,null,null,null,null,null,null,null,null,null,null,null,null,null,null,null,null,null,null,null,{"$f":"IF(OFFSET(DE104_5B!$D$33,ROWS($D$33:D93)-1,COLUMNS($D$33:D93)-1)<>\"\",OFFSET(DE104_5B!$D$33,ROWS($D$33:D93)-1,COLUMNS($D$33:D93)-1),\"\")","v":""},null,null,null,null,{"$f":"IF(OFFSET(DE104_5B!$E$33,ROWS($E$33:E93)-1,COLUMNS($E$33:E93)-1)<>\"\",OFFSET(DE104_5B!$E$33,ROWS($E$33:E93)-1,COLUMNS($E$33:E93)-1),\"\")","v":""},null,null,null,null,null,{"$f":"IF(OFFSET(DE104_5B!$F$33,ROWS($F$33:F93)-1,COLUMNS($F$33:F93)-1)<>\"\",OFFSET(DE104_5B!$F$33,ROWS($F$33:F93)-1,COLUMNS($F$33:F93)-1),\"\")","v":""},null,null,null,null,null,null,null,{"$f":"IF(OFFSET(DE104_5B!$G$33,ROWS($G$33:G93)-1,COLUMNS($G$33:G93)-1)<>\"\",OFFSET(DE104_5B!$G$33,ROWS($G$33:G93)-1,COLUMNS($G$33:G93)-1),\"\")","v":""}]
[null,null,null,null,null,null,null,null,null,null,null,null,null,null,null,null,null,null,null,null,null,null,null,null,null,null,null,null,null,null,null,null,null,null,null,null,null,null,null,null,null,null,null,null,null,null,null,null,null,null,null,null,null,null,null,null,null,null,null,null,null,null,null,null,null,null,null,null,null,null,null,null,null,null,null,null,null,null,null,null,null,{"$f":"IF(OFFSET(DE104_5B!$H$34,ROWS($H$34:H94)-1,COLUMNS($H$34:H94)-1)<>\"\",OFFSET(DE104_5B!$H$34,ROWS($H$34:H94)-1,COLUMNS($H$34:H94)-1),\"\")","v":""},null,null,null,null,null,{"$f":"IF(OFFSET(DE104_5B!$I$34,ROWS($I$34:I94)-1,COLUMNS($I$34:I94)-1)<>\"\",OFFSET(DE104_5B!$I$34,ROWS($I$34:I94)-1,COLUMNS($I$34:I94)-1),\"\")","v":""},null,null,null,{"$f":"IF(OFFSET(DE104_5B!$J$34,ROWS($J$34:J94)-1,COLUMNS($J$34:J94)-1)<>\"\",OFFSET(DE104_5B!$J$34,ROWS($J$34:J94)-1,COLUMNS($J$34:J94)-1),\"\")","v":""},null,null,null,{"$f":"IF(OFFSET(DE104_5B!$K$34,ROWS($K$34:K94)-1,COLUMNS($K$34:K94)-1)<>\"\",OFFSET(DE104_5B!$K$34,ROWS($K$34:K94)-1,COLUMNS($K$34:K94)-1),\"\")","v":""},null,null,null,null,{"$f":"IF(OFFSET(DE104_5B!$L$34,ROWS($L$34:L94)-1,COLUMNS($L$34:L94)-1)<>\"\",OFFSET(DE104_5B!$L$34,ROWS($L$34:L94)-1,COLUMNS($L$34:L94)-1),\"\")","v":""},null,null,null,null,null,null,{"$f":"IF(OFFSET(DE104_5B!$M$34,ROWS($M$34:M94)-1,COLUMNS($M$34:M94)-1)<>\"\",OFFSET(DE104_5B!$M$34,ROWS($M$34:M94)-1,COLUMNS($M$34:M94)-1),\"\")","v":""},null,null,null,null,null,{"$f":"IF(OFFSET(DE104_5B!$O$34,ROWS($O$34:O94)-1,COLUMNS($O$34:O94)-1)<>\"\",OFFSET(DE104_5B!$O$34,ROWS($O$34:O94)-1,COLUMNS($O$34:O94)-1),\"\")","v":""},null,null,null,null,null,{"$f":"IF(OFFSET(DE104_5B!$P$34,ROWS($P$34:P94)-1,COLUMNS($P$34:P94)-1)<>\"\",OFFSET(DE104_5B!$P$34,ROWS($P$34:P94)-1,COLUMNS($P$34:P94)-1),\"\")","v":""},null,null,null,null,{"$f":"IF(OFFSET(DE104_5B!$Q$34,ROWS($Q$34:Q94)-1,COLUMNS($Q$34:Q94)-1)<>\"\",OFFSET(DE104_5B!$Q$34,ROWS($Q$34:Q94)-1,COLUMNS($Q$34:Q94)-1),\"\")","v":""},null,null,null,null,null,null,null,null,null,{"$f":"IF(OFFSET(DE104_5B!$R$34,ROWS($S$34:S94)-1,COLUMNS($S$34:S94)-1)<>\"\",OFFSET(DE104_5B!$R$34,ROWS($S$34:S94)-1,COLUMNS($S$34:S94)-1),\"\")","v":""},null,null,null,null,null,null,null,{"$f":"IF(OFFSET(DE104_5B!$S$34,ROWS($T$34:T94)-1,COLUMNS($T$34:T94)-1)<>\"\",OFFSET(DE104_5B!$S$34,ROWS($T$34:T94)-1,COLUMNS($T$34:T94)-1),\"\")","v":""},null,null,null,null,null,null,null,{"$f":"IF(OFFSET(DE104_5B!$T$34,ROWS($U$34:U94)-1,COLUMNS($U$34:U94)-1)<>\"\",OFFSET(DE104_5B!$T$34,ROWS($U$34:U94)-1,COLUMNS($U$34:U94)-1),\"\")","v":""},null,null,null,null,null,null,null,{"$f":"IF(OFFSET(DE104_5B!$U$34,ROWS($V$34:V94)-1,COLUMNS($V$34:V94)-1)<>\"\",OFFSET(DE104_5B!$U$34,ROWS($V$34:V94)-1,COLUMNS($V$34:V94)-1),\"\")","v":""},null,null,null,null,null,null,{"$f":"IF(OFFSET(DE104_5B!$V$34,ROWS($W$34:W94)-1,COLUMNS($W$34:W94)-1)<>\"\",OFFSET(DE104_5B!$V$34,ROWS($W$34:W94)-1,COLUMNS($W$34:W94)-1),\"\")","v":""}]
[null,null,{"$f":"IF(OFFSET(DE104_5B!$A$33,ROWS($A$33:A95)-1,COLUMNS($A$33:A95)-1)<>\"\",OFFSET(DE104_5B!$A$33,ROWS($A$33:A95)-1,COLUMNS($A$33:A95)-1),\"\")","v":""},null,null,null,{"$f":"IF(OFFSET(DE104_5B!$B$33,ROWS($B$33:B95)-1,COLUMNS($B$33:B95)-1)<>\"\",OFFSET(DE104_5B!$B$33,ROWS($B$33:B95)-1,COLUMNS($B$33:B95)-1),\"\")","v":""},null,null,null,null,null,null,null,null,null,null,null,null,null,null,null,null,null,null,{"$f":"IF(OFFSET(DE104_5B!$C$33,ROWS($C$33:C95)-1,COLUMNS($C$33:C95)-1)<>\"\",OFFSET(DE104_5B!$C$33,ROWS($C$33:C95)-1,COLUMNS($C$33:C95)-1),\"\")","v":""},null,null,null,null,null,null,null,null,null,null,null,null,null,null,null,null,null,null,null,null,null,null,null,{"$f":"IF(OFFSET(DE104_5B!$D$33,ROWS($D$33:D95)-1,COLUMNS($D$33:D95)-1)<>\"\",OFFSET(DE104_5B!$D$33,ROWS($D$33:D95)-1,COLUMNS($D$33:D95)-1),\"\")","v":""},null,null,null,null,{"$f":"IF(OFFSET(DE104_5B!$E$33,ROWS($E$33:E95)-1,COLUMNS($E$33:E95)-1)<>\"\",OFFSET(DE104_5B!$E$33,ROWS($E$33:E95)-1,COLUMNS($E$33:E95)-1),\"\")","v":""},null,null,null,null,null,{"$f":"IF(OFFSET(DE104_5B!$F$33,ROWS($F$33:F95)-1,COLUMNS($F$33:F95)-1)<>\"\",OFFSET(DE104_5B!$F$33,ROWS($F$33:F95)-1,COLUMNS($F$33:F95)-1),\"\")","v":""},null,null,null,null,null,null,null,{"$f":"IF(OFFSET(DE104_5B!$G$33,ROWS($G$33:G95)-1,COLUMNS($G$33:G95)-1)<>\"\",OFFSET(DE104_5B!$G$33,ROWS($G$33:G95)-1,COLUMNS($G$33:G95)-1),\"\")","v":""}]
[null,null,null,null,null,null,null,null,null,null,null,null,null,null,null,null,null,null,null,null,null,null,null,null,null,null,null,null,null,null,null,null,null,null,null,null,null,null,null,null,null,null,null,null,null,null,null,null,null,null,null,null,null,null,null,null,null,null,null,null,null,null,null,null,null,null,null,null,null,null,null,null,null,null,null,null,null,null,null,null,null,{"$f":"IF(OFFSET(DE104_5B!$H$34,ROWS($H$34:H96)-1,COLUMNS($H$34:H96)-1)<>\"\",OFFSET(DE104_5B!$H$34,ROWS($H$34:H96)-1,COLUMNS($H$34:H96)-1),\"\")","v":""},null,null,null,null,null,{"$f":"IF(OFFSET(DE104_5B!$I$34,ROWS($I$34:I96)-1,COLUMNS($I$34:I96)-1)<>\"\",OFFSET(DE104_5B!$I$34,ROWS($I$34:I96)-1,COLUMNS($I$34:I96)-1),\"\")","v":""},null,null,null,{"$f":"IF(OFFSET(DE104_5B!$J$34,ROWS($J$34:J96)-1,COLUMNS($J$34:J96)-1)<>\"\",OFFSET(DE104_5B!$J$34,ROWS($J$34:J96)-1,COLUMNS($J$34:J96)-1),\"\")","v":""},null,null,null,{"$f":"IF(OFFSET(DE104_5B!$K$34,ROWS($K$34:K96)-1,COLUMNS($K$34:K96)-1)<>\"\",OFFSET(DE104_5B!$K$34,ROWS($K$34:K96)-1,COLUMNS($K$34:K96)-1),\"\")","v":""},null,null,null,null,{"$f":"IF(OFFSET(DE104_5B!$L$34,ROWS($L$34:L96)-1,COLUMNS($L$34:L96)-1)<>\"\",OFFSET(DE104_5B!$L$34,ROWS($L$34:L96)-1,COLUMNS($L$34:L96)-1),\"\")","v":""},null,null,null,null,null,null,{"$f":"IF(OFFSET(DE104_5B!$M$34,ROWS($M$34:M96)-1,COLUMNS($M$34:M96)-1)<>\"\",OFFSET(DE104_5B!$M$34,ROWS($M$34:M96)-1,COLUMNS($M$34:M96)-1),\"\")","v":""},null,null,null,null,null,{"$f":"IF(OFFSET(DE104_5B!$O$34,ROWS($O$34:O96)-1,COLUMNS($O$34:O96)-1)<>\"\",OFFSET(DE104_5B!$O$34,ROWS($O$34:O96)-1,COLUMNS($O$34:O96)-1),\"\")","v":""},null,null,null,null,null,{"$f":"IF(OFFSET(DE104_5B!$P$34,ROWS($P$34:P96)-1,COLUMNS($P$34:P96)-1)<>\"\",OFFSET(DE104_5B!$P$34,ROWS($P$34:P96)-1,COLUMNS($P$34:P96)-1),\"\")","v":""},null,null,null,null,{"$f":"IF(OFFSET(DE104_5B!$Q$34,ROWS($Q$34:Q96)-1,COLUMNS($Q$34:Q96)-1)<>\"\",OFFSET(DE104_5B!$Q$34,ROWS($Q$34:Q96)-1,COLUMNS($Q$34:Q96)-1),\"\")","v":""},null,null,null,null,null,null,null,null,null,{"$f":"IF(OFFSET(DE104_5B!$R$34,ROWS($S$34:S96)-1,COLUMNS($S$34:S96)-1)<>\"\",OFFSET(DE104_5B!$R$34,ROWS($S$34:S96)-1,COLUMNS($S$34:S96)-1),\"\")","v":""},null,null,null,null,null,null,null,{"$f":"IF(OFFSET(DE104_5B!$S$34,ROWS($T$34:T96)-1,COLUMNS($T$34:T96)-1)<>\"\",OFFSET(DE104_5B!$S$34,ROWS($T$34:T96)-1,COLUMNS($T$34:T96)-1),\"\")","v":""},null,null,null,null,null,null,null,{"$f":"IF(OFFSET(DE104_5B!$T$34,ROWS($U$34:U96)-1,COLUMNS($U$34:U96)-1)<>\"\",OFFSET(DE104_5B!$T$34,ROWS($U$34:U96)-1,COLUMNS($U$34:U96)-1),\"\")","v":""},null,null,null,null,null,null,null,{"$f":"IF(OFFSET(DE104_5B!$U$34,ROWS($V$34:V96)-1,COLUMNS($V$34:V96)-1)<>\"\",OFFSET(DE104_5B!$U$34,ROWS($V$34:V96)-1,COLUMNS($V$34:V96)-1),\"\")","v":""},null,null,null,null,null,null,{"$f":"IF(OFFSET(DE104_5B!$V$34,ROWS($W$34:W96)-1,COLUMNS($W$34:W96)-1)<>\"\",OFFSET(DE104_5B!$V$34,ROWS($W$34:W96)-1,COLUMNS($W$34:W96)-1),\"\")","v":""}]
[null,null,{"$f":"IF(OFFSET(DE104_5B!$A$33,ROWS($A$33:A97)-1,COLUMNS($A$33:A97)-1)<>\"\",OFFSET(DE104_5B!$A$33,ROWS($A$33:A97)-1,COLUMNS($A$33:A97)-1),\"\")","v":""},null,null,null,{"$f":"IF(OFFSET(DE104_5B!$B$33,ROWS($B$33:B97)-1,COLUMNS($B$33:B97)-1)<>\"\",OFFSET(DE104_5B!$B$33,ROWS($B$33:B97)-1,COLUMNS($B$33:B97)-1),\"\")","v":""},null,null,null,null,null,null,null,null,null,null,null,null,null,null,null,null,null,null,{"$f":"IF(OFFSET(DE104_5B!$C$33,ROWS($C$33:C97)-1,COLUMNS($C$33:C97)-1)<>\"\",OFFSET(DE104_5B!$C$33,ROWS($C$33:C97)-1,COLUMNS($C$33:C97)-1),\"\")","v":""},null,null,null,null,null,null,null,null,null,null,null,null,null,null,null,null,null,null,null,null,null,null,null,{"$f":"IF(OFFSET(DE104_5B!$D$33,ROWS($D$33:D97)-1,COLUMNS($D$33:D97)-1)<>\"\",OFFSET(DE104_5B!$D$33,ROWS($D$33:D97)-1,COLUMNS($D$33:D97)-1),\"\")","v":""},null,null,null,null,{"$f":"IF(OFFSET(DE104_5B!$E$33,ROWS($E$33:E97)-1,COLUMNS($E$33:E97)-1)<>\"\",OFFSET(DE104_5B!$E$33,ROWS($E$33:E97)-1,COLUMNS($E$33:E97)-1),\"\")","v":""},null,null,null,null,null,{"$f":"IF(OFFSET(DE104_5B!$F$33,ROWS($F$33:F97)-1,COLUMNS($F$33:F97)-1)<>\"\",OFFSET(DE104_5B!$F$33,ROWS($F$33:F97)-1,COLUMNS($F$33:F97)-1),\"\")","v":""},null,null,null,null,null,null,null,{"$f":"IF(OFFSET(DE104_5B!$G$33,ROWS($G$33:G97)-1,COLUMNS($G$33:G97)-1)<>\"\",OFFSET(DE104_5B!$G$33,ROWS($G$33:G97)-1,COLUMNS($G$33:G97)-1),\"\")","v":""}]
[null,null,null,null,null,null,null,null,null,null,null,null,null,null,null,null,null,null,null,null,null,null,null,null,null,null,null,null,null,null,null,null,null,null,null,null,null,null,null,null,null,null,null,null,null,null,null,null,null,null,null,null,null,null,null,null,null,null,null,null,null,null,null,null,null,null,null,null,null,null,null,null,null,null,null,null,null,null,null,null,null,{"$f":"IF(OFFSET(DE104_5B!$H$34,ROWS($H$34:H98)-1,COLUMNS($H$34:H98)-1)<>\"\",OFFSET(DE104_5B!$H$34,ROWS($H$34:H98)-1,COLUMNS($H$34:H98)-1),\"\")","v":""},null,null,null,null,null,{"$f":"IF(OFFSET(DE104_5B!$I$34,ROWS($I$34:I98)-1,COLUMNS($I$34:I98)-1)<>\"\",OFFSET(DE104_5B!$I$34,ROWS($I$34:I98)-1,COLUMNS($I$34:I98)-1),\"\")","v":""},null,null,null,{"$f":"IF(OFFSET(DE104_5B!$J$34,ROWS($J$34:J98)-1,COLUMNS($J$34:J98)-1)<>\"\",OFFSET(DE104_5B!$J$34,ROWS($J$34:J98)-1,COLUMNS($J$34:J98)-1),\"\")","v":""},null,null,null,{"$f":"IF(OFFSET(DE104_5B!$K$34,ROWS($K$34:K98)-1,COLUMNS($K$34:K98)-1)<>\"\",OFFSET(DE104_5B!$K$34,ROWS($K$34:K98)-1,COLUMNS($K$34:K98)-1),\"\")","v":""},null,null,null,null,{"$f":"IF(OFFSET(DE104_5B!$L$34,ROWS($L$34:L98)-1,COLUMNS($L$34:L98)-1)<>\"\",OFFSET(DE104_5B!$L$34,ROWS($L$34:L98)-1,COLUMNS($L$34:L98)-1),\"\")","v":""},null,null,null,null,null,null,{"$f":"IF(OFFSET(DE104_5B!$M$34,ROWS($M$34:M98)-1,COLUMNS($M$34:M98)-1)<>\"\",OFFSET(DE104_5B!$M$34,ROWS($M$34:M98)-1,COLUMNS($M$34:M98)-1),\"\")","v":""},null,null,null,null,null,{"$f":"IF(OFFSET(DE104_5B!$O$34,ROWS($O$34:O98)-1,COLUMNS($O$34:O98)-1)<>\"\",OFFSET(DE104_5B!$O$34,ROWS($O$34:O98)-1,COLUMNS($O$34:O98)-1),\"\")","v":""},null,null,null,null,null,{"$f":"IF(OFFSET(DE104_5B!$P$34,ROWS($P$34:P98)-1,COLUMNS($P$34:P98)-1)<>\"\",OFFSET(DE104_5B!$P$34,ROWS($P$34:P98)-1,COLUMNS($P$34:P98)-1),\"\")","v":""},null,null,null,null,{"$f":"IF(OFFSET(DE104_5B!$Q$34,ROWS($Q$34:Q98)-1,COLUMNS($Q$34:Q98)-1)<>\"\",OFFSET(DE104_5B!$Q$34,ROWS($Q$34:Q98)-1,COLUMNS($Q$34:Q98)-1),\"\")","v":""},null,null,null,null,null,null,null,null,null,{"$f":"IF(OFFSET(DE104_5B!$R$34,ROWS($S$34:S98)-1,COLUMNS($S$34:S98)-1)<>\"\",OFFSET(DE104_5B!$R$34,ROWS($S$34:S98)-1,COLUMNS($S$34:S98)-1),\"\")","v":""},null,null,null,null,null,null,null,{"$f":"IF(OFFSET(DE104_5B!$S$34,ROWS($T$34:T98)-1,COLUMNS($T$34:T98)-1)<>\"\",OFFSET(DE104_5B!$S$34,ROWS($T$34:T98)-1,COLUMNS($T$34:T98)-1),\"\")","v":""},null,null,null,null,null,null,null,{"$f":"IF(OFFSET(DE104_5B!$T$34,ROWS($U$34:U98)-1,COLUMNS($U$34:U98)-1)<>\"\",OFFSET(DE104_5B!$T$34,ROWS($U$34:U98)-1,COLUMNS($U$34:U98)-1),\"\")","v":""},null,null,null,null,null,null,null,{"$f":"IF(OFFSET(DE104_5B!$U$34,ROWS($V$34:V98)-1,COLUMNS($V$34:V98)-1)<>\"\",OFFSET(DE104_5B!$U$34,ROWS($V$34:V98)-1,COLUMNS($V$34:V98)-1),\"\")","v":""},null,null,null,null,null,null,{"$f":"IF(OFFSET(DE104_5B!$V$34,ROWS($W$34:W98)-1,COLUMNS($W$34:W98)-1)<>\"\",OFFSET(DE104_5B!$V$34,ROWS($W$34:W98)-1,COLUMNS($W$34:W98)-1),\"\")","v":""}]
[null,null,{"$f":"IF(OFFSET(DE104_5B!$A$33,ROWS($A$33:A99)-1,COLUMNS($A$33:A99)-1)<>\"\",OFFSET(DE104_5B!$A$33,ROWS($A$33:A99)-1,COLUMNS($A$33:A99)-1),\"\")","v":""},null,null,null,{"$f":"IF(OFFSET(DE104_5B!$B$33,ROWS($B$33:B99)-1,COLUMNS($B$33:B99)-1)<>\"\",OFFSET(DE104_5B!$B$33,ROWS($B$33:B99)-1,COLUMNS($B$33:B99)-1),\"\")","v":""},null,null,null,null,null,null,null,null,null,null,null,null,null,null,null,null,null,null,{"$f":"IF(OFFSET(DE104_5B!$C$33,ROWS($C$33:C99)-1,COLUMNS($C$33:C99)-1)<>\"\",OFFSET(DE104_5B!$C$33,ROWS($C$33:C99)-1,COLUMNS($C$33:C99)-1),\"\")","v":""},null,null,null,null,null,null,null,null,null,null,null,null,null,null,null,null,null,null,null,null,null,null,null,{"$f":"IF(OFFSET(DE104_5B!$D$33,ROWS($D$33:D99)-1,COLUMNS($D$33:D99)-1)<>\"\",OFFSET(DE104_5B!$D$33,ROWS($D$33:D99)-1,COLUMNS($D$33:D99)-1),\"\")","v":""},null,null,null,null,{"$f":"IF(OFFSET(DE104_5B!$E$33,ROWS($E$33:E99)-1,COLUMNS($E$33:E99)-1)<>\"\",OFFSET(DE104_5B!$E$33,ROWS($E$33:E99)-1,COLUMNS($E$33:E99)-1),\"\")","v":""},null,null,null,null,null,{"$f":"IF(OFFSET(DE104_5B!$F$33,ROWS($F$33:F99)-1,COLUMNS($F$33:F99)-1)<>\"\",OFFSET(DE104_5B!$F$33,ROWS($F$33:F99)-1,COLUMNS($F$33:F99)-1),\"\")","v":""},null,null,null,null,null,null,null,{"$f":"IF(OFFSET(DE104_5B!$G$33,ROWS($G$33:G99)-1,COLUMNS($G$33:G99)-1)<>\"\",OFFSET(DE104_5B!$G$33,ROWS($G$33:G99)-1,COLUMNS($G$33:G99)-1),\"\")","v":""}]
[null,null,null,null,null,null,null,null,null,null,null,null,null,null,null,null,null,null,null,null,null,null,null,null,null,null,null,null,null,null,null,null,null,null,null,null,null,null,null,null,null,null,null,null,null,null,null,null,null,null,null,null,null,null,null,null,null,null,null,null,null,null,null,null,null,null,null,null,null,null,null,null,null,null,null,null,null,null,null,null,null,{"$f":"IF(OFFSET(DE104_5B!$H$34,ROWS($H$34:H100)-1,COLUMNS($H$34:H100)-1)<>\"\",OFFSET(DE104_5B!$H$34,ROWS($H$34:H100)-1,COLUMNS($H$34:H100)-1),\"\")","v":""},null,null,null,null,null,{"$f":"IF(OFFSET(DE104_5B!$I$34,ROWS($I$34:I100)-1,COLUMNS($I$34:I100)-1)<>\"\",OFFSET(DE104_5B!$I$34,ROWS($I$34:I100)-1,COLUMNS($I$34:I100)-1),\"\")","v":""},null,null,null,{"$f":"IF(OFFSET(DE104_5B!$J$34,ROWS($J$34:J100)-1,COLUMNS($J$34:J100)-1)<>\"\",OFFSET(DE104_5B!$J$34,ROWS($J$34:J100)-1,COLUMNS($J$34:J100)-1),\"\")","v":""},null,null,null,{"$f":"IF(OFFSET(DE104_5B!$K$34,ROWS($K$34:K100)-1,COLUMNS($K$34:K100)-1)<>\"\",OFFSET(DE104_5B!$K$34,ROWS($K$34:K100)-1,COLUMNS($K$34:K100)-1),\"\")","v":""},null,null,null,null,{"$f":"IF(OFFSET(DE104_5B!$L$34,ROWS($L$34:L100)-1,COLUMNS($L$34:L100)-1)<>\"\",OFFSET(DE104_5B!$L$34,ROWS($L$34:L100)-1,COLUMNS($L$34:L100)-1),\"\")","v":""},null,null,null,null,null,null,{"$f":"IF(OFFSET(DE104_5B!$M$34,ROWS($M$34:M100)-1,COLUMNS($M$34:M100)-1)<>\"\",OFFSET(DE104_5B!$M$34,ROWS($M$34:M100)-1,COLUMNS($M$34:M100)-1),\"\")","v":""},null,null,null,null,null,{"$f":"IF(OFFSET(DE104_5B!$O$34,ROWS($O$34:O100)-1,COLUMNS($O$34:O100)-1)<>\"\",OFFSET(DE104_5B!$O$34,ROWS($O$34:O100)-1,COLUMNS($O$34:O100)-1),\"\")","v":""},null,null,null,null,null,{"$f":"IF(OFFSET(DE104_5B!$P$34,ROWS($P$34:P100)-1,COLUMNS($P$34:P100)-1)<>\"\",OFFSET(DE104_5B!$P$34,ROWS($P$34:P100)-1,COLUMNS($P$34:P100)-1),\"\")","v":""},null,null,null,null,{"$f":"IF(OFFSET(DE104_5B!$Q$34,ROWS($Q$34:Q100)-1,COLUMNS($Q$34:Q100)-1)<>\"\",OFFSET(DE104_5B!$Q$34,ROWS($Q$34:Q100)-1,COLUMNS($Q$34:Q100)-1),\"\")","v":""},null,null,null,null,null,null,null,null,null,{"$f":"IF(OFFSET(DE104_5B!$R$34,ROWS($S$34:S100)-1,COLUMNS($S$34:S100)-1)<>\"\",OFFSET(DE104_5B!$R$34,ROWS($S$34:S100)-1,COLUMNS($S$34:S100)-1),\"\")","v":""},null,null,null,null,null,null,null,{"$f":"IF(OFFSET(DE104_5B!$S$34,ROWS($T$34:T100)-1,COLUMNS($T$34:T100)-1)<>\"\",OFFSET(DE104_5B!$S$34,ROWS($T$34:T100)-1,COLUMNS($T$34:T100)-1),\"\")","v":""},null,null,null,null,null,null,null,{"$f":"IF(OFFSET(DE104_5B!$T$34,ROWS($U$34:U100)-1,COLUMNS($U$34:U100)-1)<>\"\",OFFSET(DE104_5B!$T$34,ROWS($U$34:U100)-1,COLUMNS($U$34:U100)-1),\"\")","v":""},null,null,null,null,null,null,null,{"$f":"IF(OFFSET(DE104_5B!$U$34,ROWS($V$34:V100)-1,COLUMNS($V$34:V100)-1)<>\"\",OFFSET(DE104_5B!$U$34,ROWS($V$34:V100)-1,COLUMNS($V$34:V100)-1),\"\")","v":""},null,null,null,null,null,null,{"$f":"IF(OFFSET(DE104_5B!$V$34,ROWS($W$34:W100)-1,COLUMNS($W$34:W100)-1)<>\"\",OFFSET(DE104_5B!$V$34,ROWS($W$34:W100)-1,COLUMNS($W$34:W100)-1),\"\")","v":""}]
[null,null,{"$f":"IF(OFFSET(DE104_5B!$A$33,ROWS($A$33:A101)-1,COLUMNS($A$33:A101)-1)<>\"\",OFFSET(DE104_5B!$A$33,ROWS($A$33:A101)-1,COLUMNS($A$33:A101)-1),\"\")","v":""},null,null,null,{"$f":"IF(OFFSET(DE104_5B!$B$33,ROWS($B$33:B101)-1,COLUMNS($B$33:B101)-1)<>\"\",OFFSET(DE104_5B!$B$33,ROWS($B$33:B101)-1,COLUMNS($B$33:B101)-1),\"\")","v":""},null,null,null,null,null,null,null,null,null,null,null,null,null,null,null,null,null,null,{"$f":"IF(OFFSET(DE104_5B!$C$33,ROWS($C$33:C101)-1,COLUMNS($C$33:C101)-1)<>\"\",OFFSET(DE104_5B!$C$33,ROWS($C$33:C101)-1,COLUMNS($C$33:C101)-1),\"\")","v":""},null,null,null,null,null,null,null,null,null,null,null,null,null,null,null,null,null,null,null,null,null,null,null,{"$f":"IF(OFFSET(DE104_5B!$D$33,ROWS($D$33:D101)-1,COLUMNS($D$33:D101)-1)<>\"\",OFFSET(DE104_5B!$D$33,ROWS($D$33:D101)-1,COLUMNS($D$33:D101)-1),\"\")","v":""},null,null,null,null,{"$f":"IF(OFFSET(DE104_5B!$E$33,ROWS($E$33:E101)-1,COLUMNS($E$33:E101)-1)<>\"\",OFFSET(DE104_5B!$E$33,ROWS($E$33:E101)-1,COLUMNS($E$33:E101)-1),\"\")","v":""},null,null,null,null,null,{"$f":"IF(OFFSET(DE104_5B!$F$33,ROWS($F$33:F101)-1,COLUMNS($F$33:F101)-1)<>\"\",OFFSET(DE104_5B!$F$33,ROWS($F$33:F101)-1,COLUMNS($F$33:F101)-1),\"\")","v":""},null,null,null,null,null,null,null,{"$f":"IF(OFFSET(DE104_5B!$G$33,ROWS($G$33:G101)-1,COLUMNS($G$33:G101)-1)<>\"\",OFFSET(DE104_5B!$G$33,ROWS($G$33:G101)-1,COLUMNS($G$33:G101)-1),\"\")","v":""}]
[null,null,null,null,null,null,null,null,null,null,null,null,null,null,null,null,null,null,null,null,null,null,null,null,null,null,null,null,null,null,null,null,null,null,null,null,null,null,null,null,null,null,null,null,null,null,null,null,null,null,null,null,null,null,null,null,null,null,null,null,null,null,null,null,null,null,null,null,null,null,null,null,null,null,null,null,null,null,null,null,null,{"$f":"IF(OFFSET(DE104_5B!$H$34,ROWS($H$34:H102)-1,COLUMNS($H$34:H102)-1)<>\"\",OFFSET(DE104_5B!$H$34,ROWS($H$34:H102)-1,COLUMNS($H$34:H102)-1),\"\")","v":""},null,null,null,null,null,{"$f":"IF(OFFSET(DE104_5B!$I$34,ROWS($I$34:I102)-1,COLUMNS($I$34:I102)-1)<>\"\",OFFSET(DE104_5B!$I$34,ROWS($I$34:I102)-1,COLUMNS($I$34:I102)-1),\"\")","v":""},null,null,null,{"$f":"IF(OFFSET(DE104_5B!$J$34,ROWS($J$34:J102)-1,COLUMNS($J$34:J102)-1)<>\"\",OFFSET(DE104_5B!$J$34,ROWS($J$34:J102)-1,COLUMNS($J$34:J102)-1),\"\")","v":""},null,null,null,{"$f":"IF(OFFSET(DE104_5B!$K$34,ROWS($K$34:K102)-1,COLUMNS($K$34:K102)-1)<>\"\",OFFSET(DE104_5B!$K$34,ROWS($K$34:K102)-1,COLUMNS($K$34:K102)-1),\"\")","v":""},null,null,null,null,{"$f":"IF(OFFSET(DE104_5B!$L$34,ROWS($L$34:L102)-1,COLUMNS($L$34:L102)-1)<>\"\",OFFSET(DE104_5B!$L$34,ROWS($L$34:L102)-1,COLUMNS($L$34:L102)-1),\"\")","v":""},null,null,null,null,null,null,{"$f":"IF(OFFSET(DE104_5B!$M$34,ROWS($M$34:M102)-1,COLUMNS($M$34:M102)-1)<>\"\",OFFSET(DE104_5B!$M$34,ROWS($M$34:M102)-1,COLUMNS($M$34:M102)-1),\"\")","v":""},null,null,null,null,null,{"$f":"IF(OFFSET(DE104_5B!$O$34,ROWS($O$34:O102)-1,COLUMNS($O$34:O102)-1)<>\"\",OFFSET(DE104_5B!$O$34,ROWS($O$34:O102)-1,COLUMNS($O$34:O102)-1),\"\")","v":""},null,null,null,null,null,{"$f":"IF(OFFSET(DE104_5B!$P$34,ROWS($P$34:P102)-1,COLUMNS($P$34:P102)-1)<>\"\",OFFSET(DE104_5B!$P$34,ROWS($P$34:P102)-1,COLUMNS($P$34:P102)-1),\"\")","v":""},null,null,null,null,{"$f":"IF(OFFSET(DE104_5B!$Q$34,ROWS($Q$34:Q102)-1,COLUMNS($Q$34:Q102)-1)<>\"\",OFFSET(DE104_5B!$Q$34,ROWS($Q$34:Q102)-1,COLUMNS($Q$34:Q102)-1),\"\")","v":""},null,null,null,null,null,null,null,null,null,{"$f":"IF(OFFSET(DE104_5B!$R$34,ROWS($S$34:S102)-1,COLUMNS($S$34:S102)-1)<>\"\",OFFSET(DE104_5B!$R$34,ROWS($S$34:S102)-1,COLUMNS($S$34:S102)-1),\"\")","v":""},null,null,null,null,null,null,null,{"$f":"IF(OFFSET(DE104_5B!$S$34,ROWS($T$34:T102)-1,COLUMNS($T$34:T102)-1)<>\"\",OFFSET(DE104_5B!$S$34,ROWS($T$34:T102)-1,COLUMNS($T$34:T102)-1),\"\")","v":""},null,null,null,null,null,null,null,{"$f":"IF(OFFSET(DE104_5B!$T$34,ROWS($U$34:U102)-1,COLUMNS($U$34:U102)-1)<>\"\",OFFSET(DE104_5B!$T$34,ROWS($U$34:U102)-1,COLUMNS($U$34:U102)-1),\"\")","v":""},null,null,null,null,null,null,null,{"$f":"IF(OFFSET(DE104_5B!$U$34,ROWS($V$34:V102)-1,COLUMNS($V$34:V102)-1)<>\"\",OFFSET(DE104_5B!$U$34,ROWS($V$34:V102)-1,COLUMNS($V$34:V102)-1),\"\")","v":""},null,null,null,null,null,null,{"$f":"IF(OFFSET(DE104_5B!$V$34,ROWS($W$34:W102)-1,COLUMNS($W$34:W102)-1)<>\"\",OFFSET(DE104_5B!$V$34,ROWS($W$34:W102)-1,COLUMNS($W$34:W102)-1),\"\")","v":""}]
[null,null,{"$f":"IF(OFFSET(DE104_5B!$A$33,ROWS($A$33:A103)-1,COLUMNS($A$33:A103)-1)<>\"\",OFFSET(DE104_5B!$A$33,ROWS($A$33:A103)-1,COLUMNS($A$33:A103)-1),\"\")","v":""},null,null,null,{"$f":"IF(OFFSET(DE104_5B!$B$33,ROWS($B$33:B103)-1,COLUMNS($B$33:B103)-1)<>\"\",OFFSET(DE104_5B!$B$33,ROWS($B$33:B103)-1,COLUMNS($B$33:B103)-1),\"\")","v":""},null,null,null,null,null,null,null,null,null,null,null,null,null,null,null,null,null,null,{"$f":"IF(OFFSET(DE104_5B!$C$33,ROWS($C$33:C103)-1,COLUMNS($C$33:C103)-1)<>\"\",OFFSET(DE104_5B!$C$33,ROWS($C$33:C103)-1,COLUMNS($C$33:C103)-1),\"\")","v":""},null,null,null,null,null,null,null,null,null,null,null,null,null,null,null,null,null,null,null,null,null,null,null,{"$f":"IF(OFFSET(DE104_5B!$D$33,ROWS($D$33:D103)-1,COLUMNS($D$33:D103)-1)<>\"\",OFFSET(DE104_5B!$D$33,ROWS($D$33:D103)-1,COLUMNS($D$33:D103)-1),\"\")","v":""},null,null,null,null,{"$f":"IF(OFFSET(DE104_5B!$E$33,ROWS($E$33:E103)-1,COLUMNS($E$33:E103)-1)<>\"\",OFFSET(DE104_5B!$E$33,ROWS($E$33:E103)-1,COLUMNS($E$33:E103)-1),\"\")","v":""},null,null,null,null,null,{"$f":"IF(OFFSET(DE104_5B!$F$33,ROWS($F$33:F103)-1,COLUMNS($F$33:F103)-1)<>\"\",OFFSET(DE104_5B!$F$33,ROWS($F$33:F103)-1,COLUMNS($F$33:F103)-1),\"\")","v":""},null,null,null,null,null,null,null,{"$f":"IF(OFFSET(DE104_5B!$G$33,ROWS($G$33:G103)-1,COLUMNS($G$33:G103)-1)<>\"\",OFFSET(DE104_5B!$G$33,ROWS($G$33:G103)-1,COLUMNS($G$33:G103)-1),\"\")","v":""}]
[null,null,null,null,null,null,null,null,null,null,null,null,null,null,null,null,null,null,null,null,null,null,null,null,null,null,null,null,null,null,null,null,null,null,null,null,null,null,null,null,null,null,null,null,null,null,null,null,null,null,null,null,null,null,null,null,null,null,null,null,null,null,null,null,null,null,null,null,null,null,null,null,null,null,null,null,null,null,null,null,null,{"$f":"IF(OFFSET(DE104_5B!$H$34,ROWS($H$34:H104)-1,COLUMNS($H$34:H104)-1)<>\"\",OFFSET(DE104_5B!$H$34,ROWS($H$34:H104)-1,COLUMNS($H$34:H104)-1),\"\")","v":""},null,null,null,null,null,{"$f":"IF(OFFSET(DE104_5B!$I$34,ROWS($I$34:I104)-1,COLUMNS($I$34:I104)-1)<>\"\",OFFSET(DE104_5B!$I$34,ROWS($I$34:I104)-1,COLUMNS($I$34:I104)-1),\"\")","v":""},null,null,null,{"$f":"IF(OFFSET(DE104_5B!$J$34,ROWS($J$34:J104)-1,COLUMNS($J$34:J104)-1)<>\"\",OFFSET(DE104_5B!$J$34,ROWS($J$34:J104)-1,COLUMNS($J$34:J104)-1),\"\")","v":""},null,null,null,{"$f":"IF(OFFSET(DE104_5B!$K$34,ROWS($K$34:K104)-1,COLUMNS($K$34:K104)-1)<>\"\",OFFSET(DE104_5B!$K$34,ROWS($K$34:K104)-1,COLUMNS($K$34:K104)-1),\"\")","v":""},null,null,null,null,{"$f":"IF(OFFSET(DE104_5B!$L$34,ROWS($L$34:L104)-1,COLUMNS($L$34:L104)-1)<>\"\",OFFSET(DE104_5B!$L$34,ROWS($L$34:L104)-1,COLUMNS($L$34:L104)-1),\"\")","v":""},null,null,null,null,null,null,{"$f":"IF(OFFSET(DE104_5B!$M$34,ROWS($M$34:M104)-1,COLUMNS($M$34:M104)-1)<>\"\",OFFSET(DE104_5B!$M$34,ROWS($M$34:M104)-1,COLUMNS($M$34:M104)-1),\"\")","v":""},null,null,null,null,null,{"$f":"IF(OFFSET(DE104_5B!$O$34,ROWS($O$34:O104)-1,COLUMNS($O$34:O104)-1)<>\"\",OFFSET(DE104_5B!$O$34,ROWS($O$34:O104)-1,COLUMNS($O$34:O104)-1),\"\")","v":""},null,null,null,null,null,{"$f":"IF(OFFSET(DE104_5B!$P$34,ROWS($P$34:P104)-1,COLUMNS($P$34:P104)-1)<>\"\",OFFSET(DE104_5B!$P$34,ROWS($P$34:P104)-1,COLUMNS($P$34:P104)-1),\"\")","v":""},null,null,null,null,{"$f":"IF(OFFSET(DE104_5B!$Q$34,ROWS($Q$34:Q104)-1,COLUMNS($Q$34:Q104)-1)<>\"\",OFFSET(DE104_5B!$Q$34,ROWS($Q$34:Q104)-1,COLUMNS($Q$34:Q104)-1),\"\")","v":""},null,null,null,null,null,null,null,null,null,{"$f":"IF(OFFSET(DE104_5B!$R$34,ROWS($S$34:S104)-1,COLUMNS($S$34:S104)-1)<>\"\",OFFSET(DE104_5B!$R$34,ROWS($S$34:S104)-1,COLUMNS($S$34:S104)-1),\"\")","v":""},null,null,null,null,null,null,null,{"$f":"IF(OFFSET(DE104_5B!$S$34,ROWS($T$34:T104)-1,COLUMNS($T$34:T104)-1)<>\"\",OFFSET(DE104_5B!$S$34,ROWS($T$34:T104)-1,COLUMNS($T$34:T104)-1),\"\")","v":""},null,null,null,null,null,null,null,{"$f":"IF(OFFSET(DE104_5B!$T$34,ROWS($U$34:U104)-1,COLUMNS($U$34:U104)-1)<>\"\",OFFSET(DE104_5B!$T$34,ROWS($U$34:U104)-1,COLUMNS($U$34:U104)-1),\"\")","v":""},null,null,null,null,null,null,null,{"$f":"IF(OFFSET(DE104_5B!$U$34,ROWS($V$34:V104)-1,COLUMNS($V$34:V104)-1)<>\"\",OFFSET(DE104_5B!$U$34,ROWS($V$34:V104)-1,COLUMNS($V$34:V104)-1),\"\")","v":""},null,null,null,null,null,null,{"$f":"IF(OFFSET(DE104_5B!$V$34,ROWS($W$34:W104)-1,COLUMNS($W$34:W104)-1)<>\"\",OFFSET(DE104_5B!$V$34,ROWS($W$34:W104)-1,COLUMNS($W$34:W104)-1),\"\")","v":""}]
[null,null,{"$f":"IF(OFFSET(DE104_5B!$A$33,ROWS($A$33:A105)-1,COLUMNS($A$33:A105)-1)<>\"\",OFFSET(DE104_5B!$A$33,ROWS($A$33:A105)-1,COLUMNS($A$33:A105)-1),\"\")","v":""},null,null,null,{"$f":"IF(OFFSET(DE104_5B!$B$33,ROWS($B$33:B105)-1,COLUMNS($B$33:B105)-1)<>\"\",OFFSET(DE104_5B!$B$33,ROWS($B$33:B105)-1,COLUMNS($B$33:B105)-1),\"\")","v":""},null,null,null,null,null,null,null,null,null,null,null,null,null,null,null,null,null,null,{"$f":"IF(OFFSET(DE104_5B!$C$33,ROWS($C$33:C105)-1,COLUMNS($C$33:C105)-1)<>\"\",OFFSET(DE104_5B!$C$33,ROWS($C$33:C105)-1,COLUMNS($C$33:C105)-1),\"\")","v":""},null,null,null,null,null,null,null,null,null,null,null,null,null,null,null,null,null,null,null,null,null,null,null,{"$f":"IF(OFFSET(DE104_5B!$D$33,ROWS($D$33:D105)-1,COLUMNS($D$33:D105)-1)<>\"\",OFFSET(DE104_5B!$D$33,ROWS($D$33:D105)-1,COLUMNS($D$33:D105)-1),\"\")","v":""},null,null,null,null,{"$f":"IF(OFFSET(DE104_5B!$E$33,ROWS($E$33:E105)-1,COLUMNS($E$33:E105)-1)<>\"\",OFFSET(DE104_5B!$E$33,ROWS($E$33:E105)-1,COLUMNS($E$33:E105)-1),\"\")","v":""},null,null,null,null,null,{"$f":"IF(OFFSET(DE104_5B!$F$33,ROWS($F$33:F105)-1,COLUMNS($F$33:F105)-1)<>\"\",OFFSET(DE104_5B!$F$33,ROWS($F$33:F105)-1,COLUMNS($F$33:F105)-1),\"\")","v":""},null,null,null,null,null,null,null,{"$f":"IF(OFFSET(DE104_5B!$G$33,ROWS($G$33:G105)-1,COLUMNS($G$33:G105)-1)<>\"\",OFFSET(DE104_5B!$G$33,ROWS($G$33:G105)-1,COLUMNS($G$33:G105)-1),\"\")","v":""}]
[null,null,null,null,null,null,null,null,null,null,null,null,null,null,null,null,null,null,null,null,null,null,null,null,null,null,null,null,null,null,null,null,null,null,null,null,null,null,null,null,null,null,null,null,null,null,null,null,null,null,null,null,null,null,null,null,null,null,null,null,null,null,null,null,null,null,null,null,null,null,null,null,null,null,null,null,null,null,null,null,null,{"$f":"IF(OFFSET(DE104_5B!$H$34,ROWS($H$34:H106)-1,COLUMNS($H$34:H106)-1)<>\"\",OFFSET(DE104_5B!$H$34,ROWS($H$34:H106)-1,COLUMNS($H$34:H106)-1),\"\")","v":""},null,null,null,null,null,{"$f":"IF(OFFSET(DE104_5B!$I$34,ROWS($I$34:I106)-1,COLUMNS($I$34:I106)-1)<>\"\",OFFSET(DE104_5B!$I$34,ROWS($I$34:I106)-1,COLUMNS($I$34:I106)-1),\"\")","v":""},null,null,null,{"$f":"IF(OFFSET(DE104_5B!$J$34,ROWS($J$34:J106)-1,COLUMNS($J$34:J106)-1)<>\"\",OFFSET(DE104_5B!$J$34,ROWS($J$34:J106)-1,COLUMNS($J$34:J106)-1),\"\")","v":""},null,null,null,{"$f":"IF(OFFSET(DE104_5B!$K$34,ROWS($K$34:K106)-1,COLUMNS($K$34:K106)-1)<>\"\",OFFSET(DE104_5B!$K$34,ROWS($K$34:K106)-1,COLUMNS($K$34:K106)-1),\"\")","v":""},null,null,null,null,{"$f":"IF(OFFSET(DE104_5B!$L$34,ROWS($L$34:L106)-1,COLUMNS($L$34:L106)-1)<>\"\",OFFSET(DE104_5B!$L$34,ROWS($L$34:L106)-1,COLUMNS($L$34:L106)-1),\"\")","v":""},null,null,null,null,null,null,{"$f":"IF(OFFSET(DE104_5B!$M$34,ROWS($M$34:M106)-1,COLUMNS($M$34:M106)-1)<>\"\",OFFSET(DE104_5B!$M$34,ROWS($M$34:M106)-1,COLUMNS($M$34:M106)-1),\"\")","v":""},null,null,null,null,null,{"$f":"IF(OFFSET(DE104_5B!$O$34,ROWS($O$34:O106)-1,COLUMNS($O$34:O106)-1)<>\"\",OFFSET(DE104_5B!$O$34,ROWS($O$34:O106)-1,COLUMNS($O$34:O106)-1),\"\")","v":""},null,null,null,null,null,{"$f":"IF(OFFSET(DE104_5B!$P$34,ROWS($P$34:P106)-1,COLUMNS($P$34:P106)-1)<>\"\",OFFSET(DE104_5B!$P$34,ROWS($P$34:P106)-1,COLUMNS($P$34:P106)-1),\"\")","v":""},null,null,null,null,{"$f":"IF(OFFSET(DE104_5B!$Q$34,ROWS($Q$34:Q106)-1,COLUMNS($Q$34:Q106)-1)<>\"\",OFFSET(DE104_5B!$Q$34,ROWS($Q$34:Q106)-1,COLUMNS($Q$34:Q106)-1),\"\")","v":""},null,null,null,null,null,null,null,null,null,{"$f":"IF(OFFSET(DE104_5B!$R$34,ROWS($S$34:S106)-1,COLUMNS($S$34:S106)-1)<>\"\",OFFSET(DE104_5B!$R$34,ROWS($S$34:S106)-1,COLUMNS($S$34:S106)-1),\"\")","v":""},null,null,null,null,null,null,null,{"$f":"IF(OFFSET(DE104_5B!$S$34,ROWS($T$34:T106)-1,COLUMNS($T$34:T106)-1)<>\"\",OFFSET(DE104_5B!$S$34,ROWS($T$34:T106)-1,COLUMNS($T$34:T106)-1),\"\")","v":""},null,null,null,null,null,null,null,{"$f":"IF(OFFSET(DE104_5B!$T$34,ROWS($U$34:U106)-1,COLUMNS($U$34:U106)-1)<>\"\",OFFSET(DE104_5B!$T$34,ROWS($U$34:U106)-1,COLUMNS($U$34:U106)-1),\"\")","v":""},null,null,null,null,null,null,null,{"$f":"IF(OFFSET(DE104_5B!$U$34,ROWS($V$34:V106)-1,COLUMNS($V$34:V106)-1)<>\"\",OFFSET(DE104_5B!$U$34,ROWS($V$34:V106)-1,COLUMNS($V$34:V106)-1),\"\")","v":""},null,null,null,null,null,null,{"$f":"IF(OFFSET(DE104_5B!$V$34,ROWS($W$34:W106)-1,COLUMNS($W$34:W106)-1)<>\"\",OFFSET(DE104_5B!$V$34,ROWS($W$34:W106)-1,COLUMNS($W$34:W106)-1),\"\")","v":""}]
[null,null,{"$f":"IF(OFFSET(DE104_5B!$A$33,ROWS($A$33:A107)-1,COLUMNS($A$33:A107)-1)<>\"\",OFFSET(DE104_5B!$A$33,ROWS($A$33:A107)-1,COLUMNS($A$33:A107)-1),\"\")","v":""},null,null,null,{"$f":"IF(OFFSET(DE104_5B!$B$33,ROWS($B$33:B107)-1,COLUMNS($B$33:B107)-1)<>\"\",OFFSET(DE104_5B!$B$33,ROWS($B$33:B107)-1,COLUMNS($B$33:B107)-1),\"\")","v":""},null,null,null,null,null,null,null,null,null,null,null,null,null,null,null,null,null,null,{"$f":"IF(OFFSET(DE104_5B!$C$33,ROWS($C$33:C107)-1,COLUMNS($C$33:C107)-1)<>\"\",OFFSET(DE104_5B!$C$33,ROWS($C$33:C107)-1,COLUMNS($C$33:C107)-1),\"\")","v":""},null,null,null,null,null,null,null,null,null,null,null,null,null,null,null,null,null,null,null,null,null,null,null,{"$f":"IF(OFFSET(DE104_5B!$D$33,ROWS($D$33:D107)-1,COLUMNS($D$33:D107)-1)<>\"\",OFFSET(DE104_5B!$D$33,ROWS($D$33:D107)-1,COLUMNS($D$33:D107)-1),\"\")","v":""},null,null,null,null,{"$f":"IF(OFFSET(DE104_5B!$E$33,ROWS($E$33:E107)-1,COLUMNS($E$33:E107)-1)<>\"\",OFFSET(DE104_5B!$E$33,ROWS($E$33:E107)-1,COLUMNS($E$33:E107)-1),\"\")","v":""},null,null,null,null,null,{"$f":"IF(OFFSET(DE104_5B!$F$33,ROWS($F$33:F107)-1,COLUMNS($F$33:F107)-1)<>\"\",OFFSET(DE104_5B!$F$33,ROWS($F$33:F107)-1,COLUMNS($F$33:F107)-1),\"\")","v":""},null,null,null,null,null,null,null,{"$f":"IF(OFFSET(DE104_5B!$G$33,ROWS($G$33:G107)-1,COLUMNS($G$33:G107)-1)<>\"\",OFFSET(DE104_5B!$G$33,ROWS($G$33:G107)-1,COLUMNS($G$33:G107)-1),\"\")","v":""}]
[null,null,null,null,null,null,null,null,null,null,null,null,null,null,null,null,null,null,null,null,null,null,null,null,null,null,null,null,null,null,null,null,null,null,null,null,null,null,null,null,null,null,null,null,null,null,null,null,null,null,null,null,null,null,null,null,null,null,null,null,null,null,null,null,null,null,null,null,null,null,null,null,null,null,null,null,null,null,null,null,null,{"$f":"IF(OFFSET(DE104_5B!$H$34,ROWS($H$34:H108)-1,COLUMNS($H$34:H108)-1)<>\"\",OFFSET(DE104_5B!$H$34,ROWS($H$34:H108)-1,COLUMNS($H$34:H108)-1),\"\")","v":""},null,null,null,null,null,{"$f":"IF(OFFSET(DE104_5B!$I$34,ROWS($I$34:I108)-1,COLUMNS($I$34:I108)-1)<>\"\",OFFSET(DE104_5B!$I$34,ROWS($I$34:I108)-1,COLUMNS($I$34:I108)-1),\"\")","v":""},null,null,null,{"$f":"IF(OFFSET(DE104_5B!$J$34,ROWS($J$34:J108)-1,COLUMNS($J$34:J108)-1)<>\"\",OFFSET(DE104_5B!$J$34,ROWS($J$34:J108)-1,COLUMNS($J$34:J108)-1),\"\")","v":""},null,null,null,{"$f":"IF(OFFSET(DE104_5B!$K$34,ROWS($K$34:K108)-1,COLUMNS($K$34:K108)-1)<>\"\",OFFSET(DE104_5B!$K$34,ROWS($K$34:K108)-1,COLUMNS($K$34:K108)-1),\"\")","v":""},null,null,null,null,{"$f":"IF(OFFSET(DE104_5B!$L$34,ROWS($L$34:L108)-1,COLUMNS($L$34:L108)-1)<>\"\",OFFSET(DE104_5B!$L$34,ROWS($L$34:L108)-1,COLUMNS($L$34:L108)-1),\"\")","v":""},null,null,null,null,null,null,{"$f":"IF(OFFSET(DE104_5B!$M$34,ROWS($M$34:M108)-1,COLUMNS($M$34:M108)-1)<>\"\",OFFSET(DE104_5B!$M$34,ROWS($M$34:M108)-1,COLUMNS($M$34:M108)-1),\"\")","v":""},null,null,null,null,null,{"$f":"IF(OFFSET(DE104_5B!$O$34,ROWS($O$34:O108)-1,COLUMNS($O$34:O108)-1)<>\"\",OFFSET(DE104_5B!$O$34,ROWS($O$34:O108)-1,COLUMNS($O$34:O108)-1),\"\")","v":""},null,null,null,null,null,{"$f":"IF(OFFSET(DE104_5B!$P$34,ROWS($P$34:P108)-1,COLUMNS($P$34:P108)-1)<>\"\",OFFSET(DE104_5B!$P$34,ROWS($P$34:P108)-1,COLUMNS($P$34:P108)-1),\"\")","v":""},null,null,null,null,{"$f":"IF(OFFSET(DE104_5B!$Q$34,ROWS($Q$34:Q108)-1,COLUMNS($Q$34:Q108)-1)<>\"\",OFFSET(DE104_5B!$Q$34,ROWS($Q$34:Q108)-1,COLUMNS($Q$34:Q108)-1),\"\")","v":""},null,null,null,null,null,null,null,null,null,{"$f":"IF(OFFSET(DE104_5B!$R$34,ROWS($S$34:S108)-1,COLUMNS($S$34:S108)-1)<>\"\",OFFSET(DE104_5B!$R$34,ROWS($S$34:S108)-1,COLUMNS($S$34:S108)-1),\"\")","v":""},null,null,null,null,null,null,null,{"$f":"IF(OFFSET(DE104_5B!$S$34,ROWS($T$34:T108)-1,COLUMNS($T$34:T108)-1)<>\"\",OFFSET(DE104_5B!$S$34,ROWS($T$34:T108)-1,COLUMNS($T$34:T108)-1),\"\")","v":""},null,null,null,null,null,null,null,{"$f":"IF(OFFSET(DE104_5B!$T$34,ROWS($U$34:U108)-1,COLUMNS($U$34:U108)-1)<>\"\",OFFSET(DE104_5B!$T$34,ROWS($U$34:U108)-1,COLUMNS($U$34:U108)-1),\"\")","v":""},null,null,null,null,null,null,null,{"$f":"IF(OFFSET(DE104_5B!$U$34,ROWS($V$34:V108)-1,COLUMNS($V$34:V108)-1)<>\"\",OFFSET(DE104_5B!$U$34,ROWS($V$34:V108)-1,COLUMNS($V$34:V108)-1),\"\")","v":""},null,null,null,null,null,null,{"$f":"IF(OFFSET(DE104_5B!$V$34,ROWS($W$34:W108)-1,COLUMNS($W$34:W108)-1)<>\"\",OFFSET(DE104_5B!$V$34,ROWS($W$34:W108)-1,COLUMNS($W$34:W108)-1),\"\")","v":""}]
[null,null,{"$f":"IF(OFFSET(DE104_5B!$A$33,ROWS($A$33:A109)-1,COLUMNS($A$33:A109)-1)<>\"\",OFFSET(DE104_5B!$A$33,ROWS($A$33:A109)-1,COLUMNS($A$33:A109)-1),\"\")","v":""},null,null,null,{"$f":"IF(OFFSET(DE104_5B!$B$33,ROWS($B$33:B109)-1,COLUMNS($B$33:B109)-1)<>\"\",OFFSET(DE104_5B!$B$33,ROWS($B$33:B109)-1,COLUMNS($B$33:B109)-1),\"\")","v":""},null,null,null,null,null,null,null,null,null,null,null,null,null,null,null,null,null,null,{"$f":"IF(OFFSET(DE104_5B!$C$33,ROWS($C$33:C109)-1,COLUMNS($C$33:C109)-1)<>\"\",OFFSET(DE104_5B!$C$33,ROWS($C$33:C109)-1,COLUMNS($C$33:C109)-1),\"\")","v":""},null,null,null,null,null,null,null,null,null,null,null,null,null,null,null,null,null,null,null,null,null,null,null,{"$f":"IF(OFFSET(DE104_5B!$D$33,ROWS($D$33:D109)-1,COLUMNS($D$33:D109)-1)<>\"\",OFFSET(DE104_5B!$D$33,ROWS($D$33:D109)-1,COLUMNS($D$33:D109)-1),\"\")","v":""},null,null,null,null,{"$f":"IF(OFFSET(DE104_5B!$E$33,ROWS($E$33:E109)-1,COLUMNS($E$33:E109)-1)<>\"\",OFFSET(DE104_5B!$E$33,ROWS($E$33:E109)-1,COLUMNS($E$33:E109)-1),\"\")","v":""},null,null,null,null,null,{"$f":"IF(OFFSET(DE104_5B!$F$33,ROWS($F$33:F109)-1,COLUMNS($F$33:F109)-1)<>\"\",OFFSET(DE104_5B!$F$33,ROWS($F$33:F109)-1,COLUMNS($F$33:F109)-1),\"\")","v":""},null,null,null,null,null,null,null,{"$f":"IF(OFFSET(DE104_5B!$G$33,ROWS($G$33:G109)-1,COLUMNS($G$33:G109)-1)<>\"\",OFFSET(DE104_5B!$G$33,ROWS($G$33:G109)-1,COLUMNS($G$33:G109)-1),\"\")","v":""}]
[null,null,null,null,null,null,null,null,null,null,null,null,null,null,null,null,null,null,null,null,null,null,null,null,null,null,null,null,null,null,null,null,null,null,null,null,null,null,null,null,null,null,null,null,null,null,null,null,null,null,null,null,null,null,null,null,null,null,null,null,null,null,null,null,null,null,null,null,null,null,null,null,null,null,null,null,null,null,null,null,null,{"$f":"IF(OFFSET(DE104_5B!$H$34,ROWS($H$34:H110)-1,COLUMNS($H$34:H110)-1)<>\"\",OFFSET(DE104_5B!$H$34,ROWS($H$34:H110)-1,COLUMNS($H$34:H110)-1),\"\")","v":""},null,null,null,null,null,{"$f":"IF(OFFSET(DE104_5B!$I$34,ROWS($I$34:I110)-1,COLUMNS($I$34:I110)-1)<>\"\",OFFSET(DE104_5B!$I$34,ROWS($I$34:I110)-1,COLUMNS($I$34:I110)-1),\"\")","v":""},null,null,null,{"$f":"IF(OFFSET(DE104_5B!$J$34,ROWS($J$34:J110)-1,COLUMNS($J$34:J110)-1)<>\"\",OFFSET(DE104_5B!$J$34,ROWS($J$34:J110)-1,COLUMNS($J$34:J110)-1),\"\")","v":""},null,null,null,{"$f":"IF(OFFSET(DE104_5B!$K$34,ROWS($K$34:K110)-1,COLUMNS($K$34:K110)-1)<>\"\",OFFSET(DE104_5B!$K$34,ROWS($K$34:K110)-1,COLUMNS($K$34:K110)-1),\"\")","v":""},null,null,null,null,{"$f":"IF(OFFSET(DE104_5B!$L$34,ROWS($L$34:L110)-1,COLUMNS($L$34:L110)-1)<>\"\",OFFSET(DE104_5B!$L$34,ROWS($L$34:L110)-1,COLUMNS($L$34:L110)-1),\"\")","v":""},null,null,null,null,null,null,{"$f":"IF(OFFSET(DE104_5B!$M$34,ROWS($M$34:M110)-1,COLUMNS($M$34:M110)-1)<>\"\",OFFSET(DE104_5B!$M$34,ROWS($M$34:M110)-1,COLUMNS($M$34:M110)-1),\"\")","v":""},null,null,null,null,null,{"$f":"IF(OFFSET(DE104_5B!$O$34,ROWS($O$34:O110)-1,COLUMNS($O$34:O110)-1)<>\"\",OFFSET(DE104_5B!$O$34,ROWS($O$34:O110)-1,COLUMNS($O$34:O110)-1),\"\")","v":""},null,null,null,null,null,{"$f":"IF(OFFSET(DE104_5B!$P$34,ROWS($P$34:P110)-1,COLUMNS($P$34:P110)-1)<>\"\",OFFSET(DE104_5B!$P$34,ROWS($P$34:P110)-1,COLUMNS($P$34:P110)-1),\"\")","v":""},null,null,null,null,{"$f":"IF(OFFSET(DE104_5B!$Q$34,ROWS($Q$34:Q110)-1,COLUMNS($Q$34:Q110)-1)<>\"\",OFFSET(DE104_5B!$Q$34,ROWS($Q$34:Q110)-1,COLUMNS($Q$34:Q110)-1),\"\")","v":""},null,null,null,null,null,null,null,null,null,{"$f":"IF(OFFSET(DE104_5B!$R$34,ROWS($S$34:S110)-1,COLUMNS($S$34:S110)-1)<>\"\",OFFSET(DE104_5B!$R$34,ROWS($S$34:S110)-1,COLUMNS($S$34:S110)-1),\"\")","v":""},null,null,null,null,null,null,null,{"$f":"IF(OFFSET(DE104_5B!$S$34,ROWS($T$34:T110)-1,COLUMNS($T$34:T110)-1)<>\"\",OFFSET(DE104_5B!$S$34,ROWS($T$34:T110)-1,COLUMNS($T$34:T110)-1),\"\")","v":""},null,null,null,null,null,null,null,{"$f":"IF(OFFSET(DE104_5B!$T$34,ROWS($U$34:U110)-1,COLUMNS($U$34:U110)-1)<>\"\",OFFSET(DE104_5B!$T$34,ROWS($U$34:U110)-1,COLUMNS($U$34:U110)-1),\"\")","v":""},null,null,null,null,null,null,null,{"$f":"IF(OFFSET(DE104_5B!$U$34,ROWS($V$34:V110)-1,COLUMNS($V$34:V110)-1)<>\"\",OFFSET(DE104_5B!$U$34,ROWS($V$34:V110)-1,COLUMNS($V$34:V110)-1),\"\")","v":""},null,null,null,null,null,null,{"$f":"IF(OFFSET(DE104_5B!$V$34,ROWS($W$34:W110)-1,COLUMNS($W$34:W110)-1)<>\"\",OFFSET(DE104_5B!$V$34,ROWS($W$34:W110)-1,COLUMNS($W$34:W110)-1),\"\")","v":""}]
[null,null,{"$f":"IF(OFFSET(DE104_5B!$A$33,ROWS($A$33:A111)-1,COLUMNS($A$33:A111)-1)<>\"\",OFFSET(DE104_5B!$A$33,ROWS($A$33:A111)-1,COLUMNS($A$33:A111)-1),\"\")","v":""},null,null,null,{"$f":"IF(OFFSET(DE104_5B!$B$33,ROWS($B$33:B111)-1,COLUMNS($B$33:B111)-1)<>\"\",OFFSET(DE104_5B!$B$33,ROWS($B$33:B111)-1,COLUMNS($B$33:B111)-1),\"\")","v":""},null,null,null,null,null,null,null,null,null,null,null,null,null,null,null,null,null,null,{"$f":"IF(OFFSET(DE104_5B!$C$33,ROWS($C$33:C111)-1,COLUMNS($C$33:C111)-1)<>\"\",OFFSET(DE104_5B!$C$33,ROWS($C$33:C111)-1,COLUMNS($C$33:C111)-1),\"\")","v":""},null,null,null,null,null,null,null,null,null,null,null,null,null,null,null,null,null,null,null,null,null,null,null,{"$f":"IF(OFFSET(DE104_5B!$D$33,ROWS($D$33:D111)-1,COLUMNS($D$33:D111)-1)<>\"\",OFFSET(DE104_5B!$D$33,ROWS($D$33:D111)-1,COLUMNS($D$33:D111)-1),\"\")","v":""},null,null,null,null,{"$f":"IF(OFFSET(DE104_5B!$E$33,ROWS($E$33:E111)-1,COLUMNS($E$33:E111)-1)<>\"\",OFFSET(DE104_5B!$E$33,ROWS($E$33:E111)-1,COLUMNS($E$33:E111)-1),\"\")","v":""},null,null,null,null,null,{"$f":"IF(OFFSET(DE104_5B!$F$33,ROWS($F$33:F111)-1,COLUMNS($F$33:F111)-1)<>\"\",OFFSET(DE104_5B!$F$33,ROWS($F$33:F111)-1,COLUMNS($F$33:F111)-1),\"\")","v":""},null,null,null,null,null,null,null,{"$f":"IF(OFFSET(DE104_5B!$G$33,ROWS($G$33:G111)-1,COLUMNS($G$33:G111)-1)<>\"\",OFFSET(DE104_5B!$G$33,ROWS($G$33:G111)-1,COLUMNS($G$33:G111)-1),\"\")","v":""}]
[null,null,null,null,null,null,null,null,null,null,null,null,null,null,null,null,null,null,null,null,null,null,null,null,null,null,null,null,null,null,null,null,null,null,null,null,null,null,null,null,null,null,null,null,null,null,null,null,null,null,null,null,null,null,null,null,null,null,null,null,null,null,null,null,null,null,null,null,null,null,null,null,null,null,null,null,null,null,null,null,null,{"$f":"IF(OFFSET(DE104_5B!$H$34,ROWS($H$34:H112)-1,COLUMNS($H$34:H112)-1)<>\"\",OFFSET(DE104_5B!$H$34,ROWS($H$34:H112)-1,COLUMNS($H$34:H112)-1),\"\")","v":""},null,null,null,null,null,{"$f":"IF(OFFSET(DE104_5B!$I$34,ROWS($I$34:I112)-1,COLUMNS($I$34:I112)-1)<>\"\",OFFSET(DE104_5B!$I$34,ROWS($I$34:I112)-1,COLUMNS($I$34:I112)-1),\"\")","v":""},null,null,null,{"$f":"IF(OFFSET(DE104_5B!$J$34,ROWS($J$34:J112)-1,COLUMNS($J$34:J112)-1)<>\"\",OFFSET(DE104_5B!$J$34,ROWS($J$34:J112)-1,COLUMNS($J$34:J112)-1),\"\")","v":""},null,null,null,{"$f":"IF(OFFSET(DE104_5B!$K$34,ROWS($K$34:K112)-1,COLUMNS($K$34:K112)-1)<>\"\",OFFSET(DE104_5B!$K$34,ROWS($K$34:K112)-1,COLUMNS($K$34:K112)-1),\"\")","v":""},null,null,null,null,{"$f":"IF(OFFSET(DE104_5B!$L$34,ROWS($L$34:L112)-1,COLUMNS($L$34:L112)-1)<>\"\",OFFSET(DE104_5B!$L$34,ROWS($L$34:L112)-1,COLUMNS($L$34:L112)-1),\"\")","v":""},null,null,null,null,null,null,{"$f":"IF(OFFSET(DE104_5B!$M$34,ROWS($M$34:M112)-1,COLUMNS($M$34:M112)-1)<>\"\",OFFSET(DE104_5B!$M$34,ROWS($M$34:M112)-1,COLUMNS($M$34:M112)-1),\"\")","v":""},null,null,null,null,null,{"$f":"IF(OFFSET(DE104_5B!$O$34,ROWS($O$34:O112)-1,COLUMNS($O$34:O112)-1)<>\"\",OFFSET(DE104_5B!$O$34,ROWS($O$34:O112)-1,COLUMNS($O$34:O112)-1),\"\")","v":""},null,null,null,null,null,{"$f":"IF(OFFSET(DE104_5B!$P$34,ROWS($P$34:P112)-1,COLUMNS($P$34:P112)-1)<>\"\",OFFSET(DE104_5B!$P$34,ROWS($P$34:P112)-1,COLUMNS($P$34:P112)-1),\"\")","v":""},null,null,null,null,{"$f":"IF(OFFSET(DE104_5B!$Q$34,ROWS($Q$34:Q112)-1,COLUMNS($Q$34:Q112)-1)<>\"\",OFFSET(DE104_5B!$Q$34,ROWS($Q$34:Q112)-1,COLUMNS($Q$34:Q112)-1),\"\")","v":""},null,null,null,null,null,null,null,null,null,{"$f":"IF(OFFSET(DE104_5B!$R$34,ROWS($S$34:S112)-1,COLUMNS($S$34:S112)-1)<>\"\",OFFSET(DE104_5B!$R$34,ROWS($S$34:S112)-1,COLUMNS($S$34:S112)-1),\"\")","v":""},null,null,null,null,null,null,null,{"$f":"IF(OFFSET(DE104_5B!$S$34,ROWS($T$34:T112)-1,COLUMNS($T$34:T112)-1)<>\"\",OFFSET(DE104_5B!$S$34,ROWS($T$34:T112)-1,COLUMNS($T$34:T112)-1),\"\")","v":""},null,null,null,null,null,null,null,{"$f":"IF(OFFSET(DE104_5B!$T$34,ROWS($U$34:U112)-1,COLUMNS($U$34:U112)-1)<>\"\",OFFSET(DE104_5B!$T$34,ROWS($U$34:U112)-1,COLUMNS($U$34:U112)-1),\"\")","v":""},null,null,null,null,null,null,null,{"$f":"IF(OFFSET(DE104_5B!$U$34,ROWS($V$34:V112)-1,COLUMNS($V$34:V112)-1)<>\"\",OFFSET(DE104_5B!$U$34,ROWS($V$34:V112)-1,COLUMNS($V$34:V112)-1),\"\")","v":""},null,null,null,null,null,null,{"$f":"IF(OFFSET(DE104_5B!$V$34,ROWS($W$34:W112)-1,COLUMNS($W$34:W112)-1)<>\"\",OFFSET(DE104_5B!$V$34,ROWS($W$34:W112)-1,COLUMNS($W$34:W112)-1),\"\")","v":""}]
[null,null,{"$f":"IF(OFFSET(DE104_5B!$A$33,ROWS($A$33:A113)-1,COLUMNS($A$33:A113)-1)<>\"\",OFFSET(DE104_5B!$A$33,ROWS($A$33:A113)-1,COLUMNS($A$33:A113)-1),\"\")","v":""},null,null,null,{"$f":"IF(OFFSET(DE104_5B!$B$33,ROWS($B$33:B113)-1,COLUMNS($B$33:B113)-1)<>\"\",OFFSET(DE104_5B!$B$33,ROWS($B$33:B113)-1,COLUMNS($B$33:B113)-1),\"\")","v":""},null,null,null,null,null,null,null,null,null,null,null,null,null,null,null,null,null,null,{"$f":"IF(OFFSET(DE104_5B!$C$33,ROWS($C$33:C113)-1,COLUMNS($C$33:C113)-1)<>\"\",OFFSET(DE104_5B!$C$33,ROWS($C$33:C113)-1,COLUMNS($C$33:C113)-1),\"\")","v":""},null,null,null,null,null,null,null,null,null,null,null,null,null,null,null,null,null,null,null,null,null,null,null,{"$f":"IF(OFFSET(DE104_5B!$D$33,ROWS($D$33:D113)-1,COLUMNS($D$33:D113)-1)<>\"\",OFFSET(DE104_5B!$D$33,ROWS($D$33:D113)-1,COLUMNS($D$33:D113)-1),\"\")","v":""},null,null,null,null,{"$f":"IF(OFFSET(DE104_5B!$E$33,ROWS($E$33:E113)-1,COLUMNS($E$33:E113)-1)<>\"\",OFFSET(DE104_5B!$E$33,ROWS($E$33:E113)-1,COLUMNS($E$33:E113)-1),\"\")","v":""},null,null,null,null,null,{"$f":"IF(OFFSET(DE104_5B!$F$33,ROWS($F$33:F113)-1,COLUMNS($F$33:F113)-1)<>\"\",OFFSET(DE104_5B!$F$33,ROWS($F$33:F113)-1,COLUMNS($F$33:F113)-1),\"\")","v":""},null,null,null,null,null,null,null,{"$f":"IF(OFFSET(DE104_5B!$G$33,ROWS($G$33:G113)-1,COLUMNS($G$33:G113)-1)<>\"\",OFFSET(DE104_5B!$G$33,ROWS($G$33:G113)-1,COLUMNS($G$33:G113)-1),\"\")","v":""}]
[null,null,null,null,null,null,null,null,null,null,null,null,null,null,null,null,null,null,null,null,null,null,null,null,null,null,null,null,null,null,null,null,null,null,null,null,null,null,null,null,null,null,null,null,null,null,null,null,null,null,null,null,null,null,null,null,null,null,null,null,null,null,null,null,null,null,null,null,null,null,null,null,null,null,null,null,null,null,null,null,null,{"$f":"IF(OFFSET(DE104_5B!$H$34,ROWS($H$34:H114)-1,COLUMNS($H$34:H114)-1)<>\"\",OFFSET(DE104_5B!$H$34,ROWS($H$34:H114)-1,COLUMNS($H$34:H114)-1),\"\")","v":""},null,null,null,null,null,{"$f":"IF(OFFSET(DE104_5B!$I$34,ROWS($I$34:I114)-1,COLUMNS($I$34:I114)-1)<>\"\",OFFSET(DE104_5B!$I$34,ROWS($I$34:I114)-1,COLUMNS($I$34:I114)-1),\"\")","v":""},null,null,null,{"$f":"IF(OFFSET(DE104_5B!$J$34,ROWS($J$34:J114)-1,COLUMNS($J$34:J114)-1)<>\"\",OFFSET(DE104_5B!$J$34,ROWS($J$34:J114)-1,COLUMNS($J$34:J114)-1),\"\")","v":""},null,null,null,{"$f":"IF(OFFSET(DE104_5B!$K$34,ROWS($K$34:K114)-1,COLUMNS($K$34:K114)-1)<>\"\",OFFSET(DE104_5B!$K$34,ROWS($K$34:K114)-1,COLUMNS($K$34:K114)-1),\"\")","v":""},null,null,null,null,{"$f":"IF(OFFSET(DE104_5B!$L$34,ROWS($L$34:L114)-1,COLUMNS($L$34:L114)-1)<>\"\",OFFSET(DE104_5B!$L$34,ROWS($L$34:L114)-1,COLUMNS($L$34:L114)-1),\"\")","v":""},null,null,null,null,null,null,{"$f":"IF(OFFSET(DE104_5B!$M$34,ROWS($M$34:M114)-1,COLUMNS($M$34:M114)-1)<>\"\",OFFSET(DE104_5B!$M$34,ROWS($M$34:M114)-1,COLUMNS($M$34:M114)-1),\"\")","v":""},null,null,null,null,null,{"$f":"IF(OFFSET(DE104_5B!$O$34,ROWS($O$34:O114)-1,COLUMNS($O$34:O114)-1)<>\"\",OFFSET(DE104_5B!$O$34,ROWS($O$34:O114)-1,COLUMNS($O$34:O114)-1),\"\")","v":""},null,null,null,null,null,{"$f":"IF(OFFSET(DE104_5B!$P$34,ROWS($P$34:P114)-1,COLUMNS($P$34:P114)-1)<>\"\",OFFSET(DE104_5B!$P$34,ROWS($P$34:P114)-1,COLUMNS($P$34:P114)-1),\"\")","v":""},null,null,null,null,{"$f":"IF(OFFSET(DE104_5B!$Q$34,ROWS($Q$34:Q114)-1,COLUMNS($Q$34:Q114)-1)<>\"\",OFFSET(DE104_5B!$Q$34,ROWS($Q$34:Q114)-1,COLUMNS($Q$34:Q114)-1),\"\")","v":""},null,null,null,null,null,null,null,null,null,{"$f":"IF(OFFSET(DE104_5B!$R$34,ROWS($S$34:S114)-1,COLUMNS($S$34:S114)-1)<>\"\",OFFSET(DE104_5B!$R$34,ROWS($S$34:S114)-1,COLUMNS($S$34:S114)-1),\"\")","v":""},null,null,null,null,null,null,null,{"$f":"IF(OFFSET(DE104_5B!$S$34,ROWS($T$34:T114)-1,COLUMNS($T$34:T114)-1)<>\"\",OFFSET(DE104_5B!$S$34,ROWS($T$34:T114)-1,COLUMNS($T$34:T114)-1),\"\")","v":""},null,null,null,null,null,null,null,{"$f":"IF(OFFSET(DE104_5B!$T$34,ROWS($U$34:U114)-1,COLUMNS($U$34:U114)-1)<>\"\",OFFSET(DE104_5B!$T$34,ROWS($U$34:U114)-1,COLUMNS($U$34:U114)-1),\"\")","v":""},null,null,null,null,null,null,null,{"$f":"IF(OFFSET(DE104_5B!$U$34,ROWS($V$34:V114)-1,COLUMNS($V$34:V114)-1)<>\"\",OFFSET(DE104_5B!$U$34,ROWS($V$34:V114)-1,COLUMNS($V$34:V114)-1),\"\")","v":""},null,null,null,null,null,null,{"$f":"IF(OFFSET(DE104_5B!$V$34,ROWS($W$34:W114)-1,COLUMNS($W$34:W114)-1)<>\"\",OFFSET(DE104_5B!$V$34,ROWS($W$34:W114)-1,COLUMNS($W$34:W114)-1),\"\")","v":""}]
[null,null,{"$f":"IF(OFFSET(DE104_5B!$A$33,ROWS($A$33:A115)-1,COLUMNS($A$33:A115)-1)<>\"\",OFFSET(DE104_5B!$A$33,ROWS($A$33:A115)-1,COLUMNS($A$33:A115)-1),\"\")","v":""},null,null,null,{"$f":"IF(OFFSET(DE104_5B!$B$33,ROWS($B$33:B115)-1,COLUMNS($B$33:B115)-1)<>\"\",OFFSET(DE104_5B!$B$33,ROWS($B$33:B115)-1,COLUMNS($B$33:B115)-1),\"\")","v":""},null,null,null,null,null,null,null,null,null,null,null,null,null,null,null,null,null,null,{"$f":"IF(OFFSET(DE104_5B!$C$33,ROWS($C$33:C115)-1,COLUMNS($C$33:C115)-1)<>\"\",OFFSET(DE104_5B!$C$33,ROWS($C$33:C115)-1,COLUMNS($C$33:C115)-1),\"\")","v":""},null,null,null,null,null,null,null,null,null,null,null,null,null,null,null,null,null,null,null,null,null,null,null,{"$f":"IF(OFFSET(DE104_5B!$D$33,ROWS($D$33:D115)-1,COLUMNS($D$33:D115)-1)<>\"\",OFFSET(DE104_5B!$D$33,ROWS($D$33:D115)-1,COLUMNS($D$33:D115)-1),\"\")","v":""},null,null,null,null,{"$f":"IF(OFFSET(DE104_5B!$E$33,ROWS($E$33:E115)-1,COLUMNS($E$33:E115)-1)<>\"\",OFFSET(DE104_5B!$E$33,ROWS($E$33:E115)-1,COLUMNS($E$33:E115)-1),\"\")","v":""},null,null,null,null,null,{"$f":"IF(OFFSET(DE104_5B!$F$33,ROWS($F$33:F115)-1,COLUMNS($F$33:F115)-1)<>\"\",OFFSET(DE104_5B!$F$33,ROWS($F$33:F115)-1,COLUMNS($F$33:F115)-1),\"\")","v":""},null,null,null,null,null,null,null,{"$f":"IF(OFFSET(DE104_5B!$G$33,ROWS($G$33:G115)-1,COLUMNS($G$33:G115)-1)<>\"\",OFFSET(DE104_5B!$G$33,ROWS($G$33:G115)-1,COLUMNS($G$33:G115)-1),\"\")","v":""}]
[null,null,null,null,null,null,null,null,null,null,null,null,null,null,null,null,null,null,null,null,null,null,null,null,null,null,null,null,null,null,null,null,null,null,null,null,null,null,null,null,null,null,null,null,null,null,null,null,null,null,null,null,null,null,null,null,null,null,null,null,null,null,null,null,null,null,null,null,null,null,null,null,null,null,null,null,null,null,null,null,null,{"$f":"IF(OFFSET(DE104_5B!$H$34,ROWS($H$34:H116)-1,COLUMNS($H$34:H116)-1)<>\"\",OFFSET(DE104_5B!$H$34,ROWS($H$34:H116)-1,COLUMNS($H$34:H116)-1),\"\")","v":""},null,null,null,null,null,{"$f":"IF(OFFSET(DE104_5B!$I$34,ROWS($I$34:I116)-1,COLUMNS($I$34:I116)-1)<>\"\",OFFSET(DE104_5B!$I$34,ROWS($I$34:I116)-1,COLUMNS($I$34:I116)-1),\"\")","v":""},null,null,null,{"$f":"IF(OFFSET(DE104_5B!$J$34,ROWS($J$34:J116)-1,COLUMNS($J$34:J116)-1)<>\"\",OFFSET(DE104_5B!$J$34,ROWS($J$34:J116)-1,COLUMNS($J$34:J116)-1),\"\")","v":""},null,null,null,{"$f":"IF(OFFSET(DE104_5B!$K$34,ROWS($K$34:K116)-1,COLUMNS($K$34:K116)-1)<>\"\",OFFSET(DE104_5B!$K$34,ROWS($K$34:K116)-1,COLUMNS($K$34:K116)-1),\"\")","v":""},null,null,null,null,{"$f":"IF(OFFSET(DE104_5B!$L$34,ROWS($L$34:L116)-1,COLUMNS($L$34:L116)-1)<>\"\",OFFSET(DE104_5B!$L$34,ROWS($L$34:L116)-1,COLUMNS($L$34:L116)-1),\"\")","v":""},null,null,null,null,null,null,{"$f":"IF(OFFSET(DE104_5B!$M$34,ROWS($M$34:M116)-1,COLUMNS($M$34:M116)-1)<>\"\",OFFSET(DE104_5B!$M$34,ROWS($M$34:M116)-1,COLUMNS($M$34:M116)-1),\"\")","v":""},null,null,null,null,null,{"$f":"IF(OFFSET(DE104_5B!$O$34,ROWS($O$34:O116)-1,COLUMNS($O$34:O116)-1)<>\"\",OFFSET(DE104_5B!$O$34,ROWS($O$34:O116)-1,COLUMNS($O$34:O116)-1),\"\")","v":""},null,null,null,null,null,{"$f":"IF(OFFSET(DE104_5B!$P$34,ROWS($P$34:P116)-1,COLUMNS($P$34:P116)-1)<>\"\",OFFSET(DE104_5B!$P$34,ROWS($P$34:P116)-1,COLUMNS($P$34:P116)-1),\"\")","v":""},null,null,null,null,{"$f":"IF(OFFSET(DE104_5B!$Q$34,ROWS($Q$34:Q116)-1,COLUMNS($Q$34:Q116)-1)<>\"\",OFFSET(DE104_5B!$Q$34,ROWS($Q$34:Q116)-1,COLUMNS($Q$34:Q116)-1),\"\")","v":""},null,null,null,null,null,null,null,null,null,{"$f":"IF(OFFSET(DE104_5B!$R$34,ROWS($S$34:S116)-1,COLUMNS($S$34:S116)-1)<>\"\",OFFSET(DE104_5B!$R$34,ROWS($S$34:S116)-1,COLUMNS($S$34:S116)-1),\"\")","v":""},null,null,null,null,null,null,null,{"$f":"IF(OFFSET(DE104_5B!$S$34,ROWS($T$34:T116)-1,COLUMNS($T$34:T116)-1)<>\"\",OFFSET(DE104_5B!$S$34,ROWS($T$34:T116)-1,COLUMNS($T$34:T116)-1),\"\")","v":""},null,null,null,null,null,null,null,{"$f":"IF(OFFSET(DE104_5B!$T$34,ROWS($U$34:U116)-1,COLUMNS($U$34:U116)-1)<>\"\",OFFSET(DE104_5B!$T$34,ROWS($U$34:U116)-1,COLUMNS($U$34:U116)-1),\"\")","v":""},null,null,null,null,null,null,null,{"$f":"IF(OFFSET(DE104_5B!$U$34,ROWS($V$34:V116)-1,COLUMNS($V$34:V116)-1)<>\"\",OFFSET(DE104_5B!$U$34,ROWS($V$34:V116)-1,COLUMNS($V$34:V116)-1),\"\")","v":""},null,null,null,null,null,null,{"$f":"IF(OFFSET(DE104_5B!$V$34,ROWS($W$34:W116)-1,COLUMNS($W$34:W116)-1)<>\"\",OFFSET(DE104_5B!$V$34,ROWS($W$34:W116)-1,COLUMNS($W$34:W116)-1),\"\")","v":""}]
[null,null,{"$f":"IF(OFFSET(DE104_5B!$A$33,ROWS($A$33:A117)-1,COLUMNS($A$33:A117)-1)<>\"\",OFFSET(DE104_5B!$A$33,ROWS($A$33:A117)-1,COLUMNS($A$33:A117)-1),\"\")","v":""},null,null,null,{"$f":"IF(OFFSET(DE104_5B!$B$33,ROWS($B$33:B117)-1,COLUMNS($B$33:B117)-1)<>\"\",OFFSET(DE104_5B!$B$33,ROWS($B$33:B117)-1,COLUMNS($B$33:B117)-1),\"\")","v":""},null,null,null,null,null,null,null,null,null,null,null,null,null,null,null,null,null,null,{"$f":"IF(OFFSET(DE104_5B!$C$33,ROWS($C$33:C117)-1,COLUMNS($C$33:C117)-1)<>\"\",OFFSET(DE104_5B!$C$33,ROWS($C$33:C117)-1,COLUMNS($C$33:C117)-1),\"\")","v":""},null,null,null,null,null,null,null,null,null,null,null,null,null,null,null,null,null,null,null,null,null,null,null,{"$f":"IF(OFFSET(DE104_5B!$D$33,ROWS($D$33:D117)-1,COLUMNS($D$33:D117)-1)<>\"\",OFFSET(DE104_5B!$D$33,ROWS($D$33:D117)-1,COLUMNS($D$33:D117)-1),\"\")","v":""},null,null,null,null,{"$f":"IF(OFFSET(DE104_5B!$E$33,ROWS($E$33:E117)-1,COLUMNS($E$33:E117)-1)<>\"\",OFFSET(DE104_5B!$E$33,ROWS($E$33:E117)-1,COLUMNS($E$33:E117)-1),\"\")","v":""},null,null,null,null,null,{"$f":"IF(OFFSET(DE104_5B!$F$33,ROWS($F$33:F117)-1,COLUMNS($F$33:F117)-1)<>\"\",OFFSET(DE104_5B!$F$33,ROWS($F$33:F117)-1,COLUMNS($F$33:F117)-1),\"\")","v":""},null,null,null,null,null,null,null,{"$f":"IF(OFFSET(DE104_5B!$G$33,ROWS($G$33:G117)-1,COLUMNS($G$33:G117)-1)<>\"\",OFFSET(DE104_5B!$G$33,ROWS($G$33:G117)-1,COLUMNS($G$33:G117)-1),\"\")","v":""}]
[null,null,null,null,null,null,null,null,null,null,null,null,null,null,null,null,null,null,null,null,null,null,null,null,null,null,null,null,null,null,null,null,null,null,null,null,null,null,null,null,null,null,null,null,null,null,null,null,null,null,null,null,null,null,null,null,null,null,null,null,null,null,null,null,null,null,null,null,null,null,null,null,null,null,null,null,null,null,null,null,null,{"$f":"IF(OFFSET(DE104_5B!$H$34,ROWS($H$34:H118)-1,COLUMNS($H$34:H118)-1)<>\"\",OFFSET(DE104_5B!$H$34,ROWS($H$34:H118)-1,COLUMNS($H$34:H118)-1),\"\")","v":""},null,null,null,null,null,{"$f":"IF(OFFSET(DE104_5B!$I$34,ROWS($I$34:I118)-1,COLUMNS($I$34:I118)-1)<>\"\",OFFSET(DE104_5B!$I$34,ROWS($I$34:I118)-1,COLUMNS($I$34:I118)-1),\"\")","v":""},null,null,null,{"$f":"IF(OFFSET(DE104_5B!$J$34,ROWS($J$34:J118)-1,COLUMNS($J$34:J118)-1)<>\"\",OFFSET(DE104_5B!$J$34,ROWS($J$34:J118)-1,COLUMNS($J$34:J118)-1),\"\")","v":""},null,null,null,{"$f":"IF(OFFSET(DE104_5B!$K$34,ROWS($K$34:K118)-1,COLUMNS($K$34:K118)-1)<>\"\",OFFSET(DE104_5B!$K$34,ROWS($K$34:K118)-1,COLUMNS($K$34:K118)-1),\"\")","v":""},null,null,null,null,{"$f":"IF(OFFSET(DE104_5B!$L$34,ROWS($L$34:L118)-1,COLUMNS($L$34:L118)-1)<>\"\",OFFSET(DE104_5B!$L$34,ROWS($L$34:L118)-1,COLUMNS($L$34:L118)-1),\"\")","v":""},null,null,null,null,null,null,{"$f":"IF(OFFSET(DE104_5B!$M$34,ROWS($M$34:M118)-1,COLUMNS($M$34:M118)-1)<>\"\",OFFSET(DE104_5B!$M$34,ROWS($M$34:M118)-1,COLUMNS($M$34:M118)-1),\"\")","v":""},null,null,null,null,null,{"$f":"IF(OFFSET(DE104_5B!$O$34,ROWS($O$34:O118)-1,COLUMNS($O$34:O118)-1)<>\"\",OFFSET(DE104_5B!$O$34,ROWS($O$34:O118)-1,COLUMNS($O$34:O118)-1),\"\")","v":""},null,null,null,null,null,{"$f":"IF(OFFSET(DE104_5B!$P$34,ROWS($P$34:P118)-1,COLUMNS($P$34:P118)-1)<>\"\",OFFSET(DE104_5B!$P$34,ROWS($P$34:P118)-1,COLUMNS($P$34:P118)-1),\"\")","v":""},null,null,null,null,{"$f":"IF(OFFSET(DE104_5B!$Q$34,ROWS($Q$34:Q118)-1,COLUMNS($Q$34:Q118)-1)<>\"\",OFFSET(DE104_5B!$Q$34,ROWS($Q$34:Q118)-1,COLUMNS($Q$34:Q118)-1),\"\")","v":""},null,null,null,null,null,null,null,null,null,{"$f":"IF(OFFSET(DE104_5B!$R$34,ROWS($S$34:S118)-1,COLUMNS($S$34:S118)-1)<>\"\",OFFSET(DE104_5B!$R$34,ROWS($S$34:S118)-1,COLUMNS($S$34:S118)-1),\"\")","v":""},null,null,null,null,null,null,null,{"$f":"IF(OFFSET(DE104_5B!$S$34,ROWS($T$34:T118)-1,COLUMNS($T$34:T118)-1)<>\"\",OFFSET(DE104_5B!$S$34,ROWS($T$34:T118)-1,COLUMNS($T$34:T118)-1),\"\")","v":""},null,null,null,null,null,null,null,{"$f":"IF(OFFSET(DE104_5B!$T$34,ROWS($U$34:U118)-1,COLUMNS($U$34:U118)-1)<>\"\",OFFSET(DE104_5B!$T$34,ROWS($U$34:U118)-1,COLUMNS($U$34:U118)-1),\"\")","v":""},null,null,null,null,null,null,null,{"$f":"IF(OFFSET(DE104_5B!$U$34,ROWS($V$34:V118)-1,COLUMNS($V$34:V118)-1)<>\"\",OFFSET(DE104_5B!$U$34,ROWS($V$34:V118)-1,COLUMNS($V$34:V118)-1),\"\")","v":""},null,null,null,null,null,null,{"$f":"IF(OFFSET(DE104_5B!$V$34,ROWS($W$34:W118)-1,COLUMNS($W$34:W118)-1)<>\"\",OFFSET(DE104_5B!$V$34,ROWS($W$34:W118)-1,COLUMNS($W$34:W118)-1),\"\")","v":""}]
[null,null,{"$f":"IF(OFFSET(DE104_5B!$A$33,ROWS($A$33:A119)-1,COLUMNS($A$33:A119)-1)<>\"\",OFFSET(DE104_5B!$A$33,ROWS($A$33:A119)-1,COLUMNS($A$33:A119)-1),\"\")","v":""},null,null,null,{"$f":"IF(OFFSET(DE104_5B!$B$33,ROWS($B$33:B119)-1,COLUMNS($B$33:B119)-1)<>\"\",OFFSET(DE104_5B!$B$33,ROWS($B$33:B119)-1,COLUMNS($B$33:B119)-1),\"\")","v":""},null,null,null,null,null,null,null,null,null,null,null,null,null,null,null,null,null,null,{"$f":"IF(OFFSET(DE104_5B!$C$33,ROWS($C$33:C119)-1,COLUMNS($C$33:C119)-1)<>\"\",OFFSET(DE104_5B!$C$33,ROWS($C$33:C119)-1,COLUMNS($C$33:C119)-1),\"\")","v":""},null,null,null,null,null,null,null,null,null,null,null,null,null,null,null,null,null,null,null,null,null,null,null,{"$f":"IF(OFFSET(DE104_5B!$D$33,ROWS($D$33:D119)-1,COLUMNS($D$33:D119)-1)<>\"\",OFFSET(DE104_5B!$D$33,ROWS($D$33:D119)-1,COLUMNS($D$33:D119)-1),\"\")","v":""},null,null,null,null,{"$f":"IF(OFFSET(DE104_5B!$E$33,ROWS($E$33:E119)-1,COLUMNS($E$33:E119)-1)<>\"\",OFFSET(DE104_5B!$E$33,ROWS($E$33:E119)-1,COLUMNS($E$33:E119)-1),\"\")","v":""},null,null,null,null,null,{"$f":"IF(OFFSET(DE104_5B!$F$33,ROWS($F$33:F119)-1,COLUMNS($F$33:F119)-1)<>\"\",OFFSET(DE104_5B!$F$33,ROWS($F$33:F119)-1,COLUMNS($F$33:F119)-1),\"\")","v":""},null,null,null,null,null,null,null,{"$f":"IF(OFFSET(DE104_5B!$G$33,ROWS($G$33:G119)-1,COLUMNS($G$33:G119)-1)<>\"\",OFFSET(DE104_5B!$G$33,ROWS($G$33:G119)-1,COLUMNS($G$33:G119)-1),\"\")","v":""}]
[null,null,null,null,null,null,null,null,null,null,null,null,null,null,null,null,null,null,null,null,null,null,null,null,null,null,null,null,null,null,null,null,null,null,null,null,null,null,null,null,null,null,null,null,null,null,null,null,null,null,null,null,null,null,null,null,null,null,null,null,null,null,null,null,null,null,null,null,null,null,null,null,null,null,null,null,null,null,null,null,null,{"$f":"IF(OFFSET(DE104_5B!$H$34,ROWS($H$34:H120)-1,COLUMNS($H$34:H120)-1)<>\"\",OFFSET(DE104_5B!$H$34,ROWS($H$34:H120)-1,COLUMNS($H$34:H120)-1),\"\")","v":""},null,null,null,null,null,{"$f":"IF(OFFSET(DE104_5B!$I$34,ROWS($I$34:I120)-1,COLUMNS($I$34:I120)-1)<>\"\",OFFSET(DE104_5B!$I$34,ROWS($I$34:I120)-1,COLUMNS($I$34:I120)-1),\"\")","v":""},null,null,null,{"$f":"IF(OFFSET(DE104_5B!$J$34,ROWS($J$34:J120)-1,COLUMNS($J$34:J120)-1)<>\"\",OFFSET(DE104_5B!$J$34,ROWS($J$34:J120)-1,COLUMNS($J$34:J120)-1),\"\")","v":""},null,null,null,{"$f":"IF(OFFSET(DE104_5B!$K$34,ROWS($K$34:K120)-1,COLUMNS($K$34:K120)-1)<>\"\",OFFSET(DE104_5B!$K$34,ROWS($K$34:K120)-1,COLUMNS($K$34:K120)-1),\"\")","v":""},null,null,null,null,{"$f":"IF(OFFSET(DE104_5B!$L$34,ROWS($L$34:L120)-1,COLUMNS($L$34:L120)-1)<>\"\",OFFSET(DE104_5B!$L$34,ROWS($L$34:L120)-1,COLUMNS($L$34:L120)-1),\"\")","v":""},null,null,null,null,null,null,{"$f":"IF(OFFSET(DE104_5B!$M$34,ROWS($M$34:M120)-1,COLUMNS($M$34:M120)-1)<>\"\",OFFSET(DE104_5B!$M$34,ROWS($M$34:M120)-1,COLUMNS($M$34:M120)-1),\"\")","v":""},null,null,null,null,null,{"$f":"IF(OFFSET(DE104_5B!$O$34,ROWS($O$34:O120)-1,COLUMNS($O$34:O120)-1)<>\"\",OFFSET(DE104_5B!$O$34,ROWS($O$34:O120)-1,COLUMNS($O$34:O120)-1),\"\")","v":""},null,null,null,null,null,{"$f":"IF(OFFSET(DE104_5B!$P$34,ROWS($P$34:P120)-1,COLUMNS($P$34:P120)-1)<>\"\",OFFSET(DE104_5B!$P$34,ROWS($P$34:P120)-1,COLUMNS($P$34:P120)-1),\"\")","v":""},null,null,null,null,{"$f":"IF(OFFSET(DE104_5B!$Q$34,ROWS($Q$34:Q120)-1,COLUMNS($Q$34:Q120)-1)<>\"\",OFFSET(DE104_5B!$Q$34,ROWS($Q$34:Q120)-1,COLUMNS($Q$34:Q120)-1),\"\")","v":""},null,null,null,null,null,null,null,null,null,{"$f":"IF(OFFSET(DE104_5B!$R$34,ROWS($S$34:S120)-1,COLUMNS($S$34:S120)-1)<>\"\",OFFSET(DE104_5B!$R$34,ROWS($S$34:S120)-1,COLUMNS($S$34:S120)-1),\"\")","v":""},null,null,null,null,null,null,null,{"$f":"IF(OFFSET(DE104_5B!$S$34,ROWS($T$34:T120)-1,COLUMNS($T$34:T120)-1)<>\"\",OFFSET(DE104_5B!$S$34,ROWS($T$34:T120)-1,COLUMNS($T$34:T120)-1),\"\")","v":""},null,null,null,null,null,null,null,{"$f":"IF(OFFSET(DE104_5B!$T$34,ROWS($U$34:U120)-1,COLUMNS($U$34:U120)-1)<>\"\",OFFSET(DE104_5B!$T$34,ROWS($U$34:U120)-1,COLUMNS($U$34:U120)-1),\"\")","v":""},null,null,null,null,null,null,null,{"$f":"IF(OFFSET(DE104_5B!$U$34,ROWS($V$34:V120)-1,COLUMNS($V$34:V120)-1)<>\"\",OFFSET(DE104_5B!$U$34,ROWS($V$34:V120)-1,COLUMNS($V$34:V120)-1),\"\")","v":""},null,null,null,null,null,null,{"$f":"IF(OFFSET(DE104_5B!$V$34,ROWS($W$34:W120)-1,COLUMNS($W$34:W120)-1)<>\"\",OFFSET(DE104_5B!$V$34,ROWS($W$34:W120)-1,COLUMNS($W$34:W120)-1),\"\")","v":""}]
[null,null,{"$f":"IF(OFFSET(DE104_5B!$A$33,ROWS($A$33:A121)-1,COLUMNS($A$33:A121)-1)<>\"\",OFFSET(DE104_5B!$A$33,ROWS($A$33:A121)-1,COLUMNS($A$33:A121)-1),\"\")","v":""},null,null,null,{"$f":"IF(OFFSET(DE104_5B!$B$33,ROWS($B$33:B121)-1,COLUMNS($B$33:B121)-1)<>\"\",OFFSET(DE104_5B!$B$33,ROWS($B$33:B121)-1,COLUMNS($B$33:B121)-1),\"\")","v":""},null,null,null,null,null,null,null,null,null,null,null,null,null,null,null,null,null,null,{"$f":"IF(OFFSET(DE104_5B!$C$33,ROWS($C$33:C121)-1,COLUMNS($C$33:C121)-1)<>\"\",OFFSET(DE104_5B!$C$33,ROWS($C$33:C121)-1,COLUMNS($C$33:C121)-1),\"\")","v":""},null,null,null,null,null,null,null,null,null,null,null,null,null,null,null,null,null,null,null,null,null,null,null,{"$f":"IF(OFFSET(DE104_5B!$D$33,ROWS($D$33:D121)-1,COLUMNS($D$33:D121)-1)<>\"\",OFFSET(DE104_5B!$D$33,ROWS($D$33:D121)-1,COLUMNS($D$33:D121)-1),\"\")","v":""},null,null,null,null,{"$f":"IF(OFFSET(DE104_5B!$E$33,ROWS($E$33:E121)-1,COLUMNS($E$33:E121)-1)<>\"\",OFFSET(DE104_5B!$E$33,ROWS($E$33:E121)-1,COLUMNS($E$33:E121)-1),\"\")","v":""},null,null,null,null,null,{"$f":"IF(OFFSET(DE104_5B!$F$33,ROWS($F$33:F121)-1,COLUMNS($F$33:F121)-1)<>\"\",OFFSET(DE104_5B!$F$33,ROWS($F$33:F121)-1,COLUMNS($F$33:F121)-1),\"\")","v":""},null,null,null,null,null,null,null,{"$f":"IF(OFFSET(DE104_5B!$G$33,ROWS($G$33:G121)-1,COLUMNS($G$33:G121)-1)<>\"\",OFFSET(DE104_5B!$G$33,ROWS($G$33:G121)-1,COLUMNS($G$33:G121)-1),\"\")","v":""}]
[null,null,null,null,null,null,null,null,null,null,null,null,null,null,null,null,null,null,null,null,null,null,null,null,null,null,null,null,null,null,null,null,null,null,null,null,null,null,null,null,null,null,null,null,null,null,null,null,null,null,null,null,null,null,null,null,null,null,null,null,null,null,null,null,null,null,null,null,null,null,null,null,null,null,null,null,null,null,null,null,null,{"$f":"IF(OFFSET(DE104_5B!$H$34,ROWS($H$34:H122)-1,COLUMNS($H$34:H122)-1)<>\"\",OFFSET(DE104_5B!$H$34,ROWS($H$34:H122)-1,COLUMNS($H$34:H122)-1),\"\")","v":""},null,null,null,null,null,{"$f":"IF(OFFSET(DE104_5B!$I$34,ROWS($I$34:I122)-1,COLUMNS($I$34:I122)-1)<>\"\",OFFSET(DE104_5B!$I$34,ROWS($I$34:I122)-1,COLUMNS($I$34:I122)-1),\"\")","v":""},null,null,null,{"$f":"IF(OFFSET(DE104_5B!$J$34,ROWS($J$34:J122)-1,COLUMNS($J$34:J122)-1)<>\"\",OFFSET(DE104_5B!$J$34,ROWS($J$34:J122)-1,COLUMNS($J$34:J122)-1),\"\")","v":""},null,null,null,{"$f":"IF(OFFSET(DE104_5B!$K$34,ROWS($K$34:K122)-1,COLUMNS($K$34:K122)-1)<>\"\",OFFSET(DE104_5B!$K$34,ROWS($K$34:K122)-1,COLUMNS($K$34:K122)-1),\"\")","v":""},null,null,null,null,{"$f":"IF(OFFSET(DE104_5B!$L$34,ROWS($L$34:L122)-1,COLUMNS($L$34:L122)-1)<>\"\",OFFSET(DE104_5B!$L$34,ROWS($L$34:L122)-1,COLUMNS($L$34:L122)-1),\"\")","v":""},null,null,null,null,null,null,{"$f":"IF(OFFSET(DE104_5B!$M$34,ROWS($M$34:M122)-1,COLUMNS($M$34:M122)-1)<>\"\",OFFSET(DE104_5B!$M$34,ROWS($M$34:M122)-1,COLUMNS($M$34:M122)-1),\"\")","v":""},null,null,null,null,null,{"$f":"IF(OFFSET(DE104_5B!$O$34,ROWS($O$34:O122)-1,COLUMNS($O$34:O122)-1)<>\"\",OFFSET(DE104_5B!$O$34,ROWS($O$34:O122)-1,COLUMNS($O$34:O122)-1),\"\")","v":""},null,null,null,null,null,{"$f":"IF(OFFSET(DE104_5B!$P$34,ROWS($P$34:P122)-1,COLUMNS($P$34:P122)-1)<>\"\",OFFSET(DE104_5B!$P$34,ROWS($P$34:P122)-1,COLUMNS($P$34:P122)-1),\"\")","v":""},null,null,null,null,{"$f":"IF(OFFSET(DE104_5B!$Q$34,ROWS($Q$34:Q122)-1,COLUMNS($Q$34:Q122)-1)<>\"\",OFFSET(DE104_5B!$Q$34,ROWS($Q$34:Q122)-1,COLUMNS($Q$34:Q122)-1),\"\")","v":""},null,null,null,null,null,null,null,null,null,{"$f":"IF(OFFSET(DE104_5B!$R$34,ROWS($S$34:S122)-1,COLUMNS($S$34:S122)-1)<>\"\",OFFSET(DE104_5B!$R$34,ROWS($S$34:S122)-1,COLUMNS($S$34:S122)-1),\"\")","v":""},null,null,null,null,null,null,null,{"$f":"IF(OFFSET(DE104_5B!$S$34,ROWS($T$34:T122)-1,COLUMNS($T$34:T122)-1)<>\"\",OFFSET(DE104_5B!$S$34,ROWS($T$34:T122)-1,COLUMNS($T$34:T122)-1),\"\")","v":""},null,null,null,null,null,null,null,{"$f":"IF(OFFSET(DE104_5B!$T$34,ROWS($U$34:U122)-1,COLUMNS($U$34:U122)-1)<>\"\",OFFSET(DE104_5B!$T$34,ROWS($U$34:U122)-1,COLUMNS($U$34:U122)-1),\"\")","v":""},null,null,null,null,null,null,null,{"$f":"IF(OFFSET(DE104_5B!$U$34,ROWS($V$34:V122)-1,COLUMNS($V$34:V122)-1)<>\"\",OFFSET(DE104_5B!$U$34,ROWS($V$34:V122)-1,COLUMNS($V$34:V122)-1),\"\")","v":""},null,null,null,null,null,null,{"$f":"IF(OFFSET(DE104_5B!$V$34,ROWS($W$34:W122)-1,COLUMNS($W$34:W122)-1)<>\"\",OFFSET(DE104_5B!$V$34,ROWS($W$34:W122)-1,COLUMNS($W$34:W122)-1),\"\")","v":""}]
[null,null,{"$f":"IF(OFFSET(DE104_5B!$A$33,ROWS($A$33:A123)-1,COLUMNS($A$33:A123)-1)<>\"\",OFFSET(DE104_5B!$A$33,ROWS($A$33:A123)-1,COLUMNS($A$33:A123)-1),\"\")","v":""},null,null,null,{"$f":"IF(OFFSET(DE104_5B!$B$33,ROWS($B$33:B123)-1,COLUMNS($B$33:B123)-1)<>\"\",OFFSET(DE104_5B!$B$33,ROWS($B$33:B123)-1,COLUMNS($B$33:B123)-1),\"\")","v":""},null,null,null,null,null,null,null,null,null,null,null,null,null,null,null,null,null,null,{"$f":"IF(OFFSET(DE104_5B!$C$33,ROWS($C$33:C123)-1,COLUMNS($C$33:C123)-1)<>\"\",OFFSET(DE104_5B!$C$33,ROWS($C$33:C123)-1,COLUMNS($C$33:C123)-1),\"\")","v":""},null,null,null,null,null,null,null,null,null,null,null,null,null,null,null,null,null,null,null,null,null,null,null,{"$f":"IF(OFFSET(DE104_5B!$D$33,ROWS($D$33:D123)-1,COLUMNS($D$33:D123)-1)<>\"\",OFFSET(DE104_5B!$D$33,ROWS($D$33:D123)-1,COLUMNS($D$33:D123)-1),\"\")","v":""},null,null,null,null,{"$f":"IF(OFFSET(DE104_5B!$E$33,ROWS($E$33:E123)-1,COLUMNS($E$33:E123)-1)<>\"\",OFFSET(DE104_5B!$E$33,ROWS($E$33:E123)-1,COLUMNS($E$33:E123)-1),\"\")","v":""},null,null,null,null,null,{"$f":"IF(OFFSET(DE104_5B!$F$33,ROWS($F$33:F123)-1,COLUMNS($F$33:F123)-1)<>\"\",OFFSET(DE104_5B!$F$33,ROWS($F$33:F123)-1,COLUMNS($F$33:F123)-1),\"\")","v":""},null,null,null,null,null,null,null,{"$f":"IF(OFFSET(DE104_5B!$G$33,ROWS($G$33:G123)-1,COLUMNS($G$33:G123)-1)<>\"\",OFFSET(DE104_5B!$G$33,ROWS($G$33:G123)-1,COLUMNS($G$33:G123)-1),\"\")","v":""}]
[null,null,null,null,null,null,null,null,null,null,null,null,null,null,null,null,null,null,null,null,null,null,null,null,null,null,null,null,null,null,null,null,null,null,null,null,null,null,null,null,null,null,null,null,null,null,null,null,null,null,null,null,null,null,null,null,null,null,null,null,null,null,null,null,null,null,null,null,null,null,null,null,null,null,null,null,null,null,null,null,null,{"$f":"IF(OFFSET(DE104_5B!$H$34,ROWS($H$34:H124)-1,COLUMNS($H$34:H124)-1)<>\"\",OFFSET(DE104_5B!$H$34,ROWS($H$34:H124)-1,COLUMNS($H$34:H124)-1),\"\")","v":""},null,null,null,null,null,{"$f":"IF(OFFSET(DE104_5B!$I$34,ROWS($I$34:I124)-1,COLUMNS($I$34:I124)-1)<>\"\",OFFSET(DE104_5B!$I$34,ROWS($I$34:I124)-1,COLUMNS($I$34:I124)-1),\"\")","v":""},null,null,null,{"$f":"IF(OFFSET(DE104_5B!$J$34,ROWS($J$34:J124)-1,COLUMNS($J$34:J124)-1)<>\"\",OFFSET(DE104_5B!$J$34,ROWS($J$34:J124)-1,COLUMNS($J$34:J124)-1),\"\")","v":""},null,null,null,{"$f":"IF(OFFSET(DE104_5B!$K$34,ROWS($K$34:K124)-1,COLUMNS($K$34:K124)-1)<>\"\",OFFSET(DE104_5B!$K$34,ROWS($K$34:K124)-1,COLUMNS($K$34:K124)-1),\"\")","v":""},null,null,null,null,{"$f":"IF(OFFSET(DE104_5B!$L$34,ROWS($L$34:L124)-1,COLUMNS($L$34:L124)-1)<>\"\",OFFSET(DE104_5B!$L$34,ROWS($L$34:L124)-1,COLUMNS($L$34:L124)-1),\"\")","v":""},null,null,null,null,null,null,{"$f":"IF(OFFSET(DE104_5B!$M$34,ROWS($M$34:M124)-1,COLUMNS($M$34:M124)-1)<>\"\",OFFSET(DE104_5B!$M$34,ROWS($M$34:M124)-1,COLUMNS($M$34:M124)-1),\"\")","v":""},null,null,null,null,null,{"$f":"IF(OFFSET(DE104_5B!$O$34,ROWS($O$34:O124)-1,COLUMNS($O$34:O124)-1)<>\"\",OFFSET(DE104_5B!$O$34,ROWS($O$34:O124)-1,COLUMNS($O$34:O124)-1),\"\")","v":""},null,null,null,null,null,{"$f":"IF(OFFSET(DE104_5B!$P$34,ROWS($P$34:P124)-1,COLUMNS($P$34:P124)-1)<>\"\",OFFSET(DE104_5B!$P$34,ROWS($P$34:P124)-1,COLUMNS($P$34:P124)-1),\"\")","v":""},null,null,null,null,{"$f":"IF(OFFSET(DE104_5B!$Q$34,ROWS($Q$34:Q124)-1,COLUMNS($Q$34:Q124)-1)<>\"\",OFFSET(DE104_5B!$Q$34,ROWS($Q$34:Q124)-1,COLUMNS($Q$34:Q124)-1),\"\")","v":""},null,null,null,null,null,null,null,null,null,{"$f":"IF(OFFSET(DE104_5B!$R$34,ROWS($S$34:S124)-1,COLUMNS($S$34:S124)-1)<>\"\",OFFSET(DE104_5B!$R$34,ROWS($S$34:S124)-1,COLUMNS($S$34:S124)-1),\"\")","v":""},null,null,null,null,null,null,null,{"$f":"IF(OFFSET(DE104_5B!$S$34,ROWS($T$34:T124)-1,COLUMNS($T$34:T124)-1)<>\"\",OFFSET(DE104_5B!$S$34,ROWS($T$34:T124)-1,COLUMNS($T$34:T124)-1),\"\")","v":""},null,null,null,null,null,null,null,{"$f":"IF(OFFSET(DE104_5B!$T$34,ROWS($U$34:U124)-1,COLUMNS($U$34:U124)-1)<>\"\",OFFSET(DE104_5B!$T$34,ROWS($U$34:U124)-1,COLUMNS($U$34:U124)-1),\"\")","v":""},null,null,null,null,null,null,null,{"$f":"IF(OFFSET(DE104_5B!$U$34,ROWS($V$34:V124)-1,COLUMNS($V$34:V124)-1)<>\"\",OFFSET(DE104_5B!$U$34,ROWS($V$34:V124)-1,COLUMNS($V$34:V124)-1),\"\")","v":""},null,null,null,null,null,null,{"$f":"IF(OFFSET(DE104_5B!$V$34,ROWS($W$34:W124)-1,COLUMNS($W$34:W124)-1)<>\"\",OFFSET(DE104_5B!$V$34,ROWS($W$34:W124)-1,COLUMNS($W$34:W124)-1),\"\")","v":""}]
[null,null,{"$f":"IF(OFFSET(DE104_5B!$A$33,ROWS($A$33:A125)-1,COLUMNS($A$33:A125)-1)<>\"\",OFFSET(DE104_5B!$A$33,ROWS($A$33:A125)-1,COLUMNS($A$33:A125)-1),\"\")","v":""},null,null,null,{"$f":"IF(OFFSET(DE104_5B!$B$33,ROWS($B$33:B125)-1,COLUMNS($B$33:B125)-1)<>\"\",OFFSET(DE104_5B!$B$33,ROWS($B$33:B125)-1,COLUMNS($B$33:B125)-1),\"\")","v":""},null,null,null,null,null,null,null,null,null,null,null,null,null,null,null,null,null,null,{"$f":"IF(OFFSET(DE104_5B!$C$33,ROWS($C$33:C125)-1,COLUMNS($C$33:C125)-1)<>\"\",OFFSET(DE104_5B!$C$33,ROWS($C$33:C125)-1,COLUMNS($C$33:C125)-1),\"\")","v":""},null,null,null,null,null,null,null,null,null,null,null,null,null,null,null,null,null,null,null,null,null,null,null,{"$f":"IF(OFFSET(DE104_5B!$D$33,ROWS($D$33:D125)-1,COLUMNS($D$33:D125)-1)<>\"\",OFFSET(DE104_5B!$D$33,ROWS($D$33:D125)-1,COLUMNS($D$33:D125)-1),\"\")","v":""},null,null,null,null,{"$f":"IF(OFFSET(DE104_5B!$E$33,ROWS($E$33:E125)-1,COLUMNS($E$33:E125)-1)<>\"\",OFFSET(DE104_5B!$E$33,ROWS($E$33:E125)-1,COLUMNS($E$33:E125)-1),\"\")","v":""},null,null,null,null,null,{"$f":"IF(OFFSET(DE104_5B!$F$33,ROWS($F$33:F125)-1,COLUMNS($F$33:F125)-1)<>\"\",OFFSET(DE104_5B!$F$33,ROWS($F$33:F125)-1,COLUMNS($F$33:F125)-1),\"\")","v":""},null,null,null,null,null,null,null,{"$f":"IF(OFFSET(DE104_5B!$G$33,ROWS($G$33:G125)-1,COLUMNS($G$33:G125)-1)<>\"\",OFFSET(DE104_5B!$G$33,ROWS($G$33:G125)-1,COLUMNS($G$33:G125)-1),\"\")","v":""}]
[null,null,null,null,null,null,null,null,null,null,null,null,null,null,null,null,null,null,null,null,null,null,null,null,null,null,null,null,null,null,null,null,null,null,null,null,null,null,null,null,null,null,null,null,null,null,null,null,null,null,null,null,null,null,null,null,null,null,null,null,null,null,null,null,null,null,null,null,null,null,null,null,null,null,null,null,null,null,null,null,null,{"$f":"IF(OFFSET(DE104_5B!$H$34,ROWS($H$34:H126)-1,COLUMNS($H$34:H126)-1)<>\"\",OFFSET(DE104_5B!$H$34,ROWS($H$34:H126)-1,COLUMNS($H$34:H126)-1),\"\")","v":""},null,null,null,null,null,{"$f":"IF(OFFSET(DE104_5B!$I$34,ROWS($I$34:I126)-1,COLUMNS($I$34:I126)-1)<>\"\",OFFSET(DE104_5B!$I$34,ROWS($I$34:I126)-1,COLUMNS($I$34:I126)-1),\"\")","v":""},null,null,null,{"$f":"IF(OFFSET(DE104_5B!$J$34,ROWS($J$34:J126)-1,COLUMNS($J$34:J126)-1)<>\"\",OFFSET(DE104_5B!$J$34,ROWS($J$34:J126)-1,COLUMNS($J$34:J126)-1),\"\")","v":""},null,null,null,{"$f":"IF(OFFSET(DE104_5B!$K$34,ROWS($K$34:K126)-1,COLUMNS($K$34:K126)-1)<>\"\",OFFSET(DE104_5B!$K$34,ROWS($K$34:K126)-1,COLUMNS($K$34:K126)-1),\"\")","v":""},null,null,null,null,{"$f":"IF(OFFSET(DE104_5B!$L$34,ROWS($L$34:L126)-1,COLUMNS($L$34:L126)-1)<>\"\",OFFSET(DE104_5B!$L$34,ROWS($L$34:L126)-1,COLUMNS($L$34:L126)-1),\"\")","v":""},null,null,null,null,null,null,{"$f":"IF(OFFSET(DE104_5B!$M$34,ROWS($M$34:M126)-1,COLUMNS($M$34:M126)-1)<>\"\",OFFSET(DE104_5B!$M$34,ROWS($M$34:M126)-1,COLUMNS($M$34:M126)-1),\"\")","v":""},null,null,null,null,null,{"$f":"IF(OFFSET(DE104_5B!$O$34,ROWS($O$34:O126)-1,COLUMNS($O$34:O126)-1)<>\"\",OFFSET(DE104_5B!$O$34,ROWS($O$34:O126)-1,COLUMNS($O$34:O126)-1),\"\")","v":""},null,null,null,null,null,{"$f":"IF(OFFSET(DE104_5B!$P$34,ROWS($P$34:P126)-1,COLUMNS($P$34:P126)-1)<>\"\",OFFSET(DE104_5B!$P$34,ROWS($P$34:P126)-1,COLUMNS($P$34:P126)-1),\"\")","v":""},null,null,null,null,{"$f":"IF(OFFSET(DE104_5B!$Q$34,ROWS($Q$34:Q126)-1,COLUMNS($Q$34:Q126)-1)<>\"\",OFFSET(DE104_5B!$Q$34,ROWS($Q$34:Q126)-1,COLUMNS($Q$34:Q126)-1),\"\")","v":""},null,null,null,null,null,null,null,null,null,{"$f":"IF(OFFSET(DE104_5B!$R$34,ROWS($S$34:S126)-1,COLUMNS($S$34:S126)-1)<>\"\",OFFSET(DE104_5B!$R$34,ROWS($S$34:S126)-1,COLUMNS($S$34:S126)-1),\"\")","v":""},null,null,null,null,null,null,null,{"$f":"IF(OFFSET(DE104_5B!$S$34,ROWS($T$34:T126)-1,COLUMNS($T$34:T126)-1)<>\"\",OFFSET(DE104_5B!$S$34,ROWS($T$34:T126)-1,COLUMNS($T$34:T126)-1),\"\")","v":""},null,null,null,null,null,null,null,{"$f":"IF(OFFSET(DE104_5B!$T$34,ROWS($U$34:U126)-1,COLUMNS($U$34:U126)-1)<>\"\",OFFSET(DE104_5B!$T$34,ROWS($U$34:U126)-1,COLUMNS($U$34:U126)-1),\"\")","v":""},null,null,null,null,null,null,null,{"$f":"IF(OFFSET(DE104_5B!$U$34,ROWS($V$34:V126)-1,COLUMNS($V$34:V126)-1)<>\"\",OFFSET(DE104_5B!$U$34,ROWS($V$34:V126)-1,COLUMNS($V$34:V126)-1),\"\")","v":""},null,null,null,null,null,null,{"$f":"IF(OFFSET(DE104_5B!$V$34,ROWS($W$34:W126)-1,COLUMNS($W$34:W126)-1)<>\"\",OFFSET(DE104_5B!$V$34,ROWS($W$34:W126)-1,COLUMNS($W$34:W126)-1),\"\")","v":""}]
[null,null,{"$f":"IF(OFFSET(DE104_5B!$A$33,ROWS($A$33:A127)-1,COLUMNS($A$33:A127)-1)<>\"\",OFFSET(DE104_5B!$A$33,ROWS($A$33:A127)-1,COLUMNS($A$33:A127)-1),\"\")","v":""},null,null,null,{"$f":"IF(OFFSET(DE104_5B!$B$33,ROWS($B$33:B127)-1,COLUMNS($B$33:B127)-1)<>\"\",OFFSET(DE104_5B!$B$33,ROWS($B$33:B127)-1,COLUMNS($B$33:B127)-1),\"\")","v":""},null,null,null,null,null,null,null,null,null,null,null,null,null,null,null,null,null,null,{"$f":"IF(OFFSET(DE104_5B!$C$33,ROWS($C$33:C127)-1,COLUMNS($C$33:C127)-1)<>\"\",OFFSET(DE104_5B!$C$33,ROWS($C$33:C127)-1,COLUMNS($C$33:C127)-1),\"\")","v":""},null,null,null,null,null,null,null,null,null,null,null,null,null,null,null,null,null,null,null,null,null,null,null,{"$f":"IF(OFFSET(DE104_5B!$D$33,ROWS($D$33:D127)-1,COLUMNS($D$33:D127)-1)<>\"\",OFFSET(DE104_5B!$D$33,ROWS($D$33:D127)-1,COLUMNS($D$33:D127)-1),\"\")","v":""},null,null,null,null,{"$f":"IF(OFFSET(DE104_5B!$E$33,ROWS($E$33:E127)-1,COLUMNS($E$33:E127)-1)<>\"\",OFFSET(DE104_5B!$E$33,ROWS($E$33:E127)-1,COLUMNS($E$33:E127)-1),\"\")","v":""},null,null,null,null,null,{"$f":"IF(OFFSET(DE104_5B!$F$33,ROWS($F$33:F127)-1,COLUMNS($F$33:F127)-1)<>\"\",OFFSET(DE104_5B!$F$33,ROWS($F$33:F127)-1,COLUMNS($F$33:F127)-1),\"\")","v":""},null,null,null,null,null,null,null,{"$f":"IF(OFFSET(DE104_5B!$G$33,ROWS($G$33:G127)-1,COLUMNS($G$33:G127)-1)<>\"\",OFFSET(DE104_5B!$G$33,ROWS($G$33:G127)-1,COLUMNS($G$33:G127)-1),\"\")","v":""}]
[null,null,null,null,null,null,null,null,null,null,null,null,null,null,null,null,null,null,null,null,null,null,null,null,null,null,null,null,null,null,null,null,null,null,null,null,null,null,null,null,null,null,null,null,null,null,null,null,null,null,null,null,null,null,null,null,null,null,null,null,null,null,null,null,null,null,null,null,null,null,null,null,null,null,null,null,null,null,null,null,null,{"$f":"IF(OFFSET(DE104_5B!$H$34,ROWS($H$34:H128)-1,COLUMNS($H$34:H128)-1)<>\"\",OFFSET(DE104_5B!$H$34,ROWS($H$34:H128)-1,COLUMNS($H$34:H128)-1),\"\")","v":""},null,null,null,null,null,{"$f":"IF(OFFSET(DE104_5B!$I$34,ROWS($I$34:I128)-1,COLUMNS($I$34:I128)-1)<>\"\",OFFSET(DE104_5B!$I$34,ROWS($I$34:I128)-1,COLUMNS($I$34:I128)-1),\"\")","v":""},null,null,null,{"$f":"IF(OFFSET(DE104_5B!$J$34,ROWS($J$34:J128)-1,COLUMNS($J$34:J128)-1)<>\"\",OFFSET(DE104_5B!$J$34,ROWS($J$34:J128)-1,COLUMNS($J$34:J128)-1),\"\")","v":""},null,null,null,{"$f":"IF(OFFSET(DE104_5B!$K$34,ROWS($K$34:K128)-1,COLUMNS($K$34:K128)-1)<>\"\",OFFSET(DE104_5B!$K$34,ROWS($K$34:K128)-1,COLUMNS($K$34:K128)-1),\"\")","v":""},null,null,null,null,{"$f":"IF(OFFSET(DE104_5B!$L$34,ROWS($L$34:L128)-1,COLUMNS($L$34:L128)-1)<>\"\",OFFSET(DE104_5B!$L$34,ROWS($L$34:L128)-1,COLUMNS($L$34:L128)-1),\"\")","v":""},null,null,null,null,null,null,{"$f":"IF(OFFSET(DE104_5B!$M$34,ROWS($M$34:M128)-1,COLUMNS($M$34:M128)-1)<>\"\",OFFSET(DE104_5B!$M$34,ROWS($M$34:M128)-1,COLUMNS($M$34:M128)-1),\"\")","v":""},null,null,null,null,null,{"$f":"IF(OFFSET(DE104_5B!$O$34,ROWS($O$34:O128)-1,COLUMNS($O$34:O128)-1)<>\"\",OFFSET(DE104_5B!$O$34,ROWS($O$34:O128)-1,COLUMNS($O$34:O128)-1),\"\")","v":""},null,null,null,null,null,{"$f":"IF(OFFSET(DE104_5B!$P$34,ROWS($P$34:P128)-1,COLUMNS($P$34:P128)-1)<>\"\",OFFSET(DE104_5B!$P$34,ROWS($P$34:P128)-1,COLUMNS($P$34:P128)-1),\"\")","v":""},null,null,null,null,{"$f":"IF(OFFSET(DE104_5B!$Q$34,ROWS($Q$34:Q128)-1,COLUMNS($Q$34:Q128)-1)<>\"\",OFFSET(DE104_5B!$Q$34,ROWS($Q$34:Q128)-1,COLUMNS($Q$34:Q128)-1),\"\")","v":""},null,null,null,null,null,null,null,null,null,{"$f":"IF(OFFSET(DE104_5B!$R$34,ROWS($S$34:S128)-1,COLUMNS($S$34:S128)-1)<>\"\",OFFSET(DE104_5B!$R$34,ROWS($S$34:S128)-1,COLUMNS($S$34:S128)-1),\"\")","v":""},null,null,null,null,null,null,null,{"$f":"IF(OFFSET(DE104_5B!$S$34,ROWS($T$34:T128)-1,COLUMNS($T$34:T128)-1)<>\"\",OFFSET(DE104_5B!$S$34,ROWS($T$34:T128)-1,COLUMNS($T$34:T128)-1),\"\")","v":""},null,null,null,null,null,null,null,{"$f":"IF(OFFSET(DE104_5B!$T$34,ROWS($U$34:U128)-1,COLUMNS($U$34:U128)-1)<>\"\",OFFSET(DE104_5B!$T$34,ROWS($U$34:U128)-1,COLUMNS($U$34:U128)-1),\"\")","v":""},null,null,null,null,null,null,null,{"$f":"IF(OFFSET(DE104_5B!$U$34,ROWS($V$34:V128)-1,COLUMNS($V$34:V128)-1)<>\"\",OFFSET(DE104_5B!$U$34,ROWS($V$34:V128)-1,COLUMNS($V$34:V128)-1),\"\")","v":""},null,null,null,null,null,null,{"$f":"IF(OFFSET(DE104_5B!$V$34,ROWS($W$34:W128)-1,COLUMNS($W$34:W128)-1)<>\"\",OFFSET(DE104_5B!$V$34,ROWS($W$34:W128)-1,COLUMNS($W$34:W128)-1),\"\")","v":""}]
[null,null,{"$f":"IF(OFFSET(DE104_5B!$A$33,ROWS($A$33:A129)-1,COLUMNS($A$33:A129)-1)<>\"\",OFFSET(DE104_5B!$A$33,ROWS($A$33:A129)-1,COLUMNS($A$33:A129)-1),\"\")","v":""},null,null,null,{"$f":"IF(OFFSET(DE104_5B!$B$33,ROWS($B$33:B129)-1,COLUMNS($B$33:B129)-1)<>\"\",OFFSET(DE104_5B!$B$33,ROWS($B$33:B129)-1,COLUMNS($B$33:B129)-1),\"\")","v":""},null,null,null,null,null,null,null,null,null,null,null,null,null,null,null,null,null,null,{"$f":"IF(OFFSET(DE104_5B!$C$33,ROWS($C$33:C129)-1,COLUMNS($C$33:C129)-1)<>\"\",OFFSET(DE104_5B!$C$33,ROWS($C$33:C129)-1,COLUMNS($C$33:C129)-1),\"\")","v":""},null,null,null,null,null,null,null,null,null,null,null,null,null,null,null,null,null,null,null,null,null,null,null,{"$f":"IF(OFFSET(DE104_5B!$D$33,ROWS($D$33:D129)-1,COLUMNS($D$33:D129)-1)<>\"\",OFFSET(DE104_5B!$D$33,ROWS($D$33:D129)-1,COLUMNS($D$33:D129)-1),\"\")","v":""},null,null,null,null,{"$f":"IF(OFFSET(DE104_5B!$E$33,ROWS($E$33:E129)-1,COLUMNS($E$33:E129)-1)<>\"\",OFFSET(DE104_5B!$E$33,ROWS($E$33:E129)-1,COLUMNS($E$33:E129)-1),\"\")","v":""},null,null,null,null,null,{"$f":"IF(OFFSET(DE104_5B!$F$33,ROWS($F$33:F129)-1,COLUMNS($F$33:F129)-1)<>\"\",OFFSET(DE104_5B!$F$33,ROWS($F$33:F129)-1,COLUMNS($F$33:F129)-1),\"\")","v":""},null,null,null,null,null,null,null,{"$f":"IF(OFFSET(DE104_5B!$G$33,ROWS($G$33:G129)-1,COLUMNS($G$33:G129)-1)<>\"\",OFFSET(DE104_5B!$G$33,ROWS($G$33:G129)-1,COLUMNS($G$33:G129)-1),\"\")","v":""}]
[null,null,null,null,null,null,null,null,null,null,null,null,null,null,null,null,null,null,null,null,null,null,null,null,null,null,null,null,null,null,null,null,null,null,null,null,null,null,null,null,null,null,null,null,null,null,null,null,null,null,null,null,null,null,null,null,null,null,null,null,null,null,null,null,null,null,null,null,null,null,null,null,null,null,null,null,null,null,null,null,null,{"$f":"IF(OFFSET(DE104_5B!$H$34,ROWS($H$34:H130)-1,COLUMNS($H$34:H130)-1)<>\"\",OFFSET(DE104_5B!$H$34,ROWS($H$34:H130)-1,COLUMNS($H$34:H130)-1),\"\")","v":""},null,null,null,null,null,{"$f":"IF(OFFSET(DE104_5B!$I$34,ROWS($I$34:I130)-1,COLUMNS($I$34:I130)-1)<>\"\",OFFSET(DE104_5B!$I$34,ROWS($I$34:I130)-1,COLUMNS($I$34:I130)-1),\"\")","v":""},null,null,null,{"$f":"IF(OFFSET(DE104_5B!$J$34,ROWS($J$34:J130)-1,COLUMNS($J$34:J130)-1)<>\"\",OFFSET(DE104_5B!$J$34,ROWS($J$34:J130)-1,COLUMNS($J$34:J130)-1),\"\")","v":""},null,null,null,{"$f":"IF(OFFSET(DE104_5B!$K$34,ROWS($K$34:K130)-1,COLUMNS($K$34:K130)-1)<>\"\",OFFSET(DE104_5B!$K$34,ROWS($K$34:K130)-1,COLUMNS($K$34:K130)-1),\"\")","v":""},null,null,null,null,{"$f":"IF(OFFSET(DE104_5B!$L$34,ROWS($L$34:L130)-1,COLUMNS($L$34:L130)-1)<>\"\",OFFSET(DE104_5B!$L$34,ROWS($L$34:L130)-1,COLUMNS($L$34:L130)-1),\"\")","v":""},null,null,null,null,null,null,{"$f":"IF(OFFSET(DE104_5B!$M$34,ROWS($M$34:M130)-1,COLUMNS($M$34:M130)-1)<>\"\",OFFSET(DE104_5B!$M$34,ROWS($M$34:M130)-1,COLUMNS($M$34:M130)-1),\"\")","v":""},null,null,null,null,null,{"$f":"IF(OFFSET(DE104_5B!$O$34,ROWS($O$34:O130)-1,COLUMNS($O$34:O130)-1)<>\"\",OFFSET(DE104_5B!$O$34,ROWS($O$34:O130)-1,COLUMNS($O$34:O130)-1),\"\")","v":""},null,null,null,null,null,{"$f":"IF(OFFSET(DE104_5B!$P$34,ROWS($P$34:P130)-1,COLUMNS($P$34:P130)-1)<>\"\",OFFSET(DE104_5B!$P$34,ROWS($P$34:P130)-1,COLUMNS($P$34:P130)-1),\"\")","v":""},null,null,null,null,{"$f":"IF(OFFSET(DE104_5B!$Q$34,ROWS($Q$34:Q130)-1,COLUMNS($Q$34:Q130)-1)<>\"\",OFFSET(DE104_5B!$Q$34,ROWS($Q$34:Q130)-1,COLUMNS($Q$34:Q130)-1),\"\")","v":""},null,null,null,null,null,null,null,null,null,{"$f":"IF(OFFSET(DE104_5B!$R$34,ROWS($S$34:S130)-1,COLUMNS($S$34:S130)-1)<>\"\",OFFSET(DE104_5B!$R$34,ROWS($S$34:S130)-1,COLUMNS($S$34:S130)-1),\"\")","v":""},null,null,null,null,null,null,null,{"$f":"IF(OFFSET(DE104_5B!$S$34,ROWS($T$34:T130)-1,COLUMNS($T$34:T130)-1)<>\"\",OFFSET(DE104_5B!$S$34,ROWS($T$34:T130)-1,COLUMNS($T$34:T130)-1),\"\")","v":""},null,null,null,null,null,null,null,{"$f":"IF(OFFSET(DE104_5B!$T$34,ROWS($U$34:U130)-1,COLUMNS($U$34:U130)-1)<>\"\",OFFSET(DE104_5B!$T$34,ROWS($U$34:U130)-1,COLUMNS($U$34:U130)-1),\"\")","v":""},null,null,null,null,null,null,null,{"$f":"IF(OFFSET(DE104_5B!$U$34,ROWS($V$34:V130)-1,COLUMNS($V$34:V130)-1)<>\"\",OFFSET(DE104_5B!$U$34,ROWS($V$34:V130)-1,COLUMNS($V$34:V130)-1),\"\")","v":""},null,null,null,null,null,null,{"$f":"IF(OFFSET(DE104_5B!$V$34,ROWS($W$34:W130)-1,COLUMNS($W$34:W130)-1)<>\"\",OFFSET(DE104_5B!$V$34,ROWS($W$34:W130)-1,COLUMNS($W$34:W130)-1),\"\")","v":""}]
[null,null,{"$f":"IF(OFFSET(DE104_5B!$A$33,ROWS($A$33:A131)-1,COLUMNS($A$33:A131)-1)<>\"\",OFFSET(DE104_5B!$A$33,ROWS($A$33:A131)-1,COLUMNS($A$33:A131)-1),\"\")","v":""},null,null,null,{"$f":"IF(OFFSET(DE104_5B!$B$33,ROWS($B$33:B131)-1,COLUMNS($B$33:B131)-1)<>\"\",OFFSET(DE104_5B!$B$33,ROWS($B$33:B131)-1,COLUMNS($B$33:B131)-1),\"\")","v":""},null,null,null,null,null,null,null,null,null,null,null,null,null,null,null,null,null,null,{"$f":"IF(OFFSET(DE104_5B!$C$33,ROWS($C$33:C131)-1,COLUMNS($C$33:C131)-1)<>\"\",OFFSET(DE104_5B!$C$33,ROWS($C$33:C131)-1,COLUMNS($C$33:C131)-1),\"\")","v":""},null,null,null,null,null,null,null,null,null,null,null,null,null,null,null,null,null,null,null,null,null,null,null,{"$f":"IF(OFFSET(DE104_5B!$D$33,ROWS($D$33:D131)-1,COLUMNS($D$33:D131)-1)<>\"\",OFFSET(DE104_5B!$D$33,ROWS($D$33:D131)-1,COLUMNS($D$33:D131)-1),\"\")","v":""},null,null,null,null,{"$f":"IF(OFFSET(DE104_5B!$E$33,ROWS($E$33:E131)-1,COLUMNS($E$33:E131)-1)<>\"\",OFFSET(DE104_5B!$E$33,ROWS($E$33:E131)-1,COLUMNS($E$33:E131)-1),\"\")","v":""},null,null,null,null,null,{"$f":"IF(OFFSET(DE104_5B!$F$33,ROWS($F$33:F131)-1,COLUMNS($F$33:F131)-1)<>\"\",OFFSET(DE104_5B!$F$33,ROWS($F$33:F131)-1,COLUMNS($F$33:F131)-1),\"\")","v":""},null,null,null,null,null,null,null,{"$f":"IF(OFFSET(DE104_5B!$G$33,ROWS($G$33:G131)-1,COLUMNS($G$33:G131)-1)<>\"\",OFFSET(DE104_5B!$G$33,ROWS($G$33:G131)-1,COLUMNS($G$33:G131)-1),\"\")","v":""}]
[null,null,null,null,null,null,null,null,null,null,null,null,null,null,null,null,null,null,null,null,null,null,null,null,null,null,null,null,null,null,null,null,null,null,null,null,null,null,null,null,null,null,null,null,null,null,null,null,null,null,null,null,null,null,null,null,null,null,null,null,null,null,null,null,null,null,null,null,null,null,null,null,null,null,null,null,null,null,null,null,null,{"$f":"IF(OFFSET(DE104_5B!$H$34,ROWS($H$34:H132)-1,COLUMNS($H$34:H132)-1)<>\"\",OFFSET(DE104_5B!$H$34,ROWS($H$34:H132)-1,COLUMNS($H$34:H132)-1),\"\")","v":""},null,null,null,null,null,{"$f":"IF(OFFSET(DE104_5B!$I$34,ROWS($I$34:I132)-1,COLUMNS($I$34:I132)-1)<>\"\",OFFSET(DE104_5B!$I$34,ROWS($I$34:I132)-1,COLUMNS($I$34:I132)-1),\"\")","v":""},null,null,null,{"$f":"IF(OFFSET(DE104_5B!$J$34,ROWS($J$34:J132)-1,COLUMNS($J$34:J132)-1)<>\"\",OFFSET(DE104_5B!$J$34,ROWS($J$34:J132)-1,COLUMNS($J$34:J132)-1),\"\")","v":""},null,null,null,{"$f":"IF(OFFSET(DE104_5B!$K$34,ROWS($K$34:K132)-1,COLUMNS($K$34:K132)-1)<>\"\",OFFSET(DE104_5B!$K$34,ROWS($K$34:K132)-1,COLUMNS($K$34:K132)-1),\"\")","v":""},null,null,null,null,{"$f":"IF(OFFSET(DE104_5B!$L$34,ROWS($L$34:L132)-1,COLUMNS($L$34:L132)-1)<>\"\",OFFSET(DE104_5B!$L$34,ROWS($L$34:L132)-1,COLUMNS($L$34:L132)-1),\"\")","v":""},null,null,null,null,null,null,{"$f":"IF(OFFSET(DE104_5B!$M$34,ROWS($M$34:M132)-1,COLUMNS($M$34:M132)-1)<>\"\",OFFSET(DE104_5B!$M$34,ROWS($M$34:M132)-1,COLUMNS($M$34:M132)-1),\"\")","v":""},null,null,null,null,null,{"$f":"IF(OFFSET(DE104_5B!$O$34,ROWS($O$34:O132)-1,COLUMNS($O$34:O132)-1)<>\"\",OFFSET(DE104_5B!$O$34,ROWS($O$34:O132)-1,COLUMNS($O$34:O132)-1),\"\")","v":""},null,null,null,null,null,{"$f":"IF(OFFSET(DE104_5B!$P$34,ROWS($P$34:P132)-1,COLUMNS($P$34:P132)-1)<>\"\",OFFSET(DE104_5B!$P$34,ROWS($P$34:P132)-1,COLUMNS($P$34:P132)-1),\"\")","v":""},null,null,null,null,{"$f":"IF(OFFSET(DE104_5B!$Q$34,ROWS($Q$34:Q132)-1,COLUMNS($Q$34:Q132)-1)<>\"\",OFFSET(DE104_5B!$Q$34,ROWS($Q$34:Q132)-1,COLUMNS($Q$34:Q132)-1),\"\")","v":""},null,null,null,null,null,null,null,null,null,{"$f":"IF(OFFSET(DE104_5B!$R$34,ROWS($S$34:S132)-1,COLUMNS($S$34:S132)-1)<>\"\",OFFSET(DE104_5B!$R$34,ROWS($S$34:S132)-1,COLUMNS($S$34:S132)-1),\"\")","v":""},null,null,null,null,null,null,null,{"$f":"IF(OFFSET(DE104_5B!$S$34,ROWS($T$34:T132)-1,COLUMNS($T$34:T132)-1)<>\"\",OFFSET(DE104_5B!$S$34,ROWS($T$34:T132)-1,COLUMNS($T$34:T132)-1),\"\")","v":""},null,null,null,null,null,null,null,{"$f":"IF(OFFSET(DE104_5B!$T$34,ROWS($U$34:U132)-1,COLUMNS($U$34:U132)-1)<>\"\",OFFSET(DE104_5B!$T$34,ROWS($U$34:U132)-1,COLUMNS($U$34:U132)-1),\"\")","v":""},null,null,null,null,null,null,null,{"$f":"IF(OFFSET(DE104_5B!$U$34,ROWS($V$34:V132)-1,COLUMNS($V$34:V132)-1)<>\"\",OFFSET(DE104_5B!$U$34,ROWS($V$34:V132)-1,COLUMNS($V$34:V132)-1),\"\")","v":""},null,null,null,null,null,null,{"$f":"IF(OFFSET(DE104_5B!$V$34,ROWS($W$34:W132)-1,COLUMNS($W$34:W132)-1)<>\"\",OFFSET(DE104_5B!$V$34,ROWS($W$34:W132)-1,COLUMNS($W$34:W132)-1),\"\")","v":""}]
[null,null,{"$f":"IF(OFFSET(DE104_5B!$A$33,ROWS($A$33:A133)-1,COLUMNS($A$33:A133)-1)<>\"\",OFFSET(DE104_5B!$A$33,ROWS($A$33:A133)-1,COLUMNS($A$33:A133)-1),\"\")","v":""},null,null,null,{"$f":"IF(OFFSET(DE104_5B!$B$33,ROWS($B$33:B133)-1,COLUMNS($B$33:B133)-1)<>\"\",OFFSET(DE104_5B!$B$33,ROWS($B$33:B133)-1,COLUMNS($B$33:B133)-1),\"\")","v":""},null,null,null,null,null,null,null,null,null,null,null,null,null,null,null,null,null,null,{"$f":"IF(OFFSET(DE104_5B!$C$33,ROWS($C$33:C133)-1,COLUMNS($C$33:C133)-1)<>\"\",OFFSET(DE104_5B!$C$33,ROWS($C$33:C133)-1,COLUMNS($C$33:C133)-1),\"\")","v":""},null,null,null,null,null,null,null,null,null,null,null,null,null,null,null,null,null,null,null,null,null,null,null,{"$f":"IF(OFFSET(DE104_5B!$D$33,ROWS($D$33:D133)-1,COLUMNS($D$33:D133)-1)<>\"\",OFFSET(DE104_5B!$D$33,ROWS($D$33:D133)-1,COLUMNS($D$33:D133)-1),\"\")","v":""},null,null,null,null,{"$f":"IF(OFFSET(DE104_5B!$E$33,ROWS($E$33:E133)-1,COLUMNS($E$33:E133)-1)<>\"\",OFFSET(DE104_5B!$E$33,ROWS($E$33:E133)-1,COLUMNS($E$33:E133)-1),\"\")","v":""},null,null,null,null,null,{"$f":"IF(OFFSET(DE104_5B!$F$33,ROWS($F$33:F133)-1,COLUMNS($F$33:F133)-1)<>\"\",OFFSET(DE104_5B!$F$33,ROWS($F$33:F133)-1,COLUMNS($F$33:F133)-1),\"\")","v":""},null,null,null,null,null,null,null,{"$f":"IF(OFFSET(DE104_5B!$G$33,ROWS($G$33:G133)-1,COLUMNS($G$33:G133)-1)<>\"\",OFFSET(DE104_5B!$G$33,ROWS($G$33:G133)-1,COLUMNS($G$33:G133)-1),\"\")","v":""}]
[null,null,null,null,null,null,null,null,null,null,null,null,null,null,null,null,null,null,null,null,null,null,null,null,null,null,null,null,null,null,null,null,null,null,null,null,null,null,null,null,null,null,null,null,null,null,null,null,null,null,null,null,null,null,null,null,null,null,null,null,null,null,null,null,null,null,null,null,null,null,null,null,null,null,null,null,null,null,null,null,null,{"$f":"IF(OFFSET(DE104_5B!$H$34,ROWS($H$34:H134)-1,COLUMNS($H$34:H134)-1)<>\"\",OFFSET(DE104_5B!$H$34,ROWS($H$34:H134)-1,COLUMNS($H$34:H134)-1),\"\")","v":""},null,null,null,null,null,{"$f":"IF(OFFSET(DE104_5B!$I$34,ROWS($I$34:I134)-1,COLUMNS($I$34:I134)-1)<>\"\",OFFSET(DE104_5B!$I$34,ROWS($I$34:I134)-1,COLUMNS($I$34:I134)-1),\"\")","v":""},null,null,null,{"$f":"IF(OFFSET(DE104_5B!$J$34,ROWS($J$34:J134)-1,COLUMNS($J$34:J134)-1)<>\"\",OFFSET(DE104_5B!$J$34,ROWS($J$34:J134)-1,COLUMNS($J$34:J134)-1),\"\")","v":""},null,null,null,{"$f":"IF(OFFSET(DE104_5B!$K$34,ROWS($K$34:K134)-1,COLUMNS($K$34:K134)-1)<>\"\",OFFSET(DE104_5B!$K$34,ROWS($K$34:K134)-1,COLUMNS($K$34:K134)-1),\"\")","v":""},null,null,null,null,{"$f":"IF(OFFSET(DE104_5B!$L$34,ROWS($L$34:L134)-1,COLUMNS($L$34:L134)-1)<>\"\",OFFSET(DE104_5B!$L$34,ROWS($L$34:L134)-1,COLUMNS($L$34:L134)-1),\"\")","v":""},null,null,null,null,null,null,{"$f":"IF(OFFSET(DE104_5B!$M$34,ROWS($M$34:M134)-1,COLUMNS($M$34:M134)-1)<>\"\",OFFSET(DE104_5B!$M$34,ROWS($M$34:M134)-1,COLUMNS($M$34:M134)-1),\"\")","v":""},null,null,null,null,null,{"$f":"IF(OFFSET(DE104_5B!$O$34,ROWS($O$34:O134)-1,COLUMNS($O$34:O134)-1)<>\"\",OFFSET(DE104_5B!$O$34,ROWS($O$34:O134)-1,COLUMNS($O$34:O134)-1),\"\")","v":""},null,null,null,null,null,{"$f":"IF(OFFSET(DE104_5B!$P$34,ROWS($P$34:P134)-1,COLUMNS($P$34:P134)-1)<>\"\",OFFSET(DE104_5B!$P$34,ROWS($P$34:P134)-1,COLUMNS($P$34:P134)-1),\"\")","v":""},null,null,null,null,{"$f":"IF(OFFSET(DE104_5B!$Q$34,ROWS($Q$34:Q134)-1,COLUMNS($Q$34:Q134)-1)<>\"\",OFFSET(DE104_5B!$Q$34,ROWS($Q$34:Q134)-1,COLUMNS($Q$34:Q134)-1),\"\")","v":""},null,null,null,null,null,null,null,null,null,{"$f":"IF(OFFSET(DE104_5B!$R$34,ROWS($S$34:S134)-1,COLUMNS($S$34:S134)-1)<>\"\",OFFSET(DE104_5B!$R$34,ROWS($S$34:S134)-1,COLUMNS($S$34:S134)-1),\"\")","v":""},null,null,null,null,null,null,null,{"$f":"IF(OFFSET(DE104_5B!$S$34,ROWS($T$34:T134)-1,COLUMNS($T$34:T134)-1)<>\"\",OFFSET(DE104_5B!$S$34,ROWS($T$34:T134)-1,COLUMNS($T$34:T134)-1),\"\")","v":""},null,null,null,null,null,null,null,{"$f":"IF(OFFSET(DE104_5B!$T$34,ROWS($U$34:U134)-1,COLUMNS($U$34:U134)-1)<>\"\",OFFSET(DE104_5B!$T$34,ROWS($U$34:U134)-1,COLUMNS($U$34:U134)-1),\"\")","v":""},null,null,null,null,null,null,null,{"$f":"IF(OFFSET(DE104_5B!$U$34,ROWS($V$34:V134)-1,COLUMNS($V$34:V134)-1)<>\"\",OFFSET(DE104_5B!$U$34,ROWS($V$34:V134)-1,COLUMNS($V$34:V134)-1),\"\")","v":""},null,null,null,null,null,null,{"$f":"IF(OFFSET(DE104_5B!$V$34,ROWS($W$34:W134)-1,COLUMNS($W$34:W134)-1)<>\"\",OFFSET(DE104_5B!$V$34,ROWS($W$34:W134)-1,COLUMNS($W$34:W134)-1),\"\")","v":""}]
[null,null,{"$f":"IF(OFFSET(DE104_5B!$A$33,ROWS($A$33:A135)-1,COLUMNS($A$33:A135)-1)<>\"\",OFFSET(DE104_5B!$A$33,ROWS($A$33:A135)-1,COLUMNS($A$33:A135)-1),\"\")","v":""},null,null,null,{"$f":"IF(OFFSET(DE104_5B!$B$33,ROWS($B$33:B135)-1,COLUMNS($B$33:B135)-1)<>\"\",OFFSET(DE104_5B!$B$33,ROWS($B$33:B135)-1,COLUMNS($B$33:B135)-1),\"\")","v":""},null,null,null,null,null,null,null,null,null,null,null,null,null,null,null,null,null,null,{"$f":"IF(OFFSET(DE104_5B!$C$33,ROWS($C$33:C135)-1,COLUMNS($C$33:C135)-1)<>\"\",OFFSET(DE104_5B!$C$33,ROWS($C$33:C135)-1,COLUMNS($C$33:C135)-1),\"\")","v":""},null,null,null,null,null,null,null,null,null,null,null,null,null,null,null,null,null,null,null,null,null,null,null,{"$f":"IF(OFFSET(DE104_5B!$D$33,ROWS($D$33:D135)-1,COLUMNS($D$33:D135)-1)<>\"\",OFFSET(DE104_5B!$D$33,ROWS($D$33:D135)-1,COLUMNS($D$33:D135)-1),\"\")","v":""},null,null,null,null,{"$f":"IF(OFFSET(DE104_5B!$E$33,ROWS($E$33:E135)-1,COLUMNS($E$33:E135)-1)<>\"\",OFFSET(DE104_5B!$E$33,ROWS($E$33:E135)-1,COLUMNS($E$33:E135)-1),\"\")","v":""},null,null,null,null,null,{"$f":"IF(OFFSET(DE104_5B!$F$33,ROWS($F$33:F135)-1,COLUMNS($F$33:F135)-1)<>\"\",OFFSET(DE104_5B!$F$33,ROWS($F$33:F135)-1,COLUMNS($F$33:F135)-1),\"\")","v":""},null,null,null,null,null,null,null,{"$f":"IF(OFFSET(DE104_5B!$G$33,ROWS($G$33:G135)-1,COLUMNS($G$33:G135)-1)<>\"\",OFFSET(DE104_5B!$G$33,ROWS($G$33:G135)-1,COLUMNS($G$33:G135)-1),\"\")","v":""}]
[null,null,null,null,null,null,null,null,null,null,null,null,null,null,null,null,null,null,null,null,null,null,null,null,null,null,null,null,null,null,null,null,null,null,null,null,null,null,null,null,null,null,null,null,null,null,null,null,null,null,null,null,null,null,null,null,null,null,null,null,null,null,null,null,null,null,null,null,null,null,null,null,null,null,null,null,null,null,null,null,null,{"$f":"IF(OFFSET(DE104_5B!$H$34,ROWS($H$34:H136)-1,COLUMNS($H$34:H136)-1)<>\"\",OFFSET(DE104_5B!$H$34,ROWS($H$34:H136)-1,COLUMNS($H$34:H136)-1),\"\")","v":""},null,null,null,null,null,{"$f":"IF(OFFSET(DE104_5B!$I$34,ROWS($I$34:I136)-1,COLUMNS($I$34:I136)-1)<>\"\",OFFSET(DE104_5B!$I$34,ROWS($I$34:I136)-1,COLUMNS($I$34:I136)-1),\"\")","v":""},null,null,null,{"$f":"IF(OFFSET(DE104_5B!$J$34,ROWS($J$34:J136)-1,COLUMNS($J$34:J136)-1)<>\"\",OFFSET(DE104_5B!$J$34,ROWS($J$34:J136)-1,COLUMNS($J$34:J136)-1),\"\")","v":""},null,null,null,{"$f":"IF(OFFSET(DE104_5B!$K$34,ROWS($K$34:K136)-1,COLUMNS($K$34:K136)-1)<>\"\",OFFSET(DE104_5B!$K$34,ROWS($K$34:K136)-1,COLUMNS($K$34:K136)-1),\"\")","v":""},null,null,null,null,{"$f":"IF(OFFSET(DE104_5B!$L$34,ROWS($L$34:L136)-1,COLUMNS($L$34:L136)-1)<>\"\",OFFSET(DE104_5B!$L$34,ROWS($L$34:L136)-1,COLUMNS($L$34:L136)-1),\"\")","v":""},null,null,null,null,null,null,{"$f":"IF(OFFSET(DE104_5B!$M$34,ROWS($M$34:M136)-1,COLUMNS($M$34:M136)-1)<>\"\",OFFSET(DE104_5B!$M$34,ROWS($M$34:M136)-1,COLUMNS($M$34:M136)-1),\"\")","v":""},null,null,null,null,null,{"$f":"IF(OFFSET(DE104_5B!$O$34,ROWS($O$34:O136)-1,COLUMNS($O$34:O136)-1)<>\"\",OFFSET(DE104_5B!$O$34,ROWS($O$34:O136)-1,COLUMNS($O$34:O136)-1),\"\")","v":""},null,null,null,null,null,{"$f":"IF(OFFSET(DE104_5B!$P$34,ROWS($P$34:P136)-1,COLUMNS($P$34:P136)-1)<>\"\",OFFSET(DE104_5B!$P$34,ROWS($P$34:P136)-1,COLUMNS($P$34:P136)-1),\"\")","v":""},null,null,null,null,{"$f":"IF(OFFSET(DE104_5B!$Q$34,ROWS($Q$34:Q136)-1,COLUMNS($Q$34:Q136)-1)<>\"\",OFFSET(DE104_5B!$Q$34,ROWS($Q$34:Q136)-1,COLUMNS($Q$34:Q136)-1),\"\")","v":""},null,null,null,null,null,null,null,null,null,{"$f":"IF(OFFSET(DE104_5B!$R$34,ROWS($S$34:S136)-1,COLUMNS($S$34:S136)-1)<>\"\",OFFSET(DE104_5B!$R$34,ROWS($S$34:S136)-1,COLUMNS($S$34:S136)-1),\"\")","v":""},null,null,null,null,null,null,null,{"$f":"IF(OFFSET(DE104_5B!$S$34,ROWS($T$34:T136)-1,COLUMNS($T$34:T136)-1)<>\"\",OFFSET(DE104_5B!$S$34,ROWS($T$34:T136)-1,COLUMNS($T$34:T136)-1),\"\")","v":""},null,null,null,null,null,null,null,{"$f":"IF(OFFSET(DE104_5B!$T$34,ROWS($U$34:U136)-1,COLUMNS($U$34:U136)-1)<>\"\",OFFSET(DE104_5B!$T$34,ROWS($U$34:U136)-1,COLUMNS($U$34:U136)-1),\"\")","v":""},null,null,null,null,null,null,null,{"$f":"IF(OFFSET(DE104_5B!$U$34,ROWS($V$34:V136)-1,COLUMNS($V$34:V136)-1)<>\"\",OFFSET(DE104_5B!$U$34,ROWS($V$34:V136)-1,COLUMNS($V$34:V136)-1),\"\")","v":""},null,null,null,null,null,null,{"$f":"IF(OFFSET(DE104_5B!$V$34,ROWS($W$34:W136)-1,COLUMNS($W$34:W136)-1)<>\"\",OFFSET(DE104_5B!$V$34,ROWS($W$34:W136)-1,COLUMNS($W$34:W136)-1),\"\")","v":""}]
[null,null,{"$f":"IF(OFFSET(DE104_5B!$A$33,ROWS($A$33:A137)-1,COLUMNS($A$33:A137)-1)<>\"\",OFFSET(DE104_5B!$A$33,ROWS($A$33:A137)-1,COLUMNS($A$33:A137)-1),\"\")","v":""},null,null,null,{"$f":"IF(OFFSET(DE104_5B!$B$33,ROWS($B$33:B137)-1,COLUMNS($B$33:B137)-1)<>\"\",OFFSET(DE104_5B!$B$33,ROWS($B$33:B137)-1,COLUMNS($B$33:B137)-1),\"\")","v":""},null,null,null,null,null,null,null,null,null,null,null,null,null,null,null,null,null,null,{"$f":"IF(OFFSET(DE104_5B!$C$33,ROWS($C$33:C137)-1,COLUMNS($C$33:C137)-1)<>\"\",OFFSET(DE104_5B!$C$33,ROWS($C$33:C137)-1,COLUMNS($C$33:C137)-1),\"\")","v":""},null,null,null,null,null,null,null,null,null,null,null,null,null,null,null,null,null,null,null,null,null,null,null,{"$f":"IF(OFFSET(DE104_5B!$D$33,ROWS($D$33:D137)-1,COLUMNS($D$33:D137)-1)<>\"\",OFFSET(DE104_5B!$D$33,ROWS($D$33:D137)-1,COLUMNS($D$33:D137)-1),\"\")","v":""},null,null,null,null,{"$f":"IF(OFFSET(DE104_5B!$E$33,ROWS($E$33:E137)-1,COLUMNS($E$33:E137)-1)<>\"\",OFFSET(DE104_5B!$E$33,ROWS($E$33:E137)-1,COLUMNS($E$33:E137)-1),\"\")","v":""},null,null,null,null,null,{"$f":"IF(OFFSET(DE104_5B!$F$33,ROWS($F$33:F137)-1,COLUMNS($F$33:F137)-1)<>\"\",OFFSET(DE104_5B!$F$33,ROWS($F$33:F137)-1,COLUMNS($F$33:F137)-1),\"\")","v":""},null,null,null,null,null,null,null,{"$f":"IF(OFFSET(DE104_5B!$G$33,ROWS($G$33:G137)-1,COLUMNS($G$33:G137)-1)<>\"\",OFFSET(DE104_5B!$G$33,ROWS($G$33:G137)-1,COLUMNS($G$33:G137)-1),\"\")","v":""}]
[null,null,null,null,null,null,null,null,null,null,null,null,null,null,null,null,null,null,null,null,null,null,null,null,null,null,null,null,null,null,null,null,null,null,null,null,null,null,null,null,null,null,null,null,null,null,null,null,null,null,null,null,null,null,null,null,null,null,null,null,null,null,null,null,null,null,null,null,null,null,null,null,null,null,null,null,null,null,null,null,null,{"$f":"IF(OFFSET(DE104_5B!$H$34,ROWS($H$34:H138)-1,COLUMNS($H$34:H138)-1)<>\"\",OFFSET(DE104_5B!$H$34,ROWS($H$34:H138)-1,COLUMNS($H$34:H138)-1),\"\")","v":""},null,null,null,null,null,{"$f":"IF(OFFSET(DE104_5B!$I$34,ROWS($I$34:I138)-1,COLUMNS($I$34:I138)-1)<>\"\",OFFSET(DE104_5B!$I$34,ROWS($I$34:I138)-1,COLUMNS($I$34:I138)-1),\"\")","v":""},null,null,null,{"$f":"IF(OFFSET(DE104_5B!$J$34,ROWS($J$34:J138)-1,COLUMNS($J$34:J138)-1)<>\"\",OFFSET(DE104_5B!$J$34,ROWS($J$34:J138)-1,COLUMNS($J$34:J138)-1),\"\")","v":""},null,null,null,{"$f":"IF(OFFSET(DE104_5B!$K$34,ROWS($K$34:K138)-1,COLUMNS($K$34:K138)-1)<>\"\",OFFSET(DE104_5B!$K$34,ROWS($K$34:K138)-1,COLUMNS($K$34:K138)-1),\"\")","v":""},null,null,null,null,{"$f":"IF(OFFSET(DE104_5B!$L$34,ROWS($L$34:L138)-1,COLUMNS($L$34:L138)-1)<>\"\",OFFSET(DE104_5B!$L$34,ROWS($L$34:L138)-1,COLUMNS($L$34:L138)-1),\"\")","v":""},null,null,null,null,null,null,{"$f":"IF(OFFSET(DE104_5B!$M$34,ROWS($M$34:M138)-1,COLUMNS($M$34:M138)-1)<>\"\",OFFSET(DE104_5B!$M$34,ROWS($M$34:M138)-1,COLUMNS($M$34:M138)-1),\"\")","v":""},null,null,null,null,null,{"$f":"IF(OFFSET(DE104_5B!$O$34,ROWS($O$34:O138)-1,COLUMNS($O$34:O138)-1)<>\"\",OFFSET(DE104_5B!$O$34,ROWS($O$34:O138)-1,COLUMNS($O$34:O138)-1),\"\")","v":""},null,null,null,null,null,{"$f":"IF(OFFSET(DE104_5B!$P$34,ROWS($P$34:P138)-1,COLUMNS($P$34:P138)-1)<>\"\",OFFSET(DE104_5B!$P$34,ROWS($P$34:P138)-1,COLUMNS($P$34:P138)-1),\"\")","v":""},null,null,null,null,{"$f":"IF(OFFSET(DE104_5B!$Q$34,ROWS($Q$34:Q138)-1,COLUMNS($Q$34:Q138)-1)<>\"\",OFFSET(DE104_5B!$Q$34,ROWS($Q$34:Q138)-1,COLUMNS($Q$34:Q138)-1),\"\")","v":""},null,null,null,null,null,null,null,null,null,{"$f":"IF(OFFSET(DE104_5B!$R$34,ROWS($S$34:S138)-1,COLUMNS($S$34:S138)-1)<>\"\",OFFSET(DE104_5B!$R$34,ROWS($S$34:S138)-1,COLUMNS($S$34:S138)-1),\"\")","v":""},null,null,null,null,null,null,null,{"$f":"IF(OFFSET(DE104_5B!$S$34,ROWS($T$34:T138)-1,COLUMNS($T$34:T138)-1)<>\"\",OFFSET(DE104_5B!$S$34,ROWS($T$34:T138)-1,COLUMNS($T$34:T138)-1),\"\")","v":""},null,null,null,null,null,null,null,{"$f":"IF(OFFSET(DE104_5B!$T$34,ROWS($U$34:U138)-1,COLUMNS($U$34:U138)-1)<>\"\",OFFSET(DE104_5B!$T$34,ROWS($U$34:U138)-1,COLUMNS($U$34:U138)-1),\"\")","v":""},null,null,null,null,null,null,null,{"$f":"IF(OFFSET(DE104_5B!$U$34,ROWS($V$34:V138)-1,COLUMNS($V$34:V138)-1)<>\"\",OFFSET(DE104_5B!$U$34,ROWS($V$34:V138)-1,COLUMNS($V$34:V138)-1),\"\")","v":""},null,null,null,null,null,null,{"$f":"IF(OFFSET(DE104_5B!$V$34,ROWS($W$34:W138)-1,COLUMNS($W$34:W138)-1)<>\"\",OFFSET(DE104_5B!$V$34,ROWS($W$34:W138)-1,COLUMNS($W$34:W138)-1),\"\")","v":""}]
[null,null,{"$f":"IF(OFFSET(DE104_5B!$A$33,ROWS($A$33:A139)-1,COLUMNS($A$33:A139)-1)<>\"\",OFFSET(DE104_5B!$A$33,ROWS($A$33:A139)-1,COLUMNS($A$33:A139)-1),\"\")","v":""},null,null,null,{"$f":"IF(OFFSET(DE104_5B!$B$33,ROWS($B$33:B139)-1,COLUMNS($B$33:B139)-1)<>\"\",OFFSET(DE104_5B!$B$33,ROWS($B$33:B139)-1,COLUMNS($B$33:B139)-1),\"\")","v":""},null,null,null,null,null,null,null,null,null,null,null,null,null,null,null,null,null,null,{"$f":"IF(OFFSET(DE104_5B!$C$33,ROWS($C$33:C139)-1,COLUMNS($C$33:C139)-1)<>\"\",OFFSET(DE104_5B!$C$33,ROWS($C$33:C139)-1,COLUMNS($C$33:C139)-1),\"\")","v":""},null,null,null,null,null,null,null,null,null,null,null,null,null,null,null,null,null,null,null,null,null,null,null,{"$f":"IF(OFFSET(DE104_5B!$D$33,ROWS($D$33:D139)-1,COLUMNS($D$33:D139)-1)<>\"\",OFFSET(DE104_5B!$D$33,ROWS($D$33:D139)-1,COLUMNS($D$33:D139)-1),\"\")","v":""},null,null,null,null,{"$f":"IF(OFFSET(DE104_5B!$E$33,ROWS($E$33:E139)-1,COLUMNS($E$33:E139)-1)<>\"\",OFFSET(DE104_5B!$E$33,ROWS($E$33:E139)-1,COLUMNS($E$33:E139)-1),\"\")","v":""},null,null,null,null,null,{"$f":"IF(OFFSET(DE104_5B!$F$33,ROWS($F$33:F139)-1,COLUMNS($F$33:F139)-1)<>\"\",OFFSET(DE104_5B!$F$33,ROWS($F$33:F139)-1,COLUMNS($F$33:F139)-1),\"\")","v":""},null,null,null,null,null,null,null,{"$f":"IF(OFFSET(DE104_5B!$G$33,ROWS($G$33:G139)-1,COLUMNS($G$33:G139)-1)<>\"\",OFFSET(DE104_5B!$G$33,ROWS($G$33:G139)-1,COLUMNS($G$33:G139)-1),\"\")","v":""}]
[null,null,null,null,null,null,null,null,null,null,null,null,null,null,null,null,null,null,null,null,null,null,null,null,null,null,null,null,null,null,null,null,null,null,null,null,null,null,null,null,null,null,null,null,null,null,null,null,null,null,null,null,null,null,null,null,null,null,null,null,null,null,null,null,null,null,null,null,null,null,null,null,null,null,null,null,null,null,null,null,null,{"$f":"IF(OFFSET(DE104_5B!$H$34,ROWS($H$34:H140)-1,COLUMNS($H$34:H140)-1)<>\"\",OFFSET(DE104_5B!$H$34,ROWS($H$34:H140)-1,COLUMNS($H$34:H140)-1),\"\")","v":""},null,null,null,null,null,{"$f":"IF(OFFSET(DE104_5B!$I$34,ROWS($I$34:I140)-1,COLUMNS($I$34:I140)-1)<>\"\",OFFSET(DE104_5B!$I$34,ROWS($I$34:I140)-1,COLUMNS($I$34:I140)-1),\"\")","v":""},null,null,null,{"$f":"IF(OFFSET(DE104_5B!$J$34,ROWS($J$34:J140)-1,COLUMNS($J$34:J140)-1)<>\"\",OFFSET(DE104_5B!$J$34,ROWS($J$34:J140)-1,COLUMNS($J$34:J140)-1),\"\")","v":""},null,null,null,{"$f":"IF(OFFSET(DE104_5B!$K$34,ROWS($K$34:K140)-1,COLUMNS($K$34:K140)-1)<>\"\",OFFSET(DE104_5B!$K$34,ROWS($K$34:K140)-1,COLUMNS($K$34:K140)-1),\"\")","v":""},null,null,null,null,{"$f":"IF(OFFSET(DE104_5B!$L$34,ROWS($L$34:L140)-1,COLUMNS($L$34:L140)-1)<>\"\",OFFSET(DE104_5B!$L$34,ROWS($L$34:L140)-1,COLUMNS($L$34:L140)-1),\"\")","v":""},null,null,null,null,null,null,{"$f":"IF(OFFSET(DE104_5B!$M$34,ROWS($M$34:M140)-1,COLUMNS($M$34:M140)-1)<>\"\",OFFSET(DE104_5B!$M$34,ROWS($M$34:M140)-1,COLUMNS($M$34:M140)-1),\"\")","v":""},null,null,null,null,null,{"$f":"IF(OFFSET(DE104_5B!$O$34,ROWS($O$34:O140)-1,COLUMNS($O$34:O140)-1)<>\"\",OFFSET(DE104_5B!$O$34,ROWS($O$34:O140)-1,COLUMNS($O$34:O140)-1),\"\")","v":""},null,null,null,null,null,{"$f":"IF(OFFSET(DE104_5B!$P$34,ROWS($P$34:P140)-1,COLUMNS($P$34:P140)-1)<>\"\",OFFSET(DE104_5B!$P$34,ROWS($P$34:P140)-1,COLUMNS($P$34:P140)-1),\"\")","v":""},null,null,null,null,{"$f":"IF(OFFSET(DE104_5B!$Q$34,ROWS($Q$34:Q140)-1,COLUMNS($Q$34:Q140)-1)<>\"\",OFFSET(DE104_5B!$Q$34,ROWS($Q$34:Q140)-1,COLUMNS($Q$34:Q140)-1),\"\")","v":""},null,null,null,null,null,null,null,null,null,{"$f":"IF(OFFSET(DE104_5B!$R$34,ROWS($S$34:S140)-1,COLUMNS($S$34:S140)-1)<>\"\",OFFSET(DE104_5B!$R$34,ROWS($S$34:S140)-1,COLUMNS($S$34:S140)-1),\"\")","v":""},null,null,null,null,null,null,null,{"$f":"IF(OFFSET(DE104_5B!$S$34,ROWS($T$34:T140)-1,COLUMNS($T$34:T140)-1)<>\"\",OFFSET(DE104_5B!$S$34,ROWS($T$34:T140)-1,COLUMNS($T$34:T140)-1),\"\")","v":""},null,null,null,null,null,null,null,{"$f":"IF(OFFSET(DE104_5B!$T$34,ROWS($U$34:U140)-1,COLUMNS($U$34:U140)-1)<>\"\",OFFSET(DE104_5B!$T$34,ROWS($U$34:U140)-1,COLUMNS($U$34:U140)-1),\"\")","v":""},null,null,null,null,null,null,null,{"$f":"IF(OFFSET(DE104_5B!$U$34,ROWS($V$34:V140)-1,COLUMNS($V$34:V140)-1)<>\"\",OFFSET(DE104_5B!$U$34,ROWS($V$34:V140)-1,COLUMNS($V$34:V140)-1),\"\")","v":""},null,null,null,null,null,null,{"$f":"IF(OFFSET(DE104_5B!$V$34,ROWS($W$34:W140)-1,COLUMNS($W$34:W140)-1)<>\"\",OFFSET(DE104_5B!$V$34,ROWS($W$34:W140)-1,COLUMNS($W$34:W140)-1),\"\")","v":""}]
[null,null,{"$f":"IF(OFFSET(DE104_5B!$A$33,ROWS($A$33:A141)-1,COLUMNS($A$33:A141)-1)<>\"\",OFFSET(DE104_5B!$A$33,ROWS($A$33:A141)-1,COLUMNS($A$33:A141)-1),\"\")","v":""},null,null,null,{"$f":"IF(OFFSET(DE104_5B!$B$33,ROWS($B$33:B141)-1,COLUMNS($B$33:B141)-1)<>\"\",OFFSET(DE104_5B!$B$33,ROWS($B$33:B141)-1,COLUMNS($B$33:B141)-1),\"\")","v":""},null,null,null,null,null,null,null,null,null,null,null,null,null,null,null,null,null,null,{"$f":"IF(OFFSET(DE104_5B!$C$33,ROWS($C$33:C141)-1,COLUMNS($C$33:C141)-1)<>\"\",OFFSET(DE104_5B!$C$33,ROWS($C$33:C141)-1,COLUMNS($C$33:C141)-1),\"\")","v":""},null,null,null,null,null,null,null,null,null,null,null,null,null,null,null,null,null,null,null,null,null,null,null,{"$f":"IF(OFFSET(DE104_5B!$D$33,ROWS($D$33:D141)-1,COLUMNS($D$33:D141)-1)<>\"\",OFFSET(DE104_5B!$D$33,ROWS($D$33:D141)-1,COLUMNS($D$33:D141)-1),\"\")","v":""},null,null,null,null,{"$f":"IF(OFFSET(DE104_5B!$E$33,ROWS($E$33:E141)-1,COLUMNS($E$33:E141)-1)<>\"\",OFFSET(DE104_5B!$E$33,ROWS($E$33:E141)-1,COLUMNS($E$33:E141)-1),\"\")","v":""},null,null,null,null,null,{"$f":"IF(OFFSET(DE104_5B!$F$33,ROWS($F$33:F141)-1,COLUMNS($F$33:F141)-1)<>\"\",OFFSET(DE104_5B!$F$33,ROWS($F$33:F141)-1,COLUMNS($F$33:F141)-1),\"\")","v":""},null,null,null,null,null,null,null,{"$f":"IF(OFFSET(DE104_5B!$G$33,ROWS($G$33:G141)-1,COLUMNS($G$33:G141)-1)<>\"\",OFFSET(DE104_5B!$G$33,ROWS($G$33:G141)-1,COLUMNS($G$33:G141)-1),\"\")","v":""}]
[null,null,null,null,null,null,null,null,null,null,null,null,null,null,null,null,null,null,null,null,null,null,null,null,null,null,null,null,null,null,null,null,null,null,null,null,null,null,null,null,null,null,null,null,null,null,null,null,null,null,null,null,null,null,null,null,null,null,null,null,null,null,null,null,null,null,null,null,null,null,null,null,null,null,null,null,null,null,null,null,null,{"$f":"IF(OFFSET(DE104_5B!$H$34,ROWS($H$34:H142)-1,COLUMNS($H$34:H142)-1)<>\"\",OFFSET(DE104_5B!$H$34,ROWS($H$34:H142)-1,COLUMNS($H$34:H142)-1),\"\")","v":""},null,null,null,null,null,{"$f":"IF(OFFSET(DE104_5B!$I$34,ROWS($I$34:I142)-1,COLUMNS($I$34:I142)-1)<>\"\",OFFSET(DE104_5B!$I$34,ROWS($I$34:I142)-1,COLUMNS($I$34:I142)-1),\"\")","v":""},null,null,null,{"$f":"IF(OFFSET(DE104_5B!$J$34,ROWS($J$34:J142)-1,COLUMNS($J$34:J142)-1)<>\"\",OFFSET(DE104_5B!$J$34,ROWS($J$34:J142)-1,COLUMNS($J$34:J142)-1),\"\")","v":""},null,null,null,{"$f":"IF(OFFSET(DE104_5B!$K$34,ROWS($K$34:K142)-1,COLUMNS($K$34:K142)-1)<>\"\",OFFSET(DE104_5B!$K$34,ROWS($K$34:K142)-1,COLUMNS($K$34:K142)-1),\"\")","v":""},null,null,null,null,{"$f":"IF(OFFSET(DE104_5B!$L$34,ROWS($L$34:L142)-1,COLUMNS($L$34:L142)-1)<>\"\",OFFSET(DE104_5B!$L$34,ROWS($L$34:L142)-1,COLUMNS($L$34:L142)-1),\"\")","v":""},null,null,null,null,null,null,{"$f":"IF(OFFSET(DE104_5B!$M$34,ROWS($M$34:M142)-1,COLUMNS($M$34:M142)-1)<>\"\",OFFSET(DE104_5B!$M$34,ROWS($M$34:M142)-1,COLUMNS($M$34:M142)-1),\"\")","v":""},null,null,null,null,null,{"$f":"IF(OFFSET(DE104_5B!$O$34,ROWS($O$34:O142)-1,COLUMNS($O$34:O142)-1)<>\"\",OFFSET(DE104_5B!$O$34,ROWS($O$34:O142)-1,COLUMNS($O$34:O142)-1),\"\")","v":""},null,null,null,null,null,{"$f":"IF(OFFSET(DE104_5B!$P$34,ROWS($P$34:P142)-1,COLUMNS($P$34:P142)-1)<>\"\",OFFSET(DE104_5B!$P$34,ROWS($P$34:P142)-1,COLUMNS($P$34:P142)-1),\"\")","v":""},null,null,null,null,{"$f":"IF(OFFSET(DE104_5B!$Q$34,ROWS($Q$34:Q142)-1,COLUMNS($Q$34:Q142)-1)<>\"\",OFFSET(DE104_5B!$Q$34,ROWS($Q$34:Q142)-1,COLUMNS($Q$34:Q142)-1),\"\")","v":""},null,null,null,null,null,null,null,null,null,{"$f":"IF(OFFSET(DE104_5B!$R$34,ROWS($S$34:S142)-1,COLUMNS($S$34:S142)-1)<>\"\",OFFSET(DE104_5B!$R$34,ROWS($S$34:S142)-1,COLUMNS($S$34:S142)-1),\"\")","v":""},null,null,null,null,null,null,null,{"$f":"IF(OFFSET(DE104_5B!$S$34,ROWS($T$34:T142)-1,COLUMNS($T$34:T142)-1)<>\"\",OFFSET(DE104_5B!$S$34,ROWS($T$34:T142)-1,COLUMNS($T$34:T142)-1),\"\")","v":""},null,null,null,null,null,null,null,{"$f":"IF(OFFSET(DE104_5B!$T$34,ROWS($U$34:U142)-1,COLUMNS($U$34:U142)-1)<>\"\",OFFSET(DE104_5B!$T$34,ROWS($U$34:U142)-1,COLUMNS($U$34:U142)-1),\"\")","v":""},null,null,null,null,null,null,null,{"$f":"IF(OFFSET(DE104_5B!$U$34,ROWS($V$34:V142)-1,COLUMNS($V$34:V142)-1)<>\"\",OFFSET(DE104_5B!$U$34,ROWS($V$34:V142)-1,COLUMNS($V$34:V142)-1),\"\")","v":""},null,null,null,null,null,null,{"$f":"IF(OFFSET(DE104_5B!$V$34,ROWS($W$34:W142)-1,COLUMNS($W$34:W142)-1)<>\"\",OFFSET(DE104_5B!$V$34,ROWS($W$34:W142)-1,COLUMNS($W$34:W142)-1),\"\")","v":""}]
[null,null,{"$f":"IF(OFFSET(DE104_5B!$A$33,ROWS($A$33:A143)-1,COLUMNS($A$33:A143)-1)<>\"\",OFFSET(DE104_5B!$A$33,ROWS($A$33:A143)-1,COLUMNS($A$33:A143)-1),\"\")","v":""},null,null,null,{"$f":"IF(OFFSET(DE104_5B!$B$33,ROWS($B$33:B143)-1,COLUMNS($B$33:B143)-1)<>\"\",OFFSET(DE104_5B!$B$33,ROWS($B$33:B143)-1,COLUMNS($B$33:B143)-1),\"\")","v":""},null,null,null,null,null,null,null,null,null,null,null,null,null,null,null,null,null,null,{"$f":"IF(OFFSET(DE104_5B!$C$33,ROWS($C$33:C143)-1,COLUMNS($C$33:C143)-1)<>\"\",OFFSET(DE104_5B!$C$33,ROWS($C$33:C143)-1,COLUMNS($C$33:C143)-1),\"\")","v":""},null,null,null,null,null,null,null,null,null,null,null,null,null,null,null,null,null,null,null,null,null,null,null,{"$f":"IF(OFFSET(DE104_5B!$D$33,ROWS($D$33:D143)-1,COLUMNS($D$33:D143)-1)<>\"\",OFFSET(DE104_5B!$D$33,ROWS($D$33:D143)-1,COLUMNS($D$33:D143)-1),\"\")","v":""},null,null,null,null,{"$f":"IF(OFFSET(DE104_5B!$E$33,ROWS($E$33:E143)-1,COLUMNS($E$33:E143)-1)<>\"\",OFFSET(DE104_5B!$E$33,ROWS($E$33:E143)-1,COLUMNS($E$33:E143)-1),\"\")","v":""},null,null,null,null,null,{"$f":"IF(OFFSET(DE104_5B!$F$33,ROWS($F$33:F143)-1,COLUMNS($F$33:F143)-1)<>\"\",OFFSET(DE104_5B!$F$33,ROWS($F$33:F143)-1,COLUMNS($F$33:F143)-1),\"\")","v":""},null,null,null,null,null,null,null,{"$f":"IF(OFFSET(DE104_5B!$G$33,ROWS($G$33:G143)-1,COLUMNS($G$33:G143)-1)<>\"\",OFFSET(DE104_5B!$G$33,ROWS($G$33:G143)-1,COLUMNS($G$33:G143)-1),\"\")","v":""}]
[null,null,null,null,null,null,null,null,null,null,null,null,null,null,null,null,null,null,null,null,null,null,null,null,null,null,null,null,null,null,null,null,null,null,null,null,null,null,null,null,null,null,null,null,null,null,null,null,null,null,null,null,null,null,null,null,null,null,null,null,null,null,null,null,null,null,null,null,null,null,null,null,null,null,null,null,null,null,null,null,null,{"$f":"IF(OFFSET(DE104_5B!$H$34,ROWS($H$34:H144)-1,COLUMNS($H$34:H144)-1)<>\"\",OFFSET(DE104_5B!$H$34,ROWS($H$34:H144)-1,COLUMNS($H$34:H144)-1),\"\")","v":""},null,null,null,null,null,{"$f":"IF(OFFSET(DE104_5B!$I$34,ROWS($I$34:I144)-1,COLUMNS($I$34:I144)-1)<>\"\",OFFSET(DE104_5B!$I$34,ROWS($I$34:I144)-1,COLUMNS($I$34:I144)-1),\"\")","v":""},null,null,null,{"$f":"IF(OFFSET(DE104_5B!$J$34,ROWS($J$34:J144)-1,COLUMNS($J$34:J144)-1)<>\"\",OFFSET(DE104_5B!$J$34,ROWS($J$34:J144)-1,COLUMNS($J$34:J144)-1),\"\")","v":""},null,null,null,{"$f":"IF(OFFSET(DE104_5B!$K$34,ROWS($K$34:K144)-1,COLUMNS($K$34:K144)-1)<>\"\",OFFSET(DE104_5B!$K$34,ROWS($K$34:K144)-1,COLUMNS($K$34:K144)-1),\"\")","v":""},null,null,null,null,{"$f":"IF(OFFSET(DE104_5B!$L$34,ROWS($L$34:L144)-1,COLUMNS($L$34:L144)-1)<>\"\",OFFSET(DE104_5B!$L$34,ROWS($L$34:L144)-1,COLUMNS($L$34:L144)-1),\"\")","v":""},null,null,null,null,null,null,{"$f":"IF(OFFSET(DE104_5B!$M$34,ROWS($M$34:M144)-1,COLUMNS($M$34:M144)-1)<>\"\",OFFSET(DE104_5B!$M$34,ROWS($M$34:M144)-1,COLUMNS($M$34:M144)-1),\"\")","v":""},null,null,null,null,null,{"$f":"IF(OFFSET(DE104_5B!$O$34,ROWS($O$34:O144)-1,COLUMNS($O$34:O144)-1)<>\"\",OFFSET(DE104_5B!$O$34,ROWS($O$34:O144)-1,COLUMNS($O$34:O144)-1),\"\")","v":""},null,null,null,null,null,{"$f":"IF(OFFSET(DE104_5B!$P$34,ROWS($P$34:P144)-1,COLUMNS($P$34:P144)-1)<>\"\",OFFSET(DE104_5B!$P$34,ROWS($P$34:P144)-1,COLUMNS($P$34:P144)-1),\"\")","v":""},null,null,null,null,{"$f":"IF(OFFSET(DE104_5B!$Q$34,ROWS($Q$34:Q144)-1,COLUMNS($Q$34:Q144)-1)<>\"\",OFFSET(DE104_5B!$Q$34,ROWS($Q$34:Q144)-1,COLUMNS($Q$34:Q144)-1),\"\")","v":""},null,null,null,null,null,null,null,null,null,{"$f":"IF(OFFSET(DE104_5B!$R$34,ROWS($S$34:S144)-1,COLUMNS($S$34:S144)-1)<>\"\",OFFSET(DE104_5B!$R$34,ROWS($S$34:S144)-1,COLUMNS($S$34:S144)-1),\"\")","v":""},null,null,null,null,null,null,null,{"$f":"IF(OFFSET(DE104_5B!$S$34,ROWS($T$34:T144)-1,COLUMNS($T$34:T144)-1)<>\"\",OFFSET(DE104_5B!$S$34,ROWS($T$34:T144)-1,COLUMNS($T$34:T144)-1),\"\")","v":""},null,null,null,null,null,null,null,{"$f":"IF(OFFSET(DE104_5B!$T$34,ROWS($U$34:U144)-1,COLUMNS($U$34:U144)-1)<>\"\",OFFSET(DE104_5B!$T$34,ROWS($U$34:U144)-1,COLUMNS($U$34:U144)-1),\"\")","v":""},null,null,null,null,null,null,null,{"$f":"IF(OFFSET(DE104_5B!$U$34,ROWS($V$34:V144)-1,COLUMNS($V$34:V144)-1)<>\"\",OFFSET(DE104_5B!$U$34,ROWS($V$34:V144)-1,COLUMNS($V$34:V144)-1),\"\")","v":""},null,null,null,null,null,null,{"$f":"IF(OFFSET(DE104_5B!$V$34,ROWS($W$34:W144)-1,COLUMNS($W$34:W144)-1)<>\"\",OFFSET(DE104_5B!$V$34,ROWS($W$34:W144)-1,COLUMNS($W$34:W144)-1),\"\")","v":""}]
[null,null,{"$f":"IF(OFFSET(DE104_5B!$A$33,ROWS($A$33:A145)-1,COLUMNS($A$33:A145)-1)<>\"\",OFFSET(DE104_5B!$A$33,ROWS($A$33:A145)-1,COLUMNS($A$33:A145)-1),\"\")","v":""},null,null,null,{"$f":"IF(OFFSET(DE104_5B!$B$33,ROWS($B$33:B145)-1,COLUMNS($B$33:B145)-1)<>\"\",OFFSET(DE104_5B!$B$33,ROWS($B$33:B145)-1,COLUMNS($B$33:B145)-1),\"\")","v":""},null,null,null,null,null,null,null,null,null,null,null,null,null,null,null,null,null,null,{"$f":"IF(OFFSET(DE104_5B!$C$33,ROWS($C$33:C145)-1,COLUMNS($C$33:C145)-1)<>\"\",OFFSET(DE104_5B!$C$33,ROWS($C$33:C145)-1,COLUMNS($C$33:C145)-1),\"\")","v":""},null,null,null,null,null,null,null,null,null,null,null,null,null,null,null,null,null,null,null,null,null,null,null,{"$f":"IF(OFFSET(DE104_5B!$D$33,ROWS($D$33:D145)-1,COLUMNS($D$33:D145)-1)<>\"\",OFFSET(DE104_5B!$D$33,ROWS($D$33:D145)-1,COLUMNS($D$33:D145)-1),\"\")","v":""},null,null,null,null,{"$f":"IF(OFFSET(DE104_5B!$E$33,ROWS($E$33:E145)-1,COLUMNS($E$33:E145)-1)<>\"\",OFFSET(DE104_5B!$E$33,ROWS($E$33:E145)-1,COLUMNS($E$33:E145)-1),\"\")","v":""},null,null,null,null,null,{"$f":"IF(OFFSET(DE104_5B!$F$33,ROWS($F$33:F145)-1,COLUMNS($F$33:F145)-1)<>\"\",OFFSET(DE104_5B!$F$33,ROWS($F$33:F145)-1,COLUMNS($F$33:F145)-1),\"\")","v":""},null,null,null,null,null,null,null,{"$f":"IF(OFFSET(DE104_5B!$G$33,ROWS($G$33:G145)-1,COLUMNS($G$33:G145)-1)<>\"\",OFFSET(DE104_5B!$G$33,ROWS($G$33:G145)-1,COLUMNS($G$33:G145)-1),\"\")","v":""}]
[null,null,null,null,null,null,null,null,null,null,null,null,null,null,null,null,null,null,null,null,null,null,null,null,null,null,null,null,null,null,null,null,null,null,null,null,null,null,null,null,null,null,null,null,null,null,null,null,null,null,null,null,null,null,null,null,null,null,null,null,null,null,null,null,null,null,null,null,null,null,null,null,null,null,null,null,null,null,null,null,null,{"$f":"IF(OFFSET(DE104_5B!$H$34,ROWS($H$34:H146)-1,COLUMNS($H$34:H146)-1)<>\"\",OFFSET(DE104_5B!$H$34,ROWS($H$34:H146)-1,COLUMNS($H$34:H146)-1),\"\")","v":""},null,null,null,null,null,{"$f":"IF(OFFSET(DE104_5B!$I$34,ROWS($I$34:I146)-1,COLUMNS($I$34:I146)-1)<>\"\",OFFSET(DE104_5B!$I$34,ROWS($I$34:I146)-1,COLUMNS($I$34:I146)-1),\"\")","v":""},null,null,null,{"$f":"IF(OFFSET(DE104_5B!$J$34,ROWS($J$34:J146)-1,COLUMNS($J$34:J146)-1)<>\"\",OFFSET(DE104_5B!$J$34,ROWS($J$34:J146)-1,COLUMNS($J$34:J146)-1),\"\")","v":""},null,null,null,{"$f":"IF(OFFSET(DE104_5B!$K$34,ROWS($K$34:K146)-1,COLUMNS($K$34:K146)-1)<>\"\",OFFSET(DE104_5B!$K$34,ROWS($K$34:K146)-1,COLUMNS($K$34:K146)-1),\"\")","v":""},null,null,null,null,{"$f":"IF(OFFSET(DE104_5B!$L$34,ROWS($L$34:L146)-1,COLUMNS($L$34:L146)-1)<>\"\",OFFSET(DE104_5B!$L$34,ROWS($L$34:L146)-1,COLUMNS($L$34:L146)-1),\"\")","v":""},null,null,null,null,null,null,{"$f":"IF(OFFSET(DE104_5B!$M$34,ROWS($M$34:M146)-1,COLUMNS($M$34:M146)-1)<>\"\",OFFSET(DE104_5B!$M$34,ROWS($M$34:M146)-1,COLUMNS($M$34:M146)-1),\"\")","v":""},null,null,null,null,null,{"$f":"IF(OFFSET(DE104_5B!$O$34,ROWS($O$34:O146)-1,COLUMNS($O$34:O146)-1)<>\"\",OFFSET(DE104_5B!$O$34,ROWS($O$34:O146)-1,COLUMNS($O$34:O146)-1),\"\")","v":""},null,null,null,null,null,{"$f":"IF(OFFSET(DE104_5B!$P$34,ROWS($P$34:P146)-1,COLUMNS($P$34:P146)-1)<>\"\",OFFSET(DE104_5B!$P$34,ROWS($P$34:P146)-1,COLUMNS($P$34:P146)-1),\"\")","v":""},null,null,null,null,{"$f":"IF(OFFSET(DE104_5B!$Q$34,ROWS($Q$34:Q146)-1,COLUMNS($Q$34:Q146)-1)<>\"\",OFFSET(DE104_5B!$Q$34,ROWS($Q$34:Q146)-1,COLUMNS($Q$34:Q146)-1),\"\")","v":""},null,null,null,null,null,null,null,null,null,{"$f":"IF(OFFSET(DE104_5B!$R$34,ROWS($S$34:S146)-1,COLUMNS($S$34:S146)-1)<>\"\",OFFSET(DE104_5B!$R$34,ROWS($S$34:S146)-1,COLUMNS($S$34:S146)-1),\"\")","v":""},null,null,null,null,null,null,null,{"$f":"IF(OFFSET(DE104_5B!$S$34,ROWS($T$34:T146)-1,COLUMNS($T$34:T146)-1)<>\"\",OFFSET(DE104_5B!$S$34,ROWS($T$34:T146)-1,COLUMNS($T$34:T146)-1),\"\")","v":""},null,null,null,null,null,null,null,{"$f":"IF(OFFSET(DE104_5B!$T$34,ROWS($U$34:U146)-1,COLUMNS($U$34:U146)-1)<>\"\",OFFSET(DE104_5B!$T$34,ROWS($U$34:U146)-1,COLUMNS($U$34:U146)-1),\"\")","v":""},null,null,null,null,null,null,null,{"$f":"IF(OFFSET(DE104_5B!$U$34,ROWS($V$34:V146)-1,COLUMNS($V$34:V146)-1)<>\"\",OFFSET(DE104_5B!$U$34,ROWS($V$34:V146)-1,COLUMNS($V$34:V146)-1),\"\")","v":""},null,null,null,null,null,null,{"$f":"IF(OFFSET(DE104_5B!$V$34,ROWS($W$34:W146)-1,COLUMNS($W$34:W146)-1)<>\"\",OFFSET(DE104_5B!$V$34,ROWS($W$34:W146)-1,COLUMNS($W$34:W146)-1),\"\")","v":""}]
[null,null,{"$f":"IF(OFFSET(DE104_5B!$A$33,ROWS($A$33:A147)-1,COLUMNS($A$33:A147)-1)<>\"\",OFFSET(DE104_5B!$A$33,ROWS($A$33:A147)-1,COLUMNS($A$33:A147)-1),\"\")","v":""},null,null,null,{"$f":"IF(OFFSET(DE104_5B!$B$33,ROWS($B$33:B147)-1,COLUMNS($B$33:B147)-1)<>\"\",OFFSET(DE104_5B!$B$33,ROWS($B$33:B147)-1,COLUMNS($B$33:B147)-1),\"\")","v":""},null,null,null,null,null,null,null,null,null,null,null,null,null,null,null,null,null,null,{"$f":"IF(OFFSET(DE104_5B!$C$33,ROWS($C$33:C147)-1,COLUMNS($C$33:C147)-1)<>\"\",OFFSET(DE104_5B!$C$33,ROWS($C$33:C147)-1,COLUMNS($C$33:C147)-1),\"\")","v":""},null,null,null,null,null,null,null,null,null,null,null,null,null,null,null,null,null,null,null,null,null,null,null,{"$f":"IF(OFFSET(DE104_5B!$D$33,ROWS($D$33:D147)-1,COLUMNS($D$33:D147)-1)<>\"\",OFFSET(DE104_5B!$D$33,ROWS($D$33:D147)-1,COLUMNS($D$33:D147)-1),\"\")","v":""},null,null,null,null,{"$f":"IF(OFFSET(DE104_5B!$E$33,ROWS($E$33:E147)-1,COLUMNS($E$33:E147)-1)<>\"\",OFFSET(DE104_5B!$E$33,ROWS($E$33:E147)-1,COLUMNS($E$33:E147)-1),\"\")","v":""},null,null,null,null,null,{"$f":"IF(OFFSET(DE104_5B!$F$33,ROWS($F$33:F147)-1,COLUMNS($F$33:F147)-1)<>\"\",OFFSET(DE104_5B!$F$33,ROWS($F$33:F147)-1,COLUMNS($F$33:F147)-1),\"\")","v":""},null,null,null,null,null,null,null,{"$f":"IF(OFFSET(DE104_5B!$G$33,ROWS($G$33:G147)-1,COLUMNS($G$33:G147)-1)<>\"\",OFFSET(DE104_5B!$G$33,ROWS($G$33:G147)-1,COLUMNS($G$33:G147)-1),\"\")","v":""}]
[null,null,null,null,null,null,null,null,null,null,null,null,null,null,null,null,null,null,null,null,null,null,null,null,null,null,null,null,null,null,null,null,null,null,null,null,null,null,null,null,null,null,null,null,null,null,null,null,null,null,null,null,null,null,null,null,null,null,null,null,null,null,null,null,null,null,null,null,null,null,null,null,null,null,null,null,null,null,null,null,null,{"$f":"IF(OFFSET(DE104_5B!$H$34,ROWS($H$34:H148)-1,COLUMNS($H$34:H148)-1)<>\"\",OFFSET(DE104_5B!$H$34,ROWS($H$34:H148)-1,COLUMNS($H$34:H148)-1),\"\")","v":""},null,null,null,null,null,{"$f":"IF(OFFSET(DE104_5B!$I$34,ROWS($I$34:I148)-1,COLUMNS($I$34:I148)-1)<>\"\",OFFSET(DE104_5B!$I$34,ROWS($I$34:I148)-1,COLUMNS($I$34:I148)-1),\"\")","v":""},null,null,null,{"$f":"IF(OFFSET(DE104_5B!$J$34,ROWS($J$34:J148)-1,COLUMNS($J$34:J148)-1)<>\"\",OFFSET(DE104_5B!$J$34,ROWS($J$34:J148)-1,COLUMNS($J$34:J148)-1),\"\")","v":""},null,null,null,{"$f":"IF(OFFSET(DE104_5B!$K$34,ROWS($K$34:K148)-1,COLUMNS($K$34:K148)-1)<>\"\",OFFSET(DE104_5B!$K$34,ROWS($K$34:K148)-1,COLUMNS($K$34:K148)-1),\"\")","v":""},null,null,null,null,{"$f":"IF(OFFSET(DE104_5B!$L$34,ROWS($L$34:L148)-1,COLUMNS($L$34:L148)-1)<>\"\",OFFSET(DE104_5B!$L$34,ROWS($L$34:L148)-1,COLUMNS($L$34:L148)-1),\"\")","v":""},null,null,null,null,null,null,{"$f":"IF(OFFSET(DE104_5B!$M$34,ROWS($M$34:M148)-1,COLUMNS($M$34:M148)-1)<>\"\",OFFSET(DE104_5B!$M$34,ROWS($M$34:M148)-1,COLUMNS($M$34:M148)-1),\"\")","v":""},null,null,null,null,null,{"$f":"IF(OFFSET(DE104_5B!$O$34,ROWS($O$34:O148)-1,COLUMNS($O$34:O148)-1)<>\"\",OFFSET(DE104_5B!$O$34,ROWS($O$34:O148)-1,COLUMNS($O$34:O148)-1),\"\")","v":""},null,null,null,null,null,{"$f":"IF(OFFSET(DE104_5B!$P$34,ROWS($P$34:P148)-1,COLUMNS($P$34:P148)-1)<>\"\",OFFSET(DE104_5B!$P$34,ROWS($P$34:P148)-1,COLUMNS($P$34:P148)-1),\"\")","v":""},null,null,null,null,{"$f":"IF(OFFSET(DE104_5B!$Q$34,ROWS($Q$34:Q148)-1,COLUMNS($Q$34:Q148)-1)<>\"\",OFFSET(DE104_5B!$Q$34,ROWS($Q$34:Q148)-1,COLUMNS($Q$34:Q148)-1),\"\")","v":""},null,null,null,null,null,null,null,null,null,{"$f":"IF(OFFSET(DE104_5B!$R$34,ROWS($S$34:S148)-1,COLUMNS($S$34:S148)-1)<>\"\",OFFSET(DE104_5B!$R$34,ROWS($S$34:S148)-1,COLUMNS($S$34:S148)-1),\"\")","v":""},null,null,null,null,null,null,null,{"$f":"IF(OFFSET(DE104_5B!$S$34,ROWS($T$34:T148)-1,COLUMNS($T$34:T148)-1)<>\"\",OFFSET(DE104_5B!$S$34,ROWS($T$34:T148)-1,COLUMNS($T$34:T148)-1),\"\")","v":""},null,null,null,null,null,null,null,{"$f":"IF(OFFSET(DE104_5B!$T$34,ROWS($U$34:U148)-1,COLUMNS($U$34:U148)-1)<>\"\",OFFSET(DE104_5B!$T$34,ROWS($U$34:U148)-1,COLUMNS($U$34:U148)-1),\"\")","v":""},null,null,null,null,null,null,null,{"$f":"IF(OFFSET(DE104_5B!$U$34,ROWS($V$34:V148)-1,COLUMNS($V$34:V148)-1)<>\"\",OFFSET(DE104_5B!$U$34,ROWS($V$34:V148)-1,COLUMNS($V$34:V148)-1),\"\")","v":""},null,null,null,null,null,null,{"$f":"IF(OFFSET(DE104_5B!$V$34,ROWS($W$34:W148)-1,COLUMNS($W$34:W148)-1)<>\"\",OFFSET(DE104_5B!$V$34,ROWS($W$34:W148)-1,COLUMNS($W$34:W148)-1),\"\")","v":""}]
[null,null,{"$f":"IF(OFFSET(DE104_5B!$A$33,ROWS($A$33:A149)-1,COLUMNS($A$33:A149)-1)<>\"\",OFFSET(DE104_5B!$A$33,ROWS($A$33:A149)-1,COLUMNS($A$33:A149)-1),\"\")","v":""},null,null,null,{"$f":"IF(OFFSET(DE104_5B!$B$33,ROWS($B$33:B149)-1,COLUMNS($B$33:B149)-1)<>\"\",OFFSET(DE104_5B!$B$33,ROWS($B$33:B149)-1,COLUMNS($B$33:B149)-1),\"\")","v":""},null,null,null,null,null,null,null,null,null,null,null,null,null,null,null,null,null,null,{"$f":"IF(OFFSET(DE104_5B!$C$33,ROWS($C$33:C149)-1,COLUMNS($C$33:C149)-1)<>\"\",OFFSET(DE104_5B!$C$33,ROWS($C$33:C149)-1,COLUMNS($C$33:C149)-1),\"\")","v":""},null,null,null,null,null,null,null,null,null,null,null,null,null,null,null,null,null,null,null,null,null,null,null,{"$f":"IF(OFFSET(DE104_5B!$D$33,ROWS($D$33:D149)-1,COLUMNS($D$33:D149)-1)<>\"\",OFFSET(DE104_5B!$D$33,ROWS($D$33:D149)-1,COLUMNS($D$33:D149)-1),\"\")","v":""},null,null,null,null,{"$f":"IF(OFFSET(DE104_5B!$E$33,ROWS($E$33:E149)-1,COLUMNS($E$33:E149)-1)<>\"\",OFFSET(DE104_5B!$E$33,ROWS($E$33:E149)-1,COLUMNS($E$33:E149)-1),\"\")","v":""},null,null,null,null,null,{"$f":"IF(OFFSET(DE104_5B!$F$33,ROWS($F$33:F149)-1,COLUMNS($F$33:F149)-1)<>\"\",OFFSET(DE104_5B!$F$33,ROWS($F$33:F149)-1,COLUMNS($F$33:F149)-1),\"\")","v":""},null,null,null,null,null,null,null,{"$f":"IF(OFFSET(DE104_5B!$G$33,ROWS($G$33:G149)-1,COLUMNS($G$33:G149)-1)<>\"\",OFFSET(DE104_5B!$G$33,ROWS($G$33:G149)-1,COLUMNS($G$33:G149)-1),\"\")","v":""}]
[null,null,null,null,null,null,null,null,null,null,null,null,null,null,null,null,null,null,null,null,null,null,null,null,null,null,null,null,null,null,null,null,null,null,null,null,null,null,null,null,null,null,null,null,null,null,null,null,null,null,null,null,null,null,null,null,null,null,null,null,null,null,null,null,null,null,null,null,null,null,null,null,null,null,null,null,null,null,null,null,null,{"$f":"IF(OFFSET(DE104_5B!$H$34,ROWS($H$34:H150)-1,COLUMNS($H$34:H150)-1)<>\"\",OFFSET(DE104_5B!$H$34,ROWS($H$34:H150)-1,COLUMNS($H$34:H150)-1),\"\")","v":""},null,null,null,null,null,{"$f":"IF(OFFSET(DE104_5B!$I$34,ROWS($I$34:I150)-1,COLUMNS($I$34:I150)-1)<>\"\",OFFSET(DE104_5B!$I$34,ROWS($I$34:I150)-1,COLUMNS($I$34:I150)-1),\"\")","v":""},null,null,null,{"$f":"IF(OFFSET(DE104_5B!$J$34,ROWS($J$34:J150)-1,COLUMNS($J$34:J150)-1)<>\"\",OFFSET(DE104_5B!$J$34,ROWS($J$34:J150)-1,COLUMNS($J$34:J150)-1),\"\")","v":""},null,null,null,{"$f":"IF(OFFSET(DE104_5B!$K$34,ROWS($K$34:K150)-1,COLUMNS($K$34:K150)-1)<>\"\",OFFSET(DE104_5B!$K$34,ROWS($K$34:K150)-1,COLUMNS($K$34:K150)-1),\"\")","v":""},null,null,null,null,{"$f":"IF(OFFSET(DE104_5B!$L$34,ROWS($L$34:L150)-1,COLUMNS($L$34:L150)-1)<>\"\",OFFSET(DE104_5B!$L$34,ROWS($L$34:L150)-1,COLUMNS($L$34:L150)-1),\"\")","v":""},null,null,null,null,null,null,{"$f":"IF(OFFSET(DE104_5B!$M$34,ROWS($M$34:M150)-1,COLUMNS($M$34:M150)-1)<>\"\",OFFSET(DE104_5B!$M$34,ROWS($M$34:M150)-1,COLUMNS($M$34:M150)-1),\"\")","v":""},null,null,null,null,null,{"$f":"IF(OFFSET(DE104_5B!$O$34,ROWS($O$34:O150)-1,COLUMNS($O$34:O150)-1)<>\"\",OFFSET(DE104_5B!$O$34,ROWS($O$34:O150)-1,COLUMNS($O$34:O150)-1),\"\")","v":""},null,null,null,null,null,{"$f":"IF(OFFSET(DE104_5B!$P$34,ROWS($P$34:P150)-1,COLUMNS($P$34:P150)-1)<>\"\",OFFSET(DE104_5B!$P$34,ROWS($P$34:P150)-1,COLUMNS($P$34:P150)-1),\"\")","v":""},null,null,null,null,{"$f":"IF(OFFSET(DE104_5B!$Q$34,ROWS($Q$34:Q150)-1,COLUMNS($Q$34:Q150)-1)<>\"\",OFFSET(DE104_5B!$Q$34,ROWS($Q$34:Q150)-1,COLUMNS($Q$34:Q150)-1),\"\")","v":""},null,null,null,null,null,null,null,null,null,{"$f":"IF(OFFSET(DE104_5B!$R$34,ROWS($S$34:S150)-1,COLUMNS($S$34:S150)-1)<>\"\",OFFSET(DE104_5B!$R$34,ROWS($S$34:S150)-1,COLUMNS($S$34:S150)-1),\"\")","v":""},null,null,null,null,null,null,null,{"$f":"IF(OFFSET(DE104_5B!$S$34,ROWS($T$34:T150)-1,COLUMNS($T$34:T150)-1)<>\"\",OFFSET(DE104_5B!$S$34,ROWS($T$34:T150)-1,COLUMNS($T$34:T150)-1),\"\")","v":""},null,null,null,null,null,null,null,{"$f":"IF(OFFSET(DE104_5B!$T$34,ROWS($U$34:U150)-1,COLUMNS($U$34:U150)-1)<>\"\",OFFSET(DE104_5B!$T$34,ROWS($U$34:U150)-1,COLUMNS($U$34:U150)-1),\"\")","v":""},null,null,null,null,null,null,null,{"$f":"IF(OFFSET(DE104_5B!$U$34,ROWS($V$34:V150)-1,COLUMNS($V$34:V150)-1)<>\"\",OFFSET(DE104_5B!$U$34,ROWS($V$34:V150)-1,COLUMNS($V$34:V150)-1),\"\")","v":""},null,null,null,null,null,null,{"$f":"IF(OFFSET(DE104_5B!$V$34,ROWS($W$34:W150)-1,COLUMNS($W$34:W150)-1)<>\"\",OFFSET(DE104_5B!$V$34,ROWS($W$34:W150)-1,COLUMNS($W$34:W150)-1),\"\")","v":""}]
[null,null,{"$f":"IF(OFFSET(DE104_5B!$A$33,ROWS($A$33:A151)-1,COLUMNS($A$33:A151)-1)<>\"\",OFFSET(DE104_5B!$A$33,ROWS($A$33:A151)-1,COLUMNS($A$33:A151)-1),\"\")","v":""},null,null,null,{"$f":"IF(OFFSET(DE104_5B!$B$33,ROWS($B$33:B151)-1,COLUMNS($B$33:B151)-1)<>\"\",OFFSET(DE104_5B!$B$33,ROWS($B$33:B151)-1,COLUMNS($B$33:B151)-1),\"\")","v":""},null,null,null,null,null,null,null,null,null,null,null,null,null,null,null,null,null,null,{"$f":"IF(OFFSET(DE104_5B!$C$33,ROWS($C$33:C151)-1,COLUMNS($C$33:C151)-1)<>\"\",OFFSET(DE104_5B!$C$33,ROWS($C$33:C151)-1,COLUMNS($C$33:C151)-1),\"\")","v":""},null,null,null,null,null,null,null,null,null,null,null,null,null,null,null,null,null,null,null,null,null,null,null,{"$f":"IF(OFFSET(DE104_5B!$D$33,ROWS($D$33:D151)-1,COLUMNS($D$33:D151)-1)<>\"\",OFFSET(DE104_5B!$D$33,ROWS($D$33:D151)-1,COLUMNS($D$33:D151)-1),\"\")","v":""},null,null,null,null,{"$f":"IF(OFFSET(DE104_5B!$E$33,ROWS($E$33:E151)-1,COLUMNS($E$33:E151)-1)<>\"\",OFFSET(DE104_5B!$E$33,ROWS($E$33:E151)-1,COLUMNS($E$33:E151)-1),\"\")","v":""},null,null,null,null,null,{"$f":"IF(OFFSET(DE104_5B!$F$33,ROWS($F$33:F151)-1,COLUMNS($F$33:F151)-1)<>\"\",OFFSET(DE104_5B!$F$33,ROWS($F$33:F151)-1,COLUMNS($F$33:F151)-1),\"\")","v":""},null,null,null,null,null,null,null,{"$f":"IF(OFFSET(DE104_5B!$G$33,ROWS($G$33:G151)-1,COLUMNS($G$33:G151)-1)<>\"\",OFFSET(DE104_5B!$G$33,ROWS($G$33:G151)-1,COLUMNS($G$33:G151)-1),\"\")","v":""}]
[null,null,null,null,null,null,null,null,null,null,null,null,null,null,null,null,null,null,null,null,null,null,null,null,null,null,null,null,null,null,null,null,null,null,null,null,null,null,null,null,null,null,null,null,null,null,null,null,null,null,null,null,null,null,null,null,null,null,null,null,null,null,null,null,null,null,null,null,null,null,null,null,null,null,null,null,null,null,null,null,null,{"$f":"IF(OFFSET(DE104_5B!$H$34,ROWS($H$34:H152)-1,COLUMNS($H$34:H152)-1)<>\"\",OFFSET(DE104_5B!$H$34,ROWS($H$34:H152)-1,COLUMNS($H$34:H152)-1),\"\")","v":""},null,null,null,null,null,{"$f":"IF(OFFSET(DE104_5B!$I$34,ROWS($I$34:I152)-1,COLUMNS($I$34:I152)-1)<>\"\",OFFSET(DE104_5B!$I$34,ROWS($I$34:I152)-1,COLUMNS($I$34:I152)-1),\"\")","v":""},null,null,null,{"$f":"IF(OFFSET(DE104_5B!$J$34,ROWS($J$34:J152)-1,COLUMNS($J$34:J152)-1)<>\"\",OFFSET(DE104_5B!$J$34,ROWS($J$34:J152)-1,COLUMNS($J$34:J152)-1),\"\")","v":""},null,null,null,{"$f":"IF(OFFSET(DE104_5B!$K$34,ROWS($K$34:K152)-1,COLUMNS($K$34:K152)-1)<>\"\",OFFSET(DE104_5B!$K$34,ROWS($K$34:K152)-1,COLUMNS($K$34:K152)-1),\"\")","v":""},null,null,null,null,{"$f":"IF(OFFSET(DE104_5B!$L$34,ROWS($L$34:L152)-1,COLUMNS($L$34:L152)-1)<>\"\",OFFSET(DE104_5B!$L$34,ROWS($L$34:L152)-1,COLUMNS($L$34:L152)-1),\"\")","v":""},null,null,null,null,null,null,{"$f":"IF(OFFSET(DE104_5B!$M$34,ROWS($M$34:M152)-1,COLUMNS($M$34:M152)-1)<>\"\",OFFSET(DE104_5B!$M$34,ROWS($M$34:M152)-1,COLUMNS($M$34:M152)-1),\"\")","v":""},null,null,null,null,null,{"$f":"IF(OFFSET(DE104_5B!$O$34,ROWS($O$34:O152)-1,COLUMNS($O$34:O152)-1)<>\"\",OFFSET(DE104_5B!$O$34,ROWS($O$34:O152)-1,COLUMNS($O$34:O152)-1),\"\")","v":""},null,null,null,null,null,{"$f":"IF(OFFSET(DE104_5B!$P$34,ROWS($P$34:P152)-1,COLUMNS($P$34:P152)-1)<>\"\",OFFSET(DE104_5B!$P$34,ROWS($P$34:P152)-1,COLUMNS($P$34:P152)-1),\"\")","v":""},null,null,null,null,{"$f":"IF(OFFSET(DE104_5B!$Q$34,ROWS($Q$34:Q152)-1,COLUMNS($Q$34:Q152)-1)<>\"\",OFFSET(DE104_5B!$Q$34,ROWS($Q$34:Q152)-1,COLUMNS($Q$34:Q152)-1),\"\")","v":""},null,null,null,null,null,null,null,null,null,{"$f":"IF(OFFSET(DE104_5B!$R$34,ROWS($S$34:S152)-1,COLUMNS($S$34:S152)-1)<>\"\",OFFSET(DE104_5B!$R$34,ROWS($S$34:S152)-1,COLUMNS($S$34:S152)-1),\"\")","v":""},null,null,null,null,null,null,null,{"$f":"IF(OFFSET(DE104_5B!$S$34,ROWS($T$34:T152)-1,COLUMNS($T$34:T152)-1)<>\"\",OFFSET(DE104_5B!$S$34,ROWS($T$34:T152)-1,COLUMNS($T$34:T152)-1),\"\")","v":""},null,null,null,null,null,null,null,{"$f":"IF(OFFSET(DE104_5B!$T$34,ROWS($U$34:U152)-1,COLUMNS($U$34:U152)-1)<>\"\",OFFSET(DE104_5B!$T$34,ROWS($U$34:U152)-1,COLUMNS($U$34:U152)-1),\"\")","v":""},null,null,null,null,null,null,null,{"$f":"IF(OFFSET(DE104_5B!$U$34,ROWS($V$34:V152)-1,COLUMNS($V$34:V152)-1)<>\"\",OFFSET(DE104_5B!$U$34,ROWS($V$34:V152)-1,COLUMNS($V$34:V152)-1),\"\")","v":""},null,null,null,null,null,null,{"$f":"IF(OFFSET(DE104_5B!$V$34,ROWS($W$34:W152)-1,COLUMNS($W$34:W152)-1)<>\"\",OFFSET(DE104_5B!$V$34,ROWS($W$34:W152)-1,COLUMNS($W$34:W152)-1),\"\")","v":""}]
[null,null,{"$f":"IF(OFFSET(DE104_5B!$A$33,ROWS($A$33:A153)-1,COLUMNS($A$33:A153)-1)<>\"\",OFFSET(DE104_5B!$A$33,ROWS($A$33:A153)-1,COLUMNS($A$33:A153)-1),\"\")","v":""},null,null,null,{"$f":"IF(OFFSET(DE104_5B!$B$33,ROWS($B$33:B153)-1,COLUMNS($B$33:B153)-1)<>\"\",OFFSET(DE104_5B!$B$33,ROWS($B$33:B153)-1,COLUMNS($B$33:B153)-1),\"\")","v":""},null,null,null,null,null,null,null,null,null,null,null,null,null,null,null,null,null,null,{"$f":"IF(OFFSET(DE104_5B!$C$33,ROWS($C$33:C153)-1,COLUMNS($C$33:C153)-1)<>\"\",OFFSET(DE104_5B!$C$33,ROWS($C$33:C153)-1,COLUMNS($C$33:C153)-1),\"\")","v":""},null,null,null,null,null,null,null,null,null,null,null,null,null,null,null,null,null,null,null,null,null,null,null,{"$f":"IF(OFFSET(DE104_5B!$D$33,ROWS($D$33:D153)-1,COLUMNS($D$33:D153)-1)<>\"\",OFFSET(DE104_5B!$D$33,ROWS($D$33:D153)-1,COLUMNS($D$33:D153)-1),\"\")","v":""},null,null,null,null,{"$f":"IF(OFFSET(DE104_5B!$E$33,ROWS($E$33:E153)-1,COLUMNS($E$33:E153)-1)<>\"\",OFFSET(DE104_5B!$E$33,ROWS($E$33:E153)-1,COLUMNS($E$33:E153)-1),\"\")","v":""},null,null,null,null,null,{"$f":"IF(OFFSET(DE104_5B!$F$33,ROWS($F$33:F153)-1,COLUMNS($F$33:F153)-1)<>\"\",OFFSET(DE104_5B!$F$33,ROWS($F$33:F153)-1,COLUMNS($F$33:F153)-1),\"\")","v":""},null,null,null,null,null,null,null,{"$f":"IF(OFFSET(DE104_5B!$G$33,ROWS($G$33:G153)-1,COLUMNS($G$33:G153)-1)<>\"\",OFFSET(DE104_5B!$G$33,ROWS($G$33:G153)-1,COLUMNS($G$33:G153)-1),\"\")","v":""}]
[null,null,null,null,null,null,null,null,null,null,null,null,null,null,null,null,null,null,null,null,null,null,null,null,null,null,null,null,null,null,null,null,null,null,null,null,null,null,null,null,null,null,null,null,null,null,null,null,null,null,null,null,null,null,null,null,null,null,null,null,null,null,null,null,null,null,null,null,null,null,null,null,null,null,null,null,null,null,null,null,null,{"$f":"IF(OFFSET(DE104_5B!$H$34,ROWS($H$34:H154)-1,COLUMNS($H$34:H154)-1)<>\"\",OFFSET(DE104_5B!$H$34,ROWS($H$34:H154)-1,COLUMNS($H$34:H154)-1),\"\")","v":""},null,null,null,null,null,{"$f":"IF(OFFSET(DE104_5B!$I$34,ROWS($I$34:I154)-1,COLUMNS($I$34:I154)-1)<>\"\",OFFSET(DE104_5B!$I$34,ROWS($I$34:I154)-1,COLUMNS($I$34:I154)-1),\"\")","v":""},null,null,null,{"$f":"IF(OFFSET(DE104_5B!$J$34,ROWS($J$34:J154)-1,COLUMNS($J$34:J154)-1)<>\"\",OFFSET(DE104_5B!$J$34,ROWS($J$34:J154)-1,COLUMNS($J$34:J154)-1),\"\")","v":""},null,null,null,{"$f":"IF(OFFSET(DE104_5B!$K$34,ROWS($K$34:K154)-1,COLUMNS($K$34:K154)-1)<>\"\",OFFSET(DE104_5B!$K$34,ROWS($K$34:K154)-1,COLUMNS($K$34:K154)-1),\"\")","v":""},null,null,null,null,{"$f":"IF(OFFSET(DE104_5B!$L$34,ROWS($L$34:L154)-1,COLUMNS($L$34:L154)-1)<>\"\",OFFSET(DE104_5B!$L$34,ROWS($L$34:L154)-1,COLUMNS($L$34:L154)-1),\"\")","v":""},null,null,null,null,null,null,{"$f":"IF(OFFSET(DE104_5B!$M$34,ROWS($M$34:M154)-1,COLUMNS($M$34:M154)-1)<>\"\",OFFSET(DE104_5B!$M$34,ROWS($M$34:M154)-1,COLUMNS($M$34:M154)-1),\"\")","v":""},null,null,null,null,null,{"$f":"IF(OFFSET(DE104_5B!$O$34,ROWS($O$34:O154)-1,COLUMNS($O$34:O154)-1)<>\"\",OFFSET(DE104_5B!$O$34,ROWS($O$34:O154)-1,COLUMNS($O$34:O154)-1),\"\")","v":""},null,null,null,null,null,{"$f":"IF(OFFSET(DE104_5B!$P$34,ROWS($P$34:P154)-1,COLUMNS($P$34:P154)-1)<>\"\",OFFSET(DE104_5B!$P$34,ROWS($P$34:P154)-1,COLUMNS($P$34:P154)-1),\"\")","v":""},null,null,null,null,{"$f":"IF(OFFSET(DE104_5B!$Q$34,ROWS($Q$34:Q154)-1,COLUMNS($Q$34:Q154)-1)<>\"\",OFFSET(DE104_5B!$Q$34,ROWS($Q$34:Q154)-1,COLUMNS($Q$34:Q154)-1),\"\")","v":""},null,null,null,null,null,null,null,null,null,{"$f":"IF(OFFSET(DE104_5B!$R$34,ROWS($S$34:S154)-1,COLUMNS($S$34:S154)-1)<>\"\",OFFSET(DE104_5B!$R$34,ROWS($S$34:S154)-1,COLUMNS($S$34:S154)-1),\"\")","v":""},null,null,null,null,null,null,null,{"$f":"IF(OFFSET(DE104_5B!$S$34,ROWS($T$34:T154)-1,COLUMNS($T$34:T154)-1)<>\"\",OFFSET(DE104_5B!$S$34,ROWS($T$34:T154)-1,COLUMNS($T$34:T154)-1),\"\")","v":""},null,null,null,null,null,null,null,{"$f":"IF(OFFSET(DE104_5B!$T$34,ROWS($U$34:U154)-1,COLUMNS($U$34:U154)-1)<>\"\",OFFSET(DE104_5B!$T$34,ROWS($U$34:U154)-1,COLUMNS($U$34:U154)-1),\"\")","v":""},null,null,null,null,null,null,null,{"$f":"IF(OFFSET(DE104_5B!$U$34,ROWS($V$34:V154)-1,COLUMNS($V$34:V154)-1)<>\"\",OFFSET(DE104_5B!$U$34,ROWS($V$34:V154)-1,COLUMNS($V$34:V154)-1),\"\")","v":""},null,null,null,null,null,null,{"$f":"IF(OFFSET(DE104_5B!$V$34,ROWS($W$34:W154)-1,COLUMNS($W$34:W154)-1)<>\"\",OFFSET(DE104_5B!$V$34,ROWS($W$34:W154)-1,COLUMNS($W$34:W154)-1),\"\")","v":""}]
[null,null,{"$f":"IF(OFFSET(DE104_5B!$A$33,ROWS($A$33:A155)-1,COLUMNS($A$33:A155)-1)<>\"\",OFFSET(DE104_5B!$A$33,ROWS($A$33:A155)-1,COLUMNS($A$33:A155)-1),\"\")","v":""},null,null,null,{"$f":"IF(OFFSET(DE104_5B!$B$33,ROWS($B$33:B155)-1,COLUMNS($B$33:B155)-1)<>\"\",OFFSET(DE104_5B!$B$33,ROWS($B$33:B155)-1,COLUMNS($B$33:B155)-1),\"\")","v":""},null,null,null,null,null,null,null,null,null,null,null,null,null,null,null,null,null,null,{"$f":"IF(OFFSET(DE104_5B!$C$33,ROWS($C$33:C155)-1,COLUMNS($C$33:C155)-1)<>\"\",OFFSET(DE104_5B!$C$33,ROWS($C$33:C155)-1,COLUMNS($C$33:C155)-1),\"\")","v":""},null,null,null,null,null,null,null,null,null,null,null,null,null,null,null,null,null,null,null,null,null,null,null,{"$f":"IF(OFFSET(DE104_5B!$D$33,ROWS($D$33:D155)-1,COLUMNS($D$33:D155)-1)<>\"\",OFFSET(DE104_5B!$D$33,ROWS($D$33:D155)-1,COLUMNS($D$33:D155)-1),\"\")","v":""},null,null,null,null,{"$f":"IF(OFFSET(DE104_5B!$E$33,ROWS($E$33:E155)-1,COLUMNS($E$33:E155)-1)<>\"\",OFFSET(DE104_5B!$E$33,ROWS($E$33:E155)-1,COLUMNS($E$33:E155)-1),\"\")","v":""},null,null,null,null,null,{"$f":"IF(OFFSET(DE104_5B!$F$33,ROWS($F$33:F155)-1,COLUMNS($F$33:F155)-1)<>\"\",OFFSET(DE104_5B!$F$33,ROWS($F$33:F155)-1,COLUMNS($F$33:F155)-1),\"\")","v":""},null,null,null,null,null,null,null,{"$f":"IF(OFFSET(DE104_5B!$G$33,ROWS($G$33:G155)-1,COLUMNS($G$33:G155)-1)<>\"\",OFFSET(DE104_5B!$G$33,ROWS($G$33:G155)-1,COLUMNS($G$33:G155)-1),\"\")","v":""}]
[null,null,null,null,null,null,null,null,null,null,null,null,null,null,null,null,null,null,null,null,null,null,null,null,null,null,null,null,null,null,null,null,null,null,null,null,null,null,null,null,null,null,null,null,null,null,null,null,null,null,null,null,null,null,null,null,null,null,null,null,null,null,null,null,null,null,null,null,null,null,null,null,null,null,null,null,null,null,null,null,null,{"$f":"IF(OFFSET(DE104_5B!$H$34,ROWS($H$34:H156)-1,COLUMNS($H$34:H156)-1)<>\"\",OFFSET(DE104_5B!$H$34,ROWS($H$34:H156)-1,COLUMNS($H$34:H156)-1),\"\")","v":""},null,null,null,null,null,{"$f":"IF(OFFSET(DE104_5B!$I$34,ROWS($I$34:I156)-1,COLUMNS($I$34:I156)-1)<>\"\",OFFSET(DE104_5B!$I$34,ROWS($I$34:I156)-1,COLUMNS($I$34:I156)-1),\"\")","v":""},null,null,null,{"$f":"IF(OFFSET(DE104_5B!$J$34,ROWS($J$34:J156)-1,COLUMNS($J$34:J156)-1)<>\"\",OFFSET(DE104_5B!$J$34,ROWS($J$34:J156)-1,COLUMNS($J$34:J156)-1),\"\")","v":""},null,null,null,{"$f":"IF(OFFSET(DE104_5B!$K$34,ROWS($K$34:K156)-1,COLUMNS($K$34:K156)-1)<>\"\",OFFSET(DE104_5B!$K$34,ROWS($K$34:K156)-1,COLUMNS($K$34:K156)-1),\"\")","v":""},null,null,null,null,{"$f":"IF(OFFSET(DE104_5B!$L$34,ROWS($L$34:L156)-1,COLUMNS($L$34:L156)-1)<>\"\",OFFSET(DE104_5B!$L$34,ROWS($L$34:L156)-1,COLUMNS($L$34:L156)-1),\"\")","v":""},null,null,null,null,null,null,{"$f":"IF(OFFSET(DE104_5B!$M$34,ROWS($M$34:M156)-1,COLUMNS($M$34:M156)-1)<>\"\",OFFSET(DE104_5B!$M$34,ROWS($M$34:M156)-1,COLUMNS($M$34:M156)-1),\"\")","v":""},null,null,null,null,null,{"$f":"IF(OFFSET(DE104_5B!$O$34,ROWS($O$34:O156)-1,COLUMNS($O$34:O156)-1)<>\"\",OFFSET(DE104_5B!$O$34,ROWS($O$34:O156)-1,COLUMNS($O$34:O156)-1),\"\")","v":""},null,null,null,null,null,{"$f":"IF(OFFSET(DE104_5B!$P$34,ROWS($P$34:P156)-1,COLUMNS($P$34:P156)-1)<>\"\",OFFSET(DE104_5B!$P$34,ROWS($P$34:P156)-1,COLUMNS($P$34:P156)-1),\"\")","v":""},null,null,null,null,{"$f":"IF(OFFSET(DE104_5B!$Q$34,ROWS($Q$34:Q156)-1,COLUMNS($Q$34:Q156)-1)<>\"\",OFFSET(DE104_5B!$Q$34,ROWS($Q$34:Q156)-1,COLUMNS($Q$34:Q156)-1),\"\")","v":""},null,null,null,null,null,null,null,null,null,{"$f":"IF(OFFSET(DE104_5B!$R$34,ROWS($S$34:S156)-1,COLUMNS($S$34:S156)-1)<>\"\",OFFSET(DE104_5B!$R$34,ROWS($S$34:S156)-1,COLUMNS($S$34:S156)-1),\"\")","v":""},null,null,null,null,null,null,null,{"$f":"IF(OFFSET(DE104_5B!$S$34,ROWS($T$34:T156)-1,COLUMNS($T$34:T156)-1)<>\"\",OFFSET(DE104_5B!$S$34,ROWS($T$34:T156)-1,COLUMNS($T$34:T156)-1),\"\")","v":""},null,null,null,null,null,null,null,{"$f":"IF(OFFSET(DE104_5B!$T$34,ROWS($U$34:U156)-1,COLUMNS($U$34:U156)-1)<>\"\",OFFSET(DE104_5B!$T$34,ROWS($U$34:U156)-1,COLUMNS($U$34:U156)-1),\"\")","v":""},null,null,null,null,null,null,null,{"$f":"IF(OFFSET(DE104_5B!$U$34,ROWS($V$34:V156)-1,COLUMNS($V$34:V156)-1)<>\"\",OFFSET(DE104_5B!$U$34,ROWS($V$34:V156)-1,COLUMNS($V$34:V156)-1),\"\")","v":""},null,null,null,null,null,null,{"$f":"IF(OFFSET(DE104_5B!$V$34,ROWS($W$34:W156)-1,COLUMNS($W$34:W156)-1)<>\"\",OFFSET(DE104_5B!$V$34,ROWS($W$34:W156)-1,COLUMNS($W$34:W156)-1),\"\")","v":""}]
[null,null,{"$f":"IF(OFFSET(DE104_5B!$A$33,ROWS($A$33:A157)-1,COLUMNS($A$33:A157)-1)<>\"\",OFFSET(DE104_5B!$A$33,ROWS($A$33:A157)-1,COLUMNS($A$33:A157)-1),\"\")","v":""},null,null,null,{"$f":"IF(OFFSET(DE104_5B!$B$33,ROWS($B$33:B157)-1,COLUMNS($B$33:B157)-1)<>\"\",OFFSET(DE104_5B!$B$33,ROWS($B$33:B157)-1,COLUMNS($B$33:B157)-1),\"\")","v":""},null,null,null,null,null,null,null,null,null,null,null,null,null,null,null,null,null,null,{"$f":"IF(OFFSET(DE104_5B!$C$33,ROWS($C$33:C157)-1,COLUMNS($C$33:C157)-1)<>\"\",OFFSET(DE104_5B!$C$33,ROWS($C$33:C157)-1,COLUMNS($C$33:C157)-1),\"\")","v":""},null,null,null,null,null,null,null,null,null,null,null,null,null,null,null,null,null,null,null,null,null,null,null,{"$f":"IF(OFFSET(DE104_5B!$D$33,ROWS($D$33:D157)-1,COLUMNS($D$33:D157)-1)<>\"\",OFFSET(DE104_5B!$D$33,ROWS($D$33:D157)-1,COLUMNS($D$33:D157)-1),\"\")","v":""},null,null,null,null,{"$f":"IF(OFFSET(DE104_5B!$E$33,ROWS($E$33:E157)-1,COLUMNS($E$33:E157)-1)<>\"\",OFFSET(DE104_5B!$E$33,ROWS($E$33:E157)-1,COLUMNS($E$33:E157)-1),\"\")","v":""},null,null,null,null,null,{"$f":"IF(OFFSET(DE104_5B!$F$33,ROWS($F$33:F157)-1,COLUMNS($F$33:F157)-1)<>\"\",OFFSET(DE104_5B!$F$33,ROWS($F$33:F157)-1,COLUMNS($F$33:F157)-1),\"\")","v":""},null,null,null,null,null,null,null,{"$f":"IF(OFFSET(DE104_5B!$G$33,ROWS($G$33:G157)-1,COLUMNS($G$33:G157)-1)<>\"\",OFFSET(DE104_5B!$G$33,ROWS($G$33:G157)-1,COLUMNS($G$33:G157)-1),\"\")","v":""}]
[null,null,null,null,null,null,null,null,null,null,null,null,null,null,null,null,null,null,null,null,null,null,null,null,null,null,null,null,null,null,null,null,null,null,null,null,null,null,null,null,null,null,null,null,null,null,null,null,null,null,null,null,null,null,null,null,null,null,null,null,null,null,null,null,null,null,null,null,null,null,null,null,null,null,null,null,null,null,null,null,null,{"$f":"IF(OFFSET(DE104_5B!$H$34,ROWS($H$34:H158)-1,COLUMNS($H$34:H158)-1)<>\"\",OFFSET(DE104_5B!$H$34,ROWS($H$34:H158)-1,COLUMNS($H$34:H158)-1),\"\")","v":""},null,null,null,null,null,{"$f":"IF(OFFSET(DE104_5B!$I$34,ROWS($I$34:I158)-1,COLUMNS($I$34:I158)-1)<>\"\",OFFSET(DE104_5B!$I$34,ROWS($I$34:I158)-1,COLUMNS($I$34:I158)-1),\"\")","v":""},null,null,null,{"$f":"IF(OFFSET(DE104_5B!$J$34,ROWS($J$34:J158)-1,COLUMNS($J$34:J158)-1)<>\"\",OFFSET(DE104_5B!$J$34,ROWS($J$34:J158)-1,COLUMNS($J$34:J158)-1),\"\")","v":""},null,null,null,{"$f":"IF(OFFSET(DE104_5B!$K$34,ROWS($K$34:K158)-1,COLUMNS($K$34:K158)-1)<>\"\",OFFSET(DE104_5B!$K$34,ROWS($K$34:K158)-1,COLUMNS($K$34:K158)-1),\"\")","v":""},null,null,null,null,{"$f":"IF(OFFSET(DE104_5B!$L$34,ROWS($L$34:L158)-1,COLUMNS($L$34:L158)-1)<>\"\",OFFSET(DE104_5B!$L$34,ROWS($L$34:L158)-1,COLUMNS($L$34:L158)-1),\"\")","v":""},null,null,null,null,null,null,{"$f":"IF(OFFSET(DE104_5B!$M$34,ROWS($M$34:M158)-1,COLUMNS($M$34:M158)-1)<>\"\",OFFSET(DE104_5B!$M$34,ROWS($M$34:M158)-1,COLUMNS($M$34:M158)-1),\"\")","v":""},null,null,null,null,null,{"$f":"IF(OFFSET(DE104_5B!$O$34,ROWS($O$34:O158)-1,COLUMNS($O$34:O158)-1)<>\"\",OFFSET(DE104_5B!$O$34,ROWS($O$34:O158)-1,COLUMNS($O$34:O158)-1),\"\")","v":""},null,null,null,null,null,{"$f":"IF(OFFSET(DE104_5B!$P$34,ROWS($P$34:P158)-1,COLUMNS($P$34:P158)-1)<>\"\",OFFSET(DE104_5B!$P$34,ROWS($P$34:P158)-1,COLUMNS($P$34:P158)-1),\"\")","v":""},null,null,null,null,{"$f":"IF(OFFSET(DE104_5B!$Q$34,ROWS($Q$34:Q158)-1,COLUMNS($Q$34:Q158)-1)<>\"\",OFFSET(DE104_5B!$Q$34,ROWS($Q$34:Q158)-1,COLUMNS($Q$34:Q158)-1),\"\")","v":""},null,null,null,null,null,null,null,null,null,{"$f":"IF(OFFSET(DE104_5B!$R$34,ROWS($S$34:S158)-1,COLUMNS($S$34:S158)-1)<>\"\",OFFSET(DE104_5B!$R$34,ROWS($S$34:S158)-1,COLUMNS($S$34:S158)-1),\"\")","v":""},null,null,null,null,null,null,null,{"$f":"IF(OFFSET(DE104_5B!$S$34,ROWS($T$34:T158)-1,COLUMNS($T$34:T158)-1)<>\"\",OFFSET(DE104_5B!$S$34,ROWS($T$34:T158)-1,COLUMNS($T$34:T158)-1),\"\")","v":""},null,null,null,null,null,null,null,{"$f":"IF(OFFSET(DE104_5B!$T$34,ROWS($U$34:U158)-1,COLUMNS($U$34:U158)-1)<>\"\",OFFSET(DE104_5B!$T$34,ROWS($U$34:U158)-1,COLUMNS($U$34:U158)-1),\"\")","v":""},null,null,null,null,null,null,null,{"$f":"IF(OFFSET(DE104_5B!$U$34,ROWS($V$34:V158)-1,COLUMNS($V$34:V158)-1)<>\"\",OFFSET(DE104_5B!$U$34,ROWS($V$34:V158)-1,COLUMNS($V$34:V158)-1),\"\")","v":""},null,null,null,null,null,null,{"$f":"IF(OFFSET(DE104_5B!$V$34,ROWS($W$34:W158)-1,COLUMNS($W$34:W158)-1)<>\"\",OFFSET(DE104_5B!$V$34,ROWS($W$34:W158)-1,COLUMNS($W$34:W158)-1),\"\")","v":""}]
[null,null,{"$f":"IF(OFFSET(DE104_5B!$A$33,ROWS($A$33:A159)-1,COLUMNS($A$33:A159)-1)<>\"\",OFFSET(DE104_5B!$A$33,ROWS($A$33:A159)-1,COLUMNS($A$33:A159)-1),\"\")","v":""},null,null,null,{"$f":"IF(OFFSET(DE104_5B!$B$33,ROWS($B$33:B159)-1,COLUMNS($B$33:B159)-1)<>\"\",OFFSET(DE104_5B!$B$33,ROWS($B$33:B159)-1,COLUMNS($B$33:B159)-1),\"\")","v":""},null,null,null,null,null,null,null,null,null,null,null,null,null,null,null,null,null,null,{"$f":"IF(OFFSET(DE104_5B!$C$33,ROWS($C$33:C159)-1,COLUMNS($C$33:C159)-1)<>\"\",OFFSET(DE104_5B!$C$33,ROWS($C$33:C159)-1,COLUMNS($C$33:C159)-1),\"\")","v":""},null,null,null,null,null,null,null,null,null,null,null,null,null,null,null,null,null,null,null,null,null,null,null,{"$f":"IF(OFFSET(DE104_5B!$D$33,ROWS($D$33:D159)-1,COLUMNS($D$33:D159)-1)<>\"\",OFFSET(DE104_5B!$D$33,ROWS($D$33:D159)-1,COLUMNS($D$33:D159)-1),\"\")","v":""},null,null,null,null,{"$f":"IF(OFFSET(DE104_5B!$E$33,ROWS($E$33:E159)-1,COLUMNS($E$33:E159)-1)<>\"\",OFFSET(DE104_5B!$E$33,ROWS($E$33:E159)-1,COLUMNS($E$33:E159)-1),\"\")","v":""},null,null,null,null,null,{"$f":"IF(OFFSET(DE104_5B!$F$33,ROWS($F$33:F159)-1,COLUMNS($F$33:F159)-1)<>\"\",OFFSET(DE104_5B!$F$33,ROWS($F$33:F159)-1,COLUMNS($F$33:F159)-1),\"\")","v":""},null,null,null,null,null,null,null,{"$f":"IF(OFFSET(DE104_5B!$G$33,ROWS($G$33:G159)-1,COLUMNS($G$33:G159)-1)<>\"\",OFFSET(DE104_5B!$G$33,ROWS($G$33:G159)-1,COLUMNS($G$33:G159)-1),\"\")","v":""}]
[null,null,null,null,null,null,null,null,null,null,null,null,null,null,null,null,null,null,null,null,null,null,null,null,null,null,null,null,null,null,null,null,null,null,null,null,null,null,null,null,null,null,null,null,null,null,null,null,null,null,null,null,null,null,null,null,null,null,null,null,null,null,null,null,null,null,null,null,null,null,null,null,null,null,null,null,null,null,null,null,null,{"$f":"IF(OFFSET(DE104_5B!$H$34,ROWS($H$34:H160)-1,COLUMNS($H$34:H160)-1)<>\"\",OFFSET(DE104_5B!$H$34,ROWS($H$34:H160)-1,COLUMNS($H$34:H160)-1),\"\")","v":""},null,null,null,null,null,{"$f":"IF(OFFSET(DE104_5B!$I$34,ROWS($I$34:I160)-1,COLUMNS($I$34:I160)-1)<>\"\",OFFSET(DE104_5B!$I$34,ROWS($I$34:I160)-1,COLUMNS($I$34:I160)-1),\"\")","v":""},null,null,null,{"$f":"IF(OFFSET(DE104_5B!$J$34,ROWS($J$34:J160)-1,COLUMNS($J$34:J160)-1)<>\"\",OFFSET(DE104_5B!$J$34,ROWS($J$34:J160)-1,COLUMNS($J$34:J160)-1),\"\")","v":""},null,null,null,{"$f":"IF(OFFSET(DE104_5B!$K$34,ROWS($K$34:K160)-1,COLUMNS($K$34:K160)-1)<>\"\",OFFSET(DE104_5B!$K$34,ROWS($K$34:K160)-1,COLUMNS($K$34:K160)-1),\"\")","v":""},null,null,null,null,{"$f":"IF(OFFSET(DE104_5B!$L$34,ROWS($L$34:L160)-1,COLUMNS($L$34:L160)-1)<>\"\",OFFSET(DE104_5B!$L$34,ROWS($L$34:L160)-1,COLUMNS($L$34:L160)-1),\"\")","v":""},null,null,null,null,null,null,{"$f":"IF(OFFSET(DE104_5B!$M$34,ROWS($M$34:M160)-1,COLUMNS($M$34:M160)-1)<>\"\",OFFSET(DE104_5B!$M$34,ROWS($M$34:M160)-1,COLUMNS($M$34:M160)-1),\"\")","v":""},null,null,null,null,null,{"$f":"IF(OFFSET(DE104_5B!$O$34,ROWS($O$34:O160)-1,COLUMNS($O$34:O160)-1)<>\"\",OFFSET(DE104_5B!$O$34,ROWS($O$34:O160)-1,COLUMNS($O$34:O160)-1),\"\")","v":""},null,null,null,null,null,{"$f":"IF(OFFSET(DE104_5B!$P$34,ROWS($P$34:P160)-1,COLUMNS($P$34:P160)-1)<>\"\",OFFSET(DE104_5B!$P$34,ROWS($P$34:P160)-1,COLUMNS($P$34:P160)-1),\"\")","v":""},null,null,null,null,{"$f":"IF(OFFSET(DE104_5B!$Q$34,ROWS($Q$34:Q160)-1,COLUMNS($Q$34:Q160)-1)<>\"\",OFFSET(DE104_5B!$Q$34,ROWS($Q$34:Q160)-1,COLUMNS($Q$34:Q160)-1),\"\")","v":""},null,null,null,null,null,null,null,null,null,{"$f":"IF(OFFSET(DE104_5B!$R$34,ROWS($S$34:S160)-1,COLUMNS($S$34:S160)-1)<>\"\",OFFSET(DE104_5B!$R$34,ROWS($S$34:S160)-1,COLUMNS($S$34:S160)-1),\"\")","v":""},null,null,null,null,null,null,null,{"$f":"IF(OFFSET(DE104_5B!$S$34,ROWS($T$34:T160)-1,COLUMNS($T$34:T160)-1)<>\"\",OFFSET(DE104_5B!$S$34,ROWS($T$34:T160)-1,COLUMNS($T$34:T160)-1),\"\")","v":""},null,null,null,null,null,null,null,{"$f":"IF(OFFSET(DE104_5B!$T$34,ROWS($U$34:U160)-1,COLUMNS($U$34:U160)-1)<>\"\",OFFSET(DE104_5B!$T$34,ROWS($U$34:U160)-1,COLUMNS($U$34:U160)-1),\"\")","v":""},null,null,null,null,null,null,null,{"$f":"IF(OFFSET(DE104_5B!$U$34,ROWS($V$34:V160)-1,COLUMNS($V$34:V160)-1)<>\"\",OFFSET(DE104_5B!$U$34,ROWS($V$34:V160)-1,COLUMNS($V$34:V160)-1),\"\")","v":""},null,null,null,null,null,null,{"$f":"IF(OFFSET(DE104_5B!$V$34,ROWS($W$34:W160)-1,COLUMNS($W$34:W160)-1)<>\"\",OFFSET(DE104_5B!$V$34,ROWS($W$34:W160)-1,COLUMNS($W$34:W160)-1),\"\")","v":""}]
[null,null,{"$f":"IF(OFFSET(DE104_5B!$A$33,ROWS($A$33:A161)-1,COLUMNS($A$33:A161)-1)<>\"\",OFFSET(DE104_5B!$A$33,ROWS($A$33:A161)-1,COLUMNS($A$33:A161)-1),\"\")","v":""},null,null,null,{"$f":"IF(OFFSET(DE104_5B!$B$33,ROWS($B$33:B161)-1,COLUMNS($B$33:B161)-1)<>\"\",OFFSET(DE104_5B!$B$33,ROWS($B$33:B161)-1,COLUMNS($B$33:B161)-1),\"\")","v":""},null,null,null,null,null,null,null,null,null,null,null,null,null,null,null,null,null,null,{"$f":"IF(OFFSET(DE104_5B!$C$33,ROWS($C$33:C161)-1,COLUMNS($C$33:C161)-1)<>\"\",OFFSET(DE104_5B!$C$33,ROWS($C$33:C161)-1,COLUMNS($C$33:C161)-1),\"\")","v":""},null,null,null,null,null,null,null,null,null,null,null,null,null,null,null,null,null,null,null,null,null,null,null,{"$f":"IF(OFFSET(DE104_5B!$D$33,ROWS($D$33:D161)-1,COLUMNS($D$33:D161)-1)<>\"\",OFFSET(DE104_5B!$D$33,ROWS($D$33:D161)-1,COLUMNS($D$33:D161)-1),\"\")","v":""},null,null,null,null,{"$f":"IF(OFFSET(DE104_5B!$E$33,ROWS($E$33:E161)-1,COLUMNS($E$33:E161)-1)<>\"\",OFFSET(DE104_5B!$E$33,ROWS($E$33:E161)-1,COLUMNS($E$33:E161)-1),\"\")","v":""},null,null,null,null,null,{"$f":"IF(OFFSET(DE104_5B!$F$33,ROWS($F$33:F161)-1,COLUMNS($F$33:F161)-1)<>\"\",OFFSET(DE104_5B!$F$33,ROWS($F$33:F161)-1,COLUMNS($F$33:F161)-1),\"\")","v":""},null,null,null,null,null,null,null,{"$f":"IF(OFFSET(DE104_5B!$G$33,ROWS($G$33:G161)-1,COLUMNS($G$33:G161)-1)<>\"\",OFFSET(DE104_5B!$G$33,ROWS($G$33:G161)-1,COLUMNS($G$33:G161)-1),\"\")","v":""}]
[null,null,null,null,null,null,null,null,null,null,null,null,null,null,null,null,null,null,null,null,null,null,null,null,null,null,null,null,null,null,null,null,null,null,null,null,null,null,null,null,null,null,null,null,null,null,null,null,null,null,null,null,null,null,null,null,null,null,null,null,null,null,null,null,null,null,null,null,null,null,null,null,null,null,null,null,null,null,null,null,null,{"$f":"IF(OFFSET(DE104_5B!$H$34,ROWS($H$34:H162)-1,COLUMNS($H$34:H162)-1)<>\"\",OFFSET(DE104_5B!$H$34,ROWS($H$34:H162)-1,COLUMNS($H$34:H162)-1),\"\")","v":""},null,null,null,null,null,{"$f":"IF(OFFSET(DE104_5B!$I$34,ROWS($I$34:I162)-1,COLUMNS($I$34:I162)-1)<>\"\",OFFSET(DE104_5B!$I$34,ROWS($I$34:I162)-1,COLUMNS($I$34:I162)-1),\"\")","v":""},null,null,null,{"$f":"IF(OFFSET(DE104_5B!$J$34,ROWS($J$34:J162)-1,COLUMNS($J$34:J162)-1)<>\"\",OFFSET(DE104_5B!$J$34,ROWS($J$34:J162)-1,COLUMNS($J$34:J162)-1),\"\")","v":""},null,null,null,{"$f":"IF(OFFSET(DE104_5B!$K$34,ROWS($K$34:K162)-1,COLUMNS($K$34:K162)-1)<>\"\",OFFSET(DE104_5B!$K$34,ROWS($K$34:K162)-1,COLUMNS($K$34:K162)-1),\"\")","v":""},null,null,null,null,{"$f":"IF(OFFSET(DE104_5B!$L$34,ROWS($L$34:L162)-1,COLUMNS($L$34:L162)-1)<>\"\",OFFSET(DE104_5B!$L$34,ROWS($L$34:L162)-1,COLUMNS($L$34:L162)-1),\"\")","v":""},null,null,null,null,null,null,{"$f":"IF(OFFSET(DE104_5B!$M$34,ROWS($M$34:M162)-1,COLUMNS($M$34:M162)-1)<>\"\",OFFSET(DE104_5B!$M$34,ROWS($M$34:M162)-1,COLUMNS($M$34:M162)-1),\"\")","v":""},null,null,null,null,null,{"$f":"IF(OFFSET(DE104_5B!$O$34,ROWS($O$34:O162)-1,COLUMNS($O$34:O162)-1)<>\"\",OFFSET(DE104_5B!$O$34,ROWS($O$34:O162)-1,COLUMNS($O$34:O162)-1),\"\")","v":""},null,null,null,null,null,{"$f":"IF(OFFSET(DE104_5B!$P$34,ROWS($P$34:P162)-1,COLUMNS($P$34:P162)-1)<>\"\",OFFSET(DE104_5B!$P$34,ROWS($P$34:P162)-1,COLUMNS($P$34:P162)-1),\"\")","v":""},null,null,null,null,{"$f":"IF(OFFSET(DE104_5B!$Q$34,ROWS($Q$34:Q162)-1,COLUMNS($Q$34:Q162)-1)<>\"\",OFFSET(DE104_5B!$Q$34,ROWS($Q$34:Q162)-1,COLUMNS($Q$34:Q162)-1),\"\")","v":""},null,null,null,null,null,null,null,null,null,{"$f":"IF(OFFSET(DE104_5B!$R$34,ROWS($S$34:S162)-1,COLUMNS($S$34:S162)-1)<>\"\",OFFSET(DE104_5B!$R$34,ROWS($S$34:S162)-1,COLUMNS($S$34:S162)-1),\"\")","v":""},null,null,null,null,null,null,null,{"$f":"IF(OFFSET(DE104_5B!$S$34,ROWS($T$34:T162)-1,COLUMNS($T$34:T162)-1)<>\"\",OFFSET(DE104_5B!$S$34,ROWS($T$34:T162)-1,COLUMNS($T$34:T162)-1),\"\")","v":""},null,null,null,null,null,null,null,{"$f":"IF(OFFSET(DE104_5B!$T$34,ROWS($U$34:U162)-1,COLUMNS($U$34:U162)-1)<>\"\",OFFSET(DE104_5B!$T$34,ROWS($U$34:U162)-1,COLUMNS($U$34:U162)-1),\"\")","v":""},null,null,null,null,null,null,null,{"$f":"IF(OFFSET(DE104_5B!$U$34,ROWS($V$34:V162)-1,COLUMNS($V$34:V162)-1)<>\"\",OFFSET(DE104_5B!$U$34,ROWS($V$34:V162)-1,COLUMNS($V$34:V162)-1),\"\")","v":""},null,null,null,null,null,null,{"$f":"IF(OFFSET(DE104_5B!$V$34,ROWS($W$34:W162)-1,COLUMNS($W$34:W162)-1)<>\"\",OFFSET(DE104_5B!$V$34,ROWS($W$34:W162)-1,COLUMNS($W$34:W162)-1),\"\")","v":""}]
[null,null,{"$f":"IF(OFFSET(DE104_5B!$A$33,ROWS($A$33:A163)-1,COLUMNS($A$33:A163)-1)<>\"\",OFFSET(DE104_5B!$A$33,ROWS($A$33:A163)-1,COLUMNS($A$33:A163)-1),\"\")","v":""},null,null,null,{"$f":"IF(OFFSET(DE104_5B!$B$33,ROWS($B$33:B163)-1,COLUMNS($B$33:B163)-1)<>\"\",OFFSET(DE104_5B!$B$33,ROWS($B$33:B163)-1,COLUMNS($B$33:B163)-1),\"\")","v":""},null,null,null,null,null,null,null,null,null,null,null,null,null,null,null,null,null,null,{"$f":"IF(OFFSET(DE104_5B!$C$33,ROWS($C$33:C163)-1,COLUMNS($C$33:C163)-1)<>\"\",OFFSET(DE104_5B!$C$33,ROWS($C$33:C163)-1,COLUMNS($C$33:C163)-1),\"\")","v":""},null,null,null,null,null,null,null,null,null,null,null,null,null,null,null,null,null,null,null,null,null,null,null,{"$f":"IF(OFFSET(DE104_5B!$D$33,ROWS($D$33:D163)-1,COLUMNS($D$33:D163)-1)<>\"\",OFFSET(DE104_5B!$D$33,ROWS($D$33:D163)-1,COLUMNS($D$33:D163)-1),\"\")","v":""},null,null,null,null,{"$f":"IF(OFFSET(DE104_5B!$E$33,ROWS($E$33:E163)-1,COLUMNS($E$33:E163)-1)<>\"\",OFFSET(DE104_5B!$E$33,ROWS($E$33:E163)-1,COLUMNS($E$33:E163)-1),\"\")","v":""},null,null,null,null,null,{"$f":"IF(OFFSET(DE104_5B!$F$33,ROWS($F$33:F163)-1,COLUMNS($F$33:F163)-1)<>\"\",OFFSET(DE104_5B!$F$33,ROWS($F$33:F163)-1,COLUMNS($F$33:F163)-1),\"\")","v":""},null,null,null,null,null,null,null,{"$f":"IF(OFFSET(DE104_5B!$G$33,ROWS($G$33:G163)-1,COLUMNS($G$33:G163)-1)<>\"\",OFFSET(DE104_5B!$G$33,ROWS($G$33:G163)-1,COLUMNS($G$33:G163)-1),\"\")","v":""}]
[]
[]
[]
[null,"FILE NO.",null,null,null,null,null,null,{"$f":"IF(ProjectInformation!$B$11<>\"\",ProjectInformation!$B$11,\"\")","v":""},null,null,null,null,null,null,{"$f":"UPPER(ProjectInformation!B8)","v":"ENGLISH"},null,null,null,null,null,null,"DESIGN TEAM",null,null,null,null,null,null,null,null,{"$f":"IF(AND(ProjectInformation!$B$3<>\"\",ProjectInformation!$B$4<>\"\",ProjectInformation!$B$5<>\"\"),ProjectInformation!$B$3&\"\\\"&ProjectInformation!$B$4&\"\\\"&ProjectInformation!$B$5,IF(AND(ProjectInformation!$B$3<>\"\",ProjectInformation!$B$4<>\"\"),ProjectInformation!$B$3&\"\\\"&ProjectInformation!$B$4,IF(ProjectInformation!$B$3<>\"\",ProjectInformation!$B$3,\"\")))","v":"Flattery\\Bell"},null,null,null,null,null,null,null,null,null,null,null,null,null,null,null,null,null,null,null,null,null,null,null,null,null,null,null,null,null,null,null,null,null,{"$f":"IF(ProjectInformation!$B$6<>\"\",ProjectInformation!$B$6,\"\")","v":"BENTON"},null,null,null,null,null,null,null,null,null,null,null,null,null,null,null,null,null,null,null,null,null,null,null,null,null,null,null,null,null,null,null,null,null,null,null,"COUNTY",null,null,null,null,null,"PROJECT NUMBER",null,null,null,null,null,null,null,null,null,null,null,{"$f":"IF(ProjectInformation!$B$7<>\"\",ProjectInformation!$B$7,\"\")","v":"NHSX-030-6(231)--3H-06"},null,null,null,null,null,null,null,null,null,null,null,null,null,null,null,null,null,null,null,null,null,null,null,null,null,null,null,null,null,"SHEET NUMBER",null,null,null,null,null,null,null,null,null,"M.1",null,null,null,null,null,{"$f":"IF(FP172<>\"\",\"REVISED\",\"\")","v":""},null,null,null,null,null,{"$f":"IF(ProjectInformation!$B$9<>\"\",ProjectInformation!$B$9,\"\")","v":""}]
[]
[]
[]
[]
[""]

{"sheet":"BidItemCalculations","index":5,"n_rows":20,"n_cols":11,"rows_kept":20,"cut":false,"hidden":false,"merged":[[0,2,4,2],[0,1,4,1],[0,0,4,0],[0,10,3,10],[0,9,3,9],[0,8,3,8],[0,7,4,7],[0,5,3,6],[0,4,4,4]]}
["No.","Location Station and Offset","*Type or Standard Road Plan",null,"Line Number","Intake/\nUtility Access No.",null,"Class 'D'","Pipe Diameter","Bid* Length","Design Length"]
[]
[]
[]
[null,null,null,null,null,"From","To",null,"IN","FT","FT"]
[6,"241470+87.00, -35","DR-122",null,"P-1",1,2,2000,18,40,35.5]
[7,"241470+87.00, -88","DR-122",null,"P-2",2,3,2000,18,114,110]
[null,"Total:",2,null,"P-3",3,4,2000,18,114,110]
[null,null,null,null,"P-4",4,5,2000,18,79,74.02]
[8,"241470+87.00, -100.05","DR-201 (18\")",null,"P-5",5,6,2000,18,16,11.61]
[null,"Total:",1,null,"P-6",6,7,2000,18,57,53]
[null,null,null,null,"P-7",7,8,2000,18,8,5.92]
[5,"241470+87.00, -23.58","SW-538",null,null,null,null,null,"Total:",{"$f":"SUM(J6:J12)","v":428}]
[null,"Total:",1]
[]
[1,"241473+95.00, 21.96","SW-549"]
[2,"241473+95.00, -21.96","SW-549"]
[3,"241472+80.00, -21.96","SW-549"]
[4,"241471+65.00, -21.96","SW-549"]
[null,"Total:",4]