{"text_format":"1","workbook":"xlsx","n_sheets":19,"sheets":["ProjectInformation","DataInput","DataInformation","User_Calculations","107_28","107_28SheetTemplate","Index","Stage1","STG1_US_63","Rabbit_Run","STG1_Trail","SIDEWALK","PARKING","Stage2","STG2_US_63","US_34_RAMP","STG2_Trail","Mary_St","Summary"],"not_rendered":{"charts":0,"images":1,"macros":1,"external_links":0,"defined_names":75,"comments":1,"pivot_tables":0},"unopened":[],"bounds":{"document_bytes":16777216,"sheet_cells":100000,"rows_first":2000,"rows_last":500,"rows_between":2000,"halvings":0,"cell_chars":16384,"cell_head_chars":4096},"cells_cut":0,"cells_raw":0,"read":"whole","date_system":"1900"}

{"sheet":"ProjectInformation","index":0,"n_rows":12,"n_cols":2,"rows_kept":12,"cut":false,"hidden":false,"merged":[[0,0,0,1],[1,0,1,1],[3,0,4,0],[10,0,10,1]]}
["CPN DATA"]
["INFORMATION ADDED BY DESIGNER"]
["Section Engineer","Flattery"]
["Design Team","Bell"]
[null,"Hain"]
["County","WAPELLO"]
["Project Number","NHSX-063-2(155)--3H-90"]
["English or Metric","English"]
["Revised"]
["Project Path"]
["Bridge Block"]
["File No.",29590]

{"sheet":"DataInput","index":1,"n_rows":499,"n_cols":43,"rows_kept":499,"cut":false,"hidden":false,"merged":[[0,23,0,36],[2,23,9,23],[8,42,9,42],[2,40,7,42],[0,40,0,42],[8,37,9,37],[8,38,9,38],[0,37,0,39],[2,37,7,39],[8,39,9,39],[8,40,9,40],[8,41,9,41],[0,1,0,18],[0,19,0,20],[0,21,0,22],[2,35,9,35],[2,36,9,36],[2,31,9,31],[2,32,9,32],[2,33,9,33],[2,34,9,34],[2,25,9,25],[2,26,9,26],[2,27,9,27],[2,28,9,28],[2,29,9,29],[2,14,9,14],[2,11,9,11],[2,0,9,0],[2,1,9,1],[2,2,9,2],[2,3,9,3],[2,9,9,9],[2,4,9,4],[2,5,9,5],[2,6,9,6],[2,7,9,7],[2,8,9,8],[2,12,9,12],[2,13,9,13],[2,10,9,10],[2,15,9,15],[2,30,9,30],[2,24,9,24],[2,16,9,16],[2,17,9,17],[2,18,9,18],[2,21,8,22],[2,19,8,20]]}
[null,"Cut and Fill",null,null,null,null,null,null,null,null,null,null,null,null,null,null,null,null,null,"Topsoil Stripping",null,"Existing Pavement Cut",null,"Plowing and Shaping",null,null,null,null,null,null,null,null,null,null,null,null,null,{"$f":"\"Topsoil Placement\"&CHAR(10)&\"Undercut\"","v":"Topsoil Placement\nUndercut"},null,null,{"$f":"\"Subgrade Treatment\"&CHAR(10)&\"Undercut \"","v":"Subgrade Treatment\nUndercut "}]
[null,"Column 1","Column 2","Column 3","Column 4","Column 5","Column 6","Column 7","Column 8","Column 9","Column 10","Column 11","Column 12","Column 13","Column 14","Column 15","Column 16","Column 17","Column 18","Column 1","Column 2","Column 1","Column 2","Column 1","Column 2","Column 3","Column 4","Column 5","Column 6","Column 7","Column 8","Column 9","Column 10","Column 11","Column 12","Column 13","Column 14","Column 1","Column 2","Column 3","Column 1","Column 2","Column 3"]
[{"$f":"\"Station\"","v":"Station"},{"$f":"\"Total Cut\"&CHAR(10)&\"End Area\"","v":"Total Cut\nEnd Area"},{"$f":"\"Template Cut\"&CHAR(10)&\"Volume\"","v":"Template Cut\nVolume"},{"$f":"\"Template\"&CHAR(10)&\"Class 10\"&CHAR(10)&\"Volume\"","v":"Template\nClass 10\nVolume"},{"$f":"\"Template\"&CHAR(10)&\"Topsoil Cut\"&CHAR(10)&\"Volume\"","v":"Template\nTopsoil Cut\nVolume"},{"$f":"\"Template\"&CHAR(10)&\"Unsuitable\"&CHAR(10)&\"Type A\"&CHAR(10)&\"Volume\"","v":"Template\nUnsuitable\nType A\nVolume"},{"$f":"\"Template\"&CHAR(10)&\"Unsuitable\"&CHAR(10)&\"Type B\"&CHAR(10)&\"Volume\"","v":"Template\nUnsuitable\nType B\nVolume"},{"$f":"\"Template\"&CHAR(10)&\"Unsuitable\"&CHAR(10)&\"Type C\"&CHAR(10)&\"Volume\"","v":"Template\nUnsuitable\nType C\nVolume"},{"$f":"\"Template\"&CHAR(10)&\"Pavement\"&CHAR(10)&\"Removal\"&CHAR(10)&\"Volume\"","v":"Template\nPavement\nRemoval\nVolume"},{"$f":"\"Template\"&CHAR(10)&\"Select Loam\"&CHAR(10)&\"Volume\"","v":"Template\nSelect Loam\nVolume"},{"$f":"\"Template\"&CHAR(10)&\"Select Sand\"&CHAR(10)&\"Volume\"","v":"Template\nSelect Sand\nVolume"},{"$f":"\"Template\"&CHAR(10)&\"Rock\"&CHAR(10)&\"Volume\"","v":"Template\nRock\nVolume"},{"$f":"\"Template\"&CHAR(10)&\"B & W\"&CHAR(10)&\"Rock\"&CHAR(10)&\"Volume\"","v":"Template\nB & W\nRock\nVolume"},{"$f":"\"Template\"&CHAR(10)&\"Waste\"&CHAR(10)&\"Volume\"","v":"Template\nWaste\nVolume"},{"$f":"\"Template\"&CHAR(10)&\"Shale\"&CHAR(10)&\"Volume\"","v":"Template\nShale\nVolume"},{"$f":"\"Template\"&CHAR(10)&\"Rock Undercut\"&CHAR(10)&\"Volume\"","v":"Template\nRock Undercut\nVolume"},{"$f":"\"Template Fill\"&CHAR(10)&\"End Area\"","v":"Template Fill\nEnd Area"},{"$f":"\"Total Fill\"&CHAR(10)&\"Unadjusted\"&CHAR(10)&CHAR(10)&\"Volume\"","v":"Total Fill\nUnadjusted\n\nVolume"},{"$f":"\"Topsoil\"&CHAR(10)&\"Placement\"&CHAR(10)&\"Undercut\"&CHAR(10)&\"Volume\"","v":"Topsoil\nPlacement\nUndercut\nVolume"},{"$f":"\"Topsoil\"&CHAR(10)&\"Stripping Undercut\"","v":"Topsoil\nStripping Undercut"},null,{"$f":"\"Total Existing\"&CHAR(10)&\"Pavement Cut\"","v":"Total Existing\nPavement Cut"},null,{"$f":"\"Plowing &\"&CHAR(10)&\"Shaping\"&CHAR(10)&\"End Area\"","v":"Plowing &\nShaping\nEnd Area"},{"$f":"\"Plowing &\"&CHAR(10)&\"Shaping\"&CHAR(10)&\"Undercut\"&CHAR(10)&\"(+ Fill)\"","v":"Plowing &\nShaping\nUndercut\n(+ Fill)"},{"$f":"\"Plowing &\"&CHAR(10)&\"Shaping\"&CHAR(10)&\"Class 10\"&CHAR(10)&\"Volume\"","v":"Plowing &\nShaping\nClass 10\nVolume"},{"$f":"\"Template\"&CHAR(10)&\"Topsoil Cut\"&CHAR(10)&\"Volume\"","v":"Template\nTopsoil Cut\nVolume"},{"$f":"\"Plowing &\"&CHAR(10)&\"Shaping\"&CHAR(10)&\"Unsuitable\"&CHAR(10)&\"Type A\"&CHAR(10)&\"Volume\"","v":"Plowing &\nShaping\nUnsuitable\nType A\nVolume"},{"$f":"\"Plowing &\"&CHAR(10)&\"Shaping\"&CHAR(10)&\"Unsuitable\"&CHAR(10)&\"Type B\"&CHAR(10)&\"Volume\"","v":"Plowing &\nShaping\nUnsuitable\nType B\nVolume"},{"$f":"\"Plowing &\"&CHAR(10)&\"Shaping\"&CHAR(10)&\"Unsuitable\"&CHAR(10)&\"Type C\"&CHAR(10)&\"Volume\"","v":"Plowing &\nShaping\nUnsuitable\nType C\nVolume"},{"$f":"\"Plowing &\"&CHAR(10)&\"Shaping\"&CHAR(10)&\"Existing\"&CHAR(10)&\"Pavement\"&CHAR(10)&\"Volume\"","v":"Plowing &\nShaping\nExisting\nPavement\nVolume"},{"$f":"\"Plowing &\"&CHAR(10)&\"Shaping\"&CHAR(10)&\"Select Loam\"&CHAR(10)&\"Volume\"","v":"Plowing &\nShaping\nSelect Loam\nVolume"},{"$f":"\"Plowing &\"&CHAR(10)&\"Shaping\"&CHAR(10)&\"Select Sand\"&CHAR(10)&\"Volume\"","v":"Plowing &\nShaping\nSelect Sand\nVolume"},{"$f":"\"Plowing &\"&CHAR(10)&\"Shaping\"&CHAR(10)&\"Rock\"&CHAR(10)&\"Volume\"","v":"Plowing &\nShaping\nRock\nVolume"},{"$f":"\"Plowing &\"&CHAR(10)&\"Shaping\"&CHAR(10)&\"Broken &\"&CHAR(10)&\"Weathered\"&CHAR(10)&\"Rock\"&CHAR(10)&\"Volume\"","v":"Plowing &\nShaping\nBroken &\nWeathered\nRock\nVolume"},{"$f":"\"Plowing &\"&CHAR(10)&\"Shaping\"&CHAR(10)&\"Waste\"&CHAR(10)&\"Volume\"","v":"Plowing &\nShaping\nWaste\nVolume"},{"$f":"\"Plowing &\"&CHAR(10)&\"Shaping\"&CHAR(10)&\"Shale\"&CHAR(10)&\"Volume\"","v":"Plowing &\nShaping\nShale\nVolume"},{"$f":"\"Topsoil Placement\"&CHAR(10)&\"Undercut\"","v":"Topsoil Placement\nUndercut"},null,null,{"$f":"\"Subgrade Treatment\"&CHAR(10)&\"Undercut\"","v":"Subgrade Treatment\nUndercut"}]
[]
[]
[]
[]
[]
[null,null,null,null,null,null,null,null,null,null,null,null,null,null,null,null,null,null,null,null,null,null,null,null,null,null,null,null,null,null,null,null,null,null,null,null,null,"End Area",{"$f":"\"+C\"&CHAR(10)&\"Volume\"","v":"+C\nVolume"},{"$f":"\"-F\"&CHAR(10)&\"Volume\"","v":"-F\nVolume"},"End Area",{"$f":"\"+C\"&CHAR(10)&\"Volume\"","v":"+C\nVolume"},{"$f":"\"-F\"&CHAR(10)&\"Volume\"","v":"-F\nVolume"}]
[null,null,null,null,null,null,null,null,null,null,null,null,null,null,null,null,null,null,null,{"$f":"\"End Area\"","v":"End Area"},"Volume",{"$f":"\"End Area\"","v":"End Area"},"Volume"]
["Stage 1"]
[]
["Rabbit_Run"]
[882038.5,0,0,0,0,0,0,0,0,0,0,0,0,0,0,0,3160,1461,0,248,106,null,null,null,null,null,null,null,null,null,null,null,null,null,null,null,null,0,0,0]
[882050,0,0,0,0,0,0,0,0,0,0,0,0,0,0,0,3700,3195,41,249,237,null,null,null,null,null,null,null,null,null,null,null,null,null,null,null,null,0,0,41]
[882075,0,3,0,2,0,0,0,0,0,0,0,0,0,0,0,3201,2646,95,263,244,null,null,null,null,null,null,null,null,null,null,null,null,null,null,null,null,89,2,93]
[882100,6,22,10,12,0,0,0,0,0,0,0,0,0,0,0,2514,2017,115,265,246,null,null,null,null,null,null,null,null,null,null,null,null,null,null,null,null,116,9,107]
[882125,41,100,47,53,0,0,0,0,0,0,0,0,0,0,0,1841,1493,124,266,245,null,null,null,null,null,null,null,null,null,null,null,null,null,null,null,null,132,37,88]
[882150,175,320,218,102,0,0,0,0,0,0,0,0,0,0,0,1384,1192,127,263,244,null,null,null,null,null,null,null,null,null,null,null,null,null,null,null,null,136,70,58]
[882175,517,500,379,121,0,0,0,0,0,0,0,0,0,0,0,1190,1021,129,263,241,null,null,null,null,null,null,null,null,null,null,null,null,null,null,null,null,139,82,47]
[882200,562,447,333,114,0,0,0,0,0,0,0,0,0,0,0,1015,860,120,258,225,null,null,null,null,null,null,null,null,null,null,null,null,null,null,null,null,139,78,42]
[882225,404,343,248,94,0,0,0,0,0,0,0,0,0,0,0,843,702,101,228,196,null,null,null,null,null,null,null,null,null,null,null,null,null,null,null,null,119,64,37]
[882250,336,315,234,81,0,0,0,0,0,0,0,0,0,0,0,672,561,87,196,175,null,null,null,null,null,null,null,null,null,null,null,null,null,null,null,null,98,55,32]
[882275,344,312,235,77,0,0,0,0,0,0,0,0,0,0,0,539,468,80,182,165,null,null,null,null,null,null,null,null,null,null,null,null,null,null,null,null,89,52,28]
[882300,329,288,215,73,0,0,0,0,0,0,0,0,0,0,0,472,415,75,174,156,null,null,null,null,null,null,null,null,null,null,null,null,null,null,null,null,84,49,26]
[882325,292,240,175,66,0,0,0,0,0,0,0,0,0,0,0,425,386,70,163,146,null,null,null,null,null,null,null,null,null,null,null,null,null,null,null,null,79,45,25]
[882350,227,184,127,57,0,0,0,0,0,0,0,0,0,0,0,408,366,63,151,135,null,null,null,null,null,null,null,null,null,null,null,null,null,null,null,null,71,39,24]
[882375,171,136,87,49,0,0,0,0,0,0,0,0,0,0,0,383,346,56,140,125,null,null,null,null,null,null,null,null,null,null,null,null,null,null,null,null,64,33,23]
[882400,122,92,52,40,0,0,0,0,0,0,0,0,0,0,0,365,329,49,130,115,null,null,null,null,null,null,null,null,null,null,null,null,null,null,null,null,57,28,22]
[882425,76,58,26,33,0,0,0,0,0,0,0,0,0,0,0,345,297,43,119,105,null,null,null,null,null,null,null,null,null,null,null,null,null,null,null,null,50,23,20]
[882450,50,44,14,29,0,0,0,0,0,0,0,0,0,0,0,296,233,37,109,97,null,null,null,null,null,null,null,null,null,null,null,null,null,null,null,null,43,21,17]
[882475,45,42,13,29,0,0,0,0,0,0,0,0,0,0,0,207,150,32,101,89,null,null,null,null,null,null,null,null,null,null,null,null,null,null,null,null,37,20,11]
[882500,47,37,11,26,0,0,0,0,0,0,0,0,0,0,0,117,74,24,91,78,null,null,null,null,null,null,null,null,null,null,null,null,null,null,null,null,31,18,6]
[882525,34,32,7,24,0,0,0,0,0,0,0,0,0,0,0,42,20,15,77,66,null,null,null,null,null,null,null,null,null,null,null,null,null,null,null,null,21,14,2]
[882550,35,63,13,50,0,0,0,0,0,0,0,0,0,0,0,0,0,12,66,69,null,null,null,null,null,null,null,null,null,null,null,null,null,null,null,null,12,12,0]
[882575,102,137,43,95,0,0,0,0,0,0,0,0,0,0,0,0,0,7,83,96,null,null,null,null,null,null,null,null,null,null,null,null,null,null,null,null,15,7,0]
[882600,194,43,30,13,0,0,0,0,0,0,0,0,0,0,0,0,0,0,124,null,null,null,null,null,null,null,null,null,null,null,null,null,null,null,null,null,0,0,0]
[882605.5,226,null,null,null,null,null,null,null,null,null,null,null,null,null,null,0,null,null,null,null,null,null,null,null,null,null,null,null,null,null,null,null,null,null,null,null,0]
[]
["STG1_Trail"]
[880150,16,16,10,6,0,0,0,5,0,0,0,0,0,0,0,0,0,3,9,10,6,5,null,null,null,null,null,null,null,null,null,null,null,null,null,null,2,3,0]
[880175,18,19,9,10,0,0,0,5,0,0,0,0,0,0,0,0,0,5,13,14,6,6,null,null,null,null,null,null,null,null,null,null,null,null,null,null,4,5,0]
[880200,22,26,10,17,0,0,0,4,0,0,0,0,0,0,0,0,0,9,17,23,6,6,null,null,null,null,null,null,null,null,null,null,null,null,null,null,6,8,0]
[880225,35,32,11,21,0,0,0,2,0,0,0,0,0,0,0,0,1,11,33,32,7,8,null,null,null,null,null,null,null,null,null,null,null,null,null,null,12,11,0]
[880250,33,32,9,23,0,0,0,0,0,0,0,0,0,0,0,1,1,11,35,33,null,null,null,null,null,null,null,null,null,null,null,null,null,null,null,null,12,11,0]
[880275,35,37,10,27,0,0,0,0,0,0,0,0,0,0,0,1,1,12,36,34,null,null,null,null,null,null,null,null,null,null,null,null,null,null,null,null,12,12,0]
[880300,44,39,25,14,0,0,0,0,0,0,0,0,0,0,0,1,1,13,37,48,null,null,null,null,null,null,null,null,null,null,null,null,null,null,null,null,13,13,0]
[880325,40,32,32,0,0,0,0,0,0,0,0,0,0,0,0,1,2,13,null,null,null,null,null,null,null,null,null,null,null,null,null,null,null,null,null,null,14,12,1]
[880350,30,24,24,0,0,0,0,0,0,0,0,0,0,0,0,4,6,13,null,null,null,null,null,null,null,null,null,null,null,null,null,null,null,null,null,null,14,11,2]
[880375,22,11,11,0,0,0,0,0,0,0,0,0,0,0,0,9,23,11,null,null,null,null,null,null,null,null,null,null,null,null,null,null,null,null,null,null,14,6,5]
[880400,1,3,3,0,0,0,0,0,0,0,0,0,0,0,0,41,8,2,null,null,null,null,null,null,null,null,null,null,null,null,null,null,null,null,null,null,10,0,2]
[880410,15,71,71,0,0,0,0,0,0,0,0,0,0,0,0,0,398,90,null,null,null,null,null,null,null,null,null,null,null,null,null,null,null,null,null,null,0,1,6]
[880625,3,147,116,30,0,0,0,0,0,0,0,0,0,0,0,100,46,31,null,null,null,null,null,null,null,null,null,null,null,null,null,null,null,null,null,null,23,22,9]
[880650,314,279,209,69,0,0,0,0,0,0,0,0,0,0,0,0,0,41,65,69,null,null,null,null,null,null,null,null,null,null,null,null,null,null,null,null,45,41,0]
[880675,288,232,158,74,0,0,0,0,0,0,0,0,0,0,0,0,0,36,85,74,null,null,null,null,null,null,null,null,null,null,null,null,null,null,null,null,42,36,0]
[880700,213,161,97,63,0,0,0,0,0,0,0,0,0,0,0,0,0,30,75,65,null,null,null,null,null,null,null,null,null,null,null,null,null,null,null,null,36,30,0]
[880725,134,103,51,52,0,0,0,0,0,0,0,0,0,0,0,0,0,25,65,57,null,null,null,null,null,null,null,null,null,null,null,null,null,null,null,null,29,25,0]
[880750,88,65,29,36,0,0,0,0,0,0,0,0,0,0,0,1,4,22,58,52,null,null,null,null,null,null,null,null,null,null,null,null,null,null,null,null,24,19,3]
[880775,52,45,21,24,0,0,0,0,0,0,0,0,0,0,0,8,12,23,55,55,null,null,null,null,null,null,null,null,null,null,null,null,null,null,null,null,22,16,7]
[880800,45,37,16,20,0,0,0,0,0,0,0,0,0,0,0,19,12,19,63,46,null,null,null,null,null,null,null,null,null,null,null,null,null,null,null,null,28,14,5]
[880825,34,32,14,18,0,0,0,0,0,0,0,0,0,0,0,6,13,15,37,41,null,null,null,null,null,null,null,null,null,null,null,null,null,null,null,null,14,13,3]
[880850,36,36,17,19,0,0,0,0,0,0,0,0,0,0,0,21,24,20,51,50,null,null,null,null,null,null,null,null,null,null,null,null,null,null,null,null,19,13,7]
[880875,42,40,20,20,0,0,0,0,0,0,0,0,0,0,0,30,29,24,57,55,null,null,null,null,null,null,null,null,null,null,null,null,null,null,null,null,24,14,10]
[880900,44,44,22,22,0,0,0,0,0,0,0,0,0,0,0,32,21,25,62,55,null,null,null,null,null,null,null,null,null,null,null,null,null,null,null,null,28,16,9]
[880925,51,49,31,17,0,0,0,0,0,0,0,0,0,0,0,12,11,23,56,45,null,null,null,null,null,null,null,null,null,null,null,null,null,null,null,null,25,17,5]
[880950,54,57,32,25,0,0,0,0,0,0,0,0,0,0,0,11,6,22,42,46,null,null,null,null,null,null,null,null,null,null,null,null,null,null,null,null,24,20,3]
[880975,69,65,43,22,0,0,0,0,0,0,0,0,0,0,0,3,2,23,58,29,null,null,null,null,null,null,null,null,null,null,null,null,null,null,null,null,25,23,0]
[881000,71,56,42,13,0,0,0,0,0,0,0,0,0,0,0,2,4,21,6,24,null,null,null,null,null,null,null,null,null,null,null,null,null,null,null,null,26,20,1]
[881025,49,41,23,18,0,0,0,0,0,0,0,0,0,0,0,7,7,19,47,42,null,null,null,null,null,null,null,null,null,null,null,null,null,null,null,null,21,15,3]
[881050,39,34,23,11,0,0,0,0,0,0,0,0,0,0,0,8,9,20,44,40,null,null,null,null,null,null,null,null,null,null,null,null,null,null,null,null,20,14,5]
[881075,35,26,16,10,0,0,0,0,0,0,0,0,0,0,0,11,17,21,42,40,null,null,null,null,null,null,null,null,null,null,null,null,null,null,null,null,23,12,9]
[881100,21,18,7,11,0,0,0,0,0,0,0,0,0,0,0,26,27,19,44,35,null,null,null,null,null,null,null,null,null,null,null,null,null,null,null,null,23,9,10]
[881125,18,20,7,13,0,0,0,0,0,0,0,0,0,0,0,32,17,15,32,33,null,null,null,null,null,null,null,null,null,null,null,null,null,null,null,null,19,9,6]
[881150,25,21,5,15,0,0,0,0,0,0,0,0,0,0,0,5,4,13,38,35,null,null,null,null,null,null,null,null,null,null,null,null,null,null,null,null,14,9,3]
[881175,20,15,2,13,0,0,0,0,0,0,0,0,0,0,0,5,8,13,38,36,null,null,null,null,null,null,null,null,null,null,null,null,null,null,null,null,13,7,6]
[881200,13,8,1,8,0,0,0,0,0,0,0,0,0,0,0,12,16,13,39,35,null,null,null,null,null,null,null,null,null,null,null,null,null,null,null,null,15,5,8]
[881225,5,3,0,3,0,0,0,0,0,0,0,0,0,0,0,23,25,10,36,32,null,null,null,null,null,null,null,null,null,null,null,null,null,null,null,null,12,2,8]
[881250,1,0,0,0,0,0,0,0,0,0,0,0,0,0,0,32,27,9,32,29,null,null,null,null,null,null,null,null,null,null,null,null,null,null,null,null,10,0,8]
[881275,1,2,0,2,0,0,0,0,0,0,0,0,0,0,0,25,23,9,30,29,null,null,null,null,null,null,null,null,null,null,null,null,null,null,null,null,9,2,7]
[881300,4,4,0,4,0,0,0,0,0,0,0,0,0,0,0,24,26,9,32,29,null,null,null,null,null,null,null,null,null,null,null,null,null,null,null,null,10,3,6]
[881325,5,4,0,3,0,0,0,0,0,0,0,0,0,0,0,33,34,8,30,26,1,2,null,null,null,null,null,null,null,null,null,null,null,null,null,null,10,3,6]
[881350,3,2,0,2,0,0,0,0,0,0,0,0,0,0,0,40,42,7,26,21,2,3,null,null,null,null,null,null,null,null,null,null,null,null,null,null,8,1,5]
[881375,0,3,1,3,0,0,0,0,0,0,0,0,0,0,0,50,48,7,20,20,3,4,null,null,null,null,null,null,null,null,null,null,null,null,null,null,6,2,5]
[881400,7,null,null,null,null,null,null,null,null,null,null,null,null,null,null,54,null,null,24,null,4,null,null,null,null,null,null,null,null,null,null,null,null,null,null,null,9]
[]
["PARKING"]
[311,13,1,1,0,0,0,0,0,0,0,0,0,0,0,0,0,0,0,null,null,null,null,null,null,null,null,null,null,null,null,null,null,null,null,null,null,0,0,0]
[313,16,1,1,1,0,0,0,0,0,0,0,0,0,0,0,0,0,0,34,2,null,null,null,null,null,null,null,null,null,null,null,null,null,null,null,null,0,0,0]
[315,17,3,1,2,0,0,0,0,0,0,0,0,0,0,0,0,0,1,25,5,null,null,null,null,null,null,null,null,null,null,null,null,null,null,null,null,0,0,0]
[320,15,3,1,2,0,0,0,0,0,0,0,0,0,0,0,1,0,3,27,7,null,null,null,null,null,null,null,null,null,null,null,null,null,null,null,null,6,2,1]
[325,20,3,0,3,0,0,0,0,0,0,0,0,0,0,0,2,0,5,48,10,null,null,null,null,null,null,null,null,null,null,null,null,null,null,null,null,23,2,2]
[330,13,2,0,2,0,0,0,0,0,0,0,0,0,0,0,2,1,5,58,11,null,null,null,null,null,null,null,null,null,null,null,null,null,null,null,null,29,2,3]
[335,13,3,1,3,0,0,0,0,0,0,0,0,0,0,0,9,3,4,64,12,null,null,null,null,null,null,null,null,null,null,null,null,null,null,null,null,30,2,2]
[340,24,6,2,4,0,0,0,0,0,0,0,0,0,0,0,25,5,3,71,14,null,null,null,null,null,null,null,null,null,null,null,null,null,null,null,null,11,2,1]
[345,45,11,5,5,0,0,0,0,0,0,0,0,0,0,0,28,5,3,78,15,null,null,null,null,null,null,null,null,null,null,null,null,null,null,null,null,16,3,1]
[350,68,14,8,6,0,0,0,0,0,0,0,0,0,0,0,30,6,4,84,16,null,null,null,null,null,null,null,null,null,null,null,null,null,null,null,null,19,3,1]
[355,84,17,10,7,0,0,0,0,0,0,0,0,0,0,0,30,6,4,86,16,null,null,null,null,null,null,null,null,null,null,null,null,null,null,null,null,21,3,1]
[360,98,19,12,8,0,0,0,0,0,0,0,0,0,0,0,34,7,4,89,17,null,null,null,null,null,null,null,null,null,null,null,null,null,null,null,null,22,3,1]
[365,109,23,15,8,0,0,0,0,0,0,0,0,0,0,0,41,6,6,91,17,null,null,null,null,null,null,null,null,null,null,null,null,null,null,null,null,24,5,2]
[370,137,20,13,7,0,0,0,0,0,0,0,0,0,0,0,23,3,6,89,13,null,null,null,null,null,null,null,null,null,null,null,null,null,null,null,null,46,5,2]
[374,131,5,3,2,0,0,0,0,0,0,0,0,0,0,0,23,1,1,82,3,null,null,null,null,null,null,null,null,null,null,null,null,null,null,null,null,41,1,0]
[375,119,19,11,8,0,0,0,0,0,0,0,0,0,0,0,21,2,6,72,13,null,null,null,null,null,null,null,null,null,null,null,null,null,null,null,null,35,5,1]
[380,83,12,6,6,0,0,0,0,0,0,0,0,0,0,0,0,0,5,65,9,null,null,null,null,null,null,null,null,null,null,null,null,null,null,null,null,28,5,0]
[385,44,4,2,2,0,0,0,0,0,0,0,0,0,0,0,0,0,2,31,null,null,null,null,null,null,null,null,null,null,null,null,null,null,null,null,null,23,2,0]
[390,3,null,null,null,null,null,null,null,null,null,null,null,null,null,null,0,null,null,null,null,null,null,null,null,null,null,null,null,null,null,null,null,null,null,null,null,3]
[]
["SIDEWALK"]
[830,0,0,0,0,0,0,0,0,0,0,0,0,0,0,0,7,7,0,22,9,null,null,null,null,null,null,null,null,null,null,null,null,null,null,null,null,0,0,0]
[840,0,0,0,0,0,0,0,0,0,0,0,0,0,0,0,30,16,3,29,15,null,null,null,null,null,null,null,null,null,null,null,null,null,null,null,null,0,0,3]
[850,2,1,0,1,0,0,0,0,0,0,0,0,0,0,0,54,18,6,51,18,null,null,null,null,null,null,null,null,null,null,null,null,null,null,null,null,16,1,5]
[860,2,1,0,1,0,0,0,0,0,0,0,0,0,0,0,44,15,6,49,17,null,null,null,null,null,null,null,null,null,null,null,null,null,null,null,null,16,1,5]
[870,2,1,0,1,0,0,0,0,0,0,0,0,0,0,0,34,11,5,46,17,null,null,null,null,null,null,null,null,null,null,null,null,null,null,null,null,14,1,4]
[880,2,1,0,1,0,0,0,0,0,0,0,0,0,0,0,26,9,5,43,16,null,null,null,null,null,null,null,null,null,null,null,null,null,null,null,null,13,1,4]
[890,4,1,0,1,0,0,0,0,0,0,0,0,0,0,0,21,7,4,42,15,null,null,null,null,null,null,null,null,null,null,null,null,null,null,null,null,12,1,3]
[900,4,2,0,2,0,0,0,0,0,0,0,0,0,0,0,17,6,4,40,14,null,null,null,null,null,null,null,null,null,null,null,null,null,null,null,null,11,1,3]
[910,5,2,0,2,0,0,0,0,0,0,0,0,0,0,0,14,4,3,38,13,null,null,null,null,null,null,null,null,null,null,null,null,null,null,null,null,9,1,2]
[920,6,2,0,2,0,0,0,0,0,0,0,0,0,0,0,10,3,2,35,10,null,null,null,null,null,null,null,null,null,null,null,null,null,null,null,null,8,0,1]
[930,6,6,4,3,0,0,0,0,0,0,0,0,0,0,0,7,3,4,18,8,null,null,null,null,null,null,null,null,null,null,null,null,null,null,null,null,0,1,3]
[940,28,10,8,1,0,0,0,0,0,0,0,0,0,0,0,8,1,3,26,null,null,null,null,null,null,null,null,null,null,null,null,null,null,null,null,null,21,1,3]
[948.8,31,null,null,null,null,null,null,null,null,null,null,null,null,null,null,1,null,null,null,null,null,null,null,null,null,null,null,null,null,null,null,null,null,null,null,null,0]
[]
["STG1_US_63"]
[84155,256,194,138,56,0,0,0,45,0,0,0,0,0,0,0,0,0,30,93,67,61,45,null,null,null,null,null,null,null,null,null,null,null,null,null,null,40,30,1,144,106,0]
[84175,269,254,181,72,0,0,0,56,0,0,0,0,0,0,0,0,0,40,89,81,61,56,null,null,null,null,null,null,null,null,null,null,null,null,null,null,42,40,0,143,132,0]
[84200,279,253,180,73,0,0,0,56,0,0,0,0,0,0,0,0,0,42,86,80,61,56,null,null,null,null,null,null,null,null,null,null,null,null,null,null,45,42,0,142,131,0]
[84225,267,243,170,72,0,0,0,55,0,0,0,0,0,0,0,0,0,44,87,81,60,55,null,null,null,null,null,null,null,null,null,null,null,null,null,null,47,43,1,141,130,0]
[84250,257,235,166,69,0,0,0,52,0,0,0,0,0,0,0,0,0,44,89,83,58,52,null,null,null,null,null,null,null,null,null,null,null,null,null,null,47,42,2,140,129,0]
[84275,250,228,164,64,0,0,0,49,0,0,0,0,0,0,0,0,0,44,90,85,55,49,null,null,null,null,null,null,null,null,null,null,null,null,null,null,47,38,6,139,128,0]
[84300,242,221,162,59,0,0,0,45,0,0,0,0,0,0,0,0,1,44,93,87,50,45,null,null,null,null,null,null,null,null,null,null,null,null,null,null,48,33,11,138,127,0]
[84325,235,215,160,55,0,0,0,42,0,0,0,0,0,0,0,3,5,45,96,90,47,42,null,null,null,null,null,null,null,null,null,null,null,null,null,null,48,29,16,137,126,0]
[84350,230,212,159,52,0,0,0,41,0,0,0,0,0,0,0,7,10,45,98,90,45,41,null,null,null,null,null,null,null,null,null,null,null,null,null,null,49,27,18,136,126,0]
[84375,226,209,153,51,0,4,0,40,0,0,0,0,0,0,0,13,15,45,96,91,44,41,null,null,null,null,null,null,null,null,null,null,null,null,null,null,49,26,19,136,126,0]
[84400,225,207,147,52,0,8,0,40,0,0,0,0,0,0,0,19,18,45,100,93,43,40,null,null,null,null,null,null,null,null,null,null,null,null,null,null,49,25,20,136,126,0]
[84425,223,206,147,51,0,9,0,39,0,0,0,0,0,0,0,21,21,45,101,94,43,39,null,null,null,null,null,null,null,null,null,null,null,null,null,null,48,25,20,136,126,0]
[84450,222,206,146,51,0,9,0,38,0,0,0,0,0,0,0,24,23,44,102,94,42,38,null,null,null,null,null,null,null,null,null,null,null,null,null,null,48,25,19,137,127,0]
[84475,223,207,145,53,0,9,0,38,0,0,0,0,0,0,0,25,23,44,102,94,41,38,null,null,null,null,null,null,null,null,null,null,null,null,null,null,48,25,19,137,127,0]
[84500,224,207,145,53,0,9,0,37,0,0,0,0,0,0,0,26,24,44,102,95,40,37,null,null,null,null,null,null,null,null,null,null,null,null,null,null,47,25,19,138,128,0]
[84525,223,201,145,48,0,9,0,36,0,0,0,0,0,0,0,26,25,43,102,95,40,36,null,null,null,null,null,null,null,null,null,null,null,null,null,null,47,22,21,139,129,0]
[84550,211,193,149,40,0,4,0,35,0,0,0,0,0,0,0,27,27,43,102,95,39,35,null,null,null,null,null,null,null,null,null,null,null,null,null,null,46,18,25,140,130,0]
[84575,206,189,153,36,0,0,0,35,0,0,0,0,0,0,0,30,31,42,103,96,38,35,null,null,null,null,null,null,null,null,null,null,null,null,null,null,46,15,28,141,131,0]
[84600,203,187,154,34,0,0,0,34,0,0,0,0,0,0,0,37,37,42,104,97,37,34,null,null,null,null,null,null,null,null,null,null,null,null,null,null,46,12,31,142,132,0]
[84625,201,186,154,32,0,0,0,33,0,0,0,0,0,0,0,42,41,42,105,97,36,33,null,null,null,null,null,null,null,null,null,null,null,null,null,null,45,9,33,143,133,0]
[84650,201,186,154,32,0,0,0,32,0,0,0,0,0,0,0,45,44,42,105,98,35,32,null,null,null,null,null,null,null,null,null,null,null,null,null,null,45,9,32,144,134,0]
[84675,201,187,154,33,0,0,0,31,0,0,0,0,0,0,0,51,50,41,106,98,34,31,null,null,null,null,null,null,null,null,null,null,null,null,null,null,45,9,32,145,135,0]
[84700,203,189,155,34,0,0,0,31,0,0,0,0,0,0,0,58,54,41,106,99,33,31,null,null,null,null,null,null,null,null,null,null,null,null,null,null,44,9,32,146,136,0]
[84725,205,191,156,35,0,0,0,30,0,0,0,0,0,0,0,59,56,40,107,99,33,30,null,null,null,null,null,null,null,null,null,null,null,null,null,null,44,9,31,147,136,1]
[84750,209,194,157,37,0,0,0,29,0,0,0,0,0,0,0,62,59,40,107,100,32,29,null,null,null,null,null,null,null,null,null,null,null,null,null,null,43,9,31,148,137,1]
[84775,211,195,156,39,0,0,0,28,0,0,0,0,0,0,0,64,63,40,109,101,31,28,null,null,null,null,null,null,null,null,null,null,null,null,null,null,43,10,31,150,136,3]
[84800,210,193,153,40,0,0,0,27,0,0,0,0,0,0,0,72,72,40,110,102,30,27,null,null,null,null,null,null,null,null,null,null,null,null,null,null,44,10,30,151,134,6]
[84825,206,190,150,40,0,0,0,27,0,0,0,0,0,0,0,85,81,40,110,103,29,27,null,null,null,null,null,null,null,null,null,null,null,null,null,null,43,11,30,152,131,10]
[84850,205,185,145,40,0,0,0,26,0,0,0,0,0,0,0,91,89,40,113,105,29,26,null,null,null,null,null,null,null,null,null,null,null,null,null,null,44,11,29,153,128,14]
[84875,196,178,140,38,0,0,0,26,0,0,0,0,0,0,0,101,101,40,114,107,28,26,null,null,null,null,null,null,null,null,null,null,null,null,null,null,43,11,29,154,120,23]
[84900,187,171,136,35,0,0,0,25,0,0,0,0,0,0,0,117,113,40,116,108,27,25,null,null,null,null,null,null,null,null,null,null,null,null,null,null,44,12,29,155,113,31]
[84925,182,163,130,32,0,0,0,25,0,0,0,0,0,0,0,127,119,41,117,108,27,25,null,null,null,null,null,null,null,null,null,null,null,null,null,null,44,12,29,156,109,37]
[84950,170,152,123,28,0,0,0,26,0,0,0,0,0,0,0,131,120,40,117,108,28,26,null,null,null,null,null,null,null,null,null,null,null,null,null,null,44,12,29,157,104,43]
[84975,158,160,118,42,0,0,0,27,0,0,0,0,0,0,0,129,119,57,116,132,29,27,null,null,null,null,null,null,null,null,null,null,null,null,null,null,44,27,30,159,100,47]
[85000,188,202,141,61,0,0,0,27,0,0,0,0,0,0,0,129,104,73,170,157,29,27,null,null,null,null,null,null,null,null,null,null,null,null,null,null,80,40,33,160,98,50]
[85025,249,234,170,64,0,0,0,27,0,0,0,0,0,0,0,97,88,72,169,156,29,27,null,null,null,null,null,null,null,null,null,null,null,null,null,null,78,38,34,161,98,52]
[85050,255,232,170,63,0,0,0,27,0,0,0,0,0,0,0,92,85,71,168,155,29,27,null,null,null,null,null,null,null,null,null,null,null,null,null,null,77,36,35,162,98,52]
[85075,247,220,161,59,0,0,0,27,0,0,0,0,0,0,0,91,83,69,166,153,29,27,null,null,null,null,null,null,null,null,null,null,null,null,null,null,76,32,37,163,99,53]
[85100,228,212,154,58,0,0,0,27,0,0,0,0,0,0,0,88,77,68,165,152,29,27,null,null,null,null,null,null,null,null,null,null,null,null,null,null,74,31,38,164,99,53]
[85125,231,216,156,61,0,0,0,27,0,0,0,0,0,0,0,79,70,67,164,151,29,27,null,null,null,null,null,null,null,null,null,null,null,null,null,null,73,31,37,165,101,53]
[85150,237,220,157,63,0,0,0,27,0,0,0,0,0,0,0,71,63,66,163,150,29,27,null,null,null,null,null,null,null,null,null,null,null,null,null,null,72,30,36,167,103,52]
[85175,238,221,157,64,0,0,0,27,0,0,0,0,0,0,0,66,59,65,161,149,29,27,null,null,null,null,null,null,null,null,null,null,null,null,null,null,71,30,35,168,104,52]
[85200,238,222,156,66,0,0,0,27,0,0,0,0,0,0,0,61,54,64,160,147,29,27,null,null,null,null,null,null,null,null,null,null,null,null,null,null,69,30,34,169,106,51]
[85225,242,229,157,71,0,0,0,27,0,0,0,0,0,0,0,56,48,62,159,146,29,27,null,null,null,null,null,null,null,null,null,null,null,null,null,null,68,30,32,170,110,48]
[85250,252,235,160,75,0,0,0,27,0,0,0,0,0,0,0,47,40,61,157,145,29,27,null,null,null,null,null,null,null,null,null,null,null,null,null,null,67,32,29,171,111,47]
[85275,256,238,162,77,0,0,0,27,0,0,0,0,0,0,0,40,35,60,156,144,29,27,null,null,null,null,null,null,null,null,null,null,null,null,null,null,66,33,27,172,112,48]
[85300,259,240,161,79,0,0,0,27,0,0,0,0,0,0,0,35,29,59,155,142,29,27,null,null,null,null,null,null,null,null,null,null,null,null,null,null,64,34,25,173,114,47]
[85325,260,249,166,83,0,0,0,27,0,0,0,0,0,0,0,27,21,58,153,141,29,27,null,null,null,null,null,null,null,null,null,null,null,null,null,null,63,36,22,174,117,45]
[85350,278,267,175,91,0,0,0,27,0,0,0,0,0,0,0,18,13,57,151,140,29,27,null,null,null,null,null,null,null,null,null,null,null,null,null,null,62,38,19,176,123,40]
[85375,299,283,184,99,0,0,0,27,0,0,0,0,0,0,0,11,8,56,150,138,29,27,null,null,null,null,null,null,null,null,null,null,null,null,null,null,61,41,14,177,129,35]
[85400,313,298,192,105,0,2,0,27,0,0,0,0,0,0,0,6,4,55,149,137,29,27,null,null,null,null,null,null,null,null,null,null,null,null,null,null,60,45,9,178,131,34]
[85425,331,314,201,109,0,5,0,27,0,0,0,0,0,0,0,3,3,54,148,136,29,27,null,null,null,null,null,null,null,null,null,null,null,null,null,null,58,48,5,179,133,33]
[85450,348,327,211,111,0,4,0,27,0,0,0,0,0,0,0,3,3,53,147,136,29,27,null,null,null,null,null,null,null,null,null,null,null,null,null,null,57,48,5,180,134,33]
[85475,358,337,222,110,0,4,0,27,0,0,0,0,0,0,0,3,3,52,147,136,29,27,null,null,null,null,null,null,null,null,null,null,null,null,null,null,57,46,7,181,134,34]
[85500,370,349,236,108,0,4,0,27,0,0,0,0,0,0,0,4,4,52,147,136,29,27,null,null,null,null,null,null,null,null,null,null,null,null,null,null,57,44,8,182,134,35]
[85525,384,363,252,107,0,4,0,27,0,0,0,0,0,0,0,5,7,52,147,136,29,27,null,null,null,null,null,null,null,null,null,null,null,null,null,null,56,42,11,182,134,35]
[85550,399,381,267,107,0,7,0,27,0,0,0,0,0,0,0,11,11,52,147,136,29,27,null,null,null,null,null,null,null,null,null,null,null,null,null,null,56,40,12,183,138,32]
[85575,424,402,283,108,0,11,0,27,0,0,0,0,0,0,0,14,15,52,147,136,29,27,null,null,null,null,null,null,null,null,null,null,null,null,null,null,56,40,12,183,143,27]
[85600,445,422,300,108,0,13,0,27,0,0,0,0,0,0,0,19,19,52,147,136,29,27,null,null,null,null,null,null,null,null,null,null,null,null,null,null,56,40,12,184,145,25]
[85625,466,441,319,109,0,13,0,27,0,0,0,0,0,0,0,23,23,52,147,136,29,27,null,null,null,null,null,null,null,null,null,null,null,null,null,null,56,40,12,184,145,25]
[85650,487,458,333,114,0,11,0,27,0,0,0,0,0,0,0,26,26,52,147,140,29,27,null,null,null,null,null,null,null,null,null,null,null,null,null,null,56,40,12,184,143,27]
[85675,503,471,347,114,0,10,0,27,0,0,0,0,0,0,0,30,32,52,156,140,29,27,null,null,null,null,null,null,null,null,null,null,null,null,null,null,56,40,12,184,142,29]
[85700,514,486,360,111,0,15,0,27,0,0,0,0,0,0,0,39,33,52,147,137,29,27,null,null,null,null,null,null,null,null,null,null,null,null,null,null,56,40,11,184,147,23]
[85725,536,503,371,112,0,21,0,27,0,0,0,0,0,0,0,33,30,52,148,137,29,27,null,null,null,null,null,null,null,null,null,null,null,null,null,null,56,41,11,184,152,18]
[85750,551,518,384,112,0,22,0,27,0,0,0,0,0,0,0,33,30,52,149,138,29,27,null,null,null,null,null,null,null,null,null,null,null,null,null,null,57,41,11,184,153,17]
[85775,568,536,398,113,0,26,0,27,0,0,0,0,0,0,0,32,30,52,149,138,29,27,null,null,null,null,null,null,null,null,null,null,null,null,null,null,57,41,11,184,157,13]
[85800,591,558,412,113,0,33,0,27,0,0,0,0,0,0,0,33,31,52,149,138,29,27,null,null,null,null,null,null,null,null,null,null,null,null,null,null,57,41,11,184,163,7]
[85825,614,575,426,113,0,36,0,27,0,0,0,0,0,0,0,34,31,52,149,138,29,27,null,null,null,null,null,null,null,null,null,null,null,null,null,null,57,42,11,184,166,4]
[85850,628,590,440,114,0,36,0,27,0,0,0,0,0,0,0,34,31,53,150,139,29,27,null,null,null,null,null,null,null,null,null,null,null,null,null,null,57,42,11,184,167,3]
[85875,647,604,453,115,0,36,0,27,0,0,0,0,0,0,0,33,31,53,150,139,29,27,null,null,null,null,null,null,null,null,null,null,null,null,null,null,57,42,10,184,167,3]
[85900,657,615,483,115,0,18,0,27,0,0,0,0,0,0,0,34,32,53,150,138,29,27,null,null,null,null,null,null,null,null,null,null,null,null,null,null,57,42,10,184,168,2]
[85925,672,631,516,114,0,0,0,27,0,0,0,0,0,0,0,35,31,53,149,138,29,27,null,null,null,null,null,null,null,null,null,null,null,null,null,null,57,42,10,184,169,1]
[85950,690,642,528,114,0,0,0,27,0,0,0,0,0,0,0,32,29,53,149,138,29,27,null,null,null,null,null,null,null,null,null,null,null,null,null,null,57,43,10,184,170,0]
[85975,697,651,537,114,0,0,0,27,0,0,0,0,0,0,0,31,28,53,149,138,29,27,null,null,null,null,null,null,null,null,null,null,null,null,null,null,57,43,10,184,170,0]
[86000,709,657,543,114,0,0,0,27,0,0,0,0,0,0,0,29,30,53,149,138,29,27,null,null,null,null,null,null,null,null,null,null,null,null,null,null,57,43,10,184,170,0]
[86025,710,658,544,114,0,0,0,27,0,0,0,0,0,0,0,34,31,53,149,138,29,27,null,null,null,null,null,null,null,null,null,null,null,null,null,null,57,43,10,184,170,0]
[86050,711,667,552,115,0,0,0,27,0,0,0,0,0,0,0,33,29,53,149,138,29,27,null,null,null,null,null,null,null,null,null,null,null,null,null,null,57,43,10,184,170,0]
[86075,729,681,565,115,0,0,0,27,0,0,0,0,0,0,0,30,28,53,149,138,29,27,null,null,null,null,null,null,null,null,null,null,null,null,null,null,57,43,10,184,170,0]
[86100,741,692,576,116,0,0,0,27,0,0,0,0,0,0,0,29,27,54,150,139,29,27,null,null,null,null,null,null,null,null,null,null,null,null,null,null,57,44,9,184,170,0]
[86125,754,700,582,118,0,0,0,27,0,0,0,0,0,0,0,30,27,55,151,141,29,27,null,null,null,null,null,null,null,null,null,null,null,null,null,null,58,45,9,184,170,0]
[86150,759,702,582,119,0,0,0,27,0,0,0,0,0,0,0,30,29,56,153,142,29,27,null,null,null,null,null,null,null,null,null,null,null,null,null,null,60,46,9,184,170,0]
[86175,756,697,578,120,0,0,0,27,0,0,0,0,0,0,0,33,32,56,154,142,29,27,null,null,null,null,null,null,null,null,null,null,null,null,null,null,60,47,9,184,170,0]
[86200,750,691,572,120,0,0,0,27,0,0,0,0,0,0,0,37,35,56,154,142,29,27,null,null,null,null,null,null,null,null,null,null,null,null,null,null,61,47,9,184,170,0]
[86225,743,689,568,121,0,0,0,27,0,0,0,0,0,0,0,40,37,57,154,143,29,27,null,null,null,null,null,null,null,null,null,null,null,null,null,null,61,47,9,184,170,0]
[86250,745,686,565,121,0,0,0,27,0,0,0,0,0,0,0,40,38,57,155,144,29,27,null,null,null,null,null,null,null,null,null,null,null,null,null,null,62,48,9,184,170,0]
[86275,737,682,559,122,0,0,0,27,0,0,0,0,0,0,0,41,38,58,156,144,29,27,null,null,null,null,null,null,null,null,null,null,null,null,null,null,62,49,9,184,169,1]
[86300,735,680,557,123,0,0,0,27,0,0,0,0,0,0,0,42,39,59,156,145,29,27,null,null,null,null,null,null,null,null,null,null,null,null,null,null,63,50,9,184,169,1]
[86325,734,676,551,125,0,0,0,27,0,0,0,0,0,0,0,43,41,59,158,147,29,27,null,null,null,null,null,null,null,null,null,null,null,null,null,null,64,50,9,184,169,1]
[86350,726,668,542,126,0,0,0,27,0,0,0,0,0,0,0,47,45,60,159,148,29,27,null,null,null,null,null,null,null,null,null,null,null,null,null,null,64,51,9,184,169,1]
[86375,716,654,527,126,0,0,0,27,0,0,0,0,0,0,0,50,47,60,160,148,29,27,null,null,null,null,null,null,null,null,null,null,null,null,null,null,65,51,9,184,167,3]
[86400,696,633,506,127,0,0,0,27,0,0,0,0,0,0,0,52,49,61,161,149,29,27,null,null,null,null,null,null,null,null,null,null,null,null,null,null,66,52,9,184,159,11]
[86425,671,611,484,127,0,0,0,27,0,0,0,0,0,0,0,54,51,61,162,150,29,27,null,null,null,null,null,null,null,null,null,null,null,null,null,null,66,52,9,184,150,20]
[86450,650,591,464,127,0,0,0,27,0,0,0,0,0,0,0,57,55,62,162,151,29,27,null,null,null,null,null,null,null,null,null,null,null,null,null,null,67,53,9,184,142,28]
[86475,627,572,445,126,0,0,0,27,0,0,0,0,0,0,0,61,59,63,163,151,29,27,null,null,null,null,null,null,null,null,null,null,null,null,null,null,67,54,9,184,133,37]
[86500,608,552,428,124,0,0,0,27,0,0,0,0,0,0,0,66,63,63,164,152,29,27,null,null,null,null,null,null,null,null,null,null,null,null,null,null,68,54,9,184,123,47]
[86525,585,533,413,120,0,0,0,27,0,0,0,0,0,0,0,70,67,64,165,153,29,27,null,null,null,null,null,null,null,null,null,null,null,null,null,null,69,55,9,184,116,55]
[86550,566,520,402,118,0,0,0,27,0,0,0,0,0,0,0,74,70,65,166,155,29,27,null,null,null,null,null,null,null,null,null,null,null,null,null,null,70,56,9,184,111,59]
[86575,557,510,393,117,0,0,0,27,0,0,0,0,0,0,0,76,73,66,168,156,29,27,null,null,null,null,null,null,null,null,null,null,null,null,null,null,71,57,9,184,109,62]
[86600,545,499,383,115,0,0,0,27,0,0,0,0,0,0,0,81,78,67,169,158,29,27,null,null,null,null,null,null,null,null,null,null,null,null,null,null,72,57,9,184,105,65]
[86625,531,486,374,111,0,0,0,27,0,0,0,0,0,0,0,87,83,68,171,159,29,27,null,null,null,null,null,null,null,null,null,null,null,null,null,null,73,58,10,184,99,71]
[86650,518,471,367,104,0,0,0,27,0,0,0,0,0,0,0,93,88,69,173,161,29,27,null,null,null,null,null,null,null,null,null,null,null,null,null,null,74,60,10,184,89,81]
[86675,500,457,358,99,0,0,0,27,0,0,0,0,0,0,0,98,95,70,175,163,29,27,null,null,null,null,null,null,null,null,null,null,null,null,null,null,75,61,10,184,81,89]
[86700,487,444,346,97,0,0,0,27,0,0,0,0,0,0,0,107,103,71,176,164,29,27,30,21,21,6,0,0,0,20,0,0,0,0,0,0,77,61,10,184,78,92]
[86725,472,430,332,98,0,0,0,27,0,0,0,0,0,0,0,116,110,72,178,165,29,27,31,21,21,7,0,0,0,20,0,0,0,0,0,0,77,62,10,184,76,94]
[86750,457,414,317,98,0,0,0,26,0,0,0,0,0,0,0,122,117,73,180,167,29,26,31,21,21,8,0,0,0,19,0,0,0,0,0,0,78,63,10,184,73,97]
[86775,439,399,300,98,0,0,0,26,0,0,0,0,0,0,0,131,129,74,181,169,27,26,32,21,21,8,0,0,0,11,0,0,0,0,0,0,79,64,10,184,71,99]
[86800,422,385,286,99,0,0,0,27,0,0,0,0,0,0,0,147,148,75,183,171,29,27,32,21,21,8,0,0,0,4,0,0,0,0,0,0,81,65,11,184,69,101]
[86825,409,375,276,99,0,0,0,27,0,0,0,0,0,0,0,173,172,76,185,173,29,27,28,21,21,7,0,0,0,3,0,0,0,0,0,0,82,66,11,184,67,103]
[86850,401,366,267,99,0,0,0,27,0,0,0,0,0,0,0,199,190,77,188,175,29,27,29,20,20,6,0,0,0,3,0,0,0,0,0,0,83,66,11,184,64,106]
[86875,390,364,263,100,0,0,0,27,0,0,0,0,0,0,0,211,204,79,190,177,29,27,29,20,20,7,0,0,0,4,0,0,0,0,0,0,84,67,11,184,63,107]
[86900,396,371,268,104,0,0,0,27,0,0,0,0,0,0,0,229,223,80,193,182,29,27,29,20,20,7,0,0,0,4,0,0,0,0,0,0,86,69,11,184,62,113]
[86925,406,368,262,106,0,0,0,27,0,0,0,0,0,0,0,253,247,81,200,186,29,27,29,19,19,7,0,0,0,4,0,0,0,0,0,0,87,71,10,195,61,120]
[86950,388,363,259,103,0,0,0,27,0,0,0,0,0,0,0,281,280,81,202,187,29,27,22,18,18,6,0,0,0,5,0,0,0,0,0,0,88,70,11,196,58,122]
[86975,395,366,262,104,0,0,0,27,0,0,0,0,0,0,0,324,327,84,202,192,29,27,22,17,17,4,0,0,0,5,0,0,0,0,0,0,87,71,13,194,56,122]
[87000,396,392,282,109,0,0,0,27,0,0,0,0,0,0,0,383,373,90,213,201,29,27,141,0,0,0,0,0,0,0,0,0,0,0,0,0,94,74,17,192,56,121]
[87025,450,444,334,110,0,0,0,27,0,0,0,0,0,0,0,422,424,91,222,204,29,27,null,null,null,null,null,null,null,null,null,null,null,null,null,null,100,73,18,189,56,119]
[87050,510,490,385,105,0,0,0,30,0,0,0,0,0,0,0,494,506,67,218,199,29,30,null,null,null,null,null,null,null,null,null,null,null,null,null,null,96,49,18,190,28,103]
[87075,548,554,451,103,0,0,0,16,0,0,0,0,0,0,0,598,421,23,212,193,36,65,null,null,null,null,null,null,null,null,null,null,null,null,null,null,49,13,9,94,0,44]
[87100,648,394,307,88,0,0,0,0,0,0,0,0,0,0,0,311,181,0,204,149,null,null,null,null,null,null,null,null,null,null,null,null,null,null,null,null,0,0,0,0,0,0]
[87125,204,165,111,54,0,0,0,0,0,0,0,0,0,0,0,79,37,0,119,76,null,null,null,null,null,null,null,null,null,null,null,null,null,null,null,null,0,0,0,0,0,0]
[87150,153,172,121,51,0,0,0,0,0,0,0,0,0,0,0,0,0,0,45,54,null,null,null,null,null,null,null,null,null,null,null,null,null,null,null,null,0,0,0,0,0,0]
[87175,219,438,361,77,0,0,0,16,0,0,0,0,0,0,0,0,0,0,73,81,null,null,null,null,null,null,null,null,null,null,null,null,null,null,null,null,0,0,0,0,0,0]
[87200,727,560,458,102,0,0,0,26,0,0,0,0,0,0,0,0,145,23,103,152,35,31,null,null,null,null,null,null,null,null,null,null,null,null,null,null,0,22,1,0,9,0]
[87225,484,424,316,107,0,0,0,23,0,0,0,0,0,0,0,313,440,64,226,200,33,29,100,96,96,16,0,0,0,21,0,0,0,0,0,0,50,55,10,19,38,59]
[87250,432,407,311,96,0,0,0,27,0,0,0,0,0,0,0,638,604,83,206,192,29,27,101,79,79,14,0,0,0,21,0,0,0,0,0,0,89,63,21,190,59,116]
[87275,447,425,336,88,0,0,0,27,0,0,0,0,0,0,0,666,620,85,209,194,29,27,101,80,80,13,0,0,0,21,0,0,0,0,0,0,91,58,26,187,60,113]
[87300,471,463,376,87,0,0,0,27,0,0,0,0,0,0,0,673,635,87,210,197,29,27,104,83,83,12,0,0,0,21,0,0,0,0,0,0,92,56,31,187,62,111]
[87325,530,505,414,91,0,0,0,27,0,0,0,0,0,0,0,697,660,90,215,202,29,27,104,85,85,11,0,0,0,21,0,0,0,0,0,0,96,58,32,187,64,109]
[87350,561,539,445,94,0,0,0,27,0,0,0,0,0,0,0,729,680,93,221,206,29,27,105,86,86,10,0,0,0,21,0,0,0,0,0,0,99,59,34,189,67,108]
[87375,603,588,492,95,0,0,0,27,0,0,0,0,0,0,0,739,699,94,225,209,29,27,105,88,88,9,0,0,0,22,0,0,0,0,0,0,101,60,35,190,69,107]
[87400,666,650,554,96,0,0,0,27,0,0,0,0,0,0,0,771,721,96,226,210,29,27,110,89,89,10,0,0,0,22,0,0,0,0,0,0,103,60,36,190,67,105]
[87425,739,712,614,98,0,0,0,27,0,0,0,0,0,0,0,788,728,98,228,212,29,27,112,91,91,12,0,0,0,22,0,0,0,0,0,0,105,62,36,184,67,103]
[87450,799,762,661,101,0,0,0,27,0,0,0,0,0,0,0,785,735,99,230,213,29,27,118,92,92,14,0,0,0,22,0,0,0,0,0,0,106,63,36,184,69,101]
[87475,848,806,703,103,0,0,0,27,0,0,0,0,0,0,0,802,740,100,230,215,29,27,120,94,94,17,0,0,0,23,0,0,0,0,0,0,107,63,36,184,71,99]
[87500,893,857,753,104,0,0,0,27,0,0,0,0,0,0,0,797,742,102,233,217,29,27,121,94,94,17,0,0,0,23,0,0,0,0,0,0,109,64,38,184,73,97]
[87525,959,911,806,105,0,0,0,27,0,0,0,0,0,0,0,805,747,103,236,220,29,27,121,95,95,17,0,0,0,23,0,0,0,0,0,0,111,64,39,184,75,95]
[87550,1010,965,858,107,0,0,0,27,0,0,0,0,0,0,0,809,736,105,239,222,29,27,122,95,95,17,0,0,0,24,0,0,0,0,0,0,113,65,41,184,78,92]
[87575,1075,1027,917,110,0,0,0,27,0,0,0,0,0,0,0,780,726,106,241,224,29,27,122,95,95,18,0,0,0,24,0,0,0,0,0,0,114,66,41,184,81,89]
[87600,1144,1092,980,112,0,0,0,27,0,0,0,0,0,0,0,789,728,108,243,226,29,27,122,95,95,18,0,0,0,24,0,0,0,0,0,0,116,66,41,184,82,88]
[87625,1215,1157,1043,114,0,0,0,27,0,0,0,0,0,0,0,784,713,109,245,227,29,27,123,95,95,18,0,0,0,25,0,0,0,0,0,0,117,67,41,184,84,86]
[87650,1285,1221,1103,118,0,0,0,27,0,0,0,0,0,0,0,755,691,110,246,229,29,27,124,95,95,19,0,0,0,25,0,0,0,0,0,0,118,69,41,184,87,83]
[87675,1352,1275,1155,120,0,0,0,27,0,0,0,0,0,0,0,737,679,110,248,230,29,27,126,95,95,20,0,0,0,25,0,0,0,0,0,0,119,69,41,184,89,81]
[87700,1402,1326,1205,120,0,0,0,27,0,0,0,0,0,0,0,730,676,111,249,231,29,27,126,95,95,22,0,0,0,26,0,0,0,0,0,0,119,69,43,184,92,78]
[87725,1461,1390,1269,121,0,0,0,27,0,0,0,0,0,0,0,731,682,112,251,233,29,27,127,95,95,22,0,0,0,26,0,0,0,0,0,0,121,68,44,184,94,76]
[87750,1542,1461,1339,122,0,0,0,27,0,0,0,0,0,0,0,742,688,113,252,234,29,27,127,95,95,22,0,0,0,26,0,0,0,0,0,0,121,68,44,184,96,74]
[87775,1614,1515,1392,123,0,0,0,27,0,0,0,0,0,0,0,744,688,113,253,234,29,27,128,95,95,23,0,0,0,26,0,0,0,0,0,0,122,68,45,184,98,72]
[87800,1659,1565,1441,124,0,0,0,27,0,0,0,0,0,0,0,742,686,114,254,235,29,27,128,95,95,23,0,0,0,26,0,0,0,0,0,0,122,68,45,184,100,70]
[87825,1721,1613,1493,120,0,0,0,27,0,0,0,0,0,0,0,740,682,114,255,223,29,27,121,95,95,20,0,0,0,27,0,0,0,0,0,0,123,69,46,184,102,68]
[87850,1764,1654,1533,121,0,0,0,27,0,0,0,0,0,0,0,733,669,114,228,223,29,27,129,95,95,21,0,0,0,27,0,0,0,0,0,0,124,68,46,184,103,67]
[87875,1809,1709,1579,130,0,0,0,27,0,0,0,0,0,0,0,712,652,115,255,238,29,27,130,95,95,25,0,0,0,27,0,0,0,0,0,0,123,70,45,184,105,65]
[87900,1883,1785,1649,136,0,0,0,27,0,0,0,0,0,0,0,696,635,116,260,241,29,27,132,95,95,26,0,0,0,27,0,0,0,0,0,0,125,72,44,184,108,62]
[87925,1972,1835,1702,133,0,0,0,27,0,0,0,0,0,0,0,676,619,110,261,233,29,27,133,95,95,28,0,0,0,27,0,0,0,0,0,0,125,68,42,184,111,59]
[87950,1991,1818,1689,130,0,0,0,29,0,0,0,0,0,0,0,660,702,108,243,164,29,29,127,95,95,25,0,0,0,28,0,0,0,0,0,0,112,69,39,184,99,71]
[87975,1937,1589,1467,122,0,0,0,18,0,0,0,0,0,0,0,857,962,113,112,172,34,18,81,78,78,19,0,0,0,15,0,0,0,0,0,0,122,76,37,184,65,105]
[88000,1495,1146,1040,106,0,0,0,2,0,0,0,0,0,0,0,1221,1312,113,259,239,4,29,130,0,0,0,0,0,0,0,0,0,0,0,0,0,122,74,39,184,21,149]
[88025,980,656,560,96,0,0,0,0,0,0,0,0,0,0,0,1613,1705,113,256,237,null,null,null,null,null,null,null,null,null,null,null,null,null,null,null,null,122,67,46,184,0,170]
[88050,437,278,196,82,0,0,0,0,0,0,0,0,0,0,0,2071,2064,113,257,238,null,null,null,null,null,null,null,null,null,null,null,null,null,null,null,null,122,57,56,184,0,170]
[88075,163,144,70,74,0,0,0,0,0,0,0,0,0,0,0,2387,2224,114,258,221,null,null,null,null,null,null,null,null,null,null,null,null,null,null,null,null,123,52,63,184,0,170]
[88100,149,134,64,69,0,0,0,0,0,0,0,0,0,0,0,2416,1937,95,219,195,27,16,null,null,null,null,null,null,null,null,null,null,null,null,null,null,124,48,47,184,0,163]
[88125,140,151,83,67,0,0,0,0,0,0,0,0,0,0,0,1768,1542,76,202,188,7,7,null,null,null,null,null,null,null,null,null,null,null,null,null,null,81,46,30,168,0,157]
[88150,186,216,143,73,0,0,0,0,0,0,0,0,0,0,0,1563,1152,78,204,190,8,7,null,null,null,null,null,null,null,null,null,null,null,null,null,null,83,49,29,171,0,159]
[88175,281,238,160,78,0,0,0,4,0,0,0,0,0,0,0,926,573,80,207,192,8,7,null,null,null,null,null,null,null,null,null,null,null,null,null,null,85,45,34,171,33,124]
[88200,233,479,384,95,0,0,0,8,0,0,0,0,0,0,0,311,195,81,207,176,8,8,null,null,null,null,null,null,null,null,null,null,null,null,null,null,87,52,29,168,87,68]
[88225,803,1136,1011,125,0,0,0,19,0,0,0,0,0,0,0,111,99,83,173,162,8,19,136,95,95,28,0,0,0,10,0,0,0,0,0,0,89,74,9,168,110,47]
[88250,1652,1617,1485,131,0,0,0,29,0,0,0,0,0,0,0,103,117,85,176,173,31,29,136,96,96,30,0,0,0,23,0,0,0,0,0,0,91,73,11,172,110,49]
[88275,1840,1784,1646,137,0,0,0,27,0,0,0,0,0,0,0,150,132,86,196,183,31,27,137,97,97,30,0,0,0,24,0,0,0,0,0,0,93,74,12,172,109,50]
[88300,2013,1897,1742,155,0,0,0,26,0,0,0,0,0,0,0,136,129,87,199,183,28,26,135,97,97,29,0,0,0,23,0,0,0,0,0,0,94,87,1,172,105,52]
[88325,2084,1925,1770,155,0,0,0,26,0,0,0,0,0,0,0,143,137,88,197,183,29,26,135,97,97,28,0,0,0,23,0,0,0,0,0,0,95,88,0,168,102,54]
[88350,2073,1970,1798,172,0,0,0,26,0,0,0,0,0,0,0,153,409,116,197,227,28,26,136,97,97,28,0,0,0,23,0,0,0,0,0,0,96,101,15,168,100,63]
[88375,2183,1990,1798,191,0,0,0,27,0,0,0,0,0,0,0,730,671,143,293,271,29,30,135,0,0,0,0,0,0,0,0,0,0,0,0,0,155,114,29,184,100,71]
[88400,2115,1923,1733,190,0,0,0,27,0,0,0,0,0,0,0,719,653,141,292,268,35,32,null,null,null,null,null,null,null,null,null,null,null,null,null,null,155,113,28,184,99,72]
[88425,2039,1852,1669,183,0,0,0,27,0,0,0,0,0,0,0,692,632,136,286,260,35,29,135,97,97,28,0,0,0,22,0,0,0,0,0,0,150,108,27,184,99,72]
[88450,1961,1781,1608,172,0,0,0,27,0,0,0,0,0,0,0,673,618,128,275,248,29,29,135,97,97,28,0,0,0,22,0,0,0,0,0,0,143,101,27,184,98,73]
[88475,1885,1701,1537,164,0,0,0,27,0,0,0,0,0,0,0,662,601,123,262,240,35,32,134,97,97,27,0,0,0,22,0,0,0,0,0,0,134,97,26,184,98,73]
[88500,1790,1625,1463,162,0,0,0,27,0,0,0,0,0,0,0,636,582,121,257,237,35,32,134,97,97,27,0,0,0,22,0,0,0,0,0,0,131,95,26,184,97,74]
[88525,1720,1569,1408,161,0,0,0,27,0,0,0,0,0,0,0,621,562,119,255,235,35,32,134,97,97,27,0,0,0,22,0,0,0,0,0,0,129,95,25,184,97,74]
[88550,1669,1501,1343,158,0,0,0,27,0,0,0,0,0,0,0,593,535,117,253,232,35,32,133,97,97,26,0,0,0,22,0,0,0,0,0,0,128,94,23,184,97,74]
[88575,1573,1417,1266,151,0,0,0,27,0,0,0,0,0,0,0,563,509,114,248,227,35,32,132,97,97,26,0,0,0,23,0,0,0,0,0,0,125,91,23,184,97,74]
[88600,1487,1347,1199,148,0,0,0,26,0,0,0,0,0,0,0,537,485,111,243,223,35,32,492,97,97,192,0,0,0,23,0,0,0,0,0,0,122,89,22,184,97,74]
[88625,1422,1282,1135,146,0,0,0,26,0,0,0,0,0,0,0,511,468,107,238,218,34,32,132,97,97,191,0,0,0,23,0,0,0,0,0,0,118,86,21,184,97,74]
[88650,1347,1219,1076,143,0,0,0,27,0,0,0,0,0,0,0,500,455,104,232,213,35,32,131,97,97,24,0,0,0,23,0,0,0,0,0,0,114,84,21,184,97,74]
[88675,1286,1156,1017,139,0,0,0,27,0,0,0,0,0,0,0,483,429,100,227,207,35,32,130,97,97,23,0,0,0,24,0,0,0,0,0,0,111,81,20,184,96,74]
[88700,1212,1083,950,133,0,0,0,27,0,0,0,0,0,0,0,443,399,96,221,201,35,32,129,97,97,23,0,0,0,24,0,0,0,0,0,0,106,78,19,184,95,75]
[88725,1127,1011,887,124,0,0,0,27,0,0,0,0,0,0,0,418,379,91,214,193,35,32,128,97,97,22,0,0,0,25,0,0,0,0,0,0,101,73,18,184,94,77]
[88750,1056,954,835,119,0,0,0,27,0,0,0,0,0,0,0,400,357,85,203,184,35,32,127,97,97,21,0,0,0,26,0,0,0,0,0,0,94,69,16,184,95,76]
[88775,1005,893,779,114,0,0,0,27,0,0,0,0,0,0,0,372,339,81,196,178,35,32,126,97,97,20,0,0,0,26,0,0,0,0,0,0,90,65,15,184,95,75]
[88800,925,835,726,109,0,0,0,27,0,0,0,0,0,0,0,359,320,76,188,171,35,32,125,97,97,19,0,0,0,27,0,0,0,0,0,0,85,61,15,184,94,76]
[88825,879,799,694,105,0,0,0,27,0,0,0,0,0,0,0,333,296,71,181,163,35,32,124,97,97,18,0,0,0,27,0,0,0,0,0,0,80,57,14,184,95,75]
[88850,846,753,658,95,0,0,0,27,0,0,0,0,0,0,0,307,276,66,172,156,35,32,123,97,97,18,0,0,0,27,0,0,0,0,0,0,74,52,14,184,97,73]
[88875,780,694,611,82,0,0,0,27,0,0,0,0,0,0,0,289,260,61,164,147,35,32,123,97,97,17,0,0,0,27,0,0,0,0,0,0,68,44,17,184,99,72]
[88900,718,655,575,81,0,0,0,27,0,0,0,0,0,0,0,272,241,60,154,146,35,32,120,97,97,16,0,0,0,27,0,0,0,0,0,0,63,42,18,184,102,69]
[88925,698,624,547,77,0,0,0,26,0,0,0,0,0,0,0,249,222,59,161,144,35,31,119,96,96,15,0,0,0,26,0,0,0,0,0,0,67,39,20,184,105,66]
[88950,650,584,519,65,0,0,0,26,0,0,0,0,0,0,0,229,202,54,151,136,32,30,117,95,95,14,0,0,0,26,0,0,0,0,0,0,60,30,24,184,106,64]
[88975,611,552,494,58,0,0,0,27,0,0,0,0,0,0,0,208,187,50,143,130,33,30,117,95,95,13,0,0,0,27,0,0,0,0,0,0,56,25,25,184,108,62]
[89000,582,505,452,53,0,0,0,27,0,0,0,0,0,0,0,195,180,46,137,124,32,29,115,95,95,12,0,0,0,27,0,0,0,0,0,0,52,23,24,184,107,66]
[89025,510,453,403,50,0,0,0,27,0,0,0,0,0,0,0,195,177,43,132,121,31,28,114,95,95,11,0,0,0,27,0,0,0,0,0,0,48,22,22,191,104,70]
[89050,468,411,362,49,0,0,0,27,0,0,0,0,0,0,0,187,174,41,130,121,30,27,114,95,95,10,0,0,0,27,0,0,0,0,0,0,45,21,21,184,100,70]
[89075,419,369,321,48,0,0,0,27,0,0,0,0,0,0,0,188,177,41,131,122,29,27,114,95,95,10,0,0,0,27,0,0,0,0,0,0,44,20,21,184,99,72]
[89100,378,337,290,47,0,0,0,27,0,0,0,0,0,0,0,194,185,42,133,123,30,28,113,95,95,10,0,0,0,27,0,0,0,0,0,0,45,20,22,187,99,76]
[89125,350,314,268,45,0,0,0,27,0,0,0,0,0,0,0,205,197,42,133,123,31,28,113,95,95,9,0,0,0,27,0,0,0,0,0,0,46,20,23,190,96,77]
[89150,328,294,249,44,0,0,0,27,0,0,0,0,0,0,0,222,206,42,133,124,30,27,112,95,95,9,0,0,0,27,0,0,0,0,0,0,46,19,23,184,95,79]
[89175,306,274,231,43,0,0,0,27,0,0,0,0,0,0,0,223,211,43,134,125,29,27,104,95,95,5,0,0,0,27,0,0,0,0,0,0,46,19,24,190,93,80]
[89200,287,null,null,null,null,null,null,null,null,null,null,null,null,null,null,232,null,null,136,null,29,null,null,null,null,null,null,null,null,null,null,null,null,null,null,null,47,null,null,184]
[]
["Stage 2"]
[]
["STG2_Trail"]
[881400,7,21,13,7,0,0,0,10,0,0,0,0,0,0,0,54,52,17,24,24,4,15,null,null,null,null,null,null,null,null,null,null,null,null,null,null,9,12,5]
[881425,38,35,26,9,0,0,0,20,0,0,0,0,0,0,0,59,53,25,28,25,27,25,null,null,null,null,null,null,null,null,null,null,null,null,null,null,28,19,6]
[881450,38,34,26,8,0,0,0,20,0,0,0,0,0,0,0,55,50,24,27,24,27,25,null,null,null,null,null,null,null,null,null,null,null,null,null,null,27,18,6]
[881475,37,32,24,8,0,0,0,20,0,0,0,0,0,0,0,54,51,24,26,24,27,25,null,null,null,null,null,null,null,null,null,null,null,null,null,null,25,17,7]
[881500,33,29,21,8,0,0,0,19,0,0,0,0,0,0,0,56,54,24,25,23,27,25,null,null,null,null,null,null,null,null,null,null,null,null,null,null,25,16,8]
[881525,29,26,18,8,0,0,0,18,0,0,0,0,0,0,0,60,57,24,25,23,27,26,null,null,null,null,null,null,null,null,null,null,null,null,null,null,26,15,9]
[881550,27,24,15,8,0,0,0,18,0,0,0,0,0,0,0,62,58,25,25,24,28,26,null,null,null,null,null,null,null,null,null,null,null,null,null,null,26,14,11]
[881575,25,21,13,8,0,0,0,18,0,0,0,0,0,0,0,63,58,25,26,24,28,26,null,null,null,null,null,null,null,null,null,null,null,null,null,null,27,13,12]
[881600,21,19,11,8,0,0,0,18,0,0,0,0,0,0,0,63,57,26,27,26,28,26,null,null,null,null,null,null,null,null,null,null,null,null,null,null,28,13,13]
[881625,20,19,10,8,0,0,0,18,0,0,0,0,0,0,0,61,55,27,28,26,28,26,null,null,null,null,null,null,null,null,null,null,null,null,null,null,29,12,15]
[881650,20,19,11,8,0,0,0,19,0,0,0,0,0,0,0,57,51,27,29,27,28,26,null,null,null,null,null,null,null,null,null,null,null,null,null,null,29,11,16]
[881675,20,20,12,8,0,0,0,19,0,0,0,0,0,0,0,52,51,29,30,29,28,26,null,null,null,null,null,null,null,null,null,null,null,null,null,null,30,11,18]
[881700,22,21,13,8,0,0,0,19,0,0,0,0,0,0,0,58,57,30,32,31,28,26,null,null,null,null,null,null,null,null,null,null,null,null,null,null,32,10,20]
[881725,23,22,14,8,0,0,0,19,0,0,0,0,0,0,0,65,63,32,35,34,28,26,null,null,null,null,null,null,null,null,null,null,null,null,null,null,33,10,22]
[881750,24,24,16,8,0,0,0,20,0,0,0,0,0,0,0,70,70,33,38,36,28,26,null,null,null,null,null,null,null,null,null,null,null,null,null,null,35,11,22]
[881775,29,35,21,14,0,0,0,19,0,0,0,0,0,0,0,81,81,35,39,38,28,26,null,null,null,null,null,null,null,null,null,null,null,null,null,null,36,14,21]
[881800,47,58,37,22,0,0,0,20,0,0,0,0,0,0,0,94,95,40,44,45,29,27,null,null,null,null,null,null,null,null,null,null,null,null,null,null,40,18,22]
[881825,79,86,59,27,0,0,0,21,0,0,0,0,0,0,0,110,101,44,54,52,29,27,null,null,null,null,null,null,null,null,null,null,null,null,null,null,47,22,22]
[881850,108,93,62,31,0,0,0,21,0,0,0,0,0,0,0,109,105,46,59,56,28,26,null,null,null,null,null,null,null,null,null,null,null,null,null,null,49,24,22]
[881875,93,109,78,31,0,0,0,22,0,0,0,0,0,0,0,118,93,46,62,55,28,26,null,null,null,null,null,null,null,null,null,null,null,null,null,null,51,26,20]
[881900,143,135,106,29,0,0,0,25,0,0,0,0,0,0,0,82,66,45,58,53,28,26,null,null,null,null,null,null,null,null,null,null,null,null,null,null,49,29,16]
[881925,149,82,65,17,0,0,0,15,0,0,0,0,0,0,0,60,28,27,56,31,28,15,null,null,null,null,null,null,null,null,null,null,null,null,null,null,48,19,8]
[881940,148,null,null,null,null,null,null,null,null,null,null,null,null,null,null,41,null,null,56,null,27,null,null,null,null,null,null,null,null,null,null,null,null,null,null,null,49]
[]
["US_34_RAMP"]
[91598.09,39,42,35,7,0,0,0,22,0,0,0,0,0,0,0,6,7,19,38,41,null,null,null,null,null,null,null,null,null,null,null,null,null,null,null,null,19,1,18]
[91625,46,45,35,10,0,0,0,17,0,0,0,0,0,0,0,9,13,17,45,42,null,null,null,null,null,null,null,null,null,null,null,null,null,null,null,null,19,1,17]
[91650,52,51,38,12,0,0,0,17,0,0,0,0,0,0,0,19,17,18,46,43,null,null,null,null,null,null,null,null,null,null,null,null,null,null,null,null,19,2,16]
[91675,58,57,41,15,0,0,0,17,0,0,0,0,0,0,0,18,16,19,48,45,null,null,null,null,null,null,null,null,null,null,null,null,null,null,null,null,20,4,16]
[91700,65,58,42,16,0,0,0,17,0,0,0,0,0,0,0,17,13,21,50,46,null,null,null,null,null,null,null,null,null,null,null,null,null,null,null,null,22,6,16]
[91725,61,55,40,15,0,0,0,17,0,0,0,0,0,0,0,10,8,23,49,46,null,null,null,null,null,null,null,null,null,null,null,null,null,null,null,null,24,7,16]
[91750,58,54,40,14,0,0,0,17,0,0,0,0,0,0,0,7,5,23,50,45,null,null,null,null,null,null,null,null,null,null,null,null,null,null,null,null,26,7,16]
[91775,58,52,40,12,0,0,0,17,0,0,0,0,0,0,0,4,7,21,47,42,null,null,null,null,null,null,null,null,null,null,null,null,null,null,null,null,24,6,15]
[91800,55,51,39,12,0,0,0,17,0,0,0,0,0,0,0,10,5,18,44,37,null,null,null,null,null,null,null,null,null,null,null,null,null,null,null,null,21,6,12]
[91825,55,48,37,11,0,0,0,17,0,0,0,0,0,0,0,1,0,11,37,24,null,null,null,null,null,null,null,null,null,null,null,null,null,null,null,null,18,6,5]
[91850,49,9,7,2,0,0,0,3,0,0,0,0,0,0,0,0,0,1,14,2,null,null,null,null,null,null,null,null,null,null,null,null,null,null,null,null,5,0,0]
[91855,45,null,null,null,null,null,null,null,null,null,null,null,null,null,null,0,null,null,9,null,null,null,null,null,null,null,null,null,null,null,null,null,null,null,null,null,1]
[]
["Mary_St"]
[896815,21,12,11,1,0,0,0,15,0,0,0,0,0,0,0,0,1,0,null,null,null,null,null,null,null,null,null,null,null,null,null,null,null,null,null,null,0,0,0]
[896825,46,42,34,8,0,0,0,37,0,0,0,0,0,0,0,5,9,0,17,21,null,null,null,null,null,null,null,null,null,null,null,null,null,null,null,null,0,0,0]
[896850,45,56,45,12,0,0,0,37,0,0,0,0,0,0,0,15,20,6,27,42,null,null,null,null,null,null,null,null,null,null,null,null,null,null,null,null,0,3,4]
[896875,77,78,53,25,0,0,0,38,0,0,0,0,0,0,0,28,26,20,64,73,null,null,null,null,null,null,null,null,null,null,null,null,null,null,null,null,14,11,9]
[896900,91,115,75,39,0,0,0,53,0,0,0,0,0,0,0,29,15,35,95,82,null,null,null,null,null,null,null,null,null,null,null,null,null,null,null,null,29,26,9]
[896925,156,127,81,46,0,0,0,73,0,0,0,0,0,0,0,2,8,50,83,93,null,null,null,null,null,null,null,null,null,null,null,null,null,null,null,null,46,36,15]
[896950,119,65,36,29,0,0,0,38,0,0,0,0,0,0,0,16,16,38,117,74,null,null,null,null,null,null,null,null,null,null,null,null,null,null,null,null,62,21,17]
[896966.17,99,33,19,15,0,0,0,11,0,0,0,0,0,0,0,36,11,20,129,42,null,null,null,null,null,null,null,null,null,null,null,null,null,null,null,null,63,10,11]
[896975,105,23,14,10,0,0,0,4,0,0,0,0,0,0,0,34,7,13,126,27,null,null,null,null,null,null,null,null,null,null,null,null,null,null,null,null,61,6,7]
[896980.75,114,86,51,35,0,0,0,8,0,0,0,0,0,0,0,34,24,41,124,82,null,null,null,null,null,null,null,null,null,null,null,null,null,null,null,null,61,20,21]
[897000,127,null,null,null,null,null,null,null,null,null,null,null,null,null,null,34,null,null,106,null,null,null,null,null,null,null,null,null,null,null,null,null,null,null,null,null,55]
[]
["STG2_US_63"]
[89200,287,254,212,42,0,0,0,27,0,0,0,0,0,0,0,232,220,44,136,126,29,27,null,null,null,null,null,null,null,null,null,null,null,null,null,null,47,19,25,228,100,90]
[89225,262,231,189,41,0,0,0,27,0,0,0,0,0,0,0,243,236,44,137,127,29,27,null,null,null,null,null,null,null,null,null,null,null,null,null,null,48,19,25,184,88,82]
[89250,236,209,170,39,0,0,0,27,0,0,0,0,0,0,0,267,264,45,138,127,29,27,null,null,null,null,null,null,null,null,null,null,null,null,null,null,48,19,26,184,85,85]
[89275,216,191,153,38,0,0,0,27,0,0,0,0,0,0,0,303,309,45,138,128,29,27,null,null,null,null,null,null,null,null,null,null,null,null,null,null,48,19,26,184,82,88]
[89300,196,50,40,10,0,0,0,7,0,0,0,0,0,0,0,365,95,12,138,36,29,7,null,null,null,null,null,null,null,null,null,null,null,null,null,null,48,5,7,184,23,25]
[89307,193,125,99,26,0,0,0,19,0,0,0,0,0,0,0,370,243,32,138,91,29,19,null,null,null,null,null,null,null,null,null,null,null,null,null,null,48,14,18,184,57,66]
[89325,182,163,127,35,0,0,0,27,0,0,0,0,0,0,0,360,330,43,137,126,29,27,null,null,null,null,null,null,null,null,null,null,null,null,null,null,47,18,25,187,79,93]
[89350,170,155,120,34,0,0,0,27,0,0,0,0,0,0,0,353,323,41,135,123,29,27,null,null,null,null,null,null,null,null,null,null,null,null,null,null,46,18,23,184,78,92]
[89375,164,150,115,34,0,0,0,27,0,0,0,0,0,0,0,345,313,37,130,116,29,27,null,null,null,null,null,null,null,null,null,null,null,null,null,null,43,18,18,184,78,92]
[89400,159,144,111,34,0,0,0,27,0,0,0,0,0,0,0,332,311,35,120,114,29,27,null,null,null,null,null,null,null,null,null,null,null,null,null,null,36,18,18,184,78,92]
[89425,153,142,109,33,0,0,0,27,0,0,0,0,0,0,0,340,315,38,126,118,29,27,108,95,95,5,0,0,0,7,0,0,0,0,0,0,40,17,21,184,79,92]
[89450,154,143,111,33,0,0,0,27,0,0,0,0,0,0,0,340,309,38,128,117,29,27,108,95,95,5,0,0,0,6,0,0,0,0,0,0,42,17,21,184,79,91]
[89475,156,144,112,32,0,0,0,27,0,0,0,0,0,0,0,328,301,37,126,116,29,27,108,95,95,5,0,0,0,6,0,0,0,0,0,0,41,18,20,184,78,92]
[89500,156,143,112,31,0,0,0,27,0,0,0,0,0,0,0,323,303,38,125,116,29,27,107,95,95,4,0,0,0,5,0,0,0,0,0,0,40,17,21,184,78,92]
[89525,152,107,89,18,0,0,0,24,0,0,0,0,0,0,0,331,294,24,126,95,29,27,132,107,107,4,0,0,0,5,0,0,0,0,0,0,42,8,16,184,71,92]
[89550,79,73,67,6,0,0,0,22,0,0,0,0,0,0,0,305,278,10,80,74,29,27,144,118,118,10,0,0,0,6,0,0,0,0,0,0,11,0,10,168,63,92]
[89575,78,136,119,16,0,0,0,35,0,0,0,0,0,0,0,296,269,29,80,88,29,40,132,118,118,10,0,0,0,7,0,0,0,0,0,0,11,16,13,168,64,91]
[89600,215,204,178,27,0,0,0,51,0,0,0,0,0,0,0,285,218,47,110,98,57,56,131,118,118,4,0,0,0,7,0,0,0,0,0,0,51,35,12,168,65,90]
[89625,226,212,187,26,0,0,0,60,0,0,0,0,0,0,0,186,113,46,101,82,63,65,127,118,118,2,0,0,0,12,0,0,0,0,0,0,50,32,14,168,88,67]
[89650,233,191,173,17,0,0,0,85,0,0,0,0,0,0,0,58,99,45,76,65,77,90,null,null,null,null,null,null,null,null,null,null,null,null,null,null,49,20,25,168,133,22]
[89675,179,146,135,10,0,0,0,89,0,0,0,0,0,0,0,155,217,43,63,70,116,91,null,null,null,null,null,null,null,null,null,null,null,null,null,null,48,7,37,168,153,3]
[89700,135,100,92,8,0,0,0,61,0,0,0,0,0,0,0,313,326,39,89,88,80,61,null,null,null,null,null,null,null,null,null,null,null,null,null,null,46,1,38,168,122,34]
[89725,80,67,63,5,0,0,0,40,0,0,0,0,0,0,0,392,362,30,101,92,51,39,null,null,null,null,null,null,null,null,null,null,null,null,null,null,38,1,29,168,81,75]
[89750,65,61,58,4,0,0,0,28,0,0,0,0,0,0,0,390,388,28,97,95,35,28,91,84,84,0,0,0,0,7,0,0,0,0,0,0,27,1,27,168,66,89]
[89775,68,60,56,4,0,0,0,24,0,0,0,0,0,0,0,448,440,33,108,105,26,70,93,84,84,2,0,0,0,6,0,0,0,0,0,0,33,1,33,168,63,92]
[89800,62,55,51,4,0,0,0,24,0,0,0,0,0,0,0,502,463,35,119,109,126,116,90,84,84,1,0,0,0,8,0,0,0,0,0,0,39,1,34,168,61,94]
[89825,56,61,55,6,0,0,0,29,0,0,0,0,0,0,0,498,553,75,116,170,124,121,103,89,89,0,0,0,0,11,0,0,0,0,0,0,37,3,73,168,66,96]
[89850,76,70,62,9,0,0,0,34,0,0,0,0,0,0,0,696,840,115,252,232,137,126,103,95,95,0,0,0,0,14,0,0,0,0,0,0,125,5,110,184,73,97]
[89875,76,72,61,10,0,0,0,33,0,0,0,0,0,0,0,1119,1056,114,250,230,135,124,103,95,95,0,0,0,0,16,0,0,0,0,0,0,124,6,107,184,73,97]
[89900,79,71,61,10,0,0,0,31,0,0,0,0,0,0,0,1161,1072,111,246,226,133,110,103,95,95,0,0,0,0,18,0,0,0,0,0,0,122,6,105,184,74,96]
[89925,75,65,58,7,0,0,0,31,0,0,0,0,0,0,0,1154,1045,108,241,220,106,67,103,95,95,0,0,0,0,21,0,0,0,0,0,0,118,4,104,184,73,97]
[89950,66,58,53,5,0,0,0,32,0,0,0,0,0,0,0,1104,984,104,235,213,39,34,103,95,95,0,0,0,0,24,0,0,0,0,0,0,115,3,101,184,72,98]
[89975,60,51,47,4,0,0,0,33,0,0,0,0,0,0,0,1021,920,101,226,206,35,33,105,96,96,0,0,0,0,27,0,0,0,0,0,0,111,3,97,184,69,101]
[90000,50,41,39,2,0,0,0,35,0,0,0,0,0,0,0,966,859,96,219,198,37,35,105,97,97,0,0,0,0,29,0,0,0,0,0,0,107,2,94,184,67,103]
[90025,39,33,30,3,0,0,0,35,0,0,0,0,0,0,0,889,781,91,208,189,39,37,103,96,96,0,0,0,0,32,0,0,0,0,0,0,101,3,89,184,63,107]
[90050,31,27,21,5,0,0,0,35,0,0,0,0,0,0,0,798,701,87,199,180,41,39,101,94,94,0,0,0,0,33,0,0,0,0,0,0,96,5,82,184,56,114]
[90075,26,22,15,7,0,0,0,34,0,0,0,0,0,0,0,718,645,82,190,172,44,41,98,92,92,0,0,0,0,21,0,0,0,0,0,0,91,6,76,184,49,121]
[90100,20,20,11,9,0,0,0,30,0,0,0,0,0,0,0,675,603,78,181,164,46,43,93,88,88,0,0,0,0,9,0,0,0,0,0,0,87,8,70,184,40,130]
[90125,22,20,8,12,0,0,0,24,0,0,0,0,0,0,0,627,569,74,172,156,48,46,89,84,84,0,0,0,0,13,0,0,0,0,0,0,82,9,65,184,33,137]
[90150,21,19,6,12,0,0,0,20,0,0,0,0,0,0,0,603,560,70,164,150,50,45,null,null,null,null,null,null,null,null,null,null,null,null,null,null,78,8,62,184,28,142]
[90175,19,16,4,12,0,0,0,17,0,0,0,0,0,0,0,607,550,66,160,145,48,45,null,null,null,null,null,null,null,null,null,null,null,null,null,null,74,7,59,183,25,144]
[90200,15,19,4,15,0,0,0,15,0,0,0,0,0,0,0,581,530,63,153,140,49,46,null,null,null,null,null,null,null,null,null,null,null,null,null,null,69,8,55,182,22,146]
[90225,26,21,4,17,0,0,0,14,0,0,0,0,0,0,0,564,531,61,149,136,50,46,null,null,null,null,null,null,null,null,null,null,null,null,null,null,67,9,53,181,21,146]
[90250,20,24,5,19,0,0,0,13,0,0,0,0,0,0,0,583,531,62,146,137,51,47,null,null,null,null,null,null,null,null,null,null,null,null,null,null,66,9,53,180,20,146]
[90275,32,25,5,20,0,0,0,12,0,0,0,0,0,0,0,565,521,66,149,141,51,48,null,null,null,null,null,null,null,null,null,null,null,null,null,null,69,10,56,179,20,145]
[90300,22,18,3,16,0,0,0,12,0,0,0,0,0,0,0,560,504,70,155,147,52,49,null,null,null,null,null,null,null,null,null,null,null,null,null,null,73,6,64,178,20,144]
[90325,17,18,3,15,0,0,0,13,0,0,0,0,0,0,0,528,480,75,162,153,53,49,null,null,null,null,null,null,null,null,null,null,null,null,null,null,78,6,69,176,22,141]
[90350,21,17,3,13,0,0,0,15,0,0,0,0,0,0,0,509,464,76,169,153,54,50,null,null,null,null,null,null,null,null,null,null,null,null,null,null,84,5,71,175,26,136]
[90375,15,72,43,30,0,0,0,18,0,0,0,0,0,0,0,494,444,84,162,164,55,51,null,null,null,null,null,null,null,null,null,null,null,null,null,null,80,17,67,174,31,130]
[90400,141,117,70,47,0,0,0,22,0,0,0,0,0,0,0,464,415,91,193,172,55,52,null,null,null,null,null,null,null,null,null,null,null,null,null,null,102,29,62,173,37,123]
[90425,112,105,60,45,0,0,0,26,0,0,0,0,0,0,0,433,387,84,180,161,56,50,null,null,null,null,null,null,null,null,null,null,null,null,null,null,94,26,57,172,42,117]
[90450,115,111,63,48,0,0,0,29,0,0,0,0,0,0,0,403,371,83,167,158,52,51,null,null,null,null,null,null,null,null,null,null,null,null,null,null,86,28,55,171,47,110]
[90475,125,89,43,46,0,0,0,33,0,0,0,0,0,0,0,399,366,86,175,155,58,54,null,null,null,null,null,null,null,null,null,null,null,null,null,null,93,27,59,170,53,104]
[90500,67,54,17,37,0,0,0,35,0,0,0,0,0,0,0,391,356,85,159,154,59,54,null,null,null,null,null,null,null,null,null,null,null,null,null,null,93,22,64,170,58,99]
[90525,50,43,13,31,0,0,0,38,0,0,0,0,0,0,0,377,354,81,173,155,59,54,null,null,null,null,null,null,null,null,null,null,null,null,null,null,92,17,64,170,63,95]
[90550,44,40,14,26,0,0,0,40,0,0,0,0,0,0,0,387,358,76,161,147,59,54,null,null,null,null,null,null,null,null,null,null,null,null,null,null,84,13,64,170,67,90]
[90575,43,42,16,26,0,0,0,42,0,0,0,0,0,0,0,385,346,76,156,147,59,54,null,null,null,null,null,null,null,null,null,null,null,null,null,null,81,12,64,170,72,85]
[90600,48,44,18,26,0,0,0,45,0,0,0,0,0,0,0,362,325,69,161,136,59,55,null,null,null,null,null,null,null,null,null,null,null,null,null,null,84,11,58,170,77,80]
[90625,46,45,19,26,0,0,0,47,0,0,0,0,0,0,0,339,301,61,133,123,59,55,null,null,null,null,null,null,null,null,null,null,null,null,null,null,66,9,52,170,81,76]
[90650,52,50,29,21,0,0,0,50,0,0,0,0,0,0,0,311,294,61,132,115,59,54,null,null,null,null,null,null,null,null,null,null,null,null,null,null,65,9,51,170,85,72]
[90675,57,53,32,21,0,0,0,53,0,0,0,0,0,0,0,325,305,61,117,116,59,54,null,null,null,null,null,null,null,null,null,null,null,null,null,null,66,10,51,170,91,67]
[90700,57,61,28,33,0,0,0,54,0,0,0,0,0,0,0,334,312,65,133,129,59,54,null,null,null,null,null,null,null,null,null,null,null,null,null,null,66,13,52,170,96,61]
[90725,74,71,33,38,0,0,0,54,0,0,0,0,0,0,0,340,308,69,146,135,59,54,null,null,null,null,null,null,null,null,null,null,null,null,null,null,75,17,52,170,102,55]
[90750,80,75,37,38,0,0,0,54,0,0,0,0,0,0,0,327,311,69,146,136,59,54,null,null,null,null,null,null,null,null,null,null,null,null,null,null,74,16,53,170,107,51]
[90775,83,81,42,39,0,0,0,54,0,0,0,0,0,0,0,345,318,70,147,137,59,54,null,null,null,null,null,null,null,null,null,null,null,null,null,null,75,17,53,170,111,46]
[90800,92,91,50,41,0,0,0,54,0,0,0,0,0,0,0,343,307,70,148,138,59,54,null,null,null,null,null,null,null,null,null,null,null,null,null,null,76,18,53,170,115,42]
[90825,104,100,57,43,0,0,0,54,0,0,0,0,0,0,0,321,297,71,149,139,57,54,null,null,null,null,null,null,null,null,null,null,null,null,null,null,76,19,52,170,120,37]
[90850,112,107,63,44,0,0,0,54,0,0,0,0,0,0,0,321,293,72,150,139,59,54,null,null,null,null,null,null,null,null,null,null,null,null,null,null,77,20,52,170,124,33]
[90875,119,113,67,45,0,0,0,54,0,0,0,0,0,0,0,313,287,72,151,140,59,54,null,null,null,null,null,null,null,null,null,null,null,null,null,null,77,20,51,170,128,29]
[90900,124,120,74,46,0,0,0,54,0,0,0,0,0,0,0,306,277,72,151,140,59,54,null,null,null,null,null,null,null,null,null,null,null,null,null,null,77,21,51,170,133,24]
[90925,135,129,83,46,0,0,0,54,0,0,0,0,0,0,0,292,272,72,152,140,59,54,null,null,null,null,null,null,null,null,null,null,null,null,null,null,78,21,51,170,139,18]
[90950,144,135,88,47,0,0,0,54,0,0,0,0,0,0,0,295,277,72,151,140,58,54,null,null,null,null,null,null,null,null,null,null,null,null,null,null,78,21,51,170,143,14]
[90975,148,141,93,47,0,0,0,54,0,0,0,0,0,0,0,302,276,72,152,141,58,54,null,null,null,null,null,null,null,null,null,null,null,null,null,null,78,22,51,170,147,10]
[91000,156,150,101,49,0,0,0,54,0,0,0,0,0,0,0,294,270,73,152,141,58,54,null,null,null,null,null,null,null,null,null,null,null,null,null,null,78,22,50,170,151,6]
[91025,168,160,110,50,0,0,0,54,0,0,0,0,0,0,0,288,261,73,153,142,58,54,null,null,null,null,null,null,null,null,null,null,null,null,null,null,79,23,50,170,154,3]
[91050,177,168,117,50,0,0,0,54,0,0,0,0,0,0,0,275,254,73,154,142,59,54,null,null,null,null,null,null,null,null,null,null,null,null,null,null,79,24,50,170,156,1]
[91075,186,48,34,14,0,0,0,15,0,0,0,0,0,0,0,275,70,21,154,40,58,15,null,null,null,null,null,null,null,null,null,null,null,null,null,null,79,7,14,170,44,0]
[91082,186,118,85,34,0,0,0,39,0,0,0,0,0,0,0,262,170,51,153,100,58,39,null,null,null,null,null,null,null,null,null,null,null,null,null,null,79,16,35,170,113,0]
[91100,169,154,116,38,0,0,0,54,0,0,0,0,0,0,0,246,213,65,146,129,59,54,null,null,null,null,null,null,null,null,null,null,null,null,null,null,74,16,48,170,157,0]
[91125,163,150,118,33,0,0,0,54,0,0,0,0,0,0,0,214,195,59,132,120,58,54,null,null,null,null,null,null,null,null,null,null,null,null,null,null,65,12,47,170,157,0]
[91150,162,149,118,31,0,0,0,54,0,0,0,0,0,0,0,206,186,57,128,117,58,54,null,null,null,null,null,null,null,null,null,null,null,null,null,null,63,11,46,170,157,0]
[91175,161,151,121,30,0,0,0,54,0,0,0,0,0,0,0,194,176,55,125,114,58,54,null,null,null,null,null,null,null,null,null,null,null,null,null,null,60,10,45,170,157,0]
[91200,166,156,126,30,0,0,0,54,0,0,0,0,0,0,0,186,159,53,122,112,59,54,null,null,null,null,null,null,null,null,null,null,null,null,null,null,58,10,43,170,157,0]
[91225,171,163,132,31,0,0,0,54,0,0,0,0,0,0,0,157,135,52,120,110,59,54,null,null,null,null,null,null,null,null,null,null,null,null,null,null,57,11,41,170,157,0]
[91250,181,172,139,33,0,0,0,54,0,0,0,0,0,0,0,135,117,51,118,109,59,54,null,null,null,null,null,null,null,null,null,null,null,null,null,null,56,12,39,170,157,0]
[91275,190,224,180,44,0,0,0,54,0,0,0,0,0,0,0,117,97,54,116,112,59,54,null,null,null,null,null,null,null,null,null,null,null,null,null,null,55,20,34,170,157,0]
[91300,294,382,320,63,0,0,0,54,0,0,0,0,0,0,0,93,74,60,126,122,59,54,null,null,null,null,null,null,null,null,null,null,null,null,null,null,61,32,28,170,157,0]
[91325,532,403,340,63,0,0,0,54,0,0,0,0,0,0,0,66,56,58,137,118,59,54,null,null,null,null,null,null,null,null,null,null,null,null,null,null,68,32,26,170,157,0]
[91350,339,269,220,49,0,0,0,54,0,0,0,0,0,0,0,54,53,50,119,106,59,54,null,null,null,null,null,null,null,null,null,null,null,null,null,null,57,23,27,170,157,0]
[91375,242,216,176,40,0,0,0,54,0,0,0,0,0,0,0,61,47,46,110,100,58,54,null,null,null,null,null,null,null,null,null,null,null,null,null,null,51,17,29,170,157,0]
[91400,224,202,166,35,0,0,0,55,0,0,0,0,0,0,0,41,34,43,106,96,59,55,null,null,null,null,null,null,null,null,null,null,null,null,null,null,48,14,29,170,157,0]
[91425,212,199,166,33,0,0,0,55,0,0,0,0,0,0,0,32,29,41,101,92,59,55,null,null,null,null,null,null,null,null,null,null,null,null,null,null,45,12,29,169,157,0]
[91450,217,202,171,31,0,0,0,56,0,0,0,0,0,0,0,32,26,39,99,90,60,56,null,null,null,null,null,null,null,null,null,null,null,null,null,null,43,11,28,169,158,0]
[91475,219,208,176,32,0,0,0,57,0,0,0,0,0,0,0,26,23,37,96,88,61,57,null,null,null,null,null,null,null,null,null,null,null,null,null,null,41,11,27,171,159,0]
[91500,229,214,183,32,0,0,0,60,0,0,0,0,0,0,0,23,20,37,94,86,63,60,null,null,null,null,null,null,null,null,null,null,null,null,null,null,40,11,26,173,162,0]
[91525,234,218,192,25,0,0,0,62,0,0,0,0,0,0,0,19,16,32,92,79,66,62,null,null,null,null,null,null,null,null,null,null,null,null,null,null,39,6,26,177,166,0]
[91550,236,226,206,20,0,0,0,63,0,0,0,0,0,0,0,16,12,29,78,72,68,63,null,null,null,null,null,null,null,null,null,null,null,null,null,null,31,2,26,182,172,0]
[91575,252,145,130,14,0,0,0,39,0,0,0,0,0,0,0,10,4,14,78,40,68,39,null,null,null,null,null,null,null,null,null,null,null,null,null,null,32,2,12,189,109,0]
[91593.1,180,47,41,6,0,0,0,13,0,0,0,0,0,0,0,2,1,3,41,11,49,13,null,null,null,null,null,null,null,null,null,null,null,null,null,null,11,1,2,135,35,0]
[91600,188,186,157,30,0,0,0,45,0,0,0,0,0,0,0,2,1,11,46,45,49,45,null,null,null,null,null,null,null,null,null,null,null,null,null,null,12,7,4,138,130,0]
[91625,214,207,168,40,0,0,0,45,0,0,0,0,0,0,0,0,0,13,51,50,49,45,null,null,null,null,null,null,null,null,null,null,null,null,null,null,13,11,2,143,132,0]
[91650,233,222,174,48,0,0,0,45,0,0,0,0,0,0,0,0,0,16,57,55,49,45,null,null,null,null,null,null,null,null,null,null,null,null,null,null,16,16,1,143,132,0]
[91675,246,227,172,55,0,0,0,47,0,0,0,0,0,0,0,0,0,19,62,60,49,45,null,null,null,null,null,null,null,null,null,null,null,null,null,null,20,19,0,142,131,0]
[91700,243,223,165,57,0,0,0,46,0,0,0,0,0,0,0,0,0,21,67,62,48,53,null,null,null,null,null,null,null,null,null,null,null,null,null,null,23,21,0,141,131,0]
[91725,239,175,132,43,0,0,0,35,0,0,0,0,0,0,0,0,0,17,67,50,66,42,null,null,null,null,null,null,null,null,null,null,null,null,null,null,23,16,0,141,104,0]
[91745,234,24,17,6,0,0,0,4,0,0,0,0,0,0,0,0,0,2,67,8,48,null,null,null,null,null,null,null,null,null,null,null,null,null,null,null,23,2,0,141,13,0]
[91750,21,19,5,14,0,0,0,0,0,0,0,0,0,0,0,0,0,0,15,14,null,null,null,null,null,null,null,null,null,null,null,null,null,null,null,null,0,0,0,0,0,0]
[91775,20,16,4,12,0,0,0,0,0,0,0,0,0,0,0,0,0,0,15,14,null,null,null,null,null,null,null,null,null,null,null,null,null,null,null,null,0,0,0,0,0,0]
[91800,14,13,3,9,0,0,0,0,0,0,0,0,0,0,0,0,0,0,15,12,null,null,null,null,null,null,null,null,null,null,null,null,null,null,null,null,0,0,0,0,0,0]
[91825,14,16,4,12,0,0,0,0,0,0,0,0,0,0,0,0,0,0,10,12,null,null,null,null,null,null,null,null,null,null,null,null,null,null,null,null,0,0,0,0,0,0]
[91850,20,19,5,14,0,0,0,0,0,0,0,0,0,0,0,0,0,0,15,14,null,null,null,null,null,null,null,null,null,null,null,null,null,null,null,null,0,0,0,0,0,0]
[91875,20,19,5,14,0,0,0,0,0,0,0,0,0,0,0,0,0,0,15,14,null,null,null,null,null,null,null,null,null,null,null,null,null,null,null,null,0,0,0,0,0,0]
[91900,21,19,5,14,0,0,0,0,0,0,0,0,0,0,0,0,0,0,15,14,null,null,null,null,null,null,null,null,null,null,null,null,null,null,null,null,0,0,0,0,0,0]
[91925,21,19,5,14,0,0,0,0,0,0,0,0,0,0,0,0,0,0,15,14,null,null,null,null,null,null,null,null,null,null,null,null,null,null,null,null,0,0,0,0,0,0]
[91950,20,19,5,14,0,0,0,0,0,0,0,0,0,0,0,0,0,0,15,14,null,null,null,null,null,null,null,null,null,null,null,null,null,null,null,null,0,0,0,0,0,0]
[91975,21,20,5,15,0,0,0,0,0,0,0,0,0,0,0,0,0,0,15,15,null,null,null,null,null,null,null,null,null,null,null,null,null,null,null,null,0,0,0,0,0,0]
[92000,22,6,2,5,0,0,0,0,0,0,0,0,0,0,0,0,0,0,17,5,null,null,null,null,null,null,null,null,null,null,null,null,null,null,null,null,0,0,0,0,0,0]
[92007.2,26,null,null,null,null,null,null,null,null,null,null,null,null,null,null,0,null,null,19,null,null,null,null,null,null,null,null,null,null,null,null,null,null,null,null,null,0,null,null,0]

{"sheet":"DataInformation","index":2,"n_rows":499,"n_cols":34,"rows_kept":499,"cut":false,"hidden":false,"merged":[[0,30,0,33],[0,25,0,29],[6,33,9,33],[6,27,9,27],[1,33,4,33],[1,32,3,32],[5,28,9,28],[5,26,9,26],[1,30,4,30],[1,31,4,31],[5,25,9,25],[1,25,4,29],[6,29,9,29],[6,30,9,30],[6,31,9,31],[6,32,9,32],[1,23,3,23],[6,15,9,15],[6,23,9,23],[6,18,9,18],[6,19,9,19],[6,20,9,20],[1,22,4,22],[2,21,4,21],[1,16,4,16],[1,17,1,20],[2,20,4,20],[2,19,4,19],[2,18,4,18],[2,17,4,17],[6,1,9,1],[6,8,9,8],[6,4,9,4],[1,1,1,14],[6,3,9,3],[6,7,9,7],[6,10,9,10],[6,5,9,5],[2,7,4,7],[2,13,4,13],[2,12,4,12],[2,1,3,1],[0,0,5,0],[0,1,0,24],[6,0,9,0],[6,22,9,22],[6,17,9,17],[6,21,9,21],[6,16,9,16],[6,6,9,6],[6,2,9,2],[6,9,9,9],[6,13,9,13],[6,12,9,12],[6,14,9,14],[6,11,9,11],[1,24,4,24],[6,24,9,24]]}
[null,"Total Cut and Fill Adjustment",null,null,null,null,null,null,null,null,null,null,null,null,null,null,null,null,null,null,null,null,null,null,null,"Unsuitable Placement Check",null,null,null,null,"Topsoil"]
[null,"Unadjusted Total Cut",null,null,null,null,null,null,null,null,null,null,null,null,null,"Add Quantity","Combined Material to be Placed as Fill","Unadjusted Total Fill",null,null,null,"Add Quantity",null,"Weighted\nAverage\nShrink Factor",null,"Refer to Standard Road Plan EW-102",null,null,null,null,"Typical thickness is 12\"","Typical Thickness is 8\"","Topsoil Replacement\nShrink Factor"]
[null,null,"Shrink Factor","Shrink Factor","Shrink Factor","Shrink Factor","Shrink Factor",null,"Shrink Factor","Shrink Factor","Swell Factor","Swell Factor",null,null,"Swell Factor","Shrink Factor"]
[null,null,1.3,1.4,1.3,1.3,1.3,null,1.3,1.2,1.1000000000000001,1,null,null,1.1000000000000001,1.3]
[null,"User Def. Fill >>>",{"$f":"C6","v":132461},null,{"$f":"E6","v":0},{"$f":"F6","v":392},0,null,{"$f":"I6","v":0},{"$f":"J6","v":0},0,0,null,null,{"$f":"O6","v":0},{"$f":"P6","v":0},null,null,null,null,null,null,null,{"$f":"IF(ISERROR(ROUNDUP(SUM((C5*C4),(E5*E4),(F5*F4),(G5*G4),(I5*I4),(J5*J4),(K5*(1/K4)),(L5*(1/L4)),(O5*(1/O4)),(P5*P4))/SUM(C5,E5,F5,G5,I5,J5,K5,L5,O5,P5),2)),\"\",ROUNDUP(SUM((C5*C4),(E5*E4),(F5*F4),(G5*G4),(I5*I4),(J5*J4),(K5*(1/K4)),(L5*(1/L4)),(O5*(1/O4)),(P5*P4))/SUM(C5,E5,F5,G5,I5,J5,K5,L5,O5,P5),2))","v":1.3},null,null,null,null,null,null,null,null,1.4]
[null,{"$f":"SUM(B11:B499)","v":185223},132461,52340,0,392,0,10499,0,0,0,0,0,0,0,0,132853,110293,9072,27135,1520,3205,151225,196592.50000000006,-63739.69999999999,{"$f":"\"5' Minimum\"&CHAR(10)&\"Class 10\"&CHAR(10)&\"End Area\"&CHAR(10)&\"Sq. Ft.\"","v":"5' Minimum\nClass 10\nEnd Area\nSq. Ft."},{"$f":"\"20' Maximum\"&CHAR(10)&\"End Area\"&CHAR(10)&CHAR(10)&\"Sq. Ft.\"","v":"20' Maximum\nEnd Area\n\nSq. Ft."},{"$f":"SUM(AB11:AB499)","v":71042.400000000009},{"$f":"\"3' Minimum\"&CHAR(10)&\"Class 10\"&CHAR(10)&\"End Area\"&CHAR(10)&\"Sq. Ft.\"","v":"3' Minimum\nClass 10\nEnd Area\nSq. Ft."},{"$f":"SUM(AD11:AD499)","v":129487.79999999999},{"$f":"SUM(AE11:AE499)","v":52340},{"$f":"SUM(AF11:AF499)","v":23414},{"$f":"SUM(AG11:AG499)","v":32779.600000000057},{"$f":"SUM(AH11:AH499)","v":19560.199999999979}]
["Station",{"$f":"\"Total Cut Unadjusted\"&CHAR(10)&CHAR(10)&\"Volume\"","v":"Total Cut Unadjusted\n\nVolume"},"Total Class 10\nUnadjusted\n\nVolume","Topsoil Cut\n\nVolume",{"$f":"DataInput!F3","v":"Template\nUnsuitable\nType A\nVolume"},{"$f":"DataInput!G3","v":"Template\nUnsuitable\nType B\nVolume"},{"$f":"DataInput!H3","v":"Template\nUnsuitable\nType C\nVolume"},{"$f":"DataInput!I3","v":"Template\nPavement\nRemoval\nVolume"},{"$f":"DataInput!J3","v":"Template\nSelect Loam\nVolume"},{"$f":"DataInput!K3","v":"Template\nSelect Sand\nVolume"},{"$f":"DataInput!L3","v":"Template\nRock\nVolume"},{"$f":"DataInput!M3","v":"Template\nB & W\nRock\nVolume"},{"$f":"DataInput!N3","v":"Template\nWaste\nVolume"},{"$f":"DataInput!O3","v":"Template\nShale\nVolume"},{"$f":"DataInput!P3","v":"Template\nRock Undercut\nVolume"},{"$f":"\"Manually\"&CHAR(10)&\"Calculated Cut\"&CHAR(10)&\"Adjustments\"&CHAR(10)&\"(+/- Cut)\"","v":"Manually\nCalculated Cut\nAdjustments\n(+/- Cut)"},{"$f":"\"Total\"&CHAR(10)&\"Cut\"&CHAR(10)&\"Adjusted\"","v":"Total\nCut\nAdjusted"},{"$f":"DataInput!R3","v":"Total Fill\nUnadjusted\n\nVolume"},{"$f":"DataInput!Y3","v":"Plowing &\nShaping\nUndercut\n(+ Fill)"},{"$f":"\"Existing Topsoil\"&CHAR(10)&\"Stripping\"&CHAR(10)&\"Undercut\"&CHAR(10)&\"(+ Fill)\"","v":"Existing Topsoil\nStripping\nUndercut\n(+ Fill)"},{"$f":"\"Existing\"&CHAR(10)&\"Pavement\"&CHAR(10)&\"Undercut\"&CHAR(10)&\"(+Fill)\"","v":"Existing\nPavement\nUndercut\n(+Fill)"},{"$f":"\"Manually\"&CHAR(10)&\"Calculated Fill\"&CHAR(10)&\"Adjustments\"&CHAR(10)&\"(+/- Fill)\"","v":"Manually\nCalculated Fill\nAdjustments\n(+/- Fill)"},{"$f":"\"Total\"&CHAR(10)&\"Fill\"&CHAR(10)&\"Adjusted\"","v":"Total\nFill\nAdjusted"},{"$f":"\"Total Fill\"&CHAR(10)&\" Adjusted w/\"&CHAR(10)&\"Weighted Average\"&CHAR(10)&X5&\"  Shrink Factor\"","v":"Total Fill\n Adjusted w/\nWeighted Average\n1.3  Shrink Factor"},{"$f":"\"Total Cut Adjusted\"&CHAR(10)&\"Minus Fill w/ Shrink\"","v":"Total Cut Adjusted\nMinus Fill w/ Shrink"},null,null,{"$f":"\"Approx. Fill Vol.\"&CHAR(10)&\"Below 5' & Above\"&CHAR(10)&\"20' w/ Shrink\"","v":"Approx. Fill Vol.\nBelow 5' & Above\n20' w/ Shrink"},null,{"$f":"\"Approx. Fill\"&CHAR(10)&\"Volume Below 3'\"&CHAR(10)&\"w/ Shrink\"","v":"Approx. Fill\nVolume Below 3'\nw/ Shrink"},{"$f":"DataInput!T3&CHAR(10)&\"Volume\"","v":"Topsoil\nStripping Undercut\nVolume"},{"$f":"DataInput!S3","v":"Topsoil\nPlacement\nUndercut\nVolume"},{"$f":"\"Topsoil Placement\"&CHAR(10)&\"With \"&$AG$5&\" Shrink\"&CHAR(10)&\"Factor\"","v":"Topsoil Placement\nWith 1.4 Shrink\nFactor"},{"$f":"\"Topsoil Stripping\"&CHAR(10)&\"Minus Topsoil\"&CHAR(10)&\"Placement\"&CHAR(10)&\"w/Shrink\"","v":"Topsoil Stripping\nMinus Topsoil\nPlacement\nw/Shrink"}]
[]
[]
[]
["Stage 1"]
[]
[{"$f":"IF(DataInput!A13<>\"\",DataInput!A13,\"\")","v":"Rabbit_Run"}]
[{"$f":"IF(DataInput!A14<>\"\",DataInput!A14,\"\")","v":882038.5},{"$f":"SUM(DataInput!C14,DataInput!Y14)+(DataInput!U14-DataInput!E14)","v":106},{"$f":"SUM(DataInput!D14,DataInput!Z14)","v":0},{"$f":"DataInput!U14","v":106},{"$f":"SUM(DataInput!F14,DataInput!AB14)","v":0},{"$f":"SUM(DataInput!G14,DataInput!AC14)","v":0},{"$f":"SUM(DataInput!H14,DataInput!AD14)","v":0},{"$f":"DataInput!I14","v":0},{"$f":"SUM(DataInput!J14,DataInput!AF14)","v":0},{"$f":"SUM(DataInput!K14,DataInput!AG14)","v":0},{"$f":"SUM(DataInput!L14,DataInput!AH14)","v":0},{"$f":"SUM(DataInput!M14,DataInput!AI14)","v":0},{"$f":"SUM(DataInput!N14,DataInput!AJ14)","v":0},{"$f":"SUM(DataInput!O14,DataInput!AK14)","v":0},{"$f":"DataInput!P14","v":0},null,{"$f":"SUM(C14,E14:G14,I14:L14,O14:P14)","v":0},{"$f":"DataInput!R14","v":1461},{"$f":"DataInput!Y14","v":0},{"$f":"IF(DataInput!U14-DataInput!E14>0,DataInput!U14-DataInput!E14,\"\")","v":106},{"$f":"IF(DataInput!W14-DataInput!I14>0,DataInput!W14-DataInput!I14,\"\")","v":""},null,{"$f":"SUM(R14:V14)","v":1567},{"$f":"ROUNDUP(($W14*$X$5),1)","v":2037.1},{"$f":"ROUNDUP(SUM(Q14-X14),1)","v":-2037.1},292,2130,{"$f":"ROUNDDOWN((IF(AA15>0,IFERROR(IF(AVERAGE(DataInput!Q14:Q15)>AVERAGE(AA15,AA14),ROUNDDOWN(((((AA14-Z14)+(AA15-Z15))/2)*(A15-A14))/27,0),IF(((((DataInput!Q15-Z15)+(DataInput!Q14-Z14))/2)*(A15-A14))/27+S14+T14>0,ROUNDDOWN(((((DataInput!Q15-Z15)+(DataInput!Q14-Z14))/2)*(A15-A14))/27+S14+T14,0),0)),0),0)*$X$5),1)","v":1016.6},155,{"$f":"ROUNDDOWN((IF(AC15>0,IFERROR(IF(((((DataInput!Q14-AC14)+(DataInput!Q15-AC15))/2)*(A15-A14))/27+S14+T14>0,ROUNDDOWN(((((DataInput!Q14-AC14)+(DataInput!Q15-AC15))/2)*(A15-A14))/27+S14+T14,0),0),0),0)*$X$5),1)","v":1950},{"$f":"DataInput!U14","v":106},{"$f":"DataInput!S14","v":0},{"$f":"ROUNDUP((AF14*$AG$5),1)","v":0},{"$f":"ROUNDUP((AE14-AG14),1)","v":106}]
[{"$f":"IF(DataInput!A15<>\"\",DataInput!A15,\"\")","v":882050},{"$f":"SUM(DataInput!C15,DataInput!Y15)+(DataInput!U15-DataInput!E15)","v":237},{"$f":"SUM(DataInput!D15,DataInput!Z15)","v":0},{"$f":"DataInput!U15","v":237},{"$f":"SUM(DataInput!F15,DataInput!AB15)","v":0},{"$f":"SUM(DataInput!G15,DataInput!AC15)","v":0},{"$f":"SUM(DataInput!H15,DataInput!AD15)","v":0},{"$f":"DataInput!I15","v":0},{"$f":"SUM(DataInput!J15,DataInput!AF15)","v":0},{"$f":"SUM(DataInput!K15,DataInput!AG15)","v":0},{"$f":"SUM(DataInput!L15,DataInput!AH15)","v":0},{"$f":"SUM(DataInput!M15,DataInput!AI15)","v":0},{"$f":"SUM(DataInput!N15,DataInput!AJ15)","v":0},{"$f":"SUM(DataInput!O15,DataInput!AK15)","v":0},{"$f":"DataInput!P15","v":0},null,{"$f":"SUM(C15,E15:G15,I15:L15,O15:P15)","v":0},{"$f":"DataInput!R15","v":3195},{"$f":"DataInput!Y15","v":0},{"$f":"IF(DataInput!U15-DataInput!E15>0,DataInput!U15-DataInput!E15,\"\")","v":237},{"$f":"IF(DataInput!W15-DataInput!I15>0,DataInput!W15-DataInput!I15,\"\")","v":""},null,{"$f":"SUM(R15:V15)","v":3432},{"$f":"ROUNDUP(($W15*$X$5),1)","v":4461.6000000000004},{"$f":"ROUNDUP(SUM(Q15-X15),1)","v":-4461.6000000000004},{"$f":"Z14","v":292},{"$f":"AA14","v":2130},{"$f":"ROUNDDOWN((IF(AA16>0,IFERROR(IF(AVERAGE(DataInput!Q15:Q16)>AVERAGE(AA16,AA15),ROUNDDOWN(((((AA15-Z15)+(AA16-Z16))/2)*(A16-A15))/27,0),IF(((((DataInput!Q16-Z16)+(DataInput!Q15-Z15))/2)*(A16-A15))/27+S15+T15>0,ROUNDDOWN(((((DataInput!Q16-Z16)+(DataInput!Q15-Z15))/2)*(A16-A15))/27+S15+T15,0),0)),0),0)*$X$5),1)","v":2211.3000000000002},{"$f":"AC14","v":155},{"$f":"ROUNDDOWN((IF(AC16>0,IFERROR(IF(((((DataInput!Q15-AC15)+(DataInput!Q16-AC16))/2)*(A16-A15))/27+S15+T15>0,ROUNDDOWN(((((DataInput!Q15-AC15)+(DataInput!Q16-AC16))/2)*(A16-A15))/27+S15+T15,0),0),0),0)*$X$5),1)","v":4274.3999999999996},{"$f":"DataInput!U15","v":237},{"$f":"DataInput!S15","v":41},{"$f":"ROUNDUP((AF15*$AG$5),1)","v":57.4},{"$f":"ROUNDUP((AE15-AG15),1)","v":179.6}]
[{"$f":"IF(DataInput!A16<>\"\",DataInput!A16,\"\")","v":882075},{"$f":"SUM(DataInput!C16,DataInput!Y16)+(DataInput!U16-DataInput!E16)","v":245},{"$f":"SUM(DataInput!D16,DataInput!Z16)","v":0},{"$f":"DataInput!U16","v":244},{"$f":"SUM(DataInput!F16,DataInput!AB16)","v":0},{"$f":"SUM(DataInput!G16,DataInput!AC16)","v":0},{"$f":"SUM(DataInput!H16,DataInput!AD16)","v":0},{"$f":"DataInput!I16","v":0},{"$f":"SUM(DataInput!J16,DataInput!AF16)","v":0},{"$f":"SUM(DataInput!K16,DataInput!AG16)","v":0},{"$f":"SUM(DataInput!L16,DataInput!AH16)","v":0},{"$f":"SUM(DataInput!M16,DataInput!AI16)","v":0},{"$f":"SUM(DataInput!N16,DataInput!AJ16)","v":0},{"$f":"SUM(DataInput!O16,DataInput!AK16)","v":0},{"$f":"DataInput!P16","v":0},null,0,{"$f":"DataInput!R16","v":2646},{"$f":"DataInput!Y16","v":0},{"$f":"IF(DataInput!U16-DataInput!E16>0,DataInput!U16-DataInput!E16,\"\")","v":242},{"$f":"IF(DataInput!W16-DataInput!I16>0,DataInput!W16-DataInput!I16,\"\")","v":""},null,2888,3754.4,-3754.4,{"$f":"Z15","v":292},{"$f":"AA15","v":2130},{"$f":"ROUNDDOWN((IF(AA17>0,IFERROR(IF(AVERAGE(DataInput!Q16:Q17)>AVERAGE(AA17,AA16),ROUNDDOWN(((((AA16-Z16)+(AA17-Z17))/2)*(A17-A16))/27,0),IF(((((DataInput!Q17-Z17)+(DataInput!Q16-Z16))/2)*(A17-A16))/27+S16+T16>0,ROUNDDOWN(((((DataInput!Q17-Z17)+(DataInput!Q16-Z16))/2)*(A17-A16))/27+S16+T16,0),0)),0),0)*$X$5),1)","v":2211.3000000000002},{"$f":"AC15","v":155},{"$f":"ROUNDDOWN((IF(AC17>0,IFERROR(IF(((((DataInput!Q16-AC16)+(DataInput!Q17-AC17))/2)*(A17-A16))/27+S16+T16>0,ROUNDDOWN(((((DataInput!Q16-AC16)+(DataInput!Q17-AC17))/2)*(A17-A16))/27+S16+T16,0),0),0),0)*$X$5),1)","v":3567.2},{"$f":"DataInput!U16","v":244},{"$f":"DataInput!S16","v":95},133,111]
[{"$f":"IF(DataInput!A17<>\"\",DataInput!A17,\"\")","v":882100},{"$f":"SUM(DataInput!C17,DataInput!Y17)+(DataInput!U17-DataInput!E17)","v":256},{"$f":"SUM(DataInput!D17,DataInput!Z17)","v":10},{"$f":"DataInput!U17","v":246},{"$f":"SUM(DataInput!F17,DataInput!AB17)","v":0},{"$f":"SUM(DataInput!G17,DataInput!AC17)","v":0},{"$f":"SUM(DataInput!H17,DataInput!AD17)","v":0},{"$f":"DataInput!I17","v":0},{"$f":"SUM(DataInput!J17,DataInput!AF17)","v":0},{"$f":"SUM(DataInput!K17,DataInput!AG17)","v":0},{"$f":"SUM(DataInput!L17,DataInput!AH17)","v":0},{"$f":"SUM(DataInput!M17,DataInput!AI17)","v":0},{"$f":"SUM(DataInput!N17,DataInput!AJ17)","v":0},{"$f":"SUM(DataInput!O17,DataInput!AK17)","v":0},{"$f":"DataInput!P17","v":0},null,10,{"$f":"DataInput!R17","v":2017},{"$f":"DataInput!Y17","v":0},{"$f":"IF(DataInput!U17-DataInput!E17>0,DataInput!U17-DataInput!E17,\"\")","v":234},{"$f":"IF(DataInput!W17-DataInput!I17>0,DataInput!W17-DataInput!I17,\"\")","v":""},null,2251,2926.3,-2916.3,292,2130,{"$f":"ROUNDDOWN((IF(AA18>0,IFERROR(IF(AVERAGE(DataInput!Q17:Q18)>AVERAGE(AA18,AA17),ROUNDDOWN(((((AA17-Z17)+(AA18-Z18))/2)*(A18-A17))/27,0),IF(((((DataInput!Q18-Z18)+(DataInput!Q17-Z17))/2)*(A18-A17))/27+S17+T17>0,ROUNDDOWN(((((DataInput!Q18-Z18)+(DataInput!Q17-Z17))/2)*(A18-A17))/27+S17+T17,0),0)),0),0)*$X$5),1)","v":2211.3000000000002},155,{"$f":"ROUNDDOWN((IF(AC18>0,IFERROR(IF(((((DataInput!Q17-AC17)+(DataInput!Q18-AC18))/2)*(A18-A17))/27+S17+T17>0,ROUNDDOWN(((((DataInput!Q17-AC17)+(DataInput!Q18-AC18))/2)*(A18-A17))/27+S17+T17,0),0),0),0)*$X$5),1)","v":2737.8},{"$f":"DataInput!U17","v":246},{"$f":"DataInput!S17","v":115},161,85]
[{"$f":"IF(DataInput!A18<>\"\",DataInput!A18,\"\")","v":882125},{"$f":"SUM(DataInput!C18,DataInput!Y18)+(DataInput!U18-DataInput!E18)","v":292},{"$f":"SUM(DataInput!D18,DataInput!Z18)","v":47},{"$f":"DataInput!U18","v":245},{"$f":"SUM(DataInput!F18,DataInput!AB18)","v":0},{"$f":"SUM(DataInput!G18,DataInput!AC18)","v":0},{"$f":"SUM(DataInput!H18,DataInput!AD18)","v":0},{"$f":"DataInput!I18","v":0},{"$f":"SUM(DataInput!J18,DataInput!AF18)","v":0},{"$f":"SUM(DataInput!K18,DataInput!AG18)","v":0},{"$f":"SUM(DataInput!L18,DataInput!AH18)","v":0},{"$f":"SUM(DataInput!M18,DataInput!AI18)","v":0},{"$f":"SUM(DataInput!N18,DataInput!AJ18)","v":0},{"$f":"SUM(DataInput!O18,DataInput!AK18)","v":0},{"$f":"DataInput!P18","v":0},null,47,{"$f":"DataInput!R18","v":1493},{"$f":"DataInput!Y18","v":0},{"$f":"IF(DataInput!U18-DataInput!E18>0,DataInput!U18-DataInput!E18,\"\")","v":192},{"$f":"IF(DataInput!W18-DataInput!I18>0,DataInput!W18-DataInput!I18,\"\")","v":""},null,1685,2190.5,-2143.5,292,2130,{"$f":"ROUNDDOWN((IF(AA19>0,IFERROR(IF(AVERAGE(DataInput!Q18:Q19)>AVERAGE(AA19,AA18),ROUNDDOWN(((((AA18-Z18)+(AA19-Z19))/2)*(A19-A18))/27,0),IF(((((DataInput!Q19-Z19)+(DataInput!Q18-Z18))/2)*(A19-A18))/27+S18+T18>0,ROUNDDOWN(((((DataInput!Q19-Z19)+(DataInput!Q18-Z18))/2)*(A19-A18))/27+S18+T18,0),0)),0),0)*$X$5),1)","v":1838.2},155,{"$f":"ROUNDDOWN((IF(AC19>0,IFERROR(IF(((((DataInput!Q18-AC18)+(DataInput!Q19-AC19))/2)*(A19-A18))/27+S18+T18>0,ROUNDDOWN(((((DataInput!Q18-AC18)+(DataInput!Q19-AC19))/2)*(A19-A18))/27+S18+T18,0),0),0),0)*$X$5),1)","v":2003.3},{"$f":"DataInput!U18","v":245},{"$f":"DataInput!S18","v":124},173.6,71.400000000000006]
[{"$f":"IF(DataInput!A19<>\"\",DataInput!A19,\"\")","v":882150},{"$f":"SUM(DataInput!C19,DataInput!Y19)+(DataInput!U19-DataInput!E19)","v":462},{"$f":"SUM(DataInput!D19,DataInput!Z19)","v":218},{"$f":"DataInput!U19","v":244},{"$f":"SUM(DataInput!F19,DataInput!AB19)","v":0},{"$f":"SUM(DataInput!G19,DataInput!AC19)","v":0},{"$f":"SUM(DataInput!H19,DataInput!AD19)","v":0},{"$f":"DataInput!I19","v":0},{"$f":"SUM(DataInput!J19,DataInput!AF19)","v":0},{"$f":"SUM(DataInput!K19,DataInput!AG19)","v":0},{"$f":"SUM(DataInput!L19,DataInput!AH19)","v":0},{"$f":"SUM(DataInput!M19,DataInput!AI19)","v":0},{"$f":"SUM(DataInput!N19,DataInput!AJ19)","v":0},{"$f":"SUM(DataInput!O19,DataInput!AK19)","v":0},{"$f":"DataInput!P19","v":0},null,218,{"$f":"DataInput!R19","v":1192},{"$f":"DataInput!Y19","v":0},{"$f":"IF(DataInput!U19-DataInput!E19>0,DataInput!U19-DataInput!E19,\"\")","v":142},{"$f":"IF(DataInput!W19-DataInput!I19>0,DataInput!W19-DataInput!I19,\"\")","v":""},null,1334,1734.2,-1516.2,292,2130,{"$f":"ROUNDDOWN((IF(AA20>0,IFERROR(IF(AVERAGE(DataInput!Q19:Q20)>AVERAGE(AA20,AA19),ROUNDDOWN(((((AA19-Z19)+(AA20-Z20))/2)*(A20-A19))/27,0),IF(((((DataInput!Q20-Z20)+(DataInput!Q19-Z19))/2)*(A20-A19))/27+S19+T19>0,ROUNDDOWN(((((DataInput!Q20-Z20)+(DataInput!Q19-Z19))/2)*(A20-A19))/27+S19+T19,0),0)),0),0)*$X$5),1)","v":1381.9},155,{"$f":"ROUNDDOWN((IF(AC20>0,IFERROR(IF(((((DataInput!Q19-AC19)+(DataInput!Q20-AC20))/2)*(A20-A19))/27+S19+T19>0,ROUNDDOWN(((((DataInput!Q19-AC19)+(DataInput!Q20-AC20))/2)*(A20-A19))/27+S19+T19,0),0),0),0)*$X$5),1)","v":1547},{"$f":"DataInput!U19","v":244},{"$f":"DataInput!S19","v":127},177.8,66.2]
[{"$f":"IF(DataInput!A20<>\"\",DataInput!A20,\"\")","v":882175},{"$f":"SUM(DataInput!C20,DataInput!Y20)+(DataInput!U20-DataInput!E20)","v":620},{"$f":"SUM(DataInput!D20,DataInput!Z20)","v":379},{"$f":"DataInput!U20","v":241},{"$f":"SUM(DataInput!F20,DataInput!AB20)","v":0},{"$f":"SUM(DataInput!G20,DataInput!AC20)","v":0},{"$f":"SUM(DataInput!H20,DataInput!AD20)","v":0},{"$f":"DataInput!I20","v":0},{"$f":"SUM(DataInput!J20,DataInput!AF20)","v":0},{"$f":"SUM(DataInput!K20,DataInput!AG20)","v":0},{"$f":"SUM(DataInput!L20,DataInput!AH20)","v":0},{"$f":"SUM(DataInput!M20,DataInput!AI20)","v":0},{"$f":"SUM(DataInput!N20,DataInput!AJ20)","v":0},{"$f":"SUM(DataInput!O20,DataInput!AK20)","v":0},{"$f":"DataInput!P20","v":0},null,379,{"$f":"DataInput!R20","v":1021},{"$f":"DataInput!Y20","v":0},{"$f":"IF(DataInput!U20-DataInput!E20>0,DataInput!U20-DataInput!E20,\"\")","v":120},{"$f":"IF(DataInput!W20-DataInput!I20>0,DataInput!W20-DataInput!I20,\"\")","v":""},null,1141,1483.3,-1104.3,292,2130,{"$f":"ROUNDDOWN((IF(AA21>0,IFERROR(IF(AVERAGE(DataInput!Q20:Q21)>AVERAGE(AA21,AA20),ROUNDDOWN(((((AA20-Z20)+(AA21-Z21))/2)*(A21-A20))/27,0),IF(((((DataInput!Q21-Z21)+(DataInput!Q20-Z20))/2)*(A21-A20))/27+S20+T20>0,ROUNDDOWN(((((DataInput!Q21-Z21)+(DataInput!Q20-Z20))/2)*(A21-A20))/27+S20+T20,0),0)),0),0)*$X$5),1)","v":1131},155,{"$f":"ROUNDDOWN((IF(AC21>0,IFERROR(IF(((((DataInput!Q20-AC20)+(DataInput!Q21-AC21))/2)*(A21-A20))/27+S20+T20>0,ROUNDDOWN(((((DataInput!Q20-AC20)+(DataInput!Q21-AC21))/2)*(A21-A20))/27+S20+T20,0),0),0),0)*$X$5),1)","v":1296.0999999999999},{"$f":"DataInput!U20","v":241},{"$f":"DataInput!S20","v":129},180.6,60.4]
[{"$f":"IF(DataInput!A21<>\"\",DataInput!A21,\"\")","v":882200},{"$f":"SUM(DataInput!C21,DataInput!Y21)+(DataInput!U21-DataInput!E21)","v":558},{"$f":"SUM(DataInput!D21,DataInput!Z21)","v":333},{"$f":"DataInput!U21","v":225},{"$f":"SUM(DataInput!F21,DataInput!AB21)","v":0},{"$f":"SUM(DataInput!G21,DataInput!AC21)","v":0},{"$f":"SUM(DataInput!H21,DataInput!AD21)","v":0},{"$f":"DataInput!I21","v":0},{"$f":"SUM(DataInput!J21,DataInput!AF21)","v":0},{"$f":"SUM(DataInput!K21,DataInput!AG21)","v":0},{"$f":"SUM(DataInput!L21,DataInput!AH21)","v":0},{"$f":"SUM(DataInput!M21,DataInput!AI21)","v":0},{"$f":"SUM(DataInput!N21,DataInput!AJ21)","v":0},{"$f":"SUM(DataInput!O21,DataInput!AK21)","v":0},{"$f":"DataInput!P21","v":0},null,333,{"$f":"DataInput!R21","v":860},{"$f":"DataInput!Y21","v":0},{"$f":"IF(DataInput!U21-DataInput!E21>0,DataInput!U21-DataInput!E21,\"\")","v":111},{"$f":"IF(DataInput!W21-DataInput!I21>0,DataInput!W21-DataInput!I21,\"\")","v":""},null,971,1262.3,-929.3,292,2130,{"$f":"ROUNDDOWN((IF(AA22>0,IFERROR(IF(AVERAGE(DataInput!Q21:Q22)>AVERAGE(AA22,AA21),ROUNDDOWN(((((AA21-Z21)+(AA22-Z22))/2)*(A22-A21))/27,0),IF(((((DataInput!Q22-Z22)+(DataInput!Q21-Z21))/2)*(A22-A21))/27+S21+T21>0,ROUNDDOWN(((((DataInput!Q22-Z22)+(DataInput!Q21-Z21))/2)*(A22-A21))/27+S21+T21,0),0)),0),0)*$X$5),1)","v":910},155,{"$f":"ROUNDDOWN((IF(AC22>0,IFERROR(IF(((((DataInput!Q21-AC21)+(DataInput!Q22-AC22))/2)*(A22-A21))/27+S21+T21>0,ROUNDDOWN(((((DataInput!Q21-AC21)+(DataInput!Q22-AC22))/2)*(A22-A21))/27+S21+T21,0),0),0),0)*$X$5),1)","v":1075.0999999999999},{"$f":"DataInput!U21","v":225},{"$f":"DataInput!S21","v":120},168,57]
[{"$f":"IF(DataInput!A22<>\"\",DataInput!A22,\"\")","v":882225},{"$f":"SUM(DataInput!C22,DataInput!Y22)+(DataInput!U22-DataInput!E22)","v":445},{"$f":"SUM(DataInput!D22,DataInput!Z22)","v":248},{"$f":"DataInput!U22","v":196},{"$f":"SUM(DataInput!F22,DataInput!AB22)","v":0},{"$f":"SUM(DataInput!G22,DataInput!AC22)","v":0},{"$f":"SUM(DataInput!H22,DataInput!AD22)","v":0},{"$f":"DataInput!I22","v":0},{"$f":"SUM(DataInput!J22,DataInput!AF22)","v":0},{"$f":"SUM(DataInput!K22,DataInput!AG22)","v":0},{"$f":"SUM(DataInput!L22,DataInput!AH22)","v":0},{"$f":"SUM(DataInput!M22,DataInput!AI22)","v":0},{"$f":"SUM(DataInput!N22,DataInput!AJ22)","v":0},{"$f":"SUM(DataInput!O22,DataInput!AK22)","v":0},{"$f":"DataInput!P22","v":0},null,248,{"$f":"DataInput!R22","v":702},{"$f":"DataInput!Y22","v":0},{"$f":"IF(DataInput!U22-DataInput!E22>0,DataInput!U22-DataInput!E22,\"\")","v":102},{"$f":"IF(DataInput!W22-DataInput!I22>0,DataInput!W22-DataInput!I22,\"\")","v":""},null,804,1045.2,-797.2,292,2130,{"$f":"ROUNDDOWN((IF(AA23>0,IFERROR(IF(AVERAGE(DataInput!Q22:Q23)>AVERAGE(AA23,AA22),ROUNDDOWN(((((AA22-Z22)+(AA23-Z23))/2)*(A23-A22))/27,0),IF(((((DataInput!Q23-Z23)+(DataInput!Q22-Z22))/2)*(A23-A22))/27+S22+T22>0,ROUNDDOWN(((((DataInput!Q23-Z23)+(DataInput!Q22-Z22))/2)*(A23-A22))/27+S22+T22,0),0)),0),0)*$X$5),1)","v":692.9},155,{"$f":"ROUNDDOWN((IF(AC23>0,IFERROR(IF(((((DataInput!Q22-AC22)+(DataInput!Q23-AC23))/2)*(A23-A22))/27+S22+T22>0,ROUNDDOWN(((((DataInput!Q22-AC22)+(DataInput!Q23-AC23))/2)*(A23-A22))/27+S22+T22,0),0),0),0)*$X$5),1)","v":856.7},{"$f":"DataInput!U22","v":196},{"$f":"DataInput!S22","v":101},141.4,54.6]
[{"$f":"IF(DataInput!A23<>\"\",DataInput!A23,\"\")","v":882250},{"$f":"SUM(DataInput!C23,DataInput!Y23)+(DataInput!U23-DataInput!E23)","v":409},{"$f":"SUM(DataInput!D23,DataInput!Z23)","v":234},{"$f":"DataInput!U23","v":175},{"$f":"SUM(DataInput!F23,DataInput!AB23)","v":0},{"$f":"SUM(DataInput!G23,DataInput!AC23)","v":0},{"$f":"SUM(DataInput!H23,DataInput!AD23)","v":0},{"$f":"DataInput!I23","v":0},{"$f":"SUM(DataInput!J23,DataInput!AF23)","v":0},{"$f":"SUM(DataInput!K23,DataInput!AG23)","v":0},{"$f":"SUM(DataInput!L23,DataInput!AH23)","v":0},{"$f":"SUM(DataInput!M23,DataInput!AI23)","v":0},{"$f":"SUM(DataInput!N23,DataInput!AJ23)","v":0},{"$f":"SUM(DataInput!O23,DataInput!AK23)","v":0},{"$f":"DataInput!P23","v":0},null,234,{"$f":"DataInput!R23","v":561},{"$f":"DataInput!Y23","v":0},{"$f":"IF(DataInput!U23-DataInput!E23>0,DataInput!U23-DataInput!E23,\"\")","v":94},{"$f":"IF(DataInput!W23-DataInput!I23>0,DataInput!W23-DataInput!I23,\"\")","v":""},null,655,851.5,-617.5,292,2130,{"$f":"ROUNDDOWN((IF(AA24>0,IFERROR(IF(AVERAGE(DataInput!Q23:Q24)>AVERAGE(AA24,AA23),ROUNDDOWN(((((AA23-Z23)+(AA24-Z24))/2)*(A24-A23))/27,0),IF(((((DataInput!Q24-Z24)+(DataInput!Q23-Z23))/2)*(A24-A23))/27+S23+T23>0,ROUNDDOWN(((((DataInput!Q24-Z24)+(DataInput!Q23-Z23))/2)*(A24-A23))/27+S23+T23,0),0)),0),0)*$X$5),1)","v":499.2},155,{"$f":"ROUNDDOWN((IF(AC24>0,IFERROR(IF(((((DataInput!Q23-AC23)+(DataInput!Q24-AC24))/2)*(A24-A23))/27+S23+T23>0,ROUNDDOWN(((((DataInput!Q23-AC23)+(DataInput!Q24-AC24))/2)*(A24-A23))/27+S23+T23,0),0),0),0)*$X$5),1)","v":664.3},{"$f":"DataInput!U23","v":175},{"$f":"DataInput!S23","v":87},121.8,53.2]
[{"$f":"IF(DataInput!A24<>\"\",DataInput!A24,\"\")","v":882275},{"$f":"SUM(DataInput!C24,DataInput!Y24)+(DataInput!U24-DataInput!E24)","v":400},{"$f":"SUM(DataInput!D24,DataInput!Z24)","v":235},{"$f":"DataInput!U24","v":165},{"$f":"SUM(DataInput!F24,DataInput!AB24)","v":0},{"$f":"SUM(DataInput!G24,DataInput!AC24)","v":0},{"$f":"SUM(DataInput!H24,DataInput!AD24)","v":0},{"$f":"DataInput!I24","v":0},{"$f":"SUM(DataInput!J24,DataInput!AF24)","v":0},{"$f":"SUM(DataInput!K24,DataInput!AG24)","v":0},{"$f":"SUM(DataInput!L24,DataInput!AH24)","v":0},{"$f":"SUM(DataInput!M24,DataInput!AI24)","v":0},{"$f":"SUM(DataInput!N24,DataInput!AJ24)","v":0},{"$f":"SUM(DataInput!O24,DataInput!AK24)","v":0},{"$f":"DataInput!P24","v":0},null,235,{"$f":"DataInput!R24","v":468},{"$f":"DataInput!Y24","v":0},{"$f":"IF(DataInput!U24-DataInput!E24>0,DataInput!U24-DataInput!E24,\"\")","v":88},{"$f":"IF(DataInput!W24-DataInput!I24>0,DataInput!W24-DataInput!I24,\"\")","v":""},null,556,722.8,-487.8,292,2130,{"$f":"ROUNDDOWN((IF(AA25>0,IFERROR(IF(AVERAGE(DataInput!Q24:Q25)>AVERAGE(AA25,AA24),ROUNDDOWN(((((AA24-Z24)+(AA25-Z25))/2)*(A25-A24))/27,0),IF(((((DataInput!Q25-Z25)+(DataInput!Q24-Z24))/2)*(A25-A24))/27+S24+T24>0,ROUNDDOWN(((((DataInput!Q25-Z25)+(DataInput!Q24-Z24))/2)*(A25-A24))/27+S24+T24,0),0)),0),0)*$X$5),1)","v":370.5},155,{"$f":"ROUNDDOWN((IF(AC25>0,IFERROR(IF(((((DataInput!Q24-AC24)+(DataInput!Q25-AC25))/2)*(A25-A24))/27+S24+T24>0,ROUNDDOWN(((((DataInput!Q24-AC24)+(DataInput!Q25-AC25))/2)*(A25-A24))/27+S24+T24,0),0),0),0)*$X$5),1)","v":535.6},{"$f":"DataInput!U24","v":165},{"$f":"DataInput!S24","v":80},112,53]
[{"$f":"IF(DataInput!A25<>\"\",DataInput!A25,\"\")","v":882300},{"$f":"SUM(DataInput!C25,DataInput!Y25)+(DataInput!U25-DataInput!E25)","v":371},{"$f":"SUM(DataInput!D25,DataInput!Z25)","v":215},{"$f":"DataInput!U25","v":156},{"$f":"SUM(DataInput!F25,DataInput!AB25)","v":0},{"$f":"SUM(DataInput!G25,DataInput!AC25)","v":0},{"$f":"SUM(DataInput!H25,DataInput!AD25)","v":0},{"$f":"DataInput!I25","v":0},{"$f":"SUM(DataInput!J25,DataInput!AF25)","v":0},{"$f":"SUM(DataInput!K25,DataInput!AG25)","v":0},{"$f":"SUM(DataInput!L25,DataInput!AH25)","v":0},{"$f":"SUM(DataInput!M25,DataInput!AI25)","v":0},{"$f":"SUM(DataInput!N25,DataInput!AJ25)","v":0},{"$f":"SUM(DataInput!O25,DataInput!AK25)","v":0},{"$f":"DataInput!P25","v":0},null,215,{"$f":"DataInput!R25","v":415},{"$f":"DataInput!Y25","v":0},{"$f":"IF(DataInput!U25-DataInput!E25>0,DataInput!U25-DataInput!E25,\"\")","v":83},{"$f":"IF(DataInput!W25-DataInput!I25>0,DataInput!W25-DataInput!I25,\"\")","v":""},null,498,647.4,-432.4,292,2130,{"$f":"ROUNDDOWN((IF(AA26>0,IFERROR(IF(AVERAGE(DataInput!Q25:Q26)>AVERAGE(AA26,AA25),ROUNDDOWN(((((AA25-Z25)+(AA26-Z26))/2)*(A26-A25))/27,0),IF(((((DataInput!Q26-Z26)+(DataInput!Q25-Z25))/2)*(A26-A25))/27+S25+T25>0,ROUNDDOWN(((((DataInput!Q26-Z26)+(DataInput!Q25-Z25))/2)*(A26-A25))/27+S25+T25,0),0)),0),0)*$X$5),1)","v":295.10000000000002},155,{"$f":"ROUNDDOWN((IF(AC26>0,IFERROR(IF(((((DataInput!Q25-AC25)+(DataInput!Q26-AC26))/2)*(A26-A25))/27+S25+T25>0,ROUNDDOWN(((((DataInput!Q25-AC25)+(DataInput!Q26-AC26))/2)*(A26-A25))/27+S25+T25,0),0),0),0)*$X$5),1)","v":460.2},{"$f":"DataInput!U25","v":156},{"$f":"DataInput!S25","v":75},105,51]
[{"$f":"IF(DataInput!A26<>\"\",DataInput!A26,\"\")","v":882325},{"$f":"SUM(DataInput!C26,DataInput!Y26)+(DataInput!U26-DataInput!E26)","v":320},{"$f":"SUM(DataInput!D26,DataInput!Z26)","v":175},{"$f":"DataInput!U26","v":146},{"$f":"SUM(DataInput!F26,DataInput!AB26)","v":0},{"$f":"SUM(DataInput!G26,DataInput!AC26)","v":0},{"$f":"SUM(DataInput!H26,DataInput!AD26)","v":0},{"$f":"DataInput!I26","v":0},{"$f":"SUM(DataInput!J26,DataInput!AF26)","v":0},{"$f":"SUM(DataInput!K26,DataInput!AG26)","v":0},{"$f":"SUM(DataInput!L26,DataInput!AH26)","v":0},{"$f":"SUM(DataInput!M26,DataInput!AI26)","v":0},{"$f":"SUM(DataInput!N26,DataInput!AJ26)","v":0},{"$f":"SUM(DataInput!O26,DataInput!AK26)","v":0},{"$f":"DataInput!P26","v":0},null,175,{"$f":"DataInput!R26","v":386},{"$f":"DataInput!Y26","v":0},{"$f":"IF(DataInput!U26-DataInput!E26>0,DataInput!U26-DataInput!E26,\"\")","v":80},{"$f":"IF(DataInput!W26-DataInput!I26>0,DataInput!W26-DataInput!I26,\"\")","v":""},null,466,605.79999999999995,-430.8,292,2130,{"$f":"ROUNDDOWN((IF(AA27>0,IFERROR(IF(AVERAGE(DataInput!Q26:Q27)>AVERAGE(AA27,AA26),ROUNDDOWN(((((AA26-Z26)+(AA27-Z27))/2)*(A27-A26))/27,0),IF(((((DataInput!Q27-Z27)+(DataInput!Q26-Z26))/2)*(A27-A26))/27+S26+T26>0,ROUNDDOWN(((((DataInput!Q27-Z27)+(DataInput!Q26-Z26))/2)*(A27-A26))/27+S26+T26,0),0)),0),0)*$X$5),1)","v":253.5},155,{"$f":"ROUNDDOWN((IF(AC27>0,IFERROR(IF(((((DataInput!Q26-AC26)+(DataInput!Q27-AC27))/2)*(A27-A26))/27+S26+T26>0,ROUNDDOWN(((((DataInput!Q26-AC26)+(DataInput!Q27-AC27))/2)*(A27-A26))/27+S26+T26,0),0),0),0)*$X$5),1)","v":418.6},{"$f":"DataInput!U26","v":146},{"$f":"DataInput!S26","v":70},98,48]
[{"$f":"IF(DataInput!A27<>\"\",DataInput!A27,\"\")","v":882350},{"$f":"SUM(DataInput!C27,DataInput!Y27)+(DataInput!U27-DataInput!E27)","v":262},{"$f":"SUM(DataInput!D27,DataInput!Z27)","v":127},{"$f":"DataInput!U27","v":135},{"$f":"SUM(DataInput!F27,DataInput!AB27)","v":0},{"$f":"SUM(DataInput!G27,DataInput!AC27)","v":0},{"$f":"SUM(DataInput!H27,DataInput!AD27)","v":0},{"$f":"DataInput!I27","v":0},{"$f":"SUM(DataInput!J27,DataInput!AF27)","v":0},{"$f":"SUM(DataInput!K27,DataInput!AG27)","v":0},{"$f":"SUM(DataInput!L27,DataInput!AH27)","v":0},{"$f":"SUM(DataInput!M27,DataInput!AI27)","v":0},{"$f":"SUM(DataInput!N27,DataInput!AJ27)","v":0},{"$f":"SUM(DataInput!O27,DataInput!AK27)","v":0},{"$f":"DataInput!P27","v":0},null,127,{"$f":"DataInput!R27","v":366},{"$f":"DataInput!Y27","v":0},{"$f":"IF(DataInput!U27-DataInput!E27>0,DataInput!U27-DataInput!E27,\"\")","v":78},{"$f":"IF(DataInput!W27-DataInput!I27>0,DataInput!W27-DataInput!I27,\"\")","v":""},null,444,577.20000000000005,-450.2,292,2130,{"$f":"ROUNDDOWN((IF(AA28>0,IFERROR(IF(AVERAGE(DataInput!Q27:Q28)>AVERAGE(AA28,AA27),ROUNDDOWN(((((AA27-Z27)+(AA28-Z28))/2)*(A28-A27))/27,0),IF(((((DataInput!Q28-Z28)+(DataInput!Q27-Z27))/2)*(A28-A27))/27+S27+T27>0,ROUNDDOWN(((((DataInput!Q28-Z28)+(DataInput!Q27-Z27))/2)*(A28-A27))/27+S27+T27,0),0)),0),0)*$X$5),1)","v":224.9},155,{"$f":"ROUNDDOWN((IF(AC28>0,IFERROR(IF(((((DataInput!Q27-AC27)+(DataInput!Q28-AC28))/2)*(A28-A27))/27+S27+T27>0,ROUNDDOWN(((((DataInput!Q27-AC27)+(DataInput!Q28-AC28))/2)*(A28-A27))/27+S27+T27,0),0),0),0)*$X$5),1)","v":390},{"$f":"DataInput!U27","v":135},{"$f":"DataInput!S27","v":63},88.2,46.8]
[{"$f":"IF(DataInput!A28<>\"\",DataInput!A28,\"\")","v":882375},{"$f":"SUM(DataInput!C28,DataInput!Y28)+(DataInput!U28-DataInput!E28)","v":212},{"$f":"SUM(DataInput!D28,DataInput!Z28)","v":87},{"$f":"DataInput!U28","v":125},{"$f":"SUM(DataInput!F28,DataInput!AB28)","v":0},{"$f":"SUM(DataInput!G28,DataInput!AC28)","v":0},{"$f":"SUM(DataInput!H28,DataInput!AD28)","v":0},{"$f":"DataInput!I28","v":0},{"$f":"SUM(DataInput!J28,DataInput!AF28)","v":0},{"$f":"SUM(DataInput!K28,DataInput!AG28)","v":0},{"$f":"SUM(DataInput!L28,DataInput!AH28)","v":0},{"$f":"SUM(DataInput!M28,DataInput!AI28)","v":0},{"$f":"SUM(DataInput!N28,DataInput!AJ28)","v":0},{"$f":"SUM(DataInput!O28,DataInput!AK28)","v":0},{"$f":"DataInput!P28","v":0},null,87,{"$f":"DataInput!R28","v":346},{"$f":"DataInput!Y28","v":0},{"$f":"IF(DataInput!U28-DataInput!E28>0,DataInput!U28-DataInput!E28,\"\")","v":76},{"$f":"IF(DataInput!W28-DataInput!I28>0,DataInput!W28-DataInput!I28,\"\")","v":""},null,422,548.6,-461.6,292,2130,{"$f":"ROUNDDOWN((IF(AA29>0,IFERROR(IF(AVERAGE(DataInput!Q28:Q29)>AVERAGE(AA29,AA28),ROUNDDOWN(((((AA28-Z28)+(AA29-Z29))/2)*(A29-A28))/27,0),IF(((((DataInput!Q29-Z29)+(DataInput!Q28-Z28))/2)*(A29-A28))/27+S28+T28>0,ROUNDDOWN(((((DataInput!Q29-Z29)+(DataInput!Q28-Z28))/2)*(A29-A28))/27+S28+T28,0),0)),0),0)*$X$5),1)","v":196.3},155,{"$f":"ROUNDDOWN((IF(AC29>0,IFERROR(IF(((((DataInput!Q28-AC28)+(DataInput!Q29-AC29))/2)*(A29-A28))/27+S28+T28>0,ROUNDDOWN(((((DataInput!Q28-AC28)+(DataInput!Q29-AC29))/2)*(A29-A28))/27+S28+T28,0),0),0),0)*$X$5),1)","v":361.4},{"$f":"DataInput!U28","v":125},{"$f":"DataInput!S28","v":56},78.400000000000006,46.6]
[{"$f":"IF(DataInput!A29<>\"\",DataInput!A29,\"\")","v":882400},{"$f":"SUM(DataInput!C29,DataInput!Y29)+(DataInput!U29-DataInput!E29)","v":167},{"$f":"SUM(DataInput!D29,DataInput!Z29)","v":52},{"$f":"DataInput!U29","v":115},{"$f":"SUM(DataInput!F29,DataInput!AB29)","v":0},{"$f":"SUM(DataInput!G29,DataInput!AC29)","v":0},{"$f":"SUM(DataInput!H29,DataInput!AD29)","v":0},{"$f":"DataInput!I29","v":0},{"$f":"SUM(DataInput!J29,DataInput!AF29)","v":0},{"$f":"SUM(DataInput!K29,DataInput!AG29)","v":0},{"$f":"SUM(DataInput!L29,DataInput!AH29)","v":0},{"$f":"SUM(DataInput!M29,DataInput!AI29)","v":0},{"$f":"SUM(DataInput!N29,DataInput!AJ29)","v":0},{"$f":"SUM(DataInput!O29,DataInput!AK29)","v":0},{"$f":"DataInput!P29","v":0},null,52,{"$f":"DataInput!R29","v":329},{"$f":"DataInput!Y29","v":0},{"$f":"IF(DataInput!U29-DataInput!E29>0,DataInput!U29-DataInput!E29,\"\")","v":75},{"$f":"IF(DataInput!W29-DataInput!I29>0,DataInput!W29-DataInput!I29,\"\")","v":""},null,404,525.20000000000005,-473.2,292,2130,{"$f":"ROUNDDOWN((IF(AA30>0,IFERROR(IF(AVERAGE(DataInput!Q29:Q30)>AVERAGE(AA30,AA29),ROUNDDOWN(((((AA29-Z29)+(AA30-Z30))/2)*(A30-A29))/27,0),IF(((((DataInput!Q30-Z30)+(DataInput!Q29-Z29))/2)*(A30-A29))/27+S29+T29>0,ROUNDDOWN(((((DataInput!Q30-Z30)+(DataInput!Q29-Z29))/2)*(A30-A29))/27+S29+T29,0),0)),0),0)*$X$5),1)","v":172.9},155,{"$f":"ROUNDDOWN((IF(AC30>0,IFERROR(IF(((((DataInput!Q29-AC29)+(DataInput!Q30-AC30))/2)*(A30-A29))/27+S29+T29>0,ROUNDDOWN(((((DataInput!Q29-AC29)+(DataInput!Q30-AC30))/2)*(A30-A29))/27+S29+T29,0),0),0),0)*$X$5),1)","v":338},{"$f":"DataInput!U29","v":115},{"$f":"DataInput!S29","v":49},68.599999999999994,46.4]
[{"$f":"IF(DataInput!A30<>\"\",DataInput!A30,\"\")","v":882425},{"$f":"SUM(DataInput!C30,DataInput!Y30)+(DataInput!U30-DataInput!E30)","v":130},{"$f":"SUM(DataInput!D30,DataInput!Z30)","v":26},{"$f":"DataInput!U30","v":105},{"$f":"SUM(DataInput!F30,DataInput!AB30)","v":0},{"$f":"SUM(DataInput!G30,DataInput!AC30)","v":0},{"$f":"SUM(DataInput!H30,DataInput!AD30)","v":0},{"$f":"DataInput!I30","v":0},{"$f":"SUM(DataInput!J30,DataInput!AF30)","v":0},{"$f":"SUM(DataInput!K30,DataInput!AG30)","v":0},{"$f":"SUM(DataInput!L30,DataInput!AH30)","v":0},{"$f":"SUM(DataInput!M30,DataInput!AI30)","v":0},{"$f":"SUM(DataInput!N30,DataInput!AJ30)","v":0},{"$f":"SUM(DataInput!O30,DataInput!AK30)","v":0},{"$f":"DataInput!P30","v":0},null,26,{"$f":"DataInput!R30","v":297},{"$f":"DataInput!Y30","v":0},{"$f":"IF(DataInput!U30-DataInput!E30>0,DataInput!U30-DataInput!E30,\"\")","v":72},{"$f":"IF(DataInput!W30-DataInput!I30>0,DataInput!W30-DataInput!I30,\"\")","v":""},null,369,479.7,-453.7,292,2130,{"$f":"ROUNDDOWN((IF(AA31>0,IFERROR(IF(AVERAGE(DataInput!Q30:Q31)>AVERAGE(AA31,AA30),ROUNDDOWN(((((AA30-Z30)+(AA31-Z31))/2)*(A31-A30))/27,0),IF(((((DataInput!Q31-Z31)+(DataInput!Q30-Z30))/2)*(A31-A30))/27+S30+T30>0,ROUNDDOWN(((((DataInput!Q31-Z31)+(DataInput!Q30-Z30))/2)*(A31-A30))/27+S30+T30,0),0)),0),0)*$X$5),1)","v":127.4},155,{"$f":"ROUNDDOWN((IF(AC31>0,IFERROR(IF(((((DataInput!Q30-AC30)+(DataInput!Q31-AC31))/2)*(A31-A30))/27+S30+T30>0,ROUNDDOWN(((((DataInput!Q30-AC30)+(DataInput!Q31-AC31))/2)*(A31-A30))/27+S30+T30,0),0),0),0)*$X$5),1)","v":292.5},{"$f":"DataInput!U30","v":105},{"$f":"DataInput!S30","v":43},60.2,44.8]
[{"$f":"IF(DataInput!A31<>\"\",DataInput!A31,\"\")","v":882450},{"$f":"SUM(DataInput!C31,DataInput!Y31)+(DataInput!U31-DataInput!E31)","v":112},{"$f":"SUM(DataInput!D31,DataInput!Z31)","v":14},{"$f":"DataInput!U31","v":97},{"$f":"SUM(DataInput!F31,DataInput!AB31)","v":0},{"$f":"SUM(DataInput!G31,DataInput!AC31)","v":0},{"$f":"SUM(DataInput!H31,DataInput!AD31)","v":0},{"$f":"DataInput!I31","v":0},{"$f":"SUM(DataInput!J31,DataInput!AF31)","v":0},{"$f":"SUM(DataInput!K31,DataInput!AG31)","v":0},{"$f":"SUM(DataInput!L31,DataInput!AH31)","v":0},{"$f":"SUM(DataInput!M31,DataInput!AI31)","v":0},{"$f":"SUM(DataInput!N31,DataInput!AJ31)","v":0},{"$f":"SUM(DataInput!O31,DataInput!AK31)","v":0},{"$f":"DataInput!P31","v":0},null,14,{"$f":"DataInput!R31","v":233},{"$f":"DataInput!Y31","v":0},{"$f":"IF(DataInput!U31-DataInput!E31>0,DataInput!U31-DataInput!E31,\"\")","v":68},{"$f":"IF(DataInput!W31-DataInput!I31>0,DataInput!W31-DataInput!I31,\"\")","v":""},null,301,391.3,-377.3,292,2130,{"$f":"ROUNDDOWN((IF(AA32>0,IFERROR(IF(AVERAGE(DataInput!Q31:Q32)>AVERAGE(AA32,AA31),ROUNDDOWN(((((AA31-Z31)+(AA32-Z32))/2)*(A32-A31))/27,0),IF(((((DataInput!Q32-Z32)+(DataInput!Q31-Z31))/2)*(A32-A31))/27+S31+T31>0,ROUNDDOWN(((((DataInput!Q32-Z32)+(DataInput!Q31-Z31))/2)*(A32-A31))/27+S31+T31,0),0)),0),0)*$X$5),1)","v":39},155,{"$f":"ROUNDDOWN((IF(AC32>0,IFERROR(IF(((((DataInput!Q31-AC31)+(DataInput!Q32-AC32))/2)*(A32-A31))/27+S31+T31>0,ROUNDDOWN(((((DataInput!Q31-AC31)+(DataInput!Q32-AC32))/2)*(A32-A31))/27+S31+T31,0),0),0),0)*$X$5),1)","v":204.1},{"$f":"DataInput!U31","v":97},{"$f":"DataInput!S31","v":37},51.8,45.2]
[{"$f":"IF(DataInput!A32<>\"\",DataInput!A32,\"\")","v":882475},{"$f":"SUM(DataInput!C32,DataInput!Y32)+(DataInput!U32-DataInput!E32)","v":102},{"$f":"SUM(DataInput!D32,DataInput!Z32)","v":13},{"$f":"DataInput!U32","v":89},{"$f":"SUM(DataInput!F32,DataInput!AB32)","v":0},{"$f":"SUM(DataInput!G32,DataInput!AC32)","v":0},{"$f":"SUM(DataInput!H32,DataInput!AD32)","v":0},{"$f":"DataInput!I32","v":0},{"$f":"SUM(DataInput!J32,DataInput!AF32)","v":0},{"$f":"SUM(DataInput!K32,DataInput!AG32)","v":0},{"$f":"SUM(DataInput!L32,DataInput!AH32)","v":0},{"$f":"SUM(DataInput!M32,DataInput!AI32)","v":0},{"$f":"SUM(DataInput!N32,DataInput!AJ32)","v":0},{"$f":"SUM(DataInput!O32,DataInput!AK32)","v":0},{"$f":"DataInput!P32","v":0},null,13,{"$f":"DataInput!R32","v":150},{"$f":"DataInput!Y32","v":0},{"$f":"IF(DataInput!U32-DataInput!E32>0,DataInput!U32-DataInput!E32,\"\")","v":60},{"$f":"IF(DataInput!W32-DataInput!I32>0,DataInput!W32-DataInput!I32,\"\")","v":""},null,210,273,-260,292,2130,{"$f":"ROUNDDOWN((IF(AA33>0,IFERROR(IF(AVERAGE(DataInput!Q32:Q33)>AVERAGE(AA33,AA32),ROUNDDOWN(((((AA32-Z32)+(AA33-Z33))/2)*(A33-A32))/27,0),IF(((((DataInput!Q33-Z33)+(DataInput!Q32-Z32))/2)*(A33-A32))/27+S32+T32>0,ROUNDDOWN(((((DataInput!Q33-Z33)+(DataInput!Q32-Z32))/2)*(A33-A32))/27+S32+T32,0),0)),0),0)*$X$5),1)","v":0},155,{"$f":"ROUNDDOWN((IF(AC33>0,IFERROR(IF(((((DataInput!Q32-AC32)+(DataInput!Q33-AC33))/2)*(A33-A32))/27+S32+T32>0,ROUNDDOWN(((((DataInput!Q32-AC32)+(DataInput!Q33-AC33))/2)*(A33-A32))/27+S32+T32,0),0),0),0)*$X$5),1)","v":85.8},{"$f":"DataInput!U32","v":89},{"$f":"DataInput!S32","v":32},44.8,44.2]
[{"$f":"IF(DataInput!A33<>\"\",DataInput!A33,\"\")","v":882500},{"$f":"SUM(DataInput!C33,DataInput!Y33)+(DataInput!U33-DataInput!E33)","v":89},{"$f":"SUM(DataInput!D33,DataInput!Z33)","v":11},{"$f":"DataInput!U33","v":78},{"$f":"SUM(DataInput!F33,DataInput!AB33)","v":0},{"$f":"SUM(DataInput!G33,DataInput!AC33)","v":0},{"$f":"SUM(DataInput!H33,DataInput!AD33)","v":0},{"$f":"DataInput!I33","v":0},{"$f":"SUM(DataInput!J33,DataInput!AF33)","v":0},{"$f":"SUM(DataInput!K33,DataInput!AG33)","v":0},{"$f":"SUM(DataInput!L33,DataInput!AH33)","v":0},{"$f":"SUM(DataInput!M33,DataInput!AI33)","v":0},{"$f":"SUM(DataInput!N33,DataInput!AJ33)","v":0},{"$f":"SUM(DataInput!O33,DataInput!AK33)","v":0},{"$f":"DataInput!P33","v":0},null,11,{"$f":"DataInput!R33","v":74},{"$f":"DataInput!Y33","v":0},{"$f":"IF(DataInput!U33-DataInput!E33>0,DataInput!U33-DataInput!E33,\"\")","v":52},{"$f":"IF(DataInput!W33-DataInput!I33>0,DataInput!W33-DataInput!I33,\"\")","v":""},null,126,163.80000000000001,-152.80000000000001,292,2130,{"$f":"ROUNDDOWN((IF(AA34>0,IFERROR(IF(AVERAGE(DataInput!Q33:Q34)>AVERAGE(AA34,AA33),ROUNDDOWN(((((AA33-Z33)+(AA34-Z34))/2)*(A34-A33))/27,0),IF(((((DataInput!Q34-Z34)+(DataInput!Q33-Z33))/2)*(A34-A33))/27+S33+T33>0,ROUNDDOWN(((((DataInput!Q34-Z34)+(DataInput!Q33-Z33))/2)*(A34-A33))/27+S33+T33,0),0)),0),0)*$X$5),1)","v":0},155,{"$f":"ROUNDDOWN((IF(AC34>0,IFERROR(IF(((((DataInput!Q33-AC33)+(DataInput!Q34-AC34))/2)*(A34-A33))/27+S33+T33>0,ROUNDDOWN(((((DataInput!Q33-AC33)+(DataInput!Q34-AC34))/2)*(A34-A33))/27+S33+T33,0),0),0),0)*$X$5),1)","v":0},{"$f":"DataInput!U33","v":78},{"$f":"DataInput!S33","v":24},33.6,44.4]
[{"$f":"IF(DataInput!A34<>\"\",DataInput!A34,\"\")","v":882525},{"$f":"SUM(DataInput!C34,DataInput!Y34)+(DataInput!U34-DataInput!E34)","v":74},{"$f":"SUM(DataInput!D34,DataInput!Z34)","v":7},{"$f":"DataInput!U34","v":66},{"$f":"SUM(DataInput!F34,DataInput!AB34)","v":0},{"$f":"SUM(DataInput!G34,DataInput!AC34)","v":0},{"$f":"SUM(DataInput!H34,DataInput!AD34)","v":0},{"$f":"DataInput!I34","v":0},{"$f":"SUM(DataInput!J34,DataInput!AF34)","v":0},{"$f":"SUM(DataInput!K34,DataInput!AG34)","v":0},{"$f":"SUM(DataInput!L34,DataInput!AH34)","v":0},{"$f":"SUM(DataInput!M34,DataInput!AI34)","v":0},{"$f":"SUM(DataInput!N34,DataInput!AJ34)","v":0},{"$f":"SUM(DataInput!O34,DataInput!AK34)","v":0},{"$f":"DataInput!P34","v":0},null,7,{"$f":"DataInput!R34","v":20},{"$f":"DataInput!Y34","v":0},{"$f":"IF(DataInput!U34-DataInput!E34>0,DataInput!U34-DataInput!E34,\"\")","v":42},{"$f":"IF(DataInput!W34-DataInput!I34>0,DataInput!W34-DataInput!I34,\"\")","v":""},null,62,80.599999999999994,-73.599999999999994,292,2130,{"$f":"ROUNDDOWN((IF(AA35>0,IFERROR(IF(AVERAGE(DataInput!Q34:Q35)>AVERAGE(AA35,AA34),ROUNDDOWN(((((AA34-Z34)+(AA35-Z35))/2)*(A35-A34))/27,0),IF(((((DataInput!Q35-Z35)+(DataInput!Q34-Z34))/2)*(A35-A34))/27+S34+T34>0,ROUNDDOWN(((((DataInput!Q35-Z35)+(DataInput!Q34-Z34))/2)*(A35-A34))/27+S34+T34,0),0)),0),0)*$X$5),1)","v":0},155,{"$f":"ROUNDDOWN((IF(AC35>0,IFERROR(IF(((((DataInput!Q34-AC34)+(DataInput!Q35-AC35))/2)*(A35-A34))/27+S34+T34>0,ROUNDDOWN(((((DataInput!Q34-AC34)+(DataInput!Q35-AC35))/2)*(A35-A34))/27+S34+T34,0),0),0),0)*$X$5),1)","v":0},{"$f":"DataInput!U34","v":66},{"$f":"DataInput!S34","v":15},21,45]
[{"$f":"IF(DataInput!A35<>\"\",DataInput!A35,\"\")","v":882550},{"$f":"SUM(DataInput!C35,DataInput!Y35)+(DataInput!U35-DataInput!E35)","v":82},{"$f":"SUM(DataInput!D35,DataInput!Z35)","v":13},{"$f":"DataInput!U35","v":69},{"$f":"SUM(DataInput!F35,DataInput!AB35)","v":0},{"$f":"SUM(DataInput!G35,DataInput!AC35)","v":0},{"$f":"SUM(DataInput!H35,DataInput!AD35)","v":0},{"$f":"DataInput!I35","v":0},{"$f":"SUM(DataInput!J35,DataInput!AF35)","v":0},{"$f":"SUM(DataInput!K35,DataInput!AG35)","v":0},{"$f":"SUM(DataInput!L35,DataInput!AH35)","v":0},{"$f":"SUM(DataInput!M35,DataInput!AI35)","v":0},{"$f":"SUM(DataInput!N35,DataInput!AJ35)","v":0},{"$f":"SUM(DataInput!O35,DataInput!AK35)","v":0},{"$f":"DataInput!P35","v":0},null,13,{"$f":"DataInput!R35","v":0},{"$f":"DataInput!Y35","v":0},{"$f":"IF(DataInput!U35-DataInput!E35>0,DataInput!U35-DataInput!E35,\"\")","v":19},{"$f":"IF(DataInput!W35-DataInput!I35>0,DataInput!W35-DataInput!I35,\"\")","v":""},null,19,24.7,-11.7,292,2130,{"$f":"ROUNDDOWN((IF(AA36>0,IFERROR(IF(AVERAGE(DataInput!Q35:Q36)>AVERAGE(AA36,AA35),ROUNDDOWN(((((AA35-Z35)+(AA36-Z36))/2)*(A36-A35))/27,0),IF(((((DataInput!Q36-Z36)+(DataInput!Q35-Z35))/2)*(A36-A35))/27+S35+T35>0,ROUNDDOWN(((((DataInput!Q36-Z36)+(DataInput!Q35-Z35))/2)*(A36-A35))/27+S35+T35,0),0)),0),0)*$X$5),1)","v":0},155,{"$f":"ROUNDDOWN((IF(AC36>0,IFERROR(IF(((((DataInput!Q35-AC35)+(DataInput!Q36-AC36))/2)*(A36-A35))/27+S35+T35>0,ROUNDDOWN(((((DataInput!Q35-AC35)+(DataInput!Q36-AC36))/2)*(A36-A35))/27+S35+T35,0),0),0),0)*$X$5),1)","v":0},{"$f":"DataInput!U35","v":69},{"$f":"DataInput!S35","v":12},16.8,52.2]
[{"$f":"IF(DataInput!A36<>\"\",DataInput!A36,\"\")","v":882575},{"$f":"SUM(DataInput!C36,DataInput!Y36)+(DataInput!U36-DataInput!E36)","v":138},{"$f":"SUM(DataInput!D36,DataInput!Z36)","v":43},{"$f":"DataInput!U36","v":96},{"$f":"SUM(DataInput!F36,DataInput!AB36)","v":0},{"$f":"SUM(DataInput!G36,DataInput!AC36)","v":0},{"$f":"SUM(DataInput!H36,DataInput!AD36)","v":0},{"$f":"DataInput!I36","v":0},{"$f":"SUM(DataInput!J36,DataInput!AF36)","v":0},{"$f":"SUM(DataInput!K36,DataInput!AG36)","v":0},{"$f":"SUM(DataInput!L36,DataInput!AH36)","v":0},{"$f":"SUM(DataInput!M36,DataInput!AI36)","v":0},{"$f":"SUM(DataInput!N36,DataInput!AJ36)","v":0},{"$f":"SUM(DataInput!O36,DataInput!AK36)","v":0},{"$f":"DataInput!P36","v":0},null,43,{"$f":"DataInput!R36","v":0},{"$f":"DataInput!Y36","v":0},{"$f":"IF(DataInput!U36-DataInput!E36>0,DataInput!U36-DataInput!E36,\"\")","v":1},{"$f":"IF(DataInput!W36-DataInput!I36>0,DataInput!W36-DataInput!I36,\"\")","v":""},null,1,1.3,41.7,292,2130,{"$f":"ROUNDDOWN((IF(AA37>0,IFERROR(IF(AVERAGE(DataInput!Q36:Q37)>AVERAGE(AA37,AA36),ROUNDDOWN(((((AA36-Z36)+(AA37-Z37))/2)*(A37-A36))/27,0),IF(((((DataInput!Q37-Z37)+(DataInput!Q36-Z36))/2)*(A37-A36))/27+S36+T36>0,ROUNDDOWN(((((DataInput!Q37-Z37)+(DataInput!Q36-Z36))/2)*(A37-A36))/27+S36+T36,0),0)),0),0)*$X$5),1)","v":0},155,{"$f":"ROUNDDOWN((IF(AC37>0,IFERROR(IF(((((DataInput!Q36-AC36)+(DataInput!Q37-AC37))/2)*(A37-A36))/27+S36+T36>0,ROUNDDOWN(((((DataInput!Q36-AC36)+(DataInput!Q37-AC37))/2)*(A37-A36))/27+S36+T36,0),0),0),0)*$X$5),1)","v":0},{"$f":"DataInput!U36","v":96},{"$f":"DataInput!S36","v":7},9.8000000000000007,86.2]
[{"$f":"IF(DataInput!A37<>\"\",DataInput!A37,\"\")","v":882600},{"$f":"SUM(DataInput!C37,DataInput!Y37)+(DataInput!U37-DataInput!E37)","v":30},{"$f":"SUM(DataInput!D37,DataInput!Z37)","v":30},{"$f":"DataInput!U37","v":0},{"$f":"SUM(DataInput!F37,DataInput!AB37)","v":0},{"$f":"SUM(DataInput!G37,DataInput!AC37)","v":0},{"$f":"SUM(DataInput!H37,DataInput!AD37)","v":0},{"$f":"DataInput!I37","v":0},{"$f":"SUM(DataInput!J37,DataInput!AF37)","v":0},{"$f":"SUM(DataInput!K37,DataInput!AG37)","v":0},{"$f":"SUM(DataInput!L37,DataInput!AH37)","v":0},{"$f":"SUM(DataInput!M37,DataInput!AI37)","v":0},{"$f":"SUM(DataInput!N37,DataInput!AJ37)","v":0},{"$f":"SUM(DataInput!O37,DataInput!AK37)","v":0},{"$f":"DataInput!P37","v":0},null,30,{"$f":"DataInput!R37","v":0},{"$f":"DataInput!Y37","v":0},{"$f":"IF(DataInput!U37-DataInput!E37>0,DataInput!U37-DataInput!E37,\"\")","v":""},{"$f":"IF(DataInput!W37-DataInput!I37>0,DataInput!W37-DataInput!I37,\"\")","v":""},null,0,0,30,292,2130,{"$f":"ROUNDDOWN((IF(AA38>0,IFERROR(IF(AVERAGE(DataInput!Q37:Q38)>AVERAGE(AA38,AA37),ROUNDDOWN(((((AA37-Z37)+(AA38-Z38))/2)*(A38-A37))/27,0),IF(((((DataInput!Q38-Z38)+(DataInput!Q37-Z37))/2)*(A38-A37))/27+S37+T37>0,ROUNDDOWN(((((DataInput!Q38-Z38)+(DataInput!Q37-Z37))/2)*(A38-A37))/27+S37+T37,0),0)),0),0)*$X$5),1)","v":0},155,{"$f":"ROUNDDOWN((IF(AC38>0,IFERROR(IF(((((DataInput!Q37-AC37)+(DataInput!Q38-AC38))/2)*(A38-A37))/27+S37+T37>0,ROUNDDOWN(((((DataInput!Q37-AC37)+(DataInput!Q38-AC38))/2)*(A38-A37))/27+S37+T37,0),0),0),0)*$X$5),1)","v":0},{"$f":"DataInput!U37","v":0},{"$f":"DataInput!S37","v":0},0,0]
[{"$f":"IF(DataInput!A38<>\"\",DataInput!A38,\"\")","v":882605.5}]
[]
[{"$f":"IF(DataInput!A40<>\"\",DataInput!A40,\"\")","v":"STG1_Trail"}]
[{"$f":"IF(DataInput!A41<>\"\",DataInput!A41,\"\")","v":880150},{"$f":"SUM(DataInput!C41,DataInput!Y41)+(DataInput!U41-DataInput!E41)","v":20},{"$f":"SUM(DataInput!D41,DataInput!Z41)","v":10},{"$f":"DataInput!U41","v":10},{"$f":"SUM(DataInput!F41,DataInput!AB41)","v":0},{"$f":"SUM(DataInput!G41,DataInput!AC41)","v":0},{"$f":"SUM(DataInput!H41,DataInput!AD41)","v":0},{"$f":"DataInput!I41","v":5},{"$f":"SUM(DataInput!J41,DataInput!AF41)","v":0},{"$f":"SUM(DataInput!K41,DataInput!AG41)","v":0},{"$f":"SUM(DataInput!L41,DataInput!AH41)","v":0},{"$f":"SUM(DataInput!M41,DataInput!AI41)","v":0},{"$f":"SUM(DataInput!N41,DataInput!AJ41)","v":0},{"$f":"SUM(DataInput!O41,DataInput!AK41)","v":0},{"$f":"DataInput!P41","v":0},null,{"$f":"SUM(C41,E41:G41,I41:L41,O41:P41)","v":10},{"$f":"DataInput!R41","v":0},{"$f":"DataInput!Y41","v":0},{"$f":"IF(DataInput!U41-DataInput!E41>0,DataInput!U41-DataInput!E41,\"\")","v":4},{"$f":"IF(DataInput!W41-DataInput!I41>0,DataInput!W41-DataInput!I41,\"\")","v":""},null,{"$f":"SUM(R41:V41)","v":4},{"$f":"ROUNDUP(($W41*$X$5),1)","v":5.2},{"$f":"ROUNDUP(SUM(Q41-X41),1)","v":4.8},null,null,{"$f":"ROUNDDOWN((IF(AA42>0,IFERROR(IF(AVERAGE(DataInput!Q41:Q42)>AVERAGE(AA42,AA41),ROUNDDOWN(((((AA41-Z41)+(AA42-Z42))/2)*(A42-A41))/27,0),IF(((((DataInput!Q42-Z42)+(DataInput!Q41-Z41))/2)*(A42-A41))/27+S41+T41>0,ROUNDDOWN(((((DataInput!Q42-Z42)+(DataInput!Q41-Z41))/2)*(A42-A41))/27+S41+T41,0),0)),0),0)*$X$5),1)","v":0},null,{"$f":"ROUNDDOWN((IF(AC42>0,IFERROR(IF(((((DataInput!Q41-AC41)+(DataInput!Q42-AC42))/2)*(A42-A41))/27+S41+T41>0,ROUNDDOWN(((((DataInput!Q41-AC41)+(DataInput!Q42-AC42))/2)*(A42-A41))/27+S41+T41,0),0),0),0)*$X$5),1)","v":0},{"$f":"DataInput!U41","v":10},{"$f":"DataInput!S41","v":3},{"$f":"ROUNDUP((AF41*$AG$5),1)","v":4.2},{"$f":"ROUNDUP((AE41-AG41),1)","v":5.8}]
[{"$f":"IF(DataInput!A42<>\"\",DataInput!A42,\"\")","v":880175},{"$f":"SUM(DataInput!C42,DataInput!Y42)+(DataInput!U42-DataInput!E42)","v":23},{"$f":"SUM(DataInput!D42,DataInput!Z42)","v":9},{"$f":"DataInput!U42","v":14},{"$f":"SUM(DataInput!F42,DataInput!AB42)","v":0},{"$f":"SUM(DataInput!G42,DataInput!AC42)","v":0},{"$f":"SUM(DataInput!H42,DataInput!AD42)","v":0},{"$f":"DataInput!I42","v":5},{"$f":"SUM(DataInput!J42,DataInput!AF42)","v":0},{"$f":"SUM(DataInput!K42,DataInput!AG42)","v":0},{"$f":"SUM(DataInput!L42,DataInput!AH42)","v":0},{"$f":"SUM(DataInput!M42,DataInput!AI42)","v":0},{"$f":"SUM(DataInput!N42,DataInput!AJ42)","v":0},{"$f":"SUM(DataInput!O42,DataInput!AK42)","v":0},{"$f":"DataInput!P42","v":0},null,{"$f":"SUM(C42,E42:G42,I42:L42,O42:P42)","v":9},{"$f":"DataInput!R42","v":0},{"$f":"DataInput!Y42","v":0},{"$f":"IF(DataInput!U42-DataInput!E42>0,DataInput!U42-DataInput!E42,\"\")","v":4},{"$f":"IF(DataInput!W42-DataInput!I42>0,DataInput!W42-DataInput!I42,\"\")","v":1},null,{"$f":"SUM(R42:V42)","v":5},{"$f":"ROUNDUP(($W42*$X$5),1)","v":6.5},{"$f":"ROUNDUP(SUM(Q42-X42),1)","v":2.5},{"$f":"Z41","v":0},{"$f":"AA41","v":0},{"$f":"ROUNDDOWN((IF(AA43>0,IFERROR(IF(AVERAGE(DataInput!Q42:Q43)>AVERAGE(AA43,AA42),ROUNDDOWN(((((AA42-Z42)+(AA43-Z43))/2)*(A43-A42))/27,0),IF(((((DataInput!Q43-Z43)+(DataInput!Q42-Z42))/2)*(A43-A42))/27+S42+T42>0,ROUNDDOWN(((((DataInput!Q43-Z43)+(DataInput!Q42-Z42))/2)*(A43-A42))/27+S42+T42,0),0)),0),0)*$X$5),1)","v":0},{"$f":"AC41","v":0},{"$f":"ROUNDDOWN((IF(AC43>0,IFERROR(IF(((((DataInput!Q42-AC42)+(DataInput!Q43-AC43))/2)*(A43-A42))/27+S42+T42>0,ROUNDDOWN(((((DataInput!Q42-AC42)+(DataInput!Q43-AC43))/2)*(A43-A42))/27+S42+T42,0),0),0),0)*$X$5),1)","v":0},{"$f":"DataInput!U42","v":14},{"$f":"DataInput!S42","v":5},{"$f":"ROUNDUP((AF42*$AG$5),1)","v":7},{"$f":"ROUNDUP((AE42-AG42),1)","v":7}]
[{"$f":"IF(DataInput!A43<>\"\",DataInput!A43,\"\")","v":880200},{"$f":"SUM(DataInput!C43,DataInput!Y43)+(DataInput!U43-DataInput!E43)","v":32},{"$f":"SUM(DataInput!D43,DataInput!Z43)","v":10},{"$f":"DataInput!U43","v":23},{"$f":"SUM(DataInput!F43,DataInput!AB43)","v":0},{"$f":"SUM(DataInput!G43,DataInput!AC43)","v":0},{"$f":"SUM(DataInput!H43,DataInput!AD43)","v":0},{"$f":"DataInput!I43","v":4},{"$f":"SUM(DataInput!J43,DataInput!AF43)","v":0},{"$f":"SUM(DataInput!K43,DataInput!AG43)","v":0},{"$f":"SUM(DataInput!L43,DataInput!AH43)","v":0},{"$f":"SUM(DataInput!M43,DataInput!AI43)","v":0},{"$f":"SUM(DataInput!N43,DataInput!AJ43)","v":0},{"$f":"SUM(DataInput!O43,DataInput!AK43)","v":0},{"$f":"DataInput!P43","v":0},null,10,{"$f":"DataInput!R43","v":0},{"$f":"DataInput!Y43","v":0},{"$f":"IF(DataInput!U43-DataInput!E43>0,DataInput!U43-DataInput!E43,\"\")","v":6},{"$f":"IF(DataInput!W43-DataInput!I43>0,DataInput!W43-DataInput!I43,\"\")","v":2},null,8,10.4,-0.4,{"$f":"Z42","v":0},{"$f":"AA42","v":0},{"$f":"ROUNDDOWN((IF(AA44>0,IFERROR(IF(AVERAGE(DataInput!Q43:Q44)>AVERAGE(AA44,AA43),ROUNDDOWN(((((AA43-Z43)+(AA44-Z44))/2)*(A44-A43))/27,0),IF(((((DataInput!Q44-Z44)+(DataInput!Q43-Z43))/2)*(A44-A43))/27+S43+T43>0,ROUNDDOWN(((((DataInput!Q44-Z44)+(DataInput!Q43-Z43))/2)*(A44-A43))/27+S43+T43,0),0)),0),0)*$X$5),1)","v":0},{"$f":"AC42","v":0},{"$f":"ROUNDDOWN((IF(AC44>0,IFERROR(IF(((((DataInput!Q43-AC43)+(DataInput!Q44-AC44))/2)*(A44-A43))/27+S43+T43>0,ROUNDDOWN(((((DataInput!Q43-AC43)+(DataInput!Q44-AC44))/2)*(A44-A43))/27+S43+T43,0),0),0),0)*$X$5),1)","v":0},{"$f":"DataInput!U43","v":23},{"$f":"DataInput!S43","v":9},12.6,10.4]
[{"$f":"IF(DataInput!A44<>\"\",DataInput!A44,\"\")","v":880225},{"$f":"SUM(DataInput!C44,DataInput!Y44)+(DataInput!U44-DataInput!E44)","v":43},{"$f":"SUM(DataInput!D44,DataInput!Z44)","v":11},{"$f":"DataInput!U44","v":32},{"$f":"SUM(DataInput!F44,DataInput!AB44)","v":0},{"$f":"SUM(DataInput!G44,DataInput!AC44)","v":0},{"$f":"SUM(DataInput!H44,DataInput!AD44)","v":0},{"$f":"DataInput!I44","v":2},{"$f":"SUM(DataInput!J44,DataInput!AF44)","v":0},{"$f":"SUM(DataInput!K44,DataInput!AG44)","v":0},{"$f":"SUM(DataInput!L44,DataInput!AH44)","v":0},{"$f":"SUM(DataInput!M44,DataInput!AI44)","v":0},{"$f":"SUM(DataInput!N44,DataInput!AJ44)","v":0},{"$f":"SUM(DataInput!O44,DataInput!AK44)","v":0},{"$f":"DataInput!P44","v":0},null,11,{"$f":"DataInput!R44","v":1},{"$f":"DataInput!Y44","v":0},{"$f":"IF(DataInput!U44-DataInput!E44>0,DataInput!U44-DataInput!E44,\"\")","v":11},{"$f":"IF(DataInput!W44-DataInput!I44>0,DataInput!W44-DataInput!I44,\"\")","v":6},null,18,23.4,-12.4,0,0,{"$f":"ROUNDDOWN((IF(AA45>0,IFERROR(IF(AVERAGE(DataInput!Q44:Q45)>AVERAGE(AA45,AA44),ROUNDDOWN(((((AA44-Z44)+(AA45-Z45))/2)*(A45-A44))/27,0),IF(((((DataInput!Q45-Z45)+(DataInput!Q44-Z44))/2)*(A45-A44))/27+S44+T44>0,ROUNDDOWN(((((DataInput!Q45-Z45)+(DataInput!Q44-Z44))/2)*(A45-A44))/27+S44+T44,0),0)),0),0)*$X$5),1)","v":0},0,{"$f":"ROUNDDOWN((IF(AC45>0,IFERROR(IF(((((DataInput!Q44-AC44)+(DataInput!Q45-AC45))/2)*(A45-A44))/27+S44+T44>0,ROUNDDOWN(((((DataInput!Q44-AC44)+(DataInput!Q45-AC45))/2)*(A45-A44))/27+S44+T44,0),0),0),0)*$X$5),1)","v":0},{"$f":"DataInput!U44","v":32},{"$f":"DataInput!S44","v":11},15.4,16.600000000000001]
[{"$f":"IF(DataInput!A45<>\"\",DataInput!A45,\"\")","v":880250},{"$f":"SUM(DataInput!C45,DataInput!Y45)+(DataInput!U45-DataInput!E45)","v":42},{"$f":"SUM(DataInput!D45,DataInput!Z45)","v":9},{"$f":"DataInput!U45","v":33},{"$f":"SUM(DataInput!F45,DataInput!AB45)","v":0},{"$f":"SUM(DataInput!G45,DataInput!AC45)","v":0},{"$f":"SUM(DataInput!H45,DataInput!AD45)","v":0},{"$f":"DataInput!I45","v":0},{"$f":"SUM(DataInput!J45,DataInput!AF45)","v":0},{"$f":"SUM(DataInput!K45,DataInput!AG45)","v":0},{"$f":"SUM(DataInput!L45,DataInput!AH45)","v":0},{"$f":"SUM(DataInput!M45,DataInput!AI45)","v":0},{"$f":"SUM(DataInput!N45,DataInput!AJ45)","v":0},{"$f":"SUM(DataInput!O45,DataInput!AK45)","v":0},{"$f":"DataInput!P45","v":0},null,9,{"$f":"DataInput!R45","v":1},{"$f":"DataInput!Y45","v":0},{"$f":"IF(DataInput!U45-DataInput!E45>0,DataInput!U45-DataInput!E45,\"\")","v":10},{"$f":"IF(DataInput!W45-DataInput!I45>0,DataInput!W45-DataInput!I45,\"\")","v":""},null,11,14.3,-5.3,0,0,{"$f":"ROUNDDOWN((IF(AA46>0,IFERROR(IF(AVERAGE(DataInput!Q45:Q46)>AVERAGE(AA46,AA45),ROUNDDOWN(((((AA45-Z45)+(AA46-Z46))/2)*(A46-A45))/27,0),IF(((((DataInput!Q46-Z46)+(DataInput!Q45-Z45))/2)*(A46-A45))/27+S45+T45>0,ROUNDDOWN(((((DataInput!Q46-Z46)+(DataInput!Q45-Z45))/2)*(A46-A45))/27+S45+T45,0),0)),0),0)*$X$5),1)","v":0},0,{"$f":"ROUNDDOWN((IF(AC46>0,IFERROR(IF(((((DataInput!Q45-AC45)+(DataInput!Q46-AC46))/2)*(A46-A45))/27+S45+T45>0,ROUNDDOWN(((((DataInput!Q45-AC45)+(DataInput!Q46-AC46))/2)*(A46-A45))/27+S45+T45,0),0),0),0)*$X$5),1)","v":0},{"$f":"DataInput!U45","v":33},{"$f":"DataInput!S45","v":11},15.4,17.600000000000001]
[{"$f":"IF(DataInput!A46<>\"\",DataInput!A46,\"\")","v":880275},{"$f":"SUM(DataInput!C46,DataInput!Y46)+(DataInput!U46-DataInput!E46)","v":44},{"$f":"SUM(DataInput!D46,DataInput!Z46)","v":10},{"$f":"DataInput!U46","v":34},{"$f":"SUM(DataInput!F46,DataInput!AB46)","v":0},{"$f":"SUM(DataInput!G46,DataInput!AC46)","v":0},{"$f":"SUM(DataInput!H46,DataInput!AD46)","v":0},{"$f":"DataInput!I46","v":0},{"$f":"SUM(DataInput!J46,DataInput!AF46)","v":0},{"$f":"SUM(DataInput!K46,DataInput!AG46)","v":0},{"$f":"SUM(DataInput!L46,DataInput!AH46)","v":0},{"$f":"SUM(DataInput!M46,DataInput!AI46)","v":0},{"$f":"SUM(DataInput!N46,DataInput!AJ46)","v":0},{"$f":"SUM(DataInput!O46,DataInput!AK46)","v":0},{"$f":"DataInput!P46","v":0},null,10,{"$f":"DataInput!R46","v":1},{"$f":"DataInput!Y46","v":0},{"$f":"IF(DataInput!U46-DataInput!E46>0,DataInput!U46-DataInput!E46,\"\")","v":7},{"$f":"IF(DataInput!W46-DataInput!I46>0,DataInput!W46-DataInput!I46,\"\")","v":""},null,8,10.4,-0.4,0,0,{"$f":"ROUNDDOWN((IF(AA47>0,IFERROR(IF(AVERAGE(DataInput!Q46:Q47)>AVERAGE(AA47,AA46),ROUNDDOWN(((((AA46-Z46)+(AA47-Z47))/2)*(A47-A46))/27,0),IF(((((DataInput!Q47-Z47)+(DataInput!Q46-Z46))/2)*(A47-A46))/27+S46+T46>0,ROUNDDOWN(((((DataInput!Q47-Z47)+(DataInput!Q46-Z46))/2)*(A47-A46))/27+S46+T46,0),0)),0),0)*$X$5),1)","v":0},0,{"$f":"ROUNDDOWN((IF(AC47>0,IFERROR(IF(((((DataInput!Q46-AC46)+(DataInput!Q47-AC47))/2)*(A47-A46))/27+S46+T46>0,ROUNDDOWN(((((DataInput!Q46-AC46)+(DataInput!Q47-AC47))/2)*(A47-A46))/27+S46+T46,0),0),0),0)*$X$5),1)","v":0},{"$f":"DataInput!U46","v":34},{"$f":"DataInput!S46","v":12},16.8,17.2]
[{"$f":"IF(DataInput!A47<>\"\",DataInput!A47,\"\")","v":880300},{"$f":"SUM(DataInput!C47,DataInput!Y47)+(DataInput!U47-DataInput!E47)","v":73},{"$f":"SUM(DataInput!D47,DataInput!Z47)","v":25},{"$f":"DataInput!U47","v":48},{"$f":"SUM(DataInput!F47,DataInput!AB47)","v":0},{"$f":"SUM(DataInput!G47,DataInput!AC47)","v":0},{"$f":"SUM(DataInput!H47,DataInput!AD47)","v":0},{"$f":"DataInput!I47","v":0},{"$f":"SUM(DataInput!J47,DataInput!AF47)","v":0},{"$f":"SUM(DataInput!K47,DataInput!AG47)","v":0},{"$f":"SUM(DataInput!L47,DataInput!AH47)","v":0},{"$f":"SUM(DataInput!M47,DataInput!AI47)","v":0},{"$f":"SUM(DataInput!N47,DataInput!AJ47)","v":0},{"$f":"SUM(DataInput!O47,DataInput!AK47)","v":0},{"$f":"DataInput!P47","v":0},null,25,{"$f":"DataInput!R47","v":1},{"$f":"DataInput!Y47","v":0},{"$f":"IF(DataInput!U47-DataInput!E47>0,DataInput!U47-DataInput!E47,\"\")","v":34},{"$f":"IF(DataInput!W47-DataInput!I47>0,DataInput!W47-DataInput!I47,\"\")","v":""},null,35,45.5,-20.5,0,0,{"$f":"ROUNDDOWN((IF(AA48>0,IFERROR(IF(AVERAGE(DataInput!Q47:Q48)>AVERAGE(AA48,AA47),ROUNDDOWN(((((AA47-Z47)+(AA48-Z48))/2)*(A48-A47))/27,0),IF(((((DataInput!Q48-Z48)+(DataInput!Q47-Z47))/2)*(A48-A47))/27+S47+T47>0,ROUNDDOWN(((((DataInput!Q48-Z48)+(DataInput!Q47-Z47))/2)*(A48-A47))/27+S47+T47,0),0)),0),0)*$X$5),1)","v":0},0,{"$f":"ROUNDDOWN((IF(AC48>0,IFERROR(IF(((((DataInput!Q47-AC47)+(DataInput!Q48-AC48))/2)*(A48-A47))/27+S47+T47>0,ROUNDDOWN(((((DataInput!Q47-AC47)+(DataInput!Q48-AC48))/2)*(A48-A47))/27+S47+T47,0),0),0),0)*$X$5),1)","v":0},{"$f":"DataInput!U47","v":48},{"$f":"DataInput!S47","v":13},18.2,29.8]
[{"$f":"IF(DataInput!A48<>\"\",DataInput!A48,\"\")","v":880325},{"$f":"SUM(DataInput!C48,DataInput!Y48)+(DataInput!U48-DataInput!E48)","v":32},{"$f":"SUM(DataInput!D48,DataInput!Z48)","v":32},{"$f":"DataInput!U48","v":0},{"$f":"SUM(DataInput!F48,DataInput!AB48)","v":0},{"$f":"SUM(DataInput!G48,DataInput!AC48)","v":0},{"$f":"SUM(DataInput!H48,DataInput!AD48)","v":0},{"$f":"DataInput!I48","v":0},{"$f":"SUM(DataInput!J48,DataInput!AF48)","v":0},{"$f":"SUM(DataInput!K48,DataInput!AG48)","v":0},{"$f":"SUM(DataInput!L48,DataInput!AH48)","v":0},{"$f":"SUM(DataInput!M48,DataInput!AI48)","v":0},{"$f":"SUM(DataInput!N48,DataInput!AJ48)","v":0},{"$f":"SUM(DataInput!O48,DataInput!AK48)","v":0},{"$f":"DataInput!P48","v":0},null,32,{"$f":"DataInput!R48","v":2},{"$f":"DataInput!Y48","v":0},{"$f":"IF(DataInput!U48-DataInput!E48>0,DataInput!U48-DataInput!E48,\"\")","v":""},{"$f":"IF(DataInput!W48-DataInput!I48>0,DataInput!W48-DataInput!I48,\"\")","v":""},null,2,2.6,29.4,0,0,{"$f":"ROUNDDOWN((IF(AA49>0,IFERROR(IF(AVERAGE(DataInput!Q48:Q49)>AVERAGE(AA49,AA48),ROUNDDOWN(((((AA48-Z48)+(AA49-Z49))/2)*(A49-A48))/27,0),IF(((((DataInput!Q49-Z49)+(DataInput!Q48-Z48))/2)*(A49-A48))/27+S48+T48>0,ROUNDDOWN(((((DataInput!Q49-Z49)+(DataInput!Q48-Z48))/2)*(A49-A48))/27+S48+T48,0),0)),0),0)*$X$5),1)","v":0},0,{"$f":"ROUNDDOWN((IF(AC49>0,IFERROR(IF(((((DataInput!Q48-AC48)+(DataInput!Q49-AC49))/2)*(A49-A48))/27+S48+T48>0,ROUNDDOWN(((((DataInput!Q48-AC48)+(DataInput!Q49-AC49))/2)*(A49-A48))/27+S48+T48,0),0),0),0)*$X$5),1)","v":0},{"$f":"DataInput!U48","v":0},{"$f":"DataInput!S48","v":13},18.2,-18.2]
[{"$f":"IF(DataInput!A49<>\"\",DataInput!A49,\"\")","v":880350},{"$f":"SUM(DataInput!C49,DataInput!Y49)+(DataInput!U49-DataInput!E49)","v":24},{"$f":"SUM(DataInput!D49,DataInput!Z49)","v":24},{"$f":"DataInput!U49","v":0},{"$f":"SUM(DataInput!F49,DataInput!AB49)","v":0},{"$f":"SUM(DataInput!G49,DataInput!AC49)","v":0},{"$f":"SUM(DataInput!H49,DataInput!AD49)","v":0},{"$f":"DataInput!I49","v":0},{"$f":"SUM(DataInput!J49,DataInput!AF49)","v":0},{"$f":"SUM(DataInput!K49,DataInput!AG49)","v":0},{"$f":"SUM(DataInput!L49,DataInput!AH49)","v":0},{"$f":"SUM(DataInput!M49,DataInput!AI49)","v":0},{"$f":"SUM(DataInput!N49,DataInput!AJ49)","v":0},{"$f":"SUM(DataInput!O49,DataInput!AK49)","v":0},{"$f":"DataInput!P49","v":0},null,24,{"$f":"DataInput!R49","v":6},{"$f":"DataInput!Y49","v":0},{"$f":"IF(DataInput!U49-DataInput!E49>0,DataInput!U49-DataInput!E49,\"\")","v":""},{"$f":"IF(DataInput!W49-DataInput!I49>0,DataInput!W49-DataInput!I49,\"\")","v":""},null,6,7.8,16.2,0,0,{"$f":"ROUNDDOWN((IF(AA50>0,IFERROR(IF(AVERAGE(DataInput!Q49:Q50)>AVERAGE(AA50,AA49),ROUNDDOWN(((((AA49-Z49)+(AA50-Z50))/2)*(A50-A49))/27,0),IF(((((DataInput!Q50-Z50)+(DataInput!Q49-Z49))/2)*(A50-A49))/27+S49+T49>0,ROUNDDOWN(((((DataInput!Q50-Z50)+(DataInput!Q49-Z49))/2)*(A50-A49))/27+S49+T49,0),0)),0),0)*$X$5),1)","v":0},0,{"$f":"ROUNDDOWN((IF(AC50>0,IFERROR(IF(((((DataInput!Q49-AC49)+(DataInput!Q50-AC50))/2)*(A50-A49))/27+S49+T49>0,ROUNDDOWN(((((DataInput!Q49-AC49)+(DataInput!Q50-AC50))/2)*(A50-A49))/27+S49+T49,0),0),0),0)*$X$5),1)","v":0},{"$f":"DataInput!U49","v":0},{"$f":"DataInput!S49","v":13},18.2,-18.2]
[{"$f":"IF(DataInput!A50<>\"\",DataInput!A50,\"\")","v":880375},{"$f":"SUM(DataInput!C50,DataInput!Y50)+(DataInput!U50-DataInput!E50)","v":11},{"$f":"SUM(DataInput!D50,DataInput!Z50)","v":11},{"$f":"DataInput!U50","v":0},{"$f":"SUM(DataInput!F50,DataInput!AB50)","v":0},{"$f":"SUM(DataInput!G50,DataInput!AC50)","v":0},{"$f":"SUM(DataInput!H50,DataInput!AD50)","v":0},{"$f":"DataInput!I50","v":0},{"$f":"SUM(DataInput!J50,DataInput!AF50)","v":0},{"$f":"SUM(DataInput!K50,DataInput!AG50)","v":0},{"$f":"SUM(DataInput!L50,DataInput!AH50)","v":0},{"$f":"SUM(DataInput!M50,DataInput!AI50)","v":0},{"$f":"SUM(DataInput!N50,DataInput!AJ50)","v":0},{"$f":"SUM(DataInput!O50,DataInput!AK50)","v":0},{"$f":"DataInput!P50","v":0},null,11,{"$f":"DataInput!R50","v":23},{"$f":"DataInput!Y50","v":0},{"$f":"IF(DataInput!U50-DataInput!E50>0,DataInput!U50-DataInput!E50,\"\")","v":""},{"$f":"IF(DataInput!W50-DataInput!I50>0,DataInput!W50-DataInput!I50,\"\")","v":""},null,23,29.9,-18.899999999999999,0,0,{"$f":"ROUNDDOWN((IF(AA51>0,IFERROR(IF(AVERAGE(DataInput!Q50:Q51)>AVERAGE(AA51,AA50),ROUNDDOWN(((((AA50-Z50)+(AA51-Z51))/2)*(A51-A50))/27,0),IF(((((DataInput!Q51-Z51)+(DataInput!Q50-Z50))/2)*(A51-A50))/27+S50+T50>0,ROUNDDOWN(((((DataInput!Q51-Z51)+(DataInput!Q50-Z50))/2)*(A51-A50))/27+S50+T50,0),0)),0),0)*$X$5),1)","v":0},0,{"$f":"ROUNDDOWN((IF(AC51>0,IFERROR(IF(((((DataInput!Q50-AC50)+(DataInput!Q51-AC51))/2)*(A51-A50))/27+S50+T50>0,ROUNDDOWN(((((DataInput!Q50-AC50)+(DataInput!Q51-AC51))/2)*(A51-A50))/27+S50+T50,0),0),0),0)*$X$5),1)","v":0},{"$f":"DataInput!U50","v":0},{"$f":"DataInput!S50","v":11},15.4,-15.4]
[{"$f":"IF(DataInput!A51<>\"\",DataInput!A51,\"\")","v":880400},{"$f":"SUM(DataInput!C51,DataInput!Y51)+(DataInput!U51-DataInput!E51)","v":3},{"$f":"SUM(DataInput!D51,DataInput!Z51)","v":3},{"$f":"DataInput!U51","v":0},{"$f":"SUM(DataInput!F51,DataInput!AB51)","v":0},{"$f":"SUM(DataInput!G51,DataInput!AC51)","v":0},{"$f":"SUM(DataInput!H51,DataInput!AD51)","v":0},{"$f":"DataInput!I51","v":0},{"$f":"SUM(DataInput!J51,DataInput!AF51)","v":0},{"$f":"SUM(DataInput!K51,DataInput!AG51)","v":0},{"$f":"SUM(DataInput!L51,DataInput!AH51)","v":0},{"$f":"SUM(DataInput!M51,DataInput!AI51)","v":0},{"$f":"SUM(DataInput!N51,DataInput!AJ51)","v":0},{"$f":"SUM(DataInput!O51,DataInput!AK51)","v":0},{"$f":"DataInput!P51","v":0},null,3,{"$f":"DataInput!R51","v":8},{"$f":"DataInput!Y51","v":0},{"$f":"IF(DataInput!U51-DataInput!E51>0,DataInput!U51-DataInput!E51,\"\")","v":""},{"$f":"IF(DataInput!W51-DataInput!I51>0,DataInput!W51-DataInput!I51,\"\")","v":""},null,8,10.4,-7.4,0,0,{"$f":"ROUNDDOWN((IF(AA52>0,IFERROR(IF(AVERAGE(DataInput!Q51:Q52)>AVERAGE(AA52,AA51),ROUNDDOWN(((((AA51-Z51)+(AA52-Z52))/2)*(A52-A51))/27,0),IF(((((DataInput!Q52-Z52)+(DataInput!Q51-Z51))/2)*(A52-A51))/27+S51+T51>0,ROUNDDOWN(((((DataInput!Q52-Z52)+(DataInput!Q51-Z51))/2)*(A52-A51))/27+S51+T51,0),0)),0),0)*$X$5),1)","v":0},0,{"$f":"ROUNDDOWN((IF(AC52>0,IFERROR(IF(((((DataInput!Q51-AC51)+(DataInput!Q52-AC52))/2)*(A52-A51))/27+S51+T51>0,ROUNDDOWN(((((DataInput!Q51-AC51)+(DataInput!Q52-AC52))/2)*(A52-A51))/27+S51+T51,0),0),0),0)*$X$5),1)","v":0},{"$f":"DataInput!U51","v":0},{"$f":"DataInput!S51","v":2},2.8,-2.8]
[{"$f":"IF(DataInput!A52<>\"\",DataInput!A52,\"\")","v":880410},{"$f":"SUM(DataInput!C52,DataInput!Y52)+(DataInput!U52-DataInput!E52)","v":71},{"$f":"SUM(DataInput!D52,DataInput!Z52)","v":71},{"$f":"DataInput!U52","v":0},{"$f":"SUM(DataInput!F52,DataInput!AB52)","v":0},{"$f":"SUM(DataInput!G52,DataInput!AC52)","v":0},{"$f":"SUM(DataInput!H52,DataInput!AD52)","v":0},{"$f":"DataInput!I52","v":0},{"$f":"SUM(DataInput!J52,DataInput!AF52)","v":0},{"$f":"SUM(DataInput!K52,DataInput!AG52)","v":0},{"$f":"SUM(DataInput!L52,DataInput!AH52)","v":0},{"$f":"SUM(DataInput!M52,DataInput!AI52)","v":0},{"$f":"SUM(DataInput!N52,DataInput!AJ52)","v":0},{"$f":"SUM(DataInput!O52,DataInput!AK52)","v":0},{"$f":"DataInput!P52","v":0},null,71,{"$f":"DataInput!R52","v":398},{"$f":"DataInput!Y52","v":0},{"$f":"IF(DataInput!U52-DataInput!E52>0,DataInput!U52-DataInput!E52,\"\")","v":""},{"$f":"IF(DataInput!W52-DataInput!I52>0,DataInput!W52-DataInput!I52,\"\")","v":""},null,398,517.4,-446.4,0,0,{"$f":"ROUNDDOWN((IF(AA53>0,IFERROR(IF(AVERAGE(DataInput!Q52:Q53)>AVERAGE(AA53,AA52),ROUNDDOWN(((((AA52-Z52)+(AA53-Z53))/2)*(A53-A52))/27,0),IF(((((DataInput!Q53-Z53)+(DataInput!Q52-Z52))/2)*(A53-A52))/27+S52+T52>0,ROUNDDOWN(((((DataInput!Q53-Z53)+(DataInput!Q52-Z52))/2)*(A53-A52))/27+S52+T52,0),0)),0),0)*$X$5),1)","v":0},0,{"$f":"ROUNDDOWN((IF(AC53>0,IFERROR(IF(((((DataInput!Q52-AC52)+(DataInput!Q53-AC53))/2)*(A53-A52))/27+S52+T52>0,ROUNDDOWN(((((DataInput!Q52-AC52)+(DataInput!Q53-AC53))/2)*(A53-A52))/27+S52+T52,0),0),0),0)*$X$5),1)","v":0},{"$f":"DataInput!U52","v":0},{"$f":"DataInput!S52","v":90},126,-126]
[{"$f":"IF(DataInput!A53<>\"\",DataInput!A53,\"\")","v":880625},{"$f":"SUM(DataInput!C53,DataInput!Y53)+(DataInput!U53-DataInput!E53)","v":117},{"$f":"SUM(DataInput!D53,DataInput!Z53)","v":116},{"$f":"DataInput!U53","v":0},{"$f":"SUM(DataInput!F53,DataInput!AB53)","v":0},{"$f":"SUM(DataInput!G53,DataInput!AC53)","v":0},{"$f":"SUM(DataInput!H53,DataInput!AD53)","v":0},{"$f":"DataInput!I53","v":0},{"$f":"SUM(DataInput!J53,DataInput!AF53)","v":0},{"$f":"SUM(DataInput!K53,DataInput!AG53)","v":0},{"$f":"SUM(DataInput!L53,DataInput!AH53)","v":0},{"$f":"SUM(DataInput!M53,DataInput!AI53)","v":0},{"$f":"SUM(DataInput!N53,DataInput!AJ53)","v":0},{"$f":"SUM(DataInput!O53,DataInput!AK53)","v":0},{"$f":"DataInput!P53","v":0},null,116,{"$f":"DataInput!R53","v":46},{"$f":"DataInput!Y53","v":0},{"$f":"IF(DataInput!U53-DataInput!E53>0,DataInput!U53-DataInput!E53,\"\")","v":""},{"$f":"IF(DataInput!W53-DataInput!I53>0,DataInput!W53-DataInput!I53,\"\")","v":""},null,46,59.8,56.2,0,0,{"$f":"ROUNDDOWN((IF(AA54>0,IFERROR(IF(AVERAGE(DataInput!Q53:Q54)>AVERAGE(AA54,AA53),ROUNDDOWN(((((AA53-Z53)+(AA54-Z54))/2)*(A54-A53))/27,0),IF(((((DataInput!Q54-Z54)+(DataInput!Q53-Z53))/2)*(A54-A53))/27+S53+T53>0,ROUNDDOWN(((((DataInput!Q54-Z54)+(DataInput!Q53-Z53))/2)*(A54-A53))/27+S53+T53,0),0)),0),0)*$X$5),1)","v":0},0,{"$f":"ROUNDDOWN((IF(AC54>0,IFERROR(IF(((((DataInput!Q53-AC53)+(DataInput!Q54-AC54))/2)*(A54-A53))/27+S53+T53>0,ROUNDDOWN(((((DataInput!Q53-AC53)+(DataInput!Q54-AC54))/2)*(A54-A53))/27+S53+T53,0),0),0),0)*$X$5),1)","v":0},{"$f":"DataInput!U53","v":0},{"$f":"DataInput!S53","v":31},43.4,-43.4]
[{"$f":"IF(DataInput!A54<>\"\",DataInput!A54,\"\")","v":880650},{"$f":"SUM(DataInput!C54,DataInput!Y54)+(DataInput!U54-DataInput!E54)","v":279},{"$f":"SUM(DataInput!D54,DataInput!Z54)","v":209},{"$f":"DataInput!U54","v":69},{"$f":"SUM(DataInput!F54,DataInput!AB54)","v":0},{"$f":"SUM(DataInput!G54,DataInput!AC54)","v":0},{"$f":"SUM(DataInput!H54,DataInput!AD54)","v":0},{"$f":"DataInput!I54","v":0},{"$f":"SUM(DataInput!J54,DataInput!AF54)","v":0},{"$f":"SUM(DataInput!K54,DataInput!AG54)","v":0},{"$f":"SUM(DataInput!L54,DataInput!AH54)","v":0},{"$f":"SUM(DataInput!M54,DataInput!AI54)","v":0},{"$f":"SUM(DataInput!N54,DataInput!AJ54)","v":0},{"$f":"SUM(DataInput!O54,DataInput!AK54)","v":0},{"$f":"DataInput!P54","v":0},null,209,{"$f":"DataInput!R54","v":0},{"$f":"DataInput!Y54","v":0},{"$f":"IF(DataInput!U54-DataInput!E54>0,DataInput!U54-DataInput!E54,\"\")","v":""},{"$f":"IF(DataInput!W54-DataInput!I54>0,DataInput!W54-DataInput!I54,\"\")","v":""},null,0,0,209,0,0,{"$f":"ROUNDDOWN((IF(AA55>0,IFERROR(IF(AVERAGE(DataInput!Q54:Q55)>AVERAGE(AA55,AA54),ROUNDDOWN(((((AA54-Z54)+(AA55-Z55))/2)*(A55-A54))/27,0),IF(((((DataInput!Q55-Z55)+(DataInput!Q54-Z54))/2)*(A55-A54))/27+S54+T54>0,ROUNDDOWN(((((DataInput!Q55-Z55)+(DataInput!Q54-Z54))/2)*(A55-A54))/27+S54+T54,0),0)),0),0)*$X$5),1)","v":0},0,{"$f":"ROUNDDOWN((IF(AC55>0,IFERROR(IF(((((DataInput!Q54-AC54)+(DataInput!Q55-AC55))/2)*(A55-A54))/27+S54+T54>0,ROUNDDOWN(((((DataInput!Q54-AC54)+(DataInput!Q55-AC55))/2)*(A55-A54))/27+S54+T54,0),0),0),0)*$X$5),1)","v":0},{"$f":"DataInput!U54","v":69},{"$f":"DataInput!S54","v":41},57.4,11.6]
[{"$f":"IF(DataInput!A55<>\"\",DataInput!A55,\"\")","v":880675},{"$f":"SUM(DataInput!C55,DataInput!Y55)+(DataInput!U55-DataInput!E55)","v":232},{"$f":"SUM(DataInput!D55,DataInput!Z55)","v":158},{"$f":"DataInput!U55","v":74},{"$f":"SUM(DataInput!F55,DataInput!AB55)","v":0},{"$f":"SUM(DataInput!G55,DataInput!AC55)","v":0},{"$f":"SUM(DataInput!H55,DataInput!AD55)","v":0},{"$f":"DataInput!I55","v":0},{"$f":"SUM(DataInput!J55,DataInput!AF55)","v":0},{"$f":"SUM(DataInput!K55,DataInput!AG55)","v":0},{"$f":"SUM(DataInput!L55,DataInput!AH55)","v":0},{"$f":"SUM(DataInput!M55,DataInput!AI55)","v":0},{"$f":"SUM(DataInput!N55,DataInput!AJ55)","v":0},{"$f":"SUM(DataInput!O55,DataInput!AK55)","v":0},{"$f":"DataInput!P55","v":0},null,158,{"$f":"DataInput!R55","v":0},{"$f":"DataInput!Y55","v":0},{"$f":"IF(DataInput!U55-DataInput!E55>0,DataInput!U55-DataInput!E55,\"\")","v":""},{"$f":"IF(DataInput!W55-DataInput!I55>0,DataInput!W55-DataInput!I55,\"\")","v":""},null,0,0,158,0,0,{"$f":"ROUNDDOWN((IF(AA56>0,IFERROR(IF(AVERAGE(DataInput!Q55:Q56)>AVERAGE(AA56,AA55),ROUNDDOWN(((((AA55-Z55)+(AA56-Z56))/2)*(A56-A55))/27,0),IF(((((DataInput!Q56-Z56)+(DataInput!Q55-Z55))/2)*(A56-A55))/27+S55+T55>0,ROUNDDOWN(((((DataInput!Q56-Z56)+(DataInput!Q55-Z55))/2)*(A56-A55))/27+S55+T55,0),0)),0),0)*$X$5),1)","v":0},0,{"$f":"ROUNDDOWN((IF(AC56>0,IFERROR(IF(((((DataInput!Q55-AC55)+(DataInput!Q56-AC56))/2)*(A56-A55))/27+S55+T55>0,ROUNDDOWN(((((DataInput!Q55-AC55)+(DataInput!Q56-AC56))/2)*(A56-A55))/27+S55+T55,0),0),0),0)*$X$5),1)","v":0},{"$f":"DataInput!U55","v":74},{"$f":"DataInput!S55","v":36},50.4,23.6]
[{"$f":"IF(DataInput!A56<>\"\",DataInput!A56,\"\")","v":880700},{"$f":"SUM(DataInput!C56,DataInput!Y56)+(DataInput!U56-DataInput!E56)","v":163},{"$f":"SUM(DataInput!D56,DataInput!Z56)","v":97},{"$f":"DataInput!U56","v":65},{"$f":"SUM(DataInput!F56,DataInput!AB56)","v":0},{"$f":"SUM(DataInput!G56,DataInput!AC56)","v":0},{"$f":"SUM(DataInput!H56,DataInput!AD56)","v":0},{"$f":"DataInput!I56","v":0},{"$f":"SUM(DataInput!J56,DataInput!AF56)","v":0},{"$f":"SUM(DataInput!K56,DataInput!AG56)","v":0},{"$f":"SUM(DataInput!L56,DataInput!AH56)","v":0},{"$f":"SUM(DataInput!M56,DataInput!AI56)","v":0},{"$f":"SUM(DataInput!N56,DataInput!AJ56)","v":0},{"$f":"SUM(DataInput!O56,DataInput!AK56)","v":0},{"$f":"DataInput!P56","v":0},null,97,{"$f":"DataInput!R56","v":0},{"$f":"DataInput!Y56","v":0},{"$f":"IF(DataInput!U56-DataInput!E56>0,DataInput!U56-DataInput!E56,\"\")","v":2},{"$f":"IF(DataInput!W56-DataInput!I56>0,DataInput!W56-DataInput!I56,\"\")","v":""},null,2,2.6,94.4,0,0,{"$f":"ROUNDDOWN((IF(AA57>0,IFERROR(IF(AVERAGE(DataInput!Q56:Q57)>AVERAGE(AA57,AA56),ROUNDDOWN(((((AA56-Z56)+(AA57-Z57))/2)*(A57-A56))/27,0),IF(((((DataInput!Q57-Z57)+(DataInput!Q56-Z56))/2)*(A57-A56))/27+S56+T56>0,ROUNDDOWN(((((DataInput!Q57-Z57)+(DataInput!Q56-Z56))/2)*(A57-A56))/27+S56+T56,0),0)),0),0)*$X$5),1)","v":0},0,{"$f":"ROUNDDOWN((IF(AC57>0,IFERROR(IF(((((DataInput!Q56-AC56)+(DataInput!Q57-AC57))/2)*(A57-A56))/27+S56+T56>0,ROUNDDOWN(((((DataInput!Q56-AC56)+(DataInput!Q57-AC57))/2)*(A57-A56))/27+S56+T56,0),0),0),0)*$X$5),1)","v":0},{"$f":"DataInput!U56","v":65},{"$f":"DataInput!S56","v":30},42,23]
[{"$f":"IF(DataInput!A57<>\"\",DataInput!A57,\"\")","v":880725},{"$f":"SUM(DataInput!C57,DataInput!Y57)+(DataInput!U57-DataInput!E57)","v":108},{"$f":"SUM(DataInput!D57,DataInput!Z57)","v":51},{"$f":"DataInput!U57","v":57},{"$f":"SUM(DataInput!F57,DataInput!AB57)","v":0},{"$f":"SUM(DataInput!G57,DataInput!AC57)","v":0},{"$f":"SUM(DataInput!H57,DataInput!AD57)","v":0},{"$f":"DataInput!I57","v":0},{"$f":"SUM(DataInput!J57,DataInput!AF57)","v":0},{"$f":"SUM(DataInput!K57,DataInput!AG57)","v":0},{"$f":"SUM(DataInput!L57,DataInput!AH57)","v":0},{"$f":"SUM(DataInput!M57,DataInput!AI57)","v":0},{"$f":"SUM(DataInput!N57,DataInput!AJ57)","v":0},{"$f":"SUM(DataInput!O57,DataInput!AK57)","v":0},{"$f":"DataInput!P57","v":0},null,51,{"$f":"DataInput!R57","v":0},{"$f":"DataInput!Y57","v":0},{"$f":"IF(DataInput!U57-DataInput!E57>0,DataInput!U57-DataInput!E57,\"\")","v":5},{"$f":"IF(DataInput!W57-DataInput!I57>0,DataInput!W57-DataInput!I57,\"\")","v":""},null,5,6.5,44.5,0,0,{"$f":"ROUNDDOWN((IF(AA58>0,IFERROR(IF(AVERAGE(DataInput!Q57:Q58)>AVERAGE(AA58,AA57),ROUNDDOWN(((((AA57-Z57)+(AA58-Z58))/2)*(A58-A57))/27,0),IF(((((DataInput!Q58-Z58)+(DataInput!Q57-Z57))/2)*(A58-A57))/27+S57+T57>0,ROUNDDOWN(((((DataInput!Q58-Z58)+(DataInput!Q57-Z57))/2)*(A58-A57))/27+S57+T57,0),0)),0),0)*$X$5),1)","v":0},0,{"$f":"ROUNDDOWN((IF(AC58>0,IFERROR(IF(((((DataInput!Q57-AC57)+(DataInput!Q58-AC58))/2)*(A58-A57))/27+S57+T57>0,ROUNDDOWN(((((DataInput!Q57-AC57)+(DataInput!Q58-AC58))/2)*(A58-A57))/27+S57+T57,0),0),0),0)*$X$5),1)","v":0},{"$f":"DataInput!U57","v":57},{"$f":"DataInput!S57","v":25},35,22]
[{"$f":"IF(DataInput!A58<>\"\",DataInput!A58,\"\")","v":880750},{"$f":"SUM(DataInput!C58,DataInput!Y58)+(DataInput!U58-DataInput!E58)","v":81},{"$f":"SUM(DataInput!D58,DataInput!Z58)","v":29},{"$f":"DataInput!U58","v":52},{"$f":"SUM(DataInput!F58,DataInput!AB58)","v":0},{"$f":"SUM(DataInput!G58,DataInput!AC58)","v":0},{"$f":"SUM(DataInput!H58,DataInput!AD58)","v":0},{"$f":"DataInput!I58","v":0},{"$f":"SUM(DataInput!J58,DataInput!AF58)","v":0},{"$f":"SUM(DataInput!K58,DataInput!AG58)","v":0},{"$f":"SUM(DataInput!L58,DataInput!AH58)","v":0},{"$f":"SUM(DataInput!M58,DataInput!AI58)","v":0},{"$f":"SUM(DataInput!N58,DataInput!AJ58)","v":0},{"$f":"SUM(DataInput!O58,DataInput!AK58)","v":0},{"$f":"DataInput!P58","v":0},null,29,{"$f":"DataInput!R58","v":4},{"$f":"DataInput!Y58","v":0},{"$f":"IF(DataInput!U58-DataInput!E58>0,DataInput!U58-DataInput!E58,\"\")","v":16},{"$f":"IF(DataInput!W58-DataInput!I58>0,DataInput!W58-DataInput!I58,\"\")","v":""},null,20,26,3,0,0,{"$f":"ROUNDDOWN((IF(AA59>0,IFERROR(IF(AVERAGE(DataInput!Q58:Q59)>AVERAGE(AA59,AA58),ROUNDDOWN(((((AA58-Z58)+(AA59-Z59))/2)*(A59-A58))/27,0),IF(((((DataInput!Q59-Z59)+(DataInput!Q58-Z58))/2)*(A59-A58))/27+S58+T58>0,ROUNDDOWN(((((DataInput!Q59-Z59)+(DataInput!Q58-Z58))/2)*(A59-A58))/27+S58+T58,0),0)),0),0)*$X$5),1)","v":0},0,{"$f":"ROUNDDOWN((IF(AC59>0,IFERROR(IF(((((DataInput!Q58-AC58)+(DataInput!Q59-AC59))/2)*(A59-A58))/27+S58+T58>0,ROUNDDOWN(((((DataInput!Q58-AC58)+(DataInput!Q59-AC59))/2)*(A59-A58))/27+S58+T58,0),0),0),0)*$X$5),1)","v":0},{"$f":"DataInput!U58","v":52},{"$f":"DataInput!S58","v":22},30.8,21.2]
[{"$f":"IF(DataInput!A59<>\"\",DataInput!A59,\"\")","v":880775},{"$f":"SUM(DataInput!C59,DataInput!Y59)+(DataInput!U59-DataInput!E59)","v":76},{"$f":"SUM(DataInput!D59,DataInput!Z59)","v":21},{"$f":"DataInput!U59","v":55},{"$f":"SUM(DataInput!F59,DataInput!AB59)","v":0},{"$f":"SUM(DataInput!G59,DataInput!AC59)","v":0},{"$f":"SUM(DataInput!H59,DataInput!AD59)","v":0},{"$f":"DataInput!I59","v":0},{"$f":"SUM(DataInput!J59,DataInput!AF59)","v":0},{"$f":"SUM(DataInput!K59,DataInput!AG59)","v":0},{"$f":"SUM(DataInput!L59,DataInput!AH59)","v":0},{"$f":"SUM(DataInput!M59,DataInput!AI59)","v":0},{"$f":"SUM(DataInput!N59,DataInput!AJ59)","v":0},{"$f":"SUM(DataInput!O59,DataInput!AK59)","v":0},{"$f":"DataInput!P59","v":0},null,21,{"$f":"DataInput!R59","v":12},{"$f":"DataInput!Y59","v":0},{"$f":"IF(DataInput!U59-DataInput!E59>0,DataInput!U59-DataInput!E59,\"\")","v":31},{"$f":"IF(DataInput!W59-DataInput!I59>0,DataInput!W59-DataInput!I59,\"\")","v":""},null,43,55.9,-34.9,0,0,{"$f":"ROUNDDOWN((IF(AA60>0,IFERROR(IF(AVERAGE(DataInput!Q59:Q60)>AVERAGE(AA60,AA59),ROUNDDOWN(((((AA59-Z59)+(AA60-Z60))/2)*(A60-A59))/27,0),IF(((((DataInput!Q60-Z60)+(DataInput!Q59-Z59))/2)*(A60-A59))/27+S59+T59>0,ROUNDDOWN(((((DataInput!Q60-Z60)+(DataInput!Q59-Z59))/2)*(A60-A59))/27+S59+T59,0),0)),0),0)*$X$5),1)","v":0},0,{"$f":"ROUNDDOWN((IF(AC60>0,IFERROR(IF(((((DataInput!Q59-AC59)+(DataInput!Q60-AC60))/2)*(A60-A59))/27+S59+T59>0,ROUNDDOWN(((((DataInput!Q59-AC59)+(DataInput!Q60-AC60))/2)*(A60-A59))/27+S59+T59,0),0),0),0)*$X$5),1)","v":0},{"$f":"DataInput!U59","v":55},{"$f":"DataInput!S59","v":23},32.200000000000003,22.8]
[{"$f":"IF(DataInput!A60<>\"\",DataInput!A60,\"\")","v":880800},{"$f":"SUM(DataInput!C60,DataInput!Y60)+(DataInput!U60-DataInput!E60)","v":63},{"$f":"SUM(DataInput!D60,DataInput!Z60)","v":16},{"$f":"DataInput!U60","v":46},{"$f":"SUM(DataInput!F60,DataInput!AB60)","v":0},{"$f":"SUM(DataInput!G60,DataInput!AC60)","v":0},{"$f":"SUM(DataInput!H60,DataInput!AD60)","v":0},{"$f":"DataInput!I60","v":0},{"$f":"SUM(DataInput!J60,DataInput!AF60)","v":0},{"$f":"SUM(DataInput!K60,DataInput!AG60)","v":0},{"$f":"SUM(DataInput!L60,DataInput!AH60)","v":0},{"$f":"SUM(DataInput!M60,DataInput!AI60)","v":0},{"$f":"SUM(DataInput!N60,DataInput!AJ60)","v":0},{"$f":"SUM(DataInput!O60,DataInput!AK60)","v":0},{"$f":"DataInput!P60","v":0},null,16,{"$f":"DataInput!R60","v":12},{"$f":"DataInput!Y60","v":0},{"$f":"IF(DataInput!U60-DataInput!E60>0,DataInput!U60-DataInput!E60,\"\")","v":26},{"$f":"IF(DataInput!W60-DataInput!I60>0,DataInput!W60-DataInput!I60,\"\")","v":""},null,38,49.4,-33.4,0,0,{"$f":"ROUNDDOWN((IF(AA61>0,IFERROR(IF(AVERAGE(DataInput!Q60:Q61)>AVERAGE(AA61,AA60),ROUNDDOWN(((((AA60-Z60)+(AA61-Z61))/2)*(A61-A60))/27,0),IF(((((DataInput!Q61-Z61)+(DataInput!Q60-Z60))/2)*(A61-A60))/27+S60+T60>0,ROUNDDOWN(((((DataInput!Q61-Z61)+(DataInput!Q60-Z60))/2)*(A61-A60))/27+S60+T60,0),0)),0),0)*$X$5),1)","v":0},0,{"$f":"ROUNDDOWN((IF(AC61>0,IFERROR(IF(((((DataInput!Q60-AC60)+(DataInput!Q61-AC61))/2)*(A61-A60))/27+S60+T60>0,ROUNDDOWN(((((DataInput!Q60-AC60)+(DataInput!Q61-AC61))/2)*(A61-A60))/27+S60+T60,0),0),0),0)*$X$5),1)","v":0},{"$f":"DataInput!U60","v":46},{"$f":"DataInput!S60","v":19},26.6,19.399999999999999]
[{"$f":"IF(DataInput!A61<>\"\",DataInput!A61,\"\")","v":880825},{"$f":"SUM(DataInput!C61,DataInput!Y61)+(DataInput!U61-DataInput!E61)","v":55},{"$f":"SUM(DataInput!D61,DataInput!Z61)","v":14},{"$f":"DataInput!U61","v":41},{"$f":"SUM(DataInput!F61,DataInput!AB61)","v":0},{"$f":"SUM(DataInput!G61,DataInput!AC61)","v":0},{"$f":"SUM(DataInput!H61,DataInput!AD61)","v":0},{"$f":"DataInput!I61","v":0},{"$f":"SUM(DataInput!J61,DataInput!AF61)","v":0},{"$f":"SUM(DataInput!K61,DataInput!AG61)","v":0},{"$f":"SUM(DataInput!L61,DataInput!AH61)","v":0},{"$f":"SUM(DataInput!M61,DataInput!AI61)","v":0},{"$f":"SUM(DataInput!N61,DataInput!AJ61)","v":0},{"$f":"SUM(DataInput!O61,DataInput!AK61)","v":0},{"$f":"DataInput!P61","v":0},null,14,{"$f":"DataInput!R61","v":13},{"$f":"DataInput!Y61","v":0},{"$f":"IF(DataInput!U61-DataInput!E61>0,DataInput!U61-DataInput!E61,\"\")","v":23},{"$f":"IF(DataInput!W61-DataInput!I61>0,DataInput!W61-DataInput!I61,\"\")","v":""},null,36,46.8,-32.799999999999997,0,0,{"$f":"ROUNDDOWN((IF(AA62>0,IFERROR(IF(AVERAGE(DataInput!Q61:Q62)>AVERAGE(AA62,AA61),ROUNDDOWN(((((AA61-Z61)+(AA62-Z62))/2)*(A62-A61))/27,0),IF(((((DataInput!Q62-Z62)+(DataInput!Q61-Z61))/2)*(A62-A61))/27+S61+T61>0,ROUNDDOWN(((((DataInput!Q62-Z62)+(DataInput!Q61-Z61))/2)*(A62-A61))/27+S61+T61,0),0)),0),0)*$X$5),1)","v":0},0,{"$f":"ROUNDDOWN((IF(AC62>0,IFERROR(IF(((((DataInput!Q61-AC61)+(DataInput!Q62-AC62))/2)*(A62-A61))/27+S61+T61>0,ROUNDDOWN(((((DataInput!Q61-AC61)+(DataInput!Q62-AC62))/2)*(A62-A61))/27+S61+T61,0),0),0),0)*$X$5),1)","v":0},{"$f":"DataInput!U61","v":41},{"$f":"DataInput!S61","v":15},21,20]
[{"$f":"IF(DataInput!A62<>\"\",DataInput!A62,\"\")","v":880850},{"$f":"SUM(DataInput!C62,DataInput!Y62)+(DataInput!U62-DataInput!E62)","v":67},{"$f":"SUM(DataInput!D62,DataInput!Z62)","v":17},{"$f":"DataInput!U62","v":50},{"$f":"SUM(DataInput!F62,DataInput!AB62)","v":0},{"$f":"SUM(DataInput!G62,DataInput!AC62)","v":0},{"$f":"SUM(DataInput!H62,DataInput!AD62)","v":0},{"$f":"DataInput!I62","v":0},{"$f":"SUM(DataInput!J62,DataInput!AF62)","v":0},{"$f":"SUM(DataInput!K62,DataInput!AG62)","v":0},{"$f":"SUM(DataInput!L62,DataInput!AH62)","v":0},{"$f":"SUM(DataInput!M62,DataInput!AI62)","v":0},{"$f":"SUM(DataInput!N62,DataInput!AJ62)","v":0},{"$f":"SUM(DataInput!O62,DataInput!AK62)","v":0},{"$f":"DataInput!P62","v":0},null,17,{"$f":"DataInput!R62","v":24},{"$f":"DataInput!Y62","v":0},{"$f":"IF(DataInput!U62-DataInput!E62>0,DataInput!U62-DataInput!E62,\"\")","v":31},{"$f":"IF(DataInput!W62-DataInput!I62>0,DataInput!W62-DataInput!I62,\"\")","v":""},null,55,71.5,-54.5,0,0,{"$f":"ROUNDDOWN((IF(AA63>0,IFERROR(IF(AVERAGE(DataInput!Q62:Q63)>AVERAGE(AA63,AA62),ROUNDDOWN(((((AA62-Z62)+(AA63-Z63))/2)*(A63-A62))/27,0),IF(((((DataInput!Q63-Z63)+(DataInput!Q62-Z62))/2)*(A63-A62))/27+S62+T62>0,ROUNDDOWN(((((DataInput!Q63-Z63)+(DataInput!Q62-Z62))/2)*(A63-A62))/27+S62+T62,0),0)),0),0)*$X$5),1)","v":0},0,{"$f":"ROUNDDOWN((IF(AC63>0,IFERROR(IF(((((DataInput!Q62-AC62)+(DataInput!Q63-AC63))/2)*(A63-A62))/27+S62+T62>0,ROUNDDOWN(((((DataInput!Q62-AC62)+(DataInput!Q63-AC63))/2)*(A63-A62))/27+S62+T62,0),0),0),0)*$X$5),1)","v":0},{"$f":"DataInput!U62","v":50},{"$f":"DataInput!S62","v":20},28,22]
[{"$f":"IF(DataInput!A63<>\"\",DataInput!A63,\"\")","v":880875},{"$f":"SUM(DataInput!C63,DataInput!Y63)+(DataInput!U63-DataInput!E63)","v":75},{"$f":"SUM(DataInput!D63,DataInput!Z63)","v":20},{"$f":"DataInput!U63","v":55},{"$f":"SUM(DataInput!F63,DataInput!AB63)","v":0},{"$f":"SUM(DataInput!G63,DataInput!AC63)","v":0},{"$f":"SUM(DataInput!H63,DataInput!AD63)","v":0},{"$f":"DataInput!I63","v":0},{"$f":"SUM(DataInput!J63,DataInput!AF63)","v":0},{"$f":"SUM(DataInput!K63,DataInput!AG63)","v":0},{"$f":"SUM(DataInput!L63,DataInput!AH63)","v":0},{"$f":"SUM(DataInput!M63,DataInput!AI63)","v":0},{"$f":"SUM(DataInput!N63,DataInput!AJ63)","v":0},{"$f":"SUM(DataInput!O63,DataInput!AK63)","v":0},{"$f":"DataInput!P63","v":0},null,20,{"$f":"DataInput!R63","v":29},{"$f":"DataInput!Y63","v":0},{"$f":"IF(DataInput!U63-DataInput!E63>0,DataInput!U63-DataInput!E63,\"\")","v":35},{"$f":"IF(DataInput!W63-DataInput!I63>0,DataInput!W63-DataInput!I63,\"\")","v":""},null,64,83.2,-63.2,0,0,{"$f":"ROUNDDOWN((IF(AA64>0,IFERROR(IF(AVERAGE(DataInput!Q63:Q64)>AVERAGE(AA64,AA63),ROUNDDOWN(((((AA63-Z63)+(AA64-Z64))/2)*(A64-A63))/27,0),IF(((((DataInput!Q64-Z64)+(DataInput!Q63-Z63))/2)*(A64-A63))/27+S63+T63>0,ROUNDDOWN(((((DataInput!Q64-Z64)+(DataInput!Q63-Z63))/2)*(A64-A63))/27+S63+T63,0),0)),0),0)*$X$5),1)","v":0},0,{"$f":"ROUNDDOWN((IF(AC64>0,IFERROR(IF(((((DataInput!Q63-AC63)+(DataInput!Q64-AC64))/2)*(A64-A63))/27+S63+T63>0,ROUNDDOWN(((((DataInput!Q63-AC63)+(DataInput!Q64-AC64))/2)*(A64-A63))/27+S63+T63,0),0),0),0)*$X$5),1)","v":0},{"$f":"DataInput!U63","v":55},{"$f":"DataInput!S63","v":24},33.6,21.4]
[{"$f":"IF(DataInput!A64<>\"\",DataInput!A64,\"\")","v":880900},{"$f":"SUM(DataInput!C64,DataInput!Y64)+(DataInput!U64-DataInput!E64)","v":77},{"$f":"SUM(DataInput!D64,DataInput!Z64)","v":22},{"$f":"DataInput!U64","v":55},{"$f":"SUM(DataInput!F64,DataInput!AB64)","v":0},{"$f":"SUM(DataInput!G64,DataInput!AC64)","v":0},{"$f":"SUM(DataInput!H64,DataInput!AD64)","v":0},{"$f":"DataInput!I64","v":0},{"$f":"SUM(DataInput!J64,DataInput!AF64)","v":0},{"$f":"SUM(DataInput!K64,DataInput!AG64)","v":0},{"$f":"SUM(DataInput!L64,DataInput!AH64)","v":0},{"$f":"SUM(DataInput!M64,DataInput!AI64)","v":0},{"$f":"SUM(DataInput!N64,DataInput!AJ64)","v":0},{"$f":"SUM(DataInput!O64,DataInput!AK64)","v":0},{"$f":"DataInput!P64","v":0},null,22,{"$f":"DataInput!R64","v":21},{"$f":"DataInput!Y64","v":0},{"$f":"IF(DataInput!U64-DataInput!E64>0,DataInput!U64-DataInput!E64,\"\")","v":33},{"$f":"IF(DataInput!W64-DataInput!I64>0,DataInput!W64-DataInput!I64,\"\")","v":""},null,54,70.2,-48.2,0,0,{"$f":"ROUNDDOWN((IF(AA65>0,IFERROR(IF(AVERAGE(DataInput!Q64:Q65)>AVERAGE(AA65,AA64),ROUNDDOWN(((((AA64-Z64)+(AA65-Z65))/2)*(A65-A64))/27,0),IF(((((DataInput!Q65-Z65)+(DataInput!Q64-Z64))/2)*(A65-A64))/27+S64+T64>0,ROUNDDOWN(((((DataInput!Q65-Z65)+(DataInput!Q64-Z64))/2)*(A65-A64))/27+S64+T64,0),0)),0),0)*$X$5),1)","v":0},0,{"$f":"ROUNDDOWN((IF(AC65>0,IFERROR(IF(((((DataInput!Q64-AC64)+(DataInput!Q65-AC65))/2)*(A65-A64))/27+S64+T64>0,ROUNDDOWN(((((DataInput!Q64-AC64)+(DataInput!Q65-AC65))/2)*(A65-A64))/27+S64+T64,0),0),0),0)*$X$5),1)","v":0},{"$f":"DataInput!U64","v":55},{"$f":"DataInput!S64","v":25},35,20]
[{"$f":"IF(DataInput!A65<>\"\",DataInput!A65,\"\")","v":880925},{"$f":"SUM(DataInput!C65,DataInput!Y65)+(DataInput!U65-DataInput!E65)","v":77},{"$f":"SUM(DataInput!D65,DataInput!Z65)","v":31},{"$f":"DataInput!U65","v":45},{"$f":"SUM(DataInput!F65,DataInput!AB65)","v":0},{"$f":"SUM(DataInput!G65,DataInput!AC65)","v":0},{"$f":"SUM(DataInput!H65,DataInput!AD65)","v":0},{"$f":"DataInput!I65","v":0},{"$f":"SUM(DataInput!J65,DataInput!AF65)","v":0},{"$f":"SUM(DataInput!K65,DataInput!AG65)","v":0},{"$f":"SUM(DataInput!L65,DataInput!AH65)","v":0},{"$f":"SUM(DataInput!M65,DataInput!AI65)","v":0},{"$f":"SUM(DataInput!N65,DataInput!AJ65)","v":0},{"$f":"SUM(DataInput!O65,DataInput!AK65)","v":0},{"$f":"DataInput!P65","v":0},null,31,{"$f":"DataInput!R65","v":11},{"$f":"DataInput!Y65","v":0},{"$f":"IF(DataInput!U65-DataInput!E65>0,DataInput!U65-DataInput!E65,\"\")","v":28},{"$f":"IF(DataInput!W65-DataInput!I65>0,DataInput!W65-DataInput!I65,\"\")","v":""},null,39,50.7,-19.7,0,0,{"$f":"ROUNDDOWN((IF(AA66>0,IFERROR(IF(AVERAGE(DataInput!Q65:Q66)>AVERAGE(AA66,AA65),ROUNDDOWN(((((AA65-Z65)+(AA66-Z66))/2)*(A66-A65))/27,0),IF(((((DataInput!Q66-Z66)+(DataInput!Q65-Z65))/2)*(A66-A65))/27+S65+T65>0,ROUNDDOWN(((((DataInput!Q66-Z66)+(DataInput!Q65-Z65))/2)*(A66-A65))/27+S65+T65,0),0)),0),0)*$X$5),1)","v":0},0,{"$f":"ROUNDDOWN((IF(AC66>0,IFERROR(IF(((((DataInput!Q65-AC65)+(DataInput!Q66-AC66))/2)*(A66-A65))/27+S65+T65>0,ROUNDDOWN(((((DataInput!Q65-AC65)+(DataInput!Q66-AC66))/2)*(A66-A65))/27+S65+T65,0),0),0),0)*$X$5),1)","v":0},{"$f":"DataInput!U65","v":45},{"$f":"DataInput!S65","v":23},32.200000000000003,12.8]
[{"$f":"IF(DataInput!A66<>\"\",DataInput!A66,\"\")","v":880950},{"$f":"SUM(DataInput!C66,DataInput!Y66)+(DataInput!U66-DataInput!E66)","v":78},{"$f":"SUM(DataInput!D66,DataInput!Z66)","v":32},{"$f":"DataInput!U66","v":46},{"$f":"SUM(DataInput!F66,DataInput!AB66)","v":0},{"$f":"SUM(DataInput!G66,DataInput!AC66)","v":0},{"$f":"SUM(DataInput!H66,DataInput!AD66)","v":0},{"$f":"DataInput!I66","v":0},{"$f":"SUM(DataInput!J66,DataInput!AF66)","v":0},{"$f":"SUM(DataInput!K66,DataInput!AG66)","v":0},{"$f":"SUM(DataInput!L66,DataInput!AH66)","v":0},{"$f":"SUM(DataInput!M66,DataInput!AI66)","v":0},{"$f":"SUM(DataInput!N66,DataInput!AJ66)","v":0},{"$f":"SUM(DataInput!O66,DataInput!AK66)","v":0},{"$f":"DataInput!P66","v":0},null,32,{"$f":"DataInput!R66","v":6},{"$f":"DataInput!Y66","v":0},{"$f":"IF(DataInput!U66-DataInput!E66>0,DataInput!U66-DataInput!E66,\"\")","v":21},{"$f":"IF(DataInput!W66-DataInput!I66>0,DataInput!W66-DataInput!I66,\"\")","v":""},null,27,35.1,-3.1,0,0,{"$f":"ROUNDDOWN((IF(AA67>0,IFERROR(IF(AVERAGE(DataInput!Q66:Q67)>AVERAGE(AA67,AA66),ROUNDDOWN(((((AA66-Z66)+(AA67-Z67))/2)*(A67-A66))/27,0),IF(((((DataInput!Q67-Z67)+(DataInput!Q66-Z66))/2)*(A67-A66))/27+S66+T66>0,ROUNDDOWN(((((DataInput!Q67-Z67)+(DataInput!Q66-Z66))/2)*(A67-A66))/27+S66+T66,0),0)),0),0)*$X$5),1)","v":0},0,{"$f":"ROUNDDOWN((IF(AC67>0,IFERROR(IF(((((DataInput!Q66-AC66)+(DataInput!Q67-AC67))/2)*(A67-A66))/27+S66+T66>0,ROUNDDOWN(((((DataInput!Q66-AC66)+(DataInput!Q67-AC67))/2)*(A67-A66))/27+S66+T66,0),0),0),0)*$X$5),1)","v":0},{"$f":"DataInput!U66","v":46},{"$f":"DataInput!S66","v":22},30.8,15.2]
[{"$f":"IF(DataInput!A67<>\"\",DataInput!A67,\"\")","v":880975},{"$f":"SUM(DataInput!C67,DataInput!Y67)+(DataInput!U67-DataInput!E67)","v":72},{"$f":"SUM(DataInput!D67,DataInput!Z67)","v":43},{"$f":"DataInput!U67","v":29},{"$f":"SUM(DataInput!F67,DataInput!AB67)","v":0},{"$f":"SUM(DataInput!G67,DataInput!AC67)","v":0},{"$f":"SUM(DataInput!H67,DataInput!AD67)","v":0},{"$f":"DataInput!I67","v":0},{"$f":"SUM(DataInput!J67,DataInput!AF67)","v":0},{"$f":"SUM(DataInput!K67,DataInput!AG67)","v":0},{"$f":"SUM(DataInput!L67,DataInput!AH67)","v":0},{"$f":"SUM(DataInput!M67,DataInput!AI67)","v":0},{"$f":"SUM(DataInput!N67,DataInput!AJ67)","v":0},{"$f":"SUM(DataInput!O67,DataInput!AK67)","v":0},{"$f":"DataInput!P67","v":0},null,43,{"$f":"DataInput!R67","v":2},{"$f":"DataInput!Y67","v":0},{"$f":"IF(DataInput!U67-DataInput!E67>0,DataInput!U67-DataInput!E67,\"\")","v":7},{"$f":"IF(DataInput!W67-DataInput!I67>0,DataInput!W67-DataInput!I67,\"\")","v":""},null,9,11.7,31.3,0,0,{"$f":"ROUNDDOWN((IF(AA68>0,IFERROR(IF(AVERAGE(DataInput!Q67:Q68)>AVERAGE(AA68,AA67),ROUNDDOWN(((((AA67-Z67)+(AA68-Z68))/2)*(A68-A67))/27,0),IF(((((DataInput!Q68-Z68)+(DataInput!Q67-Z67))/2)*(A68-A67))/27+S67+T67>0,ROUNDDOWN(((((DataInput!Q68-Z68)+(DataInput!Q67-Z67))/2)*(A68-A67))/27+S67+T67,0),0)),0),0)*$X$5),1)","v":0},0,{"$f":"ROUNDDOWN((IF(AC68>0,IFERROR(IF(((((DataInput!Q67-AC67)+(DataInput!Q68-AC68))/2)*(A68-A67))/27+S67+T67>0,ROUNDDOWN(((((DataInput!Q67-AC67)+(DataInput!Q68-AC68))/2)*(A68-A67))/27+S67+T67,0),0),0),0)*$X$5),1)","v":0},{"$f":"DataInput!U67","v":29},{"$f":"DataInput!S67","v":23},32.200000000000003,-3.2]
[{"$f":"IF(DataInput!A68<>\"\",DataInput!A68,\"\")","v":881000},{"$f":"SUM(DataInput!C68,DataInput!Y68)+(DataInput!U68-DataInput!E68)","v":67},{"$f":"SUM(DataInput!D68,DataInput!Z68)","v":42},{"$f":"DataInput!U68","v":24},{"$f":"SUM(DataInput!F68,DataInput!AB68)","v":0},{"$f":"SUM(DataInput!G68,DataInput!AC68)","v":0},{"$f":"SUM(DataInput!H68,DataInput!AD68)","v":0},{"$f":"DataInput!I68","v":0},{"$f":"SUM(DataInput!J68,DataInput!AF68)","v":0},{"$f":"SUM(DataInput!K68,DataInput!AG68)","v":0},{"$f":"SUM(DataInput!L68,DataInput!AH68)","v":0},{"$f":"SUM(DataInput!M68,DataInput!AI68)","v":0},{"$f":"SUM(DataInput!N68,DataInput!AJ68)","v":0},{"$f":"SUM(DataInput!O68,DataInput!AK68)","v":0},{"$f":"DataInput!P68","v":0},null,42,{"$f":"DataInput!R68","v":4},{"$f":"DataInput!Y68","v":0},{"$f":"IF(DataInput!U68-DataInput!E68>0,DataInput!U68-DataInput!E68,\"\")","v":11},{"$f":"IF(DataInput!W68-DataInput!I68>0,DataInput!W68-DataInput!I68,\"\")","v":""},null,15,19.5,22.5,0,0,{"$f":"ROUNDDOWN((IF(AA69>0,IFERROR(IF(AVERAGE(DataInput!Q68:Q69)>AVERAGE(AA69,AA68),ROUNDDOWN(((((AA68-Z68)+(AA69-Z69))/2)*(A69-A68))/27,0),IF(((((DataInput!Q69-Z69)+(DataInput!Q68-Z68))/2)*(A69-A68))/27+S68+T68>0,ROUNDDOWN(((((DataInput!Q69-Z69)+(DataInput!Q68-Z68))/2)*(A69-A68))/27+S68+T68,0),0)),0),0)*$X$5),1)","v":0},0,{"$f":"ROUNDDOWN((IF(AC69>0,IFERROR(IF(((((DataInput!Q68-AC68)+(DataInput!Q69-AC69))/2)*(A69-A68))/27+S68+T68>0,ROUNDDOWN(((((DataInput!Q68-AC68)+(DataInput!Q69-AC69))/2)*(A69-A68))/27+S68+T68,0),0),0),0)*$X$5),1)","v":0},{"$f":"DataInput!U68","v":24},{"$f":"DataInput!S68","v":21},29.4,-5.4]
[{"$f":"IF(DataInput!A69<>\"\",DataInput!A69,\"\")","v":881025},{"$f":"SUM(DataInput!C69,DataInput!Y69)+(DataInput!U69-DataInput!E69)","v":65},{"$f":"SUM(DataInput!D69,DataInput!Z69)","v":23},{"$f":"DataInput!U69","v":42},{"$f":"SUM(DataInput!F69,DataInput!AB69)","v":0},{"$f":"SUM(DataInput!G69,DataInput!AC69)","v":0},{"$f":"SUM(DataInput!H69,DataInput!AD69)","v":0},{"$f":"DataInput!I69","v":0},{"$f":"SUM(DataInput!J69,DataInput!AF69)","v":0},{"$f":"SUM(DataInput!K69,DataInput!AG69)","v":0},{"$f":"SUM(DataInput!L69,DataInput!AH69)","v":0},{"$f":"SUM(DataInput!M69,DataInput!AI69)","v":0},{"$f":"SUM(DataInput!N69,DataInput!AJ69)","v":0},{"$f":"SUM(DataInput!O69,DataInput!AK69)","v":0},{"$f":"DataInput!P69","v":0},null,23,{"$f":"DataInput!R69","v":7},{"$f":"DataInput!Y69","v":0},{"$f":"IF(DataInput!U69-DataInput!E69>0,DataInput!U69-DataInput!E69,\"\")","v":24},{"$f":"IF(DataInput!W69-DataInput!I69>0,DataInput!W69-DataInput!I69,\"\")","v":""},null,31,40.299999999999997,-17.3,0,0,{"$f":"ROUNDDOWN((IF(AA70>0,IFERROR(IF(AVERAGE(DataInput!Q69:Q70)>AVERAGE(AA70,AA69),ROUNDDOWN(((((AA69-Z69)+(AA70-Z70))/2)*(A70-A69))/27,0),IF(((((DataInput!Q70-Z70)+(DataInput!Q69-Z69))/2)*(A70-A69))/27+S69+T69>0,ROUNDDOWN(((((DataInput!Q70-Z70)+(DataInput!Q69-Z69))/2)*(A70-A69))/27+S69+T69,0),0)),0),0)*$X$5),1)","v":0},0,{"$f":"ROUNDDOWN((IF(AC70>0,IFERROR(IF(((((DataInput!Q69-AC69)+(DataInput!Q70-AC70))/2)*(A70-A69))/27+S69+T69>0,ROUNDDOWN(((((DataInput!Q69-AC69)+(DataInput!Q70-AC70))/2)*(A70-A69))/27+S69+T69,0),0),0),0)*$X$5),1)","v":0},{"$f":"DataInput!U69","v":42},{"$f":"DataInput!S69","v":19},26.6,15.4]
[{"$f":"IF(DataInput!A70<>\"\",DataInput!A70,\"\")","v":881050},{"$f":"SUM(DataInput!C70,DataInput!Y70)+(DataInput!U70-DataInput!E70)","v":63},{"$f":"SUM(DataInput!D70,DataInput!Z70)","v":23},{"$f":"DataInput!U70","v":40},{"$f":"SUM(DataInput!F70,DataInput!AB70)","v":0},{"$f":"SUM(DataInput!G70,DataInput!AC70)","v":0},{"$f":"SUM(DataInput!H70,DataInput!AD70)","v":0},{"$f":"DataInput!I70","v":0},{"$f":"SUM(DataInput!J70,DataInput!AF70)","v":0},{"$f":"SUM(DataInput!K70,DataInput!AG70)","v":0},{"$f":"SUM(DataInput!L70,DataInput!AH70)","v":0},{"$f":"SUM(DataInput!M70,DataInput!AI70)","v":0},{"$f":"SUM(DataInput!N70,DataInput!AJ70)","v":0},{"$f":"SUM(DataInput!O70,DataInput!AK70)","v":0},{"$f":"DataInput!P70","v":0},null,23,{"$f":"DataInput!R70","v":9},{"$f":"DataInput!Y70","v":0},{"$f":"IF(DataInput!U70-DataInput!E70>0,DataInput!U70-DataInput!E70,\"\")","v":29},{"$f":"IF(DataInput!W70-DataInput!I70>0,DataInput!W70-DataInput!I70,\"\")","v":""},null,38,49.4,-26.4,0,0,{"$f":"ROUNDDOWN((IF(AA71>0,IFERROR(IF(AVERAGE(DataInput!Q70:Q71)>AVERAGE(AA71,AA70),ROUNDDOWN(((((AA70-Z70)+(AA71-Z71))/2)*(A71-A70))/27,0),IF(((((DataInput!Q71-Z71)+(DataInput!Q70-Z70))/2)*(A71-A70))/27+S70+T70>0,ROUNDDOWN(((((DataInput!Q71-Z71)+(DataInput!Q70-Z70))/2)*(A71-A70))/27+S70+T70,0),0)),0),0)*$X$5),1)","v":0},0,{"$f":"ROUNDDOWN((IF(AC71>0,IFERROR(IF(((((DataInput!Q70-AC70)+(DataInput!Q71-AC71))/2)*(A71-A70))/27+S70+T70>0,ROUNDDOWN(((((DataInput!Q70-AC70)+(DataInput!Q71-AC71))/2)*(A71-A70))/27+S70+T70,0),0),0),0)*$X$5),1)","v":0},{"$f":"DataInput!U70","v":40},{"$f":"DataInput!S70","v":20},28,12]
[{"$f":"IF(DataInput!A71<>\"\",DataInput!A71,\"\")","v":881075},{"$f":"SUM(DataInput!C71,DataInput!Y71)+(DataInput!U71-DataInput!E71)","v":56},{"$f":"SUM(DataInput!D71,DataInput!Z71)","v":16},{"$f":"DataInput!U71","v":40},{"$f":"SUM(DataInput!F71,DataInput!AB71)","v":0},{"$f":"SUM(DataInput!G71,DataInput!AC71)","v":0},{"$f":"SUM(DataInput!H71,DataInput!AD71)","v":0},{"$f":"DataInput!I71","v":0},{"$f":"SUM(DataInput!J71,DataInput!AF71)","v":0},{"$f":"SUM(DataInput!K71,DataInput!AG71)","v":0},{"$f":"SUM(DataInput!L71,DataInput!AH71)","v":0},{"$f":"SUM(DataInput!M71,DataInput!AI71)","v":0},{"$f":"SUM(DataInput!N71,DataInput!AJ71)","v":0},{"$f":"SUM(DataInput!O71,DataInput!AK71)","v":0},{"$f":"DataInput!P71","v":0},null,16,{"$f":"DataInput!R71","v":17},{"$f":"DataInput!Y71","v":0},{"$f":"IF(DataInput!U71-DataInput!E71>0,DataInput!U71-DataInput!E71,\"\")","v":30},{"$f":"IF(DataInput!W71-DataInput!I71>0,DataInput!W71-DataInput!I71,\"\")","v":""},null,47,61.1,-45.1,0,0,{"$f":"ROUNDDOWN((IF(AA72>0,IFERROR(IF(AVERAGE(DataInput!Q71:Q72)>AVERAGE(AA72,AA71),ROUNDDOWN(((((AA71-Z71)+(AA72-Z72))/2)*(A72-A71))/27,0),IF(((((DataInput!Q72-Z72)+(DataInput!Q71-Z71))/2)*(A72-A71))/27+S71+T71>0,ROUNDDOWN(((((DataInput!Q72-Z72)+(DataInput!Q71-Z71))/2)*(A72-A71))/27+S71+T71,0),0)),0),0)*$X$5),1)","v":0},0,{"$f":"ROUNDDOWN((IF(AC72>0,IFERROR(IF(((((DataInput!Q71-AC71)+(DataInput!Q72-AC72))/2)*(A72-A71))/27+S71+T71>0,ROUNDDOWN(((((DataInput!Q71-AC71)+(DataInput!Q72-AC72))/2)*(A72-A71))/27+S71+T71,0),0),0),0)*$X$5),1)","v":0},{"$f":"DataInput!U71","v":40},{"$f":"DataInput!S71","v":21},29.4,10.6]
[{"$f":"IF(DataInput!A72<>\"\",DataInput!A72,\"\")","v":881100},{"$f":"SUM(DataInput!C72,DataInput!Y72)+(DataInput!U72-DataInput!E72)","v":42},{"$f":"SUM(DataInput!D72,DataInput!Z72)","v":7},{"$f":"DataInput!U72","v":35},{"$f":"SUM(DataInput!F72,DataInput!AB72)","v":0},{"$f":"SUM(DataInput!G72,DataInput!AC72)","v":0},{"$f":"SUM(DataInput!H72,DataInput!AD72)","v":0},{"$f":"DataInput!I72","v":0},{"$f":"SUM(DataInput!J72,DataInput!AF72)","v":0},{"$f":"SUM(DataInput!K72,DataInput!AG72)","v":0},{"$f":"SUM(DataInput!L72,DataInput!AH72)","v":0},{"$f":"SUM(DataInput!M72,DataInput!AI72)","v":0},{"$f":"SUM(DataInput!N72,DataInput!AJ72)","v":0},{"$f":"SUM(DataInput!O72,DataInput!AK72)","v":0},{"$f":"DataInput!P72","v":0},null,7,{"$f":"DataInput!R72","v":27},{"$f":"DataInput!Y72","v":0},{"$f":"IF(DataInput!U72-DataInput!E72>0,DataInput!U72-DataInput!E72,\"\")","v":24},{"$f":"IF(DataInput!W72-DataInput!I72>0,DataInput!W72-DataInput!I72,\"\")","v":""},null,51,66.3,-59.3,0,0,{"$f":"ROUNDDOWN((IF(AA73>0,IFERROR(IF(AVERAGE(DataInput!Q72:Q73)>AVERAGE(AA73,AA72),ROUNDDOWN(((((AA72-Z72)+(AA73-Z73))/2)*(A73-A72))/27,0),IF(((((DataInput!Q73-Z73)+(DataInput!Q72-Z72))/2)*(A73-A72))/27+S72+T72>0,ROUNDDOWN(((((DataInput!Q73-Z73)+(DataInput!Q72-Z72))/2)*(A73-A72))/27+S72+T72,0),0)),0),0)*$X$5),1)","v":0},0,{"$f":"ROUNDDOWN((IF(AC73>0,IFERROR(IF(((((DataInput!Q72-AC72)+(DataInput!Q73-AC73))/2)*(A73-A72))/27+S72+T72>0,ROUNDDOWN(((((DataInput!Q72-AC72)+(DataInput!Q73-AC73))/2)*(A73-A72))/27+S72+T72,0),0),0),0)*$X$5),1)","v":0},{"$f":"DataInput!U72","v":35},{"$f":"DataInput!S72","v":19},26.6,8.4]
[{"$f":"IF(DataInput!A73<>\"\",DataInput!A73,\"\")","v":881125},{"$f":"SUM(DataInput!C73,DataInput!Y73)+(DataInput!U73-DataInput!E73)","v":40},{"$f":"SUM(DataInput!D73,DataInput!Z73)","v":7},{"$f":"DataInput!U73","v":33},{"$f":"SUM(DataInput!F73,DataInput!AB73)","v":0},{"$f":"SUM(DataInput!G73,DataInput!AC73)","v":0},{"$f":"SUM(DataInput!H73,DataInput!AD73)","v":0},{"$f":"DataInput!I73","v":0},{"$f":"SUM(DataInput!J73,DataInput!AF73)","v":0},{"$f":"SUM(DataInput!K73,DataInput!AG73)","v":0},{"$f":"SUM(DataInput!L73,DataInput!AH73)","v":0},{"$f":"SUM(DataInput!M73,DataInput!AI73)","v":0},{"$f":"SUM(DataInput!N73,DataInput!AJ73)","v":0},{"$f":"SUM(DataInput!O73,DataInput!AK73)","v":0},{"$f":"DataInput!P73","v":0},null,7,{"$f":"DataInput!R73","v":17},{"$f":"DataInput!Y73","v":0},{"$f":"IF(DataInput!U73-DataInput!E73>0,DataInput!U73-DataInput!E73,\"\")","v":20},{"$f":"IF(DataInput!W73-DataInput!I73>0,DataInput!W73-DataInput!I73,\"\")","v":""},null,37,48.1,-41.1,0,0,{"$f":"ROUNDDOWN((IF(AA74>0,IFERROR(IF(AVERAGE(DataInput!Q73:Q74)>AVERAGE(AA74,AA73),ROUNDDOWN(((((AA73-Z73)+(AA74-Z74))/2)*(A74-A73))/27,0),IF(((((DataInput!Q74-Z74)+(DataInput!Q73-Z73))/2)*(A74-A73))/27+S73+T73>0,ROUNDDOWN(((((DataInput!Q74-Z74)+(DataInput!Q73-Z73))/2)*(A74-A73))/27+S73+T73,0),0)),0),0)*$X$5),1)","v":0},0,{"$f":"ROUNDDOWN((IF(AC74>0,IFERROR(IF(((((DataInput!Q73-AC73)+(DataInput!Q74-AC74))/2)*(A74-A73))/27+S73+T73>0,ROUNDDOWN(((((DataInput!Q73-AC73)+(DataInput!Q74-AC74))/2)*(A74-A73))/27+S73+T73,0),0),0),0)*$X$5),1)","v":0},{"$f":"DataInput!U73","v":33},{"$f":"DataInput!S73","v":15},21,12]
[{"$f":"IF(DataInput!A74<>\"\",DataInput!A74,\"\")","v":881150},{"$f":"SUM(DataInput!C74,DataInput!Y74)+(DataInput!U74-DataInput!E74)","v":41},{"$f":"SUM(DataInput!D74,DataInput!Z74)","v":5},{"$f":"DataInput!U74","v":35},{"$f":"SUM(DataInput!F74,DataInput!AB74)","v":0},{"$f":"SUM(DataInput!G74,DataInput!AC74)","v":0},{"$f":"SUM(DataInput!H74,DataInput!AD74)","v":0},{"$f":"DataInput!I74","v":0},{"$f":"SUM(DataInput!J74,DataInput!AF74)","v":0},{"$f":"SUM(DataInput!K74,DataInput!AG74)","v":0},{"$f":"SUM(DataInput!L74,DataInput!AH74)","v":0},{"$f":"SUM(DataInput!M74,DataInput!AI74)","v":0},{"$f":"SUM(DataInput!N74,DataInput!AJ74)","v":0},{"$f":"SUM(DataInput!O74,DataInput!AK74)","v":0},{"$f":"DataInput!P74","v":0},null,5,{"$f":"DataInput!R74","v":4},{"$f":"DataInput!Y74","v":0},{"$f":"IF(DataInput!U74-DataInput!E74>0,DataInput!U74-DataInput!E74,\"\")","v":20},{"$f":"IF(DataInput!W74-DataInput!I74>0,DataInput!W74-DataInput!I74,\"\")","v":""},null,24,31.2,-26.2,0,0,{"$f":"ROUNDDOWN((IF(AA75>0,IFERROR(IF(AVERAGE(DataInput!Q74:Q75)>AVERAGE(AA75,AA74),ROUNDDOWN(((((AA74-Z74)+(AA75-Z75))/2)*(A75-A74))/27,0),IF(((((DataInput!Q75-Z75)+(DataInput!Q74-Z74))/2)*(A75-A74))/27+S74+T74>0,ROUNDDOWN(((((DataInput!Q75-Z75)+(DataInput!Q74-Z74))/2)*(A75-A74))/27+S74+T74,0),0)),0),0)*$X$5),1)","v":0},0,{"$f":"ROUNDDOWN((IF(AC75>0,IFERROR(IF(((((DataInput!Q74-AC74)+(DataInput!Q75-AC75))/2)*(A75-A74))/27+S74+T74>0,ROUNDDOWN(((((DataInput!Q74-AC74)+(DataInput!Q75-AC75))/2)*(A75-A74))/27+S74+T74,0),0),0),0)*$X$5),1)","v":0},{"$f":"DataInput!U74","v":35},{"$f":"DataInput!S74","v":13},18.2,16.8]
[{"$f":"IF(DataInput!A75<>\"\",DataInput!A75,\"\")","v":881175},{"$f":"SUM(DataInput!C75,DataInput!Y75)+(DataInput!U75-DataInput!E75)","v":38},{"$f":"SUM(DataInput!D75,DataInput!Z75)","v":2},{"$f":"DataInput!U75","v":36},{"$f":"SUM(DataInput!F75,DataInput!AB75)","v":0},{"$f":"SUM(DataInput!G75,DataInput!AC75)","v":0},{"$f":"SUM(DataInput!H75,DataInput!AD75)","v":0},{"$f":"DataInput!I75","v":0},{"$f":"SUM(DataInput!J75,DataInput!AF75)","v":0},{"$f":"SUM(DataInput!K75,DataInput!AG75)","v":0},{"$f":"SUM(DataInput!L75,DataInput!AH75)","v":0},{"$f":"SUM(DataInput!M75,DataInput!AI75)","v":0},{"$f":"SUM(DataInput!N75,DataInput!AJ75)","v":0},{"$f":"SUM(DataInput!O75,DataInput!AK75)","v":0},{"$f":"DataInput!P75","v":0},null,2,{"$f":"DataInput!R75","v":8},{"$f":"DataInput!Y75","v":0},{"$f":"IF(DataInput!U75-DataInput!E75>0,DataInput!U75-DataInput!E75,\"\")","v":23},{"$f":"IF(DataInput!W75-DataInput!I75>0,DataInput!W75-DataInput!I75,\"\")","v":""},null,31,40.299999999999997,-38.299999999999997,0,0,{"$f":"ROUNDDOWN((IF(AA76>0,IFERROR(IF(AVERAGE(DataInput!Q75:Q76)>AVERAGE(AA76,AA75),ROUNDDOWN(((((AA75-Z75)+(AA76-Z76))/2)*(A76-A75))/27,0),IF(((((DataInput!Q76-Z76)+(DataInput!Q75-Z75))/2)*(A76-A75))/27+S75+T75>0,ROUNDDOWN(((((DataInput!Q76-Z76)+(DataInput!Q75-Z75))/2)*(A76-A75))/27+S75+T75,0),0)),0),0)*$X$5),1)","v":0},0,{"$f":"ROUNDDOWN((IF(AC76>0,IFERROR(IF(((((DataInput!Q75-AC75)+(DataInput!Q76-AC76))/2)*(A76-A75))/27+S75+T75>0,ROUNDDOWN(((((DataInput!Q75-AC75)+(DataInput!Q76-AC76))/2)*(A76-A75))/27+S75+T75,0),0),0),0)*$X$5),1)","v":0},{"$f":"DataInput!U75","v":36},{"$f":"DataInput!S75","v":13},18.2,17.8]
[{"$f":"IF(DataInput!A76<>\"\",DataInput!A76,\"\")","v":881200},{"$f":"SUM(DataInput!C76,DataInput!Y76)+(DataInput!U76-DataInput!E76)","v":35},{"$f":"SUM(DataInput!D76,DataInput!Z76)","v":1},{"$f":"DataInput!U76","v":35},{"$f":"SUM(DataInput!F76,DataInput!AB76)","v":0},{"$f":"SUM(DataInput!G76,DataInput!AC76)","v":0},{"$f":"SUM(DataInput!H76,DataInput!AD76)","v":0},{"$f":"DataInput!I76","v":0},{"$f":"SUM(DataInput!J76,DataInput!AF76)","v":0},{"$f":"SUM(DataInput!K76,DataInput!AG76)","v":0},{"$f":"SUM(DataInput!L76,DataInput!AH76)","v":0},{"$f":"SUM(DataInput!M76,DataInput!AI76)","v":0},{"$f":"SUM(DataInput!N76,DataInput!AJ76)","v":0},{"$f":"SUM(DataInput!O76,DataInput!AK76)","v":0},{"$f":"DataInput!P76","v":0},null,1,{"$f":"DataInput!R76","v":16},{"$f":"DataInput!Y76","v":0},{"$f":"IF(DataInput!U76-DataInput!E76>0,DataInput!U76-DataInput!E76,\"\")","v":27},{"$f":"IF(DataInput!W76-DataInput!I76>0,DataInput!W76-DataInput!I76,\"\")","v":""},null,43,55.9,-54.9,0,0,{"$f":"ROUNDDOWN((IF(AA77>0,IFERROR(IF(AVERAGE(DataInput!Q76:Q77)>AVERAGE(AA77,AA76),ROUNDDOWN(((((AA76-Z76)+(AA77-Z77))/2)*(A77-A76))/27,0),IF(((((DataInput!Q77-Z77)+(DataInput!Q76-Z76))/2)*(A77-A76))/27+S76+T76>0,ROUNDDOWN(((((DataInput!Q77-Z77)+(DataInput!Q76-Z76))/2)*(A77-A76))/27+S76+T76,0),0)),0),0)*$X$5),1)","v":0},0,{"$f":"ROUNDDOWN((IF(AC77>0,IFERROR(IF(((((DataInput!Q76-AC76)+(DataInput!Q77-AC77))/2)*(A77-A76))/27+S76+T76>0,ROUNDDOWN(((((DataInput!Q76-AC76)+(DataInput!Q77-AC77))/2)*(A77-A76))/27+S76+T76,0),0),0),0)*$X$5),1)","v":0},{"$f":"DataInput!U76","v":35},{"$f":"DataInput!S76","v":13},18.2,16.8]
[{"$f":"IF(DataInput!A77<>\"\",DataInput!A77,\"\")","v":881225},{"$f":"SUM(DataInput!C77,DataInput!Y77)+(DataInput!U77-DataInput!E77)","v":32},{"$f":"SUM(DataInput!D77,DataInput!Z77)","v":0},{"$f":"DataInput!U77","v":32},{"$f":"SUM(DataInput!F77,DataInput!AB77)","v":0},{"$f":"SUM(DataInput!G77,DataInput!AC77)","v":0},{"$f":"SUM(DataInput!H77,DataInput!AD77)","v":0},{"$f":"DataInput!I77","v":0},{"$f":"SUM(DataInput!J77,DataInput!AF77)","v":0},{"$f":"SUM(DataInput!K77,DataInput!AG77)","v":0},{"$f":"SUM(DataInput!L77,DataInput!AH77)","v":0},{"$f":"SUM(DataInput!M77,DataInput!AI77)","v":0},{"$f":"SUM(DataInput!N77,DataInput!AJ77)","v":0},{"$f":"SUM(DataInput!O77,DataInput!AK77)","v":0},{"$f":"DataInput!P77","v":0},null,0,{"$f":"DataInput!R77","v":25},{"$f":"DataInput!Y77","v":0},{"$f":"IF(DataInput!U77-DataInput!E77>0,DataInput!U77-DataInput!E77,\"\")","v":29},{"$f":"IF(DataInput!W77-DataInput!I77>0,DataInput!W77-DataInput!I77,\"\")","v":""},null,54,70.2,-70.2,0,0,{"$f":"ROUNDDOWN((IF(AA78>0,IFERROR(IF(AVERAGE(DataInput!Q77:Q78)>AVERAGE(AA78,AA77),ROUNDDOWN(((((AA77-Z77)+(AA78-Z78))/2)*(A78-A77))/27,0),IF(((((DataInput!Q78-Z78)+(DataInput!Q77-Z77))/2)*(A78-A77))/27+S77+T77>0,ROUNDDOWN(((((DataInput!Q78-Z78)+(DataInput!Q77-Z77))/2)*(A78-A77))/27+S77+T77,0),0)),0),0)*$X$5),1)","v":0},0,{"$f":"ROUNDDOWN((IF(AC78>0,IFERROR(IF(((((DataInput!Q77-AC77)+(DataInput!Q78-AC78))/2)*(A78-A77))/27+S77+T77>0,ROUNDDOWN(((((DataInput!Q77-AC77)+(DataInput!Q78-AC78))/2)*(A78-A77))/27+S77+T77,0),0),0),0)*$X$5),1)","v":0},{"$f":"DataInput!U77","v":32},{"$f":"DataInput!S77","v":10},14,18]
[{"$f":"IF(DataInput!A78<>\"\",DataInput!A78,\"\")","v":881250},{"$f":"SUM(DataInput!C78,DataInput!Y78)+(DataInput!U78-DataInput!E78)","v":29},{"$f":"SUM(DataInput!D78,DataInput!Z78)","v":0},{"$f":"DataInput!U78","v":29},{"$f":"SUM(DataInput!F78,DataInput!AB78)","v":0},{"$f":"SUM(DataInput!G78,DataInput!AC78)","v":0},{"$f":"SUM(DataInput!H78,DataInput!AD78)","v":0},{"$f":"DataInput!I78","v":0},{"$f":"SUM(DataInput!J78,DataInput!AF78)","v":0},{"$f":"SUM(DataInput!K78,DataInput!AG78)","v":0},{"$f":"SUM(DataInput!L78,DataInput!AH78)","v":0},{"$f":"SUM(DataInput!M78,DataInput!AI78)","v":0},{"$f":"SUM(DataInput!N78,DataInput!AJ78)","v":0},{"$f":"SUM(DataInput!O78,DataInput!AK78)","v":0},{"$f":"DataInput!P78","v":0},null,0,{"$f":"DataInput!R78","v":27},{"$f":"DataInput!Y78","v":0},{"$f":"IF(DataInput!U78-DataInput!E78>0,DataInput!U78-DataInput!E78,\"\")","v":29},{"$f":"IF(DataInput!W78-DataInput!I78>0,DataInput!W78-DataInput!I78,\"\")","v":""},null,56,72.8,-72.8,0,0,{"$f":"ROUNDDOWN((IF(AA79>0,IFERROR(IF(AVERAGE(DataInput!Q78:Q79)>AVERAGE(AA79,AA78),ROUNDDOWN(((((AA78-Z78)+(AA79-Z79))/2)*(A79-A78))/27,0),IF(((((DataInput!Q79-Z79)+(DataInput!Q78-Z78))/2)*(A79-A78))/27+S78+T78>0,ROUNDDOWN(((((DataInput!Q79-Z79)+(DataInput!Q78-Z78))/2)*(A79-A78))/27+S78+T78,0),0)),0),0)*$X$5),1)","v":0},0,{"$f":"ROUNDDOWN((IF(AC79>0,IFERROR(IF(((((DataInput!Q78-AC78)+(DataInput!Q79-AC79))/2)*(A79-A78))/27+S78+T78>0,ROUNDDOWN(((((DataInput!Q78-AC78)+(DataInput!Q79-AC79))/2)*(A79-A78))/27+S78+T78,0),0),0),0)*$X$5),1)","v":0},{"$f":"DataInput!U78","v":29},{"$f":"DataInput!S78","v":9},12.6,16.399999999999999]
[{"$f":"IF(DataInput!A79<>\"\",DataInput!A79,\"\")","v":881275},{"$f":"SUM(DataInput!C79,DataInput!Y79)+(DataInput!U79-DataInput!E79)","v":29},{"$f":"SUM(DataInput!D79,DataInput!Z79)","v":0},{"$f":"DataInput!U79","v":29},{"$f":"SUM(DataInput!F79,DataInput!AB79)","v":0},{"$f":"SUM(DataInput!G79,DataInput!AC79)","v":0},{"$f":"SUM(DataInput!H79,DataInput!AD79)","v":0},{"$f":"DataInput!I79","v":0},{"$f":"SUM(DataInput!J79,DataInput!AF79)","v":0},{"$f":"SUM(DataInput!K79,DataInput!AG79)","v":0},{"$f":"SUM(DataInput!L79,DataInput!AH79)","v":0},{"$f":"SUM(DataInput!M79,DataInput!AI79)","v":0},{"$f":"SUM(DataInput!N79,DataInput!AJ79)","v":0},{"$f":"SUM(DataInput!O79,DataInput!AK79)","v":0},{"$f":"DataInput!P79","v":0},null,0,{"$f":"DataInput!R79","v":23},{"$f":"DataInput!Y79","v":0},{"$f":"IF(DataInput!U79-DataInput!E79>0,DataInput!U79-DataInput!E79,\"\")","v":27},{"$f":"IF(DataInput!W79-DataInput!I79>0,DataInput!W79-DataInput!I79,\"\")","v":""},null,50,65,-65,0,0,{"$f":"ROUNDDOWN((IF(AA80>0,IFERROR(IF(AVERAGE(DataInput!Q79:Q80)>AVERAGE(AA80,AA79),ROUNDDOWN(((((AA79-Z79)+(AA80-Z80))/2)*(A80-A79))/27,0),IF(((((DataInput!Q80-Z80)+(DataInput!Q79-Z79))/2)*(A80-A79))/27+S79+T79>0,ROUNDDOWN(((((DataInput!Q80-Z80)+(DataInput!Q79-Z79))/2)*(A80-A79))/27+S79+T79,0),0)),0),0)*$X$5),1)","v":0},0,{"$f":"ROUNDDOWN((IF(AC80>0,IFERROR(IF(((((DataInput!Q79-AC79)+(DataInput!Q80-AC80))/2)*(A80-A79))/27+S79+T79>0,ROUNDDOWN(((((DataInput!Q79-AC79)+(DataInput!Q80-AC80))/2)*(A80-A79))/27+S79+T79,0),0),0),0)*$X$5),1)","v":0},{"$f":"DataInput!U79","v":29},{"$f":"DataInput!S79","v":9},12.6,16.399999999999999]
[{"$f":"IF(DataInput!A80<>\"\",DataInput!A80,\"\")","v":881300},{"$f":"SUM(DataInput!C80,DataInput!Y80)+(DataInput!U80-DataInput!E80)","v":29},{"$f":"SUM(DataInput!D80,DataInput!Z80)","v":0},{"$f":"DataInput!U80","v":29},{"$f":"SUM(DataInput!F80,DataInput!AB80)","v":0},{"$f":"SUM(DataInput!G80,DataInput!AC80)","v":0},{"$f":"SUM(DataInput!H80,DataInput!AD80)","v":0},{"$f":"DataInput!I80","v":0},{"$f":"SUM(DataInput!J80,DataInput!AF80)","v":0},{"$f":"SUM(DataInput!K80,DataInput!AG80)","v":0},{"$f":"SUM(DataInput!L80,DataInput!AH80)","v":0},{"$f":"SUM(DataInput!M80,DataInput!AI80)","v":0},{"$f":"SUM(DataInput!N80,DataInput!AJ80)","v":0},{"$f":"SUM(DataInput!O80,DataInput!AK80)","v":0},{"$f":"DataInput!P80","v":0},null,0,{"$f":"DataInput!R80","v":26},{"$f":"DataInput!Y80","v":0},{"$f":"IF(DataInput!U80-DataInput!E80>0,DataInput!U80-DataInput!E80,\"\")","v":25},{"$f":"IF(DataInput!W80-DataInput!I80>0,DataInput!W80-DataInput!I80,\"\")","v":""},null,51,66.3,-66.3,0,0,{"$f":"ROUNDDOWN((IF(AA81>0,IFERROR(IF(AVERAGE(DataInput!Q80:Q81)>AVERAGE(AA81,AA80),ROUNDDOWN(((((AA80-Z80)+(AA81-Z81))/2)*(A81-A80))/27,0),IF(((((DataInput!Q81-Z81)+(DataInput!Q80-Z80))/2)*(A81-A80))/27+S80+T80>0,ROUNDDOWN(((((DataInput!Q81-Z81)+(DataInput!Q80-Z80))/2)*(A81-A80))/27+S80+T80,0),0)),0),0)*$X$5),1)","v":0},0,{"$f":"ROUNDDOWN((IF(AC81>0,IFERROR(IF(((((DataInput!Q80-AC80)+(DataInput!Q81-AC81))/2)*(A81-A80))/27+S80+T80>0,ROUNDDOWN(((((DataInput!Q80-AC80)+(DataInput!Q81-AC81))/2)*(A81-A80))/27+S80+T80,0),0),0),0)*$X$5),1)","v":0},{"$f":"DataInput!U80","v":29},{"$f":"DataInput!S80","v":9},12.6,16.399999999999999]
[{"$f":"IF(DataInput!A81<>\"\",DataInput!A81,\"\")","v":881325},{"$f":"SUM(DataInput!C81,DataInput!Y81)+(DataInput!U81-DataInput!E81)","v":27},{"$f":"SUM(DataInput!D81,DataInput!Z81)","v":0},{"$f":"DataInput!U81","v":26},{"$f":"SUM(DataInput!F81,DataInput!AB81)","v":0},{"$f":"SUM(DataInput!G81,DataInput!AC81)","v":0},{"$f":"SUM(DataInput!H81,DataInput!AD81)","v":0},{"$f":"DataInput!I81","v":0},{"$f":"SUM(DataInput!J81,DataInput!AF81)","v":0},{"$f":"SUM(DataInput!K81,DataInput!AG81)","v":0},{"$f":"SUM(DataInput!L81,DataInput!AH81)","v":0},{"$f":"SUM(DataInput!M81,DataInput!AI81)","v":0},{"$f":"SUM(DataInput!N81,DataInput!AJ81)","v":0},{"$f":"SUM(DataInput!O81,DataInput!AK81)","v":0},{"$f":"DataInput!P81","v":0},null,0,{"$f":"DataInput!R81","v":34},{"$f":"DataInput!Y81","v":0},{"$f":"IF(DataInput!U81-DataInput!E81>0,DataInput!U81-DataInput!E81,\"\")","v":23},{"$f":"IF(DataInput!W81-DataInput!I81>0,DataInput!W81-DataInput!I81,\"\")","v":2},null,59,76.7,-76.7,0,0,{"$f":"ROUNDDOWN((IF(AA82>0,IFERROR(IF(AVERAGE(DataInput!Q81:Q82)>AVERAGE(AA82,AA81),ROUNDDOWN(((((AA81-Z81)+(AA82-Z82))/2)*(A82-A81))/27,0),IF(((((DataInput!Q82-Z82)+(DataInput!Q81-Z81))/2)*(A82-A81))/27+S81+T81>0,ROUNDDOWN(((((DataInput!Q82-Z82)+(DataInput!Q81-Z81))/2)*(A82-A81))/27+S81+T81,0),0)),0),0)*$X$5),1)","v":0},0,{"$f":"ROUNDDOWN((IF(AC82>0,IFERROR(IF(((((DataInput!Q81-AC81)+(DataInput!Q82-AC82))/2)*(A82-A81))/27+S81+T81>0,ROUNDDOWN(((((DataInput!Q81-AC81)+(DataInput!Q82-AC82))/2)*(A82-A81))/27+S81+T81,0),0),0),0)*$X$5),1)","v":0},{"$f":"DataInput!U81","v":26},{"$f":"DataInput!S81","v":8},11.2,14.8]
[{"$f":"IF(DataInput!A82<>\"\",DataInput!A82,\"\")","v":881350},{"$f":"SUM(DataInput!C82,DataInput!Y82)+(DataInput!U82-DataInput!E82)","v":21},{"$f":"SUM(DataInput!D82,DataInput!Z82)","v":0},{"$f":"DataInput!U82","v":21},{"$f":"SUM(DataInput!F82,DataInput!AB82)","v":0},{"$f":"SUM(DataInput!G82,DataInput!AC82)","v":0},{"$f":"SUM(DataInput!H82,DataInput!AD82)","v":0},{"$f":"DataInput!I82","v":0},{"$f":"SUM(DataInput!J82,DataInput!AF82)","v":0},{"$f":"SUM(DataInput!K82,DataInput!AG82)","v":0},{"$f":"SUM(DataInput!L82,DataInput!AH82)","v":0},{"$f":"SUM(DataInput!M82,DataInput!AI82)","v":0},{"$f":"SUM(DataInput!N82,DataInput!AJ82)","v":0},{"$f":"SUM(DataInput!O82,DataInput!AK82)","v":0},{"$f":"DataInput!P82","v":0},null,0,{"$f":"DataInput!R82","v":42},{"$f":"DataInput!Y82","v":0},{"$f":"IF(DataInput!U82-DataInput!E82>0,DataInput!U82-DataInput!E82,\"\")","v":19},{"$f":"IF(DataInput!W82-DataInput!I82>0,DataInput!W82-DataInput!I82,\"\")","v":3},null,64,83.2,-83.2,0,0,{"$f":"ROUNDDOWN((IF(AA83>0,IFERROR(IF(AVERAGE(DataInput!Q82:Q83)>AVERAGE(AA83,AA82),ROUNDDOWN(((((AA82-Z82)+(AA83-Z83))/2)*(A83-A82))/27,0),IF(((((DataInput!Q83-Z83)+(DataInput!Q82-Z82))/2)*(A83-A82))/27+S82+T82>0,ROUNDDOWN(((((DataInput!Q83-Z83)+(DataInput!Q82-Z82))/2)*(A83-A82))/27+S82+T82,0),0)),0),0)*$X$5),1)","v":0},0,{"$f":"ROUNDDOWN((IF(AC83>0,IFERROR(IF(((((DataInput!Q82-AC82)+(DataInput!Q83-AC83))/2)*(A83-A82))/27+S82+T82>0,ROUNDDOWN(((((DataInput!Q82-AC82)+(DataInput!Q83-AC83))/2)*(A83-A82))/27+S82+T82,0),0),0),0)*$X$5),1)","v":0},{"$f":"DataInput!U82","v":21},{"$f":"DataInput!S82","v":7},9.8000000000000007,11.2]
[{"$f":"IF(DataInput!A83<>\"\",DataInput!A83,\"\")","v":881375},{"$f":"SUM(DataInput!C83,DataInput!Y83)+(DataInput!U83-DataInput!E83)","v":20},{"$f":"SUM(DataInput!D83,DataInput!Z83)","v":1},{"$f":"DataInput!U83","v":20},{"$f":"SUM(DataInput!F83,DataInput!AB83)","v":0},{"$f":"SUM(DataInput!G83,DataInput!AC83)","v":0},{"$f":"SUM(DataInput!H83,DataInput!AD83)","v":0},{"$f":"DataInput!I83","v":0},{"$f":"SUM(DataInput!J83,DataInput!AF83)","v":0},{"$f":"SUM(DataInput!K83,DataInput!AG83)","v":0},{"$f":"SUM(DataInput!L83,DataInput!AH83)","v":0},{"$f":"SUM(DataInput!M83,DataInput!AI83)","v":0},{"$f":"SUM(DataInput!N83,DataInput!AJ83)","v":0},{"$f":"SUM(DataInput!O83,DataInput!AK83)","v":0},{"$f":"DataInput!P83","v":0},null,1,{"$f":"DataInput!R83","v":48},{"$f":"DataInput!Y83","v":0},{"$f":"IF(DataInput!U83-DataInput!E83>0,DataInput!U83-DataInput!E83,\"\")","v":17},{"$f":"IF(DataInput!W83-DataInput!I83>0,DataInput!W83-DataInput!I83,\"\")","v":4},null,69,89.7,-88.7,0,0,{"$f":"ROUNDDOWN((IF(AA84>0,IFERROR(IF(AVERAGE(DataInput!Q83:Q84)>AVERAGE(AA84,AA83),ROUNDDOWN(((((AA83-Z83)+(AA84-Z84))/2)*(A84-A83))/27,0),IF(((((DataInput!Q84-Z84)+(DataInput!Q83-Z83))/2)*(A84-A83))/27+S83+T83>0,ROUNDDOWN(((((DataInput!Q84-Z84)+(DataInput!Q83-Z83))/2)*(A84-A83))/27+S83+T83,0),0)),0),0)*$X$5),1)","v":0},0,{"$f":"ROUNDDOWN((IF(AC84>0,IFERROR(IF(((((DataInput!Q83-AC83)+(DataInput!Q84-AC84))/2)*(A84-A83))/27+S83+T83>0,ROUNDDOWN(((((DataInput!Q83-AC83)+(DataInput!Q84-AC84))/2)*(A84-A83))/27+S83+T83,0),0),0),0)*$X$5),1)","v":0},{"$f":"DataInput!U83","v":20},{"$f":"DataInput!S83","v":7},9.8000000000000007,10.199999999999999]
[{"$f":"IF(DataInput!A84<>\"\",DataInput!A84,\"\")","v":881400}]
[]
[{"$f":"IF(DataInput!A86<>\"\",DataInput!A86,\"\")","v":"PARKING"}]
[{"$f":"IF(DataInput!A87<>\"\",DataInput!A87,\"\")","v":311},{"$f":"SUM(DataInput!C87,DataInput!Y87)+(DataInput!U87-DataInput!E87)","v":1},{"$f":"SUM(DataInput!D87,DataInput!Z87)","v":1},{"$f":"DataInput!U87","v":0},{"$f":"SUM(DataInput!F87,DataInput!AB87)","v":0},{"$f":"SUM(DataInput!G87,DataInput!AC87)","v":0},{"$f":"SUM(DataInput!H87,DataInput!AD87)","v":0},{"$f":"DataInput!I87","v":0},{"$f":"SUM(DataInput!J87,DataInput!AF87)","v":0},{"$f":"SUM(DataInput!K87,DataInput!AG87)","v":0},{"$f":"SUM(DataInput!L87,DataInput!AH87)","v":0},{"$f":"SUM(DataInput!M87,DataInput!AI87)","v":0},{"$f":"SUM(DataInput!N87,DataInput!AJ87)","v":0},{"$f":"SUM(DataInput!O87,DataInput!AK87)","v":0},{"$f":"DataInput!P87","v":0},null,{"$f":"SUM(C87,E87:G87,I87:L87,O87:P87)","v":1},{"$f":"DataInput!R87","v":0},{"$f":"DataInput!Y87","v":0},{"$f":"IF(DataInput!U87-DataInput!E87>0,DataInput!U87-DataInput!E87,\"\")","v":""},{"$f":"IF(DataInput!W87-DataInput!I87>0,DataInput!W87-DataInput!I87,\"\")","v":""},null,{"$f":"SUM(R87:V87)","v":0},{"$f":"ROUNDUP(($W87*$X$5),1)","v":0},{"$f":"ROUNDUP(SUM(Q87-X87),1)","v":1},null,null,{"$f":"ROUNDDOWN((IF(AA88>0,IFERROR(IF(AVERAGE(DataInput!Q87:Q88)>AVERAGE(AA88,AA87),ROUNDDOWN(((((AA87-Z87)+(AA88-Z88))/2)*(A88-A87))/27,0),IF(((((DataInput!Q88-Z88)+(DataInput!Q87-Z87))/2)*(A88-A87))/27+S87+T87>0,ROUNDDOWN(((((DataInput!Q88-Z88)+(DataInput!Q87-Z87))/2)*(A88-A87))/27+S87+T87,0),0)),0),0)*$X$5),1)","v":0},null,{"$f":"ROUNDDOWN((IF(AC88>0,IFERROR(IF(((((DataInput!Q87-AC87)+(DataInput!Q88-AC88))/2)*(A88-A87))/27+S87+T87>0,ROUNDDOWN(((((DataInput!Q87-AC87)+(DataInput!Q88-AC88))/2)*(A88-A87))/27+S87+T87,0),0),0),0)*$X$5),1)","v":0},{"$f":"DataInput!U87","v":0},{"$f":"DataInput!S87","v":0},{"$f":"ROUNDUP((AF87*$AG$5),1)","v":0},{"$f":"ROUNDUP((AE87-AG87),1)","v":0}]
[{"$f":"IF(DataInput!A88<>\"\",DataInput!A88,\"\")","v":313},{"$f":"SUM(DataInput!C88,DataInput!Y88)+(DataInput!U88-DataInput!E88)","v":2},{"$f":"SUM(DataInput!D88,DataInput!Z88)","v":1},{"$f":"DataInput!U88","v":2},{"$f":"SUM(DataInput!F88,DataInput!AB88)","v":0},{"$f":"SUM(DataInput!G88,DataInput!AC88)","v":0},{"$f":"SUM(DataInput!H88,DataInput!AD88)","v":0},{"$f":"DataInput!I88","v":0},{"$f":"SUM(DataInput!J88,DataInput!AF88)","v":0},{"$f":"SUM(DataInput!K88,DataInput!AG88)","v":0},{"$f":"SUM(DataInput!L88,DataInput!AH88)","v":0},{"$f":"SUM(DataInput!M88,DataInput!AI88)","v":0},{"$f":"SUM(DataInput!N88,DataInput!AJ88)","v":0},{"$f":"SUM(DataInput!O88,DataInput!AK88)","v":0},{"$f":"DataInput!P88","v":0},null,{"$f":"SUM(C88,E88:G88,I88:L88,O88:P88)","v":1},{"$f":"DataInput!R88","v":0},{"$f":"DataInput!Y88","v":0},{"$f":"IF(DataInput!U88-DataInput!E88>0,DataInput!U88-DataInput!E88,\"\")","v":1},{"$f":"IF(DataInput!W88-DataInput!I88>0,DataInput!W88-DataInput!I88,\"\")","v":""},null,{"$f":"SUM(R88:V88)","v":1},{"$f":"ROUNDUP(($W88*$X$5),1)","v":1.3},{"$f":"ROUNDUP(SUM(Q88-X88),1)","v":-0.3},{"$f":"Z87","v":0},{"$f":"AA87","v":0},{"$f":"ROUNDDOWN((IF(AA89>0,IFERROR(IF(AVERAGE(DataInput!Q88:Q89)>AVERAGE(AA89,AA88),ROUNDDOWN(((((AA88-Z88)+(AA89-Z89))/2)*(A89-A88))/27,0),IF(((((DataInput!Q89-Z89)+(DataInput!Q88-Z88))/2)*(A89-A88))/27+S88+T88>0,ROUNDDOWN(((((DataInput!Q89-Z89)+(DataInput!Q88-Z88))/2)*(A89-A88))/27+S88+T88,0),0)),0),0)*$X$5),1)","v":0},{"$f":"AC87","v":0},{"$f":"ROUNDDOWN((IF(AC89>0,IFERROR(IF(((((DataInput!Q88-AC88)+(DataInput!Q89-AC89))/2)*(A89-A88))/27+S88+T88>0,ROUNDDOWN(((((DataInput!Q88-AC88)+(DataInput!Q89-AC89))/2)*(A89-A88))/27+S88+T88,0),0),0),0)*$X$5),1)","v":0},{"$f":"DataInput!U88","v":2},{"$f":"DataInput!S88","v":0},{"$f":"ROUNDUP((AF88*$AG$5),1)","v":0},{"$f":"ROUNDUP((AE88-AG88),1)","v":2}]
[{"$f":"IF(DataInput!A89<>\"\",DataInput!A89,\"\")","v":315},{"$f":"SUM(DataInput!C89,DataInput!Y89)+(DataInput!U89-DataInput!E89)","v":6},{"$f":"SUM(DataInput!D89,DataInput!Z89)","v":1},{"$f":"DataInput!U89","v":5},{"$f":"SUM(DataInput!F89,DataInput!AB89)","v":0},{"$f":"SUM(DataInput!G89,DataInput!AC89)","v":0},{"$f":"SUM(DataInput!H89,DataInput!AD89)","v":0},{"$f":"DataInput!I89","v":0},{"$f":"SUM(DataInput!J89,DataInput!AF89)","v":0},{"$f":"SUM(DataInput!K89,DataInput!AG89)","v":0},{"$f":"SUM(DataInput!L89,DataInput!AH89)","v":0},{"$f":"SUM(DataInput!M89,DataInput!AI89)","v":0},{"$f":"SUM(DataInput!N89,DataInput!AJ89)","v":0},{"$f":"SUM(DataInput!O89,DataInput!AK89)","v":0},{"$f":"DataInput!P89","v":0},null,1,{"$f":"DataInput!R89","v":0},{"$f":"DataInput!Y89","v":0},{"$f":"IF(DataInput!U89-DataInput!E89>0,DataInput!U89-DataInput!E89,\"\")","v":3},{"$f":"IF(DataInput!W89-DataInput!I89>0,DataInput!W89-DataInput!I89,\"\")","v":""},null,3,3.9,-2.9,{"$f":"Z88","v":0},{"$f":"AA88","v":0},{"$f":"ROUNDDOWN((IF(AA90>0,IFERROR(IF(AVERAGE(DataInput!Q89:Q90)>AVERAGE(AA90,AA89),ROUNDDOWN(((((AA89-Z89)+(AA90-Z90))/2)*(A90-A89))/27,0),IF(((((DataInput!Q90-Z90)+(DataInput!Q89-Z89))/2)*(A90-A89))/27+S89+T89>0,ROUNDDOWN(((((DataInput!Q90-Z90)+(DataInput!Q89-Z89))/2)*(A90-A89))/27+S89+T89,0),0)),0),0)*$X$5),1)","v":0},{"$f":"AC88","v":0},{"$f":"ROUNDDOWN((IF(AC90>0,IFERROR(IF(((((DataInput!Q89-AC89)+(DataInput!Q90-AC90))/2)*(A90-A89))/27+S89+T89>0,ROUNDDOWN(((((DataInput!Q89-AC89)+(DataInput!Q90-AC90))/2)*(A90-A89))/27+S89+T89,0),0),0),0)*$X$5),1)","v":0},{"$f":"DataInput!U89","v":5},{"$f":"DataInput!S89","v":1},1.4,3.6]
[{"$f":"IF(DataInput!A90<>\"\",DataInput!A90,\"\")","v":320},{"$f":"SUM(DataInput!C90,DataInput!Y90)+(DataInput!U90-DataInput!E90)","v":8},{"$f":"SUM(DataInput!D90,DataInput!Z90)","v":1},{"$f":"DataInput!U90","v":7},{"$f":"SUM(DataInput!F90,DataInput!AB90)","v":0},{"$f":"SUM(DataInput!G90,DataInput!AC90)","v":0},{"$f":"SUM(DataInput!H90,DataInput!AD90)","v":0},{"$f":"DataInput!I90","v":0},{"$f":"SUM(DataInput!J90,DataInput!AF90)","v":0},{"$f":"SUM(DataInput!K90,DataInput!AG90)","v":0},{"$f":"SUM(DataInput!L90,DataInput!AH90)","v":0},{"$f":"SUM(DataInput!M90,DataInput!AI90)","v":0},{"$f":"SUM(DataInput!N90,DataInput!AJ90)","v":0},{"$f":"SUM(DataInput!O90,DataInput!AK90)","v":0},{"$f":"DataInput!P90","v":0},null,1,{"$f":"DataInput!R90","v":0},{"$f":"DataInput!Y90","v":0},{"$f":"IF(DataInput!U90-DataInput!E90>0,DataInput!U90-DataInput!E90,\"\")","v":5},{"$f":"IF(DataInput!W90-DataInput!I90>0,DataInput!W90-DataInput!I90,\"\")","v":""},null,5,6.5,-5.5,0,0,{"$f":"ROUNDDOWN((IF(AA91>0,IFERROR(IF(AVERAGE(DataInput!Q90:Q91)>AVERAGE(AA91,AA90),ROUNDDOWN(((((AA90-Z90)+(AA91-Z91))/2)*(A91-A90))/27,0),IF(((((DataInput!Q91-Z91)+(DataInput!Q90-Z90))/2)*(A91-A90))/27+S90+T90>0,ROUNDDOWN(((((DataInput!Q91-Z91)+(DataInput!Q90-Z90))/2)*(A91-A90))/27+S90+T90,0),0)),0),0)*$X$5),1)","v":0},0,{"$f":"ROUNDDOWN((IF(AC91>0,IFERROR(IF(((((DataInput!Q90-AC90)+(DataInput!Q91-AC91))/2)*(A91-A90))/27+S90+T90>0,ROUNDDOWN(((((DataInput!Q90-AC90)+(DataInput!Q91-AC91))/2)*(A91-A90))/27+S90+T90,0),0),0),0)*$X$5),1)","v":0},{"$f":"DataInput!U90","v":7},{"$f":"DataInput!S90","v":3},4.2,2.8]
[{"$f":"IF(DataInput!A91<>\"\",DataInput!A91,\"\")","v":325},{"$f":"SUM(DataInput!C91,DataInput!Y91)+(DataInput!U91-DataInput!E91)","v":10},{"$f":"SUM(DataInput!D91,DataInput!Z91)","v":0},{"$f":"DataInput!U91","v":10},{"$f":"SUM(DataInput!F91,DataInput!AB91)","v":0},{"$f":"SUM(DataInput!G91,DataInput!AC91)","v":0},{"$f":"SUM(DataInput!H91,DataInput!AD91)","v":0},{"$f":"DataInput!I91","v":0},{"$f":"SUM(DataInput!J91,DataInput!AF91)","v":0},{"$f":"SUM(DataInput!K91,DataInput!AG91)","v":0},{"$f":"SUM(DataInput!L91,DataInput!AH91)","v":0},{"$f":"SUM(DataInput!M91,DataInput!AI91)","v":0},{"$f":"SUM(DataInput!N91,DataInput!AJ91)","v":0},{"$f":"SUM(DataInput!O91,DataInput!AK91)","v":0},{"$f":"DataInput!P91","v":0},null,0,{"$f":"DataInput!R91","v":0},{"$f":"DataInput!Y91","v":0},{"$f":"IF(DataInput!U91-DataInput!E91>0,DataInput!U91-DataInput!E91,\"\")","v":7},{"$f":"IF(DataInput!W91-DataInput!I91>0,DataInput!W91-DataInput!I91,\"\")","v":""},null,7,9.1,-9.1,0,0,{"$f":"ROUNDDOWN((IF(AA92>0,IFERROR(IF(AVERAGE(DataInput!Q91:Q92)>AVERAGE(AA92,AA91),ROUNDDOWN(((((AA91-Z91)+(AA92-Z92))/2)*(A92-A91))/27,0),IF(((((DataInput!Q92-Z92)+(DataInput!Q91-Z91))/2)*(A92-A91))/27+S91+T91>0,ROUNDDOWN(((((DataInput!Q92-Z92)+(DataInput!Q91-Z91))/2)*(A92-A91))/27+S91+T91,0),0)),0),0)*$X$5),1)","v":0},0,{"$f":"ROUNDDOWN((IF(AC92>0,IFERROR(IF(((((DataInput!Q91-AC91)+(DataInput!Q92-AC92))/2)*(A92-A91))/27+S91+T91>0,ROUNDDOWN(((((DataInput!Q91-AC91)+(DataInput!Q92-AC92))/2)*(A92-A91))/27+S91+T91,0),0),0),0)*$X$5),1)","v":0},{"$f":"DataInput!U91","v":10},{"$f":"DataInput!S91","v":5},7,3]
[{"$f":"IF(DataInput!A92<>\"\",DataInput!A92,\"\")","v":330},{"$f":"SUM(DataInput!C92,DataInput!Y92)+(DataInput!U92-DataInput!E92)","v":11},{"$f":"SUM(DataInput!D92,DataInput!Z92)","v":0},{"$f":"DataInput!U92","v":11},{"$f":"SUM(DataInput!F92,DataInput!AB92)","v":0},{"$f":"SUM(DataInput!G92,DataInput!AC92)","v":0},{"$f":"SUM(DataInput!H92,DataInput!AD92)","v":0},{"$f":"DataInput!I92","v":0},{"$f":"SUM(DataInput!J92,DataInput!AF92)","v":0},{"$f":"SUM(DataInput!K92,DataInput!AG92)","v":0},{"$f":"SUM(DataInput!L92,DataInput!AH92)","v":0},{"$f":"SUM(DataInput!M92,DataInput!AI92)","v":0},{"$f":"SUM(DataInput!N92,DataInput!AJ92)","v":0},{"$f":"SUM(DataInput!O92,DataInput!AK92)","v":0},{"$f":"DataInput!P92","v":0},null,0,{"$f":"DataInput!R92","v":1},{"$f":"DataInput!Y92","v":0},{"$f":"IF(DataInput!U92-DataInput!E92>0,DataInput!U92-DataInput!E92,\"\")","v":9},{"$f":"IF(DataInput!W92-DataInput!I92>0,DataInput!W92-DataInput!I92,\"\")","v":""},null,10,13,-13,0,0,{"$f":"ROUNDDOWN((IF(AA93>0,IFERROR(IF(AVERAGE(DataInput!Q92:Q93)>AVERAGE(AA93,AA92),ROUNDDOWN(((((AA92-Z92)+(AA93-Z93))/2)*(A93-A92))/27,0),IF(((((DataInput!Q93-Z93)+(DataInput!Q92-Z92))/2)*(A93-A92))/27+S92+T92>0,ROUNDDOWN(((((DataInput!Q93-Z93)+(DataInput!Q92-Z92))/2)*(A93-A92))/27+S92+T92,0),0)),0),0)*$X$5),1)","v":0},0,{"$f":"ROUNDDOWN((IF(AC93>0,IFERROR(IF(((((DataInput!Q92-AC92)+(DataInput!Q93-AC93))/2)*(A93-A92))/27+S92+T92>0,ROUNDDOWN(((((DataInput!Q92-AC92)+(DataInput!Q93-AC93))/2)*(A93-A92))/27+S92+T92,0),0),0),0)*$X$5),1)","v":0},{"$f":"DataInput!U92","v":11},{"$f":"DataInput!S92","v":5},7,4]
[{"$f":"IF(DataInput!A93<>\"\",DataInput!A93,\"\")","v":335},{"$f":"SUM(DataInput!C93,DataInput!Y93)+(DataInput!U93-DataInput!E93)","v":12},{"$f":"SUM(DataInput!D93,DataInput!Z93)","v":1},{"$f":"DataInput!U93","v":12},{"$f":"SUM(DataInput!F93,DataInput!AB93)","v":0},{"$f":"SUM(DataInput!G93,DataInput!AC93)","v":0},{"$f":"SUM(DataInput!H93,DataInput!AD93)","v":0},{"$f":"DataInput!I93","v":0},{"$f":"SUM(DataInput!J93,DataInput!AF93)","v":0},{"$f":"SUM(DataInput!K93,DataInput!AG93)","v":0},{"$f":"SUM(DataInput!L93,DataInput!AH93)","v":0},{"$f":"SUM(DataInput!M93,DataInput!AI93)","v":0},{"$f":"SUM(DataInput!N93,DataInput!AJ93)","v":0},{"$f":"SUM(DataInput!O93,DataInput!AK93)","v":0},{"$f":"DataInput!P93","v":0},null,1,{"$f":"DataInput!R93","v":3},{"$f":"DataInput!Y93","v":0},{"$f":"IF(DataInput!U93-DataInput!E93>0,DataInput!U93-DataInput!E93,\"\")","v":9},{"$f":"IF(DataInput!W93-DataInput!I93>0,DataInput!W93-DataInput!I93,\"\")","v":""},null,12,15.6,-14.6,0,0,{"$f":"ROUNDDOWN((IF(AA94>0,IFERROR(IF(AVERAGE(DataInput!Q93:Q94)>AVERAGE(AA94,AA93),ROUNDDOWN(((((AA93-Z93)+(AA94-Z94))/2)*(A94-A93))/27,0),IF(((((DataInput!Q94-Z94)+(DataInput!Q93-Z93))/2)*(A94-A93))/27+S93+T93>0,ROUNDDOWN(((((DataInput!Q94-Z94)+(DataInput!Q93-Z93))/2)*(A94-A93))/27+S93+T93,0),0)),0),0)*$X$5),1)","v":0},0,{"$f":"ROUNDDOWN((IF(AC94>0,IFERROR(IF(((((DataInput!Q93-AC93)+(DataInput!Q94-AC94))/2)*(A94-A93))/27+S93+T93>0,ROUNDDOWN(((((DataInput!Q93-AC93)+(DataInput!Q94-AC94))/2)*(A94-A93))/27+S93+T93,0),0),0),0)*$X$5),1)","v":0},{"$f":"DataInput!U93","v":12},{"$f":"DataInput!S93","v":4},5.6,6.4]
[{"$f":"IF(DataInput!A94<>\"\",DataInput!A94,\"\")","v":340},{"$f":"SUM(DataInput!C94,DataInput!Y94)+(DataInput!U94-DataInput!E94)","v":16},{"$f":"SUM(DataInput!D94,DataInput!Z94)","v":2},{"$f":"DataInput!U94","v":14},{"$f":"SUM(DataInput!F94,DataInput!AB94)","v":0},{"$f":"SUM(DataInput!G94,DataInput!AC94)","v":0},{"$f":"SUM(DataInput!H94,DataInput!AD94)","v":0},{"$f":"DataInput!I94","v":0},{"$f":"SUM(DataInput!J94,DataInput!AF94)","v":0},{"$f":"SUM(DataInput!K94,DataInput!AG94)","v":0},{"$f":"SUM(DataInput!L94,DataInput!AH94)","v":0},{"$f":"SUM(DataInput!M94,DataInput!AI94)","v":0},{"$f":"SUM(DataInput!N94,DataInput!AJ94)","v":0},{"$f":"SUM(DataInput!O94,DataInput!AK94)","v":0},{"$f":"DataInput!P94","v":0},null,2,{"$f":"DataInput!R94","v":5},{"$f":"DataInput!Y94","v":0},{"$f":"IF(DataInput!U94-DataInput!E94>0,DataInput!U94-DataInput!E94,\"\")","v":10},{"$f":"IF(DataInput!W94-DataInput!I94>0,DataInput!W94-DataInput!I94,\"\")","v":""},null,15,19.5,-17.5,0,0,{"$f":"ROUNDDOWN((IF(AA95>0,IFERROR(IF(AVERAGE(DataInput!Q94:Q95)>AVERAGE(AA95,AA94),ROUNDDOWN(((((AA94-Z94)+(AA95-Z95))/2)*(A95-A94))/27,0),IF(((((DataInput!Q95-Z95)+(DataInput!Q94-Z94))/2)*(A95-A94))/27+S94+T94>0,ROUNDDOWN(((((DataInput!Q95-Z95)+(DataInput!Q94-Z94))/2)*(A95-A94))/27+S94+T94,0),0)),0),0)*$X$5),1)","v":0},0,{"$f":"ROUNDDOWN((IF(AC95>0,IFERROR(IF(((((DataInput!Q94-AC94)+(DataInput!Q95-AC95))/2)*(A95-A94))/27+S94+T94>0,ROUNDDOWN(((((DataInput!Q94-AC94)+(DataInput!Q95-AC95))/2)*(A95-A94))/27+S94+T94,0),0),0),0)*$X$5),1)","v":0},{"$f":"DataInput!U94","v":14},{"$f":"DataInput!S94","v":3},4.2,9.8000000000000007]
[{"$f":"IF(DataInput!A95<>\"\",DataInput!A95,\"\")","v":345},{"$f":"SUM(DataInput!C95,DataInput!Y95)+(DataInput!U95-DataInput!E95)","v":21},{"$f":"SUM(DataInput!D95,DataInput!Z95)","v":5},{"$f":"DataInput!U95","v":15},{"$f":"SUM(DataInput!F95,DataInput!AB95)","v":0},{"$f":"SUM(DataInput!G95,DataInput!AC95)","v":0},{"$f":"SUM(DataInput!H95,DataInput!AD95)","v":0},{"$f":"DataInput!I95","v":0},{"$f":"SUM(DataInput!J95,DataInput!AF95)","v":0},{"$f":"SUM(DataInput!K95,DataInput!AG95)","v":0},{"$f":"SUM(DataInput!L95,DataInput!AH95)","v":0},{"$f":"SUM(DataInput!M95,DataInput!AI95)","v":0},{"$f":"SUM(DataInput!N95,DataInput!AJ95)","v":0},{"$f":"SUM(DataInput!O95,DataInput!AK95)","v":0},{"$f":"DataInput!P95","v":0},null,5,{"$f":"DataInput!R95","v":5},{"$f":"DataInput!Y95","v":0},{"$f":"IF(DataInput!U95-DataInput!E95>0,DataInput!U95-DataInput!E95,\"\")","v":10},{"$f":"IF(DataInput!W95-DataInput!I95>0,DataInput!W95-DataInput!I95,\"\")","v":""},null,15,19.5,-14.5,0,0,{"$f":"ROUNDDOWN((IF(AA96>0,IFERROR(IF(AVERAGE(DataInput!Q95:Q96)>AVERAGE(AA96,AA95),ROUNDDOWN(((((AA95-Z95)+(AA96-Z96))/2)*(A96-A95))/27,0),IF(((((DataInput!Q96-Z96)+(DataInput!Q95-Z95))/2)*(A96-A95))/27+S95+T95>0,ROUNDDOWN(((((DataInput!Q96-Z96)+(DataInput!Q95-Z95))/2)*(A96-A95))/27+S95+T95,0),0)),0),0)*$X$5),1)","v":0},0,{"$f":"ROUNDDOWN((IF(AC96>0,IFERROR(IF(((((DataInput!Q95-AC95)+(DataInput!Q96-AC96))/2)*(A96-A95))/27+S95+T95>0,ROUNDDOWN(((((DataInput!Q95-AC95)+(DataInput!Q96-AC96))/2)*(A96-A95))/27+S95+T95,0),0),0),0)*$X$5),1)","v":0},{"$f":"DataInput!U95","v":15},{"$f":"DataInput!S95","v":3},4.2,10.8]
[{"$f":"IF(DataInput!A96<>\"\",DataInput!A96,\"\")","v":350},{"$f":"SUM(DataInput!C96,DataInput!Y96)+(DataInput!U96-DataInput!E96)","v":24},{"$f":"SUM(DataInput!D96,DataInput!Z96)","v":8},{"$f":"DataInput!U96","v":16},{"$f":"SUM(DataInput!F96,DataInput!AB96)","v":0},{"$f":"SUM(DataInput!G96,DataInput!AC96)","v":0},{"$f":"SUM(DataInput!H96,DataInput!AD96)","v":0},{"$f":"DataInput!I96","v":0},{"$f":"SUM(DataInput!J96,DataInput!AF96)","v":0},{"$f":"SUM(DataInput!K96,DataInput!AG96)","v":0},{"$f":"SUM(DataInput!L96,DataInput!AH96)","v":0},{"$f":"SUM(DataInput!M96,DataInput!AI96)","v":0},{"$f":"SUM(DataInput!N96,DataInput!AJ96)","v":0},{"$f":"SUM(DataInput!O96,DataInput!AK96)","v":0},{"$f":"DataInput!P96","v":0},null,8,{"$f":"DataInput!R96","v":6},{"$f":"DataInput!Y96","v":0},{"$f":"IF(DataInput!U96-DataInput!E96>0,DataInput!U96-DataInput!E96,\"\")","v":10},{"$f":"IF(DataInput!W96-DataInput!I96>0,DataInput!W96-DataInput!I96,\"\")","v":""},null,16,20.8,-12.8,0,0,{"$f":"ROUNDDOWN((IF(AA97>0,IFERROR(IF(AVERAGE(DataInput!Q96:Q97)>AVERAGE(AA97,AA96),ROUNDDOWN(((((AA96-Z96)+(AA97-Z97))/2)*(A97-A96))/27,0),IF(((((DataInput!Q97-Z97)+(DataInput!Q96-Z96))/2)*(A97-A96))/27+S96+T96>0,ROUNDDOWN(((((DataInput!Q97-Z97)+(DataInput!Q96-Z96))/2)*(A97-A96))/27+S96+T96,0),0)),0),0)*$X$5),1)","v":0},0,{"$f":"ROUNDDOWN((IF(AC97>0,IFERROR(IF(((((DataInput!Q96-AC96)+(DataInput!Q97-AC97))/2)*(A97-A96))/27+S96+T96>0,ROUNDDOWN(((((DataInput!Q96-AC96)+(DataInput!Q97-AC97))/2)*(A97-A96))/27+S96+T96,0),0),0),0)*$X$5),1)","v":0},{"$f":"DataInput!U96","v":16},{"$f":"DataInput!S96","v":4},5.6,10.4]
[{"$f":"IF(DataInput!A97<>\"\",DataInput!A97,\"\")","v":355},{"$f":"SUM(DataInput!C97,DataInput!Y97)+(DataInput!U97-DataInput!E97)","v":26},{"$f":"SUM(DataInput!D97,DataInput!Z97)","v":10},{"$f":"DataInput!U97","v":16},{"$f":"SUM(DataInput!F97,DataInput!AB97)","v":0},{"$f":"SUM(DataInput!G97,DataInput!AC97)","v":0},{"$f":"SUM(DataInput!H97,DataInput!AD97)","v":0},{"$f":"DataInput!I97","v":0},{"$f":"SUM(DataInput!J97,DataInput!AF97)","v":0},{"$f":"SUM(DataInput!K97,DataInput!AG97)","v":0},{"$f":"SUM(DataInput!L97,DataInput!AH97)","v":0},{"$f":"SUM(DataInput!M97,DataInput!AI97)","v":0},{"$f":"SUM(DataInput!N97,DataInput!AJ97)","v":0},{"$f":"SUM(DataInput!O97,DataInput!AK97)","v":0},{"$f":"DataInput!P97","v":0},null,10,{"$f":"DataInput!R97","v":6},{"$f":"DataInput!Y97","v":0},{"$f":"IF(DataInput!U97-DataInput!E97>0,DataInput!U97-DataInput!E97,\"\")","v":9},{"$f":"IF(DataInput!W97-DataInput!I97>0,DataInput!W97-DataInput!I97,\"\")","v":""},null,15,19.5,-9.5,0,0,{"$f":"ROUNDDOWN((IF(AA98>0,IFERROR(IF(AVERAGE(DataInput!Q97:Q98)>AVERAGE(AA98,AA97),ROUNDDOWN(((((AA97-Z97)+(AA98-Z98))/2)*(A98-A97))/27,0),IF(((((DataInput!Q98-Z98)+(DataInput!Q97-Z97))/2)*(A98-A97))/27+S97+T97>0,ROUNDDOWN(((((DataInput!Q98-Z98)+(DataInput!Q97-Z97))/2)*(A98-A97))/27+S97+T97,0),0)),0),0)*$X$5),1)","v":0},0,{"$f":"ROUNDDOWN((IF(AC98>0,IFERROR(IF(((((DataInput!Q97-AC97)+(DataInput!Q98-AC98))/2)*(A98-A97))/27+S97+T97>0,ROUNDDOWN(((((DataInput!Q97-AC97)+(DataInput!Q98-AC98))/2)*(A98-A97))/27+S97+T97,0),0),0),0)*$X$5),1)","v":0},{"$f":"DataInput!U97","v":16},{"$f":"DataInput!S97","v":4},5.6,10.4]
[{"$f":"IF(DataInput!A98<>\"\",DataInput!A98,\"\")","v":360},{"$f":"SUM(DataInput!C98,DataInput!Y98)+(DataInput!U98-DataInput!E98)","v":28},{"$f":"SUM(DataInput!D98,DataInput!Z98)","v":12},{"$f":"DataInput!U98","v":17},{"$f":"SUM(DataInput!F98,DataInput!AB98)","v":0},{"$f":"SUM(DataInput!G98,DataInput!AC98)","v":0},{"$f":"SUM(DataInput!H98,DataInput!AD98)","v":0},{"$f":"DataInput!I98","v":0},{"$f":"SUM(DataInput!J98,DataInput!AF98)","v":0},{"$f":"SUM(DataInput!K98,DataInput!AG98)","v":0},{"$f":"SUM(DataInput!L98,DataInput!AH98)","v":0},{"$f":"SUM(DataInput!M98,DataInput!AI98)","v":0},{"$f":"SUM(DataInput!N98,DataInput!AJ98)","v":0},{"$f":"SUM(DataInput!O98,DataInput!AK98)","v":0},{"$f":"DataInput!P98","v":0},null,12,{"$f":"DataInput!R98","v":7},{"$f":"DataInput!Y98","v":0},{"$f":"IF(DataInput!U98-DataInput!E98>0,DataInput!U98-DataInput!E98,\"\")","v":9},{"$f":"IF(DataInput!W98-DataInput!I98>0,DataInput!W98-DataInput!I98,\"\")","v":""},null,16,20.8,-8.8000000000000007,0,0,{"$f":"ROUNDDOWN((IF(AA99>0,IFERROR(IF(AVERAGE(DataInput!Q98:Q99)>AVERAGE(AA99,AA98),ROUNDDOWN(((((AA98-Z98)+(AA99-Z99))/2)*(A99-A98))/27,0),IF(((((DataInput!Q99-Z99)+(DataInput!Q98-Z98))/2)*(A99-A98))/27+S98+T98>0,ROUNDDOWN(((((DataInput!Q99-Z99)+(DataInput!Q98-Z98))/2)*(A99-A98))/27+S98+T98,0),0)),0),0)*$X$5),1)","v":0},0,{"$f":"ROUNDDOWN((IF(AC99>0,IFERROR(IF(((((DataInput!Q98-AC98)+(DataInput!Q99-AC99))/2)*(A99-A98))/27+S98+T98>0,ROUNDDOWN(((((DataInput!Q98-AC98)+(DataInput!Q99-AC99))/2)*(A99-A98))/27+S98+T98,0),0),0),0)*$X$5),1)","v":0},{"$f":"DataInput!U98","v":17},{"$f":"DataInput!S98","v":4},5.6,11.4]
[{"$f":"IF(DataInput!A99<>\"\",DataInput!A99,\"\")","v":365},{"$f":"SUM(DataInput!C99,DataInput!Y99)+(DataInput!U99-DataInput!E99)","v":32},{"$f":"SUM(DataInput!D99,DataInput!Z99)","v":15},{"$f":"DataInput!U99","v":17},{"$f":"SUM(DataInput!F99,DataInput!AB99)","v":0},{"$f":"SUM(DataInput!G99,DataInput!AC99)","v":0},{"$f":"SUM(DataInput!H99,DataInput!AD99)","v":0},{"$f":"DataInput!I99","v":0},{"$f":"SUM(DataInput!J99,DataInput!AF99)","v":0},{"$f":"SUM(DataInput!K99,DataInput!AG99)","v":0},{"$f":"SUM(DataInput!L99,DataInput!AH99)","v":0},{"$f":"SUM(DataInput!M99,DataInput!AI99)","v":0},{"$f":"SUM(DataInput!N99,DataInput!AJ99)","v":0},{"$f":"SUM(DataInput!O99,DataInput!AK99)","v":0},{"$f":"DataInput!P99","v":0},null,15,{"$f":"DataInput!R99","v":6},{"$f":"DataInput!Y99","v":0},{"$f":"IF(DataInput!U99-DataInput!E99>0,DataInput!U99-DataInput!E99,\"\")","v":9},{"$f":"IF(DataInput!W99-DataInput!I99>0,DataInput!W99-DataInput!I99,\"\")","v":""},null,15,19.5,-4.5,0,0,{"$f":"ROUNDDOWN((IF(AA100>0,IFERROR(IF(AVERAGE(DataInput!Q99:Q100)>AVERAGE(AA100,AA99),ROUNDDOWN(((((AA99-Z99)+(AA100-Z100))/2)*(A100-A99))/27,0),IF(((((DataInput!Q100-Z100)+(DataInput!Q99-Z99))/2)*(A100-A99))/27+S99+T99>0,ROUNDDOWN(((((DataInput!Q100-Z100)+(DataInput!Q99-Z99))/2)*(A100-A99))/27+S99+T99,0),0)),0),0)*$X$5),1)","v":0},0,{"$f":"ROUNDDOWN((IF(AC100>0,IFERROR(IF(((((DataInput!Q99-AC99)+(DataInput!Q100-AC100))/2)*(A100-A99))/27+S99+T99>0,ROUNDDOWN(((((DataInput!Q99-AC99)+(DataInput!Q100-AC100))/2)*(A100-A99))/27+S99+T99,0),0),0),0)*$X$5),1)","v":0},{"$f":"DataInput!U99","v":17},{"$f":"DataInput!S99","v":6},8.4,8.6]
[{"$f":"IF(DataInput!A100<>\"\",DataInput!A100,\"\")","v":370},{"$f":"SUM(DataInput!C100,DataInput!Y100)+(DataInput!U100-DataInput!E100)","v":26},{"$f":"SUM(DataInput!D100,DataInput!Z100)","v":13},{"$f":"DataInput!U100","v":13},{"$f":"SUM(DataInput!F100,DataInput!AB100)","v":0},{"$f":"SUM(DataInput!G100,DataInput!AC100)","v":0},{"$f":"SUM(DataInput!H100,DataInput!AD100)","v":0},{"$f":"DataInput!I100","v":0},{"$f":"SUM(DataInput!J100,DataInput!AF100)","v":0},{"$f":"SUM(DataInput!K100,DataInput!AG100)","v":0},{"$f":"SUM(DataInput!L100,DataInput!AH100)","v":0},{"$f":"SUM(DataInput!M100,DataInput!AI100)","v":0},{"$f":"SUM(DataInput!N100,DataInput!AJ100)","v":0},{"$f":"SUM(DataInput!O100,DataInput!AK100)","v":0},{"$f":"DataInput!P100","v":0},null,13,{"$f":"DataInput!R100","v":3},{"$f":"DataInput!Y100","v":0},{"$f":"IF(DataInput!U100-DataInput!E100>0,DataInput!U100-DataInput!E100,\"\")","v":6},{"$f":"IF(DataInput!W100-DataInput!I100>0,DataInput!W100-DataInput!I100,\"\")","v":""},null,9,11.7,1.3,0,0,{"$f":"ROUNDDOWN((IF(AA101>0,IFERROR(IF(AVERAGE(DataInput!Q100:Q101)>AVERAGE(AA101,AA100),ROUNDDOWN(((((AA100-Z100)+(AA101-Z101))/2)*(A101-A100))/27,0),IF(((((DataInput!Q101-Z101)+(DataInput!Q100-Z100))/2)*(A101-A100))/27+S100+T100>0,ROUNDDOWN(((((DataInput!Q101-Z101)+(DataInput!Q100-Z100))/2)*(A101-A100))/27+S100+T100,0),0)),0),0)*$X$5),1)","v":0},0,{"$f":"ROUNDDOWN((IF(AC101>0,IFERROR(IF(((((DataInput!Q100-AC100)+(DataInput!Q101-AC101))/2)*(A101-A100))/27+S100+T100>0,ROUNDDOWN(((((DataInput!Q100-AC100)+(DataInput!Q101-AC101))/2)*(A101-A100))/27+S100+T100,0),0),0),0)*$X$5),1)","v":0},{"$f":"DataInput!U100","v":13},{"$f":"DataInput!S100","v":6},8.4,4.5999999999999996]
[{"$f":"IF(DataInput!A101<>\"\",DataInput!A101,\"\")","v":374},{"$f":"SUM(DataInput!C101,DataInput!Y101)+(DataInput!U101-DataInput!E101)","v":6},{"$f":"SUM(DataInput!D101,DataInput!Z101)","v":3},{"$f":"DataInput!U101","v":3},{"$f":"SUM(DataInput!F101,DataInput!AB101)","v":0},{"$f":"SUM(DataInput!G101,DataInput!AC101)","v":0},{"$f":"SUM(DataInput!H101,DataInput!AD101)","v":0},{"$f":"DataInput!I101","v":0},{"$f":"SUM(DataInput!J101,DataInput!AF101)","v":0},{"$f":"SUM(DataInput!K101,DataInput!AG101)","v":0},{"$f":"SUM(DataInput!L101,DataInput!AH101)","v":0},{"$f":"SUM(DataInput!M101,DataInput!AI101)","v":0},{"$f":"SUM(DataInput!N101,DataInput!AJ101)","v":0},{"$f":"SUM(DataInput!O101,DataInput!AK101)","v":0},{"$f":"DataInput!P101","v":0},null,3,{"$f":"DataInput!R101","v":1},{"$f":"DataInput!Y101","v":0},{"$f":"IF(DataInput!U101-DataInput!E101>0,DataInput!U101-DataInput!E101,\"\")","v":1},{"$f":"IF(DataInput!W101-DataInput!I101>0,DataInput!W101-DataInput!I101,\"\")","v":""},null,2,2.6,0.4,0,0,{"$f":"ROUNDDOWN((IF(AA102>0,IFERROR(IF(AVERAGE(DataInput!Q101:Q102)>AVERAGE(AA102,AA101),ROUNDDOWN(((((AA101-Z101)+(AA102-Z102))/2)*(A102-A101))/27,0),IF(((((DataInput!Q102-Z102)+(DataInput!Q101-Z101))/2)*(A102-A101))/27+S101+T101>0,ROUNDDOWN(((((DataInput!Q102-Z102)+(DataInput!Q101-Z101))/2)*(A102-A101))/27+S101+T101,0),0)),0),0)*$X$5),1)","v":0},0,{"$f":"ROUNDDOWN((IF(AC102>0,IFERROR(IF(((((DataInput!Q101-AC101)+(DataInput!Q102-AC102))/2)*(A102-A101))/27+S101+T101>0,ROUNDDOWN(((((DataInput!Q101-AC101)+(DataInput!Q102-AC102))/2)*(A102-A101))/27+S101+T101,0),0),0),0)*$X$5),1)","v":0},{"$f":"DataInput!U101","v":3},{"$f":"DataInput!S101","v":1},1.4,1.6]
[{"$f":"IF(DataInput!A102<>\"\",DataInput!A102,\"\")","v":375},{"$f":"SUM(DataInput!C102,DataInput!Y102)+(DataInput!U102-DataInput!E102)","v":24},{"$f":"SUM(DataInput!D102,DataInput!Z102)","v":11},{"$f":"DataInput!U102","v":13},{"$f":"SUM(DataInput!F102,DataInput!AB102)","v":0},{"$f":"SUM(DataInput!G102,DataInput!AC102)","v":0},{"$f":"SUM(DataInput!H102,DataInput!AD102)","v":0},{"$f":"DataInput!I102","v":0},{"$f":"SUM(DataInput!J102,DataInput!AF102)","v":0},{"$f":"SUM(DataInput!K102,DataInput!AG102)","v":0},{"$f":"SUM(DataInput!L102,DataInput!AH102)","v":0},{"$f":"SUM(DataInput!M102,DataInput!AI102)","v":0},{"$f":"SUM(DataInput!N102,DataInput!AJ102)","v":0},{"$f":"SUM(DataInput!O102,DataInput!AK102)","v":0},{"$f":"DataInput!P102","v":0},null,11,{"$f":"DataInput!R102","v":2},{"$f":"DataInput!Y102","v":0},{"$f":"IF(DataInput!U102-DataInput!E102>0,DataInput!U102-DataInput!E102,\"\")","v":5},{"$f":"IF(DataInput!W102-DataInput!I102>0,DataInput!W102-DataInput!I102,\"\")","v":""},null,7,9.1,1.9,0,0,{"$f":"ROUNDDOWN((IF(AA103>0,IFERROR(IF(AVERAGE(DataInput!Q102:Q103)>AVERAGE(AA103,AA102),ROUNDDOWN(((((AA102-Z102)+(AA103-Z103))/2)*(A103-A102))/27,0),IF(((((DataInput!Q103-Z103)+(DataInput!Q102-Z102))/2)*(A103-A102))/27+S102+T102>0,ROUNDDOWN(((((DataInput!Q103-Z103)+(DataInput!Q102-Z102))/2)*(A103-A102))/27+S102+T102,0),0)),0),0)*$X$5),1)","v":0},0,{"$f":"ROUNDDOWN((IF(AC103>0,IFERROR(IF(((((DataInput!Q102-AC102)+(DataInput!Q103-AC103))/2)*(A103-A102))/27+S102+T102>0,ROUNDDOWN(((((DataInput!Q102-AC102)+(DataInput!Q103-AC103))/2)*(A103-A102))/27+S102+T102,0),0),0),0)*$X$5),1)","v":0},{"$f":"DataInput!U102","v":13},{"$f":"DataInput!S102","v":6},8.4,4.5999999999999996]
[{"$f":"IF(DataInput!A103<>\"\",DataInput!A103,\"\")","v":380},{"$f":"SUM(DataInput!C103,DataInput!Y103)+(DataInput!U103-DataInput!E103)","v":15},{"$f":"SUM(DataInput!D103,DataInput!Z103)","v":6},{"$f":"DataInput!U103","v":9},{"$f":"SUM(DataInput!F103,DataInput!AB103)","v":0},{"$f":"SUM(DataInput!G103,DataInput!AC103)","v":0},{"$f":"SUM(DataInput!H103,DataInput!AD103)","v":0},{"$f":"DataInput!I103","v":0},{"$f":"SUM(DataInput!J103,DataInput!AF103)","v":0},{"$f":"SUM(DataInput!K103,DataInput!AG103)","v":0},{"$f":"SUM(DataInput!L103,DataInput!AH103)","v":0},{"$f":"SUM(DataInput!M103,DataInput!AI103)","v":0},{"$f":"SUM(DataInput!N103,DataInput!AJ103)","v":0},{"$f":"SUM(DataInput!O103,DataInput!AK103)","v":0},{"$f":"DataInput!P103","v":0},null,6,{"$f":"DataInput!R103","v":0},{"$f":"DataInput!Y103","v":0},{"$f":"IF(DataInput!U103-DataInput!E103>0,DataInput!U103-DataInput!E103,\"\")","v":3},{"$f":"IF(DataInput!W103-DataInput!I103>0,DataInput!W103-DataInput!I103,\"\")","v":""},null,3,3.9,2.1,0,0,{"$f":"ROUNDDOWN((IF(AA104>0,IFERROR(IF(AVERAGE(DataInput!Q103:Q104)>AVERAGE(AA104,AA103),ROUNDDOWN(((((AA103-Z103)+(AA104-Z104))/2)*(A104-A103))/27,0),IF(((((DataInput!Q104-Z104)+(DataInput!Q103-Z103))/2)*(A104-A103))/27+S103+T103>0,ROUNDDOWN(((((DataInput!Q104-Z104)+(DataInput!Q103-Z103))/2)*(A104-A103))/27+S103+T103,0),0)),0),0)*$X$5),1)","v":0},0,{"$f":"ROUNDDOWN((IF(AC104>0,IFERROR(IF(((((DataInput!Q103-AC103)+(DataInput!Q104-AC104))/2)*(A104-A103))/27+S103+T103>0,ROUNDDOWN(((((DataInput!Q103-AC103)+(DataInput!Q104-AC104))/2)*(A104-A103))/27+S103+T103,0),0),0),0)*$X$5),1)","v":0},{"$f":"DataInput!U103","v":9},{"$f":"DataInput!S103","v":5},7,2]
[{"$f":"IF(DataInput!A104<>\"\",DataInput!A104,\"\")","v":385},{"$f":"SUM(DataInput!C104,DataInput!Y104)+(DataInput!U104-DataInput!E104)","v":2},{"$f":"SUM(DataInput!D104,DataInput!Z104)","v":2},{"$f":"DataInput!U104","v":0},{"$f":"SUM(DataInput!F104,DataInput!AB104)","v":0},{"$f":"SUM(DataInput!G104,DataInput!AC104)","v":0},{"$f":"SUM(DataInput!H104,DataInput!AD104)","v":0},{"$f":"DataInput!I104","v":0},{"$f":"SUM(DataInput!J104,DataInput!AF104)","v":0},{"$f":"SUM(DataInput!K104,DataInput!AG104)","v":0},{"$f":"SUM(DataInput!L104,DataInput!AH104)","v":0},{"$f":"SUM(DataInput!M104,DataInput!AI104)","v":0},{"$f":"SUM(DataInput!N104,DataInput!AJ104)","v":0},{"$f":"SUM(DataInput!O104,DataInput!AK104)","v":0},{"$f":"DataInput!P104","v":0},null,2,{"$f":"DataInput!R104","v":0},{"$f":"DataInput!Y104","v":0},{"$f":"IF(DataInput!U104-DataInput!E104>0,DataInput!U104-DataInput!E104,\"\")","v":""},{"$f":"IF(DataInput!W104-DataInput!I104>0,DataInput!W104-DataInput!I104,\"\")","v":""},null,0,0,2,0,0,{"$f":"ROUNDDOWN((IF(AA105>0,IFERROR(IF(AVERAGE(DataInput!Q104:Q105)>AVERAGE(AA105,AA104),ROUNDDOWN(((((AA104-Z104)+(AA105-Z105))/2)*(A105-A104))/27,0),IF(((((DataInput!Q105-Z105)+(DataInput!Q104-Z104))/2)*(A105-A104))/27+S104+T104>0,ROUNDDOWN(((((DataInput!Q105-Z105)+(DataInput!Q104-Z104))/2)*(A105-A104))/27+S104+T104,0),0)),0),0)*$X$5),1)","v":0},0,{"$f":"ROUNDDOWN((IF(AC105>0,IFERROR(IF(((((DataInput!Q104-AC104)+(DataInput!Q105-AC105))/2)*(A105-A104))/27+S104+T104>0,ROUNDDOWN(((((DataInput!Q104-AC104)+(DataInput!Q105-AC105))/2)*(A105-A104))/27+S104+T104,0),0),0),0)*$X$5),1)","v":0},{"$f":"DataInput!U104","v":0},{"$f":"DataInput!S104","v":2},2.8,-2.8]
[{"$f":"IF(DataInput!A105<>\"\",DataInput!A105,\"\")","v":390}]
[]
[{"$f":"IF(DataInput!A107<>\"\",DataInput!A107,\"\")","v":"SIDEWALK"}]
[{"$f":"IF(DataInput!A108<>\"\",DataInput!A108,\"\")","v":830},{"$f":"SUM(DataInput!C108,DataInput!Y108)+(DataInput!U108-DataInput!E108)","v":9},{"$f":"SUM(DataInput!D108,DataInput!Z108)","v":0},{"$f":"DataInput!U108","v":9},{"$f":"SUM(DataInput!F108,DataInput!AB108)","v":0},{"$f":"SUM(DataInput!G108,DataInput!AC108)","v":0},{"$f":"SUM(DataInput!H108,DataInput!AD108)","v":0},{"$f":"DataInput!I108","v":0},{"$f":"SUM(DataInput!J108,DataInput!AF108)","v":0},{"$f":"SUM(DataInput!K108,DataInput!AG108)","v":0},{"$f":"SUM(DataInput!L108,DataInput!AH108)","v":0},{"$f":"SUM(DataInput!M108,DataInput!AI108)","v":0},{"$f":"SUM(DataInput!N108,DataInput!AJ108)","v":0},{"$f":"SUM(DataInput!O108,DataInput!AK108)","v":0},{"$f":"DataInput!P108","v":0},null,{"$f":"SUM(C108,E108:G108,I108:L108,O108:P108)","v":0},{"$f":"DataInput!R108","v":7},{"$f":"DataInput!Y108","v":0},{"$f":"IF(DataInput!U108-DataInput!E108>0,DataInput!U108-DataInput!E108,\"\")","v":9},{"$f":"IF(DataInput!W108-DataInput!I108>0,DataInput!W108-DataInput!I108,\"\")","v":""},null,{"$f":"SUM(R108:V108)","v":16},{"$f":"ROUNDUP(($W108*$X$5),1)","v":20.8},{"$f":"ROUNDUP(SUM(Q108-X108),1)","v":-20.8},null,null,{"$f":"ROUNDDOWN((IF(AA109>0,IFERROR(IF(AVERAGE(DataInput!Q108:Q109)>AVERAGE(AA109,AA108),ROUNDDOWN(((((AA108-Z108)+(AA109-Z109))/2)*(A109-A108))/27,0),IF(((((DataInput!Q109-Z109)+(DataInput!Q108-Z108))/2)*(A109-A108))/27+S108+T108>0,ROUNDDOWN(((((DataInput!Q109-Z109)+(DataInput!Q108-Z108))/2)*(A109-A108))/27+S108+T108,0),0)),0),0)*$X$5),1)","v":0},null,{"$f":"ROUNDDOWN((IF(AC109>0,IFERROR(IF(((((DataInput!Q108-AC108)+(DataInput!Q109-AC109))/2)*(A109-A108))/27+S108+T108>0,ROUNDDOWN(((((DataInput!Q108-AC108)+(DataInput!Q109-AC109))/2)*(A109-A108))/27+S108+T108,0),0),0),0)*$X$5),1)","v":0},{"$f":"DataInput!U108","v":9},{"$f":"DataInput!S108","v":0},{"$f":"ROUNDUP((AF108*$AG$5),1)","v":0},{"$f":"ROUNDUP((AE108-AG108),1)","v":9}]
[{"$f":"IF(DataInput!A109<>\"\",DataInput!A109,\"\")","v":840},{"$f":"SUM(DataInput!C109,DataInput!Y109)+(DataInput!U109-DataInput!E109)","v":15},{"$f":"SUM(DataInput!D109,DataInput!Z109)","v":0},{"$f":"DataInput!U109","v":15},{"$f":"SUM(DataInput!F109,DataInput!AB109)","v":0},{"$f":"SUM(DataInput!G109,DataInput!AC109)","v":0},{"$f":"SUM(DataInput!H109,DataInput!AD109)","v":0},{"$f":"DataInput!I109","v":0},{"$f":"SUM(DataInput!J109,DataInput!AF109)","v":0},{"$f":"SUM(DataInput!K109,DataInput!AG109)","v":0},{"$f":"SUM(DataInput!L109,DataInput!AH109)","v":0},{"$f":"SUM(DataInput!M109,DataInput!AI109)","v":0},{"$f":"SUM(DataInput!N109,DataInput!AJ109)","v":0},{"$f":"SUM(DataInput!O109,DataInput!AK109)","v":0},{"$f":"DataInput!P109","v":0},null,{"$f":"SUM(C109,E109:G109,I109:L109,O109:P109)","v":0},{"$f":"DataInput!R109","v":16},{"$f":"DataInput!Y109","v":0},{"$f":"IF(DataInput!U109-DataInput!E109>0,DataInput!U109-DataInput!E109,\"\")","v":15},{"$f":"IF(DataInput!W109-DataInput!I109>0,DataInput!W109-DataInput!I109,\"\")","v":""},null,{"$f":"SUM(R109:V109)","v":31},{"$f":"ROUNDUP(($W109*$X$5),1)","v":40.299999999999997},{"$f":"ROUNDUP(SUM(Q109-X109),1)","v":-40.299999999999997},{"$f":"Z108","v":0},{"$f":"AA108","v":0},{"$f":"ROUNDDOWN((IF(AA110>0,IFERROR(IF(AVERAGE(DataInput!Q109:Q110)>AVERAGE(AA110,AA109),ROUNDDOWN(((((AA109-Z109)+(AA110-Z110))/2)*(A110-A109))/27,0),IF(((((DataInput!Q110-Z110)+(DataInput!Q109-Z109))/2)*(A110-A109))/27+S109+T109>0,ROUNDDOWN(((((DataInput!Q110-Z110)+(DataInput!Q109-Z109))/2)*(A110-A109))/27+S109+T109,0),0)),0),0)*$X$5),1)","v":0},{"$f":"AC108","v":0},{"$f":"ROUNDDOWN((IF(AC110>0,IFERROR(IF(((((DataInput!Q109-AC109)+(DataInput!Q110-AC110))/2)*(A110-A109))/27+S109+T109>0,ROUNDDOWN(((((DataInput!Q109-AC109)+(DataInput!Q110-AC110))/2)*(A110-A109))/27+S109+T109,0),0),0),0)*$X$5),1)","v":0},{"$f":"DataInput!U109","v":15},{"$f":"DataInput!S109","v":3},{"$f":"ROUNDUP((AF109*$AG$5),1)","v":4.2},{"$f":"ROUNDUP((AE109-AG109),1)","v":10.8}]
[{"$f":"IF(DataInput!A110<>\"\",DataInput!A110,\"\")","v":850},{"$f":"SUM(DataInput!C110,DataInput!Y110)+(DataInput!U110-DataInput!E110)","v":18},{"$f":"SUM(DataInput!D110,DataInput!Z110)","v":0},{"$f":"DataInput!U110","v":18},{"$f":"SUM(DataInput!F110,DataInput!AB110)","v":0},{"$f":"SUM(DataInput!G110,DataInput!AC110)","v":0},{"$f":"SUM(DataInput!H110,DataInput!AD110)","v":0},{"$f":"DataInput!I110","v":0},{"$f":"SUM(DataInput!J110,DataInput!AF110)","v":0},{"$f":"SUM(DataInput!K110,DataInput!AG110)","v":0},{"$f":"SUM(DataInput!L110,DataInput!AH110)","v":0},{"$f":"SUM(DataInput!M110,DataInput!AI110)","v":0},{"$f":"SUM(DataInput!N110,DataInput!AJ110)","v":0},{"$f":"SUM(DataInput!O110,DataInput!AK110)","v":0},{"$f":"DataInput!P110","v":0},null,0,{"$f":"DataInput!R110","v":18},{"$f":"DataInput!Y110","v":0},{"$f":"IF(DataInput!U110-DataInput!E110>0,DataInput!U110-DataInput!E110,\"\")","v":17},{"$f":"IF(DataInput!W110-DataInput!I110>0,DataInput!W110-DataInput!I110,\"\")","v":""},null,35,45.5,-45.5,{"$f":"Z109","v":0},{"$f":"AA109","v":0},{"$f":"ROUNDDOWN((IF(AA111>0,IFERROR(IF(AVERAGE(DataInput!Q110:Q111)>AVERAGE(AA111,AA110),ROUNDDOWN(((((AA110-Z110)+(AA111-Z111))/2)*(A111-A110))/27,0),IF(((((DataInput!Q111-Z111)+(DataInput!Q110-Z110))/2)*(A111-A110))/27+S110+T110>0,ROUNDDOWN(((((DataInput!Q111-Z111)+(DataInput!Q110-Z110))/2)*(A111-A110))/27+S110+T110,0),0)),0),0)*$X$5),1)","v":0},{"$f":"AC109","v":0},{"$f":"ROUNDDOWN((IF(AC111>0,IFERROR(IF(((((DataInput!Q110-AC110)+(DataInput!Q111-AC111))/2)*(A111-A110))/27+S110+T110>0,ROUNDDOWN(((((DataInput!Q110-AC110)+(DataInput!Q111-AC111))/2)*(A111-A110))/27+S110+T110,0),0),0),0)*$X$5),1)","v":0},{"$f":"DataInput!U110","v":18},{"$f":"DataInput!S110","v":6},8.4,9.6]
[{"$f":"IF(DataInput!A111<>\"\",DataInput!A111,\"\")","v":860},{"$f":"SUM(DataInput!C111,DataInput!Y111)+(DataInput!U111-DataInput!E111)","v":17},{"$f":"SUM(DataInput!D111,DataInput!Z111)","v":0},{"$f":"DataInput!U111","v":17},{"$f":"SUM(DataInput!F111,DataInput!AB111)","v":0},{"$f":"SUM(DataInput!G111,DataInput!AC111)","v":0},{"$f":"SUM(DataInput!H111,DataInput!AD111)","v":0},{"$f":"DataInput!I111","v":0},{"$f":"SUM(DataInput!J111,DataInput!AF111)","v":0},{"$f":"SUM(DataInput!K111,DataInput!AG111)","v":0},{"$f":"SUM(DataInput!L111,DataInput!AH111)","v":0},{"$f":"SUM(DataInput!M111,DataInput!AI111)","v":0},{"$f":"SUM(DataInput!N111,DataInput!AJ111)","v":0},{"$f":"SUM(DataInput!O111,DataInput!AK111)","v":0},{"$f":"DataInput!P111","v":0},null,0,{"$f":"DataInput!R111","v":15},{"$f":"DataInput!Y111","v":0},{"$f":"IF(DataInput!U111-DataInput!E111>0,DataInput!U111-DataInput!E111,\"\")","v":16},{"$f":"IF(DataInput!W111-DataInput!I111>0,DataInput!W111-DataInput!I111,\"\")","v":""},null,31,40.299999999999997,-40.299999999999997,0,0,{"$f":"ROUNDDOWN((IF(AA112>0,IFERROR(IF(AVERAGE(DataInput!Q111:Q112)>AVERAGE(AA112,AA111),ROUNDDOWN(((((AA111-Z111)+(AA112-Z112))/2)*(A112-A111))/27,0),IF(((((DataInput!Q112-Z112)+(DataInput!Q111-Z111))/2)*(A112-A111))/27+S111+T111>0,ROUNDDOWN(((((DataInput!Q112-Z112)+(DataInput!Q111-Z111))/2)*(A112-A111))/27+S111+T111,0),0)),0),0)*$X$5),1)","v":0},0,{"$f":"ROUNDDOWN((IF(AC112>0,IFERROR(IF(((((DataInput!Q111-AC111)+(DataInput!Q112-AC112))/2)*(A112-A111))/27+S111+T111>0,ROUNDDOWN(((((DataInput!Q111-AC111)+(DataInput!Q112-AC112))/2)*(A112-A111))/27+S111+T111,0),0),0),0)*$X$5),1)","v":0},{"$f":"DataInput!U111","v":17},{"$f":"DataInput!S111","v":6},8.4,8.6]
[{"$f":"IF(DataInput!A112<>\"\",DataInput!A112,\"\")","v":870},{"$f":"SUM(DataInput!C112,DataInput!Y112)+(DataInput!U112-DataInput!E112)","v":17},{"$f":"SUM(DataInput!D112,DataInput!Z112)","v":0},{"$f":"DataInput!U112","v":17},{"$f":"SUM(DataInput!F112,DataInput!AB112)","v":0},{"$f":"SUM(DataInput!G112,DataInput!AC112)","v":0},{"$f":"SUM(DataInput!H112,DataInput!AD112)","v":0},{"$f":"DataInput!I112","v":0},{"$f":"SUM(DataInput!J112,DataInput!AF112)","v":0},{"$f":"SUM(DataInput!K112,DataInput!AG112)","v":0},{"$f":"SUM(DataInput!L112,DataInput!AH112)","v":0},{"$f":"SUM(DataInput!M112,DataInput!AI112)","v":0},{"$f":"SUM(DataInput!N112,DataInput!AJ112)","v":0},{"$f":"SUM(DataInput!O112,DataInput!AK112)","v":0},{"$f":"DataInput!P112","v":0},null,0,{"$f":"DataInput!R112","v":11},{"$f":"DataInput!Y112","v":0},{"$f":"IF(DataInput!U112-DataInput!E112>0,DataInput!U112-DataInput!E112,\"\")","v":16},{"$f":"IF(DataInput!W112-DataInput!I112>0,DataInput!W112-DataInput!I112,\"\")","v":""},null,27,35.1,-35.1,0,0,{"$f":"ROUNDDOWN((IF(AA113>0,IFERROR(IF(AVERAGE(DataInput!Q112:Q113)>AVERAGE(AA113,AA112),ROUNDDOWN(((((AA112-Z112)+(AA113-Z113))/2)*(A113-A112))/27,0),IF(((((DataInput!Q113-Z113)+(DataInput!Q112-Z112))/2)*(A113-A112))/27+S112+T112>0,ROUNDDOWN(((((DataInput!Q113-Z113)+(DataInput!Q112-Z112))/2)*(A113-A112))/27+S112+T112,0),0)),0),0)*$X$5),1)","v":0},0,{"$f":"ROUNDDOWN((IF(AC113>0,IFERROR(IF(((((DataInput!Q112-AC112)+(DataInput!Q113-AC113))/2)*(A113-A112))/27+S112+T112>0,ROUNDDOWN(((((DataInput!Q112-AC112)+(DataInput!Q113-AC113))/2)*(A113-A112))/27+S112+T112,0),0),0),0)*$X$5),1)","v":0},{"$f":"DataInput!U112","v":17},{"$f":"DataInput!S112","v":5},7,10]
[{"$f":"IF(DataInput!A113<>\"\",DataInput!A113,\"\")","v":880},{"$f":"SUM(DataInput!C113,DataInput!Y113)+(DataInput!U113-DataInput!E113)","v":16},{"$f":"SUM(DataInput!D113,DataInput!Z113)","v":0},{"$f":"DataInput!U113","v":16},{"$f":"SUM(DataInput!F113,DataInput!AB113)","v":0},{"$f":"SUM(DataInput!G113,DataInput!AC113)","v":0},{"$f":"SUM(DataInput!H113,DataInput!AD113)","v":0},{"$f":"DataInput!I113","v":0},{"$f":"SUM(DataInput!J113,DataInput!AF113)","v":0},{"$f":"SUM(DataInput!K113,DataInput!AG113)","v":0},{"$f":"SUM(DataInput!L113,DataInput!AH113)","v":0},{"$f":"SUM(DataInput!M113,DataInput!AI113)","v":0},{"$f":"SUM(DataInput!N113,DataInput!AJ113)","v":0},{"$f":"SUM(DataInput!O113,DataInput!AK113)","v":0},{"$f":"DataInput!P113","v":0},null,0,{"$f":"DataInput!R113","v":9},{"$f":"DataInput!Y113","v":0},{"$f":"IF(DataInput!U113-DataInput!E113>0,DataInput!U113-DataInput!E113,\"\")","v":15},{"$f":"IF(DataInput!W113-DataInput!I113>0,DataInput!W113-DataInput!I113,\"\")","v":""},null,24,31.2,-31.2,0,0,{"$f":"ROUNDDOWN((IF(AA114>0,IFERROR(IF(AVERAGE(DataInput!Q113:Q114)>AVERAGE(AA114,AA113),ROUNDDOWN(((((AA113-Z113)+(AA114-Z114))/2)*(A114-A113))/27,0),IF(((((DataInput!Q114-Z114)+(DataInput!Q113-Z113))/2)*(A114-A113))/27+S113+T113>0,ROUNDDOWN(((((DataInput!Q114-Z114)+(DataInput!Q113-Z113))/2)*(A114-A113))/27+S113+T113,0),0)),0),0)*$X$5),1)","v":0},0,{"$f":"ROUNDDOWN((IF(AC114>0,IFERROR(IF(((((DataInput!Q113-AC113)+(DataInput!Q114-AC114))/2)*(A114-A113))/27+S113+T113>0,ROUNDDOWN(((((DataInput!Q113-AC113)+(DataInput!Q114-AC114))/2)*(A114-A113))/27+S113+T113,0),0),0),0)*$X$5),1)","v":0},{"$f":"DataInput!U113","v":16},{"$f":"DataInput!S113","v":5},7,9]
[{"$f":"IF(DataInput!A114<>\"\",DataInput!A114,\"\")","v":890},{"$f":"SUM(DataInput!C114,DataInput!Y114)+(DataInput!U114-DataInput!E114)","v":15},{"$f":"SUM(DataInput!D114,DataInput!Z114)","v":0},{"$f":"DataInput!U114","v":15},{"$f":"SUM(DataInput!F114,DataInput!AB114)","v":0},{"$f":"SUM(DataInput!G114,DataInput!AC114)","v":0},{"$f":"SUM(DataInput!H114,DataInput!AD114)","v":0},{"$f":"DataInput!I114","v":0},{"$f":"SUM(DataInput!J114,DataInput!AF114)","v":0},{"$f":"SUM(DataInput!K114,DataInput!AG114)","v":0},{"$f":"SUM(DataInput!L114,DataInput!AH114)","v":0},{"$f":"SUM(DataInput!M114,DataInput!AI114)","v":0},{"$f":"SUM(DataInput!N114,DataInput!AJ114)","v":0},{"$f":"SUM(DataInput!O114,DataInput!AK114)","v":0},{"$f":"DataInput!P114","v":0},null,0,{"$f":"DataInput!R114","v":7},{"$f":"DataInput!Y114","v":0},{"$f":"IF(DataInput!U114-DataInput!E114>0,DataInput!U114-DataInput!E114,\"\")","v":14},{"$f":"IF(DataInput!W114-DataInput!I114>0,DataInput!W114-DataInput!I114,\"\")","v":""},null,21,27.3,-27.3,0,0,{"$f":"ROUNDDOWN((IF(AA115>0,IFERROR(IF(AVERAGE(DataInput!Q114:Q115)>AVERAGE(AA115,AA114),ROUNDDOWN(((((AA114-Z114)+(AA115-Z115))/2)*(A115-A114))/27,0),IF(((((DataInput!Q115-Z115)+(DataInput!Q114-Z114))/2)*(A115-A114))/27+S114+T114>0,ROUNDDOWN(((((DataInput!Q115-Z115)+(DataInput!Q114-Z114))/2)*(A115-A114))/27+S114+T114,0),0)),0),0)*$X$5),1)","v":0},0,{"$f":"ROUNDDOWN((IF(AC115>0,IFERROR(IF(((((DataInput!Q114-AC114)+(DataInput!Q115-AC115))/2)*(A115-A114))/27+S114+T114>0,ROUNDDOWN(((((DataInput!Q114-AC114)+(DataInput!Q115-AC115))/2)*(A115-A114))/27+S114+T114,0),0),0),0)*$X$5),1)","v":0},{"$f":"DataInput!U114","v":15},{"$f":"DataInput!S114","v":4},5.6,9.4]
[{"$f":"IF(DataInput!A115<>\"\",DataInput!A115,\"\")","v":900},{"$f":"SUM(DataInput!C115,DataInput!Y115)+(DataInput!U115-DataInput!E115)","v":14},{"$f":"SUM(DataInput!D115,DataInput!Z115)","v":0},{"$f":"DataInput!U115","v":14},{"$f":"SUM(DataInput!F115,DataInput!AB115)","v":0},{"$f":"SUM(DataInput!G115,DataInput!AC115)","v":0},{"$f":"SUM(DataInput!H115,DataInput!AD115)","v":0},{"$f":"DataInput!I115","v":0},{"$f":"SUM(DataInput!J115,DataInput!AF115)","v":0},{"$f":"SUM(DataInput!K115,DataInput!AG115)","v":0},{"$f":"SUM(DataInput!L115,DataInput!AH115)","v":0},{"$f":"SUM(DataInput!M115,DataInput!AI115)","v":0},{"$f":"SUM(DataInput!N115,DataInput!AJ115)","v":0},{"$f":"SUM(DataInput!O115,DataInput!AK115)","v":0},{"$f":"DataInput!P115","v":0},null,0,{"$f":"DataInput!R115","v":6},{"$f":"DataInput!Y115","v":0},{"$f":"IF(DataInput!U115-DataInput!E115>0,DataInput!U115-DataInput!E115,\"\")","v":12},{"$f":"IF(DataInput!W115-DataInput!I115>0,DataInput!W115-DataInput!I115,\"\")","v":""},null,18,23.4,-23.4,0,0,{"$f":"ROUNDDOWN((IF(AA116>0,IFERROR(IF(AVERAGE(DataInput!Q115:Q116)>AVERAGE(AA116,AA115),ROUNDDOWN(((((AA115-Z115)+(AA116-Z116))/2)*(A116-A115))/27,0),IF(((((DataInput!Q116-Z116)+(DataInput!Q115-Z115))/2)*(A116-A115))/27+S115+T115>0,ROUNDDOWN(((((DataInput!Q116-Z116)+(DataInput!Q115-Z115))/2)*(A116-A115))/27+S115+T115,0),0)),0),0)*$X$5),1)","v":0},0,{"$f":"ROUNDDOWN((IF(AC116>0,IFERROR(IF(((((DataInput!Q115-AC115)+(DataInput!Q116-AC116))/2)*(A116-A115))/27+S115+T115>0,ROUNDDOWN(((((DataInput!Q115-AC115)+(DataInput!Q116-AC116))/2)*(A116-A115))/27+S115+T115,0),0),0),0)*$X$5),1)","v":0},{"$f":"DataInput!U115","v":14},{"$f":"DataInput!S115","v":4},5.6,8.4]
[{"$f":"IF(DataInput!A116<>\"\",DataInput!A116,\"\")","v":910},{"$f":"SUM(DataInput!C116,DataInput!Y116)+(DataInput!U116-DataInput!E116)","v":13},{"$f":"SUM(DataInput!D116,DataInput!Z116)","v":0},{"$f":"DataInput!U116","v":13},{"$f":"SUM(DataInput!F116,DataInput!AB116)","v":0},{"$f":"SUM(DataInput!G116,DataInput!AC116)","v":0},{"$f":"SUM(DataInput!H116,DataInput!AD116)","v":0},{"$f":"DataInput!I116","v":0},{"$f":"SUM(DataInput!J116,DataInput!AF116)","v":0},{"$f":"SUM(DataInput!K116,DataInput!AG116)","v":0},{"$f":"SUM(DataInput!L116,DataInput!AH116)","v":0},{"$f":"SUM(DataInput!M116,DataInput!AI116)","v":0},{"$f":"SUM(DataInput!N116,DataInput!AJ116)","v":0},{"$f":"SUM(DataInput!O116,DataInput!AK116)","v":0},{"$f":"DataInput!P116","v":0},null,0,{"$f":"DataInput!R116","v":4},{"$f":"DataInput!Y116","v":0},{"$f":"IF(DataInput!U116-DataInput!E116>0,DataInput!U116-DataInput!E116,\"\")","v":11},{"$f":"IF(DataInput!W116-DataInput!I116>0,DataInput!W116-DataInput!I116,\"\")","v":""},null,15,19.5,-19.5,0,0,{"$f":"ROUNDDOWN((IF(AA117>0,IFERROR(IF(AVERAGE(DataInput!Q116:Q117)>AVERAGE(AA117,AA116),ROUNDDOWN(((((AA116-Z116)+(AA117-Z117))/2)*(A117-A116))/27,0),IF(((((DataInput!Q117-Z117)+(DataInput!Q116-Z116))/2)*(A117-A116))/27+S116+T116>0,ROUNDDOWN(((((DataInput!Q117-Z117)+(DataInput!Q116-Z116))/2)*(A117-A116))/27+S116+T116,0),0)),0),0)*$X$5),1)","v":0},0,{"$f":"ROUNDDOWN((IF(AC117>0,IFERROR(IF(((((DataInput!Q116-AC116)+(DataInput!Q117-AC117))/2)*(A117-A116))/27+S116+T116>0,ROUNDDOWN(((((DataInput!Q116-AC116)+(DataInput!Q117-AC117))/2)*(A117-A116))/27+S116+T116,0),0),0),0)*$X$5),1)","v":0},{"$f":"DataInput!U116","v":13},{"$f":"DataInput!S116","v":3},4.2,8.8000000000000007]
[{"$f":"IF(DataInput!A117<>\"\",DataInput!A117,\"\")","v":920},{"$f":"SUM(DataInput!C117,DataInput!Y117)+(DataInput!U117-DataInput!E117)","v":10},{"$f":"SUM(DataInput!D117,DataInput!Z117)","v":0},{"$f":"DataInput!U117","v":10},{"$f":"SUM(DataInput!F117,DataInput!AB117)","v":0},{"$f":"SUM(DataInput!G117,DataInput!AC117)","v":0},{"$f":"SUM(DataInput!H117,DataInput!AD117)","v":0},{"$f":"DataInput!I117","v":0},{"$f":"SUM(DataInput!J117,DataInput!AF117)","v":0},{"$f":"SUM(DataInput!K117,DataInput!AG117)","v":0},{"$f":"SUM(DataInput!L117,DataInput!AH117)","v":0},{"$f":"SUM(DataInput!M117,DataInput!AI117)","v":0},{"$f":"SUM(DataInput!N117,DataInput!AJ117)","v":0},{"$f":"SUM(DataInput!O117,DataInput!AK117)","v":0},{"$f":"DataInput!P117","v":0},null,0,{"$f":"DataInput!R117","v":3},{"$f":"DataInput!Y117","v":0},{"$f":"IF(DataInput!U117-DataInput!E117>0,DataInput!U117-DataInput!E117,\"\")","v":8},{"$f":"IF(DataInput!W117-DataInput!I117>0,DataInput!W117-DataInput!I117,\"\")","v":""},null,11,14.3,-14.3,0,0,{"$f":"ROUNDDOWN((IF(AA118>0,IFERROR(IF(AVERAGE(DataInput!Q117:Q118)>AVERAGE(AA118,AA117),ROUNDDOWN(((((AA117-Z117)+(AA118-Z118))/2)*(A118-A117))/27,0),IF(((((DataInput!Q118-Z118)+(DataInput!Q117-Z117))/2)*(A118-A117))/27+S117+T117>0,ROUNDDOWN(((((DataInput!Q118-Z118)+(DataInput!Q117-Z117))/2)*(A118-A117))/27+S117+T117,0),0)),0),0)*$X$5),1)","v":0},0,{"$f":"ROUNDDOWN((IF(AC118>0,IFERROR(IF(((((DataInput!Q117-AC117)+(DataInput!Q118-AC118))/2)*(A118-A117))/27+S117+T117>0,ROUNDDOWN(((((DataInput!Q117-AC117)+(DataInput!Q118-AC118))/2)*(A118-A117))/27+S117+T117,0),0),0),0)*$X$5),1)","v":0},{"$f":"DataInput!U117","v":10},{"$f":"DataInput!S117","v":2},2.8,7.2]
[{"$f":"IF(DataInput!A118<>\"\",DataInput!A118,\"\")","v":930},{"$f":"SUM(DataInput!C118,DataInput!Y118)+(DataInput!U118-DataInput!E118)","v":11},{"$f":"SUM(DataInput!D118,DataInput!Z118)","v":4},{"$f":"DataInput!U118","v":8},{"$f":"SUM(DataInput!F118,DataInput!AB118)","v":0},{"$f":"SUM(DataInput!G118,DataInput!AC118)","v":0},{"$f":"SUM(DataInput!H118,DataInput!AD118)","v":0},{"$f":"DataInput!I118","v":0},{"$f":"SUM(DataInput!J118,DataInput!AF118)","v":0},{"$f":"SUM(DataInput!K118,DataInput!AG118)","v":0},{"$f":"SUM(DataInput!L118,DataInput!AH118)","v":0},{"$f":"SUM(DataInput!M118,DataInput!AI118)","v":0},{"$f":"SUM(DataInput!N118,DataInput!AJ118)","v":0},{"$f":"SUM(DataInput!O118,DataInput!AK118)","v":0},{"$f":"DataInput!P118","v":0},null,4,{"$f":"DataInput!R118","v":3},{"$f":"DataInput!Y118","v":0},{"$f":"IF(DataInput!U118-DataInput!E118>0,DataInput!U118-DataInput!E118,\"\")","v":5},{"$f":"IF(DataInput!W118-DataInput!I118>0,DataInput!W118-DataInput!I118,\"\")","v":""},null,8,10.4,-6.4,0,0,{"$f":"ROUNDDOWN((IF(AA119>0,IFERROR(IF(AVERAGE(DataInput!Q118:Q119)>AVERAGE(AA119,AA118),ROUNDDOWN(((((AA118-Z118)+(AA119-Z119))/2)*(A119-A118))/27,0),IF(((((DataInput!Q119-Z119)+(DataInput!Q118-Z118))/2)*(A119-A118))/27+S118+T118>0,ROUNDDOWN(((((DataInput!Q119-Z119)+(DataInput!Q118-Z118))/2)*(A119-A118))/27+S118+T118,0),0)),0),0)*$X$5),1)","v":0},0,{"$f":"ROUNDDOWN((IF(AC119>0,IFERROR(IF(((((DataInput!Q118-AC118)+(DataInput!Q119-AC119))/2)*(A119-A118))/27+S118+T118>0,ROUNDDOWN(((((DataInput!Q118-AC118)+(DataInput!Q119-AC119))/2)*(A119-A118))/27+S118+T118,0),0),0),0)*$X$5),1)","v":0},{"$f":"DataInput!U118","v":8},{"$f":"DataInput!S118","v":4},5.6,2.4]
[{"$f":"IF(DataInput!A119<>\"\",DataInput!A119,\"\")","v":940},{"$f":"SUM(DataInput!C119,DataInput!Y119)+(DataInput!U119-DataInput!E119)","v":9},{"$f":"SUM(DataInput!D119,DataInput!Z119)","v":8},{"$f":"DataInput!U119","v":0},{"$f":"SUM(DataInput!F119,DataInput!AB119)","v":0},{"$f":"SUM(DataInput!G119,DataInput!AC119)","v":0},{"$f":"SUM(DataInput!H119,DataInput!AD119)","v":0},{"$f":"DataInput!I119","v":0},{"$f":"SUM(DataInput!J119,DataInput!AF119)","v":0},{"$f":"SUM(DataInput!K119,DataInput!AG119)","v":0},{"$f":"SUM(DataInput!L119,DataInput!AH119)","v":0},{"$f":"SUM(DataInput!M119,DataInput!AI119)","v":0},{"$f":"SUM(DataInput!N119,DataInput!AJ119)","v":0},{"$f":"SUM(DataInput!O119,DataInput!AK119)","v":0},{"$f":"DataInput!P119","v":0},null,8,{"$f":"DataInput!R119","v":1},{"$f":"DataInput!Y119","v":0},{"$f":"IF(DataInput!U119-DataInput!E119>0,DataInput!U119-DataInput!E119,\"\")","v":""},{"$f":"IF(DataInput!W119-DataInput!I119>0,DataInput!W119-DataInput!I119,\"\")","v":""},null,1,1.3,6.7,0,0,{"$f":"ROUNDDOWN((IF(AA120>0,IFERROR(IF(AVERAGE(DataInput!Q119:Q120)>AVERAGE(AA120,AA119),ROUNDDOWN(((((AA119-Z119)+(AA120-Z120))/2)*(A120-A119))/27,0),IF(((((DataInput!Q120-Z120)+(DataInput!Q119-Z119))/2)*(A120-A119))/27+S119+T119>0,ROUNDDOWN(((((DataInput!Q120-Z120)+(DataInput!Q119-Z119))/2)*(A120-A119))/27+S119+T119,0),0)),0),0)*$X$5),1)","v":0},0,{"$f":"ROUNDDOWN((IF(AC120>0,IFERROR(IF(((((DataInput!Q119-AC119)+(DataInput!Q120-AC120))/2)*(A120-A119))/27+S119+T119>0,ROUNDDOWN(((((DataInput!Q119-AC119)+(DataInput!Q120-AC120))/2)*(A120-A119))/27+S119+T119,0),0),0),0)*$X$5),1)","v":0},{"$f":"DataInput!U119","v":0},{"$f":"DataInput!S119","v":3},4.2,-4.2]
[{"$f":"IF(DataInput!A120<>\"\",DataInput!A120,\"\")","v":948.8}]
[]
[{"$f":"IF(DataInput!A122<>\"\",DataInput!A122,\"\")","v":"STG1_US_63"}]
[{"$f":"IF(DataInput!A123<>\"\",DataInput!A123,\"\")","v":84155},{"$f":"SUM(DataInput!C123,DataInput!Y123)+(DataInput!U123-DataInput!E123)","v":205},{"$f":"SUM(DataInput!D123,DataInput!Z123)","v":138},{"$f":"DataInput!U123","v":67},{"$f":"SUM(DataInput!F123,DataInput!AB123)","v":0},{"$f":"SUM(DataInput!G123,DataInput!AC123)","v":0},{"$f":"SUM(DataInput!H123,DataInput!AD123)","v":0},{"$f":"DataInput!I123","v":45},{"$f":"SUM(DataInput!J123,DataInput!AF123)","v":0},{"$f":"SUM(DataInput!K123,DataInput!AG123)","v":0},{"$f":"SUM(DataInput!L123,DataInput!AH123)","v":0},{"$f":"SUM(DataInput!M123,DataInput!AI123)","v":0},{"$f":"SUM(DataInput!N123,DataInput!AJ123)","v":0},{"$f":"SUM(DataInput!O123,DataInput!AK123)","v":0},{"$f":"DataInput!P123","v":0},null,{"$f":"SUM(C123,E123:G123,I123:L123,O123:P123)","v":138},{"$f":"DataInput!R123","v":0},{"$f":"DataInput!Y123","v":0},{"$f":"IF(DataInput!U123-DataInput!E123>0,DataInput!U123-DataInput!E123,\"\")","v":11},{"$f":"IF(DataInput!W123-DataInput!I123>0,DataInput!W123-DataInput!I123,\"\")","v":""},null,{"$f":"SUM(R123:V123)","v":11},{"$f":"ROUNDUP(($W123*$X$5),1)","v":14.3},{"$f":"ROUNDUP(SUM(Q123-X123),1)","v":123.7},450,3350,{"$f":"ROUNDDOWN((IF(AA124>0,IFERROR(IF(AVERAGE(DataInput!Q123:Q124)>AVERAGE(AA124,AA123),ROUNDDOWN(((((AA123-Z123)+(AA124-Z124))/2)*(A124-A123))/27,0),IF(((((DataInput!Q124-Z124)+(DataInput!Q123-Z123))/2)*(A124-A123))/27+S123+T123>0,ROUNDDOWN(((((DataInput!Q124-Z124)+(DataInput!Q123-Z123))/2)*(A124-A123))/27+S123+T123,0),0)),0),0)*$X$5),1)","v":0},176,{"$f":"ROUNDDOWN((IF(AC124>0,IFERROR(IF(((((DataInput!Q123-AC123)+(DataInput!Q124-AC124))/2)*(A124-A123))/27+S123+T123>0,ROUNDDOWN(((((DataInput!Q123-AC123)+(DataInput!Q124-AC124))/2)*(A124-A123))/27+S123+T123,0),0),0),0)*$X$5),1)","v":0},{"$f":"DataInput!U123","v":67},{"$f":"DataInput!S123","v":30},{"$f":"ROUNDUP((AF123*$AG$5),1)","v":42},{"$f":"ROUNDUP((AE123-AG123),1)","v":25}]
[{"$f":"IF(DataInput!A124<>\"\",DataInput!A124,\"\")","v":84175},{"$f":"SUM(DataInput!C124,DataInput!Y124)+(DataInput!U124-DataInput!E124)","v":263},{"$f":"SUM(DataInput!D124,DataInput!Z124)","v":181},{"$f":"DataInput!U124","v":81},{"$f":"SUM(DataInput!F124,DataInput!AB124)","v":0},{"$f":"SUM(DataInput!G124,DataInput!AC124)","v":0},{"$f":"SUM(DataInput!H124,DataInput!AD124)","v":0},{"$f":"DataInput!I124","v":56},{"$f":"SUM(DataInput!J124,DataInput!AF124)","v":0},{"$f":"SUM(DataInput!K124,DataInput!AG124)","v":0},{"$f":"SUM(DataInput!L124,DataInput!AH124)","v":0},{"$f":"SUM(DataInput!M124,DataInput!AI124)","v":0},{"$f":"SUM(DataInput!N124,DataInput!AJ124)","v":0},{"$f":"SUM(DataInput!O124,DataInput!AK124)","v":0},{"$f":"DataInput!P124","v":0},null,{"$f":"SUM(C124,E124:G124,I124:L124,O124:P124)","v":181},{"$f":"DataInput!R124","v":0},{"$f":"DataInput!Y124","v":0},{"$f":"IF(DataInput!U124-DataInput!E124>0,DataInput!U124-DataInput!E124,\"\")","v":9},{"$f":"IF(DataInput!W124-DataInput!I124>0,DataInput!W124-DataInput!I124,\"\")","v":""},null,{"$f":"SUM(R124:V124)","v":9},{"$f":"ROUNDUP(($W124*$X$5),1)","v":11.7},{"$f":"ROUNDUP(SUM(Q124-X124),1)","v":169.3},{"$f":"Z123","v":450},{"$f":"AA123","v":3350},{"$f":"ROUNDDOWN((IF(AA125>0,IFERROR(IF(AVERAGE(DataInput!Q124:Q125)>AVERAGE(AA125,AA124),ROUNDDOWN(((((AA124-Z124)+(AA125-Z125))/2)*(A125-A124))/27,0),IF(((((DataInput!Q125-Z125)+(DataInput!Q124-Z124))/2)*(A125-A124))/27+S124+T124>0,ROUNDDOWN(((((DataInput!Q125-Z125)+(DataInput!Q124-Z124))/2)*(A125-A124))/27+S124+T124,0),0)),0),0)*$X$5),1)","v":0},{"$f":"AC123","v":176},{"$f":"ROUNDDOWN((IF(AC125>0,IFERROR(IF(((((DataInput!Q124-AC124)+(DataInput!Q125-AC125))/2)*(A125-A124))/27+S124+T124>0,ROUNDDOWN(((((DataInput!Q124-AC124)+(DataInput!Q125-AC125))/2)*(A125-A124))/27+S124+T124,0),0),0),0)*$X$5),1)","v":0},{"$f":"DataInput!U124","v":81},{"$f":"DataInput!S124","v":40},{"$f":"ROUNDUP((AF124*$AG$5),1)","v":56},{"$f":"ROUNDUP((AE124-AG124),1)","v":25}]
[{"$f":"IF(DataInput!A125<>\"\",DataInput!A125,\"\")","v":84200},{"$f":"SUM(DataInput!C125,DataInput!Y125)+(DataInput!U125-DataInput!E125)","v":260},{"$f":"SUM(DataInput!D125,DataInput!Z125)","v":180},{"$f":"DataInput!U125","v":80},{"$f":"SUM(DataInput!F125,DataInput!AB125)","v":0},{"$f":"SUM(DataInput!G125,DataInput!AC125)","v":0},{"$f":"SUM(DataInput!H125,DataInput!AD125)","v":0},{"$f":"DataInput!I125","v":56},{"$f":"SUM(DataInput!J125,DataInput!AF125)","v":0},{"$f":"SUM(DataInput!K125,DataInput!AG125)","v":0},{"$f":"SUM(DataInput!L125,DataInput!AH125)","v":0},{"$f":"SUM(DataInput!M125,DataInput!AI125)","v":0},{"$f":"SUM(DataInput!N125,DataInput!AJ125)","v":0},{"$f":"SUM(DataInput!O125,DataInput!AK125)","v":0},{"$f":"DataInput!P125","v":0},null,180,{"$f":"DataInput!R125","v":0},{"$f":"DataInput!Y125","v":0},{"$f":"IF(DataInput!U125-DataInput!E125>0,DataInput!U125-DataInput!E125,\"\")","v":7},{"$f":"IF(DataInput!W125-DataInput!I125>0,DataInput!W125-DataInput!I125,\"\")","v":""},null,7,9.1,170.9,{"$f":"Z124","v":450},{"$f":"AA124","v":3350},{"$f":"ROUNDDOWN((IF(AA126>0,IFERROR(IF(AVERAGE(DataInput!Q125:Q126)>AVERAGE(AA126,AA125),ROUNDDOWN(((((AA125-Z125)+(AA126-Z126))/2)*(A126-A125))/27,0),IF(((((DataInput!Q126-Z126)+(DataInput!Q125-Z125))/2)*(A126-A125))/27+S125+T125>0,ROUNDDOWN(((((DataInput!Q126-Z126)+(DataInput!Q125-Z125))/2)*(A126-A125))/27+S125+T125,0),0)),0),0)*$X$5),1)","v":0},{"$f":"AC124","v":176},{"$f":"ROUNDDOWN((IF(AC126>0,IFERROR(IF(((((DataInput!Q125-AC125)+(DataInput!Q126-AC126))/2)*(A126-A125))/27+S125+T125>0,ROUNDDOWN(((((DataInput!Q125-AC125)+(DataInput!Q126-AC126))/2)*(A126-A125))/27+S125+T125,0),0),0),0)*$X$5),1)","v":0},{"$f":"DataInput!U125","v":80},{"$f":"DataInput!S125","v":42},58.8,21.2]
[{"$f":"IF(DataInput!A126<>\"\",DataInput!A126,\"\")","v":84225},{"$f":"SUM(DataInput!C126,DataInput!Y126)+(DataInput!U126-DataInput!E126)","v":252},{"$f":"SUM(DataInput!D126,DataInput!Z126)","v":170},{"$f":"DataInput!U126","v":81},{"$f":"SUM(DataInput!F126,DataInput!AB126)","v":0},{"$f":"SUM(DataInput!G126,DataInput!AC126)","v":0},{"$f":"SUM(DataInput!H126,DataInput!AD126)","v":0},{"$f":"DataInput!I126","v":55},{"$f":"SUM(DataInput!J126,DataInput!AF126)","v":0},{"$f":"SUM(DataInput!K126,DataInput!AG126)","v":0},{"$f":"SUM(DataInput!L126,DataInput!AH126)","v":0},{"$f":"SUM(DataInput!M126,DataInput!AI126)","v":0},{"$f":"SUM(DataInput!N126,DataInput!AJ126)","v":0},{"$f":"SUM(DataInput!O126,DataInput!AK126)","v":0},{"$f":"DataInput!P126","v":0},null,170,{"$f":"DataInput!R126","v":0},{"$f":"DataInput!Y126","v":0},{"$f":"IF(DataInput!U126-DataInput!E126>0,DataInput!U126-DataInput!E126,\"\")","v":9},{"$f":"IF(DataInput!W126-DataInput!I126>0,DataInput!W126-DataInput!I126,\"\")","v":""},null,9,11.7,158.30000000000001,450,3350,{"$f":"ROUNDDOWN((IF(AA127>0,IFERROR(IF(AVERAGE(DataInput!Q126:Q127)>AVERAGE(AA127,AA126),ROUNDDOWN(((((AA126-Z126)+(AA127-Z127))/2)*(A127-A126))/27,0),IF(((((DataInput!Q127-Z127)+(DataInput!Q126-Z126))/2)*(A127-A126))/27+S126+T126>0,ROUNDDOWN(((((DataInput!Q127-Z127)+(DataInput!Q126-Z126))/2)*(A127-A126))/27+S126+T126,0),0)),0),0)*$X$5),1)","v":0},176,{"$f":"ROUNDDOWN((IF(AC127>0,IFERROR(IF(((((DataInput!Q126-AC126)+(DataInput!Q127-AC127))/2)*(A127-A126))/27+S126+T126>0,ROUNDDOWN(((((DataInput!Q126-AC126)+(DataInput!Q127-AC127))/2)*(A127-A126))/27+S126+T126,0),0),0),0)*$X$5),1)","v":0},{"$f":"DataInput!U126","v":81},{"$f":"DataInput!S126","v":44},61.6,19.399999999999999]
[{"$f":"IF(DataInput!A127<>\"\",DataInput!A127,\"\")","v":84250},{"$f":"SUM(DataInput!C127,DataInput!Y127)+(DataInput!U127-DataInput!E127)","v":249},{"$f":"SUM(DataInput!D127,DataInput!Z127)","v":166},{"$f":"DataInput!U127","v":83},{"$f":"SUM(DataInput!F127,DataInput!AB127)","v":0},{"$f":"SUM(DataInput!G127,DataInput!AC127)","v":0},{"$f":"SUM(DataInput!H127,DataInput!AD127)","v":0},{"$f":"DataInput!I127","v":52},{"$f":"SUM(DataInput!J127,DataInput!AF127)","v":0},{"$f":"SUM(DataInput!K127,DataInput!AG127)","v":0},{"$f":"SUM(DataInput!L127,DataInput!AH127)","v":0},{"$f":"SUM(DataInput!M127,DataInput!AI127)","v":0},{"$f":"SUM(DataInput!N127,DataInput!AJ127)","v":0},{"$f":"SUM(DataInput!O127,DataInput!AK127)","v":0},{"$f":"DataInput!P127","v":0},null,166,{"$f":"DataInput!R127","v":0},{"$f":"DataInput!Y127","v":0},{"$f":"IF(DataInput!U127-DataInput!E127>0,DataInput!U127-DataInput!E127,\"\")","v":14},{"$f":"IF(DataInput!W127-DataInput!I127>0,DataInput!W127-DataInput!I127,\"\")","v":""},null,14,18.2,147.80000000000001,450,3350,{"$f":"ROUNDDOWN((IF(AA128>0,IFERROR(IF(AVERAGE(DataInput!Q127:Q128)>AVERAGE(AA128,AA127),ROUNDDOWN(((((AA127-Z127)+(AA128-Z128))/2)*(A128-A127))/27,0),IF(((((DataInput!Q128-Z128)+(DataInput!Q127-Z127))/2)*(A128-A127))/27+S127+T127>0,ROUNDDOWN(((((DataInput!Q128-Z128)+(DataInput!Q127-Z127))/2)*(A128-A127))/27+S127+T127,0),0)),0),0)*$X$5),1)","v":0},176,{"$f":"ROUNDDOWN((IF(AC128>0,IFERROR(IF(((((DataInput!Q127-AC127)+(DataInput!Q128-AC128))/2)*(A128-A127))/27+S127+T127>0,ROUNDDOWN(((((DataInput!Q127-AC127)+(DataInput!Q128-AC128))/2)*(A128-A127))/27+S127+T127,0),0),0),0)*$X$5),1)","v":0},{"$f":"DataInput!U127","v":83},{"$f":"DataInput!S127","v":44},61.6,21.4]
[{"$f":"IF(DataInput!A128<>\"\",DataInput!A128,\"\")","v":84275},{"$f":"SUM(DataInput!C128,DataInput!Y128)+(DataInput!U128-DataInput!E128)","v":249},{"$f":"SUM(DataInput!D128,DataInput!Z128)","v":164},{"$f":"DataInput!U128","v":85},{"$f":"SUM(DataInput!F128,DataInput!AB128)","v":0},{"$f":"SUM(DataInput!G128,DataInput!AC128)","v":0},{"$f":"SUM(DataInput!H128,DataInput!AD128)","v":0},{"$f":"DataInput!I128","v":49},{"$f":"SUM(DataInput!J128,DataInput!AF128)","v":0},{"$f":"SUM(DataInput!K128,DataInput!AG128)","v":0},{"$f":"SUM(DataInput!L128,DataInput!AH128)","v":0},{"$f":"SUM(DataInput!M128,DataInput!AI128)","v":0},{"$f":"SUM(DataInput!N128,DataInput!AJ128)","v":0},{"$f":"SUM(DataInput!O128,DataInput!AK128)","v":0},{"$f":"DataInput!P128","v":0},null,164,{"$f":"DataInput!R128","v":0},{"$f":"DataInput!Y128","v":0},{"$f":"IF(DataInput!U128-DataInput!E128>0,DataInput!U128-DataInput!E128,\"\")","v":21},{"$f":"IF(DataInput!W128-DataInput!I128>0,DataInput!W128-DataInput!I128,\"\")","v":""},null,21,27.3,136.69999999999999,450,3350,{"$f":"ROUNDDOWN((IF(AA129>0,IFERROR(IF(AVERAGE(DataInput!Q128:Q129)>AVERAGE(AA129,AA128),ROUNDDOWN(((((AA128-Z128)+(AA129-Z129))/2)*(A129-A128))/27,0),IF(((((DataInput!Q129-Z129)+(DataInput!Q128-Z128))/2)*(A129-A128))/27+S128+T128>0,ROUNDDOWN(((((DataInput!Q129-Z129)+(DataInput!Q128-Z128))/2)*(A129-A128))/27+S128+T128,0),0)),0),0)*$X$5),1)","v":0},176,{"$f":"ROUNDDOWN((IF(AC129>0,IFERROR(IF(((((DataInput!Q128-AC128)+(DataInput!Q129-AC129))/2)*(A129-A128))/27+S128+T128>0,ROUNDDOWN(((((DataInput!Q128-AC128)+(DataInput!Q129-AC129))/2)*(A129-A128))/27+S128+T128,0),0),0),0)*$X$5),1)","v":0},{"$f":"DataInput!U128","v":85},{"$f":"DataInput!S128","v":44},61.6,23.4]
[{"$f":"IF(DataInput!A129<>\"\",DataInput!A129,\"\")","v":84300},{"$f":"SUM(DataInput!C129,DataInput!Y129)+(DataInput!U129-DataInput!E129)","v":249},{"$f":"SUM(DataInput!D129,DataInput!Z129)","v":162},{"$f":"DataInput!U129","v":87},{"$f":"SUM(DataInput!F129,DataInput!AB129)","v":0},{"$f":"SUM(DataInput!G129,DataInput!AC129)","v":0},{"$f":"SUM(DataInput!H129,DataInput!AD129)","v":0},{"$f":"DataInput!I129","v":45},{"$f":"SUM(DataInput!J129,DataInput!AF129)","v":0},{"$f":"SUM(DataInput!K129,DataInput!AG129)","v":0},{"$f":"SUM(DataInput!L129,DataInput!AH129)","v":0},{"$f":"SUM(DataInput!M129,DataInput!AI129)","v":0},{"$f":"SUM(DataInput!N129,DataInput!AJ129)","v":0},{"$f":"SUM(DataInput!O129,DataInput!AK129)","v":0},{"$f":"DataInput!P129","v":0},null,162,{"$f":"DataInput!R129","v":1},{"$f":"DataInput!Y129","v":0},{"$f":"IF(DataInput!U129-DataInput!E129>0,DataInput!U129-DataInput!E129,\"\")","v":28},{"$f":"IF(DataInput!W129-DataInput!I129>0,DataInput!W129-DataInput!I129,\"\")","v":""},null,29,37.700000000000003,124.3,450,3350,{"$f":"ROUNDDOWN((IF(AA130>0,IFERROR(IF(AVERAGE(DataInput!Q129:Q130)>AVERAGE(AA130,AA129),ROUNDDOWN(((((AA129-Z129)+(AA130-Z130))/2)*(A130-A129))/27,0),IF(((((DataInput!Q130-Z130)+(DataInput!Q129-Z129))/2)*(A130-A129))/27+S129+T129>0,ROUNDDOWN(((((DataInput!Q130-Z130)+(DataInput!Q129-Z129))/2)*(A130-A129))/27+S129+T129,0),0)),0),0)*$X$5),1)","v":0},176,{"$f":"ROUNDDOWN((IF(AC130>0,IFERROR(IF(((((DataInput!Q129-AC129)+(DataInput!Q130-AC130))/2)*(A130-A129))/27+S129+T129>0,ROUNDDOWN(((((DataInput!Q129-AC129)+(DataInput!Q130-AC130))/2)*(A130-A129))/27+S129+T129,0),0),0),0)*$X$5),1)","v":0},{"$f":"DataInput!U129","v":87},{"$f":"DataInput!S129","v":44},61.6,25.4]
[{"$f":"IF(DataInput!A130<>\"\",DataInput!A130,\"\")","v":84325},{"$f":"SUM(DataInput!C130,DataInput!Y130)+(DataInput!U130-DataInput!E130)","v":250},{"$f":"SUM(DataInput!D130,DataInput!Z130)","v":160},{"$f":"DataInput!U130","v":90},{"$f":"SUM(DataInput!F130,DataInput!AB130)","v":0},{"$f":"SUM(DataInput!G130,DataInput!AC130)","v":0},{"$f":"SUM(DataInput!H130,DataInput!AD130)","v":0},{"$f":"DataInput!I130","v":42},{"$f":"SUM(DataInput!J130,DataInput!AF130)","v":0},{"$f":"SUM(DataInput!K130,DataInput!AG130)","v":0},{"$f":"SUM(DataInput!L130,DataInput!AH130)","v":0},{"$f":"SUM(DataInput!M130,DataInput!AI130)","v":0},{"$f":"SUM(DataInput!N130,DataInput!AJ130)","v":0},{"$f":"SUM(DataInput!O130,DataInput!AK130)","v":0},{"$f":"DataInput!P130","v":0},null,160,{"$f":"DataInput!R130","v":5},{"$f":"DataInput!Y130","v":0},{"$f":"IF(DataInput!U130-DataInput!E130>0,DataInput!U130-DataInput!E130,\"\")","v":35},{"$f":"IF(DataInput!W130-DataInput!I130>0,DataInput!W130-DataInput!I130,\"\")","v":""},null,40,52,108,450,3350,{"$f":"ROUNDDOWN((IF(AA131>0,IFERROR(IF(AVERAGE(DataInput!Q130:Q131)>AVERAGE(AA131,AA130),ROUNDDOWN(((((AA130-Z130)+(AA131-Z131))/2)*(A131-A130))/27,0),IF(((((DataInput!Q131-Z131)+(DataInput!Q130-Z130))/2)*(A131-A130))/27+S130+T130>0,ROUNDDOWN(((((DataInput!Q131-Z131)+(DataInput!Q130-Z130))/2)*(A131-A130))/27+S130+T130,0),0)),0),0)*$X$5),1)","v":0},176,{"$f":"ROUNDDOWN((IF(AC131>0,IFERROR(IF(((((DataInput!Q130-AC130)+(DataInput!Q131-AC131))/2)*(A131-A130))/27+S130+T130>0,ROUNDDOWN(((((DataInput!Q130-AC130)+(DataInput!Q131-AC131))/2)*(A131-A130))/27+S130+T130,0),0),0),0)*$X$5),1)","v":0},{"$f":"DataInput!U130","v":90},{"$f":"DataInput!S130","v":45},63,27]
[{"$f":"IF(DataInput!A131<>\"\",DataInput!A131,\"\")","v":84350},{"$f":"SUM(DataInput!C131,DataInput!Y131)+(DataInput!U131-DataInput!E131)","v":250},{"$f":"SUM(DataInput!D131,DataInput!Z131)","v":159},{"$f":"DataInput!U131","v":90},{"$f":"SUM(DataInput!F131,DataInput!AB131)","v":0},{"$f":"SUM(DataInput!G131,DataInput!AC131)","v":0},{"$f":"SUM(DataInput!H131,DataInput!AD131)","v":0},{"$f":"DataInput!I131","v":41},{"$f":"SUM(DataInput!J131,DataInput!AF131)","v":0},{"$f":"SUM(DataInput!K131,DataInput!AG131)","v":0},{"$f":"SUM(DataInput!L131,DataInput!AH131)","v":0},{"$f":"SUM(DataInput!M131,DataInput!AI131)","v":0},{"$f":"SUM(DataInput!N131,DataInput!AJ131)","v":0},{"$f":"SUM(DataInput!O131,DataInput!AK131)","v":0},{"$f":"DataInput!P131","v":0},null,159,{"$f":"DataInput!R131","v":10},{"$f":"DataInput!Y131","v":0},{"$f":"IF(DataInput!U131-DataInput!E131>0,DataInput!U131-DataInput!E131,\"\")","v":38},{"$f":"IF(DataInput!W131-DataInput!I131>0,DataInput!W131-DataInput!I131,\"\")","v":""},null,48,62.4,96.6,450,3350,{"$f":"ROUNDDOWN((IF(AA132>0,IFERROR(IF(AVERAGE(DataInput!Q131:Q132)>AVERAGE(AA132,AA131),ROUNDDOWN(((((AA131-Z131)+(AA132-Z132))/2)*(A132-A131))/27,0),IF(((((DataInput!Q132-Z132)+(DataInput!Q131-Z131))/2)*(A132-A131))/27+S131+T131>0,ROUNDDOWN(((((DataInput!Q132-Z132)+(DataInput!Q131-Z131))/2)*(A132-A131))/27+S131+T131,0),0)),0),0)*$X$5),1)","v":0},176,{"$f":"ROUNDDOWN((IF(AC132>0,IFERROR(IF(((((DataInput!Q131-AC131)+(DataInput!Q132-AC132))/2)*(A132-A131))/27+S131+T131>0,ROUNDDOWN(((((DataInput!Q131-AC131)+(DataInput!Q132-AC132))/2)*(A132-A131))/27+S131+T131,0),0),0),0)*$X$5),1)","v":0},{"$f":"DataInput!U131","v":90},{"$f":"DataInput!S131","v":45},63,27]
[{"$f":"IF(DataInput!A132<>\"\",DataInput!A132,\"\")","v":84375},{"$f":"SUM(DataInput!C132,DataInput!Y132)+(DataInput!U132-DataInput!E132)","v":249},{"$f":"SUM(DataInput!D132,DataInput!Z132)","v":153},{"$f":"DataInput!U132","v":91},{"$f":"SUM(DataInput!F132,DataInput!AB132)","v":0},{"$f":"SUM(DataInput!G132,DataInput!AC132)","v":4},{"$f":"SUM(DataInput!H132,DataInput!AD132)","v":0},{"$f":"DataInput!I132","v":40},{"$f":"SUM(DataInput!J132,DataInput!AF132)","v":0},{"$f":"SUM(DataInput!K132,DataInput!AG132)","v":0},{"$f":"SUM(DataInput!L132,DataInput!AH132)","v":0},{"$f":"SUM(DataInput!M132,DataInput!AI132)","v":0},{"$f":"SUM(DataInput!N132,DataInput!AJ132)","v":0},{"$f":"SUM(DataInput!O132,DataInput!AK132)","v":0},{"$f":"DataInput!P132","v":0},null,157,{"$f":"DataInput!R132","v":15},{"$f":"DataInput!Y132","v":0},{"$f":"IF(DataInput!U132-DataInput!E132>0,DataInput!U132-DataInput!E132,\"\")","v":40},{"$f":"IF(DataInput!W132-DataInput!I132>0,DataInput!W132-DataInput!I132,\"\")","v":1},null,56,72.8,84.2,450,3350,{"$f":"ROUNDDOWN((IF(AA133>0,IFERROR(IF(AVERAGE(DataInput!Q132:Q133)>AVERAGE(AA133,AA132),ROUNDDOWN(((((AA132-Z132)+(AA133-Z133))/2)*(A133-A132))/27,0),IF(((((DataInput!Q133-Z133)+(DataInput!Q132-Z132))/2)*(A133-A132))/27+S132+T132>0,ROUNDDOWN(((((DataInput!Q133-Z133)+(DataInput!Q132-Z132))/2)*(A133-A132))/27+S132+T132,0),0)),0),0)*$X$5),1)","v":0},176,{"$f":"ROUNDDOWN((IF(AC133>0,IFERROR(IF(((((DataInput!Q132-AC132)+(DataInput!Q133-AC133))/2)*(A133-A132))/27+S132+T132>0,ROUNDDOWN(((((DataInput!Q132-AC132)+(DataInput!Q133-AC133))/2)*(A133-A132))/27+S132+T132,0),0),0),0)*$X$5),1)","v":0},{"$f":"DataInput!U132","v":91},{"$f":"DataInput!S132","v":45},63,28]
[{"$f":"IF(DataInput!A133<>\"\",DataInput!A133,\"\")","v":84400},{"$f":"SUM(DataInput!C133,DataInput!Y133)+(DataInput!U133-DataInput!E133)","v":248},{"$f":"SUM(DataInput!D133,DataInput!Z133)","v":147},{"$f":"DataInput!U133","v":93},{"$f":"SUM(DataInput!F133,DataInput!AB133)","v":0},{"$f":"SUM(DataInput!G133,DataInput!AC133)","v":8},{"$f":"SUM(DataInput!H133,DataInput!AD133)","v":0},{"$f":"DataInput!I133","v":40},{"$f":"SUM(DataInput!J133,DataInput!AF133)","v":0},{"$f":"SUM(DataInput!K133,DataInput!AG133)","v":0},{"$f":"SUM(DataInput!L133,DataInput!AH133)","v":0},{"$f":"SUM(DataInput!M133,DataInput!AI133)","v":0},{"$f":"SUM(DataInput!N133,DataInput!AJ133)","v":0},{"$f":"SUM(DataInput!O133,DataInput!AK133)","v":0},{"$f":"DataInput!P133","v":0},null,155,{"$f":"DataInput!R133","v":18},{"$f":"DataInput!Y133","v":0},{"$f":"IF(DataInput!U133-DataInput!E133>0,DataInput!U133-DataInput!E133,\"\")","v":41},{"$f":"IF(DataInput!W133-DataInput!I133>0,DataInput!W133-DataInput!I133,\"\")","v":""},null,59,76.7,78.3,450,3350,{"$f":"ROUNDDOWN((IF(AA134>0,IFERROR(IF(AVERAGE(DataInput!Q133:Q134)>AVERAGE(AA134,AA133),ROUNDDOWN(((((AA133-Z133)+(AA134-Z134))/2)*(A134-A133))/27,0),IF(((((DataInput!Q134-Z134)+(DataInput!Q133-Z133))/2)*(A134-A133))/27+S133+T133>0,ROUNDDOWN(((((DataInput!Q134-Z134)+(DataInput!Q133-Z133))/2)*(A134-A133))/27+S133+T133,0),0)),0),0)*$X$5),1)","v":0},176,{"$f":"ROUNDDOWN((IF(AC134>0,IFERROR(IF(((((DataInput!Q133-AC133)+(DataInput!Q134-AC134))/2)*(A134-A133))/27+S133+T133>0,ROUNDDOWN(((((DataInput!Q133-AC133)+(DataInput!Q134-AC134))/2)*(A134-A133))/27+S133+T133,0),0),0),0)*$X$5),1)","v":0},{"$f":"DataInput!U133","v":93},{"$f":"DataInput!S133","v":45},63,30]
[{"$f":"IF(DataInput!A134<>\"\",DataInput!A134,\"\")","v":84425},{"$f":"SUM(DataInput!C134,DataInput!Y134)+(DataInput!U134-DataInput!E134)","v":249},{"$f":"SUM(DataInput!D134,DataInput!Z134)","v":147},{"$f":"DataInput!U134","v":94},{"$f":"SUM(DataInput!F134,DataInput!AB134)","v":0},{"$f":"SUM(DataInput!G134,DataInput!AC134)","v":9},{"$f":"SUM(DataInput!H134,DataInput!AD134)","v":0},{"$f":"DataInput!I134","v":39},{"$f":"SUM(DataInput!J134,DataInput!AF134)","v":0},{"$f":"SUM(DataInput!K134,DataInput!AG134)","v":0},{"$f":"SUM(DataInput!L134,DataInput!AH134)","v":0},{"$f":"SUM(DataInput!M134,DataInput!AI134)","v":0},{"$f":"SUM(DataInput!N134,DataInput!AJ134)","v":0},{"$f":"SUM(DataInput!O134,DataInput!AK134)","v":0},{"$f":"DataInput!P134","v":0},null,156,{"$f":"DataInput!R134","v":21},{"$f":"DataInput!Y134","v":0},{"$f":"IF(DataInput!U134-DataInput!E134>0,DataInput!U134-DataInput!E134,\"\")","v":43},{"$f":"IF(DataInput!W134-DataInput!I134>0,DataInput!W134-DataInput!I134,\"\")","v":""},null,64,83.2,72.8,450,3350,{"$f":"ROUNDDOWN((IF(AA135>0,IFERROR(IF(AVERAGE(DataInput!Q134:Q135)>AVERAGE(AA135,AA134),ROUNDDOWN(((((AA134-Z134)+(AA135-Z135))/2)*(A135-A134))/27,0),IF(((((DataInput!Q135-Z135)+(DataInput!Q134-Z134))/2)*(A135-A134))/27+S134+T134>0,ROUNDDOWN(((((DataInput!Q135-Z135)+(DataInput!Q134-Z134))/2)*(A135-A134))/27+S134+T134,0),0)),0),0)*$X$5),1)","v":0},176,{"$f":"ROUNDDOWN((IF(AC135>0,IFERROR(IF(((((DataInput!Q134-AC134)+(DataInput!Q135-AC135))/2)*(A135-A134))/27+S134+T134>0,ROUNDDOWN(((((DataInput!Q134-AC134)+(DataInput!Q135-AC135))/2)*(A135-A134))/27+S134+T134,0),0),0),0)*$X$5),1)","v":0},{"$f":"DataInput!U134","v":94},{"$f":"DataInput!S134","v":45},63,31]
[{"$f":"IF(DataInput!A135<>\"\",DataInput!A135,\"\")","v":84450},{"$f":"SUM(DataInput!C135,DataInput!Y135)+(DataInput!U135-DataInput!E135)","v":249},{"$f":"SUM(DataInput!D135,DataInput!Z135)","v":146},{"$f":"DataInput!U135","v":94},{"$f":"SUM(DataInput!F135,DataInput!AB135)","v":0},{"$f":"SUM(DataInput!G135,DataInput!AC135)","v":9},{"$f":"SUM(DataInput!H135,DataInput!AD135)","v":0},{"$f":"DataInput!I135","v":38},{"$f":"SUM(DataInput!J135,DataInput!AF135)","v":0},{"$f":"SUM(DataInput!K135,DataInput!AG135)","v":0},{"$f":"SUM(DataInput!L135,DataInput!AH135)","v":0},{"$f":"SUM(DataInput!M135,DataInput!AI135)","v":0},{"$f":"SUM(DataInput!N135,DataInput!AJ135)","v":0},{"$f":"SUM(DataInput!O135,DataInput!AK135)","v":0},{"$f":"DataInput!P135","v":0},null,155,{"$f":"DataInput!R135","v":23},{"$f":"DataInput!Y135","v":0},{"$f":"IF(DataInput!U135-DataInput!E135>0,DataInput!U135-DataInput!E135,\"\")","v":43},{"$f":"IF(DataInput!W135-DataInput!I135>0,DataInput!W135-DataInput!I135,\"\")","v":""},null,66,85.8,69.2,450,3350,{"$f":"ROUNDDOWN((IF(AA136>0,IFERROR(IF(AVERAGE(DataInput!Q135:Q136)>AVERAGE(AA136,AA135),ROUNDDOWN(((((AA135-Z135)+(AA136-Z136))/2)*(A136-A135))/27,0),IF(((((DataInput!Q136-Z136)+(DataInput!Q135-Z135))/2)*(A136-A135))/27+S135+T135>0,ROUNDDOWN(((((DataInput!Q136-Z136)+(DataInput!Q135-Z135))/2)*(A136-A135))/27+S135+T135,0),0)),0),0)*$X$5),1)","v":0},176,{"$f":"ROUNDDOWN((IF(AC136>0,IFERROR(IF(((((DataInput!Q135-AC135)+(DataInput!Q136-AC136))/2)*(A136-A135))/27+S135+T135>0,ROUNDDOWN(((((DataInput!Q135-AC135)+(DataInput!Q136-AC136))/2)*(A136-A135))/27+S135+T135,0),0),0),0)*$X$5),1)","v":0},{"$f":"DataInput!U135","v":94},{"$f":"DataInput!S135","v":44},61.6,32.4]
[{"$f":"IF(DataInput!A136<>\"\",DataInput!A136,\"\")","v":84475},{"$f":"SUM(DataInput!C136,DataInput!Y136)+(DataInput!U136-DataInput!E136)","v":248},{"$f":"SUM(DataInput!D136,DataInput!Z136)","v":145},{"$f":"DataInput!U136","v":94},{"$f":"SUM(DataInput!F136,DataInput!AB136)","v":0},{"$f":"SUM(DataInput!G136,DataInput!AC136)","v":9},{"$f":"SUM(DataInput!H136,DataInput!AD136)","v":0},{"$f":"DataInput!I136","v":38},{"$f":"SUM(DataInput!J136,DataInput!AF136)","v":0},{"$f":"SUM(DataInput!K136,DataInput!AG136)","v":0},{"$f":"SUM(DataInput!L136,DataInput!AH136)","v":0},{"$f":"SUM(DataInput!M136,DataInput!AI136)","v":0},{"$f":"SUM(DataInput!N136,DataInput!AJ136)","v":0},{"$f":"SUM(DataInput!O136,DataInput!AK136)","v":0},{"$f":"DataInput!P136","v":0},null,154,{"$f":"DataInput!R136","v":23},{"$f":"DataInput!Y136","v":0},{"$f":"IF(DataInput!U136-DataInput!E136>0,DataInput!U136-DataInput!E136,\"\")","v":41},{"$f":"IF(DataInput!W136-DataInput!I136>0,DataInput!W136-DataInput!I136,\"\")","v":""},null,64,83.2,70.8,450,3350,{"$f":"ROUNDDOWN((IF(AA137>0,IFERROR(IF(AVERAGE(DataInput!Q136:Q137)>AVERAGE(AA137,AA136),ROUNDDOWN(((((AA136-Z136)+(AA137-Z137))/2)*(A137-A136))/27,0),IF(((((DataInput!Q137-Z137)+(DataInput!Q136-Z136))/2)*(A137-A136))/27+S136+T136>0,ROUNDDOWN(((((DataInput!Q137-Z137)+(DataInput!Q136-Z136))/2)*(A137-A136))/27+S136+T136,0),0)),0),0)*$X$5),1)","v":0},176,{"$f":"ROUNDDOWN((IF(AC137>0,IFERROR(IF(((((DataInput!Q136-AC136)+(DataInput!Q137-AC137))/2)*(A137-A136))/27+S136+T136>0,ROUNDDOWN(((((DataInput!Q136-AC136)+(DataInput!Q137-AC137))/2)*(A137-A136))/27+S136+T136,0),0),0),0)*$X$5),1)","v":0},{"$f":"DataInput!U136","v":94},{"$f":"DataInput!S136","v":44},61.6,32.4]
[{"$f":"IF(DataInput!A137<>\"\",DataInput!A137,\"\")","v":84500},{"$f":"SUM(DataInput!C137,DataInput!Y137)+(DataInput!U137-DataInput!E137)","v":249},{"$f":"SUM(DataInput!D137,DataInput!Z137)","v":145},{"$f":"DataInput!U137","v":95},{"$f":"SUM(DataInput!F137,DataInput!AB137)","v":0},{"$f":"SUM(DataInput!G137,DataInput!AC137)","v":9},{"$f":"SUM(DataInput!H137,DataInput!AD137)","v":0},{"$f":"DataInput!I137","v":37},{"$f":"SUM(DataInput!J137,DataInput!AF137)","v":0},{"$f":"SUM(DataInput!K137,DataInput!AG137)","v":0},{"$f":"SUM(DataInput!L137,DataInput!AH137)","v":0},{"$f":"SUM(DataInput!M137,DataInput!AI137)","v":0},{"$f":"SUM(DataInput!N137,DataInput!AJ137)","v":0},{"$f":"SUM(DataInput!O137,DataInput!AK137)","v":0},{"$f":"DataInput!P137","v":0},null,154,{"$f":"DataInput!R137","v":24},{"$f":"DataInput!Y137","v":0},{"$f":"IF(DataInput!U137-DataInput!E137>0,DataInput!U137-DataInput!E137,\"\")","v":42},{"$f":"IF(DataInput!W137-DataInput!I137>0,DataInput!W137-DataInput!I137,\"\")","v":""},null,66,85.8,68.2,450,3350,{"$f":"ROUNDDOWN((IF(AA138>0,IFERROR(IF(AVERAGE(DataInput!Q137:Q138)>AVERAGE(AA138,AA137),ROUNDDOWN(((((AA137-Z137)+(AA138-Z138))/2)*(A138-A137))/27,0),IF(((((DataInput!Q138-Z138)+(DataInput!Q137-Z137))/2)*(A138-A137))/27+S137+T137>0,ROUNDDOWN(((((DataInput!Q138-Z138)+(DataInput!Q137-Z137))/2)*(A138-A137))/27+S137+T137,0),0)),0),0)*$X$5),1)","v":0},176,{"$f":"ROUNDDOWN((IF(AC138>0,IFERROR(IF(((((DataInput!Q137-AC137)+(DataInput!Q138-AC138))/2)*(A138-A137))/27+S137+T137>0,ROUNDDOWN(((((DataInput!Q137-AC137)+(DataInput!Q138-AC138))/2)*(A138-A137))/27+S137+T137,0),0),0),0)*$X$5),1)","v":0},{"$f":"DataInput!U137","v":95},{"$f":"DataInput!S137","v":44},61.6,33.4]
[{"$f":"IF(DataInput!A138<>\"\",DataInput!A138,\"\")","v":84525},{"$f":"SUM(DataInput!C138,DataInput!Y138)+(DataInput!U138-DataInput!E138)","v":248},{"$f":"SUM(DataInput!D138,DataInput!Z138)","v":145},{"$f":"DataInput!U138","v":95},{"$f":"SUM(DataInput!F138,DataInput!AB138)","v":0},{"$f":"SUM(DataInput!G138,DataInput!AC138)","v":9},{"$f":"SUM(DataInput!H138,DataInput!AD138)","v":0},{"$f":"DataInput!I138","v":36},{"$f":"SUM(DataInput!J138,DataInput!AF138)","v":0},{"$f":"SUM(DataInput!K138,DataInput!AG138)","v":0},{"$f":"SUM(DataInput!L138,DataInput!AH138)","v":0},{"$f":"SUM(DataInput!M138,DataInput!AI138)","v":0},{"$f":"SUM(DataInput!N138,DataInput!AJ138)","v":0},{"$f":"SUM(DataInput!O138,DataInput!AK138)","v":0},{"$f":"DataInput!P138","v":0},null,154,{"$f":"DataInput!R138","v":25},{"$f":"DataInput!Y138","v":0},{"$f":"IF(DataInput!U138-DataInput!E138>0,DataInput!U138-DataInput!E138,\"\")","v":47},{"$f":"IF(DataInput!W138-DataInput!I138>0,DataInput!W138-DataInput!I138,\"\")","v":""},null,72,93.6,60.4,450,3350,{"$f":"ROUNDDOWN((IF(AA139>0,IFERROR(IF(AVERAGE(DataInput!Q138:Q139)>AVERAGE(AA139,AA138),ROUNDDOWN(((((AA138-Z138)+(AA139-Z139))/2)*(A139-A138))/27,0),IF(((((DataInput!Q139-Z139)+(DataInput!Q138-Z138))/2)*(A139-A138))/27+S138+T138>0,ROUNDDOWN(((((DataInput!Q139-Z139)+(DataInput!Q138-Z138))/2)*(A139-A138))/27+S138+T138,0),0)),0),0)*$X$5),1)","v":0},176,{"$f":"ROUNDDOWN((IF(AC139>0,IFERROR(IF(((((DataInput!Q138-AC138)+(DataInput!Q139-AC139))/2)*(A139-A138))/27+S138+T138>0,ROUNDDOWN(((((DataInput!Q138-AC138)+(DataInput!Q139-AC139))/2)*(A139-A138))/27+S138+T138,0),0),0),0)*$X$5),1)","v":0},{"$f":"DataInput!U138","v":95},{"$f":"DataInput!S138","v":43},60.2,34.799999999999997]
[{"$f":"IF(DataInput!A139<>\"\",DataInput!A139,\"\")","v":84550},{"$f":"SUM(DataInput!C139,DataInput!Y139)+(DataInput!U139-DataInput!E139)","v":248},{"$f":"SUM(DataInput!D139,DataInput!Z139)","v":149},{"$f":"DataInput!U139","v":95},{"$f":"SUM(DataInput!F139,DataInput!AB139)","v":0},{"$f":"SUM(DataInput!G139,DataInput!AC139)","v":4},{"$f":"SUM(DataInput!H139,DataInput!AD139)","v":0},{"$f":"DataInput!I139","v":35},{"$f":"SUM(DataInput!J139,DataInput!AF139)","v":0},{"$f":"SUM(DataInput!K139,DataInput!AG139)","v":0},{"$f":"SUM(DataInput!L139,DataInput!AH139)","v":0},{"$f":"SUM(DataInput!M139,DataInput!AI139)","v":0},{"$f":"SUM(DataInput!N139,DataInput!AJ139)","v":0},{"$f":"SUM(DataInput!O139,DataInput!AK139)","v":0},{"$f":"DataInput!P139","v":0},null,153,{"$f":"DataInput!R139","v":27},{"$f":"DataInput!Y139","v":0},{"$f":"IF(DataInput!U139-DataInput!E139>0,DataInput!U139-DataInput!E139,\"\")","v":55},{"$f":"IF(DataInput!W139-DataInput!I139>0,DataInput!W139-DataInput!I139,\"\")","v":""},null,82,106.6,46.4,450,3350,{"$f":"ROUNDDOWN((IF(AA140>0,IFERROR(IF(AVERAGE(DataInput!Q139:Q140)>AVERAGE(AA140,AA139),ROUNDDOWN(((((AA139-Z139)+(AA140-Z140))/2)*(A140-A139))/27,0),IF(((((DataInput!Q140-Z140)+(DataInput!Q139-Z139))/2)*(A140-A139))/27+S139+T139>0,ROUNDDOWN(((((DataInput!Q140-Z140)+(DataInput!Q139-Z139))/2)*(A140-A139))/27+S139+T139,0),0)),0),0)*$X$5),1)","v":0},176,{"$f":"ROUNDDOWN((IF(AC140>0,IFERROR(IF(((((DataInput!Q139-AC139)+(DataInput!Q140-AC140))/2)*(A140-A139))/27+S139+T139>0,ROUNDDOWN(((((DataInput!Q139-AC139)+(DataInput!Q140-AC140))/2)*(A140-A139))/27+S139+T139,0),0),0),0)*$X$5),1)","v":0},{"$f":"DataInput!U139","v":95},{"$f":"DataInput!S139","v":43},60.2,34.799999999999997]
[{"$f":"IF(DataInput!A140<>\"\",DataInput!A140,\"\")","v":84575},{"$f":"SUM(DataInput!C140,DataInput!Y140)+(DataInput!U140-DataInput!E140)","v":249},{"$f":"SUM(DataInput!D140,DataInput!Z140)","v":153},{"$f":"DataInput!U140","v":96},{"$f":"SUM(DataInput!F140,DataInput!AB140)","v":0},{"$f":"SUM(DataInput!G140,DataInput!AC140)","v":0},{"$f":"SUM(DataInput!H140,DataInput!AD140)","v":0},{"$f":"DataInput!I140","v":35},{"$f":"SUM(DataInput!J140,DataInput!AF140)","v":0},{"$f":"SUM(DataInput!K140,DataInput!AG140)","v":0},{"$f":"SUM(DataInput!L140,DataInput!AH140)","v":0},{"$f":"SUM(DataInput!M140,DataInput!AI140)","v":0},{"$f":"SUM(DataInput!N140,DataInput!AJ140)","v":0},{"$f":"SUM(DataInput!O140,DataInput!AK140)","v":0},{"$f":"DataInput!P140","v":0},null,153,{"$f":"DataInput!R140","v":31},{"$f":"DataInput!Y140","v":0},{"$f":"IF(DataInput!U140-DataInput!E140>0,DataInput!U140-DataInput!E140,\"\")","v":60},{"$f":"IF(DataInput!W140-DataInput!I140>0,DataInput!W140-DataInput!I140,\"\")","v":""},null,91,118.3,34.700000000000003,450,3350,{"$f":"ROUNDDOWN((IF(AA141>0,IFERROR(IF(AVERAGE(DataInput!Q140:Q141)>AVERAGE(AA141,AA140),ROUNDDOWN(((((AA140-Z140)+(AA141-Z141))/2)*(A141-A140))/27,0),IF(((((DataInput!Q141-Z141)+(DataInput!Q140-Z140))/2)*(A141-A140))/27+S140+T140>0,ROUNDDOWN(((((DataInput!Q141-Z141)+(DataInput!Q140-Z140))/2)*(A141-A140))/27+S140+T140,0),0)),0),0)*$X$5),1)","v":0},176,{"$f":"ROUNDDOWN((IF(AC141>0,IFERROR(IF(((((DataInput!Q140-AC140)+(DataInput!Q141-AC141))/2)*(A141-A140))/27+S140+T140>0,ROUNDDOWN(((((DataInput!Q140-AC140)+(DataInput!Q141-AC141))/2)*(A141-A140))/27+S140+T140,0),0),0),0)*$X$5),1)","v":0},{"$f":"DataInput!U140","v":96},{"$f":"DataInput!S140","v":42},58.8,37.200000000000003]
[{"$f":"IF(DataInput!A141<>\"\",DataInput!A141,\"\")","v":84600},{"$f":"SUM(DataInput!C141,DataInput!Y141)+(DataInput!U141-DataInput!E141)","v":250},{"$f":"SUM(DataInput!D141,DataInput!Z141)","v":154},{"$f":"DataInput!U141","v":97},{"$f":"SUM(DataInput!F141,DataInput!AB141)","v":0},{"$f":"SUM(DataInput!G141,DataInput!AC141)","v":0},{"$f":"SUM(DataInput!H141,DataInput!AD141)","v":0},{"$f":"DataInput!I141","v":34},{"$f":"SUM(DataInput!J141,DataInput!AF141)","v":0},{"$f":"SUM(DataInput!K141,DataInput!AG141)","v":0},{"$f":"SUM(DataInput!L141,DataInput!AH141)","v":0},{"$f":"SUM(DataInput!M141,DataInput!AI141)","v":0},{"$f":"SUM(DataInput!N141,DataInput!AJ141)","v":0},{"$f":"SUM(DataInput!O141,DataInput!AK141)","v":0},{"$f":"DataInput!P141","v":0},null,154,{"$f":"DataInput!R141","v":37},{"$f":"DataInput!Y141","v":0},{"$f":"IF(DataInput!U141-DataInput!E141>0,DataInput!U141-DataInput!E141,\"\")","v":63},{"$f":"IF(DataInput!W141-DataInput!I141>0,DataInput!W141-DataInput!I141,\"\")","v":""},null,100,130,24,450,3350,{"$f":"ROUNDDOWN((IF(AA142>0,IFERROR(IF(AVERAGE(DataInput!Q141:Q142)>AVERAGE(AA142,AA141),ROUNDDOWN(((((AA141-Z141)+(AA142-Z142))/2)*(A142-A141))/27,0),IF(((((DataInput!Q142-Z142)+(DataInput!Q141-Z141))/2)*(A142-A141))/27+S141+T141>0,ROUNDDOWN(((((DataInput!Q142-Z142)+(DataInput!Q141-Z141))/2)*(A142-A141))/27+S141+T141,0),0)),0),0)*$X$5),1)","v":0},176,{"$f":"ROUNDDOWN((IF(AC142>0,IFERROR(IF(((((DataInput!Q141-AC141)+(DataInput!Q142-AC142))/2)*(A142-A141))/27+S141+T141>0,ROUNDDOWN(((((DataInput!Q141-AC141)+(DataInput!Q142-AC142))/2)*(A142-A141))/27+S141+T141,0),0),0),0)*$X$5),1)","v":0},{"$f":"DataInput!U141","v":97},{"$f":"DataInput!S141","v":42},58.8,38.200000000000003]
[{"$f":"IF(DataInput!A142<>\"\",DataInput!A142,\"\")","v":84625},{"$f":"SUM(DataInput!C142,DataInput!Y142)+(DataInput!U142-DataInput!E142)","v":251},{"$f":"SUM(DataInput!D142,DataInput!Z142)","v":154},{"$f":"DataInput!U142","v":97},{"$f":"SUM(DataInput!F142,DataInput!AB142)","v":0},{"$f":"SUM(DataInput!G142,DataInput!AC142)","v":0},{"$f":"SUM(DataInput!H142,DataInput!AD142)","v":0},{"$f":"DataInput!I142","v":33},{"$f":"SUM(DataInput!J142,DataInput!AF142)","v":0},{"$f":"SUM(DataInput!K142,DataInput!AG142)","v":0},{"$f":"SUM(DataInput!L142,DataInput!AH142)","v":0},{"$f":"SUM(DataInput!M142,DataInput!AI142)","v":0},{"$f":"SUM(DataInput!N142,DataInput!AJ142)","v":0},{"$f":"SUM(DataInput!O142,DataInput!AK142)","v":0},{"$f":"DataInput!P142","v":0},null,154,{"$f":"DataInput!R142","v":41},{"$f":"DataInput!Y142","v":0},{"$f":"IF(DataInput!U142-DataInput!E142>0,DataInput!U142-DataInput!E142,\"\")","v":65},{"$f":"IF(DataInput!W142-DataInput!I142>0,DataInput!W142-DataInput!I142,\"\")","v":""},null,106,137.80000000000001,16.2,450,3350,{"$f":"ROUNDDOWN((IF(AA143>0,IFERROR(IF(AVERAGE(DataInput!Q142:Q143)>AVERAGE(AA143,AA142),ROUNDDOWN(((((AA142-Z142)+(AA143-Z143))/2)*(A143-A142))/27,0),IF(((((DataInput!Q143-Z143)+(DataInput!Q142-Z142))/2)*(A143-A142))/27+S142+T142>0,ROUNDDOWN(((((DataInput!Q143-Z143)+(DataInput!Q142-Z142))/2)*(A143-A142))/27+S142+T142,0),0)),0),0)*$X$5),1)","v":0},176,{"$f":"ROUNDDOWN((IF(AC143>0,IFERROR(IF(((((DataInput!Q142-AC142)+(DataInput!Q143-AC143))/2)*(A143-A142))/27+S142+T142>0,ROUNDDOWN(((((DataInput!Q142-AC142)+(DataInput!Q143-AC143))/2)*(A143-A142))/27+S142+T142,0),0),0),0)*$X$5),1)","v":0},{"$f":"DataInput!U142","v":97},{"$f":"DataInput!S142","v":42},58.8,38.200000000000003]
[{"$f":"IF(DataInput!A143<>\"\",DataInput!A143,\"\")","v":84650},{"$f":"SUM(DataInput!C143,DataInput!Y143)+(DataInput!U143-DataInput!E143)","v":252},{"$f":"SUM(DataInput!D143,DataInput!Z143)","v":154},{"$f":"DataInput!U143","v":98},{"$f":"SUM(DataInput!F143,DataInput!AB143)","v":0},{"$f":"SUM(DataInput!G143,DataInput!AC143)","v":0},{"$f":"SUM(DataInput!H143,DataInput!AD143)","v":0},{"$f":"DataInput!I143","v":32},{"$f":"SUM(DataInput!J143,DataInput!AF143)","v":0},{"$f":"SUM(DataInput!K143,DataInput!AG143)","v":0},{"$f":"SUM(DataInput!L143,DataInput!AH143)","v":0},{"$f":"SUM(DataInput!M143,DataInput!AI143)","v":0},{"$f":"SUM(DataInput!N143,DataInput!AJ143)","v":0},{"$f":"SUM(DataInput!O143,DataInput!AK143)","v":0},{"$f":"DataInput!P143","v":0},null,154,{"$f":"DataInput!R143","v":44},{"$f":"DataInput!Y143","v":0},{"$f":"IF(DataInput!U143-DataInput!E143>0,DataInput!U143-DataInput!E143,\"\")","v":66},{"$f":"IF(DataInput!W143-DataInput!I143>0,DataInput!W143-DataInput!I143,\"\")","v":""},null,110,143,11,450,3350,{"$f":"ROUNDDOWN((IF(AA144>0,IFERROR(IF(AVERAGE(DataInput!Q143:Q144)>AVERAGE(AA144,AA143),ROUNDDOWN(((((AA143-Z143)+(AA144-Z144))/2)*(A144-A143))/27,0),IF(((((DataInput!Q144-Z144)+(DataInput!Q143-Z143))/2)*(A144-A143))/27+S143+T143>0,ROUNDDOWN(((((DataInput!Q144-Z144)+(DataInput!Q143-Z143))/2)*(A144-A143))/27+S143+T143,0),0)),0),0)*$X$5),1)","v":0},176,{"$f":"ROUNDDOWN((IF(AC144>0,IFERROR(IF(((((DataInput!Q143-AC143)+(DataInput!Q144-AC144))/2)*(A144-A143))/27+S143+T143>0,ROUNDDOWN(((((DataInput!Q143-AC143)+(DataInput!Q144-AC144))/2)*(A144-A143))/27+S143+T143,0),0),0),0)*$X$5),1)","v":0},{"$f":"DataInput!U143","v":98},{"$f":"DataInput!S143","v":42},58.8,39.200000000000003]
[{"$f":"IF(DataInput!A144<>\"\",DataInput!A144,\"\")","v":84675},{"$f":"SUM(DataInput!C144,DataInput!Y144)+(DataInput!U144-DataInput!E144)","v":252},{"$f":"SUM(DataInput!D144,DataInput!Z144)","v":154},{"$f":"DataInput!U144","v":98},{"$f":"SUM(DataInput!F144,DataInput!AB144)","v":0},{"$f":"SUM(DataInput!G144,DataInput!AC144)","v":0},{"$f":"SUM(DataInput!H144,DataInput!AD144)","v":0},{"$f":"DataInput!I144","v":31},{"$f":"SUM(DataInput!J144,DataInput!AF144)","v":0},{"$f":"SUM(DataInput!K144,DataInput!AG144)","v":0},{"$f":"SUM(DataInput!L144,DataInput!AH144)","v":0},{"$f":"SUM(DataInput!M144,DataInput!AI144)","v":0},{"$f":"SUM(DataInput!N144,DataInput!AJ144)","v":0},{"$f":"SUM(DataInput!O144,DataInput!AK144)","v":0},{"$f":"DataInput!P144","v":0},null,154,{"$f":"DataInput!R144","v":50},{"$f":"DataInput!Y144","v":0},{"$f":"IF(DataInput!U144-DataInput!E144>0,DataInput!U144-DataInput!E144,\"\")","v":65},{"$f":"IF(DataInput!W144-DataInput!I144>0,DataInput!W144-DataInput!I144,\"\")","v":""},null,115,149.5,4.5,450,3350,{"$f":"ROUNDDOWN((IF(AA145>0,IFERROR(IF(AVERAGE(DataInput!Q144:Q145)>AVERAGE(AA145,AA144),ROUNDDOWN(((((AA144-Z144)+(AA145-Z145))/2)*(A145-A144))/27,0),IF(((((DataInput!Q145-Z145)+(DataInput!Q144-Z144))/2)*(A145-A144))/27+S144+T144>0,ROUNDDOWN(((((DataInput!Q145-Z145)+(DataInput!Q144-Z144))/2)*(A145-A144))/27+S144+T144,0),0)),0),0)*$X$5),1)","v":0},176,{"$f":"ROUNDDOWN((IF(AC145>0,IFERROR(IF(((((DataInput!Q144-AC144)+(DataInput!Q145-AC145))/2)*(A145-A144))/27+S144+T144>0,ROUNDDOWN(((((DataInput!Q144-AC144)+(DataInput!Q145-AC145))/2)*(A145-A144))/27+S144+T144,0),0),0),0)*$X$5),1)","v":0},{"$f":"DataInput!U144","v":98},{"$f":"DataInput!S144","v":41},57.4,40.6]
[{"$f":"IF(DataInput!A145<>\"\",DataInput!A145,\"\")","v":84700},{"$f":"SUM(DataInput!C145,DataInput!Y145)+(DataInput!U145-DataInput!E145)","v":254},{"$f":"SUM(DataInput!D145,DataInput!Z145)","v":155},{"$f":"DataInput!U145","v":99},{"$f":"SUM(DataInput!F145,DataInput!AB145)","v":0},{"$f":"SUM(DataInput!G145,DataInput!AC145)","v":0},{"$f":"SUM(DataInput!H145,DataInput!AD145)","v":0},{"$f":"DataInput!I145","v":31},{"$f":"SUM(DataInput!J145,DataInput!AF145)","v":0},{"$f":"SUM(DataInput!K145,DataInput!AG145)","v":0},{"$f":"SUM(DataInput!L145,DataInput!AH145)","v":0},{"$f":"SUM(DataInput!M145,DataInput!AI145)","v":0},{"$f":"SUM(DataInput!N145,DataInput!AJ145)","v":0},{"$f":"SUM(DataInput!O145,DataInput!AK145)","v":0},{"$f":"DataInput!P145","v":0},null,155,{"$f":"DataInput!R145","v":54},{"$f":"DataInput!Y145","v":0},{"$f":"IF(DataInput!U145-DataInput!E145>0,DataInput!U145-DataInput!E145,\"\")","v":65},{"$f":"IF(DataInput!W145-DataInput!I145>0,DataInput!W145-DataInput!I145,\"\")","v":""},null,119,154.69999999999999,0.4,450,3350,{"$f":"ROUNDDOWN((IF(AA146>0,IFERROR(IF(AVERAGE(DataInput!Q145:Q146)>AVERAGE(AA146,AA145),ROUNDDOWN(((((AA145-Z145)+(AA146-Z146))/2)*(A146-A145))/27,0),IF(((((DataInput!Q146-Z146)+(DataInput!Q145-Z145))/2)*(A146-A145))/27+S145+T145>0,ROUNDDOWN(((((DataInput!Q146-Z146)+(DataInput!Q145-Z145))/2)*(A146-A145))/27+S145+T145,0),0)),0),0)*$X$5),1)","v":0},176,{"$f":"ROUNDDOWN((IF(AC146>0,IFERROR(IF(((((DataInput!Q145-AC145)+(DataInput!Q146-AC146))/2)*(A146-A145))/27+S145+T145>0,ROUNDDOWN(((((DataInput!Q145-AC145)+(DataInput!Q146-AC146))/2)*(A146-A145))/27+S145+T145,0),0),0),0)*$X$5),1)","v":0},{"$f":"DataInput!U145","v":99},{"$f":"DataInput!S145","v":41},57.4,41.6]
[{"$f":"IF(DataInput!A146<>\"\",DataInput!A146,\"\")","v":84725},{"$f":"SUM(DataInput!C146,DataInput!Y146)+(DataInput!U146-DataInput!E146)","v":255},{"$f":"SUM(DataInput!D146,DataInput!Z146)","v":156},{"$f":"DataInput!U146","v":99},{"$f":"SUM(DataInput!F146,DataInput!AB146)","v":0},{"$f":"SUM(DataInput!G146,DataInput!AC146)","v":0},{"$f":"SUM(DataInput!H146,DataInput!AD146)","v":0},{"$f":"DataInput!I146","v":30},{"$f":"SUM(DataInput!J146,DataInput!AF146)","v":0},{"$f":"SUM(DataInput!K146,DataInput!AG146)","v":0},{"$f":"SUM(DataInput!L146,DataInput!AH146)","v":0},{"$f":"SUM(DataInput!M146,DataInput!AI146)","v":0},{"$f":"SUM(DataInput!N146,DataInput!AJ146)","v":0},{"$f":"SUM(DataInput!O146,DataInput!AK146)","v":0},{"$f":"DataInput!P146","v":0},null,156,{"$f":"DataInput!R146","v":56},{"$f":"DataInput!Y146","v":0},{"$f":"IF(DataInput!U146-DataInput!E146>0,DataInput!U146-DataInput!E146,\"\")","v":64},{"$f":"IF(DataInput!W146-DataInput!I146>0,DataInput!W146-DataInput!I146,\"\")","v":""},null,120,156,0,450,3350,{"$f":"ROUNDDOWN((IF(AA147>0,IFERROR(IF(AVERAGE(DataInput!Q146:Q147)>AVERAGE(AA147,AA146),ROUNDDOWN(((((AA146-Z146)+(AA147-Z147))/2)*(A147-A146))/27,0),IF(((((DataInput!Q147-Z147)+(DataInput!Q146-Z146))/2)*(A147-A146))/27+S146+T146>0,ROUNDDOWN(((((DataInput!Q147-Z147)+(DataInput!Q146-Z146))/2)*(A147-A146))/27+S146+T146,0),0)),0),0)*$X$5),1)","v":0},176,{"$f":"ROUNDDOWN((IF(AC147>0,IFERROR(IF(((((DataInput!Q146-AC146)+(DataInput!Q147-AC147))/2)*(A147-A146))/27+S146+T146>0,ROUNDDOWN(((((DataInput!Q146-AC146)+(DataInput!Q147-AC147))/2)*(A147-A146))/27+S146+T146,0),0),0),0)*$X$5),1)","v":0},{"$f":"DataInput!U146","v":99},{"$f":"DataInput!S146","v":40},56,43]
[{"$f":"IF(DataInput!A147<>\"\",DataInput!A147,\"\")","v":84750},{"$f":"SUM(DataInput!C147,DataInput!Y147)+(DataInput!U147-DataInput!E147)","v":257},{"$f":"SUM(DataInput!D147,DataInput!Z147)","v":157},{"$f":"DataInput!U147","v":100},{"$f":"SUM(DataInput!F147,DataInput!AB147)","v":0},{"$f":"SUM(DataInput!G147,DataInput!AC147)","v":0},{"$f":"SUM(DataInput!H147,DataInput!AD147)","v":0},{"$f":"DataInput!I147","v":29},{"$f":"SUM(DataInput!J147,DataInput!AF147)","v":0},{"$f":"SUM(DataInput!K147,DataInput!AG147)","v":0},{"$f":"SUM(DataInput!L147,DataInput!AH147)","v":0},{"$f":"SUM(DataInput!M147,DataInput!AI147)","v":0},{"$f":"SUM(DataInput!N147,DataInput!AJ147)","v":0},{"$f":"SUM(DataInput!O147,DataInput!AK147)","v":0},{"$f":"DataInput!P147","v":0},null,157,{"$f":"DataInput!R147","v":59},{"$f":"DataInput!Y147","v":0},{"$f":"IF(DataInput!U147-DataInput!E147>0,DataInput!U147-DataInput!E147,\"\")","v":63},{"$f":"IF(DataInput!W147-DataInput!I147>0,DataInput!W147-DataInput!I147,\"\")","v":""},null,122,158.6,-1.6,450,3350,{"$f":"ROUNDDOWN((IF(AA148>0,IFERROR(IF(AVERAGE(DataInput!Q147:Q148)>AVERAGE(AA148,AA147),ROUNDDOWN(((((AA147-Z147)+(AA148-Z148))/2)*(A148-A147))/27,0),IF(((((DataInput!Q148-Z148)+(DataInput!Q147-Z147))/2)*(A148-A147))/27+S147+T147>0,ROUNDDOWN(((((DataInput!Q148-Z148)+(DataInput!Q147-Z147))/2)*(A148-A147))/27+S147+T147,0),0)),0),0)*$X$5),1)","v":0},176,{"$f":"ROUNDDOWN((IF(AC148>0,IFERROR(IF(((((DataInput!Q147-AC147)+(DataInput!Q148-AC148))/2)*(A148-A147))/27+S147+T147>0,ROUNDDOWN(((((DataInput!Q147-AC147)+(DataInput!Q148-AC148))/2)*(A148-A147))/27+S147+T147,0),0),0),0)*$X$5),1)","v":0},{"$f":"DataInput!U147","v":100},{"$f":"DataInput!S147","v":40},56,44]
[{"$f":"IF(DataInput!A148<>\"\",DataInput!A148,\"\")","v":84775},{"$f":"SUM(DataInput!C148,DataInput!Y148)+(DataInput!U148-DataInput!E148)","v":257},{"$f":"SUM(DataInput!D148,DataInput!Z148)","v":156},{"$f":"DataInput!U148","v":101},{"$f":"SUM(DataInput!F148,DataInput!AB148)","v":0},{"$f":"SUM(DataInput!G148,DataInput!AC148)","v":0},{"$f":"SUM(DataInput!H148,DataInput!AD148)","v":0},{"$f":"DataInput!I148","v":28},{"$f":"SUM(DataInput!J148,DataInput!AF148)","v":0},{"$f":"SUM(DataInput!K148,DataInput!AG148)","v":0},{"$f":"SUM(DataInput!L148,DataInput!AH148)","v":0},{"$f":"SUM(DataInput!M148,DataInput!AI148)","v":0},{"$f":"SUM(DataInput!N148,DataInput!AJ148)","v":0},{"$f":"SUM(DataInput!O148,DataInput!AK148)","v":0},{"$f":"DataInput!P148","v":0},null,156,{"$f":"DataInput!R148","v":63},{"$f":"DataInput!Y148","v":0},{"$f":"IF(DataInput!U148-DataInput!E148>0,DataInput!U148-DataInput!E148,\"\")","v":62},{"$f":"IF(DataInput!W148-DataInput!I148>0,DataInput!W148-DataInput!I148,\"\")","v":""},null,125,162.5,-6.5,450,3350,{"$f":"ROUNDDOWN((IF(AA149>0,IFERROR(IF(AVERAGE(DataInput!Q148:Q149)>AVERAGE(AA149,AA148),ROUNDDOWN(((((AA148-Z148)+(AA149-Z149))/2)*(A149-A148))/27,0),IF(((((DataInput!Q149-Z149)+(DataInput!Q148-Z148))/2)*(A149-A148))/27+S148+T148>0,ROUNDDOWN(((((DataInput!Q149-Z149)+(DataInput!Q148-Z148))/2)*(A149-A148))/27+S148+T148,0),0)),0),0)*$X$5),1)","v":0},176,{"$f":"ROUNDDOWN((IF(AC149>0,IFERROR(IF(((((DataInput!Q148-AC148)+(DataInput!Q149-AC149))/2)*(A149-A148))/27+S148+T148>0,ROUNDDOWN(((((DataInput!Q148-AC148)+(DataInput!Q149-AC149))/2)*(A149-A148))/27+S148+T148,0),0),0),0)*$X$5),1)","v":0},{"$f":"DataInput!U148","v":101},{"$f":"DataInput!S148","v":40},56,45]
[{"$f":"IF(DataInput!A149<>\"\",DataInput!A149,\"\")","v":84800},{"$f":"SUM(DataInput!C149,DataInput!Y149)+(DataInput!U149-DataInput!E149)","v":255},{"$f":"SUM(DataInput!D149,DataInput!Z149)","v":153},{"$f":"DataInput!U149","v":102},{"$f":"SUM(DataInput!F149,DataInput!AB149)","v":0},{"$f":"SUM(DataInput!G149,DataInput!AC149)","v":0},{"$f":"SUM(DataInput!H149,DataInput!AD149)","v":0},{"$f":"DataInput!I149","v":27},{"$f":"SUM(DataInput!J149,DataInput!AF149)","v":0},{"$f":"SUM(DataInput!K149,DataInput!AG149)","v":0},{"$f":"SUM(DataInput!L149,DataInput!AH149)","v":0},{"$f":"SUM(DataInput!M149,DataInput!AI149)","v":0},{"$f":"SUM(DataInput!N149,DataInput!AJ149)","v":0},{"$f":"SUM(DataInput!O149,DataInput!AK149)","v":0},{"$f":"DataInput!P149","v":0},null,153,{"$f":"DataInput!R149","v":72},{"$f":"DataInput!Y149","v":0},{"$f":"IF(DataInput!U149-DataInput!E149>0,DataInput!U149-DataInput!E149,\"\")","v":62},{"$f":"IF(DataInput!W149-DataInput!I149>0,DataInput!W149-DataInput!I149,\"\")","v":""},null,134,174.2,-21.2,450,3350,{"$f":"ROUNDDOWN((IF(AA150>0,IFERROR(IF(AVERAGE(DataInput!Q149:Q150)>AVERAGE(AA150,AA149),ROUNDDOWN(((((AA149-Z149)+(AA150-Z150))/2)*(A150-A149))/27,0),IF(((((DataInput!Q150-Z150)+(DataInput!Q149-Z149))/2)*(A150-A149))/27+S149+T149>0,ROUNDDOWN(((((DataInput!Q150-Z150)+(DataInput!Q149-Z149))/2)*(A150-A149))/27+S149+T149,0),0)),0),0)*$X$5),1)","v":0},176,{"$f":"ROUNDDOWN((IF(AC150>0,IFERROR(IF(((((DataInput!Q149-AC149)+(DataInput!Q150-AC150))/2)*(A150-A149))/27+S149+T149>0,ROUNDDOWN(((((DataInput!Q149-AC149)+(DataInput!Q150-AC150))/2)*(A150-A149))/27+S149+T149,0),0),0),0)*$X$5),1)","v":0},{"$f":"DataInput!U149","v":102},{"$f":"DataInput!S149","v":40},56,46]
[{"$f":"IF(DataInput!A150<>\"\",DataInput!A150,\"\")","v":84825},{"$f":"SUM(DataInput!C150,DataInput!Y150)+(DataInput!U150-DataInput!E150)","v":253},{"$f":"SUM(DataInput!D150,DataInput!Z150)","v":150},{"$f":"DataInput!U150","v":103},{"$f":"SUM(DataInput!F150,DataInput!AB150)","v":0},{"$f":"SUM(DataInput!G150,DataInput!AC150)","v":0},{"$f":"SUM(DataInput!H150,DataInput!AD150)","v":0},{"$f":"DataInput!I150","v":27},{"$f":"SUM(DataInput!J150,DataInput!AF150)","v":0},{"$f":"SUM(DataInput!K150,DataInput!AG150)","v":0},{"$f":"SUM(DataInput!L150,DataInput!AH150)","v":0},{"$f":"SUM(DataInput!M150,DataInput!AI150)","v":0},{"$f":"SUM(DataInput!N150,DataInput!AJ150)","v":0},{"$f":"SUM(DataInput!O150,DataInput!AK150)","v":0},{"$f":"DataInput!P150","v":0},null,150,{"$f":"DataInput!R150","v":81},{"$f":"DataInput!Y150","v":0},{"$f":"IF(DataInput!U150-DataInput!E150>0,DataInput!U150-DataInput!E150,\"\")","v":63},{"$f":"IF(DataInput!W150-DataInput!I150>0,DataInput!W150-DataInput!I150,\"\")","v":""},null,144,187.2,-37.200000000000003,450,3350,{"$f":"ROUNDDOWN((IF(AA151>0,IFERROR(IF(AVERAGE(DataInput!Q150:Q151)>AVERAGE(AA151,AA150),ROUNDDOWN(((((AA150-Z150)+(AA151-Z151))/2)*(A151-A150))/27,0),IF(((((DataInput!Q151-Z151)+(DataInput!Q150-Z150))/2)*(A151-A150))/27+S150+T150>0,ROUNDDOWN(((((DataInput!Q151-Z151)+(DataInput!Q150-Z150))/2)*(A151-A150))/27+S150+T150,0),0)),0),0)*$X$5),1)","v":0},176,{"$f":"ROUNDDOWN((IF(AC151>0,IFERROR(IF(((((DataInput!Q150-AC150)+(DataInput!Q151-AC151))/2)*(A151-A150))/27+S150+T150>0,ROUNDDOWN(((((DataInput!Q150-AC150)+(DataInput!Q151-AC151))/2)*(A151-A150))/27+S150+T150,0),0),0),0)*$X$5),1)","v":0},{"$f":"DataInput!U150","v":103},{"$f":"DataInput!S150","v":40},56,47]
[{"$f":"IF(DataInput!A151<>\"\",DataInput!A151,\"\")","v":84850},{"$f":"SUM(DataInput!C151,DataInput!Y151)+(DataInput!U151-DataInput!E151)","v":250},{"$f":"SUM(DataInput!D151,DataInput!Z151)","v":145},{"$f":"DataInput!U151","v":105},{"$f":"SUM(DataInput!F151,DataInput!AB151)","v":0},{"$f":"SUM(DataInput!G151,DataInput!AC151)","v":0},{"$f":"SUM(DataInput!H151,DataInput!AD151)","v":0},{"$f":"DataInput!I151","v":26},{"$f":"SUM(DataInput!J151,DataInput!AF151)","v":0},{"$f":"SUM(DataInput!K151,DataInput!AG151)","v":0},{"$f":"SUM(DataInput!L151,DataInput!AH151)","v":0},{"$f":"SUM(DataInput!M151,DataInput!AI151)","v":0},{"$f":"SUM(DataInput!N151,DataInput!AJ151)","v":0},{"$f":"SUM(DataInput!O151,DataInput!AK151)","v":0},{"$f":"DataInput!P151","v":0},null,145,{"$f":"DataInput!R151","v":89},{"$f":"DataInput!Y151","v":0},{"$f":"IF(DataInput!U151-DataInput!E151>0,DataInput!U151-DataInput!E151,\"\")","v":65},{"$f":"IF(DataInput!W151-DataInput!I151>0,DataInput!W151-DataInput!I151,\"\")","v":""},null,154,200.2,-55.2,450,3350,{"$f":"ROUNDDOWN((IF(AA152>0,IFERROR(IF(AVERAGE(DataInput!Q151:Q152)>AVERAGE(AA152,AA151),ROUNDDOWN(((((AA151-Z151)+(AA152-Z152))/2)*(A152-A151))/27,0),IF(((((DataInput!Q152-Z152)+(DataInput!Q151-Z151))/2)*(A152-A151))/27+S151+T151>0,ROUNDDOWN(((((DataInput!Q152-Z152)+(DataInput!Q151-Z151))/2)*(A152-A151))/27+S151+T151,0),0)),0),0)*$X$5),1)","v":0},176,{"$f":"ROUNDDOWN((IF(AC152>0,IFERROR(IF(((((DataInput!Q151-AC151)+(DataInput!Q152-AC152))/2)*(A152-A151))/27+S151+T151>0,ROUNDDOWN(((((DataInput!Q151-AC151)+(DataInput!Q152-AC152))/2)*(A152-A151))/27+S151+T151,0),0),0),0)*$X$5),1)","v":0},{"$f":"DataInput!U151","v":105},{"$f":"DataInput!S151","v":40},56,49]
[{"$f":"IF(DataInput!A152<>\"\",DataInput!A152,\"\")","v":84875},{"$f":"SUM(DataInput!C152,DataInput!Y152)+(DataInput!U152-DataInput!E152)","v":247},{"$f":"SUM(DataInput!D152,DataInput!Z152)","v":140},{"$f":"DataInput!U152","v":107},{"$f":"SUM(DataInput!F152,DataInput!AB152)","v":0},{"$f":"SUM(DataInput!G152,DataInput!AC152)","v":0},{"$f":"SUM(DataInput!H152,DataInput!AD152)","v":0},{"$f":"DataInput!I152","v":26},{"$f":"SUM(DataInput!J152,DataInput!AF152)","v":0},{"$f":"SUM(DataInput!K152,DataInput!AG152)","v":0},{"$f":"SUM(DataInput!L152,DataInput!AH152)","v":0},{"$f":"SUM(DataInput!M152,DataInput!AI152)","v":0},{"$f":"SUM(DataInput!N152,DataInput!AJ152)","v":0},{"$f":"SUM(DataInput!O152,DataInput!AK152)","v":0},{"$f":"DataInput!P152","v":0},null,140,{"$f":"DataInput!R152","v":101},{"$f":"DataInput!Y152","v":0},{"$f":"IF(DataInput!U152-DataInput!E152>0,DataInput!U152-DataInput!E152,\"\")","v":69},{"$f":"IF(DataInput!W152-DataInput!I152>0,DataInput!W152-DataInput!I152,\"\")","v":""},null,170,221,-81,450,3350,{"$f":"ROUNDDOWN((IF(AA153>0,IFERROR(IF(AVERAGE(DataInput!Q152:Q153)>AVERAGE(AA153,AA152),ROUNDDOWN(((((AA152-Z152)+(AA153-Z153))/2)*(A153-A152))/27,0),IF(((((DataInput!Q153-Z153)+(DataInput!Q152-Z152))/2)*(A153-A152))/27+S152+T152>0,ROUNDDOWN(((((DataInput!Q153-Z153)+(DataInput!Q152-Z152))/2)*(A153-A152))/27+S152+T152,0),0)),0),0)*$X$5),1)","v":0},176,{"$f":"ROUNDDOWN((IF(AC153>0,IFERROR(IF(((((DataInput!Q152-AC152)+(DataInput!Q153-AC153))/2)*(A153-A152))/27+S152+T152>0,ROUNDDOWN(((((DataInput!Q152-AC152)+(DataInput!Q153-AC153))/2)*(A153-A152))/27+S152+T152,0),0),0),0)*$X$5),1)","v":7.8},{"$f":"DataInput!U152","v":107},{"$f":"DataInput!S152","v":40},56,51]
[{"$f":"IF(DataInput!A153<>\"\",DataInput!A153,\"\")","v":84900},{"$f":"SUM(DataInput!C153,DataInput!Y153)+(DataInput!U153-DataInput!E153)","v":244},{"$f":"SUM(DataInput!D153,DataInput!Z153)","v":136},{"$f":"DataInput!U153","v":108},{"$f":"SUM(DataInput!F153,DataInput!AB153)","v":0},{"$f":"SUM(DataInput!G153,DataInput!AC153)","v":0},{"$f":"SUM(DataInput!H153,DataInput!AD153)","v":0},{"$f":"DataInput!I153","v":25},{"$f":"SUM(DataInput!J153,DataInput!AF153)","v":0},{"$f":"SUM(DataInput!K153,DataInput!AG153)","v":0},{"$f":"SUM(DataInput!L153,DataInput!AH153)","v":0},{"$f":"SUM(DataInput!M153,DataInput!AI153)","v":0},{"$f":"SUM(DataInput!N153,DataInput!AJ153)","v":0},{"$f":"SUM(DataInput!O153,DataInput!AK153)","v":0},{"$f":"DataInput!P153","v":0},null,136,{"$f":"DataInput!R153","v":113},{"$f":"DataInput!Y153","v":0},{"$f":"IF(DataInput!U153-DataInput!E153>0,DataInput!U153-DataInput!E153,\"\")","v":73},{"$f":"IF(DataInput!W153-DataInput!I153>0,DataInput!W153-DataInput!I153,\"\")","v":""},null,186,241.8,-105.8,450,3350,{"$f":"ROUNDDOWN((IF(AA154>0,IFERROR(IF(AVERAGE(DataInput!Q153:Q154)>AVERAGE(AA154,AA153),ROUNDDOWN(((((AA153-Z153)+(AA154-Z154))/2)*(A154-A153))/27,0),IF(((((DataInput!Q154-Z154)+(DataInput!Q153-Z153))/2)*(A154-A153))/27+S153+T153>0,ROUNDDOWN(((((DataInput!Q154-Z154)+(DataInput!Q153-Z153))/2)*(A154-A153))/27+S153+T153,0),0)),0),0)*$X$5),1)","v":0},176,{"$f":"ROUNDDOWN((IF(AC154>0,IFERROR(IF(((((DataInput!Q153-AC153)+(DataInput!Q154-AC154))/2)*(A154-A153))/27+S153+T153>0,ROUNDDOWN(((((DataInput!Q153-AC153)+(DataInput!Q154-AC154))/2)*(A154-A153))/27+S153+T153,0),0),0),0)*$X$5),1)","v":29.9},{"$f":"DataInput!U153","v":108},{"$f":"DataInput!S153","v":40},56,52]
[{"$f":"IF(DataInput!A154<>\"\",DataInput!A154,\"\")","v":84925},{"$f":"SUM(DataInput!C154,DataInput!Y154)+(DataInput!U154-DataInput!E154)","v":239},{"$f":"SUM(DataInput!D154,DataInput!Z154)","v":130},{"$f":"DataInput!U154","v":108},{"$f":"SUM(DataInput!F154,DataInput!AB154)","v":0},{"$f":"SUM(DataInput!G154,DataInput!AC154)","v":0},{"$f":"SUM(DataInput!H154,DataInput!AD154)","v":0},{"$f":"DataInput!I154","v":25},{"$f":"SUM(DataInput!J154,DataInput!AF154)","v":0},{"$f":"SUM(DataInput!K154,DataInput!AG154)","v":0},{"$f":"SUM(DataInput!L154,DataInput!AH154)","v":0},{"$f":"SUM(DataInput!M154,DataInput!AI154)","v":0},{"$f":"SUM(DataInput!N154,DataInput!AJ154)","v":0},{"$f":"SUM(DataInput!O154,DataInput!AK154)","v":0},{"$f":"DataInput!P154","v":0},null,130,{"$f":"DataInput!R154","v":119},{"$f":"DataInput!Y154","v":0},{"$f":"IF(DataInput!U154-DataInput!E154>0,DataInput!U154-DataInput!E154,\"\")","v":76},{"$f":"IF(DataInput!W154-DataInput!I154>0,DataInput!W154-DataInput!I154,\"\")","v":""},null,195,253.5,-123.5,450,3350,{"$f":"ROUNDDOWN((IF(AA155>0,IFERROR(IF(AVERAGE(DataInput!Q154:Q155)>AVERAGE(AA155,AA154),ROUNDDOWN(((((AA154-Z154)+(AA155-Z155))/2)*(A155-A154))/27,0),IF(((((DataInput!Q155-Z155)+(DataInput!Q154-Z154))/2)*(A155-A154))/27+S154+T154>0,ROUNDDOWN(((((DataInput!Q155-Z155)+(DataInput!Q154-Z154))/2)*(A155-A154))/27+S154+T154,0),0)),0),0)*$X$5),1)","v":0},176,{"$f":"ROUNDDOWN((IF(AC155>0,IFERROR(IF(((((DataInput!Q154-AC154)+(DataInput!Q155-AC155))/2)*(A155-A154))/27+S154+T154>0,ROUNDDOWN(((((DataInput!Q154-AC154)+(DataInput!Q155-AC155))/2)*(A155-A154))/27+S154+T154,0),0),0),0)*$X$5),1)","v":41.6},{"$f":"DataInput!U154","v":108},{"$f":"DataInput!S154","v":41},57.4,50.6]
[{"$f":"IF(DataInput!A155<>\"\",DataInput!A155,\"\")","v":84950},{"$f":"SUM(DataInput!C155,DataInput!Y155)+(DataInput!U155-DataInput!E155)","v":232},{"$f":"SUM(DataInput!D155,DataInput!Z155)","v":123},{"$f":"DataInput!U155","v":108},{"$f":"SUM(DataInput!F155,DataInput!AB155)","v":0},{"$f":"SUM(DataInput!G155,DataInput!AC155)","v":0},{"$f":"SUM(DataInput!H155,DataInput!AD155)","v":0},{"$f":"DataInput!I155","v":26},{"$f":"SUM(DataInput!J155,DataInput!AF155)","v":0},{"$f":"SUM(DataInput!K155,DataInput!AG155)","v":0},{"$f":"SUM(DataInput!L155,DataInput!AH155)","v":0},{"$f":"SUM(DataInput!M155,DataInput!AI155)","v":0},{"$f":"SUM(DataInput!N155,DataInput!AJ155)","v":0},{"$f":"SUM(DataInput!O155,DataInput!AK155)","v":0},{"$f":"DataInput!P155","v":0},null,123,{"$f":"DataInput!R155","v":120},{"$f":"DataInput!Y155","v":0},{"$f":"IF(DataInput!U155-DataInput!E155>0,DataInput!U155-DataInput!E155,\"\")","v":80},{"$f":"IF(DataInput!W155-DataInput!I155>0,DataInput!W155-DataInput!I155,\"\")","v":""},null,200,260,-137,450,3350,{"$f":"ROUNDDOWN((IF(AA156>0,IFERROR(IF(AVERAGE(DataInput!Q155:Q156)>AVERAGE(AA156,AA155),ROUNDDOWN(((((AA155-Z155)+(AA156-Z156))/2)*(A156-A155))/27,0),IF(((((DataInput!Q156-Z156)+(DataInput!Q155-Z155))/2)*(A156-A155))/27+S155+T155>0,ROUNDDOWN(((((DataInput!Q156-Z156)+(DataInput!Q155-Z155))/2)*(A156-A155))/27+S155+T155,0),0)),0),0)*$X$5),1)","v":0},176,{"$f":"ROUNDDOWN((IF(AC156>0,IFERROR(IF(((((DataInput!Q155-AC155)+(DataInput!Q156-AC156))/2)*(A156-A155))/27+S155+T155>0,ROUNDDOWN(((((DataInput!Q155-AC155)+(DataInput!Q156-AC156))/2)*(A156-A155))/27+S155+T155,0),0),0),0)*$X$5),1)","v":48.1},{"$f":"DataInput!U155","v":108},{"$f":"DataInput!S155","v":40},56,52]
[{"$f":"IF(DataInput!A156<>\"\",DataInput!A156,\"\")","v":84975},{"$f":"SUM(DataInput!C156,DataInput!Y156)+(DataInput!U156-DataInput!E156)","v":250},{"$f":"SUM(DataInput!D156,DataInput!Z156)","v":118},{"$f":"DataInput!U156","v":132},{"$f":"SUM(DataInput!F156,DataInput!AB156)","v":0},{"$f":"SUM(DataInput!G156,DataInput!AC156)","v":0},{"$f":"SUM(DataInput!H156,DataInput!AD156)","v":0},{"$f":"DataInput!I156","v":27},{"$f":"SUM(DataInput!J156,DataInput!AF156)","v":0},{"$f":"SUM(DataInput!K156,DataInput!AG156)","v":0},{"$f":"SUM(DataInput!L156,DataInput!AH156)","v":0},{"$f":"SUM(DataInput!M156,DataInput!AI156)","v":0},{"$f":"SUM(DataInput!N156,DataInput!AJ156)","v":0},{"$f":"SUM(DataInput!O156,DataInput!AK156)","v":0},{"$f":"DataInput!P156","v":0},null,118,{"$f":"DataInput!R156","v":119},{"$f":"DataInput!Y156","v":0},{"$f":"IF(DataInput!U156-DataInput!E156>0,DataInput!U156-DataInput!E156,\"\")","v":90},{"$f":"IF(DataInput!W156-DataInput!I156>0,DataInput!W156-DataInput!I156,\"\")","v":""},null,209,271.7,-153.69999999999999,450,3350,{"$f":"ROUNDDOWN((IF(AA157>0,IFERROR(IF(AVERAGE(DataInput!Q156:Q157)>AVERAGE(AA157,AA156),ROUNDDOWN(((((AA156-Z156)+(AA157-Z157))/2)*(A157-A156))/27,0),IF(((((DataInput!Q157-Z157)+(DataInput!Q156-Z156))/2)*(A157-A156))/27+S156+T156>0,ROUNDDOWN(((((DataInput!Q157-Z157)+(DataInput!Q156-Z156))/2)*(A157-A156))/27+S156+T156,0),0)),0),0)*$X$5),1)","v":0},176,{"$f":"ROUNDDOWN((IF(AC157>0,IFERROR(IF(((((DataInput!Q156-AC156)+(DataInput!Q157-AC157))/2)*(A157-A156))/27+S156+T156>0,ROUNDDOWN(((((DataInput!Q156-AC156)+(DataInput!Q157-AC157))/2)*(A157-A156))/27+S156+T156,0),0),0),0)*$X$5),1)","v":59.8},{"$f":"DataInput!U156","v":132},{"$f":"DataInput!S156","v":57},79.8,52.2]
[{"$f":"IF(DataInput!A157<>\"\",DataInput!A157,\"\")","v":85000},{"$f":"SUM(DataInput!C157,DataInput!Y157)+(DataInput!U157-DataInput!E157)","v":298},{"$f":"SUM(DataInput!D157,DataInput!Z157)","v":141},{"$f":"DataInput!U157","v":157},{"$f":"SUM(DataInput!F157,DataInput!AB157)","v":0},{"$f":"SUM(DataInput!G157,DataInput!AC157)","v":0},{"$f":"SUM(DataInput!H157,DataInput!AD157)","v":0},{"$f":"DataInput!I157","v":27},{"$f":"SUM(DataInput!J157,DataInput!AF157)","v":0},{"$f":"SUM(DataInput!K157,DataInput!AG157)","v":0},{"$f":"SUM(DataInput!L157,DataInput!AH157)","v":0},{"$f":"SUM(DataInput!M157,DataInput!AI157)","v":0},{"$f":"SUM(DataInput!N157,DataInput!AJ157)","v":0},{"$f":"SUM(DataInput!O157,DataInput!AK157)","v":0},{"$f":"DataInput!P157","v":0},null,141,{"$f":"DataInput!R157","v":104},{"$f":"DataInput!Y157","v":0},{"$f":"IF(DataInput!U157-DataInput!E157>0,DataInput!U157-DataInput!E157,\"\")","v":96},{"$f":"IF(DataInput!W157-DataInput!I157>0,DataInput!W157-DataInput!I157,\"\")","v":""},null,200,260,-119,450,3350,{"$f":"ROUNDDOWN((IF(AA158>0,IFERROR(IF(AVERAGE(DataInput!Q157:Q158)>AVERAGE(AA158,AA157),ROUNDDOWN(((((AA157-Z157)+(AA158-Z158))/2)*(A158-A157))/27,0),IF(((((DataInput!Q158-Z158)+(DataInput!Q157-Z157))/2)*(A158-A157))/27+S157+T157>0,ROUNDDOWN(((((DataInput!Q158-Z158)+(DataInput!Q157-Z157))/2)*(A158-A157))/27+S157+T157,0),0)),0),0)*$X$5),1)","v":0},176,{"$f":"ROUNDDOWN((IF(AC158>0,IFERROR(IF(((((DataInput!Q157-AC157)+(DataInput!Q158-AC158))/2)*(A158-A157))/27+S157+T157>0,ROUNDDOWN(((((DataInput!Q157-AC157)+(DataInput!Q158-AC158))/2)*(A158-A157))/27+S157+T157,0),0),0),0)*$X$5),1)","v":48.1},{"$f":"DataInput!U157","v":157},{"$f":"DataInput!S157","v":73},102.2,54.8]
[{"$f":"IF(DataInput!A158<>\"\",DataInput!A158,\"\")","v":85025},{"$f":"SUM(DataInput!C158,DataInput!Y158)+(DataInput!U158-DataInput!E158)","v":326},{"$f":"SUM(DataInput!D158,DataInput!Z158)","v":170},{"$f":"DataInput!U158","v":156},{"$f":"SUM(DataInput!F158,DataInput!AB158)","v":0},{"$f":"SUM(DataInput!G158,DataInput!AC158)","v":0},{"$f":"SUM(DataInput!H158,DataInput!AD158)","v":0},{"$f":"DataInput!I158","v":27},{"$f":"SUM(DataInput!J158,DataInput!AF158)","v":0},{"$f":"SUM(DataInput!K158,DataInput!AG158)","v":0},{"$f":"SUM(DataInput!L158,DataInput!AH158)","v":0},{"$f":"SUM(DataInput!M158,DataInput!AI158)","v":0},{"$f":"SUM(DataInput!N158,DataInput!AJ158)","v":0},{"$f":"SUM(DataInput!O158,DataInput!AK158)","v":0},{"$f":"DataInput!P158","v":0},null,170,{"$f":"DataInput!R158","v":88},{"$f":"DataInput!Y158","v":0},{"$f":"IF(DataInput!U158-DataInput!E158>0,DataInput!U158-DataInput!E158,\"\")","v":92},{"$f":"IF(DataInput!W158-DataInput!I158>0,DataInput!W158-DataInput!I158,\"\")","v":""},null,180,234,-64,450,3350,{"$f":"ROUNDDOWN((IF(AA159>0,IFERROR(IF(AVERAGE(DataInput!Q158:Q159)>AVERAGE(AA159,AA158),ROUNDDOWN(((((AA158-Z158)+(AA159-Z159))/2)*(A159-A158))/27,0),IF(((((DataInput!Q159-Z159)+(DataInput!Q158-Z158))/2)*(A159-A158))/27+S158+T158>0,ROUNDDOWN(((((DataInput!Q159-Z159)+(DataInput!Q158-Z158))/2)*(A159-A158))/27+S158+T158,0),0)),0),0)*$X$5),1)","v":0},176,{"$f":"ROUNDDOWN((IF(AC159>0,IFERROR(IF(((((DataInput!Q158-AC158)+(DataInput!Q159-AC159))/2)*(A159-A158))/27+S158+T158>0,ROUNDDOWN(((((DataInput!Q158-AC158)+(DataInput!Q159-AC159))/2)*(A159-A158))/27+S158+T158,0),0),0),0)*$X$5),1)","v":20.8},{"$f":"DataInput!U158","v":156},{"$f":"DataInput!S158","v":72},100.8,55.2]
[{"$f":"IF(DataInput!A159<>\"\",DataInput!A159,\"\")","v":85050},{"$f":"SUM(DataInput!C159,DataInput!Y159)+(DataInput!U159-DataInput!E159)","v":324},{"$f":"SUM(DataInput!D159,DataInput!Z159)","v":170},{"$f":"DataInput!U159","v":155},{"$f":"SUM(DataInput!F159,DataInput!AB159)","v":0},{"$f":"SUM(DataInput!G159,DataInput!AC159)","v":0},{"$f":"SUM(DataInput!H159,DataInput!AD159)","v":0},{"$f":"DataInput!I159","v":27},{"$f":"SUM(DataInput!J159,DataInput!AF159)","v":0},{"$f":"SUM(DataInput!K159,DataInput!AG159)","v":0},{"$f":"SUM(DataInput!L159,DataInput!AH159)","v":0},{"$f":"SUM(DataInput!M159,DataInput!AI159)","v":0},{"$f":"SUM(DataInput!N159,DataInput!AJ159)","v":0},{"$f":"SUM(DataInput!O159,DataInput!AK159)","v":0},{"$f":"DataInput!P159","v":0},null,170,{"$f":"DataInput!R159","v":85},{"$f":"DataInput!Y159","v":0},{"$f":"IF(DataInput!U159-DataInput!E159>0,DataInput!U159-DataInput!E159,\"\")","v":92},{"$f":"IF(DataInput!W159-DataInput!I159>0,DataInput!W159-DataInput!I159,\"\")","v":""},null,177,230.1,-60.1,450,3350,{"$f":"ROUNDDOWN((IF(AA160>0,IFERROR(IF(AVERAGE(DataInput!Q159:Q160)>AVERAGE(AA160,AA159),ROUNDDOWN(((((AA159-Z159)+(AA160-Z160))/2)*(A160-A159))/27,0),IF(((((DataInput!Q160-Z160)+(DataInput!Q159-Z159))/2)*(A160-A159))/27+S159+T159>0,ROUNDDOWN(((((DataInput!Q160-Z160)+(DataInput!Q159-Z159))/2)*(A160-A159))/27+S159+T159,0),0)),0),0)*$X$5),1)","v":0},176,{"$f":"ROUNDDOWN((IF(AC160>0,IFERROR(IF(((((DataInput!Q159-AC159)+(DataInput!Q160-AC160))/2)*(A160-A159))/27+S159+T159>0,ROUNDDOWN(((((DataInput!Q159-AC159)+(DataInput!Q160-AC160))/2)*(A160-A159))/27+S159+T159,0),0),0),0)*$X$5),1)","v":16.899999999999999},{"$f":"DataInput!U159","v":155},{"$f":"DataInput!S159","v":71},99.4,55.6]
[{"$f":"IF(DataInput!A160<>\"\",DataInput!A160,\"\")","v":85075},{"$f":"SUM(DataInput!C160,DataInput!Y160)+(DataInput!U160-DataInput!E160)","v":314},{"$f":"SUM(DataInput!D160,DataInput!Z160)","v":161},{"$f":"DataInput!U160","v":153},{"$f":"SUM(DataInput!F160,DataInput!AB160)","v":0},{"$f":"SUM(DataInput!G160,DataInput!AC160)","v":0},{"$f":"SUM(DataInput!H160,DataInput!AD160)","v":0},{"$f":"DataInput!I160","v":27},{"$f":"SUM(DataInput!J160,DataInput!AF160)","v":0},{"$f":"SUM(DataInput!K160,DataInput!AG160)","v":0},{"$f":"SUM(DataInput!L160,DataInput!AH160)","v":0},{"$f":"SUM(DataInput!M160,DataInput!AI160)","v":0},{"$f":"SUM(DataInput!N160,DataInput!AJ160)","v":0},{"$f":"SUM(DataInput!O160,DataInput!AK160)","v":0},{"$f":"DataInput!P160","v":0},null,161,{"$f":"DataInput!R160","v":83},{"$f":"DataInput!Y160","v":0},{"$f":"IF(DataInput!U160-DataInput!E160>0,DataInput!U160-DataInput!E160,\"\")","v":94},{"$f":"IF(DataInput!W160-DataInput!I160>0,DataInput!W160-DataInput!I160,\"\")","v":""},null,177,230.1,-69.099999999999994,450,3350,{"$f":"ROUNDDOWN((IF(AA161>0,IFERROR(IF(AVERAGE(DataInput!Q160:Q161)>AVERAGE(AA161,AA160),ROUNDDOWN(((((AA160-Z160)+(AA161-Z161))/2)*(A161-A160))/27,0),IF(((((DataInput!Q161-Z161)+(DataInput!Q160-Z160))/2)*(A161-A160))/27+S160+T160>0,ROUNDDOWN(((((DataInput!Q161-Z161)+(DataInput!Q160-Z160))/2)*(A161-A160))/27+S160+T160,0),0)),0),0)*$X$5),1)","v":0},176,{"$f":"ROUNDDOWN((IF(AC161>0,IFERROR(IF(((((DataInput!Q160-AC160)+(DataInput!Q161-AC161))/2)*(A161-A160))/27+S160+T160>0,ROUNDDOWN(((((DataInput!Q160-AC160)+(DataInput!Q161-AC161))/2)*(A161-A160))/27+S160+T160,0),0),0),0)*$X$5),1)","v":16.899999999999999},{"$f":"DataInput!U160","v":153},{"$f":"DataInput!S160","v":69},96.6,56.4]
[{"$f":"IF(DataInput!A161<>\"\",DataInput!A161,\"\")","v":85100},{"$f":"SUM(DataInput!C161,DataInput!Y161)+(DataInput!U161-DataInput!E161)","v":306},{"$f":"SUM(DataInput!D161,DataInput!Z161)","v":154},{"$f":"DataInput!U161","v":152},{"$f":"SUM(DataInput!F161,DataInput!AB161)","v":0},{"$f":"SUM(DataInput!G161,DataInput!AC161)","v":0},{"$f":"SUM(DataInput!H161,DataInput!AD161)","v":0},{"$f":"DataInput!I161","v":27},{"$f":"SUM(DataInput!J161,DataInput!AF161)","v":0},{"$f":"SUM(DataInput!K161,DataInput!AG161)","v":0},{"$f":"SUM(DataInput!L161,DataInput!AH161)","v":0},{"$f":"SUM(DataInput!M161,DataInput!AI161)","v":0},{"$f":"SUM(DataInput!N161,DataInput!AJ161)","v":0},{"$f":"SUM(DataInput!O161,DataInput!AK161)","v":0},{"$f":"DataInput!P161","v":0},null,154,{"$f":"DataInput!R161","v":77},{"$f":"DataInput!Y161","v":0},{"$f":"IF(DataInput!U161-DataInput!E161>0,DataInput!U161-DataInput!E161,\"\")","v":94},{"$f":"IF(DataInput!W161-DataInput!I161>0,DataInput!W161-DataInput!I161,\"\")","v":""},null,171,222.3,-68.3,450,3350,{"$f":"ROUNDDOWN((IF(AA162>0,IFERROR(IF(AVERAGE(DataInput!Q161:Q162)>AVERAGE(AA162,AA161),ROUNDDOWN(((((AA161-Z161)+(AA162-Z162))/2)*(A162-A161))/27,0),IF(((((DataInput!Q162-Z162)+(DataInput!Q161-Z161))/2)*(A162-A161))/27+S161+T161>0,ROUNDDOWN(((((DataInput!Q162-Z162)+(DataInput!Q161-Z161))/2)*(A162-A161))/27+S161+T161,0),0)),0),0)*$X$5),1)","v":0},176,{"$f":"ROUNDDOWN((IF(AC162>0,IFERROR(IF(((((DataInput!Q161-AC161)+(DataInput!Q162-AC162))/2)*(A162-A161))/27+S161+T161>0,ROUNDDOWN(((((DataInput!Q161-AC161)+(DataInput!Q162-AC162))/2)*(A162-A161))/27+S161+T161,0),0),0),0)*$X$5),1)","v":10.4},{"$f":"DataInput!U161","v":152},{"$f":"DataInput!S161","v":68},95.2,56.8]
[{"$f":"IF(DataInput!A162<>\"\",DataInput!A162,\"\")","v":85125},{"$f":"SUM(DataInput!C162,DataInput!Y162)+(DataInput!U162-DataInput!E162)","v":306},{"$f":"SUM(DataInput!D162,DataInput!Z162)","v":156},{"$f":"DataInput!U162","v":151},{"$f":"SUM(DataInput!F162,DataInput!AB162)","v":0},{"$f":"SUM(DataInput!G162,DataInput!AC162)","v":0},{"$f":"SUM(DataInput!H162,DataInput!AD162)","v":0},{"$f":"DataInput!I162","v":27},{"$f":"SUM(DataInput!J162,DataInput!AF162)","v":0},{"$f":"SUM(DataInput!K162,DataInput!AG162)","v":0},{"$f":"SUM(DataInput!L162,DataInput!AH162)","v":0},{"$f":"SUM(DataInput!M162,DataInput!AI162)","v":0},{"$f":"SUM(DataInput!N162,DataInput!AJ162)","v":0},{"$f":"SUM(DataInput!O162,DataInput!AK162)","v":0},{"$f":"DataInput!P162","v":0},null,156,{"$f":"DataInput!R162","v":70},{"$f":"DataInput!Y162","v":0},{"$f":"IF(DataInput!U162-DataInput!E162>0,DataInput!U162-DataInput!E162,\"\")","v":90},{"$f":"IF(DataInput!W162-DataInput!I162>0,DataInput!W162-DataInput!I162,\"\")","v":""},null,160,208,-52,450,3350,{"$f":"ROUNDDOWN((IF(AA163>0,IFERROR(IF(AVERAGE(DataInput!Q162:Q163)>AVERAGE(AA163,AA162),ROUNDDOWN(((((AA162-Z162)+(AA163-Z163))/2)*(A163-A162))/27,0),IF(((((DataInput!Q163-Z163)+(DataInput!Q162-Z162))/2)*(A163-A162))/27+S162+T162>0,ROUNDDOWN(((((DataInput!Q163-Z163)+(DataInput!Q162-Z162))/2)*(A163-A162))/27+S162+T162,0),0)),0),0)*$X$5),1)","v":0},176,{"$f":"ROUNDDOWN((IF(AC163>0,IFERROR(IF(((((DataInput!Q162-AC162)+(DataInput!Q163-AC163))/2)*(A163-A162))/27+S162+T162>0,ROUNDDOWN(((((DataInput!Q162-AC162)+(DataInput!Q163-AC163))/2)*(A163-A162))/27+S162+T162,0),0),0),0)*$X$5),1)","v":0},{"$f":"DataInput!U162","v":151},{"$f":"DataInput!S162","v":67},93.8,57.2]
[{"$f":"IF(DataInput!A163<>\"\",DataInput!A163,\"\")","v":85150},{"$f":"SUM(DataInput!C163,DataInput!Y163)+(DataInput!U163-DataInput!E163)","v":307},{"$f":"SUM(DataInput!D163,DataInput!Z163)","v":157},{"$f":"DataInput!U163","v":150},{"$f":"SUM(DataInput!F163,DataInput!AB163)","v":0},{"$f":"SUM(DataInput!G163,DataInput!AC163)","v":0},{"$f":"SUM(DataInput!H163,DataInput!AD163)","v":0},{"$f":"DataInput!I163","v":27},{"$f":"SUM(DataInput!J163,DataInput!AF163)","v":0},{"$f":"SUM(DataInput!K163,DataInput!AG163)","v":0},{"$f":"SUM(DataInput!L163,DataInput!AH163)","v":0},{"$f":"SUM(DataInput!M163,DataInput!AI163)","v":0},{"$f":"SUM(DataInput!N163,DataInput!AJ163)","v":0},{"$f":"SUM(DataInput!O163,DataInput!AK163)","v":0},{"$f":"DataInput!P163","v":0},null,157,{"$f":"DataInput!R163","v":63},{"$f":"DataInput!Y163","v":0},{"$f":"IF(DataInput!U163-DataInput!E163>0,DataInput!U163-DataInput!E163,\"\")","v":87},{"$f":"IF(DataInput!W163-DataInput!I163>0,DataInput!W163-DataInput!I163,\"\")","v":""},null,150,195,-38,450,3350,{"$f":"ROUNDDOWN((IF(AA164>0,IFERROR(IF(AVERAGE(DataInput!Q163:Q164)>AVERAGE(AA164,AA163),ROUNDDOWN(((((AA163-Z163)+(AA164-Z164))/2)*(A164-A163))/27,0),IF(((((DataInput!Q164-Z164)+(DataInput!Q163-Z163))/2)*(A164-A163))/27+S163+T163>0,ROUNDDOWN(((((DataInput!Q164-Z164)+(DataInput!Q163-Z163))/2)*(A164-A163))/27+S163+T163,0),0)),0),0)*$X$5),1)","v":0},176,{"$f":"ROUNDDOWN((IF(AC164>0,IFERROR(IF(((((DataInput!Q163-AC163)+(DataInput!Q164-AC164))/2)*(A164-A163))/27+S163+T163>0,ROUNDDOWN(((((DataInput!Q163-AC163)+(DataInput!Q164-AC164))/2)*(A164-A163))/27+S163+T163,0),0),0),0)*$X$5),1)","v":0},{"$f":"DataInput!U163","v":150},{"$f":"DataInput!S163","v":66},92.4,57.6]
[{"$f":"IF(DataInput!A164<>\"\",DataInput!A164,\"\")","v":85175},{"$f":"SUM(DataInput!C164,DataInput!Y164)+(DataInput!U164-DataInput!E164)","v":306},{"$f":"SUM(DataInput!D164,DataInput!Z164)","v":157},{"$f":"DataInput!U164","v":149},{"$f":"SUM(DataInput!F164,DataInput!AB164)","v":0},{"$f":"SUM(DataInput!G164,DataInput!AC164)","v":0},{"$f":"SUM(DataInput!H164,DataInput!AD164)","v":0},{"$f":"DataInput!I164","v":27},{"$f":"SUM(DataInput!J164,DataInput!AF164)","v":0},{"$f":"SUM(DataInput!K164,DataInput!AG164)","v":0},{"$f":"SUM(DataInput!L164,DataInput!AH164)","v":0},{"$f":"SUM(DataInput!M164,DataInput!AI164)","v":0},{"$f":"SUM(DataInput!N164,DataInput!AJ164)","v":0},{"$f":"SUM(DataInput!O164,DataInput!AK164)","v":0},{"$f":"DataInput!P164","v":0},null,157,{"$f":"DataInput!R164","v":59},{"$f":"DataInput!Y164","v":0},{"$f":"IF(DataInput!U164-DataInput!E164>0,DataInput!U164-DataInput!E164,\"\")","v":85},{"$f":"IF(DataInput!W164-DataInput!I164>0,DataInput!W164-DataInput!I164,\"\")","v":""},null,144,187.2,-30.2,450,3350,{"$f":"ROUNDDOWN((IF(AA165>0,IFERROR(IF(AVERAGE(DataInput!Q164:Q165)>AVERAGE(AA165,AA164),ROUNDDOWN(((((AA164-Z164)+(AA165-Z165))/2)*(A165-A164))/27,0),IF(((((DataInput!Q165-Z165)+(DataInput!Q164-Z164))/2)*(A165-A164))/27+S164+T164>0,ROUNDDOWN(((((DataInput!Q165-Z165)+(DataInput!Q164-Z164))/2)*(A165-A164))/27+S164+T164,0),0)),0),0)*$X$5),1)","v":0},176,{"$f":"ROUNDDOWN((IF(AC165>0,IFERROR(IF(((((DataInput!Q164-AC164)+(DataInput!Q165-AC165))/2)*(A165-A164))/27+S164+T164>0,ROUNDDOWN(((((DataInput!Q164-AC164)+(DataInput!Q165-AC165))/2)*(A165-A164))/27+S164+T164,0),0),0),0)*$X$5),1)","v":0},{"$f":"DataInput!U164","v":149},{"$f":"DataInput!S164","v":65},91,58]
[{"$f":"IF(DataInput!A165<>\"\",DataInput!A165,\"\")","v":85200},{"$f":"SUM(DataInput!C165,DataInput!Y165)+(DataInput!U165-DataInput!E165)","v":303},{"$f":"SUM(DataInput!D165,DataInput!Z165)","v":156},{"$f":"DataInput!U165","v":147},{"$f":"SUM(DataInput!F165,DataInput!AB165)","v":0},{"$f":"SUM(DataInput!G165,DataInput!AC165)","v":0},{"$f":"SUM(DataInput!H165,DataInput!AD165)","v":0},{"$f":"DataInput!I165","v":27},{"$f":"SUM(DataInput!J165,DataInput!AF165)","v":0},{"$f":"SUM(DataInput!K165,DataInput!AG165)","v":0},{"$f":"SUM(DataInput!L165,DataInput!AH165)","v":0},{"$f":"SUM(DataInput!M165,DataInput!AI165)","v":0},{"$f":"SUM(DataInput!N165,DataInput!AJ165)","v":0},{"$f":"SUM(DataInput!O165,DataInput!AK165)","v":0},{"$f":"DataInput!P165","v":0},null,156,{"$f":"DataInput!R165","v":54},{"$f":"DataInput!Y165","v":0},{"$f":"IF(DataInput!U165-DataInput!E165>0,DataInput!U165-DataInput!E165,\"\")","v":81},{"$f":"IF(DataInput!W165-DataInput!I165>0,DataInput!W165-DataInput!I165,\"\")","v":""},null,135,175.5,-19.5,450,3350,{"$f":"ROUNDDOWN((IF(AA166>0,IFERROR(IF(AVERAGE(DataInput!Q165:Q166)>AVERAGE(AA166,AA165),ROUNDDOWN(((((AA165-Z165)+(AA166-Z166))/2)*(A166-A165))/27,0),IF(((((DataInput!Q166-Z166)+(DataInput!Q165-Z165))/2)*(A166-A165))/27+S165+T165>0,ROUNDDOWN(((((DataInput!Q166-Z166)+(DataInput!Q165-Z165))/2)*(A166-A165))/27+S165+T165,0),0)),0),0)*$X$5),1)","v":0},176,{"$f":"ROUNDDOWN((IF(AC166>0,IFERROR(IF(((((DataInput!Q165-AC165)+(DataInput!Q166-AC166))/2)*(A166-A165))/27+S165+T165>0,ROUNDDOWN(((((DataInput!Q165-AC165)+(DataInput!Q166-AC166))/2)*(A166-A165))/27+S165+T165,0),0),0),0)*$X$5),1)","v":0},{"$f":"DataInput!U165","v":147},{"$f":"DataInput!S165","v":64},89.6,57.4]
[{"$f":"IF(DataInput!A166<>\"\",DataInput!A166,\"\")","v":85225},{"$f":"SUM(DataInput!C166,DataInput!Y166)+(DataInput!U166-DataInput!E166)","v":304},{"$f":"SUM(DataInput!D166,DataInput!Z166)","v":157},{"$f":"DataInput!U166","v":146},{"$f":"SUM(DataInput!F166,DataInput!AB166)","v":0},{"$f":"SUM(DataInput!G166,DataInput!AC166)","v":0},{"$f":"SUM(DataInput!H166,DataInput!AD166)","v":0},{"$f":"DataInput!I166","v":27},{"$f":"SUM(DataInput!J166,DataInput!AF166)","v":0},{"$f":"SUM(DataInput!K166,DataInput!AG166)","v":0},{"$f":"SUM(DataInput!L166,DataInput!AH166)","v":0},{"$f":"SUM(DataInput!M166,DataInput!AI166)","v":0},{"$f":"SUM(DataInput!N166,DataInput!AJ166)","v":0},{"$f":"SUM(DataInput!O166,DataInput!AK166)","v":0},{"$f":"DataInput!P166","v":0},null,157,{"$f":"DataInput!R166","v":48},{"$f":"DataInput!Y166","v":0},{"$f":"IF(DataInput!U166-DataInput!E166>0,DataInput!U166-DataInput!E166,\"\")","v":75},{"$f":"IF(DataInput!W166-DataInput!I166>0,DataInput!W166-DataInput!I166,\"\")","v":""},null,123,159.9,-3,450,3350,{"$f":"ROUNDDOWN((IF(AA167>0,IFERROR(IF(AVERAGE(DataInput!Q166:Q167)>AVERAGE(AA167,AA166),ROUNDDOWN(((((AA166-Z166)+(AA167-Z167))/2)*(A167-A166))/27,0),IF(((((DataInput!Q167-Z167)+(DataInput!Q166-Z166))/2)*(A167-A166))/27+S166+T166>0,ROUNDDOWN(((((DataInput!Q167-Z167)+(DataInput!Q166-Z166))/2)*(A167-A166))/27+S166+T166,0),0)),0),0)*$X$5),1)","v":0},176,{"$f":"ROUNDDOWN((IF(AC167>0,IFERROR(IF(((((DataInput!Q166-AC166)+(DataInput!Q167-AC167))/2)*(A167-A166))/27+S166+T166>0,ROUNDDOWN(((((DataInput!Q166-AC166)+(DataInput!Q167-AC167))/2)*(A167-A166))/27+S166+T166,0),0),0),0)*$X$5),1)","v":0},{"$f":"DataInput!U166","v":146},{"$f":"DataInput!S166","v":62},86.8,59.2]
[{"$f":"IF(DataInput!A167<>\"\",DataInput!A167,\"\")","v":85250},{"$f":"SUM(DataInput!C167,DataInput!Y167)+(DataInput!U167-DataInput!E167)","v":305},{"$f":"SUM(DataInput!D167,DataInput!Z167)","v":160},{"$f":"DataInput!U167","v":145},{"$f":"SUM(DataInput!F167,DataInput!AB167)","v":0},{"$f":"SUM(DataInput!G167,DataInput!AC167)","v":0},{"$f":"SUM(DataInput!H167,DataInput!AD167)","v":0},{"$f":"DataInput!I167","v":27},{"$f":"SUM(DataInput!J167,DataInput!AF167)","v":0},{"$f":"SUM(DataInput!K167,DataInput!AG167)","v":0},{"$f":"SUM(DataInput!L167,DataInput!AH167)","v":0},{"$f":"SUM(DataInput!M167,DataInput!AI167)","v":0},{"$f":"SUM(DataInput!N167,DataInput!AJ167)","v":0},{"$f":"SUM(DataInput!O167,DataInput!AK167)","v":0},{"$f":"DataInput!P167","v":0},null,160,{"$f":"DataInput!R167","v":40},{"$f":"DataInput!Y167","v":0},{"$f":"IF(DataInput!U167-DataInput!E167>0,DataInput!U167-DataInput!E167,\"\")","v":70},{"$f":"IF(DataInput!W167-DataInput!I167>0,DataInput!W167-DataInput!I167,\"\")","v":""},null,110,143,17,450,3350,{"$f":"ROUNDDOWN((IF(AA168>0,IFERROR(IF(AVERAGE(DataInput!Q167:Q168)>AVERAGE(AA168,AA167),ROUNDDOWN(((((AA167-Z167)+(AA168-Z168))/2)*(A168-A167))/27,0),IF(((((DataInput!Q168-Z168)+(DataInput!Q167-Z167))/2)*(A168-A167))/27+S167+T167>0,ROUNDDOWN(((((DataInput!Q168-Z168)+(DataInput!Q167-Z167))/2)*(A168-A167))/27+S167+T167,0),0)),0),0)*$X$5),1)","v":0},176,{"$f":"ROUNDDOWN((IF(AC168>0,IFERROR(IF(((((DataInput!Q167-AC167)+(DataInput!Q168-AC168))/2)*(A168-A167))/27+S167+T167>0,ROUNDDOWN(((((DataInput!Q167-AC167)+(DataInput!Q168-AC168))/2)*(A168-A167))/27+S167+T167,0),0),0),0)*$X$5),1)","v":0},{"$f":"DataInput!U167","v":145},{"$f":"DataInput!S167","v":61},85.4,59.6]
[{"$f":"IF(DataInput!A168<>\"\",DataInput!A168,\"\")","v":85275},{"$f":"SUM(DataInput!C168,DataInput!Y168)+(DataInput!U168-DataInput!E168)","v":305},{"$f":"SUM(DataInput!D168,DataInput!Z168)","v":162},{"$f":"DataInput!U168","v":144},{"$f":"SUM(DataInput!F168,DataInput!AB168)","v":0},{"$f":"SUM(DataInput!G168,DataInput!AC168)","v":0},{"$f":"SUM(DataInput!H168,DataInput!AD168)","v":0},{"$f":"DataInput!I168","v":27},{"$f":"SUM(DataInput!J168,DataInput!AF168)","v":0},{"$f":"SUM(DataInput!K168,DataInput!AG168)","v":0},{"$f":"SUM(DataInput!L168,DataInput!AH168)","v":0},{"$f":"SUM(DataInput!M168,DataInput!AI168)","v":0},{"$f":"SUM(DataInput!N168,DataInput!AJ168)","v":0},{"$f":"SUM(DataInput!O168,DataInput!AK168)","v":0},{"$f":"DataInput!P168","v":0},null,162,{"$f":"DataInput!R168","v":35},{"$f":"DataInput!Y168","v":0},{"$f":"IF(DataInput!U168-DataInput!E168>0,DataInput!U168-DataInput!E168,\"\")","v":67},{"$f":"IF(DataInput!W168-DataInput!I168>0,DataInput!W168-DataInput!I168,\"\")","v":""},null,102,132.6,29.4,450,3350,{"$f":"ROUNDDOWN((IF(AA169>0,IFERROR(IF(AVERAGE(DataInput!Q168:Q169)>AVERAGE(AA169,AA168),ROUNDDOWN(((((AA168-Z168)+(AA169-Z169))/2)*(A169-A168))/27,0),IF(((((DataInput!Q169-Z169)+(DataInput!Q168-Z168))/2)*(A169-A168))/27+S168+T168>0,ROUNDDOWN(((((DataInput!Q169-Z169)+(DataInput!Q168-Z168))/2)*(A169-A168))/27+S168+T168,0),0)),0),0)*$X$5),1)","v":0},176,{"$f":"ROUNDDOWN((IF(AC169>0,IFERROR(IF(((((DataInput!Q168-AC168)+(DataInput!Q169-AC169))/2)*(A169-A168))/27+S168+T168>0,ROUNDDOWN(((((DataInput!Q168-AC168)+(DataInput!Q169-AC169))/2)*(A169-A168))/27+S168+T168,0),0),0),0)*$X$5),1)","v":0},{"$f":"DataInput!U168","v":144},{"$f":"DataInput!S168","v":60},84,60]
[{"$f":"IF(DataInput!A169<>\"\",DataInput!A169,\"\")","v":85300},{"$f":"SUM(DataInput!C169,DataInput!Y169)+(DataInput!U169-DataInput!E169)","v":303},{"$f":"SUM(DataInput!D169,DataInput!Z169)","v":161},{"$f":"DataInput!U169","v":142},{"$f":"SUM(DataInput!F169,DataInput!AB169)","v":0},{"$f":"SUM(DataInput!G169,DataInput!AC169)","v":0},{"$f":"SUM(DataInput!H169,DataInput!AD169)","v":0},{"$f":"DataInput!I169","v":27},{"$f":"SUM(DataInput!J169,DataInput!AF169)","v":0},{"$f":"SUM(DataInput!K169,DataInput!AG169)","v":0},{"$f":"SUM(DataInput!L169,DataInput!AH169)","v":0},{"$f":"SUM(DataInput!M169,DataInput!AI169)","v":0},{"$f":"SUM(DataInput!N169,DataInput!AJ169)","v":0},{"$f":"SUM(DataInput!O169,DataInput!AK169)","v":0},{"$f":"DataInput!P169","v":0},null,161,{"$f":"DataInput!R169","v":29},{"$f":"DataInput!Y169","v":0},{"$f":"IF(DataInput!U169-DataInput!E169>0,DataInput!U169-DataInput!E169,\"\")","v":63},{"$f":"IF(DataInput!W169-DataInput!I169>0,DataInput!W169-DataInput!I169,\"\")","v":""},null,92,119.6,41.4,450,3350,{"$f":"ROUNDDOWN((IF(AA170>0,IFERROR(IF(AVERAGE(DataInput!Q169:Q170)>AVERAGE(AA170,AA169),ROUNDDOWN(((((AA169-Z169)+(AA170-Z170))/2)*(A170-A169))/27,0),IF(((((DataInput!Q170-Z170)+(DataInput!Q169-Z169))/2)*(A170-A169))/27+S169+T169>0,ROUNDDOWN(((((DataInput!Q170-Z170)+(DataInput!Q169-Z169))/2)*(A170-A169))/27+S169+T169,0),0)),0),0)*$X$5),1)","v":0},176,{"$f":"ROUNDDOWN((IF(AC170>0,IFERROR(IF(((((DataInput!Q169-AC169)+(DataInput!Q170-AC170))/2)*(A170-A169))/27+S169+T169>0,ROUNDDOWN(((((DataInput!Q169-AC169)+(DataInput!Q170-AC170))/2)*(A170-A169))/27+S169+T169,0),0),0),0)*$X$5),1)","v":0},{"$f":"DataInput!U169","v":142},{"$f":"DataInput!S169","v":59},82.6,59.4]
[{"$f":"IF(DataInput!A170<>\"\",DataInput!A170,\"\")","v":85325},{"$f":"SUM(DataInput!C170,DataInput!Y170)+(DataInput!U170-DataInput!E170)","v":307},{"$f":"SUM(DataInput!D170,DataInput!Z170)","v":166},{"$f":"DataInput!U170","v":141},{"$f":"SUM(DataInput!F170,DataInput!AB170)","v":0},{"$f":"SUM(DataInput!G170,DataInput!AC170)","v":0},{"$f":"SUM(DataInput!H170,DataInput!AD170)","v":0},{"$f":"DataInput!I170","v":27},{"$f":"SUM(DataInput!J170,DataInput!AF170)","v":0},{"$f":"SUM(DataInput!K170,DataInput!AG170)","v":0},{"$f":"SUM(DataInput!L170,DataInput!AH170)","v":0},{"$f":"SUM(DataInput!M170,DataInput!AI170)","v":0},{"$f":"SUM(DataInput!N170,DataInput!AJ170)","v":0},{"$f":"SUM(DataInput!O170,DataInput!AK170)","v":0},{"$f":"DataInput!P170","v":0},null,166,{"$f":"DataInput!R170","v":21},{"$f":"DataInput!Y170","v":0},{"$f":"IF(DataInput!U170-DataInput!E170>0,DataInput!U170-DataInput!E170,\"\")","v":58},{"$f":"IF(DataInput!W170-DataInput!I170>0,DataInput!W170-DataInput!I170,\"\")","v":""},null,79,102.7,63.3,450,3350,{"$f":"ROUNDDOWN((IF(AA171>0,IFERROR(IF(AVERAGE(DataInput!Q170:Q171)>AVERAGE(AA171,AA170),ROUNDDOWN(((((AA170-Z170)+(AA171-Z171))/2)*(A171-A170))/27,0),IF(((((DataInput!Q171-Z171)+(DataInput!Q170-Z170))/2)*(A171-A170))/27+S170+T170>0,ROUNDDOWN(((((DataInput!Q171-Z171)+(DataInput!Q170-Z170))/2)*(A171-A170))/27+S170+T170,0),0)),0),0)*$X$5),1)","v":0},176,{"$f":"ROUNDDOWN((IF(AC171>0,IFERROR(IF(((((DataInput!Q170-AC170)+(DataInput!Q171-AC171))/2)*(A171-A170))/27+S170+T170>0,ROUNDDOWN(((((DataInput!Q170-AC170)+(DataInput!Q171-AC171))/2)*(A171-A170))/27+S170+T170,0),0),0),0)*$X$5),1)","v":0},{"$f":"DataInput!U170","v":141},{"$f":"DataInput!S170","v":58},81.2,59.8]
[{"$f":"IF(DataInput!A171<>\"\",DataInput!A171,\"\")","v":85350},{"$f":"SUM(DataInput!C171,DataInput!Y171)+(DataInput!U171-DataInput!E171)","v":316},{"$f":"SUM(DataInput!D171,DataInput!Z171)","v":175},{"$f":"DataInput!U171","v":140},{"$f":"SUM(DataInput!F171,DataInput!AB171)","v":0},{"$f":"SUM(DataInput!G171,DataInput!AC171)","v":0},{"$f":"SUM(DataInput!H171,DataInput!AD171)","v":0},{"$f":"DataInput!I171","v":27},{"$f":"SUM(DataInput!J171,DataInput!AF171)","v":0},{"$f":"SUM(DataInput!K171,DataInput!AG171)","v":0},{"$f":"SUM(DataInput!L171,DataInput!AH171)","v":0},{"$f":"SUM(DataInput!M171,DataInput!AI171)","v":0},{"$f":"SUM(DataInput!N171,DataInput!AJ171)","v":0},{"$f":"SUM(DataInput!O171,DataInput!AK171)","v":0},{"$f":"DataInput!P171","v":0},null,175,{"$f":"DataInput!R171","v":13},{"$f":"DataInput!Y171","v":0},{"$f":"IF(DataInput!U171-DataInput!E171>0,DataInput!U171-DataInput!E171,\"\")","v":49},{"$f":"IF(DataInput!W171-DataInput!I171>0,DataInput!W171-DataInput!I171,\"\")","v":""},null,62,80.599999999999994,94.4,450,3350,{"$f":"ROUNDDOWN((IF(AA172>0,IFERROR(IF(AVERAGE(DataInput!Q171:Q172)>AVERAGE(AA172,AA171),ROUNDDOWN(((((AA171-Z171)+(AA172-Z172))/2)*(A172-A171))/27,0),IF(((((DataInput!Q172-Z172)+(DataInput!Q171-Z171))/2)*(A172-A171))/27+S171+T171>0,ROUNDDOWN(((((DataInput!Q172-Z172)+(DataInput!Q171-Z171))/2)*(A172-A171))/27+S171+T171,0),0)),0),0)*$X$5),1)","v":0},176,{"$f":"ROUNDDOWN((IF(AC172>0,IFERROR(IF(((((DataInput!Q171-AC171)+(DataInput!Q172-AC172))/2)*(A172-A171))/27+S171+T171>0,ROUNDDOWN(((((DataInput!Q171-AC171)+(DataInput!Q172-AC172))/2)*(A172-A171))/27+S171+T171,0),0),0),0)*$X$5),1)","v":0},{"$f":"DataInput!U171","v":140},{"$f":"DataInput!S171","v":57},79.8,60.2]
[{"$f":"IF(DataInput!A172<>\"\",DataInput!A172,\"\")","v":85375},{"$f":"SUM(DataInput!C172,DataInput!Y172)+(DataInput!U172-DataInput!E172)","v":322},{"$f":"SUM(DataInput!D172,DataInput!Z172)","v":184},{"$f":"DataInput!U172","v":138},{"$f":"SUM(DataInput!F172,DataInput!AB172)","v":0},{"$f":"SUM(DataInput!G172,DataInput!AC172)","v":0},{"$f":"SUM(DataInput!H172,DataInput!AD172)","v":0},{"$f":"DataInput!I172","v":27},{"$f":"SUM(DataInput!J172,DataInput!AF172)","v":0},{"$f":"SUM(DataInput!K172,DataInput!AG172)","v":0},{"$f":"SUM(DataInput!L172,DataInput!AH172)","v":0},{"$f":"SUM(DataInput!M172,DataInput!AI172)","v":0},{"$f":"SUM(DataInput!N172,DataInput!AJ172)","v":0},{"$f":"SUM(DataInput!O172,DataInput!AK172)","v":0},{"$f":"DataInput!P172","v":0},null,184,{"$f":"DataInput!R172","v":8},{"$f":"DataInput!Y172","v":0},{"$f":"IF(DataInput!U172-DataInput!E172>0,DataInput!U172-DataInput!E172,\"\")","v":39},{"$f":"IF(DataInput!W172-DataInput!I172>0,DataInput!W172-DataInput!I172,\"\")","v":""},null,47,61.1,122.9,450,3350,{"$f":"ROUNDDOWN((IF(AA173>0,IFERROR(IF(AVERAGE(DataInput!Q172:Q173)>AVERAGE(AA173,AA172),ROUNDDOWN(((((AA172-Z172)+(AA173-Z173))/2)*(A173-A172))/27,0),IF(((((DataInput!Q173-Z173)+(DataInput!Q172-Z172))/2)*(A173-A172))/27+S172+T172>0,ROUNDDOWN(((((DataInput!Q173-Z173)+(DataInput!Q172-Z172))/2)*(A173-A172))/27+S172+T172,0),0)),0),0)*$X$5),1)","v":0},176,{"$f":"ROUNDDOWN((IF(AC173>0,IFERROR(IF(((((DataInput!Q172-AC172)+(DataInput!Q173-AC173))/2)*(A173-A172))/27+S172+T172>0,ROUNDDOWN(((((DataInput!Q172-AC172)+(DataInput!Q173-AC173))/2)*(A173-A172))/27+S172+T172,0),0),0),0)*$X$5),1)","v":0},{"$f":"DataInput!U172","v":138},{"$f":"DataInput!S172","v":56},78.400000000000006,59.6]
[{"$f":"IF(DataInput!A173<>\"\",DataInput!A173,\"\")","v":85400},{"$f":"SUM(DataInput!C173,DataInput!Y173)+(DataInput!U173-DataInput!E173)","v":330},{"$f":"SUM(DataInput!D173,DataInput!Z173)","v":192},{"$f":"DataInput!U173","v":137},{"$f":"SUM(DataInput!F173,DataInput!AB173)","v":0},{"$f":"SUM(DataInput!G173,DataInput!AC173)","v":2},{"$f":"SUM(DataInput!H173,DataInput!AD173)","v":0},{"$f":"DataInput!I173","v":27},{"$f":"SUM(DataInput!J173,DataInput!AF173)","v":0},{"$f":"SUM(DataInput!K173,DataInput!AG173)","v":0},{"$f":"SUM(DataInput!L173,DataInput!AH173)","v":0},{"$f":"SUM(DataInput!M173,DataInput!AI173)","v":0},{"$f":"SUM(DataInput!N173,DataInput!AJ173)","v":0},{"$f":"SUM(DataInput!O173,DataInput!AK173)","v":0},{"$f":"DataInput!P173","v":0},null,194,{"$f":"DataInput!R173","v":4},{"$f":"DataInput!Y173","v":0},{"$f":"IF(DataInput!U173-DataInput!E173>0,DataInput!U173-DataInput!E173,\"\")","v":32},{"$f":"IF(DataInput!W173-DataInput!I173>0,DataInput!W173-DataInput!I173,\"\")","v":""},null,36,46.8,147.19999999999999,450,3350,{"$f":"ROUNDDOWN((IF(AA174>0,IFERROR(IF(AVERAGE(DataInput!Q173:Q174)>AVERAGE(AA174,AA173),ROUNDDOWN(((((AA173-Z173)+(AA174-Z174))/2)*(A174-A173))/27,0),IF(((((DataInput!Q174-Z174)+(DataInput!Q173-Z173))/2)*(A174-A173))/27+S173+T173>0,ROUNDDOWN(((((DataInput!Q174-Z174)+(DataInput!Q173-Z173))/2)*(A174-A173))/27+S173+T173,0),0)),0),0)*$X$5),1)","v":0},176,{"$f":"ROUNDDOWN((IF(AC174>0,IFERROR(IF(((((DataInput!Q173-AC173)+(DataInput!Q174-AC174))/2)*(A174-A173))/27+S173+T173>0,ROUNDDOWN(((((DataInput!Q173-AC173)+(DataInput!Q174-AC174))/2)*(A174-A173))/27+S173+T173,0),0),0),0)*$X$5),1)","v":0},{"$f":"DataInput!U173","v":137},{"$f":"DataInput!S173","v":55},77,60]
[{"$f":"IF(DataInput!A174<>\"\",DataInput!A174,\"\")","v":85425},{"$f":"SUM(DataInput!C174,DataInput!Y174)+(DataInput!U174-DataInput!E174)","v":341},{"$f":"SUM(DataInput!D174,DataInput!Z174)","v":201},{"$f":"DataInput!U174","v":136},{"$f":"SUM(DataInput!F174,DataInput!AB174)","v":0},{"$f":"SUM(DataInput!G174,DataInput!AC174)","v":5},{"$f":"SUM(DataInput!H174,DataInput!AD174)","v":0},{"$f":"DataInput!I174","v":27},{"$f":"SUM(DataInput!J174,DataInput!AF174)","v":0},{"$f":"SUM(DataInput!K174,DataInput!AG174)","v":0},{"$f":"SUM(DataInput!L174,DataInput!AH174)","v":0},{"$f":"SUM(DataInput!M174,DataInput!AI174)","v":0},{"$f":"SUM(DataInput!N174,DataInput!AJ174)","v":0},{"$f":"SUM(DataInput!O174,DataInput!AK174)","v":0},{"$f":"DataInput!P174","v":0},null,206,{"$f":"DataInput!R174","v":3},{"$f":"DataInput!Y174","v":0},{"$f":"IF(DataInput!U174-DataInput!E174>0,DataInput!U174-DataInput!E174,\"\")","v":27},{"$f":"IF(DataInput!W174-DataInput!I174>0,DataInput!W174-DataInput!I174,\"\")","v":""},null,30,39,167,450,3350,{"$f":"ROUNDDOWN((IF(AA175>0,IFERROR(IF(AVERAGE(DataInput!Q174:Q175)>AVERAGE(AA175,AA174),ROUNDDOWN(((((AA174-Z174)+(AA175-Z175))/2)*(A175-A174))/27,0),IF(((((DataInput!Q175-Z175)+(DataInput!Q174-Z174))/2)*(A175-A174))/27+S174+T174>0,ROUNDDOWN(((((DataInput!Q175-Z175)+(DataInput!Q174-Z174))/2)*(A175-A174))/27+S174+T174,0),0)),0),0)*$X$5),1)","v":0},176,{"$f":"ROUNDDOWN((IF(AC175>0,IFERROR(IF(((((DataInput!Q174-AC174)+(DataInput!Q175-AC175))/2)*(A175-A174))/27+S174+T174>0,ROUNDDOWN(((((DataInput!Q174-AC174)+(DataInput!Q175-AC175))/2)*(A175-A174))/27+S174+T174,0),0),0),0)*$X$5),1)","v":0},{"$f":"DataInput!U174","v":136},{"$f":"DataInput!S174","v":54},75.599999999999994,60.4]
[{"$f":"IF(DataInput!A175<>\"\",DataInput!A175,\"\")","v":85450},{"$f":"SUM(DataInput!C175,DataInput!Y175)+(DataInput!U175-DataInput!E175)","v":352},{"$f":"SUM(DataInput!D175,DataInput!Z175)","v":211},{"$f":"DataInput!U175","v":136},{"$f":"SUM(DataInput!F175,DataInput!AB175)","v":0},{"$f":"SUM(DataInput!G175,DataInput!AC175)","v":4},{"$f":"SUM(DataInput!H175,DataInput!AD175)","v":0},{"$f":"DataInput!I175","v":27},{"$f":"SUM(DataInput!J175,DataInput!AF175)","v":0},{"$f":"SUM(DataInput!K175,DataInput!AG175)","v":0},{"$f":"SUM(DataInput!L175,DataInput!AH175)","v":0},{"$f":"SUM(DataInput!M175,DataInput!AI175)","v":0},{"$f":"SUM(DataInput!N175,DataInput!AJ175)","v":0},{"$f":"SUM(DataInput!O175,DataInput!AK175)","v":0},{"$f":"DataInput!P175","v":0},null,215,{"$f":"DataInput!R175","v":3},{"$f":"DataInput!Y175","v":0},{"$f":"IF(DataInput!U175-DataInput!E175>0,DataInput!U175-DataInput!E175,\"\")","v":25},{"$f":"IF(DataInput!W175-DataInput!I175>0,DataInput!W175-DataInput!I175,\"\")","v":""},null,28,36.4,178.6,450,3350,{"$f":"ROUNDDOWN((IF(AA176>0,IFERROR(IF(AVERAGE(DataInput!Q175:Q176)>AVERAGE(AA176,AA175),ROUNDDOWN(((((AA175-Z175)+(AA176-Z176))/2)*(A176-A175))/27,0),IF(((((DataInput!Q176-Z176)+(DataInput!Q175-Z175))/2)*(A176-A175))/27+S175+T175>0,ROUNDDOWN(((((DataInput!Q176-Z176)+(DataInput!Q175-Z175))/2)*(A176-A175))/27+S175+T175,0),0)),0),0)*$X$5),1)","v":0},176,{"$f":"ROUNDDOWN((IF(AC176>0,IFERROR(IF(((((DataInput!Q175-AC175)+(DataInput!Q176-AC176))/2)*(A176-A175))/27+S175+T175>0,ROUNDDOWN(((((DataInput!Q175-AC175)+(DataInput!Q176-AC176))/2)*(A176-A175))/27+S175+T175,0),0),0),0)*$X$5),1)","v":0},{"$f":"DataInput!U175","v":136},{"$f":"DataInput!S175","v":53},74.2,61.8]
[{"$f":"IF(DataInput!A176<>\"\",DataInput!A176,\"\")","v":85475},{"$f":"SUM(DataInput!C176,DataInput!Y176)+(DataInput!U176-DataInput!E176)","v":363},{"$f":"SUM(DataInput!D176,DataInput!Z176)","v":222},{"$f":"DataInput!U176","v":136},{"$f":"SUM(DataInput!F176,DataInput!AB176)","v":0},{"$f":"SUM(DataInput!G176,DataInput!AC176)","v":4},{"$f":"SUM(DataInput!H176,DataInput!AD176)","v":0},{"$f":"DataInput!I176","v":27},{"$f":"SUM(DataInput!J176,DataInput!AF176)","v":0},{"$f":"SUM(DataInput!K176,DataInput!AG176)","v":0},{"$f":"SUM(DataInput!L176,DataInput!AH176)","v":0},{"$f":"SUM(DataInput!M176,DataInput!AI176)","v":0},{"$f":"SUM(DataInput!N176,DataInput!AJ176)","v":0},{"$f":"SUM(DataInput!O176,DataInput!AK176)","v":0},{"$f":"DataInput!P176","v":0},null,226,{"$f":"DataInput!R176","v":3},{"$f":"DataInput!Y176","v":0},{"$f":"IF(DataInput!U176-DataInput!E176>0,DataInput!U176-DataInput!E176,\"\")","v":26},{"$f":"IF(DataInput!W176-DataInput!I176>0,DataInput!W176-DataInput!I176,\"\")","v":""},null,29,37.700000000000003,188.3,450,3350,{"$f":"ROUNDDOWN((IF(AA177>0,IFERROR(IF(AVERAGE(DataInput!Q176:Q177)>AVERAGE(AA177,AA176),ROUNDDOWN(((((AA176-Z176)+(AA177-Z177))/2)*(A177-A176))/27,0),IF(((((DataInput!Q177-Z177)+(DataInput!Q176-Z176))/2)*(A177-A176))/27+S176+T176>0,ROUNDDOWN(((((DataInput!Q177-Z177)+(DataInput!Q176-Z176))/2)*(A177-A176))/27+S176+T176,0),0)),0),0)*$X$5),1)","v":0},176,{"$f":"ROUNDDOWN((IF(AC177>0,IFERROR(IF(((((DataInput!Q176-AC176)+(DataInput!Q177-AC177))/2)*(A177-A176))/27+S176+T176>0,ROUNDDOWN(((((DataInput!Q176-AC176)+(DataInput!Q177-AC177))/2)*(A177-A176))/27+S176+T176,0),0),0),0)*$X$5),1)","v":0},{"$f":"DataInput!U176","v":136},{"$f":"DataInput!S176","v":52},72.8,63.2]
[{"$f":"IF(DataInput!A177<>\"\",DataInput!A177,\"\")","v":85500},{"$f":"SUM(DataInput!C177,DataInput!Y177)+(DataInput!U177-DataInput!E177)","v":377},{"$f":"SUM(DataInput!D177,DataInput!Z177)","v":236},{"$f":"DataInput!U177","v":136},{"$f":"SUM(DataInput!F177,DataInput!AB177)","v":0},{"$f":"SUM(DataInput!G177,DataInput!AC177)","v":4},{"$f":"SUM(DataInput!H177,DataInput!AD177)","v":0},{"$f":"DataInput!I177","v":27},{"$f":"SUM(DataInput!J177,DataInput!AF177)","v":0},{"$f":"SUM(DataInput!K177,DataInput!AG177)","v":0},{"$f":"SUM(DataInput!L177,DataInput!AH177)","v":0},{"$f":"SUM(DataInput!M177,DataInput!AI177)","v":0},{"$f":"SUM(DataInput!N177,DataInput!AJ177)","v":0},{"$f":"SUM(DataInput!O177,DataInput!AK177)","v":0},{"$f":"DataInput!P177","v":0},null,240,{"$f":"DataInput!R177","v":4},{"$f":"DataInput!Y177","v":0},{"$f":"IF(DataInput!U177-DataInput!E177>0,DataInput!U177-DataInput!E177,\"\")","v":28},{"$f":"IF(DataInput!W177-DataInput!I177>0,DataInput!W177-DataInput!I177,\"\")","v":""},null,32,41.6,198.4,450,3350,{"$f":"ROUNDDOWN((IF(AA178>0,IFERROR(IF(AVERAGE(DataInput!Q177:Q178)>AVERAGE(AA178,AA177),ROUNDDOWN(((((AA177-Z177)+(AA178-Z178))/2)*(A178-A177))/27,0),IF(((((DataInput!Q178-Z178)+(DataInput!Q177-Z177))/2)*(A178-A177))/27+S177+T177>0,ROUNDDOWN(((((DataInput!Q178-Z178)+(DataInput!Q177-Z177))/2)*(A178-A177))/27+S177+T177,0),0)),0),0)*$X$5),1)","v":0},176,{"$f":"ROUNDDOWN((IF(AC178>0,IFERROR(IF(((((DataInput!Q177-AC177)+(DataInput!Q178-AC178))/2)*(A178-A177))/27+S177+T177>0,ROUNDDOWN(((((DataInput!Q177-AC177)+(DataInput!Q178-AC178))/2)*(A178-A177))/27+S177+T177,0),0),0),0)*$X$5),1)","v":0},{"$f":"DataInput!U177","v":136},{"$f":"DataInput!S177","v":52},72.8,63.2]
[{"$f":"IF(DataInput!A178<>\"\",DataInput!A178,\"\")","v":85525},{"$f":"SUM(DataInput!C178,DataInput!Y178)+(DataInput!U178-DataInput!E178)","v":392},{"$f":"SUM(DataInput!D178,DataInput!Z178)","v":252},{"$f":"DataInput!U178","v":136},{"$f":"SUM(DataInput!F178,DataInput!AB178)","v":0},{"$f":"SUM(DataInput!G178,DataInput!AC178)","v":4},{"$f":"SUM(DataInput!H178,DataInput!AD178)","v":0},{"$f":"DataInput!I178","v":27},{"$f":"SUM(DataInput!J178,DataInput!AF178)","v":0},{"$f":"SUM(DataInput!K178,DataInput!AG178)","v":0},{"$f":"SUM(DataInput!L178,DataInput!AH178)","v":0},{"$f":"SUM(DataInput!M178,DataInput!AI178)","v":0},{"$f":"SUM(DataInput!N178,DataInput!AJ178)","v":0},{"$f":"SUM(DataInput!O178,DataInput!AK178)","v":0},{"$f":"DataInput!P178","v":0},null,256,{"$f":"DataInput!R178","v":7},{"$f":"DataInput!Y178","v":0},{"$f":"IF(DataInput!U178-DataInput!E178>0,DataInput!U178-DataInput!E178,\"\")","v":29},{"$f":"IF(DataInput!W178-DataInput!I178>0,DataInput!W178-DataInput!I178,\"\")","v":""},null,36,46.8,209.2,450,3350,{"$f":"ROUNDDOWN((IF(AA179>0,IFERROR(IF(AVERAGE(DataInput!Q178:Q179)>AVERAGE(AA179,AA178),ROUNDDOWN(((((AA178-Z178)+(AA179-Z179))/2)*(A179-A178))/27,0),IF(((((DataInput!Q179-Z179)+(DataInput!Q178-Z178))/2)*(A179-A178))/27+S178+T178>0,ROUNDDOWN(((((DataInput!Q179-Z179)+(DataInput!Q178-Z178))/2)*(A179-A178))/27+S178+T178,0),0)),0),0)*$X$5),1)","v":0},176,{"$f":"ROUNDDOWN((IF(AC179>0,IFERROR(IF(((((DataInput!Q178-AC178)+(DataInput!Q179-AC179))/2)*(A179-A178))/27+S178+T178>0,ROUNDDOWN(((((DataInput!Q178-AC178)+(DataInput!Q179-AC179))/2)*(A179-A178))/27+S178+T178,0),0),0),0)*$X$5),1)","v":0},{"$f":"DataInput!U178","v":136},{"$f":"DataInput!S178","v":52},72.8,63.2]
[{"$f":"IF(DataInput!A179<>\"\",DataInput!A179,\"\")","v":85550},{"$f":"SUM(DataInput!C179,DataInput!Y179)+(DataInput!U179-DataInput!E179)","v":410},{"$f":"SUM(DataInput!D179,DataInput!Z179)","v":267},{"$f":"DataInput!U179","v":136},{"$f":"SUM(DataInput!F179,DataInput!AB179)","v":0},{"$f":"SUM(DataInput!G179,DataInput!AC179)","v":7},{"$f":"SUM(DataInput!H179,DataInput!AD179)","v":0},{"$f":"DataInput!I179","v":27},{"$f":"SUM(DataInput!J179,DataInput!AF179)","v":0},{"$f":"SUM(DataInput!K179,DataInput!AG179)","v":0},{"$f":"SUM(DataInput!L179,DataInput!AH179)","v":0},{"$f":"SUM(DataInput!M179,DataInput!AI179)","v":0},{"$f":"SUM(DataInput!N179,DataInput!AJ179)","v":0},{"$f":"SUM(DataInput!O179,DataInput!AK179)","v":0},{"$f":"DataInput!P179","v":0},null,274,{"$f":"DataInput!R179","v":11},{"$f":"DataInput!Y179","v":0},{"$f":"IF(DataInput!U179-DataInput!E179>0,DataInput!U179-DataInput!E179,\"\")","v":29},{"$f":"IF(DataInput!W179-DataInput!I179>0,DataInput!W179-DataInput!I179,\"\")","v":""},null,40,52,222,450,3350,{"$f":"ROUNDDOWN((IF(AA180>0,IFERROR(IF(AVERAGE(DataInput!Q179:Q180)>AVERAGE(AA180,AA179),ROUNDDOWN(((((AA179-Z179)+(AA180-Z180))/2)*(A180-A179))/27,0),IF(((((DataInput!Q180-Z180)+(DataInput!Q179-Z179))/2)*(A180-A179))/27+S179+T179>0,ROUNDDOWN(((((DataInput!Q180-Z180)+(DataInput!Q179-Z179))/2)*(A180-A179))/27+S179+T179,0),0)),0),0)*$X$5),1)","v":0},176,{"$f":"ROUNDDOWN((IF(AC180>0,IFERROR(IF(((((DataInput!Q179-AC179)+(DataInput!Q180-AC180))/2)*(A180-A179))/27+S179+T179>0,ROUNDDOWN(((((DataInput!Q179-AC179)+(DataInput!Q180-AC180))/2)*(A180-A179))/27+S179+T179,0),0),0),0)*$X$5),1)","v":0},{"$f":"DataInput!U179","v":136},{"$f":"DataInput!S179","v":52},72.8,63.2]
[{"$f":"IF(DataInput!A180<>\"\",DataInput!A180,\"\")","v":85575},{"$f":"SUM(DataInput!C180,DataInput!Y180)+(DataInput!U180-DataInput!E180)","v":430},{"$f":"SUM(DataInput!D180,DataInput!Z180)","v":283},{"$f":"DataInput!U180","v":136},{"$f":"SUM(DataInput!F180,DataInput!AB180)","v":0},{"$f":"SUM(DataInput!G180,DataInput!AC180)","v":11},{"$f":"SUM(DataInput!H180,DataInput!AD180)","v":0},{"$f":"DataInput!I180","v":27},{"$f":"SUM(DataInput!J180,DataInput!AF180)","v":0},{"$f":"SUM(DataInput!K180,DataInput!AG180)","v":0},{"$f":"SUM(DataInput!L180,DataInput!AH180)","v":0},{"$f":"SUM(DataInput!M180,DataInput!AI180)","v":0},{"$f":"SUM(DataInput!N180,DataInput!AJ180)","v":0},{"$f":"SUM(DataInput!O180,DataInput!AK180)","v":0},{"$f":"DataInput!P180","v":0},null,294,{"$f":"DataInput!R180","v":15},{"$f":"DataInput!Y180","v":0},{"$f":"IF(DataInput!U180-DataInput!E180>0,DataInput!U180-DataInput!E180,\"\")","v":28},{"$f":"IF(DataInput!W180-DataInput!I180>0,DataInput!W180-DataInput!I180,\"\")","v":""},null,43,55.9,238.1,450,3350,{"$f":"ROUNDDOWN((IF(AA181>0,IFERROR(IF(AVERAGE(DataInput!Q180:Q181)>AVERAGE(AA181,AA180),ROUNDDOWN(((((AA180-Z180)+(AA181-Z181))/2)*(A181-A180))/27,0),IF(((((DataInput!Q181-Z181)+(DataInput!Q180-Z180))/2)*(A181-A180))/27+S180+T180>0,ROUNDDOWN(((((DataInput!Q181-Z181)+(DataInput!Q180-Z180))/2)*(A181-A180))/27+S180+T180,0),0)),0),0)*$X$5),1)","v":0},176,{"$f":"ROUNDDOWN((IF(AC181>0,IFERROR(IF(((((DataInput!Q180-AC180)+(DataInput!Q181-AC181))/2)*(A181-A180))/27+S180+T180>0,ROUNDDOWN(((((DataInput!Q180-AC180)+(DataInput!Q181-AC181))/2)*(A181-A180))/27+S180+T180,0),0),0),0)*$X$5),1)","v":0},{"$f":"DataInput!U180","v":136},{"$f":"DataInput!S180","v":52},72.8,63.2]
[{"$f":"IF(DataInput!A181<>\"\",DataInput!A181,\"\")","v":85600},{"$f":"SUM(DataInput!C181,DataInput!Y181)+(DataInput!U181-DataInput!E181)","v":450},{"$f":"SUM(DataInput!D181,DataInput!Z181)","v":300},{"$f":"DataInput!U181","v":136},{"$f":"SUM(DataInput!F181,DataInput!AB181)","v":0},{"$f":"SUM(DataInput!G181,DataInput!AC181)","v":13},{"$f":"SUM(DataInput!H181,DataInput!AD181)","v":0},{"$f":"DataInput!I181","v":27},{"$f":"SUM(DataInput!J181,DataInput!AF181)","v":0},{"$f":"SUM(DataInput!K181,DataInput!AG181)","v":0},{"$f":"SUM(DataInput!L181,DataInput!AH181)","v":0},{"$f":"SUM(DataInput!M181,DataInput!AI181)","v":0},{"$f":"SUM(DataInput!N181,DataInput!AJ181)","v":0},{"$f":"SUM(DataInput!O181,DataInput!AK181)","v":0},{"$f":"DataInput!P181","v":0},null,313,{"$f":"DataInput!R181","v":19},{"$f":"DataInput!Y181","v":0},{"$f":"IF(DataInput!U181-DataInput!E181>0,DataInput!U181-DataInput!E181,\"\")","v":28},{"$f":"IF(DataInput!W181-DataInput!I181>0,DataInput!W181-DataInput!I181,\"\")","v":""},null,47,61.1,251.9,450,3350,{"$f":"ROUNDDOWN((IF(AA182>0,IFERROR(IF(AVERAGE(DataInput!Q181:Q182)>AVERAGE(AA182,AA181),ROUNDDOWN(((((AA181-Z181)+(AA182-Z182))/2)*(A182-A181))/27,0),IF(((((DataInput!Q182-Z182)+(DataInput!Q181-Z181))/2)*(A182-A181))/27+S181+T181>0,ROUNDDOWN(((((DataInput!Q182-Z182)+(DataInput!Q181-Z181))/2)*(A182-A181))/27+S181+T181,0),0)),0),0)*$X$5),1)","v":0},176,{"$f":"ROUNDDOWN((IF(AC182>0,IFERROR(IF(((((DataInput!Q181-AC181)+(DataInput!Q182-AC182))/2)*(A182-A181))/27+S181+T181>0,ROUNDDOWN(((((DataInput!Q181-AC181)+(DataInput!Q182-AC182))/2)*(A182-A181))/27+S181+T181,0),0),0),0)*$X$5),1)","v":0},{"$f":"DataInput!U181","v":136},{"$f":"DataInput!S181","v":52},72.8,63.2]
[{"$f":"IF(DataInput!A182<>\"\",DataInput!A182,\"\")","v":85625},{"$f":"SUM(DataInput!C182,DataInput!Y182)+(DataInput!U182-DataInput!E182)","v":468},{"$f":"SUM(DataInput!D182,DataInput!Z182)","v":319},{"$f":"DataInput!U182","v":136},{"$f":"SUM(DataInput!F182,DataInput!AB182)","v":0},{"$f":"SUM(DataInput!G182,DataInput!AC182)","v":13},{"$f":"SUM(DataInput!H182,DataInput!AD182)","v":0},{"$f":"DataInput!I182","v":27},{"$f":"SUM(DataInput!J182,DataInput!AF182)","v":0},{"$f":"SUM(DataInput!K182,DataInput!AG182)","v":0},{"$f":"SUM(DataInput!L182,DataInput!AH182)","v":0},{"$f":"SUM(DataInput!M182,DataInput!AI182)","v":0},{"$f":"SUM(DataInput!N182,DataInput!AJ182)","v":0},{"$f":"SUM(DataInput!O182,DataInput!AK182)","v":0},{"$f":"DataInput!P182","v":0},null,332,{"$f":"DataInput!R182","v":23},{"$f":"DataInput!Y182","v":0},{"$f":"IF(DataInput!U182-DataInput!E182>0,DataInput!U182-DataInput!E182,\"\")","v":27},{"$f":"IF(DataInput!W182-DataInput!I182>0,DataInput!W182-DataInput!I182,\"\")","v":""},null,50,65,267,450,3350,{"$f":"ROUNDDOWN((IF(AA183>0,IFERROR(IF(AVERAGE(DataInput!Q182:Q183)>AVERAGE(AA183,AA182),ROUNDDOWN(((((AA182-Z182)+(AA183-Z183))/2)*(A183-A182))/27,0),IF(((((DataInput!Q183-Z183)+(DataInput!Q182-Z182))/2)*(A183-A182))/27+S182+T182>0,ROUNDDOWN(((((DataInput!Q183-Z183)+(DataInput!Q182-Z182))/2)*(A183-A182))/27+S182+T182,0),0)),0),0)*$X$5),1)","v":0},176,{"$f":"ROUNDDOWN((IF(AC183>0,IFERROR(IF(((((DataInput!Q182-AC182)+(DataInput!Q183-AC183))/2)*(A183-A182))/27+S182+T182>0,ROUNDDOWN(((((DataInput!Q182-AC182)+(DataInput!Q183-AC183))/2)*(A183-A182))/27+S182+T182,0),0),0),0)*$X$5),1)","v":0},{"$f":"DataInput!U182","v":136},{"$f":"DataInput!S182","v":52},72.8,63.2]
[{"$f":"IF(DataInput!A183<>\"\",DataInput!A183,\"\")","v":85650},{"$f":"SUM(DataInput!C183,DataInput!Y183)+(DataInput!U183-DataInput!E183)","v":484},{"$f":"SUM(DataInput!D183,DataInput!Z183)","v":333},{"$f":"DataInput!U183","v":140},{"$f":"SUM(DataInput!F183,DataInput!AB183)","v":0},{"$f":"SUM(DataInput!G183,DataInput!AC183)","v":11},{"$f":"SUM(DataInput!H183,DataInput!AD183)","v":0},{"$f":"DataInput!I183","v":27},{"$f":"SUM(DataInput!J183,DataInput!AF183)","v":0},{"$f":"SUM(DataInput!K183,DataInput!AG183)","v":0},{"$f":"SUM(DataInput!L183,DataInput!AH183)","v":0},{"$f":"SUM(DataInput!M183,DataInput!AI183)","v":0},{"$f":"SUM(DataInput!N183,DataInput!AJ183)","v":0},{"$f":"SUM(DataInput!O183,DataInput!AK183)","v":0},{"$f":"DataInput!P183","v":0},null,344,{"$f":"DataInput!R183","v":26},{"$f":"DataInput!Y183","v":0},{"$f":"IF(DataInput!U183-DataInput!E183>0,DataInput!U183-DataInput!E183,\"\")","v":26},{"$f":"IF(DataInput!W183-DataInput!I183>0,DataInput!W183-DataInput!I183,\"\")","v":""},null,52,67.599999999999994,276.39999999999998,450,3350,{"$f":"ROUNDDOWN((IF(AA184>0,IFERROR(IF(AVERAGE(DataInput!Q183:Q184)>AVERAGE(AA184,AA183),ROUNDDOWN(((((AA183-Z183)+(AA184-Z184))/2)*(A184-A183))/27,0),IF(((((DataInput!Q184-Z184)+(DataInput!Q183-Z183))/2)*(A184-A183))/27+S183+T183>0,ROUNDDOWN(((((DataInput!Q184-Z184)+(DataInput!Q183-Z183))/2)*(A184-A183))/27+S183+T183,0),0)),0),0)*$X$5),1)","v":0},176,{"$f":"ROUNDDOWN((IF(AC184>0,IFERROR(IF(((((DataInput!Q183-AC183)+(DataInput!Q184-AC184))/2)*(A184-A183))/27+S183+T183>0,ROUNDDOWN(((((DataInput!Q183-AC183)+(DataInput!Q184-AC184))/2)*(A184-A183))/27+S183+T183,0),0),0),0)*$X$5),1)","v":0},{"$f":"DataInput!U183","v":140},{"$f":"DataInput!S183","v":52},72.8,67.2]
[{"$f":"IF(DataInput!A184<>\"\",DataInput!A184,\"\")","v":85675},{"$f":"SUM(DataInput!C184,DataInput!Y184)+(DataInput!U184-DataInput!E184)","v":497},{"$f":"SUM(DataInput!D184,DataInput!Z184)","v":347},{"$f":"DataInput!U184","v":140},{"$f":"SUM(DataInput!F184,DataInput!AB184)","v":0},{"$f":"SUM(DataInput!G184,DataInput!AC184)","v":10},{"$f":"SUM(DataInput!H184,DataInput!AD184)","v":0},{"$f":"DataInput!I184","v":27},{"$f":"SUM(DataInput!J184,DataInput!AF184)","v":0},{"$f":"SUM(DataInput!K184,DataInput!AG184)","v":0},{"$f":"SUM(DataInput!L184,DataInput!AH184)","v":0},{"$f":"SUM(DataInput!M184,DataInput!AI184)","v":0},{"$f":"SUM(DataInput!N184,DataInput!AJ184)","v":0},{"$f":"SUM(DataInput!O184,DataInput!AK184)","v":0},{"$f":"DataInput!P184","v":0},null,357,{"$f":"DataInput!R184","v":32},{"$f":"DataInput!Y184","v":0},{"$f":"IF(DataInput!U184-DataInput!E184>0,DataInput!U184-DataInput!E184,\"\")","v":26},{"$f":"IF(DataInput!W184-DataInput!I184>0,DataInput!W184-DataInput!I184,\"\")","v":""},null,58,75.400000000000006,281.60000000000002,450,3350,{"$f":"ROUNDDOWN((IF(AA185>0,IFERROR(IF(AVERAGE(DataInput!Q184:Q185)>AVERAGE(AA185,AA184),ROUNDDOWN(((((AA184-Z184)+(AA185-Z185))/2)*(A185-A184))/27,0),IF(((((DataInput!Q185-Z185)+(DataInput!Q184-Z184))/2)*(A185-A184))/27+S184+T184>0,ROUNDDOWN(((((DataInput!Q185-Z185)+(DataInput!Q184-Z184))/2)*(A185-A184))/27+S184+T184,0),0)),0),0)*$X$5),1)","v":0},176,{"$f":"ROUNDDOWN((IF(AC185>0,IFERROR(IF(((((DataInput!Q184-AC184)+(DataInput!Q185-AC185))/2)*(A185-A184))/27+S184+T184>0,ROUNDDOWN(((((DataInput!Q184-AC184)+(DataInput!Q185-AC185))/2)*(A185-A184))/27+S184+T184,0),0),0),0)*$X$5),1)","v":0},{"$f":"DataInput!U184","v":140},{"$f":"DataInput!S184","v":52},72.8,67.2]
[{"$f":"IF(DataInput!A185<>\"\",DataInput!A185,\"\")","v":85700},{"$f":"SUM(DataInput!C185,DataInput!Y185)+(DataInput!U185-DataInput!E185)","v":512},{"$f":"SUM(DataInput!D185,DataInput!Z185)","v":360},{"$f":"DataInput!U185","v":137},{"$f":"SUM(DataInput!F185,DataInput!AB185)","v":0},{"$f":"SUM(DataInput!G185,DataInput!AC185)","v":15},{"$f":"SUM(DataInput!H185,DataInput!AD185)","v":0},{"$f":"DataInput!I185","v":27},{"$f":"SUM(DataInput!J185,DataInput!AF185)","v":0},{"$f":"SUM(DataInput!K185,DataInput!AG185)","v":0},{"$f":"SUM(DataInput!L185,DataInput!AH185)","v":0},{"$f":"SUM(DataInput!M185,DataInput!AI185)","v":0},{"$f":"SUM(DataInput!N185,DataInput!AJ185)","v":0},{"$f":"SUM(DataInput!O185,DataInput!AK185)","v":0},{"$f":"DataInput!P185","v":0},null,375,{"$f":"DataInput!R185","v":33},{"$f":"DataInput!Y185","v":0},{"$f":"IF(DataInput!U185-DataInput!E185>0,DataInput!U185-DataInput!E185,\"\")","v":26},{"$f":"IF(DataInput!W185-DataInput!I185>0,DataInput!W185-DataInput!I185,\"\")","v":""},null,59,76.7,298.3,450,3350,{"$f":"ROUNDDOWN((IF(AA186>0,IFERROR(IF(AVERAGE(DataInput!Q185:Q186)>AVERAGE(AA186,AA185),ROUNDDOWN(((((AA185-Z185)+(AA186-Z186))/2)*(A186-A185))/27,0),IF(((((DataInput!Q186-Z186)+(DataInput!Q185-Z185))/2)*(A186-A185))/27+S185+T185>0,ROUNDDOWN(((((DataInput!Q186-Z186)+(DataInput!Q185-Z185))/2)*(A186-A185))/27+S185+T185,0),0)),0),0)*$X$5),1)","v":0},176,{"$f":"ROUNDDOWN((IF(AC186>0,IFERROR(IF(((((DataInput!Q185-AC185)+(DataInput!Q186-AC186))/2)*(A186-A185))/27+S185+T185>0,ROUNDDOWN(((((DataInput!Q185-AC185)+(DataInput!Q186-AC186))/2)*(A186-A185))/27+S185+T185,0),0),0),0)*$X$5),1)","v":0},{"$f":"DataInput!U185","v":137},{"$f":"DataInput!S185","v":52},72.8,64.2]
[{"$f":"IF(DataInput!A186<>\"\",DataInput!A186,\"\")","v":85725},{"$f":"SUM(DataInput!C186,DataInput!Y186)+(DataInput!U186-DataInput!E186)","v":528},{"$f":"SUM(DataInput!D186,DataInput!Z186)","v":371},{"$f":"DataInput!U186","v":137},{"$f":"SUM(DataInput!F186,DataInput!AB186)","v":0},{"$f":"SUM(DataInput!G186,DataInput!AC186)","v":21},{"$f":"SUM(DataInput!H186,DataInput!AD186)","v":0},{"$f":"DataInput!I186","v":27},{"$f":"SUM(DataInput!J186,DataInput!AF186)","v":0},{"$f":"SUM(DataInput!K186,DataInput!AG186)","v":0},{"$f":"SUM(DataInput!L186,DataInput!AH186)","v":0},{"$f":"SUM(DataInput!M186,DataInput!AI186)","v":0},{"$f":"SUM(DataInput!N186,DataInput!AJ186)","v":0},{"$f":"SUM(DataInput!O186,DataInput!AK186)","v":0},{"$f":"DataInput!P186","v":0},null,392,{"$f":"DataInput!R186","v":30},{"$f":"DataInput!Y186","v":0},{"$f":"IF(DataInput!U186-DataInput!E186>0,DataInput!U186-DataInput!E186,\"\")","v":25},{"$f":"IF(DataInput!W186-DataInput!I186>0,DataInput!W186-DataInput!I186,\"\")","v":""},null,55,71.5,320.5,450,3350,{"$f":"ROUNDDOWN((IF(AA187>0,IFERROR(IF(AVERAGE(DataInput!Q186:Q187)>AVERAGE(AA187,AA186),ROUNDDOWN(((((AA186-Z186)+(AA187-Z187))/2)*(A187-A186))/27,0),IF(((((DataInput!Q187-Z187)+(DataInput!Q186-Z186))/2)*(A187-A186))/27+S186+T186>0,ROUNDDOWN(((((DataInput!Q187-Z187)+(DataInput!Q186-Z186))/2)*(A187-A186))/27+S186+T186,0),0)),0),0)*$X$5),1)","v":0},176,{"$f":"ROUNDDOWN((IF(AC187>0,IFERROR(IF(((((DataInput!Q186-AC186)+(DataInput!Q187-AC187))/2)*(A187-A186))/27+S186+T186>0,ROUNDDOWN(((((DataInput!Q186-AC186)+(DataInput!Q187-AC187))/2)*(A187-A186))/27+S186+T186,0),0),0),0)*$X$5),1)","v":0},{"$f":"DataInput!U186","v":137},{"$f":"DataInput!S186","v":52},72.8,64.2]
[{"$f":"IF(DataInput!A187<>\"\",DataInput!A187,\"\")","v":85750},{"$f":"SUM(DataInput!C187,DataInput!Y187)+(DataInput!U187-DataInput!E187)","v":544},{"$f":"SUM(DataInput!D187,DataInput!Z187)","v":384},{"$f":"DataInput!U187","v":138},{"$f":"SUM(DataInput!F187,DataInput!AB187)","v":0},{"$f":"SUM(DataInput!G187,DataInput!AC187)","v":22},{"$f":"SUM(DataInput!H187,DataInput!AD187)","v":0},{"$f":"DataInput!I187","v":27},{"$f":"SUM(DataInput!J187,DataInput!AF187)","v":0},{"$f":"SUM(DataInput!K187,DataInput!AG187)","v":0},{"$f":"SUM(DataInput!L187,DataInput!AH187)","v":0},{"$f":"SUM(DataInput!M187,DataInput!AI187)","v":0},{"$f":"SUM(DataInput!N187,DataInput!AJ187)","v":0},{"$f":"SUM(DataInput!O187,DataInput!AK187)","v":0},{"$f":"DataInput!P187","v":0},null,406,{"$f":"DataInput!R187","v":30},{"$f":"DataInput!Y187","v":0},{"$f":"IF(DataInput!U187-DataInput!E187>0,DataInput!U187-DataInput!E187,\"\")","v":26},{"$f":"IF(DataInput!W187-DataInput!I187>0,DataInput!W187-DataInput!I187,\"\")","v":""},null,56,72.8,333.2,450,3350,{"$f":"ROUNDDOWN((IF(AA188>0,IFERROR(IF(AVERAGE(DataInput!Q187:Q188)>AVERAGE(AA188,AA187),ROUNDDOWN(((((AA187-Z187)+(AA188-Z188))/2)*(A188-A187))/27,0),IF(((((DataInput!Q188-Z188)+(DataInput!Q187-Z187))/2)*(A188-A187))/27+S187+T187>0,ROUNDDOWN(((((DataInput!Q188-Z188)+(DataInput!Q187-Z187))/2)*(A188-A187))/27+S187+T187,0),0)),0),0)*$X$5),1)","v":0},176,{"$f":"ROUNDDOWN((IF(AC188>0,IFERROR(IF(((((DataInput!Q187-AC187)+(DataInput!Q188-AC188))/2)*(A188-A187))/27+S187+T187>0,ROUNDDOWN(((((DataInput!Q187-AC187)+(DataInput!Q188-AC188))/2)*(A188-A187))/27+S187+T187,0),0),0),0)*$X$5),1)","v":0},{"$f":"DataInput!U187","v":138},{"$f":"DataInput!S187","v":52},72.8,65.2]
[{"$f":"IF(DataInput!A188<>\"\",DataInput!A188,\"\")","v":85775},{"$f":"SUM(DataInput!C188,DataInput!Y188)+(DataInput!U188-DataInput!E188)","v":561},{"$f":"SUM(DataInput!D188,DataInput!Z188)","v":398},{"$f":"DataInput!U188","v":138},{"$f":"SUM(DataInput!F188,DataInput!AB188)","v":0},{"$f":"SUM(DataInput!G188,DataInput!AC188)","v":26},{"$f":"SUM(DataInput!H188,DataInput!AD188)","v":0},{"$f":"DataInput!I188","v":27},{"$f":"SUM(DataInput!J188,DataInput!AF188)","v":0},{"$f":"SUM(DataInput!K188,DataInput!AG188)","v":0},{"$f":"SUM(DataInput!L188,DataInput!AH188)","v":0},{"$f":"SUM(DataInput!M188,DataInput!AI188)","v":0},{"$f":"SUM(DataInput!N188,DataInput!AJ188)","v":0},{"$f":"SUM(DataInput!O188,DataInput!AK188)","v":0},{"$f":"DataInput!P188","v":0},null,{"$f":"SUM(C188,E188:G188,I188:L188,O188:P188)","v":424},{"$f":"DataInput!R188","v":30},{"$f":"DataInput!Y188","v":0},{"$f":"IF(DataInput!U188-DataInput!E188>0,DataInput!U188-DataInput!E188,\"\")","v":25},{"$f":"IF(DataInput!W188-DataInput!I188>0,DataInput!W188-DataInput!I188,\"\")","v":""},null,{"$f":"SUM(R188:V188)","v":55},{"$f":"ROUNDUP(($W188*$X$5),1)","v":71.5},{"$f":"ROUNDUP(SUM(Q188-X188),1)","v":352.5},450,3350,{"$f":"ROUNDDOWN((IF(AA189>0,IFERROR(IF(AVERAGE(DataInput!Q188:Q189)>AVERAGE(AA189,AA188),ROUNDDOWN(((((AA188-Z188)+(AA189-Z189))/2)*(A189-A188))/27,0),IF(((((DataInput!Q189-Z189)+(DataInput!Q188-Z188))/2)*(A189-A188))/27+S188+T188>0,ROUNDDOWN(((((DataInput!Q189-Z189)+(DataInput!Q188-Z188))/2)*(A189-A188))/27+S188+T188,0),0)),0),0)*$X$5),1)","v":0},176,{"$f":"ROUNDDOWN((IF(AC189>0,IFERROR(IF(((((DataInput!Q188-AC188)+(DataInput!Q189-AC189))/2)*(A189-A188))/27+S188+T188>0,ROUNDDOWN(((((DataInput!Q188-AC188)+(DataInput!Q189-AC189))/2)*(A189-A188))/27+S188+T188,0),0),0),0)*$X$5),1)","v":0},{"$f":"DataInput!U188","v":138},{"$f":"DataInput!S188","v":52},{"$f":"ROUNDUP((AF188*$AG$5),1)","v":72.8},{"$f":"ROUNDUP((AE188-AG188),1)","v":65.2}]
[{"$f":"IF(DataInput!A189<>\"\",DataInput!A189,\"\")","v":85800},{"$f":"SUM(DataInput!C189,DataInput!Y189)+(DataInput!U189-DataInput!E189)","v":583},{"$f":"SUM(DataInput!D189,DataInput!Z189)","v":412},{"$f":"DataInput!U189","v":138},{"$f":"SUM(DataInput!F189,DataInput!AB189)","v":0},{"$f":"SUM(DataInput!G189,DataInput!AC189)","v":33},{"$f":"SUM(DataInput!H189,DataInput!AD189)","v":0},{"$f":"DataInput!I189","v":27},{"$f":"SUM(DataInput!J189,DataInput!AF189)","v":0},{"$f":"SUM(DataInput!K189,DataInput!AG189)","v":0},{"$f":"SUM(DataInput!L189,DataInput!AH189)","v":0},{"$f":"SUM(DataInput!M189,DataInput!AI189)","v":0},{"$f":"SUM(DataInput!N189,DataInput!AJ189)","v":0},{"$f":"SUM(DataInput!O189,DataInput!AK189)","v":0},{"$f":"DataInput!P189","v":0},null,445,{"$f":"DataInput!R189","v":31},{"$f":"DataInput!Y189","v":0},{"$f":"IF(DataInput!U189-DataInput!E189>0,DataInput!U189-DataInput!E189,\"\")","v":25},{"$f":"IF(DataInput!W189-DataInput!I189>0,DataInput!W189-DataInput!I189,\"\")","v":""},null,56,72.8,372.2,{"$f":"Z188","v":450},{"$f":"AA188","v":3350},{"$f":"ROUNDDOWN((IF(AA190>0,IFERROR(IF(AVERAGE(DataInput!Q189:Q190)>AVERAGE(AA190,AA189),ROUNDDOWN(((((AA189-Z189)+(AA190-Z190))/2)*(A190-A189))/27,0),IF(((((DataInput!Q190-Z190)+(DataInput!Q189-Z189))/2)*(A190-A189))/27+S189+T189>0,ROUNDDOWN(((((DataInput!Q190-Z190)+(DataInput!Q189-Z189))/2)*(A190-A189))/27+S189+T189,0),0)),0),0)*$X$5),1)","v":0},{"$f":"AC188","v":176},{"$f":"ROUNDDOWN((IF(AC190>0,IFERROR(IF(((((DataInput!Q189-AC189)+(DataInput!Q190-AC190))/2)*(A190-A189))/27+S189+T189>0,ROUNDDOWN(((((DataInput!Q189-AC189)+(DataInput!Q190-AC190))/2)*(A190-A189))/27+S189+T189,0),0),0),0)*$X$5),1)","v":0},{"$f":"DataInput!U189","v":138},{"$f":"DataInput!S189","v":52},72.8,65.2]
[{"$f":"IF(DataInput!A190<>\"\",DataInput!A190,\"\")","v":85825},{"$f":"SUM(DataInput!C190,DataInput!Y190)+(DataInput!U190-DataInput!E190)","v":600},{"$f":"SUM(DataInput!D190,DataInput!Z190)","v":426},{"$f":"DataInput!U190","v":138},{"$f":"SUM(DataInput!F190,DataInput!AB190)","v":0},{"$f":"SUM(DataInput!G190,DataInput!AC190)","v":36},{"$f":"SUM(DataInput!H190,DataInput!AD190)","v":0},{"$f":"DataInput!I190","v":27},{"$f":"SUM(DataInput!J190,DataInput!AF190)","v":0},{"$f":"SUM(DataInput!K190,DataInput!AG190)","v":0},{"$f":"SUM(DataInput!L190,DataInput!AH190)","v":0},{"$f":"SUM(DataInput!M190,DataInput!AI190)","v":0},{"$f":"SUM(DataInput!N190,DataInput!AJ190)","v":0},{"$f":"SUM(DataInput!O190,DataInput!AK190)","v":0},{"$f":"DataInput!P190","v":0},null,462,{"$f":"DataInput!R190","v":31},{"$f":"DataInput!Y190","v":0},{"$f":"IF(DataInput!U190-DataInput!E190>0,DataInput!U190-DataInput!E190,\"\")","v":25},{"$f":"IF(DataInput!W190-DataInput!I190>0,DataInput!W190-DataInput!I190,\"\")","v":""},null,56,72.8,389.2,450,3350,{"$f":"ROUNDDOWN((IF(AA191>0,IFERROR(IF(AVERAGE(DataInput!Q190:Q191)>AVERAGE(AA191,AA190),ROUNDDOWN(((((AA190-Z190)+(AA191-Z191))/2)*(A191-A190))/27,0),IF(((((DataInput!Q191-Z191)+(DataInput!Q190-Z190))/2)*(A191-A190))/27+S190+T190>0,ROUNDDOWN(((((DataInput!Q191-Z191)+(DataInput!Q190-Z190))/2)*(A191-A190))/27+S190+T190,0),0)),0),0)*$X$5),1)","v":0},176,{"$f":"ROUNDDOWN((IF(AC191>0,IFERROR(IF(((((DataInput!Q190-AC190)+(DataInput!Q191-AC191))/2)*(A191-A190))/27+S190+T190>0,ROUNDDOWN(((((DataInput!Q190-AC190)+(DataInput!Q191-AC191))/2)*(A191-A190))/27+S190+T190,0),0),0),0)*$X$5),1)","v":0},{"$f":"DataInput!U190","v":138},{"$f":"DataInput!S190","v":52},72.8,65.2]
[{"$f":"IF(DataInput!A191<>\"\",DataInput!A191,\"\")","v":85850},{"$f":"SUM(DataInput!C191,DataInput!Y191)+(DataInput!U191-DataInput!E191)","v":615},{"$f":"SUM(DataInput!D191,DataInput!Z191)","v":440},{"$f":"DataInput!U191","v":139},{"$f":"SUM(DataInput!F191,DataInput!AB191)","v":0},{"$f":"SUM(DataInput!G191,DataInput!AC191)","v":36},{"$f":"SUM(DataInput!H191,DataInput!AD191)","v":0},{"$f":"DataInput!I191","v":27},{"$f":"SUM(DataInput!J191,DataInput!AF191)","v":0},{"$f":"SUM(DataInput!K191,DataInput!AG191)","v":0},{"$f":"SUM(DataInput!L191,DataInput!AH191)","v":0},{"$f":"SUM(DataInput!M191,DataInput!AI191)","v":0},{"$f":"SUM(DataInput!N191,DataInput!AJ191)","v":0},{"$f":"SUM(DataInput!O191,DataInput!AK191)","v":0},{"$f":"DataInput!P191","v":0},null,476,{"$f":"DataInput!R191","v":31},{"$f":"DataInput!Y191","v":0},{"$f":"IF(DataInput!U191-DataInput!E191>0,DataInput!U191-DataInput!E191,\"\")","v":25},{"$f":"IF(DataInput!W191-DataInput!I191>0,DataInput!W191-DataInput!I191,\"\")","v":""},null,56,72.8,403.2,450,3350,{"$f":"ROUNDDOWN((IF(AA192>0,IFERROR(IF(AVERAGE(DataInput!Q191:Q192)>AVERAGE(AA192,AA191),ROUNDDOWN(((((AA191-Z191)+(AA192-Z192))/2)*(A192-A191))/27,0),IF(((((DataInput!Q192-Z192)+(DataInput!Q191-Z191))/2)*(A192-A191))/27+S191+T191>0,ROUNDDOWN(((((DataInput!Q192-Z192)+(DataInput!Q191-Z191))/2)*(A192-A191))/27+S191+T191,0),0)),0),0)*$X$5),1)","v":0},176,{"$f":"ROUNDDOWN((IF(AC192>0,IFERROR(IF(((((DataInput!Q191-AC191)+(DataInput!Q192-AC192))/2)*(A192-A191))/27+S191+T191>0,ROUNDDOWN(((((DataInput!Q191-AC191)+(DataInput!Q192-AC192))/2)*(A192-A191))/27+S191+T191,0),0),0),0)*$X$5),1)","v":0},{"$f":"DataInput!U191","v":139},{"$f":"DataInput!S191","v":53},74.2,64.8]
[{"$f":"IF(DataInput!A192<>\"\",DataInput!A192,\"\")","v":85875},{"$f":"SUM(DataInput!C192,DataInput!Y192)+(DataInput!U192-DataInput!E192)","v":628},{"$f":"SUM(DataInput!D192,DataInput!Z192)","v":453},{"$f":"DataInput!U192","v":139},{"$f":"SUM(DataInput!F192,DataInput!AB192)","v":0},{"$f":"SUM(DataInput!G192,DataInput!AC192)","v":36},{"$f":"SUM(DataInput!H192,DataInput!AD192)","v":0},{"$f":"DataInput!I192","v":27},{"$f":"SUM(DataInput!J192,DataInput!AF192)","v":0},{"$f":"SUM(DataInput!K192,DataInput!AG192)","v":0},{"$f":"SUM(DataInput!L192,DataInput!AH192)","v":0},{"$f":"SUM(DataInput!M192,DataInput!AI192)","v":0},{"$f":"SUM(DataInput!N192,DataInput!AJ192)","v":0},{"$f":"SUM(DataInput!O192,DataInput!AK192)","v":0},{"$f":"DataInput!P192","v":0},null,489,{"$f":"DataInput!R192","v":31},{"$f":"DataInput!Y192","v":0},{"$f":"IF(DataInput!U192-DataInput!E192>0,DataInput!U192-DataInput!E192,\"\")","v":24},{"$f":"IF(DataInput!W192-DataInput!I192>0,DataInput!W192-DataInput!I192,\"\")","v":""},null,55,71.5,417.5,450,3350,{"$f":"ROUNDDOWN((IF(AA193>0,IFERROR(IF(AVERAGE(DataInput!Q192:Q193)>AVERAGE(AA193,AA192),ROUNDDOWN(((((AA192-Z192)+(AA193-Z193))/2)*(A193-A192))/27,0),IF(((((DataInput!Q193-Z193)+(DataInput!Q192-Z192))/2)*(A193-A192))/27+S192+T192>0,ROUNDDOWN(((((DataInput!Q193-Z193)+(DataInput!Q192-Z192))/2)*(A193-A192))/27+S192+T192,0),0)),0),0)*$X$5),1)","v":0},176,{"$f":"ROUNDDOWN((IF(AC193>0,IFERROR(IF(((((DataInput!Q192-AC192)+(DataInput!Q193-AC193))/2)*(A193-A192))/27+S192+T192>0,ROUNDDOWN(((((DataInput!Q192-AC192)+(DataInput!Q193-AC193))/2)*(A193-A192))/27+S192+T192,0),0),0),0)*$X$5),1)","v":0},{"$f":"DataInput!U192","v":139},{"$f":"DataInput!S192","v":53},74.2,64.8]
[{"$f":"IF(DataInput!A193<>\"\",DataInput!A193,\"\")","v":85900},{"$f":"SUM(DataInput!C193,DataInput!Y193)+(DataInput!U193-DataInput!E193)","v":638},{"$f":"SUM(DataInput!D193,DataInput!Z193)","v":483},{"$f":"DataInput!U193","v":138},{"$f":"SUM(DataInput!F193,DataInput!AB193)","v":0},{"$f":"SUM(DataInput!G193,DataInput!AC193)","v":18},{"$f":"SUM(DataInput!H193,DataInput!AD193)","v":0},{"$f":"DataInput!I193","v":27},{"$f":"SUM(DataInput!J193,DataInput!AF193)","v":0},{"$f":"SUM(DataInput!K193,DataInput!AG193)","v":0},{"$f":"SUM(DataInput!L193,DataInput!AH193)","v":0},{"$f":"SUM(DataInput!M193,DataInput!AI193)","v":0},{"$f":"SUM(DataInput!N193,DataInput!AJ193)","v":0},{"$f":"SUM(DataInput!O193,DataInput!AK193)","v":0},{"$f":"DataInput!P193","v":0},null,501,{"$f":"DataInput!R193","v":32},{"$f":"DataInput!Y193","v":0},{"$f":"IF(DataInput!U193-DataInput!E193>0,DataInput!U193-DataInput!E193,\"\")","v":23},{"$f":"IF(DataInput!W193-DataInput!I193>0,DataInput!W193-DataInput!I193,\"\")","v":""},null,55,71.5,429.5,450,3350,{"$f":"ROUNDDOWN((IF(AA194>0,IFERROR(IF(AVERAGE(DataInput!Q193:Q194)>AVERAGE(AA194,AA193),ROUNDDOWN(((((AA193-Z193)+(AA194-Z194))/2)*(A194-A193))/27,0),IF(((((DataInput!Q194-Z194)+(DataInput!Q193-Z193))/2)*(A194-A193))/27+S193+T193>0,ROUNDDOWN(((((DataInput!Q194-Z194)+(DataInput!Q193-Z193))/2)*(A194-A193))/27+S193+T193,0),0)),0),0)*$X$5),1)","v":0},176,{"$f":"ROUNDDOWN((IF(AC194>0,IFERROR(IF(((((DataInput!Q193-AC193)+(DataInput!Q194-AC194))/2)*(A194-A193))/27+S193+T193>0,ROUNDDOWN(((((DataInput!Q193-AC193)+(DataInput!Q194-AC194))/2)*(A194-A193))/27+S193+T193,0),0),0),0)*$X$5),1)","v":0},{"$f":"DataInput!U193","v":138},{"$f":"DataInput!S193","v":53},74.2,63.8]
[{"$f":"IF(DataInput!A194<>\"\",DataInput!A194,\"\")","v":85925},{"$f":"SUM(DataInput!C194,DataInput!Y194)+(DataInput!U194-DataInput!E194)","v":655},{"$f":"SUM(DataInput!D194,DataInput!Z194)","v":516},{"$f":"DataInput!U194","v":138},{"$f":"SUM(DataInput!F194,DataInput!AB194)","v":0},{"$f":"SUM(DataInput!G194,DataInput!AC194)","v":0},{"$f":"SUM(DataInput!H194,DataInput!AD194)","v":0},{"$f":"DataInput!I194","v":27},{"$f":"SUM(DataInput!J194,DataInput!AF194)","v":0},{"$f":"SUM(DataInput!K194,DataInput!AG194)","v":0},{"$f":"SUM(DataInput!L194,DataInput!AH194)","v":0},{"$f":"SUM(DataInput!M194,DataInput!AI194)","v":0},{"$f":"SUM(DataInput!N194,DataInput!AJ194)","v":0},{"$f":"SUM(DataInput!O194,DataInput!AK194)","v":0},{"$f":"DataInput!P194","v":0},null,516,{"$f":"DataInput!R194","v":31},{"$f":"DataInput!Y194","v":0},{"$f":"IF(DataInput!U194-DataInput!E194>0,DataInput!U194-DataInput!E194,\"\")","v":24},{"$f":"IF(DataInput!W194-DataInput!I194>0,DataInput!W194-DataInput!I194,\"\")","v":""},null,55,71.5,444.5,450,3350,{"$f":"ROUNDDOWN((IF(AA195>0,IFERROR(IF(AVERAGE(DataInput!Q194:Q195)>AVERAGE(AA195,AA194),ROUNDDOWN(((((AA194-Z194)+(AA195-Z195))/2)*(A195-A194))/27,0),IF(((((DataInput!Q195-Z195)+(DataInput!Q194-Z194))/2)*(A195-A194))/27+S194+T194>0,ROUNDDOWN(((((DataInput!Q195-Z195)+(DataInput!Q194-Z194))/2)*(A195-A194))/27+S194+T194,0),0)),0),0)*$X$5),1)","v":0},176,{"$f":"ROUNDDOWN((IF(AC195>0,IFERROR(IF(((((DataInput!Q194-AC194)+(DataInput!Q195-AC195))/2)*(A195-A194))/27+S194+T194>0,ROUNDDOWN(((((DataInput!Q194-AC194)+(DataInput!Q195-AC195))/2)*(A195-A194))/27+S194+T194,0),0),0),0)*$X$5),1)","v":0},{"$f":"DataInput!U194","v":138},{"$f":"DataInput!S194","v":53},74.2,63.8]
[{"$f":"IF(DataInput!A195<>\"\",DataInput!A195,\"\")","v":85950},{"$f":"SUM(DataInput!C195,DataInput!Y195)+(DataInput!U195-DataInput!E195)","v":666},{"$f":"SUM(DataInput!D195,DataInput!Z195)","v":528},{"$f":"DataInput!U195","v":138},{"$f":"SUM(DataInput!F195,DataInput!AB195)","v":0},{"$f":"SUM(DataInput!G195,DataInput!AC195)","v":0},{"$f":"SUM(DataInput!H195,DataInput!AD195)","v":0},{"$f":"DataInput!I195","v":27},{"$f":"SUM(DataInput!J195,DataInput!AF195)","v":0},{"$f":"SUM(DataInput!K195,DataInput!AG195)","v":0},{"$f":"SUM(DataInput!L195,DataInput!AH195)","v":0},{"$f":"SUM(DataInput!M195,DataInput!AI195)","v":0},{"$f":"SUM(DataInput!N195,DataInput!AJ195)","v":0},{"$f":"SUM(DataInput!O195,DataInput!AK195)","v":0},{"$f":"DataInput!P195","v":0},null,528,{"$f":"DataInput!R195","v":29},{"$f":"DataInput!Y195","v":0},{"$f":"IF(DataInput!U195-DataInput!E195>0,DataInput!U195-DataInput!E195,\"\")","v":24},{"$f":"IF(DataInput!W195-DataInput!I195>0,DataInput!W195-DataInput!I195,\"\")","v":""},null,53,68.900000000000006,459.1,450,3350,{"$f":"ROUNDDOWN((IF(AA196>0,IFERROR(IF(AVERAGE(DataInput!Q195:Q196)>AVERAGE(AA196,AA195),ROUNDDOWN(((((AA195-Z195)+(AA196-Z196))/2)*(A196-A195))/27,0),IF(((((DataInput!Q196-Z196)+(DataInput!Q195-Z195))/2)*(A196-A195))/27+S195+T195>0,ROUNDDOWN(((((DataInput!Q196-Z196)+(DataInput!Q195-Z195))/2)*(A196-A195))/27+S195+T195,0),0)),0),0)*$X$5),1)","v":0},176,{"$f":"ROUNDDOWN((IF(AC196>0,IFERROR(IF(((((DataInput!Q195-AC195)+(DataInput!Q196-AC196))/2)*(A196-A195))/27+S195+T195>0,ROUNDDOWN(((((DataInput!Q195-AC195)+(DataInput!Q196-AC196))/2)*(A196-A195))/27+S195+T195,0),0),0),0)*$X$5),1)","v":0},{"$f":"DataInput!U195","v":138},{"$f":"DataInput!S195","v":53},74.2,63.8]
[{"$f":"IF(DataInput!A196<>\"\",DataInput!A196,\"\")","v":85975},{"$f":"SUM(DataInput!C196,DataInput!Y196)+(DataInput!U196-DataInput!E196)","v":675},{"$f":"SUM(DataInput!D196,DataInput!Z196)","v":537},{"$f":"DataInput!U196","v":138},{"$f":"SUM(DataInput!F196,DataInput!AB196)","v":0},{"$f":"SUM(DataInput!G196,DataInput!AC196)","v":0},{"$f":"SUM(DataInput!H196,DataInput!AD196)","v":0},{"$f":"DataInput!I196","v":27},{"$f":"SUM(DataInput!J196,DataInput!AF196)","v":0},{"$f":"SUM(DataInput!K196,DataInput!AG196)","v":0},{"$f":"SUM(DataInput!L196,DataInput!AH196)","v":0},{"$f":"SUM(DataInput!M196,DataInput!AI196)","v":0},{"$f":"SUM(DataInput!N196,DataInput!AJ196)","v":0},{"$f":"SUM(DataInput!O196,DataInput!AK196)","v":0},{"$f":"DataInput!P196","v":0},null,537,{"$f":"DataInput!R196","v":28},{"$f":"DataInput!Y196","v":0},{"$f":"IF(DataInput!U196-DataInput!E196>0,DataInput!U196-DataInput!E196,\"\")","v":24},{"$f":"IF(DataInput!W196-DataInput!I196>0,DataInput!W196-DataInput!I196,\"\")","v":""},null,52,67.599999999999994,469.4,450,3350,{"$f":"ROUNDDOWN((IF(AA197>0,IFERROR(IF(AVERAGE(DataInput!Q196:Q197)>AVERAGE(AA197,AA196),ROUNDDOWN(((((AA196-Z196)+(AA197-Z197))/2)*(A197-A196))/27,0),IF(((((DataInput!Q197-Z197)+(DataInput!Q196-Z196))/2)*(A197-A196))/27+S196+T196>0,ROUNDDOWN(((((DataInput!Q197-Z197)+(DataInput!Q196-Z196))/2)*(A197-A196))/27+S196+T196,0),0)),0),0)*$X$5),1)","v":0},176,{"$f":"ROUNDDOWN((IF(AC197>0,IFERROR(IF(((((DataInput!Q196-AC196)+(DataInput!Q197-AC197))/2)*(A197-A196))/27+S196+T196>0,ROUNDDOWN(((((DataInput!Q196-AC196)+(DataInput!Q197-AC197))/2)*(A197-A196))/27+S196+T196,0),0),0),0)*$X$5),1)","v":0},{"$f":"DataInput!U196","v":138},{"$f":"DataInput!S196","v":53},74.2,63.8]
[{"$f":"IF(DataInput!A197<>\"\",DataInput!A197,\"\")","v":86000},{"$f":"SUM(DataInput!C197,DataInput!Y197)+(DataInput!U197-DataInput!E197)","v":681},{"$f":"SUM(DataInput!D197,DataInput!Z197)","v":543},{"$f":"DataInput!U197","v":138},{"$f":"SUM(DataInput!F197,DataInput!AB197)","v":0},{"$f":"SUM(DataInput!G197,DataInput!AC197)","v":0},{"$f":"SUM(DataInput!H197,DataInput!AD197)","v":0},{"$f":"DataInput!I197","v":27},{"$f":"SUM(DataInput!J197,DataInput!AF197)","v":0},{"$f":"SUM(DataInput!K197,DataInput!AG197)","v":0},{"$f":"SUM(DataInput!L197,DataInput!AH197)","v":0},{"$f":"SUM(DataInput!M197,DataInput!AI197)","v":0},{"$f":"SUM(DataInput!N197,DataInput!AJ197)","v":0},{"$f":"SUM(DataInput!O197,DataInput!AK197)","v":0},{"$f":"DataInput!P197","v":0},null,543,{"$f":"DataInput!R197","v":30},{"$f":"DataInput!Y197","v":0},{"$f":"IF(DataInput!U197-DataInput!E197>0,DataInput!U197-DataInput!E197,\"\")","v":24},{"$f":"IF(DataInput!W197-DataInput!I197>0,DataInput!W197-DataInput!I197,\"\")","v":""},null,54,70.2,472.8,450,3350,{"$f":"ROUNDDOWN((IF(AA198>0,IFERROR(IF(AVERAGE(DataInput!Q197:Q198)>AVERAGE(AA198,AA197),ROUNDDOWN(((((AA197-Z197)+(AA198-Z198))/2)*(A198-A197))/27,0),IF(((((DataInput!Q198-Z198)+(DataInput!Q197-Z197))/2)*(A198-A197))/27+S197+T197>0,ROUNDDOWN(((((DataInput!Q198-Z198)+(DataInput!Q197-Z197))/2)*(A198-A197))/27+S197+T197,0),0)),0),0)*$X$5),1)","v":0},176,{"$f":"ROUNDDOWN((IF(AC198>0,IFERROR(IF(((((DataInput!Q197-AC197)+(DataInput!Q198-AC198))/2)*(A198-A197))/27+S197+T197>0,ROUNDDOWN(((((DataInput!Q197-AC197)+(DataInput!Q198-AC198))/2)*(A198-A197))/27+S197+T197,0),0),0),0)*$X$5),1)","v":0},{"$f":"DataInput!U197","v":138},{"$f":"DataInput!S197","v":53},74.2,63.8]
[{"$f":"IF(DataInput!A198<>\"\",DataInput!A198,\"\")","v":86025},{"$f":"SUM(DataInput!C198,DataInput!Y198)+(DataInput!U198-DataInput!E198)","v":682},{"$f":"SUM(DataInput!D198,DataInput!Z198)","v":544},{"$f":"DataInput!U198","v":138},{"$f":"SUM(DataInput!F198,DataInput!AB198)","v":0},{"$f":"SUM(DataInput!G198,DataInput!AC198)","v":0},{"$f":"SUM(DataInput!H198,DataInput!AD198)","v":0},{"$f":"DataInput!I198","v":27},{"$f":"SUM(DataInput!J198,DataInput!AF198)","v":0},{"$f":"SUM(DataInput!K198,DataInput!AG198)","v":0},{"$f":"SUM(DataInput!L198,DataInput!AH198)","v":0},{"$f":"SUM(DataInput!M198,DataInput!AI198)","v":0},{"$f":"SUM(DataInput!N198,DataInput!AJ198)","v":0},{"$f":"SUM(DataInput!O198,DataInput!AK198)","v":0},{"$f":"DataInput!P198","v":0},null,544,{"$f":"DataInput!R198","v":31},{"$f":"DataInput!Y198","v":0},{"$f":"IF(DataInput!U198-DataInput!E198>0,DataInput!U198-DataInput!E198,\"\")","v":24},{"$f":"IF(DataInput!W198-DataInput!I198>0,DataInput!W198-DataInput!I198,\"\")","v":""},null,55,71.5,472.5,450,3350,{"$f":"ROUNDDOWN((IF(AA199>0,IFERROR(IF(AVERAGE(DataInput!Q198:Q199)>AVERAGE(AA199,AA198),ROUNDDOWN(((((AA198-Z198)+(AA199-Z199))/2)*(A199-A198))/27,0),IF(((((DataInput!Q199-Z199)+(DataInput!Q198-Z198))/2)*(A199-A198))/27+S198+T198>0,ROUNDDOWN(((((DataInput!Q199-Z199)+(DataInput!Q198-Z198))/2)*(A199-A198))/27+S198+T198,0),0)),0),0)*$X$5),1)","v":0},176,{"$f":"ROUNDDOWN((IF(AC199>0,IFERROR(IF(((((DataInput!Q198-AC198)+(DataInput!Q199-AC199))/2)*(A199-A198))/27+S198+T198>0,ROUNDDOWN(((((DataInput!Q198-AC198)+(DataInput!Q199-AC199))/2)*(A199-A198))/27+S198+T198,0),0),0),0)*$X$5),1)","v":0},{"$f":"DataInput!U198","v":138},{"$f":"DataInput!S198","v":53},74.2,63.8]
[{"$f":"IF(DataInput!A199<>\"\",DataInput!A199,\"\")","v":86050},{"$f":"SUM(DataInput!C199,DataInput!Y199)+(DataInput!U199-DataInput!E199)","v":690},{"$f":"SUM(DataInput!D199,DataInput!Z199)","v":552},{"$f":"DataInput!U199","v":138},{"$f":"SUM(DataInput!F199,DataInput!AB199)","v":0},{"$f":"SUM(DataInput!G199,DataInput!AC199)","v":0},{"$f":"SUM(DataInput!H199,DataInput!AD199)","v":0},{"$f":"DataInput!I199","v":27},{"$f":"SUM(DataInput!J199,DataInput!AF199)","v":0},{"$f":"SUM(DataInput!K199,DataInput!AG199)","v":0},{"$f":"SUM(DataInput!L199,DataInput!AH199)","v":0},{"$f":"SUM(DataInput!M199,DataInput!AI199)","v":0},{"$f":"SUM(DataInput!N199,DataInput!AJ199)","v":0},{"$f":"SUM(DataInput!O199,DataInput!AK199)","v":0},{"$f":"DataInput!P199","v":0},null,552,{"$f":"DataInput!R199","v":29},{"$f":"DataInput!Y199","v":0},{"$f":"IF(DataInput!U199-DataInput!E199>0,DataInput!U199-DataInput!E199,\"\")","v":23},{"$f":"IF(DataInput!W199-DataInput!I199>0,DataInput!W199-DataInput!I199,\"\")","v":""},null,52,67.599999999999994,484.4,450,3350,{"$f":"ROUNDDOWN((IF(AA200>0,IFERROR(IF(AVERAGE(DataInput!Q199:Q200)>AVERAGE(AA200,AA199),ROUNDDOWN(((((AA199-Z199)+(AA200-Z200))/2)*(A200-A199))/27,0),IF(((((DataInput!Q200-Z200)+(DataInput!Q199-Z199))/2)*(A200-A199))/27+S199+T199>0,ROUNDDOWN(((((DataInput!Q200-Z200)+(DataInput!Q199-Z199))/2)*(A200-A199))/27+S199+T199,0),0)),0),0)*$X$5),1)","v":0},176,{"$f":"ROUNDDOWN((IF(AC200>0,IFERROR(IF(((((DataInput!Q199-AC199)+(DataInput!Q200-AC200))/2)*(A200-A199))/27+S199+T199>0,ROUNDDOWN(((((DataInput!Q199-AC199)+(DataInput!Q200-AC200))/2)*(A200-A199))/27+S199+T199,0),0),0),0)*$X$5),1)","v":0},{"$f":"DataInput!U199","v":138},{"$f":"DataInput!S199","v":53},74.2,63.8]
[{"$f":"IF(DataInput!A200<>\"\",DataInput!A200,\"\")","v":86075},{"$f":"SUM(DataInput!C200,DataInput!Y200)+(DataInput!U200-DataInput!E200)","v":704},{"$f":"SUM(DataInput!D200,DataInput!Z200)","v":565},{"$f":"DataInput!U200","v":138},{"$f":"SUM(DataInput!F200,DataInput!AB200)","v":0},{"$f":"SUM(DataInput!G200,DataInput!AC200)","v":0},{"$f":"SUM(DataInput!H200,DataInput!AD200)","v":0},{"$f":"DataInput!I200","v":27},{"$f":"SUM(DataInput!J200,DataInput!AF200)","v":0},{"$f":"SUM(DataInput!K200,DataInput!AG200)","v":0},{"$f":"SUM(DataInput!L200,DataInput!AH200)","v":0},{"$f":"SUM(DataInput!M200,DataInput!AI200)","v":0},{"$f":"SUM(DataInput!N200,DataInput!AJ200)","v":0},{"$f":"SUM(DataInput!O200,DataInput!AK200)","v":0},{"$f":"DataInput!P200","v":0},null,565,{"$f":"DataInput!R200","v":28},{"$f":"DataInput!Y200","v":0},{"$f":"IF(DataInput!U200-DataInput!E200>0,DataInput!U200-DataInput!E200,\"\")","v":23},{"$f":"IF(DataInput!W200-DataInput!I200>0,DataInput!W200-DataInput!I200,\"\")","v":""},null,51,66.3,498.7,450,3350,{"$f":"ROUNDDOWN((IF(AA201>0,IFERROR(IF(AVERAGE(DataInput!Q200:Q201)>AVERAGE(AA201,AA200),ROUNDDOWN(((((AA200-Z200)+(AA201-Z201))/2)*(A201-A200))/27,0),IF(((((DataInput!Q201-Z201)+(DataInput!Q200-Z200))/2)*(A201-A200))/27+S200+T200>0,ROUNDDOWN(((((DataInput!Q201-Z201)+(DataInput!Q200-Z200))/2)*(A201-A200))/27+S200+T200,0),0)),0),0)*$X$5),1)","v":0},176,{"$f":"ROUNDDOWN((IF(AC201>0,IFERROR(IF(((((DataInput!Q200-AC200)+(DataInput!Q201-AC201))/2)*(A201-A200))/27+S200+T200>0,ROUNDDOWN(((((DataInput!Q200-AC200)+(DataInput!Q201-AC201))/2)*(A201-A200))/27+S200+T200,0),0),0),0)*$X$5),1)","v":0},{"$f":"DataInput!U200","v":138},{"$f":"DataInput!S200","v":53},74.2,63.8]
[{"$f":"IF(DataInput!A201<>\"\",DataInput!A201,\"\")","v":86100},{"$f":"SUM(DataInput!C201,DataInput!Y201)+(DataInput!U201-DataInput!E201)","v":715},{"$f":"SUM(DataInput!D201,DataInput!Z201)","v":576},{"$f":"DataInput!U201","v":139},{"$f":"SUM(DataInput!F201,DataInput!AB201)","v":0},{"$f":"SUM(DataInput!G201,DataInput!AC201)","v":0},{"$f":"SUM(DataInput!H201,DataInput!AD201)","v":0},{"$f":"DataInput!I201","v":27},{"$f":"SUM(DataInput!J201,DataInput!AF201)","v":0},{"$f":"SUM(DataInput!K201,DataInput!AG201)","v":0},{"$f":"SUM(DataInput!L201,DataInput!AH201)","v":0},{"$f":"SUM(DataInput!M201,DataInput!AI201)","v":0},{"$f":"SUM(DataInput!N201,DataInput!AJ201)","v":0},{"$f":"SUM(DataInput!O201,DataInput!AK201)","v":0},{"$f":"DataInput!P201","v":0},null,576,{"$f":"DataInput!R201","v":27},{"$f":"DataInput!Y201","v":0},{"$f":"IF(DataInput!U201-DataInput!E201>0,DataInput!U201-DataInput!E201,\"\")","v":23},{"$f":"IF(DataInput!W201-DataInput!I201>0,DataInput!W201-DataInput!I201,\"\")","v":""},null,50,65,511,450,3350,{"$f":"ROUNDDOWN((IF(AA202>0,IFERROR(IF(AVERAGE(DataInput!Q201:Q202)>AVERAGE(AA202,AA201),ROUNDDOWN(((((AA201-Z201)+(AA202-Z202))/2)*(A202-A201))/27,0),IF(((((DataInput!Q202-Z202)+(DataInput!Q201-Z201))/2)*(A202-A201))/27+S201+T201>0,ROUNDDOWN(((((DataInput!Q202-Z202)+(DataInput!Q201-Z201))/2)*(A202-A201))/27+S201+T201,0),0)),0),0)*$X$5),1)","v":0},176,{"$f":"ROUNDDOWN((IF(AC202>0,IFERROR(IF(((((DataInput!Q201-AC201)+(DataInput!Q202-AC202))/2)*(A202-A201))/27+S201+T201>0,ROUNDDOWN(((((DataInput!Q201-AC201)+(DataInput!Q202-AC202))/2)*(A202-A201))/27+S201+T201,0),0),0),0)*$X$5),1)","v":0},{"$f":"DataInput!U201","v":139},{"$f":"DataInput!S201","v":54},75.599999999999994,63.4]
[{"$f":"IF(DataInput!A202<>\"\",DataInput!A202,\"\")","v":86125},{"$f":"SUM(DataInput!C202,DataInput!Y202)+(DataInput!U202-DataInput!E202)","v":723},{"$f":"SUM(DataInput!D202,DataInput!Z202)","v":582},{"$f":"DataInput!U202","v":141},{"$f":"SUM(DataInput!F202,DataInput!AB202)","v":0},{"$f":"SUM(DataInput!G202,DataInput!AC202)","v":0},{"$f":"SUM(DataInput!H202,DataInput!AD202)","v":0},{"$f":"DataInput!I202","v":27},{"$f":"SUM(DataInput!J202,DataInput!AF202)","v":0},{"$f":"SUM(DataInput!K202,DataInput!AG202)","v":0},{"$f":"SUM(DataInput!L202,DataInput!AH202)","v":0},{"$f":"SUM(DataInput!M202,DataInput!AI202)","v":0},{"$f":"SUM(DataInput!N202,DataInput!AJ202)","v":0},{"$f":"SUM(DataInput!O202,DataInput!AK202)","v":0},{"$f":"DataInput!P202","v":0},null,582,{"$f":"DataInput!R202","v":27},{"$f":"DataInput!Y202","v":0},{"$f":"IF(DataInput!U202-DataInput!E202>0,DataInput!U202-DataInput!E202,\"\")","v":23},{"$f":"IF(DataInput!W202-DataInput!I202>0,DataInput!W202-DataInput!I202,\"\")","v":""},null,50,65,517,450,3350,{"$f":"ROUNDDOWN((IF(AA203>0,IFERROR(IF(AVERAGE(DataInput!Q202:Q203)>AVERAGE(AA203,AA202),ROUNDDOWN(((((AA202-Z202)+(AA203-Z203))/2)*(A203-A202))/27,0),IF(((((DataInput!Q203-Z203)+(DataInput!Q202-Z202))/2)*(A203-A202))/27+S202+T202>0,ROUNDDOWN(((((DataInput!Q203-Z203)+(DataInput!Q202-Z202))/2)*(A203-A202))/27+S202+T202,0),0)),0),0)*$X$5),1)","v":0},176,{"$f":"ROUNDDOWN((IF(AC203>0,IFERROR(IF(((((DataInput!Q202-AC202)+(DataInput!Q203-AC203))/2)*(A203-A202))/27+S202+T202>0,ROUNDDOWN(((((DataInput!Q202-AC202)+(DataInput!Q203-AC203))/2)*(A203-A202))/27+S202+T202,0),0),0),0)*$X$5),1)","v":0},{"$f":"DataInput!U202","v":141},{"$f":"DataInput!S202","v":55},77,64]
[{"$f":"IF(DataInput!A203<>\"\",DataInput!A203,\"\")","v":86150},{"$f":"SUM(DataInput!C203,DataInput!Y203)+(DataInput!U203-DataInput!E203)","v":725},{"$f":"SUM(DataInput!D203,DataInput!Z203)","v":582},{"$f":"DataInput!U203","v":142},{"$f":"SUM(DataInput!F203,DataInput!AB203)","v":0},{"$f":"SUM(DataInput!G203,DataInput!AC203)","v":0},{"$f":"SUM(DataInput!H203,DataInput!AD203)","v":0},{"$f":"DataInput!I203","v":27},{"$f":"SUM(DataInput!J203,DataInput!AF203)","v":0},{"$f":"SUM(DataInput!K203,DataInput!AG203)","v":0},{"$f":"SUM(DataInput!L203,DataInput!AH203)","v":0},{"$f":"SUM(DataInput!M203,DataInput!AI203)","v":0},{"$f":"SUM(DataInput!N203,DataInput!AJ203)","v":0},{"$f":"SUM(DataInput!O203,DataInput!AK203)","v":0},{"$f":"DataInput!P203","v":0},null,582,{"$f":"DataInput!R203","v":29},{"$f":"DataInput!Y203","v":0},{"$f":"IF(DataInput!U203-DataInput!E203>0,DataInput!U203-DataInput!E203,\"\")","v":23},{"$f":"IF(DataInput!W203-DataInput!I203>0,DataInput!W203-DataInput!I203,\"\")","v":""},null,52,67.599999999999994,514.4,450,3350,{"$f":"ROUNDDOWN((IF(AA204>0,IFERROR(IF(AVERAGE(DataInput!Q203:Q204)>AVERAGE(AA204,AA203),ROUNDDOWN(((((AA203-Z203)+(AA204-Z204))/2)*(A204-A203))/27,0),IF(((((DataInput!Q204-Z204)+(DataInput!Q203-Z203))/2)*(A204-A203))/27+S203+T203>0,ROUNDDOWN(((((DataInput!Q204-Z204)+(DataInput!Q203-Z203))/2)*(A204-A203))/27+S203+T203,0),0)),0),0)*$X$5),1)","v":0},176,{"$f":"ROUNDDOWN((IF(AC204>0,IFERROR(IF(((((DataInput!Q203-AC203)+(DataInput!Q204-AC204))/2)*(A204-A203))/27+S203+T203>0,ROUNDDOWN(((((DataInput!Q203-AC203)+(DataInput!Q204-AC204))/2)*(A204-A203))/27+S203+T203,0),0),0),0)*$X$5),1)","v":0},{"$f":"DataInput!U203","v":142},{"$f":"DataInput!S203","v":56},78.400000000000006,63.6]
[{"$f":"IF(DataInput!A204<>\"\",DataInput!A204,\"\")","v":86175},{"$f":"SUM(DataInput!C204,DataInput!Y204)+(DataInput!U204-DataInput!E204)","v":719},{"$f":"SUM(DataInput!D204,DataInput!Z204)","v":578},{"$f":"DataInput!U204","v":142},{"$f":"SUM(DataInput!F204,DataInput!AB204)","v":0},{"$f":"SUM(DataInput!G204,DataInput!AC204)","v":0},{"$f":"SUM(DataInput!H204,DataInput!AD204)","v":0},{"$f":"DataInput!I204","v":27},{"$f":"SUM(DataInput!J204,DataInput!AF204)","v":0},{"$f":"SUM(DataInput!K204,DataInput!AG204)","v":0},{"$f":"SUM(DataInput!L204,DataInput!AH204)","v":0},{"$f":"SUM(DataInput!M204,DataInput!AI204)","v":0},{"$f":"SUM(DataInput!N204,DataInput!AJ204)","v":0},{"$f":"SUM(DataInput!O204,DataInput!AK204)","v":0},{"$f":"DataInput!P204","v":0},null,578,{"$f":"DataInput!R204","v":32},{"$f":"DataInput!Y204","v":0},{"$f":"IF(DataInput!U204-DataInput!E204>0,DataInput!U204-DataInput!E204,\"\")","v":22},{"$f":"IF(DataInput!W204-DataInput!I204>0,DataInput!W204-DataInput!I204,\"\")","v":""},null,54,70.2,507.8,450,3350,{"$f":"ROUNDDOWN((IF(AA205>0,IFERROR(IF(AVERAGE(DataInput!Q204:Q205)>AVERAGE(AA205,AA204),ROUNDDOWN(((((AA204-Z204)+(AA205-Z205))/2)*(A205-A204))/27,0),IF(((((DataInput!Q205-Z205)+(DataInput!Q204-Z204))/2)*(A205-A204))/27+S204+T204>0,ROUNDDOWN(((((DataInput!Q205-Z205)+(DataInput!Q204-Z204))/2)*(A205-A204))/27+S204+T204,0),0)),0),0)*$X$5),1)","v":0},176,{"$f":"ROUNDDOWN((IF(AC205>0,IFERROR(IF(((((DataInput!Q204-AC204)+(DataInput!Q205-AC205))/2)*(A205-A204))/27+S204+T204>0,ROUNDDOWN(((((DataInput!Q204-AC204)+(DataInput!Q205-AC205))/2)*(A205-A204))/27+S204+T204,0),0),0),0)*$X$5),1)","v":0},{"$f":"DataInput!U204","v":142},{"$f":"DataInput!S204","v":56},78.400000000000006,63.6]
[{"$f":"IF(DataInput!A205<>\"\",DataInput!A205,\"\")","v":86200},{"$f":"SUM(DataInput!C205,DataInput!Y205)+(DataInput!U205-DataInput!E205)","v":713},{"$f":"SUM(DataInput!D205,DataInput!Z205)","v":572},{"$f":"DataInput!U205","v":142},{"$f":"SUM(DataInput!F205,DataInput!AB205)","v":0},{"$f":"SUM(DataInput!G205,DataInput!AC205)","v":0},{"$f":"SUM(DataInput!H205,DataInput!AD205)","v":0},{"$f":"DataInput!I205","v":27},{"$f":"SUM(DataInput!J205,DataInput!AF205)","v":0},{"$f":"SUM(DataInput!K205,DataInput!AG205)","v":0},{"$f":"SUM(DataInput!L205,DataInput!AH205)","v":0},{"$f":"SUM(DataInput!M205,DataInput!AI205)","v":0},{"$f":"SUM(DataInput!N205,DataInput!AJ205)","v":0},{"$f":"SUM(DataInput!O205,DataInput!AK205)","v":0},{"$f":"DataInput!P205","v":0},null,572,{"$f":"DataInput!R205","v":35},{"$f":"DataInput!Y205","v":0},{"$f":"IF(DataInput!U205-DataInput!E205>0,DataInput!U205-DataInput!E205,\"\")","v":22},{"$f":"IF(DataInput!W205-DataInput!I205>0,DataInput!W205-DataInput!I205,\"\")","v":""},null,57,74.099999999999994,497.9,450,3350,{"$f":"ROUNDDOWN((IF(AA206>0,IFERROR(IF(AVERAGE(DataInput!Q205:Q206)>AVERAGE(AA206,AA205),ROUNDDOWN(((((AA205-Z205)+(AA206-Z206))/2)*(A206-A205))/27,0),IF(((((DataInput!Q206-Z206)+(DataInput!Q205-Z205))/2)*(A206-A205))/27+S205+T205>0,ROUNDDOWN(((((DataInput!Q206-Z206)+(DataInput!Q205-Z205))/2)*(A206-A205))/27+S205+T205,0),0)),0),0)*$X$5),1)","v":0},176,{"$f":"ROUNDDOWN((IF(AC206>0,IFERROR(IF(((((DataInput!Q205-AC205)+(DataInput!Q206-AC206))/2)*(A206-A205))/27+S205+T205>0,ROUNDDOWN(((((DataInput!Q205-AC205)+(DataInput!Q206-AC206))/2)*(A206-A205))/27+S205+T205,0),0),0),0)*$X$5),1)","v":0},{"$f":"DataInput!U205","v":142},{"$f":"DataInput!S205","v":56},78.400000000000006,63.6]
[{"$f":"IF(DataInput!A206<>\"\",DataInput!A206,\"\")","v":86225},{"$f":"SUM(DataInput!C206,DataInput!Y206)+(DataInput!U206-DataInput!E206)","v":711},{"$f":"SUM(DataInput!D206,DataInput!Z206)","v":568},{"$f":"DataInput!U206","v":143},{"$f":"SUM(DataInput!F206,DataInput!AB206)","v":0},{"$f":"SUM(DataInput!G206,DataInput!AC206)","v":0},{"$f":"SUM(DataInput!H206,DataInput!AD206)","v":0},{"$f":"DataInput!I206","v":27},{"$f":"SUM(DataInput!J206,DataInput!AF206)","v":0},{"$f":"SUM(DataInput!K206,DataInput!AG206)","v":0},{"$f":"SUM(DataInput!L206,DataInput!AH206)","v":0},{"$f":"SUM(DataInput!M206,DataInput!AI206)","v":0},{"$f":"SUM(DataInput!N206,DataInput!AJ206)","v":0},{"$f":"SUM(DataInput!O206,DataInput!AK206)","v":0},{"$f":"DataInput!P206","v":0},null,568,{"$f":"DataInput!R206","v":37},{"$f":"DataInput!Y206","v":0},{"$f":"IF(DataInput!U206-DataInput!E206>0,DataInput!U206-DataInput!E206,\"\")","v":22},{"$f":"IF(DataInput!W206-DataInput!I206>0,DataInput!W206-DataInput!I206,\"\")","v":""},null,59,76.7,491.3,450,3350,{"$f":"ROUNDDOWN((IF(AA207>0,IFERROR(IF(AVERAGE(DataInput!Q206:Q207)>AVERAGE(AA207,AA206),ROUNDDOWN(((((AA206-Z206)+(AA207-Z207))/2)*(A207-A206))/27,0),IF(((((DataInput!Q207-Z207)+(DataInput!Q206-Z206))/2)*(A207-A206))/27+S206+T206>0,ROUNDDOWN(((((DataInput!Q207-Z207)+(DataInput!Q206-Z206))/2)*(A207-A206))/27+S206+T206,0),0)),0),0)*$X$5),1)","v":0},176,{"$f":"ROUNDDOWN((IF(AC207>0,IFERROR(IF(((((DataInput!Q206-AC206)+(DataInput!Q207-AC207))/2)*(A207-A206))/27+S206+T206>0,ROUNDDOWN(((((DataInput!Q206-AC206)+(DataInput!Q207-AC207))/2)*(A207-A206))/27+S206+T206,0),0),0),0)*$X$5),1)","v":0},{"$f":"DataInput!U206","v":143},{"$f":"DataInput!S206","v":57},79.8,63.2]
[{"$f":"IF(DataInput!A207<>\"\",DataInput!A207,\"\")","v":86250},{"$f":"SUM(DataInput!C207,DataInput!Y207)+(DataInput!U207-DataInput!E207)","v":709},{"$f":"SUM(DataInput!D207,DataInput!Z207)","v":565},{"$f":"DataInput!U207","v":144},{"$f":"SUM(DataInput!F207,DataInput!AB207)","v":0},{"$f":"SUM(DataInput!G207,DataInput!AC207)","v":0},{"$f":"SUM(DataInput!H207,DataInput!AD207)","v":0},{"$f":"DataInput!I207","v":27},{"$f":"SUM(DataInput!J207,DataInput!AF207)","v":0},{"$f":"SUM(DataInput!K207,DataInput!AG207)","v":0},{"$f":"SUM(DataInput!L207,DataInput!AH207)","v":0},{"$f":"SUM(DataInput!M207,DataInput!AI207)","v":0},{"$f":"SUM(DataInput!N207,DataInput!AJ207)","v":0},{"$f":"SUM(DataInput!O207,DataInput!AK207)","v":0},{"$f":"DataInput!P207","v":0},null,565,{"$f":"DataInput!R207","v":38},{"$f":"DataInput!Y207","v":0},{"$f":"IF(DataInput!U207-DataInput!E207>0,DataInput!U207-DataInput!E207,\"\")","v":23},{"$f":"IF(DataInput!W207-DataInput!I207>0,DataInput!W207-DataInput!I207,\"\")","v":""},null,61,79.3,485.7,450,3350,{"$f":"ROUNDDOWN((IF(AA208>0,IFERROR(IF(AVERAGE(DataInput!Q207:Q208)>AVERAGE(AA208,AA207),ROUNDDOWN(((((AA207-Z207)+(AA208-Z208))/2)*(A208-A207))/27,0),IF(((((DataInput!Q208-Z208)+(DataInput!Q207-Z207))/2)*(A208-A207))/27+S207+T207>0,ROUNDDOWN(((((DataInput!Q208-Z208)+(DataInput!Q207-Z207))/2)*(A208-A207))/27+S207+T207,0),0)),0),0)*$X$5),1)","v":0},176,{"$f":"ROUNDDOWN((IF(AC208>0,IFERROR(IF(((((DataInput!Q207-AC207)+(DataInput!Q208-AC208))/2)*(A208-A207))/27+S207+T207>0,ROUNDDOWN(((((DataInput!Q207-AC207)+(DataInput!Q208-AC208))/2)*(A208-A207))/27+S207+T207,0),0),0),0)*$X$5),1)","v":0},{"$f":"DataInput!U207","v":144},{"$f":"DataInput!S207","v":57},79.8,64.2]
[{"$f":"IF(DataInput!A208<>\"\",DataInput!A208,\"\")","v":86275},{"$f":"SUM(DataInput!C208,DataInput!Y208)+(DataInput!U208-DataInput!E208)","v":704},{"$f":"SUM(DataInput!D208,DataInput!Z208)","v":559},{"$f":"DataInput!U208","v":144},{"$f":"SUM(DataInput!F208,DataInput!AB208)","v":0},{"$f":"SUM(DataInput!G208,DataInput!AC208)","v":0},{"$f":"SUM(DataInput!H208,DataInput!AD208)","v":0},{"$f":"DataInput!I208","v":27},{"$f":"SUM(DataInput!J208,DataInput!AF208)","v":0},{"$f":"SUM(DataInput!K208,DataInput!AG208)","v":0},{"$f":"SUM(DataInput!L208,DataInput!AH208)","v":0},{"$f":"SUM(DataInput!M208,DataInput!AI208)","v":0},{"$f":"SUM(DataInput!N208,DataInput!AJ208)","v":0},{"$f":"SUM(DataInput!O208,DataInput!AK208)","v":0},{"$f":"DataInput!P208","v":0},null,559,{"$f":"DataInput!R208","v":38},{"$f":"DataInput!Y208","v":0},{"$f":"IF(DataInput!U208-DataInput!E208>0,DataInput!U208-DataInput!E208,\"\")","v":22},{"$f":"IF(DataInput!W208-DataInput!I208>0,DataInput!W208-DataInput!I208,\"\")","v":""},null,60,78,481,450,3350,{"$f":"ROUNDDOWN((IF(AA209>0,IFERROR(IF(AVERAGE(DataInput!Q208:Q209)>AVERAGE(AA209,AA208),ROUNDDOWN(((((AA208-Z208)+(AA209-Z209))/2)*(A209-A208))/27,0),IF(((((DataInput!Q209-Z209)+(DataInput!Q208-Z208))/2)*(A209-A208))/27+S208+T208>0,ROUNDDOWN(((((DataInput!Q209-Z209)+(DataInput!Q208-Z208))/2)*(A209-A208))/27+S208+T208,0),0)),0),0)*$X$5),1)","v":0},176,{"$f":"ROUNDDOWN((IF(AC209>0,IFERROR(IF(((((DataInput!Q208-AC208)+(DataInput!Q209-AC209))/2)*(A209-A208))/27+S208+T208>0,ROUNDDOWN(((((DataInput!Q208-AC208)+(DataInput!Q209-AC209))/2)*(A209-A208))/27+S208+T208,0),0),0),0)*$X$5),1)","v":0},{"$f":"DataInput!U208","v":144},{"$f":"DataInput!S208","v":58},81.2,62.8]
[{"$f":"IF(DataInput!A209<>\"\",DataInput!A209,\"\")","v":86300},{"$f":"SUM(DataInput!C209,DataInput!Y209)+(DataInput!U209-DataInput!E209)","v":702},{"$f":"SUM(DataInput!D209,DataInput!Z209)","v":557},{"$f":"DataInput!U209","v":145},{"$f":"SUM(DataInput!F209,DataInput!AB209)","v":0},{"$f":"SUM(DataInput!G209,DataInput!AC209)","v":0},{"$f":"SUM(DataInput!H209,DataInput!AD209)","v":0},{"$f":"DataInput!I209","v":27},{"$f":"SUM(DataInput!J209,DataInput!AF209)","v":0},{"$f":"SUM(DataInput!K209,DataInput!AG209)","v":0},{"$f":"SUM(DataInput!L209,DataInput!AH209)","v":0},{"$f":"SUM(DataInput!M209,DataInput!AI209)","v":0},{"$f":"SUM(DataInput!N209,DataInput!AJ209)","v":0},{"$f":"SUM(DataInput!O209,DataInput!AK209)","v":0},{"$f":"DataInput!P209","v":0},null,557,{"$f":"DataInput!R209","v":39},{"$f":"DataInput!Y209","v":0},{"$f":"IF(DataInput!U209-DataInput!E209>0,DataInput!U209-DataInput!E209,\"\")","v":22},{"$f":"IF(DataInput!W209-DataInput!I209>0,DataInput!W209-DataInput!I209,\"\")","v":""},null,61,79.3,477.7,450,3350,{"$f":"ROUNDDOWN((IF(AA210>0,IFERROR(IF(AVERAGE(DataInput!Q209:Q210)>AVERAGE(AA210,AA209),ROUNDDOWN(((((AA209-Z209)+(AA210-Z210))/2)*(A210-A209))/27,0),IF(((((DataInput!Q210-Z210)+(DataInput!Q209-Z209))/2)*(A210-A209))/27+S209+T209>0,ROUNDDOWN(((((DataInput!Q210-Z210)+(DataInput!Q209-Z209))/2)*(A210-A209))/27+S209+T209,0),0)),0),0)*$X$5),1)","v":0},176,{"$f":"ROUNDDOWN((IF(AC210>0,IFERROR(IF(((((DataInput!Q209-AC209)+(DataInput!Q210-AC210))/2)*(A210-A209))/27+S209+T209>0,ROUNDDOWN(((((DataInput!Q209-AC209)+(DataInput!Q210-AC210))/2)*(A210-A209))/27+S209+T209,0),0),0),0)*$X$5),1)","v":0},{"$f":"DataInput!U209","v":145},{"$f":"DataInput!S209","v":59},82.6,62.4]
[{"$f":"IF(DataInput!A210<>\"\",DataInput!A210,\"\")","v":86325},{"$f":"SUM(DataInput!C210,DataInput!Y210)+(DataInput!U210-DataInput!E210)","v":698},{"$f":"SUM(DataInput!D210,DataInput!Z210)","v":551},{"$f":"DataInput!U210","v":147},{"$f":"SUM(DataInput!F210,DataInput!AB210)","v":0},{"$f":"SUM(DataInput!G210,DataInput!AC210)","v":0},{"$f":"SUM(DataInput!H210,DataInput!AD210)","v":0},{"$f":"DataInput!I210","v":27},{"$f":"SUM(DataInput!J210,DataInput!AF210)","v":0},{"$f":"SUM(DataInput!K210,DataInput!AG210)","v":0},{"$f":"SUM(DataInput!L210,DataInput!AH210)","v":0},{"$f":"SUM(DataInput!M210,DataInput!AI210)","v":0},{"$f":"SUM(DataInput!N210,DataInput!AJ210)","v":0},{"$f":"SUM(DataInput!O210,DataInput!AK210)","v":0},{"$f":"DataInput!P210","v":0},null,551,{"$f":"DataInput!R210","v":41},{"$f":"DataInput!Y210","v":0},{"$f":"IF(DataInput!U210-DataInput!E210>0,DataInput!U210-DataInput!E210,\"\")","v":22},{"$f":"IF(DataInput!W210-DataInput!I210>0,DataInput!W210-DataInput!I210,\"\")","v":""},null,63,81.900000000000006,469.1,450,3350,{"$f":"ROUNDDOWN((IF(AA211>0,IFERROR(IF(AVERAGE(DataInput!Q210:Q211)>AVERAGE(AA211,AA210),ROUNDDOWN(((((AA210-Z210)+(AA211-Z211))/2)*(A211-A210))/27,0),IF(((((DataInput!Q211-Z211)+(DataInput!Q210-Z210))/2)*(A211-A210))/27+S210+T210>0,ROUNDDOWN(((((DataInput!Q211-Z211)+(DataInput!Q210-Z210))/2)*(A211-A210))/27+S210+T210,0),0)),0),0)*$X$5),1)","v":0},176,{"$f":"ROUNDDOWN((IF(AC211>0,IFERROR(IF(((((DataInput!Q210-AC210)+(DataInput!Q211-AC211))/2)*(A211-A210))/27+S210+T210>0,ROUNDDOWN(((((DataInput!Q210-AC210)+(DataInput!Q211-AC211))/2)*(A211-A210))/27+S210+T210,0),0),0),0)*$X$5),1)","v":0},{"$f":"DataInput!U210","v":147},{"$f":"DataInput!S210","v":59},82.6,64.400000000000006]
[{"$f":"IF(DataInput!A211<>\"\",DataInput!A211,\"\")","v":86350},{"$f":"SUM(DataInput!C211,DataInput!Y211)+(DataInput!U211-DataInput!E211)","v":690},{"$f":"SUM(DataInput!D211,DataInput!Z211)","v":542},{"$f":"DataInput!U211","v":148},{"$f":"SUM(DataInput!F211,DataInput!AB211)","v":0},{"$f":"SUM(DataInput!G211,DataInput!AC211)","v":0},{"$f":"SUM(DataInput!H211,DataInput!AD211)","v":0},{"$f":"DataInput!I211","v":27},{"$f":"SUM(DataInput!J211,DataInput!AF211)","v":0},{"$f":"SUM(DataInput!K211,DataInput!AG211)","v":0},{"$f":"SUM(DataInput!L211,DataInput!AH211)","v":0},{"$f":"SUM(DataInput!M211,DataInput!AI211)","v":0},{"$f":"SUM(DataInput!N211,DataInput!AJ211)","v":0},{"$f":"SUM(DataInput!O211,DataInput!AK211)","v":0},{"$f":"DataInput!P211","v":0},null,542,{"$f":"DataInput!R211","v":45},{"$f":"DataInput!Y211","v":0},{"$f":"IF(DataInput!U211-DataInput!E211>0,DataInput!U211-DataInput!E211,\"\")","v":22},{"$f":"IF(DataInput!W211-DataInput!I211>0,DataInput!W211-DataInput!I211,\"\")","v":""},null,67,87.1,454.9,450,3350,{"$f":"ROUNDDOWN((IF(AA212>0,IFERROR(IF(AVERAGE(DataInput!Q211:Q212)>AVERAGE(AA212,AA211),ROUNDDOWN(((((AA211-Z211)+(AA212-Z212))/2)*(A212-A211))/27,0),IF(((((DataInput!Q212-Z212)+(DataInput!Q211-Z211))/2)*(A212-A211))/27+S211+T211>0,ROUNDDOWN(((((DataInput!Q212-Z212)+(DataInput!Q211-Z211))/2)*(A212-A211))/27+S211+T211,0),0)),0),0)*$X$5),1)","v":0},176,{"$f":"ROUNDDOWN((IF(AC212>0,IFERROR(IF(((((DataInput!Q211-AC211)+(DataInput!Q212-AC212))/2)*(A212-A211))/27+S211+T211>0,ROUNDDOWN(((((DataInput!Q211-AC211)+(DataInput!Q212-AC212))/2)*(A212-A211))/27+S211+T211,0),0),0),0)*$X$5),1)","v":0},{"$f":"DataInput!U211","v":148},{"$f":"DataInput!S211","v":60},84,64]
[{"$f":"IF(DataInput!A212<>\"\",DataInput!A212,\"\")","v":86375},{"$f":"SUM(DataInput!C212,DataInput!Y212)+(DataInput!U212-DataInput!E212)","v":676},{"$f":"SUM(DataInput!D212,DataInput!Z212)","v":527},{"$f":"DataInput!U212","v":148},{"$f":"SUM(DataInput!F212,DataInput!AB212)","v":0},{"$f":"SUM(DataInput!G212,DataInput!AC212)","v":0},{"$f":"SUM(DataInput!H212,DataInput!AD212)","v":0},{"$f":"DataInput!I212","v":27},{"$f":"SUM(DataInput!J212,DataInput!AF212)","v":0},{"$f":"SUM(DataInput!K212,DataInput!AG212)","v":0},{"$f":"SUM(DataInput!L212,DataInput!AH212)","v":0},{"$f":"SUM(DataInput!M212,DataInput!AI212)","v":0},{"$f":"SUM(DataInput!N212,DataInput!AJ212)","v":0},{"$f":"SUM(DataInput!O212,DataInput!AK212)","v":0},{"$f":"DataInput!P212","v":0},null,527,{"$f":"DataInput!R212","v":47},{"$f":"DataInput!Y212","v":0},{"$f":"IF(DataInput!U212-DataInput!E212>0,DataInput!U212-DataInput!E212,\"\")","v":22},{"$f":"IF(DataInput!W212-DataInput!I212>0,DataInput!W212-DataInput!I212,\"\")","v":""},null,69,89.7,437.3,450,3350,{"$f":"ROUNDDOWN((IF(AA213>0,IFERROR(IF(AVERAGE(DataInput!Q212:Q213)>AVERAGE(AA213,AA212),ROUNDDOWN(((((AA212-Z212)+(AA213-Z213))/2)*(A213-A212))/27,0),IF(((((DataInput!Q213-Z213)+(DataInput!Q212-Z212))/2)*(A213-A212))/27+S212+T212>0,ROUNDDOWN(((((DataInput!Q213-Z213)+(DataInput!Q212-Z212))/2)*(A213-A212))/27+S212+T212,0),0)),0),0)*$X$5),1)","v":0},176,{"$f":"ROUNDDOWN((IF(AC213>0,IFERROR(IF(((((DataInput!Q212-AC212)+(DataInput!Q213-AC213))/2)*(A213-A212))/27+S212+T212>0,ROUNDDOWN(((((DataInput!Q212-AC212)+(DataInput!Q213-AC213))/2)*(A213-A212))/27+S212+T212,0),0),0),0)*$X$5),1)","v":0},{"$f":"DataInput!U212","v":148},{"$f":"DataInput!S212","v":60},84,64]
[{"$f":"IF(DataInput!A213<>\"\",DataInput!A213,\"\")","v":86400},{"$f":"SUM(DataInput!C213,DataInput!Y213)+(DataInput!U213-DataInput!E213)","v":655},{"$f":"SUM(DataInput!D213,DataInput!Z213)","v":506},{"$f":"DataInput!U213","v":149},{"$f":"SUM(DataInput!F213,DataInput!AB213)","v":0},{"$f":"SUM(DataInput!G213,DataInput!AC213)","v":0},{"$f":"SUM(DataInput!H213,DataInput!AD213)","v":0},{"$f":"DataInput!I213","v":27},{"$f":"SUM(DataInput!J213,DataInput!AF213)","v":0},{"$f":"SUM(DataInput!K213,DataInput!AG213)","v":0},{"$f":"SUM(DataInput!L213,DataInput!AH213)","v":0},{"$f":"SUM(DataInput!M213,DataInput!AI213)","v":0},{"$f":"SUM(DataInput!N213,DataInput!AJ213)","v":0},{"$f":"SUM(DataInput!O213,DataInput!AK213)","v":0},{"$f":"DataInput!P213","v":0},null,506,{"$f":"DataInput!R213","v":49},{"$f":"DataInput!Y213","v":0},{"$f":"IF(DataInput!U213-DataInput!E213>0,DataInput!U213-DataInput!E213,\"\")","v":22},{"$f":"IF(DataInput!W213-DataInput!I213>0,DataInput!W213-DataInput!I213,\"\")","v":""},null,71,92.3,413.7,450,3350,{"$f":"ROUNDDOWN((IF(AA214>0,IFERROR(IF(AVERAGE(DataInput!Q213:Q214)>AVERAGE(AA214,AA213),ROUNDDOWN(((((AA213-Z213)+(AA214-Z214))/2)*(A214-A213))/27,0),IF(((((DataInput!Q214-Z214)+(DataInput!Q213-Z213))/2)*(A214-A213))/27+S213+T213>0,ROUNDDOWN(((((DataInput!Q214-Z214)+(DataInput!Q213-Z213))/2)*(A214-A213))/27+S213+T213,0),0)),0),0)*$X$5),1)","v":0},176,{"$f":"ROUNDDOWN((IF(AC214>0,IFERROR(IF(((((DataInput!Q213-AC213)+(DataInput!Q214-AC214))/2)*(A214-A213))/27+S213+T213>0,ROUNDDOWN(((((DataInput!Q213-AC213)+(DataInput!Q214-AC214))/2)*(A214-A213))/27+S213+T213,0),0),0),0)*$X$5),1)","v":0},{"$f":"DataInput!U213","v":149},{"$f":"DataInput!S213","v":61},85.4,63.6]
[{"$f":"IF(DataInput!A214<>\"\",DataInput!A214,\"\")","v":86425},{"$f":"SUM(DataInput!C214,DataInput!Y214)+(DataInput!U214-DataInput!E214)","v":634},{"$f":"SUM(DataInput!D214,DataInput!Z214)","v":484},{"$f":"DataInput!U214","v":150},{"$f":"SUM(DataInput!F214,DataInput!AB214)","v":0},{"$f":"SUM(DataInput!G214,DataInput!AC214)","v":0},{"$f":"SUM(DataInput!H214,DataInput!AD214)","v":0},{"$f":"DataInput!I214","v":27},{"$f":"SUM(DataInput!J214,DataInput!AF214)","v":0},{"$f":"SUM(DataInput!K214,DataInput!AG214)","v":0},{"$f":"SUM(DataInput!L214,DataInput!AH214)","v":0},{"$f":"SUM(DataInput!M214,DataInput!AI214)","v":0},{"$f":"SUM(DataInput!N214,DataInput!AJ214)","v":0},{"$f":"SUM(DataInput!O214,DataInput!AK214)","v":0},{"$f":"DataInput!P214","v":0},null,484,{"$f":"DataInput!R214","v":51},{"$f":"DataInput!Y214","v":0},{"$f":"IF(DataInput!U214-DataInput!E214>0,DataInput!U214-DataInput!E214,\"\")","v":23},{"$f":"IF(DataInput!W214-DataInput!I214>0,DataInput!W214-DataInput!I214,\"\")","v":""},null,74,96.2,387.8,450,3350,{"$f":"ROUNDDOWN((IF(AA215>0,IFERROR(IF(AVERAGE(DataInput!Q214:Q215)>AVERAGE(AA215,AA214),ROUNDDOWN(((((AA214-Z214)+(AA215-Z215))/2)*(A215-A214))/27,0),IF(((((DataInput!Q215-Z215)+(DataInput!Q214-Z214))/2)*(A215-A214))/27+S214+T214>0,ROUNDDOWN(((((DataInput!Q215-Z215)+(DataInput!Q214-Z214))/2)*(A215-A214))/27+S214+T214,0),0)),0),0)*$X$5),1)","v":0},176,{"$f":"ROUNDDOWN((IF(AC215>0,IFERROR(IF(((((DataInput!Q214-AC214)+(DataInput!Q215-AC215))/2)*(A215-A214))/27+S214+T214>0,ROUNDDOWN(((((DataInput!Q214-AC214)+(DataInput!Q215-AC215))/2)*(A215-A214))/27+S214+T214,0),0),0),0)*$X$5),1)","v":0},{"$f":"DataInput!U214","v":150},{"$f":"DataInput!S214","v":61},85.4,64.599999999999994]
[{"$f":"IF(DataInput!A215<>\"\",DataInput!A215,\"\")","v":86450},{"$f":"SUM(DataInput!C215,DataInput!Y215)+(DataInput!U215-DataInput!E215)","v":615},{"$f":"SUM(DataInput!D215,DataInput!Z215)","v":464},{"$f":"DataInput!U215","v":151},{"$f":"SUM(DataInput!F215,DataInput!AB215)","v":0},{"$f":"SUM(DataInput!G215,DataInput!AC215)","v":0},{"$f":"SUM(DataInput!H215,DataInput!AD215)","v":0},{"$f":"DataInput!I215","v":27},{"$f":"SUM(DataInput!J215,DataInput!AF215)","v":0},{"$f":"SUM(DataInput!K215,DataInput!AG215)","v":0},{"$f":"SUM(DataInput!L215,DataInput!AH215)","v":0},{"$f":"SUM(DataInput!M215,DataInput!AI215)","v":0},{"$f":"SUM(DataInput!N215,DataInput!AJ215)","v":0},{"$f":"SUM(DataInput!O215,DataInput!AK215)","v":0},{"$f":"DataInput!P215","v":0},null,464,{"$f":"DataInput!R215","v":55},{"$f":"DataInput!Y215","v":0},{"$f":"IF(DataInput!U215-DataInput!E215>0,DataInput!U215-DataInput!E215,\"\")","v":24},{"$f":"IF(DataInput!W215-DataInput!I215>0,DataInput!W215-DataInput!I215,\"\")","v":""},null,79,102.7,361.3,450,3350,{"$f":"ROUNDDOWN((IF(AA216>0,IFERROR(IF(AVERAGE(DataInput!Q215:Q216)>AVERAGE(AA216,AA215),ROUNDDOWN(((((AA215-Z215)+(AA216-Z216))/2)*(A216-A215))/27,0),IF(((((DataInput!Q216-Z216)+(DataInput!Q215-Z215))/2)*(A216-A215))/27+S215+T215>0,ROUNDDOWN(((((DataInput!Q216-Z216)+(DataInput!Q215-Z215))/2)*(A216-A215))/27+S215+T215,0),0)),0),0)*$X$5),1)","v":0},176,{"$f":"ROUNDDOWN((IF(AC216>0,IFERROR(IF(((((DataInput!Q215-AC215)+(DataInput!Q216-AC216))/2)*(A216-A215))/27+S215+T215>0,ROUNDDOWN(((((DataInput!Q215-AC215)+(DataInput!Q216-AC216))/2)*(A216-A215))/27+S215+T215,0),0),0),0)*$X$5),1)","v":0},{"$f":"DataInput!U215","v":151},{"$f":"DataInput!S215","v":62},86.8,64.2]
[{"$f":"IF(DataInput!A216<>\"\",DataInput!A216,\"\")","v":86475},{"$f":"SUM(DataInput!C216,DataInput!Y216)+(DataInput!U216-DataInput!E216)","v":597},{"$f":"SUM(DataInput!D216,DataInput!Z216)","v":445},{"$f":"DataInput!U216","v":151},{"$f":"SUM(DataInput!F216,DataInput!AB216)","v":0},{"$f":"SUM(DataInput!G216,DataInput!AC216)","v":0},{"$f":"SUM(DataInput!H216,DataInput!AD216)","v":0},{"$f":"DataInput!I216","v":27},{"$f":"SUM(DataInput!J216,DataInput!AF216)","v":0},{"$f":"SUM(DataInput!K216,DataInput!AG216)","v":0},{"$f":"SUM(DataInput!L216,DataInput!AH216)","v":0},{"$f":"SUM(DataInput!M216,DataInput!AI216)","v":0},{"$f":"SUM(DataInput!N216,DataInput!AJ216)","v":0},{"$f":"SUM(DataInput!O216,DataInput!AK216)","v":0},{"$f":"DataInput!P216","v":0},null,445,{"$f":"DataInput!R216","v":59},{"$f":"DataInput!Y216","v":0},{"$f":"IF(DataInput!U216-DataInput!E216>0,DataInput!U216-DataInput!E216,\"\")","v":25},{"$f":"IF(DataInput!W216-DataInput!I216>0,DataInput!W216-DataInput!I216,\"\")","v":""},null,84,109.2,335.8,450,3350,{"$f":"ROUNDDOWN((IF(AA217>0,IFERROR(IF(AVERAGE(DataInput!Q216:Q217)>AVERAGE(AA217,AA216),ROUNDDOWN(((((AA216-Z216)+(AA217-Z217))/2)*(A217-A216))/27,0),IF(((((DataInput!Q217-Z217)+(DataInput!Q216-Z216))/2)*(A217-A216))/27+S216+T216>0,ROUNDDOWN(((((DataInput!Q217-Z217)+(DataInput!Q216-Z216))/2)*(A217-A216))/27+S216+T216,0),0)),0),0)*$X$5),1)","v":0},176,{"$f":"ROUNDDOWN((IF(AC217>0,IFERROR(IF(((((DataInput!Q216-AC216)+(DataInput!Q217-AC217))/2)*(A217-A216))/27+S216+T216>0,ROUNDDOWN(((((DataInput!Q216-AC216)+(DataInput!Q217-AC217))/2)*(A217-A216))/27+S216+T216,0),0),0),0)*$X$5),1)","v":0},{"$f":"DataInput!U216","v":151},{"$f":"DataInput!S216","v":63},88.2,62.8]
[{"$f":"IF(DataInput!A217<>\"\",DataInput!A217,\"\")","v":86500},{"$f":"SUM(DataInput!C217,DataInput!Y217)+(DataInput!U217-DataInput!E217)","v":580},{"$f":"SUM(DataInput!D217,DataInput!Z217)","v":428},{"$f":"DataInput!U217","v":152},{"$f":"SUM(DataInput!F217,DataInput!AB217)","v":0},{"$f":"SUM(DataInput!G217,DataInput!AC217)","v":0},{"$f":"SUM(DataInput!H217,DataInput!AD217)","v":0},{"$f":"DataInput!I217","v":27},{"$f":"SUM(DataInput!J217,DataInput!AF217)","v":0},{"$f":"SUM(DataInput!K217,DataInput!AG217)","v":0},{"$f":"SUM(DataInput!L217,DataInput!AH217)","v":0},{"$f":"SUM(DataInput!M217,DataInput!AI217)","v":0},{"$f":"SUM(DataInput!N217,DataInput!AJ217)","v":0},{"$f":"SUM(DataInput!O217,DataInput!AK217)","v":0},{"$f":"DataInput!P217","v":0},null,428,{"$f":"DataInput!R217","v":63},{"$f":"DataInput!Y217","v":0},{"$f":"IF(DataInput!U217-DataInput!E217>0,DataInput!U217-DataInput!E217,\"\")","v":28},{"$f":"IF(DataInput!W217-DataInput!I217>0,DataInput!W217-DataInput!I217,\"\")","v":""},null,91,118.3,309.7,450,3350,{"$f":"ROUNDDOWN((IF(AA218>0,IFERROR(IF(AVERAGE(DataInput!Q217:Q218)>AVERAGE(AA218,AA217),ROUNDDOWN(((((AA217-Z217)+(AA218-Z218))/2)*(A218-A217))/27,0),IF(((((DataInput!Q218-Z218)+(DataInput!Q217-Z217))/2)*(A218-A217))/27+S217+T217>0,ROUNDDOWN(((((DataInput!Q218-Z218)+(DataInput!Q217-Z217))/2)*(A218-A217))/27+S217+T217,0),0)),0),0)*$X$5),1)","v":0},176,{"$f":"ROUNDDOWN((IF(AC218>0,IFERROR(IF(((((DataInput!Q217-AC217)+(DataInput!Q218-AC218))/2)*(A218-A217))/27+S217+T217>0,ROUNDDOWN(((((DataInput!Q217-AC217)+(DataInput!Q218-AC218))/2)*(A218-A217))/27+S217+T217,0),0),0),0)*$X$5),1)","v":0},{"$f":"DataInput!U217","v":152},{"$f":"DataInput!S217","v":63},88.2,63.8]
[{"$f":"IF(DataInput!A218<>\"\",DataInput!A218,\"\")","v":86525},{"$f":"SUM(DataInput!C218,DataInput!Y218)+(DataInput!U218-DataInput!E218)","v":566},{"$f":"SUM(DataInput!D218,DataInput!Z218)","v":413},{"$f":"DataInput!U218","v":153},{"$f":"SUM(DataInput!F218,DataInput!AB218)","v":0},{"$f":"SUM(DataInput!G218,DataInput!AC218)","v":0},{"$f":"SUM(DataInput!H218,DataInput!AD218)","v":0},{"$f":"DataInput!I218","v":27},{"$f":"SUM(DataInput!J218,DataInput!AF218)","v":0},{"$f":"SUM(DataInput!K218,DataInput!AG218)","v":0},{"$f":"SUM(DataInput!L218,DataInput!AH218)","v":0},{"$f":"SUM(DataInput!M218,DataInput!AI218)","v":0},{"$f":"SUM(DataInput!N218,DataInput!AJ218)","v":0},{"$f":"SUM(DataInput!O218,DataInput!AK218)","v":0},{"$f":"DataInput!P218","v":0},null,413,{"$f":"DataInput!R218","v":67},{"$f":"DataInput!Y218","v":0},{"$f":"IF(DataInput!U218-DataInput!E218>0,DataInput!U218-DataInput!E218,\"\")","v":33},{"$f":"IF(DataInput!W218-DataInput!I218>0,DataInput!W218-DataInput!I218,\"\")","v":""},null,100,130,283,450,3350,{"$f":"ROUNDDOWN((IF(AA219>0,IFERROR(IF(AVERAGE(DataInput!Q218:Q219)>AVERAGE(AA219,AA218),ROUNDDOWN(((((AA218-Z218)+(AA219-Z219))/2)*(A219-A218))/27,0),IF(((((DataInput!Q219-Z219)+(DataInput!Q218-Z218))/2)*(A219-A218))/27+S218+T218>0,ROUNDDOWN(((((DataInput!Q219-Z219)+(DataInput!Q218-Z218))/2)*(A219-A218))/27+S218+T218,0),0)),0),0)*$X$5),1)","v":0},176,{"$f":"ROUNDDOWN((IF(AC219>0,IFERROR(IF(((((DataInput!Q218-AC218)+(DataInput!Q219-AC219))/2)*(A219-A218))/27+S218+T218>0,ROUNDDOWN(((((DataInput!Q218-AC218)+(DataInput!Q219-AC219))/2)*(A219-A218))/27+S218+T218,0),0),0),0)*$X$5),1)","v":0},{"$f":"DataInput!U218","v":153},{"$f":"DataInput!S218","v":64},89.6,63.4]
[{"$f":"IF(DataInput!A219<>\"\",DataInput!A219,\"\")","v":86550},{"$f":"SUM(DataInput!C219,DataInput!Y219)+(DataInput!U219-DataInput!E219)","v":557},{"$f":"SUM(DataInput!D219,DataInput!Z219)","v":402},{"$f":"DataInput!U219","v":155},{"$f":"SUM(DataInput!F219,DataInput!AB219)","v":0},{"$f":"SUM(DataInput!G219,DataInput!AC219)","v":0},{"$f":"SUM(DataInput!H219,DataInput!AD219)","v":0},{"$f":"DataInput!I219","v":27},{"$f":"SUM(DataInput!J219,DataInput!AF219)","v":0},{"$f":"SUM(DataInput!K219,DataInput!AG219)","v":0},{"$f":"SUM(DataInput!L219,DataInput!AH219)","v":0},{"$f":"SUM(DataInput!M219,DataInput!AI219)","v":0},{"$f":"SUM(DataInput!N219,DataInput!AJ219)","v":0},{"$f":"SUM(DataInput!O219,DataInput!AK219)","v":0},{"$f":"DataInput!P219","v":0},null,402,{"$f":"DataInput!R219","v":70},{"$f":"DataInput!Y219","v":0},{"$f":"IF(DataInput!U219-DataInput!E219>0,DataInput!U219-DataInput!E219,\"\")","v":37},{"$f":"IF(DataInput!W219-DataInput!I219>0,DataInput!W219-DataInput!I219,\"\")","v":""},null,107,139.1,262.89999999999998,450,3350,{"$f":"ROUNDDOWN((IF(AA220>0,IFERROR(IF(AVERAGE(DataInput!Q219:Q220)>AVERAGE(AA220,AA219),ROUNDDOWN(((((AA219-Z219)+(AA220-Z220))/2)*(A220-A219))/27,0),IF(((((DataInput!Q220-Z220)+(DataInput!Q219-Z219))/2)*(A220-A219))/27+S219+T219>0,ROUNDDOWN(((((DataInput!Q220-Z220)+(DataInput!Q219-Z219))/2)*(A220-A219))/27+S219+T219,0),0)),0),0)*$X$5),1)","v":0},176,{"$f":"ROUNDDOWN((IF(AC220>0,IFERROR(IF(((((DataInput!Q219-AC219)+(DataInput!Q220-AC220))/2)*(A220-A219))/27+S219+T219>0,ROUNDDOWN(((((DataInput!Q219-AC219)+(DataInput!Q220-AC220))/2)*(A220-A219))/27+S219+T219,0),0),0),0)*$X$5),1)","v":0},{"$f":"DataInput!U219","v":155},{"$f":"DataInput!S219","v":65},91,64]
[{"$f":"IF(DataInput!A220<>\"\",DataInput!A220,\"\")","v":86575},{"$f":"SUM(DataInput!C220,DataInput!Y220)+(DataInput!U220-DataInput!E220)","v":549},{"$f":"SUM(DataInput!D220,DataInput!Z220)","v":393},{"$f":"DataInput!U220","v":156},{"$f":"SUM(DataInput!F220,DataInput!AB220)","v":0},{"$f":"SUM(DataInput!G220,DataInput!AC220)","v":0},{"$f":"SUM(DataInput!H220,DataInput!AD220)","v":0},{"$f":"DataInput!I220","v":27},{"$f":"SUM(DataInput!J220,DataInput!AF220)","v":0},{"$f":"SUM(DataInput!K220,DataInput!AG220)","v":0},{"$f":"SUM(DataInput!L220,DataInput!AH220)","v":0},{"$f":"SUM(DataInput!M220,DataInput!AI220)","v":0},{"$f":"SUM(DataInput!N220,DataInput!AJ220)","v":0},{"$f":"SUM(DataInput!O220,DataInput!AK220)","v":0},{"$f":"DataInput!P220","v":0},null,393,{"$f":"DataInput!R220","v":73},{"$f":"DataInput!Y220","v":0},{"$f":"IF(DataInput!U220-DataInput!E220>0,DataInput!U220-DataInput!E220,\"\")","v":39},{"$f":"IF(DataInput!W220-DataInput!I220>0,DataInput!W220-DataInput!I220,\"\")","v":""},null,112,145.6,247.4,450,3350,{"$f":"ROUNDDOWN((IF(AA221>0,IFERROR(IF(AVERAGE(DataInput!Q220:Q221)>AVERAGE(AA221,AA220),ROUNDDOWN(((((AA220-Z220)+(AA221-Z221))/2)*(A221-A220))/27,0),IF(((((DataInput!Q221-Z221)+(DataInput!Q220-Z220))/2)*(A221-A220))/27+S220+T220>0,ROUNDDOWN(((((DataInput!Q221-Z221)+(DataInput!Q220-Z220))/2)*(A221-A220))/27+S220+T220,0),0)),0),0)*$X$5),1)","v":0},176,{"$f":"ROUNDDOWN((IF(AC221>0,IFERROR(IF(((((DataInput!Q220-AC220)+(DataInput!Q221-AC221))/2)*(A221-A220))/27+S220+T220>0,ROUNDDOWN(((((DataInput!Q220-AC220)+(DataInput!Q221-AC221))/2)*(A221-A220))/27+S220+T220,0),0),0),0)*$X$5),1)","v":0},{"$f":"DataInput!U220","v":156},{"$f":"DataInput!S220","v":66},92.4,63.6]
[{"$f":"IF(DataInput!A221<>\"\",DataInput!A221,\"\")","v":86600},{"$f":"SUM(DataInput!C221,DataInput!Y221)+(DataInput!U221-DataInput!E221)","v":542},{"$f":"SUM(DataInput!D221,DataInput!Z221)","v":383},{"$f":"DataInput!U221","v":158},{"$f":"SUM(DataInput!F221,DataInput!AB221)","v":0},{"$f":"SUM(DataInput!G221,DataInput!AC221)","v":0},{"$f":"SUM(DataInput!H221,DataInput!AD221)","v":0},{"$f":"DataInput!I221","v":27},{"$f":"SUM(DataInput!J221,DataInput!AF221)","v":0},{"$f":"SUM(DataInput!K221,DataInput!AG221)","v":0},{"$f":"SUM(DataInput!L221,DataInput!AH221)","v":0},{"$f":"SUM(DataInput!M221,DataInput!AI221)","v":0},{"$f":"SUM(DataInput!N221,DataInput!AJ221)","v":0},{"$f":"SUM(DataInput!O221,DataInput!AK221)","v":0},{"$f":"DataInput!P221","v":0},null,383,{"$f":"DataInput!R221","v":78},{"$f":"DataInput!Y221","v":0},{"$f":"IF(DataInput!U221-DataInput!E221>0,DataInput!U221-DataInput!E221,\"\")","v":43},{"$f":"IF(DataInput!W221-DataInput!I221>0,DataInput!W221-DataInput!I221,\"\")","v":""},null,121,157.30000000000001,225.7,450,3350,{"$f":"ROUNDDOWN((IF(AA222>0,IFERROR(IF(AVERAGE(DataInput!Q221:Q222)>AVERAGE(AA222,AA221),ROUNDDOWN(((((AA221-Z221)+(AA222-Z222))/2)*(A222-A221))/27,0),IF(((((DataInput!Q222-Z222)+(DataInput!Q221-Z221))/2)*(A222-A221))/27+S221+T221>0,ROUNDDOWN(((((DataInput!Q222-Z222)+(DataInput!Q221-Z221))/2)*(A222-A221))/27+S221+T221,0),0)),0),0)*$X$5),1)","v":0},176,{"$f":"ROUNDDOWN((IF(AC222>0,IFERROR(IF(((((DataInput!Q221-AC221)+(DataInput!Q222-AC222))/2)*(A222-A221))/27+S221+T221>0,ROUNDDOWN(((((DataInput!Q221-AC221)+(DataInput!Q222-AC222))/2)*(A222-A221))/27+S221+T221,0),0),0),0)*$X$5),1)","v":0},{"$f":"DataInput!U221","v":158},{"$f":"DataInput!S221","v":67},93.8,64.2]
[{"$f":"IF(DataInput!A222<>\"\",DataInput!A222,\"\")","v":86625},{"$f":"SUM(DataInput!C222,DataInput!Y222)+(DataInput!U222-DataInput!E222)","v":534},{"$f":"SUM(DataInput!D222,DataInput!Z222)","v":374},{"$f":"DataInput!U222","v":159},{"$f":"SUM(DataInput!F222,DataInput!AB222)","v":0},{"$f":"SUM(DataInput!G222,DataInput!AC222)","v":0},{"$f":"SUM(DataInput!H222,DataInput!AD222)","v":0},{"$f":"DataInput!I222","v":27},{"$f":"SUM(DataInput!J222,DataInput!AF222)","v":0},{"$f":"SUM(DataInput!K222,DataInput!AG222)","v":0},{"$f":"SUM(DataInput!L222,DataInput!AH222)","v":0},{"$f":"SUM(DataInput!M222,DataInput!AI222)","v":0},{"$f":"SUM(DataInput!N222,DataInput!AJ222)","v":0},{"$f":"SUM(DataInput!O222,DataInput!AK222)","v":0},{"$f":"DataInput!P222","v":0},null,374,{"$f":"DataInput!R222","v":83},{"$f":"DataInput!Y222","v":0},{"$f":"IF(DataInput!U222-DataInput!E222>0,DataInput!U222-DataInput!E222,\"\")","v":48},{"$f":"IF(DataInput!W222-DataInput!I222>0,DataInput!W222-DataInput!I222,\"\")","v":""},null,131,170.3,203.7,450,3350,{"$f":"ROUNDDOWN((IF(AA223>0,IFERROR(IF(AVERAGE(DataInput!Q222:Q223)>AVERAGE(AA223,AA222),ROUNDDOWN(((((AA222-Z222)+(AA223-Z223))/2)*(A223-A222))/27,0),IF(((((DataInput!Q223-Z223)+(DataInput!Q222-Z222))/2)*(A223-A222))/27+S222+T222>0,ROUNDDOWN(((((DataInput!Q223-Z223)+(DataInput!Q222-Z222))/2)*(A223-A222))/27+S222+T222,0),0)),0),0)*$X$5),1)","v":0},176,{"$f":"ROUNDDOWN((IF(AC223>0,IFERROR(IF(((((DataInput!Q222-AC222)+(DataInput!Q223-AC223))/2)*(A223-A222))/27+S222+T222>0,ROUNDDOWN(((((DataInput!Q222-AC222)+(DataInput!Q223-AC223))/2)*(A223-A222))/27+S222+T222,0),0),0),0)*$X$5),1)","v":0},{"$f":"DataInput!U222","v":159},{"$f":"DataInput!S222","v":68},95.2,63.8]
[{"$f":"IF(DataInput!A223<>\"\",DataInput!A223,\"\")","v":86650},{"$f":"SUM(DataInput!C223,DataInput!Y223)+(DataInput!U223-DataInput!E223)","v":528},{"$f":"SUM(DataInput!D223,DataInput!Z223)","v":367},{"$f":"DataInput!U223","v":161},{"$f":"SUM(DataInput!F223,DataInput!AB223)","v":0},{"$f":"SUM(DataInput!G223,DataInput!AC223)","v":0},{"$f":"SUM(DataInput!H223,DataInput!AD223)","v":0},{"$f":"DataInput!I223","v":27},{"$f":"SUM(DataInput!J223,DataInput!AF223)","v":0},{"$f":"SUM(DataInput!K223,DataInput!AG223)","v":0},{"$f":"SUM(DataInput!L223,DataInput!AH223)","v":0},{"$f":"SUM(DataInput!M223,DataInput!AI223)","v":0},{"$f":"SUM(DataInput!N223,DataInput!AJ223)","v":0},{"$f":"SUM(DataInput!O223,DataInput!AK223)","v":0},{"$f":"DataInput!P223","v":0},null,367,{"$f":"DataInput!R223","v":88},{"$f":"DataInput!Y223","v":0},{"$f":"IF(DataInput!U223-DataInput!E223>0,DataInput!U223-DataInput!E223,\"\")","v":57},{"$f":"IF(DataInput!W223-DataInput!I223>0,DataInput!W223-DataInput!I223,\"\")","v":""},null,145,188.5,178.5,450,3350,{"$f":"ROUNDDOWN((IF(AA224>0,IFERROR(IF(AVERAGE(DataInput!Q223:Q224)>AVERAGE(AA224,AA223),ROUNDDOWN(((((AA223-Z223)+(AA224-Z224))/2)*(A224-A223))/27,0),IF(((((DataInput!Q224-Z224)+(DataInput!Q223-Z223))/2)*(A224-A223))/27+S223+T223>0,ROUNDDOWN(((((DataInput!Q224-Z224)+(DataInput!Q223-Z223))/2)*(A224-A223))/27+S223+T223,0),0)),0),0)*$X$5),1)","v":0},176,{"$f":"ROUNDDOWN((IF(AC224>0,IFERROR(IF(((((DataInput!Q223-AC223)+(DataInput!Q224-AC224))/2)*(A224-A223))/27+S223+T223>0,ROUNDDOWN(((((DataInput!Q223-AC223)+(DataInput!Q224-AC224))/2)*(A224-A223))/27+S223+T223,0),0),0),0)*$X$5),1)","v":0},{"$f":"DataInput!U223","v":161},{"$f":"DataInput!S223","v":69},96.6,64.400000000000006]
[{"$f":"IF(DataInput!A224<>\"\",DataInput!A224,\"\")","v":86675},{"$f":"SUM(DataInput!C224,DataInput!Y224)+(DataInput!U224-DataInput!E224)","v":521},{"$f":"SUM(DataInput!D224,DataInput!Z224)","v":358},{"$f":"DataInput!U224","v":163},{"$f":"SUM(DataInput!F224,DataInput!AB224)","v":0},{"$f":"SUM(DataInput!G224,DataInput!AC224)","v":0},{"$f":"SUM(DataInput!H224,DataInput!AD224)","v":0},{"$f":"DataInput!I224","v":27},{"$f":"SUM(DataInput!J224,DataInput!AF224)","v":0},{"$f":"SUM(DataInput!K224,DataInput!AG224)","v":0},{"$f":"SUM(DataInput!L224,DataInput!AH224)","v":0},{"$f":"SUM(DataInput!M224,DataInput!AI224)","v":0},{"$f":"SUM(DataInput!N224,DataInput!AJ224)","v":0},{"$f":"SUM(DataInput!O224,DataInput!AK224)","v":0},{"$f":"DataInput!P224","v":0},null,358,{"$f":"DataInput!R224","v":95},{"$f":"DataInput!Y224","v":0},{"$f":"IF(DataInput!U224-DataInput!E224>0,DataInput!U224-DataInput!E224,\"\")","v":64},{"$f":"IF(DataInput!W224-DataInput!I224>0,DataInput!W224-DataInput!I224,\"\")","v":""},null,159,206.7,151.30000000000001,450,3350,{"$f":"ROUNDDOWN((IF(AA225>0,IFERROR(IF(AVERAGE(DataInput!Q224:Q225)>AVERAGE(AA225,AA224),ROUNDDOWN(((((AA224-Z224)+(AA225-Z225))/2)*(A225-A224))/27,0),IF(((((DataInput!Q225-Z225)+(DataInput!Q224-Z224))/2)*(A225-A224))/27+S224+T224>0,ROUNDDOWN(((((DataInput!Q225-Z225)+(DataInput!Q224-Z224))/2)*(A225-A224))/27+S224+T224,0),0)),0),0)*$X$5),1)","v":0},176,{"$f":"ROUNDDOWN((IF(AC225>0,IFERROR(IF(((((DataInput!Q224-AC224)+(DataInput!Q225-AC225))/2)*(A225-A224))/27+S224+T224>0,ROUNDDOWN(((((DataInput!Q224-AC224)+(DataInput!Q225-AC225))/2)*(A225-A224))/27+S224+T224,0),0),0),0)*$X$5),1)","v":0},{"$f":"DataInput!U224","v":163},{"$f":"DataInput!S224","v":70},98,65]
[{"$f":"IF(DataInput!A225<>\"\",DataInput!A225,\"\")","v":86700},{"$f":"SUM(DataInput!C225,DataInput!Y225)+(DataInput!U225-DataInput!E225)","v":532},{"$f":"SUM(DataInput!D225,DataInput!Z225)","v":367},{"$f":"DataInput!U225","v":164},{"$f":"SUM(DataInput!F225,DataInput!AB225)","v":0},{"$f":"SUM(DataInput!G225,DataInput!AC225)","v":0},{"$f":"SUM(DataInput!H225,DataInput!AD225)","v":0},{"$f":"DataInput!I225","v":27},{"$f":"SUM(DataInput!J225,DataInput!AF225)","v":0},{"$f":"SUM(DataInput!K225,DataInput!AG225)","v":0},{"$f":"SUM(DataInput!L225,DataInput!AH225)","v":0},{"$f":"SUM(DataInput!M225,DataInput!AI225)","v":0},{"$f":"SUM(DataInput!N225,DataInput!AJ225)","v":0},{"$f":"SUM(DataInput!O225,DataInput!AK225)","v":0},{"$f":"DataInput!P225","v":0},null,367,{"$f":"DataInput!R225","v":103},{"$f":"DataInput!Y225","v":21},{"$f":"IF(DataInput!U225-DataInput!E225>0,DataInput!U225-DataInput!E225,\"\")","v":67},{"$f":"IF(DataInput!W225-DataInput!I225>0,DataInput!W225-DataInput!I225,\"\")","v":""},null,191,248.3,118.7,450,3350,{"$f":"ROUNDDOWN((IF(AA226>0,IFERROR(IF(AVERAGE(DataInput!Q225:Q226)>AVERAGE(AA226,AA225),ROUNDDOWN(((((AA225-Z225)+(AA226-Z226))/2)*(A226-A225))/27,0),IF(((((DataInput!Q226-Z226)+(DataInput!Q225-Z225))/2)*(A226-A225))/27+S225+T225>0,ROUNDDOWN(((((DataInput!Q226-Z226)+(DataInput!Q225-Z225))/2)*(A226-A225))/27+S225+T225,0),0)),0),0)*$X$5),1)","v":0},176,{"$f":"ROUNDDOWN((IF(AC226>0,IFERROR(IF(((((DataInput!Q225-AC225)+(DataInput!Q226-AC226))/2)*(A226-A225))/27+S225+T225>0,ROUNDDOWN(((((DataInput!Q225-AC225)+(DataInput!Q226-AC226))/2)*(A226-A225))/27+S225+T225,0),0),0),0)*$X$5),1)","v":36.4},{"$f":"DataInput!U225","v":164},{"$f":"DataInput!S225","v":71},99.4,64.599999999999994]
[{"$f":"IF(DataInput!A226<>\"\",DataInput!A226,\"\")","v":86725},{"$f":"SUM(DataInput!C226,DataInput!Y226)+(DataInput!U226-DataInput!E226)","v":518},{"$f":"SUM(DataInput!D226,DataInput!Z226)","v":353},{"$f":"DataInput!U226","v":165},{"$f":"SUM(DataInput!F226,DataInput!AB226)","v":0},{"$f":"SUM(DataInput!G226,DataInput!AC226)","v":0},{"$f":"SUM(DataInput!H226,DataInput!AD226)","v":0},{"$f":"DataInput!I226","v":27},{"$f":"SUM(DataInput!J226,DataInput!AF226)","v":0},{"$f":"SUM(DataInput!K226,DataInput!AG226)","v":0},{"$f":"SUM(DataInput!L226,DataInput!AH226)","v":0},{"$f":"SUM(DataInput!M226,DataInput!AI226)","v":0},{"$f":"SUM(DataInput!N226,DataInput!AJ226)","v":0},{"$f":"SUM(DataInput!O226,DataInput!AK226)","v":0},{"$f":"DataInput!P226","v":0},null,353,{"$f":"DataInput!R226","v":110},{"$f":"DataInput!Y226","v":21},{"$f":"IF(DataInput!U226-DataInput!E226>0,DataInput!U226-DataInput!E226,\"\")","v":67},{"$f":"IF(DataInput!W226-DataInput!I226>0,DataInput!W226-DataInput!I226,\"\")","v":""},null,198,257.39999999999998,95.6,450,3350,{"$f":"ROUNDDOWN((IF(AA227>0,IFERROR(IF(AVERAGE(DataInput!Q226:Q227)>AVERAGE(AA227,AA226),ROUNDDOWN(((((AA226-Z226)+(AA227-Z227))/2)*(A227-A226))/27,0),IF(((((DataInput!Q227-Z227)+(DataInput!Q226-Z226))/2)*(A227-A226))/27+S226+T226>0,ROUNDDOWN(((((DataInput!Q227-Z227)+(DataInput!Q226-Z226))/2)*(A227-A226))/27+S226+T226,0),0)),0),0)*$X$5),1)","v":0},176,{"$f":"ROUNDDOWN((IF(AC227>0,IFERROR(IF(((((DataInput!Q226-AC226)+(DataInput!Q227-AC227))/2)*(A227-A226))/27+S226+T226>0,ROUNDDOWN(((((DataInput!Q226-AC226)+(DataInput!Q227-AC227))/2)*(A227-A226))/27+S226+T226,0),0),0),0)*$X$5),1)","v":45.5},{"$f":"DataInput!U226","v":165},{"$f":"DataInput!S226","v":72},100.8,64.2]
[{"$f":"IF(DataInput!A227<>\"\",DataInput!A227,\"\")","v":86750},{"$f":"SUM(DataInput!C227,DataInput!Y227)+(DataInput!U227-DataInput!E227)","v":504},{"$f":"SUM(DataInput!D227,DataInput!Z227)","v":338},{"$f":"DataInput!U227","v":167},{"$f":"SUM(DataInput!F227,DataInput!AB227)","v":0},{"$f":"SUM(DataInput!G227,DataInput!AC227)","v":0},{"$f":"SUM(DataInput!H227,DataInput!AD227)","v":0},{"$f":"DataInput!I227","v":26},{"$f":"SUM(DataInput!J227,DataInput!AF227)","v":0},{"$f":"SUM(DataInput!K227,DataInput!AG227)","v":0},{"$f":"SUM(DataInput!L227,DataInput!AH227)","v":0},{"$f":"SUM(DataInput!M227,DataInput!AI227)","v":0},{"$f":"SUM(DataInput!N227,DataInput!AJ227)","v":0},{"$f":"SUM(DataInput!O227,DataInput!AK227)","v":0},{"$f":"DataInput!P227","v":0},null,338,{"$f":"DataInput!R227","v":117},{"$f":"DataInput!Y227","v":21},{"$f":"IF(DataInput!U227-DataInput!E227>0,DataInput!U227-DataInput!E227,\"\")","v":69},{"$f":"IF(DataInput!W227-DataInput!I227>0,DataInput!W227-DataInput!I227,\"\")","v":""},null,207,269.10000000000002,68.900000000000006,450,3350,{"$f":"ROUNDDOWN((IF(AA228>0,IFERROR(IF(AVERAGE(DataInput!Q227:Q228)>AVERAGE(AA228,AA227),ROUNDDOWN(((((AA227-Z227)+(AA228-Z228))/2)*(A228-A227))/27,0),IF(((((DataInput!Q228-Z228)+(DataInput!Q227-Z227))/2)*(A228-A227))/27+S227+T227>0,ROUNDDOWN(((((DataInput!Q228-Z228)+(DataInput!Q227-Z227))/2)*(A228-A227))/27+S227+T227,0),0)),0),0)*$X$5),1)","v":0},176,{"$f":"ROUNDDOWN((IF(AC228>0,IFERROR(IF(((((DataInput!Q227-AC227)+(DataInput!Q228-AC228))/2)*(A228-A227))/27+S227+T227>0,ROUNDDOWN(((((DataInput!Q227-AC227)+(DataInput!Q228-AC228))/2)*(A228-A227))/27+S227+T227,0),0),0),0)*$X$5),1)","v":57.2},{"$f":"DataInput!U227","v":167},{"$f":"DataInput!S227","v":73},102.2,64.8]
[{"$f":"IF(DataInput!A228<>\"\",DataInput!A228,\"\")","v":86775},{"$f":"SUM(DataInput!C228,DataInput!Y228)+(DataInput!U228-DataInput!E228)","v":491},{"$f":"SUM(DataInput!D228,DataInput!Z228)","v":321},{"$f":"DataInput!U228","v":169},{"$f":"SUM(DataInput!F228,DataInput!AB228)","v":0},{"$f":"SUM(DataInput!G228,DataInput!AC228)","v":0},{"$f":"SUM(DataInput!H228,DataInput!AD228)","v":0},{"$f":"DataInput!I228","v":26},{"$f":"SUM(DataInput!J228,DataInput!AF228)","v":0},{"$f":"SUM(DataInput!K228,DataInput!AG228)","v":0},{"$f":"SUM(DataInput!L228,DataInput!AH228)","v":0},{"$f":"SUM(DataInput!M228,DataInput!AI228)","v":0},{"$f":"SUM(DataInput!N228,DataInput!AJ228)","v":0},{"$f":"SUM(DataInput!O228,DataInput!AK228)","v":0},{"$f":"DataInput!P228","v":0},null,321,{"$f":"DataInput!R228","v":129},{"$f":"DataInput!Y228","v":21},{"$f":"IF(DataInput!U228-DataInput!E228>0,DataInput!U228-DataInput!E228,\"\")","v":71},{"$f":"IF(DataInput!W228-DataInput!I228>0,DataInput!W228-DataInput!I228,\"\")","v":""},null,221,287.3,33.700000000000003,450,3350,{"$f":"ROUNDDOWN((IF(AA229>0,IFERROR(IF(AVERAGE(DataInput!Q228:Q229)>AVERAGE(AA229,AA228),ROUNDDOWN(((((AA228-Z228)+(AA229-Z229))/2)*(A229-A228))/27,0),IF(((((DataInput!Q229-Z229)+(DataInput!Q228-Z228))/2)*(A229-A228))/27+S228+T228>0,ROUNDDOWN(((((DataInput!Q229-Z229)+(DataInput!Q228-Z228))/2)*(A229-A228))/27+S228+T228,0),0)),0),0)*$X$5),1)","v":0},176,{"$f":"ROUNDDOWN((IF(AC229>0,IFERROR(IF(((((DataInput!Q228-AC228)+(DataInput!Q229-AC229))/2)*(A229-A228))/27+S228+T228>0,ROUNDDOWN(((((DataInput!Q228-AC228)+(DataInput!Q229-AC229))/2)*(A229-A228))/27+S228+T228,0),0),0),0)*$X$5),1)","v":74.099999999999994},{"$f":"DataInput!U228","v":169},{"$f":"DataInput!S228","v":74},103.6,65.400000000000006]
[{"$f":"IF(DataInput!A229<>\"\",DataInput!A229,\"\")","v":86800},{"$f":"SUM(DataInput!C229,DataInput!Y229)+(DataInput!U229-DataInput!E229)","v":478},{"$f":"SUM(DataInput!D229,DataInput!Z229)","v":307},{"$f":"DataInput!U229","v":171},{"$f":"SUM(DataInput!F229,DataInput!AB229)","v":0},{"$f":"SUM(DataInput!G229,DataInput!AC229)","v":0},{"$f":"SUM(DataInput!H229,DataInput!AD229)","v":0},{"$f":"DataInput!I229","v":27},{"$f":"SUM(DataInput!J229,DataInput!AF229)","v":0},{"$f":"SUM(DataInput!K229,DataInput!AG229)","v":0},{"$f":"SUM(DataInput!L229,DataInput!AH229)","v":0},{"$f":"SUM(DataInput!M229,DataInput!AI229)","v":0},{"$f":"SUM(DataInput!N229,DataInput!AJ229)","v":0},{"$f":"SUM(DataInput!O229,DataInput!AK229)","v":0},{"$f":"DataInput!P229","v":0},null,307,{"$f":"DataInput!R229","v":148},{"$f":"DataInput!Y229","v":21},{"$f":"IF(DataInput!U229-DataInput!E229>0,DataInput!U229-DataInput!E229,\"\")","v":72},{"$f":"IF(DataInput!W229-DataInput!I229>0,DataInput!W229-DataInput!I229,\"\")","v":""},null,241,313.3,-6.3999999999999995,450,3350,{"$f":"ROUNDDOWN((IF(AA230>0,IFERROR(IF(AVERAGE(DataInput!Q229:Q230)>AVERAGE(AA230,AA229),ROUNDDOWN(((((AA229-Z229)+(AA230-Z230))/2)*(A230-A229))/27,0),IF(((((DataInput!Q230-Z230)+(DataInput!Q229-Z229))/2)*(A230-A229))/27+S229+T229>0,ROUNDDOWN(((((DataInput!Q230-Z230)+(DataInput!Q229-Z229))/2)*(A230-A229))/27+S229+T229,0),0)),0),0)*$X$5),1)","v":0},176,{"$f":"ROUNDDOWN((IF(AC230>0,IFERROR(IF(((((DataInput!Q229-AC229)+(DataInput!Q230-AC230))/2)*(A230-A229))/27+S229+T229>0,ROUNDDOWN(((((DataInput!Q229-AC229)+(DataInput!Q230-AC230))/2)*(A230-A229))/27+S229+T229,0),0),0),0)*$X$5),1)","v":101.4},{"$f":"DataInput!U229","v":171},{"$f":"DataInput!S229","v":75},105,66]
[{"$f":"IF(DataInput!A230<>\"\",DataInput!A230,\"\")","v":86825},{"$f":"SUM(DataInput!C230,DataInput!Y230)+(DataInput!U230-DataInput!E230)","v":470},{"$f":"SUM(DataInput!D230,DataInput!Z230)","v":297},{"$f":"DataInput!U230","v":173},{"$f":"SUM(DataInput!F230,DataInput!AB230)","v":0},{"$f":"SUM(DataInput!G230,DataInput!AC230)","v":0},{"$f":"SUM(DataInput!H230,DataInput!AD230)","v":0},{"$f":"DataInput!I230","v":27},{"$f":"SUM(DataInput!J230,DataInput!AF230)","v":0},{"$f":"SUM(DataInput!K230,DataInput!AG230)","v":0},{"$f":"SUM(DataInput!L230,DataInput!AH230)","v":0},{"$f":"SUM(DataInput!M230,DataInput!AI230)","v":0},{"$f":"SUM(DataInput!N230,DataInput!AJ230)","v":0},{"$f":"SUM(DataInput!O230,DataInput!AK230)","v":0},{"$f":"DataInput!P230","v":0},null,297,{"$f":"DataInput!R230","v":172},{"$f":"DataInput!Y230","v":21},{"$f":"IF(DataInput!U230-DataInput!E230>0,DataInput!U230-DataInput!E230,\"\")","v":74},{"$f":"IF(DataInput!W230-DataInput!I230>0,DataInput!W230-DataInput!I230,\"\")","v":""},null,267,347.1,-50.1,450,3350,{"$f":"ROUNDDOWN((IF(AA231>0,IFERROR(IF(AVERAGE(DataInput!Q230:Q231)>AVERAGE(AA231,AA230),ROUNDDOWN(((((AA230-Z230)+(AA231-Z231))/2)*(A231-A230))/27,0),IF(((((DataInput!Q231-Z231)+(DataInput!Q230-Z230))/2)*(A231-A230))/27+S230+T230>0,ROUNDDOWN(((((DataInput!Q231-Z231)+(DataInput!Q230-Z230))/2)*(A231-A230))/27+S230+T230,0),0)),0),0)*$X$5),1)","v":0},176,{"$f":"ROUNDDOWN((IF(AC231>0,IFERROR(IF(((((DataInput!Q230-AC230)+(DataInput!Q231-AC231))/2)*(A231-A230))/27+S230+T230>0,ROUNDDOWN(((((DataInput!Q230-AC230)+(DataInput!Q231-AC231))/2)*(A231-A230))/27+S230+T230,0),0),0),0)*$X$5),1)","v":135.19999999999999},{"$f":"DataInput!U230","v":173},{"$f":"DataInput!S230","v":76},106.4,66.599999999999994]
[{"$f":"IF(DataInput!A231<>\"\",DataInput!A231,\"\")","v":86850},{"$f":"SUM(DataInput!C231,DataInput!Y231)+(DataInput!U231-DataInput!E231)","v":462},{"$f":"SUM(DataInput!D231,DataInput!Z231)","v":287},{"$f":"DataInput!U231","v":175},{"$f":"SUM(DataInput!F231,DataInput!AB231)","v":0},{"$f":"SUM(DataInput!G231,DataInput!AC231)","v":0},{"$f":"SUM(DataInput!H231,DataInput!AD231)","v":0},{"$f":"DataInput!I231","v":27},{"$f":"SUM(DataInput!J231,DataInput!AF231)","v":0},{"$f":"SUM(DataInput!K231,DataInput!AG231)","v":0},{"$f":"SUM(DataInput!L231,DataInput!AH231)","v":0},{"$f":"SUM(DataInput!M231,DataInput!AI231)","v":0},{"$f":"SUM(DataInput!N231,DataInput!AJ231)","v":0},{"$f":"SUM(DataInput!O231,DataInput!AK231)","v":0},{"$f":"DataInput!P231","v":0},null,287,{"$f":"DataInput!R231","v":190},{"$f":"DataInput!Y231","v":20},{"$f":"IF(DataInput!U231-DataInput!E231>0,DataInput!U231-DataInput!E231,\"\")","v":76},{"$f":"IF(DataInput!W231-DataInput!I231>0,DataInput!W231-DataInput!I231,\"\")","v":""},null,286,371.8,-84.8,450,3350,{"$f":"ROUNDDOWN((IF(AA232>0,IFERROR(IF(AVERAGE(DataInput!Q231:Q232)>AVERAGE(AA232,AA231),ROUNDDOWN(((((AA231-Z231)+(AA232-Z232))/2)*(A232-A231))/27,0),IF(((((DataInput!Q232-Z232)+(DataInput!Q231-Z231))/2)*(A232-A231))/27+S231+T231>0,ROUNDDOWN(((((DataInput!Q232-Z232)+(DataInput!Q231-Z231))/2)*(A232-A231))/27+S231+T231,0),0)),0),0)*$X$5),1)","v":0},176,{"$f":"ROUNDDOWN((IF(AC232>0,IFERROR(IF(((((DataInput!Q231-AC231)+(DataInput!Q232-AC232))/2)*(A232-A231))/27+S231+T231>0,ROUNDDOWN(((((DataInput!Q231-AC231)+(DataInput!Q232-AC232))/2)*(A232-A231))/27+S231+T231,0),0),0),0)*$X$5),1)","v":158.6},{"$f":"DataInput!U231","v":175},{"$f":"DataInput!S231","v":77},107.8,67.2]
[{"$f":"IF(DataInput!A232<>\"\",DataInput!A232,\"\")","v":86875},{"$f":"SUM(DataInput!C232,DataInput!Y232)+(DataInput!U232-DataInput!E232)","v":461},{"$f":"SUM(DataInput!D232,DataInput!Z232)","v":283},{"$f":"DataInput!U232","v":177},{"$f":"SUM(DataInput!F232,DataInput!AB232)","v":0},{"$f":"SUM(DataInput!G232,DataInput!AC232)","v":0},{"$f":"SUM(DataInput!H232,DataInput!AD232)","v":0},{"$f":"DataInput!I232","v":27},{"$f":"SUM(DataInput!J232,DataInput!AF232)","v":0},{"$f":"SUM(DataInput!K232,DataInput!AG232)","v":0},{"$f":"SUM(DataInput!L232,DataInput!AH232)","v":0},{"$f":"SUM(DataInput!M232,DataInput!AI232)","v":0},{"$f":"SUM(DataInput!N232,DataInput!AJ232)","v":0},{"$f":"SUM(DataInput!O232,DataInput!AK232)","v":0},{"$f":"DataInput!P232","v":0},null,283,{"$f":"DataInput!R232","v":204},{"$f":"DataInput!Y232","v":20},{"$f":"IF(DataInput!U232-DataInput!E232>0,DataInput!U232-DataInput!E232,\"\")","v":77},{"$f":"IF(DataInput!W232-DataInput!I232>0,DataInput!W232-DataInput!I232,\"\")","v":""},null,301,391.3,-108.3,450,3350,{"$f":"ROUNDDOWN((IF(AA233>0,IFERROR(IF(AVERAGE(DataInput!Q232:Q233)>AVERAGE(AA233,AA232),ROUNDDOWN(((((AA232-Z232)+(AA233-Z233))/2)*(A233-A232))/27,0),IF(((((DataInput!Q233-Z233)+(DataInput!Q232-Z232))/2)*(A233-A232))/27+S232+T232>0,ROUNDDOWN(((((DataInput!Q233-Z233)+(DataInput!Q232-Z232))/2)*(A233-A232))/27+S232+T232,0),0)),0),0)*$X$5),1)","v":0},176,{"$f":"ROUNDDOWN((IF(AC233>0,IFERROR(IF(((((DataInput!Q232-AC232)+(DataInput!Q233-AC233))/2)*(A233-A232))/27+S232+T232>0,ROUNDDOWN(((((DataInput!Q232-AC232)+(DataInput!Q233-AC233))/2)*(A233-A232))/27+S232+T232,0),0),0),0)*$X$5),1)","v":178.1},{"$f":"DataInput!U232","v":177},{"$f":"DataInput!S232","v":79},110.6,66.400000000000006]
[{"$f":"IF(DataInput!A233<>\"\",DataInput!A233,\"\")","v":86900},{"$f":"SUM(DataInput!C233,DataInput!Y233)+(DataInput!U233-DataInput!E233)","v":469},{"$f":"SUM(DataInput!D233,DataInput!Z233)","v":288},{"$f":"DataInput!U233","v":182},{"$f":"SUM(DataInput!F233,DataInput!AB233)","v":0},{"$f":"SUM(DataInput!G233,DataInput!AC233)","v":0},{"$f":"SUM(DataInput!H233,DataInput!AD233)","v":0},{"$f":"DataInput!I233","v":27},{"$f":"SUM(DataInput!J233,DataInput!AF233)","v":0},{"$f":"SUM(DataInput!K233,DataInput!AG233)","v":0},{"$f":"SUM(DataInput!L233,DataInput!AH233)","v":0},{"$f":"SUM(DataInput!M233,DataInput!AI233)","v":0},{"$f":"SUM(DataInput!N233,DataInput!AJ233)","v":0},{"$f":"SUM(DataInput!O233,DataInput!AK233)","v":0},{"$f":"DataInput!P233","v":0},null,288,{"$f":"DataInput!R233","v":223},{"$f":"DataInput!Y233","v":20},{"$f":"IF(DataInput!U233-DataInput!E233>0,DataInput!U233-DataInput!E233,\"\")","v":78},{"$f":"IF(DataInput!W233-DataInput!I233>0,DataInput!W233-DataInput!I233,\"\")","v":""},null,321,417.3,-129.30000000000001,450,3350,{"$f":"ROUNDDOWN((IF(AA234>0,IFERROR(IF(AVERAGE(DataInput!Q233:Q234)>AVERAGE(AA234,AA233),ROUNDDOWN(((((AA233-Z233)+(AA234-Z234))/2)*(A234-A233))/27,0),IF(((((DataInput!Q234-Z234)+(DataInput!Q233-Z233))/2)*(A234-A233))/27+S233+T233>0,ROUNDDOWN(((((DataInput!Q234-Z234)+(DataInput!Q233-Z233))/2)*(A234-A233))/27+S233+T233,0),0)),0),0)*$X$5),1)","v":0},176,{"$f":"ROUNDDOWN((IF(AC234>0,IFERROR(IF(((((DataInput!Q233-AC233)+(DataInput!Q234-AC234))/2)*(A234-A233))/27+S233+T233>0,ROUNDDOWN(((((DataInput!Q233-AC233)+(DataInput!Q234-AC234))/2)*(A234-A233))/27+S233+T233,0),0),0),0)*$X$5),1)","v":205.4},{"$f":"DataInput!U233","v":182},{"$f":"DataInput!S233","v":80},112,70]
[{"$f":"IF(DataInput!A234<>\"\",DataInput!A234,\"\")","v":86925},{"$f":"SUM(DataInput!C234,DataInput!Y234)+(DataInput!U234-DataInput!E234)","v":467},{"$f":"SUM(DataInput!D234,DataInput!Z234)","v":281},{"$f":"DataInput!U234","v":186},{"$f":"SUM(DataInput!F234,DataInput!AB234)","v":0},{"$f":"SUM(DataInput!G234,DataInput!AC234)","v":0},{"$f":"SUM(DataInput!H234,DataInput!AD234)","v":0},{"$f":"DataInput!I234","v":27},{"$f":"SUM(DataInput!J234,DataInput!AF234)","v":0},{"$f":"SUM(DataInput!K234,DataInput!AG234)","v":0},{"$f":"SUM(DataInput!L234,DataInput!AH234)","v":0},{"$f":"SUM(DataInput!M234,DataInput!AI234)","v":0},{"$f":"SUM(DataInput!N234,DataInput!AJ234)","v":0},{"$f":"SUM(DataInput!O234,DataInput!AK234)","v":0},{"$f":"DataInput!P234","v":0},null,281,{"$f":"DataInput!R234","v":247},{"$f":"DataInput!Y234","v":19},{"$f":"IF(DataInput!U234-DataInput!E234>0,DataInput!U234-DataInput!E234,\"\")","v":80},{"$f":"IF(DataInput!W234-DataInput!I234>0,DataInput!W234-DataInput!I234,\"\")","v":""},null,346,449.8,-168.8,450,3350,{"$f":"ROUNDDOWN((IF(AA235>0,IFERROR(IF(AVERAGE(DataInput!Q234:Q235)>AVERAGE(AA235,AA234),ROUNDDOWN(((((AA234-Z234)+(AA235-Z235))/2)*(A235-A234))/27,0),IF(((((DataInput!Q235-Z235)+(DataInput!Q234-Z234))/2)*(A235-A234))/27+S234+T234>0,ROUNDDOWN(((((DataInput!Q235-Z235)+(DataInput!Q234-Z234))/2)*(A235-A234))/27+S234+T234,0),0)),0),0)*$X$5),1)","v":0},176,{"$f":"ROUNDDOWN((IF(AC235>0,IFERROR(IF(((((DataInput!Q234-AC234)+(DataInput!Q235-AC235))/2)*(A235-A234))/27+S234+T234>0,ROUNDDOWN(((((DataInput!Q234-AC234)+(DataInput!Q235-AC235))/2)*(A235-A234))/27+S234+T234,0),0),0),0)*$X$5),1)","v":237.9},{"$f":"DataInput!U234","v":186},{"$f":"DataInput!S234","v":81},113.4,72.599999999999994]
[{"$f":"IF(DataInput!A235<>\"\",DataInput!A235,\"\")","v":86950},{"$f":"SUM(DataInput!C235,DataInput!Y235)+(DataInput!U235-DataInput!E235)","v":465},{"$f":"SUM(DataInput!D235,DataInput!Z235)","v":277},{"$f":"DataInput!U235","v":187},{"$f":"SUM(DataInput!F235,DataInput!AB235)","v":0},{"$f":"SUM(DataInput!G235,DataInput!AC235)","v":0},{"$f":"SUM(DataInput!H235,DataInput!AD235)","v":0},{"$f":"DataInput!I235","v":27},{"$f":"SUM(DataInput!J235,DataInput!AF235)","v":0},{"$f":"SUM(DataInput!K235,DataInput!AG235)","v":0},{"$f":"SUM(DataInput!L235,DataInput!AH235)","v":0},{"$f":"SUM(DataInput!M235,DataInput!AI235)","v":0},{"$f":"SUM(DataInput!N235,DataInput!AJ235)","v":0},{"$f":"SUM(DataInput!O235,DataInput!AK235)","v":0},{"$f":"DataInput!P235","v":0},null,277,{"$f":"DataInput!R235","v":280},{"$f":"DataInput!Y235","v":18},{"$f":"IF(DataInput!U235-DataInput!E235>0,DataInput!U235-DataInput!E235,\"\")","v":84},{"$f":"IF(DataInput!W235-DataInput!I235>0,DataInput!W235-DataInput!I235,\"\")","v":""},null,382,496.6,-219.6,450,3350,{"$f":"ROUNDDOWN((IF(AA236>0,IFERROR(IF(AVERAGE(DataInput!Q235:Q236)>AVERAGE(AA236,AA235),ROUNDDOWN(((((AA235-Z235)+(AA236-Z236))/2)*(A236-A235))/27,0),IF(((((DataInput!Q236-Z236)+(DataInput!Q235-Z235))/2)*(A236-A235))/27+S235+T235>0,ROUNDDOWN(((((DataInput!Q236-Z236)+(DataInput!Q235-Z235))/2)*(A236-A235))/27+S235+T235,0),0)),0),0)*$X$5),1)","v":0},176,{"$f":"ROUNDDOWN((IF(AC236>0,IFERROR(IF(((((DataInput!Q235-AC235)+(DataInput!Q236-AC236))/2)*(A236-A235))/27+S235+T235>0,ROUNDDOWN(((((DataInput!Q235-AC235)+(DataInput!Q236-AC236))/2)*(A236-A235))/27+S235+T235,0),0),0),0)*$X$5),1)","v":284.7},{"$f":"DataInput!U235","v":187},{"$f":"DataInput!S235","v":81},113.4,73.599999999999994]
[{"$f":"IF(DataInput!A236<>\"\",DataInput!A236,\"\")","v":86975},{"$f":"SUM(DataInput!C236,DataInput!Y236)+(DataInput!U236-DataInput!E236)","v":471},{"$f":"SUM(DataInput!D236,DataInput!Z236)","v":279},{"$f":"DataInput!U236","v":192},{"$f":"SUM(DataInput!F236,DataInput!AB236)","v":0},{"$f":"SUM(DataInput!G236,DataInput!AC236)","v":0},{"$f":"SUM(DataInput!H236,DataInput!AD236)","v":0},{"$f":"DataInput!I236","v":27},{"$f":"SUM(DataInput!J236,DataInput!AF236)","v":0},{"$f":"SUM(DataInput!K236,DataInput!AG236)","v":0},{"$f":"SUM(DataInput!L236,DataInput!AH236)","v":0},{"$f":"SUM(DataInput!M236,DataInput!AI236)","v":0},{"$f":"SUM(DataInput!N236,DataInput!AJ236)","v":0},{"$f":"SUM(DataInput!O236,DataInput!AK236)","v":0},{"$f":"DataInput!P236","v":0},null,279,{"$f":"DataInput!R236","v":327},{"$f":"DataInput!Y236","v":17},{"$f":"IF(DataInput!U236-DataInput!E236>0,DataInput!U236-DataInput!E236,\"\")","v":88},{"$f":"IF(DataInput!W236-DataInput!I236>0,DataInput!W236-DataInput!I236,\"\")","v":""},null,432,561.6,-282.60000000000002,450,3350,{"$f":"ROUNDDOWN((IF(AA237>0,IFERROR(IF(AVERAGE(DataInput!Q236:Q237)>AVERAGE(AA237,AA236),ROUNDDOWN(((((AA236-Z236)+(AA237-Z237))/2)*(A237-A236))/27,0),IF(((((DataInput!Q237-Z237)+(DataInput!Q236-Z236))/2)*(A237-A236))/27+S236+T236>0,ROUNDDOWN(((((DataInput!Q237-Z237)+(DataInput!Q236-Z236))/2)*(A237-A236))/27+S236+T236,0),0)),0),0)*$X$5),1)","v":19.5},176,{"$f":"ROUNDDOWN((IF(AC237>0,IFERROR(IF(((((DataInput!Q236-AC236)+(DataInput!Q237-AC237))/2)*(A237-A236))/27+S236+T236>0,ROUNDDOWN(((((DataInput!Q236-AC236)+(DataInput!Q237-AC237))/2)*(A237-A236))/27+S236+T236,0),0),0),0)*$X$5),1)","v":349.7},{"$f":"DataInput!U236","v":192},{"$f":"DataInput!S236","v":84},117.6,74.400000000000006]
[{"$f":"IF(DataInput!A237<>\"\",DataInput!A237,\"\")","v":87000},{"$f":"SUM(DataInput!C237,DataInput!Y237)+(DataInput!U237-DataInput!E237)","v":484},{"$f":"SUM(DataInput!D237,DataInput!Z237)","v":282},{"$f":"DataInput!U237","v":201},{"$f":"SUM(DataInput!F237,DataInput!AB237)","v":0},{"$f":"SUM(DataInput!G237,DataInput!AC237)","v":0},{"$f":"SUM(DataInput!H237,DataInput!AD237)","v":0},{"$f":"DataInput!I237","v":27},{"$f":"SUM(DataInput!J237,DataInput!AF237)","v":0},{"$f":"SUM(DataInput!K237,DataInput!AG237)","v":0},{"$f":"SUM(DataInput!L237,DataInput!AH237)","v":0},{"$f":"SUM(DataInput!M237,DataInput!AI237)","v":0},{"$f":"SUM(DataInput!N237,DataInput!AJ237)","v":0},{"$f":"SUM(DataInput!O237,DataInput!AK237)","v":0},{"$f":"DataInput!P237","v":0},null,282,{"$f":"DataInput!R237","v":373},{"$f":"DataInput!Y237","v":0},{"$f":"IF(DataInput!U237-DataInput!E237>0,DataInput!U237-DataInput!E237,\"\")","v":92},{"$f":"IF(DataInput!W237-DataInput!I237>0,DataInput!W237-DataInput!I237,\"\")","v":""},null,465,604.5,-322.5,450,3350,{"$f":"ROUNDDOWN((IF(AA238>0,IFERROR(IF(AVERAGE(DataInput!Q237:Q238)>AVERAGE(AA238,AA237),ROUNDDOWN(((((AA237-Z237)+(AA238-Z238))/2)*(A238-A237))/27,0),IF(((((DataInput!Q238-Z238)+(DataInput!Q237-Z237))/2)*(A238-A237))/27+S237+T237>0,ROUNDDOWN(((((DataInput!Q238-Z238)+(DataInput!Q237-Z237))/2)*(A238-A237))/27+S237+T237,0),0)),0),0)*$X$5),1)","v":62.4},176,{"$f":"ROUNDDOWN((IF(AC238>0,IFERROR(IF(((((DataInput!Q237-AC237)+(DataInput!Q238-AC238))/2)*(A238-A237))/27+S237+T237>0,ROUNDDOWN(((((DataInput!Q237-AC237)+(DataInput!Q238-AC238))/2)*(A238-A237))/27+S237+T237,0),0),0),0)*$X$5),1)","v":391.3},{"$f":"DataInput!U237","v":201},{"$f":"DataInput!S237","v":90},126,75]
[{"$f":"IF(DataInput!A238<>\"\",DataInput!A238,\"\")","v":87025},{"$f":"SUM(DataInput!C238,DataInput!Y238)+(DataInput!U238-DataInput!E238)","v":538},{"$f":"SUM(DataInput!D238,DataInput!Z238)","v":334},{"$f":"DataInput!U238","v":204},{"$f":"SUM(DataInput!F238,DataInput!AB238)","v":0},{"$f":"SUM(DataInput!G238,DataInput!AC238)","v":0},{"$f":"SUM(DataInput!H238,DataInput!AD238)","v":0},{"$f":"DataInput!I238","v":27},{"$f":"SUM(DataInput!J238,DataInput!AF238)","v":0},{"$f":"SUM(DataInput!K238,DataInput!AG238)","v":0},{"$f":"SUM(DataInput!L238,DataInput!AH238)","v":0},{"$f":"SUM(DataInput!M238,DataInput!AI238)","v":0},{"$f":"SUM(DataInput!N238,DataInput!AJ238)","v":0},{"$f":"SUM(DataInput!O238,DataInput!AK238)","v":0},{"$f":"DataInput!P238","v":0},null,334,{"$f":"DataInput!R238","v":424},{"$f":"DataInput!Y238","v":0},{"$f":"IF(DataInput!U238-DataInput!E238>0,DataInput!U238-DataInput!E238,\"\")","v":94},{"$f":"IF(DataInput!W238-DataInput!I238>0,DataInput!W238-DataInput!I238,\"\")","v":""},null,518,673.4,-339.4,450,3350,{"$f":"ROUNDDOWN((IF(AA239>0,IFERROR(IF(AVERAGE(DataInput!Q238:Q239)>AVERAGE(AA239,AA238),ROUNDDOWN(((((AA238-Z238)+(AA239-Z239))/2)*(A239-A238))/27,0),IF(((((DataInput!Q239-Z239)+(DataInput!Q238-Z238))/2)*(A239-A238))/27+S238+T238>0,ROUNDDOWN(((((DataInput!Q239-Z239)+(DataInput!Q238-Z238))/2)*(A239-A238))/27+S238+T238,0),0)),0),0)*$X$5),1)","v":131.30000000000001},176,{"$f":"ROUNDDOWN((IF(AC239>0,IFERROR(IF(((((DataInput!Q238-AC238)+(DataInput!Q239-AC239))/2)*(A239-A238))/27+S238+T238>0,ROUNDDOWN(((((DataInput!Q238-AC238)+(DataInput!Q239-AC239))/2)*(A239-A238))/27+S238+T238,0),0),0),0)*$X$5),1)","v":461.5},{"$f":"DataInput!U238","v":204},{"$f":"DataInput!S238","v":91},127.4,76.599999999999994]
[{"$f":"IF(DataInput!A239<>\"\",DataInput!A239,\"\")","v":87050},{"$f":"SUM(DataInput!C239,DataInput!Y239)+(DataInput!U239-DataInput!E239)","v":584},{"$f":"SUM(DataInput!D239,DataInput!Z239)","v":385},{"$f":"DataInput!U239","v":199},{"$f":"SUM(DataInput!F239,DataInput!AB239)","v":0},{"$f":"SUM(DataInput!G239,DataInput!AC239)","v":0},{"$f":"SUM(DataInput!H239,DataInput!AD239)","v":0},{"$f":"DataInput!I239","v":30},{"$f":"SUM(DataInput!J239,DataInput!AF239)","v":0},{"$f":"SUM(DataInput!K239,DataInput!AG239)","v":0},{"$f":"SUM(DataInput!L239,DataInput!AH239)","v":0},{"$f":"SUM(DataInput!M239,DataInput!AI239)","v":0},{"$f":"SUM(DataInput!N239,DataInput!AJ239)","v":0},{"$f":"SUM(DataInput!O239,DataInput!AK239)","v":0},{"$f":"DataInput!P239","v":0},null,385,{"$f":"DataInput!R239","v":506},{"$f":"DataInput!Y239","v":0},{"$f":"IF(DataInput!U239-DataInput!E239>0,DataInput!U239-DataInput!E239,\"\")","v":94},{"$f":"IF(DataInput!W239-DataInput!I239>0,DataInput!W239-DataInput!I239,\"\")","v":""},null,600,780,-395,450,3350,{"$f":"ROUNDDOWN((IF(AA240>0,IFERROR(IF(AVERAGE(DataInput!Q239:Q240)>AVERAGE(AA240,AA239),ROUNDDOWN(((((AA239-Z239)+(AA240-Z240))/2)*(A240-A239))/27,0),IF(((((DataInput!Q240-Z240)+(DataInput!Q239-Z239))/2)*(A240-A239))/27+S239+T239>0,ROUNDDOWN(((((DataInput!Q240-Z240)+(DataInput!Q239-Z239))/2)*(A240-A239))/27+S239+T239,0),0)),0),0)*$X$5),1)","v":236.6},176,{"$f":"ROUNDDOWN((IF(AC240>0,IFERROR(IF(((((DataInput!Q239-AC239)+(DataInput!Q240-AC240))/2)*(A240-A239))/27+S239+T239>0,ROUNDDOWN(((((DataInput!Q239-AC239)+(DataInput!Q240-AC240))/2)*(A240-A239))/27+S239+T239,0),0),0),0)*$X$5),1)","v":566.79999999999995},{"$f":"DataInput!U239","v":199},{"$f":"DataInput!S239","v":67},93.8,105.2]
[{"$f":"IF(DataInput!A240<>\"\",DataInput!A240,\"\")","v":87075},{"$f":"SUM(DataInput!C240,DataInput!Y240)+(DataInput!U240-DataInput!E240)","v":644},{"$f":"SUM(DataInput!D240,DataInput!Z240)","v":451},{"$f":"DataInput!U240","v":193},{"$f":"SUM(DataInput!F240,DataInput!AB240)","v":0},{"$f":"SUM(DataInput!G240,DataInput!AC240)","v":0},{"$f":"SUM(DataInput!H240,DataInput!AD240)","v":0},{"$f":"DataInput!I240","v":16},{"$f":"SUM(DataInput!J240,DataInput!AF240)","v":0},{"$f":"SUM(DataInput!K240,DataInput!AG240)","v":0},{"$f":"SUM(DataInput!L240,DataInput!AH240)","v":0},{"$f":"SUM(DataInput!M240,DataInput!AI240)","v":0},{"$f":"SUM(DataInput!N240,DataInput!AJ240)","v":0},{"$f":"SUM(DataInput!O240,DataInput!AK240)","v":0},{"$f":"DataInput!P240","v":0},null,451,{"$f":"DataInput!R240","v":421},{"$f":"DataInput!Y240","v":0},{"$f":"IF(DataInput!U240-DataInput!E240>0,DataInput!U240-DataInput!E240,\"\")","v":90},{"$f":"IF(DataInput!W240-DataInput!I240>0,DataInput!W240-DataInput!I240,\"\")","v":49},null,560,728,-277,450,3350,{"$f":"ROUNDDOWN((IF(AA241>0,IFERROR(IF(AVERAGE(DataInput!Q240:Q241)>AVERAGE(AA241,AA240),ROUNDDOWN(((((AA240-Z240)+(AA241-Z241))/2)*(A241-A240))/27,0),IF(((((DataInput!Q241-Z241)+(DataInput!Q240-Z240))/2)*(A241-A240))/27+S240+T240>0,ROUNDDOWN(((((DataInput!Q241-Z241)+(DataInput!Q240-Z240))/2)*(A241-A240))/27+S240+T240,0),0)),0),0)*$X$5),1)","v":122.2},176,{"$f":"ROUNDDOWN((IF(AC241>0,IFERROR(IF(((((DataInput!Q240-AC240)+(DataInput!Q241-AC241))/2)*(A241-A240))/27+S240+T240>0,ROUNDDOWN(((((DataInput!Q240-AC240)+(DataInput!Q241-AC241))/2)*(A241-A240))/27+S240+T240,0),0),0),0)*$X$5),1)","v":451.1},{"$f":"DataInput!U240","v":193},{"$f":"DataInput!S240","v":23},32.200000000000003,160.80000000000001]
[{"$f":"IF(DataInput!A241<>\"\",DataInput!A241,\"\")","v":87100},{"$f":"SUM(DataInput!C241,DataInput!Y241)+(DataInput!U241-DataInput!E241)","v":455},{"$f":"SUM(DataInput!D241,DataInput!Z241)","v":307},{"$f":"DataInput!U241","v":149},{"$f":"SUM(DataInput!F241,DataInput!AB241)","v":0},{"$f":"SUM(DataInput!G241,DataInput!AC241)","v":0},{"$f":"SUM(DataInput!H241,DataInput!AD241)","v":0},{"$f":"DataInput!I241","v":0},{"$f":"SUM(DataInput!J241,DataInput!AF241)","v":0},{"$f":"SUM(DataInput!K241,DataInput!AG241)","v":0},{"$f":"SUM(DataInput!L241,DataInput!AH241)","v":0},{"$f":"SUM(DataInput!M241,DataInput!AI241)","v":0},{"$f":"SUM(DataInput!N241,DataInput!AJ241)","v":0},{"$f":"SUM(DataInput!O241,DataInput!AK241)","v":0},{"$f":"DataInput!P241","v":0},null,307,{"$f":"DataInput!R241","v":181},{"$f":"DataInput!Y241","v":0},{"$f":"IF(DataInput!U241-DataInput!E241>0,DataInput!U241-DataInput!E241,\"\")","v":61},{"$f":"IF(DataInput!W241-DataInput!I241>0,DataInput!W241-DataInput!I241,\"\")","v":""},null,242,314.60000000000002,-7.6999999999999993,450,3350,{"$f":"ROUNDDOWN((IF(AA242>0,IFERROR(IF(AVERAGE(DataInput!Q241:Q242)>AVERAGE(AA242,AA241),ROUNDDOWN(((((AA241-Z241)+(AA242-Z242))/2)*(A242-A241))/27,0),IF(((((DataInput!Q242-Z242)+(DataInput!Q241-Z241))/2)*(A242-A241))/27+S241+T241>0,ROUNDDOWN(((((DataInput!Q242-Z242)+(DataInput!Q241-Z241))/2)*(A242-A241))/27+S241+T241,0),0)),0),0)*$X$5),1)","v":0},176,{"$f":"ROUNDDOWN((IF(AC242>0,IFERROR(IF(((((DataInput!Q241-AC241)+(DataInput!Q242-AC242))/2)*(A242-A241))/27+S241+T241>0,ROUNDDOWN(((((DataInput!Q241-AC241)+(DataInput!Q242-AC242))/2)*(A242-A241))/27+S241+T241,0),0),0),0)*$X$5),1)","v":101.4},{"$f":"DataInput!U241","v":149},{"$f":"DataInput!S241","v":0},0,149]
[{"$f":"IF(DataInput!A242<>\"\",DataInput!A242,\"\")","v":87125},{"$f":"SUM(DataInput!C242,DataInput!Y242)+(DataInput!U242-DataInput!E242)","v":187},{"$f":"SUM(DataInput!D242,DataInput!Z242)","v":111},{"$f":"DataInput!U242","v":76},{"$f":"SUM(DataInput!F242,DataInput!AB242)","v":0},{"$f":"SUM(DataInput!G242,DataInput!AC242)","v":0},{"$f":"SUM(DataInput!H242,DataInput!AD242)","v":0},{"$f":"DataInput!I242","v":0},{"$f":"SUM(DataInput!J242,DataInput!AF242)","v":0},{"$f":"SUM(DataInput!K242,DataInput!AG242)","v":0},{"$f":"SUM(DataInput!L242,DataInput!AH242)","v":0},{"$f":"SUM(DataInput!M242,DataInput!AI242)","v":0},{"$f":"SUM(DataInput!N242,DataInput!AJ242)","v":0},{"$f":"SUM(DataInput!O242,DataInput!AK242)","v":0},{"$f":"DataInput!P242","v":0},null,111,{"$f":"DataInput!R242","v":37},{"$f":"DataInput!Y242","v":0},{"$f":"IF(DataInput!U242-DataInput!E242>0,DataInput!U242-DataInput!E242,\"\")","v":22},{"$f":"IF(DataInput!W242-DataInput!I242>0,DataInput!W242-DataInput!I242,\"\")","v":""},null,59,76.7,34.299999999999997,450,3350,{"$f":"ROUNDDOWN((IF(AA243>0,IFERROR(IF(AVERAGE(DataInput!Q242:Q243)>AVERAGE(AA243,AA242),ROUNDDOWN(((((AA242-Z242)+(AA243-Z243))/2)*(A243-A242))/27,0),IF(((((DataInput!Q243-Z243)+(DataInput!Q242-Z242))/2)*(A243-A242))/27+S242+T242>0,ROUNDDOWN(((((DataInput!Q243-Z243)+(DataInput!Q242-Z242))/2)*(A243-A242))/27+S242+T242,0),0)),0),0)*$X$5),1)","v":0},176,{"$f":"ROUNDDOWN((IF(AC243>0,IFERROR(IF(((((DataInput!Q242-AC242)+(DataInput!Q243-AC243))/2)*(A243-A242))/27+S242+T242>0,ROUNDDOWN(((((DataInput!Q242-AC242)+(DataInput!Q243-AC243))/2)*(A243-A242))/27+S242+T242,0),0),0),0)*$X$5),1)","v":0},{"$f":"DataInput!U242","v":76},{"$f":"DataInput!S242","v":0},0,76]
[{"$f":"IF(DataInput!A243<>\"\",DataInput!A243,\"\")","v":87150},{"$f":"SUM(DataInput!C243,DataInput!Y243)+(DataInput!U243-DataInput!E243)","v":175},{"$f":"SUM(DataInput!D243,DataInput!Z243)","v":121},{"$f":"DataInput!U243","v":54},{"$f":"SUM(DataInput!F243,DataInput!AB243)","v":0},{"$f":"SUM(DataInput!G243,DataInput!AC243)","v":0},{"$f":"SUM(DataInput!H243,DataInput!AD243)","v":0},{"$f":"DataInput!I243","v":0},{"$f":"SUM(DataInput!J243,DataInput!AF243)","v":0},{"$f":"SUM(DataInput!K243,DataInput!AG243)","v":0},{"$f":"SUM(DataInput!L243,DataInput!AH243)","v":0},{"$f":"SUM(DataInput!M243,DataInput!AI243)","v":0},{"$f":"SUM(DataInput!N243,DataInput!AJ243)","v":0},{"$f":"SUM(DataInput!O243,DataInput!AK243)","v":0},{"$f":"DataInput!P243","v":0},null,121,{"$f":"DataInput!R243","v":0},{"$f":"DataInput!Y243","v":0},{"$f":"IF(DataInput!U243-DataInput!E243>0,DataInput!U243-DataInput!E243,\"\")","v":3},{"$f":"IF(DataInput!W243-DataInput!I243>0,DataInput!W243-DataInput!I243,\"\")","v":""},null,3,3.9,117.1,450,3350,{"$f":"ROUNDDOWN((IF(AA244>0,IFERROR(IF(AVERAGE(DataInput!Q243:Q244)>AVERAGE(AA244,AA243),ROUNDDOWN(((((AA243-Z243)+(AA244-Z244))/2)*(A244-A243))/27,0),IF(((((DataInput!Q244-Z244)+(DataInput!Q243-Z243))/2)*(A244-A243))/27+S243+T243>0,ROUNDDOWN(((((DataInput!Q244-Z244)+(DataInput!Q243-Z243))/2)*(A244-A243))/27+S243+T243,0),0)),0),0)*$X$5),1)","v":0},176,{"$f":"ROUNDDOWN((IF(AC244>0,IFERROR(IF(((((DataInput!Q243-AC243)+(DataInput!Q244-AC244))/2)*(A244-A243))/27+S243+T243>0,ROUNDDOWN(((((DataInput!Q243-AC243)+(DataInput!Q244-AC244))/2)*(A244-A243))/27+S243+T243,0),0),0),0)*$X$5),1)","v":0},{"$f":"DataInput!U243","v":54},{"$f":"DataInput!S243","v":0},0,54]
[{"$f":"IF(DataInput!A244<>\"\",DataInput!A244,\"\")","v":87175},{"$f":"SUM(DataInput!C244,DataInput!Y244)+(DataInput!U244-DataInput!E244)","v":442},{"$f":"SUM(DataInput!D244,DataInput!Z244)","v":361},{"$f":"DataInput!U244","v":81},{"$f":"SUM(DataInput!F244,DataInput!AB244)","v":0},{"$f":"SUM(DataInput!G244,DataInput!AC244)","v":0},{"$f":"SUM(DataInput!H244,DataInput!AD244)","v":0},{"$f":"DataInput!I244","v":16},{"$f":"SUM(DataInput!J244,DataInput!AF244)","v":0},{"$f":"SUM(DataInput!K244,DataInput!AG244)","v":0},{"$f":"SUM(DataInput!L244,DataInput!AH244)","v":0},{"$f":"SUM(DataInput!M244,DataInput!AI244)","v":0},{"$f":"SUM(DataInput!N244,DataInput!AJ244)","v":0},{"$f":"SUM(DataInput!O244,DataInput!AK244)","v":0},{"$f":"DataInput!P244","v":0},null,361,{"$f":"DataInput!R244","v":0},{"$f":"DataInput!Y244","v":0},{"$f":"IF(DataInput!U244-DataInput!E244>0,DataInput!U244-DataInput!E244,\"\")","v":4},{"$f":"IF(DataInput!W244-DataInput!I244>0,DataInput!W244-DataInput!I244,\"\")","v":""},null,4,5.2,355.8,450,3350,{"$f":"ROUNDDOWN((IF(AA245>0,IFERROR(IF(AVERAGE(DataInput!Q244:Q245)>AVERAGE(AA245,AA244),ROUNDDOWN(((((AA244-Z244)+(AA245-Z245))/2)*(A245-A244))/27,0),IF(((((DataInput!Q245-Z245)+(DataInput!Q244-Z244))/2)*(A245-A244))/27+S244+T244>0,ROUNDDOWN(((((DataInput!Q245-Z245)+(DataInput!Q244-Z244))/2)*(A245-A244))/27+S244+T244,0),0)),0),0)*$X$5),1)","v":0},176,{"$f":"ROUNDDOWN((IF(AC245>0,IFERROR(IF(((((DataInput!Q244-AC244)+(DataInput!Q245-AC245))/2)*(A245-A244))/27+S244+T244>0,ROUNDDOWN(((((DataInput!Q244-AC244)+(DataInput!Q245-AC245))/2)*(A245-A244))/27+S244+T244,0),0),0),0)*$X$5),1)","v":0},{"$f":"DataInput!U244","v":81},{"$f":"DataInput!S244","v":0},0,81]
[{"$f":"IF(DataInput!A245<>\"\",DataInput!A245,\"\")","v":87200},{"$f":"SUM(DataInput!C245,DataInput!Y245)+(DataInput!U245-DataInput!E245)","v":610},{"$f":"SUM(DataInput!D245,DataInput!Z245)","v":458},{"$f":"DataInput!U245","v":152},{"$f":"SUM(DataInput!F245,DataInput!AB245)","v":0},{"$f":"SUM(DataInput!G245,DataInput!AC245)","v":0},{"$f":"SUM(DataInput!H245,DataInput!AD245)","v":0},{"$f":"DataInput!I245","v":26},{"$f":"SUM(DataInput!J245,DataInput!AF245)","v":0},{"$f":"SUM(DataInput!K245,DataInput!AG245)","v":0},{"$f":"SUM(DataInput!L245,DataInput!AH245)","v":0},{"$f":"SUM(DataInput!M245,DataInput!AI245)","v":0},{"$f":"SUM(DataInput!N245,DataInput!AJ245)","v":0},{"$f":"SUM(DataInput!O245,DataInput!AK245)","v":0},{"$f":"DataInput!P245","v":0},null,458,{"$f":"DataInput!R245","v":145},{"$f":"DataInput!Y245","v":0},{"$f":"IF(DataInput!U245-DataInput!E245>0,DataInput!U245-DataInput!E245,\"\")","v":50},{"$f":"IF(DataInput!W245-DataInput!I245>0,DataInput!W245-DataInput!I245,\"\")","v":5},null,200,260,198,450,3350,{"$f":"ROUNDDOWN((IF(AA246>0,IFERROR(IF(AVERAGE(DataInput!Q245:Q246)>AVERAGE(AA246,AA245),ROUNDDOWN(((((AA245-Z245)+(AA246-Z246))/2)*(A246-A245))/27,0),IF(((((DataInput!Q246-Z246)+(DataInput!Q245-Z245))/2)*(A246-A245))/27+S245+T245>0,ROUNDDOWN(((((DataInput!Q246-Z246)+(DataInput!Q245-Z245))/2)*(A246-A245))/27+S245+T245,0),0)),0),0)*$X$5),1)","v":0},176,{"$f":"ROUNDDOWN((IF(AC246>0,IFERROR(IF(((((DataInput!Q245-AC245)+(DataInput!Q246-AC246))/2)*(A246-A245))/27+S245+T245>0,ROUNDDOWN(((((DataInput!Q245-AC245)+(DataInput!Q246-AC246))/2)*(A246-A245))/27+S245+T245,0),0),0),0)*$X$5),1)","v":40.299999999999997},{"$f":"DataInput!U245","v":152},{"$f":"DataInput!S245","v":23},32.200000000000003,119.8]
[{"$f":"IF(DataInput!A246<>\"\",DataInput!A246,\"\")","v":87225},{"$f":"SUM(DataInput!C246,DataInput!Y246)+(DataInput!U246-DataInput!E246)","v":613},{"$f":"SUM(DataInput!D246,DataInput!Z246)","v":412},{"$f":"DataInput!U246","v":200},{"$f":"SUM(DataInput!F246,DataInput!AB246)","v":0},{"$f":"SUM(DataInput!G246,DataInput!AC246)","v":0},{"$f":"SUM(DataInput!H246,DataInput!AD246)","v":0},{"$f":"DataInput!I246","v":23},{"$f":"SUM(DataInput!J246,DataInput!AF246)","v":0},{"$f":"SUM(DataInput!K246,DataInput!AG246)","v":0},{"$f":"SUM(DataInput!L246,DataInput!AH246)","v":0},{"$f":"SUM(DataInput!M246,DataInput!AI246)","v":0},{"$f":"SUM(DataInput!N246,DataInput!AJ246)","v":0},{"$f":"SUM(DataInput!O246,DataInput!AK246)","v":0},{"$f":"DataInput!P246","v":0},null,412,{"$f":"DataInput!R246","v":440},{"$f":"DataInput!Y246","v":96},{"$f":"IF(DataInput!U246-DataInput!E246>0,DataInput!U246-DataInput!E246,\"\")","v":93},{"$f":"IF(DataInput!W246-DataInput!I246>0,DataInput!W246-DataInput!I246,\"\")","v":6},null,635,825.5,-413.5,450,3350,{"$f":"ROUNDDOWN((IF(AA247>0,IFERROR(IF(AVERAGE(DataInput!Q246:Q247)>AVERAGE(AA247,AA246),ROUNDDOWN(((((AA246-Z246)+(AA247-Z247))/2)*(A247-A246))/27,0),IF(((((DataInput!Q247-Z247)+(DataInput!Q246-Z246))/2)*(A247-A246))/27+S246+T246>0,ROUNDDOWN(((((DataInput!Q247-Z247)+(DataInput!Q246-Z246))/2)*(A247-A246))/27+S246+T246,0),0)),0),0)*$X$5),1)","v":275.60000000000002},176,{"$f":"ROUNDDOWN((IF(AC247>0,IFERROR(IF(((((DataInput!Q246-AC246)+(DataInput!Q247-AC247))/2)*(A247-A246))/27+S246+T246>0,ROUNDDOWN(((((DataInput!Q246-AC246)+(DataInput!Q247-AC247))/2)*(A247-A246))/27+S246+T246,0),0),0),0)*$X$5),1)","v":605.79999999999995},{"$f":"DataInput!U246","v":200},{"$f":"DataInput!S246","v":64},89.6,110.4]
[{"$f":"IF(DataInput!A247<>\"\",DataInput!A247,\"\")","v":87250},{"$f":"SUM(DataInput!C247,DataInput!Y247)+(DataInput!U247-DataInput!E247)","v":582},{"$f":"SUM(DataInput!D247,DataInput!Z247)","v":390},{"$f":"DataInput!U247","v":192},{"$f":"SUM(DataInput!F247,DataInput!AB247)","v":0},{"$f":"SUM(DataInput!G247,DataInput!AC247)","v":0},{"$f":"SUM(DataInput!H247,DataInput!AD247)","v":0},{"$f":"DataInput!I247","v":27},{"$f":"SUM(DataInput!J247,DataInput!AF247)","v":0},{"$f":"SUM(DataInput!K247,DataInput!AG247)","v":0},{"$f":"SUM(DataInput!L247,DataInput!AH247)","v":0},{"$f":"SUM(DataInput!M247,DataInput!AI247)","v":0},{"$f":"SUM(DataInput!N247,DataInput!AJ247)","v":0},{"$f":"SUM(DataInput!O247,DataInput!AK247)","v":0},{"$f":"DataInput!P247","v":0},null,390,{"$f":"DataInput!R247","v":604},{"$f":"DataInput!Y247","v":79},{"$f":"IF(DataInput!U247-DataInput!E247>0,DataInput!U247-DataInput!E247,\"\")","v":96},{"$f":"IF(DataInput!W247-DataInput!I247>0,DataInput!W247-DataInput!I247,\"\")","v":""},null,779,1012.7,-622.70000000000005,450,3350,{"$f":"ROUNDDOWN((IF(AA248>0,IFERROR(IF(AVERAGE(DataInput!Q247:Q248)>AVERAGE(AA248,AA247),ROUNDDOWN(((((AA247-Z247)+(AA248-Z248))/2)*(A248-A247))/27,0),IF(((((DataInput!Q248-Z248)+(DataInput!Q247-Z247))/2)*(A248-A247))/27+S247+T247>0,ROUNDDOWN(((((DataInput!Q248-Z248)+(DataInput!Q247-Z247))/2)*(A248-A247))/27+S247+T247,0),0)),0),0)*$X$5),1)","v":470.6},176,{"$f":"ROUNDDOWN((IF(AC248>0,IFERROR(IF(((((DataInput!Q247-AC247)+(DataInput!Q248-AC248))/2)*(A248-A247))/27+S247+T247>0,ROUNDDOWN(((((DataInput!Q247-AC247)+(DataInput!Q248-AC248))/2)*(A248-A247))/27+S247+T247,0),0),0),0)*$X$5),1)","v":799.5},{"$f":"DataInput!U247","v":192},{"$f":"DataInput!S247","v":83},116.2,75.8]
[{"$f":"IF(DataInput!A248<>\"\",DataInput!A248,\"\")","v":87275},{"$f":"SUM(DataInput!C248,DataInput!Y248)+(DataInput!U248-DataInput!E248)","v":611},{"$f":"SUM(DataInput!D248,DataInput!Z248)","v":416},{"$f":"DataInput!U248","v":194},{"$f":"SUM(DataInput!F248,DataInput!AB248)","v":0},{"$f":"SUM(DataInput!G248,DataInput!AC248)","v":0},{"$f":"SUM(DataInput!H248,DataInput!AD248)","v":0},{"$f":"DataInput!I248","v":27},{"$f":"SUM(DataInput!J248,DataInput!AF248)","v":0},{"$f":"SUM(DataInput!K248,DataInput!AG248)","v":0},{"$f":"SUM(DataInput!L248,DataInput!AH248)","v":0},{"$f":"SUM(DataInput!M248,DataInput!AI248)","v":0},{"$f":"SUM(DataInput!N248,DataInput!AJ248)","v":0},{"$f":"SUM(DataInput!O248,DataInput!AK248)","v":0},{"$f":"DataInput!P248","v":0},null,416,{"$f":"DataInput!R248","v":620},{"$f":"DataInput!Y248","v":80},{"$f":"IF(DataInput!U248-DataInput!E248>0,DataInput!U248-DataInput!E248,\"\")","v":106},{"$f":"IF(DataInput!W248-DataInput!I248>0,DataInput!W248-DataInput!I248,\"\")","v":""},null,806,1047.8,-631.79999999999995,450,3350,{"$f":"ROUNDDOWN((IF(AA249>0,IFERROR(IF(AVERAGE(DataInput!Q248:Q249)>AVERAGE(AA249,AA248),ROUNDDOWN(((((AA248-Z248)+(AA249-Z249))/2)*(A249-A248))/27,0),IF(((((DataInput!Q249-Z249)+(DataInput!Q248-Z248))/2)*(A249-A248))/27+S248+T248>0,ROUNDDOWN(((((DataInput!Q249-Z249)+(DataInput!Q248-Z248))/2)*(A249-A248))/27+S248+T248,0),0)),0),0)*$X$5),1)","v":505.7},176,{"$f":"ROUNDDOWN((IF(AC249>0,IFERROR(IF(((((DataInput!Q248-AC248)+(DataInput!Q249-AC249))/2)*(A249-A248))/27+S248+T248>0,ROUNDDOWN(((((DataInput!Q248-AC248)+(DataInput!Q249-AC249))/2)*(A249-A248))/27+S248+T248,0),0),0),0)*$X$5),1)","v":834.6},{"$f":"DataInput!U248","v":194},{"$f":"DataInput!S248","v":85},119,75]
[{"$f":"IF(DataInput!A249<>\"\",DataInput!A249,\"\")","v":87300},{"$f":"SUM(DataInput!C249,DataInput!Y249)+(DataInput!U249-DataInput!E249)","v":656},{"$f":"SUM(DataInput!D249,DataInput!Z249)","v":459},{"$f":"DataInput!U249","v":197},{"$f":"SUM(DataInput!F249,DataInput!AB249)","v":0},{"$f":"SUM(DataInput!G249,DataInput!AC249)","v":0},{"$f":"SUM(DataInput!H249,DataInput!AD249)","v":0},{"$f":"DataInput!I249","v":27},{"$f":"SUM(DataInput!J249,DataInput!AF249)","v":0},{"$f":"SUM(DataInput!K249,DataInput!AG249)","v":0},{"$f":"SUM(DataInput!L249,DataInput!AH249)","v":0},{"$f":"SUM(DataInput!M249,DataInput!AI249)","v":0},{"$f":"SUM(DataInput!N249,DataInput!AJ249)","v":0},{"$f":"SUM(DataInput!O249,DataInput!AK249)","v":0},{"$f":"DataInput!P249","v":0},null,459,{"$f":"DataInput!R249","v":635},{"$f":"DataInput!Y249","v":83},{"$f":"IF(DataInput!U249-DataInput!E249>0,DataInput!U249-DataInput!E249,\"\")","v":110},{"$f":"IF(DataInput!W249-DataInput!I249>0,DataInput!W249-DataInput!I249,\"\")","v":""},null,828,1076.4000000000001,-617.4,450,3350,{"$f":"ROUNDDOWN((IF(AA250>0,IFERROR(IF(AVERAGE(DataInput!Q249:Q250)>AVERAGE(AA250,AA249),ROUNDDOWN(((((AA249-Z249)+(AA250-Z250))/2)*(A250-A249))/27,0),IF(((((DataInput!Q250-Z250)+(DataInput!Q249-Z249))/2)*(A250-A249))/27+S249+T249>0,ROUNDDOWN(((((DataInput!Q250-Z250)+(DataInput!Q249-Z249))/2)*(A250-A249))/27+S249+T249,0),0)),0),0)*$X$5),1)","v":533},176,{"$f":"ROUNDDOWN((IF(AC250>0,IFERROR(IF(((((DataInput!Q249-AC249)+(DataInput!Q250-AC250))/2)*(A250-A249))/27+S249+T249>0,ROUNDDOWN(((((DataInput!Q249-AC249)+(DataInput!Q250-AC250))/2)*(A250-A249))/27+S249+T249,0),0),0),0)*$X$5),1)","v":863.2},{"$f":"DataInput!U249","v":197},{"$f":"DataInput!S249","v":87},121.8,75.2]
[{"$f":"IF(DataInput!A250<>\"\",DataInput!A250,\"\")","v":87325},{"$f":"SUM(DataInput!C250,DataInput!Y250)+(DataInput!U250-DataInput!E250)","v":701},{"$f":"SUM(DataInput!D250,DataInput!Z250)","v":499},{"$f":"DataInput!U250","v":202},{"$f":"SUM(DataInput!F250,DataInput!AB250)","v":0},{"$f":"SUM(DataInput!G250,DataInput!AC250)","v":0},{"$f":"SUM(DataInput!H250,DataInput!AD250)","v":0},{"$f":"DataInput!I250","v":27},{"$f":"SUM(DataInput!J250,DataInput!AF250)","v":0},{"$f":"SUM(DataInput!K250,DataInput!AG250)","v":0},{"$f":"SUM(DataInput!L250,DataInput!AH250)","v":0},{"$f":"SUM(DataInput!M250,DataInput!AI250)","v":0},{"$f":"SUM(DataInput!N250,DataInput!AJ250)","v":0},{"$f":"SUM(DataInput!O250,DataInput!AK250)","v":0},{"$f":"DataInput!P250","v":0},null,499,{"$f":"DataInput!R250","v":660},{"$f":"DataInput!Y250","v":85},{"$f":"IF(DataInput!U250-DataInput!E250>0,DataInput!U250-DataInput!E250,\"\")","v":111},{"$f":"IF(DataInput!W250-DataInput!I250>0,DataInput!W250-DataInput!I250,\"\")","v":""},null,856,1112.8,-613.79999999999995,450,3350,{"$f":"ROUNDDOWN((IF(AA251>0,IFERROR(IF(AVERAGE(DataInput!Q250:Q251)>AVERAGE(AA251,AA250),ROUNDDOWN(((((AA250-Z250)+(AA251-Z251))/2)*(A251-A250))/27,0),IF(((((DataInput!Q251-Z251)+(DataInput!Q250-Z250))/2)*(A251-A250))/27+S250+T250>0,ROUNDDOWN(((((DataInput!Q251-Z251)+(DataInput!Q250-Z250))/2)*(A251-A250))/27+S250+T250,0),0)),0),0)*$X$5),1)","v":570.70000000000005},176,{"$f":"ROUNDDOWN((IF(AC251>0,IFERROR(IF(((((DataInput!Q250-AC250)+(DataInput!Q251-AC251))/2)*(A251-A250))/27+S250+T250>0,ROUNDDOWN(((((DataInput!Q250-AC250)+(DataInput!Q251-AC251))/2)*(A251-A250))/27+S250+T250,0),0),0),0)*$X$5),1)","v":900.9},{"$f":"DataInput!U250","v":202},{"$f":"DataInput!S250","v":90},126,76]
[{"$f":"IF(DataInput!A251<>\"\",DataInput!A251,\"\")","v":87350},{"$f":"SUM(DataInput!C251,DataInput!Y251)+(DataInput!U251-DataInput!E251)","v":737},{"$f":"SUM(DataInput!D251,DataInput!Z251)","v":531},{"$f":"DataInput!U251","v":206},{"$f":"SUM(DataInput!F251,DataInput!AB251)","v":0},{"$f":"SUM(DataInput!G251,DataInput!AC251)","v":0},{"$f":"SUM(DataInput!H251,DataInput!AD251)","v":0},{"$f":"DataInput!I251","v":27},{"$f":"SUM(DataInput!J251,DataInput!AF251)","v":0},{"$f":"SUM(DataInput!K251,DataInput!AG251)","v":0},{"$f":"SUM(DataInput!L251,DataInput!AH251)","v":0},{"$f":"SUM(DataInput!M251,DataInput!AI251)","v":0},{"$f":"SUM(DataInput!N251,DataInput!AJ251)","v":0},{"$f":"SUM(DataInput!O251,DataInput!AK251)","v":0},{"$f":"DataInput!P251","v":0},null,531,{"$f":"DataInput!R251","v":680},{"$f":"DataInput!Y251","v":86},{"$f":"IF(DataInput!U251-DataInput!E251>0,DataInput!U251-DataInput!E251,\"\")","v":112},{"$f":"IF(DataInput!W251-DataInput!I251>0,DataInput!W251-DataInput!I251,\"\")","v":""},null,878,1141.4000000000001,-610.4,450,3350,{"$f":"ROUNDDOWN((IF(AA252>0,IFERROR(IF(AVERAGE(DataInput!Q251:Q252)>AVERAGE(AA252,AA251),ROUNDDOWN(((((AA251-Z251)+(AA252-Z252))/2)*(A252-A251))/27,0),IF(((((DataInput!Q252-Z252)+(DataInput!Q251-Z251))/2)*(A252-A251))/27+S251+T251>0,ROUNDDOWN(((((DataInput!Q252-Z252)+(DataInput!Q251-Z251))/2)*(A252-A251))/27+S251+T251,0),0)),0),0)*$X$5),1)","v":598},176,{"$f":"ROUNDDOWN((IF(AC252>0,IFERROR(IF(((((DataInput!Q251-AC251)+(DataInput!Q252-AC252))/2)*(A252-A251))/27+S251+T251>0,ROUNDDOWN(((((DataInput!Q251-AC251)+(DataInput!Q252-AC252))/2)*(A252-A251))/27+S251+T251,0),0),0),0)*$X$5),1)","v":928.2},{"$f":"DataInput!U251","v":206},{"$f":"DataInput!S251","v":93},130.19999999999999,75.8]
[{"$f":"IF(DataInput!A252<>\"\",DataInput!A252,\"\")","v":87375},{"$f":"SUM(DataInput!C252,DataInput!Y252)+(DataInput!U252-DataInput!E252)","v":790},{"$f":"SUM(DataInput!D252,DataInput!Z252)","v":580},{"$f":"DataInput!U252","v":209},{"$f":"SUM(DataInput!F252,DataInput!AB252)","v":0},{"$f":"SUM(DataInput!G252,DataInput!AC252)","v":0},{"$f":"SUM(DataInput!H252,DataInput!AD252)","v":0},{"$f":"DataInput!I252","v":27},{"$f":"SUM(DataInput!J252,DataInput!AF252)","v":0},{"$f":"SUM(DataInput!K252,DataInput!AG252)","v":0},{"$f":"SUM(DataInput!L252,DataInput!AH252)","v":0},{"$f":"SUM(DataInput!M252,DataInput!AI252)","v":0},{"$f":"SUM(DataInput!N252,DataInput!AJ252)","v":0},{"$f":"SUM(DataInput!O252,DataInput!AK252)","v":0},{"$f":"DataInput!P252","v":0},null,{"$f":"SUM(C252,E252:G252,I252:L252,O252:P252)","v":580},{"$f":"DataInput!R252","v":699},{"$f":"DataInput!Y252","v":88},{"$f":"IF(DataInput!U252-DataInput!E252>0,DataInput!U252-DataInput!E252,\"\")","v":114},{"$f":"IF(DataInput!W252-DataInput!I252>0,DataInput!W252-DataInput!I252,\"\")","v":""},null,{"$f":"SUM(R252:V252)","v":901},{"$f":"ROUNDUP(($W252*$X$5),1)","v":1171.3},{"$f":"ROUNDUP(SUM(Q252-X252),1)","v":-591.29999999999995},450,3350,{"$f":"ROUNDDOWN((IF(AA253>0,IFERROR(IF(AVERAGE(DataInput!Q252:Q253)>AVERAGE(AA253,AA252),ROUNDDOWN(((((AA252-Z252)+(AA253-Z253))/2)*(A253-A252))/27,0),IF(((((DataInput!Q253-Z253)+(DataInput!Q252-Z252))/2)*(A253-A252))/27+S252+T252>0,ROUNDDOWN(((((DataInput!Q253-Z253)+(DataInput!Q252-Z252))/2)*(A253-A252))/27+S252+T252,0),0)),0),0)*$X$5),1)","v":629.20000000000005},176,{"$f":"ROUNDDOWN((IF(AC253>0,IFERROR(IF(((((DataInput!Q252-AC252)+(DataInput!Q253-AC253))/2)*(A253-A252))/27+S252+T252>0,ROUNDDOWN(((((DataInput!Q252-AC252)+(DataInput!Q253-AC253))/2)*(A253-A252))/27+S252+T252,0),0),0),0)*$X$5),1)","v":959.4},{"$f":"DataInput!U252","v":209},{"$f":"DataInput!S252","v":94},{"$f":"ROUNDUP((AF252*$AG$5),1)","v":131.6},{"$f":"ROUNDUP((AE252-AG252),1)","v":77.400000000000006}]
[{"$f":"IF(DataInput!A253<>\"\",DataInput!A253,\"\")","v":87400},{"$f":"SUM(DataInput!C253,DataInput!Y253)+(DataInput!U253-DataInput!E253)","v":853},{"$f":"SUM(DataInput!D253,DataInput!Z253)","v":643},{"$f":"DataInput!U253","v":210},{"$f":"SUM(DataInput!F253,DataInput!AB253)","v":0},{"$f":"SUM(DataInput!G253,DataInput!AC253)","v":0},{"$f":"SUM(DataInput!H253,DataInput!AD253)","v":0},{"$f":"DataInput!I253","v":27},{"$f":"SUM(DataInput!J253,DataInput!AF253)","v":0},{"$f":"SUM(DataInput!K253,DataInput!AG253)","v":0},{"$f":"SUM(DataInput!L253,DataInput!AH253)","v":0},{"$f":"SUM(DataInput!M253,DataInput!AI253)","v":0},{"$f":"SUM(DataInput!N253,DataInput!AJ253)","v":0},{"$f":"SUM(DataInput!O253,DataInput!AK253)","v":0},{"$f":"DataInput!P253","v":0},null,643,{"$f":"DataInput!R253","v":721},{"$f":"DataInput!Y253","v":89},{"$f":"IF(DataInput!U253-DataInput!E253>0,DataInput!U253-DataInput!E253,\"\")","v":114},{"$f":"IF(DataInput!W253-DataInput!I253>0,DataInput!W253-DataInput!I253,\"\")","v":""},null,924,1201.2,-558.20000000000005,{"$f":"Z252","v":450},{"$f":"AA252","v":3350},{"$f":"ROUNDDOWN((IF(AA254>0,IFERROR(IF(AVERAGE(DataInput!Q253:Q254)>AVERAGE(AA254,AA253),ROUNDDOWN(((((AA253-Z253)+(AA254-Z254))/2)*(A254-A253))/27,0),IF(((((DataInput!Q254-Z254)+(DataInput!Q253-Z253))/2)*(A254-A253))/27+S253+T253>0,ROUNDDOWN(((((DataInput!Q254-Z254)+(DataInput!Q253-Z253))/2)*(A254-A253))/27+S253+T253,0),0)),0),0)*$X$5),1)","v":660.4},{"$f":"AC252","v":176},{"$f":"ROUNDDOWN((IF(AC254>0,IFERROR(IF(((((DataInput!Q253-AC253)+(DataInput!Q254-AC254))/2)*(A254-A253))/27+S253+T253>0,ROUNDDOWN(((((DataInput!Q253-AC253)+(DataInput!Q254-AC254))/2)*(A254-A253))/27+S253+T253,0),0),0),0)*$X$5),1)","v":989.3},{"$f":"DataInput!U253","v":210},{"$f":"DataInput!S253","v":96},134.4,75.599999999999994]
[{"$f":"IF(DataInput!A254<>\"\",DataInput!A254,\"\")","v":87425},{"$f":"SUM(DataInput!C254,DataInput!Y254)+(DataInput!U254-DataInput!E254)","v":917},{"$f":"SUM(DataInput!D254,DataInput!Z254)","v":705},{"$f":"DataInput!U254","v":212},{"$f":"SUM(DataInput!F254,DataInput!AB254)","v":0},{"$f":"SUM(DataInput!G254,DataInput!AC254)","v":0},{"$f":"SUM(DataInput!H254,DataInput!AD254)","v":0},{"$f":"DataInput!I254","v":27},{"$f":"SUM(DataInput!J254,DataInput!AF254)","v":0},{"$f":"SUM(DataInput!K254,DataInput!AG254)","v":0},{"$f":"SUM(DataInput!L254,DataInput!AH254)","v":0},{"$f":"SUM(DataInput!M254,DataInput!AI254)","v":0},{"$f":"SUM(DataInput!N254,DataInput!AJ254)","v":0},{"$f":"SUM(DataInput!O254,DataInput!AK254)","v":0},{"$f":"DataInput!P254","v":0},null,705,{"$f":"DataInput!R254","v":728},{"$f":"DataInput!Y254","v":91},{"$f":"IF(DataInput!U254-DataInput!E254>0,DataInput!U254-DataInput!E254,\"\")","v":114},{"$f":"IF(DataInput!W254-DataInput!I254>0,DataInput!W254-DataInput!I254,\"\")","v":""},null,933,1212.9000000000001,-507.9,450,3350,{"$f":"ROUNDDOWN((IF(AA255>0,IFERROR(IF(AVERAGE(DataInput!Q254:Q255)>AVERAGE(AA255,AA254),ROUNDDOWN(((((AA254-Z254)+(AA255-Z255))/2)*(A255-A254))/27,0),IF(((((DataInput!Q255-Z255)+(DataInput!Q254-Z254))/2)*(A255-A254))/27+S254+T254>0,ROUNDDOWN(((((DataInput!Q255-Z255)+(DataInput!Q254-Z254))/2)*(A255-A254))/27+S254+T254,0),0)),0),0)*$X$5),1)","v":670.8},176,{"$f":"ROUNDDOWN((IF(AC255>0,IFERROR(IF(((((DataInput!Q254-AC254)+(DataInput!Q255-AC255))/2)*(A255-A254))/27+S254+T254>0,ROUNDDOWN(((((DataInput!Q254-AC254)+(DataInput!Q255-AC255))/2)*(A255-A254))/27+S254+T254,0),0),0),0)*$X$5),1)","v":1001},{"$f":"DataInput!U254","v":212},{"$f":"DataInput!S254","v":98},137.19999999999999,74.8]
[{"$f":"IF(DataInput!A255<>\"\",DataInput!A255,\"\")","v":87450},{"$f":"SUM(DataInput!C255,DataInput!Y255)+(DataInput!U255-DataInput!E255)","v":966},{"$f":"SUM(DataInput!D255,DataInput!Z255)","v":753},{"$f":"DataInput!U255","v":213},{"$f":"SUM(DataInput!F255,DataInput!AB255)","v":0},{"$f":"SUM(DataInput!G255,DataInput!AC255)","v":0},{"$f":"SUM(DataInput!H255,DataInput!AD255)","v":0},{"$f":"DataInput!I255","v":27},{"$f":"SUM(DataInput!J255,DataInput!AF255)","v":0},{"$f":"SUM(DataInput!K255,DataInput!AG255)","v":0},{"$f":"SUM(DataInput!L255,DataInput!AH255)","v":0},{"$f":"SUM(DataInput!M255,DataInput!AI255)","v":0},{"$f":"SUM(DataInput!N255,DataInput!AJ255)","v":0},{"$f":"SUM(DataInput!O255,DataInput!AK255)","v":0},{"$f":"DataInput!P255","v":0},null,753,{"$f":"DataInput!R255","v":735},{"$f":"DataInput!Y255","v":92},{"$f":"IF(DataInput!U255-DataInput!E255>0,DataInput!U255-DataInput!E255,\"\")","v":112},{"$f":"IF(DataInput!W255-DataInput!I255>0,DataInput!W255-DataInput!I255,\"\")","v":""},null,939,1220.7,-467.7,450,3350,{"$f":"ROUNDDOWN((IF(AA256>0,IFERROR(IF(AVERAGE(DataInput!Q255:Q256)>AVERAGE(AA256,AA255),ROUNDDOWN(((((AA255-Z255)+(AA256-Z256))/2)*(A256-A255))/27,0),IF(((((DataInput!Q256-Z256)+(DataInput!Q255-Z255))/2)*(A256-A255))/27+S255+T255>0,ROUNDDOWN(((((DataInput!Q256-Z256)+(DataInput!Q255-Z255))/2)*(A256-A255))/27+S255+T255,0),0)),0),0)*$X$5),1)","v":678.6},176,{"$f":"ROUNDDOWN((IF(AC256>0,IFERROR(IF(((((DataInput!Q255-AC255)+(DataInput!Q256-AC256))/2)*(A256-A255))/27+S255+T255>0,ROUNDDOWN(((((DataInput!Q255-AC255)+(DataInput!Q256-AC256))/2)*(A256-A255))/27+S255+T255,0),0),0),0)*$X$5),1)","v":1007.5},{"$f":"DataInput!U255","v":213},{"$f":"DataInput!S255","v":99},138.6,74.400000000000006]
[{"$f":"IF(DataInput!A256<>\"\",DataInput!A256,\"\")","v":87475},{"$f":"SUM(DataInput!C256,DataInput!Y256)+(DataInput!U256-DataInput!E256)","v":1012},{"$f":"SUM(DataInput!D256,DataInput!Z256)","v":797},{"$f":"DataInput!U256","v":215},{"$f":"SUM(DataInput!F256,DataInput!AB256)","v":0},{"$f":"SUM(DataInput!G256,DataInput!AC256)","v":0},{"$f":"SUM(DataInput!H256,DataInput!AD256)","v":0},{"$f":"DataInput!I256","v":27},{"$f":"SUM(DataInput!J256,DataInput!AF256)","v":0},{"$f":"SUM(DataInput!K256,DataInput!AG256)","v":0},{"$f":"SUM(DataInput!L256,DataInput!AH256)","v":0},{"$f":"SUM(DataInput!M256,DataInput!AI256)","v":0},{"$f":"SUM(DataInput!N256,DataInput!AJ256)","v":0},{"$f":"SUM(DataInput!O256,DataInput!AK256)","v":0},{"$f":"DataInput!P256","v":0},null,797,{"$f":"DataInput!R256","v":740},{"$f":"DataInput!Y256","v":94},{"$f":"IF(DataInput!U256-DataInput!E256>0,DataInput!U256-DataInput!E256,\"\")","v":112},{"$f":"IF(DataInput!W256-DataInput!I256>0,DataInput!W256-DataInput!I256,\"\")","v":""},null,946,1229.8,-432.8,450,3350,{"$f":"ROUNDDOWN((IF(AA257>0,IFERROR(IF(AVERAGE(DataInput!Q256:Q257)>AVERAGE(AA257,AA256),ROUNDDOWN(((((AA256-Z256)+(AA257-Z257))/2)*(A257-A256))/27,0),IF(((((DataInput!Q257-Z257)+(DataInput!Q256-Z256))/2)*(A257-A256))/27+S256+T256>0,ROUNDDOWN(((((DataInput!Q257-Z257)+(DataInput!Q256-Z256))/2)*(A257-A256))/27+S256+T256,0),0)),0),0)*$X$5),1)","v":687.7},176,{"$f":"ROUNDDOWN((IF(AC257>0,IFERROR(IF(((((DataInput!Q256-AC256)+(DataInput!Q257-AC257))/2)*(A257-A256))/27+S256+T256>0,ROUNDDOWN(((((DataInput!Q256-AC256)+(DataInput!Q257-AC257))/2)*(A257-A256))/27+S256+T256,0),0),0),0)*$X$5),1)","v":1017.9},{"$f":"DataInput!U256","v":215},{"$f":"DataInput!S256","v":100},140,75]
[{"$f":"IF(DataInput!A257<>\"\",DataInput!A257,\"\")","v":87500},{"$f":"SUM(DataInput!C257,DataInput!Y257)+(DataInput!U257-DataInput!E257)","v":1064},{"$f":"SUM(DataInput!D257,DataInput!Z257)","v":847},{"$f":"DataInput!U257","v":217},{"$f":"SUM(DataInput!F257,DataInput!AB257)","v":0},{"$f":"SUM(DataInput!G257,DataInput!AC257)","v":0},{"$f":"SUM(DataInput!H257,DataInput!AD257)","v":0},{"$f":"DataInput!I257","v":27},{"$f":"SUM(DataInput!J257,DataInput!AF257)","v":0},{"$f":"SUM(DataInput!K257,DataInput!AG257)","v":0},{"$f":"SUM(DataInput!L257,DataInput!AH257)","v":0},{"$f":"SUM(DataInput!M257,DataInput!AI257)","v":0},{"$f":"SUM(DataInput!N257,DataInput!AJ257)","v":0},{"$f":"SUM(DataInput!O257,DataInput!AK257)","v":0},{"$f":"DataInput!P257","v":0},null,847,{"$f":"DataInput!R257","v":742},{"$f":"DataInput!Y257","v":94},{"$f":"IF(DataInput!U257-DataInput!E257>0,DataInput!U257-DataInput!E257,\"\")","v":113},{"$f":"IF(DataInput!W257-DataInput!I257>0,DataInput!W257-DataInput!I257,\"\")","v":""},null,949,1233.7,-386.7,450,3350,{"$f":"ROUNDDOWN((IF(AA258>0,IFERROR(IF(AVERAGE(DataInput!Q257:Q258)>AVERAGE(AA258,AA257),ROUNDDOWN(((((AA257-Z257)+(AA258-Z258))/2)*(A258-A257))/27,0),IF(((((DataInput!Q258-Z258)+(DataInput!Q257-Z257))/2)*(A258-A257))/27+S257+T257>0,ROUNDDOWN(((((DataInput!Q258-Z258)+(DataInput!Q257-Z257))/2)*(A258-A257))/27+S257+T257,0),0)),0),0)*$X$5),1)","v":691.6},176,{"$f":"ROUNDDOWN((IF(AC258>0,IFERROR(IF(((((DataInput!Q257-AC257)+(DataInput!Q258-AC258))/2)*(A258-A257))/27+S257+T257>0,ROUNDDOWN(((((DataInput!Q257-AC257)+(DataInput!Q258-AC258))/2)*(A258-A257))/27+S257+T257,0),0),0),0)*$X$5),1)","v":1020.5},{"$f":"DataInput!U257","v":217},{"$f":"DataInput!S257","v":102},142.80000000000001,74.2]
[{"$f":"IF(DataInput!A258<>\"\",DataInput!A258,\"\")","v":87525},{"$f":"SUM(DataInput!C258,DataInput!Y258)+(DataInput!U258-DataInput!E258)","v":1121},{"$f":"SUM(DataInput!D258,DataInput!Z258)","v":901},{"$f":"DataInput!U258","v":220},{"$f":"SUM(DataInput!F258,DataInput!AB258)","v":0},{"$f":"SUM(DataInput!G258,DataInput!AC258)","v":0},{"$f":"SUM(DataInput!H258,DataInput!AD258)","v":0},{"$f":"DataInput!I258","v":27},{"$f":"SUM(DataInput!J258,DataInput!AF258)","v":0},{"$f":"SUM(DataInput!K258,DataInput!AG258)","v":0},{"$f":"SUM(DataInput!L258,DataInput!AH258)","v":0},{"$f":"SUM(DataInput!M258,DataInput!AI258)","v":0},{"$f":"SUM(DataInput!N258,DataInput!AJ258)","v":0},{"$f":"SUM(DataInput!O258,DataInput!AK258)","v":0},{"$f":"DataInput!P258","v":0},null,901,{"$f":"DataInput!R258","v":747},{"$f":"DataInput!Y258","v":95},{"$f":"IF(DataInput!U258-DataInput!E258>0,DataInput!U258-DataInput!E258,\"\")","v":115},{"$f":"IF(DataInput!W258-DataInput!I258>0,DataInput!W258-DataInput!I258,\"\")","v":""},null,957,1244.0999999999999,-343.1,450,3350,{"$f":"ROUNDDOWN((IF(AA259>0,IFERROR(IF(AVERAGE(DataInput!Q258:Q259)>AVERAGE(AA259,AA258),ROUNDDOWN(((((AA258-Z258)+(AA259-Z259))/2)*(A259-A258))/27,0),IF(((((DataInput!Q259-Z259)+(DataInput!Q258-Z258))/2)*(A259-A258))/27+S258+T258>0,ROUNDDOWN(((((DataInput!Q259-Z259)+(DataInput!Q258-Z258))/2)*(A259-A258))/27+S258+T258,0),0)),0),0)*$X$5),1)","v":702},176,{"$f":"ROUNDDOWN((IF(AC259>0,IFERROR(IF(((((DataInput!Q258-AC258)+(DataInput!Q259-AC259))/2)*(A259-A258))/27+S258+T258>0,ROUNDDOWN(((((DataInput!Q258-AC258)+(DataInput!Q259-AC259))/2)*(A259-A258))/27+S258+T258,0),0),0),0)*$X$5),1)","v":1032.2},{"$f":"DataInput!U258","v":220},{"$f":"DataInput!S258","v":103},144.19999999999999,75.8]
[{"$f":"IF(DataInput!A259<>\"\",DataInput!A259,\"\")","v":87550},{"$f":"SUM(DataInput!C259,DataInput!Y259)+(DataInput!U259-DataInput!E259)","v":1175},{"$f":"SUM(DataInput!D259,DataInput!Z259)","v":953},{"$f":"DataInput!U259","v":222},{"$f":"SUM(DataInput!F259,DataInput!AB259)","v":0},{"$f":"SUM(DataInput!G259,DataInput!AC259)","v":0},{"$f":"SUM(DataInput!H259,DataInput!AD259)","v":0},{"$f":"DataInput!I259","v":27},{"$f":"SUM(DataInput!J259,DataInput!AF259)","v":0},{"$f":"SUM(DataInput!K259,DataInput!AG259)","v":0},{"$f":"SUM(DataInput!L259,DataInput!AH259)","v":0},{"$f":"SUM(DataInput!M259,DataInput!AI259)","v":0},{"$f":"SUM(DataInput!N259,DataInput!AJ259)","v":0},{"$f":"SUM(DataInput!O259,DataInput!AK259)","v":0},{"$f":"DataInput!P259","v":0},null,953,{"$f":"DataInput!R259","v":736},{"$f":"DataInput!Y259","v":95},{"$f":"IF(DataInput!U259-DataInput!E259>0,DataInput!U259-DataInput!E259,\"\")","v":115},{"$f":"IF(DataInput!W259-DataInput!I259>0,DataInput!W259-DataInput!I259,\"\")","v":""},null,946,1229.8,-276.8,450,3350,{"$f":"ROUNDDOWN((IF(AA260>0,IFERROR(IF(AVERAGE(DataInput!Q259:Q260)>AVERAGE(AA260,AA259),ROUNDDOWN(((((AA259-Z259)+(AA260-Z260))/2)*(A260-A259))/27,0),IF(((((DataInput!Q260-Z260)+(DataInput!Q259-Z259))/2)*(A260-A259))/27+S259+T259>0,ROUNDDOWN(((((DataInput!Q260-Z260)+(DataInput!Q259-Z259))/2)*(A260-A259))/27+S259+T259,0),0)),0),0)*$X$5),1)","v":686.4},176,{"$f":"ROUNDDOWN((IF(AC260>0,IFERROR(IF(((((DataInput!Q259-AC259)+(DataInput!Q260-AC260))/2)*(A260-A259))/27+S259+T259>0,ROUNDDOWN(((((DataInput!Q259-AC259)+(DataInput!Q260-AC260))/2)*(A260-A259))/27+S259+T259,0),0),0),0)*$X$5),1)","v":1016.6},{"$f":"DataInput!U259","v":222},{"$f":"DataInput!S259","v":105},147,75]
[{"$f":"IF(DataInput!A260<>\"\",DataInput!A260,\"\")","v":87575},{"$f":"SUM(DataInput!C260,DataInput!Y260)+(DataInput!U260-DataInput!E260)","v":1236},{"$f":"SUM(DataInput!D260,DataInput!Z260)","v":1012},{"$f":"DataInput!U260","v":224},{"$f":"SUM(DataInput!F260,DataInput!AB260)","v":0},{"$f":"SUM(DataInput!G260,DataInput!AC260)","v":0},{"$f":"SUM(DataInput!H260,DataInput!AD260)","v":0},{"$f":"DataInput!I260","v":27},{"$f":"SUM(DataInput!J260,DataInput!AF260)","v":0},{"$f":"SUM(DataInput!K260,DataInput!AG260)","v":0},{"$f":"SUM(DataInput!L260,DataInput!AH260)","v":0},{"$f":"SUM(DataInput!M260,DataInput!AI260)","v":0},{"$f":"SUM(DataInput!N260,DataInput!AJ260)","v":0},{"$f":"SUM(DataInput!O260,DataInput!AK260)","v":0},{"$f":"DataInput!P260","v":0},null,1012,{"$f":"DataInput!R260","v":726},{"$f":"DataInput!Y260","v":95},{"$f":"IF(DataInput!U260-DataInput!E260>0,DataInput!U260-DataInput!E260,\"\")","v":114},{"$f":"IF(DataInput!W260-DataInput!I260>0,DataInput!W260-DataInput!I260,\"\")","v":""},null,935,1215.5,-203.5,450,3350,{"$f":"ROUNDDOWN((IF(AA261>0,IFERROR(IF(AVERAGE(DataInput!Q260:Q261)>AVERAGE(AA261,AA260),ROUNDDOWN(((((AA260-Z260)+(AA261-Z261))/2)*(A261-A260))/27,0),IF(((((DataInput!Q261-Z261)+(DataInput!Q260-Z260))/2)*(A261-A260))/27+S260+T260>0,ROUNDDOWN(((((DataInput!Q261-Z261)+(DataInput!Q260-Z260))/2)*(A261-A260))/27+S260+T260,0),0)),0),0)*$X$5),1)","v":673.4},176,{"$f":"ROUNDDOWN((IF(AC261>0,IFERROR(IF(((((DataInput!Q260-AC260)+(DataInput!Q261-AC261))/2)*(A261-A260))/27+S260+T260>0,ROUNDDOWN(((((DataInput!Q260-AC260)+(DataInput!Q261-AC261))/2)*(A261-A260))/27+S260+T260,0),0),0),0)*$X$5),1)","v":1003.6},{"$f":"DataInput!U260","v":224},{"$f":"DataInput!S260","v":106},148.4,75.599999999999994]
[{"$f":"IF(DataInput!A261<>\"\",DataInput!A261,\"\")","v":87600},{"$f":"SUM(DataInput!C261,DataInput!Y261)+(DataInput!U261-DataInput!E261)","v":1301},{"$f":"SUM(DataInput!D261,DataInput!Z261)","v":1075},{"$f":"DataInput!U261","v":226},{"$f":"SUM(DataInput!F261,DataInput!AB261)","v":0},{"$f":"SUM(DataInput!G261,DataInput!AC261)","v":0},{"$f":"SUM(DataInput!H261,DataInput!AD261)","v":0},{"$f":"DataInput!I261","v":27},{"$f":"SUM(DataInput!J261,DataInput!AF261)","v":0},{"$f":"SUM(DataInput!K261,DataInput!AG261)","v":0},{"$f":"SUM(DataInput!L261,DataInput!AH261)","v":0},{"$f":"SUM(DataInput!M261,DataInput!AI261)","v":0},{"$f":"SUM(DataInput!N261,DataInput!AJ261)","v":0},{"$f":"SUM(DataInput!O261,DataInput!AK261)","v":0},{"$f":"DataInput!P261","v":0},null,1075,{"$f":"DataInput!R261","v":728},{"$f":"DataInput!Y261","v":95},{"$f":"IF(DataInput!U261-DataInput!E261>0,DataInput!U261-DataInput!E261,\"\")","v":114},{"$f":"IF(DataInput!W261-DataInput!I261>0,DataInput!W261-DataInput!I261,\"\")","v":""},null,937,1218.0999999999999,-143.1,450,3350,{"$f":"ROUNDDOWN((IF(AA262>0,IFERROR(IF(AVERAGE(DataInput!Q261:Q262)>AVERAGE(AA262,AA261),ROUNDDOWN(((((AA261-Z261)+(AA262-Z262))/2)*(A262-A261))/27,0),IF(((((DataInput!Q262-Z262)+(DataInput!Q261-Z261))/2)*(A262-A261))/27+S261+T261>0,ROUNDDOWN(((((DataInput!Q262-Z262)+(DataInput!Q261-Z261))/2)*(A262-A261))/27+S261+T261,0),0)),0),0)*$X$5),1)","v":676},176,{"$f":"ROUNDDOWN((IF(AC262>0,IFERROR(IF(((((DataInput!Q261-AC261)+(DataInput!Q262-AC262))/2)*(A262-A261))/27+S261+T261>0,ROUNDDOWN(((((DataInput!Q261-AC261)+(DataInput!Q262-AC262))/2)*(A262-A261))/27+S261+T261,0),0),0),0)*$X$5),1)","v":1006.2},{"$f":"DataInput!U261","v":226},{"$f":"DataInput!S261","v":108},151.19999999999999,74.8]
[{"$f":"IF(DataInput!A262<>\"\",DataInput!A262,\"\")","v":87625},{"$f":"SUM(DataInput!C262,DataInput!Y262)+(DataInput!U262-DataInput!E262)","v":1365},{"$f":"SUM(DataInput!D262,DataInput!Z262)","v":1138},{"$f":"DataInput!U262","v":227},{"$f":"SUM(DataInput!F262,DataInput!AB262)","v":0},{"$f":"SUM(DataInput!G262,DataInput!AC262)","v":0},{"$f":"SUM(DataInput!H262,DataInput!AD262)","v":0},{"$f":"DataInput!I262","v":27},{"$f":"SUM(DataInput!J262,DataInput!AF262)","v":0},{"$f":"SUM(DataInput!K262,DataInput!AG262)","v":0},{"$f":"SUM(DataInput!L262,DataInput!AH262)","v":0},{"$f":"SUM(DataInput!M262,DataInput!AI262)","v":0},{"$f":"SUM(DataInput!N262,DataInput!AJ262)","v":0},{"$f":"SUM(DataInput!O262,DataInput!AK262)","v":0},{"$f":"DataInput!P262","v":0},null,1138,{"$f":"DataInput!R262","v":713},{"$f":"DataInput!Y262","v":95},{"$f":"IF(DataInput!U262-DataInput!E262>0,DataInput!U262-DataInput!E262,\"\")","v":113},{"$f":"IF(DataInput!W262-DataInput!I262>0,DataInput!W262-DataInput!I262,\"\")","v":""},null,921,1197.3,-59.3,450,3350,{"$f":"ROUNDDOWN((IF(AA263>0,IFERROR(IF(AVERAGE(DataInput!Q262:Q263)>AVERAGE(AA263,AA262),ROUNDDOWN(((((AA262-Z262)+(AA263-Z263))/2)*(A263-A262))/27,0),IF(((((DataInput!Q263-Z263)+(DataInput!Q262-Z262))/2)*(A263-A262))/27+S262+T262>0,ROUNDDOWN(((((DataInput!Q263-Z263)+(DataInput!Q262-Z262))/2)*(A263-A262))/27+S262+T262,0),0)),0),0)*$X$5),1)","v":653.9},176,{"$f":"ROUNDDOWN((IF(AC263>0,IFERROR(IF(((((DataInput!Q262-AC262)+(DataInput!Q263-AC263))/2)*(A263-A262))/27+S262+T262>0,ROUNDDOWN(((((DataInput!Q262-AC262)+(DataInput!Q263-AC263))/2)*(A263-A262))/27+S262+T262,0),0),0),0)*$X$5),1)","v":984.1},{"$f":"DataInput!U262","v":227},{"$f":"DataInput!S262","v":109},152.6,74.400000000000006]
[{"$f":"IF(DataInput!A263<>\"\",DataInput!A263,\"\")","v":87650},{"$f":"SUM(DataInput!C263,DataInput!Y263)+(DataInput!U263-DataInput!E263)","v":1427},{"$f":"SUM(DataInput!D263,DataInput!Z263)","v":1198},{"$f":"DataInput!U263","v":229},{"$f":"SUM(DataInput!F263,DataInput!AB263)","v":0},{"$f":"SUM(DataInput!G263,DataInput!AC263)","v":0},{"$f":"SUM(DataInput!H263,DataInput!AD263)","v":0},{"$f":"DataInput!I263","v":27},{"$f":"SUM(DataInput!J263,DataInput!AF263)","v":0},{"$f":"SUM(DataInput!K263,DataInput!AG263)","v":0},{"$f":"SUM(DataInput!L263,DataInput!AH263)","v":0},{"$f":"SUM(DataInput!M263,DataInput!AI263)","v":0},{"$f":"SUM(DataInput!N263,DataInput!AJ263)","v":0},{"$f":"SUM(DataInput!O263,DataInput!AK263)","v":0},{"$f":"DataInput!P263","v":0},null,1198,{"$f":"DataInput!R263","v":691},{"$f":"DataInput!Y263","v":95},{"$f":"IF(DataInput!U263-DataInput!E263>0,DataInput!U263-DataInput!E263,\"\")","v":111},{"$f":"IF(DataInput!W263-DataInput!I263>0,DataInput!W263-DataInput!I263,\"\")","v":""},null,897,1166.0999999999999,32,450,3350,{"$f":"ROUNDDOWN((IF(AA264>0,IFERROR(IF(AVERAGE(DataInput!Q263:Q264)>AVERAGE(AA264,AA263),ROUNDDOWN(((((AA263-Z263)+(AA264-Z264))/2)*(A264-A263))/27,0),IF(((((DataInput!Q264-Z264)+(DataInput!Q263-Z263))/2)*(A264-A263))/27+S263+T263>0,ROUNDDOWN(((((DataInput!Q264-Z264)+(DataInput!Q263-Z263))/2)*(A264-A263))/27+S263+T263,0),0)),0),0)*$X$5),1)","v":624},176,{"$f":"ROUNDDOWN((IF(AC264>0,IFERROR(IF(((((DataInput!Q263-AC263)+(DataInput!Q264-AC264))/2)*(A264-A263))/27+S263+T263>0,ROUNDDOWN(((((DataInput!Q263-AC263)+(DataInput!Q264-AC264))/2)*(A264-A263))/27+S263+T263,0),0),0),0)*$X$5),1)","v":952.9},{"$f":"DataInput!U263","v":229},{"$f":"DataInput!S263","v":110},154,75]
[{"$f":"IF(DataInput!A264<>\"\",DataInput!A264,\"\")","v":87675},{"$f":"SUM(DataInput!C264,DataInput!Y264)+(DataInput!U264-DataInput!E264)","v":1480},{"$f":"SUM(DataInput!D264,DataInput!Z264)","v":1250},{"$f":"DataInput!U264","v":230},{"$f":"SUM(DataInput!F264,DataInput!AB264)","v":0},{"$f":"SUM(DataInput!G264,DataInput!AC264)","v":0},{"$f":"SUM(DataInput!H264,DataInput!AD264)","v":0},{"$f":"DataInput!I264","v":27},{"$f":"SUM(DataInput!J264,DataInput!AF264)","v":0},{"$f":"SUM(DataInput!K264,DataInput!AG264)","v":0},{"$f":"SUM(DataInput!L264,DataInput!AH264)","v":0},{"$f":"SUM(DataInput!M264,DataInput!AI264)","v":0},{"$f":"SUM(DataInput!N264,DataInput!AJ264)","v":0},{"$f":"SUM(DataInput!O264,DataInput!AK264)","v":0},{"$f":"DataInput!P264","v":0},null,1250,{"$f":"DataInput!R264","v":679},{"$f":"DataInput!Y264","v":95},{"$f":"IF(DataInput!U264-DataInput!E264>0,DataInput!U264-DataInput!E264,\"\")","v":110},{"$f":"IF(DataInput!W264-DataInput!I264>0,DataInput!W264-DataInput!I264,\"\")","v":""},null,884,1149.2,100.8,450,3350,{"$f":"ROUNDDOWN((IF(AA265>0,IFERROR(IF(AVERAGE(DataInput!Q264:Q265)>AVERAGE(AA265,AA264),ROUNDDOWN(((((AA264-Z264)+(AA265-Z265))/2)*(A265-A264))/27,0),IF(((((DataInput!Q265-Z265)+(DataInput!Q264-Z264))/2)*(A265-A264))/27+S264+T264>0,ROUNDDOWN(((((DataInput!Q265-Z265)+(DataInput!Q264-Z264))/2)*(A265-A264))/27+S264+T264,0),0)),0),0)*$X$5),1)","v":607.1},176,{"$f":"ROUNDDOWN((IF(AC265>0,IFERROR(IF(((((DataInput!Q264-AC264)+(DataInput!Q265-AC265))/2)*(A265-A264))/27+S264+T264>0,ROUNDDOWN(((((DataInput!Q264-AC264)+(DataInput!Q265-AC265))/2)*(A265-A264))/27+S264+T264,0),0),0),0)*$X$5),1)","v":937.3},{"$f":"DataInput!U264","v":230},{"$f":"DataInput!S264","v":110},154,76]
[{"$f":"IF(DataInput!A265<>\"\",DataInput!A265,\"\")","v":87700},{"$f":"SUM(DataInput!C265,DataInput!Y265)+(DataInput!U265-DataInput!E265)","v":1532},{"$f":"SUM(DataInput!D265,DataInput!Z265)","v":1300},{"$f":"DataInput!U265","v":231},{"$f":"SUM(DataInput!F265,DataInput!AB265)","v":0},{"$f":"SUM(DataInput!G265,DataInput!AC265)","v":0},{"$f":"SUM(DataInput!H265,DataInput!AD265)","v":0},{"$f":"DataInput!I265","v":27},{"$f":"SUM(DataInput!J265,DataInput!AF265)","v":0},{"$f":"SUM(DataInput!K265,DataInput!AG265)","v":0},{"$f":"SUM(DataInput!L265,DataInput!AH265)","v":0},{"$f":"SUM(DataInput!M265,DataInput!AI265)","v":0},{"$f":"SUM(DataInput!N265,DataInput!AJ265)","v":0},{"$f":"SUM(DataInput!O265,DataInput!AK265)","v":0},{"$f":"DataInput!P265","v":0},null,1300,{"$f":"DataInput!R265","v":676},{"$f":"DataInput!Y265","v":95},{"$f":"IF(DataInput!U265-DataInput!E265>0,DataInput!U265-DataInput!E265,\"\")","v":111},{"$f":"IF(DataInput!W265-DataInput!I265>0,DataInput!W265-DataInput!I265,\"\")","v":""},null,882,1146.5999999999999,153.4,450,3350,{"$f":"ROUNDDOWN((IF(AA266>0,IFERROR(IF(AVERAGE(DataInput!Q265:Q266)>AVERAGE(AA266,AA265),ROUNDDOWN(((((AA265-Z265)+(AA266-Z266))/2)*(A266-A265))/27,0),IF(((((DataInput!Q266-Z266)+(DataInput!Q265-Z265))/2)*(A266-A265))/27+S265+T265>0,ROUNDDOWN(((((DataInput!Q266-Z266)+(DataInput!Q265-Z265))/2)*(A266-A265))/27+S265+T265,0),0)),0),0)*$X$5),1)","v":604.5},176,{"$f":"ROUNDDOWN((IF(AC266>0,IFERROR(IF(((((DataInput!Q265-AC265)+(DataInput!Q266-AC266))/2)*(A266-A265))/27+S265+T265>0,ROUNDDOWN(((((DataInput!Q265-AC265)+(DataInput!Q266-AC266))/2)*(A266-A265))/27+S265+T265,0),0),0),0)*$X$5),1)","v":934.7},{"$f":"DataInput!U265","v":231},{"$f":"DataInput!S265","v":111},155.4,75.599999999999994]
[{"$f":"IF(DataInput!A266<>\"\",DataInput!A266,\"\")","v":87725},{"$f":"SUM(DataInput!C266,DataInput!Y266)+(DataInput!U266-DataInput!E266)","v":1597},{"$f":"SUM(DataInput!D266,DataInput!Z266)","v":1364},{"$f":"DataInput!U266","v":233},{"$f":"SUM(DataInput!F266,DataInput!AB266)","v":0},{"$f":"SUM(DataInput!G266,DataInput!AC266)","v":0},{"$f":"SUM(DataInput!H266,DataInput!AD266)","v":0},{"$f":"DataInput!I266","v":27},{"$f":"SUM(DataInput!J266,DataInput!AF266)","v":0},{"$f":"SUM(DataInput!K266,DataInput!AG266)","v":0},{"$f":"SUM(DataInput!L266,DataInput!AH266)","v":0},{"$f":"SUM(DataInput!M266,DataInput!AI266)","v":0},{"$f":"SUM(DataInput!N266,DataInput!AJ266)","v":0},{"$f":"SUM(DataInput!O266,DataInput!AK266)","v":0},{"$f":"DataInput!P266","v":0},null,1364,{"$f":"DataInput!R266","v":682},{"$f":"DataInput!Y266","v":95},{"$f":"IF(DataInput!U266-DataInput!E266>0,DataInput!U266-DataInput!E266,\"\")","v":112},{"$f":"IF(DataInput!W266-DataInput!I266>0,DataInput!W266-DataInput!I266,\"\")","v":""},null,889,1155.7,208.3,450,3350,{"$f":"ROUNDDOWN((IF(AA267>0,IFERROR(IF(AVERAGE(DataInput!Q266:Q267)>AVERAGE(AA267,AA266),ROUNDDOWN(((((AA266-Z266)+(AA267-Z267))/2)*(A267-A266))/27,0),IF(((((DataInput!Q267-Z267)+(DataInput!Q266-Z266))/2)*(A267-A266))/27+S266+T266>0,ROUNDDOWN(((((DataInput!Q267-Z267)+(DataInput!Q266-Z266))/2)*(A267-A266))/27+S266+T266,0),0)),0),0)*$X$5),1)","v":613.6},176,{"$f":"ROUNDDOWN((IF(AC267>0,IFERROR(IF(((((DataInput!Q266-AC266)+(DataInput!Q267-AC267))/2)*(A267-A266))/27+S266+T266>0,ROUNDDOWN(((((DataInput!Q266-AC266)+(DataInput!Q267-AC267))/2)*(A267-A266))/27+S266+T266,0),0),0),0)*$X$5),1)","v":942.5},{"$f":"DataInput!U266","v":233},{"$f":"DataInput!S266","v":112},156.80000000000001,76.2]
[{"$f":"IF(DataInput!A267<>\"\",DataInput!A267,\"\")","v":87750},{"$f":"SUM(DataInput!C267,DataInput!Y267)+(DataInput!U267-DataInput!E267)","v":1668},{"$f":"SUM(DataInput!D267,DataInput!Z267)","v":1434},{"$f":"DataInput!U267","v":234},{"$f":"SUM(DataInput!F267,DataInput!AB267)","v":0},{"$f":"SUM(DataInput!G267,DataInput!AC267)","v":0},{"$f":"SUM(DataInput!H267,DataInput!AD267)","v":0},{"$f":"DataInput!I267","v":27},{"$f":"SUM(DataInput!J267,DataInput!AF267)","v":0},{"$f":"SUM(DataInput!K267,DataInput!AG267)","v":0},{"$f":"SUM(DataInput!L267,DataInput!AH267)","v":0},{"$f":"SUM(DataInput!M267,DataInput!AI267)","v":0},{"$f":"SUM(DataInput!N267,DataInput!AJ267)","v":0},{"$f":"SUM(DataInput!O267,DataInput!AK267)","v":0},{"$f":"DataInput!P267","v":0},null,1434,{"$f":"DataInput!R267","v":688},{"$f":"DataInput!Y267","v":95},{"$f":"IF(DataInput!U267-DataInput!E267>0,DataInput!U267-DataInput!E267,\"\")","v":112},{"$f":"IF(DataInput!W267-DataInput!I267>0,DataInput!W267-DataInput!I267,\"\")","v":""},null,895,1163.5,270.5,450,3350,{"$f":"ROUNDDOWN((IF(AA268>0,IFERROR(IF(AVERAGE(DataInput!Q267:Q268)>AVERAGE(AA268,AA267),ROUNDDOWN(((((AA267-Z267)+(AA268-Z268))/2)*(A268-A267))/27,0),IF(((((DataInput!Q268-Z268)+(DataInput!Q267-Z267))/2)*(A268-A267))/27+S267+T267>0,ROUNDDOWN(((((DataInput!Q268-Z268)+(DataInput!Q267-Z267))/2)*(A268-A267))/27+S267+T267,0),0)),0),0)*$X$5),1)","v":621.4},176,{"$f":"ROUNDDOWN((IF(AC268>0,IFERROR(IF(((((DataInput!Q267-AC267)+(DataInput!Q268-AC268))/2)*(A268-A267))/27+S267+T267>0,ROUNDDOWN(((((DataInput!Q267-AC267)+(DataInput!Q268-AC268))/2)*(A268-A267))/27+S267+T267,0),0),0),0)*$X$5),1)","v":951.6},{"$f":"DataInput!U267","v":234},{"$f":"DataInput!S267","v":113},158.19999999999999,75.8]
[{"$f":"IF(DataInput!A268<>\"\",DataInput!A268,\"\")","v":87775},{"$f":"SUM(DataInput!C268,DataInput!Y268)+(DataInput!U268-DataInput!E268)","v":1721},{"$f":"SUM(DataInput!D268,DataInput!Z268)","v":1487},{"$f":"DataInput!U268","v":234},{"$f":"SUM(DataInput!F268,DataInput!AB268)","v":0},{"$f":"SUM(DataInput!G268,DataInput!AC268)","v":0},{"$f":"SUM(DataInput!H268,DataInput!AD268)","v":0},{"$f":"DataInput!I268","v":27},{"$f":"SUM(DataInput!J268,DataInput!AF268)","v":0},{"$f":"SUM(DataInput!K268,DataInput!AG268)","v":0},{"$f":"SUM(DataInput!L268,DataInput!AH268)","v":0},{"$f":"SUM(DataInput!M268,DataInput!AI268)","v":0},{"$f":"SUM(DataInput!N268,DataInput!AJ268)","v":0},{"$f":"SUM(DataInput!O268,DataInput!AK268)","v":0},{"$f":"DataInput!P268","v":0},null,1487,{"$f":"DataInput!R268","v":688},{"$f":"DataInput!Y268","v":95},{"$f":"IF(DataInput!U268-DataInput!E268>0,DataInput!U268-DataInput!E268,\"\")","v":111},{"$f":"IF(DataInput!W268-DataInput!I268>0,DataInput!W268-DataInput!I268,\"\")","v":""},null,894,1162.2,324.8,450,3350,{"$f":"ROUNDDOWN((IF(AA269>0,IFERROR(IF(AVERAGE(DataInput!Q268:Q269)>AVERAGE(AA269,AA268),ROUNDDOWN(((((AA268-Z268)+(AA269-Z269))/2)*(A269-A268))/27,0),IF(((((DataInput!Q269-Z269)+(DataInput!Q268-Z268))/2)*(A269-A268))/27+S268+T268>0,ROUNDDOWN(((((DataInput!Q269-Z269)+(DataInput!Q268-Z268))/2)*(A269-A268))/27+S268+T268,0),0)),0),0)*$X$5),1)","v":620.1},176,{"$f":"ROUNDDOWN((IF(AC269>0,IFERROR(IF(((((DataInput!Q268-AC268)+(DataInput!Q269-AC269))/2)*(A269-A268))/27+S268+T268>0,ROUNDDOWN(((((DataInput!Q268-AC268)+(DataInput!Q269-AC269))/2)*(A269-A268))/27+S268+T268,0),0),0),0)*$X$5),1)","v":950.3},{"$f":"DataInput!U268","v":234},{"$f":"DataInput!S268","v":113},158.19999999999999,75.8]
[{"$f":"IF(DataInput!A269<>\"\",DataInput!A269,\"\")","v":87800},{"$f":"SUM(DataInput!C269,DataInput!Y269)+(DataInput!U269-DataInput!E269)","v":1771},{"$f":"SUM(DataInput!D269,DataInput!Z269)","v":1536},{"$f":"DataInput!U269","v":235},{"$f":"SUM(DataInput!F269,DataInput!AB269)","v":0},{"$f":"SUM(DataInput!G269,DataInput!AC269)","v":0},{"$f":"SUM(DataInput!H269,DataInput!AD269)","v":0},{"$f":"DataInput!I269","v":27},{"$f":"SUM(DataInput!J269,DataInput!AF269)","v":0},{"$f":"SUM(DataInput!K269,DataInput!AG269)","v":0},{"$f":"SUM(DataInput!L269,DataInput!AH269)","v":0},{"$f":"SUM(DataInput!M269,DataInput!AI269)","v":0},{"$f":"SUM(DataInput!N269,DataInput!AJ269)","v":0},{"$f":"SUM(DataInput!O269,DataInput!AK269)","v":0},{"$f":"DataInput!P269","v":0},null,1536,{"$f":"DataInput!R269","v":686},{"$f":"DataInput!Y269","v":95},{"$f":"IF(DataInput!U269-DataInput!E269>0,DataInput!U269-DataInput!E269,\"\")","v":111},{"$f":"IF(DataInput!W269-DataInput!I269>0,DataInput!W269-DataInput!I269,\"\")","v":""},null,892,1159.5999999999999,376.4,450,3350,{"$f":"ROUNDDOWN((IF(AA270>0,IFERROR(IF(AVERAGE(DataInput!Q269:Q270)>AVERAGE(AA270,AA269),ROUNDDOWN(((((AA269-Z269)+(AA270-Z270))/2)*(A270-A269))/27,0),IF(((((DataInput!Q270-Z270)+(DataInput!Q269-Z269))/2)*(A270-A269))/27+S269+T269>0,ROUNDDOWN(((((DataInput!Q270-Z270)+(DataInput!Q269-Z269))/2)*(A270-A269))/27+S269+T269,0),0)),0),0)*$X$5),1)","v":617.5},176,{"$f":"ROUNDDOWN((IF(AC270>0,IFERROR(IF(((((DataInput!Q269-AC269)+(DataInput!Q270-AC270))/2)*(A270-A269))/27+S269+T269>0,ROUNDDOWN(((((DataInput!Q269-AC269)+(DataInput!Q270-AC270))/2)*(A270-A269))/27+S269+T269,0),0),0),0)*$X$5),1)","v":947.7},{"$f":"DataInput!U269","v":235},{"$f":"DataInput!S269","v":114},159.6,75.400000000000006]
[{"$f":"IF(DataInput!A270<>\"\",DataInput!A270,\"\")","v":87825},{"$f":"SUM(DataInput!C270,DataInput!Y270)+(DataInput!U270-DataInput!E270)","v":1811},{"$f":"SUM(DataInput!D270,DataInput!Z270)","v":1588},{"$f":"DataInput!U270","v":223},{"$f":"SUM(DataInput!F270,DataInput!AB270)","v":0},{"$f":"SUM(DataInput!G270,DataInput!AC270)","v":0},{"$f":"SUM(DataInput!H270,DataInput!AD270)","v":0},{"$f":"DataInput!I270","v":27},{"$f":"SUM(DataInput!J270,DataInput!AF270)","v":0},{"$f":"SUM(DataInput!K270,DataInput!AG270)","v":0},{"$f":"SUM(DataInput!L270,DataInput!AH270)","v":0},{"$f":"SUM(DataInput!M270,DataInput!AI270)","v":0},{"$f":"SUM(DataInput!N270,DataInput!AJ270)","v":0},{"$f":"SUM(DataInput!O270,DataInput!AK270)","v":0},{"$f":"DataInput!P270","v":0},null,1588,{"$f":"DataInput!R270","v":682},{"$f":"DataInput!Y270","v":95},{"$f":"IF(DataInput!U270-DataInput!E270>0,DataInput!U270-DataInput!E270,\"\")","v":103},{"$f":"IF(DataInput!W270-DataInput!I270>0,DataInput!W270-DataInput!I270,\"\")","v":""},null,880,1144,444,450,3350,{"$f":"ROUNDDOWN((IF(AA271>0,IFERROR(IF(AVERAGE(DataInput!Q270:Q271)>AVERAGE(AA271,AA270),ROUNDDOWN(((((AA270-Z270)+(AA271-Z271))/2)*(A271-A270))/27,0),IF(((((DataInput!Q271-Z271)+(DataInput!Q270-Z270))/2)*(A271-A270))/27+S270+T270>0,ROUNDDOWN(((((DataInput!Q271-Z271)+(DataInput!Q270-Z270))/2)*(A271-A270))/27+S270+T270,0),0)),0),0)*$X$5),1)","v":601.9},176,{"$f":"ROUNDDOWN((IF(AC271>0,IFERROR(IF(((((DataInput!Q270-AC270)+(DataInput!Q271-AC271))/2)*(A271-A270))/27+S270+T270>0,ROUNDDOWN(((((DataInput!Q270-AC270)+(DataInput!Q271-AC271))/2)*(A271-A270))/27+S270+T270,0),0),0),0)*$X$5),1)","v":930.8},{"$f":"DataInput!U270","v":223},{"$f":"DataInput!S270","v":114},159.6,63.4]
[{"$f":"IF(DataInput!A271<>\"\",DataInput!A271,\"\")","v":87850},{"$f":"SUM(DataInput!C271,DataInput!Y271)+(DataInput!U271-DataInput!E271)","v":1851},{"$f":"SUM(DataInput!D271,DataInput!Z271)","v":1628},{"$f":"DataInput!U271","v":223},{"$f":"SUM(DataInput!F271,DataInput!AB271)","v":0},{"$f":"SUM(DataInput!G271,DataInput!AC271)","v":0},{"$f":"SUM(DataInput!H271,DataInput!AD271)","v":0},{"$f":"DataInput!I271","v":27},{"$f":"SUM(DataInput!J271,DataInput!AF271)","v":0},{"$f":"SUM(DataInput!K271,DataInput!AG271)","v":0},{"$f":"SUM(DataInput!L271,DataInput!AH271)","v":0},{"$f":"SUM(DataInput!M271,DataInput!AI271)","v":0},{"$f":"SUM(DataInput!N271,DataInput!AJ271)","v":0},{"$f":"SUM(DataInput!O271,DataInput!AK271)","v":0},{"$f":"DataInput!P271","v":0},null,1628,{"$f":"DataInput!R271","v":669},{"$f":"DataInput!Y271","v":95},{"$f":"IF(DataInput!U271-DataInput!E271>0,DataInput!U271-DataInput!E271,\"\")","v":102},{"$f":"IF(DataInput!W271-DataInput!I271>0,DataInput!W271-DataInput!I271,\"\")","v":""},null,866,1125.8,502.2,450,3350,{"$f":"ROUNDDOWN((IF(AA272>0,IFERROR(IF(AVERAGE(DataInput!Q271:Q272)>AVERAGE(AA272,AA271),ROUNDDOWN(((((AA271-Z271)+(AA272-Z272))/2)*(A272-A271))/27,0),IF(((((DataInput!Q272-Z272)+(DataInput!Q271-Z271))/2)*(A272-A271))/27+S271+T271>0,ROUNDDOWN(((((DataInput!Q272-Z272)+(DataInput!Q271-Z271))/2)*(A272-A271))/27+S271+T271,0),0)),0),0)*$X$5),1)","v":583.70000000000005},176,{"$f":"ROUNDDOWN((IF(AC272>0,IFERROR(IF(((((DataInput!Q271-AC271)+(DataInput!Q272-AC272))/2)*(A272-A271))/27+S271+T271>0,ROUNDDOWN(((((DataInput!Q271-AC271)+(DataInput!Q272-AC272))/2)*(A272-A271))/27+S271+T271,0),0),0),0)*$X$5),1)","v":913.9},{"$f":"DataInput!U271","v":223},{"$f":"DataInput!S271","v":114},159.6,63.4]
[{"$f":"IF(DataInput!A272<>\"\",DataInput!A272,\"\")","v":87875},{"$f":"SUM(DataInput!C272,DataInput!Y272)+(DataInput!U272-DataInput!E272)","v":1912},{"$f":"SUM(DataInput!D272,DataInput!Z272)","v":1674},{"$f":"DataInput!U272","v":238},{"$f":"SUM(DataInput!F272,DataInput!AB272)","v":0},{"$f":"SUM(DataInput!G272,DataInput!AC272)","v":0},{"$f":"SUM(DataInput!H272,DataInput!AD272)","v":0},{"$f":"DataInput!I272","v":27},{"$f":"SUM(DataInput!J272,DataInput!AF272)","v":0},{"$f":"SUM(DataInput!K272,DataInput!AG272)","v":0},{"$f":"SUM(DataInput!L272,DataInput!AH272)","v":0},{"$f":"SUM(DataInput!M272,DataInput!AI272)","v":0},{"$f":"SUM(DataInput!N272,DataInput!AJ272)","v":0},{"$f":"SUM(DataInput!O272,DataInput!AK272)","v":0},{"$f":"DataInput!P272","v":0},null,1674,{"$f":"DataInput!R272","v":652},{"$f":"DataInput!Y272","v":95},{"$f":"IF(DataInput!U272-DataInput!E272>0,DataInput!U272-DataInput!E272,\"\")","v":108},{"$f":"IF(DataInput!W272-DataInput!I272>0,DataInput!W272-DataInput!I272,\"\")","v":""},null,855,1111.5,562.5,450,3350,{"$f":"ROUNDDOWN((IF(AA273>0,IFERROR(IF(AVERAGE(DataInput!Q272:Q273)>AVERAGE(AA273,AA272),ROUNDDOWN(((((AA272-Z272)+(AA273-Z273))/2)*(A273-A272))/27,0),IF(((((DataInput!Q273-Z273)+(DataInput!Q272-Z272))/2)*(A273-A272))/27+S272+T272>0,ROUNDDOWN(((((DataInput!Q273-Z273)+(DataInput!Q272-Z272))/2)*(A273-A272))/27+S272+T272,0),0)),0),0)*$X$5),1)","v":569.4},176,{"$f":"ROUNDDOWN((IF(AC273>0,IFERROR(IF(((((DataInput!Q272-AC272)+(DataInput!Q273-AC273))/2)*(A273-A272))/27+S272+T272>0,ROUNDDOWN(((((DataInput!Q272-AC272)+(DataInput!Q273-AC273))/2)*(A273-A272))/27+S272+T272,0),0),0),0)*$X$5),1)","v":898.3},{"$f":"DataInput!U272","v":238},{"$f":"DataInput!S272","v":115},161,77]
[{"$f":"IF(DataInput!A273<>\"\",DataInput!A273,\"\")","v":87900},{"$f":"SUM(DataInput!C273,DataInput!Y273)+(DataInput!U273-DataInput!E273)","v":1985},{"$f":"SUM(DataInput!D273,DataInput!Z273)","v":1744},{"$f":"DataInput!U273","v":241},{"$f":"SUM(DataInput!F273,DataInput!AB273)","v":0},{"$f":"SUM(DataInput!G273,DataInput!AC273)","v":0},{"$f":"SUM(DataInput!H273,DataInput!AD273)","v":0},{"$f":"DataInput!I273","v":27},{"$f":"SUM(DataInput!J273,DataInput!AF273)","v":0},{"$f":"SUM(DataInput!K273,DataInput!AG273)","v":0},{"$f":"SUM(DataInput!L273,DataInput!AH273)","v":0},{"$f":"SUM(DataInput!M273,DataInput!AI273)","v":0},{"$f":"SUM(DataInput!N273,DataInput!AJ273)","v":0},{"$f":"SUM(DataInput!O273,DataInput!AK273)","v":0},{"$f":"DataInput!P273","v":0},null,1744,{"$f":"DataInput!R273","v":635},{"$f":"DataInput!Y273","v":95},{"$f":"IF(DataInput!U273-DataInput!E273>0,DataInput!U273-DataInput!E273,\"\")","v":105},{"$f":"IF(DataInput!W273-DataInput!I273>0,DataInput!W273-DataInput!I273,\"\")","v":""},null,835,1085.5,658.5,450,3350,{"$f":"ROUNDDOWN((IF(AA274>0,IFERROR(IF(AVERAGE(DataInput!Q273:Q274)>AVERAGE(AA274,AA273),ROUNDDOWN(((((AA273-Z273)+(AA274-Z274))/2)*(A274-A273))/27,0),IF(((((DataInput!Q274-Z274)+(DataInput!Q273-Z273))/2)*(A274-A273))/27+S273+T273>0,ROUNDDOWN(((((DataInput!Q274-Z274)+(DataInput!Q273-Z273))/2)*(A274-A273))/27+S273+T273,0),0)),0),0)*$X$5),1)","v":543.4},176,{"$f":"ROUNDDOWN((IF(AC274>0,IFERROR(IF(((((DataInput!Q273-AC273)+(DataInput!Q274-AC274))/2)*(A274-A273))/27+S273+T273>0,ROUNDDOWN(((((DataInput!Q273-AC273)+(DataInput!Q274-AC274))/2)*(A274-A273))/27+S273+T273,0),0),0),0)*$X$5),1)","v":873.6},{"$f":"DataInput!U273","v":241},{"$f":"DataInput!S273","v":116},162.4,78.599999999999994]
[{"$f":"IF(DataInput!A274<>\"\",DataInput!A274,\"\")","v":87925},{"$f":"SUM(DataInput!C274,DataInput!Y274)+(DataInput!U274-DataInput!E274)","v":2030},{"$f":"SUM(DataInput!D274,DataInput!Z274)","v":1797},{"$f":"DataInput!U274","v":233},{"$f":"SUM(DataInput!F274,DataInput!AB274)","v":0},{"$f":"SUM(DataInput!G274,DataInput!AC274)","v":0},{"$f":"SUM(DataInput!H274,DataInput!AD274)","v":0},{"$f":"DataInput!I274","v":27},{"$f":"SUM(DataInput!J274,DataInput!AF274)","v":0},{"$f":"SUM(DataInput!K274,DataInput!AG274)","v":0},{"$f":"SUM(DataInput!L274,DataInput!AH274)","v":0},{"$f":"SUM(DataInput!M274,DataInput!AI274)","v":0},{"$f":"SUM(DataInput!N274,DataInput!AJ274)","v":0},{"$f":"SUM(DataInput!O274,DataInput!AK274)","v":0},{"$f":"DataInput!P274","v":0},null,1797,{"$f":"DataInput!R274","v":619},{"$f":"DataInput!Y274","v":95},{"$f":"IF(DataInput!U274-DataInput!E274>0,DataInput!U274-DataInput!E274,\"\")","v":100},{"$f":"IF(DataInput!W274-DataInput!I274>0,DataInput!W274-DataInput!I274,\"\")","v":""},null,814,1058.2,738.8,450,3350,{"$f":"ROUNDDOWN((IF(AA275>0,IFERROR(IF(AVERAGE(DataInput!Q274:Q275)>AVERAGE(AA275,AA274),ROUNDDOWN(((((AA274-Z274)+(AA275-Z275))/2)*(A275-A274))/27,0),IF(((((DataInput!Q275-Z275)+(DataInput!Q274-Z274))/2)*(A275-A274))/27+S274+T274>0,ROUNDDOWN(((((DataInput!Q275-Z275)+(DataInput!Q274-Z274))/2)*(A275-A274))/27+S274+T274,0),0)),0),0)*$X$5),1)","v":514.79999999999995},176,{"$f":"ROUNDDOWN((IF(AC275>0,IFERROR(IF(((((DataInput!Q274-AC274)+(DataInput!Q275-AC275))/2)*(A275-A274))/27+S274+T274>0,ROUNDDOWN(((((DataInput!Q274-AC274)+(DataInput!Q275-AC275))/2)*(A275-A274))/27+S274+T274,0),0),0),0)*$X$5),1)","v":845},{"$f":"DataInput!U274","v":233},{"$f":"DataInput!S274","v":110},154,79]
[{"$f":"IF(DataInput!A275<>\"\",DataInput!A275,\"\")","v":87950},{"$f":"SUM(DataInput!C275,DataInput!Y275)+(DataInput!U275-DataInput!E275)","v":1947},{"$f":"SUM(DataInput!D275,DataInput!Z275)","v":1784},{"$f":"DataInput!U275","v":164},{"$f":"SUM(DataInput!F275,DataInput!AB275)","v":0},{"$f":"SUM(DataInput!G275,DataInput!AC275)","v":0},{"$f":"SUM(DataInput!H275,DataInput!AD275)","v":0},{"$f":"DataInput!I275","v":29},{"$f":"SUM(DataInput!J275,DataInput!AF275)","v":0},{"$f":"SUM(DataInput!K275,DataInput!AG275)","v":0},{"$f":"SUM(DataInput!L275,DataInput!AH275)","v":0},{"$f":"SUM(DataInput!M275,DataInput!AI275)","v":0},{"$f":"SUM(DataInput!N275,DataInput!AJ275)","v":0},{"$f":"SUM(DataInput!O275,DataInput!AK275)","v":0},{"$f":"DataInput!P275","v":0},null,1784,{"$f":"DataInput!R275","v":702},{"$f":"DataInput!Y275","v":95},{"$f":"IF(DataInput!U275-DataInput!E275>0,DataInput!U275-DataInput!E275,\"\")","v":34},{"$f":"IF(DataInput!W275-DataInput!I275>0,DataInput!W275-DataInput!I275,\"\")","v":""},null,831,1080.3,703.7,450,3350,{"$f":"ROUNDDOWN((IF(AA276>0,IFERROR(IF(AVERAGE(DataInput!Q275:Q276)>AVERAGE(AA276,AA275),ROUNDDOWN(((((AA275-Z275)+(AA276-Z276))/2)*(A276-A275))/27,0),IF(((((DataInput!Q276-Z276)+(DataInput!Q275-Z275))/2)*(A276-A275))/27+S275+T275>0,ROUNDDOWN(((((DataInput!Q276-Z276)+(DataInput!Q275-Z275))/2)*(A276-A275))/27+S275+T275,0),0)),0),0)*$X$5),1)","v":538.20000000000005},176,{"$f":"ROUNDDOWN((IF(AC276>0,IFERROR(IF(((((DataInput!Q275-AC275)+(DataInput!Q276-AC276))/2)*(A276-A275))/27+S275+T275>0,ROUNDDOWN(((((DataInput!Q275-AC275)+(DataInput!Q276-AC276))/2)*(A276-A275))/27+S275+T275,0),0),0),0)*$X$5),1)","v":868.4},{"$f":"DataInput!U275","v":164},{"$f":"DataInput!S275","v":108},151.19999999999999,12.8]
[{"$f":"IF(DataInput!A276<>\"\",DataInput!A276,\"\")","v":87975},{"$f":"SUM(DataInput!C276,DataInput!Y276)+(DataInput!U276-DataInput!E276)","v":1717},{"$f":"SUM(DataInput!D276,DataInput!Z276)","v":1545},{"$f":"DataInput!U276","v":172},{"$f":"SUM(DataInput!F276,DataInput!AB276)","v":0},{"$f":"SUM(DataInput!G276,DataInput!AC276)","v":0},{"$f":"SUM(DataInput!H276,DataInput!AD276)","v":0},{"$f":"DataInput!I276","v":18},{"$f":"SUM(DataInput!J276,DataInput!AF276)","v":0},{"$f":"SUM(DataInput!K276,DataInput!AG276)","v":0},{"$f":"SUM(DataInput!L276,DataInput!AH276)","v":0},{"$f":"SUM(DataInput!M276,DataInput!AI276)","v":0},{"$f":"SUM(DataInput!N276,DataInput!AJ276)","v":0},{"$f":"SUM(DataInput!O276,DataInput!AK276)","v":0},{"$f":"DataInput!P276","v":0},null,1545,{"$f":"DataInput!R276","v":962},{"$f":"DataInput!Y276","v":78},{"$f":"IF(DataInput!U276-DataInput!E276>0,DataInput!U276-DataInput!E276,\"\")","v":50},{"$f":"IF(DataInput!W276-DataInput!I276>0,DataInput!W276-DataInput!I276,\"\")","v":""},null,1090,1417,128,450,3350,{"$f":"ROUNDDOWN((IF(AA277>0,IFERROR(IF(AVERAGE(DataInput!Q276:Q277)>AVERAGE(AA277,AA276),ROUNDDOWN(((((AA276-Z276)+(AA277-Z277))/2)*(A277-A276))/27,0),IF(((((DataInput!Q277-Z277)+(DataInput!Q276-Z276))/2)*(A277-A276))/27+S276+T276>0,ROUNDDOWN(((((DataInput!Q277-Z277)+(DataInput!Q276-Z276))/2)*(A277-A276))/27+S276+T276,0),0)),0),0)*$X$5),1)","v":874.9},176,{"$f":"ROUNDDOWN((IF(AC277>0,IFERROR(IF(((((DataInput!Q276-AC276)+(DataInput!Q277-AC277))/2)*(A277-A276))/27+S276+T276>0,ROUNDDOWN(((((DataInput!Q276-AC276)+(DataInput!Q277-AC277))/2)*(A277-A276))/27+S276+T276,0),0),0),0)*$X$5),1)","v":1205.0999999999999},{"$f":"DataInput!U276","v":172},{"$f":"DataInput!S276","v":113},158.19999999999999,13.8]
[{"$f":"IF(DataInput!A277<>\"\",DataInput!A277,\"\")","v":88000},{"$f":"SUM(DataInput!C277,DataInput!Y277)+(DataInput!U277-DataInput!E277)","v":1279},{"$f":"SUM(DataInput!D277,DataInput!Z277)","v":1040},{"$f":"DataInput!U277","v":239},{"$f":"SUM(DataInput!F277,DataInput!AB277)","v":0},{"$f":"SUM(DataInput!G277,DataInput!AC277)","v":0},{"$f":"SUM(DataInput!H277,DataInput!AD277)","v":0},{"$f":"DataInput!I277","v":2},{"$f":"SUM(DataInput!J277,DataInput!AF277)","v":0},{"$f":"SUM(DataInput!K277,DataInput!AG277)","v":0},{"$f":"SUM(DataInput!L277,DataInput!AH277)","v":0},{"$f":"SUM(DataInput!M277,DataInput!AI277)","v":0},{"$f":"SUM(DataInput!N277,DataInput!AJ277)","v":0},{"$f":"SUM(DataInput!O277,DataInput!AK277)","v":0},{"$f":"DataInput!P277","v":0},null,1040,{"$f":"DataInput!R277","v":1312},{"$f":"DataInput!Y277","v":0},{"$f":"IF(DataInput!U277-DataInput!E277>0,DataInput!U277-DataInput!E277,\"\")","v":133},{"$f":"IF(DataInput!W277-DataInput!I277>0,DataInput!W277-DataInput!I277,\"\")","v":27},null,1472,1913.6,-873.6,450,3350,{"$f":"ROUNDDOWN((IF(AA278>0,IFERROR(IF(AVERAGE(DataInput!Q277:Q278)>AVERAGE(AA278,AA277),ROUNDDOWN(((((AA277-Z277)+(AA278-Z278))/2)*(A278-A277))/27,0),IF(((((DataInput!Q278-Z278)+(DataInput!Q277-Z277))/2)*(A278-A277))/27+S277+T277>0,ROUNDDOWN(((((DataInput!Q278-Z278)+(DataInput!Q277-Z277))/2)*(A278-A277))/27+S277+T277,0),0)),0),0)*$X$5),1)","v":1336.4},176,{"$f":"ROUNDDOWN((IF(AC278>0,IFERROR(IF(((((DataInput!Q277-AC277)+(DataInput!Q278-AC278))/2)*(A278-A277))/27+S277+T277>0,ROUNDDOWN(((((DataInput!Q277-AC277)+(DataInput!Q278-AC278))/2)*(A278-A277))/27+S277+T277,0),0),0),0)*$X$5),1)","v":1666.6},{"$f":"DataInput!U277","v":239},{"$f":"DataInput!S277","v":113},158.19999999999999,80.8]
[{"$f":"IF(DataInput!A278<>\"\",DataInput!A278,\"\")","v":88025},{"$f":"SUM(DataInput!C278,DataInput!Y278)+(DataInput!U278-DataInput!E278)","v":797},{"$f":"SUM(DataInput!D278,DataInput!Z278)","v":560},{"$f":"DataInput!U278","v":237},{"$f":"SUM(DataInput!F278,DataInput!AB278)","v":0},{"$f":"SUM(DataInput!G278,DataInput!AC278)","v":0},{"$f":"SUM(DataInput!H278,DataInput!AD278)","v":0},{"$f":"DataInput!I278","v":0},{"$f":"SUM(DataInput!J278,DataInput!AF278)","v":0},{"$f":"SUM(DataInput!K278,DataInput!AG278)","v":0},{"$f":"SUM(DataInput!L278,DataInput!AH278)","v":0},{"$f":"SUM(DataInput!M278,DataInput!AI278)","v":0},{"$f":"SUM(DataInput!N278,DataInput!AJ278)","v":0},{"$f":"SUM(DataInput!O278,DataInput!AK278)","v":0},{"$f":"DataInput!P278","v":0},null,560,{"$f":"DataInput!R278","v":1705},{"$f":"DataInput!Y278","v":0},{"$f":"IF(DataInput!U278-DataInput!E278>0,DataInput!U278-DataInput!E278,\"\")","v":141},{"$f":"IF(DataInput!W278-DataInput!I278>0,DataInput!W278-DataInput!I278,\"\")","v":""},null,1846,2399.8000000000002,-1839.8,450,3350,{"$f":"ROUNDDOWN((IF(AA279>0,IFERROR(IF(AVERAGE(DataInput!Q278:Q279)>AVERAGE(AA279,AA278),ROUNDDOWN(((((AA278-Z278)+(AA279-Z279))/2)*(A279-A278))/27,0),IF(((((DataInput!Q279-Z279)+(DataInput!Q278-Z278))/2)*(A279-A278))/27+S278+T278>0,ROUNDDOWN(((((DataInput!Q279-Z279)+(DataInput!Q278-Z278))/2)*(A279-A278))/27+S278+T278,0),0)),0),0)*$X$5),1)","v":1857.7},176,{"$f":"ROUNDDOWN((IF(AC279>0,IFERROR(IF(((((DataInput!Q278-AC278)+(DataInput!Q279-AC279))/2)*(A279-A278))/27+S278+T278>0,ROUNDDOWN(((((DataInput!Q278-AC278)+(DataInput!Q279-AC279))/2)*(A279-A278))/27+S278+T278,0),0),0),0)*$X$5),1)","v":2187.9},{"$f":"DataInput!U278","v":237},{"$f":"DataInput!S278","v":113},158.19999999999999,78.8]
[{"$f":"IF(DataInput!A279<>\"\",DataInput!A279,\"\")","v":88050},{"$f":"SUM(DataInput!C279,DataInput!Y279)+(DataInput!U279-DataInput!E279)","v":434},{"$f":"SUM(DataInput!D279,DataInput!Z279)","v":196},{"$f":"DataInput!U279","v":238},{"$f":"SUM(DataInput!F279,DataInput!AB279)","v":0},{"$f":"SUM(DataInput!G279,DataInput!AC279)","v":0},{"$f":"SUM(DataInput!H279,DataInput!AD279)","v":0},{"$f":"DataInput!I279","v":0},{"$f":"SUM(DataInput!J279,DataInput!AF279)","v":0},{"$f":"SUM(DataInput!K279,DataInput!AG279)","v":0},{"$f":"SUM(DataInput!L279,DataInput!AH279)","v":0},{"$f":"SUM(DataInput!M279,DataInput!AI279)","v":0},{"$f":"SUM(DataInput!N279,DataInput!AJ279)","v":0},{"$f":"SUM(DataInput!O279,DataInput!AK279)","v":0},{"$f":"DataInput!P279","v":0},null,196,{"$f":"DataInput!R279","v":2064},{"$f":"DataInput!Y279","v":0},{"$f":"IF(DataInput!U279-DataInput!E279>0,DataInput!U279-DataInput!E279,\"\")","v":156},{"$f":"IF(DataInput!W279-DataInput!I279>0,DataInput!W279-DataInput!I279,\"\")","v":""},null,2220,2886,-2690,450,3350,{"$f":"ROUNDDOWN((IF(AA280>0,IFERROR(IF(AVERAGE(DataInput!Q279:Q280)>AVERAGE(AA280,AA279),ROUNDDOWN(((((AA279-Z279)+(AA280-Z280))/2)*(A280-A279))/27,0),IF(((((DataInput!Q280-Z280)+(DataInput!Q279-Z279))/2)*(A280-A279))/27+S279+T279>0,ROUNDDOWN(((((DataInput!Q280-Z280)+(DataInput!Q279-Z279))/2)*(A280-A279))/27+S279+T279,0),0)),0),0)*$X$5),1)","v":2343.9},176,{"$f":"ROUNDDOWN((IF(AC280>0,IFERROR(IF(((((DataInput!Q279-AC279)+(DataInput!Q280-AC280))/2)*(A280-A279))/27+S279+T279>0,ROUNDDOWN(((((DataInput!Q279-AC279)+(DataInput!Q280-AC280))/2)*(A280-A279))/27+S279+T279,0),0),0),0)*$X$5),1)","v":2672.8},{"$f":"DataInput!U279","v":238},{"$f":"DataInput!S279","v":113},158.19999999999999,79.8]
[{"$f":"IF(DataInput!A280<>\"\",DataInput!A280,\"\")","v":88075},{"$f":"SUM(DataInput!C280,DataInput!Y280)+(DataInput!U280-DataInput!E280)","v":291},{"$f":"SUM(DataInput!D280,DataInput!Z280)","v":70},{"$f":"DataInput!U280","v":221},{"$f":"SUM(DataInput!F280,DataInput!AB280)","v":0},{"$f":"SUM(DataInput!G280,DataInput!AC280)","v":0},{"$f":"SUM(DataInput!H280,DataInput!AD280)","v":0},{"$f":"DataInput!I280","v":0},{"$f":"SUM(DataInput!J280,DataInput!AF280)","v":0},{"$f":"SUM(DataInput!K280,DataInput!AG280)","v":0},{"$f":"SUM(DataInput!L280,DataInput!AH280)","v":0},{"$f":"SUM(DataInput!M280,DataInput!AI280)","v":0},{"$f":"SUM(DataInput!N280,DataInput!AJ280)","v":0},{"$f":"SUM(DataInput!O280,DataInput!AK280)","v":0},{"$f":"DataInput!P280","v":0},null,70,{"$f":"DataInput!R280","v":2224},{"$f":"DataInput!Y280","v":0},{"$f":"IF(DataInput!U280-DataInput!E280>0,DataInput!U280-DataInput!E280,\"\")","v":147},{"$f":"IF(DataInput!W280-DataInput!I280>0,DataInput!W280-DataInput!I280,\"\")","v":""},null,2371,3082.3,-3012.3,450,3350,{"$f":"ROUNDDOWN((IF(AA281>0,IFERROR(IF(AVERAGE(DataInput!Q280:Q281)>AVERAGE(AA281,AA280),ROUNDDOWN(((((AA280-Z280)+(AA281-Z281))/2)*(A281-A280))/27,0),IF(((((DataInput!Q281-Z281)+(DataInput!Q280-Z280))/2)*(A281-A280))/27+S280+T280>0,ROUNDDOWN(((((DataInput!Q281-Z281)+(DataInput!Q280-Z280))/2)*(A281-A280))/27+S280+T280,0),0)),0),0)*$X$5),1)","v":2538.9},176,{"$f":"ROUNDDOWN((IF(AC281>0,IFERROR(IF(((((DataInput!Q280-AC280)+(DataInput!Q281-AC281))/2)*(A281-A280))/27+S280+T280>0,ROUNDDOWN(((((DataInput!Q280-AC280)+(DataInput!Q281-AC281))/2)*(A281-A280))/27+S280+T280,0),0),0),0)*$X$5),1)","v":2869.1},{"$f":"DataInput!U280","v":221},{"$f":"DataInput!S280","v":114},159.6,61.4]
[{"$f":"IF(DataInput!A281<>\"\",DataInput!A281,\"\")","v":88100},{"$f":"SUM(DataInput!C281,DataInput!Y281)+(DataInput!U281-DataInput!E281)","v":260},{"$f":"SUM(DataInput!D281,DataInput!Z281)","v":64},{"$f":"DataInput!U281","v":195},{"$f":"SUM(DataInput!F281,DataInput!AB281)","v":0},{"$f":"SUM(DataInput!G281,DataInput!AC281)","v":0},{"$f":"SUM(DataInput!H281,DataInput!AD281)","v":0},{"$f":"DataInput!I281","v":0},{"$f":"SUM(DataInput!J281,DataInput!AF281)","v":0},{"$f":"SUM(DataInput!K281,DataInput!AG281)","v":0},{"$f":"SUM(DataInput!L281,DataInput!AH281)","v":0},{"$f":"SUM(DataInput!M281,DataInput!AI281)","v":0},{"$f":"SUM(DataInput!N281,DataInput!AJ281)","v":0},{"$f":"SUM(DataInput!O281,DataInput!AK281)","v":0},{"$f":"DataInput!P281","v":0},null,64,{"$f":"DataInput!R281","v":1937},{"$f":"DataInput!Y281","v":0},{"$f":"IF(DataInput!U281-DataInput!E281>0,DataInput!U281-DataInput!E281,\"\")","v":126},{"$f":"IF(DataInput!W281-DataInput!I281>0,DataInput!W281-DataInput!I281,\"\")","v":16},null,2079,2702.7,-2638.7,450,3350,{"$f":"ROUNDDOWN((IF(AA282>0,IFERROR(IF(AVERAGE(DataInput!Q281:Q282)>AVERAGE(AA282,AA281),ROUNDDOWN(((((AA281-Z281)+(AA282-Z282))/2)*(A282-A281))/27,0),IF(((((DataInput!Q282-Z282)+(DataInput!Q281-Z281))/2)*(A282-A281))/27+S281+T281>0,ROUNDDOWN(((((DataInput!Q282-Z282)+(DataInput!Q281-Z281))/2)*(A282-A281))/27+S281+T281,0),0)),0),0)*$X$5),1)","v":2139.8000000000002},176,{"$f":"ROUNDDOWN((IF(AC282>0,IFERROR(IF(((((DataInput!Q281-AC281)+(DataInput!Q282-AC282))/2)*(A282-A281))/27+S281+T281>0,ROUNDDOWN(((((DataInput!Q281-AC281)+(DataInput!Q282-AC282))/2)*(A282-A281))/27+S281+T281,0),0),0),0)*$X$5),1)","v":2470},{"$f":"DataInput!U281","v":195},{"$f":"DataInput!S281","v":95},133,62]
[{"$f":"IF(DataInput!A282<>\"\",DataInput!A282,\"\")","v":88125},{"$f":"SUM(DataInput!C282,DataInput!Y282)+(DataInput!U282-DataInput!E282)","v":272},{"$f":"SUM(DataInput!D282,DataInput!Z282)","v":83},{"$f":"DataInput!U282","v":188},{"$f":"SUM(DataInput!F282,DataInput!AB282)","v":0},{"$f":"SUM(DataInput!G282,DataInput!AC282)","v":0},{"$f":"SUM(DataInput!H282,DataInput!AD282)","v":0},{"$f":"DataInput!I282","v":0},{"$f":"SUM(DataInput!J282,DataInput!AF282)","v":0},{"$f":"SUM(DataInput!K282,DataInput!AG282)","v":0},{"$f":"SUM(DataInput!L282,DataInput!AH282)","v":0},{"$f":"SUM(DataInput!M282,DataInput!AI282)","v":0},{"$f":"SUM(DataInput!N282,DataInput!AJ282)","v":0},{"$f":"SUM(DataInput!O282,DataInput!AK282)","v":0},{"$f":"DataInput!P282","v":0},null,83,{"$f":"DataInput!R282","v":1542},{"$f":"DataInput!Y282","v":0},{"$f":"IF(DataInput!U282-DataInput!E282>0,DataInput!U282-DataInput!E282,\"\")","v":121},{"$f":"IF(DataInput!W282-DataInput!I282>0,DataInput!W282-DataInput!I282,\"\")","v":7},null,1670,2171,-2088,450,3350,{"$f":"ROUNDDOWN((IF(AA283>0,IFERROR(IF(AVERAGE(DataInput!Q282:Q283)>AVERAGE(AA283,AA282),ROUNDDOWN(((((AA282-Z282)+(AA283-Z283))/2)*(A283-A282))/27,0),IF(((((DataInput!Q283-Z283)+(DataInput!Q282-Z282))/2)*(A283-A282))/27+S282+T282>0,ROUNDDOWN(((((DataInput!Q283-Z283)+(DataInput!Q282-Z282))/2)*(A283-A282))/27+S282+T282,0),0)),0),0)*$X$5),1)","v":1619.8},176,{"$f":"ROUNDDOWN((IF(AC283>0,IFERROR(IF(((((DataInput!Q282-AC282)+(DataInput!Q283-AC283))/2)*(A283-A282))/27+S282+T282>0,ROUNDDOWN(((((DataInput!Q282-AC282)+(DataInput!Q283-AC283))/2)*(A283-A282))/27+S282+T282,0),0),0),0)*$X$5),1)","v":1950},{"$f":"DataInput!U282","v":188},{"$f":"DataInput!S282","v":76},106.4,81.599999999999994]
[{"$f":"IF(DataInput!A283<>\"\",DataInput!A283,\"\")","v":88150},{"$f":"SUM(DataInput!C283,DataInput!Y283)+(DataInput!U283-DataInput!E283)","v":333},{"$f":"SUM(DataInput!D283,DataInput!Z283)","v":143},{"$f":"DataInput!U283","v":190},{"$f":"SUM(DataInput!F283,DataInput!AB283)","v":0},{"$f":"SUM(DataInput!G283,DataInput!AC283)","v":0},{"$f":"SUM(DataInput!H283,DataInput!AD283)","v":0},{"$f":"DataInput!I283","v":0},{"$f":"SUM(DataInput!J283,DataInput!AF283)","v":0},{"$f":"SUM(DataInput!K283,DataInput!AG283)","v":0},{"$f":"SUM(DataInput!L283,DataInput!AH283)","v":0},{"$f":"SUM(DataInput!M283,DataInput!AI283)","v":0},{"$f":"SUM(DataInput!N283,DataInput!AJ283)","v":0},{"$f":"SUM(DataInput!O283,DataInput!AK283)","v":0},{"$f":"DataInput!P283","v":0},null,143,{"$f":"DataInput!R283","v":1152},{"$f":"DataInput!Y283","v":0},{"$f":"IF(DataInput!U283-DataInput!E283>0,DataInput!U283-DataInput!E283,\"\")","v":117},{"$f":"IF(DataInput!W283-DataInput!I283>0,DataInput!W283-DataInput!I283,\"\")","v":7},null,1276,1658.8,-1515.8,450,3350,{"$f":"ROUNDDOWN((IF(AA284>0,IFERROR(IF(AVERAGE(DataInput!Q283:Q284)>AVERAGE(AA284,AA283),ROUNDDOWN(((((AA283-Z283)+(AA284-Z284))/2)*(A284-A283))/27,0),IF(((((DataInput!Q284-Z284)+(DataInput!Q283-Z283))/2)*(A284-A283))/27+S283+T283>0,ROUNDDOWN(((((DataInput!Q284-Z284)+(DataInput!Q283-Z283))/2)*(A284-A283))/27+S283+T283,0),0)),0),0)*$X$5),1)","v":1107.5999999999999},176,{"$f":"ROUNDDOWN((IF(AC284>0,IFERROR(IF(((((DataInput!Q283-AC283)+(DataInput!Q284-AC284))/2)*(A284-A283))/27+S283+T283>0,ROUNDDOWN(((((DataInput!Q283-AC283)+(DataInput!Q284-AC284))/2)*(A284-A283))/27+S283+T283,0),0),0),0)*$X$5),1)","v":1437.8},{"$f":"DataInput!U283","v":190},{"$f":"DataInput!S283","v":78},109.2,80.8]
[{"$f":"IF(DataInput!A284<>\"\",DataInput!A284,\"\")","v":88175},{"$f":"SUM(DataInput!C284,DataInput!Y284)+(DataInput!U284-DataInput!E284)","v":352},{"$f":"SUM(DataInput!D284,DataInput!Z284)","v":160},{"$f":"DataInput!U284","v":192},{"$f":"SUM(DataInput!F284,DataInput!AB284)","v":0},{"$f":"SUM(DataInput!G284,DataInput!AC284)","v":0},{"$f":"SUM(DataInput!H284,DataInput!AD284)","v":0},{"$f":"DataInput!I284","v":4},{"$f":"SUM(DataInput!J284,DataInput!AF284)","v":0},{"$f":"SUM(DataInput!K284,DataInput!AG284)","v":0},{"$f":"SUM(DataInput!L284,DataInput!AH284)","v":0},{"$f":"SUM(DataInput!M284,DataInput!AI284)","v":0},{"$f":"SUM(DataInput!N284,DataInput!AJ284)","v":0},{"$f":"SUM(DataInput!O284,DataInput!AK284)","v":0},{"$f":"DataInput!P284","v":0},null,160,{"$f":"DataInput!R284","v":573},{"$f":"DataInput!Y284","v":0},{"$f":"IF(DataInput!U284-DataInput!E284>0,DataInput!U284-DataInput!E284,\"\")","v":114},{"$f":"IF(DataInput!W284-DataInput!I284>0,DataInput!W284-DataInput!I284,\"\")","v":3},null,690,897,-737,450,3350,{"$f":"ROUNDDOWN((IF(AA285>0,IFERROR(IF(AVERAGE(DataInput!Q284:Q285)>AVERAGE(AA285,AA284),ROUNDDOWN(((((AA284-Z284)+(AA285-Z285))/2)*(A285-A284))/27,0),IF(((((DataInput!Q285-Z285)+(DataInput!Q284-Z284))/2)*(A285-A284))/27+S284+T284>0,ROUNDDOWN(((((DataInput!Q285-Z285)+(DataInput!Q284-Z284))/2)*(A285-A284))/27+S284+T284,0),0)),0),0)*$X$5),1)","v":351},176,{"$f":"ROUNDDOWN((IF(AC285>0,IFERROR(IF(((((DataInput!Q284-AC284)+(DataInput!Q285-AC285))/2)*(A285-A284))/27+S284+T284>0,ROUNDDOWN(((((DataInput!Q284-AC284)+(DataInput!Q285-AC285))/2)*(A285-A284))/27+S284+T284,0),0),0),0)*$X$5),1)","v":679.9},{"$f":"DataInput!U284","v":192},{"$f":"DataInput!S284","v":80},112,80]
[{"$f":"IF(DataInput!A285<>\"\",DataInput!A285,\"\")","v":88200},{"$f":"SUM(DataInput!C285,DataInput!Y285)+(DataInput!U285-DataInput!E285)","v":560},{"$f":"SUM(DataInput!D285,DataInput!Z285)","v":384},{"$f":"DataInput!U285","v":176},{"$f":"SUM(DataInput!F285,DataInput!AB285)","v":0},{"$f":"SUM(DataInput!G285,DataInput!AC285)","v":0},{"$f":"SUM(DataInput!H285,DataInput!AD285)","v":0},{"$f":"DataInput!I285","v":8},{"$f":"SUM(DataInput!J285,DataInput!AF285)","v":0},{"$f":"SUM(DataInput!K285,DataInput!AG285)","v":0},{"$f":"SUM(DataInput!L285,DataInput!AH285)","v":0},{"$f":"SUM(DataInput!M285,DataInput!AI285)","v":0},{"$f":"SUM(DataInput!N285,DataInput!AJ285)","v":0},{"$f":"SUM(DataInput!O285,DataInput!AK285)","v":0},{"$f":"DataInput!P285","v":0},null,384,{"$f":"DataInput!R285","v":195},{"$f":"DataInput!Y285","v":0},{"$f":"IF(DataInput!U285-DataInput!E285>0,DataInput!U285-DataInput!E285,\"\")","v":81},{"$f":"IF(DataInput!W285-DataInput!I285>0,DataInput!W285-DataInput!I285,\"\")","v":""},1960,2236,2906.8,-2522.8000000000002,450,3350,{"$f":"ROUNDDOWN((IF(AA286>0,IFERROR(IF(AVERAGE(DataInput!Q285:Q286)>AVERAGE(AA286,AA285),ROUNDDOWN(((((AA285-Z285)+(AA286-Z286))/2)*(A286-A285))/27,0),IF(((((DataInput!Q286-Z286)+(DataInput!Q285-Z285))/2)*(A286-A285))/27+S285+T285>0,ROUNDDOWN(((((DataInput!Q286-Z286)+(DataInput!Q285-Z285))/2)*(A286-A285))/27+S285+T285,0),0)),0),0)*$X$5),1)","v":0},176,{"$f":"ROUNDDOWN((IF(AC286>0,IFERROR(IF(((((DataInput!Q285-AC285)+(DataInput!Q286-AC286))/2)*(A286-A285))/27+S285+T285>0,ROUNDDOWN(((((DataInput!Q285-AC285)+(DataInput!Q286-AC286))/2)*(A286-A285))/27+S285+T285,0),0),0),0)*$X$5),1)","v":146.9},{"$f":"DataInput!U285","v":176},{"$f":"DataInput!S285","v":81},113.4,62.6]
[{"$f":"IF(DataInput!A286<>\"\",DataInput!A286,\"\")","v":88225},{"$f":"SUM(DataInput!C286,DataInput!Y286)+(DataInput!U286-DataInput!E286)","v":1268},{"$f":"SUM(DataInput!D286,DataInput!Z286)","v":1106},{"$f":"DataInput!U286","v":162},{"$f":"SUM(DataInput!F286,DataInput!AB286)","v":0},{"$f":"SUM(DataInput!G286,DataInput!AC286)","v":0},{"$f":"SUM(DataInput!H286,DataInput!AD286)","v":0},{"$f":"DataInput!I286","v":19},{"$f":"SUM(DataInput!J286,DataInput!AF286)","v":0},{"$f":"SUM(DataInput!K286,DataInput!AG286)","v":0},{"$f":"SUM(DataInput!L286,DataInput!AH286)","v":0},{"$f":"SUM(DataInput!M286,DataInput!AI286)","v":0},{"$f":"SUM(DataInput!N286,DataInput!AJ286)","v":0},{"$f":"SUM(DataInput!O286,DataInput!AK286)","v":0},{"$f":"DataInput!P286","v":0},null,1106,{"$f":"DataInput!R286","v":99},{"$f":"DataInput!Y286","v":95},{"$f":"IF(DataInput!U286-DataInput!E286>0,DataInput!U286-DataInput!E286,\"\")","v":37},{"$f":"IF(DataInput!W286-DataInput!I286>0,DataInput!W286-DataInput!I286,\"\")","v":""},null,231,300.3,805.7,450,3350,{"$f":"ROUNDDOWN((IF(AA287>0,IFERROR(IF(AVERAGE(DataInput!Q286:Q287)>AVERAGE(AA287,AA286),ROUNDDOWN(((((AA286-Z286)+(AA287-Z287))/2)*(A287-A286))/27,0),IF(((((DataInput!Q287-Z287)+(DataInput!Q286-Z286))/2)*(A287-A286))/27+S286+T286>0,ROUNDDOWN(((((DataInput!Q287-Z287)+(DataInput!Q286-Z286))/2)*(A287-A286))/27+S286+T286,0),0)),0),0)*$X$5),1)","v":0},176,{"$f":"ROUNDDOWN((IF(AC287>0,IFERROR(IF(((((DataInput!Q286-AC286)+(DataInput!Q287-AC287))/2)*(A287-A286))/27+S286+T286>0,ROUNDDOWN(((((DataInput!Q286-AC286)+(DataInput!Q287-AC287))/2)*(A287-A286))/27+S286+T286,0),0),0),0)*$X$5),1)","v":88.4},{"$f":"DataInput!U286","v":162},{"$f":"DataInput!S286","v":83},116.2,45.8]
[{"$f":"IF(DataInput!A287<>\"\",DataInput!A287,\"\")","v":88250},{"$f":"SUM(DataInput!C287,DataInput!Y287)+(DataInput!U287-DataInput!E287)","v":1755},{"$f":"SUM(DataInput!D287,DataInput!Z287)","v":1581},{"$f":"DataInput!U287","v":173},{"$f":"SUM(DataInput!F287,DataInput!AB287)","v":0},{"$f":"SUM(DataInput!G287,DataInput!AC287)","v":0},{"$f":"SUM(DataInput!H287,DataInput!AD287)","v":0},{"$f":"DataInput!I287","v":29},{"$f":"SUM(DataInput!J287,DataInput!AF287)","v":0},{"$f":"SUM(DataInput!K287,DataInput!AG287)","v":0},{"$f":"SUM(DataInput!L287,DataInput!AH287)","v":0},{"$f":"SUM(DataInput!M287,DataInput!AI287)","v":0},{"$f":"SUM(DataInput!N287,DataInput!AJ287)","v":0},{"$f":"SUM(DataInput!O287,DataInput!AK287)","v":0},{"$f":"DataInput!P287","v":0},null,1581,{"$f":"DataInput!R287","v":117},{"$f":"DataInput!Y287","v":96},{"$f":"IF(DataInput!U287-DataInput!E287>0,DataInput!U287-DataInput!E287,\"\")","v":42},{"$f":"IF(DataInput!W287-DataInput!I287>0,DataInput!W287-DataInput!I287,\"\")","v":""},null,255,331.5,1249.5,450,3350,{"$f":"ROUNDDOWN((IF(AA288>0,IFERROR(IF(AVERAGE(DataInput!Q287:Q288)>AVERAGE(AA288,AA287),ROUNDDOWN(((((AA287-Z287)+(AA288-Z288))/2)*(A288-A287))/27,0),IF(((((DataInput!Q288-Z288)+(DataInput!Q287-Z287))/2)*(A288-A287))/27+S287+T287>0,ROUNDDOWN(((((DataInput!Q288-Z288)+(DataInput!Q287-Z287))/2)*(A288-A287))/27+S287+T287,0),0)),0),0)*$X$5),1)","v":0},176,{"$f":"ROUNDDOWN((IF(AC288>0,IFERROR(IF(((((DataInput!Q287-AC287)+(DataInput!Q288-AC288))/2)*(A288-A287))/27+S287+T287>0,ROUNDDOWN(((((DataInput!Q287-AC287)+(DataInput!Q288-AC288))/2)*(A288-A287))/27+S287+T287,0),0),0),0)*$X$5),1)","v":119.6},{"$f":"DataInput!U287","v":173},{"$f":"DataInput!S287","v":85},119,54]
[{"$f":"IF(DataInput!A288<>\"\",DataInput!A288,\"\")","v":88275},{"$f":"SUM(DataInput!C288,DataInput!Y288)+(DataInput!U288-DataInput!E288)","v":1927},{"$f":"SUM(DataInput!D288,DataInput!Z288)","v":1743},{"$f":"DataInput!U288","v":183},{"$f":"SUM(DataInput!F288,DataInput!AB288)","v":0},{"$f":"SUM(DataInput!G288,DataInput!AC288)","v":0},{"$f":"SUM(DataInput!H288,DataInput!AD288)","v":0},{"$f":"DataInput!I288","v":27},{"$f":"SUM(DataInput!J288,DataInput!AF288)","v":0},{"$f":"SUM(DataInput!K288,DataInput!AG288)","v":0},{"$f":"SUM(DataInput!L288,DataInput!AH288)","v":0},{"$f":"SUM(DataInput!M288,DataInput!AI288)","v":0},{"$f":"SUM(DataInput!N288,DataInput!AJ288)","v":0},{"$f":"SUM(DataInput!O288,DataInput!AK288)","v":0},{"$f":"DataInput!P288","v":0},null,1743,{"$f":"DataInput!R288","v":132},{"$f":"DataInput!Y288","v":97},{"$f":"IF(DataInput!U288-DataInput!E288>0,DataInput!U288-DataInput!E288,\"\")","v":46},{"$f":"IF(DataInput!W288-DataInput!I288>0,DataInput!W288-DataInput!I288,\"\")","v":""},null,275,357.5,1385.5,450,3350,{"$f":"ROUNDDOWN((IF(AA289>0,IFERROR(IF(AVERAGE(DataInput!Q288:Q289)>AVERAGE(AA289,AA288),ROUNDDOWN(((((AA288-Z288)+(AA289-Z289))/2)*(A289-A288))/27,0),IF(((((DataInput!Q289-Z289)+(DataInput!Q288-Z288))/2)*(A289-A288))/27+S288+T288>0,ROUNDDOWN(((((DataInput!Q289-Z289)+(DataInput!Q288-Z288))/2)*(A289-A288))/27+S288+T288,0),0)),0),0)*$X$5),1)","v":0},176,{"$f":"ROUNDDOWN((IF(AC289>0,IFERROR(IF(((((DataInput!Q288-AC288)+(DataInput!Q289-AC289))/2)*(A289-A288))/27+S288+T288>0,ROUNDDOWN(((((DataInput!Q288-AC288)+(DataInput!Q289-AC289))/2)*(A289-A288))/27+S288+T288,0),0),0),0)*$X$5),1)","v":145.6},{"$f":"DataInput!U288","v":183},{"$f":"DataInput!S288","v":86},120.4,62.6]
[{"$f":"IF(DataInput!A289<>\"\",DataInput!A289,\"\")","v":88300},{"$f":"SUM(DataInput!C289,DataInput!Y289)+(DataInput!U289-DataInput!E289)","v":2022},{"$f":"SUM(DataInput!D289,DataInput!Z289)","v":1839},{"$f":"DataInput!U289","v":183},{"$f":"SUM(DataInput!F289,DataInput!AB289)","v":0},{"$f":"SUM(DataInput!G289,DataInput!AC289)","v":0},{"$f":"SUM(DataInput!H289,DataInput!AD289)","v":0},{"$f":"DataInput!I289","v":26},{"$f":"SUM(DataInput!J289,DataInput!AF289)","v":0},{"$f":"SUM(DataInput!K289,DataInput!AG289)","v":0},{"$f":"SUM(DataInput!L289,DataInput!AH289)","v":0},{"$f":"SUM(DataInput!M289,DataInput!AI289)","v":0},{"$f":"SUM(DataInput!N289,DataInput!AJ289)","v":0},{"$f":"SUM(DataInput!O289,DataInput!AK289)","v":0},{"$f":"DataInput!P289","v":0},null,1839,{"$f":"DataInput!R289","v":129},{"$f":"DataInput!Y289","v":97},{"$f":"IF(DataInput!U289-DataInput!E289>0,DataInput!U289-DataInput!E289,\"\")","v":28},{"$f":"IF(DataInput!W289-DataInput!I289>0,DataInput!W289-DataInput!I289,\"\")","v":""},null,254,330.2,1508.8,450,3350,{"$f":"ROUNDDOWN((IF(AA290>0,IFERROR(IF(AVERAGE(DataInput!Q289:Q290)>AVERAGE(AA290,AA289),ROUNDDOWN(((((AA289-Z289)+(AA290-Z290))/2)*(A290-A289))/27,0),IF(((((DataInput!Q290-Z290)+(DataInput!Q289-Z289))/2)*(A290-A289))/27+S289+T289>0,ROUNDDOWN(((((DataInput!Q290-Z290)+(DataInput!Q289-Z289))/2)*(A290-A289))/27+S289+T289,0),0)),0),0)*$X$5),1)","v":0},176,{"$f":"ROUNDDOWN((IF(AC290>0,IFERROR(IF(((((DataInput!Q289-AC289)+(DataInput!Q290-AC290))/2)*(A290-A289))/27+S289+T289>0,ROUNDDOWN(((((DataInput!Q289-AC289)+(DataInput!Q290-AC290))/2)*(A290-A289))/27+S289+T289,0),0),0),0)*$X$5),1)","v":118.3},{"$f":"DataInput!U289","v":183},{"$f":"DataInput!S289","v":87},121.8,61.2]
[{"$f":"IF(DataInput!A290<>\"\",DataInput!A290,\"\")","v":88325},{"$f":"SUM(DataInput!C290,DataInput!Y290)+(DataInput!U290-DataInput!E290)","v":2050},{"$f":"SUM(DataInput!D290,DataInput!Z290)","v":1867},{"$f":"DataInput!U290","v":183},{"$f":"SUM(DataInput!F290,DataInput!AB290)","v":0},{"$f":"SUM(DataInput!G290,DataInput!AC290)","v":0},{"$f":"SUM(DataInput!H290,DataInput!AD290)","v":0},{"$f":"DataInput!I290","v":26},{"$f":"SUM(DataInput!J290,DataInput!AF290)","v":0},{"$f":"SUM(DataInput!K290,DataInput!AG290)","v":0},{"$f":"SUM(DataInput!L290,DataInput!AH290)","v":0},{"$f":"SUM(DataInput!M290,DataInput!AI290)","v":0},{"$f":"SUM(DataInput!N290,DataInput!AJ290)","v":0},{"$f":"SUM(DataInput!O290,DataInput!AK290)","v":0},{"$f":"DataInput!P290","v":0},null,1867,{"$f":"DataInput!R290","v":137},{"$f":"DataInput!Y290","v":97},{"$f":"IF(DataInput!U290-DataInput!E290>0,DataInput!U290-DataInput!E290,\"\")","v":28},{"$f":"IF(DataInput!W290-DataInput!I290>0,DataInput!W290-DataInput!I290,\"\")","v":""},null,262,340.6,1526.4,450,3350,{"$f":"ROUNDDOWN((IF(AA291>0,IFERROR(IF(AVERAGE(DataInput!Q290:Q291)>AVERAGE(AA291,AA290),ROUNDDOWN(((((AA290-Z290)+(AA291-Z291))/2)*(A291-A290))/27,0),IF(((((DataInput!Q291-Z291)+(DataInput!Q290-Z290))/2)*(A291-A290))/27+S290+T290>0,ROUNDDOWN(((((DataInput!Q291-Z291)+(DataInput!Q290-Z290))/2)*(A291-A290))/27+S290+T290,0),0)),0),0)*$X$5),1)","v":0},176,{"$f":"ROUNDDOWN((IF(AC291>0,IFERROR(IF(((((DataInput!Q290-AC290)+(DataInput!Q291-AC291))/2)*(A291-A290))/27+S290+T290>0,ROUNDDOWN(((((DataInput!Q290-AC290)+(DataInput!Q291-AC291))/2)*(A291-A290))/27+S290+T290,0),0),0),0)*$X$5),1)","v":128.69999999999999},{"$f":"DataInput!U290","v":183},{"$f":"DataInput!S290","v":88},123.2,59.8]
[{"$f":"IF(DataInput!A291<>\"\",DataInput!A291,\"\")","v":88350},{"$f":"SUM(DataInput!C291,DataInput!Y291)+(DataInput!U291-DataInput!E291)","v":2122},{"$f":"SUM(DataInput!D291,DataInput!Z291)","v":1895},{"$f":"DataInput!U291","v":227},{"$f":"SUM(DataInput!F291,DataInput!AB291)","v":0},{"$f":"SUM(DataInput!G291,DataInput!AC291)","v":0},{"$f":"SUM(DataInput!H291,DataInput!AD291)","v":0},{"$f":"DataInput!I291","v":26},{"$f":"SUM(DataInput!J291,DataInput!AF291)","v":0},{"$f":"SUM(DataInput!K291,DataInput!AG291)","v":0},{"$f":"SUM(DataInput!L291,DataInput!AH291)","v":0},{"$f":"SUM(DataInput!M291,DataInput!AI291)","v":0},{"$f":"SUM(DataInput!N291,DataInput!AJ291)","v":0},{"$f":"SUM(DataInput!O291,DataInput!AK291)","v":0},{"$f":"DataInput!P291","v":0},null,1895,{"$f":"DataInput!R291","v":409},{"$f":"DataInput!Y291","v":97},{"$f":"IF(DataInput!U291-DataInput!E291>0,DataInput!U291-DataInput!E291,\"\")","v":55},{"$f":"IF(DataInput!W291-DataInput!I291>0,DataInput!W291-DataInput!I291,\"\")","v":""},null,561,729.3,1165.7,450,3350,{"$f":"ROUNDDOWN((IF(AA292>0,IFERROR(IF(AVERAGE(DataInput!Q291:Q292)>AVERAGE(AA292,AA291),ROUNDDOWN(((((AA291-Z291)+(AA292-Z292))/2)*(A292-A291))/27,0),IF(((((DataInput!Q292-Z292)+(DataInput!Q291-Z291))/2)*(A292-A291))/27+S291+T291>0,ROUNDDOWN(((((DataInput!Q292-Z292)+(DataInput!Q291-Z291))/2)*(A292-A291))/27+S291+T291,0),0)),0),0)*$X$5),1)","v":187.2},176,{"$f":"ROUNDDOWN((IF(AC292>0,IFERROR(IF(((((DataInput!Q291-AC291)+(DataInput!Q292-AC292))/2)*(A292-A291))/27+S291+T291>0,ROUNDDOWN(((((DataInput!Q291-AC291)+(DataInput!Q292-AC292))/2)*(A292-A291))/27+S291+T291,0),0),0),0)*$X$5),1)","v":516.1},{"$f":"DataInput!U291","v":227},{"$f":"DataInput!S291","v":116},162.4,64.599999999999994]
[{"$f":"IF(DataInput!A292<>\"\",DataInput!A292,\"\")","v":88375},{"$f":"SUM(DataInput!C292,DataInput!Y292)+(DataInput!U292-DataInput!E292)","v":2070},{"$f":"SUM(DataInput!D292,DataInput!Z292)","v":1798},{"$f":"DataInput!U292","v":271},{"$f":"SUM(DataInput!F292,DataInput!AB292)","v":0},{"$f":"SUM(DataInput!G292,DataInput!AC292)","v":0},{"$f":"SUM(DataInput!H292,DataInput!AD292)","v":0},{"$f":"DataInput!I292","v":27},{"$f":"SUM(DataInput!J292,DataInput!AF292)","v":0},{"$f":"SUM(DataInput!K292,DataInput!AG292)","v":0},{"$f":"SUM(DataInput!L292,DataInput!AH292)","v":0},{"$f":"SUM(DataInput!M292,DataInput!AI292)","v":0},{"$f":"SUM(DataInput!N292,DataInput!AJ292)","v":0},{"$f":"SUM(DataInput!O292,DataInput!AK292)","v":0},{"$f":"DataInput!P292","v":0},null,1798,{"$f":"DataInput!R292","v":671},{"$f":"DataInput!Y292","v":0},{"$f":"IF(DataInput!U292-DataInput!E292>0,DataInput!U292-DataInput!E292,\"\")","v":80},{"$f":"IF(DataInput!W292-DataInput!I292>0,DataInput!W292-DataInput!I292,\"\")","v":3},null,754,980.2,817.8,450,3350,{"$f":"ROUNDDOWN((IF(AA293>0,IFERROR(IF(AVERAGE(DataInput!Q292:Q293)>AVERAGE(AA293,AA292),ROUNDDOWN(((((AA292-Z292)+(AA293-Z293))/2)*(A293-A292))/27,0),IF(((((DataInput!Q293-Z293)+(DataInput!Q292-Z292))/2)*(A293-A292))/27+S292+T292>0,ROUNDDOWN(((((DataInput!Q293-Z293)+(DataInput!Q292-Z292))/2)*(A293-A292))/27+S292+T292,0),0)),0),0)*$X$5),1)","v":434.2},176,{"$f":"ROUNDDOWN((IF(AC293>0,IFERROR(IF(((((DataInput!Q292-AC292)+(DataInput!Q293-AC293))/2)*(A293-A292))/27+S292+T292>0,ROUNDDOWN(((((DataInput!Q292-AC292)+(DataInput!Q293-AC293))/2)*(A293-A292))/27+S292+T292,0),0),0),0)*$X$5),1)","v":763.1},{"$f":"DataInput!U292","v":271},{"$f":"DataInput!S292","v":143},200.2,70.8]
[{"$f":"IF(DataInput!A293<>\"\",DataInput!A293,\"\")","v":88400},{"$f":"SUM(DataInput!C293,DataInput!Y293)+(DataInput!U293-DataInput!E293)","v":2001},{"$f":"SUM(DataInput!D293,DataInput!Z293)","v":1733},{"$f":"DataInput!U293","v":268},{"$f":"SUM(DataInput!F293,DataInput!AB293)","v":0},{"$f":"SUM(DataInput!G293,DataInput!AC293)","v":0},{"$f":"SUM(DataInput!H293,DataInput!AD293)","v":0},{"$f":"DataInput!I293","v":27},{"$f":"SUM(DataInput!J293,DataInput!AF293)","v":0},{"$f":"SUM(DataInput!K293,DataInput!AG293)","v":0},{"$f":"SUM(DataInput!L293,DataInput!AH293)","v":0},{"$f":"SUM(DataInput!M293,DataInput!AI293)","v":0},{"$f":"SUM(DataInput!N293,DataInput!AJ293)","v":0},{"$f":"SUM(DataInput!O293,DataInput!AK293)","v":0},{"$f":"DataInput!P293","v":0},null,1733,{"$f":"DataInput!R293","v":653},{"$f":"DataInput!Y293","v":0},{"$f":"IF(DataInput!U293-DataInput!E293>0,DataInput!U293-DataInput!E293,\"\")","v":78},{"$f":"IF(DataInput!W293-DataInput!I293>0,DataInput!W293-DataInput!I293,\"\")","v":5},null,736,956.8,776.2,450,3350,{"$f":"ROUNDDOWN((IF(AA294>0,IFERROR(IF(AVERAGE(DataInput!Q293:Q294)>AVERAGE(AA294,AA293),ROUNDDOWN(((((AA293-Z293)+(AA294-Z294))/2)*(A294-A293))/27,0),IF(((((DataInput!Q294-Z294)+(DataInput!Q293-Z293))/2)*(A294-A293))/27+S293+T293>0,ROUNDDOWN(((((DataInput!Q294-Z294)+(DataInput!Q293-Z293))/2)*(A294-A293))/27+S293+T293,0),0)),0),0)*$X$5),1)","v":408.2},176,{"$f":"ROUNDDOWN((IF(AC294>0,IFERROR(IF(((((DataInput!Q293-AC293)+(DataInput!Q294-AC294))/2)*(A294-A293))/27+S293+T293>0,ROUNDDOWN(((((DataInput!Q293-AC293)+(DataInput!Q294-AC294))/2)*(A294-A293))/27+S293+T293,0),0),0),0)*$X$5),1)","v":738.4},{"$f":"DataInput!U293","v":268},{"$f":"DataInput!S293","v":141},197.4,70.599999999999994]
[{"$f":"IF(DataInput!A294<>\"\",DataInput!A294,\"\")","v":88425},{"$f":"SUM(DataInput!C294,DataInput!Y294)+(DataInput!U294-DataInput!E294)","v":2026},{"$f":"SUM(DataInput!D294,DataInput!Z294)","v":1766},{"$f":"DataInput!U294","v":260},{"$f":"SUM(DataInput!F294,DataInput!AB294)","v":0},{"$f":"SUM(DataInput!G294,DataInput!AC294)","v":0},{"$f":"SUM(DataInput!H294,DataInput!AD294)","v":0},{"$f":"DataInput!I294","v":27},{"$f":"SUM(DataInput!J294,DataInput!AF294)","v":0},{"$f":"SUM(DataInput!K294,DataInput!AG294)","v":0},{"$f":"SUM(DataInput!L294,DataInput!AH294)","v":0},{"$f":"SUM(DataInput!M294,DataInput!AI294)","v":0},{"$f":"SUM(DataInput!N294,DataInput!AJ294)","v":0},{"$f":"SUM(DataInput!O294,DataInput!AK294)","v":0},{"$f":"DataInput!P294","v":0},null,1766,{"$f":"DataInput!R294","v":632},{"$f":"DataInput!Y294","v":97},{"$f":"IF(DataInput!U294-DataInput!E294>0,DataInput!U294-DataInput!E294,\"\")","v":77},{"$f":"IF(DataInput!W294-DataInput!I294>0,DataInput!W294-DataInput!I294,\"\")","v":2},null,808,1050.4000000000001,715.6,450,3350,{"$f":"ROUNDDOWN((IF(AA295>0,IFERROR(IF(AVERAGE(DataInput!Q294:Q295)>AVERAGE(AA295,AA294),ROUNDDOWN(((((AA294-Z294)+(AA295-Z295))/2)*(A295-A294))/27,0),IF(((((DataInput!Q295-Z295)+(DataInput!Q294-Z294))/2)*(A295-A294))/27+S294+T294>0,ROUNDDOWN(((((DataInput!Q295-Z295)+(DataInput!Q294-Z294))/2)*(A295-A294))/27+S294+T294,0),0)),0),0)*$X$5),1)","v":505.7},176,{"$f":"ROUNDDOWN((IF(AC295>0,IFERROR(IF(((((DataInput!Q294-AC294)+(DataInput!Q295-AC295))/2)*(A295-A294))/27+S294+T294>0,ROUNDDOWN(((((DataInput!Q294-AC294)+(DataInput!Q295-AC295))/2)*(A295-A294))/27+S294+T294,0),0),0),0)*$X$5),1)","v":834.6},{"$f":"DataInput!U294","v":260},{"$f":"DataInput!S294","v":136},190.4,69.599999999999994]
[{"$f":"IF(DataInput!A295<>\"\",DataInput!A295,\"\")","v":88450},{"$f":"SUM(DataInput!C295,DataInput!Y295)+(DataInput!U295-DataInput!E295)","v":1954},{"$f":"SUM(DataInput!D295,DataInput!Z295)","v":1705},{"$f":"DataInput!U295","v":248},{"$f":"SUM(DataInput!F295,DataInput!AB295)","v":0},{"$f":"SUM(DataInput!G295,DataInput!AC295)","v":0},{"$f":"SUM(DataInput!H295,DataInput!AD295)","v":0},{"$f":"DataInput!I295","v":27},{"$f":"SUM(DataInput!J295,DataInput!AF295)","v":0},{"$f":"SUM(DataInput!K295,DataInput!AG295)","v":0},{"$f":"SUM(DataInput!L295,DataInput!AH295)","v":0},{"$f":"SUM(DataInput!M295,DataInput!AI295)","v":0},{"$f":"SUM(DataInput!N295,DataInput!AJ295)","v":0},{"$f":"SUM(DataInput!O295,DataInput!AK295)","v":0},{"$f":"DataInput!P295","v":0},null,1705,{"$f":"DataInput!R295","v":618},{"$f":"DataInput!Y295","v":97},{"$f":"IF(DataInput!U295-DataInput!E295>0,DataInput!U295-DataInput!E295,\"\")","v":76},{"$f":"IF(DataInput!W295-DataInput!I295>0,DataInput!W295-DataInput!I295,\"\")","v":2},null,793,1030.9000000000001,674.1,450,3350,{"$f":"ROUNDDOWN((IF(AA296>0,IFERROR(IF(AVERAGE(DataInput!Q295:Q296)>AVERAGE(AA296,AA295),ROUNDDOWN(((((AA295-Z295)+(AA296-Z296))/2)*(A296-A295))/27,0),IF(((((DataInput!Q296-Z296)+(DataInput!Q295-Z295))/2)*(A296-A295))/27+S295+T295>0,ROUNDDOWN(((((DataInput!Q296-Z296)+(DataInput!Q295-Z295))/2)*(A296-A295))/27+S295+T295,0),0)),0),0)*$X$5),1)","v":486.2},176,{"$f":"ROUNDDOWN((IF(AC296>0,IFERROR(IF(((((DataInput!Q295-AC295)+(DataInput!Q296-AC296))/2)*(A296-A295))/27+S295+T295>0,ROUNDDOWN(((((DataInput!Q295-AC295)+(DataInput!Q296-AC296))/2)*(A296-A295))/27+S295+T295,0),0),0),0)*$X$5),1)","v":816.4},{"$f":"DataInput!U295","v":248},{"$f":"DataInput!S295","v":128},179.2,68.8]
[{"$f":"IF(DataInput!A296<>\"\",DataInput!A296,\"\")","v":88475},{"$f":"SUM(DataInput!C296,DataInput!Y296)+(DataInput!U296-DataInput!E296)","v":1874},{"$f":"SUM(DataInput!D296,DataInput!Z296)","v":1634},{"$f":"DataInput!U296","v":240},{"$f":"SUM(DataInput!F296,DataInput!AB296)","v":0},{"$f":"SUM(DataInput!G296,DataInput!AC296)","v":0},{"$f":"SUM(DataInput!H296,DataInput!AD296)","v":0},{"$f":"DataInput!I296","v":27},{"$f":"SUM(DataInput!J296,DataInput!AF296)","v":0},{"$f":"SUM(DataInput!K296,DataInput!AG296)","v":0},{"$f":"SUM(DataInput!L296,DataInput!AH296)","v":0},{"$f":"SUM(DataInput!M296,DataInput!AI296)","v":0},{"$f":"SUM(DataInput!N296,DataInput!AJ296)","v":0},{"$f":"SUM(DataInput!O296,DataInput!AK296)","v":0},{"$f":"DataInput!P296","v":0},null,1634,{"$f":"DataInput!R296","v":601},{"$f":"DataInput!Y296","v":97},{"$f":"IF(DataInput!U296-DataInput!E296>0,DataInput!U296-DataInput!E296,\"\")","v":76},{"$f":"IF(DataInput!W296-DataInput!I296>0,DataInput!W296-DataInput!I296,\"\")","v":5},null,779,1012.7,621.29999999999995,450,3350,{"$f":"ROUNDDOWN((IF(AA297>0,IFERROR(IF(AVERAGE(DataInput!Q296:Q297)>AVERAGE(AA297,AA296),ROUNDDOWN(((((AA296-Z296)+(AA297-Z297))/2)*(A297-A296))/27,0),IF(((((DataInput!Q297-Z297)+(DataInput!Q296-Z296))/2)*(A297-A296))/27+S296+T296>0,ROUNDDOWN(((((DataInput!Q297-Z297)+(DataInput!Q296-Z296))/2)*(A297-A296))/27+S296+T296,0),0)),0),0)*$X$5),1)","v":464.1},176,{"$f":"ROUNDDOWN((IF(AC297>0,IFERROR(IF(((((DataInput!Q296-AC296)+(DataInput!Q297-AC297))/2)*(A297-A296))/27+S296+T296>0,ROUNDDOWN(((((DataInput!Q296-AC296)+(DataInput!Q297-AC297))/2)*(A297-A296))/27+S296+T296,0),0),0),0)*$X$5),1)","v":793},{"$f":"DataInput!U296","v":240},{"$f":"DataInput!S296","v":123},172.2,67.8]
[{"$f":"IF(DataInput!A297<>\"\",DataInput!A297,\"\")","v":88500},{"$f":"SUM(DataInput!C297,DataInput!Y297)+(DataInput!U297-DataInput!E297)","v":1797},{"$f":"SUM(DataInput!D297,DataInput!Z297)","v":1560},{"$f":"DataInput!U297","v":237},{"$f":"SUM(DataInput!F297,DataInput!AB297)","v":0},{"$f":"SUM(DataInput!G297,DataInput!AC297)","v":0},{"$f":"SUM(DataInput!H297,DataInput!AD297)","v":0},{"$f":"DataInput!I297","v":27},{"$f":"SUM(DataInput!J297,DataInput!AF297)","v":0},{"$f":"SUM(DataInput!K297,DataInput!AG297)","v":0},{"$f":"SUM(DataInput!L297,DataInput!AH297)","v":0},{"$f":"SUM(DataInput!M297,DataInput!AI297)","v":0},{"$f":"SUM(DataInput!N297,DataInput!AJ297)","v":0},{"$f":"SUM(DataInput!O297,DataInput!AK297)","v":0},{"$f":"DataInput!P297","v":0},null,1560,{"$f":"DataInput!R297","v":582},{"$f":"DataInput!Y297","v":97},{"$f":"IF(DataInput!U297-DataInput!E297>0,DataInput!U297-DataInput!E297,\"\")","v":75},{"$f":"IF(DataInput!W297-DataInput!I297>0,DataInput!W297-DataInput!I297,\"\")","v":5},null,759,986.7,573.29999999999995,450,3350,{"$f":"ROUNDDOWN((IF(AA298>0,IFERROR(IF(AVERAGE(DataInput!Q297:Q298)>AVERAGE(AA298,AA297),ROUNDDOWN(((((AA297-Z297)+(AA298-Z298))/2)*(A298-A297))/27,0),IF(((((DataInput!Q298-Z298)+(DataInput!Q297-Z297))/2)*(A298-A297))/27+S297+T297>0,ROUNDDOWN(((((DataInput!Q298-Z298)+(DataInput!Q297-Z297))/2)*(A298-A297))/27+S297+T297,0),0)),0),0)*$X$5),1)","v":438.1},176,{"$f":"ROUNDDOWN((IF(AC298>0,IFERROR(IF(((((DataInput!Q297-AC297)+(DataInput!Q298-AC298))/2)*(A298-A297))/27+S297+T297>0,ROUNDDOWN(((((DataInput!Q297-AC297)+(DataInput!Q298-AC298))/2)*(A298-A297))/27+S297+T297,0),0),0),0)*$X$5),1)","v":767},{"$f":"DataInput!U297","v":237},{"$f":"DataInput!S297","v":121},169.4,67.599999999999994]
[{"$f":"IF(DataInput!A298<>\"\",DataInput!A298,\"\")","v":88525},{"$f":"SUM(DataInput!C298,DataInput!Y298)+(DataInput!U298-DataInput!E298)","v":1740},{"$f":"SUM(DataInput!D298,DataInput!Z298)","v":1505},{"$f":"DataInput!U298","v":235},{"$f":"SUM(DataInput!F298,DataInput!AB298)","v":0},{"$f":"SUM(DataInput!G298,DataInput!AC298)","v":0},{"$f":"SUM(DataInput!H298,DataInput!AD298)","v":0},{"$f":"DataInput!I298","v":27},{"$f":"SUM(DataInput!J298,DataInput!AF298)","v":0},{"$f":"SUM(DataInput!K298,DataInput!AG298)","v":0},{"$f":"SUM(DataInput!L298,DataInput!AH298)","v":0},{"$f":"SUM(DataInput!M298,DataInput!AI298)","v":0},{"$f":"SUM(DataInput!N298,DataInput!AJ298)","v":0},{"$f":"SUM(DataInput!O298,DataInput!AK298)","v":0},{"$f":"DataInput!P298","v":0},null,1505,{"$f":"DataInput!R298","v":562},{"$f":"DataInput!Y298","v":97},{"$f":"IF(DataInput!U298-DataInput!E298>0,DataInput!U298-DataInput!E298,\"\")","v":74},{"$f":"IF(DataInput!W298-DataInput!I298>0,DataInput!W298-DataInput!I298,\"\")","v":5},null,738,959.4,545.6,450,3350,{"$f":"ROUNDDOWN((IF(AA299>0,IFERROR(IF(AVERAGE(DataInput!Q298:Q299)>AVERAGE(AA299,AA298),ROUNDDOWN(((((AA298-Z298)+(AA299-Z299))/2)*(A299-A298))/27,0),IF(((((DataInput!Q299-Z299)+(DataInput!Q298-Z298))/2)*(A299-A298))/27+S298+T298>0,ROUNDDOWN(((((DataInput!Q299-Z299)+(DataInput!Q298-Z298))/2)*(A299-A298))/27+S298+T298,0),0)),0),0)*$X$5),1)","v":410.8},176,{"$f":"ROUNDDOWN((IF(AC299>0,IFERROR(IF(((((DataInput!Q298-AC298)+(DataInput!Q299-AC299))/2)*(A299-A298))/27+S298+T298>0,ROUNDDOWN(((((DataInput!Q298-AC298)+(DataInput!Q299-AC299))/2)*(A299-A298))/27+S298+T298,0),0),0),0)*$X$5),1)","v":741},{"$f":"DataInput!U298","v":235},{"$f":"DataInput!S298","v":119},166.6,68.400000000000006]
[{"$f":"IF(DataInput!A299<>\"\",DataInput!A299,\"\")","v":88550},{"$f":"SUM(DataInput!C299,DataInput!Y299)+(DataInput!U299-DataInput!E299)","v":1672},{"$f":"SUM(DataInput!D299,DataInput!Z299)","v":1440},{"$f":"DataInput!U299","v":232},{"$f":"SUM(DataInput!F299,DataInput!AB299)","v":0},{"$f":"SUM(DataInput!G299,DataInput!AC299)","v":0},{"$f":"SUM(DataInput!H299,DataInput!AD299)","v":0},{"$f":"DataInput!I299","v":27},{"$f":"SUM(DataInput!J299,DataInput!AF299)","v":0},{"$f":"SUM(DataInput!K299,DataInput!AG299)","v":0},{"$f":"SUM(DataInput!L299,DataInput!AH299)","v":0},{"$f":"SUM(DataInput!M299,DataInput!AI299)","v":0},{"$f":"SUM(DataInput!N299,DataInput!AJ299)","v":0},{"$f":"SUM(DataInput!O299,DataInput!AK299)","v":0},{"$f":"DataInput!P299","v":0},null,1440,{"$f":"DataInput!R299","v":535},{"$f":"DataInput!Y299","v":97},{"$f":"IF(DataInput!U299-DataInput!E299>0,DataInput!U299-DataInput!E299,\"\")","v":74},{"$f":"IF(DataInput!W299-DataInput!I299>0,DataInput!W299-DataInput!I299,\"\")","v":5},null,711,924.3,515.70000000000005,450,3350,{"$f":"ROUNDDOWN((IF(AA300>0,IFERROR(IF(AVERAGE(DataInput!Q299:Q300)>AVERAGE(AA300,AA299),ROUNDDOWN(((((AA299-Z299)+(AA300-Z300))/2)*(A300-A299))/27,0),IF(((((DataInput!Q300-Z300)+(DataInput!Q299-Z299))/2)*(A300-A299))/27+S299+T299>0,ROUNDDOWN(((((DataInput!Q300-Z300)+(DataInput!Q299-Z299))/2)*(A300-A299))/27+S299+T299,0),0)),0),0)*$X$5),1)","v":375.7},176,{"$f":"ROUNDDOWN((IF(AC300>0,IFERROR(IF(((((DataInput!Q299-AC299)+(DataInput!Q300-AC300))/2)*(A300-A299))/27+S299+T299>0,ROUNDDOWN(((((DataInput!Q299-AC299)+(DataInput!Q300-AC300))/2)*(A300-A299))/27+S299+T299,0),0),0),0)*$X$5),1)","v":705.9},{"$f":"DataInput!U299","v":232},{"$f":"DataInput!S299","v":117},163.80000000000001,68.2]
[{"$f":"IF(DataInput!A300<>\"\",DataInput!A300,\"\")","v":88575},{"$f":"SUM(DataInput!C300,DataInput!Y300)+(DataInput!U300-DataInput!E300)","v":1590},{"$f":"SUM(DataInput!D300,DataInput!Z300)","v":1363},{"$f":"DataInput!U300","v":227},{"$f":"SUM(DataInput!F300,DataInput!AB300)","v":0},{"$f":"SUM(DataInput!G300,DataInput!AC300)","v":0},{"$f":"SUM(DataInput!H300,DataInput!AD300)","v":0},{"$f":"DataInput!I300","v":27},{"$f":"SUM(DataInput!J300,DataInput!AF300)","v":0},{"$f":"SUM(DataInput!K300,DataInput!AG300)","v":0},{"$f":"SUM(DataInput!L300,DataInput!AH300)","v":0},{"$f":"SUM(DataInput!M300,DataInput!AI300)","v":0},{"$f":"SUM(DataInput!N300,DataInput!AJ300)","v":0},{"$f":"SUM(DataInput!O300,DataInput!AK300)","v":0},{"$f":"DataInput!P300","v":0},null,1363,{"$f":"DataInput!R300","v":509},{"$f":"DataInput!Y300","v":97},{"$f":"IF(DataInput!U300-DataInput!E300>0,DataInput!U300-DataInput!E300,\"\")","v":76},{"$f":"IF(DataInput!W300-DataInput!I300>0,DataInput!W300-DataInput!I300,\"\")","v":5},null,687,893.1,469.9,450,3350,{"$f":"ROUNDDOWN((IF(AA301>0,IFERROR(IF(AVERAGE(DataInput!Q300:Q301)>AVERAGE(AA301,AA300),ROUNDDOWN(((((AA300-Z300)+(AA301-Z301))/2)*(A301-A300))/27,0),IF(((((DataInput!Q301-Z301)+(DataInput!Q300-Z300))/2)*(A301-A300))/27+S300+T300>0,ROUNDDOWN(((((DataInput!Q301-Z301)+(DataInput!Q300-Z300))/2)*(A301-A300))/27+S300+T300,0),0)),0),0)*$X$5),1)","v":344.5},176,{"$f":"ROUNDDOWN((IF(AC301>0,IFERROR(IF(((((DataInput!Q300-AC300)+(DataInput!Q301-AC301))/2)*(A301-A300))/27+S300+T300>0,ROUNDDOWN(((((DataInput!Q300-AC300)+(DataInput!Q301-AC301))/2)*(A301-A300))/27+S300+T300,0),0),0),0)*$X$5),1)","v":674.7},{"$f":"DataInput!U300","v":227},{"$f":"DataInput!S300","v":114},159.6,67.400000000000006]
[{"$f":"IF(DataInput!A301<>\"\",DataInput!A301,\"\")","v":88600},{"$f":"SUM(DataInput!C301,DataInput!Y301)+(DataInput!U301-DataInput!E301)","v":1519},{"$f":"SUM(DataInput!D301,DataInput!Z301)","v":1296},{"$f":"DataInput!U301","v":223},{"$f":"SUM(DataInput!F301,DataInput!AB301)","v":0},{"$f":"SUM(DataInput!G301,DataInput!AC301)","v":0},{"$f":"SUM(DataInput!H301,DataInput!AD301)","v":0},{"$f":"DataInput!I301","v":26},{"$f":"SUM(DataInput!J301,DataInput!AF301)","v":0},{"$f":"SUM(DataInput!K301,DataInput!AG301)","v":0},{"$f":"SUM(DataInput!L301,DataInput!AH301)","v":0},{"$f":"SUM(DataInput!M301,DataInput!AI301)","v":0},{"$f":"SUM(DataInput!N301,DataInput!AJ301)","v":0},{"$f":"SUM(DataInput!O301,DataInput!AK301)","v":0},{"$f":"DataInput!P301","v":0},null,1296,{"$f":"DataInput!R301","v":485},{"$f":"DataInput!Y301","v":97},{"$f":"IF(DataInput!U301-DataInput!E301>0,DataInput!U301-DataInput!E301,\"\")","v":75},{"$f":"IF(DataInput!W301-DataInput!I301>0,DataInput!W301-DataInput!I301,\"\")","v":6},null,663,861.9,434.1,450,3350,{"$f":"ROUNDDOWN((IF(AA302>0,IFERROR(IF(AVERAGE(DataInput!Q301:Q302)>AVERAGE(AA302,AA301),ROUNDDOWN(((((AA301-Z301)+(AA302-Z302))/2)*(A302-A301))/27,0),IF(((((DataInput!Q302-Z302)+(DataInput!Q301-Z301))/2)*(A302-A301))/27+S301+T301>0,ROUNDDOWN(((((DataInput!Q302-Z302)+(DataInput!Q301-Z301))/2)*(A302-A301))/27+S301+T301,0),0)),0),0)*$X$5),1)","v":312},176,{"$f":"ROUNDDOWN((IF(AC302>0,IFERROR(IF(((((DataInput!Q301-AC301)+(DataInput!Q302-AC302))/2)*(A302-A301))/27+S301+T301>0,ROUNDDOWN(((((DataInput!Q301-AC301)+(DataInput!Q302-AC302))/2)*(A302-A301))/27+S301+T301,0),0),0),0)*$X$5),1)","v":642.20000000000005},{"$f":"DataInput!U301","v":223},{"$f":"DataInput!S301","v":111},155.4,67.599999999999994]
[{"$f":"IF(DataInput!A302<>\"\",DataInput!A302,\"\")","v":88625},{"$f":"SUM(DataInput!C302,DataInput!Y302)+(DataInput!U302-DataInput!E302)","v":1451},{"$f":"SUM(DataInput!D302,DataInput!Z302)","v":1232},{"$f":"DataInput!U302","v":218},{"$f":"SUM(DataInput!F302,DataInput!AB302)","v":0},{"$f":"SUM(DataInput!G302,DataInput!AC302)","v":0},{"$f":"SUM(DataInput!H302,DataInput!AD302)","v":0},{"$f":"DataInput!I302","v":26},{"$f":"SUM(DataInput!J302,DataInput!AF302)","v":0},{"$f":"SUM(DataInput!K302,DataInput!AG302)","v":0},{"$f":"SUM(DataInput!L302,DataInput!AH302)","v":0},{"$f":"SUM(DataInput!M302,DataInput!AI302)","v":0},{"$f":"SUM(DataInput!N302,DataInput!AJ302)","v":0},{"$f":"SUM(DataInput!O302,DataInput!AK302)","v":0},{"$f":"DataInput!P302","v":0},null,1232,{"$f":"DataInput!R302","v":468},{"$f":"DataInput!Y302","v":97},{"$f":"IF(DataInput!U302-DataInput!E302>0,DataInput!U302-DataInput!E302,\"\")","v":72},{"$f":"IF(DataInput!W302-DataInput!I302>0,DataInput!W302-DataInput!I302,\"\")","v":6},null,643,835.9,396.1,450,3350,{"$f":"ROUNDDOWN((IF(AA303>0,IFERROR(IF(AVERAGE(DataInput!Q302:Q303)>AVERAGE(AA303,AA302),ROUNDDOWN(((((AA302-Z302)+(AA303-Z303))/2)*(A303-A302))/27,0),IF(((((DataInput!Q303-Z303)+(DataInput!Q302-Z302))/2)*(A303-A302))/27+S302+T302>0,ROUNDDOWN(((((DataInput!Q303-Z303)+(DataInput!Q302-Z302))/2)*(A303-A302))/27+S302+T302,0),0)),0),0)*$X$5),1)","v":286},176,{"$f":"ROUNDDOWN((IF(AC303>0,IFERROR(IF(((((DataInput!Q302-AC302)+(DataInput!Q303-AC303))/2)*(A303-A302))/27+S302+T302>0,ROUNDDOWN(((((DataInput!Q302-AC302)+(DataInput!Q303-AC303))/2)*(A303-A302))/27+S302+T302,0),0),0),0)*$X$5),1)","v":616.20000000000005},{"$f":"DataInput!U302","v":218},{"$f":"DataInput!S302","v":107},149.80000000000001,68.2]
[{"$f":"IF(DataInput!A303<>\"\",DataInput!A303,\"\")","v":88650},{"$f":"SUM(DataInput!C303,DataInput!Y303)+(DataInput!U303-DataInput!E303)","v":1386},{"$f":"SUM(DataInput!D303,DataInput!Z303)","v":1173},{"$f":"DataInput!U303","v":213},{"$f":"SUM(DataInput!F303,DataInput!AB303)","v":0},{"$f":"SUM(DataInput!G303,DataInput!AC303)","v":0},{"$f":"SUM(DataInput!H303,DataInput!AD303)","v":0},{"$f":"DataInput!I303","v":27},{"$f":"SUM(DataInput!J303,DataInput!AF303)","v":0},{"$f":"SUM(DataInput!K303,DataInput!AG303)","v":0},{"$f":"SUM(DataInput!L303,DataInput!AH303)","v":0},{"$f":"SUM(DataInput!M303,DataInput!AI303)","v":0},{"$f":"SUM(DataInput!N303,DataInput!AJ303)","v":0},{"$f":"SUM(DataInput!O303,DataInput!AK303)","v":0},{"$f":"DataInput!P303","v":0},null,1173,{"$f":"DataInput!R303","v":455},{"$f":"DataInput!Y303","v":97},{"$f":"IF(DataInput!U303-DataInput!E303>0,DataInput!U303-DataInput!E303,\"\")","v":70},{"$f":"IF(DataInput!W303-DataInput!I303>0,DataInput!W303-DataInput!I303,\"\")","v":5},null,627,815.1,357.9,450,3350,{"$f":"ROUNDDOWN((IF(AA304>0,IFERROR(IF(AVERAGE(DataInput!Q303:Q304)>AVERAGE(AA304,AA303),ROUNDDOWN(((((AA303-Z303)+(AA304-Z304))/2)*(A304-A303))/27,0),IF(((((DataInput!Q304-Z304)+(DataInput!Q303-Z303))/2)*(A304-A303))/27+S303+T303>0,ROUNDDOWN(((((DataInput!Q304-Z304)+(DataInput!Q303-Z303))/2)*(A304-A303))/27+S303+T303,0),0)),0),0)*$X$5),1)","v":266.5},176,{"$f":"ROUNDDOWN((IF(AC304>0,IFERROR(IF(((((DataInput!Q303-AC303)+(DataInput!Q304-AC304))/2)*(A304-A303))/27+S303+T303>0,ROUNDDOWN(((((DataInput!Q303-AC303)+(DataInput!Q304-AC304))/2)*(A304-A303))/27+S303+T303,0),0),0),0)*$X$5),1)","v":596.70000000000005},{"$f":"DataInput!U303","v":213},{"$f":"DataInput!S303","v":104},145.6,67.400000000000006]
[{"$f":"IF(DataInput!A304<>\"\",DataInput!A304,\"\")","v":88675},{"$f":"SUM(DataInput!C304,DataInput!Y304)+(DataInput!U304-DataInput!E304)","v":1321},{"$f":"SUM(DataInput!D304,DataInput!Z304)","v":1114},{"$f":"DataInput!U304","v":207},{"$f":"SUM(DataInput!F304,DataInput!AB304)","v":0},{"$f":"SUM(DataInput!G304,DataInput!AC304)","v":0},{"$f":"SUM(DataInput!H304,DataInput!AD304)","v":0},{"$f":"DataInput!I304","v":27},{"$f":"SUM(DataInput!J304,DataInput!AF304)","v":0},{"$f":"SUM(DataInput!K304,DataInput!AG304)","v":0},{"$f":"SUM(DataInput!L304,DataInput!AH304)","v":0},{"$f":"SUM(DataInput!M304,DataInput!AI304)","v":0},{"$f":"SUM(DataInput!N304,DataInput!AJ304)","v":0},{"$f":"SUM(DataInput!O304,DataInput!AK304)","v":0},{"$f":"DataInput!P304","v":0},null,1114,{"$f":"DataInput!R304","v":429},{"$f":"DataInput!Y304","v":97},{"$f":"IF(DataInput!U304-DataInput!E304>0,DataInput!U304-DataInput!E304,\"\")","v":68},{"$f":"IF(DataInput!W304-DataInput!I304>0,DataInput!W304-DataInput!I304,\"\")","v":5},null,599,778.7,335.3,450,3350,{"$f":"ROUNDDOWN((IF(AA305>0,IFERROR(IF(AVERAGE(DataInput!Q304:Q305)>AVERAGE(AA305,AA304),ROUNDDOWN(((((AA304-Z304)+(AA305-Z305))/2)*(A305-A304))/27,0),IF(((((DataInput!Q305-Z305)+(DataInput!Q304-Z304))/2)*(A305-A304))/27+S304+T304>0,ROUNDDOWN(((((DataInput!Q305-Z305)+(DataInput!Q304-Z304))/2)*(A305-A304))/27+S304+T304,0),0)),0),0)*$X$5),1)","v":230.1},176,{"$f":"ROUNDDOWN((IF(AC305>0,IFERROR(IF(((((DataInput!Q304-AC304)+(DataInput!Q305-AC305))/2)*(A305-A304))/27+S304+T304>0,ROUNDDOWN(((((DataInput!Q304-AC304)+(DataInput!Q305-AC305))/2)*(A305-A304))/27+S304+T304,0),0),0),0)*$X$5),1)","v":559},{"$f":"DataInput!U304","v":207},{"$f":"DataInput!S304","v":100},140,67]
[{"$f":"IF(DataInput!A305<>\"\",DataInput!A305,\"\")","v":88700},{"$f":"SUM(DataInput!C305,DataInput!Y305)+(DataInput!U305-DataInput!E305)","v":1248},{"$f":"SUM(DataInput!D305,DataInput!Z305)","v":1047},{"$f":"DataInput!U305","v":201},{"$f":"SUM(DataInput!F305,DataInput!AB305)","v":0},{"$f":"SUM(DataInput!G305,DataInput!AC305)","v":0},{"$f":"SUM(DataInput!H305,DataInput!AD305)","v":0},{"$f":"DataInput!I305","v":27},{"$f":"SUM(DataInput!J305,DataInput!AF305)","v":0},{"$f":"SUM(DataInput!K305,DataInput!AG305)","v":0},{"$f":"SUM(DataInput!L305,DataInput!AH305)","v":0},{"$f":"SUM(DataInput!M305,DataInput!AI305)","v":0},{"$f":"SUM(DataInput!N305,DataInput!AJ305)","v":0},{"$f":"SUM(DataInput!O305,DataInput!AK305)","v":0},{"$f":"DataInput!P305","v":0},null,1047,{"$f":"DataInput!R305","v":399},{"$f":"DataInput!Y305","v":97},{"$f":"IF(DataInput!U305-DataInput!E305>0,DataInput!U305-DataInput!E305,\"\")","v":68},{"$f":"IF(DataInput!W305-DataInput!I305>0,DataInput!W305-DataInput!I305,\"\")","v":5},null,569,739.7,307.3,450,3350,{"$f":"ROUNDDOWN((IF(AA306>0,IFERROR(IF(AVERAGE(DataInput!Q305:Q306)>AVERAGE(AA306,AA305),ROUNDDOWN(((((AA305-Z305)+(AA306-Z306))/2)*(A306-A305))/27,0),IF(((((DataInput!Q306-Z306)+(DataInput!Q305-Z305))/2)*(A306-A305))/27+S305+T305>0,ROUNDDOWN(((((DataInput!Q306-Z306)+(DataInput!Q305-Z305))/2)*(A306-A305))/27+S305+T305,0),0)),0),0)*$X$5),1)","v":189.8},176,{"$f":"ROUNDDOWN((IF(AC306>0,IFERROR(IF(((((DataInput!Q305-AC305)+(DataInput!Q306-AC306))/2)*(A306-A305))/27+S305+T305>0,ROUNDDOWN(((((DataInput!Q305-AC305)+(DataInput!Q306-AC306))/2)*(A306-A305))/27+S305+T305,0),0),0),0)*$X$5),1)","v":520},{"$f":"DataInput!U305","v":201},{"$f":"DataInput!S305","v":96},134.4,66.599999999999994]
[{"$f":"IF(DataInput!A306<>\"\",DataInput!A306,\"\")","v":88725},{"$f":"SUM(DataInput!C306,DataInput!Y306)+(DataInput!U306-DataInput!E306)","v":1177},{"$f":"SUM(DataInput!D306,DataInput!Z306)","v":984},{"$f":"DataInput!U306","v":193},{"$f":"SUM(DataInput!F306,DataInput!AB306)","v":0},{"$f":"SUM(DataInput!G306,DataInput!AC306)","v":0},{"$f":"SUM(DataInput!H306,DataInput!AD306)","v":0},{"$f":"DataInput!I306","v":27},{"$f":"SUM(DataInput!J306,DataInput!AF306)","v":0},{"$f":"SUM(DataInput!K306,DataInput!AG306)","v":0},{"$f":"SUM(DataInput!L306,DataInput!AH306)","v":0},{"$f":"SUM(DataInput!M306,DataInput!AI306)","v":0},{"$f":"SUM(DataInput!N306,DataInput!AJ306)","v":0},{"$f":"SUM(DataInput!O306,DataInput!AK306)","v":0},{"$f":"DataInput!P306","v":0},null,984,{"$f":"DataInput!R306","v":379},{"$f":"DataInput!Y306","v":97},{"$f":"IF(DataInput!U306-DataInput!E306>0,DataInput!U306-DataInput!E306,\"\")","v":69},{"$f":"IF(DataInput!W306-DataInput!I306>0,DataInput!W306-DataInput!I306,\"\")","v":5},null,550,715,269,450,3350,{"$f":"ROUNDDOWN((IF(AA307>0,IFERROR(IF(AVERAGE(DataInput!Q306:Q307)>AVERAGE(AA307,AA306),ROUNDDOWN(((((AA306-Z306)+(AA307-Z307))/2)*(A307-A306))/27,0),IF(((((DataInput!Q307-Z307)+(DataInput!Q306-Z306))/2)*(A307-A306))/27+S306+T306>0,ROUNDDOWN(((((DataInput!Q307-Z307)+(DataInput!Q306-Z306))/2)*(A307-A306))/27+S306+T306,0),0)),0),0)*$X$5),1)","v":166.4},176,{"$f":"ROUNDDOWN((IF(AC307>0,IFERROR(IF(((((DataInput!Q306-AC306)+(DataInput!Q307-AC307))/2)*(A307-A306))/27+S306+T306>0,ROUNDDOWN(((((DataInput!Q306-AC306)+(DataInput!Q307-AC307))/2)*(A307-A306))/27+S306+T306,0),0),0),0)*$X$5),1)","v":495.3},{"$f":"DataInput!U306","v":193},{"$f":"DataInput!S306","v":91},127.4,65.599999999999994]
[{"$f":"IF(DataInput!A307<>\"\",DataInput!A307,\"\")","v":88750},{"$f":"SUM(DataInput!C307,DataInput!Y307)+(DataInput!U307-DataInput!E307)","v":1116},{"$f":"SUM(DataInput!D307,DataInput!Z307)","v":932},{"$f":"DataInput!U307","v":184},{"$f":"SUM(DataInput!F307,DataInput!AB307)","v":0},{"$f":"SUM(DataInput!G307,DataInput!AC307)","v":0},{"$f":"SUM(DataInput!H307,DataInput!AD307)","v":0},{"$f":"DataInput!I307","v":27},{"$f":"SUM(DataInput!J307,DataInput!AF307)","v":0},{"$f":"SUM(DataInput!K307,DataInput!AG307)","v":0},{"$f":"SUM(DataInput!L307,DataInput!AH307)","v":0},{"$f":"SUM(DataInput!M307,DataInput!AI307)","v":0},{"$f":"SUM(DataInput!N307,DataInput!AJ307)","v":0},{"$f":"SUM(DataInput!O307,DataInput!AK307)","v":0},{"$f":"DataInput!P307","v":0},null,932,{"$f":"DataInput!R307","v":357},{"$f":"DataInput!Y307","v":97},{"$f":"IF(DataInput!U307-DataInput!E307>0,DataInput!U307-DataInput!E307,\"\")","v":65},{"$f":"IF(DataInput!W307-DataInput!I307>0,DataInput!W307-DataInput!I307,\"\")","v":5},null,524,681.2,250.8,450,3350,{"$f":"ROUNDDOWN((IF(AA308>0,IFERROR(IF(AVERAGE(DataInput!Q307:Q308)>AVERAGE(AA308,AA307),ROUNDDOWN(((((AA307-Z307)+(AA308-Z308))/2)*(A308-A307))/27,0),IF(((((DataInput!Q308-Z308)+(DataInput!Q307-Z307))/2)*(A308-A307))/27+S307+T307>0,ROUNDDOWN(((((DataInput!Q308-Z308)+(DataInput!Q307-Z307))/2)*(A308-A307))/27+S307+T307,0),0)),0),0)*$X$5),1)","v":132.6},176,{"$f":"ROUNDDOWN((IF(AC308>0,IFERROR(IF(((((DataInput!Q307-AC307)+(DataInput!Q308-AC308))/2)*(A308-A307))/27+S307+T307>0,ROUNDDOWN(((((DataInput!Q307-AC307)+(DataInput!Q308-AC308))/2)*(A308-A307))/27+S307+T307,0),0),0),0)*$X$5),1)","v":462.8},{"$f":"DataInput!U307","v":184},{"$f":"DataInput!S307","v":85},119,65]
[{"$f":"IF(DataInput!A308<>\"\",DataInput!A308,\"\")","v":88775},{"$f":"SUM(DataInput!C308,DataInput!Y308)+(DataInput!U308-DataInput!E308)","v":1054},{"$f":"SUM(DataInput!D308,DataInput!Z308)","v":876},{"$f":"DataInput!U308","v":178},{"$f":"SUM(DataInput!F308,DataInput!AB308)","v":0},{"$f":"SUM(DataInput!G308,DataInput!AC308)","v":0},{"$f":"SUM(DataInput!H308,DataInput!AD308)","v":0},{"$f":"DataInput!I308","v":27},{"$f":"SUM(DataInput!J308,DataInput!AF308)","v":0},{"$f":"SUM(DataInput!K308,DataInput!AG308)","v":0},{"$f":"SUM(DataInput!L308,DataInput!AH308)","v":0},{"$f":"SUM(DataInput!M308,DataInput!AI308)","v":0},{"$f":"SUM(DataInput!N308,DataInput!AJ308)","v":0},{"$f":"SUM(DataInput!O308,DataInput!AK308)","v":0},{"$f":"DataInput!P308","v":0},null,876,{"$f":"DataInput!R308","v":339},{"$f":"DataInput!Y308","v":97},{"$f":"IF(DataInput!U308-DataInput!E308>0,DataInput!U308-DataInput!E308,\"\")","v":64},{"$f":"IF(DataInput!W308-DataInput!I308>0,DataInput!W308-DataInput!I308,\"\")","v":5},null,505,656.5,219.5,450,3350,{"$f":"ROUNDDOWN((IF(AA309>0,IFERROR(IF(AVERAGE(DataInput!Q308:Q309)>AVERAGE(AA309,AA308),ROUNDDOWN(((((AA308-Z308)+(AA309-Z309))/2)*(A309-A308))/27,0),IF(((((DataInput!Q309-Z309)+(DataInput!Q308-Z308))/2)*(A309-A308))/27+S308+T308>0,ROUNDDOWN(((((DataInput!Q309-Z309)+(DataInput!Q308-Z308))/2)*(A309-A308))/27+S308+T308,0),0)),0),0)*$X$5),1)","v":106.6},176,{"$f":"ROUNDDOWN((IF(AC309>0,IFERROR(IF(((((DataInput!Q308-AC308)+(DataInput!Q309-AC309))/2)*(A309-A308))/27+S308+T308>0,ROUNDDOWN(((((DataInput!Q308-AC308)+(DataInput!Q309-AC309))/2)*(A309-A308))/27+S308+T308,0),0),0),0)*$X$5),1)","v":436.8},{"$f":"DataInput!U308","v":178},{"$f":"DataInput!S308","v":81},113.4,64.599999999999994]
[{"$f":"IF(DataInput!A309<>\"\",DataInput!A309,\"\")","v":88800},{"$f":"SUM(DataInput!C309,DataInput!Y309)+(DataInput!U309-DataInput!E309)","v":994},{"$f":"SUM(DataInput!D309,DataInput!Z309)","v":823},{"$f":"DataInput!U309","v":171},{"$f":"SUM(DataInput!F309,DataInput!AB309)","v":0},{"$f":"SUM(DataInput!G309,DataInput!AC309)","v":0},{"$f":"SUM(DataInput!H309,DataInput!AD309)","v":0},{"$f":"DataInput!I309","v":27},{"$f":"SUM(DataInput!J309,DataInput!AF309)","v":0},{"$f":"SUM(DataInput!K309,DataInput!AG309)","v":0},{"$f":"SUM(DataInput!L309,DataInput!AH309)","v":0},{"$f":"SUM(DataInput!M309,DataInput!AI309)","v":0},{"$f":"SUM(DataInput!N309,DataInput!AJ309)","v":0},{"$f":"SUM(DataInput!O309,DataInput!AK309)","v":0},{"$f":"DataInput!P309","v":0},null,823,{"$f":"DataInput!R309","v":320},{"$f":"DataInput!Y309","v":97},{"$f":"IF(DataInput!U309-DataInput!E309>0,DataInput!U309-DataInput!E309,\"\")","v":62},{"$f":"IF(DataInput!W309-DataInput!I309>0,DataInput!W309-DataInput!I309,\"\")","v":5},null,484,629.20000000000005,193.8,450,3350,{"$f":"ROUNDDOWN((IF(AA310>0,IFERROR(IF(AVERAGE(DataInput!Q309:Q310)>AVERAGE(AA310,AA309),ROUNDDOWN(((((AA309-Z309)+(AA310-Z310))/2)*(A310-A309))/27,0),IF(((((DataInput!Q310-Z310)+(DataInput!Q309-Z309))/2)*(A310-A309))/27+S309+T309>0,ROUNDDOWN(((((DataInput!Q310-Z310)+(DataInput!Q309-Z309))/2)*(A310-A309))/27+S309+T309,0),0)),0),0)*$X$5),1)","v":80.599999999999994},176,{"$f":"ROUNDDOWN((IF(AC310>0,IFERROR(IF(((((DataInput!Q309-AC309)+(DataInput!Q310-AC310))/2)*(A310-A309))/27+S309+T309>0,ROUNDDOWN(((((DataInput!Q309-AC309)+(DataInput!Q310-AC310))/2)*(A310-A309))/27+S309+T309,0),0),0),0)*$X$5),1)","v":410.8},{"$f":"DataInput!U309","v":171},{"$f":"DataInput!S309","v":76},106.4,64.599999999999994]
[{"$f":"IF(DataInput!A310<>\"\",DataInput!A310,\"\")","v":88825},{"$f":"SUM(DataInput!C310,DataInput!Y310)+(DataInput!U310-DataInput!E310)","v":954},{"$f":"SUM(DataInput!D310,DataInput!Z310)","v":791},{"$f":"DataInput!U310","v":163},{"$f":"SUM(DataInput!F310,DataInput!AB310)","v":0},{"$f":"SUM(DataInput!G310,DataInput!AC310)","v":0},{"$f":"SUM(DataInput!H310,DataInput!AD310)","v":0},{"$f":"DataInput!I310","v":27},{"$f":"SUM(DataInput!J310,DataInput!AF310)","v":0},{"$f":"SUM(DataInput!K310,DataInput!AG310)","v":0},{"$f":"SUM(DataInput!L310,DataInput!AH310)","v":0},{"$f":"SUM(DataInput!M310,DataInput!AI310)","v":0},{"$f":"SUM(DataInput!N310,DataInput!AJ310)","v":0},{"$f":"SUM(DataInput!O310,DataInput!AK310)","v":0},{"$f":"DataInput!P310","v":0},null,791,{"$f":"DataInput!R310","v":296},{"$f":"DataInput!Y310","v":97},{"$f":"IF(DataInput!U310-DataInput!E310>0,DataInput!U310-DataInput!E310,\"\")","v":58},{"$f":"IF(DataInput!W310-DataInput!I310>0,DataInput!W310-DataInput!I310,\"\")","v":5},null,456,592.79999999999995,198.2,450,3350,{"$f":"ROUNDDOWN((IF(AA311>0,IFERROR(IF(AVERAGE(DataInput!Q310:Q311)>AVERAGE(AA311,AA310),ROUNDDOWN(((((AA310-Z310)+(AA311-Z311))/2)*(A311-A310))/27,0),IF(((((DataInput!Q311-Z311)+(DataInput!Q310-Z310))/2)*(A311-A310))/27+S310+T310>0,ROUNDDOWN(((((DataInput!Q311-Z311)+(DataInput!Q310-Z310))/2)*(A311-A310))/27+S310+T310,0),0)),0),0)*$X$5),1)","v":44.2},176,{"$f":"ROUNDDOWN((IF(AC311>0,IFERROR(IF(((((DataInput!Q310-AC310)+(DataInput!Q311-AC311))/2)*(A311-A310))/27+S310+T310>0,ROUNDDOWN(((((DataInput!Q310-AC310)+(DataInput!Q311-AC311))/2)*(A311-A310))/27+S310+T310,0),0),0),0)*$X$5),1)","v":374.4},{"$f":"DataInput!U310","v":163},{"$f":"DataInput!S310","v":71},99.4,63.6]
[{"$f":"IF(DataInput!A311<>\"\",DataInput!A311,\"\")","v":88850},{"$f":"SUM(DataInput!C311,DataInput!Y311)+(DataInput!U311-DataInput!E311)","v":911},{"$f":"SUM(DataInput!D311,DataInput!Z311)","v":755},{"$f":"DataInput!U311","v":156},{"$f":"SUM(DataInput!F311,DataInput!AB311)","v":0},{"$f":"SUM(DataInput!G311,DataInput!AC311)","v":0},{"$f":"SUM(DataInput!H311,DataInput!AD311)","v":0},{"$f":"DataInput!I311","v":27},{"$f":"SUM(DataInput!J311,DataInput!AF311)","v":0},{"$f":"SUM(DataInput!K311,DataInput!AG311)","v":0},{"$f":"SUM(DataInput!L311,DataInput!AH311)","v":0},{"$f":"SUM(DataInput!M311,DataInput!AI311)","v":0},{"$f":"SUM(DataInput!N311,DataInput!AJ311)","v":0},{"$f":"SUM(DataInput!O311,DataInput!AK311)","v":0},{"$f":"DataInput!P311","v":0},null,755,{"$f":"DataInput!R311","v":276},{"$f":"DataInput!Y311","v":97},{"$f":"IF(DataInput!U311-DataInput!E311>0,DataInput!U311-DataInput!E311,\"\")","v":61},{"$f":"IF(DataInput!W311-DataInput!I311>0,DataInput!W311-DataInput!I311,\"\")","v":5},null,439,570.70000000000005,184.3,450,3350,{"$f":"ROUNDDOWN((IF(AA312>0,IFERROR(IF(AVERAGE(DataInput!Q311:Q312)>AVERAGE(AA312,AA311),ROUNDDOWN(((((AA311-Z311)+(AA312-Z312))/2)*(A312-A311))/27,0),IF(((((DataInput!Q312-Z312)+(DataInput!Q311-Z311))/2)*(A312-A311))/27+S311+T311>0,ROUNDDOWN(((((DataInput!Q312-Z312)+(DataInput!Q311-Z311))/2)*(A312-A311))/27+S311+T311,0),0)),0),0)*$X$5),1)","v":22.1},176,{"$f":"ROUNDDOWN((IF(AC312>0,IFERROR(IF(((((DataInput!Q311-AC311)+(DataInput!Q312-AC312))/2)*(A312-A311))/27+S311+T311>0,ROUNDDOWN(((((DataInput!Q311-AC311)+(DataInput!Q312-AC312))/2)*(A312-A311))/27+S311+T311,0),0),0),0)*$X$5),1)","v":351},{"$f":"DataInput!U311","v":156},{"$f":"DataInput!S311","v":66},92.4,63.6]
[{"$f":"IF(DataInput!A312<>\"\",DataInput!A312,\"\")","v":88875},{"$f":"SUM(DataInput!C312,DataInput!Y312)+(DataInput!U312-DataInput!E312)","v":856},{"$f":"SUM(DataInput!D312,DataInput!Z312)","v":708},{"$f":"DataInput!U312","v":147},{"$f":"SUM(DataInput!F312,DataInput!AB312)","v":0},{"$f":"SUM(DataInput!G312,DataInput!AC312)","v":0},{"$f":"SUM(DataInput!H312,DataInput!AD312)","v":0},{"$f":"DataInput!I312","v":27},{"$f":"SUM(DataInput!J312,DataInput!AF312)","v":0},{"$f":"SUM(DataInput!K312,DataInput!AG312)","v":0},{"$f":"SUM(DataInput!L312,DataInput!AH312)","v":0},{"$f":"SUM(DataInput!M312,DataInput!AI312)","v":0},{"$f":"SUM(DataInput!N312,DataInput!AJ312)","v":0},{"$f":"SUM(DataInput!O312,DataInput!AK312)","v":0},{"$f":"DataInput!P312","v":0},null,708,{"$f":"DataInput!R312","v":260},{"$f":"DataInput!Y312","v":97},{"$f":"IF(DataInput!U312-DataInput!E312>0,DataInput!U312-DataInput!E312,\"\")","v":65},{"$f":"IF(DataInput!W312-DataInput!I312>0,DataInput!W312-DataInput!I312,\"\")","v":5},null,427,555.1,152.9,450,3350,{"$f":"ROUNDDOWN((IF(AA313>0,IFERROR(IF(AVERAGE(DataInput!Q312:Q313)>AVERAGE(AA313,AA312),ROUNDDOWN(((((AA312-Z312)+(AA313-Z313))/2)*(A313-A312))/27,0),IF(((((DataInput!Q313-Z313)+(DataInput!Q312-Z312))/2)*(A313-A312))/27+S312+T312>0,ROUNDDOWN(((((DataInput!Q313-Z313)+(DataInput!Q312-Z312))/2)*(A313-A312))/27+S312+T312,0),0)),0),0)*$X$5),1)","v":6.5},176,{"$f":"ROUNDDOWN((IF(AC313>0,IFERROR(IF(((((DataInput!Q312-AC312)+(DataInput!Q313-AC313))/2)*(A313-A312))/27+S312+T312>0,ROUNDDOWN(((((DataInput!Q312-AC312)+(DataInput!Q313-AC313))/2)*(A313-A312))/27+S312+T312,0),0),0),0)*$X$5),1)","v":335.4},{"$f":"DataInput!U312","v":147},{"$f":"DataInput!S312","v":61},85.4,61.6]
[{"$f":"IF(DataInput!A313<>\"\",DataInput!A313,\"\")","v":88900},{"$f":"SUM(DataInput!C313,DataInput!Y313)+(DataInput!U313-DataInput!E313)","v":817},{"$f":"SUM(DataInput!D313,DataInput!Z313)","v":672},{"$f":"DataInput!U313","v":146},{"$f":"SUM(DataInput!F313,DataInput!AB313)","v":0},{"$f":"SUM(DataInput!G313,DataInput!AC313)","v":0},{"$f":"SUM(DataInput!H313,DataInput!AD313)","v":0},{"$f":"DataInput!I313","v":27},{"$f":"SUM(DataInput!J313,DataInput!AF313)","v":0},{"$f":"SUM(DataInput!K313,DataInput!AG313)","v":0},{"$f":"SUM(DataInput!L313,DataInput!AH313)","v":0},{"$f":"SUM(DataInput!M313,DataInput!AI313)","v":0},{"$f":"SUM(DataInput!N313,DataInput!AJ313)","v":0},{"$f":"SUM(DataInput!O313,DataInput!AK313)","v":0},{"$f":"DataInput!P313","v":0},null,672,{"$f":"DataInput!R313","v":241},{"$f":"DataInput!Y313","v":97},{"$f":"IF(DataInput!U313-DataInput!E313>0,DataInput!U313-DataInput!E313,\"\")","v":65},{"$f":"IF(DataInput!W313-DataInput!I313>0,DataInput!W313-DataInput!I313,\"\")","v":5},null,408,530.4,141.6,450,3350,{"$f":"ROUNDDOWN((IF(AA314>0,IFERROR(IF(AVERAGE(DataInput!Q313:Q314)>AVERAGE(AA314,AA313),ROUNDDOWN(((((AA313-Z313)+(AA314-Z314))/2)*(A314-A313))/27,0),IF(((((DataInput!Q314-Z314)+(DataInput!Q313-Z313))/2)*(A314-A313))/27+S313+T313>0,ROUNDDOWN(((((DataInput!Q314-Z314)+(DataInput!Q313-Z313))/2)*(A314-A313))/27+S313+T313,0),0)),0),0)*$X$5),1)","v":0},176,{"$f":"ROUNDDOWN((IF(AC314>0,IFERROR(IF(((((DataInput!Q313-AC313)+(DataInput!Q314-AC314))/2)*(A314-A313))/27+S313+T313>0,ROUNDDOWN(((((DataInput!Q313-AC313)+(DataInput!Q314-AC314))/2)*(A314-A313))/27+S313+T313,0),0),0),0)*$X$5),1)","v":312},{"$f":"DataInput!U313","v":146},{"$f":"DataInput!S313","v":60},84,62]
[{"$f":"IF(DataInput!A314<>\"\",DataInput!A314,\"\")","v":88925},{"$f":"SUM(DataInput!C314,DataInput!Y314)+(DataInput!U314-DataInput!E314)","v":787},{"$f":"SUM(DataInput!D314,DataInput!Z314)","v":643},{"$f":"DataInput!U314","v":144},{"$f":"SUM(DataInput!F314,DataInput!AB314)","v":0},{"$f":"SUM(DataInput!G314,DataInput!AC314)","v":0},{"$f":"SUM(DataInput!H314,DataInput!AD314)","v":0},{"$f":"DataInput!I314","v":26},{"$f":"SUM(DataInput!J314,DataInput!AF314)","v":0},{"$f":"SUM(DataInput!K314,DataInput!AG314)","v":0},{"$f":"SUM(DataInput!L314,DataInput!AH314)","v":0},{"$f":"SUM(DataInput!M314,DataInput!AI314)","v":0},{"$f":"SUM(DataInput!N314,DataInput!AJ314)","v":0},{"$f":"SUM(DataInput!O314,DataInput!AK314)","v":0},{"$f":"DataInput!P314","v":0},null,643,{"$f":"DataInput!R314","v":222},{"$f":"DataInput!Y314","v":96},{"$f":"IF(DataInput!U314-DataInput!E314>0,DataInput!U314-DataInput!E314,\"\")","v":67},{"$f":"IF(DataInput!W314-DataInput!I314>0,DataInput!W314-DataInput!I314,\"\")","v":5},null,390,507,136,450,3350,{"$f":"ROUNDDOWN((IF(AA315>0,IFERROR(IF(AVERAGE(DataInput!Q314:Q315)>AVERAGE(AA315,AA314),ROUNDDOWN(((((AA314-Z314)+(AA315-Z315))/2)*(A315-A314))/27,0),IF(((((DataInput!Q315-Z315)+(DataInput!Q314-Z314))/2)*(A315-A314))/27+S314+T314>0,ROUNDDOWN(((((DataInput!Q315-Z315)+(DataInput!Q314-Z314))/2)*(A315-A314))/27+S314+T314,0),0)),0),0)*$X$5),1)","v":0},176,{"$f":"ROUNDDOWN((IF(AC315>0,IFERROR(IF(((((DataInput!Q314-AC314)+(DataInput!Q315-AC315))/2)*(A315-A314))/27+S314+T314>0,ROUNDDOWN(((((DataInput!Q314-AC314)+(DataInput!Q315-AC315))/2)*(A315-A314))/27+S314+T314,0),0),0),0)*$X$5),1)","v":287.3},{"$f":"DataInput!U314","v":144},{"$f":"DataInput!S314","v":59},82.6,61.4]
[{"$f":"IF(DataInput!A315<>\"\",DataInput!A315,\"\")","v":88950},{"$f":"SUM(DataInput!C315,DataInput!Y315)+(DataInput!U315-DataInput!E315)","v":750},{"$f":"SUM(DataInput!D315,DataInput!Z315)","v":614},{"$f":"DataInput!U315","v":136},{"$f":"SUM(DataInput!F315,DataInput!AB315)","v":0},{"$f":"SUM(DataInput!G315,DataInput!AC315)","v":0},{"$f":"SUM(DataInput!H315,DataInput!AD315)","v":0},{"$f":"DataInput!I315","v":26},{"$f":"SUM(DataInput!J315,DataInput!AF315)","v":0},{"$f":"SUM(DataInput!K315,DataInput!AG315)","v":0},{"$f":"SUM(DataInput!L315,DataInput!AH315)","v":0},{"$f":"SUM(DataInput!M315,DataInput!AI315)","v":0},{"$f":"SUM(DataInput!N315,DataInput!AJ315)","v":0},{"$f":"SUM(DataInput!O315,DataInput!AK315)","v":0},{"$f":"DataInput!P315","v":0},null,614,{"$f":"DataInput!R315","v":202},{"$f":"DataInput!Y315","v":95},{"$f":"IF(DataInput!U315-DataInput!E315>0,DataInput!U315-DataInput!E315,\"\")","v":71},{"$f":"IF(DataInput!W315-DataInput!I315>0,DataInput!W315-DataInput!I315,\"\")","v":4},null,372,483.6,130.4,450,3350,{"$f":"ROUNDDOWN((IF(AA316>0,IFERROR(IF(AVERAGE(DataInput!Q315:Q316)>AVERAGE(AA316,AA315),ROUNDDOWN(((((AA315-Z315)+(AA316-Z316))/2)*(A316-A315))/27,0),IF(((((DataInput!Q316-Z316)+(DataInput!Q315-Z315))/2)*(A316-A315))/27+S315+T315>0,ROUNDDOWN(((((DataInput!Q316-Z316)+(DataInput!Q315-Z315))/2)*(A316-A315))/27+S315+T315,0),0)),0),0)*$X$5),1)","v":0},176,{"$f":"ROUNDDOWN((IF(AC316>0,IFERROR(IF(((((DataInput!Q315-AC315)+(DataInput!Q316-AC316))/2)*(A316-A315))/27+S315+T315>0,ROUNDDOWN(((((DataInput!Q315-AC315)+(DataInput!Q316-AC316))/2)*(A316-A315))/27+S315+T315,0),0),0),0)*$X$5),1)","v":266.5},{"$f":"DataInput!U315","v":136},{"$f":"DataInput!S315","v":54},75.599999999999994,60.4]
[{"$f":"IF(DataInput!A316<>\"\",DataInput!A316,\"\")","v":88975},{"$f":"SUM(DataInput!C316,DataInput!Y316)+(DataInput!U316-DataInput!E316)","v":719},{"$f":"SUM(DataInput!D316,DataInput!Z316)","v":589},{"$f":"DataInput!U316","v":130},{"$f":"SUM(DataInput!F316,DataInput!AB316)","v":0},{"$f":"SUM(DataInput!G316,DataInput!AC316)","v":0},{"$f":"SUM(DataInput!H316,DataInput!AD316)","v":0},{"$f":"DataInput!I316","v":27},{"$f":"SUM(DataInput!J316,DataInput!AF316)","v":0},{"$f":"SUM(DataInput!K316,DataInput!AG316)","v":0},{"$f":"SUM(DataInput!L316,DataInput!AH316)","v":0},{"$f":"SUM(DataInput!M316,DataInput!AI316)","v":0},{"$f":"SUM(DataInput!N316,DataInput!AJ316)","v":0},{"$f":"SUM(DataInput!O316,DataInput!AK316)","v":0},{"$f":"DataInput!P316","v":0},null,{"$f":"SUM(C316,E316:G316,I316:L316,O316:P316)","v":589},{"$f":"DataInput!R316","v":187},{"$f":"DataInput!Y316","v":95},{"$f":"IF(DataInput!U316-DataInput!E316>0,DataInput!U316-DataInput!E316,\"\")","v":72},{"$f":"IF(DataInput!W316-DataInput!I316>0,DataInput!W316-DataInput!I316,\"\")","v":3},null,{"$f":"SUM(R316:V316)","v":357},{"$f":"ROUNDUP(($W316*$X$5),1)","v":464.1},{"$f":"ROUNDUP(SUM(Q316-X316),1)","v":124.9},450,3350,{"$f":"ROUNDDOWN((IF(AA317>0,IFERROR(IF(AVERAGE(DataInput!Q316:Q317)>AVERAGE(AA317,AA316),ROUNDDOWN(((((AA316-Z316)+(AA317-Z317))/2)*(A317-A316))/27,0),IF(((((DataInput!Q317-Z317)+(DataInput!Q316-Z316))/2)*(A317-A316))/27+S316+T316>0,ROUNDDOWN(((((DataInput!Q317-Z317)+(DataInput!Q316-Z316))/2)*(A317-A316))/27+S316+T316,0),0)),0),0)*$X$5),1)","v":0},176,{"$f":"ROUNDDOWN((IF(AC317>0,IFERROR(IF(((((DataInput!Q316-AC316)+(DataInput!Q317-AC317))/2)*(A317-A316))/27+S316+T316>0,ROUNDDOWN(((((DataInput!Q316-AC316)+(DataInput!Q317-AC317))/2)*(A317-A316))/27+S316+T316,0),0),0),0)*$X$5),1)","v":247},{"$f":"DataInput!U316","v":130},{"$f":"DataInput!S316","v":50},{"$f":"ROUNDUP((AF316*$AG$5),1)","v":70},{"$f":"ROUNDUP((AE316-AG316),1)","v":60}]
[{"$f":"IF(DataInput!A317<>\"\",DataInput!A317,\"\")","v":89000},{"$f":"SUM(DataInput!C317,DataInput!Y317)+(DataInput!U317-DataInput!E317)","v":671},{"$f":"SUM(DataInput!D317,DataInput!Z317)","v":547},{"$f":"DataInput!U317","v":124},{"$f":"SUM(DataInput!F317,DataInput!AB317)","v":0},{"$f":"SUM(DataInput!G317,DataInput!AC317)","v":0},{"$f":"SUM(DataInput!H317,DataInput!AD317)","v":0},{"$f":"DataInput!I317","v":27},{"$f":"SUM(DataInput!J317,DataInput!AF317)","v":0},{"$f":"SUM(DataInput!K317,DataInput!AG317)","v":0},{"$f":"SUM(DataInput!L317,DataInput!AH317)","v":0},{"$f":"SUM(DataInput!M317,DataInput!AI317)","v":0},{"$f":"SUM(DataInput!N317,DataInput!AJ317)","v":0},{"$f":"SUM(DataInput!O317,DataInput!AK317)","v":0},{"$f":"DataInput!P317","v":0},null,547,{"$f":"DataInput!R317","v":180},{"$f":"DataInput!Y317","v":95},{"$f":"IF(DataInput!U317-DataInput!E317>0,DataInput!U317-DataInput!E317,\"\")","v":71},{"$f":"IF(DataInput!W317-DataInput!I317>0,DataInput!W317-DataInput!I317,\"\")","v":2},null,348,452.4,94.6,{"$f":"Z316","v":450},{"$f":"AA316","v":3350},{"$f":"ROUNDDOWN((IF(AA318>0,IFERROR(IF(AVERAGE(DataInput!Q317:Q318)>AVERAGE(AA318,AA317),ROUNDDOWN(((((AA317-Z317)+(AA318-Z318))/2)*(A318-A317))/27,0),IF(((((DataInput!Q318-Z318)+(DataInput!Q317-Z317))/2)*(A318-A317))/27+S317+T317>0,ROUNDDOWN(((((DataInput!Q318-Z318)+(DataInput!Q317-Z317))/2)*(A318-A317))/27+S317+T317,0),0)),0),0)*$X$5),1)","v":0},{"$f":"AC316","v":176},{"$f":"ROUNDDOWN((IF(AC318>0,IFERROR(IF(((((DataInput!Q317-AC317)+(DataInput!Q318-AC318))/2)*(A318-A317))/27+S317+T317>0,ROUNDDOWN(((((DataInput!Q317-AC317)+(DataInput!Q318-AC318))/2)*(A318-A317))/27+S317+T317,0),0),0),0)*$X$5),1)","v":237.9},{"$f":"DataInput!U317","v":124},{"$f":"DataInput!S317","v":46},64.400000000000006,59.6]
[{"$f":"IF(DataInput!A318<>\"\",DataInput!A318,\"\")","v":89025},{"$f":"SUM(DataInput!C318,DataInput!Y318)+(DataInput!U318-DataInput!E318)","v":619},{"$f":"SUM(DataInput!D318,DataInput!Z318)","v":498},{"$f":"DataInput!U318","v":121},{"$f":"SUM(DataInput!F318,DataInput!AB318)","v":0},{"$f":"SUM(DataInput!G318,DataInput!AC318)","v":0},{"$f":"SUM(DataInput!H318,DataInput!AD318)","v":0},{"$f":"DataInput!I318","v":27},{"$f":"SUM(DataInput!J318,DataInput!AF318)","v":0},{"$f":"SUM(DataInput!K318,DataInput!AG318)","v":0},{"$f":"SUM(DataInput!L318,DataInput!AH318)","v":0},{"$f":"SUM(DataInput!M318,DataInput!AI318)","v":0},{"$f":"SUM(DataInput!N318,DataInput!AJ318)","v":0},{"$f":"SUM(DataInput!O318,DataInput!AK318)","v":0},{"$f":"DataInput!P318","v":0},null,498,{"$f":"DataInput!R318","v":177},{"$f":"DataInput!Y318","v":95},{"$f":"IF(DataInput!U318-DataInput!E318>0,DataInput!U318-DataInput!E318,\"\")","v":71},{"$f":"IF(DataInput!W318-DataInput!I318>0,DataInput!W318-DataInput!I318,\"\")","v":1},null,344,447.2,50.8,450,3350,{"$f":"ROUNDDOWN((IF(AA319>0,IFERROR(IF(AVERAGE(DataInput!Q318:Q319)>AVERAGE(AA319,AA318),ROUNDDOWN(((((AA318-Z318)+(AA319-Z319))/2)*(A319-A318))/27,0),IF(((((DataInput!Q319-Z319)+(DataInput!Q318-Z318))/2)*(A319-A318))/27+S318+T318>0,ROUNDDOWN(((((DataInput!Q319-Z319)+(DataInput!Q318-Z318))/2)*(A319-A318))/27+S318+T318,0),0)),0),0)*$X$5),1)","v":0},176,{"$f":"ROUNDDOWN((IF(AC319>0,IFERROR(IF(((((DataInput!Q318-AC318)+(DataInput!Q319-AC319))/2)*(A319-A318))/27+S318+T318>0,ROUNDDOWN(((((DataInput!Q318-AC318)+(DataInput!Q319-AC319))/2)*(A319-A318))/27+S318+T318,0),0),0),0)*$X$5),1)","v":232.7},{"$f":"DataInput!U318","v":121},{"$f":"DataInput!S318","v":43},60.2,60.8]
[{"$f":"IF(DataInput!A319<>\"\",DataInput!A319,\"\")","v":89050},{"$f":"SUM(DataInput!C319,DataInput!Y319)+(DataInput!U319-DataInput!E319)","v":578},{"$f":"SUM(DataInput!D319,DataInput!Z319)","v":457},{"$f":"DataInput!U319","v":121},{"$f":"SUM(DataInput!F319,DataInput!AB319)","v":0},{"$f":"SUM(DataInput!G319,DataInput!AC319)","v":0},{"$f":"SUM(DataInput!H319,DataInput!AD319)","v":0},{"$f":"DataInput!I319","v":27},{"$f":"SUM(DataInput!J319,DataInput!AF319)","v":0},{"$f":"SUM(DataInput!K319,DataInput!AG319)","v":0},{"$f":"SUM(DataInput!L319,DataInput!AH319)","v":0},{"$f":"SUM(DataInput!M319,DataInput!AI319)","v":0},{"$f":"SUM(DataInput!N319,DataInput!AJ319)","v":0},{"$f":"SUM(DataInput!O319,DataInput!AK319)","v":0},{"$f":"DataInput!P319","v":0},null,457,{"$f":"DataInput!R319","v":174},{"$f":"DataInput!Y319","v":95},{"$f":"IF(DataInput!U319-DataInput!E319>0,DataInput!U319-DataInput!E319,\"\")","v":72},{"$f":"IF(DataInput!W319-DataInput!I319>0,DataInput!W319-DataInput!I319,\"\")","v":""},null,341,443.3,13.7,450,3350,{"$f":"ROUNDDOWN((IF(AA320>0,IFERROR(IF(AVERAGE(DataInput!Q319:Q320)>AVERAGE(AA320,AA319),ROUNDDOWN(((((AA319-Z319)+(AA320-Z320))/2)*(A320-A319))/27,0),IF(((((DataInput!Q320-Z320)+(DataInput!Q319-Z319))/2)*(A320-A319))/27+S319+T319>0,ROUNDDOWN(((((DataInput!Q320-Z320)+(DataInput!Q319-Z319))/2)*(A320-A319))/27+S319+T319,0),0)),0),0)*$X$5),1)","v":0},176,{"$f":"ROUNDDOWN((IF(AC320>0,IFERROR(IF(((((DataInput!Q319-AC319)+(DataInput!Q320-AC320))/2)*(A320-A319))/27+S319+T319>0,ROUNDDOWN(((((DataInput!Q319-AC319)+(DataInput!Q320-AC320))/2)*(A320-A319))/27+S319+T319,0),0),0),0)*$X$5),1)","v":230.1},{"$f":"DataInput!U319","v":121},{"$f":"DataInput!S319","v":41},57.4,63.6]
[{"$f":"IF(DataInput!A320<>\"\",DataInput!A320,\"\")","v":89075},{"$f":"SUM(DataInput!C320,DataInput!Y320)+(DataInput!U320-DataInput!E320)","v":538},{"$f":"SUM(DataInput!D320,DataInput!Z320)","v":416},{"$f":"DataInput!U320","v":122},{"$f":"SUM(DataInput!F320,DataInput!AB320)","v":0},{"$f":"SUM(DataInput!G320,DataInput!AC320)","v":0},{"$f":"SUM(DataInput!H320,DataInput!AD320)","v":0},{"$f":"DataInput!I320","v":27},{"$f":"SUM(DataInput!J320,DataInput!AF320)","v":0},{"$f":"SUM(DataInput!K320,DataInput!AG320)","v":0},{"$f":"SUM(DataInput!L320,DataInput!AH320)","v":0},{"$f":"SUM(DataInput!M320,DataInput!AI320)","v":0},{"$f":"SUM(DataInput!N320,DataInput!AJ320)","v":0},{"$f":"SUM(DataInput!O320,DataInput!AK320)","v":0},{"$f":"DataInput!P320","v":0},null,416,{"$f":"DataInput!R320","v":177},{"$f":"DataInput!Y320","v":95},{"$f":"IF(DataInput!U320-DataInput!E320>0,DataInput!U320-DataInput!E320,\"\")","v":74},{"$f":"IF(DataInput!W320-DataInput!I320>0,DataInput!W320-DataInput!I320,\"\")","v":""},null,346,449.8,-33.799999999999997,450,3350,{"$f":"ROUNDDOWN((IF(AA321>0,IFERROR(IF(AVERAGE(DataInput!Q320:Q321)>AVERAGE(AA321,AA320),ROUNDDOWN(((((AA320-Z320)+(AA321-Z321))/2)*(A321-A320))/27,0),IF(((((DataInput!Q321-Z321)+(DataInput!Q320-Z320))/2)*(A321-A320))/27+S320+T320>0,ROUNDDOWN(((((DataInput!Q321-Z321)+(DataInput!Q320-Z320))/2)*(A321-A320))/27+S320+T320,0),0)),0),0)*$X$5),1)","v":0},176,{"$f":"ROUNDDOWN((IF(AC321>0,IFERROR(IF(((((DataInput!Q320-AC320)+(DataInput!Q321-AC321))/2)*(A321-A320))/27+S320+T320>0,ROUNDDOWN(((((DataInput!Q320-AC320)+(DataInput!Q321-AC321))/2)*(A321-A320))/27+S320+T320,0),0),0),0)*$X$5),1)","v":236.6},{"$f":"DataInput!U320","v":122},{"$f":"DataInput!S320","v":41},57.4,64.599999999999994]
[{"$f":"IF(DataInput!A321<>\"\",DataInput!A321,\"\")","v":89100},{"$f":"SUM(DataInput!C321,DataInput!Y321)+(DataInput!U321-DataInput!E321)","v":508},{"$f":"SUM(DataInput!D321,DataInput!Z321)","v":385},{"$f":"DataInput!U321","v":123},{"$f":"SUM(DataInput!F321,DataInput!AB321)","v":0},{"$f":"SUM(DataInput!G321,DataInput!AC321)","v":0},{"$f":"SUM(DataInput!H321,DataInput!AD321)","v":0},{"$f":"DataInput!I321","v":27},{"$f":"SUM(DataInput!J321,DataInput!AF321)","v":0},{"$f":"SUM(DataInput!K321,DataInput!AG321)","v":0},{"$f":"SUM(DataInput!L321,DataInput!AH321)","v":0},{"$f":"SUM(DataInput!M321,DataInput!AI321)","v":0},{"$f":"SUM(DataInput!N321,DataInput!AJ321)","v":0},{"$f":"SUM(DataInput!O321,DataInput!AK321)","v":0},{"$f":"DataInput!P321","v":0},null,385,{"$f":"DataInput!R321","v":185},{"$f":"DataInput!Y321","v":95},{"$f":"IF(DataInput!U321-DataInput!E321>0,DataInput!U321-DataInput!E321,\"\")","v":76},{"$f":"IF(DataInput!W321-DataInput!I321>0,DataInput!W321-DataInput!I321,\"\")","v":1},null,357,464.1,-79.099999999999994,450,3350,{"$f":"ROUNDDOWN((IF(AA322>0,IFERROR(IF(AVERAGE(DataInput!Q321:Q322)>AVERAGE(AA322,AA321),ROUNDDOWN(((((AA321-Z321)+(AA322-Z322))/2)*(A322-A321))/27,0),IF(((((DataInput!Q322-Z322)+(DataInput!Q321-Z321))/2)*(A322-A321))/27+S321+T321>0,ROUNDDOWN(((((DataInput!Q322-Z322)+(DataInput!Q321-Z321))/2)*(A322-A321))/27+S321+T321,0),0)),0),0)*$X$5),1)","v":0},176,{"$f":"ROUNDDOWN((IF(AC322>0,IFERROR(IF(((((DataInput!Q321-AC321)+(DataInput!Q322-AC322))/2)*(A322-A321))/27+S321+T321>0,ROUNDDOWN(((((DataInput!Q321-AC321)+(DataInput!Q322-AC322))/2)*(A322-A321))/27+S321+T321,0),0),0),0)*$X$5),1)","v":249.6},{"$f":"DataInput!U321","v":123},{"$f":"DataInput!S321","v":42},58.8,64.2]
[{"$f":"IF(DataInput!A322<>\"\",DataInput!A322,\"\")","v":89125},{"$f":"SUM(DataInput!C322,DataInput!Y322)+(DataInput!U322-DataInput!E322)","v":487},{"$f":"SUM(DataInput!D322,DataInput!Z322)","v":363},{"$f":"DataInput!U322","v":123},{"$f":"SUM(DataInput!F322,DataInput!AB322)","v":0},{"$f":"SUM(DataInput!G322,DataInput!AC322)","v":0},{"$f":"SUM(DataInput!H322,DataInput!AD322)","v":0},{"$f":"DataInput!I322","v":27},{"$f":"SUM(DataInput!J322,DataInput!AF322)","v":0},{"$f":"SUM(DataInput!K322,DataInput!AG322)","v":0},{"$f":"SUM(DataInput!L322,DataInput!AH322)","v":0},{"$f":"SUM(DataInput!M322,DataInput!AI322)","v":0},{"$f":"SUM(DataInput!N322,DataInput!AJ322)","v":0},{"$f":"SUM(DataInput!O322,DataInput!AK322)","v":0},{"$f":"DataInput!P322","v":0},null,363,{"$f":"DataInput!R322","v":197},{"$f":"DataInput!Y322","v":95},{"$f":"IF(DataInput!U322-DataInput!E322>0,DataInput!U322-DataInput!E322,\"\")","v":78},{"$f":"IF(DataInput!W322-DataInput!I322>0,DataInput!W322-DataInput!I322,\"\")","v":1},null,371,482.3,-119.3,450,3350,{"$f":"ROUNDDOWN((IF(AA323>0,IFERROR(IF(AVERAGE(DataInput!Q322:Q323)>AVERAGE(AA323,AA322),ROUNDDOWN(((((AA322-Z322)+(AA323-Z323))/2)*(A323-A322))/27,0),IF(((((DataInput!Q323-Z323)+(DataInput!Q322-Z322))/2)*(A323-A322))/27+S322+T322>0,ROUNDDOWN(((((DataInput!Q323-Z323)+(DataInput!Q322-Z322))/2)*(A323-A322))/27+S322+T322,0),0)),0),0)*$X$5),1)","v":0},176,{"$f":"ROUNDDOWN((IF(AC323>0,IFERROR(IF(((((DataInput!Q322-AC322)+(DataInput!Q323-AC323))/2)*(A323-A322))/27+S322+T322>0,ROUNDDOWN(((((DataInput!Q322-AC322)+(DataInput!Q323-AC323))/2)*(A323-A322))/27+S322+T322,0),0),0),0)*$X$5),1)","v":269.10000000000002},{"$f":"DataInput!U322","v":123},{"$f":"DataInput!S322","v":42},58.8,64.2]
[{"$f":"IF(DataInput!A323<>\"\",DataInput!A323,\"\")","v":89150},{"$f":"SUM(DataInput!C323,DataInput!Y323)+(DataInput!U323-DataInput!E323)","v":469},{"$f":"SUM(DataInput!D323,DataInput!Z323)","v":344},{"$f":"DataInput!U323","v":124},{"$f":"SUM(DataInput!F323,DataInput!AB323)","v":0},{"$f":"SUM(DataInput!G323,DataInput!AC323)","v":0},{"$f":"SUM(DataInput!H323,DataInput!AD323)","v":0},{"$f":"DataInput!I323","v":27},{"$f":"SUM(DataInput!J323,DataInput!AF323)","v":0},{"$f":"SUM(DataInput!K323,DataInput!AG323)","v":0},{"$f":"SUM(DataInput!L323,DataInput!AH323)","v":0},{"$f":"SUM(DataInput!M323,DataInput!AI323)","v":0},{"$f":"SUM(DataInput!N323,DataInput!AJ323)","v":0},{"$f":"SUM(DataInput!O323,DataInput!AK323)","v":0},{"$f":"DataInput!P323","v":0},null,344,{"$f":"DataInput!R323","v":206},{"$f":"DataInput!Y323","v":95},{"$f":"IF(DataInput!U323-DataInput!E323>0,DataInput!U323-DataInput!E323,\"\")","v":80},{"$f":"IF(DataInput!W323-DataInput!I323>0,DataInput!W323-DataInput!I323,\"\")","v":""},null,381,495.3,-151.30000000000001,450,3350,{"$f":"ROUNDDOWN((IF(AA324>0,IFERROR(IF(AVERAGE(DataInput!Q323:Q324)>AVERAGE(AA324,AA323),ROUNDDOWN(((((AA323-Z323)+(AA324-Z324))/2)*(A324-A323))/27,0),IF(((((DataInput!Q324-Z324)+(DataInput!Q323-Z323))/2)*(A324-A323))/27+S323+T323>0,ROUNDDOWN(((((DataInput!Q324-Z324)+(DataInput!Q323-Z323))/2)*(A324-A323))/27+S323+T323,0),0)),0),0)*$X$5),1)","v":0},176,{"$f":"ROUNDDOWN((IF(AC324>0,IFERROR(IF(((((DataInput!Q323-AC323)+(DataInput!Q324-AC324))/2)*(A324-A323))/27+S323+T323>0,ROUNDDOWN(((((DataInput!Q323-AC323)+(DataInput!Q324-AC324))/2)*(A324-A323))/27+S323+T323,0),0),0),0)*$X$5),1)","v":283.39999999999998},{"$f":"DataInput!U323","v":124},{"$f":"DataInput!S323","v":42},58.8,65.2]
[{"$f":"IF(DataInput!A324<>\"\",DataInput!A324,\"\")","v":89175},{"$f":"SUM(DataInput!C324,DataInput!Y324)+(DataInput!U324-DataInput!E324)","v":451},{"$f":"SUM(DataInput!D324,DataInput!Z324)","v":326},{"$f":"DataInput!U324","v":125},{"$f":"SUM(DataInput!F324,DataInput!AB324)","v":0},{"$f":"SUM(DataInput!G324,DataInput!AC324)","v":0},{"$f":"SUM(DataInput!H324,DataInput!AD324)","v":0},{"$f":"DataInput!I324","v":27},{"$f":"SUM(DataInput!J324,DataInput!AF324)","v":0},{"$f":"SUM(DataInput!K324,DataInput!AG324)","v":0},{"$f":"SUM(DataInput!L324,DataInput!AH324)","v":0},{"$f":"SUM(DataInput!M324,DataInput!AI324)","v":0},{"$f":"SUM(DataInput!N324,DataInput!AJ324)","v":0},{"$f":"SUM(DataInput!O324,DataInput!AK324)","v":0},{"$f":"DataInput!P324","v":0},null,326,{"$f":"DataInput!R324","v":211},{"$f":"DataInput!Y324","v":95},{"$f":"IF(DataInput!U324-DataInput!E324>0,DataInput!U324-DataInput!E324,\"\")","v":82},{"$f":"IF(DataInput!W324-DataInput!I324>0,DataInput!W324-DataInput!I324,\"\")","v":""},null,388,504.4,-178.4,450,3350,{"$f":"ROUNDDOWN((IF(AA325>0,IFERROR(IF(AVERAGE(DataInput!Q324:Q325)>AVERAGE(AA325,AA324),ROUNDDOWN(((((AA324-Z324)+(AA325-Z325))/2)*(A325-A324))/27,0),IF(((((DataInput!Q325-Z325)+(DataInput!Q324-Z324))/2)*(A325-A324))/27+S324+T324>0,ROUNDDOWN(((((DataInput!Q325-Z325)+(DataInput!Q324-Z324))/2)*(A325-A324))/27+S324+T324,0),0)),0),0)*$X$5),1)","v":0},176,{"$f":"ROUNDDOWN((IF(AC325>0,IFERROR(IF(((((DataInput!Q324-AC324)+(DataInput!Q325-AC325))/2)*(A325-A324))/27+S324+T324>0,ROUNDDOWN(((((DataInput!Q324-AC324)+(DataInput!Q325-AC325))/2)*(A325-A324))/27+S324+T324,0),0),0),0)*$X$5),1)","v":0},{"$f":"DataInput!U324","v":125},{"$f":"DataInput!S324","v":43},60.2,64.8]
[{"$f":"IF(DataInput!A325<>\"\",DataInput!A325,\"\")","v":89200}]
[]
["Stage 2"]
[]
[{"$f":"IF(DataInput!A329<>\"\",DataInput!A329,\"\")","v":"STG2_Trail"}]
[{"$f":"IF(DataInput!A330<>\"\",DataInput!A330,\"\")","v":881400},{"$f":"SUM(DataInput!C330,DataInput!Y330)+(DataInput!U330-DataInput!E330)","v":38},{"$f":"SUM(DataInput!D330,DataInput!Z330)","v":13},{"$f":"DataInput!U330","v":24},{"$f":"SUM(DataInput!F330,DataInput!AB330)","v":0},{"$f":"SUM(DataInput!G330,DataInput!AC330)","v":0},{"$f":"SUM(DataInput!H330,DataInput!AD330)","v":0},{"$f":"DataInput!I330","v":10},{"$f":"SUM(DataInput!J330,DataInput!AF330)","v":0},{"$f":"SUM(DataInput!K330,DataInput!AG330)","v":0},{"$f":"SUM(DataInput!L330,DataInput!AH330)","v":0},{"$f":"SUM(DataInput!M330,DataInput!AI330)","v":0},{"$f":"SUM(DataInput!N330,DataInput!AJ330)","v":0},{"$f":"SUM(DataInput!O330,DataInput!AK330)","v":0},{"$f":"DataInput!P330","v":0},null,{"$f":"SUM(C330,E330:G330,I330:L330,O330:P330)","v":13},{"$f":"DataInput!R330","v":52},{"$f":"DataInput!Y330","v":0},{"$f":"IF(DataInput!U330-DataInput!E330>0,DataInput!U330-DataInput!E330,\"\")","v":17},{"$f":"IF(DataInput!W330-DataInput!I330>0,DataInput!W330-DataInput!I330,\"\")","v":5},null,{"$f":"SUM(R330:V330)","v":74},{"$f":"ROUNDUP(($W330*$X$5),1)","v":96.2},{"$f":"ROUNDUP(SUM(Q330-X330),1)","v":-83.2},null,null,{"$f":"ROUNDDOWN((IF(AA331>0,IFERROR(IF(AVERAGE(DataInput!Q330:Q331)>AVERAGE(AA331,AA330),ROUNDDOWN(((((AA330-Z330)+(AA331-Z331))/2)*(A331-A330))/27,0),IF(((((DataInput!Q331-Z331)+(DataInput!Q330-Z330))/2)*(A331-A330))/27+S330+T330>0,ROUNDDOWN(((((DataInput!Q331-Z331)+(DataInput!Q330-Z330))/2)*(A331-A330))/27+S330+T330,0),0)),0),0)*$X$5),1)","v":0},null,{"$f":"ROUNDDOWN((IF(AC331>0,IFERROR(IF(((((DataInput!Q330-AC330)+(DataInput!Q331-AC331))/2)*(A331-A330))/27+S330+T330>0,ROUNDDOWN(((((DataInput!Q330-AC330)+(DataInput!Q331-AC331))/2)*(A331-A330))/27+S330+T330,0),0),0),0)*$X$5),1)","v":0},{"$f":"DataInput!U330","v":24},{"$f":"DataInput!S330","v":17},{"$f":"ROUNDUP((AF330*$AG$5),1)","v":23.8},{"$f":"ROUNDUP((AE330-AG330),1)","v":0.2}]
[{"$f":"IF(DataInput!A331<>\"\",DataInput!A331,\"\")","v":881425},{"$f":"SUM(DataInput!C331,DataInput!Y331)+(DataInput!U331-DataInput!E331)","v":51},{"$f":"SUM(DataInput!D331,DataInput!Z331)","v":26},{"$f":"DataInput!U331","v":25},{"$f":"SUM(DataInput!F331,DataInput!AB331)","v":0},{"$f":"SUM(DataInput!G331,DataInput!AC331)","v":0},{"$f":"SUM(DataInput!H331,DataInput!AD331)","v":0},{"$f":"DataInput!I331","v":20},{"$f":"SUM(DataInput!J331,DataInput!AF331)","v":0},{"$f":"SUM(DataInput!K331,DataInput!AG331)","v":0},{"$f":"SUM(DataInput!L331,DataInput!AH331)","v":0},{"$f":"SUM(DataInput!M331,DataInput!AI331)","v":0},{"$f":"SUM(DataInput!N331,DataInput!AJ331)","v":0},{"$f":"SUM(DataInput!O331,DataInput!AK331)","v":0},{"$f":"DataInput!P331","v":0},null,{"$f":"SUM(C331,E331:G331,I331:L331,O331:P331)","v":26},{"$f":"DataInput!R331","v":53},{"$f":"DataInput!Y331","v":0},{"$f":"IF(DataInput!U331-DataInput!E331>0,DataInput!U331-DataInput!E331,\"\")","v":16},{"$f":"IF(DataInput!W331-DataInput!I331>0,DataInput!W331-DataInput!I331,\"\")","v":5},null,{"$f":"SUM(R331:V331)","v":74},{"$f":"ROUNDUP(($W331*$X$5),1)","v":96.2},{"$f":"ROUNDUP(SUM(Q331-X331),1)","v":-70.2},{"$f":"Z330","v":0},{"$f":"AA330","v":0},{"$f":"ROUNDDOWN((IF(AA332>0,IFERROR(IF(AVERAGE(DataInput!Q331:Q332)>AVERAGE(AA332,AA331),ROUNDDOWN(((((AA331-Z331)+(AA332-Z332))/2)*(A332-A331))/27,0),IF(((((DataInput!Q332-Z332)+(DataInput!Q331-Z331))/2)*(A332-A331))/27+S331+T331>0,ROUNDDOWN(((((DataInput!Q332-Z332)+(DataInput!Q331-Z331))/2)*(A332-A331))/27+S331+T331,0),0)),0),0)*$X$5),1)","v":0},{"$f":"AC330","v":0},{"$f":"ROUNDDOWN((IF(AC332>0,IFERROR(IF(((((DataInput!Q331-AC331)+(DataInput!Q332-AC332))/2)*(A332-A331))/27+S331+T331>0,ROUNDDOWN(((((DataInput!Q331-AC331)+(DataInput!Q332-AC332))/2)*(A332-A331))/27+S331+T331,0),0),0),0)*$X$5),1)","v":0},{"$f":"DataInput!U331","v":25},{"$f":"DataInput!S331","v":25},{"$f":"ROUNDUP((AF331*$AG$5),1)","v":35},{"$f":"ROUNDUP((AE331-AG331),1)","v":-10}]
[{"$f":"IF(DataInput!A332<>\"\",DataInput!A332,\"\")","v":881450},{"$f":"SUM(DataInput!C332,DataInput!Y332)+(DataInput!U332-DataInput!E332)","v":50},{"$f":"SUM(DataInput!D332,DataInput!Z332)","v":26},{"$f":"DataInput!U332","v":24},{"$f":"SUM(DataInput!F332,DataInput!AB332)","v":0},{"$f":"SUM(DataInput!G332,DataInput!AC332)","v":0},{"$f":"SUM(DataInput!H332,DataInput!AD332)","v":0},{"$f":"DataInput!I332","v":20},{"$f":"SUM(DataInput!J332,DataInput!AF332)","v":0},{"$f":"SUM(DataInput!K332,DataInput!AG332)","v":0},{"$f":"SUM(DataInput!L332,DataInput!AH332)","v":0},{"$f":"SUM(DataInput!M332,DataInput!AI332)","v":0},{"$f":"SUM(DataInput!N332,DataInput!AJ332)","v":0},{"$f":"SUM(DataInput!O332,DataInput!AK332)","v":0},{"$f":"DataInput!P332","v":0},null,26,{"$f":"DataInput!R332","v":50},{"$f":"DataInput!Y332","v":0},{"$f":"IF(DataInput!U332-DataInput!E332>0,DataInput!U332-DataInput!E332,\"\")","v":16},{"$f":"IF(DataInput!W332-DataInput!I332>0,DataInput!W332-DataInput!I332,\"\")","v":5},null,71,92.3,-66.3,{"$f":"Z331","v":0},{"$f":"AA331","v":0},{"$f":"ROUNDDOWN((IF(AA333>0,IFERROR(IF(AVERAGE(DataInput!Q332:Q333)>AVERAGE(AA333,AA332),ROUNDDOWN(((((AA332-Z332)+(AA333-Z333))/2)*(A333-A332))/27,0),IF(((((DataInput!Q333-Z333)+(DataInput!Q332-Z332))/2)*(A333-A332))/27+S332+T332>0,ROUNDDOWN(((((DataInput!Q333-Z333)+(DataInput!Q332-Z332))/2)*(A333-A332))/27+S332+T332,0),0)),0),0)*$X$5),1)","v":0},{"$f":"AC331","v":0},{"$f":"ROUNDDOWN((IF(AC333>0,IFERROR(IF(((((DataInput!Q332-AC332)+(DataInput!Q333-AC333))/2)*(A333-A332))/27+S332+T332>0,ROUNDDOWN(((((DataInput!Q332-AC332)+(DataInput!Q333-AC333))/2)*(A333-A332))/27+S332+T332,0),0),0),0)*$X$5),1)","v":0},{"$f":"DataInput!U332","v":24},{"$f":"DataInput!S332","v":24},33.6,-9.6]
[{"$f":"IF(DataInput!A333<>\"\",DataInput!A333,\"\")","v":881475},{"$f":"SUM(DataInput!C333,DataInput!Y333)+(DataInput!U333-DataInput!E333)","v":48},{"$f":"SUM(DataInput!D333,DataInput!Z333)","v":24},{"$f":"DataInput!U333","v":24},{"$f":"SUM(DataInput!F333,DataInput!AB333)","v":0},{"$f":"SUM(DataInput!G333,DataInput!AC333)","v":0},{"$f":"SUM(DataInput!H333,DataInput!AD333)","v":0},{"$f":"DataInput!I333","v":20},{"$f":"SUM(DataInput!J333,DataInput!AF333)","v":0},{"$f":"SUM(DataInput!K333,DataInput!AG333)","v":0},{"$f":"SUM(DataInput!L333,DataInput!AH333)","v":0},{"$f":"SUM(DataInput!M333,DataInput!AI333)","v":0},{"$f":"SUM(DataInput!N333,DataInput!AJ333)","v":0},{"$f":"SUM(DataInput!O333,DataInput!AK333)","v":0},{"$f":"DataInput!P333","v":0},null,24,{"$f":"DataInput!R333","v":51},{"$f":"DataInput!Y333","v":0},{"$f":"IF(DataInput!U333-DataInput!E333>0,DataInput!U333-DataInput!E333,\"\")","v":16},{"$f":"IF(DataInput!W333-DataInput!I333>0,DataInput!W333-DataInput!I333,\"\")","v":5},null,72,93.6,-69.599999999999994,0,0,{"$f":"ROUNDDOWN((IF(AA334>0,IFERROR(IF(AVERAGE(DataInput!Q333:Q334)>AVERAGE(AA334,AA333),ROUNDDOWN(((((AA333-Z333)+(AA334-Z334))/2)*(A334-A333))/27,0),IF(((((DataInput!Q334-Z334)+(DataInput!Q333-Z333))/2)*(A334-A333))/27+S333+T333>0,ROUNDDOWN(((((DataInput!Q334-Z334)+(DataInput!Q333-Z333))/2)*(A334-A333))/27+S333+T333,0),0)),0),0)*$X$5),1)","v":0},0,{"$f":"ROUNDDOWN((IF(AC334>0,IFERROR(IF(((((DataInput!Q333-AC333)+(DataInput!Q334-AC334))/2)*(A334-A333))/27+S333+T333>0,ROUNDDOWN(((((DataInput!Q333-AC333)+(DataInput!Q334-AC334))/2)*(A334-A333))/27+S333+T333,0),0),0),0)*$X$5),1)","v":0},{"$f":"DataInput!U333","v":24},{"$f":"DataInput!S333","v":24},33.6,-9.6]
[{"$f":"IF(DataInput!A334<>\"\",DataInput!A334,\"\")","v":881500},{"$f":"SUM(DataInput!C334,DataInput!Y334)+(DataInput!U334-DataInput!E334)","v":44},{"$f":"SUM(DataInput!D334,DataInput!Z334)","v":21},{"$f":"DataInput!U334","v":23},{"$f":"SUM(DataInput!F334,DataInput!AB334)","v":0},{"$f":"SUM(DataInput!G334,DataInput!AC334)","v":0},{"$f":"SUM(DataInput!H334,DataInput!AD334)","v":0},{"$f":"DataInput!I334","v":19},{"$f":"SUM(DataInput!J334,DataInput!AF334)","v":0},{"$f":"SUM(DataInput!K334,DataInput!AG334)","v":0},{"$f":"SUM(DataInput!L334,DataInput!AH334)","v":0},{"$f":"SUM(DataInput!M334,DataInput!AI334)","v":0},{"$f":"SUM(DataInput!N334,DataInput!AJ334)","v":0},{"$f":"SUM(DataInput!O334,DataInput!AK334)","v":0},{"$f":"DataInput!P334","v":0},null,21,{"$f":"DataInput!R334","v":54},{"$f":"DataInput!Y334","v":0},{"$f":"IF(DataInput!U334-DataInput!E334>0,DataInput!U334-DataInput!E334,\"\")","v":15},{"$f":"IF(DataInput!W334-DataInput!I334>0,DataInput!W334-DataInput!I334,\"\")","v":6},null,75,97.5,-76.5,0,0,{"$f":"ROUNDDOWN((IF(AA335>0,IFERROR(IF(AVERAGE(DataInput!Q334:Q335)>AVERAGE(AA335,AA334),ROUNDDOWN(((((AA334-Z334)+(AA335-Z335))/2)*(A335-A334))/27,0),IF(((((DataInput!Q335-Z335)+(DataInput!Q334-Z334))/2)*(A335-A334))/27+S334+T334>0,ROUNDDOWN(((((DataInput!Q335-Z335)+(DataInput!Q334-Z334))/2)*(A335-A334))/27+S334+T334,0),0)),0),0)*$X$5),1)","v":0},0,{"$f":"ROUNDDOWN((IF(AC335>0,IFERROR(IF(((((DataInput!Q334-AC334)+(DataInput!Q335-AC335))/2)*(A335-A334))/27+S334+T334>0,ROUNDDOWN(((((DataInput!Q334-AC334)+(DataInput!Q335-AC335))/2)*(A335-A334))/27+S334+T334,0),0),0),0)*$X$5),1)","v":0},{"$f":"DataInput!U334","v":23},{"$f":"DataInput!S334","v":24},33.6,-10.6]
[{"$f":"IF(DataInput!A335<>\"\",DataInput!A335,\"\")","v":881525},{"$f":"SUM(DataInput!C335,DataInput!Y335)+(DataInput!U335-DataInput!E335)","v":41},{"$f":"SUM(DataInput!D335,DataInput!Z335)","v":18},{"$f":"DataInput!U335","v":23},{"$f":"SUM(DataInput!F335,DataInput!AB335)","v":0},{"$f":"SUM(DataInput!G335,DataInput!AC335)","v":0},{"$f":"SUM(DataInput!H335,DataInput!AD335)","v":0},{"$f":"DataInput!I335","v":18},{"$f":"SUM(DataInput!J335,DataInput!AF335)","v":0},{"$f":"SUM(DataInput!K335,DataInput!AG335)","v":0},{"$f":"SUM(DataInput!L335,DataInput!AH335)","v":0},{"$f":"SUM(DataInput!M335,DataInput!AI335)","v":0},{"$f":"SUM(DataInput!N335,DataInput!AJ335)","v":0},{"$f":"SUM(DataInput!O335,DataInput!AK335)","v":0},{"$f":"DataInput!P335","v":0},null,18,{"$f":"DataInput!R335","v":57},{"$f":"DataInput!Y335","v":0},{"$f":"IF(DataInput!U335-DataInput!E335>0,DataInput!U335-DataInput!E335,\"\")","v":15},{"$f":"IF(DataInput!W335-DataInput!I335>0,DataInput!W335-DataInput!I335,\"\")","v":8},null,80,104,-86,0,0,{"$f":"ROUNDDOWN((IF(AA336>0,IFERROR(IF(AVERAGE(DataInput!Q335:Q336)>AVERAGE(AA336,AA335),ROUNDDOWN(((((AA335-Z335)+(AA336-Z336))/2)*(A336-A335))/27,0),IF(((((DataInput!Q336-Z336)+(DataInput!Q335-Z335))/2)*(A336-A335))/27+S335+T335>0,ROUNDDOWN(((((DataInput!Q336-Z336)+(DataInput!Q335-Z335))/2)*(A336-A335))/27+S335+T335,0),0)),0),0)*$X$5),1)","v":0},0,{"$f":"ROUNDDOWN((IF(AC336>0,IFERROR(IF(((((DataInput!Q335-AC335)+(DataInput!Q336-AC336))/2)*(A336-A335))/27+S335+T335>0,ROUNDDOWN(((((DataInput!Q335-AC335)+(DataInput!Q336-AC336))/2)*(A336-A335))/27+S335+T335,0),0),0),0)*$X$5),1)","v":0},{"$f":"DataInput!U335","v":23},{"$f":"DataInput!S335","v":24},33.6,-10.6]
[{"$f":"IF(DataInput!A336<>\"\",DataInput!A336,\"\")","v":881550},{"$f":"SUM(DataInput!C336,DataInput!Y336)+(DataInput!U336-DataInput!E336)","v":40},{"$f":"SUM(DataInput!D336,DataInput!Z336)","v":15},{"$f":"DataInput!U336","v":24},{"$f":"SUM(DataInput!F336,DataInput!AB336)","v":0},{"$f":"SUM(DataInput!G336,DataInput!AC336)","v":0},{"$f":"SUM(DataInput!H336,DataInput!AD336)","v":0},{"$f":"DataInput!I336","v":18},{"$f":"SUM(DataInput!J336,DataInput!AF336)","v":0},{"$f":"SUM(DataInput!K336,DataInput!AG336)","v":0},{"$f":"SUM(DataInput!L336,DataInput!AH336)","v":0},{"$f":"SUM(DataInput!M336,DataInput!AI336)","v":0},{"$f":"SUM(DataInput!N336,DataInput!AJ336)","v":0},{"$f":"SUM(DataInput!O336,DataInput!AK336)","v":0},{"$f":"DataInput!P336","v":0},null,15,{"$f":"DataInput!R336","v":58},{"$f":"DataInput!Y336","v":0},{"$f":"IF(DataInput!U336-DataInput!E336>0,DataInput!U336-DataInput!E336,\"\")","v":16},{"$f":"IF(DataInput!W336-DataInput!I336>0,DataInput!W336-DataInput!I336,\"\")","v":8},null,82,106.6,-91.6,0,0,{"$f":"ROUNDDOWN((IF(AA337>0,IFERROR(IF(AVERAGE(DataInput!Q336:Q337)>AVERAGE(AA337,AA336),ROUNDDOWN(((((AA336-Z336)+(AA337-Z337))/2)*(A337-A336))/27,0),IF(((((DataInput!Q337-Z337)+(DataInput!Q336-Z336))/2)*(A337-A336))/27+S336+T336>0,ROUNDDOWN(((((DataInput!Q337-Z337)+(DataInput!Q336-Z336))/2)*(A337-A336))/27+S336+T336,0),0)),0),0)*$X$5),1)","v":0},0,{"$f":"ROUNDDOWN((IF(AC337>0,IFERROR(IF(((((DataInput!Q336-AC336)+(DataInput!Q337-AC337))/2)*(A337-A336))/27+S336+T336>0,ROUNDDOWN(((((DataInput!Q336-AC336)+(DataInput!Q337-AC337))/2)*(A337-A336))/27+S336+T336,0),0),0),0)*$X$5),1)","v":0},{"$f":"DataInput!U336","v":24},{"$f":"DataInput!S336","v":25},35,-11]
[{"$f":"IF(DataInput!A337<>\"\",DataInput!A337,\"\")","v":881575},{"$f":"SUM(DataInput!C337,DataInput!Y337)+(DataInput!U337-DataInput!E337)","v":37},{"$f":"SUM(DataInput!D337,DataInput!Z337)","v":13},{"$f":"DataInput!U337","v":24},{"$f":"SUM(DataInput!F337,DataInput!AB337)","v":0},{"$f":"SUM(DataInput!G337,DataInput!AC337)","v":0},{"$f":"SUM(DataInput!H337,DataInput!AD337)","v":0},{"$f":"DataInput!I337","v":18},{"$f":"SUM(DataInput!J337,DataInput!AF337)","v":0},{"$f":"SUM(DataInput!K337,DataInput!AG337)","v":0},{"$f":"SUM(DataInput!L337,DataInput!AH337)","v":0},{"$f":"SUM(DataInput!M337,DataInput!AI337)","v":0},{"$f":"SUM(DataInput!N337,DataInput!AJ337)","v":0},{"$f":"SUM(DataInput!O337,DataInput!AK337)","v":0},{"$f":"DataInput!P337","v":0},null,13,{"$f":"DataInput!R337","v":58},{"$f":"DataInput!Y337","v":0},{"$f":"IF(DataInput!U337-DataInput!E337>0,DataInput!U337-DataInput!E337,\"\")","v":16},{"$f":"IF(DataInput!W337-DataInput!I337>0,DataInput!W337-DataInput!I337,\"\")","v":8},null,82,106.6,-93.6,0,0,{"$f":"ROUNDDOWN((IF(AA338>0,IFERROR(IF(AVERAGE(DataInput!Q337:Q338)>AVERAGE(AA338,AA337),ROUNDDOWN(((((AA337-Z337)+(AA338-Z338))/2)*(A338-A337))/27,0),IF(((((DataInput!Q338-Z338)+(DataInput!Q337-Z337))/2)*(A338-A337))/27+S337+T337>0,ROUNDDOWN(((((DataInput!Q338-Z338)+(DataInput!Q337-Z337))/2)*(A338-A337))/27+S337+T337,0),0)),0),0)*$X$5),1)","v":0},0,{"$f":"ROUNDDOWN((IF(AC338>0,IFERROR(IF(((((DataInput!Q337-AC337)+(DataInput!Q338-AC338))/2)*(A338-A337))/27+S337+T337>0,ROUNDDOWN(((((DataInput!Q337-AC337)+(DataInput!Q338-AC338))/2)*(A338-A337))/27+S337+T337,0),0),0),0)*$X$5),1)","v":0},{"$f":"DataInput!U337","v":24},{"$f":"DataInput!S337","v":25},35,-11]
[{"$f":"IF(DataInput!A338<>\"\",DataInput!A338,\"\")","v":881600},{"$f":"SUM(DataInput!C338,DataInput!Y338)+(DataInput!U338-DataInput!E338)","v":37},{"$f":"SUM(DataInput!D338,DataInput!Z338)","v":11},{"$f":"DataInput!U338","v":26},{"$f":"SUM(DataInput!F338,DataInput!AB338)","v":0},{"$f":"SUM(DataInput!G338,DataInput!AC338)","v":0},{"$f":"SUM(DataInput!H338,DataInput!AD338)","v":0},{"$f":"DataInput!I338","v":18},{"$f":"SUM(DataInput!J338,DataInput!AF338)","v":0},{"$f":"SUM(DataInput!K338,DataInput!AG338)","v":0},{"$f":"SUM(DataInput!L338,DataInput!AH338)","v":0},{"$f":"SUM(DataInput!M338,DataInput!AI338)","v":0},{"$f":"SUM(DataInput!N338,DataInput!AJ338)","v":0},{"$f":"SUM(DataInput!O338,DataInput!AK338)","v":0},{"$f":"DataInput!P338","v":0},null,11,{"$f":"DataInput!R338","v":57},{"$f":"DataInput!Y338","v":0},{"$f":"IF(DataInput!U338-DataInput!E338>0,DataInput!U338-DataInput!E338,\"\")","v":18},{"$f":"IF(DataInput!W338-DataInput!I338>0,DataInput!W338-DataInput!I338,\"\")","v":8},null,83,107.9,-96.9,0,0,{"$f":"ROUNDDOWN((IF(AA339>0,IFERROR(IF(AVERAGE(DataInput!Q338:Q339)>AVERAGE(AA339,AA338),ROUNDDOWN(((((AA338-Z338)+(AA339-Z339))/2)*(A339-A338))/27,0),IF(((((DataInput!Q339-Z339)+(DataInput!Q338-Z338))/2)*(A339-A338))/27+S338+T338>0,ROUNDDOWN(((((DataInput!Q339-Z339)+(DataInput!Q338-Z338))/2)*(A339-A338))/27+S338+T338,0),0)),0),0)*$X$5),1)","v":0},0,{"$f":"ROUNDDOWN((IF(AC339>0,IFERROR(IF(((((DataInput!Q338-AC338)+(DataInput!Q339-AC339))/2)*(A339-A338))/27+S338+T338>0,ROUNDDOWN(((((DataInput!Q338-AC338)+(DataInput!Q339-AC339))/2)*(A339-A338))/27+S338+T338,0),0),0),0)*$X$5),1)","v":0},{"$f":"DataInput!U338","v":26},{"$f":"DataInput!S338","v":26},36.4,-10.4]
[{"$f":"IF(DataInput!A339<>\"\",DataInput!A339,\"\")","v":881625},{"$f":"SUM(DataInput!C339,DataInput!Y339)+(DataInput!U339-DataInput!E339)","v":37},{"$f":"SUM(DataInput!D339,DataInput!Z339)","v":10},{"$f":"DataInput!U339","v":26},{"$f":"SUM(DataInput!F339,DataInput!AB339)","v":0},{"$f":"SUM(DataInput!G339,DataInput!AC339)","v":0},{"$f":"SUM(DataInput!H339,DataInput!AD339)","v":0},{"$f":"DataInput!I339","v":18},{"$f":"SUM(DataInput!J339,DataInput!AF339)","v":0},{"$f":"SUM(DataInput!K339,DataInput!AG339)","v":0},{"$f":"SUM(DataInput!L339,DataInput!AH339)","v":0},{"$f":"SUM(DataInput!M339,DataInput!AI339)","v":0},{"$f":"SUM(DataInput!N339,DataInput!AJ339)","v":0},{"$f":"SUM(DataInput!O339,DataInput!AK339)","v":0},{"$f":"DataInput!P339","v":0},null,10,{"$f":"DataInput!R339","v":55},{"$f":"DataInput!Y339","v":0},{"$f":"IF(DataInput!U339-DataInput!E339>0,DataInput!U339-DataInput!E339,\"\")","v":18},{"$f":"IF(DataInput!W339-DataInput!I339>0,DataInput!W339-DataInput!I339,\"\")","v":8},null,81,105.3,-95.3,0,0,{"$f":"ROUNDDOWN((IF(AA340>0,IFERROR(IF(AVERAGE(DataInput!Q339:Q340)>AVERAGE(AA340,AA339),ROUNDDOWN(((((AA339-Z339)+(AA340-Z340))/2)*(A340-A339))/27,0),IF(((((DataInput!Q340-Z340)+(DataInput!Q339-Z339))/2)*(A340-A339))/27+S339+T339>0,ROUNDDOWN(((((DataInput!Q340-Z340)+(DataInput!Q339-Z339))/2)*(A340-A339))/27+S339+T339,0),0)),0),0)*$X$5),1)","v":0},0,{"$f":"ROUNDDOWN((IF(AC340>0,IFERROR(IF(((((DataInput!Q339-AC339)+(DataInput!Q340-AC340))/2)*(A340-A339))/27+S339+T339>0,ROUNDDOWN(((((DataInput!Q339-AC339)+(DataInput!Q340-AC340))/2)*(A340-A339))/27+S339+T339,0),0),0),0)*$X$5),1)","v":0},{"$f":"DataInput!U339","v":26},{"$f":"DataInput!S339","v":27},37.799999999999997,-11.8]
[{"$f":"IF(DataInput!A340<>\"\",DataInput!A340,\"\")","v":881650},{"$f":"SUM(DataInput!C340,DataInput!Y340)+(DataInput!U340-DataInput!E340)","v":38},{"$f":"SUM(DataInput!D340,DataInput!Z340)","v":11},{"$f":"DataInput!U340","v":27},{"$f":"SUM(DataInput!F340,DataInput!AB340)","v":0},{"$f":"SUM(DataInput!G340,DataInput!AC340)","v":0},{"$f":"SUM(DataInput!H340,DataInput!AD340)","v":0},{"$f":"DataInput!I340","v":19},{"$f":"SUM(DataInput!J340,DataInput!AF340)","v":0},{"$f":"SUM(DataInput!K340,DataInput!AG340)","v":0},{"$f":"SUM(DataInput!L340,DataInput!AH340)","v":0},{"$f":"SUM(DataInput!M340,DataInput!AI340)","v":0},{"$f":"SUM(DataInput!N340,DataInput!AJ340)","v":0},{"$f":"SUM(DataInput!O340,DataInput!AK340)","v":0},{"$f":"DataInput!P340","v":0},null,11,{"$f":"DataInput!R340","v":51},{"$f":"DataInput!Y340","v":0},{"$f":"IF(DataInput!U340-DataInput!E340>0,DataInput!U340-DataInput!E340,\"\")","v":19},{"$f":"IF(DataInput!W340-DataInput!I340>0,DataInput!W340-DataInput!I340,\"\")","v":7},null,77,100.1,-89.1,0,0,{"$f":"ROUNDDOWN((IF(AA341>0,IFERROR(IF(AVERAGE(DataInput!Q340:Q341)>AVERAGE(AA341,AA340),ROUNDDOWN(((((AA340-Z340)+(AA341-Z341))/2)*(A341-A340))/27,0),IF(((((DataInput!Q341-Z341)+(DataInput!Q340-Z340))/2)*(A341-A340))/27+S340+T340>0,ROUNDDOWN(((((DataInput!Q341-Z341)+(DataInput!Q340-Z340))/2)*(A341-A340))/27+S340+T340,0),0)),0),0)*$X$5),1)","v":0},0,{"$f":"ROUNDDOWN((IF(AC341>0,IFERROR(IF(((((DataInput!Q340-AC340)+(DataInput!Q341-AC341))/2)*(A341-A340))/27+S340+T340>0,ROUNDDOWN(((((DataInput!Q340-AC340)+(DataInput!Q341-AC341))/2)*(A341-A340))/27+S340+T340,0),0),0),0)*$X$5),1)","v":0},{"$f":"DataInput!U340","v":27},{"$f":"DataInput!S340","v":27},37.799999999999997,-10.8]
[{"$f":"IF(DataInput!A341<>\"\",DataInput!A341,\"\")","v":881675},{"$f":"SUM(DataInput!C341,DataInput!Y341)+(DataInput!U341-DataInput!E341)","v":41},{"$f":"SUM(DataInput!D341,DataInput!Z341)","v":12},{"$f":"DataInput!U341","v":29},{"$f":"SUM(DataInput!F341,DataInput!AB341)","v":0},{"$f":"SUM(DataInput!G341,DataInput!AC341)","v":0},{"$f":"SUM(DataInput!H341,DataInput!AD341)","v":0},{"$f":"DataInput!I341","v":19},{"$f":"SUM(DataInput!J341,DataInput!AF341)","v":0},{"$f":"SUM(DataInput!K341,DataInput!AG341)","v":0},{"$f":"SUM(DataInput!L341,DataInput!AH341)","v":0},{"$f":"SUM(DataInput!M341,DataInput!AI341)","v":0},{"$f":"SUM(DataInput!N341,DataInput!AJ341)","v":0},{"$f":"SUM(DataInput!O341,DataInput!AK341)","v":0},{"$f":"DataInput!P341","v":0},null,12,{"$f":"DataInput!R341","v":51},{"$f":"DataInput!Y341","v":0},{"$f":"IF(DataInput!U341-DataInput!E341>0,DataInput!U341-DataInput!E341,\"\")","v":21},{"$f":"IF(DataInput!W341-DataInput!I341>0,DataInput!W341-DataInput!I341,\"\")","v":7},null,79,102.7,-90.7,0,0,{"$f":"ROUNDDOWN((IF(AA342>0,IFERROR(IF(AVERAGE(DataInput!Q341:Q342)>AVERAGE(AA342,AA341),ROUNDDOWN(((((AA341-Z341)+(AA342-Z342))/2)*(A342-A341))/27,0),IF(((((DataInput!Q342-Z342)+(DataInput!Q341-Z341))/2)*(A342-A341))/27+S341+T341>0,ROUNDDOWN(((((DataInput!Q342-Z342)+(DataInput!Q341-Z341))/2)*(A342-A341))/27+S341+T341,0),0)),0),0)*$X$5),1)","v":0},0,{"$f":"ROUNDDOWN((IF(AC342>0,IFERROR(IF(((((DataInput!Q341-AC341)+(DataInput!Q342-AC342))/2)*(A342-A341))/27+S341+T341>0,ROUNDDOWN(((((DataInput!Q341-AC341)+(DataInput!Q342-AC342))/2)*(A342-A341))/27+S341+T341,0),0),0),0)*$X$5),1)","v":0},{"$f":"DataInput!U341","v":29},{"$f":"DataInput!S341","v":29},40.6,-11.6]
[{"$f":"IF(DataInput!A342<>\"\",DataInput!A342,\"\")","v":881700},{"$f":"SUM(DataInput!C342,DataInput!Y342)+(DataInput!U342-DataInput!E342)","v":44},{"$f":"SUM(DataInput!D342,DataInput!Z342)","v":13},{"$f":"DataInput!U342","v":31},{"$f":"SUM(DataInput!F342,DataInput!AB342)","v":0},{"$f":"SUM(DataInput!G342,DataInput!AC342)","v":0},{"$f":"SUM(DataInput!H342,DataInput!AD342)","v":0},{"$f":"DataInput!I342","v":19},{"$f":"SUM(DataInput!J342,DataInput!AF342)","v":0},{"$f":"SUM(DataInput!K342,DataInput!AG342)","v":0},{"$f":"SUM(DataInput!L342,DataInput!AH342)","v":0},{"$f":"SUM(DataInput!M342,DataInput!AI342)","v":0},{"$f":"SUM(DataInput!N342,DataInput!AJ342)","v":0},{"$f":"SUM(DataInput!O342,DataInput!AK342)","v":0},{"$f":"DataInput!P342","v":0},null,13,{"$f":"DataInput!R342","v":57},{"$f":"DataInput!Y342","v":0},{"$f":"IF(DataInput!U342-DataInput!E342>0,DataInput!U342-DataInput!E342,\"\")","v":23},{"$f":"IF(DataInput!W342-DataInput!I342>0,DataInput!W342-DataInput!I342,\"\")","v":7},null,87,113.1,-100.1,0,0,{"$f":"ROUNDDOWN((IF(AA343>0,IFERROR(IF(AVERAGE(DataInput!Q342:Q343)>AVERAGE(AA343,AA342),ROUNDDOWN(((((AA342-Z342)+(AA343-Z343))/2)*(A343-A342))/27,0),IF(((((DataInput!Q343-Z343)+(DataInput!Q342-Z342))/2)*(A343-A342))/27+S342+T342>0,ROUNDDOWN(((((DataInput!Q343-Z343)+(DataInput!Q342-Z342))/2)*(A343-A342))/27+S342+T342,0),0)),0),0)*$X$5),1)","v":0},0,{"$f":"ROUNDDOWN((IF(AC343>0,IFERROR(IF(((((DataInput!Q342-AC342)+(DataInput!Q343-AC343))/2)*(A343-A342))/27+S342+T342>0,ROUNDDOWN(((((DataInput!Q342-AC342)+(DataInput!Q343-AC343))/2)*(A343-A342))/27+S342+T342,0),0),0),0)*$X$5),1)","v":0},{"$f":"DataInput!U342","v":31},{"$f":"DataInput!S342","v":30},42,-11]
[{"$f":"IF(DataInput!A343<>\"\",DataInput!A343,\"\")","v":881725},{"$f":"SUM(DataInput!C343,DataInput!Y343)+(DataInput!U343-DataInput!E343)","v":48},{"$f":"SUM(DataInput!D343,DataInput!Z343)","v":14},{"$f":"DataInput!U343","v":34},{"$f":"SUM(DataInput!F343,DataInput!AB343)","v":0},{"$f":"SUM(DataInput!G343,DataInput!AC343)","v":0},{"$f":"SUM(DataInput!H343,DataInput!AD343)","v":0},{"$f":"DataInput!I343","v":19},{"$f":"SUM(DataInput!J343,DataInput!AF343)","v":0},{"$f":"SUM(DataInput!K343,DataInput!AG343)","v":0},{"$f":"SUM(DataInput!L343,DataInput!AH343)","v":0},{"$f":"SUM(DataInput!M343,DataInput!AI343)","v":0},{"$f":"SUM(DataInput!N343,DataInput!AJ343)","v":0},{"$f":"SUM(DataInput!O343,DataInput!AK343)","v":0},{"$f":"DataInput!P343","v":0},null,14,{"$f":"DataInput!R343","v":63},{"$f":"DataInput!Y343","v":0},{"$f":"IF(DataInput!U343-DataInput!E343>0,DataInput!U343-DataInput!E343,\"\")","v":26},{"$f":"IF(DataInput!W343-DataInput!I343>0,DataInput!W343-DataInput!I343,\"\")","v":7},null,96,124.8,-110.8,0,0,{"$f":"ROUNDDOWN((IF(AA344>0,IFERROR(IF(AVERAGE(DataInput!Q343:Q344)>AVERAGE(AA344,AA343),ROUNDDOWN(((((AA343-Z343)+(AA344-Z344))/2)*(A344-A343))/27,0),IF(((((DataInput!Q344-Z344)+(DataInput!Q343-Z343))/2)*(A344-A343))/27+S343+T343>0,ROUNDDOWN(((((DataInput!Q344-Z344)+(DataInput!Q343-Z343))/2)*(A344-A343))/27+S343+T343,0),0)),0),0)*$X$5),1)","v":0},0,{"$f":"ROUNDDOWN((IF(AC344>0,IFERROR(IF(((((DataInput!Q343-AC343)+(DataInput!Q344-AC344))/2)*(A344-A343))/27+S343+T343>0,ROUNDDOWN(((((DataInput!Q343-AC343)+(DataInput!Q344-AC344))/2)*(A344-A343))/27+S343+T343,0),0),0),0)*$X$5),1)","v":0},{"$f":"DataInput!U343","v":34},{"$f":"DataInput!S343","v":32},44.8,-10.8]
[{"$f":"IF(DataInput!A344<>\"\",DataInput!A344,\"\")","v":881750},{"$f":"SUM(DataInput!C344,DataInput!Y344)+(DataInput!U344-DataInput!E344)","v":52},{"$f":"SUM(DataInput!D344,DataInput!Z344)","v":16},{"$f":"DataInput!U344","v":36},{"$f":"SUM(DataInput!F344,DataInput!AB344)","v":0},{"$f":"SUM(DataInput!G344,DataInput!AC344)","v":0},{"$f":"SUM(DataInput!H344,DataInput!AD344)","v":0},{"$f":"DataInput!I344","v":20},{"$f":"SUM(DataInput!J344,DataInput!AF344)","v":0},{"$f":"SUM(DataInput!K344,DataInput!AG344)","v":0},{"$f":"SUM(DataInput!L344,DataInput!AH344)","v":0},{"$f":"SUM(DataInput!M344,DataInput!AI344)","v":0},{"$f":"SUM(DataInput!N344,DataInput!AJ344)","v":0},{"$f":"SUM(DataInput!O344,DataInput!AK344)","v":0},{"$f":"DataInput!P344","v":0},null,16,{"$f":"DataInput!R344","v":70},{"$f":"DataInput!Y344","v":0},{"$f":"IF(DataInput!U344-DataInput!E344>0,DataInput!U344-DataInput!E344,\"\")","v":28},{"$f":"IF(DataInput!W344-DataInput!I344>0,DataInput!W344-DataInput!I344,\"\")","v":6},null,104,135.19999999999999,-119.2,0,0,{"$f":"ROUNDDOWN((IF(AA345>0,IFERROR(IF(AVERAGE(DataInput!Q344:Q345)>AVERAGE(AA345,AA344),ROUNDDOWN(((((AA344-Z344)+(AA345-Z345))/2)*(A345-A344))/27,0),IF(((((DataInput!Q345-Z345)+(DataInput!Q344-Z344))/2)*(A345-A344))/27+S344+T344>0,ROUNDDOWN(((((DataInput!Q345-Z345)+(DataInput!Q344-Z344))/2)*(A345-A344))/27+S344+T344,0),0)),0),0)*$X$5),1)","v":0},0,{"$f":"ROUNDDOWN((IF(AC345>0,IFERROR(IF(((((DataInput!Q344-AC344)+(DataInput!Q345-AC345))/2)*(A345-A344))/27+S344+T344>0,ROUNDDOWN(((((DataInput!Q344-AC344)+(DataInput!Q345-AC345))/2)*(A345-A344))/27+S344+T344,0),0),0),0)*$X$5),1)","v":0},{"$f":"DataInput!U344","v":36},{"$f":"DataInput!S344","v":33},46.2,-10.199999999999999]
[{"$f":"IF(DataInput!A345<>\"\",DataInput!A345,\"\")","v":881775},{"$f":"SUM(DataInput!C345,DataInput!Y345)+(DataInput!U345-DataInput!E345)","v":59},{"$f":"SUM(DataInput!D345,DataInput!Z345)","v":21},{"$f":"DataInput!U345","v":38},{"$f":"SUM(DataInput!F345,DataInput!AB345)","v":0},{"$f":"SUM(DataInput!G345,DataInput!AC345)","v":0},{"$f":"SUM(DataInput!H345,DataInput!AD345)","v":0},{"$f":"DataInput!I345","v":19},{"$f":"SUM(DataInput!J345,DataInput!AF345)","v":0},{"$f":"SUM(DataInput!K345,DataInput!AG345)","v":0},{"$f":"SUM(DataInput!L345,DataInput!AH345)","v":0},{"$f":"SUM(DataInput!M345,DataInput!AI345)","v":0},{"$f":"SUM(DataInput!N345,DataInput!AJ345)","v":0},{"$f":"SUM(DataInput!O345,DataInput!AK345)","v":0},{"$f":"DataInput!P345","v":0},null,21,{"$f":"DataInput!R345","v":81},{"$f":"DataInput!Y345","v":0},{"$f":"IF(DataInput!U345-DataInput!E345>0,DataInput!U345-DataInput!E345,\"\")","v":24},{"$f":"IF(DataInput!W345-DataInput!I345>0,DataInput!W345-DataInput!I345,\"\")","v":7},null,112,145.6,-124.6,0,0,{"$f":"ROUNDDOWN((IF(AA346>0,IFERROR(IF(AVERAGE(DataInput!Q345:Q346)>AVERAGE(AA346,AA345),ROUNDDOWN(((((AA345-Z345)+(AA346-Z346))/2)*(A346-A345))/27,0),IF(((((DataInput!Q346-Z346)+(DataInput!Q345-Z345))/2)*(A346-A345))/27+S345+T345>0,ROUNDDOWN(((((DataInput!Q346-Z346)+(DataInput!Q345-Z345))/2)*(A346-A345))/27+S345+T345,0),0)),0),0)*$X$5),1)","v":0},0,{"$f":"ROUNDDOWN((IF(AC346>0,IFERROR(IF(((((DataInput!Q345-AC345)+(DataInput!Q346-AC346))/2)*(A346-A345))/27+S345+T345>0,ROUNDDOWN(((((DataInput!Q345-AC345)+(DataInput!Q346-AC346))/2)*(A346-A345))/27+S345+T345,0),0),0),0)*$X$5),1)","v":0},{"$f":"DataInput!U345","v":38},{"$f":"DataInput!S345","v":35},49,-11]
[{"$f":"IF(DataInput!A346<>\"\",DataInput!A346,\"\")","v":881800},{"$f":"SUM(DataInput!C346,DataInput!Y346)+(DataInput!U346-DataInput!E346)","v":81},{"$f":"SUM(DataInput!D346,DataInput!Z346)","v":37},{"$f":"DataInput!U346","v":45},{"$f":"SUM(DataInput!F346,DataInput!AB346)","v":0},{"$f":"SUM(DataInput!G346,DataInput!AC346)","v":0},{"$f":"SUM(DataInput!H346,DataInput!AD346)","v":0},{"$f":"DataInput!I346","v":20},{"$f":"SUM(DataInput!J346,DataInput!AF346)","v":0},{"$f":"SUM(DataInput!K346,DataInput!AG346)","v":0},{"$f":"SUM(DataInput!L346,DataInput!AH346)","v":0},{"$f":"SUM(DataInput!M346,DataInput!AI346)","v":0},{"$f":"SUM(DataInput!N346,DataInput!AJ346)","v":0},{"$f":"SUM(DataInput!O346,DataInput!AK346)","v":0},{"$f":"DataInput!P346","v":0},null,37,{"$f":"DataInput!R346","v":95},{"$f":"DataInput!Y346","v":0},{"$f":"IF(DataInput!U346-DataInput!E346>0,DataInput!U346-DataInput!E346,\"\")","v":23},{"$f":"IF(DataInput!W346-DataInput!I346>0,DataInput!W346-DataInput!I346,\"\")","v":7},null,125,162.5,-125.5,0,0,{"$f":"ROUNDDOWN((IF(AA347>0,IFERROR(IF(AVERAGE(DataInput!Q346:Q347)>AVERAGE(AA347,AA346),ROUNDDOWN(((((AA346-Z346)+(AA347-Z347))/2)*(A347-A346))/27,0),IF(((((DataInput!Q347-Z347)+(DataInput!Q346-Z346))/2)*(A347-A346))/27+S346+T346>0,ROUNDDOWN(((((DataInput!Q347-Z347)+(DataInput!Q346-Z346))/2)*(A347-A346))/27+S346+T346,0),0)),0),0)*$X$5),1)","v":0},0,{"$f":"ROUNDDOWN((IF(AC347>0,IFERROR(IF(((((DataInput!Q346-AC346)+(DataInput!Q347-AC347))/2)*(A347-A346))/27+S346+T346>0,ROUNDDOWN(((((DataInput!Q346-AC346)+(DataInput!Q347-AC347))/2)*(A347-A346))/27+S346+T346,0),0),0),0)*$X$5),1)","v":0},{"$f":"DataInput!U346","v":45},{"$f":"DataInput!S346","v":40},56,-11]
[{"$f":"IF(DataInput!A347<>\"\",DataInput!A347,\"\")","v":881825},{"$f":"SUM(DataInput!C347,DataInput!Y347)+(DataInput!U347-DataInput!E347)","v":111},{"$f":"SUM(DataInput!D347,DataInput!Z347)","v":59},{"$f":"DataInput!U347","v":52},{"$f":"SUM(DataInput!F347,DataInput!AB347)","v":0},{"$f":"SUM(DataInput!G347,DataInput!AC347)","v":0},{"$f":"SUM(DataInput!H347,DataInput!AD347)","v":0},{"$f":"DataInput!I347","v":21},{"$f":"SUM(DataInput!J347,DataInput!AF347)","v":0},{"$f":"SUM(DataInput!K347,DataInput!AG347)","v":0},{"$f":"SUM(DataInput!L347,DataInput!AH347)","v":0},{"$f":"SUM(DataInput!M347,DataInput!AI347)","v":0},{"$f":"SUM(DataInput!N347,DataInput!AJ347)","v":0},{"$f":"SUM(DataInput!O347,DataInput!AK347)","v":0},{"$f":"DataInput!P347","v":0},null,59,{"$f":"DataInput!R347","v":101},{"$f":"DataInput!Y347","v":0},{"$f":"IF(DataInput!U347-DataInput!E347>0,DataInput!U347-DataInput!E347,\"\")","v":25},{"$f":"IF(DataInput!W347-DataInput!I347>0,DataInput!W347-DataInput!I347,\"\")","v":6},null,132,171.6,-112.6,0,0,{"$f":"ROUNDDOWN((IF(AA348>0,IFERROR(IF(AVERAGE(DataInput!Q347:Q348)>AVERAGE(AA348,AA347),ROUNDDOWN(((((AA347-Z347)+(AA348-Z348))/2)*(A348-A347))/27,0),IF(((((DataInput!Q348-Z348)+(DataInput!Q347-Z347))/2)*(A348-A347))/27+S347+T347>0,ROUNDDOWN(((((DataInput!Q348-Z348)+(DataInput!Q347-Z347))/2)*(A348-A347))/27+S347+T347,0),0)),0),0)*$X$5),1)","v":0},0,{"$f":"ROUNDDOWN((IF(AC348>0,IFERROR(IF(((((DataInput!Q347-AC347)+(DataInput!Q348-AC348))/2)*(A348-A347))/27+S347+T347>0,ROUNDDOWN(((((DataInput!Q347-AC347)+(DataInput!Q348-AC348))/2)*(A348-A347))/27+S347+T347,0),0),0),0)*$X$5),1)","v":0},{"$f":"DataInput!U347","v":52},{"$f":"DataInput!S347","v":44},61.6,-9.6]
[{"$f":"IF(DataInput!A348<>\"\",DataInput!A348,\"\")","v":881850},{"$f":"SUM(DataInput!C348,DataInput!Y348)+(DataInput!U348-DataInput!E348)","v":118},{"$f":"SUM(DataInput!D348,DataInput!Z348)","v":62},{"$f":"DataInput!U348","v":56},{"$f":"SUM(DataInput!F348,DataInput!AB348)","v":0},{"$f":"SUM(DataInput!G348,DataInput!AC348)","v":0},{"$f":"SUM(DataInput!H348,DataInput!AD348)","v":0},{"$f":"DataInput!I348","v":21},{"$f":"SUM(DataInput!J348,DataInput!AF348)","v":0},{"$f":"SUM(DataInput!K348,DataInput!AG348)","v":0},{"$f":"SUM(DataInput!L348,DataInput!AH348)","v":0},{"$f":"SUM(DataInput!M348,DataInput!AI348)","v":0},{"$f":"SUM(DataInput!N348,DataInput!AJ348)","v":0},{"$f":"SUM(DataInput!O348,DataInput!AK348)","v":0},{"$f":"DataInput!P348","v":0},null,62,{"$f":"DataInput!R348","v":105},{"$f":"DataInput!Y348","v":0},{"$f":"IF(DataInput!U348-DataInput!E348>0,DataInput!U348-DataInput!E348,\"\")","v":25},{"$f":"IF(DataInput!W348-DataInput!I348>0,DataInput!W348-DataInput!I348,\"\")","v":5},null,135,175.5,-113.5,0,0,{"$f":"ROUNDDOWN((IF(AA349>0,IFERROR(IF(AVERAGE(DataInput!Q348:Q349)>AVERAGE(AA349,AA348),ROUNDDOWN(((((AA348-Z348)+(AA349-Z349))/2)*(A349-A348))/27,0),IF(((((DataInput!Q349-Z349)+(DataInput!Q348-Z348))/2)*(A349-A348))/27+S348+T348>0,ROUNDDOWN(((((DataInput!Q349-Z349)+(DataInput!Q348-Z348))/2)*(A349-A348))/27+S348+T348,0),0)),0),0)*$X$5),1)","v":0},0,{"$f":"ROUNDDOWN((IF(AC349>0,IFERROR(IF(((((DataInput!Q348-AC348)+(DataInput!Q349-AC349))/2)*(A349-A348))/27+S348+T348>0,ROUNDDOWN(((((DataInput!Q348-AC348)+(DataInput!Q349-AC349))/2)*(A349-A348))/27+S348+T348,0),0),0),0)*$X$5),1)","v":0},{"$f":"DataInput!U348","v":56},{"$f":"DataInput!S348","v":46},64.400000000000006,-8.5]
[{"$f":"IF(DataInput!A349<>\"\",DataInput!A349,\"\")","v":881875},{"$f":"SUM(DataInput!C349,DataInput!Y349)+(DataInput!U349-DataInput!E349)","v":133},{"$f":"SUM(DataInput!D349,DataInput!Z349)","v":78},{"$f":"DataInput!U349","v":55},{"$f":"SUM(DataInput!F349,DataInput!AB349)","v":0},{"$f":"SUM(DataInput!G349,DataInput!AC349)","v":0},{"$f":"SUM(DataInput!H349,DataInput!AD349)","v":0},{"$f":"DataInput!I349","v":22},{"$f":"SUM(DataInput!J349,DataInput!AF349)","v":0},{"$f":"SUM(DataInput!K349,DataInput!AG349)","v":0},{"$f":"SUM(DataInput!L349,DataInput!AH349)","v":0},{"$f":"SUM(DataInput!M349,DataInput!AI349)","v":0},{"$f":"SUM(DataInput!N349,DataInput!AJ349)","v":0},{"$f":"SUM(DataInput!O349,DataInput!AK349)","v":0},{"$f":"DataInput!P349","v":0},null,78,{"$f":"DataInput!R349","v":93},{"$f":"DataInput!Y349","v":0},{"$f":"IF(DataInput!U349-DataInput!E349>0,DataInput!U349-DataInput!E349,\"\")","v":24},{"$f":"IF(DataInput!W349-DataInput!I349>0,DataInput!W349-DataInput!I349,\"\")","v":4},null,121,157.30000000000001,-79.3,0,0,{"$f":"ROUNDDOWN((IF(AA350>0,IFERROR(IF(AVERAGE(DataInput!Q349:Q350)>AVERAGE(AA350,AA349),ROUNDDOWN(((((AA349-Z349)+(AA350-Z350))/2)*(A350-A349))/27,0),IF(((((DataInput!Q350-Z350)+(DataInput!Q349-Z349))/2)*(A350-A349))/27+S349+T349>0,ROUNDDOWN(((((DataInput!Q350-Z350)+(DataInput!Q349-Z349))/2)*(A350-A349))/27+S349+T349,0),0)),0),0)*$X$5),1)","v":0},0,{"$f":"ROUNDDOWN((IF(AC350>0,IFERROR(IF(((((DataInput!Q349-AC349)+(DataInput!Q350-AC350))/2)*(A350-A349))/27+S349+T349>0,ROUNDDOWN(((((DataInput!Q349-AC349)+(DataInput!Q350-AC350))/2)*(A350-A349))/27+S349+T349,0),0),0),0)*$X$5),1)","v":0},{"$f":"DataInput!U349","v":55},{"$f":"DataInput!S349","v":46},64.400000000000006,-9.5]
[{"$f":"IF(DataInput!A350<>\"\",DataInput!A350,\"\")","v":881900},{"$f":"SUM(DataInput!C350,DataInput!Y350)+(DataInput!U350-DataInput!E350)","v":159},{"$f":"SUM(DataInput!D350,DataInput!Z350)","v":106},{"$f":"DataInput!U350","v":53},{"$f":"SUM(DataInput!F350,DataInput!AB350)","v":0},{"$f":"SUM(DataInput!G350,DataInput!AC350)","v":0},{"$f":"SUM(DataInput!H350,DataInput!AD350)","v":0},{"$f":"DataInput!I350","v":25},{"$f":"SUM(DataInput!J350,DataInput!AF350)","v":0},{"$f":"SUM(DataInput!K350,DataInput!AG350)","v":0},{"$f":"SUM(DataInput!L350,DataInput!AH350)","v":0},{"$f":"SUM(DataInput!M350,DataInput!AI350)","v":0},{"$f":"SUM(DataInput!N350,DataInput!AJ350)","v":0},{"$f":"SUM(DataInput!O350,DataInput!AK350)","v":0},{"$f":"DataInput!P350","v":0},null,106,{"$f":"DataInput!R350","v":66},{"$f":"DataInput!Y350","v":0},{"$f":"IF(DataInput!U350-DataInput!E350>0,DataInput!U350-DataInput!E350,\"\")","v":24},{"$f":"IF(DataInput!W350-DataInput!I350>0,DataInput!W350-DataInput!I350,\"\")","v":1},null,91,118.3,-12.3,0,0,{"$f":"ROUNDDOWN((IF(AA351>0,IFERROR(IF(AVERAGE(DataInput!Q350:Q351)>AVERAGE(AA351,AA350),ROUNDDOWN(((((AA350-Z350)+(AA351-Z351))/2)*(A351-A350))/27,0),IF(((((DataInput!Q351-Z351)+(DataInput!Q350-Z350))/2)*(A351-A350))/27+S350+T350>0,ROUNDDOWN(((((DataInput!Q351-Z351)+(DataInput!Q350-Z350))/2)*(A351-A350))/27+S350+T350,0),0)),0),0)*$X$5),1)","v":0},0,{"$f":"ROUNDDOWN((IF(AC351>0,IFERROR(IF(((((DataInput!Q350-AC350)+(DataInput!Q351-AC351))/2)*(A351-A350))/27+S350+T350>0,ROUNDDOWN(((((DataInput!Q350-AC350)+(DataInput!Q351-AC351))/2)*(A351-A350))/27+S350+T350,0),0),0),0)*$X$5),1)","v":0},{"$f":"DataInput!U350","v":53},{"$f":"DataInput!S350","v":45},63,-10]
[{"$f":"IF(DataInput!A351<>\"\",DataInput!A351,\"\")","v":881925},{"$f":"SUM(DataInput!C351,DataInput!Y351)+(DataInput!U351-DataInput!E351)","v":96},{"$f":"SUM(DataInput!D351,DataInput!Z351)","v":65},{"$f":"DataInput!U351","v":31},{"$f":"SUM(DataInput!F351,DataInput!AB351)","v":0},{"$f":"SUM(DataInput!G351,DataInput!AC351)","v":0},{"$f":"SUM(DataInput!H351,DataInput!AD351)","v":0},{"$f":"DataInput!I351","v":15},{"$f":"SUM(DataInput!J351,DataInput!AF351)","v":0},{"$f":"SUM(DataInput!K351,DataInput!AG351)","v":0},{"$f":"SUM(DataInput!L351,DataInput!AH351)","v":0},{"$f":"SUM(DataInput!M351,DataInput!AI351)","v":0},{"$f":"SUM(DataInput!N351,DataInput!AJ351)","v":0},{"$f":"SUM(DataInput!O351,DataInput!AK351)","v":0},{"$f":"DataInput!P351","v":0},null,65,{"$f":"DataInput!R351","v":28},{"$f":"DataInput!Y351","v":0},{"$f":"IF(DataInput!U351-DataInput!E351>0,DataInput!U351-DataInput!E351,\"\")","v":14},{"$f":"IF(DataInput!W351-DataInput!I351>0,DataInput!W351-DataInput!I351,\"\")","v":""},null,42,54.6,10.4,0,0,{"$f":"ROUNDDOWN((IF(AA352>0,IFERROR(IF(AVERAGE(DataInput!Q351:Q352)>AVERAGE(AA352,AA351),ROUNDDOWN(((((AA351-Z351)+(AA352-Z352))/2)*(A352-A351))/27,0),IF(((((DataInput!Q352-Z352)+(DataInput!Q351-Z351))/2)*(A352-A351))/27+S351+T351>0,ROUNDDOWN(((((DataInput!Q352-Z352)+(DataInput!Q351-Z351))/2)*(A352-A351))/27+S351+T351,0),0)),0),0)*$X$5),1)","v":0},0,{"$f":"ROUNDDOWN((IF(AC352>0,IFERROR(IF(((((DataInput!Q351-AC351)+(DataInput!Q352-AC352))/2)*(A352-A351))/27+S351+T351>0,ROUNDDOWN(((((DataInput!Q351-AC351)+(DataInput!Q352-AC352))/2)*(A352-A351))/27+S351+T351,0),0),0),0)*$X$5),1)","v":0},{"$f":"DataInput!U351","v":31},{"$f":"DataInput!S351","v":27},37.799999999999997,-6.8]
[{"$f":"IF(DataInput!A352<>\"\",DataInput!A352,\"\")","v":881940}]
[]
[{"$f":"IF(DataInput!A354<>\"\",DataInput!A354,\"\")","v":"US_34_RAMP"}]
[{"$f":"IF(DataInput!A355<>\"\",DataInput!A355,\"\")","v":91598.09},{"$f":"SUM(DataInput!C355,DataInput!Y355)+(DataInput!U355-DataInput!E355)","v":76},{"$f":"SUM(DataInput!D355,DataInput!Z355)","v":35},{"$f":"DataInput!U355","v":41},{"$f":"SUM(DataInput!F355,DataInput!AB355)","v":0},{"$f":"SUM(DataInput!G355,DataInput!AC355)","v":0},{"$f":"SUM(DataInput!H355,DataInput!AD355)","v":0},{"$f":"DataInput!I355","v":22},{"$f":"SUM(DataInput!J355,DataInput!AF355)","v":0},{"$f":"SUM(DataInput!K355,DataInput!AG355)","v":0},{"$f":"SUM(DataInput!L355,DataInput!AH355)","v":0},{"$f":"SUM(DataInput!M355,DataInput!AI355)","v":0},{"$f":"SUM(DataInput!N355,DataInput!AJ355)","v":0},{"$f":"SUM(DataInput!O355,DataInput!AK355)","v":0},{"$f":"DataInput!P355","v":0},null,{"$f":"SUM(C355,E355:G355,I355:L355,O355:P355)","v":35},{"$f":"DataInput!R355","v":7},{"$f":"DataInput!Y355","v":0},{"$f":"IF(DataInput!U355-DataInput!E355>0,DataInput!U355-DataInput!E355,\"\")","v":34},{"$f":"IF(DataInput!W355-DataInput!I355>0,DataInput!W355-DataInput!I355,\"\")","v":""},null,{"$f":"SUM(R355:V355)","v":41},{"$f":"ROUNDUP(($W355*$X$5),1)","v":53.3},{"$f":"ROUNDUP(SUM(Q355-X355),1)","v":-18.3},null,null,{"$f":"ROUNDDOWN((IF(AA356>0,IFERROR(IF(AVERAGE(DataInput!Q355:Q356)>AVERAGE(AA356,AA355),ROUNDDOWN(((((AA355-Z355)+(AA356-Z356))/2)*(A356-A355))/27,0),IF(((((DataInput!Q356-Z356)+(DataInput!Q355-Z355))/2)*(A356-A355))/27+S355+T355>0,ROUNDDOWN(((((DataInput!Q356-Z356)+(DataInput!Q355-Z355))/2)*(A356-A355))/27+S355+T355,0),0)),0),0)*$X$5),1)","v":0},null,{"$f":"ROUNDDOWN((IF(AC356>0,IFERROR(IF(((((DataInput!Q355-AC355)+(DataInput!Q356-AC356))/2)*(A356-A355))/27+S355+T355>0,ROUNDDOWN(((((DataInput!Q355-AC355)+(DataInput!Q356-AC356))/2)*(A356-A355))/27+S355+T355,0),0),0),0)*$X$5),1)","v":0},{"$f":"DataInput!U355","v":41},{"$f":"DataInput!S355","v":19},{"$f":"ROUNDUP((AF355*$AG$5),1)","v":26.6},{"$f":"ROUNDUP((AE355-AG355),1)","v":14.4}]
[{"$f":"IF(DataInput!A356<>\"\",DataInput!A356,\"\")","v":91625},{"$f":"SUM(DataInput!C356,DataInput!Y356)+(DataInput!U356-DataInput!E356)","v":77},{"$f":"SUM(DataInput!D356,DataInput!Z356)","v":35},{"$f":"DataInput!U356","v":42},{"$f":"SUM(DataInput!F356,DataInput!AB356)","v":0},{"$f":"SUM(DataInput!G356,DataInput!AC356)","v":0},{"$f":"SUM(DataInput!H356,DataInput!AD356)","v":0},{"$f":"DataInput!I356","v":17},{"$f":"SUM(DataInput!J356,DataInput!AF356)","v":0},{"$f":"SUM(DataInput!K356,DataInput!AG356)","v":0},{"$f":"SUM(DataInput!L356,DataInput!AH356)","v":0},{"$f":"SUM(DataInput!M356,DataInput!AI356)","v":0},{"$f":"SUM(DataInput!N356,DataInput!AJ356)","v":0},{"$f":"SUM(DataInput!O356,DataInput!AK356)","v":0},{"$f":"DataInput!P356","v":0},null,{"$f":"SUM(C356,E356:G356,I356:L356,O356:P356)","v":35},{"$f":"DataInput!R356","v":13},{"$f":"DataInput!Y356","v":0},{"$f":"IF(DataInput!U356-DataInput!E356>0,DataInput!U356-DataInput!E356,\"\")","v":32},{"$f":"IF(DataInput!W356-DataInput!I356>0,DataInput!W356-DataInput!I356,\"\")","v":""},null,{"$f":"SUM(R356:V356)","v":45},{"$f":"ROUNDUP(($W356*$X$5),1)","v":58.5},{"$f":"ROUNDUP(SUM(Q356-X356),1)","v":-23.5},{"$f":"Z355","v":0},{"$f":"AA355","v":0},{"$f":"ROUNDDOWN((IF(AA357>0,IFERROR(IF(AVERAGE(DataInput!Q356:Q357)>AVERAGE(AA357,AA356),ROUNDDOWN(((((AA356-Z356)+(AA357-Z357))/2)*(A357-A356))/27,0),IF(((((DataInput!Q357-Z357)+(DataInput!Q356-Z356))/2)*(A357-A356))/27+S356+T356>0,ROUNDDOWN(((((DataInput!Q357-Z357)+(DataInput!Q356-Z356))/2)*(A357-A356))/27+S356+T356,0),0)),0),0)*$X$5),1)","v":0},{"$f":"AC355","v":0},{"$f":"ROUNDDOWN((IF(AC357>0,IFERROR(IF(((((DataInput!Q356-AC356)+(DataInput!Q357-AC357))/2)*(A357-A356))/27+S356+T356>0,ROUNDDOWN(((((DataInput!Q356-AC356)+(DataInput!Q357-AC357))/2)*(A357-A356))/27+S356+T356,0),0),0),0)*$X$5),1)","v":0},{"$f":"DataInput!U356","v":42},{"$f":"DataInput!S356","v":17},{"$f":"ROUNDUP((AF356*$AG$5),1)","v":23.8},{"$f":"ROUNDUP((AE356-AG356),1)","v":18.2}]
[{"$f":"IF(DataInput!A357<>\"\",DataInput!A357,\"\")","v":91650},{"$f":"SUM(DataInput!C357,DataInput!Y357)+(DataInput!U357-DataInput!E357)","v":82},{"$f":"SUM(DataInput!D357,DataInput!Z357)","v":38},{"$f":"DataInput!U357","v":43},{"$f":"SUM(DataInput!F357,DataInput!AB357)","v":0},{"$f":"SUM(DataInput!G357,DataInput!AC357)","v":0},{"$f":"SUM(DataInput!H357,DataInput!AD357)","v":0},{"$f":"DataInput!I357","v":17},{"$f":"SUM(DataInput!J357,DataInput!AF357)","v":0},{"$f":"SUM(DataInput!K357,DataInput!AG357)","v":0},{"$f":"SUM(DataInput!L357,DataInput!AH357)","v":0},{"$f":"SUM(DataInput!M357,DataInput!AI357)","v":0},{"$f":"SUM(DataInput!N357,DataInput!AJ357)","v":0},{"$f":"SUM(DataInput!O357,DataInput!AK357)","v":0},{"$f":"DataInput!P357","v":0},null,38,{"$f":"DataInput!R357","v":17},{"$f":"DataInput!Y357","v":0},{"$f":"IF(DataInput!U357-DataInput!E357>0,DataInput!U357-DataInput!E357,\"\")","v":31},{"$f":"IF(DataInput!W357-DataInput!I357>0,DataInput!W357-DataInput!I357,\"\")","v":""},null,48,62.4,-24.4,{"$f":"Z356","v":0},{"$f":"AA356","v":0},{"$f":"ROUNDDOWN((IF(AA358>0,IFERROR(IF(AVERAGE(DataInput!Q357:Q358)>AVERAGE(AA358,AA357),ROUNDDOWN(((((AA357-Z357)+(AA358-Z358))/2)*(A358-A357))/27,0),IF(((((DataInput!Q358-Z358)+(DataInput!Q357-Z357))/2)*(A358-A357))/27+S357+T357>0,ROUNDDOWN(((((DataInput!Q358-Z358)+(DataInput!Q357-Z357))/2)*(A358-A357))/27+S357+T357,0),0)),0),0)*$X$5),1)","v":0},{"$f":"AC356","v":0},{"$f":"ROUNDDOWN((IF(AC358>0,IFERROR(IF(((((DataInput!Q357-AC357)+(DataInput!Q358-AC358))/2)*(A358-A357))/27+S357+T357>0,ROUNDDOWN(((((DataInput!Q357-AC357)+(DataInput!Q358-AC358))/2)*(A358-A357))/27+S357+T357,0),0),0),0)*$X$5),1)","v":0},{"$f":"DataInput!U357","v":43},{"$f":"DataInput!S357","v":18},25.2,17.8]
[{"$f":"IF(DataInput!A358<>\"\",DataInput!A358,\"\")","v":91675},{"$f":"SUM(DataInput!C358,DataInput!Y358)+(DataInput!U358-DataInput!E358)","v":87},{"$f":"SUM(DataInput!D358,DataInput!Z358)","v":41},{"$f":"DataInput!U358","v":45},{"$f":"SUM(DataInput!F358,DataInput!AB358)","v":0},{"$f":"SUM(DataInput!G358,DataInput!AC358)","v":0},{"$f":"SUM(DataInput!H358,DataInput!AD358)","v":0},{"$f":"DataInput!I358","v":17},{"$f":"SUM(DataInput!J358,DataInput!AF358)","v":0},{"$f":"SUM(DataInput!K358,DataInput!AG358)","v":0},{"$f":"SUM(DataInput!L358,DataInput!AH358)","v":0},{"$f":"SUM(DataInput!M358,DataInput!AI358)","v":0},{"$f":"SUM(DataInput!N358,DataInput!AJ358)","v":0},{"$f":"SUM(DataInput!O358,DataInput!AK358)","v":0},{"$f":"DataInput!P358","v":0},null,41,{"$f":"DataInput!R358","v":16},{"$f":"DataInput!Y358","v":0},{"$f":"IF(DataInput!U358-DataInput!E358>0,DataInput!U358-DataInput!E358,\"\")","v":30},{"$f":"IF(DataInput!W358-DataInput!I358>0,DataInput!W358-DataInput!I358,\"\")","v":""},null,46,59.8,-18.8,0,0,{"$f":"ROUNDDOWN((IF(AA359>0,IFERROR(IF(AVERAGE(DataInput!Q358:Q359)>AVERAGE(AA359,AA358),ROUNDDOWN(((((AA358-Z358)+(AA359-Z359))/2)*(A359-A358))/27,0),IF(((((DataInput!Q359-Z359)+(DataInput!Q358-Z358))/2)*(A359-A358))/27+S358+T358>0,ROUNDDOWN(((((DataInput!Q359-Z359)+(DataInput!Q358-Z358))/2)*(A359-A358))/27+S358+T358,0),0)),0),0)*$X$5),1)","v":0},0,{"$f":"ROUNDDOWN((IF(AC359>0,IFERROR(IF(((((DataInput!Q358-AC358)+(DataInput!Q359-AC359))/2)*(A359-A358))/27+S358+T358>0,ROUNDDOWN(((((DataInput!Q358-AC358)+(DataInput!Q359-AC359))/2)*(A359-A358))/27+S358+T358,0),0),0),0)*$X$5),1)","v":0},{"$f":"DataInput!U358","v":45},{"$f":"DataInput!S358","v":19},26.6,18.399999999999999]
[{"$f":"IF(DataInput!A359<>\"\",DataInput!A359,\"\")","v":91700},{"$f":"SUM(DataInput!C359,DataInput!Y359)+(DataInput!U359-DataInput!E359)","v":88},{"$f":"SUM(DataInput!D359,DataInput!Z359)","v":42},{"$f":"DataInput!U359","v":46},{"$f":"SUM(DataInput!F359,DataInput!AB359)","v":0},{"$f":"SUM(DataInput!G359,DataInput!AC359)","v":0},{"$f":"SUM(DataInput!H359,DataInput!AD359)","v":0},{"$f":"DataInput!I359","v":17},{"$f":"SUM(DataInput!J359,DataInput!AF359)","v":0},{"$f":"SUM(DataInput!K359,DataInput!AG359)","v":0},{"$f":"SUM(DataInput!L359,DataInput!AH359)","v":0},{"$f":"SUM(DataInput!M359,DataInput!AI359)","v":0},{"$f":"SUM(DataInput!N359,DataInput!AJ359)","v":0},{"$f":"SUM(DataInput!O359,DataInput!AK359)","v":0},{"$f":"DataInput!P359","v":0},null,42,{"$f":"DataInput!R359","v":13},{"$f":"DataInput!Y359","v":0},{"$f":"IF(DataInput!U359-DataInput!E359>0,DataInput!U359-DataInput!E359,\"\")","v":30},{"$f":"IF(DataInput!W359-DataInput!I359>0,DataInput!W359-DataInput!I359,\"\")","v":""},null,43,55.9,-13.9,0,0,{"$f":"ROUNDDOWN((IF(AA360>0,IFERROR(IF(AVERAGE(DataInput!Q359:Q360)>AVERAGE(AA360,AA359),ROUNDDOWN(((((AA359-Z359)+(AA360-Z360))/2)*(A360-A359))/27,0),IF(((((DataInput!Q360-Z360)+(DataInput!Q359-Z359))/2)*(A360-A359))/27+S359+T359>0,ROUNDDOWN(((((DataInput!Q360-Z360)+(DataInput!Q359-Z359))/2)*(A360-A359))/27+S359+T359,0),0)),0),0)*$X$5),1)","v":0},0,{"$f":"ROUNDDOWN((IF(AC360>0,IFERROR(IF(((((DataInput!Q359-AC359)+(DataInput!Q360-AC360))/2)*(A360-A359))/27+S359+T359>0,ROUNDDOWN(((((DataInput!Q359-AC359)+(DataInput!Q360-AC360))/2)*(A360-A359))/27+S359+T359,0),0),0),0)*$X$5),1)","v":0},{"$f":"DataInput!U359","v":46},{"$f":"DataInput!S359","v":21},29.4,16.600000000000001]
[{"$f":"IF(DataInput!A360<>\"\",DataInput!A360,\"\")","v":91725},{"$f":"SUM(DataInput!C360,DataInput!Y360)+(DataInput!U360-DataInput!E360)","v":86},{"$f":"SUM(DataInput!D360,DataInput!Z360)","v":40},{"$f":"DataInput!U360","v":46},{"$f":"SUM(DataInput!F360,DataInput!AB360)","v":0},{"$f":"SUM(DataInput!G360,DataInput!AC360)","v":0},{"$f":"SUM(DataInput!H360,DataInput!AD360)","v":0},{"$f":"DataInput!I360","v":17},{"$f":"SUM(DataInput!J360,DataInput!AF360)","v":0},{"$f":"SUM(DataInput!K360,DataInput!AG360)","v":0},{"$f":"SUM(DataInput!L360,DataInput!AH360)","v":0},{"$f":"SUM(DataInput!M360,DataInput!AI360)","v":0},{"$f":"SUM(DataInput!N360,DataInput!AJ360)","v":0},{"$f":"SUM(DataInput!O360,DataInput!AK360)","v":0},{"$f":"DataInput!P360","v":0},null,40,{"$f":"DataInput!R360","v":8},{"$f":"DataInput!Y360","v":0},{"$f":"IF(DataInput!U360-DataInput!E360>0,DataInput!U360-DataInput!E360,\"\")","v":31},{"$f":"IF(DataInput!W360-DataInput!I360>0,DataInput!W360-DataInput!I360,\"\")","v":""},null,39,50.7,-10.7,0,0,{"$f":"ROUNDDOWN((IF(AA361>0,IFERROR(IF(AVERAGE(DataInput!Q360:Q361)>AVERAGE(AA361,AA360),ROUNDDOWN(((((AA360-Z360)+(AA361-Z361))/2)*(A361-A360))/27,0),IF(((((DataInput!Q361-Z361)+(DataInput!Q360-Z360))/2)*(A361-A360))/27+S360+T360>0,ROUNDDOWN(((((DataInput!Q361-Z361)+(DataInput!Q360-Z360))/2)*(A361-A360))/27+S360+T360,0),0)),0),0)*$X$5),1)","v":0},0,{"$f":"ROUNDDOWN((IF(AC361>0,IFERROR(IF(((((DataInput!Q360-AC360)+(DataInput!Q361-AC361))/2)*(A361-A360))/27+S360+T360>0,ROUNDDOWN(((((DataInput!Q360-AC360)+(DataInput!Q361-AC361))/2)*(A361-A360))/27+S360+T360,0),0),0),0)*$X$5),1)","v":0},{"$f":"DataInput!U360","v":46},{"$f":"DataInput!S360","v":23},32.200000000000003,13.8]
[{"$f":"IF(DataInput!A361<>\"\",DataInput!A361,\"\")","v":91750},{"$f":"SUM(DataInput!C361,DataInput!Y361)+(DataInput!U361-DataInput!E361)","v":85},{"$f":"SUM(DataInput!D361,DataInput!Z361)","v":40},{"$f":"DataInput!U361","v":45},{"$f":"SUM(DataInput!F361,DataInput!AB361)","v":0},{"$f":"SUM(DataInput!G361,DataInput!AC361)","v":0},{"$f":"SUM(DataInput!H361,DataInput!AD361)","v":0},{"$f":"DataInput!I361","v":17},{"$f":"SUM(DataInput!J361,DataInput!AF361)","v":0},{"$f":"SUM(DataInput!K361,DataInput!AG361)","v":0},{"$f":"SUM(DataInput!L361,DataInput!AH361)","v":0},{"$f":"SUM(DataInput!M361,DataInput!AI361)","v":0},{"$f":"SUM(DataInput!N361,DataInput!AJ361)","v":0},{"$f":"SUM(DataInput!O361,DataInput!AK361)","v":0},{"$f":"DataInput!P361","v":0},null,40,{"$f":"DataInput!R361","v":5},{"$f":"DataInput!Y361","v":0},{"$f":"IF(DataInput!U361-DataInput!E361>0,DataInput!U361-DataInput!E361,\"\")","v":31},{"$f":"IF(DataInput!W361-DataInput!I361>0,DataInput!W361-DataInput!I361,\"\")","v":""},null,36,46.8,-6.8,0,0,{"$f":"ROUNDDOWN((IF(AA362>0,IFERROR(IF(AVERAGE(DataInput!Q361:Q362)>AVERAGE(AA362,AA361),ROUNDDOWN(((((AA361-Z361)+(AA362-Z362))/2)*(A362-A361))/27,0),IF(((((DataInput!Q362-Z362)+(DataInput!Q361-Z361))/2)*(A362-A361))/27+S361+T361>0,ROUNDDOWN(((((DataInput!Q362-Z362)+(DataInput!Q361-Z361))/2)*(A362-A361))/27+S361+T361,0),0)),0),0)*$X$5),1)","v":0},0,{"$f":"ROUNDDOWN((IF(AC362>0,IFERROR(IF(((((DataInput!Q361-AC361)+(DataInput!Q362-AC362))/2)*(A362-A361))/27+S361+T361>0,ROUNDDOWN(((((DataInput!Q361-AC361)+(DataInput!Q362-AC362))/2)*(A362-A361))/27+S361+T361,0),0),0),0)*$X$5),1)","v":0},{"$f":"DataInput!U361","v":45},{"$f":"DataInput!S361","v":23},32.200000000000003,12.8]
[{"$f":"IF(DataInput!A362<>\"\",DataInput!A362,\"\")","v":91775},{"$f":"SUM(DataInput!C362,DataInput!Y362)+(DataInput!U362-DataInput!E362)","v":82},{"$f":"SUM(DataInput!D362,DataInput!Z362)","v":40},{"$f":"DataInput!U362","v":42},{"$f":"SUM(DataInput!F362,DataInput!AB362)","v":0},{"$f":"SUM(DataInput!G362,DataInput!AC362)","v":0},{"$f":"SUM(DataInput!H362,DataInput!AD362)","v":0},{"$f":"DataInput!I362","v":17},{"$f":"SUM(DataInput!J362,DataInput!AF362)","v":0},{"$f":"SUM(DataInput!K362,DataInput!AG362)","v":0},{"$f":"SUM(DataInput!L362,DataInput!AH362)","v":0},{"$f":"SUM(DataInput!M362,DataInput!AI362)","v":0},{"$f":"SUM(DataInput!N362,DataInput!AJ362)","v":0},{"$f":"SUM(DataInput!O362,DataInput!AK362)","v":0},{"$f":"DataInput!P362","v":0},null,40,{"$f":"DataInput!R362","v":7},{"$f":"DataInput!Y362","v":0},{"$f":"IF(DataInput!U362-DataInput!E362>0,DataInput!U362-DataInput!E362,\"\")","v":30},{"$f":"IF(DataInput!W362-DataInput!I362>0,DataInput!W362-DataInput!I362,\"\")","v":""},null,37,48.1,-8.1,0,0,{"$f":"ROUNDDOWN((IF(AA363>0,IFERROR(IF(AVERAGE(DataInput!Q362:Q363)>AVERAGE(AA363,AA362),ROUNDDOWN(((((AA362-Z362)+(AA363-Z363))/2)*(A363-A362))/27,0),IF(((((DataInput!Q363-Z363)+(DataInput!Q362-Z362))/2)*(A363-A362))/27+S362+T362>0,ROUNDDOWN(((((DataInput!Q363-Z363)+(DataInput!Q362-Z362))/2)*(A363-A362))/27+S362+T362,0),0)),0),0)*$X$5),1)","v":0},0,{"$f":"ROUNDDOWN((IF(AC363>0,IFERROR(IF(((((DataInput!Q362-AC362)+(DataInput!Q363-AC363))/2)*(A363-A362))/27+S362+T362>0,ROUNDDOWN(((((DataInput!Q362-AC362)+(DataInput!Q363-AC363))/2)*(A363-A362))/27+S362+T362,0),0),0),0)*$X$5),1)","v":0},{"$f":"DataInput!U362","v":42},{"$f":"DataInput!S362","v":21},29.4,12.6]
[{"$f":"IF(DataInput!A363<>\"\",DataInput!A363,\"\")","v":91800},{"$f":"SUM(DataInput!C363,DataInput!Y363)+(DataInput!U363-DataInput!E363)","v":76},{"$f":"SUM(DataInput!D363,DataInput!Z363)","v":39},{"$f":"DataInput!U363","v":37},{"$f":"SUM(DataInput!F363,DataInput!AB363)","v":0},{"$f":"SUM(DataInput!G363,DataInput!AC363)","v":0},{"$f":"SUM(DataInput!H363,DataInput!AD363)","v":0},{"$f":"DataInput!I363","v":17},{"$f":"SUM(DataInput!J363,DataInput!AF363)","v":0},{"$f":"SUM(DataInput!K363,DataInput!AG363)","v":0},{"$f":"SUM(DataInput!L363,DataInput!AH363)","v":0},{"$f":"SUM(DataInput!M363,DataInput!AI363)","v":0},{"$f":"SUM(DataInput!N363,DataInput!AJ363)","v":0},{"$f":"SUM(DataInput!O363,DataInput!AK363)","v":0},{"$f":"DataInput!P363","v":0},null,39,{"$f":"DataInput!R363","v":5},{"$f":"DataInput!Y363","v":0},{"$f":"IF(DataInput!U363-DataInput!E363>0,DataInput!U363-DataInput!E363,\"\")","v":25},{"$f":"IF(DataInput!W363-DataInput!I363>0,DataInput!W363-DataInput!I363,\"\")","v":""},null,30,39,0,0,0,{"$f":"ROUNDDOWN((IF(AA364>0,IFERROR(IF(AVERAGE(DataInput!Q363:Q364)>AVERAGE(AA364,AA363),ROUNDDOWN(((((AA363-Z363)+(AA364-Z364))/2)*(A364-A363))/27,0),IF(((((DataInput!Q364-Z364)+(DataInput!Q363-Z363))/2)*(A364-A363))/27+S363+T363>0,ROUNDDOWN(((((DataInput!Q364-Z364)+(DataInput!Q363-Z363))/2)*(A364-A363))/27+S363+T363,0),0)),0),0)*$X$5),1)","v":0},0,{"$f":"ROUNDDOWN((IF(AC364>0,IFERROR(IF(((((DataInput!Q363-AC363)+(DataInput!Q364-AC364))/2)*(A364-A363))/27+S363+T363>0,ROUNDDOWN(((((DataInput!Q363-AC363)+(DataInput!Q364-AC364))/2)*(A364-A363))/27+S363+T363,0),0),0),0)*$X$5),1)","v":0},{"$f":"DataInput!U363","v":37},{"$f":"DataInput!S363","v":18},25.2,11.8]
[{"$f":"IF(DataInput!A364<>\"\",DataInput!A364,\"\")","v":91825},{"$f":"SUM(DataInput!C364,DataInput!Y364)+(DataInput!U364-DataInput!E364)","v":61},{"$f":"SUM(DataInput!D364,DataInput!Z364)","v":37},{"$f":"DataInput!U364","v":24},{"$f":"SUM(DataInput!F364,DataInput!AB364)","v":0},{"$f":"SUM(DataInput!G364,DataInput!AC364)","v":0},{"$f":"SUM(DataInput!H364,DataInput!AD364)","v":0},{"$f":"DataInput!I364","v":17},{"$f":"SUM(DataInput!J364,DataInput!AF364)","v":0},{"$f":"SUM(DataInput!K364,DataInput!AG364)","v":0},{"$f":"SUM(DataInput!L364,DataInput!AH364)","v":0},{"$f":"SUM(DataInput!M364,DataInput!AI364)","v":0},{"$f":"SUM(DataInput!N364,DataInput!AJ364)","v":0},{"$f":"SUM(DataInput!O364,DataInput!AK364)","v":0},{"$f":"DataInput!P364","v":0},null,37,{"$f":"DataInput!R364","v":0},{"$f":"DataInput!Y364","v":0},{"$f":"IF(DataInput!U364-DataInput!E364>0,DataInput!U364-DataInput!E364,\"\")","v":13},{"$f":"IF(DataInput!W364-DataInput!I364>0,DataInput!W364-DataInput!I364,\"\")","v":""},null,13,16.899999999999999,20.100000000000001,0,0,{"$f":"ROUNDDOWN((IF(AA365>0,IFERROR(IF(AVERAGE(DataInput!Q364:Q365)>AVERAGE(AA365,AA364),ROUNDDOWN(((((AA364-Z364)+(AA365-Z365))/2)*(A365-A364))/27,0),IF(((((DataInput!Q365-Z365)+(DataInput!Q364-Z364))/2)*(A365-A364))/27+S364+T364>0,ROUNDDOWN(((((DataInput!Q365-Z365)+(DataInput!Q364-Z364))/2)*(A365-A364))/27+S364+T364,0),0)),0),0)*$X$5),1)","v":0},0,{"$f":"ROUNDDOWN((IF(AC365>0,IFERROR(IF(((((DataInput!Q364-AC364)+(DataInput!Q365-AC365))/2)*(A365-A364))/27+S364+T364>0,ROUNDDOWN(((((DataInput!Q364-AC364)+(DataInput!Q365-AC365))/2)*(A365-A364))/27+S364+T364,0),0),0),0)*$X$5),1)","v":0},{"$f":"DataInput!U364","v":24},{"$f":"DataInput!S364","v":11},15.4,8.6]
[{"$f":"IF(DataInput!A365<>\"\",DataInput!A365,\"\")","v":91850},{"$f":"SUM(DataInput!C365,DataInput!Y365)+(DataInput!U365-DataInput!E365)","v":9},{"$f":"SUM(DataInput!D365,DataInput!Z365)","v":7},{"$f":"DataInput!U365","v":2},{"$f":"SUM(DataInput!F365,DataInput!AB365)","v":0},{"$f":"SUM(DataInput!G365,DataInput!AC365)","v":0},{"$f":"SUM(DataInput!H365,DataInput!AD365)","v":0},{"$f":"DataInput!I365","v":3},{"$f":"SUM(DataInput!J365,DataInput!AF365)","v":0},{"$f":"SUM(DataInput!K365,DataInput!AG365)","v":0},{"$f":"SUM(DataInput!L365,DataInput!AH365)","v":0},{"$f":"SUM(DataInput!M365,DataInput!AI365)","v":0},{"$f":"SUM(DataInput!N365,DataInput!AJ365)","v":0},{"$f":"SUM(DataInput!O365,DataInput!AK365)","v":0},{"$f":"DataInput!P365","v":0},null,7,{"$f":"DataInput!R365","v":0},{"$f":"DataInput!Y365","v":0},{"$f":"IF(DataInput!U365-DataInput!E365>0,DataInput!U365-DataInput!E365,\"\")","v":""},{"$f":"IF(DataInput!W365-DataInput!I365>0,DataInput!W365-DataInput!I365,\"\")","v":""},null,0,0,7,0,0,{"$f":"ROUNDDOWN((IF(AA366>0,IFERROR(IF(AVERAGE(DataInput!Q365:Q366)>AVERAGE(AA366,AA365),ROUNDDOWN(((((AA365-Z365)+(AA366-Z366))/2)*(A366-A365))/27,0),IF(((((DataInput!Q366-Z366)+(DataInput!Q365-Z365))/2)*(A366-A365))/27+S365+T365>0,ROUNDDOWN(((((DataInput!Q366-Z366)+(DataInput!Q365-Z365))/2)*(A366-A365))/27+S365+T365,0),0)),0),0)*$X$5),1)","v":0},0,{"$f":"ROUNDDOWN((IF(AC366>0,IFERROR(IF(((((DataInput!Q365-AC365)+(DataInput!Q366-AC366))/2)*(A366-A365))/27+S365+T365>0,ROUNDDOWN(((((DataInput!Q365-AC365)+(DataInput!Q366-AC366))/2)*(A366-A365))/27+S365+T365,0),0),0),0)*$X$5),1)","v":0},{"$f":"DataInput!U365","v":2},{"$f":"DataInput!S365","v":1},1.4,0.6]
[{"$f":"IF(DataInput!A366<>\"\",DataInput!A366,\"\")","v":91855}]
[]
[{"$f":"IF(DataInput!A368<>\"\",DataInput!A368,\"\")","v":"Mary_St"}]
[{"$f":"IF(DataInput!A369<>\"\",DataInput!A369,\"\")","v":896815},{"$f":"SUM(DataInput!C369,DataInput!Y369)+(DataInput!U369-DataInput!E369)","v":11},{"$f":"SUM(DataInput!D369,DataInput!Z369)","v":11},{"$f":"DataInput!U369","v":0},{"$f":"SUM(DataInput!F369,DataInput!AB369)","v":0},{"$f":"SUM(DataInput!G369,DataInput!AC369)","v":0},{"$f":"SUM(DataInput!H369,DataInput!AD369)","v":0},{"$f":"DataInput!I369","v":15},{"$f":"SUM(DataInput!J369,DataInput!AF369)","v":0},{"$f":"SUM(DataInput!K369,DataInput!AG369)","v":0},{"$f":"SUM(DataInput!L369,DataInput!AH369)","v":0},{"$f":"SUM(DataInput!M369,DataInput!AI369)","v":0},{"$f":"SUM(DataInput!N369,DataInput!AJ369)","v":0},{"$f":"SUM(DataInput!O369,DataInput!AK369)","v":0},{"$f":"DataInput!P369","v":0},null,{"$f":"SUM(C369,E369:G369,I369:L369,O369:P369)","v":11},{"$f":"DataInput!R369","v":1},{"$f":"DataInput!Y369","v":0},{"$f":"IF(DataInput!U369-DataInput!E369>0,DataInput!U369-DataInput!E369,\"\")","v":""},{"$f":"IF(DataInput!W369-DataInput!I369>0,DataInput!W369-DataInput!I369,\"\")","v":""},null,{"$f":"SUM(R369:V369)","v":1},{"$f":"ROUNDUP(($W369*$X$5),1)","v":1.3},{"$f":"ROUNDUP(SUM(Q369-X369),1)","v":9.6999999999999993},null,null,{"$f":"ROUNDDOWN((IF(AA370>0,IFERROR(IF(AVERAGE(DataInput!Q369:Q370)>AVERAGE(AA370,AA369),ROUNDDOWN(((((AA369-Z369)+(AA370-Z370))/2)*(A370-A369))/27,0),IF(((((DataInput!Q370-Z370)+(DataInput!Q369-Z369))/2)*(A370-A369))/27+S369+T369>0,ROUNDDOWN(((((DataInput!Q370-Z370)+(DataInput!Q369-Z369))/2)*(A370-A369))/27+S369+T369,0),0)),0),0)*$X$5),1)","v":0},null,{"$f":"ROUNDDOWN((IF(AC370>0,IFERROR(IF(((((DataInput!Q369-AC369)+(DataInput!Q370-AC370))/2)*(A370-A369))/27+S369+T369>0,ROUNDDOWN(((((DataInput!Q369-AC369)+(DataInput!Q370-AC370))/2)*(A370-A369))/27+S369+T369,0),0),0),0)*$X$5),1)","v":0},{"$f":"DataInput!U369","v":0},{"$f":"DataInput!S369","v":0},{"$f":"ROUNDUP((AF369*$AG$5),1)","v":0},{"$f":"ROUNDUP((AE369-AG369),1)","v":0}]
[{"$f":"IF(DataInput!A370<>\"\",DataInput!A370,\"\")","v":896825},{"$f":"SUM(DataInput!C370,DataInput!Y370)+(DataInput!U370-DataInput!E370)","v":55},{"$f":"SUM(DataInput!D370,DataInput!Z370)","v":34},{"$f":"DataInput!U370","v":21},{"$f":"SUM(DataInput!F370,DataInput!AB370)","v":0},{"$f":"SUM(DataInput!G370,DataInput!AC370)","v":0},{"$f":"SUM(DataInput!H370,DataInput!AD370)","v":0},{"$f":"DataInput!I370","v":37},{"$f":"SUM(DataInput!J370,DataInput!AF370)","v":0},{"$f":"SUM(DataInput!K370,DataInput!AG370)","v":0},{"$f":"SUM(DataInput!L370,DataInput!AH370)","v":0},{"$f":"SUM(DataInput!M370,DataInput!AI370)","v":0},{"$f":"SUM(DataInput!N370,DataInput!AJ370)","v":0},{"$f":"SUM(DataInput!O370,DataInput!AK370)","v":0},{"$f":"DataInput!P370","v":0},null,{"$f":"SUM(C370,E370:G370,I370:L370,O370:P370)","v":34},{"$f":"DataInput!R370","v":9},{"$f":"DataInput!Y370","v":0},{"$f":"IF(DataInput!U370-DataInput!E370>0,DataInput!U370-DataInput!E370,\"\")","v":13},{"$f":"IF(DataInput!W370-DataInput!I370>0,DataInput!W370-DataInput!I370,\"\")","v":""},null,{"$f":"SUM(R370:V370)","v":22},{"$f":"ROUNDUP(($W370*$X$5),1)","v":28.6},{"$f":"ROUNDUP(SUM(Q370-X370),1)","v":5.4},{"$f":"Z369","v":0},{"$f":"AA369","v":0},{"$f":"ROUNDDOWN((IF(AA371>0,IFERROR(IF(AVERAGE(DataInput!Q370:Q371)>AVERAGE(AA371,AA370),ROUNDDOWN(((((AA370-Z370)+(AA371-Z371))/2)*(A371-A370))/27,0),IF(((((DataInput!Q371-Z371)+(DataInput!Q370-Z370))/2)*(A371-A370))/27+S370+T370>0,ROUNDDOWN(((((DataInput!Q371-Z371)+(DataInput!Q370-Z370))/2)*(A371-A370))/27+S370+T370,0),0)),0),0)*$X$5),1)","v":0},{"$f":"AC369","v":0},{"$f":"ROUNDDOWN((IF(AC371>0,IFERROR(IF(((((DataInput!Q370-AC370)+(DataInput!Q371-AC371))/2)*(A371-A370))/27+S370+T370>0,ROUNDDOWN(((((DataInput!Q370-AC370)+(DataInput!Q371-AC371))/2)*(A371-A370))/27+S370+T370,0),0),0),0)*$X$5),1)","v":0},{"$f":"DataInput!U370","v":21},{"$f":"DataInput!S370","v":0},{"$f":"ROUNDUP((AF370*$AG$5),1)","v":0},{"$f":"ROUNDUP((AE370-AG370),1)","v":21}]
[{"$f":"IF(DataInput!A371<>\"\",DataInput!A371,\"\")","v":896850},{"$f":"SUM(DataInput!C371,DataInput!Y371)+(DataInput!U371-DataInput!E371)","v":86},{"$f":"SUM(DataInput!D371,DataInput!Z371)","v":45},{"$f":"DataInput!U371","v":42},{"$f":"SUM(DataInput!F371,DataInput!AB371)","v":0},{"$f":"SUM(DataInput!G371,DataInput!AC371)","v":0},{"$f":"SUM(DataInput!H371,DataInput!AD371)","v":0},{"$f":"DataInput!I371","v":37},{"$f":"SUM(DataInput!J371,DataInput!AF371)","v":0},{"$f":"SUM(DataInput!K371,DataInput!AG371)","v":0},{"$f":"SUM(DataInput!L371,DataInput!AH371)","v":0},{"$f":"SUM(DataInput!M371,DataInput!AI371)","v":0},{"$f":"SUM(DataInput!N371,DataInput!AJ371)","v":0},{"$f":"SUM(DataInput!O371,DataInput!AK371)","v":0},{"$f":"DataInput!P371","v":0},null,45,{"$f":"DataInput!R371","v":20},{"$f":"DataInput!Y371","v":0},{"$f":"IF(DataInput!U371-DataInput!E371>0,DataInput!U371-DataInput!E371,\"\")","v":30},{"$f":"IF(DataInput!W371-DataInput!I371>0,DataInput!W371-DataInput!I371,\"\")","v":""},null,50,65,-20,{"$f":"Z370","v":0},{"$f":"AA370","v":0},{"$f":"ROUNDDOWN((IF(AA372>0,IFERROR(IF(AVERAGE(DataInput!Q371:Q372)>AVERAGE(AA372,AA371),ROUNDDOWN(((((AA371-Z371)+(AA372-Z372))/2)*(A372-A371))/27,0),IF(((((DataInput!Q372-Z372)+(DataInput!Q371-Z371))/2)*(A372-A371))/27+S371+T371>0,ROUNDDOWN(((((DataInput!Q372-Z372)+(DataInput!Q371-Z371))/2)*(A372-A371))/27+S371+T371,0),0)),0),0)*$X$5),1)","v":0},{"$f":"AC370","v":0},{"$f":"ROUNDDOWN((IF(AC372>0,IFERROR(IF(((((DataInput!Q371-AC371)+(DataInput!Q372-AC372))/2)*(A372-A371))/27+S371+T371>0,ROUNDDOWN(((((DataInput!Q371-AC371)+(DataInput!Q372-AC372))/2)*(A372-A371))/27+S371+T371,0),0),0),0)*$X$5),1)","v":0},{"$f":"DataInput!U371","v":42},{"$f":"DataInput!S371","v":6},8.4,33.6]
[{"$f":"IF(DataInput!A372<>\"\",DataInput!A372,\"\")","v":896875},{"$f":"SUM(DataInput!C372,DataInput!Y372)+(DataInput!U372-DataInput!E372)","v":126},{"$f":"SUM(DataInput!D372,DataInput!Z372)","v":53},{"$f":"DataInput!U372","v":73},{"$f":"SUM(DataInput!F372,DataInput!AB372)","v":0},{"$f":"SUM(DataInput!G372,DataInput!AC372)","v":0},{"$f":"SUM(DataInput!H372,DataInput!AD372)","v":0},{"$f":"DataInput!I372","v":38},{"$f":"SUM(DataInput!J372,DataInput!AF372)","v":0},{"$f":"SUM(DataInput!K372,DataInput!AG372)","v":0},{"$f":"SUM(DataInput!L372,DataInput!AH372)","v":0},{"$f":"SUM(DataInput!M372,DataInput!AI372)","v":0},{"$f":"SUM(DataInput!N372,DataInput!AJ372)","v":0},{"$f":"SUM(DataInput!O372,DataInput!AK372)","v":0},{"$f":"DataInput!P372","v":0},null,53,{"$f":"DataInput!R372","v":26},{"$f":"DataInput!Y372","v":0},{"$f":"IF(DataInput!U372-DataInput!E372>0,DataInput!U372-DataInput!E372,\"\")","v":48},{"$f":"IF(DataInput!W372-DataInput!I372>0,DataInput!W372-DataInput!I372,\"\")","v":""},null,74,96.2,-43.2,0,0,{"$f":"ROUNDDOWN((IF(AA373>0,IFERROR(IF(AVERAGE(DataInput!Q372:Q373)>AVERAGE(AA373,AA372),ROUNDDOWN(((((AA372-Z372)+(AA373-Z373))/2)*(A373-A372))/27,0),IF(((((DataInput!Q373-Z373)+(DataInput!Q372-Z372))/2)*(A373-A372))/27+S372+T372>0,ROUNDDOWN(((((DataInput!Q373-Z373)+(DataInput!Q372-Z372))/2)*(A373-A372))/27+S372+T372,0),0)),0),0)*$X$5),1)","v":0},0,{"$f":"ROUNDDOWN((IF(AC373>0,IFERROR(IF(((((DataInput!Q372-AC372)+(DataInput!Q373-AC373))/2)*(A373-A372))/27+S372+T372>0,ROUNDDOWN(((((DataInput!Q372-AC372)+(DataInput!Q373-AC373))/2)*(A373-A372))/27+S372+T372,0),0),0),0)*$X$5),1)","v":0},{"$f":"DataInput!U372","v":73},{"$f":"DataInput!S372","v":20},28,45]
[{"$f":"IF(DataInput!A373<>\"\",DataInput!A373,\"\")","v":896900},{"$f":"SUM(DataInput!C373,DataInput!Y373)+(DataInput!U373-DataInput!E373)","v":158},{"$f":"SUM(DataInput!D373,DataInput!Z373)","v":75},{"$f":"DataInput!U373","v":82},{"$f":"SUM(DataInput!F373,DataInput!AB373)","v":0},{"$f":"SUM(DataInput!G373,DataInput!AC373)","v":0},{"$f":"SUM(DataInput!H373,DataInput!AD373)","v":0},{"$f":"DataInput!I373","v":53},{"$f":"SUM(DataInput!J373,DataInput!AF373)","v":0},{"$f":"SUM(DataInput!K373,DataInput!AG373)","v":0},{"$f":"SUM(DataInput!L373,DataInput!AH373)","v":0},{"$f":"SUM(DataInput!M373,DataInput!AI373)","v":0},{"$f":"SUM(DataInput!N373,DataInput!AJ373)","v":0},{"$f":"SUM(DataInput!O373,DataInput!AK373)","v":0},{"$f":"DataInput!P373","v":0},null,75,{"$f":"DataInput!R373","v":15},{"$f":"DataInput!Y373","v":0},{"$f":"IF(DataInput!U373-DataInput!E373>0,DataInput!U373-DataInput!E373,\"\")","v":43},{"$f":"IF(DataInput!W373-DataInput!I373>0,DataInput!W373-DataInput!I373,\"\")","v":""},null,58,75.400000000000006,-0.5,0,0,{"$f":"ROUNDDOWN((IF(AA374>0,IFERROR(IF(AVERAGE(DataInput!Q373:Q374)>AVERAGE(AA374,AA373),ROUNDDOWN(((((AA373-Z373)+(AA374-Z374))/2)*(A374-A373))/27,0),IF(((((DataInput!Q374-Z374)+(DataInput!Q373-Z373))/2)*(A374-A373))/27+S373+T373>0,ROUNDDOWN(((((DataInput!Q374-Z374)+(DataInput!Q373-Z373))/2)*(A374-A373))/27+S373+T373,0),0)),0),0)*$X$5),1)","v":0},0,{"$f":"ROUNDDOWN((IF(AC374>0,IFERROR(IF(((((DataInput!Q373-AC373)+(DataInput!Q374-AC374))/2)*(A374-A373))/27+S373+T373>0,ROUNDDOWN(((((DataInput!Q373-AC373)+(DataInput!Q374-AC374))/2)*(A374-A373))/27+S373+T373,0),0),0),0)*$X$5),1)","v":0},{"$f":"DataInput!U373","v":82},{"$f":"DataInput!S373","v":35},49,33]
[{"$f":"IF(DataInput!A374<>\"\",DataInput!A374,\"\")","v":896925},{"$f":"SUM(DataInput!C374,DataInput!Y374)+(DataInput!U374-DataInput!E374)","v":174},{"$f":"SUM(DataInput!D374,DataInput!Z374)","v":81},{"$f":"DataInput!U374","v":93},{"$f":"SUM(DataInput!F374,DataInput!AB374)","v":0},{"$f":"SUM(DataInput!G374,DataInput!AC374)","v":0},{"$f":"SUM(DataInput!H374,DataInput!AD374)","v":0},{"$f":"DataInput!I374","v":73},{"$f":"SUM(DataInput!J374,DataInput!AF374)","v":0},{"$f":"SUM(DataInput!K374,DataInput!AG374)","v":0},{"$f":"SUM(DataInput!L374,DataInput!AH374)","v":0},{"$f":"SUM(DataInput!M374,DataInput!AI374)","v":0},{"$f":"SUM(DataInput!N374,DataInput!AJ374)","v":0},{"$f":"SUM(DataInput!O374,DataInput!AK374)","v":0},{"$f":"DataInput!P374","v":0},null,81,{"$f":"DataInput!R374","v":8},{"$f":"DataInput!Y374","v":0},{"$f":"IF(DataInput!U374-DataInput!E374>0,DataInput!U374-DataInput!E374,\"\")","v":47},{"$f":"IF(DataInput!W374-DataInput!I374>0,DataInput!W374-DataInput!I374,\"\")","v":""},null,55,71.5,9.5,0,0,{"$f":"ROUNDDOWN((IF(AA375>0,IFERROR(IF(AVERAGE(DataInput!Q374:Q375)>AVERAGE(AA375,AA374),ROUNDDOWN(((((AA374-Z374)+(AA375-Z375))/2)*(A375-A374))/27,0),IF(((((DataInput!Q375-Z375)+(DataInput!Q374-Z374))/2)*(A375-A374))/27+S374+T374>0,ROUNDDOWN(((((DataInput!Q375-Z375)+(DataInput!Q374-Z374))/2)*(A375-A374))/27+S374+T374,0),0)),0),0)*$X$5),1)","v":0},0,{"$f":"ROUNDDOWN((IF(AC375>0,IFERROR(IF(((((DataInput!Q374-AC374)+(DataInput!Q375-AC375))/2)*(A375-A374))/27+S374+T374>0,ROUNDDOWN(((((DataInput!Q374-AC374)+(DataInput!Q375-AC375))/2)*(A375-A374))/27+S374+T374,0),0),0),0)*$X$5),1)","v":0},{"$f":"DataInput!U374","v":93},{"$f":"DataInput!S374","v":50},70,23]
[{"$f":"IF(DataInput!A375<>\"\",DataInput!A375,\"\")","v":896950},{"$f":"SUM(DataInput!C375,DataInput!Y375)+(DataInput!U375-DataInput!E375)","v":110},{"$f":"SUM(DataInput!D375,DataInput!Z375)","v":36},{"$f":"DataInput!U375","v":74},{"$f":"SUM(DataInput!F375,DataInput!AB375)","v":0},{"$f":"SUM(DataInput!G375,DataInput!AC375)","v":0},{"$f":"SUM(DataInput!H375,DataInput!AD375)","v":0},{"$f":"DataInput!I375","v":38},{"$f":"SUM(DataInput!J375,DataInput!AF375)","v":0},{"$f":"SUM(DataInput!K375,DataInput!AG375)","v":0},{"$f":"SUM(DataInput!L375,DataInput!AH375)","v":0},{"$f":"SUM(DataInput!M375,DataInput!AI375)","v":0},{"$f":"SUM(DataInput!N375,DataInput!AJ375)","v":0},{"$f":"SUM(DataInput!O375,DataInput!AK375)","v":0},{"$f":"DataInput!P375","v":0},null,36,{"$f":"DataInput!R375","v":16},{"$f":"DataInput!Y375","v":0},{"$f":"IF(DataInput!U375-DataInput!E375>0,DataInput!U375-DataInput!E375,\"\")","v":45},{"$f":"IF(DataInput!W375-DataInput!I375>0,DataInput!W375-DataInput!I375,\"\")","v":""},null,61,79.3,-43.3,0,0,{"$f":"ROUNDDOWN((IF(AA376>0,IFERROR(IF(AVERAGE(DataInput!Q375:Q376)>AVERAGE(AA376,AA375),ROUNDDOWN(((((AA375-Z375)+(AA376-Z376))/2)*(A376-A375))/27,0),IF(((((DataInput!Q376-Z376)+(DataInput!Q375-Z375))/2)*(A376-A375))/27+S375+T375>0,ROUNDDOWN(((((DataInput!Q376-Z376)+(DataInput!Q375-Z375))/2)*(A376-A375))/27+S375+T375,0),0)),0),0)*$X$5),1)","v":0},0,{"$f":"ROUNDDOWN((IF(AC376>0,IFERROR(IF(((((DataInput!Q375-AC375)+(DataInput!Q376-AC376))/2)*(A376-A375))/27+S375+T375>0,ROUNDDOWN(((((DataInput!Q375-AC375)+(DataInput!Q376-AC376))/2)*(A376-A375))/27+S375+T375,0),0),0),0)*$X$5),1)","v":0},{"$f":"DataInput!U375","v":74},{"$f":"DataInput!S375","v":38},53.2,20.8]
[{"$f":"IF(DataInput!A376<>\"\",DataInput!A376,\"\")","v":896966.17},{"$f":"SUM(DataInput!C376,DataInput!Y376)+(DataInput!U376-DataInput!E376)","v":60},{"$f":"SUM(DataInput!D376,DataInput!Z376)","v":19},{"$f":"DataInput!U376","v":42},{"$f":"SUM(DataInput!F376,DataInput!AB376)","v":0},{"$f":"SUM(DataInput!G376,DataInput!AC376)","v":0},{"$f":"SUM(DataInput!H376,DataInput!AD376)","v":0},{"$f":"DataInput!I376","v":11},{"$f":"SUM(DataInput!J376,DataInput!AF376)","v":0},{"$f":"SUM(DataInput!K376,DataInput!AG376)","v":0},{"$f":"SUM(DataInput!L376,DataInput!AH376)","v":0},{"$f":"SUM(DataInput!M376,DataInput!AI376)","v":0},{"$f":"SUM(DataInput!N376,DataInput!AJ376)","v":0},{"$f":"SUM(DataInput!O376,DataInput!AK376)","v":0},{"$f":"DataInput!P376","v":0},null,19,{"$f":"DataInput!R376","v":11},{"$f":"DataInput!Y376","v":0},{"$f":"IF(DataInput!U376-DataInput!E376>0,DataInput!U376-DataInput!E376,\"\")","v":27},{"$f":"IF(DataInput!W376-DataInput!I376>0,DataInput!W376-DataInput!I376,\"\")","v":""},null,38,49.4,-30.4,0,0,{"$f":"ROUNDDOWN((IF(AA377>0,IFERROR(IF(AVERAGE(DataInput!Q376:Q377)>AVERAGE(AA377,AA376),ROUNDDOWN(((((AA376-Z376)+(AA377-Z377))/2)*(A377-A376))/27,0),IF(((((DataInput!Q377-Z377)+(DataInput!Q376-Z376))/2)*(A377-A376))/27+S376+T376>0,ROUNDDOWN(((((DataInput!Q377-Z377)+(DataInput!Q376-Z376))/2)*(A377-A376))/27+S376+T376,0),0)),0),0)*$X$5),1)","v":0},0,{"$f":"ROUNDDOWN((IF(AC377>0,IFERROR(IF(((((DataInput!Q376-AC376)+(DataInput!Q377-AC377))/2)*(A377-A376))/27+S376+T376>0,ROUNDDOWN(((((DataInput!Q376-AC376)+(DataInput!Q377-AC377))/2)*(A377-A376))/27+S376+T376,0),0),0),0)*$X$5),1)","v":0},{"$f":"DataInput!U376","v":42},{"$f":"DataInput!S376","v":20},28,14]
[{"$f":"IF(DataInput!A377<>\"\",DataInput!A377,\"\")","v":896975},{"$f":"SUM(DataInput!C377,DataInput!Y377)+(DataInput!U377-DataInput!E377)","v":40},{"$f":"SUM(DataInput!D377,DataInput!Z377)","v":14},{"$f":"DataInput!U377","v":27},{"$f":"SUM(DataInput!F377,DataInput!AB377)","v":0},{"$f":"SUM(DataInput!G377,DataInput!AC377)","v":0},{"$f":"SUM(DataInput!H377,DataInput!AD377)","v":0},{"$f":"DataInput!I377","v":4},{"$f":"SUM(DataInput!J377,DataInput!AF377)","v":0},{"$f":"SUM(DataInput!K377,DataInput!AG377)","v":0},{"$f":"SUM(DataInput!L377,DataInput!AH377)","v":0},{"$f":"SUM(DataInput!M377,DataInput!AI377)","v":0},{"$f":"SUM(DataInput!N377,DataInput!AJ377)","v":0},{"$f":"SUM(DataInput!O377,DataInput!AK377)","v":0},{"$f":"DataInput!P377","v":0},null,14,{"$f":"DataInput!R377","v":7},{"$f":"DataInput!Y377","v":0},{"$f":"IF(DataInput!U377-DataInput!E377>0,DataInput!U377-DataInput!E377,\"\")","v":17},{"$f":"IF(DataInput!W377-DataInput!I377>0,DataInput!W377-DataInput!I377,\"\")","v":""},null,24,31.2,-17.2,0,0,{"$f":"ROUNDDOWN((IF(AA378>0,IFERROR(IF(AVERAGE(DataInput!Q377:Q378)>AVERAGE(AA378,AA377),ROUNDDOWN(((((AA377-Z377)+(AA378-Z378))/2)*(A378-A377))/27,0),IF(((((DataInput!Q378-Z378)+(DataInput!Q377-Z377))/2)*(A378-A377))/27+S377+T377>0,ROUNDDOWN(((((DataInput!Q378-Z378)+(DataInput!Q377-Z377))/2)*(A378-A377))/27+S377+T377,0),0)),0),0)*$X$5),1)","v":0},0,{"$f":"ROUNDDOWN((IF(AC378>0,IFERROR(IF(((((DataInput!Q377-AC377)+(DataInput!Q378-AC378))/2)*(A378-A377))/27+S377+T377>0,ROUNDDOWN(((((DataInput!Q377-AC377)+(DataInput!Q378-AC378))/2)*(A378-A377))/27+S377+T377,0),0),0),0)*$X$5),1)","v":0},{"$f":"DataInput!U377","v":27},{"$f":"DataInput!S377","v":13},18.2,8.8000000000000007]
[{"$f":"IF(DataInput!A378<>\"\",DataInput!A378,\"\")","v":896980.75},{"$f":"SUM(DataInput!C378,DataInput!Y378)+(DataInput!U378-DataInput!E378)","v":133},{"$f":"SUM(DataInput!D378,DataInput!Z378)","v":51},{"$f":"DataInput!U378","v":82},{"$f":"SUM(DataInput!F378,DataInput!AB378)","v":0},{"$f":"SUM(DataInput!G378,DataInput!AC378)","v":0},{"$f":"SUM(DataInput!H378,DataInput!AD378)","v":0},{"$f":"DataInput!I378","v":8},{"$f":"SUM(DataInput!J378,DataInput!AF378)","v":0},{"$f":"SUM(DataInput!K378,DataInput!AG378)","v":0},{"$f":"SUM(DataInput!L378,DataInput!AH378)","v":0},{"$f":"SUM(DataInput!M378,DataInput!AI378)","v":0},{"$f":"SUM(DataInput!N378,DataInput!AJ378)","v":0},{"$f":"SUM(DataInput!O378,DataInput!AK378)","v":0},{"$f":"DataInput!P378","v":0},null,51,{"$f":"DataInput!R378","v":24},{"$f":"DataInput!Y378","v":0},{"$f":"IF(DataInput!U378-DataInput!E378>0,DataInput!U378-DataInput!E378,\"\")","v":47},{"$f":"IF(DataInput!W378-DataInput!I378>0,DataInput!W378-DataInput!I378,\"\")","v":""},null,71,92.3,-41.3,0,0,{"$f":"ROUNDDOWN((IF(AA379>0,IFERROR(IF(AVERAGE(DataInput!Q378:Q379)>AVERAGE(AA379,AA378),ROUNDDOWN(((((AA378-Z378)+(AA379-Z379))/2)*(A379-A378))/27,0),IF(((((DataInput!Q379-Z379)+(DataInput!Q378-Z378))/2)*(A379-A378))/27+S378+T378>0,ROUNDDOWN(((((DataInput!Q379-Z379)+(DataInput!Q378-Z378))/2)*(A379-A378))/27+S378+T378,0),0)),0),0)*$X$5),1)","v":0},0,{"$f":"ROUNDDOWN((IF(AC379>0,IFERROR(IF(((((DataInput!Q378-AC378)+(DataInput!Q379-AC379))/2)*(A379-A378))/27+S378+T378>0,ROUNDDOWN(((((DataInput!Q378-AC378)+(DataInput!Q379-AC379))/2)*(A379-A378))/27+S378+T378,0),0),0),0)*$X$5),1)","v":0},{"$f":"DataInput!U378","v":82},{"$f":"DataInput!S378","v":41},57.4,24.6]
[{"$f":"IF(DataInput!A379<>\"\",DataInput!A379,\"\")","v":897000}]
[]
[{"$f":"IF(DataInput!A381<>\"\",DataInput!A381,\"\")","v":"STG2_US_63"}]
[{"$f":"IF(DataInput!A382<>\"\",DataInput!A382,\"\")","v":89200},{"$f":"SUM(DataInput!C382,DataInput!Y382)+(DataInput!U382-DataInput!E382)","v":338},{"$f":"SUM(DataInput!D382,DataInput!Z382)","v":212},{"$f":"DataInput!U382","v":126},{"$f":"SUM(DataInput!F382,DataInput!AB382)","v":0},{"$f":"SUM(DataInput!G382,DataInput!AC382)","v":0},{"$f":"SUM(DataInput!H382,DataInput!AD382)","v":0},{"$f":"DataInput!I382","v":27},{"$f":"SUM(DataInput!J382,DataInput!AF382)","v":0},{"$f":"SUM(DataInput!K382,DataInput!AG382)","v":0},{"$f":"SUM(DataInput!L382,DataInput!AH382)","v":0},{"$f":"SUM(DataInput!M382,DataInput!AI382)","v":0},{"$f":"SUM(DataInput!N382,DataInput!AJ382)","v":0},{"$f":"SUM(DataInput!O382,DataInput!AK382)","v":0},{"$f":"DataInput!P382","v":0},null,{"$f":"SUM(C382,E382:G382,I382:L382,O382:P382)","v":212},{"$f":"DataInput!R382","v":220},{"$f":"DataInput!Y382","v":0},{"$f":"IF(DataInput!U382-DataInput!E382>0,DataInput!U382-DataInput!E382,\"\")","v":84},{"$f":"IF(DataInput!W382-DataInput!I382>0,DataInput!W382-DataInput!I382,\"\")","v":""},null,{"$f":"SUM(R382:V382)","v":304},{"$f":"ROUNDUP(($W382*$X$5),1)","v":395.2},{"$f":"ROUNDUP(SUM(Q382-X382),1)","v":-183.2},450,3350,{"$f":"ROUNDDOWN((IF(AA383>0,IFERROR(IF(AVERAGE(DataInput!Q382:Q383)>AVERAGE(AA383,AA382),ROUNDDOWN(((((AA382-Z382)+(AA383-Z383))/2)*(A383-A382))/27,0),IF(((((DataInput!Q383-Z383)+(DataInput!Q382-Z382))/2)*(A383-A382))/27+S382+T382>0,ROUNDDOWN(((((DataInput!Q383-Z383)+(DataInput!Q382-Z382))/2)*(A383-A382))/27+S382+T382,0),0)),0),0)*$X$5),1)","v":0},176,{"$f":"ROUNDDOWN((IF(AC383>0,IFERROR(IF(((((DataInput!Q382-AC382)+(DataInput!Q383-AC383))/2)*(A383-A382))/27+S382+T382>0,ROUNDDOWN(((((DataInput!Q382-AC382)+(DataInput!Q383-AC383))/2)*(A383-A382))/27+S382+T382,0),0),0),0)*$X$5),1)","v":182},{"$f":"DataInput!U382","v":126},{"$f":"DataInput!S382","v":44},{"$f":"ROUNDUP((AF382*$AG$5),1)","v":61.6},{"$f":"ROUNDUP((AE382-AG382),1)","v":64.400000000000006}]
[{"$f":"IF(DataInput!A383<>\"\",DataInput!A383,\"\")","v":89225},{"$f":"SUM(DataInput!C383,DataInput!Y383)+(DataInput!U383-DataInput!E383)","v":317},{"$f":"SUM(DataInput!D383,DataInput!Z383)","v":189},{"$f":"DataInput!U383","v":127},{"$f":"SUM(DataInput!F383,DataInput!AB383)","v":0},{"$f":"SUM(DataInput!G383,DataInput!AC383)","v":0},{"$f":"SUM(DataInput!H383,DataInput!AD383)","v":0},{"$f":"DataInput!I383","v":27},{"$f":"SUM(DataInput!J383,DataInput!AF383)","v":0},{"$f":"SUM(DataInput!K383,DataInput!AG383)","v":0},{"$f":"SUM(DataInput!L383,DataInput!AH383)","v":0},{"$f":"SUM(DataInput!M383,DataInput!AI383)","v":0},{"$f":"SUM(DataInput!N383,DataInput!AJ383)","v":0},{"$f":"SUM(DataInput!O383,DataInput!AK383)","v":0},{"$f":"DataInput!P383","v":0},null,{"$f":"SUM(C383,E383:G383,I383:L383,O383:P383)","v":189},{"$f":"DataInput!R383","v":236},{"$f":"DataInput!Y383","v":0},{"$f":"IF(DataInput!U383-DataInput!E383>0,DataInput!U383-DataInput!E383,\"\")","v":86},{"$f":"IF(DataInput!W383-DataInput!I383>0,DataInput!W383-DataInput!I383,\"\")","v":""},null,{"$f":"SUM(R383:V383)","v":322},{"$f":"ROUNDUP(($W383*$X$5),1)","v":418.6},{"$f":"ROUNDUP(SUM(Q383-X383),1)","v":-229.6},{"$f":"Z382","v":450},{"$f":"AA382","v":3350},{"$f":"ROUNDDOWN((IF(AA384>0,IFERROR(IF(AVERAGE(DataInput!Q383:Q384)>AVERAGE(AA384,AA383),ROUNDDOWN(((((AA383-Z383)+(AA384-Z384))/2)*(A384-A383))/27,0),IF(((((DataInput!Q384-Z384)+(DataInput!Q383-Z383))/2)*(A384-A383))/27+S383+T383>0,ROUNDDOWN(((((DataInput!Q384-Z384)+(DataInput!Q383-Z383))/2)*(A384-A383))/27+S383+T383,0),0)),0),0)*$X$5),1)","v":0},{"$f":"AC382","v":176},{"$f":"ROUNDDOWN((IF(AC384>0,IFERROR(IF(((((DataInput!Q383-AC383)+(DataInput!Q384-AC384))/2)*(A384-A383))/27+S383+T383>0,ROUNDDOWN(((((DataInput!Q383-AC383)+(DataInput!Q384-AC384))/2)*(A384-A383))/27+S383+T383,0),0),0),0)*$X$5),1)","v":206.7},{"$f":"DataInput!U383","v":127},{"$f":"DataInput!S383","v":44},{"$f":"ROUNDUP((AF383*$AG$5),1)","v":61.6},{"$f":"ROUNDUP((AE383-AG383),1)","v":65.400000000000006}]
[{"$f":"IF(DataInput!A384<>\"\",DataInput!A384,\"\")","v":89250},{"$f":"SUM(DataInput!C384,DataInput!Y384)+(DataInput!U384-DataInput!E384)","v":297},{"$f":"SUM(DataInput!D384,DataInput!Z384)","v":170},{"$f":"DataInput!U384","v":127},{"$f":"SUM(DataInput!F384,DataInput!AB384)","v":0},{"$f":"SUM(DataInput!G384,DataInput!AC384)","v":0},{"$f":"SUM(DataInput!H384,DataInput!AD384)","v":0},{"$f":"DataInput!I384","v":27},{"$f":"SUM(DataInput!J384,DataInput!AF384)","v":0},{"$f":"SUM(DataInput!K384,DataInput!AG384)","v":0},{"$f":"SUM(DataInput!L384,DataInput!AH384)","v":0},{"$f":"SUM(DataInput!M384,DataInput!AI384)","v":0},{"$f":"SUM(DataInput!N384,DataInput!AJ384)","v":0},{"$f":"SUM(DataInput!O384,DataInput!AK384)","v":0},{"$f":"DataInput!P384","v":0},null,170,{"$f":"DataInput!R384","v":264},{"$f":"DataInput!Y384","v":0},{"$f":"IF(DataInput!U384-DataInput!E384>0,DataInput!U384-DataInput!E384,\"\")","v":88},{"$f":"IF(DataInput!W384-DataInput!I384>0,DataInput!W384-DataInput!I384,\"\")","v":""},null,352,457.6,-287.60000000000002,{"$f":"Z383","v":450},{"$f":"AA383","v":3350},{"$f":"ROUNDDOWN((IF(AA385>0,IFERROR(IF(AVERAGE(DataInput!Q384:Q385)>AVERAGE(AA385,AA384),ROUNDDOWN(((((AA384-Z384)+(AA385-Z385))/2)*(A385-A384))/27,0),IF(((((DataInput!Q385-Z385)+(DataInput!Q384-Z384))/2)*(A385-A384))/27+S384+T384>0,ROUNDDOWN(((((DataInput!Q385-Z385)+(DataInput!Q384-Z384))/2)*(A385-A384))/27+S384+T384,0),0)),0),0)*$X$5),1)","v":0},{"$f":"AC383","v":176},{"$f":"ROUNDDOWN((IF(AC385>0,IFERROR(IF(((((DataInput!Q384-AC384)+(DataInput!Q385-AC385))/2)*(A385-A384))/27+S384+T384>0,ROUNDDOWN(((((DataInput!Q384-AC384)+(DataInput!Q385-AC385))/2)*(A385-A384))/27+S384+T384,0),0),0),0)*$X$5),1)","v":244.4},{"$f":"DataInput!U384","v":127},{"$f":"DataInput!S384","v":45},63,64]
[{"$f":"IF(DataInput!A385<>\"\",DataInput!A385,\"\")","v":89275},{"$f":"SUM(DataInput!C385,DataInput!Y385)+(DataInput!U385-DataInput!E385)","v":281},{"$f":"SUM(DataInput!D385,DataInput!Z385)","v":153},{"$f":"DataInput!U385","v":128},{"$f":"SUM(DataInput!F385,DataInput!AB385)","v":0},{"$f":"SUM(DataInput!G385,DataInput!AC385)","v":0},{"$f":"SUM(DataInput!H385,DataInput!AD385)","v":0},{"$f":"DataInput!I385","v":27},{"$f":"SUM(DataInput!J385,DataInput!AF385)","v":0},{"$f":"SUM(DataInput!K385,DataInput!AG385)","v":0},{"$f":"SUM(DataInput!L385,DataInput!AH385)","v":0},{"$f":"SUM(DataInput!M385,DataInput!AI385)","v":0},{"$f":"SUM(DataInput!N385,DataInput!AJ385)","v":0},{"$f":"SUM(DataInput!O385,DataInput!AK385)","v":0},{"$f":"DataInput!P385","v":0},null,153,{"$f":"DataInput!R385","v":309},{"$f":"DataInput!Y385","v":0},{"$f":"IF(DataInput!U385-DataInput!E385>0,DataInput!U385-DataInput!E385,\"\")","v":90},{"$f":"IF(DataInput!W385-DataInput!I385>0,DataInput!W385-DataInput!I385,\"\")","v":""},null,399,518.70000000000005,-365.7,450,3350,{"$f":"ROUNDDOWN((IF(AA386>0,IFERROR(IF(AVERAGE(DataInput!Q385:Q386)>AVERAGE(AA386,AA385),ROUNDDOWN(((((AA385-Z385)+(AA386-Z386))/2)*(A386-A385))/27,0),IF(((((DataInput!Q386-Z386)+(DataInput!Q385-Z385))/2)*(A386-A385))/27+S385+T385>0,ROUNDDOWN(((((DataInput!Q386-Z386)+(DataInput!Q385-Z385))/2)*(A386-A385))/27+S385+T385,0),0)),0),0)*$X$5),1)","v":0},176,{"$f":"ROUNDDOWN((IF(AC386>0,IFERROR(IF(((((DataInput!Q385-AC385)+(DataInput!Q386-AC386))/2)*(A386-A385))/27+S385+T385>0,ROUNDDOWN(((((DataInput!Q385-AC385)+(DataInput!Q386-AC386))/2)*(A386-A385))/27+S385+T385,0),0),0),0)*$X$5),1)","v":306.8},{"$f":"DataInput!U385","v":128},{"$f":"DataInput!S385","v":45},63,65]
[{"$f":"IF(DataInput!A386<>\"\",DataInput!A386,\"\")","v":89300},{"$f":"SUM(DataInput!C386,DataInput!Y386)+(DataInput!U386-DataInput!E386)","v":76},{"$f":"SUM(DataInput!D386,DataInput!Z386)","v":40},{"$f":"DataInput!U386","v":36},{"$f":"SUM(DataInput!F386,DataInput!AB386)","v":0},{"$f":"SUM(DataInput!G386,DataInput!AC386)","v":0},{"$f":"SUM(DataInput!H386,DataInput!AD386)","v":0},{"$f":"DataInput!I386","v":7},{"$f":"SUM(DataInput!J386,DataInput!AF386)","v":0},{"$f":"SUM(DataInput!K386,DataInput!AG386)","v":0},{"$f":"SUM(DataInput!L386,DataInput!AH386)","v":0},{"$f":"SUM(DataInput!M386,DataInput!AI386)","v":0},{"$f":"SUM(DataInput!N386,DataInput!AJ386)","v":0},{"$f":"SUM(DataInput!O386,DataInput!AK386)","v":0},{"$f":"DataInput!P386","v":0},null,40,{"$f":"DataInput!R386","v":95},{"$f":"DataInput!Y386","v":0},{"$f":"IF(DataInput!U386-DataInput!E386>0,DataInput!U386-DataInput!E386,\"\")","v":26},{"$f":"IF(DataInput!W386-DataInput!I386>0,DataInput!W386-DataInput!I386,\"\")","v":""},null,121,157.30000000000001,-117.3,450,3350,{"$f":"ROUNDDOWN((IF(AA387>0,IFERROR(IF(AVERAGE(DataInput!Q386:Q387)>AVERAGE(AA387,AA386),ROUNDDOWN(((((AA386-Z386)+(AA387-Z387))/2)*(A387-A386))/27,0),IF(((((DataInput!Q387-Z387)+(DataInput!Q386-Z386))/2)*(A387-A386))/27+S386+T386>0,ROUNDDOWN(((((DataInput!Q387-Z387)+(DataInput!Q386-Z386))/2)*(A387-A386))/27+S386+T386,0),0)),0),0)*$X$5),1)","v":5.2},176,{"$f":"ROUNDDOWN((IF(AC387>0,IFERROR(IF(((((DataInput!Q386-AC386)+(DataInput!Q387-AC387))/2)*(A387-A386))/27+S386+T386>0,ROUNDDOWN(((((DataInput!Q386-AC386)+(DataInput!Q387-AC387))/2)*(A387-A386))/27+S386+T386,0),0),0),0)*$X$5),1)","v":97.5},{"$f":"DataInput!U386","v":36},{"$f":"DataInput!S386","v":12},16.8,19.2]
[{"$f":"IF(DataInput!A387<>\"\",DataInput!A387,\"\")","v":89307},{"$f":"SUM(DataInput!C387,DataInput!Y387)+(DataInput!U387-DataInput!E387)","v":190},{"$f":"SUM(DataInput!D387,DataInput!Z387)","v":99},{"$f":"DataInput!U387","v":91},{"$f":"SUM(DataInput!F387,DataInput!AB387)","v":0},{"$f":"SUM(DataInput!G387,DataInput!AC387)","v":0},{"$f":"SUM(DataInput!H387,DataInput!AD387)","v":0},{"$f":"DataInput!I387","v":19},{"$f":"SUM(DataInput!J387,DataInput!AF387)","v":0},{"$f":"SUM(DataInput!K387,DataInput!AG387)","v":0},{"$f":"SUM(DataInput!L387,DataInput!AH387)","v":0},{"$f":"SUM(DataInput!M387,DataInput!AI387)","v":0},{"$f":"SUM(DataInput!N387,DataInput!AJ387)","v":0},{"$f":"SUM(DataInput!O387,DataInput!AK387)","v":0},{"$f":"DataInput!P387","v":0},null,99,{"$f":"DataInput!R387","v":243},{"$f":"DataInput!Y387","v":0},{"$f":"IF(DataInput!U387-DataInput!E387>0,DataInput!U387-DataInput!E387,\"\")","v":65},{"$f":"IF(DataInput!W387-DataInput!I387>0,DataInput!W387-DataInput!I387,\"\")","v":""},null,308,400.4,-301.39999999999998,450,3350,{"$f":"ROUNDDOWN((IF(AA388>0,IFERROR(IF(AVERAGE(DataInput!Q387:Q388)>AVERAGE(AA388,AA387),ROUNDDOWN(((((AA387-Z387)+(AA388-Z388))/2)*(A388-A387))/27,0),IF(((((DataInput!Q388-Z388)+(DataInput!Q387-Z387))/2)*(A388-A387))/27+S387+T387>0,ROUNDDOWN(((((DataInput!Q388-Z388)+(DataInput!Q387-Z387))/2)*(A388-A387))/27+S387+T387,0),0)),0),0)*$X$5),1)","v":10.4},176,{"$f":"ROUNDDOWN((IF(AC388>0,IFERROR(IF(((((DataInput!Q387-AC387)+(DataInput!Q388-AC388))/2)*(A388-A387))/27+S387+T387>0,ROUNDDOWN(((((DataInput!Q387-AC387)+(DataInput!Q388-AC388))/2)*(A388-A387))/27+S387+T387,0),0),0),0)*$X$5),1)","v":248.3},{"$f":"DataInput!U387","v":91},{"$f":"DataInput!S387","v":32},44.8,46.2]
[{"$f":"IF(DataInput!A388<>\"\",DataInput!A388,\"\")","v":89325},{"$f":"SUM(DataInput!C388,DataInput!Y388)+(DataInput!U388-DataInput!E388)","v":254},{"$f":"SUM(DataInput!D388,DataInput!Z388)","v":127},{"$f":"DataInput!U388","v":126},{"$f":"SUM(DataInput!F388,DataInput!AB388)","v":0},{"$f":"SUM(DataInput!G388,DataInput!AC388)","v":0},{"$f":"SUM(DataInput!H388,DataInput!AD388)","v":0},{"$f":"DataInput!I388","v":27},{"$f":"SUM(DataInput!J388,DataInput!AF388)","v":0},{"$f":"SUM(DataInput!K388,DataInput!AG388)","v":0},{"$f":"SUM(DataInput!L388,DataInput!AH388)","v":0},{"$f":"SUM(DataInput!M388,DataInput!AI388)","v":0},{"$f":"SUM(DataInput!N388,DataInput!AJ388)","v":0},{"$f":"SUM(DataInput!O388,DataInput!AK388)","v":0},{"$f":"DataInput!P388","v":0},null,127,{"$f":"DataInput!R388","v":330},{"$f":"DataInput!Y388","v":0},{"$f":"IF(DataInput!U388-DataInput!E388>0,DataInput!U388-DataInput!E388,\"\")","v":91},{"$f":"IF(DataInput!W388-DataInput!I388>0,DataInput!W388-DataInput!I388,\"\")","v":""},null,421,547.29999999999995,-420.3,450,3350,{"$f":"ROUNDDOWN((IF(AA389>0,IFERROR(IF(AVERAGE(DataInput!Q388:Q389)>AVERAGE(AA389,AA388),ROUNDDOWN(((((AA388-Z388)+(AA389-Z389))/2)*(A389-A388))/27,0),IF(((((DataInput!Q389-Z389)+(DataInput!Q388-Z388))/2)*(A389-A388))/27+S388+T388>0,ROUNDDOWN(((((DataInput!Q389-Z389)+(DataInput!Q388-Z388))/2)*(A389-A388))/27+S388+T388,0),0)),0),0)*$X$5),1)","v":5.2},176,{"$f":"ROUNDDOWN((IF(AC389>0,IFERROR(IF(((((DataInput!Q388-AC388)+(DataInput!Q389-AC389))/2)*(A389-A388))/27+S388+T388>0,ROUNDDOWN(((((DataInput!Q388-AC388)+(DataInput!Q389-AC389))/2)*(A389-A388))/27+S388+T388,0),0),0),0)*$X$5),1)","v":335.4},{"$f":"DataInput!U388","v":126},{"$f":"DataInput!S388","v":43},60.2,65.8]
[{"$f":"IF(DataInput!A389<>\"\",DataInput!A389,\"\")","v":89350},{"$f":"SUM(DataInput!C389,DataInput!Y389)+(DataInput!U389-DataInput!E389)","v":244},{"$f":"SUM(DataInput!D389,DataInput!Z389)","v":120},{"$f":"DataInput!U389","v":123},{"$f":"SUM(DataInput!F389,DataInput!AB389)","v":0},{"$f":"SUM(DataInput!G389,DataInput!AC389)","v":0},{"$f":"SUM(DataInput!H389,DataInput!AD389)","v":0},{"$f":"DataInput!I389","v":27},{"$f":"SUM(DataInput!J389,DataInput!AF389)","v":0},{"$f":"SUM(DataInput!K389,DataInput!AG389)","v":0},{"$f":"SUM(DataInput!L389,DataInput!AH389)","v":0},{"$f":"SUM(DataInput!M389,DataInput!AI389)","v":0},{"$f":"SUM(DataInput!N389,DataInput!AJ389)","v":0},{"$f":"SUM(DataInput!O389,DataInput!AK389)","v":0},{"$f":"DataInput!P389","v":0},null,120,{"$f":"DataInput!R389","v":323},{"$f":"DataInput!Y389","v":0},{"$f":"IF(DataInput!U389-DataInput!E389>0,DataInput!U389-DataInput!E389,\"\")","v":89},{"$f":"IF(DataInput!W389-DataInput!I389>0,DataInput!W389-DataInput!I389,\"\")","v":""},null,412,535.6,-415.6,450,3350,{"$f":"ROUNDDOWN((IF(AA390>0,IFERROR(IF(AVERAGE(DataInput!Q389:Q390)>AVERAGE(AA390,AA389),ROUNDDOWN(((((AA389-Z389)+(AA390-Z390))/2)*(A390-A389))/27,0),IF(((((DataInput!Q390-Z390)+(DataInput!Q389-Z389))/2)*(A390-A389))/27+S389+T389>0,ROUNDDOWN(((((DataInput!Q390-Z390)+(DataInput!Q389-Z389))/2)*(A390-A389))/27+S389+T389,0),0)),0),0)*$X$5),1)","v":0},176,{"$f":"ROUNDDOWN((IF(AC390>0,IFERROR(IF(((((DataInput!Q389-AC389)+(DataInput!Q390-AC390))/2)*(A390-A389))/27+S389+T389>0,ROUNDDOWN(((((DataInput!Q389-AC389)+(DataInput!Q390-AC390))/2)*(A390-A389))/27+S389+T389,0),0),0),0)*$X$5),1)","v":323.7},{"$f":"DataInput!U389","v":123},{"$f":"DataInput!S389","v":41},57.4,65.599999999999994]
[{"$f":"IF(DataInput!A390<>\"\",DataInput!A390,\"\")","v":89375},{"$f":"SUM(DataInput!C390,DataInput!Y390)+(DataInput!U390-DataInput!E390)","v":232},{"$f":"SUM(DataInput!D390,DataInput!Z390)","v":115},{"$f":"DataInput!U390","v":116},{"$f":"SUM(DataInput!F390,DataInput!AB390)","v":0},{"$f":"SUM(DataInput!G390,DataInput!AC390)","v":0},{"$f":"SUM(DataInput!H390,DataInput!AD390)","v":0},{"$f":"DataInput!I390","v":27},{"$f":"SUM(DataInput!J390,DataInput!AF390)","v":0},{"$f":"SUM(DataInput!K390,DataInput!AG390)","v":0},{"$f":"SUM(DataInput!L390,DataInput!AH390)","v":0},{"$f":"SUM(DataInput!M390,DataInput!AI390)","v":0},{"$f":"SUM(DataInput!N390,DataInput!AJ390)","v":0},{"$f":"SUM(DataInput!O390,DataInput!AK390)","v":0},{"$f":"DataInput!P390","v":0},null,115,{"$f":"DataInput!R390","v":313},{"$f":"DataInput!Y390","v":0},{"$f":"IF(DataInput!U390-DataInput!E390>0,DataInput!U390-DataInput!E390,\"\")","v":82},{"$f":"IF(DataInput!W390-DataInput!I390>0,DataInput!W390-DataInput!I390,\"\")","v":""},null,395,513.5,-398.5,450,3350,{"$f":"ROUNDDOWN((IF(AA391>0,IFERROR(IF(AVERAGE(DataInput!Q390:Q391)>AVERAGE(AA391,AA390),ROUNDDOWN(((((AA390-Z390)+(AA391-Z391))/2)*(A391-A390))/27,0),IF(((((DataInput!Q391-Z391)+(DataInput!Q390-Z390))/2)*(A391-A390))/27+S390+T390>0,ROUNDDOWN(((((DataInput!Q391-Z391)+(DataInput!Q390-Z390))/2)*(A391-A390))/27+S390+T390,0),0)),0),0)*$X$5),1)","v":0},176,{"$f":"ROUNDDOWN((IF(AC391>0,IFERROR(IF(((((DataInput!Q390-AC390)+(DataInput!Q391-AC391))/2)*(A391-A390))/27+S390+T390>0,ROUNDDOWN(((((DataInput!Q390-AC390)+(DataInput!Q391-AC391))/2)*(A391-A390))/27+S390+T390,0),0),0),0)*$X$5),1)","v":301.60000000000002},{"$f":"DataInput!U390","v":116},{"$f":"DataInput!S390","v":37},51.8,64.2]
[{"$f":"IF(DataInput!A391<>\"\",DataInput!A391,\"\")","v":89400},{"$f":"SUM(DataInput!C391,DataInput!Y391)+(DataInput!U391-DataInput!E391)","v":224},{"$f":"SUM(DataInput!D391,DataInput!Z391)","v":111},{"$f":"DataInput!U391","v":114},{"$f":"SUM(DataInput!F391,DataInput!AB391)","v":0},{"$f":"SUM(DataInput!G391,DataInput!AC391)","v":0},{"$f":"SUM(DataInput!H391,DataInput!AD391)","v":0},{"$f":"DataInput!I391","v":27},{"$f":"SUM(DataInput!J391,DataInput!AF391)","v":0},{"$f":"SUM(DataInput!K391,DataInput!AG391)","v":0},{"$f":"SUM(DataInput!L391,DataInput!AH391)","v":0},{"$f":"SUM(DataInput!M391,DataInput!AI391)","v":0},{"$f":"SUM(DataInput!N391,DataInput!AJ391)","v":0},{"$f":"SUM(DataInput!O391,DataInput!AK391)","v":0},{"$f":"DataInput!P391","v":0},null,111,{"$f":"DataInput!R391","v":311},{"$f":"DataInput!Y391","v":0},{"$f":"IF(DataInput!U391-DataInput!E391>0,DataInput!U391-DataInput!E391,\"\")","v":80},{"$f":"IF(DataInput!W391-DataInput!I391>0,DataInput!W391-DataInput!I391,\"\")","v":""},null,391,508.3,-397.3,450,3350,{"$f":"ROUNDDOWN((IF(AA392>0,IFERROR(IF(AVERAGE(DataInput!Q391:Q392)>AVERAGE(AA392,AA391),ROUNDDOWN(((((AA391-Z391)+(AA392-Z392))/2)*(A392-A391))/27,0),IF(((((DataInput!Q392-Z392)+(DataInput!Q391-Z391))/2)*(A392-A391))/27+S391+T391>0,ROUNDDOWN(((((DataInput!Q392-Z392)+(DataInput!Q391-Z391))/2)*(A392-A391))/27+S391+T391,0),0)),0),0)*$X$5),1)","v":0},176,{"$f":"ROUNDDOWN((IF(AC392>0,IFERROR(IF(((((DataInput!Q391-AC391)+(DataInput!Q392-AC392))/2)*(A392-A391))/27+S391+T391>0,ROUNDDOWN(((((DataInput!Q391-AC391)+(DataInput!Q392-AC392))/2)*(A392-A391))/27+S391+T391,0),0),0),0)*$X$5),1)","v":296.39999999999998},{"$f":"DataInput!U391","v":114},{"$f":"DataInput!S391","v":35},49,65]
[{"$f":"IF(DataInput!A392<>\"\",DataInput!A392,\"\")","v":89425},{"$f":"SUM(DataInput!C392,DataInput!Y392)+(DataInput!U392-DataInput!E392)","v":322},{"$f":"SUM(DataInput!D392,DataInput!Z392)","v":204},{"$f":"DataInput!U392","v":118},{"$f":"SUM(DataInput!F392,DataInput!AB392)","v":0},{"$f":"SUM(DataInput!G392,DataInput!AC392)","v":0},{"$f":"SUM(DataInput!H392,DataInput!AD392)","v":0},{"$f":"DataInput!I392","v":27},{"$f":"SUM(DataInput!J392,DataInput!AF392)","v":0},{"$f":"SUM(DataInput!K392,DataInput!AG392)","v":0},{"$f":"SUM(DataInput!L392,DataInput!AH392)","v":0},{"$f":"SUM(DataInput!M392,DataInput!AI392)","v":0},{"$f":"SUM(DataInput!N392,DataInput!AJ392)","v":0},{"$f":"SUM(DataInput!O392,DataInput!AK392)","v":0},{"$f":"DataInput!P392","v":0},null,204,{"$f":"DataInput!R392","v":315},{"$f":"DataInput!Y392","v":95},{"$f":"IF(DataInput!U392-DataInput!E392>0,DataInput!U392-DataInput!E392,\"\")","v":85},{"$f":"IF(DataInput!W392-DataInput!I392>0,DataInput!W392-DataInput!I392,\"\")","v":""},null,495,643.5,-439.5,450,3350,{"$f":"ROUNDDOWN((IF(AA393>0,IFERROR(IF(AVERAGE(DataInput!Q392:Q393)>AVERAGE(AA393,AA392),ROUNDDOWN(((((AA392-Z392)+(AA393-Z393))/2)*(A393-A392))/27,0),IF(((((DataInput!Q393-Z393)+(DataInput!Q392-Z392))/2)*(A393-A392))/27+S392+T392>0,ROUNDDOWN(((((DataInput!Q393-Z393)+(DataInput!Q392-Z392))/2)*(A393-A392))/27+S392+T392,0),0)),0),0)*$X$5),1)","v":101.4},176,{"$f":"ROUNDDOWN((IF(AC393>0,IFERROR(IF(((((DataInput!Q392-AC392)+(DataInput!Q393-AC393))/2)*(A393-A392))/27+S392+T392>0,ROUNDDOWN(((((DataInput!Q392-AC392)+(DataInput!Q393-AC393))/2)*(A393-A392))/27+S392+T392,0),0),0),0)*$X$5),1)","v":430.3},{"$f":"DataInput!U392","v":118},{"$f":"DataInput!S392","v":38},53.2,64.8]
[{"$f":"IF(DataInput!A393<>\"\",DataInput!A393,\"\")","v":89450},{"$f":"SUM(DataInput!C393,DataInput!Y393)+(DataInput!U393-DataInput!E393)","v":322},{"$f":"SUM(DataInput!D393,DataInput!Z393)","v":206},{"$f":"DataInput!U393","v":117},{"$f":"SUM(DataInput!F393,DataInput!AB393)","v":0},{"$f":"SUM(DataInput!G393,DataInput!AC393)","v":0},{"$f":"SUM(DataInput!H393,DataInput!AD393)","v":0},{"$f":"DataInput!I393","v":27},{"$f":"SUM(DataInput!J393,DataInput!AF393)","v":0},{"$f":"SUM(DataInput!K393,DataInput!AG393)","v":0},{"$f":"SUM(DataInput!L393,DataInput!AH393)","v":0},{"$f":"SUM(DataInput!M393,DataInput!AI393)","v":0},{"$f":"SUM(DataInput!N393,DataInput!AJ393)","v":0},{"$f":"SUM(DataInput!O393,DataInput!AK393)","v":0},{"$f":"DataInput!P393","v":0},null,206,{"$f":"DataInput!R393","v":309},{"$f":"DataInput!Y393","v":95},{"$f":"IF(DataInput!U393-DataInput!E393>0,DataInput!U393-DataInput!E393,\"\")","v":84},{"$f":"IF(DataInput!W393-DataInput!I393>0,DataInput!W393-DataInput!I393,\"\")","v":""},null,488,634.4,-428.4,450,3350,{"$f":"ROUNDDOWN((IF(AA394>0,IFERROR(IF(AVERAGE(DataInput!Q393:Q394)>AVERAGE(AA394,AA393),ROUNDDOWN(((((AA393-Z393)+(AA394-Z394))/2)*(A394-A393))/27,0),IF(((((DataInput!Q394-Z394)+(DataInput!Q393-Z393))/2)*(A394-A393))/27+S393+T393>0,ROUNDDOWN(((((DataInput!Q394-Z394)+(DataInput!Q393-Z393))/2)*(A394-A393))/27+S393+T393,0),0)),0),0)*$X$5),1)","v":92.3},176,{"$f":"ROUNDDOWN((IF(AC394>0,IFERROR(IF(((((DataInput!Q393-AC393)+(DataInput!Q394-AC394))/2)*(A394-A393))/27+S393+T393>0,ROUNDDOWN(((((DataInput!Q393-AC393)+(DataInput!Q394-AC394))/2)*(A394-A393))/27+S393+T393,0),0),0),0)*$X$5),1)","v":422.5},{"$f":"DataInput!U393","v":117},{"$f":"DataInput!S393","v":38},53.2,63.8]
[{"$f":"IF(DataInput!A394<>\"\",DataInput!A394,\"\")","v":89475},{"$f":"SUM(DataInput!C394,DataInput!Y394)+(DataInput!U394-DataInput!E394)","v":323},{"$f":"SUM(DataInput!D394,DataInput!Z394)","v":207},{"$f":"DataInput!U394","v":116},{"$f":"SUM(DataInput!F394,DataInput!AB394)","v":0},{"$f":"SUM(DataInput!G394,DataInput!AC394)","v":0},{"$f":"SUM(DataInput!H394,DataInput!AD394)","v":0},{"$f":"DataInput!I394","v":27},{"$f":"SUM(DataInput!J394,DataInput!AF394)","v":0},{"$f":"SUM(DataInput!K394,DataInput!AG394)","v":0},{"$f":"SUM(DataInput!L394,DataInput!AH394)","v":0},{"$f":"SUM(DataInput!M394,DataInput!AI394)","v":0},{"$f":"SUM(DataInput!N394,DataInput!AJ394)","v":0},{"$f":"SUM(DataInput!O394,DataInput!AK394)","v":0},{"$f":"DataInput!P394","v":0},null,207,{"$f":"DataInput!R394","v":301},{"$f":"DataInput!Y394","v":95},{"$f":"IF(DataInput!U394-DataInput!E394>0,DataInput!U394-DataInput!E394,\"\")","v":84},{"$f":"IF(DataInput!W394-DataInput!I394>0,DataInput!W394-DataInput!I394,\"\")","v":""},null,480,624,-417,450,3350,{"$f":"ROUNDDOWN((IF(AA395>0,IFERROR(IF(AVERAGE(DataInput!Q394:Q395)>AVERAGE(AA395,AA394),ROUNDDOWN(((((AA394-Z394)+(AA395-Z395))/2)*(A395-A394))/27,0),IF(((((DataInput!Q395-Z395)+(DataInput!Q394-Z394))/2)*(A395-A394))/27+S394+T394>0,ROUNDDOWN(((((DataInput!Q395-Z395)+(DataInput!Q394-Z394))/2)*(A395-A394))/27+S394+T394,0),0)),0),0)*$X$5),1)","v":81.900000000000006},176,{"$f":"ROUNDDOWN((IF(AC395>0,IFERROR(IF(((((DataInput!Q394-AC394)+(DataInput!Q395-AC395))/2)*(A395-A394))/27+S394+T394>0,ROUNDDOWN(((((DataInput!Q394-AC394)+(DataInput!Q395-AC395))/2)*(A395-A394))/27+S394+T394,0),0),0),0)*$X$5),1)","v":412.1},{"$f":"DataInput!U394","v":116},{"$f":"DataInput!S394","v":37},51.8,64.2]
[{"$f":"IF(DataInput!A395<>\"\",DataInput!A395,\"\")","v":89500},{"$f":"SUM(DataInput!C395,DataInput!Y395)+(DataInput!U395-DataInput!E395)","v":323},{"$f":"SUM(DataInput!D395,DataInput!Z395)","v":207},{"$f":"DataInput!U395","v":116},{"$f":"SUM(DataInput!F395,DataInput!AB395)","v":0},{"$f":"SUM(DataInput!G395,DataInput!AC395)","v":0},{"$f":"SUM(DataInput!H395,DataInput!AD395)","v":0},{"$f":"DataInput!I395","v":27},{"$f":"SUM(DataInput!J395,DataInput!AF395)","v":0},{"$f":"SUM(DataInput!K395,DataInput!AG395)","v":0},{"$f":"SUM(DataInput!L395,DataInput!AH395)","v":0},{"$f":"SUM(DataInput!M395,DataInput!AI395)","v":0},{"$f":"SUM(DataInput!N395,DataInput!AJ395)","v":0},{"$f":"SUM(DataInput!O395,DataInput!AK395)","v":0},{"$f":"DataInput!P395","v":0},null,207,{"$f":"DataInput!R395","v":303},{"$f":"DataInput!Y395","v":95},{"$f":"IF(DataInput!U395-DataInput!E395>0,DataInput!U395-DataInput!E395,\"\")","v":85},{"$f":"IF(DataInput!W395-DataInput!I395>0,DataInput!W395-DataInput!I395,\"\")","v":""},null,483,627.9,-420.9,450,3350,{"$f":"ROUNDDOWN((IF(AA396>0,IFERROR(IF(AVERAGE(DataInput!Q395:Q396)>AVERAGE(AA396,AA395),ROUNDDOWN(((((AA395-Z395)+(AA396-Z396))/2)*(A396-A395))/27,0),IF(((((DataInput!Q396-Z396)+(DataInput!Q395-Z395))/2)*(A396-A395))/27+S395+T395>0,ROUNDDOWN(((((DataInput!Q396-Z396)+(DataInput!Q395-Z395))/2)*(A396-A395))/27+S395+T395,0),0)),0),0)*$X$5),1)","v":85.8},176,{"$f":"ROUNDDOWN((IF(AC396>0,IFERROR(IF(((((DataInput!Q395-AC395)+(DataInput!Q396-AC396))/2)*(A396-A395))/27+S395+T395>0,ROUNDDOWN(((((DataInput!Q395-AC395)+(DataInput!Q396-AC396))/2)*(A396-A395))/27+S395+T395,0),0),0),0)*$X$5),1)","v":414.7},{"$f":"DataInput!U395","v":116},{"$f":"DataInput!S395","v":38},53.2,62.8]
[{"$f":"IF(DataInput!A396<>\"\",DataInput!A396,\"\")","v":89525},{"$f":"SUM(DataInput!C396,DataInput!Y396)+(DataInput!U396-DataInput!E396)","v":291},{"$f":"SUM(DataInput!D396,DataInput!Z396)","v":196},{"$f":"DataInput!U396","v":95},{"$f":"SUM(DataInput!F396,DataInput!AB396)","v":0},{"$f":"SUM(DataInput!G396,DataInput!AC396)","v":0},{"$f":"SUM(DataInput!H396,DataInput!AD396)","v":0},{"$f":"DataInput!I396","v":24},{"$f":"SUM(DataInput!J396,DataInput!AF396)","v":0},{"$f":"SUM(DataInput!K396,DataInput!AG396)","v":0},{"$f":"SUM(DataInput!L396,DataInput!AH396)","v":0},{"$f":"SUM(DataInput!M396,DataInput!AI396)","v":0},{"$f":"SUM(DataInput!N396,DataInput!AJ396)","v":0},{"$f":"SUM(DataInput!O396,DataInput!AK396)","v":0},{"$f":"DataInput!P396","v":0},null,196,{"$f":"DataInput!R396","v":294},{"$f":"DataInput!Y396","v":107},{"$f":"IF(DataInput!U396-DataInput!E396>0,DataInput!U396-DataInput!E396,\"\")","v":77},{"$f":"IF(DataInput!W396-DataInput!I396>0,DataInput!W396-DataInput!I396,\"\")","v":3},null,481,625.29999999999995,-429.3,450,3350,{"$f":"ROUNDDOWN((IF(AA397>0,IFERROR(IF(AVERAGE(DataInput!Q396:Q397)>AVERAGE(AA397,AA396),ROUNDDOWN(((((AA396-Z396)+(AA397-Z397))/2)*(A397-A396))/27,0),IF(((((DataInput!Q397-Z397)+(DataInput!Q396-Z396))/2)*(A397-A396))/27+S396+T396>0,ROUNDDOWN(((((DataInput!Q397-Z397)+(DataInput!Q396-Z396))/2)*(A397-A396))/27+S396+T396,0),0)),0),0)*$X$5),1)","v":79.3},176,{"$f":"ROUNDDOWN((IF(AC397>0,IFERROR(IF(((((DataInput!Q396-AC396)+(DataInput!Q397-AC397))/2)*(A397-A396))/27+S396+T396>0,ROUNDDOWN(((((DataInput!Q396-AC396)+(DataInput!Q397-AC397))/2)*(A397-A396))/27+S396+T396,0),0),0),0)*$X$5),1)","v":409.5},{"$f":"DataInput!U396","v":95},{"$f":"DataInput!S396","v":24},33.6,61.4]
[{"$f":"IF(DataInput!A397<>\"\",DataInput!A397,\"\")","v":89550},{"$f":"SUM(DataInput!C397,DataInput!Y397)+(DataInput!U397-DataInput!E397)","v":259},{"$f":"SUM(DataInput!D397,DataInput!Z397)","v":185},{"$f":"DataInput!U397","v":74},{"$f":"SUM(DataInput!F397,DataInput!AB397)","v":0},{"$f":"SUM(DataInput!G397,DataInput!AC397)","v":0},{"$f":"SUM(DataInput!H397,DataInput!AD397)","v":0},{"$f":"DataInput!I397","v":22},{"$f":"SUM(DataInput!J397,DataInput!AF397)","v":0},{"$f":"SUM(DataInput!K397,DataInput!AG397)","v":0},{"$f":"SUM(DataInput!L397,DataInput!AH397)","v":0},{"$f":"SUM(DataInput!M397,DataInput!AI397)","v":0},{"$f":"SUM(DataInput!N397,DataInput!AJ397)","v":0},{"$f":"SUM(DataInput!O397,DataInput!AK397)","v":0},{"$f":"DataInput!P397","v":0},null,185,{"$f":"DataInput!R397","v":278},{"$f":"DataInput!Y397","v":118},{"$f":"IF(DataInput!U397-DataInput!E397>0,DataInput!U397-DataInput!E397,\"\")","v":68},{"$f":"IF(DataInput!W397-DataInput!I397>0,DataInput!W397-DataInput!I397,\"\")","v":5},null,469,609.70000000000005,-424.7,450,3350,{"$f":"ROUNDDOWN((IF(AA398>0,IFERROR(IF(AVERAGE(DataInput!Q397:Q398)>AVERAGE(AA398,AA397),ROUNDDOWN(((((AA397-Z397)+(AA398-Z398))/2)*(A398-A397))/27,0),IF(((((DataInput!Q398-Z398)+(DataInput!Q397-Z397))/2)*(A398-A397))/27+S397+T397>0,ROUNDDOWN(((((DataInput!Q398-Z398)+(DataInput!Q397-Z397))/2)*(A398-A397))/27+S397+T397,0),0)),0),0)*$X$5),1)","v":61.1},176,{"$f":"ROUNDDOWN((IF(AC398>0,IFERROR(IF(((((DataInput!Q397-AC397)+(DataInput!Q398-AC398))/2)*(A398-A397))/27+S397+T397>0,ROUNDDOWN(((((DataInput!Q397-AC397)+(DataInput!Q398-AC398))/2)*(A398-A397))/27+S397+T397,0),0),0),0)*$X$5),1)","v":391.3},{"$f":"DataInput!U397","v":74},{"$f":"DataInput!S397","v":10},14,60]
[{"$f":"IF(DataInput!A398<>\"\",DataInput!A398,\"\")","v":89575},{"$f":"SUM(DataInput!C398,DataInput!Y398)+(DataInput!U398-DataInput!E398)","v":326},{"$f":"SUM(DataInput!D398,DataInput!Z398)","v":237},{"$f":"DataInput!U398","v":88},{"$f":"SUM(DataInput!F398,DataInput!AB398)","v":0},{"$f":"SUM(DataInput!G398,DataInput!AC398)","v":0},{"$f":"SUM(DataInput!H398,DataInput!AD398)","v":0},{"$f":"DataInput!I398","v":35},{"$f":"SUM(DataInput!J398,DataInput!AF398)","v":0},{"$f":"SUM(DataInput!K398,DataInput!AG398)","v":0},{"$f":"SUM(DataInput!L398,DataInput!AH398)","v":0},{"$f":"SUM(DataInput!M398,DataInput!AI398)","v":0},{"$f":"SUM(DataInput!N398,DataInput!AJ398)","v":0},{"$f":"SUM(DataInput!O398,DataInput!AK398)","v":0},{"$f":"DataInput!P398","v":0},null,237,{"$f":"DataInput!R398","v":269},{"$f":"DataInput!Y398","v":118},{"$f":"IF(DataInput!U398-DataInput!E398>0,DataInput!U398-DataInput!E398,\"\")","v":72},{"$f":"IF(DataInput!W398-DataInput!I398>0,DataInput!W398-DataInput!I398,\"\")","v":5},null,464,603.20000000000005,-366.2,450,3350,{"$f":"ROUNDDOWN((IF(AA399>0,IFERROR(IF(AVERAGE(DataInput!Q398:Q399)>AVERAGE(AA399,AA398),ROUNDDOWN(((((AA398-Z398)+(AA399-Z399))/2)*(A399-A398))/27,0),IF(((((DataInput!Q399-Z399)+(DataInput!Q398-Z398))/2)*(A399-A398))/27+S398+T398>0,ROUNDDOWN(((((DataInput!Q399-Z399)+(DataInput!Q398-Z398))/2)*(A399-A398))/27+S398+T398,0),0)),0),0)*$X$5),1)","v":54.6},176,{"$f":"ROUNDDOWN((IF(AC399>0,IFERROR(IF(((((DataInput!Q398-AC398)+(DataInput!Q399-AC399))/2)*(A399-A398))/27+S398+T398>0,ROUNDDOWN(((((DataInput!Q398-AC398)+(DataInput!Q399-AC399))/2)*(A399-A398))/27+S398+T398,0),0),0),0)*$X$5),1)","v":384.8},{"$f":"DataInput!U398","v":88},{"$f":"DataInput!S398","v":29},40.6,47.4]
[{"$f":"IF(DataInput!A399<>\"\",DataInput!A399,\"\")","v":89600},{"$f":"SUM(DataInput!C399,DataInput!Y399)+(DataInput!U399-DataInput!E399)","v":393},{"$f":"SUM(DataInput!D399,DataInput!Z399)","v":296},{"$f":"DataInput!U399","v":98},{"$f":"SUM(DataInput!F399,DataInput!AB399)","v":0},{"$f":"SUM(DataInput!G399,DataInput!AC399)","v":0},{"$f":"SUM(DataInput!H399,DataInput!AD399)","v":0},{"$f":"DataInput!I399","v":51},{"$f":"SUM(DataInput!J399,DataInput!AF399)","v":0},{"$f":"SUM(DataInput!K399,DataInput!AG399)","v":0},{"$f":"SUM(DataInput!L399,DataInput!AH399)","v":0},{"$f":"SUM(DataInput!M399,DataInput!AI399)","v":0},{"$f":"SUM(DataInput!N399,DataInput!AJ399)","v":0},{"$f":"SUM(DataInput!O399,DataInput!AK399)","v":0},{"$f":"DataInput!P399","v":0},null,296,{"$f":"DataInput!R399","v":218},{"$f":"DataInput!Y399","v":118},{"$f":"IF(DataInput!U399-DataInput!E399>0,DataInput!U399-DataInput!E399,\"\")","v":71},{"$f":"IF(DataInput!W399-DataInput!I399>0,DataInput!W399-DataInput!I399,\"\")","v":5},null,412,535.6,-239.6,450,3350,{"$f":"ROUNDDOWN((IF(AA400>0,IFERROR(IF(AVERAGE(DataInput!Q399:Q400)>AVERAGE(AA400,AA399),ROUNDDOWN(((((AA399-Z399)+(AA400-Z400))/2)*(A400-A399))/27,0),IF(((((DataInput!Q400-Z400)+(DataInput!Q399-Z399))/2)*(A400-A399))/27+S399+T399>0,ROUNDDOWN(((((DataInput!Q400-Z400)+(DataInput!Q399-Z399))/2)*(A400-A399))/27+S399+T399,0),0)),0),0)*$X$5),1)","v":0},176,{"$f":"ROUNDDOWN((IF(AC400>0,IFERROR(IF(((((DataInput!Q399-AC399)+(DataInput!Q400-AC400))/2)*(A400-A399))/27+S399+T399>0,ROUNDDOWN(((((DataInput!Q399-AC399)+(DataInput!Q400-AC400))/2)*(A400-A399))/27+S399+T399,0),0),0),0)*$X$5),1)","v":317.2},{"$f":"DataInput!U399","v":98},{"$f":"DataInput!S399","v":47},65.8,32.200000000000003]
[{"$f":"IF(DataInput!A400<>\"\",DataInput!A400,\"\")","v":89625},{"$f":"SUM(DataInput!C400,DataInput!Y400)+(DataInput!U400-DataInput!E400)","v":386},{"$f":"SUM(DataInput!D400,DataInput!Z400)","v":305},{"$f":"DataInput!U400","v":82},{"$f":"SUM(DataInput!F400,DataInput!AB400)","v":0},{"$f":"SUM(DataInput!G400,DataInput!AC400)","v":0},{"$f":"SUM(DataInput!H400,DataInput!AD400)","v":0},{"$f":"DataInput!I400","v":60},{"$f":"SUM(DataInput!J400,DataInput!AF400)","v":0},{"$f":"SUM(DataInput!K400,DataInput!AG400)","v":0},{"$f":"SUM(DataInput!L400,DataInput!AH400)","v":0},{"$f":"SUM(DataInput!M400,DataInput!AI400)","v":0},{"$f":"SUM(DataInput!N400,DataInput!AJ400)","v":0},{"$f":"SUM(DataInput!O400,DataInput!AK400)","v":0},{"$f":"DataInput!P400","v":0},null,305,{"$f":"DataInput!R400","v":113},{"$f":"DataInput!Y400","v":118},{"$f":"IF(DataInput!U400-DataInput!E400>0,DataInput!U400-DataInput!E400,\"\")","v":56},{"$f":"IF(DataInput!W400-DataInput!I400>0,DataInput!W400-DataInput!I400,\"\")","v":5},null,292,379.6,-74.599999999999994,450,3350,{"$f":"ROUNDDOWN((IF(AA401>0,IFERROR(IF(AVERAGE(DataInput!Q400:Q401)>AVERAGE(AA401,AA400),ROUNDDOWN(((((AA400-Z400)+(AA401-Z401))/2)*(A401-A400))/27,0),IF(((((DataInput!Q401-Z401)+(DataInput!Q400-Z400))/2)*(A401-A400))/27+S400+T400>0,ROUNDDOWN(((((DataInput!Q401-Z401)+(DataInput!Q400-Z400))/2)*(A401-A400))/27+S400+T400,0),0)),0),0)*$X$5),1)","v":0},176,{"$f":"ROUNDDOWN((IF(AC401>0,IFERROR(IF(((((DataInput!Q400-AC400)+(DataInput!Q401-AC401))/2)*(A401-A400))/27+S400+T400>0,ROUNDDOWN(((((DataInput!Q400-AC400)+(DataInput!Q401-AC401))/2)*(A401-A400))/27+S400+T400,0),0),0),0)*$X$5),1)","v":161.19999999999999},{"$f":"DataInput!U400","v":82},{"$f":"DataInput!S400","v":46},64.400000000000006,17.600000000000001]
[{"$f":"IF(DataInput!A401<>\"\",DataInput!A401,\"\")","v":89650},{"$f":"SUM(DataInput!C401,DataInput!Y401)+(DataInput!U401-DataInput!E401)","v":239},{"$f":"SUM(DataInput!D401,DataInput!Z401)","v":173},{"$f":"DataInput!U401","v":65},{"$f":"SUM(DataInput!F401,DataInput!AB401)","v":0},{"$f":"SUM(DataInput!G401,DataInput!AC401)","v":0},{"$f":"SUM(DataInput!H401,DataInput!AD401)","v":0},{"$f":"DataInput!I401","v":85},{"$f":"SUM(DataInput!J401,DataInput!AF401)","v":0},{"$f":"SUM(DataInput!K401,DataInput!AG401)","v":0},{"$f":"SUM(DataInput!L401,DataInput!AH401)","v":0},{"$f":"SUM(DataInput!M401,DataInput!AI401)","v":0},{"$f":"SUM(DataInput!N401,DataInput!AJ401)","v":0},{"$f":"SUM(DataInput!O401,DataInput!AK401)","v":0},{"$f":"DataInput!P401","v":0},null,173,{"$f":"DataInput!R401","v":99},{"$f":"DataInput!Y401","v":0},{"$f":"IF(DataInput!U401-DataInput!E401>0,DataInput!U401-DataInput!E401,\"\")","v":48},{"$f":"IF(DataInput!W401-DataInput!I401>0,DataInput!W401-DataInput!I401,\"\")","v":5},null,152,197.6,-24.6,450,3350,{"$f":"ROUNDDOWN((IF(AA402>0,IFERROR(IF(AVERAGE(DataInput!Q401:Q402)>AVERAGE(AA402,AA401),ROUNDDOWN(((((AA401-Z401)+(AA402-Z402))/2)*(A402-A401))/27,0),IF(((((DataInput!Q402-Z402)+(DataInput!Q401-Z401))/2)*(A402-A401))/27+S401+T401>0,ROUNDDOWN(((((DataInput!Q402-Z402)+(DataInput!Q401-Z401))/2)*(A402-A401))/27+S401+T401,0),0)),0),0)*$X$5),1)","v":0},176,{"$f":"ROUNDDOWN((IF(AC402>0,IFERROR(IF(((((DataInput!Q401-AC401)+(DataInput!Q402-AC402))/2)*(A402-A401))/27+S401+T401>0,ROUNDDOWN(((((DataInput!Q401-AC401)+(DataInput!Q402-AC402))/2)*(A402-A401))/27+S401+T401,0),0),0),0)*$X$5),1)","v":0},{"$f":"DataInput!U401","v":65},{"$f":"DataInput!S401","v":45},63,2]
[{"$f":"IF(DataInput!A402<>\"\",DataInput!A402,\"\")","v":89675},{"$f":"SUM(DataInput!C402,DataInput!Y402)+(DataInput!U402-DataInput!E402)","v":206},{"$f":"SUM(DataInput!D402,DataInput!Z402)","v":135},{"$f":"DataInput!U402","v":70},{"$f":"SUM(DataInput!F402,DataInput!AB402)","v":0},{"$f":"SUM(DataInput!G402,DataInput!AC402)","v":0},{"$f":"SUM(DataInput!H402,DataInput!AD402)","v":0},{"$f":"DataInput!I402","v":89},{"$f":"SUM(DataInput!J402,DataInput!AF402)","v":0},{"$f":"SUM(DataInput!K402,DataInput!AG402)","v":0},{"$f":"SUM(DataInput!L402,DataInput!AH402)","v":0},{"$f":"SUM(DataInput!M402,DataInput!AI402)","v":0},{"$f":"SUM(DataInput!N402,DataInput!AJ402)","v":0},{"$f":"SUM(DataInput!O402,DataInput!AK402)","v":0},{"$f":"DataInput!P402","v":0},null,135,{"$f":"DataInput!R402","v":217},{"$f":"DataInput!Y402","v":0},{"$f":"IF(DataInput!U402-DataInput!E402>0,DataInput!U402-DataInput!E402,\"\")","v":60},{"$f":"IF(DataInput!W402-DataInput!I402>0,DataInput!W402-DataInput!I402,\"\")","v":2},null,279,362.7,-227.7,450,3350,{"$f":"ROUNDDOWN((IF(AA403>0,IFERROR(IF(AVERAGE(DataInput!Q402:Q403)>AVERAGE(AA403,AA402),ROUNDDOWN(((((AA402-Z402)+(AA403-Z403))/2)*(A403-A402))/27,0),IF(((((DataInput!Q403-Z403)+(DataInput!Q402-Z402))/2)*(A403-A402))/27+S402+T402>0,ROUNDDOWN(((((DataInput!Q403-Z403)+(DataInput!Q402-Z402))/2)*(A403-A402))/27+S402+T402,0),0)),0),0)*$X$5),1)","v":0},176,{"$f":"ROUNDDOWN((IF(AC403>0,IFERROR(IF(((((DataInput!Q402-AC402)+(DataInput!Q403-AC403))/2)*(A403-A402))/27+S402+T402>0,ROUNDDOWN(((((DataInput!Q402-AC402)+(DataInput!Q403-AC403))/2)*(A403-A402))/27+S402+T402,0),0),0),0)*$X$5),1)","v":146.9},{"$f":"DataInput!U402","v":70},{"$f":"DataInput!S402","v":43},60.2,9.8000000000000007]
[{"$f":"IF(DataInput!A403<>\"\",DataInput!A403,\"\")","v":89700},{"$f":"SUM(DataInput!C403,DataInput!Y403)+(DataInput!U403-DataInput!E403)","v":180},{"$f":"SUM(DataInput!D403,DataInput!Z403)","v":92},{"$f":"DataInput!U403","v":88},{"$f":"SUM(DataInput!F403,DataInput!AB403)","v":0},{"$f":"SUM(DataInput!G403,DataInput!AC403)","v":0},{"$f":"SUM(DataInput!H403,DataInput!AD403)","v":0},{"$f":"DataInput!I403","v":61},{"$f":"SUM(DataInput!J403,DataInput!AF403)","v":0},{"$f":"SUM(DataInput!K403,DataInput!AG403)","v":0},{"$f":"SUM(DataInput!L403,DataInput!AH403)","v":0},{"$f":"SUM(DataInput!M403,DataInput!AI403)","v":0},{"$f":"SUM(DataInput!N403,DataInput!AJ403)","v":0},{"$f":"SUM(DataInput!O403,DataInput!AK403)","v":0},{"$f":"DataInput!P403","v":0},null,92,{"$f":"DataInput!R403","v":326},{"$f":"DataInput!Y403","v":0},{"$f":"IF(DataInput!U403-DataInput!E403>0,DataInput!U403-DataInput!E403,\"\")","v":80},{"$f":"IF(DataInput!W403-DataInput!I403>0,DataInput!W403-DataInput!I403,\"\")","v":""},220,626,813.8,-721.8,450,3350,{"$f":"ROUNDDOWN((IF(AA404>0,IFERROR(IF(AVERAGE(DataInput!Q403:Q404)>AVERAGE(AA404,AA403),ROUNDDOWN(((((AA403-Z403)+(AA404-Z404))/2)*(A404-A403))/27,0),IF(((((DataInput!Q404-Z404)+(DataInput!Q403-Z403))/2)*(A404-A403))/27+S403+T403>0,ROUNDDOWN(((((DataInput!Q404-Z404)+(DataInput!Q403-Z403))/2)*(A404-A403))/27+S403+T403,0),0)),0),0)*$X$5),1)","v":0},176,{"$f":"ROUNDDOWN((IF(AC404>0,IFERROR(IF(((((DataInput!Q403-AC403)+(DataInput!Q404-AC404))/2)*(A404-A403))/27+S403+T403>0,ROUNDDOWN(((((DataInput!Q403-AC403)+(DataInput!Q404-AC404))/2)*(A404-A403))/27+S403+T403,0),0),0),0)*$X$5),1)","v":315.89999999999998},{"$f":"DataInput!U403","v":88},{"$f":"DataInput!S403","v":39},54.6,33.4]
[{"$f":"IF(DataInput!A404<>\"\",DataInput!A404,\"\")","v":89725},{"$f":"SUM(DataInput!C404,DataInput!Y404)+(DataInput!U404-DataInput!E404)","v":154},{"$f":"SUM(DataInput!D404,DataInput!Z404)","v":63},{"$f":"DataInput!U404","v":92},{"$f":"SUM(DataInput!F404,DataInput!AB404)","v":0},{"$f":"SUM(DataInput!G404,DataInput!AC404)","v":0},{"$f":"SUM(DataInput!H404,DataInput!AD404)","v":0},{"$f":"DataInput!I404","v":40},{"$f":"SUM(DataInput!J404,DataInput!AF404)","v":0},{"$f":"SUM(DataInput!K404,DataInput!AG404)","v":0},{"$f":"SUM(DataInput!L404,DataInput!AH404)","v":0},{"$f":"SUM(DataInput!M404,DataInput!AI404)","v":0},{"$f":"SUM(DataInput!N404,DataInput!AJ404)","v":0},{"$f":"SUM(DataInput!O404,DataInput!AK404)","v":0},{"$f":"DataInput!P404","v":0},null,63,{"$f":"DataInput!R404","v":362},{"$f":"DataInput!Y404","v":0},{"$f":"IF(DataInput!U404-DataInput!E404>0,DataInput!U404-DataInput!E404,\"\")","v":87},{"$f":"IF(DataInput!W404-DataInput!I404>0,DataInput!W404-DataInput!I404,\"\")","v":""},null,449,583.70000000000005,-520.70000000000005,450,3350,{"$f":"ROUNDDOWN((IF(AA405>0,IFERROR(IF(AVERAGE(DataInput!Q404:Q405)>AVERAGE(AA405,AA404),ROUNDDOWN(((((AA404-Z404)+(AA405-Z405))/2)*(A405-A404))/27,0),IF(((((DataInput!Q405-Z405)+(DataInput!Q404-Z404))/2)*(A405-A404))/27+S404+T404>0,ROUNDDOWN(((((DataInput!Q405-Z405)+(DataInput!Q404-Z404))/2)*(A405-A404))/27+S404+T404,0),0)),0),0)*$X$5),1)","v":41.6},176,{"$f":"ROUNDDOWN((IF(AC405>0,IFERROR(IF(((((DataInput!Q404-AC404)+(DataInput!Q405-AC405))/2)*(A405-A404))/27+S404+T404>0,ROUNDDOWN(((((DataInput!Q404-AC404)+(DataInput!Q405-AC405))/2)*(A405-A404))/27+S404+T404,0),0),0),0)*$X$5),1)","v":371.8},{"$f":"DataInput!U404","v":92},{"$f":"DataInput!S404","v":30},42,50]
[{"$f":"IF(DataInput!A405<>\"\",DataInput!A405,\"\")","v":89750},{"$f":"SUM(DataInput!C405,DataInput!Y405)+(DataInput!U405-DataInput!E405)","v":236},{"$f":"SUM(DataInput!D405,DataInput!Z405)","v":142},{"$f":"DataInput!U405","v":95},{"$f":"SUM(DataInput!F405,DataInput!AB405)","v":0},{"$f":"SUM(DataInput!G405,DataInput!AC405)","v":0},{"$f":"SUM(DataInput!H405,DataInput!AD405)","v":0},{"$f":"DataInput!I405","v":28},{"$f":"SUM(DataInput!J405,DataInput!AF405)","v":0},{"$f":"SUM(DataInput!K405,DataInput!AG405)","v":0},{"$f":"SUM(DataInput!L405,DataInput!AH405)","v":0},{"$f":"SUM(DataInput!M405,DataInput!AI405)","v":0},{"$f":"SUM(DataInput!N405,DataInput!AJ405)","v":0},{"$f":"SUM(DataInput!O405,DataInput!AK405)","v":0},{"$f":"DataInput!P405","v":0},null,142,{"$f":"DataInput!R405","v":388},{"$f":"DataInput!Y405","v":84},{"$f":"IF(DataInput!U405-DataInput!E405>0,DataInput!U405-DataInput!E405,\"\")","v":91},{"$f":"IF(DataInput!W405-DataInput!I405>0,DataInput!W405-DataInput!I405,\"\")","v":""},null,563,731.9,-589.9,450,3350,{"$f":"ROUNDDOWN((IF(AA406>0,IFERROR(IF(AVERAGE(DataInput!Q405:Q406)>AVERAGE(AA406,AA405),ROUNDDOWN(((((AA405-Z405)+(AA406-Z406))/2)*(A406-A405))/27,0),IF(((((DataInput!Q406-Z406)+(DataInput!Q405-Z405))/2)*(A406-A405))/27+S405+T405>0,ROUNDDOWN(((((DataInput!Q406-Z406)+(DataInput!Q405-Z405))/2)*(A406-A405))/27+S405+T405,0),0)),0),0)*$X$5),1)","v":189.8},176,{"$f":"ROUNDDOWN((IF(AC406>0,IFERROR(IF(((((DataInput!Q405-AC405)+(DataInput!Q406-AC406))/2)*(A406-A405))/27+S405+T405>0,ROUNDDOWN(((((DataInput!Q405-AC405)+(DataInput!Q406-AC406))/2)*(A406-A405))/27+S405+T405,0),0),0),0)*$X$5),1)","v":520},{"$f":"DataInput!U405","v":95},{"$f":"DataInput!S405","v":28},39.200000000000003,55.8]
[{"$f":"IF(DataInput!A406<>\"\",DataInput!A406,\"\")","v":89775},{"$f":"SUM(DataInput!C406,DataInput!Y406)+(DataInput!U406-DataInput!E406)","v":245},{"$f":"SUM(DataInput!D406,DataInput!Z406)","v":140},{"$f":"DataInput!U406","v":105},{"$f":"SUM(DataInput!F406,DataInput!AB406)","v":0},{"$f":"SUM(DataInput!G406,DataInput!AC406)","v":0},{"$f":"SUM(DataInput!H406,DataInput!AD406)","v":0},{"$f":"DataInput!I406","v":24},{"$f":"SUM(DataInput!J406,DataInput!AF406)","v":0},{"$f":"SUM(DataInput!K406,DataInput!AG406)","v":0},{"$f":"SUM(DataInput!L406,DataInput!AH406)","v":0},{"$f":"SUM(DataInput!M406,DataInput!AI406)","v":0},{"$f":"SUM(DataInput!N406,DataInput!AJ406)","v":0},{"$f":"SUM(DataInput!O406,DataInput!AK406)","v":0},{"$f":"DataInput!P406","v":0},null,140,{"$f":"DataInput!R406","v":440},{"$f":"DataInput!Y406","v":84},{"$f":"IF(DataInput!U406-DataInput!E406>0,DataInput!U406-DataInput!E406,\"\")","v":101},{"$f":"IF(DataInput!W406-DataInput!I406>0,DataInput!W406-DataInput!I406,\"\")","v":46},null,671,872.3,-732.3,450,3350,{"$f":"ROUNDDOWN((IF(AA407>0,IFERROR(IF(AVERAGE(DataInput!Q406:Q407)>AVERAGE(AA407,AA406),ROUNDDOWN(((((AA406-Z406)+(AA407-Z407))/2)*(A407-A406))/27,0),IF(((((DataInput!Q407-Z407)+(DataInput!Q406-Z406))/2)*(A407-A406))/27+S406+T406>0,ROUNDDOWN(((((DataInput!Q407-Z407)+(DataInput!Q406-Z406))/2)*(A407-A406))/27+S406+T406,0),0)),0),0)*$X$5),1)","v":270.39999999999998},176,{"$f":"ROUNDDOWN((IF(AC407>0,IFERROR(IF(((((DataInput!Q406-AC406)+(DataInput!Q407-AC407))/2)*(A407-A406))/27+S406+T406>0,ROUNDDOWN(((((DataInput!Q406-AC406)+(DataInput!Q407-AC407))/2)*(A407-A406))/27+S406+T406,0),0),0),0)*$X$5),1)","v":599.29999999999995},{"$f":"DataInput!U406","v":105},{"$f":"DataInput!S406","v":33},46.2,58.8]
[{"$f":"IF(DataInput!A407<>\"\",DataInput!A407,\"\")","v":89800},{"$f":"SUM(DataInput!C407,DataInput!Y407)+(DataInput!U407-DataInput!E407)","v":244},{"$f":"SUM(DataInput!D407,DataInput!Z407)","v":135},{"$f":"DataInput!U407","v":109},{"$f":"SUM(DataInput!F407,DataInput!AB407)","v":0},{"$f":"SUM(DataInput!G407,DataInput!AC407)","v":0},{"$f":"SUM(DataInput!H407,DataInput!AD407)","v":0},{"$f":"DataInput!I407","v":24},{"$f":"SUM(DataInput!J407,DataInput!AF407)","v":0},{"$f":"SUM(DataInput!K407,DataInput!AG407)","v":0},{"$f":"SUM(DataInput!L407,DataInput!AH407)","v":0},{"$f":"SUM(DataInput!M407,DataInput!AI407)","v":0},{"$f":"SUM(DataInput!N407,DataInput!AJ407)","v":0},{"$f":"SUM(DataInput!O407,DataInput!AK407)","v":0},{"$f":"DataInput!P407","v":0},null,135,{"$f":"DataInput!R407","v":463},{"$f":"DataInput!Y407","v":84},{"$f":"IF(DataInput!U407-DataInput!E407>0,DataInput!U407-DataInput!E407,\"\")","v":105},{"$f":"IF(DataInput!W407-DataInput!I407>0,DataInput!W407-DataInput!I407,\"\")","v":92},null,744,967.2,-832.2,450,3350,{"$f":"ROUNDDOWN((IF(AA408>0,IFERROR(IF(AVERAGE(DataInput!Q407:Q408)>AVERAGE(AA408,AA407),ROUNDDOWN(((((AA407-Z407)+(AA408-Z408))/2)*(A408-A407))/27,0),IF(((((DataInput!Q408-Z408)+(DataInput!Q407-Z407))/2)*(A408-A407))/27+S407+T407>0,ROUNDDOWN(((((DataInput!Q408-Z408)+(DataInput!Q407-Z407))/2)*(A408-A407))/27+S407+T407,0),0)),0),0)*$X$5),1)","v":305.5},176,{"$f":"ROUNDDOWN((IF(AC408>0,IFERROR(IF(((((DataInput!Q407-AC407)+(DataInput!Q408-AC408))/2)*(A408-A407))/27+S407+T407>0,ROUNDDOWN(((((DataInput!Q407-AC407)+(DataInput!Q408-AC408))/2)*(A408-A407))/27+S407+T407,0),0),0),0)*$X$5),1)","v":635.70000000000005},{"$f":"DataInput!U407","v":109},{"$f":"DataInput!S407","v":35},49,60]
[{"$f":"IF(DataInput!A408<>\"\",DataInput!A408,\"\")","v":89825},{"$f":"SUM(DataInput!C408,DataInput!Y408)+(DataInput!U408-DataInput!E408)","v":314},{"$f":"SUM(DataInput!D408,DataInput!Z408)","v":144},{"$f":"DataInput!U408","v":170},{"$f":"SUM(DataInput!F408,DataInput!AB408)","v":0},{"$f":"SUM(DataInput!G408,DataInput!AC408)","v":0},{"$f":"SUM(DataInput!H408,DataInput!AD408)","v":0},{"$f":"DataInput!I408","v":29},{"$f":"SUM(DataInput!J408,DataInput!AF408)","v":0},{"$f":"SUM(DataInput!K408,DataInput!AG408)","v":0},{"$f":"SUM(DataInput!L408,DataInput!AH408)","v":0},{"$f":"SUM(DataInput!M408,DataInput!AI408)","v":0},{"$f":"SUM(DataInput!N408,DataInput!AJ408)","v":0},{"$f":"SUM(DataInput!O408,DataInput!AK408)","v":0},{"$f":"DataInput!P408","v":0},null,144,{"$f":"DataInput!R408","v":553},{"$f":"DataInput!Y408","v":89},{"$f":"IF(DataInput!U408-DataInput!E408>0,DataInput!U408-DataInput!E408,\"\")","v":164},{"$f":"IF(DataInput!W408-DataInput!I408>0,DataInput!W408-DataInput!I408,\"\")","v":92},null,898,1167.4000000000001,-1023.4,450,3350,{"$f":"ROUNDDOWN((IF(AA409>0,IFERROR(IF(AVERAGE(DataInput!Q408:Q409)>AVERAGE(AA409,AA408),ROUNDDOWN(((((AA408-Z408)+(AA409-Z409))/2)*(A409-A408))/27,0),IF(((((DataInput!Q409-Z409)+(DataInput!Q408-Z408))/2)*(A409-A408))/27+S408+T408>0,ROUNDDOWN(((((DataInput!Q409-Z409)+(DataInput!Q408-Z408))/2)*(A409-A408))/27+S408+T408,0),0)),0),0)*$X$5),1)","v":505.7},176,{"$f":"ROUNDDOWN((IF(AC409>0,IFERROR(IF(((((DataInput!Q408-AC408)+(DataInput!Q409-AC409))/2)*(A409-A408))/27+S408+T408>0,ROUNDDOWN(((((DataInput!Q408-AC408)+(DataInput!Q409-AC409))/2)*(A409-A408))/27+S408+T408,0),0),0),0)*$X$5),1)","v":834.6},{"$f":"DataInput!U408","v":170},{"$f":"DataInput!S408","v":75},105,65]
[{"$f":"IF(DataInput!A409<>\"\",DataInput!A409,\"\")","v":89850},{"$f":"SUM(DataInput!C409,DataInput!Y409)+(DataInput!U409-DataInput!E409)","v":388},{"$f":"SUM(DataInput!D409,DataInput!Z409)","v":157},{"$f":"DataInput!U409","v":232},{"$f":"SUM(DataInput!F409,DataInput!AB409)","v":0},{"$f":"SUM(DataInput!G409,DataInput!AC409)","v":0},{"$f":"SUM(DataInput!H409,DataInput!AD409)","v":0},{"$f":"DataInput!I409","v":34},{"$f":"SUM(DataInput!J409,DataInput!AF409)","v":0},{"$f":"SUM(DataInput!K409,DataInput!AG409)","v":0},{"$f":"SUM(DataInput!L409,DataInput!AH409)","v":0},{"$f":"SUM(DataInput!M409,DataInput!AI409)","v":0},{"$f":"SUM(DataInput!N409,DataInput!AJ409)","v":0},{"$f":"SUM(DataInput!O409,DataInput!AK409)","v":0},{"$f":"DataInput!P409","v":0},null,157,{"$f":"DataInput!R409","v":840},{"$f":"DataInput!Y409","v":95},{"$f":"IF(DataInput!U409-DataInput!E409>0,DataInput!U409-DataInput!E409,\"\")","v":223},{"$f":"IF(DataInput!W409-DataInput!I409>0,DataInput!W409-DataInput!I409,\"\")","v":92},null,1250,1625,-1468,450,3350,{"$f":"ROUNDDOWN((IF(AA410>0,IFERROR(IF(AVERAGE(DataInput!Q409:Q410)>AVERAGE(AA410,AA409),ROUNDDOWN(((((AA409-Z409)+(AA410-Z410))/2)*(A410-A409))/27,0),IF(((((DataInput!Q410-Z410)+(DataInput!Q409-Z409))/2)*(A410-A409))/27+S409+T409>0,ROUNDDOWN(((((DataInput!Q410-Z410)+(DataInput!Q409-Z409))/2)*(A410-A409))/27+S409+T409,0),0)),0),0)*$X$5),1)","v":963.3},176,{"$f":"ROUNDDOWN((IF(AC410>0,IFERROR(IF(((((DataInput!Q409-AC409)+(DataInput!Q410-AC410))/2)*(A410-A409))/27+S409+T409>0,ROUNDDOWN(((((DataInput!Q409-AC409)+(DataInput!Q410-AC410))/2)*(A410-A409))/27+S409+T409,0),0),0),0)*$X$5),1)","v":1293.5},{"$f":"DataInput!U409","v":232},{"$f":"DataInput!S409","v":115},161,71]
[{"$f":"IF(DataInput!A410<>\"\",DataInput!A410,\"\")","v":89875},{"$f":"SUM(DataInput!C410,DataInput!Y410)+(DataInput!U410-DataInput!E410)","v":387},{"$f":"SUM(DataInput!D410,DataInput!Z410)","v":156},{"$f":"DataInput!U410","v":230},{"$f":"SUM(DataInput!F410,DataInput!AB410)","v":0},{"$f":"SUM(DataInput!G410,DataInput!AC410)","v":0},{"$f":"SUM(DataInput!H410,DataInput!AD410)","v":0},{"$f":"DataInput!I410","v":33},{"$f":"SUM(DataInput!J410,DataInput!AF410)","v":0},{"$f":"SUM(DataInput!K410,DataInput!AG410)","v":0},{"$f":"SUM(DataInput!L410,DataInput!AH410)","v":0},{"$f":"SUM(DataInput!M410,DataInput!AI410)","v":0},{"$f":"SUM(DataInput!N410,DataInput!AJ410)","v":0},{"$f":"SUM(DataInput!O410,DataInput!AK410)","v":0},{"$f":"DataInput!P410","v":0},null,156,{"$f":"DataInput!R410","v":1056},{"$f":"DataInput!Y410","v":95},{"$f":"IF(DataInput!U410-DataInput!E410>0,DataInput!U410-DataInput!E410,\"\")","v":220},{"$f":"IF(DataInput!W410-DataInput!I410>0,DataInput!W410-DataInput!I410,\"\")","v":91},null,1462,1900.6,-1744.6,450,3350,{"$f":"ROUNDDOWN((IF(AA411>0,IFERROR(IF(AVERAGE(DataInput!Q410:Q411)>AVERAGE(AA411,AA410),ROUNDDOWN(((((AA410-Z410)+(AA411-Z411))/2)*(A411-A410))/27,0),IF(((((DataInput!Q411-Z411)+(DataInput!Q410-Z410))/2)*(A411-A410))/27+S410+T410>0,ROUNDDOWN(((((DataInput!Q411-Z411)+(DataInput!Q410-Z410))/2)*(A411-A410))/27+S410+T410,0),0)),0),0)*$X$5),1)","v":1238.9000000000001},176,{"$f":"ROUNDDOWN((IF(AC411>0,IFERROR(IF(((((DataInput!Q410-AC410)+(DataInput!Q411-AC411))/2)*(A411-A410))/27+S410+T410>0,ROUNDDOWN(((((DataInput!Q410-AC410)+(DataInput!Q411-AC411))/2)*(A411-A410))/27+S410+T410,0),0),0),0)*$X$5),1)","v":1569.1},{"$f":"DataInput!U410","v":230},{"$f":"DataInput!S410","v":114},159.6,70.400000000000006]
[{"$f":"IF(DataInput!A411<>\"\",DataInput!A411,\"\")","v":89900},{"$f":"SUM(DataInput!C411,DataInput!Y411)+(DataInput!U411-DataInput!E411)","v":382},{"$f":"SUM(DataInput!D411,DataInput!Z411)","v":156},{"$f":"DataInput!U411","v":226},{"$f":"SUM(DataInput!F411,DataInput!AB411)","v":0},{"$f":"SUM(DataInput!G411,DataInput!AC411)","v":0},{"$f":"SUM(DataInput!H411,DataInput!AD411)","v":0},{"$f":"DataInput!I411","v":31},{"$f":"SUM(DataInput!J411,DataInput!AF411)","v":0},{"$f":"SUM(DataInput!K411,DataInput!AG411)","v":0},{"$f":"SUM(DataInput!L411,DataInput!AH411)","v":0},{"$f":"SUM(DataInput!M411,DataInput!AI411)","v":0},{"$f":"SUM(DataInput!N411,DataInput!AJ411)","v":0},{"$f":"SUM(DataInput!O411,DataInput!AK411)","v":0},{"$f":"DataInput!P411","v":0},null,156,{"$f":"DataInput!R411","v":1072},{"$f":"DataInput!Y411","v":95},{"$f":"IF(DataInput!U411-DataInput!E411>0,DataInput!U411-DataInput!E411,\"\")","v":216},{"$f":"IF(DataInput!W411-DataInput!I411>0,DataInput!W411-DataInput!I411,\"\")","v":79},null,1462,1900.6,-1744.6,450,3350,{"$f":"ROUNDDOWN((IF(AA412>0,IFERROR(IF(AVERAGE(DataInput!Q411:Q412)>AVERAGE(AA412,AA411),ROUNDDOWN(((((AA411-Z411)+(AA412-Z412))/2)*(A412-A411))/27,0),IF(((((DataInput!Q412-Z412)+(DataInput!Q411-Z411))/2)*(A412-A411))/27+S411+T411>0,ROUNDDOWN(((((DataInput!Q412-Z412)+(DataInput!Q411-Z411))/2)*(A412-A411))/27+S411+T411,0),0)),0),0)*$X$5),1)","v":1255.8},176,{"$f":"ROUNDDOWN((IF(AC412>0,IFERROR(IF(((((DataInput!Q411-AC411)+(DataInput!Q412-AC412))/2)*(A412-A411))/27+S411+T411>0,ROUNDDOWN(((((DataInput!Q411-AC411)+(DataInput!Q412-AC412))/2)*(A412-A411))/27+S411+T411,0),0),0),0)*$X$5),1)","v":1584.7},{"$f":"DataInput!U411","v":226},{"$f":"DataInput!S411","v":111},155.4,70.599999999999994]
[{"$f":"IF(DataInput!A412<>\"\",DataInput!A412,\"\")","v":89925},{"$f":"SUM(DataInput!C412,DataInput!Y412)+(DataInput!U412-DataInput!E412)","v":373},{"$f":"SUM(DataInput!D412,DataInput!Z412)","v":153},{"$f":"DataInput!U412","v":220},{"$f":"SUM(DataInput!F412,DataInput!AB412)","v":0},{"$f":"SUM(DataInput!G412,DataInput!AC412)","v":0},{"$f":"SUM(DataInput!H412,DataInput!AD412)","v":0},{"$f":"DataInput!I412","v":31},{"$f":"SUM(DataInput!J412,DataInput!AF412)","v":0},{"$f":"SUM(DataInput!K412,DataInput!AG412)","v":0},{"$f":"SUM(DataInput!L412,DataInput!AH412)","v":0},{"$f":"SUM(DataInput!M412,DataInput!AI412)","v":0},{"$f":"SUM(DataInput!N412,DataInput!AJ412)","v":0},{"$f":"SUM(DataInput!O412,DataInput!AK412)","v":0},{"$f":"DataInput!P412","v":0},null,153,{"$f":"DataInput!R412","v":1045},{"$f":"DataInput!Y412","v":95},{"$f":"IF(DataInput!U412-DataInput!E412>0,DataInput!U412-DataInput!E412,\"\")","v":213},{"$f":"IF(DataInput!W412-DataInput!I412>0,DataInput!W412-DataInput!I412,\"\")","v":36},null,1389,1805.7,-1652.7,450,3350,{"$f":"ROUNDDOWN((IF(AA413>0,IFERROR(IF(AVERAGE(DataInput!Q412:Q413)>AVERAGE(AA413,AA412),ROUNDDOWN(((((AA412-Z412)+(AA413-Z413))/2)*(A413-A412))/27,0),IF(((((DataInput!Q413-Z413)+(DataInput!Q412-Z412))/2)*(A413-A412))/27+S412+T412>0,ROUNDDOWN(((((DataInput!Q413-Z413)+(DataInput!Q412-Z412))/2)*(A413-A412))/27+S412+T412,0),0)),0),0)*$X$5),1)","v":1216.8},176,{"$f":"ROUNDDOWN((IF(AC413>0,IFERROR(IF(((((DataInput!Q412-AC412)+(DataInput!Q413-AC413))/2)*(A413-A412))/27+S412+T412>0,ROUNDDOWN(((((DataInput!Q412-AC412)+(DataInput!Q413-AC413))/2)*(A413-A412))/27+S412+T412,0),0),0),0)*$X$5),1)","v":1547},{"$f":"DataInput!U412","v":220},{"$f":"DataInput!S412","v":108},151.19999999999999,68.8]
[{"$f":"IF(DataInput!A413<>\"\",DataInput!A413,\"\")","v":89950},{"$f":"SUM(DataInput!C413,DataInput!Y413)+(DataInput!U413-DataInput!E413)","v":361},{"$f":"SUM(DataInput!D413,DataInput!Z413)","v":148},{"$f":"DataInput!U413","v":213},{"$f":"SUM(DataInput!F413,DataInput!AB413)","v":0},{"$f":"SUM(DataInput!G413,DataInput!AC413)","v":0},{"$f":"SUM(DataInput!H413,DataInput!AD413)","v":0},{"$f":"DataInput!I413","v":32},{"$f":"SUM(DataInput!J413,DataInput!AF413)","v":0},{"$f":"SUM(DataInput!K413,DataInput!AG413)","v":0},{"$f":"SUM(DataInput!L413,DataInput!AH413)","v":0},{"$f":"SUM(DataInput!M413,DataInput!AI413)","v":0},{"$f":"SUM(DataInput!N413,DataInput!AJ413)","v":0},{"$f":"SUM(DataInput!O413,DataInput!AK413)","v":0},{"$f":"DataInput!P413","v":0},null,148,{"$f":"DataInput!R413","v":984},{"$f":"DataInput!Y413","v":95},{"$f":"IF(DataInput!U413-DataInput!E413>0,DataInput!U413-DataInput!E413,\"\")","v":208},{"$f":"IF(DataInput!W413-DataInput!I413>0,DataInput!W413-DataInput!I413,\"\")","v":2},null,1289,1675.7,-1527.7,450,3350,{"$f":"ROUNDDOWN((IF(AA414>0,IFERROR(IF(AVERAGE(DataInput!Q413:Q414)>AVERAGE(AA414,AA413),ROUNDDOWN(((((AA413-Z413)+(AA414-Z414))/2)*(A414-A413))/27,0),IF(((((DataInput!Q414-Z414)+(DataInput!Q413-Z413))/2)*(A414-A413))/27+S413+T413>0,ROUNDDOWN(((((DataInput!Q414-Z414)+(DataInput!Q413-Z413))/2)*(A414-A413))/27+S413+T413,0),0)),0),0)*$X$5),1)","v":1131},176,{"$f":"ROUNDDOWN((IF(AC414>0,IFERROR(IF(((((DataInput!Q413-AC413)+(DataInput!Q414-AC414))/2)*(A414-A413))/27+S413+T413>0,ROUNDDOWN(((((DataInput!Q413-AC413)+(DataInput!Q414-AC414))/2)*(A414-A413))/27+S413+T413,0),0),0),0)*$X$5),1)","v":1459.9},{"$f":"DataInput!U413","v":213},{"$f":"DataInput!S413","v":104},145.6,67.400000000000006]
[{"$f":"IF(DataInput!A414<>\"\",DataInput!A414,\"\")","v":89975},{"$f":"SUM(DataInput!C414,DataInput!Y414)+(DataInput!U414-DataInput!E414)","v":349},{"$f":"SUM(DataInput!D414,DataInput!Z414)","v":143},{"$f":"DataInput!U414","v":206},{"$f":"SUM(DataInput!F414,DataInput!AB414)","v":0},{"$f":"SUM(DataInput!G414,DataInput!AC414)","v":0},{"$f":"SUM(DataInput!H414,DataInput!AD414)","v":0},{"$f":"DataInput!I414","v":33},{"$f":"SUM(DataInput!J414,DataInput!AF414)","v":0},{"$f":"SUM(DataInput!K414,DataInput!AG414)","v":0},{"$f":"SUM(DataInput!L414,DataInput!AH414)","v":0},{"$f":"SUM(DataInput!M414,DataInput!AI414)","v":0},{"$f":"SUM(DataInput!N414,DataInput!AJ414)","v":0},{"$f":"SUM(DataInput!O414,DataInput!AK414)","v":0},{"$f":"DataInput!P414","v":0},null,143,{"$f":"DataInput!R414","v":920},{"$f":"DataInput!Y414","v":96},{"$f":"IF(DataInput!U414-DataInput!E414>0,DataInput!U414-DataInput!E414,\"\")","v":202},{"$f":"IF(DataInput!W414-DataInput!I414>0,DataInput!W414-DataInput!I414,\"\")","v":""},null,1218,1583.4,-1440.4,450,3350,{"$f":"ROUNDDOWN((IF(AA415>0,IFERROR(IF(AVERAGE(DataInput!Q414:Q415)>AVERAGE(AA415,AA414),ROUNDDOWN(((((AA414-Z414)+(AA415-Z415))/2)*(A415-A414))/27,0),IF(((((DataInput!Q415-Z415)+(DataInput!Q414-Z414))/2)*(A415-A414))/27+S414+T414>0,ROUNDDOWN(((((DataInput!Q415-Z415)+(DataInput!Q414-Z414))/2)*(A415-A414))/27+S414+T414,0),0)),0),0)*$X$5),1)","v":1041.3},176,{"$f":"ROUNDDOWN((IF(AC415>0,IFERROR(IF(((((DataInput!Q414-AC414)+(DataInput!Q415-AC415))/2)*(A415-A414))/27+S414+T414>0,ROUNDDOWN(((((DataInput!Q414-AC414)+(DataInput!Q415-AC415))/2)*(A415-A414))/27+S414+T414,0),0),0),0)*$X$5),1)","v":1370.2},{"$f":"DataInput!U414","v":206},{"$f":"DataInput!S414","v":101},141.4,64.599999999999994]
[{"$f":"IF(DataInput!A415<>\"\",DataInput!A415,\"\")","v":90000},{"$f":"SUM(DataInput!C415,DataInput!Y415)+(DataInput!U415-DataInput!E415)","v":334},{"$f":"SUM(DataInput!D415,DataInput!Z415)","v":136},{"$f":"DataInput!U415","v":198},{"$f":"SUM(DataInput!F415,DataInput!AB415)","v":0},{"$f":"SUM(DataInput!G415,DataInput!AC415)","v":0},{"$f":"SUM(DataInput!H415,DataInput!AD415)","v":0},{"$f":"DataInput!I415","v":35},{"$f":"SUM(DataInput!J415,DataInput!AF415)","v":0},{"$f":"SUM(DataInput!K415,DataInput!AG415)","v":0},{"$f":"SUM(DataInput!L415,DataInput!AH415)","v":0},{"$f":"SUM(DataInput!M415,DataInput!AI415)","v":0},{"$f":"SUM(DataInput!N415,DataInput!AJ415)","v":0},{"$f":"SUM(DataInput!O415,DataInput!AK415)","v":0},{"$f":"DataInput!P415","v":0},null,136,{"$f":"DataInput!R415","v":859},{"$f":"DataInput!Y415","v":97},{"$f":"IF(DataInput!U415-DataInput!E415>0,DataInput!U415-DataInput!E415,\"\")","v":196},{"$f":"IF(DataInput!W415-DataInput!I415>0,DataInput!W415-DataInput!I415,\"\")","v":""},null,1152,1497.6,-1361.6,450,3350,{"$f":"ROUNDDOWN((IF(AA416>0,IFERROR(IF(AVERAGE(DataInput!Q415:Q416)>AVERAGE(AA416,AA415),ROUNDDOWN(((((AA415-Z415)+(AA416-Z416))/2)*(A416-A415))/27,0),IF(((((DataInput!Q416-Z416)+(DataInput!Q415-Z415))/2)*(A416-A415))/27+S415+T415>0,ROUNDDOWN(((((DataInput!Q416-Z416)+(DataInput!Q415-Z415))/2)*(A416-A415))/27+S415+T415,0),0)),0),0)*$X$5),1)","v":955.5},176,{"$f":"ROUNDDOWN((IF(AC416>0,IFERROR(IF(((((DataInput!Q415-AC415)+(DataInput!Q416-AC416))/2)*(A416-A415))/27+S415+T415>0,ROUNDDOWN(((((DataInput!Q415-AC415)+(DataInput!Q416-AC416))/2)*(A416-A415))/27+S415+T415,0),0),0),0)*$X$5),1)","v":1284.4000000000001},{"$f":"DataInput!U415","v":198},{"$f":"DataInput!S415","v":96},134.4,63.6]
[{"$f":"IF(DataInput!A416<>\"\",DataInput!A416,\"\")","v":90025},{"$f":"SUM(DataInput!C416,DataInput!Y416)+(DataInput!U416-DataInput!E416)","v":315},{"$f":"SUM(DataInput!D416,DataInput!Z416)","v":126},{"$f":"DataInput!U416","v":189},{"$f":"SUM(DataInput!F416,DataInput!AB416)","v":0},{"$f":"SUM(DataInput!G416,DataInput!AC416)","v":0},{"$f":"SUM(DataInput!H416,DataInput!AD416)","v":0},{"$f":"DataInput!I416","v":35},{"$f":"SUM(DataInput!J416,DataInput!AF416)","v":0},{"$f":"SUM(DataInput!K416,DataInput!AG416)","v":0},{"$f":"SUM(DataInput!L416,DataInput!AH416)","v":0},{"$f":"SUM(DataInput!M416,DataInput!AI416)","v":0},{"$f":"SUM(DataInput!N416,DataInput!AJ416)","v":0},{"$f":"SUM(DataInput!O416,DataInput!AK416)","v":0},{"$f":"DataInput!P416","v":0},null,126,{"$f":"DataInput!R416","v":781},{"$f":"DataInput!Y416","v":96},{"$f":"IF(DataInput!U416-DataInput!E416>0,DataInput!U416-DataInput!E416,\"\")","v":186},{"$f":"IF(DataInput!W416-DataInput!I416>0,DataInput!W416-DataInput!I416,\"\")","v":2},null,1065,1384.5,-1258.5,450,3350,{"$f":"ROUNDDOWN((IF(AA417>0,IFERROR(IF(AVERAGE(DataInput!Q416:Q417)>AVERAGE(AA417,AA416),ROUNDDOWN(((((AA416-Z416)+(AA417-Z417))/2)*(A417-A416))/27,0),IF(((((DataInput!Q417-Z417)+(DataInput!Q416-Z416))/2)*(A417-A416))/27+S416+T416>0,ROUNDDOWN(((((DataInput!Q417-Z417)+(DataInput!Q416-Z416))/2)*(A417-A416))/27+S416+T416,0),0)),0),0)*$X$5),1)","v":839.8},176,{"$f":"ROUNDDOWN((IF(AC417>0,IFERROR(IF(((((DataInput!Q416-AC416)+(DataInput!Q417-AC417))/2)*(A417-A416))/27+S416+T416>0,ROUNDDOWN(((((DataInput!Q416-AC416)+(DataInput!Q417-AC417))/2)*(A417-A416))/27+S416+T416,0),0),0),0)*$X$5),1)","v":1170},{"$f":"DataInput!U416","v":189},{"$f":"DataInput!S416","v":91},127.4,61.6]
[{"$f":"IF(DataInput!A417<>\"\",DataInput!A417,\"\")","v":90050},{"$f":"SUM(DataInput!C417,DataInput!Y417)+(DataInput!U417-DataInput!E417)","v":296},{"$f":"SUM(DataInput!D417,DataInput!Z417)","v":115},{"$f":"DataInput!U417","v":180},{"$f":"SUM(DataInput!F417,DataInput!AB417)","v":0},{"$f":"SUM(DataInput!G417,DataInput!AC417)","v":0},{"$f":"SUM(DataInput!H417,DataInput!AD417)","v":0},{"$f":"DataInput!I417","v":35},{"$f":"SUM(DataInput!J417,DataInput!AF417)","v":0},{"$f":"SUM(DataInput!K417,DataInput!AG417)","v":0},{"$f":"SUM(DataInput!L417,DataInput!AH417)","v":0},{"$f":"SUM(DataInput!M417,DataInput!AI417)","v":0},{"$f":"SUM(DataInput!N417,DataInput!AJ417)","v":0},{"$f":"SUM(DataInput!O417,DataInput!AK417)","v":0},{"$f":"DataInput!P417","v":0},null,115,{"$f":"DataInput!R417","v":701},{"$f":"DataInput!Y417","v":94},{"$f":"IF(DataInput!U417-DataInput!E417>0,DataInput!U417-DataInput!E417,\"\")","v":175},{"$f":"IF(DataInput!W417-DataInput!I417>0,DataInput!W417-DataInput!I417,\"\")","v":4},null,974,1266.2,-1151.2,450,3350,{"$f":"ROUNDDOWN((IF(AA418>0,IFERROR(IF(AVERAGE(DataInput!Q417:Q418)>AVERAGE(AA418,AA417),ROUNDDOWN(((((AA417-Z417)+(AA418-Z418))/2)*(A418-A417))/27,0),IF(((((DataInput!Q418-Z418)+(DataInput!Q417-Z417))/2)*(A418-A417))/27+S417+T417>0,ROUNDDOWN(((((DataInput!Q418-Z418)+(DataInput!Q417-Z417))/2)*(A418-A417))/27+S417+T417,0),0)),0),0)*$X$5),1)","v":720.2},176,{"$f":"ROUNDDOWN((IF(AC418>0,IFERROR(IF(((((DataInput!Q417-AC417)+(DataInput!Q418-AC418))/2)*(A418-A417))/27+S417+T417>0,ROUNDDOWN(((((DataInput!Q417-AC417)+(DataInput!Q418-AC418))/2)*(A418-A417))/27+S417+T417,0),0),0),0)*$X$5),1)","v":1049.0999999999999},{"$f":"DataInput!U417","v":180},{"$f":"DataInput!S417","v":87},121.8,58.2]
[{"$f":"IF(DataInput!A418<>\"\",DataInput!A418,\"\")","v":90075},{"$f":"SUM(DataInput!C418,DataInput!Y418)+(DataInput!U418-DataInput!E418)","v":279},{"$f":"SUM(DataInput!D418,DataInput!Z418)","v":107},{"$f":"DataInput!U418","v":172},{"$f":"SUM(DataInput!F418,DataInput!AB418)","v":0},{"$f":"SUM(DataInput!G418,DataInput!AC418)","v":0},{"$f":"SUM(DataInput!H418,DataInput!AD418)","v":0},{"$f":"DataInput!I418","v":34},{"$f":"SUM(DataInput!J418,DataInput!AF418)","v":0},{"$f":"SUM(DataInput!K418,DataInput!AG418)","v":0},{"$f":"SUM(DataInput!L418,DataInput!AH418)","v":0},{"$f":"SUM(DataInput!M418,DataInput!AI418)","v":0},{"$f":"SUM(DataInput!N418,DataInput!AJ418)","v":0},{"$f":"SUM(DataInput!O418,DataInput!AK418)","v":0},{"$f":"DataInput!P418","v":0},null,107,{"$f":"DataInput!R418","v":645},{"$f":"DataInput!Y418","v":92},{"$f":"IF(DataInput!U418-DataInput!E418>0,DataInput!U418-DataInput!E418,\"\")","v":165},{"$f":"IF(DataInput!W418-DataInput!I418>0,DataInput!W418-DataInput!I418,\"\")","v":7},null,909,1181.7,-1074.7,450,3350,{"$f":"ROUNDDOWN((IF(AA419>0,IFERROR(IF(AVERAGE(DataInput!Q418:Q419)>AVERAGE(AA419,AA418),ROUNDDOWN(((((AA418-Z418)+(AA419-Z419))/2)*(A419-A418))/27,0),IF(((((DataInput!Q419-Z419)+(DataInput!Q418-Z418))/2)*(A419-A418))/27+S418+T418>0,ROUNDDOWN(((((DataInput!Q419-Z419)+(DataInput!Q418-Z418))/2)*(A419-A418))/27+S418+T418,0),0)),0),0)*$X$5),1)","v":630.5},176,{"$f":"ROUNDDOWN((IF(AC419>0,IFERROR(IF(((((DataInput!Q418-AC418)+(DataInput!Q419-AC419))/2)*(A419-A418))/27+S418+T418>0,ROUNDDOWN(((((DataInput!Q418-AC418)+(DataInput!Q419-AC419))/2)*(A419-A418))/27+S418+T418,0),0),0),0)*$X$5),1)","v":959.4},{"$f":"DataInput!U418","v":172},{"$f":"DataInput!S418","v":82},114.8,57.2]
[{"$f":"IF(DataInput!A419<>\"\",DataInput!A419,\"\")","v":90100},{"$f":"SUM(DataInput!C419,DataInput!Y419)+(DataInput!U419-DataInput!E419)","v":263},{"$f":"SUM(DataInput!D419,DataInput!Z419)","v":99},{"$f":"DataInput!U419","v":164},{"$f":"SUM(DataInput!F419,DataInput!AB419)","v":0},{"$f":"SUM(DataInput!G419,DataInput!AC419)","v":0},{"$f":"SUM(DataInput!H419,DataInput!AD419)","v":0},{"$f":"DataInput!I419","v":30},{"$f":"SUM(DataInput!J419,DataInput!AF419)","v":0},{"$f":"SUM(DataInput!K419,DataInput!AG419)","v":0},{"$f":"SUM(DataInput!L419,DataInput!AH419)","v":0},{"$f":"SUM(DataInput!M419,DataInput!AI419)","v":0},{"$f":"SUM(DataInput!N419,DataInput!AJ419)","v":0},{"$f":"SUM(DataInput!O419,DataInput!AK419)","v":0},{"$f":"DataInput!P419","v":0},null,99,{"$f":"DataInput!R419","v":603},{"$f":"DataInput!Y419","v":88},{"$f":"IF(DataInput!U419-DataInput!E419>0,DataInput!U419-DataInput!E419,\"\")","v":155},{"$f":"IF(DataInput!W419-DataInput!I419>0,DataInput!W419-DataInput!I419,\"\")","v":13},null,859,1116.7,-1017.7,450,3350,{"$f":"ROUNDDOWN((IF(AA420>0,IFERROR(IF(AVERAGE(DataInput!Q419:Q420)>AVERAGE(AA420,AA419),ROUNDDOWN(((((AA419-Z419)+(AA420-Z420))/2)*(A420-A419))/27,0),IF(((((DataInput!Q420-Z420)+(DataInput!Q419-Z419))/2)*(A420-A419))/27+S419+T419>0,ROUNDDOWN(((((DataInput!Q420-Z420)+(DataInput!Q419-Z419))/2)*(A420-A419))/27+S419+T419,0),0)),0),0)*$X$5),1)","v":557.70000000000005},176,{"$f":"ROUNDDOWN((IF(AC420>0,IFERROR(IF(((((DataInput!Q419-AC419)+(DataInput!Q420-AC420))/2)*(A420-A419))/27+S419+T419>0,ROUNDDOWN(((((DataInput!Q419-AC419)+(DataInput!Q420-AC420))/2)*(A420-A419))/27+S419+T419,0),0),0),0)*$X$5),1)","v":886.6},{"$f":"DataInput!U419","v":164},{"$f":"DataInput!S419","v":78},109.2,54.8]
[{"$f":"IF(DataInput!A420<>\"\",DataInput!A420,\"\")","v":90125},{"$f":"SUM(DataInput!C420,DataInput!Y420)+(DataInput!U420-DataInput!E420)","v":248},{"$f":"SUM(DataInput!D420,DataInput!Z420)","v":92},{"$f":"DataInput!U420","v":156},{"$f":"SUM(DataInput!F420,DataInput!AB420)","v":0},{"$f":"SUM(DataInput!G420,DataInput!AC420)","v":0},{"$f":"SUM(DataInput!H420,DataInput!AD420)","v":0},{"$f":"DataInput!I420","v":24},{"$f":"SUM(DataInput!J420,DataInput!AF420)","v":0},{"$f":"SUM(DataInput!K420,DataInput!AG420)","v":0},{"$f":"SUM(DataInput!L420,DataInput!AH420)","v":0},{"$f":"SUM(DataInput!M420,DataInput!AI420)","v":0},{"$f":"SUM(DataInput!N420,DataInput!AJ420)","v":0},{"$f":"SUM(DataInput!O420,DataInput!AK420)","v":0},{"$f":"DataInput!P420","v":0},null,92,{"$f":"DataInput!R420","v":569},{"$f":"DataInput!Y420","v":84},{"$f":"IF(DataInput!U420-DataInput!E420>0,DataInput!U420-DataInput!E420,\"\")","v":144},{"$f":"IF(DataInput!W420-DataInput!I420>0,DataInput!W420-DataInput!I420,\"\")","v":22},null,819,1064.7,-972.7,450,3350,{"$f":"ROUNDDOWN((IF(AA421>0,IFERROR(IF(AVERAGE(DataInput!Q420:Q421)>AVERAGE(AA421,AA420),ROUNDDOWN(((((AA420-Z420)+(AA421-Z421))/2)*(A421-A420))/27,0),IF(((((DataInput!Q421-Z421)+(DataInput!Q420-Z420))/2)*(A421-A420))/27+S420+T420>0,ROUNDDOWN(((((DataInput!Q421-Z421)+(DataInput!Q420-Z420))/2)*(A421-A420))/27+S420+T420,0),0)),0),0)*$X$5),1)","v":494},176,{"$f":"ROUNDDOWN((IF(AC421>0,IFERROR(IF(((((DataInput!Q420-AC420)+(DataInput!Q421-AC421))/2)*(A421-A420))/27+S420+T420>0,ROUNDDOWN(((((DataInput!Q420-AC420)+(DataInput!Q421-AC421))/2)*(A421-A420))/27+S420+T420,0),0),0),0)*$X$5),1)","v":824.2},{"$f":"DataInput!U420","v":156},{"$f":"DataInput!S420","v":74},103.6,52.4]
[{"$f":"IF(DataInput!A421<>\"\",DataInput!A421,\"\")","v":90150},{"$f":"SUM(DataInput!C421,DataInput!Y421)+(DataInput!U421-DataInput!E421)","v":157},{"$f":"SUM(DataInput!D421,DataInput!Z421)","v":6},{"$f":"DataInput!U421","v":150},{"$f":"SUM(DataInput!F421,DataInput!AB421)","v":0},{"$f":"SUM(DataInput!G421,DataInput!AC421)","v":0},{"$f":"SUM(DataInput!H421,DataInput!AD421)","v":0},{"$f":"DataInput!I421","v":20},{"$f":"SUM(DataInput!J421,DataInput!AF421)","v":0},{"$f":"SUM(DataInput!K421,DataInput!AG421)","v":0},{"$f":"SUM(DataInput!L421,DataInput!AH421)","v":0},{"$f":"SUM(DataInput!M421,DataInput!AI421)","v":0},{"$f":"SUM(DataInput!N421,DataInput!AJ421)","v":0},{"$f":"SUM(DataInput!O421,DataInput!AK421)","v":0},{"$f":"DataInput!P421","v":0},null,6,{"$f":"DataInput!R421","v":560},{"$f":"DataInput!Y421","v":0},{"$f":"IF(DataInput!U421-DataInput!E421>0,DataInput!U421-DataInput!E421,\"\")","v":138},{"$f":"IF(DataInput!W421-DataInput!I421>0,DataInput!W421-DataInput!I421,\"\")","v":25},null,723,939.9,-933.9,450,3350,{"$f":"ROUNDDOWN((IF(AA422>0,IFERROR(IF(AVERAGE(DataInput!Q421:Q422)>AVERAGE(AA422,AA421),ROUNDDOWN(((((AA421-Z421)+(AA422-Z422))/2)*(A422-A421))/27,0),IF(((((DataInput!Q422-Z422)+(DataInput!Q421-Z421))/2)*(A422-A421))/27+S421+T421>0,ROUNDDOWN(((((DataInput!Q422-Z422)+(DataInput!Q421-Z421))/2)*(A422-A421))/27+S421+T421,0),0)),0),0)*$X$5),1)","v":365.3},176,{"$f":"ROUNDDOWN((IF(AC422>0,IFERROR(IF(((((DataInput!Q421-AC421)+(DataInput!Q422-AC422))/2)*(A422-A421))/27+S421+T421>0,ROUNDDOWN(((((DataInput!Q421-AC421)+(DataInput!Q422-AC422))/2)*(A422-A421))/27+S421+T421,0),0),0),0)*$X$5),1)","v":695.5},{"$f":"DataInput!U421","v":150},{"$f":"DataInput!S421","v":70},98,52]
[{"$f":"IF(DataInput!A422<>\"\",DataInput!A422,\"\")","v":90175},{"$f":"SUM(DataInput!C422,DataInput!Y422)+(DataInput!U422-DataInput!E422)","v":149},{"$f":"SUM(DataInput!D422,DataInput!Z422)","v":4},{"$f":"DataInput!U422","v":145},{"$f":"SUM(DataInput!F422,DataInput!AB422)","v":0},{"$f":"SUM(DataInput!G422,DataInput!AC422)","v":0},{"$f":"SUM(DataInput!H422,DataInput!AD422)","v":0},{"$f":"DataInput!I422","v":17},{"$f":"SUM(DataInput!J422,DataInput!AF422)","v":0},{"$f":"SUM(DataInput!K422,DataInput!AG422)","v":0},{"$f":"SUM(DataInput!L422,DataInput!AH422)","v":0},{"$f":"SUM(DataInput!M422,DataInput!AI422)","v":0},{"$f":"SUM(DataInput!N422,DataInput!AJ422)","v":0},{"$f":"SUM(DataInput!O422,DataInput!AK422)","v":0},{"$f":"DataInput!P422","v":0},null,4,{"$f":"DataInput!R422","v":550},{"$f":"DataInput!Y422","v":0},{"$f":"IF(DataInput!U422-DataInput!E422>0,DataInput!U422-DataInput!E422,\"\")","v":133},{"$f":"IF(DataInput!W422-DataInput!I422>0,DataInput!W422-DataInput!I422,\"\")","v":28},null,711,924.3,-920.3,450,3350,{"$f":"ROUNDDOWN((IF(AA423>0,IFERROR(IF(AVERAGE(DataInput!Q422:Q423)>AVERAGE(AA423,AA422),ROUNDDOWN(((((AA422-Z422)+(AA423-Z423))/2)*(A423-A422))/27,0),IF(((((DataInput!Q423-Z423)+(DataInput!Q422-Z422))/2)*(A423-A422))/27+S422+T422>0,ROUNDDOWN(((((DataInput!Q423-Z423)+(DataInput!Q422-Z422))/2)*(A423-A422))/27+S422+T422,0),0)),0),0)*$X$5),1)","v":345.8},176,{"$f":"ROUNDDOWN((IF(AC423>0,IFERROR(IF(((((DataInput!Q422-AC422)+(DataInput!Q423-AC423))/2)*(A423-A422))/27+S422+T422>0,ROUNDDOWN(((((DataInput!Q422-AC422)+(DataInput!Q423-AC423))/2)*(A423-A422))/27+S422+T422,0),0),0),0)*$X$5),1)","v":676},{"$f":"DataInput!U422","v":145},{"$f":"DataInput!S422","v":66},92.4,52.6]
[{"$f":"IF(DataInput!A423<>\"\",DataInput!A423,\"\")","v":90200},{"$f":"SUM(DataInput!C423,DataInput!Y423)+(DataInput!U423-DataInput!E423)","v":144},{"$f":"SUM(DataInput!D423,DataInput!Z423)","v":4},{"$f":"DataInput!U423","v":140},{"$f":"SUM(DataInput!F423,DataInput!AB423)","v":0},{"$f":"SUM(DataInput!G423,DataInput!AC423)","v":0},{"$f":"SUM(DataInput!H423,DataInput!AD423)","v":0},{"$f":"DataInput!I423","v":15},{"$f":"SUM(DataInput!J423,DataInput!AF423)","v":0},{"$f":"SUM(DataInput!K423,DataInput!AG423)","v":0},{"$f":"SUM(DataInput!L423,DataInput!AH423)","v":0},{"$f":"SUM(DataInput!M423,DataInput!AI423)","v":0},{"$f":"SUM(DataInput!N423,DataInput!AJ423)","v":0},{"$f":"SUM(DataInput!O423,DataInput!AK423)","v":0},{"$f":"DataInput!P423","v":0},null,4,{"$f":"DataInput!R423","v":530},{"$f":"DataInput!Y423","v":0},{"$f":"IF(DataInput!U423-DataInput!E423>0,DataInput!U423-DataInput!E423,\"\")","v":125},{"$f":"IF(DataInput!W423-DataInput!I423>0,DataInput!W423-DataInput!I423,\"\")","v":31},null,686,891.8,-887.8,450,3350,{"$f":"ROUNDDOWN((IF(AA424>0,IFERROR(IF(AVERAGE(DataInput!Q423:Q424)>AVERAGE(AA424,AA423),ROUNDDOWN(((((AA423-Z423)+(AA424-Z424))/2)*(A424-A423))/27,0),IF(((((DataInput!Q424-Z424)+(DataInput!Q423-Z423))/2)*(A424-A423))/27+S423+T423>0,ROUNDDOWN(((((DataInput!Q424-Z424)+(DataInput!Q423-Z423))/2)*(A424-A423))/27+S423+T423,0),0)),0),0)*$X$5),1)","v":309.39999999999998},176,{"$f":"ROUNDDOWN((IF(AC424>0,IFERROR(IF(((((DataInput!Q423-AC423)+(DataInput!Q424-AC424))/2)*(A424-A423))/27+S423+T423>0,ROUNDDOWN(((((DataInput!Q423-AC423)+(DataInput!Q424-AC424))/2)*(A424-A423))/27+S423+T423,0),0),0),0)*$X$5),1)","v":639.6},{"$f":"DataInput!U423","v":140},{"$f":"DataInput!S423","v":63},88.2,51.8]
[{"$f":"IF(DataInput!A424<>\"\",DataInput!A424,\"\")","v":90225},{"$f":"SUM(DataInput!C424,DataInput!Y424)+(DataInput!U424-DataInput!E424)","v":140},{"$f":"SUM(DataInput!D424,DataInput!Z424)","v":4},{"$f":"DataInput!U424","v":136},{"$f":"SUM(DataInput!F424,DataInput!AB424)","v":0},{"$f":"SUM(DataInput!G424,DataInput!AC424)","v":0},{"$f":"SUM(DataInput!H424,DataInput!AD424)","v":0},{"$f":"DataInput!I424","v":14},{"$f":"SUM(DataInput!J424,DataInput!AF424)","v":0},{"$f":"SUM(DataInput!K424,DataInput!AG424)","v":0},{"$f":"SUM(DataInput!L424,DataInput!AH424)","v":0},{"$f":"SUM(DataInput!M424,DataInput!AI424)","v":0},{"$f":"SUM(DataInput!N424,DataInput!AJ424)","v":0},{"$f":"SUM(DataInput!O424,DataInput!AK424)","v":0},{"$f":"DataInput!P424","v":0},null,4,{"$f":"DataInput!R424","v":531},{"$f":"DataInput!Y424","v":0},{"$f":"IF(DataInput!U424-DataInput!E424>0,DataInput!U424-DataInput!E424,\"\")","v":119},{"$f":"IF(DataInput!W424-DataInput!I424>0,DataInput!W424-DataInput!I424,\"\")","v":32},null,682,886.6,-882.6,450,3350,{"$f":"ROUNDDOWN((IF(AA425>0,IFERROR(IF(AVERAGE(DataInput!Q424:Q425)>AVERAGE(AA425,AA424),ROUNDDOWN(((((AA424-Z424)+(AA425-Z425))/2)*(A425-A424))/27,0),IF(((((DataInput!Q425-Z425)+(DataInput!Q424-Z424))/2)*(A425-A424))/27+S424+T424>0,ROUNDDOWN(((((DataInput!Q425-Z425)+(DataInput!Q424-Z424))/2)*(A425-A424))/27+S424+T424,0),0)),0),0)*$X$5),1)","v":302.89999999999998},176,{"$f":"ROUNDDOWN((IF(AC425>0,IFERROR(IF(((((DataInput!Q424-AC424)+(DataInput!Q425-AC425))/2)*(A425-A424))/27+S424+T424>0,ROUNDDOWN(((((DataInput!Q424-AC424)+(DataInput!Q425-AC425))/2)*(A425-A424))/27+S424+T424,0),0),0),0)*$X$5),1)","v":633.1},{"$f":"DataInput!U424","v":136},{"$f":"DataInput!S424","v":61},85.4,50.6]
[{"$f":"IF(DataInput!A425<>\"\",DataInput!A425,\"\")","v":90250},{"$f":"SUM(DataInput!C425,DataInput!Y425)+(DataInput!U425-DataInput!E425)","v":142},{"$f":"SUM(DataInput!D425,DataInput!Z425)","v":5},{"$f":"DataInput!U425","v":137},{"$f":"SUM(DataInput!F425,DataInput!AB425)","v":0},{"$f":"SUM(DataInput!G425,DataInput!AC425)","v":0},{"$f":"SUM(DataInput!H425,DataInput!AD425)","v":0},{"$f":"DataInput!I425","v":13},{"$f":"SUM(DataInput!J425,DataInput!AF425)","v":0},{"$f":"SUM(DataInput!K425,DataInput!AG425)","v":0},{"$f":"SUM(DataInput!L425,DataInput!AH425)","v":0},{"$f":"SUM(DataInput!M425,DataInput!AI425)","v":0},{"$f":"SUM(DataInput!N425,DataInput!AJ425)","v":0},{"$f":"SUM(DataInput!O425,DataInput!AK425)","v":0},{"$f":"DataInput!P425","v":0},null,5,{"$f":"DataInput!R425","v":531},{"$f":"DataInput!Y425","v":0},{"$f":"IF(DataInput!U425-DataInput!E425>0,DataInput!U425-DataInput!E425,\"\")","v":118},{"$f":"IF(DataInput!W425-DataInput!I425>0,DataInput!W425-DataInput!I425,\"\")","v":34},null,683,887.9,-882.9,450,3350,{"$f":"ROUNDDOWN((IF(AA426>0,IFERROR(IF(AVERAGE(DataInput!Q425:Q426)>AVERAGE(AA426,AA425),ROUNDDOWN(((((AA425-Z425)+(AA426-Z426))/2)*(A426-A425))/27,0),IF(((((DataInput!Q426-Z426)+(DataInput!Q425-Z425))/2)*(A426-A425))/27+S425+T425>0,ROUNDDOWN(((((DataInput!Q426-Z426)+(DataInput!Q425-Z425))/2)*(A426-A425))/27+S425+T425,0),0)),0),0)*$X$5),1)","v":301.60000000000002},176,{"$f":"ROUNDDOWN((IF(AC426>0,IFERROR(IF(((((DataInput!Q425-AC425)+(DataInput!Q426-AC426))/2)*(A426-A425))/27+S425+T425>0,ROUNDDOWN(((((DataInput!Q425-AC425)+(DataInput!Q426-AC426))/2)*(A426-A425))/27+S425+T425,0),0),0),0)*$X$5),1)","v":631.79999999999995},{"$f":"DataInput!U425","v":137},{"$f":"DataInput!S425","v":62},86.8,50.2]
[{"$f":"IF(DataInput!A426<>\"\",DataInput!A426,\"\")","v":90275},{"$f":"SUM(DataInput!C426,DataInput!Y426)+(DataInput!U426-DataInput!E426)","v":146},{"$f":"SUM(DataInput!D426,DataInput!Z426)","v":5},{"$f":"DataInput!U426","v":141},{"$f":"SUM(DataInput!F426,DataInput!AB426)","v":0},{"$f":"SUM(DataInput!G426,DataInput!AC426)","v":0},{"$f":"SUM(DataInput!H426,DataInput!AD426)","v":0},{"$f":"DataInput!I426","v":12},{"$f":"SUM(DataInput!J426,DataInput!AF426)","v":0},{"$f":"SUM(DataInput!K426,DataInput!AG426)","v":0},{"$f":"SUM(DataInput!L426,DataInput!AH426)","v":0},{"$f":"SUM(DataInput!M426,DataInput!AI426)","v":0},{"$f":"SUM(DataInput!N426,DataInput!AJ426)","v":0},{"$f":"SUM(DataInput!O426,DataInput!AK426)","v":0},{"$f":"DataInput!P426","v":0},null,5,{"$f":"DataInput!R426","v":521},{"$f":"DataInput!Y426","v":0},{"$f":"IF(DataInput!U426-DataInput!E426>0,DataInput!U426-DataInput!E426,\"\")","v":121},{"$f":"IF(DataInput!W426-DataInput!I426>0,DataInput!W426-DataInput!I426,\"\")","v":36},null,678,881.4,-876.4,450,3350,{"$f":"ROUNDDOWN((IF(AA427>0,IFERROR(IF(AVERAGE(DataInput!Q426:Q427)>AVERAGE(AA427,AA426),ROUNDDOWN(((((AA426-Z426)+(AA427-Z427))/2)*(A427-A426))/27,0),IF(((((DataInput!Q427-Z427)+(DataInput!Q426-Z426))/2)*(A427-A426))/27+S426+T426>0,ROUNDDOWN(((((DataInput!Q427-Z427)+(DataInput!Q426-Z426))/2)*(A427-A426))/27+S426+T426,0),0)),0),0)*$X$5),1)","v":292.5},176,{"$f":"ROUNDDOWN((IF(AC427>0,IFERROR(IF(((((DataInput!Q426-AC426)+(DataInput!Q427-AC427))/2)*(A427-A426))/27+S426+T426>0,ROUNDDOWN(((((DataInput!Q426-AC426)+(DataInput!Q427-AC427))/2)*(A427-A426))/27+S426+T426,0),0),0),0)*$X$5),1)","v":621.4},{"$f":"DataInput!U426","v":141},{"$f":"DataInput!S426","v":66},92.4,48.6]
[{"$f":"IF(DataInput!A427<>\"\",DataInput!A427,\"\")","v":90300},{"$f":"SUM(DataInput!C427,DataInput!Y427)+(DataInput!U427-DataInput!E427)","v":149},{"$f":"SUM(DataInput!D427,DataInput!Z427)","v":3},{"$f":"DataInput!U427","v":147},{"$f":"SUM(DataInput!F427,DataInput!AB427)","v":0},{"$f":"SUM(DataInput!G427,DataInput!AC427)","v":0},{"$f":"SUM(DataInput!H427,DataInput!AD427)","v":0},{"$f":"DataInput!I427","v":12},{"$f":"SUM(DataInput!J427,DataInput!AF427)","v":0},{"$f":"SUM(DataInput!K427,DataInput!AG427)","v":0},{"$f":"SUM(DataInput!L427,DataInput!AH427)","v":0},{"$f":"SUM(DataInput!M427,DataInput!AI427)","v":0},{"$f":"SUM(DataInput!N427,DataInput!AJ427)","v":0},{"$f":"SUM(DataInput!O427,DataInput!AK427)","v":0},{"$f":"DataInput!P427","v":0},null,3,{"$f":"DataInput!R427","v":504},{"$f":"DataInput!Y427","v":0},{"$f":"IF(DataInput!U427-DataInput!E427>0,DataInput!U427-DataInput!E427,\"\")","v":131},{"$f":"IF(DataInput!W427-DataInput!I427>0,DataInput!W427-DataInput!I427,\"\")","v":37},null,672,873.6,-870.6,450,3350,{"$f":"ROUNDDOWN((IF(AA428>0,IFERROR(IF(AVERAGE(DataInput!Q427:Q428)>AVERAGE(AA428,AA427),ROUNDDOWN(((((AA427-Z427)+(AA428-Z428))/2)*(A428-A427))/27,0),IF(((((DataInput!Q428-Z428)+(DataInput!Q427-Z427))/2)*(A428-A427))/27+S427+T427>0,ROUNDDOWN(((((DataInput!Q428-Z428)+(DataInput!Q427-Z427))/2)*(A428-A427))/27+S427+T427,0),0)),0),0)*$X$5),1)","v":283.39999999999998},176,{"$f":"ROUNDDOWN((IF(AC428>0,IFERROR(IF(((((DataInput!Q427-AC427)+(DataInput!Q428-AC428))/2)*(A428-A427))/27+S427+T427>0,ROUNDDOWN(((((DataInput!Q427-AC427)+(DataInput!Q428-AC428))/2)*(A428-A427))/27+S427+T427,0),0),0),0)*$X$5),1)","v":612.29999999999995},{"$f":"DataInput!U427","v":147},{"$f":"DataInput!S427","v":70},98,49]
[{"$f":"IF(DataInput!A428<>\"\",DataInput!A428,\"\")","v":90325},{"$f":"SUM(DataInput!C428,DataInput!Y428)+(DataInput!U428-DataInput!E428)","v":156},{"$f":"SUM(DataInput!D428,DataInput!Z428)","v":3},{"$f":"DataInput!U428","v":153},{"$f":"SUM(DataInput!F428,DataInput!AB428)","v":0},{"$f":"SUM(DataInput!G428,DataInput!AC428)","v":0},{"$f":"SUM(DataInput!H428,DataInput!AD428)","v":0},{"$f":"DataInput!I428","v":13},{"$f":"SUM(DataInput!J428,DataInput!AF428)","v":0},{"$f":"SUM(DataInput!K428,DataInput!AG428)","v":0},{"$f":"SUM(DataInput!L428,DataInput!AH428)","v":0},{"$f":"SUM(DataInput!M428,DataInput!AI428)","v":0},{"$f":"SUM(DataInput!N428,DataInput!AJ428)","v":0},{"$f":"SUM(DataInput!O428,DataInput!AK428)","v":0},{"$f":"DataInput!P428","v":0},null,3,{"$f":"DataInput!R428","v":480},{"$f":"DataInput!Y428","v":0},{"$f":"IF(DataInput!U428-DataInput!E428>0,DataInput!U428-DataInput!E428,\"\")","v":138},{"$f":"IF(DataInput!W428-DataInput!I428>0,DataInput!W428-DataInput!I428,\"\")","v":36},null,654,850.2,-847.2,450,3350,{"$f":"ROUNDDOWN((IF(AA429>0,IFERROR(IF(AVERAGE(DataInput!Q428:Q429)>AVERAGE(AA429,AA428),ROUNDDOWN(((((AA428-Z428)+(AA429-Z429))/2)*(A429-A428))/27,0),IF(((((DataInput!Q429-Z429)+(DataInput!Q428-Z428))/2)*(A429-A428))/27+S428+T428>0,ROUNDDOWN(((((DataInput!Q429-Z429)+(DataInput!Q428-Z428))/2)*(A429-A428))/27+S428+T428,0),0)),0),0)*$X$5),1)","v":261.3},176,{"$f":"ROUNDDOWN((IF(AC429>0,IFERROR(IF(((((DataInput!Q428-AC428)+(DataInput!Q429-AC429))/2)*(A429-A428))/27+S428+T428>0,ROUNDDOWN(((((DataInput!Q428-AC428)+(DataInput!Q429-AC429))/2)*(A429-A428))/27+S428+T428,0),0),0),0)*$X$5),1)","v":591.5},{"$f":"DataInput!U428","v":153},{"$f":"DataInput!S428","v":75},105,48]
[{"$f":"IF(DataInput!A429<>\"\",DataInput!A429,\"\")","v":90350},{"$f":"SUM(DataInput!C429,DataInput!Y429)+(DataInput!U429-DataInput!E429)","v":157},{"$f":"SUM(DataInput!D429,DataInput!Z429)","v":3},{"$f":"DataInput!U429","v":153},{"$f":"SUM(DataInput!F429,DataInput!AB429)","v":0},{"$f":"SUM(DataInput!G429,DataInput!AC429)","v":0},{"$f":"SUM(DataInput!H429,DataInput!AD429)","v":0},{"$f":"DataInput!I429","v":15},{"$f":"SUM(DataInput!J429,DataInput!AF429)","v":0},{"$f":"SUM(DataInput!K429,DataInput!AG429)","v":0},{"$f":"SUM(DataInput!L429,DataInput!AH429)","v":0},{"$f":"SUM(DataInput!M429,DataInput!AI429)","v":0},{"$f":"SUM(DataInput!N429,DataInput!AJ429)","v":0},{"$f":"SUM(DataInput!O429,DataInput!AK429)","v":0},{"$f":"DataInput!P429","v":0},null,3,{"$f":"DataInput!R429","v":464},{"$f":"DataInput!Y429","v":0},{"$f":"IF(DataInput!U429-DataInput!E429>0,DataInput!U429-DataInput!E429,\"\")","v":140},{"$f":"IF(DataInput!W429-DataInput!I429>0,DataInput!W429-DataInput!I429,\"\")","v":35},null,639,830.7,-827.7,450,3350,{"$f":"ROUNDDOWN((IF(AA430>0,IFERROR(IF(AVERAGE(DataInput!Q429:Q430)>AVERAGE(AA430,AA429),ROUNDDOWN(((((AA429-Z429)+(AA430-Z430))/2)*(A430-A429))/27,0),IF(((((DataInput!Q430-Z430)+(DataInput!Q429-Z429))/2)*(A430-A429))/27+S429+T429>0,ROUNDDOWN(((((DataInput!Q430-Z430)+(DataInput!Q429-Z429))/2)*(A430-A429))/27+S429+T429,0),0)),0),0)*$X$5),1)","v":243.1},176,{"$f":"ROUNDDOWN((IF(AC430>0,IFERROR(IF(((((DataInput!Q429-AC429)+(DataInput!Q430-AC430))/2)*(A430-A429))/27+S429+T429>0,ROUNDDOWN(((((DataInput!Q429-AC429)+(DataInput!Q430-AC430))/2)*(A430-A429))/27+S429+T429,0),0),0),0)*$X$5),1)","v":573.29999999999995},{"$f":"DataInput!U429","v":153},{"$f":"DataInput!S429","v":76},106.4,46.6]
[{"$f":"IF(DataInput!A430<>\"\",DataInput!A430,\"\")","v":90375},{"$f":"SUM(DataInput!C430,DataInput!Y430)+(DataInput!U430-DataInput!E430)","v":206},{"$f":"SUM(DataInput!D430,DataInput!Z430)","v":43},{"$f":"DataInput!U430","v":164},{"$f":"SUM(DataInput!F430,DataInput!AB430)","v":0},{"$f":"SUM(DataInput!G430,DataInput!AC430)","v":0},{"$f":"SUM(DataInput!H430,DataInput!AD430)","v":0},{"$f":"DataInput!I430","v":18},{"$f":"SUM(DataInput!J430,DataInput!AF430)","v":0},{"$f":"SUM(DataInput!K430,DataInput!AG430)","v":0},{"$f":"SUM(DataInput!L430,DataInput!AH430)","v":0},{"$f":"SUM(DataInput!M430,DataInput!AI430)","v":0},{"$f":"SUM(DataInput!N430,DataInput!AJ430)","v":0},{"$f":"SUM(DataInput!O430,DataInput!AK430)","v":0},{"$f":"DataInput!P430","v":0},null,43,{"$f":"DataInput!R430","v":444},{"$f":"DataInput!Y430","v":0},{"$f":"IF(DataInput!U430-DataInput!E430>0,DataInput!U430-DataInput!E430,\"\")","v":134},{"$f":"IF(DataInput!W430-DataInput!I430>0,DataInput!W430-DataInput!I430,\"\")","v":33},null,611,794.3,-751.3,450,3350,{"$f":"ROUNDDOWN((IF(AA431>0,IFERROR(IF(AVERAGE(DataInput!Q430:Q431)>AVERAGE(AA431,AA430),ROUNDDOWN(((((AA430-Z430)+(AA431-Z431))/2)*(A431-A430))/27,0),IF(((((DataInput!Q431-Z431)+(DataInput!Q430-Z430))/2)*(A431-A430))/27+S430+T430>0,ROUNDDOWN(((((DataInput!Q431-Z431)+(DataInput!Q430-Z430))/2)*(A431-A430))/27+S430+T430,0),0)),0),0)*$X$5),1)","v":208},176,{"$f":"ROUNDDOWN((IF(AC431>0,IFERROR(IF(((((DataInput!Q430-AC430)+(DataInput!Q431-AC431))/2)*(A431-A430))/27+S430+T430>0,ROUNDDOWN(((((DataInput!Q430-AC430)+(DataInput!Q431-AC431))/2)*(A431-A430))/27+S430+T430,0),0),0),0)*$X$5),1)","v":538.20000000000005},{"$f":"DataInput!U430","v":164},{"$f":"DataInput!S430","v":84},117.6,46.4]
[{"$f":"IF(DataInput!A431<>\"\",DataInput!A431,\"\")","v":90400},{"$f":"SUM(DataInput!C431,DataInput!Y431)+(DataInput!U431-DataInput!E431)","v":242},{"$f":"SUM(DataInput!D431,DataInput!Z431)","v":70},{"$f":"DataInput!U431","v":172},{"$f":"SUM(DataInput!F431,DataInput!AB431)","v":0},{"$f":"SUM(DataInput!G431,DataInput!AC431)","v":0},{"$f":"SUM(DataInput!H431,DataInput!AD431)","v":0},{"$f":"DataInput!I431","v":22},{"$f":"SUM(DataInput!J431,DataInput!AF431)","v":0},{"$f":"SUM(DataInput!K431,DataInput!AG431)","v":0},{"$f":"SUM(DataInput!L431,DataInput!AH431)","v":0},{"$f":"SUM(DataInput!M431,DataInput!AI431)","v":0},{"$f":"SUM(DataInput!N431,DataInput!AJ431)","v":0},{"$f":"SUM(DataInput!O431,DataInput!AK431)","v":0},{"$f":"DataInput!P431","v":0},null,70,{"$f":"DataInput!R431","v":415},{"$f":"DataInput!Y431","v":0},{"$f":"IF(DataInput!U431-DataInput!E431>0,DataInput!U431-DataInput!E431,\"\")","v":125},{"$f":"IF(DataInput!W431-DataInput!I431>0,DataInput!W431-DataInput!I431,\"\")","v":30},null,570,741,-671,450,3350,{"$f":"ROUNDDOWN((IF(AA432>0,IFERROR(IF(AVERAGE(DataInput!Q431:Q432)>AVERAGE(AA432,AA431),ROUNDDOWN(((((AA431-Z431)+(AA432-Z432))/2)*(A432-A431))/27,0),IF(((((DataInput!Q432-Z432)+(DataInput!Q431-Z431))/2)*(A432-A431))/27+S431+T431>0,ROUNDDOWN(((((DataInput!Q432-Z432)+(DataInput!Q431-Z431))/2)*(A432-A431))/27+S431+T431,0),0)),0),0)*$X$5),1)","v":159.9},176,{"$f":"ROUNDDOWN((IF(AC432>0,IFERROR(IF(((((DataInput!Q431-AC431)+(DataInput!Q432-AC432))/2)*(A432-A431))/27+S431+T431>0,ROUNDDOWN(((((DataInput!Q431-AC431)+(DataInput!Q432-AC432))/2)*(A432-A431))/27+S431+T431,0),0),0),0)*$X$5),1)","v":490.1},{"$f":"DataInput!U431","v":172},{"$f":"DataInput!S431","v":91},127.4,44.6]
[{"$f":"IF(DataInput!A432<>\"\",DataInput!A432,\"\")","v":90425},{"$f":"SUM(DataInput!C432,DataInput!Y432)+(DataInput!U432-DataInput!E432)","v":221},{"$f":"SUM(DataInput!D432,DataInput!Z432)","v":60},{"$f":"DataInput!U432","v":161},{"$f":"SUM(DataInput!F432,DataInput!AB432)","v":0},{"$f":"SUM(DataInput!G432,DataInput!AC432)","v":0},{"$f":"SUM(DataInput!H432,DataInput!AD432)","v":0},{"$f":"DataInput!I432","v":26},{"$f":"SUM(DataInput!J432,DataInput!AF432)","v":0},{"$f":"SUM(DataInput!K432,DataInput!AG432)","v":0},{"$f":"SUM(DataInput!L432,DataInput!AH432)","v":0},{"$f":"SUM(DataInput!M432,DataInput!AI432)","v":0},{"$f":"SUM(DataInput!N432,DataInput!AJ432)","v":0},{"$f":"SUM(DataInput!O432,DataInput!AK432)","v":0},{"$f":"DataInput!P432","v":0},null,60,{"$f":"DataInput!R432","v":387},{"$f":"DataInput!Y432","v":0},{"$f":"IF(DataInput!U432-DataInput!E432>0,DataInput!U432-DataInput!E432,\"\")","v":116},{"$f":"IF(DataInput!W432-DataInput!I432>0,DataInput!W432-DataInput!I432,\"\")","v":24},null,527,685.1,-625.1,450,3350,{"$f":"ROUNDDOWN((IF(AA433>0,IFERROR(IF(AVERAGE(DataInput!Q432:Q433)>AVERAGE(AA433,AA432),ROUNDDOWN(((((AA432-Z432)+(AA433-Z433))/2)*(A433-A432))/27,0),IF(((((DataInput!Q433-Z433)+(DataInput!Q432-Z432))/2)*(A433-A432))/27+S432+T432>0,ROUNDDOWN(((((DataInput!Q433-Z433)+(DataInput!Q432-Z432))/2)*(A433-A432))/27+S432+T432,0),0)),0),0)*$X$5),1)","v":111.8},176,{"$f":"ROUNDDOWN((IF(AC433>0,IFERROR(IF(((((DataInput!Q432-AC432)+(DataInput!Q433-AC433))/2)*(A433-A432))/27+S432+T432>0,ROUNDDOWN(((((DataInput!Q432-AC432)+(DataInput!Q433-AC433))/2)*(A433-A432))/27+S432+T432,0),0),0),0)*$X$5),1)","v":442},{"$f":"DataInput!U432","v":161},{"$f":"DataInput!S432","v":84},117.6,43.4]
[{"$f":"IF(DataInput!A433<>\"\",DataInput!A433,\"\")","v":90450},{"$f":"SUM(DataInput!C433,DataInput!Y433)+(DataInput!U433-DataInput!E433)","v":221},{"$f":"SUM(DataInput!D433,DataInput!Z433)","v":63},{"$f":"DataInput!U433","v":158},{"$f":"SUM(DataInput!F433,DataInput!AB433)","v":0},{"$f":"SUM(DataInput!G433,DataInput!AC433)","v":0},{"$f":"SUM(DataInput!H433,DataInput!AD433)","v":0},{"$f":"DataInput!I433","v":29},{"$f":"SUM(DataInput!J433,DataInput!AF433)","v":0},{"$f":"SUM(DataInput!K433,DataInput!AG433)","v":0},{"$f":"SUM(DataInput!L433,DataInput!AH433)","v":0},{"$f":"SUM(DataInput!M433,DataInput!AI433)","v":0},{"$f":"SUM(DataInput!N433,DataInput!AJ433)","v":0},{"$f":"SUM(DataInput!O433,DataInput!AK433)","v":0},{"$f":"DataInput!P433","v":0},null,63,{"$f":"DataInput!R433","v":371},{"$f":"DataInput!Y433","v":0},{"$f":"IF(DataInput!U433-DataInput!E433>0,DataInput!U433-DataInput!E433,\"\")","v":110},{"$f":"IF(DataInput!W433-DataInput!I433>0,DataInput!W433-DataInput!I433,\"\")","v":22},null,503,653.9,-590.9,450,3350,{"$f":"ROUNDDOWN((IF(AA434>0,IFERROR(IF(AVERAGE(DataInput!Q433:Q434)>AVERAGE(AA434,AA433),ROUNDDOWN(((((AA433-Z433)+(AA434-Z434))/2)*(A434-A433))/27,0),IF(((((DataInput!Q434-Z434)+(DataInput!Q433-Z433))/2)*(A434-A433))/27+S433+T433>0,ROUNDDOWN(((((DataInput!Q434-Z434)+(DataInput!Q433-Z433))/2)*(A434-A433))/27+S433+T433,0),0)),0),0)*$X$5),1)","v":83.2},176,{"$f":"ROUNDDOWN((IF(AC434>0,IFERROR(IF(((((DataInput!Q433-AC433)+(DataInput!Q434-AC434))/2)*(A434-A433))/27+S433+T433>0,ROUNDDOWN(((((DataInput!Q433-AC433)+(DataInput!Q434-AC434))/2)*(A434-A433))/27+S433+T433,0),0),0),0)*$X$5),1)","v":413.4},{"$f":"DataInput!U433","v":158},{"$f":"DataInput!S433","v":83},116.2,41.8]
[{"$f":"IF(DataInput!A434<>\"\",DataInput!A434,\"\")","v":90475},{"$f":"SUM(DataInput!C434,DataInput!Y434)+(DataInput!U434-DataInput!E434)","v":198},{"$f":"SUM(DataInput!D434,DataInput!Z434)","v":43},{"$f":"DataInput!U434","v":155},{"$f":"SUM(DataInput!F434,DataInput!AB434)","v":0},{"$f":"SUM(DataInput!G434,DataInput!AC434)","v":0},{"$f":"SUM(DataInput!H434,DataInput!AD434)","v":0},{"$f":"DataInput!I434","v":33},{"$f":"SUM(DataInput!J434,DataInput!AF434)","v":0},{"$f":"SUM(DataInput!K434,DataInput!AG434)","v":0},{"$f":"SUM(DataInput!L434,DataInput!AH434)","v":0},{"$f":"SUM(DataInput!M434,DataInput!AI434)","v":0},{"$f":"SUM(DataInput!N434,DataInput!AJ434)","v":0},{"$f":"SUM(DataInput!O434,DataInput!AK434)","v":0},{"$f":"DataInput!P434","v":0},null,43,{"$f":"DataInput!R434","v":366},{"$f":"DataInput!Y434","v":0},{"$f":"IF(DataInput!U434-DataInput!E434>0,DataInput!U434-DataInput!E434,\"\")","v":109},{"$f":"IF(DataInput!W434-DataInput!I434>0,DataInput!W434-DataInput!I434,\"\")","v":21},null,496,644.79999999999995,-601.79999999999995,450,3350,{"$f":"ROUNDDOWN((IF(AA435>0,IFERROR(IF(AVERAGE(DataInput!Q434:Q435)>AVERAGE(AA435,AA434),ROUNDDOWN(((((AA434-Z434)+(AA435-Z435))/2)*(A435-A434))/27,0),IF(((((DataInput!Q435-Z435)+(DataInput!Q434-Z434))/2)*(A435-A434))/27+S434+T434>0,ROUNDDOWN(((((DataInput!Q435-Z435)+(DataInput!Q434-Z434))/2)*(A435-A434))/27+S434+T434,0),0)),0),0)*$X$5),1)","v":75.400000000000006},176,{"$f":"ROUNDDOWN((IF(AC435>0,IFERROR(IF(((((DataInput!Q434-AC434)+(DataInput!Q435-AC435))/2)*(A435-A434))/27+S434+T434>0,ROUNDDOWN(((((DataInput!Q434-AC434)+(DataInput!Q435-AC435))/2)*(A435-A434))/27+S434+T434,0),0),0),0)*$X$5),1)","v":404.3},{"$f":"DataInput!U434","v":155},{"$f":"DataInput!S434","v":86},120.4,34.6]
[{"$f":"IF(DataInput!A435<>\"\",DataInput!A435,\"\")","v":90500},{"$f":"SUM(DataInput!C435,DataInput!Y435)+(DataInput!U435-DataInput!E435)","v":171},{"$f":"SUM(DataInput!D435,DataInput!Z435)","v":17},{"$f":"DataInput!U435","v":154},{"$f":"SUM(DataInput!F435,DataInput!AB435)","v":0},{"$f":"SUM(DataInput!G435,DataInput!AC435)","v":0},{"$f":"SUM(DataInput!H435,DataInput!AD435)","v":0},{"$f":"DataInput!I435","v":35},{"$f":"SUM(DataInput!J435,DataInput!AF435)","v":0},{"$f":"SUM(DataInput!K435,DataInput!AG435)","v":0},{"$f":"SUM(DataInput!L435,DataInput!AH435)","v":0},{"$f":"SUM(DataInput!M435,DataInput!AI435)","v":0},{"$f":"SUM(DataInput!N435,DataInput!AJ435)","v":0},{"$f":"SUM(DataInput!O435,DataInput!AK435)","v":0},{"$f":"DataInput!P435","v":0},null,17,{"$f":"DataInput!R435","v":356},{"$f":"DataInput!Y435","v":0},{"$f":"IF(DataInput!U435-DataInput!E435>0,DataInput!U435-DataInput!E435,\"\")","v":117},{"$f":"IF(DataInput!W435-DataInput!I435>0,DataInput!W435-DataInput!I435,\"\")","v":19},null,492,639.6,-622.6,450,3350,{"$f":"ROUNDDOWN((IF(AA436>0,IFERROR(IF(AVERAGE(DataInput!Q435:Q436)>AVERAGE(AA436,AA435),ROUNDDOWN(((((AA435-Z435)+(AA436-Z436))/2)*(A436-A435))/27,0),IF(((((DataInput!Q436-Z436)+(DataInput!Q435-Z435))/2)*(A436-A435))/27+S435+T435>0,ROUNDDOWN(((((DataInput!Q436-Z436)+(DataInput!Q435-Z435))/2)*(A436-A435))/27+S435+T435,0),0)),0),0)*$X$5),1)","v":71.5},176,{"$f":"ROUNDDOWN((IF(AC436>0,IFERROR(IF(((((DataInput!Q435-AC435)+(DataInput!Q436-AC436))/2)*(A436-A435))/27+S435+T435>0,ROUNDDOWN(((((DataInput!Q435-AC435)+(DataInput!Q436-AC436))/2)*(A436-A435))/27+S435+T435,0),0),0),0)*$X$5),1)","v":401.7},{"$f":"DataInput!U435","v":154},{"$f":"DataInput!S435","v":85},119,35]
[{"$f":"IF(DataInput!A436<>\"\",DataInput!A436,\"\")","v":90525},{"$f":"SUM(DataInput!C436,DataInput!Y436)+(DataInput!U436-DataInput!E436)","v":167},{"$f":"SUM(DataInput!D436,DataInput!Z436)","v":13},{"$f":"DataInput!U436","v":155},{"$f":"SUM(DataInput!F436,DataInput!AB436)","v":0},{"$f":"SUM(DataInput!G436,DataInput!AC436)","v":0},{"$f":"SUM(DataInput!H436,DataInput!AD436)","v":0},{"$f":"DataInput!I436","v":38},{"$f":"SUM(DataInput!J436,DataInput!AF436)","v":0},{"$f":"SUM(DataInput!K436,DataInput!AG436)","v":0},{"$f":"SUM(DataInput!L436,DataInput!AH436)","v":0},{"$f":"SUM(DataInput!M436,DataInput!AI436)","v":0},{"$f":"SUM(DataInput!N436,DataInput!AJ436)","v":0},{"$f":"SUM(DataInput!O436,DataInput!AK436)","v":0},{"$f":"DataInput!P436","v":0},null,13,{"$f":"DataInput!R436","v":354},{"$f":"DataInput!Y436","v":0},{"$f":"IF(DataInput!U436-DataInput!E436>0,DataInput!U436-DataInput!E436,\"\")","v":124},{"$f":"IF(DataInput!W436-DataInput!I436>0,DataInput!W436-DataInput!I436,\"\")","v":16},null,494,642.20000000000005,-629.20000000000005,450,3350,{"$f":"ROUNDDOWN((IF(AA437>0,IFERROR(IF(AVERAGE(DataInput!Q436:Q437)>AVERAGE(AA437,AA436),ROUNDDOWN(((((AA436-Z436)+(AA437-Z437))/2)*(A437-A436))/27,0),IF(((((DataInput!Q437-Z437)+(DataInput!Q436-Z436))/2)*(A437-A436))/27+S436+T436>0,ROUNDDOWN(((((DataInput!Q437-Z437)+(DataInput!Q436-Z436))/2)*(A437-A436))/27+S436+T436,0),0)),0),0)*$X$5),1)","v":79.3},176,{"$f":"ROUNDDOWN((IF(AC437>0,IFERROR(IF(((((DataInput!Q436-AC436)+(DataInput!Q437-AC437))/2)*(A437-A436))/27+S436+T436>0,ROUNDDOWN(((((DataInput!Q436-AC436)+(DataInput!Q437-AC437))/2)*(A437-A436))/27+S436+T436,0),0),0),0)*$X$5),1)","v":408.2},{"$f":"DataInput!U436","v":155},{"$f":"DataInput!S436","v":81},113.4,41.6]
[{"$f":"IF(DataInput!A437<>\"\",DataInput!A437,\"\")","v":90550},{"$f":"SUM(DataInput!C437,DataInput!Y437)+(DataInput!U437-DataInput!E437)","v":161},{"$f":"SUM(DataInput!D437,DataInput!Z437)","v":14},{"$f":"DataInput!U437","v":147},{"$f":"SUM(DataInput!F437,DataInput!AB437)","v":0},{"$f":"SUM(DataInput!G437,DataInput!AC437)","v":0},{"$f":"SUM(DataInput!H437,DataInput!AD437)","v":0},{"$f":"DataInput!I437","v":40},{"$f":"SUM(DataInput!J437,DataInput!AF437)","v":0},{"$f":"SUM(DataInput!K437,DataInput!AG437)","v":0},{"$f":"SUM(DataInput!L437,DataInput!AH437)","v":0},{"$f":"SUM(DataInput!M437,DataInput!AI437)","v":0},{"$f":"SUM(DataInput!N437,DataInput!AJ437)","v":0},{"$f":"SUM(DataInput!O437,DataInput!AK437)","v":0},{"$f":"DataInput!P437","v":0},null,14,{"$f":"DataInput!R437","v":358},{"$f":"DataInput!Y437","v":0},{"$f":"IF(DataInput!U437-DataInput!E437>0,DataInput!U437-DataInput!E437,\"\")","v":121},{"$f":"IF(DataInput!W437-DataInput!I437>0,DataInput!W437-DataInput!I437,\"\")","v":14},null,493,640.9,-626.9,450,3350,{"$f":"ROUNDDOWN((IF(AA438>0,IFERROR(IF(AVERAGE(DataInput!Q437:Q438)>AVERAGE(AA438,AA437),ROUNDDOWN(((((AA437-Z437)+(AA438-Z438))/2)*(A438-A437))/27,0),IF(((((DataInput!Q438-Z438)+(DataInput!Q437-Z437))/2)*(A438-A437))/27+S437+T437>0,ROUNDDOWN(((((DataInput!Q438-Z438)+(DataInput!Q437-Z437))/2)*(A438-A437))/27+S437+T437,0),0)),0),0)*$X$5),1)","v":79.3},176,{"$f":"ROUNDDOWN((IF(AC438>0,IFERROR(IF(((((DataInput!Q437-AC437)+(DataInput!Q438-AC438))/2)*(A438-A437))/27+S437+T437>0,ROUNDDOWN(((((DataInput!Q437-AC437)+(DataInput!Q438-AC438))/2)*(A438-A437))/27+S437+T437,0),0),0),0)*$X$5),1)","v":409.5},{"$f":"DataInput!U437","v":147},{"$f":"DataInput!S437","v":76},106.4,40.6]
[{"$f":"IF(DataInput!A438<>\"\",DataInput!A438,\"\")","v":90575},{"$f":"SUM(DataInput!C438,DataInput!Y438)+(DataInput!U438-DataInput!E438)","v":163},{"$f":"SUM(DataInput!D438,DataInput!Z438)","v":16},{"$f":"DataInput!U438","v":147},{"$f":"SUM(DataInput!F438,DataInput!AB438)","v":0},{"$f":"SUM(DataInput!G438,DataInput!AC438)","v":0},{"$f":"SUM(DataInput!H438,DataInput!AD438)","v":0},{"$f":"DataInput!I438","v":42},{"$f":"SUM(DataInput!J438,DataInput!AF438)","v":0},{"$f":"SUM(DataInput!K438,DataInput!AG438)","v":0},{"$f":"SUM(DataInput!L438,DataInput!AH438)","v":0},{"$f":"SUM(DataInput!M438,DataInput!AI438)","v":0},{"$f":"SUM(DataInput!N438,DataInput!AJ438)","v":0},{"$f":"SUM(DataInput!O438,DataInput!AK438)","v":0},{"$f":"DataInput!P438","v":0},null,16,{"$f":"DataInput!R438","v":346},{"$f":"DataInput!Y438","v":0},{"$f":"IF(DataInput!U438-DataInput!E438>0,DataInput!U438-DataInput!E438,\"\")","v":121},{"$f":"IF(DataInput!W438-DataInput!I438>0,DataInput!W438-DataInput!I438,\"\")","v":12},null,479,622.70000000000005,-606.70000000000005,450,3350,{"$f":"ROUNDDOWN((IF(AA439>0,IFERROR(IF(AVERAGE(DataInput!Q438:Q439)>AVERAGE(AA439,AA438),ROUNDDOWN(((((AA438-Z438)+(AA439-Z439))/2)*(A439-A438))/27,0),IF(((((DataInput!Q439-Z439)+(DataInput!Q438-Z438))/2)*(A439-A438))/27+S438+T438>0,ROUNDDOWN(((((DataInput!Q439-Z439)+(DataInput!Q438-Z438))/2)*(A439-A438))/27+S438+T438,0),0)),0),0)*$X$5),1)","v":65},176,{"$f":"ROUNDDOWN((IF(AC439>0,IFERROR(IF(((((DataInput!Q438-AC438)+(DataInput!Q439-AC439))/2)*(A439-A438))/27+S438+T438>0,ROUNDDOWN(((((DataInput!Q438-AC438)+(DataInput!Q439-AC439))/2)*(A439-A438))/27+S438+T438,0),0),0),0)*$X$5),1)","v":393.9},{"$f":"DataInput!U438","v":147},{"$f":"DataInput!S438","v":76},106.4,40.6]
[{"$f":"IF(DataInput!A439<>\"\",DataInput!A439,\"\")","v":90600},{"$f":"SUM(DataInput!C439,DataInput!Y439)+(DataInput!U439-DataInput!E439)","v":154},{"$f":"SUM(DataInput!D439,DataInput!Z439)","v":18},{"$f":"DataInput!U439","v":136},{"$f":"SUM(DataInput!F439,DataInput!AB439)","v":0},{"$f":"SUM(DataInput!G439,DataInput!AC439)","v":0},{"$f":"SUM(DataInput!H439,DataInput!AD439)","v":0},{"$f":"DataInput!I439","v":45},{"$f":"SUM(DataInput!J439,DataInput!AF439)","v":0},{"$f":"SUM(DataInput!K439,DataInput!AG439)","v":0},{"$f":"SUM(DataInput!L439,DataInput!AH439)","v":0},{"$f":"SUM(DataInput!M439,DataInput!AI439)","v":0},{"$f":"SUM(DataInput!N439,DataInput!AJ439)","v":0},{"$f":"SUM(DataInput!O439,DataInput!AK439)","v":0},{"$f":"DataInput!P439","v":0},null,18,{"$f":"DataInput!R439","v":325},{"$f":"DataInput!Y439","v":0},{"$f":"IF(DataInput!U439-DataInput!E439>0,DataInput!U439-DataInput!E439,\"\")","v":110},{"$f":"IF(DataInput!W439-DataInput!I439>0,DataInput!W439-DataInput!I439,\"\")","v":10},null,445,578.5,-560.5,450,3350,{"$f":"ROUNDDOWN((IF(AA440>0,IFERROR(IF(AVERAGE(DataInput!Q439:Q440)>AVERAGE(AA440,AA439),ROUNDDOWN(((((AA439-Z439)+(AA440-Z440))/2)*(A440-A439))/27,0),IF(((((DataInput!Q440-Z440)+(DataInput!Q439-Z439))/2)*(A440-A439))/27+S439+T439>0,ROUNDDOWN(((((DataInput!Q440-Z440)+(DataInput!Q439-Z439))/2)*(A440-A439))/27+S439+T439,0),0)),0),0)*$X$5),1)","v":22.1},176,{"$f":"ROUNDDOWN((IF(AC440>0,IFERROR(IF(((((DataInput!Q439-AC439)+(DataInput!Q440-AC440))/2)*(A440-A439))/27+S439+T439>0,ROUNDDOWN(((((DataInput!Q439-AC439)+(DataInput!Q440-AC440))/2)*(A440-A439))/27+S439+T439,0),0),0),0)*$X$5),1)","v":352.3},{"$f":"DataInput!U439","v":136},{"$f":"DataInput!S439","v":69},96.6,39.4]
[{"$f":"IF(DataInput!A440<>\"\",DataInput!A440,\"\")","v":90625},{"$f":"SUM(DataInput!C440,DataInput!Y440)+(DataInput!U440-DataInput!E440)","v":142},{"$f":"SUM(DataInput!D440,DataInput!Z440)","v":19},{"$f":"DataInput!U440","v":123},{"$f":"SUM(DataInput!F440,DataInput!AB440)","v":0},{"$f":"SUM(DataInput!G440,DataInput!AC440)","v":0},{"$f":"SUM(DataInput!H440,DataInput!AD440)","v":0},{"$f":"DataInput!I440","v":47},{"$f":"SUM(DataInput!J440,DataInput!AF440)","v":0},{"$f":"SUM(DataInput!K440,DataInput!AG440)","v":0},{"$f":"SUM(DataInput!L440,DataInput!AH440)","v":0},{"$f":"SUM(DataInput!M440,DataInput!AI440)","v":0},{"$f":"SUM(DataInput!N440,DataInput!AJ440)","v":0},{"$f":"SUM(DataInput!O440,DataInput!AK440)","v":0},{"$f":"DataInput!P440","v":0},null,19,{"$f":"DataInput!R440","v":301},{"$f":"DataInput!Y440","v":0},{"$f":"IF(DataInput!U440-DataInput!E440>0,DataInput!U440-DataInput!E440,\"\")","v":97},{"$f":"IF(DataInput!W440-DataInput!I440>0,DataInput!W440-DataInput!I440,\"\")","v":8},null,406,527.79999999999995,-508.8,450,3350,{"$f":"ROUNDDOWN((IF(AA441>0,IFERROR(IF(AVERAGE(DataInput!Q440:Q441)>AVERAGE(AA441,AA440),ROUNDDOWN(((((AA440-Z440)+(AA441-Z441))/2)*(A441-A440))/27,0),IF(((((DataInput!Q441-Z441)+(DataInput!Q440-Z440))/2)*(A441-A440))/27+S440+T440>0,ROUNDDOWN(((((DataInput!Q441-Z441)+(DataInput!Q440-Z440))/2)*(A441-A440))/27+S440+T440,0),0)),0),0)*$X$5),1)","v":0},176,{"$f":"ROUNDDOWN((IF(AC441>0,IFERROR(IF(((((DataInput!Q440-AC440)+(DataInput!Q441-AC441))/2)*(A441-A440))/27+S440+T440>0,ROUNDDOWN(((((DataInput!Q440-AC440)+(DataInput!Q441-AC441))/2)*(A441-A440))/27+S440+T440,0),0),0),0)*$X$5),1)","v":304.2},{"$f":"DataInput!U440","v":123},{"$f":"DataInput!S440","v":61},85.4,37.6]
[{"$f":"IF(DataInput!A441<>\"\",DataInput!A441,\"\")","v":90650},{"$f":"SUM(DataInput!C441,DataInput!Y441)+(DataInput!U441-DataInput!E441)","v":144},{"$f":"SUM(DataInput!D441,DataInput!Z441)","v":29},{"$f":"DataInput!U441","v":115},{"$f":"SUM(DataInput!F441,DataInput!AB441)","v":0},{"$f":"SUM(DataInput!G441,DataInput!AC441)","v":0},{"$f":"SUM(DataInput!H441,DataInput!AD441)","v":0},{"$f":"DataInput!I441","v":50},{"$f":"SUM(DataInput!J441,DataInput!AF441)","v":0},{"$f":"SUM(DataInput!K441,DataInput!AG441)","v":0},{"$f":"SUM(DataInput!L441,DataInput!AH441)","v":0},{"$f":"SUM(DataInput!M441,DataInput!AI441)","v":0},{"$f":"SUM(DataInput!N441,DataInput!AJ441)","v":0},{"$f":"SUM(DataInput!O441,DataInput!AK441)","v":0},{"$f":"DataInput!P441","v":0},null,29,{"$f":"DataInput!R441","v":294},{"$f":"DataInput!Y441","v":0},{"$f":"IF(DataInput!U441-DataInput!E441>0,DataInput!U441-DataInput!E441,\"\")","v":94},{"$f":"IF(DataInput!W441-DataInput!I441>0,DataInput!W441-DataInput!I441,\"\")","v":4},null,392,509.6,-480.6,450,3350,{"$f":"ROUNDDOWN((IF(AA442>0,IFERROR(IF(AVERAGE(DataInput!Q441:Q442)>AVERAGE(AA442,AA441),ROUNDDOWN(((((AA441-Z441)+(AA442-Z442))/2)*(A442-A441))/27,0),IF(((((DataInput!Q442-Z442)+(DataInput!Q441-Z441))/2)*(A442-A441))/27+S441+T441>0,ROUNDDOWN(((((DataInput!Q442-Z442)+(DataInput!Q441-Z441))/2)*(A442-A441))/27+S441+T441,0),0)),0),0)*$X$5),1)","v":0},176,{"$f":"ROUNDDOWN((IF(AC442>0,IFERROR(IF(((((DataInput!Q441-AC441)+(DataInput!Q442-AC442))/2)*(A442-A441))/27+S441+T441>0,ROUNDDOWN(((((DataInput!Q441-AC441)+(DataInput!Q442-AC442))/2)*(A442-A441))/27+S441+T441,0),0),0),0)*$X$5),1)","v":292.5},{"$f":"DataInput!U441","v":115},{"$f":"DataInput!S441","v":61},85.4,29.6]
[{"$f":"IF(DataInput!A442<>\"\",DataInput!A442,\"\")","v":90675},{"$f":"SUM(DataInput!C442,DataInput!Y442)+(DataInput!U442-DataInput!E442)","v":148},{"$f":"SUM(DataInput!D442,DataInput!Z442)","v":32},{"$f":"DataInput!U442","v":116},{"$f":"SUM(DataInput!F442,DataInput!AB442)","v":0},{"$f":"SUM(DataInput!G442,DataInput!AC442)","v":0},{"$f":"SUM(DataInput!H442,DataInput!AD442)","v":0},{"$f":"DataInput!I442","v":53},{"$f":"SUM(DataInput!J442,DataInput!AF442)","v":0},{"$f":"SUM(DataInput!K442,DataInput!AG442)","v":0},{"$f":"SUM(DataInput!L442,DataInput!AH442)","v":0},{"$f":"SUM(DataInput!M442,DataInput!AI442)","v":0},{"$f":"SUM(DataInput!N442,DataInput!AJ442)","v":0},{"$f":"SUM(DataInput!O442,DataInput!AK442)","v":0},{"$f":"DataInput!P442","v":0},null,32,{"$f":"DataInput!R442","v":305},{"$f":"DataInput!Y442","v":0},{"$f":"IF(DataInput!U442-DataInput!E442>0,DataInput!U442-DataInput!E442,\"\")","v":95},{"$f":"IF(DataInput!W442-DataInput!I442>0,DataInput!W442-DataInput!I442,\"\")","v":1},null,401,521.29999999999995,-489.3,450,3350,{"$f":"ROUNDDOWN((IF(AA443>0,IFERROR(IF(AVERAGE(DataInput!Q442:Q443)>AVERAGE(AA443,AA442),ROUNDDOWN(((((AA442-Z442)+(AA443-Z443))/2)*(A443-A442))/27,0),IF(((((DataInput!Q443-Z443)+(DataInput!Q442-Z442))/2)*(A443-A442))/27+S442+T442>0,ROUNDDOWN(((((DataInput!Q443-Z443)+(DataInput!Q442-Z442))/2)*(A443-A442))/27+S442+T442,0),0)),0),0)*$X$5),1)","v":0},176,{"$f":"ROUNDDOWN((IF(AC443>0,IFERROR(IF(((((DataInput!Q442-AC442)+(DataInput!Q443-AC443))/2)*(A443-A442))/27+S442+T442>0,ROUNDDOWN(((((DataInput!Q442-AC442)+(DataInput!Q443-AC443))/2)*(A443-A442))/27+S442+T442,0),0),0),0)*$X$5),1)","v":308.10000000000002},{"$f":"DataInput!U442","v":116},{"$f":"DataInput!S442","v":61},85.4,30.6]
[{"$f":"IF(DataInput!A443<>\"\",DataInput!A443,\"\")","v":90700},{"$f":"SUM(DataInput!C443,DataInput!Y443)+(DataInput!U443-DataInput!E443)","v":157},{"$f":"SUM(DataInput!D443,DataInput!Z443)","v":28},{"$f":"DataInput!U443","v":129},{"$f":"SUM(DataInput!F443,DataInput!AB443)","v":0},{"$f":"SUM(DataInput!G443,DataInput!AC443)","v":0},{"$f":"SUM(DataInput!H443,DataInput!AD443)","v":0},{"$f":"DataInput!I443","v":54},{"$f":"SUM(DataInput!J443,DataInput!AF443)","v":0},{"$f":"SUM(DataInput!K443,DataInput!AG443)","v":0},{"$f":"SUM(DataInput!L443,DataInput!AH443)","v":0},{"$f":"SUM(DataInput!M443,DataInput!AI443)","v":0},{"$f":"SUM(DataInput!N443,DataInput!AJ443)","v":0},{"$f":"SUM(DataInput!O443,DataInput!AK443)","v":0},{"$f":"DataInput!P443","v":0},null,28,{"$f":"DataInput!R443","v":312},{"$f":"DataInput!Y443","v":0},{"$f":"IF(DataInput!U443-DataInput!E443>0,DataInput!U443-DataInput!E443,\"\")","v":96},{"$f":"IF(DataInput!W443-DataInput!I443>0,DataInput!W443-DataInput!I443,\"\")","v":""},null,408,530.4,-502.4,450,3350,{"$f":"ROUNDDOWN((IF(AA444>0,IFERROR(IF(AVERAGE(DataInput!Q443:Q444)>AVERAGE(AA444,AA443),ROUNDDOWN(((((AA443-Z443)+(AA444-Z444))/2)*(A444-A443))/27,0),IF(((((DataInput!Q444-Z444)+(DataInput!Q443-Z443))/2)*(A444-A443))/27+S443+T443>0,ROUNDDOWN(((((DataInput!Q444-Z444)+(DataInput!Q443-Z443))/2)*(A444-A443))/27+S443+T443,0),0)),0),0)*$X$5),1)","v":0},176,{"$f":"ROUNDDOWN((IF(AC444>0,IFERROR(IF(((((DataInput!Q443-AC443)+(DataInput!Q444-AC444))/2)*(A444-A443))/27+S443+T443>0,ROUNDDOWN(((((DataInput!Q443-AC443)+(DataInput!Q444-AC444))/2)*(A444-A443))/27+S443+T443,0),0),0),0)*$X$5),1)","v":318.5},{"$f":"DataInput!U443","v":129},{"$f":"DataInput!S443","v":65},91,38]
[{"$f":"IF(DataInput!A444<>\"\",DataInput!A444,\"\")","v":90725},{"$f":"SUM(DataInput!C444,DataInput!Y444)+(DataInput!U444-DataInput!E444)","v":168},{"$f":"SUM(DataInput!D444,DataInput!Z444)","v":33},{"$f":"DataInput!U444","v":135},{"$f":"SUM(DataInput!F444,DataInput!AB444)","v":0},{"$f":"SUM(DataInput!G444,DataInput!AC444)","v":0},{"$f":"SUM(DataInput!H444,DataInput!AD444)","v":0},{"$f":"DataInput!I444","v":54},{"$f":"SUM(DataInput!J444,DataInput!AF444)","v":0},{"$f":"SUM(DataInput!K444,DataInput!AG444)","v":0},{"$f":"SUM(DataInput!L444,DataInput!AH444)","v":0},{"$f":"SUM(DataInput!M444,DataInput!AI444)","v":0},{"$f":"SUM(DataInput!N444,DataInput!AJ444)","v":0},{"$f":"SUM(DataInput!O444,DataInput!AK444)","v":0},{"$f":"DataInput!P444","v":0},null,33,{"$f":"DataInput!R444","v":308},{"$f":"DataInput!Y444","v":0},{"$f":"IF(DataInput!U444-DataInput!E444>0,DataInput!U444-DataInput!E444,\"\")","v":97},{"$f":"IF(DataInput!W444-DataInput!I444>0,DataInput!W444-DataInput!I444,\"\")","v":""},null,405,526.5,-493.5,450,3350,{"$f":"ROUNDDOWN((IF(AA445>0,IFERROR(IF(AVERAGE(DataInput!Q444:Q445)>AVERAGE(AA445,AA444),ROUNDDOWN(((((AA444-Z444)+(AA445-Z445))/2)*(A445-A444))/27,0),IF(((((DataInput!Q445-Z445)+(DataInput!Q444-Z444))/2)*(A445-A444))/27+S444+T444>0,ROUNDDOWN(((((DataInput!Q445-Z445)+(DataInput!Q444-Z444))/2)*(A445-A444))/27+S444+T444,0),0)),0),0)*$X$5),1)","v":0},176,{"$f":"ROUNDDOWN((IF(AC445>0,IFERROR(IF(((((DataInput!Q444-AC444)+(DataInput!Q445-AC445))/2)*(A445-A444))/27+S444+T444>0,ROUNDDOWN(((((DataInput!Q444-AC444)+(DataInput!Q445-AC445))/2)*(A445-A444))/27+S444+T444,0),0),0),0)*$X$5),1)","v":314.60000000000002},{"$f":"DataInput!U444","v":135},{"$f":"DataInput!S444","v":69},96.6,38.4]
[{"$f":"IF(DataInput!A445<>\"\",DataInput!A445,\"\")","v":90750},{"$f":"SUM(DataInput!C445,DataInput!Y445)+(DataInput!U445-DataInput!E445)","v":173},{"$f":"SUM(DataInput!D445,DataInput!Z445)","v":37},{"$f":"DataInput!U445","v":136},{"$f":"SUM(DataInput!F445,DataInput!AB445)","v":0},{"$f":"SUM(DataInput!G445,DataInput!AC445)","v":0},{"$f":"SUM(DataInput!H445,DataInput!AD445)","v":0},{"$f":"DataInput!I445","v":54},{"$f":"SUM(DataInput!J445,DataInput!AF445)","v":0},{"$f":"SUM(DataInput!K445,DataInput!AG445)","v":0},{"$f":"SUM(DataInput!L445,DataInput!AH445)","v":0},{"$f":"SUM(DataInput!M445,DataInput!AI445)","v":0},{"$f":"SUM(DataInput!N445,DataInput!AJ445)","v":0},{"$f":"SUM(DataInput!O445,DataInput!AK445)","v":0},{"$f":"DataInput!P445","v":0},null,37,{"$f":"DataInput!R445","v":311},{"$f":"DataInput!Y445","v":0},{"$f":"IF(DataInput!U445-DataInput!E445>0,DataInput!U445-DataInput!E445,\"\")","v":98},{"$f":"IF(DataInput!W445-DataInput!I445>0,DataInput!W445-DataInput!I445,\"\")","v":""},null,409,531.70000000000005,-494.7,450,3350,{"$f":"ROUNDDOWN((IF(AA446>0,IFERROR(IF(AVERAGE(DataInput!Q445:Q446)>AVERAGE(AA446,AA445),ROUNDDOWN(((((AA445-Z445)+(AA446-Z446))/2)*(A446-A445))/27,0),IF(((((DataInput!Q446-Z446)+(DataInput!Q445-Z445))/2)*(A446-A445))/27+S445+T445>0,ROUNDDOWN(((((DataInput!Q446-Z446)+(DataInput!Q445-Z445))/2)*(A446-A445))/27+S445+T445,0),0)),0),0)*$X$5),1)","v":0},176,{"$f":"ROUNDDOWN((IF(AC446>0,IFERROR(IF(((((DataInput!Q445-AC445)+(DataInput!Q446-AC446))/2)*(A446-A445))/27+S445+T445>0,ROUNDDOWN(((((DataInput!Q445-AC445)+(DataInput!Q446-AC446))/2)*(A446-A445))/27+S445+T445,0),0),0),0)*$X$5),1)","v":319.8},{"$f":"DataInput!U445","v":136},{"$f":"DataInput!S445","v":69},96.6,39.4]
[{"$f":"IF(DataInput!A446<>\"\",DataInput!A446,\"\")","v":90775},{"$f":"SUM(DataInput!C446,DataInput!Y446)+(DataInput!U446-DataInput!E446)","v":179},{"$f":"SUM(DataInput!D446,DataInput!Z446)","v":42},{"$f":"DataInput!U446","v":137},{"$f":"SUM(DataInput!F446,DataInput!AB446)","v":0},{"$f":"SUM(DataInput!G446,DataInput!AC446)","v":0},{"$f":"SUM(DataInput!H446,DataInput!AD446)","v":0},{"$f":"DataInput!I446","v":54},{"$f":"SUM(DataInput!J446,DataInput!AF446)","v":0},{"$f":"SUM(DataInput!K446,DataInput!AG446)","v":0},{"$f":"SUM(DataInput!L446,DataInput!AH446)","v":0},{"$f":"SUM(DataInput!M446,DataInput!AI446)","v":0},{"$f":"SUM(DataInput!N446,DataInput!AJ446)","v":0},{"$f":"SUM(DataInput!O446,DataInput!AK446)","v":0},{"$f":"DataInput!P446","v":0},null,42,{"$f":"DataInput!R446","v":318},{"$f":"DataInput!Y446","v":0},{"$f":"IF(DataInput!U446-DataInput!E446>0,DataInput!U446-DataInput!E446,\"\")","v":98},{"$f":"IF(DataInput!W446-DataInput!I446>0,DataInput!W446-DataInput!I446,\"\")","v":""},null,416,540.79999999999995,-498.8,450,3350,{"$f":"ROUNDDOWN((IF(AA447>0,IFERROR(IF(AVERAGE(DataInput!Q446:Q447)>AVERAGE(AA447,AA446),ROUNDDOWN(((((AA446-Z446)+(AA447-Z447))/2)*(A447-A446))/27,0),IF(((((DataInput!Q447-Z447)+(DataInput!Q446-Z446))/2)*(A447-A446))/27+S446+T446>0,ROUNDDOWN(((((DataInput!Q447-Z447)+(DataInput!Q446-Z446))/2)*(A447-A446))/27+S446+T446,0),0)),0),0)*$X$5),1)","v":0},176,{"$f":"ROUNDDOWN((IF(AC447>0,IFERROR(IF(((((DataInput!Q446-AC446)+(DataInput!Q447-AC447))/2)*(A447-A446))/27+S446+T446>0,ROUNDDOWN(((((DataInput!Q446-AC446)+(DataInput!Q447-AC447))/2)*(A447-A446))/27+S446+T446,0),0),0),0)*$X$5),1)","v":328.9},{"$f":"DataInput!U446","v":137},{"$f":"DataInput!S446","v":70},98,39]
[{"$f":"IF(DataInput!A447<>\"\",DataInput!A447,\"\")","v":90800},{"$f":"SUM(DataInput!C447,DataInput!Y447)+(DataInput!U447-DataInput!E447)","v":188},{"$f":"SUM(DataInput!D447,DataInput!Z447)","v":50},{"$f":"DataInput!U447","v":138},{"$f":"SUM(DataInput!F447,DataInput!AB447)","v":0},{"$f":"SUM(DataInput!G447,DataInput!AC447)","v":0},{"$f":"SUM(DataInput!H447,DataInput!AD447)","v":0},{"$f":"DataInput!I447","v":54},{"$f":"SUM(DataInput!J447,DataInput!AF447)","v":0},{"$f":"SUM(DataInput!K447,DataInput!AG447)","v":0},{"$f":"SUM(DataInput!L447,DataInput!AH447)","v":0},{"$f":"SUM(DataInput!M447,DataInput!AI447)","v":0},{"$f":"SUM(DataInput!N447,DataInput!AJ447)","v":0},{"$f":"SUM(DataInput!O447,DataInput!AK447)","v":0},{"$f":"DataInput!P447","v":0},null,{"$f":"SUM(C447,E447:G447,I447:L447,O447:P447)","v":50},{"$f":"DataInput!R447","v":307},{"$f":"DataInput!Y447","v":0},{"$f":"IF(DataInput!U447-DataInput!E447>0,DataInput!U447-DataInput!E447,\"\")","v":97},{"$f":"IF(DataInput!W447-DataInput!I447>0,DataInput!W447-DataInput!I447,\"\")","v":""},null,{"$f":"SUM(R447:V447)","v":404},{"$f":"ROUNDUP(($W447*$X$5),1)","v":525.20000000000005},{"$f":"ROUNDUP(SUM(Q447-X447),1)","v":-475.2},450,3350,{"$f":"ROUNDDOWN((IF(AA448>0,IFERROR(IF(AVERAGE(DataInput!Q447:Q448)>AVERAGE(AA448,AA447),ROUNDDOWN(((((AA447-Z447)+(AA448-Z448))/2)*(A448-A447))/27,0),IF(((((DataInput!Q448-Z448)+(DataInput!Q447-Z447))/2)*(A448-A447))/27+S447+T447>0,ROUNDDOWN(((((DataInput!Q448-Z448)+(DataInput!Q447-Z447))/2)*(A448-A447))/27+S447+T447,0),0)),0),0)*$X$5),1)","v":0},176,{"$f":"ROUNDDOWN((IF(AC448>0,IFERROR(IF(((((DataInput!Q447-AC447)+(DataInput!Q448-AC448))/2)*(A448-A447))/27+S447+T447>0,ROUNDDOWN(((((DataInput!Q447-AC447)+(DataInput!Q448-AC448))/2)*(A448-A447))/27+S447+T447,0),0),0),0)*$X$5),1)","v":313.3},{"$f":"DataInput!U447","v":138},{"$f":"DataInput!S447","v":70},{"$f":"ROUNDUP((AF447*$AG$5),1)","v":98},{"$f":"ROUNDUP((AE447-AG447),1)","v":40}]
[{"$f":"IF(DataInput!A448<>\"\",DataInput!A448,\"\")","v":90825},{"$f":"SUM(DataInput!C448,DataInput!Y448)+(DataInput!U448-DataInput!E448)","v":196},{"$f":"SUM(DataInput!D448,DataInput!Z448)","v":57},{"$f":"DataInput!U448","v":139},{"$f":"SUM(DataInput!F448,DataInput!AB448)","v":0},{"$f":"SUM(DataInput!G448,DataInput!AC448)","v":0},{"$f":"SUM(DataInput!H448,DataInput!AD448)","v":0},{"$f":"DataInput!I448","v":54},{"$f":"SUM(DataInput!J448,DataInput!AF448)","v":0},{"$f":"SUM(DataInput!K448,DataInput!AG448)","v":0},{"$f":"SUM(DataInput!L448,DataInput!AH448)","v":0},{"$f":"SUM(DataInput!M448,DataInput!AI448)","v":0},{"$f":"SUM(DataInput!N448,DataInput!AJ448)","v":0},{"$f":"SUM(DataInput!O448,DataInput!AK448)","v":0},{"$f":"DataInput!P448","v":0},null,57,{"$f":"DataInput!R448","v":297},{"$f":"DataInput!Y448","v":0},{"$f":"IF(DataInput!U448-DataInput!E448>0,DataInput!U448-DataInput!E448,\"\")","v":96},{"$f":"IF(DataInput!W448-DataInput!I448>0,DataInput!W448-DataInput!I448,\"\")","v":""},null,393,510.9,-453.9,{"$f":"Z447","v":450},{"$f":"AA447","v":3350},{"$f":"ROUNDDOWN((IF(AA449>0,IFERROR(IF(AVERAGE(DataInput!Q448:Q449)>AVERAGE(AA449,AA448),ROUNDDOWN(((((AA448-Z448)+(AA449-Z449))/2)*(A449-A448))/27,0),IF(((((DataInput!Q449-Z449)+(DataInput!Q448-Z448))/2)*(A449-A448))/27+S448+T448>0,ROUNDDOWN(((((DataInput!Q449-Z449)+(DataInput!Q448-Z448))/2)*(A449-A448))/27+S448+T448,0),0)),0),0)*$X$5),1)","v":0},{"$f":"AC447","v":176},{"$f":"ROUNDDOWN((IF(AC449>0,IFERROR(IF(((((DataInput!Q448-AC448)+(DataInput!Q449-AC449))/2)*(A449-A448))/27+S448+T448>0,ROUNDDOWN(((((DataInput!Q448-AC448)+(DataInput!Q449-AC449))/2)*(A449-A448))/27+S448+T448,0),0),0),0)*$X$5),1)","v":299},{"$f":"DataInput!U448","v":139},{"$f":"DataInput!S448","v":71},99.4,39.6]
[{"$f":"IF(DataInput!A449<>\"\",DataInput!A449,\"\")","v":90850},{"$f":"SUM(DataInput!C449,DataInput!Y449)+(DataInput!U449-DataInput!E449)","v":202},{"$f":"SUM(DataInput!D449,DataInput!Z449)","v":63},{"$f":"DataInput!U449","v":139},{"$f":"SUM(DataInput!F449,DataInput!AB449)","v":0},{"$f":"SUM(DataInput!G449,DataInput!AC449)","v":0},{"$f":"SUM(DataInput!H449,DataInput!AD449)","v":0},{"$f":"DataInput!I449","v":54},{"$f":"SUM(DataInput!J449,DataInput!AF449)","v":0},{"$f":"SUM(DataInput!K449,DataInput!AG449)","v":0},{"$f":"SUM(DataInput!L449,DataInput!AH449)","v":0},{"$f":"SUM(DataInput!M449,DataInput!AI449)","v":0},{"$f":"SUM(DataInput!N449,DataInput!AJ449)","v":0},{"$f":"SUM(DataInput!O449,DataInput!AK449)","v":0},{"$f":"DataInput!P449","v":0},null,63,{"$f":"DataInput!R449","v":293},{"$f":"DataInput!Y449","v":0},{"$f":"IF(DataInput!U449-DataInput!E449>0,DataInput!U449-DataInput!E449,\"\")","v":95},{"$f":"IF(DataInput!W449-DataInput!I449>0,DataInput!W449-DataInput!I449,\"\")","v":""},null,388,504.4,-441.4,450,3350,{"$f":"ROUNDDOWN((IF(AA450>0,IFERROR(IF(AVERAGE(DataInput!Q449:Q450)>AVERAGE(AA450,AA449),ROUNDDOWN(((((AA449-Z449)+(AA450-Z450))/2)*(A450-A449))/27,0),IF(((((DataInput!Q450-Z450)+(DataInput!Q449-Z449))/2)*(A450-A449))/27+S449+T449>0,ROUNDDOWN(((((DataInput!Q450-Z450)+(DataInput!Q449-Z449))/2)*(A450-A449))/27+S449+T449,0),0)),0),0)*$X$5),1)","v":0},176,{"$f":"ROUNDDOWN((IF(AC450>0,IFERROR(IF(((((DataInput!Q449-AC449)+(DataInput!Q450-AC450))/2)*(A450-A449))/27+S449+T449>0,ROUNDDOWN(((((DataInput!Q449-AC449)+(DataInput!Q450-AC450))/2)*(A450-A449))/27+S449+T449,0),0),0),0)*$X$5),1)","v":292.5},{"$f":"DataInput!U449","v":139},{"$f":"DataInput!S449","v":72},100.8,38.200000000000003]
[{"$f":"IF(DataInput!A450<>\"\",DataInput!A450,\"\")","v":90875},{"$f":"SUM(DataInput!C450,DataInput!Y450)+(DataInput!U450-DataInput!E450)","v":208},{"$f":"SUM(DataInput!D450,DataInput!Z450)","v":67},{"$f":"DataInput!U450","v":140},{"$f":"SUM(DataInput!F450,DataInput!AB450)","v":0},{"$f":"SUM(DataInput!G450,DataInput!AC450)","v":0},{"$f":"SUM(DataInput!H450,DataInput!AD450)","v":0},{"$f":"DataInput!I450","v":54},{"$f":"SUM(DataInput!J450,DataInput!AF450)","v":0},{"$f":"SUM(DataInput!K450,DataInput!AG450)","v":0},{"$f":"SUM(DataInput!L450,DataInput!AH450)","v":0},{"$f":"SUM(DataInput!M450,DataInput!AI450)","v":0},{"$f":"SUM(DataInput!N450,DataInput!AJ450)","v":0},{"$f":"SUM(DataInput!O450,DataInput!AK450)","v":0},{"$f":"DataInput!P450","v":0},null,67,{"$f":"DataInput!R450","v":287},{"$f":"DataInput!Y450","v":0},{"$f":"IF(DataInput!U450-DataInput!E450>0,DataInput!U450-DataInput!E450,\"\")","v":95},{"$f":"IF(DataInput!W450-DataInput!I450>0,DataInput!W450-DataInput!I450,\"\")","v":""},null,382,496.6,-429.6,450,3350,{"$f":"ROUNDDOWN((IF(AA451>0,IFERROR(IF(AVERAGE(DataInput!Q450:Q451)>AVERAGE(AA451,AA450),ROUNDDOWN(((((AA450-Z450)+(AA451-Z451))/2)*(A451-A450))/27,0),IF(((((DataInput!Q451-Z451)+(DataInput!Q450-Z450))/2)*(A451-A450))/27+S450+T450>0,ROUNDDOWN(((((DataInput!Q451-Z451)+(DataInput!Q450-Z450))/2)*(A451-A450))/27+S450+T450,0),0)),0),0)*$X$5),1)","v":0},176,{"$f":"ROUNDDOWN((IF(AC451>0,IFERROR(IF(((((DataInput!Q450-AC450)+(DataInput!Q451-AC451))/2)*(A451-A450))/27+S450+T450>0,ROUNDDOWN(((((DataInput!Q450-AC450)+(DataInput!Q451-AC451))/2)*(A451-A450))/27+S450+T450,0),0),0),0)*$X$5),1)","v":283.39999999999998},{"$f":"DataInput!U450","v":140},{"$f":"DataInput!S450","v":72},100.8,39.200000000000003]
[{"$f":"IF(DataInput!A451<>\"\",DataInput!A451,\"\")","v":90900},{"$f":"SUM(DataInput!C451,DataInput!Y451)+(DataInput!U451-DataInput!E451)","v":214},{"$f":"SUM(DataInput!D451,DataInput!Z451)","v":74},{"$f":"DataInput!U451","v":140},{"$f":"SUM(DataInput!F451,DataInput!AB451)","v":0},{"$f":"SUM(DataInput!G451,DataInput!AC451)","v":0},{"$f":"SUM(DataInput!H451,DataInput!AD451)","v":0},{"$f":"DataInput!I451","v":54},{"$f":"SUM(DataInput!J451,DataInput!AF451)","v":0},{"$f":"SUM(DataInput!K451,DataInput!AG451)","v":0},{"$f":"SUM(DataInput!L451,DataInput!AH451)","v":0},{"$f":"SUM(DataInput!M451,DataInput!AI451)","v":0},{"$f":"SUM(DataInput!N451,DataInput!AJ451)","v":0},{"$f":"SUM(DataInput!O451,DataInput!AK451)","v":0},{"$f":"DataInput!P451","v":0},null,74,{"$f":"DataInput!R451","v":277},{"$f":"DataInput!Y451","v":0},{"$f":"IF(DataInput!U451-DataInput!E451>0,DataInput!U451-DataInput!E451,\"\")","v":94},{"$f":"IF(DataInput!W451-DataInput!I451>0,DataInput!W451-DataInput!I451,\"\")","v":""},null,371,482.3,-408.3,450,3350,{"$f":"ROUNDDOWN((IF(AA452>0,IFERROR(IF(AVERAGE(DataInput!Q451:Q452)>AVERAGE(AA452,AA451),ROUNDDOWN(((((AA451-Z451)+(AA452-Z452))/2)*(A452-A451))/27,0),IF(((((DataInput!Q452-Z452)+(DataInput!Q451-Z451))/2)*(A452-A451))/27+S451+T451>0,ROUNDDOWN(((((DataInput!Q452-Z452)+(DataInput!Q451-Z451))/2)*(A452-A451))/27+S451+T451,0),0)),0),0)*$X$5),1)","v":0},176,{"$f":"ROUNDDOWN((IF(AC452>0,IFERROR(IF(((((DataInput!Q451-AC451)+(DataInput!Q452-AC452))/2)*(A452-A451))/27+S451+T451>0,ROUNDDOWN(((((DataInput!Q451-AC451)+(DataInput!Q452-AC452))/2)*(A452-A451))/27+S451+T451,0),0),0),0)*$X$5),1)","v":269.10000000000002},{"$f":"DataInput!U451","v":140},{"$f":"DataInput!S451","v":72},100.8,39.200000000000003]
[{"$f":"IF(DataInput!A452<>\"\",DataInput!A452,\"\")","v":90925},{"$f":"SUM(DataInput!C452,DataInput!Y452)+(DataInput!U452-DataInput!E452)","v":223},{"$f":"SUM(DataInput!D452,DataInput!Z452)","v":83},{"$f":"DataInput!U452","v":140},{"$f":"SUM(DataInput!F452,DataInput!AB452)","v":0},{"$f":"SUM(DataInput!G452,DataInput!AC452)","v":0},{"$f":"SUM(DataInput!H452,DataInput!AD452)","v":0},{"$f":"DataInput!I452","v":54},{"$f":"SUM(DataInput!J452,DataInput!AF452)","v":0},{"$f":"SUM(DataInput!K452,DataInput!AG452)","v":0},{"$f":"SUM(DataInput!L452,DataInput!AH452)","v":0},{"$f":"SUM(DataInput!M452,DataInput!AI452)","v":0},{"$f":"SUM(DataInput!N452,DataInput!AJ452)","v":0},{"$f":"SUM(DataInput!O452,DataInput!AK452)","v":0},{"$f":"DataInput!P452","v":0},null,83,{"$f":"DataInput!R452","v":272},{"$f":"DataInput!Y452","v":0},{"$f":"IF(DataInput!U452-DataInput!E452>0,DataInput!U452-DataInput!E452,\"\")","v":94},{"$f":"IF(DataInput!W452-DataInput!I452>0,DataInput!W452-DataInput!I452,\"\")","v":""},null,366,475.8,-392.8,450,3350,{"$f":"ROUNDDOWN((IF(AA453>0,IFERROR(IF(AVERAGE(DataInput!Q452:Q453)>AVERAGE(AA453,AA452),ROUNDDOWN(((((AA452-Z452)+(AA453-Z453))/2)*(A453-A452))/27,0),IF(((((DataInput!Q453-Z453)+(DataInput!Q452-Z452))/2)*(A453-A452))/27+S452+T452>0,ROUNDDOWN(((((DataInput!Q453-Z453)+(DataInput!Q452-Z452))/2)*(A453-A452))/27+S452+T452,0),0)),0),0)*$X$5),1)","v":0},176,{"$f":"ROUNDDOWN((IF(AC453>0,IFERROR(IF(((((DataInput!Q452-AC452)+(DataInput!Q453-AC453))/2)*(A453-A452))/27+S452+T452>0,ROUNDDOWN(((((DataInput!Q452-AC452)+(DataInput!Q453-AC453))/2)*(A453-A452))/27+S452+T452,0),0),0),0)*$X$5),1)","v":262.60000000000002},{"$f":"DataInput!U452","v":140},{"$f":"DataInput!S452","v":72},100.8,39.200000000000003]
[{"$f":"IF(DataInput!A453<>\"\",DataInput!A453,\"\")","v":90950},{"$f":"SUM(DataInput!C453,DataInput!Y453)+(DataInput!U453-DataInput!E453)","v":228},{"$f":"SUM(DataInput!D453,DataInput!Z453)","v":88},{"$f":"DataInput!U453","v":140},{"$f":"SUM(DataInput!F453,DataInput!AB453)","v":0},{"$f":"SUM(DataInput!G453,DataInput!AC453)","v":0},{"$f":"SUM(DataInput!H453,DataInput!AD453)","v":0},{"$f":"DataInput!I453","v":54},{"$f":"SUM(DataInput!J453,DataInput!AF453)","v":0},{"$f":"SUM(DataInput!K453,DataInput!AG453)","v":0},{"$f":"SUM(DataInput!L453,DataInput!AH453)","v":0},{"$f":"SUM(DataInput!M453,DataInput!AI453)","v":0},{"$f":"SUM(DataInput!N453,DataInput!AJ453)","v":0},{"$f":"SUM(DataInput!O453,DataInput!AK453)","v":0},{"$f":"DataInput!P453","v":0},null,88,{"$f":"DataInput!R453","v":277},{"$f":"DataInput!Y453","v":0},{"$f":"IF(DataInput!U453-DataInput!E453>0,DataInput!U453-DataInput!E453,\"\")","v":93},{"$f":"IF(DataInput!W453-DataInput!I453>0,DataInput!W453-DataInput!I453,\"\")","v":""},null,370,481,-393,450,3350,{"$f":"ROUNDDOWN((IF(AA454>0,IFERROR(IF(AVERAGE(DataInput!Q453:Q454)>AVERAGE(AA454,AA453),ROUNDDOWN(((((AA453-Z453)+(AA454-Z454))/2)*(A454-A453))/27,0),IF(((((DataInput!Q454-Z454)+(DataInput!Q453-Z453))/2)*(A454-A453))/27+S453+T453>0,ROUNDDOWN(((((DataInput!Q454-Z454)+(DataInput!Q453-Z453))/2)*(A454-A453))/27+S453+T453,0),0)),0),0)*$X$5),1)","v":0},176,{"$f":"ROUNDDOWN((IF(AC454>0,IFERROR(IF(((((DataInput!Q453-AC453)+(DataInput!Q454-AC454))/2)*(A454-A453))/27+S453+T453>0,ROUNDDOWN(((((DataInput!Q453-AC453)+(DataInput!Q454-AC454))/2)*(A454-A453))/27+S453+T453,0),0),0),0)*$X$5),1)","v":267.8},{"$f":"DataInput!U453","v":140},{"$f":"DataInput!S453","v":72},100.8,39.200000000000003]
[{"$f":"IF(DataInput!A454<>\"\",DataInput!A454,\"\")","v":90975},{"$f":"SUM(DataInput!C454,DataInput!Y454)+(DataInput!U454-DataInput!E454)","v":235},{"$f":"SUM(DataInput!D454,DataInput!Z454)","v":93},{"$f":"DataInput!U454","v":141},{"$f":"SUM(DataInput!F454,DataInput!AB454)","v":0},{"$f":"SUM(DataInput!G454,DataInput!AC454)","v":0},{"$f":"SUM(DataInput!H454,DataInput!AD454)","v":0},{"$f":"DataInput!I454","v":54},{"$f":"SUM(DataInput!J454,DataInput!AF454)","v":0},{"$f":"SUM(DataInput!K454,DataInput!AG454)","v":0},{"$f":"SUM(DataInput!L454,DataInput!AH454)","v":0},{"$f":"SUM(DataInput!M454,DataInput!AI454)","v":0},{"$f":"SUM(DataInput!N454,DataInput!AJ454)","v":0},{"$f":"SUM(DataInput!O454,DataInput!AK454)","v":0},{"$f":"DataInput!P454","v":0},null,93,{"$f":"DataInput!R454","v":276},{"$f":"DataInput!Y454","v":0},{"$f":"IF(DataInput!U454-DataInput!E454>0,DataInput!U454-DataInput!E454,\"\")","v":94},{"$f":"IF(DataInput!W454-DataInput!I454>0,DataInput!W454-DataInput!I454,\"\")","v":""},null,370,481,-388,450,3350,{"$f":"ROUNDDOWN((IF(AA455>0,IFERROR(IF(AVERAGE(DataInput!Q454:Q455)>AVERAGE(AA455,AA454),ROUNDDOWN(((((AA454-Z454)+(AA455-Z455))/2)*(A455-A454))/27,0),IF(((((DataInput!Q455-Z455)+(DataInput!Q454-Z454))/2)*(A455-A454))/27+S454+T454>0,ROUNDDOWN(((((DataInput!Q455-Z455)+(DataInput!Q454-Z454))/2)*(A455-A454))/27+S454+T454,0),0)),0),0)*$X$5),1)","v":0},176,{"$f":"ROUNDDOWN((IF(AC455>0,IFERROR(IF(((((DataInput!Q454-AC454)+(DataInput!Q455-AC455))/2)*(A455-A454))/27+S454+T454>0,ROUNDDOWN(((((DataInput!Q454-AC454)+(DataInput!Q455-AC455))/2)*(A455-A454))/27+S454+T454,0),0),0),0)*$X$5),1)","v":267.8},{"$f":"DataInput!U454","v":141},{"$f":"DataInput!S454","v":72},100.8,40.200000000000003]
[{"$f":"IF(DataInput!A455<>\"\",DataInput!A455,\"\")","v":91000},{"$f":"SUM(DataInput!C455,DataInput!Y455)+(DataInput!U455-DataInput!E455)","v":242},{"$f":"SUM(DataInput!D455,DataInput!Z455)","v":101},{"$f":"DataInput!U455","v":141},{"$f":"SUM(DataInput!F455,DataInput!AB455)","v":0},{"$f":"SUM(DataInput!G455,DataInput!AC455)","v":0},{"$f":"SUM(DataInput!H455,DataInput!AD455)","v":0},{"$f":"DataInput!I455","v":54},{"$f":"SUM(DataInput!J455,DataInput!AF455)","v":0},{"$f":"SUM(DataInput!K455,DataInput!AG455)","v":0},{"$f":"SUM(DataInput!L455,DataInput!AH455)","v":0},{"$f":"SUM(DataInput!M455,DataInput!AI455)","v":0},{"$f":"SUM(DataInput!N455,DataInput!AJ455)","v":0},{"$f":"SUM(DataInput!O455,DataInput!AK455)","v":0},{"$f":"DataInput!P455","v":0},null,101,{"$f":"DataInput!R455","v":270},{"$f":"DataInput!Y455","v":0},{"$f":"IF(DataInput!U455-DataInput!E455>0,DataInput!U455-DataInput!E455,\"\")","v":92},{"$f":"IF(DataInput!W455-DataInput!I455>0,DataInput!W455-DataInput!I455,\"\")","v":""},null,362,470.6,-369.6,450,3350,{"$f":"ROUNDDOWN((IF(AA456>0,IFERROR(IF(AVERAGE(DataInput!Q455:Q456)>AVERAGE(AA456,AA455),ROUNDDOWN(((((AA455-Z455)+(AA456-Z456))/2)*(A456-A455))/27,0),IF(((((DataInput!Q456-Z456)+(DataInput!Q455-Z455))/2)*(A456-A455))/27+S455+T455>0,ROUNDDOWN(((((DataInput!Q456-Z456)+(DataInput!Q455-Z455))/2)*(A456-A455))/27+S455+T455,0),0)),0),0)*$X$5),1)","v":0},176,{"$f":"ROUNDDOWN((IF(AC456>0,IFERROR(IF(((((DataInput!Q455-AC455)+(DataInput!Q456-AC456))/2)*(A456-A455))/27+S455+T455>0,ROUNDDOWN(((((DataInput!Q455-AC455)+(DataInput!Q456-AC456))/2)*(A456-A455))/27+S455+T455,0),0),0),0)*$X$5),1)","v":257.39999999999998},{"$f":"DataInput!U455","v":141},{"$f":"DataInput!S455","v":73},102.2,38.799999999999997]
[{"$f":"IF(DataInput!A456<>\"\",DataInput!A456,\"\")","v":91025},{"$f":"SUM(DataInput!C456,DataInput!Y456)+(DataInput!U456-DataInput!E456)","v":252},{"$f":"SUM(DataInput!D456,DataInput!Z456)","v":110},{"$f":"DataInput!U456","v":142},{"$f":"SUM(DataInput!F456,DataInput!AB456)","v":0},{"$f":"SUM(DataInput!G456,DataInput!AC456)","v":0},{"$f":"SUM(DataInput!H456,DataInput!AD456)","v":0},{"$f":"DataInput!I456","v":54},{"$f":"SUM(DataInput!J456,DataInput!AF456)","v":0},{"$f":"SUM(DataInput!K456,DataInput!AG456)","v":0},{"$f":"SUM(DataInput!L456,DataInput!AH456)","v":0},{"$f":"SUM(DataInput!M456,DataInput!AI456)","v":0},{"$f":"SUM(DataInput!N456,DataInput!AJ456)","v":0},{"$f":"SUM(DataInput!O456,DataInput!AK456)","v":0},{"$f":"DataInput!P456","v":0},null,110,{"$f":"DataInput!R456","v":261},{"$f":"DataInput!Y456","v":0},{"$f":"IF(DataInput!U456-DataInput!E456>0,DataInput!U456-DataInput!E456,\"\")","v":92},{"$f":"IF(DataInput!W456-DataInput!I456>0,DataInput!W456-DataInput!I456,\"\")","v":""},null,353,458.9,-348.9,450,3350,{"$f":"ROUNDDOWN((IF(AA457>0,IFERROR(IF(AVERAGE(DataInput!Q456:Q457)>AVERAGE(AA457,AA456),ROUNDDOWN(((((AA456-Z456)+(AA457-Z457))/2)*(A457-A456))/27,0),IF(((((DataInput!Q457-Z457)+(DataInput!Q456-Z456))/2)*(A457-A456))/27+S456+T456>0,ROUNDDOWN(((((DataInput!Q457-Z457)+(DataInput!Q456-Z456))/2)*(A457-A456))/27+S456+T456,0),0)),0),0)*$X$5),1)","v":0},176,{"$f":"ROUNDDOWN((IF(AC457>0,IFERROR(IF(((((DataInput!Q456-AC456)+(DataInput!Q457-AC457))/2)*(A457-A456))/27+S456+T456>0,ROUNDDOWN(((((DataInput!Q456-AC456)+(DataInput!Q457-AC457))/2)*(A457-A456))/27+S456+T456,0),0),0),0)*$X$5),1)","v":245.7},{"$f":"DataInput!U456","v":142},{"$f":"DataInput!S456","v":73},102.2,39.799999999999997]
[{"$f":"IF(DataInput!A457<>\"\",DataInput!A457,\"\")","v":91050},{"$f":"SUM(DataInput!C457,DataInput!Y457)+(DataInput!U457-DataInput!E457)","v":260},{"$f":"SUM(DataInput!D457,DataInput!Z457)","v":117},{"$f":"DataInput!U457","v":142},{"$f":"SUM(DataInput!F457,DataInput!AB457)","v":0},{"$f":"SUM(DataInput!G457,DataInput!AC457)","v":0},{"$f":"SUM(DataInput!H457,DataInput!AD457)","v":0},{"$f":"DataInput!I457","v":54},{"$f":"SUM(DataInput!J457,DataInput!AF457)","v":0},{"$f":"SUM(DataInput!K457,DataInput!AG457)","v":0},{"$f":"SUM(DataInput!L457,DataInput!AH457)","v":0},{"$f":"SUM(DataInput!M457,DataInput!AI457)","v":0},{"$f":"SUM(DataInput!N457,DataInput!AJ457)","v":0},{"$f":"SUM(DataInput!O457,DataInput!AK457)","v":0},{"$f":"DataInput!P457","v":0},null,117,{"$f":"DataInput!R457","v":254},{"$f":"DataInput!Y457","v":0},{"$f":"IF(DataInput!U457-DataInput!E457>0,DataInput!U457-DataInput!E457,\"\")","v":92},{"$f":"IF(DataInput!W457-DataInput!I457>0,DataInput!W457-DataInput!I457,\"\")","v":""},null,346,449.8,-332.8,450,3350,{"$f":"ROUNDDOWN((IF(AA458>0,IFERROR(IF(AVERAGE(DataInput!Q457:Q458)>AVERAGE(AA458,AA457),ROUNDDOWN(((((AA457-Z457)+(AA458-Z458))/2)*(A458-A457))/27,0),IF(((((DataInput!Q458-Z458)+(DataInput!Q457-Z457))/2)*(A458-A457))/27+S457+T457>0,ROUNDDOWN(((((DataInput!Q458-Z458)+(DataInput!Q457-Z457))/2)*(A458-A457))/27+S457+T457,0),0)),0),0)*$X$5),1)","v":0},176,{"$f":"ROUNDDOWN((IF(AC458>0,IFERROR(IF(((((DataInput!Q457-AC457)+(DataInput!Q458-AC458))/2)*(A458-A457))/27+S457+T457>0,ROUNDDOWN(((((DataInput!Q457-AC457)+(DataInput!Q458-AC458))/2)*(A458-A457))/27+S457+T457,0),0),0),0)*$X$5),1)","v":237.9},{"$f":"DataInput!U457","v":142},{"$f":"DataInput!S457","v":73},102.2,39.799999999999997]
[{"$f":"IF(DataInput!A458<>\"\",DataInput!A458,\"\")","v":91075},{"$f":"SUM(DataInput!C458,DataInput!Y458)+(DataInput!U458-DataInput!E458)","v":74},{"$f":"SUM(DataInput!D458,DataInput!Z458)","v":34},{"$f":"DataInput!U458","v":40},{"$f":"SUM(DataInput!F458,DataInput!AB458)","v":0},{"$f":"SUM(DataInput!G458,DataInput!AC458)","v":0},{"$f":"SUM(DataInput!H458,DataInput!AD458)","v":0},{"$f":"DataInput!I458","v":15},{"$f":"SUM(DataInput!J458,DataInput!AF458)","v":0},{"$f":"SUM(DataInput!K458,DataInput!AG458)","v":0},{"$f":"SUM(DataInput!L458,DataInput!AH458)","v":0},{"$f":"SUM(DataInput!M458,DataInput!AI458)","v":0},{"$f":"SUM(DataInput!N458,DataInput!AJ458)","v":0},{"$f":"SUM(DataInput!O458,DataInput!AK458)","v":0},{"$f":"DataInput!P458","v":0},null,34,{"$f":"DataInput!R458","v":70},{"$f":"DataInput!Y458","v":0},{"$f":"IF(DataInput!U458-DataInput!E458>0,DataInput!U458-DataInput!E458,\"\")","v":26},{"$f":"IF(DataInput!W458-DataInput!I458>0,DataInput!W458-DataInput!I458,\"\")","v":""},null,96,124.8,-90.8,450,3350,{"$f":"ROUNDDOWN((IF(AA459>0,IFERROR(IF(AVERAGE(DataInput!Q458:Q459)>AVERAGE(AA459,AA458),ROUNDDOWN(((((AA458-Z458)+(AA459-Z459))/2)*(A459-A458))/27,0),IF(((((DataInput!Q459-Z459)+(DataInput!Q458-Z458))/2)*(A459-A458))/27+S458+T458>0,ROUNDDOWN(((((DataInput!Q459-Z459)+(DataInput!Q458-Z458))/2)*(A459-A458))/27+S458+T458,0),0)),0),0)*$X$5),1)","v":0},176,{"$f":"ROUNDDOWN((IF(AC459>0,IFERROR(IF(((((DataInput!Q458-AC458)+(DataInput!Q459-AC459))/2)*(A459-A458))/27+S458+T458>0,ROUNDDOWN(((((DataInput!Q458-AC458)+(DataInput!Q459-AC459))/2)*(A459-A458))/27+S458+T458,0),0),0),0)*$X$5),1)","v":63.7},{"$f":"DataInput!U458","v":40},{"$f":"DataInput!S458","v":21},29.4,10.6]
[{"$f":"IF(DataInput!A459<>\"\",DataInput!A459,\"\")","v":91082},{"$f":"SUM(DataInput!C459,DataInput!Y459)+(DataInput!U459-DataInput!E459)","v":184},{"$f":"SUM(DataInput!D459,DataInput!Z459)","v":85},{"$f":"DataInput!U459","v":100},{"$f":"SUM(DataInput!F459,DataInput!AB459)","v":0},{"$f":"SUM(DataInput!G459,DataInput!AC459)","v":0},{"$f":"SUM(DataInput!H459,DataInput!AD459)","v":0},{"$f":"DataInput!I459","v":39},{"$f":"SUM(DataInput!J459,DataInput!AF459)","v":0},{"$f":"SUM(DataInput!K459,DataInput!AG459)","v":0},{"$f":"SUM(DataInput!L459,DataInput!AH459)","v":0},{"$f":"SUM(DataInput!M459,DataInput!AI459)","v":0},{"$f":"SUM(DataInput!N459,DataInput!AJ459)","v":0},{"$f":"SUM(DataInput!O459,DataInput!AK459)","v":0},{"$f":"DataInput!P459","v":0},null,85,{"$f":"DataInput!R459","v":170},{"$f":"DataInput!Y459","v":0},{"$f":"IF(DataInput!U459-DataInput!E459>0,DataInput!U459-DataInput!E459,\"\")","v":66},{"$f":"IF(DataInput!W459-DataInput!I459>0,DataInput!W459-DataInput!I459,\"\")","v":""},null,236,306.8,-221.8,450,3350,{"$f":"ROUNDDOWN((IF(AA460>0,IFERROR(IF(AVERAGE(DataInput!Q459:Q460)>AVERAGE(AA460,AA459),ROUNDDOWN(((((AA459-Z459)+(AA460-Z460))/2)*(A460-A459))/27,0),IF(((((DataInput!Q460-Z460)+(DataInput!Q459-Z459))/2)*(A460-A459))/27+S459+T459>0,ROUNDDOWN(((((DataInput!Q460-Z460)+(DataInput!Q459-Z459))/2)*(A460-A459))/27+S459+T459,0),0)),0),0)*$X$5),1)","v":0},176,{"$f":"ROUNDDOWN((IF(AC460>0,IFERROR(IF(((((DataInput!Q459-AC459)+(DataInput!Q460-AC460))/2)*(A460-A459))/27+S459+T459>0,ROUNDDOWN(((((DataInput!Q459-AC459)+(DataInput!Q460-AC460))/2)*(A460-A459))/27+S459+T459,0),0),0),0)*$X$5),1)","v":153.4},{"$f":"DataInput!U459","v":100},{"$f":"DataInput!S459","v":51},71.400000000000006,28.6]
[{"$f":"IF(DataInput!A460<>\"\",DataInput!A460,\"\")","v":91100},{"$f":"SUM(DataInput!C460,DataInput!Y460)+(DataInput!U460-DataInput!E460)","v":245},{"$f":"SUM(DataInput!D460,DataInput!Z460)","v":116},{"$f":"DataInput!U460","v":129},{"$f":"SUM(DataInput!F460,DataInput!AB460)","v":0},{"$f":"SUM(DataInput!G460,DataInput!AC460)","v":0},{"$f":"SUM(DataInput!H460,DataInput!AD460)","v":0},{"$f":"DataInput!I460","v":54},{"$f":"SUM(DataInput!J460,DataInput!AF460)","v":0},{"$f":"SUM(DataInput!K460,DataInput!AG460)","v":0},{"$f":"SUM(DataInput!L460,DataInput!AH460)","v":0},{"$f":"SUM(DataInput!M460,DataInput!AI460)","v":0},{"$f":"SUM(DataInput!N460,DataInput!AJ460)","v":0},{"$f":"SUM(DataInput!O460,DataInput!AK460)","v":0},{"$f":"DataInput!P460","v":0},null,116,{"$f":"DataInput!R460","v":213},{"$f":"DataInput!Y460","v":0},{"$f":"IF(DataInput!U460-DataInput!E460>0,DataInput!U460-DataInput!E460,\"\")","v":91},{"$f":"IF(DataInput!W460-DataInput!I460>0,DataInput!W460-DataInput!I460,\"\")","v":""},null,304,395.2,-279.2,450,3350,{"$f":"ROUNDDOWN((IF(AA461>0,IFERROR(IF(AVERAGE(DataInput!Q460:Q461)>AVERAGE(AA461,AA460),ROUNDDOWN(((((AA460-Z460)+(AA461-Z461))/2)*(A461-A460))/27,0),IF(((((DataInput!Q461-Z461)+(DataInput!Q460-Z460))/2)*(A461-A460))/27+S460+T460>0,ROUNDDOWN(((((DataInput!Q461-Z461)+(DataInput!Q460-Z460))/2)*(A461-A460))/27+S460+T460,0),0)),0),0)*$X$5),1)","v":0},176,{"$f":"ROUNDDOWN((IF(AC461>0,IFERROR(IF(((((DataInput!Q460-AC460)+(DataInput!Q461-AC461))/2)*(A461-A460))/27+S460+T460>0,ROUNDDOWN(((((DataInput!Q460-AC460)+(DataInput!Q461-AC461))/2)*(A461-A460))/27+S460+T460,0),0),0),0)*$X$5),1)","v":183.3},{"$f":"DataInput!U460","v":129},{"$f":"DataInput!S460","v":65},91,38]
[{"$f":"IF(DataInput!A461<>\"\",DataInput!A461,\"\")","v":91125},{"$f":"SUM(DataInput!C461,DataInput!Y461)+(DataInput!U461-DataInput!E461)","v":237},{"$f":"SUM(DataInput!D461,DataInput!Z461)","v":118},{"$f":"DataInput!U461","v":120},{"$f":"SUM(DataInput!F461,DataInput!AB461)","v":0},{"$f":"SUM(DataInput!G461,DataInput!AC461)","v":0},{"$f":"SUM(DataInput!H461,DataInput!AD461)","v":0},{"$f":"DataInput!I461","v":54},{"$f":"SUM(DataInput!J461,DataInput!AF461)","v":0},{"$f":"SUM(DataInput!K461,DataInput!AG461)","v":0},{"$f":"SUM(DataInput!L461,DataInput!AH461)","v":0},{"$f":"SUM(DataInput!M461,DataInput!AI461)","v":0},{"$f":"SUM(DataInput!N461,DataInput!AJ461)","v":0},{"$f":"SUM(DataInput!O461,DataInput!AK461)","v":0},{"$f":"DataInput!P461","v":0},null,118,{"$f":"DataInput!R461","v":195},{"$f":"DataInput!Y461","v":0},{"$f":"IF(DataInput!U461-DataInput!E461>0,DataInput!U461-DataInput!E461,\"\")","v":87},{"$f":"IF(DataInput!W461-DataInput!I461>0,DataInput!W461-DataInput!I461,\"\")","v":""},null,282,366.6,-248.6,450,3350,{"$f":"ROUNDDOWN((IF(AA462>0,IFERROR(IF(AVERAGE(DataInput!Q461:Q462)>AVERAGE(AA462,AA461),ROUNDDOWN(((((AA461-Z461)+(AA462-Z462))/2)*(A462-A461))/27,0),IF(((((DataInput!Q462-Z462)+(DataInput!Q461-Z461))/2)*(A462-A461))/27+S461+T461>0,ROUNDDOWN(((((DataInput!Q462-Z462)+(DataInput!Q461-Z461))/2)*(A462-A461))/27+S461+T461,0),0)),0),0)*$X$5),1)","v":0},176,{"$f":"ROUNDDOWN((IF(AC462>0,IFERROR(IF(((((DataInput!Q461-AC461)+(DataInput!Q462-AC462))/2)*(A462-A461))/27+S461+T461>0,ROUNDDOWN(((((DataInput!Q461-AC461)+(DataInput!Q462-AC462))/2)*(A462-A461))/27+S461+T461,0),0),0),0)*$X$5),1)","v":153.4},{"$f":"DataInput!U461","v":120},{"$f":"DataInput!S461","v":59},82.6,37.4]
[{"$f":"IF(DataInput!A462<>\"\",DataInput!A462,\"\")","v":91150},{"$f":"SUM(DataInput!C462,DataInput!Y462)+(DataInput!U462-DataInput!E462)","v":235},{"$f":"SUM(DataInput!D462,DataInput!Z462)","v":118},{"$f":"DataInput!U462","v":117},{"$f":"SUM(DataInput!F462,DataInput!AB462)","v":0},{"$f":"SUM(DataInput!G462,DataInput!AC462)","v":0},{"$f":"SUM(DataInput!H462,DataInput!AD462)","v":0},{"$f":"DataInput!I462","v":54},{"$f":"SUM(DataInput!J462,DataInput!AF462)","v":0},{"$f":"SUM(DataInput!K462,DataInput!AG462)","v":0},{"$f":"SUM(DataInput!L462,DataInput!AH462)","v":0},{"$f":"SUM(DataInput!M462,DataInput!AI462)","v":0},{"$f":"SUM(DataInput!N462,DataInput!AJ462)","v":0},{"$f":"SUM(DataInput!O462,DataInput!AK462)","v":0},{"$f":"DataInput!P462","v":0},null,118,{"$f":"DataInput!R462","v":186},{"$f":"DataInput!Y462","v":0},{"$f":"IF(DataInput!U462-DataInput!E462>0,DataInput!U462-DataInput!E462,\"\")","v":86},{"$f":"IF(DataInput!W462-DataInput!I462>0,DataInput!W462-DataInput!I462,\"\")","v":""},null,272,353.6,-235.6,450,3350,{"$f":"ROUNDDOWN((IF(AA463>0,IFERROR(IF(AVERAGE(DataInput!Q462:Q463)>AVERAGE(AA463,AA462),ROUNDDOWN(((((AA462-Z462)+(AA463-Z463))/2)*(A463-A462))/27,0),IF(((((DataInput!Q463-Z463)+(DataInput!Q462-Z462))/2)*(A463-A462))/27+S462+T462>0,ROUNDDOWN(((((DataInput!Q463-Z463)+(DataInput!Q462-Z462))/2)*(A463-A462))/27+S462+T462,0),0)),0),0)*$X$5),1)","v":0},176,{"$f":"ROUNDDOWN((IF(AC463>0,IFERROR(IF(((((DataInput!Q462-AC462)+(DataInput!Q463-AC463))/2)*(A463-A462))/27+S462+T462>0,ROUNDDOWN(((((DataInput!Q462-AC462)+(DataInput!Q463-AC463))/2)*(A463-A462))/27+S462+T462,0),0),0),0)*$X$5),1)","v":140.4},{"$f":"DataInput!U462","v":117},{"$f":"DataInput!S462","v":57},79.8,37.200000000000003]
[{"$f":"IF(DataInput!A463<>\"\",DataInput!A463,\"\")","v":91175},{"$f":"SUM(DataInput!C463,DataInput!Y463)+(DataInput!U463-DataInput!E463)","v":235},{"$f":"SUM(DataInput!D463,DataInput!Z463)","v":121},{"$f":"DataInput!U463","v":114},{"$f":"SUM(DataInput!F463,DataInput!AB463)","v":0},{"$f":"SUM(DataInput!G463,DataInput!AC463)","v":0},{"$f":"SUM(DataInput!H463,DataInput!AD463)","v":0},{"$f":"DataInput!I463","v":54},{"$f":"SUM(DataInput!J463,DataInput!AF463)","v":0},{"$f":"SUM(DataInput!K463,DataInput!AG463)","v":0},{"$f":"SUM(DataInput!L463,DataInput!AH463)","v":0},{"$f":"SUM(DataInput!M463,DataInput!AI463)","v":0},{"$f":"SUM(DataInput!N463,DataInput!AJ463)","v":0},{"$f":"SUM(DataInput!O463,DataInput!AK463)","v":0},{"$f":"DataInput!P463","v":0},null,121,{"$f":"DataInput!R463","v":176},{"$f":"DataInput!Y463","v":0},{"$f":"IF(DataInput!U463-DataInput!E463>0,DataInput!U463-DataInput!E463,\"\")","v":84},{"$f":"IF(DataInput!W463-DataInput!I463>0,DataInput!W463-DataInput!I463,\"\")","v":""},null,260,338,-217,450,3350,{"$f":"ROUNDDOWN((IF(AA464>0,IFERROR(IF(AVERAGE(DataInput!Q463:Q464)>AVERAGE(AA464,AA463),ROUNDDOWN(((((AA463-Z463)+(AA464-Z464))/2)*(A464-A463))/27,0),IF(((((DataInput!Q464-Z464)+(DataInput!Q463-Z463))/2)*(A464-A463))/27+S463+T463>0,ROUNDDOWN(((((DataInput!Q464-Z464)+(DataInput!Q463-Z463))/2)*(A464-A463))/27+S463+T463,0),0)),0),0)*$X$5),1)","v":0},176,{"$f":"ROUNDDOWN((IF(AC464>0,IFERROR(IF(((((DataInput!Q463-AC463)+(DataInput!Q464-AC464))/2)*(A464-A463))/27+S463+T463>0,ROUNDDOWN(((((DataInput!Q463-AC463)+(DataInput!Q464-AC464))/2)*(A464-A463))/27+S463+T463,0),0),0),0)*$X$5),1)","v":124.8},{"$f":"DataInput!U463","v":114},{"$f":"DataInput!S463","v":55},77,37]
[{"$f":"IF(DataInput!A464<>\"\",DataInput!A464,\"\")","v":91200},{"$f":"SUM(DataInput!C464,DataInput!Y464)+(DataInput!U464-DataInput!E464)","v":238},{"$f":"SUM(DataInput!D464,DataInput!Z464)","v":126},{"$f":"DataInput!U464","v":112},{"$f":"SUM(DataInput!F464,DataInput!AB464)","v":0},{"$f":"SUM(DataInput!G464,DataInput!AC464)","v":0},{"$f":"SUM(DataInput!H464,DataInput!AD464)","v":0},{"$f":"DataInput!I464","v":54},{"$f":"SUM(DataInput!J464,DataInput!AF464)","v":0},{"$f":"SUM(DataInput!K464,DataInput!AG464)","v":0},{"$f":"SUM(DataInput!L464,DataInput!AH464)","v":0},{"$f":"SUM(DataInput!M464,DataInput!AI464)","v":0},{"$f":"SUM(DataInput!N464,DataInput!AJ464)","v":0},{"$f":"SUM(DataInput!O464,DataInput!AK464)","v":0},{"$f":"DataInput!P464","v":0},null,126,{"$f":"DataInput!R464","v":159},{"$f":"DataInput!Y464","v":0},{"$f":"IF(DataInput!U464-DataInput!E464>0,DataInput!U464-DataInput!E464,\"\")","v":82},{"$f":"IF(DataInput!W464-DataInput!I464>0,DataInput!W464-DataInput!I464,\"\")","v":""},null,241,313.3,-187.3,450,3350,{"$f":"ROUNDDOWN((IF(AA465>0,IFERROR(IF(AVERAGE(DataInput!Q464:Q465)>AVERAGE(AA465,AA464),ROUNDDOWN(((((AA464-Z464)+(AA465-Z465))/2)*(A465-A464))/27,0),IF(((((DataInput!Q465-Z465)+(DataInput!Q464-Z464))/2)*(A465-A464))/27+S464+T464>0,ROUNDDOWN(((((DataInput!Q465-Z465)+(DataInput!Q464-Z464))/2)*(A465-A464))/27+S464+T464,0),0)),0),0)*$X$5),1)","v":0},176,{"$f":"ROUNDDOWN((IF(AC465>0,IFERROR(IF(((((DataInput!Q464-AC464)+(DataInput!Q465-AC465))/2)*(A465-A464))/27+S464+T464>0,ROUNDDOWN(((((DataInput!Q464-AC464)+(DataInput!Q465-AC465))/2)*(A465-A464))/27+S464+T464,0),0),0),0)*$X$5),1)","v":100.1},{"$f":"DataInput!U464","v":112},{"$f":"DataInput!S464","v":53},74.2,37.799999999999997]
[{"$f":"IF(DataInput!A465<>\"\",DataInput!A465,\"\")","v":91225},{"$f":"SUM(DataInput!C465,DataInput!Y465)+(DataInput!U465-DataInput!E465)","v":242},{"$f":"SUM(DataInput!D465,DataInput!Z465)","v":132},{"$f":"DataInput!U465","v":110},{"$f":"SUM(DataInput!F465,DataInput!AB465)","v":0},{"$f":"SUM(DataInput!G465,DataInput!AC465)","v":0},{"$f":"SUM(DataInput!H465,DataInput!AD465)","v":0},{"$f":"DataInput!I465","v":54},{"$f":"SUM(DataInput!J465,DataInput!AF465)","v":0},{"$f":"SUM(DataInput!K465,DataInput!AG465)","v":0},{"$f":"SUM(DataInput!L465,DataInput!AH465)","v":0},{"$f":"SUM(DataInput!M465,DataInput!AI465)","v":0},{"$f":"SUM(DataInput!N465,DataInput!AJ465)","v":0},{"$f":"SUM(DataInput!O465,DataInput!AK465)","v":0},{"$f":"DataInput!P465","v":0},null,132,{"$f":"DataInput!R465","v":135},{"$f":"DataInput!Y465","v":0},{"$f":"IF(DataInput!U465-DataInput!E465>0,DataInput!U465-DataInput!E465,\"\")","v":79},{"$f":"IF(DataInput!W465-DataInput!I465>0,DataInput!W465-DataInput!I465,\"\")","v":""},null,214,278.2,-146.19999999999999,450,3350,{"$f":"ROUNDDOWN((IF(AA466>0,IFERROR(IF(AVERAGE(DataInput!Q465:Q466)>AVERAGE(AA466,AA465),ROUNDDOWN(((((AA465-Z465)+(AA466-Z466))/2)*(A466-A465))/27,0),IF(((((DataInput!Q466-Z466)+(DataInput!Q465-Z465))/2)*(A466-A465))/27+S465+T465>0,ROUNDDOWN(((((DataInput!Q466-Z466)+(DataInput!Q465-Z465))/2)*(A466-A465))/27+S465+T465,0),0)),0),0)*$X$5),1)","v":0},176,{"$f":"ROUNDDOWN((IF(AC466>0,IFERROR(IF(((((DataInput!Q465-AC465)+(DataInput!Q466-AC466))/2)*(A466-A465))/27+S465+T465>0,ROUNDDOWN(((((DataInput!Q465-AC465)+(DataInput!Q466-AC466))/2)*(A466-A465))/27+S465+T465,0),0),0),0)*$X$5),1)","v":66.3},{"$f":"DataInput!U465","v":110},{"$f":"DataInput!S465","v":52},72.8,37.200000000000003]
[{"$f":"IF(DataInput!A466<>\"\",DataInput!A466,\"\")","v":91250},{"$f":"SUM(DataInput!C466,DataInput!Y466)+(DataInput!U466-DataInput!E466)","v":248},{"$f":"SUM(DataInput!D466,DataInput!Z466)","v":139},{"$f":"DataInput!U466","v":109},{"$f":"SUM(DataInput!F466,DataInput!AB466)","v":0},{"$f":"SUM(DataInput!G466,DataInput!AC466)","v":0},{"$f":"SUM(DataInput!H466,DataInput!AD466)","v":0},{"$f":"DataInput!I466","v":54},{"$f":"SUM(DataInput!J466,DataInput!AF466)","v":0},{"$f":"SUM(DataInput!K466,DataInput!AG466)","v":0},{"$f":"SUM(DataInput!L466,DataInput!AH466)","v":0},{"$f":"SUM(DataInput!M466,DataInput!AI466)","v":0},{"$f":"SUM(DataInput!N466,DataInput!AJ466)","v":0},{"$f":"SUM(DataInput!O466,DataInput!AK466)","v":0},{"$f":"DataInput!P466","v":0},null,139,{"$f":"DataInput!R466","v":117},{"$f":"DataInput!Y466","v":0},{"$f":"IF(DataInput!U466-DataInput!E466>0,DataInput!U466-DataInput!E466,\"\")","v":76},{"$f":"IF(DataInput!W466-DataInput!I466>0,DataInput!W466-DataInput!I466,\"\")","v":""},null,193,250.9,-111.9,450,3350,{"$f":"ROUNDDOWN((IF(AA467>0,IFERROR(IF(AVERAGE(DataInput!Q466:Q467)>AVERAGE(AA467,AA466),ROUNDDOWN(((((AA466-Z466)+(AA467-Z467))/2)*(A467-A466))/27,0),IF(((((DataInput!Q467-Z467)+(DataInput!Q466-Z466))/2)*(A467-A466))/27+S466+T466>0,ROUNDDOWN(((((DataInput!Q467-Z467)+(DataInput!Q466-Z466))/2)*(A467-A466))/27+S466+T466,0),0)),0),0)*$X$5),1)","v":0},176,{"$f":"ROUNDDOWN((IF(AC467>0,IFERROR(IF(((((DataInput!Q466-AC466)+(DataInput!Q467-AC467))/2)*(A467-A466))/27+S466+T466>0,ROUNDDOWN(((((DataInput!Q466-AC466)+(DataInput!Q467-AC467))/2)*(A467-A466))/27+S466+T466,0),0),0),0)*$X$5),1)","v":37.700000000000003},{"$f":"DataInput!U466","v":109},{"$f":"DataInput!S466","v":51},71.400000000000006,37.6]
[{"$f":"IF(DataInput!A467<>\"\",DataInput!A467,\"\")","v":91275},{"$f":"SUM(DataInput!C467,DataInput!Y467)+(DataInput!U467-DataInput!E467)","v":292},{"$f":"SUM(DataInput!D467,DataInput!Z467)","v":180},{"$f":"DataInput!U467","v":112},{"$f":"SUM(DataInput!F467,DataInput!AB467)","v":0},{"$f":"SUM(DataInput!G467,DataInput!AC467)","v":0},{"$f":"SUM(DataInput!H467,DataInput!AD467)","v":0},{"$f":"DataInput!I467","v":54},{"$f":"SUM(DataInput!J467,DataInput!AF467)","v":0},{"$f":"SUM(DataInput!K467,DataInput!AG467)","v":0},{"$f":"SUM(DataInput!L467,DataInput!AH467)","v":0},{"$f":"SUM(DataInput!M467,DataInput!AI467)","v":0},{"$f":"SUM(DataInput!N467,DataInput!AJ467)","v":0},{"$f":"SUM(DataInput!O467,DataInput!AK467)","v":0},{"$f":"DataInput!P467","v":0},null,180,{"$f":"DataInput!R467","v":97},{"$f":"DataInput!Y467","v":0},{"$f":"IF(DataInput!U467-DataInput!E467>0,DataInput!U467-DataInput!E467,\"\")","v":68},{"$f":"IF(DataInput!W467-DataInput!I467>0,DataInput!W467-DataInput!I467,\"\")","v":""},null,165,214.5,-34.5,450,3350,{"$f":"ROUNDDOWN((IF(AA468>0,IFERROR(IF(AVERAGE(DataInput!Q467:Q468)>AVERAGE(AA468,AA467),ROUNDDOWN(((((AA467-Z467)+(AA468-Z468))/2)*(A468-A467))/27,0),IF(((((DataInput!Q468-Z468)+(DataInput!Q467-Z467))/2)*(A468-A467))/27+S467+T467>0,ROUNDDOWN(((((DataInput!Q468-Z468)+(DataInput!Q467-Z467))/2)*(A468-A467))/27+S467+T467,0),0)),0),0)*$X$5),1)","v":0},176,{"$f":"ROUNDDOWN((IF(AC468>0,IFERROR(IF(((((DataInput!Q467-AC467)+(DataInput!Q468-AC468))/2)*(A468-A467))/27+S467+T467>0,ROUNDDOWN(((((DataInput!Q467-AC467)+(DataInput!Q468-AC468))/2)*(A468-A467))/27+S467+T467,0),0),0),0)*$X$5),1)","v":2.6},{"$f":"DataInput!U467","v":112},{"$f":"DataInput!S467","v":54},75.599999999999994,36.4]
[{"$f":"IF(DataInput!A468<>\"\",DataInput!A468,\"\")","v":91300},{"$f":"SUM(DataInput!C468,DataInput!Y468)+(DataInput!U468-DataInput!E468)","v":441},{"$f":"SUM(DataInput!D468,DataInput!Z468)","v":320},{"$f":"DataInput!U468","v":122},{"$f":"SUM(DataInput!F468,DataInput!AB468)","v":0},{"$f":"SUM(DataInput!G468,DataInput!AC468)","v":0},{"$f":"SUM(DataInput!H468,DataInput!AD468)","v":0},{"$f":"DataInput!I468","v":54},{"$f":"SUM(DataInput!J468,DataInput!AF468)","v":0},{"$f":"SUM(DataInput!K468,DataInput!AG468)","v":0},{"$f":"SUM(DataInput!L468,DataInput!AH468)","v":0},{"$f":"SUM(DataInput!M468,DataInput!AI468)","v":0},{"$f":"SUM(DataInput!N468,DataInput!AJ468)","v":0},{"$f":"SUM(DataInput!O468,DataInput!AK468)","v":0},{"$f":"DataInput!P468","v":0},null,320,{"$f":"DataInput!R468","v":74},{"$f":"DataInput!Y468","v":0},{"$f":"IF(DataInput!U468-DataInput!E468>0,DataInput!U468-DataInput!E468,\"\")","v":59},{"$f":"IF(DataInput!W468-DataInput!I468>0,DataInput!W468-DataInput!I468,\"\")","v":""},1025,1158,1505.4,-1185.4000000000001,450,3350,{"$f":"ROUNDDOWN((IF(AA469>0,IFERROR(IF(AVERAGE(DataInput!Q468:Q469)>AVERAGE(AA469,AA468),ROUNDDOWN(((((AA468-Z468)+(AA469-Z469))/2)*(A469-A468))/27,0),IF(((((DataInput!Q469-Z469)+(DataInput!Q468-Z468))/2)*(A469-A468))/27+S468+T468>0,ROUNDDOWN(((((DataInput!Q469-Z469)+(DataInput!Q468-Z468))/2)*(A469-A468))/27+S468+T468,0),0)),0),0)*$X$5),1)","v":0},176,{"$f":"ROUNDDOWN((IF(AC469>0,IFERROR(IF(((((DataInput!Q468-AC468)+(DataInput!Q469-AC469))/2)*(A469-A468))/27+S468+T468>0,ROUNDDOWN(((((DataInput!Q468-AC468)+(DataInput!Q469-AC469))/2)*(A469-A468))/27+S468+T468,0),0),0),0)*$X$5),1)","v":0},{"$f":"DataInput!U468","v":122},{"$f":"DataInput!S468","v":60},84,38]
[{"$f":"IF(DataInput!A469<>\"\",DataInput!A469,\"\")","v":91325},{"$f":"SUM(DataInput!C469,DataInput!Y469)+(DataInput!U469-DataInput!E469)","v":458},{"$f":"SUM(DataInput!D469,DataInput!Z469)","v":340},{"$f":"DataInput!U469","v":118},{"$f":"SUM(DataInput!F469,DataInput!AB469)","v":0},{"$f":"SUM(DataInput!G469,DataInput!AC469)","v":0},{"$f":"SUM(DataInput!H469,DataInput!AD469)","v":0},{"$f":"DataInput!I469","v":54},{"$f":"SUM(DataInput!J469,DataInput!AF469)","v":0},{"$f":"SUM(DataInput!K469,DataInput!AG469)","v":0},{"$f":"SUM(DataInput!L469,DataInput!AH469)","v":0},{"$f":"SUM(DataInput!M469,DataInput!AI469)","v":0},{"$f":"SUM(DataInput!N469,DataInput!AJ469)","v":0},{"$f":"SUM(DataInput!O469,DataInput!AK469)","v":0},{"$f":"DataInput!P469","v":0},null,340,{"$f":"DataInput!R469","v":56},{"$f":"DataInput!Y469","v":0},{"$f":"IF(DataInput!U469-DataInput!E469>0,DataInput!U469-DataInput!E469,\"\")","v":55},{"$f":"IF(DataInput!W469-DataInput!I469>0,DataInput!W469-DataInput!I469,\"\")","v":""},null,111,144.30000000000001,195.7,450,3350,{"$f":"ROUNDDOWN((IF(AA470>0,IFERROR(IF(AVERAGE(DataInput!Q469:Q470)>AVERAGE(AA470,AA469),ROUNDDOWN(((((AA469-Z469)+(AA470-Z470))/2)*(A470-A469))/27,0),IF(((((DataInput!Q470-Z470)+(DataInput!Q469-Z469))/2)*(A470-A469))/27+S469+T469>0,ROUNDDOWN(((((DataInput!Q470-Z470)+(DataInput!Q469-Z469))/2)*(A470-A469))/27+S469+T469,0),0)),0),0)*$X$5),1)","v":0},176,{"$f":"ROUNDDOWN((IF(AC470>0,IFERROR(IF(((((DataInput!Q469-AC469)+(DataInput!Q470-AC470))/2)*(A470-A469))/27+S469+T469>0,ROUNDDOWN(((((DataInput!Q469-AC469)+(DataInput!Q470-AC470))/2)*(A470-A469))/27+S469+T469,0),0),0),0)*$X$5),1)","v":0},{"$f":"DataInput!U469","v":118},{"$f":"DataInput!S469","v":58},81.2,36.799999999999997]
[{"$f":"IF(DataInput!A470<>\"\",DataInput!A470,\"\")","v":91350},{"$f":"SUM(DataInput!C470,DataInput!Y470)+(DataInput!U470-DataInput!E470)","v":326},{"$f":"SUM(DataInput!D470,DataInput!Z470)","v":220},{"$f":"DataInput!U470","v":106},{"$f":"SUM(DataInput!F470,DataInput!AB470)","v":0},{"$f":"SUM(DataInput!G470,DataInput!AC470)","v":0},{"$f":"SUM(DataInput!H470,DataInput!AD470)","v":0},{"$f":"DataInput!I470","v":54},{"$f":"SUM(DataInput!J470,DataInput!AF470)","v":0},{"$f":"SUM(DataInput!K470,DataInput!AG470)","v":0},{"$f":"SUM(DataInput!L470,DataInput!AH470)","v":0},{"$f":"SUM(DataInput!M470,DataInput!AI470)","v":0},{"$f":"SUM(DataInput!N470,DataInput!AJ470)","v":0},{"$f":"SUM(DataInput!O470,DataInput!AK470)","v":0},{"$f":"DataInput!P470","v":0},null,220,{"$f":"DataInput!R470","v":53},{"$f":"DataInput!Y470","v":0},{"$f":"IF(DataInput!U470-DataInput!E470>0,DataInput!U470-DataInput!E470,\"\")","v":57},{"$f":"IF(DataInput!W470-DataInput!I470>0,DataInput!W470-DataInput!I470,\"\")","v":""},null,110,143,77,450,3350,{"$f":"ROUNDDOWN((IF(AA471>0,IFERROR(IF(AVERAGE(DataInput!Q470:Q471)>AVERAGE(AA471,AA470),ROUNDDOWN(((((AA470-Z470)+(AA471-Z471))/2)*(A471-A470))/27,0),IF(((((DataInput!Q471-Z471)+(DataInput!Q470-Z470))/2)*(A471-A470))/27+S470+T470>0,ROUNDDOWN(((((DataInput!Q471-Z471)+(DataInput!Q470-Z470))/2)*(A471-A470))/27+S470+T470,0),0)),0),0)*$X$5),1)","v":0},176,{"$f":"ROUNDDOWN((IF(AC471>0,IFERROR(IF(((((DataInput!Q470-AC470)+(DataInput!Q471-AC471))/2)*(A471-A470))/27+S470+T470>0,ROUNDDOWN(((((DataInput!Q470-AC470)+(DataInput!Q471-AC471))/2)*(A471-A470))/27+S470+T470,0),0),0),0)*$X$5),1)","v":0},{"$f":"DataInput!U470","v":106},{"$f":"DataInput!S470","v":50},70,36]
[{"$f":"IF(DataInput!A471<>\"\",DataInput!A471,\"\")","v":91375},{"$f":"SUM(DataInput!C471,DataInput!Y471)+(DataInput!U471-DataInput!E471)","v":276},{"$f":"SUM(DataInput!D471,DataInput!Z471)","v":176},{"$f":"DataInput!U471","v":100},{"$f":"SUM(DataInput!F471,DataInput!AB471)","v":0},{"$f":"SUM(DataInput!G471,DataInput!AC471)","v":0},{"$f":"SUM(DataInput!H471,DataInput!AD471)","v":0},{"$f":"DataInput!I471","v":54},{"$f":"SUM(DataInput!J471,DataInput!AF471)","v":0},{"$f":"SUM(DataInput!K471,DataInput!AG471)","v":0},{"$f":"SUM(DataInput!L471,DataInput!AH471)","v":0},{"$f":"SUM(DataInput!M471,DataInput!AI471)","v":0},{"$f":"SUM(DataInput!N471,DataInput!AJ471)","v":0},{"$f":"SUM(DataInput!O471,DataInput!AK471)","v":0},{"$f":"DataInput!P471","v":0},null,176,{"$f":"DataInput!R471","v":47},{"$f":"DataInput!Y471","v":0},{"$f":"IF(DataInput!U471-DataInput!E471>0,DataInput!U471-DataInput!E471,\"\")","v":60},{"$f":"IF(DataInput!W471-DataInput!I471>0,DataInput!W471-DataInput!I471,\"\")","v":""},null,107,139.1,36.9,450,3350,{"$f":"ROUNDDOWN((IF(AA472>0,IFERROR(IF(AVERAGE(DataInput!Q471:Q472)>AVERAGE(AA472,AA471),ROUNDDOWN(((((AA471-Z471)+(AA472-Z472))/2)*(A472-A471))/27,0),IF(((((DataInput!Q472-Z472)+(DataInput!Q471-Z471))/2)*(A472-A471))/27+S471+T471>0,ROUNDDOWN(((((DataInput!Q472-Z472)+(DataInput!Q471-Z471))/2)*(A472-A471))/27+S471+T471,0),0)),0),0)*$X$5),1)","v":0},176,{"$f":"ROUNDDOWN((IF(AC472>0,IFERROR(IF(((((DataInput!Q471-AC471)+(DataInput!Q472-AC472))/2)*(A472-A471))/27+S471+T471>0,ROUNDDOWN(((((DataInput!Q471-AC471)+(DataInput!Q472-AC472))/2)*(A472-A471))/27+S471+T471,0),0),0),0)*$X$5),1)","v":0},{"$f":"DataInput!U471","v":100},{"$f":"DataInput!S471","v":46},64.400000000000006,35.6]
[{"$f":"IF(DataInput!A472<>\"\",DataInput!A472,\"\")","v":91400},{"$f":"SUM(DataInput!C472,DataInput!Y472)+(DataInput!U472-DataInput!E472)","v":263},{"$f":"SUM(DataInput!D472,DataInput!Z472)","v":166},{"$f":"DataInput!U472","v":96},{"$f":"SUM(DataInput!F472,DataInput!AB472)","v":0},{"$f":"SUM(DataInput!G472,DataInput!AC472)","v":0},{"$f":"SUM(DataInput!H472,DataInput!AD472)","v":0},{"$f":"DataInput!I472","v":55},{"$f":"SUM(DataInput!J472,DataInput!AF472)","v":0},{"$f":"SUM(DataInput!K472,DataInput!AG472)","v":0},{"$f":"SUM(DataInput!L472,DataInput!AH472)","v":0},{"$f":"SUM(DataInput!M472,DataInput!AI472)","v":0},{"$f":"SUM(DataInput!N472,DataInput!AJ472)","v":0},{"$f":"SUM(DataInput!O472,DataInput!AK472)","v":0},{"$f":"DataInput!P472","v":0},null,166,{"$f":"DataInput!R472","v":34},{"$f":"DataInput!Y472","v":0},{"$f":"IF(DataInput!U472-DataInput!E472>0,DataInput!U472-DataInput!E472,\"\")","v":61},{"$f":"IF(DataInput!W472-DataInput!I472>0,DataInput!W472-DataInput!I472,\"\")","v":""},null,95,123.5,42.5,450,3350,{"$f":"ROUNDDOWN((IF(AA473>0,IFERROR(IF(AVERAGE(DataInput!Q472:Q473)>AVERAGE(AA473,AA472),ROUNDDOWN(((((AA472-Z472)+(AA473-Z473))/2)*(A473-A472))/27,0),IF(((((DataInput!Q473-Z473)+(DataInput!Q472-Z472))/2)*(A473-A472))/27+S472+T472>0,ROUNDDOWN(((((DataInput!Q473-Z473)+(DataInput!Q472-Z472))/2)*(A473-A472))/27+S472+T472,0),0)),0),0)*$X$5),1)","v":0},176,{"$f":"ROUNDDOWN((IF(AC473>0,IFERROR(IF(((((DataInput!Q472-AC472)+(DataInput!Q473-AC473))/2)*(A473-A472))/27+S472+T472>0,ROUNDDOWN(((((DataInput!Q472-AC472)+(DataInput!Q473-AC473))/2)*(A473-A472))/27+S472+T472,0),0),0),0)*$X$5),1)","v":0},{"$f":"DataInput!U472","v":96},{"$f":"DataInput!S472","v":43},60.2,35.799999999999997]
[{"$f":"IF(DataInput!A473<>\"\",DataInput!A473,\"\")","v":91425},{"$f":"SUM(DataInput!C473,DataInput!Y473)+(DataInput!U473-DataInput!E473)","v":258},{"$f":"SUM(DataInput!D473,DataInput!Z473)","v":166},{"$f":"DataInput!U473","v":92},{"$f":"SUM(DataInput!F473,DataInput!AB473)","v":0},{"$f":"SUM(DataInput!G473,DataInput!AC473)","v":0},{"$f":"SUM(DataInput!H473,DataInput!AD473)","v":0},{"$f":"DataInput!I473","v":55},{"$f":"SUM(DataInput!J473,DataInput!AF473)","v":0},{"$f":"SUM(DataInput!K473,DataInput!AG473)","v":0},{"$f":"SUM(DataInput!L473,DataInput!AH473)","v":0},{"$f":"SUM(DataInput!M473,DataInput!AI473)","v":0},{"$f":"SUM(DataInput!N473,DataInput!AJ473)","v":0},{"$f":"SUM(DataInput!O473,DataInput!AK473)","v":0},{"$f":"DataInput!P473","v":0},null,166,{"$f":"DataInput!R473","v":29},{"$f":"DataInput!Y473","v":0},{"$f":"IF(DataInput!U473-DataInput!E473>0,DataInput!U473-DataInput!E473,\"\")","v":59},{"$f":"IF(DataInput!W473-DataInput!I473>0,DataInput!W473-DataInput!I473,\"\")","v":""},null,88,114.4,51.6,450,3350,{"$f":"ROUNDDOWN((IF(AA474>0,IFERROR(IF(AVERAGE(DataInput!Q473:Q474)>AVERAGE(AA474,AA473),ROUNDDOWN(((((AA473-Z473)+(AA474-Z474))/2)*(A474-A473))/27,0),IF(((((DataInput!Q474-Z474)+(DataInput!Q473-Z473))/2)*(A474-A473))/27+S473+T473>0,ROUNDDOWN(((((DataInput!Q474-Z474)+(DataInput!Q473-Z473))/2)*(A474-A473))/27+S473+T473,0),0)),0),0)*$X$5),1)","v":0},176,{"$f":"ROUNDDOWN((IF(AC474>0,IFERROR(IF(((((DataInput!Q473-AC473)+(DataInput!Q474-AC474))/2)*(A474-A473))/27+S473+T473>0,ROUNDDOWN(((((DataInput!Q473-AC473)+(DataInput!Q474-AC474))/2)*(A474-A473))/27+S473+T473,0),0),0),0)*$X$5),1)","v":0},{"$f":"DataInput!U473","v":92},{"$f":"DataInput!S473","v":41},57.4,34.6]
[{"$f":"IF(DataInput!A474<>\"\",DataInput!A474,\"\")","v":91450},{"$f":"SUM(DataInput!C474,DataInput!Y474)+(DataInput!U474-DataInput!E474)","v":261},{"$f":"SUM(DataInput!D474,DataInput!Z474)","v":171},{"$f":"DataInput!U474","v":90},{"$f":"SUM(DataInput!F474,DataInput!AB474)","v":0},{"$f":"SUM(DataInput!G474,DataInput!AC474)","v":0},{"$f":"SUM(DataInput!H474,DataInput!AD474)","v":0},{"$f":"DataInput!I474","v":56},{"$f":"SUM(DataInput!J474,DataInput!AF474)","v":0},{"$f":"SUM(DataInput!K474,DataInput!AG474)","v":0},{"$f":"SUM(DataInput!L474,DataInput!AH474)","v":0},{"$f":"SUM(DataInput!M474,DataInput!AI474)","v":0},{"$f":"SUM(DataInput!N474,DataInput!AJ474)","v":0},{"$f":"SUM(DataInput!O474,DataInput!AK474)","v":0},{"$f":"DataInput!P474","v":0},null,171,{"$f":"DataInput!R474","v":26},{"$f":"DataInput!Y474","v":0},{"$f":"IF(DataInput!U474-DataInput!E474>0,DataInput!U474-DataInput!E474,\"\")","v":59},{"$f":"IF(DataInput!W474-DataInput!I474>0,DataInput!W474-DataInput!I474,\"\")","v":""},null,85,110.5,60.5,450,3350,{"$f":"ROUNDDOWN((IF(AA475>0,IFERROR(IF(AVERAGE(DataInput!Q474:Q475)>AVERAGE(AA475,AA474),ROUNDDOWN(((((AA474-Z474)+(AA475-Z475))/2)*(A475-A474))/27,0),IF(((((DataInput!Q475-Z475)+(DataInput!Q474-Z474))/2)*(A475-A474))/27+S474+T474>0,ROUNDDOWN(((((DataInput!Q475-Z475)+(DataInput!Q474-Z474))/2)*(A475-A474))/27+S474+T474,0),0)),0),0)*$X$5),1)","v":0},176,{"$f":"ROUNDDOWN((IF(AC475>0,IFERROR(IF(((((DataInput!Q474-AC474)+(DataInput!Q475-AC475))/2)*(A475-A474))/27+S474+T474>0,ROUNDDOWN(((((DataInput!Q474-AC474)+(DataInput!Q475-AC475))/2)*(A475-A474))/27+S474+T474,0),0),0),0)*$X$5),1)","v":0},{"$f":"DataInput!U474","v":90},{"$f":"DataInput!S474","v":39},54.6,35.4]
[{"$f":"IF(DataInput!A475<>\"\",DataInput!A475,\"\")","v":91475},{"$f":"SUM(DataInput!C475,DataInput!Y475)+(DataInput!U475-DataInput!E475)","v":264},{"$f":"SUM(DataInput!D475,DataInput!Z475)","v":176},{"$f":"DataInput!U475","v":88},{"$f":"SUM(DataInput!F475,DataInput!AB475)","v":0},{"$f":"SUM(DataInput!G475,DataInput!AC475)","v":0},{"$f":"SUM(DataInput!H475,DataInput!AD475)","v":0},{"$f":"DataInput!I475","v":57},{"$f":"SUM(DataInput!J475,DataInput!AF475)","v":0},{"$f":"SUM(DataInput!K475,DataInput!AG475)","v":0},{"$f":"SUM(DataInput!L475,DataInput!AH475)","v":0},{"$f":"SUM(DataInput!M475,DataInput!AI475)","v":0},{"$f":"SUM(DataInput!N475,DataInput!AJ475)","v":0},{"$f":"SUM(DataInput!O475,DataInput!AK475)","v":0},{"$f":"DataInput!P475","v":0},null,176,{"$f":"DataInput!R475","v":23},{"$f":"DataInput!Y475","v":0},{"$f":"IF(DataInput!U475-DataInput!E475>0,DataInput!U475-DataInput!E475,\"\")","v":56},{"$f":"IF(DataInput!W475-DataInput!I475>0,DataInput!W475-DataInput!I475,\"\")","v":""},null,79,102.7,73.3,450,3350,{"$f":"ROUNDDOWN((IF(AA476>0,IFERROR(IF(AVERAGE(DataInput!Q475:Q476)>AVERAGE(AA476,AA475),ROUNDDOWN(((((AA475-Z475)+(AA476-Z476))/2)*(A476-A475))/27,0),IF(((((DataInput!Q476-Z476)+(DataInput!Q475-Z475))/2)*(A476-A475))/27+S475+T475>0,ROUNDDOWN(((((DataInput!Q476-Z476)+(DataInput!Q475-Z475))/2)*(A476-A475))/27+S475+T475,0),0)),0),0)*$X$5),1)","v":0},176,{"$f":"ROUNDDOWN((IF(AC476>0,IFERROR(IF(((((DataInput!Q475-AC475)+(DataInput!Q476-AC476))/2)*(A476-A475))/27+S475+T475>0,ROUNDDOWN(((((DataInput!Q475-AC475)+(DataInput!Q476-AC476))/2)*(A476-A475))/27+S475+T475,0),0),0),0)*$X$5),1)","v":0},{"$f":"DataInput!U475","v":88},{"$f":"DataInput!S475","v":37},51.8,36.200000000000003]
[{"$f":"IF(DataInput!A476<>\"\",DataInput!A476,\"\")","v":91500},{"$f":"SUM(DataInput!C476,DataInput!Y476)+(DataInput!U476-DataInput!E476)","v":268},{"$f":"SUM(DataInput!D476,DataInput!Z476)","v":183},{"$f":"DataInput!U476","v":86},{"$f":"SUM(DataInput!F476,DataInput!AB476)","v":0},{"$f":"SUM(DataInput!G476,DataInput!AC476)","v":0},{"$f":"SUM(DataInput!H476,DataInput!AD476)","v":0},{"$f":"DataInput!I476","v":60},{"$f":"SUM(DataInput!J476,DataInput!AF476)","v":0},{"$f":"SUM(DataInput!K476,DataInput!AG476)","v":0},{"$f":"SUM(DataInput!L476,DataInput!AH476)","v":0},{"$f":"SUM(DataInput!M476,DataInput!AI476)","v":0},{"$f":"SUM(DataInput!N476,DataInput!AJ476)","v":0},{"$f":"SUM(DataInput!O476,DataInput!AK476)","v":0},{"$f":"DataInput!P476","v":0},null,183,{"$f":"DataInput!R476","v":20},{"$f":"DataInput!Y476","v":0},{"$f":"IF(DataInput!U476-DataInput!E476>0,DataInput!U476-DataInput!E476,\"\")","v":54},{"$f":"IF(DataInput!W476-DataInput!I476>0,DataInput!W476-DataInput!I476,\"\")","v":""},null,74,96.2,86.8,450,3350,{"$f":"ROUNDDOWN((IF(AA477>0,IFERROR(IF(AVERAGE(DataInput!Q476:Q477)>AVERAGE(AA477,AA476),ROUNDDOWN(((((AA476-Z476)+(AA477-Z477))/2)*(A477-A476))/27,0),IF(((((DataInput!Q477-Z477)+(DataInput!Q476-Z476))/2)*(A477-A476))/27+S476+T476>0,ROUNDDOWN(((((DataInput!Q477-Z477)+(DataInput!Q476-Z476))/2)*(A477-A476))/27+S476+T476,0),0)),0),0)*$X$5),1)","v":0},176,{"$f":"ROUNDDOWN((IF(AC477>0,IFERROR(IF(((((DataInput!Q476-AC476)+(DataInput!Q477-AC477))/2)*(A477-A476))/27+S476+T476>0,ROUNDDOWN(((((DataInput!Q476-AC476)+(DataInput!Q477-AC477))/2)*(A477-A476))/27+S476+T476,0),0),0),0)*$X$5),1)","v":0},{"$f":"DataInput!U476","v":86},{"$f":"DataInput!S476","v":37},51.8,34.200000000000003]
[{"$f":"IF(DataInput!A477<>\"\",DataInput!A477,\"\")","v":91525},{"$f":"SUM(DataInput!C477,DataInput!Y477)+(DataInput!U477-DataInput!E477)","v":272},{"$f":"SUM(DataInput!D477,DataInput!Z477)","v":192},{"$f":"DataInput!U477","v":79},{"$f":"SUM(DataInput!F477,DataInput!AB477)","v":0},{"$f":"SUM(DataInput!G477,DataInput!AC477)","v":0},{"$f":"SUM(DataInput!H477,DataInput!AD477)","v":0},{"$f":"DataInput!I477","v":62},{"$f":"SUM(DataInput!J477,DataInput!AF477)","v":0},{"$f":"SUM(DataInput!K477,DataInput!AG477)","v":0},{"$f":"SUM(DataInput!L477,DataInput!AH477)","v":0},{"$f":"SUM(DataInput!M477,DataInput!AI477)","v":0},{"$f":"SUM(DataInput!N477,DataInput!AJ477)","v":0},{"$f":"SUM(DataInput!O477,DataInput!AK477)","v":0},{"$f":"DataInput!P477","v":0},null,192,{"$f":"DataInput!R477","v":16},{"$f":"DataInput!Y477","v":0},{"$f":"IF(DataInput!U477-DataInput!E477>0,DataInput!U477-DataInput!E477,\"\")","v":54},{"$f":"IF(DataInput!W477-DataInput!I477>0,DataInput!W477-DataInput!I477,\"\")","v":""},null,70,91,101,450,3350,{"$f":"ROUNDDOWN((IF(AA478>0,IFERROR(IF(AVERAGE(DataInput!Q477:Q478)>AVERAGE(AA478,AA477),ROUNDDOWN(((((AA477-Z477)+(AA478-Z478))/2)*(A478-A477))/27,0),IF(((((DataInput!Q478-Z478)+(DataInput!Q477-Z477))/2)*(A478-A477))/27+S477+T477>0,ROUNDDOWN(((((DataInput!Q478-Z478)+(DataInput!Q477-Z477))/2)*(A478-A477))/27+S477+T477,0),0)),0),0)*$X$5),1)","v":0},176,{"$f":"ROUNDDOWN((IF(AC478>0,IFERROR(IF(((((DataInput!Q477-AC477)+(DataInput!Q478-AC478))/2)*(A478-A477))/27+S477+T477>0,ROUNDDOWN(((((DataInput!Q477-AC477)+(DataInput!Q478-AC478))/2)*(A478-A477))/27+S477+T477,0),0),0),0)*$X$5),1)","v":0},{"$f":"DataInput!U477","v":79},{"$f":"DataInput!S477","v":32},44.8,34.200000000000003]
[{"$f":"IF(DataInput!A478<>\"\",DataInput!A478,\"\")","v":91550},{"$f":"SUM(DataInput!C478,DataInput!Y478)+(DataInput!U478-DataInput!E478)","v":278},{"$f":"SUM(DataInput!D478,DataInput!Z478)","v":206},{"$f":"DataInput!U478","v":72},{"$f":"SUM(DataInput!F478,DataInput!AB478)","v":0},{"$f":"SUM(DataInput!G478,DataInput!AC478)","v":0},{"$f":"SUM(DataInput!H478,DataInput!AD478)","v":0},{"$f":"DataInput!I478","v":63},{"$f":"SUM(DataInput!J478,DataInput!AF478)","v":0},{"$f":"SUM(DataInput!K478,DataInput!AG478)","v":0},{"$f":"SUM(DataInput!L478,DataInput!AH478)","v":0},{"$f":"SUM(DataInput!M478,DataInput!AI478)","v":0},{"$f":"SUM(DataInput!N478,DataInput!AJ478)","v":0},{"$f":"SUM(DataInput!O478,DataInput!AK478)","v":0},{"$f":"DataInput!P478","v":0},null,206,{"$f":"DataInput!R478","v":12},{"$f":"DataInput!Y478","v":0},{"$f":"IF(DataInput!U478-DataInput!E478>0,DataInput!U478-DataInput!E478,\"\")","v":52},{"$f":"IF(DataInput!W478-DataInput!I478>0,DataInput!W478-DataInput!I478,\"\")","v":""},null,64,83.2,122.8,450,3350,{"$f":"ROUNDDOWN((IF(AA479>0,IFERROR(IF(AVERAGE(DataInput!Q478:Q479)>AVERAGE(AA479,AA478),ROUNDDOWN(((((AA478-Z478)+(AA479-Z479))/2)*(A479-A478))/27,0),IF(((((DataInput!Q479-Z479)+(DataInput!Q478-Z478))/2)*(A479-A478))/27+S478+T478>0,ROUNDDOWN(((((DataInput!Q479-Z479)+(DataInput!Q478-Z478))/2)*(A479-A478))/27+S478+T478,0),0)),0),0)*$X$5),1)","v":0},176,{"$f":"ROUNDDOWN((IF(AC479>0,IFERROR(IF(((((DataInput!Q478-AC478)+(DataInput!Q479-AC479))/2)*(A479-A478))/27+S478+T478>0,ROUNDDOWN(((((DataInput!Q478-AC478)+(DataInput!Q479-AC479))/2)*(A479-A478))/27+S478+T478,0),0),0),0)*$X$5),1)","v":0},{"$f":"DataInput!U478","v":72},{"$f":"DataInput!S478","v":29},40.6,31.4]
[{"$f":"IF(DataInput!A479<>\"\",DataInput!A479,\"\")","v":91575},{"$f":"SUM(DataInput!C479,DataInput!Y479)+(DataInput!U479-DataInput!E479)","v":171},{"$f":"SUM(DataInput!D479,DataInput!Z479)","v":130},{"$f":"DataInput!U479","v":40},{"$f":"SUM(DataInput!F479,DataInput!AB479)","v":0},{"$f":"SUM(DataInput!G479,DataInput!AC479)","v":0},{"$f":"SUM(DataInput!H479,DataInput!AD479)","v":0},{"$f":"DataInput!I479","v":39},{"$f":"SUM(DataInput!J479,DataInput!AF479)","v":0},{"$f":"SUM(DataInput!K479,DataInput!AG479)","v":0},{"$f":"SUM(DataInput!L479,DataInput!AH479)","v":0},{"$f":"SUM(DataInput!M479,DataInput!AI479)","v":0},{"$f":"SUM(DataInput!N479,DataInput!AJ479)","v":0},{"$f":"SUM(DataInput!O479,DataInput!AK479)","v":0},{"$f":"DataInput!P479","v":0},null,130,{"$f":"DataInput!R479","v":4},{"$f":"DataInput!Y479","v":0},{"$f":"IF(DataInput!U479-DataInput!E479>0,DataInput!U479-DataInput!E479,\"\")","v":26},{"$f":"IF(DataInput!W479-DataInput!I479>0,DataInput!W479-DataInput!I479,\"\")","v":""},null,30,39,91,450,3350,{"$f":"ROUNDDOWN((IF(AA480>0,IFERROR(IF(AVERAGE(DataInput!Q479:Q480)>AVERAGE(AA480,AA479),ROUNDDOWN(((((AA479-Z479)+(AA480-Z480))/2)*(A480-A479))/27,0),IF(((((DataInput!Q480-Z480)+(DataInput!Q479-Z479))/2)*(A480-A479))/27+S479+T479>0,ROUNDDOWN(((((DataInput!Q480-Z480)+(DataInput!Q479-Z479))/2)*(A480-A479))/27+S479+T479,0),0)),0),0)*$X$5),1)","v":0},176,{"$f":"ROUNDDOWN((IF(AC480>0,IFERROR(IF(((((DataInput!Q479-AC479)+(DataInput!Q480-AC480))/2)*(A480-A479))/27+S479+T479>0,ROUNDDOWN(((((DataInput!Q479-AC479)+(DataInput!Q480-AC480))/2)*(A480-A479))/27+S479+T479,0),0),0),0)*$X$5),1)","v":0},{"$f":"DataInput!U479","v":40},{"$f":"DataInput!S479","v":14},19.600000000000001,20.399999999999999]
[{"$f":"IF(DataInput!A480<>\"\",DataInput!A480,\"\")","v":91593.1},{"$f":"SUM(DataInput!C480,DataInput!Y480)+(DataInput!U480-DataInput!E480)","v":52},{"$f":"SUM(DataInput!D480,DataInput!Z480)","v":41},{"$f":"DataInput!U480","v":11},{"$f":"SUM(DataInput!F480,DataInput!AB480)","v":0},{"$f":"SUM(DataInput!G480,DataInput!AC480)","v":0},{"$f":"SUM(DataInput!H480,DataInput!AD480)","v":0},{"$f":"DataInput!I480","v":13},{"$f":"SUM(DataInput!J480,DataInput!AF480)","v":0},{"$f":"SUM(DataInput!K480,DataInput!AG480)","v":0},{"$f":"SUM(DataInput!L480,DataInput!AH480)","v":0},{"$f":"SUM(DataInput!M480,DataInput!AI480)","v":0},{"$f":"SUM(DataInput!N480,DataInput!AJ480)","v":0},{"$f":"SUM(DataInput!O480,DataInput!AK480)","v":0},{"$f":"DataInput!P480","v":0},null,41,{"$f":"DataInput!R480","v":1},{"$f":"DataInput!Y480","v":0},{"$f":"IF(DataInput!U480-DataInput!E480>0,DataInput!U480-DataInput!E480,\"\")","v":5},{"$f":"IF(DataInput!W480-DataInput!I480>0,DataInput!W480-DataInput!I480,\"\")","v":""},null,6,7.8,33.200000000000003,450,3350,{"$f":"ROUNDDOWN((IF(AA481>0,IFERROR(IF(AVERAGE(DataInput!Q480:Q481)>AVERAGE(AA481,AA480),ROUNDDOWN(((((AA480-Z480)+(AA481-Z481))/2)*(A481-A480))/27,0),IF(((((DataInput!Q481-Z481)+(DataInput!Q480-Z480))/2)*(A481-A480))/27+S480+T480>0,ROUNDDOWN(((((DataInput!Q481-Z481)+(DataInput!Q480-Z480))/2)*(A481-A480))/27+S480+T480,0),0)),0),0)*$X$5),1)","v":0},176,{"$f":"ROUNDDOWN((IF(AC481>0,IFERROR(IF(((((DataInput!Q480-AC480)+(DataInput!Q481-AC481))/2)*(A481-A480))/27+S480+T480>0,ROUNDDOWN(((((DataInput!Q480-AC480)+(DataInput!Q481-AC481))/2)*(A481-A480))/27+S480+T480,0),0),0),0)*$X$5),1)","v":0},{"$f":"DataInput!U480","v":11},{"$f":"DataInput!S480","v":3},4.2,6.8]
[{"$f":"IF(DataInput!A481<>\"\",DataInput!A481,\"\")","v":91600},{"$f":"SUM(DataInput!C481,DataInput!Y481)+(DataInput!U481-DataInput!E481)","v":201},{"$f":"SUM(DataInput!D481,DataInput!Z481)","v":157},{"$f":"DataInput!U481","v":45},{"$f":"SUM(DataInput!F481,DataInput!AB481)","v":0},{"$f":"SUM(DataInput!G481,DataInput!AC481)","v":0},{"$f":"SUM(DataInput!H481,DataInput!AD481)","v":0},{"$f":"DataInput!I481","v":45},{"$f":"SUM(DataInput!J481,DataInput!AF481)","v":0},{"$f":"SUM(DataInput!K481,DataInput!AG481)","v":0},{"$f":"SUM(DataInput!L481,DataInput!AH481)","v":0},{"$f":"SUM(DataInput!M481,DataInput!AI481)","v":0},{"$f":"SUM(DataInput!N481,DataInput!AJ481)","v":0},{"$f":"SUM(DataInput!O481,DataInput!AK481)","v":0},{"$f":"DataInput!P481","v":0},null,157,{"$f":"DataInput!R481","v":1},{"$f":"DataInput!Y481","v":0},{"$f":"IF(DataInput!U481-DataInput!E481>0,DataInput!U481-DataInput!E481,\"\")","v":15},{"$f":"IF(DataInput!W481-DataInput!I481>0,DataInput!W481-DataInput!I481,\"\")","v":""},null,16,20.8,136.19999999999999,450,3350,{"$f":"ROUNDDOWN((IF(AA482>0,IFERROR(IF(AVERAGE(DataInput!Q481:Q482)>AVERAGE(AA482,AA481),ROUNDDOWN(((((AA481-Z481)+(AA482-Z482))/2)*(A482-A481))/27,0),IF(((((DataInput!Q482-Z482)+(DataInput!Q481-Z481))/2)*(A482-A481))/27+S481+T481>0,ROUNDDOWN(((((DataInput!Q482-Z482)+(DataInput!Q481-Z481))/2)*(A482-A481))/27+S481+T481,0),0)),0),0)*$X$5),1)","v":0},176,{"$f":"ROUNDDOWN((IF(AC482>0,IFERROR(IF(((((DataInput!Q481-AC481)+(DataInput!Q482-AC482))/2)*(A482-A481))/27+S481+T481>0,ROUNDDOWN(((((DataInput!Q481-AC481)+(DataInput!Q482-AC482))/2)*(A482-A481))/27+S481+T481,0),0),0),0)*$X$5),1)","v":0},{"$f":"DataInput!U481","v":45},{"$f":"DataInput!S481","v":11},15.4,29.6]
[{"$f":"IF(DataInput!A482<>\"\",DataInput!A482,\"\")","v":91625},{"$f":"SUM(DataInput!C482,DataInput!Y482)+(DataInput!U482-DataInput!E482)","v":217},{"$f":"SUM(DataInput!D482,DataInput!Z482)","v":168},{"$f":"DataInput!U482","v":50},{"$f":"SUM(DataInput!F482,DataInput!AB482)","v":0},{"$f":"SUM(DataInput!G482,DataInput!AC482)","v":0},{"$f":"SUM(DataInput!H482,DataInput!AD482)","v":0},{"$f":"DataInput!I482","v":45},{"$f":"SUM(DataInput!J482,DataInput!AF482)","v":0},{"$f":"SUM(DataInput!K482,DataInput!AG482)","v":0},{"$f":"SUM(DataInput!L482,DataInput!AH482)","v":0},{"$f":"SUM(DataInput!M482,DataInput!AI482)","v":0},{"$f":"SUM(DataInput!N482,DataInput!AJ482)","v":0},{"$f":"SUM(DataInput!O482,DataInput!AK482)","v":0},{"$f":"DataInput!P482","v":0},null,168,{"$f":"DataInput!R482","v":0},{"$f":"DataInput!Y482","v":0},{"$f":"IF(DataInput!U482-DataInput!E482>0,DataInput!U482-DataInput!E482,\"\")","v":10},{"$f":"IF(DataInput!W482-DataInput!I482>0,DataInput!W482-DataInput!I482,\"\")","v":""},null,10,13,155,450,3350,{"$f":"ROUNDDOWN((IF(AA483>0,IFERROR(IF(AVERAGE(DataInput!Q482:Q483)>AVERAGE(AA483,AA482),ROUNDDOWN(((((AA482-Z482)+(AA483-Z483))/2)*(A483-A482))/27,0),IF(((((DataInput!Q483-Z483)+(DataInput!Q482-Z482))/2)*(A483-A482))/27+S482+T482>0,ROUNDDOWN(((((DataInput!Q483-Z483)+(DataInput!Q482-Z482))/2)*(A483-A482))/27+S482+T482,0),0)),0),0)*$X$5),1)","v":0},176,{"$f":"ROUNDDOWN((IF(AC483>0,IFERROR(IF(((((DataInput!Q482-AC482)+(DataInput!Q483-AC483))/2)*(A483-A482))/27+S482+T482>0,ROUNDDOWN(((((DataInput!Q482-AC482)+(DataInput!Q483-AC483))/2)*(A483-A482))/27+S482+T482,0),0),0),0)*$X$5),1)","v":0},{"$f":"DataInput!U482","v":50},{"$f":"DataInput!S482","v":13},18.2,31.8]
[{"$f":"IF(DataInput!A483<>\"\",DataInput!A483,\"\")","v":91650},{"$f":"SUM(DataInput!C483,DataInput!Y483)+(DataInput!U483-DataInput!E483)","v":229},{"$f":"SUM(DataInput!D483,DataInput!Z483)","v":174},{"$f":"DataInput!U483","v":55},{"$f":"SUM(DataInput!F483,DataInput!AB483)","v":0},{"$f":"SUM(DataInput!G483,DataInput!AC483)","v":0},{"$f":"SUM(DataInput!H483,DataInput!AD483)","v":0},{"$f":"DataInput!I483","v":45},{"$f":"SUM(DataInput!J483,DataInput!AF483)","v":0},{"$f":"SUM(DataInput!K483,DataInput!AG483)","v":0},{"$f":"SUM(DataInput!L483,DataInput!AH483)","v":0},{"$f":"SUM(DataInput!M483,DataInput!AI483)","v":0},{"$f":"SUM(DataInput!N483,DataInput!AJ483)","v":0},{"$f":"SUM(DataInput!O483,DataInput!AK483)","v":0},{"$f":"DataInput!P483","v":0},null,174,{"$f":"DataInput!R483","v":0},{"$f":"DataInput!Y483","v":0},{"$f":"IF(DataInput!U483-DataInput!E483>0,DataInput!U483-DataInput!E483,\"\")","v":7},{"$f":"IF(DataInput!W483-DataInput!I483>0,DataInput!W483-DataInput!I483,\"\")","v":""},null,7,9.1,164.9,450,3350,{"$f":"ROUNDDOWN((IF(AA484>0,IFERROR(IF(AVERAGE(DataInput!Q483:Q484)>AVERAGE(AA484,AA483),ROUNDDOWN(((((AA483-Z483)+(AA484-Z484))/2)*(A484-A483))/27,0),IF(((((DataInput!Q484-Z484)+(DataInput!Q483-Z483))/2)*(A484-A483))/27+S483+T483>0,ROUNDDOWN(((((DataInput!Q484-Z484)+(DataInput!Q483-Z483))/2)*(A484-A483))/27+S483+T483,0),0)),0),0)*$X$5),1)","v":0},176,{"$f":"ROUNDDOWN((IF(AC484>0,IFERROR(IF(((((DataInput!Q483-AC483)+(DataInput!Q484-AC484))/2)*(A484-A483))/27+S483+T483>0,ROUNDDOWN(((((DataInput!Q483-AC483)+(DataInput!Q484-AC484))/2)*(A484-A483))/27+S483+T483,0),0),0),0)*$X$5),1)","v":0},{"$f":"DataInput!U483","v":55},{"$f":"DataInput!S483","v":16},22.4,32.6]
[{"$f":"IF(DataInput!A484<>\"\",DataInput!A484,\"\")","v":91675},{"$f":"SUM(DataInput!C484,DataInput!Y484)+(DataInput!U484-DataInput!E484)","v":232},{"$f":"SUM(DataInput!D484,DataInput!Z484)","v":172},{"$f":"DataInput!U484","v":60},{"$f":"SUM(DataInput!F484,DataInput!AB484)","v":0},{"$f":"SUM(DataInput!G484,DataInput!AC484)","v":0},{"$f":"SUM(DataInput!H484,DataInput!AD484)","v":0},{"$f":"DataInput!I484","v":47},{"$f":"SUM(DataInput!J484,DataInput!AF484)","v":0},{"$f":"SUM(DataInput!K484,DataInput!AG484)","v":0},{"$f":"SUM(DataInput!L484,DataInput!AH484)","v":0},{"$f":"SUM(DataInput!M484,DataInput!AI484)","v":0},{"$f":"SUM(DataInput!N484,DataInput!AJ484)","v":0},{"$f":"SUM(DataInput!O484,DataInput!AK484)","v":0},{"$f":"DataInput!P484","v":0},null,172,{"$f":"DataInput!R484","v":0},{"$f":"DataInput!Y484","v":0},{"$f":"IF(DataInput!U484-DataInput!E484>0,DataInput!U484-DataInput!E484,\"\")","v":5},{"$f":"IF(DataInput!W484-DataInput!I484>0,DataInput!W484-DataInput!I484,\"\")","v":""},null,5,6.5,165.5,450,3350,{"$f":"ROUNDDOWN((IF(AA485>0,IFERROR(IF(AVERAGE(DataInput!Q484:Q485)>AVERAGE(AA485,AA484),ROUNDDOWN(((((AA484-Z484)+(AA485-Z485))/2)*(A485-A484))/27,0),IF(((((DataInput!Q485-Z485)+(DataInput!Q484-Z484))/2)*(A485-A484))/27+S484+T484>0,ROUNDDOWN(((((DataInput!Q485-Z485)+(DataInput!Q484-Z484))/2)*(A485-A484))/27+S484+T484,0),0)),0),0)*$X$5),1)","v":0},176,{"$f":"ROUNDDOWN((IF(AC485>0,IFERROR(IF(((((DataInput!Q484-AC484)+(DataInput!Q485-AC485))/2)*(A485-A484))/27+S484+T484>0,ROUNDDOWN(((((DataInput!Q484-AC484)+(DataInput!Q485-AC485))/2)*(A485-A484))/27+S484+T484,0),0),0),0)*$X$5),1)","v":0},{"$f":"DataInput!U484","v":60},{"$f":"DataInput!S484","v":19},26.6,33.4]
[{"$f":"IF(DataInput!A485<>\"\",DataInput!A485,\"\")","v":91700},{"$f":"SUM(DataInput!C485,DataInput!Y485)+(DataInput!U485-DataInput!E485)","v":228},{"$f":"SUM(DataInput!D485,DataInput!Z485)","v":165},{"$f":"DataInput!U485","v":62},{"$f":"SUM(DataInput!F485,DataInput!AB485)","v":0},{"$f":"SUM(DataInput!G485,DataInput!AC485)","v":0},{"$f":"SUM(DataInput!H485,DataInput!AD485)","v":0},{"$f":"DataInput!I485","v":46},{"$f":"SUM(DataInput!J485,DataInput!AF485)","v":0},{"$f":"SUM(DataInput!K485,DataInput!AG485)","v":0},{"$f":"SUM(DataInput!L485,DataInput!AH485)","v":0},{"$f":"SUM(DataInput!M485,DataInput!AI485)","v":0},{"$f":"SUM(DataInput!N485,DataInput!AJ485)","v":0},{"$f":"SUM(DataInput!O485,DataInput!AK485)","v":0},{"$f":"DataInput!P485","v":0},null,165,{"$f":"DataInput!R485","v":0},{"$f":"DataInput!Y485","v":0},{"$f":"IF(DataInput!U485-DataInput!E485>0,DataInput!U485-DataInput!E485,\"\")","v":5},{"$f":"IF(DataInput!W485-DataInput!I485>0,DataInput!W485-DataInput!I485,\"\")","v":7},null,12,15.6,149.4,450,3350,{"$f":"ROUNDDOWN((IF(AA486>0,IFERROR(IF(AVERAGE(DataInput!Q485:Q486)>AVERAGE(AA486,AA485),ROUNDDOWN(((((AA485-Z485)+(AA486-Z486))/2)*(A486-A485))/27,0),IF(((((DataInput!Q486-Z486)+(DataInput!Q485-Z485))/2)*(A486-A485))/27+S485+T485>0,ROUNDDOWN(((((DataInput!Q486-Z486)+(DataInput!Q485-Z485))/2)*(A486-A485))/27+S485+T485,0),0)),0),0)*$X$5),1)","v":0},176,{"$f":"ROUNDDOWN((IF(AC486>0,IFERROR(IF(((((DataInput!Q485-AC485)+(DataInput!Q486-AC486))/2)*(A486-A485))/27+S485+T485>0,ROUNDDOWN(((((DataInput!Q485-AC485)+(DataInput!Q486-AC486))/2)*(A486-A485))/27+S485+T485,0),0),0),0)*$X$5),1)","v":0},{"$f":"DataInput!U485","v":62},{"$f":"DataInput!S485","v":21},29.4,32.6]
[{"$f":"IF(DataInput!A486<>\"\",DataInput!A486,\"\")","v":91725},{"$f":"SUM(DataInput!C486,DataInput!Y486)+(DataInput!U486-DataInput!E486)","v":182},{"$f":"SUM(DataInput!D486,DataInput!Z486)","v":132},{"$f":"DataInput!U486","v":50},{"$f":"SUM(DataInput!F486,DataInput!AB486)","v":0},{"$f":"SUM(DataInput!G486,DataInput!AC486)","v":0},{"$f":"SUM(DataInput!H486,DataInput!AD486)","v":0},{"$f":"DataInput!I486","v":35},{"$f":"SUM(DataInput!J486,DataInput!AF486)","v":0},{"$f":"SUM(DataInput!K486,DataInput!AG486)","v":0},{"$f":"SUM(DataInput!L486,DataInput!AH486)","v":0},{"$f":"SUM(DataInput!M486,DataInput!AI486)","v":0},{"$f":"SUM(DataInput!N486,DataInput!AJ486)","v":0},{"$f":"SUM(DataInput!O486,DataInput!AK486)","v":0},{"$f":"DataInput!P486","v":0},null,132,{"$f":"DataInput!R486","v":0},{"$f":"DataInput!Y486","v":0},{"$f":"IF(DataInput!U486-DataInput!E486>0,DataInput!U486-DataInput!E486,\"\")","v":7},{"$f":"IF(DataInput!W486-DataInput!I486>0,DataInput!W486-DataInput!I486,\"\")","v":7},null,14,18.2,113.8,450,3350,{"$f":"ROUNDDOWN((IF(AA487>0,IFERROR(IF(AVERAGE(DataInput!Q486:Q487)>AVERAGE(AA487,AA486),ROUNDDOWN(((((AA486-Z486)+(AA487-Z487))/2)*(A487-A486))/27,0),IF(((((DataInput!Q487-Z487)+(DataInput!Q486-Z486))/2)*(A487-A486))/27+S486+T486>0,ROUNDDOWN(((((DataInput!Q487-Z487)+(DataInput!Q486-Z486))/2)*(A487-A486))/27+S486+T486,0),0)),0),0)*$X$5),1)","v":0},176,{"$f":"ROUNDDOWN((IF(AC487>0,IFERROR(IF(((((DataInput!Q486-AC486)+(DataInput!Q487-AC487))/2)*(A487-A486))/27+S486+T486>0,ROUNDDOWN(((((DataInput!Q486-AC486)+(DataInput!Q487-AC487))/2)*(A487-A486))/27+S486+T486,0),0),0),0)*$X$5),1)","v":0},{"$f":"DataInput!U486","v":50},{"$f":"DataInput!S486","v":17},23.8,26.2]
[{"$f":"IF(DataInput!A487<>\"\",DataInput!A487,\"\")","v":91745},{"$f":"SUM(DataInput!C487,DataInput!Y487)+(DataInput!U487-DataInput!E487)","v":26},{"$f":"SUM(DataInput!D487,DataInput!Z487)","v":17},{"$f":"DataInput!U487","v":8},{"$f":"SUM(DataInput!F487,DataInput!AB487)","v":0},{"$f":"SUM(DataInput!G487,DataInput!AC487)","v":0},{"$f":"SUM(DataInput!H487,DataInput!AD487)","v":0},{"$f":"DataInput!I487","v":4},{"$f":"SUM(DataInput!J487,DataInput!AF487)","v":0},{"$f":"SUM(DataInput!K487,DataInput!AG487)","v":0},{"$f":"SUM(DataInput!L487,DataInput!AH487)","v":0},{"$f":"SUM(DataInput!M487,DataInput!AI487)","v":0},{"$f":"SUM(DataInput!N487,DataInput!AJ487)","v":0},{"$f":"SUM(DataInput!O487,DataInput!AK487)","v":0},{"$f":"DataInput!P487","v":0},null,17,{"$f":"DataInput!R487","v":0},{"$f":"DataInput!Y487","v":0},{"$f":"IF(DataInput!U487-DataInput!E487>0,DataInput!U487-DataInput!E487,\"\")","v":2},{"$f":"IF(DataInput!W487-DataInput!I487>0,DataInput!W487-DataInput!I487,\"\")","v":""},null,2,2.6,14.4,450,3350,{"$f":"ROUNDDOWN((IF(AA488>0,IFERROR(IF(AVERAGE(DataInput!Q487:Q488)>AVERAGE(AA488,AA487),ROUNDDOWN(((((AA487-Z487)+(AA488-Z488))/2)*(A488-A487))/27,0),IF(((((DataInput!Q488-Z488)+(DataInput!Q487-Z487))/2)*(A488-A487))/27+S487+T487>0,ROUNDDOWN(((((DataInput!Q488-Z488)+(DataInput!Q487-Z487))/2)*(A488-A487))/27+S487+T487,0),0)),0),0)*$X$5),1)","v":0},176,{"$f":"ROUNDDOWN((IF(AC488>0,IFERROR(IF(((((DataInput!Q487-AC487)+(DataInput!Q488-AC488))/2)*(A488-A487))/27+S487+T487>0,ROUNDDOWN(((((DataInput!Q487-AC487)+(DataInput!Q488-AC488))/2)*(A488-A487))/27+S487+T487,0),0),0),0)*$X$5),1)","v":0},{"$f":"DataInput!U487","v":8},{"$f":"DataInput!S487","v":2},2.8,5.2]
[{"$f":"IF(DataInput!A488<>\"\",DataInput!A488,\"\")","v":91750},{"$f":"SUM(DataInput!C488,DataInput!Y488)+(DataInput!U488-DataInput!E488)","v":19},{"$f":"SUM(DataInput!D488,DataInput!Z488)","v":5},{"$f":"DataInput!U488","v":14},{"$f":"SUM(DataInput!F488,DataInput!AB488)","v":0},{"$f":"SUM(DataInput!G488,DataInput!AC488)","v":0},{"$f":"SUM(DataInput!H488,DataInput!AD488)","v":0},{"$f":"DataInput!I488","v":0},{"$f":"SUM(DataInput!J488,DataInput!AF488)","v":0},{"$f":"SUM(DataInput!K488,DataInput!AG488)","v":0},{"$f":"SUM(DataInput!L488,DataInput!AH488)","v":0},{"$f":"SUM(DataInput!M488,DataInput!AI488)","v":0},{"$f":"SUM(DataInput!N488,DataInput!AJ488)","v":0},{"$f":"SUM(DataInput!O488,DataInput!AK488)","v":0},{"$f":"DataInput!P488","v":0},null,5,{"$f":"DataInput!R488","v":0},{"$f":"DataInput!Y488","v":0},{"$f":"IF(DataInput!U488-DataInput!E488>0,DataInput!U488-DataInput!E488,\"\")","v":""},{"$f":"IF(DataInput!W488-DataInput!I488>0,DataInput!W488-DataInput!I488,\"\")","v":""},null,0,0,5,450,3350,{"$f":"ROUNDDOWN((IF(AA489>0,IFERROR(IF(AVERAGE(DataInput!Q488:Q489)>AVERAGE(AA489,AA488),ROUNDDOWN(((((AA488-Z488)+(AA489-Z489))/2)*(A489-A488))/27,0),IF(((((DataInput!Q489-Z489)+(DataInput!Q488-Z488))/2)*(A489-A488))/27+S488+T488>0,ROUNDDOWN(((((DataInput!Q489-Z489)+(DataInput!Q488-Z488))/2)*(A489-A488))/27+S488+T488,0),0)),0),0)*$X$5),1)","v":0},176,{"$f":"ROUNDDOWN((IF(AC489>0,IFERROR(IF(((((DataInput!Q488-AC488)+(DataInput!Q489-AC489))/2)*(A489-A488))/27+S488+T488>0,ROUNDDOWN(((((DataInput!Q488-AC488)+(DataInput!Q489-AC489))/2)*(A489-A488))/27+S488+T488,0),0),0),0)*$X$5),1)","v":0},{"$f":"DataInput!U488","v":14},{"$f":"DataInput!S488","v":0},0,14]
[{"$f":"IF(DataInput!A489<>\"\",DataInput!A489,\"\")","v":91775},{"$f":"SUM(DataInput!C489,DataInput!Y489)+(DataInput!U489-DataInput!E489)","v":18},{"$f":"SUM(DataInput!D489,DataInput!Z489)","v":4},{"$f":"DataInput!U489","v":14},{"$f":"SUM(DataInput!F489,DataInput!AB489)","v":0},{"$f":"SUM(DataInput!G489,DataInput!AC489)","v":0},{"$f":"SUM(DataInput!H489,DataInput!AD489)","v":0},{"$f":"DataInput!I489","v":0},{"$f":"SUM(DataInput!J489,DataInput!AF489)","v":0},{"$f":"SUM(DataInput!K489,DataInput!AG489)","v":0},{"$f":"SUM(DataInput!L489,DataInput!AH489)","v":0},{"$f":"SUM(DataInput!M489,DataInput!AI489)","v":0},{"$f":"SUM(DataInput!N489,DataInput!AJ489)","v":0},{"$f":"SUM(DataInput!O489,DataInput!AK489)","v":0},{"$f":"DataInput!P489","v":0},null,4,{"$f":"DataInput!R489","v":0},{"$f":"DataInput!Y489","v":0},{"$f":"IF(DataInput!U489-DataInput!E489>0,DataInput!U489-DataInput!E489,\"\")","v":2},{"$f":"IF(DataInput!W489-DataInput!I489>0,DataInput!W489-DataInput!I489,\"\")","v":""},null,2,2.6,1.4,450,3350,{"$f":"ROUNDDOWN((IF(AA490>0,IFERROR(IF(AVERAGE(DataInput!Q489:Q490)>AVERAGE(AA490,AA489),ROUNDDOWN(((((AA489-Z489)+(AA490-Z490))/2)*(A490-A489))/27,0),IF(((((DataInput!Q490-Z490)+(DataInput!Q489-Z489))/2)*(A490-A489))/27+S489+T489>0,ROUNDDOWN(((((DataInput!Q490-Z490)+(DataInput!Q489-Z489))/2)*(A490-A489))/27+S489+T489,0),0)),0),0)*$X$5),1)","v":0},176,{"$f":"ROUNDDOWN((IF(AC490>0,IFERROR(IF(((((DataInput!Q489-AC489)+(DataInput!Q490-AC490))/2)*(A490-A489))/27+S489+T489>0,ROUNDDOWN(((((DataInput!Q489-AC489)+(DataInput!Q490-AC490))/2)*(A490-A489))/27+S489+T489,0),0),0),0)*$X$5),1)","v":0},{"$f":"DataInput!U489","v":14},{"$f":"DataInput!S489","v":0},0,14]
[{"$f":"IF(DataInput!A490<>\"\",DataInput!A490,\"\")","v":91800},{"$f":"SUM(DataInput!C490,DataInput!Y490)+(DataInput!U490-DataInput!E490)","v":16},{"$f":"SUM(DataInput!D490,DataInput!Z490)","v":3},{"$f":"DataInput!U490","v":12},{"$f":"SUM(DataInput!F490,DataInput!AB490)","v":0},{"$f":"SUM(DataInput!G490,DataInput!AC490)","v":0},{"$f":"SUM(DataInput!H490,DataInput!AD490)","v":0},{"$f":"DataInput!I490","v":0},{"$f":"SUM(DataInput!J490,DataInput!AF490)","v":0},{"$f":"SUM(DataInput!K490,DataInput!AG490)","v":0},{"$f":"SUM(DataInput!L490,DataInput!AH490)","v":0},{"$f":"SUM(DataInput!M490,DataInput!AI490)","v":0},{"$f":"SUM(DataInput!N490,DataInput!AJ490)","v":0},{"$f":"SUM(DataInput!O490,DataInput!AK490)","v":0},{"$f":"DataInput!P490","v":0},null,3,{"$f":"DataInput!R490","v":0},{"$f":"DataInput!Y490","v":0},{"$f":"IF(DataInput!U490-DataInput!E490>0,DataInput!U490-DataInput!E490,\"\")","v":3},{"$f":"IF(DataInput!W490-DataInput!I490>0,DataInput!W490-DataInput!I490,\"\")","v":""},null,3,3.9,-0.9,450,3350,{"$f":"ROUNDDOWN((IF(AA491>0,IFERROR(IF(AVERAGE(DataInput!Q490:Q491)>AVERAGE(AA491,AA490),ROUNDDOWN(((((AA490-Z490)+(AA491-Z491))/2)*(A491-A490))/27,0),IF(((((DataInput!Q491-Z491)+(DataInput!Q490-Z490))/2)*(A491-A490))/27+S490+T490>0,ROUNDDOWN(((((DataInput!Q491-Z491)+(DataInput!Q490-Z490))/2)*(A491-A490))/27+S490+T490,0),0)),0),0)*$X$5),1)","v":0},176,{"$f":"ROUNDDOWN((IF(AC491>0,IFERROR(IF(((((DataInput!Q490-AC490)+(DataInput!Q491-AC491))/2)*(A491-A490))/27+S490+T490>0,ROUNDDOWN(((((DataInput!Q490-AC490)+(DataInput!Q491-AC491))/2)*(A491-A490))/27+S490+T490,0),0),0),0)*$X$5),1)","v":0},{"$f":"DataInput!U490","v":12},{"$f":"DataInput!S490","v":0},0,12]
[{"$f":"IF(DataInput!A491<>\"\",DataInput!A491,\"\")","v":91825},{"$f":"SUM(DataInput!C491,DataInput!Y491)+(DataInput!U491-DataInput!E491)","v":16},{"$f":"SUM(DataInput!D491,DataInput!Z491)","v":4},{"$f":"DataInput!U491","v":12},{"$f":"SUM(DataInput!F491,DataInput!AB491)","v":0},{"$f":"SUM(DataInput!G491,DataInput!AC491)","v":0},{"$f":"SUM(DataInput!H491,DataInput!AD491)","v":0},{"$f":"DataInput!I491","v":0},{"$f":"SUM(DataInput!J491,DataInput!AF491)","v":0},{"$f":"SUM(DataInput!K491,DataInput!AG491)","v":0},{"$f":"SUM(DataInput!L491,DataInput!AH491)","v":0},{"$f":"SUM(DataInput!M491,DataInput!AI491)","v":0},{"$f":"SUM(DataInput!N491,DataInput!AJ491)","v":0},{"$f":"SUM(DataInput!O491,DataInput!AK491)","v":0},{"$f":"DataInput!P491","v":0},null,4,{"$f":"DataInput!R491","v":0},{"$f":"DataInput!Y491","v":0},{"$f":"IF(DataInput!U491-DataInput!E491>0,DataInput!U491-DataInput!E491,\"\")","v":""},{"$f":"IF(DataInput!W491-DataInput!I491>0,DataInput!W491-DataInput!I491,\"\")","v":""},null,0,0,4,450,3350,{"$f":"ROUNDDOWN((IF(AA492>0,IFERROR(IF(AVERAGE(DataInput!Q491:Q492)>AVERAGE(AA492,AA491),ROUNDDOWN(((((AA491-Z491)+(AA492-Z492))/2)*(A492-A491))/27,0),IF(((((DataInput!Q492-Z492)+(DataInput!Q491-Z491))/2)*(A492-A491))/27+S491+T491>0,ROUNDDOWN(((((DataInput!Q492-Z492)+(DataInput!Q491-Z491))/2)*(A492-A491))/27+S491+T491,0),0)),0),0)*$X$5),1)","v":0},176,{"$f":"ROUNDDOWN((IF(AC492>0,IFERROR(IF(((((DataInput!Q491-AC491)+(DataInput!Q492-AC492))/2)*(A492-A491))/27+S491+T491>0,ROUNDDOWN(((((DataInput!Q491-AC491)+(DataInput!Q492-AC492))/2)*(A492-A491))/27+S491+T491,0),0),0),0)*$X$5),1)","v":0},{"$f":"DataInput!U491","v":12},{"$f":"DataInput!S491","v":0},0,12]
[{"$f":"IF(DataInput!A492<>\"\",DataInput!A492,\"\")","v":91850},{"$f":"SUM(DataInput!C492,DataInput!Y492)+(DataInput!U492-DataInput!E492)","v":19},{"$f":"SUM(DataInput!D492,DataInput!Z492)","v":5},{"$f":"DataInput!U492","v":14},{"$f":"SUM(DataInput!F492,DataInput!AB492)","v":0},{"$f":"SUM(DataInput!G492,DataInput!AC492)","v":0},{"$f":"SUM(DataInput!H492,DataInput!AD492)","v":0},{"$f":"DataInput!I492","v":0},{"$f":"SUM(DataInput!J492,DataInput!AF492)","v":0},{"$f":"SUM(DataInput!K492,DataInput!AG492)","v":0},{"$f":"SUM(DataInput!L492,DataInput!AH492)","v":0},{"$f":"SUM(DataInput!M492,DataInput!AI492)","v":0},{"$f":"SUM(DataInput!N492,DataInput!AJ492)","v":0},{"$f":"SUM(DataInput!O492,DataInput!AK492)","v":0},{"$f":"DataInput!P492","v":0},null,5,{"$f":"DataInput!R492","v":0},{"$f":"DataInput!Y492","v":0},{"$f":"IF(DataInput!U492-DataInput!E492>0,DataInput!U492-DataInput!E492,\"\")","v":""},{"$f":"IF(DataInput!W492-DataInput!I492>0,DataInput!W492-DataInput!I492,\"\")","v":""},null,0,0,5,450,3350,{"$f":"ROUNDDOWN((IF(AA493>0,IFERROR(IF(AVERAGE(DataInput!Q492:Q493)>AVERAGE(AA493,AA492),ROUNDDOWN(((((AA492-Z492)+(AA493-Z493))/2)*(A493-A492))/27,0),IF(((((DataInput!Q493-Z493)+(DataInput!Q492-Z492))/2)*(A493-A492))/27+S492+T492>0,ROUNDDOWN(((((DataInput!Q493-Z493)+(DataInput!Q492-Z492))/2)*(A493-A492))/27+S492+T492,0),0)),0),0)*$X$5),1)","v":0},176,{"$f":"ROUNDDOWN((IF(AC493>0,IFERROR(IF(((((DataInput!Q492-AC492)+(DataInput!Q493-AC493))/2)*(A493-A492))/27+S492+T492>0,ROUNDDOWN(((((DataInput!Q492-AC492)+(DataInput!Q493-AC493))/2)*(A493-A492))/27+S492+T492,0),0),0),0)*$X$5),1)","v":0},{"$f":"DataInput!U492","v":14},{"$f":"DataInput!S492","v":0},0,14]
[{"$f":"IF(DataInput!A493<>\"\",DataInput!A493,\"\")","v":91875},{"$f":"SUM(DataInput!C493,DataInput!Y493)+(DataInput!U493-DataInput!E493)","v":19},{"$f":"SUM(DataInput!D493,DataInput!Z493)","v":5},{"$f":"DataInput!U493","v":14},{"$f":"SUM(DataInput!F493,DataInput!AB493)","v":0},{"$f":"SUM(DataInput!G493,DataInput!AC493)","v":0},{"$f":"SUM(DataInput!H493,DataInput!AD493)","v":0},{"$f":"DataInput!I493","v":0},{"$f":"SUM(DataInput!J493,DataInput!AF493)","v":0},{"$f":"SUM(DataInput!K493,DataInput!AG493)","v":0},{"$f":"SUM(DataInput!L493,DataInput!AH493)","v":0},{"$f":"SUM(DataInput!M493,DataInput!AI493)","v":0},{"$f":"SUM(DataInput!N493,DataInput!AJ493)","v":0},{"$f":"SUM(DataInput!O493,DataInput!AK493)","v":0},{"$f":"DataInput!P493","v":0},null,5,{"$f":"DataInput!R493","v":0},{"$f":"DataInput!Y493","v":0},{"$f":"IF(DataInput!U493-DataInput!E493>0,DataInput!U493-DataInput!E493,\"\")","v":""},{"$f":"IF(DataInput!W493-DataInput!I493>0,DataInput!W493-DataInput!I493,\"\")","v":""},null,0,0,5,450,3350,{"$f":"ROUNDDOWN((IF(AA494>0,IFERROR(IF(AVERAGE(DataInput!Q493:Q494)>AVERAGE(AA494,AA493),ROUNDDOWN(((((AA493-Z493)+(AA494-Z494))/2)*(A494-A493))/27,0),IF(((((DataInput!Q494-Z494)+(DataInput!Q493-Z493))/2)*(A494-A493))/27+S493+T493>0,ROUNDDOWN(((((DataInput!Q494-Z494)+(DataInput!Q493-Z493))/2)*(A494-A493))/27+S493+T493,0),0)),0),0)*$X$5),1)","v":0},176,{"$f":"ROUNDDOWN((IF(AC494>0,IFERROR(IF(((((DataInput!Q493-AC493)+(DataInput!Q494-AC494))/2)*(A494-A493))/27+S493+T493>0,ROUNDDOWN(((((DataInput!Q493-AC493)+(DataInput!Q494-AC494))/2)*(A494-A493))/27+S493+T493,0),0),0),0)*$X$5),1)","v":0},{"$f":"DataInput!U493","v":14},{"$f":"DataInput!S493","v":0},0,14]
[{"$f":"IF(DataInput!A494<>\"\",DataInput!A494,\"\")","v":91900},{"$f":"SUM(DataInput!C494,DataInput!Y494)+(DataInput!U494-DataInput!E494)","v":19},{"$f":"SUM(DataInput!D494,DataInput!Z494)","v":5},{"$f":"DataInput!U494","v":14},{"$f":"SUM(DataInput!F494,DataInput!AB494)","v":0},{"$f":"SUM(DataInput!G494,DataInput!AC494)","v":0},{"$f":"SUM(DataInput!H494,DataInput!AD494)","v":0},{"$f":"DataInput!I494","v":0},{"$f":"SUM(DataInput!J494,DataInput!AF494)","v":0},{"$f":"SUM(DataInput!K494,DataInput!AG494)","v":0},{"$f":"SUM(DataInput!L494,DataInput!AH494)","v":0},{"$f":"SUM(DataInput!M494,DataInput!AI494)","v":0},{"$f":"SUM(DataInput!N494,DataInput!AJ494)","v":0},{"$f":"SUM(DataInput!O494,DataInput!AK494)","v":0},{"$f":"DataInput!P494","v":0},null,5,{"$f":"DataInput!R494","v":0},{"$f":"DataInput!Y494","v":0},{"$f":"IF(DataInput!U494-DataInput!E494>0,DataInput!U494-DataInput!E494,\"\")","v":""},{"$f":"IF(DataInput!W494-DataInput!I494>0,DataInput!W494-DataInput!I494,\"\")","v":""},null,0,0,5,450,3350,{"$f":"ROUNDDOWN((IF(AA495>0,IFERROR(IF(AVERAGE(DataInput!Q494:Q495)>AVERAGE(AA495,AA494),ROUNDDOWN(((((AA494-Z494)+(AA495-Z495))/2)*(A495-A494))/27,0),IF(((((DataInput!Q495-Z495)+(DataInput!Q494-Z494))/2)*(A495-A494))/27+S494+T494>0,ROUNDDOWN(((((DataInput!Q495-Z495)+(DataInput!Q494-Z494))/2)*(A495-A494))/27+S494+T494,0),0)),0),0)*$X$5),1)","v":0},176,{"$f":"ROUNDDOWN((IF(AC495>0,IFERROR(IF(((((DataInput!Q494-AC494)+(DataInput!Q495-AC495))/2)*(A495-A494))/27+S494+T494>0,ROUNDDOWN(((((DataInput!Q494-AC494)+(DataInput!Q495-AC495))/2)*(A495-A494))/27+S494+T494,0),0),0),0)*$X$5),1)","v":0},{"$f":"DataInput!U494","v":14},{"$f":"DataInput!S494","v":0},0,14]
[{"$f":"IF(DataInput!A495<>\"\",DataInput!A495,\"\")","v":91925},{"$f":"SUM(DataInput!C495,DataInput!Y495)+(DataInput!U495-DataInput!E495)","v":19},{"$f":"SUM(DataInput!D495,DataInput!Z495)","v":5},{"$f":"DataInput!U495","v":14},{"$f":"SUM(DataInput!F495,DataInput!AB495)","v":0},{"$f":"SUM(DataInput!G495,DataInput!AC495)","v":0},{"$f":"SUM(DataInput!H495,DataInput!AD495)","v":0},{"$f":"DataInput!I495","v":0},{"$f":"SUM(DataInput!J495,DataInput!AF495)","v":0},{"$f":"SUM(DataInput!K495,DataInput!AG495)","v":0},{"$f":"SUM(DataInput!L495,DataInput!AH495)","v":0},{"$f":"SUM(DataInput!M495,DataInput!AI495)","v":0},{"$f":"SUM(DataInput!N495,DataInput!AJ495)","v":0},{"$f":"SUM(DataInput!O495,DataInput!AK495)","v":0},{"$f":"DataInput!P495","v":0},null,5,{"$f":"DataInput!R495","v":0},{"$f":"DataInput!Y495","v":0},{"$f":"IF(DataInput!U495-DataInput!E495>0,DataInput!U495-DataInput!E495,\"\")","v":""},{"$f":"IF(DataInput!W495-DataInput!I495>0,DataInput!W495-DataInput!I495,\"\")","v":""},null,0,0,5,450,3350,{"$f":"ROUNDDOWN((IF(AA496>0,IFERROR(IF(AVERAGE(DataInput!Q495:Q496)>AVERAGE(AA496,AA495),ROUNDDOWN(((((AA495-Z495)+(AA496-Z496))/2)*(A496-A495))/27,0),IF(((((DataInput!Q496-Z496)+(DataInput!Q495-Z495))/2)*(A496-A495))/27+S495+T495>0,ROUNDDOWN(((((DataInput!Q496-Z496)+(DataInput!Q495-Z495))/2)*(A496-A495))/27+S495+T495,0),0)),0),0)*$X$5),1)","v":0},176,{"$f":"ROUNDDOWN((IF(AC496>0,IFERROR(IF(((((DataInput!Q495-AC495)+(DataInput!Q496-AC496))/2)*(A496-A495))/27+S495+T495>0,ROUNDDOWN(((((DataInput!Q495-AC495)+(DataInput!Q496-AC496))/2)*(A496-A495))/27+S495+T495,0),0),0),0)*$X$5),1)","v":0},{"$f":"DataInput!U495","v":14},{"$f":"DataInput!S495","v":0},0,14]
[{"$f":"IF(DataInput!A496<>\"\",DataInput!A496,\"\")","v":91950},{"$f":"SUM(DataInput!C496,DataInput!Y496)+(DataInput!U496-DataInput!E496)","v":19},{"$f":"SUM(DataInput!D496,DataInput!Z496)","v":5},{"$f":"DataInput!U496","v":14},{"$f":"SUM(DataInput!F496,DataInput!AB496)","v":0},{"$f":"SUM(DataInput!G496,DataInput!AC496)","v":0},{"$f":"SUM(DataInput!H496,DataInput!AD496)","v":0},{"$f":"DataInput!I496","v":0},{"$f":"SUM(DataInput!J496,DataInput!AF496)","v":0},{"$f":"SUM(DataInput!K496,DataInput!AG496)","v":0},{"$f":"SUM(DataInput!L496,DataInput!AH496)","v":0},{"$f":"SUM(DataInput!M496,DataInput!AI496)","v":0},{"$f":"SUM(DataInput!N496,DataInput!AJ496)","v":0},{"$f":"SUM(DataInput!O496,DataInput!AK496)","v":0},{"$f":"DataInput!P496","v":0},null,5,{"$f":"DataInput!R496","v":0},{"$f":"DataInput!Y496","v":0},{"$f":"IF(DataInput!U496-DataInput!E496>0,DataInput!U496-DataInput!E496,\"\")","v":""},{"$f":"IF(DataInput!W496-DataInput!I496>0,DataInput!W496-DataInput!I496,\"\")","v":""},null,0,0,5,450,3350,{"$f":"ROUNDDOWN((IF(AA497>0,IFERROR(IF(AVERAGE(DataInput!Q496:Q497)>AVERAGE(AA497,AA496),ROUNDDOWN(((((AA496-Z496)+(AA497-Z497))/2)*(A497-A496))/27,0),IF(((((DataInput!Q497-Z497)+(DataInput!Q496-Z496))/2)*(A497-A496))/27+S496+T496>0,ROUNDDOWN(((((DataInput!Q497-Z497)+(DataInput!Q496-Z496))/2)*(A497-A496))/27+S496+T496,0),0)),0),0)*$X$5),1)","v":0},176,{"$f":"ROUNDDOWN((IF(AC497>0,IFERROR(IF(((((DataInput!Q496-AC496)+(DataInput!Q497-AC497))/2)*(A497-A496))/27+S496+T496>0,ROUNDDOWN(((((DataInput!Q496-AC496)+(DataInput!Q497-AC497))/2)*(A497-A496))/27+S496+T496,0),0),0),0)*$X$5),1)","v":0},{"$f":"DataInput!U496","v":14},{"$f":"DataInput!S496","v":0},0,14]
[{"$f":"IF(DataInput!A497<>\"\",DataInput!A497,\"\")","v":91975},{"$f":"SUM(DataInput!C497,DataInput!Y497)+(DataInput!U497-DataInput!E497)","v":20},{"$f":"SUM(DataInput!D497,DataInput!Z497)","v":5},{"$f":"DataInput!U497","v":15},{"$f":"SUM(DataInput!F497,DataInput!AB497)","v":0},{"$f":"SUM(DataInput!G497,DataInput!AC497)","v":0},{"$f":"SUM(DataInput!H497,DataInput!AD497)","v":0},{"$f":"DataInput!I497","v":0},{"$f":"SUM(DataInput!J497,DataInput!AF497)","v":0},{"$f":"SUM(DataInput!K497,DataInput!AG497)","v":0},{"$f":"SUM(DataInput!L497,DataInput!AH497)","v":0},{"$f":"SUM(DataInput!M497,DataInput!AI497)","v":0},{"$f":"SUM(DataInput!N497,DataInput!AJ497)","v":0},{"$f":"SUM(DataInput!O497,DataInput!AK497)","v":0},{"$f":"DataInput!P497","v":0},null,5,{"$f":"DataInput!R497","v":0},{"$f":"DataInput!Y497","v":0},{"$f":"IF(DataInput!U497-DataInput!E497>0,DataInput!U497-DataInput!E497,\"\")","v":""},{"$f":"IF(DataInput!W497-DataInput!I497>0,DataInput!W497-DataInput!I497,\"\")","v":""},null,0,0,5,450,3350,{"$f":"ROUNDDOWN((IF(AA498>0,IFERROR(IF(AVERAGE(DataInput!Q497:Q498)>AVERAGE(AA498,AA497),ROUNDDOWN(((((AA497-Z497)+(AA498-Z498))/2)*(A498-A497))/27,0),IF(((((DataInput!Q498-Z498)+(DataInput!Q497-Z497))/2)*(A498-A497))/27+S497+T497>0,ROUNDDOWN(((((DataInput!Q498-Z498)+(DataInput!Q497-Z497))/2)*(A498-A497))/27+S497+T497,0),0)),0),0)*$X$5),1)","v":0},176,{"$f":"ROUNDDOWN((IF(AC498>0,IFERROR(IF(((((DataInput!Q497-AC497)+(DataInput!Q498-AC498))/2)*(A498-A497))/27+S497+T497>0,ROUNDDOWN(((((DataInput!Q497-AC497)+(DataInput!Q498-AC498))/2)*(A498-A497))/27+S497+T497,0),0),0),0)*$X$5),1)","v":0},{"$f":"DataInput!U497","v":15},{"$f":"DataInput!S497","v":0},0,15]
[{"$f":"IF(DataInput!A498<>\"\",DataInput!A498,\"\")","v":92000},{"$f":"SUM(DataInput!C498,DataInput!Y498)+(DataInput!U498-DataInput!E498)","v":6},{"$f":"SUM(DataInput!D498,DataInput!Z498)","v":2},{"$f":"DataInput!U498","v":5},{"$f":"SUM(DataInput!F498,DataInput!AB498)","v":0},{"$f":"SUM(DataInput!G498,DataInput!AC498)","v":0},{"$f":"SUM(DataInput!H498,DataInput!AD498)","v":0},{"$f":"DataInput!I498","v":0},{"$f":"SUM(DataInput!J498,DataInput!AF498)","v":0},{"$f":"SUM(DataInput!K498,DataInput!AG498)","v":0},{"$f":"SUM(DataInput!L498,DataInput!AH498)","v":0},{"$f":"SUM(DataInput!M498,DataInput!AI498)","v":0},{"$f":"SUM(DataInput!N498,DataInput!AJ498)","v":0},{"$f":"SUM(DataInput!O498,DataInput!AK498)","v":0},{"$f":"DataInput!P498","v":0},null,2,{"$f":"DataInput!R498","v":0},{"$f":"DataInput!Y498","v":0},{"$f":"IF(DataInput!U498-DataInput!E498>0,DataInput!U498-DataInput!E498,\"\")","v":""},{"$f":"IF(DataInput!W498-DataInput!I498>0,DataInput!W498-DataInput!I498,\"\")","v":""},null,0,0,2,450,3350,{"$f":"ROUNDDOWN((IF(AA499>0,IFERROR(IF(AVERAGE(DataInput!Q498:Q499)>AVERAGE(AA499,AA498),ROUNDDOWN(((((AA498-Z498)+(AA499-Z499))/2)*(A499-A498))/27,0),IF(((((DataInput!Q499-Z499)+(DataInput!Q498-Z498))/2)*(A499-A498))/27+S498+T498>0,ROUNDDOWN(((((DataInput!Q499-Z499)+(DataInput!Q498-Z498))/2)*(A499-A498))/27+S498+T498,0),0)),0),0)*$X$5),1)","v":0},176,{"$f":"ROUNDDOWN((IF(AC499>0,IFERROR(IF(((((DataInput!Q498-AC498)+(DataInput!Q499-AC499))/2)*(A499-A498))/27+S498+T498>0,ROUNDDOWN(((((DataInput!Q498-AC498)+(DataInput!Q499-AC499))/2)*(A499-A498))/27+S498+T498,0),0),0),0)*$X$5),1)","v":0},{"$f":"DataInput!U498","v":5},{"$f":"DataInput!S498","v":0},0,5]
[{"$f":"IF(DataInput!A499<>\"\",DataInput!A499,\"\")","v":92007.2}]

{"sheet":"User_Calculations","index":3,"n_rows":0,"n_cols":0,"rows_kept":0,"cut":false,"hidden":false,"merged":[]}

{"sheet":"107_28","index":4,"n_rows":2431,"n_cols":194,"rows_kept":1125,"cut":true,"hidden":false,"merged":[[173,2,174,16],[170,25,171,32],[172,89,173,96],[172,97,173,104],[172,105,173,112],[172,49,173,56],[174,113,175,120],[174,25,175,32],[174,41,175,48],[174,49,175,56],[174,57,175,64],[132,177,133,184],[134,153,135,160],[150,185,151,192],[144,185,145,192],[146,177,147,184],[140,169,141,176],[134,177,135,184],[156,105,157,112],[156,113,157,120],[146,129,147,136],[148,161,149,168],[150,177,151,184],[156,161,157,168],[158,169,159,176],[160,169,161,176],[174,169,175,176],[172,161,173,168],[170,129,171,136],[156,137,157,144],[160,137,161,144],[160,145,161,152],[170,65,171,72],[172,169,173,176],[172,137,173,144],[166,49,167,56],[166,57,167,64],[166,33,167,40],[170,81,171,88],[170,113,171,120],[170,105,171,112],[168,57,169,64],[168,105,169,112],[168,113,169,120],[170,153,171,160],[174,73,175,80],[170,97,171,104],[158,97,159,104],[170,145,171,152],[170,49,171,56],[150,41,151,48],[150,49,151,56],[162,65,163,72],[174,33,175,40],[162,121,163,128],[164,137,165,144],[164,89,165,96],[164,121,165,128],[166,145,167,152],[168,97,169,104],[164,129,165,136],[164,161,165,168],[160,161,161,168],[170,161,171,168],[8,177,10,184],[8,185,10,192],[148,129,149,136],[148,137,149,144],[130,177,131,184],[176,97,177,104],[176,105,177,112],[174,121,175,128],[170,73,171,80],[174,161,175,168],[176,121,177,128],[176,129,177,136],[158,153,159,160],[162,153,163,160],[156,81,157,88],[156,89,157,96],[160,73,161,80],[166,129,167,136],[166,121,167,128],[168,153,169,160],[166,161,167,168],[154,145,155,152],[164,97,165,104],[144,81,145,88],[146,81,147,88],[146,137,147,144],[154,73,155,80],[170,89,171,96],[168,121,169,128],[166,73,167,80],[166,81,167,88],[166,89,167,96],[166,97,167,104],[162,161,163,168],[158,145,159,152],[156,145,157,152],[156,153,157,160],[162,105,163,112],[154,89,155,96],[146,169,147,176],[150,145,151,152],[150,121,151,128],[150,129,151,136],[166,177,167,184],[156,177,157,184],[168,177,169,184],[172,177,173,184],[158,161,159,168],[166,169,167,176],[146,113,147,120],[148,105,149,112],[152,161,153,168],[150,161,151,168],[176,145,177,152],[166,185,167,192],[174,185,175,192],[170,185,171,192],[172,185,173,192],[168,185,169,192],[172,121,173,128],[174,97,175,104],[168,89,169,96],[170,121,171,128],[162,145,163,152],[181,22,184,30],[181,8,184,14],[176,17,177,24],[176,25,177,32],[152,169,153,176],[146,161,147,168],[152,177,153,184],[158,177,159,184],[174,81,175,88],[168,25,169,32],[172,17,173,24],[172,25,173,32],[168,33,169,40],[170,57,171,64],[172,57,173,64],[172,65,173,72],[172,41,173,48],[172,33,173,40],[174,89,175,96],[174,65,175,72],[176,169,177,176],[176,137,177,144],[176,65,177,72],[176,73,177,80],[176,89,177,96],[174,105,175,112],[176,49,177,56],[176,41,177,48],[166,65,167,72],[172,81,173,88],[176,57,177,64],[176,33,177,40],[148,169,149,176],[146,145,147,152],[174,129,175,136],[164,177,165,184],[162,177,163,184],[154,177,155,184],[154,161,155,168],[174,137,175,144],[174,145,175,152],[172,153,173,160],[168,129,169,136],[168,137,169,144],[160,129,161,136],[156,169,157,176],[158,121,159,128],[158,129,159,136],[164,153,165,160],[154,153,155,160],[160,121,161,128],[168,169,169,176],[170,177,171,184],[176,81,177,88],[174,177,175,184],[162,81,163,88],[162,137,163,144],[164,169,165,176],[166,153,167,160],[162,129,163,136],[166,137,167,144],[176,113,177,120],[174,153,175,160],[172,113,173,120],[168,161,169,168],[168,145,169,152],[170,137,171,144],[164,145,165,152],[162,113,163,120],[154,169,155,176],[168,81,169,88],[172,129,173,136],[172,145,173,152],[170,169,171,176],[166,113,167,120],[162,185,163,192],[164,185,165,192],[154,185,155,192],[171,2,172,16],[167,2,168,16],[164,65,165,72],[166,17,167,24],[166,25,167,32],[164,49,165,56],[164,57,165,64],[162,57,163,64],[169,2,170,16],[165,2,166,16],[168,17,169,24],[170,17,171,24],[170,41,171,48],[168,49,169,56],[168,41,169,48],[162,89,163,96],[154,121,155,128],[154,105,155,112],[166,105,167,112],[164,25,165,32],[154,49,155,56],[154,17,155,24],[154,57,155,64],[156,73,157,80],[160,97,161,104],[155,2,156,16],[156,17,157,24],[157,2,158,16],[159,2,160,16],[161,2,162,16],[163,2,164,16],[156,57,157,64],[158,81,159,88],[162,97,163,104],[153,2,154,16],[154,65,155,72],[152,97,153,104],[172,73,173,80],[164,33,165,40],[164,41,165,48],[152,73,153,80],[156,65,157,72],[152,17,153,24],[154,25,155,32],[151,2,152,16],[166,41,167,48],[168,65,169,72],[168,73,169,80],[158,49,159,56],[150,73,151,80],[160,49,161,56],[170,33,171,40],[164,73,165,80],[164,81,165,88],[164,113,165,120],[160,81,161,88],[154,97,155,104],[160,89,161,96],[164,17,165,24],[149,2,150,16],[162,25,163,32],[162,17,163,24],[162,73,163,80],[152,121,153,128],[131,2,132,16],[130,57,131,64],[136,17,137,24],[136,25,137,32],[132,17,133,24],[146,41,147,48],[143,2,144,16],[144,17,145,24],[132,129,133,136],[132,33,133,40],[138,65,139,72],[138,73,139,80],[132,145,133,152],[142,17,143,24],[162,41,163,48],[162,49,163,56],[160,105,161,112],[152,25,153,32],[160,153,161,160],[162,33,163,40],[164,105,165,112],[138,49,139,56],[132,41,133,48],[132,49,133,56],[130,137,131,144],[144,73,145,80],[144,89,145,96],[146,33,147,40],[141,2,142,16],[160,177,161,184],[160,185,161,192],[156,185,157,192],[142,177,143,184],[144,105,145,112],[144,113,145,120],[144,121,145,128],[144,129,145,136],[144,137,145,144],[148,33,149,40],[154,41,155,48],[154,113,155,120],[146,65,147,72],[146,25,147,32],[158,89,159,96],[160,57,161,64],[146,89,147,96],[144,145,145,152],[146,153,147,160],[144,153,145,160],[146,17,147,24],[160,33,161,40],[160,41,161,48],[152,113,153,120],[158,33,159,40],[158,41,159,48],[158,105,159,112],[158,113,159,120],[146,73,147,80],[152,49,153,56],[158,57,159,64],[158,65,159,72],[156,121,157,128],[148,73,149,80],[146,57,147,64],[158,73,159,80],[152,129,153,136],[158,25,159,32],[156,33,157,40],[148,41,149,48],[146,49,147,56],[150,25,151,32],[160,25,161,32],[148,49,149,56],[150,89,151,96],[156,25,157,32],[150,17,151,24],[152,89,153,96],[152,65,153,72],[150,113,151,120],[148,113,149,120],[148,121,149,128],[148,17,149,24],[152,33,153,40],[152,41,153,48],[150,57,151,64],[154,81,155,88],[148,57,149,64],[148,65,149,72],[150,169,151,176],[146,105,147,112],[142,73,143,80],[142,105,143,112],[146,97,147,104],[148,89,149,96],[148,97,149,104],[162,169,163,176],[148,145,149,152],[152,185,153,192],[152,81,153,88],[156,97,157,104],[156,129,157,136],[142,65,143,72],[156,49,157,56],[150,137,151,144],[148,25,149,32],[147,2,148,16],[134,137,135,144],[138,81,139,88],[138,89,139,96],[140,145,141,152],[142,145,143,152],[140,121,141,128],[134,169,135,176],[138,121,139,128],[145,2,146,16],[150,97,151,104],[150,105,151,112],[150,33,151,40],[144,25,145,32],[158,17,159,24],[160,17,161,24],[158,137,159,144],[154,129,155,136],[154,137,155,144],[150,153,151,160],[152,105,153,112],[160,65,161,72],[156,41,157,48],[152,145,153,152],[136,185,137,192],[134,185,135,192],[140,185,141,192],[148,185,149,192],[138,161,139,168],[158,185,159,192],[138,185,139,192],[138,153,139,160],[136,177,137,184],[160,113,161,120],[146,121,147,128],[150,81,151,88],[142,185,143,192],[146,185,147,192],[134,161,135,168],[144,33,145,40],[144,49,145,56],[144,41,145,48],[144,57,145,64],[144,65,145,72],[154,33,155,40],[144,169,145,176],[144,161,145,168],[148,177,149,184],[142,89,143,96],[140,97,141,104],[140,105,141,112],[142,97,143,104],[124,137,125,144],[136,49,137,56],[132,169,133,176],[130,97,131,104],[130,145,131,152],[130,121,131,128],[130,33,131,40],[132,89,133,96],[136,89,137,96],[140,57,141,64],[138,105,139,112],[132,105,133,112],[132,113,133,120],[132,161,133,168],[130,185,131,192],[132,185,133,192],[138,25,139,32],[134,25,135,32],[134,49,135,56],[134,33,135,40],[134,41,135,48],[150,65,151,72],[152,57,153,64],[152,137,153,144],[144,177,145,184],[126,25,127,32],[126,33,127,40],[126,41,127,48],[122,25,123,32],[122,33,123,40],[128,33,129,40],[152,153,153,160],[130,169,131,176],[132,97,133,104],[132,65,133,72],[138,177,139,184],[140,89,141,96],[138,113,139,120],[136,129,137,136],[140,153,141,160],[140,161,141,168],[136,153,137,160],[136,137,137,144],[136,65,137,72],[136,73,137,80],[134,145,135,152],[136,145,137,152],[132,137,133,144],[138,137,139,144],[138,145,139,152],[142,129,143,136],[142,121,143,128],[142,113,143,120],[124,25,125,32],[124,33,125,40],[128,169,129,176],[126,57,127,64],[132,153,133,160],[148,153,149,160],[142,169,143,176],[142,49,143,56],[142,57,143,64],[144,97,145,104],[148,81,149,88],[129,2,130,16],[126,169,127,176],[126,49,127,56],[138,169,139,176],[140,49,141,56],[128,177,129,184],[142,25,143,32],[132,57,133,64],[140,65,141,72],[140,73,141,80],[140,81,141,88],[138,57,139,64],[134,57,135,64],[134,65,135,72],[140,129,141,136],[140,137,141,144],[142,137,143,144],[138,129,139,136],[138,97,139,104],[136,169,137,176],[136,161,137,168],[136,97,137,104],[136,105,137,112],[134,89,135,96],[134,97,135,104],[130,161,131,168],[140,33,141,40],[140,41,141,48],[132,121,133,128],[142,81,143,88],[138,33,139,40],[138,41,139,48],[140,177,141,184],[138,17,139,24],[142,161,143,168],[134,73,135,80],[136,81,137,88],[130,129,131,136],[130,105,131,112],[130,113,131,120],[137,2,138,16],[133,2,134,16],[135,2,136,16],[127,2,128,16],[128,17,129,24],[136,33,137,40],[130,81,131,88],[130,89,131,96],[132,81,133,88],[139,2,140,16],[140,17,141,24],[140,25,141,32],[136,41,137,48],[126,97,127,104],[140,113,141,120],[142,153,143,160],[136,57,137,64],[128,153,129,160],[134,17,135,24],[142,33,143,40],[142,41,143,48],[126,185,127,192],[128,185,129,192],[124,185,125,192],[120,177,121,184],[118,177,119,184],[118,185,119,192],[122,185,123,192],[126,177,127,184],[124,177,125,184],[128,161,129,168],[122,65,123,72],[126,81,127,88],[122,81,123,88],[122,137,123,144],[122,169,123,176],[124,161,125,168],[124,169,125,176],[126,161,127,168],[120,169,121,176],[120,161,121,168],[122,161,123,168],[126,129,127,136],[124,153,125,160],[126,153,127,160],[118,153,119,160],[120,153,121,160],[122,105,123,112],[122,97,123,104],[122,153,123,160],[120,145,121,152],[118,105,119,112],[128,145,129,152],[121,2,122,16],[120,17,121,24],[119,2,120,16],[123,2,124,16],[122,177,123,184],[120,73,121,80],[124,57,125,64],[124,41,125,48],[124,49,125,56],[126,145,127,152],[124,145,125,152],[128,121,129,128],[128,129,129,136],[126,137,127,144],[126,105,127,112],[126,113,127,120],[128,105,129,112],[118,73,119,80],[120,137,121,144],[118,145,119,152],[128,137,129,144],[128,89,129,96],[128,97,129,104],[125,2,126,16],[126,17,127,24],[122,129,123,136],[120,57,121,64],[126,89,127,96],[124,113,125,120],[124,121,125,128],[124,65,125,72],[126,65,127,72],[124,129,125,136],[114,169,115,176],[126,73,127,80],[118,41,119,48],[118,81,119,88],[118,89,119,96],[120,105,121,112],[120,113,121,120],[120,121,121,128],[120,49,121,56],[118,65,119,72],[122,41,123,48],[122,113,123,120],[126,121,127,128],[128,57,129,64],[130,17,131,24],[130,25,131,32],[134,105,135,112],[134,113,135,120],[130,153,131,160],[128,73,129,80],[134,121,135,128],[136,113,137,120],[116,25,117,32],[116,33,117,40],[114,97,115,104],[114,105,115,112],[122,89,123,96],[114,81,115,88],[114,89,115,96],[122,73,123,80],[124,73,125,80],[124,81,125,88],[124,89,125,96],[124,97,125,104],[124,105,125,112],[128,113,129,120],[128,49,129,56],[130,41,131,48],[130,49,131,56],[130,73,131,80],[120,89,121,96],[120,97,121,104],[122,57,123,64],[128,81,129,88],[132,25,133,32],[120,25,121,32],[120,33,121,40],[122,17,123,24],[128,25,129,32],[128,65,129,72],[120,41,121,48],[134,81,135,88],[136,121,137,128],[134,129,135,136],[130,65,131,72],[132,73,133,80],[120,65,121,72],[124,17,125,24],[120,129,121,136],[122,121,123,128],[122,49,123,56],[122,145,123,152],[128,41,129,48],[120,185,121,192],[118,169,119,176],[108,185,109,192],[104,185,105,192],[104,169,105,176],[109,2,110,16],[110,17,111,24],[112,33,113,40],[110,25,111,32],[110,33,111,40],[113,2,114,16],[114,17,115,24],[114,25,115,32],[110,105,111,112],[111,2,112,16],[112,17,113,24],[105,2,106,16],[106,17,107,24],[107,2,108,16],[108,17,109,24],[104,89,105,96],[118,97,119,104],[110,129,111,136],[110,137,111,144],[110,145,111,152],[112,105,113,112],[108,49,109,56],[108,161,109,168],[116,113,117,120],[116,121,117,128],[114,121,115,128],[114,129,115,136],[114,161,115,168],[116,129,117,136],[116,137,117,144],[116,57,117,64],[112,73,113,80],[112,121,113,128],[112,129,113,136],[112,81,113,88],[110,57,111,64],[114,57,115,64],[114,65,115,72],[106,185,107,192],[114,177,115,184],[116,177,117,184],[112,97,113,104],[110,41,111,48],[112,161,113,168],[112,49,113,56],[112,57,113,64],[108,65,109,72],[108,73,109,80],[108,81,109,88],[110,113,111,120],[108,97,109,104],[108,121,109,128],[118,25,119,32],[110,185,111,192],[116,17,117,24],[108,33,109,40],[108,41,109,48],[106,25,107,32],[120,81,121,88],[112,185,113,192],[116,169,117,176],[112,153,113,160],[118,33,119,40],[116,49,117,56],[112,113,113,120],[114,73,115,80],[110,161,111,168],[112,137,113,144],[112,65,113,72],[118,57,119,64],[110,73,111,80],[110,81,111,88],[110,89,111,96],[114,185,115,192],[114,113,115,120],[116,89,117,96],[116,97,117,104],[118,129,119,136],[116,145,117,152],[115,2,116,16],[112,145,113,152],[104,49,105,56],[116,153,117,160],[116,41,117,48],[114,137,115,144],[114,153,115,160],[106,41,107,48],[106,49,107,56],[106,57,107,64],[106,121,107,128],[110,121,111,128],[104,41,105,48],[118,49,119,56],[108,105,109,112],[108,113,109,120],[108,57,109,64],[108,129,109,136],[116,185,117,192],[106,33,107,40],[118,121,119,128],[106,177,107,184],[108,169,109,176],[108,177,109,184],[108,145,109,152],[106,113,107,120],[108,137,109,144],[106,129,107,136],[108,153,109,160],[106,97,107,104],[103,2,104,16],[110,169,111,176],[117,2,118,16],[118,17,119,24],[114,33,115,40],[114,49,115,56],[112,41,113,48],[114,41,115,48],[110,49,111,56],[112,25,113,32],[106,137,107,144],[106,105,107,112],[118,113,119,120],[118,137,119,144],[116,81,117,88],[108,25,109,32],[112,169,113,176],[118,161,119,168],[116,105,117,112],[116,161,117,168],[116,65,117,72],[116,73,117,80],[102,49,103,56],[101,2,102,16],[106,73,107,80],[104,105,105,112],[100,169,101,176],[102,81,103,88],[102,89,103,96],[112,89,113,96],[112,177,113,184],[114,145,115,152],[110,97,111,104],[110,153,111,160],[110,177,111,184],[110,65,111,72],[106,169,107,176],[106,65,107,72],[106,145,107,152],[106,81,107,88],[106,89,107,96],[108,89,109,96],[106,161,107,168],[106,153,107,160],[104,33,105,40],[104,17,105,24],[104,25,105,32],[102,185,103,192],[98,185,99,192],[96,185,97,192],[92,153,93,160],[92,185,93,192],[96,153,97,160],[100,153,101,160],[104,177,105,184],[100,105,101,112],[94,185,95,192],[92,89,93,96],[104,65,105,72],[104,73,105,80],[102,137,103,144],[102,145,103,152],[102,105,103,112],[102,113,103,120],[102,121,103,128],[102,129,103,136],[102,57,103,64],[100,41,101,48],[100,73,101,80],[98,161,99,168],[94,89,95,96],[98,121,99,128],[96,137,97,144],[96,129,97,136],[96,145,97,152],[98,169,99,176],[98,177,99,184],[100,177,101,184],[100,81,101,88],[100,89,101,96],[102,169,103,176],[104,153,105,160],[104,161,105,168],[102,153,103,160],[104,97,105,104],[104,113,105,120],[104,121,105,128],[104,137,105,144],[104,129,105,136],[100,161,101,168],[96,177,97,184],[104,145,105,152],[104,57,105,64],[104,81,105,88],[102,161,103,168],[100,113,101,120],[100,137,101,144],[100,121,101,128],[102,177,103,184],[100,185,101,192],[94,177,95,184],[92,177,93,184],[100,97,101,104],[96,97,97,104],[98,33,99,40],[98,49,99,56],[98,97,99,104],[98,137,99,144],[98,17,99,24],[98,41,99,48],[96,65,97,72],[100,129,101,136],[98,89,99,96],[92,145,93,152],[96,89,97,96],[92,33,93,40],[92,129,93,136],[92,81,93,88],[94,113,95,120],[94,137,95,144],[96,25,97,32],[98,25,99,32],[94,41,95,48],[96,105,97,112],[98,105,99,112],[100,65,101,72],[92,105,93,112],[94,129,95,136],[102,73,103,80],[96,33,97,40],[98,57,99,64],[98,65,99,72],[98,73,99,80],[98,81,99,88],[102,33,103,40],[102,41,103,48],[100,33,101,40],[102,97,103,104],[100,145,101,152],[102,17,103,24],[102,25,103,32],[100,49,101,56],[100,57,101,64],[98,153,99,160],[102,65,103,72],[98,145,99,152],[96,169,97,176],[89,2,90,16],[90,17,91,24],[90,25,91,32],[93,2,94,16],[95,2,96,16],[97,2,98,16],[99,2,100,16],[96,41,97,48],[92,113,93,120],[94,97,95,104],[92,97,93,104],[92,41,93,48],[92,65,93,72],[90,73,91,80],[90,81,91,88],[90,89,91,96],[88,41,89,48],[91,2,92,16],[88,17,89,24],[100,17,101,24],[100,25,101,32],[87,2,88,16],[86,137,87,144],[86,33,87,40],[86,25,87,32],[88,25,89,32],[88,33,89,40],[96,49,97,56],[86,41,87,48],[88,113,89,120],[86,57,87,64],[86,49,87,56],[96,57,97,64],[92,121,93,128],[98,113,99,120],[94,73,95,80],[94,57,95,64],[90,129,91,136],[90,113,91,120],[88,129,89,136],[94,65,95,72],[96,73,97,80],[94,49,95,56],[94,105,95,112],[96,113,97,120],[96,121,97,128],[98,129,99,136],[90,137,91,144],[92,17,93,24],[94,121,95,128],[86,129,87,136],[84,41,85,48],[84,113,85,120],[80,153,81,160],[80,97,81,104],[82,65,83,72],[82,89,83,96],[78,49,79,56],[78,57,79,64]],"bounds":{"rows_first":500,"rows_last":125,"rows_between":500,"halvings":2},"merged_total":22136,"flags":["merged_cut"]}
[]
[]
[null,null,null,null,null,null,null,null,null,null,null,null,null,null,null,null,null,null,null,null,null,null,null,null,null,"",null,null,null,null,null,null,null,"",null,null,null,null,null,null,null,"",null,null,null,null,null,null,null,"",null,null,null,null,null,null,null,"",null,null,null,null,null,null,null,"",null,null,null,null,null,null,null,"",null,null,null,null,null,null,null,"",null,null,null,null,null,null,null,null,null,null,null,null,null,null,null,"",null,null,null,null,null,null,null,"",null,null,null,null,null,null,null,null,null,null,null,null,null,null,null,"",null,null,null,null,null,null,null,null,null,null,null,null,null,null,null,null,"",null,null,null,null,null,null,null,null,null,null,null,null,null,null,"",null,null,null,null,null,null,null,null,null,null,null,null,null,null,null,"",null,null,null,null,null,null,null,"",null,null,null,null,null,null,null,"",null,null,null,null,null,null,null,""]
[]
[null,null,"Refer to Standard Road Plans EW-101 and EW-102.",null,null,null,null,null,null,null,null,null,null,null,null,null,null,null,null,null,null,null,null,null,null,null,null,null,null,null,null,null,null,null,null,null,null,null,null,null,null,null,null,null,null,null,null,null,null,null,null,null,null,null,null,null,null,null,"TABULATION OF TEMPLATE QUANTITIES AND ADJUSTMENTS",null,null,null,null,null,null,null,null,null,null,null,null,null,null,null,null,null,null,null,null,null,null,null,null,null,null,null,null,null,null,null,null,null,null,null,null,null,null,null,null,null,null,null,null,null,null,null,null,null,null,null,null,null,null,null,null,null,null,null,null,null,null,null,null,null,null,null,null,null,null,null,null,null,null,null,null,null,null,"107-28"]
[]
[null,null,null,null,null,null,null,null,null,null,null,null,null,null,null,null,null,null,null,null,null,null,null,null,null,null,null,null,null,null,null,null,null,null,null,null,null,null,null,null,null,null,null,null,null,null,null,null,null,null,null,null,null,null,null,null,null,null,null,null,null,null,null,null,null,null,null,null,null,null,null,null,null,null,null,null,null,null,null,null,null,null,null,null,null,null,null,null,null,null,null,null,null,null,null,null,null,null,null,null,null,null,null,null,null,null,null,null,null,null,null,null,null,null,null,null,null,null,null,null,null,null,null,null,null,null,null,null,null,null,null,null,null,null,null,null,null,"2015-04-21"]
[]
[null,null,null,null,null,null,null,null,null,null,null,null,null,null,null,null,null,"Cut",null,null,null,null,null,null,null,null,null,null,null,null,null,null,null,null,null,null,null,null,null,null,null,null,null,null,null,null,null,null,null,null,null,null,null,null,null,null,null,null,null,null,null,null,null,null,null,"Fill",null,null,null,null,null,null,null,null,null,null,null,null,null,null,null,null,null,null,null,null,null,null,null,null,null,null,null,null,null,null,null,null,null,null,null,null,null,null,null,null,null,null,null,null,null,null,null,null,null,null,null,null,null,null,null,null,null,null,null,null,null,null,null,"Checks (EW-102)",null,null,null,null,null,null,null,null,null,null,null,null,null,null,null,"Topsoil"]
[]
[]
[null,null,null,null,null,null,null,null,null,null,null,null,null,null,null,null,null,"[1]",null,null,null,null,null,null,null,"[2]",null,null,null,null,null,null,null,"[3]",null,null,null,null,null,null,null,"[4]",null,null,null,null,null,null,null,"[5]",null,null,null,null,null,null,null,"[6]",null,null,null,null,null,null,null,"[7]",null,null,null,null,null,null,null,"[8]",null,null,null,null,null,null,null,"[9]",null,null,null,null,null,null,null,"[10]",null,null,null,null,null,null,null,"[11]",null,null,null,null,null,null,null,"[12]",null,null,null,null,null,null,null,"[13]",null,null,null,null,null,null,null,"[14]",null,null,null,null,null,null,null,"[15]",null,null,null,null,null,null,null,"[16]",null,null,null,null,null,null,null,"[17]",null,null,null,null,null,null,null,"[18]",null,null,null,null,null,null,null,"[19]",null,null,null,null,null,null,null,"[20]",null,null,null,null,null,null,null,"[21]",null,null,null,null,null,null,null,"[22]"]
[]
[]
[null,null,null,null,null,null,null,null,null,null,null,null,null,null,null,null,null,null,null,null,null,null,null,null,null,null,null,null,null,null,null,null,null,null,null,null,null,null,null,null,null,null,null,null,null,null,null,null,null,null,null,null,null,null,null,null,null,"[2]+[4]",null,null,null,null,null,null,null,null,null,null,null,null,null,null,null,null,null,null,null,null,null,null,null,null,null,null,null,null,null,null,null,null,null,null,null,null,null,null,null,null,null,null,null,null,null,null,null,"[7]+[8]+[9]+  [10]+[11]",null,null,null,null,null,null,null,"[12]*1.3",null,null,null,null,null,null,null,"[6]-[13]",null,null,null,null,null,null,null,null,null,null,null,null,null,null,null,null,null,null,null,null,null,null,null,null,null,null,null,null,null,null,null,null,null,null,null,null,null,null,null,"[17]*1.4",null,null,null,null,null,null,null,"[17]-[19]"]
[]
[]
[]
[null,null,"Station",null,null,null,null,null,null,null,null,null,null,null,null,null,null,"Total Cut Unadjusted\n\nVolume",null,null,null,null,null,null,null,"Total Class 10\nUnadjusted\n\nVolume",null,null,null,null,null,null,null,"Topsoil Cut\n\nVolume",null,null,null,null,null,null,null,"Template\nUnsuitable\nType B\nVolume",null,null,null,null,null,null,null,"Template\nPavement\nRemoval\nVolume",null,null,null,null,null,null,null,"Total\nCut\nAdjusted",null,null,null,null,null,null,null,"Total Fill\nUnadjusted\n\nVolume",null,null,null,null,null,null,null,"Plowing &\nShaping\nUndercut\n(+ Fill)",null,null,null,null,null,null,null,"Existing Topsoil\nStripping\nUndercut\n(+ Fill)",null,null,null,null,null,null,null,"Existing\nPavement\nUndercut\n(+Fill)",null,null,null,null,null,null,null,"Manually\nCalculated Fill\nAdjustments\n(+/- Fill)",null,null,null,null,null,null,null,"Total\nFill\nAdjusted",null,null,null,null,null,null,null,"Total Fill\n Adjusted w/\nWeighted Average\n1.3  Shrink Factor",null,null,null,null,null,null,null,"Total Cut Adjusted\nMinus Fill w/ Shrink",null,null,null,null,null,null,null,"Approx. Fill Vol.\nBelow 5' & Above\n20' w/ Shrink",null,null,null,null,null,null,null,"Approx. Fill\nVolume Below 3'\nw/ Shrink",null,null,null,null,null,null,null,"Topsoil\nStripping Undercut\nVolume",null,null,null,null,null,null,null,"Topsoil\nPlacement\nUndercut\nVolume",null,null,null,null,null,null,null,"Topsoil Placement\nWith 1.4 Shrink\nFactor",null,null,null,null,null,null,null,"Topsoil Stripping\nMinus Topsoil\nPlacement\nw/Shrink"]
[]
[]
[]
[]
[]
[]
[]
[]
[]
[]
[]
[]
[]
[]
[]
[]
[]
[]
[null,null,"Stage 1"]
[]
[]
[]
[null,null,"STG1_US_63"]
[]
[null,null,84155]
[null,null,null,null,null,null,null,null,null,null,null,null,null,null,null,null,null,205,null,null,null,null,null,null,null,138,null,null,null,null,null,null,null,67,null,null,null,null,null,null,null,0,null,null,null,null,null,null,null,45,null,null,null,null,null,null,null,138,null,null,null,null,null,null,null,0,null,null,null,null,null,null,null,0,null,null,null,null,null,null,null,11,null,null,null,null,null,null,null,null,null,null,null,null,null,null,null,null,null,null,null,null,null,null,null,11,null,null,null,null,null,null,null,14.3,null,null,null,null,null,null,null,123.7,null,null,null,null,null,null,null,0,null,null,null,null,null,null,null,0,null,null,null,null,null,null,null,67,null,null,null,null,null,null,null,30,null,null,null,null,null,null,null,42,null,null,null,null,null,null,null,25]
[null,null,84175]
[null,null,null,null,null,null,null,null,null,null,null,null,null,null,null,null,null,263,null,null,null,null,null,null,null,181,null,null,null,null,null,null,null,81,null,null,null,null,null,null,null,0,null,null,null,null,null,null,null,56,null,null,null,null,null,null,null,181,null,null,null,null,null,null,null,0,null,null,null,null,null,null,null,0,null,null,null,null,null,null,null,9,null,null,null,null,null,null,null,null,null,null,null,null,null,null,null,null,null,null,null,null,null,null,null,9,null,null,null,null,null,null,null,11.7,null,null,null,null,null,null,null,169.3,null,null,null,null,null,null,null,0,null,null,null,null,null,null,null,0,null,null,null,null,null,null,null,81,null,null,null,null,null,null,null,40,null,null,null,null,null,null,null,56,null,null,null,null,null,null,null,25]
[null,null,84200]
[null,null,null,null,null,null,null,null,null,null,null,null,null,null,null,null,null,260,null,null,null,null,null,null,null,180,null,null,null,null,null,null,null,80,null,null,null,null,null,null,null,0,null,null,null,null,null,null,null,56,null,null,null,null,null,null,null,180,null,null,null,null,null,null,null,0,null,null,null,null,null,null,null,0,null,null,null,null,null,null,null,7,null,null,null,null,null,null,null,null,null,null,null,null,null,null,null,null,null,null,null,null,null,null,null,7,null,null,null,null,null,null,null,9.1,null,null,null,null,null,null,null,170.9,null,null,null,null,null,null,null,0,null,null,null,null,null,null,null,0,null,null,null,null,null,null,null,80,null,null,null,null,null,null,null,42,null,null,null,null,null,null,null,58.8,null,null,null,null,null,null,null,21.2]
[null,null,84225]
[null,null,null,null,null,null,null,null,null,null,null,null,null,null,null,null,null,252,null,null,null,null,null,null,null,170,null,null,null,null,null,null,null,81,null,null,null,null,null,null,null,0,null,null,null,null,null,null,null,55,null,null,null,null,null,null,null,170,null,null,null,null,null,null,null,0,null,null,null,null,null,null,null,0,null,null,null,null,null,null,null,9,null,null,null,null,null,null,null,null,null,null,null,null,null,null,null,null,null,null,null,null,null,null,null,9,null,null,null,null,null,null,null,11.7,null,null,null,null,null,null,null,158.30000000000001,null,null,null,null,null,null,null,0,null,null,null,null,null,null,null,0,null,null,null,null,null,null,null,81,null,null,null,null,null,null,null,44,null,null,null,null,null,null,null,61.6,null,null,null,null,null,null,null,19.399999999999999]
[null,null,84250]
[null,null,null,null,null,null,null,null,null,null,null,null,null,null,null,null,null,249,null,null,null,null,null,null,null,166,null,null,null,null,null,null,null,83,null,null,null,null,null,null,null,0,null,null,null,null,null,null,null,52,null,null,null,null,null,null,null,166,null,null,null,null,null,null,null,0,null,null,null,null,null,null,null,0,null,null,null,null,null,null,null,14,null,null,null,null,null,null,null,null,null,null,null,null,null,null,null,null,null,null,null,null,null,null,null,14,null,null,null,null,null,null,null,18.2,null,null,null,null,null,null,null,147.80000000000001,null,null,null,null,null,null,null,0,null,null,null,null,null,null,null,0,null,null,null,null,null,null,null,83,null,null,null,null,null,null,null,44,null,null,null,null,null,null,null,61.6,null,null,null,null,null,null,null,21.4]
[null,null,84275]
[null,null,null,null,null,null,null,null,null,null,null,null,null,null,null,null,null,249,null,null,null,null,null,null,null,164,null,null,null,null,null,null,null,85,null,null,null,null,null,null,null,0,null,null,null,null,null,null,null,49,null,null,null,null,null,null,null,164,null,null,null,null,null,null,null,0,null,null,null,null,null,null,null,0,null,null,null,null,null,null,null,21,null,null,null,null,null,null,null,null,null,null,null,null,null,null,null,null,null,null,null,null,null,null,null,21,null,null,null,null,null,null,null,27.3,null,null,null,null,null,null,null,136.69999999999999,null,null,null,null,null,null,null,0,null,null,null,null,null,null,null,0,null,null,null,null,null,null,null,85,null,null,null,null,null,null,null,44,null,null,null,null,null,null,null,61.6,null,null,null,null,null,null,null,23.4]
[null,null,84300]
[null,null,null,null,null,null,null,null,null,null,null,null,null,null,null,null,null,249,null,null,null,null,null,null,null,162,null,null,null,null,null,null,null,87,null,null,null,null,null,null,null,0,null,null,null,null,null,null,null,45,null,null,null,null,null,null,null,162,null,null,null,null,null,null,null,1,null,null,null,null,null,null,null,0,null,null,null,null,null,null,null,28,null,null,null,null,null,null,null,null,null,null,null,null,null,null,null,null,null,null,null,null,null,null,null,29,null,null,null,null,null,null,null,37.700000000000003,null,null,null,null,null,null,null,124.3,null,null,null,null,null,null,null,0,null,null,null,null,null,null,null,0,null,null,null,null,null,null,null,87,null,null,null,null,null,null,null,44,null,null,null,null,null,null,null,61.6,null,null,null,null,null,null,null,25.4]
[null,null,84325]
[null,null,null,null,null,null,null,null,null,null,null,null,null,null,null,null,null,250,null,null,null,null,null,null,null,160,null,null,null,null,null,null,null,90,null,null,null,null,null,null,null,0,null,null,null,null,null,null,null,42,null,null,null,null,null,null,null,160,null,null,null,null,null,null,null,5,null,null,null,null,null,null,null,0,null,null,null,null,null,null,null,35,null,null,null,null,null,null,null,null,null,null,null,null,null,null,null,null,null,null,null,null,null,null,null,40,null,null,null,null,null,null,null,52,null,null,null,null,null,null,null,108,null,null,null,null,null,null,null,0,null,null,null,null,null,null,null,0,null,null,null,null,null,null,null,90,null,null,null,null,null,null,null,45,null,null,null,null,null,null,null,63,null,null,null,null,null,null,null,27]
[null,null,84350]
[null,null,null,null,null,null,null,null,null,null,null,null,null,null,null,null,null,250,null,null,null,null,null,null,null,159,null,null,null,null,null,null,null,90,null,null,null,null,null,null,null,0,null,null,null,null,null,null,null,41,null,null,null,null,null,null,null,159,null,null,null,null,null,null,null,10,null,null,null,null,null,null,null,0,null,null,null,null,null,null,null,38,null,null,null,null,null,null,null,null,null,null,null,null,null,null,null,null,null,null,null,null,null,null,null,48,null,null,null,null,null,null,null,62.4,null,null,null,null,null,null,null,96.6,null,null,null,null,null,null,null,0,null,null,null,null,null,null,null,0,null,null,null,null,null,null,null,90,null,null,null,null,null,null,null,45,null,null,null,null,null,null,null,63,null,null,null,null,null,null,null,27]
[null,null,84375]
[null,null,null,null,null,null,null,null,null,null,null,null,null,null,null,null,null,249,null,null,null,null,null,null,null,153,null,null,null,null,null,null,null,91,null,null,null,null,null,null,null,4,null,null,null,null,null,null,null,40,null,null,null,null,null,null,null,157,null,null,null,null,null,null,null,15,null,null,null,null,null,null,null,0,null,null,null,null,null,null,null,40,null,null,null,null,null,null,null,1,null,null,null,null,null,null,null,null,null,null,null,null,null,null,null,56,null,null,null,null,null,null,null,72.8,null,null,null,null,null,null,null,84.2,null,null,null,null,null,null,null,0,null,null,null,null,null,null,null,0,null,null,null,null,null,null,null,91,null,null,null,null,null,null,null,45,null,null,null,null,null,null,null,63,null,null,null,null,null,null,null,28]
[null,null,84400]
[null,null,null,null,null,null,null,null,null,null,null,null,null,null,null,null,null,248,null,null,null,null,null,null,null,147,null,null,null,null,null,null,null,93,null,null,null,null,null,null,null,8,null,null,null,null,null,null,null,40,null,null,null,null,null,null,null,155,null,null,null,null,null,null,null,18,null,null,null,null,null,null,null,0,null,null,null,null,null,null,null,41,null,null,null,null,null,null,null,null,null,null,null,null,null,null,null,null,null,null,null,null,null,null,null,59,null,null,null,null,null,null,null,76.7,null,null,null,null,null,null,null,78.3,null,null,null,null,null,null,null,0,null,null,null,null,null,null,null,0,null,null,null,null,null,null,null,93,null,null,null,null,null,null,null,45,null,null,null,null,null,null,null,63,null,null,null,null,null,null,null,30]
[null,null,84425]
[null,null,null,null,null,null,null,null,null,null,null,null,null,null,null,null,null,249,null,null,null,null,null,null,null,147,null,null,null,null,null,null,null,94,null,null,null,null,null,null,null,9,null,null,null,null,null,null,null,39,null,null,null,null,null,null,null,156,null,null,null,null,null,null,null,21,null,null,null,null,null,null,null,0,null,null,null,null,null,null,null,43,null,null,null,null,null,null,null,null,null,null,null,null,null,null,null,null,null,null,null,null,null,null,null,64,null,null,null,null,null,null,null,83.2,null,null,null,null,null,null,null,72.8,null,null,null,null,null,null,null,0,null,null,null,null,null,null,null,0,null,null,null,null,null,null,null,94,null,null,null,null,null,null,null,45,null,null,null,null,null,null,null,63,null,null,null,null,null,null,null,31]
[null,null,84450]
[null,null,null,null,null,null,null,null,null,null,null,null,null,null,null,null,null,249,null,null,null,null,null,null,null,146,null,null,null,null,null,null,null,94,null,null,null,null,null,null,null,9,null,null,null,null,null,null,null,38,null,null,null,null,null,null,null,155,null,null,null,null,null,null,null,23,null,null,null,null,null,null,null,0,null,null,null,null,null,null,null,43,null,null,null,null,null,null,null,null,null,null,null,null,null,null,null,null,null,null,null,null,null,null,null,66,null,null,null,null,null,null,null,85.8,null,null,null,null,null,null,null,69.2,null,null,null,null,null,null,null,0,null,null,null,null,null,null,null,0,null,null,null,null,null,null,null,94,null,null,null,null,null,null,null,44,null,null,null,null,null,null,null,61.6,null,null,null,null,null,null,null,32.4]
[null,null,84475]
[null,null,null,null,null,null,null,null,null,null,null,null,null,null,null,null,null,248,null,null,null,null,null,null,null,145,null,null,null,null,null,null,null,94,null,null,null,null,null,null,null,9,null,null,null,null,null,null,null,38,null,null,null,null,null,null,null,154,null,null,null,null,null,null,null,23,null,null,null,null,null,null,null,0,null,null,null,null,null,null,null,41,null,null,null,null,null,null,null,null,null,null,null,null,null,null,null,null,null,null,null,null,null,null,null,64,null,null,null,null,null,null,null,83.2,null,null,null,null,null,null,null,70.8,null,null,null,null,null,null,null,0,null,null,null,null,null,null,null,0,null,null,null,null,null,null,null,94,null,null,null,null,null,null,null,44,null,null,null,null,null,null,null,61.6,null,null,null,null,null,null,null,32.4]
[null,null,84500]
[null,null,null,null,null,null,null,null,null,null,null,null,null,null,null,null,null,249,null,null,null,null,null,null,null,145,null,null,null,null,null,null,null,95,null,null,null,null,null,null,null,9,null,null,null,null,null,null,null,37,null,null,null,null,null,null,null,154,null,null,null,null,null,null,null,24,null,null,null,null,null,null,null,0,null,null,null,null,null,null,null,42,null,null,null,null,null,null,null,null,null,null,null,null,null,null,null,null,null,null,null,null,null,null,null,66,null,null,null,null,null,null,null,85.8,null,null,null,null,null,null,null,68.2,null,null,null,null,null,null,null,0,null,null,null,null,null,null,null,0,null,null,null,null,null,null,null,95,null,null,null,null,null,null,null,44,null,null,null,null,null,null,null,61.6,null,null,null,null,null,null,null,33.4]
[null,null,84525]
[null,null,null,null,null,null,null,null,null,null,null,null,null,null,null,null,null,248,null,null,null,null,null,null,null,145,null,null,null,null,null,null,null,95,null,null,null,null,null,null,null,9,null,null,null,null,null,null,null,36,null,null,null,null,null,null,null,154,null,null,null,null,null,null,null,25,null,null,null,null,null,null,null,0,null,null,null,null,null,null,null,47,null,null,null,null,null,null,null,null,null,null,null,null,null,null,null,null,null,null,null,null,null,null,null,72,null,null,null,null,null,null,null,93.6,null,null,null,null,null,null,null,60.4,null,null,null,null,null,null,null,0,null,null,null,null,null,null,null,0,null,null,null,null,null,null,null,95,null,null,null,null,null,null,null,43,null,null,null,null,null,null,null,60.2,null,null,null,null,null,null,null,34.799999999999997]
[null,null,84550]
[null,null,null,null,null,null,null,null,null,null,null,null,null,null,null,null,null,248,null,null,null,null,null,null,null,149,null,null,null,null,null,null,null,95,null,null,null,null,null,null,null,4,null,null,null,null,null,null,null,35,null,null,null,null,null,null,null,153,null,null,null,null,null,null,null,27,null,null,null,null,null,null,null,0,null,null,null,null,null,null,null,55,null,null,null,null,null,null,null,null,null,null,null,null,null,null,null,null,null,null,null,null,null,null,null,82,null,null,null,null,null,null,null,106.6,null,null,null,null,null,null,null,46.4,null,null,null,null,null,null,null,0,null,null,null,null,null,null,null,0,null,null,null,null,null,null,null,95,null,null,null,null,null,null,null,43,null,null,null,null,null,null,null,60.2,null,null,null,null,null,null,null,34.799999999999997]
[null,null,84575]
[null,null,null,null,null,null,null,null,null,null,null,null,null,null,null,null,null,249,null,null,null,null,null,null,null,153,null,null,null,null,null,null,null,96,null,null,null,null,null,null,null,0,null,null,null,null,null,null,null,35,null,null,null,null,null,null,null,153,null,null,null,null,null,null,null,31,null,null,null,null,null,null,null,0,null,null,null,null,null,null,null,60,null,null,null,null,null,null,null,null,null,null,null,null,null,null,null,null,null,null,null,null,null,null,null,91,null,null,null,null,null,null,null,118.3,null,null,null,null,null,null,null,34.700000000000003,null,null,null,null,null,null,null,0,null,null,null,null,null,null,null,0,null,null,null,null,null,null,null,96,null,null,null,null,null,null,null,42,null,null,null,null,null,null,null,58.8,null,null,null,null,null,null,null,37.200000000000003]
[null,null,84600]
[null,null,null,null,null,null,null,null,null,null,null,null,null,null,null,null,null,250,null,null,null,null,null,null,null,154,null,null,null,null,null,null,null,97,null,null,null,null,null,null,null,0,null,null,null,null,null,null,null,34,null,null,null,null,null,null,null,154,null,null,null,null,null,null,null,37,null,null,null,null,null,null,null,0,null,null,null,null,null,null,null,63,null,null,null,null,null,null,null,null,null,null,null,null,null,null,null,null,null,null,null,null,null,null,null,100,null,null,null,null,null,null,null,130,null,null,null,null,null,null,null,24,null,null,null,null,null,null,null,0,null,null,null,null,null,null,null,0,null,null,null,null,null,null,null,97,null,null,null,null,null,null,null,42,null,null,null,null,null,null,null,58.8,null,null,null,null,null,null,null,38.200000000000003]
[null,null,84625]
[null,null,null,null,null,null,null,null,null,null,null,null,null,null,null,null,null,251,null,null,null,null,null,null,null,154,null,null,null,null,null,null,null,97,null,null,null,null,null,null,null,0,null,null,null,null,null,null,null,33,null,null,null,null,null,null,null,154,null,null,null,null,null,null,null,41,null,null,null,null,null,null,null,0,null,null,null,null,null,null,null,65,null,null,null,null,null,null,null,null,null,null,null,null,null,null,null,null,null,null,null,null,null,null,null,106,null,null,null,null,null,null,null,137.80000000000001,null,null,null,null,null,null,null,16.2,null,null,null,null,null,null,null,0,null,null,null,null,null,null,null,0,null,null,null,null,null,null,null,97,null,null,null,null,null,null,null,42,null,null,null,null,null,null,null,58.8,null,null,null,null,null,null,null,38.200000000000003]
[null,null,84650]
[null,null,null,null,null,null,null,null,null,null,null,null,null,null,null,null,null,252,null,null,null,null,null,null,null,154,null,null,null,null,null,null,null,98,null,null,null,null,null,null,null,0,null,null,null,null,null,null,null,32,null,null,null,null,null,null,null,154,null,null,null,null,null,null,null,44,null,null,null,null,null,null,null,0,null,null,null,null,null,null,null,66,null,null,null,null,null,null,null,null,null,null,null,null,null,null,null,null,null,null,null,null,null,null,null,110,null,null,null,null,null,null,null,143,null,null,null,null,null,null,null,11,null,null,null,null,null,null,null,0,null,null,null,null,null,null,null,0,null,null,null,null,null,null,null,98,null,null,null,null,null,null,null,42,null,null,null,null,null,null,null,58.8,null,null,null,null,null,null,null,39.200000000000003]
[null,null,84675]
[null,null,null,null,null,null,null,null,null,null,null,null,null,null,null,null,null,252,null,null,null,null,null,null,null,154,null,null,null,null,null,null,null,98,null,null,null,null,null,null,null,0,null,null,null,null,null,null,null,31,null,null,null,null,null,null,null,154,null,null,null,null,null,null,null,50,null,null,null,null,null,null,null,0,null,null,null,null,null,null,null,65,null,null,null,null,null,null,null,null,null,null,null,null,null,null,null,null,null,null,null,null,null,null,null,115,null,null,null,null,null,null,null,149.5,null,null,null,null,null,null,null,4.5,null,null,null,null,null,null,null,0,null,null,null,null,null,null,null,0,null,null,null,null,null,null,null,98,null,null,null,null,null,null,null,41,null,null,null,null,null,null,null,57.4,null,null,null,null,null,null,null,40.6]
[null,null,84700]
[null,null,null,null,null,null,null,null,null,null,null,null,null,null,null,null,null,254,null,null,null,null,null,null,null,155,null,null,null,null,null,null,null,99,null,null,null,null,null,null,null,0,null,null,null,null,null,null,null,31,null,null,null,null,null,null,null,155,null,null,null,null,null,null,null,54,null,null,null,null,null,null,null,0,null,null,null,null,null,null,null,65,null,null,null,null,null,null,null,null,null,null,null,null,null,null,null,null,null,null,null,null,null,null,null,119,null,null,null,null,null,null,null,154.69999999999999,null,null,null,null,null,null,null,0.4,null,null,null,null,null,null,null,0,null,null,null,null,null,null,null,0,null,null,null,null,null,null,null,99,null,null,null,null,null,null,null,41,null,null,null,null,null,null,null,57.4,null,null,null,null,null,null,null,41.6]
[null,null,84725]
[null,null,null,null,null,null,null,null,null,null,null,null,null,null,null,null,null,255,null,null,null,null,null,null,null,156,null,null,null,null,null,null,null,99,null,null,null,null,null,null,null,0,null,null,null,null,null,null,null,30,null,null,null,null,null,null,null,156,null,null,null,null,null,null,null,56,null,null,null,null,null,null,null,0,null,null,null,null,null,null,null,64,null,null,null,null,null,null,null,null,null,null,null,null,null,null,null,null,null,null,null,null,null,null,null,120,null,null,null,null,null,null,null,156,null,null,null,null,null,null,null,0,null,null,null,null,null,null,null,0,null,null,null,null,null,null,null,0,null,null,null,null,null,null,null,99,null,null,null,null,null,null,null,40,null,null,null,null,null,null,null,56,null,null,null,null,null,null,null,43]
[null,null,84750]
[null,null,null,null,null,null,null,null,null,null,null,null,null,null,null,null,null,257,null,null,null,null,null,null,null,157,null,null,null,null,null,null,null,100,null,null,null,null,null,null,null,0,null,null,null,null,null,null,null,29,null,null,null,null,null,null,null,157,null,null,null,null,null,null,null,59,null,null,null,null,null,null,null,0,null,null,null,null,null,null,null,63,null,null,null,null,null,null,null,null,null,null,null,null,null,null,null,null,null,null,null,null,null,null,null,122,null,null,null,null,null,null,null,158.6,null,null,null,null,null,null,null,-1.6,null,null,null,null,null,null,null,0,null,null,null,null,null,null,null,0,null,null,null,null,null,null,null,100,null,null,null,null,null,null,null,40,null,null,null,null,null,null,null,56,null,null,null,null,null,null,null,44]
[null,null,84775]
[null,null,null,null,null,null,null,null,null,null,null,null,null,null,null,null,null,257,null,null,null,null,null,null,null,156,null,null,null,null,null,null,null,101,null,null,null,null,null,null,null,0,null,null,null,null,null,null,null,28,null,null,null,null,null,null,null,156,null,null,null,null,null,null,null,63,null,null,null,null,null,null,null,0,null,null,null,null,null,null,null,62,null,null,null,null,null,null,null,null,null,null,null,null,null,null,null,null,null,null,null,null,null,null,null,125,null,null,null,null,null,null,null,162.5,null,null,null,null,null,null,null,-6.5,null,null,null,null,null,null,null,0,null,null,null,null,null,null,null,0,null,null,null,null,null,null,null,101,null,null,null,null,null,null,null,40,null,null,null,null,null,null,null,56,null,null,null,null,null,null,null,45]
[null,null,84800]
[null,null,null,null,null,null,null,null,null,null,null,null,null,null,null,null,null,255,null,null,null,null,null,null,null,153,null,null,null,null,null,null,null,102,null,null,null,null,null,null,null,0,null,null,null,null,null,null,null,27,null,null,null,null,null,null,null,153,null,null,null,null,null,null,null,72,null,null,null,null,null,null,null,0,null,null,null,null,null,null,null,62,null,null,null,null,null,null,null,null,null,null,null,null,null,null,null,null,null,null,null,null,null,null,null,134,null,null,null,null,null,null,null,174.2,null,null,null,null,null,null,null,-21.2,null,null,null,null,null,null,null,0,null,null,null,null,null,null,null,0,null,null,null,null,null,null,null,102,null,null,null,null,null,null,null,40,null,null,null,null,null,null,null,56,null,null,null,null,null,null,null,46]
[null,null,84825]
[null,null,null,null,null,null,null,null,null,null,null,null,null,null,null,null,null,253,null,null,null,null,null,null,null,150,null,null,null,null,null,null,null,103,null,null,null,null,null,null,null,0,null,null,null,null,null,null,null,27,null,null,null,null,null,null,null,150,null,null,null,null,null,null,null,81,null,null,null,null,null,null,null,0,null,null,null,null,null,null,null,63,null,null,null,null,null,null,null,null,null,null,null,null,null,null,null,null,null,null,null,null,null,null,null,144,null,null,null,null,null,null,null,187.2,null,null,null,null,null,null,null,-37.200000000000003,null,null,null,null,null,null,null,0,null,null,null,null,null,null,null,0,null,null,null,null,null,null,null,103,null,null,null,null,null,null,null,40,null,null,null,null,null,null,null,56,null,null,null,null,null,null,null,47]
[null,null,84850]
[null,null,null,null,null,null,null,null,null,null,null,null,null,null,null,null,null,250,null,null,null,null,null,null,null,145,null,null,null,null,null,null,null,105,null,null,null,null,null,null,null,0,null,null,null,null,null,null,null,26,null,null,null,null,null,null,null,145,null,null,null,null,null,null,null,89,null,null,null,null,null,null,null,0,null,null,null,null,null,null,null,65,null,null,null,null,null,null,null,null,null,null,null,null,null,null,null,null,null,null,null,null,null,null,null,154,null,null,null,null,null,null,null,200.2,null,null,null,null,null,null,null,-55.2,null,null,null,null,null,null,null,0,null,null,null,null,null,null,null,0,null,null,null,null,null,null,null,105,null,null,null,null,null,null,null,40,null,null,null,null,null,null,null,56,null,null,null,null,null,null,null,49]
[null,null,84875]
[null,null,null,null,null,null,null,null,null,null,null,null,null,null,null,null,null,247,null,null,null,null,null,null,null,140,null,null,null,null,null,null,null,107,null,null,null,null,null,null,null,0,null,null,null,null,null,null,null,26,null,null,null,null,null,null,null,140,null,null,null,null,null,null,null,101,null,null,null,null,null,null,null,0,null,null,null,null,null,null,null,69,null,null,null,null,null,null,null,null,null,null,null,null,null,null,null,null,null,null,null,null,null,null,null,170,null,null,null,null,null,null,null,221,null,null,null,null,null,null,null,-81,null,null,null,null,null,null,null,0,null,null,null,null,null,null,null,7.8,null,null,null,null,null,null,null,107,null,null,null,null,null,null,null,40,null,null,null,null,null,null,null,56,null,null,null,null,null,null,null,51]
[null,null,84900]
[null,null,null,null,null,null,null,null,null,null,null,null,null,null,null,null,null,244,null,null,null,null,null,null,null,136,null,null,null,null,null,null,null,108,null,null,null,null,null,null,null,0,null,null,null,null,null,null,null,25,null,null,null,null,null,null,null,136,null,null,null,null,null,null,null,113,null,null,null,null,null,null,null,0,null,null,null,null,null,null,null,73,null,null,null,null,null,null,null,null,null,null,null,null,null,null,null,null,null,null,null,null,null,null,null,186,null,null,null,null,null,null,null,241.8,null,null,null,null,null,null,null,-105.8,null,null,null,null,null,null,null,0,null,null,null,null,null,null,null,29.9,null,null,null,null,null,null,null,108,null,null,null,null,null,null,null,40,null,null,null,null,null,null,null,56,null,null,null,null,null,null,null,52]
[null,null,84925]
[null,null,null,null,null,null,null,null,null,null,null,null,null,null,null,null,null,239,null,null,null,null,null,null,null,130,null,null,null,null,null,null,null,108,null,null,null,null,null,null,null,0,null,null,null,null,null,null,null,25,null,null,null,null,null,null,null,130,null,null,null,null,null,null,null,119,null,null,null,null,null,null,null,0,null,null,null,null,null,null,null,76,null,null,null,null,null,null,null,null,null,null,null,null,null,null,null,null,null,null,null,null,null,null,null,195,null,null,null,null,null,null,null,253.5,null,null,null,null,null,null,null,-123.5,null,null,null,null,null,null,null,0,null,null,null,null,null,null,null,41.6,null,null,null,null,null,null,null,108,null,null,null,null,null,null,null,41,null,null,null,null,null,null,null,57.4,null,null,null,null,null,null,null,50.6]
[null,null,84950]
[null,null,null,null,null,null,null,null,null,null,null,null,null,null,null,null,null,232,null,null,null,null,null,null,null,123,null,null,null,null,null,null,null,108,null,null,null,null,null,null,null,0,null,null,null,null,null,null,null,26,null,null,null,null,null,null,null,123,null,null,null,null,null,null,null,120,null,null,null,null,null,null,null,0,null,null,null,null,null,null,null,80,null,null,null,null,null,null,null,null,null,null,null,null,null,null,null,null,null,null,null,null,null,null,null,200,null,null,null,null,null,null,null,260,null,null,null,null,null,null,null,-137,null,null,null,null,null,null,null,0,null,null,null,null,null,null,null,48.1,null,null,null,null,null,null,null,108,null,null,null,null,null,null,null,40,null,null,null,null,null,null,null,56,null,null,null,null,null,null,null,52]
[null,null,84975]
[null,null,null,null,null,null,null,null,null,null,null,null,null,null,null,null,null,250,null,null,null,null,null,null,null,118,null,null,null,null,null,null,null,132,null,null,null,null,null,null,null,0,null,null,null,null,null,null,null,27,null,null,null,null,null,null,null,118,null,null,null,null,null,null,null,119,null,null,null,null,null,null,null,0,null,null,null,null,null,null,null,90,null,null,null,null,null,null,null,null,null,null,null,null,null,null,null,null,null,null,null,null,null,null,null,209,null,null,null,null,null,null,null,271.7,null,null,null,null,null,null,null,-153.69999999999999,null,null,null,null,null,null,null,0,null,null,null,null,null,null,null,59.8,null,null,null,null,null,null,null,132,null,null,null,null,null,null,null,57,null,null,null,null,null,null,null,79.8,null,null,null,null,null,null,null,52.2]
[null,null,85000]
[null,null,null,null,null,null,null,null,null,null,null,null,null,null,null,null,null,298,null,null,null,null,null,null,null,141,null,null,null,null,null,null,null,157,null,null,null,null,null,null,null,0,null,null,null,null,null,null,null,27,null,null,null,null,null,null,null,141,null,null,null,null,null,null,null,104,null,null,null,null,null,null,null,0,null,null,null,null,null,null,null,96,null,null,null,null,null,null,null,null,null,null,null,null,null,null,null,null,null,null,null,null,null,null,null,200,null,null,null,null,null,null,null,260,null,null,null,null,null,null,null,-119,null,null,null,null,null,null,null,0,null,null,null,null,null,null,null,48.1,null,null,null,null,null,null,null,157,null,null,null,null,null,null,null,73,null,null,null,null,null,null,null,102.2,null,null,null,null,null,null,null,54.8]
[null,null,85025]
[null,null,null,null,null,null,null,null,null,null,null,null,null,null,null,null,null,326,null,null,null,null,null,null,null,170,null,null,null,null,null,null,null,156,null,null,null,null,null,null,null,0,null,null,null,null,null,null,null,27,null,null,null,null,null,null,null,170,null,null,null,null,null,null,null,88,null,null,null,null,null,null,null,0,null,null,null,null,null,null,null,92,null,null,null,null,null,null,null,null,null,null,null,null,null,null,null,null,null,null,null,null,null,null,null,180,null,null,null,null,null,null,null,234,null,null,null,null,null,null,null,-64,null,null,null,null,null,null,null,0,null,null,null,null,null,null,null,20.8,null,null,null,null,null,null,null,156,null,null,null,null,null,null,null,72,null,null,null,null,null,null,null,100.8,null,null,null,null,null,null,null,55.2]
[null,null,85050]
[null,null,null,null,null,null,null,null,null,null,null,null,null,null,null,null,null,324,null,null,null,null,null,null,null,170,null,null,null,null,null,null,null,155,null,null,null,null,null,null,null,0,null,null,null,null,null,null,null,27,null,null,null,null,null,null,null,170,null,null,null,null,null,null,null,85,null,null,null,null,null,null,null,0,null,null,null,null,null,null,null,92,null,null,null,null,null,null,null,null,null,null,null,null,null,null,null,null,null,null,null,null,null,null,null,177,null,null,null,null,null,null,null,230.1,null,null,null,null,null,null,null,-60.1,null,null,null,null,null,null,null,0,null,null,null,null,null,null,null,16.899999999999999,null,null,null,null,null,null,null,155,null,null,null,null,null,null,null,71,null,null,null,null,null,null,null,99.4,null,null,null,null,null,null,null,55.6]
[null,null,85075]
[null,null,null,null,null,null,null,null,null,null,null,null,null,null,null,null,null,314,null,null,null,null,null,null,null,161,null,null,null,null,null,null,null,153,null,null,null,null,null,null,null,0,null,null,null,null,null,null,null,27,null,null,null,null,null,null,null,161,null,null,null,null,null,null,null,83,null,null,null,null,null,null,null,0,null,null,null,null,null,null,null,94,null,null,null,null,null,null,null,null,null,null,null,null,null,null,null,null,null,null,null,null,null,null,null,177,null,null,null,null,null,null,null,230.1,null,null,null,null,null,null,null,-69.099999999999994,null,null,null,null,null,null,null,0,null,null,null,null,null,null,null,16.899999999999999,null,null,null,null,null,null,null,153,null,null,null,null,null,null,null,69,null,null,null,null,null,null,null,96.6,null,null,null,null,null,null,null,56.4]
[null,null,85100]
[null,null,null,null,null,null,null,null,null,null,null,null,null,null,null,null,null,306,null,null,null,null,null,null,null,154,null,null,null,null,null,null,null,152,null,null,null,null,null,null,null,0,null,null,null,null,null,null,null,27,null,null,null,null,null,null,null,154,null,null,null,null,null,null,null,77,null,null,null,null,null,null,null,0,null,null,null,null,null,null,null,94,null,null,null,null,null,null,null,null,null,null,null,null,null,null,null,null,null,null,null,null,null,null,null,171,null,null,null,null,null,null,null,222.3,null,null,null,null,null,null,null,-68.3,null,null,null,null,null,null,null,0,null,null,null,null,null,null,null,10.4,null,null,null,null,null,null,null,152,null,null,null,null,null,null,null,68,null,null,null,null,null,null,null,95.2,null,null,null,null,null,null,null,56.8]
[null,null,85125]
[null,null,null,null,null,null,null,null,null,null,null,null,null,null,null,null,null,306,null,null,null,null,null,null,null,156,null,null,null,null,null,null,null,151,null,null,null,null,null,null,null,0,null,null,null,null,null,null,null,27,null,null,null,null,null,null,null,156,null,null,null,null,null,null,null,70,null,null,null,null,null,null,null,0,null,null,null,null,null,null,null,90,null,null,null,null,null,null,null,null,null,null,null,null,null,null,null,null,null,null,null,null,null,null,null,160,null,null,null,null,null,null,null,208,null,null,null,null,null,null,null,-52,null,null,null,null,null,null,null,0,null,null,null,null,null,null,null,0,null,null,null,null,null,null,null,151,null,null,null,null,null,null,null,67,null,null,null,null,null,null,null,93.8,null,null,null,null,null,null,null,57.2]
[null,null,85150]
[null,null,null,null,null,null,null,null,null,null,null,null,null,null,null,null,null,307,null,null,null,null,null,null,null,157,null,null,null,null,null,null,null,150,null,null,null,null,null,null,null,0,null,null,null,null,null,null,null,27,null,null,null,null,null,null,null,157,null,null,null,null,null,null,null,63,null,null,null,null,null,null,null,0,null,null,null,null,null,null,null,87,null,null,null,null,null,null,null,null,null,null,null,null,null,null,null,null,null,null,null,null,null,null,null,150,null,null,null,null,null,null,null,195,null,null,null,null,null,null,null,-38,null,null,null,null,null,null,null,0,null,null,null,null,null,null,null,0,null,null,null,null,null,null,null,150,null,null,null,null,null,null,null,66,null,null,null,null,null,null,null,92.4,null,null,null,null,null,null,null,57.6]
[null,null,85175]
[null,null,null,null,null,null,null,null,null,null,null,null,null,null,null,null,null,306,null,null,null,null,null,null,null,157,null,null,null,null,null,null,null,149,null,null,null,null,null,null,null,0,null,null,null,null,null,null,null,27,null,null,null,null,null,null,null,157,null,null,null,null,null,null,null,59,null,null,null,null,null,null,null,0,null,null,null,null,null,null,null,85,null,null,null,null,null,null,null,null,null,null,null,null,null,null,null,null,null,null,null,null,null,null,null,144,null,null,null,null,null,null,null,187.2,null,null,null,null,null,null,null,-30.2,null,null,null,null,null,null,null,0,null,null,null,null,null,null,null,0,null,null,null,null,null,null,null,149,null,null,null,null,null,null,null,65,null,null,null,null,null,null,null,91,null,null,null,null,null,null,null,58]
[null,null,85200]
[null,null,null,null,null,null,null,null,null,null,null,null,null,null,null,null,null,303,null,null,null,null,null,null,null,156,null,null,null,null,null,null,null,147,null,null,null,null,null,null,null,0,null,null,null,null,null,null,null,27,null,null,null,null,null,null,null,156,null,null,null,null,null,null,null,54,null,null,null,null,null,null,null,0,null,null,null,null,null,null,null,81,null,null,null,null,null,null,null,null,null,null,null,null,null,null,null,null,null,null,null,null,null,null,null,135,null,null,null,null,null,null,null,175.5,null,null,null,null,null,null,null,-19.5,null,null,null,null,null,null,null,0,null,null,null,null,null,null,null,0,null,null,null,null,null,null,null,147,null,null,null,null,null,null,null,64,null,null,null,null,null,null,null,89.6,null,null,null,null,null,null,null,57.4]
[null,null,85225]
[null,null,null,null,null,null,null,null,null,null,null,null,null,null,null,null,null,304,null,null,null,null,null,null,null,157,null,null,null,null,null,null,null,146,null,null,null,null,null,null,null,0,null,null,null,null,null,null,null,27,null,null,null,null,null,null,null,157,null,null,null,null,null,null,null,48,null,null,null,null,null,null,null,0,null,null,null,null,null,null,null,75,null,null,null,null,null,null,null,null,null,null,null,null,null,null,null,null,null,null,null,null,null,null,null,123,null,null,null,null,null,null,null,159.9,null,null,null,null,null,null,null,-3,null,null,null,null,null,null,null,0,null,null,null,null,null,null,null,0,null,null,null,null,null,null,null,146,null,null,null,null,null,null,null,62,null,null,null,null,null,null,null,86.8,null,null,null,null,null,null,null,59.2]
[null,null,85250]
[null,null,null,null,null,null,null,null,null,null,null,null,null,null,null,null,null,305,null,null,null,null,null,null,null,160,null,null,null,null,null,null,null,145,null,null,null,null,null,null,null,0,null,null,null,null,null,null,null,27,null,null,null,null,null,null,null,160,null,null,null,null,null,null,null,40,null,null,null,null,null,null,null,0,null,null,null,null,null,null,null,70,null,null,null,null,null,null,null,null,null,null,null,null,null,null,null,null,null,null,null,null,null,null,null,110,null,null,null,null,null,null,null,143,null,null,null,null,null,null,null,17,null,null,null,null,null,null,null,0,null,null,null,null,null,null,null,0,null,null,null,null,null,null,null,145,null,null,null,null,null,null,null,61,null,null,null,null,null,null,null,85.4,null,null,null,null,null,null,null,59.6]
[null,null,85275]
[null,null,null,null,null,null,null,null,null,null,null,null,null,null,null,null,null,305,null,null,null,null,null,null,null,162,null,null,null,null,null,null,null,144,null,null,null,null,null,null,null,0,null,null,null,null,null,null,null,27,null,null,null,null,null,null,null,162,null,null,null,null,null,null,null,35,null,null,null,null,null,null,null,0,null,null,null,null,null,null,null,67,null,null,null,null,null,null,null,null,null,null,null,null,null,null,null,null,null,null,null,null,null,null,null,102,null,null,null,null,null,null,null,132.6,null,null,null,null,null,null,null,29.4,null,null,null,null,null,null,null,0,null,null,null,null,null,null,null,0,null,null,null,null,null,null,null,144,null,null,null,null,null,null,null,60,null,null,null,null,null,null,null,84,null,null,null,null,null,null,null,60]
[null,null,85300]
[null,null,null,null,null,null,null,null,null,null,null,null,null,null,null,null,null,303,null,null,null,null,null,null,null,161,null,null,null,null,null,null,null,142,null,null,null,null,null,null,null,0,null,null,null,null,null,null,null,27,null,null,null,null,null,null,null,161,null,null,null,null,null,null,null,29,null,null,null,null,null,null,null,0,null,null,null,null,null,null,null,63,null,null,null,null,null,null,null,null,null,null,null,null,null,null,null,null,null,null,null,null,null,null,null,92,null,null,null,null,null,null,null,119.6,null,null,null,null,null,null,null,41.4,null,null,null,null,null,null,null,0,null,null,null,null,null,null,null,0,null,null,null,null,null,null,null,142,null,null,null,null,null,null,null,59,null,null,null,null,null,null,null,82.6,null,null,null,null,null,null,null,59.4]
[null,null,85325]
[null,null,null,null,null,null,null,null,null,null,null,null,null,null,null,null,null,307,null,null,null,null,null,null,null,166,null,null,null,null,null,null,null,141,null,null,null,null,null,null,null,0,null,null,null,null,null,null,null,27,null,null,null,null,null,null,null,166,null,null,null,null,null,null,null,21,null,null,null,null,null,null,null,0,null,null,null,null,null,null,null,58,null,null,null,null,null,null,null,null,null,null,null,null,null,null,null,null,null,null,null,null,null,null,null,79,null,null,null,null,null,null,null,102.7,null,null,null,null,null,null,null,63.3,null,null,null,null,null,null,null,0,null,null,null,null,null,null,null,0,null,null,null,null,null,null,null,141,null,null,null,null,null,null,null,58,null,null,null,null,null,null,null,81.2,null,null,null,null,null,null,null,59.8]
[null,null,85350]
[null,null,null,null,null,null,null,null,null,null,null,null,null,null,null,null,null,316,null,null,null,null,null,null,null,175,null,null,null,null,null,null,null,140,null,null,null,null,null,null,null,0,null,null,null,null,null,null,null,27,null,null,null,null,null,null,null,175,null,null,null,null,null,null,null,13,null,null,null,null,null,null,null,0,null,null,null,null,null,null,null,49,null,null,null,null,null,null,null,null,null,null,null,null,null,null,null,null,null,null,null,null,null,null,null,62,null,null,null,null,null,null,null,80.599999999999994,null,null,null,null,null,null,null,94.4,null,null,null,null,null,null,null,0,null,null,null,null,null,null,null,0,null,null,null,null,null,null,null,140,null,null,null,null,null,null,null,57,null,null,null,null,null,null,null,79.8,null,null,null,null,null,null,null,60.2]
[null,null,85375]
[null,null,null,null,null,null,null,null,null,null,null,null,null,null,null,null,null,322,null,null,null,null,null,null,null,184,null,null,null,null,null,null,null,138,null,null,null,null,null,null,null,0,null,null,null,null,null,null,null,27,null,null,null,null,null,null,null,184,null,null,null,null,null,null,null,8,null,null,null,null,null,null,null,0,null,null,null,null,null,null,null,39,null,null,null,null,null,null,null,null,null,null,null,null,null,null,null,null,null,null,null,null,null,null,null,47,null,null,null,null,null,null,null,61.1,null,null,null,null,null,null,null,122.9,null,null,null,null,null,null,null,0,null,null,null,null,null,null,null,0,null,null,null,null,null,null,null,138,null,null,null,null,null,null,null,56,null,null,null,null,null,null,null,78.400000000000006,null,null,null,null,null,null,null,59.6]
[null,null,85400]
[null,null,null,null,null,null,null,null,null,null,null,null,null,null,null,null,null,330,null,null,null,null,null,null,null,192,null,null,null,null,null,null,null,137,null,null,null,null,null,null,null,2,null,null,null,null,null,null,null,27,null,null,null,null,null,null,null,194,null,null,null,null,null,null,null,4,null,null,null,null,null,null,null,0,null,null,null,null,null,null,null,32,null,null,null,null,null,null,null,null,null,null,null,null,null,null,null,null,null,null,null,null,null,null,null,36,null,null,null,null,null,null,null,46.8,null,null,null,null,null,null,null,147.19999999999999,null,null,null,null,null,null,null,0,null,null,null,null,null,null,null,0,null,null,null,null,null,null,null,137,null,null,null,null,null,null,null,55,null,null,null,null,null,null,null,77,null,null,null,null,null,null,null,60]
[null,null,85425]
[null,null,null,null,null,null,null,null,null,null,null,null,null,null,null,null,null,341,null,null,null,null,null,null,null,201,null,null,null,null,null,null,null,136,null,null,null,null,null,null,null,5,null,null,null,null,null,null,null,27,null,null,null,null,null,null,null,206,null,null,null,null,null,null,null,3,null,null,null,null,null,null,null,0,null,null,null,null,null,null,null,27,null,null,null,null,null,null,null,null,null,null,null,null,null,null,null,null,null,null,null,null,null,null,null,30,null,null,null,null,null,null,null,39,null,null,null,null,null,null,null,167,null,null,null,null,null,null,null,0,null,null,null,null,null,null,null,0,null,null,null,null,null,null,null,136,null,null,null,null,null,null,null,54,null,null,null,null,null,null,null,75.599999999999994,null,null,null,null,null,null,null,60.4]
[null,null,85450]
[null,null,null,null,null,null,null,null,null,null,null,null,null,null,null,null,null,352,null,null,null,null,null,null,null,211,null,null,null,null,null,null,null,136,null,null,null,null,null,null,null,4,null,null,null,null,null,null,null,27,null,null,null,null,null,null,null,215,null,null,null,null,null,null,null,3,null,null,null,null,null,null,null,0,null,null,null,null,null,null,null,25,null,null,null,null,null,null,null,null,null,null,null,null,null,null,null,null,null,null,null,null,null,null,null,28,null,null,null,null,null,null,null,36.4,null,null,null,null,null,null,null,178.6,null,null,null,null,null,null,null,0,null,null,null,null,null,null,null,0,null,null,null,null,null,null,null,136,null,null,null,null,null,null,null,53,null,null,null,null,null,null,null,74.2,null,null,null,null,null,null,null,61.8]
[null,null,85475]
[null,null,null,null,null,null,null,null,null,null,null,null,null,null,null,null,null,363,null,null,null,null,null,null,null,222,null,null,null,null,null,null,null,136,null,null,null,null,null,null,null,4,null,null,null,null,null,null,null,27,null,null,null,null,null,null,null,226,null,null,null,null,null,null,null,3,null,null,null,null,null,null,null,0,null,null,null,null,null,null,null,26,null,null,null,null,null,null,null,null,null,null,null,null,null,null,null,null,null,null,null,null,null,null,null,29,null,null,null,null,null,null,null,37.700000000000003,null,null,null,null,null,null,null,188.3,null,null,null,null,null,null,null,0,null,null,null,null,null,null,null,0,null,null,null,null,null,null,null,136,null,null,null,null,null,null,null,52,null,null,null,null,null,null,null,72.8,null,null,null,null,null,null,null,63.2]
[null,null,85500]
[null,null,null,null,null,null,null,null,null,null,null,null,null,null,null,null,null,377,null,null,null,null,null,null,null,236,null,null,null,null,null,null,null,136,null,null,null,null,null,null,null,4,null,null,null,null,null,null,null,27,null,null,null,null,null,null,null,240,null,null,null,null,null,null,null,4,null,null,null,null,null,null,null,0,null,null,null,null,null,null,null,28,null,null,null,null,null,null,null,null,null,null,null,null,null,null,null,null,null,null,null,null,null,null,null,32,null,null,null,null,null,null,null,41.6,null,null,null,null,null,null,null,198.4,null,null,null,null,null,null,null,0,null,null,null,null,null,null,null,0,null,null,null,null,null,null,null,136,null,null,null,null,null,null,null,52,null,null,null,null,null,null,null,72.8,null,null,null,null,null,null,null,63.2]
[null,null,85525]
[null,null,null,null,null,null,null,null,null,null,null,null,null,null,null,null,null,392,null,null,null,null,null,null,null,252,null,null,null,null,null,null,null,136,null,null,null,null,null,null,null,4,null,null,null,null,null,null,null,27,null,null,null,null,null,null,null,256,null,null,null,null,null,null,null,7,null,null,null,null,null,null,null,0,null,null,null,null,null,null,null,29,null,null,null,null,null,null,null,null,null,null,null,null,null,null,null,null,null,null,null,null,null,null,null,36,null,null,null,null,null,null,null,46.8,null,null,null,null,null,null,null,209.2,null,null,null,null,null,null,null,0,null,null,null,null,null,null,null,0,null,null,null,null,null,null,null,136,null,null,null,null,null,null,null,52,null,null,null,null,null,null,null,72.8,null,null,null,null,null,null,null,63.2]
[null,null,85550]
[null,null,null,null,null,null,null,null,null,null,null,null,null,null,null,null,null,410,null,null,null,null,null,null,null,267,null,null,null,null,null,null,null,136,null,null,null,null,null,null,null,7,null,null,null,null,null,null,null,27,null,null,null,null,null,null,null,274,null,null,null,null,null,null,null,11,null,null,null,null,null,null,null,0,null,null,null,null,null,null,null,29,null,null,null,null,null,null,null,null,null,null,null,null,null,null,null,null,null,null,null,null,null,null,null,40,null,null,null,null,null,null,null,52,null,null,null,null,null,null,null,222,null,null,null,null,null,null,null,0,null,null,null,null,null,null,null,0,null,null,null,null,null,null,null,136,null,null,null,null,null,null,null,52,null,null,null,null,null,null,null,72.8,null,null,null,null,null,null,null,63.2]
[null,null,85575]
[null,null,null,null,null,null,null,null,null,null,null,null,null,null,null,null,null,430,null,null,null,null,null,null,null,283,null,null,null,null,null,null,null,136,null,null,null,null,null,null,null,11,null,null,null,null,null,null,null,27,null,null,null,null,null,null,null,294,null,null,null,null,null,null,null,15,null,null,null,null,null,null,null,0,null,null,null,null,null,null,null,28,null,null,null,null,null,null,null,null,null,null,null,null,null,null,null,null,null,null,null,null,null,null,null,43,null,null,null,null,null,null,null,55.9,null,null,null,null,null,null,null,238.1,null,null,null,null,null,null,null,0,null,null,null,null,null,null,null,0,null,null,null,null,null,null,null,136,null,null,null,null,null,null,null,52,null,null,null,null,null,null,null,72.8,null,null,null,null,null,null,null,63.2]
[null,null,85600]
[null,null,null,null,null,null,null,null,null,null,null,null,null,null,null,null,null,450,null,null,null,null,null,null,null,300,null,null,null,null,null,null,null,136,null,null,null,null,null,null,null,13,null,null,null,null,null,null,null,27,null,null,null,null,null,null,null,313,null,null,null,null,null,null,null,19,null,null,null,null,null,null,null,0,null,null,null,null,null,null,null,28,null,null,null,null,null,null,null,null,null,null,null,null,null,null,null,null,null,null,null,null,null,null,null,47,null,null,null,null,null,null,null,61.1,null,null,null,null,null,null,null,251.9,null,null,null,null,null,null,null,0,null,null,null,null,null,null,null,0,null,null,null,null,null,null,null,136,null,null,null,null,null,null,null,52,null,null,null,null,null,null,null,72.8,null,null,null,null,null,null,null,63.2]
[null,null,85625]
[null,null,null,null,null,null,null,null,null,null,null,null,null,null,null,null,null,468,null,null,null,null,null,null,null,319,null,null,null,null,null,null,null,136,null,null,null,null,null,null,null,13,null,null,null,null,null,null,null,27,null,null,null,null,null,null,null,332,null,null,null,null,null,null,null,23,null,null,null,null,null,null,null,0,null,null,null,null,null,null,null,27,null,null,null,null,null,null,null,null,null,null,null,null,null,null,null,null,null,null,null,null,null,null,null,50,null,null,null,null,null,null,null,65,null,null,null,null,null,null,null,267,null,null,null,null,null,null,null,0,null,null,null,null,null,null,null,0,null,null,null,null,null,null,null,136,null,null,null,null,null,null,null,52,null,null,null,null,null,null,null,72.8,null,null,null,null,null,null,null,63.2]
[null,null,85650]
[null,null,null,null,null,null,null,null,null,null,null,null,null,null,null,null,null,484,null,null,null,null,null,null,null,333,null,null,null,null,null,null,null,140,null,null,null,null,null,null,null,11,null,null,null,null,null,null,null,27,null,null,null,null,null,null,null,344,null,null,null,null,null,null,null,26,null,null,null,null,null,null,null,0,null,null,null,null,null,null,null,26,null,null,null,null,null,null,null,null,null,null,null,null,null,null,null,null,null,null,null,null,null,null,null,52,null,null,null,null,null,null,null,67.599999999999994,null,null,null,null,null,null,null,276.39999999999998,null,null,null,null,null,null,null,0,null,null,null,null,null,null,null,0,null,null,null,null,null,null,null,140,null,null,null,null,null,null,null,52,null,null,null,null,null,null,null,72.8,null,null,null,null,null,null,null,67.2]
[null,null,85675]
[null,null,null,null,null,null,null,null,null,null,null,null,null,null,null,null,null,497,null,null,null,null,null,null,null,347,null,null,null,null,null,null,null,140,null,null,null,null,null,null,null,10,null,null,null,null,null,null,null,27,null,null,null,null,null,null,null,357,null,null,null,null,null,null,null,32,null,null,null,null,null,null,null,0,null,null,null,null,null,null,null,26,null,null,null,null,null,null,null,null,null,null,null,null,null,null,null,null,null,null,null,null,null,null,null,58,null,null,null,null,null,null,null,75.400000000000006,null,null,null,null,null,null,null,281.60000000000002,null,null,null,null,null,null,null,0,null,null,null,null,null,null,null,0,null,null,null,null,null,null,null,140,null,null,null,null,null,null,null,52,null,null,null,null,null,null,null,72.8,null,null,null,null,null,null,null,67.2]
[null,null,85700]
[null,null,null,null,null,null,null,null,null,null,null,null,null,null,null,null,null,512,null,null,null,null,null,null,null,360,null,null,null,null,null,null,null,137,null,null,null,null,null,null,null,15,null,null,null,null,null,null,null,27,null,null,null,null,null,null,null,375,null,null,null,null,null,null,null,33,null,null,null,null,null,null,null,0,null,null,null,null,null,null,null,26,null,null,null,null,null,null,null,null,null,null,null,null,null,null,null,null,null,null,null,null,null,null,null,59,null,null,null,null,null,null,null,76.7,null,null,null,null,null,null,null,298.3,null,null,null,null,null,null,null,0,null,null,null,null,null,null,null,0,null,null,null,null,null,null,null,137,null,null,null,null,null,null,null,52,null,null,null,null,null,null,null,72.8,null,null,null,null,null,null,null,64.2]
[null,null,85725]
[null,null,null,null,null,null,null,null,null,null,null,null,null,null,null,null,null,528,null,null,null,null,null,null,null,371,null,null,null,null,null,null,null,137,null,null,null,null,null,null,null,21,null,null,null,null,null,null,null,27,null,null,null,null,null,null,null,392,null,null,null,null,null,null,null,30,null,null,null,null,null,null,null,0,null,null,null,null,null,null,null,25,null,null,null,null,null,null,null,null,null,null,null,null,null,null,null,null,null,null,null,null,null,null,null,55,null,null,null,null,null,null,null,71.5,null,null,null,null,null,null,null,320.5,null,null,null,null,null,null,null,0,null,null,null,null,null,null,null,0,null,null,null,null,null,null,null,137,null,null,null,null,null,null,null,52,null,null,null,null,null,null,null,72.8,null,null,null,null,null,null,null,64.2]
[null,null,85750]
[null,null,null,null,null,null,null,null,null,null,null,null,null,null,null,null,null,544,null,null,null,null,null,null,null,384,null,null,null,null,null,null,null,138,null,null,null,null,null,null,null,22,null,null,null,null,null,null,null,27,null,null,null,null,null,null,null,406,null,null,null,null,null,null,null,30,null,null,null,null,null,null,null,0,null,null,null,null,null,null,null,26,null,null,null,null,null,null,null,null,null,null,null,null,null,null,null,null,null,null,null,null,null,null,null,56,null,null,null,null,null,null,null,72.8,null,null,null,null,null,null,null,333.2,null,null,null,null,null,null,null,0,null,null,null,null,null,null,null,0,null,null,null,null,null,null,null,138,null,null,null,null,null,null,null,52,null,null,null,null,null,null,null,72.8,null,null,null,null,null,null,null,65.2]
[null,null,85775]
[]
[null,null,"Subtotals:"]
[null,null,null,null,null,null,null,null,null,null,null,null,null,null,null,null,null,19892,null,null,null,null,null,null,null,12010,null,null,null,null,null,null,null,7672,null,null,null,null,null,null,null,207,null,null,null,null,null,null,null,2073,null,null,null,null,null,null,null,12217,null,null,null,null,null,null,null,2561,null,null,null,null,null,null,null,0,null,null,null,null,null,null,null,3315,null,null,null,null,null,null,null,1,null,null,null,null,null,null,null,0,null,null,null,null,null,null,null,5877,null,null,null,null,null,null,null,7640.1000000000013,null,null,null,null,null,null,null,4576.9000000000005,null,null,null,null,null,null,null,0,null,null,null,null,null,null,null,300.2999999999999,null,null,null,null,null,null,null,7672,null,null,null,null,null,null,null,3253,null,null,null,null,null,null,null,4554.2000000000025,null,null,null,null,null,null,null,3117.7999999999979]
[]
[]
[null,"",103550]
[]
[null,"FILE NO.",null,null,null,null,null,null,{"$f":"IF(ProjectInformation!$B$12<>\"\",ProjectInformation!$B$12,\"\")","v":29590},null,null,null,null,null,null,{"$f":"UPPER(ProjectInformation!$B$8)","v":"ENGLISH"},null,null,null,null,null,null,"DESIGN TEAM",null,null,null,null,null,null,null,null,{"$f":"IF(AND(ProjectInformation!$B$3<>\"\",ProjectInformation!$B$4<>\"\",ProjectInformation!$B$5<>\"\"),ProjectInformation!$B$3&\"\\\"&ProjectInformation!$B$4&\"\\\"&ProjectInformation!$B$5,IF(AND(ProjectInformation!$B$3<>\"\",ProjectInformation!$B$4<>\"\"),ProjectInformation!$B$3&\"\\\"&ProjectInformation!$B$4,IF(ProjectInformation!$B$3<>\"\",ProjectInformation!$B$3,\"\")))","v":"Flattery\\Bell\\Hain"},null,null,null,null,null,null,null,null,null,null,null,null,null,null,null,null,null,null,null,null,null,null,null,null,null,null,null,null,null,null,null,null,null,null,null,null,null,null,null,null,null,{"$f":"IF(ProjectInformation!$B$6<>\"\",ProjectInformation!$B$6,\"\")","v":"WAPELLO"},null,null,null,null,null,null,null,null,null,null,null,null,null,null,null,null,null,null,null,null,null,null,null,null,null,null,null,null,null,null,null,null,null,null,null,null,null,null,null,null,"COUNTY",null,null,null,null,null,"PROJECT NUMBER",null,null,null,null,null,null,null,null,null,null,null,{"$f":"IF(ProjectInformation!$B$7<>\"\",ProjectInformation!$B$7,\"\")","v":"NHSX-063-2(155)--3H-90"},null,null,null,null,null,null,null,null,null,null,null,null,null,null,null,null,null,null,null,null,null,null,null,null,null,null,null,null,null,"SHEET NUMBER",null,null,null,null,null,null,null,null,null,"T.3",null,null,null,null,null,null,null,{"$f":"IF(GE182<>\"\",\"REVISED\",\"\")","v":""},null,null,null,null,null,{"$f":"IF(ProjectInformation!$B$9<>\"\",ProjectInformation!$B$9,\"\")","v":""}]
[]
[]
[]
[null,"7/17/2019     11:14:25 AM     dhain     c:\\pw_work\\pwmain\\dhain\\d0824036\\90063155_T03.xlsm"]
[""]
[null,null,null,null,null,null,null,null,null,null,null,null,null,null,null,null,null,null,null,null,null,null,null,null,null,null,null,null,null,null,null,null,null,null,null,null,null,null,null,null,null,null,null,null,null,null,null,null,null,null,null,null,null,null,null,null,null,null,null,null,null,null,null,null,null,null,null,null,null,null,null,null,null,null,null,null,null,null,null,null,null,null,null,null,null,null,null,null,null,null,null,null,null,null,null,null,null,null,null,null,null,null,null,null,null,null,null,null,null,null,null,null,null,null,null,null,null,null,null,null,null,null,null,null,null,null,null,null,null,null,null,null,null,null,null,null,null,null,null,null,null,null,null,null,null,null,null,null,null,null,null,null,null,null,null,null,null,null,null,null,null,null,null,null,null,null,null,null,null,null,null,null,null,null,null,null,null,null,null,null,null,null,null,null,null,null,null,null,null,null,null,null,null,""]
[]
[null,null,null,null,null,null,null,null,null,null,null,null,null,null,null,null,null,null,null,null,null,null,null,null,null,"",null,null,null,null,null,null,null,"",null,null,null,null,null,null,null,"",null,null,null,null,null,null,null,"",null,null,null,null,null,null,null,"",null,null,null,null,null,null,null,"",null,null,null,null,null,null,null,"",null,null,null,null,null,null,null,"",null,null,null,null,null,null,null,null,null,null,null,null,null,null,null,"",null,null,null,null,null,null,null,"",null,null,null,null,null,null,null,null,null,null,null,null,null,null,null,"",null,null,null,null,null,null,null,null,null,null,null,null,null,null,null,null,"",null,null,null,null,null,null,null,null,null,null,null,null,null,null,"",null,null,null,null,null,null,null,null,null,null,null,null,null,null,null,"",null,null,null,null,null,null,null,"",null,null,null,null,null,null,null,"",null,null,null,null,null,null,null,""]
[]
[null,null,"Refer to Standard Road Plans EW-101 and EW-102.",null,null,null,null,null,null,null,null,null,null,null,null,null,null,null,null,null,null,null,null,null,null,null,null,null,null,null,null,null,null,null,null,null,null,null,null,null,null,null,null,null,null,null,null,null,null,null,null,null,null,null,null,null,null,null,"TABULATION OF TEMPLATE QUANTITIES AND ADJUSTMENTS",null,null,null,null,null,null,null,null,null,null,null,null,null,null,null,null,null,null,null,null,null,null,null,null,null,null,null,null,null,null,null,null,null,null,null,null,null,null,null,null,null,null,null,null,null,null,null,null,null,null,null,null,null,null,null,null,null,null,null,null,null,null,null,null,null,null,null,null,null,null,null,null,null,null,null,null,null,null,"107-28"]
[]
[null,null,null,null,null,null,null,null,null,null,null,null,null,null,null,null,null,null,null,null,null,null,null,null,null,null,null,null,null,null,null,null,null,null,null,null,null,null,null,null,null,null,null,null,null,null,null,null,null,null,null,null,null,null,null,null,null,null,null,null,null,null,null,null,null,null,null,null,null,null,null,null,null,null,null,null,null,null,null,null,null,null,null,null,null,null,null,null,null,null,null,null,null,null,null,null,null,null,null,null,null,null,null,null,null,null,null,null,null,null,null,null,null,null,null,null,null,null,null,null,null,null,null,null,null,null,null,null,null,null,null,null,null,null,null,null,null,"2015-04-21"]
[]
[null,null,null,null,null,null,null,null,null,null,null,null,null,null,null,null,null,"Cut",null,null,null,null,null,null,null,null,null,null,null,null,null,null,null,null,null,null,null,null,null,null,null,null,null,null,null,null,null,null,null,null,null,null,null,null,null,null,null,null,null,null,null,null,null,null,null,"Fill",null,null,null,null,null,null,null,null,null,null,null,null,null,null,null,null,null,null,null,null,null,null,null,null,null,null,null,null,null,null,null,null,null,null,null,null,null,null,null,null,null,null,null,null,null,null,null,null,null,null,null,null,null,null,null,null,null,null,null,null,null,null,null,"Checks (EW-102)",null,null,null,null,null,null,null,null,null,null,null,null,null,null,null,"Topsoil"]
[]
[]
[null,null,null,null,null,null,null,null,null,null,null,null,null,null,null,null,null,"[1]",null,null,null,null,null,null,null,"[2]",null,null,null,null,null,null,null,"[3]",null,null,null,null,null,null,null,"[4]",null,null,null,null,null,null,null,"[5]",null,null,null,null,null,null,null,"[6]",null,null,null,null,null,null,null,"[7]",null,null,null,null,null,null,null,"[8]",null,null,null,null,null,null,null,"[9]",null,null,null,null,null,null,null,"[10]",null,null,null,null,null,null,null,"[11]",null,null,null,null,null,null,null,"[12]",null,null,null,null,null,null,null,"[13]",null,null,null,null,null,null,null,"[14]",null,null,null,null,null,null,null,"[15]",null,null,null,null,null,null,null,"[16]",null,null,null,null,null,null,null,"[17]",null,null,null,null,null,null,null,"[18]",null,null,null,null,null,null,null,"[19]",null,null,null,null,null,null,null,"[20]",null,null,null,null,null,null,null,"[21]",null,null,null,null,null,null,null,"[22]"]
[]
[]
[null,null,null,null,null,null,null,null,null,null,null,null,null,null,null,null,null,{"$f":"IF('107_28'!$R$15<>\"\",'107_28'!$R$15,\"\")","v":""},null,null,null,null,null,null,null,{"$f":"IF('107_28'!$Z$15<>\"\",'107_28'!$Z$15,\"\")","v":""},null,null,null,null,null,null,null,{"$f":"IF('107_28'!$AH$15<>\"\",'107_28'!$AH$15,\"\")","v":""},null,null,null,null,null,null,null,{"$f":"IF('107_28'!$AP$15<>\"\",'107_28'!$AP$15,\"\")","v":""},null,null,null,null,null,null,null,{"$f":"IF('107_28'!$AX$15<>\"\",'107_28'!$AX$15,\"\")","v":""},null,null,null,null,null,null,null,{"$f":"IF('107_28'!$BF$15<>\"\",'107_28'!$BF$15,\"\")","v":"[2]+[4]"},null,null,null,null,null,null,null,{"$f":"IF('107_28'!$BN$15<>\"\",'107_28'!$BN$15,\"\")","v":""},null,null,null,null,null,null,null,{"$f":"IF('107_28'!$BV$15<>\"\",'107_28'!$BV$15,\"\")","v":""},null,null,null,null,null,null,null,{"$f":"IF('107_28'!$CD$15<>\"\",'107_28'!$CD$15,\"\")","v":""},null,null,null,null,null,null,null,{"$f":"IF('107_28'!$CL$15<>\"\",'107_28'!$CL$15,\"\")","v":""},null,null,null,null,null,null,null,{"$f":"IF('107_28'!$CT$15<>\"\",'107_28'!$CT$15,\"\")","v":""},null,null,null,null,null,null,null,{"$f":"IF('107_28'!$DB$15<>\"\",'107_28'!$DB$15,\"\")","v":"[7]+[8]+[9]+  [10]+[11]"},null,null,null,null,null,null,null,{"$f":"IF('107_28'!$DJ$15<>\"\",'107_28'!$DJ$15,\"\")","v":"[12]*1.3"},null,null,null,null,null,null,null,{"$f":"IF('107_28'!$DR$15<>\"\",'107_28'!$DR$15,\"\")","v":"[6]-[13]"},null,null,null,null,null,null,null,{"$f":"IF('107_28'!$DZ$15<>\"\",'107_28'!$DZ$15,\"\")","v":""},null,null,null,null,null,null,null,{"$f":"IF('107_28'!$EH$15<>\"\",'107_28'!$EH$15,\"\")","v":""},null,null,null,null,null,null,null,{"$f":"IF('107_28'!$EP$15<>\"\",'107_28'!$EP$15,\"\")","v":""},null,null,null,null,null,null,null,{"$f":"IF('107_28'!$EX$15<>\"\",'107_28'!$EX$15,\"\")","v":""},null,null,null,null,null,null,null,{"$f":"IF('107_28'!$FF$15<>\"\",'107_28'!$FF$15,\"\")","v":"[17]*1.4"},null,null,null,null,null,null,null,{"$f":"IF('107_28'!$FN$15<>\"\",'107_28'!$FN$15,\"\")","v":"[17]-[19]"},null,null,null,null,null,null,null,{"$f":"IF('107_28'!$FV$15<>\"\",'107_28'!$FV$15,\"\")","v":""},null,null,null,null,null,null,null,{"$f":"IF('107_28'!$GD$15<>\"\",'107_28'!$GD$15,\"\")","v":""}]
[]
[]
[]
[null,null,"Station",null,null,null,null,null,null,null,null,null,null,null,null,null,null,"Total Cut Unadjusted\n\nVolume",null,null,null,null,null,null,null,"Total Class 10\nUnadjusted\n\nVolume",null,null,null,null,null,null,null,"Topsoil Cut\n\nVolume",null,null,null,null,null,null,null,"Template\nUnsuitable\nType B\nVolume",null,null,null,null,null,null,null,"Template\nPavement\nRemoval\nVolume",null,null,null,null,null,null,null,"Total\nCut\nAdjusted",null,null,null,null,null,null,null,"Total Fill\nUnadjusted\n\nVolume",null,null,null,null,null,null,null,"Plowing &\nShaping\nUndercut\n(+ Fill)",null,null,null,null,null,null,null,"Existing Topsoil\nStripping\nUndercut\n(+ Fill)",null,null,null,null,null,null,null,"Existing\nPavement\nUndercut\n(+Fill)",null,null,null,null,null,null,null,"Manually\nCalculated Fill\nAdjustments\n(+/- Fill)",null,null,null,null,null,null,null,"Total\nFill\nAdjusted",null,null,null,null,null,null,null,"Total Fill\n Adjusted w/\nWeighted Average\n1.3  Shrink Factor",null,null,null,null,null,null,null,"Total Cut Adjusted\nMinus Fill w/ Shrink",null,null,null,null,null,null,null,"Approx. Fill Vol.\nBelow 5' & Above\n20' w/ Shrink",null,null,null,null,null,null,null,"Approx. Fill\nVolume Below 3'\nw/ Shrink",null,null,null,null,null,null,null,"Topsoil\nStripping Undercut\nVolume",null,null,null,null,null,null,null,"Topsoil\nPlacement\nUndercut\nVolume",null,null,null,null,null,null,null,"Topsoil Placement\nWith 1.4 Shrink\nFactor",null,null,null,null,null,null,null,"Topsoil Stripping\nMinus Topsoil\nPlacement\nw/Shrink"]
[]
[]
[]
[]
[]
[]
[]
[]
[]
[]
[]
[]
[]
[]
[]
[]
[]
[]
[null,null,85775]
[null,null,null,null,null,null,null,null,null,null,null,null,null,null,null,null,null,561,null,null,null,null,null,null,null,398,null,null,null,null,null,null,null,138,null,null,null,null,null,null,null,26,null,null,null,null,null,null,null,27,null,null,null,null,null,null,null,424,null,null,null,null,null,null,null,30,null,null,null,null,null,null,null,0,null,null,null,null,null,null,null,25,null,null,null,null,null,null,null,null,null,null,null,null,null,null,null,null,null,null,null,null,null,null,null,55,null,null,null,null,null,null,null,71.5,null,null,null,null,null,null,null,352.5,null,null,null,null,null,null,null,0,null,null,null,null,null,null,null,0,null,null,null,null,null,null,null,138,null,null,null,null,null,null,null,52,null,null,null,null,null,null,null,72.8,null,null,null,null,null,null,null,65.2]
[null,null,85800]
[null,null,null,null,null,null,null,null,null,null,null,null,null,null,null,null,null,583,null,null,null,null,null,null,null,412,null,null,null,null,null,null,null,138,null,null,null,null,null,null,null,33,null,null,null,null,null,null,null,27,null,null,null,null,null,null,null,445,null,null,null,null,null,null,null,31,null,null,null,null,null,null,null,0,null,null,null,null,null,null,null,25,null,null,null,null,null,null,null,null,null,null,null,null,null,null,null,null,null,null,null,null,null,null,null,56,null,null,null,null,null,null,null,72.8,null,null,null,null,null,null,null,372.2,null,null,null,null,null,null,null,0,null,null,null,null,null,null,null,0,null,null,null,null,null,null,null,138,null,null,null,null,null,null,null,52,null,null,null,null,null,null,null,72.8,null,null,null,null,null,null,null,65.2]
[null,null,85825]
[null,null,null,null,null,null,null,null,null,null,null,null,null,null,null,null,null,600,null,null,null,null,null,null,null,426,null,null,null,null,null,null,null,138,null,null,null,null,null,null,null,36,null,null,null,null,null,null,null,27,null,null,null,null,null,null,null,462,null,null,null,null,null,null,null,31,null,null,null,null,null,null,null,0,null,null,null,null,null,null,null,25,null,null,null,null,null,null,null,null,null,null,null,null,null,null,null,null,null,null,null,null,null,null,null,56,null,null,null,null,null,null,null,72.8,null,null,null,null,null,null,null,389.2,null,null,null,null,null,null,null,0,null,null,null,null,null,null,null,0,null,null,null,null,null,null,null,138,null,null,null,null,null,null,null,52,null,null,null,null,null,null,null,72.8,null,null,null,null,null,null,null,65.2]
[null,null,85850]
[null,null,null,null,null,null,null,null,null,null,null,null,null,null,null,null,null,615,null,null,null,null,null,null,null,440,null,null,null,null,null,null,null,139,null,null,null,null,null,null,null,36,null,null,null,null,null,null,null,27,null,null,null,null,null,null,null,476,null,null,null,null,null,null,null,31,null,null,null,null,null,null,null,0,null,null,null,null,null,null,null,25,null,null,null,null,null,null,null,null,null,null,null,null,null,null,null,null,null,null,null,null,null,null,null,56,null,null,null,null,null,null,null,72.8,null,null,null,null,null,null,null,403.2,null,null,null,null,null,null,null,0,null,null,null,null,null,null,null,0,null,null,null,null,null,null,null,139,null,null,null,null,null,null,null,53,null,null,null,null,null,null,null,74.2,null,null,null,null,null,null,null,64.8]
[null,null,85875]
[null,null,null,null,null,null,null,null,null,null,null,null,null,null,null,null,null,628,null,null,null,null,null,null,null,453,null,null,null,null,null,null,null,139,null,null,null,null,null,null,null,36,null,null,null,null,null,null,null,27,null,null,null,null,null,null,null,489,null,null,null,null,null,null,null,31,null,null,null,null,null,null,null,0,null,null,null,null,null,null,null,24,null,null,null,null,null,null,null,null,null,null,null,null,null,null,null,null,null,null,null,null,null,null,null,55,null,null,null,null,null,null,null,71.5,null,null,null,null,null,null,null,417.5,null,null,null,null,null,null,null,0,null,null,null,null,null,null,null,0,null,null,null,null,null,null,null,139,null,null,null,null,null,null,null,53,null,null,null,null,null,null,null,74.2,null,null,null,null,null,null,null,64.8]
[null,null,85900]
[null,null,null,null,null,null,null,null,null,null,null,null,null,null,null,null,null,638,null,null,null,null,null,null,null,483,null,null,null,null,null,null,null,138,null,null,null,null,null,null,null,18,null,null,null,null,null,null,null,27,null,null,null,null,null,null,null,501,null,null,null,null,null,null,null,32,null,null,null,null,null,null,null,0,null,null,null,null,null,null,null,23,null,null,null,null,null,null,null,null,null,null,null,null,null,null,null,null,null,null,null,null,null,null,null,55,null,null,null,null,null,null,null,71.5,null,null,null,null,null,null,null,429.5,null,null,null,null,null,null,null,0,null,null,null,null,null,null,null,0,null,null,null,null,null,null,null,138,null,null,null,null,null,null,null,53,null,null,null,null,null,null,null,74.2,null,null,null,null,null,null,null,63.8]
[null,null,85925]
[null,null,null,null,null,null,null,null,null,null,null,null,null,null,null,null,null,655,null,null,null,null,null,null,null,516,null,null,null,null,null,null,null,138,null,null,null,null,null,null,null,0,null,null,null,null,null,null,null,27,null,null,null,null,null,null,null,516,null,null,null,null,null,null,null,31,null,null,null,null,null,null,null,0,null,null,null,null,null,null,null,24,null,null,null,null,null,null,null,null,null,null,null,null,null,null,null,null,null,null,null,null,null,null,null,55,null,null,null,null,null,null,null,71.5,null,null,null,null,null,null,null,444.5,null,null,null,null,null,null,null,0,null,null,null,null,null,null,null,0,null,null,null,null,null,null,null,138,null,null,null,null,null,null,null,53,null,null,null,null,null,null,null,74.2,null,null,null,null,null,null,null,63.8]
[null,null,85950]
[null,null,null,null,null,null,null,null,null,null,null,null,null,null,null,null,null,666,null,null,null,null,null,null,null,528,null,null,null,null,null,null,null,138,null,null,null,null,null,null,null,0,null,null,null,null,null,null,null,27,null,null,null,null,null,null,null,528,null,null,null,null,null,null,null,29,null,null,null,null,null,null,null,0,null,null,null,null,null,null,null,24,null,null,null,null,null,null,null,null,null,null,null,null,null,null,null,null,null,null,null,null,null,null,null,53,null,null,null,null,null,null,null,68.900000000000006,null,null,null,null,null,null,null,459.1,null,null,null,null,null,null,null,0,null,null,null,null,null,null,null,0,null,null,null,null,null,null,null,138,null,null,null,null,null,null,null,53,null,null,null,null,null,null,null,74.2,null,null,null,null,null,null,null,63.8]
[null,null,85975]
[null,null,null,null,null,null,null,null,null,null,null,null,null,null,null,null,null,675,null,null,null,null,null,null,null,537,null,null,null,null,null,null,null,138,null,null,null,null,null,null,null,0,null,null,null,null,null,null,null,27,null,null,null,null,null,null,null,537,null,null,null,null,null,null,null,28,null,null,null,null,null,null,null,0,null,null,null,null,null,null,null,24,null,null,null,null,null,null,null,null,null,null,null,null,null,null,null,null,null,null,null,null,null,null,null,52,null,null,null,null,null,null,null,67.599999999999994,null,null,null,null,null,null,null,469.4,null,null,null,null,null,null,null,0,null,null,null,null,null,null,null,0,null,null,null,null,null,null,null,138,null,null,null,null,null,null,null,53,null,null,null,null,null,null,null,74.2,null,null,null,null,null,null,null,63.8]
[null,null,86000]
[null,null,null,null,null,null,null,null,null,null,null,null,null,null,null,null,null,681,null,null,null,null,null,null,null,543,null,null,null,null,null,null,null,138,null,null,null,null,null,null,null,0,null,null,null,null,null,null,null,27,null,null,null,null,null,null,null,543,null,null,null,null,null,null,null,30,null,null,null,null,null,null,null,0,null,null,null,null,null,null,null,24,null,null,null,null,null,null,null,null,null,null,null,null,null,null,null,null,null,null,null,null,null,null,null,54,null,null,null,null,null,null,null,70.2,null,null,null,null,null,null,null,472.8,null,null,null,null,null,null,null,0,null,null,null,null,null,null,null,0,null,null,null,null,null,null,null,138,null,null,null,null,null,null,null,53,null,null,null,null,null,null,null,74.2,null,null,null,null,null,null,null,63.8]
[null,null,86025]
[null,null,null,null,null,null,null,null,null,null,null,null,null,null,null,null,null,682,null,null,null,null,null,null,null,544,null,null,null,null,null,null,null,138,null,null,null,null,null,null,null,0,null,null,null,null,null,null,null,27,null,null,null,null,null,null,null,544,null,null,null,null,null,null,null,31,null,null,null,null,null,null,null,0,null,null,null,null,null,null,null,24,null,null,null,null,null,null,null,null,null,null,null,null,null,null,null,null,null,null,null,null,null,null,null,55,null,null,null,null,null,null,null,71.5,null,null,null,null,null,null,null,472.5,null,null,null,null,null,null,null,0,null,null,null,null,null,null,null,0,null,null,null,null,null,null,null,138,null,null,null,null,null,null,null,53,null,null,null,null,null,null,null,74.2,null,null,null,null,null,null,null,63.8]
[null,null,86050]
[null,null,null,null,null,null,null,null,null,null,null,null,null,null,null,null,null,690,null,null,null,null,null,null,null,552,null,null,null,null,null,null,null,138,null,null,null,null,null,null,null,0,null,null,null,null,null,null,null,27,null,null,null,null,null,null,null,552,null,null,null,null,null,null,null,29,null,null,null,null,null,null,null,0,null,null,null,null,null,null,null,23,null,null,null,null,null,null,null,null,null,null,null,null,null,null,null,null,null,null,null,null,null,null,null,52,null,null,null,null,null,null,null,67.599999999999994,null,null,null,null,null,null,null,484.4,null,null,null,null,null,null,null,0,null,null,null,null,null,null,null,0,null,null,null,null,null,null,null,138,null,null,null,null,null,null,null,53,null,null,null,null,null,null,null,74.2,null,null,null,null,null,null,null,63.8]
[null,null,86075]
[null,null,null,null,null,null,null,null,null,null,null,null,null,null,null,null,null,704,null,null,null,null,null,null,null,565,null,null,null,null,null,null,null,138,null,null,null,null,null,null,null,0,null,null,null,null,null,null,null,27,null,null,null,null,null,null,null,565,null,null,null,null,null,null,null,28,null,null,null,null,null,null,null,0,null,null,null,null,null,null,null,23,null,null,null,null,null,null,null,null,null,null,null,null,null,null,null,null,null,null,null,null,null,null,null,51,null,null,null,null,null,null,null,66.3,null,null,null,null,null,null,null,498.7,null,null,null,null,null,null,null,0,null,null,null,null,null,null,null,0,null,null,null,null,null,null,null,138,null,null,null,null,null,null,null,53,null,null,null,null,null,null,null,74.2,null,null,null,null,null,null,null,63.8]
[null,null,86100]
[null,null,null,null,null,null,null,null,null,null,null,null,null,null,null,null,null,715,null,null,null,null,null,null,null,576,null,null,null,null,null,null,null,139,null,null,null,null,null,null,null,0,null,null,null,null,null,null,null,27,null,null,null,null,null,null,null,576,null,null,null,null,null,null,null,27,null,null,null,null,null,null,null,0,null,null,null,null,null,null,null,23,null,null,null,null,null,null,null,null,null,null,null,null,null,null,null,null,null,null,null,null,null,null,null,50,null,null,null,null,null,null,null,65,null,null,null,null,null,null,null,511,null,null,null,null,null,null,null,0,null,null,null,null,null,null,null,0,null,null,null,null,null,null,null,139,null,null,null,null,null,null,null,54,null,null,null,null,null,null,null,75.599999999999994,null,null,null,null,null,null,null,63.4]
[null,null,86125]
[null,null,null,null,null,null,null,null,null,null,null,null,null,null,null,null,null,723,null,null,null,null,null,null,null,582,null,null,null,null,null,null,null,141,null,null,null,null,null,null,null,0,null,null,null,null,null,null,null,27,null,null,null,null,null,null,null,582,null,null,null,null,null,null,null,27,null,null,null,null,null,null,null,0,null,null,null,null,null,null,null,23,null,null,null,null,null,null,null,null,null,null,null,null,null,null,null,null,null,null,null,null,null,null,null,50,null,null,null,null,null,null,null,65,null,null,null,null,null,null,null,517,null,null,null,null,null,null,null,0,null,null,null,null,null,null,null,0,null,null,null,null,null,null,null,141,null,null,null,null,null,null,null,55,null,null,null,null,null,null,null,77,null,null,null,null,null,null,null,64]
[null,null,86150]
[null,null,null,null,null,null,null,null,null,null,null,null,null,null,null,null,null,725,null,null,null,null,null,null,null,582,null,null,null,null,null,null,null,142,null,null,null,null,null,null,null,0,null,null,null,null,null,null,null,27,null,null,null,null,null,null,null,582,null,null,null,null,null,null,null,29,null,null,null,null,null,null,null,0,null,null,null,null,null,null,null,23,null,null,null,null,null,null,null,null,null,null,null,null,null,null,null,null,null,null,null,null,null,null,null,52,null,null,null,null,null,null,null,67.599999999999994,null,null,null,null,null,null,null,514.4,null,null,null,null,null,null,null,0,null,null,null,null,null,null,null,0,null,null,null,null,null,null,null,142,null,null,null,null,null,null,null,56,null,null,null,null,null,null,null,78.400000000000006,null,null,null,null,null,null,null,63.6]
[null,null,86175]
[null,null,null,null,null,null,null,null,null,null,null,null,null,null,null,null,null,719,null,null,null,null,null,null,null,578,null,null,null,null,null,null,null,142,null,null,null,null,null,null,null,0,null,null,null,null,null,null,null,27,null,null,null,null,null,null,null,578,null,null,null,null,null,null,null,32,null,null,null,null,null,null,null,0,null,null,null,null,null,null,null,22,null,null,null,null,null,null,null,null,null,null,null,null,null,null,null,null,null,null,null,null,null,null,null,54,null,null,null,null,null,null,null,70.2,null,null,null,null,null,null,null,507.8,null,null,null,null,null,null,null,0,null,null,null,null,null,null,null,0,null,null,null,null,null,null,null,142,null,null,null,null,null,null,null,56,null,null,null,null,null,null,null,78.400000000000006,null,null,null,null,null,null,null,63.6]
[null,null,86200]
[null,null,null,null,null,null,null,null,null,null,null,null,null,null,null,null,null,713,null,null,null,null,null,null,null,572,null,null,null,null,null,null,null,142,null,null,null,null,null,null,null,0,null,null,null,null,null,null,null,27,null,null,null,null,null,null,null,572,null,null,null,null,null,null,null,35,null,null,null,null,null,null,null,0,null,null,null,null,null,null,null,22,null,null,null,null,null,null,null,null,null,null,null,null,null,null,null,null,null,null,null,null,null,null,null,57,null,null,null,null,null,null,null,74.099999999999994,null,null,null,null,null,null,null,497.9,null,null,null,null,null,null,null,0,null,null,null,null,null,null,null,0,null,null,null,null,null,null,null,142,null,null,null,null,null,null,null,56,null,null,null,null,null,null,null,78.400000000000006,null,null,null,null,null,null,null,63.6]
[null,null,86225]
[null,null,null,null,null,null,null,null,null,null,null,null,null,null,null,null,null,711,null,null,null,null,null,null,null,568,null,null,null,null,null,null,null,143,null,null,null,null,null,null,null,0,null,null,null,null,null,null,null,27,null,null,null,null,null,null,null,568,null,null,null,null,null,null,null,37,null,null,null,null,null,null,null,0,null,null,null,null,null,null,null,22,null,null,null,null,null,null,null,null,null,null,null,null,null,null,null,null,null,null,null,null,null,null,null,59,null,null,null,null,null,null,null,76.7,null,null,null,null,null,null,null,491.3,null,null,null,null,null,null,null,0,null,null,null,null,null,null,null,0,null,null,null,null,null,null,null,143,null,null,null,null,null,null,null,57,null,null,null,null,null,null,null,79.8,null,null,null,null,null,null,null,63.2]
[null,null,86250]
[null,null,null,null,null,null,null,null,null,null,null,null,null,null,null,null,null,709,null,null,null,null,null,null,null,565,null,null,null,null,null,null,null,144,null,null,null,null,null,null,null,0,null,null,null,null,null,null,null,27,null,null,null,null,null,null,null,565,null,null,null,null,null,null,null,38,null,null,null,null,null,null,null,0,null,null,null,null,null,null,null,23,null,null,null,null,null,null,null,null,null,null,null,null,null,null,null,null,null,null,null,null,null,null,null,61,null,null,null,null,null,null,null,79.3,null,null,null,null,null,null,null,485.7,null,null,null,null,null,null,null,0,null,null,null,null,null,null,null,0,null,null,null,null,null,null,null,144,null,null,null,null,null,null,null,57,null,null,null,null,null,null,null,79.8,null,null,null,null,null,null,null,64.2]
[null,null,86275]
[null,null,null,null,null,null,null,null,null,null,null,null,null,null,null,null,null,704,null,null,null,null,null,null,null,559,null,null,null,null,null,null,null,144,null,null,null,null,null,null,null,0,null,null,null,null,null,null,null,27,null,null,null,null,null,null,null,559,null,null,null,null,null,null,null,38,null,null,null,null,null,null,null,0,null,null,null,null,null,null,null,22,null,null,null,null,null,null,null,null,null,null,null,null,null,null,null,null,null,null,null,null,null,null,null,60,null,null,null,null,null,null,null,78,null,null,null,null,null,null,null,481,null,null,null,null,null,null,null,0,null,null,null,null,null,null,null,0,null,null,null,null,null,null,null,144,null,null,null,null,null,null,null,58,null,null,null,null,null,null,null,81.2,null,null,null,null,null,null,null,62.8]
[null,null,86300]
[null,null,null,null,null,null,null,null,null,null,null,null,null,null,null,null,null,702,null,null,null,null,null,null,null,557,null,null,null,null,null,null,null,145,null,null,null,null,null,null,null,0,null,null,null,null,null,null,null,27,null,null,null,null,null,null,null,557,null,null,null,null,null,null,null,39,null,null,null,null,null,null,null,0,null,null,null,null,null,null,null,22,null,null,null,null,null,null,null,null,null,null,null,null,null,null,null,null,null,null,null,null,null,null,null,61,null,null,null,null,null,null,null,79.3,null,null,null,null,null,null,null,477.7,null,null,null,null,null,null,null,0,null,null,null,null,null,null,null,0,null,null,null,null,null,null,null,145,null,null,null,null,null,null,null,59,null,null,null,null,null,null,null,82.6,null,null,null,null,null,null,null,62.4]
[null,null,86325]
[null,null,null,null,null,null,null,null,null,null,null,null,null,null,null,null,null,698,null,null,null,null,null,null,null,551,null,null,null,null,null,null,null,147,null,null,null,null,null,null,null,0,null,null,null,null,null,null,null,27,null,null,null,null,null,null,null,551,null,null,null,null,null,null,null,41,null,null,null,null,null,null,null,0,null,null,null,null,null,null,null,22,null,null,null,null,null,null,null,null,null,null,null,null,null,null,null,null,null,null,null,null,null,null,null,63,null,null,null,null,null,null,null,81.900000000000006,null,null,null,null,null,null,null,469.1,null,null,null,null,null,null,null,0,null,null,null,null,null,null,null,0,null,null,null,null,null,null,null,147,null,null,null,null,null,null,null,59,null,null,null,null,null,null,null,82.6,null,null,null,null,null,null,null,64.400000000000006]
[null,null,86350]
[null,null,null,null,null,null,null,null,null,null,null,null,null,null,null,null,null,690,null,null,null,null,null,null,null,542,null,null,null,null,null,null,null,148,null,null,null,null,null,null,null,0,null,null,null,null,null,null,null,27,null,null,null,null,null,null,null,542,null,null,null,null,null,null,null,45,null,null,null,null,null,null,null,0,null,null,null,null,null,null,null,22,null,null,null,null,null,null,null,null,null,null,null,null,null,null,null,null,null,null,null,null,null,null,null,67,null,null,null,null,null,null,null,87.1,null,null,null,null,null,null,null,454.9,null,null,null,null,null,null,null,0,null,null,null,null,null,null,null,0,null,null,null,null,null,null,null,148,null,null,null,null,null,null,null,60,null,null,null,null,null,null,null,84,null,null,null,null,null,null,null,64]
[null,null,86375]
[null,null,null,null,null,null,null,null,null,null,null,null,null,null,null,null,null,676,null,null,null,null,null,null,null,527,null,null,null,null,null,null,null,148,null,null,null,null,null,null,null,0,null,null,null,null,null,null,null,27,null,null,null,null,null,null,null,527,null,null,null,null,null,null,null,47,null,null,null,null,null,null,null,0,null,null,null,null,null,null,null,22,null,null,null,null,null,null,null,null,null,null,null,null,null,null,null,null,null,null,null,null,null,null,null,69,null,null,null,null,null,null,null,89.7,null,null,null,null,null,null,null,437.3,null,null,null,null,null,null,null,0,null,null,null,null,null,null,null,0,null,null,null,null,null,null,null,148,null,null,null,null,null,null,null,60,null,null,null,null,null,null,null,84,null,null,null,null,null,null,null,64]
[null,null,86400]
[null,null,null,null,null,null,null,null,null,null,null,null,null,null,null,null,null,655,null,null,null,null,null,null,null,506,null,null,null,null,null,null,null,149,null,null,null,null,null,null,null,0,null,null,null,null,null,null,null,27,null,null,null,null,null,null,null,506,null,null,null,null,null,null,null,49,null,null,null,null,null,null,null,0,null,null,null,null,null,null,null,22,null,null,null,null,null,null,null,null,null,null,null,null,null,null,null,null,null,null,null,null,null,null,null,71,null,null,null,null,null,null,null,92.3,null,null,null,null,null,null,null,413.7,null,null,null,null,null,null,null,0,null,null,null,null,null,null,null,0,null,null,null,null,null,null,null,149,null,null,null,null,null,null,null,61,null,null,null,null,null,null,null,85.4,null,null,null,null,null,null,null,63.6]
[null,null,86425]
[null,null,null,null,null,null,null,null,null,null,null,null,null,null,null,null,null,634,null,null,null,null,null,null,null,484,null,null,null,null,null,null,null,150,null,null,null,null,null,null,null,0,null,null,null,null,null,null,null,27,null,null,null,null,null,null,null,484,null,null,null,null,null,null,null,51,null,null,null,null,null,null,null,0,null,null,null,null,null,null,null,23,null,null,null,null,null,null,null,null,null,null,null,null,null,null,null,null,null,null,null,null,null,null,null,74,null,null,null,null,null,null,null,96.2,null,null,null,null,null,null,null,387.8,null,null,null,null,null,null,null,0,null,null,null,null,null,null,null,0,null,null,null,null,null,null,null,150,null,null,null,null,null,null,null,61,null,null,null,null,null,null,null,85.4,null,null,null,null,null,null,null,64.599999999999994]
[null,null,86450]
[null,null,null,null,null,null,null,null,null,null,null,null,null,null,null,null,null,615,null,null,null,null,null,null,null,464,null,null,null,null,null,null,null,151,null,null,null,null,null,null,null,0,null,null,null,null,null,null,null,27,null,null,null,null,null,null,null,464,null,null,null,null,null,null,null,55,null,null,null,null,null,null,null,0,null,null,null,null,null,null,null,24,null,null,null,null,null,null,null,null,null,null,null,null,null,null,null,null,null,null,null,null,null,null,null,79,null,null,null,null,null,null,null,102.7,null,null,null,null,null,null,null,361.3,null,null,null,null,null,null,null,0,null,null,null,null,null,null,null,0,null,null,null,null,null,null,null,151,null,null,null,null,null,null,null,62,null,null,null,null,null,null,null,86.8,null,null,null,null,null,null,null,64.2]
[null,null,86475]
[null,null,null,null,null,null,null,null,null,null,null,null,null,null,null,null,null,597,null,null,null,null,null,null,null,445,null,null,null,null,null,null,null,151,null,null,null,null,null,null,null,0,null,null,null,null,null,null,null,27,null,null,null,null,null,null,null,445,null,null,null,null,null,null,null,59,null,null,null,null,null,null,null,0,null,null,null,null,null,null,null,25,null,null,null,null,null,null,null,null,null,null,null,null,null,null,null,null,null,null,null,null,null,null,null,84,null,null,null,null,null,null,null,109.2,null,null,null,null,null,null,null,335.8,null,null,null,null,null,null,null,0,null,null,null,null,null,null,null,0,null,null,null,null,null,null,null,151,null,null,null,null,null,null,null,63,null,null,null,null,null,null,null,88.2,null,null,null,null,null,null,null,62.8]
[null,null,86500]
[null,null,null,null,null,null,null,null,null,null,null,null,null,null,null,null,null,580,null,null,null,null,null,null,null,428,null,null,null,null,null,null,null,152,null,null,null,null,null,null,null,0,null,null,null,null,null,null,null,27,null,null,null,null,null,null,null,428,null,null,null,null,null,null,null,63,null,null,null,null,null,null,null,0,null,null,null,null,null,null,null,28,null,null,null,null,null,null,null,null,null,null,null,null,null,null,null,null,null,null,null,null,null,null,null,91,null,null,null,null,null,null,null,118.3,null,null,null,null,null,null,null,309.7,null,null,null,null,null,null,null,0,null,null,null,null,null,null,null,0,null,null,null,null,null,null,null,152,null,null,null,null,null,null,null,63,null,null,null,null,null,null,null,88.2,null,null,null,null,null,null,null,63.8]
[null,null,86525]
[null,null,null,null,null,null,null,null,null,null,null,null,null,null,null,null,null,566,null,null,null,null,null,null,null,413,null,null,null,null,null,null,null,153,null,null,null,null,null,null,null,0,null,null,null,null,null,null,null,27,null,null,null,null,null,null,null,413,null,null,null,null,null,null,null,67,null,null,null,null,null,null,null,0,null,null,null,null,null,null,null,33,null,null,null,null,null,null,null,null,null,null,null,null,null,null,null,null,null,null,null,null,null,null,null,100,null,null,null,null,null,null,null,130,null,null,null,null,null,null,null,283,null,null,null,null,null,null,null,0,null,null,null,null,null,null,null,0,null,null,null,null,null,null,null,153,null,null,null,null,null,null,null,64,null,null,null,null,null,null,null,89.6,null,null,null,null,null,null,null,63.4]
[null,null,86550]
[null,null,null,null,null,null,null,null,null,null,null,null,null,null,null,null,null,557,null,null,null,null,null,null,null,402,null,null,null,null,null,null,null,155,null,null,null,null,null,null,null,0,null,null,null,null,null,null,null,27,null,null,null,null,null,null,null,402,null,null,null,null,null,null,null,70,null,null,null,null,null,null,null,0,null,null,null,null,null,null,null,37,null,null,null,null,null,null,null,null,null,null,null,null,null,null,null,null,null,null,null,null,null,null,null,107,null,null,null,null,null,null,null,139.1,null,null,null,null,null,null,null,262.89999999999998,null,null,null,null,null,null,null,0,null,null,null,null,null,null,null,0,null,null,null,null,null,null,null,155,null,null,null,null,null,null,null,65,null,null,null,null,null,null,null,91,null,null,null,null,null,null,null,64]
[null,null,86575]
[null,null,null,null,null,null,null,null,null,null,null,null,null,null,null,null,null,549,null,null,null,null,null,null,null,393,null,null,null,null,null,null,null,156,null,null,null,null,null,null,null,0,null,null,null,null,null,null,null,27,null,null,null,null,null,null,null,393,null,null,null,null,null,null,null,73,null,null,null,null,null,null,null,0,null,null,null,null,null,null,null,39,null,null,null,null,null,null,null,null,null,null,null,null,null,null,null,null,null,null,null,null,null,null,null,112,null,null,null,null,null,null,null,145.6,null,null,null,null,null,null,null,247.4,null,null,null,null,null,null,null,0,null,null,null,null,null,null,null,0,null,null,null,null,null,null,null,156,null,null,null,null,null,null,null,66,null,null,null,null,null,null,null,92.4,null,null,null,null,null,null,null,63.6]
[null,null,86600]
[null,null,null,null,null,null,null,null,null,null,null,null,null,null,null,null,null,542,null,null,null,null,null,null,null,383,null,null,null,null,null,null,null,158,null,null,null,null,null,null,null,0,null,null,null,null,null,null,null,27,null,null,null,null,null,null,null,383,null,null,null,null,null,null,null,78,null,null,null,null,null,null,null,0,null,null,null,null,null,null,null,43,null,null,null,null,null,null,null,null,null,null,null,null,null,null,null,null,null,null,null,null,null,null,null,121,null,null,null,null,null,null,null,157.30000000000001,null,null,null,null,null,null,null,225.7,null,null,null,null,null,null,null,0,null,null,null,null,null,null,null,0,null,null,null,null,null,null,null,158,null,null,null,null,null,null,null,67,null,null,null,null,null,null,null,93.8,null,null,null,null,null,null,null,64.2]
[null,null,86625]
[null,null,null,null,null,null,null,null,null,null,null,null,null,null,null,null,null,534,null,null,null,null,null,null,null,374,null,null,null,null,null,null,null,159,null,null,null,null,null,null,null,0,null,null,null,null,null,null,null,27,null,null,null,null,null,null,null,374,null,null,null,null,null,null,null,83,null,null,null,null,null,null,null,0,null,null,null,null,null,null,null,48,null,null,null,null,null,null,null,null,null,null,null,null,null,null,null,null,null,null,null,null,null,null,null,131,null,null,null,null,null,null,null,170.3,null,null,null,null,null,null,null,203.7,null,null,null,null,null,null,null,0,null,null,null,null,null,null,null,0,null,null,null,null,null,null,null,159,null,null,null,null,null,null,null,68,null,null,null,null,null,null,null,95.2,null,null,null,null,null,null,null,63.8]
[null,null,86650]
[null,null,null,null,null,null,null,null,null,null,null,null,null,null,null,null,null,528,null,null,null,null,null,null,null,367,null,null,null,null,null,null,null,161,null,null,null,null,null,null,null,0,null,null,null,null,null,null,null,27,null,null,null,null,null,null,null,367,null,null,null,null,null,null,null,88,null,null,null,null,null,null,null,0,null,null,null,null,null,null,null,57,null,null,null,null,null,null,null,null,null,null,null,null,null,null,null,null,null,null,null,null,null,null,null,145,null,null,null,null,null,null,null,188.5,null,null,null,null,null,null,null,178.5,null,null,null,null,null,null,null,0,null,null,null,null,null,null,null,0,null,null,null,null,null,null,null,161,null,null,null,null,null,null,null,69,null,null,null,null,null,null,null,96.6,null,null,null,null,null,null,null,64.400000000000006]
[null,null,86675]
[null,null,null,null,null,null,null,null,null,null,null,null,null,null,null,null,null,521,null,null,null,null,null,null,null,358,null,null,null,null,null,null,null,163,null,null,null,null,null,null,null,0,null,null,null,null,null,null,null,27,null,null,null,null,null,null,null,358,null,null,null,null,null,null,null,95,null,null,null,null,null,null,null,0,null,null,null,null,null,null,null,64,null,null,null,null,null,null,null,null,null,null,null,null,null,null,null,null,null,null,null,null,null,null,null,159,null,null,null,null,null,null,null,206.7,null,null,null,null,null,null,null,151.30000000000001,null,null,null,null,null,null,null,0,null,null,null,null,null,null,null,0,null,null,null,null,null,null,null,163,null,null,null,null,null,null,null,70,null,null,null,null,null,null,null,98,null,null,null,null,null,null,null,65]
[null,null,86700]
[null,null,null,null,null,null,null,null,null,null,null,null,null,null,null,null,null,532,null,null,null,null,null,null,null,367,null,null,null,null,null,null,null,164,null,null,null,null,null,null,null,0,null,null,null,null,null,null,null,27,null,null,null,null,null,null,null,367,null,null,null,null,null,null,null,103,null,null,null,null,null,null,null,21,null,null,null,null,null,null,null,67,null,null,null,null,null,null,null,null,null,null,null,null,null,null,null,null,null,null,null,null,null,null,null,191,null,null,null,null,null,null,null,248.3,null,null,null,null,null,null,null,118.7,null,null,null,null,null,null,null,0,null,null,null,null,null,null,null,36.4,null,null,null,null,null,null,null,164,null,null,null,null,null,null,null,71,null,null,null,null,null,null,null,99.4,null,null,null,null,null,null,null,64.599999999999994]
[null,null,86725]
[null,null,null,null,null,null,null,null,null,null,null,null,null,null,null,null,null,518,null,null,null,null,null,null,null,353,null,null,null,null,null,null,null,165,null,null,null,null,null,null,null,0,null,null,null,null,null,null,null,27,null,null,null,null,null,null,null,353,null,null,null,null,null,null,null,110,null,null,null,null,null,null,null,21,null,null,null,null,null,null,null,67,null,null,null,null,null,null,null,null,null,null,null,null,null,null,null,null,null,null,null,null,null,null,null,198,null,null,null,null,null,null,null,257.39999999999998,null,null,null,null,null,null,null,95.6,null,null,null,null,null,null,null,0,null,null,null,null,null,null,null,45.5,null,null,null,null,null,null,null,165,null,null,null,null,null,null,null,72,null,null,null,null,null,null,null,100.8,null,null,null,null,null,null,null,64.2]
[null,null,86750]
[null,null,null,null,null,null,null,null,null,null,null,null,null,null,null,null,null,504,null,null,null,null,null,null,null,338,null,null,null,null,null,null,null,167,null,null,null,null,null,null,null,0,null,null,null,null,null,null,null,26,null,null,null,null,null,null,null,338,null,null,null,null,null,null,null,117,null,null,null,null,null,null,null,21,null,null,null,null,null,null,null,69,null,null,null,null,null,null,null,null,null,null,null,null,null,null,null,null,null,null,null,null,null,null,null,207,null,null,null,null,null,null,null,269.10000000000002,null,null,null,null,null,null,null,68.900000000000006,null,null,null,null,null,null,null,0,null,null,null,null,null,null,null,57.2,null,null,null,null,null,null,null,167,null,null,null,null,null,null,null,73,null,null,null,null,null,null,null,102.2,null,null,null,null,null,null,null,64.8]
[null,null,86775]
[null,null,null,null,null,null,null,null,null,null,null,null,null,null,null,null,null,491,null,null,null,null,null,null,null,321,null,null,null,null,null,null,null,169,null,null,null,null,null,null,null,0,null,null,null,null,null,null,null,26,null,null,null,null,null,null,null,321,null,null,null,null,null,null,null,129,null,null,null,null,null,null,null,21,null,null,null,null,null,null,null,71,null,null,null,null,null,null,null,null,null,null,null,null,null,null,null,null,null,null,null,null,null,null,null,221,null,null,null,null,null,null,null,287.3,null,null,null,null,null,null,null,33.700000000000003,null,null,null,null,null,null,null,0,null,null,null,null,null,null,null,74.099999999999994,null,null,null,null,null,null,null,169,null,null,null,null,null,null,null,74,null,null,null,null,null,null,null,103.6,null,null,null,null,null,null,null,65.400000000000006]
[null,null,86800]
[null,null,null,null,null,null,null,null,null,null,null,null,null,null,null,null,null,478,null,null,null,null,null,null,null,307,null,null,null,null,null,null,null,171,null,null,null,null,null,null,null,0,null,null,null,null,null,null,null,27,null,null,null,null,null,null,null,307,null,null,null,null,null,null,null,148,null,null,null,null,null,null,null,21,null,null,null,null,null,null,null,72,null,null,null,null,null,null,null,null,null,null,null,null,null,null,null,null,null,null,null,null,null,null,null,241,null,null,null,null,null,null,null,313.3,null,null,null,null,null,null,null,-6.3999999999999995,null,null,null,null,null,null,null,0,null,null,null,null,null,null,null,101.4,null,null,null,null,null,null,null,171,null,null,null,null,null,null,null,75,null,null,null,null,null,null,null,105,null,null,null,null,null,null,null,66]
[null,null,86825]
[null,null,null,null,null,null,null,null,null,null,null,null,null,null,null,null,null,470,null,null,null,null,null,null,null,297,null,null,null,null,null,null,null,173,null,null,null,null,null,null,null,0,null,null,null,null,null,null,null,27,null,null,null,null,null,null,null,297,null,null,null,null,null,null,null,172,null,null,null,null,null,null,null,21,null,null,null,null,null,null,null,74,null,null,null,null,null,null,null,null,null,null,null,null,null,null,null,null,null,null,null,null,null,null,null,267,null,null,null,null,null,null,null,347.1,null,null,null,null,null,null,null,-50.1,null,null,null,null,null,null,null,0,null,null,null,null,null,null,null,135.19999999999999,null,null,null,null,null,null,null,173,null,null,null,null,null,null,null,76,null,null,null,null,null,null,null,106.4,null,null,null,null,null,null,null,66.599999999999994]
[null,null,86850]
[null,null,null,null,null,null,null,null,null,null,null,null,null,null,null,null,null,462,null,null,null,null,null,null,null,287,null,null,null,null,null,null,null,175,null,null,null,null,null,null,null,0,null,null,null,null,null,null,null,27,null,null,null,null,null,null,null,287,null,null,null,null,null,null,null,190,null,null,null,null,null,null,null,20,null,null,null,null,null,null,null,76,null,null,null,null,null,null,null,null,null,null,null,null,null,null,null,null,null,null,null,null,null,null,null,286,null,null,null,null,null,null,null,371.8,null,null,null,null,null,null,null,-84.8,null,null,null,null,null,null,null,0,null,null,null,null,null,null,null,158.6,null,null,null,null,null,null,null,175,null,null,null,null,null,null,null,77,null,null,null,null,null,null,null,107.8,null,null,null,null,null,null,null,67.2]
[null,null,86875]
[null,null,null,null,null,null,null,null,null,null,null,null,null,null,null,null,null,461,null,null,null,null,null,null,null,283,null,null,null,null,null,null,null,177,null,null,null,null,null,null,null,0,null,null,null,null,null,null,null,27,null,null,null,null,null,null,null,283,null,null,null,null,null,null,null,204,null,null,null,null,null,null,null,20,null,null,null,null,null,null,null,77,null,null,null,null,null,null,null,null,null,null,null,null,null,null,null,null,null,null,null,null,null,null,null,301,null,null,null,null,null,null,null,391.3,null,null,null,null,null,null,null,-108.3,null,null,null,null,null,null,null,0,null,null,null,null,null,null,null,178.1,null,null,null,null,null,null,null,177,null,null,null,null,null,null,null,79,null,null,null,null,null,null,null,110.6,null,null,null,null,null,null,null,66.400000000000006]
[null,null,86900]
[null,null,null,null,null,null,null,null,null,null,null,null,null,null,null,null,null,469,null,null,null,null,null,null,null,288,null,null,null,null,null,null,null,182,null,null,null,null,null,null,null,0,null,null,null,null,null,null,null,27,null,null,null,null,null,null,null,288,null,null,null,null,null,null,null,223,null,null,null,null,null,null,null,20,null,null,null,null,null,null,null,78,null,null,null,null,null,null,null,null,null,null,null,null,null,null,null,null,null,null,null,null,null,null,null,321,null,null,null,null,null,null,null,417.3,null,null,null,null,null,null,null,-129.30000000000001,null,null,null,null,null,null,null,0,null,null,null,null,null,null,null,205.4,null,null,null,null,null,null,null,182,null,null,null,null,null,null,null,80,null,null,null,null,null,null,null,112,null,null,null,null,null,null,null,70]
[null,null,86925]
[null,null,null,null,null,null,null,null,null,null,null,null,null,null,null,null,null,467,null,null,null,null,null,null,null,281,null,null,null,null,null,null,null,186,null,null,null,null,null,null,null,0,null,null,null,null,null,null,null,27,null,null,null,null,null,null,null,281,null,null,null,null,null,null,null,247,null,null,null,null,null,null,null,19,null,null,null,null,null,null,null,80,null,null,null,null,null,null,null,null,null,null,null,null,null,null,null,null,null,null,null,null,null,null,null,346,null,null,null,null,null,null,null,449.8,null,null,null,null,null,null,null,-168.8,null,null,null,null,null,null,null,0,null,null,null,null,null,null,null,237.9,null,null,null,null,null,null,null,186,null,null,null,null,null,null,null,81,null,null,null,null,null,null,null,113.4,null,null,null,null,null,null,null,72.599999999999994]
[null,null,86950]
[null,null,null,null,null,null,null,null,null,null,null,null,null,null,null,null,null,465,null,null,null,null,null,null,null,277,null,null,null,null,null,null,null,187,null,null,null,null,null,null,null,0,null,null,null,null,null,null,null,27,null,null,null,null,null,null,null,277,null,null,null,null,null,null,null,280,null,null,null,null,null,null,null,18,null,null,null,null,null,null,null,84,null,null,null,null,null,null,null,null,null,null,null,null,null,null,null,null,null,null,null,null,null,null,null,382,null,null,null,null,null,null,null,496.6,null,null,null,null,null,null,null,-219.6,null,null,null,null,null,null,null,0,null,null,null,null,null,null,null,284.7,null,null,null,null,null,null,null,187,null,null,null,null,null,null,null,81,null,null,null,null,null,null,null,113.4,null,null,null,null,null,null,null,73.599999999999994]
[null,null,86975]
[null,null,null,null,null,null,null,null,null,null,null,null,null,null,null,null,null,471,null,null,null,null,null,null,null,279,null,null,null,null,null,null,null,192,null,null,null,null,null,null,null,0,null,null,null,null,null,null,null,27,null,null,null,null,null,null,null,279,null,null,null,null,null,null,null,327,null,null,null,null,null,null,null,17,null,null,null,null,null,null,null,88,null,null,null,null,null,null,null,null,null,null,null,null,null,null,null,null,null,null,null,null,null,null,null,432,null,null,null,null,null,null,null,561.6,null,null,null,null,null,null,null,-282.60000000000002,null,null,null,null,null,null,null,19.5,null,null,null,null,null,null,null,349.7,null,null,null,null,null,null,null,192,null,null,null,null,null,null,null,84,null,null,null,null,null,null,null,117.6,null,null,null,null,null,null,null,74.400000000000006]
[null,null,87000]
[null,null,null,null,null,null,null,null,null,null,null,null,null,null,null,null,null,484,null,null,null,null,null,null,null,282,null,null,null,null,null,null,null,201,null,null,null,null,null,null,null,0,null,null,null,null,null,null,null,27,null,null,null,null,null,null,null,282,null,null,null,null,null,null,null,373,null,null,null,null,null,null,null,0,null,null,null,null,null,null,null,92,null,null,null,null,null,null,null,null,null,null,null,null,null,null,null,null,null,null,null,null,null,null,null,465,null,null,null,null,null,null,null,604.5,null,null,null,null,null,null,null,-322.5,null,null,null,null,null,null,null,62.4,null,null,null,null,null,null,null,391.3,null,null,null,null,null,null,null,201,null,null,null,null,null,null,null,90,null,null,null,null,null,null,null,126,null,null,null,null,null,null,null,75]
[null,null,87025]
[null,null,null,null,null,null,null,null,null,null,null,null,null,null,null,null,null,538,null,null,null,null,null,null,null,334,null,null,null,null,null,null,null,204,null,null,null,null,null,null,null,0,null,null,null,null,null,null,null,27,null,null,null,null,null,null,null,334,null,null,null,null,null,null,null,424,null,null,null,null,null,null,null,0,null,null,null,null,null,null,null,94,null,null,null,null,null,null,null,null,null,null,null,null,null,null,null,null,null,null,null,null,null,null,null,518,null,null,null,null,null,null,null,673.4,null,null,null,null,null,null,null,-339.4,null,null,null,null,null,null,null,131.30000000000001,null,null,null,null,null,null,null,461.5,null,null,null,null,null,null,null,204,null,null,null,null,null,null,null,91,null,null,null,null,null,null,null,127.4,null,null,null,null,null,null,null,76.599999999999994]
[null,null,87050]
[null,null,null,null,null,null,null,null,null,null,null,null,null,null,null,null,null,584,null,null,null,null,null,null,null,385,null,null,null,null,null,null,null,199,null,null,null,null,null,null,null,0,null,null,null,null,null,null,null,30,null,null,null,null,null,null,null,385,null,null,null,null,null,null,null,506,null,null,null,null,null,null,null,0,null,null,null,null,null,null,null,94,null,null,null,null,null,null,null,null,null,null,null,null,null,null,null,null,null,null,null,null,null,null,null,600,null,null,null,null,null,null,null,780,null,null,null,null,null,null,null,-395,null,null,null,null,null,null,null,236.6,null,null,null,null,null,null,null,566.79999999999995,null,null,null,null,null,null,null,199,null,null,null,null,null,null,null,67,null,null,null,null,null,null,null,93.8,null,null,null,null,null,null,null,105.2]
[null,null,87075]
[null,null,null,null,null,null,null,null,null,null,null,null,null,null,null,null,null,644,null,null,null,null,null,null,null,451,null,null,null,null,null,null,null,193,null,null,null,null,null,null,null,0,null,null,null,null,null,null,null,16,null,null,null,null,null,null,null,451,null,null,null,null,null,null,null,421,null,null,null,null,null,null,null,0,null,null,null,null,null,null,null,90,null,null,null,null,null,null,null,49,null,null,null,null,null,null,null,null,null,null,null,null,null,null,null,560,null,null,null,null,null,null,null,728,null,null,null,null,null,null,null,-277,null,null,null,null,null,null,null,122.2,null,null,null,null,null,null,null,451.1,null,null,null,null,null,null,null,193,null,null,null,null,null,null,null,23,null,null,null,null,null,null,null,32.200000000000003,null,null,null,null,null,null,null,160.80000000000001]
[null,null,87100]
[null,null,null,null,null,null,null,null,null,null,null,null,null,null,null,null,null,455,null,null,null,null,null,null,null,307,null,null,null,null,null,null,null,149,null,null,null,null,null,null,null,0,null,null,null,null,null,null,null,0,null,null,null,null,null,null,null,307,null,null,null,null,null,null,null,181,null,null,null,null,null,null,null,0,null,null,null,null,null,null,null,61,null,null,null,null,null,null,null,null,null,null,null,null,null,null,null,null,null,null,null,null,null,null,null,242,null,null,null,null,null,null,null,314.60000000000002,null,null,null,null,null,null,null,-7.6999999999999993,null,null,null,null,null,null,null,0,null,null,null,null,null,null,null,101.4,null,null,null,null,null,null,null,149,null,null,null,null,null,null,null,0,null,null,null,null,null,null,null,0,null,null,null,null,null,null,null,149]
[null,null,87125]
[null,null,null,null,null,null,null,null,null,null,null,null,null,null,null,null,null,187,null,null,null,null,null,null,null,111,null,null,null,null,null,null,null,76,null,null,null,null,null,null,null,0,null,null,null,null,null,null,null,0,null,null,null,null,null,null,null,111,null,null,null,null,null,null,null,37,null,null,null,null,null,null,null,0,null,null,null,null,null,null,null,22,null,null,null,null,null,null,null,null,null,null,null,null,null,null,null,null,null,null,null,null,null,null,null,59,null,null,null,null,null,null,null,76.7,null,null,null,null,null,null,null,34.299999999999997,null,null,null,null,null,null,null,0,null,null,null,null,null,null,null,0,null,null,null,null,null,null,null,76,null,null,null,null,null,null,null,0,null,null,null,null,null,null,null,0,null,null,null,null,null,null,null,76]
[null,null,87150]
[null,null,null,null,null,null,null,null,null,null,null,null,null,null,null,null,null,175,null,null,null,null,null,null,null,121,null,null,null,null,null,null,null,54,null,null,null,null,null,null,null,0,null,null,null,null,null,null,null,0,null,null,null,null,null,null,null,121,null,null,null,null,null,null,null,0,null,null,null,null,null,null,null,0,null,null,null,null,null,null,null,3,null,null,null,null,null,null,null,null,null,null,null,null,null,null,null,null,null,null,null,null,null,null,null,3,null,null,null,null,null,null,null,3.9,null,null,null,null,null,null,null,117.1,null,null,null,null,null,null,null,0,null,null,null,null,null,null,null,0,null,null,null,null,null,null,null,54,null,null,null,null,null,null,null,0,null,null,null,null,null,null,null,0,null,null,null,null,null,null,null,54]
[null,null,87175]
[null,null,null,null,null,null,null,null,null,null,null,null,null,null,null,null,null,442,null,null,null,null,null,null,null,361,null,null,null,null,null,null,null,81,null,null,null,null,null,null,null,0,null,null,null,null,null,null,null,16,null,null,null,null,null,null,null,361,null,null,null,null,null,null,null,0,null,null,null,null,null,null,null,0,null,null,null,null,null,null,null,4,null,null,null,null,null,null,null,null,null,null,null,null,null,null,null,null,null,null,null,null,null,null,null,4,null,null,null,null,null,null,null,5.2,null,null,null,null,null,null,null,355.8,null,null,null,null,null,null,null,0,null,null,null,null,null,null,null,0,null,null,null,null,null,null,null,81,null,null,null,null,null,null,null,0,null,null,null,null,null,null,null,0,null,null,null,null,null,null,null,81]
[null,null,87200]
[null,null,null,null,null,null,null,null,null,null,null,null,null,null,null,null,null,610,null,null,null,null,null,null,null,458,null,null,null,null,null,null,null,152,null,null,null,null,null,null,null,0,null,null,null,null,null,null,null,26,null,null,null,null,null,null,null,458,null,null,null,null,null,null,null,145,null,null,null,null,null,null,null,0,null,null,null,null,null,null,null,50,null,null,null,null,null,null,null,5,null,null,null,null,null,null,null,null,null,null,null,null,null,null,null,200,null,null,null,null,null,null,null,260,null,null,null,null,null,null,null,198,null,null,null,null,null,null,null,0,null,null,null,null,null,null,null,40.299999999999997,null,null,null,null,null,null,null,152,null,null,null,null,null,null,null,23,null,null,null,null,null,null,null,32.200000000000003,null,null,null,null,null,null,null,119.8]
[null,null,87225]
[null,null,null,null,null,null,null,null,null,null,null,null,null,null,null,null,null,613,null,null,null,null,null,null,null,412,null,null,null,null,null,null,null,200,null,null,null,null,null,null,null,0,null,null,null,null,null,null,null,23,null,null,null,null,null,null,null,412,null,null,null,null,null,null,null,440,null,null,null,null,null,null,null,96,null,null,null,null,null,null,null,93,null,null,null,null,null,null,null,6,null,null,null,null,null,null,null,null,null,null,null,null,null,null,null,635,null,null,null,null,null,null,null,825.5,null,null,null,null,null,null,null,-413.5,null,null,null,null,null,null,null,275.60000000000002,null,null,null,null,null,null,null,605.79999999999995,null,null,null,null,null,null,null,200,null,null,null,null,null,null,null,64,null,null,null,null,null,null,null,89.6,null,null,null,null,null,null,null,110.4]
[null,null,87250]
[null,null,null,null,null,null,null,null,null,null,null,null,null,null,null,null,null,582,null,null,null,null,null,null,null,390,null,null,null,null,null,null,null,192,null,null,null,null,null,null,null,0,null,null,null,null,null,null,null,27,null,null,null,null,null,null,null,390,null,null,null,null,null,null,null,604,null,null,null,null,null,null,null,79,null,null,null,null,null,null,null,96,null,null,null,null,null,null,null,null,null,null,null,null,null,null,null,null,null,null,null,null,null,null,null,779,null,null,null,null,null,null,null,1012.7,null,null,null,null,null,null,null,-622.70000000000005,null,null,null,null,null,null,null,470.6,null,null,null,null,null,null,null,799.5,null,null,null,null,null,null,null,192,null,null,null,null,null,null,null,83,null,null,null,null,null,null,null,116.2,null,null,null,null,null,null,null,75.8]
[null,null,87275]
[null,null,null,null,null,null,null,null,null,null,null,null,null,null,null,null,null,611,null,null,null,null,null,null,null,416,null,null,null,null,null,null,null,194,null,null,null,null,null,null,null,0,null,null,null,null,null,null,null,27,null,null,null,null,null,null,null,416,null,null,null,null,null,null,null,620,null,null,null,null,null,null,null,80,null,null,null,null,null,null,null,106,null,null,null,null,null,null,null,null,null,null,null,null,null,null,null,null,null,null,null,null,null,null,null,806,null,null,null,null,null,null,null,1047.8,null,null,null,null,null,null,null,-631.79999999999995,null,null,null,null,null,null,null,505.7,null,null,null,null,null,null,null,834.6,null,null,null,null,null,null,null,194,null,null,null,null,null,null,null,85,null,null,null,null,null,null,null,119,null,null,null,null,null,null,null,75]
[null,null,87300]
[null,null,null,null,null,null,null,null,null,null,null,null,null,null,null,null,null,656,null,null,null,null,null,null,null,459,null,null,null,null,null,null,null,197,null,null,null,null,null,null,null,0,null,null,null,null,null,null,null,27,null,null,null,null,null,null,null,459,null,null,null,null,null,null,null,635,null,null,null,null,null,null,null,83,null,null,null,null,null,null,null,110,null,null,null,null,null,null,null,null,null,null,null,null,null,null,null,null,null,null,null,null,null,null,null,828,null,null,null,null,null,null,null,1076.4000000000001,null,null,null,null,null,null,null,-617.4,null,null,null,null,null,null,null,533,null,null,null,null,null,null,null,863.2,null,null,null,null,null,null,null,197,null,null,null,null,null,null,null,87,null,null,null,null,null,null,null,121.8,null,null,null,null,null,null,null,75.2]
[null,null,87325]
[null,null,null,null,null,null,null,null,null,null,null,null,null,null,null,null,null,701,null,null,null,null,null,null,null,499,null,null,null,null,null,null,null,202,null,null,null,null,null,null,null,0,null,null,null,null,null,null,null,27,null,null,null,null,null,null,null,499,null,null,null,null,null,null,null,660,null,null,null,null,null,null,null,85,null,null,null,null,null,null,null,111,null,null,null,null,null,null,null,null,null,null,null,null,null,null,null,null,null,null,null,null,null,null,null,856,null,null,null,null,null,null,null,1112.8,null,null,null,null,null,null,null,-613.79999999999995,null,null,null,null,null,null,null,570.70000000000005,null,null,null,null,null,null,null,900.9,null,null,null,null,null,null,null,202,null,null,null,null,null,null,null,90,null,null,null,null,null,null,null,126,null,null,null,null,null,null,null,76]
[null,null,87350]
[null,null,null,null,null,null,null,null,null,null,null,null,null,null,null,null,null,737,null,null,null,null,null,null,null,531,null,null,null,null,null,null,null,206,null,null,null,null,null,null,null,0,null,null,null,null,null,null,null,27,null,null,null,null,null,null,null,531,null,null,null,null,null,null,null,680,null,null,null,null,null,null,null,86,null,null,null,null,null,null,null,112,null,null,null,null,null,null,null,null,null,null,null,null,null,null,null,null,null,null,null,null,null,null,null,878,null,null,null,null,null,null,null,1141.4000000000001,null,null,null,null,null,null,null,-610.4,null,null,null,null,null,null,null,598,null,null,null,null,null,null,null,928.2,null,null,null,null,null,null,null,206,null,null,null,null,null,null,null,93,null,null,null,null,null,null,null,130.19999999999999,null,null,null,null,null,null,null,75.8]
[null,null,87375]
[null,null,null,null,null,null,null,null,null,null,null,null,null,null,null,null,null,790,null,null,null,null,null,null,null,580,null,null,null,null,null,null,null,209,null,null,null,null,null,null,null,0,null,null,null,null,null,null,null,27,null,null,null,null,null,null,null,580,null,null,null,null,null,null,null,699,null,null,null,null,null,null,null,88,null,null,null,null,null,null,null,114,null,null,null,null,null,null,null,null,null,null,null,null,null,null,null,null,null,null,null,null,null,null,null,901,null,null,null,null,null,null,null,1171.3,null,null,null,null,null,null,null,-591.29999999999995,null,null,null,null,null,null,null,629.20000000000005,null,null,null,null,null,null,null,959.4,null,null,null,null,null,null,null,209,null,null,null,null,null,null,null,94,null,null,null,null,null,null,null,131.6,null,null,null,null,null,null,null,77.400000000000006]
[null,null,87400]
[null,null,null,null,null,null,null,null,null,null,null,null,null,null,null,null,null,853,null,null,null,null,null,null,null,643,null,null,null,null,null,null,null,210,null,null,null,null,null,null,null,0,null,null,null,null,null,null,null,27,null,null,null,null,null,null,null,643,null,null,null,null,null,null,null,721,null,null,null,null,null,null,null,89,null,null,null,null,null,null,null,114,null,null,null,null,null,null,null,null,null,null,null,null,null,null,null,null,null,null,null,null,null,null,null,924,null,null,null,null,null,null,null,1201.2,null,null,null,null,null,null,null,-558.20000000000005,null,null,null,null,null,null,null,660.4,null,null,null,null,null,null,null,989.3,null,null,null,null,null,null,null,210,null,null,null,null,null,null,null,96,null,null,null,null,null,null,null,134.4,null,null,null,null,null,null,null,75.599999999999994]
[null,null,87425]
[null,null,null,null,null,null,null,null,null,null,null,null,null,null,null,null,null,917,null,null,null,null,null,null,null,705,null,null,null,null,null,null,null,212,null,null,null,null,null,null,null,0,null,null,null,null,null,null,null,27,null,null,null,null,null,null,null,705,null,null,null,null,null,null,null,728,null,null,null,null,null,null,null,91,null,null,null,null,null,null,null,114,null,null,null,null,null,null,null,null,null,null,null,null,null,null,null,null,null,null,null,null,null,null,null,933,null,null,null,null,null,null,null,1212.9000000000001,null,null,null,null,null,null,null,-507.9,null,null,null,null,null,null,null,670.8,null,null,null,null,null,null,null,1001,null,null,null,null,null,null,null,212,null,null,null,null,null,null,null,98,null,null,null,null,null,null,null,137.19999999999999,null,null,null,null,null,null,null,74.8]
[null,null,87450]
[null,null,null,null,null,null,null,null,null,null,null,null,null,null,null,null,null,966,null,null,null,null,null,null,null,753,null,null,null,null,null,null,null,213,null,null,null,null,null,null,null,0,null,null,null,null,null,null,null,27,null,null,null,null,null,null,null,753,null,null,null,null,null,null,null,735,null,null,null,null,null,null,null,92,null,null,null,null,null,null,null,112,null,null,null,null,null,null,null,null,null,null,null,null,null,null,null,null,null,null,null,null,null,null,null,939,null,null,null,null,null,null,null,1220.7,null,null,null,null,null,null,null,-467.7,null,null,null,null,null,null,null,678.6,null,null,null,null,null,null,null,1007.5,null,null,null,null,null,null,null,213,null,null,null,null,null,null,null,99,null,null,null,null,null,null,null,138.6,null,null,null,null,null,null,null,74.400000000000006]
[null,null,87475]
[]
[null,null,"Subtotals:"]
[null,null,null,null,null,null,null,null,null,null,null,null,null,null,null,null,null,41074,null,null,null,null,null,null,null,30049,null,null,null,null,null,null,null,10831,null,null,null,null,null,null,null,185,null,null,null,null,null,null,null,1729,null,null,null,null,null,null,null,30234,null,null,null,null,null,null,null,12517,null,null,null,null,null,null,null,1109,null,null,null,null,null,null,null,3519,null,null,null,null,null,null,null,60,null,null,null,null,null,null,null,0,null,null,null,null,null,null,null,17205,null,null,null,null,null,null,null,22366.500000000007,null,null,null,null,null,null,null,7867.3000000000038,null,null,null,null,null,null,null,6164.6,null,null,null,null,null,null,null,12766,null,null,null,null,null,null,null,10831,null,null,null,null,null,null,null,4258,null,null,null,null,null,null,null,5961.2000000000007,null,null,null,null,null,null,null,4869.7999999999993]
[]
[]
[null,"","",null,null,null,null,null,null,null,null,null,null,null,null,null,null,"",null,null,null,null,null,null,null,"",null,null,null,null,null,null,null,"",null,null,null,null,null,null,null,"",null,null,null,null,null,null,null,"",null,null,null,null,null,null,null,"",null,null,null,null,null,null,null,"",null,null,null,null,null,null,null,"",null,null,null,null,null,null,null,"",null,null,null,null,null,null,null,null,null,null,null,null,null,null,null,"",null,null,null,null,null,null,null,"",null,null,null,null,null,null,null,null,null,null,null,null,null,null,null,"",null,null,null,null,null,null,null,null,null,null,null,null,null,null,null,null,"",null,null,null,null,null,null,null,null,null,null,null,null,null,null,"",null,null,null,null,null,null,null,"",null,null,null,null,null,null,null,"",null,null,null,null,null,null,null,"",null,null,null,null,null,null,null,"",null,null,null,null,null,null,null,""]
[]
[null,"FILE NO.",null,null,null,null,null,null,{"$f":"IF(ProjectInformation!$B$12<>\"\",ProjectInformation!$B$12,\"\")","v":29590},null,null,null,null,null,null,{"$f":"UPPER(ProjectInformation!$B$8)","v":"ENGLISH"},null,null,null,null,null,null,"DESIGN TEAM",null,null,null,null,null,null,null,null,{"$f":"IF(AND(ProjectInformation!$B$3<>\"\",ProjectInformation!$B$4<>\"\",ProjectInformation!$B$5<>\"\"),ProjectInformation!$B$3&\"\\\"&ProjectInformation!$B$4&\"\\\"&ProjectInformation!$B$5,IF(AND(ProjectInformation!$B$3<>\"\",ProjectInformation!$B$4<>\"\"),ProjectInformation!$B$3&\"\\\"&ProjectInformation!$B$4,IF(ProjectInformation!$B$3<>\"\",ProjectInformation!$B$3,\"\")))","v":"Flattery\\Bell\\Hain"},null,null,null,null,null,null,null,null,null,null,null,null,null,null,null,null,null,null,null,null,null,null,null,null,null,null,null,null,null,null,null,null,null,null,null,null,null,null,null,null,null,{"$f":"IF(ProjectInformation!$B$6<>\"\",ProjectInformation!$B$6,\"\")","v":"WAPELLO"},null,null,null,null,null,null,null,null,null,null,null,null,null,null,null,null,null,null,null,null,null,null,null,null,null,null,null,null,null,null,null,null,null,null,null,null,null,null,null,null,"COUNTY",null,null,null,null,null,"PROJECT NUMBER",null,null,null,null,null,null,null,null,null,null,null,{"$f":"IF(ProjectInformation!$B$7<>\"\",ProjectInformation!$B$7,\"\")","v":"NHSX-063-2(155)--3H-90"},null,null,null,null,null,null,null,null,null,null,null,null,null,null,null,null,null,null,null,null,null,null,null,null,null,null,null,null,null,"SHEET NUMBER",null,null,null,null,null,null,null,null,null,"T.4",null,null,null,null,null,null,null,{"$f":"IF(GE369<>\"\",\"REVISED\",\"\")","v":""},null,null,null,null,null,{"$f":"IF(ProjectInformation!$B$9<>\"\",ProjectInformation!$B$9,\"\")","v":""}]
[]
[]
[]
[null,"7/17/2019     11:14:25 AM     dhain     c:\\pw_work\\pwmain\\dhain\\d0824036\\90063155_T03.xlsm"]
[""]
[null,null,null,null,null,null,null,null,null,null,null,null,null,null,null,null,null,null,null,null,null,null,null,null,null,null,null,null,null,null,null,null,null,null,null,null,null,null,null,null,null,null,null,null,null,null,null,null,null,null,null,null,null,null,null,null,null,null,null,null,null,null,null,null,null,null,null,null,null,null,null,null,null,null,null,null,null,null,null,null,null,null,null,null,null,null,null,null,null,null,null,null,null,null,null,null,null,null,null,null,null,null,null,null,null,null,null,null,null,null,null,null,null,null,null,null,null,null,null,null,null,null,null,null,null,null,null,null,null,null,null,null,null,null,null,null,null,null,null,null,null,null,null,null,null,null,null,null,null,null,null,null,null,null,null,null,null,null,null,null,null,null,null,null,null,null,null,null,null,null,null,null,null,null,null,null,null,null,null,null,null,null,null,null,null,null,null,null,null,null,null,null,null,""]
[]
[null,null,null,null,null,null,null,null,null,null,null,null,null,null,null,null,null,null,null,null,null,null,null,null,null,"",null,null,null,null,null,null,null,"",null,null,null,null,null,null,null,"",null,null,null,null,null,null,null,"",null,null,null,null,null,null,null,"",null,null,null,null,null,null,null,"",null,null,null,null,null,null,null,"",null,null,null,null,null,null,null,"",null,null,null,null,null,null,null,null,null,null,null,null,null,null,null,"",null,null,null,null,null,null,null,"",null,null,null,null,null,null,null,null,null,null,null,null,null,null,null,"",null,null,null,null,null,null,null,null,null,null,null,null,null,null,null,null,"",null,null,null,null,null,null,null,null,null,null,null,null,null,null,"",null,null,null,null,null,null,null,null,null,null,null,null,null,null,null,"",null,null,null,null,null,null,null,"",null,null,null,null,null,null,null,"",null,null,null,null,null,null,null,""]
[]
[null,null,"Refer to Standard Road Plans EW-101 and EW-102.",null,null,null,null,null,null,null,null,null,null,null,null,null,null,null,null,null,null,null,null,null,null,null,null,null,null,null,null,null,null,null,null,null,null,null,null,null,null,null,null,null,null,null,null,null,null,null,null,null,null,null,null,null,null,null,"TABULATION OF TEMPLATE QUANTITIES AND ADJUSTMENTS",null,null,null,null,null,null,null,null,null,null,null,null,null,null,null,null,null,null,null,null,null,null,null,null,null,null,null,null,null,null,null,null,null,null,null,null,null,null,null,null,null,null,null,null,null,null,null,null,null,null,null,null,null,null,null,null,null,null,null,null,null,null,null,null,null,null,null,null,null,null,null,null,null,null,null,null,null,null,"107-28"]
[]
[null,null,null,null,null,null,null,null,null,null,null,null,null,null,null,null,null,null,null,null,null,null,null,null,null,null,null,null,null,null,null,null,null,null,null,null,null,null,null,null,null,null,null,null,null,null,null,null,null,null,null,null,null,null,null,null,null,null,null,null,null,null,null,null,null,null,null,null,null,null,null,null,null,null,null,null,null,null,null,null,null,null,null,null,null,null,null,null,null,null,null,null,null,null,null,null,null,null,null,null,null,null,null,null,null,null,null,null,null,null,null,null,null,null,null,null,null,null,null,null,null,null,null,null,null,null,null,null,null,null,null,null,null,null,null,null,null,"2015-04-21"]
[]
[null,null,null,null,null,null,null,null,null,null,null,null,null,null,null,null,null,"Cut",null,null,null,null,null,null,null,null,null,null,null,null,null,null,null,null,null,null,null,null,null,null,null,null,null,null,null,null,null,null,null,null,null,null,null,null,null,null,null,null,null,null,null,null,null,null,null,"Fill",null,null,null,null,null,null,null,null,null,null,null,null,null,null,null,null,null,null,null,null,null,null,null,null,null,null,null,null,null,null,null,null,null,null,null,null,null,null,null,null,null,null,null,null,null,null,null,null,null,null,null,null,null,null,null,null,null,null,null,null,null,null,null,"Checks (EW-102)",null,null,null,null,null,null,null,null,null,null,null,null,null,null,null,"Topsoil"]
[]
[]
[null,null,null,null,null,null,null,null,null,null,null,null,null,null,null,null,null,"[1]",null,null,null,null,null,null,null,"[2]",null,null,null,null,null,null,null,"[3]",null,null,null,null,null,null,null,"[4]",null,null,null,null,null,null,null,"[5]",null,null,null,null,null,null,null,"[6]",null,null,null,null,null,null,null,"[7]",null,null,null,null,null,null,null,"[8]",null,null,null,null,null,null,null,"[9]",null,null,null,null,null,null,null,"[10]",null,null,null,null,null,null,null,"[11]",null,null,null,null,null,null,null,"[12]",null,null,null,null,null,null,null,"[13]",null,null,null,null,null,null,null,"[14]",null,null,null,null,null,null,null,"[15]",null,null,null,null,null,null,null,"[16]",null,null,null,null,null,null,null,"[17]",null,null,null,null,null,null,null,"[18]",null,null,null,null,null,null,null,"[19]",null,null,null,null,null,null,null,"[20]",null,null,null,null,null,null,null,"[21]",null,null,null,null,null,null,null,"[22]"]
[]
[]
[null,null,null,null,null,null,null,null,null,null,null,null,null,null,null,null,null,{"$f":"IF('107_28'!$R$15<>\"\",'107_28'!$R$15,\"\")","v":""},null,null,null,null,null,null,null,{"$f":"IF('107_28'!$Z$15<>\"\",'107_28'!$Z$15,\"\")","v":""},null,null,null,null,null,null,null,{"$f":"IF('107_28'!$AH$15<>\"\",'107_28'!$AH$15,\"\")","v":""},null,null,null,null,null,null,null,{"$f":"IF('107_28'!$AP$15<>\"\",'107_28'!$AP$15,\"\")","v":""},null,null,null,null,null,null,null,{"$f":"IF('107_28'!$AX$15<>\"\",'107_28'!$AX$15,\"\")","v":""},null,null,null,null,null,null,null,{"$f":"IF('107_28'!$BF$15<>\"\",'107_28'!$BF$15,\"\")","v":"[2]+[4]"},null,null,null,null,null,null,null,{"$f":"IF('107_28'!$BN$15<>\"\",'107_28'!$BN$15,\"\")","v":""},null,null,null,null,null,null,null,{"$f":"IF('107_28'!$BV$15<>\"\",'107_28'!$BV$15,\"\")","v":""},null,null,null,null,null,null,null,{"$f":"IF('107_28'!$CD$15<>\"\",'107_28'!$CD$15,\"\")","v":""},null,null,null,null,null,null,null,{"$f":"IF('107_28'!$CL$15<>\"\",'107_28'!$CL$15,\"\")","v":""},null,null,null,null,null,null,null,{"$f":"IF('107_28'!$CT$15<>\"\",'107_28'!$CT$15,\"\")","v":""},null,null,null,null,null,null,null,{"$f":"IF('107_28'!$DB$15<>\"\",'107_28'!$DB$15,\"\")","v":"[7]+[8]+[9]+  [10]+[11]"},null,null,null,null,null,null,null,{"$f":"IF('107_28'!$DJ$15<>\"\",'107_28'!$DJ$15,\"\")","v":"[12]*1.3"},null,null,null,null,null,null,null,{"$f":"IF('107_28'!$DR$15<>\"\",'107_28'!$DR$15,\"\")","v":"[6]-[13]"},null,null,null,null,null,null,null,{"$f":"IF('107_28'!$DZ$15<>\"\",'107_28'!$DZ$15,\"\")","v":""},null,null,null,null,null,null,null,{"$f":"IF('107_28'!$EH$15<>\"\",'107_28'!$EH$15,\"\")","v":""},null,null,null,null,null,null,null,{"$f":"IF('107_28'!$EP$15<>\"\",'107_28'!$EP$15,\"\")","v":""},null,null,null,null,null,null,null,{"$f":"IF('107_28'!$EX$15<>\"\",'107_28'!$EX$15,\"\")","v":""},null,null,null,null,null,null,null,{"$f":"IF('107_28'!$FF$15<>\"\",'107_28'!$FF$15,\"\")","v":"[17]*1.4"},null,null,null,null,null,null,null,{"$f":"IF('107_28'!$FN$15<>\"\",'107_28'!$FN$15,\"\")","v":"[17]-[19]"},null,null,null,null,null,null,null,{"$f":"IF('107_28'!$FV$15<>\"\",'107_28'!$FV$15,\"\")","v":""},null,null,null,null,null,null,null,{"$f":"IF('107_28'!$GD$15<>\"\",'107_28'!$GD$15,\"\")","v":""}]
[]
[]
[]
[null,null,"Station",null,null,null,null,null,null,null,null,null,null,null,null,null,null,"Total Cut Unadjusted\n\nVolume",null,null,null,null,null,null,null,"Total Class 10\nUnadjusted\n\nVolume",null,null,null,null,null,null,null,"Topsoil Cut\n\nVolume",null,null,null,null,null,null,null,"Template\nUnsuitable\nType B\nVolume",null,null,null,null,null,null,null,"Template\nPavement\nRemoval\nVolume",null,null,null,null,null,null,null,"Total\nCut\nAdjusted",null,null,null,null,null,null,null,"Total Fill\nUnadjusted\n\nVolume",null,null,null,null,null,null,null,"Plowing &\nShaping\nUndercut\n(+ Fill)",null,null,null,null,null,null,null,"Existing Topsoil\nStripping\nUndercut\n(+ Fill)",null,null,null,null,null,null,null,"Existing\nPavement\nUndercut\n(+Fill)",null,null,null,null,null,null,null,"Manually\nCalculated Fill\nAdjustments\n(+/- Fill)",null,null,null,null,null,null,null,"Total\nFill\nAdjusted",null,null,null,null,null,null,null,"Total Fill\n Adjusted w/\nWeighted Average\n1.3  Shrink Factor",null,null,null,null,null,null,null,"Total Cut Adjusted\nMinus Fill w/ Shrink",null,null,null,null,null,null,null,"Approx. Fill Vol.\nBelow 5' & Above\n20' w/ Shrink",null,null,null,null,null,null,null,"Approx. Fill\nVolume Below 3'\nw/ Shrink",null,null,null,null,null,null,null,"Topsoil\nStripping Undercut\nVolume",null,null,null,null,null,null,null,"Topsoil\nPlacement\nUndercut\nVolume",null,null,null,null,null,null,null,"Topsoil Placement\nWith 1.4 Shrink\nFactor",null,null,null,null,null,null,null,"Topsoil Stripping\nMinus Topsoil\nPlacement\nw/Shrink"]
[]
[]
[]
[]
[]
[]
[]
[]
[]
[]
[]
[]
[]
[]
[]
[]
[]
[]
[null,null,87475]
[null,null,null,null,null,null,null,null,null,null,null,null,null,null,null,null,null,1012,null,null,null,null,null,null,null,797,null,null,null,null,null,null,null,215,null,null,null,null,null,null,null,0,null,null,null,null,null,null,null,27,null,null,null,null,null,null,null,797,null,null,null,null,null,null,null,740,null,null,null,null,null,null,null,94,null,null,null,null,null,null,null,112,null,null,null,null,null,null,null,null,null,null,null,null,null,null,null,null,null,null,null,null,null,null,null,946,null,null,null,null,null,null,null,1229.8,null,null,null,null,null,null,null,-432.8,null,null,null,null,null,null,null,687.7,null,null,null,null,null,null,null,1017.9,null,null,null,null,null,null,null,215,null,null,null,null,null,null,null,100,null,null,null,null,null,null,null,140,null,null,null,null,null,null,null,75]
[null,null,87500]
[null,null,null,null,null,null,null,null,null,null,null,null,null,null,null,null,null,1064,null,null,null,null,null,null,null,847,null,null,null,null,null,null,null,217,null,null,null,null,null,null,null,0,null,null,null,null,null,null,null,27,null,null,null,null,null,null,null,847,null,null,null,null,null,null,null,742,null,null,null,null,null,null,null,94,null,null,null,null,null,null,null,113,null,null,null,null,null,null,null,null,null,null,null,null,null,null,null,null,null,null,null,null,null,null,null,949,null,null,null,null,null,null,null,1233.7,null,null,null,null,null,null,null,-386.7,null,null,null,null,null,null,null,691.6,null,null,null,null,null,null,null,1020.5,null,null,null,null,null,null,null,217,null,null,null,null,null,null,null,102,null,null,null,null,null,null,null,142.80000000000001,null,null,null,null,null,null,null,74.2]
[null,null,87525]
[null,null,null,null,null,null,null,null,null,null,null,null,null,null,null,null,null,1121,null,null,null,null,null,null,null,901,null,null,null,null,null,null,null,220,null,null,null,null,null,null,null,0,null,null,null,null,null,null,null,27,null,null,null,null,null,null,null,901,null,null,null,null,null,null,null,747,null,null,null,null,null,null,null,95,null,null,null,null,null,null,null,115,null,null,null,null,null,null,null,null,null,null,null,null,null,null,null,null,null,null,null,null,null,null,null,957,null,null,null,null,null,null,null,1244.0999999999999,null,null,null,null,null,null,null,-343.1,null,null,null,null,null,null,null,702,null,null,null,null,null,null,null,1032.2,null,null,null,null,null,null,null,220,null,null,null,null,null,null,null,103,null,null,null,null,null,null,null,144.19999999999999,null,null,null,null,null,null,null,75.8]
[null,null,87550]
[null,null,null,null,null,null,null,null,null,null,null,null,null,null,null,null,null,1175,null,null,null,null,null,null,null,953,null,null,null,null,null,null,null,222,null,null,null,null,null,null,null,0,null,null,null,null,null,null,null,27,null,null,null,null,null,null,null,953,null,null,null,null,null,null,null,736,null,null,null,null,null,null,null,95,null,null,null,null,null,null,null,115,null,null,null,null,null,null,null,null,null,null,null,null,null,null,null,null,null,null,null,null,null,null,null,946,null,null,null,null,null,null,null,1229.8,null,null,null,null,null,null,null,-276.8,null,null,null,null,null,null,null,686.4,null,null,null,null,null,null,null,1016.6,null,null,null,null,null,null,null,222,null,null,null,null,null,null,null,105,null,null,null,null,null,null,null,147,null,null,null,null,null,null,null,75]
[null,null,87575]
[null,null,null,null,null,null,null,null,null,null,null,null,null,null,null,null,null,1236,null,null,null,null,null,null,null,1012,null,null,null,null,null,null,null,224,null,null,null,null,null,null,null,0,null,null,null,null,null,null,null,27,null,null,null,null,null,null,null,1012,null,null,null,null,null,null,null,726,null,null,null,null,null,null,null,95,null,null,null,null,null,null,null,114,null,null,null,null,null,null,null,null,null,null,null,null,null,null,null,null,null,null,null,null,null,null,null,935,null,null,null,null,null,null,null,1215.5,null,null,null,null,null,null,null,-203.5,null,null,null,null,null,null,null,673.4,null,null,null,null,null,null,null,1003.6,null,null,null,null,null,null,null,224,null,null,null,null,null,null,null,106,null,null,null,null,null,null,null,148.4,null,null,null,null,null,null,null,75.599999999999994]
[null,null,87600]
[null,null,null,null,null,null,null,null,null,null,null,null,null,null,null,null,null,1301,null,null,null,null,null,null,null,1075,null,null,null,null,null,null,null,226,null,null,null,null,null,null,null,0,null,null,null,null,null,null,null,27,null,null,null,null,null,null,null,1075,null,null,null,null,null,null,null,728,null,null,null,null,null,null,null,95,null,null,null,null,null,null,null,114,null,null,null,null,null,null,null,null,null,null,null,null,null,null,null,null,null,null,null,null,null,null,null,937,null,null,null,null,null,null,null,1218.0999999999999,null,null,null,null,null,null,null,-143.1,null,null,null,null,null,null,null,676,null,null,null,null,null,null,null,1006.2,null,null,null,null,null,null,null,226,null,null,null,null,null,null,null,108,null,null,null,null,null,null,null,151.19999999999999,null,null,null,null,null,null,null,74.8]
[null,null,87625]
[null,null,null,null,null,null,null,null,null,null,null,null,null,null,null,null,null,1365,null,null,null,null,null,null,null,1138,null,null,null,null,null,null,null,227,null,null,null,null,null,null,null,0,null,null,null,null,null,null,null,27,null,null,null,null,null,null,null,1138,null,null,null,null,null,null,null,713,null,null,null,null,null,null,null,95,null,null,null,null,null,null,null,113,null,null,null,null,null,null,null,null,null,null,null,null,null,null,null,null,null,null,null,null,null,null,null,921,null,null,null,null,null,null,null,1197.3,null,null,null,null,null,null,null,-59.3,null,null,null,null,null,null,null,653.9,null,null,null,null,null,null,null,984.1,null,null,null,null,null,null,null,227,null,null,null,null,null,null,null,109,null,null,null,null,null,null,null,152.6,null,null,null,null,null,null,null,74.400000000000006]
[null,null,87650]
[null,null,null,null,null,null,null,null,null,null,null,null,null,null,null,null,null,1427,null,null,null,null,null,null,null,1198,null,null,null,null,null,null,null,229,null,null,null,null,null,null,null,0,null,null,null,null,null,null,null,27,null,null,null,null,null,null,null,1198,null,null,null,null,null,null,null,691,null,null,null,null,null,null,null,95,null,null,null,null,null,null,null,111,null,null,null,null,null,null,null,null,null,null,null,null,null,null,null,null,null,null,null,null,null,null,null,897,null,null,null,null,null,null,null,1166.0999999999999,null,null,null,null,null,null,null,32,null,null,null,null,null,null,null,624,null,null,null,null,null,null,null,952.9,null,null,null,null,null,null,null,229,null,null,null,null,null,null,null,110,null,null,null,null,null,null,null,154,null,null,null,null,null,null,null,75]
[null,null,87675]
[null,null,null,null,null,null,null,null,null,null,null,null,null,null,null,null,null,1480,null,null,null,null,null,null,null,1250,null,null,null,null,null,null,null,230,null,null,null,null,null,null,null,0,null,null,null,null,null,null,null,27,null,null,null,null,null,null,null,1250,null,null,null,null,null,null,null,679,null,null,null,null,null,null,null,95,null,null,null,null,null,null,null,110,null,null,null,null,null,null,null,null,null,null,null,null,null,null,null,null,null,null,null,null,null,null,null,884,null,null,null,null,null,null,null,1149.2,null,null,null,null,null,null,null,100.8,null,null,null,null,null,null,null,607.1,null,null,null,null,null,null,null,937.3,null,null,null,null,null,null,null,230,null,null,null,null,null,null,null,110,null,null,null,null,null,null,null,154,null,null,null,null,null,null,null,76]
[null,null,87700]
[null,null,null,null,null,null,null,null,null,null,null,null,null,null,null,null,null,1532,null,null,null,null,null,null,null,1300,null,null,null,null,null,null,null,231,null,null,null,null,null,null,null,0,null,null,null,null,null,null,null,27,null,null,null,null,null,null,null,1300,null,null,null,null,null,null,null,676,null,null,null,null,null,null,null,95,null,null,null,null,null,null,null,111,null,null,null,null,null,null,null,null,null,null,null,null,null,null,null,null,null,null,null,null,null,null,null,882,null,null,null,null,null,null,null,1146.5999999999999,null,null,null,null,null,null,null,153.4,null,null,null,null,null,null,null,604.5,null,null,null,null,null,null,null,934.7,null,null,null,null,null,null,null,231,null,null,null,null,null,null,null,111,null,null,null,null,null,null,null,155.4,null,null,null,null,null,null,null,75.599999999999994]
[null,null,87725]
[null,null,null,null,null,null,null,null,null,null,null,null,null,null,null,null,null,1597,null,null,null,null,null,null,null,1364,null,null,null,null,null,null,null,233,null,null,null,null,null,null,null,0,null,null,null,null,null,null,null,27,null,null,null,null,null,null,null,1364,null,null,null,null,null,null,null,682,null,null,null,null,null,null,null,95,null,null,null,null,null,null,null,112,null,null,null,null,null,null,null,null,null,null,null,null,null,null,null,null,null,null,null,null,null,null,null,889,null,null,null,null,null,null,null,1155.7,null,null,null,null,null,null,null,208.3,null,null,null,null,null,null,null,613.6,null,null,null,null,null,null,null,942.5,null,null,null,null,null,null,null,233,null,null,null,null,null,null,null,112,null,null,null,null,null,null,null,156.80000000000001,null,null,null,null,null,null,null,76.2]
[null,null,87750]
[null,null,null,null,null,null,null,null,null,null,null,null,null,null,null,null,null,1668,null,null,null,null,null,null,null,1434,null,null,null,null,null,null,null,234,null,null,null,null,null,null,null,0,null,null,null,null,null,null,null,27,null,null,null,null,null,null,null,1434,null,null,null,null,null,null,null,688,null,null,null,null,null,null,null,95,null,null,null,null,null,null,null,112,null,null,null,null,null,null,null,null,null,null,null,null,null,null,null,null,null,null,null,null,null,null,null,895,null,null,null,null,null,null,null,1163.5,null,null,null,null,null,null,null,270.5,null,null,null,null,null,null,null,621.4,null,null,null,null,null,null,null,951.6,null,null,null,null,null,null,null,234,null,null,null,null,null,null,null,113,null,null,null,null,null,null,null,158.19999999999999,null,null,null,null,null,null,null,75.8]
[null,null,87775]
[null,null,null,null,null,null,null,null,null,null,null,null,null,null,null,null,null,1721,null,null,null,null,null,null,null,1487,null,null,null,null,null,null,null,234,null,null,null,null,null,null,null,0,null,null,null,null,null,null,null,27,null,null,null,null,null,null,null,1487,null,null,null,null,null,null,null,688,null,null,null,null,null,null,null,95,null,null,null,null,null,null,null,111,null,null,null,null,null,null,null,null,null,null,null,null,null,null,null,null,null,null,null,null,null,null,null,894,null,null,null,null,null,null,null,1162.2,null,null,null,null,null,null,null,324.8,null,null,null,null,null,null,null,620.1,null,null,null,null,null,null,null,950.3,null,null,null,null,null,null,null,234,null,null,null,null,null,null,null,113,null,null,null,null,null,null,null,158.19999999999999,null,null,null,null,null,null,null,75.8]
[null,null,87800]
[null,null,null,null,null,null,null,null,null,null,null,null,null,null,null,null,null,1771,null,null,null,null,null,null,null,1536,null,null,null,null,null,null,null,235,null,null,null,null,null,null,null,0,null,null,null,null,null,null,null,27,null,null,null,null,null,null,null,1536,null,null,null,null,null,null,null,686,null,null,null,null,null,null,null,95,null,null,null,null,null,null,null,111,null,null,null,null,null,null,null,null,null,null,null,null,null,null,null,null,null,null,null,null,null,null,null,892,null,null,null,null,null,null,null,1159.5999999999999,null,null,null,null,null,null,null,376.4,null,null,null,null,null,null,null,617.5,null,null,null,null,null,null,null,947.7,null,null,null,null,null,null,null,235,null,null,null,null,null,null,null,114,null,null,null,null,null,null,null,159.6,null,null,null,null,null,null,null,75.400000000000006]
[null,null,87825]
[null,null,null,null,null,null,null,null,null,null,null,null,null,null,null,null,null,1811,null,null,null,null,null,null,null,1588,null,null,null,null,null,null,null,223,null,null,null,null,null,null,null,0,null,null,null,null,null,null,null,27,null,null,null,null,null,null,null,1588,null,null,null,null,null,null,null,682,null,null,null,null,null,null,null,95,null,null,null,null,null,null,null,103,null,null,null,null,null,null,null,null,null,null,null,null,null,null,null,null,null,null,null,null,null,null,null,880,null,null,null,null,null,null,null,1144,null,null,null,null,null,null,null,444,null,null,null,null,null,null,null,601.9,null,null,null,null,null,null,null,930.8,null,null,null,null,null,null,null,223,null,null,null,null,null,null,null,114,null,null,null,null,null,null,null,159.6,null,null,null,null,null,null,null,63.4]
[null,null,87850]
[null,null,null,null,null,null,null,null,null,null,null,null,null,null,null,null,null,1851,null,null,null,null,null,null,null,1628,null,null,null,null,null,null,null,223,null,null,null,null,null,null,null,0,null,null,null,null,null,null,null,27,null,null,null,null,null,null,null,1628,null,null,null,null,null,null,null,669,null,null,null,null,null,null,null,95,null,null,null,null,null,null,null,102,null,null,null,null,null,null,null,null,null,null,null,null,null,null,null,null,null,null,null,null,null,null,null,866,null,null,null,null,null,null,null,1125.8,null,null,null,null,null,null,null,502.2,null,null,null,null,null,null,null,583.70000000000005,null,null,null,null,null,null,null,913.9,null,null,null,null,null,null,null,223,null,null,null,null,null,null,null,114,null,null,null,null,null,null,null,159.6,null,null,null,null,null,null,null,63.4]
[null,null,87875]
[null,null,null,null,null,null,null,null,null,null,null,null,null,null,null,null,null,1912,null,null,null,null,null,null,null,1674,null,null,null,null,null,null,null,238,null,null,null,null,null,null,null,0,null,null,null,null,null,null,null,27,null,null,null,null,null,null,null,1674,null,null,null,null,null,null,null,652,null,null,null,null,null,null,null,95,null,null,null,null,null,null,null,108,null,null,null,null,null,null,null,null,null,null,null,null,null,null,null,null,null,null,null,null,null,null,null,855,null,null,null,null,null,null,null,1111.5,null,null,null,null,null,null,null,562.5,null,null,null,null,null,null,null,569.4,null,null,null,null,null,null,null,898.3,null,null,null,null,null,null,null,238,null,null,null,null,null,null,null,115,null,null,null,null,null,null,null,161,null,null,null,null,null,null,null,77]
[null,null,87900]
[null,null,null,null,null,null,null,null,null,null,null,null,null,null,null,null,null,1985,null,null,null,null,null,null,null,1744,null,null,null,null,null,null,null,241,null,null,null,null,null,null,null,0,null,null,null,null,null,null,null,27,null,null,null,null,null,null,null,1744,null,null,null,null,null,null,null,635,null,null,null,null,null,null,null,95,null,null,null,null,null,null,null,105,null,null,null,null,null,null,null,null,null,null,null,null,null,null,null,null,null,null,null,null,null,null,null,835,null,null,null,null,null,null,null,1085.5,null,null,null,null,null,null,null,658.5,null,null,null,null,null,null,null,543.4,null,null,null,null,null,null,null,873.6,null,null,null,null,null,null,null,241,null,null,null,null,null,null,null,116,null,null,null,null,null,null,null,162.4,null,null,null,null,null,null,null,78.599999999999994]
[null,null,87925]
[null,null,null,null,null,null,null,null,null,null,null,null,null,null,null,null,null,2030,null,null,null,null,null,null,null,1797,null,null,null,null,null,null,null,233,null,null,null,null,null,null,null,0,null,null,null,null,null,null,null,27,null,null,null,null,null,null,null,1797,null,null,null,null,null,null,null,619,null,null,null,null,null,null,null,95,null,null,null,null,null,null,null,100,null,null,null,null,null,null,null,null,null,null,null,null,null,null,null,null,null,null,null,null,null,null,null,814,null,null,null,null,null,null,null,1058.2,null,null,null,null,null,null,null,738.8,null,null,null,null,null,null,null,514.79999999999995,null,null,null,null,null,null,null,845,null,null,null,null,null,null,null,233,null,null,null,null,null,null,null,110,null,null,null,null,null,null,null,154,null,null,null,null,null,null,null,79]
[null,null,87950]
[null,null,null,null,null,null,null,null,null,null,null,null,null,null,null,null,null,1947,null,null,null,null,null,null,null,1784,null,null,null,null,null,null,null,164,null,null,null,null,null,null,null,0,null,null,null,null,null,null,null,29,null,null,null,null,null,null,null,1784,null,null,null,null,null,null,null,702,null,null,null,null,null,null,null,95,null,null,null,null,null,null,null,34,null,null,null,null,null,null,null,null,null,null,null,null,null,null,null,null,null,null,null,null,null,null,null,831,null,null,null,null,null,null,null,1080.3,null,null,null,null,null,null,null,703.7,null,null,null,null,null,null,null,538.20000000000005,null,null,null,null,null,null,null,868.4,null,null,null,null,null,null,null,164,null,null,null,null,null,null,null,108,null,null,null,null,null,null,null,151.19999999999999,null,null,null,null,null,null,null,12.8]
[null,null,87975]
[null,null,null,null,null,null,null,null,null,null,null,null,null,null,null,null,null,1717,null,null,null,null,null,null,null,1545,null,null,null,null,null,null,null,172,null,null,null,null,null,null,null,0,null,null,null,null,null,null,null,18,null,null,null,null,null,null,null,1545,null,null,null,null,null,null,null,962,null,null,null,null,null,null,null,78,null,null,null,null,null,null,null,50,null,null,null,null,null,null,null,null,null,null,null,null,null,null,null,null,null,null,null,null,null,null,null,1090,null,null,null,null,null,null,null,1417,null,null,null,null,null,null,null,128,null,null,null,null,null,null,null,874.9,null,null,null,null,null,null,null,1205.0999999999999,null,null,null,null,null,null,null,172,null,null,null,null,null,null,null,113,null,null,null,null,null,null,null,158.19999999999999,null,null,null,null,null,null,null,13.8]
[null,null,88000]
[null,null,null,null,null,null,null,null,null,null,null,null,null,null,null,null,null,1279,null,null,null,null,null,null,null,1040,null,null,null,null,null,null,null,239,null,null,null,null,null,null,null,0,null,null,null,null,null,null,null,2,null,null,null,null,null,null,null,1040,null,null,null,null,null,null,null,1312,null,null,null,null,null,null,null,0,null,null,null,null,null,null,null,133,null,null,null,null,null,null,null,27,null,null,null,null,null,null,null,null,null,null,null,null,null,null,null,1472,null,null,null,null,null,null,null,1913.6,null,null,null,null,null,null,null,-873.6,null,null,null,null,null,null,null,1336.4,null,null,null,null,null,null,null,1666.6,null,null,null,null,null,null,null,239,null,null,null,null,null,null,null,113,null,null,null,null,null,null,null,158.19999999999999,null,null,null,null,null,null,null,80.8]
[null,null,88025]
[null,null,null,null,null,null,null,null,null,null,null,null,null,null,null,null,null,797,null,null,null,null,null,null,null,560,null,null,null,null,null,null,null,237,null,null,null,null,null,null,null,0,null,null,null,null,null,null,null,0,null,null,null,null,null,null,null,560,null,null,null,null,null,null,null,1705,null,null,null,null,null,null,null,0,null,null,null,null,null,null,null,141,null,null,null,null,null,null,null,null,null,null,null,null,null,null,null,null,null,null,null,null,null,null,null,1846,null,null,null,null,null,null,null,2399.8000000000002,null,null,null,null,null,null,null,-1839.8,null,null,null,null,null,null,null,1857.7,null,null,null,null,null,null,null,2187.9,null,null,null,null,null,null,null,237,null,null,null,null,null,null,null,113,null,null,null,null,null,null,null,158.19999999999999,null,null,null,null,null,null,null,78.8]
[null,null,88050]
[null,null,null,null,null,null,null,null,null,null,null,null,null,null,null,null,null,434,null,null,null,null,null,null,null,196,null,null,null,null,null,null,null,238,null,null,null,null,null,null,null,0,null,null,null,null,null,null,null,0,null,null,null,null,null,null,null,196,null,null,null,null,null,null,null,2064,null,null,null,null,null,null,null,0,null,null,null,null,null,null,null,156,null,null,null,null,null,null,null,null,null,null,null,null,null,null,null,null,null,null,null,null,null,null,null,2220,null,null,null,null,null,null,null,2886,null,null,null,null,null,null,null,-2690,null,null,null,null,null,null,null,2343.9,null,null,null,null,null,null,null,2672.8,null,null,null,null,null,null,null,238,null,null,null,null,null,null,null,113,null,null,null,null,null,null,null,158.19999999999999,null,null,null,null,null,null,null,79.8]
[null,null,88075]
[null,null,null,null,null,null,null,null,null,null,null,null,null,null,null,null,null,291,null,null,null,null,null,null,null,70,null,null,null,null,null,null,null,221,null,null,null,null,null,null,null,0,null,null,null,null,null,null,null,0,null,null,null,null,null,null,null,70,null,null,null,null,null,null,null,2224,null,null,null,null,null,null,null,0,null,null,null,null,null,null,null,147,null,null,null,null,null,null,null,null,null,null,null,null,null,null,null,null,null,null,null,null,null,null,null,2371,null,null,null,null,null,null,null,3082.3,null,null,null,null,null,null,null,-3012.3,null,null,null,null,null,null,null,2538.9,null,null,null,null,null,null,null,2869.1,null,null,null,null,null,null,null,221,null,null,null,null,null,null,null,114,null,null,null,null,null,null,null,159.6,null,null,null,null,null,null,null,61.4]
[null,null,88100]
[null,null,null,null,null,null,null,null,null,null,null,null,null,null,null,null,null,260,null,null,null,null,null,null,null,64,null,null,null,null,null,null,null,195,null,null,null,null,null,null,null,0,null,null,null,null,null,null,null,0,null,null,null,null,null,null,null,64,null,null,null,null,null,null,null,1937,null,null,null,null,null,null,null,0,null,null,null,null,null,null,null,126,null,null,null,null,null,null,null,16,null,null,null,null,null,null,null,null,null,null,null,null,null,null,null,2079,null,null,null,null,null,null,null,2702.7,null,null,null,null,null,null,null,-2638.7,null,null,null,null,null,null,null,2139.8000000000002,null,null,null,null,null,null,null,2470,null,null,null,null,null,null,null,195,null,null,null,null,null,null,null,95,null,null,null,null,null,null,null,133,null,null,null,null,null,null,null,62]
[null,null,88125]
[null,null,null,null,null,null,null,null,null,null,null,null,null,null,null,null,null,272,null,null,null,null,null,null,null,83,null,null,null,null,null,null,null,188,null,null,null,null,null,null,null,0,null,null,null,null,null,null,null,0,null,null,null,null,null,null,null,83,null,null,null,null,null,null,null,1542,null,null,null,null,null,null,null,0,null,null,null,null,null,null,null,121,null,null,null,null,null,null,null,7,null,null,null,null,null,null,null,null,null,null,null,null,null,null,null,1670,null,null,null,null,null,null,null,2171,null,null,null,null,null,null,null,-2088,null,null,null,null,null,null,null,1619.8,null,null,null,null,null,null,null,1950,null,null,null,null,null,null,null,188,null,null,null,null,null,null,null,76,null,null,null,null,null,null,null,106.4,null,null,null,null,null,null,null,81.599999999999994]
[null,null,88150]
[null,null,null,null,null,null,null,null,null,null,null,null,null,null,null,null,null,333,null,null,null,null,null,null,null,143,null,null,null,null,null,null,null,190,null,null,null,null,null,null,null,0,null,null,null,null,null,null,null,0,null,null,null,null,null,null,null,143,null,null,null,null,null,null,null,1152,null,null,null,null,null,null,null,0,null,null,null,null,null,null,null,117,null,null,null,null,null,null,null,7,null,null,null,null,null,null,null,null,null,null,null,null,null,null,null,1276,null,null,null,null,null,null,null,1658.8,null,null,null,null,null,null,null,-1515.8,null,null,null,null,null,null,null,1107.5999999999999,null,null,null,null,null,null,null,1437.8,null,null,null,null,null,null,null,190,null,null,null,null,null,null,null,78,null,null,null,null,null,null,null,109.2,null,null,null,null,null,null,null,80.8]
[null,null,88175]
[null,null,null,null,null,null,null,null,null,null,null,null,null,null,null,null,null,352,null,null,null,null,null,null,null,160,null,null,null,null,null,null,null,192,null,null,null,null,null,null,null,0,null,null,null,null,null,null,null,4,null,null,null,null,null,null,null,160,null,null,null,null,null,null,null,573,null,null,null,null,null,null,null,0,null,null,null,null,null,null,null,114,null,null,null,null,null,null,null,3,null,null,null,null,null,null,null,null,null,null,null,null,null,null,null,690,null,null,null,null,null,null,null,897,null,null,null,null,null,null,null,-737,null,null,null,null,null,null,null,351,null,null,null,null,null,null,null,679.9,null,null,null,null,null,null,null,192,null,null,null,null,null,null,null,80,null,null,null,null,null,null,null,112,null,null,null,null,null,null,null,80]
[null,null,88200]
[null,null,null,null,null,null,null,null,null,null,null,null,null,null,null,null,null,560,null,null,null,null,null,null,null,384,null,null,null,null,null,null,null,176,null,null,null,null,null,null,null,0,null,null,null,null,null,null,null,8,null,null,null,null,null,null,null,384,null,null,null,null,null,null,null,195,null,null,null,null,null,null,null,0,null,null,null,null,null,null,null,81,null,null,null,null,null,null,null,null,null,null,null,null,null,null,null,null,null,null,null,null,null,null,null,2236,null,null,null,null,null,null,null,2906.8,null,null,null,null,null,null,null,-2522.8000000000002,null,null,null,null,null,null,null,0,null,null,null,null,null,null,null,146.9,null,null,null,null,null,null,null,176,null,null,null,null,null,null,null,81,null,null,null,null,null,null,null,113.4,null,null,null,null,null,null,null,62.6]
[null,null,88225]
[null,null,null,null,null,null,null,null,null,null,null,null,null,null,null,null,null,1268,null,null,null,null,null,null,null,1106,null,null,null,null,null,null,null,162,null,null,null,null,null,null,null,0,null,null,null,null,null,null,null,19,null,null,null,null,null,null,null,1106,null,null,null,null,null,null,null,99,null,null,null,null,null,null,null,95,null,null,null,null,null,null,null,37,null,null,null,null,null,null,null,null,null,null,null,null,null,null,null,null,null,null,null,null,null,null,null,231,null,null,null,null,null,null,null,300.3,null,null,null,null,null,null,null,805.7,null,null,null,null,null,null,null,0,null,null,null,null,null,null,null,88.4,null,null,null,null,null,null,null,162,null,null,null,null,null,null,null,83,null,null,null,null,null,null,null,116.2,null,null,null,null,null,null,null,45.8]
[null,null,88250]
[null,null,null,null,null,null,null,null,null,null,null,null,null,null,null,null,null,1755,null,null,null,null,null,null,null,1581,null,null,null,null,null,null,null,173,null,null,null,null,null,null,null,0,null,null,null,null,null,null,null,29,null,null,null,null,null,null,null,1581,null,null,null,null,null,null,null,117,null,null,null,null,null,null,null,96,null,null,null,null,null,null,null,42,null,null,null,null,null,null,null,null,null,null,null,null,null,null,null,null,null,null,null,null,null,null,null,255,null,null,null,null,null,null,null,331.5,null,null,null,null,null,null,null,1249.5,null,null,null,null,null,null,null,0,null,null,null,null,null,null,null,119.6,null,null,null,null,null,null,null,173,null,null,null,null,null,null,null,85,null,null,null,null,null,null,null,119,null,null,null,null,null,null,null,54]
[null,null,88275]
[null,null,null,null,null,null,null,null,null,null,null,null,null,null,null,null,null,1927,null,null,null,null,null,null,null,1743,null,null,null,null,null,null,null,183,null,null,null,null,null,null,null,0,null,null,null,null,null,null,null,27,null,null,null,null,null,null,null,1743,null,null,null,null,null,null,null,132,null,null,null,null,null,null,null,97,null,null,null,null,null,null,null,46,null,null,null,null,null,null,null,null,null,null,null,null,null,null,null,null,null,null,null,null,null,null,null,275,null,null,null,null,null,null,null,357.5,null,null,null,null,null,null,null,1385.5,null,null,null,null,null,null,null,0,null,null,null,null,null,null,null,145.6,null,null,null,null,null,null,null,183,null,null,null,null,null,null,null,86,null,null,null,null,null,null,null,120.4,null,null,null,null,null,null,null,62.6]
[null,null,88300]
[null,null,null,null,null,null,null,null,null,null,null,null,null,null,null,null,null,2022,null,null,null,null,null,null,null,1839,null,null,null,null,null,null,null,183,null,null,null,null,null,null,null,0,null,null,null,null,null,null,null,26,null,null,null,null,null,null,null,1839,null,null,null,null,null,null,null,129,null,null,null,null,null,null,null,97,null,null,null,null,null,null,null,28,null,null,null,null,null,null,null,null,null,null,null,null,null,null,null,null,null,null,null,null,null,null,null,254,null,null,null,null,null,null,null,330.2,null,null,null,null,null,null,null,1508.8,null,null,null,null,null,null,null,0,null,null,null,null,null,null,null,118.3,null,null,null,null,null,null,null,183,null,null,null,null,null,null,null,87,null,null,null,null,null,null,null,121.8,null,null,null,null,null,null,null,61.2]
[null,null,88325]
[null,null,null,null,null,null,null,null,null,null,null,null,null,null,null,null,null,2050,null,null,null,null,null,null,null,1867,null,null,null,null,null,null,null,183,null,null,null,null,null,null,null,0,null,null,null,null,null,null,null,26,null,null,null,null,null,null,null,1867,null,null,null,null,null,null,null,137,null,null,null,null,null,null,null,97,null,null,null,null,null,null,null,28,null,null,null,null,null,null,null,null,null,null,null,null,null,null,null,null,null,null,null,null,null,null,null,262,null,null,null,null,null,null,null,340.6,null,null,null,null,null,null,null,1526.4,null,null,null,null,null,null,null,0,null,null,null,null,null,null,null,128.69999999999999,null,null,null,null,null,null,null,183,null,null,null,null,null,null,null,88,null,null,null,null,null,null,null,123.2,null,null,null,null,null,null,null,59.8]
[null,null,88350]
[null,null,null,null,null,null,null,null,null,null,null,null,null,null,null,null,null,2122,null,null,null,null,null,null,null,1895,null,null,null,null,null,null,null,227,null,null,null,null,null,null,null,0,null,null,null,null,null,null,null,26,null,null,null,null,null,null,null,1895,null,null,null,null,null,null,null,409,null,null,null,null,null,null,null,97,null,null,null,null,null,null,null,55,null,null,null,null,null,null,null,null,null,null,null,null,null,null,null,null,null,null,null,null,null,null,null,561,null,null,null,null,null,null,null,729.3,null,null,null,null,null,null,null,1165.7,null,null,null,null,null,null,null,187.2,null,null,null,null,null,null,null,516.1,null,null,null,null,null,null,null,227,null,null,null,null,null,null,null,116,null,null,null,null,null,null,null,162.4,null,null,null,null,null,null,null,64.599999999999994]
[null,null,88375]
[null,null,null,null,null,null,null,null,null,null,null,null,null,null,null,null,null,2070,null,null,null,null,null,null,null,1798,null,null,null,null,null,null,null,271,null,null,null,null,null,null,null,0,null,null,null,null,null,null,null,27,null,null,null,null,null,null,null,1798,null,null,null,null,null,null,null,671,null,null,null,null,null,null,null,0,null,null,null,null,null,null,null,80,null,null,null,null,null,null,null,3,null,null,null,null,null,null,null,null,null,null,null,null,null,null,null,754,null,null,null,null,null,null,null,980.2,null,null,null,null,null,null,null,817.8,null,null,null,null,null,null,null,434.2,null,null,null,null,null,null,null,763.1,null,null,null,null,null,null,null,271,null,null,null,null,null,null,null,143,null,null,null,null,null,null,null,200.2,null,null,null,null,null,null,null,70.8]
[null,null,88400]
[null,null,null,null,null,null,null,null,null,null,null,null,null,null,null,null,null,2001,null,null,null,null,null,null,null,1733,null,null,null,null,null,null,null,268,null,null,null,null,null,null,null,0,null,null,null,null,null,null,null,27,null,null,null,null,null,null,null,1733,null,null,null,null,null,null,null,653,null,null,null,null,null,null,null,0,null,null,null,null,null,null,null,78,null,null,null,null,null,null,null,5,null,null,null,null,null,null,null,null,null,null,null,null,null,null,null,736,null,null,null,null,null,null,null,956.8,null,null,null,null,null,null,null,776.2,null,null,null,null,null,null,null,408.2,null,null,null,null,null,null,null,738.4,null,null,null,null,null,null,null,268,null,null,null,null,null,null,null,141,null,null,null,null,null,null,null,197.4,null,null,null,null,null,null,null,70.599999999999994]
[null,null,88425]
[null,null,null,null,null,null,null,null,null,null,null,null,null,null,null,null,null,2026,null,null,null,null,null,null,null,1766,null,null,null,null,null,null,null,260,null,null,null,null,null,null,null,0,null,null,null,null,null,null,null,27,null,null,null,null,null,null,null,1766,null,null,null,null,null,null,null,632,null,null,null,null,null,null,null,97,null,null,null,null,null,null,null,77,null,null,null,null,null,null,null,2,null,null,null,null,null,null,null,null,null,null,null,null,null,null,null,808,null,null,null,null,null,null,null,1050.4000000000001,null,null,null,null,null,null,null,715.6,null,null,null,null,null,null,null,505.7,null,null,null,null,null,null,null,834.6,null,null,null,null,null,null,null,260,null,null,null,null,null,null,null,136,null,null,null,null,null,null,null,190.4,null,null,null,null,null,null,null,69.599999999999994]
[null,null,88450]
[null,null,null,null,null,null,null,null,null,null,null,null,null,null,null,null,null,1954,null,null,null,null,null,null,null,1705,null,null,null,null,null,null,null,248,null,null,null,null,null,null,null,0,null,null,null,null,null,null,null,27,null,null,null,null,null,null,null,1705,null,null,null,null,null,null,null,618,null,null,null,null,null,null,null,97,null,null,null,null,null,null,null,76,null,null,null,null,null,null,null,2,null,null,null,null,null,null,null,null,null,null,null,null,null,null,null,793,null,null,null,null,null,null,null,1030.9000000000001,null,null,null,null,null,null,null,674.1,null,null,null,null,null,null,null,486.2,null,null,null,null,null,null,null,816.4,null,null,null,null,null,null,null,248,null,null,null,null,null,null,null,128,null,null,null,null,null,null,null,179.2,null,null,null,null,null,null,null,68.8]
[null,null,88475]
[null,null,null,null,null,null,null,null,null,null,null,null,null,null,null,null,null,1874,null,null,null,null,null,null,null,1634,null,null,null,null,null,null,null,240,null,null,null,null,null,null,null,0,null,null,null,null,null,null,null,27,null,null,null,null,null,null,null,1634,null,null,null,null,null,null,null,601,null,null,null,null,null,null,null,97,null,null,null,null,null,null,null,76,null,null,null,null,null,null,null,5,null,null,null,null,null,null,null,null,null,null,null,null,null,null,null,779,null,null,null,null,null,null,null,1012.7,null,null,null,null,null,null,null,621.29999999999995,null,null,null,null,null,null,null,464.1,null,null,null,null,null,null,null,793,null,null,null,null,null,null,null,240,null,null,null,null,null,null,null,123,null,null,null,null,null,null,null,172.2,null,null,null,null,null,null,null,67.8]
[null,null,88500]
[null,null,null,null,null,null,null,null,null,null,null,null,null,null,null,null,null,1797,null,null,null,null,null,null,null,1560,null,null,null,null,null,null,null,237,null,null,null,null,null,null,null,0,null,null,null,null,null,null,null,27,null,null,null,null,null,null,null,1560,null,null,null,null,null,null,null,582,null,null,null,null,null,null,null,97,null,null,null,null,null,null,null,75,null,null,null,null,null,null,null,5,null,null,null,null,null,null,null,null,null,null,null,null,null,null,null,759,null,null,null,null,null,null,null,986.7,null,null,null,null,null,null,null,573.29999999999995,null,null,null,null,null,null,null,438.1,null,null,null,null,null,null,null,767,null,null,null,null,null,null,null,237,null,null,null,null,null,null,null,121,null,null,null,null,null,null,null,169.4,null,null,null,null,null,null,null,67.599999999999994]
[null,null,88525]
[null,null,null,null,null,null,null,null,null,null,null,null,null,null,null,null,null,1740,null,null,null,null,null,null,null,1505,null,null,null,null,null,null,null,235,null,null,null,null,null,null,null,0,null,null,null,null,null,null,null,27,null,null,null,null,null,null,null,1505,null,null,null,null,null,null,null,562,null,null,null,null,null,null,null,97,null,null,null,null,null,null,null,74,null,null,null,null,null,null,null,5,null,null,null,null,null,null,null,null,null,null,null,null,null,null,null,738,null,null,null,null,null,null,null,959.4,null,null,null,null,null,null,null,545.6,null,null,null,null,null,null,null,410.8,null,null,null,null,null,null,null,741,null,null,null,null,null,null,null,235,null,null,null,null,null,null,null,119,null,null,null,null,null,null,null,166.6,null,null,null,null,null,null,null,68.400000000000006]
[null,null,88550]
[null,null,null,null,null,null,null,null,null,null,null,null,null,null,null,null,null,1672,null,null,null,null,null,null,null,1440,null,null,null,null,null,null,null,232,null,null,null,null,null,null,null,0,null,null,null,null,null,null,null,27,null,null,null,null,null,null,null,1440,null,null,null,null,null,null,null,535,null,null,null,null,null,null,null,97,null,null,null,null,null,null,null,74,null,null,null,null,null,null,null,5,null,null,null,null,null,null,null,null,null,null,null,null,null,null,null,711,null,null,null,null,null,null,null,924.3,null,null,null,null,null,null,null,515.70000000000005,null,null,null,null,null,null,null,375.7,null,null,null,null,null,null,null,705.9,null,null,null,null,null,null,null,232,null,null,null,null,null,null,null,117,null,null,null,null,null,null,null,163.80000000000001,null,null,null,null,null,null,null,68.2]
[null,null,88575]
[null,null,null,null,null,null,null,null,null,null,null,null,null,null,null,null,null,1590,null,null,null,null,null,null,null,1363,null,null,null,null,null,null,null,227,null,null,null,null,null,null,null,0,null,null,null,null,null,null,null,27,null,null,null,null,null,null,null,1363,null,null,null,null,null,null,null,509,null,null,null,null,null,null,null,97,null,null,null,null,null,null,null,76,null,null,null,null,null,null,null,5,null,null,null,null,null,null,null,null,null,null,null,null,null,null,null,687,null,null,null,null,null,null,null,893.1,null,null,null,null,null,null,null,469.9,null,null,null,null,null,null,null,344.5,null,null,null,null,null,null,null,674.7,null,null,null,null,null,null,null,227,null,null,null,null,null,null,null,114,null,null,null,null,null,null,null,159.6,null,null,null,null,null,null,null,67.400000000000006]
[null,null,88650]
[null,null,null,null,null,null,null,null,null,null,null,null,null,null,null,null,null,1321,null,null,null,null,null,null,null,1114,null,null,null,null,null,null,null,207,null,null,null,null,null,null,null,0,null,null,null,null,null,null,null,27,null,null,null,null,null,null,null,1114,null,null,null,null,null,null,null,429,null,null,null,null,null,null,null,97,null,null,null,null,null,null,null,68,null,null,null,null,null,null,null,5,null,null,null,null,null,null,null,null,null,null,null,null,null,null,null,599,null,null,null,null,null,null,null,778.7,null,null,null,null,null,null,null,335.3,null,null,null,null,null,null,null,230.1,null,null,null,null,null,null,null,559,null,null,null,null,null,null,null,207,null,null,null,null,null,null,null,100,null,null,null,null,null,null,null,140,null,null,null,null,null,null,null,67]
[null,null,null,null,null,null,null,null,null,null,null,null,null,null,null,null,null,1248,null,null,null,null,null,null,null,1047,null,null,null,null,null,null,null,201,null,null,null,null,null,null,null,0,null,null,null,null,null,null,null,27,null,null,null,null,null,null,null,1047,null,null,null,null,null,null,null,399,null,null,null,null,null,null,null,97,null,null,null,null,null,null,null,68,null,null,null,null,null,null,null,5,null,null,null,null,null,null,null,null,null,null,null,null,null,null,null,569,null,null,null,null,null,null,null,739.7,null,null,null,null,null,null,null,307.3,null,null,null,null,null,null,null,189.8,null,null,null,null,null,null,null,520,null,null,null,null,null,null,null,201,null,null,null,null,null,null,null,96,null,null,null,null,null,null,null,134.4,null,null,null,null,null,null,null,66.599999999999994]
[null,null,88775]
[null,null,null,null,null,null,null,null,null,null,null,null,null,null,null,null,null,954,null,null,null,null,null,null,null,791,null,null,null,null,null,null,null,163,null,null,null,null,null,null,null,0,null,null,null,null,null,null,null,27,null,null,null,null,null,null,null,791,null,null,null,null,null,null,null,296,null,null,null,null,null,null,null,97,null,null,null,null,null,null,null,58,null,null,null,null,null,null,null,5,null,null,null,null,null,null,null,null,null,null,null,null,null,null,null,456,null,null,null,null,null,null,null,592.79999999999995,null,null,null,null,null,null,null,198.2,null,null,null,null,null,null,null,44.2,null,null,null,null,null,null,null,374.4,null,null,null,null,null,null,null,163,null,null,null,null,null,null,null,71,null,null,null,null,null,null,null,99.4,null,null,null,null,null,null,null,63.6]
[null,null,null,null,null,null,null,null,null,null,null,null,null,null,null,null,null,856,null,null,null,null,null,null,null,708,null,null,null,null,null,null,null,147,null,null,null,null,null,null,null,0,null,null,null,null,null,null,null,27,null,null,null,null,null,null,null,708,null,null,null,null,null,null,null,260,null,null,null,null,null,null,null,97,null,null,null,null,null,null,null,65,null,null,null,null,null,null,null,5,null,null,null,null,null,null,null,null,null,null,null,null,null,null,null,427,null,null,null,null,null,null,null,555.1,null,null,null,null,null,null,null,152.9,null,null,null,null,null,null,null,6.5,null,null,null,null,null,null,null,335.4,null,null,null,null,null,null,null,147,null,null,null,null,null,null,null,61,null,null,null,null,null,null,null,85.4,null,null,null,null,null,null,null,61.6]
[null,null,88900]
[null,null,88950]
[null,null,null,null,null,null,null,null,null,null,null,null,null,null,null,null,null,671,null,null,null,null,null,null,null,547,null,null,null,null,null,null,null,124,null,null,null,null,null,null,null,0,null,null,null,null,null,null,null,27,null,null,null,null,null,null,null,547,null,null,null,null,null,null,null,180,null,null,null,null,null,null,null,95,null,null,null,null,null,null,null,71,null,null,null,null,null,null,null,2,null,null,null,null,null,null,null,null,null,null,null,null,null,null,null,348,null,null,null,null,null,null,null,452.4,null,null,null,null,null,null,null,94.6,null,null,null,null,null,null,null,0,null,null,null,null,null,null,null,237.9,null,null,null,null,null,null,null,124,null,null,null,null,null,null,null,46,null,null,null,null,null,null,null,64.400000000000006,null,null,null,null,null,null,null,59.6]
[null,null,89050]
[null,null,89075]
[null,null,89150]
[]
[null,"","",null,null,null,null,null,null,null,null,null,null,null,null,null,null,"",null,null,null,null,null,null,null,"",null,null,null,null,null,null,null,"",null,null,null,null,null,null,null,"",null,null,null,null,null,null,null,"",null,null,null,null,null,null,null,"",null,null,null,null,null,null,null,"",null,null,null,null,null,null,null,"",null,null,null,null,null,null,null,"",null,null,null,null,null,null,null,null,null,null,null,null,null,null,null,"",null,null,null,null,null,null,null,"",null,null,null,null,null,null,null,null,null,null,null,null,null,null,null,"",null,null,null,null,null,null,null,null,null,null,null,null,null,null,null,null,"",null,null,null,null,null,null,null,null,null,null,null,null,null,null,"",null,null,null,null,null,null,null,"",null,null,null,null,null,null,null,"",null,null,null,null,null,null,null,"",null,null,null,null,null,null,null,"",null,null,null,null,null,null,null,""]
[]
[]
[null,null,null,null,null,null,null,null,null,null,null,null,null,null,null,null,null,null,null,null,null,null,null,null,null,"",null,null,null,null,null,null,null,"",null,null,null,null,null,null,null,"",null,null,null,null,null,null,null,"",null,null,null,null,null,null,null,"",null,null,null,null,null,null,null,"",null,null,null,null,null,null,null,"",null,null,null,null,null,null,null,"",null,null,null,null,null,null,null,null,null,null,null,null,null,null,null,"",null,null,null,null,null,null,null,"",null,null,null,null,null,null,null,null,null,null,null,null,null,null,null,"",null,null,null,null,null,null,null,null,null,null,null,null,null,null,null,null,"",null,null,null,null,null,null,null,null,null,null,null,null,null,null,"",null,null,null,null,null,null,null,null,null,null,null,null,null,null,null,"",null,null,null,null,null,null,null,"",null,null,null,null,null,null,null,"",null,null,null,null,null,null,null,""]
[]
[]
[]
[]
[]
[]
[]
[]
[]
[]
[null,null,null,null,null,null,null,null,null,null,null,null,null,null,null,null,null,237,null,null,null,null,null,null,null,0,null,null,null,null,null,null,null,237,null,null,null,null,null,null,null,0,null,null,null,null,null,null,null,0,null,null,null,null,null,null,null,0,null,null,null,null,null,null,null,3195,null,null,null,null,null,null,null,0,null,null,null,null,null,null,null,237,null,null,null,null,null,null,null,null,null,null,null,null,null,null,null,null,null,null,null,null,null,null,null,3432,null,null,null,null,null,null,null,4461.6000000000004,null,null,null,null,null,null,null,-4461.6000000000004,null,null,null,null,null,null,null,2211.3000000000002,null,null,null,null,null,null,null,4274.3999999999996,null,null,null,null,null,null,null,237,null,null,null,null,null,null,null,41,null,null,null,null,null,null,null,57.4,null,null,null,null,null,null,null,179.6]
[null,null,882100]
[null,null,882125]
[null,null,null,null,null,null,null,null,null,null,null,null,null,null,null,null,null,462,null,null,null,null,null,null,null,218,null,null,null,null,null,null,null,244,null,null,null,null,null,null,null,0,null,null,null,null,null,null,null,0,null,null,null,null,null,null,null,218,null,null,null,null,null,null,null,1192,null,null,null,null,null,null,null,0,null,null,null,null,null,null,null,142,null,null,null,null,null,null,null,null,null,null,null,null,null,null,null,null,null,null,null,null,null,null,null,1334,null,null,null,null,null,null,null,1734.2,null,null,null,null,null,null,null,-1516.2,null,null,null,null,null,null,null,1381.9,null,null,null,null,null,null,null,1547,null,null,null,null,null,null,null,244,null,null,null,null,null,null,null,127,null,null,null,null,null,null,null,177.8,null,null,null,null,null,null,null,66.2]
[null,null,882225]
[null,null,882275]
[null,null,null,null,null,null,null,null,null,null,null,null,null,null,null,null,null,320,null,null,null,null,null,null,null,175,null,null,null,null,null,null,null,146,null,null,null,null,null,null,null,0,null,null,null,null,null,null,null,0,null,null,null,null,null,null,null,175,null,null,null,null,null,null,null,386,null,null,null,null,null,null,null,0,null,null,null,null,null,null,null,80,null,null,null,null,null,null,null,null,null,null,null,null,null,null,null,null,null,null,null,null,null,null,null,466,null,null,null,null,null,null,null,605.79999999999995,null,null,null,null,null,null,null,-430.8,null,null,null,null,null,null,null,253.5,null,null,null,null,null,null,null,418.6,null,null,null,null,null,null,null,146,null,null,null,null,null,null,null,70,null,null,null,null,null,null,null,98,null,null,null,null,null,null,null,48]
[null,null,882350]
[null,null,882425]
[null,null,null,null,null,null,null,null,null,null,null,null,null,null,null,null,null,112,null,null,null,null,null,null,null,14,null,null,null,null,null,null,null,97,null,null,null,null,null,null,null,0,null,null,null,null,null,null,null,0,null,null,null,null,null,null,null,14,null,null,null,null,null,null,null,233,null,null,null,null,null,null,null,0,null,null,null,null,null,null,null,68,null,null,null,null,null,null,null,null,null,null,null,null,null,null,null,null,null,null,null,null,null,null,null,301,null,null,null,null,null,null,null,391.3,null,null,null,null,null,null,null,-377.3,null,null,null,null,null,null,null,39,null,null,null,null,null,null,null,204.1,null,null,null,null,null,null,null,97,null,null,null,null,null,null,null,37,null,null,null,null,null,null,null,51.8,null,null,null,null,null,null,null,45.2]
[null,null,null,null,null,null,null,null,null,null,null,null,null,null,null,null,null,102,null,null,null,null,null,null,null,13,null,null,null,null,null,null,null,89,null,null,null,null,null,null,null,0,null,null,null,null,null,null,null,0,null,null,null,null,null,null,null,13,null,null,null,null,null,null,null,150,null,null,null,null,null,null,null,0,null,null,null,null,null,null,null,60,null,null,null,null,null,null,null,null,null,null,null,null,null,null,null,null,null,null,null,null,null,null,null,210,null,null,null,null,null,null,null,273,null,null,null,null,null,null,null,-260,null,null,null,null,null,null,null,0,null,null,null,null,null,null,null,85.8,null,null,null,null,null,null,null,89,null,null,null,null,null,null,null,32,null,null,null,null,null,null,null,44.8,null,null,null,null,null,null,null,44.2]
[null,null,882525]
[null,null,null,null,null,null,null,null,null,null,null,null,null,null,null,null,null,138,null,null,null,null,null,null,null,43,null,null,null,null,null,null,null,96,null,null,null,null,null,null,null,0,null,null,null,null,null,null,null,0,null,null,null,null,null,null,null,43,null,null,null,null,null,null,null,0,null,null,null,null,null,null,null,0,null,null,null,null,null,null,null,1,null,null,null,null,null,null,null,null,null,null,null,null,null,null,null,null,null,null,null,null,null,null,null,1,null,null,null,null,null,null,null,1.3,null,null,null,null,null,null,null,41.7,null,null,null,null,null,null,null,0,null,null,null,null,null,null,null,0,null,null,null,null,null,null,null,96,null,null,null,null,null,null,null,7,null,null,null,null,null,null,null,9.8000000000000007,null,null,null,null,null,null,null,86.2]
[]
[]
[]
[]
[]
[]
[]
[]
[]
[]
[]
[]
[]
[]
[]
[]
[]
[]
[]
[]
[]
[]
[]
[]
[]
[]
[]
[null,"7/17/2019     11:14:26 AM     dhain     c:\\pw_work\\pwmain\\dhain\\d0824036\\90063155_T03.xlsm"]
[]
[]
[null,null,null,null,null,null,null,null,null,null,null,null,null,null,null,null,null,"Cut",null,null,null,null,null,null,null,null,null,null,null,null,null,null,null,null,null,null,null,null,null,null,null,null,null,null,null,null,null,null,null,null,null,null,null,null,null,null,null,null,null,null,null,null,null,null,null,"Fill",null,null,null,null,null,null,null,null,null,null,null,null,null,null,null,null,null,null,null,null,null,null,null,null,null,null,null,null,null,null,null,null,null,null,null,null,null,null,null,null,null,null,null,null,null,null,null,null,null,null,null,null,null,null,null,null,null,null,null,null,null,null,null,"Checks (EW-102)",null,null,null,null,null,null,null,null,null,null,null,null,null,null,null,"Topsoil"]
[]
[]
[]
[]
[]
[]
[]
[]
[null,null,880175]
[null,null,null,null,null,null,null,null,null,null,null,null,null,null,null,null,null,43,null,null,null,null,null,null,null,11,null,null,null,null,null,null,null,32,null,null,null,null,null,null,null,0,null,null,null,null,null,null,null,2,null,null,null,null,null,null,null,11,null,null,null,null,null,null,null,1,null,null,null,null,null,null,null,0,null,null,null,null,null,null,null,11,null,null,null,null,null,null,null,6,null,null,null,null,null,null,null,null,null,null,null,null,null,null,null,18,null,null,null,null,null,null,null,23.4,null,null,null,null,null,null,null,-12.4,null,null,null,null,null,null,null,0,null,null,null,null,null,null,null,0,null,null,null,null,null,null,null,32,null,null,null,null,null,null,null,11,null,null,null,null,null,null,null,15.4,null,null,null,null,null,null,null,16.600000000000001]
[null,null,null,null,null,null,null,null,null,null,null,null,null,null,null,null,null,44,null,null,null,null,null,null,null,10,null,null,null,null,null,null,null,34,null,null,null,null,null,null,null,0,null,null,null,null,null,null,null,0,null,null,null,null,null,null,null,10,null,null,null,null,null,null,null,1,null,null,null,null,null,null,null,0,null,null,null,null,null,null,null,7,null,null,null,null,null,null,null,null,null,null,null,null,null,null,null,null,null,null,null,null,null,null,null,8,null,null,null,null,null,null,null,10.4,null,null,null,null,null,null,null,-0.4,null,null,null,null,null,null,null,0,null,null,null,null,null,null,null,0,null,null,null,null,null,null,null,34,null,null,null,null,null,null,null,12,null,null,null,null,null,null,null,16.8,null,null,null,null,null,null,null,17.2]
[null,null,880300]
[null,null,null,null,null,null,null,null,null,null,null,null,null,null,null,null,null,24,null,null,null,null,null,null,null,24,null,null,null,null,null,null,null,0,null,null,null,null,null,null,null,0,null,null,null,null,null,null,null,0,null,null,null,null,null,null,null,24,null,null,null,null,null,null,null,6,null,null,null,null,null,null,null,0,null,null,null,null,null,null,null,null,null,null,null,null,null,null,null,null,null,null,null,null,null,null,null,null,null,null,null,null,null,null,null,6,null,null,null,null,null,null,null,7.8,null,null,null,null,null,null,null,16.2,null,null,null,null,null,null,null,0,null,null,null,null,null,null,null,0,null,null,null,null,null,null,null,0,null,null,null,null,null,null,null,13,null,null,null,null,null,null,null,18.2,null,null,null,null,null,null,null,-18.2]
[null,null,880400]
[null,null,880650]
[null,null,880675]
[null,null,null,null,null,null,null,null,null,null,null,null,null,null,null,null,null,163,null,null,null,null,null,null,null,97,null,null,null,null,null,null,null,65,null,null,null,null,null,null,null,0,null,null,null,null,null,null,null,0,null,null,null,null,null,null,null,97,null,null,null,null,null,null,null,0,null,null,null,null,null,null,null,0,null,null,null,null,null,null,null,2,null,null,null,null,null,null,null,null,null,null,null,null,null,null,null,null,null,null,null,null,null,null,null,2,null,null,null,null,null,null,null,2.6,null,null,null,null,null,null,null,94.4,null,null,null,null,null,null,null,0,null,null,null,null,null,null,null,0,null,null,null,null,null,null,null,65,null,null,null,null,null,null,null,30,null,null,null,null,null,null,null,42,null,null,null,null,null,null,null,23]
[null,null,880775]
[null,null,880825]
[null,null,null,null,null,null,null,null,null,null,null,null,null,null,null,null,null,55,null,null,null,null,null,null,null,14,null,null,null,null,null,null,null,41,null,null,null,null,null,null,null,0,null,null,null,null,null,null,null,0,null,null,null,null,null,null,null,14,null,null,null,null,null,null,null,13,null,null,null,null,null,null,null,0,null,null,null,null,null,null,null,23,null,null,null,null,null,null,null,null,null,null,null,null,null,null,null,null,null,null,null,null,null,null,null,36,null,null,null,null,null,null,null,46.8,null,null,null,null,null,null,null,-32.799999999999997,null,null,null,null,null,null,null,0,null,null,null,null,null,null,null,0,null,null,null,null,null,null,null,41,null,null,null,null,null,null,null,15,null,null,null,null,null,null,null,21,null,null,null,null,null,null,null,20]
[null,null,null,null,null,null,null,null,null,null,null,null,null,null,null,null,null,75,null,null,null,null,null,null,null,20,null,null,null,null,null,null,null,55,null,null,null,null,null,null,null,0,null,null,null,null,null,null,null,0,null,null,null,null,null,null,null,20,null,null,null,null,null,null,null,29,null,null,null,null,null,null,null,0,null,null,null,null,null,null,null,35,null,null,null,null,null,null,null,null,null,null,null,null,null,null,null,null,null,null,null,null,null,null,null,64,null,null,null,null,null,null,null,83.2,null,null,null,null,null,null,null,-63.2,null,null,null,null,null,null,null,0,null,null,null,null,null,null,null,0,null,null,null,null,null,null,null,55,null,null,null,null,null,null,null,24,null,null,null,null,null,null,null,33.6,null,null,null,null,null,null,null,21.4]
[null,null,880950]
[null,null,null,null,null,null,null,null,null,null,null,null,null,null,null,null,null,67,null,null,null,null,null,null,null,42,null,null,null,null,null,null,null,24,null,null,null,null,null,null,null,0,null,null,null,null,null,null,null,0,null,null,null,null,null,null,null,42,null,null,null,null,null,null,null,4,null,null,null,null,null,null,null,0,null,null,null,null,null,null,null,11,null,null,null,null,null,null,null,null,null,null,null,null,null,null,null,null,null,null,null,null,null,null,null,15,null,null,null,null,null,null,null,19.5,null,null,null,null,null,null,null,22.5,null,null,null,null,null,null,null,0,null,null,null,null,null,null,null,0,null,null,null,null,null,null,null,24,null,null,null,null,null,null,null,21,null,null,null,null,null,null,null,29.4,null,null,null,null,null,null,null,-5.4]
[null,null,null,null,null,null,null,null,null,null,null,null,null,null,null,null,null,65,null,null,null,null,null,null,null,23,null,null,null,null,null,null,null,42,null,null,null,null,null,null,null,0,null,null,null,null,null,null,null,0,null,null,null,null,null,null,null,23,null,null,null,null,null,null,null,7,null,null,null,null,null,null,null,0,null,null,null,null,null,null,null,24,null,null,null,null,null,null,null,null,null,null,null,null,null,null,null,null,null,null,null,null,null,null,null,31,null,null,null,null,null,null,null,40.299999999999997,null,null,null,null,null,null,null,-17.3,null,null,null,null,null,null,null,0,null,null,null,null,null,null,null,0,null,null,null,null,null,null,null,42,null,null,null,null,null,null,null,19,null,null,null,null,null,null,null,26.6,null,null,null,null,null,null,null,15.4]
[null,null,881075]
[null,null,null,null,null,null,null,null,null,null,null,null,null,null,null,null,null,40,null,null,null,null,null,null,null,7,null,null,null,null,null,null,null,33,null,null,null,null,null,null,null,0,null,null,null,null,null,null,null,0,null,null,null,null,null,null,null,7,null,null,null,null,null,null,null,17,null,null,null,null,null,null,null,0,null,null,null,null,null,null,null,20,null,null,null,null,null,null,null,null,null,null,null,null,null,null,null,null,null,null,null,null,null,null,null,37,null,null,null,null,null,null,null,48.1,null,null,null,null,null,null,null,-41.1,null,null,null,null,null,null,null,0,null,null,null,null,null,null,null,0,null,null,null,null,null,null,null,33,null,null,null,null,null,null,null,15,null,null,null,null,null,null,null,21,null,null,null,null,null,null,null,12]
[null,null,null,null,null,null,null,null,null,null,null,null,null,null,null,null,null,38,null,null,null,null,null,null,null,2,null,null,null,null,null,null,null,36,null,null,null,null,null,null,null,0,null,null,null,null,null,null,null,0,null,null,null,null,null,null,null,2,null,null,null,null,null,null,null,8,null,null,null,null,null,null,null,0,null,null,null,null,null,null,null,23,null,null,null,null,null,null,null,null,null,null,null,null,null,null,null,null,null,null,null,null,null,null,null,31,null,null,null,null,null,null,null,40.299999999999997,null,null,null,null,null,null,null,-38.299999999999997,null,null,null,null,null,null,null,0,null,null,null,null,null,null,null,0,null,null,null,null,null,null,null,36,null,null,null,null,null,null,null,13,null,null,null,null,null,null,null,18.2,null,null,null,null,null,null,null,17.8]
[null,null,881200]
[null,null,881250]
[null,null,null,null,null,null,null,null,null,null,null,null,null,null,null,null,null,29,null,null,null,null,null,null,null,0,null,null,null,null,null,null,null,29,null,null,null,null,null,null,null,0,null,null,null,null,null,null,null,0,null,null,null,null,null,null,null,0,null,null,null,null,null,null,null,26,null,null,null,null,null,null,null,0,null,null,null,null,null,null,null,25,null,null,null,null,null,null,null,null,null,null,null,null,null,null,null,null,null,null,null,null,null,null,null,51,null,null,null,null,null,null,null,66.3,null,null,null,null,null,null,null,-66.3,null,null,null,null,null,null,null,0,null,null,null,null,null,null,null,0,null,null,null,null,null,null,null,29,null,null,null,null,null,null,null,9,null,null,null,null,null,null,null,12.6,null,null,null,null,null,null,null,16.399999999999999]
[null,null,881375]
[null,null,881400]
[]
[]
[]
[]
[]
[]
[]
[]
[]
[]
[]
[]
[]
[]
[null,"","",null,null,null,null,null,null,null,null,null,null,null,null,null,null,"",null,null,null,null,null,null,null,"",null,null,null,null,null,null,null,"",null,null,null,null,null,null,null,"",null,null,null,null,null,null,null,"",null,null,null,null,null,null,null,"",null,null,null,null,null,null,null,"",null,null,null,null,null,null,null,"",null,null,null,null,null,null,null,"",null,null,null,null,null,null,null,null,null,null,null,null,null,null,null,"",null,null,null,null,null,null,null,"",null,null,null,null,null,null,null,null,null,null,null,null,null,null,null,"",null,null,null,null,null,null,null,null,null,null,null,null,null,null,null,null,"",null,null,null,null,null,null,null,null,null,null,null,null,null,null,"",null,null,null,null,null,null,null,"",null,null,null,null,null,null,null,"",null,null,null,null,null,null,null,"",null,null,null,null,null,null,null,"",null,null,null,null,null,null,null,""]
[null,"FILE NO.",null,null,null,null,null,null,{"$f":"IF(ProjectInformation!$B$12<>\"\",ProjectInformation!$B$12,\"\")","v":29590},null,null,null,null,null,null,{"$f":"UPPER(ProjectInformation!$B$8)","v":"ENGLISH"},null,null,null,null,null,null,"DESIGN TEAM",null,null,null,null,null,null,null,null,{"$f":"IF(AND(ProjectInformation!$B$3<>\"\",ProjectInformation!$B$4<>\"\",ProjectInformation!$B$5<>\"\"),ProjectInformation!$B$3&\"\\\"&ProjectInformation!$B$4&\"\\\"&ProjectInformation!$B$5,IF(AND(ProjectInformation!$B$3<>\"\",ProjectInformation!$B$4<>\"\"),ProjectInformation!$B$3&\"\\\"&ProjectInformation!$B$4,IF(ProjectInformation!$B$3<>\"\",ProjectInformation!$B$3,\"\")))","v":"Flattery\\Bell\\Hain"},null,null,null,null,null,null,null,null,null,null,null,null,null,null,null,null,null,null,null,null,null,null,null,null,null,null,null,null,null,null,null,null,null,null,null,null,null,null,null,null,null,{"$f":"IF(ProjectInformation!$B$6<>\"\",ProjectInformation!$B$6,\"\")","v":"WAPELLO"},null,null,null,null,null,null,null,null,null,null,null,null,null,null,null,null,null,null,null,null,null,null,null,null,null,null,null,null,null,null,null,null,null,null,null,null,null,null,null,null,"COUNTY",null,null,null,null,null,"PROJECT NUMBER",null,null,null,null,null,null,null,null,null,null,null,{"$f":"IF(ProjectInformation!$B$7<>\"\",ProjectInformation!$B$7,\"\")","v":"NHSX-063-2(155)--3H-90"},null,null,null,null,null,null,null,null,null,null,null,null,null,null,null,null,null,null,null,null,null,null,null,null,null,null,null,null,null,"SHEET NUMBER",null,null,null,null,null,null,null,null,null,"T.7",null,null,null,null,null,null,null,{"$f":"IF(GE930<>\"\",\"REVISED\",\"\")","v":""},null,null,null,null,null,{"$f":"IF(ProjectInformation!$B$9<>\"\",ProjectInformation!$B$9,\"\")","v":""}]
[""]
[null,null,"Refer to Standard Road Plans EW-101 and EW-102.",null,null,null,null,null,null,null,null,null,null,null,null,null,null,null,null,null,null,null,null,null,null,null,null,null,null,null,null,null,null,null,null,null,null,null,null,null,null,null,null,null,null,null,null,null,null,null,null,null,null,null,null,null,null,null,"TABULATION OF TEMPLATE QUANTITIES AND ADJUSTMENTS",null,null,null,null,null,null,null,null,null,null,null,null,null,null,null,null,null,null,null,null,null,null,null,null,null,null,null,null,null,null,null,null,null,null,null,null,null,null,null,null,null,null,null,null,null,null,null,null,null,null,null,null,null,null,null,null,null,null,null,null,null,null,null,null,null,null,null,null,null,null,null,null,null,null,null,null,null,null,"107-28"]
[null,null,null,null,null,null,null,null,null,null,null,null,null,null,null,null,null,"Cut",null,null,null,null,null,null,null,null,null,null,null,null,null,null,null,null,null,null,null,null,null,null,null,null,null,null,null,null,null,null,null,null,null,null,null,null,null,null,null,null,null,null,null,null,null,null,null,"Fill",null,null,null,null,null,null,null,null,null,null,null,null,null,null,null,null,null,null,null,null,null,null,null,null,null,null,null,null,null,null,null,null,null,null,null,null,null,null,null,null,null,null,null,null,null,null,null,null,null,null,null,null,null,null,null,null,null,null,null,null,null,null,null,"Checks (EW-102)",null,null,null,null,null,null,null,null,null,null,null,null,null,null,null,"Topsoil"]
[null,null,null,null,null,null,null,null,null,null,null,null,null,null,null,null,null,"[1]",null,null,null,null,null,null,null,"[2]",null,null,null,null,null,null,null,"[3]",null,null,null,null,null,null,null,"[4]",null,null,null,null,null,null,null,"[5]",null,null,null,null,null,null,null,"[6]",null,null,null,null,null,null,null,"[7]",null,null,null,null,null,null,null,"[8]",null,null,null,null,null,null,null,"[9]",null,null,null,null,null,null,null,"[10]",null,null,null,null,null,null,null,"[11]",null,null,null,null,null,null,null,"[12]",null,null,null,null,null,null,null,"[13]",null,null,null,null,null,null,null,"[14]",null,null,null,null,null,null,null,"[15]",null,null,null,null,null,null,null,"[16]",null,null,null,null,null,null,null,"[17]",null,null,null,null,null,null,null,"[18]",null,null,null,null,null,null,null,"[19]",null,null,null,null,null,null,null,"[20]",null,null,null,null,null,null,null,"[21]",null,null,null,null,null,null,null,"[22]"]
[]
[null,null,"Station",null,null,null,null,null,null,null,null,null,null,null,null,null,null,"Total Cut Unadjusted\n\nVolume",null,null,null,null,null,null,null,"Total Class 10\nUnadjusted\n\nVolume",null,null,null,null,null,null,null,"Topsoil Cut\n\nVolume",null,null,null,null,null,null,null,"Template\nUnsuitable\nType B\nVolume",null,null,null,null,null,null,null,"Template\nPavement\nRemoval\nVolume",null,null,null,null,null,null,null,"Total\nCut\nAdjusted",null,null,null,null,null,null,null,"Total Fill\nUnadjusted\n\nVolume",null,null,null,null,null,null,null,"Plowing &\nShaping\nUndercut\n(+ Fill)",null,null,null,null,null,null,null,"Existing Topsoil\nStripping\nUndercut\n(+ Fill)",null,null,null,null,null,null,null,"Existing\nPavement\nUndercut\n(+Fill)",null,null,null,null,null,null,null,"Manually\nCalculated Fill\nAdjustments\n(+/- Fill)",null,null,null,null,null,null,null,"Total\nFill\nAdjusted",null,null,null,null,null,null,null,"Total Fill\n Adjusted w/\nWeighted Average\n1.3  Shrink Factor",null,null,null,null,null,null,null,"Total Cut Adjusted\nMinus Fill w/ Shrink",null,null,null,null,null,null,null,"Approx. Fill Vol.\nBelow 5' & Above\n20' w/ Shrink",null,null,null,null,null,null,null,"Approx. Fill\nVolume Below 3'\nw/ Shrink",null,null,null,null,null,null,null,"Topsoil\nStripping Undercut\nVolume",null,null,null,null,null,null,null,"Topsoil\nPlacement\nUndercut\nVolume",null,null,null,null,null,null,null,"Topsoil Placement\nWith 1.4 Shrink\nFactor",null,null,null,null,null,null,null,"Topsoil Stripping\nMinus Topsoil\nPlacement\nw/Shrink"]
[]
[]
[]
[]
[null,null,"SIDEWALK"]
[]
[null,null,null,null,null,null,null,null,null,null,null,null,null,null,null,null,null,15,null,null,null,null,null,null,null,0,null,null,null,null,null,null,null,15,null,null,null,null,null,null,null,0,null,null,null,null,null,null,null,0,null,null,null,null,null,null,null,0,null,null,null,null,null,null,null,16,null,null,null,null,null,null,null,0,null,null,null,null,null,null,null,15,null,null,null,null,null,null,null,null,null,null,null,null,null,null,null,null,null,null,null,null,null,null,null,31,null,null,null,null,null,null,null,40.299999999999997,null,null,null,null,null,null,null,-40.299999999999997,null,null,null,null,null,null,null,0,null,null,null,null,null,null,null,0,null,null,null,null,null,null,null,15,null,null,null,null,null,null,null,3,null,null,null,null,null,null,null,4.2,null,null,null,null,null,null,null,10.8]
[null,null,870]
[null,null,null,null,null,null,null,null,null,null,null,null,null,null,null,null,null,16,null,null,null,null,null,null,null,0,null,null,null,null,null,null,null,16,null,null,null,null,null,null,null,0,null,null,null,null,null,null,null,0,null,null,null,null,null,null,null,0,null,null,null,null,null,null,null,9,null,null,null,null,null,null,null,0,null,null,null,null,null,null,null,15,null,null,null,null,null,null,null,null,null,null,null,null,null,null,null,null,null,null,null,null,null,null,null,24,null,null,null,null,null,null,null,31.2,null,null,null,null,null,null,null,-31.2,null,null,null,null,null,null,null,0,null,null,null,null,null,null,null,0,null,null,null,null,null,null,null,16,null,null,null,null,null,null,null,5,null,null,null,null,null,null,null,7,null,null,null,null,null,null,null,9]
[null,null,null,null,null,null,null,null,null,null,null,null,null,null,null,null,null,15,null,null,null,null,null,null,null,0,null,null,null,null,null,null,null,15,null,null,null,null,null,null,null,0,null,null,null,null,null,null,null,0,null,null,null,null,null,null,null,0,null,null,null,null,null,null,null,7,null,null,null,null,null,null,null,0,null,null,null,null,null,null,null,14,null,null,null,null,null,null,null,null,null,null,null,null,null,null,null,null,null,null,null,null,null,null,null,21,null,null,null,null,null,null,null,27.3,null,null,null,null,null,null,null,-27.3,null,null,null,null,null,null,null,0,null,null,null,null,null,null,null,0,null,null,null,null,null,null,null,15,null,null,null,null,null,null,null,4,null,null,null,null,null,null,null,5.6,null,null,null,null,null,null,null,9.4]
[null,null,920]
[null,null,940]
[]
[null,null,"Totals:"]
[]
[]
[]
[]
[]
[]
[]
[]
[]
[]
[]
[]
[]
[]
[]
[]
[]
[]
[]
[]
[]
[]
[]
[]
[]
[]
[]
[]
[]
[]
[null,"FILE NO.",null,null,null,null,null,null,{"$f":"IF(ProjectInformation!$B$12<>\"\",ProjectInformation!$B$12,\"\")","v":29590},null,null,null,null,null,null,{"$f":"UPPER(ProjectInformation!$B$8)","v":"ENGLISH"},null,null,null,null,null,null,"DESIGN TEAM",null,null,null,null,null,null,null,null,{"$f":"IF(AND(ProjectInformation!$B$3<>\"\",ProjectInformation!$B$4<>\"\",ProjectInformation!$B$5<>\"\"),ProjectInformation!$B$3&\"\\\"&ProjectInformation!$B$4&\"\\\"&ProjectInformation!$B$5,IF(AND(ProjectInformation!$B$3<>\"\",ProjectInformation!$B$4<>\"\"),ProjectInformation!$B$3&\"\\\"&ProjectInformation!$B$4,IF(ProjectInformation!$B$3<>\"\",ProjectInformation!$B$3,\"\")))","v":"Flattery\\Bell\\Hain"},null,null,null,null,null,null,null,null,null,null,null,null,null,null,null,null,null,null,null,null,null,null,null,null,null,null,null,null,null,null,null,null,null,null,null,null,null,null,null,null,null,{"$f":"IF(ProjectInformation!$B$6<>\"\",ProjectInformation!$B$6,\"\")","v":"WAPELLO"},null,null,null,null,null,null,null,null,null,null,null,null,null,null,null,null,null,null,null,null,null,null,null,null,null,null,null,null,null,null,null,null,null,null,null,null,null,null,null,null,"COUNTY",null,null,null,null,null,"PROJECT NUMBER",null,null,null,null,null,null,null,null,null,null,null,{"$f":"IF(ProjectInformation!$B$7<>\"\",ProjectInformation!$B$7,\"\")","v":"NHSX-063-2(155)--3H-90"},null,null,null,null,null,null,null,null,null,null,null,null,null,null,null,null,null,null,null,null,null,null,null,null,null,null,null,null,null,"SHEET NUMBER",null,null,null,null,null,null,null,null,null,"T.8",null,null,null,null,null,null,null,{"$f":"IF(GE1117<>\"\",\"REVISED\",\"\")","v":""},null,null,null,null,null,{"$f":"IF(ProjectInformation!$B$9<>\"\",ProjectInformation!$B$9,\"\")","v":""}]
[]
[""]
[null,null,"Refer to Standard Road Plans EW-101 and EW-102.",null,null,null,null,null,null,null,null,null,null,null,null,null,null,null,null,null,null,null,null,null,null,null,null,null,null,null,null,null,null,null,null,null,null,null,null,null,null,null,null,null,null,null,null,null,null,null,null,null,null,null,null,null,null,null,"TABULATION OF TEMPLATE QUANTITIES AND ADJUSTMENTS",null,null,null,null,null,null,null,null,null,null,null,null,null,null,null,null,null,null,null,null,null,null,null,null,null,null,null,null,null,null,null,null,null,null,null,null,null,null,null,null,null,null,null,null,null,null,null,null,null,null,null,null,null,null,null,null,null,null,null,null,null,null,null,null,null,null,null,null,null,null,null,null,null,null,null,null,null,null,"107-28"]
[]
[null,null,null,null,null,null,null,null,null,null,null,null,null,null,null,null,null,"[1]",null,null,null,null,null,null,null,"[2]",null,null,null,null,null,null,null,"[3]",null,null,null,null,null,null,null,"[4]",null,null,null,null,null,null,null,"[5]",null,null,null,null,null,null,null,"[6]",null,null,null,null,null,null,null,"[7]",null,null,null,null,null,null,null,"[8]",null,null,null,null,null,null,null,"[9]",null,null,null,null,null,null,null,"[10]",null,null,null,null,null,null,null,"[11]",null,null,null,null,null,null,null,"[12]",null,null,null,null,null,null,null,"[13]",null,null,null,null,null,null,null,"[14]",null,null,null,null,null,null,null,"[15]",null,null,null,null,null,null,null,"[16]",null,null,null,null,null,null,null,"[17]",null,null,null,null,null,null,null,"[18]",null,null,null,null,null,null,null,"[19]",null,null,null,null,null,null,null,"[20]",null,null,null,null,null,null,null,"[21]",null,null,null,null,null,null,null,"[22]"]
[null,null,null,null,null,null,null,null,null,null,null,null,null,null,null,null,null,{"$f":"IF('107_28'!$R$15<>\"\",'107_28'!$R$15,\"\")","v":""},null,null,null,null,null,null,null,{"$f":"IF('107_28'!$Z$15<>\"\",'107_28'!$Z$15,\"\")","v":""},null,null,null,null,null,null,null,{"$f":"IF('107_28'!$AH$15<>\"\",'107_28'!$AH$15,\"\")","v":""},null,null,null,null,null,null,null,{"$f":"IF('107_28'!$AP$15<>\"\",'107_28'!$AP$15,\"\")","v":""},null,null,null,null,null,null,null,{"$f":"IF('107_28'!$AX$15<>\"\",'107_28'!$AX$15,\"\")","v":""},null,null,null,null,null,null,null,{"$f":"IF('107_28'!$BF$15<>\"\",'107_28'!$BF$15,\"\")","v":"[2]+[4]"},null,null,null,null,null,null,null,{"$f":"IF('107_28'!$BN$15<>\"\",'107_28'!$BN$15,\"\")","v":""},null,null,null,null,null,null,null,{"$f":"IF('107_28'!$BV$15<>\"\",'107_28'!$BV$15,\"\")","v":""},null,null,null,null,null,null,null,{"$f":"IF('107_28'!$CD$15<>\"\",'107_28'!$CD$15,\"\")","v":""},null,null,null,null,null,null,null,{"$f":"IF('107_28'!$CL$15<>\"\",'107_28'!$CL$15,\"\")","v":""},null,null,null,null,null,null,null,{"$f":"IF('107_28'!$CT$15<>\"\",'107_28'!$CT$15,\"\")","v":""},null,null,null,null,null,null,null,{"$f":"IF('107_28'!$DB$15<>\"\",'107_28'!$DB$15,\"\")","v":"[7]+[8]+[9]+  [10]+[11]"},null,null,null,null,null,null,null,{"$f":"IF('107_28'!$DJ$15<>\"\",'107_28'!$DJ$15,\"\")","v":"[12]*1.3"},null,null,null,null,null,null,null,{"$f":"IF('107_28'!$DR$15<>\"\",'107_28'!$DR$15,\"\")","v":"[6]-[13]"},null,null,null,null,null,null,null,{"$f":"IF('107_28'!$DZ$15<>\"\",'107_28'!$DZ$15,\"\")","v":""},null,null,null,null,null,null,null,{"$f":"IF('107_28'!$EH$15<>\"\",'107_28'!$EH$15,\"\")","v":""},null,null,null,null,null,null,null,{"$f":"IF('107_28'!$EP$15<>\"\",'107_28'!$EP$15,\"\")","v":""},null,null,null,null,null,null,null,{"$f":"IF('107_28'!$EX$15<>\"\",'107_28'!$EX$15,\"\")","v":""},null,null,null,null,null,null,null,{"$f":"IF('107_28'!$FF$15<>\"\",'107_28'!$FF$15,\"\")","v":"[17]*1.4"},null,null,null,null,null,null,null,{"$f":"IF('107_28'!$FN$15<>\"\",'107_28'!$FN$15,\"\")","v":"[17]-[19]"},null,null,null,null,null,null,null,{"$f":"IF('107_28'!$FV$15<>\"\",'107_28'!$FV$15,\"\")","v":""},null,null,null,null,null,null,null,{"$f":"IF('107_28'!$GD$15<>\"\",'107_28'!$GD$15,\"\")","v":""}]
[]
[]
[]
[]
[]
[]
[]
[null,null,315]
[null,null,null,null,null,null,null,null,null,null,null,null,null,null,null,null,null,10,null,null,null,null,null,null,null,0,null,null,null,null,null,null,null,10,null,null,null,null,null,null,null,0,null,null,null,null,null,null,null,0,null,null,null,null,null,null,null,0,null,null,null,null,null,null,null,0,null,null,null,null,null,null,null,0,null,null,null,null,null,null,null,7,null,null,null,null,null,null,null,null,null,null,null,null,null,null,null,null,null,null,null,null,null,null,null,7,null,null,null,null,null,null,null,9.1,null,null,null,null,null,null,null,-9.1,null,null,null,null,null,null,null,0,null,null,null,null,null,null,null,0,null,null,null,null,null,null,null,10,null,null,null,null,null,null,null,5,null,null,null,null,null,null,null,7,null,null,null,null,null,null,null,3]
[null,null,null,null,null,null,null,null,null,null,null,null,null,null,null,null,null,12,null,null,null,null,null,null,null,1,null,null,null,null,null,null,null,12,null,null,null,null,null,null,null,0,null,null,null,null,null,null,null,0,null,null,null,null,null,null,null,1,null,null,null,null,null,null,null,3,null,null,null,null,null,null,null,0,null,null,null,null,null,null,null,9,null,null,null,null,null,null,null,null,null,null,null,null,null,null,null,null,null,null,null,null,null,null,null,12,null,null,null,null,null,null,null,15.6,null,null,null,null,null,null,null,-14.6,null,null,null,null,null,null,null,0,null,null,null,null,null,null,null,0,null,null,null,null,null,null,null,12,null,null,null,null,null,null,null,4,null,null,null,null,null,null,null,5.6,null,null,null,null,null,null,null,6.4]
[null,null,340]
[null,null,350]
[null,null,null,null,null,null,null,null,null,null,null,null,null,null,null,null,null,28,null,null,null,null,null,null,null,12,null,null,null,null,null,null,null,17,null,null,null,null,null,null,null,0,null,null,null,null,null,null,null,0,null,null,null,null,null,null,null,12,null,null,null,null,null,null,null,7,null,null,null,null,null,null,null,0,null,null,null,null,null,null,null,9,null,null,null,null,null,null,null,null,null,null,null,null,null,null,null,null,null,null,null,null,null,null,null,16,null,null,null,null,null,null,null,20.8,null,null,null,null,null,null,null,-8.8000000000000007,null,null,null,null,null,null,null,0,null,null,null,null,null,null,null,0,null,null,null,null,null,null,null,17,null,null,null,null,null,null,null,4,null,null,null,null,null,null,null,5.6,null,null,null,null,null,null,null,11.4]
[null,null,370]
[null,null,374]
[null,null,null,null,null,null,null,null,null,null,null,null,null,null,null,null,null,15,null,null,null,null,null,null,null,6,null,null,null,null,null,null,null,9,null,null,null,null,null,null,null,0,null,null,null,null,null,null,null,0,null,null,null,null,null,null,null,6,null,null,null,null,null,null,null,0,null,null,null,null,null,null,null,0,null,null,null,null,null,null,null,3,null,null,null,null,null,null,null,null,null,null,null,null,null,null,null,null,null,null,null,null,null,null,null,3,null,null,null,null,null,null,null,3.9,null,null,null,null,null,null,null,2.1,null,null,null,null,null,null,null,0,null,null,null,null,null,null,null,0,null,null,null,null,null,null,null,9,null,null,null,null,null,null,null,5,null,null,null,null,null,null,null,7,null,null,null,null,null,null,null,2]
[null,null,"PARKING"]
[]
[]
[]
[]
[]
[]
[]
[]
[]
[]
[]
[]
[]
[]
[]
[]
[]
[]
[]
[]
[]
[]
[]
[]
[]
[]
[]
[]
[]
[]
[null,null,null,null,null,null,null,null,null,null,null,null,null,null,null,null,null,null,null,null,null,null,null,null,null,"",null,null,null,null,null,null,null,"",null,null,null,null,null,null,null,"",null,null,null,null,null,null,null,"",null,null,null,null,null,null,null,"",null,null,null,null,null,null,null,"",null,null,null,null,null,null,null,"",null,null,null,null,null,null,null,"",null,null,null,null,null,null,null,null,null,null,null,null,null,null,null,"",null,null,null,null,null,null,null,"",null,null,null,null,null,null,null,null,null,null,null,null,null,null,null,"",null,null,null,null,null,null,null,null,null,null,null,null,null,null,null,null,"",null,null,null,null,null,null,null,null,null,null,null,null,null,null,"",null,null,null,null,null,null,null,null,null,null,null,null,null,null,null,"",null,null,null,null,null,null,null,"",null,null,null,null,null,null,null,"",null,null,null,null,null,null,null,""]
[]
[]
[]
[]
[]
[]
[]
[]
[]
[]
[]
[null,null,null,null,null,null,null,null,null,null,null,null,null,null,null,null,null,338,null,null,null,null,null,null,null,212,null,null,null,null,null,null,null,126,null,null,null,null,null,null,null,0,null,null,null,null,null,null,null,27,null,null,null,null,null,null,null,212,null,null,null,null,null,null,null,220,null,null,null,null,null,null,null,0,null,null,null,null,null,null,null,84,null,null,null,null,null,null,null,null,null,null,null,null,null,null,null,null,null,null,null,null,null,null,null,304,null,null,null,null,null,null,null,395.2,null,null,null,null,null,null,null,-183.2,null,null,null,null,null,null,null,0,null,null,null,null,null,null,null,182,null,null,null,null,null,null,null,126,null,null,null,null,null,null,null,44,null,null,null,null,null,null,null,61.6,null,null,null,null,null,null,null,64.400000000000006]
[null,null,null,null,null,null,null,null,null,null,null,null,null,null,null,null,null,297,null,null,null,null,null,null,null,170,null,null,null,null,null,null,null,127,null,null,null,null,null,null,null,0,null,null,null,null,null,null,null,27,null,null,null,null,null,null,null,170,null,null,null,null,null,null,null,264,null,null,null,null,null,null,null,0,null,null,null,null,null,null,null,88,null,null,null,null,null,null,null,null,null,null,null,null,null,null,null,null,null,null,null,null,null,null,null,352,null,null,null,null,null,null,null,457.6,null,null,null,null,null,null,null,-287.60000000000002,null,null,null,null,null,null,null,0,null,null,null,null,null,null,null,244.4,null,null,null,null,null,null,null,127,null,null,null,null,null,null,null,45,null,null,null,null,null,null,null,63,null,null,null,null,null,null,null,64]
[null,null,89307]
[null,null,null,null,null,null,null,null,null,null,null,null,null,null,null,null,null,254,null,null,null,null,null,null,null,127,null,null,null,null,null,null,null,126,null,null,null,null,null,null,null,0,null,null,null,null,null,null,null,27,null,null,null,null,null,null,null,127,null,null,null,null,null,null,null,330,null,null,null,null,null,null,null,0,null,null,null,null,null,null,null,91,null,null,null,null,null,null,null,null,null,null,null,null,null,null,null,null,null,null,null,null,null,null,null,421,null,null,null,null,null,null,null,547.29999999999995,null,null,null,null,null,null,null,-420.3,null,null,null,null,null,null,null,5.2,null,null,null,null,null,null,null,335.4,null,null,null,null,null,null,null,126,null,null,null,null,null,null,null,43,null,null,null,null,null,null,null,60.2,null,null,null,null,null,null,null,65.8]
[null,null,null,null,null,null,null,null,null,null,null,null,null,null,null,null,null,244,null,null,null,null,null,null,null,120,null,null,null,null,null,null,null,123,null,null,null,null,null,null,null,0,null,null,null,null,null,null,null,27,null,null,null,null,null,null,null,120,null,null,null,null,null,null,null,323,null,null,null,null,null,null,null,0,null,null,null,null,null,null,null,89,null,null,null,null,null,null,null,null,null,null,null,null,null,null,null,null,null,null,null,null,null,null,null,412,null,null,null,null,null,null,null,535.6,null,null,null,null,null,null,null,-415.6,null,null,null,null,null,null,null,0,null,null,null,null,null,null,null,323.7,null,null,null,null,null,null,null,123,null,null,null,null,null,null,null,41,null,null,null,null,null,null,null,57.4,null,null,null,null,null,null,null,65.599999999999994]
[null,null,89425]
[null,null,89450]
[null,null,null,null,null,null,null,null,null,null,null,null,null,null,null,null,null,323,null,null,null,null,null,null,null,207,null,null,null,null,null,null,null,116,null,null,null,null,null,null,null,0,null,null,null,null,null,null,null,27,null,null,null,null,null,null,null,207,null,null,null,null,null,null,null,301,null,null,null,null,null,null,null,95,null,null,null,null,null,null,null,84,null,null,null,null,null,null,null,null,null,null,null,null,null,null,null,null,null,null,null,null,null,null,null,480,null,null,null,null,null,null,null,624,null,null,null,null,null,null,null,-417,null,null,null,null,null,null,null,81.900000000000006,null,null,null,null,null,null,null,412.1,null,null,null,null,null,null,null,116,null,null,null,null,null,null,null,37,null,null,null,null,null,null,null,51.8,null,null,null,null,null,null,null,64.2]
[null,null,89550]
[null,null,89600]
[null,null,null,null,null,null,null,null,null,null,null,null,null,null,null,null,null,239,null,null,null,null,null,null,null,173,null,null,null,null,null,null,null,65,null,null,null,null,null,null,null,0,null,null,null,null,null,null,null,85,null,null,null,null,null,null,null,173,null,null,null,null,null,null,null,99,null,null,null,null,null,null,null,0,null,null,null,null,null,null,null,48,null,null,null,null,null,null,null,5,null,null,null,null,null,null,null,null,null,null,null,null,null,null,null,152,null,null,null,null,null,null,null,197.6,null,null,null,null,null,null,null,-24.6,null,null,null,null,null,null,null,0,null,null,null,null,null,null,null,0,null,null,null,null,null,null,null,65,null,null,null,null,null,null,null,45,null,null,null,null,null,null,null,63,null,null,null,null,null,null,null,2]
[null,null,89700]
[null,null,89725]
[null,null,null,null,null,null,null,null,null,null,null,null,null,null,null,null,null,245,null,null,null,null,null,null,null,140,null,null,null,null,null,null,null,105,null,null,null,null,null,null,null,0,null,null,null,null,null,null,null,24,null,null,null,null,null,null,null,140,null,null,null,null,null,null,null,440,null,null,null,null,null,null,null,84,null,null,null,null,null,null,null,101,null,null,null,null,null,null,null,46,null,null,null,null,null,null,null,null,null,null,null,null,null,null,null,671,null,null,null,null,null,null,null,872.3,null,null,null,null,null,null,null,-732.3,null,null,null,null,null,null,null,270.39999999999998,null,null,null,null,null,null,null,599.29999999999995,null,null,null,null,null,null,null,105,null,null,null,null,null,null,null,33,null,null,null,null,null,null,null,46.2,null,null,null,null,null,null,null,58.8]
[null,null,null,null,null,null,null,null,null,null,null,null,null,null,null,null,null,244,null,null,null,null,null,null,null,135,null,null,null,null,null,null,null,109,null,null,null,null,null,null,null,0,null,null,null,null,null,null,null,24,null,null,null,null,null,null,null,135,null,null,null,null,null,null,null,463,null,null,null,null,null,null,null,84,null,null,null,null,null,null,null,105,null,null,null,null,null,null,null,92,null,null,null,null,null,null,null,null,null,null,null,null,null,null,null,744,null,null,null,null,null,null,null,967.2,null,null,null,null,null,null,null,-832.2,null,null,null,null,null,null,null,305.5,null,null,null,null,null,null,null,635.70000000000005,null,null,null,null,null,null,null,109,null,null,null,null,null,null,null,35,null,null,null,null,null,null,null,49,null,null,null,null,null,null,null,60]
[null,null,89850]
[null,null,null,null,null,null,null,null,null,null,null,null,null,null,null,null,null,382,null,null,null,null,null,null,null,156,null,null,null,null,null,null,null,226,null,null,null,null,null,null,null,0,null,null,null,null,null,null,null,31,null,null,null,null,null,null,null,156,null,null,null,null,null,null,null,1072,null,null,null,null,null,null,null,95,null,null,null,null,null,null,null,216,null,null,null,null,null,null,null,79,null,null,null,null,null,null,null,null,null,null,null,null,null,null,null,1462,null,null,null,null,null,null,null,1900.6,null,null,null,null,null,null,null,-1744.6,null,null,null,null,null,null,null,1255.8,null,null,null,null,null,null,null,1584.7,null,null,null,null,null,null,null,226,null,null,null,null,null,null,null,111,null,null,null,null,null,null,null,155.4,null,null,null,null,null,null,null,70.599999999999994]
[null,null,null,null,null,null,null,null,null,null,null,null,null,null,null,null,null,361,null,null,null,null,null,null,null,148,null,null,null,null,null,null,null,213,null,null,null,null,null,null,null,0,null,null,null,null,null,null,null,32,null,null,null,null,null,null,null,148,null,null,null,null,null,null,null,984,null,null,null,null,null,null,null,95,null,null,null,null,null,null,null,208,null,null,null,null,null,null,null,2,null,null,null,null,null,null,null,null,null,null,null,null,null,null,null,1289,null,null,null,null,null,null,null,1675.7,null,null,null,null,null,null,null,-1527.7,null,null,null,null,null,null,null,1131,null,null,null,null,null,null,null,1459.9,null,null,null,null,null,null,null,213,null,null,null,null,null,null,null,104,null,null,null,null,null,null,null,145.6,null,null,null,null,null,null,null,67.400000000000006]
[null,null,90025]
[null,null,null,null,null,null,null,null,null,null,null,null,null,null,null,null,null,296,null,null,null,null,null,null,null,115,null,null,null,null,null,null,null,180,null,null,null,null,null,null,null,0,null,null,null,null,null,null,null,35,null,null,null,null,null,null,null,115,null,null,null,null,null,null,null,701,null,null,null,null,null,null,null,94,null,null,null,null,null,null,null,175,null,null,null,null,null,null,null,4,null,null,null,null,null,null,null,null,null,null,null,null,null,null,null,974,null,null,null,null,null,null,null,1266.2,null,null,null,null,null,null,null,-1151.2,null,null,null,null,null,null,null,720.2,null,null,null,null,null,null,null,1049.0999999999999,null,null,null,null,null,null,null,180,null,null,null,null,null,null,null,87,null,null,null,null,null,null,null,121.8,null,null,null,null,null,null,null,58.2]
[null,null,null,null,null,null,null,null,null,null,null,null,null,null,null,null,null,279,null,null,null,null,null,null,null,107,null,null,null,null,null,null,null,172,null,null,null,null,null,null,null,0,null,null,null,null,null,null,null,34,null,null,null,null,null,null,null,107,null,null,null,null,null,null,null,645,null,null,null,null,null,null,null,92,null,null,null,null,null,null,null,165,null,null,null,null,null,null,null,7,null,null,null,null,null,null,null,null,null,null,null,null,null,null,null,909,null,null,null,null,null,null,null,1181.7,null,null,null,null,null,null,null,-1074.7,null,null,null,null,null,null,null,630.5,null,null,null,null,null,null,null,959.4,null,null,null,null,null,null,null,172,null,null,null,null,null,null,null,82,null,null,null,null,null,null,null,114.8,null,null,null,null,null,null,null,57.2]
[null,null,90125]
[null,null,90200]
[null,null,null,null,null,null,null,null,null,null,null,null,null,null,null,null,null,144,null,null,null,null,null,null,null,4,null,null,null,null,null,null,null,140,null,null,null,null,null,null,null,0,null,null,null,null,null,null,null,15,null,null,null,null,null,null,null,4,null,null,null,null,null,null,null,530,null,null,null,null,null,null,null,0,null,null,null,null,null,null,null,125,null,null,null,null,null,null,null,31,null,null,null,null,null,null,null,null,null,null,null,null,null,null,null,686,null,null,null,null,null,null,null,891.8,null,null,null,null,null,null,null,-887.8,null,null,null,null,null,null,null,309.39999999999998,null,null,null,null,null,null,null,639.6,null,null,null,null,null,null,null,140,null,null,null,null,null,null,null,63,null,null,null,null,null,null,null,88.2,null,null,null,null,null,null,null,51.8]
[null,null,90275]
[null,null,90325]
[null,null,90375]
[null,null,null,null,null,null,null,null,null,null,null,null,null,null,null,null,null,206,null,null,null,null,null,null,null,43,null,null,null,null,null,null,null,164,null,null,null,null,null,null,null,0,null,null,null,null,null,null,null,18,null,null,null,null,null,null,null,43,null,null,null,null,null,null,null,444,null,null,null,null,null,null,null,0,null,null,null,null,null,null,null,134,null,null,null,null,null,null,null,33,null,null,null,null,null,null,null,null,null,null,null,null,null,null,null,611,null,null,null,null,null,null,null,794.3,null,null,null,null,null,null,null,-751.3,null,null,null,null,null,null,null,208,null,null,null,null,null,null,null,538.20000000000005,null,null,null,null,null,null,null,164,null,null,null,null,null,null,null,84,null,null,null,null,null,null,null,117.6,null,null,null,null,null,null,null,46.4]
[null,null,90450]
[null,null,null,null,null,null,null,null,null,null,null,null,null,null,null,null,null,198,null,null,null,null,null,null,null,43,null,null,null,null,null,null,null,155,null,null,null,null,null,null,null,0,null,null,null,null,null,null,null,33,null,null,null,null,null,null,null,43,null,null,null,null,null,null,null,366,null,null,null,null,null,null,null,0,null,null,null,null,null,null,null,109,null,null,null,null,null,null,null,21,null,null,null,null,null,null,null,null,null,null,null,null,null,null,null,496,null,null,null,null,null,null,null,644.79999999999995,null,null,null,null,null,null,null,-601.79999999999995,null,null,null,null,null,null,null,75.400000000000006,null,null,null,null,null,null,null,404.3,null,null,null,null,null,null,null,155,null,null,null,null,null,null,null,86,null,null,null,null,null,null,null,120.4,null,null,null,null,null,null,null,34.6]
[null,null,null,null,null,null,null,null,null,null,null,null,null,null,null,null,null,161,null,null,null,null,null,null,null,14,null,null,null,null,null,null,null,147,null,null,null,null,null,null,null,0,null,null,null,null,null,null,null,40,null,null,null,null,null,null,null,14,null,null,null,null,null,null,null,358,null,null,null,null,null,null,null,0,null,null,null,null,null,null,null,121,null,null,null,null,null,null,null,14,null,null,null,null,null,null,null,null,null,null,null,null,null,null,null,493,null,null,null,null,null,null,null,640.9,null,null,null,null,null,null,null,-626.9,null,null,null,null,null,null,null,79.3,null,null,null,null,null,null,null,409.5,null,null,null,null,null,null,null,147,null,null,null,null,null,null,null,76,null,null,null,null,null,null,null,106.4,null,null,null,null,null,null,null,40.6]
[null,null,90575]
[null,null,null,null,null,null,null,null,null,null,null,null,null,null,null,null,null,142,null,null,null,null,null,null,null,19,null,null,null,null,null,null,null,123,null,null,null,null,null,null,null,0,null,null,null,null,null,null,null,47,null,null,null,null,null,null,null,19,null,null,null,null,null,null,null,301,null,null,null,null,null,null,null,0,null,null,null,null,null,null,null,97,null,null,null,null,null,null,null,8,null,null,null,null,null,null,null,null,null,null,null,null,null,null,null,406,null,null,null,null,null,null,null,527.79999999999995,null,null,null,null,null,null,null,-508.8,null,null,null,null,null,null,null,0,null,null,null,null,null,null,null,304.2,null,null,null,null,null,null,null,123,null,null,null,null,null,null,null,61,null,null,null,null,null,null,null,85.4,null,null,null,null,null,null,null,37.6]
[null,null,null,null,null,null,null,null,null,null,null,null,null,null,null,null,null,148,null,null,null,null,null,null,null,32,null,null,null,null,null,null,null,116,null,null,null,null,null,null,null,0,null,null,null,null,null,null,null,53,null,null,null,null,null,null,null,32,null,null,null,null,null,null,null,305,null,null,null,null,null,null,null,0,null,null,null,null,null,null,null,95,null,null,null,null,null,null,null,1,null,null,null,null,null,null,null,null,null,null,null,null,null,null,null,401,null,null,null,null,null,null,null,521.29999999999995,null,null,null,null,null,null,null,-489.3,null,null,null,null,null,null,null,0,null,null,null,null,null,null,null,308.10000000000002,null,null,null,null,null,null,null,116,null,null,null,null,null,null,null,61,null,null,null,null,null,null,null,85.4,null,null,null,null,null,null,null,30.6]
[null,null,null,null,null,null,null,null,null,null,null,null,null,null,null,null,null,168,null,null,null,null,null,null,null,33,null,null,null,null,null,null,null,135,null,null,null,null,null,null,null,0,null,null,null,null,null,null,null,54,null,null,null,null,null,null,null,33,null,null,null,null,null,null,null,308,null,null,null,null,null,null,null,0,null,null,null,null,null,null,null,97,null,null,null,null,null,null,null,null,null,null,null,null,null,null,null,null,null,null,null,null,null,null,null,405,null,null,null,null,null,null,null,526.5,null,null,null,null,null,null,null,-493.5,null,null,null,null,null,null,null,0,null,null,null,null,null,null,null,314.60000000000002,null,null,null,null,null,null,null,135,null,null,null,null,null,null,null,69,null,null,null,null,null,null,null,96.6,null,null,null,null,null,null,null,38.4]
[null,null,90750]
[]
[]
[]
[null,"7/17/2019     11:14:26 AM     dhain     c:\\pw_work\\pwmain\\dhain\\d0824036\\90063155_T03.xlsm"]
[]
[null,null,null,null,null,null,null,null,null,null,null,null,null,null,null,null,null,null,null,null,null,null,null,null,null,null,null,null,null,null,null,null,null,null,null,null,null,null,null,null,null,null,null,null,null,null,null,null,null,null,null,null,null,null,null,null,null,null,null,null,null,null,null,null,null,null,null,null,null,null,null,null,null,null,null,null,null,null,null,null,null,null,null,null,null,null,null,null,null,null,null,null,null,null,null,null,null,null,null,null,null,null,null,null,null,null,null,null,null,null,null,null,null,null,null,null,null,null,null,null,null,null,null,null,null,null,null,null,null,null,null,null,null,null,null,null,null,"2015-04-21"]
[]
[null,null,null,null,null,null,null,null,null,null,null,null,null,null,null,null,null,"[1]",null,null,null,null,null,null,null,"[2]",null,null,null,null,null,null,null,"[3]",null,null,null,null,null,null,null,"[4]",null,null,null,null,null,null,null,"[5]",null,null,null,null,null,null,null,"[6]",null,null,null,null,null,null,null,"[7]",null,null,null,null,null,null,null,"[8]",null,null,null,null,null,null,null,"[9]",null,null,null,null,null,null,null,"[10]",null,null,null,null,null,null,null,"[11]",null,null,null,null,null,null,null,"[12]",null,null,null,null,null,null,null,"[13]",null,null,null,null,null,null,null,"[14]",null,null,null,null,null,null,null,"[15]",null,null,null,null,null,null,null,"[16]",null,null,null,null,null,null,null,"[17]",null,null,null,null,null,null,null,"[18]",null,null,null,null,null,null,null,"[19]",null,null,null,null,null,null,null,"[20]",null,null,null,null,null,null,null,"[21]",null,null,null,null,null,null,null,"[22]"]
[]
[]
[]
[]
[]
[]
[null,null,90825]
[null,null,null,null,null,null,null,null,null,null,null,null,null,null,null,null,null,196,null,null,null,null,null,null,null,57,null,null,null,null,null,null,null,139,null,null,null,null,null,null,null,0,null,null,null,null,null,null,null,54,null,null,null,null,null,null,null,57,null,null,null,null,null,null,null,297,null,null,null,null,null,null,null,0,null,null,null,null,null,null,null,96,null,null,null,null,null,null,null,null,null,null,null,null,null,null,null,null,null,null,null,null,null,null,null,393,null,null,null,null,null,null,null,510.9,null,null,null,null,null,null,null,-453.9,null,null,null,null,null,null,null,0,null,null,null,null,null,null,null,299,null,null,null,null,null,null,null,139,null,null,null,null,null,null,null,71,null,null,null,null,null,null,null,99.4,null,null,null,null,null,null,null,39.6]
[null,null,null,null,null,null,null,null,null,null,null,null,null,null,null,null,null,208,null,null,null,null,null,null,null,67,null,null,null,null,null,null,null,140,null,null,null,null,null,null,null,0,null,null,null,null,null,null,null,54,null,null,null,null,null,null,null,67,null,null,null,null,null,null,null,287,null,null,null,null,null,null,null,0,null,null,null,null,null,null,null,95,null,null,null,null,null,null,null,null,null,null,null,null,null,null,null,null,null,null,null,null,null,null,null,382,null,null,null,null,null,null,null,496.6,null,null,null,null,null,null,null,-429.6,null,null,null,null,null,null,null,0,null,null,null,null,null,null,null,283.39999999999998,null,null,null,null,null,null,null,140,null,null,null,null,null,null,null,72,null,null,null,null,null,null,null,100.8,null,null,null,null,null,null,null,39.200000000000003]
[null,null,90950]
[null,null,null,null,null,null,null,null,null,null,null,null,null,null,null,null,null,242,null,null,null,null,null,null,null,101,null,null,null,null,null,null,null,141,null,null,null,null,null,null,null,0,null,null,null,null,null,null,null,54,null,null,null,null,null,null,null,101,null,null,null,null,null,null,null,270,null,null,null,null,null,null,null,0,null,null,null,null,null,null,null,92,null,null,null,null,null,null,null,null,null,null,null,null,null,null,null,null,null,null,null,null,null,null,null,362,null,null,null,null,null,null,null,470.6,null,null,null,null,null,null,null,-369.6,null,null,null,null,null,null,null,0,null,null,null,null,null,null,null,257.39999999999998,null,null,null,null,null,null,null,141,null,null,null,null,null,null,null,73,null,null,null,null,null,null,null,102.2,null,null,null,null,null,null,null,38.799999999999997]
[null,null,null,null,null,null,null,null,null,null,null,null,null,null,null,null,null,252,null,null,null,null,null,null,null,110,null,null,null,null,null,null,null,142,null,null,null,null,null,null,null,0,null,null,null,null,null,null,null,54,null,null,null,null,null,null,null,110,null,null,null,null,null,null,null,261,null,null,null,null,null,null,null,0,null,null,null,null,null,null,null,92,null,null,null,null,null,null,null,null,null,null,null,null,null,null,null,null,null,null,null,null,null,null,null,353,null,null,null,null,null,null,null,458.9,null,null,null,null,null,null,null,-348.9,null,null,null,null,null,null,null,0,null,null,null,null,null,null,null,245.7,null,null,null,null,null,null,null,142,null,null,null,null,null,null,null,73,null,null,null,null,null,null,null,102.2,null,null,null,null,null,null,null,39.799999999999997]
[null,null,91075]
[null,null,91100]
[null,null,null,null,null,null,null,null,null,null,null,null,null,null,null,null,null,235,null,null,null,null,null,null,null,118,null,null,null,null,null,null,null,117,null,null,null,null,null,null,null,0,null,null,null,null,null,null,null,54,null,null,null,null,null,null,null,118,null,null,null,null,null,null,null,186,null,null,null,null,null,null,null,0,null,null,null,null,null,null,null,86,null,null,null,null,null,null,null,null,null,null,null,null,null,null,null,null,null,null,null,null,null,null,null,272,null,null,null,null,null,null,null,353.6,null,null,null,null,null,null,null,-235.6,null,null,null,null,null,null,null,0,null,null,null,null,null,null,null,140.4,null,null,null,null,null,null,null,117,null,null,null,null,null,null,null,57,null,null,null,null,null,null,null,79.8,null,null,null,null,null,null,null,37.200000000000003]
[null,null,91175]
[null,null,91225]
[null,null,null,null,null,null,null,null,null,null,null,null,null,null,null,null,null,292,null,null,null,null,null,null,null,180,null,null,null,null,null,null,null,112,null,null,null,null,null,null,null,0,null,null,null,null,null,null,null,54,null,null,null,null,null,null,null,180,null,null,null,null,null,null,null,97,null,null,null,null,null,null,null,0,null,null,null,null,null,null,null,68,null,null,null,null,null,null,null,null,null,null,null,null,null,null,null,null,null,null,null,null,null,null,null,165,null,null,null,null,null,null,null,214.5,null,null,null,null,null,null,null,-34.5,null,null,null,null,null,null,null,0,null,null,null,null,null,null,null,2.6,null,null,null,null,null,null,null,112,null,null,null,null,null,null,null,54,null,null,null,null,null,null,null,75.599999999999994,null,null,null,null,null,null,null,36.4]
[null,null,null,null,null,null,null,null,null,null,null,null,null,null,null,null,null,441,null,null,null,null,null,null,null,320,null,null,null,null,null,null,null,122,null,null,null,null,null,null,null,0,null,null,null,null,null,null,null,54,null,null,null,null,null,null,null,320,null,null,null,null,null,null,null,74,null,null,null,null,null,null,null,0,null,null,null,null,null,null,null,59,null,null,null,null,null,null,null,null,null,null,null,null,null,null,null,1025,null,null,null,null,null,null,null,1158,null,null,null,null,null,null,null,1505.4,null,null,null,null,null,null,null,-1185.4000000000001,null,null,null,null,null,null,null,0,null,null,null,null,null,null,null,0,null,null,null,null,null,null,null,122,null,null,null,null,null,null,null,60,null,null,null,null,null,null,null,84,null,null,null,null,null,null,null,38]
[null,null,91350]
[null,null,null,null,null,null,null,null,null,null,null,null,null,null,null,null,null,263,null,null,null,null,null,null,null,166,null,null,null,null,null,null,null,96,null,null,null,null,null,null,null,0,null,null,null,null,null,null,null,55,null,null,null,null,null,null,null,166,null,null,null,null,null,null,null,34,null,null,null,null,null,null,null,0,null,null,null,null,null,null,null,61,null,null,null,null,null,null,null,null,null,null,null,null,null,null,null,null,null,null,null,null,null,null,null,95,null,null,null,null,null,null,null,123.5,null,null,null,null,null,null,null,42.5,null,null,null,null,null,null,null,0,null,null,null,null,null,null,null,0,null,null,null,null,null,null,null,96,null,null,null,null,null,null,null,43,null,null,null,null,null,null,null,60.2,null,null,null,null,null,null,null,35.799999999999997]
[null,null,null,null,null,null,null,null,null,null,null,null,null,null,null,null,null,261,null,null,null,null,null,null,null,171,null,null,null,null,null,null,null,90,null,null,null,null,null,null,null,0,null,null,null,null,null,null,null,56,null,null,null,null,null,null,null,171,null,null,null,null,null,null,null,26,null,null,null,null,null,null,null,0,null,null,null,null,null,null,null,59,null,null,null,null,null,null,null,null,null,null,null,null,null,null,null,null,null,null,null,null,null,null,null,85,null,null,null,null,null,null,null,110.5,null,null,null,null,null,null,null,60.5,null,null,null,null,null,null,null,0,null,null,null,null,null,null,null,0,null,null,null,null,null,null,null,90,null,null,null,null,null,null,null,39,null,null,null,null,null,null,null,54.6,null,null,null,null,null,null,null,35.4]
[null,null,91525]
[null,null,null,null,null,null,null,null,null,null,null,null,null,null,null,null,null,272,null,null,null,null,null,null,null,192,null,null,null,null,null,null,null,79,null,null,null,null,null,null,null,0,null,null,null,null,null,null,null,62,null,null,null,null,null,null,null,192,null,null,null,null,null,null,null,16,null,null,null,null,null,null,null,0,null,null,null,null,null,null,null,54,null,null,null,null,null,null,null,null,null,null,null,null,null,null,null,null,null,null,null,null,null,null,null,70,null,null,null,null,null,null,null,91,null,null,null,null,null,null,null,101,null,null,null,null,null,null,null,0,null,null,null,null,null,null,null,0,null,null,null,null,null,null,null,79,null,null,null,null,null,null,null,32,null,null,null,null,null,null,null,44.8,null,null,null,null,null,null,null,34.200000000000003]
[null,null,null,null,null,null,null,null,null,null,null,null,null,null,null,null,null,171,null,null,null,null,null,null,null,130,null,null,null,null,null,null,null,40,null,null,null,null,null,null,null,0,null,null,null,null,null,null,null,39,null,null,null,null,null,null,null,130,null,null,null,null,null,null,null,4,null,null,null,null,null,null,null,0,null,null,null,null,null,null,null,26,null,null,null,null,null,null,null,null,null,null,null,null,null,null,null,null,null,null,null,null,null,null,null,30,null,null,null,null,null,null,null,39,null,null,null,null,null,null,null,91,null,null,null,null,null,null,null,0,null,null,null,null,null,null,null,0,null,null,null,null,null,null,null,40,null,null,null,null,null,null,null,14,null,null,null,null,null,null,null,19.600000000000001,null,null,null,null,null,null,null,20.399999999999999]
[null,null,91625]
[null,null,91650]
[null,null,null,null,null,null,null,null,null,null,null,null,null,null,null,null,null,232,null,null,null,null,null,null,null,172,null,null,null,null,null,null,null,60,null,null,null,null,null,null,null,0,null,null,null,null,null,null,null,47,null,null,null,null,null,null,null,172,null,null,null,null,null,null,null,0,null,null,null,null,null,null,null,0,null,null,null,null,null,null,null,5,null,null,null,null,null,null,null,null,null,null,null,null,null,null,null,null,null,null,null,null,null,null,null,5,null,null,null,null,null,null,null,6.5,null,null,null,null,null,null,null,165.5,null,null,null,null,null,null,null,0,null,null,null,null,null,null,null,0,null,null,null,null,null,null,null,60,null,null,null,null,null,null,null,19,null,null,null,null,null,null,null,26.6,null,null,null,null,null,null,null,33.4]
[null,null,91745]
[null,null,null,null,null,null,null,null,null,null,null,null,null,null,null,null,null,18,null,null,null,null,null,null,null,4,null,null,null,null,null,null,null,14,null,null,null,null,null,null,null,0,null,null,null,null,null,null,null,0,null,null,null,null,null,null,null,4,null,null,null,null,null,null,null,0,null,null,null,null,null,null,null,0,null,null,null,null,null,null,null,2,null,null,null,null,null,null,null,null,null,null,null,null,null,null,null,null,null,null,null,null,null,null,null,2,null,null,null,null,null,null,null,2.6,null,null,null,null,null,null,null,1.4,null,null,null,null,null,null,null,0,null,null,null,null,null,null,null,0,null,null,null,null,null,null,null,14,null,null,null,null,null,null,null,0,null,null,null,null,null,null,null,0,null,null,null,null,null,null,null,14]
[null,null,null,null,null,null,null,null,null,null,null,null,null,null,null,null,null,16,null,null,null,null,null,null,null,4,null,null,null,null,null,null,null,12,null,null,null,null,null,null,null,0,null,null,null,null,null,null,null,0,null,null,null,null,null,null,null,4,null,null,null,null,null,null,null,0,null,null,null,null,null,null,null,0,null,null,null,null,null,null,null,null,null,null,null,null,null,null,null,null,null,null,null,null,null,null,null,null,null,null,null,null,null,null,null,0,null,null,null,null,null,null,null,0,null,null,null,null,null,null,null,4,null,null,null,null,null,null,null,0,null,null,null,null,null,null,null,0,null,null,null,null,null,null,null,12,null,null,null,null,null,null,null,0,null,null,null,null,null,null,null,0,null,null,null,null,null,null,null,12]
[null,null,91875]
[null,null,91900]
[null,null,null,null,null,null,null,null,null,null,null,null,null,null,null,null,null,19,null,null,null,null,null,null,null,5,null,null,null,null,null,null,null,14,null,null,null,null,null,null,null,0,null,null,null,null,null,null,null,0,null,null,null,null,null,null,null,5,null,null,null,null,null,null,null,0,null,null,null,null,null,null,null,0,null,null,null,null,null,null,null,null,null,null,null,null,null,null,null,null,null,null,null,null,null,null,null,null,null,null,null,null,null,null,null,0,null,null,null,null,null,null,null,0,null,null,null,null,null,null,null,5,null,null,null,null,null,null,null,0,null,null,null,null,null,null,null,0,null,null,null,null,null,null,null,14,null,null,null,null,null,null,null,0,null,null,null,null,null,null,null,0,null,null,null,null,null,null,null,14]
[null,null,null,null,null,null,null,null,null,null,null,null,null,null,null,null,null,20,null,null,null,null,null,null,null,5,null,null,null,null,null,null,null,15,null,null,null,null,null,null,null,0,null,null,null,null,null,null,null,0,null,null,null,null,null,null,null,5,null,null,null,null,null,null,null,0,null,null,null,null,null,null,null,0,null,null,null,null,null,null,null,null,null,null,null,null,null,null,null,null,null,null,null,null,null,null,null,null,null,null,null,null,null,null,null,0,null,null,null,null,null,null,null,0,null,null,null,null,null,null,null,5,null,null,null,null,null,null,null,0,null,null,null,null,null,null,null,0,null,null,null,null,null,null,null,15,null,null,null,null,null,null,null,0,null,null,null,null,null,null,null,0,null,null,null,null,null,null,null,15]
[null,null,92007.2]
[null,null,null,null,null,null,null,null,null,null,null,null,null,null,null,null,null,25317,null,null,null,null,null,null,null,12197,null,null,null,null,null,null,null,13117,null,null,null,null,null,null,null,0,null,null,null,null,null,null,null,4157,null,null,null,null,null,null,null,12197,null,null,null,null,null,null,null,33494,null,null,null,null,null,null,null,2422,null,null,null,null,null,null,null,10019,null,null,null,null,null,null,null,1130,null,null,null,null,null,null,null,1245,null,null,null,null,null,null,null,48310,null,null,null,null,null,null,null,62803.000000000015,null,null,null,null,null,null,null,-50606.000000000007,null,null,null,null,null,null,null,16595.799999999996,null,null,null,null,null,null,null,40445.600000000013,null,null,null,null,null,null,null,13117,null,null,null,null,null,null,null,5952,null,null,null,null,null,null,null,8332.7999999999993,null,null,null,null,null,null,null,4784.199999999998]
[]
[]
[]
[]
[]
[]
[]
[]
[null,"","",null,null,null,null,null,null,null,null,null,null,null,null,null,null,"",null,null,null,null,null,null,null,"",null,null,null,null,null,null,null,"",null,null,null,null,null,null,null,"",null,null,null,null,null,null,null,"",null,null,null,null,null,null,null,"",null,null,null,null,null,null,null,"",null,null,null,null,null,null,null,"",null,null,null,null,null,null,null,"",null,null,null,null,null,null,null,null,null,null,null,null,null,null,null,"",null,null,null,null,null,null,null,"",null,null,null,null,null,null,null,null,null,null,null,null,null,null,null,"",null,null,null,null,null,null,null,null,null,null,null,null,null,null,null,null,"",null,null,null,null,null,null,null,null,null,null,null,null,null,null,"",null,null,null,null,null,null,null,"",null,null,null,null,null,null,null,"",null,null,null,null,null,null,null,"",null,null,null,null,null,null,null,"",null,null,null,null,null,null,null,""]
[]
[null,null,null,null,null,null,null,null,null,null,null,null,null,null,null,null,null,null,null,null,null,null,null,null,null,null,null,null,null,null,null,null,null,null,null,null,null,null,null,null,null,null,null,null,null,null,null,null,null,null,null,null,null,null,null,null,null,null,null,null,null,null,null,null,null,null,null,null,null,null,null,null,null,null,null,null,null,null,null,null,null,null,null,null,null,null,null,null,null,null,null,null,null,null,null,null,null,null,null,null,null,null,null,null,null,null,null,null,null,null,null,null,null,null,null,null,null,null,null,null,null,null,null,null,null,null,null,null,null,null,null,null,null,null,null,null,null,null,null,null,null,null,null,null,null,null,null,null,null,null,null,null,null,null,null,null,null,null,null,null,null,null,null,null,null,null,null,null,null,null,null,null,null,null,null,null,null,null,null,null,null,null,null,null,null,null,null,null,null,null,null,null,null,""]
[null,null,null,null,null,null,null,null,null,null,null,null,null,null,null,null,null,null,null,null,null,null,null,null,null,"",null,null,null,null,null,null,null,"",null,null,null,null,null,null,null,"",null,null,null,null,null,null,null,"",null,null,null,null,null,null,null,"",null,null,null,null,null,null,null,"",null,null,null,null,null,null,null,"",null,null,null,null,null,null,null,"",null,null,null,null,null,null,null,null,null,null,null,null,null,null,null,"",null,null,null,null,null,null,null,"",null,null,null,null,null,null,null,null,null,null,null,null,null,null,null,"",null,null,null,null,null,null,null,null,null,null,null,null,null,null,null,null,"",null,null,null,null,null,null,null,null,null,null,null,null,null,null,"",null,null,null,null,null,null,null,null,null,null,null,null,null,null,null,"",null,null,null,null,null,null,null,"",null,null,null,null,null,null,null,"",null,null,null,null,null,null,null,""]
[]
[null,null,null,null,null,null,null,null,null,null,null,null,null,null,null,null,null,"[1]",null,null,null,null,null,null,null,"[2]",null,null,null,null,null,null,null,"[3]",null,null,null,null,null,null,null,"[4]",null,null,null,null,null,null,null,"[5]",null,null,null,null,null,null,null,"[6]",null,null,null,null,null,null,null,"[7]",null,null,null,null,null,null,null,"[8]",null,null,null,null,null,null,null,"[9]",null,null,null,null,null,null,null,"[10]",null,null,null,null,null,null,null,"[11]",null,null,null,null,null,null,null,"[12]",null,null,null,null,null,null,null,"[13]",null,null,null,null,null,null,null,"[14]",null,null,null,null,null,null,null,"[15]",null,null,null,null,null,null,null,"[16]",null,null,null,null,null,null,null,"[17]",null,null,null,null,null,null,null,"[18]",null,null,null,null,null,null,null,"[19]",null,null,null,null,null,null,null,"[20]",null,null,null,null,null,null,null,"[21]",null,null,null,null,null,null,null,"[22]"]
[]
[]
[]
[]
[]
[]
[]
[null,null,null,null,null,null,null,null,null,null,null,null,null,null,null,null,null,76,null,null,null,null,null,null,null,35,null,null,null,null,null,null,null,41,null,null,null,null,null,null,null,0,null,null,null,null,null,null,null,22,null,null,null,null,null,null,null,35,null,null,null,null,null,null,null,7,null,null,null,null,null,null,null,0,null,null,null,null,null,null,null,34,null,null,null,null,null,null,null,null,null,null,null,null,null,null,null,null,null,null,null,null,null,null,null,41,null,null,null,null,null,null,null,53.3,null,null,null,null,null,null,null,-18.3,null,null,null,null,null,null,null,0,null,null,null,null,null,null,null,0,null,null,null,null,null,null,null,41,null,null,null,null,null,null,null,19,null,null,null,null,null,null,null,26.6,null,null,null,null,null,null,null,14.4]
[null,null,91625]
[null,null,null,null,null,null,null,null,null,null,null,null,null,null,null,null,null,87,null,null,null,null,null,null,null,41,null,null,null,null,null,null,null,45,null,null,null,null,null,null,null,0,null,null,null,null,null,null,null,17,null,null,null,null,null,null,null,41,null,null,null,null,null,null,null,16,null,null,null,null,null,null,null,0,null,null,null,null,null,null,null,30,null,null,null,null,null,null,null,null,null,null,null,null,null,null,null,null,null,null,null,null,null,null,null,46,null,null,null,null,null,null,null,59.8,null,null,null,null,null,null,null,-18.8,null,null,null,null,null,null,null,0,null,null,null,null,null,null,null,0,null,null,null,null,null,null,null,45,null,null,null,null,null,null,null,19,null,null,null,null,null,null,null,26.6,null,null,null,null,null,null,null,18.399999999999999]
[null,null,null,null,null,null,null,null,null,null,null,null,null,null,null,null,null,86,null,null,null,null,null,null,null,40,null,null,null,null,null,null,null,46,null,null,null,null,null,null,null,0,null,null,null,null,null,null,null,17,null,null,null,null,null,null,null,40,null,null,null,null,null,null,null,8,null,null,null,null,null,null,null,0,null,null,null,null,null,null,null,31,null,null,null,null,null,null,null,null,null,null,null,null,null,null,null,null,null,null,null,null,null,null,null,39,null,null,null,null,null,null,null,50.7,null,null,null,null,null,null,null,-10.7,null,null,null,null,null,null,null,0,null,null,null,null,null,null,null,0,null,null,null,null,null,null,null,46,null,null,null,null,null,null,null,23,null,null,null,null,null,null,null,32.200000000000003,null,null,null,null,null,null,null,13.8]
[null,null,null,null,null,null,null,null,null,null,null,null,null,null,null,null,null,82,null,null,null,null,null,null,null,40,null,null,null,null,null,null,null,42,null,null,null,null,null,null,null,0,null,null,null,null,null,null,null,17,null,null,null,null,null,null,null,40,null,null,null,null,null,null,null,7,null,null,null,null,null,null,null,0,null,null,null,null,null,null,null,30,null,null,null,null,null,null,null,null,null,null,null,null,null,null,null,null,null,null,null,null,null,null,null,37,null,null,null,null,null,null,null,48.1,null,null,null,null,null,null,null,-8.1,null,null,null,null,null,null,null,0,null,null,null,null,null,null,null,0,null,null,null,null,null,null,null,42,null,null,null,null,null,null,null,21,null,null,null,null,null,null,null,29.4,null,null,null,null,null,null,null,12.6]
[null,null,91800]
[null,null,null,null,null,null,null,null,null,null,null,null,null,null,null,null,null,9,null,null,null,null,null,null,null,7,null,null,null,null,null,null,null,2,null,null,null,null,null,null,null,0,null,null,null,null,null,null,null,3,null,null,null,null,null,null,null,7,null,null,null,null,null,null,null,0,null,null,null,null,null,null,null,0,null,null,null,null,null,null,null,null,null,null,null,null,null,null,null,null,null,null,null,null,null,null,null,null,null,null,null,null,null,null,null,0,null,null,null,null,null,null,null,0,null,null,null,null,null,null,null,7,null,null,null,null,null,null,null,0,null,null,null,null,null,null,null,0,null,null,null,null,null,null,null,2,null,null,null,null,null,null,null,1,null,null,null,null,null,null,null,1.4,null,null,null,null,null,null,null,0.6]
[null,null,"US_34_RAMP"]
[]
[]
[]
[]
[]
[]
[]
[]
[]
[]
[]
[]
[]
[]
[]
[]
[]
[]
[]
[]
[]
[]
[]
[]
[]
[]
[]
[]
[]
[]
[]
[]
[]
[null,"7/17/2019     11:14:27 AM     dhain     c:\\pw_work\\pwmain\\dhain\\d0824036\\90063155_T03.xlsm"]
[]
[null,null,null,null,null,null,null,null,null,null,null,null,null,null,null,null,null,"Cut",null,null,null,null,null,null,null,null,null,null,null,null,null,null,null,null,null,null,null,null,null,null,null,null,null,null,null,null,null,null,null,null,null,null,null,null,null,null,null,null,null,null,null,null,null,null,null,"Fill",null,null,null,null,null,null,null,null,null,null,null,null,null,null,null,null,null,null,null,null,null,null,null,null,null,null,null,null,null,null,null,null,null,null,null,null,null,null,null,null,null,null,null,null,null,null,null,null,null,null,null,null,null,null,null,null,null,null,null,null,null,null,null,"Checks (EW-102)",null,null,null,null,null,null,null,null,null,null,null,null,null,null,null,"Topsoil"]
[]
[]
[]
[]
[]
[]
[]
[null,null,"STG2_Trail"]
[null,null,881425]
[null,null,null,null,null,null,null,null,null,null,null,null,null,null,null,null,null,51,null,null,null,null,null,null,null,26,null,null,null,null,null,null,null,25,null,null,null,null,null,null,null,0,null,null,null,null,null,null,null,20,null,null,null,null,null,null,null,26,null,null,null,null,null,null,null,53,null,null,null,null,null,null,null,0,null,null,null,null,null,null,null,16,null,null,null,null,null,null,null,5,null,null,null,null,null,null,null,null,null,null,null,null,null,null,null,74,null,null,null,null,null,null,null,96.2,null,null,null,null,null,null,null,-70.2,null,null,null,null,null,null,null,0,null,null,null,null,null,null,null,0,null,null,null,null,null,null,null,25,null,null,null,null,null,null,null,25,null,null,null,null,null,null,null,35,null,null,null,null,null,null,null,-10]
[null,null,null,null,null,null,null,null,null,null,null,null,null,null,null,null,null,48,null,null,null,null,null,null,null,24,null,null,null,null,null,null,null,24,null,null,null,null,null,null,null,0,null,null,null,null,null,null,null,20,null,null,null,null,null,null,null,24,null,null,null,null,null,null,null,51,null,null,null,null,null,null,null,0,null,null,null,null,null,null,null,16,null,null,null,null,null,null,null,5,null,null,null,null,null,null,null,null,null,null,null,null,null,null,null,72,null,null,null,null,null,null,null,93.6,null,null,null,null,null,null,null,-69.599999999999994,null,null,null,null,null,null,null,0,null,null,null,null,null,null,null,0,null,null,null,null,null,null,null,24,null,null,null,null,null,null,null,24,null,null,null,null,null,null,null,33.6,null,null,null,null,null,null,null,-9.6]
[null,null,881550]
[null,null,null,null,null,null,null,null,null,null,null,null,null,null,null,null,null,37,null,null,null,null,null,null,null,13,null,null,null,null,null,null,null,24,null,null,null,null,null,null,null,0,null,null,null,null,null,null,null,18,null,null,null,null,null,null,null,13,null,null,null,null,null,null,null,58,null,null,null,null,null,null,null,0,null,null,null,null,null,null,null,16,null,null,null,null,null,null,null,8,null,null,null,null,null,null,null,null,null,null,null,null,null,null,null,82,null,null,null,null,null,null,null,106.6,null,null,null,null,null,null,null,-93.6,null,null,null,null,null,null,null,0,null,null,null,null,null,null,null,0,null,null,null,null,null,null,null,24,null,null,null,null,null,null,null,25,null,null,null,null,null,null,null,35,null,null,null,null,null,null,null,-11]
[null,null,null,null,null,null,null,null,null,null,null,null,null,null,null,null,null,37,null,null,null,null,null,null,null,11,null,null,null,null,null,null,null,26,null,null,null,null,null,null,null,0,null,null,null,null,null,null,null,18,null,null,null,null,null,null,null,11,null,null,null,null,null,null,null,57,null,null,null,null,null,null,null,0,null,null,null,null,null,null,null,18,null,null,null,null,null,null,null,8,null,null,null,null,null,null,null,null,null,null,null,null,null,null,null,83,null,null,null,null,null,null,null,107.9,null,null,null,null,null,null,null,-96.9,null,null,null,null,null,null,null,0,null,null,null,null,null,null,null,0,null,null,null,null,null,null,null,26,null,null,null,null,null,null,null,26,null,null,null,null,null,null,null,36.4,null,null,null,null,null,null,null,-10.4]
[null,null,null,null,null,null,null,null,null,null,null,null,null,null,null,null,null,41,null,null,null,null,null,null,null,12,null,null,null,null,null,null,null,29,null,null,null,null,null,null,null,0,null,null,null,null,null,null,null,19,null,null,null,null,null,null,null,12,null,null,null,null,null,null,null,51,null,null,null,null,null,null,null,0,null,null,null,null,null,null,null,21,null,null,null,null,null,null,null,7,null,null,null,null,null,null,null,null,null,null,null,null,null,null,null,79,null,null,null,null,null,null,null,102.7,null,null,null,null,null,null,null,-90.7,null,null,null,null,null,null,null,0,null,null,null,null,null,null,null,0,null,null,null,null,null,null,null,29,null,null,null,null,null,null,null,29,null,null,null,null,null,null,null,40.6,null,null,null,null,null,null,null,-11.6]
[null,null,881725]
[null,null,null,null,null,null,null,null,null,null,null,null,null,null,null,null,null,59,null,null,null,null,null,null,null,21,null,null,null,null,null,null,null,38,null,null,null,null,null,null,null,0,null,null,null,null,null,null,null,19,null,null,null,null,null,null,null,21,null,null,null,null,null,null,null,81,null,null,null,null,null,null,null,0,null,null,null,null,null,null,null,24,null,null,null,null,null,null,null,7,null,null,null,null,null,null,null,null,null,null,null,null,null,null,null,112,null,null,null,null,null,null,null,145.6,null,null,null,null,null,null,null,-124.6,null,null,null,null,null,null,null,0,null,null,null,null,null,null,null,0,null,null,null,null,null,null,null,38,null,null,null,null,null,null,null,35,null,null,null,null,null,null,null,49,null,null,null,null,null,null,null,-11]
[null,null,881800]
[null,null,881850]
[null,null,null,null,null,null,null,null,null,null,null,null,null,null,null,null,null,159,null,null,null,null,null,null,null,106,null,null,null,null,null,null,null,53,null,null,null,null,null,null,null,0,null,null,null,null,null,null,null,25,null,null,null,null,null,null,null,106,null,null,null,null,null,null,null,66,null,null,null,null,null,null,null,0,null,null,null,null,null,null,null,24,null,null,null,null,null,null,null,1,null,null,null,null,null,null,null,null,null,null,null,null,null,null,null,91,null,null,null,null,null,null,null,118.3,null,null,null,null,null,null,null,-12.3,null,null,null,null,null,null,null,0,null,null,null,null,null,null,null,0,null,null,null,null,null,null,null,53,null,null,null,null,null,null,null,45,null,null,null,null,null,null,null,63,null,null,null,null,null,null,null,-10]
[null,null,881940]
[null,null,"STG2_Trail"]
[]
[]
[]
[]
[]
[]
[]
[]
[]
[]
[]
[]
[]
[]
[]
[]
[]
[]
[]
[]
[]
[]
[]
[]
[]
[null,"FILE NO.",null,null,null,null,null,null,{"$f":"IF(ProjectInformation!$B$12<>\"\",ProjectInformation!$B$12,\"\")","v":29590},null,null,null,null,null,null,{"$f":"UPPER(ProjectInformation!$B$8)","v":"ENGLISH"},null,null,null,null,null,null,"DESIGN TEAM",null,null,null,null,null,null,null,null,{"$f":"IF(AND(ProjectInformation!$B$3<>\"\",ProjectInformation!$B$4<>\"\",ProjectInformation!$B$5<>\"\"),ProjectInformation!$B$3&\"\\\"&ProjectInformation!$B$4&\"\\\"&ProjectInformation!$B$5,IF(AND(ProjectInformation!$B$3<>\"\",ProjectInformation!$B$4<>\"\"),ProjectInformation!$B$3&\"\\\"&ProjectInformation!$B$4,IF(ProjectInformation!$B$3<>\"\",ProjectInformation!$B$3,\"\")))","v":"Flattery\\Bell\\Hain"},null,null,null,null,null,null,null,null,null,null,null,null,null,null,null,null,null,null,null,null,null,null,null,null,null,null,null,null,null,null,null,null,null,null,null,null,null,null,null,null,null,{"$f":"IF(ProjectInformation!$B$6<>\"\",ProjectInformation!$B$6,\"\")","v":"WAPELLO"},null,null,null,null,null,null,null,null,null,null,null,null,null,null,null,null,null,null,null,null,null,null,null,null,null,null,null,null,null,null,null,null,null,null,null,null,null,null,null,null,"COUNTY",null,null,null,null,null,"PROJECT NUMBER",null,null,null,null,null,null,null,null,null,null,null,{"$f":"IF(ProjectInformation!$B$7<>\"\",ProjectInformation!$B$7,\"\")","v":"NHSX-063-2(155)--3H-90"},null,null,null,null,null,null,null,null,null,null,null,null,null,null,null,null,null,null,null,null,null,null,null,null,null,null,null,null,null,"SHEET NUMBER",null,null,null,null,null,null,null,null,null,"T.13",null,null,null,null,null,null,null,{"$f":"IF(GE2052<>\"\",\"REVISED\",\"\")","v":""},null,null,null,null,null,{"$f":"IF(ProjectInformation!$B$9<>\"\",ProjectInformation!$B$9,\"\")","v":""}]
[]
[""]
[null,null,"Refer to Standard Road Plans EW-101 and EW-102.",null,null,null,null,null,null,null,null,null,null,null,null,null,null,null,null,null,null,null,null,null,null,null,null,null,null,null,null,null,null,null,null,null,null,null,null,null,null,null,null,null,null,null,null,null,null,null,null,null,null,null,null,null,null,null,"TABULATION OF TEMPLATE QUANTITIES AND ADJUSTMENTS",null,null,null,null,null,null,null,null,null,null,null,null,null,null,null,null,null,null,null,null,null,null,null,null,null,null,null,null,null,null,null,null,null,null,null,null,null,null,null,null,null,null,null,null,null,null,null,null,null,null,null,null,null,null,null,null,null,null,null,null,null,null,null,null,null,null,null,null,null,null,null,null,null,null,null,null,null,null,"107-28"]
[null,null,null,null,null,null,null,null,null,null,null,null,null,null,null,null,null,"Cut",null,null,null,null,null,null,null,null,null,null,null,null,null,null,null,null,null,null,null,null,null,null,null,null,null,null,null,null,null,null,null,null,null,null,null,null,null,null,null,null,null,null,null,null,null,null,null,"Fill",null,null,null,null,null,null,null,null,null,null,null,null,null,null,null,null,null,null,null,null,null,null,null,null,null,null,null,null,null,null,null,null,null,null,null,null,null,null,null,null,null,null,null,null,null,null,null,null,null,null,null,null,null,null,null,null,null,null,null,null,null,null,null,"Checks (EW-102)",null,null,null,null,null,null,null,null,null,null,null,null,null,null,null,"Topsoil"]
[]
[]
[null,null,"Station",null,null,null,null,null,null,null,null,null,null,null,null,null,null,"Total Cut Unadjusted\n\nVolume",null,null,null,null,null,null,null,"Total Class 10\nUnadjusted\n\nVolume",null,null,null,null,null,null,null,"Topsoil Cut\n\nVolume",null,null,null,null,null,null,null,"Template\nUnsuitable\nType B\nVolume",null,null,null,null,null,null,null,"Template\nPavement\nRemoval\nVolume",null,null,null,null,null,null,null,"Total\nCut\nAdjusted",null,null,null,null,null,null,null,"Total Fill\nUnadjusted\n\nVolume",null,null,null,null,null,null,null,"Plowing &\nShaping\nUndercut\n(+ Fill)",null,null,null,null,null,null,null,"Existing Topsoil\nStripping\nUndercut\n(+ Fill)",null,null,null,null,null,null,null,"Existing\nPavement\nUndercut\n(+Fill)",null,null,null,null,null,null,null,"Manually\nCalculated Fill\nAdjustments\n(+/- Fill)",null,null,null,null,null,null,null,"Total\nFill\nAdjusted",null,null,null,null,null,null,null,"Total Fill\n Adjusted w/\nWeighted Average\n1.3  Shrink Factor",null,null,null,null,null,null,null,"Total Cut Adjusted\nMinus Fill w/ Shrink",null,null,null,null,null,null,null,"Approx. Fill Vol.\nBelow 5' & Above\n20' w/ Shrink",null,null,null,null,null,null,null,"Approx. Fill\nVolume Below 3'\nw/ Shrink",null,null,null,null,null,null,null,"Topsoil\nStripping Undercut\nVolume",null,null,null,null,null,null,null,"Topsoil\nPlacement\nUndercut\nVolume",null,null,null,null,null,null,null,"Topsoil Placement\nWith 1.4 Shrink\nFactor",null,null,null,null,null,null,null,"Topsoil Stripping\nMinus Topsoil\nPlacement\nw/Shrink"]
[]
[]
[]
[]
[null,null,"Mary_St"]
[null,null,null,null,null,null,null,null,null,null,null,null,null,null,null,null,null,55,null,null,null,null,null,null,null,34,null,null,null,null,null,null,null,21,null,null,null,null,null,null,null,0,null,null,null,null,null,null,null,37,null,null,null,null,null,null,null,34,null,null,null,null,null,null,null,9,null,null,null,null,null,null,null,0,null,null,null,null,null,null,null,13,null,null,null,null,null,null,null,null,null,null,null,null,null,null,null,null,null,null,null,null,null,null,null,22,null,null,null,null,null,null,null,28.6,null,null,null,null,null,null,null,5.4,null,null,null,null,null,null,null,0,null,null,null,null,null,null,null,0,null,null,null,null,null,null,null,21,null,null,null,null,null,null,null,0,null,null,null,null,null,null,null,0,null,null,null,null,null,null,null,21]
[null,null,896875]
[null,null,896900]
[null,null,null,null,null,null,null,null,null,null,null,null,null,null,null,null,null,110,null,null,null,null,null,null,null,36,null,null,null,null,null,null,null,74,null,null,null,null,null,null,null,0,null,null,null,null,null,null,null,38,null,null,null,null,null,null,null,36,null,null,null,null,null,null,null,16,null,null,null,null,null,null,null,0,null,null,null,null,null,null,null,45,null,null,null,null,null,null,null,null,null,null,null,null,null,null,null,null,null,null,null,null,null,null,null,61,null,null,null,null,null,null,null,79.3,null,null,null,null,null,null,null,-43.3,null,null,null,null,null,null,null,0,null,null,null,null,null,null,null,0,null,null,null,null,null,null,null,74,null,null,null,null,null,null,null,38,null,null,null,null,null,null,null,53.2,null,null,null,null,null,null,null,20.8]
[null,null,null,null,null,null,null,null,null,null,null,null,null,null,null,null,null,40,null,null,null,null,null,null,null,14,null,null,null,null,null,null,null,27,null,null,null,null,null,null,null,0,null,null,null,null,null,null,null,4,null,null,null,null,null,null,null,14,null,null,null,null,null,null,null,7,null,null,null,null,null,null,null,0,null,null,null,null,null,null,null,17,null,null,null,null,null,null,null,null,null,null,null,null,null,null,null,null,null,null,null,null,null,null,null,24,null,null,null,null,null,null,null,31.2,null,null,null,null,null,null,null,-17.2,null,null,null,null,null,null,null,0,null,null,null,null,null,null,null,0,null,null,null,null,null,null,null,27,null,null,null,null,null,null,null,13,null,null,null,null,null,null,null,18.2,null,null,null,null,null,null,null,8.8000000000000007]
[null,null,896980.75]
[]
[]
[]
[]
[]
[]
[]
[]
[]
[]
[]
[]
[]
[]
[]
[]
[]
[]
[]
[]
[]
[]
[]
[]
[]
[]
[]
[]
[]
[]
[]
[]
[]
[null,"FILE NO.",null,null,null,null,null,null,{"$f":"IF(ProjectInformation!$B$12<>\"\",ProjectInformation!$B$12,\"\")","v":29590},null,null,null,null,null,null,{"$f":"UPPER(ProjectInformation!$B$8)","v":"ENGLISH"},null,null,null,null,null,null,"DESIGN TEAM",null,null,null,null,null,null,null,null,{"$f":"IF(AND(ProjectInformation!$B$3<>\"\",ProjectInformation!$B$4<>\"\",ProjectInformation!$B$5<>\"\"),ProjectInformation!$B$3&\"\\\"&ProjectInformation!$B$4&\"\\\"&ProjectInformation!$B$5,IF(AND(ProjectInformation!$B$3<>\"\",ProjectInformation!$B$4<>\"\"),ProjectInformation!$B$3&\"\\\"&ProjectInformation!$B$4,IF(ProjectInformation!$B$3<>\"\",ProjectInformation!$B$3,\"\")))","v":"Flattery\\Bell\\Hain"},null,null,null,null,null,null,null,null,null,null,null,null,null,null,null,null,null,null,null,null,null,null,null,null,null,null,null,null,null,null,null,null,null,null,null,null,null,null,null,null,null,{"$f":"IF(ProjectInformation!$B$6<>\"\",ProjectInformation!$B$6,\"\")","v":"WAPELLO"},null,null,null,null,null,null,null,null,null,null,null,null,null,null,null,null,null,null,null,null,null,null,null,null,null,null,null,null,null,null,null,null,null,null,null,null,null,null,null,null,"COUNTY",null,null,null,null,null,"PROJECT NUMBER",null,null,null,null,null,null,null,null,null,null,null,{"$f":"IF(ProjectInformation!$B$7<>\"\",ProjectInformation!$B$7,\"\")","v":"NHSX-063-2(155)--3H-90"},null,null,null,null,null,null,null,null,null,null,null,null,null,null,null,null,null,null,null,null,null,null,null,null,null,null,null,null,null,"SHEET NUMBER",null,null,null,null,null,null,null,null,null,"T.14",null,null,null,null,null,null,null,{"$f":"IF(GE2239<>\"\",\"REVISED\",\"\")","v":""},null,null,null,null,null,{"$f":"IF(ProjectInformation!$B$9<>\"\",ProjectInformation!$B$9,\"\")","v":""}]
[""]
[null,null,null,null,null,null,null,null,null,null,null,null,null,null,null,null,null,null,null,null,null,null,null,null,null,null,null,null,null,null,null,null,null,null,null,null,null,null,null,null,null,null,null,null,null,null,null,null,null,null,null,null,null,null,null,null,null,null,null,null,null,null,null,null,null,null,null,null,null,null,null,null,null,null,null,null,null,null,null,null,null,null,null,null,null,null,null,null,null,null,null,null,null,null,null,null,null,null,null,null,null,null,null,null,null,null,null,null,null,null,null,null,null,null,null,null,null,null,null,null,null,null,null,null,null,null,null,null,null,null,null,null,null,null,null,null,null,null,null,null,null,null,null,null,null,null,null,null,null,null,null,null,null,null,null,null,null,null,null,null,null,null,null,null,null,null,null,null,null,null,null,null,null,null,null,null,null,null,null,null,null,null,null,null,null,null,null,null,null,null,null,null,null,""]
[null,null,null,null,null,null,null,null,null,null,null,null,null,null,null,null,null,null,null,null,null,null,null,null,null,null,null,null,null,null,null,null,null,null,null,null,null,null,null,null,null,null,null,null,null,null,null,null,null,null,null,null,null,null,null,null,null,null,null,null,null,null,null,null,null,null,null,null,null,null,null,null,null,null,null,null,null,null,null,null,null,null,null,null,null,null,null,null,null,null,null,null,null,null,null,null,null,null,null,null,null,null,null,null,null,null,null,null,null,null,null,null,null,null,null,null,null,null,null,null,null,null,null,null,null,null,null,null,null,null,null,null,null,null,null,null,null,"2015-04-21"]
[]
[null,null,null,null,null,null,null,null,null,null,null,null,null,null,null,null,null,{"$f":"IF('107_28'!$R$15<>\"\",'107_28'!$R$15,\"\")","v":""},null,null,null,null,null,null,null,{"$f":"IF('107_28'!$Z$15<>\"\",'107_28'!$Z$15,\"\")","v":""},null,null,null,null,null,null,null,{"$f":"IF('107_28'!$AH$15<>\"\",'107_28'!$AH$15,\"\")","v":""},null,null,null,null,null,null,null,{"$f":"IF('107_28'!$AP$15<>\"\",'107_28'!$AP$15,\"\")","v":""},null,null,null,null,null,null,null,{"$f":"IF('107_28'!$AX$15<>\"\",'107_28'!$AX$15,\"\")","v":""},null,null,null,null,null,null,null,{"$f":"IF('107_28'!$BF$15<>\"\",'107_28'!$BF$15,\"\")","v":"[2]+[4]"},null,null,null,null,null,null,null,{"$f":"IF('107_28'!$BN$15<>\"\",'107_28'!$BN$15,\"\")","v":""},null,null,null,null,null,null,null,{"$f":"IF('107_28'!$BV$15<>\"\",'107_28'!$BV$15,\"\")","v":""},null,null,null,null,null,null,null,{"$f":"IF('107_28'!$CD$15<>\"\",'107_28'!$CD$15,\"\")","v":""},null,null,null,null,null,null,null,{"$f":"IF('107_28'!$CL$15<>\"\",'107_28'!$CL$15,\"\")","v":""},null,null,null,null,null,null,null,{"$f":"IF('107_28'!$CT$15<>\"\",'107_28'!$CT$15,\"\")","v":""},null,null,null,null,null,null,null,{"$f":"IF('107_28'!$DB$15<>\"\",'107_28'!$DB$15,\"\")","v":"[7]+[8]+[9]+  [10]+[11]"},null,null,null,null,null,null,null,{"$f":"IF('107_28'!$DJ$15<>\"\",'107_28'!$DJ$15,\"\")","v":"[12]*1.3"},null,null,null,null,null,null,null,{"$f":"IF('107_28'!$DR$15<>\"\",'107_28'!$DR$15,\"\")","v":"[6]-[13]"},null,null,null,null,null,null,null,{"$f":"IF('107_28'!$DZ$15<>\"\",'107_28'!$DZ$15,\"\")","v":""},null,null,null,null,null,null,null,{"$f":"IF('107_28'!$EH$15<>\"\",'107_28'!$EH$15,\"\")","v":""},null,null,null,null,null,null,null,{"$f":"IF('107_28'!$EP$15<>\"\",'107_28'!$EP$15,\"\")","v":""},null,null,null,null,null,null,null,{"$f":"IF('107_28'!$EX$15<>\"\",'107_28'!$EX$15,\"\")","v":""},null,null,null,null,null,null,null,{"$f":"IF('107_28'!$FF$15<>\"\",'107_28'!$FF$15,\"\")","v":"[17]*1.4"},null,null,null,null,null,null,null,{"$f":"IF('107_28'!$FN$15<>\"\",'107_28'!$FN$15,\"\")","v":"[17]-[19]"},null,null,null,null,null,null,null,{"$f":"IF('107_28'!$FV$15<>\"\",'107_28'!$FV$15,\"\")","v":""},null,null,null,null,null,null,null,{"$f":"IF('107_28'!$GD$15<>\"\",'107_28'!$GD$15,\"\")","v":""}]
[]
[]
[]
[]
[]
[]
[]
[]
[null,null,"Stage 1"]
[null,null,null,null,null,null,null,null,null,null,null,null,null,null,null,null,null,6119,null,null,null,null,null,null,null,2517,null,null,null,null,null,null,null,3601,null,null,null,null,null,null,null,0,null,null,null,null,null,null,null,0,null,null,null,null,null,null,null,2517,null,null,null,null,null,null,null,18232,null,null,null,null,null,null,null,0,null,null,null,null,null,null,null,2374,null,null,null,null,null,null,null,0,null,null,null,null,null,null,null,0,null,null,null,null,null,null,null,20606,null,null,null,null,null,null,null,26788,null,null,null,null,null,null,null,-24271,null,null,null,null,null,null,null,15784,null,null,null,null,null,null,null,23059,null,null,null,null,null,null,null,3601,null,null,null,null,null,null,null,1502,null,null,null,null,null,null,null,2103,null,null,null,null,null,null,null,1499]
[null,null,null,null,null,null,null,null,null,null,null,null,null,null,null,null,null,164,null,null,null,null,null,null,null,12,null,null,null,null,null,null,null,152,null,null,null,null,null,null,null,0,null,null,null,null,null,null,null,0,null,null,null,null,null,null,null,12,null,null,null,null,null,null,null,100,null,null,null,null,null,null,null,0,null,null,null,null,null,null,null,138,null,null,null,null,null,null,null,0,null,null,null,null,null,null,null,0,null,null,null,null,null,null,null,238,null,null,null,null,null,null,null,310,null,null,null,null,null,null,null,-298,null,null,null,null,null,null,null,0,null,null,null,null,null,null,null,0,null,null,null,null,null,null,null,152,null,null,null,null,null,null,null,45,null,null,null,null,null,null,null,63,null,null,null,null,null,null,null,89]
[null,null,"Stage 1"]
[]
[]
[null,null,"Stage 2"]
[]
[null,null,"STG2_US_63"]
[null,null,null,null,null,null,null,null,null,null,null,null,null,null,null,null,null,25317,null,null,null,null,null,null,null,12197,null,null,null,null,null,null,null,13117,null,null,null,null,null,null,null,0,null,null,null,null,null,null,null,4157,null,null,null,null,null,null,null,12197,null,null,null,null,null,null,null,33494,null,null,null,null,null,null,null,2422,null,null,null,null,null,null,null,10019,null,null,null,null,null,null,null,1130,null,null,null,null,null,null,null,1245,null,null,null,null,null,null,null,48310,null,null,null,null,null,null,null,62803,null,null,null,null,null,null,null,-50606,null,null,null,null,null,null,null,16596,null,null,null,null,null,null,null,40446,null,null,null,null,null,null,null,13117,null,null,null,null,null,null,null,5952,null,null,null,null,null,null,null,8333,null,null,null,null,null,null,null,4785]
[null,null,"US_34_RAMP"]
[null,null,null,null,null,null,null,null,null,null,null,null,null,null,null,null,null,809,null,null,null,null,null,null,null,394,null,null,null,null,null,null,null,413,null,null,null,null,null,null,null,0,null,null,null,null,null,null,null,178,null,null,null,null,null,null,null,394,null,null,null,null,null,null,null,91,null,null,null,null,null,null,null,0,null,null,null,null,null,null,null,287,null,null,null,null,null,null,null,0,null,null,null,null,null,null,null,0,null,null,null,null,null,null,null,378,null,null,null,null,null,null,null,492,null,null,null,null,null,null,null,-98,null,null,null,null,null,null,null,0,null,null,null,null,null,null,null,0,null,null,null,null,null,null,null,413,null,null,null,null,null,null,null,191,null,null,null,null,null,null,null,268,null,null,null,null,null,null,null,146]
[null,null,"STG2_Trail"]
[null,null,null,null,null,null,null,null,null,null,null,null,null,null,null,null,null,1403,null,null,null,null,null,null,null,671,null,null,null,null,null,null,null,730,null,null,null,null,null,null,null,0,null,null,null,null,null,null,null,418,null,null,null,null,null,null,null,671,null,null,null,null,null,null,null,1406,null,null,null,null,null,null,null,0,null,null,null,null,null,null,null,439,null,null,null,null,null,null,null,130,null,null,null,null,null,null,null,0,null,null,null,null,null,null,null,1975,null,null,null,null,null,null,null,2568,null,null,null,null,null,null,null,-1897,null,null,null,null,null,null,null,0,null,null,null,null,null,null,null,0,null,null,null,null,null,null,null,730,null,null,null,null,null,null,null,675,null,null,null,null,null,null,null,945,null,null,null,null,null,null,null,-216]
[null,null,"Mary_St"]
[null,null,null,null,null,null,null,null,null,null,null,null,null,null,null,null,null,953,null,null,null,null,null,null,null,419,null,null,null,null,null,null,null,536,null,null,null,null,null,null,null,0,null,null,null,null,null,null,null,314,null,null,null,null,null,null,null,419,null,null,null,null,null,null,null,137,null,null,null,null,null,null,null,0,null,null,null,null,null,null,null,317,null,null,null,null,null,null,null,0,null,null,null,null,null,null,null,0,null,null,null,null,null,null,null,454,null,null,null,null,null,null,null,591,null,null,null,null,null,null,null,-172,null,null,null,null,null,null,null,0,null,null,null,null,null,null,null,0,null,null,null,null,null,null,null,536,null,null,null,null,null,null,null,223,null,null,null,null,null,null,null,313,null,null,null,null,null,null,null,224]
[]
[]
[null,null,"Stage 2"]
[]
[null,null,"Subtotals:"]
[null,null,null,null,null,null,null,null,null,null,null,null,null,null,null,null,null,28482,null,null,null,null,null,null,null,13681,null,null,null,null,null,null,null,14796,null,null,null,null,null,null,null,0,null,null,null,null,null,null,null,5067,null,null,null,null,null,null,null,13681,null,null,null,null,null,null,null,35128,null,null,null,null,null,null,null,2422,null,null,null,null,null,null,null,11062,null,null,null,null,null,null,null,1260,null,null,null,null,null,null,null,1245,null,null,null,null,null,null,null,51117,null,null,null,null,null,null,null,66454,null,null,null,null,null,null,null,-52773,null,null,null,null,null,null,null,16596,null,null,null,null,null,null,null,40446,null,null,null,null,null,null,null,14796,null,null,null,null,null,null,null,7041,null,null,null,null,null,null,null,9859,null,null,null,null,null,null,null,4939]
[]
[]
[null,null,"Project"]
[]
[null,null,"Totals:"]
[null,null,null,null,null,null,null,null,null,null,null,null,null,null,null,null,null,185223,null,null,null,null,null,null,null,132461,null,null,null,null,null,null,null,52340,null,null,null,null,null,null,null,392,null,null,null,null,null,null,null,10499,null,null,null,null,null,null,null,132853,null,null,null,null,null,null,null,110293,null,null,null,null,null,null,null,9072,null,null,null,null,null,null,null,27135,null,null,null,null,null,null,null,1520,null,null,null,null,null,null,null,1245,null,null,null,null,null,null,null,149265,null,null,null,null,null,null,null,194049,null,null,null,null,null,null,null,-61196,null,null,null,null,null,null,null,71044,null,null,null,null,null,null,null,129490,null,null,null,null,null,null,null,52340,null,null,null,null,null,null,null,23414,null,null,null,null,null,null,null,32782,null,null,null,null,null,null,null,19563]
[]
[]
[]
[]
[]
[]
[]
[]
[]
[]
[]
[]
[]
[]
[]
[]
[]
[]
[null,null,"BID ITEMS:"]
[]
[]
[null,null,null,null,null,null,null,null,null,null,null,null,null,null,null,null,null,"EMBANKMENT-IN-PLACE, CONTRACTOR FURNISHED :"]
[]
[null,null,null,null,null,null,null,null,null,null,null,null,null,null,null,null,null,null,null,null,null,null,null,null,null,"STAGE 1:",null,null,null,null,null,null,null,6479,null,null,null,null,null,null,null,"CY",null,null,null,null,null,null,null,"[14]÷1.3"]
[]
[]
[]
[null,null,null,null,null,null,null,null,null,null,null,null,null,null,null,null,null,null,null,null,null,null,null,null,null,"STAGE 2:",null,null,null,null,null,null,null,{"$f":"52773/1.3","v":40594.615384615383},null,null,null,null,null,null,null,"CY",null,null,null,null,null,null,null,"[14]÷1.3"]
[]
[]
[]
[null,null,null,null,null,null,null,null,null,null,null,null,null,null,null,null,null,null,null,null,null,null,null,null,null,"TOTAL:",null,null,null,null,null,null,null,{"$f":"SUM(AH2353:AO2358)","v":47073.615384615383},null,null,null,null,null,null,null,"CY"]
[]
[]
[]
[]
[]
[null,null,null,null,null,null,null,null,null,null,null,null,null,null,null,null,null,"EXCAVATION, CLASS 10, ROADWAY AND BORROW:"]
[]
[null,null,null,null,null,null,null,null,null,null,null,null,null,null,null,null,null,null,null,null,null,null,null,null,null,"STAGE 1:",null,null,null,null,null,null,null,119172,null,null,null,null,null,null,null,"CY",null,null,null,null,null,null,null,"[6]"]
[]
[]
[]
[null,null,null,null,null,null,null,null,null,null,null,null,null,null,null,null,null,null,null,null,null,null,null,null,null,"STAGE 2:",null,null,null,null,null,null,null,13681,null,null,null,null,null,null,null,"CY",null,null,null,null,null,null,null,"[6]"]
[]
[]
[]
[null,null,null,null,null,null,null,null,null,null,null,null,null,null,null,null,null,null,null,null,null,null,null,null,null,"TOTAL:",null,null,null,null,null,null,null,{"$f":"SUM(AH2369:AO2374)","v":132853},null,null,null,null,null,null,null,"CY"]
[]
[]
[]
[]
[]
[null,null,null,null,null,null,null,null,null,null,null,null,null,null,null,null,null,"TOPSOIL, STRIP, SALVAGE AND SPREAD:"]
[]
[null,null,null,null,null,null,null,null,null,null,null,null,null,null,null,null,null,null,null,null,null,null,null,null,null,"STAGE 1:",null,null,null,null,null,null,null,37544,null,null,null,null,null,null,null,"CY",null,null,null,null,null,null,null,"[17]"]
[]
[]
[]
[null,null,null,null,null,null,null,null,null,null,null,null,null,null,null,null,null,null,null,null,null,null,null,null,null,"STAGE 2:",null,null,null,null,null,null,null,14796,null,null,null,null,null,null,null,"CY",null,null,null,null,null,null,null,"[17]"]
[]
[]
[]
[null,null,null,null,null,null,null,null,null,null,null,null,null,null,null,null,null,null,null,null,null,null,null,null,null,"TOTAL:",null,null,null,null,null,null,null,{"$f":"SUM(AH2385:AO2390)","v":52340},null,null,null,null,null,null,null,"CY"]
[]
[]
[]
[]
[]
[null,null,null,null,null,null,null,null,null,null,null,null,null,null,null,null,null,"COMPACTION WITH MOISTURE CONTROL:"]
[]
[null,null,null,null,null,null,null,null,null,null,null,null,null,null,null,null,null,null,null,null,null,null,null,null,null,"STAGE 1:",null,null,null,null,null,null,null,98148,null,null,null,null,null,null,null,"CY",null,null,null,null,null,null,null,"[12]"]
[]
[]
[]
[null,null,null,null,null,null,null,null,null,null,null,null,null,null,null,null,null,null,null,null,null,null,null,null,null,"STAGE 2:",null,null,null,null,null,null,null,51117,null,null,null,null,null,null,null,"CY",null,null,null,null,null,null,null,"[12]"]
[]
[]
[]
[null,null,null,null,null,null,null,null,null,null,null,null,null,null,null,null,null,null,null,null,null,null,null,null,null,"TOTAL:",null,null,null,null,null,null,null,{"$f":"SUM(AH2401:AO2406)","v":149265},null,null,null,null,null,null,null,"CY"]
[]
[]
[]
[]
[]
[]
[]
[]
[]
[]
[]
[]
[]
[]
[null,"","",null,null,null,null,null,null,null,null,null,null,null,null,null,null,"",null,null,null,null,null,null,null,"",null,null,null,null,null,null,null,"",null,null,null,null,null,null,null,"",null,null,null,null,null,null,null,"",null,null,null,null,null,null,null,"",null,null,null,null,null,null,null,"",null,null,null,null,null,null,null,"",null,null,null,null,null,null,null,"",null,null,null,null,null,null,null,null,null,null,null,null,null,null,null,"",null,null,null,null,null,null,null,"",null,null,null,null,null,null,null,null,null,null,null,null,null,null,null,"",null,null,null,null,null,null,null,null,null,null,null,null,null,null,null,null,"",null,null,null,null,null,null,null,null,null,null,null,null,null,null,"",null,null,null,null,null,null,null,"",null,null,null,null,null,null,null,"",null,null,null,null,null,null,null,"",null,null,null,null,null,null,null,"",null,null,null,null,null,null,null,""]
[]
[null,"FILE NO.",null,null,null,null,null,null,{"$f":"IF(ProjectInformation!$B$12<>\"\",ProjectInformation!$B$12,\"\")","v":29590},null,null,null,null,null,null,{"$f":"UPPER(ProjectInformation!$B$8)","v":"ENGLISH"},null,null,null,null,null,null,"DESIGN TEAM",null,null,null,null,null,null,null,null,{"$f":"IF(AND(ProjectInformation!$B$3<>\"\",ProjectInformation!$B$4<>\"\",ProjectInformation!$B$5<>\"\"),ProjectInformation!$B$3&\"\\\"&ProjectInformation!$B$4&\"\\\"&ProjectInformation!$B$5,IF(AND(ProjectInformation!$B$3<>\"\",ProjectInformation!$B$4<>\"\"),ProjectInformation!$B$3&\"\\\"&ProjectInformation!$B$4,IF(ProjectInformation!$B$3<>\"\",ProjectInformation!$B$3,\"\")))","v":"Flattery\\Bell\\Hain"},null,null,null,null,null,null,null,null,null,null,null,null,null,null,null,null,null,null,null,null,null,null,null,null,null,null,null,null,null,null,null,null,null,null,null,null,null,null,null,null,null,{"$f":"IF(ProjectInformation!$B$6<>\"\",ProjectInformation!$B$6,\"\")","v":"WAPELLO"},null,null,null,null,null,null,null,null,null,null,null,null,null,null,null,null,null,null,null,null,null,null,null,null,null,null,null,null,null,null,null,null,null,null,null,null,null,null,null,null,"COUNTY",null,null,null,null,null,"PROJECT NUMBER",null,null,null,null,null,null,null,null,null,null,null,{"$f":"IF(ProjectInformation!$B$7<>\"\",ProjectInformation!$B$7,\"\")","v":"NHSX-063-2(155)--3H-90"},null,null,null,null,null,null,null,null,null,null,null,null,null,null,null,null,null,null,null,null,null,null,null,null,null,null,null,null,null,"SHEET NUMBER",null,null,null,null,null,null,null,null,null,"T.15",null,null,null,null,null,null,null,{"$f":"IF(GE2426<>\"\",\"REVISED\",\"\")","v":""},null,null,null,null,null,{"$f":"IF(ProjectInformation!$B$9<>\"\",ProjectInformation!$B$9,\"\")","v":""}]
[]
[]
[]
[null,"7/17/2019     11:14:28 AM     dhain     c:\\pw_work\\pwmain\\dhain\\d0824036\\90063155_T03.xlsm"]
[""]

{"sheet":"107_28SheetTemplate","index":5,"n_rows":187,"n_cols":389,"rows_kept":187,"cut":false,"hidden":true,"merged":[[14,145,17,152],[14,153,17,160],[14,161,17,168],[14,169,17,176],[14,177,17,184],[14,185,17,192],[18,2,36,16],[18,17,37,24],[18,25,37,32],[18,33,37,40],[18,41,37,48],[18,49,37,56],[18,57,37,64],[18,65,37,72],[18,73,37,80],[18,81,37,88],[18,89,37,96],[18,97,37,104],[18,105,37,112],[18,113,37,120],[18,121,37,128],[18,129,37,136],[18,137,37,144],[18,145,37,152],[18,153,37,160],[18,161,37,168],[18,169,37,176],[18,177,37,184],[18,185,37,192],[8,2,17,16],[14,17,17,24],[14,25,17,32],[14,33,17,40],[14,41,17,48],[14,49,17,56],[14,57,17,64],[14,65,17,72],[14,73,17,80],[14,81,17,88],[14,89,17,96],[14,97,17,104],[14,105,17,112],[14,113,17,120],[14,121,17,128],[14,129,17,136],[14,137,17,144],[138,81,139,88],[138,89,139,96],[138,97,139,104],[138,105,139,112],[138,73,139,80],[72,113,73,120],[72,121,73,128],[48,121,49,128],[54,81,55,88],[54,89,55,96],[54,97,55,104],[54,105,55,112],[54,113,55,120],[54,121,55,128],[60,49,61,56],[60,57,61,64],[60,65,61,72],[60,73,61,80],[144,65,145,72],[144,73,145,80],[144,81,145,88],[144,89,145,96],[144,97,145,104],[144,105,145,112],[144,113,145,120],[94,49,95,56],[94,57,95,64],[94,65,95,72],[94,73,95,80],[94,81,95,88],[94,89,95,96],[94,97,95,104],[94,105,95,112],[94,113,95,120],[112,57,113,64],[112,65,113,72],[112,73,113,80],[112,81,113,88],[112,89,113,96],[112,97,113,104],[112,105,113,112],[112,113,113,120],[120,81,121,88],[120,89,121,96],[142,113,143,120],[106,113,107,120],[74,177,75,184],[76,129,77,136],[76,137,77,144],[76,145,77,152],[94,177,95,184],[76,153,77,160],[76,161,77,168],[72,161,73,168],[72,169,73,176],[76,169,77,176],[76,177,77,184],[78,145,79,152],[78,153,79,160],[78,161,79,168],[78,169,79,176],[78,177,79,184],[86,129,87,136],[86,137,87,144],[86,145,87,152],[86,153,87,160],[86,161,87,168],[86,169,87,176],[86,177,87,184],[90,129,91,136],[90,137,91,144],[90,145,91,152],[90,153,91,160],[90,161,91,168],[90,169,91,176],[78,129,79,136],[80,161,81,168],[80,169,81,176],[56,161,57,168],[56,169,57,176],[138,113,139,120],[138,121,139,128],[138,129,139,136],[138,137,139,144],[138,145,139,152],[138,153,139,160],[138,161,139,168],[138,169,139,176],[72,177,73,184],[74,145,75,152],[74,153,75,160],[74,161,75,168],[74,169,75,176],[134,137,135,144],[134,145,135,152],[134,153,135,160],[134,161,135,168],[134,169,135,176],[62,145,63,152],[62,153,63,160],[62,161,63,168],[62,169,63,176],[62,177,63,184],[62,137,63,144],[58,121,59,128],[58,129,59,136],[58,137,59,144],[56,177,57,184],[134,113,135,120],[134,121,135,128],[48,177,49,184],[50,145,51,152],[50,153,51,160],[71,2,72,16],[72,17,73,24],[72,25,73,32],[72,33,73,40],[72,41,73,48],[72,49,73,56],[72,57,73,64],[72,65,73,72],[72,73,73,80],[72,81,73,88],[72,89,73,96],[72,97,73,104],[72,105,73,112],[70,153,71,160],[70,161,71,168],[70,169,71,176],[70,177,71,184],[72,129,73,136],[72,137,73,144],[72,145,73,152],[72,153,73,160],[54,129,55,136],[54,137,55,144],[58,89,59,96],[58,97,59,104],[58,105,59,112],[58,113,59,120],[56,145,57,152],[56,153,57,160],[58,161,59,168],[58,169,59,176],[58,177,59,184],[60,137,61,144],[60,145,61,152],[60,153,61,160],[60,161,61,168],[60,169,61,176],[60,177,61,184],[49,2,50,16],[50,17,51,24],[50,25,51,32],[50,33,51,40],[50,41,51,48],[50,49,51,56],[50,57,51,64],[50,65,51,72],[50,73,51,80],[50,81,51,88],[50,89,51,96],[50,97,51,104],[50,105,51,112],[50,113,51,120],[50,121,51,128],[52,145,53,152],[52,153,53,160],[52,161,53,168],[52,169,53,176],[52,177,53,184],[53,2,54,16],[48,161,49,168],[48,169,49,176],[48,145,49,152],[48,153,49,160],[47,2,48,16],[48,17,49,24],[48,25,49,32],[48,33,49,40],[48,41,49,48],[48,49,49,56],[48,57,49,64],[48,65,49,72],[48,73,49,80],[48,81,49,88],[48,89,49,96],[48,97,49,104],[48,105,49,112],[48,113,49,120],[58,145,59,152],[58,153,59,160],[54,17,55,24],[54,25,55,32],[54,33,55,40],[54,41,55,48],[54,49,55,56],[54,57,55,64],[54,65,55,72],[54,73,55,80],[52,129,53,136],[52,137,53,144],[54,145,55,152],[54,153,55,160],[46,73,47,80],[46,81,47,88],[80,177,81,184],[82,145,83,152],[82,153,83,160],[82,161,83,168],[82,169,83,176],[82,177,83,184],[84,129,85,136],[84,137,85,144],[98,145,99,152],[98,153,99,160],[98,161,99,168],[98,169,99,176],[98,177,99,184],[80,145,81,152],[80,153,81,160],[82,129,83,136],[82,137,83,144],[88,145,89,152],[88,153,89,160],[88,161,89,168],[88,169,89,176],[88,177,89,184],[84,145,85,152],[84,153,85,160],[84,161,85,168],[84,169,85,176],[84,177,85,184],[88,129,89,136],[88,137,89,144],[96,177,97,184],[11,137,13,144],[11,145,13,152],[11,153,13,160],[11,161,13,168],[11,169,13,176],[11,177,13,184],[46,161,47,168],[46,169,47,176],[46,177,47,184],[48,129,49,136],[100,145,101,152],[100,153,101,160],[100,161,101,168],[100,169,101,176],[100,177,101,184],[50,129,51,136],[50,137,51,144],[48,137,49,144],[50,161,51,168],[50,169,51,176],[46,145,47,152],[64,129,65,136],[46,137,47,144],[38,137,39,144],[38,145,39,152],[38,153,39,160],[38,161,39,168],[38,169,39,176],[38,177,39,184],[40,145,41,152],[40,153,41,160],[40,161,41,168],[4,2,7,57],[11,17,13,24],[11,25,13,32],[11,33,13,40],[11,41,13,48],[11,49,13,56],[11,57,13,64],[11,65,13,72],[11,73,13,80],[11,81,13,88],[11,89,13,96],[11,97,13,104],[11,105,13,112],[11,113,13,120],[11,121,13,128],[11,129,13,136],[37,2,38,16],[38,17,39,24],[38,25,39,32],[38,33,39,40],[38,41,39,48],[38,49,39,56],[38,57,39,64],[38,65,39,72],[38,73,39,80],[38,81,39,88],[38,89,39,96],[38,97,39,104],[38,105,39,112],[38,113,39,120],[38,121,39,128],[38,129,39,136],[39,2,40,16],[40,17,41,24],[40,25,41,32],[40,33,41,40],[40,41,41,48],[40,49,41,56],[40,57,41,64],[40,65,41,72],[40,73,41,80],[40,81,41,88],[40,89,41,96],[40,97,41,104],[40,105,41,112],[40,113,41,120],[40,121,41,128],[40,129,41,136],[40,137,41,144],[40,169,41,176],[40,177,41,184],[41,2,42,16],[42,17,43,24],[42,25,43,32],[42,33,43,40],[42,41,43,48],[42,49,43,56],[42,57,43,64],[42,65,43,72],[42,73,43,80],[42,81,43,88],[42,89,43,96],[42,97,43,104],[42,105,43,112],[42,113,43,120],[42,121,43,128],[42,129,43,136],[42,137,43,144],[42,145,43,152],[42,153,43,160],[42,161,43,168],[42,169,43,176],[42,177,43,184],[43,2,44,16],[44,17,45,24],[44,25,45,32],[44,33,45,40],[44,41,45,48],[44,49,45,56],[44,129,45,136],[44,137,45,144],[44,145,45,152],[44,153,45,160],[44,161,45,168],[44,169,45,176],[44,177,45,184],[45,2,46,16],[46,129,47,136],[46,153,47,160],[44,57,45,64],[44,65,45,72],[44,73,45,80],[44,81,45,88],[44,89,45,96],[44,97,45,104],[44,105,45,112],[44,113,45,120],[44,121,45,128],[46,17,47,24],[46,97,47,104],[46,105,47,112],[46,113,47,120],[46,121,47,128],[51,2,52,16],[52,17,53,24],[52,25,53,32],[52,33,53,40],[52,41,53,48],[52,49,53,56],[52,57,53,64],[52,65,53,72],[52,73,53,80],[52,81,53,88],[52,89,53,96],[52,97,53,104],[52,105,53,112],[52,113,53,120],[52,121,53,128],[46,25,47,32],[46,33,47,40],[46,41,47,48],[46,49,47,56],[46,57,47,64],[46,65,47,72],[46,89,47,96],[54,161,55,168],[54,169,55,176],[54,177,55,184],[55,2,56,16],[56,17,57,24],[56,25,57,32],[56,33,57,40],[56,41,57,48],[56,49,57,56],[56,57,57,64],[56,65,57,72],[56,73,57,80],[56,81,57,88],[56,89,57,96],[56,97,57,104],[56,105,57,112],[56,113,57,120],[56,121,57,128],[56,129,57,136],[56,137,57,144],[57,2,58,16],[58,17,59,24],[58,25,59,32],[58,33,59,40],[58,41,59,48],[58,49,59,56],[58,57,59,64],[58,65,59,72],[58,73,59,80],[58,81,59,88],[59,2,60,16],[60,17,61,24],[60,81,61,88],[60,89,61,96],[60,97,61,104],[60,105,61,112],[60,113,61,120],[60,121,61,128],[60,129,61,136],[62,113,63,120],[62,121,63,128],[62,129,63,136],[61,2,62,16],[62,17,63,24],[62,25,63,32],[62,33,63,40],[62,41,63,48],[62,49,63,56],[62,57,63,64],[62,65,63,72],[62,73,63,80],[62,81,63,88],[62,89,63,96],[62,97,63,104],[62,105,63,112],[60,25,61,32],[60,33,61,40],[60,41,61,48],[68,145,69,152],[68,153,69,160],[68,161,69,168],[68,169,69,176],[64,137,65,144],[64,145,65,152],[64,153,65,160],[64,161,65,168],[64,169,65,176],[63,2,64,16],[64,17,65,24],[64,25,65,32],[64,33,65,40],[64,41,65,48],[64,49,65,56],[64,57,65,64],[64,65,65,72],[64,73,65,80],[64,81,65,88],[64,177,65,184],[65,2,66,16],[66,17,67,24],[66,25,67,32],[66,33,67,40],[66,41,67,48],[66,49,67,56],[66,57,67,64],[66,65,67,72],[66,73,67,80],[66,81,67,88],[66,89,67,96],[66,97,67,104],[66,105,67,112],[66,113,67,120],[66,121,67,128],[66,129,67,136],[66,137,67,144],[66,145,67,152],[66,153,67,160],[66,161,67,168],[66,169,67,176],[66,177,67,184],[64,89,65,96],[64,97,65,104],[64,105,65,112],[64,113,65,120],[64,121,65,128],[67,2,68,16],[68,17,69,24],[68,25,69,32],[68,33,69,40],[68,177,69,184],[69,2,70,16],[70,17,71,24],[70,25,71,32],[70,33,71,40],[70,41,71,48],[70,49,71,56],[70,57,71,64],[70,65,71,72],[70,73,71,80],[70,81,71,88],[70,89,71,96],[70,97,71,104],[70,105,71,112],[70,113,71,120],[70,121,71,128],[70,129,71,136],[70,137,71,144],[70,145,71,152],[68,41,69,48],[68,49,69,56],[68,57,69,64],[68,65,69,72],[68,73,69,80],[68,81,69,88],[68,89,69,96],[68,97,69,104],[68,105,69,112],[68,113,69,120],[68,121,69,128],[68,129,69,136],[68,137,69,144],[73,2,74,16],[74,17,75,24],[74,25,75,32],[74,33,75,40],[74,41,75,48],[74,49,75,56],[74,57,75,64],[74,65,75,72],[74,73,75,80],[74,81,75,88],[74,89,75,96],[74,97,75,104],[74,105,75,112],[74,113,75,120],[74,121,75,128],[74,129,75,136],[74,137,75,144],[75,2,76,16],[76,17,77,24],[76,25,77,32],[76,33,77,40],[76,41,77,48],[76,49,77,56],[76,57,77,64],[76,65,77,72],[76,73,77,80],[76,81,77,88],[76,89,77,96],[76,97,77,104],[76,105,77,112],[76,113,77,120],[76,121,77,128],[78,137,79,144],[79,2,80,16],[80,17,81,24],[80,25,81,32],[80,33,81,40],[80,41,81,48],[80,49,81,56],[80,73,81,80],[80,81,81,88],[80,89,81,96],[80,97,81,104],[80,105,81,112],[80,113,81,120],[80,121,81,128],[80,129,81,136],[80,137,81,144],[81,2,82,16],[82,17,83,24],[82,25,83,32],[82,33,83,40],[82,41,83,48],[82,49,83,56],[82,57,83,64],[82,65,83,72],[82,73,83,80],[82,81,83,88],[82,89,83,96],[82,97,83,104],[82,105,83,112],[82,113,83,120],[82,121,83,128],[77,2,78,16],[78,17,79,24],[78,25,79,32],[78,33,79,40],[78,41,79,48],[78,49,79,56],[78,57,79,64],[78,65,79,72],[78,73,79,80],[78,81,79,88],[78,89,79,96],[78,97,79,104],[78,105,79,112],[78,113,79,120],[78,121,79,128],[80,57,81,64],[80,65,81,72],[85,2,86,16],[86,17,87,24],[86,25,87,32],[86,33,87,40],[86,41,87,48],[86,49,87,56],[86,57,87,64],[86,65,87,72],[86,73,87,80],[86,81,87,88],[86,89,87,96],[86,97,87,104],[86,105,87,112],[86,113,87,120],[86,121,87,128],[83,2,84,16],[84,17,85,24],[84,25,85,32],[84,33,85,40],[84,41,85,48],[84,49,85,56],[84,57,85,64],[84,65,85,72],[84,73,85,80],[84,81,85,88],[84,89,85,96],[84,97,85,104],[84,105,85,112],[84,113,85,120],[84,121,85,128],[88,49,89,56],[88,57,89,64],[88,65,89,72],[88,73,89,80],[88,81,89,88],[88,89,89,96],[88,97,89,104],[88,105,89,112],[88,113,89,120],[88,121,89,128],[87,2,88,16],[88,17,89,24],[88,25,89,32],[88,33,89,40],[88,41,89,48],[89,2,90,16],[90,17,91,24],[90,25,91,32],[90,33,91,40],[90,41,91,48],[90,49,91,56],[90,57,91,64],[90,65,91,72],[90,73,91,80],[90,81,91,88],[90,89,91,96],[90,97,91,104],[90,105,91,112],[90,113,91,120],[90,121,91,128],[90,177,91,184],[91,2,92,16],[92,17,93,24],[92,25,93,32],[92,33,93,40],[92,41,93,48],[92,49,93,56],[92,57,93,64],[92,65,93,72],[92,73,93,80],[92,81,93,88],[92,89,93,96],[92,97,93,104],[92,105,93,112],[92,113,93,120],[92,121,93,128],[92,129,93,136],[92,137,93,144],[92,145,93,152],[92,153,93,160],[92,161,93,168],[92,169,93,176],[92,177,93,184],[93,2,94,16],[94,17,95,24],[94,25,95,32],[94,33,95,40],[94,41,95,48],[95,2,96,16],[101,2,102,16],[96,17,97,24],[96,25,97,32],[96,33,97,40],[94,129,95,136],[94,137,95,144],[94,145,95,152],[94,153,95,160],[94,161,95,168],[94,169,95,176],[96,49,97,56],[96,57,97,64],[96,65,97,72],[96,73,97,80],[96,81,97,88],[96,89,97,96],[96,97,97,104],[96,105,97,112],[96,113,97,120],[96,121,97,128],[96,129,97,136],[96,137,97,144],[96,145,97,152],[96,153,97,160],[96,161,97,168],[96,169,97,176],[94,121,95,128],[102,129,103,136],[100,129,101,136],[106,129,107,136],[106,137,107,144],[106,145,107,152],[106,153,107,160],[106,161,107,168],[97,2,98,16],[98,17,99,24],[98,25,99,32],[98,33,99,40],[98,41,99,48],[98,49,99,56],[98,57,99,64],[98,65,99,72],[98,73,99,80],[98,81,99,88],[98,89,99,96],[98,97,99,104],[98,105,99,112],[98,113,99,120],[98,121,99,128],[98,129,99,136],[98,137,99,144],[99,2,100,16],[100,17,101,24],[100,25,101,32],[100,33,101,40],[100,41,101,48],[100,49,101,56],[100,57,101,64],[106,17,107,24],[106,25,107,32],[96,41,97,48],[106,33,107,40],[106,41,107,48],[100,121,101,128],[106,57,107,64],[102,17,103,24],[102,25,103,32],[102,33,103,40],[102,41,103,48],[102,49,103,56],[102,57,103,64],[102,65,103,72],[102,73,103,80],[102,81,103,88],[102,89,103,96],[102,97,103,104],[102,105,103,112],[102,113,103,120],[102,121,103,128],[100,113,101,120],[100,65,101,72],[100,73,101,80],[100,81,101,88],[100,89,101,96],[100,97,101,104],[100,105,101,112],[106,121,107,128],[106,65,107,72],[106,73,107,80],[106,81,107,88],[106,89,107,96],[106,97,107,104],[106,105,107,112],[106,169,107,176],[106,177,107,184],[102,137,103,144],[102,145,103,152],[102,153,103,160],[102,161,103,168],[100,137,101,144],[102,169,103,176],[102,177,103,184],[103,2,104,16],[104,17,105,24],[104,25,105,32],[104,33,105,40],[104,41,105,48],[104,49,105,56],[104,57,105,64],[104,65,105,72],[104,73,105,80],[104,81,105,88],[104,89,105,96],[104,97,105,104],[104,105,105,112],[104,113,105,120],[104,121,105,128],[104,129,105,136],[104,137,105,144],[104,145,105,152],[104,153,105,160],[104,161,105,168],[104,169,105,176],[104,177,105,184],[105,2,106,16],[108,177,109,184],[109,2,110,16],[110,17,111,24],[110,25,111,32],[110,33,111,40],[110,41,111,48],[110,49,111,56],[110,57,111,64],[110,65,111,72],[110,73,111,80],[110,81,111,88],[110,89,111,96],[110,97,111,104],[110,105,111,112],[110,113,111,120],[110,121,111,128],[110,129,111,136],[110,137,111,144],[110,145,111,152],[110,153,111,160],[110,161,111,168],[110,169,111,176],[110,177,111,184],[111,2,112,16],[112,17,113,24],[112,25,113,32],[112,33,113,40],[112,41,113,48],[112,49,113,56],[107,2,108,16],[108,41,109,48],[106,49,107,56],[108,161,109,168],[108,49,109,56],[108,57,109,64],[108,65,109,72],[108,73,109,80],[108,81,109,88],[108,89,109,96],[108,97,109,104],[108,105,109,112],[108,113,109,120],[108,121,109,128],[108,129,109,136],[108,137,109,144],[116,57,117,64],[116,65,117,72],[116,73,117,80],[108,169,109,176],[112,121,113,128],[112,129,113,136],[112,137,113,144],[112,145,113,152],[112,153,113,160],[112,161,113,168],[112,169,113,176],[113,2,114,16],[114,17,115,24],[114,25,115,32],[114,33,115,40],[114,41,115,48],[114,49,115,56],[114,57,115,64],[114,65,115,72],[114,73,115,80],[114,81,115,88],[114,89,115,96],[114,97,115,104],[114,105,115,112],[114,113,115,120],[114,121,115,128],[114,129,115,136],[108,153,109,160],[115,2,116,16],[116,17,117,24],[116,25,117,32],[116,97,117,104],[116,105,117,112],[116,113,117,120],[116,121,117,128],[116,129,117,136],[116,137,117,144],[116,145,117,152],[116,153,117,160],[108,145,109,152],[108,17,109,24],[108,25,109,32],[108,33,109,40],[112,177,113,184],[118,169,119,176],[114,137,115,144],[114,145,115,152],[114,153,115,160],[114,161,115,168],[114,169,115,176],[114,177,115,184],[116,81,117,88],[116,89,117,96],[116,161,117,168],[116,169,117,176],[116,177,117,184],[118,145,119,152],[118,153,119,160],[118,161,119,168],[118,177,119,184],[122,169,123,176],[122,177,123,184],[117,2,118,16],[118,17,119,24],[118,25,119,32],[122,73,123,80],[118,41,119,48],[118,49,119,56],[118,57,119,64],[118,65,119,72],[118,73,119,80],[118,81,119,88],[118,89,119,96],[118,97,119,104],[118,105,119,112],[118,113,119,120],[118,121,119,128],[118,129,119,136],[118,137,119,144],[118,33,119,40],[116,33,117,40]],"merged_total":3440,"flags":["merged_cut"]}
[null,null,null,null,null,null,null,null,null,null,null,null,null,null,null,null,null,null,null,null,null,null,null,null,null,null,null,null,null,null,null,null,null,null,null,null,null,null,null,null,null,null,null,null,null,null,null,null,null,null,null,null,null,null,null,null,null,null,null,null,null,null,null,null,null,null,null,null,null,null,null,null,null,null,null,null,null,null,null,null,null,null,null,null,null,null,null,null,null,null,null,null,null,null,null,null,null,null,null,null,null,null,null,null,null,null,null,null,null,null,null,null,null,null,null,null,null,null,null,null,null,null,null,null,null,null,null,null,null,null,null,null,null,null,null,null,null,null,null,null,null,null,null,null,null,null,null,null,null,null,null,null,null,null,null,null,null,null,null,null,null,null,null,null,null,null,null,null,null,null,null,null,null,null,null,null,null,null,null,null,null,null,null,null,null,null,null,null,null,null,null,null,null,"",null,null,null,null,null,null,null,null,null,null,null,null,null,null,null,null,null,null,null,null,null,null,null,null,null,null,null,null,null,null,null,null,null,null,null,null,null,null,null,null,null,null,null,null,null,null,null,null,null,null,null,null,null,null,null,null,null,null,null,null,null,null,null,null,null,null,null,null,null,null,null,null,null,null,null,null,null,null,null,null,null,null,null,null,null,null,null,null,null,null,null,null,null,null,null,null,null,null,null,null,null,null,null,null,null,null,null,null,null,null,null,null,null,null,null,null,null,null,null,null,null,null,null,null,null,null,null,null,null,null,null,null,null,null,null,null,null,null,null,null,null,null,null,null,null,null,null,null,null,null,null,null,null,null,null,null,null,null,null,null,null,null,null,null,null,null,null,null,null,null,null,null,null,null,null,null,null,null,null,null,null,null,null,null,null,null,null,null,null,null,null,null,null,null,""]
[]
[null,null,null,null,null,null,null,null,null,null,null,null,null,null,null,null,null,null,null,null,null,null,null,null,null,"",null,null,null,null,null,null,null,"",null,null,null,null,null,null,null,"",null,null,null,null,null,null,null,"",null,null,null,null,null,null,null,"",null,null,null,null,null,null,null,"",null,null,null,null,null,null,null,"",null,null,null,null,null,null,null,"",null,null,null,null,null,null,null,null,null,null,null,null,null,null,null,"",null,null,null,null,null,null,null,"",null,null,null,null,null,null,null,null,null,null,null,null,null,null,null,"",null,null,null,null,null,null,null,null,null,null,null,null,null,null,null,null,"",null,null,null,null,null,null,null,null,null,null,null,null,null,null,"",null,null,null,null,null,null,null,null,null,null,null,null,null,null,null,"",null,null,null,null,null,null,null,"",null,null,null,null,null,null,null,"",null,null,null,null,null,null,null,"",null,null,null,null,null,null,null,null,null,null,null,null,null,null,null,null,null,null,null,null,null,null,null,null,null,null,"",null,null,null,null,null,null,null,"",null,null,null,null,null,null,null,"",null,null,null,null,null,null,null,"",null,null,null,null,null,null,null,"",null,null,null,null,null,null,null,"",null,null,null,null,null,null,null,"",null,null,null,null,null,null,null,"",null,null,null,null,null,null,null,null,null,null,null,null,null,null,null,"",null,null,null,null,null,null,null,"",null,null,null,null,null,null,null,null,null,null,null,null,null,null,null,"",null,null,null,null,null,null,null,null,null,null,null,null,null,null,null,null,"",null,null,null,null,null,null,null,null,null,null,null,null,null,null,"",null,null,null,null,null,null,null,null,null,null,null,null,null,null,null,"",null,null,null,null,null,null,null,"",null,null,null,null,null,null,null,"",null,null,null,null,null,null,null,""]
[]
[null,null,"Refer to Standard Road Plans EW-101 and EW-102.",null,null,null,null,null,null,null,null,null,null,null,null,null,null,null,null,null,null,null,null,null,null,null,null,null,null,null,null,null,null,null,null,null,null,null,null,null,null,null,null,null,null,null,null,null,null,null,null,null,null,null,null,null,null,null,"TABULATION OF TEMPLATE QUANTITIES AND ADJUSTMENTS",null,null,null,null,null,null,null,null,null,null,null,null,null,null,null,null,null,null,null,null,null,null,null,null,null,null,null,null,null,null,null,null,null,null,null,null,null,null,null,null,null,null,null,null,null,null,null,null,null,null,null,null,null,null,null,null,null,null,null,null,null,null,null,null,null,null,null,null,null,null,null,null,null,null,null,null,null,null,"107-28",null,null,null,null,null,null,null,null,null,null,null,null,null,null,null,null,null,null,null,null,null,null,null,null,null,null,null,null,null,null,null,null,null,null,null,null,null,null,null,null,null,null,null,null,null,null,null,null,null,null,null,null,null,null,null,null,null,null,null,"Refer to Standard Road Plans EW-101 and EW-102.",null,null,null,null,null,null,null,null,null,null,null,null,null,null,null,null,null,null,null,null,null,null,null,null,null,null,null,null,null,null,null,null,null,null,null,null,null,null,null,null,null,null,null,null,null,null,null,null,null,null,null,null,null,null,null,"TABULATION OF TEMPLATE QUANTITIES AND ADJUSTMENTS",null,null,null,null,null,null,null,null,null,null,null,null,null,null,null,null,null,null,null,null,null,null,null,null,null,null,null,null,null,null,null,null,null,null,null,null,null,null,null,null,null,null,null,null,null,null,null,null,null,null,null,null,null,null,null,null,null,null,null,null,null,null,null,null,null,null,null,null,null,null,null,null,null,null,null,null,null,null,"107-28"]
[]
[null,null,null,null,null,null,null,null,null,null,null,null,null,null,null,null,null,null,null,null,null,null,null,null,null,null,null,null,null,null,null,null,null,null,null,null,null,null,null,null,null,null,null,null,null,null,null,null,null,null,null,null,null,null,null,null,null,null,null,null,null,null,null,null,null,null,null,null,null,null,null,null,null,null,null,null,null,null,null,null,null,null,null,null,null,null,null,null,null,null,null,null,null,null,null,null,null,null,null,null,null,null,null,null,null,null,null,null,null,null,null,null,null,null,null,null,null,null,null,null,null,null,null,null,null,null,null,null,null,null,null,null,null,null,null,null,null,"2015-04-21",null,null,null,null,null,null,null,null,null,null,null,null,null,null,null,null,null,null,null,null,null,null,null,null,null,null,null,null,null,null,null,null,null,null,null,null,null,null,null,null,null,null,null,null,null,null,null,null,null,null,null,null,null,null,null,null,null,null,null,null,null,null,null,null,null,null,null,null,null,null,null,null,null,null,null,null,null,null,null,null,null,null,null,null,null,null,null,null,null,null,null,null,null,null,null,null,null,null,null,null,null,null,null,null,null,null,null,null,null,null,null,null,null,null,null,null,null,null,null,null,null,null,null,null,null,null,null,null,null,null,null,null,null,null,null,null,null,null,null,null,null,null,null,null,null,null,null,null,null,null,null,null,null,null,null,null,null,null,null,null,null,null,null,null,null,null,null,null,null,null,null,null,null,null,null,null,null,null,null,null,null,null,null,null,null,null,null,null,null,null,null,null,null,null,"2015-04-21"]
[]
[]
[]
[]
[null,null,null,null,null,null,null,null,null,null,null,null,null,null,null,null,null,"[1]",null,null,null,null,null,null,null,"[2]",null,null,null,null,null,null,null,"[3]",null,null,null,null,null,null,null,"[4]",null,null,null,null,null,null,null,"[5]",null,null,null,null,null,null,null,"[6]",null,null,null,null,null,null,null,"[7]",null,null,null,null,null,null,null,"[8]",null,null,null,null,null,null,null,"[9]",null,null,null,null,null,null,null,"[10]",null,null,null,null,null,null,null,"[11]",null,null,null,null,null,null,null,"[12]",null,null,null,null,null,null,null,"[13]",null,null,null,null,null,null,null,"[14]",null,null,null,null,null,null,null,"[15]",null,null,null,null,null,null,null,"[16]",null,null,null,null,null,null,null,"[17]",null,null,null,null,null,null,null,"[18]",null,null,null,null,null,null,null,"[19]",null,null,null,null,null,null,null,"[20]",null,null,null,null,null,null,null,"[21]",null,null,null,null,null,null,null,"[22]",null,null,null,null,null,null,null,null,null,null,null,null,null,null,null,null,null,null,null,null,null,null,null,null,null,null,"[23]",null,null,null,null,null,null,null,"[24]",null,null,null,null,null,null,null,"[25]",null,null,null,null,null,null,null,"[26]",null,null,null,null,null,null,null,"[27]",null,null,null,null,null,null,null,"[28]",null,null,null,null,null,null,null,"[29]",null,null,null,null,null,null,null,"[30]",null,null,null,null,null,null,null,"[31]",null,null,null,null,null,null,null,"[32]",null,null,null,null,null,null,null,"[33]",null,null,null,null,null,null,null,"[34]",null,null,null,null,null,null,null,"[35]",null,null,null,null,null,null,null,"[36]",null,null,null,null,null,null,null,"[37]",null,null,null,null,null,null,null,"[38]",null,null,null,null,null,null,null,"[39]",null,null,null,null,null,null,null,"[40]",null,null,null,null,null,null,null,"[41]",null,null,null,null,null,null,null,"[42]",null,null,null,null,null,null,null,"[43]",null,null,null,null,null,null,null,"[44]"]
[]
[]
[null,null,null,null,null,null,null,null,null,null,null,null,null,null,null,null,null,{"$f":"IF('107_28'!$R$15<>\"\",'107_28'!$R$15,\"\")","v":""},null,null,null,null,null,null,null,{"$f":"IF('107_28'!$Z$15<>\"\",'107_28'!$Z$15,\"\")","v":""},null,null,null,null,null,null,null,{"$f":"IF('107_28'!$AH$15<>\"\",'107_28'!$AH$15,\"\")","v":""},null,null,null,null,null,null,null,{"$f":"IF('107_28'!$AP$15<>\"\",'107_28'!$AP$15,\"\")","v":""},null,null,null,null,null,null,null,{"$f":"IF('107_28'!$AX$15<>\"\",'107_28'!$AX$15,\"\")","v":""},null,null,null,null,null,null,null,{"$f":"IF('107_28'!$BF$15<>\"\",'107_28'!$BF$15,\"\")","v":"[2]+[4]"},null,null,null,null,null,null,null,{"$f":"IF('107_28'!$BN$15<>\"\",'107_28'!$BN$15,\"\")","v":""},null,null,null,null,null,null,null,{"$f":"IF('107_28'!$BV$15<>\"\",'107_28'!$BV$15,\"\")","v":""},null,null,null,null,null,null,null,{"$f":"IF('107_28'!$CD$15<>\"\",'107_28'!$CD$15,\"\")","v":""},null,null,null,null,null,null,null,{"$f":"IF('107_28'!$CL$15<>\"\",'107_28'!$CL$15,\"\")","v":""},null,null,null,null,null,null,null,{"$f":"IF('107_28'!$CT$15<>\"\",'107_28'!$CT$15,\"\")","v":""},null,null,null,null,null,null,null,{"$f":"IF('107_28'!$DB$15<>\"\",'107_28'!$DB$15,\"\")","v":"[7]+[8]+[9]+  [10]+[11]"},null,null,null,null,null,null,null,{"$f":"IF('107_28'!$DJ$15<>\"\",'107_28'!$DJ$15,\"\")","v":"[12]*1.3"},null,null,null,null,null,null,null,{"$f":"IF('107_28'!$DR$15<>\"\",'107_28'!$DR$15,\"\")","v":"[6]-[13]"},null,null,null,null,null,null,null,{"$f":"IF('107_28'!$DZ$15<>\"\",'107_28'!$DZ$15,\"\")","v":""},null,null,null,null,null,null,null,{"$f":"IF('107_28'!$EH$15<>\"\",'107_28'!$EH$15,\"\")","v":""},null,null,null,null,null,null,null,{"$f":"IF('107_28'!$EP$15<>\"\",'107_28'!$EP$15,\"\")","v":""},null,null,null,null,null,null,null,{"$f":"IF('107_28'!$EX$15<>\"\",'107_28'!$EX$15,\"\")","v":""},null,null,null,null,null,null,null,{"$f":"IF('107_28'!$FF$15<>\"\",'107_28'!$FF$15,\"\")","v":"[17]*1.4"},null,null,null,null,null,null,null,{"$f":"IF('107_28'!$FN$15<>\"\",'107_28'!$FN$15,\"\")","v":"[17]-[19]"},null,null,null,null,null,null,null,{"$f":"IF('107_28'!$FV$15<>\"\",'107_28'!$FV$15,\"\")","v":""},null,null,null,null,null,null,null,{"$f":"IF('107_28'!$GD$15<>\"\",'107_28'!$GD$15,\"\")","v":""},null,null,null,null,null,null,null,null,null,null,null,null,null,null,null,null,null,null,null,null,null,null,null,null,null,null,{"$f":"IF('107_28'!#REF!<>\"\",'107_28'!#REF!,\"\")","v":{"$error":"#REF!"}},null,null,null,null,null,null,null,{"$f":"IF('107_28'!#REF!<>\"\",'107_28'!#REF!,\"\")","v":{"$error":"#REF!"}},null,null,null,null,null,null,null,{"$f":"IF('107_28'!#REF!<>\"\",'107_28'!#REF!,\"\")","v":{"$error":"#REF!"}},null,null,null,null,null,null,null,{"$f":"IF('107_28'!#REF!<>\"\",'107_28'!#REF!,\"\")","v":{"$error":"#REF!"}},null,null,null,null,null,null,null,{"$f":"IF('107_28'!#REF!<>\"\",'107_28'!#REF!,\"\")","v":{"$error":"#REF!"}},null,null,null,null,null,null,null,{"$f":"IF('107_28'!#REF!<>\"\",'107_28'!#REF!,\"\")","v":{"$error":"#REF!"}},null,null,null,null,null,null,null,{"$f":"IF('107_28'!#REF!<>\"\",'107_28'!#REF!,\"\")","v":{"$error":"#REF!"}},null,null,null,null,null,null,null,{"$f":"IF('107_28'!#REF!<>\"\",'107_28'!#REF!,\"\")","v":{"$error":"#REF!"}},null,null,null,null,null,null,null,{"$f":"IF('107_28'!#REF!<>\"\",'107_28'!#REF!,\"\")","v":{"$error":"#REF!"}},null,null,null,null,null,null,null,{"$f":"IF('107_28'!#REF!<>\"\",'107_28'!#REF!,\"\")","v":{"$error":"#REF!"}},null,null,null,null,null,null,null,{"$f":"IF('107_28'!#REF!<>\"\",'107_28'!#REF!,\"\")","v":{"$error":"#REF!"}},null,null,null,null,null,null,null,{"$f":"IF('107_28'!#REF!<>\"\",'107_28'!#REF!,\"\")","v":{"$error":"#REF!"}},null,null,null,null,null,null,null,{"$f":"IF('107_28'!#REF!<>\"\",'107_28'!#REF!,\"\")","v":{"$error":"#REF!"}},null,null,null,null,null,null,null,{"$f":"IF('107_28'!#REF!<>\"\",'107_28'!#REF!,\"\")","v":{"$error":"#REF!"}},null,null,null,null,null,null,null,{"$f":"IF('107_28'!#REF!<>\"\",'107_28'!#REF!,\"\")","v":{"$error":"#REF!"}},null,null,null,null,null,null,null,{"$f":"IF('107_28'!#REF!<>\"\",'107_28'!#REF!,\"\")","v":{"$error":"#REF!"}},null,null,null,null,null,null,null,{"$f":"IF('107_28'!#REF!<>\"\",'107_28'!#REF!,\"\")","v":{"$error":"#REF!"}},null,null,null,null,null,null,null,{"$f":"IF('107_28'!#REF!<>\"\",'107_28'!#REF!,\"\")","v":{"$error":"#REF!"}},null,null,null,null,null,null,null,{"$f":"IF('107_28'!#REF!<>\"\",'107_28'!#REF!,\"\")","v":{"$error":"#REF!"}},null,null,null,null,null,null,null,{"$f":"IF('107_28'!#REF!<>\"\",'107_28'!#REF!,\"\")","v":{"$error":"#REF!"}},null,null,null,null,null,null,null,{"$f":"IF('107_28'!#REF!<>\"\",'107_28'!#REF!,\"\")","v":{"$error":"#REF!"}},null,null,null,null,null,null,null,{"$f":"IF('107_28'!#REF!<>\"\",'107_28'!#REF!,\"\")","v":{"$error":"#REF!"}}]
[]
[]
[]
[null,null,null,null,null,null,null,null,null,null,null,null,null,null,null,null,null,null,null,null,null,null,null,null,null,null,null,null,null,null,null,null,null,null,null,null,null,null,null,null,null,null,null,null,null,null,null,null,null,null,null,null,null,null,null,null,null,null,null,null,null,null,null,null,null,null,null,null,null,null,null,null,null,null,null,null,null,null,null,null,null,null,null,null,null,null,null,null,null,null,null,null,null,null,null,null,null,null,null,null,null,null,null,null,null,null,null,null,null,null,null,null,null,null,null,null,null,null,null,null,null,null,null,null,null,null,null,null,null,null,null,null,null,null,null,null,null,null,null,null,null,null,null,null,null,null,null,null,null,null,null,null,null,null,null,null,null,null,null,null,null,null,null,null,null,null,null,null,null,null,null,null,null,null,null,null,null,null,null,null,null,null,null,null,null,null,null,null,null,null,null,null,null,null,null,null,null,{"$f":"IF(C19<>\"\",C19,\"\")","v":""}]
[]
[]
[]
[]
[]
[]
[]
[]
[]
[]
[]
[]
[]
[]
[]
[]
[]
[]
[null,null,null,null,null,null,null,null,null,null,null,null,null,null,null,null,null,null,null,null,null,null,null,null,null,null,null,null,null,null,null,null,null,null,null,null,null,null,null,null,null,null,null,null,null,null,null,null,null,null,null,null,null,null,null,null,null,null,null,null,null,null,null,null,null,null,null,null,null,null,null,null,null,null,null,null,null,null,null,null,null,null,null,null,null,null,null,null,null,null,null,null,null,null,null,null,null,null,null,null,null,null,null,null,null,null,null,null,null,null,null,null,null,null,null,null,null,null,null,null,null,null,null,null,null,null,null,null,null,null,null,null,null,null,null,null,null,null,null,null,null,null,null,null,null,null,null,null,null,null,null,null,null,null,null,null,null,null,null,null,null,null,null,null,null,null,null,null,null,null,null,null,null,null,null,null,null,null,null,null,null,null,null,null,null,null,null,null,null,null,null,null,null,null,null,null,null,{"$f":"IF(C38<>\"\",C38,\"\")","v":""}]
[]
[null,null,null,null,null,null,null,null,null,null,null,null,null,null,null,null,null,null,null,null,null,null,null,null,null,null,null,null,null,null,null,null,null,null,null,null,null,null,null,null,null,null,null,null,null,null,null,null,null,null,null,null,null,null,null,null,null,null,null,null,null,null,null,null,null,null,null,null,null,null,null,null,null,null,null,null,null,null,null,null,null,null,null,null,null,null,null,null,null,null,null,null,null,null,null,null,null,null,null,null,null,null,null,null,null,null,null,null,null,null,null,null,null,null,null,null,null,null,null,null,null,null,null,null,null,null,null,null,null,null,null,null,null,null,null,null,null,null,null,null,null,null,null,null,null,null,null,null,null,null,null,null,null,null,null,null,null,null,null,null,null,null,null,null,null,null,null,null,null,null,null,null,null,null,null,null,null,null,null,null,null,null,null,null,null,null,null,null,null,null,null,null,null,null,null,null,null,{"$f":"IF(C40<>\"\",C40,\"\")","v":""}]
[]
[null,null,null,null,null,null,null,null,null,null,null,null,null,null,null,null,null,null,null,null,null,null,null,null,null,null,null,null,null,null,null,null,null,null,null,null,null,null,null,null,null,null,null,null,null,null,null,null,null,null,null,null,null,null,null,null,null,null,null,null,null,null,null,null,null,null,null,null,null,null,null,null,null,null,null,null,null,null,null,null,null,null,null,null,null,null,null,null,null,null,null,null,null,null,null,null,null,null,null,null,null,null,null,null,null,null,null,null,null,null,null,null,null,null,null,null,null,null,null,null,null,null,null,null,null,null,null,null,null,null,null,null,null,null,null,null,null,null,null,null,null,null,null,null,null,null,null,null,null,null,null,null,null,null,null,null,null,null,null,null,null,null,null,null,null,null,null,null,null,null,null,null,null,null,null,null,null,null,null,null,null,null,null,null,null,null,null,null,null,null,null,null,null,null,null,null,null,{"$f":"IF(C42<>\"\",C42,\"\")","v":""}]
[]
[null,null,null,null,null,null,null,null,null,null,null,null,null,null,null,null,null,null,null,null,null,null,null,null,null,null,null,null,null,null,null,null,null,null,null,null,null,null,null,null,null,null,null,null,null,null,null,null,null,null,null,null,null,null,null,null,null,null,null,null,null,null,null,null,null,null,null,null,null,null,null,null,null,null,null,null,null,null,null,null,null,null,null,null,null,null,null,null,null,null,null,null,null,null,null,null,null,null,null,null,null,null,null,null,null,null,null,null,null,null,null,null,null,null,null,null,null,null,null,null,null,null,null,null,null,null,null,null,null,null,null,null,null,null,null,null,null,null,null,null,null,null,null,null,null,null,null,null,null,null,null,null,null,null,null,null,null,null,null,null,null,null,null,null,null,null,null,null,null,null,null,null,null,null,null,null,null,null,null,null,null,null,null,null,null,null,null,null,null,null,null,null,null,null,null,null,null,{"$f":"IF(C44<>\"\",C44,\"\")","v":""}]
[]
[null,null,null,null,null,null,null,null,null,null,null,null,null,null,null,null,null,null,null,null,null,null,null,null,null,null,null,null,null,null,null,null,null,null,null,null,null,null,null,null,null,null,null,null,null,null,null,null,null,null,null,null,null,null,null,null,null,null,null,null,null,null,null,null,null,null,null,null,null,null,null,null,null,null,null,null,null,null,null,null,null,null,null,null,null,null,null,null,null,null,null,null,null,null,null,null,null,null,null,null,null,null,null,null,null,null,null,null,null,null,null,null,null,null,null,null,null,null,null,null,null,null,null,null,null,null,null,null,null,null,null,null,null,null,null,null,null,null,null,null,null,null,null,null,null,null,null,null,null,null,null,null,null,null,null,null,null,null,null,null,null,null,null,null,null,null,null,null,null,null,null,null,null,null,null,null,null,null,null,null,null,null,null,null,null,null,null,null,null,null,null,null,null,null,null,null,null,{"$f":"IF(C46<>\"\",C46,\"\")","v":""}]
[]
[null,null,null,null,null,null,null,null,null,null,null,null,null,null,null,null,null,null,null,null,null,null,null,null,null,null,null,null,null,null,null,null,null,null,null,null,null,null,null,null,null,null,null,null,null,null,null,null,null,null,null,null,null,null,null,null,null,null,null,null,null,null,null,null,null,null,null,null,null,null,null,null,null,null,null,null,null,null,null,null,null,null,null,null,null,null,null,null,null,null,null,null,null,null,null,null,null,null,null,null,null,null,null,null,null,null,null,null,null,null,null,null,null,null,null,null,null,null,null,null,null,null,null,null,null,null,null,null,null,null,null,null,null,null,null,null,null,null,null,null,null,null,null,null,null,null,null,null,null,null,null,null,null,null,null,null,null,null,null,null,null,null,null,null,null,null,null,null,null,null,null,null,null,null,null,null,null,null,null,null,null,null,null,null,null,null,null,null,null,null,null,null,null,null,null,null,null,{"$f":"IF(C48<>\"\",C48,\"\")","v":""}]
[]
[null,null,null,null,null,null,null,null,null,null,null,null,null,null,null,null,null,null,null,null,null,null,null,null,null,null,null,null,null,null,null,null,null,null,null,null,null,null,null,null,null,null,null,null,null,null,null,null,null,null,null,null,null,null,null,null,null,null,null,null,null,null,null,null,null,null,null,null,null,null,null,null,null,null,null,null,null,null,null,null,null,null,null,null,null,null,null,null,null,null,null,null,null,null,null,null,null,null,null,null,null,null,null,null,null,null,null,null,null,null,null,null,null,null,null,null,null,null,null,null,null,null,null,null,null,null,null,null,null,null,null,null,null,null,null,null,null,null,null,null,null,null,null,null,null,null,null,null,null,null,null,null,null,null,null,null,null,null,null,null,null,null,null,null,null,null,null,null,null,null,null,null,null,null,null,null,null,null,null,null,null,null,null,null,null,null,null,null,null,null,null,null,null,null,null,null,null,{"$f":"IF(C50<>\"\",C50,\"\")","v":""}]
[]
[null,null,null,null,null,null,null,null,null,null,null,null,null,null,null,null,null,null,null,null,null,null,null,null,null,null,null,null,null,null,null,null,null,null,null,null,null,null,null,null,null,null,null,null,null,null,null,null,null,null,null,null,null,null,null,null,null,null,null,null,null,null,null,null,null,null,null,null,null,null,null,null,null,null,null,null,null,null,null,null,null,null,null,null,null,null,null,null,null,null,null,null,null,null,null,null,null,null,null,null,null,null,null,null,null,null,null,null,null,null,null,null,null,null,null,null,null,null,null,null,null,null,null,null,null,null,null,null,null,null,null,null,null,null,null,null,null,null,null,null,null,null,null,null,null,null,null,null,null,null,null,null,null,null,null,null,null,null,null,null,null,null,null,null,null,null,null,null,null,null,null,null,null,null,null,null,null,null,null,null,null,null,null,null,null,null,null,null,null,null,null,null,null,null,null,null,null,{"$f":"IF(C52<>\"\",C52,\"\")","v":""}]
[]
[null,null,null,null,null,null,null,null,null,null,null,null,null,null,null,null,null,null,null,null,null,null,null,null,null,null,null,null,null,null,null,null,null,null,null,null,null,null,null,null,null,null,null,null,null,null,null,null,null,null,null,null,null,null,null,null,null,null,null,null,null,null,null,null,null,null,null,null,null,null,null,null,null,null,null,null,null,null,null,null,null,null,null,null,null,null,null,null,null,null,null,null,null,null,null,null,null,null,null,null,null,null,null,null,null,null,null,null,null,null,null,null,null,null,null,null,null,null,null,null,null,null,null,null,null,null,null,null,null,null,null,null,null,null,null,null,null,null,null,null,null,null,null,null,null,null,null,null,null,null,null,null,null,null,null,null,null,null,null,null,null,null,null,null,null,null,null,null,null,null,null,null,null,null,null,null,null,null,null,null,null,null,null,null,null,null,null,null,null,null,null,null,null,null,null,null,null,{"$f":"IF(C54<>\"\",C54,\"\")","v":""}]
[]
[null,null,null,null,null,null,null,null,null,null,null,null,null,null,null,null,null,null,null,null,null,null,null,null,null,null,null,null,null,null,null,null,null,null,null,null,null,null,null,null,null,null,null,null,null,null,null,null,null,null,null,null,null,null,null,null,null,null,null,null,null,null,null,null,null,null,null,null,null,null,null,null,null,null,null,null,null,null,null,null,null,null,null,null,null,null,null,null,null,null,null,null,null,null,null,null,null,null,null,null,null,null,null,null,null,null,null,null,null,null,null,null,null,null,null,null,null,null,null,null,null,null,null,null,null,null,null,null,null,null,null,null,null,null,null,null,null,null,null,null,null,null,null,null,null,null,null,null,null,null,null,null,null,null,null,null,null,null,null,null,null,null,null,null,null,null,null,null,null,null,null,null,null,null,null,null,null,null,null,null,null,null,null,null,null,null,null,null,null,null,null,null,null,null,null,null,null,{"$f":"IF(C56<>\"\",C56,\"\")","v":""}]
[]
[null,null,null,null,null,null,null,null,null,null,null,null,null,null,null,null,null,null,null,null,null,null,null,null,null,null,null,null,null,null,null,null,null,null,null,null,null,null,null,null,null,null,null,null,null,null,null,null,null,null,null,null,null,null,null,null,null,null,null,null,null,null,null,null,null,null,null,null,null,null,null,null,null,null,null,null,null,null,null,null,null,null,null,null,null,null,null,null,null,null,null,null,null,null,null,null,null,null,null,null,null,null,null,null,null,null,null,null,null,null,null,null,null,null,null,null,null,null,null,null,null,null,null,null,null,null,null,null,null,null,null,null,null,null,null,null,null,null,null,null,null,null,null,null,null,null,null,null,null,null,null,null,null,null,null,null,null,null,null,null,null,null,null,null,null,null,null,null,null,null,null,null,null,null,null,null,null,null,null,null,null,null,null,null,null,null,null,null,null,null,null,null,null,null,null,null,null,{"$f":"IF(C58<>\"\",C58,\"\")","v":""}]
[]
[null,null,null,null,null,null,null,null,null,null,null,null,null,null,null,null,null,null,null,null,null,null,null,null,null,null,null,null,null,null,null,null,null,null,null,null,null,null,null,null,null,null,null,null,null,null,null,null,null,null,null,null,null,null,null,null,null,null,null,null,null,null,null,null,null,null,null,null,null,null,null,null,null,null,null,null,null,null,null,null,null,null,null,null,null,null,null,null,null,null,null,null,null,null,null,null,null,null,null,null,null,null,null,null,null,null,null,null,null,null,null,null,null,null,null,null,null,null,null,null,null,null,null,null,null,null,null,null,null,null,null,null,null,null,null,null,null,null,null,null,null,null,null,null,null,null,null,null,null,null,null,null,null,null,null,null,null,null,null,null,null,null,null,null,null,null,null,null,null,null,null,null,null,null,null,null,null,null,null,null,null,null,null,null,null,null,null,null,null,null,null,null,null,null,null,null,null,{"$f":"IF(C60<>\"\",C60,\"\")","v":""}]
[]
[null,null,null,null,null,null,null,null,null,null,null,null,null,null,null,null,null,null,null,null,null,null,null,null,null,null,null,null,null,null,null,null,null,null,null,null,null,null,null,null,null,null,null,null,null,null,null,null,null,null,null,null,null,null,null,null,null,null,null,null,null,null,null,null,null,null,null,null,null,null,null,null,null,null,null,null,null,null,null,null,null,null,null,null,null,null,null,null,null,null,null,null,null,null,null,null,null,null,null,null,null,null,null,null,null,null,null,null,null,null,null,null,null,null,null,null,null,null,null,null,null,null,null,null,null,null,null,null,null,null,null,null,null,null,null,null,null,null,null,null,null,null,null,null,null,null,null,null,null,null,null,null,null,null,null,null,null,null,null,null,null,null,null,null,null,null,null,null,null,null,null,null,null,null,null,null,null,null,null,null,null,null,null,null,null,null,null,null,null,null,null,null,null,null,null,null,null,{"$f":"IF(C62<>\"\",C62,\"\")","v":""}]
[]
[null,null,null,null,null,null,null,null,null,null,null,null,null,null,null,null,null,null,null,null,null,null,null,null,null,null,null,null,null,null,null,null,null,null,null,null,null,null,null,null,null,null,null,null,null,null,null,null,null,null,null,null,null,null,null,null,null,null,null,null,null,null,null,null,null,null,null,null,null,null,null,null,null,null,null,null,null,null,null,null,null,null,null,null,null,null,null,null,null,null,null,null,null,null,null,null,null,null,null,null,null,null,null,null,null,null,null,null,null,null,null,null,null,null,null,null,null,null,null,null,null,null,null,null,null,null,null,null,null,null,null,null,null,null,null,null,null,null,null,null,null,null,null,null,null,null,null,null,null,null,null,null,null,null,null,null,null,null,null,null,null,null,null,null,null,null,null,null,null,null,null,null,null,null,null,null,null,null,null,null,null,null,null,null,null,null,null,null,null,null,null,null,null,null,null,null,null,{"$f":"IF(C64<>\"\",C64,\"\")","v":""}]
[]
[null,null,null,null,null,null,null,null,null,null,null,null,null,null,null,null,null,null,null,null,null,null,null,null,null,null,null,null,null,null,null,null,null,null,null,null,null,null,null,null,null,null,null,null,null,null,null,null,null,null,null,null,null,null,null,null,null,null,null,null,null,null,null,null,null,null,null,null,null,null,null,null,null,null,null,null,null,null,null,null,null,null,null,null,null,null,null,null,null,null,null,null,null,null,null,null,null,null,null,null,null,null,null,null,null,null,null,null,null,null,null,null,null,null,null,null,null,null,null,null,null,null,null,null,null,null,null,null,null,null,null,null,null,null,null,null,null,null,null,null,null,null,null,null,null,null,null,null,null,null,null,null,null,null,null,null,null,null,null,null,null,null,null,null,null,null,null,null,null,null,null,null,null,null,null,null,null,null,null,null,null,null,null,null,null,null,null,null,null,null,null,null,null,null,null,null,null,{"$f":"IF(C66<>\"\",C66,\"\")","v":""}]
[]
[null,null,null,null,null,null,null,null,null,null,null,null,null,null,null,null,null,null,null,null,null,null,null,null,null,null,null,null,null,null,null,null,null,null,null,null,null,null,null,null,null,null,null,null,null,null,null,null,null,null,null,null,null,null,null,null,null,null,null,null,null,null,null,null,null,null,null,null,null,null,null,null,null,null,null,null,null,null,null,null,null,null,null,null,null,null,null,null,null,null,null,null,null,null,null,null,null,null,null,null,null,null,null,null,null,null,null,null,null,null,null,null,null,null,null,null,null,null,null,null,null,null,null,null,null,null,null,null,null,null,null,null,null,null,null,null,null,null,null,null,null,null,null,null,null,null,null,null,null,null,null,null,null,null,null,null,null,null,null,null,null,null,null,null,null,null,null,null,null,null,null,null,null,null,null,null,null,null,null,null,null,null,null,null,null,null,null,null,null,null,null,null,null,null,null,null,null,{"$f":"IF(C68<>\"\",C68,\"\")","v":""}]
[]
[null,null,null,null,null,null,null,null,null,null,null,null,null,null,null,null,null,null,null,null,null,null,null,null,null,null,null,null,null,null,null,null,null,null,null,null,null,null,null,null,null,null,null,null,null,null,null,null,null,null,null,null,null,null,null,null,null,null,null,null,null,null,null,null,null,null,null,null,null,null,null,null,null,null,null,null,null,null,null,null,null,null,null,null,null,null,null,null,null,null,null,null,null,null,null,null,null,null,null,null,null,null,null,null,null,null,null,null,null,null,null,null,null,null,null,null,null,null,null,null,null,null,null,null,null,null,null,null,null,null,null,null,null,null,null,null,null,null,null,null,null,null,null,null,null,null,null,null,null,null,null,null,null,null,null,null,null,null,null,null,null,null,null,null,null,null,null,null,null,null,null,null,null,null,null,null,null,null,null,null,null,null,null,null,null,null,null,null,null,null,null,null,null,null,null,null,null,{"$f":"IF(C70<>\"\",C70,\"\")","v":""}]
[]
[null,null,null,null,null,null,null,null,null,null,null,null,null,null,null,null,null,null,null,null,null,null,null,null,null,null,null,null,null,null,null,null,null,null,null,null,null,null,null,null,null,null,null,null,null,null,null,null,null,null,null,null,null,null,null,null,null,null,null,null,null,null,null,null,null,null,null,null,null,null,null,null,null,null,null,null,null,null,null,null,null,null,null,null,null,null,null,null,null,null,null,null,null,null,null,null,null,null,null,null,null,null,null,null,null,null,null,null,null,null,null,null,null,null,null,null,null,null,null,null,null,null,null,null,null,null,null,null,null,null,null,null,null,null,null,null,null,null,null,null,null,null,null,null,null,null,null,null,null,null,null,null,null,null,null,null,null,null,null,null,null,null,null,null,null,null,null,null,null,null,null,null,null,null,null,null,null,null,null,null,null,null,null,null,null,null,null,null,null,null,null,null,null,null,null,null,null,{"$f":"IF(C72<>\"\",C72,\"\")","v":""}]
[]
[null,null,null,null,null,null,null,null,null,null,null,null,null,null,null,null,null,null,null,null,null,null,null,null,null,null,null,null,null,null,null,null,null,null,null,null,null,null,null,null,null,null,null,null,null,null,null,null,null,null,null,null,null,null,null,null,null,null,null,null,null,null,null,null,null,null,null,null,null,null,null,null,null,null,null,null,null,null,null,null,null,null,null,null,null,null,null,null,null,null,null,null,null,null,null,null,null,null,null,null,null,null,null,null,null,null,null,null,null,null,null,null,null,null,null,null,null,null,null,null,null,null,null,null,null,null,null,null,null,null,null,null,null,null,null,null,null,null,null,null,null,null,null,null,null,null,null,null,null,null,null,null,null,null,null,null,null,null,null,null,null,null,null,null,null,null,null,null,null,null,null,null,null,null,null,null,null,null,null,null,null,null,null,null,null,null,null,null,null,null,null,null,null,null,null,null,null,{"$f":"IF(C74<>\"\",C74,\"\")","v":""}]
[]
[null,null,null,null,null,null,null,null,null,null,null,null,null,null,null,null,null,null,null,null,null,null,null,null,null,null,null,null,null,null,null,null,null,null,null,null,null,null,null,null,null,null,null,null,null,null,null,null,null,null,null,null,null,null,null,null,null,null,null,null,null,null,null,null,null,null,null,null,null,null,null,null,null,null,null,null,null,null,null,null,null,null,null,null,null,null,null,null,null,null,null,null,null,null,null,null,null,null,null,null,null,null,null,null,null,null,null,null,null,null,null,null,null,null,null,null,null,null,null,null,null,null,null,null,null,null,null,null,null,null,null,null,null,null,null,null,null,null,null,null,null,null,null,null,null,null,null,null,null,null,null,null,null,null,null,null,null,null,null,null,null,null,null,null,null,null,null,null,null,null,null,null,null,null,null,null,null,null,null,null,null,null,null,null,null,null,null,null,null,null,null,null,null,null,null,null,null,{"$f":"IF(C76<>\"\",C76,\"\")","v":""}]
[]
[null,null,null,null,null,null,null,null,null,null,null,null,null,null,null,null,null,null,null,null,null,null,null,null,null,null,null,null,null,null,null,null,null,null,null,null,null,null,null,null,null,null,null,null,null,null,null,null,null,null,null,null,null,null,null,null,null,null,null,null,null,null,null,null,null,null,null,null,null,null,null,null,null,null,null,null,null,null,null,null,null,null,null,null,null,null,null,null,null,null,null,null,null,null,null,null,null,null,null,null,null,null,null,null,null,null,null,null,null,null,null,null,null,null,null,null,null,null,null,null,null,null,null,null,null,null,null,null,null,null,null,null,null,null,null,null,null,null,null,null,null,null,null,null,null,null,null,null,null,null,null,null,null,null,null,null,null,null,null,null,null,null,null,null,null,null,null,null,null,null,null,null,null,null,null,null,null,null,null,null,null,null,null,null,null,null,null,null,null,null,null,null,null,null,null,null,null,{"$f":"IF(C78<>\"\",C78,\"\")","v":""}]
[]
[null,null,null,null,null,null,null,null,null,null,null,null,null,null,null,null,null,null,null,null,null,null,null,null,null,null,null,null,null,null,null,null,null,null,null,null,null,null,null,null,null,null,null,null,null,null,null,null,null,null,null,null,null,null,null,null,null,null,null,null,null,null,null,null,null,null,null,null,null,null,null,null,null,null,null,null,null,null,null,null,null,null,null,null,null,null,null,null,null,null,null,null,null,null,null,null,null,null,null,null,null,null,null,null,null,null,null,null,null,null,null,null,null,null,null,null,null,null,null,null,null,null,null,null,null,null,null,null,null,null,null,null,null,null,null,null,null,null,null,null,null,null,null,null,null,null,null,null,null,null,null,null,null,null,null,null,null,null,null,null,null,null,null,null,null,null,null,null,null,null,null,null,null,null,null,null,null,null,null,null,null,null,null,null,null,null,null,null,null,null,null,null,null,null,null,null,null,{"$f":"IF(C80<>\"\",C80,\"\")","v":""}]
[]
[null,null,null,null,null,null,null,null,null,null,null,null,null,null,null,null,null,null,null,null,null,null,null,null,null,null,null,null,null,null,null,null,null,null,null,null,null,null,null,null,null,null,null,null,null,null,null,null,null,null,null,null,null,null,null,null,null,null,null,null,null,null,null,null,null,null,null,null,null,null,null,null,null,null,null,null,null,null,null,null,null,null,null,null,null,null,null,null,null,null,null,null,null,null,null,null,null,null,null,null,null,null,null,null,null,null,null,null,null,null,null,null,null,null,null,null,null,null,null,null,null,null,null,null,null,null,null,null,null,null,null,null,null,null,null,null,null,null,null,null,null,null,null,null,null,null,null,null,null,null,null,null,null,null,null,null,null,null,null,null,null,null,null,null,null,null,null,null,null,null,null,null,null,null,null,null,null,null,null,null,null,null,null,null,null,null,null,null,null,null,null,null,null,null,null,null,null,{"$f":"IF(C82<>\"\",C82,\"\")","v":""}]
[]
[null,null,null,null,null,null,null,null,null,null,null,null,null,null,null,null,null,null,null,null,null,null,null,null,null,null,null,null,null,null,null,null,null,null,null,null,null,null,null,null,null,null,null,null,null,null,null,null,null,null,null,null,null,null,null,null,null,null,null,null,null,null,null,null,null,null,null,null,null,null,null,null,null,null,null,null,null,null,null,null,null,null,null,null,null,null,null,null,null,null,null,null,null,null,null,null,null,null,null,null,null,null,null,null,null,null,null,null,null,null,null,null,null,null,null,null,null,null,null,null,null,null,null,null,null,null,null,null,null,null,null,null,null,null,null,null,null,null,null,null,null,null,null,null,null,null,null,null,null,null,null,null,null,null,null,null,null,null,null,null,null,null,null,null,null,null,null,null,null,null,null,null,null,null,null,null,null,null,null,null,null,null,null,null,null,null,null,null,null,null,null,null,null,null,null,null,null,{"$f":"IF(C84<>\"\",C84,\"\")","v":""}]
[]
[null,null,null,null,null,null,null,null,null,null,null,null,null,null,null,null,null,null,null,null,null,null,null,null,null,null,null,null,null,null,null,null,null,null,null,null,null,null,null,null,null,null,null,null,null,null,null,null,null,null,null,null,null,null,null,null,null,null,null,null,null,null,null,null,null,null,null,null,null,null,null,null,null,null,null,null,null,null,null,null,null,null,null,null,null,null,null,null,null,null,null,null,null,null,null,null,null,null,null,null,null,null,null,null,null,null,null,null,null,null,null,null,null,null,null,null,null,null,null,null,null,null,null,null,null,null,null,null,null,null,null,null,null,null,null,null,null,null,null,null,null,null,null,null,null,null,null,null,null,null,null,null,null,null,null,null,null,null,null,null,null,null,null,null,null,null,null,null,null,null,null,null,null,null,null,null,null,null,null,null,null,null,null,null,null,null,null,null,null,null,null,null,null,null,null,null,null,{"$f":"IF(C86<>\"\",C86,\"\")","v":""}]
[]
[null,null,null,null,null,null,null,null,null,null,null,null,null,null,null,null,null,null,null,null,null,null,null,null,null,null,null,null,null,null,null,null,null,null,null,null,null,null,null,null,null,null,null,null,null,null,null,null,null,null,null,null,null,null,null,null,null,null,null,null,null,null,null,null,null,null,null,null,null,null,null,null,null,null,null,null,null,null,null,null,null,null,null,null,null,null,null,null,null,null,null,null,null,null,null,null,null,null,null,null,null,null,null,null,null,null,null,null,null,null,null,null,null,null,null,null,null,null,null,null,null,null,null,null,null,null,null,null,null,null,null,null,null,null,null,null,null,null,null,null,null,null,null,null,null,null,null,null,null,null,null,null,null,null,null,null,null,null,null,null,null,null,null,null,null,null,null,null,null,null,null,null,null,null,null,null,null,null,null,null,null,null,null,null,null,null,null,null,null,null,null,null,null,null,null,null,null,{"$f":"IF(C88<>\"\",C88,\"\")","v":""}]
[]
[null,null,null,null,null,null,null,null,null,null,null,null,null,null,null,null,null,null,null,null,null,null,null,null,null,null,null,null,null,null,null,null,null,null,null,null,null,null,null,null,null,null,null,null,null,null,null,null,null,null,null,null,null,null,null,null,null,null,null,null,null,null,null,null,null,null,null,null,null,null,null,null,null,null,null,null,null,null,null,null,null,null,null,null,null,null,null,null,null,null,null,null,null,null,null,null,null,null,null,null,null,null,null,null,null,null,null,null,null,null,null,null,null,null,null,null,null,null,null,null,null,null,null,null,null,null,null,null,null,null,null,null,null,null,null,null,null,null,null,null,null,null,null,null,null,null,null,null,null,null,null,null,null,null,null,null,null,null,null,null,null,null,null,null,null,null,null,null,null,null,null,null,null,null,null,null,null,null,null,null,null,null,null,null,null,null,null,null,null,null,null,null,null,null,null,null,null,{"$f":"IF(C90<>\"\",C90,\"\")","v":""}]
[]
[null,null,null,null,null,null,null,null,null,null,null,null,null,null,null,null,null,null,null,null,null,null,null,null,null,null,null,null,null,null,null,null,null,null,null,null,null,null,null,null,null,null,null,null,null,null,null,null,null,null,null,null,null,null,null,null,null,null,null,null,null,null,null,null,null,null,null,null,null,null,null,null,null,null,null,null,null,null,null,null,null,null,null,null,null,null,null,null,null,null,null,null,null,null,null,null,null,null,null,null,null,null,null,null,null,null,null,null,null,null,null,null,null,null,null,null,null,null,null,null,null,null,null,null,null,null,null,null,null,null,null,null,null,null,null,null,null,null,null,null,null,null,null,null,null,null,null,null,null,null,null,null,null,null,null,null,null,null,null,null,null,null,null,null,null,null,null,null,null,null,null,null,null,null,null,null,null,null,null,null,null,null,null,null,null,null,null,null,null,null,null,null,null,null,null,null,null,{"$f":"IF(C92<>\"\",C92,\"\")","v":""}]
[]
[null,null,null,null,null,null,null,null,null,null,null,null,null,null,null,null,null,null,null,null,null,null,null,null,null,null,null,null,null,null,null,null,null,null,null,null,null,null,null,null,null,null,null,null,null,null,null,null,null,null,null,null,null,null,null,null,null,null,null,null,null,null,null,null,null,null,null,null,null,null,null,null,null,null,null,null,null,null,null,null,null,null,null,null,null,null,null,null,null,null,null,null,null,null,null,null,null,null,null,null,null,null,null,null,null,null,null,null,null,null,null,null,null,null,null,null,null,null,null,null,null,null,null,null,null,null,null,null,null,null,null,null,null,null,null,null,null,null,null,null,null,null,null,null,null,null,null,null,null,null,null,null,null,null,null,null,null,null,null,null,null,null,null,null,null,null,null,null,null,null,null,null,null,null,null,null,null,null,null,null,null,null,null,null,null,null,null,null,null,null,null,null,null,null,null,null,null,{"$f":"IF(C94<>\"\",C94,\"\")","v":""}]
[]
[null,null,null,null,null,null,null,null,null,null,null,null,null,null,null,null,null,null,null,null,null,null,null,null,null,null,null,null,null,null,null,null,null,null,null,null,null,null,null,null,null,null,null,null,null,null,null,null,null,null,null,null,null,null,null,null,null,null,null,null,null,null,null,null,null,null,null,null,null,null,null,null,null,null,null,null,null,null,null,null,null,null,null,null,null,null,null,null,null,null,null,null,null,null,null,null,null,null,null,null,null,null,null,null,null,null,null,null,null,null,null,null,null,null,null,null,null,null,null,null,null,null,null,null,null,null,null,null,null,null,null,null,null,null,null,null,null,null,null,null,null,null,null,null,null,null,null,null,null,null,null,null,null,null,null,null,null,null,null,null,null,null,null,null,null,null,null,null,null,null,null,null,null,null,null,null,null,null,null,null,null,null,null,null,null,null,null,null,null,null,null,null,null,null,null,null,null,{"$f":"IF(C96<>\"\",C96,\"\")","v":""}]
[]
[null,null,null,null,null,null,null,null,null,null,null,null,null,null,null,null,null,null,null,null,null,null,null,null,null,null,null,null,null,null,null,null,null,null,null,null,null,null,null,null,null,null,null,null,null,null,null,null,null,null,null,null,null,null,null,null,null,null,null,null,null,null,null,null,null,null,null,null,null,null,null,null,null,null,null,null,null,null,null,null,null,null,null,null,null,null,null,null,null,null,null,null,null,null,null,null,null,null,null,null,null,null,null,null,null,null,null,null,null,null,null,null,null,null,null,null,null,null,null,null,null,null,null,null,null,null,null,null,null,null,null,null,null,null,null,null,null,null,null,null,null,null,null,null,null,null,null,null,null,null,null,null,null,null,null,null,null,null,null,null,null,null,null,null,null,null,null,null,null,null,null,null,null,null,null,null,null,null,null,null,null,null,null,null,null,null,null,null,null,null,null,null,null,null,null,null,null,{"$f":"IF(C98<>\"\",C98,\"\")","v":""}]
[]
[null,null,null,null,null,null,null,null,null,null,null,null,null,null,null,null,null,null,null,null,null,null,null,null,null,null,null,null,null,null,null,null,null,null,null,null,null,null,null,null,null,null,null,null,null,null,null,null,null,null,null,null,null,null,null,null,null,null,null,null,null,null,null,null,null,null,null,null,null,null,null,null,null,null,null,null,null,null,null,null,null,null,null,null,null,null,null,null,null,null,null,null,null,null,null,null,null,null,null,null,null,null,null,null,null,null,null,null,null,null,null,null,null,null,null,null,null,null,null,null,null,null,null,null,null,null,null,null,null,null,null,null,null,null,null,null,null,null,null,null,null,null,null,null,null,null,null,null,null,null,null,null,null,null,null,null,null,null,null,null,null,null,null,null,null,null,null,null,null,null,null,null,null,null,null,null,null,null,null,null,null,null,null,null,null,null,null,null,null,null,null,null,null,null,null,null,null,{"$f":"IF(C100<>\"\",C100,\"\")","v":""}]
[]
[null,null,null,null,null,null,null,null,null,null,null,null,null,null,null,null,null,null,null,null,null,null,null,null,null,null,null,null,null,null,null,null,null,null,null,null,null,null,null,null,null,null,null,null,null,null,null,null,null,null,null,null,null,null,null,null,null,null,null,null,null,null,null,null,null,null,null,null,null,null,null,null,null,null,null,null,null,null,null,null,null,null,null,null,null,null,null,null,null,null,null,null,null,null,null,null,null,null,null,null,null,null,null,null,null,null,null,null,null,null,null,null,null,null,null,null,null,null,null,null,null,null,null,null,null,null,null,null,null,null,null,null,null,null,null,null,null,null,null,null,null,null,null,null,null,null,null,null,null,null,null,null,null,null,null,null,null,null,null,null,null,null,null,null,null,null,null,null,null,null,null,null,null,null,null,null,null,null,null,null,null,null,null,null,null,null,null,null,null,null,null,null,null,null,null,null,null,{"$f":"IF(C102<>\"\",C102,\"\")","v":""}]
[]
[null,null,null,null,null,null,null,null,null,null,null,null,null,null,null,null,null,null,null,null,null,null,null,null,null,null,null,null,null,null,null,null,null,null,null,null,null,null,null,null,null,null,null,null,null,null,null,null,null,null,null,null,null,null,null,null,null,null,null,null,null,null,null,null,null,null,null,null,null,null,null,null,null,null,null,null,null,null,null,null,null,null,null,null,null,null,null,null,null,null,null,null,null,null,null,null,null,null,null,null,null,null,null,null,null,null,null,null,null,null,null,null,null,null,null,null,null,null,null,null,null,null,null,null,null,null,null,null,null,null,null,null,null,null,null,null,null,null,null,null,null,null,null,null,null,null,null,null,null,null,null,null,null,null,null,null,null,null,null,null,null,null,null,null,null,null,null,null,null,null,null,null,null,null,null,null,null,null,null,null,null,null,null,null,null,null,null,null,null,null,null,null,null,null,null,null,null,{"$f":"IF(C104<>\"\",C104,\"\")","v":""}]
[]
[null,null,null,null,null,null,null,null,null,null,null,null,null,null,null,null,null,null,null,null,null,null,null,null,null,null,null,null,null,null,null,null,null,null,null,null,null,null,null,null,null,null,null,null,null,null,null,null,null,null,null,null,null,null,null,null,null,null,null,null,null,null,null,null,null,null,null,null,null,null,null,null,null,null,null,null,null,null,null,null,null,null,null,null,null,null,null,null,null,null,null,null,null,null,null,null,null,null,null,null,null,null,null,null,null,null,null,null,null,null,null,null,null,null,null,null,null,null,null,null,null,null,null,null,null,null,null,null,null,null,null,null,null,null,null,null,null,null,null,null,null,null,null,null,null,null,null,null,null,null,null,null,null,null,null,null,null,null,null,null,null,null,null,null,null,null,null,null,null,null,null,null,null,null,null,null,null,null,null,null,null,null,null,null,null,null,null,null,null,null,null,null,null,null,null,null,null,{"$f":"IF(C106<>\"\",C106,\"\")","v":""}]
[]
[null,null,null,null,null,null,null,null,null,null,null,null,null,null,null,null,null,null,null,null,null,null,null,null,null,null,null,null,null,null,null,null,null,null,null,null,null,null,null,null,null,null,null,null,null,null,null,null,null,null,null,null,null,null,null,null,null,null,null,null,null,null,null,null,null,null,null,null,null,null,null,null,null,null,null,null,null,null,null,null,null,null,null,null,null,null,null,null,null,null,null,null,null,null,null,null,null,null,null,null,null,null,null,null,null,null,null,null,null,null,null,null,null,null,null,null,null,null,null,null,null,null,null,null,null,null,null,null,null,null,null,null,null,null,null,null,null,null,null,null,null,null,null,null,null,null,null,null,null,null,null,null,null,null,null,null,null,null,null,null,null,null,null,null,null,null,null,null,null,null,null,null,null,null,null,null,null,null,null,null,null,null,null,null,null,null,null,null,null,null,null,null,null,null,null,null,null,{"$f":"IF(C108<>\"\",C108,\"\")","v":""}]
[]
[null,null,null,null,null,null,null,null,null,null,null,null,null,null,null,null,null,null,null,null,null,null,null,null,null,null,null,null,null,null,null,null,null,null,null,null,null,null,null,null,null,null,null,null,null,null,null,null,null,null,null,null,null,null,null,null,null,null,null,null,null,null,null,null,null,null,null,null,null,null,null,null,null,null,null,null,null,null,null,null,null,null,null,null,null,null,null,null,null,null,null,null,null,null,null,null,null,null,null,null,null,null,null,null,null,null,null,null,null,null,null,null,null,null,null,null,null,null,null,null,null,null,null,null,null,null,null,null,null,null,null,null,null,null,null,null,null,null,null,null,null,null,null,null,null,null,null,null,null,null,null,null,null,null,null,null,null,null,null,null,null,null,null,null,null,null,null,null,null,null,null,null,null,null,null,null,null,null,null,null,null,null,null,null,null,null,null,null,null,null,null,null,null,null,null,null,null,{"$f":"IF(C110<>\"\",C110,\"\")","v":""}]
[]
[null,null,null,null,null,null,null,null,null,null,null,null,null,null,null,null,null,null,null,null,null,null,null,null,null,null,null,null,null,null,null,null,null,null,null,null,null,null,null,null,null,null,null,null,null,null,null,null,null,null,null,null,null,null,null,null,null,null,null,null,null,null,null,null,null,null,null,null,null,null,null,null,null,null,null,null,null,null,null,null,null,null,null,null,null,null,null,null,null,null,null,null,null,null,null,null,null,null,null,null,null,null,null,null,null,null,null,null,null,null,null,null,null,null,null,null,null,null,null,null,null,null,null,null,null,null,null,null,null,null,null,null,null,null,null,null,null,null,null,null,null,null,null,null,null,null,null,null,null,null,null,null,null,null,null,null,null,null,null,null,null,null,null,null,null,null,null,null,null,null,null,null,null,null,null,null,null,null,null,null,null,null,null,null,null,null,null,null,null,null,null,null,null,null,null,null,null,{"$f":"IF(C112<>\"\",C112,\"\")","v":""}]
[]
[null,null,null,null,null,null,null,null,null,null,null,null,null,null,null,null,null,null,null,null,null,null,null,null,null,null,null,null,null,null,null,null,null,null,null,null,null,null,null,null,null,null,null,null,null,null,null,null,null,null,null,null,null,null,null,null,null,null,null,null,null,null,null,null,null,null,null,null,null,null,null,null,null,null,null,null,null,null,null,null,null,null,null,null,null,null,null,null,null,null,null,null,null,null,null,null,null,null,null,null,null,null,null,null,null,null,null,null,null,null,null,null,null,null,null,null,null,null,null,null,null,null,null,null,null,null,null,null,null,null,null,null,null,null,null,null,null,null,null,null,null,null,null,null,null,null,null,null,null,null,null,null,null,null,null,null,null,null,null,null,null,null,null,null,null,null,null,null,null,null,null,null,null,null,null,null,null,null,null,null,null,null,null,null,null,null,null,null,null,null,null,null,null,null,null,null,null,{"$f":"IF(C114<>\"\",C114,\"\")","v":""}]
[]
[null,null,null,null,null,null,null,null,null,null,null,null,null,null,null,null,null,null,null,null,null,null,null,null,null,null,null,null,null,null,null,null,null,null,null,null,null,null,null,null,null,null,null,null,null,null,null,null,null,null,null,null,null,null,null,null,null,null,null,null,null,null,null,null,null,null,null,null,null,null,null,null,null,null,null,null,null,null,null,null,null,null,null,null,null,null,null,null,null,null,null,null,null,null,null,null,null,null,null,null,null,null,null,null,null,null,null,null,null,null,null,null,null,null,null,null,null,null,null,null,null,null,null,null,null,null,null,null,null,null,null,null,null,null,null,null,null,null,null,null,null,null,null,null,null,null,null,null,null,null,null,null,null,null,null,null,null,null,null,null,null,null,null,null,null,null,null,null,null,null,null,null,null,null,null,null,null,null,null,null,null,null,null,null,null,null,null,null,null,null,null,null,null,null,null,null,null,{"$f":"IF(C116<>\"\",C116,\"\")","v":""}]
[]
[null,null,null,null,null,null,null,null,null,null,null,null,null,null,null,null,null,null,null,null,null,null,null,null,null,null,null,null,null,null,null,null,null,null,null,null,null,null,null,null,null,null,null,null,null,null,null,null,null,null,null,null,null,null,null,null,null,null,null,null,null,null,null,null,null,null,null,null,null,null,null,null,null,null,null,null,null,null,null,null,null,null,null,null,null,null,null,null,null,null,null,null,null,null,null,null,null,null,null,null,null,null,null,null,null,null,null,null,null,null,null,null,null,null,null,null,null,null,null,null,null,null,null,null,null,null,null,null,null,null,null,null,null,null,null,null,null,null,null,null,null,null,null,null,null,null,null,null,null,null,null,null,null,null,null,null,null,null,null,null,null,null,null,null,null,null,null,null,null,null,null,null,null,null,null,null,null,null,null,null,null,null,null,null,null,null,null,null,null,null,null,null,null,null,null,null,null,{"$f":"IF(C118<>\"\",C118,\"\")","v":""}]
[]
[null,null,null,null,null,null,null,null,null,null,null,null,null,null,null,null,null,null,null,null,null,null,null,null,null,null,null,null,null,null,null,null,null,null,null,null,null,null,null,null,null,null,null,null,null,null,null,null,null,null,null,null,null,null,null,null,null,null,null,null,null,null,null,null,null,null,null,null,null,null,null,null,null,null,null,null,null,null,null,null,null,null,null,null,null,null,null,null,null,null,null,null,null,null,null,null,null,null,null,null,null,null,null,null,null,null,null,null,null,null,null,null,null,null,null,null,null,null,null,null,null,null,null,null,null,null,null,null,null,null,null,null,null,null,null,null,null,null,null,null,null,null,null,null,null,null,null,null,null,null,null,null,null,null,null,null,null,null,null,null,null,null,null,null,null,null,null,null,null,null,null,null,null,null,null,null,null,null,null,null,null,null,null,null,null,null,null,null,null,null,null,null,null,null,null,null,null,{"$f":"IF(C120<>\"\",C120,\"\")","v":""}]
[]
[null,null,null,null,null,null,null,null,null,null,null,null,null,null,null,null,null,null,null,null,null,null,null,null,null,null,null,null,null,null,null,null,null,null,null,null,null,null,null,null,null,null,null,null,null,null,null,null,null,null,null,null,null,null,null,null,null,null,null,null,null,null,null,null,null,null,null,null,null,null,null,null,null,null,null,null,null,null,null,null,null,null,null,null,null,null,null,null,null,null,null,null,null,null,null,null,null,null,null,null,null,null,null,null,null,null,null,null,null,null,null,null,null,null,null,null,null,null,null,null,null,null,null,null,null,null,null,null,null,null,null,null,null,null,null,null,null,null,null,null,null,null,null,null,null,null,null,null,null,null,null,null,null,null,null,null,null,null,null,null,null,null,null,null,null,null,null,null,null,null,null,null,null,null,null,null,null,null,null,null,null,null,null,null,null,null,null,null,null,null,null,null,null,null,null,null,null,{"$f":"IF(C122<>\"\",C122,\"\")","v":""}]
[]
[null,null,null,null,null,null,null,null,null,null,null,null,null,null,null,null,null,null,null,null,null,null,null,null,null,null,null,null,null,null,null,null,null,null,null,null,null,null,null,null,null,null,null,null,null,null,null,null,null,null,null,null,null,null,null,null,null,null,null,null,null,null,null,null,null,null,null,null,null,null,null,null,null,null,null,null,null,null,null,null,null,null,null,null,null,null,null,null,null,null,null,null,null,null,null,null,null,null,null,null,null,null,null,null,null,null,null,null,null,null,null,null,null,null,null,null,null,null,null,null,null,null,null,null,null,null,null,null,null,null,null,null,null,null,null,null,null,null,null,null,null,null,null,null,null,null,null,null,null,null,null,null,null,null,null,null,null,null,null,null,null,null,null,null,null,null,null,null,null,null,null,null,null,null,null,null,null,null,null,null,null,null,null,null,null,null,null,null,null,null,null,null,null,null,null,null,null,{"$f":"IF(C124<>\"\",C124,\"\")","v":""}]
[]
[null,null,null,null,null,null,null,null,null,null,null,null,null,null,null,null,null,null,null,null,null,null,null,null,null,null,null,null,null,null,null,null,null,null,null,null,null,null,null,null,null,null,null,null,null,null,null,null,null,null,null,null,null,null,null,null,null,null,null,null,null,null,null,null,null,null,null,null,null,null,null,null,null,null,null,null,null,null,null,null,null,null,null,null,null,null,null,null,null,null,null,null,null,null,null,null,null,null,null,null,null,null,null,null,null,null,null,null,null,null,null,null,null,null,null,null,null,null,null,null,null,null,null,null,null,null,null,null,null,null,null,null,null,null,null,null,null,null,null,null,null,null,null,null,null,null,null,null,null,null,null,null,null,null,null,null,null,null,null,null,null,null,null,null,null,null,null,null,null,null,null,null,null,null,null,null,null,null,null,null,null,null,null,null,null,null,null,null,null,null,null,null,null,null,null,null,null,{"$f":"IF(C126<>\"\",C126,\"\")","v":""}]
[]
[null,null,null,null,null,null,null,null,null,null,null,null,null,null,null,null,null,null,null,null,null,null,null,null,null,null,null,null,null,null,null,null,null,null,null,null,null,null,null,null,null,null,null,null,null,null,null,null,null,null,null,null,null,null,null,null,null,null,null,null,null,null,null,null,null,null,null,null,null,null,null,null,null,null,null,null,null,null,null,null,null,null,null,null,null,null,null,null,null,null,null,null,null,null,null,null,null,null,null,null,null,null,null,null,null,null,null,null,null,null,null,null,null,null,null,null,null,null,null,null,null,null,null,null,null,null,null,null,null,null,null,null,null,null,null,null,null,null,null,null,null,null,null,null,null,null,null,null,null,null,null,null,null,null,null,null,null,null,null,null,null,null,null,null,null,null,null,null,null,null,null,null,null,null,null,null,null,null,null,null,null,null,null,null,null,null,null,null,null,null,null,null,null,null,null,null,null,{"$f":"IF(C128<>\"\",C128,\"\")","v":""}]
[]
[null,null,null,null,null,null,null,null,null,null,null,null,null,null,null,null,null,null,null,null,null,null,null,null,null,null,null,null,null,null,null,null,null,null,null,null,null,null,null,null,null,null,null,null,null,null,null,null,null,null,null,null,null,null,null,null,null,null,null,null,null,null,null,null,null,null,null,null,null,null,null,null,null,null,null,null,null,null,null,null,null,null,null,null,null,null,null,null,null,null,null,null,null,null,null,null,null,null,null,null,null,null,null,null,null,null,null,null,null,null,null,null,null,null,null,null,null,null,null,null,null,null,null,null,null,null,null,null,null,null,null,null,null,null,null,null,null,null,null,null,null,null,null,null,null,null,null,null,null,null,null,null,null,null,null,null,null,null,null,null,null,null,null,null,null,null,null,null,null,null,null,null,null,null,null,null,null,null,null,null,null,null,null,null,null,null,null,null,null,null,null,null,null,null,null,null,null,{"$f":"IF(C130<>\"\",C130,\"\")","v":""}]
[]
[null,null,null,null,null,null,null,null,null,null,null,null,null,null,null,null,null,null,null,null,null,null,null,null,null,null,null,null,null,null,null,null,null,null,null,null,null,null,null,null,null,null,null,null,null,null,null,null,null,null,null,null,null,null,null,null,null,null,null,null,null,null,null,null,null,null,null,null,null,null,null,null,null,null,null,null,null,null,null,null,null,null,null,null,null,null,null,null,null,null,null,null,null,null,null,null,null,null,null,null,null,null,null,null,null,null,null,null,null,null,null,null,null,null,null,null,null,null,null,null,null,null,null,null,null,null,null,null,null,null,null,null,null,null,null,null,null,null,null,null,null,null,null,null,null,null,null,null,null,null,null,null,null,null,null,null,null,null,null,null,null,null,null,null,null,null,null,null,null,null,null,null,null,null,null,null,null,null,null,null,null,null,null,null,null,null,null,null,null,null,null,null,null,null,null,null,null,{"$f":"IF(C132<>\"\",C132,\"\")","v":""}]
[]
[null,null,null,null,null,null,null,null,null,null,null,null,null,null,null,null,null,null,null,null,null,null,null,null,null,null,null,null,null,null,null,null,null,null,null,null,null,null,null,null,null,null,null,null,null,null,null,null,null,null,null,null,null,null,null,null,null,null,null,null,null,null,null,null,null,null,null,null,null,null,null,null,null,null,null,null,null,null,null,null,null,null,null,null,null,null,null,null,null,null,null,null,null,null,null,null,null,null,null,null,null,null,null,null,null,null,null,null,null,null,null,null,null,null,null,null,null,null,null,null,null,null,null,null,null,null,null,null,null,null,null,null,null,null,null,null,null,null,null,null,null,null,null,null,null,null,null,null,null,null,null,null,null,null,null,null,null,null,null,null,null,null,null,null,null,null,null,null,null,null,null,null,null,null,null,null,null,null,null,null,null,null,null,null,null,null,null,null,null,null,null,null,null,null,null,null,null,{"$f":"IF(C134<>\"\",C134,\"\")","v":""}]
[]
[null,null,null,null,null,null,null,null,null,null,null,null,null,null,null,null,null,null,null,null,null,null,null,null,null,null,null,null,null,null,null,null,null,null,null,null,null,null,null,null,null,null,null,null,null,null,null,null,null,null,null,null,null,null,null,null,null,null,null,null,null,null,null,null,null,null,null,null,null,null,null,null,null,null,null,null,null,null,null,null,null,null,null,null,null,null,null,null,null,null,null,null,null,null,null,null,null,null,null,null,null,null,null,null,null,null,null,null,null,null,null,null,null,null,null,null,null,null,null,null,null,null,null,null,null,null,null,null,null,null,null,null,null,null,null,null,null,null,null,null,null,null,null,null,null,null,null,null,null,null,null,null,null,null,null,null,null,null,null,null,null,null,null,null,null,null,null,null,null,null,null,null,null,null,null,null,null,null,null,null,null,null,null,null,null,null,null,null,null,null,null,null,null,null,null,null,null,{"$f":"IF(C136<>\"\",C136,\"\")","v":""}]
[]
[null,null,null,null,null,null,null,null,null,null,null,null,null,null,null,null,null,null,null,null,null,null,null,null,null,null,null,null,null,null,null,null,null,null,null,null,null,null,null,null,null,null,null,null,null,null,null,null,null,null,null,null,null,null,null,null,null,null,null,null,null,null,null,null,null,null,null,null,null,null,null,null,null,null,null,null,null,null,null,null,null,null,null,null,null,null,null,null,null,null,null,null,null,null,null,null,null,null,null,null,null,null,null,null,null,null,null,null,null,null,null,null,null,null,null,null,null,null,null,null,null,null,null,null,null,null,null,null,null,null,null,null,null,null,null,null,null,null,null,null,null,null,null,null,null,null,null,null,null,null,null,null,null,null,null,null,null,null,null,null,null,null,null,null,null,null,null,null,null,null,null,null,null,null,null,null,null,null,null,null,null,null,null,null,null,null,null,null,null,null,null,null,null,null,null,null,null,{"$f":"IF(C138<>\"\",C138,\"\")","v":""}]
[]
[null,null,null,null,null,null,null,null,null,null,null,null,null,null,null,null,null,null,null,null,null,null,null,null,null,null,null,null,null,null,null,null,null,null,null,null,null,null,null,null,null,null,null,null,null,null,null,null,null,null,null,null,null,null,null,null,null,null,null,null,null,null,null,null,null,null,null,null,null,null,null,null,null,null,null,null,null,null,null,null,null,null,null,null,null,null,null,null,null,null,null,null,null,null,null,null,null,null,null,null,null,null,null,null,null,null,null,null,null,null,null,null,null,null,null,null,null,null,null,null,null,null,null,null,null,null,null,null,null,null,null,null,null,null,null,null,null,null,null,null,null,null,null,null,null,null,null,null,null,null,null,null,null,null,null,null,null,null,null,null,null,null,null,null,null,null,null,null,null,null,null,null,null,null,null,null,null,null,null,null,null,null,null,null,null,null,null,null,null,null,null,null,null,null,null,null,null,{"$f":"IF(C140<>\"\",C140,\"\")","v":""}]
[]
[null,null,null,null,null,null,null,null,null,null,null,null,null,null,null,null,null,null,null,null,null,null,null,null,null,null,null,null,null,null,null,null,null,null,null,null,null,null,null,null,null,null,null,null,null,null,null,null,null,null,null,null,null,null,null,null,null,null,null,null,null,null,null,null,null,null,null,null,null,null,null,null,null,null,null,null,null,null,null,null,null,null,null,null,null,null,null,null,null,null,null,null,null,null,null,null,null,null,null,null,null,null,null,null,null,null,null,null,null,null,null,null,null,null,null,null,null,null,null,null,null,null,null,null,null,null,null,null,null,null,null,null,null,null,null,null,null,null,null,null,null,null,null,null,null,null,null,null,null,null,null,null,null,null,null,null,null,null,null,null,null,null,null,null,null,null,null,null,null,null,null,null,null,null,null,null,null,null,null,null,null,null,null,null,null,null,null,null,null,null,null,null,null,null,null,null,null,{"$f":"IF(C142<>\"\",C142,\"\")","v":""}]
[]
[null,null,null,null,null,null,null,null,null,null,null,null,null,null,null,null,null,null,null,null,null,null,null,null,null,null,null,null,null,null,null,null,null,null,null,null,null,null,null,null,null,null,null,null,null,null,null,null,null,null,null,null,null,null,null,null,null,null,null,null,null,null,null,null,null,null,null,null,null,null,null,null,null,null,null,null,null,null,null,null,null,null,null,null,null,null,null,null,null,null,null,null,null,null,null,null,null,null,null,null,null,null,null,null,null,null,null,null,null,null,null,null,null,null,null,null,null,null,null,null,null,null,null,null,null,null,null,null,null,null,null,null,null,null,null,null,null,null,null,null,null,null,null,null,null,null,null,null,null,null,null,null,null,null,null,null,null,null,null,null,null,null,null,null,null,null,null,null,null,null,null,null,null,null,null,null,null,null,null,null,null,null,null,null,null,null,null,null,null,null,null,null,null,null,null,null,null,{"$f":"IF(C144<>\"\",C144,\"\")","v":""}]
[]
[null,null,null,null,null,null,null,null,null,null,null,null,null,null,null,null,null,null,null,null,null,null,null,null,null,null,null,null,null,null,null,null,null,null,null,null,null,null,null,null,null,null,null,null,null,null,null,null,null,null,null,null,null,null,null,null,null,null,null,null,null,null,null,null,null,null,null,null,null,null,null,null,null,null,null,null,null,null,null,null,null,null,null,null,null,null,null,null,null,null,null,null,null,null,null,null,null,null,null,null,null,null,null,null,null,null,null,null,null,null,null,null,null,null,null,null,null,null,null,null,null,null,null,null,null,null,null,null,null,null,null,null,null,null,null,null,null,null,null,null,null,null,null,null,null,null,null,null,null,null,null,null,null,null,null,null,null,null,null,null,null,null,null,null,null,null,null,null,null,null,null,null,null,null,null,null,null,null,null,null,null,null,null,null,null,null,null,null,null,null,null,null,null,null,null,null,null,{"$f":"IF(C146<>\"\",C146,\"\")","v":""}]
[]
[null,null,null,null,null,null,null,null,null,null,null,null,null,null,null,null,null,null,null,null,null,null,null,null,null,null,null,null,null,null,null,null,null,null,null,null,null,null,null,null,null,null,null,null,null,null,null,null,null,null,null,null,null,null,null,null,null,null,null,null,null,null,null,null,null,null,null,null,null,null,null,null,null,null,null,null,null,null,null,null,null,null,null,null,null,null,null,null,null,null,null,null,null,null,null,null,null,null,null,null,null,null,null,null,null,null,null,null,null,null,null,null,null,null,null,null,null,null,null,null,null,null,null,null,null,null,null,null,null,null,null,null,null,null,null,null,null,null,null,null,null,null,null,null,null,null,null,null,null,null,null,null,null,null,null,null,null,null,null,null,null,null,null,null,null,null,null,null,null,null,null,null,null,null,null,null,null,null,null,null,null,null,null,null,null,null,null,null,null,null,null,null,null,null,null,null,null,{"$f":"IF(C148<>\"\",C148,\"\")","v":""}]
[]
[null,null,null,null,null,null,null,null,null,null,null,null,null,null,null,null,null,null,null,null,null,null,null,null,null,null,null,null,null,null,null,null,null,null,null,null,null,null,null,null,null,null,null,null,null,null,null,null,null,null,null,null,null,null,null,null,null,null,null,null,null,null,null,null,null,null,null,null,null,null,null,null,null,null,null,null,null,null,null,null,null,null,null,null,null,null,null,null,null,null,null,null,null,null,null,null,null,null,null,null,null,null,null,null,null,null,null,null,null,null,null,null,null,null,null,null,null,null,null,null,null,null,null,null,null,null,null,null,null,null,null,null,null,null,null,null,null,null,null,null,null,null,null,null,null,null,null,null,null,null,null,null,null,null,null,null,null,null,null,null,null,null,null,null,null,null,null,null,null,null,null,null,null,null,null,null,null,null,null,null,null,null,null,null,null,null,null,null,null,null,null,null,null,null,null,null,null,{"$f":"IF(C150<>\"\",C150,\"\")","v":""}]
[]
[null,null,null,null,null,null,null,null,null,null,null,null,null,null,null,null,null,null,null,null,null,null,null,null,null,null,null,null,null,null,null,null,null,null,null,null,null,null,null,null,null,null,null,null,null,null,null,null,null,null,null,null,null,null,null,null,null,null,null,null,null,null,null,null,null,null,null,null,null,null,null,null,null,null,null,null,null,null,null,null,null,null,null,null,null,null,null,null,null,null,null,null,null,null,null,null,null,null,null,null,null,null,null,null,null,null,null,null,null,null,null,null,null,null,null,null,null,null,null,null,null,null,null,null,null,null,null,null,null,null,null,null,null,null,null,null,null,null,null,null,null,null,null,null,null,null,null,null,null,null,null,null,null,null,null,null,null,null,null,null,null,null,null,null,null,null,null,null,null,null,null,null,null,null,null,null,null,null,null,null,null,null,null,null,null,null,null,null,null,null,null,null,null,null,null,null,null,{"$f":"IF(C152<>\"\",C152,\"\")","v":""}]
[]
[null,null,null,null,null,null,null,null,null,null,null,null,null,null,null,null,null,null,null,null,null,null,null,null,null,null,null,null,null,null,null,null,null,null,null,null,null,null,null,null,null,null,null,null,null,null,null,null,null,null,null,null,null,null,null,null,null,null,null,null,null,null,null,null,null,null,null,null,null,null,null,null,null,null,null,null,null,null,null,null,null,null,null,null,null,null,null,null,null,null,null,null,null,null,null,null,null,null,null,null,null,null,null,null,null,null,null,null,null,null,null,null,null,null,null,null,null,null,null,null,null,null,null,null,null,null,null,null,null,null,null,null,null,null,null,null,null,null,null,null,null,null,null,null,null,null,null,null,null,null,null,null,null,null,null,null,null,null,null,null,null,null,null,null,null,null,null,null,null,null,null,null,null,null,null,null,null,null,null,null,null,null,null,null,null,null,null,null,null,null,null,null,null,null,null,null,null,{"$f":"IF(C154<>\"\",C154,\"\")","v":""}]
[]
[null,null,null,null,null,null,null,null,null,null,null,null,null,null,null,null,null,null,null,null,null,null,null,null,null,null,null,null,null,null,null,null,null,null,null,null,null,null,null,null,null,null,null,null,null,null,null,null,null,null,null,null,null,null,null,null,null,null,null,null,null,null,null,null,null,null,null,null,null,null,null,null,null,null,null,null,null,null,null,null,null,null,null,null,null,null,null,null,null,null,null,null,null,null,null,null,null,null,null,null,null,null,null,null,null,null,null,null,null,null,null,null,null,null,null,null,null,null,null,null,null,null,null,null,null,null,null,null,null,null,null,null,null,null,null,null,null,null,null,null,null,null,null,null,null,null,null,null,null,null,null,null,null,null,null,null,null,null,null,null,null,null,null,null,null,null,null,null,null,null,null,null,null,null,null,null,null,null,null,null,null,null,null,null,null,null,null,null,null,null,null,null,null,null,null,null,null,{"$f":"IF(C156<>\"\",C156,\"\")","v":""}]
[]
[null,null,null,null,null,null,null,null,null,null,null,null,null,null,null,null,null,null,null,null,null,null,null,null,null,null,null,null,null,null,null,null,null,null,null,null,null,null,null,null,null,null,null,null,null,null,null,null,null,null,null,null,null,null,null,null,null,null,null,null,null,null,null,null,null,null,null,null,null,null,null,null,null,null,null,null,null,null,null,null,null,null,null,null,null,null,null,null,null,null,null,null,null,null,null,null,null,null,null,null,null,null,null,null,null,null,null,null,null,null,null,null,null,null,null,null,null,null,null,null,null,null,null,null,null,null,null,null,null,null,null,null,null,null,null,null,null,null,null,null,null,null,null,null,null,null,null,null,null,null,null,null,null,null,null,null,null,null,null,null,null,null,null,null,null,null,null,null,null,null,null,null,null,null,null,null,null,null,null,null,null,null,null,null,null,null,null,null,null,null,null,null,null,null,null,null,null,{"$f":"IF(C158<>\"\",C158,\"\")","v":""}]
[]
[null,null,null,null,null,null,null,null,null,null,null,null,null,null,null,null,null,null,null,null,null,null,null,null,null,null,null,null,null,null,null,null,null,null,null,null,null,null,null,null,null,null,null,null,null,null,null,null,null,null,null,null,null,null,null,null,null,null,null,null,null,null,null,null,null,null,null,null,null,null,null,null,null,null,null,null,null,null,null,null,null,null,null,null,null,null,null,null,null,null,null,null,null,null,null,null,null,null,null,null,null,null,null,null,null,null,null,null,null,null,null,null,null,null,null,null,null,null,null,null,null,null,null,null,null,null,null,null,null,null,null,null,null,null,null,null,null,null,null,null,null,null,null,null,null,null,null,null,null,null,null,null,null,null,null,null,null,null,null,null,null,null,null,null,null,null,null,null,null,null,null,null,null,null,null,null,null,null,null,null,null,null,null,null,null,null,null,null,null,null,null,null,null,null,null,null,null,{"$f":"IF(C160<>\"\",C160,\"\")","v":""}]
[]
[null,null,null,null,null,null,null,null,null,null,null,null,null,null,null,null,null,null,null,null,null,null,null,null,null,null,null,null,null,null,null,null,null,null,null,null,null,null,null,null,null,null,null,null,null,null,null,null,null,null,null,null,null,null,null,null,null,null,null,null,null,null,null,null,null,null,null,null,null,null,null,null,null,null,null,null,null,null,null,null,null,null,null,null,null,null,null,null,null,null,null,null,null,null,null,null,null,null,null,null,null,null,null,null,null,null,null,null,null,null,null,null,null,null,null,null,null,null,null,null,null,null,null,null,null,null,null,null,null,null,null,null,null,null,null,null,null,null,null,null,null,null,null,null,null,null,null,null,null,null,null,null,null,null,null,null,null,null,null,null,null,null,null,null,null,null,null,null,null,null,null,null,null,null,null,null,null,null,null,null,null,null,null,null,null,null,null,null,null,null,null,null,null,null,null,null,null,{"$f":"IF(C162<>\"\",C162,\"\")","v":""}]
[]
[null,null,null,null,null,null,null,null,null,null,null,null,null,null,null,null,null,null,null,null,null,null,null,null,null,null,null,null,null,null,null,null,null,null,null,null,null,null,null,null,null,null,null,null,null,null,null,null,null,null,null,null,null,null,null,null,null,null,null,null,null,null,null,null,null,null,null,null,null,null,null,null,null,null,null,null,null,null,null,null,null,null,null,null,null,null,null,null,null,null,null,null,null,null,null,null,null,null,null,null,null,null,null,null,null,null,null,null,null,null,null,null,null,null,null,null,null,null,null,null,null,null,null,null,null,null,null,null,null,null,null,null,null,null,null,null,null,null,null,null,null,null,null,null,null,null,null,null,null,null,null,null,null,null,null,null,null,null,null,null,null,null,null,null,null,null,null,null,null,null,null,null,null,null,null,null,null,null,null,null,null,null,null,null,null,null,null,null,null,null,null,null,null,null,null,null,null,{"$f":"IF(C164<>\"\",C164,\"\")","v":""}]
[]
[null,null,null,null,null,null,null,null,null,null,null,null,null,null,null,null,null,null,null,null,null,null,null,null,null,null,null,null,null,null,null,null,null,null,null,null,null,null,null,null,null,null,null,null,null,null,null,null,null,null,null,null,null,null,null,null,null,null,null,null,null,null,null,null,null,null,null,null,null,null,null,null,null,null,null,null,null,null,null,null,null,null,null,null,null,null,null,null,null,null,null,null,null,null,null,null,null,null,null,null,null,null,null,null,null,null,null,null,null,null,null,null,null,null,null,null,null,null,null,null,null,null,null,null,null,null,null,null,null,null,null,null,null,null,null,null,null,null,null,null,null,null,null,null,null,null,null,null,null,null,null,null,null,null,null,null,null,null,null,null,null,null,null,null,null,null,null,null,null,null,null,null,null,null,null,null,null,null,null,null,null,null,null,null,null,null,null,null,null,null,null,null,null,null,null,null,null,{"$f":"IF(C166<>\"\",C166,\"\")","v":""}]
[]
[null,null,null,null,null,null,null,null,null,null,null,null,null,null,null,null,null,null,null,null,null,null,null,null,null,null,null,null,null,null,null,null,null,null,null,null,null,null,null,null,null,null,null,null,null,null,null,null,null,null,null,null,null,null,null,null,null,null,null,null,null,null,null,null,null,null,null,null,null,null,null,null,null,null,null,null,null,null,null,null,null,null,null,null,null,null,null,null,null,null,null,null,null,null,null,null,null,null,null,null,null,null,null,null,null,null,null,null,null,null,null,null,null,null,null,null,null,null,null,null,null,null,null,null,null,null,null,null,null,null,null,null,null,null,null,null,null,null,null,null,null,null,null,null,null,null,null,null,null,null,null,null,null,null,null,null,null,null,null,null,null,null,null,null,null,null,null,null,null,null,null,null,null,null,null,null,null,null,null,null,null,null,null,null,null,null,null,null,null,null,null,null,null,null,null,null,null,{"$f":"IF(C168<>\"\",C168,\"\")","v":""}]
[]
[null,null,null,null,null,null,null,null,null,null,null,null,null,null,null,null,null,null,null,null,null,null,null,null,null,null,null,null,null,null,null,null,null,null,null,null,null,null,null,null,null,null,null,null,null,null,null,null,null,null,null,null,null,null,null,null,null,null,null,null,null,null,null,null,null,null,null,null,null,null,null,null,null,null,null,null,null,null,null,null,null,null,null,null,null,null,null,null,null,null,null,null,null,null,null,null,null,null,null,null,null,null,null,null,null,null,null,null,null,null,null,null,null,null,null,null,null,null,null,null,null,null,null,null,null,null,null,null,null,null,null,null,null,null,null,null,null,null,null,null,null,null,null,null,null,null,null,null,null,null,null,null,null,null,null,null,null,null,null,null,null,null,null,null,null,null,null,null,null,null,null,null,null,null,null,null,null,null,null,null,null,null,null,null,null,null,null,null,null,null,null,null,null,null,null,null,null,{"$f":"IF(C170<>\"\",C170,\"\")","v":""}]
[]
[null,null,null,null,null,null,null,null,null,null,null,null,null,null,null,null,null,null,null,null,null,null,null,null,null,null,null,null,null,null,null,null,null,null,null,null,null,null,null,null,null,null,null,null,null,null,null,null,null,null,null,null,null,null,null,null,null,null,null,null,null,null,null,null,null,null,null,null,null,null,null,null,null,null,null,null,null,null,null,null,null,null,null,null,null,null,null,null,null,null,null,null,null,null,null,null,null,null,null,null,null,null,null,null,null,null,null,null,null,null,null,null,null,null,null,null,null,null,null,null,null,null,null,null,null,null,null,null,null,null,null,null,null,null,null,null,null,null,null,null,null,null,null,null,null,null,null,null,null,null,null,null,null,null,null,null,null,null,null,null,null,null,null,null,null,null,null,null,null,null,null,null,null,null,null,null,null,null,null,null,null,null,null,null,null,null,null,null,null,null,null,null,null,null,null,null,null,{"$f":"IF(C172<>\"\",C172,\"\")","v":""}]
[]
[null,null,null,null,null,null,null,null,null,null,null,null,null,null,null,null,null,null,null,null,null,null,null,null,null,null,null,null,null,null,null,null,null,null,null,null,null,null,null,null,null,null,null,null,null,null,null,null,null,null,null,null,null,null,null,null,null,null,null,null,null,null,null,null,null,null,null,null,null,null,null,null,null,null,null,null,null,null,null,null,null,null,null,null,null,null,null,null,null,null,null,null,null,null,null,null,null,null,null,null,null,null,null,null,null,null,null,null,null,null,null,null,null,null,null,null,null,null,null,null,null,null,null,null,null,null,null,null,null,null,null,null,null,null,null,null,null,null,null,null,null,null,null,null,null,null,null,null,null,null,null,null,null,null,null,null,null,null,null,null,null,null,null,null,null,null,null,null,null,null,null,null,null,null,null,null,null,null,null,null,null,null,null,null,null,null,null,null,null,null,null,null,null,null,null,null,null,{"$f":"IF(C174<>\"\",C174,\"\")","v":""}]
[]
[null,null,null,null,null,null,null,null,null,null,null,null,null,null,null,null,null,null,null,null,null,null,null,null,null,null,null,null,null,null,null,null,null,null,null,null,null,null,null,null,null,null,null,null,null,null,null,null,null,null,null,null,null,null,null,null,null,null,null,null,null,null,null,null,null,null,null,null,null,null,null,null,null,null,null,null,null,null,null,null,null,null,null,null,null,null,null,null,null,null,null,null,null,null,null,null,null,null,null,null,null,null,null,null,null,null,null,null,null,null,null,null,null,null,null,null,null,null,null,null,null,null,null,null,null,null,null,null,null,null,null,null,null,null,null,null,null,null,null,null,null,null,null,null,null,null,null,null,null,null,null,null,null,null,null,null,null,null,null,null,null,null,null,null,null,null,null,null,null,null,null,null,null,null,null,null,null,null,null,null,null,null,null,null,null,null,null,null,null,null,null,null,null,null,null,null,null,{"$f":"IF(C176<>\"\",C176,\"\")","v":""}]
[]
[null,null,null,null,null,null,null,null,null,null,null,null,null,null,null,null,null,null,null,null,null,null,null,null,null,null,null,null,null,null,null,null,null,null,null,null,null,null,null,null,null,null,null,null,null,null,null,null,null,null,null,null,null,null,null,null,null,null,null,null,null,null,null,null,null,null,null,null,null,null,null,null,null,null,null,null,null,null,null,null,null,null,null,null,null,null,null,null,null,null,null,null,null,null,null,null,null,null,null,null,null,null,null,null,null,null,null,null,null,null,null,null,null,null,null,null,null,null,null,null,null,null,null,null,null,null,null,null,null,null,null,null,null,null,null,null,null,null,null,null,null,null,null,null,null,null,null,null,null,null,null,null,null,null,null,null,null,null,null,null,null,null,null,null,null,null,null,null,null,null,null,null,null,null,null,null,null,null,null,null,null,null,null,null,null,null,null,null,null,null,null,null,null,null,null,null,null,{"$f":"IF(C178<>\"\",C178,\"\")","v":""}]
[]
[null,"","",null,null,null,null,null,null,null,null,null,null,null,null,null,null,"",null,null,null,null,null,null,null,"",null,null,null,null,null,null,null,"",null,null,null,null,null,null,null,"",null,null,null,null,null,null,null,"",null,null,null,null,null,null,null,"",null,null,null,null,null,null,null,"",null,null,null,null,null,null,null,"",null,null,null,null,null,null,null,"",null,null,null,null,null,null,null,null,null,null,null,null,null,null,null,"",null,null,null,null,null,null,null,"",null,null,null,null,null,null,null,null,null,null,null,null,null,null,null,"",null,null,null,null,null,null,null,null,null,null,null,null,null,null,null,null,"",null,null,null,null,null,null,null,null,null,null,null,null,null,null,"",null,null,null,null,null,null,null,"",null,null,null,null,null,null,null,"",null,null,null,null,null,null,null,"",null,null,null,null,null,null,null,"",null,null,null,null,null,null,null,"",null,null,"","",null,null,null,null,null,null,null,null,null,null,null,null,null,null,"",null,null,null,null,null,null,null,"",null,null,null,null,null,null,null,"",null,null,null,null,null,null,null,"",null,null,null,null,null,null,null,"",null,null,null,null,null,null,null,"",null,null,null,null,null,null,null,"",null,null,null,null,null,null,null,"",null,null,null,null,null,null,null,"",null,null,null,null,null,null,null,null,null,null,null,null,null,null,null,"",null,null,null,null,null,null,null,"",null,null,null,null,null,null,null,null,null,null,null,null,null,null,null,"",null,null,null,null,null,null,null,null,null,null,null,null,null,null,null,null,"",null,null,null,null,null,null,null,null,null,null,null,null,null,null,"",null,null,null,null,null,null,null,"",null,null,null,null,null,null,null,"",null,null,null,null,null,null,null,"",null,null,null,null,null,null,null,"",null,null,null,null,null,null,null,""]
[]
[null,"FILE NO.",null,null,null,null,null,null,{"$f":"IF(ProjectInformation!$B$12<>\"\",ProjectInformation!$B$12,\"\")","v":29590},null,null,null,null,null,null,{"$f":"UPPER(ProjectInformation!$B$8)","v":"ENGLISH"},null,null,null,null,null,null,"DESIGN TEAM",null,null,null,null,null,null,null,null,{"$f":"IF(AND(ProjectInformation!$B$3<>\"\",ProjectInformation!$B$4<>\"\",ProjectInformation!$B$5<>\"\"),ProjectInformation!$B$3&\"\\\"&ProjectInformation!$B$4&\"\\\"&ProjectInformation!$B$5,IF(AND(ProjectInformation!$B$3<>\"\",ProjectInformation!$B$4<>\"\"),ProjectInformation!$B$3&\"\\\"&ProjectInformation!$B$4,IF(ProjectInformation!$B$3<>\"\",ProjectInformation!$B$3,\"\")))","v":"Flattery\\Bell\\Hain"},null,null,null,null,null,null,null,null,null,null,null,null,null,null,null,null,null,null,null,null,null,null,null,null,null,null,null,null,null,null,null,null,null,null,null,null,null,null,null,null,null,{"$f":"IF(ProjectInformation!$B$6<>\"\",ProjectInformation!$B$6,\"\")","v":"WAPELLO"},null,null,null,null,null,null,null,null,null,null,null,null,null,null,null,null,null,null,null,null,null,null,null,null,null,null,null,null,null,null,null,null,null,null,null,null,null,null,null,null,"COUNTY",null,null,null,null,null,"PROJECT NUMBER",null,null,null,null,null,null,null,null,null,null,null,{"$f":"IF(ProjectInformation!$B$7<>\"\",ProjectInformation!$B$7,\"\")","v":"NHSX-063-2(155)--3H-90"},null,null,null,null,null,null,null,null,null,null,null,null,null,null,null,null,null,null,null,null,null,null,null,null,null,null,null,null,null,"SHEET NUMBER",null,null,null,null,null,null,null,null,null,null,null,null,null,null,null,null,null,{"$f":"IF(GE182<>\"\",\"REVISED\",\"\")","v":""},null,null,null,null,null,{"$f":"IF(ProjectInformation!$B$9<>\"\",ProjectInformation!$B$9,\"\")","v":""},null,null,null,null,null,null,null,null,null,"FILE NO.",null,null,null,null,null,null,{"$f":"IF(ProjectInformation!$B$12<>\"\",ProjectInformation!$B$12,\"\")","v":29590},null,null,null,null,null,null,{"$f":"UPPER(ProjectInformation!$B$8)","v":"ENGLISH"},null,null,null,null,null,null,"DESIGN TEAM",null,null,null,null,null,null,null,null,{"$f":"IF(AND(ProjectInformation!$B$3<>\"\",ProjectInformation!$B$4<>\"\",ProjectInformation!$B$5<>\"\"),ProjectInformation!$B$3&\"\\\"&ProjectInformation!$B$4&\"\\\"&ProjectInformation!$B$5,IF(AND(ProjectInformation!$B$3<>\"\",ProjectInformation!$B$4<>\"\"),ProjectInformation!$B$3&\"\\\"&ProjectInformation!$B$4,IF(ProjectInformation!$B$3<>\"\",ProjectInformation!$B$3,\"\")))","v":"Flattery\\Bell\\Hain"},null,null,null,null,null,null,null,null,null,null,null,null,null,null,null,null,null,null,null,null,null,null,null,null,null,null,null,null,null,null,null,null,null,null,null,null,null,null,null,null,null,{"$f":"IF(ProjectInformation!$B$6<>\"\",ProjectInformation!$B$6,\"\")","v":"WAPELLO"},null,null,null,null,null,null,null,null,null,null,null,null,null,null,null,null,null,null,null,null,null,null,null,null,null,null,null,null,null,null,null,null,null,null,null,null,null,null,null,null,"COUNTY",null,null,null,null,null,"PROJECT NUMBER",null,null,null,null,null,null,null,null,null,null,null,{"$f":"IF(ProjectInformation!$B$7<>\"\",ProjectInformation!$B$7,\"\")","v":"NHSX-063-2(155)--3H-90"},null,null,null,null,null,null,null,null,null,null,null,null,null,null,null,null,null,null,null,null,null,null,null,null,null,null,null,null,null,"SHEET NUMBER",null,null,null,null,null,null,null,null,null,null,null,null,null,null,null,null,null,{"$f":"IF(NR182<>\"\",\"REVISED\",\"\")","v":""},null,null,null,null,null,{"$f":"IF(ProjectInformation!$B$9<>\"\",ProjectInformation!$B$9,\"\")","v":""}]
[]
[]
[]
[]
["",null,null,null,null,null,null,null,null,null,null,null,null,null,null,null,null,null,null,null,null,null,null,null,null,null,null,null,null,null,null,null,null,null,null,null,null,null,null,null,null,null,null,null,null,null,null,null,null,null,null,null,null,null,null,null,null,null,null,null,null,null,null,null,null,null,null,null,null,null,null,null,null,null,null,null,null,null,null,null,null,null,null,null,null,null,null,null,null,null,null,null,null,null,null,null,null,null,null,null,null,null,null,null,null,null,null,null,null,null,null,null,null,null,null,null,null,null,null,null,null,null,null,null,null,null,null,null,null,null,null,null,null,null,null,null,null,null,null,null,null,null,null,null,null,null,null,null,null,null,null,null,null,null,null,null,null,null,null,null,null,null,null,null,null,null,null,null,null,null,null,null,null,null,null,null,null,null,null,null,null,null,null,null,null,null,null,null,null,null,null,null,null,null,null,""]

{"sheet":"Index","index":6,"n_rows":1,"n_cols":2,"rows_kept":1,"cut":false,"hidden":true,"merged":[]}
["Input File Path","W:\\Highway\\Design\\CADD\\Geopak\\Earthwork\\"]

{"sheet":"Stage1","index":7,"n_rows":2,"n_cols":24,"rows_kept":2,"cut":false,"hidden":false,"merged":[]}
["Station","Total Cut Unadjusted\n\nVolume","Total Class 10\nUnadjusted\n\nVolume","Topsoil Cut\n\nVolume","Template\nUnsuitable\nType B\nVolume","Template\nPavement\nRemoval\nVolume","Total\nCut\nAdjusted",null,"Total Fill\nUnadjusted\n\nVolume","Plowing &\nShaping\nUndercut\n(+ Fill)","Existing Topsoil\nStripping\nUndercut\n(+ Fill)","Existing\nPavement\nUndercut\n(+Fill)","Manually\nCalculated Fill\nAdjustments\n(+/- Fill)","Total\nFill\nAdjusted","Total Fill\n Adjusted w/\nWeighted Average\n1.3  Shrink Factor","Total Cut Adjusted\nMinus Fill w/ Shrink",null,"Approx. Fill Vol.\nBelow 5' & Above\n20' w/ Shrink","Approx. Fill\nVolume Below 3'\nw/ Shrink",null,"Topsoil\nStripping Undercut\nVolume","Topsoil\nPlacement\nUndercut\nVolume","Topsoil Placement\nWith 1.4 Shrink\nFactor","Topsoil Stripping\nMinus Topsoil\nPlacement\nw/Shrink"]
["Stage 1"]

{"sheet":"STG1_US_63","index":8,"n_rows":213,"n_cols":24,"rows_kept":213,"cut":false,"hidden":false,"merged":[]}
["Station","Total Cut Unadjusted\n\nVolume","Total Class 10\nUnadjusted\n\nVolume","Topsoil Cut\n\nVolume","Template\nUnsuitable\nType B\nVolume","Template\nPavement\nRemoval\nVolume","Total\nCut\nAdjusted",null,"Total Fill\nUnadjusted\n\nVolume","Plowing &\nShaping\nUndercut\n(+ Fill)","Existing Topsoil\nStripping\nUndercut\n(+ Fill)","Existing\nPavement\nUndercut\n(+Fill)","Manually\nCalculated Fill\nAdjustments\n(+/- Fill)","Total\nFill\nAdjusted","Total Fill\n Adjusted w/\nWeighted Average\n1.3  Shrink Factor","Total Cut Adjusted\nMinus Fill w/ Shrink",null,"Approx. Fill Vol.\nBelow 5' & Above\n20' w/ Shrink","Approx. Fill\nVolume Below 3'\nw/ Shrink",null,"Topsoil\nStripping Undercut\nVolume","Topsoil\nPlacement\nUndercut\nVolume","Topsoil Placement\nWith 1.4 Shrink\nFactor","Topsoil Stripping\nMinus Topsoil\nPlacement\nw/Shrink"]
["STG1_US_63"]
[84155,205,138,67,0,45,138,null,0,0,11,"",null,11,14.3,123.7,null,0,0,null,67,30,42,25]
[84175,263,181,81,0,56,181,null,0,0,9,"",null,9,11.7,169.3,null,0,0,null,81,40,56,25]
[84200,260,180,80,0,56,180,null,0,0,7,"",null,7,9.1,170.9,null,0,0,null,80,42,58.8,21.2]
[84225,252,170,81,0,55,170,null,0,0,9,"",null,9,11.7,158.30000000000001,null,0,0,null,81,44,61.6,19.399999999999999]
[84250,249,166,83,0,52,166,null,0,0,14,"",null,14,18.2,147.80000000000001,null,0,0,null,83,44,61.6,21.4]
[84275,249,164,85,0,49,164,null,0,0,21,"",null,21,27.3,136.69999999999999,null,0,0,null,85,44,61.6,23.4]
[84300,249,162,87,0,45,162,null,1,0,28,"",null,29,37.700000000000003,124.3,null,0,0,null,87,44,61.6,25.4]
[84325,250,160,90,0,42,160,null,5,0,35,"",null,40,52,108,null,0,0,null,90,45,63,27]
[84350,250,159,90,0,41,159,null,10,0,38,"",null,48,62.4,96.6,null,0,0,null,90,45,63,27]
[84375,249,153,91,4,40,157,null,15,0,40,1,null,56,72.8,84.2,null,0,0,null,91,45,63,28]
[84400,248,147,93,8,40,155,null,18,0,41,"",null,59,76.7,78.3,null,0,0,null,93,45,63,30]
[84425,249,147,94,9,39,156,null,21,0,43,"",null,64,83.2,72.8,null,0,0,null,94,45,63,31]
[84450,249,146,94,9,38,155,null,23,0,43,"",null,66,85.8,69.2,null,0,0,null,94,44,61.6,32.4]
[84475,248,145,94,9,38,154,null,23,0,41,"",null,64,83.2,70.8,null,0,0,null,94,44,61.6,32.4]
[84500,249,145,95,9,37,154,null,24,0,42,"",null,66,85.8,68.2,null,0,0,null,95,44,61.6,33.4]
[84525,248,145,95,9,36,154,null,25,0,47,"",null,72,93.6,60.4,null,0,0,null,95,43,60.2,34.799999999999997]
[84550,248,149,95,4,35,153,null,27,0,55,"",null,82,106.6,46.4,null,0,0,null,95,43,60.2,34.799999999999997]
[84575,249,153,96,0,35,153,null,31,0,60,"",null,91,118.3,34.700000000000003,null,0,0,null,96,42,58.8,37.200000000000003]
[84600,250,154,97,0,34,154,null,37,0,63,"",null,100,130,24,null,0,0,null,97,42,58.8,38.200000000000003]
[84625,251,154,97,0,33,154,null,41,0,65,"",null,106,137.80000000000001,16.2,null,0,0,null,97,42,58.8,38.200000000000003]
[84650,252,154,98,0,32,154,null,44,0,66,"",null,110,143,11,null,0,0,null,98,42,58.8,39.200000000000003]
[84675,252,154,98,0,31,154,null,50,0,65,"",null,115,149.5,4.5,null,0,0,null,98,41,57.4,40.6]
[84700,254,155,99,0,31,155,null,54,0,65,"",null,119,154.69999999999999,0.4,null,0,0,null,99,41,57.4,41.6]
[84725,255,156,99,0,30,156,null,56,0,64,"",null,120,156,0,null,0,0,null,99,40,56,43]
[84750,257,157,100,0,29,157,null,59,0,63,"",null,122,158.6,-1.6,null,0,0,null,100,40,56,44]
[84775,257,156,101,0,28,156,null,63,0,62,"",null,125,162.5,-6.5,null,0,0,null,101,40,56,45]
[84800,255,153,102,0,27,153,null,72,0,62,"",null,134,174.2,-21.2,null,0,0,null,102,40,56,46]
[84825,253,150,103,0,27,150,null,81,0,63,"",null,144,187.2,-37.200000000000003,null,0,0,null,103,40,56,47]
[84850,250,145,105,0,26,145,null,89,0,65,"",null,154,200.2,-55.2,null,0,0,null,105,40,56,49]
[84875,247,140,107,0,26,140,null,101,0,69,"",null,170,221,-81,null,0,7.8,null,107,40,56,51]
[84900,244,136,108,0,25,136,null,113,0,73,"",null,186,241.8,-105.8,null,0,29.9,null,108,40,56,52]
[84925,239,130,108,0,25,130,null,119,0,76,"",null,195,253.5,-123.5,null,0,41.6,null,108,41,57.4,50.6]
[84950,232,123,108,0,26,123,null,120,0,80,"",null,200,260,-137,null,0,48.1,null,108,40,56,52]
[84975,250,118,132,0,27,118,null,119,0,90,"",null,209,271.7,-153.69999999999999,null,0,59.8,null,132,57,79.8,52.2]
[85000,298,141,157,0,27,141,null,104,0,96,"",null,200,260,-119,null,0,48.1,null,157,73,102.2,54.8]
[85025,326,170,156,0,27,170,null,88,0,92,"",null,180,234,-64,null,0,20.8,null,156,72,100.8,55.2]
[85050,324,170,155,0,27,170,null,85,0,92,"",null,177,230.1,-60.1,null,0,16.899999999999999,null,155,71,99.4,55.6]
[85075,314,161,153,0,27,161,null,83,0,94,"",null,177,230.1,-69.099999999999994,null,0,16.899999999999999,null,153,69,96.6,56.4]
[85100,306,154,152,0,27,154,null,77,0,94,"",null,171,222.3,-68.3,null,0,10.4,null,152,68,95.2,56.8]
[85125,306,156,151,0,27,156,null,70,0,90,"",null,160,208,-52,null,0,0,null,151,67,93.8,57.2]
[85150,307,157,150,0,27,157,null,63,0,87,"",null,150,195,-38,null,0,0,null,150,66,92.4,57.6]
[85175,306,157,149,0,27,157,null,59,0,85,"",null,144,187.2,-30.2,null,0,0,null,149,65,91,58]
[85200,303,156,147,0,27,156,null,54,0,81,"",null,135,175.5,-19.5,null,0,0,null,147,64,89.6,57.4]
[85225,304,157,146,0,27,157,null,48,0,75,"",null,123,159.9,-3,null,0,0,null,146,62,86.8,59.2]
[85250,305,160,145,0,27,160,null,40,0,70,"",null,110,143,17,null,0,0,null,145,61,85.4,59.6]
[85275,305,162,144,0,27,162,null,35,0,67,"",null,102,132.6,29.4,null,0,0,null,144,60,84,60]
[85300,303,161,142,0,27,161,null,29,0,63,"",null,92,119.6,41.4,null,0,0,null,142,59,82.6,59.4]
[85325,307,166,141,0,27,166,null,21,0,58,"",null,79,102.7,63.3,null,0,0,null,141,58,81.2,59.8]
[85350,316,175,140,0,27,175,null,13,0,49,"",null,62,80.599999999999994,94.4,null,0,0,null,140,57,79.8,60.2]
[85375,322,184,138,0,27,184,null,8,0,39,"",null,47,61.1,122.9,null,0,0,null,138,56,78.400000000000006,59.6]
[85400,330,192,137,2,27,194,null,4,0,32,"",null,36,46.8,147.19999999999999,null,0,0,null,137,55,77,60]
[85425,341,201,136,5,27,206,null,3,0,27,"",null,30,39,167,null,0,0,null,136,54,75.599999999999994,60.4]
[85450,352,211,136,4,27,215,null,3,0,25,"",null,28,36.4,178.6,null,0,0,null,136,53,74.2,61.8]
[85475,363,222,136,4,27,226,null,3,0,26,"",null,29,37.700000000000003,188.3,null,0,0,null,136,52,72.8,63.2]
[85500,377,236,136,4,27,240,null,4,0,28,"",null,32,41.6,198.4,null,0,0,null,136,52,72.8,63.2]
[85525,392,252,136,4,27,256,null,7,0,29,"",null,36,46.8,209.2,null,0,0,null,136,52,72.8,63.2]
[85550,410,267,136,7,27,274,null,11,0,29,"",null,40,52,222,null,0,0,null,136,52,72.8,63.2]
[85575,430,283,136,11,27,294,null,15,0,28,"",null,43,55.9,238.1,null,0,0,null,136,52,72.8,63.2]
[85600,450,300,136,13,27,313,null,19,0,28,"",null,47,61.1,251.9,null,0,0,null,136,52,72.8,63.2]
[85625,468,319,136,13,27,332,null,23,0,27,"",null,50,65,267,null,0,0,null,136,52,72.8,63.2]
[85650,484,333,140,11,27,344,null,26,0,26,"",null,52,67.599999999999994,276.39999999999998,null,0,0,null,140,52,72.8,67.2]
[85675,497,347,140,10,27,357,null,32,0,26,"",null,58,75.400000000000006,281.60000000000002,null,0,0,null,140,52,72.8,67.2]
[85700,512,360,137,15,27,375,null,33,0,26,"",null,59,76.7,298.3,null,0,0,null,137,52,72.8,64.2]
[85725,528,371,137,21,27,392,null,30,0,25,"",null,55,71.5,320.5,null,0,0,null,137,52,72.8,64.2]
[85750,544,384,138,22,27,406,null,30,0,26,"",null,56,72.8,333.2,null,0,0,null,138,52,72.8,65.2]
[85775]
["Subtotals:",{"$f":"SUBTOTAL(9,$B$2:$B$67)","v":19892},{"$f":"SUBTOTAL(9,$C$2:$C$67)","v":12010},{"$f":"SUBTOTAL(9,$D$2:$D$67)","v":7672},{"$f":"SUBTOTAL(9,$E$2:$E$67)","v":207},{"$f":"SUBTOTAL(9,$F$2:$F$67)","v":2073},{"$f":"SUBTOTAL(9,$G$2:$G$67)","v":12217},{"$f":"SUBTOTAL(9,$H$2:$H$67)","v":0},{"$f":"SUBTOTAL(9,$I$2:$I$67)","v":2561},{"$f":"SUBTOTAL(9,$J$2:$J$67)","v":0},{"$f":"SUBTOTAL(9,$K$2:$K$67)","v":3315},{"$f":"SUBTOTAL(9,$L$2:$L$67)","v":1},{"$f":"SUBTOTAL(9,$M$2:$M$67)","v":0},{"$f":"SUBTOTAL(9,$N$2:$N$67)","v":5877},{"$f":"SUBTOTAL(9,$O$2:$O$67)","v":7640.1000000000013},{"$f":"SUBTOTAL(9,$P$2:$P$67)","v":4576.9000000000005},{"$f":"SUBTOTAL(9,$Q$2:$Q$67)","v":0},{"$f":"SUBTOTAL(9,$R$2:$R$67)","v":0},{"$f":"SUBTOTAL(9,$S$2:$S$67)","v":300.2999999999999},{"$f":"SUBTOTAL(9,$T$2:$T$67)","v":0},{"$f":"SUBTOTAL(9,$U$2:$U$67)","v":7672},{"$f":"SUBTOTAL(9,$V$2:$V$67)","v":3253},{"$f":"SUBTOTAL(9,$W$2:$W$67)","v":4554.2000000000025},{"$f":"SUBTOTAL(9,$X$2:$X$67)","v":3117.7999999999979}]
[85775,561,398,138,26,27,424,null,30,0,25,"",null,55,71.5,352.5,null,0,0,null,138,52,72.8,65.2]
[85800,583,412,138,33,27,445,null,31,0,25,"",null,56,72.8,372.2,null,0,0,null,138,52,72.8,65.2]
[85825,600,426,138,36,27,462,null,31,0,25,"",null,56,72.8,389.2,null,0,0,null,138,52,72.8,65.2]
[85850,615,440,139,36,27,476,null,31,0,25,"",null,56,72.8,403.2,null,0,0,null,139,53,74.2,64.8]
[85875,628,453,139,36,27,489,null,31,0,24,"",null,55,71.5,417.5,null,0,0,null,139,53,74.2,64.8]
[85900,638,483,138,18,27,501,null,32,0,23,"",null,55,71.5,429.5,null,0,0,null,138,53,74.2,63.8]
[85925,655,516,138,0,27,516,null,31,0,24,"",null,55,71.5,444.5,null,0,0,null,138,53,74.2,63.8]
[85950,666,528,138,0,27,528,null,29,0,24,"",null,53,68.900000000000006,459.1,null,0,0,null,138,53,74.2,63.8]
[85975,675,537,138,0,27,537,null,28,0,24,"",null,52,67.599999999999994,469.4,null,0,0,null,138,53,74.2,63.8]
[86000,681,543,138,0,27,543,null,30,0,24,"",null,54,70.2,472.8,null,0,0,null,138,53,74.2,63.8]
[86025,682,544,138,0,27,544,null,31,0,24,"",null,55,71.5,472.5,null,0,0,null,138,53,74.2,63.8]
[86050,690,552,138,0,27,552,null,29,0,23,"",null,52,67.599999999999994,484.4,null,0,0,null,138,53,74.2,63.8]
[86075,704,565,138,0,27,565,null,28,0,23,"",null,51,66.3,498.7,null,0,0,null,138,53,74.2,63.8]
[86100,715,576,139,0,27,576,null,27,0,23,"",null,50,65,511,null,0,0,null,139,54,75.599999999999994,63.4]
[86125,723,582,141,0,27,582,null,27,0,23,"",null,50,65,517,null,0,0,null,141,55,77,64]
[86150,725,582,142,0,27,582,null,29,0,23,"",null,52,67.599999999999994,514.4,null,0,0,null,142,56,78.400000000000006,63.6]
[86175,719,578,142,0,27,578,null,32,0,22,"",null,54,70.2,507.8,null,0,0,null,142,56,78.400000000000006,63.6]
[86200,713,572,142,0,27,572,null,35,0,22,"",null,57,74.099999999999994,497.9,null,0,0,null,142,56,78.400000000000006,63.6]
[86225,711,568,143,0,27,568,null,37,0,22,"",null,59,76.7,491.3,null,0,0,null,143,57,79.8,63.2]
[86250,709,565,144,0,27,565,null,38,0,23,"",null,61,79.3,485.7,null,0,0,null,144,57,79.8,64.2]
[86275,704,559,144,0,27,559,null,38,0,22,"",null,60,78,481,null,0,0,null,144,58,81.2,62.8]
[86300,702,557,145,0,27,557,null,39,0,22,"",null,61,79.3,477.7,null,0,0,null,145,59,82.6,62.4]
[86325,698,551,147,0,27,551,null,41,0,22,"",null,63,81.900000000000006,469.1,null,0,0,null,147,59,82.6,64.400000000000006]
[86350,690,542,148,0,27,542,null,45,0,22,"",null,67,87.1,454.9,null,0,0,null,148,60,84,64]
[86375,676,527,148,0,27,527,null,47,0,22,"",null,69,89.7,437.3,null,0,0,null,148,60,84,64]
[86400,655,506,149,0,27,506,null,49,0,22,"",null,71,92.3,413.7,null,0,0,null,149,61,85.4,63.6]
[86425,634,484,150,0,27,484,null,51,0,23,"",null,74,96.2,387.8,null,0,0,null,150,61,85.4,64.599999999999994]
[86450,615,464,151,0,27,464,null,55,0,24,"",null,79,102.7,361.3,null,0,0,null,151,62,86.8,64.2]
[86475,597,445,151,0,27,445,null,59,0,25,"",null,84,109.2,335.8,null,0,0,null,151,63,88.2,62.8]
[86500,580,428,152,0,27,428,null,63,0,28,"",null,91,118.3,309.7,null,0,0,null,152,63,88.2,63.8]
[86525,566,413,153,0,27,413,null,67,0,33,"",null,100,130,283,null,0,0,null,153,64,89.6,63.4]
[86550,557,402,155,0,27,402,null,70,0,37,"",null,107,139.1,262.89999999999998,null,0,0,null,155,65,91,64]
[86575,549,393,156,0,27,393,null,73,0,39,"",null,112,145.6,247.4,null,0,0,null,156,66,92.4,63.6]
[86600,542,383,158,0,27,383,null,78,0,43,"",null,121,157.30000000000001,225.7,null,0,0,null,158,67,93.8,64.2]
[86625,534,374,159,0,27,374,null,83,0,48,"",null,131,170.3,203.7,null,0,0,null,159,68,95.2,63.8]
[86650,528,367,161,0,27,367,null,88,0,57,"",null,145,188.5,178.5,null,0,0,null,161,69,96.6,64.400000000000006]
[86675,521,358,163,0,27,358,null,95,0,64,"",null,159,206.7,151.30000000000001,null,0,0,null,163,70,98,65]
[86700,532,367,164,0,27,367,null,103,21,67,"",null,191,248.3,118.7,null,0,36.4,null,164,71,99.4,64.599999999999994]
[86725,518,353,165,0,27,353,null,110,21,67,"",null,198,257.39999999999998,95.6,null,0,45.5,null,165,72,100.8,64.2]
[86750,504,338,167,0,26,338,null,117,21,69,"",null,207,269.10000000000002,68.900000000000006,null,0,57.2,null,167,73,102.2,64.8]
[86775,491,321,169,0,26,321,null,129,21,71,"",null,221,287.3,33.700000000000003,null,0,74.099999999999994,null,169,74,103.6,65.400000000000006]
[86800,478,307,171,0,27,307,null,148,21,72,"",null,241,313.3,-6.3999999999999995,null,0,101.4,null,171,75,105,66]
[86825,470,297,173,0,27,297,null,172,21,74,"",null,267,347.1,-50.1,null,0,135.19999999999999,null,173,76,106.4,66.599999999999994]
[86850,462,287,175,0,27,287,null,190,20,76,"",null,286,371.8,-84.8,null,0,158.6,null,175,77,107.8,67.2]
[86875,461,283,177,0,27,283,null,204,20,77,"",null,301,391.3,-108.3,null,0,178.1,null,177,79,110.6,66.400000000000006]
[86900,469,288,182,0,27,288,null,223,20,78,"",null,321,417.3,-129.30000000000001,null,0,205.4,null,182,80,112,70]
[86925,467,281,186,0,27,281,null,247,19,80,"",null,346,449.8,-168.8,null,0,237.9,null,186,81,113.4,72.599999999999994]
[86950,465,277,187,0,27,277,null,280,18,84,"",null,382,496.6,-219.6,null,0,284.7,null,187,81,113.4,73.599999999999994]
[86975,471,279,192,0,27,279,null,327,17,88,"",null,432,561.6,-282.60000000000002,null,19.5,349.7,null,192,84,117.6,74.400000000000006]
[87000,484,282,201,0,27,282,null,373,0,92,"",null,465,604.5,-322.5,null,62.4,391.3,null,201,90,126,75]
[87025,538,334,204,0,27,334,null,424,0,94,"",null,518,673.4,-339.4,null,131.30000000000001,461.5,null,204,91,127.4,76.599999999999994]
[87050,584,385,199,0,30,385,null,506,0,94,"",null,600,780,-395,null,236.6,566.79999999999995,null,199,67,93.8,105.2]
[87075,644,451,193,0,16,451,null,421,0,90,49,null,560,728,-277,null,122.2,451.1,null,193,23,32.200000000000003,160.80000000000001]
[87100,455,307,149,0,0,307,null,181,0,61,"",null,242,314.60000000000002,-7.6999999999999993,null,0,101.4,null,149,0,0,149]
[87125,187,111,76,0,0,111,null,37,0,22,"",null,59,76.7,34.299999999999997,null,0,0,null,76,0,0,76]
[87150,175,121,54,0,0,121,null,0,0,3,"",null,3,3.9,117.1,null,0,0,null,54,0,0,54]
[87175,442,361,81,0,16,361,null,0,0,4,"",null,4,5.2,355.8,null,0,0,null,81,0,0,81]
[87200,610,458,152,0,26,458,null,145,0,50,5,null,200,260,198,null,0,40.299999999999997,null,152,23,32.200000000000003,119.8]
[87225,613,412,200,0,23,412,null,440,96,93,6,null,635,825.5,-413.5,null,275.60000000000002,605.79999999999995,null,200,64,89.6,110.4]
[87250,582,390,192,0,27,390,null,604,79,96,"",null,779,1012.7,-622.70000000000005,null,470.6,799.5,null,192,83,116.2,75.8]
[87275,611,416,194,0,27,416,null,620,80,106,"",null,806,1047.8,-631.79999999999995,null,505.7,834.6,null,194,85,119,75]
[87300,656,459,197,0,27,459,null,635,83,110,"",null,828,1076.4000000000001,-617.4,null,533,863.2,null,197,87,121.8,75.2]
[87325,701,499,202,0,27,499,null,660,85,111,"",null,856,1112.8,-613.79999999999995,null,570.70000000000005,900.9,null,202,90,126,76]
[87350,737,531,206,0,27,531,null,680,86,112,"",null,878,1141.4000000000001,-610.4,null,598,928.2,null,206,93,130.19999999999999,75.8]
[87375,790,580,209,0,27,580,null,699,88,114,"",null,901,1171.3,-591.29999999999995,null,629.20000000000005,959.4,null,209,94,131.6,77.400000000000006]
[87400,853,643,210,0,27,643,null,721,89,114,"",null,924,1201.2,-558.20000000000005,null,660.4,989.3,null,210,96,134.4,75.599999999999994]
[87425,917,705,212,0,27,705,null,728,91,114,"",null,933,1212.9000000000001,-507.9,null,670.8,1001,null,212,98,137.19999999999999,74.8]
[87450,966,753,213,0,27,753,null,735,92,112,"",null,939,1220.7,-467.7,null,678.6,1007.5,null,213,99,138.6,74.400000000000006]
[87475]
["Subtotals:",{"$f":"SUBTOTAL(9,$B$70:$B$137)","v":41074},{"$f":"SUBTOTAL(9,$C$70:$C$137)","v":30049},{"$f":"SUBTOTAL(9,$D$70:$D$137)","v":10831},{"$f":"SUBTOTAL(9,$E$70:$E$137)","v":185},{"$f":"SUBTOTAL(9,$F$70:$F$137)","v":1729},{"$f":"SUBTOTAL(9,$G$70:$G$137)","v":30234},{"$f":"SUBTOTAL(9,$H$70:$H$137)","v":0},{"$f":"SUBTOTAL(9,$I$70:$I$137)","v":12517},{"$f":"SUBTOTAL(9,$J$70:$J$137)","v":1109},{"$f":"SUBTOTAL(9,$K$70:$K$137)","v":3519},{"$f":"SUBTOTAL(9,$L$70:$L$137)","v":60},{"$f":"SUBTOTAL(9,$M$70:$M$137)","v":0},{"$f":"SUBTOTAL(9,$N$70:$N$137)","v":17205},{"$f":"SUBTOTAL(9,$O$70:$O$137)","v":22366.500000000007},{"$f":"SUBTOTAL(9,$P$70:$P$137)","v":7867.3000000000038},{"$f":"SUBTOTAL(9,$Q$70:$Q$137)","v":0},{"$f":"SUBTOTAL(9,$R$70:$R$137)","v":6164.6},{"$f":"SUBTOTAL(9,$S$70:$S$137)","v":12766},{"$f":"SUBTOTAL(9,$T$70:$T$137)","v":0},{"$f":"SUBTOTAL(9,$U$70:$U$137)","v":10831},{"$f":"SUBTOTAL(9,$V$70:$V$137)","v":4258},{"$f":"SUBTOTAL(9,$W$70:$W$137)","v":5961.2000000000007},{"$f":"SUBTOTAL(9,$X$70:$X$137)","v":4869.7999999999993}]
[87475,1012,797,215,0,27,797,null,740,94,112,"",null,946,1229.8,-432.8,null,687.7,1017.9,null,215,100,140,75]
[87500,1064,847,217,0,27,847,null,742,94,113,"",null,949,1233.7,-386.7,null,691.6,1020.5,null,217,102,142.80000000000001,74.2]
[87525,1121,901,220,0,27,901,null,747,95,115,"",null,957,1244.0999999999999,-343.1,null,702,1032.2,null,220,103,144.19999999999999,75.8]
[87550,1175,953,222,0,27,953,null,736,95,115,"",null,946,1229.8,-276.8,null,686.4,1016.6,null,222,105,147,75]
[87575,1236,1012,224,0,27,1012,null,726,95,114,"",null,935,1215.5,-203.5,null,673.4,1003.6,null,224,106,148.4,75.599999999999994]
[87600,1301,1075,226,0,27,1075,null,728,95,114,"",null,937,1218.0999999999999,-143.1,null,676,1006.2,null,226,108,151.19999999999999,74.8]
[87625,1365,1138,227,0,27,1138,null,713,95,113,"",null,921,1197.3,-59.3,null,653.9,984.1,null,227,109,152.6,74.400000000000006]
[87650,1427,1198,229,0,27,1198,null,691,95,111,"",null,897,1166.0999999999999,32,null,624,952.9,null,229,110,154,75]
[87675,1480,1250,230,0,27,1250,null,679,95,110,"",null,884,1149.2,100.8,null,607.1,937.3,null,230,110,154,76]
[87700,1532,1300,231,0,27,1300,null,676,95,111,"",null,882,1146.5999999999999,153.4,null,604.5,934.7,null,231,111,155.4,75.599999999999994]
[87725,1597,1364,233,0,27,1364,null,682,95,112,"",null,889,1155.7,208.3,null,613.6,942.5,null,233,112,156.80000000000001,76.2]
[87750,1668,1434,234,0,27,1434,null,688,95,112,"",null,895,1163.5,270.5,null,621.4,951.6,null,234,113,158.19999999999999,75.8]
[87775,1721,1487,234,0,27,1487,null,688,95,111,"",null,894,1162.2,324.8,null,620.1,950.3,null,234,113,158.19999999999999,75.8]
[87800,1771,1536,235,0,27,1536,null,686,95,111,"",null,892,1159.5999999999999,376.4,null,617.5,947.7,null,235,114,159.6,75.400000000000006]
[87825,1811,1588,223,0,27,1588,null,682,95,103,"",null,880,1144,444,null,601.9,930.8,null,223,114,159.6,63.4]
[87850,1851,1628,223,0,27,1628,null,669,95,102,"",null,866,1125.8,502.2,null,583.70000000000005,913.9,null,223,114,159.6,63.4]
[87875,1912,1674,238,0,27,1674,null,652,95,108,"",null,855,1111.5,562.5,null,569.4,898.3,null,238,115,161,77]
[87900,1985,1744,241,0,27,1744,null,635,95,105,"",null,835,1085.5,658.5,null,543.4,873.6,null,241,116,162.4,78.599999999999994]
[87925,2030,1797,233,0,27,1797,null,619,95,100,"",null,814,1058.2,738.8,null,514.79999999999995,845,null,233,110,154,79]
[87950,1947,1784,164,0,29,1784,null,702,95,34,"",null,831,1080.3,703.7,null,538.20000000000005,868.4,null,164,108,151.19999999999999,12.8]
[87975,1717,1545,172,0,18,1545,null,962,78,50,"",null,1090,1417,128,null,874.9,1205.0999999999999,null,172,113,158.19999999999999,13.8]
[88000,1279,1040,239,0,2,1040,null,1312,0,133,27,null,1472,1913.6,-873.6,null,1336.4,1666.6,null,239,113,158.19999999999999,80.8]
[88025,797,560,237,0,0,560,null,1705,0,141,"",null,1846,2399.8000000000002,-1839.8,null,1857.7,2187.9,null,237,113,158.19999999999999,78.8]
[88050,434,196,238,0,0,196,null,2064,0,156,"",null,2220,2886,-2690,null,2343.9,2672.8,null,238,113,158.19999999999999,79.8]
[88075,291,70,221,0,0,70,null,2224,0,147,"",null,2371,3082.3,-3012.3,null,2538.9,2869.1,null,221,114,159.6,61.4]
[88100,260,64,195,0,0,64,null,1937,0,126,16,null,2079,2702.7,-2638.7,null,2139.8000000000002,2470,null,195,95,133,62]
[88125,272,83,188,0,0,83,null,1542,0,121,7,null,1670,2171,-2088,null,1619.8,1950,null,188,76,106.4,81.599999999999994]
[88150,333,143,190,0,0,143,null,1152,0,117,7,null,1276,1658.8,-1515.8,null,1107.5999999999999,1437.8,null,190,78,109.2,80.8]
[88175,352,160,192,0,4,160,null,573,0,114,3,null,690,897,-737,null,351,679.9,null,192,80,112,80]
[88200,560,384,176,0,8,384,null,195,0,81,"",1960,2236,2906.8,-2522.8000000000002,null,0,146.9,null,176,81,113.4,62.6]
[88225,1268,1106,162,0,19,1106,null,99,95,37,"",null,231,300.3,805.7,null,0,88.4,null,162,83,116.2,45.8]
[88250,1755,1581,173,0,29,1581,null,117,96,42,"",null,255,331.5,1249.5,null,0,119.6,null,173,85,119,54]
[88275,1927,1743,183,0,27,1743,null,132,97,46,"",null,275,357.5,1385.5,null,0,145.6,null,183,86,120.4,62.6]
[88300,2022,1839,183,0,26,1839,null,129,97,28,"",null,254,330.2,1508.8,null,0,118.3,null,183,87,121.8,61.2]
[88325,2050,1867,183,0,26,1867,null,137,97,28,"",null,262,340.6,1526.4,null,0,128.69999999999999,null,183,88,123.2,59.8]
[88350,2122,1895,227,0,26,1895,null,409,97,55,"",null,561,729.3,1165.7,null,187.2,516.1,null,227,116,162.4,64.599999999999994]
[88375,2070,1798,271,0,27,1798,null,671,0,80,3,null,754,980.2,817.8,null,434.2,763.1,null,271,143,200.2,70.8]
[88400,2001,1733,268,0,27,1733,null,653,0,78,5,null,736,956.8,776.2,null,408.2,738.4,null,268,141,197.4,70.599999999999994]
[88425,2026,1766,260,0,27,1766,null,632,97,77,2,null,808,1050.4000000000001,715.6,null,505.7,834.6,null,260,136,190.4,69.599999999999994]
[88450,1954,1705,248,0,27,1705,null,618,97,76,2,null,793,1030.9000000000001,674.1,null,486.2,816.4,null,248,128,179.2,68.8]
[88475,1874,1634,240,0,27,1634,null,601,97,76,5,null,779,1012.7,621.29999999999995,null,464.1,793,null,240,123,172.2,67.8]
[88500,1797,1560,237,0,27,1560,null,582,97,75,5,null,759,986.7,573.29999999999995,null,438.1,767,null,237,121,169.4,67.599999999999994]
[88525,1740,1505,235,0,27,1505,null,562,97,74,5,null,738,959.4,545.6,null,410.8,741,null,235,119,166.6,68.400000000000006]
[88550,1672,1440,232,0,27,1440,null,535,97,74,5,null,711,924.3,515.70000000000005,null,375.7,705.9,null,232,117,163.80000000000001,68.2]
[88575,1590,1363,227,0,27,1363,null,509,97,76,5,null,687,893.1,469.9,null,344.5,674.7,null,227,114,159.6,67.400000000000006]
[88600,1519,1296,223,0,26,1296,null,485,97,75,6,null,663,861.9,434.1,null,312,642.20000000000005,null,223,111,155.4,67.599999999999994]
[88625,1451,1232,218,0,26,1232,null,468,97,72,6,null,643,835.9,396.1,null,286,616.20000000000005,null,218,107,149.80000000000001,68.2]
[88650,1386,1173,213,0,27,1173,null,455,97,70,5,null,627,815.1,357.9,null,266.5,596.70000000000005,null,213,104,145.6,67.400000000000006]
[88675,1321,1114,207,0,27,1114,null,429,97,68,5,null,599,778.7,335.3,null,230.1,559,null,207,100,140,67]
[88700,1248,1047,201,0,27,1047,null,399,97,68,5,null,569,739.7,307.3,null,189.8,520,null,201,96,134.4,66.599999999999994]
[88725,1177,984,193,0,27,984,null,379,97,69,5,null,550,715,269,null,166.4,495.3,null,193,91,127.4,65.599999999999994]
[88750,1116,932,184,0,27,932,null,357,97,65,5,null,524,681.2,250.8,null,132.6,462.8,null,184,85,119,65]
[88775,1054,876,178,0,27,876,null,339,97,64,5,null,505,656.5,219.5,null,106.6,436.8,null,178,81,113.4,64.599999999999994]
[88800,994,823,171,0,27,823,null,320,97,62,5,null,484,629.20000000000005,193.8,null,80.599999999999994,410.8,null,171,76,106.4,64.599999999999994]
[88825,954,791,163,0,27,791,null,296,97,58,5,null,456,592.79999999999995,198.2,null,44.2,374.4,null,163,71,99.4,63.6]
[88850,911,755,156,0,27,755,null,276,97,61,5,null,439,570.70000000000005,184.3,null,22.1,351,null,156,66,92.4,63.6]
[88875,856,708,147,0,27,708,null,260,97,65,5,null,427,555.1,152.9,null,6.5,335.4,null,147,61,85.4,61.6]
[88900,817,672,146,0,27,672,null,241,97,65,5,null,408,530.4,141.6,null,0,312,null,146,60,84,62]
[88925,787,643,144,0,26,643,null,222,96,67,5,null,390,507,136,null,0,287.3,null,144,59,82.6,61.4]
[88950,750,614,136,0,26,614,null,202,95,71,4,null,372,483.6,130.4,null,0,266.5,null,136,54,75.599999999999994,60.4]
[88975,719,589,130,0,27,589,null,187,95,72,3,null,357,464.1,124.9,null,0,247,null,130,50,70,60]
[89000,671,547,124,0,27,547,null,180,95,71,2,null,348,452.4,94.6,null,0,237.9,null,124,46,64.400000000000006,59.6]
[89025,619,498,121,0,27,498,null,177,95,71,1,null,344,447.2,50.8,null,0,232.7,null,121,43,60.2,60.8]
[89050,578,457,121,0,27,457,null,174,95,72,"",null,341,443.3,13.7,null,0,230.1,null,121,41,57.4,63.6]
[89075,538,416,122,0,27,416,null,177,95,74,"",null,346,449.8,-33.799999999999997,null,0,236.6,null,122,41,57.4,64.599999999999994]
[89100,508,385,123,0,27,385,null,185,95,76,1,null,357,464.1,-79.099999999999994,null,0,249.6,null,123,42,58.8,64.2]
[89125,487,363,123,0,27,363,null,197,95,78,1,null,371,482.3,-119.3,null,0,269.10000000000002,null,123,42,58.8,64.2]
[89150,469,344,124,0,27,344,null,206,95,80,"",null,381,495.3,-151.30000000000001,null,0,283.39999999999998,null,124,42,58.8,65.2]
[89175,451,326,125,0,27,326,null,211,95,82,"",null,388,504.4,-178.4,null,0,0,null,125,43,60.2,64.8]
[]
[]
[89200]
["STG1_US_63"]
["Totals:"]

{"sheet":"Rabbit_Run","index":9,"n_rows":29,"n_cols":24,"rows_kept":29,"cut":false,"hidden":false,"merged":[]}
["Station","Total Cut Unadjusted\n\nVolume","Total Class 10\nUnadjusted\n\nVolume","Topsoil Cut\n\nVolume","Template\nUnsuitable\nType B\nVolume","Template\nPavement\nRemoval\nVolume","Total\nCut\nAdjusted",null,"Total Fill\nUnadjusted\n\nVolume","Plowing &\nShaping\nUndercut\n(+ Fill)","Existing Topsoil\nStripping\nUndercut\n(+ Fill)","Existing\nPavement\nUndercut\n(+Fill)","Manually\nCalculated Fill\nAdjustments\n(+/- Fill)","Total\nFill\nAdjusted","Total Fill\n Adjusted w/\nWeighted Average\n1.3  Shrink Factor","Total Cut Adjusted\nMinus Fill w/ Shrink",null,"Approx. Fill Vol.\nBelow 5' & Above\n20' w/ Shrink","Approx. Fill\nVolume Below 3'\nw/ Shrink",null,"Topsoil\nStripping Undercut\nVolume","Topsoil\nPlacement\nUndercut\nVolume","Topsoil Placement\nWith 1.4 Shrink\nFactor","Topsoil Stripping\nMinus Topsoil\nPlacement\nw/Shrink"]
["Rabbit_Run"]
[882038.5,106,0,106,0,0,0,null,1461,0,106,"",null,1567,2037.1,-2037.1,null,1016.6,1950,null,106,0,0,106]
[882050,237,0,237,0,0,0,null,3195,0,237,"",null,3432,4461.6000000000004,-4461.6000000000004,null,2211.3000000000002,4274.3999999999996,null,237,41,57.4,179.6]
[882075,245,0,244,0,0,0,null,2646,0,242,"",null,2888,3754.4,-3754.4,null,2211.3000000000002,3567.2,null,244,95,133,111]
[882100,256,10,246,0,0,10,null,2017,0,234,"",null,2251,2926.3,-2916.3,null,2211.3000000000002,2737.8,null,246,115,161,85]
[882125,292,47,245,0,0,47,null,1493,0,192,"",null,1685,2190.5,-2143.5,null,1838.2,2003.3,null,245,124,173.6,71.400000000000006]
[882150,462,218,244,0,0,218,null,1192,0,142,"",null,1334,1734.2,-1516.2,null,1381.9,1547,null,244,127,177.8,66.2]
[882175,620,379,241,0,0,379,null,1021,0,120,"",null,1141,1483.3,-1104.3,null,1131,1296.0999999999999,null,241,129,180.6,60.4]
[882200,558,333,225,0,0,333,null,860,0,111,"",null,971,1262.3,-929.3,null,910,1075.0999999999999,null,225,120,168,57]
[882225,445,248,196,0,0,248,null,702,0,102,"",null,804,1045.2,-797.2,null,692.9,856.7,null,196,101,141.4,54.6]
[882250,409,234,175,0,0,234,null,561,0,94,"",null,655,851.5,-617.5,null,499.2,664.3,null,175,87,121.8,53.2]
[882275,400,235,165,0,0,235,null,468,0,88,"",null,556,722.8,-487.8,null,370.5,535.6,null,165,80,112,53]
[882300,371,215,156,0,0,215,null,415,0,83,"",null,498,647.4,-432.4,null,295.10000000000002,460.2,null,156,75,105,51]
[882325,320,175,146,0,0,175,null,386,0,80,"",null,466,605.79999999999995,-430.8,null,253.5,418.6,null,146,70,98,48]
[882350,262,127,135,0,0,127,null,366,0,78,"",null,444,577.20000000000005,-450.2,null,224.9,390,null,135,63,88.2,46.8]
[882375,212,87,125,0,0,87,null,346,0,76,"",null,422,548.6,-461.6,null,196.3,361.4,null,125,56,78.400000000000006,46.6]
[882400,167,52,115,0,0,52,null,329,0,75,"",null,404,525.20000000000005,-473.2,null,172.9,338,null,115,49,68.599999999999994,46.4]
[882425,130,26,105,0,0,26,null,297,0,72,"",null,369,479.7,-453.7,null,127.4,292.5,null,105,43,60.2,44.8]
[882450,112,14,97,0,0,14,null,233,0,68,"",null,301,391.3,-377.3,null,39,204.1,null,97,37,51.8,45.2]
[882475,102,13,89,0,0,13,null,150,0,60,"",null,210,273,-260,null,0,85.8,null,89,32,44.8,44.2]
[882500,89,11,78,0,0,11,null,74,0,52,"",null,126,163.80000000000001,-152.80000000000001,null,0,0,null,78,24,33.6,44.4]
[882525,74,7,66,0,0,7,null,20,0,42,"",null,62,80.599999999999994,-73.599999999999994,null,0,0,null,66,15,21,45]
[882550,82,13,69,0,0,13,null,0,0,19,"",null,19,24.7,-11.7,null,0,0,null,69,12,16.8,52.2]
[882575,138,43,96,0,0,43,null,0,0,1,"",null,1,1.3,41.7,null,0,0,null,96,7,9.8000000000000007,86.2]
[882600,30,30,0,0,0,30,null,0,0,"","",null,0,0,30,null,0,0,null,0,0,0,0]
[882605.5]
["Rabbit_Run"]
["Totals:",{"$f":"ROUNDUP(SUBTOTAL(9,B3:$B$27),0)","v":6119},{"$f":"ROUNDUP(SUBTOTAL(9,C3:$C$27),0)","v":2517},{"$f":"ROUNDUP(SUBTOTAL(9,D3:$D$27),0)","v":3601},{"$f":"ROUNDUP(SUBTOTAL(9,E3:$E$27),0)","v":0},{"$f":"ROUNDUP(SUBTOTAL(9,F3:$F$27),0)","v":0},{"$f":"ROUNDUP(SUBTOTAL(9,G3:$G$27),0)","v":2517},null,{"$f":"ROUNDUP(SUBTOTAL(9,I3:$I$27),0)","v":18232},{"$f":"ROUNDUP(SUBTOTAL(9,J3:$J$27),0)","v":0},{"$f":"ROUNDUP(SUBTOTAL(9,K3:$K$27),0)","v":2374},{"$f":"ROUNDUP(SUBTOTAL(9,L3:$L$27),0)","v":0},{"$f":"ROUNDUP(SUBTOTAL(9,M3:$M$27),0)","v":0},{"$f":"ROUNDUP(SUBTOTAL(9,N3:$N$27),0)","v":20606},{"$f":"ROUNDUP(SUBTOTAL(9,O3:$O$27),0)","v":26788},{"$f":"ROUNDUP(SUBTOTAL(9,P3:$P$27),0)","v":-24271},null,{"$f":"ROUNDUP(SUBTOTAL(9,R3:$R$27),0)","v":15784},{"$f":"ROUNDUP(SUBTOTAL(9,S3:$S$27),0)","v":23059},null,{"$f":"ROUNDUP(SUBTOTAL(9,U3:$U$27),0)","v":3601},{"$f":"ROUNDUP(SUBTOTAL(9,V3:$V$27),0)","v":1502},{"$f":"ROUNDUP(SUBTOTAL(9,W3:$W$27),0)","v":2103},{"$f":"ROUNDUP(SUBTOTAL(9,X3:$X$27),0)","v":1499}]

{"sheet":"STG1_Trail","index":10,"n_rows":48,"n_cols":24,"rows_kept":48,"cut":false,"hidden":false,"merged":[]}
["Station","Total Cut Unadjusted\n\nVolume","Total Class 10\nUnadjusted\n\nVolume","Topsoil Cut\n\nVolume","Template\nUnsuitable\nType B\nVolume","Template\nPavement\nRemoval\nVolume","Total\nCut\nAdjusted",null,"Total Fill\nUnadjusted\n\nVolume","Plowing &\nShaping\nUndercut\n(+ Fill)","Existing Topsoil\nStripping\nUndercut\n(+ Fill)","Existing\nPavement\nUndercut\n(+Fill)","Manually\nCalculated Fill\nAdjustments\n(+/- Fill)","Total\nFill\nAdjusted","Total Fill\n Adjusted w/\nWeighted Average\n1.3  Shrink Factor","Total Cut Adjusted\nMinus Fill w/ Shrink",null,"Approx. Fill Vol.\nBelow 5' & Above\n20' w/ Shrink","Approx. Fill\nVolume Below 3'\nw/ Shrink",null,"Topsoil\nStripping Undercut\nVolume","Topsoil\nPlacement\nUndercut\nVolume","Topsoil Placement\nWith 1.4 Shrink\nFactor","Topsoil Stripping\nMinus Topsoil\nPlacement\nw/Shrink"]
["STG1_Trail"]
[880150,20,10,10,0,5,10,null,0,0,4,"",null,4,5.2,4.8,null,0,0,null,10,3,4.2,5.8]
[880175,23,9,14,0,5,9,null,0,0,4,1,null,5,6.5,2.5,null,0,0,null,14,5,7,7]
[880200,32,10,23,0,4,10,null,0,0,6,2,null,8,10.4,-0.4,null,0,0,null,23,9,12.6,10.4]
[880225,43,11,32,0,2,11,null,1,0,11,6,null,18,23.4,-12.4,null,0,0,null,32,11,15.4,16.600000000000001]
[880250,42,9,33,0,0,9,null,1,0,10,"",null,11,14.3,-5.3,null,0,0,null,33,11,15.4,17.600000000000001]
[880275,44,10,34,0,0,10,null,1,0,7,"",null,8,10.4,-0.4,null,0,0,null,34,12,16.8,17.2]
[880300,73,25,48,0,0,25,null,1,0,34,"",null,35,45.5,-20.5,null,0,0,null,48,13,18.2,29.8]
[880325,32,32,0,0,0,32,null,2,0,"","",null,2,2.6,29.4,null,0,0,null,0,13,18.2,-18.2]
[880350,24,24,0,0,0,24,null,6,0,"","",null,6,7.8,16.2,null,0,0,null,0,13,18.2,-18.2]
[880375,11,11,0,0,0,11,null,23,0,"","",null,23,29.9,-18.899999999999999,null,0,0,null,0,11,15.4,-15.4]
[880400,3,3,0,0,0,3,null,8,0,"","",null,8,10.4,-7.4,null,0,0,null,0,2,2.8,-2.8]
[880410,71,71,0,0,0,71,null,398,0,"","",null,398,517.4,-446.4,null,0,0,null,0,90,126,-126]
[880625,117,116,0,0,0,116,null,46,0,"","",null,46,59.8,56.2,null,0,0,null,0,31,43.4,-43.4]
[880650,279,209,69,0,0,209,null,0,0,"","",null,0,0,209,null,0,0,null,69,41,57.4,11.6]
[880675,232,158,74,0,0,158,null,0,0,"","",null,0,0,158,null,0,0,null,74,36,50.4,23.6]
[880700,163,97,65,0,0,97,null,0,0,2,"",null,2,2.6,94.4,null,0,0,null,65,30,42,23]
[880725,108,51,57,0,0,51,null,0,0,5,"",null,5,6.5,44.5,null,0,0,null,57,25,35,22]
[880750,81,29,52,0,0,29,null,4,0,16,"",null,20,26,3,null,0,0,null,52,22,30.8,21.2]
[880775,76,21,55,0,0,21,null,12,0,31,"",null,43,55.9,-34.9,null,0,0,null,55,23,32.200000000000003,22.8]
[880800,63,16,46,0,0,16,null,12,0,26,"",null,38,49.4,-33.4,null,0,0,null,46,19,26.6,19.399999999999999]
[880825,55,14,41,0,0,14,null,13,0,23,"",null,36,46.8,-32.799999999999997,null,0,0,null,41,15,21,20]
[880850,67,17,50,0,0,17,null,24,0,31,"",null,55,71.5,-54.5,null,0,0,null,50,20,28,22]
[880875,75,20,55,0,0,20,null,29,0,35,"",null,64,83.2,-63.2,null,0,0,null,55,24,33.6,21.4]
[880900,77,22,55,0,0,22,null,21,0,33,"",null,54,70.2,-48.2,null,0,0,null,55,25,35,20]
[880925,77,31,45,0,0,31,null,11,0,28,"",null,39,50.7,-19.7,null,0,0,null,45,23,32.200000000000003,12.8]
[880950,78,32,46,0,0,32,null,6,0,21,"",null,27,35.1,-3.1,null,0,0,null,46,22,30.8,15.2]
[880975,72,43,29,0,0,43,null,2,0,7,"",null,9,11.7,31.3,null,0,0,null,29,23,32.200000000000003,-3.2]
[881000,67,42,24,0,0,42,null,4,0,11,"",null,15,19.5,22.5,null,0,0,null,24,21,29.4,-5.4]
[881025,65,23,42,0,0,23,null,7,0,24,"",null,31,40.299999999999997,-17.3,null,0,0,null,42,19,26.6,15.4]
[881050,63,23,40,0,0,23,null,9,0,29,"",null,38,49.4,-26.4,null,0,0,null,40,20,28,12]
[881075,56,16,40,0,0,16,null,17,0,30,"",null,47,61.1,-45.1,null,0,0,null,40,21,29.4,10.6]
[881100,42,7,35,0,0,7,null,27,0,24,"",null,51,66.3,-59.3,null,0,0,null,35,19,26.6,8.4]
[881125,40,7,33,0,0,7,null,17,0,20,"",null,37,48.1,-41.1,null,0,0,null,33,15,21,12]
[881150,41,5,35,0,0,5,null,4,0,20,"",null,24,31.2,-26.2,null,0,0,null,35,13,18.2,16.8]
[881175,38,2,36,0,0,2,null,8,0,23,"",null,31,40.299999999999997,-38.299999999999997,null,0,0,null,36,13,18.2,17.8]
[881200,35,1,35,0,0,1,null,16,0,27,"",null,43,55.9,-54.9,null,0,0,null,35,13,18.2,16.8]
[881225,32,0,32,0,0,0,null,25,0,29,"",null,54,70.2,-70.2,null,0,0,null,32,10,14,18]
[881250,29,0,29,0,0,0,null,27,0,29,"",null,56,72.8,-72.8,null,0,0,null,29,9,12.6,16.399999999999999]
[881275,29,0,29,0,0,0,null,23,0,27,"",null,50,65,-65,null,0,0,null,29,9,12.6,16.399999999999999]
[881300,29,0,29,0,0,0,null,26,0,25,"",null,51,66.3,-66.3,null,0,0,null,29,9,12.6,16.399999999999999]
[881325,27,0,26,0,0,0,null,34,0,23,2,null,59,76.7,-76.7,null,0,0,null,26,8,11.2,14.8]
[881350,21,0,21,0,0,0,null,42,0,19,3,null,64,83.2,-83.2,null,0,0,null,21,7,9.8000000000000007,11.2]
[881375,20,1,20,0,0,1,null,48,0,17,4,null,69,89.7,-88.7,null,0,0,null,20,7,9.8000000000000007,10.199999999999999]
[881400]
["STG1_Trail"]
["Totals:",{"$f":"ROUNDUP(SUBTOTAL(9,B3:$B$46),0)","v":2672},{"$f":"ROUNDUP(SUBTOTAL(9,C3:$C$46),0)","v":1228},{"$f":"ROUNDUP(SUBTOTAL(9,D3:$D$46),0)","v":1439},{"$f":"ROUNDUP(SUBTOTAL(9,E3:$E$46),0)","v":0},{"$f":"ROUNDUP(SUBTOTAL(9,F3:$F$46),0)","v":16},{"$f":"ROUNDUP(SUBTOTAL(9,G3:$G$46),0)","v":1228},null,{"$f":"ROUNDUP(SUBTOTAL(9,I3:$I$46),0)","v":955},{"$f":"ROUNDUP(SUBTOTAL(9,J3:$J$46),0)","v":0},{"$f":"ROUNDUP(SUBTOTAL(9,K3:$K$46),0)","v":711},{"$f":"ROUNDUP(SUBTOTAL(9,L3:$L$46),0)","v":18},{"$f":"ROUNDUP(SUBTOTAL(9,M3:$M$46),0)","v":0},{"$f":"ROUNDUP(SUBTOTAL(9,N3:$N$46),0)","v":1684},{"$f":"ROUNDUP(SUBTOTAL(9,O3:$O$46),0)","v":2190},{"$f":"ROUNDUP(SUBTOTAL(9,P3:$P$46),0)","v":-962},null,{"$f":"ROUNDUP(SUBTOTAL(9,R3:$R$46),0)","v":0},{"$f":"ROUNDUP(SUBTOTAL(9,S3:$S$46),0)","v":0},null,{"$f":"ROUNDUP(SUBTOTAL(9,U3:$U$46),0)","v":1439},{"$f":"ROUNDUP(SUBTOTAL(9,V3:$V$46),0)","v":785},{"$f":"ROUNDUP(SUBTOTAL(9,W3:$W$46),0)","v":1099},{"$f":"ROUNDUP(SUBTOTAL(9,X3:$X$46),0)","v":340}]

{"sheet":"SIDEWALK","index":11,"n_rows":17,"n_cols":24,"rows_kept":17,"cut":false,"hidden":false,"merged":[]}
["Station","Total Cut Unadjusted\n\nVolume","Total Class 10\nUnadjusted\n\nVolume","Topsoil Cut\n\nVolume","Template\nUnsuitable\nType B\nVolume","Template\nPavement\nRemoval\nVolume","Total\nCut\nAdjusted",null,"Total Fill\nUnadjusted\n\nVolume","Plowing &\nShaping\nUndercut\n(+ Fill)","Existing Topsoil\nStripping\nUndercut\n(+ Fill)","Existing\nPavement\nUndercut\n(+Fill)","Manually\nCalculated Fill\nAdjustments\n(+/- Fill)","Total\nFill\nAdjusted","Total Fill\n Adjusted w/\nWeighted Average\n1.3  Shrink Factor","Total Cut Adjusted\nMinus Fill w/ Shrink",null,"Approx. Fill Vol.\nBelow 5' & Above\n20' w/ Shrink","Approx. Fill\nVolume Below 3'\nw/ Shrink",null,"Topsoil\nStripping Undercut\nVolume","Topsoil\nPlacement\nUndercut\nVolume","Topsoil Placement\nWith 1.4 Shrink\nFactor","Topsoil Stripping\nMinus Topsoil\nPlacement\nw/Shrink"]
["SIDEWALK"]
[830,9,0,9,0,0,0,null,7,0,9,"",null,16,20.8,-20.8,null,0,0,null,9,0,0,9]
[840,15,0,15,0,0,0,null,16,0,15,"",null,31,40.299999999999997,-40.299999999999997,null,0,0,null,15,3,4.2,10.8]
[850,18,0,18,0,0,0,null,18,0,17,"",null,35,45.5,-45.5,null,0,0,null,18,6,8.4,9.6]
[860,17,0,17,0,0,0,null,15,0,16,"",null,31,40.299999999999997,-40.299999999999997,null,0,0,null,17,6,8.4,8.6]
[870,17,0,17,0,0,0,null,11,0,16,"",null,27,35.1,-35.1,null,0,0,null,17,5,7,10]
[880,16,0,16,0,0,0,null,9,0,15,"",null,24,31.2,-31.2,null,0,0,null,16,5,7,9]
[890,15,0,15,0,0,0,null,7,0,14,"",null,21,27.3,-27.3,null,0,0,null,15,4,5.6,9.4]
[900,14,0,14,0,0,0,null,6,0,12,"",null,18,23.4,-23.4,null,0,0,null,14,4,5.6,8.4]
[910,13,0,13,0,0,0,null,4,0,11,"",null,15,19.5,-19.5,null,0,0,null,13,3,4.2,8.8000000000000007]
[920,10,0,10,0,0,0,null,3,0,8,"",null,11,14.3,-14.3,null,0,0,null,10,2,2.8,7.2]
[930,11,4,8,0,0,4,null,3,0,5,"",null,8,10.4,-6.4,null,0,0,null,8,4,5.6,2.4]
[940,9,8,0,0,0,8,null,1,0,"","",null,1,1.3,6.7,null,0,0,null,0,3,4.2,-4.2]
[948.8]
["SIDEWALK"]
["Totals:",{"$f":"ROUNDUP(SUBTOTAL(9,B3:$B$15),0)","v":164},{"$f":"ROUNDUP(SUBTOTAL(9,C3:$C$15),0)","v":12},{"$f":"ROUNDUP(SUBTOTAL(9,D3:$D$15),0)","v":152},{"$f":"ROUNDUP(SUBTOTAL(9,E3:$E$15),0)","v":0},{"$f":"ROUNDUP(SUBTOTAL(9,F3:$F$15),0)","v":0},{"$f":"ROUNDUP(SUBTOTAL(9,G3:$G$15),0)","v":12},null,{"$f":"ROUNDUP(SUBTOTAL(9,I3:$I$15),0)","v":100},{"$f":"ROUNDUP(SUBTOTAL(9,J3:$J$15),0)","v":0},{"$f":"ROUNDUP(SUBTOTAL(9,K3:$K$15),0)","v":138},{"$f":"ROUNDUP(SUBTOTAL(9,L3:$L$15),0)","v":0},{"$f":"ROUNDUP(SUBTOTAL(9,M3:$M$15),0)","v":0},{"$f":"ROUNDUP(SUBTOTAL(9,N3:$N$15),0)","v":238},{"$f":"ROUNDUP(SUBTOTAL(9,O3:$O$15),0)","v":310},{"$f":"ROUNDUP(SUBTOTAL(9,P3:$P$15),0)","v":-298},null,{"$f":"ROUNDUP(SUBTOTAL(9,R3:$R$15),0)","v":0},{"$f":"ROUNDUP(SUBTOTAL(9,S3:$S$15),0)","v":0},null,{"$f":"ROUNDUP(SUBTOTAL(9,U3:$U$15),0)","v":152},{"$f":"ROUNDUP(SUBTOTAL(9,V3:$V$15),0)","v":45},{"$f":"ROUNDUP(SUBTOTAL(9,W3:$W$15),0)","v":63},{"$f":"ROUNDUP(SUBTOTAL(9,X3:$X$15),0)","v":89}]

{"sheet":"PARKING","index":12,"n_rows":23,"n_cols":24,"rows_kept":23,"cut":false,"hidden":false,"merged":[]}
["Station","Total Cut Unadjusted\n\nVolume","Total Class 10\nUnadjusted\n\nVolume","Topsoil Cut\n\nVolume","Template\nUnsuitable\nType B\nVolume","Template\nPavement\nRemoval\nVolume","Total\nCut\nAdjusted",null,"Total Fill\nUnadjusted\n\nVolume","Plowing &\nShaping\nUndercut\n(+ Fill)","Existing Topsoil\nStripping\nUndercut\n(+ Fill)","Existing\nPavement\nUndercut\n(+Fill)","Manually\nCalculated Fill\nAdjustments\n(+/- Fill)","Total\nFill\nAdjusted","Total Fill\n Adjusted w/\nWeighted Average\n1.3  Shrink Factor","Total Cut Adjusted\nMinus Fill w/ Shrink",null,"Approx. Fill Vol.\nBelow 5' & Above\n20' w/ Shrink","Approx. Fill\nVolume Below 3'\nw/ Shrink",null,"Topsoil\nStripping Undercut\nVolume","Topsoil\nPlacement\nUndercut\nVolume","Topsoil Placement\nWith 1.4 Shrink\nFactor","Topsoil Stripping\nMinus Topsoil\nPlacement\nw/Shrink"]
["PARKING"]
[311,1,1,0,0,0,1,null,0,0,"","",null,0,0,1,null,0,0,null,0,0,0,0]
[313,2,1,2,0,0,1,null,0,0,1,"",null,1,1.3,-0.3,null,0,0,null,2,0,0,2]
[315,6,1,5,0,0,1,null,0,0,3,"",null,3,3.9,-2.9,null,0,0,null,5,1,1.4,3.6]
[320,8,1,7,0,0,1,null,0,0,5,"",null,5,6.5,-5.5,null,0,0,null,7,3,4.2,2.8]
[325,10,0,10,0,0,0,null,0,0,7,"",null,7,9.1,-9.1,null,0,0,null,10,5,7,3]
[330,11,0,11,0,0,0,null,1,0,9,"",null,10,13,-13,null,0,0,null,11,5,7,4]
[335,12,1,12,0,0,1,null,3,0,9,"",null,12,15.6,-14.6,null,0,0,null,12,4,5.6,6.4]
[340,16,2,14,0,0,2,null,5,0,10,"",null,15,19.5,-17.5,null,0,0,null,14,3,4.2,9.8000000000000007]
[345,21,5,15,0,0,5,null,5,0,10,"",null,15,19.5,-14.5,null,0,0,null,15,3,4.2,10.8]
[350,24,8,16,0,0,8,null,6,0,10,"",null,16,20.8,-12.8,null,0,0,null,16,4,5.6,10.4]
[355,26,10,16,0,0,10,null,6,0,9,"",null,15,19.5,-9.5,null,0,0,null,16,4,5.6,10.4]
[360,28,12,17,0,0,12,null,7,0,9,"",null,16,20.8,-8.8000000000000007,null,0,0,null,17,4,5.6,11.4]
[365,32,15,17,0,0,15,null,6,0,9,"",null,15,19.5,-4.5,null,0,0,null,17,6,8.4,8.6]
[370,26,13,13,0,0,13,null,3,0,6,"",null,9,11.7,1.3,null,0,0,null,13,6,8.4,4.5999999999999996]
[374,6,3,3,0,0,3,null,1,0,1,"",null,2,2.6,0.4,null,0,0,null,3,1,1.4,1.6]
[375,24,11,13,0,0,11,null,2,0,5,"",null,7,9.1,1.9,null,0,0,null,13,6,8.4,4.5999999999999996]
[380,15,6,9,0,0,6,null,0,0,3,"",null,3,3.9,2.1,null,0,0,null,9,5,7,2]
[385,2,2,0,0,0,2,null,0,0,"","",null,0,0,2,null,0,0,null,0,2,2.8,-2.8]
[390]
["PARKING"]
["Totals:",{"$f":"ROUNDUP(SUBTOTAL(9,B3:$B$21),0)","v":270},{"$f":"ROUNDUP(SUBTOTAL(9,C3:$C$21),0)","v":92},{"$f":"ROUNDUP(SUBTOTAL(9,D3:$D$21),0)","v":180},{"$f":"ROUNDUP(SUBTOTAL(9,E3:$E$21),0)","v":0},{"$f":"ROUNDUP(SUBTOTAL(9,F3:$F$21),0)","v":0},{"$f":"ROUNDUP(SUBTOTAL(9,G3:$G$21),0)","v":92},null,{"$f":"ROUNDUP(SUBTOTAL(9,I3:$I$21),0)","v":45},{"$f":"ROUNDUP(SUBTOTAL(9,J3:$J$21),0)","v":0},{"$f":"ROUNDUP(SUBTOTAL(9,K3:$K$21),0)","v":106},{"$f":"ROUNDUP(SUBTOTAL(9,L3:$L$21),0)","v":0},{"$f":"ROUNDUP(SUBTOTAL(9,M3:$M$21),0)","v":0},{"$f":"ROUNDUP(SUBTOTAL(9,N3:$N$21),0)","v":151},{"$f":"ROUNDUP(SUBTOTAL(9,O3:$O$21),0)","v":197},{"$f":"ROUNDUP(SUBTOTAL(9,P3:$P$21),0)","v":-105},null,{"$f":"ROUNDUP(SUBTOTAL(9,R3:$R$21),0)","v":0},{"$f":"ROUNDUP(SUBTOTAL(9,S3:$S$21),0)","v":0},null,{"$f":"ROUNDUP(SUBTOTAL(9,U3:$U$21),0)","v":180},{"$f":"ROUNDUP(SUBTOTAL(9,V3:$V$21),0)","v":62},{"$f":"ROUNDUP(SUBTOTAL(9,W3:$W$21),0)","v":87},{"$f":"ROUNDUP(SUBTOTAL(9,X3:$X$21),0)","v":94}]

{"sheet":"Stage2","index":13,"n_rows":2,"n_cols":24,"rows_kept":2,"cut":false,"hidden":false,"merged":[]}
["Station","Total Cut Unadjusted\n\nVolume","Total Class 10\nUnadjusted\n\nVolume","Topsoil Cut\n\nVolume","Template\nUnsuitable\nType B\nVolume","Template\nPavement\nRemoval\nVolume","Total\nCut\nAdjusted",null,"Total Fill\nUnadjusted\n\nVolume","Plowing &\nShaping\nUndercut\n(+ Fill)","Existing Topsoil\nStripping\nUndercut\n(+ Fill)","Existing\nPavement\nUndercut\n(+Fill)","Manually\nCalculated Fill\nAdjustments\n(+/- Fill)","Total\nFill\nAdjusted","Total Fill\n Adjusted w/\nWeighted Average\n1.3  Shrink Factor","Total Cut Adjusted\nMinus Fill w/ Shrink",null,"Approx. Fill Vol.\nBelow 5' & Above\n20' w/ Shrink","Approx. Fill\nVolume Below 3'\nw/ Shrink",null,"Topsoil\nStripping Undercut\nVolume","Topsoil\nPlacement\nUndercut\nVolume","Topsoil Placement\nWith 1.4 Shrink\nFactor","Topsoil Stripping\nMinus Topsoil\nPlacement\nw/Shrink"]
["Stage 2"]

{"sheet":"STG2_US_63","index":14,"n_rows":124,"n_cols":24,"rows_kept":124,"cut":false,"hidden":false,"merged":[]}
["Station","Total Cut Unadjusted\n\nVolume","Total Class 10\nUnadjusted\n\nVolume","Topsoil Cut\n\nVolume","Template\nUnsuitable\nType B\nVolume","Template\nPavement\nRemoval\nVolume","Total\nCut\nAdjusted",null,"Total Fill\nUnadjusted\n\nVolume","Plowing &\nShaping\nUndercut\n(+ Fill)","Existing Topsoil\nStripping\nUndercut\n(+ Fill)","Existing\nPavement\nUndercut\n(+Fill)","Manually\nCalculated Fill\nAdjustments\n(+/- Fill)","Total\nFill\nAdjusted","Total Fill\n Adjusted w/\nWeighted Average\n1.3  Shrink Factor","Total Cut Adjusted\nMinus Fill w/ Shrink",null,"Approx. Fill Vol.\nBelow 5' & Above\n20' w/ Shrink","Approx. Fill\nVolume Below 3'\nw/ Shrink",null,"Topsoil\nStripping Undercut\nVolume","Topsoil\nPlacement\nUndercut\nVolume","Topsoil Placement\nWith 1.4 Shrink\nFactor","Topsoil Stripping\nMinus Topsoil\nPlacement\nw/Shrink"]
["STG2_US_63"]
[89200,338,212,126,0,27,212,null,220,0,84,"",null,304,395.2,-183.2,null,0,182,null,126,44,61.6,64.400000000000006]
[89225,317,189,127,0,27,189,null,236,0,86,"",null,322,418.6,-229.6,null,0,206.7,null,127,44,61.6,65.400000000000006]
[89250,297,170,127,0,27,170,null,264,0,88,"",null,352,457.6,-287.60000000000002,null,0,244.4,null,127,45,63,64]
[89275,281,153,128,0,27,153,null,309,0,90,"",null,399,518.70000000000005,-365.7,null,0,306.8,null,128,45,63,65]
[89300,76,40,36,0,7,40,null,95,0,26,"",null,121,157.30000000000001,-117.3,null,5.2,97.5,null,36,12,16.8,19.2]
[89307,190,99,91,0,19,99,null,243,0,65,"",null,308,400.4,-301.39999999999998,null,10.4,248.3,null,91,32,44.8,46.2]
[89325,254,127,126,0,27,127,null,330,0,91,"",null,421,547.29999999999995,-420.3,null,5.2,335.4,null,126,43,60.2,65.8]
[89350,244,120,123,0,27,120,null,323,0,89,"",null,412,535.6,-415.6,null,0,323.7,null,123,41,57.4,65.599999999999994]
[89375,232,115,116,0,27,115,null,313,0,82,"",null,395,513.5,-398.5,null,0,301.60000000000002,null,116,37,51.8,64.2]
[89400,224,111,114,0,27,111,null,311,0,80,"",null,391,508.3,-397.3,null,0,296.39999999999998,null,114,35,49,65]
[89425,322,204,118,0,27,204,null,315,95,85,"",null,495,643.5,-439.5,null,101.4,430.3,null,118,38,53.2,64.8]
[89450,322,206,117,0,27,206,null,309,95,84,"",null,488,634.4,-428.4,null,92.3,422.5,null,117,38,53.2,63.8]
[89475,323,207,116,0,27,207,null,301,95,84,"",null,480,624,-417,null,81.900000000000006,412.1,null,116,37,51.8,64.2]
[89500,323,207,116,0,27,207,null,303,95,85,"",null,483,627.9,-420.9,null,85.8,414.7,null,116,38,53.2,62.8]
[89525,291,196,95,0,24,196,null,294,107,77,3,null,481,625.29999999999995,-429.3,null,79.3,409.5,null,95,24,33.6,61.4]
[89550,259,185,74,0,22,185,null,278,118,68,5,null,469,609.70000000000005,-424.7,null,61.1,391.3,null,74,10,14,60]
[89575,326,237,88,0,35,237,null,269,118,72,5,null,464,603.20000000000005,-366.2,null,54.6,384.8,null,88,29,40.6,47.4]
[89600,393,296,98,0,51,296,null,218,118,71,5,null,412,535.6,-239.6,null,0,317.2,null,98,47,65.8,32.200000000000003]
[89625,386,305,82,0,60,305,null,113,118,56,5,null,292,379.6,-74.599999999999994,null,0,161.19999999999999,null,82,46,64.400000000000006,17.600000000000001]
[89650,239,173,65,0,85,173,null,99,0,48,5,null,152,197.6,-24.6,null,0,0,null,65,45,63,2]
[89675,206,135,70,0,89,135,null,217,0,60,2,null,279,362.7,-227.7,null,0,146.9,null,70,43,60.2,9.8000000000000007]
[89700,180,92,88,0,61,92,null,326,0,80,"",220,626,813.8,-721.8,null,0,315.89999999999998,null,88,39,54.6,33.4]
[89725,154,63,92,0,40,63,null,362,0,87,"",null,449,583.70000000000005,-520.70000000000005,null,41.6,371.8,null,92,30,42,50]
[89750,236,142,95,0,28,142,null,388,84,91,"",null,563,731.9,-589.9,null,189.8,520,null,95,28,39.200000000000003,55.8]
[89775,245,140,105,0,24,140,null,440,84,101,46,null,671,872.3,-732.3,null,270.39999999999998,599.29999999999995,null,105,33,46.2,58.8]
[89800,244,135,109,0,24,135,null,463,84,105,92,null,744,967.2,-832.2,null,305.5,635.70000000000005,null,109,35,49,60]
[89825,314,144,170,0,29,144,null,553,89,164,92,null,898,1167.4000000000001,-1023.4,null,505.7,834.6,null,170,75,105,65]
[89850,388,157,232,0,34,157,null,840,95,223,92,null,1250,1625,-1468,null,963.3,1293.5,null,232,115,161,71]
[89875,387,156,230,0,33,156,null,1056,95,220,91,null,1462,1900.6,-1744.6,null,1238.9000000000001,1569.1,null,230,114,159.6,70.400000000000006]
[89900,382,156,226,0,31,156,null,1072,95,216,79,null,1462,1900.6,-1744.6,null,1255.8,1584.7,null,226,111,155.4,70.599999999999994]
[89925,373,153,220,0,31,153,null,1045,95,213,36,null,1389,1805.7,-1652.7,null,1216.8,1547,null,220,108,151.19999999999999,68.8]
[89950,361,148,213,0,32,148,null,984,95,208,2,null,1289,1675.7,-1527.7,null,1131,1459.9,null,213,104,145.6,67.400000000000006]
[89975,349,143,206,0,33,143,null,920,96,202,"",null,1218,1583.4,-1440.4,null,1041.3,1370.2,null,206,101,141.4,64.599999999999994]
[90000,334,136,198,0,35,136,null,859,97,196,"",null,1152,1497.6,-1361.6,null,955.5,1284.4000000000001,null,198,96,134.4,63.6]
[90025,315,126,189,0,35,126,null,781,96,186,2,null,1065,1384.5,-1258.5,null,839.8,1170,null,189,91,127.4,61.6]
[90050,296,115,180,0,35,115,null,701,94,175,4,null,974,1266.2,-1151.2,null,720.2,1049.0999999999999,null,180,87,121.8,58.2]
[90075,279,107,172,0,34,107,null,645,92,165,7,null,909,1181.7,-1074.7,null,630.5,959.4,null,172,82,114.8,57.2]
[90100,263,99,164,0,30,99,null,603,88,155,13,null,859,1116.7,-1017.7,null,557.70000000000005,886.6,null,164,78,109.2,54.8]
[90125,248,92,156,0,24,92,null,569,84,144,22,null,819,1064.7,-972.7,null,494,824.2,null,156,74,103.6,52.4]
[90150,157,6,150,0,20,6,null,560,0,138,25,null,723,939.9,-933.9,null,365.3,695.5,null,150,70,98,52]
[90175,149,4,145,0,17,4,null,550,0,133,28,null,711,924.3,-920.3,null,345.8,676,null,145,66,92.4,52.6]
[90200,144,4,140,0,15,4,null,530,0,125,31,null,686,891.8,-887.8,null,309.39999999999998,639.6,null,140,63,88.2,51.8]
[90225,140,4,136,0,14,4,null,531,0,119,32,null,682,886.6,-882.6,null,302.89999999999998,633.1,null,136,61,85.4,50.6]
[90250,142,5,137,0,13,5,null,531,0,118,34,null,683,887.9,-882.9,null,301.60000000000002,631.79999999999995,null,137,62,86.8,50.2]
[90275,146,5,141,0,12,5,null,521,0,121,36,null,678,881.4,-876.4,null,292.5,621.4,null,141,66,92.4,48.6]
[90300,149,3,147,0,12,3,null,504,0,131,37,null,672,873.6,-870.6,null,283.39999999999998,612.29999999999995,null,147,70,98,49]
[90325,156,3,153,0,13,3,null,480,0,138,36,null,654,850.2,-847.2,null,261.3,591.5,null,153,75,105,48]
[90350,157,3,153,0,15,3,null,464,0,140,35,null,639,830.7,-827.7,null,243.1,573.29999999999995,null,153,76,106.4,46.6]
[90375,206,43,164,0,18,43,null,444,0,134,33,null,611,794.3,-751.3,null,208,538.20000000000005,null,164,84,117.6,46.4]
[90400,242,70,172,0,22,70,null,415,0,125,30,null,570,741,-671,null,159.9,490.1,null,172,91,127.4,44.6]
[90425,221,60,161,0,26,60,null,387,0,116,24,null,527,685.1,-625.1,null,111.8,442,null,161,84,117.6,43.4]
[90450,221,63,158,0,29,63,null,371,0,110,22,null,503,653.9,-590.9,null,83.2,413.4,null,158,83,116.2,41.8]
[90475,198,43,155,0,33,43,null,366,0,109,21,null,496,644.79999999999995,-601.79999999999995,null,75.400000000000006,404.3,null,155,86,120.4,34.6]
[90500,171,17,154,0,35,17,null,356,0,117,19,null,492,639.6,-622.6,null,71.5,401.7,null,154,85,119,35]
[90525,167,13,155,0,38,13,null,354,0,124,16,null,494,642.20000000000005,-629.20000000000005,null,79.3,408.2,null,155,81,113.4,41.6]
[90550,161,14,147,0,40,14,null,358,0,121,14,null,493,640.9,-626.9,null,79.3,409.5,null,147,76,106.4,40.6]
[90575,163,16,147,0,42,16,null,346,0,121,12,null,479,622.70000000000005,-606.70000000000005,null,65,393.9,null,147,76,106.4,40.6]
[90600,154,18,136,0,45,18,null,325,0,110,10,null,445,578.5,-560.5,null,22.1,352.3,null,136,69,96.6,39.4]
[90625,142,19,123,0,47,19,null,301,0,97,8,null,406,527.79999999999995,-508.8,null,0,304.2,null,123,61,85.4,37.6]
[90650,144,29,115,0,50,29,null,294,0,94,4,null,392,509.6,-480.6,null,0,292.5,null,115,61,85.4,29.6]
[90675,148,32,116,0,53,32,null,305,0,95,1,null,401,521.29999999999995,-489.3,null,0,308.10000000000002,null,116,61,85.4,30.6]
[90700,157,28,129,0,54,28,null,312,0,96,"",null,408,530.4,-502.4,null,0,318.5,null,129,65,91,38]
[90725,168,33,135,0,54,33,null,308,0,97,"",null,405,526.5,-493.5,null,0,314.60000000000002,null,135,69,96.6,38.4]
[90750,173,37,136,0,54,37,null,311,0,98,"",null,409,531.70000000000005,-494.7,null,0,319.8,null,136,69,96.6,39.4]
[90775,179,42,137,0,54,42,null,318,0,98,"",null,416,540.79999999999995,-498.8,null,0,328.9,null,137,70,98,39]
[90800]
["Subtotals:",{"$f":"SUBTOTAL(9,$B$2:$B$67)","v":15546},{"$f":"SUBTOTAL(9,$C$2:$C$67)","v":6605},{"$f":"SUBTOTAL(9,$D$2:$D$67)","v":8940},{"$f":"SUBTOTAL(9,$E$2:$E$67)","v":0},{"$f":"SUBTOTAL(9,$F$2:$F$67)","v":2134},{"$f":"SUBTOTAL(9,$G$2:$G$67)","v":6605},{"$f":"SUBTOTAL(9,$H$2:$H$67)","v":0},{"$f":"SUBTOTAL(9,$I$2:$I$67)","v":28509},{"$f":"SUBTOTAL(9,$J$2:$J$67)","v":2422},{"$f":"SUBTOTAL(9,$K$2:$K$67)","v":7527},{"$f":"SUBTOTAL(9,$L$2:$L$67)","v":1116},{"$f":"SUBTOTAL(9,$M$2:$M$67)","v":220},{"$f":"SUBTOTAL(9,$N$2:$N$67)","v":39794},{"$f":"SUBTOTAL(9,$O$2:$O$67)","v":51732.200000000012},{"$f":"SUBTOTAL(9,$P$2:$P$67)","v":-45127.200000000004},{"$f":"SUBTOTAL(9,$Q$2:$Q$67)","v":0},{"$f":"SUBTOTAL(9,$R$2:$R$67)","v":16595.799999999996},{"$f":"SUBTOTAL(9,$S$2:$S$67)","v":36423.4},{"$f":"SUBTOTAL(9,$T$2:$T$67)","v":0},{"$f":"SUBTOTAL(9,$U$2:$U$67)","v":8940},{"$f":"SUBTOTAL(9,$V$2:$V$67)","v":4054},{"$f":"SUBTOTAL(9,$W$2:$W$67)","v":5675.5999999999995},{"$f":"SUBTOTAL(9,$X$2:$X$67)","v":3264.3999999999992}]
[90800,188,50,138,0,54,50,null,307,0,97,"",null,404,525.20000000000005,-475.2,null,0,313.3,null,138,70,98,40]
[90825,196,57,139,0,54,57,null,297,0,96,"",null,393,510.9,-453.9,null,0,299,null,139,71,99.4,39.6]
[90850,202,63,139,0,54,63,null,293,0,95,"",null,388,504.4,-441.4,null,0,292.5,null,139,72,100.8,38.200000000000003]
[90875,208,67,140,0,54,67,null,287,0,95,"",null,382,496.6,-429.6,null,0,283.39999999999998,null,140,72,100.8,39.200000000000003]
[90900,214,74,140,0,54,74,null,277,0,94,"",null,371,482.3,-408.3,null,0,269.10000000000002,null,140,72,100.8,39.200000000000003]
[90925,223,83,140,0,54,83,null,272,0,94,"",null,366,475.8,-392.8,null,0,262.60000000000002,null,140,72,100.8,39.200000000000003]
[90950,228,88,140,0,54,88,null,277,0,93,"",null,370,481,-393,null,0,267.8,null,140,72,100.8,39.200000000000003]
[90975,235,93,141,0,54,93,null,276,0,94,"",null,370,481,-388,null,0,267.8,null,141,72,100.8,40.200000000000003]
[91000,242,101,141,0,54,101,null,270,0,92,"",null,362,470.6,-369.6,null,0,257.39999999999998,null,141,73,102.2,38.799999999999997]
[91025,252,110,142,0,54,110,null,261,0,92,"",null,353,458.9,-348.9,null,0,245.7,null,142,73,102.2,39.799999999999997]
[91050,260,117,142,0,54,117,null,254,0,92,"",null,346,449.8,-332.8,null,0,237.9,null,142,73,102.2,39.799999999999997]
[91075,74,34,40,0,15,34,null,70,0,26,"",null,96,124.8,-90.8,null,0,63.7,null,40,21,29.4,10.6]
[91082,184,85,100,0,39,85,null,170,0,66,"",null,236,306.8,-221.8,null,0,153.4,null,100,51,71.400000000000006,28.6]
[91100,245,116,129,0,54,116,null,213,0,91,"",null,304,395.2,-279.2,null,0,183.3,null,129,65,91,38]
[91125,237,118,120,0,54,118,null,195,0,87,"",null,282,366.6,-248.6,null,0,153.4,null,120,59,82.6,37.4]
[91150,235,118,117,0,54,118,null,186,0,86,"",null,272,353.6,-235.6,null,0,140.4,null,117,57,79.8,37.200000000000003]
[91175,235,121,114,0,54,121,null,176,0,84,"",null,260,338,-217,null,0,124.8,null,114,55,77,37]
[91200,238,126,112,0,54,126,null,159,0,82,"",null,241,313.3,-187.3,null,0,100.1,null,112,53,74.2,37.799999999999997]
[91225,242,132,110,0,54,132,null,135,0,79,"",null,214,278.2,-146.19999999999999,null,0,66.3,null,110,52,72.8,37.200000000000003]
[91250,248,139,109,0,54,139,null,117,0,76,"",null,193,250.9,-111.9,null,0,37.700000000000003,null,109,51,71.400000000000006,37.6]
[91275,292,180,112,0,54,180,null,97,0,68,"",null,165,214.5,-34.5,null,0,2.6,null,112,54,75.599999999999994,36.4]
[91300,441,320,122,0,54,320,null,74,0,59,"",1025,1158,1505.4,-1185.4000000000001,null,0,0,null,122,60,84,38]
[91325,458,340,118,0,54,340,null,56,0,55,"",null,111,144.30000000000001,195.7,null,0,0,null,118,58,81.2,36.799999999999997]
[91350,326,220,106,0,54,220,null,53,0,57,"",null,110,143,77,null,0,0,null,106,50,70,36]
[91375,276,176,100,0,54,176,null,47,0,60,"",null,107,139.1,36.9,null,0,0,null,100,46,64.400000000000006,35.6]
[91400,263,166,96,0,55,166,null,34,0,61,"",null,95,123.5,42.5,null,0,0,null,96,43,60.2,35.799999999999997]
[91425,258,166,92,0,55,166,null,29,0,59,"",null,88,114.4,51.6,null,0,0,null,92,41,57.4,34.6]
[91450,261,171,90,0,56,171,null,26,0,59,"",null,85,110.5,60.5,null,0,0,null,90,39,54.6,35.4]
[91475,264,176,88,0,57,176,null,23,0,56,"",null,79,102.7,73.3,null,0,0,null,88,37,51.8,36.200000000000003]
[91500,268,183,86,0,60,183,null,20,0,54,"",null,74,96.2,86.8,null,0,0,null,86,37,51.8,34.200000000000003]
[91525,272,192,79,0,62,192,null,16,0,54,"",null,70,91,101,null,0,0,null,79,32,44.8,34.200000000000003]
[91550,278,206,72,0,63,206,null,12,0,52,"",null,64,83.2,122.8,null,0,0,null,72,29,40.6,31.4]
[91575,171,130,40,0,39,130,null,4,0,26,"",null,30,39,91,null,0,0,null,40,14,19.600000000000001,20.399999999999999]
[91593.1,52,41,11,0,13,41,null,1,0,5,"",null,6,7.8,33.200000000000003,null,0,0,null,11,3,4.2,6.8]
[91600,201,157,45,0,45,157,null,1,0,15,"",null,16,20.8,136.19999999999999,null,0,0,null,45,11,15.4,29.6]
[91625,217,168,50,0,45,168,null,0,0,10,"",null,10,13,155,null,0,0,null,50,13,18.2,31.8]
[91650,229,174,55,0,45,174,null,0,0,7,"",null,7,9.1,164.9,null,0,0,null,55,16,22.4,32.6]
[91675,232,172,60,0,47,172,null,0,0,5,"",null,5,6.5,165.5,null,0,0,null,60,19,26.6,33.4]
[91700,228,165,62,0,46,165,null,0,0,5,7,null,12,15.6,149.4,null,0,0,null,62,21,29.4,32.6]
[91725,182,132,50,0,35,132,null,0,0,7,7,null,14,18.2,113.8,null,0,0,null,50,17,23.8,26.2]
[91745,26,17,8,0,4,17,null,0,0,2,"",null,2,2.6,14.4,null,0,0,null,8,2,2.8,5.2]
[91750,19,5,14,0,0,5,null,0,0,"","",null,0,0,5,null,0,0,null,14,0,0,14]
[91775,18,4,14,0,0,4,null,0,0,2,"",null,2,2.6,1.4,null,0,0,null,14,0,0,14]
[91800,16,3,12,0,0,3,null,0,0,3,"",null,3,3.9,-0.9,null,0,0,null,12,0,0,12]
[91825,16,4,12,0,0,4,null,0,0,"","",null,0,0,4,null,0,0,null,12,0,0,12]
[91850,19,5,14,0,0,5,null,0,0,"","",null,0,0,5,null,0,0,null,14,0,0,14]
[91875,19,5,14,0,0,5,null,0,0,"","",null,0,0,5,null,0,0,null,14,0,0,14]
[91900,19,5,14,0,0,5,null,0,0,"","",null,0,0,5,null,0,0,null,14,0,0,14]
[91925,19,5,14,0,0,5,null,0,0,"","",null,0,0,5,null,0,0,null,14,0,0,14]
[91950,19,5,14,0,0,5,null,0,0,"","",null,0,0,5,null,0,0,null,14,0,0,14]
[91975,20,5,15,0,0,5,null,0,0,"","",null,0,0,5,null,0,0,null,15,0,0,15]
[92000,6,2,5,0,0,2,null,0,0,"","",null,0,0,2,null,0,0,null,5,0,0,5]
[92007.2]
["STG2_US_63"]
["Totals:",{"$f":"SUBTOTAL(9,B3:$B$122)","v":25317},{"$f":"SUBTOTAL(9,C3:$C$122)","v":12197},{"$f":"SUBTOTAL(9,D3:$D$122)","v":13117},{"$f":"SUBTOTAL(9,E3:$E$122)","v":0},{"$f":"SUBTOTAL(9,F3:$F$122)","v":4157},{"$f":"SUBTOTAL(9,G3:$G$122)","v":12197},{"$f":"SUBTOTAL(9,H3:$H$122)","v":0},{"$f":"SUBTOTAL(9,I3:$I$122)","v":33494},{"$f":"SUBTOTAL(9,J3:$J$122)","v":2422},{"$f":"SUBTOTAL(9,K3:$K$122)","v":10019},{"$f":"SUBTOTAL(9,L3:$L$122)","v":1130},{"$f":"SUBTOTAL(9,M3:$M$122)","v":1245},{"$f":"SUBTOTAL(9,N3:$N$122)","v":48310},{"$f":"SUBTOTAL(9,O3:$O$122)","v":62803.000000000015},{"$f":"SUBTOTAL(9,P3:$P$122)","v":-50606.000000000007},{"$f":"SUBTOTAL(9,Q3:$Q$122)","v":0},{"$f":"SUBTOTAL(9,R3:$R$122)","v":16595.799999999996},{"$f":"SUBTOTAL(9,S3:$S$122)","v":40445.600000000013},{"$f":"SUBTOTAL(9,T3:$T$122)","v":0},{"$f":"SUBTOTAL(9,U3:$U$122)","v":13117},{"$f":"SUBTOTAL(9,V3:$V$122)","v":5952},{"$f":"SUBTOTAL(9,W3:$W$122)","v":8332.7999999999993},{"$f":"SUBTOTAL(9,X3:$X$122)","v":4784.199999999998}]

{"sheet":"US_34_RAMP","index":15,"n_rows":16,"n_cols":24,"rows_kept":16,"cut":false,"hidden":false,"merged":[]}
["Station","Total Cut Unadjusted\n\nVolume","Total Class 10\nUnadjusted\n\nVolume","Topsoil Cut\n\nVolume","Template\nUnsuitable\nType B\nVolume","Template\nPavement\nRemoval\nVolume","Total\nCut\nAdjusted",null,"Total Fill\nUnadjusted\n\nVolume","Plowing &\nShaping\nUndercut\n(+ Fill)","Existing Topsoil\nStripping\nUndercut\n(+ Fill)","Existing\nPavement\nUndercut\n(+Fill)","Manually\nCalculated Fill\nAdjustments\n(+/- Fill)","Total\nFill\nAdjusted","Total Fill\n Adjusted w/\nWeighted Average\n1.3  Shrink Factor","Total Cut Adjusted\nMinus Fill w/ Shrink",null,"Approx. Fill Vol.\nBelow 5' & Above\n20' w/ Shrink","Approx. Fill\nVolume Below 3'\nw/ Shrink",null,"Topsoil\nStripping Undercut\nVolume","Topsoil\nPlacement\nUndercut\nVolume","Topsoil Placement\nWith 1.4 Shrink\nFactor","Topsoil Stripping\nMinus Topsoil\nPlacement\nw/Shrink"]
["US_34_RAMP"]
[91598.09,76,35,41,0,22,35,null,7,0,34,"",null,41,53.3,-18.3,null,0,0,null,41,19,26.6,14.4]
[91625,77,35,42,0,17,35,null,13,0,32,"",null,45,58.5,-23.5,null,0,0,null,42,17,23.8,18.2]
[91650,82,38,43,0,17,38,null,17,0,31,"",null,48,62.4,-24.4,null,0,0,null,43,18,25.2,17.8]
[91675,87,41,45,0,17,41,null,16,0,30,"",null,46,59.8,-18.8,null,0,0,null,45,19,26.6,18.399999999999999]
[91700,88,42,46,0,17,42,null,13,0,30,"",null,43,55.9,-13.9,null,0,0,null,46,21,29.4,16.600000000000001]
[91725,86,40,46,0,17,40,null,8,0,31,"",null,39,50.7,-10.7,null,0,0,null,46,23,32.200000000000003,13.8]
[91750,85,40,45,0,17,40,null,5,0,31,"",null,36,46.8,-6.8,null,0,0,null,45,23,32.200000000000003,12.8]
[91775,82,40,42,0,17,40,null,7,0,30,"",null,37,48.1,-8.1,null,0,0,null,42,21,29.4,12.6]
[91800,76,39,37,0,17,39,null,5,0,25,"",null,30,39,0,null,0,0,null,37,18,25.2,11.8]
[91825,61,37,24,0,17,37,null,0,0,13,"",null,13,16.899999999999999,20.100000000000001,null,0,0,null,24,11,15.4,8.6]
[91850,9,7,2,0,3,7,null,0,0,"","",null,0,0,7,null,0,0,null,2,1,1.4,0.6]
[91855]
["US_34_RAMP"]
["Totals:",{"$f":"ROUNDUP(SUBTOTAL(9,B3:$B$14),0)","v":809},{"$f":"ROUNDUP(SUBTOTAL(9,C3:$C$14),0)","v":394},{"$f":"ROUNDUP(SUBTOTAL(9,D3:$D$14),0)","v":413},{"$f":"ROUNDUP(SUBTOTAL(9,E3:$E$14),0)","v":0},{"$f":"ROUNDUP(SUBTOTAL(9,F3:$F$14),0)","v":178},{"$f":"ROUNDUP(SUBTOTAL(9,G3:$G$14),0)","v":394},null,{"$f":"ROUNDUP(SUBTOTAL(9,I3:$I$14),0)","v":91},{"$f":"ROUNDUP(SUBTOTAL(9,J3:$J$14),0)","v":0},{"$f":"ROUNDUP(SUBTOTAL(9,K3:$K$14),0)","v":287},{"$f":"ROUNDUP(SUBTOTAL(9,L3:$L$14),0)","v":0},{"$f":"ROUNDUP(SUBTOTAL(9,M3:$M$14),0)","v":0},{"$f":"ROUNDUP(SUBTOTAL(9,N3:$N$14),0)","v":378},{"$f":"ROUNDUP(SUBTOTAL(9,O3:$O$14),0)","v":492},{"$f":"ROUNDUP(SUBTOTAL(9,P3:$P$14),0)","v":-98},null,{"$f":"ROUNDUP(SUBTOTAL(9,R3:$R$14),0)","v":0},{"$f":"ROUNDUP(SUBTOTAL(9,S3:$S$14),0)","v":0},null,{"$f":"ROUNDUP(SUBTOTAL(9,U3:$U$14),0)","v":413},{"$f":"ROUNDUP(SUBTOTAL(9,V3:$V$14),0)","v":191},{"$f":"ROUNDUP(SUBTOTAL(9,W3:$W$14),0)","v":268},{"$f":"ROUNDUP(SUBTOTAL(9,X3:$X$14),0)","v":146}]

{"sheet":"STG2_Trail","index":16,"n_rows":27,"n_cols":24,"rows_kept":27,"cut":false,"hidden":false,"merged":[]}
["Station","Total Cut Unadjusted\n\nVolume","Total Class 10\nUnadjusted\n\nVolume","Topsoil Cut\n\nVolume","Template\nUnsuitable\nType B\nVolume","Template\nPavement\nRemoval\nVolume","Total\nCut\nAdjusted",null,"Total Fill\nUnadjusted\n\nVolume","Plowing &\nShaping\nUndercut\n(+ Fill)","Existing Topsoil\nStripping\nUndercut\n(+ Fill)","Existing\nPavement\nUndercut\n(+Fill)","Manually\nCalculated Fill\nAdjustments\n(+/- Fill)","Total\nFill\nAdjusted","Total Fill\n Adjusted w/\nWeighted Average\n1.3  Shrink Factor","Total Cut Adjusted\nMinus Fill w/ Shrink",null,"Approx. Fill Vol.\nBelow 5' & Above\n20' w/ Shrink","Approx. Fill\nVolume Below 3'\nw/ Shrink",null,"Topsoil\nStripping Undercut\nVolume","Topsoil\nPlacement\nUndercut\nVolume","Topsoil Placement\nWith 1.4 Shrink\nFactor","Topsoil Stripping\nMinus Topsoil\nPlacement\nw/Shrink"]
["STG2_Trail"]
[881400,38,13,24,0,10,13,null,52,0,17,5,null,74,96.2,-83.2,null,0,0,null,24,17,23.8,0.2]
[881425,51,26,25,0,20,26,null,53,0,16,5,null,74,96.2,-70.2,null,0,0,null,25,25,35,-10]
[881450,50,26,24,0,20,26,null,50,0,16,5,null,71,92.3,-66.3,null,0,0,null,24,24,33.6,-9.6]
[881475,48,24,24,0,20,24,null,51,0,16,5,null,72,93.6,-69.599999999999994,null,0,0,null,24,24,33.6,-9.6]
[881500,44,21,23,0,19,21,null,54,0,15,6,null,75,97.5,-76.5,null,0,0,null,23,24,33.6,-10.6]
[881525,41,18,23,0,18,18,null,57,0,15,8,null,80,104,-86,null,0,0,null,23,24,33.6,-10.6]
[881550,40,15,24,0,18,15,null,58,0,16,8,null,82,106.6,-91.6,null,0,0,null,24,25,35,-11]
[881575,37,13,24,0,18,13,null,58,0,16,8,null,82,106.6,-93.6,null,0,0,null,24,25,35,-11]
[881600,37,11,26,0,18,11,null,57,0,18,8,null,83,107.9,-96.9,null,0,0,null,26,26,36.4,-10.4]
[881625,37,10,26,0,18,10,null,55,0,18,8,null,81,105.3,-95.3,null,0,0,null,26,27,37.799999999999997,-11.8]
[881650,38,11,27,0,19,11,null,51,0,19,7,null,77,100.1,-89.1,null,0,0,null,27,27,37.799999999999997,-10.8]
[881675,41,12,29,0,19,12,null,51,0,21,7,null,79,102.7,-90.7,null,0,0,null,29,29,40.6,-11.6]
[881700,44,13,31,0,19,13,null,57,0,23,7,null,87,113.1,-100.1,null,0,0,null,31,30,42,-11]
[881725,48,14,34,0,19,14,null,63,0,26,7,null,96,124.8,-110.8,null,0,0,null,34,32,44.8,-10.8]
[881750,52,16,36,0,20,16,null,70,0,28,6,null,104,135.19999999999999,-119.2,null,0,0,null,36,33,46.2,-10.199999999999999]
[881775,59,21,38,0,19,21,null,81,0,24,7,null,112,145.6,-124.6,null,0,0,null,38,35,49,-11]
[881800,81,37,45,0,20,37,null,95,0,23,7,null,125,162.5,-125.5,null,0,0,null,45,40,56,-11]
[881825,111,59,52,0,21,59,null,101,0,25,6,null,132,171.6,-112.6,null,0,0,null,52,44,61.6,-9.6]
[881850,118,62,56,0,21,62,null,105,0,25,5,null,135,175.5,-113.5,null,0,0,null,56,46,64.400000000000006,-8.5]
[881875,133,78,55,0,22,78,null,93,0,24,4,null,121,157.30000000000001,-79.3,null,0,0,null,55,46,64.400000000000006,-9.5]
[881900,159,106,53,0,25,106,null,66,0,24,1,null,91,118.3,-12.3,null,0,0,null,53,45,63,-10]
[881925,96,65,31,0,15,65,null,28,0,14,"",null,42,54.6,10.4,null,0,0,null,31,27,37.799999999999997,-6.8]
[881940]
["STG2_Trail"]
["Totals:",{"$f":"ROUNDUP(SUBTOTAL(9,B3:$B$25),0)","v":1403},{"$f":"ROUNDUP(SUBTOTAL(9,C3:$C$25),0)","v":671},{"$f":"ROUNDUP(SUBTOTAL(9,D3:$D$25),0)","v":730},{"$f":"ROUNDUP(SUBTOTAL(9,E3:$E$25),0)","v":0},{"$f":"ROUNDUP(SUBTOTAL(9,F3:$F$25),0)","v":418},{"$f":"ROUNDUP(SUBTOTAL(9,G3:$G$25),0)","v":671},null,{"$f":"ROUNDUP(SUBTOTAL(9,I3:$I$25),0)","v":1406},{"$f":"ROUNDUP(SUBTOTAL(9,J3:$J$25),0)","v":0},{"$f":"ROUNDUP(SUBTOTAL(9,K3:$K$25),0)","v":439},{"$f":"ROUNDUP(SUBTOTAL(9,L3:$L$25),0)","v":130},{"$f":"ROUNDUP(SUBTOTAL(9,M3:$M$25),0)","v":0},{"$f":"ROUNDUP(SUBTOTAL(9,N3:$N$25),0)","v":1975},{"$f":"ROUNDUP(SUBTOTAL(9,O3:$O$25),0)","v":2568},{"$f":"ROUNDUP(SUBTOTAL(9,P3:$P$25),0)","v":-1897},null,{"$f":"ROUNDUP(SUBTOTAL(9,R3:$R$25),0)","v":0},{"$f":"ROUNDUP(SUBTOTAL(9,S3:$S$25),0)","v":0},null,{"$f":"ROUNDUP(SUBTOTAL(9,U3:$U$25),0)","v":730},{"$f":"ROUNDUP(SUBTOTAL(9,V3:$V$25),0)","v":675},{"$f":"ROUNDUP(SUBTOTAL(9,W3:$W$25),0)","v":945},{"$f":"ROUNDUP(SUBTOTAL(9,X3:$X$25),0)","v":-216}]

{"sheet":"Mary_St","index":17,"n_rows":15,"n_cols":24,"rows_kept":15,"cut":false,"hidden":false,"merged":[]}
["Station","Total Cut Unadjusted\n\nVolume","Total Class 10\nUnadjusted\n\nVolume","Topsoil Cut\n\nVolume","Template\nUnsuitable\nType B\nVolume","Template\nPavement\nRemoval\nVolume","Total\nCut\nAdjusted",null,"Total Fill\nUnadjusted\n\nVolume","Plowing &\nShaping\nUndercut\n(+ Fill)","Existing Topsoil\nStripping\nUndercut\n(+ Fill)","Existing\nPavement\nUndercut\n(+Fill)","Manually\nCalculated Fill\nAdjustments\n(+/- Fill)","Total\nFill\nAdjusted","Total Fill\n Adjusted w/\nWeighted Average\n1.3  Shrink Factor","Total Cut Adjusted\nMinus Fill w/ Shrink",null,"Approx. Fill Vol.\nBelow 5' & Above\n20' w/ Shrink","Approx. Fill\nVolume Below 3'\nw/ Shrink",null,"Topsoil\nStripping Undercut\nVolume","Topsoil\nPlacement\nUndercut\nVolume","Topsoil Placement\nWith 1.4 Shrink\nFactor","Topsoil Stripping\nMinus Topsoil\nPlacement\nw/Shrink"]
["Mary_St"]
[896815,11,11,0,0,15,11,null,1,0,"","",null,1,1.3,9.6999999999999993,null,0,0,null,0,0,0,0]
[896825,55,34,21,0,37,34,null,9,0,13,"",null,22,28.6,5.4,null,0,0,null,21,0,0,21]
[896850,86,45,42,0,37,45,null,20,0,30,"",null,50,65,-20,null,0,0,null,42,6,8.4,33.6]
[896875,126,53,73,0,38,53,null,26,0,48,"",null,74,96.2,-43.2,null,0,0,null,73,20,28,45]
[896900,158,75,82,0,53,75,null,15,0,43,"",null,58,75.400000000000006,-0.5,null,0,0,null,82,35,49,33]
[896925,174,81,93,0,73,81,null,8,0,47,"",null,55,71.5,9.5,null,0,0,null,93,50,70,23]
[896950,110,36,74,0,38,36,null,16,0,45,"",null,61,79.3,-43.3,null,0,0,null,74,38,53.2,20.8]
[896966.17,60,19,42,0,11,19,null,11,0,27,"",null,38,49.4,-30.4,null,0,0,null,42,20,28,14]
[896975,40,14,27,0,4,14,null,7,0,17,"",null,24,31.2,-17.2,null,0,0,null,27,13,18.2,8.8000000000000007]
[896980.75,133,51,82,0,8,51,null,24,0,47,"",null,71,92.3,-41.3,null,0,0,null,82,41,57.4,24.6]
[897000]
["Mary_St"]
["Totals:",{"$f":"ROUNDUP(SUBTOTAL(9,B3:$B$13),0)","v":953},{"$f":"ROUNDUP(SUBTOTAL(9,C3:$C$13),0)","v":419},{"$f":"ROUNDUP(SUBTOTAL(9,D3:$D$13),0)","v":536},{"$f":"ROUNDUP(SUBTOTAL(9,E3:$E$13),0)","v":0},{"$f":"ROUNDUP(SUBTOTAL(9,F3:$F$13),0)","v":314},{"$f":"ROUNDUP(SUBTOTAL(9,G3:$G$13),0)","v":419},null,{"$f":"ROUNDUP(SUBTOTAL(9,I3:$I$13),0)","v":137},{"$f":"ROUNDUP(SUBTOTAL(9,J3:$J$13),0)","v":0},{"$f":"ROUNDUP(SUBTOTAL(9,K3:$K$13),0)","v":317},{"$f":"ROUNDUP(SUBTOTAL(9,L3:$L$13),0)","v":0},{"$f":"ROUNDUP(SUBTOTAL(9,M3:$M$13),0)","v":0},{"$f":"ROUNDUP(SUBTOTAL(9,N3:$N$13),0)","v":454},{"$f":"ROUNDUP(SUBTOTAL(9,O3:$O$13),0)","v":591},{"$f":"ROUNDUP(SUBTOTAL(9,P3:$P$13),0)","v":-172},null,{"$f":"ROUNDUP(SUBTOTAL(9,R3:$R$13),0)","v":0},{"$f":"ROUNDUP(SUBTOTAL(9,S3:$S$13),0)","v":0},null,{"$f":"ROUNDUP(SUBTOTAL(9,U3:$U$13),0)","v":536},{"$f":"ROUNDUP(SUBTOTAL(9,V3:$V$13),0)","v":223},{"$f":"ROUNDUP(SUBTOTAL(9,W3:$W$13),0)","v":313},{"$f":"ROUNDUP(SUBTOTAL(9,X3:$X$13),0)","v":224}]

{"sheet":"Summary","index":18,"n_rows":25,"n_cols":24,"rows_kept":25,"cut":false,"hidden":false,"merged":[]}
[{"$f":"IF(DataInformation!A7<>\"\",DataInformation!A7,\"\")","v":"Station"},{"$f":"IF(DataInformation!B7<>\"\",DataInformation!B7,\"\")","v":"Total Cut Unadjusted\n\nVolume"},{"$f":"IF(DataInformation!B7<>\"\",DataInformation!C7,\"\")","v":"Total Class 10\nUnadjusted\n\nVolume"},{"$f":"IF(DataInformation!B7<>\"\",DataInformation!D7,\"\")","v":"Topsoil Cut\n\nVolume"},{"$f":"IF(DataInformation!B7<>\"\",DataInformation!F7,\"\")","v":"Template\nUnsuitable\nType B\nVolume"},{"$f":"IF(DataInformation!B7<>\"\",DataInformation!H7,\"\")","v":"Template\nPavement\nRemoval\nVolume"},{"$f":"IF(DataInformation!B7<>\"\",DataInformation!Q7,\"\")","v":"Total\nCut\nAdjusted"},null,{"$f":"IF(DataInformation!R7<>\"\",DataInformation!R7,\"\")","v":"Total Fill\nUnadjusted\n\nVolume"},{"$f":"IF(DataInformation!C7<>\"\",DataInformation!S7,\"\")","v":"Plowing &\nShaping\nUndercut\n(+ Fill)"},{"$f":"IF(DataInformation!C7<>\"\",DataInformation!T7,\"\")","v":"Existing Topsoil\nStripping\nUndercut\n(+ Fill)"},{"$f":"IF(DataInformation!C7<>\"\",DataInformation!U7,\"\")","v":"Existing\nPavement\nUndercut\n(+Fill)"},{"$f":"IF(DataInformation!C7<>\"\",DataInformation!V7,\"\")","v":"Manually\nCalculated Fill\nAdjustments\n(+/- Fill)"},{"$f":"IF(DataInformation!C7<>\"\",DataInformation!W7,\"\")","v":"Total\nFill\nAdjusted"},{"$f":"IF(DataInformation!C7<>\"\",DataInformation!X7,\"\")","v":"Total Fill\n Adjusted w/\nWeighted Average\n1.3  Shrink Factor"},{"$f":"IF(DataInformation!C7<>\"\",DataInformation!Y7,\"\")","v":"Total Cut Adjusted\nMinus Fill w/ Shrink"},null,{"$f":"IF(DataInformation!AB7<>\"\",DataInformation!AB7,\"\")","v":"Approx. Fill Vol.\nBelow 5' & Above\n20' w/ Shrink"},{"$f":"IF(DataInformation!AD7<>\"\",DataInformation!AD7,\"\")","v":"Approx. Fill\nVolume Below 3'\nw/ Shrink"},null,{"$f":"IF(DataInformation!AE7<>\"\",DataInformation!AE7,\"\")","v":"Topsoil\nStripping Undercut\nVolume"},{"$f":"IF(DataInformation!AF7<>\"\",DataInformation!AF7,\"\")","v":"Topsoil\nPlacement\nUndercut\nVolume"},{"$f":"IF(DataInformation!AG7<>\"\",DataInformation!AG7,\"\")","v":"Topsoil Placement\nWith 1.4 Shrink\nFactor"},{"$f":"IF(DataInformation!AH7<>\"\",DataInformation!AH7,\"\")","v":"Topsoil Stripping\nMinus Topsoil\nPlacement\nw/Shrink"}]
[]
["Summary:"]
[]
["Stage 1"]
["STG1_US_63",147516,114931,32172,392,5416,115323,null,55833,6650,12744,242,1960,77429,100658,14666,null,38664,65985,null,32172,13979,19571,12602]
["Rabbit_Run",6119,2517,3601,0,0,2517,null,18232,0,2374,0,0,20606,26788,-24271,null,15784,23059,null,3601,1502,2103,1499]
["STG1_Trail",2672,1228,1439,0,16,1228,null,955,0,711,18,0,1684,2190,-962,null,0,0,null,1439,785,1099,340]
["SIDEWALK",164,12,152,0,0,12,null,100,0,138,0,0,238,310,-298,null,0,0,null,152,45,63,89]
["PARKING",270,92,180,0,0,92,null,45,0,106,0,0,151,197,-105,null,0,0,null,180,62,87,94]
[]
["Stage 1"]
["Subtotals:",{"$f":"SUBTOTAL(9,$B$6:$B$10)","v":156741},{"$f":"SUBTOTAL(9,$C$6:$C$10)","v":118780},{"$f":"SUBTOTAL(9,$D$6:$D$10)","v":37544},{"$f":"SUBTOTAL(9,$E$6:$E$10)","v":392},{"$f":"SUBTOTAL(9,$F$6:$F$10)","v":5432},{"$f":"SUBTOTAL(9,$G$6:$G$10)","v":119172},null,{"$f":"SUBTOTAL(9,$I$6:$I$10)","v":75165},{"$f":"SUBTOTAL(9,$J$6:$J$10)","v":6650},{"$f":"SUBTOTAL(9,$K$6:$K$10)","v":16073},{"$f":"SUBTOTAL(9,$L$6:$L$10)","v":260},{"$f":"SUBTOTAL(9,$M$6:$M$10)","v":1960},{"$f":"SUBTOTAL(9,$N$6:$N$10)","v":100108},{"$f":"SUBTOTAL(9,$O$6:$O$10)","v":130143},{"$f":"SUBTOTAL(9,$P$6:$P$10)","v":-10970},null,{"$f":"SUBTOTAL(9,$R$6:$R$10)","v":54448},{"$f":"SUBTOTAL(9,$S$6:$S$10)","v":89044},null,{"$f":"SUBTOTAL(9,$U$6:$U$10)","v":37544},{"$f":"SUBTOTAL(9,$V$6:$V$10)","v":16373},{"$f":"SUBTOTAL(9,$W$6:$W$10)","v":22923},{"$f":"SUBTOTAL(9,$X$6:$X$10)","v":14624}]
[]
["Stage 2"]
["STG2_US_63",25317,12197,13117,0,4157,12197,null,33494,2422,10019,1130,1245,48310,62803,-50606,null,16596,40446,null,13117,5952,8333,4785]
["US_34_RAMP",809,394,413,0,178,394,null,91,0,287,0,0,378,492,-98,null,0,0,null,413,191,268,146]
["STG2_Trail",1403,671,730,0,418,671,null,1406,0,439,130,0,1975,2568,-1897,null,0,0,null,730,675,945,-216]
["Mary_St",953,419,536,0,314,419,null,137,0,317,0,0,454,591,-172,null,0,0,null,536,223,313,224]
[]
["Stage 2"]
["Subtotals:",{"$f":"SUBTOTAL(9,$B$15:$B$19)","v":28482},{"$f":"SUBTOTAL(9,$C$15:$C$19)","v":13681},{"$f":"SUBTOTAL(9,$D$15:$D$19)","v":14796},{"$f":"SUBTOTAL(9,$E$15:$E$19)","v":0},{"$f":"SUBTOTAL(9,$F$15:$F$19)","v":5067},{"$f":"SUBTOTAL(9,$G$15:$G$19)","v":13681},null,{"$f":"SUBTOTAL(9,$I$15:$I$19)","v":35128},{"$f":"SUBTOTAL(9,$J$15:$J$19)","v":2422},{"$f":"SUBTOTAL(9,$K$15:$K$19)","v":11062},{"$f":"SUBTOTAL(9,$L$15:$L$19)","v":1260},{"$f":"SUBTOTAL(9,$M$15:$M$19)","v":1245},{"$f":"SUBTOTAL(9,$N$15:$N$19)","v":51117},{"$f":"SUBTOTAL(9,$O$15:$O$19)","v":66454},{"$f":"SUBTOTAL(9,$P$15:$P$19)","v":-52773},null,{"$f":"SUBTOTAL(9,$R$15:$R$19)","v":16596},{"$f":"SUBTOTAL(9,$S$15:$S$19)","v":40446},null,{"$f":"SUBTOTAL(9,$U$15:$U$19)","v":14796},{"$f":"SUBTOTAL(9,$V$15:$V$19)","v":7041},{"$f":"SUBTOTAL(9,$W$15:$W$19)","v":9859},{"$f":"SUBTOTAL(9,$X$15:$X$19)","v":4939}]
[]
["Project"]
["Totals:",{"$f":"SUBTOTAL(9,$B$5:$B$22)","v":185223},{"$f":"SUBTOTAL(9,$C$5:$C$22)","v":132461},{"$f":"SUBTOTAL(9,$D$5:$D$22)","v":52340},{"$f":"SUBTOTAL(9,$E$5:$E$22)","v":392},{"$f":"SUBTOTAL(9,$F$5:$F$22)","v":10499},{"$f":"SUBTOTAL(9,$G$5:$G$22)","v":132853},null,{"$f":"SUBTOTAL(9,$I$5:$I$22)","v":110293},{"$f":"SUBTOTAL(9,$J$5:$J$22)","v":9072},{"$f":"SUBTOTAL(9,$K$5:$K$22)","v":27135},{"$f":"SUBTOTAL(9,$L$5:$L$22)","v":1520},{"$f":"SUBTOTAL(9,$M$5:$M$22)","v":3205},{"$f":"SUBTOTAL(9,$N$5:$N$22)","v":151225},{"$f":"SUBTOTAL(9,$O$5:$O$22)","v":196597},{"$f":"SUBTOTAL(9,$P$5:$P$22)","v":-63743},null,{"$f":"SUBTOTAL(9,$R$5:$R$22)","v":71044},{"$f":"SUBTOTAL(9,$S$5:$S$22)","v":129490},null,{"$f":"SUBTOTAL(9,$U$5:$U$22)","v":52340},{"$f":"SUBTOTAL(9,$V$5:$V$22)","v":23414},{"$f":"SUBTOTAL(9,$W$5:$W$22)","v":32782},{"$f":"SUBTOTAL(9,$X$5:$X$22)","v":19563}]