{"text_format":"1","workbook":"xlsx","n_sheets":29,"sheets":["ProjectInformation","DataInput","DataInformation","User_Calculations","107_28","107_28SheetTemplate","Index","Sta.80+13","Sta.96+34","Sta.108+76","Sta.383+30","Sta.539+60","Sta.553+83","Sta.571+62","Sta.581+05","Sta.651+43","Sta.704+70","Sta.743+25","Sta.766+09","Sta.788+20","Sta.800+82","Sta.808+67","Sta.817+91","Sta.830+53","Sta.838+23","Sta.844+27","Sta.855+00","Sta.909+07","Summary"],"not_rendered":{"charts":0,"images":1,"macros":1,"external_links":0,"defined_names":75,"comments":1,"pivot_tables":0},"unopened":[],"bounds":{"document_bytes":16777216,"sheet_cells":100000,"rows_first":2000,"rows_last":500,"rows_between":2000,"halvings":0,"cell_chars":16384,"cell_head_chars":4096},"cells_cut":0,"cells_raw":0,"read":"whole","date_system":"1900"}

{"sheet":"ProjectInformation","index":0,"n_rows":12,"n_cols":2,"rows_kept":12,"cut":false,"hidden":false,"merged":[[0,0,0,1],[1,0,1,1],[3,0,4,0],[10,0,10,1]]}
["CPN DATA"]
["INFORMATION ADDED BY DESIGNER"]
["Section Engineer","WHKS & CO."]
["Design Team"]
[]
["County","CLINTON"]
["Project Number","STPN-136-1(73)--2J-23"]
["English or Metric","English"]
["Revised"]
["Project Path"]
["Bridge Block"]
["File No."]

{"sheet":"DataInput","index":1,"n_rows":234,"n_cols":43,"rows_kept":234,"cut":false,"hidden":false,"merged":[[0,23,0,36],[2,23,9,23],[8,42,9,42],[2,40,7,42],[0,40,0,42],[8,37,9,37],[8,38,9,38],[0,37,0,39],[2,37,7,39],[8,39,9,39],[8,40,9,40],[8,41,9,41],[0,1,0,18],[0,19,0,20],[0,21,0,22],[2,35,9,35],[2,36,9,36],[2,31,9,31],[2,32,9,32],[2,33,9,33],[2,34,9,34],[2,25,9,25],[2,26,9,26],[2,27,9,27],[2,28,9,28],[2,29,9,29],[2,14,9,14],[2,11,9,11],[2,0,9,0],[2,1,9,1],[2,2,9,2],[2,3,9,3],[2,9,9,9],[2,4,9,4],[2,5,9,5],[2,6,9,6],[2,7,9,7],[2,8,9,8],[2,12,9,12],[2,13,9,13],[2,10,9,10],[2,15,9,15],[2,30,9,30],[2,24,9,24],[2,16,9,16],[2,17,9,17],[2,18,9,18],[2,21,8,22],[2,19,8,20]]}
[null,"Cut and Fill",null,null,null,null,null,null,null,null,null,null,null,null,null,null,null,null,null,"Topsoil Stripping",null,"Existing Pavement Cut",null,"Plowing and Shaping",null,null,null,null,null,null,null,null,null,null,null,null,null,{"$f":"\"Topsoil Placement\"&CHAR(10)&\"Undercut\"","v":"Topsoil Placement\nUndercut"},null,null,{"$f":"\"Subgrade Treatment\"&CHAR(10)&\"Undercut \"","v":"Subgrade Treatment\nUndercut "}]
[null,"Column 1","Column 2","Column 3","Column 4","Column 5","Column 6","Column 7","Column 8","Column 9","Column 10","Column 11","Column 12","Column 13","Column 14","Column 15","Column 16","Column 17","Column 18","Column 1","Column 2","Column 1","Column 2","Column 1","Column 2","Column 3","Column 4","Column 5","Column 6","Column 7","Column 8","Column 9","Column 10","Column 11","Column 12","Column 13","Column 14","Column 1","Column 2","Column 3","Column 1","Column 2","Column 3"]
[{"$f":"\"Station\"","v":"Station"},{"$f":"\"Total Cut\"&CHAR(10)&\"End Area\"","v":"Total Cut\nEnd Area"},{"$f":"\"Template Cut\"&CHAR(10)&\"Volume\"","v":"Template Cut\nVolume"},{"$f":"\"Template\"&CHAR(10)&\"Class 10\"&CHAR(10)&\"Volume\"","v":"Template\nClass 10\nVolume"},{"$f":"\"Template\"&CHAR(10)&\"Topsoil Cut\"&CHAR(10)&\"Volume\"","v":"Template\nTopsoil Cut\nVolume"},{"$f":"\"Template\"&CHAR(10)&\"Unsuitable\"&CHAR(10)&\"Type A\"&CHAR(10)&\"Volume\"","v":"Template\nUnsuitable\nType A\nVolume"},{"$f":"\"Template\"&CHAR(10)&\"Unsuitable\"&CHAR(10)&\"Type B\"&CHAR(10)&\"Volume\"","v":"Template\nUnsuitable\nType B\nVolume"},{"$f":"\"Template\"&CHAR(10)&\"Unsuitable\"&CHAR(10)&\"Type C\"&CHAR(10)&\"Volume\"","v":"Template\nUnsuitable\nType C\nVolume"},{"$f":"\"Template\"&CHAR(10)&\"Pavement\"&CHAR(10)&\"Removal\"&CHAR(10)&\"Volume\"","v":"Template\nPavement\nRemoval\nVolume"},{"$f":"\"Template\"&CHAR(10)&\"Select Loam\"&CHAR(10)&\"Volume\"","v":"Template\nSelect Loam\nVolume"},{"$f":"\"Template\"&CHAR(10)&\"Select Sand\"&CHAR(10)&\"Volume\"","v":"Template\nSelect Sand\nVolume"},{"$f":"\"Template\"&CHAR(10)&\"Rock\"&CHAR(10)&\"Volume\"","v":"Template\nRock\nVolume"},{"$f":"\"Template\"&CHAR(10)&\"B & W\"&CHAR(10)&\"Rock\"&CHAR(10)&\"Volume\"","v":"Template\nB & W\nRock\nVolume"},{"$f":"\"Template\"&CHAR(10)&\"Waste\"&CHAR(10)&\"Volume\"","v":"Template\nWaste\nVolume"},{"$f":"\"Template\"&CHAR(10)&\"Shale\"&CHAR(10)&\"Volume\"","v":"Template\nShale\nVolume"},{"$f":"\"Template\"&CHAR(10)&\"Rock Undercut\"&CHAR(10)&\"Volume\"","v":"Template\nRock Undercut\nVolume"},{"$f":"\"Template Fill\"&CHAR(10)&\"End Area\"","v":"Template Fill\nEnd Area"},{"$f":"\"Total Fill\"&CHAR(10)&\"Unadjusted\"&CHAR(10)&CHAR(10)&\"Volume\"","v":"Total Fill\nUnadjusted\n\nVolume"},{"$f":"\"Topsoil\"&CHAR(10)&\"Placement\"&CHAR(10)&\"Undercut\"&CHAR(10)&\"Volume\"","v":"Topsoil\nPlacement\nUndercut\nVolume"},{"$f":"\"Topsoil\"&CHAR(10)&\"Stripping Undercut\"","v":"Topsoil\nStripping Undercut"},null,{"$f":"\"Total Existing\"&CHAR(10)&\"Pavement Cut\"","v":"Total Existing\nPavement Cut"},null,{"$f":"\"Plowing &\"&CHAR(10)&\"Shaping\"&CHAR(10)&\"End Area\"","v":"Plowing &\nShaping\nEnd Area"},{"$f":"\"Plowing &\"&CHAR(10)&\"Shaping\"&CHAR(10)&\"Undercut\"&CHAR(10)&\"(+ Fill)\"","v":"Plowing &\nShaping\nUndercut\n(+ Fill)"},{"$f":"\"Plowing &\"&CHAR(10)&\"Shaping\"&CHAR(10)&\"Class 10\"&CHAR(10)&\"Volume\"","v":"Plowing &\nShaping\nClass 10\nVolume"},{"$f":"\"Template\"&CHAR(10)&\"Topsoil Cut\"&CHAR(10)&\"Volume\"","v":"Template\nTopsoil Cut\nVolume"},{"$f":"\"Plowing &\"&CHAR(10)&\"Shaping\"&CHAR(10)&\"Unsuitable\"&CHAR(10)&\"Type A\"&CHAR(10)&\"Volume\"","v":"Plowing &\nShaping\nUnsuitable\nType A\nVolume"},{"$f":"\"Plowing &\"&CHAR(10)&\"Shaping\"&CHAR(10)&\"Unsuitable\"&CHAR(10)&\"Type B\"&CHAR(10)&\"Volume\"","v":"Plowing &\nShaping\nUnsuitable\nType B\nVolume"},{"$f":"\"Plowing &\"&CHAR(10)&\"Shaping\"&CHAR(10)&\"Unsuitable\"&CHAR(10)&\"Type C\"&CHAR(10)&\"Volume\"","v":"Plowing &\nShaping\nUnsuitable\nType C\nVolume"},{"$f":"\"Plowing &\"&CHAR(10)&\"Shaping\"&CHAR(10)&\"Existing\"&CHAR(10)&\"Pavement\"&CHAR(10)&\"Volume\"","v":"Plowing &\nShaping\nExisting\nPavement\nVolume"},{"$f":"\"Plowing &\"&CHAR(10)&\"Shaping\"&CHAR(10)&\"Select Loam\"&CHAR(10)&\"Volume\"","v":"Plowing &\nShaping\nSelect Loam\nVolume"},{"$f":"\"Plowing &\"&CHAR(10)&\"Shaping\"&CHAR(10)&\"Select Sand\"&CHAR(10)&\"Volume\"","v":"Plowing &\nShaping\nSelect Sand\nVolume"},{"$f":"\"Plowing &\"&CHAR(10)&\"Shaping\"&CHAR(10)&\"Rock\"&CHAR(10)&\"Volume\"","v":"Plowing &\nShaping\nRock\nVolume"},{"$f":"\"Plowing &\"&CHAR(10)&\"Shaping\"&CHAR(10)&\"Broken &\"&CHAR(10)&\"Weathered\"&CHAR(10)&\"Rock\"&CHAR(10)&\"Volume\"","v":"Plowing &\nShaping\nBroken &\nWeathered\nRock\nVolume"},{"$f":"\"Plowing &\"&CHAR(10)&\"Shaping\"&CHAR(10)&\"Waste\"&CHAR(10)&\"Volume\"","v":"Plowing &\nShaping\nWaste\nVolume"},{"$f":"\"Plowing &\"&CHAR(10)&\"Shaping\"&CHAR(10)&\"Shale\"&CHAR(10)&\"Volume\"","v":"Plowing &\nShaping\nShale\nVolume"},{"$f":"\"Topsoil Placement\"&CHAR(10)&\"Undercut\"","v":"Topsoil Placement\nUndercut"},null,null,{"$f":"\"Subgrade Treatment\"&CHAR(10)&\"Undercut\"","v":"Subgrade Treatment\nUndercut"}]
[]
[]
[]
[]
[]
[null,null,null,null,null,null,null,null,null,null,null,null,null,null,null,null,null,null,null,null,null,null,null,null,null,null,null,null,null,null,null,null,null,null,null,null,null,"End Area",{"$f":"\"+C\"&CHAR(10)&\"Volume\"","v":"+C\nVolume"},{"$f":"\"-F\"&CHAR(10)&\"Volume\"","v":"-F\nVolume"},"End Area",{"$f":"\"+C\"&CHAR(10)&\"Volume\"","v":"+C\nVolume"},{"$f":"\"-F\"&CHAR(10)&\"Volume\"","v":"-F\nVolume"}]
[null,null,null,null,null,null,null,null,null,null,null,null,null,null,null,null,null,null,null,{"$f":"\"End Area\"","v":"End Area"},"Volume",{"$f":"\"End Area\"","v":"End Area"},"Volume"]
["Sta. 80+13"]
[7978.13,136,89,89,0,0,0,0,0,0,0,0,0,0,0,0,0,1,0,17,9]
[8000,83,65,65,0,0,0,0,0,0,0,0,0,0,0,0,2,2,17,5,9,null,null,null,null,null,null,null,null,null,null,null,null,null,null,null,null,0,10,11]
[8013.55,175,67,67,0,0,0,0,0,0,0,0,0,0,0,0,7,4,24,31,11]
[8025,141,109,109,0,0,0,0,0,0,0,0,0,0,0,0,12,11,42,23,21,null,null,null,null,null,null,null,null,null,null,null,null,null,null,null,null,45,20,21]
[8050,94,71,71,0,0,0,0,0,0,0,0,0,0,0,0,12,12,37,23,20,null,null,null,null,null,null,null,null,null,null,null,null,null,null,null,null,44,17,19]
[8075,60,38,38,0,0,0,0,0,0,0,0,0,0,0,0,13,9,23,19,12,null,null,null,null,null,null,null,null,null,null,null,null,null,null,null,null,35,11,12]
[8100,22,null,null,null,null,null,null,null,null,null,null,null,null,null,null,6,null,null,8,null,null,null,null,null,null,null,null,null,null,null,null,null,null,null,null,null,13]
[]
["Sta. 96+34"]
[9550,9,13,13,0,0,0,0,0,0,0,0,0,0,0,0,12,15,22,9,11,null,null,null,null,null,null,null,null,null,null,null,null,null,null,null,null,18,6,15]
[9575,19,22,22,0,0,0,0,0,0,0,0,0,0,0,0,20,27,32,14,16,null,null,null,null,null,null,null,null,null,null,null,null,null,null,null,null,28,9,23]
[9600,28,34,34,0,0,0,0,0,0,0,0,0,0,0,0,39,50,40,21,20,null,null,null,null,null,null,null,null,null,null,null,null,null,null,null,null,41,12,28]
[9625,46,18,18,0,0,0,0,0,0,0,0,0,0,0,0,68,23,17,22,8,null,null,null,null,null,null,null,null,null,null,null,null,null,null,null,null,45,5,11]
[9634,62,34,34,0,0,0,0,0,0,0,0,0,0,0,0,72,34,29,27,14,null,null,null,null,null,null,null,null,null,null,null,null,null,null,null,null,56,10,20]
[9650,52,38,38,0,0,0,0,0,0,0,0,0,0,0,0,43,30,37,22,19,null,null,null,null,null,null,null,null,null,null,null,null,null,null,null,null,43,12,25]
[9675,30,23,23,0,0,0,0,0,0,0,0,0,0,0,0,22,15,30,19,15,null,null,null,null,null,null,null,null,null,null,null,null,null,null,null,null,37,10,20]
[9700,19,12,12,0,0,0,0,0,0,0,0,0,0,0,0,9,6,19,14,9,null,null,null,null,null,null,null,null,null,null,null,null,null,null,null,null,28,6,12]
[9725,7,null,null,null,null,null,null,null,null,null,null,null,null,null,null,4,null,null,6,null,null,null,null,null,null,null,null,null,null,null,null,null,null,null,null,null,12]
[]
["Sta. 108+76"]
[10800,15,24,24,0,0,0,0,0,0,0,0,0,0,0,0,21,28,27,12,13,null,null,null,null,null,null,null,null,null,null,null,null,null,null,null,null,23,8,19]
[10825,36,53,53,0,0,0,0,0,0,0,0,0,0,0,0,40,46,38,17,19,null,null,null,null,null,null,null,null,null,null,null,null,null,null,null,null,36,14,24]
[10850,77,95,95,0,0,0,0,0,0,0,0,0,0,0,0,60,46,45,23,22,null,null,null,null,null,null,null,null,null,null,null,null,null,null,null,null,46,20,24]
[10875,127,5,5,0,0,0,0,0,0,0,0,0,0,0,0,39,1,2,25,1,null,null,null,null,null,null,null,null,null,null,null,null,null,null,null,null,51,1,1]
[10876,130,117,117,0,0,0,0,0,0,0,0,0,0,0,0,39,26,43,26,22,null,null,null,null,null,null,null,null,null,null,null,null,null,null,null,null,53,25,19]
[10900,134,89,89,0,0,0,0,0,0,0,0,0,0,0,0,19,10,34,22,17,null,null,null,null,null,null,null,null,null,null,null,null,null,null,null,null,44,24,11]
[10925,58,38,38,0,0,0,0,0,0,0,0,0,0,0,0,2,1,22,15,11,null,null,null,null,null,null,null,null,null,null,null,null,null,null,null,null,31,18,4]
[10950,24,null,null,null,null,null,null,null,null,null,null,null,null,null,null,0,null,null,9,null,null,null,null,null,null,null,null,null,null,null,null,null,null,null,null,null,18]
[]
["Sta. 383+30"]
[38225,22,27,27,0,0,0,0,0,0,0,0,0,0,0,0,0,13,25,7,13]
[38250,37,37,37,0,0,0,0,0,0,0,0,0,0,0,0,27,85,45,21,22,null,null,null,null,null,null,null,null,null,null,null,null,null,null,null,null,41,16,29]
[38275,42,28,28,0,0,0,0,0,0,0,0,0,0,0,0,156,367,38,28,28,null,null,null,null,null,null,null,null,null,null,null,null,null,null,null,null,56,10,28]
[38300,19,31,31,0,0,0,0,0,0,0,0,0,0,0,0,638,463,41,32,22,null,null,null,null,null,null,null,null,null,null,null,null,null,null,null,null,26,9,32]
[38325,49,7,7,0,0,0,0,0,0,0,0,0,0,0,0,362,78,12,16,21,null,null,null,null,null,null,null,null,null,null,null,null,null,null,null,null,62,2,10]
[38330.14,25,19,19,0,0,0,0,0,0,0,0,0,0,0,0,457,222,45,null,null,null,null,null,null,null,null,null,null,null,null,null,null,null,null,null,null,66,7,38]
[38350,28,27,27,0,0,0,0,0,0,0,0,0,0,0,0,147,83,44,29,22,null,null,null,null,null,null,null,null,null,null,null,null,null,null,null,null,57,11,34]
[38375,30,27,27,0,0,0,0,0,0,0,0,0,0,0,0,33,16,27,20,14,null,null,null,null,null,null,null,null,null,null,null,null,null,null,null,null,39,12,15]
[38400,28,22,22,0,0,0,0,0,0,0,0,0,0,0,0,1,0,16,10,8,null,null,null,null,null,null,null,null,null,null,null,null,null,null,null,null,19,12,4]
[38425,19,17,17,0,0,0,0,0,0,0,0,0,0,0,0,0,0,12,7,6,null,null,null,null,null,null,null,null,null,null,null,null,null,null,null,null,15,11,1]
[38450,17,14,14,0,0,0,0,0,0,0,0,0,0,0,0,0,0,9,6,5,null,null,null,null,null,null,null,null,null,null,null,null,null,null,null,null,11,9,0]
[38475,13,null,null,null,null,null,null,null,null,null,null,null,null,null,null,0,null,null,4,null,null,null,null,null,null,null,null,null,null,null,null,null,null,null,null,null,8]
[]
["Sta. 539+60"]
[53875,12,15,15,0,0,0,0,0,0,0,0,0,0,0,0,3,13,25,9,12,null,null,null,null,null,null,null,null,null,null,null,null,null,null,null,null,19,8,17]
[53900,21,32,32,0,0,0,0,0,0,0,0,0,0,0,0,24,53,40,17,20,null,null,null,null,null,null,null,null,null,null,null,null,null,null,null,null,35,11,29]
[53925,48,43,43,0,0,0,0,0,0,0,0,0,0,0,0,91,115,49,26,25,null,null,null,null,null,null,null,null,null,null,null,null,null,null,null,null,51,12,37]
[53950,44,17,17,0,0,0,0,0,0,0,0,0,0,0,0,158,59,22,28,11,null,null,null,null,null,null,null,null,null,null,null,null,null,null,null,null,55,5,17]
[53960,47,25,25,0,0,0,0,0,0,0,0,0,0,0,0,159,73,33,32,17,null,null,null,null,null,null,null,null,null,null,null,null,null,null,null,null,63,7,25]
[53975,41,23,23,0,0,0,0,0,0,0,0,0,0,0,0,105,74,42,28,21,null,null,null,null,null,null,null,null,null,null,null,null,null,null,null,null,54,8,34]
[54000,9,8,8,0,0,0,0,0,0,0,0,0,0,0,0,56,30,23,18,12,null,null,null,null,null,null,null,null,null,null,null,null,null,null,null,null,36,3,20]
[54025,7,null,null,null,null,null,null,null,null,null,null,null,null,null,null,9,null,null,7,null,null,null,null,null,null,null,null,null,null,null,null,null,null,null,null,null,14]
[]
["Sta. 553+83"]
[55275,7,11,11,0,0,0,0,0,0,0,0,0,0,0,0,0,0,8,3,4,null,null,null,null,null,null,null,null,null,null,null,null,null,null,null,null,5,6,3]
[55300,16,26,26,0,0,0,0,0,0,0,0,0,0,0,0,0,1,17,6,9,null,null,null,null,null,null,null,null,null,null,null,null,null,null,null,null,12,11,6]
[55325,40,40,40,0,0,0,0,0,0,0,0,0,0,0,0,2,11,29,12,15,null,null,null,null,null,null,null,null,null,null,null,null,null,null,null,null,24,15,13]
[55350,46,54,54,0,0,0,0,0,0,0,0,0,0,0,0,22,61,43,19,22,null,null,null,null,null,null,null,null,null,null,null,null,null,null,null,null,37,18,25]
[55375,70,18,18,0,0,0,0,0,0,0,0,0,0,0,0,109,52,16,27,6,null,null,null,null,null,null,null,null,null,null,null,null,null,null,null,null,55,5,11]
[55383.41,43,29,29,0,0,0,0,0,0,0,0,0,0,0,0,223,91,31,13,12,null,null,null,null,null,null,null,null,null,null,null,null,null,null,null,null,50,8,23]
[55400,51,51,51,0,0,0,0,0,0,0,0,0,0,0,0,72,43,47,26,24,null,null,null,null,null,null,null,null,null,null,null,null,null,null,null,null,52,16,32]
[55425,60,48,48,0,0,0,0,0,0,0,0,0,0,0,0,20,10,36,25,18,null,null,null,null,null,null,null,null,null,null,null,null,null,null,null,null,50,18,18]
[55450,43,28,28,0,0,0,0,0,0,0,0,0,0,0,0,1,0,18,14,9,null,null,null,null,null,null,null,null,null,null,null,null,null,null,null,null,28,14,4]
[55475,16,null,null,null,null,null,null,null,null,null,null,null,null,null,null,0,null,null,6,null,null,null,null,null,null,null,null,null,null,null,null,null,null,null,null,null,11]
[]
["Sta. 571+62"]
[57000,4,5,5,0,0,0,0,0,0,0,0,0,0,0,0,0,0,8,2,4]
[57025,6,4,4,0,0,0,0,0,0,0,0,0,0,0,0,0,4,14,7,7]
[57050,3,3,3,0,0,0,0,0,0,0,0,0,0,0,0,7,11,17,9,8]
[57075,3,3,3,0,0,0,0,0,0,0,0,0,0,0,0,16,21,18,9,9]
[57100,3,1,1,0,0,0,0,0,0,0,0,0,0,0,0,31,10,6,11,3]
[57106.77,1,13,13,0,0,0,0,0,0,0,0,0,0,0,0,53,48,25,13,13]
[57125,37,49,49,0,0,0,0,0,0,0,0,0,0,0,0,89,97,47,24,24,null,null,null,null,null,null,null,null,null,null,null,null,null,null,null,null,49,13,35]
[57150,69,18,18,0,0,0,0,0,0,0,0,0,0,0,0,120,27,21,28,11,null,null,null,null,null,null,null,null,null,null,null,null,null,null,null,null,55,14,34]
[57162.2,13,13,13,0,0,0,0,0,0,0,0,0,0,0,0,0,30,21,22,11]
[57175,42,30,30,0,0,0,0,0,0,0,0,0,0,0,0,127,66,40,25,20,null,null,null,null,null,null,null,null,null,null,null,null,null,null,null,null,49,10,29]
[57200,22,10,10,0,0,0,0,0,0,0,0,0,0,0,0,16,6,18,19,9,null,null,null,null,null,null,null,null,null,null,null,null,null,null,null,null,37,5,12]
[57216.54,10,2,2,0,0,0,0,0,0,0,0,0,0,0,0,3,2,6,10,3,null,null,null,null,null,null,null,null,null,null,null,null,null,null,null,null,20,2,4]
[57225,5,4,4,0,0,0,0,0,0,0,0,0,0,0,0,7,5,15,9,8,null,null,null,null,null,null,null,null,null,null,null,null,null,null,null,null,19,3,12]
[57250,4,4,4,0,0,0,0,0,0,0,0,0,0,0,0,4,2,11,7,6,null,null,null,null,null,null,null,null,null,null,null,null,null,null,null,null,14,3,8]
[57275,5,5,5,0,0,0,0,0,0,0,0,0,0,0,0,0,0,7,5,4,null,null,null,null,null,null,null,null,null,null,null,null,null,null,null,null,10,3,4]
[57300,5,4,4,0,0,0,0,0,0,0,0,0,0,0,0,0,0,3,3,2,null,null,null,null,null,null,null,null,null,null,null,null,null,null,null,null,5]
[57325,4,null,null,null,null,null,null,null,null,null,null,null,null,null,null,0,null,null,1]
[]
["Sta. 581+05"]
[58075,12,11,11,0,0,0,0,0,0,0,0,0,0,0,0,5,7,11,7,6,null,null,null,null,null,null,null,null,null,null,null,null,null,null,null,null,12,5,6]
[58100,11,2,2,0,0,0,0,0,0,0,0,0,0,0,0,11,3,2,6,6,null,null,null,null,null,null,null,null,null,null,null,null,null,null,null,null,12,1,1]
[58105.47,11,7,7,0,0,0,0,0,0,0,0,0,0,0,0,20,10,9,null,null,null,null,null,null,null,null,null,null,null,null,null,null,null,null,null,null,12,3,5]
[58125,10,null,null,null,null,null,null,null,null,null,null,null,null,null,null,9,null,null,7,null,null,null,null,null,null,null,null,null,null,null,null,null,null,null,null,null,12]
[]
["Sta. 651+43"]
[65050,10,15,15,0,0,0,0,0,0,0,0,0,0,0,0,0,3,16,6,8,null,null,null,null,null,null,null,null,null,null,null,null,null,null,null,null,11,8,8]
[65075,23,33,33,0,0,0,0,0,0,0,0,0,0,0,0,7,13,27,12,14,null,null,null,null,null,null,null,null,null,null,null,null,null,null,null,null,24,12,15]
[65100,49,83,83,0,0,0,0,0,0,0,0,0,0,0,0,20,19,39,18,19,null,null,null,null,null,null,null,null,null,null,null,null,null,null,null,null,35,19,19]
[65125,130,93,93,0,0,0,0,0,0,0,0,0,0,0,0,21,31,34,24,17,null,null,null,null,null,null,null,null,null,null,null,null,null,null,null,null,49,16,18]
[65142.85,150,41,41,0,0,0,0,0,0,0,0,0,0,0,0,73,12,13,27,6,null,null,null,null,null,null,null,null,null,null,null,null,null,null,null,null,56,6,7]
[65150,158,124,124,0,0,0,0,0,0,0,0,0,0,0,0,18,18,39,22,20,null,null,null,null,null,null,null,null,null,null,null,null,null,null,null,null,44,24,15]
[65175,111,86,86,0,0,0,0,0,0,0,0,0,0,0,0,20,15,34,20,17,null,null,null,null,null,null,null,null,null,null,null,null,null,null,null,null,41,23,11]
[65200,75,51,51,0,0,0,0,0,0,0,0,0,0,0,0,12,7,26,16,13,null,null,null,null,null,null,null,null,null,null,null,null,null,null,null,null,32,17,8]
[65225,35,null,null,null,null,null,null,null,null,null,null,null,null,null,null,4,null,null,12,null,null,null,null,null,null,null,null,null,null,null,null,null,null,null,null,null,23]
[]
["Sta. 704+70"]
[70469.66,105,11,11,0,0,0,0,0,0,0,0,0,0,0,0,111,23,6,18,3,null,null,null,null,null,null,null,null,null,null,null,null,null,null,null,null,37,19,34]
[70475,2,2,2,0,0,0,0,0,0,0,0,0,0,0,0,121,78,20,13,11]
[70500,2,3,3,0,0,0,0,0,0,0,0,0,0,0,0,47,30,16,10,8]
[70525,5,3,3,0,0,0,0,0,0,0,0,0,0,0,0,17,10,12,8,6,null,null,null,null,null,null,null,null,null,null,null,null,null,null,null,null,15]
[70550,3,3,3,0,0,0,0,0,0,0,0,0,0,0,0,4,2,6,5,3]
[70575,4,null,null,null,null,null,null,null,null,null,null,null,null,null,null,0,null,null,1]
[]
["Sta. 743+25"]
[74225,2,9,9,0,0,0,0,0,0,0,0,0,0,0,0,0,2,11,4,6]
[74250,17,35,35,0,0,0,0,0,0,0,0,0,0,0,0,5,9,29,8,15,null,null,null,null,null,null,null,null,null,null,null,null,null,null,null,null,17,16,12]
[74275,59,54,54,0,0,0,0,0,0,0,0,0,0,0,0,14,18,45,24,23,null,null,null,null,null,null,null,null,null,null,null,null,null,null,null,null,45,24,21]
[74300,58,47,47,0,0,0,0,0,0,0,0,0,0,0,0,23,115,55,27,28,null,null,null,null,null,null,null,null,null,null,null,null,null,null,null,null,53,23,32]
[74325.2,42,49,49,0,0,0,0,0,0,0,0,0,0,0,0,222,114,49,33,25,null,null,null,null,null,null,null,null,null,null,null,null,null,null,null,null,66,20,29]
[74350,64,48,48,0,0,0,0,0,0,0,0,0,0,0,0,25,17,34,21,17,null,null,null,null,null,null,null,null,null,null,null,null,null,null,null,null,41,15,19]
[74375,41,29,29,0,0,0,0,0,0,0,0,0,0,0,0,12,6,22,16,11,null,null,null,null,null,null,null,null,null,null,null,null,null,null,null,null,31,12,10]
[74400,22,15,15,0,0,0,0,0,0,0,0,0,0,0,0,0,0,11,8,6,null,null,null,null,null,null,null,null,null,null,null,null,null,null,null,null,16,9,2]
[74425,10,null,null,null,null,null,null,null,null,null,null,null,null,null,null,0,null,null,4,null,null,null,null,null,null,null,null,null,null,null,null,null,null,null,null,null,9]
[]
["Sta. 766+09"]
[76525,2,37,37,0,0,0,0,0,0,0,0,0,0,0,0,2,29,28,9,15]
[76550,78,120,120,0,0,0,0,0,0,0,0,0,0,0,0,60,73,48,23,24,null,null,null,null,null,null,null,null,null,null,null,null,null,null,null,null,44,19,29]
[76575,181,186,186,0,0,0,0,0,0,0,0,0,0,0,0,99,108,58,30,30,null,null,null,null,null,null,null,null,null,null,null,null,null,null,null,null,59,26,32]
[76600,220,77,77,0,0,0,0,0,0,0,0,0,0,0,0,134,46,22,34,11,null,null,null,null,null,null,null,null,null,null,null,null,null,null,null,null,66,10,12]
[76609,240,122,122,0,0,0,0,0,0,0,0,0,0,0,0,140,90,39,34,20,null,null,null,null,null,null,null,null,null,null,null,null,null,null,null,null,67,16,22]
[76625,173,134,134,0,0,0,0,0,0,0,0,0,0,0,0,163,117,56,33,29,null,null,null,null,null,null,null,null,null,null,null,null,null,null,null,null,64,22,34]
[76650,117,58,58,0,0,0,0,0,0,0,0,0,0,0,0,91,57,43,30,22,null,null,null,null,null,null,null,null,null,null,null,null,null,null,null,null,57,13,30]
[76675,8,null,null,null,null,null,null,null,null,null,null,null,null,null,null,34,null,null,18,null,null,null,null,null,null,null,null,null,null,null,null,null,null,null,null,null,35]
[]
["Sta. 788+20"]
[78725,37,54,54,0,0,0,0,0,0,0,0,0,0,0,0,0,0,19,7,10,null,null,null,null,null,null,null,null,null,null,null,null,null,null,null,null,14,17,3]
[78750,79,89,89,0,0,0,0,0,0,0,0,0,0,0,0,0,2,29,14,15,null,null,null,null,null,null,null,null,null,null,null,null,null,null,null,null,27,21,8]
[78775,112,121,121,0,0,0,0,0,0,0,0,0,0,0,0,3,5,36,18,18,null,null,null,null,null,null,null,null,null,null,null,null,null,null,null,null,37,42,43]
[78800,148,149,149,0,0,0,0,0,0,0,0,0,0,0,0,8,27,45,21,23]
[78825,174,133,133,0,0,0,0,0,0,0,0,0,0,0,0,50,27,43,28,22,null,null,null,null,null,null,null,null,null,null,null,null,null,null,null,null,55,21,22]
[78850,112,60,60,0,0,0,0,0,0,0,0,0,0,0,0,9,4,24,19,12,null,null,null,null,null,null,null,null,null,null,null,null,null,null,null,null,37,16,7]
[78875,18,9,9,0,0,0,0,0,0,0,0,0,0,0,0,0,0,6,7,9,null,null,null,null,null,null,null,null,null,null,null,null,null,null,null,null,14,16,2]
[78900,2,4,4,0,0,0,0,0,0,0,0,0,0,0,0,0,0,3]
[78925,8,null,null,null,null,null,null,null,null,null,null,null,null,null,null,0,null,null,3,null,null,null,null,null,null,null,null,null,null,null,null,null,null,null,null,null,6]
[]
["Sta. 800+82"]
[80025,23,88,88,0,0,0,0,0,0,0,0,0,0,0,0,0,8,28,7,14,null,null,null,null,null,null,null,null,null,null,null,null,null,null,null,null,14,18,9]
[80050,167,149,149,0,0,0,0,0,0,0,0,0,0,0,0,17,19,40,23,20,null,null,null,null,null,null,null,null,null,null,null,null,null,null,null,null,46,22,19]
[80075,153,54,54,0,0,0,0,0,0,0,0,0,0,0,0,25,8,13,21,6,null,null,null,null,null,null,null,null,null,null,null,null,null,null,null,null,42,7,6]
[80082,263,136,136,0,0,0,0,0,0,0,0,0,0,0,0,39,18,32,28,16,null,null,null,null,null,null,null,null,null,null,null,null,null,null,null,null,56,18,14]
[80100,145,87,87,0,0,0,0,0,0,0,0,0,0,0,0,15,30,37,20,19,null,null,null,null,null,null,null,null,null,null,null,null,null,null,null,null,39,19,18]
[80125,43,21,21,0,0,0,0,0,0,0,0,0,0,0,0,50,28,26,21,13,null,null,null,null,null,null,null,null,null,null,null,null,null,null,null,null,40]
[80150,3,3,3,0,0,0,0,0,0,0,0,0,0,0,0,11,6,13,8,7]
[80175,3,null,null,null,null,null,null,null,null,null,null,null,null,null,null,2,null,null,7]
[]
["Sta. 808+67"]
[80775,8,10,10,0,0,0,0,0,0,0,0,0,0,0,0,0,6,15,3,37,null,null,null,null,null,null,null,null,null,null,null,null,null,null,null,null,6,6,9]
[80800,12,48,48,0,0,0,0,0,0,0,0,0,0,0,0,12,22,35,null,null,null,null,null,null,null,null,null,null,null,null,null,null,null,null,null,null,27,13,22]
[80825,92,115,115,0,0,0,0,0,0,0,0,0,0,0,0,36,70,50,37,31,null,null,null,null,null,null,null,null,null,null,null,null,null,null,null,null,48,19,31]
[80850,156,95,95,0,0,0,0,0,0,0,0,0,0,0,0,115,102,43,29,21,null,null,null,null,null,null,null,null,null,null,null,null,null,null,null,null,59,16,27]
[80867.850000000006,131,24,24,0,0,0,0,0,0,0,0,0,0,0,0,193,57,15,35,8,null,null,null,null,null,null,null,null,null,null,null,null,null,null,null,null,70,4,11]
[80875,49,24,24,0,0,0,0,0,0,0,0,0,0,0,0,237,179,39,22,19,null,null,null,null,null,null,null,null,null,null,null,null,null,null,null,null,44,1,37]
[80900,4,5,5,0,0,0,0,0,0,0,0,0,0,0,0,149,69,25,20,13,null,null,null,null,null,null,null,null,null,null,null,null,null,null,null,null,40,3,23]
[80925,7,15,15,0,0,0,0,0,0,0,0,0,0,0,0,1,0,13,8,7,null,null,null,null,null,null,null,null,null,null,null,null,null,null,null,null,16,8,5]
[80950,24,null,null,null,null,null,null,null,null,null,null,null,null,null,null,0,null,null,7,null,null,null,null,null,null,null,null,null,null,null,null,null,null,null,null,null,13]
[]
["Sta. 817+91"]
[81675,6,6,6,0,0,0,0,0,0,0,0,0,0,0,0,0,0,6,2,3,null,null,null,null,null,null,null,null,null,null,null,null,null,null,null,null,4,12,16]
[81700,8,12,12,0,0,0,0,0,0,0,0,0,0,0,0,0,2,17,5,8]
[81725,18,36,36,0,0,0,0,0,0,0,0,0,0,0,0,3,17,29,13,15,null,null,null,null,null,null,null,null,null,null,null,null,null,null,null,null,26,11,19]
[81750,59,84,84,0,0,0,0,0,0,0,0,0,0,0,0,33,73,38,19,15,null,null,null,null,null,null,null,null,null,null,null,null,null,null,null,null,38,14,24]
[81775,122,62,62,0,0,0,0,0,0,0,0,0,0,0,0,125,37,31,14,14,null,null,null,null,null,null,null,null,null,null,null,null,null,null,null,null,46,16,15]
[81791,87,34,34,0,0,0,0,0,0,0,0,0,0,0,0,0,6,17,34,9,null,null,null,null,null,null,null,null,null,null,null,null,null,null,null,null,58,9,8]
[81800,119,93,93,0,0,0,0,0,0,0,0,0,0,0,0,34,20,36,20,18,null,null,null,null,null,null,null,null,null,null,null,null,null,null,null,null,41,17,20]
[81825,82,63,63,0,0,0,0,0,0,0,0,0,0,0,0,9,6,30,18,15,null,null,null,null,null,null,null,null,null,null,null,null,null,null,null,null,37,17,13]
[81850,54,31,31,0,0,0,0,0,0,0,0,0,0,0,0,3,1,18,14,9,null,null,null,null,null,null,null,null,null,null,null,null,null,null,null,null,29,11,7]
[81875,13,null,null,null,null,null,null,null,null,null,null,null,null,null,null,0,null,null,5,null,null,null,null,null,null,null,null,null,null,null,null,null,null,null,null,null,10]
[]
["Sta. 830+53"]
[82975,37,45,45,0,0,0,0,0,0,0,0,0,0,0,0,0,4,20,8,10,null,null,null,null,null,null,null,null,null,null,null,null,null,null,null,null,16,13,7]
[83000,61,62,62,0,0,0,0,0,0,0,0,0,0,0,0,8,28,34,15,17,null,null,null,null,null,null,null,null,null,null,null,null,null,null,null,null,28,14,20]
[83025,72,64,64,0,0,0,0,0,0,0,0,0,0,0,0,53,63,43,23,22,null,null,null,null,null,null,null,null,null,null,null,null,null,null,null,null,45,15,28]
[83050,67,8,8,0,0,0,0,0,0,0,0,0,0,0,0,83,13,6,25,3,null,null,null,null,null,null,null,null,null,null,null,null,null,null,null,null,48,2,4]
[83053.289999999994,70,49,49,0,0,0,0,0,0,0,0,0,0,0,0,123,85,39,27,20,null,null,null,null,null,null,null,null,null,null,null,null,null,null,null,null,52,12,28]
[83075,53,37,37,0,0,0,0,0,0,0,0,0,0,0,0,89,66,38,24,19,null,null,null,null,null,null,null,null,null,null,null,null,null,null,null,null,46,11,27]
[83100,26,16,16,0,0,0,0,0,0,0,0,0,0,0,0,54,30,26,18,13,null,null,null,null,null,null,null,null,null,null,null,null,null,null,null,null,36,7,18]
[83125,8,null,null,null,null,null,null,null,null,null,null,null,null,null,null,11,null,null,10,null,null,null,null,null,null,null,null,null,null,null,null,null,null,null,null,null,20]
[]
["Sta. 838+23"]
[83750,81,96,96,0,0,0,0,0,0,0,0,0,0,0,0,1,1,30,13,15,null,null,null,null,null,null,null,null,null,null,null,null,null,null,null,null,26,21,9]
[83775,125,97,97,0,0,0,0,0,0,0,0,0,0,0,0,1,6,42,19,21,null,null,null,null,null,null,null,null,null,null,null,null,null,null,null,null,38,24,18]
[83800,85,75,75,0,0,0,0,0,0,0,0,0,0,0,0,11,26,53,26,22,null,null,null,null,null,null,null,null,null,null,null,null,null,null,null,null,52,25,28]
[83823,92,5,5,0,0,0,0,0,0,0,0,0,0,0,0,50,7,5,25,2,null,null,null,null,null,null,null,null,null,null,null,null,null,null,null,null,72,2,3]
[83825,42,72,72,0,0,0,0,0,0,0,0,0,0,0,0,149,88,51,26,25,null,null,null,null,null,null,null,null,null,null,null,null,null,null,null,null,53,16,35]
[83850,114,69,69,0,0,0,0,0,0,0,0,0,0,0,0,41,19,42,28,21,null,null,null,null,null,null,null,null,null,null,null,null,null,null,null,null,56,20,22]
[83875,34,19,19,0,0,0,0,0,0,0,0,0,0,0,0,1,1,22,17,11,null,null,null,null,null,null,null,null,null,null,null,null,null,null,null,null,34,20,17]
[83900,6,6,6,0,0,0,0,0,0,0,0,0,0,0,0,0,0,9,7,5]
[83925,7,null,null,null,null,null,null,null,null,null,null,null,null,null,null,0,null,null,3,null,null,null,null,null,null,null,null,null,null,null,null,null,null,null,null,null,6]
[]
["Sta. 844+27"]
[84325,31,35,35,0,0,0,0,0,0,0,0,0,0,0,0,1,15,24,12,12,null,null,null,null,null,null,null,null,null,null,null,null,null,null,null,null,23,12,12]
[84350,45,97,97,0,0,0,0,0,0,0,0,0,0,0,0,32,34,30,14,15,null,null,null,null,null,null,null,null,null,null,null,null,null,null,null,null,29,15,15]
[84375,165,163,163,0,0,0,0,0,0,0,0,0,0,0,0,41,38,36,19,18,null,null,null,null,null,null,null,null,null,null,null,null,null,null,null,null,37,22,15]
[84400,187,166,166,0,0,0,0,0,0,0,0,0,0,0,0,41,48,37,21,18,null,null,null,null,null,null,null,null,null,null,null,null,null,null,null,null,41,22,15]
[84425,171,13,13,0,0,0,0,0,0,0,0,0,0,0,0,63,5,4,19,1,null,null,null,null,null,null,null,null,null,null,null,null,null,null,null,null,39,2,1]
[84426.62,270,183,183,0,0,0,0,0,0,0,0,0,0,0,0,96,42,51,2,9,null,null,null,null,null,null,null,null,null,null,null,null,null,null,null,null,81,35,16]
[84450,153,108,108,0,0,0,0,0,0,0,0,0,0,0,0,1,0,29,18,15,null,null,null,null,null,null,null,null,null,null,null,null,null,null,null,null,37,25,4]
[84475,80,45,45,0,0,0,0,0,0,0,0,0,0,0,0,0,0,18,13,9,null,null,null,null,null,null,null,null,null,null,null,null,null,null,null,null,26,15,2]
[84500,16,null,null,null,null,null,null,null,null,null,null,null,null,null,null,0,null,null,6,null,null,null,null,null,null,null,null,null,null,null,null,null,null,null,null,null,12]
[]
["Sta. 855+00"]
[85425,3,19,19,0,0,0,0,0,0,0,0,0,0,0,0,0,6,14,1,7]
[85450,38,41,41,0,0,0,0,0,0,0,0,0,0,0,0,13,95,46,14,23,null,null,null,null,null,null,null,null,null,null,null,null,null,null,null,null,29,18,28]
[85475,50,77,77,0,0,0,0,0,0,0,0,0,0,0,0,192,185,72,35,36,null,null,null,null,null,null,null,null,null,null,null,null,null,null,null,null,71,26,46]
[85500,115,69,69,0,0,0,0,0,0,0,0,0,0,0,0,208,184,71,42,35,null,null,null,null,null,null,null,null,null,null,null,null,null,null,null,null,84,24,46]
[85525,33,26,26,0,0,0,0,0,0,0,0,0,0,0,0,190,94,45,34,22,null,null,null,null,null,null,null,null,null,null,null,null,null,null,null,null,68,14,31]
[85550,24,25,25,0,0,0,0,0,0,0,0,0,0,0,0,14,7,22,15,11,null,null,null,null,null,null,null,null,null,null,null,null,null,null,null,null,29,15,7]
[85575,30,null,null,null,null,null,null,null,null,null,null,null,null,null,null,0,null,null,9,null,null,null,null,null,null,null,null,null,null,null,null,null,null,null,null,null,19]
[]
["Sta. 909+07"]
[90850,9,10,10,0,0,0,0,0,0,0,0,0,0,0,0,0,4,11,4,5]
[90875,14,16,16,0,0,0,0,0,0,0,0,0,0,0,0,8,8,15,6,6,null,null,null,null,null,null,null,null,null,null,null,null,null,null,null,null,14,9,6]
[90900,20,6,6,0,0,0,0,0,0,0,0,0,0,0,0,8,2,5,8,2,null,null,null,null,null,null,null,null,null,null,null,null,null,null,null,null,18,3,2]
[90907.199999999997,23,15,15,0,0,0,0,0,0,0,0,0,0,0,0,9,6,12,8,5,null,null,null,null,null,null,null,null,null,null,null,null,null,null,null,null,18,7,4]
[90925,21,14,14,0,0,0,0,0,0,0,0,0,0,0,0,8,8,15,8,7,null,null,null,null,null,null,null,null,null,null,null,null,null,null,null,null,18,8,7]
[90950,10,8,8,0,0,0,0,0,0,0,0,0,0,0,0,9,4,11,6,5,null,null,null,null,null,null,null,null,null,null,null,null,null,null,null,null,15,6,5]
[90975,7,null,null,null,null,null,null,null,null,null,null,null,null,null,null,0,null,null,5,null,null,null,null,null,null,null,null,null,null,null,null,null,null,null,null,null,10]

{"sheet":"DataInformation","index":2,"n_rows":234,"n_cols":34,"rows_kept":234,"cut":false,"hidden":false,"merged":[[0,30,0,33],[0,25,0,29],[6,33,9,33],[6,27,9,27],[1,33,4,33],[1,32,3,32],[5,28,9,28],[5,26,9,26],[1,30,4,30],[1,31,4,31],[5,25,9,25],[1,25,4,29],[6,29,9,29],[6,30,9,30],[6,31,9,31],[6,32,9,32],[1,23,3,23],[6,15,9,15],[6,23,9,23],[6,18,9,18],[6,19,9,19],[6,20,9,20],[3,19,4,19],[1,22,4,22],[1,17,2,20],[3,20,4,20],[3,18,4,18],[3,17,4,17],[1,21,2,21],[3,21,4,21],[6,3,9,3],[6,7,9,7],[6,10,9,10],[6,5,9,5],[1,16,4,16],[3,11,4,11],[1,1,2,14],[1,15,2,15],[3,1,4,1],[6,1,9,1],[6,8,9,8],[3,7,4,7],[6,4,9,4],[3,13,4,13],[3,12,4,12],[0,0,5,0],[0,1,0,24],[6,0,9,0],[6,22,9,22],[6,17,9,17],[6,21,9,21],[6,16,9,16],[6,6,9,6],[6,2,9,2],[6,9,9,9],[6,13,9,13],[6,12,9,12],[6,14,9,14],[6,11,9,11],[1,24,4,24],[6,24,9,24]]}
[null,"Total Cut and Fill Adjustment",null,null,null,null,null,null,null,null,null,null,null,null,null,null,null,null,null,null,null,null,null,null,null,"Unsuitable Placement Check",null,null,null,null,"Topsoil"]
[null,"Unadjusted Total Cut",null,null,null,null,null,null,null,null,null,null,null,null,null,"Add Quantity","Combined Material to be Placed as Fill","Unadjusted Total Fill",null,null,null,"Add Quantity",null,"Weighted\nAverage\nShrink Factor",null,"Refer to Standard Road Plan EW-102",null,null,null,null,"Typical thickness is 12\"","Typical Thickness is 8\"","Topsoil Replacement\nShrink Factor"]
[]
[null,null,"Shrink Factor","Shrink Factor","Shrink Factor","Shrink Factor","Shrink Factor",null,"Shrink Factor","Shrink Factor","Swell Factor",null,null,null,"Swell Factor","Shrink Factor"]
[null,null,1.3,1.4,1.3,1.3,1.3,null,1.3,1.2,1.1000000000000001,null,null,null,0,1.3,null,null,null,null,null,null,null,{"$f":"IF(ISERROR(ROUNDUP(SUM((C6*C5),(E6*E5),(F6*F5),(G6*G5),(I6*I5),(J6*J5),(K6*(-K5)),(O6*(-O5)),(P6*P5))/SUM(C6,E6,F6,G6,I6,J6,K6,O6,P6),2)),\"\",ROUNDUP(SUM((C6*C5),(E6*E5),(F6*F5),(G6*G5),(I6*I5),(J6*J5),(K6*(-K5)),(O6*O5),(P6*P5))/SUM(C6,E6,F6,G6,I6,J6,K6,O6,P6),2))","v":1.3},null,null,null,null,null,null,null,null,1.4]
[null,{"$f":"SUM(B11:B234)","v":9515},7304,2211,0,0,0,0,0,0,0,0,0,0,0,1629,8933,5892,0,2211,0,12,8115,10549.499999999995,-1616.4000000000017,{"$f":"\"5' Minimum\"&CHAR(10)&\"Class 10\"&CHAR(10)&\"End Area\"&CHAR(10)&\"Sq. Ft.\"","v":"5' Minimum\nClass 10\nEnd Area\nSq. Ft."},{"$f":"\"20' Maximum\"&CHAR(10)&\"End Area\"&CHAR(10)&CHAR(10)&\"Sq. Ft.\"","v":"20' Maximum\nEnd Area\n\nSq. Ft."},{"$f":"SUM(AB11:AB234)","v":0},{"$f":"\"3' Minimum\"&CHAR(10)&\"Class 10\"&CHAR(10)&\"End Area\"&CHAR(10)&\"Sq. Ft.\"","v":"3' Minimum\nClass 10\nEnd Area\nSq. Ft."},{"$f":"SUM(AD11:AD234)","v":0},{"$f":"SUM(AE11:AE234)","v":2211},{"$f":"SUM(AF11:AF234)","v":4389},{"$f":"SUM(AG11:AG234)","v":6144.5999999999995},{"$f":"SUM(AH11:AH234)","v":-3933.6000000000004}]
["Station",{"$f":"\"Total Cut Unadjusted\"&CHAR(10)&CHAR(10)&\"Volume\"","v":"Total Cut Unadjusted\n\nVolume"},"Total Class 10\nUnadjusted\n\nVolume","Topsoil Cut\n\nVolume",{"$f":"DataInput!F3","v":"Template\nUnsuitable\nType A\nVolume"},{"$f":"DataInput!G3","v":"Template\nUnsuitable\nType B\nVolume"},{"$f":"DataInput!H3","v":"Template\nUnsuitable\nType C\nVolume"},{"$f":"DataInput!I3","v":"Template\nPavement\nRemoval\nVolume"},{"$f":"DataInput!J3","v":"Template\nSelect Loam\nVolume"},{"$f":"DataInput!K3","v":"Template\nSelect Sand\nVolume"},{"$f":"DataInput!L3","v":"Template\nRock\nVolume"},{"$f":"DataInput!M3","v":"Template\nB & W\nRock\nVolume"},{"$f":"DataInput!N3","v":"Template\nWaste\nVolume"},{"$f":"DataInput!O3","v":"Template\nShale\nVolume"},{"$f":"DataInput!P3","v":"Template\nRock Undercut\nVolume"},{"$f":"\"Manually\"&CHAR(10)&\"Calculated Cut\"&CHAR(10)&\"Adjustments\"&CHAR(10)&\"(+/- Cut)\"","v":"Manually\nCalculated Cut\nAdjustments\n(+/- Cut)"},{"$f":"\"Total\"&CHAR(10)&\"Cut\"&CHAR(10)&\"Adjusted\"","v":"Total\nCut\nAdjusted"},{"$f":"DataInput!R3","v":"Total Fill\nUnadjusted\n\nVolume"},{"$f":"DataInput!Y3","v":"Plowing &\nShaping\nUndercut\n(+ Fill)"},{"$f":"\"Existing Topsoil\"&CHAR(10)&\"Stripping\"&CHAR(10)&\"Undercut\"&CHAR(10)&\"(+ Fill)\"","v":"Existing Topsoil\nStripping\nUndercut\n(+ Fill)"},{"$f":"\"Existing\"&CHAR(10)&\"Pavement\"&CHAR(10)&\"Undercut\"&CHAR(10)&\"(+Fill)\"","v":"Existing\nPavement\nUndercut\n(+Fill)"},{"$f":"\"Manual\"&CHAR(10)&\"Calculated Fill\"&CHAR(10)&\"Adjustments\"&CHAR(10)&\"(+/- Fill)\"","v":"Manual\nCalculated Fill\nAdjustments\n(+/- Fill)"},{"$f":"\"Total\"&CHAR(10)&\"Fill\"&CHAR(10)&\"Adjusted\"","v":"Total\nFill\nAdjusted"},{"$f":"\"Total Fill\"&CHAR(10)&\" Adjusted w/\"&CHAR(10)&\"Weighted Average\"&CHAR(10)&X5&\"  Shrink Factor\"","v":"Total Fill\n Adjusted w/\nWeighted Average\n1.3  Shrink Factor"},{"$f":"\"Total Cut Adjusted\"&CHAR(10)&\"Minus Fill w/ Shrink\"","v":"Total Cut Adjusted\nMinus Fill w/ Shrink"},null,null,{"$f":"\"Approx. Fill Vol.\"&CHAR(10)&\"Below 5' & Above\"&CHAR(10)&\"20' w/ Shrink\"","v":"Approx. Fill Vol.\nBelow 5' & Above\n20' w/ Shrink"},null,{"$f":"\"Approx. Fill\"&CHAR(10)&\"Volume Below 3'\"&CHAR(10)&\"w/ Shrink\"","v":"Approx. Fill\nVolume Below 3'\nw/ Shrink"},{"$f":"DataInput!T3&CHAR(10)&\"Volume\"","v":"Topsoil\nStripping Undercut\nVolume"},{"$f":"DataInput!S3","v":"Topsoil\nPlacement\nUndercut\nVolume"},{"$f":"\"Topsoil Placement\"&CHAR(10)&\"With \"&$AG$5&\" Shrink\"&CHAR(10)&\"Factor\"","v":"Topsoil Placement\nWith 1.4 Shrink\nFactor"},{"$f":"\"Topsoil Stripping\"&CHAR(10)&\"Minus Topsoil\"&CHAR(10)&\"Placement\"&CHAR(10)&\"w/Shrink\"","v":"Topsoil Stripping\nMinus Topsoil\nPlacement\nw/Shrink"}]
[]
[]
[]
[{"$f":"IF(DataInput!A11<>\"\",DataInput!A11,\"\")","v":"Sta. 80+13"}]
[{"$f":"IF(DataInput!A12<>\"\",DataInput!A12,\"\")","v":7978.13},{"$f":"SUM(DataInput!C12,DataInput!Y12)+(DataInput!U12-DataInput!E12)","v":98},{"$f":"SUM(DataInput!D12,DataInput!Z12)","v":89},{"$f":"DataInput!U12","v":9},{"$f":"SUM(DataInput!F12,DataInput!AB12)","v":0},{"$f":"SUM(DataInput!G12,DataInput!AC12)","v":0},{"$f":"SUM(DataInput!H12,DataInput!AD12)","v":0},{"$f":"DataInput!I12","v":0},{"$f":"SUM(DataInput!J12,DataInput!AF12)","v":0},{"$f":"SUM(DataInput!K12,DataInput!AG12)","v":0},{"$f":"SUM(DataInput!L12,DataInput!AH12)","v":0},{"$f":"SUM(DataInput!M12,DataInput!AI12)","v":0},{"$f":"SUM(DataInput!N12,DataInput!AJ12)","v":0},{"$f":"SUM(DataInput!O12,DataInput!AK12)","v":0},{"$f":"DataInput!P12","v":0},null,{"$f":"SUM(C12,E12:G12,I12:L12,N12:P12)","v":89},{"$f":"DataInput!R12","v":1},{"$f":"DataInput!Y12","v":0},{"$f":"IF(DataInput!U12-DataInput!E12>0,DataInput!U12-DataInput!E12,\"\")","v":9},{"$f":"IF(DataInput!W12-DataInput!I12>0,DataInput!W12-DataInput!I12,\"\")","v":""},null,{"$f":"SUM(R12:V12)","v":10},{"$f":"ROUNDUP(($W12*$X$5),1)","v":13},{"$f":"ROUNDUP(SUM(Q12-X12),1)","v":76},null,null,{"$f":"ROUNDDOWN((IF(AA13>0,IFERROR(IF(AVERAGE(DataInput!Q12:Q13)>AVERAGE(AA13,AA12),ROUNDDOWN(((((AA12-Z12)+(AA13-Z13))/2)*(A13-A12))/27+S12+T12,0),IF(((((DataInput!Q13-Z13)+(DataInput!Q12-Z12))/2)*(A13-A12))/27+S12+T12>0,ROUNDDOWN(((((DataInput!Q13-Z12)+(DataInput!Q12-Z12))/2)*(A13-A12))/27+S12+T12,0),0)),0),0)*$X$5),1)","v":0},null,{"$f":"ROUNDDOWN((IF(AC13>0,IFERROR(IF(((((DataInput!Q12-AC12)+(DataInput!Q13-AC13))/2)*(A13-A12))/27+S12+T12>0,ROUNDDOWN(((((DataInput!Q12-AC12)+(DataInput!Q13-AC13))/2)*(A13-A12))/27+S12+T12,0),0),0),0)*$X$5),1)","v":0},{"$f":"DataInput!U12","v":9},{"$f":"DataInput!S12","v":0},{"$f":"ROUNDUP((AF12*$AG$5),1)","v":0},{"$f":"ROUNDUP((AE12-AG12),1)","v":9}]
[{"$f":"IF(DataInput!A13<>\"\",DataInput!A13,\"\")","v":8000},{"$f":"SUM(DataInput!C13,DataInput!Y13)+(DataInput!U13-DataInput!E13)","v":74},{"$f":"SUM(DataInput!D13,DataInput!Z13)","v":65},{"$f":"DataInput!U13","v":9},{"$f":"SUM(DataInput!F13,DataInput!AB13)","v":0},{"$f":"SUM(DataInput!G13,DataInput!AC13)","v":0},{"$f":"SUM(DataInput!H13,DataInput!AD13)","v":0},{"$f":"DataInput!I13","v":0},{"$f":"SUM(DataInput!J13,DataInput!AF13)","v":0},{"$f":"SUM(DataInput!K13,DataInput!AG13)","v":0},{"$f":"SUM(DataInput!L13,DataInput!AH13)","v":0},{"$f":"SUM(DataInput!M13,DataInput!AI13)","v":0},{"$f":"SUM(DataInput!N13,DataInput!AJ13)","v":0},{"$f":"SUM(DataInput!O13,DataInput!AK13)","v":0},{"$f":"DataInput!P13","v":0},null,{"$f":"SUM(C13,E13:G13,I13:L13,N13:P13)","v":65},{"$f":"DataInput!R13","v":2},{"$f":"DataInput!Y13","v":0},{"$f":"IF(DataInput!U13-DataInput!E13>0,DataInput!U13-DataInput!E13,\"\")","v":9},{"$f":"IF(DataInput!W13-DataInput!I13>0,DataInput!W13-DataInput!I13,\"\")","v":""},null,{"$f":"SUM(R13:V13)","v":11},{"$f":"ROUNDUP(($W13*$X$5),1)","v":14.3},{"$f":"ROUNDUP(SUM(Q13-X13),1)","v":50.7},{"$f":"Z12","v":0},{"$f":"AA12","v":0},{"$f":"ROUNDDOWN((IF(AA14>0,IFERROR(IF(AVERAGE(DataInput!Q13:Q14)>AVERAGE(AA14,AA13),ROUNDDOWN(((((AA13-Z13)+(AA14-Z14))/2)*(A14-A13))/27+S13+T13,0),IF(((((DataInput!Q14-Z14)+(DataInput!Q13-Z13))/2)*(A14-A13))/27+S13+T13>0,ROUNDDOWN(((((DataInput!Q14-Z13)+(DataInput!Q13-Z13))/2)*(A14-A13))/27+S13+T13,0),0)),0),0)*$X$5),1)","v":0},{"$f":"AC12","v":0},{"$f":"ROUNDDOWN((IF(AC14>0,IFERROR(IF(((((DataInput!Q13-AC13)+(DataInput!Q14-AC14))/2)*(A14-A13))/27+S13+T13>0,ROUNDDOWN(((((DataInput!Q13-AC13)+(DataInput!Q14-AC14))/2)*(A14-A13))/27+S13+T13,0),0),0),0)*$X$5),1)","v":0},{"$f":"DataInput!U13","v":9},{"$f":"DataInput!S13","v":17},{"$f":"ROUNDUP((AF13*$AG$5),1)","v":23.8},{"$f":"ROUNDUP((AE13-AG13),1)","v":-14.8}]
[{"$f":"IF(DataInput!A14<>\"\",DataInput!A14,\"\")","v":8013.55},{"$f":"SUM(DataInput!C14,DataInput!Y14)+(DataInput!U14-DataInput!E14)","v":78},{"$f":"SUM(DataInput!D14,DataInput!Z14)","v":67},{"$f":"DataInput!U14","v":11},{"$f":"SUM(DataInput!F14,DataInput!AB14)","v":0},{"$f":"SUM(DataInput!G14,DataInput!AC14)","v":0},{"$f":"SUM(DataInput!H14,DataInput!AD14)","v":0},{"$f":"DataInput!I14","v":0},{"$f":"SUM(DataInput!J14,DataInput!AF14)","v":0},{"$f":"SUM(DataInput!K14,DataInput!AG14)","v":0},{"$f":"SUM(DataInput!L14,DataInput!AH14)","v":0},{"$f":"SUM(DataInput!M14,DataInput!AI14)","v":0},{"$f":"SUM(DataInput!N14,DataInput!AJ14)","v":0},{"$f":"SUM(DataInput!O14,DataInput!AK14)","v":0},{"$f":"DataInput!P14","v":0},280,347,{"$f":"DataInput!R14","v":4},{"$f":"DataInput!Y14","v":0},{"$f":"IF(DataInput!U14-DataInput!E14>0,DataInput!U14-DataInput!E14,\"\")","v":11},{"$f":"IF(DataInput!W14-DataInput!I14>0,DataInput!W14-DataInput!I14,\"\")","v":""},12,27,35.1,311.89999999999998,{"$f":"Z13","v":0},{"$f":"AA13","v":0},{"$f":"ROUNDDOWN((IF(AA15>0,IFERROR(IF(AVERAGE(DataInput!Q14:Q15)>AVERAGE(AA15,AA14),ROUNDDOWN(((((AA14-Z14)+(AA15-Z15))/2)*(A15-A14))/27+S14+T14,0),IF(((((DataInput!Q15-Z15)+(DataInput!Q14-Z14))/2)*(A15-A14))/27+S14+T14>0,ROUNDDOWN(((((DataInput!Q15-Z14)+(DataInput!Q14-Z14))/2)*(A15-A14))/27+S14+T14,0),0)),0),0)*$X$5),1)","v":0},{"$f":"AC13","v":0},{"$f":"ROUNDDOWN((IF(AC15>0,IFERROR(IF(((((DataInput!Q14-AC14)+(DataInput!Q15-AC15))/2)*(A15-A14))/27+S14+T14>0,ROUNDDOWN(((((DataInput!Q14-AC14)+(DataInput!Q15-AC15))/2)*(A15-A14))/27+S14+T14,0),0),0),0)*$X$5),1)","v":0},{"$f":"DataInput!U14","v":11},{"$f":"DataInput!S14","v":24},33.6,-22.6]
[{"$f":"IF(DataInput!A15<>\"\",DataInput!A15,\"\")","v":8025},{"$f":"SUM(DataInput!C15,DataInput!Y15)+(DataInput!U15-DataInput!E15)","v":130},{"$f":"SUM(DataInput!D15,DataInput!Z15)","v":109},{"$f":"DataInput!U15","v":21},{"$f":"SUM(DataInput!F15,DataInput!AB15)","v":0},{"$f":"SUM(DataInput!G15,DataInput!AC15)","v":0},{"$f":"SUM(DataInput!H15,DataInput!AD15)","v":0},{"$f":"DataInput!I15","v":0},{"$f":"SUM(DataInput!J15,DataInput!AF15)","v":0},{"$f":"SUM(DataInput!K15,DataInput!AG15)","v":0},{"$f":"SUM(DataInput!L15,DataInput!AH15)","v":0},{"$f":"SUM(DataInput!M15,DataInput!AI15)","v":0},{"$f":"SUM(DataInput!N15,DataInput!AJ15)","v":0},{"$f":"SUM(DataInput!O15,DataInput!AK15)","v":0},{"$f":"DataInput!P15","v":0},null,109,{"$f":"DataInput!R15","v":11},{"$f":"DataInput!Y15","v":0},{"$f":"IF(DataInput!U15-DataInput!E15>0,DataInput!U15-DataInput!E15,\"\")","v":21},{"$f":"IF(DataInput!W15-DataInput!I15>0,DataInput!W15-DataInput!I15,\"\")","v":""},null,32,41.6,67.400000000000006,0,0,{"$f":"ROUNDDOWN((IF(AA16>0,IFERROR(IF(AVERAGE(DataInput!Q15:Q16)>AVERAGE(AA16,AA15),ROUNDDOWN(((((AA15-Z15)+(AA16-Z16))/2)*(A16-A15))/27+S15+T15,0),IF(((((DataInput!Q16-Z16)+(DataInput!Q15-Z15))/2)*(A16-A15))/27+S15+T15>0,ROUNDDOWN(((((DataInput!Q16-Z15)+(DataInput!Q15-Z15))/2)*(A16-A15))/27+S15+T15,0),0)),0),0)*$X$5),1)","v":0},0,{"$f":"ROUNDDOWN((IF(AC16>0,IFERROR(IF(((((DataInput!Q15-AC15)+(DataInput!Q16-AC16))/2)*(A16-A15))/27+S15+T15>0,ROUNDDOWN(((((DataInput!Q15-AC15)+(DataInput!Q16-AC16))/2)*(A16-A15))/27+S15+T15,0),0),0),0)*$X$5),1)","v":0},{"$f":"DataInput!U15","v":21},{"$f":"DataInput!S15","v":42},58.8,-37.799999999999997]
[{"$f":"IF(DataInput!A16<>\"\",DataInput!A16,\"\")","v":8050},{"$f":"SUM(DataInput!C16,DataInput!Y16)+(DataInput!U16-DataInput!E16)","v":91},{"$f":"SUM(DataInput!D16,DataInput!Z16)","v":71},{"$f":"DataInput!U16","v":20},{"$f":"SUM(DataInput!F16,DataInput!AB16)","v":0},{"$f":"SUM(DataInput!G16,DataInput!AC16)","v":0},{"$f":"SUM(DataInput!H16,DataInput!AD16)","v":0},{"$f":"DataInput!I16","v":0},{"$f":"SUM(DataInput!J16,DataInput!AF16)","v":0},{"$f":"SUM(DataInput!K16,DataInput!AG16)","v":0},{"$f":"SUM(DataInput!L16,DataInput!AH16)","v":0},{"$f":"SUM(DataInput!M16,DataInput!AI16)","v":0},{"$f":"SUM(DataInput!N16,DataInput!AJ16)","v":0},{"$f":"SUM(DataInput!O16,DataInput!AK16)","v":0},{"$f":"DataInput!P16","v":0},null,71,{"$f":"DataInput!R16","v":12},{"$f":"DataInput!Y16","v":0},{"$f":"IF(DataInput!U16-DataInput!E16>0,DataInput!U16-DataInput!E16,\"\")","v":20},{"$f":"IF(DataInput!W16-DataInput!I16>0,DataInput!W16-DataInput!I16,\"\")","v":""},null,32,41.6,29.4,0,0,{"$f":"ROUNDDOWN((IF(AA17>0,IFERROR(IF(AVERAGE(DataInput!Q16:Q17)>AVERAGE(AA17,AA16),ROUNDDOWN(((((AA16-Z16)+(AA17-Z17))/2)*(A17-A16))/27+S16+T16,0),IF(((((DataInput!Q17-Z17)+(DataInput!Q16-Z16))/2)*(A17-A16))/27+S16+T16>0,ROUNDDOWN(((((DataInput!Q17-Z16)+(DataInput!Q16-Z16))/2)*(A17-A16))/27+S16+T16,0),0)),0),0)*$X$5),1)","v":0},0,{"$f":"ROUNDDOWN((IF(AC17>0,IFERROR(IF(((((DataInput!Q16-AC16)+(DataInput!Q17-AC17))/2)*(A17-A16))/27+S16+T16>0,ROUNDDOWN(((((DataInput!Q16-AC16)+(DataInput!Q17-AC17))/2)*(A17-A16))/27+S16+T16,0),0),0),0)*$X$5),1)","v":0},{"$f":"DataInput!U16","v":20},{"$f":"DataInput!S16","v":37},51.8,-31.8]
[{"$f":"IF(DataInput!A17<>\"\",DataInput!A17,\"\")","v":8075},{"$f":"SUM(DataInput!C17,DataInput!Y17)+(DataInput!U17-DataInput!E17)","v":50},{"$f":"SUM(DataInput!D17,DataInput!Z17)","v":38},{"$f":"DataInput!U17","v":12},{"$f":"SUM(DataInput!F17,DataInput!AB17)","v":0},{"$f":"SUM(DataInput!G17,DataInput!AC17)","v":0},{"$f":"SUM(DataInput!H17,DataInput!AD17)","v":0},{"$f":"DataInput!I17","v":0},{"$f":"SUM(DataInput!J17,DataInput!AF17)","v":0},{"$f":"SUM(DataInput!K17,DataInput!AG17)","v":0},{"$f":"SUM(DataInput!L17,DataInput!AH17)","v":0},{"$f":"SUM(DataInput!M17,DataInput!AI17)","v":0},{"$f":"SUM(DataInput!N17,DataInput!AJ17)","v":0},{"$f":"SUM(DataInput!O17,DataInput!AK17)","v":0},{"$f":"DataInput!P17","v":0},null,38,{"$f":"DataInput!R17","v":9},{"$f":"DataInput!Y17","v":0},{"$f":"IF(DataInput!U17-DataInput!E17>0,DataInput!U17-DataInput!E17,\"\")","v":12},{"$f":"IF(DataInput!W17-DataInput!I17>0,DataInput!W17-DataInput!I17,\"\")","v":""},null,21,27.3,10.7,0,0,{"$f":"ROUNDDOWN((IF(AA18>0,IFERROR(IF(AVERAGE(DataInput!Q17:Q18)>AVERAGE(AA18,AA17),ROUNDDOWN(((((AA17-Z17)+(AA18-Z18))/2)*(A18-A17))/27+S17+T17,0),IF(((((DataInput!Q18-Z18)+(DataInput!Q17-Z17))/2)*(A18-A17))/27+S17+T17>0,ROUNDDOWN(((((DataInput!Q18-Z17)+(DataInput!Q17-Z17))/2)*(A18-A17))/27+S17+T17,0),0)),0),0)*$X$5),1)","v":0},0,{"$f":"ROUNDDOWN((IF(AC18>0,IFERROR(IF(((((DataInput!Q17-AC17)+(DataInput!Q18-AC18))/2)*(A18-A17))/27+S17+T17>0,ROUNDDOWN(((((DataInput!Q17-AC17)+(DataInput!Q18-AC18))/2)*(A18-A17))/27+S17+T17,0),0),0),0)*$X$5),1)","v":0},{"$f":"DataInput!U17","v":12},{"$f":"DataInput!S17","v":23},32.200000000000003,-20.2]
[{"$f":"IF(DataInput!A18<>\"\",DataInput!A18,\"\")","v":8100}]
[]
[{"$f":"IF(DataInput!A20<>\"\",DataInput!A20,\"\")","v":"Sta. 96+34"}]
[{"$f":"IF(DataInput!A21<>\"\",DataInput!A21,\"\")","v":9550},{"$f":"SUM(DataInput!C21,DataInput!Y21)+(DataInput!U21-DataInput!E21)","v":24},{"$f":"SUM(DataInput!D21,DataInput!Z21)","v":13},{"$f":"DataInput!U21","v":11},{"$f":"SUM(DataInput!F21,DataInput!AB21)","v":0},{"$f":"SUM(DataInput!G21,DataInput!AC21)","v":0},{"$f":"SUM(DataInput!H21,DataInput!AD21)","v":0},{"$f":"DataInput!I21","v":0},{"$f":"SUM(DataInput!J21,DataInput!AF21)","v":0},{"$f":"SUM(DataInput!K21,DataInput!AG21)","v":0},{"$f":"SUM(DataInput!L21,DataInput!AH21)","v":0},{"$f":"SUM(DataInput!M21,DataInput!AI21)","v":0},{"$f":"SUM(DataInput!N21,DataInput!AJ21)","v":0},{"$f":"SUM(DataInput!O21,DataInput!AK21)","v":0},{"$f":"DataInput!P21","v":0},null,{"$f":"SUM(C21,E21:G21,I21:L21,N21:P21)","v":13},{"$f":"DataInput!R21","v":15},{"$f":"DataInput!Y21","v":0},{"$f":"IF(DataInput!U21-DataInput!E21>0,DataInput!U21-DataInput!E21,\"\")","v":11},{"$f":"IF(DataInput!W21-DataInput!I21>0,DataInput!W21-DataInput!I21,\"\")","v":""},null,{"$f":"SUM(R21:V21)","v":26},{"$f":"ROUNDUP(($W21*$X$5),1)","v":33.799999999999997},{"$f":"ROUNDUP(SUM(Q21-X21),1)","v":-20.8},null,null,{"$f":"ROUNDDOWN((IF(AA22>0,IFERROR(IF(AVERAGE(DataInput!Q21:Q22)>AVERAGE(AA22,AA21),ROUNDDOWN(((((AA21-Z21)+(AA22-Z22))/2)*(A22-A21))/27+S12+T12,0),IF(((((DataInput!Q22-Z22)+(DataInput!Q21-Z21))/2)*(A22-A21))/27+S12+T12>0,ROUNDDOWN(((((DataInput!Q22-Z21)+(DataInput!Q21-Z21))/2)*(A22-A21))/27+S12+T12,0),0)),0),0)*$X$5),1)","v":0},null,{"$f":"ROUNDDOWN((IF(AC22>0,IFERROR(IF(((((DataInput!Q21-AC21)+(DataInput!Q22-AC22))/2)*(A22-A21))/27+S12+T12>0,ROUNDDOWN(((((DataInput!Q21-AC21)+(DataInput!Q22-AC22))/2)*(A22-A21))/27+S12+T12,0),0),0),0)*$X$5),1)","v":0},{"$f":"DataInput!U21","v":11},{"$f":"DataInput!S21","v":22},{"$f":"ROUNDUP((AF21*$AG$5),1)","v":30.8},{"$f":"ROUNDUP((AE21-AG21),1)","v":-19.8}]
[{"$f":"IF(DataInput!A22<>\"\",DataInput!A22,\"\")","v":9575},{"$f":"SUM(DataInput!C22,DataInput!Y22)+(DataInput!U22-DataInput!E22)","v":38},{"$f":"SUM(DataInput!D22,DataInput!Z22)","v":22},{"$f":"DataInput!U22","v":16},{"$f":"SUM(DataInput!F22,DataInput!AB22)","v":0},{"$f":"SUM(DataInput!G22,DataInput!AC22)","v":0},{"$f":"SUM(DataInput!H22,DataInput!AD22)","v":0},{"$f":"DataInput!I22","v":0},{"$f":"SUM(DataInput!J22,DataInput!AF22)","v":0},{"$f":"SUM(DataInput!K22,DataInput!AG22)","v":0},{"$f":"SUM(DataInput!L22,DataInput!AH22)","v":0},{"$f":"SUM(DataInput!M22,DataInput!AI22)","v":0},{"$f":"SUM(DataInput!N22,DataInput!AJ22)","v":0},{"$f":"SUM(DataInput!O22,DataInput!AK22)","v":0},{"$f":"DataInput!P22","v":0},null,{"$f":"SUM(C22,E22:G22,I22:L22,N22:P22)","v":22},{"$f":"DataInput!R22","v":27},{"$f":"DataInput!Y22","v":0},{"$f":"IF(DataInput!U22-DataInput!E22>0,DataInput!U22-DataInput!E22,\"\")","v":16},{"$f":"IF(DataInput!W22-DataInput!I22>0,DataInput!W22-DataInput!I22,\"\")","v":""},null,{"$f":"SUM(R22:V22)","v":43},{"$f":"ROUNDUP(($W22*$X$5),1)","v":55.9},{"$f":"ROUNDUP(SUM(Q22-X22),1)","v":-33.9},{"$f":"Z21","v":0},{"$f":"AA21","v":0},{"$f":"ROUNDDOWN((IF(AA23>0,IFERROR(IF(AVERAGE(DataInput!Q22:Q23)>AVERAGE(AA23,AA22),ROUNDDOWN(((((AA22-Z22)+(AA23-Z23))/2)*(A23-A22))/27+S13+T13,0),IF(((((DataInput!Q23-Z23)+(DataInput!Q22-Z22))/2)*(A23-A22))/27+S13+T13>0,ROUNDDOWN(((((DataInput!Q23-Z22)+(DataInput!Q22-Z22))/2)*(A23-A22))/27+S13+T13,0),0)),0),0)*$X$5),1)","v":0},{"$f":"AC21","v":0},{"$f":"ROUNDDOWN((IF(AC23>0,IFERROR(IF(((((DataInput!Q22-AC22)+(DataInput!Q23-AC23))/2)*(A23-A22))/27+S13+T13>0,ROUNDDOWN(((((DataInput!Q22-AC22)+(DataInput!Q23-AC23))/2)*(A23-A22))/27+S13+T13,0),0),0),0)*$X$5),1)","v":0},{"$f":"DataInput!U22","v":16},{"$f":"DataInput!S22","v":32},{"$f":"ROUNDUP((AF22*$AG$5),1)","v":44.8},{"$f":"ROUNDUP((AE22-AG22),1)","v":-28.8}]
[{"$f":"IF(DataInput!A23<>\"\",DataInput!A23,\"\")","v":9600},{"$f":"SUM(DataInput!C23,DataInput!Y23)+(DataInput!U23-DataInput!E23)","v":54},{"$f":"SUM(DataInput!D23,DataInput!Z23)","v":34},{"$f":"DataInput!U23","v":20},{"$f":"SUM(DataInput!F23,DataInput!AB23)","v":0},{"$f":"SUM(DataInput!G23,DataInput!AC23)","v":0},{"$f":"SUM(DataInput!H23,DataInput!AD23)","v":0},{"$f":"DataInput!I23","v":0},{"$f":"SUM(DataInput!J23,DataInput!AF23)","v":0},{"$f":"SUM(DataInput!K23,DataInput!AG23)","v":0},{"$f":"SUM(DataInput!L23,DataInput!AH23)","v":0},{"$f":"SUM(DataInput!M23,DataInput!AI23)","v":0},{"$f":"SUM(DataInput!N23,DataInput!AJ23)","v":0},{"$f":"SUM(DataInput!O23,DataInput!AK23)","v":0},{"$f":"DataInput!P23","v":0},null,34,{"$f":"DataInput!R23","v":50},{"$f":"DataInput!Y23","v":0},{"$f":"IF(DataInput!U23-DataInput!E23>0,DataInput!U23-DataInput!E23,\"\")","v":20},{"$f":"IF(DataInput!W23-DataInput!I23>0,DataInput!W23-DataInput!I23,\"\")","v":""},null,70,91,-57,{"$f":"Z22","v":0},{"$f":"AA22","v":0},{"$f":"ROUNDDOWN((IF(AA24>0,IFERROR(IF(AVERAGE(DataInput!Q23:Q24)>AVERAGE(AA24,AA23),ROUNDDOWN(((((AA23-Z23)+(AA24-Z24))/2)*(A24-A23))/27+S14+T14,0),IF(((((DataInput!Q24-Z24)+(DataInput!Q23-Z23))/2)*(A24-A23))/27+S14+T14>0,ROUNDDOWN(((((DataInput!Q24-Z23)+(DataInput!Q23-Z23))/2)*(A24-A23))/27+S14+T14,0),0)),0),0)*$X$5),1)","v":0},{"$f":"AC22","v":0},{"$f":"ROUNDDOWN((IF(AC24>0,IFERROR(IF(((((DataInput!Q23-AC23)+(DataInput!Q24-AC24))/2)*(A24-A23))/27+S14+T14>0,ROUNDDOWN(((((DataInput!Q23-AC23)+(DataInput!Q24-AC24))/2)*(A24-A23))/27+S14+T14,0),0),0),0)*$X$5),1)","v":0},{"$f":"DataInput!U23","v":20},{"$f":"DataInput!S23","v":40},56,-36]
[{"$f":"IF(DataInput!A24<>\"\",DataInput!A24,\"\")","v":9625},{"$f":"SUM(DataInput!C24,DataInput!Y24)+(DataInput!U24-DataInput!E24)","v":26},{"$f":"SUM(DataInput!D24,DataInput!Z24)","v":18},{"$f":"DataInput!U24","v":8},{"$f":"SUM(DataInput!F24,DataInput!AB24)","v":0},{"$f":"SUM(DataInput!G24,DataInput!AC24)","v":0},{"$f":"SUM(DataInput!H24,DataInput!AD24)","v":0},{"$f":"DataInput!I24","v":0},{"$f":"SUM(DataInput!J24,DataInput!AF24)","v":0},{"$f":"SUM(DataInput!K24,DataInput!AG24)","v":0},{"$f":"SUM(DataInput!L24,DataInput!AH24)","v":0},{"$f":"SUM(DataInput!M24,DataInput!AI24)","v":0},{"$f":"SUM(DataInput!N24,DataInput!AJ24)","v":0},{"$f":"SUM(DataInput!O24,DataInput!AK24)","v":0},{"$f":"DataInput!P24","v":0},null,18,{"$f":"DataInput!R24","v":23},{"$f":"DataInput!Y24","v":0},{"$f":"IF(DataInput!U24-DataInput!E24>0,DataInput!U24-DataInput!E24,\"\")","v":8},{"$f":"IF(DataInput!W24-DataInput!I24>0,DataInput!W24-DataInput!I24,\"\")","v":""},null,31,40.299999999999997,-22.3,0,0,{"$f":"ROUNDDOWN((IF(AA25>0,IFERROR(IF(AVERAGE(DataInput!Q24:Q25)>AVERAGE(AA25,AA24),ROUNDDOWN(((((AA24-Z24)+(AA25-Z25))/2)*(A25-A24))/27+S15+T15,0),IF(((((DataInput!Q25-Z25)+(DataInput!Q24-Z24))/2)*(A25-A24))/27+S15+T15>0,ROUNDDOWN(((((DataInput!Q25-Z24)+(DataInput!Q24-Z24))/2)*(A25-A24))/27+S15+T15,0),0)),0),0)*$X$5),1)","v":0},0,{"$f":"ROUNDDOWN((IF(AC25>0,IFERROR(IF(((((DataInput!Q24-AC24)+(DataInput!Q25-AC25))/2)*(A25-A24))/27+S15+T15>0,ROUNDDOWN(((((DataInput!Q24-AC24)+(DataInput!Q25-AC25))/2)*(A25-A24))/27+S15+T15,0),0),0),0)*$X$5),1)","v":0},{"$f":"DataInput!U24","v":8},{"$f":"DataInput!S24","v":17},23.8,-15.8]
[{"$f":"IF(DataInput!A25<>\"\",DataInput!A25,\"\")","v":9634},{"$f":"SUM(DataInput!C25,DataInput!Y25)+(DataInput!U25-DataInput!E25)","v":48},{"$f":"SUM(DataInput!D25,DataInput!Z25)","v":34},{"$f":"DataInput!U25","v":14},{"$f":"SUM(DataInput!F25,DataInput!AB25)","v":0},{"$f":"SUM(DataInput!G25,DataInput!AC25)","v":0},{"$f":"SUM(DataInput!H25,DataInput!AD25)","v":0},{"$f":"DataInput!I25","v":0},{"$f":"SUM(DataInput!J25,DataInput!AF25)","v":0},{"$f":"SUM(DataInput!K25,DataInput!AG25)","v":0},{"$f":"SUM(DataInput!L25,DataInput!AH25)","v":0},{"$f":"SUM(DataInput!M25,DataInput!AI25)","v":0},{"$f":"SUM(DataInput!N25,DataInput!AJ25)","v":0},{"$f":"SUM(DataInput!O25,DataInput!AK25)","v":0},{"$f":"DataInput!P25","v":0},null,34,{"$f":"DataInput!R25","v":34},{"$f":"DataInput!Y25","v":0},{"$f":"IF(DataInput!U25-DataInput!E25>0,DataInput!U25-DataInput!E25,\"\")","v":14},{"$f":"IF(DataInput!W25-DataInput!I25>0,DataInput!W25-DataInput!I25,\"\")","v":""},null,48,62.4,-28.4,0,0,{"$f":"ROUNDDOWN((IF(AA26>0,IFERROR(IF(AVERAGE(DataInput!Q25:Q26)>AVERAGE(AA26,AA25),ROUNDDOWN(((((AA25-Z25)+(AA26-Z26))/2)*(A26-A25))/27+S16+T16,0),IF(((((DataInput!Q26-Z26)+(DataInput!Q25-Z25))/2)*(A26-A25))/27+S16+T16>0,ROUNDDOWN(((((DataInput!Q26-Z25)+(DataInput!Q25-Z25))/2)*(A26-A25))/27+S16+T16,0),0)),0),0)*$X$5),1)","v":0},0,{"$f":"ROUNDDOWN((IF(AC26>0,IFERROR(IF(((((DataInput!Q25-AC25)+(DataInput!Q26-AC26))/2)*(A26-A25))/27+S16+T16>0,ROUNDDOWN(((((DataInput!Q25-AC25)+(DataInput!Q26-AC26))/2)*(A26-A25))/27+S16+T16,0),0),0),0)*$X$5),1)","v":0},{"$f":"DataInput!U25","v":14},{"$f":"DataInput!S25","v":29},40.6,-26.6]
[{"$f":"IF(DataInput!A26<>\"\",DataInput!A26,\"\")","v":9650},{"$f":"SUM(DataInput!C26,DataInput!Y26)+(DataInput!U26-DataInput!E26)","v":57},{"$f":"SUM(DataInput!D26,DataInput!Z26)","v":38},{"$f":"DataInput!U26","v":19},{"$f":"SUM(DataInput!F26,DataInput!AB26)","v":0},{"$f":"SUM(DataInput!G26,DataInput!AC26)","v":0},{"$f":"SUM(DataInput!H26,DataInput!AD26)","v":0},{"$f":"DataInput!I26","v":0},{"$f":"SUM(DataInput!J26,DataInput!AF26)","v":0},{"$f":"SUM(DataInput!K26,DataInput!AG26)","v":0},{"$f":"SUM(DataInput!L26,DataInput!AH26)","v":0},{"$f":"SUM(DataInput!M26,DataInput!AI26)","v":0},{"$f":"SUM(DataInput!N26,DataInput!AJ26)","v":0},{"$f":"SUM(DataInput!O26,DataInput!AK26)","v":0},{"$f":"DataInput!P26","v":0},null,38,{"$f":"DataInput!R26","v":30},{"$f":"DataInput!Y26","v":0},{"$f":"IF(DataInput!U26-DataInput!E26>0,DataInput!U26-DataInput!E26,\"\")","v":19},{"$f":"IF(DataInput!W26-DataInput!I26>0,DataInput!W26-DataInput!I26,\"\")","v":""},null,49,63.7,-25.7,0,0,{"$f":"ROUNDDOWN((IF(AA27>0,IFERROR(IF(AVERAGE(DataInput!Q26:Q27)>AVERAGE(AA27,AA26),ROUNDDOWN(((((AA26-Z26)+(AA27-Z27))/2)*(A27-A26))/27+S17+T17,0),IF(((((DataInput!Q27-Z27)+(DataInput!Q26-Z26))/2)*(A27-A26))/27+S17+T17>0,ROUNDDOWN(((((DataInput!Q27-Z26)+(DataInput!Q26-Z26))/2)*(A27-A26))/27+S17+T17,0),0)),0),0)*$X$5),1)","v":0},0,{"$f":"ROUNDDOWN((IF(AC27>0,IFERROR(IF(((((DataInput!Q26-AC26)+(DataInput!Q27-AC27))/2)*(A27-A26))/27+S17+T17>0,ROUNDDOWN(((((DataInput!Q26-AC26)+(DataInput!Q27-AC27))/2)*(A27-A26))/27+S17+T17,0),0),0),0)*$X$5),1)","v":0},{"$f":"DataInput!U26","v":19},{"$f":"DataInput!S26","v":37},51.8,-32.799999999999997]
[{"$f":"IF(DataInput!A27<>\"\",DataInput!A27,\"\")","v":9675},{"$f":"SUM(DataInput!C27,DataInput!Y27)+(DataInput!U27-DataInput!E27)","v":38},{"$f":"SUM(DataInput!D27,DataInput!Z27)","v":23},{"$f":"DataInput!U27","v":15},{"$f":"SUM(DataInput!F27,DataInput!AB27)","v":0},{"$f":"SUM(DataInput!G27,DataInput!AC27)","v":0},{"$f":"SUM(DataInput!H27,DataInput!AD27)","v":0},{"$f":"DataInput!I27","v":0},{"$f":"SUM(DataInput!J27,DataInput!AF27)","v":0},{"$f":"SUM(DataInput!K27,DataInput!AG27)","v":0},{"$f":"SUM(DataInput!L27,DataInput!AH27)","v":0},{"$f":"SUM(DataInput!M27,DataInput!AI27)","v":0},{"$f":"SUM(DataInput!N27,DataInput!AJ27)","v":0},{"$f":"SUM(DataInput!O27,DataInput!AK27)","v":0},{"$f":"DataInput!P27","v":0},null,23,{"$f":"DataInput!R27","v":15},{"$f":"DataInput!Y27","v":0},{"$f":"IF(DataInput!U27-DataInput!E27>0,DataInput!U27-DataInput!E27,\"\")","v":15},{"$f":"IF(DataInput!W27-DataInput!I27>0,DataInput!W27-DataInput!I27,\"\")","v":""},null,30,39,-16,0,0,{"$f":"ROUNDDOWN((IF(AA28>0,IFERROR(IF(AVERAGE(DataInput!Q27:Q28)>AVERAGE(AA28,AA27),ROUNDDOWN(((((AA27-Z27)+(AA28-Z28))/2)*(A28-A27))/27+S18+T18,0),IF(((((DataInput!Q28-Z28)+(DataInput!Q27-Z27))/2)*(A28-A27))/27+S18+T18>0,ROUNDDOWN(((((DataInput!Q28-Z27)+(DataInput!Q27-Z27))/2)*(A28-A27))/27+S18+T18,0),0)),0),0)*$X$5),1)","v":0},0,{"$f":"ROUNDDOWN((IF(AC28>0,IFERROR(IF(((((DataInput!Q27-AC27)+(DataInput!Q28-AC28))/2)*(A28-A27))/27+S18+T18>0,ROUNDDOWN(((((DataInput!Q27-AC27)+(DataInput!Q28-AC28))/2)*(A28-A27))/27+S18+T18,0),0),0),0)*$X$5),1)","v":0},{"$f":"DataInput!U27","v":15},{"$f":"DataInput!S27","v":30},42,-27]
[{"$f":"IF(DataInput!A28<>\"\",DataInput!A28,\"\")","v":9700},{"$f":"SUM(DataInput!C28,DataInput!Y28)+(DataInput!U28-DataInput!E28)","v":21},{"$f":"SUM(DataInput!D28,DataInput!Z28)","v":12},{"$f":"DataInput!U28","v":9},{"$f":"SUM(DataInput!F28,DataInput!AB28)","v":0},{"$f":"SUM(DataInput!G28,DataInput!AC28)","v":0},{"$f":"SUM(DataInput!H28,DataInput!AD28)","v":0},{"$f":"DataInput!I28","v":0},{"$f":"SUM(DataInput!J28,DataInput!AF28)","v":0},{"$f":"SUM(DataInput!K28,DataInput!AG28)","v":0},{"$f":"SUM(DataInput!L28,DataInput!AH28)","v":0},{"$f":"SUM(DataInput!M28,DataInput!AI28)","v":0},{"$f":"SUM(DataInput!N28,DataInput!AJ28)","v":0},{"$f":"SUM(DataInput!O28,DataInput!AK28)","v":0},{"$f":"DataInput!P28","v":0},null,12,{"$f":"DataInput!R28","v":6},{"$f":"DataInput!Y28","v":0},{"$f":"IF(DataInput!U28-DataInput!E28>0,DataInput!U28-DataInput!E28,\"\")","v":9},{"$f":"IF(DataInput!W28-DataInput!I28>0,DataInput!W28-DataInput!I28,\"\")","v":""},null,15,19.5,-7.5,0,0,{"$f":"ROUNDDOWN((IF(AA29>0,IFERROR(IF(AVERAGE(DataInput!Q28:Q29)>AVERAGE(AA29,AA28),ROUNDDOWN(((((AA28-Z28)+(AA29-Z29))/2)*(A29-A28))/27+S19+T19,0),IF(((((DataInput!Q29-Z29)+(DataInput!Q28-Z28))/2)*(A29-A28))/27+S19+T19>0,ROUNDDOWN(((((DataInput!Q29-Z28)+(DataInput!Q28-Z28))/2)*(A29-A28))/27+S19+T19,0),0)),0),0)*$X$5),1)","v":0},0,{"$f":"ROUNDDOWN((IF(AC29>0,IFERROR(IF(((((DataInput!Q28-AC28)+(DataInput!Q29-AC29))/2)*(A29-A28))/27+S19+T19>0,ROUNDDOWN(((((DataInput!Q28-AC28)+(DataInput!Q29-AC29))/2)*(A29-A28))/27+S19+T19,0),0),0),0)*$X$5),1)","v":0},{"$f":"DataInput!U28","v":9},{"$f":"DataInput!S28","v":19},26.6,-17.600000000000001]
[{"$f":"IF(DataInput!A29<>\"\",DataInput!A29,\"\")","v":9725}]
[]
[{"$f":"IF(DataInput!A31<>\"\",DataInput!A31,\"\")","v":"Sta. 108+76"}]
[{"$f":"IF(DataInput!A32<>\"\",DataInput!A32,\"\")","v":10800},{"$f":"SUM(DataInput!C32,DataInput!Y32)+(DataInput!U32-DataInput!E32)","v":37},{"$f":"SUM(DataInput!D32,DataInput!Z32)","v":24},{"$f":"DataInput!U32","v":13},{"$f":"SUM(DataInput!F32,DataInput!AB32)","v":0},{"$f":"SUM(DataInput!G32,DataInput!AC32)","v":0},{"$f":"SUM(DataInput!H32,DataInput!AD32)","v":0},{"$f":"DataInput!I32","v":0},{"$f":"SUM(DataInput!J32,DataInput!AF32)","v":0},{"$f":"SUM(DataInput!K32,DataInput!AG32)","v":0},{"$f":"SUM(DataInput!L32,DataInput!AH32)","v":0},{"$f":"SUM(DataInput!M32,DataInput!AI32)","v":0},{"$f":"SUM(DataInput!N32,DataInput!AJ32)","v":0},{"$f":"SUM(DataInput!O32,DataInput!AK32)","v":0},{"$f":"DataInput!P32","v":0},null,{"$f":"SUM(C32,E32:G32,I32:L32,N32:P32)","v":24},{"$f":"DataInput!R32","v":28},{"$f":"DataInput!Y32","v":0},{"$f":"IF(DataInput!U32-DataInput!E32>0,DataInput!U32-DataInput!E32,\"\")","v":13},{"$f":"IF(DataInput!W32-DataInput!I32>0,DataInput!W32-DataInput!I32,\"\")","v":""},null,{"$f":"SUM(R32:V32)","v":41},{"$f":"ROUNDUP(($W32*$X$5),1)","v":53.3},{"$f":"ROUNDUP(SUM(Q32-X32),1)","v":-29.3},null,null,{"$f":"ROUNDDOWN((IF(AA33>0,IFERROR(IF(AVERAGE(DataInput!Q32:Q33)>AVERAGE(AA33,AA32),ROUNDDOWN(((((AA32-Z32)+(AA33-Z33))/2)*(A33-A32))/27+S12+T12,0),IF(((((DataInput!Q33-Z33)+(DataInput!Q32-Z32))/2)*(A33-A32))/27+S12+T12>0,ROUNDDOWN(((((DataInput!Q33-Z32)+(DataInput!Q32-Z32))/2)*(A33-A32))/27+S12+T12,0),0)),0),0)*$X$5),1)","v":0},null,{"$f":"ROUNDDOWN((IF(AC33>0,IFERROR(IF(((((DataInput!Q32-AC32)+(DataInput!Q33-AC33))/2)*(A33-A32))/27+S12+T12>0,ROUNDDOWN(((((DataInput!Q32-AC32)+(DataInput!Q33-AC33))/2)*(A33-A32))/27+S12+T12,0),0),0),0)*$X$5),1)","v":0},{"$f":"DataInput!U32","v":13},{"$f":"DataInput!S32","v":27},{"$f":"ROUNDUP((AF32*$AG$5),1)","v":37.799999999999997},{"$f":"ROUNDUP((AE32-AG32),1)","v":-24.8}]
[{"$f":"IF(DataInput!A33<>\"\",DataInput!A33,\"\")","v":10825},{"$f":"SUM(DataInput!C33,DataInput!Y33)+(DataInput!U33-DataInput!E33)","v":72},{"$f":"SUM(DataInput!D33,DataInput!Z33)","v":53},{"$f":"DataInput!U33","v":19},{"$f":"SUM(DataInput!F33,DataInput!AB33)","v":0},{"$f":"SUM(DataInput!G33,DataInput!AC33)","v":0},{"$f":"SUM(DataInput!H33,DataInput!AD33)","v":0},{"$f":"DataInput!I33","v":0},{"$f":"SUM(DataInput!J33,DataInput!AF33)","v":0},{"$f":"SUM(DataInput!K33,DataInput!AG33)","v":0},{"$f":"SUM(DataInput!L33,DataInput!AH33)","v":0},{"$f":"SUM(DataInput!M33,DataInput!AI33)","v":0},{"$f":"SUM(DataInput!N33,DataInput!AJ33)","v":0},{"$f":"SUM(DataInput!O33,DataInput!AK33)","v":0},{"$f":"DataInput!P33","v":0},null,{"$f":"SUM(C33,E33:G33,I33:L33,N33:P33)","v":53},{"$f":"DataInput!R33","v":46},{"$f":"DataInput!Y33","v":0},{"$f":"IF(DataInput!U33-DataInput!E33>0,DataInput!U33-DataInput!E33,\"\")","v":19},{"$f":"IF(DataInput!W33-DataInput!I33>0,DataInput!W33-DataInput!I33,\"\")","v":""},null,{"$f":"SUM(R33:V33)","v":65},{"$f":"ROUNDUP(($W33*$X$5),1)","v":84.5},{"$f":"ROUNDUP(SUM(Q33-X33),1)","v":-31.5},{"$f":"Z32","v":0},{"$f":"AA32","v":0},{"$f":"ROUNDDOWN((IF(AA34>0,IFERROR(IF(AVERAGE(DataInput!Q33:Q34)>AVERAGE(AA34,AA33),ROUNDDOWN(((((AA33-Z33)+(AA34-Z34))/2)*(A34-A33))/27+S13+T13,0),IF(((((DataInput!Q34-Z34)+(DataInput!Q33-Z33))/2)*(A34-A33))/27+S13+T13>0,ROUNDDOWN(((((DataInput!Q34-Z33)+(DataInput!Q33-Z33))/2)*(A34-A33))/27+S13+T13,0),0)),0),0)*$X$5),1)","v":0},{"$f":"AC32","v":0},{"$f":"ROUNDDOWN((IF(AC34>0,IFERROR(IF(((((DataInput!Q33-AC33)+(DataInput!Q34-AC34))/2)*(A34-A33))/27+S13+T13>0,ROUNDDOWN(((((DataInput!Q33-AC33)+(DataInput!Q34-AC34))/2)*(A34-A33))/27+S13+T13,0),0),0),0)*$X$5),1)","v":0},{"$f":"DataInput!U33","v":19},{"$f":"DataInput!S33","v":38},{"$f":"ROUNDUP((AF33*$AG$5),1)","v":53.2},{"$f":"ROUNDUP((AE33-AG33),1)","v":-34.200000000000003}]
[{"$f":"IF(DataInput!A34<>\"\",DataInput!A34,\"\")","v":10850},{"$f":"SUM(DataInput!C34,DataInput!Y34)+(DataInput!U34-DataInput!E34)","v":117},{"$f":"SUM(DataInput!D34,DataInput!Z34)","v":95},{"$f":"DataInput!U34","v":22},{"$f":"SUM(DataInput!F34,DataInput!AB34)","v":0},{"$f":"SUM(DataInput!G34,DataInput!AC34)","v":0},{"$f":"SUM(DataInput!H34,DataInput!AD34)","v":0},{"$f":"DataInput!I34","v":0},{"$f":"SUM(DataInput!J34,DataInput!AF34)","v":0},{"$f":"SUM(DataInput!K34,DataInput!AG34)","v":0},{"$f":"SUM(DataInput!L34,DataInput!AH34)","v":0},{"$f":"SUM(DataInput!M34,DataInput!AI34)","v":0},{"$f":"SUM(DataInput!N34,DataInput!AJ34)","v":0},{"$f":"SUM(DataInput!O34,DataInput!AK34)","v":0},{"$f":"DataInput!P34","v":0},null,95,{"$f":"DataInput!R34","v":46},{"$f":"DataInput!Y34","v":0},{"$f":"IF(DataInput!U34-DataInput!E34>0,DataInput!U34-DataInput!E34,\"\")","v":22},{"$f":"IF(DataInput!W34-DataInput!I34>0,DataInput!W34-DataInput!I34,\"\")","v":""},null,68,88.4,6.6,{"$f":"Z33","v":0},{"$f":"AA33","v":0},{"$f":"ROUNDDOWN((IF(AA35>0,IFERROR(IF(AVERAGE(DataInput!Q34:Q35)>AVERAGE(AA35,AA34),ROUNDDOWN(((((AA34-Z34)+(AA35-Z35))/2)*(A35-A34))/27+S14+T14,0),IF(((((DataInput!Q35-Z35)+(DataInput!Q34-Z34))/2)*(A35-A34))/27+S14+T14>0,ROUNDDOWN(((((DataInput!Q35-Z34)+(DataInput!Q34-Z34))/2)*(A35-A34))/27+S14+T14,0),0)),0),0)*$X$5),1)","v":0},{"$f":"AC33","v":0},{"$f":"ROUNDDOWN((IF(AC35>0,IFERROR(IF(((((DataInput!Q34-AC34)+(DataInput!Q35-AC35))/2)*(A35-A34))/27+S14+T14>0,ROUNDDOWN(((((DataInput!Q34-AC34)+(DataInput!Q35-AC35))/2)*(A35-A34))/27+S14+T14,0),0),0),0)*$X$5),1)","v":0},{"$f":"DataInput!U34","v":22},{"$f":"DataInput!S34","v":45},63,-41]
[{"$f":"IF(DataInput!A35<>\"\",DataInput!A35,\"\")","v":10875},{"$f":"SUM(DataInput!C35,DataInput!Y35)+(DataInput!U35-DataInput!E35)","v":6},{"$f":"SUM(DataInput!D35,DataInput!Z35)","v":5},{"$f":"DataInput!U35","v":1},{"$f":"SUM(DataInput!F35,DataInput!AB35)","v":0},{"$f":"SUM(DataInput!G35,DataInput!AC35)","v":0},{"$f":"SUM(DataInput!H35,DataInput!AD35)","v":0},{"$f":"DataInput!I35","v":0},{"$f":"SUM(DataInput!J35,DataInput!AF35)","v":0},{"$f":"SUM(DataInput!K35,DataInput!AG35)","v":0},{"$f":"SUM(DataInput!L35,DataInput!AH35)","v":0},{"$f":"SUM(DataInput!M35,DataInput!AI35)","v":0},{"$f":"SUM(DataInput!N35,DataInput!AJ35)","v":0},{"$f":"SUM(DataInput!O35,DataInput!AK35)","v":0},{"$f":"DataInput!P35","v":0},null,5,{"$f":"DataInput!R35","v":1},{"$f":"DataInput!Y35","v":0},{"$f":"IF(DataInput!U35-DataInput!E35>0,DataInput!U35-DataInput!E35,\"\")","v":1},{"$f":"IF(DataInput!W35-DataInput!I35>0,DataInput!W35-DataInput!I35,\"\")","v":""},null,2,2.6,2.4,0,0,{"$f":"ROUNDDOWN((IF(AA36>0,IFERROR(IF(AVERAGE(DataInput!Q35:Q36)>AVERAGE(AA36,AA35),ROUNDDOWN(((((AA35-Z35)+(AA36-Z36))/2)*(A36-A35))/27+S15+T15,0),IF(((((DataInput!Q36-Z36)+(DataInput!Q35-Z35))/2)*(A36-A35))/27+S15+T15>0,ROUNDDOWN(((((DataInput!Q36-Z35)+(DataInput!Q35-Z35))/2)*(A36-A35))/27+S15+T15,0),0)),0),0)*$X$5),1)","v":0},0,{"$f":"ROUNDDOWN((IF(AC36>0,IFERROR(IF(((((DataInput!Q35-AC35)+(DataInput!Q36-AC36))/2)*(A36-A35))/27+S15+T15>0,ROUNDDOWN(((((DataInput!Q35-AC35)+(DataInput!Q36-AC36))/2)*(A36-A35))/27+S15+T15,0),0),0),0)*$X$5),1)","v":0},{"$f":"DataInput!U35","v":1},{"$f":"DataInput!S35","v":2},2.8,-1.8]
[{"$f":"IF(DataInput!A36<>\"\",DataInput!A36,\"\")","v":10876},{"$f":"SUM(DataInput!C36,DataInput!Y36)+(DataInput!U36-DataInput!E36)","v":139},{"$f":"SUM(DataInput!D36,DataInput!Z36)","v":117},{"$f":"DataInput!U36","v":22},{"$f":"SUM(DataInput!F36,DataInput!AB36)","v":0},{"$f":"SUM(DataInput!G36,DataInput!AC36)","v":0},{"$f":"SUM(DataInput!H36,DataInput!AD36)","v":0},{"$f":"DataInput!I36","v":0},{"$f":"SUM(DataInput!J36,DataInput!AF36)","v":0},{"$f":"SUM(DataInput!K36,DataInput!AG36)","v":0},{"$f":"SUM(DataInput!L36,DataInput!AH36)","v":0},{"$f":"SUM(DataInput!M36,DataInput!AI36)","v":0},{"$f":"SUM(DataInput!N36,DataInput!AJ36)","v":0},{"$f":"SUM(DataInput!O36,DataInput!AK36)","v":0},{"$f":"DataInput!P36","v":0},null,117,{"$f":"DataInput!R36","v":26},{"$f":"DataInput!Y36","v":0},{"$f":"IF(DataInput!U36-DataInput!E36>0,DataInput!U36-DataInput!E36,\"\")","v":22},{"$f":"IF(DataInput!W36-DataInput!I36>0,DataInput!W36-DataInput!I36,\"\")","v":""},null,48,62.4,54.6,0,0,{"$f":"ROUNDDOWN((IF(AA37>0,IFERROR(IF(AVERAGE(DataInput!Q36:Q37)>AVERAGE(AA37,AA36),ROUNDDOWN(((((AA36-Z36)+(AA37-Z37))/2)*(A37-A36))/27+S16+T16,0),IF(((((DataInput!Q37-Z37)+(DataInput!Q36-Z36))/2)*(A37-A36))/27+S16+T16>0,ROUNDDOWN(((((DataInput!Q37-Z36)+(DataInput!Q36-Z36))/2)*(A37-A36))/27+S16+T16,0),0)),0),0)*$X$5),1)","v":0},0,{"$f":"ROUNDDOWN((IF(AC37>0,IFERROR(IF(((((DataInput!Q36-AC36)+(DataInput!Q37-AC37))/2)*(A37-A36))/27+S16+T16>0,ROUNDDOWN(((((DataInput!Q36-AC36)+(DataInput!Q37-AC37))/2)*(A37-A36))/27+S16+T16,0),0),0),0)*$X$5),1)","v":0},{"$f":"DataInput!U36","v":22},{"$f":"DataInput!S36","v":43},60.2,-38.200000000000003]
[{"$f":"IF(DataInput!A37<>\"\",DataInput!A37,\"\")","v":10900},{"$f":"SUM(DataInput!C37,DataInput!Y37)+(DataInput!U37-DataInput!E37)","v":106},{"$f":"SUM(DataInput!D37,DataInput!Z37)","v":89},{"$f":"DataInput!U37","v":17},{"$f":"SUM(DataInput!F37,DataInput!AB37)","v":0},{"$f":"SUM(DataInput!G37,DataInput!AC37)","v":0},{"$f":"SUM(DataInput!H37,DataInput!AD37)","v":0},{"$f":"DataInput!I37","v":0},{"$f":"SUM(DataInput!J37,DataInput!AF37)","v":0},{"$f":"SUM(DataInput!K37,DataInput!AG37)","v":0},{"$f":"SUM(DataInput!L37,DataInput!AH37)","v":0},{"$f":"SUM(DataInput!M37,DataInput!AI37)","v":0},{"$f":"SUM(DataInput!N37,DataInput!AJ37)","v":0},{"$f":"SUM(DataInput!O37,DataInput!AK37)","v":0},{"$f":"DataInput!P37","v":0},null,89,{"$f":"DataInput!R37","v":10},{"$f":"DataInput!Y37","v":0},{"$f":"IF(DataInput!U37-DataInput!E37>0,DataInput!U37-DataInput!E37,\"\")","v":17},{"$f":"IF(DataInput!W37-DataInput!I37>0,DataInput!W37-DataInput!I37,\"\")","v":""},null,27,35.1,53.9,0,0,{"$f":"ROUNDDOWN((IF(AA38>0,IFERROR(IF(AVERAGE(DataInput!Q37:Q38)>AVERAGE(AA38,AA37),ROUNDDOWN(((((AA37-Z37)+(AA38-Z38))/2)*(A38-A37))/27+S17+T17,0),IF(((((DataInput!Q38-Z38)+(DataInput!Q37-Z37))/2)*(A38-A37))/27+S17+T17>0,ROUNDDOWN(((((DataInput!Q38-Z37)+(DataInput!Q37-Z37))/2)*(A38-A37))/27+S17+T17,0),0)),0),0)*$X$5),1)","v":0},0,{"$f":"ROUNDDOWN((IF(AC38>0,IFERROR(IF(((((DataInput!Q37-AC37)+(DataInput!Q38-AC38))/2)*(A38-A37))/27+S17+T17>0,ROUNDDOWN(((((DataInput!Q37-AC37)+(DataInput!Q38-AC38))/2)*(A38-A37))/27+S17+T17,0),0),0),0)*$X$5),1)","v":0},{"$f":"DataInput!U37","v":17},{"$f":"DataInput!S37","v":34},47.6,-30.6]
[{"$f":"IF(DataInput!A38<>\"\",DataInput!A38,\"\")","v":10925},{"$f":"SUM(DataInput!C38,DataInput!Y38)+(DataInput!U38-DataInput!E38)","v":49},{"$f":"SUM(DataInput!D38,DataInput!Z38)","v":38},{"$f":"DataInput!U38","v":11},{"$f":"SUM(DataInput!F38,DataInput!AB38)","v":0},{"$f":"SUM(DataInput!G38,DataInput!AC38)","v":0},{"$f":"SUM(DataInput!H38,DataInput!AD38)","v":0},{"$f":"DataInput!I38","v":0},{"$f":"SUM(DataInput!J38,DataInput!AF38)","v":0},{"$f":"SUM(DataInput!K38,DataInput!AG38)","v":0},{"$f":"SUM(DataInput!L38,DataInput!AH38)","v":0},{"$f":"SUM(DataInput!M38,DataInput!AI38)","v":0},{"$f":"SUM(DataInput!N38,DataInput!AJ38)","v":0},{"$f":"SUM(DataInput!O38,DataInput!AK38)","v":0},{"$f":"DataInput!P38","v":0},null,38,{"$f":"DataInput!R38","v":1},{"$f":"DataInput!Y38","v":0},{"$f":"IF(DataInput!U38-DataInput!E38>0,DataInput!U38-DataInput!E38,\"\")","v":11},{"$f":"IF(DataInput!W38-DataInput!I38>0,DataInput!W38-DataInput!I38,\"\")","v":""},null,12,15.6,22.4,0,0,{"$f":"ROUNDDOWN((IF(AA39>0,IFERROR(IF(AVERAGE(DataInput!Q38:Q39)>AVERAGE(AA39,AA38),ROUNDDOWN(((((AA38-Z38)+(AA39-Z39))/2)*(A39-A38))/27+S18+T18,0),IF(((((DataInput!Q39-Z39)+(DataInput!Q38-Z38))/2)*(A39-A38))/27+S18+T18>0,ROUNDDOWN(((((DataInput!Q39-Z38)+(DataInput!Q38-Z38))/2)*(A39-A38))/27+S18+T18,0),0)),0),0)*$X$5),1)","v":0},0,{"$f":"ROUNDDOWN((IF(AC39>0,IFERROR(IF(((((DataInput!Q38-AC38)+(DataInput!Q39-AC39))/2)*(A39-A38))/27+S18+T18>0,ROUNDDOWN(((((DataInput!Q38-AC38)+(DataInput!Q39-AC39))/2)*(A39-A38))/27+S18+T18,0),0),0),0)*$X$5),1)","v":0},{"$f":"DataInput!U38","v":11},{"$f":"DataInput!S38","v":22},30.8,-19.8]
[{"$f":"IF(DataInput!A39<>\"\",DataInput!A39,\"\")","v":10950}]
[]
[{"$f":"IF(DataInput!A41<>\"\",DataInput!A41,\"\")","v":"Sta. 383+30"}]
[{"$f":"IF(DataInput!A42<>\"\",DataInput!A42,\"\")","v":38225},{"$f":"SUM(DataInput!C42,DataInput!Y42)+(DataInput!U42-DataInput!E42)","v":40},{"$f":"SUM(DataInput!D42,DataInput!Z42)","v":27},{"$f":"DataInput!U42","v":13},{"$f":"SUM(DataInput!F42,DataInput!AB42)","v":0},{"$f":"SUM(DataInput!G42,DataInput!AC42)","v":0},{"$f":"SUM(DataInput!H42,DataInput!AD42)","v":0},{"$f":"DataInput!I42","v":0},{"$f":"SUM(DataInput!J42,DataInput!AF42)","v":0},{"$f":"SUM(DataInput!K42,DataInput!AG42)","v":0},{"$f":"SUM(DataInput!L42,DataInput!AH42)","v":0},{"$f":"SUM(DataInput!M42,DataInput!AI42)","v":0},{"$f":"SUM(DataInput!N42,DataInput!AJ42)","v":0},{"$f":"SUM(DataInput!O42,DataInput!AK42)","v":0},{"$f":"DataInput!P42","v":0},null,{"$f":"SUM(C42,E42:G42,I42:L42,N42:P42)","v":27},{"$f":"DataInput!R42","v":13},{"$f":"DataInput!Y42","v":0},{"$f":"IF(DataInput!U42-DataInput!E42>0,DataInput!U42-DataInput!E42,\"\")","v":13},{"$f":"IF(DataInput!W42-DataInput!I42>0,DataInput!W42-DataInput!I42,\"\")","v":""},null,{"$f":"SUM(R42:V42)","v":26},{"$f":"ROUNDUP(($W42*$X$5),1)","v":33.799999999999997},{"$f":"ROUNDUP(SUM(Q42-X42),1)","v":-6.8},null,null,{"$f":"ROUNDDOWN((IF(AA43>0,IFERROR(IF(AVERAGE(DataInput!Q42:Q43)>AVERAGE(AA43,AA42),ROUNDDOWN(((((AA42-Z42)+(AA43-Z43))/2)*(A43-A42))/27+S12+T12,0),IF(((((DataInput!Q43-Z43)+(DataInput!Q42-Z42))/2)*(A43-A42))/27+S12+T12>0,ROUNDDOWN(((((DataInput!Q43-Z42)+(DataInput!Q42-Z42))/2)*(A43-A42))/27+S12+T12,0),0)),0),0)*$X$5),1)","v":0},null,{"$f":"ROUNDDOWN((IF(AC43>0,IFERROR(IF(((((DataInput!Q42-AC42)+(DataInput!Q43-AC43))/2)*(A43-A42))/27+S12+T12>0,ROUNDDOWN(((((DataInput!Q42-AC42)+(DataInput!Q43-AC43))/2)*(A43-A42))/27+S12+T12,0),0),0),0)*$X$5),1)","v":0},{"$f":"DataInput!U42","v":13},{"$f":"DataInput!S42","v":25},{"$f":"ROUNDUP((AF42*$AG$5),1)","v":35},{"$f":"ROUNDUP((AE42-AG42),1)","v":-22}]
[{"$f":"IF(DataInput!A43<>\"\",DataInput!A43,\"\")","v":38250},{"$f":"SUM(DataInput!C43,DataInput!Y43)+(DataInput!U43-DataInput!E43)","v":59},{"$f":"SUM(DataInput!D43,DataInput!Z43)","v":37},{"$f":"DataInput!U43","v":22},{"$f":"SUM(DataInput!F43,DataInput!AB43)","v":0},{"$f":"SUM(DataInput!G43,DataInput!AC43)","v":0},{"$f":"SUM(DataInput!H43,DataInput!AD43)","v":0},{"$f":"DataInput!I43","v":0},{"$f":"SUM(DataInput!J43,DataInput!AF43)","v":0},{"$f":"SUM(DataInput!K43,DataInput!AG43)","v":0},{"$f":"SUM(DataInput!L43,DataInput!AH43)","v":0},{"$f":"SUM(DataInput!M43,DataInput!AI43)","v":0},{"$f":"SUM(DataInput!N43,DataInput!AJ43)","v":0},{"$f":"SUM(DataInput!O43,DataInput!AK43)","v":0},{"$f":"DataInput!P43","v":0},null,{"$f":"SUM(C43,E43:G43,I43:L43,N43:P43)","v":37},{"$f":"DataInput!R43","v":85},{"$f":"DataInput!Y43","v":0},{"$f":"IF(DataInput!U43-DataInput!E43>0,DataInput!U43-DataInput!E43,\"\")","v":22},{"$f":"IF(DataInput!W43-DataInput!I43>0,DataInput!W43-DataInput!I43,\"\")","v":""},null,{"$f":"SUM(R43:V43)","v":107},{"$f":"ROUNDUP(($W43*$X$5),1)","v":139.1},{"$f":"ROUNDUP(SUM(Q43-X43),1)","v":-102.1},{"$f":"Z42","v":0},{"$f":"AA42","v":0},{"$f":"ROUNDDOWN((IF(AA44>0,IFERROR(IF(AVERAGE(DataInput!Q43:Q44)>AVERAGE(AA44,AA43),ROUNDDOWN(((((AA43-Z43)+(AA44-Z44))/2)*(A44-A43))/27+S13+T13,0),IF(((((DataInput!Q44-Z44)+(DataInput!Q43-Z43))/2)*(A44-A43))/27+S13+T13>0,ROUNDDOWN(((((DataInput!Q44-Z43)+(DataInput!Q43-Z43))/2)*(A44-A43))/27+S13+T13,0),0)),0),0)*$X$5),1)","v":0},{"$f":"AC42","v":0},{"$f":"ROUNDDOWN((IF(AC44>0,IFERROR(IF(((((DataInput!Q43-AC43)+(DataInput!Q44-AC44))/2)*(A44-A43))/27+S13+T13>0,ROUNDDOWN(((((DataInput!Q43-AC43)+(DataInput!Q44-AC44))/2)*(A44-A43))/27+S13+T13,0),0),0),0)*$X$5),1)","v":0},{"$f":"DataInput!U43","v":22},{"$f":"DataInput!S43","v":45},{"$f":"ROUNDUP((AF43*$AG$5),1)","v":63},{"$f":"ROUNDUP((AE43-AG43),1)","v":-41}]
[{"$f":"IF(DataInput!A44<>\"\",DataInput!A44,\"\")","v":38275},{"$f":"SUM(DataInput!C44,DataInput!Y44)+(DataInput!U44-DataInput!E44)","v":56},{"$f":"SUM(DataInput!D44,DataInput!Z44)","v":28},{"$f":"DataInput!U44","v":28},{"$f":"SUM(DataInput!F44,DataInput!AB44)","v":0},{"$f":"SUM(DataInput!G44,DataInput!AC44)","v":0},{"$f":"SUM(DataInput!H44,DataInput!AD44)","v":0},{"$f":"DataInput!I44","v":0},{"$f":"SUM(DataInput!J44,DataInput!AF44)","v":0},{"$f":"SUM(DataInput!K44,DataInput!AG44)","v":0},{"$f":"SUM(DataInput!L44,DataInput!AH44)","v":0},{"$f":"SUM(DataInput!M44,DataInput!AI44)","v":0},{"$f":"SUM(DataInput!N44,DataInput!AJ44)","v":0},{"$f":"SUM(DataInput!O44,DataInput!AK44)","v":0},{"$f":"DataInput!P44","v":0},null,28,{"$f":"DataInput!R44","v":367},{"$f":"DataInput!Y44","v":0},{"$f":"IF(DataInput!U44-DataInput!E44>0,DataInput!U44-DataInput!E44,\"\")","v":28},{"$f":"IF(DataInput!W44-DataInput!I44>0,DataInput!W44-DataInput!I44,\"\")","v":""},null,395,513.5,-485.5,{"$f":"Z43","v":0},{"$f":"AA43","v":0},{"$f":"ROUNDDOWN((IF(AA45>0,IFERROR(IF(AVERAGE(DataInput!Q44:Q45)>AVERAGE(AA45,AA44),ROUNDDOWN(((((AA44-Z44)+(AA45-Z45))/2)*(A45-A44))/27+S14+T14,0),IF(((((DataInput!Q45-Z45)+(DataInput!Q44-Z44))/2)*(A45-A44))/27+S14+T14>0,ROUNDDOWN(((((DataInput!Q45-Z44)+(DataInput!Q44-Z44))/2)*(A45-A44))/27+S14+T14,0),0)),0),0)*$X$5),1)","v":0},{"$f":"AC43","v":0},{"$f":"ROUNDDOWN((IF(AC45>0,IFERROR(IF(((((DataInput!Q44-AC44)+(DataInput!Q45-AC45))/2)*(A45-A44))/27+S14+T14>0,ROUNDDOWN(((((DataInput!Q44-AC44)+(DataInput!Q45-AC45))/2)*(A45-A44))/27+S14+T14,0),0),0),0)*$X$5),1)","v":0},{"$f":"DataInput!U44","v":28},{"$f":"DataInput!S44","v":38},53.2,-25.2]
[{"$f":"IF(DataInput!A45<>\"\",DataInput!A45,\"\")","v":38300},{"$f":"SUM(DataInput!C45,DataInput!Y45)+(DataInput!U45-DataInput!E45)","v":53},{"$f":"SUM(DataInput!D45,DataInput!Z45)","v":31},{"$f":"DataInput!U45","v":22},{"$f":"SUM(DataInput!F45,DataInput!AB45)","v":0},{"$f":"SUM(DataInput!G45,DataInput!AC45)","v":0},{"$f":"SUM(DataInput!H45,DataInput!AD45)","v":0},{"$f":"DataInput!I45","v":0},{"$f":"SUM(DataInput!J45,DataInput!AF45)","v":0},{"$f":"SUM(DataInput!K45,DataInput!AG45)","v":0},{"$f":"SUM(DataInput!L45,DataInput!AH45)","v":0},{"$f":"SUM(DataInput!M45,DataInput!AI45)","v":0},{"$f":"SUM(DataInput!N45,DataInput!AJ45)","v":0},{"$f":"SUM(DataInput!O45,DataInput!AK45)","v":0},{"$f":"DataInput!P45","v":0},null,31,{"$f":"DataInput!R45","v":463},{"$f":"DataInput!Y45","v":0},{"$f":"IF(DataInput!U45-DataInput!E45>0,DataInput!U45-DataInput!E45,\"\")","v":22},{"$f":"IF(DataInput!W45-DataInput!I45>0,DataInput!W45-DataInput!I45,\"\")","v":""},null,485,630.5,-599.5,0,0,{"$f":"ROUNDDOWN((IF(AA46>0,IFERROR(IF(AVERAGE(DataInput!Q45:Q46)>AVERAGE(AA46,AA45),ROUNDDOWN(((((AA45-Z45)+(AA46-Z46))/2)*(A46-A45))/27+S15+T15,0),IF(((((DataInput!Q46-Z46)+(DataInput!Q45-Z45))/2)*(A46-A45))/27+S15+T15>0,ROUNDDOWN(((((DataInput!Q46-Z45)+(DataInput!Q45-Z45))/2)*(A46-A45))/27+S15+T15,0),0)),0),0)*$X$5),1)","v":0},0,{"$f":"ROUNDDOWN((IF(AC46>0,IFERROR(IF(((((DataInput!Q45-AC45)+(DataInput!Q46-AC46))/2)*(A46-A45))/27+S15+T15>0,ROUNDDOWN(((((DataInput!Q45-AC45)+(DataInput!Q46-AC46))/2)*(A46-A45))/27+S15+T15,0),0),0),0)*$X$5),1)","v":0},{"$f":"DataInput!U45","v":22},{"$f":"DataInput!S45","v":41},57.4,-35.4]
[{"$f":"IF(DataInput!A46<>\"\",DataInput!A46,\"\")","v":38325},{"$f":"SUM(DataInput!C46,DataInput!Y46)+(DataInput!U46-DataInput!E46)","v":28},{"$f":"SUM(DataInput!D46,DataInput!Z46)","v":7},{"$f":"DataInput!U46","v":21},{"$f":"SUM(DataInput!F46,DataInput!AB46)","v":0},{"$f":"SUM(DataInput!G46,DataInput!AC46)","v":0},{"$f":"SUM(DataInput!H46,DataInput!AD46)","v":0},{"$f":"DataInput!I46","v":0},{"$f":"SUM(DataInput!J46,DataInput!AF46)","v":0},{"$f":"SUM(DataInput!K46,DataInput!AG46)","v":0},{"$f":"SUM(DataInput!L46,DataInput!AH46)","v":0},{"$f":"SUM(DataInput!M46,DataInput!AI46)","v":0},{"$f":"SUM(DataInput!N46,DataInput!AJ46)","v":0},{"$f":"SUM(DataInput!O46,DataInput!AK46)","v":0},{"$f":"DataInput!P46","v":0},null,7,{"$f":"DataInput!R46","v":78},{"$f":"DataInput!Y46","v":0},{"$f":"IF(DataInput!U46-DataInput!E46>0,DataInput!U46-DataInput!E46,\"\")","v":21},{"$f":"IF(DataInput!W46-DataInput!I46>0,DataInput!W46-DataInput!I46,\"\")","v":""},null,99,128.69999999999999,-121.7,0,0,{"$f":"ROUNDDOWN((IF(AA47>0,IFERROR(IF(AVERAGE(DataInput!Q46:Q47)>AVERAGE(AA47,AA46),ROUNDDOWN(((((AA46-Z46)+(AA47-Z47))/2)*(A47-A46))/27+S16+T16,0),IF(((((DataInput!Q47-Z47)+(DataInput!Q46-Z46))/2)*(A47-A46))/27+S16+T16>0,ROUNDDOWN(((((DataInput!Q47-Z46)+(DataInput!Q46-Z46))/2)*(A47-A46))/27+S16+T16,0),0)),0),0)*$X$5),1)","v":0},0,{"$f":"ROUNDDOWN((IF(AC47>0,IFERROR(IF(((((DataInput!Q46-AC46)+(DataInput!Q47-AC47))/2)*(A47-A46))/27+S16+T16>0,ROUNDDOWN(((((DataInput!Q46-AC46)+(DataInput!Q47-AC47))/2)*(A47-A46))/27+S16+T16,0),0),0),0)*$X$5),1)","v":0},{"$f":"DataInput!U46","v":21},{"$f":"DataInput!S46","v":12},16.8,4.2]
[{"$f":"IF(DataInput!A47<>\"\",DataInput!A47,\"\")","v":38330.14},{"$f":"SUM(DataInput!C47,DataInput!Y47)+(DataInput!U47-DataInput!E47)","v":19},{"$f":"SUM(DataInput!D47,DataInput!Z47)","v":19},{"$f":"DataInput!U47","v":0},{"$f":"SUM(DataInput!F47,DataInput!AB47)","v":0},{"$f":"SUM(DataInput!G47,DataInput!AC47)","v":0},{"$f":"SUM(DataInput!H47,DataInput!AD47)","v":0},{"$f":"DataInput!I47","v":0},{"$f":"SUM(DataInput!J47,DataInput!AF47)","v":0},{"$f":"SUM(DataInput!K47,DataInput!AG47)","v":0},{"$f":"SUM(DataInput!L47,DataInput!AH47)","v":0},{"$f":"SUM(DataInput!M47,DataInput!AI47)","v":0},{"$f":"SUM(DataInput!N47,DataInput!AJ47)","v":0},{"$f":"SUM(DataInput!O47,DataInput!AK47)","v":0},{"$f":"DataInput!P47","v":0},null,19,{"$f":"DataInput!R47","v":222},{"$f":"DataInput!Y47","v":0},{"$f":"IF(DataInput!U47-DataInput!E47>0,DataInput!U47-DataInput!E47,\"\")","v":""},{"$f":"IF(DataInput!W47-DataInput!I47>0,DataInput!W47-DataInput!I47,\"\")","v":""},null,222,288.60000000000002,-269.60000000000002,0,0,{"$f":"ROUNDDOWN((IF(AA48>0,IFERROR(IF(AVERAGE(DataInput!Q47:Q48)>AVERAGE(AA48,AA47),ROUNDDOWN(((((AA47-Z47)+(AA48-Z48))/2)*(A48-A47))/27+S17+T17,0),IF(((((DataInput!Q48-Z48)+(DataInput!Q47-Z47))/2)*(A48-A47))/27+S17+T17>0,ROUNDDOWN(((((DataInput!Q48-Z47)+(DataInput!Q47-Z47))/2)*(A48-A47))/27+S17+T17,0),0)),0),0)*$X$5),1)","v":0},0,{"$f":"ROUNDDOWN((IF(AC48>0,IFERROR(IF(((((DataInput!Q47-AC47)+(DataInput!Q48-AC48))/2)*(A48-A47))/27+S17+T17>0,ROUNDDOWN(((((DataInput!Q47-AC47)+(DataInput!Q48-AC48))/2)*(A48-A47))/27+S17+T17,0),0),0),0)*$X$5),1)","v":0},{"$f":"DataInput!U47","v":0},{"$f":"DataInput!S47","v":45},63,-63]
[{"$f":"IF(DataInput!A48<>\"\",DataInput!A48,\"\")","v":38350},{"$f":"SUM(DataInput!C48,DataInput!Y48)+(DataInput!U48-DataInput!E48)","v":49},{"$f":"SUM(DataInput!D48,DataInput!Z48)","v":27},{"$f":"DataInput!U48","v":22},{"$f":"SUM(DataInput!F48,DataInput!AB48)","v":0},{"$f":"SUM(DataInput!G48,DataInput!AC48)","v":0},{"$f":"SUM(DataInput!H48,DataInput!AD48)","v":0},{"$f":"DataInput!I48","v":0},{"$f":"SUM(DataInput!J48,DataInput!AF48)","v":0},{"$f":"SUM(DataInput!K48,DataInput!AG48)","v":0},{"$f":"SUM(DataInput!L48,DataInput!AH48)","v":0},{"$f":"SUM(DataInput!M48,DataInput!AI48)","v":0},{"$f":"SUM(DataInput!N48,DataInput!AJ48)","v":0},{"$f":"SUM(DataInput!O48,DataInput!AK48)","v":0},{"$f":"DataInput!P48","v":0},null,27,{"$f":"DataInput!R48","v":83},{"$f":"DataInput!Y48","v":0},{"$f":"IF(DataInput!U48-DataInput!E48>0,DataInput!U48-DataInput!E48,\"\")","v":22},{"$f":"IF(DataInput!W48-DataInput!I48>0,DataInput!W48-DataInput!I48,\"\")","v":""},null,105,136.5,-109.5,0,0,{"$f":"ROUNDDOWN((IF(AA49>0,IFERROR(IF(AVERAGE(DataInput!Q48:Q49)>AVERAGE(AA49,AA48),ROUNDDOWN(((((AA48-Z48)+(AA49-Z49))/2)*(A49-A48))/27+S18+T18,0),IF(((((DataInput!Q49-Z49)+(DataInput!Q48-Z48))/2)*(A49-A48))/27+S18+T18>0,ROUNDDOWN(((((DataInput!Q49-Z48)+(DataInput!Q48-Z48))/2)*(A49-A48))/27+S18+T18,0),0)),0),0)*$X$5),1)","v":0},0,{"$f":"ROUNDDOWN((IF(AC49>0,IFERROR(IF(((((DataInput!Q48-AC48)+(DataInput!Q49-AC49))/2)*(A49-A48))/27+S18+T18>0,ROUNDDOWN(((((DataInput!Q48-AC48)+(DataInput!Q49-AC49))/2)*(A49-A48))/27+S18+T18,0),0),0),0)*$X$5),1)","v":0},{"$f":"DataInput!U48","v":22},{"$f":"DataInput!S48","v":44},61.6,-39.6]
[{"$f":"IF(DataInput!A49<>\"\",DataInput!A49,\"\")","v":38375},{"$f":"SUM(DataInput!C49,DataInput!Y49)+(DataInput!U49-DataInput!E49)","v":41},{"$f":"SUM(DataInput!D49,DataInput!Z49)","v":27},{"$f":"DataInput!U49","v":14},{"$f":"SUM(DataInput!F49,DataInput!AB49)","v":0},{"$f":"SUM(DataInput!G49,DataInput!AC49)","v":0},{"$f":"SUM(DataInput!H49,DataInput!AD49)","v":0},{"$f":"DataInput!I49","v":0},{"$f":"SUM(DataInput!J49,DataInput!AF49)","v":0},{"$f":"SUM(DataInput!K49,DataInput!AG49)","v":0},{"$f":"SUM(DataInput!L49,DataInput!AH49)","v":0},{"$f":"SUM(DataInput!M49,DataInput!AI49)","v":0},{"$f":"SUM(DataInput!N49,DataInput!AJ49)","v":0},{"$f":"SUM(DataInput!O49,DataInput!AK49)","v":0},{"$f":"DataInput!P49","v":0},null,27,{"$f":"DataInput!R49","v":16},{"$f":"DataInput!Y49","v":0},{"$f":"IF(DataInput!U49-DataInput!E49>0,DataInput!U49-DataInput!E49,\"\")","v":14},{"$f":"IF(DataInput!W49-DataInput!I49>0,DataInput!W49-DataInput!I49,\"\")","v":""},null,30,39,-12,0,0,{"$f":"ROUNDDOWN((IF(AA50>0,IFERROR(IF(AVERAGE(DataInput!Q49:Q50)>AVERAGE(AA50,AA49),ROUNDDOWN(((((AA49-Z49)+(AA50-Z50))/2)*(A50-A49))/27+S19+T19,0),IF(((((DataInput!Q50-Z50)+(DataInput!Q49-Z49))/2)*(A50-A49))/27+S19+T19>0,ROUNDDOWN(((((DataInput!Q50-Z49)+(DataInput!Q49-Z49))/2)*(A50-A49))/27+S19+T19,0),0)),0),0)*$X$5),1)","v":0},0,{"$f":"ROUNDDOWN((IF(AC50>0,IFERROR(IF(((((DataInput!Q49-AC49)+(DataInput!Q50-AC50))/2)*(A50-A49))/27+S19+T19>0,ROUNDDOWN(((((DataInput!Q49-AC49)+(DataInput!Q50-AC50))/2)*(A50-A49))/27+S19+T19,0),0),0),0)*$X$5),1)","v":0},{"$f":"DataInput!U49","v":14},{"$f":"DataInput!S49","v":27},37.799999999999997,-23.8]
[{"$f":"IF(DataInput!A50<>\"\",DataInput!A50,\"\")","v":38400},{"$f":"SUM(DataInput!C50,DataInput!Y50)+(DataInput!U50-DataInput!E50)","v":30},{"$f":"SUM(DataInput!D50,DataInput!Z50)","v":22},{"$f":"DataInput!U50","v":8},{"$f":"SUM(DataInput!F50,DataInput!AB50)","v":0},{"$f":"SUM(DataInput!G50,DataInput!AC50)","v":0},{"$f":"SUM(DataInput!H50,DataInput!AD50)","v":0},{"$f":"DataInput!I50","v":0},{"$f":"SUM(DataInput!J50,DataInput!AF50)","v":0},{"$f":"SUM(DataInput!K50,DataInput!AG50)","v":0},{"$f":"SUM(DataInput!L50,DataInput!AH50)","v":0},{"$f":"SUM(DataInput!M50,DataInput!AI50)","v":0},{"$f":"SUM(DataInput!N50,DataInput!AJ50)","v":0},{"$f":"SUM(DataInput!O50,DataInput!AK50)","v":0},{"$f":"DataInput!P50","v":0},null,22,{"$f":"DataInput!R50","v":0},{"$f":"DataInput!Y50","v":0},{"$f":"IF(DataInput!U50-DataInput!E50>0,DataInput!U50-DataInput!E50,\"\")","v":8},{"$f":"IF(DataInput!W50-DataInput!I50>0,DataInput!W50-DataInput!I50,\"\")","v":""},null,8,10.4,11.6,0,0,{"$f":"ROUNDDOWN((IF(AA51>0,IFERROR(IF(AVERAGE(DataInput!Q50:Q51)>AVERAGE(AA51,AA50),ROUNDDOWN(((((AA50-Z50)+(AA51-Z51))/2)*(A51-A50))/27+S20+T20,0),IF(((((DataInput!Q51-Z51)+(DataInput!Q50-Z50))/2)*(A51-A50))/27+S20+T20>0,ROUNDDOWN(((((DataInput!Q51-Z50)+(DataInput!Q50-Z50))/2)*(A51-A50))/27+S20+T20,0),0)),0),0)*$X$5),1)","v":0},0,{"$f":"ROUNDDOWN((IF(AC51>0,IFERROR(IF(((((DataInput!Q50-AC50)+(DataInput!Q51-AC51))/2)*(A51-A50))/27+S20+T20>0,ROUNDDOWN(((((DataInput!Q50-AC50)+(DataInput!Q51-AC51))/2)*(A51-A50))/27+S20+T20,0),0),0),0)*$X$5),1)","v":0},{"$f":"DataInput!U50","v":8},{"$f":"DataInput!S50","v":16},22.4,-14.4]
[{"$f":"IF(DataInput!A51<>\"\",DataInput!A51,\"\")","v":38425},{"$f":"SUM(DataInput!C51,DataInput!Y51)+(DataInput!U51-DataInput!E51)","v":23},{"$f":"SUM(DataInput!D51,DataInput!Z51)","v":17},{"$f":"DataInput!U51","v":6},{"$f":"SUM(DataInput!F51,DataInput!AB51)","v":0},{"$f":"SUM(DataInput!G51,DataInput!AC51)","v":0},{"$f":"SUM(DataInput!H51,DataInput!AD51)","v":0},{"$f":"DataInput!I51","v":0},{"$f":"SUM(DataInput!J51,DataInput!AF51)","v":0},{"$f":"SUM(DataInput!K51,DataInput!AG51)","v":0},{"$f":"SUM(DataInput!L51,DataInput!AH51)","v":0},{"$f":"SUM(DataInput!M51,DataInput!AI51)","v":0},{"$f":"SUM(DataInput!N51,DataInput!AJ51)","v":0},{"$f":"SUM(DataInput!O51,DataInput!AK51)","v":0},{"$f":"DataInput!P51","v":0},null,17,{"$f":"DataInput!R51","v":0},{"$f":"DataInput!Y51","v":0},{"$f":"IF(DataInput!U51-DataInput!E51>0,DataInput!U51-DataInput!E51,\"\")","v":6},{"$f":"IF(DataInput!W51-DataInput!I51>0,DataInput!W51-DataInput!I51,\"\")","v":""},null,6,7.8,9.1999999999999993,0,0,{"$f":"ROUNDDOWN((IF(AA52>0,IFERROR(IF(AVERAGE(DataInput!Q51:Q52)>AVERAGE(AA52,AA51),ROUNDDOWN(((((AA51-Z51)+(AA52-Z52))/2)*(A52-A51))/27+S21+T21,0),IF(((((DataInput!Q52-Z52)+(DataInput!Q51-Z51))/2)*(A52-A51))/27+S21+T21>0,ROUNDDOWN(((((DataInput!Q52-Z51)+(DataInput!Q51-Z51))/2)*(A52-A51))/27+S21+T21,0),0)),0),0)*$X$5),1)","v":0},0,{"$f":"ROUNDDOWN((IF(AC52>0,IFERROR(IF(((((DataInput!Q51-AC51)+(DataInput!Q52-AC52))/2)*(A52-A51))/27+S21+T21>0,ROUNDDOWN(((((DataInput!Q51-AC51)+(DataInput!Q52-AC52))/2)*(A52-A51))/27+S21+T21,0),0),0),0)*$X$5),1)","v":0},{"$f":"DataInput!U51","v":6},{"$f":"DataInput!S51","v":12},16.8,-10.8]
[{"$f":"IF(DataInput!A52<>\"\",DataInput!A52,\"\")","v":38450},{"$f":"SUM(DataInput!C52,DataInput!Y52)+(DataInput!U52-DataInput!E52)","v":19},{"$f":"SUM(DataInput!D52,DataInput!Z52)","v":14},{"$f":"DataInput!U52","v":5},{"$f":"SUM(DataInput!F52,DataInput!AB52)","v":0},{"$f":"SUM(DataInput!G52,DataInput!AC52)","v":0},{"$f":"SUM(DataInput!H52,DataInput!AD52)","v":0},{"$f":"DataInput!I52","v":0},{"$f":"SUM(DataInput!J52,DataInput!AF52)","v":0},{"$f":"SUM(DataInput!K52,DataInput!AG52)","v":0},{"$f":"SUM(DataInput!L52,DataInput!AH52)","v":0},{"$f":"SUM(DataInput!M52,DataInput!AI52)","v":0},{"$f":"SUM(DataInput!N52,DataInput!AJ52)","v":0},{"$f":"SUM(DataInput!O52,DataInput!AK52)","v":0},{"$f":"DataInput!P52","v":0},null,14,{"$f":"DataInput!R52","v":0},{"$f":"DataInput!Y52","v":0},{"$f":"IF(DataInput!U52-DataInput!E52>0,DataInput!U52-DataInput!E52,\"\")","v":5},{"$f":"IF(DataInput!W52-DataInput!I52>0,DataInput!W52-DataInput!I52,\"\")","v":""},null,5,6.5,7.5,0,0,{"$f":"ROUNDDOWN((IF(AA53>0,IFERROR(IF(AVERAGE(DataInput!Q52:Q53)>AVERAGE(AA53,AA52),ROUNDDOWN(((((AA52-Z52)+(AA53-Z53))/2)*(A53-A52))/27+S22+T22,0),IF(((((DataInput!Q53-Z53)+(DataInput!Q52-Z52))/2)*(A53-A52))/27+S22+T22>0,ROUNDDOWN(((((DataInput!Q53-Z52)+(DataInput!Q52-Z52))/2)*(A53-A52))/27+S22+T22,0),0)),0),0)*$X$5),1)","v":0},0,{"$f":"ROUNDDOWN((IF(AC53>0,IFERROR(IF(((((DataInput!Q52-AC52)+(DataInput!Q53-AC53))/2)*(A53-A52))/27+S22+T22>0,ROUNDDOWN(((((DataInput!Q52-AC52)+(DataInput!Q53-AC53))/2)*(A53-A52))/27+S22+T22,0),0),0),0)*$X$5),1)","v":0},{"$f":"DataInput!U52","v":5},{"$f":"DataInput!S52","v":9},12.6,-7.6]
[{"$f":"IF(DataInput!A53<>\"\",DataInput!A53,\"\")","v":38475}]
[]
[{"$f":"IF(DataInput!A55<>\"\",DataInput!A55,\"\")","v":"Sta. 539+60"}]
[{"$f":"IF(DataInput!A56<>\"\",DataInput!A56,\"\")","v":53875},{"$f":"SUM(DataInput!C56,DataInput!Y56)+(DataInput!U56-DataInput!E56)","v":27},{"$f":"SUM(DataInput!D56,DataInput!Z56)","v":15},{"$f":"DataInput!U56","v":12},{"$f":"SUM(DataInput!F56,DataInput!AB56)","v":0},{"$f":"SUM(DataInput!G56,DataInput!AC56)","v":0},{"$f":"SUM(DataInput!H56,DataInput!AD56)","v":0},{"$f":"DataInput!I56","v":0},{"$f":"SUM(DataInput!J56,DataInput!AF56)","v":0},{"$f":"SUM(DataInput!K56,DataInput!AG56)","v":0},{"$f":"SUM(DataInput!L56,DataInput!AH56)","v":0},{"$f":"SUM(DataInput!M56,DataInput!AI56)","v":0},{"$f":"SUM(DataInput!N56,DataInput!AJ56)","v":0},{"$f":"SUM(DataInput!O56,DataInput!AK56)","v":0},{"$f":"DataInput!P56","v":0},null,{"$f":"SUM(C56,E56:G56,I56:L56,N56:P56)","v":15},{"$f":"DataInput!R56","v":13},{"$f":"DataInput!Y56","v":0},{"$f":"IF(DataInput!U56-DataInput!E56>0,DataInput!U56-DataInput!E56,\"\")","v":12},{"$f":"IF(DataInput!W56-DataInput!I56>0,DataInput!W56-DataInput!I56,\"\")","v":""},null,{"$f":"SUM(R56:V56)","v":25},{"$f":"ROUNDUP(($W56*$X$5),1)","v":32.5},{"$f":"ROUNDUP(SUM(Q56-X56),1)","v":-17.5},null,null,{"$f":"ROUNDDOWN((IF(AA57>0,IFERROR(IF(AVERAGE(DataInput!Q56:Q57)>AVERAGE(AA57,AA56),ROUNDDOWN(((((AA56-Z56)+(AA57-Z57))/2)*(A57-A56))/27+S12+T12,0),IF(((((DataInput!Q57-Z57)+(DataInput!Q56-Z56))/2)*(A57-A56))/27+S12+T12>0,ROUNDDOWN(((((DataInput!Q57-Z56)+(DataInput!Q56-Z56))/2)*(A57-A56))/27+S12+T12,0),0)),0),0)*$X$5),1)","v":0},null,{"$f":"ROUNDDOWN((IF(AC57>0,IFERROR(IF(((((DataInput!Q56-AC56)+(DataInput!Q57-AC57))/2)*(A57-A56))/27+S12+T12>0,ROUNDDOWN(((((DataInput!Q56-AC56)+(DataInput!Q57-AC57))/2)*(A57-A56))/27+S12+T12,0),0),0),0)*$X$5),1)","v":0},{"$f":"DataInput!U56","v":12},{"$f":"DataInput!S56","v":25},{"$f":"ROUNDUP((AF56*$AG$5),1)","v":35},{"$f":"ROUNDUP((AE56-AG56),1)","v":-23}]
[{"$f":"IF(DataInput!A57<>\"\",DataInput!A57,\"\")","v":53900},{"$f":"SUM(DataInput!C57,DataInput!Y57)+(DataInput!U57-DataInput!E57)","v":52},{"$f":"SUM(DataInput!D57,DataInput!Z57)","v":32},{"$f":"DataInput!U57","v":20},{"$f":"SUM(DataInput!F57,DataInput!AB57)","v":0},{"$f":"SUM(DataInput!G57,DataInput!AC57)","v":0},{"$f":"SUM(DataInput!H57,DataInput!AD57)","v":0},{"$f":"DataInput!I57","v":0},{"$f":"SUM(DataInput!J57,DataInput!AF57)","v":0},{"$f":"SUM(DataInput!K57,DataInput!AG57)","v":0},{"$f":"SUM(DataInput!L57,DataInput!AH57)","v":0},{"$f":"SUM(DataInput!M57,DataInput!AI57)","v":0},{"$f":"SUM(DataInput!N57,DataInput!AJ57)","v":0},{"$f":"SUM(DataInput!O57,DataInput!AK57)","v":0},{"$f":"DataInput!P57","v":0},null,{"$f":"SUM(C57,E57:G57,I57:L57,N57:P57)","v":32},{"$f":"DataInput!R57","v":53},{"$f":"DataInput!Y57","v":0},{"$f":"IF(DataInput!U57-DataInput!E57>0,DataInput!U57-DataInput!E57,\"\")","v":20},{"$f":"IF(DataInput!W57-DataInput!I57>0,DataInput!W57-DataInput!I57,\"\")","v":""},null,{"$f":"SUM(R57:V57)","v":73},{"$f":"ROUNDUP(($W57*$X$5),1)","v":94.9},{"$f":"ROUNDUP(SUM(Q57-X57),1)","v":-62.9},{"$f":"Z56","v":0},{"$f":"AA56","v":0},{"$f":"ROUNDDOWN((IF(AA58>0,IFERROR(IF(AVERAGE(DataInput!Q57:Q58)>AVERAGE(AA58,AA57),ROUNDDOWN(((((AA57-Z57)+(AA58-Z58))/2)*(A58-A57))/27+S13+T13,0),IF(((((DataInput!Q58-Z58)+(DataInput!Q57-Z57))/2)*(A58-A57))/27+S13+T13>0,ROUNDDOWN(((((DataInput!Q58-Z57)+(DataInput!Q57-Z57))/2)*(A58-A57))/27+S13+T13,0),0)),0),0)*$X$5),1)","v":0},{"$f":"AC56","v":0},{"$f":"ROUNDDOWN((IF(AC58>0,IFERROR(IF(((((DataInput!Q57-AC57)+(DataInput!Q58-AC58))/2)*(A58-A57))/27+S13+T13>0,ROUNDDOWN(((((DataInput!Q57-AC57)+(DataInput!Q58-AC58))/2)*(A58-A57))/27+S13+T13,0),0),0),0)*$X$5),1)","v":0},{"$f":"DataInput!U57","v":20},{"$f":"DataInput!S57","v":40},{"$f":"ROUNDUP((AF57*$AG$5),1)","v":56},{"$f":"ROUNDUP((AE57-AG57),1)","v":-36}]
[{"$f":"IF(DataInput!A58<>\"\",DataInput!A58,\"\")","v":53925},{"$f":"SUM(DataInput!C58,DataInput!Y58)+(DataInput!U58-DataInput!E58)","v":68},{"$f":"SUM(DataInput!D58,DataInput!Z58)","v":43},{"$f":"DataInput!U58","v":25},{"$f":"SUM(DataInput!F58,DataInput!AB58)","v":0},{"$f":"SUM(DataInput!G58,DataInput!AC58)","v":0},{"$f":"SUM(DataInput!H58,DataInput!AD58)","v":0},{"$f":"DataInput!I58","v":0},{"$f":"SUM(DataInput!J58,DataInput!AF58)","v":0},{"$f":"SUM(DataInput!K58,DataInput!AG58)","v":0},{"$f":"SUM(DataInput!L58,DataInput!AH58)","v":0},{"$f":"SUM(DataInput!M58,DataInput!AI58)","v":0},{"$f":"SUM(DataInput!N58,DataInput!AJ58)","v":0},{"$f":"SUM(DataInput!O58,DataInput!AK58)","v":0},{"$f":"DataInput!P58","v":0},null,43,{"$f":"DataInput!R58","v":115},{"$f":"DataInput!Y58","v":0},{"$f":"IF(DataInput!U58-DataInput!E58>0,DataInput!U58-DataInput!E58,\"\")","v":25},{"$f":"IF(DataInput!W58-DataInput!I58>0,DataInput!W58-DataInput!I58,\"\")","v":""},null,140,182,-139,{"$f":"Z57","v":0},{"$f":"AA57","v":0},{"$f":"ROUNDDOWN((IF(AA59>0,IFERROR(IF(AVERAGE(DataInput!Q58:Q59)>AVERAGE(AA59,AA58),ROUNDDOWN(((((AA58-Z58)+(AA59-Z59))/2)*(A59-A58))/27+S14+T14,0),IF(((((DataInput!Q59-Z59)+(DataInput!Q58-Z58))/2)*(A59-A58))/27+S14+T14>0,ROUNDDOWN(((((DataInput!Q59-Z58)+(DataInput!Q58-Z58))/2)*(A59-A58))/27+S14+T14,0),0)),0),0)*$X$5),1)","v":0},{"$f":"AC57","v":0},{"$f":"ROUNDDOWN((IF(AC59>0,IFERROR(IF(((((DataInput!Q58-AC58)+(DataInput!Q59-AC59))/2)*(A59-A58))/27+S14+T14>0,ROUNDDOWN(((((DataInput!Q58-AC58)+(DataInput!Q59-AC59))/2)*(A59-A58))/27+S14+T14,0),0),0),0)*$X$5),1)","v":0},{"$f":"DataInput!U58","v":25},{"$f":"DataInput!S58","v":49},68.599999999999994,-43.6]
[{"$f":"IF(DataInput!A59<>\"\",DataInput!A59,\"\")","v":53950},{"$f":"SUM(DataInput!C59,DataInput!Y59)+(DataInput!U59-DataInput!E59)","v":28},{"$f":"SUM(DataInput!D59,DataInput!Z59)","v":17},{"$f":"DataInput!U59","v":11},{"$f":"SUM(DataInput!F59,DataInput!AB59)","v":0},{"$f":"SUM(DataInput!G59,DataInput!AC59)","v":0},{"$f":"SUM(DataInput!H59,DataInput!AD59)","v":0},{"$f":"DataInput!I59","v":0},{"$f":"SUM(DataInput!J59,DataInput!AF59)","v":0},{"$f":"SUM(DataInput!K59,DataInput!AG59)","v":0},{"$f":"SUM(DataInput!L59,DataInput!AH59)","v":0},{"$f":"SUM(DataInput!M59,DataInput!AI59)","v":0},{"$f":"SUM(DataInput!N59,DataInput!AJ59)","v":0},{"$f":"SUM(DataInput!O59,DataInput!AK59)","v":0},{"$f":"DataInput!P59","v":0},null,17,{"$f":"DataInput!R59","v":59},{"$f":"DataInput!Y59","v":0},{"$f":"IF(DataInput!U59-DataInput!E59>0,DataInput!U59-DataInput!E59,\"\")","v":11},{"$f":"IF(DataInput!W59-DataInput!I59>0,DataInput!W59-DataInput!I59,\"\")","v":""},null,70,91,-74,0,0,{"$f":"ROUNDDOWN((IF(AA60>0,IFERROR(IF(AVERAGE(DataInput!Q59:Q60)>AVERAGE(AA60,AA59),ROUNDDOWN(((((AA59-Z59)+(AA60-Z60))/2)*(A60-A59))/27+S15+T15,0),IF(((((DataInput!Q60-Z60)+(DataInput!Q59-Z59))/2)*(A60-A59))/27+S15+T15>0,ROUNDDOWN(((((DataInput!Q60-Z59)+(DataInput!Q59-Z59))/2)*(A60-A59))/27+S15+T15,0),0)),0),0)*$X$5),1)","v":0},0,{"$f":"ROUNDDOWN((IF(AC60>0,IFERROR(IF(((((DataInput!Q59-AC59)+(DataInput!Q60-AC60))/2)*(A60-A59))/27+S15+T15>0,ROUNDDOWN(((((DataInput!Q59-AC59)+(DataInput!Q60-AC60))/2)*(A60-A59))/27+S15+T15,0),0),0),0)*$X$5),1)","v":0},{"$f":"DataInput!U59","v":11},{"$f":"DataInput!S59","v":22},30.8,-19.8]
[{"$f":"IF(DataInput!A60<>\"\",DataInput!A60,\"\")","v":53960},{"$f":"SUM(DataInput!C60,DataInput!Y60)+(DataInput!U60-DataInput!E60)","v":42},{"$f":"SUM(DataInput!D60,DataInput!Z60)","v":25},{"$f":"DataInput!U60","v":17},{"$f":"SUM(DataInput!F60,DataInput!AB60)","v":0},{"$f":"SUM(DataInput!G60,DataInput!AC60)","v":0},{"$f":"SUM(DataInput!H60,DataInput!AD60)","v":0},{"$f":"DataInput!I60","v":0},{"$f":"SUM(DataInput!J60,DataInput!AF60)","v":0},{"$f":"SUM(DataInput!K60,DataInput!AG60)","v":0},{"$f":"SUM(DataInput!L60,DataInput!AH60)","v":0},{"$f":"SUM(DataInput!M60,DataInput!AI60)","v":0},{"$f":"SUM(DataInput!N60,DataInput!AJ60)","v":0},{"$f":"SUM(DataInput!O60,DataInput!AK60)","v":0},{"$f":"DataInput!P60","v":0},null,25,{"$f":"DataInput!R60","v":73},{"$f":"DataInput!Y60","v":0},{"$f":"IF(DataInput!U60-DataInput!E60>0,DataInput!U60-DataInput!E60,\"\")","v":17},{"$f":"IF(DataInput!W60-DataInput!I60>0,DataInput!W60-DataInput!I60,\"\")","v":""},null,90,117,-92,0,0,{"$f":"ROUNDDOWN((IF(AA61>0,IFERROR(IF(AVERAGE(DataInput!Q60:Q61)>AVERAGE(AA61,AA60),ROUNDDOWN(((((AA60-Z60)+(AA61-Z61))/2)*(A61-A60))/27+S16+T16,0),IF(((((DataInput!Q61-Z61)+(DataInput!Q60-Z60))/2)*(A61-A60))/27+S16+T16>0,ROUNDDOWN(((((DataInput!Q61-Z60)+(DataInput!Q60-Z60))/2)*(A61-A60))/27+S16+T16,0),0)),0),0)*$X$5),1)","v":0},0,{"$f":"ROUNDDOWN((IF(AC61>0,IFERROR(IF(((((DataInput!Q60-AC60)+(DataInput!Q61-AC61))/2)*(A61-A60))/27+S16+T16>0,ROUNDDOWN(((((DataInput!Q60-AC60)+(DataInput!Q61-AC61))/2)*(A61-A60))/27+S16+T16,0),0),0),0)*$X$5),1)","v":0},{"$f":"DataInput!U60","v":17},{"$f":"DataInput!S60","v":33},46.2,-29.2]
[{"$f":"IF(DataInput!A61<>\"\",DataInput!A61,\"\")","v":53975},{"$f":"SUM(DataInput!C61,DataInput!Y61)+(DataInput!U61-DataInput!E61)","v":44},{"$f":"SUM(DataInput!D61,DataInput!Z61)","v":23},{"$f":"DataInput!U61","v":21},{"$f":"SUM(DataInput!F61,DataInput!AB61)","v":0},{"$f":"SUM(DataInput!G61,DataInput!AC61)","v":0},{"$f":"SUM(DataInput!H61,DataInput!AD61)","v":0},{"$f":"DataInput!I61","v":0},{"$f":"SUM(DataInput!J61,DataInput!AF61)","v":0},{"$f":"SUM(DataInput!K61,DataInput!AG61)","v":0},{"$f":"SUM(DataInput!L61,DataInput!AH61)","v":0},{"$f":"SUM(DataInput!M61,DataInput!AI61)","v":0},{"$f":"SUM(DataInput!N61,DataInput!AJ61)","v":0},{"$f":"SUM(DataInput!O61,DataInput!AK61)","v":0},{"$f":"DataInput!P61","v":0},null,23,{"$f":"DataInput!R61","v":74},{"$f":"DataInput!Y61","v":0},{"$f":"IF(DataInput!U61-DataInput!E61>0,DataInput!U61-DataInput!E61,\"\")","v":21},{"$f":"IF(DataInput!W61-DataInput!I61>0,DataInput!W61-DataInput!I61,\"\")","v":""},null,95,123.5,-100.5,0,0,{"$f":"ROUNDDOWN((IF(AA62>0,IFERROR(IF(AVERAGE(DataInput!Q61:Q62)>AVERAGE(AA62,AA61),ROUNDDOWN(((((AA61-Z61)+(AA62-Z62))/2)*(A62-A61))/27+S17+T17,0),IF(((((DataInput!Q62-Z62)+(DataInput!Q61-Z61))/2)*(A62-A61))/27+S17+T17>0,ROUNDDOWN(((((DataInput!Q62-Z61)+(DataInput!Q61-Z61))/2)*(A62-A61))/27+S17+T17,0),0)),0),0)*$X$5),1)","v":0},0,{"$f":"ROUNDDOWN((IF(AC62>0,IFERROR(IF(((((DataInput!Q61-AC61)+(DataInput!Q62-AC62))/2)*(A62-A61))/27+S17+T17>0,ROUNDDOWN(((((DataInput!Q61-AC61)+(DataInput!Q62-AC62))/2)*(A62-A61))/27+S17+T17,0),0),0),0)*$X$5),1)","v":0},{"$f":"DataInput!U61","v":21},{"$f":"DataInput!S61","v":42},58.8,-37.799999999999997]
[{"$f":"IF(DataInput!A62<>\"\",DataInput!A62,\"\")","v":54000},{"$f":"SUM(DataInput!C62,DataInput!Y62)+(DataInput!U62-DataInput!E62)","v":20},{"$f":"SUM(DataInput!D62,DataInput!Z62)","v":8},{"$f":"DataInput!U62","v":12},{"$f":"SUM(DataInput!F62,DataInput!AB62)","v":0},{"$f":"SUM(DataInput!G62,DataInput!AC62)","v":0},{"$f":"SUM(DataInput!H62,DataInput!AD62)","v":0},{"$f":"DataInput!I62","v":0},{"$f":"SUM(DataInput!J62,DataInput!AF62)","v":0},{"$f":"SUM(DataInput!K62,DataInput!AG62)","v":0},{"$f":"SUM(DataInput!L62,DataInput!AH62)","v":0},{"$f":"SUM(DataInput!M62,DataInput!AI62)","v":0},{"$f":"SUM(DataInput!N62,DataInput!AJ62)","v":0},{"$f":"SUM(DataInput!O62,DataInput!AK62)","v":0},{"$f":"DataInput!P62","v":0},null,8,{"$f":"DataInput!R62","v":30},{"$f":"DataInput!Y62","v":0},{"$f":"IF(DataInput!U62-DataInput!E62>0,DataInput!U62-DataInput!E62,\"\")","v":12},{"$f":"IF(DataInput!W62-DataInput!I62>0,DataInput!W62-DataInput!I62,\"\")","v":""},null,42,54.6,-46.6,0,0,{"$f":"ROUNDDOWN((IF(AA63>0,IFERROR(IF(AVERAGE(DataInput!Q62:Q63)>AVERAGE(AA63,AA62),ROUNDDOWN(((((AA62-Z62)+(AA63-Z63))/2)*(A63-A62))/27+S18+T18,0),IF(((((DataInput!Q63-Z63)+(DataInput!Q62-Z62))/2)*(A63-A62))/27+S18+T18>0,ROUNDDOWN(((((DataInput!Q63-Z62)+(DataInput!Q62-Z62))/2)*(A63-A62))/27+S18+T18,0),0)),0),0)*$X$5),1)","v":0},0,{"$f":"ROUNDDOWN((IF(AC63>0,IFERROR(IF(((((DataInput!Q62-AC62)+(DataInput!Q63-AC63))/2)*(A63-A62))/27+S18+T18>0,ROUNDDOWN(((((DataInput!Q62-AC62)+(DataInput!Q63-AC63))/2)*(A63-A62))/27+S18+T18,0),0),0),0)*$X$5),1)","v":0},{"$f":"DataInput!U62","v":12},{"$f":"DataInput!S62","v":23},32.200000000000003,-20.2]
[{"$f":"IF(DataInput!A63<>\"\",DataInput!A63,\"\")","v":54025}]
[]
[{"$f":"IF(DataInput!A65<>\"\",DataInput!A65,\"\")","v":"Sta. 553+83"}]
[{"$f":"IF(DataInput!A66<>\"\",DataInput!A66,\"\")","v":55275},{"$f":"SUM(DataInput!C66,DataInput!Y66)+(DataInput!U66-DataInput!E66)","v":15},{"$f":"SUM(DataInput!D66,DataInput!Z66)","v":11},{"$f":"DataInput!U66","v":4},{"$f":"SUM(DataInput!F66,DataInput!AB66)","v":0},{"$f":"SUM(DataInput!G66,DataInput!AC66)","v":0},{"$f":"SUM(DataInput!H66,DataInput!AD66)","v":0},{"$f":"DataInput!I66","v":0},{"$f":"SUM(DataInput!J66,DataInput!AF66)","v":0},{"$f":"SUM(DataInput!K66,DataInput!AG66)","v":0},{"$f":"SUM(DataInput!L66,DataInput!AH66)","v":0},{"$f":"SUM(DataInput!M66,DataInput!AI66)","v":0},{"$f":"SUM(DataInput!N66,DataInput!AJ66)","v":0},{"$f":"SUM(DataInput!O66,DataInput!AK66)","v":0},{"$f":"DataInput!P66","v":0},null,{"$f":"SUM(C66,E66:G66,I66:L66,N66:P66)","v":11},{"$f":"DataInput!R66","v":0},{"$f":"DataInput!Y66","v":0},{"$f":"IF(DataInput!U66-DataInput!E66>0,DataInput!U66-DataInput!E66,\"\")","v":4},{"$f":"IF(DataInput!W66-DataInput!I66>0,DataInput!W66-DataInput!I66,\"\")","v":""},null,{"$f":"SUM(R66:V66)","v":4},{"$f":"ROUNDUP(($W66*$X$5),1)","v":5.2},{"$f":"ROUNDUP(SUM(Q66-X66),1)","v":5.8},null,null,{"$f":"ROUNDDOWN((IF(AA67>0,IFERROR(IF(AVERAGE(DataInput!Q66:Q67)>AVERAGE(AA67,AA66),ROUNDDOWN(((((AA66-Z66)+(AA67-Z67))/2)*(A67-A66))/27+S12+T12,0),IF(((((DataInput!Q67-Z67)+(DataInput!Q66-Z66))/2)*(A67-A66))/27+S12+T12>0,ROUNDDOWN(((((DataInput!Q67-Z66)+(DataInput!Q66-Z66))/2)*(A67-A66))/27+S12+T12,0),0)),0),0)*$X$5),1)","v":0},null,{"$f":"ROUNDDOWN((IF(AC67>0,IFERROR(IF(((((DataInput!Q66-AC66)+(DataInput!Q67-AC67))/2)*(A67-A66))/27+S12+T12>0,ROUNDDOWN(((((DataInput!Q66-AC66)+(DataInput!Q67-AC67))/2)*(A67-A66))/27+S12+T12,0),0),0),0)*$X$5),1)","v":0},{"$f":"DataInput!U66","v":4},{"$f":"DataInput!S66","v":8},{"$f":"ROUNDUP((AF66*$AG$5),1)","v":11.2},{"$f":"ROUNDUP((AE66-AG66),1)","v":-7.2}]
[{"$f":"IF(DataInput!A67<>\"\",DataInput!A67,\"\")","v":55300},{"$f":"SUM(DataInput!C67,DataInput!Y67)+(DataInput!U67-DataInput!E67)","v":35},{"$f":"SUM(DataInput!D67,DataInput!Z67)","v":26},{"$f":"DataInput!U67","v":9},{"$f":"SUM(DataInput!F67,DataInput!AB67)","v":0},{"$f":"SUM(DataInput!G67,DataInput!AC67)","v":0},{"$f":"SUM(DataInput!H67,DataInput!AD67)","v":0},{"$f":"DataInput!I67","v":0},{"$f":"SUM(DataInput!J67,DataInput!AF67)","v":0},{"$f":"SUM(DataInput!K67,DataInput!AG67)","v":0},{"$f":"SUM(DataInput!L67,DataInput!AH67)","v":0},{"$f":"SUM(DataInput!M67,DataInput!AI67)","v":0},{"$f":"SUM(DataInput!N67,DataInput!AJ67)","v":0},{"$f":"SUM(DataInput!O67,DataInput!AK67)","v":0},{"$f":"DataInput!P67","v":0},null,{"$f":"SUM(C67,E67:G67,I67:L67,N67:P67)","v":26},{"$f":"DataInput!R67","v":1},{"$f":"DataInput!Y67","v":0},{"$f":"IF(DataInput!U67-DataInput!E67>0,DataInput!U67-DataInput!E67,\"\")","v":9},{"$f":"IF(DataInput!W67-DataInput!I67>0,DataInput!W67-DataInput!I67,\"\")","v":""},null,{"$f":"SUM(R67:V67)","v":10},{"$f":"ROUNDUP(($W67*$X$5),1)","v":13},{"$f":"ROUNDUP(SUM(Q67-X67),1)","v":13},{"$f":"Z66","v":0},{"$f":"AA66","v":0},{"$f":"ROUNDDOWN((IF(AA68>0,IFERROR(IF(AVERAGE(DataInput!Q67:Q68)>AVERAGE(AA68,AA67),ROUNDDOWN(((((AA67-Z67)+(AA68-Z68))/2)*(A68-A67))/27+S13+T13,0),IF(((((DataInput!Q68-Z68)+(DataInput!Q67-Z67))/2)*(A68-A67))/27+S13+T13>0,ROUNDDOWN(((((DataInput!Q68-Z67)+(DataInput!Q67-Z67))/2)*(A68-A67))/27+S13+T13,0),0)),0),0)*$X$5),1)","v":0},{"$f":"AC66","v":0},{"$f":"ROUNDDOWN((IF(AC68>0,IFERROR(IF(((((DataInput!Q67-AC67)+(DataInput!Q68-AC68))/2)*(A68-A67))/27+S13+T13>0,ROUNDDOWN(((((DataInput!Q67-AC67)+(DataInput!Q68-AC68))/2)*(A68-A67))/27+S13+T13,0),0),0),0)*$X$5),1)","v":0},{"$f":"DataInput!U67","v":9},{"$f":"DataInput!S67","v":17},{"$f":"ROUNDUP((AF67*$AG$5),1)","v":23.8},{"$f":"ROUNDUP((AE67-AG67),1)","v":-14.8}]
[{"$f":"IF(DataInput!A68<>\"\",DataInput!A68,\"\")","v":55325},{"$f":"SUM(DataInput!C68,DataInput!Y68)+(DataInput!U68-DataInput!E68)","v":55},{"$f":"SUM(DataInput!D68,DataInput!Z68)","v":40},{"$f":"DataInput!U68","v":15},{"$f":"SUM(DataInput!F68,DataInput!AB68)","v":0},{"$f":"SUM(DataInput!G68,DataInput!AC68)","v":0},{"$f":"SUM(DataInput!H68,DataInput!AD68)","v":0},{"$f":"DataInput!I68","v":0},{"$f":"SUM(DataInput!J68,DataInput!AF68)","v":0},{"$f":"SUM(DataInput!K68,DataInput!AG68)","v":0},{"$f":"SUM(DataInput!L68,DataInput!AH68)","v":0},{"$f":"SUM(DataInput!M68,DataInput!AI68)","v":0},{"$f":"SUM(DataInput!N68,DataInput!AJ68)","v":0},{"$f":"SUM(DataInput!O68,DataInput!AK68)","v":0},{"$f":"DataInput!P68","v":0},null,40,{"$f":"DataInput!R68","v":11},{"$f":"DataInput!Y68","v":0},{"$f":"IF(DataInput!U68-DataInput!E68>0,DataInput!U68-DataInput!E68,\"\")","v":15},{"$f":"IF(DataInput!W68-DataInput!I68>0,DataInput!W68-DataInput!I68,\"\")","v":""},null,26,33.799999999999997,6.2,{"$f":"Z67","v":0},{"$f":"AA67","v":0},{"$f":"ROUNDDOWN((IF(AA69>0,IFERROR(IF(AVERAGE(DataInput!Q68:Q69)>AVERAGE(AA69,AA68),ROUNDDOWN(((((AA68-Z68)+(AA69-Z69))/2)*(A69-A68))/27+S14+T14,0),IF(((((DataInput!Q69-Z69)+(DataInput!Q68-Z68))/2)*(A69-A68))/27+S14+T14>0,ROUNDDOWN(((((DataInput!Q69-Z68)+(DataInput!Q68-Z68))/2)*(A69-A68))/27+S14+T14,0),0)),0),0)*$X$5),1)","v":0},{"$f":"AC67","v":0},{"$f":"ROUNDDOWN((IF(AC69>0,IFERROR(IF(((((DataInput!Q68-AC68)+(DataInput!Q69-AC69))/2)*(A69-A68))/27+S14+T14>0,ROUNDDOWN(((((DataInput!Q68-AC68)+(DataInput!Q69-AC69))/2)*(A69-A68))/27+S14+T14,0),0),0),0)*$X$5),1)","v":0},{"$f":"DataInput!U68","v":15},{"$f":"DataInput!S68","v":29},40.6,-25.6]
[{"$f":"IF(DataInput!A69<>\"\",DataInput!A69,\"\")","v":55350},{"$f":"SUM(DataInput!C69,DataInput!Y69)+(DataInput!U69-DataInput!E69)","v":76},{"$f":"SUM(DataInput!D69,DataInput!Z69)","v":54},{"$f":"DataInput!U69","v":22},{"$f":"SUM(DataInput!F69,DataInput!AB69)","v":0},{"$f":"SUM(DataInput!G69,DataInput!AC69)","v":0},{"$f":"SUM(DataInput!H69,DataInput!AD69)","v":0},{"$f":"DataInput!I69","v":0},{"$f":"SUM(DataInput!J69,DataInput!AF69)","v":0},{"$f":"SUM(DataInput!K69,DataInput!AG69)","v":0},{"$f":"SUM(DataInput!L69,DataInput!AH69)","v":0},{"$f":"SUM(DataInput!M69,DataInput!AI69)","v":0},{"$f":"SUM(DataInput!N69,DataInput!AJ69)","v":0},{"$f":"SUM(DataInput!O69,DataInput!AK69)","v":0},{"$f":"DataInput!P69","v":0},null,54,{"$f":"DataInput!R69","v":61},{"$f":"DataInput!Y69","v":0},{"$f":"IF(DataInput!U69-DataInput!E69>0,DataInput!U69-DataInput!E69,\"\")","v":22},{"$f":"IF(DataInput!W69-DataInput!I69>0,DataInput!W69-DataInput!I69,\"\")","v":""},null,83,107.9,-53.9,0,0,{"$f":"ROUNDDOWN((IF(AA70>0,IFERROR(IF(AVERAGE(DataInput!Q69:Q70)>AVERAGE(AA70,AA69),ROUNDDOWN(((((AA69-Z69)+(AA70-Z70))/2)*(A70-A69))/27+S15+T15,0),IF(((((DataInput!Q70-Z70)+(DataInput!Q69-Z69))/2)*(A70-A69))/27+S15+T15>0,ROUNDDOWN(((((DataInput!Q70-Z69)+(DataInput!Q69-Z69))/2)*(A70-A69))/27+S15+T15,0),0)),0),0)*$X$5),1)","v":0},0,{"$f":"ROUNDDOWN((IF(AC70>0,IFERROR(IF(((((DataInput!Q69-AC69)+(DataInput!Q70-AC70))/2)*(A70-A69))/27+S15+T15>0,ROUNDDOWN(((((DataInput!Q69-AC69)+(DataInput!Q70-AC70))/2)*(A70-A69))/27+S15+T15,0),0),0),0)*$X$5),1)","v":0},{"$f":"DataInput!U69","v":22},{"$f":"DataInput!S69","v":43},60.2,-38.200000000000003]
[{"$f":"IF(DataInput!A70<>\"\",DataInput!A70,\"\")","v":55375},{"$f":"SUM(DataInput!C70,DataInput!Y70)+(DataInput!U70-DataInput!E70)","v":24},{"$f":"SUM(DataInput!D70,DataInput!Z70)","v":18},{"$f":"DataInput!U70","v":6},{"$f":"SUM(DataInput!F70,DataInput!AB70)","v":0},{"$f":"SUM(DataInput!G70,DataInput!AC70)","v":0},{"$f":"SUM(DataInput!H70,DataInput!AD70)","v":0},{"$f":"DataInput!I70","v":0},{"$f":"SUM(DataInput!J70,DataInput!AF70)","v":0},{"$f":"SUM(DataInput!K70,DataInput!AG70)","v":0},{"$f":"SUM(DataInput!L70,DataInput!AH70)","v":0},{"$f":"SUM(DataInput!M70,DataInput!AI70)","v":0},{"$f":"SUM(DataInput!N70,DataInput!AJ70)","v":0},{"$f":"SUM(DataInput!O70,DataInput!AK70)","v":0},{"$f":"DataInput!P70","v":0},null,18,{"$f":"DataInput!R70","v":52},{"$f":"DataInput!Y70","v":0},{"$f":"IF(DataInput!U70-DataInput!E70>0,DataInput!U70-DataInput!E70,\"\")","v":6},{"$f":"IF(DataInput!W70-DataInput!I70>0,DataInput!W70-DataInput!I70,\"\")","v":""},null,58,75.400000000000006,-57.4,0,0,{"$f":"ROUNDDOWN((IF(AA71>0,IFERROR(IF(AVERAGE(DataInput!Q70:Q71)>AVERAGE(AA71,AA70),ROUNDDOWN(((((AA70-Z70)+(AA71-Z71))/2)*(A71-A70))/27+S16+T16,0),IF(((((DataInput!Q71-Z71)+(DataInput!Q70-Z70))/2)*(A71-A70))/27+S16+T16>0,ROUNDDOWN(((((DataInput!Q71-Z70)+(DataInput!Q70-Z70))/2)*(A71-A70))/27+S16+T16,0),0)),0),0)*$X$5),1)","v":0},0,{"$f":"ROUNDDOWN((IF(AC71>0,IFERROR(IF(((((DataInput!Q70-AC70)+(DataInput!Q71-AC71))/2)*(A71-A70))/27+S16+T16>0,ROUNDDOWN(((((DataInput!Q70-AC70)+(DataInput!Q71-AC71))/2)*(A71-A70))/27+S16+T16,0),0),0),0)*$X$5),1)","v":0},{"$f":"DataInput!U70","v":6},{"$f":"DataInput!S70","v":16},22.4,-16.399999999999999]
[{"$f":"IF(DataInput!A71<>\"\",DataInput!A71,\"\")","v":55383.41},{"$f":"SUM(DataInput!C71,DataInput!Y71)+(DataInput!U71-DataInput!E71)","v":41},{"$f":"SUM(DataInput!D71,DataInput!Z71)","v":29},{"$f":"DataInput!U71","v":12},{"$f":"SUM(DataInput!F71,DataInput!AB71)","v":0},{"$f":"SUM(DataInput!G71,DataInput!AC71)","v":0},{"$f":"SUM(DataInput!H71,DataInput!AD71)","v":0},{"$f":"DataInput!I71","v":0},{"$f":"SUM(DataInput!J71,DataInput!AF71)","v":0},{"$f":"SUM(DataInput!K71,DataInput!AG71)","v":0},{"$f":"SUM(DataInput!L71,DataInput!AH71)","v":0},{"$f":"SUM(DataInput!M71,DataInput!AI71)","v":0},{"$f":"SUM(DataInput!N71,DataInput!AJ71)","v":0},{"$f":"SUM(DataInput!O71,DataInput!AK71)","v":0},{"$f":"DataInput!P71","v":0},null,29,{"$f":"DataInput!R71","v":91},{"$f":"DataInput!Y71","v":0},{"$f":"IF(DataInput!U71-DataInput!E71>0,DataInput!U71-DataInput!E71,\"\")","v":12},{"$f":"IF(DataInput!W71-DataInput!I71>0,DataInput!W71-DataInput!I71,\"\")","v":""},null,103,133.9,-104.9,0,0,{"$f":"ROUNDDOWN((IF(AA72>0,IFERROR(IF(AVERAGE(DataInput!Q71:Q72)>AVERAGE(AA72,AA71),ROUNDDOWN(((((AA71-Z71)+(AA72-Z72))/2)*(A72-A71))/27+S17+T17,0),IF(((((DataInput!Q72-Z72)+(DataInput!Q71-Z71))/2)*(A72-A71))/27+S17+T17>0,ROUNDDOWN(((((DataInput!Q72-Z71)+(DataInput!Q71-Z71))/2)*(A72-A71))/27+S17+T17,0),0)),0),0)*$X$5),1)","v":0},0,{"$f":"ROUNDDOWN((IF(AC72>0,IFERROR(IF(((((DataInput!Q71-AC71)+(DataInput!Q72-AC72))/2)*(A72-A71))/27+S17+T17>0,ROUNDDOWN(((((DataInput!Q71-AC71)+(DataInput!Q72-AC72))/2)*(A72-A71))/27+S17+T17,0),0),0),0)*$X$5),1)","v":0},{"$f":"DataInput!U71","v":12},{"$f":"DataInput!S71","v":31},43.4,-31.4]
[{"$f":"IF(DataInput!A72<>\"\",DataInput!A72,\"\")","v":55400},{"$f":"SUM(DataInput!C72,DataInput!Y72)+(DataInput!U72-DataInput!E72)","v":75},{"$f":"SUM(DataInput!D72,DataInput!Z72)","v":51},{"$f":"DataInput!U72","v":24},{"$f":"SUM(DataInput!F72,DataInput!AB72)","v":0},{"$f":"SUM(DataInput!G72,DataInput!AC72)","v":0},{"$f":"SUM(DataInput!H72,DataInput!AD72)","v":0},{"$f":"DataInput!I72","v":0},{"$f":"SUM(DataInput!J72,DataInput!AF72)","v":0},{"$f":"SUM(DataInput!K72,DataInput!AG72)","v":0},{"$f":"SUM(DataInput!L72,DataInput!AH72)","v":0},{"$f":"SUM(DataInput!M72,DataInput!AI72)","v":0},{"$f":"SUM(DataInput!N72,DataInput!AJ72)","v":0},{"$f":"SUM(DataInput!O72,DataInput!AK72)","v":0},{"$f":"DataInput!P72","v":0},null,51,{"$f":"DataInput!R72","v":43},{"$f":"DataInput!Y72","v":0},{"$f":"IF(DataInput!U72-DataInput!E72>0,DataInput!U72-DataInput!E72,\"\")","v":24},{"$f":"IF(DataInput!W72-DataInput!I72>0,DataInput!W72-DataInput!I72,\"\")","v":""},null,67,87.1,-36.1,0,0,{"$f":"ROUNDDOWN((IF(AA73>0,IFERROR(IF(AVERAGE(DataInput!Q72:Q73)>AVERAGE(AA73,AA72),ROUNDDOWN(((((AA72-Z72)+(AA73-Z73))/2)*(A73-A72))/27+S18+T18,0),IF(((((DataInput!Q73-Z73)+(DataInput!Q72-Z72))/2)*(A73-A72))/27+S18+T18>0,ROUNDDOWN(((((DataInput!Q73-Z72)+(DataInput!Q72-Z72))/2)*(A73-A72))/27+S18+T18,0),0)),0),0)*$X$5),1)","v":0},0,{"$f":"ROUNDDOWN((IF(AC73>0,IFERROR(IF(((((DataInput!Q72-AC72)+(DataInput!Q73-AC73))/2)*(A73-A72))/27+S18+T18>0,ROUNDDOWN(((((DataInput!Q72-AC72)+(DataInput!Q73-AC73))/2)*(A73-A72))/27+S18+T18,0),0),0),0)*$X$5),1)","v":0},{"$f":"DataInput!U72","v":24},{"$f":"DataInput!S72","v":47},65.8,-41.8]
[{"$f":"IF(DataInput!A73<>\"\",DataInput!A73,\"\")","v":55425},{"$f":"SUM(DataInput!C73,DataInput!Y73)+(DataInput!U73-DataInput!E73)","v":66},{"$f":"SUM(DataInput!D73,DataInput!Z73)","v":48},{"$f":"DataInput!U73","v":18},{"$f":"SUM(DataInput!F73,DataInput!AB73)","v":0},{"$f":"SUM(DataInput!G73,DataInput!AC73)","v":0},{"$f":"SUM(DataInput!H73,DataInput!AD73)","v":0},{"$f":"DataInput!I73","v":0},{"$f":"SUM(DataInput!J73,DataInput!AF73)","v":0},{"$f":"SUM(DataInput!K73,DataInput!AG73)","v":0},{"$f":"SUM(DataInput!L73,DataInput!AH73)","v":0},{"$f":"SUM(DataInput!M73,DataInput!AI73)","v":0},{"$f":"SUM(DataInput!N73,DataInput!AJ73)","v":0},{"$f":"SUM(DataInput!O73,DataInput!AK73)","v":0},{"$f":"DataInput!P73","v":0},null,48,{"$f":"DataInput!R73","v":10},{"$f":"DataInput!Y73","v":0},{"$f":"IF(DataInput!U73-DataInput!E73>0,DataInput!U73-DataInput!E73,\"\")","v":18},{"$f":"IF(DataInput!W73-DataInput!I73>0,DataInput!W73-DataInput!I73,\"\")","v":""},null,28,36.4,11.6,0,0,{"$f":"ROUNDDOWN((IF(AA74>0,IFERROR(IF(AVERAGE(DataInput!Q73:Q74)>AVERAGE(AA74,AA73),ROUNDDOWN(((((AA73-Z73)+(AA74-Z74))/2)*(A74-A73))/27+S19+T19,0),IF(((((DataInput!Q74-Z74)+(DataInput!Q73-Z73))/2)*(A74-A73))/27+S19+T19>0,ROUNDDOWN(((((DataInput!Q74-Z73)+(DataInput!Q73-Z73))/2)*(A74-A73))/27+S19+T19,0),0)),0),0)*$X$5),1)","v":0},0,{"$f":"ROUNDDOWN((IF(AC74>0,IFERROR(IF(((((DataInput!Q73-AC73)+(DataInput!Q74-AC74))/2)*(A74-A73))/27+S19+T19>0,ROUNDDOWN(((((DataInput!Q73-AC73)+(DataInput!Q74-AC74))/2)*(A74-A73))/27+S19+T19,0),0),0),0)*$X$5),1)","v":0},{"$f":"DataInput!U73","v":18},{"$f":"DataInput!S73","v":36},50.4,-32.4]
[{"$f":"IF(DataInput!A74<>\"\",DataInput!A74,\"\")","v":55450},{"$f":"SUM(DataInput!C74,DataInput!Y74)+(DataInput!U74-DataInput!E74)","v":37},{"$f":"SUM(DataInput!D74,DataInput!Z74)","v":28},{"$f":"DataInput!U74","v":9},{"$f":"SUM(DataInput!F74,DataInput!AB74)","v":0},{"$f":"SUM(DataInput!G74,DataInput!AC74)","v":0},{"$f":"SUM(DataInput!H74,DataInput!AD74)","v":0},{"$f":"DataInput!I74","v":0},{"$f":"SUM(DataInput!J74,DataInput!AF74)","v":0},{"$f":"SUM(DataInput!K74,DataInput!AG74)","v":0},{"$f":"SUM(DataInput!L74,DataInput!AH74)","v":0},{"$f":"SUM(DataInput!M74,DataInput!AI74)","v":0},{"$f":"SUM(DataInput!N74,DataInput!AJ74)","v":0},{"$f":"SUM(DataInput!O74,DataInput!AK74)","v":0},{"$f":"DataInput!P74","v":0},null,28,{"$f":"DataInput!R74","v":0},{"$f":"DataInput!Y74","v":0},{"$f":"IF(DataInput!U74-DataInput!E74>0,DataInput!U74-DataInput!E74,\"\")","v":9},{"$f":"IF(DataInput!W74-DataInput!I74>0,DataInput!W74-DataInput!I74,\"\")","v":""},null,9,11.7,16.3,0,0,{"$f":"ROUNDDOWN((IF(AA75>0,IFERROR(IF(AVERAGE(DataInput!Q74:Q75)>AVERAGE(AA75,AA74),ROUNDDOWN(((((AA74-Z74)+(AA75-Z75))/2)*(A75-A74))/27+S20+T20,0),IF(((((DataInput!Q75-Z75)+(DataInput!Q74-Z74))/2)*(A75-A74))/27+S20+T20>0,ROUNDDOWN(((((DataInput!Q75-Z74)+(DataInput!Q74-Z74))/2)*(A75-A74))/27+S20+T20,0),0)),0),0)*$X$5),1)","v":0},0,{"$f":"ROUNDDOWN((IF(AC75>0,IFERROR(IF(((((DataInput!Q74-AC74)+(DataInput!Q75-AC75))/2)*(A75-A74))/27+S20+T20>0,ROUNDDOWN(((((DataInput!Q74-AC74)+(DataInput!Q75-AC75))/2)*(A75-A74))/27+S20+T20,0),0),0),0)*$X$5),1)","v":0},{"$f":"DataInput!U74","v":9},{"$f":"DataInput!S74","v":18},25.2,-16.2]
[{"$f":"IF(DataInput!A75<>\"\",DataInput!A75,\"\")","v":55475}]
[]
[{"$f":"IF(DataInput!A77<>\"\",DataInput!A77,\"\")","v":"Sta. 571+62"}]
[{"$f":"IF(DataInput!A78<>\"\",DataInput!A78,\"\")","v":57000},{"$f":"SUM(DataInput!C78,DataInput!Y78)+(DataInput!U78-DataInput!E78)","v":9},{"$f":"SUM(DataInput!D78,DataInput!Z78)","v":5},{"$f":"DataInput!U78","v":4},{"$f":"SUM(DataInput!F78,DataInput!AB78)","v":0},{"$f":"SUM(DataInput!G78,DataInput!AC78)","v":0},{"$f":"SUM(DataInput!H78,DataInput!AD78)","v":0},{"$f":"DataInput!I78","v":0},{"$f":"SUM(DataInput!J78,DataInput!AF78)","v":0},{"$f":"SUM(DataInput!K78,DataInput!AG78)","v":0},{"$f":"SUM(DataInput!L78,DataInput!AH78)","v":0},{"$f":"SUM(DataInput!M78,DataInput!AI78)","v":0},{"$f":"SUM(DataInput!N78,DataInput!AJ78)","v":0},{"$f":"SUM(DataInput!O78,DataInput!AK78)","v":0},{"$f":"DataInput!P78","v":0},null,{"$f":"SUM(C78,E78:G78,I78:L78,N78:P78)","v":5},{"$f":"DataInput!R78","v":0},{"$f":"DataInput!Y78","v":0},{"$f":"IF(DataInput!U78-DataInput!E78>0,DataInput!U78-DataInput!E78,\"\")","v":4},{"$f":"IF(DataInput!W78-DataInput!I78>0,DataInput!W78-DataInput!I78,\"\")","v":""},null,{"$f":"SUM(R78:V78)","v":4},{"$f":"ROUNDUP(($W78*$X$5),1)","v":5.2},{"$f":"ROUNDUP(SUM(Q78-X78),1)","v":-0.2},null,null,{"$f":"ROUNDDOWN((IF(AA79>0,IFERROR(IF(AVERAGE(DataInput!Q78:Q79)>AVERAGE(AA79,AA78),ROUNDDOWN(((((AA78-Z78)+(AA79-Z79))/2)*(A79-A78))/27+S12+T12,0),IF(((((DataInput!Q79-Z79)+(DataInput!Q78-Z78))/2)*(A79-A78))/27+S12+T12>0,ROUNDDOWN(((((DataInput!Q79-Z78)+(DataInput!Q78-Z78))/2)*(A79-A78))/27+S12+T12,0),0)),0),0)*$X$5),1)","v":0},null,{"$f":"ROUNDDOWN((IF(AC79>0,IFERROR(IF(((((DataInput!Q78-AC78)+(DataInput!Q79-AC79))/2)*(A79-A78))/27+S12+T12>0,ROUNDDOWN(((((DataInput!Q78-AC78)+(DataInput!Q79-AC79))/2)*(A79-A78))/27+S12+T12,0),0),0),0)*$X$5),1)","v":0},{"$f":"DataInput!U78","v":4},{"$f":"DataInput!S78","v":8},{"$f":"ROUNDUP((AF78*$AG$5),1)","v":11.2},{"$f":"ROUNDUP((AE78-AG78),1)","v":-7.2}]
[{"$f":"IF(DataInput!A79<>\"\",DataInput!A79,\"\")","v":57025},{"$f":"SUM(DataInput!C79,DataInput!Y79)+(DataInput!U79-DataInput!E79)","v":11},{"$f":"SUM(DataInput!D79,DataInput!Z79)","v":4},{"$f":"DataInput!U79","v":7},{"$f":"SUM(DataInput!F79,DataInput!AB79)","v":0},{"$f":"SUM(DataInput!G79,DataInput!AC79)","v":0},{"$f":"SUM(DataInput!H79,DataInput!AD79)","v":0},{"$f":"DataInput!I79","v":0},{"$f":"SUM(DataInput!J79,DataInput!AF79)","v":0},{"$f":"SUM(DataInput!K79,DataInput!AG79)","v":0},{"$f":"SUM(DataInput!L79,DataInput!AH79)","v":0},{"$f":"SUM(DataInput!M79,DataInput!AI79)","v":0},{"$f":"SUM(DataInput!N79,DataInput!AJ79)","v":0},{"$f":"SUM(DataInput!O79,DataInput!AK79)","v":0},{"$f":"DataInput!P79","v":0},null,{"$f":"SUM(C79,E79:G79,I79:L79,N79:P79)","v":4},{"$f":"DataInput!R79","v":4},{"$f":"DataInput!Y79","v":0},{"$f":"IF(DataInput!U79-DataInput!E79>0,DataInput!U79-DataInput!E79,\"\")","v":7},{"$f":"IF(DataInput!W79-DataInput!I79>0,DataInput!W79-DataInput!I79,\"\")","v":""},null,{"$f":"SUM(R79:V79)","v":11},{"$f":"ROUNDUP(($W79*$X$5),1)","v":14.3},{"$f":"ROUNDUP(SUM(Q79-X79),1)","v":-10.3},{"$f":"Z78","v":0},{"$f":"AA78","v":0},{"$f":"ROUNDDOWN((IF(AA80>0,IFERROR(IF(AVERAGE(DataInput!Q79:Q80)>AVERAGE(AA80,AA79),ROUNDDOWN(((((AA79-Z79)+(AA80-Z80))/2)*(A80-A79))/27+S13+T13,0),IF(((((DataInput!Q80-Z80)+(DataInput!Q79-Z79))/2)*(A80-A79))/27+S13+T13>0,ROUNDDOWN(((((DataInput!Q80-Z79)+(DataInput!Q79-Z79))/2)*(A80-A79))/27+S13+T13,0),0)),0),0)*$X$5),1)","v":0},{"$f":"AC78","v":0},{"$f":"ROUNDDOWN((IF(AC80>0,IFERROR(IF(((((DataInput!Q79-AC79)+(DataInput!Q80-AC80))/2)*(A80-A79))/27+S13+T13>0,ROUNDDOWN(((((DataInput!Q79-AC79)+(DataInput!Q80-AC80))/2)*(A80-A79))/27+S13+T13,0),0),0),0)*$X$5),1)","v":0},{"$f":"DataInput!U79","v":7},{"$f":"DataInput!S79","v":14},{"$f":"ROUNDUP((AF79*$AG$5),1)","v":19.600000000000001},{"$f":"ROUNDUP((AE79-AG79),1)","v":-12.6}]
[{"$f":"IF(DataInput!A80<>\"\",DataInput!A80,\"\")","v":57050},{"$f":"SUM(DataInput!C80,DataInput!Y80)+(DataInput!U80-DataInput!E80)","v":11},{"$f":"SUM(DataInput!D80,DataInput!Z80)","v":3},{"$f":"DataInput!U80","v":8},{"$f":"SUM(DataInput!F80,DataInput!AB80)","v":0},{"$f":"SUM(DataInput!G80,DataInput!AC80)","v":0},{"$f":"SUM(DataInput!H80,DataInput!AD80)","v":0},{"$f":"DataInput!I80","v":0},{"$f":"SUM(DataInput!J80,DataInput!AF80)","v":0},{"$f":"SUM(DataInput!K80,DataInput!AG80)","v":0},{"$f":"SUM(DataInput!L80,DataInput!AH80)","v":0},{"$f":"SUM(DataInput!M80,DataInput!AI80)","v":0},{"$f":"SUM(DataInput!N80,DataInput!AJ80)","v":0},{"$f":"SUM(DataInput!O80,DataInput!AK80)","v":0},{"$f":"DataInput!P80","v":0},null,3,{"$f":"DataInput!R80","v":11},{"$f":"DataInput!Y80","v":0},{"$f":"IF(DataInput!U80-DataInput!E80>0,DataInput!U80-DataInput!E80,\"\")","v":8},{"$f":"IF(DataInput!W80-DataInput!I80>0,DataInput!W80-DataInput!I80,\"\")","v":""},null,19,24.7,-21.7,{"$f":"Z79","v":0},{"$f":"AA79","v":0},{"$f":"ROUNDDOWN((IF(AA81>0,IFERROR(IF(AVERAGE(DataInput!Q80:Q81)>AVERAGE(AA81,AA80),ROUNDDOWN(((((AA80-Z80)+(AA81-Z81))/2)*(A81-A80))/27+S14+T14,0),IF(((((DataInput!Q81-Z81)+(DataInput!Q80-Z80))/2)*(A81-A80))/27+S14+T14>0,ROUNDDOWN(((((DataInput!Q81-Z80)+(DataInput!Q80-Z80))/2)*(A81-A80))/27+S14+T14,0),0)),0),0)*$X$5),1)","v":0},{"$f":"AC79","v":0},{"$f":"ROUNDDOWN((IF(AC81>0,IFERROR(IF(((((DataInput!Q80-AC80)+(DataInput!Q81-AC81))/2)*(A81-A80))/27+S14+T14>0,ROUNDDOWN(((((DataInput!Q80-AC80)+(DataInput!Q81-AC81))/2)*(A81-A80))/27+S14+T14,0),0),0),0)*$X$5),1)","v":0},{"$f":"DataInput!U80","v":8},{"$f":"DataInput!S80","v":17},23.8,-15.8]
[{"$f":"IF(DataInput!A81<>\"\",DataInput!A81,\"\")","v":57075},{"$f":"SUM(DataInput!C81,DataInput!Y81)+(DataInput!U81-DataInput!E81)","v":12},{"$f":"SUM(DataInput!D81,DataInput!Z81)","v":3},{"$f":"DataInput!U81","v":9},{"$f":"SUM(DataInput!F81,DataInput!AB81)","v":0},{"$f":"SUM(DataInput!G81,DataInput!AC81)","v":0},{"$f":"SUM(DataInput!H81,DataInput!AD81)","v":0},{"$f":"DataInput!I81","v":0},{"$f":"SUM(DataInput!J81,DataInput!AF81)","v":0},{"$f":"SUM(DataInput!K81,DataInput!AG81)","v":0},{"$f":"SUM(DataInput!L81,DataInput!AH81)","v":0},{"$f":"SUM(DataInput!M81,DataInput!AI81)","v":0},{"$f":"SUM(DataInput!N81,DataInput!AJ81)","v":0},{"$f":"SUM(DataInput!O81,DataInput!AK81)","v":0},{"$f":"DataInput!P81","v":0},null,3,{"$f":"DataInput!R81","v":21},{"$f":"DataInput!Y81","v":0},{"$f":"IF(DataInput!U81-DataInput!E81>0,DataInput!U81-DataInput!E81,\"\")","v":9},{"$f":"IF(DataInput!W81-DataInput!I81>0,DataInput!W81-DataInput!I81,\"\")","v":""},null,30,39,-36,0,0,{"$f":"ROUNDDOWN((IF(AA82>0,IFERROR(IF(AVERAGE(DataInput!Q81:Q82)>AVERAGE(AA82,AA81),ROUNDDOWN(((((AA81-Z81)+(AA82-Z82))/2)*(A82-A81))/27+S15+T15,0),IF(((((DataInput!Q82-Z82)+(DataInput!Q81-Z81))/2)*(A82-A81))/27+S15+T15>0,ROUNDDOWN(((((DataInput!Q82-Z81)+(DataInput!Q81-Z81))/2)*(A82-A81))/27+S15+T15,0),0)),0),0)*$X$5),1)","v":0},0,{"$f":"ROUNDDOWN((IF(AC82>0,IFERROR(IF(((((DataInput!Q81-AC81)+(DataInput!Q82-AC82))/2)*(A82-A81))/27+S15+T15>0,ROUNDDOWN(((((DataInput!Q81-AC81)+(DataInput!Q82-AC82))/2)*(A82-A81))/27+S15+T15,0),0),0),0)*$X$5),1)","v":0},{"$f":"DataInput!U81","v":9},{"$f":"DataInput!S81","v":18},25.2,-16.2]
[{"$f":"IF(DataInput!A82<>\"\",DataInput!A82,\"\")","v":57100},{"$f":"SUM(DataInput!C82,DataInput!Y82)+(DataInput!U82-DataInput!E82)","v":4},{"$f":"SUM(DataInput!D82,DataInput!Z82)","v":1},{"$f":"DataInput!U82","v":3},{"$f":"SUM(DataInput!F82,DataInput!AB82)","v":0},{"$f":"SUM(DataInput!G82,DataInput!AC82)","v":0},{"$f":"SUM(DataInput!H82,DataInput!AD82)","v":0},{"$f":"DataInput!I82","v":0},{"$f":"SUM(DataInput!J82,DataInput!AF82)","v":0},{"$f":"SUM(DataInput!K82,DataInput!AG82)","v":0},{"$f":"SUM(DataInput!L82,DataInput!AH82)","v":0},{"$f":"SUM(DataInput!M82,DataInput!AI82)","v":0},{"$f":"SUM(DataInput!N82,DataInput!AJ82)","v":0},{"$f":"SUM(DataInput!O82,DataInput!AK82)","v":0},{"$f":"DataInput!P82","v":0},null,1,{"$f":"DataInput!R82","v":10},{"$f":"DataInput!Y82","v":0},{"$f":"IF(DataInput!U82-DataInput!E82>0,DataInput!U82-DataInput!E82,\"\")","v":3},{"$f":"IF(DataInput!W82-DataInput!I82>0,DataInput!W82-DataInput!I82,\"\")","v":""},null,13,16.899999999999999,-15.9,0,0,{"$f":"ROUNDDOWN((IF(AA83>0,IFERROR(IF(AVERAGE(DataInput!Q82:Q83)>AVERAGE(AA83,AA82),ROUNDDOWN(((((AA82-Z82)+(AA83-Z83))/2)*(A83-A82))/27+S16+T16,0),IF(((((DataInput!Q83-Z83)+(DataInput!Q82-Z82))/2)*(A83-A82))/27+S16+T16>0,ROUNDDOWN(((((DataInput!Q83-Z82)+(DataInput!Q82-Z82))/2)*(A83-A82))/27+S16+T16,0),0)),0),0)*$X$5),1)","v":0},0,{"$f":"ROUNDDOWN((IF(AC83>0,IFERROR(IF(((((DataInput!Q82-AC82)+(DataInput!Q83-AC83))/2)*(A83-A82))/27+S16+T16>0,ROUNDDOWN(((((DataInput!Q82-AC82)+(DataInput!Q83-AC83))/2)*(A83-A82))/27+S16+T16,0),0),0),0)*$X$5),1)","v":0},{"$f":"DataInput!U82","v":3},{"$f":"DataInput!S82","v":6},8.4,-5.4]
[{"$f":"IF(DataInput!A83<>\"\",DataInput!A83,\"\")","v":57106.77},{"$f":"SUM(DataInput!C83,DataInput!Y83)+(DataInput!U83-DataInput!E83)","v":26},{"$f":"SUM(DataInput!D83,DataInput!Z83)","v":13},{"$f":"DataInput!U83","v":13},{"$f":"SUM(DataInput!F83,DataInput!AB83)","v":0},{"$f":"SUM(DataInput!G83,DataInput!AC83)","v":0},{"$f":"SUM(DataInput!H83,DataInput!AD83)","v":0},{"$f":"DataInput!I83","v":0},{"$f":"SUM(DataInput!J83,DataInput!AF83)","v":0},{"$f":"SUM(DataInput!K83,DataInput!AG83)","v":0},{"$f":"SUM(DataInput!L83,DataInput!AH83)","v":0},{"$f":"SUM(DataInput!M83,DataInput!AI83)","v":0},{"$f":"SUM(DataInput!N83,DataInput!AJ83)","v":0},{"$f":"SUM(DataInput!O83,DataInput!AK83)","v":0},{"$f":"DataInput!P83","v":0},null,13,{"$f":"DataInput!R83","v":48},{"$f":"DataInput!Y83","v":0},{"$f":"IF(DataInput!U83-DataInput!E83>0,DataInput!U83-DataInput!E83,\"\")","v":13},{"$f":"IF(DataInput!W83-DataInput!I83>0,DataInput!W83-DataInput!I83,\"\")","v":""},null,61,79.3,-66.3,0,0,{"$f":"ROUNDDOWN((IF(AA84>0,IFERROR(IF(AVERAGE(DataInput!Q83:Q84)>AVERAGE(AA84,AA83),ROUNDDOWN(((((AA83-Z83)+(AA84-Z84))/2)*(A84-A83))/27+S17+T17,0),IF(((((DataInput!Q84-Z84)+(DataInput!Q83-Z83))/2)*(A84-A83))/27+S17+T17>0,ROUNDDOWN(((((DataInput!Q84-Z83)+(DataInput!Q83-Z83))/2)*(A84-A83))/27+S17+T17,0),0)),0),0)*$X$5),1)","v":0},0,{"$f":"ROUNDDOWN((IF(AC84>0,IFERROR(IF(((((DataInput!Q83-AC83)+(DataInput!Q84-AC84))/2)*(A84-A83))/27+S17+T17>0,ROUNDDOWN(((((DataInput!Q83-AC83)+(DataInput!Q84-AC84))/2)*(A84-A83))/27+S17+T17,0),0),0),0)*$X$5),1)","v":0},{"$f":"DataInput!U83","v":13},{"$f":"DataInput!S83","v":25},35,-22]
[{"$f":"IF(DataInput!A84<>\"\",DataInput!A84,\"\")","v":57125},{"$f":"SUM(DataInput!C84,DataInput!Y84)+(DataInput!U84-DataInput!E84)","v":73},{"$f":"SUM(DataInput!D84,DataInput!Z84)","v":49},{"$f":"DataInput!U84","v":24},{"$f":"SUM(DataInput!F84,DataInput!AB84)","v":0},{"$f":"SUM(DataInput!G84,DataInput!AC84)","v":0},{"$f":"SUM(DataInput!H84,DataInput!AD84)","v":0},{"$f":"DataInput!I84","v":0},{"$f":"SUM(DataInput!J84,DataInput!AF84)","v":0},{"$f":"SUM(DataInput!K84,DataInput!AG84)","v":0},{"$f":"SUM(DataInput!L84,DataInput!AH84)","v":0},{"$f":"SUM(DataInput!M84,DataInput!AI84)","v":0},{"$f":"SUM(DataInput!N84,DataInput!AJ84)","v":0},{"$f":"SUM(DataInput!O84,DataInput!AK84)","v":0},{"$f":"DataInput!P84","v":0},null,49,{"$f":"DataInput!R84","v":97},{"$f":"DataInput!Y84","v":0},{"$f":"IF(DataInput!U84-DataInput!E84>0,DataInput!U84-DataInput!E84,\"\")","v":24},{"$f":"IF(DataInput!W84-DataInput!I84>0,DataInput!W84-DataInput!I84,\"\")","v":""},null,121,157.30000000000001,-108.3,0,0,{"$f":"ROUNDDOWN((IF(AA85>0,IFERROR(IF(AVERAGE(DataInput!Q84:Q85)>AVERAGE(AA85,AA84),ROUNDDOWN(((((AA84-Z84)+(AA85-Z85))/2)*(A85-A84))/27+S18+T18,0),IF(((((DataInput!Q85-Z85)+(DataInput!Q84-Z84))/2)*(A85-A84))/27+S18+T18>0,ROUNDDOWN(((((DataInput!Q85-Z84)+(DataInput!Q84-Z84))/2)*(A85-A84))/27+S18+T18,0),0)),0),0)*$X$5),1)","v":0},0,{"$f":"ROUNDDOWN((IF(AC85>0,IFERROR(IF(((((DataInput!Q84-AC84)+(DataInput!Q85-AC85))/2)*(A85-A84))/27+S18+T18>0,ROUNDDOWN(((((DataInput!Q84-AC84)+(DataInput!Q85-AC85))/2)*(A85-A84))/27+S18+T18,0),0),0),0)*$X$5),1)","v":0},{"$f":"DataInput!U84","v":24},{"$f":"DataInput!S84","v":47},65.8,-41.8]
[{"$f":"IF(DataInput!A85<>\"\",DataInput!A85,\"\")","v":57150},{"$f":"SUM(DataInput!C85,DataInput!Y85)+(DataInput!U85-DataInput!E85)","v":29},{"$f":"SUM(DataInput!D85,DataInput!Z85)","v":18},{"$f":"DataInput!U85","v":11},{"$f":"SUM(DataInput!F85,DataInput!AB85)","v":0},{"$f":"SUM(DataInput!G85,DataInput!AC85)","v":0},{"$f":"SUM(DataInput!H85,DataInput!AD85)","v":0},{"$f":"DataInput!I85","v":0},{"$f":"SUM(DataInput!J85,DataInput!AF85)","v":0},{"$f":"SUM(DataInput!K85,DataInput!AG85)","v":0},{"$f":"SUM(DataInput!L85,DataInput!AH85)","v":0},{"$f":"SUM(DataInput!M85,DataInput!AI85)","v":0},{"$f":"SUM(DataInput!N85,DataInput!AJ85)","v":0},{"$f":"SUM(DataInput!O85,DataInput!AK85)","v":0},{"$f":"DataInput!P85","v":0},null,18,{"$f":"DataInput!R85","v":27},{"$f":"DataInput!Y85","v":0},{"$f":"IF(DataInput!U85-DataInput!E85>0,DataInput!U85-DataInput!E85,\"\")","v":11},{"$f":"IF(DataInput!W85-DataInput!I85>0,DataInput!W85-DataInput!I85,\"\")","v":""},null,38,49.4,-31.4,0,0,{"$f":"ROUNDDOWN((IF(AA86>0,IFERROR(IF(AVERAGE(DataInput!Q85:Q86)>AVERAGE(AA86,AA85),ROUNDDOWN(((((AA85-Z85)+(AA86-Z86))/2)*(A86-A85))/27+S19+T19,0),IF(((((DataInput!Q86-Z86)+(DataInput!Q85-Z85))/2)*(A86-A85))/27+S19+T19>0,ROUNDDOWN(((((DataInput!Q86-Z85)+(DataInput!Q85-Z85))/2)*(A86-A85))/27+S19+T19,0),0)),0),0)*$X$5),1)","v":0},0,{"$f":"ROUNDDOWN((IF(AC86>0,IFERROR(IF(((((DataInput!Q85-AC85)+(DataInput!Q86-AC86))/2)*(A86-A85))/27+S19+T19>0,ROUNDDOWN(((((DataInput!Q85-AC85)+(DataInput!Q86-AC86))/2)*(A86-A85))/27+S19+T19,0),0),0),0)*$X$5),1)","v":0},{"$f":"DataInput!U85","v":11},{"$f":"DataInput!S85","v":21},29.4,-18.399999999999999]
[{"$f":"IF(DataInput!A86<>\"\",DataInput!A86,\"\")","v":57162.2},{"$f":"SUM(DataInput!C86,DataInput!Y86)+(DataInput!U86-DataInput!E86)","v":24},{"$f":"SUM(DataInput!D86,DataInput!Z86)","v":13},{"$f":"DataInput!U86","v":11},{"$f":"SUM(DataInput!F86,DataInput!AB86)","v":0},{"$f":"SUM(DataInput!G86,DataInput!AC86)","v":0},{"$f":"SUM(DataInput!H86,DataInput!AD86)","v":0},{"$f":"DataInput!I86","v":0},{"$f":"SUM(DataInput!J86,DataInput!AF86)","v":0},{"$f":"SUM(DataInput!K86,DataInput!AG86)","v":0},{"$f":"SUM(DataInput!L86,DataInput!AH86)","v":0},{"$f":"SUM(DataInput!M86,DataInput!AI86)","v":0},{"$f":"SUM(DataInput!N86,DataInput!AJ86)","v":0},{"$f":"SUM(DataInput!O86,DataInput!AK86)","v":0},{"$f":"DataInput!P86","v":0},null,13,{"$f":"DataInput!R86","v":30},{"$f":"DataInput!Y86","v":0},{"$f":"IF(DataInput!U86-DataInput!E86>0,DataInput!U86-DataInput!E86,\"\")","v":11},{"$f":"IF(DataInput!W86-DataInput!I86>0,DataInput!W86-DataInput!I86,\"\")","v":""},null,41,53.3,-40.299999999999997,0,0,{"$f":"ROUNDDOWN((IF(AA87>0,IFERROR(IF(AVERAGE(DataInput!Q86:Q87)>AVERAGE(AA87,AA86),ROUNDDOWN(((((AA86-Z86)+(AA87-Z87))/2)*(A87-A86))/27+S20+T20,0),IF(((((DataInput!Q87-Z87)+(DataInput!Q86-Z86))/2)*(A87-A86))/27+S20+T20>0,ROUNDDOWN(((((DataInput!Q87-Z86)+(DataInput!Q86-Z86))/2)*(A87-A86))/27+S20+T20,0),0)),0),0)*$X$5),1)","v":0},0,{"$f":"ROUNDDOWN((IF(AC87>0,IFERROR(IF(((((DataInput!Q86-AC86)+(DataInput!Q87-AC87))/2)*(A87-A86))/27+S20+T20>0,ROUNDDOWN(((((DataInput!Q86-AC86)+(DataInput!Q87-AC87))/2)*(A87-A86))/27+S20+T20,0),0),0),0)*$X$5),1)","v":0},{"$f":"DataInput!U86","v":11},{"$f":"DataInput!S86","v":21},29.4,-18.399999999999999]
[{"$f":"IF(DataInput!A87<>\"\",DataInput!A87,\"\")","v":57175},{"$f":"SUM(DataInput!C87,DataInput!Y87)+(DataInput!U87-DataInput!E87)","v":50},{"$f":"SUM(DataInput!D87,DataInput!Z87)","v":30},{"$f":"DataInput!U87","v":20},{"$f":"SUM(DataInput!F87,DataInput!AB87)","v":0},{"$f":"SUM(DataInput!G87,DataInput!AC87)","v":0},{"$f":"SUM(DataInput!H87,DataInput!AD87)","v":0},{"$f":"DataInput!I87","v":0},{"$f":"SUM(DataInput!J87,DataInput!AF87)","v":0},{"$f":"SUM(DataInput!K87,DataInput!AG87)","v":0},{"$f":"SUM(DataInput!L87,DataInput!AH87)","v":0},{"$f":"SUM(DataInput!M87,DataInput!AI87)","v":0},{"$f":"SUM(DataInput!N87,DataInput!AJ87)","v":0},{"$f":"SUM(DataInput!O87,DataInput!AK87)","v":0},{"$f":"DataInput!P87","v":0},null,30,{"$f":"DataInput!R87","v":66},{"$f":"DataInput!Y87","v":0},{"$f":"IF(DataInput!U87-DataInput!E87>0,DataInput!U87-DataInput!E87,\"\")","v":20},{"$f":"IF(DataInput!W87-DataInput!I87>0,DataInput!W87-DataInput!I87,\"\")","v":""},null,86,111.8,-81.8,0,0,{"$f":"ROUNDDOWN((IF(AA88>0,IFERROR(IF(AVERAGE(DataInput!Q87:Q88)>AVERAGE(AA88,AA87),ROUNDDOWN(((((AA87-Z87)+(AA88-Z88))/2)*(A88-A87))/27+S21+T21,0),IF(((((DataInput!Q88-Z88)+(DataInput!Q87-Z87))/2)*(A88-A87))/27+S21+T21>0,ROUNDDOWN(((((DataInput!Q88-Z87)+(DataInput!Q87-Z87))/2)*(A88-A87))/27+S21+T21,0),0)),0),0)*$X$5),1)","v":0},0,{"$f":"ROUNDDOWN((IF(AC88>0,IFERROR(IF(((((DataInput!Q87-AC87)+(DataInput!Q88-AC88))/2)*(A88-A87))/27+S21+T21>0,ROUNDDOWN(((((DataInput!Q87-AC87)+(DataInput!Q88-AC88))/2)*(A88-A87))/27+S21+T21,0),0),0),0)*$X$5),1)","v":0},{"$f":"DataInput!U87","v":20},{"$f":"DataInput!S87","v":40},56,-36]
[{"$f":"IF(DataInput!A88<>\"\",DataInput!A88,\"\")","v":57200},{"$f":"SUM(DataInput!C88,DataInput!Y88)+(DataInput!U88-DataInput!E88)","v":19},{"$f":"SUM(DataInput!D88,DataInput!Z88)","v":10},{"$f":"DataInput!U88","v":9},{"$f":"SUM(DataInput!F88,DataInput!AB88)","v":0},{"$f":"SUM(DataInput!G88,DataInput!AC88)","v":0},{"$f":"SUM(DataInput!H88,DataInput!AD88)","v":0},{"$f":"DataInput!I88","v":0},{"$f":"SUM(DataInput!J88,DataInput!AF88)","v":0},{"$f":"SUM(DataInput!K88,DataInput!AG88)","v":0},{"$f":"SUM(DataInput!L88,DataInput!AH88)","v":0},{"$f":"SUM(DataInput!M88,DataInput!AI88)","v":0},{"$f":"SUM(DataInput!N88,DataInput!AJ88)","v":0},{"$f":"SUM(DataInput!O88,DataInput!AK88)","v":0},{"$f":"DataInput!P88","v":0},null,10,{"$f":"DataInput!R88","v":6},{"$f":"DataInput!Y88","v":0},{"$f":"IF(DataInput!U88-DataInput!E88>0,DataInput!U88-DataInput!E88,\"\")","v":9},{"$f":"IF(DataInput!W88-DataInput!I88>0,DataInput!W88-DataInput!I88,\"\")","v":""},null,15,19.5,-9.5,0,0,{"$f":"ROUNDDOWN((IF(AA89>0,IFERROR(IF(AVERAGE(DataInput!Q88:Q89)>AVERAGE(AA89,AA88),ROUNDDOWN(((((AA88-Z88)+(AA89-Z89))/2)*(A89-A88))/27+S22+T22,0),IF(((((DataInput!Q89-Z89)+(DataInput!Q88-Z88))/2)*(A89-A88))/27+S22+T22>0,ROUNDDOWN(((((DataInput!Q89-Z88)+(DataInput!Q88-Z88))/2)*(A89-A88))/27+S22+T22,0),0)),0),0)*$X$5),1)","v":0},0,{"$f":"ROUNDDOWN((IF(AC89>0,IFERROR(IF(((((DataInput!Q88-AC88)+(DataInput!Q89-AC89))/2)*(A89-A88))/27+S22+T22>0,ROUNDDOWN(((((DataInput!Q88-AC88)+(DataInput!Q89-AC89))/2)*(A89-A88))/27+S22+T22,0),0),0),0)*$X$5),1)","v":0},{"$f":"DataInput!U88","v":9},{"$f":"DataInput!S88","v":18},25.2,-16.2]
[{"$f":"IF(DataInput!A89<>\"\",DataInput!A89,\"\")","v":57216.54},{"$f":"SUM(DataInput!C89,DataInput!Y89)+(DataInput!U89-DataInput!E89)","v":5},{"$f":"SUM(DataInput!D89,DataInput!Z89)","v":2},{"$f":"DataInput!U89","v":3},{"$f":"SUM(DataInput!F89,DataInput!AB89)","v":0},{"$f":"SUM(DataInput!G89,DataInput!AC89)","v":0},{"$f":"SUM(DataInput!H89,DataInput!AD89)","v":0},{"$f":"DataInput!I89","v":0},{"$f":"SUM(DataInput!J89,DataInput!AF89)","v":0},{"$f":"SUM(DataInput!K89,DataInput!AG89)","v":0},{"$f":"SUM(DataInput!L89,DataInput!AH89)","v":0},{"$f":"SUM(DataInput!M89,DataInput!AI89)","v":0},{"$f":"SUM(DataInput!N89,DataInput!AJ89)","v":0},{"$f":"SUM(DataInput!O89,DataInput!AK89)","v":0},{"$f":"DataInput!P89","v":0},null,2,{"$f":"DataInput!R89","v":2},{"$f":"DataInput!Y89","v":0},{"$f":"IF(DataInput!U89-DataInput!E89>0,DataInput!U89-DataInput!E89,\"\")","v":3},{"$f":"IF(DataInput!W89-DataInput!I89>0,DataInput!W89-DataInput!I89,\"\")","v":""},null,5,6.5,-4.5,0,0,{"$f":"ROUNDDOWN((IF(AA90>0,IFERROR(IF(AVERAGE(DataInput!Q89:Q90)>AVERAGE(AA90,AA89),ROUNDDOWN(((((AA89-Z89)+(AA90-Z90))/2)*(A90-A89))/27+S23+T23,0),IF(((((DataInput!Q90-Z90)+(DataInput!Q89-Z89))/2)*(A90-A89))/27+S23+T23>0,ROUNDDOWN(((((DataInput!Q90-Z89)+(DataInput!Q89-Z89))/2)*(A90-A89))/27+S23+T23,0),0)),0),0)*$X$5),1)","v":0},0,{"$f":"ROUNDDOWN((IF(AC90>0,IFERROR(IF(((((DataInput!Q89-AC89)+(DataInput!Q90-AC90))/2)*(A90-A89))/27+S23+T23>0,ROUNDDOWN(((((DataInput!Q89-AC89)+(DataInput!Q90-AC90))/2)*(A90-A89))/27+S23+T23,0),0),0),0)*$X$5),1)","v":0},{"$f":"DataInput!U89","v":3},{"$f":"DataInput!S89","v":6},8.4,-5.4]
[{"$f":"IF(DataInput!A90<>\"\",DataInput!A90,\"\")","v":57225},{"$f":"SUM(DataInput!C90,DataInput!Y90)+(DataInput!U90-DataInput!E90)","v":12},{"$f":"SUM(DataInput!D90,DataInput!Z90)","v":4},{"$f":"DataInput!U90","v":8},{"$f":"SUM(DataInput!F90,DataInput!AB90)","v":0},{"$f":"SUM(DataInput!G90,DataInput!AC90)","v":0},{"$f":"SUM(DataInput!H90,DataInput!AD90)","v":0},{"$f":"DataInput!I90","v":0},{"$f":"SUM(DataInput!J90,DataInput!AF90)","v":0},{"$f":"SUM(DataInput!K90,DataInput!AG90)","v":0},{"$f":"SUM(DataInput!L90,DataInput!AH90)","v":0},{"$f":"SUM(DataInput!M90,DataInput!AI90)","v":0},{"$f":"SUM(DataInput!N90,DataInput!AJ90)","v":0},{"$f":"SUM(DataInput!O90,DataInput!AK90)","v":0},{"$f":"DataInput!P90","v":0},null,4,{"$f":"DataInput!R90","v":5},{"$f":"DataInput!Y90","v":0},{"$f":"IF(DataInput!U90-DataInput!E90>0,DataInput!U90-DataInput!E90,\"\")","v":8},{"$f":"IF(DataInput!W90-DataInput!I90>0,DataInput!W90-DataInput!I90,\"\")","v":""},null,13,16.899999999999999,-12.9,0,0,{"$f":"ROUNDDOWN((IF(AA91>0,IFERROR(IF(AVERAGE(DataInput!Q90:Q91)>AVERAGE(AA91,AA90),ROUNDDOWN(((((AA90-Z90)+(AA91-Z91))/2)*(A91-A90))/27+S24+T24,0),IF(((((DataInput!Q91-Z91)+(DataInput!Q90-Z90))/2)*(A91-A90))/27+S24+T24>0,ROUNDDOWN(((((DataInput!Q91-Z90)+(DataInput!Q90-Z90))/2)*(A91-A90))/27+S24+T24,0),0)),0),0)*$X$5),1)","v":0},0,{"$f":"ROUNDDOWN((IF(AC91>0,IFERROR(IF(((((DataInput!Q90-AC90)+(DataInput!Q91-AC91))/2)*(A91-A90))/27+S24+T24>0,ROUNDDOWN(((((DataInput!Q90-AC90)+(DataInput!Q91-AC91))/2)*(A91-A90))/27+S24+T24,0),0),0),0)*$X$5),1)","v":0},{"$f":"DataInput!U90","v":8},{"$f":"DataInput!S90","v":15},21,-13]
[{"$f":"IF(DataInput!A91<>\"\",DataInput!A91,\"\")","v":57250},{"$f":"SUM(DataInput!C91,DataInput!Y91)+(DataInput!U91-DataInput!E91)","v":10},{"$f":"SUM(DataInput!D91,DataInput!Z91)","v":4},{"$f":"DataInput!U91","v":6},{"$f":"SUM(DataInput!F91,DataInput!AB91)","v":0},{"$f":"SUM(DataInput!G91,DataInput!AC91)","v":0},{"$f":"SUM(DataInput!H91,DataInput!AD91)","v":0},{"$f":"DataInput!I91","v":0},{"$f":"SUM(DataInput!J91,DataInput!AF91)","v":0},{"$f":"SUM(DataInput!K91,DataInput!AG91)","v":0},{"$f":"SUM(DataInput!L91,DataInput!AH91)","v":0},{"$f":"SUM(DataInput!M91,DataInput!AI91)","v":0},{"$f":"SUM(DataInput!N91,DataInput!AJ91)","v":0},{"$f":"SUM(DataInput!O91,DataInput!AK91)","v":0},{"$f":"DataInput!P91","v":0},null,4,{"$f":"DataInput!R91","v":2},{"$f":"DataInput!Y91","v":0},{"$f":"IF(DataInput!U91-DataInput!E91>0,DataInput!U91-DataInput!E91,\"\")","v":6},{"$f":"IF(DataInput!W91-DataInput!I91>0,DataInput!W91-DataInput!I91,\"\")","v":""},null,8,10.4,-6.4,0,0,{"$f":"ROUNDDOWN((IF(AA92>0,IFERROR(IF(AVERAGE(DataInput!Q91:Q92)>AVERAGE(AA92,AA91),ROUNDDOWN(((((AA91-Z91)+(AA92-Z92))/2)*(A92-A91))/27+S25+T25,0),IF(((((DataInput!Q92-Z92)+(DataInput!Q91-Z91))/2)*(A92-A91))/27+S25+T25>0,ROUNDDOWN(((((DataInput!Q92-Z91)+(DataInput!Q91-Z91))/2)*(A92-A91))/27+S25+T25,0),0)),0),0)*$X$5),1)","v":0},0,{"$f":"ROUNDDOWN((IF(AC92>0,IFERROR(IF(((((DataInput!Q91-AC91)+(DataInput!Q92-AC92))/2)*(A92-A91))/27+S25+T25>0,ROUNDDOWN(((((DataInput!Q91-AC91)+(DataInput!Q92-AC92))/2)*(A92-A91))/27+S25+T25,0),0),0),0)*$X$5),1)","v":0},{"$f":"DataInput!U91","v":6},{"$f":"DataInput!S91","v":11},15.4,-9.4]
[{"$f":"IF(DataInput!A92<>\"\",DataInput!A92,\"\")","v":57275},{"$f":"SUM(DataInput!C92,DataInput!Y92)+(DataInput!U92-DataInput!E92)","v":9},{"$f":"SUM(DataInput!D92,DataInput!Z92)","v":5},{"$f":"DataInput!U92","v":4},{"$f":"SUM(DataInput!F92,DataInput!AB92)","v":0},{"$f":"SUM(DataInput!G92,DataInput!AC92)","v":0},{"$f":"SUM(DataInput!H92,DataInput!AD92)","v":0},{"$f":"DataInput!I92","v":0},{"$f":"SUM(DataInput!J92,DataInput!AF92)","v":0},{"$f":"SUM(DataInput!K92,DataInput!AG92)","v":0},{"$f":"SUM(DataInput!L92,DataInput!AH92)","v":0},{"$f":"SUM(DataInput!M92,DataInput!AI92)","v":0},{"$f":"SUM(DataInput!N92,DataInput!AJ92)","v":0},{"$f":"SUM(DataInput!O92,DataInput!AK92)","v":0},{"$f":"DataInput!P92","v":0},null,5,{"$f":"DataInput!R92","v":0},{"$f":"DataInput!Y92","v":0},{"$f":"IF(DataInput!U92-DataInput!E92>0,DataInput!U92-DataInput!E92,\"\")","v":4},{"$f":"IF(DataInput!W92-DataInput!I92>0,DataInput!W92-DataInput!I92,\"\")","v":""},null,4,5.2,-0.2,0,0,{"$f":"ROUNDDOWN((IF(AA93>0,IFERROR(IF(AVERAGE(DataInput!Q92:Q93)>AVERAGE(AA93,AA92),ROUNDDOWN(((((AA92-Z92)+(AA93-Z93))/2)*(A93-A92))/27+S26+T26,0),IF(((((DataInput!Q93-Z93)+(DataInput!Q92-Z92))/2)*(A93-A92))/27+S26+T26>0,ROUNDDOWN(((((DataInput!Q93-Z92)+(DataInput!Q92-Z92))/2)*(A93-A92))/27+S26+T26,0),0)),0),0)*$X$5),1)","v":0},0,{"$f":"ROUNDDOWN((IF(AC93>0,IFERROR(IF(((((DataInput!Q92-AC92)+(DataInput!Q93-AC93))/2)*(A93-A92))/27+S26+T26>0,ROUNDDOWN(((((DataInput!Q92-AC92)+(DataInput!Q93-AC93))/2)*(A93-A92))/27+S26+T26,0),0),0),0)*$X$5),1)","v":0},{"$f":"DataInput!U92","v":4},{"$f":"DataInput!S92","v":7},9.8000000000000007,-5.8]
[{"$f":"IF(DataInput!A93<>\"\",DataInput!A93,\"\")","v":57300},{"$f":"SUM(DataInput!C93,DataInput!Y93)+(DataInput!U93-DataInput!E93)","v":6},{"$f":"SUM(DataInput!D93,DataInput!Z93)","v":4},{"$f":"DataInput!U93","v":2},{"$f":"SUM(DataInput!F93,DataInput!AB93)","v":0},{"$f":"SUM(DataInput!G93,DataInput!AC93)","v":0},{"$f":"SUM(DataInput!H93,DataInput!AD93)","v":0},{"$f":"DataInput!I93","v":0},{"$f":"SUM(DataInput!J93,DataInput!AF93)","v":0},{"$f":"SUM(DataInput!K93,DataInput!AG93)","v":0},{"$f":"SUM(DataInput!L93,DataInput!AH93)","v":0},{"$f":"SUM(DataInput!M93,DataInput!AI93)","v":0},{"$f":"SUM(DataInput!N93,DataInput!AJ93)","v":0},{"$f":"SUM(DataInput!O93,DataInput!AK93)","v":0},{"$f":"DataInput!P93","v":0},null,4,{"$f":"DataInput!R93","v":0},{"$f":"DataInput!Y93","v":0},{"$f":"IF(DataInput!U93-DataInput!E93>0,DataInput!U93-DataInput!E93,\"\")","v":2},{"$f":"IF(DataInput!W93-DataInput!I93>0,DataInput!W93-DataInput!I93,\"\")","v":""},null,2,2.6,1.4,0,0,{"$f":"ROUNDDOWN((IF(AA94>0,IFERROR(IF(AVERAGE(DataInput!Q93:Q94)>AVERAGE(AA94,AA93),ROUNDDOWN(((((AA93-Z93)+(AA94-Z94))/2)*(A94-A93))/27+S27+T27,0),IF(((((DataInput!Q94-Z94)+(DataInput!Q93-Z93))/2)*(A94-A93))/27+S27+T27>0,ROUNDDOWN(((((DataInput!Q94-Z93)+(DataInput!Q93-Z93))/2)*(A94-A93))/27+S27+T27,0),0)),0),0)*$X$5),1)","v":0},0,{"$f":"ROUNDDOWN((IF(AC94>0,IFERROR(IF(((((DataInput!Q93-AC93)+(DataInput!Q94-AC94))/2)*(A94-A93))/27+S27+T27>0,ROUNDDOWN(((((DataInput!Q93-AC93)+(DataInput!Q94-AC94))/2)*(A94-A93))/27+S27+T27,0),0),0),0)*$X$5),1)","v":0},{"$f":"DataInput!U93","v":2},{"$f":"DataInput!S93","v":3},4.2,-2.2000000000000002]
[{"$f":"IF(DataInput!A94<>\"\",DataInput!A94,\"\")","v":57325}]
[]
[{"$f":"IF(DataInput!A96<>\"\",DataInput!A96,\"\")","v":"Sta. 581+05"}]
[{"$f":"IF(DataInput!A97<>\"\",DataInput!A97,\"\")","v":58075},{"$f":"SUM(DataInput!C97,DataInput!Y97)+(DataInput!U97-DataInput!E97)","v":17},{"$f":"SUM(DataInput!D97,DataInput!Z97)","v":11},{"$f":"DataInput!U97","v":6},{"$f":"SUM(DataInput!F97,DataInput!AB97)","v":0},{"$f":"SUM(DataInput!G97,DataInput!AC97)","v":0},{"$f":"SUM(DataInput!H97,DataInput!AD97)","v":0},{"$f":"DataInput!I97","v":0},{"$f":"SUM(DataInput!J97,DataInput!AF97)","v":0},{"$f":"SUM(DataInput!K97,DataInput!AG97)","v":0},{"$f":"SUM(DataInput!L97,DataInput!AH97)","v":0},{"$f":"SUM(DataInput!M97,DataInput!AI97)","v":0},{"$f":"SUM(DataInput!N97,DataInput!AJ97)","v":0},{"$f":"SUM(DataInput!O97,DataInput!AK97)","v":0},{"$f":"DataInput!P97","v":0},null,{"$f":"SUM(C97,E97:G97,I97:L97,N97:P97)","v":11},{"$f":"DataInput!R97","v":7},{"$f":"DataInput!Y97","v":0},{"$f":"IF(DataInput!U97-DataInput!E97>0,DataInput!U97-DataInput!E97,\"\")","v":6},{"$f":"IF(DataInput!W97-DataInput!I97>0,DataInput!W97-DataInput!I97,\"\")","v":""},null,{"$f":"SUM(R97:V97)","v":13},{"$f":"ROUNDUP(($W97*$X$5),1)","v":16.899999999999999},{"$f":"ROUNDUP(SUM(Q97-X97),1)","v":-5.9},null,null,{"$f":"ROUNDDOWN((IF(AA98>0,IFERROR(IF(AVERAGE(DataInput!Q97:Q98)>AVERAGE(AA98,AA97),ROUNDDOWN(((((AA97-Z97)+(AA98-Z98))/2)*(A98-A97))/27+S12+T12,0),IF(((((DataInput!Q98-Z98)+(DataInput!Q97-Z97))/2)*(A98-A97))/27+S12+T12>0,ROUNDDOWN(((((DataInput!Q98-Z97)+(DataInput!Q97-Z97))/2)*(A98-A97))/27+S12+T12,0),0)),0),0)*$X$5),1)","v":0},null,{"$f":"ROUNDDOWN((IF(AC98>0,IFERROR(IF(((((DataInput!Q97-AC97)+(DataInput!Q98-AC98))/2)*(A98-A97))/27+S12+T12>0,ROUNDDOWN(((((DataInput!Q97-AC97)+(DataInput!Q98-AC98))/2)*(A98-A97))/27+S12+T12,0),0),0),0)*$X$5),1)","v":0},{"$f":"DataInput!U97","v":6},{"$f":"DataInput!S97","v":11},{"$f":"ROUNDUP((AF97*$AG$5),1)","v":15.4},{"$f":"ROUNDUP((AE97-AG97),1)","v":-9.4}]
[{"$f":"IF(DataInput!A98<>\"\",DataInput!A98,\"\")","v":58100},{"$f":"SUM(DataInput!C98,DataInput!Y98)+(DataInput!U98-DataInput!E98)","v":8},{"$f":"SUM(DataInput!D98,DataInput!Z98)","v":2},{"$f":"DataInput!U98","v":6},{"$f":"SUM(DataInput!F98,DataInput!AB98)","v":0},{"$f":"SUM(DataInput!G98,DataInput!AC98)","v":0},{"$f":"SUM(DataInput!H98,DataInput!AD98)","v":0},{"$f":"DataInput!I98","v":0},{"$f":"SUM(DataInput!J98,DataInput!AF98)","v":0},{"$f":"SUM(DataInput!K98,DataInput!AG98)","v":0},{"$f":"SUM(DataInput!L98,DataInput!AH98)","v":0},{"$f":"SUM(DataInput!M98,DataInput!AI98)","v":0},{"$f":"SUM(DataInput!N98,DataInput!AJ98)","v":0},{"$f":"SUM(DataInput!O98,DataInput!AK98)","v":0},{"$f":"DataInput!P98","v":0},null,{"$f":"SUM(C98,E98:G98,I98:L98,N98:P98)","v":2},{"$f":"DataInput!R98","v":3},{"$f":"DataInput!Y98","v":0},{"$f":"IF(DataInput!U98-DataInput!E98>0,DataInput!U98-DataInput!E98,\"\")","v":6},{"$f":"IF(DataInput!W98-DataInput!I98>0,DataInput!W98-DataInput!I98,\"\")","v":""},null,{"$f":"SUM(R98:V98)","v":9},{"$f":"ROUNDUP(($W98*$X$5),1)","v":11.7},{"$f":"ROUNDUP(SUM(Q98-X98),1)","v":-9.6999999999999993},{"$f":"Z97","v":0},{"$f":"AA97","v":0},{"$f":"ROUNDDOWN((IF(AA99>0,IFERROR(IF(AVERAGE(DataInput!Q98:Q99)>AVERAGE(AA99,AA98),ROUNDDOWN(((((AA98-Z98)+(AA99-Z99))/2)*(A99-A98))/27+S13+T13,0),IF(((((DataInput!Q99-Z99)+(DataInput!Q98-Z98))/2)*(A99-A98))/27+S13+T13>0,ROUNDDOWN(((((DataInput!Q99-Z98)+(DataInput!Q98-Z98))/2)*(A99-A98))/27+S13+T13,0),0)),0),0)*$X$5),1)","v":0},{"$f":"AC97","v":0},{"$f":"ROUNDDOWN((IF(AC99>0,IFERROR(IF(((((DataInput!Q98-AC98)+(DataInput!Q99-AC99))/2)*(A99-A98))/27+S13+T13>0,ROUNDDOWN(((((DataInput!Q98-AC98)+(DataInput!Q99-AC99))/2)*(A99-A98))/27+S13+T13,0),0),0),0)*$X$5),1)","v":0},{"$f":"DataInput!U98","v":6},{"$f":"DataInput!S98","v":2},{"$f":"ROUNDUP((AF98*$AG$5),1)","v":2.8},{"$f":"ROUNDUP((AE98-AG98),1)","v":3.2}]
[{"$f":"IF(DataInput!A99<>\"\",DataInput!A99,\"\")","v":58105.47},{"$f":"SUM(DataInput!C99,DataInput!Y99)+(DataInput!U99-DataInput!E99)","v":7},{"$f":"SUM(DataInput!D99,DataInput!Z99)","v":7},{"$f":"DataInput!U99","v":0},{"$f":"SUM(DataInput!F99,DataInput!AB99)","v":0},{"$f":"SUM(DataInput!G99,DataInput!AC99)","v":0},{"$f":"SUM(DataInput!H99,DataInput!AD99)","v":0},{"$f":"DataInput!I99","v":0},{"$f":"SUM(DataInput!J99,DataInput!AF99)","v":0},{"$f":"SUM(DataInput!K99,DataInput!AG99)","v":0},{"$f":"SUM(DataInput!L99,DataInput!AH99)","v":0},{"$f":"SUM(DataInput!M99,DataInput!AI99)","v":0},{"$f":"SUM(DataInput!N99,DataInput!AJ99)","v":0},{"$f":"SUM(DataInput!O99,DataInput!AK99)","v":0},{"$f":"DataInput!P99","v":0},null,7,{"$f":"DataInput!R99","v":10},{"$f":"DataInput!Y99","v":0},{"$f":"IF(DataInput!U99-DataInput!E99>0,DataInput!U99-DataInput!E99,\"\")","v":""},{"$f":"IF(DataInput!W99-DataInput!I99>0,DataInput!W99-DataInput!I99,\"\")","v":""},null,10,13,-6,{"$f":"Z98","v":0},{"$f":"AA98","v":0},{"$f":"ROUNDDOWN((IF(AA100>0,IFERROR(IF(AVERAGE(DataInput!Q99:Q100)>AVERAGE(AA100,AA99),ROUNDDOWN(((((AA99-Z99)+(AA100-Z100))/2)*(A100-A99))/27+S14+T14,0),IF(((((DataInput!Q100-Z100)+(DataInput!Q99-Z99))/2)*(A100-A99))/27+S14+T14>0,ROUNDDOWN(((((DataInput!Q100-Z99)+(DataInput!Q99-Z99))/2)*(A100-A99))/27+S14+T14,0),0)),0),0)*$X$5),1)","v":0},{"$f":"AC98","v":0},{"$f":"ROUNDDOWN((IF(AC100>0,IFERROR(IF(((((DataInput!Q99-AC99)+(DataInput!Q100-AC100))/2)*(A100-A99))/27+S14+T14>0,ROUNDDOWN(((((DataInput!Q99-AC99)+(DataInput!Q100-AC100))/2)*(A100-A99))/27+S14+T14,0),0),0),0)*$X$5),1)","v":0},{"$f":"DataInput!U99","v":0},{"$f":"DataInput!S99","v":9},12.6,-12.6]
[{"$f":"IF(DataInput!A100<>\"\",DataInput!A100,\"\")","v":58125}]
[]
[{"$f":"IF(DataInput!A102<>\"\",DataInput!A102,\"\")","v":"Sta. 651+43"}]
[{"$f":"IF(DataInput!A103<>\"\",DataInput!A103,\"\")","v":65050},{"$f":"SUM(DataInput!C103,DataInput!Y103)+(DataInput!U103-DataInput!E103)","v":23},{"$f":"SUM(DataInput!D103,DataInput!Z103)","v":15},{"$f":"DataInput!U103","v":8},{"$f":"SUM(DataInput!F103,DataInput!AB103)","v":0},{"$f":"SUM(DataInput!G103,DataInput!AC103)","v":0},{"$f":"SUM(DataInput!H103,DataInput!AD103)","v":0},{"$f":"DataInput!I103","v":0},{"$f":"SUM(DataInput!J103,DataInput!AF103)","v":0},{"$f":"SUM(DataInput!K103,DataInput!AG103)","v":0},{"$f":"SUM(DataInput!L103,DataInput!AH103)","v":0},{"$f":"SUM(DataInput!M103,DataInput!AI103)","v":0},{"$f":"SUM(DataInput!N103,DataInput!AJ103)","v":0},{"$f":"SUM(DataInput!O103,DataInput!AK103)","v":0},{"$f":"DataInput!P103","v":0},null,{"$f":"SUM(C103,E103:G103,I103:L103,N103:P103)","v":15},{"$f":"DataInput!R103","v":3},{"$f":"DataInput!Y103","v":0},{"$f":"IF(DataInput!U103-DataInput!E103>0,DataInput!U103-DataInput!E103,\"\")","v":8},{"$f":"IF(DataInput!W103-DataInput!I103>0,DataInput!W103-DataInput!I103,\"\")","v":""},null,{"$f":"SUM(R103:V103)","v":11},{"$f":"ROUNDUP(($W103*$X$5),1)","v":14.3},{"$f":"ROUNDUP(SUM(Q103-X103),1)","v":0.7},null,null,{"$f":"ROUNDDOWN((IF(AA104>0,IFERROR(IF(AVERAGE(DataInput!Q103:Q104)>AVERAGE(AA104,AA103),ROUNDDOWN(((((AA103-Z103)+(AA104-Z104))/2)*(A104-A103))/27+S12+T12,0),IF(((((DataInput!Q104-Z104)+(DataInput!Q103-Z103))/2)*(A104-A103))/27+S12+T12>0,ROUNDDOWN(((((DataInput!Q104-Z103)+(DataInput!Q103-Z103))/2)*(A104-A103))/27+S12+T12,0),0)),0),0)*$X$5),1)","v":0},null,{"$f":"ROUNDDOWN((IF(AC104>0,IFERROR(IF(((((DataInput!Q103-AC103)+(DataInput!Q104-AC104))/2)*(A104-A103))/27+S12+T12>0,ROUNDDOWN(((((DataInput!Q103-AC103)+(DataInput!Q104-AC104))/2)*(A104-A103))/27+S12+T12,0),0),0),0)*$X$5),1)","v":0},{"$f":"DataInput!U103","v":8},{"$f":"DataInput!S103","v":16},{"$f":"ROUNDUP((AF103*$AG$5),1)","v":22.4},{"$f":"ROUNDUP((AE103-AG103),1)","v":-14.4}]
[{"$f":"IF(DataInput!A104<>\"\",DataInput!A104,\"\")","v":65075},{"$f":"SUM(DataInput!C104,DataInput!Y104)+(DataInput!U104-DataInput!E104)","v":47},{"$f":"SUM(DataInput!D104,DataInput!Z104)","v":33},{"$f":"DataInput!U104","v":14},{"$f":"SUM(DataInput!F104,DataInput!AB104)","v":0},{"$f":"SUM(DataInput!G104,DataInput!AC104)","v":0},{"$f":"SUM(DataInput!H104,DataInput!AD104)","v":0},{"$f":"DataInput!I104","v":0},{"$f":"SUM(DataInput!J104,DataInput!AF104)","v":0},{"$f":"SUM(DataInput!K104,DataInput!AG104)","v":0},{"$f":"SUM(DataInput!L104,DataInput!AH104)","v":0},{"$f":"SUM(DataInput!M104,DataInput!AI104)","v":0},{"$f":"SUM(DataInput!N104,DataInput!AJ104)","v":0},{"$f":"SUM(DataInput!O104,DataInput!AK104)","v":0},{"$f":"DataInput!P104","v":0},null,{"$f":"SUM(C104,E104:G104,I104:L104,N104:P104)","v":33},{"$f":"DataInput!R104","v":13},{"$f":"DataInput!Y104","v":0},{"$f":"IF(DataInput!U104-DataInput!E104>0,DataInput!U104-DataInput!E104,\"\")","v":14},{"$f":"IF(DataInput!W104-DataInput!I104>0,DataInput!W104-DataInput!I104,\"\")","v":""},null,{"$f":"SUM(R104:V104)","v":27},{"$f":"ROUNDUP(($W104*$X$5),1)","v":35.1},{"$f":"ROUNDUP(SUM(Q104-X104),1)","v":-2.1},{"$f":"Z103","v":0},{"$f":"AA103","v":0},{"$f":"ROUNDDOWN((IF(AA105>0,IFERROR(IF(AVERAGE(DataInput!Q104:Q105)>AVERAGE(AA105,AA104),ROUNDDOWN(((((AA104-Z104)+(AA105-Z105))/2)*(A105-A104))/27+S13+T13,0),IF(((((DataInput!Q105-Z105)+(DataInput!Q104-Z104))/2)*(A105-A104))/27+S13+T13>0,ROUNDDOWN(((((DataInput!Q105-Z104)+(DataInput!Q104-Z104))/2)*(A105-A104))/27+S13+T13,0),0)),0),0)*$X$5),1)","v":0},{"$f":"AC103","v":0},{"$f":"ROUNDDOWN((IF(AC105>0,IFERROR(IF(((((DataInput!Q104-AC104)+(DataInput!Q105-AC105))/2)*(A105-A104))/27+S13+T13>0,ROUNDDOWN(((((DataInput!Q104-AC104)+(DataInput!Q105-AC105))/2)*(A105-A104))/27+S13+T13,0),0),0),0)*$X$5),1)","v":0},{"$f":"DataInput!U104","v":14},{"$f":"DataInput!S104","v":27},{"$f":"ROUNDUP((AF104*$AG$5),1)","v":37.799999999999997},{"$f":"ROUNDUP((AE104-AG104),1)","v":-23.8}]
[{"$f":"IF(DataInput!A105<>\"\",DataInput!A105,\"\")","v":65100},{"$f":"SUM(DataInput!C105,DataInput!Y105)+(DataInput!U105-DataInput!E105)","v":102},{"$f":"SUM(DataInput!D105,DataInput!Z105)","v":83},{"$f":"DataInput!U105","v":19},{"$f":"SUM(DataInput!F105,DataInput!AB105)","v":0},{"$f":"SUM(DataInput!G105,DataInput!AC105)","v":0},{"$f":"SUM(DataInput!H105,DataInput!AD105)","v":0},{"$f":"DataInput!I105","v":0},{"$f":"SUM(DataInput!J105,DataInput!AF105)","v":0},{"$f":"SUM(DataInput!K105,DataInput!AG105)","v":0},{"$f":"SUM(DataInput!L105,DataInput!AH105)","v":0},{"$f":"SUM(DataInput!M105,DataInput!AI105)","v":0},{"$f":"SUM(DataInput!N105,DataInput!AJ105)","v":0},{"$f":"SUM(DataInput!O105,DataInput!AK105)","v":0},{"$f":"DataInput!P105","v":0},null,83,{"$f":"DataInput!R105","v":19},{"$f":"DataInput!Y105","v":0},{"$f":"IF(DataInput!U105-DataInput!E105>0,DataInput!U105-DataInput!E105,\"\")","v":19},{"$f":"IF(DataInput!W105-DataInput!I105>0,DataInput!W105-DataInput!I105,\"\")","v":""},null,38,49.4,33.6,{"$f":"Z104","v":0},{"$f":"AA104","v":0},{"$f":"ROUNDDOWN((IF(AA106>0,IFERROR(IF(AVERAGE(DataInput!Q105:Q106)>AVERAGE(AA106,AA105),ROUNDDOWN(((((AA105-Z105)+(AA106-Z106))/2)*(A106-A105))/27+S14+T14,0),IF(((((DataInput!Q106-Z106)+(DataInput!Q105-Z105))/2)*(A106-A105))/27+S14+T14>0,ROUNDDOWN(((((DataInput!Q106-Z105)+(DataInput!Q105-Z105))/2)*(A106-A105))/27+S14+T14,0),0)),0),0)*$X$5),1)","v":0},{"$f":"AC104","v":0},{"$f":"ROUNDDOWN((IF(AC106>0,IFERROR(IF(((((DataInput!Q105-AC105)+(DataInput!Q106-AC106))/2)*(A106-A105))/27+S14+T14>0,ROUNDDOWN(((((DataInput!Q105-AC105)+(DataInput!Q106-AC106))/2)*(A106-A105))/27+S14+T14,0),0),0),0)*$X$5),1)","v":0},{"$f":"DataInput!U105","v":19},{"$f":"DataInput!S105","v":39},54.6,-35.6]
[{"$f":"IF(DataInput!A106<>\"\",DataInput!A106,\"\")","v":65125},{"$f":"SUM(DataInput!C106,DataInput!Y106)+(DataInput!U106-DataInput!E106)","v":110},{"$f":"SUM(DataInput!D106,DataInput!Z106)","v":93},{"$f":"DataInput!U106","v":17},{"$f":"SUM(DataInput!F106,DataInput!AB106)","v":0},{"$f":"SUM(DataInput!G106,DataInput!AC106)","v":0},{"$f":"SUM(DataInput!H106,DataInput!AD106)","v":0},{"$f":"DataInput!I106","v":0},{"$f":"SUM(DataInput!J106,DataInput!AF106)","v":0},{"$f":"SUM(DataInput!K106,DataInput!AG106)","v":0},{"$f":"SUM(DataInput!L106,DataInput!AH106)","v":0},{"$f":"SUM(DataInput!M106,DataInput!AI106)","v":0},{"$f":"SUM(DataInput!N106,DataInput!AJ106)","v":0},{"$f":"SUM(DataInput!O106,DataInput!AK106)","v":0},{"$f":"DataInput!P106","v":0},null,93,{"$f":"DataInput!R106","v":31},{"$f":"DataInput!Y106","v":0},{"$f":"IF(DataInput!U106-DataInput!E106>0,DataInput!U106-DataInput!E106,\"\")","v":17},{"$f":"IF(DataInput!W106-DataInput!I106>0,DataInput!W106-DataInput!I106,\"\")","v":""},null,48,62.4,30.6,0,0,{"$f":"ROUNDDOWN((IF(AA107>0,IFERROR(IF(AVERAGE(DataInput!Q106:Q107)>AVERAGE(AA107,AA106),ROUNDDOWN(((((AA106-Z106)+(AA107-Z107))/2)*(A107-A106))/27+S15+T15,0),IF(((((DataInput!Q107-Z107)+(DataInput!Q106-Z106))/2)*(A107-A106))/27+S15+T15>0,ROUNDDOWN(((((DataInput!Q107-Z106)+(DataInput!Q106-Z106))/2)*(A107-A106))/27+S15+T15,0),0)),0),0)*$X$5),1)","v":0},0,{"$f":"ROUNDDOWN((IF(AC107>0,IFERROR(IF(((((DataInput!Q106-AC106)+(DataInput!Q107-AC107))/2)*(A107-A106))/27+S15+T15>0,ROUNDDOWN(((((DataInput!Q106-AC106)+(DataInput!Q107-AC107))/2)*(A107-A106))/27+S15+T15,0),0),0),0)*$X$5),1)","v":0},{"$f":"DataInput!U106","v":17},{"$f":"DataInput!S106","v":34},47.6,-30.6]
[{"$f":"IF(DataInput!A107<>\"\",DataInput!A107,\"\")","v":65142.85},{"$f":"SUM(DataInput!C107,DataInput!Y107)+(DataInput!U107-DataInput!E107)","v":47},{"$f":"SUM(DataInput!D107,DataInput!Z107)","v":41},{"$f":"DataInput!U107","v":6},{"$f":"SUM(DataInput!F107,DataInput!AB107)","v":0},{"$f":"SUM(DataInput!G107,DataInput!AC107)","v":0},{"$f":"SUM(DataInput!H107,DataInput!AD107)","v":0},{"$f":"DataInput!I107","v":0},{"$f":"SUM(DataInput!J107,DataInput!AF107)","v":0},{"$f":"SUM(DataInput!K107,DataInput!AG107)","v":0},{"$f":"SUM(DataInput!L107,DataInput!AH107)","v":0},{"$f":"SUM(DataInput!M107,DataInput!AI107)","v":0},{"$f":"SUM(DataInput!N107,DataInput!AJ107)","v":0},{"$f":"SUM(DataInput!O107,DataInput!AK107)","v":0},{"$f":"DataInput!P107","v":0},null,41,{"$f":"DataInput!R107","v":12},{"$f":"DataInput!Y107","v":0},{"$f":"IF(DataInput!U107-DataInput!E107>0,DataInput!U107-DataInput!E107,\"\")","v":6},{"$f":"IF(DataInput!W107-DataInput!I107>0,DataInput!W107-DataInput!I107,\"\")","v":""},null,18,23.4,17.600000000000001,0,0,{"$f":"ROUNDDOWN((IF(AA108>0,IFERROR(IF(AVERAGE(DataInput!Q107:Q108)>AVERAGE(AA108,AA107),ROUNDDOWN(((((AA107-Z107)+(AA108-Z108))/2)*(A108-A107))/27+S16+T16,0),IF(((((DataInput!Q108-Z108)+(DataInput!Q107-Z107))/2)*(A108-A107))/27+S16+T16>0,ROUNDDOWN(((((DataInput!Q108-Z107)+(DataInput!Q107-Z107))/2)*(A108-A107))/27+S16+T16,0),0)),0),0)*$X$5),1)","v":0},0,{"$f":"ROUNDDOWN((IF(AC108>0,IFERROR(IF(((((DataInput!Q107-AC107)+(DataInput!Q108-AC108))/2)*(A108-A107))/27+S16+T16>0,ROUNDDOWN(((((DataInput!Q107-AC107)+(DataInput!Q108-AC108))/2)*(A108-A107))/27+S16+T16,0),0),0),0)*$X$5),1)","v":0},{"$f":"DataInput!U107","v":6},{"$f":"DataInput!S107","v":13},18.2,-12.2]
[{"$f":"IF(DataInput!A108<>\"\",DataInput!A108,\"\")","v":65150},{"$f":"SUM(DataInput!C108,DataInput!Y108)+(DataInput!U108-DataInput!E108)","v":144},{"$f":"SUM(DataInput!D108,DataInput!Z108)","v":124},{"$f":"DataInput!U108","v":20},{"$f":"SUM(DataInput!F108,DataInput!AB108)","v":0},{"$f":"SUM(DataInput!G108,DataInput!AC108)","v":0},{"$f":"SUM(DataInput!H108,DataInput!AD108)","v":0},{"$f":"DataInput!I108","v":0},{"$f":"SUM(DataInput!J108,DataInput!AF108)","v":0},{"$f":"SUM(DataInput!K108,DataInput!AG108)","v":0},{"$f":"SUM(DataInput!L108,DataInput!AH108)","v":0},{"$f":"SUM(DataInput!M108,DataInput!AI108)","v":0},{"$f":"SUM(DataInput!N108,DataInput!AJ108)","v":0},{"$f":"SUM(DataInput!O108,DataInput!AK108)","v":0},{"$f":"DataInput!P108","v":0},null,124,{"$f":"DataInput!R108","v":18},{"$f":"DataInput!Y108","v":0},{"$f":"IF(DataInput!U108-DataInput!E108>0,DataInput!U108-DataInput!E108,\"\")","v":20},{"$f":"IF(DataInput!W108-DataInput!I108>0,DataInput!W108-DataInput!I108,\"\")","v":""},null,38,49.4,74.599999999999994,0,0,{"$f":"ROUNDDOWN((IF(AA109>0,IFERROR(IF(AVERAGE(DataInput!Q108:Q109)>AVERAGE(AA109,AA108),ROUNDDOWN(((((AA108-Z108)+(AA109-Z109))/2)*(A109-A108))/27+S17+T17,0),IF(((((DataInput!Q109-Z109)+(DataInput!Q108-Z108))/2)*(A109-A108))/27+S17+T17>0,ROUNDDOWN(((((DataInput!Q109-Z108)+(DataInput!Q108-Z108))/2)*(A109-A108))/27+S17+T17,0),0)),0),0)*$X$5),1)","v":0},0,{"$f":"ROUNDDOWN((IF(AC109>0,IFERROR(IF(((((DataInput!Q108-AC108)+(DataInput!Q109-AC109))/2)*(A109-A108))/27+S17+T17>0,ROUNDDOWN(((((DataInput!Q108-AC108)+(DataInput!Q109-AC109))/2)*(A109-A108))/27+S17+T17,0),0),0),0)*$X$5),1)","v":0},{"$f":"DataInput!U108","v":20},{"$f":"DataInput!S108","v":39},54.6,-34.6]
[{"$f":"IF(DataInput!A109<>\"\",DataInput!A109,\"\")","v":65175},{"$f":"SUM(DataInput!C109,DataInput!Y109)+(DataInput!U109-DataInput!E109)","v":103},{"$f":"SUM(DataInput!D109,DataInput!Z109)","v":86},{"$f":"DataInput!U109","v":17},{"$f":"SUM(DataInput!F109,DataInput!AB109)","v":0},{"$f":"SUM(DataInput!G109,DataInput!AC109)","v":0},{"$f":"SUM(DataInput!H109,DataInput!AD109)","v":0},{"$f":"DataInput!I109","v":0},{"$f":"SUM(DataInput!J109,DataInput!AF109)","v":0},{"$f":"SUM(DataInput!K109,DataInput!AG109)","v":0},{"$f":"SUM(DataInput!L109,DataInput!AH109)","v":0},{"$f":"SUM(DataInput!M109,DataInput!AI109)","v":0},{"$f":"SUM(DataInput!N109,DataInput!AJ109)","v":0},{"$f":"SUM(DataInput!O109,DataInput!AK109)","v":0},{"$f":"DataInput!P109","v":0},null,86,{"$f":"DataInput!R109","v":15},{"$f":"DataInput!Y109","v":0},{"$f":"IF(DataInput!U109-DataInput!E109>0,DataInput!U109-DataInput!E109,\"\")","v":17},{"$f":"IF(DataInput!W109-DataInput!I109>0,DataInput!W109-DataInput!I109,\"\")","v":""},null,32,41.6,44.4,0,0,{"$f":"ROUNDDOWN((IF(AA110>0,IFERROR(IF(AVERAGE(DataInput!Q109:Q110)>AVERAGE(AA110,AA109),ROUNDDOWN(((((AA109-Z109)+(AA110-Z110))/2)*(A110-A109))/27+S18+T18,0),IF(((((DataInput!Q110-Z110)+(DataInput!Q109-Z109))/2)*(A110-A109))/27+S18+T18>0,ROUNDDOWN(((((DataInput!Q110-Z109)+(DataInput!Q109-Z109))/2)*(A110-A109))/27+S18+T18,0),0)),0),0)*$X$5),1)","v":0},0,{"$f":"ROUNDDOWN((IF(AC110>0,IFERROR(IF(((((DataInput!Q109-AC109)+(DataInput!Q110-AC110))/2)*(A110-A109))/27+S18+T18>0,ROUNDDOWN(((((DataInput!Q109-AC109)+(DataInput!Q110-AC110))/2)*(A110-A109))/27+S18+T18,0),0),0),0)*$X$5),1)","v":0},{"$f":"DataInput!U109","v":17},{"$f":"DataInput!S109","v":34},47.6,-30.6]
[{"$f":"IF(DataInput!A110<>\"\",DataInput!A110,\"\")","v":65200},{"$f":"SUM(DataInput!C110,DataInput!Y110)+(DataInput!U110-DataInput!E110)","v":64},{"$f":"SUM(DataInput!D110,DataInput!Z110)","v":51},{"$f":"DataInput!U110","v":13},{"$f":"SUM(DataInput!F110,DataInput!AB110)","v":0},{"$f":"SUM(DataInput!G110,DataInput!AC110)","v":0},{"$f":"SUM(DataInput!H110,DataInput!AD110)","v":0},{"$f":"DataInput!I110","v":0},{"$f":"SUM(DataInput!J110,DataInput!AF110)","v":0},{"$f":"SUM(DataInput!K110,DataInput!AG110)","v":0},{"$f":"SUM(DataInput!L110,DataInput!AH110)","v":0},{"$f":"SUM(DataInput!M110,DataInput!AI110)","v":0},{"$f":"SUM(DataInput!N110,DataInput!AJ110)","v":0},{"$f":"SUM(DataInput!O110,DataInput!AK110)","v":0},{"$f":"DataInput!P110","v":0},null,51,{"$f":"DataInput!R110","v":7},{"$f":"DataInput!Y110","v":0},{"$f":"IF(DataInput!U110-DataInput!E110>0,DataInput!U110-DataInput!E110,\"\")","v":13},{"$f":"IF(DataInput!W110-DataInput!I110>0,DataInput!W110-DataInput!I110,\"\")","v":""},null,20,26,25,0,0,{"$f":"ROUNDDOWN((IF(AA111>0,IFERROR(IF(AVERAGE(DataInput!Q110:Q111)>AVERAGE(AA111,AA110),ROUNDDOWN(((((AA110-Z110)+(AA111-Z111))/2)*(A111-A110))/27+S19+T19,0),IF(((((DataInput!Q111-Z111)+(DataInput!Q110-Z110))/2)*(A111-A110))/27+S19+T19>0,ROUNDDOWN(((((DataInput!Q111-Z110)+(DataInput!Q110-Z110))/2)*(A111-A110))/27+S19+T19,0),0)),0),0)*$X$5),1)","v":0},0,{"$f":"ROUNDDOWN((IF(AC111>0,IFERROR(IF(((((DataInput!Q110-AC110)+(DataInput!Q111-AC111))/2)*(A111-A110))/27+S19+T19>0,ROUNDDOWN(((((DataInput!Q110-AC110)+(DataInput!Q111-AC111))/2)*(A111-A110))/27+S19+T19,0),0),0),0)*$X$5),1)","v":0},{"$f":"DataInput!U110","v":13},{"$f":"DataInput!S110","v":26},36.4,-23.4]
[{"$f":"IF(DataInput!A111<>\"\",DataInput!A111,\"\")","v":65225}]
[]
[{"$f":"IF(DataInput!A113<>\"\",DataInput!A113,\"\")","v":"Sta. 704+70"}]
[{"$f":"IF(DataInput!A114<>\"\",DataInput!A114,\"\")","v":70469.66},{"$f":"SUM(DataInput!C114,DataInput!Y114)+(DataInput!U114-DataInput!E114)","v":14},{"$f":"SUM(DataInput!D114,DataInput!Z114)","v":11},{"$f":"DataInput!U114","v":3},{"$f":"SUM(DataInput!F114,DataInput!AB114)","v":0},{"$f":"SUM(DataInput!G114,DataInput!AC114)","v":0},{"$f":"SUM(DataInput!H114,DataInput!AD114)","v":0},{"$f":"DataInput!I114","v":0},{"$f":"SUM(DataInput!J114,DataInput!AF114)","v":0},{"$f":"SUM(DataInput!K114,DataInput!AG114)","v":0},{"$f":"SUM(DataInput!L114,DataInput!AH114)","v":0},{"$f":"SUM(DataInput!M114,DataInput!AI114)","v":0},{"$f":"SUM(DataInput!N114,DataInput!AJ114)","v":0},{"$f":"SUM(DataInput!O114,DataInput!AK114)","v":0},{"$f":"DataInput!P114","v":0},null,{"$f":"SUM(C114,E114:G114,I114:L114,N114:P114)","v":11},{"$f":"DataInput!R114","v":23},{"$f":"DataInput!Y114","v":0},{"$f":"IF(DataInput!U114-DataInput!E114>0,DataInput!U114-DataInput!E114,\"\")","v":3},{"$f":"IF(DataInput!W114-DataInput!I114>0,DataInput!W114-DataInput!I114,\"\")","v":""},null,{"$f":"SUM(R114:V114)","v":26},{"$f":"ROUNDUP(($W114*$X$5),1)","v":33.799999999999997},{"$f":"ROUNDUP(SUM(Q114-X114),1)","v":-22.8},null,null,{"$f":"ROUNDDOWN((IF(AA115>0,IFERROR(IF(AVERAGE(DataInput!Q114:Q115)>AVERAGE(AA115,AA114),ROUNDDOWN(((((AA114-Z114)+(AA115-Z115))/2)*(A115-A114))/27+S12+T12,0),IF(((((DataInput!Q115-Z115)+(DataInput!Q114-Z114))/2)*(A115-A114))/27+S12+T12>0,ROUNDDOWN(((((DataInput!Q115-Z114)+(DataInput!Q114-Z114))/2)*(A115-A114))/27+S12+T12,0),0)),0),0)*$X$5),1)","v":0},null,{"$f":"ROUNDDOWN((IF(AC115>0,IFERROR(IF(((((DataInput!Q114-AC114)+(DataInput!Q115-AC115))/2)*(A115-A114))/27+S12+T12>0,ROUNDDOWN(((((DataInput!Q114-AC114)+(DataInput!Q115-AC115))/2)*(A115-A114))/27+S12+T12,0),0),0),0)*$X$5),1)","v":0},{"$f":"DataInput!U114","v":3},{"$f":"DataInput!S114","v":6},{"$f":"ROUNDUP((AF114*$AG$5),1)","v":8.4},{"$f":"ROUNDUP((AE114-AG114),1)","v":-5.4}]
[{"$f":"IF(DataInput!A115<>\"\",DataInput!A115,\"\")","v":70475},{"$f":"SUM(DataInput!C115,DataInput!Y115)+(DataInput!U115-DataInput!E115)","v":13},{"$f":"SUM(DataInput!D115,DataInput!Z115)","v":2},{"$f":"DataInput!U115","v":11},{"$f":"SUM(DataInput!F115,DataInput!AB115)","v":0},{"$f":"SUM(DataInput!G115,DataInput!AC115)","v":0},{"$f":"SUM(DataInput!H115,DataInput!AD115)","v":0},{"$f":"DataInput!I115","v":0},{"$f":"SUM(DataInput!J115,DataInput!AF115)","v":0},{"$f":"SUM(DataInput!K115,DataInput!AG115)","v":0},{"$f":"SUM(DataInput!L115,DataInput!AH115)","v":0},{"$f":"SUM(DataInput!M115,DataInput!AI115)","v":0},{"$f":"SUM(DataInput!N115,DataInput!AJ115)","v":0},{"$f":"SUM(DataInput!O115,DataInput!AK115)","v":0},{"$f":"DataInput!P115","v":0},null,{"$f":"SUM(C115,E115:G115,I115:L115,N115:P115)","v":2},{"$f":"DataInput!R115","v":78},{"$f":"DataInput!Y115","v":0},{"$f":"IF(DataInput!U115-DataInput!E115>0,DataInput!U115-DataInput!E115,\"\")","v":11},{"$f":"IF(DataInput!W115-DataInput!I115>0,DataInput!W115-DataInput!I115,\"\")","v":""},null,{"$f":"SUM(R115:V115)","v":89},{"$f":"ROUNDUP(($W115*$X$5),1)","v":115.7},{"$f":"ROUNDUP(SUM(Q115-X115),1)","v":-113.7},{"$f":"Z114","v":0},{"$f":"AA114","v":0},{"$f":"ROUNDDOWN((IF(AA116>0,IFERROR(IF(AVERAGE(DataInput!Q115:Q116)>AVERAGE(AA116,AA115),ROUNDDOWN(((((AA115-Z115)+(AA116-Z116))/2)*(A116-A115))/27+S13+T13,0),IF(((((DataInput!Q116-Z116)+(DataInput!Q115-Z115))/2)*(A116-A115))/27+S13+T13>0,ROUNDDOWN(((((DataInput!Q116-Z115)+(DataInput!Q115-Z115))/2)*(A116-A115))/27+S13+T13,0),0)),0),0)*$X$5),1)","v":0},{"$f":"AC114","v":0},{"$f":"ROUNDDOWN((IF(AC116>0,IFERROR(IF(((((DataInput!Q115-AC115)+(DataInput!Q116-AC116))/2)*(A116-A115))/27+S13+T13>0,ROUNDDOWN(((((DataInput!Q115-AC115)+(DataInput!Q116-AC116))/2)*(A116-A115))/27+S13+T13,0),0),0),0)*$X$5),1)","v":0},{"$f":"DataInput!U115","v":11},{"$f":"DataInput!S115","v":20},{"$f":"ROUNDUP((AF115*$AG$5),1)","v":28},{"$f":"ROUNDUP((AE115-AG115),1)","v":-17}]
[{"$f":"IF(DataInput!A116<>\"\",DataInput!A116,\"\")","v":70500},{"$f":"SUM(DataInput!C116,DataInput!Y116)+(DataInput!U116-DataInput!E116)","v":11},{"$f":"SUM(DataInput!D116,DataInput!Z116)","v":3},{"$f":"DataInput!U116","v":8},{"$f":"SUM(DataInput!F116,DataInput!AB116)","v":0},{"$f":"SUM(DataInput!G116,DataInput!AC116)","v":0},{"$f":"SUM(DataInput!H116,DataInput!AD116)","v":0},{"$f":"DataInput!I116","v":0},{"$f":"SUM(DataInput!J116,DataInput!AF116)","v":0},{"$f":"SUM(DataInput!K116,DataInput!AG116)","v":0},{"$f":"SUM(DataInput!L116,DataInput!AH116)","v":0},{"$f":"SUM(DataInput!M116,DataInput!AI116)","v":0},{"$f":"SUM(DataInput!N116,DataInput!AJ116)","v":0},{"$f":"SUM(DataInput!O116,DataInput!AK116)","v":0},{"$f":"DataInput!P116","v":0},null,3,{"$f":"DataInput!R116","v":30},{"$f":"DataInput!Y116","v":0},{"$f":"IF(DataInput!U116-DataInput!E116>0,DataInput!U116-DataInput!E116,\"\")","v":8},{"$f":"IF(DataInput!W116-DataInput!I116>0,DataInput!W116-DataInput!I116,\"\")","v":""},null,38,49.4,-46.4,{"$f":"Z115","v":0},{"$f":"AA115","v":0},{"$f":"ROUNDDOWN((IF(AA117>0,IFERROR(IF(AVERAGE(DataInput!Q116:Q117)>AVERAGE(AA117,AA116),ROUNDDOWN(((((AA116-Z116)+(AA117-Z117))/2)*(A117-A116))/27+S14+T14,0),IF(((((DataInput!Q117-Z117)+(DataInput!Q116-Z116))/2)*(A117-A116))/27+S14+T14>0,ROUNDDOWN(((((DataInput!Q117-Z116)+(DataInput!Q116-Z116))/2)*(A117-A116))/27+S14+T14,0),0)),0),0)*$X$5),1)","v":0},{"$f":"AC115","v":0},{"$f":"ROUNDDOWN((IF(AC117>0,IFERROR(IF(((((DataInput!Q116-AC116)+(DataInput!Q117-AC117))/2)*(A117-A116))/27+S14+T14>0,ROUNDDOWN(((((DataInput!Q116-AC116)+(DataInput!Q117-AC117))/2)*(A117-A116))/27+S14+T14,0),0),0),0)*$X$5),1)","v":0},{"$f":"DataInput!U116","v":8},{"$f":"DataInput!S116","v":16},22.4,-14.4]
[{"$f":"IF(DataInput!A117<>\"\",DataInput!A117,\"\")","v":70525},{"$f":"SUM(DataInput!C117,DataInput!Y117)+(DataInput!U117-DataInput!E117)","v":9},{"$f":"SUM(DataInput!D117,DataInput!Z117)","v":3},{"$f":"DataInput!U117","v":6},{"$f":"SUM(DataInput!F117,DataInput!AB117)","v":0},{"$f":"SUM(DataInput!G117,DataInput!AC117)","v":0},{"$f":"SUM(DataInput!H117,DataInput!AD117)","v":0},{"$f":"DataInput!I117","v":0},{"$f":"SUM(DataInput!J117,DataInput!AF117)","v":0},{"$f":"SUM(DataInput!K117,DataInput!AG117)","v":0},{"$f":"SUM(DataInput!L117,DataInput!AH117)","v":0},{"$f":"SUM(DataInput!M117,DataInput!AI117)","v":0},{"$f":"SUM(DataInput!N117,DataInput!AJ117)","v":0},{"$f":"SUM(DataInput!O117,DataInput!AK117)","v":0},{"$f":"DataInput!P117","v":0},null,3,{"$f":"DataInput!R117","v":10},{"$f":"DataInput!Y117","v":0},{"$f":"IF(DataInput!U117-DataInput!E117>0,DataInput!U117-DataInput!E117,\"\")","v":6},{"$f":"IF(DataInput!W117-DataInput!I117>0,DataInput!W117-DataInput!I117,\"\")","v":""},null,16,20.8,-17.8,0,0,{"$f":"ROUNDDOWN((IF(AA118>0,IFERROR(IF(AVERAGE(DataInput!Q117:Q118)>AVERAGE(AA118,AA117),ROUNDDOWN(((((AA117-Z117)+(AA118-Z118))/2)*(A118-A117))/27+S15+T15,0),IF(((((DataInput!Q118-Z118)+(DataInput!Q117-Z117))/2)*(A118-A117))/27+S15+T15>0,ROUNDDOWN(((((DataInput!Q118-Z117)+(DataInput!Q117-Z117))/2)*(A118-A117))/27+S15+T15,0),0)),0),0)*$X$5),1)","v":0},0,{"$f":"ROUNDDOWN((IF(AC118>0,IFERROR(IF(((((DataInput!Q117-AC117)+(DataInput!Q118-AC118))/2)*(A118-A117))/27+S15+T15>0,ROUNDDOWN(((((DataInput!Q117-AC117)+(DataInput!Q118-AC118))/2)*(A118-A117))/27+S15+T15,0),0),0),0)*$X$5),1)","v":0},{"$f":"DataInput!U117","v":6},{"$f":"DataInput!S117","v":12},16.8,-10.8]
[{"$f":"IF(DataInput!A118<>\"\",DataInput!A118,\"\")","v":70550},{"$f":"SUM(DataInput!C118,DataInput!Y118)+(DataInput!U118-DataInput!E118)","v":6},{"$f":"SUM(DataInput!D118,DataInput!Z118)","v":3},{"$f":"DataInput!U118","v":3},{"$f":"SUM(DataInput!F118,DataInput!AB118)","v":0},{"$f":"SUM(DataInput!G118,DataInput!AC118)","v":0},{"$f":"SUM(DataInput!H118,DataInput!AD118)","v":0},{"$f":"DataInput!I118","v":0},{"$f":"SUM(DataInput!J118,DataInput!AF118)","v":0},{"$f":"SUM(DataInput!K118,DataInput!AG118)","v":0},{"$f":"SUM(DataInput!L118,DataInput!AH118)","v":0},{"$f":"SUM(DataInput!M118,DataInput!AI118)","v":0},{"$f":"SUM(DataInput!N118,DataInput!AJ118)","v":0},{"$f":"SUM(DataInput!O118,DataInput!AK118)","v":0},{"$f":"DataInput!P118","v":0},null,3,{"$f":"DataInput!R118","v":2},{"$f":"DataInput!Y118","v":0},{"$f":"IF(DataInput!U118-DataInput!E118>0,DataInput!U118-DataInput!E118,\"\")","v":3},{"$f":"IF(DataInput!W118-DataInput!I118>0,DataInput!W118-DataInput!I118,\"\")","v":""},null,5,6.5,-3.5,0,0,{"$f":"ROUNDDOWN((IF(AA119>0,IFERROR(IF(AVERAGE(DataInput!Q118:Q119)>AVERAGE(AA119,AA118),ROUNDDOWN(((((AA118-Z118)+(AA119-Z119))/2)*(A119-A118))/27+S16+T16,0),IF(((((DataInput!Q119-Z119)+(DataInput!Q118-Z118))/2)*(A119-A118))/27+S16+T16>0,ROUNDDOWN(((((DataInput!Q119-Z118)+(DataInput!Q118-Z118))/2)*(A119-A118))/27+S16+T16,0),0)),0),0)*$X$5),1)","v":0},0,{"$f":"ROUNDDOWN((IF(AC119>0,IFERROR(IF(((((DataInput!Q118-AC118)+(DataInput!Q119-AC119))/2)*(A119-A118))/27+S16+T16>0,ROUNDDOWN(((((DataInput!Q118-AC118)+(DataInput!Q119-AC119))/2)*(A119-A118))/27+S16+T16,0),0),0),0)*$X$5),1)","v":0},{"$f":"DataInput!U118","v":3},{"$f":"DataInput!S118","v":6},8.4,-5.4]
[{"$f":"IF(DataInput!A119<>\"\",DataInput!A119,\"\")","v":70575}]
[]
[{"$f":"IF(DataInput!A121<>\"\",DataInput!A121,\"\")","v":"Sta. 743+25"}]
[{"$f":"IF(DataInput!A122<>\"\",DataInput!A122,\"\")","v":74225},{"$f":"SUM(DataInput!C122,DataInput!Y122)+(DataInput!U122-DataInput!E122)","v":15},{"$f":"SUM(DataInput!D122,DataInput!Z122)","v":9},{"$f":"DataInput!U122","v":6},{"$f":"SUM(DataInput!F122,DataInput!AB122)","v":0},{"$f":"SUM(DataInput!G122,DataInput!AC122)","v":0},{"$f":"SUM(DataInput!H122,DataInput!AD122)","v":0},{"$f":"DataInput!I122","v":0},{"$f":"SUM(DataInput!J122,DataInput!AF122)","v":0},{"$f":"SUM(DataInput!K122,DataInput!AG122)","v":0},{"$f":"SUM(DataInput!L122,DataInput!AH122)","v":0},{"$f":"SUM(DataInput!M122,DataInput!AI122)","v":0},{"$f":"SUM(DataInput!N122,DataInput!AJ122)","v":0},{"$f":"SUM(DataInput!O122,DataInput!AK122)","v":0},{"$f":"DataInput!P122","v":0},null,{"$f":"SUM(C122,E122:G122,I122:L122,N122:P122)","v":9},{"$f":"DataInput!R122","v":2},{"$f":"DataInput!Y122","v":0},{"$f":"IF(DataInput!U122-DataInput!E122>0,DataInput!U122-DataInput!E122,\"\")","v":6},{"$f":"IF(DataInput!W122-DataInput!I122>0,DataInput!W122-DataInput!I122,\"\")","v":""},null,{"$f":"SUM(R122:V122)","v":8},{"$f":"ROUNDUP(($W122*$X$5),1)","v":10.4},{"$f":"ROUNDUP(SUM(Q122-X122),1)","v":-1.4},null,null,{"$f":"ROUNDDOWN((IF(AA123>0,IFERROR(IF(AVERAGE(DataInput!Q122:Q123)>AVERAGE(AA123,AA122),ROUNDDOWN(((((AA122-Z122)+(AA123-Z123))/2)*(A123-A122))/27+S12+T12,0),IF(((((DataInput!Q123-Z123)+(DataInput!Q122-Z122))/2)*(A123-A122))/27+S12+T12>0,ROUNDDOWN(((((DataInput!Q123-Z122)+(DataInput!Q122-Z122))/2)*(A123-A122))/27+S12+T12,0),0)),0),0)*$X$5),1)","v":0},null,{"$f":"ROUNDDOWN((IF(AC123>0,IFERROR(IF(((((DataInput!Q122-AC122)+(DataInput!Q123-AC123))/2)*(A123-A122))/27+S12+T12>0,ROUNDDOWN(((((DataInput!Q122-AC122)+(DataInput!Q123-AC123))/2)*(A123-A122))/27+S12+T12,0),0),0),0)*$X$5),1)","v":0},{"$f":"DataInput!U122","v":6},{"$f":"DataInput!S122","v":11},{"$f":"ROUNDUP((AF122*$AG$5),1)","v":15.4},{"$f":"ROUNDUP((AE122-AG122),1)","v":-9.4}]
[{"$f":"IF(DataInput!A123<>\"\",DataInput!A123,\"\")","v":74250},{"$f":"SUM(DataInput!C123,DataInput!Y123)+(DataInput!U123-DataInput!E123)","v":50},{"$f":"SUM(DataInput!D123,DataInput!Z123)","v":35},{"$f":"DataInput!U123","v":15},{"$f":"SUM(DataInput!F123,DataInput!AB123)","v":0},{"$f":"SUM(DataInput!G123,DataInput!AC123)","v":0},{"$f":"SUM(DataInput!H123,DataInput!AD123)","v":0},{"$f":"DataInput!I123","v":0},{"$f":"SUM(DataInput!J123,DataInput!AF123)","v":0},{"$f":"SUM(DataInput!K123,DataInput!AG123)","v":0},{"$f":"SUM(DataInput!L123,DataInput!AH123)","v":0},{"$f":"SUM(DataInput!M123,DataInput!AI123)","v":0},{"$f":"SUM(DataInput!N123,DataInput!AJ123)","v":0},{"$f":"SUM(DataInput!O123,DataInput!AK123)","v":0},{"$f":"DataInput!P123","v":0},null,{"$f":"SUM(C123,E123:G123,I123:L123,N123:P123)","v":35},{"$f":"DataInput!R123","v":9},{"$f":"DataInput!Y123","v":0},{"$f":"IF(DataInput!U123-DataInput!E123>0,DataInput!U123-DataInput!E123,\"\")","v":15},{"$f":"IF(DataInput!W123-DataInput!I123>0,DataInput!W123-DataInput!I123,\"\")","v":""},null,{"$f":"SUM(R123:V123)","v":24},{"$f":"ROUNDUP(($W123*$X$5),1)","v":31.2},{"$f":"ROUNDUP(SUM(Q123-X123),1)","v":3.8},{"$f":"Z122","v":0},{"$f":"AA122","v":0},{"$f":"ROUNDDOWN((IF(AA124>0,IFERROR(IF(AVERAGE(DataInput!Q123:Q124)>AVERAGE(AA124,AA123),ROUNDDOWN(((((AA123-Z123)+(AA124-Z124))/2)*(A124-A123))/27+S13+T13,0),IF(((((DataInput!Q124-Z124)+(DataInput!Q123-Z123))/2)*(A124-A123))/27+S13+T13>0,ROUNDDOWN(((((DataInput!Q124-Z123)+(DataInput!Q123-Z123))/2)*(A124-A123))/27+S13+T13,0),0)),0),0)*$X$5),1)","v":0},{"$f":"AC122","v":0},{"$f":"ROUNDDOWN((IF(AC124>0,IFERROR(IF(((((DataInput!Q123-AC123)+(DataInput!Q124-AC124))/2)*(A124-A123))/27+S13+T13>0,ROUNDDOWN(((((DataInput!Q123-AC123)+(DataInput!Q124-AC124))/2)*(A124-A123))/27+S13+T13,0),0),0),0)*$X$5),1)","v":0},{"$f":"DataInput!U123","v":15},{"$f":"DataInput!S123","v":29},{"$f":"ROUNDUP((AF123*$AG$5),1)","v":40.6},{"$f":"ROUNDUP((AE123-AG123),1)","v":-25.6}]
[{"$f":"IF(DataInput!A124<>\"\",DataInput!A124,\"\")","v":74275},{"$f":"SUM(DataInput!C124,DataInput!Y124)+(DataInput!U124-DataInput!E124)","v":77},{"$f":"SUM(DataInput!D124,DataInput!Z124)","v":54},{"$f":"DataInput!U124","v":23},{"$f":"SUM(DataInput!F124,DataInput!AB124)","v":0},{"$f":"SUM(DataInput!G124,DataInput!AC124)","v":0},{"$f":"SUM(DataInput!H124,DataInput!AD124)","v":0},{"$f":"DataInput!I124","v":0},{"$f":"SUM(DataInput!J124,DataInput!AF124)","v":0},{"$f":"SUM(DataInput!K124,DataInput!AG124)","v":0},{"$f":"SUM(DataInput!L124,DataInput!AH124)","v":0},{"$f":"SUM(DataInput!M124,DataInput!AI124)","v":0},{"$f":"SUM(DataInput!N124,DataInput!AJ124)","v":0},{"$f":"SUM(DataInput!O124,DataInput!AK124)","v":0},{"$f":"DataInput!P124","v":0},null,54,{"$f":"DataInput!R124","v":18},{"$f":"DataInput!Y124","v":0},{"$f":"IF(DataInput!U124-DataInput!E124>0,DataInput!U124-DataInput!E124,\"\")","v":23},{"$f":"IF(DataInput!W124-DataInput!I124>0,DataInput!W124-DataInput!I124,\"\")","v":""},null,41,53.3,0.79999999999999993,{"$f":"Z123","v":0},{"$f":"AA123","v":0},{"$f":"ROUNDDOWN((IF(AA125>0,IFERROR(IF(AVERAGE(DataInput!Q124:Q125)>AVERAGE(AA125,AA124),ROUNDDOWN(((((AA124-Z124)+(AA125-Z125))/2)*(A125-A124))/27+S14+T14,0),IF(((((DataInput!Q125-Z125)+(DataInput!Q124-Z124))/2)*(A125-A124))/27+S14+T14>0,ROUNDDOWN(((((DataInput!Q125-Z124)+(DataInput!Q124-Z124))/2)*(A125-A124))/27+S14+T14,0),0)),0),0)*$X$5),1)","v":0},{"$f":"AC123","v":0},{"$f":"ROUNDDOWN((IF(AC125>0,IFERROR(IF(((((DataInput!Q124-AC124)+(DataInput!Q125-AC125))/2)*(A125-A124))/27+S14+T14>0,ROUNDDOWN(((((DataInput!Q124-AC124)+(DataInput!Q125-AC125))/2)*(A125-A124))/27+S14+T14,0),0),0),0)*$X$5),1)","v":0},{"$f":"DataInput!U124","v":23},{"$f":"DataInput!S124","v":45},63,-40]
[{"$f":"IF(DataInput!A125<>\"\",DataInput!A125,\"\")","v":74300},{"$f":"SUM(DataInput!C125,DataInput!Y125)+(DataInput!U125-DataInput!E125)","v":75},{"$f":"SUM(DataInput!D125,DataInput!Z125)","v":47},{"$f":"DataInput!U125","v":28},{"$f":"SUM(DataInput!F125,DataInput!AB125)","v":0},{"$f":"SUM(DataInput!G125,DataInput!AC125)","v":0},{"$f":"SUM(DataInput!H125,DataInput!AD125)","v":0},{"$f":"DataInput!I125","v":0},{"$f":"SUM(DataInput!J125,DataInput!AF125)","v":0},{"$f":"SUM(DataInput!K125,DataInput!AG125)","v":0},{"$f":"SUM(DataInput!L125,DataInput!AH125)","v":0},{"$f":"SUM(DataInput!M125,DataInput!AI125)","v":0},{"$f":"SUM(DataInput!N125,DataInput!AJ125)","v":0},{"$f":"SUM(DataInput!O125,DataInput!AK125)","v":0},{"$f":"DataInput!P125","v":0},null,47,{"$f":"DataInput!R125","v":115},{"$f":"DataInput!Y125","v":0},{"$f":"IF(DataInput!U125-DataInput!E125>0,DataInput!U125-DataInput!E125,\"\")","v":28},{"$f":"IF(DataInput!W125-DataInput!I125>0,DataInput!W125-DataInput!I125,\"\")","v":""},null,143,185.9,-138.9,0,0,{"$f":"ROUNDDOWN((IF(AA126>0,IFERROR(IF(AVERAGE(DataInput!Q125:Q126)>AVERAGE(AA126,AA125),ROUNDDOWN(((((AA125-Z125)+(AA126-Z126))/2)*(A126-A125))/27+S15+T15,0),IF(((((DataInput!Q126-Z126)+(DataInput!Q125-Z125))/2)*(A126-A125))/27+S15+T15>0,ROUNDDOWN(((((DataInput!Q126-Z125)+(DataInput!Q125-Z125))/2)*(A126-A125))/27+S15+T15,0),0)),0),0)*$X$5),1)","v":0},0,{"$f":"ROUNDDOWN((IF(AC126>0,IFERROR(IF(((((DataInput!Q125-AC125)+(DataInput!Q126-AC126))/2)*(A126-A125))/27+S15+T15>0,ROUNDDOWN(((((DataInput!Q125-AC125)+(DataInput!Q126-AC126))/2)*(A126-A125))/27+S15+T15,0),0),0),0)*$X$5),1)","v":0},{"$f":"DataInput!U125","v":28},{"$f":"DataInput!S125","v":55},77,-49]
[{"$f":"IF(DataInput!A126<>\"\",DataInput!A126,\"\")","v":74325.2},{"$f":"SUM(DataInput!C126,DataInput!Y126)+(DataInput!U126-DataInput!E126)","v":74},{"$f":"SUM(DataInput!D126,DataInput!Z126)","v":49},{"$f":"DataInput!U126","v":25},{"$f":"SUM(DataInput!F126,DataInput!AB126)","v":0},{"$f":"SUM(DataInput!G126,DataInput!AC126)","v":0},{"$f":"SUM(DataInput!H126,DataInput!AD126)","v":0},{"$f":"DataInput!I126","v":0},{"$f":"SUM(DataInput!J126,DataInput!AF126)","v":0},{"$f":"SUM(DataInput!K126,DataInput!AG126)","v":0},{"$f":"SUM(DataInput!L126,DataInput!AH126)","v":0},{"$f":"SUM(DataInput!M126,DataInput!AI126)","v":0},{"$f":"SUM(DataInput!N126,DataInput!AJ126)","v":0},{"$f":"SUM(DataInput!O126,DataInput!AK126)","v":0},{"$f":"DataInput!P126","v":0},null,49,{"$f":"DataInput!R126","v":114},{"$f":"DataInput!Y126","v":0},{"$f":"IF(DataInput!U126-DataInput!E126>0,DataInput!U126-DataInput!E126,\"\")","v":25},{"$f":"IF(DataInput!W126-DataInput!I126>0,DataInput!W126-DataInput!I126,\"\")","v":""},null,139,180.7,-131.69999999999999,0,0,{"$f":"ROUNDDOWN((IF(AA127>0,IFERROR(IF(AVERAGE(DataInput!Q126:Q127)>AVERAGE(AA127,AA126),ROUNDDOWN(((((AA126-Z126)+(AA127-Z127))/2)*(A127-A126))/27+S16+T16,0),IF(((((DataInput!Q127-Z127)+(DataInput!Q126-Z126))/2)*(A127-A126))/27+S16+T16>0,ROUNDDOWN(((((DataInput!Q127-Z126)+(DataInput!Q126-Z126))/2)*(A127-A126))/27+S16+T16,0),0)),0),0)*$X$5),1)","v":0},0,{"$f":"ROUNDDOWN((IF(AC127>0,IFERROR(IF(((((DataInput!Q126-AC126)+(DataInput!Q127-AC127))/2)*(A127-A126))/27+S16+T16>0,ROUNDDOWN(((((DataInput!Q126-AC126)+(DataInput!Q127-AC127))/2)*(A127-A126))/27+S16+T16,0),0),0),0)*$X$5),1)","v":0},{"$f":"DataInput!U126","v":25},{"$f":"DataInput!S126","v":49},68.599999999999994,-43.6]
[{"$f":"IF(DataInput!A127<>\"\",DataInput!A127,\"\")","v":74350},{"$f":"SUM(DataInput!C127,DataInput!Y127)+(DataInput!U127-DataInput!E127)","v":65},{"$f":"SUM(DataInput!D127,DataInput!Z127)","v":48},{"$f":"DataInput!U127","v":17},{"$f":"SUM(DataInput!F127,DataInput!AB127)","v":0},{"$f":"SUM(DataInput!G127,DataInput!AC127)","v":0},{"$f":"SUM(DataInput!H127,DataInput!AD127)","v":0},{"$f":"DataInput!I127","v":0},{"$f":"SUM(DataInput!J127,DataInput!AF127)","v":0},{"$f":"SUM(DataInput!K127,DataInput!AG127)","v":0},{"$f":"SUM(DataInput!L127,DataInput!AH127)","v":0},{"$f":"SUM(DataInput!M127,DataInput!AI127)","v":0},{"$f":"SUM(DataInput!N127,DataInput!AJ127)","v":0},{"$f":"SUM(DataInput!O127,DataInput!AK127)","v":0},{"$f":"DataInput!P127","v":0},null,48,{"$f":"DataInput!R127","v":17},{"$f":"DataInput!Y127","v":0},{"$f":"IF(DataInput!U127-DataInput!E127>0,DataInput!U127-DataInput!E127,\"\")","v":17},{"$f":"IF(DataInput!W127-DataInput!I127>0,DataInput!W127-DataInput!I127,\"\")","v":""},null,34,44.2,3.8,0,0,{"$f":"ROUNDDOWN((IF(AA128>0,IFERROR(IF(AVERAGE(DataInput!Q127:Q128)>AVERAGE(AA128,AA127),ROUNDDOWN(((((AA127-Z127)+(AA128-Z128))/2)*(A128-A127))/27+S17+T17,0),IF(((((DataInput!Q128-Z128)+(DataInput!Q127-Z127))/2)*(A128-A127))/27+S17+T17>0,ROUNDDOWN(((((DataInput!Q128-Z127)+(DataInput!Q127-Z127))/2)*(A128-A127))/27+S17+T17,0),0)),0),0)*$X$5),1)","v":0},0,{"$f":"ROUNDDOWN((IF(AC128>0,IFERROR(IF(((((DataInput!Q127-AC127)+(DataInput!Q128-AC128))/2)*(A128-A127))/27+S17+T17>0,ROUNDDOWN(((((DataInput!Q127-AC127)+(DataInput!Q128-AC128))/2)*(A128-A127))/27+S17+T17,0),0),0),0)*$X$5),1)","v":0},{"$f":"DataInput!U127","v":17},{"$f":"DataInput!S127","v":34},47.6,-30.6]
[{"$f":"IF(DataInput!A128<>\"\",DataInput!A128,\"\")","v":74375},{"$f":"SUM(DataInput!C128,DataInput!Y128)+(DataInput!U128-DataInput!E128)","v":40},{"$f":"SUM(DataInput!D128,DataInput!Z128)","v":29},{"$f":"DataInput!U128","v":11},{"$f":"SUM(DataInput!F128,DataInput!AB128)","v":0},{"$f":"SUM(DataInput!G128,DataInput!AC128)","v":0},{"$f":"SUM(DataInput!H128,DataInput!AD128)","v":0},{"$f":"DataInput!I128","v":0},{"$f":"SUM(DataInput!J128,DataInput!AF128)","v":0},{"$f":"SUM(DataInput!K128,DataInput!AG128)","v":0},{"$f":"SUM(DataInput!L128,DataInput!AH128)","v":0},{"$f":"SUM(DataInput!M128,DataInput!AI128)","v":0},{"$f":"SUM(DataInput!N128,DataInput!AJ128)","v":0},{"$f":"SUM(DataInput!O128,DataInput!AK128)","v":0},{"$f":"DataInput!P128","v":0},null,29,{"$f":"DataInput!R128","v":6},{"$f":"DataInput!Y128","v":0},{"$f":"IF(DataInput!U128-DataInput!E128>0,DataInput!U128-DataInput!E128,\"\")","v":11},{"$f":"IF(DataInput!W128-DataInput!I128>0,DataInput!W128-DataInput!I128,\"\")","v":""},null,17,22.1,6.9,0,0,{"$f":"ROUNDDOWN((IF(AA129>0,IFERROR(IF(AVERAGE(DataInput!Q128:Q129)>AVERAGE(AA129,AA128),ROUNDDOWN(((((AA128-Z128)+(AA129-Z129))/2)*(A129-A128))/27+S18+T18,0),IF(((((DataInput!Q129-Z129)+(DataInput!Q128-Z128))/2)*(A129-A128))/27+S18+T18>0,ROUNDDOWN(((((DataInput!Q129-Z128)+(DataInput!Q128-Z128))/2)*(A129-A128))/27+S18+T18,0),0)),0),0)*$X$5),1)","v":0},0,{"$f":"ROUNDDOWN((IF(AC129>0,IFERROR(IF(((((DataInput!Q128-AC128)+(DataInput!Q129-AC129))/2)*(A129-A128))/27+S18+T18>0,ROUNDDOWN(((((DataInput!Q128-AC128)+(DataInput!Q129-AC129))/2)*(A129-A128))/27+S18+T18,0),0),0),0)*$X$5),1)","v":0},{"$f":"DataInput!U128","v":11},{"$f":"DataInput!S128","v":22},30.8,-19.8]
[{"$f":"IF(DataInput!A129<>\"\",DataInput!A129,\"\")","v":74400},{"$f":"SUM(DataInput!C129,DataInput!Y129)+(DataInput!U129-DataInput!E129)","v":21},{"$f":"SUM(DataInput!D129,DataInput!Z129)","v":15},{"$f":"DataInput!U129","v":6},{"$f":"SUM(DataInput!F129,DataInput!AB129)","v":0},{"$f":"SUM(DataInput!G129,DataInput!AC129)","v":0},{"$f":"SUM(DataInput!H129,DataInput!AD129)","v":0},{"$f":"DataInput!I129","v":0},{"$f":"SUM(DataInput!J129,DataInput!AF129)","v":0},{"$f":"SUM(DataInput!K129,DataInput!AG129)","v":0},{"$f":"SUM(DataInput!L129,DataInput!AH129)","v":0},{"$f":"SUM(DataInput!M129,DataInput!AI129)","v":0},{"$f":"SUM(DataInput!N129,DataInput!AJ129)","v":0},{"$f":"SUM(DataInput!O129,DataInput!AK129)","v":0},{"$f":"DataInput!P129","v":0},null,15,{"$f":"DataInput!R129","v":0},{"$f":"DataInput!Y129","v":0},{"$f":"IF(DataInput!U129-DataInput!E129>0,DataInput!U129-DataInput!E129,\"\")","v":6},{"$f":"IF(DataInput!W129-DataInput!I129>0,DataInput!W129-DataInput!I129,\"\")","v":""},null,6,7.8,7.2,0,0,{"$f":"ROUNDDOWN((IF(AA130>0,IFERROR(IF(AVERAGE(DataInput!Q129:Q130)>AVERAGE(AA130,AA129),ROUNDDOWN(((((AA129-Z129)+(AA130-Z130))/2)*(A130-A129))/27+S19+T19,0),IF(((((DataInput!Q130-Z130)+(DataInput!Q129-Z129))/2)*(A130-A129))/27+S19+T19>0,ROUNDDOWN(((((DataInput!Q130-Z129)+(DataInput!Q129-Z129))/2)*(A130-A129))/27+S19+T19,0),0)),0),0)*$X$5),1)","v":0},0,{"$f":"ROUNDDOWN((IF(AC130>0,IFERROR(IF(((((DataInput!Q129-AC129)+(DataInput!Q130-AC130))/2)*(A130-A129))/27+S19+T19>0,ROUNDDOWN(((((DataInput!Q129-AC129)+(DataInput!Q130-AC130))/2)*(A130-A129))/27+S19+T19,0),0),0),0)*$X$5),1)","v":0},{"$f":"DataInput!U129","v":6},{"$f":"DataInput!S129","v":11},15.4,-9.4]
[{"$f":"IF(DataInput!A130<>\"\",DataInput!A130,\"\")","v":74425}]
[]
[{"$f":"IF(DataInput!A132<>\"\",DataInput!A132,\"\")","v":"Sta. 766+09"}]
[{"$f":"IF(DataInput!A133<>\"\",DataInput!A133,\"\")","v":76525},{"$f":"SUM(DataInput!C133,DataInput!Y133)+(DataInput!U133-DataInput!E133)","v":52},{"$f":"SUM(DataInput!D133,DataInput!Z133)","v":37},{"$f":"DataInput!U133","v":15},{"$f":"SUM(DataInput!F133,DataInput!AB133)","v":0},{"$f":"SUM(DataInput!G133,DataInput!AC133)","v":0},{"$f":"SUM(DataInput!H133,DataInput!AD133)","v":0},{"$f":"DataInput!I133","v":0},{"$f":"SUM(DataInput!J133,DataInput!AF133)","v":0},{"$f":"SUM(DataInput!K133,DataInput!AG133)","v":0},{"$f":"SUM(DataInput!L133,DataInput!AH133)","v":0},{"$f":"SUM(DataInput!M133,DataInput!AI133)","v":0},{"$f":"SUM(DataInput!N133,DataInput!AJ133)","v":0},{"$f":"SUM(DataInput!O133,DataInput!AK133)","v":0},{"$f":"DataInput!P133","v":0},null,{"$f":"SUM(C133,E133:G133,I133:L133,N133:P133)","v":37},{"$f":"DataInput!R133","v":29},{"$f":"DataInput!Y133","v":0},{"$f":"IF(DataInput!U133-DataInput!E133>0,DataInput!U133-DataInput!E133,\"\")","v":15},{"$f":"IF(DataInput!W133-DataInput!I133>0,DataInput!W133-DataInput!I133,\"\")","v":""},null,{"$f":"SUM(R133:V133)","v":44},{"$f":"ROUNDUP(($W133*$X$5),1)","v":57.2},{"$f":"ROUNDUP(SUM(Q133-X133),1)","v":-20.2},null,null,{"$f":"ROUNDDOWN((IF(AA134>0,IFERROR(IF(AVERAGE(DataInput!Q133:Q134)>AVERAGE(AA134,AA133),ROUNDDOWN(((((AA133-Z133)+(AA134-Z134))/2)*(A134-A133))/27+S12+T12,0),IF(((((DataInput!Q134-Z134)+(DataInput!Q133-Z133))/2)*(A134-A133))/27+S12+T12>0,ROUNDDOWN(((((DataInput!Q134-Z133)+(DataInput!Q133-Z133))/2)*(A134-A133))/27+S12+T12,0),0)),0),0)*$X$5),1)","v":0},null,{"$f":"ROUNDDOWN((IF(AC134>0,IFERROR(IF(((((DataInput!Q133-AC133)+(DataInput!Q134-AC134))/2)*(A134-A133))/27+S12+T12>0,ROUNDDOWN(((((DataInput!Q133-AC133)+(DataInput!Q134-AC134))/2)*(A134-A133))/27+S12+T12,0),0),0),0)*$X$5),1)","v":0},{"$f":"DataInput!U133","v":15},{"$f":"DataInput!S133","v":28},{"$f":"ROUNDUP((AF133*$AG$5),1)","v":39.200000000000003},{"$f":"ROUNDUP((AE133-AG133),1)","v":-24.2}]
[{"$f":"IF(DataInput!A134<>\"\",DataInput!A134,\"\")","v":76550},{"$f":"SUM(DataInput!C134,DataInput!Y134)+(DataInput!U134-DataInput!E134)","v":144},{"$f":"SUM(DataInput!D134,DataInput!Z134)","v":120},{"$f":"DataInput!U134","v":24},{"$f":"SUM(DataInput!F134,DataInput!AB134)","v":0},{"$f":"SUM(DataInput!G134,DataInput!AC134)","v":0},{"$f":"SUM(DataInput!H134,DataInput!AD134)","v":0},{"$f":"DataInput!I134","v":0},{"$f":"SUM(DataInput!J134,DataInput!AF134)","v":0},{"$f":"SUM(DataInput!K134,DataInput!AG134)","v":0},{"$f":"SUM(DataInput!L134,DataInput!AH134)","v":0},{"$f":"SUM(DataInput!M134,DataInput!AI134)","v":0},{"$f":"SUM(DataInput!N134,DataInput!AJ134)","v":0},{"$f":"SUM(DataInput!O134,DataInput!AK134)","v":0},{"$f":"DataInput!P134","v":0},null,{"$f":"SUM(C134,E134:G134,I134:L134,N134:P134)","v":120},{"$f":"DataInput!R134","v":73},{"$f":"DataInput!Y134","v":0},{"$f":"IF(DataInput!U134-DataInput!E134>0,DataInput!U134-DataInput!E134,\"\")","v":24},{"$f":"IF(DataInput!W134-DataInput!I134>0,DataInput!W134-DataInput!I134,\"\")","v":""},null,{"$f":"SUM(R134:V134)","v":97},{"$f":"ROUNDUP(($W134*$X$5),1)","v":126.1},{"$f":"ROUNDUP(SUM(Q134-X134),1)","v":-6.1},{"$f":"Z133","v":0},{"$f":"AA133","v":0},{"$f":"ROUNDDOWN((IF(AA135>0,IFERROR(IF(AVERAGE(DataInput!Q134:Q135)>AVERAGE(AA135,AA134),ROUNDDOWN(((((AA134-Z134)+(AA135-Z135))/2)*(A135-A134))/27+S13+T13,0),IF(((((DataInput!Q135-Z135)+(DataInput!Q134-Z134))/2)*(A135-A134))/27+S13+T13>0,ROUNDDOWN(((((DataInput!Q135-Z134)+(DataInput!Q134-Z134))/2)*(A135-A134))/27+S13+T13,0),0)),0),0)*$X$5),1)","v":0},{"$f":"AC133","v":0},{"$f":"ROUNDDOWN((IF(AC135>0,IFERROR(IF(((((DataInput!Q134-AC134)+(DataInput!Q135-AC135))/2)*(A135-A134))/27+S13+T13>0,ROUNDDOWN(((((DataInput!Q134-AC134)+(DataInput!Q135-AC135))/2)*(A135-A134))/27+S13+T13,0),0),0),0)*$X$5),1)","v":0},{"$f":"DataInput!U134","v":24},{"$f":"DataInput!S134","v":48},{"$f":"ROUNDUP((AF134*$AG$5),1)","v":67.2},{"$f":"ROUNDUP((AE134-AG134),1)","v":-43.2}]
[{"$f":"IF(DataInput!A135<>\"\",DataInput!A135,\"\")","v":76575},{"$f":"SUM(DataInput!C135,DataInput!Y135)+(DataInput!U135-DataInput!E135)","v":216},{"$f":"SUM(DataInput!D135,DataInput!Z135)","v":186},{"$f":"DataInput!U135","v":30},{"$f":"SUM(DataInput!F135,DataInput!AB135)","v":0},{"$f":"SUM(DataInput!G135,DataInput!AC135)","v":0},{"$f":"SUM(DataInput!H135,DataInput!AD135)","v":0},{"$f":"DataInput!I135","v":0},{"$f":"SUM(DataInput!J135,DataInput!AF135)","v":0},{"$f":"SUM(DataInput!K135,DataInput!AG135)","v":0},{"$f":"SUM(DataInput!L135,DataInput!AH135)","v":0},{"$f":"SUM(DataInput!M135,DataInput!AI135)","v":0},{"$f":"SUM(DataInput!N135,DataInput!AJ135)","v":0},{"$f":"SUM(DataInput!O135,DataInput!AK135)","v":0},{"$f":"DataInput!P135","v":0},null,186,{"$f":"DataInput!R135","v":108},{"$f":"DataInput!Y135","v":0},{"$f":"IF(DataInput!U135-DataInput!E135>0,DataInput!U135-DataInput!E135,\"\")","v":30},{"$f":"IF(DataInput!W135-DataInput!I135>0,DataInput!W135-DataInput!I135,\"\")","v":""},null,138,179.4,6.6,{"$f":"Z134","v":0},{"$f":"AA134","v":0},{"$f":"ROUNDDOWN((IF(AA136>0,IFERROR(IF(AVERAGE(DataInput!Q135:Q136)>AVERAGE(AA136,AA135),ROUNDDOWN(((((AA135-Z135)+(AA136-Z136))/2)*(A136-A135))/27+S14+T14,0),IF(((((DataInput!Q136-Z136)+(DataInput!Q135-Z135))/2)*(A136-A135))/27+S14+T14>0,ROUNDDOWN(((((DataInput!Q136-Z135)+(DataInput!Q135-Z135))/2)*(A136-A135))/27+S14+T14,0),0)),0),0)*$X$5),1)","v":0},{"$f":"AC134","v":0},{"$f":"ROUNDDOWN((IF(AC136>0,IFERROR(IF(((((DataInput!Q135-AC135)+(DataInput!Q136-AC136))/2)*(A136-A135))/27+S14+T14>0,ROUNDDOWN(((((DataInput!Q135-AC135)+(DataInput!Q136-AC136))/2)*(A136-A135))/27+S14+T14,0),0),0),0)*$X$5),1)","v":0},{"$f":"DataInput!U135","v":30},{"$f":"DataInput!S135","v":58},81.2,-51.2]
[{"$f":"IF(DataInput!A136<>\"\",DataInput!A136,\"\")","v":76600},{"$f":"SUM(DataInput!C136,DataInput!Y136)+(DataInput!U136-DataInput!E136)","v":88},{"$f":"SUM(DataInput!D136,DataInput!Z136)","v":77},{"$f":"DataInput!U136","v":11},{"$f":"SUM(DataInput!F136,DataInput!AB136)","v":0},{"$f":"SUM(DataInput!G136,DataInput!AC136)","v":0},{"$f":"SUM(DataInput!H136,DataInput!AD136)","v":0},{"$f":"DataInput!I136","v":0},{"$f":"SUM(DataInput!J136,DataInput!AF136)","v":0},{"$f":"SUM(DataInput!K136,DataInput!AG136)","v":0},{"$f":"SUM(DataInput!L136,DataInput!AH136)","v":0},{"$f":"SUM(DataInput!M136,DataInput!AI136)","v":0},{"$f":"SUM(DataInput!N136,DataInput!AJ136)","v":0},{"$f":"SUM(DataInput!O136,DataInput!AK136)","v":0},{"$f":"DataInput!P136","v":0},null,77,{"$f":"DataInput!R136","v":46},{"$f":"DataInput!Y136","v":0},{"$f":"IF(DataInput!U136-DataInput!E136>0,DataInput!U136-DataInput!E136,\"\")","v":11},{"$f":"IF(DataInput!W136-DataInput!I136>0,DataInput!W136-DataInput!I136,\"\")","v":""},null,57,74.099999999999994,3,0,0,{"$f":"ROUNDDOWN((IF(AA137>0,IFERROR(IF(AVERAGE(DataInput!Q136:Q137)>AVERAGE(AA137,AA136),ROUNDDOWN(((((AA136-Z136)+(AA137-Z137))/2)*(A137-A136))/27+S15+T15,0),IF(((((DataInput!Q137-Z137)+(DataInput!Q136-Z136))/2)*(A137-A136))/27+S15+T15>0,ROUNDDOWN(((((DataInput!Q137-Z136)+(DataInput!Q136-Z136))/2)*(A137-A136))/27+S15+T15,0),0)),0),0)*$X$5),1)","v":0},0,{"$f":"ROUNDDOWN((IF(AC137>0,IFERROR(IF(((((DataInput!Q136-AC136)+(DataInput!Q137-AC137))/2)*(A137-A136))/27+S15+T15>0,ROUNDDOWN(((((DataInput!Q136-AC136)+(DataInput!Q137-AC137))/2)*(A137-A136))/27+S15+T15,0),0),0),0)*$X$5),1)","v":0},{"$f":"DataInput!U136","v":11},{"$f":"DataInput!S136","v":22},30.8,-19.8]
[{"$f":"IF(DataInput!A137<>\"\",DataInput!A137,\"\")","v":76609},{"$f":"SUM(DataInput!C137,DataInput!Y137)+(DataInput!U137-DataInput!E137)","v":142},{"$f":"SUM(DataInput!D137,DataInput!Z137)","v":122},{"$f":"DataInput!U137","v":20},{"$f":"SUM(DataInput!F137,DataInput!AB137)","v":0},{"$f":"SUM(DataInput!G137,DataInput!AC137)","v":0},{"$f":"SUM(DataInput!H137,DataInput!AD137)","v":0},{"$f":"DataInput!I137","v":0},{"$f":"SUM(DataInput!J137,DataInput!AF137)","v":0},{"$f":"SUM(DataInput!K137,DataInput!AG137)","v":0},{"$f":"SUM(DataInput!L137,DataInput!AH137)","v":0},{"$f":"SUM(DataInput!M137,DataInput!AI137)","v":0},{"$f":"SUM(DataInput!N137,DataInput!AJ137)","v":0},{"$f":"SUM(DataInput!O137,DataInput!AK137)","v":0},{"$f":"DataInput!P137","v":0},null,122,{"$f":"DataInput!R137","v":90},{"$f":"DataInput!Y137","v":0},{"$f":"IF(DataInput!U137-DataInput!E137>0,DataInput!U137-DataInput!E137,\"\")","v":20},{"$f":"IF(DataInput!W137-DataInput!I137>0,DataInput!W137-DataInput!I137,\"\")","v":""},null,110,143,-21,0,0,{"$f":"ROUNDDOWN((IF(AA138>0,IFERROR(IF(AVERAGE(DataInput!Q137:Q138)>AVERAGE(AA138,AA137),ROUNDDOWN(((((AA137-Z137)+(AA138-Z138))/2)*(A138-A137))/27+S16+T16,0),IF(((((DataInput!Q138-Z138)+(DataInput!Q137-Z137))/2)*(A138-A137))/27+S16+T16>0,ROUNDDOWN(((((DataInput!Q138-Z137)+(DataInput!Q137-Z137))/2)*(A138-A137))/27+S16+T16,0),0)),0),0)*$X$5),1)","v":0},0,{"$f":"ROUNDDOWN((IF(AC138>0,IFERROR(IF(((((DataInput!Q137-AC137)+(DataInput!Q138-AC138))/2)*(A138-A137))/27+S16+T16>0,ROUNDDOWN(((((DataInput!Q137-AC137)+(DataInput!Q138-AC138))/2)*(A138-A137))/27+S16+T16,0),0),0),0)*$X$5),1)","v":0},{"$f":"DataInput!U137","v":20},{"$f":"DataInput!S137","v":39},54.6,-34.6]
[{"$f":"IF(DataInput!A138<>\"\",DataInput!A138,\"\")","v":76625},{"$f":"SUM(DataInput!C138,DataInput!Y138)+(DataInput!U138-DataInput!E138)","v":163},{"$f":"SUM(DataInput!D138,DataInput!Z138)","v":134},{"$f":"DataInput!U138","v":29},{"$f":"SUM(DataInput!F138,DataInput!AB138)","v":0},{"$f":"SUM(DataInput!G138,DataInput!AC138)","v":0},{"$f":"SUM(DataInput!H138,DataInput!AD138)","v":0},{"$f":"DataInput!I138","v":0},{"$f":"SUM(DataInput!J138,DataInput!AF138)","v":0},{"$f":"SUM(DataInput!K138,DataInput!AG138)","v":0},{"$f":"SUM(DataInput!L138,DataInput!AH138)","v":0},{"$f":"SUM(DataInput!M138,DataInput!AI138)","v":0},{"$f":"SUM(DataInput!N138,DataInput!AJ138)","v":0},{"$f":"SUM(DataInput!O138,DataInput!AK138)","v":0},{"$f":"DataInput!P138","v":0},null,134,{"$f":"DataInput!R138","v":117},{"$f":"DataInput!Y138","v":0},{"$f":"IF(DataInput!U138-DataInput!E138>0,DataInput!U138-DataInput!E138,\"\")","v":29},{"$f":"IF(DataInput!W138-DataInput!I138>0,DataInput!W138-DataInput!I138,\"\")","v":""},null,146,189.8,-55.8,0,0,{"$f":"ROUNDDOWN((IF(AA139>0,IFERROR(IF(AVERAGE(DataInput!Q138:Q139)>AVERAGE(AA139,AA138),ROUNDDOWN(((((AA138-Z138)+(AA139-Z139))/2)*(A139-A138))/27+S17+T17,0),IF(((((DataInput!Q139-Z139)+(DataInput!Q138-Z138))/2)*(A139-A138))/27+S17+T17>0,ROUNDDOWN(((((DataInput!Q139-Z138)+(DataInput!Q138-Z138))/2)*(A139-A138))/27+S17+T17,0),0)),0),0)*$X$5),1)","v":0},0,{"$f":"ROUNDDOWN((IF(AC139>0,IFERROR(IF(((((DataInput!Q138-AC138)+(DataInput!Q139-AC139))/2)*(A139-A138))/27+S17+T17>0,ROUNDDOWN(((((DataInput!Q138-AC138)+(DataInput!Q139-AC139))/2)*(A139-A138))/27+S17+T17,0),0),0),0)*$X$5),1)","v":0},{"$f":"DataInput!U138","v":29},{"$f":"DataInput!S138","v":56},78.400000000000006,-49.4]
[{"$f":"IF(DataInput!A139<>\"\",DataInput!A139,\"\")","v":76650},{"$f":"SUM(DataInput!C139,DataInput!Y139)+(DataInput!U139-DataInput!E139)","v":80},{"$f":"SUM(DataInput!D139,DataInput!Z139)","v":58},{"$f":"DataInput!U139","v":22},{"$f":"SUM(DataInput!F139,DataInput!AB139)","v":0},{"$f":"SUM(DataInput!G139,DataInput!AC139)","v":0},{"$f":"SUM(DataInput!H139,DataInput!AD139)","v":0},{"$f":"DataInput!I139","v":0},{"$f":"SUM(DataInput!J139,DataInput!AF139)","v":0},{"$f":"SUM(DataInput!K139,DataInput!AG139)","v":0},{"$f":"SUM(DataInput!L139,DataInput!AH139)","v":0},{"$f":"SUM(DataInput!M139,DataInput!AI139)","v":0},{"$f":"SUM(DataInput!N139,DataInput!AJ139)","v":0},{"$f":"SUM(DataInput!O139,DataInput!AK139)","v":0},{"$f":"DataInput!P139","v":0},null,58,{"$f":"DataInput!R139","v":57},{"$f":"DataInput!Y139","v":0},{"$f":"IF(DataInput!U139-DataInput!E139>0,DataInput!U139-DataInput!E139,\"\")","v":22},{"$f":"IF(DataInput!W139-DataInput!I139>0,DataInput!W139-DataInput!I139,\"\")","v":""},null,79,102.7,-44.7,0,0,{"$f":"ROUNDDOWN((IF(AA140>0,IFERROR(IF(AVERAGE(DataInput!Q139:Q140)>AVERAGE(AA140,AA139),ROUNDDOWN(((((AA139-Z139)+(AA140-Z140))/2)*(A140-A139))/27+S18+T18,0),IF(((((DataInput!Q140-Z140)+(DataInput!Q139-Z139))/2)*(A140-A139))/27+S18+T18>0,ROUNDDOWN(((((DataInput!Q140-Z139)+(DataInput!Q139-Z139))/2)*(A140-A139))/27+S18+T18,0),0)),0),0)*$X$5),1)","v":0},0,{"$f":"ROUNDDOWN((IF(AC140>0,IFERROR(IF(((((DataInput!Q139-AC139)+(DataInput!Q140-AC140))/2)*(A140-A139))/27+S18+T18>0,ROUNDDOWN(((((DataInput!Q139-AC139)+(DataInput!Q140-AC140))/2)*(A140-A139))/27+S18+T18,0),0),0),0)*$X$5),1)","v":0},{"$f":"DataInput!U139","v":22},{"$f":"DataInput!S139","v":43},60.2,-38.200000000000003]
[{"$f":"IF(DataInput!A140<>\"\",DataInput!A140,\"\")","v":76675}]
[]
[{"$f":"IF(DataInput!A142<>\"\",DataInput!A142,\"\")","v":"Sta. 788+20"}]
[{"$f":"IF(DataInput!A143<>\"\",DataInput!A143,\"\")","v":78725},{"$f":"SUM(DataInput!C143,DataInput!Y143)+(DataInput!U143-DataInput!E143)","v":64},{"$f":"SUM(DataInput!D143,DataInput!Z143)","v":54},{"$f":"DataInput!U143","v":10},{"$f":"SUM(DataInput!F143,DataInput!AB143)","v":0},{"$f":"SUM(DataInput!G143,DataInput!AC143)","v":0},{"$f":"SUM(DataInput!H143,DataInput!AD143)","v":0},{"$f":"DataInput!I143","v":0},{"$f":"SUM(DataInput!J143,DataInput!AF143)","v":0},{"$f":"SUM(DataInput!K143,DataInput!AG143)","v":0},{"$f":"SUM(DataInput!L143,DataInput!AH143)","v":0},{"$f":"SUM(DataInput!M143,DataInput!AI143)","v":0},{"$f":"SUM(DataInput!N143,DataInput!AJ143)","v":0},{"$f":"SUM(DataInput!O143,DataInput!AK143)","v":0},{"$f":"DataInput!P143","v":0},null,{"$f":"SUM(C143,E143:G143,I143:L143,N143:P143)","v":54},{"$f":"DataInput!R143","v":0},{"$f":"DataInput!Y143","v":0},{"$f":"IF(DataInput!U143-DataInput!E143>0,DataInput!U143-DataInput!E143,\"\")","v":10},{"$f":"IF(DataInput!W143-DataInput!I143>0,DataInput!W143-DataInput!I143,\"\")","v":""},null,{"$f":"SUM(R143:V143)","v":10},{"$f":"ROUNDUP(($W143*$X$5),1)","v":13},{"$f":"ROUNDUP(SUM(Q143-X143),1)","v":41},null,null,{"$f":"ROUNDDOWN((IF(AA144>0,IFERROR(IF(AVERAGE(DataInput!Q143:Q144)>AVERAGE(AA144,AA143),ROUNDDOWN(((((AA143-Z143)+(AA144-Z144))/2)*(A144-A143))/27+S12+T12,0),IF(((((DataInput!Q144-Z144)+(DataInput!Q143-Z143))/2)*(A144-A143))/27+S12+T12>0,ROUNDDOWN(((((DataInput!Q144-Z143)+(DataInput!Q143-Z143))/2)*(A144-A143))/27+S12+T12,0),0)),0),0)*$X$5),1)","v":0},null,{"$f":"ROUNDDOWN((IF(AC144>0,IFERROR(IF(((((DataInput!Q143-AC143)+(DataInput!Q144-AC144))/2)*(A144-A143))/27+S12+T12>0,ROUNDDOWN(((((DataInput!Q143-AC143)+(DataInput!Q144-AC144))/2)*(A144-A143))/27+S12+T12,0),0),0),0)*$X$5),1)","v":0},{"$f":"DataInput!U143","v":10},{"$f":"DataInput!S143","v":19},{"$f":"ROUNDUP((AF143*$AG$5),1)","v":26.6},{"$f":"ROUNDUP((AE143-AG143),1)","v":-16.600000000000001}]
[{"$f":"IF(DataInput!A144<>\"\",DataInput!A144,\"\")","v":78750},{"$f":"SUM(DataInput!C144,DataInput!Y144)+(DataInput!U144-DataInput!E144)","v":104},{"$f":"SUM(DataInput!D144,DataInput!Z144)","v":89},{"$f":"DataInput!U144","v":15},{"$f":"SUM(DataInput!F144,DataInput!AB144)","v":0},{"$f":"SUM(DataInput!G144,DataInput!AC144)","v":0},{"$f":"SUM(DataInput!H144,DataInput!AD144)","v":0},{"$f":"DataInput!I144","v":0},{"$f":"SUM(DataInput!J144,DataInput!AF144)","v":0},{"$f":"SUM(DataInput!K144,DataInput!AG144)","v":0},{"$f":"SUM(DataInput!L144,DataInput!AH144)","v":0},{"$f":"SUM(DataInput!M144,DataInput!AI144)","v":0},{"$f":"SUM(DataInput!N144,DataInput!AJ144)","v":0},{"$f":"SUM(DataInput!O144,DataInput!AK144)","v":0},{"$f":"DataInput!P144","v":0},null,{"$f":"SUM(C144,E144:G144,I144:L144,N144:P144)","v":89},{"$f":"DataInput!R144","v":2},{"$f":"DataInput!Y144","v":0},{"$f":"IF(DataInput!U144-DataInput!E144>0,DataInput!U144-DataInput!E144,\"\")","v":15},{"$f":"IF(DataInput!W144-DataInput!I144>0,DataInput!W144-DataInput!I144,\"\")","v":""},null,{"$f":"SUM(R144:V144)","v":17},{"$f":"ROUNDUP(($W144*$X$5),1)","v":22.1},{"$f":"ROUNDUP(SUM(Q144-X144),1)","v":66.900000000000006},{"$f":"Z143","v":0},{"$f":"AA143","v":0},{"$f":"ROUNDDOWN((IF(AA145>0,IFERROR(IF(AVERAGE(DataInput!Q144:Q145)>AVERAGE(AA145,AA144),ROUNDDOWN(((((AA144-Z144)+(AA145-Z145))/2)*(A145-A144))/27+S13+T13,0),IF(((((DataInput!Q145-Z145)+(DataInput!Q144-Z144))/2)*(A145-A144))/27+S13+T13>0,ROUNDDOWN(((((DataInput!Q145-Z144)+(DataInput!Q144-Z144))/2)*(A145-A144))/27+S13+T13,0),0)),0),0)*$X$5),1)","v":0},{"$f":"AC143","v":0},{"$f":"ROUNDDOWN((IF(AC145>0,IFERROR(IF(((((DataInput!Q144-AC144)+(DataInput!Q145-AC145))/2)*(A145-A144))/27+S13+T13>0,ROUNDDOWN(((((DataInput!Q144-AC144)+(DataInput!Q145-AC145))/2)*(A145-A144))/27+S13+T13,0),0),0),0)*$X$5),1)","v":0},{"$f":"DataInput!U144","v":15},{"$f":"DataInput!S144","v":29},{"$f":"ROUNDUP((AF144*$AG$5),1)","v":40.6},{"$f":"ROUNDUP((AE144-AG144),1)","v":-25.6}]
[{"$f":"IF(DataInput!A145<>\"\",DataInput!A145,\"\")","v":78775},{"$f":"SUM(DataInput!C145,DataInput!Y145)+(DataInput!U145-DataInput!E145)","v":139},{"$f":"SUM(DataInput!D145,DataInput!Z145)","v":121},{"$f":"DataInput!U145","v":18},{"$f":"SUM(DataInput!F145,DataInput!AB145)","v":0},{"$f":"SUM(DataInput!G145,DataInput!AC145)","v":0},{"$f":"SUM(DataInput!H145,DataInput!AD145)","v":0},{"$f":"DataInput!I145","v":0},{"$f":"SUM(DataInput!J145,DataInput!AF145)","v":0},{"$f":"SUM(DataInput!K145,DataInput!AG145)","v":0},{"$f":"SUM(DataInput!L145,DataInput!AH145)","v":0},{"$f":"SUM(DataInput!M145,DataInput!AI145)","v":0},{"$f":"SUM(DataInput!N145,DataInput!AJ145)","v":0},{"$f":"SUM(DataInput!O145,DataInput!AK145)","v":0},{"$f":"DataInput!P145","v":0},null,121,{"$f":"DataInput!R145","v":5},{"$f":"DataInput!Y145","v":0},{"$f":"IF(DataInput!U145-DataInput!E145>0,DataInput!U145-DataInput!E145,\"\")","v":18},{"$f":"IF(DataInput!W145-DataInput!I145>0,DataInput!W145-DataInput!I145,\"\")","v":""},null,23,29.9,91.1,{"$f":"Z144","v":0},{"$f":"AA144","v":0},{"$f":"ROUNDDOWN((IF(AA146>0,IFERROR(IF(AVERAGE(DataInput!Q145:Q146)>AVERAGE(AA146,AA145),ROUNDDOWN(((((AA145-Z145)+(AA146-Z146))/2)*(A146-A145))/27+S14+T14,0),IF(((((DataInput!Q146-Z146)+(DataInput!Q145-Z145))/2)*(A146-A145))/27+S14+T14>0,ROUNDDOWN(((((DataInput!Q146-Z145)+(DataInput!Q145-Z145))/2)*(A146-A145))/27+S14+T14,0),0)),0),0)*$X$5),1)","v":0},{"$f":"AC144","v":0},{"$f":"ROUNDDOWN((IF(AC146>0,IFERROR(IF(((((DataInput!Q145-AC145)+(DataInput!Q146-AC146))/2)*(A146-A145))/27+S14+T14>0,ROUNDDOWN(((((DataInput!Q145-AC145)+(DataInput!Q146-AC146))/2)*(A146-A145))/27+S14+T14,0),0),0),0)*$X$5),1)","v":0},{"$f":"DataInput!U145","v":18},{"$f":"DataInput!S145","v":36},50.4,-32.4]
[{"$f":"IF(DataInput!A146<>\"\",DataInput!A146,\"\")","v":78800},{"$f":"SUM(DataInput!C146,DataInput!Y146)+(DataInput!U146-DataInput!E146)","v":172},{"$f":"SUM(DataInput!D146,DataInput!Z146)","v":149},{"$f":"DataInput!U146","v":23},{"$f":"SUM(DataInput!F146,DataInput!AB146)","v":0},{"$f":"SUM(DataInput!G146,DataInput!AC146)","v":0},{"$f":"SUM(DataInput!H146,DataInput!AD146)","v":0},{"$f":"DataInput!I146","v":0},{"$f":"SUM(DataInput!J146,DataInput!AF146)","v":0},{"$f":"SUM(DataInput!K146,DataInput!AG146)","v":0},{"$f":"SUM(DataInput!L146,DataInput!AH146)","v":0},{"$f":"SUM(DataInput!M146,DataInput!AI146)","v":0},{"$f":"SUM(DataInput!N146,DataInput!AJ146)","v":0},{"$f":"SUM(DataInput!O146,DataInput!AK146)","v":0},{"$f":"DataInput!P146","v":0},null,149,{"$f":"DataInput!R146","v":27},{"$f":"DataInput!Y146","v":0},{"$f":"IF(DataInput!U146-DataInput!E146>0,DataInput!U146-DataInput!E146,\"\")","v":23},{"$f":"IF(DataInput!W146-DataInput!I146>0,DataInput!W146-DataInput!I146,\"\")","v":""},null,50,65,84,0,0,{"$f":"ROUNDDOWN((IF(AA147>0,IFERROR(IF(AVERAGE(DataInput!Q146:Q147)>AVERAGE(AA147,AA146),ROUNDDOWN(((((AA146-Z146)+(AA147-Z147))/2)*(A147-A146))/27+S15+T15,0),IF(((((DataInput!Q147-Z147)+(DataInput!Q146-Z146))/2)*(A147-A146))/27+S15+T15>0,ROUNDDOWN(((((DataInput!Q147-Z146)+(DataInput!Q146-Z146))/2)*(A147-A146))/27+S15+T15,0),0)),0),0)*$X$5),1)","v":0},0,{"$f":"ROUNDDOWN((IF(AC147>0,IFERROR(IF(((((DataInput!Q146-AC146)+(DataInput!Q147-AC147))/2)*(A147-A146))/27+S15+T15>0,ROUNDDOWN(((((DataInput!Q146-AC146)+(DataInput!Q147-AC147))/2)*(A147-A146))/27+S15+T15,0),0),0),0)*$X$5),1)","v":0},{"$f":"DataInput!U146","v":23},{"$f":"DataInput!S146","v":45},63,-40]
[{"$f":"IF(DataInput!A147<>\"\",DataInput!A147,\"\")","v":78825},{"$f":"SUM(DataInput!C147,DataInput!Y147)+(DataInput!U147-DataInput!E147)","v":155},{"$f":"SUM(DataInput!D147,DataInput!Z147)","v":133},{"$f":"DataInput!U147","v":22},{"$f":"SUM(DataInput!F147,DataInput!AB147)","v":0},{"$f":"SUM(DataInput!G147,DataInput!AC147)","v":0},{"$f":"SUM(DataInput!H147,DataInput!AD147)","v":0},{"$f":"DataInput!I147","v":0},{"$f":"SUM(DataInput!J147,DataInput!AF147)","v":0},{"$f":"SUM(DataInput!K147,DataInput!AG147)","v":0},{"$f":"SUM(DataInput!L147,DataInput!AH147)","v":0},{"$f":"SUM(DataInput!M147,DataInput!AI147)","v":0},{"$f":"SUM(DataInput!N147,DataInput!AJ147)","v":0},{"$f":"SUM(DataInput!O147,DataInput!AK147)","v":0},{"$f":"DataInput!P147","v":0},33,166,{"$f":"DataInput!R147","v":27},{"$f":"DataInput!Y147","v":0},{"$f":"IF(DataInput!U147-DataInput!E147>0,DataInput!U147-DataInput!E147,\"\")","v":22},{"$f":"IF(DataInput!W147-DataInput!I147>0,DataInput!W147-DataInput!I147,\"\")","v":""},null,49,63.7,102.3,0,0,{"$f":"ROUNDDOWN((IF(AA148>0,IFERROR(IF(AVERAGE(DataInput!Q147:Q148)>AVERAGE(AA148,AA147),ROUNDDOWN(((((AA147-Z147)+(AA148-Z148))/2)*(A148-A147))/27+S16+T16,0),IF(((((DataInput!Q148-Z148)+(DataInput!Q147-Z147))/2)*(A148-A147))/27+S16+T16>0,ROUNDDOWN(((((DataInput!Q148-Z147)+(DataInput!Q147-Z147))/2)*(A148-A147))/27+S16+T16,0),0)),0),0)*$X$5),1)","v":0},0,{"$f":"ROUNDDOWN((IF(AC148>0,IFERROR(IF(((((DataInput!Q147-AC147)+(DataInput!Q148-AC148))/2)*(A148-A147))/27+S16+T16>0,ROUNDDOWN(((((DataInput!Q147-AC147)+(DataInput!Q148-AC148))/2)*(A148-A147))/27+S16+T16,0),0),0),0)*$X$5),1)","v":0},{"$f":"DataInput!U147","v":22},{"$f":"DataInput!S147","v":43},60.2,-38.200000000000003]
[{"$f":"IF(DataInput!A148<>\"\",DataInput!A148,\"\")","v":78850},{"$f":"SUM(DataInput!C148,DataInput!Y148)+(DataInput!U148-DataInput!E148)","v":72},{"$f":"SUM(DataInput!D148,DataInput!Z148)","v":60},{"$f":"DataInput!U148","v":12},{"$f":"SUM(DataInput!F148,DataInput!AB148)","v":0},{"$f":"SUM(DataInput!G148,DataInput!AC148)","v":0},{"$f":"SUM(DataInput!H148,DataInput!AD148)","v":0},{"$f":"DataInput!I148","v":0},{"$f":"SUM(DataInput!J148,DataInput!AF148)","v":0},{"$f":"SUM(DataInput!K148,DataInput!AG148)","v":0},{"$f":"SUM(DataInput!L148,DataInput!AH148)","v":0},{"$f":"SUM(DataInput!M148,DataInput!AI148)","v":0},{"$f":"SUM(DataInput!N148,DataInput!AJ148)","v":0},{"$f":"SUM(DataInput!O148,DataInput!AK148)","v":0},{"$f":"DataInput!P148","v":0},null,60,{"$f":"DataInput!R148","v":4},{"$f":"DataInput!Y148","v":0},{"$f":"IF(DataInput!U148-DataInput!E148>0,DataInput!U148-DataInput!E148,\"\")","v":12},{"$f":"IF(DataInput!W148-DataInput!I148>0,DataInput!W148-DataInput!I148,\"\")","v":""},null,16,20.8,39.200000000000003,0,0,{"$f":"ROUNDDOWN((IF(AA149>0,IFERROR(IF(AVERAGE(DataInput!Q148:Q149)>AVERAGE(AA149,AA148),ROUNDDOWN(((((AA148-Z148)+(AA149-Z149))/2)*(A149-A148))/27+S17+T17,0),IF(((((DataInput!Q149-Z149)+(DataInput!Q148-Z148))/2)*(A149-A148))/27+S17+T17>0,ROUNDDOWN(((((DataInput!Q149-Z148)+(DataInput!Q148-Z148))/2)*(A149-A148))/27+S17+T17,0),0)),0),0)*$X$5),1)","v":0},0,{"$f":"ROUNDDOWN((IF(AC149>0,IFERROR(IF(((((DataInput!Q148-AC148)+(DataInput!Q149-AC149))/2)*(A149-A148))/27+S17+T17>0,ROUNDDOWN(((((DataInput!Q148-AC148)+(DataInput!Q149-AC149))/2)*(A149-A148))/27+S17+T17,0),0),0),0)*$X$5),1)","v":0},{"$f":"DataInput!U148","v":12},{"$f":"DataInput!S148","v":24},33.6,-21.6]
[{"$f":"IF(DataInput!A149<>\"\",DataInput!A149,\"\")","v":78875},{"$f":"SUM(DataInput!C149,DataInput!Y149)+(DataInput!U149-DataInput!E149)","v":18},{"$f":"SUM(DataInput!D149,DataInput!Z149)","v":9},{"$f":"DataInput!U149","v":9},{"$f":"SUM(DataInput!F149,DataInput!AB149)","v":0},{"$f":"SUM(DataInput!G149,DataInput!AC149)","v":0},{"$f":"SUM(DataInput!H149,DataInput!AD149)","v":0},{"$f":"DataInput!I149","v":0},{"$f":"SUM(DataInput!J149,DataInput!AF149)","v":0},{"$f":"SUM(DataInput!K149,DataInput!AG149)","v":0},{"$f":"SUM(DataInput!L149,DataInput!AH149)","v":0},{"$f":"SUM(DataInput!M149,DataInput!AI149)","v":0},{"$f":"SUM(DataInput!N149,DataInput!AJ149)","v":0},{"$f":"SUM(DataInput!O149,DataInput!AK149)","v":0},{"$f":"DataInput!P149","v":0},null,9,{"$f":"DataInput!R149","v":0},{"$f":"DataInput!Y149","v":0},{"$f":"IF(DataInput!U149-DataInput!E149>0,DataInput!U149-DataInput!E149,\"\")","v":9},{"$f":"IF(DataInput!W149-DataInput!I149>0,DataInput!W149-DataInput!I149,\"\")","v":""},null,9,11.7,-2.7,0,0,{"$f":"ROUNDDOWN((IF(AA150>0,IFERROR(IF(AVERAGE(DataInput!Q149:Q150)>AVERAGE(AA150,AA149),ROUNDDOWN(((((AA149-Z149)+(AA150-Z150))/2)*(A150-A149))/27+S18+T18,0),IF(((((DataInput!Q150-Z150)+(DataInput!Q149-Z149))/2)*(A150-A149))/27+S18+T18>0,ROUNDDOWN(((((DataInput!Q150-Z149)+(DataInput!Q149-Z149))/2)*(A150-A149))/27+S18+T18,0),0)),0),0)*$X$5),1)","v":0},0,{"$f":"ROUNDDOWN((IF(AC150>0,IFERROR(IF(((((DataInput!Q149-AC149)+(DataInput!Q150-AC150))/2)*(A150-A149))/27+S18+T18>0,ROUNDDOWN(((((DataInput!Q149-AC149)+(DataInput!Q150-AC150))/2)*(A150-A149))/27+S18+T18,0),0),0),0)*$X$5),1)","v":0},{"$f":"DataInput!U149","v":9},{"$f":"DataInput!S149","v":6},8.4,0.6]
[{"$f":"IF(DataInput!A150<>\"\",DataInput!A150,\"\")","v":78900},{"$f":"SUM(DataInput!C150,DataInput!Y150)+(DataInput!U150-DataInput!E150)","v":4},{"$f":"SUM(DataInput!D150,DataInput!Z150)","v":4},{"$f":"DataInput!U150","v":0},{"$f":"SUM(DataInput!F150,DataInput!AB150)","v":0},{"$f":"SUM(DataInput!G150,DataInput!AC150)","v":0},{"$f":"SUM(DataInput!H150,DataInput!AD150)","v":0},{"$f":"DataInput!I150","v":0},{"$f":"SUM(DataInput!J150,DataInput!AF150)","v":0},{"$f":"SUM(DataInput!K150,DataInput!AG150)","v":0},{"$f":"SUM(DataInput!L150,DataInput!AH150)","v":0},{"$f":"SUM(DataInput!M150,DataInput!AI150)","v":0},{"$f":"SUM(DataInput!N150,DataInput!AJ150)","v":0},{"$f":"SUM(DataInput!O150,DataInput!AK150)","v":0},{"$f":"DataInput!P150","v":0},null,4,{"$f":"DataInput!R150","v":0},{"$f":"DataInput!Y150","v":0},{"$f":"IF(DataInput!U150-DataInput!E150>0,DataInput!U150-DataInput!E150,\"\")","v":""},{"$f":"IF(DataInput!W150-DataInput!I150>0,DataInput!W150-DataInput!I150,\"\")","v":""},null,0,0,4,0,0,{"$f":"ROUNDDOWN((IF(AA151>0,IFERROR(IF(AVERAGE(DataInput!Q150:Q151)>AVERAGE(AA151,AA150),ROUNDDOWN(((((AA150-Z150)+(AA151-Z151))/2)*(A151-A150))/27+S19+T19,0),IF(((((DataInput!Q151-Z151)+(DataInput!Q150-Z150))/2)*(A151-A150))/27+S19+T19>0,ROUNDDOWN(((((DataInput!Q151-Z150)+(DataInput!Q150-Z150))/2)*(A151-A150))/27+S19+T19,0),0)),0),0)*$X$5),1)","v":0},0,{"$f":"ROUNDDOWN((IF(AC151>0,IFERROR(IF(((((DataInput!Q150-AC150)+(DataInput!Q151-AC151))/2)*(A151-A150))/27+S19+T19>0,ROUNDDOWN(((((DataInput!Q150-AC150)+(DataInput!Q151-AC151))/2)*(A151-A150))/27+S19+T19,0),0),0),0)*$X$5),1)","v":0},{"$f":"DataInput!U150","v":0},{"$f":"DataInput!S150","v":3},4.2,-4.2]
[{"$f":"IF(DataInput!A151<>\"\",DataInput!A151,\"\")","v":78925}]
[]
[{"$f":"IF(DataInput!A153<>\"\",DataInput!A153,\"\")","v":"Sta. 800+82"}]
[{"$f":"IF(DataInput!A154<>\"\",DataInput!A154,\"\")","v":80025},{"$f":"SUM(DataInput!C154,DataInput!Y154)+(DataInput!U154-DataInput!E154)","v":102},{"$f":"SUM(DataInput!D154,DataInput!Z154)","v":88},{"$f":"DataInput!U154","v":14},{"$f":"SUM(DataInput!F154,DataInput!AB154)","v":0},{"$f":"SUM(DataInput!G154,DataInput!AC154)","v":0},{"$f":"SUM(DataInput!H154,DataInput!AD154)","v":0},{"$f":"DataInput!I154","v":0},{"$f":"SUM(DataInput!J154,DataInput!AF154)","v":0},{"$f":"SUM(DataInput!K154,DataInput!AG154)","v":0},{"$f":"SUM(DataInput!L154,DataInput!AH154)","v":0},{"$f":"SUM(DataInput!M154,DataInput!AI154)","v":0},{"$f":"SUM(DataInput!N154,DataInput!AJ154)","v":0},{"$f":"SUM(DataInput!O154,DataInput!AK154)","v":0},{"$f":"DataInput!P154","v":0},null,{"$f":"SUM(C154,E154:G154,I154:L154,N154:P154)","v":88},{"$f":"DataInput!R154","v":8},{"$f":"DataInput!Y154","v":0},{"$f":"IF(DataInput!U154-DataInput!E154>0,DataInput!U154-DataInput!E154,\"\")","v":14},{"$f":"IF(DataInput!W154-DataInput!I154>0,DataInput!W154-DataInput!I154,\"\")","v":""},null,{"$f":"SUM(R154:V154)","v":22},{"$f":"ROUNDUP(($W154*$X$5),1)","v":28.6},{"$f":"ROUNDUP(SUM(Q154-X154),1)","v":59.4},null,null,{"$f":"ROUNDDOWN((IF(AA155>0,IFERROR(IF(AVERAGE(DataInput!Q154:Q155)>AVERAGE(AA155,AA154),ROUNDDOWN(((((AA154-Z154)+(AA155-Z155))/2)*(A155-A154))/27+S12+T12,0),IF(((((DataInput!Q155-Z155)+(DataInput!Q154-Z154))/2)*(A155-A154))/27+S12+T12>0,ROUNDDOWN(((((DataInput!Q155-Z154)+(DataInput!Q154-Z154))/2)*(A155-A154))/27+S12+T12,0),0)),0),0)*$X$5),1)","v":0},null,{"$f":"ROUNDDOWN((IF(AC155>0,IFERROR(IF(((((DataInput!Q154-AC154)+(DataInput!Q155-AC155))/2)*(A155-A154))/27+S12+T12>0,ROUNDDOWN(((((DataInput!Q154-AC154)+(DataInput!Q155-AC155))/2)*(A155-A154))/27+S12+T12,0),0),0),0)*$X$5),1)","v":0},{"$f":"DataInput!U154","v":14},{"$f":"DataInput!S154","v":28},{"$f":"ROUNDUP((AF154*$AG$5),1)","v":39.200000000000003},{"$f":"ROUNDUP((AE154-AG154),1)","v":-25.2}]
[{"$f":"IF(DataInput!A155<>\"\",DataInput!A155,\"\")","v":80050},{"$f":"SUM(DataInput!C155,DataInput!Y155)+(DataInput!U155-DataInput!E155)","v":169},{"$f":"SUM(DataInput!D155,DataInput!Z155)","v":149},{"$f":"DataInput!U155","v":20},{"$f":"SUM(DataInput!F155,DataInput!AB155)","v":0},{"$f":"SUM(DataInput!G155,DataInput!AC155)","v":0},{"$f":"SUM(DataInput!H155,DataInput!AD155)","v":0},{"$f":"DataInput!I155","v":0},{"$f":"SUM(DataInput!J155,DataInput!AF155)","v":0},{"$f":"SUM(DataInput!K155,DataInput!AG155)","v":0},{"$f":"SUM(DataInput!L155,DataInput!AH155)","v":0},{"$f":"SUM(DataInput!M155,DataInput!AI155)","v":0},{"$f":"SUM(DataInput!N155,DataInput!AJ155)","v":0},{"$f":"SUM(DataInput!O155,DataInput!AK155)","v":0},{"$f":"DataInput!P155","v":0},null,{"$f":"SUM(C155,E155:G155,I155:L155,N155:P155)","v":149},{"$f":"DataInput!R155","v":19},{"$f":"DataInput!Y155","v":0},{"$f":"IF(DataInput!U155-DataInput!E155>0,DataInput!U155-DataInput!E155,\"\")","v":20},{"$f":"IF(DataInput!W155-DataInput!I155>0,DataInput!W155-DataInput!I155,\"\")","v":""},null,{"$f":"SUM(R155:V155)","v":39},{"$f":"ROUNDUP(($W155*$X$5),1)","v":50.7},{"$f":"ROUNDUP(SUM(Q155-X155),1)","v":98.3},{"$f":"Z154","v":0},{"$f":"AA154","v":0},{"$f":"ROUNDDOWN((IF(AA156>0,IFERROR(IF(AVERAGE(DataInput!Q155:Q156)>AVERAGE(AA156,AA155),ROUNDDOWN(((((AA155-Z155)+(AA156-Z156))/2)*(A156-A155))/27+S13+T13,0),IF(((((DataInput!Q156-Z156)+(DataInput!Q155-Z155))/2)*(A156-A155))/27+S13+T13>0,ROUNDDOWN(((((DataInput!Q156-Z155)+(DataInput!Q155-Z155))/2)*(A156-A155))/27+S13+T13,0),0)),0),0)*$X$5),1)","v":0},{"$f":"AC154","v":0},{"$f":"ROUNDDOWN((IF(AC156>0,IFERROR(IF(((((DataInput!Q155-AC155)+(DataInput!Q156-AC156))/2)*(A156-A155))/27+S13+T13>0,ROUNDDOWN(((((DataInput!Q155-AC155)+(DataInput!Q156-AC156))/2)*(A156-A155))/27+S13+T13,0),0),0),0)*$X$5),1)","v":0},{"$f":"DataInput!U155","v":20},{"$f":"DataInput!S155","v":40},{"$f":"ROUNDUP((AF155*$AG$5),1)","v":56},{"$f":"ROUNDUP((AE155-AG155),1)","v":-36}]
[{"$f":"IF(DataInput!A156<>\"\",DataInput!A156,\"\")","v":80075},{"$f":"SUM(DataInput!C156,DataInput!Y156)+(DataInput!U156-DataInput!E156)","v":60},{"$f":"SUM(DataInput!D156,DataInput!Z156)","v":54},{"$f":"DataInput!U156","v":6},{"$f":"SUM(DataInput!F156,DataInput!AB156)","v":0},{"$f":"SUM(DataInput!G156,DataInput!AC156)","v":0},{"$f":"SUM(DataInput!H156,DataInput!AD156)","v":0},{"$f":"DataInput!I156","v":0},{"$f":"SUM(DataInput!J156,DataInput!AF156)","v":0},{"$f":"SUM(DataInput!K156,DataInput!AG156)","v":0},{"$f":"SUM(DataInput!L156,DataInput!AH156)","v":0},{"$f":"SUM(DataInput!M156,DataInput!AI156)","v":0},{"$f":"SUM(DataInput!N156,DataInput!AJ156)","v":0},{"$f":"SUM(DataInput!O156,DataInput!AK156)","v":0},{"$f":"DataInput!P156","v":0},null,54,{"$f":"DataInput!R156","v":8},{"$f":"DataInput!Y156","v":0},{"$f":"IF(DataInput!U156-DataInput!E156>0,DataInput!U156-DataInput!E156,\"\")","v":6},{"$f":"IF(DataInput!W156-DataInput!I156>0,DataInput!W156-DataInput!I156,\"\")","v":""},null,14,18.2,35.799999999999997,{"$f":"Z155","v":0},{"$f":"AA155","v":0},{"$f":"ROUNDDOWN((IF(AA157>0,IFERROR(IF(AVERAGE(DataInput!Q156:Q157)>AVERAGE(AA157,AA156),ROUNDDOWN(((((AA156-Z156)+(AA157-Z157))/2)*(A157-A156))/27+S14+T14,0),IF(((((DataInput!Q157-Z157)+(DataInput!Q156-Z156))/2)*(A157-A156))/27+S14+T14>0,ROUNDDOWN(((((DataInput!Q157-Z156)+(DataInput!Q156-Z156))/2)*(A157-A156))/27+S14+T14,0),0)),0),0)*$X$5),1)","v":0},{"$f":"AC155","v":0},{"$f":"ROUNDDOWN((IF(AC157>0,IFERROR(IF(((((DataInput!Q156-AC156)+(DataInput!Q157-AC157))/2)*(A157-A156))/27+S14+T14>0,ROUNDDOWN(((((DataInput!Q156-AC156)+(DataInput!Q157-AC157))/2)*(A157-A156))/27+S14+T14,0),0),0),0)*$X$5),1)","v":0},{"$f":"DataInput!U156","v":6},{"$f":"DataInput!S156","v":13},18.2,-12.2]
[{"$f":"IF(DataInput!A157<>\"\",DataInput!A157,\"\")","v":80082},{"$f":"SUM(DataInput!C157,DataInput!Y157)+(DataInput!U157-DataInput!E157)","v":152},{"$f":"SUM(DataInput!D157,DataInput!Z157)","v":136},{"$f":"DataInput!U157","v":16},{"$f":"SUM(DataInput!F157,DataInput!AB157)","v":0},{"$f":"SUM(DataInput!G157,DataInput!AC157)","v":0},{"$f":"SUM(DataInput!H157,DataInput!AD157)","v":0},{"$f":"DataInput!I157","v":0},{"$f":"SUM(DataInput!J157,DataInput!AF157)","v":0},{"$f":"SUM(DataInput!K157,DataInput!AG157)","v":0},{"$f":"SUM(DataInput!L157,DataInput!AH157)","v":0},{"$f":"SUM(DataInput!M157,DataInput!AI157)","v":0},{"$f":"SUM(DataInput!N157,DataInput!AJ157)","v":0},{"$f":"SUM(DataInput!O157,DataInput!AK157)","v":0},{"$f":"DataInput!P157","v":0},83,219,{"$f":"DataInput!R157","v":18},{"$f":"DataInput!Y157","v":0},{"$f":"IF(DataInput!U157-DataInput!E157>0,DataInput!U157-DataInput!E157,\"\")","v":16},{"$f":"IF(DataInput!W157-DataInput!I157>0,DataInput!W157-DataInput!I157,\"\")","v":""},null,34,44.2,174.8,0,0,{"$f":"ROUNDDOWN((IF(AA158>0,IFERROR(IF(AVERAGE(DataInput!Q157:Q158)>AVERAGE(AA158,AA157),ROUNDDOWN(((((AA157-Z157)+(AA158-Z158))/2)*(A158-A157))/27+S15+T15,0),IF(((((DataInput!Q158-Z158)+(DataInput!Q157-Z157))/2)*(A158-A157))/27+S15+T15>0,ROUNDDOWN(((((DataInput!Q158-Z157)+(DataInput!Q157-Z157))/2)*(A158-A157))/27+S15+T15,0),0)),0),0)*$X$5),1)","v":0},0,{"$f":"ROUNDDOWN((IF(AC158>0,IFERROR(IF(((((DataInput!Q157-AC157)+(DataInput!Q158-AC158))/2)*(A158-A157))/27+S15+T15>0,ROUNDDOWN(((((DataInput!Q157-AC157)+(DataInput!Q158-AC158))/2)*(A158-A157))/27+S15+T15,0),0),0),0)*$X$5),1)","v":0},{"$f":"DataInput!U157","v":16},{"$f":"DataInput!S157","v":32},44.8,-28.8]
[{"$f":"IF(DataInput!A158<>\"\",DataInput!A158,\"\")","v":80100},{"$f":"SUM(DataInput!C158,DataInput!Y158)+(DataInput!U158-DataInput!E158)","v":106},{"$f":"SUM(DataInput!D158,DataInput!Z158)","v":87},{"$f":"DataInput!U158","v":19},{"$f":"SUM(DataInput!F158,DataInput!AB158)","v":0},{"$f":"SUM(DataInput!G158,DataInput!AC158)","v":0},{"$f":"SUM(DataInput!H158,DataInput!AD158)","v":0},{"$f":"DataInput!I158","v":0},{"$f":"SUM(DataInput!J158,DataInput!AF158)","v":0},{"$f":"SUM(DataInput!K158,DataInput!AG158)","v":0},{"$f":"SUM(DataInput!L158,DataInput!AH158)","v":0},{"$f":"SUM(DataInput!M158,DataInput!AI158)","v":0},{"$f":"SUM(DataInput!N158,DataInput!AJ158)","v":0},{"$f":"SUM(DataInput!O158,DataInput!AK158)","v":0},{"$f":"DataInput!P158","v":0},null,87,{"$f":"DataInput!R158","v":30},{"$f":"DataInput!Y158","v":0},{"$f":"IF(DataInput!U158-DataInput!E158>0,DataInput!U158-DataInput!E158,\"\")","v":19},{"$f":"IF(DataInput!W158-DataInput!I158>0,DataInput!W158-DataInput!I158,\"\")","v":""},null,49,63.7,23.3,0,0,{"$f":"ROUNDDOWN((IF(AA159>0,IFERROR(IF(AVERAGE(DataInput!Q158:Q159)>AVERAGE(AA159,AA158),ROUNDDOWN(((((AA158-Z158)+(AA159-Z159))/2)*(A159-A158))/27+S16+T16,0),IF(((((DataInput!Q159-Z159)+(DataInput!Q158-Z158))/2)*(A159-A158))/27+S16+T16>0,ROUNDDOWN(((((DataInput!Q159-Z158)+(DataInput!Q158-Z158))/2)*(A159-A158))/27+S16+T16,0),0)),0),0)*$X$5),1)","v":0},0,{"$f":"ROUNDDOWN((IF(AC159>0,IFERROR(IF(((((DataInput!Q158-AC158)+(DataInput!Q159-AC159))/2)*(A159-A158))/27+S16+T16>0,ROUNDDOWN(((((DataInput!Q158-AC158)+(DataInput!Q159-AC159))/2)*(A159-A158))/27+S16+T16,0),0),0),0)*$X$5),1)","v":0},{"$f":"DataInput!U158","v":19},{"$f":"DataInput!S158","v":37},51.8,-32.799999999999997]
[{"$f":"IF(DataInput!A159<>\"\",DataInput!A159,\"\")","v":80125},{"$f":"SUM(DataInput!C159,DataInput!Y159)+(DataInput!U159-DataInput!E159)","v":34},{"$f":"SUM(DataInput!D159,DataInput!Z159)","v":21},{"$f":"DataInput!U159","v":13},{"$f":"SUM(DataInput!F159,DataInput!AB159)","v":0},{"$f":"SUM(DataInput!G159,DataInput!AC159)","v":0},{"$f":"SUM(DataInput!H159,DataInput!AD159)","v":0},{"$f":"DataInput!I159","v":0},{"$f":"SUM(DataInput!J159,DataInput!AF159)","v":0},{"$f":"SUM(DataInput!K159,DataInput!AG159)","v":0},{"$f":"SUM(DataInput!L159,DataInput!AH159)","v":0},{"$f":"SUM(DataInput!M159,DataInput!AI159)","v":0},{"$f":"SUM(DataInput!N159,DataInput!AJ159)","v":0},{"$f":"SUM(DataInput!O159,DataInput!AK159)","v":0},{"$f":"DataInput!P159","v":0},null,21,{"$f":"DataInput!R159","v":28},{"$f":"DataInput!Y159","v":0},{"$f":"IF(DataInput!U159-DataInput!E159>0,DataInput!U159-DataInput!E159,\"\")","v":13},{"$f":"IF(DataInput!W159-DataInput!I159>0,DataInput!W159-DataInput!I159,\"\")","v":""},null,41,53.3,-32.299999999999997,0,0,{"$f":"ROUNDDOWN((IF(AA160>0,IFERROR(IF(AVERAGE(DataInput!Q159:Q160)>AVERAGE(AA160,AA159),ROUNDDOWN(((((AA159-Z159)+(AA160-Z160))/2)*(A160-A159))/27+S17+T17,0),IF(((((DataInput!Q160-Z160)+(DataInput!Q159-Z159))/2)*(A160-A159))/27+S17+T17>0,ROUNDDOWN(((((DataInput!Q160-Z159)+(DataInput!Q159-Z159))/2)*(A160-A159))/27+S17+T17,0),0)),0),0)*$X$5),1)","v":0},0,{"$f":"ROUNDDOWN((IF(AC160>0,IFERROR(IF(((((DataInput!Q159-AC159)+(DataInput!Q160-AC160))/2)*(A160-A159))/27+S17+T17>0,ROUNDDOWN(((((DataInput!Q159-AC159)+(DataInput!Q160-AC160))/2)*(A160-A159))/27+S17+T17,0),0),0),0)*$X$5),1)","v":0},{"$f":"DataInput!U159","v":13},{"$f":"DataInput!S159","v":26},36.4,-23.4]
[{"$f":"IF(DataInput!A160<>\"\",DataInput!A160,\"\")","v":80150},{"$f":"SUM(DataInput!C160,DataInput!Y160)+(DataInput!U160-DataInput!E160)","v":10},{"$f":"SUM(DataInput!D160,DataInput!Z160)","v":3},{"$f":"DataInput!U160","v":7},{"$f":"SUM(DataInput!F160,DataInput!AB160)","v":0},{"$f":"SUM(DataInput!G160,DataInput!AC160)","v":0},{"$f":"SUM(DataInput!H160,DataInput!AD160)","v":0},{"$f":"DataInput!I160","v":0},{"$f":"SUM(DataInput!J160,DataInput!AF160)","v":0},{"$f":"SUM(DataInput!K160,DataInput!AG160)","v":0},{"$f":"SUM(DataInput!L160,DataInput!AH160)","v":0},{"$f":"SUM(DataInput!M160,DataInput!AI160)","v":0},{"$f":"SUM(DataInput!N160,DataInput!AJ160)","v":0},{"$f":"SUM(DataInput!O160,DataInput!AK160)","v":0},{"$f":"DataInput!P160","v":0},null,3,{"$f":"DataInput!R160","v":6},{"$f":"DataInput!Y160","v":0},{"$f":"IF(DataInput!U160-DataInput!E160>0,DataInput!U160-DataInput!E160,\"\")","v":7},{"$f":"IF(DataInput!W160-DataInput!I160>0,DataInput!W160-DataInput!I160,\"\")","v":""},null,13,16.899999999999999,-13.9,0,0,{"$f":"ROUNDDOWN((IF(AA161>0,IFERROR(IF(AVERAGE(DataInput!Q160:Q161)>AVERAGE(AA161,AA160),ROUNDDOWN(((((AA160-Z160)+(AA161-Z161))/2)*(A161-A160))/27+S18+T18,0),IF(((((DataInput!Q161-Z161)+(DataInput!Q160-Z160))/2)*(A161-A160))/27+S18+T18>0,ROUNDDOWN(((((DataInput!Q161-Z160)+(DataInput!Q160-Z160))/2)*(A161-A160))/27+S18+T18,0),0)),0),0)*$X$5),1)","v":0},0,{"$f":"ROUNDDOWN((IF(AC161>0,IFERROR(IF(((((DataInput!Q160-AC160)+(DataInput!Q161-AC161))/2)*(A161-A160))/27+S18+T18>0,ROUNDDOWN(((((DataInput!Q160-AC160)+(DataInput!Q161-AC161))/2)*(A161-A160))/27+S18+T18,0),0),0),0)*$X$5),1)","v":0},{"$f":"DataInput!U160","v":7},{"$f":"DataInput!S160","v":13},18.2,-11.2]
[{"$f":"IF(DataInput!A161<>\"\",DataInput!A161,\"\")","v":80175}]
[]
[{"$f":"IF(DataInput!A163<>\"\",DataInput!A163,\"\")","v":"Sta. 808+67"}]
[{"$f":"IF(DataInput!A164<>\"\",DataInput!A164,\"\")","v":80775},{"$f":"SUM(DataInput!C164,DataInput!Y164)+(DataInput!U164-DataInput!E164)","v":47},{"$f":"SUM(DataInput!D164,DataInput!Z164)","v":10},{"$f":"DataInput!U164","v":37},{"$f":"SUM(DataInput!F164,DataInput!AB164)","v":0},{"$f":"SUM(DataInput!G164,DataInput!AC164)","v":0},{"$f":"SUM(DataInput!H164,DataInput!AD164)","v":0},{"$f":"DataInput!I164","v":0},{"$f":"SUM(DataInput!J164,DataInput!AF164)","v":0},{"$f":"SUM(DataInput!K164,DataInput!AG164)","v":0},{"$f":"SUM(DataInput!L164,DataInput!AH164)","v":0},{"$f":"SUM(DataInput!M164,DataInput!AI164)","v":0},{"$f":"SUM(DataInput!N164,DataInput!AJ164)","v":0},{"$f":"SUM(DataInput!O164,DataInput!AK164)","v":0},{"$f":"DataInput!P164","v":0},null,{"$f":"SUM(C164,E164:G164,I164:L164,N164:P164)","v":10},{"$f":"DataInput!R164","v":6},{"$f":"DataInput!Y164","v":0},{"$f":"IF(DataInput!U164-DataInput!E164>0,DataInput!U164-DataInput!E164,\"\")","v":37},{"$f":"IF(DataInput!W164-DataInput!I164>0,DataInput!W164-DataInput!I164,\"\")","v":""},null,{"$f":"SUM(R164:V164)","v":43},{"$f":"ROUNDUP(($W164*$X$5),1)","v":55.9},{"$f":"ROUNDUP(SUM(Q164-X164),1)","v":-45.9},null,null,{"$f":"ROUNDDOWN((IF(AA165>0,IFERROR(IF(AVERAGE(DataInput!Q164:Q165)>AVERAGE(AA165,AA164),ROUNDDOWN(((((AA164-Z164)+(AA165-Z165))/2)*(A165-A164))/27+S12+T12,0),IF(((((DataInput!Q165-Z165)+(DataInput!Q164-Z164))/2)*(A165-A164))/27+S12+T12>0,ROUNDDOWN(((((DataInput!Q165-Z164)+(DataInput!Q164-Z164))/2)*(A165-A164))/27+S12+T12,0),0)),0),0)*$X$5),1)","v":0},null,{"$f":"ROUNDDOWN((IF(AC165>0,IFERROR(IF(((((DataInput!Q164-AC164)+(DataInput!Q165-AC165))/2)*(A165-A164))/27+S12+T12>0,ROUNDDOWN(((((DataInput!Q164-AC164)+(DataInput!Q165-AC165))/2)*(A165-A164))/27+S12+T12,0),0),0),0)*$X$5),1)","v":0},{"$f":"DataInput!U164","v":37},{"$f":"DataInput!S164","v":15},{"$f":"ROUNDUP((AF164*$AG$5),1)","v":21},{"$f":"ROUNDUP((AE164-AG164),1)","v":16}]
[{"$f":"IF(DataInput!A165<>\"\",DataInput!A165,\"\")","v":80800},{"$f":"SUM(DataInput!C165,DataInput!Y165)+(DataInput!U165-DataInput!E165)","v":48},{"$f":"SUM(DataInput!D165,DataInput!Z165)","v":48},{"$f":"DataInput!U165","v":0},{"$f":"SUM(DataInput!F165,DataInput!AB165)","v":0},{"$f":"SUM(DataInput!G165,DataInput!AC165)","v":0},{"$f":"SUM(DataInput!H165,DataInput!AD165)","v":0},{"$f":"DataInput!I165","v":0},{"$f":"SUM(DataInput!J165,DataInput!AF165)","v":0},{"$f":"SUM(DataInput!K165,DataInput!AG165)","v":0},{"$f":"SUM(DataInput!L165,DataInput!AH165)","v":0},{"$f":"SUM(DataInput!M165,DataInput!AI165)","v":0},{"$f":"SUM(DataInput!N165,DataInput!AJ165)","v":0},{"$f":"SUM(DataInput!O165,DataInput!AK165)","v":0},{"$f":"DataInput!P165","v":0},null,{"$f":"SUM(C165,E165:G165,I165:L165,N165:P165)","v":48},{"$f":"DataInput!R165","v":22},{"$f":"DataInput!Y165","v":0},{"$f":"IF(DataInput!U165-DataInput!E165>0,DataInput!U165-DataInput!E165,\"\")","v":""},{"$f":"IF(DataInput!W165-DataInput!I165>0,DataInput!W165-DataInput!I165,\"\")","v":""},null,{"$f":"SUM(R165:V165)","v":22},{"$f":"ROUNDUP(($W165*$X$5),1)","v":28.6},{"$f":"ROUNDUP(SUM(Q165-X165),1)","v":19.399999999999999},{"$f":"Z164","v":0},{"$f":"AA164","v":0},{"$f":"ROUNDDOWN((IF(AA166>0,IFERROR(IF(AVERAGE(DataInput!Q165:Q166)>AVERAGE(AA166,AA165),ROUNDDOWN(((((AA165-Z165)+(AA166-Z166))/2)*(A166-A165))/27+S13+T13,0),IF(((((DataInput!Q166-Z166)+(DataInput!Q165-Z165))/2)*(A166-A165))/27+S13+T13>0,ROUNDDOWN(((((DataInput!Q166-Z165)+(DataInput!Q165-Z165))/2)*(A166-A165))/27+S13+T13,0),0)),0),0)*$X$5),1)","v":0},{"$f":"AC164","v":0},{"$f":"ROUNDDOWN((IF(AC166>0,IFERROR(IF(((((DataInput!Q165-AC165)+(DataInput!Q166-AC166))/2)*(A166-A165))/27+S13+T13>0,ROUNDDOWN(((((DataInput!Q165-AC165)+(DataInput!Q166-AC166))/2)*(A166-A165))/27+S13+T13,0),0),0),0)*$X$5),1)","v":0},{"$f":"DataInput!U165","v":0},{"$f":"DataInput!S165","v":35},{"$f":"ROUNDUP((AF165*$AG$5),1)","v":49},{"$f":"ROUNDUP((AE165-AG165),1)","v":-49}]
[{"$f":"IF(DataInput!A166<>\"\",DataInput!A166,\"\")","v":80825},{"$f":"SUM(DataInput!C166,DataInput!Y166)+(DataInput!U166-DataInput!E166)","v":146},{"$f":"SUM(DataInput!D166,DataInput!Z166)","v":115},{"$f":"DataInput!U166","v":31},{"$f":"SUM(DataInput!F166,DataInput!AB166)","v":0},{"$f":"SUM(DataInput!G166,DataInput!AC166)","v":0},{"$f":"SUM(DataInput!H166,DataInput!AD166)","v":0},{"$f":"DataInput!I166","v":0},{"$f":"SUM(DataInput!J166,DataInput!AF166)","v":0},{"$f":"SUM(DataInput!K166,DataInput!AG166)","v":0},{"$f":"SUM(DataInput!L166,DataInput!AH166)","v":0},{"$f":"SUM(DataInput!M166,DataInput!AI166)","v":0},{"$f":"SUM(DataInput!N166,DataInput!AJ166)","v":0},{"$f":"SUM(DataInput!O166,DataInput!AK166)","v":0},{"$f":"DataInput!P166","v":0},null,115,{"$f":"DataInput!R166","v":70},{"$f":"DataInput!Y166","v":0},{"$f":"IF(DataInput!U166-DataInput!E166>0,DataInput!U166-DataInput!E166,\"\")","v":31},{"$f":"IF(DataInput!W166-DataInput!I166>0,DataInput!W166-DataInput!I166,\"\")","v":""},null,101,131.30000000000001,-16.3,{"$f":"Z165","v":0},{"$f":"AA165","v":0},{"$f":"ROUNDDOWN((IF(AA167>0,IFERROR(IF(AVERAGE(DataInput!Q166:Q167)>AVERAGE(AA167,AA166),ROUNDDOWN(((((AA166-Z166)+(AA167-Z167))/2)*(A167-A166))/27+S14+T14,0),IF(((((DataInput!Q167-Z167)+(DataInput!Q166-Z166))/2)*(A167-A166))/27+S14+T14>0,ROUNDDOWN(((((DataInput!Q167-Z166)+(DataInput!Q166-Z166))/2)*(A167-A166))/27+S14+T14,0),0)),0),0)*$X$5),1)","v":0},{"$f":"AC165","v":0},{"$f":"ROUNDDOWN((IF(AC167>0,IFERROR(IF(((((DataInput!Q166-AC166)+(DataInput!Q167-AC167))/2)*(A167-A166))/27+S14+T14>0,ROUNDDOWN(((((DataInput!Q166-AC166)+(DataInput!Q167-AC167))/2)*(A167-A166))/27+S14+T14,0),0),0),0)*$X$5),1)","v":0},{"$f":"DataInput!U166","v":31},{"$f":"DataInput!S166","v":50},70,-39]
[{"$f":"IF(DataInput!A167<>\"\",DataInput!A167,\"\")","v":80850},{"$f":"SUM(DataInput!C167,DataInput!Y167)+(DataInput!U167-DataInput!E167)","v":116},{"$f":"SUM(DataInput!D167,DataInput!Z167)","v":95},{"$f":"DataInput!U167","v":21},{"$f":"SUM(DataInput!F167,DataInput!AB167)","v":0},{"$f":"SUM(DataInput!G167,DataInput!AC167)","v":0},{"$f":"SUM(DataInput!H167,DataInput!AD167)","v":0},{"$f":"DataInput!I167","v":0},{"$f":"SUM(DataInput!J167,DataInput!AF167)","v":0},{"$f":"SUM(DataInput!K167,DataInput!AG167)","v":0},{"$f":"SUM(DataInput!L167,DataInput!AH167)","v":0},{"$f":"SUM(DataInput!M167,DataInput!AI167)","v":0},{"$f":"SUM(DataInput!N167,DataInput!AJ167)","v":0},{"$f":"SUM(DataInput!O167,DataInput!AK167)","v":0},{"$f":"DataInput!P167","v":0},null,95,{"$f":"DataInput!R167","v":102},{"$f":"DataInput!Y167","v":0},{"$f":"IF(DataInput!U167-DataInput!E167>0,DataInput!U167-DataInput!E167,\"\")","v":21},{"$f":"IF(DataInput!W167-DataInput!I167>0,DataInput!W167-DataInput!I167,\"\")","v":""},null,123,159.9,-64.900000000000006,0,0,{"$f":"ROUNDDOWN((IF(AA168>0,IFERROR(IF(AVERAGE(DataInput!Q167:Q168)>AVERAGE(AA168,AA167),ROUNDDOWN(((((AA167-Z167)+(AA168-Z168))/2)*(A168-A167))/27+S15+T15,0),IF(((((DataInput!Q168-Z168)+(DataInput!Q167-Z167))/2)*(A168-A167))/27+S15+T15>0,ROUNDDOWN(((((DataInput!Q168-Z167)+(DataInput!Q167-Z167))/2)*(A168-A167))/27+S15+T15,0),0)),0),0)*$X$5),1)","v":0},0,{"$f":"ROUNDDOWN((IF(AC168>0,IFERROR(IF(((((DataInput!Q167-AC167)+(DataInput!Q168-AC168))/2)*(A168-A167))/27+S15+T15>0,ROUNDDOWN(((((DataInput!Q167-AC167)+(DataInput!Q168-AC168))/2)*(A168-A167))/27+S15+T15,0),0),0),0)*$X$5),1)","v":0},{"$f":"DataInput!U167","v":21},{"$f":"DataInput!S167","v":43},60.2,-39.200000000000003]
[{"$f":"IF(DataInput!A168<>\"\",DataInput!A168,\"\")","v":80867.850000000006},{"$f":"SUM(DataInput!C168,DataInput!Y168)+(DataInput!U168-DataInput!E168)","v":32},{"$f":"SUM(DataInput!D168,DataInput!Z168)","v":24},{"$f":"DataInput!U168","v":8},{"$f":"SUM(DataInput!F168,DataInput!AB168)","v":0},{"$f":"SUM(DataInput!G168,DataInput!AC168)","v":0},{"$f":"SUM(DataInput!H168,DataInput!AD168)","v":0},{"$f":"DataInput!I168","v":0},{"$f":"SUM(DataInput!J168,DataInput!AF168)","v":0},{"$f":"SUM(DataInput!K168,DataInput!AG168)","v":0},{"$f":"SUM(DataInput!L168,DataInput!AH168)","v":0},{"$f":"SUM(DataInput!M168,DataInput!AI168)","v":0},{"$f":"SUM(DataInput!N168,DataInput!AJ168)","v":0},{"$f":"SUM(DataInput!O168,DataInput!AK168)","v":0},{"$f":"DataInput!P168","v":0},83,107,{"$f":"DataInput!R168","v":57},{"$f":"DataInput!Y168","v":0},{"$f":"IF(DataInput!U168-DataInput!E168>0,DataInput!U168-DataInput!E168,\"\")","v":8},{"$f":"IF(DataInput!W168-DataInput!I168>0,DataInput!W168-DataInput!I168,\"\")","v":""},null,65,84.5,22.5,0,0,{"$f":"ROUNDDOWN((IF(AA169>0,IFERROR(IF(AVERAGE(DataInput!Q168:Q169)>AVERAGE(AA169,AA168),ROUNDDOWN(((((AA168-Z168)+(AA169-Z169))/2)*(A169-A168))/27+S16+T16,0),IF(((((DataInput!Q169-Z169)+(DataInput!Q168-Z168))/2)*(A169-A168))/27+S16+T16>0,ROUNDDOWN(((((DataInput!Q169-Z168)+(DataInput!Q168-Z168))/2)*(A169-A168))/27+S16+T16,0),0)),0),0)*$X$5),1)","v":0},0,{"$f":"ROUNDDOWN((IF(AC169>0,IFERROR(IF(((((DataInput!Q168-AC168)+(DataInput!Q169-AC169))/2)*(A169-A168))/27+S16+T16>0,ROUNDDOWN(((((DataInput!Q168-AC168)+(DataInput!Q169-AC169))/2)*(A169-A168))/27+S16+T16,0),0),0),0)*$X$5),1)","v":0},{"$f":"DataInput!U168","v":8},{"$f":"DataInput!S168","v":15},21,-13]
[{"$f":"IF(DataInput!A169<>\"\",DataInput!A169,\"\")","v":80875},{"$f":"SUM(DataInput!C169,DataInput!Y169)+(DataInput!U169-DataInput!E169)","v":43},{"$f":"SUM(DataInput!D169,DataInput!Z169)","v":24},{"$f":"DataInput!U169","v":19},{"$f":"SUM(DataInput!F169,DataInput!AB169)","v":0},{"$f":"SUM(DataInput!G169,DataInput!AC169)","v":0},{"$f":"SUM(DataInput!H169,DataInput!AD169)","v":0},{"$f":"DataInput!I169","v":0},{"$f":"SUM(DataInput!J169,DataInput!AF169)","v":0},{"$f":"SUM(DataInput!K169,DataInput!AG169)","v":0},{"$f":"SUM(DataInput!L169,DataInput!AH169)","v":0},{"$f":"SUM(DataInput!M169,DataInput!AI169)","v":0},{"$f":"SUM(DataInput!N169,DataInput!AJ169)","v":0},{"$f":"SUM(DataInput!O169,DataInput!AK169)","v":0},{"$f":"DataInput!P169","v":0},null,24,{"$f":"DataInput!R169","v":179},{"$f":"DataInput!Y169","v":0},{"$f":"IF(DataInput!U169-DataInput!E169>0,DataInput!U169-DataInput!E169,\"\")","v":19},{"$f":"IF(DataInput!W169-DataInput!I169>0,DataInput!W169-DataInput!I169,\"\")","v":""},null,198,257.39999999999998,-233.4,0,0,{"$f":"ROUNDDOWN((IF(AA170>0,IFERROR(IF(AVERAGE(DataInput!Q169:Q170)>AVERAGE(AA170,AA169),ROUNDDOWN(((((AA169-Z169)+(AA170-Z170))/2)*(A170-A169))/27+S17+T17,0),IF(((((DataInput!Q170-Z170)+(DataInput!Q169-Z169))/2)*(A170-A169))/27+S17+T17>0,ROUNDDOWN(((((DataInput!Q170-Z169)+(DataInput!Q169-Z169))/2)*(A170-A169))/27+S17+T17,0),0)),0),0)*$X$5),1)","v":0},0,{"$f":"ROUNDDOWN((IF(AC170>0,IFERROR(IF(((((DataInput!Q169-AC169)+(DataInput!Q170-AC170))/2)*(A170-A169))/27+S17+T17>0,ROUNDDOWN(((((DataInput!Q169-AC169)+(DataInput!Q170-AC170))/2)*(A170-A169))/27+S17+T17,0),0),0),0)*$X$5),1)","v":0},{"$f":"DataInput!U169","v":19},{"$f":"DataInput!S169","v":39},54.6,-35.6]
[{"$f":"IF(DataInput!A170<>\"\",DataInput!A170,\"\")","v":80900},{"$f":"SUM(DataInput!C170,DataInput!Y170)+(DataInput!U170-DataInput!E170)","v":18},{"$f":"SUM(DataInput!D170,DataInput!Z170)","v":5},{"$f":"DataInput!U170","v":13},{"$f":"SUM(DataInput!F170,DataInput!AB170)","v":0},{"$f":"SUM(DataInput!G170,DataInput!AC170)","v":0},{"$f":"SUM(DataInput!H170,DataInput!AD170)","v":0},{"$f":"DataInput!I170","v":0},{"$f":"SUM(DataInput!J170,DataInput!AF170)","v":0},{"$f":"SUM(DataInput!K170,DataInput!AG170)","v":0},{"$f":"SUM(DataInput!L170,DataInput!AH170)","v":0},{"$f":"SUM(DataInput!M170,DataInput!AI170)","v":0},{"$f":"SUM(DataInput!N170,DataInput!AJ170)","v":0},{"$f":"SUM(DataInput!O170,DataInput!AK170)","v":0},{"$f":"DataInput!P170","v":0},null,5,{"$f":"DataInput!R170","v":69},{"$f":"DataInput!Y170","v":0},{"$f":"IF(DataInput!U170-DataInput!E170>0,DataInput!U170-DataInput!E170,\"\")","v":13},{"$f":"IF(DataInput!W170-DataInput!I170>0,DataInput!W170-DataInput!I170,\"\")","v":""},null,82,106.6,-101.6,0,0,{"$f":"ROUNDDOWN((IF(AA171>0,IFERROR(IF(AVERAGE(DataInput!Q170:Q171)>AVERAGE(AA171,AA170),ROUNDDOWN(((((AA170-Z170)+(AA171-Z171))/2)*(A171-A170))/27+S18+T18,0),IF(((((DataInput!Q171-Z171)+(DataInput!Q170-Z170))/2)*(A171-A170))/27+S18+T18>0,ROUNDDOWN(((((DataInput!Q171-Z170)+(DataInput!Q170-Z170))/2)*(A171-A170))/27+S18+T18,0),0)),0),0)*$X$5),1)","v":0},0,{"$f":"ROUNDDOWN((IF(AC171>0,IFERROR(IF(((((DataInput!Q170-AC170)+(DataInput!Q171-AC171))/2)*(A171-A170))/27+S18+T18>0,ROUNDDOWN(((((DataInput!Q170-AC170)+(DataInput!Q171-AC171))/2)*(A171-A170))/27+S18+T18,0),0),0),0)*$X$5),1)","v":0},{"$f":"DataInput!U170","v":13},{"$f":"DataInput!S170","v":25},35,-22]
[{"$f":"IF(DataInput!A171<>\"\",DataInput!A171,\"\")","v":80925},{"$f":"SUM(DataInput!C171,DataInput!Y171)+(DataInput!U171-DataInput!E171)","v":22},{"$f":"SUM(DataInput!D171,DataInput!Z171)","v":15},{"$f":"DataInput!U171","v":7},{"$f":"SUM(DataInput!F171,DataInput!AB171)","v":0},{"$f":"SUM(DataInput!G171,DataInput!AC171)","v":0},{"$f":"SUM(DataInput!H171,DataInput!AD171)","v":0},{"$f":"DataInput!I171","v":0},{"$f":"SUM(DataInput!J171,DataInput!AF171)","v":0},{"$f":"SUM(DataInput!K171,DataInput!AG171)","v":0},{"$f":"SUM(DataInput!L171,DataInput!AH171)","v":0},{"$f":"SUM(DataInput!M171,DataInput!AI171)","v":0},{"$f":"SUM(DataInput!N171,DataInput!AJ171)","v":0},{"$f":"SUM(DataInput!O171,DataInput!AK171)","v":0},{"$f":"DataInput!P171","v":0},null,15,{"$f":"DataInput!R171","v":0},{"$f":"DataInput!Y171","v":0},{"$f":"IF(DataInput!U171-DataInput!E171>0,DataInput!U171-DataInput!E171,\"\")","v":7},{"$f":"IF(DataInput!W171-DataInput!I171>0,DataInput!W171-DataInput!I171,\"\")","v":""},null,7,9.1,5.9,0,0,{"$f":"ROUNDDOWN((IF(AA172>0,IFERROR(IF(AVERAGE(DataInput!Q171:Q172)>AVERAGE(AA172,AA171),ROUNDDOWN(((((AA171-Z171)+(AA172-Z172))/2)*(A172-A171))/27+S19+T19,0),IF(((((DataInput!Q172-Z172)+(DataInput!Q171-Z171))/2)*(A172-A171))/27+S19+T19>0,ROUNDDOWN(((((DataInput!Q172-Z171)+(DataInput!Q171-Z171))/2)*(A172-A171))/27+S19+T19,0),0)),0),0)*$X$5),1)","v":0},0,{"$f":"ROUNDDOWN((IF(AC172>0,IFERROR(IF(((((DataInput!Q171-AC171)+(DataInput!Q172-AC172))/2)*(A172-A171))/27+S19+T19>0,ROUNDDOWN(((((DataInput!Q171-AC171)+(DataInput!Q172-AC172))/2)*(A172-A171))/27+S19+T19,0),0),0),0)*$X$5),1)","v":0},{"$f":"DataInput!U171","v":7},{"$f":"DataInput!S171","v":13},18.2,-11.2]
[{"$f":"IF(DataInput!A172<>\"\",DataInput!A172,\"\")","v":80950}]
[]
[{"$f":"IF(DataInput!A174<>\"\",DataInput!A174,\"\")","v":"Sta. 817+91"}]
[{"$f":"IF(DataInput!A175<>\"\",DataInput!A175,\"\")","v":81675},{"$f":"SUM(DataInput!C175,DataInput!Y175)+(DataInput!U175-DataInput!E175)","v":9},{"$f":"SUM(DataInput!D175,DataInput!Z175)","v":6},{"$f":"DataInput!U175","v":3},{"$f":"SUM(DataInput!F175,DataInput!AB175)","v":0},{"$f":"SUM(DataInput!G175,DataInput!AC175)","v":0},{"$f":"SUM(DataInput!H175,DataInput!AD175)","v":0},{"$f":"DataInput!I175","v":0},{"$f":"SUM(DataInput!J175,DataInput!AF175)","v":0},{"$f":"SUM(DataInput!K175,DataInput!AG175)","v":0},{"$f":"SUM(DataInput!L175,DataInput!AH175)","v":0},{"$f":"SUM(DataInput!M175,DataInput!AI175)","v":0},{"$f":"SUM(DataInput!N175,DataInput!AJ175)","v":0},{"$f":"SUM(DataInput!O175,DataInput!AK175)","v":0},{"$f":"DataInput!P175","v":0},null,{"$f":"SUM(C175,E175:G175,I175:L175,N175:P175)","v":6},{"$f":"DataInput!R175","v":0},{"$f":"DataInput!Y175","v":0},{"$f":"IF(DataInput!U175-DataInput!E175>0,DataInput!U175-DataInput!E175,\"\")","v":3},{"$f":"IF(DataInput!W175-DataInput!I175>0,DataInput!W175-DataInput!I175,\"\")","v":""},null,{"$f":"SUM(R175:V175)","v":3},{"$f":"ROUNDUP(($W175*$X$5),1)","v":3.9},{"$f":"ROUNDUP(SUM(Q175-X175),1)","v":2.1},null,null,{"$f":"ROUNDDOWN((IF(AA176>0,IFERROR(IF(AVERAGE(DataInput!Q175:Q176)>AVERAGE(AA176,AA175),ROUNDDOWN(((((AA175-Z175)+(AA176-Z176))/2)*(A176-A175))/27+S12+T12,0),IF(((((DataInput!Q176-Z176)+(DataInput!Q175-Z175))/2)*(A176-A175))/27+S12+T12>0,ROUNDDOWN(((((DataInput!Q176-Z175)+(DataInput!Q175-Z175))/2)*(A176-A175))/27+S12+T12,0),0)),0),0)*$X$5),1)","v":0},null,{"$f":"ROUNDDOWN((IF(AC176>0,IFERROR(IF(((((DataInput!Q175-AC175)+(DataInput!Q176-AC176))/2)*(A176-A175))/27+S12+T12>0,ROUNDDOWN(((((DataInput!Q175-AC175)+(DataInput!Q176-AC176))/2)*(A176-A175))/27+S12+T12,0),0),0),0)*$X$5),1)","v":0},{"$f":"DataInput!U175","v":3},{"$f":"DataInput!S175","v":6},{"$f":"ROUNDUP((AF175*$AG$5),1)","v":8.4},{"$f":"ROUNDUP((AE175-AG175),1)","v":-5.4}]
[{"$f":"IF(DataInput!A176<>\"\",DataInput!A176,\"\")","v":81700},{"$f":"SUM(DataInput!C176,DataInput!Y176)+(DataInput!U176-DataInput!E176)","v":20},{"$f":"SUM(DataInput!D176,DataInput!Z176)","v":12},{"$f":"DataInput!U176","v":8},{"$f":"SUM(DataInput!F176,DataInput!AB176)","v":0},{"$f":"SUM(DataInput!G176,DataInput!AC176)","v":0},{"$f":"SUM(DataInput!H176,DataInput!AD176)","v":0},{"$f":"DataInput!I176","v":0},{"$f":"SUM(DataInput!J176,DataInput!AF176)","v":0},{"$f":"SUM(DataInput!K176,DataInput!AG176)","v":0},{"$f":"SUM(DataInput!L176,DataInput!AH176)","v":0},{"$f":"SUM(DataInput!M176,DataInput!AI176)","v":0},{"$f":"SUM(DataInput!N176,DataInput!AJ176)","v":0},{"$f":"SUM(DataInput!O176,DataInput!AK176)","v":0},{"$f":"DataInput!P176","v":0},null,{"$f":"SUM(C176,E176:G176,I176:L176,N176:P176)","v":12},{"$f":"DataInput!R176","v":2},{"$f":"DataInput!Y176","v":0},{"$f":"IF(DataInput!U176-DataInput!E176>0,DataInput!U176-DataInput!E176,\"\")","v":8},{"$f":"IF(DataInput!W176-DataInput!I176>0,DataInput!W176-DataInput!I176,\"\")","v":""},null,{"$f":"SUM(R176:V176)","v":10},{"$f":"ROUNDUP(($W176*$X$5),1)","v":13},{"$f":"ROUNDUP(SUM(Q176-X176),1)","v":-1},{"$f":"Z175","v":0},{"$f":"AA175","v":0},{"$f":"ROUNDDOWN((IF(AA177>0,IFERROR(IF(AVERAGE(DataInput!Q176:Q177)>AVERAGE(AA177,AA176),ROUNDDOWN(((((AA176-Z176)+(AA177-Z177))/2)*(A177-A176))/27+S13+T13,0),IF(((((DataInput!Q177-Z177)+(DataInput!Q176-Z176))/2)*(A177-A176))/27+S13+T13>0,ROUNDDOWN(((((DataInput!Q177-Z176)+(DataInput!Q176-Z176))/2)*(A177-A176))/27+S13+T13,0),0)),0),0)*$X$5),1)","v":0},{"$f":"AC175","v":0},{"$f":"ROUNDDOWN((IF(AC177>0,IFERROR(IF(((((DataInput!Q176-AC176)+(DataInput!Q177-AC177))/2)*(A177-A176))/27+S13+T13>0,ROUNDDOWN(((((DataInput!Q176-AC176)+(DataInput!Q177-AC177))/2)*(A177-A176))/27+S13+T13,0),0),0),0)*$X$5),1)","v":0},{"$f":"DataInput!U176","v":8},{"$f":"DataInput!S176","v":17},{"$f":"ROUNDUP((AF176*$AG$5),1)","v":23.8},{"$f":"ROUNDUP((AE176-AG176),1)","v":-15.8}]
[{"$f":"IF(DataInput!A177<>\"\",DataInput!A177,\"\")","v":81725},{"$f":"SUM(DataInput!C177,DataInput!Y177)+(DataInput!U177-DataInput!E177)","v":51},{"$f":"SUM(DataInput!D177,DataInput!Z177)","v":36},{"$f":"DataInput!U177","v":15},{"$f":"SUM(DataInput!F177,DataInput!AB177)","v":0},{"$f":"SUM(DataInput!G177,DataInput!AC177)","v":0},{"$f":"SUM(DataInput!H177,DataInput!AD177)","v":0},{"$f":"DataInput!I177","v":0},{"$f":"SUM(DataInput!J177,DataInput!AF177)","v":0},{"$f":"SUM(DataInput!K177,DataInput!AG177)","v":0},{"$f":"SUM(DataInput!L177,DataInput!AH177)","v":0},{"$f":"SUM(DataInput!M177,DataInput!AI177)","v":0},{"$f":"SUM(DataInput!N177,DataInput!AJ177)","v":0},{"$f":"SUM(DataInput!O177,DataInput!AK177)","v":0},{"$f":"DataInput!P177","v":0},null,36,{"$f":"DataInput!R177","v":17},{"$f":"DataInput!Y177","v":0},{"$f":"IF(DataInput!U177-DataInput!E177>0,DataInput!U177-DataInput!E177,\"\")","v":15},{"$f":"IF(DataInput!W177-DataInput!I177>0,DataInput!W177-DataInput!I177,\"\")","v":""},null,32,41.6,-5.6,{"$f":"Z176","v":0},{"$f":"AA176","v":0},{"$f":"ROUNDDOWN((IF(AA178>0,IFERROR(IF(AVERAGE(DataInput!Q177:Q178)>AVERAGE(AA178,AA177),ROUNDDOWN(((((AA177-Z177)+(AA178-Z178))/2)*(A178-A177))/27+S14+T14,0),IF(((((DataInput!Q178-Z178)+(DataInput!Q177-Z177))/2)*(A178-A177))/27+S14+T14>0,ROUNDDOWN(((((DataInput!Q178-Z177)+(DataInput!Q177-Z177))/2)*(A178-A177))/27+S14+T14,0),0)),0),0)*$X$5),1)","v":0},{"$f":"AC176","v":0},{"$f":"ROUNDDOWN((IF(AC178>0,IFERROR(IF(((((DataInput!Q177-AC177)+(DataInput!Q178-AC178))/2)*(A178-A177))/27+S14+T14>0,ROUNDDOWN(((((DataInput!Q177-AC177)+(DataInput!Q178-AC178))/2)*(A178-A177))/27+S14+T14,0),0),0),0)*$X$5),1)","v":0},{"$f":"DataInput!U177","v":15},{"$f":"DataInput!S177","v":29},40.6,-25.6]
[{"$f":"IF(DataInput!A178<>\"\",DataInput!A178,\"\")","v":81750},{"$f":"SUM(DataInput!C178,DataInput!Y178)+(DataInput!U178-DataInput!E178)","v":99},{"$f":"SUM(DataInput!D178,DataInput!Z178)","v":84},{"$f":"DataInput!U178","v":15},{"$f":"SUM(DataInput!F178,DataInput!AB178)","v":0},{"$f":"SUM(DataInput!G178,DataInput!AC178)","v":0},{"$f":"SUM(DataInput!H178,DataInput!AD178)","v":0},{"$f":"DataInput!I178","v":0},{"$f":"SUM(DataInput!J178,DataInput!AF178)","v":0},{"$f":"SUM(DataInput!K178,DataInput!AG178)","v":0},{"$f":"SUM(DataInput!L178,DataInput!AH178)","v":0},{"$f":"SUM(DataInput!M178,DataInput!AI178)","v":0},{"$f":"SUM(DataInput!N178,DataInput!AJ178)","v":0},{"$f":"SUM(DataInput!O178,DataInput!AK178)","v":0},{"$f":"DataInput!P178","v":0},null,84,{"$f":"DataInput!R178","v":73},{"$f":"DataInput!Y178","v":0},{"$f":"IF(DataInput!U178-DataInput!E178>0,DataInput!U178-DataInput!E178,\"\")","v":15},{"$f":"IF(DataInput!W178-DataInput!I178>0,DataInput!W178-DataInput!I178,\"\")","v":""},null,88,114.4,-30.4,0,0,{"$f":"ROUNDDOWN((IF(AA179>0,IFERROR(IF(AVERAGE(DataInput!Q178:Q179)>AVERAGE(AA179,AA178),ROUNDDOWN(((((AA178-Z178)+(AA179-Z179))/2)*(A179-A178))/27+S15+T15,0),IF(((((DataInput!Q179-Z179)+(DataInput!Q178-Z178))/2)*(A179-A178))/27+S15+T15>0,ROUNDDOWN(((((DataInput!Q179-Z178)+(DataInput!Q178-Z178))/2)*(A179-A178))/27+S15+T15,0),0)),0),0)*$X$5),1)","v":0},0,{"$f":"ROUNDDOWN((IF(AC179>0,IFERROR(IF(((((DataInput!Q178-AC178)+(DataInput!Q179-AC179))/2)*(A179-A178))/27+S15+T15>0,ROUNDDOWN(((((DataInput!Q178-AC178)+(DataInput!Q179-AC179))/2)*(A179-A178))/27+S15+T15,0),0),0),0)*$X$5),1)","v":0},{"$f":"DataInput!U178","v":15},{"$f":"DataInput!S178","v":38},53.2,-38.200000000000003]
[{"$f":"IF(DataInput!A179<>\"\",DataInput!A179,\"\")","v":81775},{"$f":"SUM(DataInput!C179,DataInput!Y179)+(DataInput!U179-DataInput!E179)","v":76},{"$f":"SUM(DataInput!D179,DataInput!Z179)","v":62},{"$f":"DataInput!U179","v":14},{"$f":"SUM(DataInput!F179,DataInput!AB179)","v":0},{"$f":"SUM(DataInput!G179,DataInput!AC179)","v":0},{"$f":"SUM(DataInput!H179,DataInput!AD179)","v":0},{"$f":"DataInput!I179","v":0},{"$f":"SUM(DataInput!J179,DataInput!AF179)","v":0},{"$f":"SUM(DataInput!K179,DataInput!AG179)","v":0},{"$f":"SUM(DataInput!L179,DataInput!AH179)","v":0},{"$f":"SUM(DataInput!M179,DataInput!AI179)","v":0},{"$f":"SUM(DataInput!N179,DataInput!AJ179)","v":0},{"$f":"SUM(DataInput!O179,DataInput!AK179)","v":0},{"$f":"DataInput!P179","v":0},null,62,{"$f":"DataInput!R179","v":37},{"$f":"DataInput!Y179","v":0},{"$f":"IF(DataInput!U179-DataInput!E179>0,DataInput!U179-DataInput!E179,\"\")","v":14},{"$f":"IF(DataInput!W179-DataInput!I179>0,DataInput!W179-DataInput!I179,\"\")","v":""},null,51,66.3,-4.3,0,0,{"$f":"ROUNDDOWN((IF(AA180>0,IFERROR(IF(AVERAGE(DataInput!Q179:Q180)>AVERAGE(AA180,AA179),ROUNDDOWN(((((AA179-Z179)+(AA180-Z180))/2)*(A180-A179))/27+S16+T16,0),IF(((((DataInput!Q180-Z180)+(DataInput!Q179-Z179))/2)*(A180-A179))/27+S16+T16>0,ROUNDDOWN(((((DataInput!Q180-Z179)+(DataInput!Q179-Z179))/2)*(A180-A179))/27+S16+T16,0),0)),0),0)*$X$5),1)","v":0},0,{"$f":"ROUNDDOWN((IF(AC180>0,IFERROR(IF(((((DataInput!Q179-AC179)+(DataInput!Q180-AC180))/2)*(A180-A179))/27+S16+T16>0,ROUNDDOWN(((((DataInput!Q179-AC179)+(DataInput!Q180-AC180))/2)*(A180-A179))/27+S16+T16,0),0),0),0)*$X$5),1)","v":0},{"$f":"DataInput!U179","v":14},{"$f":"DataInput!S179","v":31},43.4,-29.4]
[{"$f":"IF(DataInput!A180<>\"\",DataInput!A180,\"\")","v":81791},{"$f":"SUM(DataInput!C180,DataInput!Y180)+(DataInput!U180-DataInput!E180)","v":43},{"$f":"SUM(DataInput!D180,DataInput!Z180)","v":34},{"$f":"DataInput!U180","v":9},{"$f":"SUM(DataInput!F180,DataInput!AB180)","v":0},{"$f":"SUM(DataInput!G180,DataInput!AC180)","v":0},{"$f":"SUM(DataInput!H180,DataInput!AD180)","v":0},{"$f":"DataInput!I180","v":0},{"$f":"SUM(DataInput!J180,DataInput!AF180)","v":0},{"$f":"SUM(DataInput!K180,DataInput!AG180)","v":0},{"$f":"SUM(DataInput!L180,DataInput!AH180)","v":0},{"$f":"SUM(DataInput!M180,DataInput!AI180)","v":0},{"$f":"SUM(DataInput!N180,DataInput!AJ180)","v":0},{"$f":"SUM(DataInput!O180,DataInput!AK180)","v":0},{"$f":"DataInput!P180","v":0},34,68,{"$f":"DataInput!R180","v":6},{"$f":"DataInput!Y180","v":0},{"$f":"IF(DataInput!U180-DataInput!E180>0,DataInput!U180-DataInput!E180,\"\")","v":9},{"$f":"IF(DataInput!W180-DataInput!I180>0,DataInput!W180-DataInput!I180,\"\")","v":""},null,15,19.5,48.5,0,0,{"$f":"ROUNDDOWN((IF(AA181>0,IFERROR(IF(AVERAGE(DataInput!Q180:Q181)>AVERAGE(AA181,AA180),ROUNDDOWN(((((AA180-Z180)+(AA181-Z181))/2)*(A181-A180))/27+S17+T17,0),IF(((((DataInput!Q181-Z181)+(DataInput!Q180-Z180))/2)*(A181-A180))/27+S17+T17>0,ROUNDDOWN(((((DataInput!Q181-Z180)+(DataInput!Q180-Z180))/2)*(A181-A180))/27+S17+T17,0),0)),0),0)*$X$5),1)","v":0},0,{"$f":"ROUNDDOWN((IF(AC181>0,IFERROR(IF(((((DataInput!Q180-AC180)+(DataInput!Q181-AC181))/2)*(A181-A180))/27+S17+T17>0,ROUNDDOWN(((((DataInput!Q180-AC180)+(DataInput!Q181-AC181))/2)*(A181-A180))/27+S17+T17,0),0),0),0)*$X$5),1)","v":0},{"$f":"DataInput!U180","v":9},{"$f":"DataInput!S180","v":17},23.8,-14.8]
[{"$f":"IF(DataInput!A181<>\"\",DataInput!A181,\"\")","v":81800},{"$f":"SUM(DataInput!C181,DataInput!Y181)+(DataInput!U181-DataInput!E181)","v":111},{"$f":"SUM(DataInput!D181,DataInput!Z181)","v":93},{"$f":"DataInput!U181","v":18},{"$f":"SUM(DataInput!F181,DataInput!AB181)","v":0},{"$f":"SUM(DataInput!G181,DataInput!AC181)","v":0},{"$f":"SUM(DataInput!H181,DataInput!AD181)","v":0},{"$f":"DataInput!I181","v":0},{"$f":"SUM(DataInput!J181,DataInput!AF181)","v":0},{"$f":"SUM(DataInput!K181,DataInput!AG181)","v":0},{"$f":"SUM(DataInput!L181,DataInput!AH181)","v":0},{"$f":"SUM(DataInput!M181,DataInput!AI181)","v":0},{"$f":"SUM(DataInput!N181,DataInput!AJ181)","v":0},{"$f":"SUM(DataInput!O181,DataInput!AK181)","v":0},{"$f":"DataInput!P181","v":0},null,93,{"$f":"DataInput!R181","v":20},{"$f":"DataInput!Y181","v":0},{"$f":"IF(DataInput!U181-DataInput!E181>0,DataInput!U181-DataInput!E181,\"\")","v":18},{"$f":"IF(DataInput!W181-DataInput!I181>0,DataInput!W181-DataInput!I181,\"\")","v":""},null,38,49.4,43.6,0,0,{"$f":"ROUNDDOWN((IF(AA182>0,IFERROR(IF(AVERAGE(DataInput!Q181:Q182)>AVERAGE(AA182,AA181),ROUNDDOWN(((((AA181-Z181)+(AA182-Z182))/2)*(A182-A181))/27+S18+T18,0),IF(((((DataInput!Q182-Z182)+(DataInput!Q181-Z181))/2)*(A182-A181))/27+S18+T18>0,ROUNDDOWN(((((DataInput!Q182-Z181)+(DataInput!Q181-Z181))/2)*(A182-A181))/27+S18+T18,0),0)),0),0)*$X$5),1)","v":0},0,{"$f":"ROUNDDOWN((IF(AC182>0,IFERROR(IF(((((DataInput!Q181-AC181)+(DataInput!Q182-AC182))/2)*(A182-A181))/27+S18+T18>0,ROUNDDOWN(((((DataInput!Q181-AC181)+(DataInput!Q182-AC182))/2)*(A182-A181))/27+S18+T18,0),0),0),0)*$X$5),1)","v":0},{"$f":"DataInput!U181","v":18},{"$f":"DataInput!S181","v":36},50.4,-32.4]
[{"$f":"IF(DataInput!A182<>\"\",DataInput!A182,\"\")","v":81825},{"$f":"SUM(DataInput!C182,DataInput!Y182)+(DataInput!U182-DataInput!E182)","v":78},{"$f":"SUM(DataInput!D182,DataInput!Z182)","v":63},{"$f":"DataInput!U182","v":15},{"$f":"SUM(DataInput!F182,DataInput!AB182)","v":0},{"$f":"SUM(DataInput!G182,DataInput!AC182)","v":0},{"$f":"SUM(DataInput!H182,DataInput!AD182)","v":0},{"$f":"DataInput!I182","v":0},{"$f":"SUM(DataInput!J182,DataInput!AF182)","v":0},{"$f":"SUM(DataInput!K182,DataInput!AG182)","v":0},{"$f":"SUM(DataInput!L182,DataInput!AH182)","v":0},{"$f":"SUM(DataInput!M182,DataInput!AI182)","v":0},{"$f":"SUM(DataInput!N182,DataInput!AJ182)","v":0},{"$f":"SUM(DataInput!O182,DataInput!AK182)","v":0},{"$f":"DataInput!P182","v":0},null,63,{"$f":"DataInput!R182","v":6},{"$f":"DataInput!Y182","v":0},{"$f":"IF(DataInput!U182-DataInput!E182>0,DataInput!U182-DataInput!E182,\"\")","v":15},{"$f":"IF(DataInput!W182-DataInput!I182>0,DataInput!W182-DataInput!I182,\"\")","v":""},null,21,27.3,35.700000000000003,0,0,{"$f":"ROUNDDOWN((IF(AA183>0,IFERROR(IF(AVERAGE(DataInput!Q182:Q183)>AVERAGE(AA183,AA182),ROUNDDOWN(((((AA182-Z182)+(AA183-Z183))/2)*(A183-A182))/27+S19+T19,0),IF(((((DataInput!Q183-Z183)+(DataInput!Q182-Z182))/2)*(A183-A182))/27+S19+T19>0,ROUNDDOWN(((((DataInput!Q183-Z182)+(DataInput!Q182-Z182))/2)*(A183-A182))/27+S19+T19,0),0)),0),0)*$X$5),1)","v":0},0,{"$f":"ROUNDDOWN((IF(AC183>0,IFERROR(IF(((((DataInput!Q182-AC182)+(DataInput!Q183-AC183))/2)*(A183-A182))/27+S19+T19>0,ROUNDDOWN(((((DataInput!Q182-AC182)+(DataInput!Q183-AC183))/2)*(A183-A182))/27+S19+T19,0),0),0),0)*$X$5),1)","v":0},{"$f":"DataInput!U182","v":15},{"$f":"DataInput!S182","v":30},42,-27]
[{"$f":"IF(DataInput!A183<>\"\",DataInput!A183,\"\")","v":81850},{"$f":"SUM(DataInput!C183,DataInput!Y183)+(DataInput!U183-DataInput!E183)","v":40},{"$f":"SUM(DataInput!D183,DataInput!Z183)","v":31},{"$f":"DataInput!U183","v":9},{"$f":"SUM(DataInput!F183,DataInput!AB183)","v":0},{"$f":"SUM(DataInput!G183,DataInput!AC183)","v":0},{"$f":"SUM(DataInput!H183,DataInput!AD183)","v":0},{"$f":"DataInput!I183","v":0},{"$f":"SUM(DataInput!J183,DataInput!AF183)","v":0},{"$f":"SUM(DataInput!K183,DataInput!AG183)","v":0},{"$f":"SUM(DataInput!L183,DataInput!AH183)","v":0},{"$f":"SUM(DataInput!M183,DataInput!AI183)","v":0},{"$f":"SUM(DataInput!N183,DataInput!AJ183)","v":0},{"$f":"SUM(DataInput!O183,DataInput!AK183)","v":0},{"$f":"DataInput!P183","v":0},null,31,{"$f":"DataInput!R183","v":1},{"$f":"DataInput!Y183","v":0},{"$f":"IF(DataInput!U183-DataInput!E183>0,DataInput!U183-DataInput!E183,\"\")","v":9},{"$f":"IF(DataInput!W183-DataInput!I183>0,DataInput!W183-DataInput!I183,\"\")","v":""},null,10,13,18,0,0,{"$f":"ROUNDDOWN((IF(AA184>0,IFERROR(IF(AVERAGE(DataInput!Q183:Q184)>AVERAGE(AA184,AA183),ROUNDDOWN(((((AA183-Z183)+(AA184-Z184))/2)*(A184-A183))/27+S20+T20,0),IF(((((DataInput!Q184-Z184)+(DataInput!Q183-Z183))/2)*(A184-A183))/27+S20+T20>0,ROUNDDOWN(((((DataInput!Q184-Z183)+(DataInput!Q183-Z183))/2)*(A184-A183))/27+S20+T20,0),0)),0),0)*$X$5),1)","v":0},0,{"$f":"ROUNDDOWN((IF(AC184>0,IFERROR(IF(((((DataInput!Q183-AC183)+(DataInput!Q184-AC184))/2)*(A184-A183))/27+S20+T20>0,ROUNDDOWN(((((DataInput!Q183-AC183)+(DataInput!Q184-AC184))/2)*(A184-A183))/27+S20+T20,0),0),0),0)*$X$5),1)","v":0},{"$f":"DataInput!U183","v":9},{"$f":"DataInput!S183","v":18},25.2,-16.2]
[{"$f":"IF(DataInput!A184<>\"\",DataInput!A184,\"\")","v":81875}]
[]
[{"$f":"IF(DataInput!A186<>\"\",DataInput!A186,\"\")","v":"Sta. 830+53"}]
[{"$f":"IF(DataInput!A187<>\"\",DataInput!A187,\"\")","v":82975},{"$f":"SUM(DataInput!C187,DataInput!Y187)+(DataInput!U187-DataInput!E187)","v":55},{"$f":"SUM(DataInput!D187,DataInput!Z187)","v":45},{"$f":"DataInput!U187","v":10},{"$f":"SUM(DataInput!F187,DataInput!AB187)","v":0},{"$f":"SUM(DataInput!G187,DataInput!AC187)","v":0},{"$f":"SUM(DataInput!H187,DataInput!AD187)","v":0},{"$f":"DataInput!I187","v":0},{"$f":"SUM(DataInput!J187,DataInput!AF187)","v":0},{"$f":"SUM(DataInput!K187,DataInput!AG187)","v":0},{"$f":"SUM(DataInput!L187,DataInput!AH187)","v":0},{"$f":"SUM(DataInput!M187,DataInput!AI187)","v":0},{"$f":"SUM(DataInput!N187,DataInput!AJ187)","v":0},{"$f":"SUM(DataInput!O187,DataInput!AK187)","v":0},{"$f":"DataInput!P187","v":0},null,{"$f":"SUM(C187,E187:G187,I187:L187,N187:P187)","v":45},{"$f":"DataInput!R187","v":4},{"$f":"DataInput!Y187","v":0},{"$f":"IF(DataInput!U187-DataInput!E187>0,DataInput!U187-DataInput!E187,\"\")","v":10},{"$f":"IF(DataInput!W187-DataInput!I187>0,DataInput!W187-DataInput!I187,\"\")","v":""},null,{"$f":"SUM(R187:V187)","v":14},{"$f":"ROUNDUP(($W187*$X$5),1)","v":18.2},{"$f":"ROUNDUP(SUM(Q187-X187),1)","v":26.8},null,null,{"$f":"ROUNDDOWN((IF(AA188>0,IFERROR(IF(AVERAGE(DataInput!Q187:Q188)>AVERAGE(AA188,AA187),ROUNDDOWN(((((AA187-Z187)+(AA188-Z188))/2)*(A188-A187))/27+S12+T12,0),IF(((((DataInput!Q188-Z188)+(DataInput!Q187-Z187))/2)*(A188-A187))/27+S12+T12>0,ROUNDDOWN(((((DataInput!Q188-Z187)+(DataInput!Q187-Z187))/2)*(A188-A187))/27+S12+T12,0),0)),0),0)*$X$5),1)","v":0},null,{"$f":"ROUNDDOWN((IF(AC188>0,IFERROR(IF(((((DataInput!Q187-AC187)+(DataInput!Q188-AC188))/2)*(A188-A187))/27+S12+T12>0,ROUNDDOWN(((((DataInput!Q187-AC187)+(DataInput!Q188-AC188))/2)*(A188-A187))/27+S12+T12,0),0),0),0)*$X$5),1)","v":0},{"$f":"DataInput!U187","v":10},{"$f":"DataInput!S187","v":20},{"$f":"ROUNDUP((AF187*$AG$5),1)","v":28},{"$f":"ROUNDUP((AE187-AG187),1)","v":-18}]
[{"$f":"IF(DataInput!A188<>\"\",DataInput!A188,\"\")","v":83000},{"$f":"SUM(DataInput!C188,DataInput!Y188)+(DataInput!U188-DataInput!E188)","v":79},{"$f":"SUM(DataInput!D188,DataInput!Z188)","v":62},{"$f":"DataInput!U188","v":17},{"$f":"SUM(DataInput!F188,DataInput!AB188)","v":0},{"$f":"SUM(DataInput!G188,DataInput!AC188)","v":0},{"$f":"SUM(DataInput!H188,DataInput!AD188)","v":0},{"$f":"DataInput!I188","v":0},{"$f":"SUM(DataInput!J188,DataInput!AF188)","v":0},{"$f":"SUM(DataInput!K188,DataInput!AG188)","v":0},{"$f":"SUM(DataInput!L188,DataInput!AH188)","v":0},{"$f":"SUM(DataInput!M188,DataInput!AI188)","v":0},{"$f":"SUM(DataInput!N188,DataInput!AJ188)","v":0},{"$f":"SUM(DataInput!O188,DataInput!AK188)","v":0},{"$f":"DataInput!P188","v":0},null,{"$f":"SUM(C188,E188:G188,I188:L188,N188:P188)","v":62},{"$f":"DataInput!R188","v":28},{"$f":"DataInput!Y188","v":0},{"$f":"IF(DataInput!U188-DataInput!E188>0,DataInput!U188-DataInput!E188,\"\")","v":17},{"$f":"IF(DataInput!W188-DataInput!I188>0,DataInput!W188-DataInput!I188,\"\")","v":""},null,{"$f":"SUM(R188:V188)","v":45},{"$f":"ROUNDUP(($W188*$X$5),1)","v":58.5},{"$f":"ROUNDUP(SUM(Q188-X188),1)","v":3.5},{"$f":"Z187","v":0},{"$f":"AA187","v":0},{"$f":"ROUNDDOWN((IF(AA189>0,IFERROR(IF(AVERAGE(DataInput!Q188:Q189)>AVERAGE(AA189,AA188),ROUNDDOWN(((((AA188-Z188)+(AA189-Z189))/2)*(A189-A188))/27+S13+T13,0),IF(((((DataInput!Q189-Z189)+(DataInput!Q188-Z188))/2)*(A189-A188))/27+S13+T13>0,ROUNDDOWN(((((DataInput!Q189-Z188)+(DataInput!Q188-Z188))/2)*(A189-A188))/27+S13+T13,0),0)),0),0)*$X$5),1)","v":0},{"$f":"AC187","v":0},{"$f":"ROUNDDOWN((IF(AC189>0,IFERROR(IF(((((DataInput!Q188-AC188)+(DataInput!Q189-AC189))/2)*(A189-A188))/27+S13+T13>0,ROUNDDOWN(((((DataInput!Q188-AC188)+(DataInput!Q189-AC189))/2)*(A189-A188))/27+S13+T13,0),0),0),0)*$X$5),1)","v":0},{"$f":"DataInput!U188","v":17},{"$f":"DataInput!S188","v":34},{"$f":"ROUNDUP((AF188*$AG$5),1)","v":47.6},{"$f":"ROUNDUP((AE188-AG188),1)","v":-30.6}]
[{"$f":"IF(DataInput!A189<>\"\",DataInput!A189,\"\")","v":83025},{"$f":"SUM(DataInput!C189,DataInput!Y189)+(DataInput!U189-DataInput!E189)","v":86},{"$f":"SUM(DataInput!D189,DataInput!Z189)","v":64},{"$f":"DataInput!U189","v":22},{"$f":"SUM(DataInput!F189,DataInput!AB189)","v":0},{"$f":"SUM(DataInput!G189,DataInput!AC189)","v":0},{"$f":"SUM(DataInput!H189,DataInput!AD189)","v":0},{"$f":"DataInput!I189","v":0},{"$f":"SUM(DataInput!J189,DataInput!AF189)","v":0},{"$f":"SUM(DataInput!K189,DataInput!AG189)","v":0},{"$f":"SUM(DataInput!L189,DataInput!AH189)","v":0},{"$f":"SUM(DataInput!M189,DataInput!AI189)","v":0},{"$f":"SUM(DataInput!N189,DataInput!AJ189)","v":0},{"$f":"SUM(DataInput!O189,DataInput!AK189)","v":0},{"$f":"DataInput!P189","v":0},null,64,{"$f":"DataInput!R189","v":63},{"$f":"DataInput!Y189","v":0},{"$f":"IF(DataInput!U189-DataInput!E189>0,DataInput!U189-DataInput!E189,\"\")","v":22},{"$f":"IF(DataInput!W189-DataInput!I189>0,DataInput!W189-DataInput!I189,\"\")","v":""},null,85,110.5,-46.5,{"$f":"Z188","v":0},{"$f":"AA188","v":0},{"$f":"ROUNDDOWN((IF(AA190>0,IFERROR(IF(AVERAGE(DataInput!Q189:Q190)>AVERAGE(AA190,AA189),ROUNDDOWN(((((AA189-Z189)+(AA190-Z190))/2)*(A190-A189))/27+S14+T14,0),IF(((((DataInput!Q190-Z190)+(DataInput!Q189-Z189))/2)*(A190-A189))/27+S14+T14>0,ROUNDDOWN(((((DataInput!Q190-Z189)+(DataInput!Q189-Z189))/2)*(A190-A189))/27+S14+T14,0),0)),0),0)*$X$5),1)","v":0},{"$f":"AC188","v":0},{"$f":"ROUNDDOWN((IF(AC190>0,IFERROR(IF(((((DataInput!Q189-AC189)+(DataInput!Q190-AC190))/2)*(A190-A189))/27+S14+T14>0,ROUNDDOWN(((((DataInput!Q189-AC189)+(DataInput!Q190-AC190))/2)*(A190-A189))/27+S14+T14,0),0),0),0)*$X$5),1)","v":0},{"$f":"DataInput!U189","v":22},{"$f":"DataInput!S189","v":43},60.2,-38.200000000000003]
[{"$f":"IF(DataInput!A190<>\"\",DataInput!A190,\"\")","v":83050},{"$f":"SUM(DataInput!C190,DataInput!Y190)+(DataInput!U190-DataInput!E190)","v":11},{"$f":"SUM(DataInput!D190,DataInput!Z190)","v":8},{"$f":"DataInput!U190","v":3},{"$f":"SUM(DataInput!F190,DataInput!AB190)","v":0},{"$f":"SUM(DataInput!G190,DataInput!AC190)","v":0},{"$f":"SUM(DataInput!H190,DataInput!AD190)","v":0},{"$f":"DataInput!I190","v":0},{"$f":"SUM(DataInput!J190,DataInput!AF190)","v":0},{"$f":"SUM(DataInput!K190,DataInput!AG190)","v":0},{"$f":"SUM(DataInput!L190,DataInput!AH190)","v":0},{"$f":"SUM(DataInput!M190,DataInput!AI190)","v":0},{"$f":"SUM(DataInput!N190,DataInput!AJ190)","v":0},{"$f":"SUM(DataInput!O190,DataInput!AK190)","v":0},{"$f":"DataInput!P190","v":0},null,8,{"$f":"DataInput!R190","v":13},{"$f":"DataInput!Y190","v":0},{"$f":"IF(DataInput!U190-DataInput!E190>0,DataInput!U190-DataInput!E190,\"\")","v":3},{"$f":"IF(DataInput!W190-DataInput!I190>0,DataInput!W190-DataInput!I190,\"\")","v":""},null,16,20.8,-12.8,0,0,{"$f":"ROUNDDOWN((IF(AA191>0,IFERROR(IF(AVERAGE(DataInput!Q190:Q191)>AVERAGE(AA191,AA190),ROUNDDOWN(((((AA190-Z190)+(AA191-Z191))/2)*(A191-A190))/27+S15+T15,0),IF(((((DataInput!Q191-Z191)+(DataInput!Q190-Z190))/2)*(A191-A190))/27+S15+T15>0,ROUNDDOWN(((((DataInput!Q191-Z190)+(DataInput!Q190-Z190))/2)*(A191-A190))/27+S15+T15,0),0)),0),0)*$X$5),1)","v":0},0,{"$f":"ROUNDDOWN((IF(AC191>0,IFERROR(IF(((((DataInput!Q190-AC190)+(DataInput!Q191-AC191))/2)*(A191-A190))/27+S15+T15>0,ROUNDDOWN(((((DataInput!Q190-AC190)+(DataInput!Q191-AC191))/2)*(A191-A190))/27+S15+T15,0),0),0),0)*$X$5),1)","v":0},{"$f":"DataInput!U190","v":3},{"$f":"DataInput!S190","v":6},8.4,-5.4]
[{"$f":"IF(DataInput!A191<>\"\",DataInput!A191,\"\")","v":83053.289999999994},{"$f":"SUM(DataInput!C191,DataInput!Y191)+(DataInput!U191-DataInput!E191)","v":69},{"$f":"SUM(DataInput!D191,DataInput!Z191)","v":49},{"$f":"DataInput!U191","v":20},{"$f":"SUM(DataInput!F191,DataInput!AB191)","v":0},{"$f":"SUM(DataInput!G191,DataInput!AC191)","v":0},{"$f":"SUM(DataInput!H191,DataInput!AD191)","v":0},{"$f":"DataInput!I191","v":0},{"$f":"SUM(DataInput!J191,DataInput!AF191)","v":0},{"$f":"SUM(DataInput!K191,DataInput!AG191)","v":0},{"$f":"SUM(DataInput!L191,DataInput!AH191)","v":0},{"$f":"SUM(DataInput!M191,DataInput!AI191)","v":0},{"$f":"SUM(DataInput!N191,DataInput!AJ191)","v":0},{"$f":"SUM(DataInput!O191,DataInput!AK191)","v":0},{"$f":"DataInput!P191","v":0},null,49,{"$f":"DataInput!R191","v":85},{"$f":"DataInput!Y191","v":0},{"$f":"IF(DataInput!U191-DataInput!E191>0,DataInput!U191-DataInput!E191,\"\")","v":20},{"$f":"IF(DataInput!W191-DataInput!I191>0,DataInput!W191-DataInput!I191,\"\")","v":""},null,105,136.5,-87.5,0,0,{"$f":"ROUNDDOWN((IF(AA192>0,IFERROR(IF(AVERAGE(DataInput!Q191:Q192)>AVERAGE(AA192,AA191),ROUNDDOWN(((((AA191-Z191)+(AA192-Z192))/2)*(A192-A191))/27+S16+T16,0),IF(((((DataInput!Q192-Z192)+(DataInput!Q191-Z191))/2)*(A192-A191))/27+S16+T16>0,ROUNDDOWN(((((DataInput!Q192-Z191)+(DataInput!Q191-Z191))/2)*(A192-A191))/27+S16+T16,0),0)),0),0)*$X$5),1)","v":0},0,{"$f":"ROUNDDOWN((IF(AC192>0,IFERROR(IF(((((DataInput!Q191-AC191)+(DataInput!Q192-AC192))/2)*(A192-A191))/27+S16+T16>0,ROUNDDOWN(((((DataInput!Q191-AC191)+(DataInput!Q192-AC192))/2)*(A192-A191))/27+S16+T16,0),0),0),0)*$X$5),1)","v":0},{"$f":"DataInput!U191","v":20},{"$f":"DataInput!S191","v":39},54.6,-34.6]
[{"$f":"IF(DataInput!A192<>\"\",DataInput!A192,\"\")","v":83075},{"$f":"SUM(DataInput!C192,DataInput!Y192)+(DataInput!U192-DataInput!E192)","v":56},{"$f":"SUM(DataInput!D192,DataInput!Z192)","v":37},{"$f":"DataInput!U192","v":19},{"$f":"SUM(DataInput!F192,DataInput!AB192)","v":0},{"$f":"SUM(DataInput!G192,DataInput!AC192)","v":0},{"$f":"SUM(DataInput!H192,DataInput!AD192)","v":0},{"$f":"DataInput!I192","v":0},{"$f":"SUM(DataInput!J192,DataInput!AF192)","v":0},{"$f":"SUM(DataInput!K192,DataInput!AG192)","v":0},{"$f":"SUM(DataInput!L192,DataInput!AH192)","v":0},{"$f":"SUM(DataInput!M192,DataInput!AI192)","v":0},{"$f":"SUM(DataInput!N192,DataInput!AJ192)","v":0},{"$f":"SUM(DataInput!O192,DataInput!AK192)","v":0},{"$f":"DataInput!P192","v":0},null,37,{"$f":"DataInput!R192","v":66},{"$f":"DataInput!Y192","v":0},{"$f":"IF(DataInput!U192-DataInput!E192>0,DataInput!U192-DataInput!E192,\"\")","v":19},{"$f":"IF(DataInput!W192-DataInput!I192>0,DataInput!W192-DataInput!I192,\"\")","v":""},null,85,110.5,-73.5,0,0,{"$f":"ROUNDDOWN((IF(AA193>0,IFERROR(IF(AVERAGE(DataInput!Q192:Q193)>AVERAGE(AA193,AA192),ROUNDDOWN(((((AA192-Z192)+(AA193-Z193))/2)*(A193-A192))/27+S17+T17,0),IF(((((DataInput!Q193-Z193)+(DataInput!Q192-Z192))/2)*(A193-A192))/27+S17+T17>0,ROUNDDOWN(((((DataInput!Q193-Z192)+(DataInput!Q192-Z192))/2)*(A193-A192))/27+S17+T17,0),0)),0),0)*$X$5),1)","v":0},0,{"$f":"ROUNDDOWN((IF(AC193>0,IFERROR(IF(((((DataInput!Q192-AC192)+(DataInput!Q193-AC193))/2)*(A193-A192))/27+S17+T17>0,ROUNDDOWN(((((DataInput!Q192-AC192)+(DataInput!Q193-AC193))/2)*(A193-A192))/27+S17+T17,0),0),0),0)*$X$5),1)","v":0},{"$f":"DataInput!U192","v":19},{"$f":"DataInput!S192","v":38},53.2,-34.200000000000003]
[{"$f":"IF(DataInput!A193<>\"\",DataInput!A193,\"\")","v":83100},{"$f":"SUM(DataInput!C193,DataInput!Y193)+(DataInput!U193-DataInput!E193)","v":29},{"$f":"SUM(DataInput!D193,DataInput!Z193)","v":16},{"$f":"DataInput!U193","v":13},{"$f":"SUM(DataInput!F193,DataInput!AB193)","v":0},{"$f":"SUM(DataInput!G193,DataInput!AC193)","v":0},{"$f":"SUM(DataInput!H193,DataInput!AD193)","v":0},{"$f":"DataInput!I193","v":0},{"$f":"SUM(DataInput!J193,DataInput!AF193)","v":0},{"$f":"SUM(DataInput!K193,DataInput!AG193)","v":0},{"$f":"SUM(DataInput!L193,DataInput!AH193)","v":0},{"$f":"SUM(DataInput!M193,DataInput!AI193)","v":0},{"$f":"SUM(DataInput!N193,DataInput!AJ193)","v":0},{"$f":"SUM(DataInput!O193,DataInput!AK193)","v":0},{"$f":"DataInput!P193","v":0},null,16,{"$f":"DataInput!R193","v":30},{"$f":"DataInput!Y193","v":0},{"$f":"IF(DataInput!U193-DataInput!E193>0,DataInput!U193-DataInput!E193,\"\")","v":13},{"$f":"IF(DataInput!W193-DataInput!I193>0,DataInput!W193-DataInput!I193,\"\")","v":""},null,43,55.9,-39.9,0,0,{"$f":"ROUNDDOWN((IF(AA194>0,IFERROR(IF(AVERAGE(DataInput!Q193:Q194)>AVERAGE(AA194,AA193),ROUNDDOWN(((((AA193-Z193)+(AA194-Z194))/2)*(A194-A193))/27+S18+T18,0),IF(((((DataInput!Q194-Z194)+(DataInput!Q193-Z193))/2)*(A194-A193))/27+S18+T18>0,ROUNDDOWN(((((DataInput!Q194-Z193)+(DataInput!Q193-Z193))/2)*(A194-A193))/27+S18+T18,0),0)),0),0)*$X$5),1)","v":0},0,{"$f":"ROUNDDOWN((IF(AC194>0,IFERROR(IF(((((DataInput!Q193-AC193)+(DataInput!Q194-AC194))/2)*(A194-A193))/27+S18+T18>0,ROUNDDOWN(((((DataInput!Q193-AC193)+(DataInput!Q194-AC194))/2)*(A194-A193))/27+S18+T18,0),0),0),0)*$X$5),1)","v":0},{"$f":"DataInput!U193","v":13},{"$f":"DataInput!S193","v":26},36.4,-23.4]
[{"$f":"IF(DataInput!A194<>\"\",DataInput!A194,\"\")","v":83125}]
[]
[{"$f":"IF(DataInput!A196<>\"\",DataInput!A196,\"\")","v":"Sta. 838+23"}]
[{"$f":"IF(DataInput!A197<>\"\",DataInput!A197,\"\")","v":83750},{"$f":"SUM(DataInput!C197,DataInput!Y197)+(DataInput!U197-DataInput!E197)","v":111},{"$f":"SUM(DataInput!D197,DataInput!Z197)","v":96},{"$f":"DataInput!U197","v":15},{"$f":"SUM(DataInput!F197,DataInput!AB197)","v":0},{"$f":"SUM(DataInput!G197,DataInput!AC197)","v":0},{"$f":"SUM(DataInput!H197,DataInput!AD197)","v":0},{"$f":"DataInput!I197","v":0},{"$f":"SUM(DataInput!J197,DataInput!AF197)","v":0},{"$f":"SUM(DataInput!K197,DataInput!AG197)","v":0},{"$f":"SUM(DataInput!L197,DataInput!AH197)","v":0},{"$f":"SUM(DataInput!M197,DataInput!AI197)","v":0},{"$f":"SUM(DataInput!N197,DataInput!AJ197)","v":0},{"$f":"SUM(DataInput!O197,DataInput!AK197)","v":0},{"$f":"DataInput!P197","v":0},null,{"$f":"SUM(C197,E197:G197,I197:L197,N197:P197)","v":96},{"$f":"DataInput!R197","v":1},{"$f":"DataInput!Y197","v":0},{"$f":"IF(DataInput!U197-DataInput!E197>0,DataInput!U197-DataInput!E197,\"\")","v":15},{"$f":"IF(DataInput!W197-DataInput!I197>0,DataInput!W197-DataInput!I197,\"\")","v":""},null,{"$f":"SUM(R197:V197)","v":16},{"$f":"ROUNDUP(($W197*$X$5),1)","v":20.8},{"$f":"ROUNDUP(SUM(Q197-X197),1)","v":75.2},null,null,{"$f":"ROUNDDOWN((IF(AA198>0,IFERROR(IF(AVERAGE(DataInput!Q197:Q198)>AVERAGE(AA198,AA197),ROUNDDOWN(((((AA197-Z197)+(AA198-Z198))/2)*(A198-A197))/27+S12+T12,0),IF(((((DataInput!Q198-Z198)+(DataInput!Q197-Z197))/2)*(A198-A197))/27+S12+T12>0,ROUNDDOWN(((((DataInput!Q198-Z197)+(DataInput!Q197-Z197))/2)*(A198-A197))/27+S12+T12,0),0)),0),0)*$X$5),1)","v":0},null,{"$f":"ROUNDDOWN((IF(AC198>0,IFERROR(IF(((((DataInput!Q197-AC197)+(DataInput!Q198-AC198))/2)*(A198-A197))/27+S12+T12>0,ROUNDDOWN(((((DataInput!Q197-AC197)+(DataInput!Q198-AC198))/2)*(A198-A197))/27+S12+T12,0),0),0),0)*$X$5),1)","v":0},{"$f":"DataInput!U197","v":15},{"$f":"DataInput!S197","v":30},{"$f":"ROUNDUP((AF197*$AG$5),1)","v":42},{"$f":"ROUNDUP((AE197-AG197),1)","v":-27}]
[{"$f":"IF(DataInput!A198<>\"\",DataInput!A198,\"\")","v":83775},{"$f":"SUM(DataInput!C198,DataInput!Y198)+(DataInput!U198-DataInput!E198)","v":118},{"$f":"SUM(DataInput!D198,DataInput!Z198)","v":97},{"$f":"DataInput!U198","v":21},{"$f":"SUM(DataInput!F198,DataInput!AB198)","v":0},{"$f":"SUM(DataInput!G198,DataInput!AC198)","v":0},{"$f":"SUM(DataInput!H198,DataInput!AD198)","v":0},{"$f":"DataInput!I198","v":0},{"$f":"SUM(DataInput!J198,DataInput!AF198)","v":0},{"$f":"SUM(DataInput!K198,DataInput!AG198)","v":0},{"$f":"SUM(DataInput!L198,DataInput!AH198)","v":0},{"$f":"SUM(DataInput!M198,DataInput!AI198)","v":0},{"$f":"SUM(DataInput!N198,DataInput!AJ198)","v":0},{"$f":"SUM(DataInput!O198,DataInput!AK198)","v":0},{"$f":"DataInput!P198","v":0},null,{"$f":"SUM(C198,E198:G198,I198:L198,N198:P198)","v":97},{"$f":"DataInput!R198","v":6},{"$f":"DataInput!Y198","v":0},{"$f":"IF(DataInput!U198-DataInput!E198>0,DataInput!U198-DataInput!E198,\"\")","v":21},{"$f":"IF(DataInput!W198-DataInput!I198>0,DataInput!W198-DataInput!I198,\"\")","v":""},null,{"$f":"SUM(R198:V198)","v":27},{"$f":"ROUNDUP(($W198*$X$5),1)","v":35.1},{"$f":"ROUNDUP(SUM(Q198-X198),1)","v":61.9},{"$f":"Z197","v":0},{"$f":"AA197","v":0},{"$f":"ROUNDDOWN((IF(AA199>0,IFERROR(IF(AVERAGE(DataInput!Q198:Q199)>AVERAGE(AA199,AA198),ROUNDDOWN(((((AA198-Z198)+(AA199-Z199))/2)*(A199-A198))/27+S13+T13,0),IF(((((DataInput!Q199-Z199)+(DataInput!Q198-Z198))/2)*(A199-A198))/27+S13+T13>0,ROUNDDOWN(((((DataInput!Q199-Z198)+(DataInput!Q198-Z198))/2)*(A199-A198))/27+S13+T13,0),0)),0),0)*$X$5),1)","v":0},{"$f":"AC197","v":0},{"$f":"ROUNDDOWN((IF(AC199>0,IFERROR(IF(((((DataInput!Q198-AC198)+(DataInput!Q199-AC199))/2)*(A199-A198))/27+S13+T13>0,ROUNDDOWN(((((DataInput!Q198-AC198)+(DataInput!Q199-AC199))/2)*(A199-A198))/27+S13+T13,0),0),0),0)*$X$5),1)","v":0},{"$f":"DataInput!U198","v":21},{"$f":"DataInput!S198","v":42},{"$f":"ROUNDUP((AF198*$AG$5),1)","v":58.8},{"$f":"ROUNDUP((AE198-AG198),1)","v":-37.799999999999997}]
[{"$f":"IF(DataInput!A199<>\"\",DataInput!A199,\"\")","v":83800},{"$f":"SUM(DataInput!C199,DataInput!Y199)+(DataInput!U199-DataInput!E199)","v":97},{"$f":"SUM(DataInput!D199,DataInput!Z199)","v":75},{"$f":"DataInput!U199","v":22},{"$f":"SUM(DataInput!F199,DataInput!AB199)","v":0},{"$f":"SUM(DataInput!G199,DataInput!AC199)","v":0},{"$f":"SUM(DataInput!H199,DataInput!AD199)","v":0},{"$f":"DataInput!I199","v":0},{"$f":"SUM(DataInput!J199,DataInput!AF199)","v":0},{"$f":"SUM(DataInput!K199,DataInput!AG199)","v":0},{"$f":"SUM(DataInput!L199,DataInput!AH199)","v":0},{"$f":"SUM(DataInput!M199,DataInput!AI199)","v":0},{"$f":"SUM(DataInput!N199,DataInput!AJ199)","v":0},{"$f":"SUM(DataInput!O199,DataInput!AK199)","v":0},{"$f":"DataInput!P199","v":0},null,75,{"$f":"DataInput!R199","v":26},{"$f":"DataInput!Y199","v":0},{"$f":"IF(DataInput!U199-DataInput!E199>0,DataInput!U199-DataInput!E199,\"\")","v":22},{"$f":"IF(DataInput!W199-DataInput!I199>0,DataInput!W199-DataInput!I199,\"\")","v":""},null,48,62.4,12.6,{"$f":"Z198","v":0},{"$f":"AA198","v":0},{"$f":"ROUNDDOWN((IF(AA200>0,IFERROR(IF(AVERAGE(DataInput!Q199:Q200)>AVERAGE(AA200,AA199),ROUNDDOWN(((((AA199-Z199)+(AA200-Z200))/2)*(A200-A199))/27+S14+T14,0),IF(((((DataInput!Q200-Z200)+(DataInput!Q199-Z199))/2)*(A200-A199))/27+S14+T14>0,ROUNDDOWN(((((DataInput!Q200-Z199)+(DataInput!Q199-Z199))/2)*(A200-A199))/27+S14+T14,0),0)),0),0)*$X$5),1)","v":0},{"$f":"AC198","v":0},{"$f":"ROUNDDOWN((IF(AC200>0,IFERROR(IF(((((DataInput!Q199-AC199)+(DataInput!Q200-AC200))/2)*(A200-A199))/27+S14+T14>0,ROUNDDOWN(((((DataInput!Q199-AC199)+(DataInput!Q200-AC200))/2)*(A200-A199))/27+S14+T14,0),0),0),0)*$X$5),1)","v":0},{"$f":"DataInput!U199","v":22},{"$f":"DataInput!S199","v":53},74.2,-52.2]
[{"$f":"IF(DataInput!A200<>\"\",DataInput!A200,\"\")","v":83823},{"$f":"SUM(DataInput!C200,DataInput!Y200)+(DataInput!U200-DataInput!E200)","v":7},{"$f":"SUM(DataInput!D200,DataInput!Z200)","v":5},{"$f":"DataInput!U200","v":2},{"$f":"SUM(DataInput!F200,DataInput!AB200)","v":0},{"$f":"SUM(DataInput!G200,DataInput!AC200)","v":0},{"$f":"SUM(DataInput!H200,DataInput!AD200)","v":0},{"$f":"DataInput!I200","v":0},{"$f":"SUM(DataInput!J200,DataInput!AF200)","v":0},{"$f":"SUM(DataInput!K200,DataInput!AG200)","v":0},{"$f":"SUM(DataInput!L200,DataInput!AH200)","v":0},{"$f":"SUM(DataInput!M200,DataInput!AI200)","v":0},{"$f":"SUM(DataInput!N200,DataInput!AJ200)","v":0},{"$f":"SUM(DataInput!O200,DataInput!AK200)","v":0},{"$f":"DataInput!P200","v":0},21,26,{"$f":"DataInput!R200","v":7},{"$f":"DataInput!Y200","v":0},{"$f":"IF(DataInput!U200-DataInput!E200>0,DataInput!U200-DataInput!E200,\"\")","v":2},{"$f":"IF(DataInput!W200-DataInput!I200>0,DataInput!W200-DataInput!I200,\"\")","v":""},null,9,11.7,14.3,0,0,{"$f":"ROUNDDOWN((IF(AA201>0,IFERROR(IF(AVERAGE(DataInput!Q200:Q201)>AVERAGE(AA201,AA200),ROUNDDOWN(((((AA200-Z200)+(AA201-Z201))/2)*(A201-A200))/27+S15+T15,0),IF(((((DataInput!Q201-Z201)+(DataInput!Q200-Z200))/2)*(A201-A200))/27+S15+T15>0,ROUNDDOWN(((((DataInput!Q201-Z200)+(DataInput!Q200-Z200))/2)*(A201-A200))/27+S15+T15,0),0)),0),0)*$X$5),1)","v":0},0,{"$f":"ROUNDDOWN((IF(AC201>0,IFERROR(IF(((((DataInput!Q200-AC200)+(DataInput!Q201-AC201))/2)*(A201-A200))/27+S15+T15>0,ROUNDDOWN(((((DataInput!Q200-AC200)+(DataInput!Q201-AC201))/2)*(A201-A200))/27+S15+T15,0),0),0),0)*$X$5),1)","v":0},{"$f":"DataInput!U200","v":2},{"$f":"DataInput!S200","v":5},7,-5]
[{"$f":"IF(DataInput!A201<>\"\",DataInput!A201,\"\")","v":83825},{"$f":"SUM(DataInput!C201,DataInput!Y201)+(DataInput!U201-DataInput!E201)","v":97},{"$f":"SUM(DataInput!D201,DataInput!Z201)","v":72},{"$f":"DataInput!U201","v":25},{"$f":"SUM(DataInput!F201,DataInput!AB201)","v":0},{"$f":"SUM(DataInput!G201,DataInput!AC201)","v":0},{"$f":"SUM(DataInput!H201,DataInput!AD201)","v":0},{"$f":"DataInput!I201","v":0},{"$f":"SUM(DataInput!J201,DataInput!AF201)","v":0},{"$f":"SUM(DataInput!K201,DataInput!AG201)","v":0},{"$f":"SUM(DataInput!L201,DataInput!AH201)","v":0},{"$f":"SUM(DataInput!M201,DataInput!AI201)","v":0},{"$f":"SUM(DataInput!N201,DataInput!AJ201)","v":0},{"$f":"SUM(DataInput!O201,DataInput!AK201)","v":0},{"$f":"DataInput!P201","v":0},null,72,{"$f":"DataInput!R201","v":88},{"$f":"DataInput!Y201","v":0},{"$f":"IF(DataInput!U201-DataInput!E201>0,DataInput!U201-DataInput!E201,\"\")","v":25},{"$f":"IF(DataInput!W201-DataInput!I201>0,DataInput!W201-DataInput!I201,\"\")","v":""},null,113,146.9,-74.900000000000006,0,0,{"$f":"ROUNDDOWN((IF(AA202>0,IFERROR(IF(AVERAGE(DataInput!Q201:Q202)>AVERAGE(AA202,AA201),ROUNDDOWN(((((AA201-Z201)+(AA202-Z202))/2)*(A202-A201))/27+S16+T16,0),IF(((((DataInput!Q202-Z202)+(DataInput!Q201-Z201))/2)*(A202-A201))/27+S16+T16>0,ROUNDDOWN(((((DataInput!Q202-Z201)+(DataInput!Q201-Z201))/2)*(A202-A201))/27+S16+T16,0),0)),0),0)*$X$5),1)","v":0},0,{"$f":"ROUNDDOWN((IF(AC202>0,IFERROR(IF(((((DataInput!Q201-AC201)+(DataInput!Q202-AC202))/2)*(A202-A201))/27+S16+T16>0,ROUNDDOWN(((((DataInput!Q201-AC201)+(DataInput!Q202-AC202))/2)*(A202-A201))/27+S16+T16,0),0),0),0)*$X$5),1)","v":0},{"$f":"DataInput!U201","v":25},{"$f":"DataInput!S201","v":51},71.400000000000006,-46.4]
[{"$f":"IF(DataInput!A202<>\"\",DataInput!A202,\"\")","v":83850},{"$f":"SUM(DataInput!C202,DataInput!Y202)+(DataInput!U202-DataInput!E202)","v":90},{"$f":"SUM(DataInput!D202,DataInput!Z202)","v":69},{"$f":"DataInput!U202","v":21},{"$f":"SUM(DataInput!F202,DataInput!AB202)","v":0},{"$f":"SUM(DataInput!G202,DataInput!AC202)","v":0},{"$f":"SUM(DataInput!H202,DataInput!AD202)","v":0},{"$f":"DataInput!I202","v":0},{"$f":"SUM(DataInput!J202,DataInput!AF202)","v":0},{"$f":"SUM(DataInput!K202,DataInput!AG202)","v":0},{"$f":"SUM(DataInput!L202,DataInput!AH202)","v":0},{"$f":"SUM(DataInput!M202,DataInput!AI202)","v":0},{"$f":"SUM(DataInput!N202,DataInput!AJ202)","v":0},{"$f":"SUM(DataInput!O202,DataInput!AK202)","v":0},{"$f":"DataInput!P202","v":0},null,69,{"$f":"DataInput!R202","v":19},{"$f":"DataInput!Y202","v":0},{"$f":"IF(DataInput!U202-DataInput!E202>0,DataInput!U202-DataInput!E202,\"\")","v":21},{"$f":"IF(DataInput!W202-DataInput!I202>0,DataInput!W202-DataInput!I202,\"\")","v":""},null,40,52,17,0,0,{"$f":"ROUNDDOWN((IF(AA203>0,IFERROR(IF(AVERAGE(DataInput!Q202:Q203)>AVERAGE(AA203,AA202),ROUNDDOWN(((((AA202-Z202)+(AA203-Z203))/2)*(A203-A202))/27+S17+T17,0),IF(((((DataInput!Q203-Z203)+(DataInput!Q202-Z202))/2)*(A203-A202))/27+S17+T17>0,ROUNDDOWN(((((DataInput!Q203-Z202)+(DataInput!Q202-Z202))/2)*(A203-A202))/27+S17+T17,0),0)),0),0)*$X$5),1)","v":0},0,{"$f":"ROUNDDOWN((IF(AC203>0,IFERROR(IF(((((DataInput!Q202-AC202)+(DataInput!Q203-AC203))/2)*(A203-A202))/27+S17+T17>0,ROUNDDOWN(((((DataInput!Q202-AC202)+(DataInput!Q203-AC203))/2)*(A203-A202))/27+S17+T17,0),0),0),0)*$X$5),1)","v":0},{"$f":"DataInput!U202","v":21},{"$f":"DataInput!S202","v":42},58.8,-37.799999999999997]
[{"$f":"IF(DataInput!A203<>\"\",DataInput!A203,\"\")","v":83875},{"$f":"SUM(DataInput!C203,DataInput!Y203)+(DataInput!U203-DataInput!E203)","v":30},{"$f":"SUM(DataInput!D203,DataInput!Z203)","v":19},{"$f":"DataInput!U203","v":11},{"$f":"SUM(DataInput!F203,DataInput!AB203)","v":0},{"$f":"SUM(DataInput!G203,DataInput!AC203)","v":0},{"$f":"SUM(DataInput!H203,DataInput!AD203)","v":0},{"$f":"DataInput!I203","v":0},{"$f":"SUM(DataInput!J203,DataInput!AF203)","v":0},{"$f":"SUM(DataInput!K203,DataInput!AG203)","v":0},{"$f":"SUM(DataInput!L203,DataInput!AH203)","v":0},{"$f":"SUM(DataInput!M203,DataInput!AI203)","v":0},{"$f":"SUM(DataInput!N203,DataInput!AJ203)","v":0},{"$f":"SUM(DataInput!O203,DataInput!AK203)","v":0},{"$f":"DataInput!P203","v":0},null,19,{"$f":"DataInput!R203","v":1},{"$f":"DataInput!Y203","v":0},{"$f":"IF(DataInput!U203-DataInput!E203>0,DataInput!U203-DataInput!E203,\"\")","v":11},{"$f":"IF(DataInput!W203-DataInput!I203>0,DataInput!W203-DataInput!I203,\"\")","v":""},null,12,15.6,3.4,0,0,{"$f":"ROUNDDOWN((IF(AA204>0,IFERROR(IF(AVERAGE(DataInput!Q203:Q204)>AVERAGE(AA204,AA203),ROUNDDOWN(((((AA203-Z203)+(AA204-Z204))/2)*(A204-A203))/27+S18+T18,0),IF(((((DataInput!Q204-Z204)+(DataInput!Q203-Z203))/2)*(A204-A203))/27+S18+T18>0,ROUNDDOWN(((((DataInput!Q204-Z203)+(DataInput!Q203-Z203))/2)*(A204-A203))/27+S18+T18,0),0)),0),0)*$X$5),1)","v":0},0,{"$f":"ROUNDDOWN((IF(AC204>0,IFERROR(IF(((((DataInput!Q203-AC203)+(DataInput!Q204-AC204))/2)*(A204-A203))/27+S18+T18>0,ROUNDDOWN(((((DataInput!Q203-AC203)+(DataInput!Q204-AC204))/2)*(A204-A203))/27+S18+T18,0),0),0),0)*$X$5),1)","v":0},{"$f":"DataInput!U203","v":11},{"$f":"DataInput!S203","v":22},30.8,-19.8]
[{"$f":"IF(DataInput!A204<>\"\",DataInput!A204,\"\")","v":83900},{"$f":"SUM(DataInput!C204,DataInput!Y204)+(DataInput!U204-DataInput!E204)","v":11},{"$f":"SUM(DataInput!D204,DataInput!Z204)","v":6},{"$f":"DataInput!U204","v":5},{"$f":"SUM(DataInput!F204,DataInput!AB204)","v":0},{"$f":"SUM(DataInput!G204,DataInput!AC204)","v":0},{"$f":"SUM(DataInput!H204,DataInput!AD204)","v":0},{"$f":"DataInput!I204","v":0},{"$f":"SUM(DataInput!J204,DataInput!AF204)","v":0},{"$f":"SUM(DataInput!K204,DataInput!AG204)","v":0},{"$f":"SUM(DataInput!L204,DataInput!AH204)","v":0},{"$f":"SUM(DataInput!M204,DataInput!AI204)","v":0},{"$f":"SUM(DataInput!N204,DataInput!AJ204)","v":0},{"$f":"SUM(DataInput!O204,DataInput!AK204)","v":0},{"$f":"DataInput!P204","v":0},null,6,{"$f":"DataInput!R204","v":0},{"$f":"DataInput!Y204","v":0},{"$f":"IF(DataInput!U204-DataInput!E204>0,DataInput!U204-DataInput!E204,\"\")","v":5},{"$f":"IF(DataInput!W204-DataInput!I204>0,DataInput!W204-DataInput!I204,\"\")","v":""},null,5,6.5,-0.5,0,0,{"$f":"ROUNDDOWN((IF(AA205>0,IFERROR(IF(AVERAGE(DataInput!Q204:Q205)>AVERAGE(AA205,AA204),ROUNDDOWN(((((AA204-Z204)+(AA205-Z205))/2)*(A205-A204))/27+S19+T19,0),IF(((((DataInput!Q205-Z205)+(DataInput!Q204-Z204))/2)*(A205-A204))/27+S19+T19>0,ROUNDDOWN(((((DataInput!Q205-Z204)+(DataInput!Q204-Z204))/2)*(A205-A204))/27+S19+T19,0),0)),0),0)*$X$5),1)","v":0},0,{"$f":"ROUNDDOWN((IF(AC205>0,IFERROR(IF(((((DataInput!Q204-AC204)+(DataInput!Q205-AC205))/2)*(A205-A204))/27+S19+T19>0,ROUNDDOWN(((((DataInput!Q204-AC204)+(DataInput!Q205-AC205))/2)*(A205-A204))/27+S19+T19,0),0),0),0)*$X$5),1)","v":0},{"$f":"DataInput!U204","v":5},{"$f":"DataInput!S204","v":9},12.6,-7.6]
[{"$f":"IF(DataInput!A205<>\"\",DataInput!A205,\"\")","v":83925}]
[]
[{"$f":"IF(DataInput!A207<>\"\",DataInput!A207,\"\")","v":"Sta. 844+27"}]
[{"$f":"IF(DataInput!A208<>\"\",DataInput!A208,\"\")","v":84325},{"$f":"SUM(DataInput!C208,DataInput!Y208)+(DataInput!U208-DataInput!E208)","v":47},{"$f":"SUM(DataInput!D208,DataInput!Z208)","v":35},{"$f":"DataInput!U208","v":12},{"$f":"SUM(DataInput!F208,DataInput!AB208)","v":0},{"$f":"SUM(DataInput!G208,DataInput!AC208)","v":0},{"$f":"SUM(DataInput!H208,DataInput!AD208)","v":0},{"$f":"DataInput!I208","v":0},{"$f":"SUM(DataInput!J208,DataInput!AF208)","v":0},{"$f":"SUM(DataInput!K208,DataInput!AG208)","v":0},{"$f":"SUM(DataInput!L208,DataInput!AH208)","v":0},{"$f":"SUM(DataInput!M208,DataInput!AI208)","v":0},{"$f":"SUM(DataInput!N208,DataInput!AJ208)","v":0},{"$f":"SUM(DataInput!O208,DataInput!AK208)","v":0},{"$f":"DataInput!P208","v":0},null,{"$f":"SUM(C208,E208:G208,I208:L208,N208:P208)","v":35},{"$f":"DataInput!R208","v":15},{"$f":"DataInput!Y208","v":0},{"$f":"IF(DataInput!U208-DataInput!E208>0,DataInput!U208-DataInput!E208,\"\")","v":12},{"$f":"IF(DataInput!W208-DataInput!I208>0,DataInput!W208-DataInput!I208,\"\")","v":""},null,{"$f":"SUM(R208:V208)","v":27},{"$f":"ROUNDUP(($W208*$X$5),1)","v":35.1},{"$f":"ROUNDUP(SUM(Q208-X208),1)","v":-0.2},null,null,{"$f":"ROUNDDOWN((IF(AA209>0,IFERROR(IF(AVERAGE(DataInput!Q208:Q209)>AVERAGE(AA209,AA208),ROUNDDOWN(((((AA208-Z208)+(AA209-Z209))/2)*(A209-A208))/27+S12+T12,0),IF(((((DataInput!Q209-Z209)+(DataInput!Q208-Z208))/2)*(A209-A208))/27+S12+T12>0,ROUNDDOWN(((((DataInput!Q209-Z208)+(DataInput!Q208-Z208))/2)*(A209-A208))/27+S12+T12,0),0)),0),0)*$X$5),1)","v":0},null,{"$f":"ROUNDDOWN((IF(AC209>0,IFERROR(IF(((((DataInput!Q208-AC208)+(DataInput!Q209-AC209))/2)*(A209-A208))/27+S12+T12>0,ROUNDDOWN(((((DataInput!Q208-AC208)+(DataInput!Q209-AC209))/2)*(A209-A208))/27+S12+T12,0),0),0),0)*$X$5),1)","v":0},{"$f":"DataInput!U208","v":12},{"$f":"DataInput!S208","v":24},{"$f":"ROUNDUP((AF208*$AG$5),1)","v":33.6},{"$f":"ROUNDUP((AE208-AG208),1)","v":-21.6}]
[{"$f":"IF(DataInput!A209<>\"\",DataInput!A209,\"\")","v":84350},{"$f":"SUM(DataInput!C209,DataInput!Y209)+(DataInput!U209-DataInput!E209)","v":112},{"$f":"SUM(DataInput!D209,DataInput!Z209)","v":97},{"$f":"DataInput!U209","v":15},{"$f":"SUM(DataInput!F209,DataInput!AB209)","v":0},{"$f":"SUM(DataInput!G209,DataInput!AC209)","v":0},{"$f":"SUM(DataInput!H209,DataInput!AD209)","v":0},{"$f":"DataInput!I209","v":0},{"$f":"SUM(DataInput!J209,DataInput!AF209)","v":0},{"$f":"SUM(DataInput!K209,DataInput!AG209)","v":0},{"$f":"SUM(DataInput!L209,DataInput!AH209)","v":0},{"$f":"SUM(DataInput!M209,DataInput!AI209)","v":0},{"$f":"SUM(DataInput!N209,DataInput!AJ209)","v":0},{"$f":"SUM(DataInput!O209,DataInput!AK209)","v":0},{"$f":"DataInput!P209","v":0},null,{"$f":"SUM(C209,E209:G209,I209:L209,N209:P209)","v":97},{"$f":"DataInput!R209","v":34},{"$f":"DataInput!Y209","v":0},{"$f":"IF(DataInput!U209-DataInput!E209>0,DataInput!U209-DataInput!E209,\"\")","v":15},{"$f":"IF(DataInput!W209-DataInput!I209>0,DataInput!W209-DataInput!I209,\"\")","v":""},null,{"$f":"SUM(R209:V209)","v":49},{"$f":"ROUNDUP(($W209*$X$5),1)","v":63.7},{"$f":"ROUNDUP(SUM(Q209-X209),1)","v":33.299999999999997},{"$f":"Z208","v":0},{"$f":"AA208","v":0},{"$f":"ROUNDDOWN((IF(AA210>0,IFERROR(IF(AVERAGE(DataInput!Q209:Q210)>AVERAGE(AA210,AA209),ROUNDDOWN(((((AA209-Z209)+(AA210-Z210))/2)*(A210-A209))/27+S13+T13,0),IF(((((DataInput!Q210-Z210)+(DataInput!Q209-Z209))/2)*(A210-A209))/27+S13+T13>0,ROUNDDOWN(((((DataInput!Q210-Z209)+(DataInput!Q209-Z209))/2)*(A210-A209))/27+S13+T13,0),0)),0),0)*$X$5),1)","v":0},{"$f":"AC208","v":0},{"$f":"ROUNDDOWN((IF(AC210>0,IFERROR(IF(((((DataInput!Q209-AC209)+(DataInput!Q210-AC210))/2)*(A210-A209))/27+S13+T13>0,ROUNDDOWN(((((DataInput!Q209-AC209)+(DataInput!Q210-AC210))/2)*(A210-A209))/27+S13+T13,0),0),0),0)*$X$5),1)","v":0},{"$f":"DataInput!U209","v":15},{"$f":"DataInput!S209","v":30},{"$f":"ROUNDUP((AF209*$AG$5),1)","v":42},{"$f":"ROUNDUP((AE209-AG209),1)","v":-27}]
[{"$f":"IF(DataInput!A210<>\"\",DataInput!A210,\"\")","v":84375},{"$f":"SUM(DataInput!C210,DataInput!Y210)+(DataInput!U210-DataInput!E210)","v":181},{"$f":"SUM(DataInput!D210,DataInput!Z210)","v":163},{"$f":"DataInput!U210","v":18},{"$f":"SUM(DataInput!F210,DataInput!AB210)","v":0},{"$f":"SUM(DataInput!G210,DataInput!AC210)","v":0},{"$f":"SUM(DataInput!H210,DataInput!AD210)","v":0},{"$f":"DataInput!I210","v":0},{"$f":"SUM(DataInput!J210,DataInput!AF210)","v":0},{"$f":"SUM(DataInput!K210,DataInput!AG210)","v":0},{"$f":"SUM(DataInput!L210,DataInput!AH210)","v":0},{"$f":"SUM(DataInput!M210,DataInput!AI210)","v":0},{"$f":"SUM(DataInput!N210,DataInput!AJ210)","v":0},{"$f":"SUM(DataInput!O210,DataInput!AK210)","v":0},{"$f":"DataInput!P210","v":0},null,163,{"$f":"DataInput!R210","v":38},{"$f":"DataInput!Y210","v":0},{"$f":"IF(DataInput!U210-DataInput!E210>0,DataInput!U210-DataInput!E210,\"\")","v":18},{"$f":"IF(DataInput!W210-DataInput!I210>0,DataInput!W210-DataInput!I210,\"\")","v":""},null,56,72.8,90.2,{"$f":"Z209","v":0},{"$f":"AA209","v":0},{"$f":"ROUNDDOWN((IF(AA211>0,IFERROR(IF(AVERAGE(DataInput!Q210:Q211)>AVERAGE(AA211,AA210),ROUNDDOWN(((((AA210-Z210)+(AA211-Z211))/2)*(A211-A210))/27+S14+T14,0),IF(((((DataInput!Q211-Z211)+(DataInput!Q210-Z210))/2)*(A211-A210))/27+S14+T14>0,ROUNDDOWN(((((DataInput!Q211-Z210)+(DataInput!Q210-Z210))/2)*(A211-A210))/27+S14+T14,0),0)),0),0)*$X$5),1)","v":0},{"$f":"AC209","v":0},{"$f":"ROUNDDOWN((IF(AC211>0,IFERROR(IF(((((DataInput!Q210-AC210)+(DataInput!Q211-AC211))/2)*(A211-A210))/27+S14+T14>0,ROUNDDOWN(((((DataInput!Q210-AC210)+(DataInput!Q211-AC211))/2)*(A211-A210))/27+S14+T14,0),0),0),0)*$X$5),1)","v":0},{"$f":"DataInput!U210","v":18},{"$f":"DataInput!S210","v":36},50.4,-32.4]
[{"$f":"IF(DataInput!A211<>\"\",DataInput!A211,\"\")","v":84400},{"$f":"SUM(DataInput!C211,DataInput!Y211)+(DataInput!U211-DataInput!E211)","v":184},{"$f":"SUM(DataInput!D211,DataInput!Z211)","v":166},{"$f":"DataInput!U211","v":18},{"$f":"SUM(DataInput!F211,DataInput!AB211)","v":0},{"$f":"SUM(DataInput!G211,DataInput!AC211)","v":0},{"$f":"SUM(DataInput!H211,DataInput!AD211)","v":0},{"$f":"DataInput!I211","v":0},{"$f":"SUM(DataInput!J211,DataInput!AF211)","v":0},{"$f":"SUM(DataInput!K211,DataInput!AG211)","v":0},{"$f":"SUM(DataInput!L211,DataInput!AH211)","v":0},{"$f":"SUM(DataInput!M211,DataInput!AI211)","v":0},{"$f":"SUM(DataInput!N211,DataInput!AJ211)","v":0},{"$f":"SUM(DataInput!O211,DataInput!AK211)","v":0},{"$f":"DataInput!P211","v":0},null,166,{"$f":"DataInput!R211","v":48},{"$f":"DataInput!Y211","v":0},{"$f":"IF(DataInput!U211-DataInput!E211>0,DataInput!U211-DataInput!E211,\"\")","v":18},{"$f":"IF(DataInput!W211-DataInput!I211>0,DataInput!W211-DataInput!I211,\"\")","v":""},null,66,85.8,80.2,0,0,{"$f":"ROUNDDOWN((IF(AA212>0,IFERROR(IF(AVERAGE(DataInput!Q211:Q212)>AVERAGE(AA212,AA211),ROUNDDOWN(((((AA211-Z211)+(AA212-Z212))/2)*(A212-A211))/27+S15+T15,0),IF(((((DataInput!Q212-Z212)+(DataInput!Q211-Z211))/2)*(A212-A211))/27+S15+T15>0,ROUNDDOWN(((((DataInput!Q212-Z211)+(DataInput!Q211-Z211))/2)*(A212-A211))/27+S15+T15,0),0)),0),0)*$X$5),1)","v":0},0,{"$f":"ROUNDDOWN((IF(AC212>0,IFERROR(IF(((((DataInput!Q211-AC211)+(DataInput!Q212-AC212))/2)*(A212-A211))/27+S15+T15>0,ROUNDDOWN(((((DataInput!Q211-AC211)+(DataInput!Q212-AC212))/2)*(A212-A211))/27+S15+T15,0),0),0),0)*$X$5),1)","v":0},{"$f":"DataInput!U211","v":18},{"$f":"DataInput!S211","v":37},51.8,-33.799999999999997]
[{"$f":"IF(DataInput!A212<>\"\",DataInput!A212,\"\")","v":84425},{"$f":"SUM(DataInput!C212,DataInput!Y212)+(DataInput!U212-DataInput!E212)","v":14},{"$f":"SUM(DataInput!D212,DataInput!Z212)","v":13},{"$f":"DataInput!U212","v":1},{"$f":"SUM(DataInput!F212,DataInput!AB212)","v":0},{"$f":"SUM(DataInput!G212,DataInput!AC212)","v":0},{"$f":"SUM(DataInput!H212,DataInput!AD212)","v":0},{"$f":"DataInput!I212","v":0},{"$f":"SUM(DataInput!J212,DataInput!AF212)","v":0},{"$f":"SUM(DataInput!K212,DataInput!AG212)","v":0},{"$f":"SUM(DataInput!L212,DataInput!AH212)","v":0},{"$f":"SUM(DataInput!M212,DataInput!AI212)","v":0},{"$f":"SUM(DataInput!N212,DataInput!AJ212)","v":0},{"$f":"SUM(DataInput!O212,DataInput!AK212)","v":0},{"$f":"DataInput!P212","v":0},null,13,{"$f":"DataInput!R212","v":5},{"$f":"DataInput!Y212","v":0},{"$f":"IF(DataInput!U212-DataInput!E212>0,DataInput!U212-DataInput!E212,\"\")","v":1},{"$f":"IF(DataInput!W212-DataInput!I212>0,DataInput!W212-DataInput!I212,\"\")","v":""},null,6,7.8,5.2,0,0,{"$f":"ROUNDDOWN((IF(AA213>0,IFERROR(IF(AVERAGE(DataInput!Q212:Q213)>AVERAGE(AA213,AA212),ROUNDDOWN(((((AA212-Z212)+(AA213-Z213))/2)*(A213-A212))/27+S16+T16,0),IF(((((DataInput!Q213-Z213)+(DataInput!Q212-Z212))/2)*(A213-A212))/27+S16+T16>0,ROUNDDOWN(((((DataInput!Q213-Z212)+(DataInput!Q212-Z212))/2)*(A213-A212))/27+S16+T16,0),0)),0),0)*$X$5),1)","v":0},0,{"$f":"ROUNDDOWN((IF(AC213>0,IFERROR(IF(((((DataInput!Q212-AC212)+(DataInput!Q213-AC213))/2)*(A213-A212))/27+S16+T16>0,ROUNDDOWN(((((DataInput!Q212-AC212)+(DataInput!Q213-AC213))/2)*(A213-A212))/27+S16+T16,0),0),0),0)*$X$5),1)","v":0},{"$f":"DataInput!U212","v":1},{"$f":"DataInput!S212","v":4},5.6,-4.5999999999999996]
[{"$f":"IF(DataInput!A213<>\"\",DataInput!A213,\"\")","v":84426.62},{"$f":"SUM(DataInput!C213,DataInput!Y213)+(DataInput!U213-DataInput!E213)","v":192},{"$f":"SUM(DataInput!D213,DataInput!Z213)","v":183},{"$f":"DataInput!U213","v":9},{"$f":"SUM(DataInput!F213,DataInput!AB213)","v":0},{"$f":"SUM(DataInput!G213,DataInput!AC213)","v":0},{"$f":"SUM(DataInput!H213,DataInput!AD213)","v":0},{"$f":"DataInput!I213","v":0},{"$f":"SUM(DataInput!J213,DataInput!AF213)","v":0},{"$f":"SUM(DataInput!K213,DataInput!AG213)","v":0},{"$f":"SUM(DataInput!L213,DataInput!AH213)","v":0},{"$f":"SUM(DataInput!M213,DataInput!AI213)","v":0},{"$f":"SUM(DataInput!N213,DataInput!AJ213)","v":0},{"$f":"SUM(DataInput!O213,DataInput!AK213)","v":0},{"$f":"DataInput!P213","v":0},1095,1278,{"$f":"DataInput!R213","v":42},{"$f":"DataInput!Y213","v":0},{"$f":"IF(DataInput!U213-DataInput!E213>0,DataInput!U213-DataInput!E213,\"\")","v":9},{"$f":"IF(DataInput!W213-DataInput!I213>0,DataInput!W213-DataInput!I213,\"\")","v":""},null,51,66.3,1211.7,0,0,{"$f":"ROUNDDOWN((IF(AA214>0,IFERROR(IF(AVERAGE(DataInput!Q213:Q214)>AVERAGE(AA214,AA213),ROUNDDOWN(((((AA213-Z213)+(AA214-Z214))/2)*(A214-A213))/27+S17+T17,0),IF(((((DataInput!Q214-Z214)+(DataInput!Q213-Z213))/2)*(A214-A213))/27+S17+T17>0,ROUNDDOWN(((((DataInput!Q214-Z213)+(DataInput!Q213-Z213))/2)*(A214-A213))/27+S17+T17,0),0)),0),0)*$X$5),1)","v":0},0,{"$f":"ROUNDDOWN((IF(AC214>0,IFERROR(IF(((((DataInput!Q213-AC213)+(DataInput!Q214-AC214))/2)*(A214-A213))/27+S17+T17>0,ROUNDDOWN(((((DataInput!Q213-AC213)+(DataInput!Q214-AC214))/2)*(A214-A213))/27+S17+T17,0),0),0),0)*$X$5),1)","v":0},{"$f":"DataInput!U213","v":9},{"$f":"DataInput!S213","v":51},71.400000000000006,-62.4]
[{"$f":"IF(DataInput!A214<>\"\",DataInput!A214,\"\")","v":84450},{"$f":"SUM(DataInput!C214,DataInput!Y214)+(DataInput!U214-DataInput!E214)","v":123},{"$f":"SUM(DataInput!D214,DataInput!Z214)","v":108},{"$f":"DataInput!U214","v":15},{"$f":"SUM(DataInput!F214,DataInput!AB214)","v":0},{"$f":"SUM(DataInput!G214,DataInput!AC214)","v":0},{"$f":"SUM(DataInput!H214,DataInput!AD214)","v":0},{"$f":"DataInput!I214","v":0},{"$f":"SUM(DataInput!J214,DataInput!AF214)","v":0},{"$f":"SUM(DataInput!K214,DataInput!AG214)","v":0},{"$f":"SUM(DataInput!L214,DataInput!AH214)","v":0},{"$f":"SUM(DataInput!M214,DataInput!AI214)","v":0},{"$f":"SUM(DataInput!N214,DataInput!AJ214)","v":0},{"$f":"SUM(DataInput!O214,DataInput!AK214)","v":0},{"$f":"DataInput!P214","v":0},null,108,{"$f":"DataInput!R214","v":0},{"$f":"DataInput!Y214","v":0},{"$f":"IF(DataInput!U214-DataInput!E214>0,DataInput!U214-DataInput!E214,\"\")","v":15},{"$f":"IF(DataInput!W214-DataInput!I214>0,DataInput!W214-DataInput!I214,\"\")","v":""},null,15,19.5,88.5,0,0,{"$f":"ROUNDDOWN((IF(AA215>0,IFERROR(IF(AVERAGE(DataInput!Q214:Q215)>AVERAGE(AA215,AA214),ROUNDDOWN(((((AA214-Z214)+(AA215-Z215))/2)*(A215-A214))/27+S18+T18,0),IF(((((DataInput!Q215-Z215)+(DataInput!Q214-Z214))/2)*(A215-A214))/27+S18+T18>0,ROUNDDOWN(((((DataInput!Q215-Z214)+(DataInput!Q214-Z214))/2)*(A215-A214))/27+S18+T18,0),0)),0),0)*$X$5),1)","v":0},0,{"$f":"ROUNDDOWN((IF(AC215>0,IFERROR(IF(((((DataInput!Q214-AC214)+(DataInput!Q215-AC215))/2)*(A215-A214))/27+S18+T18>0,ROUNDDOWN(((((DataInput!Q214-AC214)+(DataInput!Q215-AC215))/2)*(A215-A214))/27+S18+T18,0),0),0),0)*$X$5),1)","v":0},{"$f":"DataInput!U214","v":15},{"$f":"DataInput!S214","v":29},40.6,-25.6]
[{"$f":"IF(DataInput!A215<>\"\",DataInput!A215,\"\")","v":84475},{"$f":"SUM(DataInput!C215,DataInput!Y215)+(DataInput!U215-DataInput!E215)","v":54},{"$f":"SUM(DataInput!D215,DataInput!Z215)","v":45},{"$f":"DataInput!U215","v":9},{"$f":"SUM(DataInput!F215,DataInput!AB215)","v":0},{"$f":"SUM(DataInput!G215,DataInput!AC215)","v":0},{"$f":"SUM(DataInput!H215,DataInput!AD215)","v":0},{"$f":"DataInput!I215","v":0},{"$f":"SUM(DataInput!J215,DataInput!AF215)","v":0},{"$f":"SUM(DataInput!K215,DataInput!AG215)","v":0},{"$f":"SUM(DataInput!L215,DataInput!AH215)","v":0},{"$f":"SUM(DataInput!M215,DataInput!AI215)","v":0},{"$f":"SUM(DataInput!N215,DataInput!AJ215)","v":0},{"$f":"SUM(DataInput!O215,DataInput!AK215)","v":0},{"$f":"DataInput!P215","v":0},null,45,{"$f":"DataInput!R215","v":0},{"$f":"DataInput!Y215","v":0},{"$f":"IF(DataInput!U215-DataInput!E215>0,DataInput!U215-DataInput!E215,\"\")","v":9},{"$f":"IF(DataInput!W215-DataInput!I215>0,DataInput!W215-DataInput!I215,\"\")","v":""},null,9,11.7,33.299999999999997,0,0,{"$f":"ROUNDDOWN((IF(AA216>0,IFERROR(IF(AVERAGE(DataInput!Q215:Q216)>AVERAGE(AA216,AA215),ROUNDDOWN(((((AA215-Z215)+(AA216-Z216))/2)*(A216-A215))/27+S19+T19,0),IF(((((DataInput!Q216-Z216)+(DataInput!Q215-Z215))/2)*(A216-A215))/27+S19+T19>0,ROUNDDOWN(((((DataInput!Q216-Z215)+(DataInput!Q215-Z215))/2)*(A216-A215))/27+S19+T19,0),0)),0),0)*$X$5),1)","v":0},0,{"$f":"ROUNDDOWN((IF(AC216>0,IFERROR(IF(((((DataInput!Q215-AC215)+(DataInput!Q216-AC216))/2)*(A216-A215))/27+S19+T19>0,ROUNDDOWN(((((DataInput!Q215-AC215)+(DataInput!Q216-AC216))/2)*(A216-A215))/27+S19+T19,0),0),0),0)*$X$5),1)","v":0},{"$f":"DataInput!U215","v":9},{"$f":"DataInput!S215","v":18},25.2,-16.2]
[{"$f":"IF(DataInput!A216<>\"\",DataInput!A216,\"\")","v":84500}]
[]
[{"$f":"IF(DataInput!A218<>\"\",DataInput!A218,\"\")","v":"Sta. 855+00"}]
[{"$f":"IF(DataInput!A219<>\"\",DataInput!A219,\"\")","v":85425},{"$f":"SUM(DataInput!C219,DataInput!Y219)+(DataInput!U219-DataInput!E219)","v":26},{"$f":"SUM(DataInput!D219,DataInput!Z219)","v":19},{"$f":"DataInput!U219","v":7},{"$f":"SUM(DataInput!F219,DataInput!AB219)","v":0},{"$f":"SUM(DataInput!G219,DataInput!AC219)","v":0},{"$f":"SUM(DataInput!H219,DataInput!AD219)","v":0},{"$f":"DataInput!I219","v":0},{"$f":"SUM(DataInput!J219,DataInput!AF219)","v":0},{"$f":"SUM(DataInput!K219,DataInput!AG219)","v":0},{"$f":"SUM(DataInput!L219,DataInput!AH219)","v":0},{"$f":"SUM(DataInput!M219,DataInput!AI219)","v":0},{"$f":"SUM(DataInput!N219,DataInput!AJ219)","v":0},{"$f":"SUM(DataInput!O219,DataInput!AK219)","v":0},{"$f":"DataInput!P219","v":0},null,{"$f":"SUM(C219,E219:G219,I219:L219,N219:P219)","v":19},{"$f":"DataInput!R219","v":6},{"$f":"DataInput!Y219","v":0},{"$f":"IF(DataInput!U219-DataInput!E219>0,DataInput!U219-DataInput!E219,\"\")","v":7},{"$f":"IF(DataInput!W219-DataInput!I219>0,DataInput!W219-DataInput!I219,\"\")","v":""},null,{"$f":"SUM(R219:V219)","v":13},{"$f":"ROUNDUP(($W219*$X$5),1)","v":16.899999999999999},{"$f":"ROUNDUP(SUM(Q219-X219),1)","v":2.1},null,null,{"$f":"ROUNDDOWN((IF(AA220>0,IFERROR(IF(AVERAGE(DataInput!Q219:Q220)>AVERAGE(AA220,AA219),ROUNDDOWN(((((AA219-Z219)+(AA220-Z220))/2)*(A220-A219))/27+S12+T12,0),IF(((((DataInput!Q220-Z220)+(DataInput!Q219-Z219))/2)*(A220-A219))/27+S12+T12>0,ROUNDDOWN(((((DataInput!Q220-Z219)+(DataInput!Q219-Z219))/2)*(A220-A219))/27+S12+T12,0),0)),0),0)*$X$5),1)","v":0},null,{"$f":"ROUNDDOWN((IF(AC220>0,IFERROR(IF(((((DataInput!Q219-AC219)+(DataInput!Q220-AC220))/2)*(A220-A219))/27+S12+T12>0,ROUNDDOWN(((((DataInput!Q219-AC219)+(DataInput!Q220-AC220))/2)*(A220-A219))/27+S12+T12,0),0),0),0)*$X$5),1)","v":0},{"$f":"DataInput!U219","v":7},{"$f":"DataInput!S219","v":14},{"$f":"ROUNDUP((AF219*$AG$5),1)","v":19.600000000000001},{"$f":"ROUNDUP((AE219-AG219),1)","v":-12.6}]
[{"$f":"IF(DataInput!A220<>\"\",DataInput!A220,\"\")","v":85450},{"$f":"SUM(DataInput!C220,DataInput!Y220)+(DataInput!U220-DataInput!E220)","v":64},{"$f":"SUM(DataInput!D220,DataInput!Z220)","v":41},{"$f":"DataInput!U220","v":23},{"$f":"SUM(DataInput!F220,DataInput!AB220)","v":0},{"$f":"SUM(DataInput!G220,DataInput!AC220)","v":0},{"$f":"SUM(DataInput!H220,DataInput!AD220)","v":0},{"$f":"DataInput!I220","v":0},{"$f":"SUM(DataInput!J220,DataInput!AF220)","v":0},{"$f":"SUM(DataInput!K220,DataInput!AG220)","v":0},{"$f":"SUM(DataInput!L220,DataInput!AH220)","v":0},{"$f":"SUM(DataInput!M220,DataInput!AI220)","v":0},{"$f":"SUM(DataInput!N220,DataInput!AJ220)","v":0},{"$f":"SUM(DataInput!O220,DataInput!AK220)","v":0},{"$f":"DataInput!P220","v":0},null,{"$f":"SUM(C220,E220:G220,I220:L220,N220:P220)","v":41},{"$f":"DataInput!R220","v":95},{"$f":"DataInput!Y220","v":0},{"$f":"IF(DataInput!U220-DataInput!E220>0,DataInput!U220-DataInput!E220,\"\")","v":23},{"$f":"IF(DataInput!W220-DataInput!I220>0,DataInput!W220-DataInput!I220,\"\")","v":""},null,{"$f":"SUM(R220:V220)","v":118},{"$f":"ROUNDUP(($W220*$X$5),1)","v":153.4},{"$f":"ROUNDUP(SUM(Q220-X220),1)","v":-112.4},{"$f":"Z219","v":0},{"$f":"AA219","v":0},{"$f":"ROUNDDOWN((IF(AA221>0,IFERROR(IF(AVERAGE(DataInput!Q220:Q221)>AVERAGE(AA221,AA220),ROUNDDOWN(((((AA220-Z220)+(AA221-Z221))/2)*(A221-A220))/27+S13+T13,0),IF(((((DataInput!Q221-Z221)+(DataInput!Q220-Z220))/2)*(A221-A220))/27+S13+T13>0,ROUNDDOWN(((((DataInput!Q221-Z220)+(DataInput!Q220-Z220))/2)*(A221-A220))/27+S13+T13,0),0)),0),0)*$X$5),1)","v":0},{"$f":"AC219","v":0},{"$f":"ROUNDDOWN((IF(AC221>0,IFERROR(IF(((((DataInput!Q220-AC220)+(DataInput!Q221-AC221))/2)*(A221-A220))/27+S13+T13>0,ROUNDDOWN(((((DataInput!Q220-AC220)+(DataInput!Q221-AC221))/2)*(A221-A220))/27+S13+T13,0),0),0),0)*$X$5),1)","v":0},{"$f":"DataInput!U220","v":23},{"$f":"DataInput!S220","v":46},{"$f":"ROUNDUP((AF220*$AG$5),1)","v":64.400000000000006},{"$f":"ROUNDUP((AE220-AG220),1)","v":-41.4}]
[{"$f":"IF(DataInput!A221<>\"\",DataInput!A221,\"\")","v":85475},{"$f":"SUM(DataInput!C221,DataInput!Y221)+(DataInput!U221-DataInput!E221)","v":113},{"$f":"SUM(DataInput!D221,DataInput!Z221)","v":77},{"$f":"DataInput!U221","v":36},{"$f":"SUM(DataInput!F221,DataInput!AB221)","v":0},{"$f":"SUM(DataInput!G221,DataInput!AC221)","v":0},{"$f":"SUM(DataInput!H221,DataInput!AD221)","v":0},{"$f":"DataInput!I221","v":0},{"$f":"SUM(DataInput!J221,DataInput!AF221)","v":0},{"$f":"SUM(DataInput!K221,DataInput!AG221)","v":0},{"$f":"SUM(DataInput!L221,DataInput!AH221)","v":0},{"$f":"SUM(DataInput!M221,DataInput!AI221)","v":0},{"$f":"SUM(DataInput!N221,DataInput!AJ221)","v":0},{"$f":"SUM(DataInput!O221,DataInput!AK221)","v":0},{"$f":"DataInput!P221","v":0},null,77,{"$f":"DataInput!R221","v":185},{"$f":"DataInput!Y221","v":0},{"$f":"IF(DataInput!U221-DataInput!E221>0,DataInput!U221-DataInput!E221,\"\")","v":36},{"$f":"IF(DataInput!W221-DataInput!I221>0,DataInput!W221-DataInput!I221,\"\")","v":""},null,221,287.3,-210.3,{"$f":"Z220","v":0},{"$f":"AA220","v":0},{"$f":"ROUNDDOWN((IF(AA222>0,IFERROR(IF(AVERAGE(DataInput!Q221:Q222)>AVERAGE(AA222,AA221),ROUNDDOWN(((((AA221-Z221)+(AA222-Z222))/2)*(A222-A221))/27+S14+T14,0),IF(((((DataInput!Q222-Z222)+(DataInput!Q221-Z221))/2)*(A222-A221))/27+S14+T14>0,ROUNDDOWN(((((DataInput!Q222-Z221)+(DataInput!Q221-Z221))/2)*(A222-A221))/27+S14+T14,0),0)),0),0)*$X$5),1)","v":0},{"$f":"AC220","v":0},{"$f":"ROUNDDOWN((IF(AC222>0,IFERROR(IF(((((DataInput!Q221-AC221)+(DataInput!Q222-AC222))/2)*(A222-A221))/27+S14+T14>0,ROUNDDOWN(((((DataInput!Q221-AC221)+(DataInput!Q222-AC222))/2)*(A222-A221))/27+S14+T14,0),0),0),0)*$X$5),1)","v":0},{"$f":"DataInput!U221","v":36},{"$f":"DataInput!S221","v":72},100.8,-64.8]
[{"$f":"IF(DataInput!A222<>\"\",DataInput!A222,\"\")","v":85500},{"$f":"SUM(DataInput!C222,DataInput!Y222)+(DataInput!U222-DataInput!E222)","v":104},{"$f":"SUM(DataInput!D222,DataInput!Z222)","v":69},{"$f":"DataInput!U222","v":35},{"$f":"SUM(DataInput!F222,DataInput!AB222)","v":0},{"$f":"SUM(DataInput!G222,DataInput!AC222)","v":0},{"$f":"SUM(DataInput!H222,DataInput!AD222)","v":0},{"$f":"DataInput!I222","v":0},{"$f":"SUM(DataInput!J222,DataInput!AF222)","v":0},{"$f":"SUM(DataInput!K222,DataInput!AG222)","v":0},{"$f":"SUM(DataInput!L222,DataInput!AH222)","v":0},{"$f":"SUM(DataInput!M222,DataInput!AI222)","v":0},{"$f":"SUM(DataInput!N222,DataInput!AJ222)","v":0},{"$f":"SUM(DataInput!O222,DataInput!AK222)","v":0},{"$f":"DataInput!P222","v":0},null,69,{"$f":"DataInput!R222","v":184},{"$f":"DataInput!Y222","v":0},{"$f":"IF(DataInput!U222-DataInput!E222>0,DataInput!U222-DataInput!E222,\"\")","v":35},{"$f":"IF(DataInput!W222-DataInput!I222>0,DataInput!W222-DataInput!I222,\"\")","v":""},null,219,284.7,-215.7,0,0,{"$f":"ROUNDDOWN((IF(AA223>0,IFERROR(IF(AVERAGE(DataInput!Q222:Q223)>AVERAGE(AA223,AA222),ROUNDDOWN(((((AA222-Z222)+(AA223-Z223))/2)*(A223-A222))/27+S15+T15,0),IF(((((DataInput!Q223-Z223)+(DataInput!Q222-Z222))/2)*(A223-A222))/27+S15+T15>0,ROUNDDOWN(((((DataInput!Q223-Z222)+(DataInput!Q222-Z222))/2)*(A223-A222))/27+S15+T15,0),0)),0),0)*$X$5),1)","v":0},0,{"$f":"ROUNDDOWN((IF(AC223>0,IFERROR(IF(((((DataInput!Q222-AC222)+(DataInput!Q223-AC223))/2)*(A223-A222))/27+S15+T15>0,ROUNDDOWN(((((DataInput!Q222-AC222)+(DataInput!Q223-AC223))/2)*(A223-A222))/27+S15+T15,0),0),0),0)*$X$5),1)","v":0},{"$f":"DataInput!U222","v":35},{"$f":"DataInput!S222","v":71},99.4,-64.400000000000006]
[{"$f":"IF(DataInput!A223<>\"\",DataInput!A223,\"\")","v":85525},{"$f":"SUM(DataInput!C223,DataInput!Y223)+(DataInput!U223-DataInput!E223)","v":48},{"$f":"SUM(DataInput!D223,DataInput!Z223)","v":26},{"$f":"DataInput!U223","v":22},{"$f":"SUM(DataInput!F223,DataInput!AB223)","v":0},{"$f":"SUM(DataInput!G223,DataInput!AC223)","v":0},{"$f":"SUM(DataInput!H223,DataInput!AD223)","v":0},{"$f":"DataInput!I223","v":0},{"$f":"SUM(DataInput!J223,DataInput!AF223)","v":0},{"$f":"SUM(DataInput!K223,DataInput!AG223)","v":0},{"$f":"SUM(DataInput!L223,DataInput!AH223)","v":0},{"$f":"SUM(DataInput!M223,DataInput!AI223)","v":0},{"$f":"SUM(DataInput!N223,DataInput!AJ223)","v":0},{"$f":"SUM(DataInput!O223,DataInput!AK223)","v":0},{"$f":"DataInput!P223","v":0},null,26,{"$f":"DataInput!R223","v":94},{"$f":"DataInput!Y223","v":0},{"$f":"IF(DataInput!U223-DataInput!E223>0,DataInput!U223-DataInput!E223,\"\")","v":22},{"$f":"IF(DataInput!W223-DataInput!I223>0,DataInput!W223-DataInput!I223,\"\")","v":""},null,116,150.80000000000001,-124.8,0,0,{"$f":"ROUNDDOWN((IF(AA224>0,IFERROR(IF(AVERAGE(DataInput!Q223:Q224)>AVERAGE(AA224,AA223),ROUNDDOWN(((((AA223-Z223)+(AA224-Z224))/2)*(A224-A223))/27+S16+T16,0),IF(((((DataInput!Q224-Z224)+(DataInput!Q223-Z223))/2)*(A224-A223))/27+S16+T16>0,ROUNDDOWN(((((DataInput!Q224-Z223)+(DataInput!Q223-Z223))/2)*(A224-A223))/27+S16+T16,0),0)),0),0)*$X$5),1)","v":0},0,{"$f":"ROUNDDOWN((IF(AC224>0,IFERROR(IF(((((DataInput!Q223-AC223)+(DataInput!Q224-AC224))/2)*(A224-A223))/27+S16+T16>0,ROUNDDOWN(((((DataInput!Q223-AC223)+(DataInput!Q224-AC224))/2)*(A224-A223))/27+S16+T16,0),0),0),0)*$X$5),1)","v":0},{"$f":"DataInput!U223","v":22},{"$f":"DataInput!S223","v":45},63,-41]
[{"$f":"IF(DataInput!A224<>\"\",DataInput!A224,\"\")","v":85550},{"$f":"SUM(DataInput!C224,DataInput!Y224)+(DataInput!U224-DataInput!E224)","v":36},{"$f":"SUM(DataInput!D224,DataInput!Z224)","v":25},{"$f":"DataInput!U224","v":11},{"$f":"SUM(DataInput!F224,DataInput!AB224)","v":0},{"$f":"SUM(DataInput!G224,DataInput!AC224)","v":0},{"$f":"SUM(DataInput!H224,DataInput!AD224)","v":0},{"$f":"DataInput!I224","v":0},{"$f":"SUM(DataInput!J224,DataInput!AF224)","v":0},{"$f":"SUM(DataInput!K224,DataInput!AG224)","v":0},{"$f":"SUM(DataInput!L224,DataInput!AH224)","v":0},{"$f":"SUM(DataInput!M224,DataInput!AI224)","v":0},{"$f":"SUM(DataInput!N224,DataInput!AJ224)","v":0},{"$f":"SUM(DataInput!O224,DataInput!AK224)","v":0},{"$f":"DataInput!P224","v":0},null,25,{"$f":"DataInput!R224","v":7},{"$f":"DataInput!Y224","v":0},{"$f":"IF(DataInput!U224-DataInput!E224>0,DataInput!U224-DataInput!E224,\"\")","v":11},{"$f":"IF(DataInput!W224-DataInput!I224>0,DataInput!W224-DataInput!I224,\"\")","v":""},null,18,23.4,1.6,0,0,{"$f":"ROUNDDOWN((IF(AA225>0,IFERROR(IF(AVERAGE(DataInput!Q224:Q225)>AVERAGE(AA225,AA224),ROUNDDOWN(((((AA224-Z224)+(AA225-Z225))/2)*(A225-A224))/27+S17+T17,0),IF(((((DataInput!Q225-Z225)+(DataInput!Q224-Z224))/2)*(A225-A224))/27+S17+T17>0,ROUNDDOWN(((((DataInput!Q225-Z224)+(DataInput!Q224-Z224))/2)*(A225-A224))/27+S17+T17,0),0)),0),0)*$X$5),1)","v":0},0,{"$f":"ROUNDDOWN((IF(AC225>0,IFERROR(IF(((((DataInput!Q224-AC224)+(DataInput!Q225-AC225))/2)*(A225-A224))/27+S17+T17>0,ROUNDDOWN(((((DataInput!Q224-AC224)+(DataInput!Q225-AC225))/2)*(A225-A224))/27+S17+T17,0),0),0),0)*$X$5),1)","v":0},{"$f":"DataInput!U224","v":11},{"$f":"DataInput!S224","v":22},30.8,-19.8]
[{"$f":"IF(DataInput!A225<>\"\",DataInput!A225,\"\")","v":85575}]
[]
[{"$f":"IF(DataInput!A227<>\"\",DataInput!A227,\"\")","v":"Sta. 909+07"}]
[{"$f":"IF(DataInput!A228<>\"\",DataInput!A228,\"\")","v":90850},{"$f":"SUM(DataInput!C228,DataInput!Y228)+(DataInput!U228-DataInput!E228)","v":15},{"$f":"SUM(DataInput!D228,DataInput!Z228)","v":10},{"$f":"DataInput!U228","v":5},{"$f":"SUM(DataInput!F228,DataInput!AB228)","v":0},{"$f":"SUM(DataInput!G228,DataInput!AC228)","v":0},{"$f":"SUM(DataInput!H228,DataInput!AD228)","v":0},{"$f":"DataInput!I228","v":0},{"$f":"SUM(DataInput!J228,DataInput!AF228)","v":0},{"$f":"SUM(DataInput!K228,DataInput!AG228)","v":0},{"$f":"SUM(DataInput!L228,DataInput!AH228)","v":0},{"$f":"SUM(DataInput!M228,DataInput!AI228)","v":0},{"$f":"SUM(DataInput!N228,DataInput!AJ228)","v":0},{"$f":"SUM(DataInput!O228,DataInput!AK228)","v":0},{"$f":"DataInput!P228","v":0},null,{"$f":"SUM(C228,E228:G228,I228:L228,N228:P228)","v":10},{"$f":"DataInput!R228","v":4},{"$f":"DataInput!Y228","v":0},{"$f":"IF(DataInput!U228-DataInput!E228>0,DataInput!U228-DataInput!E228,\"\")","v":5},{"$f":"IF(DataInput!W228-DataInput!I228>0,DataInput!W228-DataInput!I228,\"\")","v":""},null,{"$f":"SUM(R228:V228)","v":9},{"$f":"ROUNDUP(($W228*$X$5),1)","v":11.7},{"$f":"ROUNDUP(SUM(Q228-X228),1)","v":-1.7},null,null,{"$f":"ROUNDDOWN((IF(AA229>0,IFERROR(IF(AVERAGE(DataInput!Q228:Q229)>AVERAGE(AA229,AA228),ROUNDDOWN(((((AA228-Z228)+(AA229-Z229))/2)*(A229-A228))/27+S12+T12,0),IF(((((DataInput!Q229-Z229)+(DataInput!Q228-Z228))/2)*(A229-A228))/27+S12+T12>0,ROUNDDOWN(((((DataInput!Q229-Z228)+(DataInput!Q228-Z228))/2)*(A229-A228))/27+S12+T12,0),0)),0),0)*$X$5),1)","v":0},null,{"$f":"ROUNDDOWN((IF(AC229>0,IFERROR(IF(((((DataInput!Q228-AC228)+(DataInput!Q229-AC229))/2)*(A229-A228))/27+S12+T12>0,ROUNDDOWN(((((DataInput!Q228-AC228)+(DataInput!Q229-AC229))/2)*(A229-A228))/27+S12+T12,0),0),0),0)*$X$5),1)","v":0},{"$f":"DataInput!U228","v":5},{"$f":"DataInput!S228","v":11},{"$f":"ROUNDUP((AF228*$AG$5),1)","v":15.4},{"$f":"ROUNDUP((AE228-AG228),1)","v":-10.4}]
[{"$f":"IF(DataInput!A229<>\"\",DataInput!A229,\"\")","v":90875},{"$f":"SUM(DataInput!C229,DataInput!Y229)+(DataInput!U229-DataInput!E229)","v":22},{"$f":"SUM(DataInput!D229,DataInput!Z229)","v":16},{"$f":"DataInput!U229","v":6},{"$f":"SUM(DataInput!F229,DataInput!AB229)","v":0},{"$f":"SUM(DataInput!G229,DataInput!AC229)","v":0},{"$f":"SUM(DataInput!H229,DataInput!AD229)","v":0},{"$f":"DataInput!I229","v":0},{"$f":"SUM(DataInput!J229,DataInput!AF229)","v":0},{"$f":"SUM(DataInput!K229,DataInput!AG229)","v":0},{"$f":"SUM(DataInput!L229,DataInput!AH229)","v":0},{"$f":"SUM(DataInput!M229,DataInput!AI229)","v":0},{"$f":"SUM(DataInput!N229,DataInput!AJ229)","v":0},{"$f":"SUM(DataInput!O229,DataInput!AK229)","v":0},{"$f":"DataInput!P229","v":0},null,{"$f":"SUM(C229,E229:G229,I229:L229,N229:P229)","v":16},{"$f":"DataInput!R229","v":8},{"$f":"DataInput!Y229","v":0},{"$f":"IF(DataInput!U229-DataInput!E229>0,DataInput!U229-DataInput!E229,\"\")","v":6},{"$f":"IF(DataInput!W229-DataInput!I229>0,DataInput!W229-DataInput!I229,\"\")","v":""},null,{"$f":"SUM(R229:V229)","v":14},{"$f":"ROUNDUP(($W229*$X$5),1)","v":18.2},{"$f":"ROUNDUP(SUM(Q229-X229),1)","v":-2.2000000000000002},{"$f":"Z228","v":0},{"$f":"AA228","v":0},{"$f":"ROUNDDOWN((IF(AA230>0,IFERROR(IF(AVERAGE(DataInput!Q229:Q230)>AVERAGE(AA230,AA229),ROUNDDOWN(((((AA229-Z229)+(AA230-Z230))/2)*(A230-A229))/27+S13+T13,0),IF(((((DataInput!Q230-Z230)+(DataInput!Q229-Z229))/2)*(A230-A229))/27+S13+T13>0,ROUNDDOWN(((((DataInput!Q230-Z229)+(DataInput!Q229-Z229))/2)*(A230-A229))/27+S13+T13,0),0)),0),0)*$X$5),1)","v":0},{"$f":"AC228","v":0},{"$f":"ROUNDDOWN((IF(AC230>0,IFERROR(IF(((((DataInput!Q229-AC229)+(DataInput!Q230-AC230))/2)*(A230-A229))/27+S13+T13>0,ROUNDDOWN(((((DataInput!Q229-AC229)+(DataInput!Q230-AC230))/2)*(A230-A229))/27+S13+T13,0),0),0),0)*$X$5),1)","v":0},{"$f":"DataInput!U229","v":6},{"$f":"DataInput!S229","v":15},{"$f":"ROUNDUP((AF229*$AG$5),1)","v":21},{"$f":"ROUNDUP((AE229-AG229),1)","v":-15}]
[{"$f":"IF(DataInput!A230<>\"\",DataInput!A230,\"\")","v":90900},{"$f":"SUM(DataInput!C230,DataInput!Y230)+(DataInput!U230-DataInput!E230)","v":8},{"$f":"SUM(DataInput!D230,DataInput!Z230)","v":6},{"$f":"DataInput!U230","v":2},{"$f":"SUM(DataInput!F230,DataInput!AB230)","v":0},{"$f":"SUM(DataInput!G230,DataInput!AC230)","v":0},{"$f":"SUM(DataInput!H230,DataInput!AD230)","v":0},{"$f":"DataInput!I230","v":0},{"$f":"SUM(DataInput!J230,DataInput!AF230)","v":0},{"$f":"SUM(DataInput!K230,DataInput!AG230)","v":0},{"$f":"SUM(DataInput!L230,DataInput!AH230)","v":0},{"$f":"SUM(DataInput!M230,DataInput!AI230)","v":0},{"$f":"SUM(DataInput!N230,DataInput!AJ230)","v":0},{"$f":"SUM(DataInput!O230,DataInput!AK230)","v":0},{"$f":"DataInput!P230","v":0},null,6,{"$f":"DataInput!R230","v":2},{"$f":"DataInput!Y230","v":0},{"$f":"IF(DataInput!U230-DataInput!E230>0,DataInput!U230-DataInput!E230,\"\")","v":2},{"$f":"IF(DataInput!W230-DataInput!I230>0,DataInput!W230-DataInput!I230,\"\")","v":""},null,4,5.2,0.8,{"$f":"Z229","v":0},{"$f":"AA229","v":0},{"$f":"ROUNDDOWN((IF(AA231>0,IFERROR(IF(AVERAGE(DataInput!Q230:Q231)>AVERAGE(AA231,AA230),ROUNDDOWN(((((AA230-Z230)+(AA231-Z231))/2)*(A231-A230))/27+S14+T14,0),IF(((((DataInput!Q231-Z231)+(DataInput!Q230-Z230))/2)*(A231-A230))/27+S14+T14>0,ROUNDDOWN(((((DataInput!Q231-Z230)+(DataInput!Q230-Z230))/2)*(A231-A230))/27+S14+T14,0),0)),0),0)*$X$5),1)","v":0},{"$f":"AC229","v":0},{"$f":"ROUNDDOWN((IF(AC231>0,IFERROR(IF(((((DataInput!Q230-AC230)+(DataInput!Q231-AC231))/2)*(A231-A230))/27+S14+T14>0,ROUNDDOWN(((((DataInput!Q230-AC230)+(DataInput!Q231-AC231))/2)*(A231-A230))/27+S14+T14,0),0),0),0)*$X$5),1)","v":0},{"$f":"DataInput!U230","v":2},{"$f":"DataInput!S230","v":5},7,-5]
[{"$f":"IF(DataInput!A231<>\"\",DataInput!A231,\"\")","v":90907.199999999997},{"$f":"SUM(DataInput!C231,DataInput!Y231)+(DataInput!U231-DataInput!E231)","v":20},{"$f":"SUM(DataInput!D231,DataInput!Z231)","v":15},{"$f":"DataInput!U231","v":5},{"$f":"SUM(DataInput!F231,DataInput!AB231)","v":0},{"$f":"SUM(DataInput!G231,DataInput!AC231)","v":0},{"$f":"SUM(DataInput!H231,DataInput!AD231)","v":0},{"$f":"DataInput!I231","v":0},{"$f":"SUM(DataInput!J231,DataInput!AF231)","v":0},{"$f":"SUM(DataInput!K231,DataInput!AG231)","v":0},{"$f":"SUM(DataInput!L231,DataInput!AH231)","v":0},{"$f":"SUM(DataInput!M231,DataInput!AI231)","v":0},{"$f":"SUM(DataInput!N231,DataInput!AJ231)","v":0},{"$f":"SUM(DataInput!O231,DataInput!AK231)","v":0},{"$f":"DataInput!P231","v":0},null,15,{"$f":"DataInput!R231","v":6},{"$f":"DataInput!Y231","v":0},{"$f":"IF(DataInput!U231-DataInput!E231>0,DataInput!U231-DataInput!E231,\"\")","v":5},{"$f":"IF(DataInput!W231-DataInput!I231>0,DataInput!W231-DataInput!I231,\"\")","v":""},null,11,14.3,0.7,0,0,{"$f":"ROUNDDOWN((IF(AA232>0,IFERROR(IF(AVERAGE(DataInput!Q231:Q232)>AVERAGE(AA232,AA231),ROUNDDOWN(((((AA231-Z231)+(AA232-Z232))/2)*(A232-A231))/27+S15+T15,0),IF(((((DataInput!Q232-Z232)+(DataInput!Q231-Z231))/2)*(A232-A231))/27+S15+T15>0,ROUNDDOWN(((((DataInput!Q232-Z231)+(DataInput!Q231-Z231))/2)*(A232-A231))/27+S15+T15,0),0)),0),0)*$X$5),1)","v":0},0,{"$f":"ROUNDDOWN((IF(AC232>0,IFERROR(IF(((((DataInput!Q231-AC231)+(DataInput!Q232-AC232))/2)*(A232-A231))/27+S15+T15>0,ROUNDDOWN(((((DataInput!Q231-AC231)+(DataInput!Q232-AC232))/2)*(A232-A231))/27+S15+T15,0),0),0),0)*$X$5),1)","v":0},{"$f":"DataInput!U231","v":5},{"$f":"DataInput!S231","v":12},16.8,-11.8]
[{"$f":"IF(DataInput!A232<>\"\",DataInput!A232,\"\")","v":90925},{"$f":"SUM(DataInput!C232,DataInput!Y232)+(DataInput!U232-DataInput!E232)","v":21},{"$f":"SUM(DataInput!D232,DataInput!Z232)","v":14},{"$f":"DataInput!U232","v":7},{"$f":"SUM(DataInput!F232,DataInput!AB232)","v":0},{"$f":"SUM(DataInput!G232,DataInput!AC232)","v":0},{"$f":"SUM(DataInput!H232,DataInput!AD232)","v":0},{"$f":"DataInput!I232","v":0},{"$f":"SUM(DataInput!J232,DataInput!AF232)","v":0},{"$f":"SUM(DataInput!K232,DataInput!AG232)","v":0},{"$f":"SUM(DataInput!L232,DataInput!AH232)","v":0},{"$f":"SUM(DataInput!M232,DataInput!AI232)","v":0},{"$f":"SUM(DataInput!N232,DataInput!AJ232)","v":0},{"$f":"SUM(DataInput!O232,DataInput!AK232)","v":0},{"$f":"DataInput!P232","v":0},null,14,{"$f":"DataInput!R232","v":8},{"$f":"DataInput!Y232","v":0},{"$f":"IF(DataInput!U232-DataInput!E232>0,DataInput!U232-DataInput!E232,\"\")","v":7},{"$f":"IF(DataInput!W232-DataInput!I232>0,DataInput!W232-DataInput!I232,\"\")","v":""},null,15,19.5,-5.5,0,0,{"$f":"ROUNDDOWN((IF(AA233>0,IFERROR(IF(AVERAGE(DataInput!Q232:Q233)>AVERAGE(AA233,AA232),ROUNDDOWN(((((AA232-Z232)+(AA233-Z233))/2)*(A233-A232))/27+S16+T16,0),IF(((((DataInput!Q233-Z233)+(DataInput!Q232-Z232))/2)*(A233-A232))/27+S16+T16>0,ROUNDDOWN(((((DataInput!Q233-Z232)+(DataInput!Q232-Z232))/2)*(A233-A232))/27+S16+T16,0),0)),0),0)*$X$5),1)","v":0},0,{"$f":"ROUNDDOWN((IF(AC233>0,IFERROR(IF(((((DataInput!Q232-AC232)+(DataInput!Q233-AC233))/2)*(A233-A232))/27+S16+T16>0,ROUNDDOWN(((((DataInput!Q232-AC232)+(DataInput!Q233-AC233))/2)*(A233-A232))/27+S16+T16,0),0),0),0)*$X$5),1)","v":0},{"$f":"DataInput!U232","v":7},{"$f":"DataInput!S232","v":15},21,-14]
[{"$f":"IF(DataInput!A233<>\"\",DataInput!A233,\"\")","v":90950},{"$f":"SUM(DataInput!C233,DataInput!Y233)+(DataInput!U233-DataInput!E233)","v":13},{"$f":"SUM(DataInput!D233,DataInput!Z233)","v":8},{"$f":"DataInput!U233","v":5},{"$f":"SUM(DataInput!F233,DataInput!AB233)","v":0},{"$f":"SUM(DataInput!G233,DataInput!AC233)","v":0},{"$f":"SUM(DataInput!H233,DataInput!AD233)","v":0},{"$f":"DataInput!I233","v":0},{"$f":"SUM(DataInput!J233,DataInput!AF233)","v":0},{"$f":"SUM(DataInput!K233,DataInput!AG233)","v":0},{"$f":"SUM(DataInput!L233,DataInput!AH233)","v":0},{"$f":"SUM(DataInput!M233,DataInput!AI233)","v":0},{"$f":"SUM(DataInput!N233,DataInput!AJ233)","v":0},{"$f":"SUM(DataInput!O233,DataInput!AK233)","v":0},{"$f":"DataInput!P233","v":0},null,8,{"$f":"DataInput!R233","v":4},{"$f":"DataInput!Y233","v":0},{"$f":"IF(DataInput!U233-DataInput!E233>0,DataInput!U233-DataInput!E233,\"\")","v":5},{"$f":"IF(DataInput!W233-DataInput!I233>0,DataInput!W233-DataInput!I233,\"\")","v":""},null,9,11.7,-3.7,0,0,{"$f":"ROUNDDOWN((IF(AA234>0,IFERROR(IF(AVERAGE(DataInput!Q233:Q234)>AVERAGE(AA234,AA233),ROUNDDOWN(((((AA233-Z233)+(AA234-Z234))/2)*(A234-A233))/27+S17+T17,0),IF(((((DataInput!Q234-Z234)+(DataInput!Q233-Z233))/2)*(A234-A233))/27+S17+T17>0,ROUNDDOWN(((((DataInput!Q234-Z233)+(DataInput!Q233-Z233))/2)*(A234-A233))/27+S17+T17,0),0)),0),0)*$X$5),1)","v":0},0,{"$f":"ROUNDDOWN((IF(AC234>0,IFERROR(IF(((((DataInput!Q233-AC233)+(DataInput!Q234-AC234))/2)*(A234-A233))/27+S17+T17>0,ROUNDDOWN(((((DataInput!Q233-AC233)+(DataInput!Q234-AC234))/2)*(A234-A233))/27+S17+T17,0),0),0),0)*$X$5),1)","v":0},{"$f":"DataInput!U233","v":5},{"$f":"DataInput!S233","v":11},15.4,-10.4]
[{"$f":"IF(DataInput!A234<>\"\",DataInput!A234,\"\")","v":90975}]

{"sheet":"User_Calculations","index":3,"n_rows":0,"n_cols":0,"rows_kept":0,"cut":false,"hidden":false,"merged":[]}

{"sheet":"107_28","index":4,"n_rows":4114,"n_cols":194,"rows_kept":4114,"cut":false,"hidden":false,"merged":[[185,1,186,193],[8,185,10,192],[181,132,184,161],[181,162,184,171],[181,172,184,179],[174,161,175,168],[176,121,177,128],[176,129,177,136],[176,177,177,184],[174,177,175,184],[176,65,177,72],[176,73,177,80],[8,153,10,160],[8,161,10,168],[8,169,10,176],[8,177,10,184],[181,73,184,113],[181,114,184,119],[181,15,184,21],[175,2,176,16],[176,89,177,96],[174,105,175,112],[176,49,177,56],[177,2,178,16],[176,41,177,48],[176,113,177,120],[176,97,177,104],[176,105,177,112],[174,17,175,24],[181,1,184,7],[181,31,184,72],[130,185,131,192],[136,185,137,192],[134,185,135,192],[132,185,133,192],[140,185,141,192],[162,185,163,192],[164,185,165,192],[148,185,149,192],[138,161,139,168],[154,185,155,192],[152,169,153,176],[146,161,147,168],[152,177,153,184],[158,185,159,192],[138,185,139,192],[138,153,139,160],[136,177,137,184],[132,177,133,184],[134,153,135,160],[150,185,151,192],[144,185,145,192],[146,177,147,184],[140,169,141,176],[130,177,131,184],[134,177,135,184],[181,22,184,30],[181,8,184,14],[176,17,177,24],[176,25,177,32],[176,33,177,40],[176,57,177,64],[148,145,149,152],[148,129,149,136],[148,137,149,144],[173,2,174,16],[170,25,171,32],[172,89,173,96],[172,97,173,104],[172,105,173,112],[172,49,173,56],[174,113,175,120],[174,25,175,32],[174,41,175,48],[174,49,175,56],[174,57,175,64],[171,2,172,16],[168,25,169,32],[172,17,173,24],[167,2,168,16],[172,25,173,32],[172,73,173,80],[174,97,175,104],[168,89,169,96],[168,65,169,72],[168,73,169,80],[170,73,171,80],[170,49,171,56],[140,177,141,184],[130,161,131,168],[152,153,153,160],[154,169,155,176],[150,161,151,168],[132,153,133,160],[148,153,149,160],[160,169,161,176],[142,169,143,176],[174,169,175,176],[172,161,173,168],[170,129,171,136],[156,137,157,144],[160,137,161,144],[160,145,161,152],[156,153,157,160],[166,177,167,184],[156,177,157,184],[168,177,169,184],[172,177,173,184],[158,161,159,168],[166,169,167,176],[130,137,131,144],[174,129,175,136],[164,177,165,184],[162,177,163,184],[154,177,155,184],[154,161,155,168],[174,137,175,144],[174,145,175,152],[172,153,173,160],[168,129,169,136],[148,161,149,168],[144,145,145,152],[146,153,147,160],[144,153,145,160],[142,177,143,184],[181,120,184,131],[160,185,161,192],[150,145,151,152],[150,153,151,160],[150,121,151,128],[150,129,151,136],[156,185,157,192],[172,129,173,136],[152,121,153,128],[144,177,145,184],[146,169,147,176],[144,169,145,176],[144,161,145,168],[148,177,149,184],[148,169,149,176],[146,145,147,152],[174,153,175,160],[172,113,173,120],[172,121,173,128],[162,169,163,176],[168,153,169,160],[166,161,167,168],[158,177,159,184],[158,169,159,176],[176,185,177,192],[178,17,178,192],[166,49,167,56],[166,57,167,64],[166,33,167,40],[170,81,171,88],[170,113,171,120],[170,105,171,112],[168,57,169,64],[168,105,169,112],[168,113,169,120],[174,33,175,40],[170,153,171,160],[170,121,171,128],[172,81,173,88],[174,81,175,88],[166,185,167,192],[181,180,184,185],[181,186,184,193],[174,185,175,192],[170,185,171,192],[172,185,173,192],[168,185,169,192],[168,169,169,176],[170,177,171,184],[176,81,177,88],[168,33,169,40],[170,57,171,64],[172,57,173,64],[172,65,173,72],[172,41,173,48],[172,33,173,40],[174,89,175,96],[174,65,175,72],[176,169,177,176],[176,137,177,144],[170,145,171,152],[168,81,169,88],[162,73,163,80],[162,81,163,88],[162,137,163,144],[170,65,171,72],[172,169,173,176],[172,137,173,144],[172,145,173,152],[170,169,171,176],[152,145,153,152],[166,113,167,120],[166,73,167,80],[166,81,167,88],[166,89,167,96],[166,97,167,104],[162,161,163,168],[160,153,161,160],[164,161,165,168],[160,161,161,168],[158,145,159,152],[156,145,157,152],[158,153,159,160],[162,153,163,160],[156,81,157,88],[156,89,157,96],[160,73,161,80],[166,129,167,136],[166,121,167,128],[166,65,167,72],[156,121,157,128],[176,145,177,152],[176,153,177,160],[176,161,177,168],[164,169,165,176],[162,145,163,152],[162,121,163,128],[164,137,165,144],[164,89,165,96],[164,121,165,128],[162,65,163,72],[166,145,167,152],[166,153,167,160],[168,97,169,104],[170,161,171,168],[168,161,169,168],[168,145,169,152],[170,137,171,144],[170,89,171,96],[168,121,169,128],[174,73,175,80],[170,97,171,104],[174,121,175,128],[170,33,171,40],[162,105,163,112],[156,105,157,112],[156,113,157,120],[162,41,163,48],[162,49,163,56],[154,89,155,96],[158,17,159,24],[160,17,161,24],[162,17,163,24],[158,137,159,144],[154,129,155,136],[152,17,153,24],[160,129,161,136],[166,41,167,48],[162,89,163,96],[146,105,147,112],[154,121,155,128],[154,105,155,112],[166,105,167,112],[164,25,165,32],[154,49,155,56],[154,17,155,24],[154,57,155,64],[156,73,157,80],[160,97,161,104],[155,2,156,16],[156,17,157,24],[157,2,158,16],[159,2,160,16],[161,2,162,16],[163,2,164,16],[156,57,157,64],[158,81,159,88],[152,73,153,80],[158,49,159,56],[156,65,157,72],[154,25,155,32],[151,2,152,16],[168,137,169,144],[164,33,165,40],[164,41,165,48],[166,17,167,24],[166,25,167,32],[164,49,165,56],[164,57,165,64],[162,57,163,64],[169,2,170,16],[165,2,166,16],[168,17,169,24],[170,17,171,24],[170,41,171,48],[168,49,169,56],[168,41,169,48],[164,17,165,24],[158,25,159,32],[156,33,157,40],[149,2,150,16],[150,25,151,32],[160,25,161,32],[162,25,163,32],[148,49,149,56],[150,89,151,96],[150,97,151,104],[150,105,151,112],[150,33,151,40],[150,41,151,48],[150,49,151,56],[154,33,155,40],[164,73,165,80],[164,81,165,88],[164,113,165,120],[160,81,161,88],[154,97,155,104],[160,89,161,96],[164,65,165,72],[164,97,165,104],[148,41,149,48],[153,2,154,16],[154,65,155,72],[152,97,153,104],[152,105,153,112],[162,129,163,136],[160,65,161,72],[166,137,167,144],[156,41,157,48],[156,25,157,32],[162,33,163,40],[150,17,151,24],[152,89,153,96],[152,65,153,72],[164,105,165,112],[150,113,151,120],[146,129,147,136],[148,113,149,120],[148,121,149,128],[144,25,145,32],[152,161,153,168],[152,129,153,136],[160,177,161,184],[150,57,151,64],[154,81,155,88],[148,57,149,64],[148,65,149,72],[152,137,153,144],[164,129,165,136],[144,97,145,104],[148,81,149,88],[148,89,149,96],[148,97,149,104],[150,169,151,176],[150,177,151,184],[156,161,157,168],[156,169,157,176],[146,49,147,56],[158,121,159,128],[158,129,159,136],[152,49,153,56],[158,57,159,64],[158,65,159,72],[158,97,159,104],[164,153,165,160],[154,153,155,160],[154,145,155,152],[164,145,165,152],[146,65,147,72],[146,25,147,32],[158,89,159,96],[138,105,139,112],[148,73,149,80],[146,57,147,64],[158,73,159,80],[162,113,163,120],[150,73,151,80],[148,17,149,24],[160,121,161,128],[160,49,161,56],[160,57,161,64],[146,89,147,96],[142,73,143,80],[142,105,143,112],[146,97,147,104],[144,73,145,80],[144,89,145,96],[146,33,147,40],[160,113,161,120],[146,121,147,128],[150,81,151,88],[150,65,151,72],[152,57,153,64],[160,33,161,40],[160,41,161,48],[152,113,153,120],[158,33,159,40],[158,41,159,48],[158,105,159,112],[158,113,159,120],[162,97,163,104],[154,73,155,80],[160,105,161,112],[146,17,147,24],[152,25,153,32],[152,33,153,40],[152,41,153,48],[152,185,153,192],[152,81,153,88],[156,97,157,104],[156,129,157,136],[130,169,131,176],[132,97,133,104],[132,65,133,72],[138,177,139,184],[140,89,141,96],[138,113,139,120],[136,129,137,136],[140,153,141,160],[140,161,141,168],[136,153,137,160],[136,137,137,144],[136,65,137,72],[136,73,137,80],[134,145,135,152],[136,145,137,152],[132,137,133,144],[138,137,139,144],[138,145,139,152],[142,129,143,136],[142,121,143,128],[142,113,143,120],[132,121,133,128],[128,57,129,64],[132,25,133,32],[128,145,129,152],[128,137,129,144],[132,105,133,112],[132,113,133,120],[134,121,135,128],[138,33,139,40],[138,41,139,48],[142,33,143,40],[142,41,143,48],[140,113,141,120],[142,153,143,160],[136,57,137,64],[142,89,143,96],[140,97,141,104],[140,105,141,112],[142,97,143,104],[132,81,133,88],[132,73,133,80],[136,33,137,40],[154,137,155,144],[146,73,147,80],[146,81,147,88],[146,137,147,144],[146,113,147,120],[148,105,149,112],[144,105,145,112],[144,113,145,120],[144,121,145,128],[144,129,145,136],[144,137,145,144],[148,33,149,40],[154,41,155,48],[154,113,155,120],[144,81,145,88],[142,185,143,192],[146,185,147,192],[144,33,145,40],[144,49,145,56],[144,41,145,48],[144,57,145,64],[144,65,145,72],[139,2,140,16],[140,17,141,24],[140,25,141,32],[136,41,137,48],[136,49,137,56],[138,49,139,56],[132,41,133,48],[132,49,133,56],[132,169,133,176],[134,161,135,168],[142,65,143,72],[156,49,157,56],[150,137,151,144],[148,25,149,32],[147,2,148,16],[134,137,135,144],[138,81,139,88],[138,89,139,96],[140,145,141,152],[142,145,143,152],[140,121,141,128],[134,169,135,176],[138,121,139,128],[132,161,133,168],[145,2,146,16],[131,2,132,16],[130,57,131,64],[136,17,137,24],[136,25,137,32],[132,17,133,24],[146,41,147,48],[143,2,144,16],[144,17,145,24],[132,129,133,136],[132,33,133,40],[138,65,139,72],[138,73,139,80],[132,145,133,152],[142,17,143,24],[138,17,139,24],[142,161,143,168],[116,17,117,24],[128,153,129,160],[134,17,135,24],[142,49,143,56],[142,57,143,64],[128,121,129,128],[128,33,129,40],[128,129,129,136],[126,137,127,144],[130,105,131,112],[130,113,131,120],[126,105,127,112],[126,113,127,120],[128,105,129,112],[130,81,131,88],[130,89,131,96],[130,97,131,104],[130,145,131,152],[141,2,142,16],[122,145,123,152],[128,41,129,48],[130,33,131,40],[126,169,127,176],[126,49,127,56],[138,169,139,176],[140,49,141,56],[128,177,129,184],[142,25,143,32],[132,57,133,64],[140,65,141,72],[140,73,141,80],[140,81,141,88],[138,57,139,64],[134,57,135,64],[134,65,135,72],[140,129,141,136],[140,137,141,144],[142,137,143,144],[138,129,139,136],[138,97,139,104],[136,169,137,176],[136,161,137,168],[136,97,137,104],[136,105,137,112],[134,89,135,96],[134,97,135,104],[134,105,135,112],[134,113,135,120],[130,153,131,160],[128,73,129,80],[128,89,129,96],[128,97,129,104],[140,33,141,40],[140,41,141,48],[138,25,139,32],[134,25,135,32],[134,49,135,56],[134,33,135,40],[134,41,135,48],[142,81,143,88],[140,57,141,64],[137,2,138,16],[133,2,134,16],[135,2,136,16],[134,73,135,80],[136,81,137,88],[134,81,135,88],[136,121,137,128],[134,129,135,136],[130,65,131,72],[122,121,123,128],[122,49,123,56],[130,129,131,136],[120,185,121,192],[118,145,119,152],[118,153,119,160],[118,169,119,176],[128,169,129,176],[126,57,127,64],[128,81,129,88],[126,185,127,192],[128,185,129,192],[124,185,125,192],[120,177,121,184],[118,177,119,184],[118,185,119,192],[122,185,123,192],[126,177,127,184],[124,177,125,184],[128,161,129,168],[122,65,123,72],[126,81,127,88],[122,81,123,88],[115,2,116,16],[120,65,121,72],[120,73,121,80],[116,49,117,56],[129,2,130,16],[132,89,133,96],[136,89,137,96],[130,17,131,24],[130,25,131,32],[136,113,137,120],[116,25,117,32],[116,33,117,40],[114,97,115,104],[114,105,115,112],[122,89,123,96],[114,81,115,88],[114,89,115,96],[122,73,123,80],[124,73,125,80],[124,81,125,88],[124,89,125,96],[124,97,125,104],[124,105,125,112],[128,113,129,120],[128,49,129,56],[130,41,131,48],[130,49,131,56],[130,73,131,80],[120,89,121,96],[120,97,121,104],[114,121,115,128],[114,129,115,136],[118,33,119,40],[127,2,128,16],[128,17,129,24],[122,177,123,184],[116,153,117,160],[116,41,117,48],[114,137,115,144],[114,153,115,160],[122,129,123,136],[120,57,121,64],[126,89,127,96],[124,113,125,120],[124,121,125,128],[124,137,125,144],[118,121,119,128],[120,81,121,88],[124,129,125,136],[114,169,115,176],[126,73,127,80],[118,41,119,48],[118,81,119,88],[118,89,119,96],[120,105,121,112],[120,113,121,120],[120,121,121,128],[120,49,121,56],[118,65,119,72],[122,41,123,48],[122,113,123,120],[126,121,127,128],[126,129,127,136],[122,57,123,64],[122,137,123,144],[118,57,119,64],[126,25,127,32],[126,33,127,40],[126,41,127,48],[122,25,123,32],[122,33,123,40],[116,113,117,120],[116,121,117,128],[130,121,131,128],[124,57,125,64],[124,41,125,48],[124,49,125,56],[124,65,125,72],[126,65,127,72],[126,97,127,104],[121,2,122,16],[120,17,121,24],[119,2,120,16],[126,145,127,152],[124,145,125,152],[124,153,125,160],[122,169,123,176],[126,153,127,160],[124,161,125,168],[124,169,125,176],[126,161,127,168],[120,169,121,176],[120,161,121,168],[122,161,123,168],[123,2,124,16],[124,17,125,24],[124,25,125,32],[124,33,125,40],[125,2,126,16],[126,17,127,24],[120,25,121,32],[120,33,121,40],[120,153,121,160],[122,105,123,112],[122,97,123,104],[122,153,123,160],[120,145,121,152],[118,105,119,112],[122,17,123,24],[128,25,129,32],[128,65,129,72],[98,185,99,192],[96,185,97,192],[92,153,93,160],[92,185,93,192],[96,153,97,160],[100,153,101,160],[100,105,101,112],[112,185,113,192],[116,169,117,176],[116,89,117,96],[116,97,117,104],[118,129,119,136],[116,145,117,152],[118,97,119,104],[110,129,111,136],[110,137,111,144],[110,145,111,152],[112,105,113,112],[108,49,109,56],[108,161,109,168],[102,177,103,184],[108,185,109,192],[104,185,105,192],[104,169,105,176],[104,177,105,184],[118,73,119,80],[109,2,110,16],[110,17,111,24],[112,33,113,40],[110,25,111,32],[110,33,111,40],[113,2,114,16],[114,17,115,24],[114,25,115,32],[110,105,111,112],[111,2,112,16],[112,17,113,24],[105,2,106,16],[106,17,107,24],[107,2,108,16],[108,17,109,24],[104,89,105,96],[110,57,111,64],[104,57,105,64],[104,81,105,88],[106,73,107,80],[104,105,105,112],[104,41,105,48],[104,33,105,40],[117,2,118,16],[118,17,119,24],[114,33,115,40],[114,49,115,56],[112,41,113,48],[114,41,115,48],[110,49,111,56],[112,25,113,32],[106,137,107,144],[106,105,107,112],[108,105,109,112],[108,113,109,120],[106,65,107,72],[108,57,109,64],[108,129,109,136],[116,185,117,192],[118,113,119,120],[118,137,119,144],[114,177,115,184],[116,177,117,184],[112,97,113,104],[110,41,111,48],[112,161,113,168],[112,49,113,56],[112,57,113,64],[108,65,109,72],[108,73,109,80],[108,81,109,88],[110,113,111,120],[108,97,109,104],[108,121,109,128],[118,25,119,32],[110,185,111,192],[112,89,113,96],[110,169,111,176],[108,169,109,176],[108,177,109,184],[108,145,109,152],[112,177,113,184],[114,145,115,152],[108,33,109,40],[108,41,109,48],[110,73,111,80],[110,81,111,88],[110,89,111,96],[114,185,115,192],[114,113,115,120],[120,41,121,48],[118,49,119,56],[120,129,121,136],[120,137,121,144],[116,81,117,88],[112,169,113,176],[118,161,119,168],[116,105,117,112],[116,161,117,168],[116,65,117,72],[116,73,117,80],[114,57,115,64],[114,65,115,72],[114,161,115,168],[116,129,117,136],[116,137,117,144],[116,57,117,64],[112,73,113,80],[112,121,113,128],[112,129,113,136],[112,81,113,88],[112,113,113,120],[114,73,115,80],[86,185,87,192],[92,89,93,96],[100,81,101,88],[100,89,101,96],[102,169,103,176],[110,97,111,104],[110,153,111,160],[110,177,111,184],[110,65,111,72],[106,169,107,176],[104,153,105,160],[104,161,105,168],[110,161,111,168],[102,153,103,160],[108,89,109,96],[104,97,105,104],[106,161,107,168],[104,113,105,120],[104,121,105,128],[106,153,107,160],[104,137,105,144],[104,129,105,136],[100,161,101,168],[106,177,107,184],[102,161,103,168],[98,161,99,168],[100,113,101,120],[94,89,95,96],[100,137,101,144],[100,121,101,128],[103,2,104,16],[102,65,103,72],[98,57,99,64],[98,65,99,72],[98,73,99,80],[98,81,99,88],[91,2,92,16],[101,2,102,16],[102,33,103,40],[102,41,103,48],[100,33,101,40],[96,17,97,24],[102,97,103,104],[92,145,93,152],[100,145,101,152],[104,145,105,152],[102,17,103,24],[102,25,103,32],[94,17,95,24],[96,89,97,96],[92,25,93,32],[92,33,93,40],[96,25,97,32],[98,25,99,32],[94,41,95,48],[96,105,97,112],[94,145,95,152],[98,105,99,112],[98,113,99,120],[94,73,95,80],[100,49,101,56],[100,57,101,64],[106,185,107,192],[98,145,99,152],[106,25,107,32],[106,33,107,40],[108,25,109,32],[108,153,109,160],[112,153,113,160],[100,41,101,48],[100,73,101,80],[112,145,113,152],[104,49,105,56],[100,97,101,104],[104,17,105,24],[104,25,105,32],[106,41,107,48],[106,49,107,56],[106,57,107,64],[106,121,107,128],[110,121,111,128],[100,17,101,24],[100,25,101,32],[106,113,107,120],[108,137,109,144],[106,129,107,136],[104,65,105,72],[104,73,105,80],[112,137,113,144],[112,65,113,72],[102,137,103,144],[102,145,103,152],[102,105,103,112],[102,113,103,120],[102,121,103,128],[102,129,103,136],[100,185,101,192],[100,177,101,184],[100,169,101,176],[102,185,103,192],[106,145,107,152],[106,81,107,88],[106,89,107,96],[106,97,107,104],[89,2,90,16],[90,17,91,24],[90,25,91,32],[93,2,94,16],[95,2,96,16],[97,2,98,16],[99,2,100,16],[96,41,97,48],[92,113,93,120],[94,97,95,104],[92,97,93,104],[92,41,93,48],[92,65,93,72],[90,73,91,80],[90,81,91,88],[90,89,91,96],[88,41,89,48],[86,41,87,48],[100,65,101,72],[100,129,101,136],[102,57,103,64],[94,129,95,136],[102,73,103,80],[102,81,103,88],[102,89,103,96],[102,49,103,56],[96,129,97,136],[96,145,97,152],[98,121,99,128],[96,137,97,144],[96,73,97,80],[94,177,95,184],[94,49,95,56],[94,81,95,88],[96,81,97,88],[96,169,97,176],[98,153,99,160],[88,113,89,120],[88,153,89,160],[94,161,95,168],[96,113,97,120],[96,121,97,128],[86,17,87,24],[96,33,97,40],[90,33,91,40],[94,153,95,160],[92,137,93,144],[98,137,99,144],[94,25,95,32],[94,33,95,40],[98,169,99,176],[98,177,99,184],[96,177,97,184],[92,17,93,24],[96,161,97,168],[94,121,95,128],[98,17,99,24],[88,89,89,96],[86,137,87,144],[86,33,87,40],[86,25,87,32]],"merged_total":37287,"flags":["merged_cut"]}
[]
[]
[null,null,null,null,null,null,null,null,null,null,null,null,null,null,null,null,null,null,null,null,null,null,null,null,null,"",null,null,null,null,null,null,null,"",null,null,null,null,null,null,null,"",null,null,null,null,null,null,null,"",null,null,null,null,null,null,null,"",null,null,null,null,null,null,null,"",null,null,null,null,null,null,null,"",null,null,null,null,null,null,null,"",null,null,null,null,null,null,null,null,null,null,null,null,null,null,null,"",null,null,null,null,null,null,null,"",null,null,null,null,null,null,null,null,null,null,null,null,null,null,null,"",null,null,null,null,null,null,null,null,null,null,null,null,null,null,null,null,"",null,null,null,null,null,null,null,null,null,null,null,null,null,null,"",null,null,null,null,null,null,null,null,null,null,null,null,null,null,null,"",null,null,null,null,null,null,null,"",null,null,null,null,null,null,null,"",null,null,null,null,null,null,null,""]
[]
[null,null,"Refer to Standard Road Plans EW-101 and EW-102.",null,null,null,null,null,null,null,null,null,null,null,null,null,null,null,null,null,null,null,null,null,null,null,null,null,null,null,null,null,null,null,null,null,null,null,null,null,null,null,null,null,null,null,null,null,null,null,null,null,null,null,null,null,null,null,"TABULATION OF TEMPLATE QUANTITIES AND ADJUSTMENTS",null,null,null,null,null,null,null,null,null,null,null,null,null,null,null,null,null,null,null,null,null,null,null,null,null,null,null,null,null,null,null,null,null,null,null,null,null,null,null,null,null,null,null,null,null,null,null,null,null,null,null,null,null,null,null,null,null,null,null,null,null,null,null,null,null,null,null,null,null,null,null,null,null,null,null,null,null,null,"107-28"]
[]
[null,null,null,null,null,null,null,null,null,null,null,null,null,null,null,null,null,null,null,null,null,null,null,null,null,null,null,null,null,null,null,null,null,null,null,null,null,null,null,null,null,null,null,null,null,null,null,null,null,null,null,null,null,null,null,null,null,null,null,null,null,null,null,null,null,null,null,null,null,null,null,null,null,null,null,null,null,null,null,null,null,null,null,null,null,null,null,null,null,null,null,null,null,null,null,null,null,null,null,null,null,null,null,null,null,null,null,null,null,null,null,null,null,null,null,null,null,null,null,null,null,null,null,null,null,null,null,null,null,null,null,null,null,null,null,null,null,"2015-04-21"]
[]
[null,null,null,null,null,null,null,null,null,null,null,null,null,null,null,null,null,"Cut",null,null,null,null,null,null,null,null,null,null,null,null,null,null,null,null,null,null,null,null,null,null,null,null,null,null,null,null,null,null,null,null,null,null,null,null,null,null,null,"Fill",null,null,null,null,null,null,null,null,null,null,null,null,null,null,null,null,null,null,null,null,null,null,null,null,null,null,null,null,null,null,null,null,null,null,null,null,null,null,null,null,null,null,null,null,null,null,null,"Checks (EW-102)",null,null,null,null,null,null,null,null,null,null,null,null,null,null,null,"Topsoil"]
[]
[]
[null,null,null,null,null,null,null,null,null,null,null,null,null,null,null,null,null,"[1]",null,null,null,null,null,null,null,"[2]",null,null,null,null,null,null,null,"[3]",null,null,null,null,null,null,null,"[4]",null,null,null,null,null,null,null,"[5]",null,null,null,null,null,null,null,"[6]",null,null,null,null,null,null,null,"[7]",null,null,null,null,null,null,null,"[8]",null,null,null,null,null,null,null,"[9]",null,null,null,null,null,null,null,"[10]",null,null,null,null,null,null,null,"[11]",null,null,null,null,null,null,null,"[12]",null,null,null,null,null,null,null,"[13]",null,null,null,null,null,null,null,"[14]",null,null,null,null,null,null,null,"[15]",null,null,null,null,null,null,null,"[16]",null,null,null,null,null,null,null,"[17]",null,null,null,null,null,null,null,"[18]",null,null,null,null,null,null,null,"[19]",null,null,null,null,null,null,null,"[20]",null,null,null,null,null,null,null,"[21]",null,null,null,null,null,null,null,"[22]"]
[]
[]
[]
[]
[]
[]
[null,null,"Station",null,null,null,null,null,null,null,null,null,null,null,null,null,null,"Total Cut Unadjusted\n\nVolume",null,null,null,null,null,null,null,"Total Class 10\nUnadjusted\n\nVolume",null,null,null,null,null,null,null,"Topsoil Cut\n\nVolume",null,null,null,null,null,null,null,"Manually\nCalculated Cut\nAdjustments\n(+/- Cut)",null,null,null,null,null,null,null,"Total\nCut\nAdjusted",null,null,null,null,null,null,null,"Total Fill\nUnadjusted\n\nVolume",null,null,null,null,null,null,null,"Existing Topsoil\nStripping\nUndercut\n(+ Fill)",null,null,null,null,null,null,null,"Manual\nCalculated Fill\nAdjustments\n(+/- Fill)",null,null,null,null,null,null,null,"Total\nFill\nAdjusted",null,null,null,null,null,null,null,"Total Fill\n Adjusted w/\nWeighted Average\n1.3  Shrink Factor",null,null,null,null,null,null,null,"Total Cut Adjusted\nMinus Fill w/ Shrink",null,null,null,null,null,null,null,"Approx. Fill Vol.\nBelow 5' & Above\n20' w/ Shrink",null,null,null,null,null,null,null,"Approx. Fill\nVolume Below 3'\nw/ Shrink",null,null,null,null,null,null,null,"Topsoil\nStripping Undercut\nVolume",null,null,null,null,null,null,null,"Topsoil\nPlacement\nUndercut\nVolume",null,null,null,null,null,null,null,"Topsoil Placement\nWith 1.4 Shrink\nFactor",null,null,null,null,null,null,null,"Topsoil Stripping\nMinus Topsoil\nPlacement\nw/Shrink"]
[]
[]
[]
[]
[]
[]
[]
[]
[]
[]
[]
[]
[]
[]
[]
[]
[]
[]
[null,null,"Sta.80+13"]
[]
[null,null,7978.13]
[null,null,null,null,null,null,null,null,null,null,null,null,null,null,null,null,null,98,null,null,null,null,null,null,null,89,null,null,null,null,null,null,null,9,null,null,null,null,null,null,null,null,null,null,null,null,null,null,null,89,null,null,null,null,null,null,null,1,null,null,null,null,null,null,null,9,null,null,null,null,null,null,null,null,null,null,null,null,null,null,null,10,null,null,null,null,null,null,null,13,null,null,null,null,null,null,null,76,null,null,null,null,null,null,null,0,null,null,null,null,null,null,null,0,null,null,null,null,null,null,null,9,null,null,null,null,null,null,null,0,null,null,null,null,null,null,null,0,null,null,null,null,null,null,null,9]
[null,null,8000]
[null,null,null,null,null,null,null,null,null,null,null,null,null,null,null,null,null,74,null,null,null,null,null,null,null,65,null,null,null,null,null,null,null,9,null,null,null,null,null,null,null,null,null,null,null,null,null,null,null,65,null,null,null,null,null,null,null,2,null,null,null,null,null,null,null,9,null,null,null,null,null,null,null,null,null,null,null,null,null,null,null,11,null,null,null,null,null,null,null,14.3,null,null,null,null,null,null,null,50.7,null,null,null,null,null,null,null,0,null,null,null,null,null,null,null,0,null,null,null,null,null,null,null,9,null,null,null,null,null,null,null,17,null,null,null,null,null,null,null,23.8,null,null,null,null,null,null,null,-14.8]
[null,null,8013.55]
[null,null,null,null,null,null,null,null,null,null,null,null,null,null,null,null,null,78,null,null,null,null,null,null,null,67,null,null,null,null,null,null,null,11,null,null,null,null,null,null,null,280,null,null,null,null,null,null,null,347,null,null,null,null,null,null,null,4,null,null,null,null,null,null,null,11,null,null,null,null,null,null,null,12,null,null,null,null,null,null,null,27,null,null,null,null,null,null,null,35.1,null,null,null,null,null,null,null,311.89999999999998,null,null,null,null,null,null,null,0,null,null,null,null,null,null,null,0,null,null,null,null,null,null,null,11,null,null,null,null,null,null,null,24,null,null,null,null,null,null,null,33.6,null,null,null,null,null,null,null,-22.6]
[null,null,8025]
[null,null,null,null,null,null,null,null,null,null,null,null,null,null,null,null,null,130,null,null,null,null,null,null,null,109,null,null,null,null,null,null,null,21,null,null,null,null,null,null,null,null,null,null,null,null,null,null,null,109,null,null,null,null,null,null,null,11,null,null,null,null,null,null,null,21,null,null,null,null,null,null,null,null,null,null,null,null,null,null,null,32,null,null,null,null,null,null,null,41.6,null,null,null,null,null,null,null,67.400000000000006,null,null,null,null,null,null,null,0,null,null,null,null,null,null,null,0,null,null,null,null,null,null,null,21,null,null,null,null,null,null,null,42,null,null,null,null,null,null,null,58.8,null,null,null,null,null,null,null,-37.799999999999997]
[null,null,8050]
[null,null,null,null,null,null,null,null,null,null,null,null,null,null,null,null,null,91,null,null,null,null,null,null,null,71,null,null,null,null,null,null,null,20,null,null,null,null,null,null,null,null,null,null,null,null,null,null,null,71,null,null,null,null,null,null,null,12,null,null,null,null,null,null,null,20,null,null,null,null,null,null,null,null,null,null,null,null,null,null,null,32,null,null,null,null,null,null,null,41.6,null,null,null,null,null,null,null,29.4,null,null,null,null,null,null,null,0,null,null,null,null,null,null,null,0,null,null,null,null,null,null,null,20,null,null,null,null,null,null,null,37,null,null,null,null,null,null,null,51.8,null,null,null,null,null,null,null,-31.8]
[null,null,8075]
[null,null,null,null,null,null,null,null,null,null,null,null,null,null,null,null,null,50,null,null,null,null,null,null,null,38,null,null,null,null,null,null,null,12,null,null,null,null,null,null,null,null,null,null,null,null,null,null,null,38,null,null,null,null,null,null,null,9,null,null,null,null,null,null,null,12,null,null,null,null,null,null,null,null,null,null,null,null,null,null,null,21,null,null,null,null,null,null,null,27.3,null,null,null,null,null,null,null,10.7,null,null,null,null,null,null,null,0,null,null,null,null,null,null,null,0,null,null,null,null,null,null,null,12,null,null,null,null,null,null,null,23,null,null,null,null,null,null,null,32.200000000000003,null,null,null,null,null,null,null,-20.2]
[null,null,8100]
[]
[null,null,"Sta.80+13"]
[]
[null,null,"Totals:"]
[null,null,null,null,null,null,null,null,null,null,null,null,null,null,null,null,null,521,null,null,null,null,null,null,null,439,null,null,null,null,null,null,null,82,null,null,null,null,null,null,null,280,null,null,null,null,null,null,null,719,null,null,null,null,null,null,null,39,null,null,null,null,null,null,null,82,null,null,null,null,null,null,null,12,null,null,null,null,null,null,null,133,null,null,null,null,null,null,null,173,null,null,null,null,null,null,null,547,null,null,null,null,null,null,null,0,null,null,null,null,null,null,null,0,null,null,null,null,null,null,null,82,null,null,null,null,null,null,null,143,null,null,null,null,null,null,null,201,null,null,null,null,null,null,null,-119]
[]
[]
[]
[null,null,null,null,null,null,null,null,null,null,null,null,null,null,null,null,null,"Excavation, Class 10, Roadway & Borrow"]
[]
[null,null,null,null,null,null,null,null,null,null,null,null,null,null,null,null,null,null,null,null,null,null,null,null,null,null,null,null,null,null,null,null,null,null,null,null,null,null,null,null,null,173,null,null,null,null,null,null,null,"CY"]
[]
[]
[]
[null,null,null,null,null,null,null,null,null,null,null,null,null,null,null,null,null,"Excavation, Class 10, Waste"]
[]
[null,null,null,null,null,null,null,null,null,null,null,null,null,null,null,null,null,null,null,null,null,null,null,null,null,null,null,null,null,null,null,null,null,null,null,null,null,null,null,null,null,547,null,null,null,null,null,null,null,"CY"]
[]
[]
[]
[null,null,null,null,null,null,null,null,null,null,null,null,null,null,null,null,null,"Topsoil, Strip, Salvage, & Spread"]
[]
[null,null,null,null,null,null,null,null,null,null,null,null,null,null,null,null,null,null,null,null,null,null,null,null,null,null,null,null,null,null,null,null,null,null,null,null,null,null,null,null,null,82,null,null,null,null,null,null,null,"CY"]
[]
[]
[]
[null,null,null,null,null,null,null,null,null,null,null,null,null,null,null,null,null,"Topsoil, Furnish & Spread"]
[]
[null,null,null,null,null,null,null,null,null,null,null,null,null,null,null,null,null,null,null,null,null,null,null,null,null,null,null,null,null,null,null,null,null,null,null,null,null,null,null,null,null,85,null,null,null,null,null,null,null,"CY"]
[]
[]
[]
[]
[]
[]
[]
[]
[]
[]
[]
[]
[]
[]
[]
[]
[]
[]
[]
[]
[]
[]
[]
[]
[]
[]
[]
[]
[]
[]
[]
[]
[]
[]
[]
[]
[]
[]
[]
[]
[]
[]
[]
[]
[]
[]
[]
[]
[]
[]
[]
[]
[]
[]
[]
[]
[]
[]
[]
[]
[]
[]
[]
[]
[]
[]
[]
[]
[]
[]
[]
[]
[]
[]
[]
[]
[]
[]
[]
[]
[]
[]
[]
[]
[]
[]
[]
[]
[]
[]
[]
[]
[]
[]
[]
[]
[]
[]
[null,"",103550]
[]
[null,"FILE NO.",null,null,null,null,null,null,{"$f":"IF(ProjectInformation!$B$12<>\"\",ProjectInformation!$B$12,\"\")","v":""},null,null,null,null,null,null,{"$f":"UPPER(ProjectInformation!$B$8)","v":"ENGLISH"},null,null,null,null,null,null,"DESIGN TEAM",null,null,null,null,null,null,null,null,{"$f":"IF(AND(ProjectInformation!$B$3<>\"\",ProjectInformation!$B$4<>\"\",ProjectInformation!$B$5<>\"\"),ProjectInformation!$B$3&\"\\\"&ProjectInformation!$B$4&\"\\\"&ProjectInformation!$B$5,IF(AND(ProjectInformation!$B$3<>\"\",ProjectInformation!$B$4<>\"\"),ProjectInformation!$B$3&\"\\\"&ProjectInformation!$B$4,IF(ProjectInformation!$B$3<>\"\",ProjectInformation!$B$3,\"\")))","v":"WHKS & CO."},null,null,null,null,null,null,null,null,null,null,null,null,null,null,null,null,null,null,null,null,null,null,null,null,null,null,null,null,null,null,null,null,null,null,null,null,null,null,null,null,null,{"$f":"IF(ProjectInformation!$B$6<>\"\",ProjectInformation!$B$6,\"\")","v":"CLINTON"},null,null,null,null,null,null,null,null,null,null,null,null,null,null,null,null,null,null,null,null,null,null,null,null,null,null,null,null,null,null,null,null,null,null,null,null,null,null,null,null,"COUNTY",null,null,null,null,null,"PROJECT NUMBER",null,null,null,null,null,null,null,null,null,null,null,{"$f":"IF(ProjectInformation!$B$7<>\"\",ProjectInformation!$B$7,\"\")","v":"STPN-136-1(73)--2J-23"},null,null,null,null,null,null,null,null,null,null,null,null,null,null,null,null,null,null,null,null,null,null,null,null,null,null,null,null,null,"SHEET NUMBER",null,null,null,null,null,null,null,null,null,"T.1",null,null,null,null,null,null,null,{"$f":"IF(GE182<>\"\",\"REVISED\",\"\")","v":""},null,null,null,null,null,{"$f":"IF(ProjectInformation!$B$9<>\"\",ProjectInformation!$B$9,\"\")","v":""}]
[]
[]
[]
[null,"10/29/2019     9:35:09 AM     bchezick     K:\\7805\\SA26 701BT Clinton Culverts\\Design\\DE Sheets\\2313601013t01 (2).xlsm"]
[""]
[]
[]
[null,null,null,null,null,null,null,null,null,null,null,null,null,null,null,null,null,null,null,null,null,null,null,null,null,"",null,null,null,null,null,null,null,"",null,null,null,null,null,null,null,"",null,null,null,null,null,null,null,"",null,null,null,null,null,null,null,"",null,null,null,null,null,null,null,"",null,null,null,null,null,null,null,"",null,null,null,null,null,null,null,"",null,null,null,null,null,null,null,null,null,null,null,null,null,null,null,"",null,null,null,null,null,null,null,"",null,null,null,null,null,null,null,null,null,null,null,null,null,null,null,"",null,null,null,null,null,null,null,null,null,null,null,null,null,null,null,null,"",null,null,null,null,null,null,null,null,null,null,null,null,null,null,"",null,null,null,null,null,null,null,null,null,null,null,null,null,null,null,"",null,null,null,null,null,null,null,"",null,null,null,null,null,null,null,"",null,null,null,null,null,null,null,""]
[]
[null,null,"Refer to Standard Road Plans EW-101 and EW-102.",null,null,null,null,null,null,null,null,null,null,null,null,null,null,null,null,null,null,null,null,null,null,null,null,null,null,null,null,null,null,null,null,null,null,null,null,null,null,null,null,null,null,null,null,null,null,null,null,null,null,null,null,null,null,null,"TABULATION OF TEMPLATE QUANTITIES AND ADJUSTMENTS",null,null,null,null,null,null,null,null,null,null,null,null,null,null,null,null,null,null,null,null,null,null,null,null,null,null,null,null,null,null,null,null,null,null,null,null,null,null,null,null,null,null,null,null,null,null,null,null,null,null,null,null,null,null,null,null,null,null,null,null,null,null,null,null,null,null,null,null,null,null,null,null,null,null,null,null,null,null,"107-28"]
[]
[null,null,null,null,null,null,null,null,null,null,null,null,null,null,null,null,null,null,null,null,null,null,null,null,null,null,null,null,null,null,null,null,null,null,null,null,null,null,null,null,null,null,null,null,null,null,null,null,null,null,null,null,null,null,null,null,null,null,null,null,null,null,null,null,null,null,null,null,null,null,null,null,null,null,null,null,null,null,null,null,null,null,null,null,null,null,null,null,null,null,null,null,null,null,null,null,null,null,null,null,null,null,null,null,null,null,null,null,null,null,null,null,null,null,null,null,null,null,null,null,null,null,null,null,null,null,null,null,null,null,null,null,null,null,null,null,null,"2015-04-21"]
[]
[null,null,null,null,null,null,null,null,null,null,null,null,null,null,null,null,null,"Cut",null,null,null,null,null,null,null,null,null,null,null,null,null,null,null,null,null,null,null,null,null,null,null,null,null,null,null,null,null,null,null,null,null,null,null,null,null,null,null,"Fill",null,null,null,null,null,null,null,null,null,null,null,null,null,null,null,null,null,null,null,null,null,null,null,null,null,null,null,null,null,null,null,null,null,null,null,null,null,null,null,null,null,null,null,null,null,null,null,"Checks (EW-102)",null,null,null,null,null,null,null,null,null,null,null,null,null,null,null,"Topsoil"]
[]
[]
[null,null,null,null,null,null,null,null,null,null,null,null,null,null,null,null,null,"[1]",null,null,null,null,null,null,null,"[2]",null,null,null,null,null,null,null,"[3]",null,null,null,null,null,null,null,"[4]",null,null,null,null,null,null,null,"[5]",null,null,null,null,null,null,null,"[6]",null,null,null,null,null,null,null,"[7]",null,null,null,null,null,null,null,"[8]",null,null,null,null,null,null,null,"[9]",null,null,null,null,null,null,null,"[10]",null,null,null,null,null,null,null,"[11]",null,null,null,null,null,null,null,"[12]",null,null,null,null,null,null,null,"[13]",null,null,null,null,null,null,null,"[14]",null,null,null,null,null,null,null,"[15]",null,null,null,null,null,null,null,"[16]",null,null,null,null,null,null,null,"[17]",null,null,null,null,null,null,null,"[18]",null,null,null,null,null,null,null,"[19]",null,null,null,null,null,null,null,"[20]",null,null,null,null,null,null,null,"[21]",null,null,null,null,null,null,null,"[22]"]
[]
[]
[null,null,null,null,null,null,null,null,null,null,null,null,null,null,null,null,null,{"$f":"IF('107_28'!$R$15<>\"\",'107_28'!$R$15,\"\")","v":""},null,null,null,null,null,null,null,{"$f":"IF('107_28'!$Z$15<>\"\",'107_28'!$Z$15,\"\")","v":""},null,null,null,null,null,null,null,{"$f":"IF('107_28'!$AH$15<>\"\",'107_28'!$AH$15,\"\")","v":""},null,null,null,null,null,null,null,{"$f":"IF('107_28'!$AP$15<>\"\",'107_28'!$AP$15,\"\")","v":""},null,null,null,null,null,null,null,{"$f":"IF('107_28'!$AX$15<>\"\",'107_28'!$AX$15,\"\")","v":""},null,null,null,null,null,null,null,{"$f":"IF('107_28'!$BF$15<>\"\",'107_28'!$BF$15,\"\")","v":""},null,null,null,null,null,null,null,{"$f":"IF('107_28'!$BN$15<>\"\",'107_28'!$BN$15,\"\")","v":""},null,null,null,null,null,null,null,{"$f":"IF('107_28'!$BV$15<>\"\",'107_28'!$BV$15,\"\")","v":""},null,null,null,null,null,null,null,{"$f":"IF('107_28'!$CD$15<>\"\",'107_28'!$CD$15,\"\")","v":""},null,null,null,null,null,null,null,{"$f":"IF('107_28'!$CL$15<>\"\",'107_28'!$CL$15,\"\")","v":""},null,null,null,null,null,null,null,{"$f":"IF('107_28'!$CT$15<>\"\",'107_28'!$CT$15,\"\")","v":""},null,null,null,null,null,null,null,{"$f":"IF('107_28'!$DB$15<>\"\",'107_28'!$DB$15,\"\")","v":""},null,null,null,null,null,null,null,{"$f":"IF('107_28'!$DJ$15<>\"\",'107_28'!$DJ$15,\"\")","v":""},null,null,null,null,null,null,null,{"$f":"IF('107_28'!$DR$15<>\"\",'107_28'!$DR$15,\"\")","v":""},null,null,null,null,null,null,null,{"$f":"IF('107_28'!$DZ$15<>\"\",'107_28'!$DZ$15,\"\")","v":""},null,null,null,null,null,null,null,{"$f":"IF('107_28'!$EH$15<>\"\",'107_28'!$EH$15,\"\")","v":""},null,null,null,null,null,null,null,{"$f":"IF('107_28'!$EP$15<>\"\",'107_28'!$EP$15,\"\")","v":""},null,null,null,null,null,null,null,{"$f":"IF('107_28'!$EX$15<>\"\",'107_28'!$EX$15,\"\")","v":""},null,null,null,null,null,null,null,{"$f":"IF('107_28'!$FF$15<>\"\",'107_28'!$FF$15,\"\")","v":""},null,null,null,null,null,null,null,{"$f":"IF('107_28'!$FN$15<>\"\",'107_28'!$FN$15,\"\")","v":""},null,null,null,null,null,null,null,{"$f":"IF('107_28'!$FV$15<>\"\",'107_28'!$FV$15,\"\")","v":""},null,null,null,null,null,null,null,{"$f":"IF('107_28'!$GD$15<>\"\",'107_28'!$GD$15,\"\")","v":""}]
[]
[]
[]
[null,null,"Station",null,null,null,null,null,null,null,null,null,null,null,null,null,null,"Total Cut Unadjusted\n\nVolume",null,null,null,null,null,null,null,"Total Class 10\nUnadjusted\n\nVolume",null,null,null,null,null,null,null,"Topsoil Cut\n\nVolume",null,null,null,null,null,null,null,"Manually\nCalculated Cut\nAdjustments\n(+/- Cut)",null,null,null,null,null,null,null,"Total\nCut\nAdjusted",null,null,null,null,null,null,null,"Total Fill\nUnadjusted\n\nVolume",null,null,null,null,null,null,null,"Existing Topsoil\nStripping\nUndercut\n(+ Fill)",null,null,null,null,null,null,null,"Manual\nCalculated Fill\nAdjustments\n(+/- Fill)",null,null,null,null,null,null,null,"Total\nFill\nAdjusted",null,null,null,null,null,null,null,"Total Fill\n Adjusted w/\nWeighted Average\n1.3  Shrink Factor",null,null,null,null,null,null,null,"Total Cut Adjusted\nMinus Fill w/ Shrink",null,null,null,null,null,null,null,"Approx. Fill Vol.\nBelow 5' & Above\n20' w/ Shrink",null,null,null,null,null,null,null,"Approx. Fill\nVolume Below 3'\nw/ Shrink",null,null,null,null,null,null,null,"Topsoil\nStripping Undercut\nVolume",null,null,null,null,null,null,null,"Topsoil\nPlacement\nUndercut\nVolume",null,null,null,null,null,null,null,"Topsoil Placement\nWith 1.4 Shrink\nFactor",null,null,null,null,null,null,null,"Topsoil Stripping\nMinus Topsoil\nPlacement\nw/Shrink"]
[]
[]
[]
[]
[]
[]
[]
[]
[]
[]
[]
[]
[]
[]
[]
[]
[]
[]
[null,null,"Sta.96+34"]
[]
[null,null,9550]
[null,null,null,null,null,null,null,null,null,null,null,null,null,null,null,null,null,24,null,null,null,null,null,null,null,13,null,null,null,null,null,null,null,11,null,null,null,null,null,null,null,null,null,null,null,null,null,null,null,13,null,null,null,null,null,null,null,15,null,null,null,null,null,null,null,11,null,null,null,null,null,null,null,null,null,null,null,null,null,null,null,26,null,null,null,null,null,null,null,33.799999999999997,null,null,null,null,null,null,null,-20.8,null,null,null,null,null,null,null,0,null,null,null,null,null,null,null,0,null,null,null,null,null,null,null,11,null,null,null,null,null,null,null,22,null,null,null,null,null,null,null,30.8,null,null,null,null,null,null,null,-19.8]
[null,null,9575]
[null,null,null,null,null,null,null,null,null,null,null,null,null,null,null,null,null,38,null,null,null,null,null,null,null,22,null,null,null,null,null,null,null,16,null,null,null,null,null,null,null,null,null,null,null,null,null,null,null,22,null,null,null,null,null,null,null,27,null,null,null,null,null,null,null,16,null,null,null,null,null,null,null,null,null,null,null,null,null,null,null,43,null,null,null,null,null,null,null,55.9,null,null,null,null,null,null,null,-33.9,null,null,null,null,null,null,null,0,null,null,null,null,null,null,null,0,null,null,null,null,null,null,null,16,null,null,null,null,null,null,null,32,null,null,null,null,null,null,null,44.8,null,null,null,null,null,null,null,-28.8]
[null,null,9600]
[null,null,null,null,null,null,null,null,null,null,null,null,null,null,null,null,null,54,null,null,null,null,null,null,null,34,null,null,null,null,null,null,null,20,null,null,null,null,null,null,null,null,null,null,null,null,null,null,null,34,null,null,null,null,null,null,null,50,null,null,null,null,null,null,null,20,null,null,null,null,null,null,null,null,null,null,null,null,null,null,null,70,null,null,null,null,null,null,null,91,null,null,null,null,null,null,null,-57,null,null,null,null,null,null,null,0,null,null,null,null,null,null,null,0,null,null,null,null,null,null,null,20,null,null,null,null,null,null,null,40,null,null,null,null,null,null,null,56,null,null,null,null,null,null,null,-36]
[null,null,9625]
[null,null,null,null,null,null,null,null,null,null,null,null,null,null,null,null,null,26,null,null,null,null,null,null,null,18,null,null,null,null,null,null,null,8,null,null,null,null,null,null,null,null,null,null,null,null,null,null,null,18,null,null,null,null,null,null,null,23,null,null,null,null,null,null,null,8,null,null,null,null,null,null,null,null,null,null,null,null,null,null,null,31,null,null,null,null,null,null,null,40.299999999999997,null,null,null,null,null,null,null,-22.3,null,null,null,null,null,null,null,0,null,null,null,null,null,null,null,0,null,null,null,null,null,null,null,8,null,null,null,null,null,null,null,17,null,null,null,null,null,null,null,23.8,null,null,null,null,null,null,null,-15.8]
[null,null,9634]
[null,null,null,null,null,null,null,null,null,null,null,null,null,null,null,null,null,48,null,null,null,null,null,null,null,34,null,null,null,null,null,null,null,14,null,null,null,null,null,null,null,null,null,null,null,null,null,null,null,34,null,null,null,null,null,null,null,34,null,null,null,null,null,null,null,14,null,null,null,null,null,null,null,null,null,null,null,null,null,null,null,48,null,null,null,null,null,null,null,62.4,null,null,null,null,null,null,null,-28.4,null,null,null,null,null,null,null,0,null,null,null,null,null,null,null,0,null,null,null,null,null,null,null,14,null,null,null,null,null,null,null,29,null,null,null,null,null,null,null,40.6,null,null,null,null,null,null,null,-26.6]
[null,null,9650]
[null,null,null,null,null,null,null,null,null,null,null,null,null,null,null,null,null,57,null,null,null,null,null,null,null,38,null,null,null,null,null,null,null,19,null,null,null,null,null,null,null,null,null,null,null,null,null,null,null,38,null,null,null,null,null,null,null,30,null,null,null,null,null,null,null,19,null,null,null,null,null,null,null,null,null,null,null,null,null,null,null,49,null,null,null,null,null,null,null,63.7,null,null,null,null,null,null,null,-25.7,null,null,null,null,null,null,null,0,null,null,null,null,null,null,null,0,null,null,null,null,null,null,null,19,null,null,null,null,null,null,null,37,null,null,null,null,null,null,null,51.8,null,null,null,null,null,null,null,-32.799999999999997]
[null,null,9675]
[null,null,null,null,null,null,null,null,null,null,null,null,null,null,null,null,null,38,null,null,null,null,null,null,null,23,null,null,null,null,null,null,null,15,null,null,null,null,null,null,null,null,null,null,null,null,null,null,null,23,null,null,null,null,null,null,null,15,null,null,null,null,null,null,null,15,null,null,null,null,null,null,null,null,null,null,null,null,null,null,null,30,null,null,null,null,null,null,null,39,null,null,null,null,null,null,null,-16,null,null,null,null,null,null,null,0,null,null,null,null,null,null,null,0,null,null,null,null,null,null,null,15,null,null,null,null,null,null,null,30,null,null,null,null,null,null,null,42,null,null,null,null,null,null,null,-27]
[null,null,9700]
[null,null,null,null,null,null,null,null,null,null,null,null,null,null,null,null,null,21,null,null,null,null,null,null,null,12,null,null,null,null,null,null,null,9,null,null,null,null,null,null,null,null,null,null,null,null,null,null,null,12,null,null,null,null,null,null,null,6,null,null,null,null,null,null,null,9,null,null,null,null,null,null,null,null,null,null,null,null,null,null,null,15,null,null,null,null,null,null,null,19.5,null,null,null,null,null,null,null,-7.5,null,null,null,null,null,null,null,0,null,null,null,null,null,null,null,0,null,null,null,null,null,null,null,9,null,null,null,null,null,null,null,19,null,null,null,null,null,null,null,26.6,null,null,null,null,null,null,null,-17.600000000000001]
[null,null,9725]
[]
[null,null,"Sta.96+34"]
[]
[null,null,"Totals:"]
[null,null,null,null,null,null,null,null,null,null,null,null,null,null,null,null,null,306,null,null,null,null,null,null,null,194,null,null,null,null,null,null,null,112,null,null,null,null,null,null,null,0,null,null,null,null,null,null,null,194,null,null,null,null,null,null,null,200,null,null,null,null,null,null,null,112,null,null,null,null,null,null,null,0,null,null,null,null,null,null,null,312,null,null,null,null,null,null,null,406,null,null,null,null,null,null,null,-212,null,null,null,null,null,null,null,0,null,null,null,null,null,null,null,0,null,null,null,null,null,null,null,112,null,null,null,null,null,null,null,226,null,null,null,null,null,null,null,317,null,null,null,null,null,null,null,-205]
[]
[]
[]
[null,null,null,null,null,null,null,null,null,null,null,null,null,null,null,null,null,"Excavation, Class 10, Roadway & Borrow"]
[]
[null,null,null,null,null,null,null,null,null,null,null,null,null,null,null,null,null,null,null,null,null,null,null,null,null,null,null,null,null,null,null,null,null,null,null,null,null,null,null,null,null,194,null,null,null,null,null,null,null,"CY"]
[]
[]
[]
[null,null,null,null,null,null,null,null,null,null,null,null,null,null,null,null,null,"Embankment-In-Place"]
[]
[null,null,null,null,null,null,null,null,null,null,null,null,null,null,null,null,null,null,null,null,null,null,null,null,null,null,null,null,null,null,null,null,null,null,null,null,null,null,null,null,null,163,null,null,null,null,null,null,null,"CY"]
[]
[]
[]
[null,null,null,null,null,null,null,null,null,null,null,null,null,null,null,null,null,"Topsoil, Trip, Salvage, & Spread"]
[]
[null,null,null,null,null,null,null,null,null,null,null,null,null,null,null,null,null,null,null,null,null,null,null,null,null,null,null,null,null,null,null,null,null,null,null,null,null,null,null,null,null,112,null,null,null,null,null,null,null,"CY"]
[]
[]
[]
[null,null,null,null,null,null,null,null,null,null,null,null,null,null,null,null,null,"Topsoil, Furnish & Spread"]
[]
[null,null,null,null,null,null,null,null,null,null,null,null,null,null,null,null,null,null,null,null,null,null,null,null,null,null,null,null,null,null,null,null,null,null,null,null,null,null,null,null,null,146,null,null,null,null,null,null,null,"CY"]
[]
[]
[]
[]
[]
[]
[]
[]
[]
[]
[]
[]
[]
[]
[]
[]
[]
[]
[]
[]
[]
[]
[]
[]
[]
[]
[]
[]
[]
[]
[]
[]
[]
[]
[]
[]
[]
[]
[]
[]
[]
[]
[]
[]
[]
[]
[]
[]
[]
[]
[]
[]
[]
[]
[]
[]
[]
[]
[]
[]
[]
[]
[]
[]
[]
[]
[]
[]
[]
[]
[]
[]
[]
[]
[]
[]
[]
[]
[]
[]
[]
[]
[]
[]
[]
[]
[]
[]
[]
[]
[]
[]
[]
[]
[null,"","",null,null,null,null,null,null,null,null,null,null,null,null,null,null,"",null,null,null,null,null,null,null,"",null,null,null,null,null,null,null,"",null,null,null,null,null,null,null,"",null,null,null,null,null,null,null,"",null,null,null,null,null,null,null,"",null,null,null,null,null,null,null,"",null,null,null,null,null,null,null,"",null,null,null,null,null,null,null,"",null,null,null,null,null,null,null,null,null,null,null,null,null,null,null,"",null,null,null,null,null,null,null,"",null,null,null,null,null,null,null,null,null,null,null,null,null,null,null,"",null,null,null,null,null,null,null,null,null,null,null,null,null,null,null,null,"",null,null,null,null,null,null,null,null,null,null,null,null,null,null,"",null,null,null,null,null,null,null,"",null,null,null,null,null,null,null,"",null,null,null,null,null,null,null,"",null,null,null,null,null,null,null,"",null,null,null,null,null,null,null,""]
[]
[null,"FILE NO.",null,null,null,null,null,null,{"$f":"IF(ProjectInformation!$B$12<>\"\",ProjectInformation!$B$12,\"\")","v":""},null,null,null,null,null,null,{"$f":"UPPER(ProjectInformation!$B$8)","v":"ENGLISH"},null,null,null,null,null,null,"DESIGN TEAM",null,null,null,null,null,null,null,null,{"$f":"IF(AND(ProjectInformation!$B$3<>\"\",ProjectInformation!$B$4<>\"\",ProjectInformation!$B$5<>\"\"),ProjectInformation!$B$3&\"\\\"&ProjectInformation!$B$4&\"\\\"&ProjectInformation!$B$5,IF(AND(ProjectInformation!$B$3<>\"\",ProjectInformation!$B$4<>\"\"),ProjectInformation!$B$3&\"\\\"&ProjectInformation!$B$4,IF(ProjectInformation!$B$3<>\"\",ProjectInformation!$B$3,\"\")))","v":"WHKS & CO."},null,null,null,null,null,null,null,null,null,null,null,null,null,null,null,null,null,null,null,null,null,null,null,null,null,null,null,null,null,null,null,null,null,null,null,null,null,null,null,null,null,{"$f":"IF(ProjectInformation!$B$6<>\"\",ProjectInformation!$B$6,\"\")","v":"CLINTON"},null,null,null,null,null,null,null,null,null,null,null,null,null,null,null,null,null,null,null,null,null,null,null,null,null,null,null,null,null,null,null,null,null,null,null,null,null,null,null,null,"COUNTY",null,null,null,null,null,"PROJECT NUMBER",null,null,null,null,null,null,null,null,null,null,null,{"$f":"IF(ProjectInformation!$B$7<>\"\",ProjectInformation!$B$7,\"\")","v":"STPN-136-1(73)--2J-23"},null,null,null,null,null,null,null,null,null,null,null,null,null,null,null,null,null,null,null,null,null,null,null,null,null,null,null,null,null,"SHEET NUMBER",null,null,null,null,null,null,null,null,null,"T.2",null,null,null,null,null,null,null,{"$f":"IF(GE369<>\"\",\"REVISED\",\"\")","v":""},null,null,null,null,null,{"$f":"IF(ProjectInformation!$B$9<>\"\",ProjectInformation!$B$9,\"\")","v":""}]
[]
[]
[]
[null,"10/29/2019     9:35:10 AM     bchezick     K:\\7805\\SA26 701BT Clinton Culverts\\Design\\DE Sheets\\2313601013t01 (2).xlsm"]
[""]
[]
[]
[null,null,null,null,null,null,null,null,null,null,null,null,null,null,null,null,null,null,null,null,null,null,null,null,null,"",null,null,null,null,null,null,null,"",null,null,null,null,null,null,null,"",null,null,null,null,null,null,null,"",null,null,null,null,null,null,null,"",null,null,null,null,null,null,null,"",null,null,null,null,null,null,null,"",null,null,null,null,null,null,null,"",null,null,null,null,null,null,null,null,null,null,null,null,null,null,null,"",null,null,null,null,null,null,null,"",null,null,null,null,null,null,null,null,null,null,null,null,null,null,null,"",null,null,null,null,null,null,null,null,null,null,null,null,null,null,null,null,"",null,null,null,null,null,null,null,null,null,null,null,null,null,null,"",null,null,null,null,null,null,null,null,null,null,null,null,null,null,null,"",null,null,null,null,null,null,null,"",null,null,null,null,null,null,null,"",null,null,null,null,null,null,null,""]
[]
[null,null,"Refer to Standard Road Plans EW-101 and EW-102.",null,null,null,null,null,null,null,null,null,null,null,null,null,null,null,null,null,null,null,null,null,null,null,null,null,null,null,null,null,null,null,null,null,null,null,null,null,null,null,null,null,null,null,null,null,null,null,null,null,null,null,null,null,null,null,"TABULATION OF TEMPLATE QUANTITIES AND ADJUSTMENTS",null,null,null,null,null,null,null,null,null,null,null,null,null,null,null,null,null,null,null,null,null,null,null,null,null,null,null,null,null,null,null,null,null,null,null,null,null,null,null,null,null,null,null,null,null,null,null,null,null,null,null,null,null,null,null,null,null,null,null,null,null,null,null,null,null,null,null,null,null,null,null,null,null,null,null,null,null,null,"107-28"]
[]
[null,null,null,null,null,null,null,null,null,null,null,null,null,null,null,null,null,null,null,null,null,null,null,null,null,null,null,null,null,null,null,null,null,null,null,null,null,null,null,null,null,null,null,null,null,null,null,null,null,null,null,null,null,null,null,null,null,null,null,null,null,null,null,null,null,null,null,null,null,null,null,null,null,null,null,null,null,null,null,null,null,null,null,null,null,null,null,null,null,null,null,null,null,null,null,null,null,null,null,null,null,null,null,null,null,null,null,null,null,null,null,null,null,null,null,null,null,null,null,null,null,null,null,null,null,null,null,null,null,null,null,null,null,null,null,null,null,"2015-04-21"]
[]
[null,null,null,null,null,null,null,null,null,null,null,null,null,null,null,null,null,"Cut",null,null,null,null,null,null,null,null,null,null,null,null,null,null,null,null,null,null,null,null,null,null,null,null,null,null,null,null,null,null,null,null,null,null,null,null,null,null,null,"Fill",null,null,null,null,null,null,null,null,null,null,null,null,null,null,null,null,null,null,null,null,null,null,null,null,null,null,null,null,null,null,null,null,null,null,null,null,null,null,null,null,null,null,null,null,null,null,null,"Checks (EW-102)",null,null,null,null,null,null,null,null,null,null,null,null,null,null,null,"Topsoil"]
[]
[]
[null,null,null,null,null,null,null,null,null,null,null,null,null,null,null,null,null,"[1]",null,null,null,null,null,null,null,"[2]",null,null,null,null,null,null,null,"[3]",null,null,null,null,null,null,null,"[4]",null,null,null,null,null,null,null,"[5]",null,null,null,null,null,null,null,"[6]",null,null,null,null,null,null,null,"[7]",null,null,null,null,null,null,null,"[8]",null,null,null,null,null,null,null,"[9]",null,null,null,null,null,null,null,"[10]",null,null,null,null,null,null,null,"[11]",null,null,null,null,null,null,null,"[12]",null,null,null,null,null,null,null,"[13]",null,null,null,null,null,null,null,"[14]",null,null,null,null,null,null,null,"[15]",null,null,null,null,null,null,null,"[16]",null,null,null,null,null,null,null,"[17]",null,null,null,null,null,null,null,"[18]",null,null,null,null,null,null,null,"[19]",null,null,null,null,null,null,null,"[20]",null,null,null,null,null,null,null,"[21]",null,null,null,null,null,null,null,"[22]"]
[]
[]
[null,null,null,null,null,null,null,null,null,null,null,null,null,null,null,null,null,{"$f":"IF('107_28'!$R$15<>\"\",'107_28'!$R$15,\"\")","v":""},null,null,null,null,null,null,null,{"$f":"IF('107_28'!$Z$15<>\"\",'107_28'!$Z$15,\"\")","v":""},null,null,null,null,null,null,null,{"$f":"IF('107_28'!$AH$15<>\"\",'107_28'!$AH$15,\"\")","v":""},null,null,null,null,null,null,null,{"$f":"IF('107_28'!$AP$15<>\"\",'107_28'!$AP$15,\"\")","v":""},null,null,null,null,null,null,null,{"$f":"IF('107_28'!$AX$15<>\"\",'107_28'!$AX$15,\"\")","v":""},null,null,null,null,null,null,null,{"$f":"IF('107_28'!$BF$15<>\"\",'107_28'!$BF$15,\"\")","v":""},null,null,null,null,null,null,null,{"$f":"IF('107_28'!$BN$15<>\"\",'107_28'!$BN$15,\"\")","v":""},null,null,null,null,null,null,null,{"$f":"IF('107_28'!$BV$15<>\"\",'107_28'!$BV$15,\"\")","v":""},null,null,null,null,null,null,null,{"$f":"IF('107_28'!$CD$15<>\"\",'107_28'!$CD$15,\"\")","v":""},null,null,null,null,null,null,null,{"$f":"IF('107_28'!$CL$15<>\"\",'107_28'!$CL$15,\"\")","v":""},null,null,null,null,null,null,null,{"$f":"IF('107_28'!$CT$15<>\"\",'107_28'!$CT$15,\"\")","v":""},null,null,null,null,null,null,null,{"$f":"IF('107_28'!$DB$15<>\"\",'107_28'!$DB$15,\"\")","v":""},null,null,null,null,null,null,null,{"$f":"IF('107_28'!$DJ$15<>\"\",'107_28'!$DJ$15,\"\")","v":""},null,null,null,null,null,null,null,{"$f":"IF('107_28'!$DR$15<>\"\",'107_28'!$DR$15,\"\")","v":""},null,null,null,null,null,null,null,{"$f":"IF('107_28'!$DZ$15<>\"\",'107_28'!$DZ$15,\"\")","v":""},null,null,null,null,null,null,null,{"$f":"IF('107_28'!$EH$15<>\"\",'107_28'!$EH$15,\"\")","v":""},null,null,null,null,null,null,null,{"$f":"IF('107_28'!$EP$15<>\"\",'107_28'!$EP$15,\"\")","v":""},null,null,null,null,null,null,null,{"$f":"IF('107_28'!$EX$15<>\"\",'107_28'!$EX$15,\"\")","v":""},null,null,null,null,null,null,null,{"$f":"IF('107_28'!$FF$15<>\"\",'107_28'!$FF$15,\"\")","v":""},null,null,null,null,null,null,null,{"$f":"IF('107_28'!$FN$15<>\"\",'107_28'!$FN$15,\"\")","v":""},null,null,null,null,null,null,null,{"$f":"IF('107_28'!$FV$15<>\"\",'107_28'!$FV$15,\"\")","v":""},null,null,null,null,null,null,null,{"$f":"IF('107_28'!$GD$15<>\"\",'107_28'!$GD$15,\"\")","v":""}]
[]
[]
[]
[null,null,"Station",null,null,null,null,null,null,null,null,null,null,null,null,null,null,"Total Cut Unadjusted\n\nVolume",null,null,null,null,null,null,null,"Total Class 10\nUnadjusted\n\nVolume",null,null,null,null,null,null,null,"Topsoil Cut\n\nVolume",null,null,null,null,null,null,null,"Manually\nCalculated Cut\nAdjustments\n(+/- Cut)",null,null,null,null,null,null,null,"Total\nCut\nAdjusted",null,null,null,null,null,null,null,"Total Fill\nUnadjusted\n\nVolume",null,null,null,null,null,null,null,"Existing Topsoil\nStripping\nUndercut\n(+ Fill)",null,null,null,null,null,null,null,"Manual\nCalculated Fill\nAdjustments\n(+/- Fill)",null,null,null,null,null,null,null,"Total\nFill\nAdjusted",null,null,null,null,null,null,null,"Total Fill\n Adjusted w/\nWeighted Average\n1.3  Shrink Factor",null,null,null,null,null,null,null,"Total Cut Adjusted\nMinus Fill w/ Shrink",null,null,null,null,null,null,null,"Approx. Fill Vol.\nBelow 5' & Above\n20' w/ Shrink",null,null,null,null,null,null,null,"Approx. Fill\nVolume Below 3'\nw/ Shrink",null,null,null,null,null,null,null,"Topsoil\nStripping Undercut\nVolume",null,null,null,null,null,null,null,"Topsoil\nPlacement\nUndercut\nVolume",null,null,null,null,null,null,null,"Topsoil Placement\nWith 1.4 Shrink\nFactor",null,null,null,null,null,null,null,"Topsoil Stripping\nMinus Topsoil\nPlacement\nw/Shrink"]
[]
[]
[]
[]
[]
[]
[]
[]
[]
[]
[]
[]
[]
[]
[]
[]
[]
[]
[null,null,"Sta.108+76"]
[]
[null,null,10800]
[null,null,null,null,null,null,null,null,null,null,null,null,null,null,null,null,null,37,null,null,null,null,null,null,null,24,null,null,null,null,null,null,null,13,null,null,null,null,null,null,null,null,null,null,null,null,null,null,null,24,null,null,null,null,null,null,null,28,null,null,null,null,null,null,null,13,null,null,null,null,null,null,null,null,null,null,null,null,null,null,null,41,null,null,null,null,null,null,null,53.3,null,null,null,null,null,null,null,-29.3,null,null,null,null,null,null,null,0,null,null,null,null,null,null,null,0,null,null,null,null,null,null,null,13,null,null,null,null,null,null,null,27,null,null,null,null,null,null,null,37.799999999999997,null,null,null,null,null,null,null,-24.8]
[null,null,10825]
[null,null,null,null,null,null,null,null,null,null,null,null,null,null,null,null,null,72,null,null,null,null,null,null,null,53,null,null,null,null,null,null,null,19,null,null,null,null,null,null,null,null,null,null,null,null,null,null,null,53,null,null,null,null,null,null,null,46,null,null,null,null,null,null,null,19,null,null,null,null,null,null,null,null,null,null,null,null,null,null,null,65,null,null,null,null,null,null,null,84.5,null,null,null,null,null,null,null,-31.5,null,null,null,null,null,null,null,0,null,null,null,null,null,null,null,0,null,null,null,null,null,null,null,19,null,null,null,null,null,null,null,38,null,null,null,null,null,null,null,53.2,null,null,null,null,null,null,null,-34.200000000000003]
[null,null,10850]
[null,null,null,null,null,null,null,null,null,null,null,null,null,null,null,null,null,117,null,null,null,null,null,null,null,95,null,null,null,null,null,null,null,22,null,null,null,null,null,null,null,null,null,null,null,null,null,null,null,95,null,null,null,null,null,null,null,46,null,null,null,null,null,null,null,22,null,null,null,null,null,null,null,null,null,null,null,null,null,null,null,68,null,null,null,null,null,null,null,88.4,null,null,null,null,null,null,null,6.6,null,null,null,null,null,null,null,0,null,null,null,null,null,null,null,0,null,null,null,null,null,null,null,22,null,null,null,null,null,null,null,45,null,null,null,null,null,null,null,63,null,null,null,null,null,null,null,-41]
[null,null,10875]
[null,null,null,null,null,null,null,null,null,null,null,null,null,null,null,null,null,6,null,null,null,null,null,null,null,5,null,null,null,null,null,null,null,1,null,null,null,null,null,null,null,null,null,null,null,null,null,null,null,5,null,null,null,null,null,null,null,1,null,null,null,null,null,null,null,1,null,null,null,null,null,null,null,null,null,null,null,null,null,null,null,2,null,null,null,null,null,null,null,2.6,null,null,null,null,null,null,null,2.4,null,null,null,null,null,null,null,0,null,null,null,null,null,null,null,0,null,null,null,null,null,null,null,1,null,null,null,null,null,null,null,2,null,null,null,null,null,null,null,2.8,null,null,null,null,null,null,null,-1.8]
[null,null,10876]
[null,null,null,null,null,null,null,null,null,null,null,null,null,null,null,null,null,139,null,null,null,null,null,null,null,117,null,null,null,null,null,null,null,22,null,null,null,null,null,null,null,null,null,null,null,null,null,null,null,117,null,null,null,null,null,null,null,26,null,null,null,null,null,null,null,22,null,null,null,null,null,null,null,null,null,null,null,null,null,null,null,48,null,null,null,null,null,null,null,62.4,null,null,null,null,null,null,null,54.6,null,null,null,null,null,null,null,0,null,null,null,null,null,null,null,0,null,null,null,null,null,null,null,22,null,null,null,null,null,null,null,43,null,null,null,null,null,null,null,60.2,null,null,null,null,null,null,null,-38.200000000000003]
[null,null,10900]
[null,null,null,null,null,null,null,null,null,null,null,null,null,null,null,null,null,106,null,null,null,null,null,null,null,89,null,null,null,null,null,null,null,17,null,null,null,null,null,null,null,null,null,null,null,null,null,null,null,89,null,null,null,null,null,null,null,10,null,null,null,null,null,null,null,17,null,null,null,null,null,null,null,null,null,null,null,null,null,null,null,27,null,null,null,null,null,null,null,35.1,null,null,null,null,null,null,null,53.9,null,null,null,null,null,null,null,0,null,null,null,null,null,null,null,0,null,null,null,null,null,null,null,17,null,null,null,null,null,null,null,34,null,null,null,null,null,null,null,47.6,null,null,null,null,null,null,null,-30.6]
[null,null,10925]
[null,null,null,null,null,null,null,null,null,null,null,null,null,null,null,null,null,49,null,null,null,null,null,null,null,38,null,null,null,null,null,null,null,11,null,null,null,null,null,null,null,null,null,null,null,null,null,null,null,38,null,null,null,null,null,null,null,1,null,null,null,null,null,null,null,11,null,null,null,null,null,null,null,null,null,null,null,null,null,null,null,12,null,null,null,null,null,null,null,15.6,null,null,null,null,null,null,null,22.4,null,null,null,null,null,null,null,0,null,null,null,null,null,null,null,0,null,null,null,null,null,null,null,11,null,null,null,null,null,null,null,22,null,null,null,null,null,null,null,30.8,null,null,null,null,null,null,null,-19.8]
[null,null,10950]
[]
[null,null,"Sta.108+76"]
[]
[null,null,"Totals:"]
[null,null,null,null,null,null,null,null,null,null,null,null,null,null,null,null,null,526,null,null,null,null,null,null,null,421,null,null,null,null,null,null,null,105,null,null,null,null,null,null,null,0,null,null,null,null,null,null,null,421,null,null,null,null,null,null,null,158,null,null,null,null,null,null,null,105,null,null,null,null,null,null,null,0,null,null,null,null,null,null,null,263,null,null,null,null,null,null,null,342,null,null,null,null,null,null,null,80,null,null,null,null,null,null,null,0,null,null,null,null,null,null,null,0,null,null,null,null,null,null,null,105,null,null,null,null,null,null,null,211,null,null,null,null,null,null,null,296,null,null,null,null,null,null,null,-191]
[]
[]
[]
[null,null,null,null,null,null,null,null,null,null,null,null,null,null,null,null,null,"Excavation, Class 10, Roadway & Borrow"]
[]
[null,null,null,null,null,null,null,null,null,null,null,null,null,null,null,null,null,null,null,null,null,null,null,null,null,null,null,null,null,null,null,null,null,null,null,null,null,null,null,null,null,342,null,null,null,null,null,null,null,"CY"]
[]
[]
[]
[null,null,null,null,null,null,null,null,null,null,null,null,null,null,null,null,null,"Excavation, Class 10, Waste"]
[]
[null,null,null,null,null,null,null,null,null,null,null,null,null,null,null,null,null,null,null,null,null,null,null,null,null,null,null,null,null,null,null,null,null,null,null,null,null,null,null,null,null,80,null,null,null,null,null,null,null,"CY"]
[]
[]
[]
[null,null,null,null,null,null,null,null,null,null,null,null,null,null,null,null,null,"Topsoil, Strip, Salvage, & Spread"]
[]
[null,null,null,null,null,null,null,null,null,null,null,null,null,null,null,null,null,null,null,null,null,null,null,null,null,null,null,null,null,null,null,null,null,null,null,null,null,null,null,null,null,105,null,null,null,null,null,null,null,"CY"]
[]
[]
[]
[null,null,null,null,null,null,null,null,null,null,null,null,null,null,null,null,null,"Topsoil, Furnish & Spread"]
[]
[null,null,null,null,null,null,null,null,null,null,null,null,null,null,null,null,null,null,null,null,null,null,null,null,null,null,null,null,null,null,null,null,null,null,null,null,null,null,null,null,null,136,null,null,null,null,null,null,null,"CY"]
[]
[]
[]
[]
[]
[]
[]
[]
[]
[]
[]
[]
[]
[]
[]
[]
[]
[]
[]
[]
[]
[]
[]
[]
[]
[]
[]
[]
[]
[]
[]
[]
[]
[]
[]
[]
[]
[]
[]
[]
[]
[]
[]
[]
[]
[]
[]
[]
[]
[]
[]
[]
[]
[]
[]
[]
[]
[]
[]
[]
[]
[]
[]
[]
[]
[]
[]
[]
[]
[]
[]
[]
[]
[]
[]
[]
[]
[]
[]
[]
[]
[]
[]
[]
[]
[]
[]
[]
[]
[]
[]
[]
[]
[]
[]
[]
[null,"","",null,null,null,null,null,null,null,null,null,null,null,null,null,null,"",null,null,null,null,null,null,null,"",null,null,null,null,null,null,null,"",null,null,null,null,null,null,null,"",null,null,null,null,null,null,null,"",null,null,null,null,null,null,null,"",null,null,null,null,null,null,null,"",null,null,null,null,null,null,null,"",null,null,null,null,null,null,null,"",null,null,null,null,null,null,null,null,null,null,null,null,null,null,null,"",null,null,null,null,null,null,null,"",null,null,null,null,null,null,null,null,null,null,null,null,null,null,null,"",null,null,null,null,null,null,null,null,null,null,null,null,null,null,null,null,"",null,null,null,null,null,null,null,null,null,null,null,null,null,null,"",null,null,null,null,null,null,null,"",null,null,null,null,null,null,null,"",null,null,null,null,null,null,null,"",null,null,null,null,null,null,null,"",null,null,null,null,null,null,null,""]
[]
[null,"FILE NO.",null,null,null,null,null,null,{"$f":"IF(ProjectInformation!$B$12<>\"\",ProjectInformation!$B$12,\"\")","v":""},null,null,null,null,null,null,{"$f":"UPPER(ProjectInformation!$B$8)","v":"ENGLISH"},null,null,null,null,null,null,"DESIGN TEAM",null,null,null,null,null,null,null,null,{"$f":"IF(AND(ProjectInformation!$B$3<>\"\",ProjectInformation!$B$4<>\"\",ProjectInformation!$B$5<>\"\"),ProjectInformation!$B$3&\"\\\"&ProjectInformation!$B$4&\"\\\"&ProjectInformation!$B$5,IF(AND(ProjectInformation!$B$3<>\"\",ProjectInformation!$B$4<>\"\"),ProjectInformation!$B$3&\"\\\"&ProjectInformation!$B$4,IF(ProjectInformation!$B$3<>\"\",ProjectInformation!$B$3,\"\")))","v":"WHKS & CO."},null,null,null,null,null,null,null,null,null,null,null,null,null,null,null,null,null,null,null,null,null,null,null,null,null,null,null,null,null,null,null,null,null,null,null,null,null,null,null,null,null,{"$f":"IF(ProjectInformation!$B$6<>\"\",ProjectInformation!$B$6,\"\")","v":"CLINTON"},null,null,null,null,null,null,null,null,null,null,null,null,null,null,null,null,null,null,null,null,null,null,null,null,null,null,null,null,null,null,null,null,null,null,null,null,null,null,null,null,"COUNTY",null,null,null,null,null,"PROJECT NUMBER",null,null,null,null,null,null,null,null,null,null,null,{"$f":"IF(ProjectInformation!$B$7<>\"\",ProjectInformation!$B$7,\"\")","v":"STPN-136-1(73)--2J-23"},null,null,null,null,null,null,null,null,null,null,null,null,null,null,null,null,null,null,null,null,null,null,null,null,null,null,null,null,null,"SHEET NUMBER",null,null,null,null,null,null,null,null,null,"T.3",null,null,null,null,null,null,null,{"$f":"IF(GE556<>\"\",\"REVISED\",\"\")","v":""},null,null,null,null,null,{"$f":"IF(ProjectInformation!$B$9<>\"\",ProjectInformation!$B$9,\"\")","v":""}]
[]
[]
[]
[null,"10/29/2019     9:35:10 AM     bchezick     K:\\7805\\SA26 701BT Clinton Culverts\\Design\\DE Sheets\\2313601013t01 (2).xlsm"]
[""]
[]
[]
[null,null,null,null,null,null,null,null,null,null,null,null,null,null,null,null,null,null,null,null,null,null,null,null,null,"",null,null,null,null,null,null,null,"",null,null,null,null,null,null,null,"",null,null,null,null,null,null,null,"",null,null,null,null,null,null,null,"",null,null,null,null,null,null,null,"",null,null,null,null,null,null,null,"",null,null,null,null,null,null,null,"",null,null,null,null,null,null,null,null,null,null,null,null,null,null,null,"",null,null,null,null,null,null,null,"",null,null,null,null,null,null,null,null,null,null,null,null,null,null,null,"",null,null,null,null,null,null,null,null,null,null,null,null,null,null,null,null,"",null,null,null,null,null,null,null,null,null,null,null,null,null,null,"",null,null,null,null,null,null,null,null,null,null,null,null,null,null,null,"",null,null,null,null,null,null,null,"",null,null,null,null,null,null,null,"",null,null,null,null,null,null,null,""]
[]
[null,null,"Refer to Standard Road Plans EW-101 and EW-102.",null,null,null,null,null,null,null,null,null,null,null,null,null,null,null,null,null,null,null,null,null,null,null,null,null,null,null,null,null,null,null,null,null,null,null,null,null,null,null,null,null,null,null,null,null,null,null,null,null,null,null,null,null,null,null,"TABULATION OF TEMPLATE QUANTITIES AND ADJUSTMENTS",null,null,null,null,null,null,null,null,null,null,null,null,null,null,null,null,null,null,null,null,null,null,null,null,null,null,null,null,null,null,null,null,null,null,null,null,null,null,null,null,null,null,null,null,null,null,null,null,null,null,null,null,null,null,null,null,null,null,null,null,null,null,null,null,null,null,null,null,null,null,null,null,null,null,null,null,null,null,"107-28"]
[]
[null,null,null,null,null,null,null,null,null,null,null,null,null,null,null,null,null,null,null,null,null,null,null,null,null,null,null,null,null,null,null,null,null,null,null,null,null,null,null,null,null,null,null,null,null,null,null,null,null,null,null,null,null,null,null,null,null,null,null,null,null,null,null,null,null,null,null,null,null,null,null,null,null,null,null,null,null,null,null,null,null,null,null,null,null,null,null,null,null,null,null,null,null,null,null,null,null,null,null,null,null,null,null,null,null,null,null,null,null,null,null,null,null,null,null,null,null,null,null,null,null,null,null,null,null,null,null,null,null,null,null,null,null,null,null,null,null,"2015-04-21"]
[]
[null,null,null,null,null,null,null,null,null,null,null,null,null,null,null,null,null,"Cut",null,null,null,null,null,null,null,null,null,null,null,null,null,null,null,null,null,null,null,null,null,null,null,null,null,null,null,null,null,null,null,null,null,null,null,null,null,null,null,"Fill",null,null,null,null,null,null,null,null,null,null,null,null,null,null,null,null,null,null,null,null,null,null,null,null,null,null,null,null,null,null,null,null,null,null,null,null,null,null,null,null,null,null,null,null,null,null,null,"Checks (EW-102)",null,null,null,null,null,null,null,null,null,null,null,null,null,null,null,"Topsoil"]
[]
[]
[null,null,null,null,null,null,null,null,null,null,null,null,null,null,null,null,null,"[1]",null,null,null,null,null,null,null,"[2]",null,null,null,null,null,null,null,"[3]",null,null,null,null,null,null,null,"[4]",null,null,null,null,null,null,null,"[5]",null,null,null,null,null,null,null,"[6]",null,null,null,null,null,null,null,"[7]",null,null,null,null,null,null,null,"[8]",null,null,null,null,null,null,null,"[9]",null,null,null,null,null,null,null,"[10]",null,null,null,null,null,null,null,"[11]",null,null,null,null,null,null,null,"[12]",null,null,null,null,null,null,null,"[13]",null,null,null,null,null,null,null,"[14]",null,null,null,null,null,null,null,"[15]",null,null,null,null,null,null,null,"[16]",null,null,null,null,null,null,null,"[17]",null,null,null,null,null,null,null,"[18]",null,null,null,null,null,null,null,"[19]",null,null,null,null,null,null,null,"[20]",null,null,null,null,null,null,null,"[21]",null,null,null,null,null,null,null,"[22]"]
[]
[]
[null,null,null,null,null,null,null,null,null,null,null,null,null,null,null,null,null,{"$f":"IF('107_28'!$R$15<>\"\",'107_28'!$R$15,\"\")","v":""},null,null,null,null,null,null,null,{"$f":"IF('107_28'!$Z$15<>\"\",'107_28'!$Z$15,\"\")","v":""},null,null,null,null,null,null,null,{"$f":"IF('107_28'!$AH$15<>\"\",'107_28'!$AH$15,\"\")","v":""},null,null,null,null,null,null,null,{"$f":"IF('107_28'!$AP$15<>\"\",'107_28'!$AP$15,\"\")","v":""},null,null,null,null,null,null,null,{"$f":"IF('107_28'!$AX$15<>\"\",'107_28'!$AX$15,\"\")","v":""},null,null,null,null,null,null,null,{"$f":"IF('107_28'!$BF$15<>\"\",'107_28'!$BF$15,\"\")","v":""},null,null,null,null,null,null,null,{"$f":"IF('107_28'!$BN$15<>\"\",'107_28'!$BN$15,\"\")","v":""},null,null,null,null,null,null,null,{"$f":"IF('107_28'!$BV$15<>\"\",'107_28'!$BV$15,\"\")","v":""},null,null,null,null,null,null,null,{"$f":"IF('107_28'!$CD$15<>\"\",'107_28'!$CD$15,\"\")","v":""},null,null,null,null,null,null,null,{"$f":"IF('107_28'!$CL$15<>\"\",'107_28'!$CL$15,\"\")","v":""},null,null,null,null,null,null,null,{"$f":"IF('107_28'!$CT$15<>\"\",'107_28'!$CT$15,\"\")","v":""},null,null,null,null,null,null,null,{"$f":"IF('107_28'!$DB$15<>\"\",'107_28'!$DB$15,\"\")","v":""},null,null,null,null,null,null,null,{"$f":"IF('107_28'!$DJ$15<>\"\",'107_28'!$DJ$15,\"\")","v":""},null,null,null,null,null,null,null,{"$f":"IF('107_28'!$DR$15<>\"\",'107_28'!$DR$15,\"\")","v":""},null,null,null,null,null,null,null,{"$f":"IF('107_28'!$DZ$15<>\"\",'107_28'!$DZ$15,\"\")","v":""},null,null,null,null,null,null,null,{"$f":"IF('107_28'!$EH$15<>\"\",'107_28'!$EH$15,\"\")","v":""},null,null,null,null,null,null,null,{"$f":"IF('107_28'!$EP$15<>\"\",'107_28'!$EP$15,\"\")","v":""},null,null,null,null,null,null,null,{"$f":"IF('107_28'!$EX$15<>\"\",'107_28'!$EX$15,\"\")","v":""},null,null,null,null,null,null,null,{"$f":"IF('107_28'!$FF$15<>\"\",'107_28'!$FF$15,\"\")","v":""},null,null,null,null,null,null,null,{"$f":"IF('107_28'!$FN$15<>\"\",'107_28'!$FN$15,\"\")","v":""},null,null,null,null,null,null,null,{"$f":"IF('107_28'!$FV$15<>\"\",'107_28'!$FV$15,\"\")","v":""},null,null,null,null,null,null,null,{"$f":"IF('107_28'!$GD$15<>\"\",'107_28'!$GD$15,\"\")","v":""}]
[]
[]
[]
[null,null,"Station",null,null,null,null,null,null,null,null,null,null,null,null,null,null,"Total Cut Unadjusted\n\nVolume",null,null,null,null,null,null,null,"Total Class 10\nUnadjusted\n\nVolume",null,null,null,null,null,null,null,"Topsoil Cut\n\nVolume",null,null,null,null,null,null,null,"Manually\nCalculated Cut\nAdjustments\n(+/- Cut)",null,null,null,null,null,null,null,"Total\nCut\nAdjusted",null,null,null,null,null,null,null,"Total Fill\nUnadjusted\n\nVolume",null,null,null,null,null,null,null,"Existing Topsoil\nStripping\nUndercut\n(+ Fill)",null,null,null,null,null,null,null,"Manual\nCalculated Fill\nAdjustments\n(+/- Fill)",null,null,null,null,null,null,null,"Total\nFill\nAdjusted",null,null,null,null,null,null,null,"Total Fill\n Adjusted w/\nWeighted Average\n1.3  Shrink Factor",null,null,null,null,null,null,null,"Total Cut Adjusted\nMinus Fill w/ Shrink",null,null,null,null,null,null,null,"Approx. Fill Vol.\nBelow 5' & Above\n20' w/ Shrink",null,null,null,null,null,null,null,"Approx. Fill\nVolume Below 3'\nw/ Shrink",null,null,null,null,null,null,null,"Topsoil\nStripping Undercut\nVolume",null,null,null,null,null,null,null,"Topsoil\nPlacement\nUndercut\nVolume",null,null,null,null,null,null,null,"Topsoil Placement\nWith 1.4 Shrink\nFactor",null,null,null,null,null,null,null,"Topsoil Stripping\nMinus Topsoil\nPlacement\nw/Shrink"]
[]
[]
[]
[]
[]
[]
[]
[]
[]
[]
[]
[]
[]
[]
[]
[]
[]
[]
[null,null,"Sta.383+30"]
[]
[null,null,38225]
[null,null,null,null,null,null,null,null,null,null,null,null,null,null,null,null,null,40,null,null,null,null,null,null,null,27,null,null,null,null,null,null,null,13,null,null,null,null,null,null,null,null,null,null,null,null,null,null,null,27,null,null,null,null,null,null,null,13,null,null,null,null,null,null,null,13,null,null,null,null,null,null,null,null,null,null,null,null,null,null,null,26,null,null,null,null,null,null,null,33.799999999999997,null,null,null,null,null,null,null,-6.8,null,null,null,null,null,null,null,0,null,null,null,null,null,null,null,0,null,null,null,null,null,null,null,13,null,null,null,null,null,null,null,25,null,null,null,null,null,null,null,35,null,null,null,null,null,null,null,-22]
[null,null,38250]
[null,null,null,null,null,null,null,null,null,null,null,null,null,null,null,null,null,59,null,null,null,null,null,null,null,37,null,null,null,null,null,null,null,22,null,null,null,null,null,null,null,null,null,null,null,null,null,null,null,37,null,null,null,null,null,null,null,85,null,null,null,null,null,null,null,22,null,null,null,null,null,null,null,null,null,null,null,null,null,null,null,107,null,null,null,null,null,null,null,139.1,null,null,null,null,null,null,null,-102.1,null,null,null,null,null,null,null,0,null,null,null,null,null,null,null,0,null,null,null,null,null,null,null,22,null,null,null,null,null,null,null,45,null,null,null,null,null,null,null,63,null,null,null,null,null,null,null,-41]
[null,null,38275]
[null,null,null,null,null,null,null,null,null,null,null,null,null,null,null,null,null,56,null,null,null,null,null,null,null,28,null,null,null,null,null,null,null,28,null,null,null,null,null,null,null,null,null,null,null,null,null,null,null,28,null,null,null,null,null,null,null,367,null,null,null,null,null,null,null,28,null,null,null,null,null,null,null,null,null,null,null,null,null,null,null,395,null,null,null,null,null,null,null,513.5,null,null,null,null,null,null,null,-485.5,null,null,null,null,null,null,null,0,null,null,null,null,null,null,null,0,null,null,null,null,null,null,null,28,null,null,null,null,null,null,null,38,null,null,null,null,null,null,null,53.2,null,null,null,null,null,null,null,-25.2]
[null,null,38300]
[null,null,null,null,null,null,null,null,null,null,null,null,null,null,null,null,null,53,null,null,null,null,null,null,null,31,null,null,null,null,null,null,null,22,null,null,null,null,null,null,null,null,null,null,null,null,null,null,null,31,null,null,null,null,null,null,null,463,null,null,null,null,null,null,null,22,null,null,null,null,null,null,null,null,null,null,null,null,null,null,null,485,null,null,null,null,null,null,null,630.5,null,null,null,null,null,null,null,-599.5,null,null,null,null,null,null,null,0,null,null,null,null,null,null,null,0,null,null,null,null,null,null,null,22,null,null,null,null,null,null,null,41,null,null,null,null,null,null,null,57.4,null,null,null,null,null,null,null,-35.4]
[null,null,38325]
[null,null,null,null,null,null,null,null,null,null,null,null,null,null,null,null,null,28,null,null,null,null,null,null,null,7,null,null,null,null,null,null,null,21,null,null,null,null,null,null,null,null,null,null,null,null,null,null,null,7,null,null,null,null,null,null,null,78,null,null,null,null,null,null,null,21,null,null,null,null,null,null,null,null,null,null,null,null,null,null,null,99,null,null,null,null,null,null,null,128.69999999999999,null,null,null,null,null,null,null,-121.7,null,null,null,null,null,null,null,0,null,null,null,null,null,null,null,0,null,null,null,null,null,null,null,21,null,null,null,null,null,null,null,12,null,null,null,null,null,null,null,16.8,null,null,null,null,null,null,null,4.2]
[null,null,38330.14]
[null,null,null,null,null,null,null,null,null,null,null,null,null,null,null,null,null,19,null,null,null,null,null,null,null,19,null,null,null,null,null,null,null,0,null,null,null,null,null,null,null,null,null,null,null,null,null,null,null,19,null,null,null,null,null,null,null,222,null,null,null,null,null,null,null,null,null,null,null,null,null,null,null,null,null,null,null,null,null,null,null,222,null,null,null,null,null,null,null,288.60000000000002,null,null,null,null,null,null,null,-269.60000000000002,null,null,null,null,null,null,null,0,null,null,null,null,null,null,null,0,null,null,null,null,null,null,null,0,null,null,null,null,null,null,null,45,null,null,null,null,null,null,null,63,null,null,null,null,null,null,null,-63]
[null,null,38350]
[null,null,null,null,null,null,null,null,null,null,null,null,null,null,null,null,null,49,null,null,null,null,null,null,null,27,null,null,null,null,null,null,null,22,null,null,null,null,null,null,null,null,null,null,null,null,null,null,null,27,null,null,null,null,null,null,null,83,null,null,null,null,null,null,null,22,null,null,null,null,null,null,null,null,null,null,null,null,null,null,null,105,null,null,null,null,null,null,null,136.5,null,null,null,null,null,null,null,-109.5,null,null,null,null,null,null,null,0,null,null,null,null,null,null,null,0,null,null,null,null,null,null,null,22,null,null,null,null,null,null,null,44,null,null,null,null,null,null,null,61.6,null,null,null,null,null,null,null,-39.6]
[null,null,38375]
[null,null,null,null,null,null,null,null,null,null,null,null,null,null,null,null,null,41,null,null,null,null,null,null,null,27,null,null,null,null,null,null,null,14,null,null,null,null,null,null,null,null,null,null,null,null,null,null,null,27,null,null,null,null,null,null,null,16,null,null,null,null,null,null,null,14,null,null,null,null,null,null,null,null,null,null,null,null,null,null,null,30,null,null,null,null,null,null,null,39,null,null,null,null,null,null,null,-12,null,null,null,null,null,null,null,0,null,null,null,null,null,null,null,0,null,null,null,null,null,null,null,14,null,null,null,null,null,null,null,27,null,null,null,null,null,null,null,37.799999999999997,null,null,null,null,null,null,null,-23.8]
[null,null,38400]
[null,null,null,null,null,null,null,null,null,null,null,null,null,null,null,null,null,30,null,null,null,null,null,null,null,22,null,null,null,null,null,null,null,8,null,null,null,null,null,null,null,null,null,null,null,null,null,null,null,22,null,null,null,null,null,null,null,0,null,null,null,null,null,null,null,8,null,null,null,null,null,null,null,null,null,null,null,null,null,null,null,8,null,null,null,null,null,null,null,10.4,null,null,null,null,null,null,null,11.6,null,null,null,null,null,null,null,0,null,null,null,null,null,null,null,0,null,null,null,null,null,null,null,8,null,null,null,null,null,null,null,16,null,null,null,null,null,null,null,22.4,null,null,null,null,null,null,null,-14.4]
[null,null,38425]
[null,null,null,null,null,null,null,null,null,null,null,null,null,null,null,null,null,23,null,null,null,null,null,null,null,17,null,null,null,null,null,null,null,6,null,null,null,null,null,null,null,null,null,null,null,null,null,null,null,17,null,null,null,null,null,null,null,0,null,null,null,null,null,null,null,6,null,null,null,null,null,null,null,null,null,null,null,null,null,null,null,6,null,null,null,null,null,null,null,7.8,null,null,null,null,null,null,null,9.1999999999999993,null,null,null,null,null,null,null,0,null,null,null,null,null,null,null,0,null,null,null,null,null,null,null,6,null,null,null,null,null,null,null,12,null,null,null,null,null,null,null,16.8,null,null,null,null,null,null,null,-10.8]
[null,null,38450]
[null,null,null,null,null,null,null,null,null,null,null,null,null,null,null,null,null,19,null,null,null,null,null,null,null,14,null,null,null,null,null,null,null,5,null,null,null,null,null,null,null,null,null,null,null,null,null,null,null,14,null,null,null,null,null,null,null,0,null,null,null,null,null,null,null,5,null,null,null,null,null,null,null,null,null,null,null,null,null,null,null,5,null,null,null,null,null,null,null,6.5,null,null,null,null,null,null,null,7.5,null,null,null,null,null,null,null,0,null,null,null,null,null,null,null,0,null,null,null,null,null,null,null,5,null,null,null,null,null,null,null,9,null,null,null,null,null,null,null,12.6,null,null,null,null,null,null,null,-7.6]
[null,null,38475]
[]
[null,null,"Sta.383+30"]
[]
[null,null,"Totals:"]
[null,null,null,null,null,null,null,null,null,null,null,null,null,null,null,null,null,417,null,null,null,null,null,null,null,256,null,null,null,null,null,null,null,161,null,null,null,null,null,null,null,0,null,null,null,null,null,null,null,256,null,null,null,null,null,null,null,1327,null,null,null,null,null,null,null,161,null,null,null,null,null,null,null,0,null,null,null,null,null,null,null,1488,null,null,null,null,null,null,null,1935,null,null,null,null,null,null,null,-1679,null,null,null,null,null,null,null,0,null,null,null,null,null,null,null,0,null,null,null,null,null,null,null,161,null,null,null,null,null,null,null,314,null,null,null,null,null,null,null,440,null,null,null,null,null,null,null,-279]
[]
[]
[]
[null,null,null,null,null,null,null,null,null,null,null,null,null,null,null,null,null,"Excavation, Class 10, Roadway & Borrow"]
[]
[null,null,null,null,null,null,null,null,null,null,null,null,null,null,null,null,null,null,null,null,null,null,null,null,null,null,null,null,null,null,null,null,null,null,null,null,null,null,null,null,null,256,null,null,null,null,null,null,null,"CY"]
[]
[]
[]
[null,null,null,null,null,null,null,null,null,null,null,null,null,null,null,null,null,"Embankment-In-Place"]
[]
[null,null,null,null,null,null,null,null,null,null,null,null,null,null,null,null,null,null,null,null,null,null,null,null,null,null,null,null,null,null,null,null,null,null,null,null,null,null,null,null,null,1292,null,null,null,null,null,null,null,"CY"]
[]
[]
[]
[null,null,null,null,null,null,null,null,null,null,null,null,null,null,null,null,null,"Topsoil, Trip, Salvage, & Spread"]
[]
[null,null,null,null,null,null,null,null,null,null,null,null,null,null,null,null,null,null,null,null,null,null,null,null,null,null,null,null,null,null,null,null,null,null,null,null,null,null,null,null,null,161,null,null,null,null,null,null,null,"CY"]
[]
[]
[]
[null,null,null,null,null,null,null,null,null,null,null,null,null,null,null,null,null,"Topsoil, Furnish & Spread"]
[]
[null,null,null,null,null,null,null,null,null,null,null,null,null,null,null,null,null,null,null,null,null,null,null,null,null,null,null,null,null,null,null,null,null,null,null,null,null,null,null,null,null,199,null,null,null,null,null,null,null,"CY"]
[]
[]
[]
[]
[]
[]
[]
[]
[]
[]
[]
[]
[]
[]
[]
[]
[]
[]
[]
[]
[]
[]
[]
[]
[]
[]
[]
[]
[]
[]
[]
[]
[]
[]
[]
[]
[]
[]
[]
[]
[]
[]
[]
[]
[]
[]
[]
[]
[]
[]
[]
[]
[]
[]
[]
[]
[]
[]
[]
[]
[]
[]
[]
[]
[]
[]
[]
[]
[]
[]
[]
[]
[]
[]
[]
[]
[]
[]
[]
[]
[]
[]
[]
[]
[]
[]
[]
[]
[null,"","",null,null,null,null,null,null,null,null,null,null,null,null,null,null,"",null,null,null,null,null,null,null,"",null,null,null,null,null,null,null,"",null,null,null,null,null,null,null,"",null,null,null,null,null,null,null,"",null,null,null,null,null,null,null,"",null,null,null,null,null,null,null,"",null,null,null,null,null,null,null,"",null,null,null,null,null,null,null,"",null,null,null,null,null,null,null,null,null,null,null,null,null,null,null,"",null,null,null,null,null,null,null,"",null,null,null,null,null,null,null,null,null,null,null,null,null,null,null,"",null,null,null,null,null,null,null,null,null,null,null,null,null,null,null,null,"",null,null,null,null,null,null,null,null,null,null,null,null,null,null,"",null,null,null,null,null,null,null,"",null,null,null,null,null,null,null,"",null,null,null,null,null,null,null,"",null,null,null,null,null,null,null,"",null,null,null,null,null,null,null,""]
[]
[null,"FILE NO.",null,null,null,null,null,null,{"$f":"IF(ProjectInformation!$B$12<>\"\",ProjectInformation!$B$12,\"\")","v":""},null,null,null,null,null,null,{"$f":"UPPER(ProjectInformation!$B$8)","v":"ENGLISH"},null,null,null,null,null,null,"DESIGN TEAM",null,null,null,null,null,null,null,null,{"$f":"IF(AND(ProjectInformation!$B$3<>\"\",ProjectInformation!$B$4<>\"\",ProjectInformation!$B$5<>\"\"),ProjectInformation!$B$3&\"\\\"&ProjectInformation!$B$4&\"\\\"&ProjectInformation!$B$5,IF(AND(ProjectInformation!$B$3<>\"\",ProjectInformation!$B$4<>\"\"),ProjectInformation!$B$3&\"\\\"&ProjectInformation!$B$4,IF(ProjectInformation!$B$3<>\"\",ProjectInformation!$B$3,\"\")))","v":"WHKS & CO."},null,null,null,null,null,null,null,null,null,null,null,null,null,null,null,null,null,null,null,null,null,null,null,null,null,null,null,null,null,null,null,null,null,null,null,null,null,null,null,null,null,{"$f":"IF(ProjectInformation!$B$6<>\"\",ProjectInformation!$B$6,\"\")","v":"CLINTON"},null,null,null,null,null,null,null,null,null,null,null,null,null,null,null,null,null,null,null,null,null,null,null,null,null,null,null,null,null,null,null,null,null,null,null,null,null,null,null,null,"COUNTY",null,null,null,null,null,"PROJECT NUMBER",null,null,null,null,null,null,null,null,null,null,null,{"$f":"IF(ProjectInformation!$B$7<>\"\",ProjectInformation!$B$7,\"\")","v":"STPN-136-1(73)--2J-23"},null,null,null,null,null,null,null,null,null,null,null,null,null,null,null,null,null,null,null,null,null,null,null,null,null,null,null,null,null,"SHEET NUMBER",null,null,null,null,null,null,null,null,null,"T.4",null,null,null,null,null,null,null,{"$f":"IF(GE743<>\"\",\"REVISED\",\"\")","v":""},null,null,null,null,null,{"$f":"IF(ProjectInformation!$B$9<>\"\",ProjectInformation!$B$9,\"\")","v":""}]
[]
[]
[]
[null,"10/29/2019     9:35:10 AM     bchezick     K:\\7805\\SA26 701BT Clinton Culverts\\Design\\DE Sheets\\2313601013t01 (2).xlsm"]
[""]
[]
[]
[null,null,null,null,null,null,null,null,null,null,null,null,null,null,null,null,null,null,null,null,null,null,null,null,null,"",null,null,null,null,null,null,null,"",null,null,null,null,null,null,null,"",null,null,null,null,null,null,null,"",null,null,null,null,null,null,null,"",null,null,null,null,null,null,null,"",null,null,null,null,null,null,null,"",null,null,null,null,null,null,null,"",null,null,null,null,null,null,null,null,null,null,null,null,null,null,null,"",null,null,null,null,null,null,null,"",null,null,null,null,null,null,null,null,null,null,null,null,null,null,null,"",null,null,null,null,null,null,null,null,null,null,null,null,null,null,null,null,"",null,null,null,null,null,null,null,null,null,null,null,null,null,null,"",null,null,null,null,null,null,null,null,null,null,null,null,null,null,null,"",null,null,null,null,null,null,null,"",null,null,null,null,null,null,null,"",null,null,null,null,null,null,null,""]
[]
[null,null,"Refer to Standard Road Plans EW-101 and EW-102.",null,null,null,null,null,null,null,null,null,null,null,null,null,null,null,null,null,null,null,null,null,null,null,null,null,null,null,null,null,null,null,null,null,null,null,null,null,null,null,null,null,null,null,null,null,null,null,null,null,null,null,null,null,null,null,"TABULATION OF TEMPLATE QUANTITIES AND ADJUSTMENTS",null,null,null,null,null,null,null,null,null,null,null,null,null,null,null,null,null,null,null,null,null,null,null,null,null,null,null,null,null,null,null,null,null,null,null,null,null,null,null,null,null,null,null,null,null,null,null,null,null,null,null,null,null,null,null,null,null,null,null,null,null,null,null,null,null,null,null,null,null,null,null,null,null,null,null,null,null,null,"107-28"]
[]
[null,null,null,null,null,null,null,null,null,null,null,null,null,null,null,null,null,null,null,null,null,null,null,null,null,null,null,null,null,null,null,null,null,null,null,null,null,null,null,null,null,null,null,null,null,null,null,null,null,null,null,null,null,null,null,null,null,null,null,null,null,null,null,null,null,null,null,null,null,null,null,null,null,null,null,null,null,null,null,null,null,null,null,null,null,null,null,null,null,null,null,null,null,null,null,null,null,null,null,null,null,null,null,null,null,null,null,null,null,null,null,null,null,null,null,null,null,null,null,null,null,null,null,null,null,null,null,null,null,null,null,null,null,null,null,null,null,"2015-04-21"]
[]
[null,null,null,null,null,null,null,null,null,null,null,null,null,null,null,null,null,"Cut",null,null,null,null,null,null,null,null,null,null,null,null,null,null,null,null,null,null,null,null,null,null,null,null,null,null,null,null,null,null,null,null,null,null,null,null,null,null,null,"Fill",null,null,null,null,null,null,null,null,null,null,null,null,null,null,null,null,null,null,null,null,null,null,null,null,null,null,null,null,null,null,null,null,null,null,null,null,null,null,null,null,null,null,null,null,null,null,null,"Checks (EW-102)",null,null,null,null,null,null,null,null,null,null,null,null,null,null,null,"Topsoil"]
[]
[]
[null,null,null,null,null,null,null,null,null,null,null,null,null,null,null,null,null,"[1]",null,null,null,null,null,null,null,"[2]",null,null,null,null,null,null,null,"[3]",null,null,null,null,null,null,null,"[4]",null,null,null,null,null,null,null,"[5]",null,null,null,null,null,null,null,"[6]",null,null,null,null,null,null,null,"[7]",null,null,null,null,null,null,null,"[8]",null,null,null,null,null,null,null,"[9]",null,null,null,null,null,null,null,"[10]",null,null,null,null,null,null,null,"[11]",null,null,null,null,null,null,null,"[12]",null,null,null,null,null,null,null,"[13]",null,null,null,null,null,null,null,"[14]",null,null,null,null,null,null,null,"[15]",null,null,null,null,null,null,null,"[16]",null,null,null,null,null,null,null,"[17]",null,null,null,null,null,null,null,"[18]",null,null,null,null,null,null,null,"[19]",null,null,null,null,null,null,null,"[20]",null,null,null,null,null,null,null,"[21]",null,null,null,null,null,null,null,"[22]"]
[]
[]
[null,null,null,null,null,null,null,null,null,null,null,null,null,null,null,null,null,{"$f":"IF('107_28'!$R$15<>\"\",'107_28'!$R$15,\"\")","v":""},null,null,null,null,null,null,null,{"$f":"IF('107_28'!$Z$15<>\"\",'107_28'!$Z$15,\"\")","v":""},null,null,null,null,null,null,null,{"$f":"IF('107_28'!$AH$15<>\"\",'107_28'!$AH$15,\"\")","v":""},null,null,null,null,null,null,null,{"$f":"IF('107_28'!$AP$15<>\"\",'107_28'!$AP$15,\"\")","v":""},null,null,null,null,null,null,null,{"$f":"IF('107_28'!$AX$15<>\"\",'107_28'!$AX$15,\"\")","v":""},null,null,null,null,null,null,null,{"$f":"IF('107_28'!$BF$15<>\"\",'107_28'!$BF$15,\"\")","v":""},null,null,null,null,null,null,null,{"$f":"IF('107_28'!$BN$15<>\"\",'107_28'!$BN$15,\"\")","v":""},null,null,null,null,null,null,null,{"$f":"IF('107_28'!$BV$15<>\"\",'107_28'!$BV$15,\"\")","v":""},null,null,null,null,null,null,null,{"$f":"IF('107_28'!$CD$15<>\"\",'107_28'!$CD$15,\"\")","v":""},null,null,null,null,null,null,null,{"$f":"IF('107_28'!$CL$15<>\"\",'107_28'!$CL$15,\"\")","v":""},null,null,null,null,null,null,null,{"$f":"IF('107_28'!$CT$15<>\"\",'107_28'!$CT$15,\"\")","v":""},null,null,null,null,null,null,null,{"$f":"IF('107_28'!$DB$15<>\"\",'107_28'!$DB$15,\"\")","v":""},null,null,null,null,null,null,null,{"$f":"IF('107_28'!$DJ$15<>\"\",'107_28'!$DJ$15,\"\")","v":""},null,null,null,null,null,null,null,{"$f":"IF('107_28'!$DR$15<>\"\",'107_28'!$DR$15,\"\")","v":""},null,null,null,null,null,null,null,{"$f":"IF('107_28'!$DZ$15<>\"\",'107_28'!$DZ$15,\"\")","v":""},null,null,null,null,null,null,null,{"$f":"IF('107_28'!$EH$15<>\"\",'107_28'!$EH$15,\"\")","v":""},null,null,null,null,null,null,null,{"$f":"IF('107_28'!$EP$15<>\"\",'107_28'!$EP$15,\"\")","v":""},null,null,null,null,null,null,null,{"$f":"IF('107_28'!$EX$15<>\"\",'107_28'!$EX$15,\"\")","v":""},null,null,null,null,null,null,null,{"$f":"IF('107_28'!$FF$15<>\"\",'107_28'!$FF$15,\"\")","v":""},null,null,null,null,null,null,null,{"$f":"IF('107_28'!$FN$15<>\"\",'107_28'!$FN$15,\"\")","v":""},null,null,null,null,null,null,null,{"$f":"IF('107_28'!$FV$15<>\"\",'107_28'!$FV$15,\"\")","v":""},null,null,null,null,null,null,null,{"$f":"IF('107_28'!$GD$15<>\"\",'107_28'!$GD$15,\"\")","v":""}]
[]
[]
[]
[null,null,"Station",null,null,null,null,null,null,null,null,null,null,null,null,null,null,"Total Cut Unadjusted\n\nVolume",null,null,null,null,null,null,null,"Total Class 10\nUnadjusted\n\nVolume",null,null,null,null,null,null,null,"Topsoil Cut\n\nVolume",null,null,null,null,null,null,null,"Manually\nCalculated Cut\nAdjustments\n(+/- Cut)",null,null,null,null,null,null,null,"Total\nCut\nAdjusted",null,null,null,null,null,null,null,"Total Fill\nUnadjusted\n\nVolume",null,null,null,null,null,null,null,"Existing Topsoil\nStripping\nUndercut\n(+ Fill)",null,null,null,null,null,null,null,"Manual\nCalculated Fill\nAdjustments\n(+/- Fill)",null,null,null,null,null,null,null,"Total\nFill\nAdjusted",null,null,null,null,null,null,null,"Total Fill\n Adjusted w/\nWeighted Average\n1.3  Shrink Factor",null,null,null,null,null,null,null,"Total Cut Adjusted\nMinus Fill w/ Shrink",null,null,null,null,null,null,null,"Approx. Fill Vol.\nBelow 5' & Above\n20' w/ Shrink",null,null,null,null,null,null,null,"Approx. Fill\nVolume Below 3'\nw/ Shrink",null,null,null,null,null,null,null,"Topsoil\nStripping Undercut\nVolume",null,null,null,null,null,null,null,"Topsoil\nPlacement\nUndercut\nVolume",null,null,null,null,null,null,null,"Topsoil Placement\nWith 1.4 Shrink\nFactor",null,null,null,null,null,null,null,"Topsoil Stripping\nMinus Topsoil\nPlacement\nw/Shrink"]
[]
[]
[]
[]
[]
[]
[]
[]
[]
[]
[]
[]
[]
[]
[]
[]
[]
[]
[null,null,"Sta.539+60"]
[]
[null,null,53875]
[null,null,null,null,null,null,null,null,null,null,null,null,null,null,null,null,null,27,null,null,null,null,null,null,null,15,null,null,null,null,null,null,null,12,null,null,null,null,null,null,null,null,null,null,null,null,null,null,null,15,null,null,null,null,null,null,null,13,null,null,null,null,null,null,null,12,null,null,null,null,null,null,null,null,null,null,null,null,null,null,null,25,null,null,null,null,null,null,null,32.5,null,null,null,null,null,null,null,-17.5,null,null,null,null,null,null,null,0,null,null,null,null,null,null,null,0,null,null,null,null,null,null,null,12,null,null,null,null,null,null,null,25,null,null,null,null,null,null,null,35,null,null,null,null,null,null,null,-23]
[null,null,53900]
[null,null,null,null,null,null,null,null,null,null,null,null,null,null,null,null,null,52,null,null,null,null,null,null,null,32,null,null,null,null,null,null,null,20,null,null,null,null,null,null,null,null,null,null,null,null,null,null,null,32,null,null,null,null,null,null,null,53,null,null,null,null,null,null,null,20,null,null,null,null,null,null,null,null,null,null,null,null,null,null,null,73,null,null,null,null,null,null,null,94.9,null,null,null,null,null,null,null,-62.9,null,null,null,null,null,null,null,0,null,null,null,null,null,null,null,0,null,null,null,null,null,null,null,20,null,null,null,null,null,null,null,40,null,null,null,null,null,null,null,56,null,null,null,null,null,null,null,-36]
[null,null,53925]
[null,null,null,null,null,null,null,null,null,null,null,null,null,null,null,null,null,68,null,null,null,null,null,null,null,43,null,null,null,null,null,null,null,25,null,null,null,null,null,null,null,null,null,null,null,null,null,null,null,43,null,null,null,null,null,null,null,115,null,null,null,null,null,null,null,25,null,null,null,null,null,null,null,null,null,null,null,null,null,null,null,140,null,null,null,null,null,null,null,182,null,null,null,null,null,null,null,-139,null,null,null,null,null,null,null,0,null,null,null,null,null,null,null,0,null,null,null,null,null,null,null,25,null,null,null,null,null,null,null,49,null,null,null,null,null,null,null,68.599999999999994,null,null,null,null,null,null,null,-43.6]
[null,null,53950]
[null,null,null,null,null,null,null,null,null,null,null,null,null,null,null,null,null,28,null,null,null,null,null,null,null,17,null,null,null,null,null,null,null,11,null,null,null,null,null,null,null,null,null,null,null,null,null,null,null,17,null,null,null,null,null,null,null,59,null,null,null,null,null,null,null,11,null,null,null,null,null,null,null,null,null,null,null,null,null,null,null,70,null,null,null,null,null,null,null,91,null,null,null,null,null,null,null,-74,null,null,null,null,null,null,null,0,null,null,null,null,null,null,null,0,null,null,null,null,null,null,null,11,null,null,null,null,null,null,null,22,null,null,null,null,null,null,null,30.8,null,null,null,null,null,null,null,-19.8]
[null,null,53960]
[null,null,null,null,null,null,null,null,null,null,null,null,null,null,null,null,null,42,null,null,null,null,null,null,null,25,null,null,null,null,null,null,null,17,null,null,null,null,null,null,null,null,null,null,null,null,null,null,null,25,null,null,null,null,null,null,null,73,null,null,null,null,null,null,null,17,null,null,null,null,null,null,null,null,null,null,null,null,null,null,null,90,null,null,null,null,null,null,null,117,null,null,null,null,null,null,null,-92,null,null,null,null,null,null,null,0,null,null,null,null,null,null,null,0,null,null,null,null,null,null,null,17,null,null,null,null,null,null,null,33,null,null,null,null,null,null,null,46.2,null,null,null,null,null,null,null,-29.2]
[null,null,53975]
[null,null,null,null,null,null,null,null,null,null,null,null,null,null,null,null,null,44,null,null,null,null,null,null,null,23,null,null,null,null,null,null,null,21,null,null,null,null,null,null,null,null,null,null,null,null,null,null,null,23,null,null,null,null,null,null,null,74,null,null,null,null,null,null,null,21,null,null,null,null,null,null,null,null,null,null,null,null,null,null,null,95,null,null,null,null,null,null,null,123.5,null,null,null,null,null,null,null,-100.5,null,null,null,null,null,null,null,0,null,null,null,null,null,null,null,0,null,null,null,null,null,null,null,21,null,null,null,null,null,null,null,42,null,null,null,null,null,null,null,58.8,null,null,null,null,null,null,null,-37.799999999999997]
[null,null,54000]
[null,null,null,null,null,null,null,null,null,null,null,null,null,null,null,null,null,20,null,null,null,null,null,null,null,8,null,null,null,null,null,null,null,12,null,null,null,null,null,null,null,null,null,null,null,null,null,null,null,8,null,null,null,null,null,null,null,30,null,null,null,null,null,null,null,12,null,null,null,null,null,null,null,null,null,null,null,null,null,null,null,42,null,null,null,null,null,null,null,54.6,null,null,null,null,null,null,null,-46.6,null,null,null,null,null,null,null,0,null,null,null,null,null,null,null,0,null,null,null,null,null,null,null,12,null,null,null,null,null,null,null,23,null,null,null,null,null,null,null,32.200000000000003,null,null,null,null,null,null,null,-20.2]
[null,null,54025]
[]
[null,null,"Sta.539+60"]
[]
[null,null,"Totals:"]
[null,null,null,null,null,null,null,null,null,null,null,null,null,null,null,null,null,281,null,null,null,null,null,null,null,163,null,null,null,null,null,null,null,118,null,null,null,null,null,null,null,0,null,null,null,null,null,null,null,163,null,null,null,null,null,null,null,417,null,null,null,null,null,null,null,118,null,null,null,null,null,null,null,0,null,null,null,null,null,null,null,535,null,null,null,null,null,null,null,696,null,null,null,null,null,null,null,-533,null,null,null,null,null,null,null,0,null,null,null,null,null,null,null,0,null,null,null,null,null,null,null,118,null,null,null,null,null,null,null,234,null,null,null,null,null,null,null,328,null,null,null,null,null,null,null,-210]
[]
[]
[]
[null,null,null,null,null,null,null,null,null,null,null,null,null,null,null,null,null,"Excavation, Class 10, Roadway & Borrow"]
[]
[null,null,null,null,null,null,null,null,null,null,null,null,null,null,null,null,null,null,null,null,null,null,null,null,null,null,null,null,null,null,null,null,null,null,null,null,null,null,null,null,null,163,null,null,null,null,null,null,null,"CY"]
[]
[]
[]
[null,null,null,null,null,null,null,null,null,null,null,null,null,null,null,null,null,"Embankment-In-Place"]
[]
[null,null,null,null,null,null,null,null,null,null,null,null,null,null,null,null,null,null,null,null,null,null,null,null,null,null,null,null,null,null,null,null,null,null,null,null,null,null,null,null,null,410,null,null,null,null,null,null,null,"CY"]
[]
[]
[]
[null,null,null,null,null,null,null,null,null,null,null,null,null,null,null,null,null,"Topsoil, Trip, Salvage, & Spread"]
[]
[null,null,null,null,null,null,null,null,null,null,null,null,null,null,null,null,null,null,null,null,null,null,null,null,null,null,null,null,null,null,null,null,null,null,null,null,null,null,null,null,null,118,null,null,null,null,null,null,null,"CY"]
[]
[]
[]
[null,null,null,null,null,null,null,null,null,null,null,null,null,null,null,null,null,"Topsoil, Furnish & Spread"]
[]
[null,null,null,null,null,null,null,null,null,null,null,null,null,null,null,null,null,null,null,null,null,null,null,null,null,null,null,null,null,null,null,null,null,null,null,null,null,null,null,null,null,150,null,null,null,null,null,null,null,"CY"]
[]
[]
[]
[]
[]
[]
[]
[]
[]
[]
[]
[]
[]
[]
[]
[]
[]
[]
[]
[]
[]
[]
[]
[]
[]
[]
[]
[]
[]
[]
[]
[]
[]
[]
[]
[]
[]
[]
[]
[]
[]
[]
[]
[]
[]
[]
[]
[]
[]
[]
[]
[]
[]
[]
[]
[]
[]
[]
[]
[]
[]
[]
[]
[]
[]
[]
[]
[]
[]
[]
[]
[]
[]
[]
[]
[]
[]
[]
[]
[]
[]
[]
[]
[]
[]
[]
[]
[]
[]
[]
[]
[]
[]
[]
[]
[]
[null,"","",null,null,null,null,null,null,null,null,null,null,null,null,null,null,"",null,null,null,null,null,null,null,"",null,null,null,null,null,null,null,"",null,null,null,null,null,null,null,"",null,null,null,null,null,null,null,"",null,null,null,null,null,null,null,"",null,null,null,null,null,null,null,"",null,null,null,null,null,null,null,"",null,null,null,null,null,null,null,"",null,null,null,null,null,null,null,null,null,null,null,null,null,null,null,"",null,null,null,null,null,null,null,"",null,null,null,null,null,null,null,null,null,null,null,null,null,null,null,"",null,null,null,null,null,null,null,null,null,null,null,null,null,null,null,null,"",null,null,null,null,null,null,null,null,null,null,null,null,null,null,"",null,null,null,null,null,null,null,"",null,null,null,null,null,null,null,"",null,null,null,null,null,null,null,"",null,null,null,null,null,null,null,"",null,null,null,null,null,null,null,""]
[]
[null,"FILE NO.",null,null,null,null,null,null,{"$f":"IF(ProjectInformation!$B$12<>\"\",ProjectInformation!$B$12,\"\")","v":""},null,null,null,null,null,null,{"$f":"UPPER(ProjectInformation!$B$8)","v":"ENGLISH"},null,null,null,null,null,null,"DESIGN TEAM",null,null,null,null,null,null,null,null,{"$f":"IF(AND(ProjectInformation!$B$3<>\"\",ProjectInformation!$B$4<>\"\",ProjectInformation!$B$5<>\"\"),ProjectInformation!$B$3&\"\\\"&ProjectInformation!$B$4&\"\\\"&ProjectInformation!$B$5,IF(AND(ProjectInformation!$B$3<>\"\",ProjectInformation!$B$4<>\"\"),ProjectInformation!$B$3&\"\\\"&ProjectInformation!$B$4,IF(ProjectInformation!$B$3<>\"\",ProjectInformation!$B$3,\"\")))","v":"WHKS & CO."},null,null,null,null,null,null,null,null,null,null,null,null,null,null,null,null,null,null,null,null,null,null,null,null,null,null,null,null,null,null,null,null,null,null,null,null,null,null,null,null,null,{"$f":"IF(ProjectInformation!$B$6<>\"\",ProjectInformation!$B$6,\"\")","v":"CLINTON"},null,null,null,null,null,null,null,null,null,null,null,null,null,null,null,null,null,null,null,null,null,null,null,null,null,null,null,null,null,null,null,null,null,null,null,null,null,null,null,null,"COUNTY",null,null,null,null,null,"PROJECT NUMBER",null,null,null,null,null,null,null,null,null,null,null,{"$f":"IF(ProjectInformation!$B$7<>\"\",ProjectInformation!$B$7,\"\")","v":"STPN-136-1(73)--2J-23"},null,null,null,null,null,null,null,null,null,null,null,null,null,null,null,null,null,null,null,null,null,null,null,null,null,null,null,null,null,"SHEET NUMBER",null,null,null,null,null,null,null,null,null,"T.5",null,null,null,null,null,null,null,{"$f":"IF(GE930<>\"\",\"REVISED\",\"\")","v":""},null,null,null,null,null,{"$f":"IF(ProjectInformation!$B$9<>\"\",ProjectInformation!$B$9,\"\")","v":""}]
[]
[]
[]
[null,"10/29/2019     9:35:10 AM     bchezick     K:\\7805\\SA26 701BT Clinton Culverts\\Design\\DE Sheets\\2313601013t01 (2).xlsm"]
[""]
[]
[]
[null,null,null,null,null,null,null,null,null,null,null,null,null,null,null,null,null,null,null,null,null,null,null,null,null,"",null,null,null,null,null,null,null,"",null,null,null,null,null,null,null,"",null,null,null,null,null,null,null,"",null,null,null,null,null,null,null,"",null,null,null,null,null,null,null,"",null,null,null,null,null,null,null,"",null,null,null,null,null,null,null,"",null,null,null,null,null,null,null,null,null,null,null,null,null,null,null,"",null,null,null,null,null,null,null,"",null,null,null,null,null,null,null,null,null,null,null,null,null,null,null,"",null,null,null,null,null,null,null,null,null,null,null,null,null,null,null,null,"",null,null,null,null,null,null,null,null,null,null,null,null,null,null,"",null,null,null,null,null,null,null,null,null,null,null,null,null,null,null,"",null,null,null,null,null,null,null,"",null,null,null,null,null,null,null,"",null,null,null,null,null,null,null,""]
[]
[null,null,"Refer to Standard Road Plans EW-101 and EW-102.",null,null,null,null,null,null,null,null,null,null,null,null,null,null,null,null,null,null,null,null,null,null,null,null,null,null,null,null,null,null,null,null,null,null,null,null,null,null,null,null,null,null,null,null,null,null,null,null,null,null,null,null,null,null,null,"TABULATION OF TEMPLATE QUANTITIES AND ADJUSTMENTS",null,null,null,null,null,null,null,null,null,null,null,null,null,null,null,null,null,null,null,null,null,null,null,null,null,null,null,null,null,null,null,null,null,null,null,null,null,null,null,null,null,null,null,null,null,null,null,null,null,null,null,null,null,null,null,null,null,null,null,null,null,null,null,null,null,null,null,null,null,null,null,null,null,null,null,null,null,null,"107-28"]
[]
[null,null,null,null,null,null,null,null,null,null,null,null,null,null,null,null,null,null,null,null,null,null,null,null,null,null,null,null,null,null,null,null,null,null,null,null,null,null,null,null,null,null,null,null,null,null,null,null,null,null,null,null,null,null,null,null,null,null,null,null,null,null,null,null,null,null,null,null,null,null,null,null,null,null,null,null,null,null,null,null,null,null,null,null,null,null,null,null,null,null,null,null,null,null,null,null,null,null,null,null,null,null,null,null,null,null,null,null,null,null,null,null,null,null,null,null,null,null,null,null,null,null,null,null,null,null,null,null,null,null,null,null,null,null,null,null,null,"2015-04-21"]
[]
[null,null,null,null,null,null,null,null,null,null,null,null,null,null,null,null,null,"Cut",null,null,null,null,null,null,null,null,null,null,null,null,null,null,null,null,null,null,null,null,null,null,null,null,null,null,null,null,null,null,null,null,null,null,null,null,null,null,null,"Fill",null,null,null,null,null,null,null,null,null,null,null,null,null,null,null,null,null,null,null,null,null,null,null,null,null,null,null,null,null,null,null,null,null,null,null,null,null,null,null,null,null,null,null,null,null,null,null,"Checks (EW-102)",null,null,null,null,null,null,null,null,null,null,null,null,null,null,null,"Topsoil"]
[]
[]
[null,null,null,null,null,null,null,null,null,null,null,null,null,null,null,null,null,"[1]",null,null,null,null,null,null,null,"[2]",null,null,null,null,null,null,null,"[3]",null,null,null,null,null,null,null,"[4]",null,null,null,null,null,null,null,"[5]",null,null,null,null,null,null,null,"[6]",null,null,null,null,null,null,null,"[7]",null,null,null,null,null,null,null,"[8]",null,null,null,null,null,null,null,"[9]",null,null,null,null,null,null,null,"[10]",null,null,null,null,null,null,null,"[11]",null,null,null,null,null,null,null,"[12]",null,null,null,null,null,null,null,"[13]",null,null,null,null,null,null,null,"[14]",null,null,null,null,null,null,null,"[15]",null,null,null,null,null,null,null,"[16]",null,null,null,null,null,null,null,"[17]",null,null,null,null,null,null,null,"[18]",null,null,null,null,null,null,null,"[19]",null,null,null,null,null,null,null,"[20]",null,null,null,null,null,null,null,"[21]",null,null,null,null,null,null,null,"[22]"]
[]
[]
[null,null,null,null,null,null,null,null,null,null,null,null,null,null,null,null,null,{"$f":"IF('107_28'!$R$15<>\"\",'107_28'!$R$15,\"\")","v":""},null,null,null,null,null,null,null,{"$f":"IF('107_28'!$Z$15<>\"\",'107_28'!$Z$15,\"\")","v":""},null,null,null,null,null,null,null,{"$f":"IF('107_28'!$AH$15<>\"\",'107_28'!$AH$15,\"\")","v":""},null,null,null,null,null,null,null,{"$f":"IF('107_28'!$AP$15<>\"\",'107_28'!$AP$15,\"\")","v":""},null,null,null,null,null,null,null,{"$f":"IF('107_28'!$AX$15<>\"\",'107_28'!$AX$15,\"\")","v":""},null,null,null,null,null,null,null,{"$f":"IF('107_28'!$BF$15<>\"\",'107_28'!$BF$15,\"\")","v":""},null,null,null,null,null,null,null,{"$f":"IF('107_28'!$BN$15<>\"\",'107_28'!$BN$15,\"\")","v":""},null,null,null,null,null,null,null,{"$f":"IF('107_28'!$BV$15<>\"\",'107_28'!$BV$15,\"\")","v":""},null,null,null,null,null,null,null,{"$f":"IF('107_28'!$CD$15<>\"\",'107_28'!$CD$15,\"\")","v":""},null,null,null,null,null,null,null,{"$f":"IF('107_28'!$CL$15<>\"\",'107_28'!$CL$15,\"\")","v":""},null,null,null,null,null,null,null,{"$f":"IF('107_28'!$CT$15<>\"\",'107_28'!$CT$15,\"\")","v":""},null,null,null,null,null,null,null,{"$f":"IF('107_28'!$DB$15<>\"\",'107_28'!$DB$15,\"\")","v":""},null,null,null,null,null,null,null,{"$f":"IF('107_28'!$DJ$15<>\"\",'107_28'!$DJ$15,\"\")","v":""},null,null,null,null,null,null,null,{"$f":"IF('107_28'!$DR$15<>\"\",'107_28'!$DR$15,\"\")","v":""},null,null,null,null,null,null,null,{"$f":"IF('107_28'!$DZ$15<>\"\",'107_28'!$DZ$15,\"\")","v":""},null,null,null,null,null,null,null,{"$f":"IF('107_28'!$EH$15<>\"\",'107_28'!$EH$15,\"\")","v":""},null,null,null,null,null,null,null,{"$f":"IF('107_28'!$EP$15<>\"\",'107_28'!$EP$15,\"\")","v":""},null,null,null,null,null,null,null,{"$f":"IF('107_28'!$EX$15<>\"\",'107_28'!$EX$15,\"\")","v":""},null,null,null,null,null,null,null,{"$f":"IF('107_28'!$FF$15<>\"\",'107_28'!$FF$15,\"\")","v":""},null,null,null,null,null,null,null,{"$f":"IF('107_28'!$FN$15<>\"\",'107_28'!$FN$15,\"\")","v":""},null,null,null,null,null,null,null,{"$f":"IF('107_28'!$FV$15<>\"\",'107_28'!$FV$15,\"\")","v":""},null,null,null,null,null,null,null,{"$f":"IF('107_28'!$GD$15<>\"\",'107_28'!$GD$15,\"\")","v":""}]
[]
[]
[]
[null,null,"Station",null,null,null,null,null,null,null,null,null,null,null,null,null,null,"Total Cut Unadjusted\n\nVolume",null,null,null,null,null,null,null,"Total Class 10\nUnadjusted\n\nVolume",null,null,null,null,null,null,null,"Topsoil Cut\n\nVolume",null,null,null,null,null,null,null,"Manually\nCalculated Cut\nAdjustments\n(+/- Cut)",null,null,null,null,null,null,null,"Total\nCut\nAdjusted",null,null,null,null,null,null,null,"Total Fill\nUnadjusted\n\nVolume",null,null,null,null,null,null,null,"Existing Topsoil\nStripping\nUndercut\n(+ Fill)",null,null,null,null,null,null,null,"Manual\nCalculated Fill\nAdjustments\n(+/- Fill)",null,null,null,null,null,null,null,"Total\nFill\nAdjusted",null,null,null,null,null,null,null,"Total Fill\n Adjusted w/\nWeighted Average\n1.3  Shrink Factor",null,null,null,null,null,null,null,"Total Cut Adjusted\nMinus Fill w/ Shrink",null,null,null,null,null,null,null,"Approx. Fill Vol.\nBelow 5' & Above\n20' w/ Shrink",null,null,null,null,null,null,null,"Approx. Fill\nVolume Below 3'\nw/ Shrink",null,null,null,null,null,null,null,"Topsoil\nStripping Undercut\nVolume",null,null,null,null,null,null,null,"Topsoil\nPlacement\nUndercut\nVolume",null,null,null,null,null,null,null,"Topsoil Placement\nWith 1.4 Shrink\nFactor",null,null,null,null,null,null,null,"Topsoil Stripping\nMinus Topsoil\nPlacement\nw/Shrink"]
[]
[]
[]
[]
[]
[]
[]
[]
[]
[]
[]
[]
[]
[]
[]
[]
[]
[]
[null,null,"Sta.553+83"]
[]
[null,null,55275]
[null,null,null,null,null,null,null,null,null,null,null,null,null,null,null,null,null,15,null,null,null,null,null,null,null,11,null,null,null,null,null,null,null,4,null,null,null,null,null,null,null,null,null,null,null,null,null,null,null,11,null,null,null,null,null,null,null,0,null,null,null,null,null,null,null,4,null,null,null,null,null,null,null,null,null,null,null,null,null,null,null,4,null,null,null,null,null,null,null,5.2,null,null,null,null,null,null,null,5.8,null,null,null,null,null,null,null,0,null,null,null,null,null,null,null,0,null,null,null,null,null,null,null,4,null,null,null,null,null,null,null,8,null,null,null,null,null,null,null,11.2,null,null,null,null,null,null,null,-7.2]
[null,null,55300]
[null,null,null,null,null,null,null,null,null,null,null,null,null,null,null,null,null,35,null,null,null,null,null,null,null,26,null,null,null,null,null,null,null,9,null,null,null,null,null,null,null,null,null,null,null,null,null,null,null,26,null,null,null,null,null,null,null,1,null,null,null,null,null,null,null,9,null,null,null,null,null,null,null,null,null,null,null,null,null,null,null,10,null,null,null,null,null,null,null,13,null,null,null,null,null,null,null,13,null,null,null,null,null,null,null,0,null,null,null,null,null,null,null,0,null,null,null,null,null,null,null,9,null,null,null,null,null,null,null,17,null,null,null,null,null,null,null,23.8,null,null,null,null,null,null,null,-14.8]
[null,null,55325]
[null,null,null,null,null,null,null,null,null,null,null,null,null,null,null,null,null,55,null,null,null,null,null,null,null,40,null,null,null,null,null,null,null,15,null,null,null,null,null,null,null,null,null,null,null,null,null,null,null,40,null,null,null,null,null,null,null,11,null,null,null,null,null,null,null,15,null,null,null,null,null,null,null,null,null,null,null,null,null,null,null,26,null,null,null,null,null,null,null,33.799999999999997,null,null,null,null,null,null,null,6.2,null,null,null,null,null,null,null,0,null,null,null,null,null,null,null,0,null,null,null,null,null,null,null,15,null,null,null,null,null,null,null,29,null,null,null,null,null,null,null,40.6,null,null,null,null,null,null,null,-25.6]
[null,null,55350]
[null,null,null,null,null,null,null,null,null,null,null,null,null,null,null,null,null,76,null,null,null,null,null,null,null,54,null,null,null,null,null,null,null,22,null,null,null,null,null,null,null,null,null,null,null,null,null,null,null,54,null,null,null,null,null,null,null,61,null,null,null,null,null,null,null,22,null,null,null,null,null,null,null,null,null,null,null,null,null,null,null,83,null,null,null,null,null,null,null,107.9,null,null,null,null,null,null,null,-53.9,null,null,null,null,null,null,null,0,null,null,null,null,null,null,null,0,null,null,null,null,null,null,null,22,null,null,null,null,null,null,null,43,null,null,null,null,null,null,null,60.2,null,null,null,null,null,null,null,-38.200000000000003]
[null,null,55375]
[null,null,null,null,null,null,null,null,null,null,null,null,null,null,null,null,null,24,null,null,null,null,null,null,null,18,null,null,null,null,null,null,null,6,null,null,null,null,null,null,null,null,null,null,null,null,null,null,null,18,null,null,null,null,null,null,null,52,null,null,null,null,null,null,null,6,null,null,null,null,null,null,null,null,null,null,null,null,null,null,null,58,null,null,null,null,null,null,null,75.400000000000006,null,null,null,null,null,null,null,-57.4,null,null,null,null,null,null,null,0,null,null,null,null,null,null,null,0,null,null,null,null,null,null,null,6,null,null,null,null,null,null,null,16,null,null,null,null,null,null,null,22.4,null,null,null,null,null,null,null,-16.399999999999999]
[null,null,55383.41]
[null,null,null,null,null,null,null,null,null,null,null,null,null,null,null,null,null,41,null,null,null,null,null,null,null,29,null,null,null,null,null,null,null,12,null,null,null,null,null,null,null,null,null,null,null,null,null,null,null,29,null,null,null,null,null,null,null,91,null,null,null,null,null,null,null,12,null,null,null,null,null,null,null,null,null,null,null,null,null,null,null,103,null,null,null,null,null,null,null,133.9,null,null,null,null,null,null,null,-104.9,null,null,null,null,null,null,null,0,null,null,null,null,null,null,null,0,null,null,null,null,null,null,null,12,null,null,null,null,null,null,null,31,null,null,null,null,null,null,null,43.4,null,null,null,null,null,null,null,-31.4]
[null,null,55400]
[null,null,null,null,null,null,null,null,null,null,null,null,null,null,null,null,null,75,null,null,null,null,null,null,null,51,null,null,null,null,null,null,null,24,null,null,null,null,null,null,null,null,null,null,null,null,null,null,null,51,null,null,null,null,null,null,null,43,null,null,null,null,null,null,null,24,null,null,null,null,null,null,null,null,null,null,null,null,null,null,null,67,null,null,null,null,null,null,null,87.1,null,null,null,null,null,null,null,-36.1,null,null,null,null,null,null,null,0,null,null,null,null,null,null,null,0,null,null,null,null,null,null,null,24,null,null,null,null,null,null,null,47,null,null,null,null,null,null,null,65.8,null,null,null,null,null,null,null,-41.8]
[null,null,55425]
[null,null,null,null,null,null,null,null,null,null,null,null,null,null,null,null,null,66,null,null,null,null,null,null,null,48,null,null,null,null,null,null,null,18,null,null,null,null,null,null,null,null,null,null,null,null,null,null,null,48,null,null,null,null,null,null,null,10,null,null,null,null,null,null,null,18,null,null,null,null,null,null,null,null,null,null,null,null,null,null,null,28,null,null,null,null,null,null,null,36.4,null,null,null,null,null,null,null,11.6,null,null,null,null,null,null,null,0,null,null,null,null,null,null,null,0,null,null,null,null,null,null,null,18,null,null,null,null,null,null,null,36,null,null,null,null,null,null,null,50.4,null,null,null,null,null,null,null,-32.4]
[null,null,55450]
[null,null,null,null,null,null,null,null,null,null,null,null,null,null,null,null,null,37,null,null,null,null,null,null,null,28,null,null,null,null,null,null,null,9,null,null,null,null,null,null,null,null,null,null,null,null,null,null,null,28,null,null,null,null,null,null,null,0,null,null,null,null,null,null,null,9,null,null,null,null,null,null,null,null,null,null,null,null,null,null,null,9,null,null,null,null,null,null,null,11.7,null,null,null,null,null,null,null,16.3,null,null,null,null,null,null,null,0,null,null,null,null,null,null,null,0,null,null,null,null,null,null,null,9,null,null,null,null,null,null,null,18,null,null,null,null,null,null,null,25.2,null,null,null,null,null,null,null,-16.2]
[null,null,55475]
[]
[null,null,"Sta.553+83"]
[]
[null,null,"Totals:"]
[null,null,null,null,null,null,null,null,null,null,null,null,null,null,null,null,null,424,null,null,null,null,null,null,null,305,null,null,null,null,null,null,null,119,null,null,null,null,null,null,null,0,null,null,null,null,null,null,null,305,null,null,null,null,null,null,null,269,null,null,null,null,null,null,null,119,null,null,null,null,null,null,null,0,null,null,null,null,null,null,null,388,null,null,null,null,null,null,null,505,null,null,null,null,null,null,null,-200,null,null,null,null,null,null,null,0,null,null,null,null,null,null,null,0,null,null,null,null,null,null,null,119,null,null,null,null,null,null,null,245,null,null,null,null,null,null,null,343,null,null,null,null,null,null,null,-224]
[]
[]
[]
[null,null,null,null,null,null,null,null,null,null,null,null,null,null,null,null,null,"Excavation, Class 10, Roadway & Borrow"]
[]
[null,null,null,null,null,null,null,null,null,null,null,null,null,null,null,null,null,null,null,null,null,null,null,null,null,null,null,null,null,null,null,null,null,null,null,null,null,null,null,null,null,305,null,null,null,null,null,null,null,"CY"]
[]
[]
[]
[null,null,null,null,null,null,null,null,null,null,null,null,null,null,null,null,null,"Embankment-In-Place"]
[]
[null,null,null,null,null,null,null,null,null,null,null,null,null,null,null,null,null,null,null,null,null,null,null,null,null,null,null,null,null,null,null,null,null,null,null,null,null,null,null,null,null,154,null,null,null,null,null,null,null,"CY"]
[]
[]
[]
[null,null,null,null,null,null,null,null,null,null,null,null,null,null,null,null,null,"Topsoil, Trip, Salvage, & Spread"]
[]
[null,null,null,null,null,null,null,null,null,null,null,null,null,null,null,null,null,null,null,null,null,null,null,null,null,null,null,null,null,null,null,null,null,null,null,null,null,null,null,null,null,119,null,null,null,null,null,null,null,"CY"]
[]
[]
[]
[null,null,null,null,null,null,null,null,null,null,null,null,null,null,null,null,null,"Topsoil, Furnish & Spread"]
[]
[null,null,null,null,null,null,null,null,null,null,null,null,null,null,null,null,null,null,null,null,null,null,null,null,null,null,null,null,null,null,null,null,null,null,null,null,null,null,null,null,null,160,null,null,null,null,null,null,null,"CY"]
[]
[]
[]
[]
[]
[]
[]
[]
[]
[]
[]
[]
[]
[]
[]
[]
[]
[]
[]
[]
[]
[]
[]
[]
[]
[]
[]
[]
[]
[]
[]
[]
[]
[]
[]
[]
[]
[]
[]
[]
[]
[]
[]
[]
[]
[]
[]
[]
[]
[]
[]
[]
[]
[]
[]
[]
[]
[]
[]
[]
[]
[]
[]
[]
[]
[]
[]
[]
[]
[]
[]
[]
[]
[]
[]
[]
[]
[]
[]
[]
[]
[]
[]
[]
[]
[]
[]
[]
[]
[]
[]
[]
[null,"","",null,null,null,null,null,null,null,null,null,null,null,null,null,null,"",null,null,null,null,null,null,null,"",null,null,null,null,null,null,null,"",null,null,null,null,null,null,null,"",null,null,null,null,null,null,null,"",null,null,null,null,null,null,null,"",null,null,null,null,null,null,null,"",null,null,null,null,null,null,null,"",null,null,null,null,null,null,null,"",null,null,null,null,null,null,null,null,null,null,null,null,null,null,null,"",null,null,null,null,null,null,null,"",null,null,null,null,null,null,null,null,null,null,null,null,null,null,null,"",null,null,null,null,null,null,null,null,null,null,null,null,null,null,null,null,"",null,null,null,null,null,null,null,null,null,null,null,null,null,null,"",null,null,null,null,null,null,null,"",null,null,null,null,null,null,null,"",null,null,null,null,null,null,null,"",null,null,null,null,null,null,null,"",null,null,null,null,null,null,null,""]
[]
[null,"FILE NO.",null,null,null,null,null,null,{"$f":"IF(ProjectInformation!$B$12<>\"\",ProjectInformation!$B$12,\"\")","v":""},null,null,null,null,null,null,{"$f":"UPPER(ProjectInformation!$B$8)","v":"ENGLISH"},null,null,null,null,null,null,"DESIGN TEAM",null,null,null,null,null,null,null,null,{"$f":"IF(AND(ProjectInformation!$B$3<>\"\",ProjectInformation!$B$4<>\"\",ProjectInformation!$B$5<>\"\"),ProjectInformation!$B$3&\"\\\"&ProjectInformation!$B$4&\"\\\"&ProjectInformation!$B$5,IF(AND(ProjectInformation!$B$3<>\"\",ProjectInformation!$B$4<>\"\"),ProjectInformation!$B$3&\"\\\"&ProjectInformation!$B$4,IF(ProjectInformation!$B$3<>\"\",ProjectInformation!$B$3,\"\")))","v":"WHKS & CO."},null,null,null,null,null,null,null,null,null,null,null,null,null,null,null,null,null,null,null,null,null,null,null,null,null,null,null,null,null,null,null,null,null,null,null,null,null,null,null,null,null,{"$f":"IF(ProjectInformation!$B$6<>\"\",ProjectInformation!$B$6,\"\")","v":"CLINTON"},null,null,null,null,null,null,null,null,null,null,null,null,null,null,null,null,null,null,null,null,null,null,null,null,null,null,null,null,null,null,null,null,null,null,null,null,null,null,null,null,"COUNTY",null,null,null,null,null,"PROJECT NUMBER",null,null,null,null,null,null,null,null,null,null,null,{"$f":"IF(ProjectInformation!$B$7<>\"\",ProjectInformation!$B$7,\"\")","v":"STPN-136-1(73)--2J-23"},null,null,null,null,null,null,null,null,null,null,null,null,null,null,null,null,null,null,null,null,null,null,null,null,null,null,null,null,null,"SHEET NUMBER",null,null,null,null,null,null,null,null,null,"T.6",null,null,null,null,null,null,null,{"$f":"IF(GE1117<>\"\",\"REVISED\",\"\")","v":""},null,null,null,null,null,{"$f":"IF(ProjectInformation!$B$9<>\"\",ProjectInformation!$B$9,\"\")","v":""}]
[]
[]
[]
[null,"10/29/2019     9:35:10 AM     bchezick     K:\\7805\\SA26 701BT Clinton Culverts\\Design\\DE Sheets\\2313601013t01 (2).xlsm"]
[""]
[]
[]
[null,null,null,null,null,null,null,null,null,null,null,null,null,null,null,null,null,null,null,null,null,null,null,null,null,"",null,null,null,null,null,null,null,"",null,null,null,null,null,null,null,"",null,null,null,null,null,null,null,"",null,null,null,null,null,null,null,"",null,null,null,null,null,null,null,"",null,null,null,null,null,null,null,"",null,null,null,null,null,null,null,"",null,null,null,null,null,null,null,null,null,null,null,null,null,null,null,"",null,null,null,null,null,null,null,"",null,null,null,null,null,null,null,null,null,null,null,null,null,null,null,"",null,null,null,null,null,null,null,null,null,null,null,null,null,null,null,null,"",null,null,null,null,null,null,null,null,null,null,null,null,null,null,"",null,null,null,null,null,null,null,null,null,null,null,null,null,null,null,"",null,null,null,null,null,null,null,"",null,null,null,null,null,null,null,"",null,null,null,null,null,null,null,""]
[]
[null,null,"Refer to Standard Road Plans EW-101 and EW-102.",null,null,null,null,null,null,null,null,null,null,null,null,null,null,null,null,null,null,null,null,null,null,null,null,null,null,null,null,null,null,null,null,null,null,null,null,null,null,null,null,null,null,null,null,null,null,null,null,null,null,null,null,null,null,null,"TABULATION OF TEMPLATE QUANTITIES AND ADJUSTMENTS",null,null,null,null,null,null,null,null,null,null,null,null,null,null,null,null,null,null,null,null,null,null,null,null,null,null,null,null,null,null,null,null,null,null,null,null,null,null,null,null,null,null,null,null,null,null,null,null,null,null,null,null,null,null,null,null,null,null,null,null,null,null,null,null,null,null,null,null,null,null,null,null,null,null,null,null,null,null,"107-28"]
[]
[null,null,null,null,null,null,null,null,null,null,null,null,null,null,null,null,null,null,null,null,null,null,null,null,null,null,null,null,null,null,null,null,null,null,null,null,null,null,null,null,null,null,null,null,null,null,null,null,null,null,null,null,null,null,null,null,null,null,null,null,null,null,null,null,null,null,null,null,null,null,null,null,null,null,null,null,null,null,null,null,null,null,null,null,null,null,null,null,null,null,null,null,null,null,null,null,null,null,null,null,null,null,null,null,null,null,null,null,null,null,null,null,null,null,null,null,null,null,null,null,null,null,null,null,null,null,null,null,null,null,null,null,null,null,null,null,null,"2015-04-21"]
[]
[null,null,null,null,null,null,null,null,null,null,null,null,null,null,null,null,null,"Cut",null,null,null,null,null,null,null,null,null,null,null,null,null,null,null,null,null,null,null,null,null,null,null,null,null,null,null,null,null,null,null,null,null,null,null,null,null,null,null,"Fill",null,null,null,null,null,null,null,null,null,null,null,null,null,null,null,null,null,null,null,null,null,null,null,null,null,null,null,null,null,null,null,null,null,null,null,null,null,null,null,null,null,null,null,null,null,null,null,"Checks (EW-102)",null,null,null,null,null,null,null,null,null,null,null,null,null,null,null,"Topsoil"]
[]
[]
[null,null,null,null,null,null,null,null,null,null,null,null,null,null,null,null,null,"[1]",null,null,null,null,null,null,null,"[2]",null,null,null,null,null,null,null,"[3]",null,null,null,null,null,null,null,"[4]",null,null,null,null,null,null,null,"[5]",null,null,null,null,null,null,null,"[6]",null,null,null,null,null,null,null,"[7]",null,null,null,null,null,null,null,"[8]",null,null,null,null,null,null,null,"[9]",null,null,null,null,null,null,null,"[10]",null,null,null,null,null,null,null,"[11]",null,null,null,null,null,null,null,"[12]",null,null,null,null,null,null,null,"[13]",null,null,null,null,null,null,null,"[14]",null,null,null,null,null,null,null,"[15]",null,null,null,null,null,null,null,"[16]",null,null,null,null,null,null,null,"[17]",null,null,null,null,null,null,null,"[18]",null,null,null,null,null,null,null,"[19]",null,null,null,null,null,null,null,"[20]",null,null,null,null,null,null,null,"[21]",null,null,null,null,null,null,null,"[22]"]
[]
[]
[null,null,null,null,null,null,null,null,null,null,null,null,null,null,null,null,null,{"$f":"IF('107_28'!$R$15<>\"\",'107_28'!$R$15,\"\")","v":""},null,null,null,null,null,null,null,{"$f":"IF('107_28'!$Z$15<>\"\",'107_28'!$Z$15,\"\")","v":""},null,null,null,null,null,null,null,{"$f":"IF('107_28'!$AH$15<>\"\",'107_28'!$AH$15,\"\")","v":""},null,null,null,null,null,null,null,{"$f":"IF('107_28'!$AP$15<>\"\",'107_28'!$AP$15,\"\")","v":""},null,null,null,null,null,null,null,{"$f":"IF('107_28'!$AX$15<>\"\",'107_28'!$AX$15,\"\")","v":""},null,null,null,null,null,null,null,{"$f":"IF('107_28'!$BF$15<>\"\",'107_28'!$BF$15,\"\")","v":""},null,null,null,null,null,null,null,{"$f":"IF('107_28'!$BN$15<>\"\",'107_28'!$BN$15,\"\")","v":""},null,null,null,null,null,null,null,{"$f":"IF('107_28'!$BV$15<>\"\",'107_28'!$BV$15,\"\")","v":""},null,null,null,null,null,null,null,{"$f":"IF('107_28'!$CD$15<>\"\",'107_28'!$CD$15,\"\")","v":""},null,null,null,null,null,null,null,{"$f":"IF('107_28'!$CL$15<>\"\",'107_28'!$CL$15,\"\")","v":""},null,null,null,null,null,null,null,{"$f":"IF('107_28'!$CT$15<>\"\",'107_28'!$CT$15,\"\")","v":""},null,null,null,null,null,null,null,{"$f":"IF('107_28'!$DB$15<>\"\",'107_28'!$DB$15,\"\")","v":""},null,null,null,null,null,null,null,{"$f":"IF('107_28'!$DJ$15<>\"\",'107_28'!$DJ$15,\"\")","v":""},null,null,null,null,null,null,null,{"$f":"IF('107_28'!$DR$15<>\"\",'107_28'!$DR$15,\"\")","v":""},null,null,null,null,null,null,null,{"$f":"IF('107_28'!$DZ$15<>\"\",'107_28'!$DZ$15,\"\")","v":""},null,null,null,null,null,null,null,{"$f":"IF('107_28'!$EH$15<>\"\",'107_28'!$EH$15,\"\")","v":""},null,null,null,null,null,null,null,{"$f":"IF('107_28'!$EP$15<>\"\",'107_28'!$EP$15,\"\")","v":""},null,null,null,null,null,null,null,{"$f":"IF('107_28'!$EX$15<>\"\",'107_28'!$EX$15,\"\")","v":""},null,null,null,null,null,null,null,{"$f":"IF('107_28'!$FF$15<>\"\",'107_28'!$FF$15,\"\")","v":""},null,null,null,null,null,null,null,{"$f":"IF('107_28'!$FN$15<>\"\",'107_28'!$FN$15,\"\")","v":""},null,null,null,null,null,null,null,{"$f":"IF('107_28'!$FV$15<>\"\",'107_28'!$FV$15,\"\")","v":""},null,null,null,null,null,null,null,{"$f":"IF('107_28'!$GD$15<>\"\",'107_28'!$GD$15,\"\")","v":""}]
[]
[]
[]
[null,null,"Station",null,null,null,null,null,null,null,null,null,null,null,null,null,null,"Total Cut Unadjusted\n\nVolume",null,null,null,null,null,null,null,"Total Class 10\nUnadjusted\n\nVolume",null,null,null,null,null,null,null,"Topsoil Cut\n\nVolume",null,null,null,null,null,null,null,"Manually\nCalculated Cut\nAdjustments\n(+/- Cut)",null,null,null,null,null,null,null,"Total\nCut\nAdjusted",null,null,null,null,null,null,null,"Total Fill\nUnadjusted\n\nVolume",null,null,null,null,null,null,null,"Existing Topsoil\nStripping\nUndercut\n(+ Fill)",null,null,null,null,null,null,null,"Manual\nCalculated Fill\nAdjustments\n(+/- Fill)",null,null,null,null,null,null,null,"Total\nFill\nAdjusted",null,null,null,null,null,null,null,"Total Fill\n Adjusted w/\nWeighted Average\n1.3  Shrink Factor",null,null,null,null,null,null,null,"Total Cut Adjusted\nMinus Fill w/ Shrink",null,null,null,null,null,null,null,"Approx. Fill Vol.\nBelow 5' & Above\n20' w/ Shrink",null,null,null,null,null,null,null,"Approx. Fill\nVolume Below 3'\nw/ Shrink",null,null,null,null,null,null,null,"Topsoil\nStripping Undercut\nVolume",null,null,null,null,null,null,null,"Topsoil\nPlacement\nUndercut\nVolume",null,null,null,null,null,null,null,"Topsoil Placement\nWith 1.4 Shrink\nFactor",null,null,null,null,null,null,null,"Topsoil Stripping\nMinus Topsoil\nPlacement\nw/Shrink"]
[]
[]
[]
[]
[]
[]
[]
[]
[]
[]
[]
[]
[]
[]
[]
[]
[]
[]
[null,null,"Sta.571+62"]
[]
[null,null,57000]
[null,null,null,null,null,null,null,null,null,null,null,null,null,null,null,null,null,9,null,null,null,null,null,null,null,5,null,null,null,null,null,null,null,4,null,null,null,null,null,null,null,null,null,null,null,null,null,null,null,5,null,null,null,null,null,null,null,0,null,null,null,null,null,null,null,4,null,null,null,null,null,null,null,null,null,null,null,null,null,null,null,4,null,null,null,null,null,null,null,5.2,null,null,null,null,null,null,null,-0.2,null,null,null,null,null,null,null,0,null,null,null,null,null,null,null,0,null,null,null,null,null,null,null,4,null,null,null,null,null,null,null,8,null,null,null,null,null,null,null,11.2,null,null,null,null,null,null,null,-7.2]
[null,null,57025]
[null,null,null,null,null,null,null,null,null,null,null,null,null,null,null,null,null,11,null,null,null,null,null,null,null,4,null,null,null,null,null,null,null,7,null,null,null,null,null,null,null,null,null,null,null,null,null,null,null,4,null,null,null,null,null,null,null,4,null,null,null,null,null,null,null,7,null,null,null,null,null,null,null,null,null,null,null,null,null,null,null,11,null,null,null,null,null,null,null,14.3,null,null,null,null,null,null,null,-10.3,null,null,null,null,null,null,null,0,null,null,null,null,null,null,null,0,null,null,null,null,null,null,null,7,null,null,null,null,null,null,null,14,null,null,null,null,null,null,null,19.600000000000001,null,null,null,null,null,null,null,-12.6]
[null,null,57050]
[null,null,null,null,null,null,null,null,null,null,null,null,null,null,null,null,null,11,null,null,null,null,null,null,null,3,null,null,null,null,null,null,null,8,null,null,null,null,null,null,null,null,null,null,null,null,null,null,null,3,null,null,null,null,null,null,null,11,null,null,null,null,null,null,null,8,null,null,null,null,null,null,null,null,null,null,null,null,null,null,null,19,null,null,null,null,null,null,null,24.7,null,null,null,null,null,null,null,-21.7,null,null,null,null,null,null,null,0,null,null,null,null,null,null,null,0,null,null,null,null,null,null,null,8,null,null,null,null,null,null,null,17,null,null,null,null,null,null,null,23.8,null,null,null,null,null,null,null,-15.8]
[null,null,57075]
[null,null,null,null,null,null,null,null,null,null,null,null,null,null,null,null,null,12,null,null,null,null,null,null,null,3,null,null,null,null,null,null,null,9,null,null,null,null,null,null,null,null,null,null,null,null,null,null,null,3,null,null,null,null,null,null,null,21,null,null,null,null,null,null,null,9,null,null,null,null,null,null,null,null,null,null,null,null,null,null,null,30,null,null,null,null,null,null,null,39,null,null,null,null,null,null,null,-36,null,null,null,null,null,null,null,0,null,null,null,null,null,null,null,0,null,null,null,null,null,null,null,9,null,null,null,null,null,null,null,18,null,null,null,null,null,null,null,25.2,null,null,null,null,null,null,null,-16.2]
[null,null,57100]
[null,null,null,null,null,null,null,null,null,null,null,null,null,null,null,null,null,4,null,null,null,null,null,null,null,1,null,null,null,null,null,null,null,3,null,null,null,null,null,null,null,null,null,null,null,null,null,null,null,1,null,null,null,null,null,null,null,10,null,null,null,null,null,null,null,3,null,null,null,null,null,null,null,null,null,null,null,null,null,null,null,13,null,null,null,null,null,null,null,16.899999999999999,null,null,null,null,null,null,null,-15.9,null,null,null,null,null,null,null,0,null,null,null,null,null,null,null,0,null,null,null,null,null,null,null,3,null,null,null,null,null,null,null,6,null,null,null,null,null,null,null,8.4,null,null,null,null,null,null,null,-5.4]
[null,null,57106.77]
[null,null,null,null,null,null,null,null,null,null,null,null,null,null,null,null,null,26,null,null,null,null,null,null,null,13,null,null,null,null,null,null,null,13,null,null,null,null,null,null,null,null,null,null,null,null,null,null,null,13,null,null,null,null,null,null,null,48,null,null,null,null,null,null,null,13,null,null,null,null,null,null,null,null,null,null,null,null,null,null,null,61,null,null,null,null,null,null,null,79.3,null,null,null,null,null,null,null,-66.3,null,null,null,null,null,null,null,0,null,null,null,null,null,null,null,0,null,null,null,null,null,null,null,13,null,null,null,null,null,null,null,25,null,null,null,null,null,null,null,35,null,null,null,null,null,null,null,-22]
[null,null,57125]
[null,null,null,null,null,null,null,null,null,null,null,null,null,null,null,null,null,73,null,null,null,null,null,null,null,49,null,null,null,null,null,null,null,24,null,null,null,null,null,null,null,null,null,null,null,null,null,null,null,49,null,null,null,null,null,null,null,97,null,null,null,null,null,null,null,24,null,null,null,null,null,null,null,null,null,null,null,null,null,null,null,121,null,null,null,null,null,null,null,157.30000000000001,null,null,null,null,null,null,null,-108.3,null,null,null,null,null,null,null,0,null,null,null,null,null,null,null,0,null,null,null,null,null,null,null,24,null,null,null,null,null,null,null,47,null,null,null,null,null,null,null,65.8,null,null,null,null,null,null,null,-41.8]
[null,null,57150]
[null,null,null,null,null,null,null,null,null,null,null,null,null,null,null,null,null,29,null,null,null,null,null,null,null,18,null,null,null,null,null,null,null,11,null,null,null,null,null,null,null,null,null,null,null,null,null,null,null,18,null,null,null,null,null,null,null,27,null,null,null,null,null,null,null,11,null,null,null,null,null,null,null,null,null,null,null,null,null,null,null,38,null,null,null,null,null,null,null,49.4,null,null,null,null,null,null,null,-31.4,null,null,null,null,null,null,null,0,null,null,null,null,null,null,null,0,null,null,null,null,null,null,null,11,null,null,null,null,null,null,null,21,null,null,null,null,null,null,null,29.4,null,null,null,null,null,null,null,-18.399999999999999]
[null,null,57162.2]
[null,null,null,null,null,null,null,null,null,null,null,null,null,null,null,null,null,24,null,null,null,null,null,null,null,13,null,null,null,null,null,null,null,11,null,null,null,null,null,null,null,null,null,null,null,null,null,null,null,13,null,null,null,null,null,null,null,30,null,null,null,null,null,null,null,11,null,null,null,null,null,null,null,null,null,null,null,null,null,null,null,41,null,null,null,null,null,null,null,53.3,null,null,null,null,null,null,null,-40.299999999999997,null,null,null,null,null,null,null,0,null,null,null,null,null,null,null,0,null,null,null,null,null,null,null,11,null,null,null,null,null,null,null,21,null,null,null,null,null,null,null,29.4,null,null,null,null,null,null,null,-18.399999999999999]
[null,null,57175]
[null,null,null,null,null,null,null,null,null,null,null,null,null,null,null,null,null,50,null,null,null,null,null,null,null,30,null,null,null,null,null,null,null,20,null,null,null,null,null,null,null,null,null,null,null,null,null,null,null,30,null,null,null,null,null,null,null,66,null,null,null,null,null,null,null,20,null,null,null,null,null,null,null,null,null,null,null,null,null,null,null,86,null,null,null,null,null,null,null,111.8,null,null,null,null,null,null,null,-81.8,null,null,null,null,null,null,null,0,null,null,null,null,null,null,null,0,null,null,null,null,null,null,null,20,null,null,null,null,null,null,null,40,null,null,null,null,null,null,null,56,null,null,null,null,null,null,null,-36]
[null,null,57200]
[null,null,null,null,null,null,null,null,null,null,null,null,null,null,null,null,null,19,null,null,null,null,null,null,null,10,null,null,null,null,null,null,null,9,null,null,null,null,null,null,null,null,null,null,null,null,null,null,null,10,null,null,null,null,null,null,null,6,null,null,null,null,null,null,null,9,null,null,null,null,null,null,null,null,null,null,null,null,null,null,null,15,null,null,null,null,null,null,null,19.5,null,null,null,null,null,null,null,-9.5,null,null,null,null,null,null,null,0,null,null,null,null,null,null,null,0,null,null,null,null,null,null,null,9,null,null,null,null,null,null,null,18,null,null,null,null,null,null,null,25.2,null,null,null,null,null,null,null,-16.2]
[null,null,57216.54]
[null,null,null,null,null,null,null,null,null,null,null,null,null,null,null,null,null,5,null,null,null,null,null,null,null,2,null,null,null,null,null,null,null,3,null,null,null,null,null,null,null,null,null,null,null,null,null,null,null,2,null,null,null,null,null,null,null,2,null,null,null,null,null,null,null,3,null,null,null,null,null,null,null,null,null,null,null,null,null,null,null,5,null,null,null,null,null,null,null,6.5,null,null,null,null,null,null,null,-4.5,null,null,null,null,null,null,null,0,null,null,null,null,null,null,null,0,null,null,null,null,null,null,null,3,null,null,null,null,null,null,null,6,null,null,null,null,null,null,null,8.4,null,null,null,null,null,null,null,-5.4]
[null,null,57225]
[null,null,null,null,null,null,null,null,null,null,null,null,null,null,null,null,null,12,null,null,null,null,null,null,null,4,null,null,null,null,null,null,null,8,null,null,null,null,null,null,null,null,null,null,null,null,null,null,null,4,null,null,null,null,null,null,null,5,null,null,null,null,null,null,null,8,null,null,null,null,null,null,null,null,null,null,null,null,null,null,null,13,null,null,null,null,null,null,null,16.899999999999999,null,null,null,null,null,null,null,-12.9,null,null,null,null,null,null,null,0,null,null,null,null,null,null,null,0,null,null,null,null,null,null,null,8,null,null,null,null,null,null,null,15,null,null,null,null,null,null,null,21,null,null,null,null,null,null,null,-13]
[null,null,57250]
[null,null,null,null,null,null,null,null,null,null,null,null,null,null,null,null,null,10,null,null,null,null,null,null,null,4,null,null,null,null,null,null,null,6,null,null,null,null,null,null,null,null,null,null,null,null,null,null,null,4,null,null,null,null,null,null,null,2,null,null,null,null,null,null,null,6,null,null,null,null,null,null,null,null,null,null,null,null,null,null,null,8,null,null,null,null,null,null,null,10.4,null,null,null,null,null,null,null,-6.4,null,null,null,null,null,null,null,0,null,null,null,null,null,null,null,0,null,null,null,null,null,null,null,6,null,null,null,null,null,null,null,11,null,null,null,null,null,null,null,15.4,null,null,null,null,null,null,null,-9.4]
[null,null,57275]
[null,null,null,null,null,null,null,null,null,null,null,null,null,null,null,null,null,9,null,null,null,null,null,null,null,5,null,null,null,null,null,null,null,4,null,null,null,null,null,null,null,null,null,null,null,null,null,null,null,5,null,null,null,null,null,null,null,0,null,null,null,null,null,null,null,4,null,null,null,null,null,null,null,null,null,null,null,null,null,null,null,4,null,null,null,null,null,null,null,5.2,null,null,null,null,null,null,null,-0.2,null,null,null,null,null,null,null,0,null,null,null,null,null,null,null,0,null,null,null,null,null,null,null,4,null,null,null,null,null,null,null,7,null,null,null,null,null,null,null,9.8000000000000007,null,null,null,null,null,null,null,-5.8]
[null,null,57300]
[null,null,null,null,null,null,null,null,null,null,null,null,null,null,null,null,null,6,null,null,null,null,null,null,null,4,null,null,null,null,null,null,null,2,null,null,null,null,null,null,null,null,null,null,null,null,null,null,null,4,null,null,null,null,null,null,null,0,null,null,null,null,null,null,null,2,null,null,null,null,null,null,null,null,null,null,null,null,null,null,null,2,null,null,null,null,null,null,null,2.6,null,null,null,null,null,null,null,1.4,null,null,null,null,null,null,null,0,null,null,null,null,null,null,null,0,null,null,null,null,null,null,null,2,null,null,null,null,null,null,null,3,null,null,null,null,null,null,null,4.2,null,null,null,null,null,null,null,-2.2000000000000002]
[null,null,57325]
[]
[null,null,"Sta.571+62"]
[]
[null,null,"Totals:"]
[null,null,null,null,null,null,null,null,null,null,null,null,null,null,null,null,null,310,null,null,null,null,null,null,null,168,null,null,null,null,null,null,null,142,null,null,null,null,null,null,null,0,null,null,null,null,null,null,null,168,null,null,null,null,null,null,null,329,null,null,null,null,null,null,null,142,null,null,null,null,null,null,null,0,null,null,null,null,null,null,null,471,null,null,null,null,null,null,null,613,null,null,null,null,null,null,null,-445,null,null,null,null,null,null,null,0,null,null,null,null,null,null,null,0,null,null,null,null,null,null,null,142,null,null,null,null,null,null,null,277,null,null,null,null,null,null,null,388,null,null,null,null,null,null,null,-246]
[]
[]
[]
[null,null,null,null,null,null,null,null,null,null,null,null,null,null,null,null,null,"Excavation, Class 10, Roadway & Borrow"]
[]
[null,null,null,null,null,null,null,null,null,null,null,null,null,null,null,null,null,null,null,null,null,null,null,null,null,null,null,null,null,null,null,null,null,null,null,null,null,null,null,null,null,168,null,null,null,null,null,null,null,"CY"]
[]
[]
[]
[null,null,null,null,null,null,null,null,null,null,null,null,null,null,null,null,null,"Embankment-In-Place"]
[]
[null,null,null,null,null,null,null,null,null,null,null,null,null,null,null,null,null,null,null,null,null,null,null,null,null,null,null,null,null,null,null,null,null,null,null,null,null,null,null,null,null,342,null,null,null,null,null,null,null,"CY"]
[]
[]
[]
[null,null,null,null,null,null,null,null,null,null,null,null,null,null,null,null,null,"Topsoil, Trip, Salvage, & Spread"]
[]
[null,null,null,null,null,null,null,null,null,null,null,null,null,null,null,null,null,null,null,null,null,null,null,null,null,null,null,null,null,null,null,null,null,null,null,null,null,null,null,null,null,142,null,null,null,null,null,null,null,"CY"]
[]
[]
[]
[null,null,null,null,null,null,null,null,null,null,null,null,null,null,null,null,null,"Topsoil, Furnish & Spread"]
[]
[null,null,null,null,null,null,null,null,null,null,null,null,null,null,null,null,null,null,null,null,null,null,null,null,null,null,null,null,null,null,null,null,null,null,null,null,null,null,null,null,null,176,null,null,null,null,null,null,null,"CY"]
[]
[]
[]
[]
[]
[]
[]
[]
[]
[]
[]
[]
[]
[]
[]
[]
[]
[]
[]
[]
[]
[]
[]
[]
[]
[]
[]
[]
[]
[]
[]
[]
[]
[]
[]
[]
[]
[]
[]
[]
[]
[]
[]
[]
[]
[]
[]
[]
[]
[]
[]
[]
[]
[]
[]
[]
[]
[]
[]
[]
[]
[]
[]
[]
[]
[]
[]
[]
[]
[]
[]
[]
[]
[]
[]
[]
[]
[]
[null,"","",null,null,null,null,null,null,null,null,null,null,null,null,null,null,"",null,null,null,null,null,null,null,"",null,null,null,null,null,null,null,"",null,null,null,null,null,null,null,"",null,null,null,null,null,null,null,"",null,null,null,null,null,null,null,"",null,null,null,null,null,null,null,"",null,null,null,null,null,null,null,"",null,null,null,null,null,null,null,"",null,null,null,null,null,null,null,null,null,null,null,null,null,null,null,"",null,null,null,null,null,null,null,"",null,null,null,null,null,null,null,null,null,null,null,null,null,null,null,"",null,null,null,null,null,null,null,null,null,null,null,null,null,null,null,null,"",null,null,null,null,null,null,null,null,null,null,null,null,null,null,"",null,null,null,null,null,null,null,"",null,null,null,null,null,null,null,"",null,null,null,null,null,null,null,"",null,null,null,null,null,null,null,"",null,null,null,null,null,null,null,""]
[]
[null,"FILE NO.",null,null,null,null,null,null,{"$f":"IF(ProjectInformation!$B$12<>\"\",ProjectInformation!$B$12,\"\")","v":""},null,null,null,null,null,null,{"$f":"UPPER(ProjectInformation!$B$8)","v":"ENGLISH"},null,null,null,null,null,null,"DESIGN TEAM",null,null,null,null,null,null,null,null,{"$f":"IF(AND(ProjectInformation!$B$3<>\"\",ProjectInformation!$B$4<>\"\",ProjectInformation!$B$5<>\"\"),ProjectInformation!$B$3&\"\\\"&ProjectInformation!$B$4&\"\\\"&ProjectInformation!$B$5,IF(AND(ProjectInformation!$B$3<>\"\",ProjectInformation!$B$4<>\"\"),ProjectInformation!$B$3&\"\\\"&ProjectInformation!$B$4,IF(ProjectInformation!$B$3<>\"\",ProjectInformation!$B$3,\"\")))","v":"WHKS & CO."},null,null,null,null,null,null,null,null,null,null,null,null,null,null,null,null,null,null,null,null,null,null,null,null,null,null,null,null,null,null,null,null,null,null,null,null,null,null,null,null,null,{"$f":"IF(ProjectInformation!$B$6<>\"\",ProjectInformation!$B$6,\"\")","v":"CLINTON"},null,null,null,null,null,null,null,null,null,null,null,null,null,null,null,null,null,null,null,null,null,null,null,null,null,null,null,null,null,null,null,null,null,null,null,null,null,null,null,null,"COUNTY",null,null,null,null,null,"PROJECT NUMBER",null,null,null,null,null,null,null,null,null,null,null,{"$f":"IF(ProjectInformation!$B$7<>\"\",ProjectInformation!$B$7,\"\")","v":"STPN-136-1(73)--2J-23"},null,null,null,null,null,null,null,null,null,null,null,null,null,null,null,null,null,null,null,null,null,null,null,null,null,null,null,null,null,"SHEET NUMBER",null,null,null,null,null,null,null,null,null,"T.7",null,null,null,null,null,null,null,{"$f":"IF(GE1304<>\"\",\"REVISED\",\"\")","v":""},null,null,null,null,null,{"$f":"IF(ProjectInformation!$B$9<>\"\",ProjectInformation!$B$9,\"\")","v":""}]
[]
[]
[]
[null,"10/29/2019     9:35:10 AM     bchezick     K:\\7805\\SA26 701BT Clinton Culverts\\Design\\DE Sheets\\2313601013t01 (2).xlsm"]
[""]
[]
[]
[null,null,null,null,null,null,null,null,null,null,null,null,null,null,null,null,null,null,null,null,null,null,null,null,null,"",null,null,null,null,null,null,null,"",null,null,null,null,null,null,null,"",null,null,null,null,null,null,null,"",null,null,null,null,null,null,null,"",null,null,null,null,null,null,null,"",null,null,null,null,null,null,null,"",null,null,null,null,null,null,null,"",null,null,null,null,null,null,null,null,null,null,null,null,null,null,null,"",null,null,null,null,null,null,null,"",null,null,null,null,null,null,null,null,null,null,null,null,null,null,null,"",null,null,null,null,null,null,null,null,null,null,null,null,null,null,null,null,"",null,null,null,null,null,null,null,null,null,null,null,null,null,null,"",null,null,null,null,null,null,null,null,null,null,null,null,null,null,null,"",null,null,null,null,null,null,null,"",null,null,null,null,null,null,null,"",null,null,null,null,null,null,null,""]
[]
[null,null,"Refer to Standard Road Plans EW-101 and EW-102.",null,null,null,null,null,null,null,null,null,null,null,null,null,null,null,null,null,null,null,null,null,null,null,null,null,null,null,null,null,null,null,null,null,null,null,null,null,null,null,null,null,null,null,null,null,null,null,null,null,null,null,null,null,null,null,"TABULATION OF TEMPLATE QUANTITIES AND ADJUSTMENTS",null,null,null,null,null,null,null,null,null,null,null,null,null,null,null,null,null,null,null,null,null,null,null,null,null,null,null,null,null,null,null,null,null,null,null,null,null,null,null,null,null,null,null,null,null,null,null,null,null,null,null,null,null,null,null,null,null,null,null,null,null,null,null,null,null,null,null,null,null,null,null,null,null,null,null,null,null,null,"107-28"]
[]
[null,null,null,null,null,null,null,null,null,null,null,null,null,null,null,null,null,null,null,null,null,null,null,null,null,null,null,null,null,null,null,null,null,null,null,null,null,null,null,null,null,null,null,null,null,null,null,null,null,null,null,null,null,null,null,null,null,null,null,null,null,null,null,null,null,null,null,null,null,null,null,null,null,null,null,null,null,null,null,null,null,null,null,null,null,null,null,null,null,null,null,null,null,null,null,null,null,null,null,null,null,null,null,null,null,null,null,null,null,null,null,null,null,null,null,null,null,null,null,null,null,null,null,null,null,null,null,null,null,null,null,null,null,null,null,null,null,"2015-04-21"]
[]
[null,null,null,null,null,null,null,null,null,null,null,null,null,null,null,null,null,"Cut",null,null,null,null,null,null,null,null,null,null,null,null,null,null,null,null,null,null,null,null,null,null,null,null,null,null,null,null,null,null,null,null,null,null,null,null,null,null,null,"Fill",null,null,null,null,null,null,null,null,null,null,null,null,null,null,null,null,null,null,null,null,null,null,null,null,null,null,null,null,null,null,null,null,null,null,null,null,null,null,null,null,null,null,null,null,null,null,null,"Checks (EW-102)",null,null,null,null,null,null,null,null,null,null,null,null,null,null,null,"Topsoil"]
[]
[]
[null,null,null,null,null,null,null,null,null,null,null,null,null,null,null,null,null,"[1]",null,null,null,null,null,null,null,"[2]",null,null,null,null,null,null,null,"[3]",null,null,null,null,null,null,null,"[4]",null,null,null,null,null,null,null,"[5]",null,null,null,null,null,null,null,"[6]",null,null,null,null,null,null,null,"[7]",null,null,null,null,null,null,null,"[8]",null,null,null,null,null,null,null,"[9]",null,null,null,null,null,null,null,"[10]",null,null,null,null,null,null,null,"[11]",null,null,null,null,null,null,null,"[12]",null,null,null,null,null,null,null,"[13]",null,null,null,null,null,null,null,"[14]",null,null,null,null,null,null,null,"[15]",null,null,null,null,null,null,null,"[16]",null,null,null,null,null,null,null,"[17]",null,null,null,null,null,null,null,"[18]",null,null,null,null,null,null,null,"[19]",null,null,null,null,null,null,null,"[20]",null,null,null,null,null,null,null,"[21]",null,null,null,null,null,null,null,"[22]"]
[]
[]
[null,null,null,null,null,null,null,null,null,null,null,null,null,null,null,null,null,{"$f":"IF('107_28'!$R$15<>\"\",'107_28'!$R$15,\"\")","v":""},null,null,null,null,null,null,null,{"$f":"IF('107_28'!$Z$15<>\"\",'107_28'!$Z$15,\"\")","v":""},null,null,null,null,null,null,null,{"$f":"IF('107_28'!$AH$15<>\"\",'107_28'!$AH$15,\"\")","v":""},null,null,null,null,null,null,null,{"$f":"IF('107_28'!$AP$15<>\"\",'107_28'!$AP$15,\"\")","v":""},null,null,null,null,null,null,null,{"$f":"IF('107_28'!$AX$15<>\"\",'107_28'!$AX$15,\"\")","v":""},null,null,null,null,null,null,null,{"$f":"IF('107_28'!$BF$15<>\"\",'107_28'!$BF$15,\"\")","v":""},null,null,null,null,null,null,null,{"$f":"IF('107_28'!$BN$15<>\"\",'107_28'!$BN$15,\"\")","v":""},null,null,null,null,null,null,null,{"$f":"IF('107_28'!$BV$15<>\"\",'107_28'!$BV$15,\"\")","v":""},null,null,null,null,null,null,null,{"$f":"IF('107_28'!$CD$15<>\"\",'107_28'!$CD$15,\"\")","v":""},null,null,null,null,null,null,null,{"$f":"IF('107_28'!$CL$15<>\"\",'107_28'!$CL$15,\"\")","v":""},null,null,null,null,null,null,null,{"$f":"IF('107_28'!$CT$15<>\"\",'107_28'!$CT$15,\"\")","v":""},null,null,null,null,null,null,null,{"$f":"IF('107_28'!$DB$15<>\"\",'107_28'!$DB$15,\"\")","v":""},null,null,null,null,null,null,null,{"$f":"IF('107_28'!$DJ$15<>\"\",'107_28'!$DJ$15,\"\")","v":""},null,null,null,null,null,null,null,{"$f":"IF('107_28'!$DR$15<>\"\",'107_28'!$DR$15,\"\")","v":""},null,null,null,null,null,null,null,{"$f":"IF('107_28'!$DZ$15<>\"\",'107_28'!$DZ$15,\"\")","v":""},null,null,null,null,null,null,null,{"$f":"IF('107_28'!$EH$15<>\"\",'107_28'!$EH$15,\"\")","v":""},null,null,null,null,null,null,null,{"$f":"IF('107_28'!$EP$15<>\"\",'107_28'!$EP$15,\"\")","v":""},null,null,null,null,null,null,null,{"$f":"IF('107_28'!$EX$15<>\"\",'107_28'!$EX$15,\"\")","v":""},null,null,null,null,null,null,null,{"$f":"IF('107_28'!$FF$15<>\"\",'107_28'!$FF$15,\"\")","v":""},null,null,null,null,null,null,null,{"$f":"IF('107_28'!$FN$15<>\"\",'107_28'!$FN$15,\"\")","v":""},null,null,null,null,null,null,null,{"$f":"IF('107_28'!$FV$15<>\"\",'107_28'!$FV$15,\"\")","v":""},null,null,null,null,null,null,null,{"$f":"IF('107_28'!$GD$15<>\"\",'107_28'!$GD$15,\"\")","v":""}]
[]
[]
[]
[null,null,"Station",null,null,null,null,null,null,null,null,null,null,null,null,null,null,"Total Cut Unadjusted\n\nVolume",null,null,null,null,null,null,null,"Total Class 10\nUnadjusted\n\nVolume",null,null,null,null,null,null,null,"Topsoil Cut\n\nVolume",null,null,null,null,null,null,null,"Manually\nCalculated Cut\nAdjustments\n(+/- Cut)",null,null,null,null,null,null,null,"Total\nCut\nAdjusted",null,null,null,null,null,null,null,"Total Fill\nUnadjusted\n\nVolume",null,null,null,null,null,null,null,"Existing Topsoil\nStripping\nUndercut\n(+ Fill)",null,null,null,null,null,null,null,"Manual\nCalculated Fill\nAdjustments\n(+/- Fill)",null,null,null,null,null,null,null,"Total\nFill\nAdjusted",null,null,null,null,null,null,null,"Total Fill\n Adjusted w/\nWeighted Average\n1.3  Shrink Factor",null,null,null,null,null,null,null,"Total Cut Adjusted\nMinus Fill w/ Shrink",null,null,null,null,null,null,null,"Approx. Fill Vol.\nBelow 5' & Above\n20' w/ Shrink",null,null,null,null,null,null,null,"Approx. Fill\nVolume Below 3'\nw/ Shrink",null,null,null,null,null,null,null,"Topsoil\nStripping Undercut\nVolume",null,null,null,null,null,null,null,"Topsoil\nPlacement\nUndercut\nVolume",null,null,null,null,null,null,null,"Topsoil Placement\nWith 1.4 Shrink\nFactor",null,null,null,null,null,null,null,"Topsoil Stripping\nMinus Topsoil\nPlacement\nw/Shrink"]
[]
[]
[]
[]
[]
[]
[]
[]
[]
[]
[]
[]
[]
[]
[]
[]
[]
[]
[null,null,"Sta.581+05"]
[]
[null,null,58075]
[null,null,null,null,null,null,null,null,null,null,null,null,null,null,null,null,null,17,null,null,null,null,null,null,null,11,null,null,null,null,null,null,null,6,null,null,null,null,null,null,null,null,null,null,null,null,null,null,null,11,null,null,null,null,null,null,null,7,null,null,null,null,null,null,null,6,null,null,null,null,null,null,null,null,null,null,null,null,null,null,null,13,null,null,null,null,null,null,null,16.899999999999999,null,null,null,null,null,null,null,-5.9,null,null,null,null,null,null,null,0,null,null,null,null,null,null,null,0,null,null,null,null,null,null,null,6,null,null,null,null,null,null,null,11,null,null,null,null,null,null,null,15.4,null,null,null,null,null,null,null,-9.4]
[null,null,58100]
[null,null,null,null,null,null,null,null,null,null,null,null,null,null,null,null,null,8,null,null,null,null,null,null,null,2,null,null,null,null,null,null,null,6,null,null,null,null,null,null,null,null,null,null,null,null,null,null,null,2,null,null,null,null,null,null,null,3,null,null,null,null,null,null,null,6,null,null,null,null,null,null,null,null,null,null,null,null,null,null,null,9,null,null,null,null,null,null,null,11.7,null,null,null,null,null,null,null,-9.6999999999999993,null,null,null,null,null,null,null,0,null,null,null,null,null,null,null,0,null,null,null,null,null,null,null,6,null,null,null,null,null,null,null,2,null,null,null,null,null,null,null,2.8,null,null,null,null,null,null,null,3.2]
[null,null,58105.47]
[null,null,null,null,null,null,null,null,null,null,null,null,null,null,null,null,null,7,null,null,null,null,null,null,null,7,null,null,null,null,null,null,null,0,null,null,null,null,null,null,null,null,null,null,null,null,null,null,null,7,null,null,null,null,null,null,null,10,null,null,null,null,null,null,null,null,null,null,null,null,null,null,null,null,null,null,null,null,null,null,null,10,null,null,null,null,null,null,null,13,null,null,null,null,null,null,null,-6,null,null,null,null,null,null,null,0,null,null,null,null,null,null,null,0,null,null,null,null,null,null,null,0,null,null,null,null,null,null,null,9,null,null,null,null,null,null,null,12.6,null,null,null,null,null,null,null,-12.6]
[null,null,58125]
[]
[null,null,"Sta.581+05"]
[]
[null,null,"Totals:"]
[null,null,null,null,null,null,null,null,null,null,null,null,null,null,null,null,null,32,null,null,null,null,null,null,null,20,null,null,null,null,null,null,null,12,null,null,null,null,null,null,null,0,null,null,null,null,null,null,null,20,null,null,null,null,null,null,null,20,null,null,null,null,null,null,null,12,null,null,null,null,null,null,null,0,null,null,null,null,null,null,null,32,null,null,null,null,null,null,null,42,null,null,null,null,null,null,null,-22,null,null,null,null,null,null,null,0,null,null,null,null,null,null,null,0,null,null,null,null,null,null,null,12,null,null,null,null,null,null,null,22,null,null,null,null,null,null,null,31,null,null,null,null,null,null,null,-19]
[]
[]
[]
[null,null,null,null,null,null,null,null,null,null,null,null,null,null,null,null,null,"Excavation, Class 10, Roadway & Borrow"]
[]
[null,null,null,null,null,null,null,null,null,null,null,null,null,null,null,null,null,null,null,null,null,null,null,null,null,null,null,null,null,null,null,null,null,null,null,null,null,null,null,null,null,20,null,null,null,null,null,null,null,"CY"]
[]
[]
[]
[null,null,null,null,null,null,null,null,null,null,null,null,null,null,null,null,null,"Embankment-In-Place"]
[]
[null,null,null,null,null,null,null,null,null,null,null,null,null,null,null,null,null,null,null,null,null,null,null,null,null,null,null,null,null,null,null,null,null,null,null,null,null,null,null,null,null,17,null,null,null,null,null,null,null,"CY"]
[]
[]
[]
[null,null,null,null,null,null,null,null,null,null,null,null,null,null,null,null,null,"Topsoil, Trip, Salvage, & Spread"]
[]
[null,null,null,null,null,null,null,null,null,null,null,null,null,null,null,null,null,null,null,null,null,null,null,null,null,null,null,null,null,null,null,null,null,null,null,null,null,null,null,null,null,12,null,null,null,null,null,null,null,"CY"]
[]
[]
[]
[null,null,null,null,null,null,null,null,null,null,null,null,null,null,null,null,null,"Topsoil, Furnish & Spread"]
[]
[null,null,null,null,null,null,null,null,null,null,null,null,null,null,null,null,null,null,null,null,null,null,null,null,null,null,null,null,null,null,null,null,null,null,null,null,null,null,null,null,null,14,null,null,null,null,null,null,null,"CY"]
[]
[]
[]
[]
[]
[]
[]
[]
[]
[]
[]
[]
[]
[]
[]
[]
[]
[]
[]
[]
[]
[]
[]
[]
[]
[]
[]
[]
[]
[]
[]
[]
[]
[]
[]
[]
[]
[]
[]
[]
[]
[]
[]
[]
[]
[]
[]
[]
[]
[]
[]
[]
[]
[]
[]
[]
[]
[]
[]
[]
[]
[]
[]
[]
[]
[]
[]
[]
[]
[]
[]
[]
[]
[]
[]
[]
[]
[]
[]
[]
[]
[]
[]
[]
[]
[]
[]
[]
[]
[]
[]
[]
[]
[]
[]
[]
[]
[]
[]
[]
[]
[]
[]
[]
[null,"","",null,null,null,null,null,null,null,null,null,null,null,null,null,null,"",null,null,null,null,null,null,null,"",null,null,null,null,null,null,null,"",null,null,null,null,null,null,null,"",null,null,null,null,null,null,null,"",null,null,null,null,null,null,null,"",null,null,null,null,null,null,null,"",null,null,null,null,null,null,null,"",null,null,null,null,null,null,null,"",null,null,null,null,null,null,null,null,null,null,null,null,null,null,null,"",null,null,null,null,null,null,null,"",null,null,null,null,null,null,null,null,null,null,null,null,null,null,null,"",null,null,null,null,null,null,null,null,null,null,null,null,null,null,null,null,"",null,null,null,null,null,null,null,null,null,null,null,null,null,null,"",null,null,null,null,null,null,null,"",null,null,null,null,null,null,null,"",null,null,null,null,null,null,null,"",null,null,null,null,null,null,null,"",null,null,null,null,null,null,null,""]
[]
[null,"FILE NO.",null,null,null,null,null,null,{"$f":"IF(ProjectInformation!$B$12<>\"\",ProjectInformation!$B$12,\"\")","v":""},null,null,null,null,null,null,{"$f":"UPPER(ProjectInformation!$B$8)","v":"ENGLISH"},null,null,null,null,null,null,"DESIGN TEAM",null,null,null,null,null,null,null,null,{"$f":"IF(AND(ProjectInformation!$B$3<>\"\",ProjectInformation!$B$4<>\"\",ProjectInformation!$B$5<>\"\"),ProjectInformation!$B$3&\"\\\"&ProjectInformation!$B$4&\"\\\"&ProjectInformation!$B$5,IF(AND(ProjectInformation!$B$3<>\"\",ProjectInformation!$B$4<>\"\"),ProjectInformation!$B$3&\"\\\"&ProjectInformation!$B$4,IF(ProjectInformation!$B$3<>\"\",ProjectInformation!$B$3,\"\")))","v":"WHKS & CO."},null,null,null,null,null,null,null,null,null,null,null,null,null,null,null,null,null,null,null,null,null,null,null,null,null,null,null,null,null,null,null,null,null,null,null,null,null,null,null,null,null,{"$f":"IF(ProjectInformation!$B$6<>\"\",ProjectInformation!$B$6,\"\")","v":"CLINTON"},null,null,null,null,null,null,null,null,null,null,null,null,null,null,null,null,null,null,null,null,null,null,null,null,null,null,null,null,null,null,null,null,null,null,null,null,null,null,null,null,"COUNTY",null,null,null,null,null,"PROJECT NUMBER",null,null,null,null,null,null,null,null,null,null,null,{"$f":"IF(ProjectInformation!$B$7<>\"\",ProjectInformation!$B$7,\"\")","v":"STPN-136-1(73)--2J-23"},null,null,null,null,null,null,null,null,null,null,null,null,null,null,null,null,null,null,null,null,null,null,null,null,null,null,null,null,null,"SHEET NUMBER",null,null,null,null,null,null,null,null,null,"T.8",null,null,null,null,null,null,null,{"$f":"IF(GE1491<>\"\",\"REVISED\",\"\")","v":""},null,null,null,null,null,{"$f":"IF(ProjectInformation!$B$9<>\"\",ProjectInformation!$B$9,\"\")","v":""}]
[]
[]
[]
[null,"10/29/2019     9:35:10 AM     bchezick     K:\\7805\\SA26 701BT Clinton Culverts\\Design\\DE Sheets\\2313601013t01 (2).xlsm"]
[""]
[]
[]
[null,null,null,null,null,null,null,null,null,null,null,null,null,null,null,null,null,null,null,null,null,null,null,null,null,"",null,null,null,null,null,null,null,"",null,null,null,null,null,null,null,"",null,null,null,null,null,null,null,"",null,null,null,null,null,null,null,"",null,null,null,null,null,null,null,"",null,null,null,null,null,null,null,"",null,null,null,null,null,null,null,"",null,null,null,null,null,null,null,null,null,null,null,null,null,null,null,"",null,null,null,null,null,null,null,"",null,null,null,null,null,null,null,null,null,null,null,null,null,null,null,"",null,null,null,null,null,null,null,null,null,null,null,null,null,null,null,null,"",null,null,null,null,null,null,null,null,null,null,null,null,null,null,"",null,null,null,null,null,null,null,null,null,null,null,null,null,null,null,"",null,null,null,null,null,null,null,"",null,null,null,null,null,null,null,"",null,null,null,null,null,null,null,""]
[]
[null,null,"Refer to Standard Road Plans EW-101 and EW-102.",null,null,null,null,null,null,null,null,null,null,null,null,null,null,null,null,null,null,null,null,null,null,null,null,null,null,null,null,null,null,null,null,null,null,null,null,null,null,null,null,null,null,null,null,null,null,null,null,null,null,null,null,null,null,null,"TABULATION OF TEMPLATE QUANTITIES AND ADJUSTMENTS",null,null,null,null,null,null,null,null,null,null,null,null,null,null,null,null,null,null,null,null,null,null,null,null,null,null,null,null,null,null,null,null,null,null,null,null,null,null,null,null,null,null,null,null,null,null,null,null,null,null,null,null,null,null,null,null,null,null,null,null,null,null,null,null,null,null,null,null,null,null,null,null,null,null,null,null,null,null,"107-28"]
[]
[null,null,null,null,null,null,null,null,null,null,null,null,null,null,null,null,null,null,null,null,null,null,null,null,null,null,null,null,null,null,null,null,null,null,null,null,null,null,null,null,null,null,null,null,null,null,null,null,null,null,null,null,null,null,null,null,null,null,null,null,null,null,null,null,null,null,null,null,null,null,null,null,null,null,null,null,null,null,null,null,null,null,null,null,null,null,null,null,null,null,null,null,null,null,null,null,null,null,null,null,null,null,null,null,null,null,null,null,null,null,null,null,null,null,null,null,null,null,null,null,null,null,null,null,null,null,null,null,null,null,null,null,null,null,null,null,null,"2015-04-21"]
[]
[null,null,null,null,null,null,null,null,null,null,null,null,null,null,null,null,null,"Cut",null,null,null,null,null,null,null,null,null,null,null,null,null,null,null,null,null,null,null,null,null,null,null,null,null,null,null,null,null,null,null,null,null,null,null,null,null,null,null,"Fill",null,null,null,null,null,null,null,null,null,null,null,null,null,null,null,null,null,null,null,null,null,null,null,null,null,null,null,null,null,null,null,null,null,null,null,null,null,null,null,null,null,null,null,null,null,null,null,"Checks (EW-102)",null,null,null,null,null,null,null,null,null,null,null,null,null,null,null,"Topsoil"]
[]
[]
[null,null,null,null,null,null,null,null,null,null,null,null,null,null,null,null,null,"[1]",null,null,null,null,null,null,null,"[2]",null,null,null,null,null,null,null,"[3]",null,null,null,null,null,null,null,"[4]",null,null,null,null,null,null,null,"[5]",null,null,null,null,null,null,null,"[6]",null,null,null,null,null,null,null,"[7]",null,null,null,null,null,null,null,"[8]",null,null,null,null,null,null,null,"[9]",null,null,null,null,null,null,null,"[10]",null,null,null,null,null,null,null,"[11]",null,null,null,null,null,null,null,"[12]",null,null,null,null,null,null,null,"[13]",null,null,null,null,null,null,null,"[14]",null,null,null,null,null,null,null,"[15]",null,null,null,null,null,null,null,"[16]",null,null,null,null,null,null,null,"[17]",null,null,null,null,null,null,null,"[18]",null,null,null,null,null,null,null,"[19]",null,null,null,null,null,null,null,"[20]",null,null,null,null,null,null,null,"[21]",null,null,null,null,null,null,null,"[22]"]
[]
[]
[null,null,null,null,null,null,null,null,null,null,null,null,null,null,null,null,null,{"$f":"IF('107_28'!$R$15<>\"\",'107_28'!$R$15,\"\")","v":""},null,null,null,null,null,null,null,{"$f":"IF('107_28'!$Z$15<>\"\",'107_28'!$Z$15,\"\")","v":""},null,null,null,null,null,null,null,{"$f":"IF('107_28'!$AH$15<>\"\",'107_28'!$AH$15,\"\")","v":""},null,null,null,null,null,null,null,{"$f":"IF('107_28'!$AP$15<>\"\",'107_28'!$AP$15,\"\")","v":""},null,null,null,null,null,null,null,{"$f":"IF('107_28'!$AX$15<>\"\",'107_28'!$AX$15,\"\")","v":""},null,null,null,null,null,null,null,{"$f":"IF('107_28'!$BF$15<>\"\",'107_28'!$BF$15,\"\")","v":""},null,null,null,null,null,null,null,{"$f":"IF('107_28'!$BN$15<>\"\",'107_28'!$BN$15,\"\")","v":""},null,null,null,null,null,null,null,{"$f":"IF('107_28'!$BV$15<>\"\",'107_28'!$BV$15,\"\")","v":""},null,null,null,null,null,null,null,{"$f":"IF('107_28'!$CD$15<>\"\",'107_28'!$CD$15,\"\")","v":""},null,null,null,null,null,null,null,{"$f":"IF('107_28'!$CL$15<>\"\",'107_28'!$CL$15,\"\")","v":""},null,null,null,null,null,null,null,{"$f":"IF('107_28'!$CT$15<>\"\",'107_28'!$CT$15,\"\")","v":""},null,null,null,null,null,null,null,{"$f":"IF('107_28'!$DB$15<>\"\",'107_28'!$DB$15,\"\")","v":""},null,null,null,null,null,null,null,{"$f":"IF('107_28'!$DJ$15<>\"\",'107_28'!$DJ$15,\"\")","v":""},null,null,null,null,null,null,null,{"$f":"IF('107_28'!$DR$15<>\"\",'107_28'!$DR$15,\"\")","v":""},null,null,null,null,null,null,null,{"$f":"IF('107_28'!$DZ$15<>\"\",'107_28'!$DZ$15,\"\")","v":""},null,null,null,null,null,null,null,{"$f":"IF('107_28'!$EH$15<>\"\",'107_28'!$EH$15,\"\")","v":""},null,null,null,null,null,null,null,{"$f":"IF('107_28'!$EP$15<>\"\",'107_28'!$EP$15,\"\")","v":""},null,null,null,null,null,null,null,{"$f":"IF('107_28'!$EX$15<>\"\",'107_28'!$EX$15,\"\")","v":""},null,null,null,null,null,null,null,{"$f":"IF('107_28'!$FF$15<>\"\",'107_28'!$FF$15,\"\")","v":""},null,null,null,null,null,null,null,{"$f":"IF('107_28'!$FN$15<>\"\",'107_28'!$FN$15,\"\")","v":""},null,null,null,null,null,null,null,{"$f":"IF('107_28'!$FV$15<>\"\",'107_28'!$FV$15,\"\")","v":""},null,null,null,null,null,null,null,{"$f":"IF('107_28'!$GD$15<>\"\",'107_28'!$GD$15,\"\")","v":""}]
[]
[]
[]
[null,null,"Station",null,null,null,null,null,null,null,null,null,null,null,null,null,null,"Total Cut Unadjusted\n\nVolume",null,null,null,null,null,null,null,"Total Class 10\nUnadjusted\n\nVolume",null,null,null,null,null,null,null,"Topsoil Cut\n\nVolume",null,null,null,null,null,null,null,"Manually\nCalculated Cut\nAdjustments\n(+/- Cut)",null,null,null,null,null,null,null,"Total\nCut\nAdjusted",null,null,null,null,null,null,null,"Total Fill\nUnadjusted\n\nVolume",null,null,null,null,null,null,null,"Existing Topsoil\nStripping\nUndercut\n(+ Fill)",null,null,null,null,null,null,null,"Manual\nCalculated Fill\nAdjustments\n(+/- Fill)",null,null,null,null,null,null,null,"Total\nFill\nAdjusted",null,null,null,null,null,null,null,"Total Fill\n Adjusted w/\nWeighted Average\n1.3  Shrink Factor",null,null,null,null,null,null,null,"Total Cut Adjusted\nMinus Fill w/ Shrink",null,null,null,null,null,null,null,"Approx. Fill Vol.\nBelow 5' & Above\n20' w/ Shrink",null,null,null,null,null,null,null,"Approx. Fill\nVolume Below 3'\nw/ Shrink",null,null,null,null,null,null,null,"Topsoil\nStripping Undercut\nVolume",null,null,null,null,null,null,null,"Topsoil\nPlacement\nUndercut\nVolume",null,null,null,null,null,null,null,"Topsoil Placement\nWith 1.4 Shrink\nFactor",null,null,null,null,null,null,null,"Topsoil Stripping\nMinus Topsoil\nPlacement\nw/Shrink"]
[]
[]
[]
[]
[]
[]
[]
[]
[]
[]
[]
[]
[]
[]
[]
[]
[]
[]
[null,null,"Sta.651+43"]
[]
[null,null,65050]
[null,null,null,null,null,null,null,null,null,null,null,null,null,null,null,null,null,23,null,null,null,null,null,null,null,15,null,null,null,null,null,null,null,8,null,null,null,null,null,null,null,null,null,null,null,null,null,null,null,15,null,null,null,null,null,null,null,3,null,null,null,null,null,null,null,8,null,null,null,null,null,null,null,null,null,null,null,null,null,null,null,11,null,null,null,null,null,null,null,14.3,null,null,null,null,null,null,null,0.7,null,null,null,null,null,null,null,0,null,null,null,null,null,null,null,0,null,null,null,null,null,null,null,8,null,null,null,null,null,null,null,16,null,null,null,null,null,null,null,22.4,null,null,null,null,null,null,null,-14.4]
[null,null,65075]
[null,null,null,null,null,null,null,null,null,null,null,null,null,null,null,null,null,47,null,null,null,null,null,null,null,33,null,null,null,null,null,null,null,14,null,null,null,null,null,null,null,null,null,null,null,null,null,null,null,33,null,null,null,null,null,null,null,13,null,null,null,null,null,null,null,14,null,null,null,null,null,null,null,null,null,null,null,null,null,null,null,27,null,null,null,null,null,null,null,35.1,null,null,null,null,null,null,null,-2.1,null,null,null,null,null,null,null,0,null,null,null,null,null,null,null,0,null,null,null,null,null,null,null,14,null,null,null,null,null,null,null,27,null,null,null,null,null,null,null,37.799999999999997,null,null,null,null,null,null,null,-23.8]
[null,null,65100]
[null,null,null,null,null,null,null,null,null,null,null,null,null,null,null,null,null,102,null,null,null,null,null,null,null,83,null,null,null,null,null,null,null,19,null,null,null,null,null,null,null,null,null,null,null,null,null,null,null,83,null,null,null,null,null,null,null,19,null,null,null,null,null,null,null,19,null,null,null,null,null,null,null,null,null,null,null,null,null,null,null,38,null,null,null,null,null,null,null,49.4,null,null,null,null,null,null,null,33.6,null,null,null,null,null,null,null,0,null,null,null,null,null,null,null,0,null,null,null,null,null,null,null,19,null,null,null,null,null,null,null,39,null,null,null,null,null,null,null,54.6,null,null,null,null,null,null,null,-35.6]
[null,null,65125]
[null,null,null,null,null,null,null,null,null,null,null,null,null,null,null,null,null,110,null,null,null,null,null,null,null,93,null,null,null,null,null,null,null,17,null,null,null,null,null,null,null,null,null,null,null,null,null,null,null,93,null,null,null,null,null,null,null,31,null,null,null,null,null,null,null,17,null,null,null,null,null,null,null,null,null,null,null,null,null,null,null,48,null,null,null,null,null,null,null,62.4,null,null,null,null,null,null,null,30.6,null,null,null,null,null,null,null,0,null,null,null,null,null,null,null,0,null,null,null,null,null,null,null,17,null,null,null,null,null,null,null,34,null,null,null,null,null,null,null,47.6,null,null,null,null,null,null,null,-30.6]
[null,null,65142.85]
[null,null,null,null,null,null,null,null,null,null,null,null,null,null,null,null,null,47,null,null,null,null,null,null,null,41,null,null,null,null,null,null,null,6,null,null,null,null,null,null,null,null,null,null,null,null,null,null,null,41,null,null,null,null,null,null,null,12,null,null,null,null,null,null,null,6,null,null,null,null,null,null,null,null,null,null,null,null,null,null,null,18,null,null,null,null,null,null,null,23.4,null,null,null,null,null,null,null,17.600000000000001,null,null,null,null,null,null,null,0,null,null,null,null,null,null,null,0,null,null,null,null,null,null,null,6,null,null,null,null,null,null,null,13,null,null,null,null,null,null,null,18.2,null,null,null,null,null,null,null,-12.2]
[null,null,65150]
[null,null,null,null,null,null,null,null,null,null,null,null,null,null,null,null,null,144,null,null,null,null,null,null,null,124,null,null,null,null,null,null,null,20,null,null,null,null,null,null,null,null,null,null,null,null,null,null,null,124,null,null,null,null,null,null,null,18,null,null,null,null,null,null,null,20,null,null,null,null,null,null,null,null,null,null,null,null,null,null,null,38,null,null,null,null,null,null,null,49.4,null,null,null,null,null,null,null,74.599999999999994,null,null,null,null,null,null,null,0,null,null,null,null,null,null,null,0,null,null,null,null,null,null,null,20,null,null,null,null,null,null,null,39,null,null,null,null,null,null,null,54.6,null,null,null,null,null,null,null,-34.6]
[null,null,65175]
[null,null,null,null,null,null,null,null,null,null,null,null,null,null,null,null,null,103,null,null,null,null,null,null,null,86,null,null,null,null,null,null,null,17,null,null,null,null,null,null,null,null,null,null,null,null,null,null,null,86,null,null,null,null,null,null,null,15,null,null,null,null,null,null,null,17,null,null,null,null,null,null,null,null,null,null,null,null,null,null,null,32,null,null,null,null,null,null,null,41.6,null,null,null,null,null,null,null,44.4,null,null,null,null,null,null,null,0,null,null,null,null,null,null,null,0,null,null,null,null,null,null,null,17,null,null,null,null,null,null,null,34,null,null,null,null,null,null,null,47.6,null,null,null,null,null,null,null,-30.6]
[null,null,65200]
[null,null,null,null,null,null,null,null,null,null,null,null,null,null,null,null,null,64,null,null,null,null,null,null,null,51,null,null,null,null,null,null,null,13,null,null,null,null,null,null,null,null,null,null,null,null,null,null,null,51,null,null,null,null,null,null,null,7,null,null,null,null,null,null,null,13,null,null,null,null,null,null,null,null,null,null,null,null,null,null,null,20,null,null,null,null,null,null,null,26,null,null,null,null,null,null,null,25,null,null,null,null,null,null,null,0,null,null,null,null,null,null,null,0,null,null,null,null,null,null,null,13,null,null,null,null,null,null,null,26,null,null,null,null,null,null,null,36.4,null,null,null,null,null,null,null,-23.4]
[null,null,65225]
[]
[null,null,"Sta.651+43"]
[]
[null,null,"Totals:"]
[null,null,null,null,null,null,null,null,null,null,null,null,null,null,null,null,null,640,null,null,null,null,null,null,null,526,null,null,null,null,null,null,null,114,null,null,null,null,null,null,null,0,null,null,null,null,null,null,null,526,null,null,null,null,null,null,null,118,null,null,null,null,null,null,null,114,null,null,null,null,null,null,null,0,null,null,null,null,null,null,null,232,null,null,null,null,null,null,null,302,null,null,null,null,null,null,null,225,null,null,null,null,null,null,null,0,null,null,null,null,null,null,null,0,null,null,null,null,null,null,null,114,null,null,null,null,null,null,null,228,null,null,null,null,null,null,null,320,null,null,null,null,null,null,null,-206]
[]
[]
[]
[null,null,null,null,null,null,null,null,null,null,null,null,null,null,null,null,null,"Excavation, Class 10, Roadway & Borrow"]
[]
[null,null,null,null,null,null,null,null,null,null,null,null,null,null,null,null,null,null,null,null,null,null,null,null,null,null,null,null,null,null,null,null,null,null,null,null,null,null,null,null,null,302,null,null,null,null,null,null,null,"CY"]
[]
[]
[]
[null,null,null,null,null,null,null,null,null,null,null,null,null,null,null,null,null,"Excavation, Class 10, Waste"]
[]
[null,null,null,null,null,null,null,null,null,null,null,null,null,null,null,null,null,null,null,null,null,null,null,null,null,null,null,null,null,null,null,null,null,null,null,null,null,null,null,null,null,225,null,null,null,null,null,null,null,"CY"]
[]
[]
[]
[null,null,null,null,null,null,null,null,null,null,null,null,null,null,null,null,null,"Topsoil, Strip, Salvage, & Spread"]
[]
[null,null,null,null,null,null,null,null,null,null,null,null,null,null,null,null,null,null,null,null,null,null,null,null,null,null,null,null,null,null,null,null,null,null,null,null,null,null,null,null,null,114,null,null,null,null,null,null,null,"CY"]
[]
[]
[]
[null,null,null,null,null,null,null,null,null,null,null,null,null,null,null,null,null,"Topsoil, Furnish & Spread"]
[]
[null,null,null,null,null,null,null,null,null,null,null,null,null,null,null,null,null,null,null,null,null,null,null,null,null,null,null,null,null,null,null,null,null,null,null,null,null,null,null,null,null,147,null,null,null,null,null,null,null,"CY"]
[]
[]
[]
[]
[]
[]
[]
[]
[]
[]
[]
[]
[]
[]
[]
[]
[]
[]
[]
[]
[]
[]
[]
[]
[]
[]
[]
[]
[]
[]
[]
[]
[]
[]
[]
[]
[]
[]
[]
[]
[]
[]
[]
[]
[]
[]
[]
[]
[]
[]
[]
[]
[]
[]
[]
[]
[]
[]
[]
[]
[]
[]
[]
[]
[]
[]
[]
[]
[]
[]
[]
[]
[]
[]
[]
[]
[]
[]
[]
[]
[]
[]
[]
[]
[]
[]
[]
[]
[]
[]
[]
[]
[]
[]
[null,"","",null,null,null,null,null,null,null,null,null,null,null,null,null,null,"",null,null,null,null,null,null,null,"",null,null,null,null,null,null,null,"",null,null,null,null,null,null,null,"",null,null,null,null,null,null,null,"",null,null,null,null,null,null,null,"",null,null,null,null,null,null,null,"",null,null,null,null,null,null,null,"",null,null,null,null,null,null,null,"",null,null,null,null,null,null,null,null,null,null,null,null,null,null,null,"",null,null,null,null,null,null,null,"",null,null,null,null,null,null,null,null,null,null,null,null,null,null,null,"",null,null,null,null,null,null,null,null,null,null,null,null,null,null,null,null,"",null,null,null,null,null,null,null,null,null,null,null,null,null,null,"",null,null,null,null,null,null,null,"",null,null,null,null,null,null,null,"",null,null,null,null,null,null,null,"",null,null,null,null,null,null,null,"",null,null,null,null,null,null,null,""]
[]
[null,"FILE NO.",null,null,null,null,null,null,{"$f":"IF(ProjectInformation!$B$12<>\"\",ProjectInformation!$B$12,\"\")","v":""},null,null,null,null,null,null,{"$f":"UPPER(ProjectInformation!$B$8)","v":"ENGLISH"},null,null,null,null,null,null,"DESIGN TEAM",null,null,null,null,null,null,null,null,{"$f":"IF(AND(ProjectInformation!$B$3<>\"\",ProjectInformation!$B$4<>\"\",ProjectInformation!$B$5<>\"\"),ProjectInformation!$B$3&\"\\\"&ProjectInformation!$B$4&\"\\\"&ProjectInformation!$B$5,IF(AND(ProjectInformation!$B$3<>\"\",ProjectInformation!$B$4<>\"\"),ProjectInformation!$B$3&\"\\\"&ProjectInformation!$B$4,IF(ProjectInformation!$B$3<>\"\",ProjectInformation!$B$3,\"\")))","v":"WHKS & CO."},null,null,null,null,null,null,null,null,null,null,null,null,null,null,null,null,null,null,null,null,null,null,null,null,null,null,null,null,null,null,null,null,null,null,null,null,null,null,null,null,null,{"$f":"IF(ProjectInformation!$B$6<>\"\",ProjectInformation!$B$6,\"\")","v":"CLINTON"},null,null,null,null,null,null,null,null,null,null,null,null,null,null,null,null,null,null,null,null,null,null,null,null,null,null,null,null,null,null,null,null,null,null,null,null,null,null,null,null,"COUNTY",null,null,null,null,null,"PROJECT NUMBER",null,null,null,null,null,null,null,null,null,null,null,{"$f":"IF(ProjectInformation!$B$7<>\"\",ProjectInformation!$B$7,\"\")","v":"STPN-136-1(73)--2J-23"},null,null,null,null,null,null,null,null,null,null,null,null,null,null,null,null,null,null,null,null,null,null,null,null,null,null,null,null,null,"SHEET NUMBER",null,null,null,null,null,null,null,null,null,"T.9",null,null,null,null,null,null,null,{"$f":"IF(GE1678<>\"\",\"REVISED\",\"\")","v":""},null,null,null,null,null,{"$f":"IF(ProjectInformation!$B$9<>\"\",ProjectInformation!$B$9,\"\")","v":""}]
[]
[]
[]
[null,"10/29/2019     9:35:10 AM     bchezick     K:\\7805\\SA26 701BT Clinton Culverts\\Design\\DE Sheets\\2313601013t01 (2).xlsm"]
[""]
[]
[]
[null,null,null,null,null,null,null,null,null,null,null,null,null,null,null,null,null,null,null,null,null,null,null,null,null,"",null,null,null,null,null,null,null,"",null,null,null,null,null,null,null,"",null,null,null,null,null,null,null,"",null,null,null,null,null,null,null,"",null,null,null,null,null,null,null,"",null,null,null,null,null,null,null,"",null,null,null,null,null,null,null,"",null,null,null,null,null,null,null,null,null,null,null,null,null,null,null,"",null,null,null,null,null,null,null,"",null,null,null,null,null,null,null,null,null,null,null,null,null,null,null,"",null,null,null,null,null,null,null,null,null,null,null,null,null,null,null,null,"",null,null,null,null,null,null,null,null,null,null,null,null,null,null,"",null,null,null,null,null,null,null,null,null,null,null,null,null,null,null,"",null,null,null,null,null,null,null,"",null,null,null,null,null,null,null,"",null,null,null,null,null,null,null,""]
[]
[null,null,"Refer to Standard Road Plans EW-101 and EW-102.",null,null,null,null,null,null,null,null,null,null,null,null,null,null,null,null,null,null,null,null,null,null,null,null,null,null,null,null,null,null,null,null,null,null,null,null,null,null,null,null,null,null,null,null,null,null,null,null,null,null,null,null,null,null,null,"TABULATION OF TEMPLATE QUANTITIES AND ADJUSTMENTS",null,null,null,null,null,null,null,null,null,null,null,null,null,null,null,null,null,null,null,null,null,null,null,null,null,null,null,null,null,null,null,null,null,null,null,null,null,null,null,null,null,null,null,null,null,null,null,null,null,null,null,null,null,null,null,null,null,null,null,null,null,null,null,null,null,null,null,null,null,null,null,null,null,null,null,null,null,null,"107-28"]
[]
[null,null,null,null,null,null,null,null,null,null,null,null,null,null,null,null,null,null,null,null,null,null,null,null,null,null,null,null,null,null,null,null,null,null,null,null,null,null,null,null,null,null,null,null,null,null,null,null,null,null,null,null,null,null,null,null,null,null,null,null,null,null,null,null,null,null,null,null,null,null,null,null,null,null,null,null,null,null,null,null,null,null,null,null,null,null,null,null,null,null,null,null,null,null,null,null,null,null,null,null,null,null,null,null,null,null,null,null,null,null,null,null,null,null,null,null,null,null,null,null,null,null,null,null,null,null,null,null,null,null,null,null,null,null,null,null,null,"2015-04-21"]
[]
[null,null,null,null,null,null,null,null,null,null,null,null,null,null,null,null,null,"Cut",null,null,null,null,null,null,null,null,null,null,null,null,null,null,null,null,null,null,null,null,null,null,null,null,null,null,null,null,null,null,null,null,null,null,null,null,null,null,null,"Fill",null,null,null,null,null,null,null,null,null,null,null,null,null,null,null,null,null,null,null,null,null,null,null,null,null,null,null,null,null,null,null,null,null,null,null,null,null,null,null,null,null,null,null,null,null,null,null,"Checks (EW-102)",null,null,null,null,null,null,null,null,null,null,null,null,null,null,null,"Topsoil"]
[]
[]
[null,null,null,null,null,null,null,null,null,null,null,null,null,null,null,null,null,"[1]",null,null,null,null,null,null,null,"[2]",null,null,null,null,null,null,null,"[3]",null,null,null,null,null,null,null,"[4]",null,null,null,null,null,null,null,"[5]",null,null,null,null,null,null,null,"[6]",null,null,null,null,null,null,null,"[7]",null,null,null,null,null,null,null,"[8]",null,null,null,null,null,null,null,"[9]",null,null,null,null,null,null,null,"[10]",null,null,null,null,null,null,null,"[11]",null,null,null,null,null,null,null,"[12]",null,null,null,null,null,null,null,"[13]",null,null,null,null,null,null,null,"[14]",null,null,null,null,null,null,null,"[15]",null,null,null,null,null,null,null,"[16]",null,null,null,null,null,null,null,"[17]",null,null,null,null,null,null,null,"[18]",null,null,null,null,null,null,null,"[19]",null,null,null,null,null,null,null,"[20]",null,null,null,null,null,null,null,"[21]",null,null,null,null,null,null,null,"[22]"]
[]
[]
[null,null,null,null,null,null,null,null,null,null,null,null,null,null,null,null,null,{"$f":"IF('107_28'!$R$15<>\"\",'107_28'!$R$15,\"\")","v":""},null,null,null,null,null,null,null,{"$f":"IF('107_28'!$Z$15<>\"\",'107_28'!$Z$15,\"\")","v":""},null,null,null,null,null,null,null,{"$f":"IF('107_28'!$AH$15<>\"\",'107_28'!$AH$15,\"\")","v":""},null,null,null,null,null,null,null,{"$f":"IF('107_28'!$AP$15<>\"\",'107_28'!$AP$15,\"\")","v":""},null,null,null,null,null,null,null,{"$f":"IF('107_28'!$AX$15<>\"\",'107_28'!$AX$15,\"\")","v":""},null,null,null,null,null,null,null,{"$f":"IF('107_28'!$BF$15<>\"\",'107_28'!$BF$15,\"\")","v":""},null,null,null,null,null,null,null,{"$f":"IF('107_28'!$BN$15<>\"\",'107_28'!$BN$15,\"\")","v":""},null,null,null,null,null,null,null,{"$f":"IF('107_28'!$BV$15<>\"\",'107_28'!$BV$15,\"\")","v":""},null,null,null,null,null,null,null,{"$f":"IF('107_28'!$CD$15<>\"\",'107_28'!$CD$15,\"\")","v":""},null,null,null,null,null,null,null,{"$f":"IF('107_28'!$CL$15<>\"\",'107_28'!$CL$15,\"\")","v":""},null,null,null,null,null,null,null,{"$f":"IF('107_28'!$CT$15<>\"\",'107_28'!$CT$15,\"\")","v":""},null,null,null,null,null,null,null,{"$f":"IF('107_28'!$DB$15<>\"\",'107_28'!$DB$15,\"\")","v":""},null,null,null,null,null,null,null,{"$f":"IF('107_28'!$DJ$15<>\"\",'107_28'!$DJ$15,\"\")","v":""},null,null,null,null,null,null,null,{"$f":"IF('107_28'!$DR$15<>\"\",'107_28'!$DR$15,\"\")","v":""},null,null,null,null,null,null,null,{"$f":"IF('107_28'!$DZ$15<>\"\",'107_28'!$DZ$15,\"\")","v":""},null,null,null,null,null,null,null,{"$f":"IF('107_28'!$EH$15<>\"\",'107_28'!$EH$15,\"\")","v":""},null,null,null,null,null,null,null,{"$f":"IF('107_28'!$EP$15<>\"\",'107_28'!$EP$15,\"\")","v":""},null,null,null,null,null,null,null,{"$f":"IF('107_28'!$EX$15<>\"\",'107_28'!$EX$15,\"\")","v":""},null,null,null,null,null,null,null,{"$f":"IF('107_28'!$FF$15<>\"\",'107_28'!$FF$15,\"\")","v":""},null,null,null,null,null,null,null,{"$f":"IF('107_28'!$FN$15<>\"\",'107_28'!$FN$15,\"\")","v":""},null,null,null,null,null,null,null,{"$f":"IF('107_28'!$FV$15<>\"\",'107_28'!$FV$15,\"\")","v":""},null,null,null,null,null,null,null,{"$f":"IF('107_28'!$GD$15<>\"\",'107_28'!$GD$15,\"\")","v":""}]
[]
[]
[]
[null,null,"Station",null,null,null,null,null,null,null,null,null,null,null,null,null,null,"Total Cut Unadjusted\n\nVolume",null,null,null,null,null,null,null,"Total Class 10\nUnadjusted\n\nVolume",null,null,null,null,null,null,null,"Topsoil Cut\n\nVolume",null,null,null,null,null,null,null,"Manually\nCalculated Cut\nAdjustments\n(+/- Cut)",null,null,null,null,null,null,null,"Total\nCut\nAdjusted",null,null,null,null,null,null,null,"Total Fill\nUnadjusted\n\nVolume",null,null,null,null,null,null,null,"Existing Topsoil\nStripping\nUndercut\n(+ Fill)",null,null,null,null,null,null,null,"Manual\nCalculated Fill\nAdjustments\n(+/- Fill)",null,null,null,null,null,null,null,"Total\nFill\nAdjusted",null,null,null,null,null,null,null,"Total Fill\n Adjusted w/\nWeighted Average\n1.3  Shrink Factor",null,null,null,null,null,null,null,"Total Cut Adjusted\nMinus Fill w/ Shrink",null,null,null,null,null,null,null,"Approx. Fill Vol.\nBelow 5' & Above\n20' w/ Shrink",null,null,null,null,null,null,null,"Approx. Fill\nVolume Below 3'\nw/ Shrink",null,null,null,null,null,null,null,"Topsoil\nStripping Undercut\nVolume",null,null,null,null,null,null,null,"Topsoil\nPlacement\nUndercut\nVolume",null,null,null,null,null,null,null,"Topsoil Placement\nWith 1.4 Shrink\nFactor",null,null,null,null,null,null,null,"Topsoil Stripping\nMinus Topsoil\nPlacement\nw/Shrink"]
[]
[]
[]
[]
[]
[]
[]
[]
[]
[]
[]
[]
[]
[]
[]
[]
[]
[]
[null,null,"Sta.704+70"]
[]
[null,null,70469.66]
[null,null,null,null,null,null,null,null,null,null,null,null,null,null,null,null,null,14,null,null,null,null,null,null,null,11,null,null,null,null,null,null,null,3,null,null,null,null,null,null,null,null,null,null,null,null,null,null,null,11,null,null,null,null,null,null,null,23,null,null,null,null,null,null,null,3,null,null,null,null,null,null,null,null,null,null,null,null,null,null,null,26,null,null,null,null,null,null,null,33.799999999999997,null,null,null,null,null,null,null,-22.8,null,null,null,null,null,null,null,0,null,null,null,null,null,null,null,0,null,null,null,null,null,null,null,3,null,null,null,null,null,null,null,6,null,null,null,null,null,null,null,8.4,null,null,null,null,null,null,null,-5.4]
[null,null,70475]
[null,null,null,null,null,null,null,null,null,null,null,null,null,null,null,null,null,13,null,null,null,null,null,null,null,2,null,null,null,null,null,null,null,11,null,null,null,null,null,null,null,null,null,null,null,null,null,null,null,2,null,null,null,null,null,null,null,78,null,null,null,null,null,null,null,11,null,null,null,null,null,null,null,null,null,null,null,null,null,null,null,89,null,null,null,null,null,null,null,115.7,null,null,null,null,null,null,null,-113.7,null,null,null,null,null,null,null,0,null,null,null,null,null,null,null,0,null,null,null,null,null,null,null,11,null,null,null,null,null,null,null,20,null,null,null,null,null,null,null,28,null,null,null,null,null,null,null,-17]
[null,null,70500]
[null,null,null,null,null,null,null,null,null,null,null,null,null,null,null,null,null,11,null,null,null,null,null,null,null,3,null,null,null,null,null,null,null,8,null,null,null,null,null,null,null,null,null,null,null,null,null,null,null,3,null,null,null,null,null,null,null,30,null,null,null,null,null,null,null,8,null,null,null,null,null,null,null,null,null,null,null,null,null,null,null,38,null,null,null,null,null,null,null,49.4,null,null,null,null,null,null,null,-46.4,null,null,null,null,null,null,null,0,null,null,null,null,null,null,null,0,null,null,null,null,null,null,null,8,null,null,null,null,null,null,null,16,null,null,null,null,null,null,null,22.4,null,null,null,null,null,null,null,-14.4]
[null,null,70525]
[null,null,null,null,null,null,null,null,null,null,null,null,null,null,null,null,null,9,null,null,null,null,null,null,null,3,null,null,null,null,null,null,null,6,null,null,null,null,null,null,null,null,null,null,null,null,null,null,null,3,null,null,null,null,null,null,null,10,null,null,null,null,null,null,null,6,null,null,null,null,null,null,null,null,null,null,null,null,null,null,null,16,null,null,null,null,null,null,null,20.8,null,null,null,null,null,null,null,-17.8,null,null,null,null,null,null,null,0,null,null,null,null,null,null,null,0,null,null,null,null,null,null,null,6,null,null,null,null,null,null,null,12,null,null,null,null,null,null,null,16.8,null,null,null,null,null,null,null,-10.8]
[null,null,70550]
[null,null,null,null,null,null,null,null,null,null,null,null,null,null,null,null,null,6,null,null,null,null,null,null,null,3,null,null,null,null,null,null,null,3,null,null,null,null,null,null,null,null,null,null,null,null,null,null,null,3,null,null,null,null,null,null,null,2,null,null,null,null,null,null,null,3,null,null,null,null,null,null,null,null,null,null,null,null,null,null,null,5,null,null,null,null,null,null,null,6.5,null,null,null,null,null,null,null,-3.5,null,null,null,null,null,null,null,0,null,null,null,null,null,null,null,0,null,null,null,null,null,null,null,3,null,null,null,null,null,null,null,6,null,null,null,null,null,null,null,8.4,null,null,null,null,null,null,null,-5.4]
[null,null,70575]
[]
[null,null,"Sta.704+70"]
[]
[null,null,"Totals:"]
[null,null,null,null,null,null,null,null,null,null,null,null,null,null,null,null,null,53,null,null,null,null,null,null,null,22,null,null,null,null,null,null,null,31,null,null,null,null,null,null,null,0,null,null,null,null,null,null,null,22,null,null,null,null,null,null,null,143,null,null,null,null,null,null,null,31,null,null,null,null,null,null,null,0,null,null,null,null,null,null,null,174,null,null,null,null,null,null,null,227,null,null,null,null,null,null,null,-205,null,null,null,null,null,null,null,0,null,null,null,null,null,null,null,0,null,null,null,null,null,null,null,31,null,null,null,null,null,null,null,60,null,null,null,null,null,null,null,84,null,null,null,null,null,null,null,-53]
[]
[]
[]
[null,null,null,null,null,null,null,null,null,null,null,null,null,null,null,null,null,"Excavation, Class 10, Roadway & Borrow"]
[]
[null,null,null,null,null,null,null,null,null,null,null,null,null,null,null,null,null,null,null,null,null,null,null,null,null,null,null,null,null,null,null,null,null,null,null,null,null,null,null,null,null,22,null,null,null,null,null,null,null,"CY"]
[]
[]
[]
[null,null,null,null,null,null,null,null,null,null,null,null,null,null,null,null,null,"Embankment-In-Place"]
[]
[null,null,null,null,null,null,null,null,null,null,null,null,null,null,null,null,null,null,null,null,null,null,null,null,null,null,null,null,null,null,null,null,null,null,null,null,null,null,null,null,null,158,null,null,null,null,null,null,null,"CY"]
[]
[]
[]
[null,null,null,null,null,null,null,null,null,null,null,null,null,null,null,null,null,"Topsoil, Trip, Salvage, & Spread"]
[]
[null,null,null,null,null,null,null,null,null,null,null,null,null,null,null,null,null,null,null,null,null,null,null,null,null,null,null,null,null,null,null,null,null,null,null,null,null,null,null,null,null,31,null,null,null,null,null,null,null,"CY"]
[]
[]
[]
[null,null,null,null,null,null,null,null,null,null,null,null,null,null,null,null,null,"Topsoil, Furnish & Spread"]
[]
[null,null,null,null,null,null,null,null,null,null,null,null,null,null,null,null,null,null,null,null,null,null,null,null,null,null,null,null,null,null,null,null,null,null,null,null,null,null,null,null,null,38,null,null,null,null,null,null,null,"CY"]
[]
[]
[]
[]
[]
[]
[]
[]
[]
[]
[]
[]
[]
[]
[]
[]
[]
[]
[]
[]
[]
[]
[]
[]
[]
[]
[]
[]
[]
[]
[]
[]
[]
[]
[]
[]
[]
[]
[]
[]
[]
[]
[]
[]
[]
[]
[]
[]
[]
[]
[]
[]
[]
[]
[]
[]
[]
[]
[]
[]
[]
[]
[]
[]
[]
[]
[]
[]
[]
[]
[]
[]
[]
[]
[]
[]
[]
[]
[]
[]
[]
[]
[]
[]
[]
[]
[]
[]
[]
[]
[]
[]
[]
[]
[]
[]
[]
[]
[]
[]
[null,"","",null,null,null,null,null,null,null,null,null,null,null,null,null,null,"",null,null,null,null,null,null,null,"",null,null,null,null,null,null,null,"",null,null,null,null,null,null,null,"",null,null,null,null,null,null,null,"",null,null,null,null,null,null,null,"",null,null,null,null,null,null,null,"",null,null,null,null,null,null,null,"",null,null,null,null,null,null,null,"",null,null,null,null,null,null,null,null,null,null,null,null,null,null,null,"",null,null,null,null,null,null,null,"",null,null,null,null,null,null,null,null,null,null,null,null,null,null,null,"",null,null,null,null,null,null,null,null,null,null,null,null,null,null,null,null,"",null,null,null,null,null,null,null,null,null,null,null,null,null,null,"",null,null,null,null,null,null,null,"",null,null,null,null,null,null,null,"",null,null,null,null,null,null,null,"",null,null,null,null,null,null,null,"",null,null,null,null,null,null,null,""]
[]
[null,"FILE NO.",null,null,null,null,null,null,{"$f":"IF(ProjectInformation!$B$12<>\"\",ProjectInformation!$B$12,\"\")","v":""},null,null,null,null,null,null,{"$f":"UPPER(ProjectInformation!$B$8)","v":"ENGLISH"},null,null,null,null,null,null,"DESIGN TEAM",null,null,null,null,null,null,null,null,{"$f":"IF(AND(ProjectInformation!$B$3<>\"\",ProjectInformation!$B$4<>\"\",ProjectInformation!$B$5<>\"\"),ProjectInformation!$B$3&\"\\\"&ProjectInformation!$B$4&\"\\\"&ProjectInformation!$B$5,IF(AND(ProjectInformation!$B$3<>\"\",ProjectInformation!$B$4<>\"\"),ProjectInformation!$B$3&\"\\\"&ProjectInformation!$B$4,IF(ProjectInformation!$B$3<>\"\",ProjectInformation!$B$3,\"\")))","v":"WHKS & CO."},null,null,null,null,null,null,null,null,null,null,null,null,null,null,null,null,null,null,null,null,null,null,null,null,null,null,null,null,null,null,null,null,null,null,null,null,null,null,null,null,null,{"$f":"IF(ProjectInformation!$B$6<>\"\",ProjectInformation!$B$6,\"\")","v":"CLINTON"},null,null,null,null,null,null,null,null,null,null,null,null,null,null,null,null,null,null,null,null,null,null,null,null,null,null,null,null,null,null,null,null,null,null,null,null,null,null,null,null,"COUNTY",null,null,null,null,null,"PROJECT NUMBER",null,null,null,null,null,null,null,null,null,null,null,{"$f":"IF(ProjectInformation!$B$7<>\"\",ProjectInformation!$B$7,\"\")","v":"STPN-136-1(73)--2J-23"},null,null,null,null,null,null,null,null,null,null,null,null,null,null,null,null,null,null,null,null,null,null,null,null,null,null,null,null,null,"SHEET NUMBER",null,null,null,null,null,null,null,null,null,"T.10",null,null,null,null,null,null,null,{"$f":"IF(GE1865<>\"\",\"REVISED\",\"\")","v":""},null,null,null,null,null,{"$f":"IF(ProjectInformation!$B$9<>\"\",ProjectInformation!$B$9,\"\")","v":""}]
[]
[]
[]
[null,"10/29/2019     9:35:10 AM     bchezick     K:\\7805\\SA26 701BT Clinton Culverts\\Design\\DE Sheets\\2313601013t01 (2).xlsm"]
[""]
[]
[]
[null,null,null,null,null,null,null,null,null,null,null,null,null,null,null,null,null,null,null,null,null,null,null,null,null,"",null,null,null,null,null,null,null,"",null,null,null,null,null,null,null,"",null,null,null,null,null,null,null,"",null,null,null,null,null,null,null,"",null,null,null,null,null,null,null,"",null,null,null,null,null,null,null,"",null,null,null,null,null,null,null,"",null,null,null,null,null,null,null,null,null,null,null,null,null,null,null,"",null,null,null,null,null,null,null,"",null,null,null,null,null,null,null,null,null,null,null,null,null,null,null,"",null,null,null,null,null,null,null,null,null,null,null,null,null,null,null,null,"",null,null,null,null,null,null,null,null,null,null,null,null,null,null,"",null,null,null,null,null,null,null,null,null,null,null,null,null,null,null,"",null,null,null,null,null,null,null,"",null,null,null,null,null,null,null,"",null,null,null,null,null,null,null,""]
[]
[null,null,"Refer to Standard Road Plans EW-101 and EW-102.",null,null,null,null,null,null,null,null,null,null,null,null,null,null,null,null,null,null,null,null,null,null,null,null,null,null,null,null,null,null,null,null,null,null,null,null,null,null,null,null,null,null,null,null,null,null,null,null,null,null,null,null,null,null,null,"TABULATION OF TEMPLATE QUANTITIES AND ADJUSTMENTS",null,null,null,null,null,null,null,null,null,null,null,null,null,null,null,null,null,null,null,null,null,null,null,null,null,null,null,null,null,null,null,null,null,null,null,null,null,null,null,null,null,null,null,null,null,null,null,null,null,null,null,null,null,null,null,null,null,null,null,null,null,null,null,null,null,null,null,null,null,null,null,null,null,null,null,null,null,null,"107-28"]
[]
[null,null,null,null,null,null,null,null,null,null,null,null,null,null,null,null,null,null,null,null,null,null,null,null,null,null,null,null,null,null,null,null,null,null,null,null,null,null,null,null,null,null,null,null,null,null,null,null,null,null,null,null,null,null,null,null,null,null,null,null,null,null,null,null,null,null,null,null,null,null,null,null,null,null,null,null,null,null,null,null,null,null,null,null,null,null,null,null,null,null,null,null,null,null,null,null,null,null,null,null,null,null,null,null,null,null,null,null,null,null,null,null,null,null,null,null,null,null,null,null,null,null,null,null,null,null,null,null,null,null,null,null,null,null,null,null,null,"2015-04-21"]
[]
[null,null,null,null,null,null,null,null,null,null,null,null,null,null,null,null,null,"Cut",null,null,null,null,null,null,null,null,null,null,null,null,null,null,null,null,null,null,null,null,null,null,null,null,null,null,null,null,null,null,null,null,null,null,null,null,null,null,null,"Fill",null,null,null,null,null,null,null,null,null,null,null,null,null,null,null,null,null,null,null,null,null,null,null,null,null,null,null,null,null,null,null,null,null,null,null,null,null,null,null,null,null,null,null,null,null,null,null,"Checks (EW-102)",null,null,null,null,null,null,null,null,null,null,null,null,null,null,null,"Topsoil"]
[]
[]
[null,null,null,null,null,null,null,null,null,null,null,null,null,null,null,null,null,"[1]",null,null,null,null,null,null,null,"[2]",null,null,null,null,null,null,null,"[3]",null,null,null,null,null,null,null,"[4]",null,null,null,null,null,null,null,"[5]",null,null,null,null,null,null,null,"[6]",null,null,null,null,null,null,null,"[7]",null,null,null,null,null,null,null,"[8]",null,null,null,null,null,null,null,"[9]",null,null,null,null,null,null,null,"[10]",null,null,null,null,null,null,null,"[11]",null,null,null,null,null,null,null,"[12]",null,null,null,null,null,null,null,"[13]",null,null,null,null,null,null,null,"[14]",null,null,null,null,null,null,null,"[15]",null,null,null,null,null,null,null,"[16]",null,null,null,null,null,null,null,"[17]",null,null,null,null,null,null,null,"[18]",null,null,null,null,null,null,null,"[19]",null,null,null,null,null,null,null,"[20]",null,null,null,null,null,null,null,"[21]",null,null,null,null,null,null,null,"[22]"]
[]
[]
[null,null,null,null,null,null,null,null,null,null,null,null,null,null,null,null,null,{"$f":"IF('107_28'!$R$15<>\"\",'107_28'!$R$15,\"\")","v":""},null,null,null,null,null,null,null,{"$f":"IF('107_28'!$Z$15<>\"\",'107_28'!$Z$15,\"\")","v":""},null,null,null,null,null,null,null,{"$f":"IF('107_28'!$AH$15<>\"\",'107_28'!$AH$15,\"\")","v":""},null,null,null,null,null,null,null,{"$f":"IF('107_28'!$AP$15<>\"\",'107_28'!$AP$15,\"\")","v":""},null,null,null,null,null,null,null,{"$f":"IF('107_28'!$AX$15<>\"\",'107_28'!$AX$15,\"\")","v":""},null,null,null,null,null,null,null,{"$f":"IF('107_28'!$BF$15<>\"\",'107_28'!$BF$15,\"\")","v":""},null,null,null,null,null,null,null,{"$f":"IF('107_28'!$BN$15<>\"\",'107_28'!$BN$15,\"\")","v":""},null,null,null,null,null,null,null,{"$f":"IF('107_28'!$BV$15<>\"\",'107_28'!$BV$15,\"\")","v":""},null,null,null,null,null,null,null,{"$f":"IF('107_28'!$CD$15<>\"\",'107_28'!$CD$15,\"\")","v":""},null,null,null,null,null,null,null,{"$f":"IF('107_28'!$CL$15<>\"\",'107_28'!$CL$15,\"\")","v":""},null,null,null,null,null,null,null,{"$f":"IF('107_28'!$CT$15<>\"\",'107_28'!$CT$15,\"\")","v":""},null,null,null,null,null,null,null,{"$f":"IF('107_28'!$DB$15<>\"\",'107_28'!$DB$15,\"\")","v":""},null,null,null,null,null,null,null,{"$f":"IF('107_28'!$DJ$15<>\"\",'107_28'!$DJ$15,\"\")","v":""},null,null,null,null,null,null,null,{"$f":"IF('107_28'!$DR$15<>\"\",'107_28'!$DR$15,\"\")","v":""},null,null,null,null,null,null,null,{"$f":"IF('107_28'!$DZ$15<>\"\",'107_28'!$DZ$15,\"\")","v":""},null,null,null,null,null,null,null,{"$f":"IF('107_28'!$EH$15<>\"\",'107_28'!$EH$15,\"\")","v":""},null,null,null,null,null,null,null,{"$f":"IF('107_28'!$EP$15<>\"\",'107_28'!$EP$15,\"\")","v":""},null,null,null,null,null,null,null,{"$f":"IF('107_28'!$EX$15<>\"\",'107_28'!$EX$15,\"\")","v":""},null,null,null,null,null,null,null,{"$f":"IF('107_28'!$FF$15<>\"\",'107_28'!$FF$15,\"\")","v":""},null,null,null,null,null,null,null,{"$f":"IF('107_28'!$FN$15<>\"\",'107_28'!$FN$15,\"\")","v":""},null,null,null,null,null,null,null,{"$f":"IF('107_28'!$FV$15<>\"\",'107_28'!$FV$15,\"\")","v":""},null,null,null,null,null,null,null,{"$f":"IF('107_28'!$GD$15<>\"\",'107_28'!$GD$15,\"\")","v":""}]
[]
[]
[]
[null,null,"Station",null,null,null,null,null,null,null,null,null,null,null,null,null,null,"Total Cut Unadjusted\n\nVolume",null,null,null,null,null,null,null,"Total Class 10\nUnadjusted\n\nVolume",null,null,null,null,null,null,null,"Topsoil Cut\n\nVolume",null,null,null,null,null,null,null,"Manually\nCalculated Cut\nAdjustments\n(+/- Cut)",null,null,null,null,null,null,null,"Total\nCut\nAdjusted",null,null,null,null,null,null,null,"Total Fill\nUnadjusted\n\nVolume",null,null,null,null,null,null,null,"Existing Topsoil\nStripping\nUndercut\n(+ Fill)",null,null,null,null,null,null,null,"Manual\nCalculated Fill\nAdjustments\n(+/- Fill)",null,null,null,null,null,null,null,"Total\nFill\nAdjusted",null,null,null,null,null,null,null,"Total Fill\n Adjusted w/\nWeighted Average\n1.3  Shrink Factor",null,null,null,null,null,null,null,"Total Cut Adjusted\nMinus Fill w/ Shrink",null,null,null,null,null,null,null,"Approx. Fill Vol.\nBelow 5' & Above\n20' w/ Shrink",null,null,null,null,null,null,null,"Approx. Fill\nVolume Below 3'\nw/ Shrink",null,null,null,null,null,null,null,"Topsoil\nStripping Undercut\nVolume",null,null,null,null,null,null,null,"Topsoil\nPlacement\nUndercut\nVolume",null,null,null,null,null,null,null,"Topsoil Placement\nWith 1.4 Shrink\nFactor",null,null,null,null,null,null,null,"Topsoil Stripping\nMinus Topsoil\nPlacement\nw/Shrink"]
[]
[]
[]
[]
[]
[]
[]
[]
[]
[]
[]
[]
[]
[]
[]
[]
[]
[]
[null,null,"Sta.743+25"]
[]
[null,null,74225]
[null,null,null,null,null,null,null,null,null,null,null,null,null,null,null,null,null,15,null,null,null,null,null,null,null,9,null,null,null,null,null,null,null,6,null,null,null,null,null,null,null,null,null,null,null,null,null,null,null,9,null,null,null,null,null,null,null,2,null,null,null,null,null,null,null,6,null,null,null,null,null,null,null,null,null,null,null,null,null,null,null,8,null,null,null,null,null,null,null,10.4,null,null,null,null,null,null,null,-1.4,null,null,null,null,null,null,null,0,null,null,null,null,null,null,null,0,null,null,null,null,null,null,null,6,null,null,null,null,null,null,null,11,null,null,null,null,null,null,null,15.4,null,null,null,null,null,null,null,-9.4]
[null,null,74250]
[null,null,null,null,null,null,null,null,null,null,null,null,null,null,null,null,null,50,null,null,null,null,null,null,null,35,null,null,null,null,null,null,null,15,null,null,null,null,null,null,null,null,null,null,null,null,null,null,null,35,null,null,null,null,null,null,null,9,null,null,null,null,null,null,null,15,null,null,null,null,null,null,null,null,null,null,null,null,null,null,null,24,null,null,null,null,null,null,null,31.2,null,null,null,null,null,null,null,3.8,null,null,null,null,null,null,null,0,null,null,null,null,null,null,null,0,null,null,null,null,null,null,null,15,null,null,null,null,null,null,null,29,null,null,null,null,null,null,null,40.6,null,null,null,null,null,null,null,-25.6]
[null,null,74275]
[null,null,null,null,null,null,null,null,null,null,null,null,null,null,null,null,null,77,null,null,null,null,null,null,null,54,null,null,null,null,null,null,null,23,null,null,null,null,null,null,null,null,null,null,null,null,null,null,null,54,null,null,null,null,null,null,null,18,null,null,null,null,null,null,null,23,null,null,null,null,null,null,null,null,null,null,null,null,null,null,null,41,null,null,null,null,null,null,null,53.3,null,null,null,null,null,null,null,0.79999999999999993,null,null,null,null,null,null,null,0,null,null,null,null,null,null,null,0,null,null,null,null,null,null,null,23,null,null,null,null,null,null,null,45,null,null,null,null,null,null,null,63,null,null,null,null,null,null,null,-40]
[null,null,74300]
[null,null,null,null,null,null,null,null,null,null,null,null,null,null,null,null,null,75,null,null,null,null,null,null,null,47,null,null,null,null,null,null,null,28,null,null,null,null,null,null,null,null,null,null,null,null,null,null,null,47,null,null,null,null,null,null,null,115,null,null,null,null,null,null,null,28,null,null,null,null,null,null,null,null,null,null,null,null,null,null,null,143,null,null,null,null,null,null,null,185.9,null,null,null,null,null,null,null,-138.9,null,null,null,null,null,null,null,0,null,null,null,null,null,null,null,0,null,null,null,null,null,null,null,28,null,null,null,null,null,null,null,55,null,null,null,null,null,null,null,77,null,null,null,null,null,null,null,-49]
[null,null,74325.2]
[null,null,null,null,null,null,null,null,null,null,null,null,null,null,null,null,null,74,null,null,null,null,null,null,null,49,null,null,null,null,null,null,null,25,null,null,null,null,null,null,null,null,null,null,null,null,null,null,null,49,null,null,null,null,null,null,null,114,null,null,null,null,null,null,null,25,null,null,null,null,null,null,null,null,null,null,null,null,null,null,null,139,null,null,null,null,null,null,null,180.7,null,null,null,null,null,null,null,-131.69999999999999,null,null,null,null,null,null,null,0,null,null,null,null,null,null,null,0,null,null,null,null,null,null,null,25,null,null,null,null,null,null,null,49,null,null,null,null,null,null,null,68.599999999999994,null,null,null,null,null,null,null,-43.6]
[null,null,74350]
[null,null,null,null,null,null,null,null,null,null,null,null,null,null,null,null,null,65,null,null,null,null,null,null,null,48,null,null,null,null,null,null,null,17,null,null,null,null,null,null,null,null,null,null,null,null,null,null,null,48,null,null,null,null,null,null,null,17,null,null,null,null,null,null,null,17,null,null,null,null,null,null,null,null,null,null,null,null,null,null,null,34,null,null,null,null,null,null,null,44.2,null,null,null,null,null,null,null,3.8,null,null,null,null,null,null,null,0,null,null,null,null,null,null,null,0,null,null,null,null,null,null,null,17,null,null,null,null,null,null,null,34,null,null,null,null,null,null,null,47.6,null,null,null,null,null,null,null,-30.6]
[null,null,74375]
[null,null,null,null,null,null,null,null,null,null,null,null,null,null,null,null,null,40,null,null,null,null,null,null,null,29,null,null,null,null,null,null,null,11,null,null,null,null,null,null,null,null,null,null,null,null,null,null,null,29,null,null,null,null,null,null,null,6,null,null,null,null,null,null,null,11,null,null,null,null,null,null,null,null,null,null,null,null,null,null,null,17,null,null,null,null,null,null,null,22.1,null,null,null,null,null,null,null,6.9,null,null,null,null,null,null,null,0,null,null,null,null,null,null,null,0,null,null,null,null,null,null,null,11,null,null,null,null,null,null,null,22,null,null,null,null,null,null,null,30.8,null,null,null,null,null,null,null,-19.8]
[null,null,74400]
[null,null,null,null,null,null,null,null,null,null,null,null,null,null,null,null,null,21,null,null,null,null,null,null,null,15,null,null,null,null,null,null,null,6,null,null,null,null,null,null,null,null,null,null,null,null,null,null,null,15,null,null,null,null,null,null,null,0,null,null,null,null,null,null,null,6,null,null,null,null,null,null,null,null,null,null,null,null,null,null,null,6,null,null,null,null,null,null,null,7.8,null,null,null,null,null,null,null,7.2,null,null,null,null,null,null,null,0,null,null,null,null,null,null,null,0,null,null,null,null,null,null,null,6,null,null,null,null,null,null,null,11,null,null,null,null,null,null,null,15.4,null,null,null,null,null,null,null,-9.4]
[null,null,74425]
[]
[null,null,"Sta.743+25"]
[]
[null,null,"Totals:"]
[null,null,null,null,null,null,null,null,null,null,null,null,null,null,null,null,null,417,null,null,null,null,null,null,null,286,null,null,null,null,null,null,null,131,null,null,null,null,null,null,null,0,null,null,null,null,null,null,null,286,null,null,null,null,null,null,null,281,null,null,null,null,null,null,null,131,null,null,null,null,null,null,null,0,null,null,null,null,null,null,null,412,null,null,null,null,null,null,null,536,null,null,null,null,null,null,null,-250,null,null,null,null,null,null,null,0,null,null,null,null,null,null,null,0,null,null,null,null,null,null,null,131,null,null,null,null,null,null,null,256,null,null,null,null,null,null,null,359,null,null,null,null,null,null,null,-228]
[]
[]
[]
[null,null,null,null,null,null,null,null,null,null,null,null,null,null,null,null,null,"Excavation, Class 10, Roadway & Borrow"]
[]
[null,null,null,null,null,null,null,null,null,null,null,null,null,null,null,null,null,null,null,null,null,null,null,null,null,null,null,null,null,null,null,null,null,null,null,null,null,null,null,null,null,286,null,null,null,null,null,null,null,"CY"]
[]
[]
[]
[null,null,null,null,null,null,null,null,null,null,null,null,null,null,null,null,null,"Embankment-In-Place"]
[]
[null,null,null,null,null,null,null,null,null,null,null,null,null,null,null,null,null,null,null,null,null,null,null,null,null,null,null,null,null,null,null,null,null,null,null,null,null,null,null,null,null,192,null,null,null,null,null,null,null,"CY"]
[]
[]
[]
[null,null,null,null,null,null,null,null,null,null,null,null,null,null,null,null,null,"Topsoil, Trip, Salvage, & Spread"]
[]
[null,null,null,null,null,null,null,null,null,null,null,null,null,null,null,null,null,null,null,null,null,null,null,null,null,null,null,null,null,null,null,null,null,null,null,null,null,null,null,null,null,131,null,null,null,null,null,null,null,"CY"]
[]
[]
[]
[null,null,null,null,null,null,null,null,null,null,null,null,null,null,null,null,null,"Topsoil, Furnish & Spread"]
[]
[null,null,null,null,null,null,null,null,null,null,null,null,null,null,null,null,null,null,null,null,null,null,null,null,null,null,null,null,null,null,null,null,null,null,null,null,null,null,null,null,null,163,null,null,null,null,null,null,null,"CY"]
[]
[]
[]
[]
[]
[]
[]
[]
[]
[]
[]
[]
[]
[]
[]
[]
[]
[]
[]
[]
[]
[]
[]
[]
[]
[]
[]
[]
[]
[]
[]
[]
[]
[]
[]
[]
[]
[]
[]
[]
[]
[]
[]
[]
[]
[]
[]
[]
[]
[]
[]
[]
[]
[]
[]
[]
[]
[]
[]
[]
[]
[]
[]
[]
[]
[]
[]
[]
[]
[]
[]
[]
[]
[]
[]
[]
[]
[]
[]
[]
[]
[]
[]
[]
[]
[]
[]
[]
[]
[]
[]
[]
[]
[]
[null,"","",null,null,null,null,null,null,null,null,null,null,null,null,null,null,"",null,null,null,null,null,null,null,"",null,null,null,null,null,null,null,"",null,null,null,null,null,null,null,"",null,null,null,null,null,null,null,"",null,null,null,null,null,null,null,"",null,null,null,null,null,null,null,"",null,null,null,null,null,null,null,"",null,null,null,null,null,null,null,"",null,null,null,null,null,null,null,null,null,null,null,null,null,null,null,"",null,null,null,null,null,null,null,"",null,null,null,null,null,null,null,null,null,null,null,null,null,null,null,"",null,null,null,null,null,null,null,null,null,null,null,null,null,null,null,null,"",null,null,null,null,null,null,null,null,null,null,null,null,null,null,"",null,null,null,null,null,null,null,"",null,null,null,null,null,null,null,"",null,null,null,null,null,null,null,"",null,null,null,null,null,null,null,"",null,null,null,null,null,null,null,""]
[]
[null,"FILE NO.",null,null,null,null,null,null,{"$f":"IF(ProjectInformation!$B$12<>\"\",ProjectInformation!$B$12,\"\")","v":""},null,null,null,null,null,null,{"$f":"UPPER(ProjectInformation!$B$8)","v":"ENGLISH"},null,null,null,null,null,null,"DESIGN TEAM",null,null,null,null,null,null,null,null,{"$f":"IF(AND(ProjectInformation!$B$3<>\"\",ProjectInformation!$B$4<>\"\",ProjectInformation!$B$5<>\"\"),ProjectInformation!$B$3&\"\\\"&ProjectInformation!$B$4&\"\\\"&ProjectInformation!$B$5,IF(AND(ProjectInformation!$B$3<>\"\",ProjectInformation!$B$4<>\"\"),ProjectInformation!$B$3&\"\\\"&ProjectInformation!$B$4,IF(ProjectInformation!$B$3<>\"\",ProjectInformation!$B$3,\"\")))","v":"WHKS & CO."},null,null,null,null,null,null,null,null,null,null,null,null,null,null,null,null,null,null,null,null,null,null,null,null,null,null,null,null,null,null,null,null,null,null,null,null,null,null,null,null,null,{"$f":"IF(ProjectInformation!$B$6<>\"\",ProjectInformation!$B$6,\"\")","v":"CLINTON"},null,null,null,null,null,null,null,null,null,null,null,null,null,null,null,null,null,null,null,null,null,null,null,null,null,null,null,null,null,null,null,null,null,null,null,null,null,null,null,null,"COUNTY",null,null,null,null,null,"PROJECT NUMBER",null,null,null,null,null,null,null,null,null,null,null,{"$f":"IF(ProjectInformation!$B$7<>\"\",ProjectInformation!$B$7,\"\")","v":"STPN-136-1(73)--2J-23"},null,null,null,null,null,null,null,null,null,null,null,null,null,null,null,null,null,null,null,null,null,null,null,null,null,null,null,null,null,"SHEET NUMBER",null,null,null,null,null,null,null,null,null,"T.11",null,null,null,null,null,null,null,{"$f":"IF(GE2052<>\"\",\"REVISED\",\"\")","v":""},null,null,null,null,null,{"$f":"IF(ProjectInformation!$B$9<>\"\",ProjectInformation!$B$9,\"\")","v":""}]
[]
[]
[]
[null,"10/29/2019     9:35:10 AM     bchezick     K:\\7805\\SA26 701BT Clinton Culverts\\Design\\DE Sheets\\2313601013t01 (2).xlsm"]
[""]
[]
[]
[null,null,null,null,null,null,null,null,null,null,null,null,null,null,null,null,null,null,null,null,null,null,null,null,null,"",null,null,null,null,null,null,null,"",null,null,null,null,null,null,null,"",null,null,null,null,null,null,null,"",null,null,null,null,null,null,null,"",null,null,null,null,null,null,null,"",null,null,null,null,null,null,null,"",null,null,null,null,null,null,null,"",null,null,null,null,null,null,null,null,null,null,null,null,null,null,null,"",null,null,null,null,null,null,null,"",null,null,null,null,null,null,null,null,null,null,null,null,null,null,null,"",null,null,null,null,null,null,null,null,null,null,null,null,null,null,null,null,"",null,null,null,null,null,null,null,null,null,null,null,null,null,null,"",null,null,null,null,null,null,null,null,null,null,null,null,null,null,null,"",null,null,null,null,null,null,null,"",null,null,null,null,null,null,null,"",null,null,null,null,null,null,null,""]
[]
[null,null,"Refer to Standard Road Plans EW-101 and EW-102.",null,null,null,null,null,null,null,null,null,null,null,null,null,null,null,null,null,null,null,null,null,null,null,null,null,null,null,null,null,null,null,null,null,null,null,null,null,null,null,null,null,null,null,null,null,null,null,null,null,null,null,null,null,null,null,"TABULATION OF TEMPLATE QUANTITIES AND ADJUSTMENTS",null,null,null,null,null,null,null,null,null,null,null,null,null,null,null,null,null,null,null,null,null,null,null,null,null,null,null,null,null,null,null,null,null,null,null,null,null,null,null,null,null,null,null,null,null,null,null,null,null,null,null,null,null,null,null,null,null,null,null,null,null,null,null,null,null,null,null,null,null,null,null,null,null,null,null,null,null,null,"107-28"]
[]
[null,null,null,null,null,null,null,null,null,null,null,null,null,null,null,null,null,null,null,null,null,null,null,null,null,null,null,null,null,null,null,null,null,null,null,null,null,null,null,null,null,null,null,null,null,null,null,null,null,null,null,null,null,null,null,null,null,null,null,null,null,null,null,null,null,null,null,null,null,null,null,null,null,null,null,null,null,null,null,null,null,null,null,null,null,null,null,null,null,null,null,null,null,null,null,null,null,null,null,null,null,null,null,null,null,null,null,null,null,null,null,null,null,null,null,null,null,null,null,null,null,null,null,null,null,null,null,null,null,null,null,null,null,null,null,null,null,"2015-04-21"]
[]
[null,null,null,null,null,null,null,null,null,null,null,null,null,null,null,null,null,"Cut",null,null,null,null,null,null,null,null,null,null,null,null,null,null,null,null,null,null,null,null,null,null,null,null,null,null,null,null,null,null,null,null,null,null,null,null,null,null,null,"Fill",null,null,null,null,null,null,null,null,null,null,null,null,null,null,null,null,null,null,null,null,null,null,null,null,null,null,null,null,null,null,null,null,null,null,null,null,null,null,null,null,null,null,null,null,null,null,null,"Checks (EW-102)",null,null,null,null,null,null,null,null,null,null,null,null,null,null,null,"Topsoil"]
[]
[]
[null,null,null,null,null,null,null,null,null,null,null,null,null,null,null,null,null,"[1]",null,null,null,null,null,null,null,"[2]",null,null,null,null,null,null,null,"[3]",null,null,null,null,null,null,null,"[4]",null,null,null,null,null,null,null,"[5]",null,null,null,null,null,null,null,"[6]",null,null,null,null,null,null,null,"[7]",null,null,null,null,null,null,null,"[8]",null,null,null,null,null,null,null,"[9]",null,null,null,null,null,null,null,"[10]",null,null,null,null,null,null,null,"[11]",null,null,null,null,null,null,null,"[12]",null,null,null,null,null,null,null,"[13]",null,null,null,null,null,null,null,"[14]",null,null,null,null,null,null,null,"[15]",null,null,null,null,null,null,null,"[16]",null,null,null,null,null,null,null,"[17]",null,null,null,null,null,null,null,"[18]",null,null,null,null,null,null,null,"[19]",null,null,null,null,null,null,null,"[20]",null,null,null,null,null,null,null,"[21]",null,null,null,null,null,null,null,"[22]"]
[]
[]
[null,null,null,null,null,null,null,null,null,null,null,null,null,null,null,null,null,{"$f":"IF('107_28'!$R$15<>\"\",'107_28'!$R$15,\"\")","v":""},null,null,null,null,null,null,null,{"$f":"IF('107_28'!$Z$15<>\"\",'107_28'!$Z$15,\"\")","v":""},null,null,null,null,null,null,null,{"$f":"IF('107_28'!$AH$15<>\"\",'107_28'!$AH$15,\"\")","v":""},null,null,null,null,null,null,null,{"$f":"IF('107_28'!$AP$15<>\"\",'107_28'!$AP$15,\"\")","v":""},null,null,null,null,null,null,null,{"$f":"IF('107_28'!$AX$15<>\"\",'107_28'!$AX$15,\"\")","v":""},null,null,null,null,null,null,null,{"$f":"IF('107_28'!$BF$15<>\"\",'107_28'!$BF$15,\"\")","v":""},null,null,null,null,null,null,null,{"$f":"IF('107_28'!$BN$15<>\"\",'107_28'!$BN$15,\"\")","v":""},null,null,null,null,null,null,null,{"$f":"IF('107_28'!$BV$15<>\"\",'107_28'!$BV$15,\"\")","v":""},null,null,null,null,null,null,null,{"$f":"IF('107_28'!$CD$15<>\"\",'107_28'!$CD$15,\"\")","v":""},null,null,null,null,null,null,null,{"$f":"IF('107_28'!$CL$15<>\"\",'107_28'!$CL$15,\"\")","v":""},null,null,null,null,null,null,null,{"$f":"IF('107_28'!$CT$15<>\"\",'107_28'!$CT$15,\"\")","v":""},null,null,null,null,null,null,null,{"$f":"IF('107_28'!$DB$15<>\"\",'107_28'!$DB$15,\"\")","v":""},null,null,null,null,null,null,null,{"$f":"IF('107_28'!$DJ$15<>\"\",'107_28'!$DJ$15,\"\")","v":""},null,null,null,null,null,null,null,{"$f":"IF('107_28'!$DR$15<>\"\",'107_28'!$DR$15,\"\")","v":""},null,null,null,null,null,null,null,{"$f":"IF('107_28'!$DZ$15<>\"\",'107_28'!$DZ$15,\"\")","v":""},null,null,null,null,null,null,null,{"$f":"IF('107_28'!$EH$15<>\"\",'107_28'!$EH$15,\"\")","v":""},null,null,null,null,null,null,null,{"$f":"IF('107_28'!$EP$15<>\"\",'107_28'!$EP$15,\"\")","v":""},null,null,null,null,null,null,null,{"$f":"IF('107_28'!$EX$15<>\"\",'107_28'!$EX$15,\"\")","v":""},null,null,null,null,null,null,null,{"$f":"IF('107_28'!$FF$15<>\"\",'107_28'!$FF$15,\"\")","v":""},null,null,null,null,null,null,null,{"$f":"IF('107_28'!$FN$15<>\"\",'107_28'!$FN$15,\"\")","v":""},null,null,null,null,null,null,null,{"$f":"IF('107_28'!$FV$15<>\"\",'107_28'!$FV$15,\"\")","v":""},null,null,null,null,null,null,null,{"$f":"IF('107_28'!$GD$15<>\"\",'107_28'!$GD$15,\"\")","v":""}]
[]
[]
[]
[null,null,"Station",null,null,null,null,null,null,null,null,null,null,null,null,null,null,"Total Cut Unadjusted\n\nVolume",null,null,null,null,null,null,null,"Total Class 10\nUnadjusted\n\nVolume",null,null,null,null,null,null,null,"Topsoil Cut\n\nVolume",null,null,null,null,null,null,null,"Manually\nCalculated Cut\nAdjustments\n(+/- Cut)",null,null,null,null,null,null,null,"Total\nCut\nAdjusted",null,null,null,null,null,null,null,"Total Fill\nUnadjusted\n\nVolume",null,null,null,null,null,null,null,"Existing Topsoil\nStripping\nUndercut\n(+ Fill)",null,null,null,null,null,null,null,"Manual\nCalculated Fill\nAdjustments\n(+/- Fill)",null,null,null,null,null,null,null,"Total\nFill\nAdjusted",null,null,null,null,null,null,null,"Total Fill\n Adjusted w/\nWeighted Average\n1.3  Shrink Factor",null,null,null,null,null,null,null,"Total Cut Adjusted\nMinus Fill w/ Shrink",null,null,null,null,null,null,null,"Approx. Fill Vol.\nBelow 5' & Above\n20' w/ Shrink",null,null,null,null,null,null,null,"Approx. Fill\nVolume Below 3'\nw/ Shrink",null,null,null,null,null,null,null,"Topsoil\nStripping Undercut\nVolume",null,null,null,null,null,null,null,"Topsoil\nPlacement\nUndercut\nVolume",null,null,null,null,null,null,null,"Topsoil Placement\nWith 1.4 Shrink\nFactor",null,null,null,null,null,null,null,"Topsoil Stripping\nMinus Topsoil\nPlacement\nw/Shrink"]
[]
[]
[]
[]
[]
[]
[]
[]
[]
[]
[]
[]
[]
[]
[]
[]
[]
[]
[null,null,"Sta.766+09"]
[]
[null,null,76525]
[null,null,null,null,null,null,null,null,null,null,null,null,null,null,null,null,null,52,null,null,null,null,null,null,null,37,null,null,null,null,null,null,null,15,null,null,null,null,null,null,null,null,null,null,null,null,null,null,null,37,null,null,null,null,null,null,null,29,null,null,null,null,null,null,null,15,null,null,null,null,null,null,null,null,null,null,null,null,null,null,null,44,null,null,null,null,null,null,null,57.2,null,null,null,null,null,null,null,-20.2,null,null,null,null,null,null,null,0,null,null,null,null,null,null,null,0,null,null,null,null,null,null,null,15,null,null,null,null,null,null,null,28,null,null,null,null,null,null,null,39.200000000000003,null,null,null,null,null,null,null,-24.2]
[null,null,76550]
[null,null,null,null,null,null,null,null,null,null,null,null,null,null,null,null,null,144,null,null,null,null,null,null,null,120,null,null,null,null,null,null,null,24,null,null,null,null,null,null,null,null,null,null,null,null,null,null,null,120,null,null,null,null,null,null,null,73,null,null,null,null,null,null,null,24,null,null,null,null,null,null,null,null,null,null,null,null,null,null,null,97,null,null,null,null,null,null,null,126.1,null,null,null,null,null,null,null,-6.1,null,null,null,null,null,null,null,0,null,null,null,null,null,null,null,0,null,null,null,null,null,null,null,24,null,null,null,null,null,null,null,48,null,null,null,null,null,null,null,67.2,null,null,null,null,null,null,null,-43.2]
[null,null,76575]
[null,null,null,null,null,null,null,null,null,null,null,null,null,null,null,null,null,216,null,null,null,null,null,null,null,186,null,null,null,null,null,null,null,30,null,null,null,null,null,null,null,null,null,null,null,null,null,null,null,186,null,null,null,null,null,null,null,108,null,null,null,null,null,null,null,30,null,null,null,null,null,null,null,null,null,null,null,null,null,null,null,138,null,null,null,null,null,null,null,179.4,null,null,null,null,null,null,null,6.6,null,null,null,null,null,null,null,0,null,null,null,null,null,null,null,0,null,null,null,null,null,null,null,30,null,null,null,null,null,null,null,58,null,null,null,null,null,null,null,81.2,null,null,null,null,null,null,null,-51.2]
[null,null,76600]
[null,null,null,null,null,null,null,null,null,null,null,null,null,null,null,null,null,88,null,null,null,null,null,null,null,77,null,null,null,null,null,null,null,11,null,null,null,null,null,null,null,null,null,null,null,null,null,null,null,77,null,null,null,null,null,null,null,46,null,null,null,null,null,null,null,11,null,null,null,null,null,null,null,null,null,null,null,null,null,null,null,57,null,null,null,null,null,null,null,74.099999999999994,null,null,null,null,null,null,null,3,null,null,null,null,null,null,null,0,null,null,null,null,null,null,null,0,null,null,null,null,null,null,null,11,null,null,null,null,null,null,null,22,null,null,null,null,null,null,null,30.8,null,null,null,null,null,null,null,-19.8]
[null,null,76609]
[null,null,null,null,null,null,null,null,null,null,null,null,null,null,null,null,null,142,null,null,null,null,null,null,null,122,null,null,null,null,null,null,null,20,null,null,null,null,null,null,null,null,null,null,null,null,null,null,null,122,null,null,null,null,null,null,null,90,null,null,null,null,null,null,null,20,null,null,null,null,null,null,null,null,null,null,null,null,null,null,null,110,null,null,null,null,null,null,null,143,null,null,null,null,null,null,null,-21,null,null,null,null,null,null,null,0,null,null,null,null,null,null,null,0,null,null,null,null,null,null,null,20,null,null,null,null,null,null,null,39,null,null,null,null,null,null,null,54.6,null,null,null,null,null,null,null,-34.6]
[null,null,76625]
[null,null,null,null,null,null,null,null,null,null,null,null,null,null,null,null,null,163,null,null,null,null,null,null,null,134,null,null,null,null,null,null,null,29,null,null,null,null,null,null,null,null,null,null,null,null,null,null,null,134,null,null,null,null,null,null,null,117,null,null,null,null,null,null,null,29,null,null,null,null,null,null,null,null,null,null,null,null,null,null,null,146,null,null,null,null,null,null,null,189.8,null,null,null,null,null,null,null,-55.8,null,null,null,null,null,null,null,0,null,null,null,null,null,null,null,0,null,null,null,null,null,null,null,29,null,null,null,null,null,null,null,56,null,null,null,null,null,null,null,78.400000000000006,null,null,null,null,null,null,null,-49.4]
[null,null,76650]
[null,null,null,null,null,null,null,null,null,null,null,null,null,null,null,null,null,80,null,null,null,null,null,null,null,58,null,null,null,null,null,null,null,22,null,null,null,null,null,null,null,null,null,null,null,null,null,null,null,58,null,null,null,null,null,null,null,57,null,null,null,null,null,null,null,22,null,null,null,null,null,null,null,null,null,null,null,null,null,null,null,79,null,null,null,null,null,null,null,102.7,null,null,null,null,null,null,null,-44.7,null,null,null,null,null,null,null,0,null,null,null,null,null,null,null,0,null,null,null,null,null,null,null,22,null,null,null,null,null,null,null,43,null,null,null,null,null,null,null,60.2,null,null,null,null,null,null,null,-38.200000000000003]
[null,null,76675]
[]
[null,null,"Sta.766+09"]
[]
[null,null,"Totals:"]
[null,null,null,null,null,null,null,null,null,null,null,null,null,null,null,null,null,885,null,null,null,null,null,null,null,734,null,null,null,null,null,null,null,151,null,null,null,null,null,null,null,0,null,null,null,null,null,null,null,734,null,null,null,null,null,null,null,520,null,null,null,null,null,null,null,151,null,null,null,null,null,null,null,0,null,null,null,null,null,null,null,671,null,null,null,null,null,null,null,873,null,null,null,null,null,null,null,-139,null,null,null,null,null,null,null,0,null,null,null,null,null,null,null,0,null,null,null,null,null,null,null,151,null,null,null,null,null,null,null,294,null,null,null,null,null,null,null,412,null,null,null,null,null,null,null,-261]
[]
[]
[]
[null,null,null,null,null,null,null,null,null,null,null,null,null,null,null,null,null,"Excavation, Class 10, Roadway & Borrow"]
[]
[null,null,null,null,null,null,null,null,null,null,null,null,null,null,null,null,null,null,null,null,null,null,null,null,null,null,null,null,null,null,null,null,null,null,null,null,null,null,null,null,null,734,null,null,null,null,null,null,null,"CY"]
[]
[]
[]
[null,null,null,null,null,null,null,null,null,null,null,null,null,null,null,null,null,"Embankment-In-Place"]
[]
[null,null,null,null,null,null,null,null,null,null,null,null,null,null,null,null,null,null,null,null,null,null,null,null,null,null,null,null,null,null,null,null,null,null,null,null,null,null,null,null,null,107,null,null,null,null,null,null,null,"CY"]
[]
[]
[]
[null,null,null,null,null,null,null,null,null,null,null,null,null,null,null,null,null,"Topsoil, Trip, Salvage, & Spread"]
[]
[null,null,null,null,null,null,null,null,null,null,null,null,null,null,null,null,null,null,null,null,null,null,null,null,null,null,null,null,null,null,null,null,null,null,null,null,null,null,null,null,null,151,null,null,null,null,null,null,null,"CY"]
[]
[]
[]
[null,null,null,null,null,null,null,null,null,null,null,null,null,null,null,null,null,"Topsoil, Furnish & Spread"]
[]
[null,null,null,null,null,null,null,null,null,null,null,null,null,null,null,null,null,null,null,null,null,null,null,null,null,null,null,null,null,null,null,null,null,null,null,null,null,null,null,null,null,186,null,null,null,null,null,null,null,"CY"]
[]
[]
[]
[]
[]
[]
[]
[]
[]
[]
[]
[]
[]
[]
[]
[]
[]
[]
[]
[]
[]
[]
[]
[]
[]
[]
[]
[]
[]
[]
[]
[]
[]
[]
[]
[]
[]
[]
[]
[]
[]
[]
[]
[]
[]
[]
[]
[]
[]
[]
[]
[]
[]
[]
[]
[]
[]
[]
[]
[]
[]
[]
[]
[]
[]
[]
[]
[]
[]
[]
[]
[]
[]
[]
[]
[]
[]
[]
[]
[]
[]
[]
[]
[]
[]
[]
[]
[]
[]
[]
[]
[]
[]
[]
[]
[]
[null,"","",null,null,null,null,null,null,null,null,null,null,null,null,null,null,"",null,null,null,null,null,null,null,"",null,null,null,null,null,null,null,"",null,null,null,null,null,null,null,"",null,null,null,null,null,null,null,"",null,null,null,null,null,null,null,"",null,null,null,null,null,null,null,"",null,null,null,null,null,null,null,"",null,null,null,null,null,null,null,"",null,null,null,null,null,null,null,null,null,null,null,null,null,null,null,"",null,null,null,null,null,null,null,"",null,null,null,null,null,null,null,null,null,null,null,null,null,null,null,"",null,null,null,null,null,null,null,null,null,null,null,null,null,null,null,null,"",null,null,null,null,null,null,null,null,null,null,null,null,null,null,"",null,null,null,null,null,null,null,"",null,null,null,null,null,null,null,"",null,null,null,null,null,null,null,"",null,null,null,null,null,null,null,"",null,null,null,null,null,null,null,""]
[]
[null,"FILE NO.",null,null,null,null,null,null,{"$f":"IF(ProjectInformation!$B$12<>\"\",ProjectInformation!$B$12,\"\")","v":""},null,null,null,null,null,null,{"$f":"UPPER(ProjectInformation!$B$8)","v":"ENGLISH"},null,null,null,null,null,null,"DESIGN TEAM",null,null,null,null,null,null,null,null,{"$f":"IF(AND(ProjectInformation!$B$3<>\"\",ProjectInformation!$B$4<>\"\",ProjectInformation!$B$5<>\"\"),ProjectInformation!$B$3&\"\\\"&ProjectInformation!$B$4&\"\\\"&ProjectInformation!$B$5,IF(AND(ProjectInformation!$B$3<>\"\",ProjectInformation!$B$4<>\"\"),ProjectInformation!$B$3&\"\\\"&ProjectInformation!$B$4,IF(ProjectInformation!$B$3<>\"\",ProjectInformation!$B$3,\"\")))","v":"WHKS & CO."},null,null,null,null,null,null,null,null,null,null,null,null,null,null,null,null,null,null,null,null,null,null,null,null,null,null,null,null,null,null,null,null,null,null,null,null,null,null,null,null,null,{"$f":"IF(ProjectInformation!$B$6<>\"\",ProjectInformation!$B$6,\"\")","v":"CLINTON"},null,null,null,null,null,null,null,null,null,null,null,null,null,null,null,null,null,null,null,null,null,null,null,null,null,null,null,null,null,null,null,null,null,null,null,null,null,null,null,null,"COUNTY",null,null,null,null,null,"PROJECT NUMBER",null,null,null,null,null,null,null,null,null,null,null,{"$f":"IF(ProjectInformation!$B$7<>\"\",ProjectInformation!$B$7,\"\")","v":"STPN-136-1(73)--2J-23"},null,null,null,null,null,null,null,null,null,null,null,null,null,null,null,null,null,null,null,null,null,null,null,null,null,null,null,null,null,"SHEET NUMBER",null,null,null,null,null,null,null,null,null,"T.12",null,null,null,null,null,null,null,{"$f":"IF(GE2239<>\"\",\"REVISED\",\"\")","v":""},null,null,null,null,null,{"$f":"IF(ProjectInformation!$B$9<>\"\",ProjectInformation!$B$9,\"\")","v":""}]
[]
[]
[]
[null,"10/29/2019     9:35:10 AM     bchezick     K:\\7805\\SA26 701BT Clinton Culverts\\Design\\DE Sheets\\2313601013t01 (2).xlsm"]
[""]
[]
[]
[null,null,null,null,null,null,null,null,null,null,null,null,null,null,null,null,null,null,null,null,null,null,null,null,null,"",null,null,null,null,null,null,null,"",null,null,null,null,null,null,null,"",null,null,null,null,null,null,null,"",null,null,null,null,null,null,null,"",null,null,null,null,null,null,null,"",null,null,null,null,null,null,null,"",null,null,null,null,null,null,null,"",null,null,null,null,null,null,null,null,null,null,null,null,null,null,null,"",null,null,null,null,null,null,null,"",null,null,null,null,null,null,null,null,null,null,null,null,null,null,null,"",null,null,null,null,null,null,null,null,null,null,null,null,null,null,null,null,"",null,null,null,null,null,null,null,null,null,null,null,null,null,null,"",null,null,null,null,null,null,null,null,null,null,null,null,null,null,null,"",null,null,null,null,null,null,null,"",null,null,null,null,null,null,null,"",null,null,null,null,null,null,null,""]
[]
[null,null,"Refer to Standard Road Plans EW-101 and EW-102.",null,null,null,null,null,null,null,null,null,null,null,null,null,null,null,null,null,null,null,null,null,null,null,null,null,null,null,null,null,null,null,null,null,null,null,null,null,null,null,null,null,null,null,null,null,null,null,null,null,null,null,null,null,null,null,"TABULATION OF TEMPLATE QUANTITIES AND ADJUSTMENTS",null,null,null,null,null,null,null,null,null,null,null,null,null,null,null,null,null,null,null,null,null,null,null,null,null,null,null,null,null,null,null,null,null,null,null,null,null,null,null,null,null,null,null,null,null,null,null,null,null,null,null,null,null,null,null,null,null,null,null,null,null,null,null,null,null,null,null,null,null,null,null,null,null,null,null,null,null,null,"107-28"]
[]
[null,null,null,null,null,null,null,null,null,null,null,null,null,null,null,null,null,null,null,null,null,null,null,null,null,null,null,null,null,null,null,null,null,null,null,null,null,null,null,null,null,null,null,null,null,null,null,null,null,null,null,null,null,null,null,null,null,null,null,null,null,null,null,null,null,null,null,null,null,null,null,null,null,null,null,null,null,null,null,null,null,null,null,null,null,null,null,null,null,null,null,null,null,null,null,null,null,null,null,null,null,null,null,null,null,null,null,null,null,null,null,null,null,null,null,null,null,null,null,null,null,null,null,null,null,null,null,null,null,null,null,null,null,null,null,null,null,"2015-04-21"]
[]
[null,null,null,null,null,null,null,null,null,null,null,null,null,null,null,null,null,"Cut",null,null,null,null,null,null,null,null,null,null,null,null,null,null,null,null,null,null,null,null,null,null,null,null,null,null,null,null,null,null,null,null,null,null,null,null,null,null,null,"Fill",null,null,null,null,null,null,null,null,null,null,null,null,null,null,null,null,null,null,null,null,null,null,null,null,null,null,null,null,null,null,null,null,null,null,null,null,null,null,null,null,null,null,null,null,null,null,null,"Checks (EW-102)",null,null,null,null,null,null,null,null,null,null,null,null,null,null,null,"Topsoil"]
[]
[]
[null,null,null,null,null,null,null,null,null,null,null,null,null,null,null,null,null,"[1]",null,null,null,null,null,null,null,"[2]",null,null,null,null,null,null,null,"[3]",null,null,null,null,null,null,null,"[4]",null,null,null,null,null,null,null,"[5]",null,null,null,null,null,null,null,"[6]",null,null,null,null,null,null,null,"[7]",null,null,null,null,null,null,null,"[8]",null,null,null,null,null,null,null,"[9]",null,null,null,null,null,null,null,"[10]",null,null,null,null,null,null,null,"[11]",null,null,null,null,null,null,null,"[12]",null,null,null,null,null,null,null,"[13]",null,null,null,null,null,null,null,"[14]",null,null,null,null,null,null,null,"[15]",null,null,null,null,null,null,null,"[16]",null,null,null,null,null,null,null,"[17]",null,null,null,null,null,null,null,"[18]",null,null,null,null,null,null,null,"[19]",null,null,null,null,null,null,null,"[20]",null,null,null,null,null,null,null,"[21]",null,null,null,null,null,null,null,"[22]"]
[]
[]
[null,null,null,null,null,null,null,null,null,null,null,null,null,null,null,null,null,{"$f":"IF('107_28'!$R$15<>\"\",'107_28'!$R$15,\"\")","v":""},null,null,null,null,null,null,null,{"$f":"IF('107_28'!$Z$15<>\"\",'107_28'!$Z$15,\"\")","v":""},null,null,null,null,null,null,null,{"$f":"IF('107_28'!$AH$15<>\"\",'107_28'!$AH$15,\"\")","v":""},null,null,null,null,null,null,null,{"$f":"IF('107_28'!$AP$15<>\"\",'107_28'!$AP$15,\"\")","v":""},null,null,null,null,null,null,null,{"$f":"IF('107_28'!$AX$15<>\"\",'107_28'!$AX$15,\"\")","v":""},null,null,null,null,null,null,null,{"$f":"IF('107_28'!$BF$15<>\"\",'107_28'!$BF$15,\"\")","v":""},null,null,null,null,null,null,null,{"$f":"IF('107_28'!$BN$15<>\"\",'107_28'!$BN$15,\"\")","v":""},null,null,null,null,null,null,null,{"$f":"IF('107_28'!$BV$15<>\"\",'107_28'!$BV$15,\"\")","v":""},null,null,null,null,null,null,null,{"$f":"IF('107_28'!$CD$15<>\"\",'107_28'!$CD$15,\"\")","v":""},null,null,null,null,null,null,null,{"$f":"IF('107_28'!$CL$15<>\"\",'107_28'!$CL$15,\"\")","v":""},null,null,null,null,null,null,null,{"$f":"IF('107_28'!$CT$15<>\"\",'107_28'!$CT$15,\"\")","v":""},null,null,null,null,null,null,null,{"$f":"IF('107_28'!$DB$15<>\"\",'107_28'!$DB$15,\"\")","v":""},null,null,null,null,null,null,null,{"$f":"IF('107_28'!$DJ$15<>\"\",'107_28'!$DJ$15,\"\")","v":""},null,null,null,null,null,null,null,{"$f":"IF('107_28'!$DR$15<>\"\",'107_28'!$DR$15,\"\")","v":""},null,null,null,null,null,null,null,{"$f":"IF('107_28'!$DZ$15<>\"\",'107_28'!$DZ$15,\"\")","v":""},null,null,null,null,null,null,null,{"$f":"IF('107_28'!$EH$15<>\"\",'107_28'!$EH$15,\"\")","v":""},null,null,null,null,null,null,null,{"$f":"IF('107_28'!$EP$15<>\"\",'107_28'!$EP$15,\"\")","v":""},null,null,null,null,null,null,null,{"$f":"IF('107_28'!$EX$15<>\"\",'107_28'!$EX$15,\"\")","v":""},null,null,null,null,null,null,null,{"$f":"IF('107_28'!$FF$15<>\"\",'107_28'!$FF$15,\"\")","v":""},null,null,null,null,null,null,null,{"$f":"IF('107_28'!$FN$15<>\"\",'107_28'!$FN$15,\"\")","v":""},null,null,null,null,null,null,null,{"$f":"IF('107_28'!$FV$15<>\"\",'107_28'!$FV$15,\"\")","v":""},null,null,null,null,null,null,null,{"$f":"IF('107_28'!$GD$15<>\"\",'107_28'!$GD$15,\"\")","v":""}]
[]
[]
[]
[null,null,"Station",null,null,null,null,null,null,null,null,null,null,null,null,null,null,"Total Cut Unadjusted\n\nVolume",null,null,null,null,null,null,null,"Total Class 10\nUnadjusted\n\nVolume",null,null,null,null,null,null,null,"Topsoil Cut\n\nVolume",null,null,null,null,null,null,null,"Manually\nCalculated Cut\nAdjustments\n(+/- Cut)",null,null,null,null,null,null,null,"Total\nCut\nAdjusted",null,null,null,null,null,null,null,"Total Fill\nUnadjusted\n\nVolume",null,null,null,null,null,null,null,"Existing Topsoil\nStripping\nUndercut\n(+ Fill)",null,null,null,null,null,null,null,"Manual\nCalculated Fill\nAdjustments\n(+/- Fill)",null,null,null,null,null,null,null,"Total\nFill\nAdjusted",null,null,null,null,null,null,null,"Total Fill\n Adjusted w/\nWeighted Average\n1.3  Shrink Factor",null,null,null,null,null,null,null,"Total Cut Adjusted\nMinus Fill w/ Shrink",null,null,null,null,null,null,null,"Approx. Fill Vol.\nBelow 5' & Above\n20' w/ Shrink",null,null,null,null,null,null,null,"Approx. Fill\nVolume Below 3'\nw/ Shrink",null,null,null,null,null,null,null,"Topsoil\nStripping Undercut\nVolume",null,null,null,null,null,null,null,"Topsoil\nPlacement\nUndercut\nVolume",null,null,null,null,null,null,null,"Topsoil Placement\nWith 1.4 Shrink\nFactor",null,null,null,null,null,null,null,"Topsoil Stripping\nMinus Topsoil\nPlacement\nw/Shrink"]
[]
[]
[]
[]
[]
[]
[]
[]
[]
[]
[]
[]
[]
[]
[]
[]
[]
[]
[null,null,"Sta.788+20"]
[]
[null,null,78725]
[null,null,null,null,null,null,null,null,null,null,null,null,null,null,null,null,null,64,null,null,null,null,null,null,null,54,null,null,null,null,null,null,null,10,null,null,null,null,null,null,null,null,null,null,null,null,null,null,null,54,null,null,null,null,null,null,null,0,null,null,null,null,null,null,null,10,null,null,null,null,null,null,null,null,null,null,null,null,null,null,null,10,null,null,null,null,null,null,null,13,null,null,null,null,null,null,null,41,null,null,null,null,null,null,null,0,null,null,null,null,null,null,null,0,null,null,null,null,null,null,null,10,null,null,null,null,null,null,null,19,null,null,null,null,null,null,null,26.6,null,null,null,null,null,null,null,-16.600000000000001]
[null,null,78750]
[null,null,null,null,null,null,null,null,null,null,null,null,null,null,null,null,null,104,null,null,null,null,null,null,null,89,null,null,null,null,null,null,null,15,null,null,null,null,null,null,null,null,null,null,null,null,null,null,null,89,null,null,null,null,null,null,null,2,null,null,null,null,null,null,null,15,null,null,null,null,null,null,null,null,null,null,null,null,null,null,null,17,null,null,null,null,null,null,null,22.1,null,null,null,null,null,null,null,66.900000000000006,null,null,null,null,null,null,null,0,null,null,null,null,null,null,null,0,null,null,null,null,null,null,null,15,null,null,null,null,null,null,null,29,null,null,null,null,null,null,null,40.6,null,null,null,null,null,null,null,-25.6]
[null,null,78775]
[null,null,null,null,null,null,null,null,null,null,null,null,null,null,null,null,null,139,null,null,null,null,null,null,null,121,null,null,null,null,null,null,null,18,null,null,null,null,null,null,null,null,null,null,null,null,null,null,null,121,null,null,null,null,null,null,null,5,null,null,null,null,null,null,null,18,null,null,null,null,null,null,null,null,null,null,null,null,null,null,null,23,null,null,null,null,null,null,null,29.9,null,null,null,null,null,null,null,91.1,null,null,null,null,null,null,null,0,null,null,null,null,null,null,null,0,null,null,null,null,null,null,null,18,null,null,null,null,null,null,null,36,null,null,null,null,null,null,null,50.4,null,null,null,null,null,null,null,-32.4]
[null,null,78800]
[null,null,null,null,null,null,null,null,null,null,null,null,null,null,null,null,null,172,null,null,null,null,null,null,null,149,null,null,null,null,null,null,null,23,null,null,null,null,null,null,null,null,null,null,null,null,null,null,null,149,null,null,null,null,null,null,null,27,null,null,null,null,null,null,null,23,null,null,null,null,null,null,null,null,null,null,null,null,null,null,null,50,null,null,null,null,null,null,null,65,null,null,null,null,null,null,null,84,null,null,null,null,null,null,null,0,null,null,null,null,null,null,null,0,null,null,null,null,null,null,null,23,null,null,null,null,null,null,null,45,null,null,null,null,null,null,null,63,null,null,null,null,null,null,null,-40]
[null,null,78825]
[null,null,null,null,null,null,null,null,null,null,null,null,null,null,null,null,null,155,null,null,null,null,null,null,null,133,null,null,null,null,null,null,null,22,null,null,null,null,null,null,null,33,null,null,null,null,null,null,null,166,null,null,null,null,null,null,null,27,null,null,null,null,null,null,null,22,null,null,null,null,null,null,null,null,null,null,null,null,null,null,null,49,null,null,null,null,null,null,null,63.7,null,null,null,null,null,null,null,102.3,null,null,null,null,null,null,null,0,null,null,null,null,null,null,null,0,null,null,null,null,null,null,null,22,null,null,null,null,null,null,null,43,null,null,null,null,null,null,null,60.2,null,null,null,null,null,null,null,-38.200000000000003]
[null,null,78850]
[null,null,null,null,null,null,null,null,null,null,null,null,null,null,null,null,null,72,null,null,null,null,null,null,null,60,null,null,null,null,null,null,null,12,null,null,null,null,null,null,null,null,null,null,null,null,null,null,null,60,null,null,null,null,null,null,null,4,null,null,null,null,null,null,null,12,null,null,null,null,null,null,null,null,null,null,null,null,null,null,null,16,null,null,null,null,null,null,null,20.8,null,null,null,null,null,null,null,39.200000000000003,null,null,null,null,null,null,null,0,null,null,null,null,null,null,null,0,null,null,null,null,null,null,null,12,null,null,null,null,null,null,null,24,null,null,null,null,null,null,null,33.6,null,null,null,null,null,null,null,-21.6]
[null,null,78875]
[null,null,null,null,null,null,null,null,null,null,null,null,null,null,null,null,null,18,null,null,null,null,null,null,null,9,null,null,null,null,null,null,null,9,null,null,null,null,null,null,null,null,null,null,null,null,null,null,null,9,null,null,null,null,null,null,null,0,null,null,null,null,null,null,null,9,null,null,null,null,null,null,null,null,null,null,null,null,null,null,null,9,null,null,null,null,null,null,null,11.7,null,null,null,null,null,null,null,-2.7,null,null,null,null,null,null,null,0,null,null,null,null,null,null,null,0,null,null,null,null,null,null,null,9,null,null,null,null,null,null,null,6,null,null,null,null,null,null,null,8.4,null,null,null,null,null,null,null,0.6]
[null,null,78900]
[null,null,null,null,null,null,null,null,null,null,null,null,null,null,null,null,null,4,null,null,null,null,null,null,null,4,null,null,null,null,null,null,null,0,null,null,null,null,null,null,null,null,null,null,null,null,null,null,null,4,null,null,null,null,null,null,null,0,null,null,null,null,null,null,null,null,null,null,null,null,null,null,null,null,null,null,null,null,null,null,null,0,null,null,null,null,null,null,null,0,null,null,null,null,null,null,null,4,null,null,null,null,null,null,null,0,null,null,null,null,null,null,null,0,null,null,null,null,null,null,null,0,null,null,null,null,null,null,null,3,null,null,null,null,null,null,null,4.2,null,null,null,null,null,null,null,-4.2]
[null,null,78925]
[]
[null,null,"Sta.788+20"]
[]
[null,null,"Totals:"]
[null,null,null,null,null,null,null,null,null,null,null,null,null,null,null,null,null,728,null,null,null,null,null,null,null,619,null,null,null,null,null,null,null,109,null,null,null,null,null,null,null,33,null,null,null,null,null,null,null,652,null,null,null,null,null,null,null,65,null,null,null,null,null,null,null,109,null,null,null,null,null,null,null,0,null,null,null,null,null,null,null,174,null,null,null,null,null,null,null,227,null,null,null,null,null,null,null,426,null,null,null,null,null,null,null,0,null,null,null,null,null,null,null,0,null,null,null,null,null,null,null,109,null,null,null,null,null,null,null,205,null,null,null,null,null,null,null,287,null,null,null,null,null,null,null,-178]
[]
[]
[]
[null,null,null,null,null,null,null,null,null,null,null,null,null,null,null,null,null,"Excavation, Class 10, Roadway & Borrow"]
[]
[null,null,null,null,null,null,null,null,null,null,null,null,null,null,null,null,null,null,null,null,null,null,null,null,null,null,null,null,null,null,null,null,null,null,null,null,null,null,null,null,null,227,null,null,null,null,null,null,null,"CY"]
[]
[]
[]
[null,null,null,null,null,null,null,null,null,null,null,null,null,null,null,null,null,"Excavation, Class 10, Waste"]
[]
[null,null,null,null,null,null,null,null,null,null,null,null,null,null,null,null,null,null,null,null,null,null,null,null,null,null,null,null,null,null,null,null,null,null,null,null,null,null,null,null,null,426,null,null,null,null,null,null,null,"CY"]
[]
[]
[]
[null,null,null,null,null,null,null,null,null,null,null,null,null,null,null,null,null,"Topsoil, Strip, Salvage, & Spread"]
[]
[null,null,null,null,null,null,null,null,null,null,null,null,null,null,null,null,null,null,null,null,null,null,null,null,null,null,null,null,null,null,null,null,null,null,null,null,null,null,null,null,null,109,null,null,null,null,null,null,null,"CY"]
[]
[]
[]
[null,null,null,null,null,null,null,null,null,null,null,null,null,null,null,null,null,"Topsoil, Furnish & Spread"]
[]
[null,null,null,null,null,null,null,null,null,null,null,null,null,null,null,null,null,null,null,null,null,null,null,null,null,null,null,null,null,null,null,null,null,null,null,null,null,null,null,null,null,127,null,null,null,null,null,null,null,"CY"]
[]
[]
[]
[]
[]
[]
[]
[]
[]
[]
[]
[]
[]
[]
[]
[]
[]
[]
[]
[]
[]
[]
[]
[]
[]
[]
[]
[]
[]
[]
[]
[]
[]
[]
[]
[]
[]
[]
[]
[]
[]
[]
[]
[]
[]
[]
[]
[]
[]
[]
[]
[]
[]
[]
[]
[]
[]
[]
[]
[]
[]
[]
[]
[]
[]
[]
[]
[]
[]
[]
[]
[]
[]
[]
[]
[]
[]
[]
[]
[]
[]
[]
[]
[]
[]
[]
[]
[]
[]
[]
[]
[]
[]
[]
[null,"","",null,null,null,null,null,null,null,null,null,null,null,null,null,null,"",null,null,null,null,null,null,null,"",null,null,null,null,null,null,null,"",null,null,null,null,null,null,null,"",null,null,null,null,null,null,null,"",null,null,null,null,null,null,null,"",null,null,null,null,null,null,null,"",null,null,null,null,null,null,null,"",null,null,null,null,null,null,null,"",null,null,null,null,null,null,null,null,null,null,null,null,null,null,null,"",null,null,null,null,null,null,null,"",null,null,null,null,null,null,null,null,null,null,null,null,null,null,null,"",null,null,null,null,null,null,null,null,null,null,null,null,null,null,null,null,"",null,null,null,null,null,null,null,null,null,null,null,null,null,null,"",null,null,null,null,null,null,null,"",null,null,null,null,null,null,null,"",null,null,null,null,null,null,null,"",null,null,null,null,null,null,null,"",null,null,null,null,null,null,null,""]
[]
[null,"FILE NO.",null,null,null,null,null,null,{"$f":"IF(ProjectInformation!$B$12<>\"\",ProjectInformation!$B$12,\"\")","v":""},null,null,null,null,null,null,{"$f":"UPPER(ProjectInformation!$B$8)","v":"ENGLISH"},null,null,null,null,null,null,"DESIGN TEAM",null,null,null,null,null,null,null,null,{"$f":"IF(AND(ProjectInformation!$B$3<>\"\",ProjectInformation!$B$4<>\"\",ProjectInformation!$B$5<>\"\"),ProjectInformation!$B$3&\"\\\"&ProjectInformation!$B$4&\"\\\"&ProjectInformation!$B$5,IF(AND(ProjectInformation!$B$3<>\"\",ProjectInformation!$B$4<>\"\"),ProjectInformation!$B$3&\"\\\"&ProjectInformation!$B$4,IF(ProjectInformation!$B$3<>\"\",ProjectInformation!$B$3,\"\")))","v":"WHKS & CO."},null,null,null,null,null,null,null,null,null,null,null,null,null,null,null,null,null,null,null,null,null,null,null,null,null,null,null,null,null,null,null,null,null,null,null,null,null,null,null,null,null,{"$f":"IF(ProjectInformation!$B$6<>\"\",ProjectInformation!$B$6,\"\")","v":"CLINTON"},null,null,null,null,null,null,null,null,null,null,null,null,null,null,null,null,null,null,null,null,null,null,null,null,null,null,null,null,null,null,null,null,null,null,null,null,null,null,null,null,"COUNTY",null,null,null,null,null,"PROJECT NUMBER",null,null,null,null,null,null,null,null,null,null,null,{"$f":"IF(ProjectInformation!$B$7<>\"\",ProjectInformation!$B$7,\"\")","v":"STPN-136-1(73)--2J-23"},null,null,null,null,null,null,null,null,null,null,null,null,null,null,null,null,null,null,null,null,null,null,null,null,null,null,null,null,null,"SHEET NUMBER",null,null,null,null,null,null,null,null,null,"T.13",null,null,null,null,null,null,null,{"$f":"IF(GE2426<>\"\",\"REVISED\",\"\")","v":""},null,null,null,null,null,{"$f":"IF(ProjectInformation!$B$9<>\"\",ProjectInformation!$B$9,\"\")","v":""}]
[]
[]
[]
[null,"10/29/2019     9:35:10 AM     bchezick     K:\\7805\\SA26 701BT Clinton Culverts\\Design\\DE Sheets\\2313601013t01 (2).xlsm"]
[""]
[]
[]
[null,null,null,null,null,null,null,null,null,null,null,null,null,null,null,null,null,null,null,null,null,null,null,null,null,"",null,null,null,null,null,null,null,"",null,null,null,null,null,null,null,"",null,null,null,null,null,null,null,"",null,null,null,null,null,null,null,"",null,null,null,null,null,null,null,"",null,null,null,null,null,null,null,"",null,null,null,null,null,null,null,"",null,null,null,null,null,null,null,null,null,null,null,null,null,null,null,"",null,null,null,null,null,null,null,"",null,null,null,null,null,null,null,null,null,null,null,null,null,null,null,"",null,null,null,null,null,null,null,null,null,null,null,null,null,null,null,null,"",null,null,null,null,null,null,null,null,null,null,null,null,null,null,"",null,null,null,null,null,null,null,null,null,null,null,null,null,null,null,"",null,null,null,null,null,null,null,"",null,null,null,null,null,null,null,"",null,null,null,null,null,null,null,""]
[]
[null,null,"Refer to Standard Road Plans EW-101 and EW-102.",null,null,null,null,null,null,null,null,null,null,null,null,null,null,null,null,null,null,null,null,null,null,null,null,null,null,null,null,null,null,null,null,null,null,null,null,null,null,null,null,null,null,null,null,null,null,null,null,null,null,null,null,null,null,null,"TABULATION OF TEMPLATE QUANTITIES AND ADJUSTMENTS",null,null,null,null,null,null,null,null,null,null,null,null,null,null,null,null,null,null,null,null,null,null,null,null,null,null,null,null,null,null,null,null,null,null,null,null,null,null,null,null,null,null,null,null,null,null,null,null,null,null,null,null,null,null,null,null,null,null,null,null,null,null,null,null,null,null,null,null,null,null,null,null,null,null,null,null,null,null,"107-28"]
[]
[null,null,null,null,null,null,null,null,null,null,null,null,null,null,null,null,null,null,null,null,null,null,null,null,null,null,null,null,null,null,null,null,null,null,null,null,null,null,null,null,null,null,null,null,null,null,null,null,null,null,null,null,null,null,null,null,null,null,null,null,null,null,null,null,null,null,null,null,null,null,null,null,null,null,null,null,null,null,null,null,null,null,null,null,null,null,null,null,null,null,null,null,null,null,null,null,null,null,null,null,null,null,null,null,null,null,null,null,null,null,null,null,null,null,null,null,null,null,null,null,null,null,null,null,null,null,null,null,null,null,null,null,null,null,null,null,null,"2015-04-21"]
[]
[null,null,null,null,null,null,null,null,null,null,null,null,null,null,null,null,null,"Cut",null,null,null,null,null,null,null,null,null,null,null,null,null,null,null,null,null,null,null,null,null,null,null,null,null,null,null,null,null,null,null,null,null,null,null,null,null,null,null,"Fill",null,null,null,null,null,null,null,null,null,null,null,null,null,null,null,null,null,null,null,null,null,null,null,null,null,null,null,null,null,null,null,null,null,null,null,null,null,null,null,null,null,null,null,null,null,null,null,"Checks (EW-102)",null,null,null,null,null,null,null,null,null,null,null,null,null,null,null,"Topsoil"]
[]
[]
[null,null,null,null,null,null,null,null,null,null,null,null,null,null,null,null,null,"[1]",null,null,null,null,null,null,null,"[2]",null,null,null,null,null,null,null,"[3]",null,null,null,null,null,null,null,"[4]",null,null,null,null,null,null,null,"[5]",null,null,null,null,null,null,null,"[6]",null,null,null,null,null,null,null,"[7]",null,null,null,null,null,null,null,"[8]",null,null,null,null,null,null,null,"[9]",null,null,null,null,null,null,null,"[10]",null,null,null,null,null,null,null,"[11]",null,null,null,null,null,null,null,"[12]",null,null,null,null,null,null,null,"[13]",null,null,null,null,null,null,null,"[14]",null,null,null,null,null,null,null,"[15]",null,null,null,null,null,null,null,"[16]",null,null,null,null,null,null,null,"[17]",null,null,null,null,null,null,null,"[18]",null,null,null,null,null,null,null,"[19]",null,null,null,null,null,null,null,"[20]",null,null,null,null,null,null,null,"[21]",null,null,null,null,null,null,null,"[22]"]
[]
[]
[null,null,null,null,null,null,null,null,null,null,null,null,null,null,null,null,null,{"$f":"IF('107_28'!$R$15<>\"\",'107_28'!$R$15,\"\")","v":""},null,null,null,null,null,null,null,{"$f":"IF('107_28'!$Z$15<>\"\",'107_28'!$Z$15,\"\")","v":""},null,null,null,null,null,null,null,{"$f":"IF('107_28'!$AH$15<>\"\",'107_28'!$AH$15,\"\")","v":""},null,null,null,null,null,null,null,{"$f":"IF('107_28'!$AP$15<>\"\",'107_28'!$AP$15,\"\")","v":""},null,null,null,null,null,null,null,{"$f":"IF('107_28'!$AX$15<>\"\",'107_28'!$AX$15,\"\")","v":""},null,null,null,null,null,null,null,{"$f":"IF('107_28'!$BF$15<>\"\",'107_28'!$BF$15,\"\")","v":""},null,null,null,null,null,null,null,{"$f":"IF('107_28'!$BN$15<>\"\",'107_28'!$BN$15,\"\")","v":""},null,null,null,null,null,null,null,{"$f":"IF('107_28'!$BV$15<>\"\",'107_28'!$BV$15,\"\")","v":""},null,null,null,null,null,null,null,{"$f":"IF('107_28'!$CD$15<>\"\",'107_28'!$CD$15,\"\")","v":""},null,null,null,null,null,null,null,{"$f":"IF('107_28'!$CL$15<>\"\",'107_28'!$CL$15,\"\")","v":""},null,null,null,null,null,null,null,{"$f":"IF('107_28'!$CT$15<>\"\",'107_28'!$CT$15,\"\")","v":""},null,null,null,null,null,null,null,{"$f":"IF('107_28'!$DB$15<>\"\",'107_28'!$DB$15,\"\")","v":""},null,null,null,null,null,null,null,{"$f":"IF('107_28'!$DJ$15<>\"\",'107_28'!$DJ$15,\"\")","v":""},null,null,null,null,null,null,null,{"$f":"IF('107_28'!$DR$15<>\"\",'107_28'!$DR$15,\"\")","v":""},null,null,null,null,null,null,null,{"$f":"IF('107_28'!$DZ$15<>\"\",'107_28'!$DZ$15,\"\")","v":""},null,null,null,null,null,null,null,{"$f":"IF('107_28'!$EH$15<>\"\",'107_28'!$EH$15,\"\")","v":""},null,null,null,null,null,null,null,{"$f":"IF('107_28'!$EP$15<>\"\",'107_28'!$EP$15,\"\")","v":""},null,null,null,null,null,null,null,{"$f":"IF('107_28'!$EX$15<>\"\",'107_28'!$EX$15,\"\")","v":""},null,null,null,null,null,null,null,{"$f":"IF('107_28'!$FF$15<>\"\",'107_28'!$FF$15,\"\")","v":""},null,null,null,null,null,null,null,{"$f":"IF('107_28'!$FN$15<>\"\",'107_28'!$FN$15,\"\")","v":""},null,null,null,null,null,null,null,{"$f":"IF('107_28'!$FV$15<>\"\",'107_28'!$FV$15,\"\")","v":""},null,null,null,null,null,null,null,{"$f":"IF('107_28'!$GD$15<>\"\",'107_28'!$GD$15,\"\")","v":""}]
[]
[]
[]
[null,null,"Station",null,null,null,null,null,null,null,null,null,null,null,null,null,null,"Total Cut Unadjusted\n\nVolume",null,null,null,null,null,null,null,"Total Class 10\nUnadjusted\n\nVolume",null,null,null,null,null,null,null,"Topsoil Cut\n\nVolume",null,null,null,null,null,null,null,"Manually\nCalculated Cut\nAdjustments\n(+/- Cut)",null,null,null,null,null,null,null,"Total\nCut\nAdjusted",null,null,null,null,null,null,null,"Total Fill\nUnadjusted\n\nVolume",null,null,null,null,null,null,null,"Existing Topsoil\nStripping\nUndercut\n(+ Fill)",null,null,null,null,null,null,null,"Manual\nCalculated Fill\nAdjustments\n(+/- Fill)",null,null,null,null,null,null,null,"Total\nFill\nAdjusted",null,null,null,null,null,null,null,"Total Fill\n Adjusted w/\nWeighted Average\n1.3  Shrink Factor",null,null,null,null,null,null,null,"Total Cut Adjusted\nMinus Fill w/ Shrink",null,null,null,null,null,null,null,"Approx. Fill Vol.\nBelow 5' & Above\n20' w/ Shrink",null,null,null,null,null,null,null,"Approx. Fill\nVolume Below 3'\nw/ Shrink",null,null,null,null,null,null,null,"Topsoil\nStripping Undercut\nVolume",null,null,null,null,null,null,null,"Topsoil\nPlacement\nUndercut\nVolume",null,null,null,null,null,null,null,"Topsoil Placement\nWith 1.4 Shrink\nFactor",null,null,null,null,null,null,null,"Topsoil Stripping\nMinus Topsoil\nPlacement\nw/Shrink"]
[]
[]
[]
[]
[]
[]
[]
[]
[]
[]
[]
[]
[]
[]
[]
[]
[]
[]
[null,null,"Sta.800+82"]
[]
[null,null,80025]
[null,null,null,null,null,null,null,null,null,null,null,null,null,null,null,null,null,102,null,null,null,null,null,null,null,88,null,null,null,null,null,null,null,14,null,null,null,null,null,null,null,null,null,null,null,null,null,null,null,88,null,null,null,null,null,null,null,8,null,null,null,null,null,null,null,14,null,null,null,null,null,null,null,null,null,null,null,null,null,null,null,22,null,null,null,null,null,null,null,28.6,null,null,null,null,null,null,null,59.4,null,null,null,null,null,null,null,0,null,null,null,null,null,null,null,0,null,null,null,null,null,null,null,14,null,null,null,null,null,null,null,28,null,null,null,null,null,null,null,39.200000000000003,null,null,null,null,null,null,null,-25.2]
[null,null,80050]
[null,null,null,null,null,null,null,null,null,null,null,null,null,null,null,null,null,169,null,null,null,null,null,null,null,149,null,null,null,null,null,null,null,20,null,null,null,null,null,null,null,null,null,null,null,null,null,null,null,149,null,null,null,null,null,null,null,19,null,null,null,null,null,null,null,20,null,null,null,null,null,null,null,null,null,null,null,null,null,null,null,39,null,null,null,null,null,null,null,50.7,null,null,null,null,null,null,null,98.3,null,null,null,null,null,null,null,0,null,null,null,null,null,null,null,0,null,null,null,null,null,null,null,20,null,null,null,null,null,null,null,40,null,null,null,null,null,null,null,56,null,null,null,null,null,null,null,-36]
[null,null,80075]
[null,null,null,null,null,null,null,null,null,null,null,null,null,null,null,null,null,60,null,null,null,null,null,null,null,54,null,null,null,null,null,null,null,6,null,null,null,null,null,null,null,null,null,null,null,null,null,null,null,54,null,null,null,null,null,null,null,8,null,null,null,null,null,null,null,6,null,null,null,null,null,null,null,null,null,null,null,null,null,null,null,14,null,null,null,null,null,null,null,18.2,null,null,null,null,null,null,null,35.799999999999997,null,null,null,null,null,null,null,0,null,null,null,null,null,null,null,0,null,null,null,null,null,null,null,6,null,null,null,null,null,null,null,13,null,null,null,null,null,null,null,18.2,null,null,null,null,null,null,null,-12.2]
[null,null,80082]
[null,null,null,null,null,null,null,null,null,null,null,null,null,null,null,null,null,152,null,null,null,null,null,null,null,136,null,null,null,null,null,null,null,16,null,null,null,null,null,null,null,83,null,null,null,null,null,null,null,219,null,null,null,null,null,null,null,18,null,null,null,null,null,null,null,16,null,null,null,null,null,null,null,null,null,null,null,null,null,null,null,34,null,null,null,null,null,null,null,44.2,null,null,null,null,null,null,null,174.8,null,null,null,null,null,null,null,0,null,null,null,null,null,null,null,0,null,null,null,null,null,null,null,16,null,null,null,null,null,null,null,32,null,null,null,null,null,null,null,44.8,null,null,null,null,null,null,null,-28.8]
[null,null,80100]
[null,null,null,null,null,null,null,null,null,null,null,null,null,null,null,null,null,106,null,null,null,null,null,null,null,87,null,null,null,null,null,null,null,19,null,null,null,null,null,null,null,null,null,null,null,null,null,null,null,87,null,null,null,null,null,null,null,30,null,null,null,null,null,null,null,19,null,null,null,null,null,null,null,null,null,null,null,null,null,null,null,49,null,null,null,null,null,null,null,63.7,null,null,null,null,null,null,null,23.3,null,null,null,null,null,null,null,0,null,null,null,null,null,null,null,0,null,null,null,null,null,null,null,19,null,null,null,null,null,null,null,37,null,null,null,null,null,null,null,51.8,null,null,null,null,null,null,null,-32.799999999999997]
[null,null,80125]
[null,null,null,null,null,null,null,null,null,null,null,null,null,null,null,null,null,34,null,null,null,null,null,null,null,21,null,null,null,null,null,null,null,13,null,null,null,null,null,null,null,null,null,null,null,null,null,null,null,21,null,null,null,null,null,null,null,28,null,null,null,null,null,null,null,13,null,null,null,null,null,null,null,null,null,null,null,null,null,null,null,41,null,null,null,null,null,null,null,53.3,null,null,null,null,null,null,null,-32.299999999999997,null,null,null,null,null,null,null,0,null,null,null,null,null,null,null,0,null,null,null,null,null,null,null,13,null,null,null,null,null,null,null,26,null,null,null,null,null,null,null,36.4,null,null,null,null,null,null,null,-23.4]
[null,null,80150]
[null,null,null,null,null,null,null,null,null,null,null,null,null,null,null,null,null,10,null,null,null,null,null,null,null,3,null,null,null,null,null,null,null,7,null,null,null,null,null,null,null,null,null,null,null,null,null,null,null,3,null,null,null,null,null,null,null,6,null,null,null,null,null,null,null,7,null,null,null,null,null,null,null,null,null,null,null,null,null,null,null,13,null,null,null,null,null,null,null,16.899999999999999,null,null,null,null,null,null,null,-13.9,null,null,null,null,null,null,null,0,null,null,null,null,null,null,null,0,null,null,null,null,null,null,null,7,null,null,null,null,null,null,null,13,null,null,null,null,null,null,null,18.2,null,null,null,null,null,null,null,-11.2]
[null,null,80175]
[]
[null,null,"Sta.800+82"]
[]
[null,null,"Totals:"]
[null,null,null,null,null,null,null,null,null,null,null,null,null,null,null,null,null,633,null,null,null,null,null,null,null,538,null,null,null,null,null,null,null,95,null,null,null,null,null,null,null,83,null,null,null,null,null,null,null,621,null,null,null,null,null,null,null,117,null,null,null,null,null,null,null,95,null,null,null,null,null,null,null,0,null,null,null,null,null,null,null,212,null,null,null,null,null,null,null,276,null,null,null,null,null,null,null,346,null,null,null,null,null,null,null,0,null,null,null,null,null,null,null,0,null,null,null,null,null,null,null,95,null,null,null,null,null,null,null,189,null,null,null,null,null,null,null,265,null,null,null,null,null,null,null,-170]
[]
[]
[]
[null,null,null,null,null,null,null,null,null,null,null,null,null,null,null,null,null,"Excavation, Class 10, Roadway & Borrow"]
[]
[null,null,null,null,null,null,null,null,null,null,null,null,null,null,null,null,null,null,null,null,null,null,null,null,null,null,null,null,null,null,null,null,null,null,null,null,null,null,null,null,null,276,null,null,null,null,null,null,null,"CY"]
[]
[]
[]
[null,null,null,null,null,null,null,null,null,null,null,null,null,null,null,null,null,"Excavation, Class 10, Waste"]
[]
[null,null,null,null,null,null,null,null,null,null,null,null,null,null,null,null,null,null,null,null,null,null,null,null,null,null,null,null,null,null,null,null,null,null,null,null,null,null,null,null,null,346,null,null,null,null,null,null,null,"CY"]
[]
[]
[]
[null,null,null,null,null,null,null,null,null,null,null,null,null,null,null,null,null,"Topsoil, Strip, Salvage, & Spread"]
[]
[null,null,null,null,null,null,null,null,null,null,null,null,null,null,null,null,null,null,null,null,null,null,null,null,null,null,null,null,null,null,null,null,null,null,null,null,null,null,null,null,null,95,null,null,null,null,null,null,null,"CY"]
[]
[]
[]
[null,null,null,null,null,null,null,null,null,null,null,null,null,null,null,null,null,"Topsoil, Furnish & Spread"]
[]
[null,null,null,null,null,null,null,null,null,null,null,null,null,null,null,null,null,null,null,null,null,null,null,null,null,null,null,null,null,null,null,null,null,null,null,null,null,null,null,null,null,121,null,null,null,null,null,null,null,"CY"]
[]
[]
[]
[]
[]
[]
[]
[]
[]
[]
[]
[]
[]
[]
[]
[]
[]
[]
[]
[]
[]
[]
[]
[]
[]
[]
[]
[]
[]
[]
[]
[]
[]
[]
[]
[]
[]
[]
[]
[]
[]
[]
[]
[]
[]
[]
[]
[]
[]
[]
[]
[]
[]
[]
[]
[]
[]
[]
[]
[]
[]
[]
[]
[]
[]
[]
[]
[]
[]
[]
[]
[]
[]
[]
[]
[]
[]
[]
[]
[]
[]
[]
[]
[]
[]
[]
[]
[]
[]
[]
[]
[]
[]
[]
[]
[]
[null,"","",null,null,null,null,null,null,null,null,null,null,null,null,null,null,"",null,null,null,null,null,null,null,"",null,null,null,null,null,null,null,"",null,null,null,null,null,null,null,"",null,null,null,null,null,null,null,"",null,null,null,null,null,null,null,"",null,null,null,null,null,null,null,"",null,null,null,null,null,null,null,"",null,null,null,null,null,null,null,"",null,null,null,null,null,null,null,null,null,null,null,null,null,null,null,"",null,null,null,null,null,null,null,"",null,null,null,null,null,null,null,null,null,null,null,null,null,null,null,"",null,null,null,null,null,null,null,null,null,null,null,null,null,null,null,null,"",null,null,null,null,null,null,null,null,null,null,null,null,null,null,"",null,null,null,null,null,null,null,"",null,null,null,null,null,null,null,"",null,null,null,null,null,null,null,"",null,null,null,null,null,null,null,"",null,null,null,null,null,null,null,""]
[]
[null,"FILE NO.",null,null,null,null,null,null,{"$f":"IF(ProjectInformation!$B$12<>\"\",ProjectInformation!$B$12,\"\")","v":""},null,null,null,null,null,null,{"$f":"UPPER(ProjectInformation!$B$8)","v":"ENGLISH"},null,null,null,null,null,null,"DESIGN TEAM",null,null,null,null,null,null,null,null,{"$f":"IF(AND(ProjectInformation!$B$3<>\"\",ProjectInformation!$B$4<>\"\",ProjectInformation!$B$5<>\"\"),ProjectInformation!$B$3&\"\\\"&ProjectInformation!$B$4&\"\\\"&ProjectInformation!$B$5,IF(AND(ProjectInformation!$B$3<>\"\",ProjectInformation!$B$4<>\"\"),ProjectInformation!$B$3&\"\\\"&ProjectInformation!$B$4,IF(ProjectInformation!$B$3<>\"\",ProjectInformation!$B$3,\"\")))","v":"WHKS & CO."},null,null,null,null,null,null,null,null,null,null,null,null,null,null,null,null,null,null,null,null,null,null,null,null,null,null,null,null,null,null,null,null,null,null,null,null,null,null,null,null,null,{"$f":"IF(ProjectInformation!$B$6<>\"\",ProjectInformation!$B$6,\"\")","v":"CLINTON"},null,null,null,null,null,null,null,null,null,null,null,null,null,null,null,null,null,null,null,null,null,null,null,null,null,null,null,null,null,null,null,null,null,null,null,null,null,null,null,null,"COUNTY",null,null,null,null,null,"PROJECT NUMBER",null,null,null,null,null,null,null,null,null,null,null,{"$f":"IF(ProjectInformation!$B$7<>\"\",ProjectInformation!$B$7,\"\")","v":"STPN-136-1(73)--2J-23"},null,null,null,null,null,null,null,null,null,null,null,null,null,null,null,null,null,null,null,null,null,null,null,null,null,null,null,null,null,"SHEET NUMBER",null,null,null,null,null,null,null,null,null,"T.14",null,null,null,null,null,null,null,{"$f":"IF(GE2613<>\"\",\"REVISED\",\"\")","v":""},null,null,null,null,null,{"$f":"IF(ProjectInformation!$B$9<>\"\",ProjectInformation!$B$9,\"\")","v":""}]
[]
[]
[]
[null,"10/29/2019     9:35:10 AM     bchezick     K:\\7805\\SA26 701BT Clinton Culverts\\Design\\DE Sheets\\2313601013t01 (2).xlsm"]
[""]
[]
[]
[null,null,null,null,null,null,null,null,null,null,null,null,null,null,null,null,null,null,null,null,null,null,null,null,null,"",null,null,null,null,null,null,null,"",null,null,null,null,null,null,null,"",null,null,null,null,null,null,null,"",null,null,null,null,null,null,null,"",null,null,null,null,null,null,null,"",null,null,null,null,null,null,null,"",null,null,null,null,null,null,null,"",null,null,null,null,null,null,null,null,null,null,null,null,null,null,null,"",null,null,null,null,null,null,null,"",null,null,null,null,null,null,null,null,null,null,null,null,null,null,null,"",null,null,null,null,null,null,null,null,null,null,null,null,null,null,null,null,"",null,null,null,null,null,null,null,null,null,null,null,null,null,null,"",null,null,null,null,null,null,null,null,null,null,null,null,null,null,null,"",null,null,null,null,null,null,null,"",null,null,null,null,null,null,null,"",null,null,null,null,null,null,null,""]
[]
[null,null,"Refer to Standard Road Plans EW-101 and EW-102.",null,null,null,null,null,null,null,null,null,null,null,null,null,null,null,null,null,null,null,null,null,null,null,null,null,null,null,null,null,null,null,null,null,null,null,null,null,null,null,null,null,null,null,null,null,null,null,null,null,null,null,null,null,null,null,"TABULATION OF TEMPLATE QUANTITIES AND ADJUSTMENTS",null,null,null,null,null,null,null,null,null,null,null,null,null,null,null,null,null,null,null,null,null,null,null,null,null,null,null,null,null,null,null,null,null,null,null,null,null,null,null,null,null,null,null,null,null,null,null,null,null,null,null,null,null,null,null,null,null,null,null,null,null,null,null,null,null,null,null,null,null,null,null,null,null,null,null,null,null,null,"107-28"]
[]
[null,null,null,null,null,null,null,null,null,null,null,null,null,null,null,null,null,null,null,null,null,null,null,null,null,null,null,null,null,null,null,null,null,null,null,null,null,null,null,null,null,null,null,null,null,null,null,null,null,null,null,null,null,null,null,null,null,null,null,null,null,null,null,null,null,null,null,null,null,null,null,null,null,null,null,null,null,null,null,null,null,null,null,null,null,null,null,null,null,null,null,null,null,null,null,null,null,null,null,null,null,null,null,null,null,null,null,null,null,null,null,null,null,null,null,null,null,null,null,null,null,null,null,null,null,null,null,null,null,null,null,null,null,null,null,null,null,"2015-04-21"]
[]
[null,null,null,null,null,null,null,null,null,null,null,null,null,null,null,null,null,"Cut",null,null,null,null,null,null,null,null,null,null,null,null,null,null,null,null,null,null,null,null,null,null,null,null,null,null,null,null,null,null,null,null,null,null,null,null,null,null,null,"Fill",null,null,null,null,null,null,null,null,null,null,null,null,null,null,null,null,null,null,null,null,null,null,null,null,null,null,null,null,null,null,null,null,null,null,null,null,null,null,null,null,null,null,null,null,null,null,null,"Checks (EW-102)",null,null,null,null,null,null,null,null,null,null,null,null,null,null,null,"Topsoil"]
[]
[]
[null,null,null,null,null,null,null,null,null,null,null,null,null,null,null,null,null,"[1]",null,null,null,null,null,null,null,"[2]",null,null,null,null,null,null,null,"[3]",null,null,null,null,null,null,null,"[4]",null,null,null,null,null,null,null,"[5]",null,null,null,null,null,null,null,"[6]",null,null,null,null,null,null,null,"[7]",null,null,null,null,null,null,null,"[8]",null,null,null,null,null,null,null,"[9]",null,null,null,null,null,null,null,"[10]",null,null,null,null,null,null,null,"[11]",null,null,null,null,null,null,null,"[12]",null,null,null,null,null,null,null,"[13]",null,null,null,null,null,null,null,"[14]",null,null,null,null,null,null,null,"[15]",null,null,null,null,null,null,null,"[16]",null,null,null,null,null,null,null,"[17]",null,null,null,null,null,null,null,"[18]",null,null,null,null,null,null,null,"[19]",null,null,null,null,null,null,null,"[20]",null,null,null,null,null,null,null,"[21]",null,null,null,null,null,null,null,"[22]"]
[]
[]
[null,null,null,null,null,null,null,null,null,null,null,null,null,null,null,null,null,{"$f":"IF('107_28'!$R$15<>\"\",'107_28'!$R$15,\"\")","v":""},null,null,null,null,null,null,null,{"$f":"IF('107_28'!$Z$15<>\"\",'107_28'!$Z$15,\"\")","v":""},null,null,null,null,null,null,null,{"$f":"IF('107_28'!$AH$15<>\"\",'107_28'!$AH$15,\"\")","v":""},null,null,null,null,null,null,null,{"$f":"IF('107_28'!$AP$15<>\"\",'107_28'!$AP$15,\"\")","v":""},null,null,null,null,null,null,null,{"$f":"IF('107_28'!$AX$15<>\"\",'107_28'!$AX$15,\"\")","v":""},null,null,null,null,null,null,null,{"$f":"IF('107_28'!$BF$15<>\"\",'107_28'!$BF$15,\"\")","v":""},null,null,null,null,null,null,null,{"$f":"IF('107_28'!$BN$15<>\"\",'107_28'!$BN$15,\"\")","v":""},null,null,null,null,null,null,null,{"$f":"IF('107_28'!$BV$15<>\"\",'107_28'!$BV$15,\"\")","v":""},null,null,null,null,null,null,null,{"$f":"IF('107_28'!$CD$15<>\"\",'107_28'!$CD$15,\"\")","v":""},null,null,null,null,null,null,null,{"$f":"IF('107_28'!$CL$15<>\"\",'107_28'!$CL$15,\"\")","v":""},null,null,null,null,null,null,null,{"$f":"IF('107_28'!$CT$15<>\"\",'107_28'!$CT$15,\"\")","v":""},null,null,null,null,null,null,null,{"$f":"IF('107_28'!$DB$15<>\"\",'107_28'!$DB$15,\"\")","v":""},null,null,null,null,null,null,null,{"$f":"IF('107_28'!$DJ$15<>\"\",'107_28'!$DJ$15,\"\")","v":""},null,null,null,null,null,null,null,{"$f":"IF('107_28'!$DR$15<>\"\",'107_28'!$DR$15,\"\")","v":""},null,null,null,null,null,null,null,{"$f":"IF('107_28'!$DZ$15<>\"\",'107_28'!$DZ$15,\"\")","v":""},null,null,null,null,null,null,null,{"$f":"IF('107_28'!$EH$15<>\"\",'107_28'!$EH$15,\"\")","v":""},null,null,null,null,null,null,null,{"$f":"IF('107_28'!$EP$15<>\"\",'107_28'!$EP$15,\"\")","v":""},null,null,null,null,null,null,null,{"$f":"IF('107_28'!$EX$15<>\"\",'107_28'!$EX$15,\"\")","v":""},null,null,null,null,null,null,null,{"$f":"IF('107_28'!$FF$15<>\"\",'107_28'!$FF$15,\"\")","v":""},null,null,null,null,null,null,null,{"$f":"IF('107_28'!$FN$15<>\"\",'107_28'!$FN$15,\"\")","v":""},null,null,null,null,null,null,null,{"$f":"IF('107_28'!$FV$15<>\"\",'107_28'!$FV$15,\"\")","v":""},null,null,null,null,null,null,null,{"$f":"IF('107_28'!$GD$15<>\"\",'107_28'!$GD$15,\"\")","v":""}]
[]
[]
[]
[null,null,"Station",null,null,null,null,null,null,null,null,null,null,null,null,null,null,"Total Cut Unadjusted\n\nVolume",null,null,null,null,null,null,null,"Total Class 10\nUnadjusted\n\nVolume",null,null,null,null,null,null,null,"Topsoil Cut\n\nVolume",null,null,null,null,null,null,null,"Manually\nCalculated Cut\nAdjustments\n(+/- Cut)",null,null,null,null,null,null,null,"Total\nCut\nAdjusted",null,null,null,null,null,null,null,"Total Fill\nUnadjusted\n\nVolume",null,null,null,null,null,null,null,"Existing Topsoil\nStripping\nUndercut\n(+ Fill)",null,null,null,null,null,null,null,"Manual\nCalculated Fill\nAdjustments\n(+/- Fill)",null,null,null,null,null,null,null,"Total\nFill\nAdjusted",null,null,null,null,null,null,null,"Total Fill\n Adjusted w/\nWeighted Average\n1.3  Shrink Factor",null,null,null,null,null,null,null,"Total Cut Adjusted\nMinus Fill w/ Shrink",null,null,null,null,null,null,null,"Approx. Fill Vol.\nBelow 5' & Above\n20' w/ Shrink",null,null,null,null,null,null,null,"Approx. Fill\nVolume Below 3'\nw/ Shrink",null,null,null,null,null,null,null,"Topsoil\nStripping Undercut\nVolume",null,null,null,null,null,null,null,"Topsoil\nPlacement\nUndercut\nVolume",null,null,null,null,null,null,null,"Topsoil Placement\nWith 1.4 Shrink\nFactor",null,null,null,null,null,null,null,"Topsoil Stripping\nMinus Topsoil\nPlacement\nw/Shrink"]
[]
[]
[]
[]
[]
[]
[]
[]
[]
[]
[]
[]
[]
[]
[]
[]
[]
[]
[null,null,"Sta.808+67"]
[]
[null,null,80775]
[null,null,null,null,null,null,null,null,null,null,null,null,null,null,null,null,null,47,null,null,null,null,null,null,null,10,null,null,null,null,null,null,null,37,null,null,null,null,null,null,null,null,null,null,null,null,null,null,null,10,null,null,null,null,null,null,null,6,null,null,null,null,null,null,null,37,null,null,null,null,null,null,null,null,null,null,null,null,null,null,null,43,null,null,null,null,null,null,null,55.9,null,null,null,null,null,null,null,-45.9,null,null,null,null,null,null,null,0,null,null,null,null,null,null,null,0,null,null,null,null,null,null,null,37,null,null,null,null,null,null,null,15,null,null,null,null,null,null,null,21,null,null,null,null,null,null,null,16]
[null,null,80800]
[null,null,null,null,null,null,null,null,null,null,null,null,null,null,null,null,null,48,null,null,null,null,null,null,null,48,null,null,null,null,null,null,null,0,null,null,null,null,null,null,null,null,null,null,null,null,null,null,null,48,null,null,null,null,null,null,null,22,null,null,null,null,null,null,null,null,null,null,null,null,null,null,null,null,null,null,null,null,null,null,null,22,null,null,null,null,null,null,null,28.6,null,null,null,null,null,null,null,19.399999999999999,null,null,null,null,null,null,null,0,null,null,null,null,null,null,null,0,null,null,null,null,null,null,null,0,null,null,null,null,null,null,null,35,null,null,null,null,null,null,null,49,null,null,null,null,null,null,null,-49]
[null,null,80825]
[null,null,null,null,null,null,null,null,null,null,null,null,null,null,null,null,null,146,null,null,null,null,null,null,null,115,null,null,null,null,null,null,null,31,null,null,null,null,null,null,null,null,null,null,null,null,null,null,null,115,null,null,null,null,null,null,null,70,null,null,null,null,null,null,null,31,null,null,null,null,null,null,null,null,null,null,null,null,null,null,null,101,null,null,null,null,null,null,null,131.30000000000001,null,null,null,null,null,null,null,-16.3,null,null,null,null,null,null,null,0,null,null,null,null,null,null,null,0,null,null,null,null,null,null,null,31,null,null,null,null,null,null,null,50,null,null,null,null,null,null,null,70,null,null,null,null,null,null,null,-39]
[null,null,80850]
[null,null,null,null,null,null,null,null,null,null,null,null,null,null,null,null,null,116,null,null,null,null,null,null,null,95,null,null,null,null,null,null,null,21,null,null,null,null,null,null,null,null,null,null,null,null,null,null,null,95,null,null,null,null,null,null,null,102,null,null,null,null,null,null,null,21,null,null,null,null,null,null,null,null,null,null,null,null,null,null,null,123,null,null,null,null,null,null,null,159.9,null,null,null,null,null,null,null,-64.900000000000006,null,null,null,null,null,null,null,0,null,null,null,null,null,null,null,0,null,null,null,null,null,null,null,21,null,null,null,null,null,null,null,43,null,null,null,null,null,null,null,60.2,null,null,null,null,null,null,null,-39.200000000000003]
[null,null,80867.850000000006]
[null,null,null,null,null,null,null,null,null,null,null,null,null,null,null,null,null,32,null,null,null,null,null,null,null,24,null,null,null,null,null,null,null,8,null,null,null,null,null,null,null,83,null,null,null,null,null,null,null,107,null,null,null,null,null,null,null,57,null,null,null,null,null,null,null,8,null,null,null,null,null,null,null,null,null,null,null,null,null,null,null,65,null,null,null,null,null,null,null,84.5,null,null,null,null,null,null,null,22.5,null,null,null,null,null,null,null,0,null,null,null,null,null,null,null,0,null,null,null,null,null,null,null,8,null,null,null,null,null,null,null,15,null,null,null,null,null,null,null,21,null,null,null,null,null,null,null,-13]
[null,null,80875]
[null,null,null,null,null,null,null,null,null,null,null,null,null,null,null,null,null,43,null,null,null,null,null,null,null,24,null,null,null,null,null,null,null,19,null,null,null,null,null,null,null,null,null,null,null,null,null,null,null,24,null,null,null,null,null,null,null,179,null,null,null,null,null,null,null,19,null,null,null,null,null,null,null,null,null,null,null,null,null,null,null,198,null,null,null,null,null,null,null,257.39999999999998,null,null,null,null,null,null,null,-233.4,null,null,null,null,null,null,null,0,null,null,null,null,null,null,null,0,null,null,null,null,null,null,null,19,null,null,null,null,null,null,null,39,null,null,null,null,null,null,null,54.6,null,null,null,null,null,null,null,-35.6]
[null,null,80900]
[null,null,null,null,null,null,null,null,null,null,null,null,null,null,null,null,null,18,null,null,null,null,null,null,null,5,null,null,null,null,null,null,null,13,null,null,null,null,null,null,null,null,null,null,null,null,null,null,null,5,null,null,null,null,null,null,null,69,null,null,null,null,null,null,null,13,null,null,null,null,null,null,null,null,null,null,null,null,null,null,null,82,null,null,null,null,null,null,null,106.6,null,null,null,null,null,null,null,-101.6,null,null,null,null,null,null,null,0,null,null,null,null,null,null,null,0,null,null,null,null,null,null,null,13,null,null,null,null,null,null,null,25,null,null,null,null,null,null,null,35,null,null,null,null,null,null,null,-22]
[null,null,80925]
[null,null,null,null,null,null,null,null,null,null,null,null,null,null,null,null,null,22,null,null,null,null,null,null,null,15,null,null,null,null,null,null,null,7,null,null,null,null,null,null,null,null,null,null,null,null,null,null,null,15,null,null,null,null,null,null,null,0,null,null,null,null,null,null,null,7,null,null,null,null,null,null,null,null,null,null,null,null,null,null,null,7,null,null,null,null,null,null,null,9.1,null,null,null,null,null,null,null,5.9,null,null,null,null,null,null,null,0,null,null,null,null,null,null,null,0,null,null,null,null,null,null,null,7,null,null,null,null,null,null,null,13,null,null,null,null,null,null,null,18.2,null,null,null,null,null,null,null,-11.2]
[null,null,80950]
[]
[null,null,"Sta.808+67"]
[]
[null,null,"Totals:"]
[null,null,null,null,null,null,null,null,null,null,null,null,null,null,null,null,null,472,null,null,null,null,null,null,null,336,null,null,null,null,null,null,null,136,null,null,null,null,null,null,null,83,null,null,null,null,null,null,null,419,null,null,null,null,null,null,null,505,null,null,null,null,null,null,null,136,null,null,null,null,null,null,null,0,null,null,null,null,null,null,null,641,null,null,null,null,null,null,null,834,null,null,null,null,null,null,null,-415,null,null,null,null,null,null,null,0,null,null,null,null,null,null,null,0,null,null,null,null,null,null,null,136,null,null,null,null,null,null,null,235,null,null,null,null,null,null,null,329,null,null,null,null,null,null,null,-193]
[]
[]
[]
[null,null,null,null,null,null,null,null,null,null,null,null,null,null,null,null,null,"Excavation, Class 10, Roadway & Borrow"]
[]
[null,null,null,null,null,null,null,null,null,null,null,null,null,null,null,null,null,null,null,null,null,null,null,null,null,null,null,null,null,null,null,null,null,null,null,null,null,null,null,null,null,419,null,null,null,null,null,null,null,"CY"]
[]
[]
[]
[null,null,null,null,null,null,null,null,null,null,null,null,null,null,null,null,null,"Embankment-In-Place"]
[]
[null,null,null,null,null,null,null,null,null,null,null,null,null,null,null,null,null,null,null,null,null,null,null,null,null,null,null,null,null,null,null,null,null,null,null,null,null,null,null,null,null,319,null,null,null,null,null,null,null,"CY"]
[]
[]
[]
[null,null,null,null,null,null,null,null,null,null,null,null,null,null,null,null,null,"Topsoil, Trip, Salvage, & Spread"]
[]
[null,null,null,null,null,null,null,null,null,null,null,null,null,null,null,null,null,null,null,null,null,null,null,null,null,null,null,null,null,null,null,null,null,null,null,null,null,null,null,null,null,136,null,null,null,null,null,null,null,"CY"]
[]
[]
[]
[null,null,null,null,null,null,null,null,null,null,null,null,null,null,null,null,null,"Topsoil, Furnish & Spread"]
[]
[null,null,null,null,null,null,null,null,null,null,null,null,null,null,null,null,null,null,null,null,null,null,null,null,null,null,null,null,null,null,null,null,null,null,null,null,null,null,null,null,null,138,null,null,null,null,null,null,null,"CY"]
[]
[]
[]
[]
[]
[]
[]
[]
[]
[]
[]
[]
[]
[]
[]
[]
[]
[]
[]
[]
[]
[]
[]
[]
[]
[]
[]
[]
[]
[]
[]
[]
[]
[]
[]
[]
[]
[]
[]
[]
[]
[]
[]
[]
[]
[]
[]
[]
[]
[]
[]
[]
[]
[]
[]
[]
[]
[]
[]
[]
[]
[]
[]
[]
[]
[]
[]
[]
[]
[]
[]
[]
[]
[]
[]
[]
[]
[]
[]
[]
[]
[]
[]
[]
[]
[]
[]
[]
[]
[]
[]
[]
[]
[]
[null,"","",null,null,null,null,null,null,null,null,null,null,null,null,null,null,"",null,null,null,null,null,null,null,"",null,null,null,null,null,null,null,"",null,null,null,null,null,null,null,"",null,null,null,null,null,null,null,"",null,null,null,null,null,null,null,"",null,null,null,null,null,null,null,"",null,null,null,null,null,null,null,"",null,null,null,null,null,null,null,"",null,null,null,null,null,null,null,null,null,null,null,null,null,null,null,"",null,null,null,null,null,null,null,"",null,null,null,null,null,null,null,null,null,null,null,null,null,null,null,"",null,null,null,null,null,null,null,null,null,null,null,null,null,null,null,null,"",null,null,null,null,null,null,null,null,null,null,null,null,null,null,"",null,null,null,null,null,null,null,"",null,null,null,null,null,null,null,"",null,null,null,null,null,null,null,"",null,null,null,null,null,null,null,"",null,null,null,null,null,null,null,""]
[]
[null,"FILE NO.",null,null,null,null,null,null,{"$f":"IF(ProjectInformation!$B$12<>\"\",ProjectInformation!$B$12,\"\")","v":""},null,null,null,null,null,null,{"$f":"UPPER(ProjectInformation!$B$8)","v":"ENGLISH"},null,null,null,null,null,null,"DESIGN TEAM",null,null,null,null,null,null,null,null,{"$f":"IF(AND(ProjectInformation!$B$3<>\"\",ProjectInformation!$B$4<>\"\",ProjectInformation!$B$5<>\"\"),ProjectInformation!$B$3&\"\\\"&ProjectInformation!$B$4&\"\\\"&ProjectInformation!$B$5,IF(AND(ProjectInformation!$B$3<>\"\",ProjectInformation!$B$4<>\"\"),ProjectInformation!$B$3&\"\\\"&ProjectInformation!$B$4,IF(ProjectInformation!$B$3<>\"\",ProjectInformation!$B$3,\"\")))","v":"WHKS & CO."},null,null,null,null,null,null,null,null,null,null,null,null,null,null,null,null,null,null,null,null,null,null,null,null,null,null,null,null,null,null,null,null,null,null,null,null,null,null,null,null,null,{"$f":"IF(ProjectInformation!$B$6<>\"\",ProjectInformation!$B$6,\"\")","v":"CLINTON"},null,null,null,null,null,null,null,null,null,null,null,null,null,null,null,null,null,null,null,null,null,null,null,null,null,null,null,null,null,null,null,null,null,null,null,null,null,null,null,null,"COUNTY",null,null,null,null,null,"PROJECT NUMBER",null,null,null,null,null,null,null,null,null,null,null,{"$f":"IF(ProjectInformation!$B$7<>\"\",ProjectInformation!$B$7,\"\")","v":"STPN-136-1(73)--2J-23"},null,null,null,null,null,null,null,null,null,null,null,null,null,null,null,null,null,null,null,null,null,null,null,null,null,null,null,null,null,"SHEET NUMBER",null,null,null,null,null,null,null,null,null,"T.15",null,null,null,null,null,null,null,{"$f":"IF(GE2800<>\"\",\"REVISED\",\"\")","v":""},null,null,null,null,null,{"$f":"IF(ProjectInformation!$B$9<>\"\",ProjectInformation!$B$9,\"\")","v":""}]
[]
[]
[]
[null,"10/29/2019     9:35:10 AM     bchezick     K:\\7805\\SA26 701BT Clinton Culverts\\Design\\DE Sheets\\2313601013t01 (2).xlsm"]
[""]
[]
[]
[null,null,null,null,null,null,null,null,null,null,null,null,null,null,null,null,null,null,null,null,null,null,null,null,null,"",null,null,null,null,null,null,null,"",null,null,null,null,null,null,null,"",null,null,null,null,null,null,null,"",null,null,null,null,null,null,null,"",null,null,null,null,null,null,null,"",null,null,null,null,null,null,null,"",null,null,null,null,null,null,null,"",null,null,null,null,null,null,null,null,null,null,null,null,null,null,null,"",null,null,null,null,null,null,null,"",null,null,null,null,null,null,null,null,null,null,null,null,null,null,null,"",null,null,null,null,null,null,null,null,null,null,null,null,null,null,null,null,"",null,null,null,null,null,null,null,null,null,null,null,null,null,null,"",null,null,null,null,null,null,null,null,null,null,null,null,null,null,null,"",null,null,null,null,null,null,null,"",null,null,null,null,null,null,null,"",null,null,null,null,null,null,null,""]
[]
[null,null,"Refer to Standard Road Plans EW-101 and EW-102.",null,null,null,null,null,null,null,null,null,null,null,null,null,null,null,null,null,null,null,null,null,null,null,null,null,null,null,null,null,null,null,null,null,null,null,null,null,null,null,null,null,null,null,null,null,null,null,null,null,null,null,null,null,null,null,"TABULATION OF TEMPLATE QUANTITIES AND ADJUSTMENTS",null,null,null,null,null,null,null,null,null,null,null,null,null,null,null,null,null,null,null,null,null,null,null,null,null,null,null,null,null,null,null,null,null,null,null,null,null,null,null,null,null,null,null,null,null,null,null,null,null,null,null,null,null,null,null,null,null,null,null,null,null,null,null,null,null,null,null,null,null,null,null,null,null,null,null,null,null,null,"107-28"]
[]
[null,null,null,null,null,null,null,null,null,null,null,null,null,null,null,null,null,null,null,null,null,null,null,null,null,null,null,null,null,null,null,null,null,null,null,null,null,null,null,null,null,null,null,null,null,null,null,null,null,null,null,null,null,null,null,null,null,null,null,null,null,null,null,null,null,null,null,null,null,null,null,null,null,null,null,null,null,null,null,null,null,null,null,null,null,null,null,null,null,null,null,null,null,null,null,null,null,null,null,null,null,null,null,null,null,null,null,null,null,null,null,null,null,null,null,null,null,null,null,null,null,null,null,null,null,null,null,null,null,null,null,null,null,null,null,null,null,"2015-04-21"]
[]
[null,null,null,null,null,null,null,null,null,null,null,null,null,null,null,null,null,"Cut",null,null,null,null,null,null,null,null,null,null,null,null,null,null,null,null,null,null,null,null,null,null,null,null,null,null,null,null,null,null,null,null,null,null,null,null,null,null,null,"Fill",null,null,null,null,null,null,null,null,null,null,null,null,null,null,null,null,null,null,null,null,null,null,null,null,null,null,null,null,null,null,null,null,null,null,null,null,null,null,null,null,null,null,null,null,null,null,null,"Checks (EW-102)",null,null,null,null,null,null,null,null,null,null,null,null,null,null,null,"Topsoil"]
[]
[]
[null,null,null,null,null,null,null,null,null,null,null,null,null,null,null,null,null,"[1]",null,null,null,null,null,null,null,"[2]",null,null,null,null,null,null,null,"[3]",null,null,null,null,null,null,null,"[4]",null,null,null,null,null,null,null,"[5]",null,null,null,null,null,null,null,"[6]",null,null,null,null,null,null,null,"[7]",null,null,null,null,null,null,null,"[8]",null,null,null,null,null,null,null,"[9]",null,null,null,null,null,null,null,"[10]",null,null,null,null,null,null,null,"[11]",null,null,null,null,null,null,null,"[12]",null,null,null,null,null,null,null,"[13]",null,null,null,null,null,null,null,"[14]",null,null,null,null,null,null,null,"[15]",null,null,null,null,null,null,null,"[16]",null,null,null,null,null,null,null,"[17]",null,null,null,null,null,null,null,"[18]",null,null,null,null,null,null,null,"[19]",null,null,null,null,null,null,null,"[20]",null,null,null,null,null,null,null,"[21]",null,null,null,null,null,null,null,"[22]"]
[]
[]
[null,null,null,null,null,null,null,null,null,null,null,null,null,null,null,null,null,{"$f":"IF('107_28'!$R$15<>\"\",'107_28'!$R$15,\"\")","v":""},null,null,null,null,null,null,null,{"$f":"IF('107_28'!$Z$15<>\"\",'107_28'!$Z$15,\"\")","v":""},null,null,null,null,null,null,null,{"$f":"IF('107_28'!$AH$15<>\"\",'107_28'!$AH$15,\"\")","v":""},null,null,null,null,null,null,null,{"$f":"IF('107_28'!$AP$15<>\"\",'107_28'!$AP$15,\"\")","v":""},null,null,null,null,null,null,null,{"$f":"IF('107_28'!$AX$15<>\"\",'107_28'!$AX$15,\"\")","v":""},null,null,null,null,null,null,null,{"$f":"IF('107_28'!$BF$15<>\"\",'107_28'!$BF$15,\"\")","v":""},null,null,null,null,null,null,null,{"$f":"IF('107_28'!$BN$15<>\"\",'107_28'!$BN$15,\"\")","v":""},null,null,null,null,null,null,null,{"$f":"IF('107_28'!$BV$15<>\"\",'107_28'!$BV$15,\"\")","v":""},null,null,null,null,null,null,null,{"$f":"IF('107_28'!$CD$15<>\"\",'107_28'!$CD$15,\"\")","v":""},null,null,null,null,null,null,null,{"$f":"IF('107_28'!$CL$15<>\"\",'107_28'!$CL$15,\"\")","v":""},null,null,null,null,null,null,null,{"$f":"IF('107_28'!$CT$15<>\"\",'107_28'!$CT$15,\"\")","v":""},null,null,null,null,null,null,null,{"$f":"IF('107_28'!$DB$15<>\"\",'107_28'!$DB$15,\"\")","v":""},null,null,null,null,null,null,null,{"$f":"IF('107_28'!$DJ$15<>\"\",'107_28'!$DJ$15,\"\")","v":""},null,null,null,null,null,null,null,{"$f":"IF('107_28'!$DR$15<>\"\",'107_28'!$DR$15,\"\")","v":""},null,null,null,null,null,null,null,{"$f":"IF('107_28'!$DZ$15<>\"\",'107_28'!$DZ$15,\"\")","v":""},null,null,null,null,null,null,null,{"$f":"IF('107_28'!$EH$15<>\"\",'107_28'!$EH$15,\"\")","v":""},null,null,null,null,null,null,null,{"$f":"IF('107_28'!$EP$15<>\"\",'107_28'!$EP$15,\"\")","v":""},null,null,null,null,null,null,null,{"$f":"IF('107_28'!$EX$15<>\"\",'107_28'!$EX$15,\"\")","v":""},null,null,null,null,null,null,null,{"$f":"IF('107_28'!$FF$15<>\"\",'107_28'!$FF$15,\"\")","v":""},null,null,null,null,null,null,null,{"$f":"IF('107_28'!$FN$15<>\"\",'107_28'!$FN$15,\"\")","v":""},null,null,null,null,null,null,null,{"$f":"IF('107_28'!$FV$15<>\"\",'107_28'!$FV$15,\"\")","v":""},null,null,null,null,null,null,null,{"$f":"IF('107_28'!$GD$15<>\"\",'107_28'!$GD$15,\"\")","v":""}]
[]
[]
[]
[null,null,"Station",null,null,null,null,null,null,null,null,null,null,null,null,null,null,"Total Cut Unadjusted\n\nVolume",null,null,null,null,null,null,null,"Total Class 10\nUnadjusted\n\nVolume",null,null,null,null,null,null,null,"Topsoil Cut\n\nVolume",null,null,null,null,null,null,null,"Manually\nCalculated Cut\nAdjustments\n(+/- Cut)",null,null,null,null,null,null,null,"Total\nCut\nAdjusted",null,null,null,null,null,null,null,"Total Fill\nUnadjusted\n\nVolume",null,null,null,null,null,null,null,"Existing Topsoil\nStripping\nUndercut\n(+ Fill)",null,null,null,null,null,null,null,"Manual\nCalculated Fill\nAdjustments\n(+/- Fill)",null,null,null,null,null,null,null,"Total\nFill\nAdjusted",null,null,null,null,null,null,null,"Total Fill\n Adjusted w/\nWeighted Average\n1.3  Shrink Factor",null,null,null,null,null,null,null,"Total Cut Adjusted\nMinus Fill w/ Shrink",null,null,null,null,null,null,null,"Approx. Fill Vol.\nBelow 5' & Above\n20' w/ Shrink",null,null,null,null,null,null,null,"Approx. Fill\nVolume Below 3'\nw/ Shrink",null,null,null,null,null,null,null,"Topsoil\nStripping Undercut\nVolume",null,null,null,null,null,null,null,"Topsoil\nPlacement\nUndercut\nVolume",null,null,null,null,null,null,null,"Topsoil Placement\nWith 1.4 Shrink\nFactor",null,null,null,null,null,null,null,"Topsoil Stripping\nMinus Topsoil\nPlacement\nw/Shrink"]
[]
[]
[]
[]
[]
[]
[]
[]
[]
[]
[]
[]
[]
[]
[]
[]
[]
[]
[null,null,"Sta.817+91"]
[]
[null,null,81675]
[null,null,null,null,null,null,null,null,null,null,null,null,null,null,null,null,null,9,null,null,null,null,null,null,null,6,null,null,null,null,null,null,null,3,null,null,null,null,null,null,null,null,null,null,null,null,null,null,null,6,null,null,null,null,null,null,null,0,null,null,null,null,null,null,null,3,null,null,null,null,null,null,null,null,null,null,null,null,null,null,null,3,null,null,null,null,null,null,null,3.9,null,null,null,null,null,null,null,2.1,null,null,null,null,null,null,null,0,null,null,null,null,null,null,null,0,null,null,null,null,null,null,null,3,null,null,null,null,null,null,null,6,null,null,null,null,null,null,null,8.4,null,null,null,null,null,null,null,-5.4]
[null,null,81700]
[null,null,null,null,null,null,null,null,null,null,null,null,null,null,null,null,null,20,null,null,null,null,null,null,null,12,null,null,null,null,null,null,null,8,null,null,null,null,null,null,null,null,null,null,null,null,null,null,null,12,null,null,null,null,null,null,null,2,null,null,null,null,null,null,null,8,null,null,null,null,null,null,null,null,null,null,null,null,null,null,null,10,null,null,null,null,null,null,null,13,null,null,null,null,null,null,null,-1,null,null,null,null,null,null,null,0,null,null,null,null,null,null,null,0,null,null,null,null,null,null,null,8,null,null,null,null,null,null,null,17,null,null,null,null,null,null,null,23.8,null,null,null,null,null,null,null,-15.8]
[null,null,81725]
[null,null,null,null,null,null,null,null,null,null,null,null,null,null,null,null,null,51,null,null,null,null,null,null,null,36,null,null,null,null,null,null,null,15,null,null,null,null,null,null,null,null,null,null,null,null,null,null,null,36,null,null,null,null,null,null,null,17,null,null,null,null,null,null,null,15,null,null,null,null,null,null,null,null,null,null,null,null,null,null,null,32,null,null,null,null,null,null,null,41.6,null,null,null,null,null,null,null,-5.6,null,null,null,null,null,null,null,0,null,null,null,null,null,null,null,0,null,null,null,null,null,null,null,15,null,null,null,null,null,null,null,29,null,null,null,null,null,null,null,40.6,null,null,null,null,null,null,null,-25.6]
[null,null,81750]
[null,null,null,null,null,null,null,null,null,null,null,null,null,null,null,null,null,99,null,null,null,null,null,null,null,84,null,null,null,null,null,null,null,15,null,null,null,null,null,null,null,null,null,null,null,null,null,null,null,84,null,null,null,null,null,null,null,73,null,null,null,null,null,null,null,15,null,null,null,null,null,null,null,null,null,null,null,null,null,null,null,88,null,null,null,null,null,null,null,114.4,null,null,null,null,null,null,null,-30.4,null,null,null,null,null,null,null,0,null,null,null,null,null,null,null,0,null,null,null,null,null,null,null,15,null,null,null,null,null,null,null,38,null,null,null,null,null,null,null,53.2,null,null,null,null,null,null,null,-38.200000000000003]
[null,null,81775]
[null,null,null,null,null,null,null,null,null,null,null,null,null,null,null,null,null,76,null,null,null,null,null,null,null,62,null,null,null,null,null,null,null,14,null,null,null,null,null,null,null,null,null,null,null,null,null,null,null,62,null,null,null,null,null,null,null,37,null,null,null,null,null,null,null,14,null,null,null,null,null,null,null,null,null,null,null,null,null,null,null,51,null,null,null,null,null,null,null,66.3,null,null,null,null,null,null,null,-4.3,null,null,null,null,null,null,null,0,null,null,null,null,null,null,null,0,null,null,null,null,null,null,null,14,null,null,null,null,null,null,null,31,null,null,null,null,null,null,null,43.4,null,null,null,null,null,null,null,-29.4]
[null,null,81791]
[null,null,null,null,null,null,null,null,null,null,null,null,null,null,null,null,null,43,null,null,null,null,null,null,null,34,null,null,null,null,null,null,null,9,null,null,null,null,null,null,null,34,null,null,null,null,null,null,null,68,null,null,null,null,null,null,null,6,null,null,null,null,null,null,null,9,null,null,null,null,null,null,null,null,null,null,null,null,null,null,null,15,null,null,null,null,null,null,null,19.5,null,null,null,null,null,null,null,48.5,null,null,null,null,null,null,null,0,null,null,null,null,null,null,null,0,null,null,null,null,null,null,null,9,null,null,null,null,null,null,null,17,null,null,null,null,null,null,null,23.8,null,null,null,null,null,null,null,-14.8]
[null,null,81800]
[null,null,null,null,null,null,null,null,null,null,null,null,null,null,null,null,null,111,null,null,null,null,null,null,null,93,null,null,null,null,null,null,null,18,null,null,null,null,null,null,null,null,null,null,null,null,null,null,null,93,null,null,null,null,null,null,null,20,null,null,null,null,null,null,null,18,null,null,null,null,null,null,null,null,null,null,null,null,null,null,null,38,null,null,null,null,null,null,null,49.4,null,null,null,null,null,null,null,43.6,null,null,null,null,null,null,null,0,null,null,null,null,null,null,null,0,null,null,null,null,null,null,null,18,null,null,null,null,null,null,null,36,null,null,null,null,null,null,null,50.4,null,null,null,null,null,null,null,-32.4]
[null,null,81825]
[null,null,null,null,null,null,null,null,null,null,null,null,null,null,null,null,null,78,null,null,null,null,null,null,null,63,null,null,null,null,null,null,null,15,null,null,null,null,null,null,null,null,null,null,null,null,null,null,null,63,null,null,null,null,null,null,null,6,null,null,null,null,null,null,null,15,null,null,null,null,null,null,null,null,null,null,null,null,null,null,null,21,null,null,null,null,null,null,null,27.3,null,null,null,null,null,null,null,35.700000000000003,null,null,null,null,null,null,null,0,null,null,null,null,null,null,null,0,null,null,null,null,null,null,null,15,null,null,null,null,null,null,null,30,null,null,null,null,null,null,null,42,null,null,null,null,null,null,null,-27]
[null,null,81850]
[null,null,null,null,null,null,null,null,null,null,null,null,null,null,null,null,null,40,null,null,null,null,null,null,null,31,null,null,null,null,null,null,null,9,null,null,null,null,null,null,null,null,null,null,null,null,null,null,null,31,null,null,null,null,null,null,null,1,null,null,null,null,null,null,null,9,null,null,null,null,null,null,null,null,null,null,null,null,null,null,null,10,null,null,null,null,null,null,null,13,null,null,null,null,null,null,null,18,null,null,null,null,null,null,null,0,null,null,null,null,null,null,null,0,null,null,null,null,null,null,null,9,null,null,null,null,null,null,null,18,null,null,null,null,null,null,null,25.2,null,null,null,null,null,null,null,-16.2]
[null,null,81875]
[]
[null,null,"Sta.817+91"]
[]
[null,null,"Totals:"]
[null,null,null,null,null,null,null,null,null,null,null,null,null,null,null,null,null,527,null,null,null,null,null,null,null,421,null,null,null,null,null,null,null,106,null,null,null,null,null,null,null,34,null,null,null,null,null,null,null,455,null,null,null,null,null,null,null,162,null,null,null,null,null,null,null,106,null,null,null,null,null,null,null,0,null,null,null,null,null,null,null,268,null,null,null,null,null,null,null,349,null,null,null,null,null,null,null,107,null,null,null,null,null,null,null,0,null,null,null,null,null,null,null,0,null,null,null,null,null,null,null,106,null,null,null,null,null,null,null,222,null,null,null,null,null,null,null,311,null,null,null,null,null,null,null,-205]
[]
[]
[]
[null,null,null,null,null,null,null,null,null,null,null,null,null,null,null,null,null,"Excavation, Class 10, Roadway & Borrow"]
[]
[null,null,null,null,null,null,null,null,null,null,null,null,null,null,null,null,null,null,null,null,null,null,null,null,null,null,null,null,null,null,null,null,null,null,null,null,null,null,null,null,null,349,null,null,null,null,null,null,null,"CY"]
[]
[]
[]
[null,null,null,null,null,null,null,null,null,null,null,null,null,null,null,null,null,"Excavation, Class 10, Waste"]
[]
[null,null,null,null,null,null,null,null,null,null,null,null,null,null,null,null,null,null,null,null,null,null,null,null,null,null,null,null,null,null,null,null,null,null,null,null,null,null,null,null,null,107,null,null,null,null,null,null,null,"CY"]
[]
[]
[]
[null,null,null,null,null,null,null,null,null,null,null,null,null,null,null,null,null,"Topsoil, Strip, Salvage, & Spread"]
[]
[null,null,null,null,null,null,null,null,null,null,null,null,null,null,null,null,null,null,null,null,null,null,null,null,null,null,null,null,null,null,null,null,null,null,null,null,null,null,null,null,null,106,null,null,null,null,null,null,null,"CY"]
[]
[]
[]
[null,null,null,null,null,null,null,null,null,null,null,null,null,null,null,null,null,"Topsoil, Furnish & Spread"]
[]
[null,null,null,null,null,null,null,null,null,null,null,null,null,null,null,null,null,null,null,null,null,null,null,null,null,null,null,null,null,null,null,null,null,null,null,null,null,null,null,null,null,146,null,null,null,null,null,null,null,"CY"]
[]
[]
[]
[]
[]
[]
[]
[]
[]
[]
[]
[]
[]
[]
[]
[]
[]
[]
[]
[]
[]
[]
[]
[]
[]
[]
[]
[]
[]
[]
[]
[]
[]
[]
[]
[]
[]
[]
[]
[]
[]
[]
[]
[]
[]
[]
[]
[]
[]
[]
[]
[]
[]
[]
[]
[]
[]
[]
[]
[]
[]
[]
[]
[]
[]
[]
[]
[]
[]
[]
[]
[]
[]
[]
[]
[]
[]
[]
[]
[]
[]
[]
[]
[]
[]
[]
[]
[]
[]
[]
[]
[]
[null,"","",null,null,null,null,null,null,null,null,null,null,null,null,null,null,"",null,null,null,null,null,null,null,"",null,null,null,null,null,null,null,"",null,null,null,null,null,null,null,"",null,null,null,null,null,null,null,"",null,null,null,null,null,null,null,"",null,null,null,null,null,null,null,"",null,null,null,null,null,null,null,"",null,null,null,null,null,null,null,"",null,null,null,null,null,null,null,null,null,null,null,null,null,null,null,"",null,null,null,null,null,null,null,"",null,null,null,null,null,null,null,null,null,null,null,null,null,null,null,"",null,null,null,null,null,null,null,null,null,null,null,null,null,null,null,null,"",null,null,null,null,null,null,null,null,null,null,null,null,null,null,"",null,null,null,null,null,null,null,"",null,null,null,null,null,null,null,"",null,null,null,null,null,null,null,"",null,null,null,null,null,null,null,"",null,null,null,null,null,null,null,""]
[]
[null,"FILE NO.",null,null,null,null,null,null,{"$f":"IF(ProjectInformation!$B$12<>\"\",ProjectInformation!$B$12,\"\")","v":""},null,null,null,null,null,null,{"$f":"UPPER(ProjectInformation!$B$8)","v":"ENGLISH"},null,null,null,null,null,null,"DESIGN TEAM",null,null,null,null,null,null,null,null,{"$f":"IF(AND(ProjectInformation!$B$3<>\"\",ProjectInformation!$B$4<>\"\",ProjectInformation!$B$5<>\"\"),ProjectInformation!$B$3&\"\\\"&ProjectInformation!$B$4&\"\\\"&ProjectInformation!$B$5,IF(AND(ProjectInformation!$B$3<>\"\",ProjectInformation!$B$4<>\"\"),ProjectInformation!$B$3&\"\\\"&ProjectInformation!$B$4,IF(ProjectInformation!$B$3<>\"\",ProjectInformation!$B$3,\"\")))","v":"WHKS & CO."},null,null,null,null,null,null,null,null,null,null,null,null,null,null,null,null,null,null,null,null,null,null,null,null,null,null,null,null,null,null,null,null,null,null,null,null,null,null,null,null,null,{"$f":"IF(ProjectInformation!$B$6<>\"\",ProjectInformation!$B$6,\"\")","v":"CLINTON"},null,null,null,null,null,null,null,null,null,null,null,null,null,null,null,null,null,null,null,null,null,null,null,null,null,null,null,null,null,null,null,null,null,null,null,null,null,null,null,null,"COUNTY",null,null,null,null,null,"PROJECT NUMBER",null,null,null,null,null,null,null,null,null,null,null,{"$f":"IF(ProjectInformation!$B$7<>\"\",ProjectInformation!$B$7,\"\")","v":"STPN-136-1(73)--2J-23"},null,null,null,null,null,null,null,null,null,null,null,null,null,null,null,null,null,null,null,null,null,null,null,null,null,null,null,null,null,"SHEET NUMBER",null,null,null,null,null,null,null,null,null,"T.16",null,null,null,null,null,null,null,{"$f":"IF(GE2987<>\"\",\"REVISED\",\"\")","v":""},null,null,null,null,null,{"$f":"IF(ProjectInformation!$B$9<>\"\",ProjectInformation!$B$9,\"\")","v":""}]
[]
[]
[]
[null,"10/29/2019     9:35:10 AM     bchezick     K:\\7805\\SA26 701BT Clinton Culverts\\Design\\DE Sheets\\2313601013t01 (2).xlsm"]
[""]
[]
[]
[null,null,null,null,null,null,null,null,null,null,null,null,null,null,null,null,null,null,null,null,null,null,null,null,null,"",null,null,null,null,null,null,null,"",null,null,null,null,null,null,null,"",null,null,null,null,null,null,null,"",null,null,null,null,null,null,null,"",null,null,null,null,null,null,null,"",null,null,null,null,null,null,null,"",null,null,null,null,null,null,null,"",null,null,null,null,null,null,null,null,null,null,null,null,null,null,null,"",null,null,null,null,null,null,null,"",null,null,null,null,null,null,null,null,null,null,null,null,null,null,null,"",null,null,null,null,null,null,null,null,null,null,null,null,null,null,null,null,"",null,null,null,null,null,null,null,null,null,null,null,null,null,null,"",null,null,null,null,null,null,null,null,null,null,null,null,null,null,null,"",null,null,null,null,null,null,null,"",null,null,null,null,null,null,null,"",null,null,null,null,null,null,null,""]
[]
[null,null,"Refer to Standard Road Plans EW-101 and EW-102.",null,null,null,null,null,null,null,null,null,null,null,null,null,null,null,null,null,null,null,null,null,null,null,null,null,null,null,null,null,null,null,null,null,null,null,null,null,null,null,null,null,null,null,null,null,null,null,null,null,null,null,null,null,null,null,"TABULATION OF TEMPLATE QUANTITIES AND ADJUSTMENTS",null,null,null,null,null,null,null,null,null,null,null,null,null,null,null,null,null,null,null,null,null,null,null,null,null,null,null,null,null,null,null,null,null,null,null,null,null,null,null,null,null,null,null,null,null,null,null,null,null,null,null,null,null,null,null,null,null,null,null,null,null,null,null,null,null,null,null,null,null,null,null,null,null,null,null,null,null,null,"107-28"]
[]
[null,null,null,null,null,null,null,null,null,null,null,null,null,null,null,null,null,null,null,null,null,null,null,null,null,null,null,null,null,null,null,null,null,null,null,null,null,null,null,null,null,null,null,null,null,null,null,null,null,null,null,null,null,null,null,null,null,null,null,null,null,null,null,null,null,null,null,null,null,null,null,null,null,null,null,null,null,null,null,null,null,null,null,null,null,null,null,null,null,null,null,null,null,null,null,null,null,null,null,null,null,null,null,null,null,null,null,null,null,null,null,null,null,null,null,null,null,null,null,null,null,null,null,null,null,null,null,null,null,null,null,null,null,null,null,null,null,"2015-04-21"]
[]
[null,null,null,null,null,null,null,null,null,null,null,null,null,null,null,null,null,"Cut",null,null,null,null,null,null,null,null,null,null,null,null,null,null,null,null,null,null,null,null,null,null,null,null,null,null,null,null,null,null,null,null,null,null,null,null,null,null,null,"Fill",null,null,null,null,null,null,null,null,null,null,null,null,null,null,null,null,null,null,null,null,null,null,null,null,null,null,null,null,null,null,null,null,null,null,null,null,null,null,null,null,null,null,null,null,null,null,null,"Checks (EW-102)",null,null,null,null,null,null,null,null,null,null,null,null,null,null,null,"Topsoil"]
[]
[]
[null,null,null,null,null,null,null,null,null,null,null,null,null,null,null,null,null,"[1]",null,null,null,null,null,null,null,"[2]",null,null,null,null,null,null,null,"[3]",null,null,null,null,null,null,null,"[4]",null,null,null,null,null,null,null,"[5]",null,null,null,null,null,null,null,"[6]",null,null,null,null,null,null,null,"[7]",null,null,null,null,null,null,null,"[8]",null,null,null,null,null,null,null,"[9]",null,null,null,null,null,null,null,"[10]",null,null,null,null,null,null,null,"[11]",null,null,null,null,null,null,null,"[12]",null,null,null,null,null,null,null,"[13]",null,null,null,null,null,null,null,"[14]",null,null,null,null,null,null,null,"[15]",null,null,null,null,null,null,null,"[16]",null,null,null,null,null,null,null,"[17]",null,null,null,null,null,null,null,"[18]",null,null,null,null,null,null,null,"[19]",null,null,null,null,null,null,null,"[20]",null,null,null,null,null,null,null,"[21]",null,null,null,null,null,null,null,"[22]"]
[]
[]
[null,null,null,null,null,null,null,null,null,null,null,null,null,null,null,null,null,{"$f":"IF('107_28'!$R$15<>\"\",'107_28'!$R$15,\"\")","v":""},null,null,null,null,null,null,null,{"$f":"IF('107_28'!$Z$15<>\"\",'107_28'!$Z$15,\"\")","v":""},null,null,null,null,null,null,null,{"$f":"IF('107_28'!$AH$15<>\"\",'107_28'!$AH$15,\"\")","v":""},null,null,null,null,null,null,null,{"$f":"IF('107_28'!$AP$15<>\"\",'107_28'!$AP$15,\"\")","v":""},null,null,null,null,null,null,null,{"$f":"IF('107_28'!$AX$15<>\"\",'107_28'!$AX$15,\"\")","v":""},null,null,null,null,null,null,null,{"$f":"IF('107_28'!$BF$15<>\"\",'107_28'!$BF$15,\"\")","v":""},null,null,null,null,null,null,null,{"$f":"IF('107_28'!$BN$15<>\"\",'107_28'!$BN$15,\"\")","v":""},null,null,null,null,null,null,null,{"$f":"IF('107_28'!$BV$15<>\"\",'107_28'!$BV$15,\"\")","v":""},null,null,null,null,null,null,null,{"$f":"IF('107_28'!$CD$15<>\"\",'107_28'!$CD$15,\"\")","v":""},null,null,null,null,null,null,null,{"$f":"IF('107_28'!$CL$15<>\"\",'107_28'!$CL$15,\"\")","v":""},null,null,null,null,null,null,null,{"$f":"IF('107_28'!$CT$15<>\"\",'107_28'!$CT$15,\"\")","v":""},null,null,null,null,null,null,null,{"$f":"IF('107_28'!$DB$15<>\"\",'107_28'!$DB$15,\"\")","v":""},null,null,null,null,null,null,null,{"$f":"IF('107_28'!$DJ$15<>\"\",'107_28'!$DJ$15,\"\")","v":""},null,null,null,null,null,null,null,{"$f":"IF('107_28'!$DR$15<>\"\",'107_28'!$DR$15,\"\")","v":""},null,null,null,null,null,null,null,{"$f":"IF('107_28'!$DZ$15<>\"\",'107_28'!$DZ$15,\"\")","v":""},null,null,null,null,null,null,null,{"$f":"IF('107_28'!$EH$15<>\"\",'107_28'!$EH$15,\"\")","v":""},null,null,null,null,null,null,null,{"$f":"IF('107_28'!$EP$15<>\"\",'107_28'!$EP$15,\"\")","v":""},null,null,null,null,null,null,null,{"$f":"IF('107_28'!$EX$15<>\"\",'107_28'!$EX$15,\"\")","v":""},null,null,null,null,null,null,null,{"$f":"IF('107_28'!$FF$15<>\"\",'107_28'!$FF$15,\"\")","v":""},null,null,null,null,null,null,null,{"$f":"IF('107_28'!$FN$15<>\"\",'107_28'!$FN$15,\"\")","v":""},null,null,null,null,null,null,null,{"$f":"IF('107_28'!$FV$15<>\"\",'107_28'!$FV$15,\"\")","v":""},null,null,null,null,null,null,null,{"$f":"IF('107_28'!$GD$15<>\"\",'107_28'!$GD$15,\"\")","v":""}]
[]
[]
[]
[null,null,"Station",null,null,null,null,null,null,null,null,null,null,null,null,null,null,"Total Cut Unadjusted\n\nVolume",null,null,null,null,null,null,null,"Total Class 10\nUnadjusted\n\nVolume",null,null,null,null,null,null,null,"Topsoil Cut\n\nVolume",null,null,null,null,null,null,null,"Manually\nCalculated Cut\nAdjustments\n(+/- Cut)",null,null,null,null,null,null,null,"Total\nCut\nAdjusted",null,null,null,null,null,null,null,"Total Fill\nUnadjusted\n\nVolume",null,null,null,null,null,null,null,"Existing Topsoil\nStripping\nUndercut\n(+ Fill)",null,null,null,null,null,null,null,"Manual\nCalculated Fill\nAdjustments\n(+/- Fill)",null,null,null,null,null,null,null,"Total\nFill\nAdjusted",null,null,null,null,null,null,null,"Total Fill\n Adjusted w/\nWeighted Average\n1.3  Shrink Factor",null,null,null,null,null,null,null,"Total Cut Adjusted\nMinus Fill w/ Shrink",null,null,null,null,null,null,null,"Approx. Fill Vol.\nBelow 5' & Above\n20' w/ Shrink",null,null,null,null,null,null,null,"Approx. Fill\nVolume Below 3'\nw/ Shrink",null,null,null,null,null,null,null,"Topsoil\nStripping Undercut\nVolume",null,null,null,null,null,null,null,"Topsoil\nPlacement\nUndercut\nVolume",null,null,null,null,null,null,null,"Topsoil Placement\nWith 1.4 Shrink\nFactor",null,null,null,null,null,null,null,"Topsoil Stripping\nMinus Topsoil\nPlacement\nw/Shrink"]
[]
[]
[]
[]
[]
[]
[]
[]
[]
[]
[]
[]
[]
[]
[]
[]
[]
[]
[null,null,"Sta.830+53"]
[]
[null,null,82975]
[null,null,null,null,null,null,null,null,null,null,null,null,null,null,null,null,null,55,null,null,null,null,null,null,null,45,null,null,null,null,null,null,null,10,null,null,null,null,null,null,null,null,null,null,null,null,null,null,null,45,null,null,null,null,null,null,null,4,null,null,null,null,null,null,null,10,null,null,null,null,null,null,null,null,null,null,null,null,null,null,null,14,null,null,null,null,null,null,null,18.2,null,null,null,null,null,null,null,26.8,null,null,null,null,null,null,null,0,null,null,null,null,null,null,null,0,null,null,null,null,null,null,null,10,null,null,null,null,null,null,null,20,null,null,null,null,null,null,null,28,null,null,null,null,null,null,null,-18]
[null,null,83000]
[null,null,null,null,null,null,null,null,null,null,null,null,null,null,null,null,null,79,null,null,null,null,null,null,null,62,null,null,null,null,null,null,null,17,null,null,null,null,null,null,null,null,null,null,null,null,null,null,null,62,null,null,null,null,null,null,null,28,null,null,null,null,null,null,null,17,null,null,null,null,null,null,null,null,null,null,null,null,null,null,null,45,null,null,null,null,null,null,null,58.5,null,null,null,null,null,null,null,3.5,null,null,null,null,null,null,null,0,null,null,null,null,null,null,null,0,null,null,null,null,null,null,null,17,null,null,null,null,null,null,null,34,null,null,null,null,null,null,null,47.6,null,null,null,null,null,null,null,-30.6]
[null,null,83025]
[null,null,null,null,null,null,null,null,null,null,null,null,null,null,null,null,null,86,null,null,null,null,null,null,null,64,null,null,null,null,null,null,null,22,null,null,null,null,null,null,null,null,null,null,null,null,null,null,null,64,null,null,null,null,null,null,null,63,null,null,null,null,null,null,null,22,null,null,null,null,null,null,null,null,null,null,null,null,null,null,null,85,null,null,null,null,null,null,null,110.5,null,null,null,null,null,null,null,-46.5,null,null,null,null,null,null,null,0,null,null,null,null,null,null,null,0,null,null,null,null,null,null,null,22,null,null,null,null,null,null,null,43,null,null,null,null,null,null,null,60.2,null,null,null,null,null,null,null,-38.200000000000003]
[null,null,83050]
[null,null,null,null,null,null,null,null,null,null,null,null,null,null,null,null,null,11,null,null,null,null,null,null,null,8,null,null,null,null,null,null,null,3,null,null,null,null,null,null,null,null,null,null,null,null,null,null,null,8,null,null,null,null,null,null,null,13,null,null,null,null,null,null,null,3,null,null,null,null,null,null,null,null,null,null,null,null,null,null,null,16,null,null,null,null,null,null,null,20.8,null,null,null,null,null,null,null,-12.8,null,null,null,null,null,null,null,0,null,null,null,null,null,null,null,0,null,null,null,null,null,null,null,3,null,null,null,null,null,null,null,6,null,null,null,null,null,null,null,8.4,null,null,null,null,null,null,null,-5.4]
[null,null,83053.289999999994]
[null,null,null,null,null,null,null,null,null,null,null,null,null,null,null,null,null,69,null,null,null,null,null,null,null,49,null,null,null,null,null,null,null,20,null,null,null,null,null,null,null,null,null,null,null,null,null,null,null,49,null,null,null,null,null,null,null,85,null,null,null,null,null,null,null,20,null,null,null,null,null,null,null,null,null,null,null,null,null,null,null,105,null,null,null,null,null,null,null,136.5,null,null,null,null,null,null,null,-87.5,null,null,null,null,null,null,null,0,null,null,null,null,null,null,null,0,null,null,null,null,null,null,null,20,null,null,null,null,null,null,null,39,null,null,null,null,null,null,null,54.6,null,null,null,null,null,null,null,-34.6]
[null,null,83075]
[null,null,null,null,null,null,null,null,null,null,null,null,null,null,null,null,null,56,null,null,null,null,null,null,null,37,null,null,null,null,null,null,null,19,null,null,null,null,null,null,null,null,null,null,null,null,null,null,null,37,null,null,null,null,null,null,null,66,null,null,null,null,null,null,null,19,null,null,null,null,null,null,null,null,null,null,null,null,null,null,null,85,null,null,null,null,null,null,null,110.5,null,null,null,null,null,null,null,-73.5,null,null,null,null,null,null,null,0,null,null,null,null,null,null,null,0,null,null,null,null,null,null,null,19,null,null,null,null,null,null,null,38,null,null,null,null,null,null,null,53.2,null,null,null,null,null,null,null,-34.200000000000003]
[null,null,83100]
[null,null,null,null,null,null,null,null,null,null,null,null,null,null,null,null,null,29,null,null,null,null,null,null,null,16,null,null,null,null,null,null,null,13,null,null,null,null,null,null,null,null,null,null,null,null,null,null,null,16,null,null,null,null,null,null,null,30,null,null,null,null,null,null,null,13,null,null,null,null,null,null,null,null,null,null,null,null,null,null,null,43,null,null,null,null,null,null,null,55.9,null,null,null,null,null,null,null,-39.9,null,null,null,null,null,null,null,0,null,null,null,null,null,null,null,0,null,null,null,null,null,null,null,13,null,null,null,null,null,null,null,26,null,null,null,null,null,null,null,36.4,null,null,null,null,null,null,null,-23.4]
[null,null,83125]
[]
[null,null,"Sta.830+53"]
[]
[null,null,"Totals:"]
[null,null,null,null,null,null,null,null,null,null,null,null,null,null,null,null,null,385,null,null,null,null,null,null,null,281,null,null,null,null,null,null,null,104,null,null,null,null,null,null,null,0,null,null,null,null,null,null,null,281,null,null,null,null,null,null,null,289,null,null,null,null,null,null,null,104,null,null,null,null,null,null,null,0,null,null,null,null,null,null,null,393,null,null,null,null,null,null,null,511,null,null,null,null,null,null,null,-230,null,null,null,null,null,null,null,0,null,null,null,null,null,null,null,0,null,null,null,null,null,null,null,104,null,null,null,null,null,null,null,206,null,null,null,null,null,null,null,289,null,null,null,null,null,null,null,-185]
[]
[]
[]
[null,null,null,null,null,null,null,null,null,null,null,null,null,null,null,null,null,"Excavation, Class 10, Roadway & Borrow"]
[]
[null,null,null,null,null,null,null,null,null,null,null,null,null,null,null,null,null,null,null,null,null,null,null,null,null,null,null,null,null,null,null,null,null,null,null,null,null,null,null,null,null,281,null,null,null,null,null,null,null,"CY"]
[]
[]
[]
[null,null,null,null,null,null,null,null,null,null,null,null,null,null,null,null,null,"Embankment-In-Place"]
[]
[null,null,null,null,null,null,null,null,null,null,null,null,null,null,null,null,null,null,null,null,null,null,null,null,null,null,null,null,null,null,null,null,null,null,null,null,null,null,null,null,null,177,null,null,null,null,null,null,null,"CY"]
[]
[]
[]
[null,null,null,null,null,null,null,null,null,null,null,null,null,null,null,null,null,"Topsoil, Trip, Salvage, & Spread"]
[]
[null,null,null,null,null,null,null,null,null,null,null,null,null,null,null,null,null,null,null,null,null,null,null,null,null,null,null,null,null,null,null,null,null,null,null,null,null,null,null,null,null,104,null,null,null,null,null,null,null,"CY"]
[]
[]
[]
[null,null,null,null,null,null,null,null,null,null,null,null,null,null,null,null,null,"Topsoil, Furnish & Spread"]
[]
[null,null,null,null,null,null,null,null,null,null,null,null,null,null,null,null,null,null,null,null,null,null,null,null,null,null,null,null,null,null,null,null,null,null,null,null,null,null,null,null,null,132,null,null,null,null,null,null,null,"CY"]
[]
[]
[]
[]
[]
[]
[]
[]
[]
[]
[]
[]
[]
[]
[]
[]
[]
[]
[]
[]
[]
[]
[]
[]
[]
[]
[]
[]
[]
[]
[]
[]
[]
[]
[]
[]
[]
[]
[]
[]
[]
[]
[]
[]
[]
[]
[]
[]
[]
[]
[]
[]
[]
[]
[]
[]
[]
[]
[]
[]
[]
[]
[]
[]
[]
[]
[]
[]
[]
[]
[]
[]
[]
[]
[]
[]
[]
[]
[]
[]
[]
[]
[]
[]
[]
[]
[]
[]
[]
[]
[]
[]
[]
[]
[]
[]
[null,"","",null,null,null,null,null,null,null,null,null,null,null,null,null,null,"",null,null,null,null,null,null,null,"",null,null,null,null,null,null,null,"",null,null,null,null,null,null,null,"",null,null,null,null,null,null,null,"",null,null,null,null,null,null,null,"",null,null,null,null,null,null,null,"",null,null,null,null,null,null,null,"",null,null,null,null,null,null,null,"",null,null,null,null,null,null,null,null,null,null,null,null,null,null,null,"",null,null,null,null,null,null,null,"",null,null,null,null,null,null,null,null,null,null,null,null,null,null,null,"",null,null,null,null,null,null,null,null,null,null,null,null,null,null,null,null,"",null,null,null,null,null,null,null,null,null,null,null,null,null,null,"",null,null,null,null,null,null,null,"",null,null,null,null,null,null,null,"",null,null,null,null,null,null,null,"",null,null,null,null,null,null,null,"",null,null,null,null,null,null,null,""]
[]
[null,"FILE NO.",null,null,null,null,null,null,{"$f":"IF(ProjectInformation!$B$12<>\"\",ProjectInformation!$B$12,\"\")","v":""},null,null,null,null,null,null,{"$f":"UPPER(ProjectInformation!$B$8)","v":"ENGLISH"},null,null,null,null,null,null,"DESIGN TEAM",null,null,null,null,null,null,null,null,{"$f":"IF(AND(ProjectInformation!$B$3<>\"\",ProjectInformation!$B$4<>\"\",ProjectInformation!$B$5<>\"\"),ProjectInformation!$B$3&\"\\\"&ProjectInformation!$B$4&\"\\\"&ProjectInformation!$B$5,IF(AND(ProjectInformation!$B$3<>\"\",ProjectInformation!$B$4<>\"\"),ProjectInformation!$B$3&\"\\\"&ProjectInformation!$B$4,IF(ProjectInformation!$B$3<>\"\",ProjectInformation!$B$3,\"\")))","v":"WHKS & CO."},null,null,null,null,null,null,null,null,null,null,null,null,null,null,null,null,null,null,null,null,null,null,null,null,null,null,null,null,null,null,null,null,null,null,null,null,null,null,null,null,null,{"$f":"IF(ProjectInformation!$B$6<>\"\",ProjectInformation!$B$6,\"\")","v":"CLINTON"},null,null,null,null,null,null,null,null,null,null,null,null,null,null,null,null,null,null,null,null,null,null,null,null,null,null,null,null,null,null,null,null,null,null,null,null,null,null,null,null,"COUNTY",null,null,null,null,null,"PROJECT NUMBER",null,null,null,null,null,null,null,null,null,null,null,{"$f":"IF(ProjectInformation!$B$7<>\"\",ProjectInformation!$B$7,\"\")","v":"STPN-136-1(73)--2J-23"},null,null,null,null,null,null,null,null,null,null,null,null,null,null,null,null,null,null,null,null,null,null,null,null,null,null,null,null,null,"SHEET NUMBER",null,null,null,null,null,null,null,null,null,"T.17",null,null,null,null,null,null,null,{"$f":"IF(GE3174<>\"\",\"REVISED\",\"\")","v":""},null,null,null,null,null,{"$f":"IF(ProjectInformation!$B$9<>\"\",ProjectInformation!$B$9,\"\")","v":""}]
[]
[]
[]
[null,"10/29/2019     9:35:10 AM     bchezick     K:\\7805\\SA26 701BT Clinton Culverts\\Design\\DE Sheets\\2313601013t01 (2).xlsm"]
[""]
[]
[]
[null,null,null,null,null,null,null,null,null,null,null,null,null,null,null,null,null,null,null,null,null,null,null,null,null,"",null,null,null,null,null,null,null,"",null,null,null,null,null,null,null,"",null,null,null,null,null,null,null,"",null,null,null,null,null,null,null,"",null,null,null,null,null,null,null,"",null,null,null,null,null,null,null,"",null,null,null,null,null,null,null,"",null,null,null,null,null,null,null,null,null,null,null,null,null,null,null,"",null,null,null,null,null,null,null,"",null,null,null,null,null,null,null,null,null,null,null,null,null,null,null,"",null,null,null,null,null,null,null,null,null,null,null,null,null,null,null,null,"",null,null,null,null,null,null,null,null,null,null,null,null,null,null,"",null,null,null,null,null,null,null,null,null,null,null,null,null,null,null,"",null,null,null,null,null,null,null,"",null,null,null,null,null,null,null,"",null,null,null,null,null,null,null,""]
[]
[null,null,"Refer to Standard Road Plans EW-101 and EW-102.",null,null,null,null,null,null,null,null,null,null,null,null,null,null,null,null,null,null,null,null,null,null,null,null,null,null,null,null,null,null,null,null,null,null,null,null,null,null,null,null,null,null,null,null,null,null,null,null,null,null,null,null,null,null,null,"TABULATION OF TEMPLATE QUANTITIES AND ADJUSTMENTS",null,null,null,null,null,null,null,null,null,null,null,null,null,null,null,null,null,null,null,null,null,null,null,null,null,null,null,null,null,null,null,null,null,null,null,null,null,null,null,null,null,null,null,null,null,null,null,null,null,null,null,null,null,null,null,null,null,null,null,null,null,null,null,null,null,null,null,null,null,null,null,null,null,null,null,null,null,null,"107-28"]
[]
[null,null,null,null,null,null,null,null,null,null,null,null,null,null,null,null,null,null,null,null,null,null,null,null,null,null,null,null,null,null,null,null,null,null,null,null,null,null,null,null,null,null,null,null,null,null,null,null,null,null,null,null,null,null,null,null,null,null,null,null,null,null,null,null,null,null,null,null,null,null,null,null,null,null,null,null,null,null,null,null,null,null,null,null,null,null,null,null,null,null,null,null,null,null,null,null,null,null,null,null,null,null,null,null,null,null,null,null,null,null,null,null,null,null,null,null,null,null,null,null,null,null,null,null,null,null,null,null,null,null,null,null,null,null,null,null,null,"2015-04-21"]
[]
[null,null,null,null,null,null,null,null,null,null,null,null,null,null,null,null,null,"Cut",null,null,null,null,null,null,null,null,null,null,null,null,null,null,null,null,null,null,null,null,null,null,null,null,null,null,null,null,null,null,null,null,null,null,null,null,null,null,null,"Fill",null,null,null,null,null,null,null,null,null,null,null,null,null,null,null,null,null,null,null,null,null,null,null,null,null,null,null,null,null,null,null,null,null,null,null,null,null,null,null,null,null,null,null,null,null,null,null,"Checks (EW-102)",null,null,null,null,null,null,null,null,null,null,null,null,null,null,null,"Topsoil"]
[]
[]
[null,null,null,null,null,null,null,null,null,null,null,null,null,null,null,null,null,"[1]",null,null,null,null,null,null,null,"[2]",null,null,null,null,null,null,null,"[3]",null,null,null,null,null,null,null,"[4]",null,null,null,null,null,null,null,"[5]",null,null,null,null,null,null,null,"[6]",null,null,null,null,null,null,null,"[7]",null,null,null,null,null,null,null,"[8]",null,null,null,null,null,null,null,"[9]",null,null,null,null,null,null,null,"[10]",null,null,null,null,null,null,null,"[11]",null,null,null,null,null,null,null,"[12]",null,null,null,null,null,null,null,"[13]",null,null,null,null,null,null,null,"[14]",null,null,null,null,null,null,null,"[15]",null,null,null,null,null,null,null,"[16]",null,null,null,null,null,null,null,"[17]",null,null,null,null,null,null,null,"[18]",null,null,null,null,null,null,null,"[19]",null,null,null,null,null,null,null,"[20]",null,null,null,null,null,null,null,"[21]",null,null,null,null,null,null,null,"[22]"]
[]
[]
[null,null,null,null,null,null,null,null,null,null,null,null,null,null,null,null,null,{"$f":"IF('107_28'!$R$15<>\"\",'107_28'!$R$15,\"\")","v":""},null,null,null,null,null,null,null,{"$f":"IF('107_28'!$Z$15<>\"\",'107_28'!$Z$15,\"\")","v":""},null,null,null,null,null,null,null,{"$f":"IF('107_28'!$AH$15<>\"\",'107_28'!$AH$15,\"\")","v":""},null,null,null,null,null,null,null,{"$f":"IF('107_28'!$AP$15<>\"\",'107_28'!$AP$15,\"\")","v":""},null,null,null,null,null,null,null,{"$f":"IF('107_28'!$AX$15<>\"\",'107_28'!$AX$15,\"\")","v":""},null,null,null,null,null,null,null,{"$f":"IF('107_28'!$BF$15<>\"\",'107_28'!$BF$15,\"\")","v":""},null,null,null,null,null,null,null,{"$f":"IF('107_28'!$BN$15<>\"\",'107_28'!$BN$15,\"\")","v":""},null,null,null,null,null,null,null,{"$f":"IF('107_28'!$BV$15<>\"\",'107_28'!$BV$15,\"\")","v":""},null,null,null,null,null,null,null,{"$f":"IF('107_28'!$CD$15<>\"\",'107_28'!$CD$15,\"\")","v":""},null,null,null,null,null,null,null,{"$f":"IF('107_28'!$CL$15<>\"\",'107_28'!$CL$15,\"\")","v":""},null,null,null,null,null,null,null,{"$f":"IF('107_28'!$CT$15<>\"\",'107_28'!$CT$15,\"\")","v":""},null,null,null,null,null,null,null,{"$f":"IF('107_28'!$DB$15<>\"\",'107_28'!$DB$15,\"\")","v":""},null,null,null,null,null,null,null,{"$f":"IF('107_28'!$DJ$15<>\"\",'107_28'!$DJ$15,\"\")","v":""},null,null,null,null,null,null,null,{"$f":"IF('107_28'!$DR$15<>\"\",'107_28'!$DR$15,\"\")","v":""},null,null,null,null,null,null,null,{"$f":"IF('107_28'!$DZ$15<>\"\",'107_28'!$DZ$15,\"\")","v":""},null,null,null,null,null,null,null,{"$f":"IF('107_28'!$EH$15<>\"\",'107_28'!$EH$15,\"\")","v":""},null,null,null,null,null,null,null,{"$f":"IF('107_28'!$EP$15<>\"\",'107_28'!$EP$15,\"\")","v":""},null,null,null,null,null,null,null,{"$f":"IF('107_28'!$EX$15<>\"\",'107_28'!$EX$15,\"\")","v":""},null,null,null,null,null,null,null,{"$f":"IF('107_28'!$FF$15<>\"\",'107_28'!$FF$15,\"\")","v":""},null,null,null,null,null,null,null,{"$f":"IF('107_28'!$FN$15<>\"\",'107_28'!$FN$15,\"\")","v":""},null,null,null,null,null,null,null,{"$f":"IF('107_28'!$FV$15<>\"\",'107_28'!$FV$15,\"\")","v":""},null,null,null,null,null,null,null,{"$f":"IF('107_28'!$GD$15<>\"\",'107_28'!$GD$15,\"\")","v":""}]
[]
[]
[]
[null,null,"Station",null,null,null,null,null,null,null,null,null,null,null,null,null,null,"Total Cut Unadjusted\n\nVolume",null,null,null,null,null,null,null,"Total Class 10\nUnadjusted\n\nVolume",null,null,null,null,null,null,null,"Topsoil Cut\n\nVolume",null,null,null,null,null,null,null,"Manually\nCalculated Cut\nAdjustments\n(+/- Cut)",null,null,null,null,null,null,null,"Total\nCut\nAdjusted",null,null,null,null,null,null,null,"Total Fill\nUnadjusted\n\nVolume",null,null,null,null,null,null,null,"Existing Topsoil\nStripping\nUndercut\n(+ Fill)",null,null,null,null,null,null,null,"Manual\nCalculated Fill\nAdjustments\n(+/- Fill)",null,null,null,null,null,null,null,"Total\nFill\nAdjusted",null,null,null,null,null,null,null,"Total Fill\n Adjusted w/\nWeighted Average\n1.3  Shrink Factor",null,null,null,null,null,null,null,"Total Cut Adjusted\nMinus Fill w/ Shrink",null,null,null,null,null,null,null,"Approx. Fill Vol.\nBelow 5' & Above\n20' w/ Shrink",null,null,null,null,null,null,null,"Approx. Fill\nVolume Below 3'\nw/ Shrink",null,null,null,null,null,null,null,"Topsoil\nStripping Undercut\nVolume",null,null,null,null,null,null,null,"Topsoil\nPlacement\nUndercut\nVolume",null,null,null,null,null,null,null,"Topsoil Placement\nWith 1.4 Shrink\nFactor",null,null,null,null,null,null,null,"Topsoil Stripping\nMinus Topsoil\nPlacement\nw/Shrink"]
[]
[]
[]
[]
[]
[]
[]
[]
[]
[]
[]
[]
[]
[]
[]
[]
[]
[]
[null,null,"Sta.838+23"]
[]
[null,null,83750]
[null,null,null,null,null,null,null,null,null,null,null,null,null,null,null,null,null,111,null,null,null,null,null,null,null,96,null,null,null,null,null,null,null,15,null,null,null,null,null,null,null,null,null,null,null,null,null,null,null,96,null,null,null,null,null,null,null,1,null,null,null,null,null,null,null,15,null,null,null,null,null,null,null,null,null,null,null,null,null,null,null,16,null,null,null,null,null,null,null,20.8,null,null,null,null,null,null,null,75.2,null,null,null,null,null,null,null,0,null,null,null,null,null,null,null,0,null,null,null,null,null,null,null,15,null,null,null,null,null,null,null,30,null,null,null,null,null,null,null,42,null,null,null,null,null,null,null,-27]
[null,null,83775]
[null,null,null,null,null,null,null,null,null,null,null,null,null,null,null,null,null,118,null,null,null,null,null,null,null,97,null,null,null,null,null,null,null,21,null,null,null,null,null,null,null,null,null,null,null,null,null,null,null,97,null,null,null,null,null,null,null,6,null,null,null,null,null,null,null,21,null,null,null,null,null,null,null,null,null,null,null,null,null,null,null,27,null,null,null,null,null,null,null,35.1,null,null,null,null,null,null,null,61.9,null,null,null,null,null,null,null,0,null,null,null,null,null,null,null,0,null,null,null,null,null,null,null,21,null,null,null,null,null,null,null,42,null,null,null,null,null,null,null,58.8,null,null,null,null,null,null,null,-37.799999999999997]
[null,null,83800]
[null,null,null,null,null,null,null,null,null,null,null,null,null,null,null,null,null,97,null,null,null,null,null,null,null,75,null,null,null,null,null,null,null,22,null,null,null,null,null,null,null,null,null,null,null,null,null,null,null,75,null,null,null,null,null,null,null,26,null,null,null,null,null,null,null,22,null,null,null,null,null,null,null,null,null,null,null,null,null,null,null,48,null,null,null,null,null,null,null,62.4,null,null,null,null,null,null,null,12.6,null,null,null,null,null,null,null,0,null,null,null,null,null,null,null,0,null,null,null,null,null,null,null,22,null,null,null,null,null,null,null,53,null,null,null,null,null,null,null,74.2,null,null,null,null,null,null,null,-52.2]
[null,null,83823]
[null,null,null,null,null,null,null,null,null,null,null,null,null,null,null,null,null,7,null,null,null,null,null,null,null,5,null,null,null,null,null,null,null,2,null,null,null,null,null,null,null,21,null,null,null,null,null,null,null,26,null,null,null,null,null,null,null,7,null,null,null,null,null,null,null,2,null,null,null,null,null,null,null,null,null,null,null,null,null,null,null,9,null,null,null,null,null,null,null,11.7,null,null,null,null,null,null,null,14.3,null,null,null,null,null,null,null,0,null,null,null,null,null,null,null,0,null,null,null,null,null,null,null,2,null,null,null,null,null,null,null,5,null,null,null,null,null,null,null,7,null,null,null,null,null,null,null,-5]
[null,null,83825]
[null,null,null,null,null,null,null,null,null,null,null,null,null,null,null,null,null,97,null,null,null,null,null,null,null,72,null,null,null,null,null,null,null,25,null,null,null,null,null,null,null,null,null,null,null,null,null,null,null,72,null,null,null,null,null,null,null,88,null,null,null,null,null,null,null,25,null,null,null,null,null,null,null,null,null,null,null,null,null,null,null,113,null,null,null,null,null,null,null,146.9,null,null,null,null,null,null,null,-74.900000000000006,null,null,null,null,null,null,null,0,null,null,null,null,null,null,null,0,null,null,null,null,null,null,null,25,null,null,null,null,null,null,null,51,null,null,null,null,null,null,null,71.400000000000006,null,null,null,null,null,null,null,-46.4]
[null,null,83850]
[null,null,null,null,null,null,null,null,null,null,null,null,null,null,null,null,null,90,null,null,null,null,null,null,null,69,null,null,null,null,null,null,null,21,null,null,null,null,null,null,null,null,null,null,null,null,null,null,null,69,null,null,null,null,null,null,null,19,null,null,null,null,null,null,null,21,null,null,null,null,null,null,null,null,null,null,null,null,null,null,null,40,null,null,null,null,null,null,null,52,null,null,null,null,null,null,null,17,null,null,null,null,null,null,null,0,null,null,null,null,null,null,null,0,null,null,null,null,null,null,null,21,null,null,null,null,null,null,null,42,null,null,null,null,null,null,null,58.8,null,null,null,null,null,null,null,-37.799999999999997]
[null,null,83875]
[null,null,null,null,null,null,null,null,null,null,null,null,null,null,null,null,null,30,null,null,null,null,null,null,null,19,null,null,null,null,null,null,null,11,null,null,null,null,null,null,null,null,null,null,null,null,null,null,null,19,null,null,null,null,null,null,null,1,null,null,null,null,null,null,null,11,null,null,null,null,null,null,null,null,null,null,null,null,null,null,null,12,null,null,null,null,null,null,null,15.6,null,null,null,null,null,null,null,3.4,null,null,null,null,null,null,null,0,null,null,null,null,null,null,null,0,null,null,null,null,null,null,null,11,null,null,null,null,null,null,null,22,null,null,null,null,null,null,null,30.8,null,null,null,null,null,null,null,-19.8]
[null,null,83900]
[null,null,null,null,null,null,null,null,null,null,null,null,null,null,null,null,null,11,null,null,null,null,null,null,null,6,null,null,null,null,null,null,null,5,null,null,null,null,null,null,null,null,null,null,null,null,null,null,null,6,null,null,null,null,null,null,null,0,null,null,null,null,null,null,null,5,null,null,null,null,null,null,null,null,null,null,null,null,null,null,null,5,null,null,null,null,null,null,null,6.5,null,null,null,null,null,null,null,-0.5,null,null,null,null,null,null,null,0,null,null,null,null,null,null,null,0,null,null,null,null,null,null,null,5,null,null,null,null,null,null,null,9,null,null,null,null,null,null,null,12.6,null,null,null,null,null,null,null,-7.6]
[null,null,83925]
[]
[null,null,"Sta.838+23"]
[]
[null,null,"Totals:"]
[null,null,null,null,null,null,null,null,null,null,null,null,null,null,null,null,null,561,null,null,null,null,null,null,null,439,null,null,null,null,null,null,null,122,null,null,null,null,null,null,null,21,null,null,null,null,null,null,null,460,null,null,null,null,null,null,null,148,null,null,null,null,null,null,null,122,null,null,null,null,null,null,null,0,null,null,null,null,null,null,null,270,null,null,null,null,null,null,null,351,null,null,null,null,null,null,null,109,null,null,null,null,null,null,null,0,null,null,null,null,null,null,null,0,null,null,null,null,null,null,null,122,null,null,null,null,null,null,null,254,null,null,null,null,null,null,null,356,null,null,null,null,null,null,null,-234]
[]
[]
[]
[null,null,null,null,null,null,null,null,null,null,null,null,null,null,null,null,null,"Excavation, Class 10, Roadway & Borrow"]
[]
[null,null,null,null,null,null,null,null,null,null,null,null,null,null,null,null,null,null,null,null,null,null,null,null,null,null,null,null,null,null,null,null,null,null,null,null,null,null,null,null,null,351,null,null,null,null,null,null,null,"CY"]
[]
[]
[]
[null,null,null,null,null,null,null,null,null,null,null,null,null,null,null,null,null,"Excavation, Class 10, Waste"]
[]
[null,null,null,null,null,null,null,null,null,null,null,null,null,null,null,null,null,null,null,null,null,null,null,null,null,null,null,null,null,null,null,null,null,null,null,null,null,null,null,null,null,109,null,null,null,null,null,null,null,"CY"]
[]
[]
[]
[null,null,null,null,null,null,null,null,null,null,null,null,null,null,null,null,null,"Topsoil, Strip, Salvage, & Spread"]
[]
[null,null,null,null,null,null,null,null,null,null,null,null,null,null,null,null,null,null,null,null,null,null,null,null,null,null,null,null,null,null,null,null,null,null,null,null,null,null,null,null,null,122,null,null,null,null,null,null,null,"CY"]
[]
[]
[]
[null,null,null,null,null,null,null,null,null,null,null,null,null,null,null,null,null,"Topsoil, Furnish & Spread"]
[]
[null,null,null,null,null,null,null,null,null,null,null,null,null,null,null,null,null,null,null,null,null,null,null,null,null,null,null,null,null,null,null,null,null,null,null,null,null,null,null,null,null,167,null,null,null,null,null,null,null,"CY"]
[]
[]
[]
[]
[]
[]
[]
[]
[]
[]
[]
[]
[]
[]
[]
[]
[]
[]
[]
[]
[]
[]
[]
[]
[]
[]
[]
[]
[]
[]
[]
[]
[]
[]
[]
[]
[]
[]
[]
[]
[]
[]
[]
[]
[]
[]
[]
[]
[]
[]
[]
[]
[]
[]
[]
[]
[]
[]
[]
[]
[]
[]
[]
[]
[]
[]
[]
[]
[]
[]
[]
[]
[]
[]
[]
[]
[]
[]
[]
[]
[]
[]
[]
[]
[]
[]
[]
[]
[]
[]
[]
[]
[]
[]
[null,"","",null,null,null,null,null,null,null,null,null,null,null,null,null,null,"",null,null,null,null,null,null,null,"",null,null,null,null,null,null,null,"",null,null,null,null,null,null,null,"",null,null,null,null,null,null,null,"",null,null,null,null,null,null,null,"",null,null,null,null,null,null,null,"",null,null,null,null,null,null,null,"",null,null,null,null,null,null,null,"",null,null,null,null,null,null,null,null,null,null,null,null,null,null,null,"",null,null,null,null,null,null,null,"",null,null,null,null,null,null,null,null,null,null,null,null,null,null,null,"",null,null,null,null,null,null,null,null,null,null,null,null,null,null,null,null,"",null,null,null,null,null,null,null,null,null,null,null,null,null,null,"",null,null,null,null,null,null,null,"",null,null,null,null,null,null,null,"",null,null,null,null,null,null,null,"",null,null,null,null,null,null,null,"",null,null,null,null,null,null,null,""]
[]
[null,"FILE NO.",null,null,null,null,null,null,{"$f":"IF(ProjectInformation!$B$12<>\"\",ProjectInformation!$B$12,\"\")","v":""},null,null,null,null,null,null,{"$f":"UPPER(ProjectInformation!$B$8)","v":"ENGLISH"},null,null,null,null,null,null,"DESIGN TEAM",null,null,null,null,null,null,null,null,{"$f":"IF(AND(ProjectInformation!$B$3<>\"\",ProjectInformation!$B$4<>\"\",ProjectInformation!$B$5<>\"\"),ProjectInformation!$B$3&\"\\\"&ProjectInformation!$B$4&\"\\\"&ProjectInformation!$B$5,IF(AND(ProjectInformation!$B$3<>\"\",ProjectInformation!$B$4<>\"\"),ProjectInformation!$B$3&\"\\\"&ProjectInformation!$B$4,IF(ProjectInformation!$B$3<>\"\",ProjectInformation!$B$3,\"\")))","v":"WHKS & CO."},null,null,null,null,null,null,null,null,null,null,null,null,null,null,null,null,null,null,null,null,null,null,null,null,null,null,null,null,null,null,null,null,null,null,null,null,null,null,null,null,null,{"$f":"IF(ProjectInformation!$B$6<>\"\",ProjectInformation!$B$6,\"\")","v":"CLINTON"},null,null,null,null,null,null,null,null,null,null,null,null,null,null,null,null,null,null,null,null,null,null,null,null,null,null,null,null,null,null,null,null,null,null,null,null,null,null,null,null,"COUNTY",null,null,null,null,null,"PROJECT NUMBER",null,null,null,null,null,null,null,null,null,null,null,{"$f":"IF(ProjectInformation!$B$7<>\"\",ProjectInformation!$B$7,\"\")","v":"STPN-136-1(73)--2J-23"},null,null,null,null,null,null,null,null,null,null,null,null,null,null,null,null,null,null,null,null,null,null,null,null,null,null,null,null,null,"SHEET NUMBER",null,null,null,null,null,null,null,null,null,"T.18",null,null,null,null,null,null,null,{"$f":"IF(GE3361<>\"\",\"REVISED\",\"\")","v":""},null,null,null,null,null,{"$f":"IF(ProjectInformation!$B$9<>\"\",ProjectInformation!$B$9,\"\")","v":""}]
[]
[]
[]
[null,"10/29/2019     9:35:10 AM     bchezick     K:\\7805\\SA26 701BT Clinton Culverts\\Design\\DE Sheets\\2313601013t01 (2).xlsm"]
[""]
[]
[]
[null,null,null,null,null,null,null,null,null,null,null,null,null,null,null,null,null,null,null,null,null,null,null,null,null,"",null,null,null,null,null,null,null,"",null,null,null,null,null,null,null,"",null,null,null,null,null,null,null,"",null,null,null,null,null,null,null,"",null,null,null,null,null,null,null,"",null,null,null,null,null,null,null,"",null,null,null,null,null,null,null,"",null,null,null,null,null,null,null,null,null,null,null,null,null,null,null,"",null,null,null,null,null,null,null,"",null,null,null,null,null,null,null,null,null,null,null,null,null,null,null,"",null,null,null,null,null,null,null,null,null,null,null,null,null,null,null,null,"",null,null,null,null,null,null,null,null,null,null,null,null,null,null,"",null,null,null,null,null,null,null,null,null,null,null,null,null,null,null,"",null,null,null,null,null,null,null,"",null,null,null,null,null,null,null,"",null,null,null,null,null,null,null,""]
[]
[null,null,"Refer to Standard Road Plans EW-101 and EW-102.",null,null,null,null,null,null,null,null,null,null,null,null,null,null,null,null,null,null,null,null,null,null,null,null,null,null,null,null,null,null,null,null,null,null,null,null,null,null,null,null,null,null,null,null,null,null,null,null,null,null,null,null,null,null,null,"TABULATION OF TEMPLATE QUANTITIES AND ADJUSTMENTS",null,null,null,null,null,null,null,null,null,null,null,null,null,null,null,null,null,null,null,null,null,null,null,null,null,null,null,null,null,null,null,null,null,null,null,null,null,null,null,null,null,null,null,null,null,null,null,null,null,null,null,null,null,null,null,null,null,null,null,null,null,null,null,null,null,null,null,null,null,null,null,null,null,null,null,null,null,null,"107-28"]
[]
[null,null,null,null,null,null,null,null,null,null,null,null,null,null,null,null,null,null,null,null,null,null,null,null,null,null,null,null,null,null,null,null,null,null,null,null,null,null,null,null,null,null,null,null,null,null,null,null,null,null,null,null,null,null,null,null,null,null,null,null,null,null,null,null,null,null,null,null,null,null,null,null,null,null,null,null,null,null,null,null,null,null,null,null,null,null,null,null,null,null,null,null,null,null,null,null,null,null,null,null,null,null,null,null,null,null,null,null,null,null,null,null,null,null,null,null,null,null,null,null,null,null,null,null,null,null,null,null,null,null,null,null,null,null,null,null,null,"2015-04-21"]
[]
[null,null,null,null,null,null,null,null,null,null,null,null,null,null,null,null,null,"Cut",null,null,null,null,null,null,null,null,null,null,null,null,null,null,null,null,null,null,null,null,null,null,null,null,null,null,null,null,null,null,null,null,null,null,null,null,null,null,null,"Fill",null,null,null,null,null,null,null,null,null,null,null,null,null,null,null,null,null,null,null,null,null,null,null,null,null,null,null,null,null,null,null,null,null,null,null,null,null,null,null,null,null,null,null,null,null,null,null,"Checks (EW-102)",null,null,null,null,null,null,null,null,null,null,null,null,null,null,null,"Topsoil"]
[]
[]
[null,null,null,null,null,null,null,null,null,null,null,null,null,null,null,null,null,"[1]",null,null,null,null,null,null,null,"[2]",null,null,null,null,null,null,null,"[3]",null,null,null,null,null,null,null,"[4]",null,null,null,null,null,null,null,"[5]",null,null,null,null,null,null,null,"[6]",null,null,null,null,null,null,null,"[7]",null,null,null,null,null,null,null,"[8]",null,null,null,null,null,null,null,"[9]",null,null,null,null,null,null,null,"[10]",null,null,null,null,null,null,null,"[11]",null,null,null,null,null,null,null,"[12]",null,null,null,null,null,null,null,"[13]",null,null,null,null,null,null,null,"[14]",null,null,null,null,null,null,null,"[15]",null,null,null,null,null,null,null,"[16]",null,null,null,null,null,null,null,"[17]",null,null,null,null,null,null,null,"[18]",null,null,null,null,null,null,null,"[19]",null,null,null,null,null,null,null,"[20]",null,null,null,null,null,null,null,"[21]",null,null,null,null,null,null,null,"[22]"]
[]
[]
[null,null,null,null,null,null,null,null,null,null,null,null,null,null,null,null,null,{"$f":"IF('107_28'!$R$15<>\"\",'107_28'!$R$15,\"\")","v":""},null,null,null,null,null,null,null,{"$f":"IF('107_28'!$Z$15<>\"\",'107_28'!$Z$15,\"\")","v":""},null,null,null,null,null,null,null,{"$f":"IF('107_28'!$AH$15<>\"\",'107_28'!$AH$15,\"\")","v":""},null,null,null,null,null,null,null,{"$f":"IF('107_28'!$AP$15<>\"\",'107_28'!$AP$15,\"\")","v":""},null,null,null,null,null,null,null,{"$f":"IF('107_28'!$AX$15<>\"\",'107_28'!$AX$15,\"\")","v":""},null,null,null,null,null,null,null,{"$f":"IF('107_28'!$BF$15<>\"\",'107_28'!$BF$15,\"\")","v":""},null,null,null,null,null,null,null,{"$f":"IF('107_28'!$BN$15<>\"\",'107_28'!$BN$15,\"\")","v":""},null,null,null,null,null,null,null,{"$f":"IF('107_28'!$BV$15<>\"\",'107_28'!$BV$15,\"\")","v":""},null,null,null,null,null,null,null,{"$f":"IF('107_28'!$CD$15<>\"\",'107_28'!$CD$15,\"\")","v":""},null,null,null,null,null,null,null,{"$f":"IF('107_28'!$CL$15<>\"\",'107_28'!$CL$15,\"\")","v":""},null,null,null,null,null,null,null,{"$f":"IF('107_28'!$CT$15<>\"\",'107_28'!$CT$15,\"\")","v":""},null,null,null,null,null,null,null,{"$f":"IF('107_28'!$DB$15<>\"\",'107_28'!$DB$15,\"\")","v":""},null,null,null,null,null,null,null,{"$f":"IF('107_28'!$DJ$15<>\"\",'107_28'!$DJ$15,\"\")","v":""},null,null,null,null,null,null,null,{"$f":"IF('107_28'!$DR$15<>\"\",'107_28'!$DR$15,\"\")","v":""},null,null,null,null,null,null,null,{"$f":"IF('107_28'!$DZ$15<>\"\",'107_28'!$DZ$15,\"\")","v":""},null,null,null,null,null,null,null,{"$f":"IF('107_28'!$EH$15<>\"\",'107_28'!$EH$15,\"\")","v":""},null,null,null,null,null,null,null,{"$f":"IF('107_28'!$EP$15<>\"\",'107_28'!$EP$15,\"\")","v":""},null,null,null,null,null,null,null,{"$f":"IF('107_28'!$EX$15<>\"\",'107_28'!$EX$15,\"\")","v":""},null,null,null,null,null,null,null,{"$f":"IF('107_28'!$FF$15<>\"\",'107_28'!$FF$15,\"\")","v":""},null,null,null,null,null,null,null,{"$f":"IF('107_28'!$FN$15<>\"\",'107_28'!$FN$15,\"\")","v":""},null,null,null,null,null,null,null,{"$f":"IF('107_28'!$FV$15<>\"\",'107_28'!$FV$15,\"\")","v":""},null,null,null,null,null,null,null,{"$f":"IF('107_28'!$GD$15<>\"\",'107_28'!$GD$15,\"\")","v":""}]
[]
[]
[]
[null,null,"Station",null,null,null,null,null,null,null,null,null,null,null,null,null,null,"Total Cut Unadjusted\n\nVolume",null,null,null,null,null,null,null,"Total Class 10\nUnadjusted\n\nVolume",null,null,null,null,null,null,null,"Topsoil Cut\n\nVolume",null,null,null,null,null,null,null,"Manually\nCalculated Cut\nAdjustments\n(+/- Cut)",null,null,null,null,null,null,null,"Total\nCut\nAdjusted",null,null,null,null,null,null,null,"Total Fill\nUnadjusted\n\nVolume",null,null,null,null,null,null,null,"Existing Topsoil\nStripping\nUndercut\n(+ Fill)",null,null,null,null,null,null,null,"Manual\nCalculated Fill\nAdjustments\n(+/- Fill)",null,null,null,null,null,null,null,"Total\nFill\nAdjusted",null,null,null,null,null,null,null,"Total Fill\n Adjusted w/\nWeighted Average\n1.3  Shrink Factor",null,null,null,null,null,null,null,"Total Cut Adjusted\nMinus Fill w/ Shrink",null,null,null,null,null,null,null,"Approx. Fill Vol.\nBelow 5' & Above\n20' w/ Shrink",null,null,null,null,null,null,null,"Approx. Fill\nVolume Below 3'\nw/ Shrink",null,null,null,null,null,null,null,"Topsoil\nStripping Undercut\nVolume",null,null,null,null,null,null,null,"Topsoil\nPlacement\nUndercut\nVolume",null,null,null,null,null,null,null,"Topsoil Placement\nWith 1.4 Shrink\nFactor",null,null,null,null,null,null,null,"Topsoil Stripping\nMinus Topsoil\nPlacement\nw/Shrink"]
[]
[]
[]
[]
[]
[]
[]
[]
[]
[]
[]
[]
[]
[]
[]
[]
[]
[]
[null,null,"Sta.844+27"]
[]
[null,null,84325]
[null,null,null,null,null,null,null,null,null,null,null,null,null,null,null,null,null,47,null,null,null,null,null,null,null,35,null,null,null,null,null,null,null,12,null,null,null,null,null,null,null,null,null,null,null,null,null,null,null,35,null,null,null,null,null,null,null,15,null,null,null,null,null,null,null,12,null,null,null,null,null,null,null,null,null,null,null,null,null,null,null,27,null,null,null,null,null,null,null,35.1,null,null,null,null,null,null,null,-0.2,null,null,null,null,null,null,null,0,null,null,null,null,null,null,null,0,null,null,null,null,null,null,null,12,null,null,null,null,null,null,null,24,null,null,null,null,null,null,null,33.6,null,null,null,null,null,null,null,-21.6]
[null,null,84350]
[null,null,null,null,null,null,null,null,null,null,null,null,null,null,null,null,null,112,null,null,null,null,null,null,null,97,null,null,null,null,null,null,null,15,null,null,null,null,null,null,null,null,null,null,null,null,null,null,null,97,null,null,null,null,null,null,null,34,null,null,null,null,null,null,null,15,null,null,null,null,null,null,null,null,null,null,null,null,null,null,null,49,null,null,null,null,null,null,null,63.7,null,null,null,null,null,null,null,33.299999999999997,null,null,null,null,null,null,null,0,null,null,null,null,null,null,null,0,null,null,null,null,null,null,null,15,null,null,null,null,null,null,null,30,null,null,null,null,null,null,null,42,null,null,null,null,null,null,null,-27]
[null,null,84375]
[null,null,null,null,null,null,null,null,null,null,null,null,null,null,null,null,null,181,null,null,null,null,null,null,null,163,null,null,null,null,null,null,null,18,null,null,null,null,null,null,null,null,null,null,null,null,null,null,null,163,null,null,null,null,null,null,null,38,null,null,null,null,null,null,null,18,null,null,null,null,null,null,null,null,null,null,null,null,null,null,null,56,null,null,null,null,null,null,null,72.8,null,null,null,null,null,null,null,90.2,null,null,null,null,null,null,null,0,null,null,null,null,null,null,null,0,null,null,null,null,null,null,null,18,null,null,null,null,null,null,null,36,null,null,null,null,null,null,null,50.4,null,null,null,null,null,null,null,-32.4]
[null,null,84400]
[null,null,null,null,null,null,null,null,null,null,null,null,null,null,null,null,null,184,null,null,null,null,null,null,null,166,null,null,null,null,null,null,null,18,null,null,null,null,null,null,null,null,null,null,null,null,null,null,null,166,null,null,null,null,null,null,null,48,null,null,null,null,null,null,null,18,null,null,null,null,null,null,null,null,null,null,null,null,null,null,null,66,null,null,null,null,null,null,null,85.8,null,null,null,null,null,null,null,80.2,null,null,null,null,null,null,null,0,null,null,null,null,null,null,null,0,null,null,null,null,null,null,null,18,null,null,null,null,null,null,null,37,null,null,null,null,null,null,null,51.8,null,null,null,null,null,null,null,-33.799999999999997]
[null,null,84425]
[null,null,null,null,null,null,null,null,null,null,null,null,null,null,null,null,null,14,null,null,null,null,null,null,null,13,null,null,null,null,null,null,null,1,null,null,null,null,null,null,null,null,null,null,null,null,null,null,null,13,null,null,null,null,null,null,null,5,null,null,null,null,null,null,null,1,null,null,null,null,null,null,null,null,null,null,null,null,null,null,null,6,null,null,null,null,null,null,null,7.8,null,null,null,null,null,null,null,5.2,null,null,null,null,null,null,null,0,null,null,null,null,null,null,null,0,null,null,null,null,null,null,null,1,null,null,null,null,null,null,null,4,null,null,null,null,null,null,null,5.6,null,null,null,null,null,null,null,-4.5999999999999996]
[null,null,84426.62]
[null,null,null,null,null,null,null,null,null,null,null,null,null,null,null,null,null,192,null,null,null,null,null,null,null,183,null,null,null,null,null,null,null,9,null,null,null,null,null,null,null,1095,null,null,null,null,null,null,null,1278,null,null,null,null,null,null,null,42,null,null,null,null,null,null,null,9,null,null,null,null,null,null,null,null,null,null,null,null,null,null,null,51,null,null,null,null,null,null,null,66.3,null,null,null,null,null,null,null,1211.7,null,null,null,null,null,null,null,0,null,null,null,null,null,null,null,0,null,null,null,null,null,null,null,9,null,null,null,null,null,null,null,51,null,null,null,null,null,null,null,71.400000000000006,null,null,null,null,null,null,null,-62.4]
[null,null,84450]
[null,null,null,null,null,null,null,null,null,null,null,null,null,null,null,null,null,123,null,null,null,null,null,null,null,108,null,null,null,null,null,null,null,15,null,null,null,null,null,null,null,null,null,null,null,null,null,null,null,108,null,null,null,null,null,null,null,0,null,null,null,null,null,null,null,15,null,null,null,null,null,null,null,null,null,null,null,null,null,null,null,15,null,null,null,null,null,null,null,19.5,null,null,null,null,null,null,null,88.5,null,null,null,null,null,null,null,0,null,null,null,null,null,null,null,0,null,null,null,null,null,null,null,15,null,null,null,null,null,null,null,29,null,null,null,null,null,null,null,40.6,null,null,null,null,null,null,null,-25.6]
[null,null,84475]
[null,null,null,null,null,null,null,null,null,null,null,null,null,null,null,null,null,54,null,null,null,null,null,null,null,45,null,null,null,null,null,null,null,9,null,null,null,null,null,null,null,null,null,null,null,null,null,null,null,45,null,null,null,null,null,null,null,0,null,null,null,null,null,null,null,9,null,null,null,null,null,null,null,null,null,null,null,null,null,null,null,9,null,null,null,null,null,null,null,11.7,null,null,null,null,null,null,null,33.299999999999997,null,null,null,null,null,null,null,0,null,null,null,null,null,null,null,0,null,null,null,null,null,null,null,9,null,null,null,null,null,null,null,18,null,null,null,null,null,null,null,25.2,null,null,null,null,null,null,null,-16.2]
[null,null,84500]
[]
[null,null,"Sta.844+27"]
[]
[null,null,"Totals:"]
[null,null,null,null,null,null,null,null,null,null,null,null,null,null,null,null,null,907,null,null,null,null,null,null,null,810,null,null,null,null,null,null,null,97,null,null,null,null,null,null,null,1095,null,null,null,null,null,null,null,1905,null,null,null,null,null,null,null,182,null,null,null,null,null,null,null,97,null,null,null,null,null,null,null,0,null,null,null,null,null,null,null,279,null,null,null,null,null,null,null,363,null,null,null,null,null,null,null,1543,null,null,null,null,null,null,null,0,null,null,null,null,null,null,null,0,null,null,null,null,null,null,null,97,null,null,null,null,null,null,null,229,null,null,null,null,null,null,null,321,null,null,null,null,null,null,null,-224]
[]
[]
[]
[null,null,null,null,null,null,null,null,null,null,null,null,null,null,null,null,null,"Excavation, Class 10, Roadway & Borrow"]
[]
[null,null,null,null,null,null,null,null,null,null,null,null,null,null,null,null,null,null,null,null,null,null,null,null,null,null,null,null,null,null,null,null,null,null,null,null,null,null,null,null,null,363,null,null,null,null,null,null,null,"CY"]
[]
[]
[]
[null,null,null,null,null,null,null,null,null,null,null,null,null,null,null,null,null,"Excavation, Class 10, Waste"]
[]
[null,null,null,null,null,null,null,null,null,null,null,null,null,null,null,null,null,null,null,null,null,null,null,null,null,null,null,null,null,null,null,null,null,null,null,null,null,null,null,null,null,1543,null,null,null,null,null,null,null,"CY"]
[]
[]
[]
[null,null,null,null,null,null,null,null,null,null,null,null,null,null,null,null,null,"Topsoil, Strip, Salvage, & Spread"]
[]
[null,null,null,null,null,null,null,null,null,null,null,null,null,null,null,null,null,null,null,null,null,null,null,null,null,null,null,null,null,null,null,null,null,null,null,null,null,null,null,null,null,97,null,null,null,null,null,null,null,"CY"]
[]
[]
[]
[null,null,null,null,null,null,null,null,null,null,null,null,null,null,null,null,null,"Topsoil, Furnish & Spread"]
[]
[null,null,null,null,null,null,null,null,null,null,null,null,null,null,null,null,null,null,null,null,null,null,null,null,null,null,null,null,null,null,null,null,null,null,null,null,null,null,null,null,null,160,null,null,null,null,null,null,null,"CY"]
[]
[]
[]
[]
[]
[]
[]
[]
[]
[]
[]
[]
[]
[]
[]
[]
[]
[]
[]
[]
[]
[]
[]
[]
[]
[]
[]
[]
[]
[]
[]
[]
[]
[]
[]
[]
[]
[]
[]
[]
[]
[]
[]
[]
[]
[]
[]
[]
[]
[]
[]
[]
[]
[]
[]
[]
[]
[]
[]
[]
[]
[]
[]
[]
[]
[]
[]
[]
[]
[]
[]
[]
[]
[]
[]
[]
[]
[]
[]
[]
[]
[]
[]
[]
[]
[]
[]
[]
[]
[]
[]
[]
[]
[]
[null,"","",null,null,null,null,null,null,null,null,null,null,null,null,null,null,"",null,null,null,null,null,null,null,"",null,null,null,null,null,null,null,"",null,null,null,null,null,null,null,"",null,null,null,null,null,null,null,"",null,null,null,null,null,null,null,"",null,null,null,null,null,null,null,"",null,null,null,null,null,null,null,"",null,null,null,null,null,null,null,"",null,null,null,null,null,null,null,null,null,null,null,null,null,null,null,"",null,null,null,null,null,null,null,"",null,null,null,null,null,null,null,null,null,null,null,null,null,null,null,"",null,null,null,null,null,null,null,null,null,null,null,null,null,null,null,null,"",null,null,null,null,null,null,null,null,null,null,null,null,null,null,"",null,null,null,null,null,null,null,"",null,null,null,null,null,null,null,"",null,null,null,null,null,null,null,"",null,null,null,null,null,null,null,"",null,null,null,null,null,null,null,""]
[]
[null,"FILE NO.",null,null,null,null,null,null,{"$f":"IF(ProjectInformation!$B$12<>\"\",ProjectInformation!$B$12,\"\")","v":""},null,null,null,null,null,null,{"$f":"UPPER(ProjectInformation!$B$8)","v":"ENGLISH"},null,null,null,null,null,null,"DESIGN TEAM",null,null,null,null,null,null,null,null,{"$f":"IF(AND(ProjectInformation!$B$3<>\"\",ProjectInformation!$B$4<>\"\",ProjectInformation!$B$5<>\"\"),ProjectInformation!$B$3&\"\\\"&ProjectInformation!$B$4&\"\\\"&ProjectInformation!$B$5,IF(AND(ProjectInformation!$B$3<>\"\",ProjectInformation!$B$4<>\"\"),ProjectInformation!$B$3&\"\\\"&ProjectInformation!$B$4,IF(ProjectInformation!$B$3<>\"\",ProjectInformation!$B$3,\"\")))","v":"WHKS & CO."},null,null,null,null,null,null,null,null,null,null,null,null,null,null,null,null,null,null,null,null,null,null,null,null,null,null,null,null,null,null,null,null,null,null,null,null,null,null,null,null,null,{"$f":"IF(ProjectInformation!$B$6<>\"\",ProjectInformation!$B$6,\"\")","v":"CLINTON"},null,null,null,null,null,null,null,null,null,null,null,null,null,null,null,null,null,null,null,null,null,null,null,null,null,null,null,null,null,null,null,null,null,null,null,null,null,null,null,null,"COUNTY",null,null,null,null,null,"PROJECT NUMBER",null,null,null,null,null,null,null,null,null,null,null,{"$f":"IF(ProjectInformation!$B$7<>\"\",ProjectInformation!$B$7,\"\")","v":"STPN-136-1(73)--2J-23"},null,null,null,null,null,null,null,null,null,null,null,null,null,null,null,null,null,null,null,null,null,null,null,null,null,null,null,null,null,"SHEET NUMBER",null,null,null,null,null,null,null,null,null,"T.19",null,null,null,null,null,null,null,{"$f":"IF(GE3548<>\"\",\"REVISED\",\"\")","v":""},null,null,null,null,null,{"$f":"IF(ProjectInformation!$B$9<>\"\",ProjectInformation!$B$9,\"\")","v":""}]
[]
[]
[]
[null,"10/29/2019     9:35:10 AM     bchezick     K:\\7805\\SA26 701BT Clinton Culverts\\Design\\DE Sheets\\2313601013t01 (2).xlsm"]
[""]
[]
[]
[null,null,null,null,null,null,null,null,null,null,null,null,null,null,null,null,null,null,null,null,null,null,null,null,null,"",null,null,null,null,null,null,null,"",null,null,null,null,null,null,null,"",null,null,null,null,null,null,null,"",null,null,null,null,null,null,null,"",null,null,null,null,null,null,null,"",null,null,null,null,null,null,null,"",null,null,null,null,null,null,null,"",null,null,null,null,null,null,null,null,null,null,null,null,null,null,null,"",null,null,null,null,null,null,null,"",null,null,null,null,null,null,null,null,null,null,null,null,null,null,null,"",null,null,null,null,null,null,null,null,null,null,null,null,null,null,null,null,"",null,null,null,null,null,null,null,null,null,null,null,null,null,null,"",null,null,null,null,null,null,null,null,null,null,null,null,null,null,null,"",null,null,null,null,null,null,null,"",null,null,null,null,null,null,null,"",null,null,null,null,null,null,null,""]
[]
[null,null,"Refer to Standard Road Plans EW-101 and EW-102.",null,null,null,null,null,null,null,null,null,null,null,null,null,null,null,null,null,null,null,null,null,null,null,null,null,null,null,null,null,null,null,null,null,null,null,null,null,null,null,null,null,null,null,null,null,null,null,null,null,null,null,null,null,null,null,"TABULATION OF TEMPLATE QUANTITIES AND ADJUSTMENTS",null,null,null,null,null,null,null,null,null,null,null,null,null,null,null,null,null,null,null,null,null,null,null,null,null,null,null,null,null,null,null,null,null,null,null,null,null,null,null,null,null,null,null,null,null,null,null,null,null,null,null,null,null,null,null,null,null,null,null,null,null,null,null,null,null,null,null,null,null,null,null,null,null,null,null,null,null,null,"107-28"]
[]
[null,null,null,null,null,null,null,null,null,null,null,null,null,null,null,null,null,null,null,null,null,null,null,null,null,null,null,null,null,null,null,null,null,null,null,null,null,null,null,null,null,null,null,null,null,null,null,null,null,null,null,null,null,null,null,null,null,null,null,null,null,null,null,null,null,null,null,null,null,null,null,null,null,null,null,null,null,null,null,null,null,null,null,null,null,null,null,null,null,null,null,null,null,null,null,null,null,null,null,null,null,null,null,null,null,null,null,null,null,null,null,null,null,null,null,null,null,null,null,null,null,null,null,null,null,null,null,null,null,null,null,null,null,null,null,null,null,"2015-04-21"]
[]
[null,null,null,null,null,null,null,null,null,null,null,null,null,null,null,null,null,"Cut",null,null,null,null,null,null,null,null,null,null,null,null,null,null,null,null,null,null,null,null,null,null,null,null,null,null,null,null,null,null,null,null,null,null,null,null,null,null,null,"Fill",null,null,null,null,null,null,null,null,null,null,null,null,null,null,null,null,null,null,null,null,null,null,null,null,null,null,null,null,null,null,null,null,null,null,null,null,null,null,null,null,null,null,null,null,null,null,null,"Checks (EW-102)",null,null,null,null,null,null,null,null,null,null,null,null,null,null,null,"Topsoil"]
[]
[]
[null,null,null,null,null,null,null,null,null,null,null,null,null,null,null,null,null,"[1]",null,null,null,null,null,null,null,"[2]",null,null,null,null,null,null,null,"[3]",null,null,null,null,null,null,null,"[4]",null,null,null,null,null,null,null,"[5]",null,null,null,null,null,null,null,"[6]",null,null,null,null,null,null,null,"[7]",null,null,null,null,null,null,null,"[8]",null,null,null,null,null,null,null,"[9]",null,null,null,null,null,null,null,"[10]",null,null,null,null,null,null,null,"[11]",null,null,null,null,null,null,null,"[12]",null,null,null,null,null,null,null,"[13]",null,null,null,null,null,null,null,"[14]",null,null,null,null,null,null,null,"[15]",null,null,null,null,null,null,null,"[16]",null,null,null,null,null,null,null,"[17]",null,null,null,null,null,null,null,"[18]",null,null,null,null,null,null,null,"[19]",null,null,null,null,null,null,null,"[20]",null,null,null,null,null,null,null,"[21]",null,null,null,null,null,null,null,"[22]"]
[]
[]
[null,null,null,null,null,null,null,null,null,null,null,null,null,null,null,null,null,{"$f":"IF('107_28'!$R$15<>\"\",'107_28'!$R$15,\"\")","v":""},null,null,null,null,null,null,null,{"$f":"IF('107_28'!$Z$15<>\"\",'107_28'!$Z$15,\"\")","v":""},null,null,null,null,null,null,null,{"$f":"IF('107_28'!$AH$15<>\"\",'107_28'!$AH$15,\"\")","v":""},null,null,null,null,null,null,null,{"$f":"IF('107_28'!$AP$15<>\"\",'107_28'!$AP$15,\"\")","v":""},null,null,null,null,null,null,null,{"$f":"IF('107_28'!$AX$15<>\"\",'107_28'!$AX$15,\"\")","v":""},null,null,null,null,null,null,null,{"$f":"IF('107_28'!$BF$15<>\"\",'107_28'!$BF$15,\"\")","v":""},null,null,null,null,null,null,null,{"$f":"IF('107_28'!$BN$15<>\"\",'107_28'!$BN$15,\"\")","v":""},null,null,null,null,null,null,null,{"$f":"IF('107_28'!$BV$15<>\"\",'107_28'!$BV$15,\"\")","v":""},null,null,null,null,null,null,null,{"$f":"IF('107_28'!$CD$15<>\"\",'107_28'!$CD$15,\"\")","v":""},null,null,null,null,null,null,null,{"$f":"IF('107_28'!$CL$15<>\"\",'107_28'!$CL$15,\"\")","v":""},null,null,null,null,null,null,null,{"$f":"IF('107_28'!$CT$15<>\"\",'107_28'!$CT$15,\"\")","v":""},null,null,null,null,null,null,null,{"$f":"IF('107_28'!$DB$15<>\"\",'107_28'!$DB$15,\"\")","v":""},null,null,null,null,null,null,null,{"$f":"IF('107_28'!$DJ$15<>\"\",'107_28'!$DJ$15,\"\")","v":""},null,null,null,null,null,null,null,{"$f":"IF('107_28'!$DR$15<>\"\",'107_28'!$DR$15,\"\")","v":""},null,null,null,null,null,null,null,{"$f":"IF('107_28'!$DZ$15<>\"\",'107_28'!$DZ$15,\"\")","v":""},null,null,null,null,null,null,null,{"$f":"IF('107_28'!$EH$15<>\"\",'107_28'!$EH$15,\"\")","v":""},null,null,null,null,null,null,null,{"$f":"IF('107_28'!$EP$15<>\"\",'107_28'!$EP$15,\"\")","v":""},null,null,null,null,null,null,null,{"$f":"IF('107_28'!$EX$15<>\"\",'107_28'!$EX$15,\"\")","v":""},null,null,null,null,null,null,null,{"$f":"IF('107_28'!$FF$15<>\"\",'107_28'!$FF$15,\"\")","v":""},null,null,null,null,null,null,null,{"$f":"IF('107_28'!$FN$15<>\"\",'107_28'!$FN$15,\"\")","v":""},null,null,null,null,null,null,null,{"$f":"IF('107_28'!$FV$15<>\"\",'107_28'!$FV$15,\"\")","v":""},null,null,null,null,null,null,null,{"$f":"IF('107_28'!$GD$15<>\"\",'107_28'!$GD$15,\"\")","v":""}]
[]
[]
[]
[null,null,"Station",null,null,null,null,null,null,null,null,null,null,null,null,null,null,"Total Cut Unadjusted\n\nVolume",null,null,null,null,null,null,null,"Total Class 10\nUnadjusted\n\nVolume",null,null,null,null,null,null,null,"Topsoil Cut\n\nVolume",null,null,null,null,null,null,null,"Manually\nCalculated Cut\nAdjustments\n(+/- Cut)",null,null,null,null,null,null,null,"Total\nCut\nAdjusted",null,null,null,null,null,null,null,"Total Fill\nUnadjusted\n\nVolume",null,null,null,null,null,null,null,"Existing Topsoil\nStripping\nUndercut\n(+ Fill)",null,null,null,null,null,null,null,"Manual\nCalculated Fill\nAdjustments\n(+/- Fill)",null,null,null,null,null,null,null,"Total\nFill\nAdjusted",null,null,null,null,null,null,null,"Total Fill\n Adjusted w/\nWeighted Average\n1.3  Shrink Factor",null,null,null,null,null,null,null,"Total Cut Adjusted\nMinus Fill w/ Shrink",null,null,null,null,null,null,null,"Approx. Fill Vol.\nBelow 5' & Above\n20' w/ Shrink",null,null,null,null,null,null,null,"Approx. Fill\nVolume Below 3'\nw/ Shrink",null,null,null,null,null,null,null,"Topsoil\nStripping Undercut\nVolume",null,null,null,null,null,null,null,"Topsoil\nPlacement\nUndercut\nVolume",null,null,null,null,null,null,null,"Topsoil Placement\nWith 1.4 Shrink\nFactor",null,null,null,null,null,null,null,"Topsoil Stripping\nMinus Topsoil\nPlacement\nw/Shrink"]
[]
[]
[]
[]
[]
[]
[]
[]
[]
[]
[]
[]
[]
[]
[]
[]
[]
[]
[null,null,"Sta.855+00"]
[]
[null,null,85425]
[null,null,null,null,null,null,null,null,null,null,null,null,null,null,null,null,null,26,null,null,null,null,null,null,null,19,null,null,null,null,null,null,null,7,null,null,null,null,null,null,null,null,null,null,null,null,null,null,null,19,null,null,null,null,null,null,null,6,null,null,null,null,null,null,null,7,null,null,null,null,null,null,null,null,null,null,null,null,null,null,null,13,null,null,null,null,null,null,null,16.899999999999999,null,null,null,null,null,null,null,2.1,null,null,null,null,null,null,null,0,null,null,null,null,null,null,null,0,null,null,null,null,null,null,null,7,null,null,null,null,null,null,null,14,null,null,null,null,null,null,null,19.600000000000001,null,null,null,null,null,null,null,-12.6]
[null,null,85450]
[null,null,null,null,null,null,null,null,null,null,null,null,null,null,null,null,null,64,null,null,null,null,null,null,null,41,null,null,null,null,null,null,null,23,null,null,null,null,null,null,null,null,null,null,null,null,null,null,null,41,null,null,null,null,null,null,null,95,null,null,null,null,null,null,null,23,null,null,null,null,null,null,null,null,null,null,null,null,null,null,null,118,null,null,null,null,null,null,null,153.4,null,null,null,null,null,null,null,-112.4,null,null,null,null,null,null,null,0,null,null,null,null,null,null,null,0,null,null,null,null,null,null,null,23,null,null,null,null,null,null,null,46,null,null,null,null,null,null,null,64.400000000000006,null,null,null,null,null,null,null,-41.4]
[null,null,85475]
[null,null,null,null,null,null,null,null,null,null,null,null,null,null,null,null,null,113,null,null,null,null,null,null,null,77,null,null,null,null,null,null,null,36,null,null,null,null,null,null,null,null,null,null,null,null,null,null,null,77,null,null,null,null,null,null,null,185,null,null,null,null,null,null,null,36,null,null,null,null,null,null,null,null,null,null,null,null,null,null,null,221,null,null,null,null,null,null,null,287.3,null,null,null,null,null,null,null,-210.3,null,null,null,null,null,null,null,0,null,null,null,null,null,null,null,0,null,null,null,null,null,null,null,36,null,null,null,null,null,null,null,72,null,null,null,null,null,null,null,100.8,null,null,null,null,null,null,null,-64.8]
[null,null,85500]
[null,null,null,null,null,null,null,null,null,null,null,null,null,null,null,null,null,104,null,null,null,null,null,null,null,69,null,null,null,null,null,null,null,35,null,null,null,null,null,null,null,null,null,null,null,null,null,null,null,69,null,null,null,null,null,null,null,184,null,null,null,null,null,null,null,35,null,null,null,null,null,null,null,null,null,null,null,null,null,null,null,219,null,null,null,null,null,null,null,284.7,null,null,null,null,null,null,null,-215.7,null,null,null,null,null,null,null,0,null,null,null,null,null,null,null,0,null,null,null,null,null,null,null,35,null,null,null,null,null,null,null,71,null,null,null,null,null,null,null,99.4,null,null,null,null,null,null,null,-64.400000000000006]
[null,null,85525]
[null,null,null,null,null,null,null,null,null,null,null,null,null,null,null,null,null,48,null,null,null,null,null,null,null,26,null,null,null,null,null,null,null,22,null,null,null,null,null,null,null,null,null,null,null,null,null,null,null,26,null,null,null,null,null,null,null,94,null,null,null,null,null,null,null,22,null,null,null,null,null,null,null,null,null,null,null,null,null,null,null,116,null,null,null,null,null,null,null,150.80000000000001,null,null,null,null,null,null,null,-124.8,null,null,null,null,null,null,null,0,null,null,null,null,null,null,null,0,null,null,null,null,null,null,null,22,null,null,null,null,null,null,null,45,null,null,null,null,null,null,null,63,null,null,null,null,null,null,null,-41]
[null,null,85550]
[null,null,null,null,null,null,null,null,null,null,null,null,null,null,null,null,null,36,null,null,null,null,null,null,null,25,null,null,null,null,null,null,null,11,null,null,null,null,null,null,null,null,null,null,null,null,null,null,null,25,null,null,null,null,null,null,null,7,null,null,null,null,null,null,null,11,null,null,null,null,null,null,null,null,null,null,null,null,null,null,null,18,null,null,null,null,null,null,null,23.4,null,null,null,null,null,null,null,1.6,null,null,null,null,null,null,null,0,null,null,null,null,null,null,null,0,null,null,null,null,null,null,null,11,null,null,null,null,null,null,null,22,null,null,null,null,null,null,null,30.8,null,null,null,null,null,null,null,-19.8]
[null,null,85575]
[]
[null,null,"Sta.855+00"]
[]
[null,null,"Totals:"]
[null,null,null,null,null,null,null,null,null,null,null,null,null,null,null,null,null,391,null,null,null,null,null,null,null,257,null,null,null,null,null,null,null,134,null,null,null,null,null,null,null,0,null,null,null,null,null,null,null,257,null,null,null,null,null,null,null,571,null,null,null,null,null,null,null,134,null,null,null,null,null,null,null,0,null,null,null,null,null,null,null,705,null,null,null,null,null,null,null,917,null,null,null,null,null,null,null,-660,null,null,null,null,null,null,null,0,null,null,null,null,null,null,null,0,null,null,null,null,null,null,null,134,null,null,null,null,null,null,null,270,null,null,null,null,null,null,null,378,null,null,null,null,null,null,null,-244]
[]
[]
[]
[null,null,null,null,null,null,null,null,null,null,null,null,null,null,null,null,null,"Excavation, Class 10, Roadway & Borrow"]
[]
[null,null,null,null,null,null,null,null,null,null,null,null,null,null,null,null,null,null,null,null,null,null,null,null,null,null,null,null,null,null,null,null,null,null,null,null,null,null,null,null,null,257,null,null,null,null,null,null,null,"CY"]
[]
[]
[]
[null,null,null,null,null,null,null,null,null,null,null,null,null,null,null,null,null,"Embankment-In-Place"]
[]
[null,null,null,null,null,null,null,null,null,null,null,null,null,null,null,null,null,null,null,null,null,null,null,null,null,null,null,null,null,null,null,null,null,null,null,null,null,null,null,null,null,508,null,null,null,null,null,null,null,"CY"]
[]
[]
[]
[null,null,null,null,null,null,null,null,null,null,null,null,null,null,null,null,null,"Topsoil, Trip, Salvage, & Spread"]
[]
[null,null,null,null,null,null,null,null,null,null,null,null,null,null,null,null,null,null,null,null,null,null,null,null,null,null,null,null,null,null,null,null,null,null,null,null,null,null,null,null,null,134,null,null,null,null,null,null,null,"CY"]
[]
[]
[]
[null,null,null,null,null,null,null,null,null,null,null,null,null,null,null,null,null,"Topsoil, Furnish & Spread"]
[]
[null,null,null,null,null,null,null,null,null,null,null,null,null,null,null,null,null,null,null,null,null,null,null,null,null,null,null,null,null,null,null,null,null,null,null,null,null,null,null,null,null,174,null,null,null,null,null,null,null,"CY"]
[]
[]
[]
[]
[]
[]
[]
[]
[]
[]
[]
[]
[]
[]
[]
[]
[]
[]
[]
[]
[]
[]
[]
[]
[]
[]
[]
[]
[]
[]
[]
[]
[]
[]
[]
[]
[]
[]
[]
[]
[]
[]
[]
[]
[]
[]
[]
[]
[]
[]
[]
[]
[]
[]
[]
[]
[]
[]
[]
[]
[]
[]
[]
[]
[]
[]
[]
[]
[]
[]
[]
[]
[]
[]
[]
[]
[]
[]
[]
[]
[]
[]
[]
[]
[]
[]
[]
[]
[]
[]
[]
[]
[]
[]
[]
[]
[]
[]
[null,"","",null,null,null,null,null,null,null,null,null,null,null,null,null,null,"",null,null,null,null,null,null,null,"",null,null,null,null,null,null,null,"",null,null,null,null,null,null,null,"",null,null,null,null,null,null,null,"",null,null,null,null,null,null,null,"",null,null,null,null,null,null,null,"",null,null,null,null,null,null,null,"",null,null,null,null,null,null,null,"",null,null,null,null,null,null,null,null,null,null,null,null,null,null,null,"",null,null,null,null,null,null,null,"",null,null,null,null,null,null,null,null,null,null,null,null,null,null,null,"",null,null,null,null,null,null,null,null,null,null,null,null,null,null,null,null,"",null,null,null,null,null,null,null,null,null,null,null,null,null,null,"",null,null,null,null,null,null,null,"",null,null,null,null,null,null,null,"",null,null,null,null,null,null,null,"",null,null,null,null,null,null,null,"",null,null,null,null,null,null,null,""]
[]
[null,"FILE NO.",null,null,null,null,null,null,{"$f":"IF(ProjectInformation!$B$12<>\"\",ProjectInformation!$B$12,\"\")","v":""},null,null,null,null,null,null,{"$f":"UPPER(ProjectInformation!$B$8)","v":"ENGLISH"},null,null,null,null,null,null,"DESIGN TEAM",null,null,null,null,null,null,null,null,{"$f":"IF(AND(ProjectInformation!$B$3<>\"\",ProjectInformation!$B$4<>\"\",ProjectInformation!$B$5<>\"\"),ProjectInformation!$B$3&\"\\\"&ProjectInformation!$B$4&\"\\\"&ProjectInformation!$B$5,IF(AND(ProjectInformation!$B$3<>\"\",ProjectInformation!$B$4<>\"\"),ProjectInformation!$B$3&\"\\\"&ProjectInformation!$B$4,IF(ProjectInformation!$B$3<>\"\",ProjectInformation!$B$3,\"\")))","v":"WHKS & CO."},null,null,null,null,null,null,null,null,null,null,null,null,null,null,null,null,null,null,null,null,null,null,null,null,null,null,null,null,null,null,null,null,null,null,null,null,null,null,null,null,null,{"$f":"IF(ProjectInformation!$B$6<>\"\",ProjectInformation!$B$6,\"\")","v":"CLINTON"},null,null,null,null,null,null,null,null,null,null,null,null,null,null,null,null,null,null,null,null,null,null,null,null,null,null,null,null,null,null,null,null,null,null,null,null,null,null,null,null,"COUNTY",null,null,null,null,null,"PROJECT NUMBER",null,null,null,null,null,null,null,null,null,null,null,{"$f":"IF(ProjectInformation!$B$7<>\"\",ProjectInformation!$B$7,\"\")","v":"STPN-136-1(73)--2J-23"},null,null,null,null,null,null,null,null,null,null,null,null,null,null,null,null,null,null,null,null,null,null,null,null,null,null,null,null,null,"SHEET NUMBER",null,null,null,null,null,null,null,null,null,"T.20",null,null,null,null,null,null,null,{"$f":"IF(GE3735<>\"\",\"REVISED\",\"\")","v":""},null,null,null,null,null,{"$f":"IF(ProjectInformation!$B$9<>\"\",ProjectInformation!$B$9,\"\")","v":""}]
[]
[]
[]
[null,"10/29/2019     9:35:10 AM     bchezick     K:\\7805\\SA26 701BT Clinton Culverts\\Design\\DE Sheets\\2313601013t01 (2).xlsm"]
[""]
[]
[]
[null,null,null,null,null,null,null,null,null,null,null,null,null,null,null,null,null,null,null,null,null,null,null,null,null,"",null,null,null,null,null,null,null,"",null,null,null,null,null,null,null,"",null,null,null,null,null,null,null,"",null,null,null,null,null,null,null,"",null,null,null,null,null,null,null,"",null,null,null,null,null,null,null,"",null,null,null,null,null,null,null,"",null,null,null,null,null,null,null,null,null,null,null,null,null,null,null,"",null,null,null,null,null,null,null,"",null,null,null,null,null,null,null,null,null,null,null,null,null,null,null,"",null,null,null,null,null,null,null,null,null,null,null,null,null,null,null,null,"",null,null,null,null,null,null,null,null,null,null,null,null,null,null,"",null,null,null,null,null,null,null,null,null,null,null,null,null,null,null,"",null,null,null,null,null,null,null,"",null,null,null,null,null,null,null,"",null,null,null,null,null,null,null,""]
[]
[null,null,"Refer to Standard Road Plans EW-101 and EW-102.",null,null,null,null,null,null,null,null,null,null,null,null,null,null,null,null,null,null,null,null,null,null,null,null,null,null,null,null,null,null,null,null,null,null,null,null,null,null,null,null,null,null,null,null,null,null,null,null,null,null,null,null,null,null,null,"TABULATION OF TEMPLATE QUANTITIES AND ADJUSTMENTS",null,null,null,null,null,null,null,null,null,null,null,null,null,null,null,null,null,null,null,null,null,null,null,null,null,null,null,null,null,null,null,null,null,null,null,null,null,null,null,null,null,null,null,null,null,null,null,null,null,null,null,null,null,null,null,null,null,null,null,null,null,null,null,null,null,null,null,null,null,null,null,null,null,null,null,null,null,null,"107-28"]
[]
[null,null,null,null,null,null,null,null,null,null,null,null,null,null,null,null,null,null,null,null,null,null,null,null,null,null,null,null,null,null,null,null,null,null,null,null,null,null,null,null,null,null,null,null,null,null,null,null,null,null,null,null,null,null,null,null,null,null,null,null,null,null,null,null,null,null,null,null,null,null,null,null,null,null,null,null,null,null,null,null,null,null,null,null,null,null,null,null,null,null,null,null,null,null,null,null,null,null,null,null,null,null,null,null,null,null,null,null,null,null,null,null,null,null,null,null,null,null,null,null,null,null,null,null,null,null,null,null,null,null,null,null,null,null,null,null,null,"2015-04-21"]
[]
[null,null,null,null,null,null,null,null,null,null,null,null,null,null,null,null,null,"Cut",null,null,null,null,null,null,null,null,null,null,null,null,null,null,null,null,null,null,null,null,null,null,null,null,null,null,null,null,null,null,null,null,null,null,null,null,null,null,null,"Fill",null,null,null,null,null,null,null,null,null,null,null,null,null,null,null,null,null,null,null,null,null,null,null,null,null,null,null,null,null,null,null,null,null,null,null,null,null,null,null,null,null,null,null,null,null,null,null,"Checks (EW-102)",null,null,null,null,null,null,null,null,null,null,null,null,null,null,null,"Topsoil"]
[]
[]
[null,null,null,null,null,null,null,null,null,null,null,null,null,null,null,null,null,"[1]",null,null,null,null,null,null,null,"[2]",null,null,null,null,null,null,null,"[3]",null,null,null,null,null,null,null,"[4]",null,null,null,null,null,null,null,"[5]",null,null,null,null,null,null,null,"[6]",null,null,null,null,null,null,null,"[7]",null,null,null,null,null,null,null,"[8]",null,null,null,null,null,null,null,"[9]",null,null,null,null,null,null,null,"[10]",null,null,null,null,null,null,null,"[11]",null,null,null,null,null,null,null,"[12]",null,null,null,null,null,null,null,"[13]",null,null,null,null,null,null,null,"[14]",null,null,null,null,null,null,null,"[15]",null,null,null,null,null,null,null,"[16]",null,null,null,null,null,null,null,"[17]",null,null,null,null,null,null,null,"[18]",null,null,null,null,null,null,null,"[19]",null,null,null,null,null,null,null,"[20]",null,null,null,null,null,null,null,"[21]",null,null,null,null,null,null,null,"[22]"]
[]
[]
[null,null,null,null,null,null,null,null,null,null,null,null,null,null,null,null,null,{"$f":"IF('107_28'!$R$15<>\"\",'107_28'!$R$15,\"\")","v":""},null,null,null,null,null,null,null,{"$f":"IF('107_28'!$Z$15<>\"\",'107_28'!$Z$15,\"\")","v":""},null,null,null,null,null,null,null,{"$f":"IF('107_28'!$AH$15<>\"\",'107_28'!$AH$15,\"\")","v":""},null,null,null,null,null,null,null,{"$f":"IF('107_28'!$AP$15<>\"\",'107_28'!$AP$15,\"\")","v":""},null,null,null,null,null,null,null,{"$f":"IF('107_28'!$AX$15<>\"\",'107_28'!$AX$15,\"\")","v":""},null,null,null,null,null,null,null,{"$f":"IF('107_28'!$BF$15<>\"\",'107_28'!$BF$15,\"\")","v":""},null,null,null,null,null,null,null,{"$f":"IF('107_28'!$BN$15<>\"\",'107_28'!$BN$15,\"\")","v":""},null,null,null,null,null,null,null,{"$f":"IF('107_28'!$BV$15<>\"\",'107_28'!$BV$15,\"\")","v":""},null,null,null,null,null,null,null,{"$f":"IF('107_28'!$CD$15<>\"\",'107_28'!$CD$15,\"\")","v":""},null,null,null,null,null,null,null,{"$f":"IF('107_28'!$CL$15<>\"\",'107_28'!$CL$15,\"\")","v":""},null,null,null,null,null,null,null,{"$f":"IF('107_28'!$CT$15<>\"\",'107_28'!$CT$15,\"\")","v":""},null,null,null,null,null,null,null,{"$f":"IF('107_28'!$DB$15<>\"\",'107_28'!$DB$15,\"\")","v":""},null,null,null,null,null,null,null,{"$f":"IF('107_28'!$DJ$15<>\"\",'107_28'!$DJ$15,\"\")","v":""},null,null,null,null,null,null,null,{"$f":"IF('107_28'!$DR$15<>\"\",'107_28'!$DR$15,\"\")","v":""},null,null,null,null,null,null,null,{"$f":"IF('107_28'!$DZ$15<>\"\",'107_28'!$DZ$15,\"\")","v":""},null,null,null,null,null,null,null,{"$f":"IF('107_28'!$EH$15<>\"\",'107_28'!$EH$15,\"\")","v":""},null,null,null,null,null,null,null,{"$f":"IF('107_28'!$EP$15<>\"\",'107_28'!$EP$15,\"\")","v":""},null,null,null,null,null,null,null,{"$f":"IF('107_28'!$EX$15<>\"\",'107_28'!$EX$15,\"\")","v":""},null,null,null,null,null,null,null,{"$f":"IF('107_28'!$FF$15<>\"\",'107_28'!$FF$15,\"\")","v":""},null,null,null,null,null,null,null,{"$f":"IF('107_28'!$FN$15<>\"\",'107_28'!$FN$15,\"\")","v":""},null,null,null,null,null,null,null,{"$f":"IF('107_28'!$FV$15<>\"\",'107_28'!$FV$15,\"\")","v":""},null,null,null,null,null,null,null,{"$f":"IF('107_28'!$GD$15<>\"\",'107_28'!$GD$15,\"\")","v":""}]
[]
[]
[]
[null,null,"Station",null,null,null,null,null,null,null,null,null,null,null,null,null,null,"Total Cut Unadjusted\n\nVolume",null,null,null,null,null,null,null,"Total Class 10\nUnadjusted\n\nVolume",null,null,null,null,null,null,null,"Topsoil Cut\n\nVolume",null,null,null,null,null,null,null,"Manually\nCalculated Cut\nAdjustments\n(+/- Cut)",null,null,null,null,null,null,null,"Total\nCut\nAdjusted",null,null,null,null,null,null,null,"Total Fill\nUnadjusted\n\nVolume",null,null,null,null,null,null,null,"Existing Topsoil\nStripping\nUndercut\n(+ Fill)",null,null,null,null,null,null,null,"Manual\nCalculated Fill\nAdjustments\n(+/- Fill)",null,null,null,null,null,null,null,"Total\nFill\nAdjusted",null,null,null,null,null,null,null,"Total Fill\n Adjusted w/\nWeighted Average\n1.3  Shrink Factor",null,null,null,null,null,null,null,"Total Cut Adjusted\nMinus Fill w/ Shrink",null,null,null,null,null,null,null,"Approx. Fill Vol.\nBelow 5' & Above\n20' w/ Shrink",null,null,null,null,null,null,null,"Approx. Fill\nVolume Below 3'\nw/ Shrink",null,null,null,null,null,null,null,"Topsoil\nStripping Undercut\nVolume",null,null,null,null,null,null,null,"Topsoil\nPlacement\nUndercut\nVolume",null,null,null,null,null,null,null,"Topsoil Placement\nWith 1.4 Shrink\nFactor",null,null,null,null,null,null,null,"Topsoil Stripping\nMinus Topsoil\nPlacement\nw/Shrink"]
[]
[]
[]
[]
[]
[]
[]
[]
[]
[]
[]
[]
[]
[]
[]
[]
[]
[]
[null,null,"Sta.909+07"]
[]
[null,null,90850]
[null,null,null,null,null,null,null,null,null,null,null,null,null,null,null,null,null,15,null,null,null,null,null,null,null,10,null,null,null,null,null,null,null,5,null,null,null,null,null,null,null,null,null,null,null,null,null,null,null,10,null,null,null,null,null,null,null,4,null,null,null,null,null,null,null,5,null,null,null,null,null,null,null,null,null,null,null,null,null,null,null,9,null,null,null,null,null,null,null,11.7,null,null,null,null,null,null,null,-1.7,null,null,null,null,null,null,null,0,null,null,null,null,null,null,null,0,null,null,null,null,null,null,null,5,null,null,null,null,null,null,null,11,null,null,null,null,null,null,null,15.4,null,null,null,null,null,null,null,-10.4]
[null,null,90875]
[null,null,null,null,null,null,null,null,null,null,null,null,null,null,null,null,null,22,null,null,null,null,null,null,null,16,null,null,null,null,null,null,null,6,null,null,null,null,null,null,null,null,null,null,null,null,null,null,null,16,null,null,null,null,null,null,null,8,null,null,null,null,null,null,null,6,null,null,null,null,null,null,null,null,null,null,null,null,null,null,null,14,null,null,null,null,null,null,null,18.2,null,null,null,null,null,null,null,-2.2000000000000002,null,null,null,null,null,null,null,0,null,null,null,null,null,null,null,0,null,null,null,null,null,null,null,6,null,null,null,null,null,null,null,15,null,null,null,null,null,null,null,21,null,null,null,null,null,null,null,-15]
[null,null,90900]
[null,null,null,null,null,null,null,null,null,null,null,null,null,null,null,null,null,8,null,null,null,null,null,null,null,6,null,null,null,null,null,null,null,2,null,null,null,null,null,null,null,null,null,null,null,null,null,null,null,6,null,null,null,null,null,null,null,2,null,null,null,null,null,null,null,2,null,null,null,null,null,null,null,null,null,null,null,null,null,null,null,4,null,null,null,null,null,null,null,5.2,null,null,null,null,null,null,null,0.8,null,null,null,null,null,null,null,0,null,null,null,null,null,null,null,0,null,null,null,null,null,null,null,2,null,null,null,null,null,null,null,5,null,null,null,null,null,null,null,7,null,null,null,null,null,null,null,-5]
[null,null,90907.199999999997]
[null,null,null,null,null,null,null,null,null,null,null,null,null,null,null,null,null,20,null,null,null,null,null,null,null,15,null,null,null,null,null,null,null,5,null,null,null,null,null,null,null,null,null,null,null,null,null,null,null,15,null,null,null,null,null,null,null,6,null,null,null,null,null,null,null,5,null,null,null,null,null,null,null,null,null,null,null,null,null,null,null,11,null,null,null,null,null,null,null,14.3,null,null,null,null,null,null,null,0.7,null,null,null,null,null,null,null,0,null,null,null,null,null,null,null,0,null,null,null,null,null,null,null,5,null,null,null,null,null,null,null,12,null,null,null,null,null,null,null,16.8,null,null,null,null,null,null,null,-11.8]
[null,null,90925]
[null,null,null,null,null,null,null,null,null,null,null,null,null,null,null,null,null,21,null,null,null,null,null,null,null,14,null,null,null,null,null,null,null,7,null,null,null,null,null,null,null,null,null,null,null,null,null,null,null,14,null,null,null,null,null,null,null,8,null,null,null,null,null,null,null,7,null,null,null,null,null,null,null,null,null,null,null,null,null,null,null,15,null,null,null,null,null,null,null,19.5,null,null,null,null,null,null,null,-5.5,null,null,null,null,null,null,null,0,null,null,null,null,null,null,null,0,null,null,null,null,null,null,null,7,null,null,null,null,null,null,null,15,null,null,null,null,null,null,null,21,null,null,null,null,null,null,null,-14]
[null,null,90950]
[null,null,null,null,null,null,null,null,null,null,null,null,null,null,null,null,null,13,null,null,null,null,null,null,null,8,null,null,null,null,null,null,null,5,null,null,null,null,null,null,null,null,null,null,null,null,null,null,null,8,null,null,null,null,null,null,null,4,null,null,null,null,null,null,null,5,null,null,null,null,null,null,null,null,null,null,null,null,null,null,null,9,null,null,null,null,null,null,null,11.7,null,null,null,null,null,null,null,-3.7,null,null,null,null,null,null,null,0,null,null,null,null,null,null,null,0,null,null,null,null,null,null,null,5,null,null,null,null,null,null,null,11,null,null,null,null,null,null,null,15.4,null,null,null,null,null,null,null,-10.4]
[null,null,90975]
[]
[null,null,"Sta.909+07"]
[]
[null,null,"Totals:"]
[null,null,null,null,null,null,null,null,null,null,null,null,null,null,null,null,null,99,null,null,null,null,null,null,null,69,null,null,null,null,null,null,null,30,null,null,null,null,null,null,null,0,null,null,null,null,null,null,null,69,null,null,null,null,null,null,null,32,null,null,null,null,null,null,null,30,null,null,null,null,null,null,null,0,null,null,null,null,null,null,null,62,null,null,null,null,null,null,null,81,null,null,null,null,null,null,null,-12,null,null,null,null,null,null,null,0,null,null,null,null,null,null,null,0,null,null,null,null,null,null,null,30,null,null,null,null,null,null,null,69,null,null,null,null,null,null,null,97,null,null,null,null,null,null,null,-67]
[]
[]
[]
[null,null,null,null,null,null,null,null,null,null,null,null,null,null,null,null,null,"Excavation, Class 10, Roadway & Borrow"]
[]
[null,null,null,null,null,null,null,null,null,null,null,null,null,null,null,null,null,null,null,null,null,null,null,null,null,null,null,null,null,null,null,null,null,null,null,null,null,null,null,null,null,69,null,null,null,null,null,null,null,"CY"]
[]
[]
[]
[null,null,null,null,null,null,null,null,null,null,null,null,null,null,null,null,null,"Embankment-In-Place"]
[]
[null,null,null,null,null,null,null,null,null,null,null,null,null,null,null,null,null,null,null,null,null,null,null,null,null,null,null,null,null,null,null,null,null,null,null,null,null,null,null,null,null,9,null,null,null,null,null,null,null,"CY"]
[]
[]
[]
[null,null,null,null,null,null,null,null,null,null,null,null,null,null,null,null,null,"Topsoil, Trip, Salvage, & Spread"]
[]
[null,null,null,null,null,null,null,null,null,null,null,null,null,null,null,null,null,null,null,null,null,null,null,null,null,null,null,null,null,null,null,null,null,null,null,null,null,null,null,null,null,30,null,null,null,null,null,null,null,"CY"]
[]
[]
[]
[null,null,null,null,null,null,null,null,null,null,null,null,null,null,null,null,null,"Topsoil, Furnish & Spread"]
[]
[null,null,null,null,null,null,null,null,null,null,null,null,null,null,null,null,null,null,null,null,null,null,null,null,null,null,null,null,null,null,null,null,null,null,null,null,null,null,null,null,null,48,null,null,null,null,null,null,null,"CY"]
[]
[]
[]
[]
[]
[]
[]
[]
[]
[]
[]
[]
[]
[]
[]
[]
[]
[]
[]
[]
[]
[]
[]
[]
[]
[]
[]
[]
[]
[]
[]
[]
[]
[]
[]
[]
[]
[]
[]
[]
[]
[]
[]
[]
[]
[]
[]
[]
[]
[]
[]
[]
[]
[]
[]
[]
[]
[]
[]
[]
[]
[]
[]
[]
[]
[]
[]
[]
[]
[]
[]
[]
[]
[]
[]
[]
[]
[]
[]
[]
[]
[]
[]
[]
[]
[]
[]
[]
[]
[]
[]
[]
[]
[]
[]
[]
[]
[]
[null,"","",null,null,null,null,null,null,null,null,null,null,null,null,null,null,"",null,null,null,null,null,null,null,"",null,null,null,null,null,null,null,"",null,null,null,null,null,null,null,"",null,null,null,null,null,null,null,"",null,null,null,null,null,null,null,"",null,null,null,null,null,null,null,"",null,null,null,null,null,null,null,"",null,null,null,null,null,null,null,"",null,null,null,null,null,null,null,null,null,null,null,null,null,null,null,"",null,null,null,null,null,null,null,"",null,null,null,null,null,null,null,null,null,null,null,null,null,null,null,"",null,null,null,null,null,null,null,null,null,null,null,null,null,null,null,null,"",null,null,null,null,null,null,null,null,null,null,null,null,null,null,"",null,null,null,null,null,null,null,"",null,null,null,null,null,null,null,"",null,null,null,null,null,null,null,"",null,null,null,null,null,null,null,"",null,null,null,null,null,null,null,""]
[]
[null,"FILE NO.",null,null,null,null,null,null,{"$f":"IF(ProjectInformation!$B$12<>\"\",ProjectInformation!$B$12,\"\")","v":""},null,null,null,null,null,null,{"$f":"UPPER(ProjectInformation!$B$8)","v":"ENGLISH"},null,null,null,null,null,null,"DESIGN TEAM",null,null,null,null,null,null,null,null,{"$f":"IF(AND(ProjectInformation!$B$3<>\"\",ProjectInformation!$B$4<>\"\",ProjectInformation!$B$5<>\"\"),ProjectInformation!$B$3&\"\\\"&ProjectInformation!$B$4&\"\\\"&ProjectInformation!$B$5,IF(AND(ProjectInformation!$B$3<>\"\",ProjectInformation!$B$4<>\"\"),ProjectInformation!$B$3&\"\\\"&ProjectInformation!$B$4,IF(ProjectInformation!$B$3<>\"\",ProjectInformation!$B$3,\"\")))","v":"WHKS & CO."},null,null,null,null,null,null,null,null,null,null,null,null,null,null,null,null,null,null,null,null,null,null,null,null,null,null,null,null,null,null,null,null,null,null,null,null,null,null,null,null,null,{"$f":"IF(ProjectInformation!$B$6<>\"\",ProjectInformation!$B$6,\"\")","v":"CLINTON"},null,null,null,null,null,null,null,null,null,null,null,null,null,null,null,null,null,null,null,null,null,null,null,null,null,null,null,null,null,null,null,null,null,null,null,null,null,null,null,null,"COUNTY",null,null,null,null,null,"PROJECT NUMBER",null,null,null,null,null,null,null,null,null,null,null,{"$f":"IF(ProjectInformation!$B$7<>\"\",ProjectInformation!$B$7,\"\")","v":"STPN-136-1(73)--2J-23"},null,null,null,null,null,null,null,null,null,null,null,null,null,null,null,null,null,null,null,null,null,null,null,null,null,null,null,null,null,"SHEET NUMBER",null,null,null,null,null,null,null,null,null,"T.22",null,null,null,null,null,null,null,{"$f":"IF(GE3922<>\"\",\"REVISED\",\"\")","v":""},null,null,null,null,null,{"$f":"IF(ProjectInformation!$B$9<>\"\",ProjectInformation!$B$9,\"\")","v":""}]
[]
[]
[]
[null,"10/29/2019     9:35:10 AM     bchezick     K:\\7805\\SA26 701BT Clinton Culverts\\Design\\DE Sheets\\2313601013t01 (2).xlsm"]
[""]
[]
[]
[null,null,null,null,null,null,null,null,null,null,null,null,null,null,null,null,null,null,null,null,null,null,null,null,null,"",null,null,null,null,null,null,null,"",null,null,null,null,null,null,null,"",null,null,null,null,null,null,null,"",null,null,null,null,null,null,null,"",null,null,null,null,null,null,null,"",null,null,null,null,null,null,null,"",null,null,null,null,null,null,null,"",null,null,null,null,null,null,null,null,null,null,null,null,null,null,null,"",null,null,null,null,null,null,null,"",null,null,null,null,null,null,null,null,null,null,null,null,null,null,null,"",null,null,null,null,null,null,null,null,null,null,null,null,null,null,null,null,"",null,null,null,null,null,null,null,null,null,null,null,null,null,null,"",null,null,null,null,null,null,null,null,null,null,null,null,null,null,null,"",null,null,null,null,null,null,null,"",null,null,null,null,null,null,null,"",null,null,null,null,null,null,null,""]
[]
[null,null,"Refer to Standard Road Plans EW-101 and EW-102.",null,null,null,null,null,null,null,null,null,null,null,null,null,null,null,null,null,null,null,null,null,null,null,null,null,null,null,null,null,null,null,null,null,null,null,null,null,null,null,null,null,null,null,null,null,null,null,null,null,null,null,null,null,null,null,"TABULATION OF TEMPLATE QUANTITIES AND ADJUSTMENTS",null,null,null,null,null,null,null,null,null,null,null,null,null,null,null,null,null,null,null,null,null,null,null,null,null,null,null,null,null,null,null,null,null,null,null,null,null,null,null,null,null,null,null,null,null,null,null,null,null,null,null,null,null,null,null,null,null,null,null,null,null,null,null,null,null,null,null,null,null,null,null,null,null,null,null,null,null,null,"107-28"]
[]
[null,null,null,null,null,null,null,null,null,null,null,null,null,null,null,null,null,null,null,null,null,null,null,null,null,null,null,null,null,null,null,null,null,null,null,null,null,null,null,null,null,null,null,null,null,null,null,null,null,null,null,null,null,null,null,null,null,null,null,null,null,null,null,null,null,null,null,null,null,null,null,null,null,null,null,null,null,null,null,null,null,null,null,null,null,null,null,null,null,null,null,null,null,null,null,null,null,null,null,null,null,null,null,null,null,null,null,null,null,null,null,null,null,null,null,null,null,null,null,null,null,null,null,null,null,null,null,null,null,null,null,null,null,null,null,null,null,"2015-04-21"]
[]
[null,null,null,null,null,null,null,null,null,null,null,null,null,null,null,null,null,"Cut",null,null,null,null,null,null,null,null,null,null,null,null,null,null,null,null,null,null,null,null,null,null,null,null,null,null,null,null,null,null,null,null,null,null,null,null,null,null,null,"Fill",null,null,null,null,null,null,null,null,null,null,null,null,null,null,null,null,null,null,null,null,null,null,null,null,null,null,null,null,null,null,null,null,null,null,null,null,null,null,null,null,null,null,null,null,null,null,null,"Checks (EW-102)",null,null,null,null,null,null,null,null,null,null,null,null,null,null,null,"Topsoil"]
[]
[]
[null,null,null,null,null,null,null,null,null,null,null,null,null,null,null,null,null,"[1]",null,null,null,null,null,null,null,"[2]",null,null,null,null,null,null,null,"[3]",null,null,null,null,null,null,null,"[4]",null,null,null,null,null,null,null,"[5]",null,null,null,null,null,null,null,"[6]",null,null,null,null,null,null,null,"[7]",null,null,null,null,null,null,null,"[8]",null,null,null,null,null,null,null,"[9]",null,null,null,null,null,null,null,"[10]",null,null,null,null,null,null,null,"[11]",null,null,null,null,null,null,null,"[12]",null,null,null,null,null,null,null,"[13]",null,null,null,null,null,null,null,"[14]",null,null,null,null,null,null,null,"[15]",null,null,null,null,null,null,null,"[16]",null,null,null,null,null,null,null,"[17]",null,null,null,null,null,null,null,"[18]",null,null,null,null,null,null,null,"[19]",null,null,null,null,null,null,null,"[20]",null,null,null,null,null,null,null,"[21]",null,null,null,null,null,null,null,"[22]"]
[]
[]
[null,null,null,null,null,null,null,null,null,null,null,null,null,null,null,null,null,{"$f":"IF('107_28'!$R$15<>\"\",'107_28'!$R$15,\"\")","v":""},null,null,null,null,null,null,null,{"$f":"IF('107_28'!$Z$15<>\"\",'107_28'!$Z$15,\"\")","v":""},null,null,null,null,null,null,null,{"$f":"IF('107_28'!$AH$15<>\"\",'107_28'!$AH$15,\"\")","v":""},null,null,null,null,null,null,null,{"$f":"IF('107_28'!$AP$15<>\"\",'107_28'!$AP$15,\"\")","v":""},null,null,null,null,null,null,null,{"$f":"IF('107_28'!$AX$15<>\"\",'107_28'!$AX$15,\"\")","v":""},null,null,null,null,null,null,null,{"$f":"IF('107_28'!$BF$15<>\"\",'107_28'!$BF$15,\"\")","v":""},null,null,null,null,null,null,null,{"$f":"IF('107_28'!$BN$15<>\"\",'107_28'!$BN$15,\"\")","v":""},null,null,null,null,null,null,null,{"$f":"IF('107_28'!$BV$15<>\"\",'107_28'!$BV$15,\"\")","v":""},null,null,null,null,null,null,null,{"$f":"IF('107_28'!$CD$15<>\"\",'107_28'!$CD$15,\"\")","v":""},null,null,null,null,null,null,null,{"$f":"IF('107_28'!$CL$15<>\"\",'107_28'!$CL$15,\"\")","v":""},null,null,null,null,null,null,null,{"$f":"IF('107_28'!$CT$15<>\"\",'107_28'!$CT$15,\"\")","v":""},null,null,null,null,null,null,null,{"$f":"IF('107_28'!$DB$15<>\"\",'107_28'!$DB$15,\"\")","v":""},null,null,null,null,null,null,null,{"$f":"IF('107_28'!$DJ$15<>\"\",'107_28'!$DJ$15,\"\")","v":""},null,null,null,null,null,null,null,{"$f":"IF('107_28'!$DR$15<>\"\",'107_28'!$DR$15,\"\")","v":""},null,null,null,null,null,null,null,{"$f":"IF('107_28'!$DZ$15<>\"\",'107_28'!$DZ$15,\"\")","v":""},null,null,null,null,null,null,null,{"$f":"IF('107_28'!$EH$15<>\"\",'107_28'!$EH$15,\"\")","v":""},null,null,null,null,null,null,null,{"$f":"IF('107_28'!$EP$15<>\"\",'107_28'!$EP$15,\"\")","v":""},null,null,null,null,null,null,null,{"$f":"IF('107_28'!$EX$15<>\"\",'107_28'!$EX$15,\"\")","v":""},null,null,null,null,null,null,null,{"$f":"IF('107_28'!$FF$15<>\"\",'107_28'!$FF$15,\"\")","v":""},null,null,null,null,null,null,null,{"$f":"IF('107_28'!$FN$15<>\"\",'107_28'!$FN$15,\"\")","v":""},null,null,null,null,null,null,null,{"$f":"IF('107_28'!$FV$15<>\"\",'107_28'!$FV$15,\"\")","v":""},null,null,null,null,null,null,null,{"$f":"IF('107_28'!$GD$15<>\"\",'107_28'!$GD$15,\"\")","v":""}]
[]
[]
[]
[null,null,"Station",null,null,null,null,null,null,null,null,null,null,null,null,null,null,"Total Cut Unadjusted\n\nVolume",null,null,null,null,null,null,null,"Total Class 10\nUnadjusted\n\nVolume",null,null,null,null,null,null,null,"Topsoil Cut\n\nVolume",null,null,null,null,null,null,null,"Manually\nCalculated Cut\nAdjustments\n(+/- Cut)",null,null,null,null,null,null,null,"Total\nCut\nAdjusted",null,null,null,null,null,null,null,"Total Fill\nUnadjusted\n\nVolume",null,null,null,null,null,null,null,"Existing Topsoil\nStripping\nUndercut\n(+ Fill)",null,null,null,null,null,null,null,"Manual\nCalculated Fill\nAdjustments\n(+/- Fill)",null,null,null,null,null,null,null,"Total\nFill\nAdjusted",null,null,null,null,null,null,null,"Total Fill\n Adjusted w/\nWeighted Average\n1.3  Shrink Factor",null,null,null,null,null,null,null,"Total Cut Adjusted\nMinus Fill w/ Shrink",null,null,null,null,null,null,null,"Approx. Fill Vol.\nBelow 5' & Above\n20' w/ Shrink",null,null,null,null,null,null,null,"Approx. Fill\nVolume Below 3'\nw/ Shrink",null,null,null,null,null,null,null,"Topsoil\nStripping Undercut\nVolume",null,null,null,null,null,null,null,"Topsoil\nPlacement\nUndercut\nVolume",null,null,null,null,null,null,null,"Topsoil Placement\nWith 1.4 Shrink\nFactor",null,null,null,null,null,null,null,"Topsoil Stripping\nMinus Topsoil\nPlacement\nw/Shrink"]
[]
[]
[]
[]
[]
[]
[]
[]
[]
[]
[]
[]
[]
[]
[]
[]
[]
[]
[]
[]
[null,null,"Summary:"]
[]
[]
[]
[null,null,"Sta.80+13"]
[null,null,null,null,null,null,null,null,null,null,null,null,null,null,null,null,null,521,null,null,null,null,null,null,null,439,null,null,null,null,null,null,null,82,null,null,null,null,null,null,null,280,null,null,null,null,null,null,null,719,null,null,null,null,null,null,null,39,null,null,null,null,null,null,null,82,null,null,null,null,null,null,null,12,null,null,null,null,null,null,null,133,null,null,null,null,null,null,null,173,null,null,null,null,null,null,null,547,null,null,null,null,null,null,null,0,null,null,null,null,null,null,null,0,null,null,null,null,null,null,null,82,null,null,null,null,null,null,null,143,null,null,null,null,null,null,null,201,null,null,null,null,null,null,null,-119]
[null,null,"Sta.96+34"]
[null,null,null,null,null,null,null,null,null,null,null,null,null,null,null,null,null,306,null,null,null,null,null,null,null,194,null,null,null,null,null,null,null,112,null,null,null,null,null,null,null,0,null,null,null,null,null,null,null,194,null,null,null,null,null,null,null,200,null,null,null,null,null,null,null,112,null,null,null,null,null,null,null,0,null,null,null,null,null,null,null,312,null,null,null,null,null,null,null,406,null,null,null,null,null,null,null,-212,null,null,null,null,null,null,null,0,null,null,null,null,null,null,null,0,null,null,null,null,null,null,null,112,null,null,null,null,null,null,null,226,null,null,null,null,null,null,null,317,null,null,null,null,null,null,null,-205]
[null,null,"Sta.108+76"]
[null,null,null,null,null,null,null,null,null,null,null,null,null,null,null,null,null,526,null,null,null,null,null,null,null,421,null,null,null,null,null,null,null,105,null,null,null,null,null,null,null,0,null,null,null,null,null,null,null,421,null,null,null,null,null,null,null,158,null,null,null,null,null,null,null,105,null,null,null,null,null,null,null,0,null,null,null,null,null,null,null,263,null,null,null,null,null,null,null,342,null,null,null,null,null,null,null,80,null,null,null,null,null,null,null,0,null,null,null,null,null,null,null,0,null,null,null,null,null,null,null,105,null,null,null,null,null,null,null,211,null,null,null,null,null,null,null,296,null,null,null,null,null,null,null,-191]
[null,null,"Sta.383+30"]
[null,null,null,null,null,null,null,null,null,null,null,null,null,null,null,null,null,417,null,null,null,null,null,null,null,256,null,null,null,null,null,null,null,161,null,null,null,null,null,null,null,0,null,null,null,null,null,null,null,256,null,null,null,null,null,null,null,1327,null,null,null,null,null,null,null,161,null,null,null,null,null,null,null,0,null,null,null,null,null,null,null,1488,null,null,null,null,null,null,null,1935,null,null,null,null,null,null,null,-1679,null,null,null,null,null,null,null,0,null,null,null,null,null,null,null,0,null,null,null,null,null,null,null,161,null,null,null,null,null,null,null,314,null,null,null,null,null,null,null,440,null,null,null,null,null,null,null,-279]
[null,null,"Sta.539+60"]
[null,null,null,null,null,null,null,null,null,null,null,null,null,null,null,null,null,249,null,null,null,null,null,null,null,140,null,null,null,null,null,null,null,109,null,null,null,null,null,null,null,0,null,null,null,null,null,null,null,140,null,null,null,null,null,null,null,403,null,null,null,null,null,null,null,109,null,null,null,null,null,null,null,0,null,null,null,null,null,null,null,512,null,null,null,null,null,null,null,666,null,null,null,null,null,null,null,-526,null,null,null,null,null,null,null,0,null,null,null,null,null,null,null,0,null,null,null,null,null,null,null,109,null,null,null,null,null,null,null,216,null,null,null,null,null,null,null,303,null,null,null,null,null,null,null,-194]
[null,null,"Sta.553+83"]
[null,null,null,null,null,null,null,null,null,null,null,null,null,null,null,null,null,424,null,null,null,null,null,null,null,305,null,null,null,null,null,null,null,119,null,null,null,null,null,null,null,0,null,null,null,null,null,null,null,305,null,null,null,null,null,null,null,269,null,null,null,null,null,null,null,119,null,null,null,null,null,null,null,0,null,null,null,null,null,null,null,388,null,null,null,null,null,null,null,505,null,null,null,null,null,null,null,-200,null,null,null,null,null,null,null,0,null,null,null,null,null,null,null,0,null,null,null,null,null,null,null,119,null,null,null,null,null,null,null,245,null,null,null,null,null,null,null,343,null,null,null,null,null,null,null,-224]
[null,null,"Sta.571+62"]
[null,null,null,null,null,null,null,null,null,null,null,null,null,null,null,null,null,310,null,null,null,null,null,null,null,168,null,null,null,null,null,null,null,142,null,null,null,null,null,null,null,0,null,null,null,null,null,null,null,168,null,null,null,null,null,null,null,329,null,null,null,null,null,null,null,142,null,null,null,null,null,null,null,0,null,null,null,null,null,null,null,471,null,null,null,null,null,null,null,613,null,null,null,null,null,null,null,-445,null,null,null,null,null,null,null,0,null,null,null,null,null,null,null,0,null,null,null,null,null,null,null,142,null,null,null,null,null,null,null,277,null,null,null,null,null,null,null,388,null,null,null,null,null,null,null,-246]
[null,null,"Sta.581+05"]
[null,null,null,null,null,null,null,null,null,null,null,null,null,null,null,null,null,32,null,null,null,null,null,null,null,20,null,null,null,null,null,null,null,12,null,null,null,null,null,null,null,0,null,null,null,null,null,null,null,20,null,null,null,null,null,null,null,20,null,null,null,null,null,null,null,12,null,null,null,null,null,null,null,0,null,null,null,null,null,null,null,32,null,null,null,null,null,null,null,42,null,null,null,null,null,null,null,-22,null,null,null,null,null,null,null,0,null,null,null,null,null,null,null,0,null,null,null,null,null,null,null,12,null,null,null,null,null,null,null,22,null,null,null,null,null,null,null,31,null,null,null,null,null,null,null,-19]
[null,null,"Sta.651+43"]
[null,null,null,null,null,null,null,null,null,null,null,null,null,null,null,null,null,640,null,null,null,null,null,null,null,526,null,null,null,null,null,null,null,114,null,null,null,null,null,null,null,0,null,null,null,null,null,null,null,526,null,null,null,null,null,null,null,118,null,null,null,null,null,null,null,114,null,null,null,null,null,null,null,0,null,null,null,null,null,null,null,232,null,null,null,null,null,null,null,302,null,null,null,null,null,null,null,225,null,null,null,null,null,null,null,0,null,null,null,null,null,null,null,0,null,null,null,null,null,null,null,114,null,null,null,null,null,null,null,228,null,null,null,null,null,null,null,320,null,null,null,null,null,null,null,-206]
[null,null,"Sta.704+70"]
[null,null,null,null,null,null,null,null,null,null,null,null,null,null,null,null,null,53,null,null,null,null,null,null,null,22,null,null,null,null,null,null,null,31,null,null,null,null,null,null,null,0,null,null,null,null,null,null,null,22,null,null,null,null,null,null,null,143,null,null,null,null,null,null,null,31,null,null,null,null,null,null,null,0,null,null,null,null,null,null,null,174,null,null,null,null,null,null,null,227,null,null,null,null,null,null,null,-205,null,null,null,null,null,null,null,0,null,null,null,null,null,null,null,0,null,null,null,null,null,null,null,31,null,null,null,null,null,null,null,60,null,null,null,null,null,null,null,84,null,null,null,null,null,null,null,-53]
[null,null,"Sta.743+25"]
[null,null,null,null,null,null,null,null,null,null,null,null,null,null,null,null,null,417,null,null,null,null,null,null,null,286,null,null,null,null,null,null,null,131,null,null,null,null,null,null,null,0,null,null,null,null,null,null,null,286,null,null,null,null,null,null,null,281,null,null,null,null,null,null,null,131,null,null,null,null,null,null,null,0,null,null,null,null,null,null,null,412,null,null,null,null,null,null,null,536,null,null,null,null,null,null,null,-250,null,null,null,null,null,null,null,0,null,null,null,null,null,null,null,0,null,null,null,null,null,null,null,131,null,null,null,null,null,null,null,256,null,null,null,null,null,null,null,359,null,null,null,null,null,null,null,-228]
[null,null,"Sta.766+09"]
[null,null,null,null,null,null,null,null,null,null,null,null,null,null,null,null,null,885,null,null,null,null,null,null,null,734,null,null,null,null,null,null,null,151,null,null,null,null,null,null,null,0,null,null,null,null,null,null,null,734,null,null,null,null,null,null,null,520,null,null,null,null,null,null,null,151,null,null,null,null,null,null,null,0,null,null,null,null,null,null,null,671,null,null,null,null,null,null,null,873,null,null,null,null,null,null,null,-139,null,null,null,null,null,null,null,0,null,null,null,null,null,null,null,0,null,null,null,null,null,null,null,151,null,null,null,null,null,null,null,294,null,null,null,null,null,null,null,412,null,null,null,null,null,null,null,-261]
[null,null,"Sta.788+20"]
[null,null,null,null,null,null,null,null,null,null,null,null,null,null,null,null,null,728,null,null,null,null,null,null,null,619,null,null,null,null,null,null,null,109,null,null,null,null,null,null,null,33,null,null,null,null,null,null,null,652,null,null,null,null,null,null,null,65,null,null,null,null,null,null,null,109,null,null,null,null,null,null,null,0,null,null,null,null,null,null,null,174,null,null,null,null,null,null,null,227,null,null,null,null,null,null,null,426,null,null,null,null,null,null,null,0,null,null,null,null,null,null,null,0,null,null,null,null,null,null,null,109,null,null,null,null,null,null,null,205,null,null,null,null,null,null,null,287,null,null,null,null,null,null,null,-178]
[null,null,"Sta.800+82"]
[null,null,null,null,null,null,null,null,null,null,null,null,null,null,null,null,null,633,null,null,null,null,null,null,null,538,null,null,null,null,null,null,null,95,null,null,null,null,null,null,null,83,null,null,null,null,null,null,null,621,null,null,null,null,null,null,null,117,null,null,null,null,null,null,null,95,null,null,null,null,null,null,null,0,null,null,null,null,null,null,null,212,null,null,null,null,null,null,null,276,null,null,null,null,null,null,null,346,null,null,null,null,null,null,null,0,null,null,null,null,null,null,null,0,null,null,null,null,null,null,null,95,null,null,null,null,null,null,null,189,null,null,null,null,null,null,null,265,null,null,null,null,null,null,null,-170]
[null,null,"Sta.808+67"]
[null,null,null,null,null,null,null,null,null,null,null,null,null,null,null,null,null,472,null,null,null,null,null,null,null,336,null,null,null,null,null,null,null,136,null,null,null,null,null,null,null,83,null,null,null,null,null,null,null,419,null,null,null,null,null,null,null,505,null,null,null,null,null,null,null,136,null,null,null,null,null,null,null,0,null,null,null,null,null,null,null,641,null,null,null,null,null,null,null,834,null,null,null,null,null,null,null,-415,null,null,null,null,null,null,null,0,null,null,null,null,null,null,null,0,null,null,null,null,null,null,null,136,null,null,null,null,null,null,null,235,null,null,null,null,null,null,null,329,null,null,null,null,null,null,null,-193]
[null,null,"Sta.817+91"]
[null,null,null,null,null,null,null,null,null,null,null,null,null,null,null,null,null,527,null,null,null,null,null,null,null,421,null,null,null,null,null,null,null,106,null,null,null,null,null,null,null,34,null,null,null,null,null,null,null,455,null,null,null,null,null,null,null,162,null,null,null,null,null,null,null,106,null,null,null,null,null,null,null,0,null,null,null,null,null,null,null,268,null,null,null,null,null,null,null,349,null,null,null,null,null,null,null,107,null,null,null,null,null,null,null,0,null,null,null,null,null,null,null,0,null,null,null,null,null,null,null,106,null,null,null,null,null,null,null,222,null,null,null,null,null,null,null,311,null,null,null,null,null,null,null,-205]
[null,null,"Sta.830+53"]
[null,null,null,null,null,null,null,null,null,null,null,null,null,null,null,null,null,385,null,null,null,null,null,null,null,281,null,null,null,null,null,null,null,104,null,null,null,null,null,null,null,0,null,null,null,null,null,null,null,281,null,null,null,null,null,null,null,289,null,null,null,null,null,null,null,104,null,null,null,null,null,null,null,0,null,null,null,null,null,null,null,393,null,null,null,null,null,null,null,511,null,null,null,null,null,null,null,-230,null,null,null,null,null,null,null,0,null,null,null,null,null,null,null,0,null,null,null,null,null,null,null,104,null,null,null,null,null,null,null,206,null,null,null,null,null,null,null,289,null,null,null,null,null,null,null,-185]
[null,null,"Sta.838+23"]
[null,null,null,null,null,null,null,null,null,null,null,null,null,null,null,null,null,561,null,null,null,null,null,null,null,439,null,null,null,null,null,null,null,122,null,null,null,null,null,null,null,21,null,null,null,null,null,null,null,460,null,null,null,null,null,null,null,148,null,null,null,null,null,null,null,122,null,null,null,null,null,null,null,0,null,null,null,null,null,null,null,270,null,null,null,null,null,null,null,351,null,null,null,null,null,null,null,109,null,null,null,null,null,null,null,0,null,null,null,null,null,null,null,0,null,null,null,null,null,null,null,122,null,null,null,null,null,null,null,254,null,null,null,null,null,null,null,356,null,null,null,null,null,null,null,-234]
[null,null,"Sta.844+27"]
[null,null,null,null,null,null,null,null,null,null,null,null,null,null,null,null,null,907,null,null,null,null,null,null,null,810,null,null,null,null,null,null,null,97,null,null,null,null,null,null,null,1095,null,null,null,null,null,null,null,1905,null,null,null,null,null,null,null,182,null,null,null,null,null,null,null,97,null,null,null,null,null,null,null,0,null,null,null,null,null,null,null,279,null,null,null,null,null,null,null,363,null,null,null,null,null,null,null,1543,null,null,null,null,null,null,null,0,null,null,null,null,null,null,null,0,null,null,null,null,null,null,null,97,null,null,null,null,null,null,null,229,null,null,null,null,null,null,null,321,null,null,null,null,null,null,null,-224]
[null,null,"Sta.855+00"]
[null,null,null,null,null,null,null,null,null,null,null,null,null,null,null,null,null,391,null,null,null,null,null,null,null,257,null,null,null,null,null,null,null,134,null,null,null,null,null,null,null,0,null,null,null,null,null,null,null,257,null,null,null,null,null,null,null,571,null,null,null,null,null,null,null,134,null,null,null,null,null,null,null,0,null,null,null,null,null,null,null,705,null,null,null,null,null,null,null,917,null,null,null,null,null,null,null,-660,null,null,null,null,null,null,null,0,null,null,null,null,null,null,null,0,null,null,null,null,null,null,null,134,null,null,null,null,null,null,null,270,null,null,null,null,null,null,null,378,null,null,null,null,null,null,null,-244]
[null,null,"Sta.878+68"]
[null,null,null,null,null,null,null,null,null,null,null,null,null,null,null,null,null,106,null,null,null,null,null,null,null,26,null,null,null,null,null,null,null,80,null,null,null,null,null,null,null,0,null,null,null,null,null,null,null,26,null,null,null,null,null,null,null,656,null,null,null,null,null,null,null,80,null,null,null,null,null,null,null,0,null,null,null,null,null,null,null,736,null,null,null,null,null,null,null,957,null,null,null,null,null,null,null,-931,null,null,null,null,null,null,null,0,null,null,null,null,null,null,null,0,null,null,null,null,null,null,null,80,null,null,null,null,null,null,null,157,null,null,null,null,null,null,null,220,null,null,null,null,null,null,null,-140]
[null,null,"Sta.909+07"]
[null,null,null,null,null,null,null,null,null,null,null,null,null,null,null,null,null,99,null,null,null,null,null,null,null,69,null,null,null,null,null,null,null,30,null,null,null,null,null,null,null,0,null,null,null,null,null,null,null,69,null,null,null,null,null,null,null,32,null,null,null,null,null,null,null,30,null,null,null,null,null,null,null,0,null,null,null,null,null,null,null,62,null,null,null,null,null,null,null,81,null,null,null,null,null,null,null,-12,null,null,null,null,null,null,null,0,null,null,null,null,null,null,null,0,null,null,null,null,null,null,null,30,null,null,null,null,null,null,null,69,null,null,null,null,null,null,null,97,null,null,null,null,null,null,null,-67]
[]
[]
[null,null,"Project"]
[]
[null,null,"Totals:"]
[null,null,null,null,null,null,null,null,null,null,null,null,null,null,null,null,null,9621,null,null,null,null,null,null,null,7330,null,null,null,null,null,null,null,2291,null,null,null,null,null,null,null,1629,null,null,null,null,null,null,null,8959,null,null,null,null,null,null,null,6548,null,null,null,null,null,null,null,2291,null,null,null,null,null,null,null,12,null,null,null,null,null,null,null,8851,null,null,null,null,null,null,null,11516,null,null,null,null,null,null,null,-2550,null,null,null,null,null,null,null,0,null,null,null,null,null,null,null,0,null,null,null,null,null,null,null,2291,null,null,null,null,null,null,null,4546,null,null,null,null,null,null,null,6372,null,null,null,null,null,null,null,-4081]
[]
[]
[]
[null,null,null,null,null,null,null,null,null,null,null,null,null,null,null,null,null,"Excavation, Class 10, Roadway & Borrow"]
[]
[null,null,null,null,null,null,null,null,null,null,null,null,null,null,null,null,null,null,null,null,null,null,null,null,null,null,null,null,null,null,null,null,null,null,null,null,null,null,null,null,null,5560,null,null,null,null,null,null,null,"CY"]
[]
[]
[]
[null,null,null,null,null,null,null,null,null,null,null,null,null,null,null,null,null,"Embankment-In-Place"]
[]
[null,null,null,null,null,null,null,null,null,null,null,null,null,null,null,null,null,null,null,null,null,null,null,null,null,null,null,null,null,null,null,null,null,null,null,null,null,null,null,null,null,4560,null,null,null,null,null,null,null,"CY"]
[]
[]
[]
[null,null,null,null,null,null,null,null,null,null,null,null,null,null,null,null,null,"Excavation, Class 10, Waste"]
[]
[null,null,null,null,null,null,null,null,null,null,null,null,null,null,null,null,null,null,null,null,null,null,null,null,null,null,null,null,null,null,null,null,null,null,null,null,null,null,null,null,null,3383,null,null,null,null,null,null,null,"CY"]
[]
[]
[]
[null,null,null,null,null,null,null,null,null,null,null,null,null,null,null,null,null,"Topsoil, Strip, Salvage, & Spread"]
[]
[null,null,null,null,null,null,null,null,null,null,null,null,null,null,null,null,null,null,null,null,null,null,null,null,null,null,null,null,null,null,null,null,null,null,null,null,null,null,null,null,null,2282,null,null,null,null,null,null,null,"CY"]
[]
[]
[]
[null,null,null,null,null,null,null,null,null,null,null,null,null,null,null,null,null,"Topsoil, Furnish & Spread"]
[]
[null,null,null,null,null,null,null,null,null,null,null,null,null,null,null,null,null,null,null,null,null,null,null,null,null,null,null,null,null,null,null,null,null,null,null,null,null,null,null,null,null,2902,null,null,null,null,null,null,null,"CY"]
[]
[]
[]
[]
[]
[]
[]
[]
[]
[]
[]
[]
[]
[]
[]
[]
[]
[]
[]
[]
[]
[]
[]
[]
[]
[]
[]
[]
[]
[]
[]
[]
[]
[]
[]
[]
[]
[]
[]
[]
[]
[]
[]
[]
[]
[]
[]
[]
[]
[]
[]
[]
[]
[]
[]
[]
[null,"","",null,null,null,null,null,null,null,null,null,null,null,null,null,null,"",null,null,null,null,null,null,null,"",null,null,null,null,null,null,null,"",null,null,null,null,null,null,null,"",null,null,null,null,null,null,null,"",null,null,null,null,null,null,null,"",null,null,null,null,null,null,null,"",null,null,null,null,null,null,null,"",null,null,null,null,null,null,null,"",null,null,null,null,null,null,null,null,null,null,null,null,null,null,null,"",null,null,null,null,null,null,null,"",null,null,null,null,null,null,null,null,null,null,null,null,null,null,null,"",null,null,null,null,null,null,null,null,null,null,null,null,null,null,null,null,"",null,null,null,null,null,null,null,null,null,null,null,null,null,null,"",null,null,null,null,null,null,null,"",null,null,null,null,null,null,null,"",null,null,null,null,null,null,null,"",null,null,null,null,null,null,null,"",null,null,null,null,null,null,null,""]
[]
[null,"FILE NO.",null,null,null,null,null,null,{"$f":"IF(ProjectInformation!$B$12<>\"\",ProjectInformation!$B$12,\"\")","v":""},null,null,null,null,null,null,{"$f":"UPPER(ProjectInformation!$B$8)","v":"ENGLISH"},null,null,null,null,null,null,"DESIGN TEAM",null,null,null,null,null,null,null,null,{"$f":"IF(AND(ProjectInformation!$B$3<>\"\",ProjectInformation!$B$4<>\"\",ProjectInformation!$B$5<>\"\"),ProjectInformation!$B$3&\"\\\"&ProjectInformation!$B$4&\"\\\"&ProjectInformation!$B$5,IF(AND(ProjectInformation!$B$3<>\"\",ProjectInformation!$B$4<>\"\"),ProjectInformation!$B$3&\"\\\"&ProjectInformation!$B$4,IF(ProjectInformation!$B$3<>\"\",ProjectInformation!$B$3,\"\")))","v":"WHKS & CO."},null,null,null,null,null,null,null,null,null,null,null,null,null,null,null,null,null,null,null,null,null,null,null,null,null,null,null,null,null,null,null,null,null,null,null,null,null,null,null,null,null,{"$f":"IF(ProjectInformation!$B$6<>\"\",ProjectInformation!$B$6,\"\")","v":"CLINTON"},null,null,null,null,null,null,null,null,null,null,null,null,null,null,null,null,null,null,null,null,null,null,null,null,null,null,null,null,null,null,null,null,null,null,null,null,null,null,null,null,"COUNTY",null,null,null,null,null,"PROJECT NUMBER",null,null,null,null,null,null,null,null,null,null,null,{"$f":"IF(ProjectInformation!$B$7<>\"\",ProjectInformation!$B$7,\"\")","v":"STPN-136-1(73)--2J-23"},null,null,null,null,null,null,null,null,null,null,null,null,null,null,null,null,null,null,null,null,null,null,null,null,null,null,null,null,null,"SHEET NUMBER",null,null,null,null,null,null,null,null,null,"T.23",null,null,null,null,null,null,null,{"$f":"IF(GE4109<>\"\",\"REVISED\",\"\")","v":""},null,null,null,null,null,{"$f":"IF(ProjectInformation!$B$9<>\"\",ProjectInformation!$B$9,\"\")","v":""}]
[]
[]
[]
[null,"10/29/2019     9:35:10 AM     bchezick     K:\\7805\\SA26 701BT Clinton Culverts\\Design\\DE Sheets\\2313601013t01 (2).xlsm"]
[""]

{"sheet":"107_28SheetTemplate","index":5,"n_rows":187,"n_cols":389,"rows_kept":187,"cut":false,"hidden":true,"merged":[[14,145,17,152],[14,153,17,160],[14,161,17,168],[14,169,17,176],[14,177,17,184],[14,185,17,192],[18,2,36,16],[18,17,37,24],[18,25,37,32],[18,33,37,40],[18,41,37,48],[18,49,37,56],[18,57,37,64],[18,65,37,72],[18,73,37,80],[18,81,37,88],[18,89,37,96],[18,97,37,104],[18,105,37,112],[18,113,37,120],[18,121,37,128],[18,129,37,136],[18,137,37,144],[18,145,37,152],[18,153,37,160],[18,161,37,168],[18,169,37,176],[18,177,37,184],[18,185,37,192],[8,2,17,16],[14,17,17,24],[14,25,17,32],[14,33,17,40],[14,41,17,48],[14,49,17,56],[14,57,17,64],[14,65,17,72],[14,73,17,80],[14,81,17,88],[14,89,17,96],[14,97,17,104],[14,105,17,112],[14,113,17,120],[14,121,17,128],[14,129,17,136],[14,137,17,144],[138,81,139,88],[138,89,139,96],[138,97,139,104],[138,105,139,112],[138,73,139,80],[72,113,73,120],[72,121,73,128],[48,121,49,128],[54,81,55,88],[54,89,55,96],[54,97,55,104],[54,105,55,112],[54,113,55,120],[54,121,55,128],[60,49,61,56],[60,57,61,64],[60,65,61,72],[60,73,61,80],[144,65,145,72],[144,73,145,80],[144,81,145,88],[144,89,145,96],[144,97,145,104],[144,105,145,112],[144,113,145,120],[94,49,95,56],[94,57,95,64],[94,65,95,72],[94,73,95,80],[94,81,95,88],[94,89,95,96],[94,97,95,104],[94,105,95,112],[94,113,95,120],[112,57,113,64],[112,65,113,72],[112,73,113,80],[112,81,113,88],[112,89,113,96],[112,97,113,104],[112,105,113,112],[112,113,113,120],[120,81,121,88],[120,89,121,96],[142,113,143,120],[106,113,107,120],[74,177,75,184],[76,129,77,136],[76,137,77,144],[76,145,77,152],[94,177,95,184],[76,153,77,160],[76,161,77,168],[72,161,73,168],[72,169,73,176],[76,169,77,176],[76,177,77,184],[78,145,79,152],[78,153,79,160],[78,161,79,168],[78,169,79,176],[78,177,79,184],[86,129,87,136],[86,137,87,144],[86,145,87,152],[86,153,87,160],[86,161,87,168],[86,169,87,176],[86,177,87,184],[90,129,91,136],[90,137,91,144],[90,145,91,152],[90,153,91,160],[90,161,91,168],[90,169,91,176],[78,129,79,136],[80,161,81,168],[80,169,81,176],[56,161,57,168],[56,169,57,176],[138,113,139,120],[138,121,139,128],[138,129,139,136],[138,137,139,144],[138,145,139,152],[138,153,139,160],[138,161,139,168],[138,169,139,176],[72,177,73,184],[74,145,75,152],[74,153,75,160],[74,161,75,168],[74,169,75,176],[134,137,135,144],[134,145,135,152],[134,153,135,160],[134,161,135,168],[134,169,135,176],[62,145,63,152],[62,153,63,160],[62,161,63,168],[62,169,63,176],[62,177,63,184],[62,137,63,144],[58,121,59,128],[58,129,59,136],[58,137,59,144],[56,177,57,184],[134,113,135,120],[134,121,135,128],[48,177,49,184],[50,145,51,152],[50,153,51,160],[71,2,72,16],[72,17,73,24],[72,25,73,32],[72,33,73,40],[72,41,73,48],[72,49,73,56],[72,57,73,64],[72,65,73,72],[72,73,73,80],[72,81,73,88],[72,89,73,96],[72,97,73,104],[72,105,73,112],[70,153,71,160],[70,161,71,168],[70,169,71,176],[70,177,71,184],[72,129,73,136],[72,137,73,144],[72,145,73,152],[72,153,73,160],[54,129,55,136],[54,137,55,144],[58,89,59,96],[58,97,59,104],[58,105,59,112],[58,113,59,120],[56,145,57,152],[56,153,57,160],[58,161,59,168],[58,169,59,176],[58,177,59,184],[60,137,61,144],[60,145,61,152],[60,153,61,160],[60,161,61,168],[60,169,61,176],[60,177,61,184],[49,2,50,16],[50,17,51,24],[50,25,51,32],[50,33,51,40],[50,41,51,48],[50,49,51,56],[50,57,51,64],[50,65,51,72],[50,73,51,80],[50,81,51,88],[50,89,51,96],[50,97,51,104],[50,105,51,112],[50,113,51,120],[50,121,51,128],[52,145,53,152],[52,153,53,160],[52,161,53,168],[52,169,53,176],[52,177,53,184],[53,2,54,16],[48,161,49,168],[48,169,49,176],[48,145,49,152],[48,153,49,160],[47,2,48,16],[48,17,49,24],[48,25,49,32],[48,33,49,40],[48,41,49,48],[48,49,49,56],[48,57,49,64],[48,65,49,72],[48,73,49,80],[48,81,49,88],[48,89,49,96],[48,97,49,104],[48,105,49,112],[48,113,49,120],[58,145,59,152],[58,153,59,160],[54,17,55,24],[54,25,55,32],[54,33,55,40],[54,41,55,48],[54,49,55,56],[54,57,55,64],[54,65,55,72],[54,73,55,80],[52,129,53,136],[52,137,53,144],[54,145,55,152],[54,153,55,160],[46,73,47,80],[46,81,47,88],[80,177,81,184],[82,145,83,152],[82,153,83,160],[82,161,83,168],[82,169,83,176],[82,177,83,184],[84,129,85,136],[84,137,85,144],[98,145,99,152],[98,153,99,160],[98,161,99,168],[98,169,99,176],[98,177,99,184],[80,145,81,152],[80,153,81,160],[82,129,83,136],[82,137,83,144],[88,145,89,152],[88,153,89,160],[88,161,89,168],[88,169,89,176],[88,177,89,184],[84,145,85,152],[84,153,85,160],[84,161,85,168],[84,169,85,176],[84,177,85,184],[88,129,89,136],[88,137,89,144],[96,177,97,184],[11,137,13,144],[11,145,13,152],[11,153,13,160],[11,161,13,168],[11,169,13,176],[11,177,13,184],[46,161,47,168],[46,169,47,176],[46,177,47,184],[48,129,49,136],[100,145,101,152],[100,153,101,160],[100,161,101,168],[100,169,101,176],[100,177,101,184],[50,129,51,136],[50,137,51,144],[48,137,49,144],[50,161,51,168],[50,169,51,176],[46,145,47,152],[64,129,65,136],[46,137,47,144],[38,137,39,144],[38,145,39,152],[38,153,39,160],[38,161,39,168],[38,169,39,176],[38,177,39,184],[40,145,41,152],[40,153,41,160],[40,161,41,168],[4,2,7,57],[11,17,13,24],[11,25,13,32],[11,33,13,40],[11,41,13,48],[11,49,13,56],[11,57,13,64],[11,65,13,72],[11,73,13,80],[11,81,13,88],[11,89,13,96],[11,97,13,104],[11,105,13,112],[11,113,13,120],[11,121,13,128],[11,129,13,136],[37,2,38,16],[38,17,39,24],[38,25,39,32],[38,33,39,40],[38,41,39,48],[38,49,39,56],[38,57,39,64],[38,65,39,72],[38,73,39,80],[38,81,39,88],[38,89,39,96],[38,97,39,104],[38,105,39,112],[38,113,39,120],[38,121,39,128],[38,129,39,136],[39,2,40,16],[40,17,41,24],[40,25,41,32],[40,33,41,40],[40,41,41,48],[40,49,41,56],[40,57,41,64],[40,65,41,72],[40,73,41,80],[40,81,41,88],[40,89,41,96],[40,97,41,104],[40,105,41,112],[40,113,41,120],[40,121,41,128],[40,129,41,136],[40,137,41,144],[40,169,41,176],[40,177,41,184],[41,2,42,16],[42,17,43,24],[42,25,43,32],[42,33,43,40],[42,41,43,48],[42,49,43,56],[42,57,43,64],[42,65,43,72],[42,73,43,80],[42,81,43,88],[42,89,43,96],[42,97,43,104],[42,105,43,112],[42,113,43,120],[42,121,43,128],[42,129,43,136],[42,137,43,144],[42,145,43,152],[42,153,43,160],[42,161,43,168],[42,169,43,176],[42,177,43,184],[43,2,44,16],[44,17,45,24],[44,25,45,32],[44,33,45,40],[44,41,45,48],[44,49,45,56],[44,129,45,136],[44,137,45,144],[44,145,45,152],[44,153,45,160],[44,161,45,168],[44,169,45,176],[44,177,45,184],[45,2,46,16],[46,129,47,136],[46,153,47,160],[44,57,45,64],[44,65,45,72],[44,73,45,80],[44,81,45,88],[44,89,45,96],[44,97,45,104],[44,105,45,112],[44,113,45,120],[44,121,45,128],[46,17,47,24],[46,97,47,104],[46,105,47,112],[46,113,47,120],[46,121,47,128],[51,2,52,16],[52,17,53,24],[52,25,53,32],[52,33,53,40],[52,41,53,48],[52,49,53,56],[52,57,53,64],[52,65,53,72],[52,73,53,80],[52,81,53,88],[52,89,53,96],[52,97,53,104],[52,105,53,112],[52,113,53,120],[52,121,53,128],[46,25,47,32],[46,33,47,40],[46,41,47,48],[46,49,47,56],[46,57,47,64],[46,65,47,72],[46,89,47,96],[54,161,55,168],[54,169,55,176],[54,177,55,184],[55,2,56,16],[56,17,57,24],[56,25,57,32],[56,33,57,40],[56,41,57,48],[56,49,57,56],[56,57,57,64],[56,65,57,72],[56,73,57,80],[56,81,57,88],[56,89,57,96],[56,97,57,104],[56,105,57,112],[56,113,57,120],[56,121,57,128],[56,129,57,136],[56,137,57,144],[57,2,58,16],[58,17,59,24],[58,25,59,32],[58,33,59,40],[58,41,59,48],[58,49,59,56],[58,57,59,64],[58,65,59,72],[58,73,59,80],[58,81,59,88],[59,2,60,16],[60,17,61,24],[60,81,61,88],[60,89,61,96],[60,97,61,104],[60,105,61,112],[60,113,61,120],[60,121,61,128],[60,129,61,136],[62,113,63,120],[62,121,63,128],[62,129,63,136],[61,2,62,16],[62,17,63,24],[62,25,63,32],[62,33,63,40],[62,41,63,48],[62,49,63,56],[62,57,63,64],[62,65,63,72],[62,73,63,80],[62,81,63,88],[62,89,63,96],[62,97,63,104],[62,105,63,112],[60,25,61,32],[60,33,61,40],[60,41,61,48],[68,145,69,152],[68,153,69,160],[68,161,69,168],[68,169,69,176],[64,137,65,144],[64,145,65,152],[64,153,65,160],[64,161,65,168],[64,169,65,176],[63,2,64,16],[64,17,65,24],[64,25,65,32],[64,33,65,40],[64,41,65,48],[64,49,65,56],[64,57,65,64],[64,65,65,72],[64,73,65,80],[64,81,65,88],[64,177,65,184],[65,2,66,16],[66,17,67,24],[66,25,67,32],[66,33,67,40],[66,41,67,48],[66,49,67,56],[66,57,67,64],[66,65,67,72],[66,73,67,80],[66,81,67,88],[66,89,67,96],[66,97,67,104],[66,105,67,112],[66,113,67,120],[66,121,67,128],[66,129,67,136],[66,137,67,144],[66,145,67,152],[66,153,67,160],[66,161,67,168],[66,169,67,176],[66,177,67,184],[64,89,65,96],[64,97,65,104],[64,105,65,112],[64,113,65,120],[64,121,65,128],[67,2,68,16],[68,17,69,24],[68,25,69,32],[68,33,69,40],[68,177,69,184],[69,2,70,16],[70,17,71,24],[70,25,71,32],[70,33,71,40],[70,41,71,48],[70,49,71,56],[70,57,71,64],[70,65,71,72],[70,73,71,80],[70,81,71,88],[70,89,71,96],[70,97,71,104],[70,105,71,112],[70,113,71,120],[70,121,71,128],[70,129,71,136],[70,137,71,144],[70,145,71,152],[68,41,69,48],[68,49,69,56],[68,57,69,64],[68,65,69,72],[68,73,69,80],[68,81,69,88],[68,89,69,96],[68,97,69,104],[68,105,69,112],[68,113,69,120],[68,121,69,128],[68,129,69,136],[68,137,69,144],[73,2,74,16],[74,17,75,24],[74,25,75,32],[74,33,75,40],[74,41,75,48],[74,49,75,56],[74,57,75,64],[74,65,75,72],[74,73,75,80],[74,81,75,88],[74,89,75,96],[74,97,75,104],[74,105,75,112],[74,113,75,120],[74,121,75,128],[74,129,75,136],[74,137,75,144],[75,2,76,16],[76,17,77,24],[76,25,77,32],[76,33,77,40],[76,41,77,48],[76,49,77,56],[76,57,77,64],[76,65,77,72],[76,73,77,80],[76,81,77,88],[76,89,77,96],[76,97,77,104],[76,105,77,112],[76,113,77,120],[76,121,77,128],[78,137,79,144],[79,2,80,16],[80,17,81,24],[80,25,81,32],[80,33,81,40],[80,41,81,48],[80,49,81,56],[80,73,81,80],[80,81,81,88],[80,89,81,96],[80,97,81,104],[80,105,81,112],[80,113,81,120],[80,121,81,128],[80,129,81,136],[80,137,81,144],[81,2,82,16],[82,17,83,24],[82,25,83,32],[82,33,83,40],[82,41,83,48],[82,49,83,56],[82,57,83,64],[82,65,83,72],[82,73,83,80],[82,81,83,88],[82,89,83,96],[82,97,83,104],[82,105,83,112],[82,113,83,120],[82,121,83,128],[77,2,78,16],[78,17,79,24],[78,25,79,32],[78,33,79,40],[78,41,79,48],[78,49,79,56],[78,57,79,64],[78,65,79,72],[78,73,79,80],[78,81,79,88],[78,89,79,96],[78,97,79,104],[78,105,79,112],[78,113,79,120],[78,121,79,128],[80,57,81,64],[80,65,81,72],[85,2,86,16],[86,17,87,24],[86,25,87,32],[86,33,87,40],[86,41,87,48],[86,49,87,56],[86,57,87,64],[86,65,87,72],[86,73,87,80],[86,81,87,88],[86,89,87,96],[86,97,87,104],[86,105,87,112],[86,113,87,120],[86,121,87,128],[83,2,84,16],[84,17,85,24],[84,25,85,32],[84,33,85,40],[84,41,85,48],[84,49,85,56],[84,57,85,64],[84,65,85,72],[84,73,85,80],[84,81,85,88],[84,89,85,96],[84,97,85,104],[84,105,85,112],[84,113,85,120],[84,121,85,128],[88,49,89,56],[88,57,89,64],[88,65,89,72],[88,73,89,80],[88,81,89,88],[88,89,89,96],[88,97,89,104],[88,105,89,112],[88,113,89,120],[88,121,89,128],[87,2,88,16],[88,17,89,24],[88,25,89,32],[88,33,89,40],[88,41,89,48],[89,2,90,16],[90,17,91,24],[90,25,91,32],[90,33,91,40],[90,41,91,48],[90,49,91,56],[90,57,91,64],[90,65,91,72],[90,73,91,80],[90,81,91,88],[90,89,91,96],[90,97,91,104],[90,105,91,112],[90,113,91,120],[90,121,91,128],[90,177,91,184],[91,2,92,16],[92,17,93,24],[92,25,93,32],[92,33,93,40],[92,41,93,48],[92,49,93,56],[92,57,93,64],[92,65,93,72],[92,73,93,80],[92,81,93,88],[92,89,93,96],[92,97,93,104],[92,105,93,112],[92,113,93,120],[92,121,93,128],[92,129,93,136],[92,137,93,144],[92,145,93,152],[92,153,93,160],[92,161,93,168],[92,169,93,176],[92,177,93,184],[93,2,94,16],[94,17,95,24],[94,25,95,32],[94,33,95,40],[94,41,95,48],[95,2,96,16],[101,2,102,16],[96,17,97,24],[96,25,97,32],[96,33,97,40],[94,129,95,136],[94,137,95,144],[94,145,95,152],[94,153,95,160],[94,161,95,168],[94,169,95,176],[96,49,97,56],[96,57,97,64],[96,65,97,72],[96,73,97,80],[96,81,97,88],[96,89,97,96],[96,97,97,104],[96,105,97,112],[96,113,97,120],[96,121,97,128],[96,129,97,136],[96,137,97,144],[96,145,97,152],[96,153,97,160],[96,161,97,168],[96,169,97,176],[94,121,95,128],[102,129,103,136],[100,129,101,136],[106,129,107,136],[106,137,107,144],[106,145,107,152],[106,153,107,160],[106,161,107,168],[97,2,98,16],[98,17,99,24],[98,25,99,32],[98,33,99,40],[98,41,99,48],[98,49,99,56],[98,57,99,64],[98,65,99,72],[98,73,99,80],[98,81,99,88],[98,89,99,96],[98,97,99,104],[98,105,99,112],[98,113,99,120],[98,121,99,128],[98,129,99,136],[98,137,99,144],[99,2,100,16],[100,17,101,24],[100,25,101,32],[100,33,101,40],[100,41,101,48],[100,49,101,56],[100,57,101,64],[106,17,107,24],[106,25,107,32],[96,41,97,48],[106,33,107,40],[106,41,107,48],[100,121,101,128],[106,57,107,64],[102,17,103,24],[102,25,103,32],[102,33,103,40],[102,41,103,48],[102,49,103,56],[102,57,103,64],[102,65,103,72],[102,73,103,80],[102,81,103,88],[102,89,103,96],[102,97,103,104],[102,105,103,112],[102,113,103,120],[102,121,103,128],[100,113,101,120],[100,65,101,72],[100,73,101,80],[100,81,101,88],[100,89,101,96],[100,97,101,104],[100,105,101,112],[106,121,107,128],[106,65,107,72],[106,73,107,80],[106,81,107,88],[106,89,107,96],[106,97,107,104],[106,105,107,112],[106,169,107,176],[106,177,107,184],[102,137,103,144],[102,145,103,152],[102,153,103,160],[102,161,103,168],[100,137,101,144],[102,169,103,176],[102,177,103,184],[103,2,104,16],[104,17,105,24],[104,25,105,32],[104,33,105,40],[104,41,105,48],[104,49,105,56],[104,57,105,64],[104,65,105,72],[104,73,105,80],[104,81,105,88],[104,89,105,96],[104,97,105,104],[104,105,105,112],[104,113,105,120],[104,121,105,128],[104,129,105,136],[104,137,105,144],[104,145,105,152],[104,153,105,160],[104,161,105,168],[104,169,105,176],[104,177,105,184],[105,2,106,16],[108,177,109,184],[109,2,110,16],[110,17,111,24],[110,25,111,32],[110,33,111,40],[110,41,111,48],[110,49,111,56],[110,57,111,64],[110,65,111,72],[110,73,111,80],[110,81,111,88],[110,89,111,96],[110,97,111,104],[110,105,111,112],[110,113,111,120],[110,121,111,128],[110,129,111,136],[110,137,111,144],[110,145,111,152],[110,153,111,160],[110,161,111,168],[110,169,111,176],[110,177,111,184],[111,2,112,16],[112,17,113,24],[112,25,113,32],[112,33,113,40],[112,41,113,48],[112,49,113,56],[107,2,108,16],[108,41,109,48],[106,49,107,56],[108,161,109,168],[108,49,109,56],[108,57,109,64],[108,65,109,72],[108,73,109,80],[108,81,109,88],[108,89,109,96],[108,97,109,104],[108,105,109,112],[108,113,109,120],[108,121,109,128],[108,129,109,136],[108,137,109,144],[116,57,117,64],[116,65,117,72],[116,73,117,80],[108,169,109,176],[112,121,113,128],[112,129,113,136],[112,137,113,144],[112,145,113,152],[112,153,113,160],[112,161,113,168],[112,169,113,176],[113,2,114,16],[114,17,115,24],[114,25,115,32],[114,33,115,40],[114,41,115,48],[114,49,115,56],[114,57,115,64],[114,65,115,72],[114,73,115,80],[114,81,115,88],[114,89,115,96],[114,97,115,104],[114,105,115,112],[114,113,115,120],[114,121,115,128],[114,129,115,136],[108,153,109,160],[115,2,116,16],[116,17,117,24],[116,25,117,32],[116,97,117,104],[116,105,117,112],[116,113,117,120],[116,121,117,128],[116,129,117,136],[116,137,117,144],[116,145,117,152],[116,153,117,160],[108,145,109,152],[108,17,109,24],[108,25,109,32],[108,33,109,40],[112,177,113,184],[118,169,119,176],[114,137,115,144],[114,145,115,152],[114,153,115,160],[114,161,115,168],[114,169,115,176],[114,177,115,184],[116,81,117,88],[116,89,117,96],[116,161,117,168],[116,169,117,176],[116,177,117,184],[118,145,119,152],[118,153,119,160],[118,161,119,168],[118,177,119,184],[122,169,123,176],[122,177,123,184],[117,2,118,16],[118,17,119,24],[118,25,119,32],[122,73,123,80],[118,41,119,48],[118,49,119,56],[118,57,119,64],[118,65,119,72],[118,73,119,80],[118,81,119,88],[118,89,119,96],[118,97,119,104],[118,105,119,112],[118,113,119,120],[118,121,119,128],[118,129,119,136],[118,137,119,144],[118,33,119,40],[116,33,117,40]],"merged_total":3440,"flags":["merged_cut"]}
[]
[]
[null,null,null,null,null,null,null,null,null,null,null,null,null,null,null,null,null,null,null,null,null,null,null,null,null,"",null,null,null,null,null,null,null,"",null,null,null,null,null,null,null,"",null,null,null,null,null,null,null,"",null,null,null,null,null,null,null,"",null,null,null,null,null,null,null,"",null,null,null,null,null,null,null,"",null,null,null,null,null,null,null,"",null,null,null,null,null,null,null,null,null,null,null,null,null,null,null,"",null,null,null,null,null,null,null,"",null,null,null,null,null,null,null,null,null,null,null,null,null,null,null,"",null,null,null,null,null,null,null,null,null,null,null,null,null,null,null,null,"",null,null,null,null,null,null,null,null,null,null,null,null,null,null,"",null,null,null,null,null,null,null,null,null,null,null,null,null,null,null,"",null,null,null,null,null,null,null,"",null,null,null,null,null,null,null,"",null,null,null,null,null,null,null,"",null,null,null,null,null,null,null,null,null,null,null,null,null,null,null,null,null,null,null,null,null,null,null,null,null,null,"",null,null,null,null,null,null,null,"",null,null,null,null,null,null,null,"",null,null,null,null,null,null,null,"",null,null,null,null,null,null,null,"",null,null,null,null,null,null,null,"",null,null,null,null,null,null,null,"",null,null,null,null,null,null,null,"",null,null,null,null,null,null,null,null,null,null,null,null,null,null,null,"",null,null,null,null,null,null,null,"",null,null,null,null,null,null,null,null,null,null,null,null,null,null,null,"",null,null,null,null,null,null,null,null,null,null,null,null,null,null,null,null,"",null,null,null,null,null,null,null,null,null,null,null,null,null,null,"",null,null,null,null,null,null,null,null,null,null,null,null,null,null,null,"",null,null,null,null,null,null,null,"",null,null,null,null,null,null,null,"",null,null,null,null,null,null,null,""]
[]
[null,null,"Refer to Standard Road Plans EW-101 and EW-102.",null,null,null,null,null,null,null,null,null,null,null,null,null,null,null,null,null,null,null,null,null,null,null,null,null,null,null,null,null,null,null,null,null,null,null,null,null,null,null,null,null,null,null,null,null,null,null,null,null,null,null,null,null,null,null,"TABULATION OF TEMPLATE QUANTITIES AND ADJUSTMENTS",null,null,null,null,null,null,null,null,null,null,null,null,null,null,null,null,null,null,null,null,null,null,null,null,null,null,null,null,null,null,null,null,null,null,null,null,null,null,null,null,null,null,null,null,null,null,null,null,null,null,null,null,null,null,null,null,null,null,null,null,null,null,null,null,null,null,null,null,null,null,null,null,null,null,null,null,null,null,"107-28",null,null,null,null,null,null,null,null,null,null,null,null,null,null,null,null,null,null,null,null,null,null,null,null,null,null,null,null,null,null,null,null,null,null,null,null,null,null,null,null,null,null,null,null,null,null,null,null,null,null,null,null,null,null,null,null,null,null,null,"Refer to Standard Road Plans EW-101 and EW-102.",null,null,null,null,null,null,null,null,null,null,null,null,null,null,null,null,null,null,null,null,null,null,null,null,null,null,null,null,null,null,null,null,null,null,null,null,null,null,null,null,null,null,null,null,null,null,null,null,null,null,null,null,null,null,null,"TABULATION OF TEMPLATE QUANTITIES AND ADJUSTMENTS",null,null,null,null,null,null,null,null,null,null,null,null,null,null,null,null,null,null,null,null,null,null,null,null,null,null,null,null,null,null,null,null,null,null,null,null,null,null,null,null,null,null,null,null,null,null,null,null,null,null,null,null,null,null,null,null,null,null,null,null,null,null,null,null,null,null,null,null,null,null,null,null,null,null,null,null,null,null,"107-28"]
[]
[null,null,null,null,null,null,null,null,null,null,null,null,null,null,null,null,null,null,null,null,null,null,null,null,null,null,null,null,null,null,null,null,null,null,null,null,null,null,null,null,null,null,null,null,null,null,null,null,null,null,null,null,null,null,null,null,null,null,null,null,null,null,null,null,null,null,null,null,null,null,null,null,null,null,null,null,null,null,null,null,null,null,null,null,null,null,null,null,null,null,null,null,null,null,null,null,null,null,null,null,null,null,null,null,null,null,null,null,null,null,null,null,null,null,null,null,null,null,null,null,null,null,null,null,null,null,null,null,null,null,null,null,null,null,null,null,null,"2015-04-21",null,null,null,null,null,null,null,null,null,null,null,null,null,null,null,null,null,null,null,null,null,null,null,null,null,null,null,null,null,null,null,null,null,null,null,null,null,null,null,null,null,null,null,null,null,null,null,null,null,null,null,null,null,null,null,null,null,null,null,null,null,null,null,null,null,null,null,null,null,null,null,null,null,null,null,null,null,null,null,null,null,null,null,null,null,null,null,null,null,null,null,null,null,null,null,null,null,null,null,null,null,null,null,null,null,null,null,null,null,null,null,null,null,null,null,null,null,null,null,null,null,null,null,null,null,null,null,null,null,null,null,null,null,null,null,null,null,null,null,null,null,null,null,null,null,null,null,null,null,null,null,null,null,null,null,null,null,null,null,null,null,null,null,null,null,null,null,null,null,null,null,null,null,null,null,null,null,null,null,null,null,null,null,null,null,null,null,null,null,null,null,null,null,null,"2015-04-21"]
[]
[]
[]
[]
[null,null,null,null,null,null,null,null,null,null,null,null,null,null,null,null,null,"[1]",null,null,null,null,null,null,null,"[2]",null,null,null,null,null,null,null,"[3]",null,null,null,null,null,null,null,"[4]",null,null,null,null,null,null,null,"[5]",null,null,null,null,null,null,null,"[6]",null,null,null,null,null,null,null,"[7]",null,null,null,null,null,null,null,"[8]",null,null,null,null,null,null,null,"[9]",null,null,null,null,null,null,null,"[10]",null,null,null,null,null,null,null,"[11]",null,null,null,null,null,null,null,"[12]",null,null,null,null,null,null,null,"[13]",null,null,null,null,null,null,null,"[14]",null,null,null,null,null,null,null,"[15]",null,null,null,null,null,null,null,"[16]",null,null,null,null,null,null,null,"[17]",null,null,null,null,null,null,null,"[18]",null,null,null,null,null,null,null,"[19]",null,null,null,null,null,null,null,"[20]",null,null,null,null,null,null,null,"[21]",null,null,null,null,null,null,null,"[22]",null,null,null,null,null,null,null,null,null,null,null,null,null,null,null,null,null,null,null,null,null,null,null,null,null,null,"[23]",null,null,null,null,null,null,null,"[24]",null,null,null,null,null,null,null,"[25]",null,null,null,null,null,null,null,"[26]",null,null,null,null,null,null,null,"[27]",null,null,null,null,null,null,null,"[28]",null,null,null,null,null,null,null,"[29]",null,null,null,null,null,null,null,"[30]",null,null,null,null,null,null,null,"[31]",null,null,null,null,null,null,null,"[32]",null,null,null,null,null,null,null,"[33]",null,null,null,null,null,null,null,"[34]",null,null,null,null,null,null,null,"[35]",null,null,null,null,null,null,null,"[36]",null,null,null,null,null,null,null,"[37]",null,null,null,null,null,null,null,"[38]",null,null,null,null,null,null,null,"[39]",null,null,null,null,null,null,null,"[40]",null,null,null,null,null,null,null,"[41]",null,null,null,null,null,null,null,"[42]",null,null,null,null,null,null,null,"[43]",null,null,null,null,null,null,null,"[44]"]
[]
[]
[null,null,null,null,null,null,null,null,null,null,null,null,null,null,null,null,null,{"$f":"IF('107_28'!$R$15<>\"\",'107_28'!$R$15,\"\")","v":""},null,null,null,null,null,null,null,{"$f":"IF('107_28'!$Z$15<>\"\",'107_28'!$Z$15,\"\")","v":""},null,null,null,null,null,null,null,{"$f":"IF('107_28'!$AH$15<>\"\",'107_28'!$AH$15,\"\")","v":""},null,null,null,null,null,null,null,{"$f":"IF('107_28'!$AP$15<>\"\",'107_28'!$AP$15,\"\")","v":""},null,null,null,null,null,null,null,{"$f":"IF('107_28'!$AX$15<>\"\",'107_28'!$AX$15,\"\")","v":""},null,null,null,null,null,null,null,{"$f":"IF('107_28'!$BF$15<>\"\",'107_28'!$BF$15,\"\")","v":""},null,null,null,null,null,null,null,{"$f":"IF('107_28'!$BN$15<>\"\",'107_28'!$BN$15,\"\")","v":""},null,null,null,null,null,null,null,{"$f":"IF('107_28'!$BV$15<>\"\",'107_28'!$BV$15,\"\")","v":""},null,null,null,null,null,null,null,{"$f":"IF('107_28'!$CD$15<>\"\",'107_28'!$CD$15,\"\")","v":""},null,null,null,null,null,null,null,{"$f":"IF('107_28'!$CL$15<>\"\",'107_28'!$CL$15,\"\")","v":""},null,null,null,null,null,null,null,{"$f":"IF('107_28'!$CT$15<>\"\",'107_28'!$CT$15,\"\")","v":""},null,null,null,null,null,null,null,{"$f":"IF('107_28'!$DB$15<>\"\",'107_28'!$DB$15,\"\")","v":""},null,null,null,null,null,null,null,{"$f":"IF('107_28'!$DJ$15<>\"\",'107_28'!$DJ$15,\"\")","v":""},null,null,null,null,null,null,null,{"$f":"IF('107_28'!$DR$15<>\"\",'107_28'!$DR$15,\"\")","v":""},null,null,null,null,null,null,null,{"$f":"IF('107_28'!$DZ$15<>\"\",'107_28'!$DZ$15,\"\")","v":""},null,null,null,null,null,null,null,{"$f":"IF('107_28'!$EH$15<>\"\",'107_28'!$EH$15,\"\")","v":""},null,null,null,null,null,null,null,{"$f":"IF('107_28'!$EP$15<>\"\",'107_28'!$EP$15,\"\")","v":""},null,null,null,null,null,null,null,{"$f":"IF('107_28'!$EX$15<>\"\",'107_28'!$EX$15,\"\")","v":""},null,null,null,null,null,null,null,{"$f":"IF('107_28'!$FF$15<>\"\",'107_28'!$FF$15,\"\")","v":""},null,null,null,null,null,null,null,{"$f":"IF('107_28'!$FN$15<>\"\",'107_28'!$FN$15,\"\")","v":""},null,null,null,null,null,null,null,{"$f":"IF('107_28'!$FV$15<>\"\",'107_28'!$FV$15,\"\")","v":""},null,null,null,null,null,null,null,{"$f":"IF('107_28'!$GD$15<>\"\",'107_28'!$GD$15,\"\")","v":""},null,null,null,null,null,null,null,null,null,null,null,null,null,null,null,null,null,null,null,null,null,null,null,null,null,null,{"$f":"IF('107_28'!#REF!<>\"\",'107_28'!#REF!,\"\")","v":{"$error":"#REF!"}},null,null,null,null,null,null,null,{"$f":"IF('107_28'!#REF!<>\"\",'107_28'!#REF!,\"\")","v":{"$error":"#REF!"}},null,null,null,null,null,null,null,{"$f":"IF('107_28'!#REF!<>\"\",'107_28'!#REF!,\"\")","v":{"$error":"#REF!"}},null,null,null,null,null,null,null,{"$f":"IF('107_28'!#REF!<>\"\",'107_28'!#REF!,\"\")","v":{"$error":"#REF!"}},null,null,null,null,null,null,null,{"$f":"IF('107_28'!#REF!<>\"\",'107_28'!#REF!,\"\")","v":{"$error":"#REF!"}},null,null,null,null,null,null,null,{"$f":"IF('107_28'!#REF!<>\"\",'107_28'!#REF!,\"\")","v":{"$error":"#REF!"}},null,null,null,null,null,null,null,{"$f":"IF('107_28'!#REF!<>\"\",'107_28'!#REF!,\"\")","v":{"$error":"#REF!"}},null,null,null,null,null,null,null,{"$f":"IF('107_28'!#REF!<>\"\",'107_28'!#REF!,\"\")","v":{"$error":"#REF!"}},null,null,null,null,null,null,null,{"$f":"IF('107_28'!#REF!<>\"\",'107_28'!#REF!,\"\")","v":{"$error":"#REF!"}},null,null,null,null,null,null,null,{"$f":"IF('107_28'!#REF!<>\"\",'107_28'!#REF!,\"\")","v":{"$error":"#REF!"}},null,null,null,null,null,null,null,{"$f":"IF('107_28'!#REF!<>\"\",'107_28'!#REF!,\"\")","v":{"$error":"#REF!"}},null,null,null,null,null,null,null,{"$f":"IF('107_28'!#REF!<>\"\",'107_28'!#REF!,\"\")","v":{"$error":"#REF!"}},null,null,null,null,null,null,null,{"$f":"IF('107_28'!#REF!<>\"\",'107_28'!#REF!,\"\")","v":{"$error":"#REF!"}},null,null,null,null,null,null,null,{"$f":"IF('107_28'!#REF!<>\"\",'107_28'!#REF!,\"\")","v":{"$error":"#REF!"}},null,null,null,null,null,null,null,{"$f":"IF('107_28'!#REF!<>\"\",'107_28'!#REF!,\"\")","v":{"$error":"#REF!"}},null,null,null,null,null,null,null,{"$f":"IF('107_28'!#REF!<>\"\",'107_28'!#REF!,\"\")","v":{"$error":"#REF!"}},null,null,null,null,null,null,null,{"$f":"IF('107_28'!#REF!<>\"\",'107_28'!#REF!,\"\")","v":{"$error":"#REF!"}},null,null,null,null,null,null,null,{"$f":"IF('107_28'!#REF!<>\"\",'107_28'!#REF!,\"\")","v":{"$error":"#REF!"}},null,null,null,null,null,null,null,{"$f":"IF('107_28'!#REF!<>\"\",'107_28'!#REF!,\"\")","v":{"$error":"#REF!"}},null,null,null,null,null,null,null,{"$f":"IF('107_28'!#REF!<>\"\",'107_28'!#REF!,\"\")","v":{"$error":"#REF!"}},null,null,null,null,null,null,null,{"$f":"IF('107_28'!#REF!<>\"\",'107_28'!#REF!,\"\")","v":{"$error":"#REF!"}},null,null,null,null,null,null,null,{"$f":"IF('107_28'!#REF!<>\"\",'107_28'!#REF!,\"\")","v":{"$error":"#REF!"}}]
[]
[]
[]
[null,null,null,null,null,null,null,null,null,null,null,null,null,null,null,null,null,null,null,null,null,null,null,null,null,null,null,null,null,null,null,null,null,null,null,null,null,null,null,null,null,null,null,null,null,null,null,null,null,null,null,null,null,null,null,null,null,null,null,null,null,null,null,null,null,null,null,null,null,null,null,null,null,null,null,null,null,null,null,null,null,null,null,null,null,null,null,null,null,null,null,null,null,null,null,null,null,null,null,null,null,null,null,null,null,null,null,null,null,null,null,null,null,null,null,null,null,null,null,null,null,null,null,null,null,null,null,null,null,null,null,null,null,null,null,null,null,null,null,null,null,null,null,null,null,null,null,null,null,null,null,null,null,null,null,null,null,null,null,null,null,null,null,null,null,null,null,null,null,null,null,null,null,null,null,null,null,null,null,null,null,null,null,null,null,null,null,null,null,null,null,null,null,null,null,null,null,{"$f":"IF(C19<>\"\",C19,\"\")","v":""}]
[]
[]
[]
[]
[]
[]
[]
[]
[]
[]
[]
[]
[]
[]
[]
[]
[]
[]
[null,null,null,null,null,null,null,null,null,null,null,null,null,null,null,null,null,null,null,null,null,null,null,null,null,null,null,null,null,null,null,null,null,null,null,null,null,null,null,null,null,null,null,null,null,null,null,null,null,null,null,null,null,null,null,null,null,null,null,null,null,null,null,null,null,null,null,null,null,null,null,null,null,null,null,null,null,null,null,null,null,null,null,null,null,null,null,null,null,null,null,null,null,null,null,null,null,null,null,null,null,null,null,null,null,null,null,null,null,null,null,null,null,null,null,null,null,null,null,null,null,null,null,null,null,null,null,null,null,null,null,null,null,null,null,null,null,null,null,null,null,null,null,null,null,null,null,null,null,null,null,null,null,null,null,null,null,null,null,null,null,null,null,null,null,null,null,null,null,null,null,null,null,null,null,null,null,null,null,null,null,null,null,null,null,null,null,null,null,null,null,null,null,null,null,null,null,{"$f":"IF(C38<>\"\",C38,\"\")","v":""}]
[]
[null,null,null,null,null,null,null,null,null,null,null,null,null,null,null,null,null,null,null,null,null,null,null,null,null,null,null,null,null,null,null,null,null,null,null,null,null,null,null,null,null,null,null,null,null,null,null,null,null,null,null,null,null,null,null,null,null,null,null,null,null,null,null,null,null,null,null,null,null,null,null,null,null,null,null,null,null,null,null,null,null,null,null,null,null,null,null,null,null,null,null,null,null,null,null,null,null,null,null,null,null,null,null,null,null,null,null,null,null,null,null,null,null,null,null,null,null,null,null,null,null,null,null,null,null,null,null,null,null,null,null,null,null,null,null,null,null,null,null,null,null,null,null,null,null,null,null,null,null,null,null,null,null,null,null,null,null,null,null,null,null,null,null,null,null,null,null,null,null,null,null,null,null,null,null,null,null,null,null,null,null,null,null,null,null,null,null,null,null,null,null,null,null,null,null,null,null,{"$f":"IF(C40<>\"\",C40,\"\")","v":""}]
[]
[null,null,null,null,null,null,null,null,null,null,null,null,null,null,null,null,null,null,null,null,null,null,null,null,null,null,null,null,null,null,null,null,null,null,null,null,null,null,null,null,null,null,null,null,null,null,null,null,null,null,null,null,null,null,null,null,null,null,null,null,null,null,null,null,null,null,null,null,null,null,null,null,null,null,null,null,null,null,null,null,null,null,null,null,null,null,null,null,null,null,null,null,null,null,null,null,null,null,null,null,null,null,null,null,null,null,null,null,null,null,null,null,null,null,null,null,null,null,null,null,null,null,null,null,null,null,null,null,null,null,null,null,null,null,null,null,null,null,null,null,null,null,null,null,null,null,null,null,null,null,null,null,null,null,null,null,null,null,null,null,null,null,null,null,null,null,null,null,null,null,null,null,null,null,null,null,null,null,null,null,null,null,null,null,null,null,null,null,null,null,null,null,null,null,null,null,null,{"$f":"IF(C42<>\"\",C42,\"\")","v":""}]
[]
[null,null,null,null,null,null,null,null,null,null,null,null,null,null,null,null,null,null,null,null,null,null,null,null,null,null,null,null,null,null,null,null,null,null,null,null,null,null,null,null,null,null,null,null,null,null,null,null,null,null,null,null,null,null,null,null,null,null,null,null,null,null,null,null,null,null,null,null,null,null,null,null,null,null,null,null,null,null,null,null,null,null,null,null,null,null,null,null,null,null,null,null,null,null,null,null,null,null,null,null,null,null,null,null,null,null,null,null,null,null,null,null,null,null,null,null,null,null,null,null,null,null,null,null,null,null,null,null,null,null,null,null,null,null,null,null,null,null,null,null,null,null,null,null,null,null,null,null,null,null,null,null,null,null,null,null,null,null,null,null,null,null,null,null,null,null,null,null,null,null,null,null,null,null,null,null,null,null,null,null,null,null,null,null,null,null,null,null,null,null,null,null,null,null,null,null,null,{"$f":"IF(C44<>\"\",C44,\"\")","v":""}]
[]
[null,null,null,null,null,null,null,null,null,null,null,null,null,null,null,null,null,null,null,null,null,null,null,null,null,null,null,null,null,null,null,null,null,null,null,null,null,null,null,null,null,null,null,null,null,null,null,null,null,null,null,null,null,null,null,null,null,null,null,null,null,null,null,null,null,null,null,null,null,null,null,null,null,null,null,null,null,null,null,null,null,null,null,null,null,null,null,null,null,null,null,null,null,null,null,null,null,null,null,null,null,null,null,null,null,null,null,null,null,null,null,null,null,null,null,null,null,null,null,null,null,null,null,null,null,null,null,null,null,null,null,null,null,null,null,null,null,null,null,null,null,null,null,null,null,null,null,null,null,null,null,null,null,null,null,null,null,null,null,null,null,null,null,null,null,null,null,null,null,null,null,null,null,null,null,null,null,null,null,null,null,null,null,null,null,null,null,null,null,null,null,null,null,null,null,null,null,{"$f":"IF(C46<>\"\",C46,\"\")","v":""}]
[]
[null,null,null,null,null,null,null,null,null,null,null,null,null,null,null,null,null,null,null,null,null,null,null,null,null,null,null,null,null,null,null,null,null,null,null,null,null,null,null,null,null,null,null,null,null,null,null,null,null,null,null,null,null,null,null,null,null,null,null,null,null,null,null,null,null,null,null,null,null,null,null,null,null,null,null,null,null,null,null,null,null,null,null,null,null,null,null,null,null,null,null,null,null,null,null,null,null,null,null,null,null,null,null,null,null,null,null,null,null,null,null,null,null,null,null,null,null,null,null,null,null,null,null,null,null,null,null,null,null,null,null,null,null,null,null,null,null,null,null,null,null,null,null,null,null,null,null,null,null,null,null,null,null,null,null,null,null,null,null,null,null,null,null,null,null,null,null,null,null,null,null,null,null,null,null,null,null,null,null,null,null,null,null,null,null,null,null,null,null,null,null,null,null,null,null,null,null,{"$f":"IF(C48<>\"\",C48,\"\")","v":""}]
[]
[null,null,null,null,null,null,null,null,null,null,null,null,null,null,null,null,null,null,null,null,null,null,null,null,null,null,null,null,null,null,null,null,null,null,null,null,null,null,null,null,null,null,null,null,null,null,null,null,null,null,null,null,null,null,null,null,null,null,null,null,null,null,null,null,null,null,null,null,null,null,null,null,null,null,null,null,null,null,null,null,null,null,null,null,null,null,null,null,null,null,null,null,null,null,null,null,null,null,null,null,null,null,null,null,null,null,null,null,null,null,null,null,null,null,null,null,null,null,null,null,null,null,null,null,null,null,null,null,null,null,null,null,null,null,null,null,null,null,null,null,null,null,null,null,null,null,null,null,null,null,null,null,null,null,null,null,null,null,null,null,null,null,null,null,null,null,null,null,null,null,null,null,null,null,null,null,null,null,null,null,null,null,null,null,null,null,null,null,null,null,null,null,null,null,null,null,null,{"$f":"IF(C50<>\"\",C50,\"\")","v":""}]
[]
[null,null,null,null,null,null,null,null,null,null,null,null,null,null,null,null,null,null,null,null,null,null,null,null,null,null,null,null,null,null,null,null,null,null,null,null,null,null,null,null,null,null,null,null,null,null,null,null,null,null,null,null,null,null,null,null,null,null,null,null,null,null,null,null,null,null,null,null,null,null,null,null,null,null,null,null,null,null,null,null,null,null,null,null,null,null,null,null,null,null,null,null,null,null,null,null,null,null,null,null,null,null,null,null,null,null,null,null,null,null,null,null,null,null,null,null,null,null,null,null,null,null,null,null,null,null,null,null,null,null,null,null,null,null,null,null,null,null,null,null,null,null,null,null,null,null,null,null,null,null,null,null,null,null,null,null,null,null,null,null,null,null,null,null,null,null,null,null,null,null,null,null,null,null,null,null,null,null,null,null,null,null,null,null,null,null,null,null,null,null,null,null,null,null,null,null,null,{"$f":"IF(C52<>\"\",C52,\"\")","v":""}]
[]
[null,null,null,null,null,null,null,null,null,null,null,null,null,null,null,null,null,null,null,null,null,null,null,null,null,null,null,null,null,null,null,null,null,null,null,null,null,null,null,null,null,null,null,null,null,null,null,null,null,null,null,null,null,null,null,null,null,null,null,null,null,null,null,null,null,null,null,null,null,null,null,null,null,null,null,null,null,null,null,null,null,null,null,null,null,null,null,null,null,null,null,null,null,null,null,null,null,null,null,null,null,null,null,null,null,null,null,null,null,null,null,null,null,null,null,null,null,null,null,null,null,null,null,null,null,null,null,null,null,null,null,null,null,null,null,null,null,null,null,null,null,null,null,null,null,null,null,null,null,null,null,null,null,null,null,null,null,null,null,null,null,null,null,null,null,null,null,null,null,null,null,null,null,null,null,null,null,null,null,null,null,null,null,null,null,null,null,null,null,null,null,null,null,null,null,null,null,{"$f":"IF(C54<>\"\",C54,\"\")","v":""}]
[]
[null,null,null,null,null,null,null,null,null,null,null,null,null,null,null,null,null,null,null,null,null,null,null,null,null,null,null,null,null,null,null,null,null,null,null,null,null,null,null,null,null,null,null,null,null,null,null,null,null,null,null,null,null,null,null,null,null,null,null,null,null,null,null,null,null,null,null,null,null,null,null,null,null,null,null,null,null,null,null,null,null,null,null,null,null,null,null,null,null,null,null,null,null,null,null,null,null,null,null,null,null,null,null,null,null,null,null,null,null,null,null,null,null,null,null,null,null,null,null,null,null,null,null,null,null,null,null,null,null,null,null,null,null,null,null,null,null,null,null,null,null,null,null,null,null,null,null,null,null,null,null,null,null,null,null,null,null,null,null,null,null,null,null,null,null,null,null,null,null,null,null,null,null,null,null,null,null,null,null,null,null,null,null,null,null,null,null,null,null,null,null,null,null,null,null,null,null,{"$f":"IF(C56<>\"\",C56,\"\")","v":""}]
[]
[null,null,null,null,null,null,null,null,null,null,null,null,null,null,null,null,null,null,null,null,null,null,null,null,null,null,null,null,null,null,null,null,null,null,null,null,null,null,null,null,null,null,null,null,null,null,null,null,null,null,null,null,null,null,null,null,null,null,null,null,null,null,null,null,null,null,null,null,null,null,null,null,null,null,null,null,null,null,null,null,null,null,null,null,null,null,null,null,null,null,null,null,null,null,null,null,null,null,null,null,null,null,null,null,null,null,null,null,null,null,null,null,null,null,null,null,null,null,null,null,null,null,null,null,null,null,null,null,null,null,null,null,null,null,null,null,null,null,null,null,null,null,null,null,null,null,null,null,null,null,null,null,null,null,null,null,null,null,null,null,null,null,null,null,null,null,null,null,null,null,null,null,null,null,null,null,null,null,null,null,null,null,null,null,null,null,null,null,null,null,null,null,null,null,null,null,null,{"$f":"IF(C58<>\"\",C58,\"\")","v":""}]
[]
[null,null,null,null,null,null,null,null,null,null,null,null,null,null,null,null,null,null,null,null,null,null,null,null,null,null,null,null,null,null,null,null,null,null,null,null,null,null,null,null,null,null,null,null,null,null,null,null,null,null,null,null,null,null,null,null,null,null,null,null,null,null,null,null,null,null,null,null,null,null,null,null,null,null,null,null,null,null,null,null,null,null,null,null,null,null,null,null,null,null,null,null,null,null,null,null,null,null,null,null,null,null,null,null,null,null,null,null,null,null,null,null,null,null,null,null,null,null,null,null,null,null,null,null,null,null,null,null,null,null,null,null,null,null,null,null,null,null,null,null,null,null,null,null,null,null,null,null,null,null,null,null,null,null,null,null,null,null,null,null,null,null,null,null,null,null,null,null,null,null,null,null,null,null,null,null,null,null,null,null,null,null,null,null,null,null,null,null,null,null,null,null,null,null,null,null,null,{"$f":"IF(C60<>\"\",C60,\"\")","v":""}]
[]
[null,null,null,null,null,null,null,null,null,null,null,null,null,null,null,null,null,null,null,null,null,null,null,null,null,null,null,null,null,null,null,null,null,null,null,null,null,null,null,null,null,null,null,null,null,null,null,null,null,null,null,null,null,null,null,null,null,null,null,null,null,null,null,null,null,null,null,null,null,null,null,null,null,null,null,null,null,null,null,null,null,null,null,null,null,null,null,null,null,null,null,null,null,null,null,null,null,null,null,null,null,null,null,null,null,null,null,null,null,null,null,null,null,null,null,null,null,null,null,null,null,null,null,null,null,null,null,null,null,null,null,null,null,null,null,null,null,null,null,null,null,null,null,null,null,null,null,null,null,null,null,null,null,null,null,null,null,null,null,null,null,null,null,null,null,null,null,null,null,null,null,null,null,null,null,null,null,null,null,null,null,null,null,null,null,null,null,null,null,null,null,null,null,null,null,null,null,{"$f":"IF(C62<>\"\",C62,\"\")","v":""}]
[]
[null,null,null,null,null,null,null,null,null,null,null,null,null,null,null,null,null,null,null,null,null,null,null,null,null,null,null,null,null,null,null,null,null,null,null,null,null,null,null,null,null,null,null,null,null,null,null,null,null,null,null,null,null,null,null,null,null,null,null,null,null,null,null,null,null,null,null,null,null,null,null,null,null,null,null,null,null,null,null,null,null,null,null,null,null,null,null,null,null,null,null,null,null,null,null,null,null,null,null,null,null,null,null,null,null,null,null,null,null,null,null,null,null,null,null,null,null,null,null,null,null,null,null,null,null,null,null,null,null,null,null,null,null,null,null,null,null,null,null,null,null,null,null,null,null,null,null,null,null,null,null,null,null,null,null,null,null,null,null,null,null,null,null,null,null,null,null,null,null,null,null,null,null,null,null,null,null,null,null,null,null,null,null,null,null,null,null,null,null,null,null,null,null,null,null,null,null,{"$f":"IF(C64<>\"\",C64,\"\")","v":""}]
[]
[null,null,null,null,null,null,null,null,null,null,null,null,null,null,null,null,null,null,null,null,null,null,null,null,null,null,null,null,null,null,null,null,null,null,null,null,null,null,null,null,null,null,null,null,null,null,null,null,null,null,null,null,null,null,null,null,null,null,null,null,null,null,null,null,null,null,null,null,null,null,null,null,null,null,null,null,null,null,null,null,null,null,null,null,null,null,null,null,null,null,null,null,null,null,null,null,null,null,null,null,null,null,null,null,null,null,null,null,null,null,null,null,null,null,null,null,null,null,null,null,null,null,null,null,null,null,null,null,null,null,null,null,null,null,null,null,null,null,null,null,null,null,null,null,null,null,null,null,null,null,null,null,null,null,null,null,null,null,null,null,null,null,null,null,null,null,null,null,null,null,null,null,null,null,null,null,null,null,null,null,null,null,null,null,null,null,null,null,null,null,null,null,null,null,null,null,null,{"$f":"IF(C66<>\"\",C66,\"\")","v":""}]
[]
[null,null,null,null,null,null,null,null,null,null,null,null,null,null,null,null,null,null,null,null,null,null,null,null,null,null,null,null,null,null,null,null,null,null,null,null,null,null,null,null,null,null,null,null,null,null,null,null,null,null,null,null,null,null,null,null,null,null,null,null,null,null,null,null,null,null,null,null,null,null,null,null,null,null,null,null,null,null,null,null,null,null,null,null,null,null,null,null,null,null,null,null,null,null,null,null,null,null,null,null,null,null,null,null,null,null,null,null,null,null,null,null,null,null,null,null,null,null,null,null,null,null,null,null,null,null,null,null,null,null,null,null,null,null,null,null,null,null,null,null,null,null,null,null,null,null,null,null,null,null,null,null,null,null,null,null,null,null,null,null,null,null,null,null,null,null,null,null,null,null,null,null,null,null,null,null,null,null,null,null,null,null,null,null,null,null,null,null,null,null,null,null,null,null,null,null,null,{"$f":"IF(C68<>\"\",C68,\"\")","v":""}]
[]
[null,null,null,null,null,null,null,null,null,null,null,null,null,null,null,null,null,null,null,null,null,null,null,null,null,null,null,null,null,null,null,null,null,null,null,null,null,null,null,null,null,null,null,null,null,null,null,null,null,null,null,null,null,null,null,null,null,null,null,null,null,null,null,null,null,null,null,null,null,null,null,null,null,null,null,null,null,null,null,null,null,null,null,null,null,null,null,null,null,null,null,null,null,null,null,null,null,null,null,null,null,null,null,null,null,null,null,null,null,null,null,null,null,null,null,null,null,null,null,null,null,null,null,null,null,null,null,null,null,null,null,null,null,null,null,null,null,null,null,null,null,null,null,null,null,null,null,null,null,null,null,null,null,null,null,null,null,null,null,null,null,null,null,null,null,null,null,null,null,null,null,null,null,null,null,null,null,null,null,null,null,null,null,null,null,null,null,null,null,null,null,null,null,null,null,null,null,{"$f":"IF(C70<>\"\",C70,\"\")","v":""}]
[]
[null,null,null,null,null,null,null,null,null,null,null,null,null,null,null,null,null,null,null,null,null,null,null,null,null,null,null,null,null,null,null,null,null,null,null,null,null,null,null,null,null,null,null,null,null,null,null,null,null,null,null,null,null,null,null,null,null,null,null,null,null,null,null,null,null,null,null,null,null,null,null,null,null,null,null,null,null,null,null,null,null,null,null,null,null,null,null,null,null,null,null,null,null,null,null,null,null,null,null,null,null,null,null,null,null,null,null,null,null,null,null,null,null,null,null,null,null,null,null,null,null,null,null,null,null,null,null,null,null,null,null,null,null,null,null,null,null,null,null,null,null,null,null,null,null,null,null,null,null,null,null,null,null,null,null,null,null,null,null,null,null,null,null,null,null,null,null,null,null,null,null,null,null,null,null,null,null,null,null,null,null,null,null,null,null,null,null,null,null,null,null,null,null,null,null,null,null,{"$f":"IF(C72<>\"\",C72,\"\")","v":""}]
[]
[null,null,null,null,null,null,null,null,null,null,null,null,null,null,null,null,null,null,null,null,null,null,null,null,null,null,null,null,null,null,null,null,null,null,null,null,null,null,null,null,null,null,null,null,null,null,null,null,null,null,null,null,null,null,null,null,null,null,null,null,null,null,null,null,null,null,null,null,null,null,null,null,null,null,null,null,null,null,null,null,null,null,null,null,null,null,null,null,null,null,null,null,null,null,null,null,null,null,null,null,null,null,null,null,null,null,null,null,null,null,null,null,null,null,null,null,null,null,null,null,null,null,null,null,null,null,null,null,null,null,null,null,null,null,null,null,null,null,null,null,null,null,null,null,null,null,null,null,null,null,null,null,null,null,null,null,null,null,null,null,null,null,null,null,null,null,null,null,null,null,null,null,null,null,null,null,null,null,null,null,null,null,null,null,null,null,null,null,null,null,null,null,null,null,null,null,null,{"$f":"IF(C74<>\"\",C74,\"\")","v":""}]
[]
[null,null,null,null,null,null,null,null,null,null,null,null,null,null,null,null,null,null,null,null,null,null,null,null,null,null,null,null,null,null,null,null,null,null,null,null,null,null,null,null,null,null,null,null,null,null,null,null,null,null,null,null,null,null,null,null,null,null,null,null,null,null,null,null,null,null,null,null,null,null,null,null,null,null,null,null,null,null,null,null,null,null,null,null,null,null,null,null,null,null,null,null,null,null,null,null,null,null,null,null,null,null,null,null,null,null,null,null,null,null,null,null,null,null,null,null,null,null,null,null,null,null,null,null,null,null,null,null,null,null,null,null,null,null,null,null,null,null,null,null,null,null,null,null,null,null,null,null,null,null,null,null,null,null,null,null,null,null,null,null,null,null,null,null,null,null,null,null,null,null,null,null,null,null,null,null,null,null,null,null,null,null,null,null,null,null,null,null,null,null,null,null,null,null,null,null,null,{"$f":"IF(C76<>\"\",C76,\"\")","v":""}]
[]
[null,null,null,null,null,null,null,null,null,null,null,null,null,null,null,null,null,null,null,null,null,null,null,null,null,null,null,null,null,null,null,null,null,null,null,null,null,null,null,null,null,null,null,null,null,null,null,null,null,null,null,null,null,null,null,null,null,null,null,null,null,null,null,null,null,null,null,null,null,null,null,null,null,null,null,null,null,null,null,null,null,null,null,null,null,null,null,null,null,null,null,null,null,null,null,null,null,null,null,null,null,null,null,null,null,null,null,null,null,null,null,null,null,null,null,null,null,null,null,null,null,null,null,null,null,null,null,null,null,null,null,null,null,null,null,null,null,null,null,null,null,null,null,null,null,null,null,null,null,null,null,null,null,null,null,null,null,null,null,null,null,null,null,null,null,null,null,null,null,null,null,null,null,null,null,null,null,null,null,null,null,null,null,null,null,null,null,null,null,null,null,null,null,null,null,null,null,{"$f":"IF(C78<>\"\",C78,\"\")","v":""}]
[]
[null,null,null,null,null,null,null,null,null,null,null,null,null,null,null,null,null,null,null,null,null,null,null,null,null,null,null,null,null,null,null,null,null,null,null,null,null,null,null,null,null,null,null,null,null,null,null,null,null,null,null,null,null,null,null,null,null,null,null,null,null,null,null,null,null,null,null,null,null,null,null,null,null,null,null,null,null,null,null,null,null,null,null,null,null,null,null,null,null,null,null,null,null,null,null,null,null,null,null,null,null,null,null,null,null,null,null,null,null,null,null,null,null,null,null,null,null,null,null,null,null,null,null,null,null,null,null,null,null,null,null,null,null,null,null,null,null,null,null,null,null,null,null,null,null,null,null,null,null,null,null,null,null,null,null,null,null,null,null,null,null,null,null,null,null,null,null,null,null,null,null,null,null,null,null,null,null,null,null,null,null,null,null,null,null,null,null,null,null,null,null,null,null,null,null,null,null,{"$f":"IF(C80<>\"\",C80,\"\")","v":""}]
[]
[null,null,null,null,null,null,null,null,null,null,null,null,null,null,null,null,null,null,null,null,null,null,null,null,null,null,null,null,null,null,null,null,null,null,null,null,null,null,null,null,null,null,null,null,null,null,null,null,null,null,null,null,null,null,null,null,null,null,null,null,null,null,null,null,null,null,null,null,null,null,null,null,null,null,null,null,null,null,null,null,null,null,null,null,null,null,null,null,null,null,null,null,null,null,null,null,null,null,null,null,null,null,null,null,null,null,null,null,null,null,null,null,null,null,null,null,null,null,null,null,null,null,null,null,null,null,null,null,null,null,null,null,null,null,null,null,null,null,null,null,null,null,null,null,null,null,null,null,null,null,null,null,null,null,null,null,null,null,null,null,null,null,null,null,null,null,null,null,null,null,null,null,null,null,null,null,null,null,null,null,null,null,null,null,null,null,null,null,null,null,null,null,null,null,null,null,null,{"$f":"IF(C82<>\"\",C82,\"\")","v":""}]
[]
[null,null,null,null,null,null,null,null,null,null,null,null,null,null,null,null,null,null,null,null,null,null,null,null,null,null,null,null,null,null,null,null,null,null,null,null,null,null,null,null,null,null,null,null,null,null,null,null,null,null,null,null,null,null,null,null,null,null,null,null,null,null,null,null,null,null,null,null,null,null,null,null,null,null,null,null,null,null,null,null,null,null,null,null,null,null,null,null,null,null,null,null,null,null,null,null,null,null,null,null,null,null,null,null,null,null,null,null,null,null,null,null,null,null,null,null,null,null,null,null,null,null,null,null,null,null,null,null,null,null,null,null,null,null,null,null,null,null,null,null,null,null,null,null,null,null,null,null,null,null,null,null,null,null,null,null,null,null,null,null,null,null,null,null,null,null,null,null,null,null,null,null,null,null,null,null,null,null,null,null,null,null,null,null,null,null,null,null,null,null,null,null,null,null,null,null,null,{"$f":"IF(C84<>\"\",C84,\"\")","v":""}]
[]
[null,null,null,null,null,null,null,null,null,null,null,null,null,null,null,null,null,null,null,null,null,null,null,null,null,null,null,null,null,null,null,null,null,null,null,null,null,null,null,null,null,null,null,null,null,null,null,null,null,null,null,null,null,null,null,null,null,null,null,null,null,null,null,null,null,null,null,null,null,null,null,null,null,null,null,null,null,null,null,null,null,null,null,null,null,null,null,null,null,null,null,null,null,null,null,null,null,null,null,null,null,null,null,null,null,null,null,null,null,null,null,null,null,null,null,null,null,null,null,null,null,null,null,null,null,null,null,null,null,null,null,null,null,null,null,null,null,null,null,null,null,null,null,null,null,null,null,null,null,null,null,null,null,null,null,null,null,null,null,null,null,null,null,null,null,null,null,null,null,null,null,null,null,null,null,null,null,null,null,null,null,null,null,null,null,null,null,null,null,null,null,null,null,null,null,null,null,{"$f":"IF(C86<>\"\",C86,\"\")","v":""}]
[]
[null,null,null,null,null,null,null,null,null,null,null,null,null,null,null,null,null,null,null,null,null,null,null,null,null,null,null,null,null,null,null,null,null,null,null,null,null,null,null,null,null,null,null,null,null,null,null,null,null,null,null,null,null,null,null,null,null,null,null,null,null,null,null,null,null,null,null,null,null,null,null,null,null,null,null,null,null,null,null,null,null,null,null,null,null,null,null,null,null,null,null,null,null,null,null,null,null,null,null,null,null,null,null,null,null,null,null,null,null,null,null,null,null,null,null,null,null,null,null,null,null,null,null,null,null,null,null,null,null,null,null,null,null,null,null,null,null,null,null,null,null,null,null,null,null,null,null,null,null,null,null,null,null,null,null,null,null,null,null,null,null,null,null,null,null,null,null,null,null,null,null,null,null,null,null,null,null,null,null,null,null,null,null,null,null,null,null,null,null,null,null,null,null,null,null,null,null,{"$f":"IF(C88<>\"\",C88,\"\")","v":""}]
[]
[null,null,null,null,null,null,null,null,null,null,null,null,null,null,null,null,null,null,null,null,null,null,null,null,null,null,null,null,null,null,null,null,null,null,null,null,null,null,null,null,null,null,null,null,null,null,null,null,null,null,null,null,null,null,null,null,null,null,null,null,null,null,null,null,null,null,null,null,null,null,null,null,null,null,null,null,null,null,null,null,null,null,null,null,null,null,null,null,null,null,null,null,null,null,null,null,null,null,null,null,null,null,null,null,null,null,null,null,null,null,null,null,null,null,null,null,null,null,null,null,null,null,null,null,null,null,null,null,null,null,null,null,null,null,null,null,null,null,null,null,null,null,null,null,null,null,null,null,null,null,null,null,null,null,null,null,null,null,null,null,null,null,null,null,null,null,null,null,null,null,null,null,null,null,null,null,null,null,null,null,null,null,null,null,null,null,null,null,null,null,null,null,null,null,null,null,null,{"$f":"IF(C90<>\"\",C90,\"\")","v":""}]
[]
[null,null,null,null,null,null,null,null,null,null,null,null,null,null,null,null,null,null,null,null,null,null,null,null,null,null,null,null,null,null,null,null,null,null,null,null,null,null,null,null,null,null,null,null,null,null,null,null,null,null,null,null,null,null,null,null,null,null,null,null,null,null,null,null,null,null,null,null,null,null,null,null,null,null,null,null,null,null,null,null,null,null,null,null,null,null,null,null,null,null,null,null,null,null,null,null,null,null,null,null,null,null,null,null,null,null,null,null,null,null,null,null,null,null,null,null,null,null,null,null,null,null,null,null,null,null,null,null,null,null,null,null,null,null,null,null,null,null,null,null,null,null,null,null,null,null,null,null,null,null,null,null,null,null,null,null,null,null,null,null,null,null,null,null,null,null,null,null,null,null,null,null,null,null,null,null,null,null,null,null,null,null,null,null,null,null,null,null,null,null,null,null,null,null,null,null,null,{"$f":"IF(C92<>\"\",C92,\"\")","v":""}]
[]
[null,null,null,null,null,null,null,null,null,null,null,null,null,null,null,null,null,null,null,null,null,null,null,null,null,null,null,null,null,null,null,null,null,null,null,null,null,null,null,null,null,null,null,null,null,null,null,null,null,null,null,null,null,null,null,null,null,null,null,null,null,null,null,null,null,null,null,null,null,null,null,null,null,null,null,null,null,null,null,null,null,null,null,null,null,null,null,null,null,null,null,null,null,null,null,null,null,null,null,null,null,null,null,null,null,null,null,null,null,null,null,null,null,null,null,null,null,null,null,null,null,null,null,null,null,null,null,null,null,null,null,null,null,null,null,null,null,null,null,null,null,null,null,null,null,null,null,null,null,null,null,null,null,null,null,null,null,null,null,null,null,null,null,null,null,null,null,null,null,null,null,null,null,null,null,null,null,null,null,null,null,null,null,null,null,null,null,null,null,null,null,null,null,null,null,null,null,{"$f":"IF(C94<>\"\",C94,\"\")","v":""}]
[]
[null,null,null,null,null,null,null,null,null,null,null,null,null,null,null,null,null,null,null,null,null,null,null,null,null,null,null,null,null,null,null,null,null,null,null,null,null,null,null,null,null,null,null,null,null,null,null,null,null,null,null,null,null,null,null,null,null,null,null,null,null,null,null,null,null,null,null,null,null,null,null,null,null,null,null,null,null,null,null,null,null,null,null,null,null,null,null,null,null,null,null,null,null,null,null,null,null,null,null,null,null,null,null,null,null,null,null,null,null,null,null,null,null,null,null,null,null,null,null,null,null,null,null,null,null,null,null,null,null,null,null,null,null,null,null,null,null,null,null,null,null,null,null,null,null,null,null,null,null,null,null,null,null,null,null,null,null,null,null,null,null,null,null,null,null,null,null,null,null,null,null,null,null,null,null,null,null,null,null,null,null,null,null,null,null,null,null,null,null,null,null,null,null,null,null,null,null,{"$f":"IF(C96<>\"\",C96,\"\")","v":""}]
[]
[null,null,null,null,null,null,null,null,null,null,null,null,null,null,null,null,null,null,null,null,null,null,null,null,null,null,null,null,null,null,null,null,null,null,null,null,null,null,null,null,null,null,null,null,null,null,null,null,null,null,null,null,null,null,null,null,null,null,null,null,null,null,null,null,null,null,null,null,null,null,null,null,null,null,null,null,null,null,null,null,null,null,null,null,null,null,null,null,null,null,null,null,null,null,null,null,null,null,null,null,null,null,null,null,null,null,null,null,null,null,null,null,null,null,null,null,null,null,null,null,null,null,null,null,null,null,null,null,null,null,null,null,null,null,null,null,null,null,null,null,null,null,null,null,null,null,null,null,null,null,null,null,null,null,null,null,null,null,null,null,null,null,null,null,null,null,null,null,null,null,null,null,null,null,null,null,null,null,null,null,null,null,null,null,null,null,null,null,null,null,null,null,null,null,null,null,null,{"$f":"IF(C98<>\"\",C98,\"\")","v":""}]
[]
[null,null,null,null,null,null,null,null,null,null,null,null,null,null,null,null,null,null,null,null,null,null,null,null,null,null,null,null,null,null,null,null,null,null,null,null,null,null,null,null,null,null,null,null,null,null,null,null,null,null,null,null,null,null,null,null,null,null,null,null,null,null,null,null,null,null,null,null,null,null,null,null,null,null,null,null,null,null,null,null,null,null,null,null,null,null,null,null,null,null,null,null,null,null,null,null,null,null,null,null,null,null,null,null,null,null,null,null,null,null,null,null,null,null,null,null,null,null,null,null,null,null,null,null,null,null,null,null,null,null,null,null,null,null,null,null,null,null,null,null,null,null,null,null,null,null,null,null,null,null,null,null,null,null,null,null,null,null,null,null,null,null,null,null,null,null,null,null,null,null,null,null,null,null,null,null,null,null,null,null,null,null,null,null,null,null,null,null,null,null,null,null,null,null,null,null,null,{"$f":"IF(C100<>\"\",C100,\"\")","v":""}]
[]
[null,null,null,null,null,null,null,null,null,null,null,null,null,null,null,null,null,null,null,null,null,null,null,null,null,null,null,null,null,null,null,null,null,null,null,null,null,null,null,null,null,null,null,null,null,null,null,null,null,null,null,null,null,null,null,null,null,null,null,null,null,null,null,null,null,null,null,null,null,null,null,null,null,null,null,null,null,null,null,null,null,null,null,null,null,null,null,null,null,null,null,null,null,null,null,null,null,null,null,null,null,null,null,null,null,null,null,null,null,null,null,null,null,null,null,null,null,null,null,null,null,null,null,null,null,null,null,null,null,null,null,null,null,null,null,null,null,null,null,null,null,null,null,null,null,null,null,null,null,null,null,null,null,null,null,null,null,null,null,null,null,null,null,null,null,null,null,null,null,null,null,null,null,null,null,null,null,null,null,null,null,null,null,null,null,null,null,null,null,null,null,null,null,null,null,null,null,{"$f":"IF(C102<>\"\",C102,\"\")","v":""}]
[]
[null,null,null,null,null,null,null,null,null,null,null,null,null,null,null,null,null,null,null,null,null,null,null,null,null,null,null,null,null,null,null,null,null,null,null,null,null,null,null,null,null,null,null,null,null,null,null,null,null,null,null,null,null,null,null,null,null,null,null,null,null,null,null,null,null,null,null,null,null,null,null,null,null,null,null,null,null,null,null,null,null,null,null,null,null,null,null,null,null,null,null,null,null,null,null,null,null,null,null,null,null,null,null,null,null,null,null,null,null,null,null,null,null,null,null,null,null,null,null,null,null,null,null,null,null,null,null,null,null,null,null,null,null,null,null,null,null,null,null,null,null,null,null,null,null,null,null,null,null,null,null,null,null,null,null,null,null,null,null,null,null,null,null,null,null,null,null,null,null,null,null,null,null,null,null,null,null,null,null,null,null,null,null,null,null,null,null,null,null,null,null,null,null,null,null,null,null,{"$f":"IF(C104<>\"\",C104,\"\")","v":""}]
[]
[null,null,null,null,null,null,null,null,null,null,null,null,null,null,null,null,null,null,null,null,null,null,null,null,null,null,null,null,null,null,null,null,null,null,null,null,null,null,null,null,null,null,null,null,null,null,null,null,null,null,null,null,null,null,null,null,null,null,null,null,null,null,null,null,null,null,null,null,null,null,null,null,null,null,null,null,null,null,null,null,null,null,null,null,null,null,null,null,null,null,null,null,null,null,null,null,null,null,null,null,null,null,null,null,null,null,null,null,null,null,null,null,null,null,null,null,null,null,null,null,null,null,null,null,null,null,null,null,null,null,null,null,null,null,null,null,null,null,null,null,null,null,null,null,null,null,null,null,null,null,null,null,null,null,null,null,null,null,null,null,null,null,null,null,null,null,null,null,null,null,null,null,null,null,null,null,null,null,null,null,null,null,null,null,null,null,null,null,null,null,null,null,null,null,null,null,null,{"$f":"IF(C106<>\"\",C106,\"\")","v":""}]
[]
[null,null,null,null,null,null,null,null,null,null,null,null,null,null,null,null,null,null,null,null,null,null,null,null,null,null,null,null,null,null,null,null,null,null,null,null,null,null,null,null,null,null,null,null,null,null,null,null,null,null,null,null,null,null,null,null,null,null,null,null,null,null,null,null,null,null,null,null,null,null,null,null,null,null,null,null,null,null,null,null,null,null,null,null,null,null,null,null,null,null,null,null,null,null,null,null,null,null,null,null,null,null,null,null,null,null,null,null,null,null,null,null,null,null,null,null,null,null,null,null,null,null,null,null,null,null,null,null,null,null,null,null,null,null,null,null,null,null,null,null,null,null,null,null,null,null,null,null,null,null,null,null,null,null,null,null,null,null,null,null,null,null,null,null,null,null,null,null,null,null,null,null,null,null,null,null,null,null,null,null,null,null,null,null,null,null,null,null,null,null,null,null,null,null,null,null,null,{"$f":"IF(C108<>\"\",C108,\"\")","v":""}]
[]
[null,null,null,null,null,null,null,null,null,null,null,null,null,null,null,null,null,null,null,null,null,null,null,null,null,null,null,null,null,null,null,null,null,null,null,null,null,null,null,null,null,null,null,null,null,null,null,null,null,null,null,null,null,null,null,null,null,null,null,null,null,null,null,null,null,null,null,null,null,null,null,null,null,null,null,null,null,null,null,null,null,null,null,null,null,null,null,null,null,null,null,null,null,null,null,null,null,null,null,null,null,null,null,null,null,null,null,null,null,null,null,null,null,null,null,null,null,null,null,null,null,null,null,null,null,null,null,null,null,null,null,null,null,null,null,null,null,null,null,null,null,null,null,null,null,null,null,null,null,null,null,null,null,null,null,null,null,null,null,null,null,null,null,null,null,null,null,null,null,null,null,null,null,null,null,null,null,null,null,null,null,null,null,null,null,null,null,null,null,null,null,null,null,null,null,null,null,{"$f":"IF(C110<>\"\",C110,\"\")","v":""}]
[]
[null,null,null,null,null,null,null,null,null,null,null,null,null,null,null,null,null,null,null,null,null,null,null,null,null,null,null,null,null,null,null,null,null,null,null,null,null,null,null,null,null,null,null,null,null,null,null,null,null,null,null,null,null,null,null,null,null,null,null,null,null,null,null,null,null,null,null,null,null,null,null,null,null,null,null,null,null,null,null,null,null,null,null,null,null,null,null,null,null,null,null,null,null,null,null,null,null,null,null,null,null,null,null,null,null,null,null,null,null,null,null,null,null,null,null,null,null,null,null,null,null,null,null,null,null,null,null,null,null,null,null,null,null,null,null,null,null,null,null,null,null,null,null,null,null,null,null,null,null,null,null,null,null,null,null,null,null,null,null,null,null,null,null,null,null,null,null,null,null,null,null,null,null,null,null,null,null,null,null,null,null,null,null,null,null,null,null,null,null,null,null,null,null,null,null,null,null,{"$f":"IF(C112<>\"\",C112,\"\")","v":""}]
[]
[null,null,null,null,null,null,null,null,null,null,null,null,null,null,null,null,null,null,null,null,null,null,null,null,null,null,null,null,null,null,null,null,null,null,null,null,null,null,null,null,null,null,null,null,null,null,null,null,null,null,null,null,null,null,null,null,null,null,null,null,null,null,null,null,null,null,null,null,null,null,null,null,null,null,null,null,null,null,null,null,null,null,null,null,null,null,null,null,null,null,null,null,null,null,null,null,null,null,null,null,null,null,null,null,null,null,null,null,null,null,null,null,null,null,null,null,null,null,null,null,null,null,null,null,null,null,null,null,null,null,null,null,null,null,null,null,null,null,null,null,null,null,null,null,null,null,null,null,null,null,null,null,null,null,null,null,null,null,null,null,null,null,null,null,null,null,null,null,null,null,null,null,null,null,null,null,null,null,null,null,null,null,null,null,null,null,null,null,null,null,null,null,null,null,null,null,null,{"$f":"IF(C114<>\"\",C114,\"\")","v":""}]
[]
[null,null,null,null,null,null,null,null,null,null,null,null,null,null,null,null,null,null,null,null,null,null,null,null,null,null,null,null,null,null,null,null,null,null,null,null,null,null,null,null,null,null,null,null,null,null,null,null,null,null,null,null,null,null,null,null,null,null,null,null,null,null,null,null,null,null,null,null,null,null,null,null,null,null,null,null,null,null,null,null,null,null,null,null,null,null,null,null,null,null,null,null,null,null,null,null,null,null,null,null,null,null,null,null,null,null,null,null,null,null,null,null,null,null,null,null,null,null,null,null,null,null,null,null,null,null,null,null,null,null,null,null,null,null,null,null,null,null,null,null,null,null,null,null,null,null,null,null,null,null,null,null,null,null,null,null,null,null,null,null,null,null,null,null,null,null,null,null,null,null,null,null,null,null,null,null,null,null,null,null,null,null,null,null,null,null,null,null,null,null,null,null,null,null,null,null,null,{"$f":"IF(C116<>\"\",C116,\"\")","v":""}]
[]
[null,null,null,null,null,null,null,null,null,null,null,null,null,null,null,null,null,null,null,null,null,null,null,null,null,null,null,null,null,null,null,null,null,null,null,null,null,null,null,null,null,null,null,null,null,null,null,null,null,null,null,null,null,null,null,null,null,null,null,null,null,null,null,null,null,null,null,null,null,null,null,null,null,null,null,null,null,null,null,null,null,null,null,null,null,null,null,null,null,null,null,null,null,null,null,null,null,null,null,null,null,null,null,null,null,null,null,null,null,null,null,null,null,null,null,null,null,null,null,null,null,null,null,null,null,null,null,null,null,null,null,null,null,null,null,null,null,null,null,null,null,null,null,null,null,null,null,null,null,null,null,null,null,null,null,null,null,null,null,null,null,null,null,null,null,null,null,null,null,null,null,null,null,null,null,null,null,null,null,null,null,null,null,null,null,null,null,null,null,null,null,null,null,null,null,null,null,{"$f":"IF(C118<>\"\",C118,\"\")","v":""}]
[]
[null,null,null,null,null,null,null,null,null,null,null,null,null,null,null,null,null,null,null,null,null,null,null,null,null,null,null,null,null,null,null,null,null,null,null,null,null,null,null,null,null,null,null,null,null,null,null,null,null,null,null,null,null,null,null,null,null,null,null,null,null,null,null,null,null,null,null,null,null,null,null,null,null,null,null,null,null,null,null,null,null,null,null,null,null,null,null,null,null,null,null,null,null,null,null,null,null,null,null,null,null,null,null,null,null,null,null,null,null,null,null,null,null,null,null,null,null,null,null,null,null,null,null,null,null,null,null,null,null,null,null,null,null,null,null,null,null,null,null,null,null,null,null,null,null,null,null,null,null,null,null,null,null,null,null,null,null,null,null,null,null,null,null,null,null,null,null,null,null,null,null,null,null,null,null,null,null,null,null,null,null,null,null,null,null,null,null,null,null,null,null,null,null,null,null,null,null,{"$f":"IF(C120<>\"\",C120,\"\")","v":""}]
[]
[null,null,null,null,null,null,null,null,null,null,null,null,null,null,null,null,null,null,null,null,null,null,null,null,null,null,null,null,null,null,null,null,null,null,null,null,null,null,null,null,null,null,null,null,null,null,null,null,null,null,null,null,null,null,null,null,null,null,null,null,null,null,null,null,null,null,null,null,null,null,null,null,null,null,null,null,null,null,null,null,null,null,null,null,null,null,null,null,null,null,null,null,null,null,null,null,null,null,null,null,null,null,null,null,null,null,null,null,null,null,null,null,null,null,null,null,null,null,null,null,null,null,null,null,null,null,null,null,null,null,null,null,null,null,null,null,null,null,null,null,null,null,null,null,null,null,null,null,null,null,null,null,null,null,null,null,null,null,null,null,null,null,null,null,null,null,null,null,null,null,null,null,null,null,null,null,null,null,null,null,null,null,null,null,null,null,null,null,null,null,null,null,null,null,null,null,null,{"$f":"IF(C122<>\"\",C122,\"\")","v":""}]
[]
[null,null,null,null,null,null,null,null,null,null,null,null,null,null,null,null,null,null,null,null,null,null,null,null,null,null,null,null,null,null,null,null,null,null,null,null,null,null,null,null,null,null,null,null,null,null,null,null,null,null,null,null,null,null,null,null,null,null,null,null,null,null,null,null,null,null,null,null,null,null,null,null,null,null,null,null,null,null,null,null,null,null,null,null,null,null,null,null,null,null,null,null,null,null,null,null,null,null,null,null,null,null,null,null,null,null,null,null,null,null,null,null,null,null,null,null,null,null,null,null,null,null,null,null,null,null,null,null,null,null,null,null,null,null,null,null,null,null,null,null,null,null,null,null,null,null,null,null,null,null,null,null,null,null,null,null,null,null,null,null,null,null,null,null,null,null,null,null,null,null,null,null,null,null,null,null,null,null,null,null,null,null,null,null,null,null,null,null,null,null,null,null,null,null,null,null,null,{"$f":"IF(C124<>\"\",C124,\"\")","v":""}]
[]
[null,null,null,null,null,null,null,null,null,null,null,null,null,null,null,null,null,null,null,null,null,null,null,null,null,null,null,null,null,null,null,null,null,null,null,null,null,null,null,null,null,null,null,null,null,null,null,null,null,null,null,null,null,null,null,null,null,null,null,null,null,null,null,null,null,null,null,null,null,null,null,null,null,null,null,null,null,null,null,null,null,null,null,null,null,null,null,null,null,null,null,null,null,null,null,null,null,null,null,null,null,null,null,null,null,null,null,null,null,null,null,null,null,null,null,null,null,null,null,null,null,null,null,null,null,null,null,null,null,null,null,null,null,null,null,null,null,null,null,null,null,null,null,null,null,null,null,null,null,null,null,null,null,null,null,null,null,null,null,null,null,null,null,null,null,null,null,null,null,null,null,null,null,null,null,null,null,null,null,null,null,null,null,null,null,null,null,null,null,null,null,null,null,null,null,null,null,{"$f":"IF(C126<>\"\",C126,\"\")","v":""}]
[]
[null,null,null,null,null,null,null,null,null,null,null,null,null,null,null,null,null,null,null,null,null,null,null,null,null,null,null,null,null,null,null,null,null,null,null,null,null,null,null,null,null,null,null,null,null,null,null,null,null,null,null,null,null,null,null,null,null,null,null,null,null,null,null,null,null,null,null,null,null,null,null,null,null,null,null,null,null,null,null,null,null,null,null,null,null,null,null,null,null,null,null,null,null,null,null,null,null,null,null,null,null,null,null,null,null,null,null,null,null,null,null,null,null,null,null,null,null,null,null,null,null,null,null,null,null,null,null,null,null,null,null,null,null,null,null,null,null,null,null,null,null,null,null,null,null,null,null,null,null,null,null,null,null,null,null,null,null,null,null,null,null,null,null,null,null,null,null,null,null,null,null,null,null,null,null,null,null,null,null,null,null,null,null,null,null,null,null,null,null,null,null,null,null,null,null,null,null,{"$f":"IF(C128<>\"\",C128,\"\")","v":""}]
[]
[null,null,null,null,null,null,null,null,null,null,null,null,null,null,null,null,null,null,null,null,null,null,null,null,null,null,null,null,null,null,null,null,null,null,null,null,null,null,null,null,null,null,null,null,null,null,null,null,null,null,null,null,null,null,null,null,null,null,null,null,null,null,null,null,null,null,null,null,null,null,null,null,null,null,null,null,null,null,null,null,null,null,null,null,null,null,null,null,null,null,null,null,null,null,null,null,null,null,null,null,null,null,null,null,null,null,null,null,null,null,null,null,null,null,null,null,null,null,null,null,null,null,null,null,null,null,null,null,null,null,null,null,null,null,null,null,null,null,null,null,null,null,null,null,null,null,null,null,null,null,null,null,null,null,null,null,null,null,null,null,null,null,null,null,null,null,null,null,null,null,null,null,null,null,null,null,null,null,null,null,null,null,null,null,null,null,null,null,null,null,null,null,null,null,null,null,null,{"$f":"IF(C130<>\"\",C130,\"\")","v":""}]
[]
[null,null,null,null,null,null,null,null,null,null,null,null,null,null,null,null,null,null,null,null,null,null,null,null,null,null,null,null,null,null,null,null,null,null,null,null,null,null,null,null,null,null,null,null,null,null,null,null,null,null,null,null,null,null,null,null,null,null,null,null,null,null,null,null,null,null,null,null,null,null,null,null,null,null,null,null,null,null,null,null,null,null,null,null,null,null,null,null,null,null,null,null,null,null,null,null,null,null,null,null,null,null,null,null,null,null,null,null,null,null,null,null,null,null,null,null,null,null,null,null,null,null,null,null,null,null,null,null,null,null,null,null,null,null,null,null,null,null,null,null,null,null,null,null,null,null,null,null,null,null,null,null,null,null,null,null,null,null,null,null,null,null,null,null,null,null,null,null,null,null,null,null,null,null,null,null,null,null,null,null,null,null,null,null,null,null,null,null,null,null,null,null,null,null,null,null,null,{"$f":"IF(C132<>\"\",C132,\"\")","v":""}]
[]
[null,null,null,null,null,null,null,null,null,null,null,null,null,null,null,null,null,null,null,null,null,null,null,null,null,null,null,null,null,null,null,null,null,null,null,null,null,null,null,null,null,null,null,null,null,null,null,null,null,null,null,null,null,null,null,null,null,null,null,null,null,null,null,null,null,null,null,null,null,null,null,null,null,null,null,null,null,null,null,null,null,null,null,null,null,null,null,null,null,null,null,null,null,null,null,null,null,null,null,null,null,null,null,null,null,null,null,null,null,null,null,null,null,null,null,null,null,null,null,null,null,null,null,null,null,null,null,null,null,null,null,null,null,null,null,null,null,null,null,null,null,null,null,null,null,null,null,null,null,null,null,null,null,null,null,null,null,null,null,null,null,null,null,null,null,null,null,null,null,null,null,null,null,null,null,null,null,null,null,null,null,null,null,null,null,null,null,null,null,null,null,null,null,null,null,null,null,{"$f":"IF(C134<>\"\",C134,\"\")","v":""}]
[]
[null,null,null,null,null,null,null,null,null,null,null,null,null,null,null,null,null,null,null,null,null,null,null,null,null,null,null,null,null,null,null,null,null,null,null,null,null,null,null,null,null,null,null,null,null,null,null,null,null,null,null,null,null,null,null,null,null,null,null,null,null,null,null,null,null,null,null,null,null,null,null,null,null,null,null,null,null,null,null,null,null,null,null,null,null,null,null,null,null,null,null,null,null,null,null,null,null,null,null,null,null,null,null,null,null,null,null,null,null,null,null,null,null,null,null,null,null,null,null,null,null,null,null,null,null,null,null,null,null,null,null,null,null,null,null,null,null,null,null,null,null,null,null,null,null,null,null,null,null,null,null,null,null,null,null,null,null,null,null,null,null,null,null,null,null,null,null,null,null,null,null,null,null,null,null,null,null,null,null,null,null,null,null,null,null,null,null,null,null,null,null,null,null,null,null,null,null,{"$f":"IF(C136<>\"\",C136,\"\")","v":""}]
[]
[null,null,null,null,null,null,null,null,null,null,null,null,null,null,null,null,null,null,null,null,null,null,null,null,null,null,null,null,null,null,null,null,null,null,null,null,null,null,null,null,null,null,null,null,null,null,null,null,null,null,null,null,null,null,null,null,null,null,null,null,null,null,null,null,null,null,null,null,null,null,null,null,null,null,null,null,null,null,null,null,null,null,null,null,null,null,null,null,null,null,null,null,null,null,null,null,null,null,null,null,null,null,null,null,null,null,null,null,null,null,null,null,null,null,null,null,null,null,null,null,null,null,null,null,null,null,null,null,null,null,null,null,null,null,null,null,null,null,null,null,null,null,null,null,null,null,null,null,null,null,null,null,null,null,null,null,null,null,null,null,null,null,null,null,null,null,null,null,null,null,null,null,null,null,null,null,null,null,null,null,null,null,null,null,null,null,null,null,null,null,null,null,null,null,null,null,null,{"$f":"IF(C138<>\"\",C138,\"\")","v":""}]
[]
[null,null,null,null,null,null,null,null,null,null,null,null,null,null,null,null,null,null,null,null,null,null,null,null,null,null,null,null,null,null,null,null,null,null,null,null,null,null,null,null,null,null,null,null,null,null,null,null,null,null,null,null,null,null,null,null,null,null,null,null,null,null,null,null,null,null,null,null,null,null,null,null,null,null,null,null,null,null,null,null,null,null,null,null,null,null,null,null,null,null,null,null,null,null,null,null,null,null,null,null,null,null,null,null,null,null,null,null,null,null,null,null,null,null,null,null,null,null,null,null,null,null,null,null,null,null,null,null,null,null,null,null,null,null,null,null,null,null,null,null,null,null,null,null,null,null,null,null,null,null,null,null,null,null,null,null,null,null,null,null,null,null,null,null,null,null,null,null,null,null,null,null,null,null,null,null,null,null,null,null,null,null,null,null,null,null,null,null,null,null,null,null,null,null,null,null,null,{"$f":"IF(C140<>\"\",C140,\"\")","v":""}]
[]
[null,null,null,null,null,null,null,null,null,null,null,null,null,null,null,null,null,null,null,null,null,null,null,null,null,null,null,null,null,null,null,null,null,null,null,null,null,null,null,null,null,null,null,null,null,null,null,null,null,null,null,null,null,null,null,null,null,null,null,null,null,null,null,null,null,null,null,null,null,null,null,null,null,null,null,null,null,null,null,null,null,null,null,null,null,null,null,null,null,null,null,null,null,null,null,null,null,null,null,null,null,null,null,null,null,null,null,null,null,null,null,null,null,null,null,null,null,null,null,null,null,null,null,null,null,null,null,null,null,null,null,null,null,null,null,null,null,null,null,null,null,null,null,null,null,null,null,null,null,null,null,null,null,null,null,null,null,null,null,null,null,null,null,null,null,null,null,null,null,null,null,null,null,null,null,null,null,null,null,null,null,null,null,null,null,null,null,null,null,null,null,null,null,null,null,null,null,{"$f":"IF(C142<>\"\",C142,\"\")","v":""}]
[]
[null,null,null,null,null,null,null,null,null,null,null,null,null,null,null,null,null,null,null,null,null,null,null,null,null,null,null,null,null,null,null,null,null,null,null,null,null,null,null,null,null,null,null,null,null,null,null,null,null,null,null,null,null,null,null,null,null,null,null,null,null,null,null,null,null,null,null,null,null,null,null,null,null,null,null,null,null,null,null,null,null,null,null,null,null,null,null,null,null,null,null,null,null,null,null,null,null,null,null,null,null,null,null,null,null,null,null,null,null,null,null,null,null,null,null,null,null,null,null,null,null,null,null,null,null,null,null,null,null,null,null,null,null,null,null,null,null,null,null,null,null,null,null,null,null,null,null,null,null,null,null,null,null,null,null,null,null,null,null,null,null,null,null,null,null,null,null,null,null,null,null,null,null,null,null,null,null,null,null,null,null,null,null,null,null,null,null,null,null,null,null,null,null,null,null,null,null,{"$f":"IF(C144<>\"\",C144,\"\")","v":""}]
[]
[null,null,null,null,null,null,null,null,null,null,null,null,null,null,null,null,null,null,null,null,null,null,null,null,null,null,null,null,null,null,null,null,null,null,null,null,null,null,null,null,null,null,null,null,null,null,null,null,null,null,null,null,null,null,null,null,null,null,null,null,null,null,null,null,null,null,null,null,null,null,null,null,null,null,null,null,null,null,null,null,null,null,null,null,null,null,null,null,null,null,null,null,null,null,null,null,null,null,null,null,null,null,null,null,null,null,null,null,null,null,null,null,null,null,null,null,null,null,null,null,null,null,null,null,null,null,null,null,null,null,null,null,null,null,null,null,null,null,null,null,null,null,null,null,null,null,null,null,null,null,null,null,null,null,null,null,null,null,null,null,null,null,null,null,null,null,null,null,null,null,null,null,null,null,null,null,null,null,null,null,null,null,null,null,null,null,null,null,null,null,null,null,null,null,null,null,null,{"$f":"IF(C146<>\"\",C146,\"\")","v":""}]
[]
[null,null,null,null,null,null,null,null,null,null,null,null,null,null,null,null,null,null,null,null,null,null,null,null,null,null,null,null,null,null,null,null,null,null,null,null,null,null,null,null,null,null,null,null,null,null,null,null,null,null,null,null,null,null,null,null,null,null,null,null,null,null,null,null,null,null,null,null,null,null,null,null,null,null,null,null,null,null,null,null,null,null,null,null,null,null,null,null,null,null,null,null,null,null,null,null,null,null,null,null,null,null,null,null,null,null,null,null,null,null,null,null,null,null,null,null,null,null,null,null,null,null,null,null,null,null,null,null,null,null,null,null,null,null,null,null,null,null,null,null,null,null,null,null,null,null,null,null,null,null,null,null,null,null,null,null,null,null,null,null,null,null,null,null,null,null,null,null,null,null,null,null,null,null,null,null,null,null,null,null,null,null,null,null,null,null,null,null,null,null,null,null,null,null,null,null,null,{"$f":"IF(C148<>\"\",C148,\"\")","v":""}]
[]
[null,null,null,null,null,null,null,null,null,null,null,null,null,null,null,null,null,null,null,null,null,null,null,null,null,null,null,null,null,null,null,null,null,null,null,null,null,null,null,null,null,null,null,null,null,null,null,null,null,null,null,null,null,null,null,null,null,null,null,null,null,null,null,null,null,null,null,null,null,null,null,null,null,null,null,null,null,null,null,null,null,null,null,null,null,null,null,null,null,null,null,null,null,null,null,null,null,null,null,null,null,null,null,null,null,null,null,null,null,null,null,null,null,null,null,null,null,null,null,null,null,null,null,null,null,null,null,null,null,null,null,null,null,null,null,null,null,null,null,null,null,null,null,null,null,null,null,null,null,null,null,null,null,null,null,null,null,null,null,null,null,null,null,null,null,null,null,null,null,null,null,null,null,null,null,null,null,null,null,null,null,null,null,null,null,null,null,null,null,null,null,null,null,null,null,null,null,{"$f":"IF(C150<>\"\",C150,\"\")","v":""}]
[]
[null,null,null,null,null,null,null,null,null,null,null,null,null,null,null,null,null,null,null,null,null,null,null,null,null,null,null,null,null,null,null,null,null,null,null,null,null,null,null,null,null,null,null,null,null,null,null,null,null,null,null,null,null,null,null,null,null,null,null,null,null,null,null,null,null,null,null,null,null,null,null,null,null,null,null,null,null,null,null,null,null,null,null,null,null,null,null,null,null,null,null,null,null,null,null,null,null,null,null,null,null,null,null,null,null,null,null,null,null,null,null,null,null,null,null,null,null,null,null,null,null,null,null,null,null,null,null,null,null,null,null,null,null,null,null,null,null,null,null,null,null,null,null,null,null,null,null,null,null,null,null,null,null,null,null,null,null,null,null,null,null,null,null,null,null,null,null,null,null,null,null,null,null,null,null,null,null,null,null,null,null,null,null,null,null,null,null,null,null,null,null,null,null,null,null,null,null,{"$f":"IF(C152<>\"\",C152,\"\")","v":""}]
[]
[null,null,null,null,null,null,null,null,null,null,null,null,null,null,null,null,null,null,null,null,null,null,null,null,null,null,null,null,null,null,null,null,null,null,null,null,null,null,null,null,null,null,null,null,null,null,null,null,null,null,null,null,null,null,null,null,null,null,null,null,null,null,null,null,null,null,null,null,null,null,null,null,null,null,null,null,null,null,null,null,null,null,null,null,null,null,null,null,null,null,null,null,null,null,null,null,null,null,null,null,null,null,null,null,null,null,null,null,null,null,null,null,null,null,null,null,null,null,null,null,null,null,null,null,null,null,null,null,null,null,null,null,null,null,null,null,null,null,null,null,null,null,null,null,null,null,null,null,null,null,null,null,null,null,null,null,null,null,null,null,null,null,null,null,null,null,null,null,null,null,null,null,null,null,null,null,null,null,null,null,null,null,null,null,null,null,null,null,null,null,null,null,null,null,null,null,null,{"$f":"IF(C154<>\"\",C154,\"\")","v":""}]
[]
[null,null,null,null,null,null,null,null,null,null,null,null,null,null,null,null,null,null,null,null,null,null,null,null,null,null,null,null,null,null,null,null,null,null,null,null,null,null,null,null,null,null,null,null,null,null,null,null,null,null,null,null,null,null,null,null,null,null,null,null,null,null,null,null,null,null,null,null,null,null,null,null,null,null,null,null,null,null,null,null,null,null,null,null,null,null,null,null,null,null,null,null,null,null,null,null,null,null,null,null,null,null,null,null,null,null,null,null,null,null,null,null,null,null,null,null,null,null,null,null,null,null,null,null,null,null,null,null,null,null,null,null,null,null,null,null,null,null,null,null,null,null,null,null,null,null,null,null,null,null,null,null,null,null,null,null,null,null,null,null,null,null,null,null,null,null,null,null,null,null,null,null,null,null,null,null,null,null,null,null,null,null,null,null,null,null,null,null,null,null,null,null,null,null,null,null,null,{"$f":"IF(C156<>\"\",C156,\"\")","v":""}]
[]
[null,null,null,null,null,null,null,null,null,null,null,null,null,null,null,null,null,null,null,null,null,null,null,null,null,null,null,null,null,null,null,null,null,null,null,null,null,null,null,null,null,null,null,null,null,null,null,null,null,null,null,null,null,null,null,null,null,null,null,null,null,null,null,null,null,null,null,null,null,null,null,null,null,null,null,null,null,null,null,null,null,null,null,null,null,null,null,null,null,null,null,null,null,null,null,null,null,null,null,null,null,null,null,null,null,null,null,null,null,null,null,null,null,null,null,null,null,null,null,null,null,null,null,null,null,null,null,null,null,null,null,null,null,null,null,null,null,null,null,null,null,null,null,null,null,null,null,null,null,null,null,null,null,null,null,null,null,null,null,null,null,null,null,null,null,null,null,null,null,null,null,null,null,null,null,null,null,null,null,null,null,null,null,null,null,null,null,null,null,null,null,null,null,null,null,null,null,{"$f":"IF(C158<>\"\",C158,\"\")","v":""}]
[]
[null,null,null,null,null,null,null,null,null,null,null,null,null,null,null,null,null,null,null,null,null,null,null,null,null,null,null,null,null,null,null,null,null,null,null,null,null,null,null,null,null,null,null,null,null,null,null,null,null,null,null,null,null,null,null,null,null,null,null,null,null,null,null,null,null,null,null,null,null,null,null,null,null,null,null,null,null,null,null,null,null,null,null,null,null,null,null,null,null,null,null,null,null,null,null,null,null,null,null,null,null,null,null,null,null,null,null,null,null,null,null,null,null,null,null,null,null,null,null,null,null,null,null,null,null,null,null,null,null,null,null,null,null,null,null,null,null,null,null,null,null,null,null,null,null,null,null,null,null,null,null,null,null,null,null,null,null,null,null,null,null,null,null,null,null,null,null,null,null,null,null,null,null,null,null,null,null,null,null,null,null,null,null,null,null,null,null,null,null,null,null,null,null,null,null,null,null,{"$f":"IF(C160<>\"\",C160,\"\")","v":""}]
[]
[null,null,null,null,null,null,null,null,null,null,null,null,null,null,null,null,null,null,null,null,null,null,null,null,null,null,null,null,null,null,null,null,null,null,null,null,null,null,null,null,null,null,null,null,null,null,null,null,null,null,null,null,null,null,null,null,null,null,null,null,null,null,null,null,null,null,null,null,null,null,null,null,null,null,null,null,null,null,null,null,null,null,null,null,null,null,null,null,null,null,null,null,null,null,null,null,null,null,null,null,null,null,null,null,null,null,null,null,null,null,null,null,null,null,null,null,null,null,null,null,null,null,null,null,null,null,null,null,null,null,null,null,null,null,null,null,null,null,null,null,null,null,null,null,null,null,null,null,null,null,null,null,null,null,null,null,null,null,null,null,null,null,null,null,null,null,null,null,null,null,null,null,null,null,null,null,null,null,null,null,null,null,null,null,null,null,null,null,null,null,null,null,null,null,null,null,null,{"$f":"IF(C162<>\"\",C162,\"\")","v":""}]
[]
[null,null,null,null,null,null,null,null,null,null,null,null,null,null,null,null,null,null,null,null,null,null,null,null,null,null,null,null,null,null,null,null,null,null,null,null,null,null,null,null,null,null,null,null,null,null,null,null,null,null,null,null,null,null,null,null,null,null,null,null,null,null,null,null,null,null,null,null,null,null,null,null,null,null,null,null,null,null,null,null,null,null,null,null,null,null,null,null,null,null,null,null,null,null,null,null,null,null,null,null,null,null,null,null,null,null,null,null,null,null,null,null,null,null,null,null,null,null,null,null,null,null,null,null,null,null,null,null,null,null,null,null,null,null,null,null,null,null,null,null,null,null,null,null,null,null,null,null,null,null,null,null,null,null,null,null,null,null,null,null,null,null,null,null,null,null,null,null,null,null,null,null,null,null,null,null,null,null,null,null,null,null,null,null,null,null,null,null,null,null,null,null,null,null,null,null,null,{"$f":"IF(C164<>\"\",C164,\"\")","v":""}]
[]
[null,null,null,null,null,null,null,null,null,null,null,null,null,null,null,null,null,null,null,null,null,null,null,null,null,null,null,null,null,null,null,null,null,null,null,null,null,null,null,null,null,null,null,null,null,null,null,null,null,null,null,null,null,null,null,null,null,null,null,null,null,null,null,null,null,null,null,null,null,null,null,null,null,null,null,null,null,null,null,null,null,null,null,null,null,null,null,null,null,null,null,null,null,null,null,null,null,null,null,null,null,null,null,null,null,null,null,null,null,null,null,null,null,null,null,null,null,null,null,null,null,null,null,null,null,null,null,null,null,null,null,null,null,null,null,null,null,null,null,null,null,null,null,null,null,null,null,null,null,null,null,null,null,null,null,null,null,null,null,null,null,null,null,null,null,null,null,null,null,null,null,null,null,null,null,null,null,null,null,null,null,null,null,null,null,null,null,null,null,null,null,null,null,null,null,null,null,{"$f":"IF(C166<>\"\",C166,\"\")","v":""}]
[]
[null,null,null,null,null,null,null,null,null,null,null,null,null,null,null,null,null,null,null,null,null,null,null,null,null,null,null,null,null,null,null,null,null,null,null,null,null,null,null,null,null,null,null,null,null,null,null,null,null,null,null,null,null,null,null,null,null,null,null,null,null,null,null,null,null,null,null,null,null,null,null,null,null,null,null,null,null,null,null,null,null,null,null,null,null,null,null,null,null,null,null,null,null,null,null,null,null,null,null,null,null,null,null,null,null,null,null,null,null,null,null,null,null,null,null,null,null,null,null,null,null,null,null,null,null,null,null,null,null,null,null,null,null,null,null,null,null,null,null,null,null,null,null,null,null,null,null,null,null,null,null,null,null,null,null,null,null,null,null,null,null,null,null,null,null,null,null,null,null,null,null,null,null,null,null,null,null,null,null,null,null,null,null,null,null,null,null,null,null,null,null,null,null,null,null,null,null,{"$f":"IF(C168<>\"\",C168,\"\")","v":""}]
[]
[null,null,null,null,null,null,null,null,null,null,null,null,null,null,null,null,null,null,null,null,null,null,null,null,null,null,null,null,null,null,null,null,null,null,null,null,null,null,null,null,null,null,null,null,null,null,null,null,null,null,null,null,null,null,null,null,null,null,null,null,null,null,null,null,null,null,null,null,null,null,null,null,null,null,null,null,null,null,null,null,null,null,null,null,null,null,null,null,null,null,null,null,null,null,null,null,null,null,null,null,null,null,null,null,null,null,null,null,null,null,null,null,null,null,null,null,null,null,null,null,null,null,null,null,null,null,null,null,null,null,null,null,null,null,null,null,null,null,null,null,null,null,null,null,null,null,null,null,null,null,null,null,null,null,null,null,null,null,null,null,null,null,null,null,null,null,null,null,null,null,null,null,null,null,null,null,null,null,null,null,null,null,null,null,null,null,null,null,null,null,null,null,null,null,null,null,null,{"$f":"IF(C170<>\"\",C170,\"\")","v":""}]
[]
[null,null,null,null,null,null,null,null,null,null,null,null,null,null,null,null,null,null,null,null,null,null,null,null,null,null,null,null,null,null,null,null,null,null,null,null,null,null,null,null,null,null,null,null,null,null,null,null,null,null,null,null,null,null,null,null,null,null,null,null,null,null,null,null,null,null,null,null,null,null,null,null,null,null,null,null,null,null,null,null,null,null,null,null,null,null,null,null,null,null,null,null,null,null,null,null,null,null,null,null,null,null,null,null,null,null,null,null,null,null,null,null,null,null,null,null,null,null,null,null,null,null,null,null,null,null,null,null,null,null,null,null,null,null,null,null,null,null,null,null,null,null,null,null,null,null,null,null,null,null,null,null,null,null,null,null,null,null,null,null,null,null,null,null,null,null,null,null,null,null,null,null,null,null,null,null,null,null,null,null,null,null,null,null,null,null,null,null,null,null,null,null,null,null,null,null,null,{"$f":"IF(C172<>\"\",C172,\"\")","v":""}]
[]
[null,null,null,null,null,null,null,null,null,null,null,null,null,null,null,null,null,null,null,null,null,null,null,null,null,null,null,null,null,null,null,null,null,null,null,null,null,null,null,null,null,null,null,null,null,null,null,null,null,null,null,null,null,null,null,null,null,null,null,null,null,null,null,null,null,null,null,null,null,null,null,null,null,null,null,null,null,null,null,null,null,null,null,null,null,null,null,null,null,null,null,null,null,null,null,null,null,null,null,null,null,null,null,null,null,null,null,null,null,null,null,null,null,null,null,null,null,null,null,null,null,null,null,null,null,null,null,null,null,null,null,null,null,null,null,null,null,null,null,null,null,null,null,null,null,null,null,null,null,null,null,null,null,null,null,null,null,null,null,null,null,null,null,null,null,null,null,null,null,null,null,null,null,null,null,null,null,null,null,null,null,null,null,null,null,null,null,null,null,null,null,null,null,null,null,null,null,{"$f":"IF(C174<>\"\",C174,\"\")","v":""}]
[]
[null,null,null,null,null,null,null,null,null,null,null,null,null,null,null,null,null,null,null,null,null,null,null,null,null,null,null,null,null,null,null,null,null,null,null,null,null,null,null,null,null,null,null,null,null,null,null,null,null,null,null,null,null,null,null,null,null,null,null,null,null,null,null,null,null,null,null,null,null,null,null,null,null,null,null,null,null,null,null,null,null,null,null,null,null,null,null,null,null,null,null,null,null,null,null,null,null,null,null,null,null,null,null,null,null,null,null,null,null,null,null,null,null,null,null,null,null,null,null,null,null,null,null,null,null,null,null,null,null,null,null,null,null,null,null,null,null,null,null,null,null,null,null,null,null,null,null,null,null,null,null,null,null,null,null,null,null,null,null,null,null,null,null,null,null,null,null,null,null,null,null,null,null,null,null,null,null,null,null,null,null,null,null,null,null,null,null,null,null,null,null,null,null,null,null,null,null,{"$f":"IF(C176<>\"\",C176,\"\")","v":""}]
[]
[null,null,null,null,null,null,null,null,null,null,null,null,null,null,null,null,null,null,null,null,null,null,null,null,null,null,null,null,null,null,null,null,null,null,null,null,null,null,null,null,null,null,null,null,null,null,null,null,null,null,null,null,null,null,null,null,null,null,null,null,null,null,null,null,null,null,null,null,null,null,null,null,null,null,null,null,null,null,null,null,null,null,null,null,null,null,null,null,null,null,null,null,null,null,null,null,null,null,null,null,null,null,null,null,null,null,null,null,null,null,null,null,null,null,null,null,null,null,null,null,null,null,null,null,null,null,null,null,null,null,null,null,null,null,null,null,null,null,null,null,null,null,null,null,null,null,null,null,null,null,null,null,null,null,null,null,null,null,null,null,null,null,null,null,null,null,null,null,null,null,null,null,null,null,null,null,null,null,null,null,null,null,null,null,null,null,null,null,null,null,null,null,null,null,null,null,null,{"$f":"IF(C178<>\"\",C178,\"\")","v":""}]
[]
[null,"","",null,null,null,null,null,null,null,null,null,null,null,null,null,null,"",null,null,null,null,null,null,null,"",null,null,null,null,null,null,null,"",null,null,null,null,null,null,null,"",null,null,null,null,null,null,null,"",null,null,null,null,null,null,null,"",null,null,null,null,null,null,null,"",null,null,null,null,null,null,null,"",null,null,null,null,null,null,null,"",null,null,null,null,null,null,null,null,null,null,null,null,null,null,null,"",null,null,null,null,null,null,null,"",null,null,null,null,null,null,null,null,null,null,null,null,null,null,null,"",null,null,null,null,null,null,null,null,null,null,null,null,null,null,null,null,"",null,null,null,null,null,null,null,null,null,null,null,null,null,null,"",null,null,null,null,null,null,null,"",null,null,null,null,null,null,null,"",null,null,null,null,null,null,null,"",null,null,null,null,null,null,null,"",null,null,null,null,null,null,null,"",null,null,"","",null,null,null,null,null,null,null,null,null,null,null,null,null,null,"",null,null,null,null,null,null,null,"",null,null,null,null,null,null,null,"",null,null,null,null,null,null,null,"",null,null,null,null,null,null,null,"",null,null,null,null,null,null,null,"",null,null,null,null,null,null,null,"",null,null,null,null,null,null,null,"",null,null,null,null,null,null,null,"",null,null,null,null,null,null,null,null,null,null,null,null,null,null,null,"",null,null,null,null,null,null,null,"",null,null,null,null,null,null,null,null,null,null,null,null,null,null,null,"",null,null,null,null,null,null,null,null,null,null,null,null,null,null,null,null,"",null,null,null,null,null,null,null,null,null,null,null,null,null,null,"",null,null,null,null,null,null,null,"",null,null,null,null,null,null,null,"",null,null,null,null,null,null,null,"",null,null,null,null,null,null,null,"",null,null,null,null,null,null,null,""]
[]
[null,"FILE NO.",null,null,null,null,null,null,{"$f":"IF(ProjectInformation!$B$12<>\"\",ProjectInformation!$B$12,\"\")","v":""},null,null,null,null,null,null,{"$f":"UPPER(ProjectInformation!$B$8)","v":"ENGLISH"},null,null,null,null,null,null,"DESIGN TEAM",null,null,null,null,null,null,null,null,{"$f":"IF(AND(ProjectInformation!$B$3<>\"\",ProjectInformation!$B$4<>\"\",ProjectInformation!$B$5<>\"\"),ProjectInformation!$B$3&\"\\\"&ProjectInformation!$B$4&\"\\\"&ProjectInformation!$B$5,IF(AND(ProjectInformation!$B$3<>\"\",ProjectInformation!$B$4<>\"\"),ProjectInformation!$B$3&\"\\\"&ProjectInformation!$B$4,IF(ProjectInformation!$B$3<>\"\",ProjectInformation!$B$3,\"\")))","v":"WHKS & CO."},null,null,null,null,null,null,null,null,null,null,null,null,null,null,null,null,null,null,null,null,null,null,null,null,null,null,null,null,null,null,null,null,null,null,null,null,null,null,null,null,null,{"$f":"IF(ProjectInformation!$B$6<>\"\",ProjectInformation!$B$6,\"\")","v":"CLINTON"},null,null,null,null,null,null,null,null,null,null,null,null,null,null,null,null,null,null,null,null,null,null,null,null,null,null,null,null,null,null,null,null,null,null,null,null,null,null,null,null,"COUNTY",null,null,null,null,null,"PROJECT NUMBER",null,null,null,null,null,null,null,null,null,null,null,{"$f":"IF(ProjectInformation!$B$7<>\"\",ProjectInformation!$B$7,\"\")","v":"STPN-136-1(73)--2J-23"},null,null,null,null,null,null,null,null,null,null,null,null,null,null,null,null,null,null,null,null,null,null,null,null,null,null,null,null,null,"SHEET NUMBER",null,null,null,null,null,null,null,null,null,null,null,null,null,null,null,null,null,{"$f":"IF(GE182<>\"\",\"REVISED\",\"\")","v":""},null,null,null,null,null,{"$f":"IF(ProjectInformation!$B$9<>\"\",ProjectInformation!$B$9,\"\")","v":""},null,null,null,null,null,null,null,null,null,"FILE NO.",null,null,null,null,null,null,{"$f":"IF(ProjectInformation!$B$12<>\"\",ProjectInformation!$B$12,\"\")","v":""},null,null,null,null,null,null,{"$f":"UPPER(ProjectInformation!$B$8)","v":"ENGLISH"},null,null,null,null,null,null,"DESIGN TEAM",null,null,null,null,null,null,null,null,{"$f":"IF(AND(ProjectInformation!$B$3<>\"\",ProjectInformation!$B$4<>\"\",ProjectInformation!$B$5<>\"\"),ProjectInformation!$B$3&\"\\\"&ProjectInformation!$B$4&\"\\\"&ProjectInformation!$B$5,IF(AND(ProjectInformation!$B$3<>\"\",ProjectInformation!$B$4<>\"\"),ProjectInformation!$B$3&\"\\\"&ProjectInformation!$B$4,IF(ProjectInformation!$B$3<>\"\",ProjectInformation!$B$3,\"\")))","v":"WHKS & CO."},null,null,null,null,null,null,null,null,null,null,null,null,null,null,null,null,null,null,null,null,null,null,null,null,null,null,null,null,null,null,null,null,null,null,null,null,null,null,null,null,null,{"$f":"IF(ProjectInformation!$B$6<>\"\",ProjectInformation!$B$6,\"\")","v":"CLINTON"},null,null,null,null,null,null,null,null,null,null,null,null,null,null,null,null,null,null,null,null,null,null,null,null,null,null,null,null,null,null,null,null,null,null,null,null,null,null,null,null,"COUNTY",null,null,null,null,null,"PROJECT NUMBER",null,null,null,null,null,null,null,null,null,null,null,{"$f":"IF(ProjectInformation!$B$7<>\"\",ProjectInformation!$B$7,\"\")","v":"STPN-136-1(73)--2J-23"},null,null,null,null,null,null,null,null,null,null,null,null,null,null,null,null,null,null,null,null,null,null,null,null,null,null,null,null,null,"SHEET NUMBER",null,null,null,null,null,null,null,null,null,null,null,null,null,null,null,null,null,{"$f":"IF(NR182<>\"\",\"REVISED\",\"\")","v":""},null,null,null,null,null,{"$f":"IF(ProjectInformation!$B$9<>\"\",ProjectInformation!$B$9,\"\")","v":""}]
[]
[]
[]
[]
["",null,null,null,null,null,null,null,null,null,null,null,null,null,null,null,null,null,null,null,null,null,null,null,null,null,null,null,null,null,null,null,null,null,null,null,null,null,null,null,null,null,null,null,null,null,null,null,null,null,null,null,null,null,null,null,null,null,null,null,null,null,null,null,null,null,null,null,null,null,null,null,null,null,null,null,null,null,null,null,null,null,null,null,null,null,null,null,null,null,null,null,null,null,null,null,null,null,null,null,null,null,null,null,null,null,null,null,null,null,null,null,null,null,null,null,null,null,null,null,null,null,null,null,null,null,null,null,null,null,null,null,null,null,null,null,null,null,null,null,null,null,null,null,null,null,null,null,null,null,null,null,null,null,null,null,null,null,null,null,null,null,null,null,null,null,null,null,null,null,null,null,null,null,null,null,null,null,null,null,null,null,null,null,null,null,null,null,null,null,null,null,null,null,null,""]

{"sheet":"Index","index":6,"n_rows":1,"n_cols":2,"rows_kept":1,"cut":false,"hidden":false,"merged":[]}
["Input File Path","H:\\IDOT\\OpenRoads\\IowaDOTStandards\\RoadDesign\\EarthWork\\"]

{"sheet":"Sta.80+13","index":7,"n_rows":11,"n_cols":21,"rows_kept":11,"cut":false,"hidden":false,"merged":[]}
["Station","Total Cut Unadjusted\n\nVolume","Total Class 10\nUnadjusted\n\nVolume","Topsoil Cut\n\nVolume","Manually\nCalculated Cut\nAdjustments\n(+/- Cut)","Total\nCut\nAdjusted",null,"Total Fill\nUnadjusted\n\nVolume","Existing Topsoil\nStripping\nUndercut\n(+ Fill)","Manual\nCalculated Fill\nAdjustments\n(+/- Fill)","Total\nFill\nAdjusted","Total Fill\n Adjusted w/\nWeighted Average\n1.3  Shrink Factor","Total Cut Adjusted\nMinus Fill w/ Shrink",null,"Approx. Fill Vol.\nBelow 5' & Above\n20' w/ Shrink","Approx. Fill\nVolume Below 3'\nw/ Shrink",null,"Topsoil\nStripping Undercut\nVolume","Topsoil\nPlacement\nUndercut\nVolume","Topsoil Placement\nWith 1.4 Shrink\nFactor","Topsoil Stripping\nMinus Topsoil\nPlacement\nw/Shrink"]
["Sta.80+13"]
[7978.13,98,89,9,null,89,null,1,9,null,10,13,76,null,0,0,null,9,0,0,9]
[8000,74,65,9,null,65,null,2,9,null,11,14.3,50.7,null,0,0,null,9,17,23.8,-14.8]
[8013.55,78,67,11,280,347,null,4,11,12,27,35.1,311.89999999999998,null,0,0,null,11,24,33.6,-22.6]
[8025,130,109,21,null,109,null,11,21,null,32,41.6,67.400000000000006,null,0,0,null,21,42,58.8,-37.799999999999997]
[8050,91,71,20,null,71,null,12,20,null,32,41.6,29.4,null,0,0,null,20,37,51.8,-31.8]
[8075,50,38,12,null,38,null,9,12,null,21,27.3,10.7,null,0,0,null,12,23,32.200000000000003,-20.2]
[8100]
["Sta.80+13"]
["Totals:",{"$f":"ROUNDUP(SUBTOTAL(9,B3:$B$9),0)","v":521},{"$f":"ROUNDUP(SUBTOTAL(9,C3:$C$9),0)","v":439},{"$f":"ROUNDUP(SUBTOTAL(9,D3:$D$9),0)","v":82},{"$f":"ROUNDUP(SUBTOTAL(9,E3:$E$9),0)","v":280},{"$f":"ROUNDUP(SUBTOTAL(9,F3:$F$9),0)","v":719},null,{"$f":"ROUNDUP(SUBTOTAL(9,H3:$H$9),0)","v":39},{"$f":"ROUNDUP(SUBTOTAL(9,I3:$I$9),0)","v":82},{"$f":"ROUNDUP(SUBTOTAL(9,J3:$J$9),0)","v":12},{"$f":"ROUNDUP(SUBTOTAL(9,K3:$K$9),0)","v":133},{"$f":"ROUNDUP(SUBTOTAL(9,L3:$L$9),0)","v":173},{"$f":"ROUNDUP(SUBTOTAL(9,M3:$M$9),0)","v":547},null,{"$f":"ROUNDUP(SUBTOTAL(9,O3:$O$9),0)","v":0},{"$f":"ROUNDUP(SUBTOTAL(9,P3:$P$9),0)","v":0},null,{"$f":"ROUNDUP(SUBTOTAL(9,R3:$R$9),0)","v":82},{"$f":"ROUNDUP(SUBTOTAL(9,S3:$S$9),0)","v":143},{"$f":"ROUNDUP(SUBTOTAL(9,T3:$T$9),0)","v":201},{"$f":"ROUNDUP(SUBTOTAL(9,U3:$U$9),0)","v":-119}]

{"sheet":"Sta.96+34","index":8,"n_rows":13,"n_cols":21,"rows_kept":13,"cut":false,"hidden":false,"merged":[]}
["Station","Total Cut Unadjusted\n\nVolume","Total Class 10\nUnadjusted\n\nVolume","Topsoil Cut\n\nVolume","Manually\nCalculated Cut\nAdjustments\n(+/- Cut)","Total\nCut\nAdjusted",null,"Total Fill\nUnadjusted\n\nVolume","Existing Topsoil\nStripping\nUndercut\n(+ Fill)","Manual\nCalculated Fill\nAdjustments\n(+/- Fill)","Total\nFill\nAdjusted","Total Fill\n Adjusted w/\nWeighted Average\n1.3  Shrink Factor","Total Cut Adjusted\nMinus Fill w/ Shrink",null,"Approx. Fill Vol.\nBelow 5' & Above\n20' w/ Shrink","Approx. Fill\nVolume Below 3'\nw/ Shrink",null,"Topsoil\nStripping Undercut\nVolume","Topsoil\nPlacement\nUndercut\nVolume","Topsoil Placement\nWith 1.4 Shrink\nFactor","Topsoil Stripping\nMinus Topsoil\nPlacement\nw/Shrink"]
["Sta.96+34"]
[9550,24,13,11,null,13,null,15,11,null,26,33.799999999999997,-20.8,null,0,0,null,11,22,30.8,-19.8]
[9575,38,22,16,null,22,null,27,16,null,43,55.9,-33.9,null,0,0,null,16,32,44.8,-28.8]
[9600,54,34,20,null,34,null,50,20,null,70,91,-57,null,0,0,null,20,40,56,-36]
[9625,26,18,8,null,18,null,23,8,null,31,40.299999999999997,-22.3,null,0,0,null,8,17,23.8,-15.8]
[9634,48,34,14,null,34,null,34,14,null,48,62.4,-28.4,null,0,0,null,14,29,40.6,-26.6]
[9650,57,38,19,null,38,null,30,19,null,49,63.7,-25.7,null,0,0,null,19,37,51.8,-32.799999999999997]
[9675,38,23,15,null,23,null,15,15,null,30,39,-16,null,0,0,null,15,30,42,-27]
[9700,21,12,9,null,12,null,6,9,null,15,19.5,-7.5,null,0,0,null,9,19,26.6,-17.600000000000001]
[9725]
["Sta.96+34"]
["Totals:",{"$f":"ROUNDUP(SUBTOTAL(9,B3:$B$11),0)","v":306},{"$f":"ROUNDUP(SUBTOTAL(9,C3:$C$11),0)","v":194},{"$f":"ROUNDUP(SUBTOTAL(9,D3:$D$11),0)","v":112},{"$f":"ROUNDUP(SUBTOTAL(9,E3:$E$11),0)","v":0},{"$f":"ROUNDUP(SUBTOTAL(9,F3:$F$11),0)","v":194},null,{"$f":"ROUNDUP(SUBTOTAL(9,H3:$H$11),0)","v":200},{"$f":"ROUNDUP(SUBTOTAL(9,I3:$I$11),0)","v":112},{"$f":"ROUNDUP(SUBTOTAL(9,J3:$J$11),0)","v":0},{"$f":"ROUNDUP(SUBTOTAL(9,K3:$K$11),0)","v":312},{"$f":"ROUNDUP(SUBTOTAL(9,L3:$L$11),0)","v":406},{"$f":"ROUNDUP(SUBTOTAL(9,M3:$M$11),0)","v":-212},null,{"$f":"ROUNDUP(SUBTOTAL(9,O3:$O$11),0)","v":0},{"$f":"ROUNDUP(SUBTOTAL(9,P3:$P$11),0)","v":0},null,{"$f":"ROUNDUP(SUBTOTAL(9,R3:$R$11),0)","v":112},{"$f":"ROUNDUP(SUBTOTAL(9,S3:$S$11),0)","v":226},{"$f":"ROUNDUP(SUBTOTAL(9,T3:$T$11),0)","v":317},{"$f":"ROUNDUP(SUBTOTAL(9,U3:$U$11),0)","v":-205}]

{"sheet":"Sta.108+76","index":9,"n_rows":12,"n_cols":21,"rows_kept":12,"cut":false,"hidden":false,"merged":[]}
["Station","Total Cut Unadjusted\n\nVolume","Total Class 10\nUnadjusted\n\nVolume","Topsoil Cut\n\nVolume","Manually\nCalculated Cut\nAdjustments\n(+/- Cut)","Total\nCut\nAdjusted",null,"Total Fill\nUnadjusted\n\nVolume","Existing Topsoil\nStripping\nUndercut\n(+ Fill)","Manual\nCalculated Fill\nAdjustments\n(+/- Fill)","Total\nFill\nAdjusted","Total Fill\n Adjusted w/\nWeighted Average\n1.3  Shrink Factor","Total Cut Adjusted\nMinus Fill w/ Shrink",null,"Approx. Fill Vol.\nBelow 5' & Above\n20' w/ Shrink","Approx. Fill\nVolume Below 3'\nw/ Shrink",null,"Topsoil\nStripping Undercut\nVolume","Topsoil\nPlacement\nUndercut\nVolume","Topsoil Placement\nWith 1.4 Shrink\nFactor","Topsoil Stripping\nMinus Topsoil\nPlacement\nw/Shrink"]
["Sta.108+76"]
[10800,37,24,13,null,24,null,28,13,null,41,53.3,-29.3,null,0,0,null,13,27,37.799999999999997,-24.8]
[10825,72,53,19,null,53,null,46,19,null,65,84.5,-31.5,null,0,0,null,19,38,53.2,-34.200000000000003]
[10850,117,95,22,null,95,null,46,22,null,68,88.4,6.6,null,0,0,null,22,45,63,-41]
[10875,6,5,1,null,5,null,1,1,null,2,2.6,2.4,null,0,0,null,1,2,2.8,-1.8]
[10876,139,117,22,null,117,null,26,22,null,48,62.4,54.6,null,0,0,null,22,43,60.2,-38.200000000000003]
[10900,106,89,17,null,89,null,10,17,null,27,35.1,53.9,null,0,0,null,17,34,47.6,-30.6]
[10925,49,38,11,null,38,null,1,11,null,12,15.6,22.4,null,0,0,null,11,22,30.8,-19.8]
[10950]
["Sta.108+76"]
["Totals:",{"$f":"ROUNDUP(SUBTOTAL(9,B3:$B$10),0)","v":526},{"$f":"ROUNDUP(SUBTOTAL(9,C3:$C$10),0)","v":421},{"$f":"ROUNDUP(SUBTOTAL(9,D3:$D$10),0)","v":105},{"$f":"ROUNDUP(SUBTOTAL(9,E3:$E$10),0)","v":0},{"$f":"ROUNDUP(SUBTOTAL(9,F3:$F$10),0)","v":421},null,{"$f":"ROUNDUP(SUBTOTAL(9,H3:$H$10),0)","v":158},{"$f":"ROUNDUP(SUBTOTAL(9,I3:$I$10),0)","v":105},{"$f":"ROUNDUP(SUBTOTAL(9,J3:$J$10),0)","v":0},{"$f":"ROUNDUP(SUBTOTAL(9,K3:$K$10),0)","v":263},{"$f":"ROUNDUP(SUBTOTAL(9,L3:$L$10),0)","v":342},{"$f":"ROUNDUP(SUBTOTAL(9,M3:$M$10),0)","v":80},null,{"$f":"ROUNDUP(SUBTOTAL(9,O3:$O$10),0)","v":0},{"$f":"ROUNDUP(SUBTOTAL(9,P3:$P$10),0)","v":0},null,{"$f":"ROUNDUP(SUBTOTAL(9,R3:$R$10),0)","v":105},{"$f":"ROUNDUP(SUBTOTAL(9,S3:$S$10),0)","v":211},{"$f":"ROUNDUP(SUBTOTAL(9,T3:$T$10),0)","v":296},{"$f":"ROUNDUP(SUBTOTAL(9,U3:$U$10),0)","v":-191}]

{"sheet":"Sta.383+30","index":10,"n_rows":16,"n_cols":21,"rows_kept":16,"cut":false,"hidden":false,"merged":[]}
["Station","Total Cut Unadjusted\n\nVolume","Total Class 10\nUnadjusted\n\nVolume","Topsoil Cut\n\nVolume","Manually\nCalculated Cut\nAdjustments\n(+/- Cut)","Total\nCut\nAdjusted",null,"Total Fill\nUnadjusted\n\nVolume","Existing Topsoil\nStripping\nUndercut\n(+ Fill)","Manual\nCalculated Fill\nAdjustments\n(+/- Fill)","Total\nFill\nAdjusted","Total Fill\n Adjusted w/\nWeighted Average\n1.3  Shrink Factor","Total Cut Adjusted\nMinus Fill w/ Shrink",null,"Approx. Fill Vol.\nBelow 5' & Above\n20' w/ Shrink","Approx. Fill\nVolume Below 3'\nw/ Shrink",null,"Topsoil\nStripping Undercut\nVolume","Topsoil\nPlacement\nUndercut\nVolume","Topsoil Placement\nWith 1.4 Shrink\nFactor","Topsoil Stripping\nMinus Topsoil\nPlacement\nw/Shrink"]
["Sta.383+30"]
[38225,40,27,13,null,27,null,13,13,null,26,33.799999999999997,-6.8,null,0,0,null,13,25,35,-22]
[38250,59,37,22,null,37,null,85,22,null,107,139.1,-102.1,null,0,0,null,22,45,63,-41]
[38275,56,28,28,null,28,null,367,28,null,395,513.5,-485.5,null,0,0,null,28,38,53.2,-25.2]
[38300,53,31,22,null,31,null,463,22,null,485,630.5,-599.5,null,0,0,null,22,41,57.4,-35.4]
[38325,28,7,21,null,7,null,78,21,null,99,128.69999999999999,-121.7,null,0,0,null,21,12,16.8,4.2]
[38330.14,19,19,0,null,19,null,222,"",null,222,288.60000000000002,-269.60000000000002,null,0,0,null,0,45,63,-63]
[38350,49,27,22,null,27,null,83,22,null,105,136.5,-109.5,null,0,0,null,22,44,61.6,-39.6]
[38375,41,27,14,null,27,null,16,14,null,30,39,-12,null,0,0,null,14,27,37.799999999999997,-23.8]
[38400,30,22,8,null,22,null,0,8,null,8,10.4,11.6,null,0,0,null,8,16,22.4,-14.4]
[38425,23,17,6,null,17,null,0,6,null,6,7.8,9.1999999999999993,null,0,0,null,6,12,16.8,-10.8]
[38450,19,14,5,null,14,null,0,5,null,5,6.5,7.5,null,0,0,null,5,9,12.6,-7.6]
[38475]
["Sta.383+30"]
["Totals:",{"$f":"ROUNDUP(SUBTOTAL(9,B3:$B$14),0)","v":417},{"$f":"ROUNDUP(SUBTOTAL(9,C3:$C$14),0)","v":256},{"$f":"ROUNDUP(SUBTOTAL(9,D3:$D$14),0)","v":161},{"$f":"ROUNDUP(SUBTOTAL(9,E3:$E$14),0)","v":0},{"$f":"ROUNDUP(SUBTOTAL(9,F3:$F$14),0)","v":256},null,{"$f":"ROUNDUP(SUBTOTAL(9,H3:$H$14),0)","v":1327},{"$f":"ROUNDUP(SUBTOTAL(9,I3:$I$14),0)","v":161},{"$f":"ROUNDUP(SUBTOTAL(9,J3:$J$14),0)","v":0},{"$f":"ROUNDUP(SUBTOTAL(9,K3:$K$14),0)","v":1488},{"$f":"ROUNDUP(SUBTOTAL(9,L3:$L$14),0)","v":1935},{"$f":"ROUNDUP(SUBTOTAL(9,M3:$M$14),0)","v":-1679},null,{"$f":"ROUNDUP(SUBTOTAL(9,O3:$O$14),0)","v":0},{"$f":"ROUNDUP(SUBTOTAL(9,P3:$P$14),0)","v":0},null,{"$f":"ROUNDUP(SUBTOTAL(9,R3:$R$14),0)","v":161},{"$f":"ROUNDUP(SUBTOTAL(9,S3:$S$14),0)","v":314},{"$f":"ROUNDUP(SUBTOTAL(9,T3:$T$14),0)","v":440},{"$f":"ROUNDUP(SUBTOTAL(9,U3:$U$14),0)","v":-279}]

{"sheet":"Sta.539+60","index":11,"n_rows":12,"n_cols":21,"rows_kept":12,"cut":false,"hidden":false,"merged":[]}
["Station","Total Cut Unadjusted\n\nVolume","Total Class 10\nUnadjusted\n\nVolume","Topsoil Cut\n\nVolume","Manually\nCalculated Cut\nAdjustments\n(+/- Cut)","Total\nCut\nAdjusted",null,"Total Fill\nUnadjusted\n\nVolume","Existing Topsoil\nStripping\nUndercut\n(+ Fill)","Manual\nCalculated Fill\nAdjustments\n(+/- Fill)","Total\nFill\nAdjusted","Total Fill\n Adjusted w/\nWeighted Average\n1.3  Shrink Factor","Total Cut Adjusted\nMinus Fill w/ Shrink",null,"Approx. Fill Vol.\nBelow 5' & Above\n20' w/ Shrink","Approx. Fill\nVolume Below 3'\nw/ Shrink",null,"Topsoil\nStripping Undercut\nVolume","Topsoil\nPlacement\nUndercut\nVolume","Topsoil Placement\nWith 1.4 Shrink\nFactor","Topsoil Stripping\nMinus Topsoil\nPlacement\nw/Shrink"]
["Sta.539+60"]
[53875,27,15,12,null,15,null,13,12,null,25,32.5,-17.5,null,0,0,null,12,25,35,-23]
[53900,52,32,20,null,32,null,53,20,null,73,94.9,-62.9,null,0,0,null,20,40,56,-36]
[53925,68,43,25,null,43,null,115,25,null,140,182,-139,null,0,0,null,25,49,68.599999999999994,-43.6]
[53950,28,17,11,null,17,null,59,11,null,70,91,-74,null,0,0,null,11,22,30.8,-19.8]
[53960,42,25,17,null,25,null,73,17,null,90,117,-92,null,0,0,null,17,33,46.2,-29.2]
[53975,44,23,21,null,23,null,74,21,null,95,123.5,-100.5,null,0,0,null,21,42,58.8,-37.799999999999997]
[54000,20,8,12,null,8,null,30,12,null,42,54.6,-46.6,null,0,0,null,12,23,32.200000000000003,-20.2]
[54025]
["Sta.539+60"]
["Totals:",{"$f":"ROUNDUP(SUBTOTAL(9,B3:$B$10),0)","v":281},{"$f":"ROUNDUP(SUBTOTAL(9,C3:$C$10),0)","v":163},{"$f":"ROUNDUP(SUBTOTAL(9,D3:$D$10),0)","v":118},{"$f":"ROUNDUP(SUBTOTAL(9,E3:$E$10),0)","v":0},{"$f":"ROUNDUP(SUBTOTAL(9,F3:$F$10),0)","v":163},null,{"$f":"ROUNDUP(SUBTOTAL(9,H3:$H$10),0)","v":417},{"$f":"ROUNDUP(SUBTOTAL(9,I3:$I$10),0)","v":118},{"$f":"ROUNDUP(SUBTOTAL(9,J3:$J$10),0)","v":0},{"$f":"ROUNDUP(SUBTOTAL(9,K3:$K$10),0)","v":535},{"$f":"ROUNDUP(SUBTOTAL(9,L3:$L$10),0)","v":696},{"$f":"ROUNDUP(SUBTOTAL(9,M3:$M$10),0)","v":-533},null,{"$f":"ROUNDUP(SUBTOTAL(9,O3:$O$10),0)","v":0},{"$f":"ROUNDUP(SUBTOTAL(9,P3:$P$10),0)","v":0},null,{"$f":"ROUNDUP(SUBTOTAL(9,R3:$R$10),0)","v":118},{"$f":"ROUNDUP(SUBTOTAL(9,S3:$S$10),0)","v":234},{"$f":"ROUNDUP(SUBTOTAL(9,T3:$T$10),0)","v":328},{"$f":"ROUNDUP(SUBTOTAL(9,U3:$U$10),0)","v":-210}]

{"sheet":"Sta.553+83","index":12,"n_rows":14,"n_cols":21,"rows_kept":14,"cut":false,"hidden":false,"merged":[]}
["Station","Total Cut Unadjusted\n\nVolume","Total Class 10\nUnadjusted\n\nVolume","Topsoil Cut\n\nVolume","Manually\nCalculated Cut\nAdjustments\n(+/- Cut)","Total\nCut\nAdjusted",null,"Total Fill\nUnadjusted\n\nVolume","Existing Topsoil\nStripping\nUndercut\n(+ Fill)","Manual\nCalculated Fill\nAdjustments\n(+/- Fill)","Total\nFill\nAdjusted","Total Fill\n Adjusted w/\nWeighted Average\n1.3  Shrink Factor","Total Cut Adjusted\nMinus Fill w/ Shrink",null,"Approx. Fill Vol.\nBelow 5' & Above\n20' w/ Shrink","Approx. Fill\nVolume Below 3'\nw/ Shrink",null,"Topsoil\nStripping Undercut\nVolume","Topsoil\nPlacement\nUndercut\nVolume","Topsoil Placement\nWith 1.4 Shrink\nFactor","Topsoil Stripping\nMinus Topsoil\nPlacement\nw/Shrink"]
["Sta.553+83"]
[55275,15,11,4,null,11,null,0,4,null,4,5.2,5.8,null,0,0,null,4,8,11.2,-7.2]
[55300,35,26,9,null,26,null,1,9,null,10,13,13,null,0,0,null,9,17,23.8,-14.8]
[55325,55,40,15,null,40,null,11,15,null,26,33.799999999999997,6.2,null,0,0,null,15,29,40.6,-25.6]
[55350,76,54,22,null,54,null,61,22,null,83,107.9,-53.9,null,0,0,null,22,43,60.2,-38.200000000000003]
[55375,24,18,6,null,18,null,52,6,null,58,75.400000000000006,-57.4,null,0,0,null,6,16,22.4,-16.399999999999999]
[55383.41,41,29,12,null,29,null,91,12,null,103,133.9,-104.9,null,0,0,null,12,31,43.4,-31.4]
[55400,75,51,24,null,51,null,43,24,null,67,87.1,-36.1,null,0,0,null,24,47,65.8,-41.8]
[55425,66,48,18,null,48,null,10,18,null,28,36.4,11.6,null,0,0,null,18,36,50.4,-32.4]
[55450,37,28,9,null,28,null,0,9,null,9,11.7,16.3,null,0,0,null,9,18,25.2,-16.2]
[55475]
["Sta.553+83"]
["Totals:",{"$f":"ROUNDUP(SUBTOTAL(9,B3:$B$12),0)","v":424},{"$f":"ROUNDUP(SUBTOTAL(9,C3:$C$12),0)","v":305},{"$f":"ROUNDUP(SUBTOTAL(9,D3:$D$12),0)","v":119},{"$f":"ROUNDUP(SUBTOTAL(9,E3:$E$12),0)","v":0},{"$f":"ROUNDUP(SUBTOTAL(9,F3:$F$12),0)","v":305},null,{"$f":"ROUNDUP(SUBTOTAL(9,H3:$H$12),0)","v":269},{"$f":"ROUNDUP(SUBTOTAL(9,I3:$I$12),0)","v":119},{"$f":"ROUNDUP(SUBTOTAL(9,J3:$J$12),0)","v":0},{"$f":"ROUNDUP(SUBTOTAL(9,K3:$K$12),0)","v":388},{"$f":"ROUNDUP(SUBTOTAL(9,L3:$L$12),0)","v":505},{"$f":"ROUNDUP(SUBTOTAL(9,M3:$M$12),0)","v":-200},null,{"$f":"ROUNDUP(SUBTOTAL(9,O3:$O$12),0)","v":0},{"$f":"ROUNDUP(SUBTOTAL(9,P3:$P$12),0)","v":0},null,{"$f":"ROUNDUP(SUBTOTAL(9,R3:$R$12),0)","v":119},{"$f":"ROUNDUP(SUBTOTAL(9,S3:$S$12),0)","v":245},{"$f":"ROUNDUP(SUBTOTAL(9,T3:$T$12),0)","v":343},{"$f":"ROUNDUP(SUBTOTAL(9,U3:$U$12),0)","v":-224}]

{"sheet":"Sta.571+62","index":13,"n_rows":21,"n_cols":21,"rows_kept":21,"cut":false,"hidden":false,"merged":[]}
["Station","Total Cut Unadjusted\n\nVolume","Total Class 10\nUnadjusted\n\nVolume","Topsoil Cut\n\nVolume","Manually\nCalculated Cut\nAdjustments\n(+/- Cut)","Total\nCut\nAdjusted",null,"Total Fill\nUnadjusted\n\nVolume","Existing Topsoil\nStripping\nUndercut\n(+ Fill)","Manual\nCalculated Fill\nAdjustments\n(+/- Fill)","Total\nFill\nAdjusted","Total Fill\n Adjusted w/\nWeighted Average\n1.3  Shrink Factor","Total Cut Adjusted\nMinus Fill w/ Shrink",null,"Approx. Fill Vol.\nBelow 5' & Above\n20' w/ Shrink","Approx. Fill\nVolume Below 3'\nw/ Shrink",null,"Topsoil\nStripping Undercut\nVolume","Topsoil\nPlacement\nUndercut\nVolume","Topsoil Placement\nWith 1.4 Shrink\nFactor","Topsoil Stripping\nMinus Topsoil\nPlacement\nw/Shrink"]
["Sta.571+62"]
[57000,9,5,4,null,5,null,0,4,null,4,5.2,-0.2,null,0,0,null,4,8,11.2,-7.2]
[57025,11,4,7,null,4,null,4,7,null,11,14.3,-10.3,null,0,0,null,7,14,19.600000000000001,-12.6]
[57050,11,3,8,null,3,null,11,8,null,19,24.7,-21.7,null,0,0,null,8,17,23.8,-15.8]
[57075,12,3,9,null,3,null,21,9,null,30,39,-36,null,0,0,null,9,18,25.2,-16.2]
[57100,4,1,3,null,1,null,10,3,null,13,16.899999999999999,-15.9,null,0,0,null,3,6,8.4,-5.4]
[57106.77,26,13,13,null,13,null,48,13,null,61,79.3,-66.3,null,0,0,null,13,25,35,-22]
[57125,73,49,24,null,49,null,97,24,null,121,157.30000000000001,-108.3,null,0,0,null,24,47,65.8,-41.8]
[57150,29,18,11,null,18,null,27,11,null,38,49.4,-31.4,null,0,0,null,11,21,29.4,-18.399999999999999]
[57162.2,24,13,11,null,13,null,30,11,null,41,53.3,-40.299999999999997,null,0,0,null,11,21,29.4,-18.399999999999999]
[57175,50,30,20,null,30,null,66,20,null,86,111.8,-81.8,null,0,0,null,20,40,56,-36]
[57200,19,10,9,null,10,null,6,9,null,15,19.5,-9.5,null,0,0,null,9,18,25.2,-16.2]
[57216.54,5,2,3,null,2,null,2,3,null,5,6.5,-4.5,null,0,0,null,3,6,8.4,-5.4]
[57225,12,4,8,null,4,null,5,8,null,13,16.899999999999999,-12.9,null,0,0,null,8,15,21,-13]
[57250,10,4,6,null,4,null,2,6,null,8,10.4,-6.4,null,0,0,null,6,11,15.4,-9.4]
[57275,9,5,4,null,5,null,0,4,null,4,5.2,-0.2,null,0,0,null,4,7,9.8000000000000007,-5.8]
[57300,6,4,2,null,4,null,0,2,null,2,2.6,1.4,null,0,0,null,2,3,4.2,-2.2000000000000002]
[57325]
["Sta.571+62"]
["Totals:",{"$f":"ROUNDUP(SUBTOTAL(9,B3:$B$19),0)","v":310},{"$f":"ROUNDUP(SUBTOTAL(9,C3:$C$19),0)","v":168},{"$f":"ROUNDUP(SUBTOTAL(9,D3:$D$19),0)","v":142},{"$f":"ROUNDUP(SUBTOTAL(9,E3:$E$19),0)","v":0},{"$f":"ROUNDUP(SUBTOTAL(9,F3:$F$19),0)","v":168},null,{"$f":"ROUNDUP(SUBTOTAL(9,H3:$H$19),0)","v":329},{"$f":"ROUNDUP(SUBTOTAL(9,I3:$I$19),0)","v":142},{"$f":"ROUNDUP(SUBTOTAL(9,J3:$J$19),0)","v":0},{"$f":"ROUNDUP(SUBTOTAL(9,K3:$K$19),0)","v":471},{"$f":"ROUNDUP(SUBTOTAL(9,L3:$L$19),0)","v":613},{"$f":"ROUNDUP(SUBTOTAL(9,M3:$M$19),0)","v":-445},null,{"$f":"ROUNDUP(SUBTOTAL(9,O3:$O$19),0)","v":0},{"$f":"ROUNDUP(SUBTOTAL(9,P3:$P$19),0)","v":0},null,{"$f":"ROUNDUP(SUBTOTAL(9,R3:$R$19),0)","v":142},{"$f":"ROUNDUP(SUBTOTAL(9,S3:$S$19),0)","v":277},{"$f":"ROUNDUP(SUBTOTAL(9,T3:$T$19),0)","v":388},{"$f":"ROUNDUP(SUBTOTAL(9,U3:$U$19),0)","v":-246}]

{"sheet":"Sta.581+05","index":14,"n_rows":8,"n_cols":21,"rows_kept":8,"cut":false,"hidden":false,"merged":[]}
["Station","Total Cut Unadjusted\n\nVolume","Total Class 10\nUnadjusted\n\nVolume","Topsoil Cut\n\nVolume","Manually\nCalculated Cut\nAdjustments\n(+/- Cut)","Total\nCut\nAdjusted",null,"Total Fill\nUnadjusted\n\nVolume","Existing Topsoil\nStripping\nUndercut\n(+ Fill)","Manual\nCalculated Fill\nAdjustments\n(+/- Fill)","Total\nFill\nAdjusted","Total Fill\n Adjusted w/\nWeighted Average\n1.3  Shrink Factor","Total Cut Adjusted\nMinus Fill w/ Shrink",null,"Approx. Fill Vol.\nBelow 5' & Above\n20' w/ Shrink","Approx. Fill\nVolume Below 3'\nw/ Shrink",null,"Topsoil\nStripping Undercut\nVolume","Topsoil\nPlacement\nUndercut\nVolume","Topsoil Placement\nWith 1.4 Shrink\nFactor","Topsoil Stripping\nMinus Topsoil\nPlacement\nw/Shrink"]
["Sta.581+05"]
[58075,17,11,6,null,11,null,7,6,null,13,16.899999999999999,-5.9,null,0,0,null,6,11,15.4,-9.4]
[58100,8,2,6,null,2,null,3,6,null,9,11.7,-9.6999999999999993,null,0,0,null,6,2,2.8,3.2]
[58105.47,7,7,0,null,7,null,10,"",null,10,13,-6,null,0,0,null,0,9,12.6,-12.6]
[58125]
["Sta.581+05"]
["Totals:",{"$f":"ROUNDUP(SUBTOTAL(9,B3:$B$6),0)","v":32},{"$f":"ROUNDUP(SUBTOTAL(9,C3:$C$6),0)","v":20},{"$f":"ROUNDUP(SUBTOTAL(9,D3:$D$6),0)","v":12},{"$f":"ROUNDUP(SUBTOTAL(9,E3:$E$6),0)","v":0},{"$f":"ROUNDUP(SUBTOTAL(9,F3:$F$6),0)","v":20},null,{"$f":"ROUNDUP(SUBTOTAL(9,H3:$H$6),0)","v":20},{"$f":"ROUNDUP(SUBTOTAL(9,I3:$I$6),0)","v":12},{"$f":"ROUNDUP(SUBTOTAL(9,J3:$J$6),0)","v":0},{"$f":"ROUNDUP(SUBTOTAL(9,K3:$K$6),0)","v":32},{"$f":"ROUNDUP(SUBTOTAL(9,L3:$L$6),0)","v":42},{"$f":"ROUNDUP(SUBTOTAL(9,M3:$M$6),0)","v":-22},null,{"$f":"ROUNDUP(SUBTOTAL(9,O3:$O$6),0)","v":0},{"$f":"ROUNDUP(SUBTOTAL(9,P3:$P$6),0)","v":0},null,{"$f":"ROUNDUP(SUBTOTAL(9,R3:$R$6),0)","v":12},{"$f":"ROUNDUP(SUBTOTAL(9,S3:$S$6),0)","v":22},{"$f":"ROUNDUP(SUBTOTAL(9,T3:$T$6),0)","v":31},{"$f":"ROUNDUP(SUBTOTAL(9,U3:$U$6),0)","v":-19}]

{"sheet":"Sta.651+43","index":15,"n_rows":13,"n_cols":21,"rows_kept":13,"cut":false,"hidden":false,"merged":[]}
["Station","Total Cut Unadjusted\n\nVolume","Total Class 10\nUnadjusted\n\nVolume","Topsoil Cut\n\nVolume","Manually\nCalculated Cut\nAdjustments\n(+/- Cut)","Total\nCut\nAdjusted",null,"Total Fill\nUnadjusted\n\nVolume","Existing Topsoil\nStripping\nUndercut\n(+ Fill)","Manual\nCalculated Fill\nAdjustments\n(+/- Fill)","Total\nFill\nAdjusted","Total Fill\n Adjusted w/\nWeighted Average\n1.3  Shrink Factor","Total Cut Adjusted\nMinus Fill w/ Shrink",null,"Approx. Fill Vol.\nBelow 5' & Above\n20' w/ Shrink","Approx. Fill\nVolume Below 3'\nw/ Shrink",null,"Topsoil\nStripping Undercut\nVolume","Topsoil\nPlacement\nUndercut\nVolume","Topsoil Placement\nWith 1.4 Shrink\nFactor","Topsoil Stripping\nMinus Topsoil\nPlacement\nw/Shrink"]
["Sta.651+43"]
[65050,23,15,8,null,15,null,3,8,null,11,14.3,0.7,null,0,0,null,8,16,22.4,-14.4]
[65075,47,33,14,null,33,null,13,14,null,27,35.1,-2.1,null,0,0,null,14,27,37.799999999999997,-23.8]
[65100,102,83,19,null,83,null,19,19,null,38,49.4,33.6,null,0,0,null,19,39,54.6,-35.6]
[65125,110,93,17,null,93,null,31,17,null,48,62.4,30.6,null,0,0,null,17,34,47.6,-30.6]
[65142.85,47,41,6,null,41,null,12,6,null,18,23.4,17.600000000000001,null,0,0,null,6,13,18.2,-12.2]
[65150,144,124,20,null,124,null,18,20,null,38,49.4,74.599999999999994,null,0,0,null,20,39,54.6,-34.6]
[65175,103,86,17,null,86,null,15,17,null,32,41.6,44.4,null,0,0,null,17,34,47.6,-30.6]
[65200,64,51,13,null,51,null,7,13,null,20,26,25,null,0,0,null,13,26,36.4,-23.4]
[65225]
["Sta.651+43"]
["Totals:",{"$f":"ROUNDUP(SUBTOTAL(9,B3:$B$11),0)","v":640},{"$f":"ROUNDUP(SUBTOTAL(9,C3:$C$11),0)","v":526},{"$f":"ROUNDUP(SUBTOTAL(9,D3:$D$11),0)","v":114},{"$f":"ROUNDUP(SUBTOTAL(9,E3:$E$11),0)","v":0},{"$f":"ROUNDUP(SUBTOTAL(9,F3:$F$11),0)","v":526},null,{"$f":"ROUNDUP(SUBTOTAL(9,H3:$H$11),0)","v":118},{"$f":"ROUNDUP(SUBTOTAL(9,I3:$I$11),0)","v":114},{"$f":"ROUNDUP(SUBTOTAL(9,J3:$J$11),0)","v":0},{"$f":"ROUNDUP(SUBTOTAL(9,K3:$K$11),0)","v":232},{"$f":"ROUNDUP(SUBTOTAL(9,L3:$L$11),0)","v":302},{"$f":"ROUNDUP(SUBTOTAL(9,M3:$M$11),0)","v":225},null,{"$f":"ROUNDUP(SUBTOTAL(9,O3:$O$11),0)","v":0},{"$f":"ROUNDUP(SUBTOTAL(9,P3:$P$11),0)","v":0},null,{"$f":"ROUNDUP(SUBTOTAL(9,R3:$R$11),0)","v":114},{"$f":"ROUNDUP(SUBTOTAL(9,S3:$S$11),0)","v":228},{"$f":"ROUNDUP(SUBTOTAL(9,T3:$T$11),0)","v":320},{"$f":"ROUNDUP(SUBTOTAL(9,U3:$U$11),0)","v":-206}]

{"sheet":"Sta.704+70","index":16,"n_rows":10,"n_cols":21,"rows_kept":10,"cut":false,"hidden":false,"merged":[]}
["Station","Total Cut Unadjusted\n\nVolume","Total Class 10\nUnadjusted\n\nVolume","Topsoil Cut\n\nVolume","Manually\nCalculated Cut\nAdjustments\n(+/- Cut)","Total\nCut\nAdjusted",null,"Total Fill\nUnadjusted\n\nVolume","Existing Topsoil\nStripping\nUndercut\n(+ Fill)","Manual\nCalculated Fill\nAdjustments\n(+/- Fill)","Total\nFill\nAdjusted","Total Fill\n Adjusted w/\nWeighted Average\n1.3  Shrink Factor","Total Cut Adjusted\nMinus Fill w/ Shrink",null,"Approx. Fill Vol.\nBelow 5' & Above\n20' w/ Shrink","Approx. Fill\nVolume Below 3'\nw/ Shrink",null,"Topsoil\nStripping Undercut\nVolume","Topsoil\nPlacement\nUndercut\nVolume","Topsoil Placement\nWith 1.4 Shrink\nFactor","Topsoil Stripping\nMinus Topsoil\nPlacement\nw/Shrink"]
["Sta.704+70"]
[70469.66,14,11,3,null,11,null,23,3,null,26,33.799999999999997,-22.8,null,0,0,null,3,6,8.4,-5.4]
[70475,13,2,11,null,2,null,78,11,null,89,115.7,-113.7,null,0,0,null,11,20,28,-17]
[70500,11,3,8,null,3,null,30,8,null,38,49.4,-46.4,null,0,0,null,8,16,22.4,-14.4]
[70525,9,3,6,null,3,null,10,6,null,16,20.8,-17.8,null,0,0,null,6,12,16.8,-10.8]
[70550,6,3,3,null,3,null,2,3,null,5,6.5,-3.5,null,0,0,null,3,6,8.4,-5.4]
[70575]
["Sta.704+70"]
["Totals:",{"$f":"ROUNDUP(SUBTOTAL(9,B3:$B$8),0)","v":53},{"$f":"ROUNDUP(SUBTOTAL(9,C3:$C$8),0)","v":22},{"$f":"ROUNDUP(SUBTOTAL(9,D3:$D$8),0)","v":31},{"$f":"ROUNDUP(SUBTOTAL(9,E3:$E$8),0)","v":0},{"$f":"ROUNDUP(SUBTOTAL(9,F3:$F$8),0)","v":22},null,{"$f":"ROUNDUP(SUBTOTAL(9,H3:$H$8),0)","v":143},{"$f":"ROUNDUP(SUBTOTAL(9,I3:$I$8),0)","v":31},{"$f":"ROUNDUP(SUBTOTAL(9,J3:$J$8),0)","v":0},{"$f":"ROUNDUP(SUBTOTAL(9,K3:$K$8),0)","v":174},{"$f":"ROUNDUP(SUBTOTAL(9,L3:$L$8),0)","v":227},{"$f":"ROUNDUP(SUBTOTAL(9,M3:$M$8),0)","v":-205},null,{"$f":"ROUNDUP(SUBTOTAL(9,O3:$O$8),0)","v":0},{"$f":"ROUNDUP(SUBTOTAL(9,P3:$P$8),0)","v":0},null,{"$f":"ROUNDUP(SUBTOTAL(9,R3:$R$8),0)","v":31},{"$f":"ROUNDUP(SUBTOTAL(9,S3:$S$8),0)","v":60},{"$f":"ROUNDUP(SUBTOTAL(9,T3:$T$8),0)","v":84},{"$f":"ROUNDUP(SUBTOTAL(9,U3:$U$8),0)","v":-53}]

{"sheet":"Sta.743+25","index":17,"n_rows":13,"n_cols":21,"rows_kept":13,"cut":false,"hidden":false,"merged":[]}
["Station","Total Cut Unadjusted\n\nVolume","Total Class 10\nUnadjusted\n\nVolume","Topsoil Cut\n\nVolume","Manually\nCalculated Cut\nAdjustments\n(+/- Cut)","Total\nCut\nAdjusted",null,"Total Fill\nUnadjusted\n\nVolume","Existing Topsoil\nStripping\nUndercut\n(+ Fill)","Manual\nCalculated Fill\nAdjustments\n(+/- Fill)","Total\nFill\nAdjusted","Total Fill\n Adjusted w/\nWeighted Average\n1.3  Shrink Factor","Total Cut Adjusted\nMinus Fill w/ Shrink",null,"Approx. Fill Vol.\nBelow 5' & Above\n20' w/ Shrink","Approx. Fill\nVolume Below 3'\nw/ Shrink",null,"Topsoil\nStripping Undercut\nVolume","Topsoil\nPlacement\nUndercut\nVolume","Topsoil Placement\nWith 1.4 Shrink\nFactor","Topsoil Stripping\nMinus Topsoil\nPlacement\nw/Shrink"]
["Sta.743+25"]
[74225,15,9,6,null,9,null,2,6,null,8,10.4,-1.4,null,0,0,null,6,11,15.4,-9.4]
[74250,50,35,15,null,35,null,9,15,null,24,31.2,3.8,null,0,0,null,15,29,40.6,-25.6]
[74275,77,54,23,null,54,null,18,23,null,41,53.3,0.79999999999999993,null,0,0,null,23,45,63,-40]
[74300,75,47,28,null,47,null,115,28,null,143,185.9,-138.9,null,0,0,null,28,55,77,-49]
[74325.2,74,49,25,null,49,null,114,25,null,139,180.7,-131.69999999999999,null,0,0,null,25,49,68.599999999999994,-43.6]
[74350,65,48,17,null,48,null,17,17,null,34,44.2,3.8,null,0,0,null,17,34,47.6,-30.6]
[74375,40,29,11,null,29,null,6,11,null,17,22.1,6.9,null,0,0,null,11,22,30.8,-19.8]
[74400,21,15,6,null,15,null,0,6,null,6,7.8,7.2,null,0,0,null,6,11,15.4,-9.4]
[74425]
["Sta.743+25"]
["Totals:",{"$f":"ROUNDUP(SUBTOTAL(9,B3:$B$11),0)","v":417},{"$f":"ROUNDUP(SUBTOTAL(9,C3:$C$11),0)","v":286},{"$f":"ROUNDUP(SUBTOTAL(9,D3:$D$11),0)","v":131},{"$f":"ROUNDUP(SUBTOTAL(9,E3:$E$11),0)","v":0},{"$f":"ROUNDUP(SUBTOTAL(9,F3:$F$11),0)","v":286},null,{"$f":"ROUNDUP(SUBTOTAL(9,H3:$H$11),0)","v":281},{"$f":"ROUNDUP(SUBTOTAL(9,I3:$I$11),0)","v":131},{"$f":"ROUNDUP(SUBTOTAL(9,J3:$J$11),0)","v":0},{"$f":"ROUNDUP(SUBTOTAL(9,K3:$K$11),0)","v":412},{"$f":"ROUNDUP(SUBTOTAL(9,L3:$L$11),0)","v":536},{"$f":"ROUNDUP(SUBTOTAL(9,M3:$M$11),0)","v":-250},null,{"$f":"ROUNDUP(SUBTOTAL(9,O3:$O$11),0)","v":0},{"$f":"ROUNDUP(SUBTOTAL(9,P3:$P$11),0)","v":0},null,{"$f":"ROUNDUP(SUBTOTAL(9,R3:$R$11),0)","v":131},{"$f":"ROUNDUP(SUBTOTAL(9,S3:$S$11),0)","v":256},{"$f":"ROUNDUP(SUBTOTAL(9,T3:$T$11),0)","v":359},{"$f":"ROUNDUP(SUBTOTAL(9,U3:$U$11),0)","v":-228}]

{"sheet":"Sta.766+09","index":18,"n_rows":12,"n_cols":21,"rows_kept":12,"cut":false,"hidden":false,"merged":[]}
["Station","Total Cut Unadjusted\n\nVolume","Total Class 10\nUnadjusted\n\nVolume","Topsoil Cut\n\nVolume","Manually\nCalculated Cut\nAdjustments\n(+/- Cut)","Total\nCut\nAdjusted",null,"Total Fill\nUnadjusted\n\nVolume","Existing Topsoil\nStripping\nUndercut\n(+ Fill)","Manual\nCalculated Fill\nAdjustments\n(+/- Fill)","Total\nFill\nAdjusted","Total Fill\n Adjusted w/\nWeighted Average\n1.3  Shrink Factor","Total Cut Adjusted\nMinus Fill w/ Shrink",null,"Approx. Fill Vol.\nBelow 5' & Above\n20' w/ Shrink","Approx. Fill\nVolume Below 3'\nw/ Shrink",null,"Topsoil\nStripping Undercut\nVolume","Topsoil\nPlacement\nUndercut\nVolume","Topsoil Placement\nWith 1.4 Shrink\nFactor","Topsoil Stripping\nMinus Topsoil\nPlacement\nw/Shrink"]
["Sta.766+09"]
[76525,52,37,15,null,37,null,29,15,null,44,57.2,-20.2,null,0,0,null,15,28,39.200000000000003,-24.2]
[76550,144,120,24,null,120,null,73,24,null,97,126.1,-6.1,null,0,0,null,24,48,67.2,-43.2]
[76575,216,186,30,null,186,null,108,30,null,138,179.4,6.6,null,0,0,null,30,58,81.2,-51.2]
[76600,88,77,11,null,77,null,46,11,null,57,74.099999999999994,3,null,0,0,null,11,22,30.8,-19.8]
[76609,142,122,20,null,122,null,90,20,null,110,143,-21,null,0,0,null,20,39,54.6,-34.6]
[76625,163,134,29,null,134,null,117,29,null,146,189.8,-55.8,null,0,0,null,29,56,78.400000000000006,-49.4]
[76650,80,58,22,null,58,null,57,22,null,79,102.7,-44.7,null,0,0,null,22,43,60.2,-38.200000000000003]
[76675]
["Sta.766+09"]
["Totals:",{"$f":"ROUNDUP(SUBTOTAL(9,B3:$B$10),0)","v":885},{"$f":"ROUNDUP(SUBTOTAL(9,C3:$C$10),0)","v":734},{"$f":"ROUNDUP(SUBTOTAL(9,D3:$D$10),0)","v":151},{"$f":"ROUNDUP(SUBTOTAL(9,E3:$E$10),0)","v":0},{"$f":"ROUNDUP(SUBTOTAL(9,F3:$F$10),0)","v":734},null,{"$f":"ROUNDUP(SUBTOTAL(9,H3:$H$10),0)","v":520},{"$f":"ROUNDUP(SUBTOTAL(9,I3:$I$10),0)","v":151},{"$f":"ROUNDUP(SUBTOTAL(9,J3:$J$10),0)","v":0},{"$f":"ROUNDUP(SUBTOTAL(9,K3:$K$10),0)","v":671},{"$f":"ROUNDUP(SUBTOTAL(9,L3:$L$10),0)","v":873},{"$f":"ROUNDUP(SUBTOTAL(9,M3:$M$10),0)","v":-139},null,{"$f":"ROUNDUP(SUBTOTAL(9,O3:$O$10),0)","v":0},{"$f":"ROUNDUP(SUBTOTAL(9,P3:$P$10),0)","v":0},null,{"$f":"ROUNDUP(SUBTOTAL(9,R3:$R$10),0)","v":151},{"$f":"ROUNDUP(SUBTOTAL(9,S3:$S$10),0)","v":294},{"$f":"ROUNDUP(SUBTOTAL(9,T3:$T$10),0)","v":412},{"$f":"ROUNDUP(SUBTOTAL(9,U3:$U$10),0)","v":-261}]

{"sheet":"Sta.788+20","index":19,"n_rows":13,"n_cols":21,"rows_kept":13,"cut":false,"hidden":false,"merged":[]}
["Station","Total Cut Unadjusted\n\nVolume","Total Class 10\nUnadjusted\n\nVolume","Topsoil Cut\n\nVolume","Manually\nCalculated Cut\nAdjustments\n(+/- Cut)","Total\nCut\nAdjusted",null,"Total Fill\nUnadjusted\n\nVolume","Existing Topsoil\nStripping\nUndercut\n(+ Fill)","Manual\nCalculated Fill\nAdjustments\n(+/- Fill)","Total\nFill\nAdjusted","Total Fill\n Adjusted w/\nWeighted Average\n1.3  Shrink Factor","Total Cut Adjusted\nMinus Fill w/ Shrink",null,"Approx. Fill Vol.\nBelow 5' & Above\n20' w/ Shrink","Approx. Fill\nVolume Below 3'\nw/ Shrink",null,"Topsoil\nStripping Undercut\nVolume","Topsoil\nPlacement\nUndercut\nVolume","Topsoil Placement\nWith 1.4 Shrink\nFactor","Topsoil Stripping\nMinus Topsoil\nPlacement\nw/Shrink"]
["Sta.788+20"]
[78725,64,54,10,null,54,null,0,10,null,10,13,41,null,0,0,null,10,19,26.6,-16.600000000000001]
[78750,104,89,15,null,89,null,2,15,null,17,22.1,66.900000000000006,null,0,0,null,15,29,40.6,-25.6]
[78775,139,121,18,null,121,null,5,18,null,23,29.9,91.1,null,0,0,null,18,36,50.4,-32.4]
[78800,172,149,23,null,149,null,27,23,null,50,65,84,null,0,0,null,23,45,63,-40]
[78825,155,133,22,33,166,null,27,22,null,49,63.7,102.3,null,0,0,null,22,43,60.2,-38.200000000000003]
[78850,72,60,12,null,60,null,4,12,null,16,20.8,39.200000000000003,null,0,0,null,12,24,33.6,-21.6]
[78875,18,9,9,null,9,null,0,9,null,9,11.7,-2.7,null,0,0,null,9,6,8.4,0.6]
[78900,4,4,0,null,4,null,0,"",null,0,0,4,null,0,0,null,0,3,4.2,-4.2]
[78925]
["Sta.788+20"]
["Totals:",{"$f":"ROUNDUP(SUBTOTAL(9,B3:$B$11),0)","v":728},{"$f":"ROUNDUP(SUBTOTAL(9,C3:$C$11),0)","v":619},{"$f":"ROUNDUP(SUBTOTAL(9,D3:$D$11),0)","v":109},{"$f":"ROUNDUP(SUBTOTAL(9,E3:$E$11),0)","v":33},{"$f":"ROUNDUP(SUBTOTAL(9,F3:$F$11),0)","v":652},null,{"$f":"ROUNDUP(SUBTOTAL(9,H3:$H$11),0)","v":65},{"$f":"ROUNDUP(SUBTOTAL(9,I3:$I$11),0)","v":109},{"$f":"ROUNDUP(SUBTOTAL(9,J3:$J$11),0)","v":0},{"$f":"ROUNDUP(SUBTOTAL(9,K3:$K$11),0)","v":174},{"$f":"ROUNDUP(SUBTOTAL(9,L3:$L$11),0)","v":227},{"$f":"ROUNDUP(SUBTOTAL(9,M3:$M$11),0)","v":426},null,{"$f":"ROUNDUP(SUBTOTAL(9,O3:$O$11),0)","v":0},{"$f":"ROUNDUP(SUBTOTAL(9,P3:$P$11),0)","v":0},null,{"$f":"ROUNDUP(SUBTOTAL(9,R3:$R$11),0)","v":109},{"$f":"ROUNDUP(SUBTOTAL(9,S3:$S$11),0)","v":205},{"$f":"ROUNDUP(SUBTOTAL(9,T3:$T$11),0)","v":287},{"$f":"ROUNDUP(SUBTOTAL(9,U3:$U$11),0)","v":-178}]

{"sheet":"Sta.800+82","index":20,"n_rows":12,"n_cols":21,"rows_kept":12,"cut":false,"hidden":false,"merged":[]}
["Station","Total Cut Unadjusted\n\nVolume","Total Class 10\nUnadjusted\n\nVolume","Topsoil Cut\n\nVolume","Manually\nCalculated Cut\nAdjustments\n(+/- Cut)","Total\nCut\nAdjusted",null,"Total Fill\nUnadjusted\n\nVolume","Existing Topsoil\nStripping\nUndercut\n(+ Fill)","Manual\nCalculated Fill\nAdjustments\n(+/- Fill)","Total\nFill\nAdjusted","Total Fill\n Adjusted w/\nWeighted Average\n1.3  Shrink Factor","Total Cut Adjusted\nMinus Fill w/ Shrink",null,"Approx. Fill Vol.\nBelow 5' & Above\n20' w/ Shrink","Approx. Fill\nVolume Below 3'\nw/ Shrink",null,"Topsoil\nStripping Undercut\nVolume","Topsoil\nPlacement\nUndercut\nVolume","Topsoil Placement\nWith 1.4 Shrink\nFactor","Topsoil Stripping\nMinus Topsoil\nPlacement\nw/Shrink"]
["Sta.800+82"]
[80025,102,88,14,null,88,null,8,14,null,22,28.6,59.4,null,0,0,null,14,28,39.200000000000003,-25.2]
[80050,169,149,20,null,149,null,19,20,null,39,50.7,98.3,null,0,0,null,20,40,56,-36]
[80075,60,54,6,null,54,null,8,6,null,14,18.2,35.799999999999997,null,0,0,null,6,13,18.2,-12.2]
[80082,152,136,16,83,219,null,18,16,null,34,44.2,174.8,null,0,0,null,16,32,44.8,-28.8]
[80100,106,87,19,null,87,null,30,19,null,49,63.7,23.3,null,0,0,null,19,37,51.8,-32.799999999999997]
[80125,34,21,13,null,21,null,28,13,null,41,53.3,-32.299999999999997,null,0,0,null,13,26,36.4,-23.4]
[80150,10,3,7,null,3,null,6,7,null,13,16.899999999999999,-13.9,null,0,0,null,7,13,18.2,-11.2]
[80175]
["Sta.800+82"]
["Totals:",{"$f":"ROUNDUP(SUBTOTAL(9,B3:$B$10),0)","v":633},{"$f":"ROUNDUP(SUBTOTAL(9,C3:$C$10),0)","v":538},{"$f":"ROUNDUP(SUBTOTAL(9,D3:$D$10),0)","v":95},{"$f":"ROUNDUP(SUBTOTAL(9,E3:$E$10),0)","v":83},{"$f":"ROUNDUP(SUBTOTAL(9,F3:$F$10),0)","v":621},null,{"$f":"ROUNDUP(SUBTOTAL(9,H3:$H$10),0)","v":117},{"$f":"ROUNDUP(SUBTOTAL(9,I3:$I$10),0)","v":95},{"$f":"ROUNDUP(SUBTOTAL(9,J3:$J$10),0)","v":0},{"$f":"ROUNDUP(SUBTOTAL(9,K3:$K$10),0)","v":212},{"$f":"ROUNDUP(SUBTOTAL(9,L3:$L$10),0)","v":276},{"$f":"ROUNDUP(SUBTOTAL(9,M3:$M$10),0)","v":346},null,{"$f":"ROUNDUP(SUBTOTAL(9,O3:$O$10),0)","v":0},{"$f":"ROUNDUP(SUBTOTAL(9,P3:$P$10),0)","v":0},null,{"$f":"ROUNDUP(SUBTOTAL(9,R3:$R$10),0)","v":95},{"$f":"ROUNDUP(SUBTOTAL(9,S3:$S$10),0)","v":189},{"$f":"ROUNDUP(SUBTOTAL(9,T3:$T$10),0)","v":265},{"$f":"ROUNDUP(SUBTOTAL(9,U3:$U$10),0)","v":-170}]

{"sheet":"Sta.808+67","index":21,"n_rows":13,"n_cols":21,"rows_kept":13,"cut":false,"hidden":false,"merged":[]}
["Station","Total Cut Unadjusted\n\nVolume","Total Class 10\nUnadjusted\n\nVolume","Topsoil Cut\n\nVolume","Manually\nCalculated Cut\nAdjustments\n(+/- Cut)","Total\nCut\nAdjusted",null,"Total Fill\nUnadjusted\n\nVolume","Existing Topsoil\nStripping\nUndercut\n(+ Fill)","Manual\nCalculated Fill\nAdjustments\n(+/- Fill)","Total\nFill\nAdjusted","Total Fill\n Adjusted w/\nWeighted Average\n1.3  Shrink Factor","Total Cut Adjusted\nMinus Fill w/ Shrink",null,"Approx. Fill Vol.\nBelow 5' & Above\n20' w/ Shrink","Approx. Fill\nVolume Below 3'\nw/ Shrink",null,"Topsoil\nStripping Undercut\nVolume","Topsoil\nPlacement\nUndercut\nVolume","Topsoil Placement\nWith 1.4 Shrink\nFactor","Topsoil Stripping\nMinus Topsoil\nPlacement\nw/Shrink"]
["Sta.808+67"]
[80775,47,10,37,null,10,null,6,37,null,43,55.9,-45.9,null,0,0,null,37,15,21,16]
[80800,48,48,0,null,48,null,22,"",null,22,28.6,19.399999999999999,null,0,0,null,0,35,49,-49]
[80825,146,115,31,null,115,null,70,31,null,101,131.30000000000001,-16.3,null,0,0,null,31,50,70,-39]
[80850,116,95,21,null,95,null,102,21,null,123,159.9,-64.900000000000006,null,0,0,null,21,43,60.2,-39.200000000000003]
[80867.850000000006,32,24,8,83,107,null,57,8,null,65,84.5,22.5,null,0,0,null,8,15,21,-13]
[80875,43,24,19,null,24,null,179,19,null,198,257.39999999999998,-233.4,null,0,0,null,19,39,54.6,-35.6]
[80900,18,5,13,null,5,null,69,13,null,82,106.6,-101.6,null,0,0,null,13,25,35,-22]
[80925,22,15,7,null,15,null,0,7,null,7,9.1,5.9,null,0,0,null,7,13,18.2,-11.2]
[80950]
["Sta.808+67"]
["Totals:",{"$f":"ROUNDUP(SUBTOTAL(9,B3:$B$11),0)","v":472},{"$f":"ROUNDUP(SUBTOTAL(9,C3:$C$11),0)","v":336},{"$f":"ROUNDUP(SUBTOTAL(9,D3:$D$11),0)","v":136},{"$f":"ROUNDUP(SUBTOTAL(9,E3:$E$11),0)","v":83},{"$f":"ROUNDUP(SUBTOTAL(9,F3:$F$11),0)","v":419},null,{"$f":"ROUNDUP(SUBTOTAL(9,H3:$H$11),0)","v":505},{"$f":"ROUNDUP(SUBTOTAL(9,I3:$I$11),0)","v":136},{"$f":"ROUNDUP(SUBTOTAL(9,J3:$J$11),0)","v":0},{"$f":"ROUNDUP(SUBTOTAL(9,K3:$K$11),0)","v":641},{"$f":"ROUNDUP(SUBTOTAL(9,L3:$L$11),0)","v":834},{"$f":"ROUNDUP(SUBTOTAL(9,M3:$M$11),0)","v":-415},null,{"$f":"ROUNDUP(SUBTOTAL(9,O3:$O$11),0)","v":0},{"$f":"ROUNDUP(SUBTOTAL(9,P3:$P$11),0)","v":0},null,{"$f":"ROUNDUP(SUBTOTAL(9,R3:$R$11),0)","v":136},{"$f":"ROUNDUP(SUBTOTAL(9,S3:$S$11),0)","v":235},{"$f":"ROUNDUP(SUBTOTAL(9,T3:$T$11),0)","v":329},{"$f":"ROUNDUP(SUBTOTAL(9,U3:$U$11),0)","v":-193}]

{"sheet":"Sta.817+91","index":22,"n_rows":14,"n_cols":21,"rows_kept":14,"cut":false,"hidden":false,"merged":[]}
["Station","Total Cut Unadjusted\n\nVolume","Total Class 10\nUnadjusted\n\nVolume","Topsoil Cut\n\nVolume","Manually\nCalculated Cut\nAdjustments\n(+/- Cut)","Total\nCut\nAdjusted",null,"Total Fill\nUnadjusted\n\nVolume","Existing Topsoil\nStripping\nUndercut\n(+ Fill)","Manual\nCalculated Fill\nAdjustments\n(+/- Fill)","Total\nFill\nAdjusted","Total Fill\n Adjusted w/\nWeighted Average\n1.3  Shrink Factor","Total Cut Adjusted\nMinus Fill w/ Shrink",null,"Approx. Fill Vol.\nBelow 5' & Above\n20' w/ Shrink","Approx. Fill\nVolume Below 3'\nw/ Shrink",null,"Topsoil\nStripping Undercut\nVolume","Topsoil\nPlacement\nUndercut\nVolume","Topsoil Placement\nWith 1.4 Shrink\nFactor","Topsoil Stripping\nMinus Topsoil\nPlacement\nw/Shrink"]
["Sta.817+91"]
[81675,9,6,3,null,6,null,0,3,null,3,3.9,2.1,null,0,0,null,3,6,8.4,-5.4]
[81700,20,12,8,null,12,null,2,8,null,10,13,-1,null,0,0,null,8,17,23.8,-15.8]
[81725,51,36,15,null,36,null,17,15,null,32,41.6,-5.6,null,0,0,null,15,29,40.6,-25.6]
[81750,99,84,15,null,84,null,73,15,null,88,114.4,-30.4,null,0,0,null,15,38,53.2,-38.200000000000003]
[81775,76,62,14,null,62,null,37,14,null,51,66.3,-4.3,null,0,0,null,14,31,43.4,-29.4]
[81791,43,34,9,34,68,null,6,9,null,15,19.5,48.5,null,0,0,null,9,17,23.8,-14.8]
[81800,111,93,18,null,93,null,20,18,null,38,49.4,43.6,null,0,0,null,18,36,50.4,-32.4]
[81825,78,63,15,null,63,null,6,15,null,21,27.3,35.700000000000003,null,0,0,null,15,30,42,-27]
[81850,40,31,9,null,31,null,1,9,null,10,13,18,null,0,0,null,9,18,25.2,-16.2]
[81875]
["Sta.817+91"]
["Totals:",{"$f":"ROUNDUP(SUBTOTAL(9,B3:$B$12),0)","v":527},{"$f":"ROUNDUP(SUBTOTAL(9,C3:$C$12),0)","v":421},{"$f":"ROUNDUP(SUBTOTAL(9,D3:$D$12),0)","v":106},{"$f":"ROUNDUP(SUBTOTAL(9,E3:$E$12),0)","v":34},{"$f":"ROUNDUP(SUBTOTAL(9,F3:$F$12),0)","v":455},null,{"$f":"ROUNDUP(SUBTOTAL(9,H3:$H$12),0)","v":162},{"$f":"ROUNDUP(SUBTOTAL(9,I3:$I$12),0)","v":106},{"$f":"ROUNDUP(SUBTOTAL(9,J3:$J$12),0)","v":0},{"$f":"ROUNDUP(SUBTOTAL(9,K3:$K$12),0)","v":268},{"$f":"ROUNDUP(SUBTOTAL(9,L3:$L$12),0)","v":349},{"$f":"ROUNDUP(SUBTOTAL(9,M3:$M$12),0)","v":107},null,{"$f":"ROUNDUP(SUBTOTAL(9,O3:$O$12),0)","v":0},{"$f":"ROUNDUP(SUBTOTAL(9,P3:$P$12),0)","v":0},null,{"$f":"ROUNDUP(SUBTOTAL(9,R3:$R$12),0)","v":106},{"$f":"ROUNDUP(SUBTOTAL(9,S3:$S$12),0)","v":222},{"$f":"ROUNDUP(SUBTOTAL(9,T3:$T$12),0)","v":311},{"$f":"ROUNDUP(SUBTOTAL(9,U3:$U$12),0)","v":-205}]

{"sheet":"Sta.830+53","index":23,"n_rows":12,"n_cols":21,"rows_kept":12,"cut":false,"hidden":false,"merged":[]}
["Station","Total Cut Unadjusted\n\nVolume","Total Class 10\nUnadjusted\n\nVolume","Topsoil Cut\n\nVolume","Manually\nCalculated Cut\nAdjustments\n(+/- Cut)","Total\nCut\nAdjusted",null,"Total Fill\nUnadjusted\n\nVolume","Existing Topsoil\nStripping\nUndercut\n(+ Fill)","Manual\nCalculated Fill\nAdjustments\n(+/- Fill)","Total\nFill\nAdjusted","Total Fill\n Adjusted w/\nWeighted Average\n1.3  Shrink Factor","Total Cut Adjusted\nMinus Fill w/ Shrink",null,"Approx. Fill Vol.\nBelow 5' & Above\n20' w/ Shrink","Approx. Fill\nVolume Below 3'\nw/ Shrink",null,"Topsoil\nStripping Undercut\nVolume","Topsoil\nPlacement\nUndercut\nVolume","Topsoil Placement\nWith 1.4 Shrink\nFactor","Topsoil Stripping\nMinus Topsoil\nPlacement\nw/Shrink"]
["Sta.830+53"]
[82975,55,45,10,null,45,null,4,10,null,14,18.2,26.8,null,0,0,null,10,20,28,-18]
[83000,79,62,17,null,62,null,28,17,null,45,58.5,3.5,null,0,0,null,17,34,47.6,-30.6]
[83025,86,64,22,null,64,null,63,22,null,85,110.5,-46.5,null,0,0,null,22,43,60.2,-38.200000000000003]
[83050,11,8,3,null,8,null,13,3,null,16,20.8,-12.8,null,0,0,null,3,6,8.4,-5.4]
[83053.289999999994,69,49,20,null,49,null,85,20,null,105,136.5,-87.5,null,0,0,null,20,39,54.6,-34.6]
[83075,56,37,19,null,37,null,66,19,null,85,110.5,-73.5,null,0,0,null,19,38,53.2,-34.200000000000003]
[83100,29,16,13,null,16,null,30,13,null,43,55.9,-39.9,null,0,0,null,13,26,36.4,-23.4]
[83125]
["Sta.830+53"]
["Totals:",{"$f":"ROUNDUP(SUBTOTAL(9,B3:$B$10),0)","v":385},{"$f":"ROUNDUP(SUBTOTAL(9,C3:$C$10),0)","v":281},{"$f":"ROUNDUP(SUBTOTAL(9,D3:$D$10),0)","v":104},{"$f":"ROUNDUP(SUBTOTAL(9,E3:$E$10),0)","v":0},{"$f":"ROUNDUP(SUBTOTAL(9,F3:$F$10),0)","v":281},null,{"$f":"ROUNDUP(SUBTOTAL(9,H3:$H$10),0)","v":289},{"$f":"ROUNDUP(SUBTOTAL(9,I3:$I$10),0)","v":104},{"$f":"ROUNDUP(SUBTOTAL(9,J3:$J$10),0)","v":0},{"$f":"ROUNDUP(SUBTOTAL(9,K3:$K$10),0)","v":393},{"$f":"ROUNDUP(SUBTOTAL(9,L3:$L$10),0)","v":511},{"$f":"ROUNDUP(SUBTOTAL(9,M3:$M$10),0)","v":-230},null,{"$f":"ROUNDUP(SUBTOTAL(9,O3:$O$10),0)","v":0},{"$f":"ROUNDUP(SUBTOTAL(9,P3:$P$10),0)","v":0},null,{"$f":"ROUNDUP(SUBTOTAL(9,R3:$R$10),0)","v":104},{"$f":"ROUNDUP(SUBTOTAL(9,S3:$S$10),0)","v":206},{"$f":"ROUNDUP(SUBTOTAL(9,T3:$T$10),0)","v":289},{"$f":"ROUNDUP(SUBTOTAL(9,U3:$U$10),0)","v":-185}]

{"sheet":"Sta.838+23","index":24,"n_rows":13,"n_cols":21,"rows_kept":13,"cut":false,"hidden":false,"merged":[]}
["Station","Total Cut Unadjusted\n\nVolume","Total Class 10\nUnadjusted\n\nVolume","Topsoil Cut\n\nVolume","Manually\nCalculated Cut\nAdjustments\n(+/- Cut)","Total\nCut\nAdjusted",null,"Total Fill\nUnadjusted\n\nVolume","Existing Topsoil\nStripping\nUndercut\n(+ Fill)","Manual\nCalculated Fill\nAdjustments\n(+/- Fill)","Total\nFill\nAdjusted","Total Fill\n Adjusted w/\nWeighted Average\n1.3  Shrink Factor","Total Cut Adjusted\nMinus Fill w/ Shrink",null,"Approx. Fill Vol.\nBelow 5' & Above\n20' w/ Shrink","Approx. Fill\nVolume Below 3'\nw/ Shrink",null,"Topsoil\nStripping Undercut\nVolume","Topsoil\nPlacement\nUndercut\nVolume","Topsoil Placement\nWith 1.4 Shrink\nFactor","Topsoil Stripping\nMinus Topsoil\nPlacement\nw/Shrink"]
["Sta.838+23"]
[83750,111,96,15,null,96,null,1,15,null,16,20.8,75.2,null,0,0,null,15,30,42,-27]
[83775,118,97,21,null,97,null,6,21,null,27,35.1,61.9,null,0,0,null,21,42,58.8,-37.799999999999997]
[83800,97,75,22,null,75,null,26,22,null,48,62.4,12.6,null,0,0,null,22,53,74.2,-52.2]
[83823,7,5,2,21,26,null,7,2,null,9,11.7,14.3,null,0,0,null,2,5,7,-5]
[83825,97,72,25,null,72,null,88,25,null,113,146.9,-74.900000000000006,null,0,0,null,25,51,71.400000000000006,-46.4]
[83850,90,69,21,null,69,null,19,21,null,40,52,17,null,0,0,null,21,42,58.8,-37.799999999999997]
[83875,30,19,11,null,19,null,1,11,null,12,15.6,3.4,null,0,0,null,11,22,30.8,-19.8]
[83900,11,6,5,null,6,null,0,5,null,5,6.5,-0.5,null,0,0,null,5,9,12.6,-7.6]
[83925]
["Sta.838+23"]
["Totals:",{"$f":"ROUNDUP(SUBTOTAL(9,B3:$B$11),0)","v":561},{"$f":"ROUNDUP(SUBTOTAL(9,C3:$C$11),0)","v":439},{"$f":"ROUNDUP(SUBTOTAL(9,D3:$D$11),0)","v":122},{"$f":"ROUNDUP(SUBTOTAL(9,E3:$E$11),0)","v":21},{"$f":"ROUNDUP(SUBTOTAL(9,F3:$F$11),0)","v":460},null,{"$f":"ROUNDUP(SUBTOTAL(9,H3:$H$11),0)","v":148},{"$f":"ROUNDUP(SUBTOTAL(9,I3:$I$11),0)","v":122},{"$f":"ROUNDUP(SUBTOTAL(9,J3:$J$11),0)","v":0},{"$f":"ROUNDUP(SUBTOTAL(9,K3:$K$11),0)","v":270},{"$f":"ROUNDUP(SUBTOTAL(9,L3:$L$11),0)","v":351},{"$f":"ROUNDUP(SUBTOTAL(9,M3:$M$11),0)","v":109},null,{"$f":"ROUNDUP(SUBTOTAL(9,O3:$O$11),0)","v":0},{"$f":"ROUNDUP(SUBTOTAL(9,P3:$P$11),0)","v":0},null,{"$f":"ROUNDUP(SUBTOTAL(9,R3:$R$11),0)","v":122},{"$f":"ROUNDUP(SUBTOTAL(9,S3:$S$11),0)","v":254},{"$f":"ROUNDUP(SUBTOTAL(9,T3:$T$11),0)","v":356},{"$f":"ROUNDUP(SUBTOTAL(9,U3:$U$11),0)","v":-234}]

{"sheet":"Sta.844+27","index":25,"n_rows":13,"n_cols":21,"rows_kept":13,"cut":false,"hidden":false,"merged":[]}
["Station","Total Cut Unadjusted\n\nVolume","Total Class 10\nUnadjusted\n\nVolume","Topsoil Cut\n\nVolume","Manually\nCalculated Cut\nAdjustments\n(+/- Cut)","Total\nCut\nAdjusted",null,"Total Fill\nUnadjusted\n\nVolume","Existing Topsoil\nStripping\nUndercut\n(+ Fill)","Manual\nCalculated Fill\nAdjustments\n(+/- Fill)","Total\nFill\nAdjusted","Total Fill\n Adjusted w/\nWeighted Average\n1.3  Shrink Factor","Total Cut Adjusted\nMinus Fill w/ Shrink",null,"Approx. Fill Vol.\nBelow 5' & Above\n20' w/ Shrink","Approx. Fill\nVolume Below 3'\nw/ Shrink",null,"Topsoil\nStripping Undercut\nVolume","Topsoil\nPlacement\nUndercut\nVolume","Topsoil Placement\nWith 1.4 Shrink\nFactor","Topsoil Stripping\nMinus Topsoil\nPlacement\nw/Shrink"]
["Sta.844+27"]
[84325,47,35,12,null,35,null,15,12,null,27,35.1,-0.2,null,0,0,null,12,24,33.6,-21.6]
[84350,112,97,15,null,97,null,34,15,null,49,63.7,33.299999999999997,null,0,0,null,15,30,42,-27]
[84375,181,163,18,null,163,null,38,18,null,56,72.8,90.2,null,0,0,null,18,36,50.4,-32.4]
[84400,184,166,18,null,166,null,48,18,null,66,85.8,80.2,null,0,0,null,18,37,51.8,-33.799999999999997]
[84425,14,13,1,null,13,null,5,1,null,6,7.8,5.2,null,0,0,null,1,4,5.6,-4.5999999999999996]
[84426.62,192,183,9,1095,1278,null,42,9,null,51,66.3,1211.7,null,0,0,null,9,51,71.400000000000006,-62.4]
[84450,123,108,15,null,108,null,0,15,null,15,19.5,88.5,null,0,0,null,15,29,40.6,-25.6]
[84475,54,45,9,null,45,null,0,9,null,9,11.7,33.299999999999997,null,0,0,null,9,18,25.2,-16.2]
[84500]
["Sta.844+27"]
["Totals:",{"$f":"ROUNDUP(SUBTOTAL(9,B3:$B$11),0)","v":907},{"$f":"ROUNDUP(SUBTOTAL(9,C3:$C$11),0)","v":810},{"$f":"ROUNDUP(SUBTOTAL(9,D3:$D$11),0)","v":97},{"$f":"ROUNDUP(SUBTOTAL(9,E3:$E$11),0)","v":1095},{"$f":"ROUNDUP(SUBTOTAL(9,F3:$F$11),0)","v":1905},null,{"$f":"ROUNDUP(SUBTOTAL(9,H3:$H$11),0)","v":182},{"$f":"ROUNDUP(SUBTOTAL(9,I3:$I$11),0)","v":97},{"$f":"ROUNDUP(SUBTOTAL(9,J3:$J$11),0)","v":0},{"$f":"ROUNDUP(SUBTOTAL(9,K3:$K$11),0)","v":279},{"$f":"ROUNDUP(SUBTOTAL(9,L3:$L$11),0)","v":363},{"$f":"ROUNDUP(SUBTOTAL(9,M3:$M$11),0)","v":1543},null,{"$f":"ROUNDUP(SUBTOTAL(9,O3:$O$11),0)","v":0},{"$f":"ROUNDUP(SUBTOTAL(9,P3:$P$11),0)","v":0},null,{"$f":"ROUNDUP(SUBTOTAL(9,R3:$R$11),0)","v":97},{"$f":"ROUNDUP(SUBTOTAL(9,S3:$S$11),0)","v":229},{"$f":"ROUNDUP(SUBTOTAL(9,T3:$T$11),0)","v":321},{"$f":"ROUNDUP(SUBTOTAL(9,U3:$U$11),0)","v":-224}]

{"sheet":"Sta.855+00","index":26,"n_rows":11,"n_cols":21,"rows_kept":11,"cut":false,"hidden":false,"merged":[]}
["Station","Total Cut Unadjusted\n\nVolume","Total Class 10\nUnadjusted\n\nVolume","Topsoil Cut\n\nVolume","Manually\nCalculated Cut\nAdjustments\n(+/- Cut)","Total\nCut\nAdjusted",null,"Total Fill\nUnadjusted\n\nVolume","Existing Topsoil\nStripping\nUndercut\n(+ Fill)","Manual\nCalculated Fill\nAdjustments\n(+/- Fill)","Total\nFill\nAdjusted","Total Fill\n Adjusted w/\nWeighted Average\n1.3  Shrink Factor","Total Cut Adjusted\nMinus Fill w/ Shrink",null,"Approx. Fill Vol.\nBelow 5' & Above\n20' w/ Shrink","Approx. Fill\nVolume Below 3'\nw/ Shrink",null,"Topsoil\nStripping Undercut\nVolume","Topsoil\nPlacement\nUndercut\nVolume","Topsoil Placement\nWith 1.4 Shrink\nFactor","Topsoil Stripping\nMinus Topsoil\nPlacement\nw/Shrink"]
["Sta.855+00"]
[85425,26,19,7,null,19,null,6,7,null,13,16.899999999999999,2.1,null,0,0,null,7,14,19.600000000000001,-12.6]
[85450,64,41,23,null,41,null,95,23,null,118,153.4,-112.4,null,0,0,null,23,46,64.400000000000006,-41.4]
[85475,113,77,36,null,77,null,185,36,null,221,287.3,-210.3,null,0,0,null,36,72,100.8,-64.8]
[85500,104,69,35,null,69,null,184,35,null,219,284.7,-215.7,null,0,0,null,35,71,99.4,-64.400000000000006]
[85525,48,26,22,null,26,null,94,22,null,116,150.80000000000001,-124.8,null,0,0,null,22,45,63,-41]
[85550,36,25,11,null,25,null,7,11,null,18,23.4,1.6,null,0,0,null,11,22,30.8,-19.8]
[85575]
["Sta.855+00"]
["Totals:",{"$f":"ROUNDUP(SUBTOTAL(9,B3:$B$9),0)","v":391},{"$f":"ROUNDUP(SUBTOTAL(9,C3:$C$9),0)","v":257},{"$f":"ROUNDUP(SUBTOTAL(9,D3:$D$9),0)","v":134},{"$f":"ROUNDUP(SUBTOTAL(9,E3:$E$9),0)","v":0},{"$f":"ROUNDUP(SUBTOTAL(9,F3:$F$9),0)","v":257},null,{"$f":"ROUNDUP(SUBTOTAL(9,H3:$H$9),0)","v":571},{"$f":"ROUNDUP(SUBTOTAL(9,I3:$I$9),0)","v":134},{"$f":"ROUNDUP(SUBTOTAL(9,J3:$J$9),0)","v":0},{"$f":"ROUNDUP(SUBTOTAL(9,K3:$K$9),0)","v":705},{"$f":"ROUNDUP(SUBTOTAL(9,L3:$L$9),0)","v":917},{"$f":"ROUNDUP(SUBTOTAL(9,M3:$M$9),0)","v":-660},null,{"$f":"ROUNDUP(SUBTOTAL(9,O3:$O$9),0)","v":0},{"$f":"ROUNDUP(SUBTOTAL(9,P3:$P$9),0)","v":0},null,{"$f":"ROUNDUP(SUBTOTAL(9,R3:$R$9),0)","v":134},{"$f":"ROUNDUP(SUBTOTAL(9,S3:$S$9),0)","v":270},{"$f":"ROUNDUP(SUBTOTAL(9,T3:$T$9),0)","v":378},{"$f":"ROUNDUP(SUBTOTAL(9,U3:$U$9),0)","v":-244}]

{"sheet":"Sta.909+07","index":27,"n_rows":11,"n_cols":21,"rows_kept":11,"cut":false,"hidden":false,"merged":[]}
["Station","Total Cut Unadjusted\n\nVolume","Total Class 10\nUnadjusted\n\nVolume","Topsoil Cut\n\nVolume","Manually\nCalculated Cut\nAdjustments\n(+/- Cut)","Total\nCut\nAdjusted",null,"Total Fill\nUnadjusted\n\nVolume","Existing Topsoil\nStripping\nUndercut\n(+ Fill)","Manual\nCalculated Fill\nAdjustments\n(+/- Fill)","Total\nFill\nAdjusted","Total Fill\n Adjusted w/\nWeighted Average\n1.3  Shrink Factor","Total Cut Adjusted\nMinus Fill w/ Shrink",null,"Approx. Fill Vol.\nBelow 5' & Above\n20' w/ Shrink","Approx. Fill\nVolume Below 3'\nw/ Shrink",null,"Topsoil\nStripping Undercut\nVolume","Topsoil\nPlacement\nUndercut\nVolume","Topsoil Placement\nWith 1.4 Shrink\nFactor","Topsoil Stripping\nMinus Topsoil\nPlacement\nw/Shrink"]
["Sta.909+07"]
[90850,15,10,5,null,10,null,4,5,null,9,11.7,-1.7,null,0,0,null,5,11,15.4,-10.4]
[90875,22,16,6,null,16,null,8,6,null,14,18.2,-2.2000000000000002,null,0,0,null,6,15,21,-15]
[90900,8,6,2,null,6,null,2,2,null,4,5.2,0.8,null,0,0,null,2,5,7,-5]
[90907.199999999997,20,15,5,null,15,null,6,5,null,11,14.3,0.7,null,0,0,null,5,12,16.8,-11.8]
[90925,21,14,7,null,14,null,8,7,null,15,19.5,-5.5,null,0,0,null,7,15,21,-14]
[90950,13,8,5,null,8,null,4,5,null,9,11.7,-3.7,null,0,0,null,5,11,15.4,-10.4]
[90975]
["Sta.909+07"]
["Totals:",{"$f":"ROUNDUP(SUBTOTAL(9,B3:$B$9),0)","v":99},{"$f":"ROUNDUP(SUBTOTAL(9,C3:$C$9),0)","v":69},{"$f":"ROUNDUP(SUBTOTAL(9,D3:$D$9),0)","v":30},{"$f":"ROUNDUP(SUBTOTAL(9,E3:$E$9),0)","v":0},{"$f":"ROUNDUP(SUBTOTAL(9,F3:$F$9),0)","v":69},null,{"$f":"ROUNDUP(SUBTOTAL(9,H3:$H$9),0)","v":32},{"$f":"ROUNDUP(SUBTOTAL(9,I3:$I$9),0)","v":30},{"$f":"ROUNDUP(SUBTOTAL(9,J3:$J$9),0)","v":0},{"$f":"ROUNDUP(SUBTOTAL(9,K3:$K$9),0)","v":62},{"$f":"ROUNDUP(SUBTOTAL(9,L3:$L$9),0)","v":81},{"$f":"ROUNDUP(SUBTOTAL(9,M3:$M$9),0)","v":-12},null,{"$f":"ROUNDUP(SUBTOTAL(9,O3:$O$9),0)","v":0},{"$f":"ROUNDUP(SUBTOTAL(9,P3:$P$9),0)","v":0},null,{"$f":"ROUNDUP(SUBTOTAL(9,R3:$R$9),0)","v":30},{"$f":"ROUNDUP(SUBTOTAL(9,S3:$S$9),0)","v":69},{"$f":"ROUNDUP(SUBTOTAL(9,T3:$T$9),0)","v":97},{"$f":"ROUNDUP(SUBTOTAL(9,U3:$U$9),0)","v":-67}]

{"sheet":"Summary","index":28,"n_rows":29,"n_cols":21,"rows_kept":29,"cut":false,"hidden":false,"merged":[]}
[{"$f":"IF(DataInformation!A7<>\"\",DataInformation!A7,\"\")","v":"Station"},{"$f":"IF(DataInformation!B7<>\"\",DataInformation!B7,\"\")","v":"Total Cut Unadjusted\n\nVolume"},{"$f":"IF(DataInformation!B7<>\"\",DataInformation!C7,\"\")","v":"Total Class 10\nUnadjusted\n\nVolume"},{"$f":"IF(DataInformation!B7<>\"\",DataInformation!D7,\"\")","v":"Topsoil Cut\n\nVolume"},{"$f":"IF(DataInformation!B7<>\"\",DataInformation!P7,\"\")","v":"Manually\nCalculated Cut\nAdjustments\n(+/- Cut)"},{"$f":"IF(DataInformation!B7<>\"\",DataInformation!Q7,\"\")","v":"Total\nCut\nAdjusted"},null,{"$f":"IF(DataInformation!R7<>\"\",DataInformation!R7,\"\")","v":"Total Fill\nUnadjusted\n\nVolume"},{"$f":"IF(DataInformation!C7<>\"\",DataInformation!T7,\"\")","v":"Existing Topsoil\nStripping\nUndercut\n(+ Fill)"},{"$f":"IF(DataInformation!C7<>\"\",DataInformation!V7,\"\")","v":"Manual\nCalculated Fill\nAdjustments\n(+/- Fill)"},{"$f":"IF(DataInformation!C7<>\"\",DataInformation!W7,\"\")","v":"Total\nFill\nAdjusted"},{"$f":"IF(DataInformation!C7<>\"\",DataInformation!X7,\"\")","v":"Total Fill\n Adjusted w/\nWeighted Average\n1.3  Shrink Factor"},{"$f":"IF(DataInformation!C7<>\"\",DataInformation!Y7,\"\")","v":"Total Cut Adjusted\nMinus Fill w/ Shrink"},null,{"$f":"IF(DataInformation!AB7<>\"\",DataInformation!AB7,\"\")","v":"Approx. Fill Vol.\nBelow 5' & Above\n20' w/ Shrink"},{"$f":"IF(DataInformation!AD7<>\"\",DataInformation!AD7,\"\")","v":"Approx. Fill\nVolume Below 3'\nw/ Shrink"},null,{"$f":"IF(DataInformation!AE7<>\"\",DataInformation!AE7,\"\")","v":"Topsoil\nStripping Undercut\nVolume"},{"$f":"IF(DataInformation!AF7<>\"\",DataInformation!AF7,\"\")","v":"Topsoil\nPlacement\nUndercut\nVolume"},{"$f":"IF(DataInformation!AG7<>\"\",DataInformation!AG7,\"\")","v":"Topsoil Placement\nWith 1.4 Shrink\nFactor"},{"$f":"IF(DataInformation!AH7<>\"\",DataInformation!AH7,\"\")","v":"Topsoil Stripping\nMinus Topsoil\nPlacement\nw/Shrink"}]
[]
["Summary:"]
[]
["Sta.80+13",521,439,82,280,719,null,39,82,12,133,173,547,null,0,0,null,82,143,201,-119]
["Sta.96+34",306,194,112,0,194,null,200,112,0,312,406,-212,null,0,0,null,112,226,317,-205]
["Sta.108+76",526,421,105,0,421,null,158,105,0,263,342,80,null,0,0,null,105,211,296,-191]
["Sta.383+30",417,256,161,0,256,null,1327,161,0,1488,1935,-1679,null,0,0,null,161,314,440,-279]
["Sta.539+60",281,163,118,0,163,null,417,118,0,535,696,-533,null,0,0,null,118,234,328,-210]
["Sta.553+83",424,305,119,0,305,null,269,119,0,388,505,-200,null,0,0,null,119,245,343,-224]
["Sta.571+62",310,168,142,0,168,null,329,142,0,471,613,-445,null,0,0,null,142,277,388,-246]
["Sta.581+05",32,20,12,0,20,null,20,12,0,32,42,-22,null,0,0,null,12,22,31,-19]
["Sta.651+43",640,526,114,0,526,null,118,114,0,232,302,225,null,0,0,null,114,228,320,-206]
["Sta.704+70",53,22,31,0,22,null,143,31,0,174,227,-205,null,0,0,null,31,60,84,-53]
["Sta.743+25",417,286,131,0,286,null,281,131,0,412,536,-250,null,0,0,null,131,256,359,-228]
["Sta.766+09",885,734,151,0,734,null,520,151,0,671,873,-139,null,0,0,null,151,294,412,-261]
["Sta.788+20",728,619,109,33,652,null,65,109,0,174,227,426,null,0,0,null,109,205,287,-178]
["Sta.800+82",633,538,95,83,621,null,117,95,0,212,276,346,null,0,0,null,95,189,265,-170]
["Sta.808+67",472,336,136,83,419,null,505,136,0,641,834,-415,null,0,0,null,136,235,329,-193]
["Sta.817+91",527,421,106,34,455,null,162,106,0,268,349,107,null,0,0,null,106,222,311,-205]
["Sta.830+53",385,281,104,0,281,null,289,104,0,393,511,-230,null,0,0,null,104,206,289,-185]
["Sta.838+23",561,439,122,21,460,null,148,122,0,270,351,109,null,0,0,null,122,254,356,-234]
["Sta.844+27",907,810,97,1095,1905,null,182,97,0,279,363,1543,null,0,0,null,97,229,321,-224]
["Sta.855+00",391,257,134,0,257,null,571,134,0,705,917,-660,null,0,0,null,134,270,378,-244]
["Sta.909+07",99,69,30,0,69,null,32,30,0,62,81,-12,null,0,0,null,30,69,97,-67]
[]
[]
["Project"]
["Totals:",{"$f":"SUBTOTAL(9,$B$5:$B$26)","v":9515},{"$f":"SUBTOTAL(9,$C$5:$C$26)","v":7304},{"$f":"SUBTOTAL(9,$D$5:$D$26)","v":2211},{"$f":"SUBTOTAL(9,$E$5:$E$26)","v":1629},{"$f":"SUBTOTAL(9,$F$5:$F$26)","v":8933},null,{"$f":"SUBTOTAL(9,$H$5:$H$26)","v":5892},{"$f":"SUBTOTAL(9,$I$5:$I$26)","v":2211},{"$f":"SUBTOTAL(9,$J$5:$J$26)","v":12},{"$f":"SUBTOTAL(9,$K$5:$K$26)","v":8115},{"$f":"SUBTOTAL(9,$L$5:$L$26)","v":10559},{"$f":"SUBTOTAL(9,$M$5:$M$26)","v":-1619},null,{"$f":"SUBTOTAL(9,$O$5:$O$26)","v":0},{"$f":"SUBTOTAL(9,$P$5:$P$26)","v":0},null,{"$f":"SUBTOTAL(9,$R$5:$R$26)","v":2211},{"$f":"SUBTOTAL(9,$S$5:$S$26)","v":4389},{"$f":"SUBTOTAL(9,$T$5:$T$26)","v":6152},{"$f":"SUBTOTAL(9,$U$5:$U$26)","v":-3941}]