{"text_format":"1","workbook":"xlsx","n_sheets":9,"sheets":["ProjectInformation","PrintSheets","DE102_3","100_7","102_3","PrintSheetTemplate","Note1","BridgeBlock","Index"],"not_rendered":{"charts":0,"images":4,"macros":1,"external_links":1,"defined_names":8,"comments":1,"pivot_tables":0},"unopened":[],"bounds":{"document_bytes":16777216,"sheet_cells":100000,"rows_first":2000,"rows_last":500,"rows_between":2000,"halvings":0,"cell_chars":16384,"cell_head_chars":4096},"cells_cut":0,"cells_raw":0,"read":"whole","date_system":"1900"}

{"sheet":"ProjectInformation","index":0,"n_rows":11,"n_cols":2,"rows_kept":11,"cut":false,"hidden":false,"merged":[[0,0,0,1],[1,0,1,1],[9,0,9,1],[3,0,4,0]]}
["CPN DATA"]
["INFORMATION ADDED BY DESIGNER"]
["Section Engineer","Flattery"]
["Design Team","Johnson"]
[]
["County","TAMA"]
["Project Number","NHSX-030-6(189)--3H-86"]
["English or Metric","ENGLISH"]
["Revised","2018-08-20"]
["Bridge Block"]
["File No."]

{"sheet":"PrintSheets","index":1,"n_rows":190,"n_cols":179,"rows_kept":190,"cut":false,"hidden":false,"merged":[[94,1,94,178],[188,107,188,118],[188,119,188,148],[188,149,188,158],[188,159,188,164],[188,165,188,170],[189,1,189,178],[188,1,188,7],[188,8,188,14],[188,15,188,21],[188,171,188,178],[188,22,188,30],[188,31,188,64],[188,65,188,100],[188,101,188,106],[93,171,93,178],[93,101,93,106],[93,107,93,118],[93,119,93,148],[93,149,93,158],[93,159,93,164],[93,165,93,170],[93,65,93,100],[93,1,93,7],[93,8,93,14],[93,15,93,21],[93,22,93,30],[93,31,93,64]]}
[" "," "," "," "," "," "]
[]
[]
[]
[]
[]
[]
[]
[]
[]
[]
[]
[]
[]
[]
[]
[]
[]
[]
[]
[]
[]
[]
[]
[]
[]
[]
[]
[]
[]
[]
[]
[]
[]
[]
[]
[]
[]
[]
[]
[]
[]
[]
[]
[]
[]
[]
[]
[]
[]
[]
[]
[]
[]
[]
[]
[]
[]
[]
[]
[]
[]
[]
[]
[]
[]
[]
[]
[]
[]
[]
[]
[]
[]
[]
[]
[]
[]
[]
[]
[]
[]
[]
[]
[]
[]
[]
[]
[]
[]
[]
[]
[null,"","","","","","","","","","","","","","","","","","","","","","","","","","","","","","","","","","","","","","","","","","","","","","","","","","","","","","","","","","","","","","","","","","","","","","","","","","","","","","","","","","","","","","","","","","","","","","","","","","","","","","","","","","","","","","","","","","","","","","","","","","","","","","","","","","","","","","","","","","","","","","","","","","","","","","","",null,"","","","","","","","","","","","","","","","","","","","","","","","","",""]
[null,"FILE NO.",null,null,null,null,null,null,{"$f":"IF(ProjectInformation!$B$11<>\"\",ProjectInformation!$B$11,\"\")","v":""},null,null,null,null,null,null,{"$f":"UPPER(ProjectInformation!B8)","v":"ENGLISH"},null,null,null,null,null,null,"DESIGN TEAM",null,null,null,null,null,null,null,null,{"$f":"IF(AND(ProjectInformation!$B$3<>\"\",ProjectInformation!$B$4<>\"\",ProjectInformation!$B$5<>\"\"),ProjectInformation!$B$3&\"\\\"&ProjectInformation!$B$4&\"\\\"&ProjectInformation!$B$5,IF(AND(ProjectInformation!$B$3<>\"\",ProjectInformation!$B$4<>\"\"),ProjectInformation!$B$3&\"\\\"&ProjectInformation!$B$4,IF(ProjectInformation!$B$3<>\"\",ProjectInformation!$B$3,\"\")))","v":"Flattery\\Johnson"},null,null,null,null,null,null,null,null,null,null,null,null,null,null,null,null,null,null,null,null,null,null,null,null,null,null,null,null,null,null,null,null,null,{"$f":"IF(ProjectInformation!$B$6<>\"\",ProjectInformation!$B$6,\"\")","v":"TAMA"},null,null,null,null,null,null,null,null,null,null,null,null,null,null,null,null,null,null,null,null,null,null,null,null,null,null,null,null,null,null,null,null,null,null,null,"COUNTY",null,null,null,null,null,"PROJECT NUMBER",null,null,null,null,null,null,null,null,null,null,null,{"$f":"IF(ProjectInformation!$B$7<>\"\",ProjectInformation!$B$7,\"\")","v":"NHSX-030-6(189)--3H-86"},null,null,null,null,null,null,null,null,null,null,null,null,null,null,null,null,null,null,null,null,null,null,null,null,null,null,null,null,null,"SHEET NUMBER",null,null,null,null,null,null,null,null,null,"C.14",null,null,null,null,null,{"$f":"IF(FP94<>\"\",\"REVISED\",\"\")","v":"REVISED"},null,null,null,null,null,{"$f":"IF(ProjectInformation!$B$9<>\"\",ProjectInformation!$B$9,\"\")","v":"2018-08-20"}]
["","8/20/2018     8:21:05 AM     ajohns1     c:\\pw_work\\pwmain\\ajohns1\\d0569206\\86030189_C04_Tab102-3M.xlsm"]
[" "]
[]
[]
[]
[]
[]
[]
[]
[]
[]
[]
[]
[]
[]
[]
[]
[]
[]
[]
[]
[]
[]
[]
[]
[]
[]
[]
[]
[]
[]
[]
[]
[]
[]
[]
[]
[]
[]
[]
[]
[]
[]
[]
[]
[]
[]
[]
[]
[]
[]
[]
[]
[]
[]
[]
[]
[]
[]
[]
[]
[]
[]
[]
[]
[]
[]
[]
[]
[]
[]
[]
[]
[]
[]
[]
[]
[]
[]
[]
[]
[]
[]
[]
[]
[]
[]
[]
[]
[]
[]
[]
[]
[null,"","","","","","","","","","","","","","","","","","","","","","","","","","","","","","","","","","","","","","","","","","","","","","","","","","","","","","","","","","","","","","","","","","","","","","","","","","","","","","","","","","","","","","","","","","","","","","","","","","","","","","","","","","","","","","","","","","","","","","","","","","","","","","","","","","","","","","","","","","","","","","","","","","","","","","","",null,"","","","","","","","","","","","","","","","","","","","","","","","","",""]
[null,"FILE NO.",null,null,null,null,null,null,{"$f":"IF(ProjectInformation!$B$11<>\"\",ProjectInformation!$B$11,\"\")","v":""},null,null,null,null,null,null,{"$f":"UPPER(ProjectInformation!B8)","v":"ENGLISH"},null,null,null,null,null,null,"DESIGN TEAM",null,null,null,null,null,null,null,null,{"$f":"IF(AND(ProjectInformation!$B$3<>\"\",ProjectInformation!$B$4<>\"\",ProjectInformation!$B$5<>\"\"),ProjectInformation!$B$3&\"\\\"&ProjectInformation!$B$4&\"\\\"&ProjectInformation!$B$5,IF(AND(ProjectInformation!$B$3<>\"\",ProjectInformation!$B$4<>\"\"),ProjectInformation!$B$3&\"\\\"&ProjectInformation!$B$4,IF(ProjectInformation!$B$3<>\"\",ProjectInformation!$B$3,\"\")))","v":"Flattery\\Johnson"},null,null,null,null,null,null,null,null,null,null,null,null,null,null,null,null,null,null,null,null,null,null,null,null,null,null,null,null,null,null,null,null,null,{"$f":"IF(ProjectInformation!$B$6<>\"\",ProjectInformation!$B$6,\"\")","v":"TAMA"},null,null,null,null,null,null,null,null,null,null,null,null,null,null,null,null,null,null,null,null,null,null,null,null,null,null,null,null,null,null,null,null,null,null,null,"COUNTY",null,null,null,null,null,"PROJECT NUMBER",null,null,null,null,null,null,null,null,null,null,null,{"$f":"IF(ProjectInformation!$B$7<>\"\",ProjectInformation!$B$7,\"\")","v":"NHSX-030-6(189)--3H-86"},null,null,null,null,null,null,null,null,null,null,null,null,null,null,null,null,null,null,null,null,null,null,null,null,null,null,null,null,null,"SHEET NUMBER",null,null,null,null,null,null,null,null,null,null,null,null,null,null,null,{"$f":"IF(FP189<>\"\",\"REVISED\",\"\")","v":"REVISED"},null,null,null,null,null,{"$f":"IF(ProjectInformation!$B$9<>\"\",ProjectInformation!$B$9,\"\")","v":"2018-08-20"}]
["","8/20/2018     8:21:05 AM     ajohns1     c:\\pw_work\\pwmain\\ajohns1\\d0569206\\86030189_C04_Tab102-3M.xlsm"]

{"sheet":"DE102_3","index":2,"n_rows":5928,"n_cols":50,"rows_kept":4500,"cut":true,"hidden":false,"merged":[[25,34,30,34],[27,18,30,18],[27,21,30,21],[27,19,30,19],[27,20,30,20],[25,33,30,33],[28,11,30,11],[28,12,30,12],[28,13,30,13],[28,14,30,14],[28,15,30,15],[27,27,31,27],[27,28,31,28],[27,29,30,29],[25,41,30,41],[28,42,30,42],[28,43,30,43],[25,42,27,43],[28,36,30,36],[25,35,27,39],[28,37,30,37],[28,38,30,38],[22,26,22,46],[24,26,24,46],[25,9,30,9],[27,30,30,30],[27,31,30,31],[25,10,30,10],[25,11,27,15],[25,16,30,16],[25,18,26,21],[25,45,30,45],[25,28,26,28],[25,23,30,23],[25,29,26,31],[25,32,30,32],[25,44,30,44],[27,26,31,26],[14,26,14,46],[15,2,17,24],[15,26,15,46],[16,26,18,46],[18,2,18,24],[25,46,31,46],[19,26,19,46],[25,22,30,22],[25,24,31,24],[25,26,26,27],[25,40,30,40],[28,35,30,35],[28,39,30,39],[20,26,20,46],[21,2,21,24],[21,26,21,32],[27,2,31,2],[27,3,31,3],[27,4,31,4],[27,5,30,5],[27,6,30,6],[33,2,33,3],[19,2,19,6],[19,7,19,9],[20,2,20,24],[23,2,23,24],[24,2,24,24],[22,2,22,24],[25,17,30,17],[27,7,30,7],[25,2,26,3],[25,4,26,4],[25,5,26,7],[25,8,30,8]],"bounds":{"rows_first":2000,"rows_last":500,"rows_between":2000,"halvings":0}}
["TabTitle",{"$f":"C16","v":"ACCESS POINTS AND SAFETY RAMPS"}]
["Number of Tab Columns",21]
["DE Starter Row Number",33]
["TabSheet Starter Row Number",19]
["TabSheet Header Row Count",18]
["Top Header Cell","AA15"]
["Bottom Header Cell","AU32"]
["DESheet Row Count",7]
["Fixed Empty Rows",10]
["Usable Empty Rows",0]
["Total Rows Placed",17,"xlRight(1)","xlLeft(1)","xlLeft(1)","xlLeft(1)","xlRight(1)","xlRight(1)","xlRight(1)","xlRight(1)","xlRight(1)","xlRight(1)","xlRight(1)","xlRight(1)","xlRight(1)","xlRight(1)","xlRight(1)","xlRight(1)",null,"xlRight(1)",null,"xlRight(1)","xlRight(1)","xlRight(1)","xlLeft(1)",null,{"$f":"C11","v":"xlRight(1)"},"xlLeft(1)","xlLeft(1)","xlLeft(1)","xlRight(1)","xlRight(1)","xlRight(1)","xlRight(1)","xlRight(1)","xlRight(1)","xlRight(1)","xlRight(1)","xlRight(1)","xlRight(1)",{"$f":"Q11","v":"xlRight(1)"},null,{"$f":"T11","v":"xlRight(1)"},{"$f":"V11","v":"xlRight(1)"},"xlRight(1)","xlRight(1)",{"$f":"Y11","v":"xlLeft(1)"}]
["Total Rows Needed",{"$f":"SUM(B8:B10)","v":17},"#+00.00","General","General","General","0.0","0.0","0.0","0.0","0.0","0.0","0.0","0.0","0.0","0.0","0","0",null,"0.0",null,"0.0","0.000","0.000","General",null,"#+00.00","General","General","General","0.0","0.0","0.0","0.0","0.0","0.0","0.0","0.0","0.0","0.0","0",null,{"$f":"T12","v":"0.0"},"0.0","0.000","0.000","General"]
["Last Tab DE Starter Row",33,{"$f":"CELL(\"width\",C13)","v":16},6,20,12,12,12,8,8,8,8,10,10,10,10,10,10,null,{"$f":"CELL(\"width\",T13)","v":10},null,{"$f":"CELL(\"width\",V13)","v":10},{"$f":"CELL(\"width\",W13)","v":13},{"$f":"CELL(\"width\",X13)","v":13},{"$f":"CELL(\"width\",Y13)","v":94},null,{"$f":"CELL(\"width\",AA13)","v":0},0,0,0,0,0,0,0,0,0,0,0,0,0,0,null,0,0,0,0,0]
["Last Tab Tabsheet Starter Row",19,"A","B","C","D","E","F","G","H","I","J","K","L","M","N","O","P",null,"Q",null,"R","S","T","U",null,{"$f":"LOWER(C14)","v":"a"},"b","c","d","e","f","g","h","i","j","k","l","m","n",{"$f":"LOWER(Q14)","v":"o"},null,{"$f":"LOWER(T14)","v":"q"},{"$f":"LOWER(V14)","v":"r"},{"$f":"LOWER(W14)","v":"s"},{"$f":"LOWER(X14)","v":"t"},{"$f":"LOWER(Y14)","v":"u"}]
["Last Copy Starter Row",1,null,null,null,null,null,null,null,null,null,null,"Totals:",{"$f":"SUBTOTAL(9,N33:N5928)","v":104},null,null,{"$f":"SUBTOTAL(9,Q33:Q5928)","v":4},null,null,{"$f":"SUBTOTAL(9,T33:T5928)","v":0},null,{"$f":"SUBTOTAL(9,V33:V5928)","v":0},{"$f":"SUBTOTAL(9,W33:W5928)","v":0},{"$f":"SUBTOTAL(9,X33:X5928)","v":0},null,null,"102-3M",null,null,null,null,null,null,null,null,null,null,null,null,null,null,null,null,null,null,null,null,null,"Pipe Type",{"$f":"E26","v":"Type"}]
["Tab Loop Number",2,"ACCESS POINTS AND SAFETY RAMPS",null,null,null,null,null,null,null,null,null,null,null,null,null,null,null,null,null,null,null,null,null,null,null,{"$f":"B17","v":"Modified"},null,null,null,null,null,null,null,null,null,null,null,null,null,null,null,null,null,null,null,null,null,"Reinforced Concrete Pipe.","A"]
["Revision Date","Modified",null,null,null,null,null,null,null,null,null,null,null,null,null,null,null,null,null,null,null,null,null,null,null,null,{"$f":"C16","v":"ACCESS POINTS AND SAFETY RAMPS"},null,null,null,null,null,null,null,null,null,null,null,null,null,null,null,null,null,null,null,null,null,"Corrugated Metal Pipe.","B"]
["Tabulation Width",4,null,null,null,null,null,null,null,null,null,null,null,null,null,null,null,null,null,null,null,null,null,null,null,null,null,null,null,null,null,null,null,null,null,null,null,null,null,null,null,null,null,null,null,null,null,null,null,"C"]
["Horizontal Grid Lines","Yes","Refer to Cross-Sections",null,null,null,null,null,null,null,null,null,null,null,null,null,null,null,null,null,null,null,null,null,null,null,null,null,null,null,null,null,null,null,null,null,null,null,null,null,null,null,null,null,null,null,null,null,null,"Safety Ramp"]
[null,null,"  Length of unclassified pipe calculated is based on using ",null,null,null,null,"Reinforced Concrete Pipe.",null,null,null,null,null,null,null,null,null,null,null,null,null,null,null,null,null,null,{"$f":"C19","v":"Refer to Cross-Sections"},null,null,null,null,null,null,null,null,null,null,null,null,null,null,null,null,null,null,null,null,null,null,"Predetermined"]
[null,null,"   Refer to MI-210 ",null,null,null,null,null,null,null,null,null,null,null,null,null,null,null,null,null,null,null,null,null,null,null,{"$f":"C20&H20","v":"  Length of unclassified pipe calculated is based on using Reinforced Concrete Pipe."}]
[null,null,"   Refer to EW-501.",null,null,null,null,null,null,null,null,null,null,null,null,null,null,null,null,null,null,null,null,null,null,null,{"$f":"C21","v":"   Refer to MI-210 "}]
[null,null,"   Refer to EW-501 or EW-502.",null,null,null,null,null,null,null,null,null,null,null,null,null,null,null,null,null,null,null,null,null,null,null,{"$f":"C22","v":"   Refer to EW-501."}]
[null,null," *Predetermined for access point not constructed with this project.",null,null,null,null,null,null,null,null,null,null,null,null,null,null,null,null,null,null,null,null,null,null,null,{"$f":"C23","v":"   Refer to EW-501 or EW-502."}]
[null,null,{"$f":"\"This Data Entry Sheet fills Tab \"&AA15&\" effective \"&TEXT(B17,\"mm-dd-yy\")","v":"This Data Entry Sheet fills Tab 102-3M effective Modified"},null,null,null,null,null,null,null,null,null,null,null,null,null,null,null,null,null,null,null,null,null,null,null,{"$f":"C24","v":" *Predetermined for access point not constructed with this project."}]
[null,null,"Location",null,"Type","Length of Opening",null,null," "," "," ","Pipe Culvert",null,null,null,null,"Aprons","Aprons (DR-212)","Driveway Surface Area",null,null,null,"Driveway Length","Driveway Surfacing Material","Remarks",null,{"$f":"C26","v":"Location"},null,{"$f":"E26","v":"Type"},{"$f":"F26","v":"Length of Opening"},null,null,{"$f":"I26","v":" "},{"$f":"J26","v":" "},{"$f":"K26","v":" "},{"$f":"L26","v":"Pipe Culvert"},null,null,null,null,{"$f":"Q26","v":"Aprons"},{"$f":"R26","v":"Aprons (DR-212)"},{"$f":"S26","v":"Driveway Surface Area"},null,{"$f":"W26","v":"Driveway Length"},{"$f":"X26","v":"Driveway Surfacing Material"},{"$f":"Y26","v":"Remarks"}]
[]
[null,null,"Station","Side","A, B, C,\nSafety Ramp,\nor Predetermined*","Case","1½\"\nDropped Curb","3\"\nDropped Curb",null,null,null,null,null,null,null,null,null,null,"HMA  Sq. Ft. from Microstation","HMA","PCC  Sq. Ft. from Microstation","PCC",null,null,null,null,{"$f":"C28","v":"Station"},"Side","A, B, C,\nSafety Ramp,\nor Predetermined*","Case","1½\"\nDropped Curb","3\"\nDropped Curb"]
[null,null,null,null,null,null,null,null,null,null,null,null,"Size","Pipe Length","Lt.","Rt.",null,null,null,null,null,null,null,null,null,null,null,null,null,null,null,null,null,null,null,{"$f":"L28","v":0},{"$f":"M29","v":"Size"},{"$f":"N29","v":"Pipe Length"},{"$f":"O29","v":"Lt."},{"$f":"P29","v":"Rt."},null,null,{"$f":"T28","v":"HMA"},{"$f":"V28","v":"PCC"}]
[]
[]
[null,null,null,null,null,"1 or 2","LF","LF","FT","FT","FT","FT","IN","LF","LF","LF","No.","No.","SF","SY","SF","SY","LF","TON",null,null,null,null,null,{"$f":"F32","v":"1 or 2"},"LF","LF","FT","FT","FT","FT","IN","LF","LF","LF",{"$f":"Q32","v":"No."},"No.",{"$f":"T32","v":"SY"},{"$f":"V32","v":"SY"},{"$f":"W32","v":"LF"},{"$f":"X32","v":"TON"}]
[]
[null,null,"Ent. 182+78 Lt.",null,null,null,null,null,null,null,null,null,null,null,null,null,{"$f":"IF(M34<>\"\",2,\"\")","v":""},null,null,{"$f":"IF(S34<>\"\",S34/9,\"\")","v":""},null,{"$f":"IF(U34<>\"\",U34/9,\"\")","v":""}]
[null,null,47,null,null,null,null,null,24,null,null,4.5,24,52,30.3,34,2,null,null,"",null,"","-","-","Additional pipe for 'T' Ent., Skew 22° Rt. Ah."]
[]
[null,null,null,null,null,null,null,null,null,null,null,null,null,null,null,null,"",null,null,{"$f":"IF(S37<>\"\",S37/9,\"\")","v":""},null,{"$f":"IF(U37<>\"\",U37/9,\"\")","v":""}]
[null,null,"TOTALS:",null,null,null,null,null,null,null,null,null,null,{"$f":"SUM(N34:N37)","v":52},null,null,{"$f":"SUM(Q34:Q37)","v":2}]
[null,null,null,null,null,null,null,null,null,null,null,null,null,null,null,null,"",null,null,"",null,""]
[null,null,null,null,null,null,null,null,null,null,null,null,null,null,null,null,"",null,null,"",null,""]
[null,null,null,null,null,null,null,null,null,null,null,null,null,null,null,null,"",null,null,"",null,""]
[null,null,null,null,null,null,null,null,null,null,null,null,null,null,null,null,"",null,null,{"$f":"IF(S42<>\"\",S42/9,\"\")","v":""},null,""]
[null,null,null,null,null,null,null,null,null,null,null,null,null,null,null,null,"",null,null,"",null,""]
[null,null,null,null,null,null,null,null,null,null,null,null,null,null,null,null,"",null,null,"",null,""]
[null,null,null,null,null,null,null,null,null,null,null,null,null,null,null,null,"",null,null,"",null,""]
[null,null,null,null,null,null,null,null,null,null,null,null,null,null,null,null,"",null,null,"",null,{"$f":"IF(U46<>\"\",U46/9,\"\")","v":""}]
[null,null,null,null,null,null,null,null,null,null,null,null,null,null,null,null,"",null,null,"",null,""]
[null,null,null,null,null,null,null,null,null,null,null,null,null,null,null,null,"",null,null,"",null,""]
[null,null,null,null,null,null,null,null,null,null,null,null,null,null,null,null,"",null,null,"",null,""]
[null,null,null,null,null,null,null,null,null,null,null,null,null,null,null,null,"",null,null,"",null,""]
[null,null,null,null,null,null,null,null,null,null,null,null,null,null,null,null,"",null,null,"",null,""]
[null,null,null,null,null,null,null,null,null,null,null,null,null,null,null,null,"",null,null,"",null,""]
[null,null,null,null,null,null,null,null,null,null,null,null,null,null,null,null,"",null,null,"",null,""]
[null,null,null,null,null,null,null,null,null,null,null,null,null,null,null,null,"",null,null,"",null,""]
[null,null,null,null,null,null,null,null,null,null,null,null,null,null,null,null,"",null,null,"",null,""]
[null,null,null,null,null,null,null,null,null,null,null,null,null,null,null,null,"",null,null,"",null,""]
[null,null,null,null,null,null,null,null,null,null,null,null,null,null,null,null,"",null,null,"",null,""]
[null,null,null,null,null,null,null,null,null,null,null,null,null,null,null,null,"",null,null,"",null,""]
[null,null,null,null,null,null,null,null,null,null,null,null,null,null,null,null,"",null,null,"",null,""]
[null,null,null,null,null,null,null,null,null,null,null,null,null,null,null,null,"",null,null,"",null,""]
[null,null,null,null,null,null,null,null,null,null,null,null,null,null,null,null,{"$f":"IF(M61<>\"\",2,\"\")","v":""},null,null,"",null,""]
[null,null,null,null,null,null,null,null,null,null,null,null,null,null,null,null,"",null,null,"",null,""]
[null,null,null,null,null,null,null,null,null,null,null,null,null,null,null,null,"",null,null,"",null,""]
[null,null,null,null,null,null,null,null,null,null,null,null,null,null,null,null,"",null,null,"",null,""]
[null,null,null,null,null,null,null,null,null,null,null,null,null,null,null,null,"",null,null,"",null,""]
[null,null,null,null,null,null,null,null,null,null,null,null,null,null,null,null,"",null,null,"",null,""]
[null,null,null,null,null,null,null,null,null,null,null,null,null,null,null,null,"",null,null,"",null,""]
[null,null,null,null,null,null,null,null,null,null,null,null,null,null,null,null,"",null,null,"",null,""]
[null,null,null,null,null,null,null,null,null,null,null,null,null,null,null,null,"",null,null,"",null,""]
[null,null,null,null,null,null,null,null,null,null,null,null,null,null,null,null,"",null,null,"",null,""]
[null,null,null,null,null,null,null,null,null,null,null,null,null,null,null,null,"",null,null,"",null,""]
[null,null,null,null,null,null,null,null,null,null,null,null,null,null,null,null,"",null,null,"",null,""]
[null,null,null,null,null,null,null,null,null,null,null,null,null,null,null,null,"",null,null,"",null,""]
[null,null,null,null,null,null,null,null,null,null,null,null,null,null,null,null,"",null,null,"",null,""]
[null,null,null,null,null,null,null,null,null,null,null,null,null,null,null,null,"",null,null,"",null,""]
[null,null,null,null,null,null,null,null,null,null,null,null,null,null,null,null,"",null,null,"",null,""]
[null,null,null,null,null,null,null,null,null,null,null,null,null,null,null,null,"",null,null,"",null,""]
[null,null,null,null,null,null,null,null,null,null,null,null,null,null,null,null,"",null,null,"",null,""]
[null,null,null,null,null,null,null,null,null,null,null,null,null,null,null,null,"",null,null,"",null,""]
[null,null,null,null,null,null,null,null,null,null,null,null,null,null,null,null,"",null,null,"",null,""]
[null,null,null,null,null,null,null,null,null,null,null,null,null,null,null,null,"",null,null,"",null,""]
[null,null,null,null,null,null,null,null,null,null,null,null,null,null,null,null,"",null,null,"",null,""]
[null,null,null,null,null,null,null,null,null,null,null,null,null,null,null,null,"",null,null,"",null,""]
[null,null,null,null,null,null,null,null,null,null,null,null,null,null,null,null,"",null,null,"",null,""]
[null,null,null,null,null,null,null,null,null,null,null,null,null,null,null,null,"",null,null,"",null,""]
[null,null,null,null,null,null,null,null,null,null,null,null,null,null,null,null,"",null,null,"",null,""]
[null,null,null,null,null,null,null,null,null,null,null,null,null,null,null,null,"",null,null,"",null,""]
[null,null,null,null,null,null,null,null,null,null,null,null,null,null,null,null,"",null,null,"",null,""]
[null,null,null,null,null,null,null,null,null,null,null,null,null,null,null,null,"",null,null,{"$f":"IF(S89<>\"\",S89/9,\"\")","v":""},null,{"$f":"IF(U89<>\"\",U89/9,\"\")","v":""}]
[null,null,null,null,null,null,null,null,null,null,null,null,null,null,null,null,"",null,null,"",null,""]
[null,null,null,null,null,null,null,null,null,null,null,null,null,null,null,null,"",null,null,"",null,""]
[null,null,null,null,null,null,null,null,null,null,null,null,null,null,null,null,"",null,null,"",null,""]
[null,null,null,null,null,null,null,null,null,null,null,null,null,null,null,null,"",null,null,"",null,""]
[null,null,null,null,null,null,null,null,null,null,null,null,null,null,null,null,"",null,null,"",null,""]
[null,null,null,null,null,null,null,null,null,null,null,null,null,null,null,null,"",null,null,"",null,""]
[null,null,null,null,null,null,null,null,null,null,null,null,null,null,null,null,"",null,null,"",null,""]
[null,null,null,null,null,null,null,null,null,null,null,null,null,null,null,null,"",null,null,"",null,""]
[null,null,null,null,null,null,null,null,null,null,null,null,null,null,null,null,"",null,null,"",null,""]
[null,null,null,null,null,null,null,null,null,null,null,null,null,null,null,null,"",null,null,"",null,""]
[null,null,null,null,null,null,null,null,null,null,null,null,null,null,null,null,"",null,null,"",null,""]
[null,null,null,null,null,null,null,null,null,null,null,null,null,null,null,null,"",null,null,"",null,""]
[null,null,null,null,null,null,null,null,null,null,null,null,null,null,null,null,"",null,null,"",null,""]
[null,null,null,null,null,null,null,null,null,null,null,null,null,null,null,null,"",null,null,"",null,""]
[null,null,null,null,null,null,null,null,null,null,null,null,null,null,null,null,"",null,null,"",null,""]
[null,null,null,null,null,null,null,null,null,null,null,null,null,null,null,null,"",null,null,"",null,""]
[null,null,null,null,null,null,null,null,null,null,null,null,null,null,null,null,"",null,null,"",null,""]
[null,null,null,null,null,null,null,null,null,null,null,null,null,null,null,null,"",null,null,"",null,""]
[null,null,null,null,null,null,null,null,null,null,null,null,null,null,null,null,"",null,null,"",null,""]
[null,null,null,null,null,null,null,null,null,null,null,null,null,null,null,null,"",null,null,"",null,""]
[null,null,null,null,null,null,null,null,null,null,null,null,null,null,null,null,"",null,null,"",null,""]
[null,null,null,null,null,null,null,null,null,null,null,null,null,null,null,null,"",null,null,"",null,""]
[null,null,null,null,null,null,null,null,null,null,null,null,null,null,null,null,"",null,null,"",null,""]
[null,null,null,null,null,null,null,null,null,null,null,null,null,null,null,null,"",null,null,"",null,""]
[null,null,null,null,null,null,null,null,null,null,null,null,null,null,null,null,"",null,null,"",null,""]
[null,null,null,null,null,null,null,null,null,null,null,null,null,null,null,null,"",null,null,"",null,""]
[null,null,null,null,null,null,null,null,null,null,null,null,null,null,null,null,"",null,null,"",null,""]
[null,null,null,null,null,null,null,null,null,null,null,null,null,null,null,null,"",null,null,"",null,""]
[null,null,null,null,null,null,null,null,null,null,null,null,null,null,null,null,"",null,null,"",null,""]
[null,null,null,null,null,null,null,null,null,null,null,null,null,null,null,null,"",null,null,"",null,""]
[null,null,null,null,null,null,null,null,null,null,null,null,null,null,null,null,"",null,null,"",null,""]
[null,null,null,null,null,null,null,null,null,null,null,null,null,null,null,null,"",null,null,"",null,""]
[null,null,null,null,null,null,null,null,null,null,null,null,null,null,null,null,"",null,null,"",null,""]
[null,null,null,null,null,null,null,null,null,null,null,null,null,null,null,null,"",null,null,"",null,""]
[null,null,null,null,null,null,null,null,null,null,null,null,null,null,null,null,"",null,null,"",null,""]
[null,null,null,null,null,null,null,null,null,null,null,null,null,null,null,null,{"$f":"IF(M125<>\"\",2,\"\")","v":""},null,null,"",null,""]
[null,null,null,null,null,null,null,null,null,null,null,null,null,null,null,null,"",null,null,"",null,""]
[null,null,null,null,null,null,null,null,null,null,null,null,null,null,null,null,"",null,null,"",null,""]
[null,null,null,null,null,null,null,null,null,null,null,null,null,null,null,null,"",null,null,"",null,""]
[null,null,null,null,null,null,null,null,null,null,null,null,null,null,null,null,"",null,null,"",null,""]
[null,null,null,null,null,null,null,null,null,null,null,null,null,null,null,null,"",null,null,"",null,""]
[null,null,null,null,null,null,null,null,null,null,null,null,null,null,null,null,"",null,null,"",null,""]
[null,null,null,null,null,null,null,null,null,null,null,null,null,null,null,null,"",null,null,"",null,""]
[null,null,null,null,null,null,null,null,null,null,null,null,null,null,null,null,"",null,null,"",null,""]
[null,null,null,null,null,null,null,null,null,null,null,null,null,null,null,null,"",null,null,"",null,""]
[null,null,null,null,null,null,null,null,null,null,null,null,null,null,null,null,"",null,null,"",null,""]
[null,null,null,null,null,null,null,null,null,null,null,null,null,null,null,null,"",null,null,"",null,""]
[null,null,null,null,null,null,null,null,null,null,null,null,null,null,null,null,"",null,null,"",null,""]
[null,null,null,null,null,null,null,null,null,null,null,null,null,null,null,null,"",null,null,"",null,""]
[null,null,null,null,null,null,null,null,null,null,null,null,null,null,null,null,"",null,null,"",null,""]
[null,null,null,null,null,null,null,null,null,null,null,null,null,null,null,null,"",null,null,"",null,""]
[null,null,null,null,null,null,null,null,null,null,null,null,null,null,null,null,"",null,null,"",null,""]
[null,null,null,null,null,null,null,null,null,null,null,null,null,null,null,null,"",null,null,"",null,""]
[null,null,null,null,null,null,null,null,null,null,null,null,null,null,null,null,"",null,null,"",null,""]
[null,null,null,null,null,null,null,null,null,null,null,null,null,null,null,null,"",null,null,"",null,""]
[null,null,null,null,null,null,null,null,null,null,null,null,null,null,null,null,"",null,null,"",null,""]
[null,null,null,null,null,null,null,null,null,null,null,null,null,null,null,null,"",null,null,"",null,""]
[null,null,null,null,null,null,null,null,null,null,null,null,null,null,null,null,"",null,null,"",null,""]
[null,null,null,null,null,null,null,null,null,null,null,null,null,null,null,null,"",null,null,"",null,""]
[null,null,null,null,null,null,null,null,null,null,null,null,null,null,null,null,"",null,null,"",null,""]
[null,null,null,null,null,null,null,null,null,null,null,null,null,null,null,null,"",null,null,"",null,""]
[null,null,null,null,null,null,null,null,null,null,null,null,null,null,null,null,"",null,null,"",null,""]
[null,null,null,null,null,null,null,null,null,null,null,null,null,null,null,null,"",null,null,"",null,""]
[null,null,null,null,null,null,null,null,null,null,null,null,null,null,null,null,"",null,null,{"$f":"IF(S153<>\"\",S153/9,\"\")","v":""},null,{"$f":"IF(U153<>\"\",U153/9,\"\")","v":""}]
[null,null,null,null,null,null,null,null,null,null,null,null,null,null,null,null,"",null,null,"",null,""]
[null,null,null,null,null,null,null,null,null,null,null,null,null,null,null,null,"",null,null,"",null,""]
[null,null,null,null,null,null,null,null,null,null,null,null,null,null,null,null,"",null,null,"",null,""]
[null,null,null,null,null,null,null,null,null,null,null,null,null,null,null,null,"",null,null,"",null,""]
[null,null,null,null,null,null,null,null,null,null,null,null,null,null,null,null,"",null,null,"",null,""]
[null,null,null,null,null,null,null,null,null,null,null,null,null,null,null,null,"",null,null,"",null,""]
[null,null,null,null,null,null,null,null,null,null,null,null,null,null,null,null,"",null,null,"",null,""]
[null,null,null,null,null,null,null,null,null,null,null,null,null,null,null,null,"",null,null,"",null,""]
[null,null,null,null,null,null,null,null,null,null,null,null,null,null,null,null,"",null,null,"",null,""]
[null,null,null,null,null,null,null,null,null,null,null,null,null,null,null,null,"",null,null,"",null,""]
[null,null,null,null,null,null,null,null,null,null,null,null,null,null,null,null,"",null,null,"",null,""]
[null,null,null,null,null,null,null,null,null,null,null,null,null,null,null,null,"",null,null,"",null,""]
[null,null,null,null,null,null,null,null,null,null,null,null,null,null,null,null,"",null,null,"",null,""]
[null,null,null,null,null,null,null,null,null,null,null,null,null,null,null,null,"",null,null,"",null,""]
[null,null,null,null,null,null,null,null,null,null,null,null,null,null,null,null,"",null,null,"",null,""]
[null,null,null,null,null,null,null,null,null,null,null,null,null,null,null,null,"",null,null,"",null,""]
[null,null,null,null,null,null,null,null,null,null,null,null,null,null,null,null,"",null,null,"",null,""]
[null,null,null,null,null,null,null,null,null,null,null,null,null,null,null,null,"",null,null,"",null,""]
[null,null,null,null,null,null,null,null,null,null,null,null,null,null,null,null,"",null,null,"",null,""]
[null,null,null,null,null,null,null,null,null,null,null,null,null,null,null,null,"",null,null,"",null,""]
[null,null,null,null,null,null,null,null,null,null,null,null,null,null,null,null,"",null,null,"",null,""]
[null,null,null,null,null,null,null,null,null,null,null,null,null,null,null,null,"",null,null,"",null,""]
[null,null,null,null,null,null,null,null,null,null,null,null,null,null,null,null,"",null,null,"",null,""]
[null,null,null,null,null,null,null,null,null,null,null,null,null,null,null,null,"",null,null,"",null,""]
[null,null,null,null,null,null,null,null,null,null,null,null,null,null,null,null,"",null,null,"",null,""]
[null,null,null,null,null,null,null,null,null,null,null,null,null,null,null,null,"",null,null,"",null,""]
[null,null,null,null,null,null,null,null,null,null,null,null,null,null,null,null,"",null,null,"",null,""]
[null,null,null,null,null,null,null,null,null,null,null,null,null,null,null,null,"",null,null,"",null,""]
[null,null,null,null,null,null,null,null,null,null,null,null,null,null,null,null,"",null,null,"",null,""]
[null,null,null,null,null,null,null,null,null,null,null,null,null,null,null,null,"",null,null,"",null,""]
[null,null,null,null,null,null,null,null,null,null,null,null,null,null,null,null,"",null,null,"",null,""]
[null,null,null,null,null,null,null,null,null,null,null,null,null,null,null,null,"",null,null,"",null,""]
[null,null,null,null,null,null,null,null,null,null,null,null,null,null,null,null,"",null,null,"",null,""]
[null,null,null,null,null,null,null,null,null,null,null,null,null,null,null,null,"",null,null,"",null,""]
[null,null,null,null,null,null,null,null,null,null,null,null,null,null,null,null,"",null,null,"",null,""]
[null,null,null,null,null,null,null,null,null,null,null,null,null,null,null,null,{"$f":"IF(M189<>\"\",2,\"\")","v":""},null,null,"",null,""]
[null,null,null,null,null,null,null,null,null,null,null,null,null,null,null,null,"",null,null,"",null,""]
[null,null,null,null,null,null,null,null,null,null,null,null,null,null,null,null,"",null,null,"",null,""]
[null,null,null,null,null,null,null,null,null,null,null,null,null,null,null,null,"",null,null,"",null,""]
[null,null,null,null,null,null,null,null,null,null,null,null,null,null,null,null,"",null,null,"",null,""]
[null,null,null,null,null,null,null,null,null,null,null,null,null,null,null,null,"",null,null,"",null,""]
[null,null,null,null,null,null,null,null,null,null,null,null,null,null,null,null,"",null,null,"",null,""]
[null,null,null,null,null,null,null,null,null,null,null,null,null,null,null,null,"",null,null,"",null,""]
[null,null,null,null,null,null,null,null,null,null,null,null,null,null,null,null,"",null,null,"",null,""]
[null,null,null,null,null,null,null,null,null,null,null,null,null,null,null,null,"",null,null,"",null,""]
[null,null,null,null,null,null,null,null,null,null,null,null,null,null,null,null,"",null,null,"",null,""]
[null,null,null,null,null,null,null,null,null,null,null,null,null,null,null,null,"",null,null,"",null,""]
[null,null,null,null,null,null,null,null,null,null,null,null,null,null,null,null,"",null,null,"",null,""]
[null,null,null,null,null,null,null,null,null,null,null,null,null,null,null,null,"",null,null,"",null,""]
[null,null,null,null,null,null,null,null,null,null,null,null,null,null,null,null,"",null,null,"",null,""]
[null,null,null,null,null,null,null,null,null,null,null,null,null,null,null,null,"",null,null,"",null,""]
[null,null,null,null,null,null,null,null,null,null,null,null,null,null,null,null,"",null,null,"",null,""]
[null,null,null,null,null,null,null,null,null,null,null,null,null,null,null,null,"",null,null,"",null,""]
[null,null,null,null,null,null,null,null,null,null,null,null,null,null,null,null,"",null,null,"",null,""]
[null,null,null,null,null,null,null,null,null,null,null,null,null,null,null,null,"",null,null,"",null,""]
[null,null,null,null,null,null,null,null,null,null,null,null,null,null,null,null,"",null,null,"",null,""]
[null,null,null,null,null,null,null,null,null,null,null,null,null,null,null,null,"",null,null,"",null,""]
[null,null,null,null,null,null,null,null,null,null,null,null,null,null,null,null,"",null,null,"",null,""]
[null,null,null,null,null,null,null,null,null,null,null,null,null,null,null,null,"",null,null,"",null,""]
[null,null,null,null,null,null,null,null,null,null,null,null,null,null,null,null,"",null,null,"",null,""]
[null,null,null,null,null,null,null,null,null,null,null,null,null,null,null,null,"",null,null,"",null,""]
[null,null,null,null,null,null,null,null,null,null,null,null,null,null,null,null,"",null,null,"",null,""]
[null,null,null,null,null,null,null,null,null,null,null,null,null,null,null,null,"",null,null,"",null,""]
[null,null,null,null,null,null,null,null,null,null,null,null,null,null,null,null,"",null,null,{"$f":"IF(S217<>\"\",S217/9,\"\")","v":""},null,{"$f":"IF(U217<>\"\",U217/9,\"\")","v":""}]
[null,null,null,null,null,null,null,null,null,null,null,null,null,null,null,null,"",null,null,"",null,""]
[null,null,null,null,null,null,null,null,null,null,null,null,null,null,null,null,"",null,null,"",null,""]
[null,null,null,null,null,null,null,null,null,null,null,null,null,null,null,null,"",null,null,"",null,""]
[null,null,null,null,null,null,null,null,null,null,null,null,null,null,null,null,"",null,null,"",null,""]
[null,null,null,null,null,null,null,null,null,null,null,null,null,null,null,null,"",null,null,"",null,""]
[null,null,null,null,null,null,null,null,null,null,null,null,null,null,null,null,"",null,null,"",null,""]
[null,null,null,null,null,null,null,null,null,null,null,null,null,null,null,null,"",null,null,"",null,""]
[null,null,null,null,null,null,null,null,null,null,null,null,null,null,null,null,"",null,null,"",null,""]
[null,null,null,null,null,null,null,null,null,null,null,null,null,null,null,null,"",null,null,"",null,""]
[null,null,null,null,null,null,null,null,null,null,null,null,null,null,null,null,"",null,null,"",null,""]
[null,null,null,null,null,null,null,null,null,null,null,null,null,null,null,null,"",null,null,"",null,""]
[null,null,null,null,null,null,null,null,null,null,null,null,null,null,null,null,"",null,null,"",null,""]
[null,null,null,null,null,null,null,null,null,null,null,null,null,null,null,null,"",null,null,"",null,""]
[null,null,null,null,null,null,null,null,null,null,null,null,null,null,null,null,"",null,null,"",null,""]
[null,null,null,null,null,null,null,null,null,null,null,null,null,null,null,null,"",null,null,"",null,""]
[null,null,null,null,null,null,null,null,null,null,null,null,null,null,null,null,"",null,null,"",null,""]
[null,null,null,null,null,null,null,null,null,null,null,null,null,null,null,null,"",null,null,"",null,""]
[null,null,null,null,null,null,null,null,null,null,null,null,null,null,null,null,"",null,null,"",null,""]
[null,null,null,null,null,null,null,null,null,null,null,null,null,null,null,null,"",null,null,"",null,""]
[null,null,null,null,null,null,null,null,null,null,null,null,null,null,null,null,"",null,null,"",null,""]
[null,null,null,null,null,null,null,null,null,null,null,null,null,null,null,null,"",null,null,"",null,""]
[null,null,null,null,null,null,null,null,null,null,null,null,null,null,null,null,"",null,null,"",null,""]
[null,null,null,null,null,null,null,null,null,null,null,null,null,null,null,null,"",null,null,"",null,""]
[null,null,null,null,null,null,null,null,null,null,null,null,null,null,null,null,"",null,null,"",null,""]
[null,null,null,null,null,null,null,null,null,null,null,null,null,null,null,null,"",null,null,"",null,""]
[null,null,null,null,null,null,null,null,null,null,null,null,null,null,null,null,"",null,null,"",null,""]
[null,null,null,null,null,null,null,null,null,null,null,null,null,null,null,null,"",null,null,"",null,""]
[null,null,null,null,null,null,null,null,null,null,null,null,null,null,null,null,"",null,null,"",null,""]
[null,null,null,null,null,null,null,null,null,null,null,null,null,null,null,null,"",null,null,"",null,""]
[null,null,null,null,null,null,null,null,null,null,null,null,null,null,null,null,"",null,null,"",null,""]
[null,null,null,null,null,null,null,null,null,null,null,null,null,null,null,null,"",null,null,"",null,""]
[null,null,null,null,null,null,null,null,null,null,null,null,null,null,null,null,"",null,null,"",null,""]
[null,null,null,null,null,null,null,null,null,null,null,null,null,null,null,null,"",null,null,"",null,""]
[null,null,null,null,null,null,null,null,null,null,null,null,null,null,null,null,"",null,null,"",null,""]
[null,null,null,null,null,null,null,null,null,null,null,null,null,null,null,null,"",null,null,"",null,""]
[null,null,null,null,null,null,null,null,null,null,null,null,null,null,null,null,{"$f":"IF(M253<>\"\",2,\"\")","v":""},null,null,"",null,""]
[null,null,null,null,null,null,null,null,null,null,null,null,null,null,null,null,"",null,null,"",null,""]
[null,null,null,null,null,null,null,null,null,null,null,null,null,null,null,null,"",null,null,"",null,""]
[null,null,null,null,null,null,null,null,null,null,null,null,null,null,null,null,"",null,null,"",null,""]
[null,null,null,null,null,null,null,null,null,null,null,null,null,null,null,null,"",null,null,"",null,""]
[null,null,null,null,null,null,null,null,null,null,null,null,null,null,null,null,"",null,null,"",null,""]
[null,null,null,null,null,null,null,null,null,null,null,null,null,null,null,null,"",null,null,"",null,""]
[null,null,null,null,null,null,null,null,null,null,null,null,null,null,null,null,"",null,null,"",null,""]
[null,null,null,null,null,null,null,null,null,null,null,null,null,null,null,null,"",null,null,"",null,""]
[null,null,null,null,null,null,null,null,null,null,null,null,null,null,null,null,"",null,null,"",null,""]
[null,null,null,null,null,null,null,null,null,null,null,null,null,null,null,null,"",null,null,"",null,""]
[null,null,null,null,null,null,null,null,null,null,null,null,null,null,null,null,"",null,null,"",null,""]
[null,null,null,null,null,null,null,null,null,null,null,null,null,null,null,null,"",null,null,"",null,""]
[null,null,null,null,null,null,null,null,null,null,null,null,null,null,null,null,"",null,null,"",null,""]
[null,null,null,null,null,null,null,null,null,null,null,null,null,null,null,null,"",null,null,"",null,""]
[null,null,null,null,null,null,null,null,null,null,null,null,null,null,null,null,"",null,null,"",null,""]
[null,null,null,null,null,null,null,null,null,null,null,null,null,null,null,null,"",null,null,"",null,""]
[null,null,null,null,null,null,null,null,null,null,null,null,null,null,null,null,"",null,null,"",null,""]
[null,null,null,null,null,null,null,null,null,null,null,null,null,null,null,null,"",null,null,"",null,""]
[null,null,null,null,null,null,null,null,null,null,null,null,null,null,null,null,"",null,null,"",null,""]
[null,null,null,null,null,null,null,null,null,null,null,null,null,null,null,null,"",null,null,"",null,""]
[null,null,null,null,null,null,null,null,null,null,null,null,null,null,null,null,"",null,null,"",null,""]
[null,null,null,null,null,null,null,null,null,null,null,null,null,null,null,null,"",null,null,"",null,""]
[null,null,null,null,null,null,null,null,null,null,null,null,null,null,null,null,"",null,null,"",null,""]
[null,null,null,null,null,null,null,null,null,null,null,null,null,null,null,null,"",null,null,"",null,""]
[null,null,null,null,null,null,null,null,null,null,null,null,null,null,null,null,"",null,null,"",null,""]
[null,null,null,null,null,null,null,null,null,null,null,null,null,null,null,null,"",null,null,"",null,""]
[null,null,null,null,null,null,null,null,null,null,null,null,null,null,null,null,"",null,null,"",null,""]
[null,null,null,null,null,null,null,null,null,null,null,null,null,null,null,null,"",null,null,{"$f":"IF(S281<>\"\",S281/9,\"\")","v":""},null,{"$f":"IF(U281<>\"\",U281/9,\"\")","v":""}]
[null,null,null,null,null,null,null,null,null,null,null,null,null,null,null,null,"",null,null,"",null,""]
[null,null,null,null,null,null,null,null,null,null,null,null,null,null,null,null,"",null,null,"",null,""]
[null,null,null,null,null,null,null,null,null,null,null,null,null,null,null,null,"",null,null,"",null,""]
[null,null,null,null,null,null,null,null,null,null,null,null,null,null,null,null,"",null,null,"",null,""]
[null,null,null,null,null,null,null,null,null,null,null,null,null,null,null,null,"",null,null,"",null,""]
[null,null,null,null,null,null,null,null,null,null,null,null,null,null,null,null,"",null,null,"",null,""]
[null,null,null,null,null,null,null,null,null,null,null,null,null,null,null,null,"",null,null,"",null,""]
[null,null,null,null,null,null,null,null,null,null,null,null,null,null,null,null,"",null,null,"",null,""]
[null,null,null,null,null,null,null,null,null,null,null,null,null,null,null,null,"",null,null,"",null,""]
[null,null,null,null,null,null,null,null,null,null,null,null,null,null,null,null,"",null,null,"",null,""]
[null,null,null,null,null,null,null,null,null,null,null,null,null,null,null,null,"",null,null,"",null,""]
[null,null,null,null,null,null,null,null,null,null,null,null,null,null,null,null,"",null,null,"",null,""]
[null,null,null,null,null,null,null,null,null,null,null,null,null,null,null,null,"",null,null,"",null,""]
[null,null,null,null,null,null,null,null,null,null,null,null,null,null,null,null,"",null,null,"",null,""]
[null,null,null,null,null,null,null,null,null,null,null,null,null,null,null,null,"",null,null,"",null,""]
[null,null,null,null,null,null,null,null,null,null,null,null,null,null,null,null,"",null,null,"",null,""]
[null,null,null,null,null,null,null,null,null,null,null,null,null,null,null,null,"",null,null,"",null,""]
[null,null,null,null,null,null,null,null,null,null,null,null,null,null,null,null,"",null,null,"",null,""]
[null,null,null,null,null,null,null,null,null,null,null,null,null,null,null,null,"",null,null,"",null,""]
[null,null,null,null,null,null,null,null,null,null,null,null,null,null,null,null,"",null,null,"",null,""]
[null,null,null,null,null,null,null,null,null,null,null,null,null,null,null,null,"",null,null,"",null,""]
[null,null,null,null,null,null,null,null,null,null,null,null,null,null,null,null,"",null,null,"",null,""]
[null,null,null,null,null,null,null,null,null,null,null,null,null,null,null,null,"",null,null,"",null,""]
[null,null,null,null,null,null,null,null,null,null,null,null,null,null,null,null,"",null,null,"",null,""]
[null,null,null,null,null,null,null,null,null,null,null,null,null,null,null,null,"",null,null,"",null,""]
[null,null,null,null,null,null,null,null,null,null,null,null,null,null,null,null,"",null,null,"",null,""]
[null,null,null,null,null,null,null,null,null,null,null,null,null,null,null,null,"",null,null,"",null,""]
[null,null,null,null,null,null,null,null,null,null,null,null,null,null,null,null,"",null,null,"",null,""]
[null,null,null,null,null,null,null,null,null,null,null,null,null,null,null,null,"",null,null,"",null,""]
[null,null,null,null,null,null,null,null,null,null,null,null,null,null,null,null,"",null,null,"",null,""]
[null,null,null,null,null,null,null,null,null,null,null,null,null,null,null,null,"",null,null,"",null,""]
[null,null,null,null,null,null,null,null,null,null,null,null,null,null,null,null,"",null,null,"",null,""]
[null,null,null,null,null,null,null,null,null,null,null,null,null,null,null,null,"",null,null,"",null,""]
[null,null,null,null,null,null,null,null,null,null,null,null,null,null,null,null,"",null,null,"",null,""]
[null,null,null,null,null,null,null,null,null,null,null,null,null,null,null,null,"",null,null,"",null,""]
[null,null,null,null,null,null,null,null,null,null,null,null,null,null,null,null,{"$f":"IF(M317<>\"\",2,\"\")","v":""},null,null,"",null,""]
[null,null,null,null,null,null,null,null,null,null,null,null,null,null,null,null,"",null,null,"",null,""]
[null,null,null,null,null,null,null,null,null,null,null,null,null,null,null,null,"",null,null,"",null,""]
[null,null,null,null,null,null,null,null,null,null,null,null,null,null,null,null,"",null,null,"",null,""]
[null,null,null,null,null,null,null,null,null,null,null,null,null,null,null,null,"",null,null,"",null,""]
[null,null,null,null,null,null,null,null,null,null,null,null,null,null,null,null,"",null,null,"",null,""]
[null,null,null,null,null,null,null,null,null,null,null,null,null,null,null,null,"",null,null,"",null,""]
[null,null,null,null,null,null,null,null,null,null,null,null,null,null,null,null,"",null,null,"",null,""]
[null,null,null,null,null,null,null,null,null,null,null,null,null,null,null,null,"",null,null,"",null,""]
[null,null,null,null,null,null,null,null,null,null,null,null,null,null,null,null,"",null,null,"",null,""]
[null,null,null,null,null,null,null,null,null,null,null,null,null,null,null,null,"",null,null,"",null,""]
[null,null,null,null,null,null,null,null,null,null,null,null,null,null,null,null,"",null,null,"",null,""]
[null,null,null,null,null,null,null,null,null,null,null,null,null,null,null,null,"",null,null,"",null,""]
[null,null,null,null,null,null,null,null,null,null,null,null,null,null,null,null,"",null,null,"",null,""]
[null,null,null,null,null,null,null,null,null,null,null,null,null,null,null,null,"",null,null,"",null,""]
[null,null,null,null,null,null,null,null,null,null,null,null,null,null,null,null,"",null,null,"",null,""]
[null,null,null,null,null,null,null,null,null,null,null,null,null,null,null,null,"",null,null,"",null,""]
[null,null,null,null,null,null,null,null,null,null,null,null,null,null,null,null,"",null,null,"",null,""]
[null,null,null,null,null,null,null,null,null,null,null,null,null,null,null,null,"",null,null,"",null,""]
[null,null,null,null,null,null,null,null,null,null,null,null,null,null,null,null,"",null,null,"",null,""]
[null,null,null,null,null,null,null,null,null,null,null,null,null,null,null,null,"",null,null,"",null,""]
[null,null,null,null,null,null,null,null,null,null,null,null,null,null,null,null,"",null,null,"",null,""]
[null,null,null,null,null,null,null,null,null,null,null,null,null,null,null,null,"",null,null,"",null,""]
[null,null,null,null,null,null,null,null,null,null,null,null,null,null,null,null,"",null,null,"",null,""]
[null,null,null,null,null,null,null,null,null,null,null,null,null,null,null,null,"",null,null,"",null,""]
[null,null,null,null,null,null,null,null,null,null,null,null,null,null,null,null,"",null,null,"",null,""]
[null,null,null,null,null,null,null,null,null,null,null,null,null,null,null,null,"",null,null,"",null,""]
[null,null,null,null,null,null,null,null,null,null,null,null,null,null,null,null,"",null,null,"",null,""]
[null,null,null,null,null,null,null,null,null,null,null,null,null,null,null,null,"",null,null,{"$f":"IF(S345<>\"\",S345/9,\"\")","v":""},null,{"$f":"IF(U345<>\"\",U345/9,\"\")","v":""}]
[null,null,null,null,null,null,null,null,null,null,null,null,null,null,null,null,"",null,null,"",null,""]
[null,null,null,null,null,null,null,null,null,null,null,null,null,null,null,null,"",null,null,"",null,""]
[null,null,null,null,null,null,null,null,null,null,null,null,null,null,null,null,"",null,null,"",null,""]
[null,null,null,null,null,null,null,null,null,null,null,null,null,null,null,null,"",null,null,"",null,""]
[null,null,null,null,null,null,null,null,null,null,null,null,null,null,null,null,"",null,null,"",null,""]
[null,null,null,null,null,null,null,null,null,null,null,null,null,null,null,null,"",null,null,"",null,""]
[null,null,null,null,null,null,null,null,null,null,null,null,null,null,null,null,"",null,null,"",null,""]
[null,null,null,null,null,null,null,null,null,null,null,null,null,null,null,null,"",null,null,"",null,""]
[null,null,null,null,null,null,null,null,null,null,null,null,null,null,null,null,"",null,null,"",null,""]
[null,null,null,null,null,null,null,null,null,null,null,null,null,null,null,null,"",null,null,"",null,""]
[null,null,null,null,null,null,null,null,null,null,null,null,null,null,null,null,"",null,null,"",null,""]
[null,null,null,null,null,null,null,null,null,null,null,null,null,null,null,null,"",null,null,"",null,""]
[null,null,null,null,null,null,null,null,null,null,null,null,null,null,null,null,"",null,null,"",null,""]
[null,null,null,null,null,null,null,null,null,null,null,null,null,null,null,null,"",null,null,"",null,""]
[null,null,null,null,null,null,null,null,null,null,null,null,null,null,null,null,"",null,null,"",null,""]
[null,null,null,null,null,null,null,null,null,null,null,null,null,null,null,null,"",null,null,"",null,""]
[null,null,null,null,null,null,null,null,null,null,null,null,null,null,null,null,"",null,null,"",null,""]
[null,null,null,null,null,null,null,null,null,null,null,null,null,null,null,null,"",null,null,"",null,""]
[null,null,null,null,null,null,null,null,null,null,null,null,null,null,null,null,"",null,null,"",null,""]
[null,null,null,null,null,null,null,null,null,null,null,null,null,null,null,null,"",null,null,"",null,""]
[null,null,null,null,null,null,null,null,null,null,null,null,null,null,null,null,"",null,null,"",null,""]
[null,null,null,null,null,null,null,null,null,null,null,null,null,null,null,null,"",null,null,"",null,""]
[null,null,null,null,null,null,null,null,null,null,null,null,null,null,null,null,"",null,null,"",null,""]
[null,null,null,null,null,null,null,null,null,null,null,null,null,null,null,null,"",null,null,"",null,""]
[null,null,null,null,null,null,null,null,null,null,null,null,null,null,null,null,"",null,null,"",null,""]
[null,null,null,null,null,null,null,null,null,null,null,null,null,null,null,null,"",null,null,"",null,""]
[null,null,null,null,null,null,null,null,null,null,null,null,null,null,null,null,"",null,null,"",null,""]
[null,null,null,null,null,null,null,null,null,null,null,null,null,null,null,null,"",null,null,"",null,""]
[null,null,null,null,null,null,null,null,null,null,null,null,null,null,null,null,"",null,null,"",null,""]
[null,null,null,null,null,null,null,null,null,null,null,null,null,null,null,null,"",null,null,"",null,""]
[null,null,null,null,null,null,null,null,null,null,null,null,null,null,null,null,"",null,null,"",null,""]
[null,null,null,null,null,null,null,null,null,null,null,null,null,null,null,null,"",null,null,"",null,""]
[null,null,null,null,null,null,null,null,null,null,null,null,null,null,null,null,"",null,null,"",null,""]
[null,null,null,null,null,null,null,null,null,null,null,null,null,null,null,null,"",null,null,"",null,""]
[null,null,null,null,null,null,null,null,null,null,null,null,null,null,null,null,"",null,null,"",null,""]
[null,null,null,null,null,null,null,null,null,null,null,null,null,null,null,null,{"$f":"IF(M381<>\"\",2,\"\")","v":""},null,null,"",null,""]
[null,null,null,null,null,null,null,null,null,null,null,null,null,null,null,null,"",null,null,"",null,""]
[null,null,null,null,null,null,null,null,null,null,null,null,null,null,null,null,"",null,null,"",null,""]
[null,null,null,null,null,null,null,null,null,null,null,null,null,null,null,null,"",null,null,"",null,""]
[null,null,null,null,null,null,null,null,null,null,null,null,null,null,null,null,"",null,null,"",null,""]
[null,null,null,null,null,null,null,null,null,null,null,null,null,null,null,null,"",null,null,"",null,""]
[null,null,null,null,null,null,null,null,null,null,null,null,null,null,null,null,"",null,null,"",null,""]
[null,null,null,null,null,null,null,null,null,null,null,null,null,null,null,null,"",null,null,"",null,""]
[null,null,null,null,null,null,null,null,null,null,null,null,null,null,null,null,"",null,null,"",null,""]
[null,null,null,null,null,null,null,null,null,null,null,null,null,null,null,null,"",null,null,"",null,""]
[null,null,null,null,null,null,null,null,null,null,null,null,null,null,null,null,"",null,null,"",null,""]
[null,null,null,null,null,null,null,null,null,null,null,null,null,null,null,null,"",null,null,"",null,""]
[null,null,null,null,null,null,null,null,null,null,null,null,null,null,null,null,"",null,null,"",null,""]
[null,null,null,null,null,null,null,null,null,null,null,null,null,null,null,null,"",null,null,"",null,""]
[null,null,null,null,null,null,null,null,null,null,null,null,null,null,null,null,"",null,null,"",null,""]
[null,null,null,null,null,null,null,null,null,null,null,null,null,null,null,null,"",null,null,"",null,""]
[null,null,null,null,null,null,null,null,null,null,null,null,null,null,null,null,"",null,null,"",null,""]
[null,null,null,null,null,null,null,null,null,null,null,null,null,null,null,null,"",null,null,"",null,""]
[null,null,null,null,null,null,null,null,null,null,null,null,null,null,null,null,"",null,null,"",null,""]
[null,null,null,null,null,null,null,null,null,null,null,null,null,null,null,null,"",null,null,"",null,""]
[null,null,null,null,null,null,null,null,null,null,null,null,null,null,null,null,"",null,null,"",null,""]
[null,null,null,null,null,null,null,null,null,null,null,null,null,null,null,null,"",null,null,"",null,""]
[null,null,null,null,null,null,null,null,null,null,null,null,null,null,null,null,"",null,null,"",null,""]
[null,null,null,null,null,null,null,null,null,null,null,null,null,null,null,null,"",null,null,"",null,""]
[null,null,null,null,null,null,null,null,null,null,null,null,null,null,null,null,"",null,null,"",null,""]
[null,null,null,null,null,null,null,null,null,null,null,null,null,null,null,null,"",null,null,"",null,""]
[null,null,null,null,null,null,null,null,null,null,null,null,null,null,null,null,"",null,null,"",null,""]
[null,null,null,null,null,null,null,null,null,null,null,null,null,null,null,null,"",null,null,"",null,""]
[null,null,null,null,null,null,null,null,null,null,null,null,null,null,null,null,"",null,null,{"$f":"IF(S409<>\"\",S409/9,\"\")","v":""},null,{"$f":"IF(U409<>\"\",U409/9,\"\")","v":""}]
[null,null,null,null,null,null,null,null,null,null,null,null,null,null,null,null,"",null,null,"",null,""]
[null,null,null,null,null,null,null,null,null,null,null,null,null,null,null,null,"",null,null,"",null,""]
[null,null,null,null,null,null,null,null,null,null,null,null,null,null,null,null,"",null,null,"",null,""]
[null,null,null,null,null,null,null,null,null,null,null,null,null,null,null,null,"",null,null,"",null,""]
[null,null,null,null,null,null,null,null,null,null,null,null,null,null,null,null,"",null,null,"",null,""]
[null,null,null,null,null,null,null,null,null,null,null,null,null,null,null,null,"",null,null,"",null,""]
[null,null,null,null,null,null,null,null,null,null,null,null,null,null,null,null,"",null,null,"",null,""]
[null,null,null,null,null,null,null,null,null,null,null,null,null,null,null,null,"",null,null,"",null,""]
[null,null,null,null,null,null,null,null,null,null,null,null,null,null,null,null,"",null,null,"",null,""]
[null,null,null,null,null,null,null,null,null,null,null,null,null,null,null,null,"",null,null,"",null,""]
[null,null,null,null,null,null,null,null,null,null,null,null,null,null,null,null,"",null,null,"",null,""]
[null,null,null,null,null,null,null,null,null,null,null,null,null,null,null,null,"",null,null,"",null,""]
[null,null,null,null,null,null,null,null,null,null,null,null,null,null,null,null,"",null,null,"",null,""]
[null,null,null,null,null,null,null,null,null,null,null,null,null,null,null,null,"",null,null,"",null,""]
[null,null,null,null,null,null,null,null,null,null,null,null,null,null,null,null,"",null,null,"",null,""]
[null,null,null,null,null,null,null,null,null,null,null,null,null,null,null,null,"",null,null,"",null,""]
[null,null,null,null,null,null,null,null,null,null,null,null,null,null,null,null,"",null,null,"",null,""]
[null,null,null,null,null,null,null,null,null,null,null,null,null,null,null,null,"",null,null,"",null,""]
[null,null,null,null,null,null,null,null,null,null,null,null,null,null,null,null,"",null,null,"",null,""]
[null,null,null,null,null,null,null,null,null,null,null,null,null,null,null,null,"",null,null,"",null,""]
[null,null,null,null,null,null,null,null,null,null,null,null,null,null,null,null,"",null,null,"",null,""]
[null,null,null,null,null,null,null,null,null,null,null,null,null,null,null,null,"",null,null,"",null,""]
[null,null,null,null,null,null,null,null,null,null,null,null,null,null,null,null,"",null,null,"",null,""]
[null,null,null,null,null,null,null,null,null,null,null,null,null,null,null,null,"",null,null,"",null,""]
[null,null,null,null,null,null,null,null,null,null,null,null,null,null,null,null,"",null,null,"",null,""]
[null,null,null,null,null,null,null,null,null,null,null,null,null,null,null,null,"",null,null,"",null,""]
[null,null,null,null,null,null,null,null,null,null,null,null,null,null,null,null,"",null,null,"",null,""]
[null,null,null,null,null,null,null,null,null,null,null,null,null,null,null,null,"",null,null,"",null,""]
[null,null,null,null,null,null,null,null,null,null,null,null,null,null,null,null,"",null,null,"",null,""]
[null,null,null,null,null,null,null,null,null,null,null,null,null,null,null,null,"",null,null,"",null,""]
[null,null,null,null,null,null,null,null,null,null,null,null,null,null,null,null,"",null,null,"",null,""]
[null,null,null,null,null,null,null,null,null,null,null,null,null,null,null,null,"",null,null,"",null,""]
[null,null,null,null,null,null,null,null,null,null,null,null,null,null,null,null,"",null,null,"",null,""]
[null,null,null,null,null,null,null,null,null,null,null,null,null,null,null,null,"",null,null,"",null,""]
[null,null,null,null,null,null,null,null,null,null,null,null,null,null,null,null,"",null,null,"",null,""]
[null,null,null,null,null,null,null,null,null,null,null,null,null,null,null,null,{"$f":"IF(M445<>\"\",2,\"\")","v":""},null,null,"",null,""]
[null,null,null,null,null,null,null,null,null,null,null,null,null,null,null,null,"",null,null,"",null,""]
[null,null,null,null,null,null,null,null,null,null,null,null,null,null,null,null,"",null,null,"",null,""]
[null,null,null,null,null,null,null,null,null,null,null,null,null,null,null,null,"",null,null,"",null,""]
[null,null,null,null,null,null,null,null,null,null,null,null,null,null,null,null,"",null,null,"",null,""]
[null,null,null,null,null,null,null,null,null,null,null,null,null,null,null,null,"",null,null,"",null,""]
[null,null,null,null,null,null,null,null,null,null,null,null,null,null,null,null,"",null,null,"",null,""]
[null,null,null,null,null,null,null,null,null,null,null,null,null,null,null,null,"",null,null,"",null,""]
[null,null,null,null,null,null,null,null,null,null,null,null,null,null,null,null,"",null,null,"",null,""]
[null,null,null,null,null,null,null,null,null,null,null,null,null,null,null,null,"",null,null,"",null,""]
[null,null,null,null,null,null,null,null,null,null,null,null,null,null,null,null,"",null,null,"",null,""]
[null,null,null,null,null,null,null,null,null,null,null,null,null,null,null,null,"",null,null,"",null,""]
[null,null,null,null,null,null,null,null,null,null,null,null,null,null,null,null,"",null,null,"",null,""]
[null,null,null,null,null,null,null,null,null,null,null,null,null,null,null,null,"",null,null,"",null,""]
[null,null,null,null,null,null,null,null,null,null,null,null,null,null,null,null,"",null,null,"",null,""]
[null,null,null,null,null,null,null,null,null,null,null,null,null,null,null,null,"",null,null,"",null,""]
[null,null,null,null,null,null,null,null,null,null,null,null,null,null,null,null,"",null,null,"",null,""]
[null,null,null,null,null,null,null,null,null,null,null,null,null,null,null,null,"",null,null,"",null,""]
[null,null,null,null,null,null,null,null,null,null,null,null,null,null,null,null,"",null,null,"",null,""]
[null,null,null,null,null,null,null,null,null,null,null,null,null,null,null,null,"",null,null,"",null,""]
[null,null,null,null,null,null,null,null,null,null,null,null,null,null,null,null,"",null,null,"",null,""]
[null,null,null,null,null,null,null,null,null,null,null,null,null,null,null,null,"",null,null,"",null,""]
[null,null,null,null,null,null,null,null,null,null,null,null,null,null,null,null,"",null,null,"",null,""]
[null,null,null,null,null,null,null,null,null,null,null,null,null,null,null,null,"",null,null,"",null,""]
[null,null,null,null,null,null,null,null,null,null,null,null,null,null,null,null,"",null,null,"",null,""]
[null,null,null,null,null,null,null,null,null,null,null,null,null,null,null,null,"",null,null,"",null,""]
[null,null,null,null,null,null,null,null,null,null,null,null,null,null,null,null,"",null,null,"",null,""]
[null,null,null,null,null,null,null,null,null,null,null,null,null,null,null,null,"",null,null,"",null,""]
[null,null,null,null,null,null,null,null,null,null,null,null,null,null,null,null,"",null,null,{"$f":"IF(S473<>\"\",S473/9,\"\")","v":""},null,{"$f":"IF(U473<>\"\",U473/9,\"\")","v":""}]
[null,null,null,null,null,null,null,null,null,null,null,null,null,null,null,null,"",null,null,"",null,""]
[null,null,null,null,null,null,null,null,null,null,null,null,null,null,null,null,"",null,null,"",null,""]
[null,null,null,null,null,null,null,null,null,null,null,null,null,null,null,null,"",null,null,"",null,""]
[null,null,null,null,null,null,null,null,null,null,null,null,null,null,null,null,"",null,null,"",null,""]
[null,null,null,null,null,null,null,null,null,null,null,null,null,null,null,null,"",null,null,"",null,""]
[null,null,null,null,null,null,null,null,null,null,null,null,null,null,null,null,"",null,null,"",null,""]
[null,null,null,null,null,null,null,null,null,null,null,null,null,null,null,null,"",null,null,"",null,""]
[null,null,null,null,null,null,null,null,null,null,null,null,null,null,null,null,"",null,null,"",null,""]
[null,null,null,null,null,null,null,null,null,null,null,null,null,null,null,null,"",null,null,"",null,""]
[null,null,null,null,null,null,null,null,null,null,null,null,null,null,null,null,"",null,null,"",null,""]
[null,null,null,null,null,null,null,null,null,null,null,null,null,null,null,null,"",null,null,"",null,""]
[null,null,null,null,null,null,null,null,null,null,null,null,null,null,null,null,"",null,null,"",null,""]
[null,null,null,null,null,null,null,null,null,null,null,null,null,null,null,null,"",null,null,"",null,""]
[null,null,null,null,null,null,null,null,null,null,null,null,null,null,null,null,"",null,null,"",null,""]
[null,null,null,null,null,null,null,null,null,null,null,null,null,null,null,null,"",null,null,"",null,""]
[null,null,null,null,null,null,null,null,null,null,null,null,null,null,null,null,"",null,null,"",null,""]
[null,null,null,null,null,null,null,null,null,null,null,null,null,null,null,null,"",null,null,"",null,""]
[null,null,null,null,null,null,null,null,null,null,null,null,null,null,null,null,"",null,null,"",null,""]
[null,null,null,null,null,null,null,null,null,null,null,null,null,null,null,null,"",null,null,"",null,""]
[null,null,null,null,null,null,null,null,null,null,null,null,null,null,null,null,"",null,null,"",null,""]
[null,null,null,null,null,null,null,null,null,null,null,null,null,null,null,null,"",null,null,"",null,""]
[null,null,null,null,null,null,null,null,null,null,null,null,null,null,null,null,"",null,null,"",null,""]
[null,null,null,null,null,null,null,null,null,null,null,null,null,null,null,null,"",null,null,"",null,""]
[null,null,null,null,null,null,null,null,null,null,null,null,null,null,null,null,"",null,null,"",null,""]
[null,null,null,null,null,null,null,null,null,null,null,null,null,null,null,null,"",null,null,"",null,""]
[null,null,null,null,null,null,null,null,null,null,null,null,null,null,null,null,"",null,null,"",null,""]
[null,null,null,null,null,null,null,null,null,null,null,null,null,null,null,null,"",null,null,"",null,""]
[null,null,null,null,null,null,null,null,null,null,null,null,null,null,null,null,"",null,null,"",null,""]
[null,null,null,null,null,null,null,null,null,null,null,null,null,null,null,null,"",null,null,"",null,""]
[null,null,null,null,null,null,null,null,null,null,null,null,null,null,null,null,"",null,null,"",null,""]
[null,null,null,null,null,null,null,null,null,null,null,null,null,null,null,null,"",null,null,"",null,""]
[null,null,null,null,null,null,null,null,null,null,null,null,null,null,null,null,"",null,null,"",null,""]
[null,null,null,null,null,null,null,null,null,null,null,null,null,null,null,null,"",null,null,"",null,""]
[null,null,null,null,null,null,null,null,null,null,null,null,null,null,null,null,"",null,null,"",null,""]
[null,null,null,null,null,null,null,null,null,null,null,null,null,null,null,null,"",null,null,"",null,""]
[null,null,null,null,null,null,null,null,null,null,null,null,null,null,null,null,{"$f":"IF(M509<>\"\",2,\"\")","v":""},null,null,"",null,""]
[null,null,null,null,null,null,null,null,null,null,null,null,null,null,null,null,"",null,null,"",null,""]
[null,null,null,null,null,null,null,null,null,null,null,null,null,null,null,null,"",null,null,"",null,""]
[null,null,null,null,null,null,null,null,null,null,null,null,null,null,null,null,"",null,null,"",null,""]
[null,null,null,null,null,null,null,null,null,null,null,null,null,null,null,null,"",null,null,"",null,""]
[null,null,null,null,null,null,null,null,null,null,null,null,null,null,null,null,"",null,null,"",null,""]
[null,null,null,null,null,null,null,null,null,null,null,null,null,null,null,null,"",null,null,"",null,""]
[null,null,null,null,null,null,null,null,null,null,null,null,null,null,null,null,"",null,null,"",null,""]
[null,null,null,null,null,null,null,null,null,null,null,null,null,null,null,null,"",null,null,"",null,""]
[null,null,null,null,null,null,null,null,null,null,null,null,null,null,null,null,"",null,null,"",null,""]
[null,null,null,null,null,null,null,null,null,null,null,null,null,null,null,null,"",null,null,"",null,""]
[null,null,null,null,null,null,null,null,null,null,null,null,null,null,null,null,"",null,null,"",null,""]
[null,null,null,null,null,null,null,null,null,null,null,null,null,null,null,null,"",null,null,"",null,""]
[null,null,null,null,null,null,null,null,null,null,null,null,null,null,null,null,"",null,null,"",null,""]
[null,null,null,null,null,null,null,null,null,null,null,null,null,null,null,null,"",null,null,"",null,""]
[null,null,null,null,null,null,null,null,null,null,null,null,null,null,null,null,"",null,null,"",null,""]
[null,null,null,null,null,null,null,null,null,null,null,null,null,null,null,null,"",null,null,"",null,""]
[null,null,null,null,null,null,null,null,null,null,null,null,null,null,null,null,"",null,null,"",null,""]
[null,null,null,null,null,null,null,null,null,null,null,null,null,null,null,null,"",null,null,"",null,""]
[null,null,null,null,null,null,null,null,null,null,null,null,null,null,null,null,"",null,null,"",null,""]
[null,null,null,null,null,null,null,null,null,null,null,null,null,null,null,null,"",null,null,"",null,""]
[null,null,null,null,null,null,null,null,null,null,null,null,null,null,null,null,"",null,null,"",null,""]
[null,null,null,null,null,null,null,null,null,null,null,null,null,null,null,null,"",null,null,"",null,""]
[null,null,null,null,null,null,null,null,null,null,null,null,null,null,null,null,"",null,null,"",null,""]
[null,null,null,null,null,null,null,null,null,null,null,null,null,null,null,null,"",null,null,"",null,""]
[null,null,null,null,null,null,null,null,null,null,null,null,null,null,null,null,"",null,null,"",null,""]
[null,null,null,null,null,null,null,null,null,null,null,null,null,null,null,null,"",null,null,"",null,""]
[null,null,null,null,null,null,null,null,null,null,null,null,null,null,null,null,"",null,null,"",null,""]
[null,null,null,null,null,null,null,null,null,null,null,null,null,null,null,null,"",null,null,{"$f":"IF(S537<>\"\",S537/9,\"\")","v":""},null,{"$f":"IF(U537<>\"\",U537/9,\"\")","v":""}]
[null,null,null,null,null,null,null,null,null,null,null,null,null,null,null,null,"",null,null,"",null,""]
[null,null,null,null,null,null,null,null,null,null,null,null,null,null,null,null,"",null,null,"",null,""]
[null,null,null,null,null,null,null,null,null,null,null,null,null,null,null,null,"",null,null,"",null,""]
[null,null,null,null,null,null,null,null,null,null,null,null,null,null,null,null,"",null,null,"",null,""]
[null,null,null,null,null,null,null,null,null,null,null,null,null,null,null,null,"",null,null,"",null,""]
[null,null,null,null,null,null,null,null,null,null,null,null,null,null,null,null,"",null,null,"",null,""]
[null,null,null,null,null,null,null,null,null,null,null,null,null,null,null,null,"",null,null,"",null,""]
[null,null,null,null,null,null,null,null,null,null,null,null,null,null,null,null,"",null,null,"",null,""]
[null,null,null,null,null,null,null,null,null,null,null,null,null,null,null,null,"",null,null,"",null,""]
[null,null,null,null,null,null,null,null,null,null,null,null,null,null,null,null,"",null,null,"",null,""]
[null,null,null,null,null,null,null,null,null,null,null,null,null,null,null,null,"",null,null,"",null,""]
[null,null,null,null,null,null,null,null,null,null,null,null,null,null,null,null,"",null,null,"",null,""]
[null,null,null,null,null,null,null,null,null,null,null,null,null,null,null,null,"",null,null,"",null,""]
[null,null,null,null,null,null,null,null,null,null,null,null,null,null,null,null,"",null,null,"",null,""]
[null,null,null,null,null,null,null,null,null,null,null,null,null,null,null,null,"",null,null,"",null,""]
[null,null,null,null,null,null,null,null,null,null,null,null,null,null,null,null,"",null,null,"",null,""]
[null,null,null,null,null,null,null,null,null,null,null,null,null,null,null,null,"",null,null,"",null,""]
[null,null,null,null,null,null,null,null,null,null,null,null,null,null,null,null,"",null,null,"",null,""]
[null,null,null,null,null,null,null,null,null,null,null,null,null,null,null,null,"",null,null,"",null,""]
[null,null,null,null,null,null,null,null,null,null,null,null,null,null,null,null,"",null,null,"",null,""]
[null,null,null,null,null,null,null,null,null,null,null,null,null,null,null,null,"",null,null,"",null,""]
[null,null,null,null,null,null,null,null,null,null,null,null,null,null,null,null,"",null,null,"",null,""]
[null,null,null,null,null,null,null,null,null,null,null,null,null,null,null,null,"",null,null,"",null,""]
[null,null,null,null,null,null,null,null,null,null,null,null,null,null,null,null,"",null,null,"",null,""]
[null,null,null,null,null,null,null,null,null,null,null,null,null,null,null,null,"",null,null,"",null,""]
[null,null,null,null,null,null,null,null,null,null,null,null,null,null,null,null,"",null,null,"",null,""]
[null,null,null,null,null,null,null,null,null,null,null,null,null,null,null,null,"",null,null,"",null,""]
[null,null,null,null,null,null,null,null,null,null,null,null,null,null,null,null,"",null,null,"",null,""]
[null,null,null,null,null,null,null,null,null,null,null,null,null,null,null,null,"",null,null,"",null,""]
[null,null,null,null,null,null,null,null,null,null,null,null,null,null,null,null,"",null,null,"",null,""]
[null,null,null,null,null,null,null,null,null,null,null,null,null,null,null,null,"",null,null,"",null,""]
[null,null,null,null,null,null,null,null,null,null,null,null,null,null,null,null,"",null,null,"",null,""]
[null,null,null,null,null,null,null,null,null,null,null,null,null,null,null,null,"",null,null,"",null,""]
[null,null,null,null,null,null,null,null,null,null,null,null,null,null,null,null,"",null,null,"",null,""]
[null,null,null,null,null,null,null,null,null,null,null,null,null,null,null,null,"",null,null,"",null,""]
[null,null,null,null,null,null,null,null,null,null,null,null,null,null,null,null,{"$f":"IF(M573<>\"\",2,\"\")","v":""},null,null,"",null,""]
[null,null,null,null,null,null,null,null,null,null,null,null,null,null,null,null,"",null,null,"",null,""]
[null,null,null,null,null,null,null,null,null,null,null,null,null,null,null,null,"",null,null,"",null,""]
[null,null,null,null,null,null,null,null,null,null,null,null,null,null,null,null,"",null,null,"",null,""]
[null,null,null,null,null,null,null,null,null,null,null,null,null,null,null,null,"",null,null,"",null,""]
[null,null,null,null,null,null,null,null,null,null,null,null,null,null,null,null,"",null,null,"",null,""]
[null,null,null,null,null,null,null,null,null,null,null,null,null,null,null,null,"",null,null,"",null,""]
[null,null,null,null,null,null,null,null,null,null,null,null,null,null,null,null,"",null,null,"",null,""]
[null,null,null,null,null,null,null,null,null,null,null,null,null,null,null,null,"",null,null,"",null,""]
[null,null,null,null,null,null,null,null,null,null,null,null,null,null,null,null,"",null,null,"",null,""]
[null,null,null,null,null,null,null,null,null,null,null,null,null,null,null,null,"",null,null,"",null,""]
[null,null,null,null,null,null,null,null,null,null,null,null,null,null,null,null,"",null,null,"",null,""]
[null,null,null,null,null,null,null,null,null,null,null,null,null,null,null,null,"",null,null,"",null,""]
[null,null,null,null,null,null,null,null,null,null,null,null,null,null,null,null,"",null,null,"",null,""]
[null,null,null,null,null,null,null,null,null,null,null,null,null,null,null,null,"",null,null,"",null,""]
[null,null,null,null,null,null,null,null,null,null,null,null,null,null,null,null,"",null,null,"",null,""]
[null,null,null,null,null,null,null,null,null,null,null,null,null,null,null,null,"",null,null,"",null,""]
[null,null,null,null,null,null,null,null,null,null,null,null,null,null,null,null,"",null,null,"",null,""]
[null,null,null,null,null,null,null,null,null,null,null,null,null,null,null,null,"",null,null,"",null,""]
[null,null,null,null,null,null,null,null,null,null,null,null,null,null,null,null,"",null,null,"",null,""]
[null,null,null,null,null,null,null,null,null,null,null,null,null,null,null,null,"",null,null,"",null,""]
[null,null,null,null,null,null,null,null,null,null,null,null,null,null,null,null,"",null,null,"",null,""]
[null,null,null,null,null,null,null,null,null,null,null,null,null,null,null,null,"",null,null,"",null,""]
[null,null,null,null,null,null,null,null,null,null,null,null,null,null,null,null,"",null,null,"",null,""]
[null,null,null,null,null,null,null,null,null,null,null,null,null,null,null,null,"",null,null,"",null,""]
[null,null,null,null,null,null,null,null,null,null,null,null,null,null,null,null,"",null,null,"",null,""]
[null,null,null,null,null,null,null,null,null,null,null,null,null,null,null,null,"",null,null,"",null,""]
[null,null,null,null,null,null,null,null,null,null,null,null,null,null,null,null,"",null,null,"",null,""]
[null,null,null,null,null,null,null,null,null,null,null,null,null,null,null,null,"",null,null,{"$f":"IF(S601<>\"\",S601/9,\"\")","v":""},null,{"$f":"IF(U601<>\"\",U601/9,\"\")","v":""}]
[null,null,null,null,null,null,null,null,null,null,null,null,null,null,null,null,"",null,null,"",null,""]
[null,null,null,null,null,null,null,null,null,null,null,null,null,null,null,null,"",null,null,"",null,""]
[null,null,null,null,null,null,null,null,null,null,null,null,null,null,null,null,"",null,null,"",null,""]
[null,null,null,null,null,null,null,null,null,null,null,null,null,null,null,null,"",null,null,"",null,""]
[null,null,null,null,null,null,null,null,null,null,null,null,null,null,null,null,"",null,null,"",null,""]
[null,null,null,null,null,null,null,null,null,null,null,null,null,null,null,null,"",null,null,"",null,""]
[null,null,null,null,null,null,null,null,null,null,null,null,null,null,null,null,"",null,null,"",null,""]
[null,null,null,null,null,null,null,null,null,null,null,null,null,null,null,null,"",null,null,"",null,""]
[null,null,null,null,null,null,null,null,null,null,null,null,null,null,null,null,"",null,null,"",null,""]
[null,null,null,null,null,null,null,null,null,null,null,null,null,null,null,null,"",null,null,"",null,""]
[null,null,null,null,null,null,null,null,null,null,null,null,null,null,null,null,"",null,null,"",null,""]
[null,null,null,null,null,null,null,null,null,null,null,null,null,null,null,null,"",null,null,"",null,""]
[null,null,null,null,null,null,null,null,null,null,null,null,null,null,null,null,"",null,null,"",null,""]
[null,null,null,null,null,null,null,null,null,null,null,null,null,null,null,null,"",null,null,"",null,""]
[null,null,null,null,null,null,null,null,null,null,null,null,null,null,null,null,"",null,null,"",null,""]
[null,null,null,null,null,null,null,null,null,null,null,null,null,null,null,null,"",null,null,"",null,""]
[null,null,null,null,null,null,null,null,null,null,null,null,null,null,null,null,"",null,null,"",null,""]
[null,null,null,null,null,null,null,null,null,null,null,null,null,null,null,null,"",null,null,"",null,""]
[null,null,null,null,null,null,null,null,null,null,null,null,null,null,null,null,"",null,null,"",null,""]
[null,null,null,null,null,null,null,null,null,null,null,null,null,null,null,null,"",null,null,"",null,""]
[null,null,null,null,null,null,null,null,null,null,null,null,null,null,null,null,"",null,null,"",null,""]
[null,null,null,null,null,null,null,null,null,null,null,null,null,null,null,null,"",null,null,"",null,""]
[null,null,null,null,null,null,null,null,null,null,null,null,null,null,null,null,"",null,null,"",null,""]
[null,null,null,null,null,null,null,null,null,null,null,null,null,null,null,null,"",null,null,"",null,""]
[null,null,null,null,null,null,null,null,null,null,null,null,null,null,null,null,"",null,null,"",null,""]
[null,null,null,null,null,null,null,null,null,null,null,null,null,null,null,null,"",null,null,"",null,""]
[null,null,null,null,null,null,null,null,null,null,null,null,null,null,null,null,"",null,null,"",null,""]
[null,null,null,null,null,null,null,null,null,null,null,null,null,null,null,null,"",null,null,"",null,""]
[null,null,null,null,null,null,null,null,null,null,null,null,null,null,null,null,"",null,null,"",null,""]
[null,null,null,null,null,null,null,null,null,null,null,null,null,null,null,null,"",null,null,"",null,""]
[null,null,null,null,null,null,null,null,null,null,null,null,null,null,null,null,"",null,null,"",null,""]
[null,null,null,null,null,null,null,null,null,null,null,null,null,null,null,null,"",null,null,"",null,""]
[null,null,null,null,null,null,null,null,null,null,null,null,null,null,null,null,"",null,null,"",null,""]
[null,null,null,null,null,null,null,null,null,null,null,null,null,null,null,null,"",null,null,"",null,""]
[null,null,null,null,null,null,null,null,null,null,null,null,null,null,null,null,"",null,null,"",null,""]
[null,null,null,null,null,null,null,null,null,null,null,null,null,null,null,null,{"$f":"IF(M637<>\"\",2,\"\")","v":""},null,null,"",null,""]
[null,null,null,null,null,null,null,null,null,null,null,null,null,null,null,null,"",null,null,"",null,""]
[null,null,null,null,null,null,null,null,null,null,null,null,null,null,null,null,"",null,null,"",null,""]
[null,null,null,null,null,null,null,null,null,null,null,null,null,null,null,null,"",null,null,"",null,""]
[null,null,null,null,null,null,null,null,null,null,null,null,null,null,null,null,"",null,null,"",null,""]
[null,null,null,null,null,null,null,null,null,null,null,null,null,null,null,null,"",null,null,"",null,""]
[null,null,null,null,null,null,null,null,null,null,null,null,null,null,null,null,"",null,null,"",null,""]
[null,null,null,null,null,null,null,null,null,null,null,null,null,null,null,null,"",null,null,"",null,""]
[null,null,null,null,null,null,null,null,null,null,null,null,null,null,null,null,"",null,null,"",null,""]
[null,null,null,null,null,null,null,null,null,null,null,null,null,null,null,null,"",null,null,"",null,""]
[null,null,null,null,null,null,null,null,null,null,null,null,null,null,null,null,"",null,null,"",null,""]
[null,null,null,null,null,null,null,null,null,null,null,null,null,null,null,null,"",null,null,"",null,""]
[null,null,null,null,null,null,null,null,null,null,null,null,null,null,null,null,"",null,null,"",null,""]
[null,null,null,null,null,null,null,null,null,null,null,null,null,null,null,null,"",null,null,"",null,""]
[null,null,null,null,null,null,null,null,null,null,null,null,null,null,null,null,"",null,null,"",null,""]
[null,null,null,null,null,null,null,null,null,null,null,null,null,null,null,null,"",null,null,"",null,""]
[null,null,null,null,null,null,null,null,null,null,null,null,null,null,null,null,"",null,null,"",null,""]
[null,null,null,null,null,null,null,null,null,null,null,null,null,null,null,null,"",null,null,"",null,""]
[null,null,null,null,null,null,null,null,null,null,null,null,null,null,null,null,"",null,null,"",null,""]
[null,null,null,null,null,null,null,null,null,null,null,null,null,null,null,null,"",null,null,"",null,""]
[null,null,null,null,null,null,null,null,null,null,null,null,null,null,null,null,"",null,null,"",null,""]
[null,null,null,null,null,null,null,null,null,null,null,null,null,null,null,null,"",null,null,"",null,""]
[null,null,null,null,null,null,null,null,null,null,null,null,null,null,null,null,"",null,null,"",null,""]
[null,null,null,null,null,null,null,null,null,null,null,null,null,null,null,null,"",null,null,"",null,""]
[null,null,null,null,null,null,null,null,null,null,null,null,null,null,null,null,"",null,null,"",null,""]
[null,null,null,null,null,null,null,null,null,null,null,null,null,null,null,null,"",null,null,"",null,""]
[null,null,null,null,null,null,null,null,null,null,null,null,null,null,null,null,"",null,null,"",null,""]
[null,null,null,null,null,null,null,null,null,null,null,null,null,null,null,null,"",null,null,"",null,""]
[null,null,null,null,null,null,null,null,null,null,null,null,null,null,null,null,"",null,null,{"$f":"IF(S665<>\"\",S665/9,\"\")","v":""},null,{"$f":"IF(U665<>\"\",U665/9,\"\")","v":""}]
[null,null,null,null,null,null,null,null,null,null,null,null,null,null,null,null,"",null,null,"",null,""]
[null,null,null,null,null,null,null,null,null,null,null,null,null,null,null,null,"",null,null,"",null,""]
[null,null,null,null,null,null,null,null,null,null,null,null,null,null,null,null,"",null,null,"",null,""]
[null,null,null,null,null,null,null,null,null,null,null,null,null,null,null,null,"",null,null,"",null,""]
[null,null,null,null,null,null,null,null,null,null,null,null,null,null,null,null,"",null,null,"",null,""]
[null,null,null,null,null,null,null,null,null,null,null,null,null,null,null,null,"",null,null,"",null,""]
[null,null,null,null,null,null,null,null,null,null,null,null,null,null,null,null,"",null,null,"",null,""]
[null,null,null,null,null,null,null,null,null,null,null,null,null,null,null,null,"",null,null,"",null,""]
[null,null,null,null,null,null,null,null,null,null,null,null,null,null,null,null,"",null,null,"",null,""]
[null,null,null,null,null,null,null,null,null,null,null,null,null,null,null,null,"",null,null,"",null,""]
[null,null,null,null,null,null,null,null,null,null,null,null,null,null,null,null,"",null,null,"",null,""]
[null,null,null,null,null,null,null,null,null,null,null,null,null,null,null,null,"",null,null,"",null,""]
[null,null,null,null,null,null,null,null,null,null,null,null,null,null,null,null,"",null,null,"",null,""]
[null,null,null,null,null,null,null,null,null,null,null,null,null,null,null,null,"",null,null,"",null,""]
[null,null,null,null,null,null,null,null,null,null,null,null,null,null,null,null,"",null,null,"",null,""]
[null,null,null,null,null,null,null,null,null,null,null,null,null,null,null,null,"",null,null,"",null,""]
[null,null,null,null,null,null,null,null,null,null,null,null,null,null,null,null,"",null,null,"",null,""]
[null,null,null,null,null,null,null,null,null,null,null,null,null,null,null,null,"",null,null,"",null,""]
[null,null,null,null,null,null,null,null,null,null,null,null,null,null,null,null,"",null,null,"",null,""]
[null,null,null,null,null,null,null,null,null,null,null,null,null,null,null,null,"",null,null,"",null,""]
[null,null,null,null,null,null,null,null,null,null,null,null,null,null,null,null,"",null,null,"",null,""]
[null,null,null,null,null,null,null,null,null,null,null,null,null,null,null,null,"",null,null,"",null,""]
[null,null,null,null,null,null,null,null,null,null,null,null,null,null,null,null,"",null,null,"",null,""]
[null,null,null,null,null,null,null,null,null,null,null,null,null,null,null,null,"",null,null,"",null,""]
[null,null,null,null,null,null,null,null,null,null,null,null,null,null,null,null,"",null,null,"",null,""]
[null,null,null,null,null,null,null,null,null,null,null,null,null,null,null,null,"",null,null,"",null,""]
[null,null,null,null,null,null,null,null,null,null,null,null,null,null,null,null,"",null,null,"",null,""]
[null,null,null,null,null,null,null,null,null,null,null,null,null,null,null,null,"",null,null,"",null,""]
[null,null,null,null,null,null,null,null,null,null,null,null,null,null,null,null,"",null,null,"",null,""]
[null,null,null,null,null,null,null,null,null,null,null,null,null,null,null,null,"",null,null,"",null,""]
[null,null,null,null,null,null,null,null,null,null,null,null,null,null,null,null,"",null,null,"",null,""]
[null,null,null,null,null,null,null,null,null,null,null,null,null,null,null,null,"",null,null,"",null,""]
[null,null,null,null,null,null,null,null,null,null,null,null,null,null,null,null,"",null,null,"",null,""]
[null,null,null,null,null,null,null,null,null,null,null,null,null,null,null,null,"",null,null,"",null,""]
[null,null,null,null,null,null,null,null,null,null,null,null,null,null,null,null,"",null,null,"",null,""]
[null,null,null,null,null,null,null,null,null,null,null,null,null,null,null,null,{"$f":"IF(M701<>\"\",2,\"\")","v":""},null,null,"",null,""]
[null,null,null,null,null,null,null,null,null,null,null,null,null,null,null,null,"",null,null,"",null,""]
[null,null,null,null,null,null,null,null,null,null,null,null,null,null,null,null,"",null,null,"",null,""]
[null,null,null,null,null,null,null,null,null,null,null,null,null,null,null,null,"",null,null,"",null,""]
[null,null,null,null,null,null,null,null,null,null,null,null,null,null,null,null,"",null,null,"",null,""]
[null,null,null,null,null,null,null,null,null,null,null,null,null,null,null,null,"",null,null,"",null,""]
[null,null,null,null,null,null,null,null,null,null,null,null,null,null,null,null,"",null,null,"",null,""]
[null,null,null,null,null,null,null,null,null,null,null,null,null,null,null,null,"",null,null,"",null,""]
[null,null,null,null,null,null,null,null,null,null,null,null,null,null,null,null,"",null,null,"",null,""]
[null,null,null,null,null,null,null,null,null,null,null,null,null,null,null,null,"",null,null,"",null,""]
[null,null,null,null,null,null,null,null,null,null,null,null,null,null,null,null,"",null,null,"",null,""]
[null,null,null,null,null,null,null,null,null,null,null,null,null,null,null,null,"",null,null,"",null,""]
[null,null,null,null,null,null,null,null,null,null,null,null,null,null,null,null,"",null,null,"",null,""]
[null,null,null,null,null,null,null,null,null,null,null,null,null,null,null,null,"",null,null,"",null,""]
[null,null,null,null,null,null,null,null,null,null,null,null,null,null,null,null,"",null,null,"",null,""]
[null,null,null,null,null,null,null,null,null,null,null,null,null,null,null,null,"",null,null,"",null,""]
[null,null,null,null,null,null,null,null,null,null,null,null,null,null,null,null,"",null,null,"",null,""]
[null,null,null,null,null,null,null,null,null,null,null,null,null,null,null,null,"",null,null,"",null,""]
[null,null,null,null,null,null,null,null,null,null,null,null,null,null,null,null,"",null,null,"",null,""]
[null,null,null,null,null,null,null,null,null,null,null,null,null,null,null,null,"",null,null,"",null,""]
[null,null,null,null,null,null,null,null,null,null,null,null,null,null,null,null,"",null,null,"",null,""]
[null,null,null,null,null,null,null,null,null,null,null,null,null,null,null,null,"",null,null,"",null,""]
[null,null,null,null,null,null,null,null,null,null,null,null,null,null,null,null,"",null,null,"",null,""]
[null,null,null,null,null,null,null,null,null,null,null,null,null,null,null,null,"",null,null,"",null,""]
[null,null,null,null,null,null,null,null,null,null,null,null,null,null,null,null,"",null,null,"",null,""]
[null,null,null,null,null,null,null,null,null,null,null,null,null,null,null,null,"",null,null,"",null,""]
[null,null,null,null,null,null,null,null,null,null,null,null,null,null,null,null,"",null,null,"",null,""]
[null,null,null,null,null,null,null,null,null,null,null,null,null,null,null,null,"",null,null,"",null,""]
[null,null,null,null,null,null,null,null,null,null,null,null,null,null,null,null,"",null,null,{"$f":"IF(S729<>\"\",S729/9,\"\")","v":""},null,{"$f":"IF(U729<>\"\",U729/9,\"\")","v":""}]
[null,null,null,null,null,null,null,null,null,null,null,null,null,null,null,null,"",null,null,"",null,""]
[null,null,null,null,null,null,null,null,null,null,null,null,null,null,null,null,"",null,null,"",null,""]
[null,null,null,null,null,null,null,null,null,null,null,null,null,null,null,null,"",null,null,"",null,""]
[null,null,null,null,null,null,null,null,null,null,null,null,null,null,null,null,"",null,null,"",null,""]
[null,null,null,null,null,null,null,null,null,null,null,null,null,null,null,null,"",null,null,"",null,""]
[null,null,null,null,null,null,null,null,null,null,null,null,null,null,null,null,"",null,null,"",null,""]
[null,null,null,null,null,null,null,null,null,null,null,null,null,null,null,null,"",null,null,"",null,""]
[null,null,null,null,null,null,null,null,null,null,null,null,null,null,null,null,"",null,null,"",null,""]
[null,null,null,null,null,null,null,null,null,null,null,null,null,null,null,null,"",null,null,"",null,""]
[null,null,null,null,null,null,null,null,null,null,null,null,null,null,null,null,"",null,null,"",null,""]
[null,null,null,null,null,null,null,null,null,null,null,null,null,null,null,null,"",null,null,"",null,""]
[null,null,null,null,null,null,null,null,null,null,null,null,null,null,null,null,"",null,null,"",null,""]
[null,null,null,null,null,null,null,null,null,null,null,null,null,null,null,null,"",null,null,"",null,""]
[null,null,null,null,null,null,null,null,null,null,null,null,null,null,null,null,"",null,null,"",null,""]
[null,null,null,null,null,null,null,null,null,null,null,null,null,null,null,null,"",null,null,"",null,""]
[null,null,null,null,null,null,null,null,null,null,null,null,null,null,null,null,"",null,null,"",null,""]
[null,null,null,null,null,null,null,null,null,null,null,null,null,null,null,null,"",null,null,"",null,""]
[null,null,null,null,null,null,null,null,null,null,null,null,null,null,null,null,"",null,null,"",null,""]
[null,null,null,null,null,null,null,null,null,null,null,null,null,null,null,null,"",null,null,"",null,""]
[null,null,null,null,null,null,null,null,null,null,null,null,null,null,null,null,"",null,null,"",null,""]
[null,null,null,null,null,null,null,null,null,null,null,null,null,null,null,null,"",null,null,"",null,""]
[null,null,null,null,null,null,null,null,null,null,null,null,null,null,null,null,"",null,null,"",null,""]
[null,null,null,null,null,null,null,null,null,null,null,null,null,null,null,null,"",null,null,"",null,""]
[null,null,null,null,null,null,null,null,null,null,null,null,null,null,null,null,"",null,null,"",null,""]
[null,null,null,null,null,null,null,null,null,null,null,null,null,null,null,null,"",null,null,"",null,""]
[null,null,null,null,null,null,null,null,null,null,null,null,null,null,null,null,"",null,null,"",null,""]
[null,null,null,null,null,null,null,null,null,null,null,null,null,null,null,null,"",null,null,"",null,""]
[null,null,null,null,null,null,null,null,null,null,null,null,null,null,null,null,"",null,null,"",null,""]
[null,null,null,null,null,null,null,null,null,null,null,null,null,null,null,null,"",null,null,"",null,""]
[null,null,null,null,null,null,null,null,null,null,null,null,null,null,null,null,"",null,null,"",null,""]
[null,null,null,null,null,null,null,null,null,null,null,null,null,null,null,null,"",null,null,"",null,""]
[null,null,null,null,null,null,null,null,null,null,null,null,null,null,null,null,"",null,null,"",null,""]
[null,null,null,null,null,null,null,null,null,null,null,null,null,null,null,null,"",null,null,"",null,""]
[null,null,null,null,null,null,null,null,null,null,null,null,null,null,null,null,"",null,null,"",null,""]
[null,null,null,null,null,null,null,null,null,null,null,null,null,null,null,null,"",null,null,"",null,""]
[null,null,null,null,null,null,null,null,null,null,null,null,null,null,null,null,{"$f":"IF(M765<>\"\",2,\"\")","v":""},null,null,"",null,""]
[null,null,null,null,null,null,null,null,null,null,null,null,null,null,null,null,"",null,null,"",null,""]
[null,null,null,null,null,null,null,null,null,null,null,null,null,null,null,null,"",null,null,"",null,""]
[null,null,null,null,null,null,null,null,null,null,null,null,null,null,null,null,"",null,null,"",null,""]
[null,null,null,null,null,null,null,null,null,null,null,null,null,null,null,null,"",null,null,"",null,""]
[null,null,null,null,null,null,null,null,null,null,null,null,null,null,null,null,"",null,null,"",null,""]
[null,null,null,null,null,null,null,null,null,null,null,null,null,null,null,null,"",null,null,"",null,""]
[null,null,null,null,null,null,null,null,null,null,null,null,null,null,null,null,"",null,null,"",null,""]
[null,null,null,null,null,null,null,null,null,null,null,null,null,null,null,null,"",null,null,"",null,""]
[null,null,null,null,null,null,null,null,null,null,null,null,null,null,null,null,"",null,null,"",null,""]
[null,null,null,null,null,null,null,null,null,null,null,null,null,null,null,null,"",null,null,"",null,""]
[null,null,null,null,null,null,null,null,null,null,null,null,null,null,null,null,"",null,null,"",null,""]
[null,null,null,null,null,null,null,null,null,null,null,null,null,null,null,null,"",null,null,"",null,""]
[null,null,null,null,null,null,null,null,null,null,null,null,null,null,null,null,"",null,null,"",null,""]
[null,null,null,null,null,null,null,null,null,null,null,null,null,null,null,null,"",null,null,"",null,""]
[null,null,null,null,null,null,null,null,null,null,null,null,null,null,null,null,"",null,null,"",null,""]
[null,null,null,null,null,null,null,null,null,null,null,null,null,null,null,null,"",null,null,"",null,""]
[null,null,null,null,null,null,null,null,null,null,null,null,null,null,null,null,"",null,null,"",null,""]
[null,null,null,null,null,null,null,null,null,null,null,null,null,null,null,null,"",null,null,"",null,""]
[null,null,null,null,null,null,null,null,null,null,null,null,null,null,null,null,"",null,null,"",null,""]
[null,null,null,null,null,null,null,null,null,null,null,null,null,null,null,null,"",null,null,"",null,""]
[null,null,null,null,null,null,null,null,null,null,null,null,null,null,null,null,"",null,null,"",null,""]
[null,null,null,null,null,null,null,null,null,null,null,null,null,null,null,null,"",null,null,"",null,""]
[null,null,null,null,null,null,null,null,null,null,null,null,null,null,null,null,"",null,null,"",null,""]
[null,null,null,null,null,null,null,null,null,null,null,null,null,null,null,null,"",null,null,"",null,""]
[null,null,null,null,null,null,null,null,null,null,null,null,null,null,null,null,"",null,null,"",null,""]
[null,null,null,null,null,null,null,null,null,null,null,null,null,null,null,null,"",null,null,"",null,""]
[null,null,null,null,null,null,null,null,null,null,null,null,null,null,null,null,"",null,null,"",null,""]
[null,null,null,null,null,null,null,null,null,null,null,null,null,null,null,null,"",null,null,{"$f":"IF(S793<>\"\",S793/9,\"\")","v":""},null,{"$f":"IF(U793<>\"\",U793/9,\"\")","v":""}]
[null,null,null,null,null,null,null,null,null,null,null,null,null,null,null,null,"",null,null,"",null,""]
[null,null,null,null,null,null,null,null,null,null,null,null,null,null,null,null,"",null,null,"",null,""]
[null,null,null,null,null,null,null,null,null,null,null,null,null,null,null,null,"",null,null,"",null,""]
[null,null,null,null,null,null,null,null,null,null,null,null,null,null,null,null,"",null,null,"",null,""]
[null,null,null,null,null,null,null,null,null,null,null,null,null,null,null,null,"",null,null,"",null,""]
[null,null,null,null,null,null,null,null,null,null,null,null,null,null,null,null,"",null,null,"",null,""]
[null,null,null,null,null,null,null,null,null,null,null,null,null,null,null,null,"",null,null,"",null,""]
[null,null,null,null,null,null,null,null,null,null,null,null,null,null,null,null,"",null,null,"",null,""]
[null,null,null,null,null,null,null,null,null,null,null,null,null,null,null,null,"",null,null,"",null,""]
[null,null,null,null,null,null,null,null,null,null,null,null,null,null,null,null,"",null,null,"",null,""]
[null,null,null,null,null,null,null,null,null,null,null,null,null,null,null,null,"",null,null,"",null,""]
[null,null,null,null,null,null,null,null,null,null,null,null,null,null,null,null,"",null,null,"",null,""]
[null,null,null,null,null,null,null,null,null,null,null,null,null,null,null,null,"",null,null,"",null,""]
[null,null,null,null,null,null,null,null,null,null,null,null,null,null,null,null,"",null,null,"",null,""]
[null,null,null,null,null,null,null,null,null,null,null,null,null,null,null,null,"",null,null,"",null,""]
[null,null,null,null,null,null,null,null,null,null,null,null,null,null,null,null,"",null,null,"",null,""]
[null,null,null,null,null,null,null,null,null,null,null,null,null,null,null,null,"",null,null,"",null,""]
[null,null,null,null,null,null,null,null,null,null,null,null,null,null,null,null,"",null,null,"",null,""]
[null,null,null,null,null,null,null,null,null,null,null,null,null,null,null,null,"",null,null,"",null,""]
[null,null,null,null,null,null,null,null,null,null,null,null,null,null,null,null,"",null,null,"",null,""]
[null,null,null,null,null,null,null,null,null,null,null,null,null,null,null,null,"",null,null,"",null,""]
[null,null,null,null,null,null,null,null,null,null,null,null,null,null,null,null,"",null,null,"",null,""]
[null,null,null,null,null,null,null,null,null,null,null,null,null,null,null,null,"",null,null,"",null,""]
[null,null,null,null,null,null,null,null,null,null,null,null,null,null,null,null,"",null,null,"",null,""]
[null,null,null,null,null,null,null,null,null,null,null,null,null,null,null,null,"",null,null,"",null,""]
[null,null,null,null,null,null,null,null,null,null,null,null,null,null,null,null,"",null,null,"",null,""]
[null,null,null,null,null,null,null,null,null,null,null,null,null,null,null,null,"",null,null,"",null,""]
[null,null,null,null,null,null,null,null,null,null,null,null,null,null,null,null,"",null,null,"",null,""]
[null,null,null,null,null,null,null,null,null,null,null,null,null,null,null,null,"",null,null,"",null,""]
[null,null,null,null,null,null,null,null,null,null,null,null,null,null,null,null,"",null,null,"",null,""]
[null,null,null,null,null,null,null,null,null,null,null,null,null,null,null,null,"",null,null,"",null,""]
[null,null,null,null,null,null,null,null,null,null,null,null,null,null,null,null,"",null,null,"",null,""]
[null,null,null,null,null,null,null,null,null,null,null,null,null,null,null,null,"",null,null,"",null,""]
[null,null,null,null,null,null,null,null,null,null,null,null,null,null,null,null,"",null,null,"",null,""]
[null,null,null,null,null,null,null,null,null,null,null,null,null,null,null,null,"",null,null,"",null,""]
[null,null,null,null,null,null,null,null,null,null,null,null,null,null,null,null,{"$f":"IF(M829<>\"\",2,\"\")","v":""},null,null,"",null,""]
[null,null,null,null,null,null,null,null,null,null,null,null,null,null,null,null,"",null,null,"",null,""]
[null,null,null,null,null,null,null,null,null,null,null,null,null,null,null,null,"",null,null,"",null,""]
[null,null,null,null,null,null,null,null,null,null,null,null,null,null,null,null,"",null,null,"",null,""]
[null,null,null,null,null,null,null,null,null,null,null,null,null,null,null,null,"",null,null,"",null,""]
[null,null,null,null,null,null,null,null,null,null,null,null,null,null,null,null,"",null,null,"",null,""]
[null,null,null,null,null,null,null,null,null,null,null,null,null,null,null,null,"",null,null,"",null,""]
[null,null,null,null,null,null,null,null,null,null,null,null,null,null,null,null,"",null,null,"",null,""]
[null,null,null,null,null,null,null,null,null,null,null,null,null,null,null,null,"",null,null,"",null,""]
[null,null,null,null,null,null,null,null,null,null,null,null,null,null,null,null,"",null,null,"",null,""]
[null,null,null,null,null,null,null,null,null,null,null,null,null,null,null,null,"",null,null,"",null,""]
[null,null,null,null,null,null,null,null,null,null,null,null,null,null,null,null,"",null,null,"",null,""]
[null,null,null,null,null,null,null,null,null,null,null,null,null,null,null,null,"",null,null,"",null,""]
[null,null,null,null,null,null,null,null,null,null,null,null,null,null,null,null,"",null,null,"",null,""]
[null,null,null,null,null,null,null,null,null,null,null,null,null,null,null,null,"",null,null,"",null,""]
[null,null,null,null,null,null,null,null,null,null,null,null,null,null,null,null,"",null,null,"",null,""]
[null,null,null,null,null,null,null,null,null,null,null,null,null,null,null,null,"",null,null,"",null,""]
[null,null,null,null,null,null,null,null,null,null,null,null,null,null,null,null,"",null,null,"",null,""]
[null,null,null,null,null,null,null,null,null,null,null,null,null,null,null,null,"",null,null,"",null,""]
[null,null,null,null,null,null,null,null,null,null,null,null,null,null,null,null,"",null,null,"",null,""]
[null,null,null,null,null,null,null,null,null,null,null,null,null,null,null,null,"",null,null,"",null,""]
[null,null,null,null,null,null,null,null,null,null,null,null,null,null,null,null,"",null,null,"",null,""]
[null,null,null,null,null,null,null,null,null,null,null,null,null,null,null,null,"",null,null,"",null,""]
[null,null,null,null,null,null,null,null,null,null,null,null,null,null,null,null,"",null,null,"",null,""]
[null,null,null,null,null,null,null,null,null,null,null,null,null,null,null,null,"",null,null,"",null,""]
[null,null,null,null,null,null,null,null,null,null,null,null,null,null,null,null,"",null,null,"",null,""]
[null,null,null,null,null,null,null,null,null,null,null,null,null,null,null,null,"",null,null,"",null,""]
[null,null,null,null,null,null,null,null,null,null,null,null,null,null,null,null,"",null,null,"",null,""]
[null,null,null,null,null,null,null,null,null,null,null,null,null,null,null,null,"",null,null,{"$f":"IF(S857<>\"\",S857/9,\"\")","v":""},null,{"$f":"IF(U857<>\"\",U857/9,\"\")","v":""}]
[null,null,null,null,null,null,null,null,null,null,null,null,null,null,null,null,"",null,null,"",null,""]
[null,null,null,null,null,null,null,null,null,null,null,null,null,null,null,null,"",null,null,"",null,""]
[null,null,null,null,null,null,null,null,null,null,null,null,null,null,null,null,"",null,null,"",null,""]
[null,null,null,null,null,null,null,null,null,null,null,null,null,null,null,null,"",null,null,"",null,""]
[null,null,null,null,null,null,null,null,null,null,null,null,null,null,null,null,"",null,null,"",null,""]
[null,null,null,null,null,null,null,null,null,null,null,null,null,null,null,null,"",null,null,"",null,""]
[null,null,null,null,null,null,null,null,null,null,null,null,null,null,null,null,"",null,null,"",null,""]
[null,null,null,null,null,null,null,null,null,null,null,null,null,null,null,null,"",null,null,"",null,""]
[null,null,null,null,null,null,null,null,null,null,null,null,null,null,null,null,"",null,null,"",null,""]
[null,null,null,null,null,null,null,null,null,null,null,null,null,null,null,null,"",null,null,"",null,""]
[null,null,null,null,null,null,null,null,null,null,null,null,null,null,null,null,"",null,null,"",null,""]
[null,null,null,null,null,null,null,null,null,null,null,null,null,null,null,null,"",null,null,"",null,""]
[null,null,null,null,null,null,null,null,null,null,null,null,null,null,null,null,"",null,null,"",null,""]
[null,null,null,null,null,null,null,null,null,null,null,null,null,null,null,null,"",null,null,"",null,""]
[null,null,null,null,null,null,null,null,null,null,null,null,null,null,null,null,"",null,null,"",null,""]
[null,null,null,null,null,null,null,null,null,null,null,null,null,null,null,null,"",null,null,"",null,""]
[null,null,null,null,null,null,null,null,null,null,null,null,null,null,null,null,"",null,null,"",null,""]
[null,null,null,null,null,null,null,null,null,null,null,null,null,null,null,null,"",null,null,"",null,""]
[null,null,null,null,null,null,null,null,null,null,null,null,null,null,null,null,"",null,null,"",null,""]
[null,null,null,null,null,null,null,null,null,null,null,null,null,null,null,null,"",null,null,"",null,""]
[null,null,null,null,null,null,null,null,null,null,null,null,null,null,null,null,"",null,null,"",null,""]
[null,null,null,null,null,null,null,null,null,null,null,null,null,null,null,null,"",null,null,"",null,""]
[null,null,null,null,null,null,null,null,null,null,null,null,null,null,null,null,"",null,null,"",null,""]
[null,null,null,null,null,null,null,null,null,null,null,null,null,null,null,null,"",null,null,"",null,""]
[null,null,null,null,null,null,null,null,null,null,null,null,null,null,null,null,"",null,null,"",null,""]
[null,null,null,null,null,null,null,null,null,null,null,null,null,null,null,null,"",null,null,"",null,""]
[null,null,null,null,null,null,null,null,null,null,null,null,null,null,null,null,"",null,null,"",null,""]
[null,null,null,null,null,null,null,null,null,null,null,null,null,null,null,null,"",null,null,"",null,""]
[null,null,null,null,null,null,null,null,null,null,null,null,null,null,null,null,"",null,null,"",null,""]
[null,null,null,null,null,null,null,null,null,null,null,null,null,null,null,null,"",null,null,"",null,""]
[null,null,null,null,null,null,null,null,null,null,null,null,null,null,null,null,"",null,null,"",null,""]
[null,null,null,null,null,null,null,null,null,null,null,null,null,null,null,null,"",null,null,"",null,""]
[null,null,null,null,null,null,null,null,null,null,null,null,null,null,null,null,"",null,null,"",null,""]
[null,null,null,null,null,null,null,null,null,null,null,null,null,null,null,null,"",null,null,"",null,""]
[null,null,null,null,null,null,null,null,null,null,null,null,null,null,null,null,"",null,null,"",null,""]
[null,null,null,null,null,null,null,null,null,null,null,null,null,null,null,null,{"$f":"IF(M893<>\"\",2,\"\")","v":""},null,null,"",null,""]
[null,null,null,null,null,null,null,null,null,null,null,null,null,null,null,null,"",null,null,"",null,""]
[null,null,null,null,null,null,null,null,null,null,null,null,null,null,null,null,"",null,null,"",null,""]
[null,null,null,null,null,null,null,null,null,null,null,null,null,null,null,null,"",null,null,"",null,""]
[null,null,null,null,null,null,null,null,null,null,null,null,null,null,null,null,"",null,null,"",null,""]
[null,null,null,null,null,null,null,null,null,null,null,null,null,null,null,null,"",null,null,"",null,""]
[null,null,null,null,null,null,null,null,null,null,null,null,null,null,null,null,"",null,null,"",null,""]
[null,null,null,null,null,null,null,null,null,null,null,null,null,null,null,null,"",null,null,"",null,""]
[null,null,null,null,null,null,null,null,null,null,null,null,null,null,null,null,"",null,null,"",null,""]
[null,null,null,null,null,null,null,null,null,null,null,null,null,null,null,null,"",null,null,"",null,""]
[null,null,null,null,null,null,null,null,null,null,null,null,null,null,null,null,"",null,null,"",null,""]
[null,null,null,null,null,null,null,null,null,null,null,null,null,null,null,null,"",null,null,"",null,""]
[null,null,null,null,null,null,null,null,null,null,null,null,null,null,null,null,"",null,null,"",null,""]
[null,null,null,null,null,null,null,null,null,null,null,null,null,null,null,null,"",null,null,"",null,""]
[null,null,null,null,null,null,null,null,null,null,null,null,null,null,null,null,"",null,null,"",null,""]
[null,null,null,null,null,null,null,null,null,null,null,null,null,null,null,null,"",null,null,"",null,""]
[null,null,null,null,null,null,null,null,null,null,null,null,null,null,null,null,"",null,null,"",null,""]
[null,null,null,null,null,null,null,null,null,null,null,null,null,null,null,null,"",null,null,"",null,""]
[null,null,null,null,null,null,null,null,null,null,null,null,null,null,null,null,"",null,null,"",null,""]
[null,null,null,null,null,null,null,null,null,null,null,null,null,null,null,null,"",null,null,"",null,""]
[null,null,null,null,null,null,null,null,null,null,null,null,null,null,null,null,"",null,null,"",null,""]
[null,null,null,null,null,null,null,null,null,null,null,null,null,null,null,null,"",null,null,"",null,""]
[null,null,null,null,null,null,null,null,null,null,null,null,null,null,null,null,"",null,null,"",null,""]
[null,null,null,null,null,null,null,null,null,null,null,null,null,null,null,null,"",null,null,"",null,""]
[null,null,null,null,null,null,null,null,null,null,null,null,null,null,null,null,"",null,null,"",null,""]
[null,null,null,null,null,null,null,null,null,null,null,null,null,null,null,null,"",null,null,"",null,""]
[null,null,null,null,null,null,null,null,null,null,null,null,null,null,null,null,"",null,null,"",null,""]
[null,null,null,null,null,null,null,null,null,null,null,null,null,null,null,null,"",null,null,"",null,""]
[null,null,null,null,null,null,null,null,null,null,null,null,null,null,null,null,"",null,null,{"$f":"IF(S921<>\"\",S921/9,\"\")","v":""},null,{"$f":"IF(U921<>\"\",U921/9,\"\")","v":""}]
[null,null,null,null,null,null,null,null,null,null,null,null,null,null,null,null,"",null,null,"",null,""]
[null,null,null,null,null,null,null,null,null,null,null,null,null,null,null,null,"",null,null,"",null,""]
[null,null,null,null,null,null,null,null,null,null,null,null,null,null,null,null,"",null,null,"",null,""]
[null,null,null,null,null,null,null,null,null,null,null,null,null,null,null,null,"",null,null,"",null,""]
[null,null,null,null,null,null,null,null,null,null,null,null,null,null,null,null,"",null,null,"",null,""]
[null,null,null,null,null,null,null,null,null,null,null,null,null,null,null,null,"",null,null,"",null,""]
[null,null,null,null,null,null,null,null,null,null,null,null,null,null,null,null,"",null,null,"",null,""]
[null,null,null,null,null,null,null,null,null,null,null,null,null,null,null,null,"",null,null,"",null,""]
[null,null,null,null,null,null,null,null,null,null,null,null,null,null,null,null,"",null,null,"",null,""]
[null,null,null,null,null,null,null,null,null,null,null,null,null,null,null,null,"",null,null,"",null,""]
[null,null,null,null,null,null,null,null,null,null,null,null,null,null,null,null,"",null,null,"",null,""]
[null,null,null,null,null,null,null,null,null,null,null,null,null,null,null,null,"",null,null,"",null,""]
[null,null,null,null,null,null,null,null,null,null,null,null,null,null,null,null,"",null,null,"",null,""]
[null,null,null,null,null,null,null,null,null,null,null,null,null,null,null,null,"",null,null,"",null,""]
[null,null,null,null,null,null,null,null,null,null,null,null,null,null,null,null,"",null,null,"",null,""]
[null,null,null,null,null,null,null,null,null,null,null,null,null,null,null,null,"",null,null,"",null,""]
[null,null,null,null,null,null,null,null,null,null,null,null,null,null,null,null,"",null,null,"",null,""]
[null,null,null,null,null,null,null,null,null,null,null,null,null,null,null,null,"",null,null,"",null,""]
[null,null,null,null,null,null,null,null,null,null,null,null,null,null,null,null,"",null,null,"",null,""]
[null,null,null,null,null,null,null,null,null,null,null,null,null,null,null,null,"",null,null,"",null,""]
[null,null,null,null,null,null,null,null,null,null,null,null,null,null,null,null,"",null,null,"",null,""]
[null,null,null,null,null,null,null,null,null,null,null,null,null,null,null,null,"",null,null,"",null,""]
[null,null,null,null,null,null,null,null,null,null,null,null,null,null,null,null,"",null,null,"",null,""]
[null,null,null,null,null,null,null,null,null,null,null,null,null,null,null,null,"",null,null,"",null,""]
[null,null,null,null,null,null,null,null,null,null,null,null,null,null,null,null,"",null,null,"",null,""]
[null,null,null,null,null,null,null,null,null,null,null,null,null,null,null,null,"",null,null,"",null,""]
[null,null,null,null,null,null,null,null,null,null,null,null,null,null,null,null,"",null,null,"",null,""]
[null,null,null,null,null,null,null,null,null,null,null,null,null,null,null,null,"",null,null,"",null,""]
[null,null,null,null,null,null,null,null,null,null,null,null,null,null,null,null,"",null,null,"",null,""]
[null,null,null,null,null,null,null,null,null,null,null,null,null,null,null,null,"",null,null,"",null,""]
[null,null,null,null,null,null,null,null,null,null,null,null,null,null,null,null,"",null,null,"",null,""]
[null,null,null,null,null,null,null,null,null,null,null,null,null,null,null,null,"",null,null,"",null,""]
[null,null,null,null,null,null,null,null,null,null,null,null,null,null,null,null,"",null,null,"",null,""]
[null,null,null,null,null,null,null,null,null,null,null,null,null,null,null,null,"",null,null,"",null,""]
[null,null,null,null,null,null,null,null,null,null,null,null,null,null,null,null,"",null,null,"",null,""]
[null,null,null,null,null,null,null,null,null,null,null,null,null,null,null,null,{"$f":"IF(M957<>\"\",2,\"\")","v":""},null,null,"",null,""]
[null,null,null,null,null,null,null,null,null,null,null,null,null,null,null,null,"",null,null,"",null,""]
[null,null,null,null,null,null,null,null,null,null,null,null,null,null,null,null,"",null,null,"",null,""]
[null,null,null,null,null,null,null,null,null,null,null,null,null,null,null,null,"",null,null,"",null,""]
[null,null,null,null,null,null,null,null,null,null,null,null,null,null,null,null,"",null,null,"",null,""]
[null,null,null,null,null,null,null,null,null,null,null,null,null,null,null,null,"",null,null,"",null,""]
[null,null,null,null,null,null,null,null,null,null,null,null,null,null,null,null,"",null,null,"",null,""]
[null,null,null,null,null,null,null,null,null,null,null,null,null,null,null,null,"",null,null,"",null,""]
[null,null,null,null,null,null,null,null,null,null,null,null,null,null,null,null,"",null,null,"",null,""]
[null,null,null,null,null,null,null,null,null,null,null,null,null,null,null,null,"",null,null,"",null,""]
[null,null,null,null,null,null,null,null,null,null,null,null,null,null,null,null,"",null,null,"",null,""]
[null,null,null,null,null,null,null,null,null,null,null,null,null,null,null,null,"",null,null,"",null,""]
[null,null,null,null,null,null,null,null,null,null,null,null,null,null,null,null,"",null,null,"",null,""]
[null,null,null,null,null,null,null,null,null,null,null,null,null,null,null,null,"",null,null,"",null,""]
[null,null,null,null,null,null,null,null,null,null,null,null,null,null,null,null,"",null,null,"",null,""]
[null,null,null,null,null,null,null,null,null,null,null,null,null,null,null,null,"",null,null,"",null,""]
[null,null,null,null,null,null,null,null,null,null,null,null,null,null,null,null,"",null,null,"",null,""]
[null,null,null,null,null,null,null,null,null,null,null,null,null,null,null,null,"",null,null,"",null,""]
[null,null,null,null,null,null,null,null,null,null,null,null,null,null,null,null,"",null,null,"",null,""]
[null,null,null,null,null,null,null,null,null,null,null,null,null,null,null,null,"",null,null,"",null,""]
[null,null,null,null,null,null,null,null,null,null,null,null,null,null,null,null,"",null,null,"",null,""]
[null,null,null,null,null,null,null,null,null,null,null,null,null,null,null,null,"",null,null,"",null,""]
[null,null,null,null,null,null,null,null,null,null,null,null,null,null,null,null,"",null,null,"",null,""]
[null,null,null,null,null,null,null,null,null,null,null,null,null,null,null,null,"",null,null,"",null,""]
[null,null,null,null,null,null,null,null,null,null,null,null,null,null,null,null,"",null,null,"",null,""]
[null,null,null,null,null,null,null,null,null,null,null,null,null,null,null,null,"",null,null,"",null,""]
[null,null,null,null,null,null,null,null,null,null,null,null,null,null,null,null,"",null,null,"",null,""]
[null,null,null,null,null,null,null,null,null,null,null,null,null,null,null,null,"",null,null,"",null,""]
[null,null,null,null,null,null,null,null,null,null,null,null,null,null,null,null,"",null,null,{"$f":"IF(S985<>\"\",S985/9,\"\")","v":""},null,{"$f":"IF(U985<>\"\",U985/9,\"\")","v":""}]
[null,null,null,null,null,null,null,null,null,null,null,null,null,null,null,null,"",null,null,"",null,""]
[null,null,null,null,null,null,null,null,null,null,null,null,null,null,null,null,"",null,null,"",null,""]
[null,null,null,null,null,null,null,null,null,null,null,null,null,null,null,null,"",null,null,"",null,""]
[null,null,null,null,null,null,null,null,null,null,null,null,null,null,null,null,"",null,null,"",null,""]
[null,null,null,null,null,null,null,null,null,null,null,null,null,null,null,null,"",null,null,"",null,""]
[null,null,null,null,null,null,null,null,null,null,null,null,null,null,null,null,"",null,null,"",null,""]
[null,null,null,null,null,null,null,null,null,null,null,null,null,null,null,null,"",null,null,"",null,""]
[null,null,null,null,null,null,null,null,null,null,null,null,null,null,null,null,"",null,null,"",null,""]
[null,null,null,null,null,null,null,null,null,null,null,null,null,null,null,null,"",null,null,"",null,""]
[null,null,null,null,null,null,null,null,null,null,null,null,null,null,null,null,"",null,null,"",null,""]
[null,null,null,null,null,null,null,null,null,null,null,null,null,null,null,null,"",null,null,"",null,""]
[null,null,null,null,null,null,null,null,null,null,null,null,null,null,null,null,"",null,null,"",null,""]
[null,null,null,null,null,null,null,null,null,null,null,null,null,null,null,null,"",null,null,"",null,""]
[null,null,null,null,null,null,null,null,null,null,null,null,null,null,null,null,"",null,null,"",null,""]
[null,null,null,null,null,null,null,null,null,null,null,null,null,null,null,null,"",null,null,"",null,""]
[null,null,null,null,null,null,null,null,null,null,null,null,null,null,null,null,"",null,null,"",null,""]
[null,null,null,null,null,null,null,null,null,null,null,null,null,null,null,null,"",null,null,"",null,""]
[null,null,null,null,null,null,null,null,null,null,null,null,null,null,null,null,"",null,null,"",null,""]
[null,null,null,null,null,null,null,null,null,null,null,null,null,null,null,null,"",null,null,"",null,""]
[null,null,null,null,null,null,null,null,null,null,null,null,null,null,null,null,"",null,null,"",null,""]
[null,null,null,null,null,null,null,null,null,null,null,null,null,null,null,null,"",null,null,"",null,""]
[null,null,null,null,null,null,null,null,null,null,null,null,null,null,null,null,"",null,null,"",null,""]
[null,null,null,null,null,null,null,null,null,null,null,null,null,null,null,null,"",null,null,"",null,""]
[null,null,null,null,null,null,null,null,null,null,null,null,null,null,null,null,"",null,null,"",null,""]
[null,null,null,null,null,null,null,null,null,null,null,null,null,null,null,null,"",null,null,"",null,""]
[null,null,null,null,null,null,null,null,null,null,null,null,null,null,null,null,"",null,null,"",null,""]
[null,null,null,null,null,null,null,null,null,null,null,null,null,null,null,null,"",null,null,"",null,""]
[null,null,null,null,null,null,null,null,null,null,null,null,null,null,null,null,"",null,null,"",null,""]
[null,null,null,null,null,null,null,null,null,null,null,null,null,null,null,null,"",null,null,"",null,""]
[null,null,null,null,null,null,null,null,null,null,null,null,null,null,null,null,"",null,null,"",null,""]
[null,null,null,null,null,null,null,null,null,null,null,null,null,null,null,null,"",null,null,"",null,""]
[null,null,null,null,null,null,null,null,null,null,null,null,null,null,null,null,"",null,null,"",null,""]
[null,null,null,null,null,null,null,null,null,null,null,null,null,null,null,null,"",null,null,"",null,""]
[null,null,null,null,null,null,null,null,null,null,null,null,null,null,null,null,"",null,null,"",null,""]
[null,null,null,null,null,null,null,null,null,null,null,null,null,null,null,null,"",null,null,"",null,""]
[null,null,null,null,null,null,null,null,null,null,null,null,null,null,null,null,{"$f":"IF(M1021<>\"\",2,\"\")","v":""},null,null,"",null,""]
[null,null,null,null,null,null,null,null,null,null,null,null,null,null,null,null,"",null,null,"",null,""]
[null,null,null,null,null,null,null,null,null,null,null,null,null,null,null,null,"",null,null,"",null,""]
[null,null,null,null,null,null,null,null,null,null,null,null,null,null,null,null,"",null,null,"",null,""]
[null,null,null,null,null,null,null,null,null,null,null,null,null,null,null,null,"",null,null,"",null,""]
[null,null,null,null,null,null,null,null,null,null,null,null,null,null,null,null,"",null,null,"",null,""]
[null,null,null,null,null,null,null,null,null,null,null,null,null,null,null,null,"",null,null,"",null,""]
[null,null,null,null,null,null,null,null,null,null,null,null,null,null,null,null,"",null,null,"",null,""]
[null,null,null,null,null,null,null,null,null,null,null,null,null,null,null,null,"",null,null,"",null,""]
[null,null,null,null,null,null,null,null,null,null,null,null,null,null,null,null,"",null,null,"",null,""]
[null,null,null,null,null,null,null,null,null,null,null,null,null,null,null,null,"",null,null,"",null,""]
[null,null,null,null,null,null,null,null,null,null,null,null,null,null,null,null,"",null,null,"",null,""]
[null,null,null,null,null,null,null,null,null,null,null,null,null,null,null,null,"",null,null,"",null,""]
[null,null,null,null,null,null,null,null,null,null,null,null,null,null,null,null,"",null,null,"",null,""]
[null,null,null,null,null,null,null,null,null,null,null,null,null,null,null,null,"",null,null,"",null,""]
[null,null,null,null,null,null,null,null,null,null,null,null,null,null,null,null,"",null,null,"",null,""]
[null,null,null,null,null,null,null,null,null,null,null,null,null,null,null,null,"",null,null,"",null,""]
[null,null,null,null,null,null,null,null,null,null,null,null,null,null,null,null,"",null,null,"",null,""]
[null,null,null,null,null,null,null,null,null,null,null,null,null,null,null,null,"",null,null,"",null,""]
[null,null,null,null,null,null,null,null,null,null,null,null,null,null,null,null,"",null,null,"",null,""]
[null,null,null,null,null,null,null,null,null,null,null,null,null,null,null,null,"",null,null,"",null,""]
[null,null,null,null,null,null,null,null,null,null,null,null,null,null,null,null,"",null,null,"",null,""]
[null,null,null,null,null,null,null,null,null,null,null,null,null,null,null,null,"",null,null,"",null,""]
[null,null,null,null,null,null,null,null,null,null,null,null,null,null,null,null,"",null,null,"",null,""]
[null,null,null,null,null,null,null,null,null,null,null,null,null,null,null,null,"",null,null,"",null,""]
[null,null,null,null,null,null,null,null,null,null,null,null,null,null,null,null,"",null,null,"",null,""]
[null,null,null,null,null,null,null,null,null,null,null,null,null,null,null,null,"",null,null,"",null,""]
[null,null,null,null,null,null,null,null,null,null,null,null,null,null,null,null,"",null,null,"",null,""]
[null,null,null,null,null,null,null,null,null,null,null,null,null,null,null,null,"",null,null,{"$f":"IF(S1049<>\"\",S1049/9,\"\")","v":""},null,{"$f":"IF(U1049<>\"\",U1049/9,\"\")","v":""}]
[null,null,null,null,null,null,null,null,null,null,null,null,null,null,null,null,"",null,null,"",null,""]
[null,null,null,null,null,null,null,null,null,null,null,null,null,null,null,null,"",null,null,"",null,""]
[null,null,null,null,null,null,null,null,null,null,null,null,null,null,null,null,"",null,null,"",null,""]
[null,null,null,null,null,null,null,null,null,null,null,null,null,null,null,null,"",null,null,"",null,""]
[null,null,null,null,null,null,null,null,null,null,null,null,null,null,null,null,"",null,null,"",null,""]
[null,null,null,null,null,null,null,null,null,null,null,null,null,null,null,null,"",null,null,"",null,""]
[null,null,null,null,null,null,null,null,null,null,null,null,null,null,null,null,"",null,null,"",null,""]
[null,null,null,null,null,null,null,null,null,null,null,null,null,null,null,null,"",null,null,"",null,""]
[null,null,null,null,null,null,null,null,null,null,null,null,null,null,null,null,"",null,null,"",null,""]
[null,null,null,null,null,null,null,null,null,null,null,null,null,null,null,null,"",null,null,"",null,""]
[null,null,null,null,null,null,null,null,null,null,null,null,null,null,null,null,"",null,null,"",null,""]
[null,null,null,null,null,null,null,null,null,null,null,null,null,null,null,null,"",null,null,"",null,""]
[null,null,null,null,null,null,null,null,null,null,null,null,null,null,null,null,"",null,null,"",null,""]
[null,null,null,null,null,null,null,null,null,null,null,null,null,null,null,null,"",null,null,"",null,""]
[null,null,null,null,null,null,null,null,null,null,null,null,null,null,null,null,"",null,null,"",null,""]
[null,null,null,null,null,null,null,null,null,null,null,null,null,null,null,null,"",null,null,"",null,""]
[null,null,null,null,null,null,null,null,null,null,null,null,null,null,null,null,"",null,null,"",null,""]
[null,null,null,null,null,null,null,null,null,null,null,null,null,null,null,null,"",null,null,"",null,""]
[null,null,null,null,null,null,null,null,null,null,null,null,null,null,null,null,"",null,null,"",null,""]
[null,null,null,null,null,null,null,null,null,null,null,null,null,null,null,null,"",null,null,"",null,""]
[null,null,null,null,null,null,null,null,null,null,null,null,null,null,null,null,"",null,null,"",null,""]
[null,null,null,null,null,null,null,null,null,null,null,null,null,null,null,null,"",null,null,"",null,""]
[null,null,null,null,null,null,null,null,null,null,null,null,null,null,null,null,"",null,null,"",null,""]
[null,null,null,null,null,null,null,null,null,null,null,null,null,null,null,null,"",null,null,"",null,""]
[null,null,null,null,null,null,null,null,null,null,null,null,null,null,null,null,"",null,null,"",null,""]
[null,null,null,null,null,null,null,null,null,null,null,null,null,null,null,null,"",null,null,"",null,""]
[null,null,null,null,null,null,null,null,null,null,null,null,null,null,null,null,"",null,null,"",null,""]
[null,null,null,null,null,null,null,null,null,null,null,null,null,null,null,null,"",null,null,"",null,""]
[null,null,null,null,null,null,null,null,null,null,null,null,null,null,null,null,"",null,null,"",null,""]
[null,null,null,null,null,null,null,null,null,null,null,null,null,null,null,null,"",null,null,"",null,""]
[null,null,null,null,null,null,null,null,null,null,null,null,null,null,null,null,"",null,null,"",null,""]
[null,null,null,null,null,null,null,null,null,null,null,null,null,null,null,null,"",null,null,"",null,""]
[null,null,null,null,null,null,null,null,null,null,null,null,null,null,null,null,"",null,null,"",null,""]
[null,null,null,null,null,null,null,null,null,null,null,null,null,null,null,null,"",null,null,"",null,""]
[null,null,null,null,null,null,null,null,null,null,null,null,null,null,null,null,"",null,null,"",null,""]
[null,null,null,null,null,null,null,null,null,null,null,null,null,null,null,null,{"$f":"IF(M1085<>\"\",2,\"\")","v":""},null,null,"",null,""]
[null,null,null,null,null,null,null,null,null,null,null,null,null,null,null,null,"",null,null,"",null,""]
[null,null,null,null,null,null,null,null,null,null,null,null,null,null,null,null,"",null,null,"",null,""]
[null,null,null,null,null,null,null,null,null,null,null,null,null,null,null,null,"",null,null,"",null,""]
[null,null,null,null,null,null,null,null,null,null,null,null,null,null,null,null,"",null,null,"",null,""]
[null,null,null,null,null,null,null,null,null,null,null,null,null,null,null,null,"",null,null,"",null,""]
[null,null,null,null,null,null,null,null,null,null,null,null,null,null,null,null,"",null,null,"",null,""]
[null,null,null,null,null,null,null,null,null,null,null,null,null,null,null,null,"",null,null,"",null,""]
[null,null,null,null,null,null,null,null,null,null,null,null,null,null,null,null,"",null,null,"",null,""]
[null,null,null,null,null,null,null,null,null,null,null,null,null,null,null,null,"",null,null,"",null,""]
[null,null,null,null,null,null,null,null,null,null,null,null,null,null,null,null,"",null,null,"",null,""]
[null,null,null,null,null,null,null,null,null,null,null,null,null,null,null,null,"",null,null,"",null,""]
[null,null,null,null,null,null,null,null,null,null,null,null,null,null,null,null,"",null,null,"",null,""]
[null,null,null,null,null,null,null,null,null,null,null,null,null,null,null,null,"",null,null,"",null,""]
[null,null,null,null,null,null,null,null,null,null,null,null,null,null,null,null,"",null,null,"",null,""]
[null,null,null,null,null,null,null,null,null,null,null,null,null,null,null,null,"",null,null,"",null,""]
[null,null,null,null,null,null,null,null,null,null,null,null,null,null,null,null,"",null,null,"",null,""]
[null,null,null,null,null,null,null,null,null,null,null,null,null,null,null,null,"",null,null,"",null,""]
[null,null,null,null,null,null,null,null,null,null,null,null,null,null,null,null,"",null,null,"",null,""]
[null,null,null,null,null,null,null,null,null,null,null,null,null,null,null,null,"",null,null,"",null,""]
[null,null,null,null,null,null,null,null,null,null,null,null,null,null,null,null,"",null,null,"",null,""]
[null,null,null,null,null,null,null,null,null,null,null,null,null,null,null,null,"",null,null,"",null,""]
[null,null,null,null,null,null,null,null,null,null,null,null,null,null,null,null,"",null,null,"",null,""]
[null,null,null,null,null,null,null,null,null,null,null,null,null,null,null,null,"",null,null,"",null,""]
[null,null,null,null,null,null,null,null,null,null,null,null,null,null,null,null,"",null,null,"",null,""]
[null,null,null,null,null,null,null,null,null,null,null,null,null,null,null,null,"",null,null,"",null,""]
[null,null,null,null,null,null,null,null,null,null,null,null,null,null,null,null,"",null,null,"",null,""]
[null,null,null,null,null,null,null,null,null,null,null,null,null,null,null,null,"",null,null,"",null,""]
[null,null,null,null,null,null,null,null,null,null,null,null,null,null,null,null,"",null,null,{"$f":"IF(S1113<>\"\",S1113/9,\"\")","v":""},null,{"$f":"IF(U1113<>\"\",U1113/9,\"\")","v":""}]
[null,null,null,null,null,null,null,null,null,null,null,null,null,null,null,null,"",null,null,"",null,""]
[null,null,null,null,null,null,null,null,null,null,null,null,null,null,null,null,"",null,null,"",null,""]
[null,null,null,null,null,null,null,null,null,null,null,null,null,null,null,null,"",null,null,"",null,""]
[null,null,null,null,null,null,null,null,null,null,null,null,null,null,null,null,"",null,null,"",null,""]
[null,null,null,null,null,null,null,null,null,null,null,null,null,null,null,null,"",null,null,"",null,""]
[null,null,null,null,null,null,null,null,null,null,null,null,null,null,null,null,"",null,null,"",null,""]
[null,null,null,null,null,null,null,null,null,null,null,null,null,null,null,null,"",null,null,"",null,""]
[null,null,null,null,null,null,null,null,null,null,null,null,null,null,null,null,"",null,null,"",null,""]
[null,null,null,null,null,null,null,null,null,null,null,null,null,null,null,null,"",null,null,"",null,""]
[null,null,null,null,null,null,null,null,null,null,null,null,null,null,null,null,"",null,null,"",null,""]
[null,null,null,null,null,null,null,null,null,null,null,null,null,null,null,null,"",null,null,"",null,""]
[null,null,null,null,null,null,null,null,null,null,null,null,null,null,null,null,"",null,null,"",null,""]
[null,null,null,null,null,null,null,null,null,null,null,null,null,null,null,null,"",null,null,"",null,""]
[null,null,null,null,null,null,null,null,null,null,null,null,null,null,null,null,"",null,null,"",null,""]
[null,null,null,null,null,null,null,null,null,null,null,null,null,null,null,null,"",null,null,"",null,""]
[null,null,null,null,null,null,null,null,null,null,null,null,null,null,null,null,"",null,null,"",null,""]
[null,null,null,null,null,null,null,null,null,null,null,null,null,null,null,null,"",null,null,"",null,""]
[null,null,null,null,null,null,null,null,null,null,null,null,null,null,null,null,"",null,null,"",null,""]
[null,null,null,null,null,null,null,null,null,null,null,null,null,null,null,null,"",null,null,"",null,""]
[null,null,null,null,null,null,null,null,null,null,null,null,null,null,null,null,"",null,null,"",null,""]
[null,null,null,null,null,null,null,null,null,null,null,null,null,null,null,null,"",null,null,"",null,""]
[null,null,null,null,null,null,null,null,null,null,null,null,null,null,null,null,"",null,null,"",null,""]
[null,null,null,null,null,null,null,null,null,null,null,null,null,null,null,null,"",null,null,"",null,""]
[null,null,null,null,null,null,null,null,null,null,null,null,null,null,null,null,"",null,null,"",null,""]
[null,null,null,null,null,null,null,null,null,null,null,null,null,null,null,null,"",null,null,"",null,""]
[null,null,null,null,null,null,null,null,null,null,null,null,null,null,null,null,"",null,null,"",null,""]
[null,null,null,null,null,null,null,null,null,null,null,null,null,null,null,null,"",null,null,"",null,""]
[null,null,null,null,null,null,null,null,null,null,null,null,null,null,null,null,"",null,null,"",null,""]
[null,null,null,null,null,null,null,null,null,null,null,null,null,null,null,null,"",null,null,"",null,""]
[null,null,null,null,null,null,null,null,null,null,null,null,null,null,null,null,"",null,null,"",null,""]
[null,null,null,null,null,null,null,null,null,null,null,null,null,null,null,null,"",null,null,"",null,""]
[null,null,null,null,null,null,null,null,null,null,null,null,null,null,null,null,"",null,null,"",null,""]
[null,null,null,null,null,null,null,null,null,null,null,null,null,null,null,null,"",null,null,"",null,""]
[null,null,null,null,null,null,null,null,null,null,null,null,null,null,null,null,"",null,null,"",null,""]
[null,null,null,null,null,null,null,null,null,null,null,null,null,null,null,null,"",null,null,"",null,""]
[null,null,null,null,null,null,null,null,null,null,null,null,null,null,null,null,{"$f":"IF(M1149<>\"\",2,\"\")","v":""},null,null,"",null,""]
[null,null,null,null,null,null,null,null,null,null,null,null,null,null,null,null,"",null,null,"",null,""]
[null,null,null,null,null,null,null,null,null,null,null,null,null,null,null,null,"",null,null,"",null,""]
[null,null,null,null,null,null,null,null,null,null,null,null,null,null,null,null,"",null,null,"",null,""]
[null,null,null,null,null,null,null,null,null,null,null,null,null,null,null,null,"",null,null,"",null,""]
[null,null,null,null,null,null,null,null,null,null,null,null,null,null,null,null,"",null,null,"",null,""]
[null,null,null,null,null,null,null,null,null,null,null,null,null,null,null,null,"",null,null,"",null,""]
[null,null,null,null,null,null,null,null,null,null,null,null,null,null,null,null,"",null,null,"",null,""]
[null,null,null,null,null,null,null,null,null,null,null,null,null,null,null,null,"",null,null,"",null,""]
[null,null,null,null,null,null,null,null,null,null,null,null,null,null,null,null,"",null,null,"",null,""]
[null,null,null,null,null,null,null,null,null,null,null,null,null,null,null,null,"",null,null,"",null,""]
[null,null,null,null,null,null,null,null,null,null,null,null,null,null,null,null,"",null,null,"",null,""]
[null,null,null,null,null,null,null,null,null,null,null,null,null,null,null,null,"",null,null,"",null,""]
[null,null,null,null,null,null,null,null,null,null,null,null,null,null,null,null,"",null,null,"",null,""]
[null,null,null,null,null,null,null,null,null,null,null,null,null,null,null,null,"",null,null,"",null,""]
[null,null,null,null,null,null,null,null,null,null,null,null,null,null,null,null,"",null,null,"",null,""]
[null,null,null,null,null,null,null,null,null,null,null,null,null,null,null,null,"",null,null,"",null,""]
[null,null,null,null,null,null,null,null,null,null,null,null,null,null,null,null,"",null,null,"",null,""]
[null,null,null,null,null,null,null,null,null,null,null,null,null,null,null,null,"",null,null,"",null,""]
[null,null,null,null,null,null,null,null,null,null,null,null,null,null,null,null,"",null,null,"",null,""]
[null,null,null,null,null,null,null,null,null,null,null,null,null,null,null,null,"",null,null,"",null,""]
[null,null,null,null,null,null,null,null,null,null,null,null,null,null,null,null,"",null,null,"",null,""]
[null,null,null,null,null,null,null,null,null,null,null,null,null,null,null,null,"",null,null,"",null,""]
[null,null,null,null,null,null,null,null,null,null,null,null,null,null,null,null,"",null,null,"",null,""]
[null,null,null,null,null,null,null,null,null,null,null,null,null,null,null,null,"",null,null,"",null,""]
[null,null,null,null,null,null,null,null,null,null,null,null,null,null,null,null,"",null,null,"",null,""]
[null,null,null,null,null,null,null,null,null,null,null,null,null,null,null,null,"",null,null,"",null,""]
[null,null,null,null,null,null,null,null,null,null,null,null,null,null,null,null,"",null,null,"",null,""]
[null,null,null,null,null,null,null,null,null,null,null,null,null,null,null,null,"",null,null,{"$f":"IF(S1177<>\"\",S1177/9,\"\")","v":""},null,{"$f":"IF(U1177<>\"\",U1177/9,\"\")","v":""}]
[null,null,null,null,null,null,null,null,null,null,null,null,null,null,null,null,"",null,null,"",null,""]
[null,null,null,null,null,null,null,null,null,null,null,null,null,null,null,null,"",null,null,"",null,""]
[null,null,null,null,null,null,null,null,null,null,null,null,null,null,null,null,"",null,null,"",null,""]
[null,null,null,null,null,null,null,null,null,null,null,null,null,null,null,null,"",null,null,"",null,""]
[null,null,null,null,null,null,null,null,null,null,null,null,null,null,null,null,"",null,null,"",null,""]
[null,null,null,null,null,null,null,null,null,null,null,null,null,null,null,null,"",null,null,"",null,""]
[null,null,null,null,null,null,null,null,null,null,null,null,null,null,null,null,"",null,null,"",null,""]
[null,null,null,null,null,null,null,null,null,null,null,null,null,null,null,null,"",null,null,"",null,""]
[null,null,null,null,null,null,null,null,null,null,null,null,null,null,null,null,"",null,null,"",null,""]
[null,null,null,null,null,null,null,null,null,null,null,null,null,null,null,null,"",null,null,"",null,""]
[null,null,null,null,null,null,null,null,null,null,null,null,null,null,null,null,"",null,null,"",null,""]
[null,null,null,null,null,null,null,null,null,null,null,null,null,null,null,null,"",null,null,"",null,""]
[null,null,null,null,null,null,null,null,null,null,null,null,null,null,null,null,"",null,null,"",null,""]
[null,null,null,null,null,null,null,null,null,null,null,null,null,null,null,null,"",null,null,"",null,""]
[null,null,null,null,null,null,null,null,null,null,null,null,null,null,null,null,"",null,null,"",null,""]
[null,null,null,null,null,null,null,null,null,null,null,null,null,null,null,null,"",null,null,"",null,""]
[null,null,null,null,null,null,null,null,null,null,null,null,null,null,null,null,"",null,null,"",null,""]
[null,null,null,null,null,null,null,null,null,null,null,null,null,null,null,null,"",null,null,"",null,""]
[null,null,null,null,null,null,null,null,null,null,null,null,null,null,null,null,"",null,null,"",null,""]
[null,null,null,null,null,null,null,null,null,null,null,null,null,null,null,null,"",null,null,"",null,""]
[null,null,null,null,null,null,null,null,null,null,null,null,null,null,null,null,"",null,null,"",null,""]
[null,null,null,null,null,null,null,null,null,null,null,null,null,null,null,null,"",null,null,"",null,""]
[null,null,null,null,null,null,null,null,null,null,null,null,null,null,null,null,"",null,null,"",null,""]
[null,null,null,null,null,null,null,null,null,null,null,null,null,null,null,null,"",null,null,"",null,""]
[null,null,null,null,null,null,null,null,null,null,null,null,null,null,null,null,"",null,null,"",null,""]
[null,null,null,null,null,null,null,null,null,null,null,null,null,null,null,null,"",null,null,"",null,""]
[null,null,null,null,null,null,null,null,null,null,null,null,null,null,null,null,"",null,null,"",null,""]
[null,null,null,null,null,null,null,null,null,null,null,null,null,null,null,null,"",null,null,"",null,""]
[null,null,null,null,null,null,null,null,null,null,null,null,null,null,null,null,"",null,null,"",null,""]
[null,null,null,null,null,null,null,null,null,null,null,null,null,null,null,null,"",null,null,"",null,""]
[null,null,null,null,null,null,null,null,null,null,null,null,null,null,null,null,"",null,null,"",null,""]
[null,null,null,null,null,null,null,null,null,null,null,null,null,null,null,null,"",null,null,"",null,""]
[null,null,null,null,null,null,null,null,null,null,null,null,null,null,null,null,"",null,null,"",null,""]
[null,null,null,null,null,null,null,null,null,null,null,null,null,null,null,null,"",null,null,"",null,""]
[null,null,null,null,null,null,null,null,null,null,null,null,null,null,null,null,"",null,null,"",null,""]
[null,null,null,null,null,null,null,null,null,null,null,null,null,null,null,null,{"$f":"IF(M1213<>\"\",2,\"\")","v":""},null,null,"",null,""]
[null,null,null,null,null,null,null,null,null,null,null,null,null,null,null,null,"",null,null,"",null,""]
[null,null,null,null,null,null,null,null,null,null,null,null,null,null,null,null,"",null,null,"",null,""]
[null,null,null,null,null,null,null,null,null,null,null,null,null,null,null,null,"",null,null,"",null,""]
[null,null,null,null,null,null,null,null,null,null,null,null,null,null,null,null,"",null,null,"",null,""]
[null,null,null,null,null,null,null,null,null,null,null,null,null,null,null,null,"",null,null,"",null,""]
[null,null,null,null,null,null,null,null,null,null,null,null,null,null,null,null,"",null,null,"",null,""]
[null,null,null,null,null,null,null,null,null,null,null,null,null,null,null,null,"",null,null,"",null,""]
[null,null,null,null,null,null,null,null,null,null,null,null,null,null,null,null,"",null,null,"",null,""]
[null,null,null,null,null,null,null,null,null,null,null,null,null,null,null,null,"",null,null,"",null,""]
[null,null,null,null,null,null,null,null,null,null,null,null,null,null,null,null,"",null,null,"",null,""]
[null,null,null,null,null,null,null,null,null,null,null,null,null,null,null,null,"",null,null,"",null,""]
[null,null,null,null,null,null,null,null,null,null,null,null,null,null,null,null,"",null,null,"",null,""]
[null,null,null,null,null,null,null,null,null,null,null,null,null,null,null,null,"",null,null,"",null,""]
[null,null,null,null,null,null,null,null,null,null,null,null,null,null,null,null,"",null,null,"",null,""]
[null,null,null,null,null,null,null,null,null,null,null,null,null,null,null,null,"",null,null,"",null,""]
[null,null,null,null,null,null,null,null,null,null,null,null,null,null,null,null,"",null,null,"",null,""]
[null,null,null,null,null,null,null,null,null,null,null,null,null,null,null,null,"",null,null,"",null,""]
[null,null,null,null,null,null,null,null,null,null,null,null,null,null,null,null,"",null,null,"",null,""]
[null,null,null,null,null,null,null,null,null,null,null,null,null,null,null,null,"",null,null,"",null,""]
[null,null,null,null,null,null,null,null,null,null,null,null,null,null,null,null,"",null,null,"",null,""]
[null,null,null,null,null,null,null,null,null,null,null,null,null,null,null,null,"",null,null,"",null,""]
[null,null,null,null,null,null,null,null,null,null,null,null,null,null,null,null,"",null,null,"",null,""]
[null,null,null,null,null,null,null,null,null,null,null,null,null,null,null,null,"",null,null,"",null,""]
[null,null,null,null,null,null,null,null,null,null,null,null,null,null,null,null,"",null,null,"",null,""]
[null,null,null,null,null,null,null,null,null,null,null,null,null,null,null,null,"",null,null,"",null,""]
[null,null,null,null,null,null,null,null,null,null,null,null,null,null,null,null,"",null,null,"",null,""]
[null,null,null,null,null,null,null,null,null,null,null,null,null,null,null,null,"",null,null,"",null,""]
[null,null,null,null,null,null,null,null,null,null,null,null,null,null,null,null,"",null,null,{"$f":"IF(S1241<>\"\",S1241/9,\"\")","v":""},null,{"$f":"IF(U1241<>\"\",U1241/9,\"\")","v":""}]
[null,null,null,null,null,null,null,null,null,null,null,null,null,null,null,null,"",null,null,"",null,""]
[null,null,null,null,null,null,null,null,null,null,null,null,null,null,null,null,"",null,null,"",null,""]
[null,null,null,null,null,null,null,null,null,null,null,null,null,null,null,null,"",null,null,"",null,""]
[null,null,null,null,null,null,null,null,null,null,null,null,null,null,null,null,"",null,null,"",null,""]
[null,null,null,null,null,null,null,null,null,null,null,null,null,null,null,null,"",null,null,"",null,""]
[null,null,null,null,null,null,null,null,null,null,null,null,null,null,null,null,"",null,null,"",null,""]
[null,null,null,null,null,null,null,null,null,null,null,null,null,null,null,null,"",null,null,"",null,""]
[null,null,null,null,null,null,null,null,null,null,null,null,null,null,null,null,"",null,null,"",null,""]
[null,null,null,null,null,null,null,null,null,null,null,null,null,null,null,null,"",null,null,"",null,""]
[null,null,null,null,null,null,null,null,null,null,null,null,null,null,null,null,"",null,null,"",null,""]
[null,null,null,null,null,null,null,null,null,null,null,null,null,null,null,null,"",null,null,"",null,""]
[null,null,null,null,null,null,null,null,null,null,null,null,null,null,null,null,"",null,null,"",null,""]
[null,null,null,null,null,null,null,null,null,null,null,null,null,null,null,null,"",null,null,"",null,""]
[null,null,null,null,null,null,null,null,null,null,null,null,null,null,null,null,"",null,null,"",null,""]
[null,null,null,null,null,null,null,null,null,null,null,null,null,null,null,null,"",null,null,"",null,""]
[null,null,null,null,null,null,null,null,null,null,null,null,null,null,null,null,"",null,null,"",null,""]
[null,null,null,null,null,null,null,null,null,null,null,null,null,null,null,null,"",null,null,"",null,""]
[null,null,null,null,null,null,null,null,null,null,null,null,null,null,null,null,"",null,null,"",null,""]
[null,null,null,null,null,null,null,null,null,null,null,null,null,null,null,null,"",null,null,"",null,""]
[null,null,null,null,null,null,null,null,null,null,null,null,null,null,null,null,"",null,null,"",null,""]
[null,null,null,null,null,null,null,null,null,null,null,null,null,null,null,null,"",null,null,"",null,""]
[null,null,null,null,null,null,null,null,null,null,null,null,null,null,null,null,"",null,null,"",null,""]
[null,null,null,null,null,null,null,null,null,null,null,null,null,null,null,null,"",null,null,"",null,""]
[null,null,null,null,null,null,null,null,null,null,null,null,null,null,null,null,"",null,null,"",null,""]
[null,null,null,null,null,null,null,null,null,null,null,null,null,null,null,null,"",null,null,"",null,""]
[null,null,null,null,null,null,null,null,null,null,null,null,null,null,null,null,"",null,null,"",null,""]
[null,null,null,null,null,null,null,null,null,null,null,null,null,null,null,null,"",null,null,"",null,""]
[null,null,null,null,null,null,null,null,null,null,null,null,null,null,null,null,"",null,null,"",null,""]
[null,null,null,null,null,null,null,null,null,null,null,null,null,null,null,null,"",null,null,"",null,""]
[null,null,null,null,null,null,null,null,null,null,null,null,null,null,null,null,"",null,null,"",null,""]
[null,null,null,null,null,null,null,null,null,null,null,null,null,null,null,null,"",null,null,"",null,""]
[null,null,null,null,null,null,null,null,null,null,null,null,null,null,null,null,"",null,null,"",null,""]
[null,null,null,null,null,null,null,null,null,null,null,null,null,null,null,null,"",null,null,"",null,""]
[null,null,null,null,null,null,null,null,null,null,null,null,null,null,null,null,"",null,null,"",null,""]
[null,null,null,null,null,null,null,null,null,null,null,null,null,null,null,null,"",null,null,"",null,""]
[null,null,null,null,null,null,null,null,null,null,null,null,null,null,null,null,{"$f":"IF(M1277<>\"\",2,\"\")","v":""},null,null,"",null,""]
[null,null,null,null,null,null,null,null,null,null,null,null,null,null,null,null,"",null,null,"",null,""]
[null,null,null,null,null,null,null,null,null,null,null,null,null,null,null,null,"",null,null,"",null,""]
[null,null,null,null,null,null,null,null,null,null,null,null,null,null,null,null,"",null,null,"",null,""]
[null,null,null,null,null,null,null,null,null,null,null,null,null,null,null,null,"",null,null,"",null,""]
[null,null,null,null,null,null,null,null,null,null,null,null,null,null,null,null,"",null,null,"",null,""]
[null,null,null,null,null,null,null,null,null,null,null,null,null,null,null,null,"",null,null,"",null,""]
[null,null,null,null,null,null,null,null,null,null,null,null,null,null,null,null,"",null,null,"",null,""]
[null,null,null,null,null,null,null,null,null,null,null,null,null,null,null,null,"",null,null,"",null,""]
[null,null,null,null,null,null,null,null,null,null,null,null,null,null,null,null,"",null,null,"",null,""]
[null,null,null,null,null,null,null,null,null,null,null,null,null,null,null,null,"",null,null,"",null,""]
[null,null,null,null,null,null,null,null,null,null,null,null,null,null,null,null,"",null,null,"",null,""]
[null,null,null,null,null,null,null,null,null,null,null,null,null,null,null,null,"",null,null,"",null,""]
[null,null,null,null,null,null,null,null,null,null,null,null,null,null,null,null,"",null,null,"",null,""]
[null,null,null,null,null,null,null,null,null,null,null,null,null,null,null,null,"",null,null,"",null,""]
[null,null,null,null,null,null,null,null,null,null,null,null,null,null,null,null,"",null,null,"",null,""]
[null,null,null,null,null,null,null,null,null,null,null,null,null,null,null,null,"",null,null,"",null,""]
[null,null,null,null,null,null,null,null,null,null,null,null,null,null,null,null,"",null,null,"",null,""]
[null,null,null,null,null,null,null,null,null,null,null,null,null,null,null,null,"",null,null,"",null,""]
[null,null,null,null,null,null,null,null,null,null,null,null,null,null,null,null,"",null,null,"",null,""]
[null,null,null,null,null,null,null,null,null,null,null,null,null,null,null,null,"",null,null,"",null,""]
[null,null,null,null,null,null,null,null,null,null,null,null,null,null,null,null,"",null,null,"",null,""]
[null,null,null,null,null,null,null,null,null,null,null,null,null,null,null,null,"",null,null,"",null,""]
[null,null,null,null,null,null,null,null,null,null,null,null,null,null,null,null,"",null,null,"",null,""]
[null,null,null,null,null,null,null,null,null,null,null,null,null,null,null,null,"",null,null,"",null,""]
[null,null,null,null,null,null,null,null,null,null,null,null,null,null,null,null,"",null,null,"",null,""]
[null,null,null,null,null,null,null,null,null,null,null,null,null,null,null,null,"",null,null,"",null,""]
[null,null,null,null,null,null,null,null,null,null,null,null,null,null,null,null,"",null,null,"",null,""]
[null,null,null,null,null,null,null,null,null,null,null,null,null,null,null,null,"",null,null,{"$f":"IF(S1305<>\"\",S1305/9,\"\")","v":""},null,{"$f":"IF(U1305<>\"\",U1305/9,\"\")","v":""}]
[null,null,null,null,null,null,null,null,null,null,null,null,null,null,null,null,"",null,null,"",null,""]
[null,null,null,null,null,null,null,null,null,null,null,null,null,null,null,null,"",null,null,"",null,""]
[null,null,null,null,null,null,null,null,null,null,null,null,null,null,null,null,"",null,null,"",null,""]
[null,null,null,null,null,null,null,null,null,null,null,null,null,null,null,null,"",null,null,"",null,""]
[null,null,null,null,null,null,null,null,null,null,null,null,null,null,null,null,"",null,null,"",null,""]
[null,null,null,null,null,null,null,null,null,null,null,null,null,null,null,null,"",null,null,"",null,""]
[null,null,null,null,null,null,null,null,null,null,null,null,null,null,null,null,"",null,null,"",null,""]
[null,null,null,null,null,null,null,null,null,null,null,null,null,null,null,null,"",null,null,"",null,""]
[null,null,null,null,null,null,null,null,null,null,null,null,null,null,null,null,"",null,null,"",null,""]
[null,null,null,null,null,null,null,null,null,null,null,null,null,null,null,null,"",null,null,"",null,""]
[null,null,null,null,null,null,null,null,null,null,null,null,null,null,null,null,"",null,null,"",null,""]
[null,null,null,null,null,null,null,null,null,null,null,null,null,null,null,null,"",null,null,"",null,""]
[null,null,null,null,null,null,null,null,null,null,null,null,null,null,null,null,"",null,null,"",null,""]
[null,null,null,null,null,null,null,null,null,null,null,null,null,null,null,null,"",null,null,"",null,""]
[null,null,null,null,null,null,null,null,null,null,null,null,null,null,null,null,"",null,null,"",null,""]
[null,null,null,null,null,null,null,null,null,null,null,null,null,null,null,null,"",null,null,"",null,""]
[null,null,null,null,null,null,null,null,null,null,null,null,null,null,null,null,"",null,null,"",null,""]
[null,null,null,null,null,null,null,null,null,null,null,null,null,null,null,null,"",null,null,"",null,""]
[null,null,null,null,null,null,null,null,null,null,null,null,null,null,null,null,"",null,null,"",null,""]
[null,null,null,null,null,null,null,null,null,null,null,null,null,null,null,null,"",null,null,"",null,""]
[null,null,null,null,null,null,null,null,null,null,null,null,null,null,null,null,"",null,null,"",null,""]
[null,null,null,null,null,null,null,null,null,null,null,null,null,null,null,null,"",null,null,"",null,""]
[null,null,null,null,null,null,null,null,null,null,null,null,null,null,null,null,"",null,null,"",null,""]
[null,null,null,null,null,null,null,null,null,null,null,null,null,null,null,null,"",null,null,"",null,""]
[null,null,null,null,null,null,null,null,null,null,null,null,null,null,null,null,"",null,null,"",null,""]
[null,null,null,null,null,null,null,null,null,null,null,null,null,null,null,null,"",null,null,"",null,""]
[null,null,null,null,null,null,null,null,null,null,null,null,null,null,null,null,"",null,null,"",null,""]
[null,null,null,null,null,null,null,null,null,null,null,null,null,null,null,null,"",null,null,"",null,""]
[null,null,null,null,null,null,null,null,null,null,null,null,null,null,null,null,"",null,null,"",null,""]
[null,null,null,null,null,null,null,null,null,null,null,null,null,null,null,null,"",null,null,"",null,""]
[null,null,null,null,null,null,null,null,null,null,null,null,null,null,null,null,"",null,null,"",null,""]
[null,null,null,null,null,null,null,null,null,null,null,null,null,null,null,null,"",null,null,"",null,""]
[null,null,null,null,null,null,null,null,null,null,null,null,null,null,null,null,"",null,null,"",null,""]
[null,null,null,null,null,null,null,null,null,null,null,null,null,null,null,null,"",null,null,"",null,""]
[null,null,null,null,null,null,null,null,null,null,null,null,null,null,null,null,"",null,null,"",null,""]
[null,null,null,null,null,null,null,null,null,null,null,null,null,null,null,null,{"$f":"IF(M1341<>\"\",2,\"\")","v":""},null,null,"",null,""]
[null,null,null,null,null,null,null,null,null,null,null,null,null,null,null,null,"",null,null,"",null,""]
[null,null,null,null,null,null,null,null,null,null,null,null,null,null,null,null,"",null,null,"",null,""]
[null,null,null,null,null,null,null,null,null,null,null,null,null,null,null,null,"",null,null,"",null,""]
[null,null,null,null,null,null,null,null,null,null,null,null,null,null,null,null,"",null,null,"",null,""]
[null,null,null,null,null,null,null,null,null,null,null,null,null,null,null,null,"",null,null,"",null,""]
[null,null,null,null,null,null,null,null,null,null,null,null,null,null,null,null,"",null,null,"",null,""]
[null,null,null,null,null,null,null,null,null,null,null,null,null,null,null,null,"",null,null,"",null,""]
[null,null,null,null,null,null,null,null,null,null,null,null,null,null,null,null,"",null,null,"",null,""]
[null,null,null,null,null,null,null,null,null,null,null,null,null,null,null,null,"",null,null,"",null,""]
[null,null,null,null,null,null,null,null,null,null,null,null,null,null,null,null,"",null,null,"",null,""]
[null,null,null,null,null,null,null,null,null,null,null,null,null,null,null,null,"",null,null,"",null,""]
[null,null,null,null,null,null,null,null,null,null,null,null,null,null,null,null,"",null,null,"",null,""]
[null,null,null,null,null,null,null,null,null,null,null,null,null,null,null,null,"",null,null,"",null,""]
[null,null,null,null,null,null,null,null,null,null,null,null,null,null,null,null,"",null,null,"",null,""]
[null,null,null,null,null,null,null,null,null,null,null,null,null,null,null,null,"",null,null,"",null,""]
[null,null,null,null,null,null,null,null,null,null,null,null,null,null,null,null,"",null,null,"",null,""]
[null,null,null,null,null,null,null,null,null,null,null,null,null,null,null,null,"",null,null,"",null,""]
[null,null,null,null,null,null,null,null,null,null,null,null,null,null,null,null,"",null,null,"",null,""]
[null,null,null,null,null,null,null,null,null,null,null,null,null,null,null,null,"",null,null,"",null,""]
[null,null,null,null,null,null,null,null,null,null,null,null,null,null,null,null,"",null,null,"",null,""]
[null,null,null,null,null,null,null,null,null,null,null,null,null,null,null,null,"",null,null,"",null,""]
[null,null,null,null,null,null,null,null,null,null,null,null,null,null,null,null,"",null,null,"",null,""]
[null,null,null,null,null,null,null,null,null,null,null,null,null,null,null,null,"",null,null,"",null,""]
[null,null,null,null,null,null,null,null,null,null,null,null,null,null,null,null,"",null,null,"",null,""]
[null,null,null,null,null,null,null,null,null,null,null,null,null,null,null,null,"",null,null,"",null,""]
[null,null,null,null,null,null,null,null,null,null,null,null,null,null,null,null,"",null,null,"",null,""]
[null,null,null,null,null,null,null,null,null,null,null,null,null,null,null,null,"",null,null,"",null,""]
[null,null,null,null,null,null,null,null,null,null,null,null,null,null,null,null,"",null,null,{"$f":"IF(S1369<>\"\",S1369/9,\"\")","v":""},null,{"$f":"IF(U1369<>\"\",U1369/9,\"\")","v":""}]
[null,null,null,null,null,null,null,null,null,null,null,null,null,null,null,null,"",null,null,"",null,""]
[null,null,null,null,null,null,null,null,null,null,null,null,null,null,null,null,"",null,null,"",null,""]
[null,null,null,null,null,null,null,null,null,null,null,null,null,null,null,null,"",null,null,"",null,""]
[null,null,null,null,null,null,null,null,null,null,null,null,null,null,null,null,"",null,null,"",null,""]
[null,null,null,null,null,null,null,null,null,null,null,null,null,null,null,null,"",null,null,"",null,""]
[null,null,null,null,null,null,null,null,null,null,null,null,null,null,null,null,"",null,null,"",null,""]
[null,null,null,null,null,null,null,null,null,null,null,null,null,null,null,null,"",null,null,"",null,""]
[null,null,null,null,null,null,null,null,null,null,null,null,null,null,null,null,"",null,null,"",null,""]
[null,null,null,null,null,null,null,null,null,null,null,null,null,null,null,null,"",null,null,"",null,""]
[null,null,null,null,null,null,null,null,null,null,null,null,null,null,null,null,"",null,null,"",null,""]
[null,null,null,null,null,null,null,null,null,null,null,null,null,null,null,null,"",null,null,"",null,""]
[null,null,null,null,null,null,null,null,null,null,null,null,null,null,null,null,"",null,null,"",null,""]
[null,null,null,null,null,null,null,null,null,null,null,null,null,null,null,null,"",null,null,"",null,""]
[null,null,null,null,null,null,null,null,null,null,null,null,null,null,null,null,"",null,null,"",null,""]
[null,null,null,null,null,null,null,null,null,null,null,null,null,null,null,null,"",null,null,"",null,""]
[null,null,null,null,null,null,null,null,null,null,null,null,null,null,null,null,"",null,null,"",null,""]
[null,null,null,null,null,null,null,null,null,null,null,null,null,null,null,null,"",null,null,"",null,""]
[null,null,null,null,null,null,null,null,null,null,null,null,null,null,null,null,"",null,null,"",null,""]
[null,null,null,null,null,null,null,null,null,null,null,null,null,null,null,null,"",null,null,"",null,""]
[null,null,null,null,null,null,null,null,null,null,null,null,null,null,null,null,"",null,null,"",null,""]
[null,null,null,null,null,null,null,null,null,null,null,null,null,null,null,null,"",null,null,"",null,""]
[null,null,null,null,null,null,null,null,null,null,null,null,null,null,null,null,"",null,null,"",null,""]
[null,null,null,null,null,null,null,null,null,null,null,null,null,null,null,null,"",null,null,"",null,""]
[null,null,null,null,null,null,null,null,null,null,null,null,null,null,null,null,"",null,null,"",null,""]
[null,null,null,null,null,null,null,null,null,null,null,null,null,null,null,null,"",null,null,"",null,""]
[null,null,null,null,null,null,null,null,null,null,null,null,null,null,null,null,"",null,null,"",null,""]
[null,null,null,null,null,null,null,null,null,null,null,null,null,null,null,null,"",null,null,"",null,""]
[null,null,null,null,null,null,null,null,null,null,null,null,null,null,null,null,"",null,null,"",null,""]
[null,null,null,null,null,null,null,null,null,null,null,null,null,null,null,null,"",null,null,"",null,""]
[null,null,null,null,null,null,null,null,null,null,null,null,null,null,null,null,"",null,null,"",null,""]
[null,null,null,null,null,null,null,null,null,null,null,null,null,null,null,null,"",null,null,"",null,""]
[null,null,null,null,null,null,null,null,null,null,null,null,null,null,null,null,"",null,null,"",null,""]
[null,null,null,null,null,null,null,null,null,null,null,null,null,null,null,null,"",null,null,"",null,""]
[null,null,null,null,null,null,null,null,null,null,null,null,null,null,null,null,"",null,null,"",null,""]
[null,null,null,null,null,null,null,null,null,null,null,null,null,null,null,null,"",null,null,"",null,""]
[null,null,null,null,null,null,null,null,null,null,null,null,null,null,null,null,{"$f":"IF(M1405<>\"\",2,\"\")","v":""},null,null,"",null,""]
[null,null,null,null,null,null,null,null,null,null,null,null,null,null,null,null,"",null,null,"",null,""]
[null,null,null,null,null,null,null,null,null,null,null,null,null,null,null,null,"",null,null,"",null,""]
[null,null,null,null,null,null,null,null,null,null,null,null,null,null,null,null,"",null,null,"",null,""]
[null,null,null,null,null,null,null,null,null,null,null,null,null,null,null,null,"",null,null,"",null,""]
[null,null,null,null,null,null,null,null,null,null,null,null,null,null,null,null,"",null,null,"",null,""]
[null,null,null,null,null,null,null,null,null,null,null,null,null,null,null,null,"",null,null,"",null,""]
[null,null,null,null,null,null,null,null,null,null,null,null,null,null,null,null,"",null,null,"",null,""]
[null,null,null,null,null,null,null,null,null,null,null,null,null,null,null,null,"",null,null,"",null,""]
[null,null,null,null,null,null,null,null,null,null,null,null,null,null,null,null,"",null,null,"",null,""]
[null,null,null,null,null,null,null,null,null,null,null,null,null,null,null,null,"",null,null,"",null,""]
[null,null,null,null,null,null,null,null,null,null,null,null,null,null,null,null,"",null,null,"",null,""]
[null,null,null,null,null,null,null,null,null,null,null,null,null,null,null,null,"",null,null,"",null,""]
[null,null,null,null,null,null,null,null,null,null,null,null,null,null,null,null,"",null,null,"",null,""]
[null,null,null,null,null,null,null,null,null,null,null,null,null,null,null,null,"",null,null,"",null,""]
[null,null,null,null,null,null,null,null,null,null,null,null,null,null,null,null,"",null,null,"",null,""]
[null,null,null,null,null,null,null,null,null,null,null,null,null,null,null,null,"",null,null,"",null,""]
[null,null,null,null,null,null,null,null,null,null,null,null,null,null,null,null,"",null,null,"",null,""]
[null,null,null,null,null,null,null,null,null,null,null,null,null,null,null,null,"",null,null,"",null,""]
[null,null,null,null,null,null,null,null,null,null,null,null,null,null,null,null,"",null,null,"",null,""]
[null,null,null,null,null,null,null,null,null,null,null,null,null,null,null,null,"",null,null,"",null,""]
[null,null,null,null,null,null,null,null,null,null,null,null,null,null,null,null,"",null,null,"",null,""]
[null,null,null,null,null,null,null,null,null,null,null,null,null,null,null,null,"",null,null,"",null,""]
[null,null,null,null,null,null,null,null,null,null,null,null,null,null,null,null,"",null,null,"",null,""]
[null,null,null,null,null,null,null,null,null,null,null,null,null,null,null,null,"",null,null,"",null,""]
[null,null,null,null,null,null,null,null,null,null,null,null,null,null,null,null,"",null,null,"",null,""]
[null,null,null,null,null,null,null,null,null,null,null,null,null,null,null,null,"",null,null,"",null,""]
[null,null,null,null,null,null,null,null,null,null,null,null,null,null,null,null,"",null,null,"",null,""]
[null,null,null,null,null,null,null,null,null,null,null,null,null,null,null,null,"",null,null,{"$f":"IF(S1433<>\"\",S1433/9,\"\")","v":""},null,{"$f":"IF(U1433<>\"\",U1433/9,\"\")","v":""}]
[null,null,null,null,null,null,null,null,null,null,null,null,null,null,null,null,"",null,null,"",null,""]
[null,null,null,null,null,null,null,null,null,null,null,null,null,null,null,null,"",null,null,"",null,""]
[null,null,null,null,null,null,null,null,null,null,null,null,null,null,null,null,"",null,null,"",null,""]
[null,null,null,null,null,null,null,null,null,null,null,null,null,null,null,null,"",null,null,"",null,""]
[null,null,null,null,null,null,null,null,null,null,null,null,null,null,null,null,"",null,null,"",null,""]
[null,null,null,null,null,null,null,null,null,null,null,null,null,null,null,null,"",null,null,"",null,""]
[null,null,null,null,null,null,null,null,null,null,null,null,null,null,null,null,"",null,null,"",null,""]
[null,null,null,null,null,null,null,null,null,null,null,null,null,null,null,null,"",null,null,"",null,""]
[null,null,null,null,null,null,null,null,null,null,null,null,null,null,null,null,"",null,null,"",null,""]
[null,null,null,null,null,null,null,null,null,null,null,null,null,null,null,null,"",null,null,"",null,""]
[null,null,null,null,null,null,null,null,null,null,null,null,null,null,null,null,"",null,null,"",null,""]
[null,null,null,null,null,null,null,null,null,null,null,null,null,null,null,null,"",null,null,"",null,""]
[null,null,null,null,null,null,null,null,null,null,null,null,null,null,null,null,"",null,null,"",null,""]
[null,null,null,null,null,null,null,null,null,null,null,null,null,null,null,null,"",null,null,"",null,""]
[null,null,null,null,null,null,null,null,null,null,null,null,null,null,null,null,"",null,null,"",null,""]
[null,null,null,null,null,null,null,null,null,null,null,null,null,null,null,null,"",null,null,"",null,""]
[null,null,null,null,null,null,null,null,null,null,null,null,null,null,null,null,"",null,null,"",null,""]
[null,null,null,null,null,null,null,null,null,null,null,null,null,null,null,null,"",null,null,"",null,""]
[null,null,null,null,null,null,null,null,null,null,null,null,null,null,null,null,"",null,null,"",null,""]
[null,null,null,null,null,null,null,null,null,null,null,null,null,null,null,null,"",null,null,"",null,""]
[null,null,null,null,null,null,null,null,null,null,null,null,null,null,null,null,"",null,null,"",null,""]
[null,null,null,null,null,null,null,null,null,null,null,null,null,null,null,null,"",null,null,"",null,""]
[null,null,null,null,null,null,null,null,null,null,null,null,null,null,null,null,"",null,null,"",null,""]
[null,null,null,null,null,null,null,null,null,null,null,null,null,null,null,null,"",null,null,"",null,""]
[null,null,null,null,null,null,null,null,null,null,null,null,null,null,null,null,"",null,null,"",null,""]
[null,null,null,null,null,null,null,null,null,null,null,null,null,null,null,null,"",null,null,"",null,""]
[null,null,null,null,null,null,null,null,null,null,null,null,null,null,null,null,"",null,null,"",null,""]
[null,null,null,null,null,null,null,null,null,null,null,null,null,null,null,null,"",null,null,"",null,""]
[null,null,null,null,null,null,null,null,null,null,null,null,null,null,null,null,"",null,null,"",null,""]
[null,null,null,null,null,null,null,null,null,null,null,null,null,null,null,null,"",null,null,"",null,""]
[null,null,null,null,null,null,null,null,null,null,null,null,null,null,null,null,"",null,null,"",null,""]
[null,null,null,null,null,null,null,null,null,null,null,null,null,null,null,null,"",null,null,"",null,""]
[null,null,null,null,null,null,null,null,null,null,null,null,null,null,null,null,"",null,null,"",null,""]
[null,null,null,null,null,null,null,null,null,null,null,null,null,null,null,null,"",null,null,"",null,""]
[null,null,null,null,null,null,null,null,null,null,null,null,null,null,null,null,"",null,null,"",null,""]
[null,null,null,null,null,null,null,null,null,null,null,null,null,null,null,null,{"$f":"IF(M1469<>\"\",2,\"\")","v":""},null,null,"",null,""]
[null,null,null,null,null,null,null,null,null,null,null,null,null,null,null,null,"",null,null,"",null,""]
[null,null,null,null,null,null,null,null,null,null,null,null,null,null,null,null,"",null,null,"",null,""]
[null,null,null,null,null,null,null,null,null,null,null,null,null,null,null,null,"",null,null,"",null,""]
[null,null,null,null,null,null,null,null,null,null,null,null,null,null,null,null,"",null,null,"",null,""]
[null,null,null,null,null,null,null,null,null,null,null,null,null,null,null,null,"",null,null,"",null,""]
[null,null,null,null,null,null,null,null,null,null,null,null,null,null,null,null,"",null,null,"",null,""]
[null,null,null,null,null,null,null,null,null,null,null,null,null,null,null,null,"",null,null,"",null,""]
[null,null,null,null,null,null,null,null,null,null,null,null,null,null,null,null,"",null,null,"",null,""]
[null,null,null,null,null,null,null,null,null,null,null,null,null,null,null,null,"",null,null,"",null,""]
[null,null,null,null,null,null,null,null,null,null,null,null,null,null,null,null,"",null,null,"",null,""]
[null,null,null,null,null,null,null,null,null,null,null,null,null,null,null,null,"",null,null,"",null,""]
[null,null,null,null,null,null,null,null,null,null,null,null,null,null,null,null,"",null,null,"",null,""]
[null,null,null,null,null,null,null,null,null,null,null,null,null,null,null,null,"",null,null,"",null,""]
[null,null,null,null,null,null,null,null,null,null,null,null,null,null,null,null,"",null,null,"",null,""]
[null,null,null,null,null,null,null,null,null,null,null,null,null,null,null,null,"",null,null,"",null,""]
[null,null,null,null,null,null,null,null,null,null,null,null,null,null,null,null,"",null,null,"",null,""]
[null,null,null,null,null,null,null,null,null,null,null,null,null,null,null,null,"",null,null,"",null,""]
[null,null,null,null,null,null,null,null,null,null,null,null,null,null,null,null,"",null,null,"",null,""]
[null,null,null,null,null,null,null,null,null,null,null,null,null,null,null,null,"",null,null,"",null,""]
[null,null,null,null,null,null,null,null,null,null,null,null,null,null,null,null,"",null,null,"",null,""]
[null,null,null,null,null,null,null,null,null,null,null,null,null,null,null,null,"",null,null,"",null,""]
[null,null,null,null,null,null,null,null,null,null,null,null,null,null,null,null,"",null,null,"",null,""]
[null,null,null,null,null,null,null,null,null,null,null,null,null,null,null,null,"",null,null,"",null,""]
[null,null,null,null,null,null,null,null,null,null,null,null,null,null,null,null,"",null,null,"",null,""]
[null,null,null,null,null,null,null,null,null,null,null,null,null,null,null,null,"",null,null,"",null,""]
[null,null,null,null,null,null,null,null,null,null,null,null,null,null,null,null,"",null,null,"",null,""]
[null,null,null,null,null,null,null,null,null,null,null,null,null,null,null,null,"",null,null,"",null,""]
[null,null,null,null,null,null,null,null,null,null,null,null,null,null,null,null,"",null,null,{"$f":"IF(S1497<>\"\",S1497/9,\"\")","v":""},null,{"$f":"IF(U1497<>\"\",U1497/9,\"\")","v":""}]
[null,null,null,null,null,null,null,null,null,null,null,null,null,null,null,null,"",null,null,"",null,""]
[null,null,null,null,null,null,null,null,null,null,null,null,null,null,null,null,"",null,null,"",null,""]
[null,null,null,null,null,null,null,null,null,null,null,null,null,null,null,null,"",null,null,"",null,""]
[null,null,null,null,null,null,null,null,null,null,null,null,null,null,null,null,"",null,null,"",null,""]
[null,null,null,null,null,null,null,null,null,null,null,null,null,null,null,null,"",null,null,"",null,""]
[null,null,null,null,null,null,null,null,null,null,null,null,null,null,null,null,"",null,null,"",null,""]
[null,null,null,null,null,null,null,null,null,null,null,null,null,null,null,null,"",null,null,"",null,""]
[null,null,null,null,null,null,null,null,null,null,null,null,null,null,null,null,"",null,null,"",null,""]
[null,null,null,null,null,null,null,null,null,null,null,null,null,null,null,null,"",null,null,"",null,""]
[null,null,null,null,null,null,null,null,null,null,null,null,null,null,null,null,"",null,null,"",null,""]
[null,null,null,null,null,null,null,null,null,null,null,null,null,null,null,null,"",null,null,"",null,""]
[null,null,null,null,null,null,null,null,null,null,null,null,null,null,null,null,"",null,null,"",null,""]
[null,null,null,null,null,null,null,null,null,null,null,null,null,null,null,null,"",null,null,"",null,""]
[null,null,null,null,null,null,null,null,null,null,null,null,null,null,null,null,"",null,null,"",null,""]
[null,null,null,null,null,null,null,null,null,null,null,null,null,null,null,null,"",null,null,"",null,""]
[null,null,null,null,null,null,null,null,null,null,null,null,null,null,null,null,"",null,null,"",null,""]
[null,null,null,null,null,null,null,null,null,null,null,null,null,null,null,null,"",null,null,"",null,""]
[null,null,null,null,null,null,null,null,null,null,null,null,null,null,null,null,"",null,null,"",null,""]
[null,null,null,null,null,null,null,null,null,null,null,null,null,null,null,null,"",null,null,"",null,""]
[null,null,null,null,null,null,null,null,null,null,null,null,null,null,null,null,"",null,null,"",null,""]
[null,null,null,null,null,null,null,null,null,null,null,null,null,null,null,null,"",null,null,"",null,""]
[null,null,null,null,null,null,null,null,null,null,null,null,null,null,null,null,"",null,null,"",null,""]
[null,null,null,null,null,null,null,null,null,null,null,null,null,null,null,null,"",null,null,"",null,""]
[null,null,null,null,null,null,null,null,null,null,null,null,null,null,null,null,"",null,null,"",null,""]
[null,null,null,null,null,null,null,null,null,null,null,null,null,null,null,null,"",null,null,"",null,""]
[null,null,null,null,null,null,null,null,null,null,null,null,null,null,null,null,"",null,null,"",null,""]
[null,null,null,null,null,null,null,null,null,null,null,null,null,null,null,null,"",null,null,"",null,""]
[null,null,null,null,null,null,null,null,null,null,null,null,null,null,null,null,"",null,null,"",null,""]
[null,null,null,null,null,null,null,null,null,null,null,null,null,null,null,null,"",null,null,"",null,""]
[null,null,null,null,null,null,null,null,null,null,null,null,null,null,null,null,"",null,null,"",null,""]
[null,null,null,null,null,null,null,null,null,null,null,null,null,null,null,null,"",null,null,"",null,""]
[null,null,null,null,null,null,null,null,null,null,null,null,null,null,null,null,"",null,null,"",null,""]
[null,null,null,null,null,null,null,null,null,null,null,null,null,null,null,null,"",null,null,"",null,""]
[null,null,null,null,null,null,null,null,null,null,null,null,null,null,null,null,"",null,null,"",null,""]
[null,null,null,null,null,null,null,null,null,null,null,null,null,null,null,null,"",null,null,"",null,""]
[null,null,null,null,null,null,null,null,null,null,null,null,null,null,null,null,{"$f":"IF(M1533<>\"\",2,\"\")","v":""},null,null,"",null,""]
[null,null,null,null,null,null,null,null,null,null,null,null,null,null,null,null,"",null,null,"",null,""]
[null,null,null,null,null,null,null,null,null,null,null,null,null,null,null,null,"",null,null,"",null,""]
[null,null,null,null,null,null,null,null,null,null,null,null,null,null,null,null,"",null,null,"",null,""]
[null,null,null,null,null,null,null,null,null,null,null,null,null,null,null,null,"",null,null,"",null,""]
[null,null,null,null,null,null,null,null,null,null,null,null,null,null,null,null,"",null,null,"",null,""]
[null,null,null,null,null,null,null,null,null,null,null,null,null,null,null,null,"",null,null,"",null,""]
[null,null,null,null,null,null,null,null,null,null,null,null,null,null,null,null,"",null,null,"",null,""]
[null,null,null,null,null,null,null,null,null,null,null,null,null,null,null,null,"",null,null,"",null,""]
[null,null,null,null,null,null,null,null,null,null,null,null,null,null,null,null,"",null,null,"",null,""]
[null,null,null,null,null,null,null,null,null,null,null,null,null,null,null,null,"",null,null,"",null,""]
[null,null,null,null,null,null,null,null,null,null,null,null,null,null,null,null,"",null,null,"",null,""]
[null,null,null,null,null,null,null,null,null,null,null,null,null,null,null,null,"",null,null,"",null,""]
[null,null,null,null,null,null,null,null,null,null,null,null,null,null,null,null,"",null,null,"",null,""]
[null,null,null,null,null,null,null,null,null,null,null,null,null,null,null,null,"",null,null,"",null,""]
[null,null,null,null,null,null,null,null,null,null,null,null,null,null,null,null,"",null,null,"",null,""]
[null,null,null,null,null,null,null,null,null,null,null,null,null,null,null,null,"",null,null,"",null,""]
[null,null,null,null,null,null,null,null,null,null,null,null,null,null,null,null,"",null,null,"",null,""]
[null,null,null,null,null,null,null,null,null,null,null,null,null,null,null,null,"",null,null,"",null,""]
[null,null,null,null,null,null,null,null,null,null,null,null,null,null,null,null,"",null,null,"",null,""]
[null,null,null,null,null,null,null,null,null,null,null,null,null,null,null,null,"",null,null,"",null,""]
[null,null,null,null,null,null,null,null,null,null,null,null,null,null,null,null,"",null,null,"",null,""]
[null,null,null,null,null,null,null,null,null,null,null,null,null,null,null,null,"",null,null,"",null,""]
[null,null,null,null,null,null,null,null,null,null,null,null,null,null,null,null,"",null,null,"",null,""]
[null,null,null,null,null,null,null,null,null,null,null,null,null,null,null,null,"",null,null,"",null,""]
[null,null,null,null,null,null,null,null,null,null,null,null,null,null,null,null,"",null,null,"",null,""]
[null,null,null,null,null,null,null,null,null,null,null,null,null,null,null,null,"",null,null,"",null,""]
[null,null,null,null,null,null,null,null,null,null,null,null,null,null,null,null,"",null,null,"",null,""]
[null,null,null,null,null,null,null,null,null,null,null,null,null,null,null,null,"",null,null,{"$f":"IF(S1561<>\"\",S1561/9,\"\")","v":""},null,{"$f":"IF(U1561<>\"\",U1561/9,\"\")","v":""}]
[null,null,null,null,null,null,null,null,null,null,null,null,null,null,null,null,"",null,null,"",null,""]
[null,null,null,null,null,null,null,null,null,null,null,null,null,null,null,null,"",null,null,"",null,""]
[null,null,null,null,null,null,null,null,null,null,null,null,null,null,null,null,"",null,null,"",null,""]
[null,null,null,null,null,null,null,null,null,null,null,null,null,null,null,null,"",null,null,"",null,""]
[null,null,null,null,null,null,null,null,null,null,null,null,null,null,null,null,"",null,null,"",null,""]
[null,null,null,null,null,null,null,null,null,null,null,null,null,null,null,null,"",null,null,"",null,""]
[null,null,null,null,null,null,null,null,null,null,null,null,null,null,null,null,"",null,null,"",null,""]
[null,null,null,null,null,null,null,null,null,null,null,null,null,null,null,null,"",null,null,"",null,""]
[null,null,null,null,null,null,null,null,null,null,null,null,null,null,null,null,"",null,null,"",null,""]
[null,null,null,null,null,null,null,null,null,null,null,null,null,null,null,null,"",null,null,"",null,""]
[null,null,null,null,null,null,null,null,null,null,null,null,null,null,null,null,"",null,null,"",null,""]
[null,null,null,null,null,null,null,null,null,null,null,null,null,null,null,null,"",null,null,"",null,""]
[null,null,null,null,null,null,null,null,null,null,null,null,null,null,null,null,"",null,null,"",null,""]
[null,null,null,null,null,null,null,null,null,null,null,null,null,null,null,null,"",null,null,"",null,""]
[null,null,null,null,null,null,null,null,null,null,null,null,null,null,null,null,"",null,null,"",null,""]
[null,null,null,null,null,null,null,null,null,null,null,null,null,null,null,null,"",null,null,"",null,""]
[null,null,null,null,null,null,null,null,null,null,null,null,null,null,null,null,"",null,null,"",null,""]
[null,null,null,null,null,null,null,null,null,null,null,null,null,null,null,null,"",null,null,"",null,""]
[null,null,null,null,null,null,null,null,null,null,null,null,null,null,null,null,"",null,null,"",null,""]
[null,null,null,null,null,null,null,null,null,null,null,null,null,null,null,null,"",null,null,"",null,""]
[null,null,null,null,null,null,null,null,null,null,null,null,null,null,null,null,"",null,null,"",null,""]
[null,null,null,null,null,null,null,null,null,null,null,null,null,null,null,null,"",null,null,"",null,""]
[null,null,null,null,null,null,null,null,null,null,null,null,null,null,null,null,"",null,null,"",null,""]
[null,null,null,null,null,null,null,null,null,null,null,null,null,null,null,null,"",null,null,"",null,""]
[null,null,null,null,null,null,null,null,null,null,null,null,null,null,null,null,"",null,null,"",null,""]
[null,null,null,null,null,null,null,null,null,null,null,null,null,null,null,null,"",null,null,"",null,""]
[null,null,null,null,null,null,null,null,null,null,null,null,null,null,null,null,"",null,null,"",null,""]
[null,null,null,null,null,null,null,null,null,null,null,null,null,null,null,null,"",null,null,"",null,""]
[null,null,null,null,null,null,null,null,null,null,null,null,null,null,null,null,"",null,null,"",null,""]
[null,null,null,null,null,null,null,null,null,null,null,null,null,null,null,null,"",null,null,"",null,""]
[null,null,null,null,null,null,null,null,null,null,null,null,null,null,null,null,"",null,null,"",null,""]
[null,null,null,null,null,null,null,null,null,null,null,null,null,null,null,null,"",null,null,"",null,""]
[null,null,null,null,null,null,null,null,null,null,null,null,null,null,null,null,"",null,null,"",null,""]
[null,null,null,null,null,null,null,null,null,null,null,null,null,null,null,null,"",null,null,"",null,""]
[null,null,null,null,null,null,null,null,null,null,null,null,null,null,null,null,"",null,null,"",null,""]
[null,null,null,null,null,null,null,null,null,null,null,null,null,null,null,null,{"$f":"IF(M1597<>\"\",2,\"\")","v":""},null,null,"",null,""]
[null,null,null,null,null,null,null,null,null,null,null,null,null,null,null,null,"",null,null,"",null,""]
[null,null,null,null,null,null,null,null,null,null,null,null,null,null,null,null,"",null,null,"",null,""]
[null,null,null,null,null,null,null,null,null,null,null,null,null,null,null,null,"",null,null,"",null,""]
[null,null,null,null,null,null,null,null,null,null,null,null,null,null,null,null,"",null,null,"",null,""]
[null,null,null,null,null,null,null,null,null,null,null,null,null,null,null,null,"",null,null,"",null,""]
[null,null,null,null,null,null,null,null,null,null,null,null,null,null,null,null,"",null,null,"",null,""]
[null,null,null,null,null,null,null,null,null,null,null,null,null,null,null,null,"",null,null,"",null,""]
[null,null,null,null,null,null,null,null,null,null,null,null,null,null,null,null,"",null,null,"",null,""]
[null,null,null,null,null,null,null,null,null,null,null,null,null,null,null,null,"",null,null,"",null,""]
[null,null,null,null,null,null,null,null,null,null,null,null,null,null,null,null,"",null,null,"",null,""]
[null,null,null,null,null,null,null,null,null,null,null,null,null,null,null,null,"",null,null,"",null,""]
[null,null,null,null,null,null,null,null,null,null,null,null,null,null,null,null,"",null,null,"",null,""]
[null,null,null,null,null,null,null,null,null,null,null,null,null,null,null,null,"",null,null,"",null,""]
[null,null,null,null,null,null,null,null,null,null,null,null,null,null,null,null,"",null,null,"",null,""]
[null,null,null,null,null,null,null,null,null,null,null,null,null,null,null,null,"",null,null,"",null,""]
[null,null,null,null,null,null,null,null,null,null,null,null,null,null,null,null,"",null,null,"",null,""]
[null,null,null,null,null,null,null,null,null,null,null,null,null,null,null,null,"",null,null,"",null,""]
[null,null,null,null,null,null,null,null,null,null,null,null,null,null,null,null,"",null,null,"",null,""]
[null,null,null,null,null,null,null,null,null,null,null,null,null,null,null,null,"",null,null,"",null,""]
[null,null,null,null,null,null,null,null,null,null,null,null,null,null,null,null,"",null,null,"",null,""]
[null,null,null,null,null,null,null,null,null,null,null,null,null,null,null,null,"",null,null,"",null,""]
[null,null,null,null,null,null,null,null,null,null,null,null,null,null,null,null,"",null,null,"",null,""]
[null,null,null,null,null,null,null,null,null,null,null,null,null,null,null,null,"",null,null,"",null,""]
[null,null,null,null,null,null,null,null,null,null,null,null,null,null,null,null,"",null,null,"",null,""]
[null,null,null,null,null,null,null,null,null,null,null,null,null,null,null,null,"",null,null,"",null,""]
[null,null,null,null,null,null,null,null,null,null,null,null,null,null,null,null,"",null,null,"",null,""]
[null,null,null,null,null,null,null,null,null,null,null,null,null,null,null,null,"",null,null,"",null,""]
[null,null,null,null,null,null,null,null,null,null,null,null,null,null,null,null,"",null,null,{"$f":"IF(S1625<>\"\",S1625/9,\"\")","v":""},null,{"$f":"IF(U1625<>\"\",U1625/9,\"\")","v":""}]
[null,null,null,null,null,null,null,null,null,null,null,null,null,null,null,null,"",null,null,"",null,""]
[null,null,null,null,null,null,null,null,null,null,null,null,null,null,null,null,"",null,null,"",null,""]
[null,null,null,null,null,null,null,null,null,null,null,null,null,null,null,null,"",null,null,"",null,""]
[null,null,null,null,null,null,null,null,null,null,null,null,null,null,null,null,"",null,null,"",null,""]
[null,null,null,null,null,null,null,null,null,null,null,null,null,null,null,null,"",null,null,"",null,""]
[null,null,null,null,null,null,null,null,null,null,null,null,null,null,null,null,"",null,null,"",null,""]
[null,null,null,null,null,null,null,null,null,null,null,null,null,null,null,null,"",null,null,"",null,""]
[null,null,null,null,null,null,null,null,null,null,null,null,null,null,null,null,"",null,null,"",null,""]
[null,null,null,null,null,null,null,null,null,null,null,null,null,null,null,null,"",null,null,"",null,""]
[null,null,null,null,null,null,null,null,null,null,null,null,null,null,null,null,"",null,null,"",null,""]
[null,null,null,null,null,null,null,null,null,null,null,null,null,null,null,null,"",null,null,"",null,""]
[null,null,null,null,null,null,null,null,null,null,null,null,null,null,null,null,"",null,null,"",null,""]
[null,null,null,null,null,null,null,null,null,null,null,null,null,null,null,null,"",null,null,"",null,""]
[null,null,null,null,null,null,null,null,null,null,null,null,null,null,null,null,"",null,null,"",null,""]
[null,null,null,null,null,null,null,null,null,null,null,null,null,null,null,null,"",null,null,"",null,""]
[null,null,null,null,null,null,null,null,null,null,null,null,null,null,null,null,"",null,null,"",null,""]
[null,null,null,null,null,null,null,null,null,null,null,null,null,null,null,null,"",null,null,"",null,""]
[null,null,null,null,null,null,null,null,null,null,null,null,null,null,null,null,"",null,null,"",null,""]
[null,null,null,null,null,null,null,null,null,null,null,null,null,null,null,null,"",null,null,"",null,""]
[null,null,null,null,null,null,null,null,null,null,null,null,null,null,null,null,"",null,null,"",null,""]
[null,null,null,null,null,null,null,null,null,null,null,null,null,null,null,null,"",null,null,"",null,""]
[null,null,null,null,null,null,null,null,null,null,null,null,null,null,null,null,"",null,null,"",null,""]
[null,null,null,null,null,null,null,null,null,null,null,null,null,null,null,null,"",null,null,"",null,""]
[null,null,null,null,null,null,null,null,null,null,null,null,null,null,null,null,"",null,null,"",null,""]
[null,null,null,null,null,null,null,null,null,null,null,null,null,null,null,null,"",null,null,"",null,""]
[null,null,null,null,null,null,null,null,null,null,null,null,null,null,null,null,"",null,null,"",null,""]
[null,null,null,null,null,null,null,null,null,null,null,null,null,null,null,null,"",null,null,"",null,""]
[null,null,null,null,null,null,null,null,null,null,null,null,null,null,null,null,"",null,null,"",null,""]
[null,null,null,null,null,null,null,null,null,null,null,null,null,null,null,null,"",null,null,"",null,""]
[null,null,null,null,null,null,null,null,null,null,null,null,null,null,null,null,"",null,null,"",null,""]
[null,null,null,null,null,null,null,null,null,null,null,null,null,null,null,null,"",null,null,"",null,""]
[null,null,null,null,null,null,null,null,null,null,null,null,null,null,null,null,"",null,null,"",null,""]
[null,null,null,null,null,null,null,null,null,null,null,null,null,null,null,null,"",null,null,"",null,""]
[null,null,null,null,null,null,null,null,null,null,null,null,null,null,null,null,"",null,null,"",null,""]
[null,null,null,null,null,null,null,null,null,null,null,null,null,null,null,null,"",null,null,"",null,""]
[null,null,null,null,null,null,null,null,null,null,null,null,null,null,null,null,{"$f":"IF(M1661<>\"\",2,\"\")","v":""},null,null,"",null,""]
[null,null,null,null,null,null,null,null,null,null,null,null,null,null,null,null,"",null,null,"",null,""]
[null,null,null,null,null,null,null,null,null,null,null,null,null,null,null,null,"",null,null,"",null,""]
[null,null,null,null,null,null,null,null,null,null,null,null,null,null,null,null,"",null,null,"",null,""]
[null,null,null,null,null,null,null,null,null,null,null,null,null,null,null,null,"",null,null,"",null,""]
[null,null,null,null,null,null,null,null,null,null,null,null,null,null,null,null,"",null,null,"",null,""]
[null,null,null,null,null,null,null,null,null,null,null,null,null,null,null,null,"",null,null,"",null,""]
[null,null,null,null,null,null,null,null,null,null,null,null,null,null,null,null,"",null,null,"",null,""]
[null,null,null,null,null,null,null,null,null,null,null,null,null,null,null,null,"",null,null,"",null,""]
[null,null,null,null,null,null,null,null,null,null,null,null,null,null,null,null,"",null,null,"",null,""]
[null,null,null,null,null,null,null,null,null,null,null,null,null,null,null,null,"",null,null,"",null,""]
[null,null,null,null,null,null,null,null,null,null,null,null,null,null,null,null,"",null,null,"",null,""]
[null,null,null,null,null,null,null,null,null,null,null,null,null,null,null,null,"",null,null,"",null,""]
[null,null,null,null,null,null,null,null,null,null,null,null,null,null,null,null,"",null,null,"",null,""]
[null,null,null,null,null,null,null,null,null,null,null,null,null,null,null,null,"",null,null,"",null,""]
[null,null,null,null,null,null,null,null,null,null,null,null,null,null,null,null,"",null,null,"",null,""]
[null,null,null,null,null,null,null,null,null,null,null,null,null,null,null,null,"",null,null,"",null,""]
[null,null,null,null,null,null,null,null,null,null,null,null,null,null,null,null,"",null,null,"",null,""]
[null,null,null,null,null,null,null,null,null,null,null,null,null,null,null,null,"",null,null,"",null,""]
[null,null,null,null,null,null,null,null,null,null,null,null,null,null,null,null,"",null,null,"",null,""]
[null,null,null,null,null,null,null,null,null,null,null,null,null,null,null,null,"",null,null,"",null,""]
[null,null,null,null,null,null,null,null,null,null,null,null,null,null,null,null,"",null,null,"",null,""]
[null,null,null,null,null,null,null,null,null,null,null,null,null,null,null,null,"",null,null,"",null,""]
[null,null,null,null,null,null,null,null,null,null,null,null,null,null,null,null,"",null,null,"",null,""]
[null,null,null,null,null,null,null,null,null,null,null,null,null,null,null,null,"",null,null,"",null,""]
[null,null,null,null,null,null,null,null,null,null,null,null,null,null,null,null,"",null,null,"",null,""]
[null,null,null,null,null,null,null,null,null,null,null,null,null,null,null,null,"",null,null,"",null,""]
[null,null,null,null,null,null,null,null,null,null,null,null,null,null,null,null,"",null,null,"",null,""]
[null,null,null,null,null,null,null,null,null,null,null,null,null,null,null,null,"",null,null,{"$f":"IF(S1689<>\"\",S1689/9,\"\")","v":""},null,{"$f":"IF(U1689<>\"\",U1689/9,\"\")","v":""}]
[null,null,null,null,null,null,null,null,null,null,null,null,null,null,null,null,"",null,null,"",null,""]
[null,null,null,null,null,null,null,null,null,null,null,null,null,null,null,null,"",null,null,"",null,""]
[null,null,null,null,null,null,null,null,null,null,null,null,null,null,null,null,"",null,null,"",null,""]
[null,null,null,null,null,null,null,null,null,null,null,null,null,null,null,null,"",null,null,"",null,""]
[null,null,null,null,null,null,null,null,null,null,null,null,null,null,null,null,"",null,null,"",null,""]
[null,null,null,null,null,null,null,null,null,null,null,null,null,null,null,null,"",null,null,"",null,""]
[null,null,null,null,null,null,null,null,null,null,null,null,null,null,null,null,"",null,null,"",null,""]
[null,null,null,null,null,null,null,null,null,null,null,null,null,null,null,null,"",null,null,"",null,""]
[null,null,null,null,null,null,null,null,null,null,null,null,null,null,null,null,"",null,null,"",null,""]
[null,null,null,null,null,null,null,null,null,null,null,null,null,null,null,null,"",null,null,"",null,""]
[null,null,null,null,null,null,null,null,null,null,null,null,null,null,null,null,"",null,null,"",null,""]
[null,null,null,null,null,null,null,null,null,null,null,null,null,null,null,null,"",null,null,"",null,""]
[null,null,null,null,null,null,null,null,null,null,null,null,null,null,null,null,"",null,null,"",null,""]
[null,null,null,null,null,null,null,null,null,null,null,null,null,null,null,null,"",null,null,"",null,""]
[null,null,null,null,null,null,null,null,null,null,null,null,null,null,null,null,"",null,null,"",null,""]
[null,null,null,null,null,null,null,null,null,null,null,null,null,null,null,null,"",null,null,"",null,""]
[null,null,null,null,null,null,null,null,null,null,null,null,null,null,null,null,"",null,null,"",null,""]
[null,null,null,null,null,null,null,null,null,null,null,null,null,null,null,null,"",null,null,"",null,""]
[null,null,null,null,null,null,null,null,null,null,null,null,null,null,null,null,"",null,null,"",null,""]
[null,null,null,null,null,null,null,null,null,null,null,null,null,null,null,null,"",null,null,"",null,""]
[null,null,null,null,null,null,null,null,null,null,null,null,null,null,null,null,"",null,null,"",null,""]
[null,null,null,null,null,null,null,null,null,null,null,null,null,null,null,null,"",null,null,"",null,""]
[null,null,null,null,null,null,null,null,null,null,null,null,null,null,null,null,"",null,null,"",null,""]
[null,null,null,null,null,null,null,null,null,null,null,null,null,null,null,null,"",null,null,"",null,""]
[null,null,null,null,null,null,null,null,null,null,null,null,null,null,null,null,"",null,null,"",null,""]
[null,null,null,null,null,null,null,null,null,null,null,null,null,null,null,null,"",null,null,"",null,""]
[null,null,null,null,null,null,null,null,null,null,null,null,null,null,null,null,"",null,null,"",null,""]
[null,null,null,null,null,null,null,null,null,null,null,null,null,null,null,null,"",null,null,"",null,""]
[null,null,null,null,null,null,null,null,null,null,null,null,null,null,null,null,"",null,null,"",null,""]
[null,null,null,null,null,null,null,null,null,null,null,null,null,null,null,null,"",null,null,"",null,""]
[null,null,null,null,null,null,null,null,null,null,null,null,null,null,null,null,"",null,null,"",null,""]
[null,null,null,null,null,null,null,null,null,null,null,null,null,null,null,null,"",null,null,"",null,""]
[null,null,null,null,null,null,null,null,null,null,null,null,null,null,null,null,"",null,null,"",null,""]
[null,null,null,null,null,null,null,null,null,null,null,null,null,null,null,null,"",null,null,"",null,""]
[null,null,null,null,null,null,null,null,null,null,null,null,null,null,null,null,"",null,null,"",null,""]
[null,null,null,null,null,null,null,null,null,null,null,null,null,null,null,null,{"$f":"IF(M1725<>\"\",2,\"\")","v":""},null,null,"",null,""]
[null,null,null,null,null,null,null,null,null,null,null,null,null,null,null,null,"",null,null,"",null,""]
[null,null,null,null,null,null,null,null,null,null,null,null,null,null,null,null,"",null,null,"",null,""]
[null,null,null,null,null,null,null,null,null,null,null,null,null,null,null,null,"",null,null,"",null,""]
[null,null,null,null,null,null,null,null,null,null,null,null,null,null,null,null,"",null,null,"",null,""]
[null,null,null,null,null,null,null,null,null,null,null,null,null,null,null,null,"",null,null,"",null,""]
[null,null,null,null,null,null,null,null,null,null,null,null,null,null,null,null,"",null,null,"",null,""]
[null,null,null,null,null,null,null,null,null,null,null,null,null,null,null,null,"",null,null,"",null,""]
[null,null,null,null,null,null,null,null,null,null,null,null,null,null,null,null,"",null,null,"",null,""]
[null,null,null,null,null,null,null,null,null,null,null,null,null,null,null,null,"",null,null,"",null,""]
[null,null,null,null,null,null,null,null,null,null,null,null,null,null,null,null,"",null,null,"",null,""]
[null,null,null,null,null,null,null,null,null,null,null,null,null,null,null,null,"",null,null,"",null,""]
[null,null,null,null,null,null,null,null,null,null,null,null,null,null,null,null,"",null,null,"",null,""]
[null,null,null,null,null,null,null,null,null,null,null,null,null,null,null,null,"",null,null,"",null,""]
[null,null,null,null,null,null,null,null,null,null,null,null,null,null,null,null,"",null,null,"",null,""]
[null,null,null,null,null,null,null,null,null,null,null,null,null,null,null,null,"",null,null,"",null,""]
[null,null,null,null,null,null,null,null,null,null,null,null,null,null,null,null,"",null,null,"",null,""]
[null,null,null,null,null,null,null,null,null,null,null,null,null,null,null,null,"",null,null,"",null,""]
[null,null,null,null,null,null,null,null,null,null,null,null,null,null,null,null,"",null,null,"",null,""]
[null,null,null,null,null,null,null,null,null,null,null,null,null,null,null,null,"",null,null,"",null,""]
[null,null,null,null,null,null,null,null,null,null,null,null,null,null,null,null,"",null,null,"",null,""]
[null,null,null,null,null,null,null,null,null,null,null,null,null,null,null,null,"",null,null,"",null,""]
[null,null,null,null,null,null,null,null,null,null,null,null,null,null,null,null,"",null,null,"",null,""]
[null,null,null,null,null,null,null,null,null,null,null,null,null,null,null,null,"",null,null,"",null,""]
[null,null,null,null,null,null,null,null,null,null,null,null,null,null,null,null,"",null,null,"",null,""]
[null,null,null,null,null,null,null,null,null,null,null,null,null,null,null,null,"",null,null,"",null,""]
[null,null,null,null,null,null,null,null,null,null,null,null,null,null,null,null,"",null,null,"",null,""]
[null,null,null,null,null,null,null,null,null,null,null,null,null,null,null,null,"",null,null,"",null,""]
[null,null,null,null,null,null,null,null,null,null,null,null,null,null,null,null,"",null,null,{"$f":"IF(S1753<>\"\",S1753/9,\"\")","v":""},null,{"$f":"IF(U1753<>\"\",U1753/9,\"\")","v":""}]
[null,null,null,null,null,null,null,null,null,null,null,null,null,null,null,null,"",null,null,"",null,""]
[null,null,null,null,null,null,null,null,null,null,null,null,null,null,null,null,"",null,null,"",null,""]
[null,null,null,null,null,null,null,null,null,null,null,null,null,null,null,null,"",null,null,"",null,""]
[null,null,null,null,null,null,null,null,null,null,null,null,null,null,null,null,"",null,null,"",null,""]
[null,null,null,null,null,null,null,null,null,null,null,null,null,null,null,null,"",null,null,"",null,""]
[null,null,null,null,null,null,null,null,null,null,null,null,null,null,null,null,"",null,null,"",null,""]
[null,null,null,null,null,null,null,null,null,null,null,null,null,null,null,null,"",null,null,"",null,""]
[null,null,null,null,null,null,null,null,null,null,null,null,null,null,null,null,"",null,null,"",null,""]
[null,null,null,null,null,null,null,null,null,null,null,null,null,null,null,null,"",null,null,"",null,""]
[null,null,null,null,null,null,null,null,null,null,null,null,null,null,null,null,"",null,null,"",null,""]
[null,null,null,null,null,null,null,null,null,null,null,null,null,null,null,null,"",null,null,"",null,""]
[null,null,null,null,null,null,null,null,null,null,null,null,null,null,null,null,"",null,null,"",null,""]
[null,null,null,null,null,null,null,null,null,null,null,null,null,null,null,null,"",null,null,"",null,""]
[null,null,null,null,null,null,null,null,null,null,null,null,null,null,null,null,"",null,null,"",null,""]
[null,null,null,null,null,null,null,null,null,null,null,null,null,null,null,null,"",null,null,"",null,""]
[null,null,null,null,null,null,null,null,null,null,null,null,null,null,null,null,"",null,null,"",null,""]
[null,null,null,null,null,null,null,null,null,null,null,null,null,null,null,null,"",null,null,"",null,""]
[null,null,null,null,null,null,null,null,null,null,null,null,null,null,null,null,"",null,null,"",null,""]
[null,null,null,null,null,null,null,null,null,null,null,null,null,null,null,null,"",null,null,"",null,""]
[null,null,null,null,null,null,null,null,null,null,null,null,null,null,null,null,"",null,null,"",null,""]
[null,null,null,null,null,null,null,null,null,null,null,null,null,null,null,null,"",null,null,"",null,""]
[null,null,null,null,null,null,null,null,null,null,null,null,null,null,null,null,"",null,null,"",null,""]
[null,null,null,null,null,null,null,null,null,null,null,null,null,null,null,null,"",null,null,"",null,""]
[null,null,null,null,null,null,null,null,null,null,null,null,null,null,null,null,"",null,null,"",null,""]
[null,null,null,null,null,null,null,null,null,null,null,null,null,null,null,null,"",null,null,"",null,""]
[null,null,null,null,null,null,null,null,null,null,null,null,null,null,null,null,"",null,null,"",null,""]
[null,null,null,null,null,null,null,null,null,null,null,null,null,null,null,null,"",null,null,"",null,""]
[null,null,null,null,null,null,null,null,null,null,null,null,null,null,null,null,"",null,null,"",null,""]
[null,null,null,null,null,null,null,null,null,null,null,null,null,null,null,null,"",null,null,"",null,""]
[null,null,null,null,null,null,null,null,null,null,null,null,null,null,null,null,"",null,null,"",null,""]
[null,null,null,null,null,null,null,null,null,null,null,null,null,null,null,null,"",null,null,"",null,""]
[null,null,null,null,null,null,null,null,null,null,null,null,null,null,null,null,"",null,null,"",null,""]
[null,null,null,null,null,null,null,null,null,null,null,null,null,null,null,null,"",null,null,"",null,""]
[null,null,null,null,null,null,null,null,null,null,null,null,null,null,null,null,"",null,null,"",null,""]
[null,null,null,null,null,null,null,null,null,null,null,null,null,null,null,null,"",null,null,"",null,""]
[null,null,null,null,null,null,null,null,null,null,null,null,null,null,null,null,{"$f":"IF(M1789<>\"\",2,\"\")","v":""},null,null,"",null,""]
[null,null,null,null,null,null,null,null,null,null,null,null,null,null,null,null,"",null,null,"",null,""]
[null,null,null,null,null,null,null,null,null,null,null,null,null,null,null,null,"",null,null,"",null,""]
[null,null,null,null,null,null,null,null,null,null,null,null,null,null,null,null,"",null,null,"",null,""]
[null,null,null,null,null,null,null,null,null,null,null,null,null,null,null,null,"",null,null,"",null,""]
[null,null,null,null,null,null,null,null,null,null,null,null,null,null,null,null,"",null,null,"",null,""]
[null,null,null,null,null,null,null,null,null,null,null,null,null,null,null,null,"",null,null,"",null,""]
[null,null,null,null,null,null,null,null,null,null,null,null,null,null,null,null,"",null,null,"",null,""]
[null,null,null,null,null,null,null,null,null,null,null,null,null,null,null,null,"",null,null,"",null,""]
[null,null,null,null,null,null,null,null,null,null,null,null,null,null,null,null,"",null,null,"",null,""]
[null,null,null,null,null,null,null,null,null,null,null,null,null,null,null,null,"",null,null,"",null,""]
[null,null,null,null,null,null,null,null,null,null,null,null,null,null,null,null,"",null,null,"",null,""]
[null,null,null,null,null,null,null,null,null,null,null,null,null,null,null,null,"",null,null,"",null,""]
[null,null,null,null,null,null,null,null,null,null,null,null,null,null,null,null,"",null,null,"",null,""]
[null,null,null,null,null,null,null,null,null,null,null,null,null,null,null,null,"",null,null,"",null,""]
[null,null,null,null,null,null,null,null,null,null,null,null,null,null,null,null,"",null,null,"",null,""]
[null,null,null,null,null,null,null,null,null,null,null,null,null,null,null,null,"",null,null,"",null,""]
[null,null,null,null,null,null,null,null,null,null,null,null,null,null,null,null,"",null,null,"",null,""]
[null,null,null,null,null,null,null,null,null,null,null,null,null,null,null,null,"",null,null,"",null,""]
[null,null,null,null,null,null,null,null,null,null,null,null,null,null,null,null,"",null,null,"",null,""]
[null,null,null,null,null,null,null,null,null,null,null,null,null,null,null,null,"",null,null,"",null,""]
[null,null,null,null,null,null,null,null,null,null,null,null,null,null,null,null,"",null,null,"",null,""]
[null,null,null,null,null,null,null,null,null,null,null,null,null,null,null,null,"",null,null,"",null,""]
[null,null,null,null,null,null,null,null,null,null,null,null,null,null,null,null,"",null,null,"",null,""]
[null,null,null,null,null,null,null,null,null,null,null,null,null,null,null,null,"",null,null,"",null,""]
[null,null,null,null,null,null,null,null,null,null,null,null,null,null,null,null,"",null,null,"",null,""]
[null,null,null,null,null,null,null,null,null,null,null,null,null,null,null,null,"",null,null,"",null,""]
[null,null,null,null,null,null,null,null,null,null,null,null,null,null,null,null,"",null,null,"",null,""]
[null,null,null,null,null,null,null,null,null,null,null,null,null,null,null,null,"",null,null,{"$f":"IF(S1817<>\"\",S1817/9,\"\")","v":""},null,{"$f":"IF(U1817<>\"\",U1817/9,\"\")","v":""}]
[null,null,null,null,null,null,null,null,null,null,null,null,null,null,null,null,"",null,null,"",null,""]
[null,null,null,null,null,null,null,null,null,null,null,null,null,null,null,null,"",null,null,"",null,""]
[null,null,null,null,null,null,null,null,null,null,null,null,null,null,null,null,"",null,null,"",null,""]
[null,null,null,null,null,null,null,null,null,null,null,null,null,null,null,null,"",null,null,"",null,""]
[null,null,null,null,null,null,null,null,null,null,null,null,null,null,null,null,"",null,null,"",null,""]
[null,null,null,null,null,null,null,null,null,null,null,null,null,null,null,null,"",null,null,"",null,""]
[null,null,null,null,null,null,null,null,null,null,null,null,null,null,null,null,"",null,null,"",null,""]
[null,null,null,null,null,null,null,null,null,null,null,null,null,null,null,null,"",null,null,"",null,""]
[null,null,null,null,null,null,null,null,null,null,null,null,null,null,null,null,"",null,null,"",null,""]
[null,null,null,null,null,null,null,null,null,null,null,null,null,null,null,null,"",null,null,"",null,""]
[null,null,null,null,null,null,null,null,null,null,null,null,null,null,null,null,"",null,null,"",null,""]
[null,null,null,null,null,null,null,null,null,null,null,null,null,null,null,null,"",null,null,"",null,""]
[null,null,null,null,null,null,null,null,null,null,null,null,null,null,null,null,"",null,null,"",null,""]
[null,null,null,null,null,null,null,null,null,null,null,null,null,null,null,null,"",null,null,"",null,""]
[null,null,null,null,null,null,null,null,null,null,null,null,null,null,null,null,"",null,null,"",null,""]
[null,null,null,null,null,null,null,null,null,null,null,null,null,null,null,null,"",null,null,"",null,""]
[null,null,null,null,null,null,null,null,null,null,null,null,null,null,null,null,"",null,null,"",null,""]
[null,null,null,null,null,null,null,null,null,null,null,null,null,null,null,null,"",null,null,"",null,""]
[null,null,null,null,null,null,null,null,null,null,null,null,null,null,null,null,"",null,null,"",null,""]
[null,null,null,null,null,null,null,null,null,null,null,null,null,null,null,null,"",null,null,"",null,""]
[null,null,null,null,null,null,null,null,null,null,null,null,null,null,null,null,"",null,null,"",null,""]
[null,null,null,null,null,null,null,null,null,null,null,null,null,null,null,null,"",null,null,"",null,""]
[null,null,null,null,null,null,null,null,null,null,null,null,null,null,null,null,"",null,null,"",null,""]
[null,null,null,null,null,null,null,null,null,null,null,null,null,null,null,null,"",null,null,"",null,""]
[null,null,null,null,null,null,null,null,null,null,null,null,null,null,null,null,"",null,null,"",null,""]
[null,null,null,null,null,null,null,null,null,null,null,null,null,null,null,null,"",null,null,"",null,""]
[null,null,null,null,null,null,null,null,null,null,null,null,null,null,null,null,"",null,null,"",null,""]
[null,null,null,null,null,null,null,null,null,null,null,null,null,null,null,null,"",null,null,"",null,""]
[null,null,null,null,null,null,null,null,null,null,null,null,null,null,null,null,"",null,null,"",null,""]
[null,null,null,null,null,null,null,null,null,null,null,null,null,null,null,null,"",null,null,"",null,""]
[null,null,null,null,null,null,null,null,null,null,null,null,null,null,null,null,"",null,null,"",null,""]
[null,null,null,null,null,null,null,null,null,null,null,null,null,null,null,null,"",null,null,"",null,""]
[null,null,null,null,null,null,null,null,null,null,null,null,null,null,null,null,"",null,null,"",null,""]
[null,null,null,null,null,null,null,null,null,null,null,null,null,null,null,null,"",null,null,"",null,""]
[null,null,null,null,null,null,null,null,null,null,null,null,null,null,null,null,"",null,null,"",null,""]
[null,null,null,null,null,null,null,null,null,null,null,null,null,null,null,null,{"$f":"IF(M1853<>\"\",2,\"\")","v":""},null,null,"",null,""]
[null,null,null,null,null,null,null,null,null,null,null,null,null,null,null,null,"",null,null,"",null,""]
[null,null,null,null,null,null,null,null,null,null,null,null,null,null,null,null,"",null,null,"",null,""]
[null,null,null,null,null,null,null,null,null,null,null,null,null,null,null,null,"",null,null,"",null,""]
[null,null,null,null,null,null,null,null,null,null,null,null,null,null,null,null,"",null,null,"",null,""]
[null,null,null,null,null,null,null,null,null,null,null,null,null,null,null,null,"",null,null,"",null,""]
[null,null,null,null,null,null,null,null,null,null,null,null,null,null,null,null,"",null,null,"",null,""]
[null,null,null,null,null,null,null,null,null,null,null,null,null,null,null,null,"",null,null,"",null,""]
[null,null,null,null,null,null,null,null,null,null,null,null,null,null,null,null,"",null,null,"",null,""]
[null,null,null,null,null,null,null,null,null,null,null,null,null,null,null,null,"",null,null,"",null,""]
[null,null,null,null,null,null,null,null,null,null,null,null,null,null,null,null,"",null,null,"",null,""]
[null,null,null,null,null,null,null,null,null,null,null,null,null,null,null,null,"",null,null,"",null,""]
[null,null,null,null,null,null,null,null,null,null,null,null,null,null,null,null,"",null,null,"",null,""]
[null,null,null,null,null,null,null,null,null,null,null,null,null,null,null,null,"",null,null,"",null,""]
[null,null,null,null,null,null,null,null,null,null,null,null,null,null,null,null,"",null,null,"",null,""]
[null,null,null,null,null,null,null,null,null,null,null,null,null,null,null,null,"",null,null,"",null,""]
[null,null,null,null,null,null,null,null,null,null,null,null,null,null,null,null,"",null,null,"",null,""]
[null,null,null,null,null,null,null,null,null,null,null,null,null,null,null,null,"",null,null,"",null,""]
[null,null,null,null,null,null,null,null,null,null,null,null,null,null,null,null,"",null,null,"",null,""]
[null,null,null,null,null,null,null,null,null,null,null,null,null,null,null,null,"",null,null,"",null,""]
[null,null,null,null,null,null,null,null,null,null,null,null,null,null,null,null,"",null,null,"",null,""]
[null,null,null,null,null,null,null,null,null,null,null,null,null,null,null,null,"",null,null,"",null,""]
[null,null,null,null,null,null,null,null,null,null,null,null,null,null,null,null,"",null,null,"",null,""]
[null,null,null,null,null,null,null,null,null,null,null,null,null,null,null,null,"",null,null,"",null,""]
[null,null,null,null,null,null,null,null,null,null,null,null,null,null,null,null,"",null,null,"",null,""]
[null,null,null,null,null,null,null,null,null,null,null,null,null,null,null,null,"",null,null,"",null,""]
[null,null,null,null,null,null,null,null,null,null,null,null,null,null,null,null,"",null,null,"",null,""]
[null,null,null,null,null,null,null,null,null,null,null,null,null,null,null,null,"",null,null,"",null,""]
[null,null,null,null,null,null,null,null,null,null,null,null,null,null,null,null,"",null,null,{"$f":"IF(S1881<>\"\",S1881/9,\"\")","v":""},null,{"$f":"IF(U1881<>\"\",U1881/9,\"\")","v":""}]
[null,null,null,null,null,null,null,null,null,null,null,null,null,null,null,null,"",null,null,"",null,""]
[null,null,null,null,null,null,null,null,null,null,null,null,null,null,null,null,"",null,null,"",null,""]
[null,null,null,null,null,null,null,null,null,null,null,null,null,null,null,null,"",null,null,"",null,""]
[null,null,null,null,null,null,null,null,null,null,null,null,null,null,null,null,"",null,null,"",null,""]
[null,null,null,null,null,null,null,null,null,null,null,null,null,null,null,null,"",null,null,"",null,""]
[null,null,null,null,null,null,null,null,null,null,null,null,null,null,null,null,"",null,null,"",null,""]
[null,null,null,null,null,null,null,null,null,null,null,null,null,null,null,null,"",null,null,"",null,""]
[null,null,null,null,null,null,null,null,null,null,null,null,null,null,null,null,"",null,null,"",null,""]
[null,null,null,null,null,null,null,null,null,null,null,null,null,null,null,null,"",null,null,"",null,""]
[null,null,null,null,null,null,null,null,null,null,null,null,null,null,null,null,"",null,null,"",null,""]
[null,null,null,null,null,null,null,null,null,null,null,null,null,null,null,null,"",null,null,"",null,""]
[null,null,null,null,null,null,null,null,null,null,null,null,null,null,null,null,"",null,null,"",null,""]
[null,null,null,null,null,null,null,null,null,null,null,null,null,null,null,null,"",null,null,"",null,""]
[null,null,null,null,null,null,null,null,null,null,null,null,null,null,null,null,"",null,null,"",null,""]
[null,null,null,null,null,null,null,null,null,null,null,null,null,null,null,null,"",null,null,"",null,""]
[null,null,null,null,null,null,null,null,null,null,null,null,null,null,null,null,"",null,null,"",null,""]
[null,null,null,null,null,null,null,null,null,null,null,null,null,null,null,null,"",null,null,"",null,""]
[null,null,null,null,null,null,null,null,null,null,null,null,null,null,null,null,"",null,null,"",null,""]
[null,null,null,null,null,null,null,null,null,null,null,null,null,null,null,null,"",null,null,"",null,""]
[null,null,null,null,null,null,null,null,null,null,null,null,null,null,null,null,"",null,null,"",null,""]
[null,null,null,null,null,null,null,null,null,null,null,null,null,null,null,null,"",null,null,"",null,""]
[null,null,null,null,null,null,null,null,null,null,null,null,null,null,null,null,"",null,null,"",null,""]
[null,null,null,null,null,null,null,null,null,null,null,null,null,null,null,null,"",null,null,"",null,""]
[null,null,null,null,null,null,null,null,null,null,null,null,null,null,null,null,"",null,null,"",null,""]
[null,null,null,null,null,null,null,null,null,null,null,null,null,null,null,null,"",null,null,"",null,""]
[null,null,null,null,null,null,null,null,null,null,null,null,null,null,null,null,"",null,null,"",null,""]
[null,null,null,null,null,null,null,null,null,null,null,null,null,null,null,null,"",null,null,"",null,""]
[null,null,null,null,null,null,null,null,null,null,null,null,null,null,null,null,"",null,null,"",null,""]
[null,null,null,null,null,null,null,null,null,null,null,null,null,null,null,null,"",null,null,"",null,""]
[null,null,null,null,null,null,null,null,null,null,null,null,null,null,null,null,"",null,null,"",null,""]
[null,null,null,null,null,null,null,null,null,null,null,null,null,null,null,null,"",null,null,"",null,""]
[null,null,null,null,null,null,null,null,null,null,null,null,null,null,null,null,"",null,null,"",null,""]
[null,null,null,null,null,null,null,null,null,null,null,null,null,null,null,null,"",null,null,"",null,""]
[null,null,null,null,null,null,null,null,null,null,null,null,null,null,null,null,"",null,null,"",null,""]
[null,null,null,null,null,null,null,null,null,null,null,null,null,null,null,null,"",null,null,"",null,""]
[null,null,null,null,null,null,null,null,null,null,null,null,null,null,null,null,{"$f":"IF(M1917<>\"\",2,\"\")","v":""},null,null,"",null,""]
[null,null,null,null,null,null,null,null,null,null,null,null,null,null,null,null,"",null,null,"",null,""]
[null,null,null,null,null,null,null,null,null,null,null,null,null,null,null,null,"",null,null,"",null,""]
[null,null,null,null,null,null,null,null,null,null,null,null,null,null,null,null,"",null,null,"",null,""]
[null,null,null,null,null,null,null,null,null,null,null,null,null,null,null,null,"",null,null,"",null,""]
[null,null,null,null,null,null,null,null,null,null,null,null,null,null,null,null,"",null,null,"",null,""]
[null,null,null,null,null,null,null,null,null,null,null,null,null,null,null,null,"",null,null,"",null,""]
[null,null,null,null,null,null,null,null,null,null,null,null,null,null,null,null,"",null,null,"",null,""]
[null,null,null,null,null,null,null,null,null,null,null,null,null,null,null,null,"",null,null,"",null,""]
[null,null,null,null,null,null,null,null,null,null,null,null,null,null,null,null,"",null,null,"",null,""]
[null,null,null,null,null,null,null,null,null,null,null,null,null,null,null,null,"",null,null,"",null,""]
[null,null,null,null,null,null,null,null,null,null,null,null,null,null,null,null,"",null,null,"",null,""]
[null,null,null,null,null,null,null,null,null,null,null,null,null,null,null,null,"",null,null,"",null,""]
[null,null,null,null,null,null,null,null,null,null,null,null,null,null,null,null,"",null,null,"",null,""]
[null,null,null,null,null,null,null,null,null,null,null,null,null,null,null,null,"",null,null,"",null,""]
[null,null,null,null,null,null,null,null,null,null,null,null,null,null,null,null,"",null,null,"",null,""]
[null,null,null,null,null,null,null,null,null,null,null,null,null,null,null,null,"",null,null,"",null,""]
[null,null,null,null,null,null,null,null,null,null,null,null,null,null,null,null,"",null,null,"",null,""]
[null,null,null,null,null,null,null,null,null,null,null,null,null,null,null,null,"",null,null,"",null,""]
[null,null,null,null,null,null,null,null,null,null,null,null,null,null,null,null,"",null,null,"",null,""]
[null,null,null,null,null,null,null,null,null,null,null,null,null,null,null,null,"",null,null,"",null,""]
[null,null,null,null,null,null,null,null,null,null,null,null,null,null,null,null,"",null,null,"",null,""]
[null,null,null,null,null,null,null,null,null,null,null,null,null,null,null,null,"",null,null,"",null,""]
[null,null,null,null,null,null,null,null,null,null,null,null,null,null,null,null,"",null,null,"",null,""]
[null,null,null,null,null,null,null,null,null,null,null,null,null,null,null,null,"",null,null,"",null,""]
[null,null,null,null,null,null,null,null,null,null,null,null,null,null,null,null,"",null,null,"",null,""]
[null,null,null,null,null,null,null,null,null,null,null,null,null,null,null,null,"",null,null,"",null,""]
[null,null,null,null,null,null,null,null,null,null,null,null,null,null,null,null,"",null,null,"",null,""]
[null,null,null,null,null,null,null,null,null,null,null,null,null,null,null,null,"",null,null,{"$f":"IF(S1945<>\"\",S1945/9,\"\")","v":""},null,{"$f":"IF(U1945<>\"\",U1945/9,\"\")","v":""}]
[null,null,null,null,null,null,null,null,null,null,null,null,null,null,null,null,"",null,null,"",null,""]
[null,null,null,null,null,null,null,null,null,null,null,null,null,null,null,null,"",null,null,"",null,""]
[null,null,null,null,null,null,null,null,null,null,null,null,null,null,null,null,"",null,null,"",null,""]
[null,null,null,null,null,null,null,null,null,null,null,null,null,null,null,null,"",null,null,"",null,""]
[null,null,null,null,null,null,null,null,null,null,null,null,null,null,null,null,"",null,null,"",null,""]
[null,null,null,null,null,null,null,null,null,null,null,null,null,null,null,null,"",null,null,"",null,""]
[null,null,null,null,null,null,null,null,null,null,null,null,null,null,null,null,"",null,null,"",null,""]
[null,null,null,null,null,null,null,null,null,null,null,null,null,null,null,null,"",null,null,"",null,""]
[null,null,null,null,null,null,null,null,null,null,null,null,null,null,null,null,"",null,null,"",null,""]
[null,null,null,null,null,null,null,null,null,null,null,null,null,null,null,null,"",null,null,"",null,""]
[null,null,null,null,null,null,null,null,null,null,null,null,null,null,null,null,"",null,null,"",null,""]
[null,null,null,null,null,null,null,null,null,null,null,null,null,null,null,null,"",null,null,"",null,""]
[null,null,null,null,null,null,null,null,null,null,null,null,null,null,null,null,"",null,null,"",null,""]
[null,null,null,null,null,null,null,null,null,null,null,null,null,null,null,null,"",null,null,"",null,""]
[null,null,null,null,null,null,null,null,null,null,null,null,null,null,null,null,"",null,null,"",null,""]
[null,null,null,null,null,null,null,null,null,null,null,null,null,null,null,null,"",null,null,"",null,""]
[null,null,null,null,null,null,null,null,null,null,null,null,null,null,null,null,"",null,null,"",null,""]
[null,null,null,null,null,null,null,null,null,null,null,null,null,null,null,null,"",null,null,"",null,""]
[null,null,null,null,null,null,null,null,null,null,null,null,null,null,null,null,"",null,null,"",null,""]
[null,null,null,null,null,null,null,null,null,null,null,null,null,null,null,null,"",null,null,"",null,""]
[null,null,null,null,null,null,null,null,null,null,null,null,null,null,null,null,"",null,null,"",null,""]
[null,null,null,null,null,null,null,null,null,null,null,null,null,null,null,null,"",null,null,"",null,""]
[null,null,null,null,null,null,null,null,null,null,null,null,null,null,null,null,"",null,null,"",null,""]
[null,null,null,null,null,null,null,null,null,null,null,null,null,null,null,null,"",null,null,"",null,""]
[null,null,null,null,null,null,null,null,null,null,null,null,null,null,null,null,"",null,null,"",null,""]
[null,null,null,null,null,null,null,null,null,null,null,null,null,null,null,null,"",null,null,"",null,""]
[null,null,null,null,null,null,null,null,null,null,null,null,null,null,null,null,"",null,null,"",null,""]
[null,null,null,null,null,null,null,null,null,null,null,null,null,null,null,null,"",null,null,"",null,""]
[null,null,null,null,null,null,null,null,null,null,null,null,null,null,null,null,"",null,null,"",null,""]
[null,null,null,null,null,null,null,null,null,null,null,null,null,null,null,null,"",null,null,"",null,""]
[null,null,null,null,null,null,null,null,null,null,null,null,null,null,null,null,"",null,null,"",null,""]
[null,null,null,null,null,null,null,null,null,null,null,null,null,null,null,null,"",null,null,"",null,""]
[null,null,null,null,null,null,null,null,null,null,null,null,null,null,null,null,"",null,null,"",null,""]
[null,null,null,null,null,null,null,null,null,null,null,null,null,null,null,null,"",null,null,"",null,""]
[null,null,null,null,null,null,null,null,null,null,null,null,null,null,null,null,"",null,null,"",null,""]
[null,null,null,null,null,null,null,null,null,null,null,null,null,null,null,null,{"$f":"IF(M1981<>\"\",2,\"\")","v":""},null,null,"",null,""]
[null,null,null,null,null,null,null,null,null,null,null,null,null,null,null,null,"",null,null,"",null,""]
[null,null,null,null,null,null,null,null,null,null,null,null,null,null,null,null,"",null,null,"",null,""]
[null,null,null,null,null,null,null,null,null,null,null,null,null,null,null,null,"",null,null,"",null,""]
[null,null,null,null,null,null,null,null,null,null,null,null,null,null,null,null,"",null,null,"",null,""]
[null,null,null,null,null,null,null,null,null,null,null,null,null,null,null,null,"",null,null,"",null,""]
[null,null,null,null,null,null,null,null,null,null,null,null,null,null,null,null,"",null,null,"",null,""]
[null,null,null,null,null,null,null,null,null,null,null,null,null,null,null,null,"",null,null,"",null,""]
[null,null,null,null,null,null,null,null,null,null,null,null,null,null,null,null,"",null,null,"",null,""]
[null,null,null,null,null,null,null,null,null,null,null,null,null,null,null,null,"",null,null,"",null,""]
[null,null,null,null,null,null,null,null,null,null,null,null,null,null,null,null,"",null,null,"",null,""]
[null,null,null,null,null,null,null,null,null,null,null,null,null,null,null,null,"",null,null,"",null,""]
[null,null,null,null,null,null,null,null,null,null,null,null,null,null,null,null,"",null,null,"",null,""]
[null,null,null,null,null,null,null,null,null,null,null,null,null,null,null,null,"",null,null,"",null,""]
[null,null,null,null,null,null,null,null,null,null,null,null,null,null,null,null,"",null,null,"",null,""]
[null,null,null,null,null,null,null,null,null,null,null,null,null,null,null,null,"",null,null,"",null,""]
[null,null,null,null,null,null,null,null,null,null,null,null,null,null,null,null,"",null,null,"",null,""]
[null,null,null,null,null,null,null,null,null,null,null,null,null,null,null,null,"",null,null,"",null,""]
[null,null,null,null,null,null,null,null,null,null,null,null,null,null,null,null,"",null,null,"",null,""]
[null,null,null,null,null,null,null,null,null,null,null,null,null,null,null,null,"",null,null,"",null,""]
[null,null,null,null,null,null,null,null,null,null,null,null,null,null,null,null,"",null,null,"",null,""]
[null,null,null,null,null,null,null,null,null,null,null,null,null,null,null,null,"",null,null,"",null,""]
[null,null,null,null,null,null,null,null,null,null,null,null,null,null,null,null,"",null,null,"",null,""]
[null,null,null,null,null,null,null,null,null,null,null,null,null,null,null,null,"",null,null,"",null,""]
[null,null,null,null,null,null,null,null,null,null,null,null,null,null,null,null,"",null,null,"",null,""]
[null,null,null,null,null,null,null,null,null,null,null,null,null,null,null,null,"",null,null,{"$f":"IF(S2009<>\"\",S2009/9,\"\")","v":""},null,{"$f":"IF(U2009<>\"\",U2009/9,\"\")","v":""}]
[null,null,null,null,null,null,null,null,null,null,null,null,null,null,null,null,"",null,null,"",null,""]
[null,null,null,null,null,null,null,null,null,null,null,null,null,null,null,null,"",null,null,"",null,""]
[null,null,null,null,null,null,null,null,null,null,null,null,null,null,null,null,"",null,null,"",null,""]
[null,null,null,null,null,null,null,null,null,null,null,null,null,null,null,null,"",null,null,"",null,""]
[null,null,null,null,null,null,null,null,null,null,null,null,null,null,null,null,"",null,null,"",null,""]
[null,null,null,null,null,null,null,null,null,null,null,null,null,null,null,null,"",null,null,"",null,""]
[null,null,null,null,null,null,null,null,null,null,null,null,null,null,null,null,"",null,null,"",null,""]
[null,null,null,null,null,null,null,null,null,null,null,null,null,null,null,null,"",null,null,"",null,""]
[null,null,null,null,null,null,null,null,null,null,null,null,null,null,null,null,"",null,null,"",null,""]
[null,null,null,null,null,null,null,null,null,null,null,null,null,null,null,null,"",null,null,"",null,""]
[null,null,null,null,null,null,null,null,null,null,null,null,null,null,null,null,"",null,null,"",null,""]
[null,null,null,null,null,null,null,null,null,null,null,null,null,null,null,null,"",null,null,"",null,""]
[null,null,null,null,null,null,null,null,null,null,null,null,null,null,null,null,"",null,null,"",null,""]
[null,null,null,null,null,null,null,null,null,null,null,null,null,null,null,null,"",null,null,"",null,""]
[null,null,null,null,null,null,null,null,null,null,null,null,null,null,null,null,"",null,null,"",null,""]
[null,null,null,null,null,null,null,null,null,null,null,null,null,null,null,null,"",null,null,"",null,""]
[null,null,null,null,null,null,null,null,null,null,null,null,null,null,null,null,"",null,null,"",null,""]
[null,null,null,null,null,null,null,null,null,null,null,null,null,null,null,null,"",null,null,"",null,""]
[null,null,null,null,null,null,null,null,null,null,null,null,null,null,null,null,"",null,null,"",null,""]
[null,null,null,null,null,null,null,null,null,null,null,null,null,null,null,null,"",null,null,"",null,""]
[null,null,null,null,null,null,null,null,null,null,null,null,null,null,null,null,"",null,null,"",null,""]
[null,null,null,null,null,null,null,null,null,null,null,null,null,null,null,null,"",null,null,"",null,""]
[null,null,null,null,null,null,null,null,null,null,null,null,null,null,null,null,"",null,null,"",null,""]
[null,null,null,null,null,null,null,null,null,null,null,null,null,null,null,null,"",null,null,"",null,""]
[null,null,null,null,null,null,null,null,null,null,null,null,null,null,null,null,"",null,null,"",null,""]
[null,null,null,null,null,null,null,null,null,null,null,null,null,null,null,null,"",null,null,"",null,""]
[null,null,null,null,null,null,null,null,null,null,null,null,null,null,null,null,"",null,null,"",null,""]
[null,null,null,null,null,null,null,null,null,null,null,null,null,null,null,null,"",null,null,"",null,""]
[null,null,null,null,null,null,null,null,null,null,null,null,null,null,null,null,"",null,null,"",null,""]
[null,null,null,null,null,null,null,null,null,null,null,null,null,null,null,null,"",null,null,"",null,""]
[null,null,null,null,null,null,null,null,null,null,null,null,null,null,null,null,"",null,null,"",null,""]
[null,null,null,null,null,null,null,null,null,null,null,null,null,null,null,null,"",null,null,"",null,""]
[null,null,null,null,null,null,null,null,null,null,null,null,null,null,null,null,"",null,null,"",null,""]
[null,null,null,null,null,null,null,null,null,null,null,null,null,null,null,null,"",null,null,"",null,""]
[null,null,null,null,null,null,null,null,null,null,null,null,null,null,null,null,"",null,null,"",null,""]
[null,null,null,null,null,null,null,null,null,null,null,null,null,null,null,null,"",null,null,"",null,""]
[null,null,null,null,null,null,null,null,null,null,null,null,null,null,null,null,"",null,null,{"$f":"IF(S2073<>\"\",S2073/9,\"\")","v":""},null,{"$f":"IF(U2073<>\"\",U2073/9,\"\")","v":""}]
[null,null,null,null,null,null,null,null,null,null,null,null,null,null,null,null,"",null,null,"",null,""]
[null,null,null,null,null,null,null,null,null,null,null,null,null,null,null,null,"",null,null,"",null,""]
[null,null,null,null,null,null,null,null,null,null,null,null,null,null,null,null,"",null,null,"",null,""]
[null,null,null,null,null,null,null,null,null,null,null,null,null,null,null,null,"",null,null,"",null,""]
[null,null,null,null,null,null,null,null,null,null,null,null,null,null,null,null,"",null,null,"",null,""]
[null,null,null,null,null,null,null,null,null,null,null,null,null,null,null,null,"",null,null,"",null,""]
[null,null,null,null,null,null,null,null,null,null,null,null,null,null,null,null,"",null,null,"",null,""]
[null,null,null,null,null,null,null,null,null,null,null,null,null,null,null,null,"",null,null,"",null,""]
[null,null,null,null,null,null,null,null,null,null,null,null,null,null,null,null,"",null,null,"",null,""]
[null,null,null,null,null,null,null,null,null,null,null,null,null,null,null,null,"",null,null,"",null,""]
[null,null,null,null,null,null,null,null,null,null,null,null,null,null,null,null,"",null,null,"",null,""]
[null,null,null,null,null,null,null,null,null,null,null,null,null,null,null,null,"",null,null,"",null,""]
[null,null,null,null,null,null,null,null,null,null,null,null,null,null,null,null,"",null,null,"",null,""]
[null,null,null,null,null,null,null,null,null,null,null,null,null,null,null,null,"",null,null,"",null,""]
[null,null,null,null,null,null,null,null,null,null,null,null,null,null,null,null,"",null,null,"",null,""]
[null,null,null,null,null,null,null,null,null,null,null,null,null,null,null,null,"",null,null,"",null,""]
[null,null,null,null,null,null,null,null,null,null,null,null,null,null,null,null,"",null,null,"",null,""]
[null,null,null,null,null,null,null,null,null,null,null,null,null,null,null,null,"",null,null,"",null,""]
[null,null,null,null,null,null,null,null,null,null,null,null,null,null,null,null,"",null,null,"",null,""]
[null,null,null,null,null,null,null,null,null,null,null,null,null,null,null,null,"",null,null,"",null,""]
[null,null,null,null,null,null,null,null,null,null,null,null,null,null,null,null,"",null,null,"",null,""]
[null,null,null,null,null,null,null,null,null,null,null,null,null,null,null,null,"",null,null,"",null,""]
[null,null,null,null,null,null,null,null,null,null,null,null,null,null,null,null,"",null,null,"",null,""]
[null,null,null,null,null,null,null,null,null,null,null,null,null,null,null,null,"",null,null,"",null,""]
[null,null,null,null,null,null,null,null,null,null,null,null,null,null,null,null,"",null,null,"",null,""]
[null,null,null,null,null,null,null,null,null,null,null,null,null,null,null,null,"",null,null,"",null,""]
[null,null,null,null,null,null,null,null,null,null,null,null,null,null,null,null,"",null,null,"",null,""]
[null,null,null,null,null,null,null,null,null,null,null,null,null,null,null,null,"",null,null,"",null,""]
[null,null,null,null,null,null,null,null,null,null,null,null,null,null,null,null,"",null,null,"",null,""]
[null,null,null,null,null,null,null,null,null,null,null,null,null,null,null,null,"",null,null,"",null,""]
[null,null,null,null,null,null,null,null,null,null,null,null,null,null,null,null,"",null,null,"",null,""]
[null,null,null,null,null,null,null,null,null,null,null,null,null,null,null,null,"",null,null,"",null,""]
[null,null,null,null,null,null,null,null,null,null,null,null,null,null,null,null,"",null,null,"",null,""]
[null,null,null,null,null,null,null,null,null,null,null,null,null,null,null,null,"",null,null,"",null,""]
[null,null,null,null,null,null,null,null,null,null,null,null,null,null,null,null,"",null,null,"",null,""]
[null,null,null,null,null,null,null,null,null,null,null,null,null,null,null,null,"",null,null,"",null,""]
[null,null,null,null,null,null,null,null,null,null,null,null,null,null,null,null,"",null,null,"",null,""]
[null,null,null,null,null,null,null,null,null,null,null,null,null,null,null,null,"",null,null,"",null,""]
[null,null,null,null,null,null,null,null,null,null,null,null,null,null,null,null,"",null,null,"",null,""]
[null,null,null,null,null,null,null,null,null,null,null,null,null,null,null,null,"",null,null,"",null,""]
[null,null,null,null,null,null,null,null,null,null,null,null,null,null,null,null,"",null,null,"",null,""]
[null,null,null,null,null,null,null,null,null,null,null,null,null,null,null,null,"",null,null,"",null,""]
[null,null,null,null,null,null,null,null,null,null,null,null,null,null,null,null,"",null,null,"",null,""]
[null,null,null,null,null,null,null,null,null,null,null,null,null,null,null,null,"",null,null,"",null,""]
[null,null,null,null,null,null,null,null,null,null,null,null,null,null,null,null,"",null,null,"",null,""]
[null,null,null,null,null,null,null,null,null,null,null,null,null,null,null,null,"",null,null,"",null,""]
[null,null,null,null,null,null,null,null,null,null,null,null,null,null,null,null,"",null,null,"",null,""]
[null,null,null,null,null,null,null,null,null,null,null,null,null,null,null,null,"",null,null,"",null,""]
[null,null,null,null,null,null,null,null,null,null,null,null,null,null,null,null,"",null,null,"",null,""]
[null,null,null,null,null,null,null,null,null,null,null,null,null,null,null,null,"",null,null,"",null,""]
[null,null,null,null,null,null,null,null,null,null,null,null,null,null,null,null,"",null,null,"",null,""]
[null,null,null,null,null,null,null,null,null,null,null,null,null,null,null,null,"",null,null,"",null,""]
[null,null,null,null,null,null,null,null,null,null,null,null,null,null,null,null,"",null,null,"",null,""]
[null,null,null,null,null,null,null,null,null,null,null,null,null,null,null,null,"",null,null,"",null,""]
[null,null,null,null,null,null,null,null,null,null,null,null,null,null,null,null,"",null,null,"",null,""]
[null,null,null,null,null,null,null,null,null,null,null,null,null,null,null,null,"",null,null,"",null,""]
[null,null,null,null,null,null,null,null,null,null,null,null,null,null,null,null,"",null,null,"",null,""]
[null,null,null,null,null,null,null,null,null,null,null,null,null,null,null,null,{"$f":"IF(M2173<>\"\",2,\"\")","v":""},null,null,"",null,""]
[null,null,null,null,null,null,null,null,null,null,null,null,null,null,null,null,"",null,null,"",null,""]
[null,null,null,null,null,null,null,null,null,null,null,null,null,null,null,null,"",null,null,"",null,""]
[null,null,null,null,null,null,null,null,null,null,null,null,null,null,null,null,"",null,null,"",null,""]
[null,null,null,null,null,null,null,null,null,null,null,null,null,null,null,null,"",null,null,"",null,""]
[null,null,null,null,null,null,null,null,null,null,null,null,null,null,null,null,"",null,null,"",null,""]
[null,null,null,null,null,null,null,null,null,null,null,null,null,null,null,null,"",null,null,"",null,""]
[null,null,null,null,null,null,null,null,null,null,null,null,null,null,null,null,"",null,null,"",null,""]
[null,null,null,null,null,null,null,null,null,null,null,null,null,null,null,null,"",null,null,"",null,""]
[null,null,null,null,null,null,null,null,null,null,null,null,null,null,null,null,"",null,null,"",null,""]
[null,null,null,null,null,null,null,null,null,null,null,null,null,null,null,null,"",null,null,"",null,""]
[null,null,null,null,null,null,null,null,null,null,null,null,null,null,null,null,"",null,null,"",null,""]
[null,null,null,null,null,null,null,null,null,null,null,null,null,null,null,null,"",null,null,"",null,""]
[null,null,null,null,null,null,null,null,null,null,null,null,null,null,null,null,"",null,null,"",null,""]
[null,null,null,null,null,null,null,null,null,null,null,null,null,null,null,null,"",null,null,"",null,""]
[null,null,null,null,null,null,null,null,null,null,null,null,null,null,null,null,"",null,null,"",null,""]
[null,null,null,null,null,null,null,null,null,null,null,null,null,null,null,null,"",null,null,"",null,""]
[null,null,null,null,null,null,null,null,null,null,null,null,null,null,null,null,"",null,null,{"$f":"IF(S2201<>\"\",S2201/9,\"\")","v":""},null,{"$f":"IF(U2201<>\"\",U2201/9,\"\")","v":""}]
[null,null,null,null,null,null,null,null,null,null,null,null,null,null,null,null,"",null,null,"",null,""]
[null,null,null,null,null,null,null,null,null,null,null,null,null,null,null,null,"",null,null,"",null,""]
[null,null,null,null,null,null,null,null,null,null,null,null,null,null,null,null,"",null,null,"",null,""]
[null,null,null,null,null,null,null,null,null,null,null,null,null,null,null,null,"",null,null,"",null,""]
[null,null,null,null,null,null,null,null,null,null,null,null,null,null,null,null,"",null,null,"",null,""]
[null,null,null,null,null,null,null,null,null,null,null,null,null,null,null,null,"",null,null,"",null,""]
[null,null,null,null,null,null,null,null,null,null,null,null,null,null,null,null,"",null,null,"",null,""]
[null,null,null,null,null,null,null,null,null,null,null,null,null,null,null,null,"",null,null,"",null,""]
[null,null,null,null,null,null,null,null,null,null,null,null,null,null,null,null,"",null,null,"",null,""]
[null,null,null,null,null,null,null,null,null,null,null,null,null,null,null,null,"",null,null,"",null,""]
[null,null,null,null,null,null,null,null,null,null,null,null,null,null,null,null,"",null,null,"",null,""]
[null,null,null,null,null,null,null,null,null,null,null,null,null,null,null,null,"",null,null,"",null,""]
[null,null,null,null,null,null,null,null,null,null,null,null,null,null,null,null,"",null,null,"",null,""]
[null,null,null,null,null,null,null,null,null,null,null,null,null,null,null,null,"",null,null,"",null,""]
[null,null,null,null,null,null,null,null,null,null,null,null,null,null,null,null,"",null,null,"",null,""]
[null,null,null,null,null,null,null,null,null,null,null,null,null,null,null,null,"",null,null,"",null,""]
[null,null,null,null,null,null,null,null,null,null,null,null,null,null,null,null,"",null,null,"",null,""]
[null,null,null,null,null,null,null,null,null,null,null,null,null,null,null,null,"",null,null,"",null,""]
[null,null,null,null,null,null,null,null,null,null,null,null,null,null,null,null,"",null,null,"",null,""]
[null,null,null,null,null,null,null,null,null,null,null,null,null,null,null,null,"",null,null,"",null,""]
[null,null,null,null,null,null,null,null,null,null,null,null,null,null,null,null,"",null,null,"",null,""]
[null,null,null,null,null,null,null,null,null,null,null,null,null,null,null,null,"",null,null,"",null,""]
[null,null,null,null,null,null,null,null,null,null,null,null,null,null,null,null,"",null,null,"",null,""]
[null,null,null,null,null,null,null,null,null,null,null,null,null,null,null,null,"",null,null,"",null,""]
[null,null,null,null,null,null,null,null,null,null,null,null,null,null,null,null,"",null,null,"",null,""]
[null,null,null,null,null,null,null,null,null,null,null,null,null,null,null,null,"",null,null,"",null,""]
[null,null,null,null,null,null,null,null,null,null,null,null,null,null,null,null,"",null,null,"",null,""]
[null,null,null,null,null,null,null,null,null,null,null,null,null,null,null,null,"",null,null,"",null,""]
[null,null,null,null,null,null,null,null,null,null,null,null,null,null,null,null,"",null,null,"",null,""]
[null,null,null,null,null,null,null,null,null,null,null,null,null,null,null,null,"",null,null,"",null,""]
[null,null,null,null,null,null,null,null,null,null,null,null,null,null,null,null,"",null,null,"",null,""]
[null,null,null,null,null,null,null,null,null,null,null,null,null,null,null,null,"",null,null,"",null,""]
[null,null,null,null,null,null,null,null,null,null,null,null,null,null,null,null,"",null,null,"",null,""]
[null,null,null,null,null,null,null,null,null,null,null,null,null,null,null,null,"",null,null,"",null,""]
[null,null,null,null,null,null,null,null,null,null,null,null,null,null,null,null,"",null,null,"",null,""]
[null,null,null,null,null,null,null,null,null,null,null,null,null,null,null,null,"",null,null,"",null,""]
[null,null,null,null,null,null,null,null,null,null,null,null,null,null,null,null,"",null,null,{"$f":"IF(S2265<>\"\",S2265/9,\"\")","v":""},null,{"$f":"IF(U2265<>\"\",U2265/9,\"\")","v":""}]
[null,null,null,null,null,null,null,null,null,null,null,null,null,null,null,null,"",null,null,"",null,""]
[null,null,null,null,null,null,null,null,null,null,null,null,null,null,null,null,"",null,null,"",null,""]
[null,null,null,null,null,null,null,null,null,null,null,null,null,null,null,null,"",null,null,"",null,""]
[null,null,null,null,null,null,null,null,null,null,null,null,null,null,null,null,"",null,null,"",null,""]
[null,null,null,null,null,null,null,null,null,null,null,null,null,null,null,null,"",null,null,"",null,""]
[null,null,null,null,null,null,null,null,null,null,null,null,null,null,null,null,"",null,null,"",null,""]
[null,null,null,null,null,null,null,null,null,null,null,null,null,null,null,null,"",null,null,"",null,""]
[null,null,null,null,null,null,null,null,null,null,null,null,null,null,null,null,"",null,null,"",null,""]
[null,null,null,null,null,null,null,null,null,null,null,null,null,null,null,null,"",null,null,"",null,""]
[null,null,null,null,null,null,null,null,null,null,null,null,null,null,null,null,"",null,null,"",null,""]
[null,null,null,null,null,null,null,null,null,null,null,null,null,null,null,null,"",null,null,"",null,""]
[null,null,null,null,null,null,null,null,null,null,null,null,null,null,null,null,"",null,null,"",null,""]
[null,null,null,null,null,null,null,null,null,null,null,null,null,null,null,null,"",null,null,"",null,""]
[null,null,null,null,null,null,null,null,null,null,null,null,null,null,null,null,"",null,null,"",null,""]
[null,null,null,null,null,null,null,null,null,null,null,null,null,null,null,null,"",null,null,"",null,""]
[null,null,null,null,null,null,null,null,null,null,null,null,null,null,null,null,"",null,null,"",null,""]
[null,null,null,null,null,null,null,null,null,null,null,null,null,null,null,null,"",null,null,"",null,""]
[null,null,null,null,null,null,null,null,null,null,null,null,null,null,null,null,"",null,null,"",null,""]
[null,null,null,null,null,null,null,null,null,null,null,null,null,null,null,null,"",null,null,"",null,""]
[null,null,null,null,null,null,null,null,null,null,null,null,null,null,null,null,"",null,null,"",null,""]
[null,null,null,null,null,null,null,null,null,null,null,null,null,null,null,null,"",null,null,"",null,""]
[null,null,null,null,null,null,null,null,null,null,null,null,null,null,null,null,"",null,null,"",null,""]
[null,null,null,null,null,null,null,null,null,null,null,null,null,null,null,null,"",null,null,"",null,""]
[null,null,null,null,null,null,null,null,null,null,null,null,null,null,null,null,"",null,null,"",null,""]
[null,null,null,null,null,null,null,null,null,null,null,null,null,null,null,null,"",null,null,"",null,""]
[null,null,null,null,null,null,null,null,null,null,null,null,null,null,null,null,"",null,null,"",null,""]
[null,null,null,null,null,null,null,null,null,null,null,null,null,null,null,null,"",null,null,"",null,""]
[null,null,null,null,null,null,null,null,null,null,null,null,null,null,null,null,"",null,null,"",null,""]
[null,null,null,null,null,null,null,null,null,null,null,null,null,null,null,null,"",null,null,"",null,""]
[null,null,null,null,null,null,null,null,null,null,null,null,null,null,null,null,"",null,null,"",null,""]
[null,null,null,null,null,null,null,null,null,null,null,null,null,null,null,null,"",null,null,"",null,""]
[null,null,null,null,null,null,null,null,null,null,null,null,null,null,null,null,"",null,null,"",null,""]
[null,null,null,null,null,null,null,null,null,null,null,null,null,null,null,null,"",null,null,"",null,""]
[null,null,null,null,null,null,null,null,null,null,null,null,null,null,null,null,"",null,null,"",null,""]
[null,null,null,null,null,null,null,null,null,null,null,null,null,null,null,null,"",null,null,"",null,""]
[null,null,null,null,null,null,null,null,null,null,null,null,null,null,null,null,"",null,null,"",null,""]
[null,null,null,null,null,null,null,null,null,null,null,null,null,null,null,null,"",null,null,"",null,""]
[null,null,null,null,null,null,null,null,null,null,null,null,null,null,null,null,"",null,null,"",null,""]
[null,null,null,null,null,null,null,null,null,null,null,null,null,null,null,null,"",null,null,"",null,""]
[null,null,null,null,null,null,null,null,null,null,null,null,null,null,null,null,"",null,null,"",null,""]
[null,null,null,null,null,null,null,null,null,null,null,null,null,null,null,null,"",null,null,"",null,""]
[null,null,null,null,null,null,null,null,null,null,null,null,null,null,null,null,"",null,null,"",null,""]
[null,null,null,null,null,null,null,null,null,null,null,null,null,null,null,null,"",null,null,"",null,""]
[null,null,null,null,null,null,null,null,null,null,null,null,null,null,null,null,"",null,null,"",null,""]
[null,null,null,null,null,null,null,null,null,null,null,null,null,null,null,null,"",null,null,"",null,""]
[null,null,null,null,null,null,null,null,null,null,null,null,null,null,null,null,"",null,null,"",null,""]
[null,null,null,null,null,null,null,null,null,null,null,null,null,null,null,null,"",null,null,"",null,""]
[null,null,null,null,null,null,null,null,null,null,null,null,null,null,null,null,"",null,null,"",null,""]
[null,null,null,null,null,null,null,null,null,null,null,null,null,null,null,null,"",null,null,"",null,""]
[null,null,null,null,null,null,null,null,null,null,null,null,null,null,null,null,"",null,null,"",null,""]
[null,null,null,null,null,null,null,null,null,null,null,null,null,null,null,null,"",null,null,"",null,""]
[null,null,null,null,null,null,null,null,null,null,null,null,null,null,null,null,"",null,null,"",null,""]
[null,null,null,null,null,null,null,null,null,null,null,null,null,null,null,null,"",null,null,"",null,""]
[null,null,null,null,null,null,null,null,null,null,null,null,null,null,null,null,"",null,null,"",null,""]
[null,null,null,null,null,null,null,null,null,null,null,null,null,null,null,null,"",null,null,"",null,""]
[null,null,null,null,null,null,null,null,null,null,null,null,null,null,null,null,"",null,null,"",null,""]
[null,null,null,null,null,null,null,null,null,null,null,null,null,null,null,null,"",null,null,"",null,""]
[null,null,null,null,null,null,null,null,null,null,null,null,null,null,null,null,{"$f":"IF(M2365<>\"\",2,\"\")","v":""},null,null,"",null,""]
[null,null,null,null,null,null,null,null,null,null,null,null,null,null,null,null,"",null,null,"",null,""]
[null,null,null,null,null,null,null,null,null,null,null,null,null,null,null,null,"",null,null,"",null,""]
[null,null,null,null,null,null,null,null,null,null,null,null,null,null,null,null,"",null,null,"",null,""]
[null,null,null,null,null,null,null,null,null,null,null,null,null,null,null,null,"",null,null,"",null,""]
[null,null,null,null,null,null,null,null,null,null,null,null,null,null,null,null,"",null,null,"",null,""]
[null,null,null,null,null,null,null,null,null,null,null,null,null,null,null,null,"",null,null,"",null,""]
[null,null,null,null,null,null,null,null,null,null,null,null,null,null,null,null,"",null,null,"",null,""]
[null,null,null,null,null,null,null,null,null,null,null,null,null,null,null,null,"",null,null,"",null,""]
[null,null,null,null,null,null,null,null,null,null,null,null,null,null,null,null,"",null,null,"",null,""]
[null,null,null,null,null,null,null,null,null,null,null,null,null,null,null,null,"",null,null,"",null,""]
[null,null,null,null,null,null,null,null,null,null,null,null,null,null,null,null,"",null,null,"",null,""]
[null,null,null,null,null,null,null,null,null,null,null,null,null,null,null,null,"",null,null,"",null,""]
[null,null,null,null,null,null,null,null,null,null,null,null,null,null,null,null,"",null,null,"",null,""]
[null,null,null,null,null,null,null,null,null,null,null,null,null,null,null,null,"",null,null,"",null,""]
[null,null,null,null,null,null,null,null,null,null,null,null,null,null,null,null,"",null,null,"",null,""]
[null,null,null,null,null,null,null,null,null,null,null,null,null,null,null,null,"",null,null,"",null,""]
[null,null,null,null,null,null,null,null,null,null,null,null,null,null,null,null,"",null,null,{"$f":"IF(S2393<>\"\",S2393/9,\"\")","v":""},null,{"$f":"IF(U2393<>\"\",U2393/9,\"\")","v":""}]
[null,null,null,null,null,null,null,null,null,null,null,null,null,null,null,null,"",null,null,"",null,""]
[null,null,null,null,null,null,null,null,null,null,null,null,null,null,null,null,"",null,null,"",null,""]
[null,null,null,null,null,null,null,null,null,null,null,null,null,null,null,null,"",null,null,"",null,""]
[null,null,null,null,null,null,null,null,null,null,null,null,null,null,null,null,"",null,null,"",null,""]
[null,null,null,null,null,null,null,null,null,null,null,null,null,null,null,null,"",null,null,"",null,""]
[null,null,null,null,null,null,null,null,null,null,null,null,null,null,null,null,"",null,null,"",null,""]
[null,null,null,null,null,null,null,null,null,null,null,null,null,null,null,null,"",null,null,"",null,""]
[null,null,null,null,null,null,null,null,null,null,null,null,null,null,null,null,"",null,null,"",null,""]
[null,null,null,null,null,null,null,null,null,null,null,null,null,null,null,null,"",null,null,"",null,""]
[null,null,null,null,null,null,null,null,null,null,null,null,null,null,null,null,"",null,null,"",null,""]
[null,null,null,null,null,null,null,null,null,null,null,null,null,null,null,null,"",null,null,"",null,""]
[null,null,null,null,null,null,null,null,null,null,null,null,null,null,null,null,"",null,null,"",null,""]
[null,null,null,null,null,null,null,null,null,null,null,null,null,null,null,null,"",null,null,"",null,""]
[null,null,null,null,null,null,null,null,null,null,null,null,null,null,null,null,"",null,null,"",null,""]
[null,null,null,null,null,null,null,null,null,null,null,null,null,null,null,null,"",null,null,"",null,""]
[null,null,null,null,null,null,null,null,null,null,null,null,null,null,null,null,"",null,null,"",null,""]
[null,null,null,null,null,null,null,null,null,null,null,null,null,null,null,null,"",null,null,"",null,""]
[null,null,null,null,null,null,null,null,null,null,null,null,null,null,null,null,"",null,null,"",null,""]
[null,null,null,null,null,null,null,null,null,null,null,null,null,null,null,null,"",null,null,"",null,""]
[null,null,null,null,null,null,null,null,null,null,null,null,null,null,null,null,"",null,null,"",null,""]
[null,null,null,null,null,null,null,null,null,null,null,null,null,null,null,null,"",null,null,"",null,""]
[null,null,null,null,null,null,null,null,null,null,null,null,null,null,null,null,"",null,null,"",null,""]
[null,null,null,null,null,null,null,null,null,null,null,null,null,null,null,null,"",null,null,"",null,""]
[null,null,null,null,null,null,null,null,null,null,null,null,null,null,null,null,"",null,null,"",null,""]
[null,null,null,null,null,null,null,null,null,null,null,null,null,null,null,null,"",null,null,"",null,""]
[null,null,null,null,null,null,null,null,null,null,null,null,null,null,null,null,"",null,null,"",null,""]
[null,null,null,null,null,null,null,null,null,null,null,null,null,null,null,null,"",null,null,"",null,""]
[null,null,null,null,null,null,null,null,null,null,null,null,null,null,null,null,"",null,null,"",null,""]
[null,null,null,null,null,null,null,null,null,null,null,null,null,null,null,null,"",null,null,"",null,""]
[null,null,null,null,null,null,null,null,null,null,null,null,null,null,null,null,"",null,null,"",null,""]
[null,null,null,null,null,null,null,null,null,null,null,null,null,null,null,null,"",null,null,"",null,""]
[null,null,null,null,null,null,null,null,null,null,null,null,null,null,null,null,"",null,null,"",null,""]
[null,null,null,null,null,null,null,null,null,null,null,null,null,null,null,null,"",null,null,"",null,""]
[null,null,null,null,null,null,null,null,null,null,null,null,null,null,null,null,"",null,null,"",null,""]
[null,null,null,null,null,null,null,null,null,null,null,null,null,null,null,null,"",null,null,"",null,""]
[null,null,null,null,null,null,null,null,null,null,null,null,null,null,null,null,"",null,null,"",null,""]
[null,null,null,null,null,null,null,null,null,null,null,null,null,null,null,null,"",null,null,{"$f":"IF(S2457<>\"\",S2457/9,\"\")","v":""},null,{"$f":"IF(U2457<>\"\",U2457/9,\"\")","v":""}]
[null,null,null,null,null,null,null,null,null,null,null,null,null,null,null,null,"",null,null,"",null,""]
[null,null,null,null,null,null,null,null,null,null,null,null,null,null,null,null,"",null,null,"",null,""]
[null,null,null,null,null,null,null,null,null,null,null,null,null,null,null,null,"",null,null,"",null,""]
[null,null,null,null,null,null,null,null,null,null,null,null,null,null,null,null,"",null,null,"",null,""]
[null,null,null,null,null,null,null,null,null,null,null,null,null,null,null,null,"",null,null,"",null,""]
[null,null,null,null,null,null,null,null,null,null,null,null,null,null,null,null,"",null,null,"",null,""]
[null,null,null,null,null,null,null,null,null,null,null,null,null,null,null,null,"",null,null,"",null,""]
[null,null,null,null,null,null,null,null,null,null,null,null,null,null,null,null,"",null,null,"",null,""]
[null,null,null,null,null,null,null,null,null,null,null,null,null,null,null,null,"",null,null,"",null,""]
[null,null,null,null,null,null,null,null,null,null,null,null,null,null,null,null,"",null,null,"",null,""]
[null,null,null,null,null,null,null,null,null,null,null,null,null,null,null,null,"",null,null,"",null,""]
[null,null,null,null,null,null,null,null,null,null,null,null,null,null,null,null,"",null,null,"",null,""]
[null,null,null,null,null,null,null,null,null,null,null,null,null,null,null,null,"",null,null,"",null,""]
[null,null,null,null,null,null,null,null,null,null,null,null,null,null,null,null,"",null,null,"",null,""]
[null,null,null,null,null,null,null,null,null,null,null,null,null,null,null,null,"",null,null,"",null,""]
[null,null,null,null,null,null,null,null,null,null,null,null,null,null,null,null,"",null,null,"",null,""]
[null,null,null,null,null,null,null,null,null,null,null,null,null,null,null,null,"",null,null,"",null,""]
[null,null,null,null,null,null,null,null,null,null,null,null,null,null,null,null,"",null,null,"",null,""]
[null,null,null,null,null,null,null,null,null,null,null,null,null,null,null,null,"",null,null,"",null,""]
[null,null,null,null,null,null,null,null,null,null,null,null,null,null,null,null,"",null,null,"",null,""]
[null,null,null,null,null,null,null,null,null,null,null,null,null,null,null,null,"",null,null,"",null,""]
[null,null,null,null,null,null,null,null,null,null,null,null,null,null,null,null,"",null,null,"",null,""]
[null,null,null,null,null,null,null,null,null,null,null,null,null,null,null,null,"",null,null,"",null,""]
[null,null,null,null,null,null,null,null,null,null,null,null,null,null,null,null,"",null,null,"",null,""]
[null,null,null,null,null,null,null,null,null,null,null,null,null,null,null,null,"",null,null,"",null,""]
[null,null,null,null,null,null,null,null,null,null,null,null,null,null,null,null,"",null,null,"",null,""]
[null,null,null,null,null,null,null,null,null,null,null,null,null,null,null,null,"",null,null,"",null,""]
[null,null,null,null,null,null,null,null,null,null,null,null,null,null,null,null,"",null,null,"",null,""]
[null,null,null,null,null,null,null,null,null,null,null,null,null,null,null,null,"",null,null,"",null,""]
[null,null,null,null,null,null,null,null,null,null,null,null,null,null,null,null,"",null,null,"",null,""]
[null,null,null,null,null,null,null,null,null,null,null,null,null,null,null,null,"",null,null,"",null,""]
[null,null,null,null,null,null,null,null,null,null,null,null,null,null,null,null,"",null,null,"",null,""]
[null,null,null,null,null,null,null,null,null,null,null,null,null,null,null,null,"",null,null,"",null,""]
[null,null,null,null,null,null,null,null,null,null,null,null,null,null,null,null,"",null,null,"",null,""]
[null,null,null,null,null,null,null,null,null,null,null,null,null,null,null,null,"",null,null,"",null,""]
[null,null,null,null,null,null,null,null,null,null,null,null,null,null,null,null,"",null,null,"",null,""]
[null,null,null,null,null,null,null,null,null,null,null,null,null,null,null,null,"",null,null,"",null,""]
[null,null,null,null,null,null,null,null,null,null,null,null,null,null,null,null,"",null,null,"",null,""]
[null,null,null,null,null,null,null,null,null,null,null,null,null,null,null,null,"",null,null,"",null,""]
[null,null,null,null,null,null,null,null,null,null,null,null,null,null,null,null,"",null,null,"",null,""]
[null,null,null,null,null,null,null,null,null,null,null,null,null,null,null,null,"",null,null,"",null,""]
[null,null,null,null,null,null,null,null,null,null,null,null,null,null,null,null,"",null,null,"",null,""]
[null,null,null,null,null,null,null,null,null,null,null,null,null,null,null,null,"",null,null,"",null,""]
[null,null,null,null,null,null,null,null,null,null,null,null,null,null,null,null,"",null,null,"",null,""]
[null,null,null,null,null,null,null,null,null,null,null,null,null,null,null,null,"",null,null,"",null,""]
[null,null,null,null,null,null,null,null,null,null,null,null,null,null,null,null,"",null,null,"",null,""]
[null,null,null,null,null,null,null,null,null,null,null,null,null,null,null,null,"",null,null,"",null,""]
[null,null,null,null,null,null,null,null,null,null,null,null,null,null,null,null,"",null,null,"",null,""]
[null,null,null,null,null,null,null,null,null,null,null,null,null,null,null,null,"",null,null,"",null,""]
[null,null,null,null,null,null,null,null,null,null,null,null,null,null,null,null,"",null,null,"",null,""]
[null,null,null,null,null,null,null,null,null,null,null,null,null,null,null,null,"",null,null,"",null,""]
[null,null,null,null,null,null,null,null,null,null,null,null,null,null,null,null,"",null,null,"",null,""]
[null,null,null,null,null,null,null,null,null,null,null,null,null,null,null,null,"",null,null,"",null,""]
[null,null,null,null,null,null,null,null,null,null,null,null,null,null,null,null,"",null,null,"",null,""]
[null,null,null,null,null,null,null,null,null,null,null,null,null,null,null,null,"",null,null,"",null,""]
[null,null,null,null,null,null,null,null,null,null,null,null,null,null,null,null,"",null,null,"",null,""]
[null,null,null,null,null,null,null,null,null,null,null,null,null,null,null,null,"",null,null,"",null,""]
[null,null,null,null,null,null,null,null,null,null,null,null,null,null,null,null,{"$f":"IF(M2557<>\"\",2,\"\")","v":""},null,null,"",null,""]
[null,null,null,null,null,null,null,null,null,null,null,null,null,null,null,null,"",null,null,"",null,""]
[null,null,null,null,null,null,null,null,null,null,null,null,null,null,null,null,"",null,null,"",null,""]
[null,null,null,null,null,null,null,null,null,null,null,null,null,null,null,null,"",null,null,"",null,""]
[null,null,null,null,null,null,null,null,null,null,null,null,null,null,null,null,"",null,null,"",null,""]
[null,null,null,null,null,null,null,null,null,null,null,null,null,null,null,null,"",null,null,"",null,""]
[null,null,null,null,null,null,null,null,null,null,null,null,null,null,null,null,"",null,null,"",null,""]
[null,null,null,null,null,null,null,null,null,null,null,null,null,null,null,null,"",null,null,"",null,""]
[null,null,null,null,null,null,null,null,null,null,null,null,null,null,null,null,"",null,null,"",null,""]
[null,null,null,null,null,null,null,null,null,null,null,null,null,null,null,null,"",null,null,"",null,""]
[null,null,null,null,null,null,null,null,null,null,null,null,null,null,null,null,"",null,null,"",null,""]
[null,null,null,null,null,null,null,null,null,null,null,null,null,null,null,null,"",null,null,"",null,""]
[null,null,null,null,null,null,null,null,null,null,null,null,null,null,null,null,"",null,null,"",null,""]
[null,null,null,null,null,null,null,null,null,null,null,null,null,null,null,null,"",null,null,"",null,""]
[null,null,null,null,null,null,null,null,null,null,null,null,null,null,null,null,"",null,null,"",null,""]
[null,null,null,null,null,null,null,null,null,null,null,null,null,null,null,null,"",null,null,"",null,""]
[null,null,null,null,null,null,null,null,null,null,null,null,null,null,null,null,"",null,null,"",null,""]
[null,null,null,null,null,null,null,null,null,null,null,null,null,null,null,null,"",null,null,{"$f":"IF(S2585<>\"\",S2585/9,\"\")","v":""},null,{"$f":"IF(U2585<>\"\",U2585/9,\"\")","v":""}]
[null,null,null,null,null,null,null,null,null,null,null,null,null,null,null,null,"",null,null,"",null,""]
[null,null,null,null,null,null,null,null,null,null,null,null,null,null,null,null,"",null,null,"",null,""]
[null,null,null,null,null,null,null,null,null,null,null,null,null,null,null,null,"",null,null,"",null,""]
[null,null,null,null,null,null,null,null,null,null,null,null,null,null,null,null,"",null,null,"",null,""]
[null,null,null,null,null,null,null,null,null,null,null,null,null,null,null,null,"",null,null,"",null,""]
[null,null,null,null,null,null,null,null,null,null,null,null,null,null,null,null,"",null,null,"",null,""]
[null,null,null,null,null,null,null,null,null,null,null,null,null,null,null,null,"",null,null,"",null,""]
[null,null,null,null,null,null,null,null,null,null,null,null,null,null,null,null,"",null,null,"",null,""]
[null,null,null,null,null,null,null,null,null,null,null,null,null,null,null,null,"",null,null,"",null,""]
[null,null,null,null,null,null,null,null,null,null,null,null,null,null,null,null,"",null,null,"",null,""]
[null,null,null,null,null,null,null,null,null,null,null,null,null,null,null,null,"",null,null,"",null,""]
[null,null,null,null,null,null,null,null,null,null,null,null,null,null,null,null,"",null,null,"",null,""]
[null,null,null,null,null,null,null,null,null,null,null,null,null,null,null,null,"",null,null,"",null,""]
[null,null,null,null,null,null,null,null,null,null,null,null,null,null,null,null,"",null,null,"",null,""]
[null,null,null,null,null,null,null,null,null,null,null,null,null,null,null,null,"",null,null,"",null,""]
[null,null,null,null,null,null,null,null,null,null,null,null,null,null,null,null,"",null,null,"",null,""]
[null,null,null,null,null,null,null,null,null,null,null,null,null,null,null,null,"",null,null,"",null,""]
[null,null,null,null,null,null,null,null,null,null,null,null,null,null,null,null,"",null,null,"",null,""]
[null,null,null,null,null,null,null,null,null,null,null,null,null,null,null,null,"",null,null,"",null,""]
[null,null,null,null,null,null,null,null,null,null,null,null,null,null,null,null,"",null,null,"",null,""]
[null,null,null,null,null,null,null,null,null,null,null,null,null,null,null,null,"",null,null,"",null,""]
[null,null,null,null,null,null,null,null,null,null,null,null,null,null,null,null,"",null,null,"",null,""]
[null,null,null,null,null,null,null,null,null,null,null,null,null,null,null,null,"",null,null,"",null,""]
[null,null,null,null,null,null,null,null,null,null,null,null,null,null,null,null,"",null,null,"",null,""]
[null,null,null,null,null,null,null,null,null,null,null,null,null,null,null,null,"",null,null,"",null,""]
[null,null,null,null,null,null,null,null,null,null,null,null,null,null,null,null,"",null,null,"",null,""]
[null,null,null,null,null,null,null,null,null,null,null,null,null,null,null,null,"",null,null,"",null,""]
[null,null,null,null,null,null,null,null,null,null,null,null,null,null,null,null,"",null,null,"",null,""]
[null,null,null,null,null,null,null,null,null,null,null,null,null,null,null,null,"",null,null,"",null,""]
[null,null,null,null,null,null,null,null,null,null,null,null,null,null,null,null,"",null,null,"",null,""]
[null,null,null,null,null,null,null,null,null,null,null,null,null,null,null,null,"",null,null,"",null,""]
[null,null,null,null,null,null,null,null,null,null,null,null,null,null,null,null,"",null,null,"",null,""]
[null,null,null,null,null,null,null,null,null,null,null,null,null,null,null,null,"",null,null,"",null,""]
[null,null,null,null,null,null,null,null,null,null,null,null,null,null,null,null,"",null,null,"",null,""]
[null,null,null,null,null,null,null,null,null,null,null,null,null,null,null,null,"",null,null,"",null,""]
[null,null,null,null,null,null,null,null,null,null,null,null,null,null,null,null,"",null,null,"",null,""]
[null,null,null,null,null,null,null,null,null,null,null,null,null,null,null,null,"",null,null,{"$f":"IF(S2649<>\"\",S2649/9,\"\")","v":""},null,{"$f":"IF(U2649<>\"\",U2649/9,\"\")","v":""}]
[null,null,null,null,null,null,null,null,null,null,null,null,null,null,null,null,"",null,null,"",null,""]
[null,null,null,null,null,null,null,null,null,null,null,null,null,null,null,null,"",null,null,"",null,""]
[null,null,null,null,null,null,null,null,null,null,null,null,null,null,null,null,"",null,null,"",null,""]
[null,null,null,null,null,null,null,null,null,null,null,null,null,null,null,null,"",null,null,"",null,""]
[null,null,null,null,null,null,null,null,null,null,null,null,null,null,null,null,"",null,null,"",null,""]
[null,null,null,null,null,null,null,null,null,null,null,null,null,null,null,null,"",null,null,"",null,""]
[null,null,null,null,null,null,null,null,null,null,null,null,null,null,null,null,"",null,null,"",null,""]
[null,null,null,null,null,null,null,null,null,null,null,null,null,null,null,null,"",null,null,"",null,""]
[null,null,null,null,null,null,null,null,null,null,null,null,null,null,null,null,"",null,null,"",null,""]
[null,null,null,null,null,null,null,null,null,null,null,null,null,null,null,null,"",null,null,"",null,""]
[null,null,null,null,null,null,null,null,null,null,null,null,null,null,null,null,"",null,null,"",null,""]
[null,null,null,null,null,null,null,null,null,null,null,null,null,null,null,null,"",null,null,"",null,""]
[null,null,null,null,null,null,null,null,null,null,null,null,null,null,null,null,"",null,null,"",null,""]
[null,null,null,null,null,null,null,null,null,null,null,null,null,null,null,null,"",null,null,"",null,""]
[null,null,null,null,null,null,null,null,null,null,null,null,null,null,null,null,"",null,null,"",null,""]
[null,null,null,null,null,null,null,null,null,null,null,null,null,null,null,null,"",null,null,"",null,""]
[null,null,null,null,null,null,null,null,null,null,null,null,null,null,null,null,"",null,null,"",null,""]
[null,null,null,null,null,null,null,null,null,null,null,null,null,null,null,null,"",null,null,"",null,""]
[null,null,null,null,null,null,null,null,null,null,null,null,null,null,null,null,"",null,null,"",null,""]
[null,null,null,null,null,null,null,null,null,null,null,null,null,null,null,null,"",null,null,"",null,""]
[null,null,null,null,null,null,null,null,null,null,null,null,null,null,null,null,"",null,null,"",null,""]
[null,null,null,null,null,null,null,null,null,null,null,null,null,null,null,null,"",null,null,"",null,""]
[null,null,null,null,null,null,null,null,null,null,null,null,null,null,null,null,"",null,null,"",null,""]
[null,null,null,null,null,null,null,null,null,null,null,null,null,null,null,null,"",null,null,"",null,""]
[null,null,null,null,null,null,null,null,null,null,null,null,null,null,null,null,"",null,null,"",null,""]
[null,null,null,null,null,null,null,null,null,null,null,null,null,null,null,null,"",null,null,"",null,""]
[null,null,null,null,null,null,null,null,null,null,null,null,null,null,null,null,"",null,null,"",null,""]
[null,null,null,null,null,null,null,null,null,null,null,null,null,null,null,null,"",null,null,"",null,""]
[null,null,null,null,null,null,null,null,null,null,null,null,null,null,null,null,"",null,null,"",null,""]
[null,null,null,null,null,null,null,null,null,null,null,null,null,null,null,null,"",null,null,"",null,""]
[null,null,null,null,null,null,null,null,null,null,null,null,null,null,null,null,"",null,null,"",null,""]
[null,null,null,null,null,null,null,null,null,null,null,null,null,null,null,null,"",null,null,"",null,""]
[null,null,null,null,null,null,null,null,null,null,null,null,null,null,null,null,"",null,null,"",null,""]
[null,null,null,null,null,null,null,null,null,null,null,null,null,null,null,null,"",null,null,"",null,""]
[null,null,null,null,null,null,null,null,null,null,null,null,null,null,null,null,"",null,null,"",null,""]
[null,null,null,null,null,null,null,null,null,null,null,null,null,null,null,null,"",null,null,"",null,""]
[null,null,null,null,null,null,null,null,null,null,null,null,null,null,null,null,"",null,null,"",null,""]
[null,null,null,null,null,null,null,null,null,null,null,null,null,null,null,null,"",null,null,"",null,""]
[null,null,null,null,null,null,null,null,null,null,null,null,null,null,null,null,"",null,null,"",null,""]
[null,null,null,null,null,null,null,null,null,null,null,null,null,null,null,null,"",null,null,"",null,""]
[null,null,null,null,null,null,null,null,null,null,null,null,null,null,null,null,"",null,null,"",null,""]
[null,null,null,null,null,null,null,null,null,null,null,null,null,null,null,null,"",null,null,"",null,""]
[null,null,null,null,null,null,null,null,null,null,null,null,null,null,null,null,"",null,null,"",null,""]
[null,null,null,null,null,null,null,null,null,null,null,null,null,null,null,null,"",null,null,"",null,""]
[null,null,null,null,null,null,null,null,null,null,null,null,null,null,null,null,"",null,null,"",null,""]
[null,null,null,null,null,null,null,null,null,null,null,null,null,null,null,null,"",null,null,"",null,""]
[null,null,null,null,null,null,null,null,null,null,null,null,null,null,null,null,"",null,null,"",null,""]
[null,null,null,null,null,null,null,null,null,null,null,null,null,null,null,null,"",null,null,"",null,""]
[null,null,null,null,null,null,null,null,null,null,null,null,null,null,null,null,"",null,null,"",null,""]
[null,null,null,null,null,null,null,null,null,null,null,null,null,null,null,null,"",null,null,"",null,""]
[null,null,null,null,null,null,null,null,null,null,null,null,null,null,null,null,"",null,null,"",null,""]
[null,null,null,null,null,null,null,null,null,null,null,null,null,null,null,null,"",null,null,"",null,""]
[null,null,null,null,null,null,null,null,null,null,null,null,null,null,null,null,"",null,null,"",null,""]
[null,null,null,null,null,null,null,null,null,null,null,null,null,null,null,null,"",null,null,"",null,""]
[null,null,null,null,null,null,null,null,null,null,null,null,null,null,null,null,"",null,null,"",null,""]
[null,null,null,null,null,null,null,null,null,null,null,null,null,null,null,null,"",null,null,"",null,""]
[null,null,null,null,null,null,null,null,null,null,null,null,null,null,null,null,"",null,null,"",null,""]
[null,null,null,null,null,null,null,null,null,null,null,null,null,null,null,null,{"$f":"IF(M2749<>\"\",2,\"\")","v":""},null,null,"",null,""]
[null,null,null,null,null,null,null,null,null,null,null,null,null,null,null,null,"",null,null,"",null,""]
[null,null,null,null,null,null,null,null,null,null,null,null,null,null,null,null,"",null,null,"",null,""]
[null,null,null,null,null,null,null,null,null,null,null,null,null,null,null,null,"",null,null,"",null,""]
[null,null,null,null,null,null,null,null,null,null,null,null,null,null,null,null,"",null,null,"",null,""]
[null,null,null,null,null,null,null,null,null,null,null,null,null,null,null,null,"",null,null,"",null,""]
[null,null,null,null,null,null,null,null,null,null,null,null,null,null,null,null,"",null,null,"",null,""]
[null,null,null,null,null,null,null,null,null,null,null,null,null,null,null,null,"",null,null,"",null,""]
[null,null,null,null,null,null,null,null,null,null,null,null,null,null,null,null,"",null,null,"",null,""]
[null,null,null,null,null,null,null,null,null,null,null,null,null,null,null,null,"",null,null,"",null,""]
[null,null,null,null,null,null,null,null,null,null,null,null,null,null,null,null,"",null,null,"",null,""]
[null,null,null,null,null,null,null,null,null,null,null,null,null,null,null,null,"",null,null,"",null,""]
[null,null,null,null,null,null,null,null,null,null,null,null,null,null,null,null,"",null,null,"",null,""]
[null,null,null,null,null,null,null,null,null,null,null,null,null,null,null,null,"",null,null,"",null,""]
[null,null,null,null,null,null,null,null,null,null,null,null,null,null,null,null,"",null,null,"",null,""]
[null,null,null,null,null,null,null,null,null,null,null,null,null,null,null,null,"",null,null,"",null,""]
[null,null,null,null,null,null,null,null,null,null,null,null,null,null,null,null,"",null,null,"",null,""]
[null,null,null,null,null,null,null,null,null,null,null,null,null,null,null,null,"",null,null,{"$f":"IF(S2777<>\"\",S2777/9,\"\")","v":""},null,{"$f":"IF(U2777<>\"\",U2777/9,\"\")","v":""}]
[null,null,null,null,null,null,null,null,null,null,null,null,null,null,null,null,"",null,null,"",null,""]
[null,null,null,null,null,null,null,null,null,null,null,null,null,null,null,null,"",null,null,"",null,""]
[null,null,null,null,null,null,null,null,null,null,null,null,null,null,null,null,"",null,null,"",null,""]
[null,null,null,null,null,null,null,null,null,null,null,null,null,null,null,null,"",null,null,"",null,""]
[null,null,null,null,null,null,null,null,null,null,null,null,null,null,null,null,"",null,null,"",null,""]
[null,null,null,null,null,null,null,null,null,null,null,null,null,null,null,null,"",null,null,"",null,""]
[null,null,null,null,null,null,null,null,null,null,null,null,null,null,null,null,"",null,null,"",null,""]
[null,null,null,null,null,null,null,null,null,null,null,null,null,null,null,null,"",null,null,"",null,""]
[null,null,null,null,null,null,null,null,null,null,null,null,null,null,null,null,"",null,null,"",null,""]
[null,null,null,null,null,null,null,null,null,null,null,null,null,null,null,null,"",null,null,"",null,""]
[null,null,null,null,null,null,null,null,null,null,null,null,null,null,null,null,"",null,null,"",null,""]
[null,null,null,null,null,null,null,null,null,null,null,null,null,null,null,null,"",null,null,"",null,""]
[null,null,null,null,null,null,null,null,null,null,null,null,null,null,null,null,"",null,null,"",null,""]
[null,null,null,null,null,null,null,null,null,null,null,null,null,null,null,null,"",null,null,"",null,""]
[null,null,null,null,null,null,null,null,null,null,null,null,null,null,null,null,"",null,null,"",null,""]
[null,null,null,null,null,null,null,null,null,null,null,null,null,null,null,null,"",null,null,"",null,""]
[null,null,null,null,null,null,null,null,null,null,null,null,null,null,null,null,"",null,null,"",null,""]
[null,null,null,null,null,null,null,null,null,null,null,null,null,null,null,null,"",null,null,"",null,""]
[null,null,null,null,null,null,null,null,null,null,null,null,null,null,null,null,"",null,null,"",null,""]
[null,null,null,null,null,null,null,null,null,null,null,null,null,null,null,null,"",null,null,"",null,""]
[null,null,null,null,null,null,null,null,null,null,null,null,null,null,null,null,"",null,null,"",null,""]
[null,null,null,null,null,null,null,null,null,null,null,null,null,null,null,null,"",null,null,"",null,""]
[null,null,null,null,null,null,null,null,null,null,null,null,null,null,null,null,"",null,null,"",null,""]
[null,null,null,null,null,null,null,null,null,null,null,null,null,null,null,null,"",null,null,"",null,""]
[null,null,null,null,null,null,null,null,null,null,null,null,null,null,null,null,"",null,null,"",null,""]
[null,null,null,null,null,null,null,null,null,null,null,null,null,null,null,null,"",null,null,"",null,""]
[null,null,null,null,null,null,null,null,null,null,null,null,null,null,null,null,"",null,null,"",null,""]
[null,null,null,null,null,null,null,null,null,null,null,null,null,null,null,null,"",null,null,"",null,""]
[null,null,null,null,null,null,null,null,null,null,null,null,null,null,null,null,"",null,null,"",null,""]
[null,null,null,null,null,null,null,null,null,null,null,null,null,null,null,null,"",null,null,"",null,""]
[null,null,null,null,null,null,null,null,null,null,null,null,null,null,null,null,"",null,null,"",null,""]
[null,null,null,null,null,null,null,null,null,null,null,null,null,null,null,null,"",null,null,"",null,""]
[null,null,null,null,null,null,null,null,null,null,null,null,null,null,null,null,"",null,null,"",null,""]
[null,null,null,null,null,null,null,null,null,null,null,null,null,null,null,null,"",null,null,"",null,""]
[null,null,null,null,null,null,null,null,null,null,null,null,null,null,null,null,"",null,null,"",null,""]
[null,null,null,null,null,null,null,null,null,null,null,null,null,null,null,null,"",null,null,"",null,""]
[null,null,null,null,null,null,null,null,null,null,null,null,null,null,null,null,"",null,null,{"$f":"IF(S2841<>\"\",S2841/9,\"\")","v":""},null,{"$f":"IF(U2841<>\"\",U2841/9,\"\")","v":""}]
[null,null,null,null,null,null,null,null,null,null,null,null,null,null,null,null,"",null,null,"",null,""]
[null,null,null,null,null,null,null,null,null,null,null,null,null,null,null,null,"",null,null,"",null,""]
[null,null,null,null,null,null,null,null,null,null,null,null,null,null,null,null,"",null,null,"",null,""]
[null,null,null,null,null,null,null,null,null,null,null,null,null,null,null,null,"",null,null,"",null,""]
[null,null,null,null,null,null,null,null,null,null,null,null,null,null,null,null,"",null,null,"",null,""]
[null,null,null,null,null,null,null,null,null,null,null,null,null,null,null,null,"",null,null,"",null,""]
[null,null,null,null,null,null,null,null,null,null,null,null,null,null,null,null,"",null,null,"",null,""]
[null,null,null,null,null,null,null,null,null,null,null,null,null,null,null,null,"",null,null,"",null,""]
[null,null,null,null,null,null,null,null,null,null,null,null,null,null,null,null,"",null,null,"",null,""]
[null,null,null,null,null,null,null,null,null,null,null,null,null,null,null,null,"",null,null,"",null,""]
[null,null,null,null,null,null,null,null,null,null,null,null,null,null,null,null,"",null,null,"",null,""]
[null,null,null,null,null,null,null,null,null,null,null,null,null,null,null,null,"",null,null,"",null,""]
[null,null,null,null,null,null,null,null,null,null,null,null,null,null,null,null,"",null,null,"",null,""]
[null,null,null,null,null,null,null,null,null,null,null,null,null,null,null,null,"",null,null,"",null,""]
[null,null,null,null,null,null,null,null,null,null,null,null,null,null,null,null,"",null,null,"",null,""]
[null,null,null,null,null,null,null,null,null,null,null,null,null,null,null,null,"",null,null,"",null,""]
[null,null,null,null,null,null,null,null,null,null,null,null,null,null,null,null,"",null,null,"",null,""]
[null,null,null,null,null,null,null,null,null,null,null,null,null,null,null,null,"",null,null,"",null,""]
[null,null,null,null,null,null,null,null,null,null,null,null,null,null,null,null,"",null,null,"",null,""]
[null,null,null,null,null,null,null,null,null,null,null,null,null,null,null,null,"",null,null,"",null,""]
[null,null,null,null,null,null,null,null,null,null,null,null,null,null,null,null,"",null,null,"",null,""]
[null,null,null,null,null,null,null,null,null,null,null,null,null,null,null,null,"",null,null,"",null,""]
[null,null,null,null,null,null,null,null,null,null,null,null,null,null,null,null,"",null,null,"",null,""]
[null,null,null,null,null,null,null,null,null,null,null,null,null,null,null,null,"",null,null,"",null,""]
[null,null,null,null,null,null,null,null,null,null,null,null,null,null,null,null,"",null,null,"",null,""]
[null,null,null,null,null,null,null,null,null,null,null,null,null,null,null,null,"",null,null,"",null,""]
[null,null,null,null,null,null,null,null,null,null,null,null,null,null,null,null,"",null,null,"",null,""]
[null,null,null,null,null,null,null,null,null,null,null,null,null,null,null,null,"",null,null,"",null,""]
[null,null,null,null,null,null,null,null,null,null,null,null,null,null,null,null,"",null,null,"",null,""]
[null,null,null,null,null,null,null,null,null,null,null,null,null,null,null,null,"",null,null,"",null,""]
[null,null,null,null,null,null,null,null,null,null,null,null,null,null,null,null,"",null,null,"",null,""]
[null,null,null,null,null,null,null,null,null,null,null,null,null,null,null,null,"",null,null,"",null,""]
[null,null,null,null,null,null,null,null,null,null,null,null,null,null,null,null,"",null,null,"",null,""]
[null,null,null,null,null,null,null,null,null,null,null,null,null,null,null,null,"",null,null,"",null,""]
[null,null,null,null,null,null,null,null,null,null,null,null,null,null,null,null,"",null,null,"",null,""]
[null,null,null,null,null,null,null,null,null,null,null,null,null,null,null,null,"",null,null,"",null,""]
[null,null,null,null,null,null,null,null,null,null,null,null,null,null,null,null,"",null,null,"",null,""]
[null,null,null,null,null,null,null,null,null,null,null,null,null,null,null,null,"",null,null,"",null,""]
[null,null,null,null,null,null,null,null,null,null,null,null,null,null,null,null,"",null,null,"",null,""]
[null,null,null,null,null,null,null,null,null,null,null,null,null,null,null,null,"",null,null,"",null,""]
[null,null,null,null,null,null,null,null,null,null,null,null,null,null,null,null,"",null,null,"",null,""]
[null,null,null,null,null,null,null,null,null,null,null,null,null,null,null,null,"",null,null,"",null,""]
[null,null,null,null,null,null,null,null,null,null,null,null,null,null,null,null,"",null,null,"",null,""]
[null,null,null,null,null,null,null,null,null,null,null,null,null,null,null,null,"",null,null,"",null,""]
[null,null,null,null,null,null,null,null,null,null,null,null,null,null,null,null,"",null,null,"",null,""]
[null,null,null,null,null,null,null,null,null,null,null,null,null,null,null,null,"",null,null,"",null,""]
[null,null,null,null,null,null,null,null,null,null,null,null,null,null,null,null,"",null,null,"",null,""]
[null,null,null,null,null,null,null,null,null,null,null,null,null,null,null,null,"",null,null,"",null,""]
[null,null,null,null,null,null,null,null,null,null,null,null,null,null,null,null,"",null,null,"",null,""]
[null,null,null,null,null,null,null,null,null,null,null,null,null,null,null,null,"",null,null,"",null,""]
[null,null,null,null,null,null,null,null,null,null,null,null,null,null,null,null,"",null,null,"",null,""]
[null,null,null,null,null,null,null,null,null,null,null,null,null,null,null,null,"",null,null,"",null,""]
[null,null,null,null,null,null,null,null,null,null,null,null,null,null,null,null,"",null,null,"",null,""]
[null,null,null,null,null,null,null,null,null,null,null,null,null,null,null,null,"",null,null,"",null,""]
[null,null,null,null,null,null,null,null,null,null,null,null,null,null,null,null,"",null,null,"",null,""]
[null,null,null,null,null,null,null,null,null,null,null,null,null,null,null,null,"",null,null,"",null,""]
[null,null,null,null,null,null,null,null,null,null,null,null,null,null,null,null,"",null,null,"",null,""]
[null,null,null,null,null,null,null,null,null,null,null,null,null,null,null,null,"",null,null,"",null,""]
[null,null,null,null,null,null,null,null,null,null,null,null,null,null,null,null,{"$f":"IF(M2941<>\"\",2,\"\")","v":""},null,null,"",null,""]
[null,null,null,null,null,null,null,null,null,null,null,null,null,null,null,null,"",null,null,"",null,""]
[null,null,null,null,null,null,null,null,null,null,null,null,null,null,null,null,"",null,null,"",null,""]
[null,null,null,null,null,null,null,null,null,null,null,null,null,null,null,null,"",null,null,"",null,""]
[null,null,null,null,null,null,null,null,null,null,null,null,null,null,null,null,"",null,null,"",null,""]
[null,null,null,null,null,null,null,null,null,null,null,null,null,null,null,null,"",null,null,"",null,""]
[null,null,null,null,null,null,null,null,null,null,null,null,null,null,null,null,"",null,null,"",null,""]
[null,null,null,null,null,null,null,null,null,null,null,null,null,null,null,null,"",null,null,"",null,""]
[null,null,null,null,null,null,null,null,null,null,null,null,null,null,null,null,"",null,null,"",null,""]
[null,null,null,null,null,null,null,null,null,null,null,null,null,null,null,null,"",null,null,"",null,""]
[null,null,null,null,null,null,null,null,null,null,null,null,null,null,null,null,"",null,null,"",null,""]
[null,null,null,null,null,null,null,null,null,null,null,null,null,null,null,null,"",null,null,"",null,""]
[null,null,null,null,null,null,null,null,null,null,null,null,null,null,null,null,"",null,null,"",null,""]
[null,null,null,null,null,null,null,null,null,null,null,null,null,null,null,null,"",null,null,"",null,""]
[null,null,null,null,null,null,null,null,null,null,null,null,null,null,null,null,"",null,null,"",null,""]
[null,null,null,null,null,null,null,null,null,null,null,null,null,null,null,null,"",null,null,"",null,""]
[null,null,null,null,null,null,null,null,null,null,null,null,null,null,null,null,"",null,null,{"$f":"IF(S2969<>\"\",S2969/9,\"\")","v":""},null,{"$f":"IF(U2969<>\"\",U2969/9,\"\")","v":""}]
[null,null,null,null,null,null,null,null,null,null,null,null,null,null,null,null,"",null,null,"",null,""]
[null,null,null,null,null,null,null,null,null,null,null,null,null,null,null,null,"",null,null,"",null,""]
[null,null,null,null,null,null,null,null,null,null,null,null,null,null,null,null,"",null,null,"",null,""]
[null,null,null,null,null,null,null,null,null,null,null,null,null,null,null,null,"",null,null,"",null,""]
[null,null,null,null,null,null,null,null,null,null,null,null,null,null,null,null,"",null,null,"",null,""]
[null,null,null,null,null,null,null,null,null,null,null,null,null,null,null,null,"",null,null,"",null,""]
[null,null,null,null,null,null,null,null,null,null,null,null,null,null,null,null,"",null,null,"",null,""]
[null,null,null,null,null,null,null,null,null,null,null,null,null,null,null,null,"",null,null,"",null,""]
[null,null,null,null,null,null,null,null,null,null,null,null,null,null,null,null,"",null,null,"",null,""]
[null,null,null,null,null,null,null,null,null,null,null,null,null,null,null,null,"",null,null,"",null,""]
[null,null,null,null,null,null,null,null,null,null,null,null,null,null,null,null,"",null,null,"",null,""]
[null,null,null,null,null,null,null,null,null,null,null,null,null,null,null,null,"",null,null,"",null,""]
[null,null,null,null,null,null,null,null,null,null,null,null,null,null,null,null,"",null,null,"",null,""]
[null,null,null,null,null,null,null,null,null,null,null,null,null,null,null,null,"",null,null,"",null,""]
[null,null,null,null,null,null,null,null,null,null,null,null,null,null,null,null,"",null,null,"",null,""]
[null,null,null,null,null,null,null,null,null,null,null,null,null,null,null,null,"",null,null,"",null,""]
[null,null,null,null,null,null,null,null,null,null,null,null,null,null,null,null,"",null,null,"",null,""]
[null,null,null,null,null,null,null,null,null,null,null,null,null,null,null,null,"",null,null,"",null,""]
[null,null,null,null,null,null,null,null,null,null,null,null,null,null,null,null,"",null,null,"",null,""]
[null,null,null,null,null,null,null,null,null,null,null,null,null,null,null,null,"",null,null,"",null,""]
[null,null,null,null,null,null,null,null,null,null,null,null,null,null,null,null,"",null,null,"",null,""]
[null,null,null,null,null,null,null,null,null,null,null,null,null,null,null,null,"",null,null,"",null,""]
[null,null,null,null,null,null,null,null,null,null,null,null,null,null,null,null,"",null,null,"",null,""]
[null,null,null,null,null,null,null,null,null,null,null,null,null,null,null,null,"",null,null,"",null,""]
[null,null,null,null,null,null,null,null,null,null,null,null,null,null,null,null,"",null,null,"",null,""]
[null,null,null,null,null,null,null,null,null,null,null,null,null,null,null,null,"",null,null,"",null,""]
[null,null,null,null,null,null,null,null,null,null,null,null,null,null,null,null,"",null,null,"",null,""]
[null,null,null,null,null,null,null,null,null,null,null,null,null,null,null,null,"",null,null,"",null,""]
[null,null,null,null,null,null,null,null,null,null,null,null,null,null,null,null,"",null,null,"",null,""]
[null,null,null,null,null,null,null,null,null,null,null,null,null,null,null,null,"",null,null,"",null,""]
[null,null,null,null,null,null,null,null,null,null,null,null,null,null,null,null,"",null,null,"",null,""]
[null,null,null,null,null,null,null,null,null,null,null,null,null,null,null,null,"",null,null,"",null,""]
[null,null,null,null,null,null,null,null,null,null,null,null,null,null,null,null,"",null,null,"",null,""]
[null,null,null,null,null,null,null,null,null,null,null,null,null,null,null,null,"",null,null,"",null,""]
[null,null,null,null,null,null,null,null,null,null,null,null,null,null,null,null,"",null,null,"",null,""]
[null,null,null,null,null,null,null,null,null,null,null,null,null,null,null,null,"",null,null,"",null,""]
[null,null,null,null,null,null,null,null,null,null,null,null,null,null,null,null,"",null,null,{"$f":"IF(S3033<>\"\",S3033/9,\"\")","v":""},null,{"$f":"IF(U3033<>\"\",U3033/9,\"\")","v":""}]
[null,null,null,null,null,null,null,null,null,null,null,null,null,null,null,null,"",null,null,"",null,""]
[null,null,null,null,null,null,null,null,null,null,null,null,null,null,null,null,"",null,null,"",null,""]
[null,null,null,null,null,null,null,null,null,null,null,null,null,null,null,null,"",null,null,"",null,""]
[null,null,null,null,null,null,null,null,null,null,null,null,null,null,null,null,"",null,null,"",null,""]
[null,null,null,null,null,null,null,null,null,null,null,null,null,null,null,null,"",null,null,"",null,""]
[null,null,null,null,null,null,null,null,null,null,null,null,null,null,null,null,"",null,null,"",null,""]
[null,null,null,null,null,null,null,null,null,null,null,null,null,null,null,null,"",null,null,"",null,""]
[null,null,null,null,null,null,null,null,null,null,null,null,null,null,null,null,"",null,null,"",null,""]
[null,null,null,null,null,null,null,null,null,null,null,null,null,null,null,null,"",null,null,"",null,""]
[null,null,null,null,null,null,null,null,null,null,null,null,null,null,null,null,"",null,null,"",null,""]
[null,null,null,null,null,null,null,null,null,null,null,null,null,null,null,null,"",null,null,"",null,""]
[null,null,null,null,null,null,null,null,null,null,null,null,null,null,null,null,"",null,null,"",null,""]
[null,null,null,null,null,null,null,null,null,null,null,null,null,null,null,null,"",null,null,"",null,""]
[null,null,null,null,null,null,null,null,null,null,null,null,null,null,null,null,"",null,null,"",null,""]
[null,null,null,null,null,null,null,null,null,null,null,null,null,null,null,null,"",null,null,"",null,""]
[null,null,null,null,null,null,null,null,null,null,null,null,null,null,null,null,"",null,null,"",null,""]
[null,null,null,null,null,null,null,null,null,null,null,null,null,null,null,null,"",null,null,"",null,""]
[null,null,null,null,null,null,null,null,null,null,null,null,null,null,null,null,"",null,null,"",null,""]
[null,null,null,null,null,null,null,null,null,null,null,null,null,null,null,null,"",null,null,"",null,""]
[null,null,null,null,null,null,null,null,null,null,null,null,null,null,null,null,"",null,null,"",null,""]
[null,null,null,null,null,null,null,null,null,null,null,null,null,null,null,null,"",null,null,"",null,""]
[null,null,null,null,null,null,null,null,null,null,null,null,null,null,null,null,"",null,null,"",null,""]
[null,null,null,null,null,null,null,null,null,null,null,null,null,null,null,null,"",null,null,"",null,""]
[null,null,null,null,null,null,null,null,null,null,null,null,null,null,null,null,"",null,null,"",null,""]
[null,null,null,null,null,null,null,null,null,null,null,null,null,null,null,null,"",null,null,"",null,""]
[null,null,null,null,null,null,null,null,null,null,null,null,null,null,null,null,"",null,null,"",null,""]
[null,null,null,null,null,null,null,null,null,null,null,null,null,null,null,null,"",null,null,"",null,""]
[null,null,null,null,null,null,null,null,null,null,null,null,null,null,null,null,"",null,null,"",null,""]
[null,null,null,null,null,null,null,null,null,null,null,null,null,null,null,null,"",null,null,"",null,""]
[null,null,null,null,null,null,null,null,null,null,null,null,null,null,null,null,"",null,null,"",null,""]
[null,null,null,null,null,null,null,null,null,null,null,null,null,null,null,null,"",null,null,"",null,""]
[null,null,null,null,null,null,null,null,null,null,null,null,null,null,null,null,"",null,null,"",null,""]
[null,null,null,null,null,null,null,null,null,null,null,null,null,null,null,null,"",null,null,"",null,""]
[null,null,null,null,null,null,null,null,null,null,null,null,null,null,null,null,"",null,null,"",null,""]
[null,null,null,null,null,null,null,null,null,null,null,null,null,null,null,null,"",null,null,"",null,""]
[null,null,null,null,null,null,null,null,null,null,null,null,null,null,null,null,"",null,null,"",null,""]
[null,null,null,null,null,null,null,null,null,null,null,null,null,null,null,null,"",null,null,"",null,""]
[null,null,null,null,null,null,null,null,null,null,null,null,null,null,null,null,"",null,null,"",null,""]
[null,null,null,null,null,null,null,null,null,null,null,null,null,null,null,null,"",null,null,"",null,""]
[null,null,null,null,null,null,null,null,null,null,null,null,null,null,null,null,"",null,null,"",null,""]
[null,null,null,null,null,null,null,null,null,null,null,null,null,null,null,null,"",null,null,"",null,""]
[null,null,null,null,null,null,null,null,null,null,null,null,null,null,null,null,"",null,null,"",null,""]
[null,null,null,null,null,null,null,null,null,null,null,null,null,null,null,null,"",null,null,"",null,""]
[null,null,null,null,null,null,null,null,null,null,null,null,null,null,null,null,"",null,null,"",null,""]
[null,null,null,null,null,null,null,null,null,null,null,null,null,null,null,null,"",null,null,"",null,""]
[null,null,null,null,null,null,null,null,null,null,null,null,null,null,null,null,"",null,null,"",null,""]
[null,null,null,null,null,null,null,null,null,null,null,null,null,null,null,null,"",null,null,"",null,""]
[null,null,null,null,null,null,null,null,null,null,null,null,null,null,null,null,"",null,null,"",null,""]
[null,null,null,null,null,null,null,null,null,null,null,null,null,null,null,null,"",null,null,"",null,""]
[null,null,null,null,null,null,null,null,null,null,null,null,null,null,null,null,"",null,null,"",null,""]
[null,null,null,null,null,null,null,null,null,null,null,null,null,null,null,null,"",null,null,"",null,""]
[null,null,null,null,null,null,null,null,null,null,null,null,null,null,null,null,"",null,null,"",null,""]
[null,null,null,null,null,null,null,null,null,null,null,null,null,null,null,null,"",null,null,"",null,""]
[null,null,null,null,null,null,null,null,null,null,null,null,null,null,null,null,"",null,null,"",null,""]
[null,null,null,null,null,null,null,null,null,null,null,null,null,null,null,null,"",null,null,"",null,""]
[null,null,null,null,null,null,null,null,null,null,null,null,null,null,null,null,"",null,null,"",null,""]
[null,null,null,null,null,null,null,null,null,null,null,null,null,null,null,null,"",null,null,"",null,""]
[null,null,null,null,null,null,null,null,null,null,null,null,null,null,null,null,"",null,null,"",null,""]
[null,null,null,null,null,null,null,null,null,null,null,null,null,null,null,null,{"$f":"IF(M3133<>\"\",2,\"\")","v":""},null,null,"",null,""]
[null,null,null,null,null,null,null,null,null,null,null,null,null,null,null,null,"",null,null,"",null,""]
[null,null,null,null,null,null,null,null,null,null,null,null,null,null,null,null,"",null,null,"",null,""]
[null,null,null,null,null,null,null,null,null,null,null,null,null,null,null,null,"",null,null,"",null,""]
[null,null,null,null,null,null,null,null,null,null,null,null,null,null,null,null,"",null,null,"",null,""]
[null,null,null,null,null,null,null,null,null,null,null,null,null,null,null,null,"",null,null,"",null,""]
[null,null,null,null,null,null,null,null,null,null,null,null,null,null,null,null,"",null,null,"",null,""]
[null,null,null,null,null,null,null,null,null,null,null,null,null,null,null,null,"",null,null,"",null,""]
[null,null,null,null,null,null,null,null,null,null,null,null,null,null,null,null,"",null,null,"",null,""]
[null,null,null,null,null,null,null,null,null,null,null,null,null,null,null,null,"",null,null,"",null,""]
[null,null,null,null,null,null,null,null,null,null,null,null,null,null,null,null,"",null,null,"",null,""]
[null,null,null,null,null,null,null,null,null,null,null,null,null,null,null,null,"",null,null,"",null,""]
[null,null,null,null,null,null,null,null,null,null,null,null,null,null,null,null,"",null,null,"",null,""]
[null,null,null,null,null,null,null,null,null,null,null,null,null,null,null,null,"",null,null,"",null,""]
[null,null,null,null,null,null,null,null,null,null,null,null,null,null,null,null,"",null,null,"",null,""]
[null,null,null,null,null,null,null,null,null,null,null,null,null,null,null,null,"",null,null,"",null,""]
[null,null,null,null,null,null,null,null,null,null,null,null,null,null,null,null,"",null,null,{"$f":"IF(S3161<>\"\",S3161/9,\"\")","v":""},null,{"$f":"IF(U3161<>\"\",U3161/9,\"\")","v":""}]
[null,null,null,null,null,null,null,null,null,null,null,null,null,null,null,null,"",null,null,"",null,""]
[null,null,null,null,null,null,null,null,null,null,null,null,null,null,null,null,"",null,null,"",null,""]
[null,null,null,null,null,null,null,null,null,null,null,null,null,null,null,null,"",null,null,"",null,""]
[null,null,null,null,null,null,null,null,null,null,null,null,null,null,null,null,"",null,null,"",null,""]
[null,null,null,null,null,null,null,null,null,null,null,null,null,null,null,null,"",null,null,"",null,""]
[null,null,null,null,null,null,null,null,null,null,null,null,null,null,null,null,"",null,null,"",null,""]
[null,null,null,null,null,null,null,null,null,null,null,null,null,null,null,null,"",null,null,"",null,""]
[null,null,null,null,null,null,null,null,null,null,null,null,null,null,null,null,"",null,null,"",null,""]
[null,null,null,null,null,null,null,null,null,null,null,null,null,null,null,null,"",null,null,"",null,""]
[null,null,null,null,null,null,null,null,null,null,null,null,null,null,null,null,"",null,null,"",null,""]
[null,null,null,null,null,null,null,null,null,null,null,null,null,null,null,null,"",null,null,"",null,""]
[null,null,null,null,null,null,null,null,null,null,null,null,null,null,null,null,"",null,null,"",null,""]
[null,null,null,null,null,null,null,null,null,null,null,null,null,null,null,null,"",null,null,"",null,""]
[null,null,null,null,null,null,null,null,null,null,null,null,null,null,null,null,"",null,null,"",null,""]
[null,null,null,null,null,null,null,null,null,null,null,null,null,null,null,null,"",null,null,"",null,""]
[null,null,null,null,null,null,null,null,null,null,null,null,null,null,null,null,"",null,null,"",null,""]
[null,null,null,null,null,null,null,null,null,null,null,null,null,null,null,null,"",null,null,"",null,""]
[null,null,null,null,null,null,null,null,null,null,null,null,null,null,null,null,"",null,null,"",null,""]
[null,null,null,null,null,null,null,null,null,null,null,null,null,null,null,null,"",null,null,"",null,""]
[null,null,null,null,null,null,null,null,null,null,null,null,null,null,null,null,"",null,null,"",null,""]
[null,null,null,null,null,null,null,null,null,null,null,null,null,null,null,null,"",null,null,"",null,""]
[null,null,null,null,null,null,null,null,null,null,null,null,null,null,null,null,"",null,null,"",null,""]
[null,null,null,null,null,null,null,null,null,null,null,null,null,null,null,null,"",null,null,"",null,""]
[null,null,null,null,null,null,null,null,null,null,null,null,null,null,null,null,"",null,null,"",null,""]
[null,null,null,null,null,null,null,null,null,null,null,null,null,null,null,null,"",null,null,"",null,""]
[null,null,null,null,null,null,null,null,null,null,null,null,null,null,null,null,"",null,null,"",null,""]
[null,null,null,null,null,null,null,null,null,null,null,null,null,null,null,null,"",null,null,"",null,""]
[null,null,null,null,null,null,null,null,null,null,null,null,null,null,null,null,"",null,null,"",null,""]
[null,null,null,null,null,null,null,null,null,null,null,null,null,null,null,null,"",null,null,"",null,""]
[null,null,null,null,null,null,null,null,null,null,null,null,null,null,null,null,"",null,null,"",null,""]
[null,null,null,null,null,null,null,null,null,null,null,null,null,null,null,null,"",null,null,"",null,""]
[null,null,null,null,null,null,null,null,null,null,null,null,null,null,null,null,"",null,null,"",null,""]
[null,null,null,null,null,null,null,null,null,null,null,null,null,null,null,null,"",null,null,"",null,""]
[null,null,null,null,null,null,null,null,null,null,null,null,null,null,null,null,"",null,null,"",null,""]
[null,null,null,null,null,null,null,null,null,null,null,null,null,null,null,null,"",null,null,"",null,""]
[null,null,null,null,null,null,null,null,null,null,null,null,null,null,null,null,"",null,null,"",null,""]
[null,null,null,null,null,null,null,null,null,null,null,null,null,null,null,null,"",null,null,{"$f":"IF(S3225<>\"\",S3225/9,\"\")","v":""},null,{"$f":"IF(U3225<>\"\",U3225/9,\"\")","v":""}]
[null,null,null,null,null,null,null,null,null,null,null,null,null,null,null,null,"",null,null,"",null,""]
[null,null,null,null,null,null,null,null,null,null,null,null,null,null,null,null,"",null,null,"",null,""]
[null,null,null,null,null,null,null,null,null,null,null,null,null,null,null,null,"",null,null,"",null,""]
[null,null,null,null,null,null,null,null,null,null,null,null,null,null,null,null,"",null,null,"",null,""]
[null,null,null,null,null,null,null,null,null,null,null,null,null,null,null,null,"",null,null,"",null,""]
[null,null,null,null,null,null,null,null,null,null,null,null,null,null,null,null,"",null,null,"",null,""]
[null,null,null,null,null,null,null,null,null,null,null,null,null,null,null,null,"",null,null,"",null,""]
[null,null,null,null,null,null,null,null,null,null,null,null,null,null,null,null,"",null,null,"",null,""]
[null,null,null,null,null,null,null,null,null,null,null,null,null,null,null,null,"",null,null,"",null,""]
[null,null,null,null,null,null,null,null,null,null,null,null,null,null,null,null,"",null,null,"",null,""]
[null,null,null,null,null,null,null,null,null,null,null,null,null,null,null,null,"",null,null,"",null,""]
[null,null,null,null,null,null,null,null,null,null,null,null,null,null,null,null,"",null,null,"",null,""]
[null,null,null,null,null,null,null,null,null,null,null,null,null,null,null,null,"",null,null,"",null,""]
[null,null,null,null,null,null,null,null,null,null,null,null,null,null,null,null,"",null,null,"",null,""]
[null,null,null,null,null,null,null,null,null,null,null,null,null,null,null,null,"",null,null,"",null,""]
[null,null,null,null,null,null,null,null,null,null,null,null,null,null,null,null,"",null,null,"",null,""]
[null,null,null,null,null,null,null,null,null,null,null,null,null,null,null,null,"",null,null,"",null,""]
[null,null,null,null,null,null,null,null,null,null,null,null,null,null,null,null,"",null,null,"",null,""]
[null,null,null,null,null,null,null,null,null,null,null,null,null,null,null,null,"",null,null,"",null,""]
[null,null,null,null,null,null,null,null,null,null,null,null,null,null,null,null,"",null,null,"",null,""]
[null,null,null,null,null,null,null,null,null,null,null,null,null,null,null,null,"",null,null,"",null,""]
[null,null,null,null,null,null,null,null,null,null,null,null,null,null,null,null,"",null,null,"",null,""]
[null,null,null,null,null,null,null,null,null,null,null,null,null,null,null,null,"",null,null,"",null,""]
[null,null,null,null,null,null,null,null,null,null,null,null,null,null,null,null,"",null,null,"",null,""]
[null,null,null,null,null,null,null,null,null,null,null,null,null,null,null,null,"",null,null,"",null,""]
[null,null,null,null,null,null,null,null,null,null,null,null,null,null,null,null,"",null,null,"",null,""]
[null,null,null,null,null,null,null,null,null,null,null,null,null,null,null,null,"",null,null,"",null,""]
[null,null,null,null,null,null,null,null,null,null,null,null,null,null,null,null,"",null,null,"",null,""]
[null,null,null,null,null,null,null,null,null,null,null,null,null,null,null,null,"",null,null,"",null,""]
[null,null,null,null,null,null,null,null,null,null,null,null,null,null,null,null,"",null,null,"",null,""]
[null,null,null,null,null,null,null,null,null,null,null,null,null,null,null,null,"",null,null,"",null,""]
[null,null,null,null,null,null,null,null,null,null,null,null,null,null,null,null,"",null,null,"",null,""]
[null,null,null,null,null,null,null,null,null,null,null,null,null,null,null,null,"",null,null,"",null,""]
[null,null,null,null,null,null,null,null,null,null,null,null,null,null,null,null,"",null,null,"",null,""]
[null,null,null,null,null,null,null,null,null,null,null,null,null,null,null,null,"",null,null,"",null,""]
[null,null,null,null,null,null,null,null,null,null,null,null,null,null,null,null,"",null,null,"",null,""]
[null,null,null,null,null,null,null,null,null,null,null,null,null,null,null,null,"",null,null,"",null,""]
[null,null,null,null,null,null,null,null,null,null,null,null,null,null,null,null,"",null,null,"",null,""]
[null,null,null,null,null,null,null,null,null,null,null,null,null,null,null,null,"",null,null,"",null,""]
[null,null,null,null,null,null,null,null,null,null,null,null,null,null,null,null,"",null,null,"",null,""]
[null,null,null,null,null,null,null,null,null,null,null,null,null,null,null,null,"",null,null,"",null,""]
[null,null,null,null,null,null,null,null,null,null,null,null,null,null,null,null,"",null,null,"",null,""]
[null,null,null,null,null,null,null,null,null,null,null,null,null,null,null,null,"",null,null,"",null,""]
[null,null,null,null,null,null,null,null,null,null,null,null,null,null,null,null,"",null,null,"",null,""]
[null,null,null,null,null,null,null,null,null,null,null,null,null,null,null,null,"",null,null,"",null,""]
[null,null,null,null,null,null,null,null,null,null,null,null,null,null,null,null,"",null,null,"",null,""]
[null,null,null,null,null,null,null,null,null,null,null,null,null,null,null,null,"",null,null,"",null,""]
[null,null,null,null,null,null,null,null,null,null,null,null,null,null,null,null,"",null,null,"",null,""]
[null,null,null,null,null,null,null,null,null,null,null,null,null,null,null,null,"",null,null,"",null,""]
[null,null,null,null,null,null,null,null,null,null,null,null,null,null,null,null,"",null,null,"",null,""]
[null,null,null,null,null,null,null,null,null,null,null,null,null,null,null,null,"",null,null,"",null,""]
[null,null,null,null,null,null,null,null,null,null,null,null,null,null,null,null,"",null,null,"",null,""]
[null,null,null,null,null,null,null,null,null,null,null,null,null,null,null,null,"",null,null,"",null,""]
[null,null,null,null,null,null,null,null,null,null,null,null,null,null,null,null,"",null,null,"",null,""]
[null,null,null,null,null,null,null,null,null,null,null,null,null,null,null,null,"",null,null,"",null,""]
[null,null,null,null,null,null,null,null,null,null,null,null,null,null,null,null,"",null,null,"",null,""]
[null,null,null,null,null,null,null,null,null,null,null,null,null,null,null,null,"",null,null,"",null,""]
[null,null,null,null,null,null,null,null,null,null,null,null,null,null,null,null,"",null,null,"",null,""]
[null,null,null,null,null,null,null,null,null,null,null,null,null,null,null,null,{"$f":"IF(M3325<>\"\",2,\"\")","v":""},null,null,"",null,""]
[null,null,null,null,null,null,null,null,null,null,null,null,null,null,null,null,"",null,null,"",null,""]
[null,null,null,null,null,null,null,null,null,null,null,null,null,null,null,null,"",null,null,"",null,""]
[null,null,null,null,null,null,null,null,null,null,null,null,null,null,null,null,"",null,null,"",null,""]
[null,null,null,null,null,null,null,null,null,null,null,null,null,null,null,null,"",null,null,"",null,""]
[null,null,null,null,null,null,null,null,null,null,null,null,null,null,null,null,"",null,null,"",null,""]
[null,null,null,null,null,null,null,null,null,null,null,null,null,null,null,null,"",null,null,"",null,""]
[null,null,null,null,null,null,null,null,null,null,null,null,null,null,null,null,"",null,null,"",null,""]
[null,null,null,null,null,null,null,null,null,null,null,null,null,null,null,null,"",null,null,"",null,""]
[null,null,null,null,null,null,null,null,null,null,null,null,null,null,null,null,"",null,null,"",null,""]
[null,null,null,null,null,null,null,null,null,null,null,null,null,null,null,null,"",null,null,"",null,""]
[null,null,null,null,null,null,null,null,null,null,null,null,null,null,null,null,"",null,null,"",null,""]
[null,null,null,null,null,null,null,null,null,null,null,null,null,null,null,null,"",null,null,"",null,""]
[null,null,null,null,null,null,null,null,null,null,null,null,null,null,null,null,"",null,null,"",null,""]
[null,null,null,null,null,null,null,null,null,null,null,null,null,null,null,null,"",null,null,"",null,""]
[null,null,null,null,null,null,null,null,null,null,null,null,null,null,null,null,"",null,null,"",null,""]
[null,null,null,null,null,null,null,null,null,null,null,null,null,null,null,null,"",null,null,{"$f":"IF(S3353<>\"\",S3353/9,\"\")","v":""},null,{"$f":"IF(U3353<>\"\",U3353/9,\"\")","v":""}]
[null,null,null,null,null,null,null,null,null,null,null,null,null,null,null,null,"",null,null,"",null,""]
[null,null,null,null,null,null,null,null,null,null,null,null,null,null,null,null,"",null,null,"",null,""]
[null,null,null,null,null,null,null,null,null,null,null,null,null,null,null,null,"",null,null,"",null,""]
[null,null,null,null,null,null,null,null,null,null,null,null,null,null,null,null,"",null,null,"",null,""]
[null,null,null,null,null,null,null,null,null,null,null,null,null,null,null,null,"",null,null,"",null,""]
[null,null,null,null,null,null,null,null,null,null,null,null,null,null,null,null,"",null,null,"",null,""]
[null,null,null,null,null,null,null,null,null,null,null,null,null,null,null,null,"",null,null,"",null,""]
[null,null,null,null,null,null,null,null,null,null,null,null,null,null,null,null,"",null,null,"",null,""]
[null,null,null,null,null,null,null,null,null,null,null,null,null,null,null,null,"",null,null,"",null,""]
[null,null,null,null,null,null,null,null,null,null,null,null,null,null,null,null,"",null,null,"",null,""]
[null,null,null,null,null,null,null,null,null,null,null,null,null,null,null,null,"",null,null,"",null,""]
[null,null,null,null,null,null,null,null,null,null,null,null,null,null,null,null,"",null,null,"",null,""]
[null,null,null,null,null,null,null,null,null,null,null,null,null,null,null,null,"",null,null,"",null,""]
[null,null,null,null,null,null,null,null,null,null,null,null,null,null,null,null,"",null,null,"",null,""]
[null,null,null,null,null,null,null,null,null,null,null,null,null,null,null,null,"",null,null,"",null,""]
[null,null,null,null,null,null,null,null,null,null,null,null,null,null,null,null,"",null,null,"",null,""]
[null,null,null,null,null,null,null,null,null,null,null,null,null,null,null,null,"",null,null,"",null,""]
[null,null,null,null,null,null,null,null,null,null,null,null,null,null,null,null,"",null,null,"",null,""]
[null,null,null,null,null,null,null,null,null,null,null,null,null,null,null,null,"",null,null,"",null,""]
[null,null,null,null,null,null,null,null,null,null,null,null,null,null,null,null,"",null,null,"",null,""]
[null,null,null,null,null,null,null,null,null,null,null,null,null,null,null,null,"",null,null,"",null,""]
[null,null,null,null,null,null,null,null,null,null,null,null,null,null,null,null,"",null,null,"",null,""]
[null,null,null,null,null,null,null,null,null,null,null,null,null,null,null,null,"",null,null,"",null,""]
[null,null,null,null,null,null,null,null,null,null,null,null,null,null,null,null,"",null,null,"",null,""]
[null,null,null,null,null,null,null,null,null,null,null,null,null,null,null,null,"",null,null,"",null,""]
[null,null,null,null,null,null,null,null,null,null,null,null,null,null,null,null,"",null,null,"",null,""]
[null,null,null,null,null,null,null,null,null,null,null,null,null,null,null,null,"",null,null,"",null,""]
[null,null,null,null,null,null,null,null,null,null,null,null,null,null,null,null,"",null,null,"",null,""]
[null,null,null,null,null,null,null,null,null,null,null,null,null,null,null,null,"",null,null,"",null,""]
[null,null,null,null,null,null,null,null,null,null,null,null,null,null,null,null,"",null,null,"",null,""]
[null,null,null,null,null,null,null,null,null,null,null,null,null,null,null,null,"",null,null,"",null,""]
[null,null,null,null,null,null,null,null,null,null,null,null,null,null,null,null,"",null,null,"",null,""]
[null,null,null,null,null,null,null,null,null,null,null,null,null,null,null,null,"",null,null,"",null,""]
[null,null,null,null,null,null,null,null,null,null,null,null,null,null,null,null,"",null,null,"",null,""]
[null,null,null,null,null,null,null,null,null,null,null,null,null,null,null,null,"",null,null,"",null,""]
[null,null,null,null,null,null,null,null,null,null,null,null,null,null,null,null,"",null,null,"",null,""]
[null,null,null,null,null,null,null,null,null,null,null,null,null,null,null,null,"",null,null,{"$f":"IF(S3417<>\"\",S3417/9,\"\")","v":""},null,{"$f":"IF(U3417<>\"\",U3417/9,\"\")","v":""}]
[null,null,null,null,null,null,null,null,null,null,null,null,null,null,null,null,"",null,null,"",null,""]
[null,null,null,null,null,null,null,null,null,null,null,null,null,null,null,null,"",null,null,"",null,""]
[null,null,null,null,null,null,null,null,null,null,null,null,null,null,null,null,"",null,null,"",null,""]
[null,null,null,null,null,null,null,null,null,null,null,null,null,null,null,null,"",null,null,"",null,""]
[null,null,null,null,null,null,null,null,null,null,null,null,null,null,null,null,"",null,null,"",null,""]
[null,null,null,null,null,null,null,null,null,null,null,null,null,null,null,null,"",null,null,"",null,""]
[null,null,null,null,null,null,null,null,null,null,null,null,null,null,null,null,"",null,null,"",null,""]
[null,null,null,null,null,null,null,null,null,null,null,null,null,null,null,null,"",null,null,"",null,""]
[null,null,null,null,null,null,null,null,null,null,null,null,null,null,null,null,"",null,null,"",null,""]
[null,null,null,null,null,null,null,null,null,null,null,null,null,null,null,null,"",null,null,"",null,""]
[null,null,null,null,null,null,null,null,null,null,null,null,null,null,null,null,"",null,null,"",null,""]
[null,null,null,null,null,null,null,null,null,null,null,null,null,null,null,null,"",null,null,"",null,""]
[null,null,null,null,null,null,null,null,null,null,null,null,null,null,null,null,"",null,null,"",null,""]
[null,null,null,null,null,null,null,null,null,null,null,null,null,null,null,null,"",null,null,"",null,""]
[null,null,null,null,null,null,null,null,null,null,null,null,null,null,null,null,"",null,null,"",null,""]
[null,null,null,null,null,null,null,null,null,null,null,null,null,null,null,null,"",null,null,"",null,""]
[null,null,null,null,null,null,null,null,null,null,null,null,null,null,null,null,"",null,null,"",null,""]
[null,null,null,null,null,null,null,null,null,null,null,null,null,null,null,null,"",null,null,"",null,""]
[null,null,null,null,null,null,null,null,null,null,null,null,null,null,null,null,"",null,null,"",null,""]
[null,null,null,null,null,null,null,null,null,null,null,null,null,null,null,null,"",null,null,"",null,""]
[null,null,null,null,null,null,null,null,null,null,null,null,null,null,null,null,"",null,null,"",null,""]
[null,null,null,null,null,null,null,null,null,null,null,null,null,null,null,null,"",null,null,"",null,""]
[null,null,null,null,null,null,null,null,null,null,null,null,null,null,null,null,"",null,null,"",null,""]
[null,null,null,null,null,null,null,null,null,null,null,null,null,null,null,null,"",null,null,"",null,""]
[null,null,null,null,null,null,null,null,null,null,null,null,null,null,null,null,"",null,null,"",null,""]
[null,null,null,null,null,null,null,null,null,null,null,null,null,null,null,null,"",null,null,"",null,""]
[null,null,null,null,null,null,null,null,null,null,null,null,null,null,null,null,"",null,null,"",null,""]
[null,null,null,null,null,null,null,null,null,null,null,null,null,null,null,null,"",null,null,"",null,""]
[null,null,null,null,null,null,null,null,null,null,null,null,null,null,null,null,"",null,null,"",null,""]
[null,null,null,null,null,null,null,null,null,null,null,null,null,null,null,null,"",null,null,"",null,""]
[null,null,null,null,null,null,null,null,null,null,null,null,null,null,null,null,"",null,null,"",null,""]
[null,null,null,null,null,null,null,null,null,null,null,null,null,null,null,null,"",null,null,"",null,""]
[null,null,null,null,null,null,null,null,null,null,null,null,null,null,null,null,"",null,null,"",null,""]
[null,null,null,null,null,null,null,null,null,null,null,null,null,null,null,null,"",null,null,"",null,""]
[null,null,null,null,null,null,null,null,null,null,null,null,null,null,null,null,"",null,null,"",null,""]
[null,null,null,null,null,null,null,null,null,null,null,null,null,null,null,null,"",null,null,"",null,""]
[null,null,null,null,null,null,null,null,null,null,null,null,null,null,null,null,"",null,null,"",null,""]
[null,null,null,null,null,null,null,null,null,null,null,null,null,null,null,null,"",null,null,"",null,""]
[null,null,null,null,null,null,null,null,null,null,null,null,null,null,null,null,"",null,null,"",null,""]
[null,null,null,null,null,null,null,null,null,null,null,null,null,null,null,null,"",null,null,"",null,""]
[null,null,null,null,null,null,null,null,null,null,null,null,null,null,null,null,"",null,null,"",null,""]
[null,null,null,null,null,null,null,null,null,null,null,null,null,null,null,null,"",null,null,"",null,""]
[null,null,null,null,null,null,null,null,null,null,null,null,null,null,null,null,"",null,null,"",null,""]
[null,null,null,null,null,null,null,null,null,null,null,null,null,null,null,null,"",null,null,"",null,""]
[null,null,null,null,null,null,null,null,null,null,null,null,null,null,null,null,"",null,null,"",null,""]
[null,null,null,null,null,null,null,null,null,null,null,null,null,null,null,null,"",null,null,"",null,""]
[null,null,null,null,null,null,null,null,null,null,null,null,null,null,null,null,"",null,null,"",null,""]
[null,null,null,null,null,null,null,null,null,null,null,null,null,null,null,null,"",null,null,"",null,""]
[null,null,null,null,null,null,null,null,null,null,null,null,null,null,null,null,"",null,null,"",null,""]
[null,null,null,null,null,null,null,null,null,null,null,null,null,null,null,null,"",null,null,"",null,""]
[null,null,null,null,null,null,null,null,null,null,null,null,null,null,null,null,"",null,null,"",null,""]
[null,null,null,null,null,null,null,null,null,null,null,null,null,null,null,null,"",null,null,"",null,""]
[null,null,null,null,null,null,null,null,null,null,null,null,null,null,null,null,"",null,null,"",null,""]
[null,null,null,null,null,null,null,null,null,null,null,null,null,null,null,null,"",null,null,"",null,""]
[null,null,null,null,null,null,null,null,null,null,null,null,null,null,null,null,"",null,null,"",null,""]
[null,null,null,null,null,null,null,null,null,null,null,null,null,null,null,null,"",null,null,"",null,""]
[null,null,null,null,null,null,null,null,null,null,null,null,null,null,null,null,"",null,null,"",null,""]
[null,null,null,null,null,null,null,null,null,null,null,null,null,null,null,null,"",null,null,"",null,""]
[null,null,null,null,null,null,null,null,null,null,null,null,null,null,null,null,{"$f":"IF(M3517<>\"\",2,\"\")","v":""},null,null,"",null,""]
[null,null,null,null,null,null,null,null,null,null,null,null,null,null,null,null,"",null,null,"",null,""]
[null,null,null,null,null,null,null,null,null,null,null,null,null,null,null,null,"",null,null,"",null,""]
[null,null,null,null,null,null,null,null,null,null,null,null,null,null,null,null,"",null,null,"",null,""]
[null,null,null,null,null,null,null,null,null,null,null,null,null,null,null,null,"",null,null,"",null,""]
[null,null,null,null,null,null,null,null,null,null,null,null,null,null,null,null,"",null,null,"",null,""]
[null,null,null,null,null,null,null,null,null,null,null,null,null,null,null,null,"",null,null,"",null,""]
[null,null,null,null,null,null,null,null,null,null,null,null,null,null,null,null,"",null,null,"",null,""]
[null,null,null,null,null,null,null,null,null,null,null,null,null,null,null,null,"",null,null,"",null,""]
[null,null,null,null,null,null,null,null,null,null,null,null,null,null,null,null,"",null,null,"",null,""]
[null,null,null,null,null,null,null,null,null,null,null,null,null,null,null,null,"",null,null,"",null,""]
[null,null,null,null,null,null,null,null,null,null,null,null,null,null,null,null,"",null,null,"",null,""]
[null,null,null,null,null,null,null,null,null,null,null,null,null,null,null,null,"",null,null,"",null,""]
[null,null,null,null,null,null,null,null,null,null,null,null,null,null,null,null,"",null,null,"",null,""]
[null,null,null,null,null,null,null,null,null,null,null,null,null,null,null,null,"",null,null,"",null,""]
[null,null,null,null,null,null,null,null,null,null,null,null,null,null,null,null,"",null,null,"",null,""]
[null,null,null,null,null,null,null,null,null,null,null,null,null,null,null,null,"",null,null,{"$f":"IF(S3545<>\"\",S3545/9,\"\")","v":""},null,{"$f":"IF(U3545<>\"\",U3545/9,\"\")","v":""}]
[null,null,null,null,null,null,null,null,null,null,null,null,null,null,null,null,"",null,null,"",null,""]
[null,null,null,null,null,null,null,null,null,null,null,null,null,null,null,null,"",null,null,"",null,""]
[null,null,null,null,null,null,null,null,null,null,null,null,null,null,null,null,"",null,null,"",null,""]
[null,null,null,null,null,null,null,null,null,null,null,null,null,null,null,null,"",null,null,"",null,""]
[null,null,null,null,null,null,null,null,null,null,null,null,null,null,null,null,"",null,null,"",null,""]
[null,null,null,null,null,null,null,null,null,null,null,null,null,null,null,null,"",null,null,"",null,""]
[null,null,null,null,null,null,null,null,null,null,null,null,null,null,null,null,"",null,null,"",null,""]
[null,null,null,null,null,null,null,null,null,null,null,null,null,null,null,null,"",null,null,"",null,""]
[null,null,null,null,null,null,null,null,null,null,null,null,null,null,null,null,"",null,null,"",null,""]
[null,null,null,null,null,null,null,null,null,null,null,null,null,null,null,null,"",null,null,"",null,""]
[null,null,null,null,null,null,null,null,null,null,null,null,null,null,null,null,"",null,null,"",null,""]
[null,null,null,null,null,null,null,null,null,null,null,null,null,null,null,null,"",null,null,"",null,""]
[null,null,null,null,null,null,null,null,null,null,null,null,null,null,null,null,"",null,null,"",null,""]
[null,null,null,null,null,null,null,null,null,null,null,null,null,null,null,null,"",null,null,"",null,""]
[null,null,null,null,null,null,null,null,null,null,null,null,null,null,null,null,"",null,null,"",null,""]
[null,null,null,null,null,null,null,null,null,null,null,null,null,null,null,null,"",null,null,"",null,""]
[null,null,null,null,null,null,null,null,null,null,null,null,null,null,null,null,"",null,null,"",null,""]
[null,null,null,null,null,null,null,null,null,null,null,null,null,null,null,null,"",null,null,"",null,""]
[null,null,null,null,null,null,null,null,null,null,null,null,null,null,null,null,"",null,null,"",null,""]
[null,null,null,null,null,null,null,null,null,null,null,null,null,null,null,null,"",null,null,"",null,""]
[null,null,null,null,null,null,null,null,null,null,null,null,null,null,null,null,"",null,null,"",null,""]
[null,null,null,null,null,null,null,null,null,null,null,null,null,null,null,null,"",null,null,"",null,""]
[null,null,null,null,null,null,null,null,null,null,null,null,null,null,null,null,"",null,null,"",null,""]
[null,null,null,null,null,null,null,null,null,null,null,null,null,null,null,null,"",null,null,"",null,""]
[null,null,null,null,null,null,null,null,null,null,null,null,null,null,null,null,"",null,null,"",null,""]
[null,null,null,null,null,null,null,null,null,null,null,null,null,null,null,null,"",null,null,"",null,""]
[null,null,null,null,null,null,null,null,null,null,null,null,null,null,null,null,"",null,null,"",null,""]
[null,null,null,null,null,null,null,null,null,null,null,null,null,null,null,null,"",null,null,"",null,""]
[null,null,null,null,null,null,null,null,null,null,null,null,null,null,null,null,"",null,null,"",null,""]
[null,null,null,null,null,null,null,null,null,null,null,null,null,null,null,null,"",null,null,"",null,""]
[null,null,null,null,null,null,null,null,null,null,null,null,null,null,null,null,"",null,null,"",null,""]
[null,null,null,null,null,null,null,null,null,null,null,null,null,null,null,null,"",null,null,"",null,""]
[null,null,null,null,null,null,null,null,null,null,null,null,null,null,null,null,"",null,null,"",null,""]
[null,null,null,null,null,null,null,null,null,null,null,null,null,null,null,null,"",null,null,"",null,""]
[null,null,null,null,null,null,null,null,null,null,null,null,null,null,null,null,"",null,null,"",null,""]
[null,null,null,null,null,null,null,null,null,null,null,null,null,null,null,null,"",null,null,"",null,""]
[null,null,null,null,null,null,null,null,null,null,null,null,null,null,null,null,"",null,null,{"$f":"IF(S3609<>\"\",S3609/9,\"\")","v":""},null,{"$f":"IF(U3609<>\"\",U3609/9,\"\")","v":""}]
[null,null,null,null,null,null,null,null,null,null,null,null,null,null,null,null,"",null,null,"",null,""]
[null,null,null,null,null,null,null,null,null,null,null,null,null,null,null,null,"",null,null,"",null,""]
[null,null,null,null,null,null,null,null,null,null,null,null,null,null,null,null,"",null,null,"",null,""]
[null,null,null,null,null,null,null,null,null,null,null,null,null,null,null,null,"",null,null,"",null,""]
[null,null,null,null,null,null,null,null,null,null,null,null,null,null,null,null,"",null,null,"",null,""]
[null,null,null,null,null,null,null,null,null,null,null,null,null,null,null,null,"",null,null,"",null,""]
[null,null,null,null,null,null,null,null,null,null,null,null,null,null,null,null,"",null,null,"",null,""]
[null,null,null,null,null,null,null,null,null,null,null,null,null,null,null,null,"",null,null,"",null,""]
[null,null,null,null,null,null,null,null,null,null,null,null,null,null,null,null,"",null,null,"",null,""]
[null,null,null,null,null,null,null,null,null,null,null,null,null,null,null,null,"",null,null,"",null,""]
[null,null,null,null,null,null,null,null,null,null,null,null,null,null,null,null,"",null,null,"",null,""]
[null,null,null,null,null,null,null,null,null,null,null,null,null,null,null,null,"",null,null,"",null,""]
[null,null,null,null,null,null,null,null,null,null,null,null,null,null,null,null,"",null,null,"",null,""]
[null,null,null,null,null,null,null,null,null,null,null,null,null,null,null,null,"",null,null,"",null,""]
[null,null,null,null,null,null,null,null,null,null,null,null,null,null,null,null,"",null,null,"",null,""]
[null,null,null,null,null,null,null,null,null,null,null,null,null,null,null,null,"",null,null,"",null,""]
[null,null,null,null,null,null,null,null,null,null,null,null,null,null,null,null,"",null,null,"",null,""]
[null,null,null,null,null,null,null,null,null,null,null,null,null,null,null,null,"",null,null,"",null,""]
[null,null,null,null,null,null,null,null,null,null,null,null,null,null,null,null,"",null,null,"",null,""]
[null,null,null,null,null,null,null,null,null,null,null,null,null,null,null,null,"",null,null,"",null,""]
[null,null,null,null,null,null,null,null,null,null,null,null,null,null,null,null,"",null,null,"",null,""]
[null,null,null,null,null,null,null,null,null,null,null,null,null,null,null,null,"",null,null,"",null,""]
[null,null,null,null,null,null,null,null,null,null,null,null,null,null,null,null,"",null,null,"",null,""]
[null,null,null,null,null,null,null,null,null,null,null,null,null,null,null,null,"",null,null,"",null,""]
[null,null,null,null,null,null,null,null,null,null,null,null,null,null,null,null,"",null,null,"",null,""]
[null,null,null,null,null,null,null,null,null,null,null,null,null,null,null,null,"",null,null,"",null,""]
[null,null,null,null,null,null,null,null,null,null,null,null,null,null,null,null,"",null,null,"",null,""]
[null,null,null,null,null,null,null,null,null,null,null,null,null,null,null,null,"",null,null,"",null,""]
[null,null,null,null,null,null,null,null,null,null,null,null,null,null,null,null,"",null,null,"",null,""]
[null,null,null,null,null,null,null,null,null,null,null,null,null,null,null,null,"",null,null,"",null,""]
[null,null,null,null,null,null,null,null,null,null,null,null,null,null,null,null,"",null,null,"",null,""]
[null,null,null,null,null,null,null,null,null,null,null,null,null,null,null,null,"",null,null,"",null,""]
[null,null,null,null,null,null,null,null,null,null,null,null,null,null,null,null,"",null,null,"",null,""]
[null,null,null,null,null,null,null,null,null,null,null,null,null,null,null,null,"",null,null,"",null,""]
[null,null,null,null,null,null,null,null,null,null,null,null,null,null,null,null,"",null,null,"",null,""]
[null,null,null,null,null,null,null,null,null,null,null,null,null,null,null,null,"",null,null,"",null,""]
[null,null,null,null,null,null,null,null,null,null,null,null,null,null,null,null,"",null,null,"",null,""]
[null,null,null,null,null,null,null,null,null,null,null,null,null,null,null,null,"",null,null,"",null,""]
[null,null,null,null,null,null,null,null,null,null,null,null,null,null,null,null,"",null,null,"",null,""]
[null,null,null,null,null,null,null,null,null,null,null,null,null,null,null,null,"",null,null,"",null,""]
[null,null,null,null,null,null,null,null,null,null,null,null,null,null,null,null,"",null,null,"",null,""]
[null,null,null,null,null,null,null,null,null,null,null,null,null,null,null,null,"",null,null,"",null,""]
[null,null,null,null,null,null,null,null,null,null,null,null,null,null,null,null,"",null,null,"",null,""]
[null,null,null,null,null,null,null,null,null,null,null,null,null,null,null,null,"",null,null,"",null,""]
[null,null,null,null,null,null,null,null,null,null,null,null,null,null,null,null,"",null,null,"",null,""]
[null,null,null,null,null,null,null,null,null,null,null,null,null,null,null,null,"",null,null,"",null,""]
[null,null,null,null,null,null,null,null,null,null,null,null,null,null,null,null,"",null,null,"",null,""]
[null,null,null,null,null,null,null,null,null,null,null,null,null,null,null,null,"",null,null,"",null,""]
[null,null,null,null,null,null,null,null,null,null,null,null,null,null,null,null,"",null,null,"",null,""]
[null,null,null,null,null,null,null,null,null,null,null,null,null,null,null,null,"",null,null,"",null,""]
[null,null,null,null,null,null,null,null,null,null,null,null,null,null,null,null,"",null,null,"",null,""]
[null,null,null,null,null,null,null,null,null,null,null,null,null,null,null,null,"",null,null,"",null,""]
[null,null,null,null,null,null,null,null,null,null,null,null,null,null,null,null,"",null,null,"",null,""]
[null,null,null,null,null,null,null,null,null,null,null,null,null,null,null,null,"",null,null,"",null,""]
[null,null,null,null,null,null,null,null,null,null,null,null,null,null,null,null,"",null,null,"",null,""]
[null,null,null,null,null,null,null,null,null,null,null,null,null,null,null,null,"",null,null,"",null,""]
[null,null,null,null,null,null,null,null,null,null,null,null,null,null,null,null,"",null,null,"",null,""]
[null,null,null,null,null,null,null,null,null,null,null,null,null,null,null,null,"",null,null,"",null,""]
[null,null,null,null,null,null,null,null,null,null,null,null,null,null,null,null,{"$f":"IF(M3709<>\"\",2,\"\")","v":""},null,null,"",null,""]
[null,null,null,null,null,null,null,null,null,null,null,null,null,null,null,null,"",null,null,"",null,""]
[null,null,null,null,null,null,null,null,null,null,null,null,null,null,null,null,"",null,null,"",null,""]
[null,null,null,null,null,null,null,null,null,null,null,null,null,null,null,null,"",null,null,"",null,""]
[null,null,null,null,null,null,null,null,null,null,null,null,null,null,null,null,"",null,null,"",null,""]
[null,null,null,null,null,null,null,null,null,null,null,null,null,null,null,null,"",null,null,"",null,""]
[null,null,null,null,null,null,null,null,null,null,null,null,null,null,null,null,"",null,null,"",null,""]
[null,null,null,null,null,null,null,null,null,null,null,null,null,null,null,null,"",null,null,"",null,""]
[null,null,null,null,null,null,null,null,null,null,null,null,null,null,null,null,"",null,null,"",null,""]
[null,null,null,null,null,null,null,null,null,null,null,null,null,null,null,null,"",null,null,"",null,""]
[null,null,null,null,null,null,null,null,null,null,null,null,null,null,null,null,"",null,null,"",null,""]
[null,null,null,null,null,null,null,null,null,null,null,null,null,null,null,null,"",null,null,"",null,""]
[null,null,null,null,null,null,null,null,null,null,null,null,null,null,null,null,"",null,null,"",null,""]
[null,null,null,null,null,null,null,null,null,null,null,null,null,null,null,null,"",null,null,"",null,""]
[null,null,null,null,null,null,null,null,null,null,null,null,null,null,null,null,"",null,null,"",null,""]
[null,null,null,null,null,null,null,null,null,null,null,null,null,null,null,null,"",null,null,"",null,""]
[null,null,null,null,null,null,null,null,null,null,null,null,null,null,null,null,"",null,null,{"$f":"IF(S3737<>\"\",S3737/9,\"\")","v":""},null,{"$f":"IF(U3737<>\"\",U3737/9,\"\")","v":""}]
[null,null,null,null,null,null,null,null,null,null,null,null,null,null,null,null,"",null,null,"",null,""]
[null,null,null,null,null,null,null,null,null,null,null,null,null,null,null,null,"",null,null,"",null,""]
[null,null,null,null,null,null,null,null,null,null,null,null,null,null,null,null,"",null,null,"",null,""]
[null,null,null,null,null,null,null,null,null,null,null,null,null,null,null,null,"",null,null,"",null,""]
[null,null,null,null,null,null,null,null,null,null,null,null,null,null,null,null,"",null,null,"",null,""]
[null,null,null,null,null,null,null,null,null,null,null,null,null,null,null,null,"",null,null,"",null,""]
[null,null,null,null,null,null,null,null,null,null,null,null,null,null,null,null,"",null,null,"",null,""]
[null,null,null,null,null,null,null,null,null,null,null,null,null,null,null,null,"",null,null,"",null,""]
[null,null,null,null,null,null,null,null,null,null,null,null,null,null,null,null,"",null,null,"",null,""]
[null,null,null,null,null,null,null,null,null,null,null,null,null,null,null,null,"",null,null,"",null,""]
[null,null,null,null,null,null,null,null,null,null,null,null,null,null,null,null,"",null,null,"",null,""]
[null,null,null,null,null,null,null,null,null,null,null,null,null,null,null,null,"",null,null,"",null,""]
[null,null,null,null,null,null,null,null,null,null,null,null,null,null,null,null,"",null,null,"",null,""]
[null,null,null,null,null,null,null,null,null,null,null,null,null,null,null,null,"",null,null,"",null,""]
[null,null,null,null,null,null,null,null,null,null,null,null,null,null,null,null,"",null,null,"",null,""]
[null,null,null,null,null,null,null,null,null,null,null,null,null,null,null,null,"",null,null,"",null,""]
[null,null,null,null,null,null,null,null,null,null,null,null,null,null,null,null,"",null,null,"",null,""]
[null,null,null,null,null,null,null,null,null,null,null,null,null,null,null,null,"",null,null,"",null,""]
[null,null,null,null,null,null,null,null,null,null,null,null,null,null,null,null,"",null,null,"",null,""]
[null,null,null,null,null,null,null,null,null,null,null,null,null,null,null,null,"",null,null,"",null,""]
[null,null,null,null,null,null,null,null,null,null,null,null,null,null,null,null,{"$f":"IF(M3773<>\"\",2,\"\")","v":""},null,null,"",null,""]
[null,null,null,null,null,null,null,null,null,null,null,null,null,null,null,null,"",null,null,"",null,""]
[null,null,null,null,null,null,null,null,null,null,null,null,null,null,null,null,"",null,null,"",null,""]
[null,null,null,null,null,null,null,null,null,null,null,null,null,null,null,null,"",null,null,"",null,""]
[null,null,null,null,null,null,null,null,null,null,null,null,null,null,null,null,"",null,null,"",null,""]
[null,null,null,null,null,null,null,null,null,null,null,null,null,null,null,null,"",null,null,"",null,""]
[null,null,null,null,null,null,null,null,null,null,null,null,null,null,null,null,"",null,null,"",null,""]
[null,null,null,null,null,null,null,null,null,null,null,null,null,null,null,null,"",null,null,"",null,""]
[null,null,null,null,null,null,null,null,null,null,null,null,null,null,null,null,"",null,null,"",null,""]
[null,null,null,null,null,null,null,null,null,null,null,null,null,null,null,null,"",null,null,"",null,""]
[null,null,null,null,null,null,null,null,null,null,null,null,null,null,null,null,"",null,null,"",null,""]
[null,null,null,null,null,null,null,null,null,null,null,null,null,null,null,null,"",null,null,"",null,""]
[null,null,null,null,null,null,null,null,null,null,null,null,null,null,null,null,"",null,null,"",null,""]
[null,null,null,null,null,null,null,null,null,null,null,null,null,null,null,null,"",null,null,"",null,""]
[null,null,null,null,null,null,null,null,null,null,null,null,null,null,null,null,"",null,null,"",null,""]
[null,null,null,null,null,null,null,null,null,null,null,null,null,null,null,null,"",null,null,"",null,""]
[null,null,null,null,null,null,null,null,null,null,null,null,null,null,null,null,"",null,null,{"$f":"IF(S3801<>\"\",S3801/9,\"\")","v":""},null,{"$f":"IF(U3801<>\"\",U3801/9,\"\")","v":""}]
[null,null,null,null,null,null,null,null,null,null,null,null,null,null,null,null,"",null,null,"",null,""]
[null,null,null,null,null,null,null,null,null,null,null,null,null,null,null,null,"",null,null,"",null,""]
[null,null,null,null,null,null,null,null,null,null,null,null,null,null,null,null,"",null,null,"",null,""]
[null,null,null,null,null,null,null,null,null,null,null,null,null,null,null,null,"",null,null,"",null,""]
[null,null,null,null,null,null,null,null,null,null,null,null,null,null,null,null,"",null,null,"",null,""]
[null,null,null,null,null,null,null,null,null,null,null,null,null,null,null,null,"",null,null,"",null,""]
[null,null,null,null,null,null,null,null,null,null,null,null,null,null,null,null,"",null,null,"",null,""]
[null,null,null,null,null,null,null,null,null,null,null,null,null,null,null,null,"",null,null,"",null,""]
[null,null,null,null,null,null,null,null,null,null,null,null,null,null,null,null,"",null,null,"",null,""]
[null,null,null,null,null,null,null,null,null,null,null,null,null,null,null,null,"",null,null,"",null,""]
[null,null,null,null,null,null,null,null,null,null,null,null,null,null,null,null,"",null,null,"",null,""]
[null,null,null,null,null,null,null,null,null,null,null,null,null,null,null,null,"",null,null,"",null,""]
[null,null,null,null,null,null,null,null,null,null,null,null,null,null,null,null,"",null,null,"",null,""]
[null,null,null,null,null,null,null,null,null,null,null,null,null,null,null,null,"",null,null,"",null,""]
[null,null,null,null,null,null,null,null,null,null,null,null,null,null,null,null,"",null,null,"",null,""]
[null,null,null,null,null,null,null,null,null,null,null,null,null,null,null,null,"",null,null,"",null,""]
[null,null,null,null,null,null,null,null,null,null,null,null,null,null,null,null,"",null,null,"",null,""]
[null,null,null,null,null,null,null,null,null,null,null,null,null,null,null,null,"",null,null,"",null,""]
[null,null,null,null,null,null,null,null,null,null,null,null,null,null,null,null,"",null,null,"",null,""]
[null,null,null,null,null,null,null,null,null,null,null,null,null,null,null,null,"",null,null,"",null,""]
[null,null,null,null,null,null,null,null,null,null,null,null,null,null,null,null,"",null,null,"",null,""]
[null,null,null,null,null,null,null,null,null,null,null,null,null,null,null,null,"",null,null,"",null,""]
[null,null,null,null,null,null,null,null,null,null,null,null,null,null,null,null,"",null,null,"",null,""]
[null,null,null,null,null,null,null,null,null,null,null,null,null,null,null,null,"",null,null,"",null,""]
[null,null,null,null,null,null,null,null,null,null,null,null,null,null,null,null,"",null,null,"",null,""]
[null,null,null,null,null,null,null,null,null,null,null,null,null,null,null,null,"",null,null,"",null,""]
[null,null,null,null,null,null,null,null,null,null,null,null,null,null,null,null,"",null,null,"",null,""]
[null,null,null,null,null,null,null,null,null,null,null,null,null,null,null,null,"",null,null,"",null,""]
[null,null,null,null,null,null,null,null,null,null,null,null,null,null,null,null,"",null,null,"",null,""]
[null,null,null,null,null,null,null,null,null,null,null,null,null,null,null,null,"",null,null,"",null,""]
[null,null,null,null,null,null,null,null,null,null,null,null,null,null,null,null,"",null,null,"",null,""]
[null,null,null,null,null,null,null,null,null,null,null,null,null,null,null,null,"",null,null,"",null,""]
[null,null,null,null,null,null,null,null,null,null,null,null,null,null,null,null,"",null,null,"",null,""]
[null,null,null,null,null,null,null,null,null,null,null,null,null,null,null,null,"",null,null,"",null,""]
[null,null,null,null,null,null,null,null,null,null,null,null,null,null,null,null,"",null,null,"",null,""]
[null,null,null,null,null,null,null,null,null,null,null,null,null,null,null,null,"",null,null,"",null,""]
[null,null,null,null,null,null,null,null,null,null,null,null,null,null,null,null,"",null,null,"",null,""]
[null,null,null,null,null,null,null,null,null,null,null,null,null,null,null,null,"",null,null,"",null,""]
[null,null,null,null,null,null,null,null,null,null,null,null,null,null,null,null,"",null,null,"",null,""]
[null,null,null,null,null,null,null,null,null,null,null,null,null,null,null,null,"",null,null,"",null,""]
[null,null,null,null,null,null,null,null,null,null,null,null,null,null,null,null,"",null,null,"",null,""]
[null,null,null,null,null,null,null,null,null,null,null,null,null,null,null,null,"",null,null,"",null,""]
[null,null,null,null,null,null,null,null,null,null,null,null,null,null,null,null,"",null,null,"",null,""]
[null,null,null,null,null,null,null,null,null,null,null,null,null,null,null,null,"",null,null,"",null,""]
[null,null,null,null,null,null,null,null,null,null,null,null,null,null,null,null,"",null,null,"",null,""]
[null,null,null,null,null,null,null,null,null,null,null,null,null,null,null,null,"",null,null,"",null,""]
[null,null,null,null,null,null,null,null,null,null,null,null,null,null,null,null,"",null,null,"",null,""]
[null,null,null,null,null,null,null,null,null,null,null,null,null,null,null,null,"",null,null,"",null,""]
[null,null,null,null,null,null,null,null,null,null,null,null,null,null,null,null,"",null,null,"",null,""]
[null,null,null,null,null,null,null,null,null,null,null,null,null,null,null,null,"",null,null,"",null,""]
[null,null,null,null,null,null,null,null,null,null,null,null,null,null,null,null,"",null,null,"",null,""]
[null,null,null,null,null,null,null,null,null,null,null,null,null,null,null,null,"",null,null,"",null,""]
[null,null,null,null,null,null,null,null,null,null,null,null,null,null,null,null,"",null,null,"",null,""]
[null,null,null,null,null,null,null,null,null,null,null,null,null,null,null,null,"",null,null,"",null,""]
[null,null,null,null,null,null,null,null,null,null,null,null,null,null,null,null,"",null,null,"",null,""]
[null,null,null,null,null,null,null,null,null,null,null,null,null,null,null,null,"",null,null,"",null,""]
[null,null,null,null,null,null,null,null,null,null,null,null,null,null,null,null,"",null,null,"",null,""]
[null,null,null,null,null,null,null,null,null,null,null,null,null,null,null,null,"",null,null,"",null,""]
[null,null,null,null,null,null,null,null,null,null,null,null,null,null,null,null,{"$f":"IF(M3901<>\"\",2,\"\")","v":""},null,null,"",null,""]
[null,null,null,null,null,null,null,null,null,null,null,null,null,null,null,null,"",null,null,"",null,""]
[null,null,null,null,null,null,null,null,null,null,null,null,null,null,null,null,"",null,null,"",null,""]
[null,null,null,null,null,null,null,null,null,null,null,null,null,null,null,null,"",null,null,"",null,""]
[null,null,null,null,null,null,null,null,null,null,null,null,null,null,null,null,"",null,null,"",null,""]
[null,null,null,null,null,null,null,null,null,null,null,null,null,null,null,null,"",null,null,"",null,""]
[null,null,null,null,null,null,null,null,null,null,null,null,null,null,null,null,"",null,null,"",null,""]
[null,null,null,null,null,null,null,null,null,null,null,null,null,null,null,null,"",null,null,"",null,""]
[null,null,null,null,null,null,null,null,null,null,null,null,null,null,null,null,"",null,null,"",null,""]
[null,null,null,null,null,null,null,null,null,null,null,null,null,null,null,null,"",null,null,"",null,""]
[null,null,null,null,null,null,null,null,null,null,null,null,null,null,null,null,"",null,null,"",null,""]
[null,null,null,null,null,null,null,null,null,null,null,null,null,null,null,null,"",null,null,"",null,""]
[null,null,null,null,null,null,null,null,null,null,null,null,null,null,null,null,"",null,null,"",null,""]
[null,null,null,null,null,null,null,null,null,null,null,null,null,null,null,null,"",null,null,"",null,""]
[null,null,null,null,null,null,null,null,null,null,null,null,null,null,null,null,"",null,null,"",null,""]
[null,null,null,null,null,null,null,null,null,null,null,null,null,null,null,null,"",null,null,"",null,""]
[null,null,null,null,null,null,null,null,null,null,null,null,null,null,null,null,"",null,null,{"$f":"IF(S3929<>\"\",S3929/9,\"\")","v":""},null,{"$f":"IF(U3929<>\"\",U3929/9,\"\")","v":""}]
[null,null,null,null,null,null,null,null,null,null,null,null,null,null,null,null,"",null,null,"",null,""]
[null,null,null,null,null,null,null,null,null,null,null,null,null,null,null,null,"",null,null,"",null,""]
[null,null,null,null,null,null,null,null,null,null,null,null,null,null,null,null,"",null,null,"",null,""]
[null,null,null,null,null,null,null,null,null,null,null,null,null,null,null,null,"",null,null,"",null,""]
[null,null,null,null,null,null,null,null,null,null,null,null,null,null,null,null,"",null,null,"",null,""]
[null,null,null,null,null,null,null,null,null,null,null,null,null,null,null,null,"",null,null,"",null,""]
[null,null,null,null,null,null,null,null,null,null,null,null,null,null,null,null,"",null,null,"",null,""]
[null,null,null,null,null,null,null,null,null,null,null,null,null,null,null,null,"",null,null,"",null,""]
[null,null,null,null,null,null,null,null,null,null,null,null,null,null,null,null,"",null,null,"",null,""]
[null,null,null,null,null,null,null,null,null,null,null,null,null,null,null,null,"",null,null,"",null,""]
[null,null,null,null,null,null,null,null,null,null,null,null,null,null,null,null,"",null,null,"",null,""]
[null,null,null,null,null,null,null,null,null,null,null,null,null,null,null,null,"",null,null,"",null,""]
[null,null,null,null,null,null,null,null,null,null,null,null,null,null,null,null,"",null,null,"",null,""]
[null,null,null,null,null,null,null,null,null,null,null,null,null,null,null,null,"",null,null,"",null,""]
[null,null,null,null,null,null,null,null,null,null,null,null,null,null,null,null,"",null,null,"",null,""]
[null,null,null,null,null,null,null,null,null,null,null,null,null,null,null,null,"",null,null,"",null,""]
[null,null,null,null,null,null,null,null,null,null,null,null,null,null,null,null,"",null,null,"",null,""]
[null,null,null,null,null,null,null,null,null,null,null,null,null,null,null,null,"",null,null,"",null,""]
[null,null,null,null,null,null,null,null,null,null,null,null,null,null,null,null,"",null,null,"",null,""]
[null,null,null,null,null,null,null,null,null,null,null,null,null,null,null,null,"",null,null,"",null,""]
[null,null,null,null,null,null,null,null,null,null,null,null,null,null,null,null,{"$f":"IF(M3965<>\"\",2,\"\")","v":""},null,null,"",null,""]
[null,null,null,null,null,null,null,null,null,null,null,null,null,null,null,null,"",null,null,"",null,""]
[null,null,null,null,null,null,null,null,null,null,null,null,null,null,null,null,"",null,null,"",null,""]
[null,null,null,null,null,null,null,null,null,null,null,null,null,null,null,null,"",null,null,"",null,""]
[null,null,null,null,null,null,null,null,null,null,null,null,null,null,null,null,"",null,null,"",null,""]
[null,null,null,null,null,null,null,null,null,null,null,null,null,null,null,null,"",null,null,"",null,""]
[null,null,null,null,null,null,null,null,null,null,null,null,null,null,null,null,"",null,null,"",null,""]
[null,null,null,null,null,null,null,null,null,null,null,null,null,null,null,null,"",null,null,"",null,""]
[null,null,null,null,null,null,null,null,null,null,null,null,null,null,null,null,"",null,null,"",null,""]
[null,null,null,null,null,null,null,null,null,null,null,null,null,null,null,null,"",null,null,"",null,""]
[null,null,null,null,null,null,null,null,null,null,null,null,null,null,null,null,"",null,null,"",null,""]
[null,null,null,null,null,null,null,null,null,null,null,null,null,null,null,null,"",null,null,"",null,""]
[null,null,null,null,null,null,null,null,null,null,null,null,null,null,null,null,"",null,null,"",null,""]
[null,null,null,null,null,null,null,null,null,null,null,null,null,null,null,null,"",null,null,"",null,""]
[null,null,null,null,null,null,null,null,null,null,null,null,null,null,null,null,"",null,null,"",null,""]
[null,null,null,null,null,null,null,null,null,null,null,null,null,null,null,null,"",null,null,"",null,""]
[null,null,null,null,null,null,null,null,null,null,null,null,null,null,null,null,"",null,null,{"$f":"IF(S3993<>\"\",S3993/9,\"\")","v":""},null,{"$f":"IF(U3993<>\"\",U3993/9,\"\")","v":""}]
[null,null,null,null,null,null,null,null,null,null,null,null,null,null,null,null,"",null,null,"",null,""]
[null,null,null,null,null,null,null,null,null,null,null,null,null,null,null,null,"",null,null,"",null,""]
[null,null,null,null,null,null,null,null,null,null,null,null,null,null,null,null,"",null,null,"",null,""]
[null,null,null,null,null,null,null,null,null,null,null,null,null,null,null,null,"",null,null,"",null,""]
[null,null,null,null,null,null,null,null,null,null,null,null,null,null,null,null,"",null,null,"",null,""]
[null,null,null,null,null,null,null,null,null,null,null,null,null,null,null,null,"",null,null,"",null,""]
[null,null,null,null,null,null,null,null,null,null,null,null,null,null,null,null,"",null,null,"",null,""]
[null,null,null,null,null,null,null,null,null,null,null,null,null,null,null,null,"",null,null,"",null,""]
[null,null,null,null,null,null,null,null,null,null,null,null,null,null,null,null,"",null,null,"",null,""]
[null,null,null,null,null,null,null,null,null,null,null,null,null,null,null,null,"",null,null,"",null,""]
[null,null,null,null,null,null,null,null,null,null,null,null,null,null,null,null,"",null,null,"",null,""]
[null,null,null,null,null,null,null,null,null,null,null,null,null,null,null,null,"",null,null,"",null,""]
[null,null,null,null,null,null,null,null,null,null,null,null,null,null,null,null,"",null,null,"",null,""]
[null,null,null,null,null,null,null,null,null,null,null,null,null,null,null,null,"",null,null,"",null,""]
[null,null,null,null,null,null,null,null,null,null,null,null,null,null,null,null,"",null,null,"",null,""]
[null,null,null,null,null,null,null,null,null,null,null,null,null,null,null,null,"",null,null,"",null,""]
[null,null,null,null,null,null,null,null,null,null,null,null,null,null,null,null,"",null,null,"",null,""]
[null,null,null,null,null,null,null,null,null,null,null,null,null,null,null,null,"",null,null,"",null,""]
[null,null,null,null,null,null,null,null,null,null,null,null,null,null,null,null,"",null,null,"",null,""]
[null,null,null,null,null,null,null,null,null,null,null,null,null,null,null,null,"",null,null,"",null,""]
[null,null,null,null,null,null,null,null,null,null,null,null,null,null,null,null,"",null,null,"",null,""]
[null,null,null,null,null,null,null,null,null,null,null,null,null,null,null,null,"",null,null,"",null,""]
[null,null,null,null,null,null,null,null,null,null,null,null,null,null,null,null,"",null,null,"",null,""]
[null,null,null,null,null,null,null,null,null,null,null,null,null,null,null,null,"",null,null,"",null,""]
[null,null,null,null,null,null,null,null,null,null,null,null,null,null,null,null,"",null,null,"",null,""]
[null,null,null,null,null,null,null,null,null,null,null,null,null,null,null,null,"",null,null,"",null,""]
[null,null,null,null,null,null,null,null,null,null,null,null,null,null,null,null,"",null,null,"",null,""]
[null,null,null,null,null,null,null,null,null,null,null,null,null,null,null,null,"",null,null,"",null,""]
[null,null,null,null,null,null,null,null,null,null,null,null,null,null,null,null,"",null,null,"",null,""]
[null,null,null,null,null,null,null,null,null,null,null,null,null,null,null,null,"",null,null,"",null,""]
[null,null,null,null,null,null,null,null,null,null,null,null,null,null,null,null,"",null,null,"",null,""]
[null,null,null,null,null,null,null,null,null,null,null,null,null,null,null,null,"",null,null,"",null,""]
[null,null,null,null,null,null,null,null,null,null,null,null,null,null,null,null,"",null,null,"",null,""]
[null,null,null,null,null,null,null,null,null,null,null,null,null,null,null,null,"",null,null,"",null,""]
[null,null,null,null,null,null,null,null,null,null,null,null,null,null,null,null,"",null,null,"",null,""]
[null,null,null,null,null,null,null,null,null,null,null,null,null,null,null,null,"",null,null,"",null,""]
[null,null,null,null,null,null,null,null,null,null,null,null,null,null,null,null,"",null,null,"",null,""]
[null,null,null,null,null,null,null,null,null,null,null,null,null,null,null,null,"",null,null,"",null,""]
[null,null,null,null,null,null,null,null,null,null,null,null,null,null,null,null,"",null,null,"",null,""]
[null,null,null,null,null,null,null,null,null,null,null,null,null,null,null,null,"",null,null,"",null,""]
[null,null,null,null,null,null,null,null,null,null,null,null,null,null,null,null,"",null,null,"",null,""]
[null,null,null,null,null,null,null,null,null,null,null,null,null,null,null,null,"",null,null,"",null,""]
[null,null,null,null,null,null,null,null,null,null,null,null,null,null,null,null,"",null,null,"",null,""]
[null,null,null,null,null,null,null,null,null,null,null,null,null,null,null,null,"",null,null,"",null,""]
[null,null,null,null,null,null,null,null,null,null,null,null,null,null,null,null,"",null,null,"",null,""]
[null,null,null,null,null,null,null,null,null,null,null,null,null,null,null,null,"",null,null,"",null,""]
[null,null,null,null,null,null,null,null,null,null,null,null,null,null,null,null,"",null,null,"",null,""]
[null,null,null,null,null,null,null,null,null,null,null,null,null,null,null,null,"",null,null,"",null,""]
[null,null,null,null,null,null,null,null,null,null,null,null,null,null,null,null,"",null,null,"",null,""]
[null,null,null,null,null,null,null,null,null,null,null,null,null,null,null,null,"",null,null,"",null,""]
[null,null,null,null,null,null,null,null,null,null,null,null,null,null,null,null,"",null,null,"",null,""]
[null,null,null,null,null,null,null,null,null,null,null,null,null,null,null,null,"",null,null,"",null,""]
[null,null,null,null,null,null,null,null,null,null,null,null,null,null,null,null,"",null,null,"",null,""]
[null,null,null,null,null,null,null,null,null,null,null,null,null,null,null,null,"",null,null,"",null,""]
[null,null,null,null,null,null,null,null,null,null,null,null,null,null,null,null,"",null,null,"",null,""]
[null,null,null,null,null,null,null,null,null,null,null,null,null,null,null,null,"",null,null,"",null,""]
[null,null,null,null,null,null,null,null,null,null,null,null,null,null,null,null,"",null,null,"",null,""]
[null,null,null,null,null,null,null,null,null,null,null,null,null,null,null,null,"",null,null,"",null,""]
[null,null,null,null,null,null,null,null,null,null,null,null,null,null,null,null,{"$f":"IF(M4093<>\"\",2,\"\")","v":""},null,null,"",null,""]
[null,null,null,null,null,null,null,null,null,null,null,null,null,null,null,null,"",null,null,"",null,""]
[null,null,null,null,null,null,null,null,null,null,null,null,null,null,null,null,"",null,null,"",null,""]
[null,null,null,null,null,null,null,null,null,null,null,null,null,null,null,null,"",null,null,"",null,""]
[null,null,null,null,null,null,null,null,null,null,null,null,null,null,null,null,"",null,null,"",null,""]
[null,null,null,null,null,null,null,null,null,null,null,null,null,null,null,null,"",null,null,"",null,""]
[null,null,null,null,null,null,null,null,null,null,null,null,null,null,null,null,"",null,null,"",null,""]
[null,null,null,null,null,null,null,null,null,null,null,null,null,null,null,null,"",null,null,"",null,""]
[null,null,null,null,null,null,null,null,null,null,null,null,null,null,null,null,"",null,null,"",null,""]
[null,null,null,null,null,null,null,null,null,null,null,null,null,null,null,null,"",null,null,"",null,""]
[null,null,null,null,null,null,null,null,null,null,null,null,null,null,null,null,"",null,null,"",null,""]
[null,null,null,null,null,null,null,null,null,null,null,null,null,null,null,null,"",null,null,"",null,""]
[null,null,null,null,null,null,null,null,null,null,null,null,null,null,null,null,"",null,null,"",null,""]
[null,null,null,null,null,null,null,null,null,null,null,null,null,null,null,null,"",null,null,"",null,""]
[null,null,null,null,null,null,null,null,null,null,null,null,null,null,null,null,"",null,null,"",null,""]
[null,null,null,null,null,null,null,null,null,null,null,null,null,null,null,null,"",null,null,"",null,""]
[null,null,null,null,null,null,null,null,null,null,null,null,null,null,null,null,"",null,null,{"$f":"IF(S4121<>\"\",S4121/9,\"\")","v":""},null,{"$f":"IF(U4121<>\"\",U4121/9,\"\")","v":""}]
[null,null,null,null,null,null,null,null,null,null,null,null,null,null,null,null,"",null,null,"",null,""]
[null,null,null,null,null,null,null,null,null,null,null,null,null,null,null,null,"",null,null,"",null,""]
[null,null,null,null,null,null,null,null,null,null,null,null,null,null,null,null,"",null,null,"",null,""]
[null,null,null,null,null,null,null,null,null,null,null,null,null,null,null,null,"",null,null,"",null,""]
[null,null,null,null,null,null,null,null,null,null,null,null,null,null,null,null,"",null,null,"",null,""]
[null,null,null,null,null,null,null,null,null,null,null,null,null,null,null,null,"",null,null,"",null,""]
[null,null,null,null,null,null,null,null,null,null,null,null,null,null,null,null,"",null,null,"",null,""]
[null,null,null,null,null,null,null,null,null,null,null,null,null,null,null,null,"",null,null,"",null,""]
[null,null,null,null,null,null,null,null,null,null,null,null,null,null,null,null,"",null,null,"",null,""]
[null,null,null,null,null,null,null,null,null,null,null,null,null,null,null,null,"",null,null,"",null,""]
[null,null,null,null,null,null,null,null,null,null,null,null,null,null,null,null,"",null,null,"",null,""]
[null,null,null,null,null,null,null,null,null,null,null,null,null,null,null,null,"",null,null,"",null,""]
[null,null,null,null,null,null,null,null,null,null,null,null,null,null,null,null,"",null,null,"",null,""]
[null,null,null,null,null,null,null,null,null,null,null,null,null,null,null,null,"",null,null,"",null,""]
[null,null,null,null,null,null,null,null,null,null,null,null,null,null,null,null,"",null,null,"",null,""]
[null,null,null,null,null,null,null,null,null,null,null,null,null,null,null,null,"",null,null,"",null,""]
[null,null,null,null,null,null,null,null,null,null,null,null,null,null,null,null,"",null,null,"",null,""]
[null,null,null,null,null,null,null,null,null,null,null,null,null,null,null,null,"",null,null,"",null,""]
[null,null,null,null,null,null,null,null,null,null,null,null,null,null,null,null,"",null,null,"",null,""]
[null,null,null,null,null,null,null,null,null,null,null,null,null,null,null,null,"",null,null,"",null,""]
[null,null,null,null,null,null,null,null,null,null,null,null,null,null,null,null,{"$f":"IF(M4157<>\"\",2,\"\")","v":""},null,null,"",null,""]
[null,null,null,null,null,null,null,null,null,null,null,null,null,null,null,null,"",null,null,"",null,""]
[null,null,null,null,null,null,null,null,null,null,null,null,null,null,null,null,"",null,null,"",null,""]
[null,null,null,null,null,null,null,null,null,null,null,null,null,null,null,null,"",null,null,"",null,""]
[null,null,null,null,null,null,null,null,null,null,null,null,null,null,null,null,"",null,null,"",null,""]
[null,null,null,null,null,null,null,null,null,null,null,null,null,null,null,null,"",null,null,"",null,""]
[null,null,null,null,null,null,null,null,null,null,null,null,null,null,null,null,"",null,null,"",null,""]
[null,null,null,null,null,null,null,null,null,null,null,null,null,null,null,null,"",null,null,"",null,""]
[null,null,null,null,null,null,null,null,null,null,null,null,null,null,null,null,"",null,null,"",null,""]
[null,null,null,null,null,null,null,null,null,null,null,null,null,null,null,null,"",null,null,"",null,""]
[null,null,null,null,null,null,null,null,null,null,null,null,null,null,null,null,"",null,null,"",null,""]
[null,null,null,null,null,null,null,null,null,null,null,null,null,null,null,null,"",null,null,"",null,""]
[null,null,null,null,null,null,null,null,null,null,null,null,null,null,null,null,"",null,null,"",null,""]
[null,null,null,null,null,null,null,null,null,null,null,null,null,null,null,null,"",null,null,"",null,""]
[null,null,null,null,null,null,null,null,null,null,null,null,null,null,null,null,"",null,null,"",null,""]
[null,null,null,null,null,null,null,null,null,null,null,null,null,null,null,null,"",null,null,"",null,""]
[null,null,null,null,null,null,null,null,null,null,null,null,null,null,null,null,"",null,null,{"$f":"IF(S4185<>\"\",S4185/9,\"\")","v":""},null,{"$f":"IF(U4185<>\"\",U4185/9,\"\")","v":""}]
[null,null,null,null,null,null,null,null,null,null,null,null,null,null,null,null,"",null,null,"",null,""]
[null,null,null,null,null,null,null,null,null,null,null,null,null,null,null,null,"",null,null,"",null,""]
[null,null,null,null,null,null,null,null,null,null,null,null,null,null,null,null,"",null,null,"",null,""]
[null,null,null,null,null,null,null,null,null,null,null,null,null,null,null,null,"",null,null,"",null,""]
[null,null,null,null,null,null,null,null,null,null,null,null,null,null,null,null,"",null,null,"",null,""]
[null,null,null,null,null,null,null,null,null,null,null,null,null,null,null,null,"",null,null,"",null,""]
[null,null,null,null,null,null,null,null,null,null,null,null,null,null,null,null,"",null,null,"",null,""]
[null,null,null,null,null,null,null,null,null,null,null,null,null,null,null,null,"",null,null,"",null,""]
[null,null,null,null,null,null,null,null,null,null,null,null,null,null,null,null,"",null,null,"",null,""]
[null,null,null,null,null,null,null,null,null,null,null,null,null,null,null,null,"",null,null,"",null,""]
[null,null,null,null,null,null,null,null,null,null,null,null,null,null,null,null,"",null,null,"",null,""]
[null,null,null,null,null,null,null,null,null,null,null,null,null,null,null,null,"",null,null,"",null,""]
[null,null,null,null,null,null,null,null,null,null,null,null,null,null,null,null,"",null,null,"",null,""]
[null,null,null,null,null,null,null,null,null,null,null,null,null,null,null,null,"",null,null,"",null,""]
[null,null,null,null,null,null,null,null,null,null,null,null,null,null,null,null,"",null,null,"",null,""]
[null,null,null,null,null,null,null,null,null,null,null,null,null,null,null,null,"",null,null,"",null,""]
[null,null,null,null,null,null,null,null,null,null,null,null,null,null,null,null,"",null,null,"",null,""]
[null,null,null,null,null,null,null,null,null,null,null,null,null,null,null,null,"",null,null,"",null,""]
[null,null,null,null,null,null,null,null,null,null,null,null,null,null,null,null,"",null,null,"",null,""]
[null,null,null,null,null,null,null,null,null,null,null,null,null,null,null,null,"",null,null,"",null,""]
[null,null,null,null,null,null,null,null,null,null,null,null,null,null,null,null,"",null,null,"",null,""]
[null,null,null,null,null,null,null,null,null,null,null,null,null,null,null,null,"",null,null,"",null,""]
[null,null,null,null,null,null,null,null,null,null,null,null,null,null,null,null,"",null,null,"",null,""]
[null,null,null,null,null,null,null,null,null,null,null,null,null,null,null,null,"",null,null,"",null,""]
[null,null,null,null,null,null,null,null,null,null,null,null,null,null,null,null,"",null,null,"",null,""]
[null,null,null,null,null,null,null,null,null,null,null,null,null,null,null,null,"",null,null,"",null,""]
[null,null,null,null,null,null,null,null,null,null,null,null,null,null,null,null,"",null,null,"",null,""]
[null,null,null,null,null,null,null,null,null,null,null,null,null,null,null,null,"",null,null,"",null,""]
[null,null,null,null,null,null,null,null,null,null,null,null,null,null,null,null,"",null,null,"",null,""]
[null,null,null,null,null,null,null,null,null,null,null,null,null,null,null,null,"",null,null,"",null,""]
[null,null,null,null,null,null,null,null,null,null,null,null,null,null,null,null,"",null,null,"",null,""]
[null,null,null,null,null,null,null,null,null,null,null,null,null,null,null,null,"",null,null,"",null,""]
[null,null,null,null,null,null,null,null,null,null,null,null,null,null,null,null,"",null,null,"",null,""]
[null,null,null,null,null,null,null,null,null,null,null,null,null,null,null,null,"",null,null,"",null,""]
[null,null,null,null,null,null,null,null,null,null,null,null,null,null,null,null,"",null,null,"",null,""]
[null,null,null,null,null,null,null,null,null,null,null,null,null,null,null,null,"",null,null,"",null,""]
[null,null,null,null,null,null,null,null,null,null,null,null,null,null,null,null,"",null,null,"",null,""]
[null,null,null,null,null,null,null,null,null,null,null,null,null,null,null,null,"",null,null,"",null,""]
[null,null,null,null,null,null,null,null,null,null,null,null,null,null,null,null,"",null,null,"",null,""]
[null,null,null,null,null,null,null,null,null,null,null,null,null,null,null,null,"",null,null,"",null,""]
[null,null,null,null,null,null,null,null,null,null,null,null,null,null,null,null,"",null,null,"",null,""]
[null,null,null,null,null,null,null,null,null,null,null,null,null,null,null,null,"",null,null,"",null,""]
[null,null,null,null,null,null,null,null,null,null,null,null,null,null,null,null,"",null,null,"",null,""]
[null,null,null,null,null,null,null,null,null,null,null,null,null,null,null,null,"",null,null,"",null,""]
[null,null,null,null,null,null,null,null,null,null,null,null,null,null,null,null,"",null,null,"",null,""]
[null,null,null,null,null,null,null,null,null,null,null,null,null,null,null,null,"",null,null,"",null,""]
[null,null,null,null,null,null,null,null,null,null,null,null,null,null,null,null,"",null,null,"",null,""]
[null,null,null,null,null,null,null,null,null,null,null,null,null,null,null,null,"",null,null,"",null,""]
[null,null,null,null,null,null,null,null,null,null,null,null,null,null,null,null,"",null,null,"",null,""]
[null,null,null,null,null,null,null,null,null,null,null,null,null,null,null,null,"",null,null,"",null,""]
[null,null,null,null,null,null,null,null,null,null,null,null,null,null,null,null,"",null,null,"",null,""]
[null,null,null,null,null,null,null,null,null,null,null,null,null,null,null,null,"",null,null,"",null,""]
[null,null,null,null,null,null,null,null,null,null,null,null,null,null,null,null,"",null,null,"",null,""]
[null,null,null,null,null,null,null,null,null,null,null,null,null,null,null,null,"",null,null,"",null,""]
[null,null,null,null,null,null,null,null,null,null,null,null,null,null,null,null,"",null,null,"",null,""]
[null,null,null,null,null,null,null,null,null,null,null,null,null,null,null,null,"",null,null,"",null,""]
[null,null,null,null,null,null,null,null,null,null,null,null,null,null,null,null,"",null,null,"",null,""]
[null,null,null,null,null,null,null,null,null,null,null,null,null,null,null,null,"",null,null,"",null,""]
[null,null,null,null,null,null,null,null,null,null,null,null,null,null,null,null,{"$f":"IF(M4285<>\"\",2,\"\")","v":""},null,null,"",null,""]
[null,null,null,null,null,null,null,null,null,null,null,null,null,null,null,null,"",null,null,"",null,""]
[null,null,null,null,null,null,null,null,null,null,null,null,null,null,null,null,"",null,null,"",null,""]
[null,null,null,null,null,null,null,null,null,null,null,null,null,null,null,null,"",null,null,"",null,""]
[null,null,null,null,null,null,null,null,null,null,null,null,null,null,null,null,"",null,null,"",null,""]
[null,null,null,null,null,null,null,null,null,null,null,null,null,null,null,null,"",null,null,"",null,""]
[null,null,null,null,null,null,null,null,null,null,null,null,null,null,null,null,"",null,null,"",null,""]
[null,null,null,null,null,null,null,null,null,null,null,null,null,null,null,null,"",null,null,"",null,""]
[null,null,null,null,null,null,null,null,null,null,null,null,null,null,null,null,"",null,null,"",null,""]
[null,null,null,null,null,null,null,null,null,null,null,null,null,null,null,null,"",null,null,"",null,""]
[null,null,null,null,null,null,null,null,null,null,null,null,null,null,null,null,"",null,null,"",null,""]
[null,null,null,null,null,null,null,null,null,null,null,null,null,null,null,null,"",null,null,"",null,""]
[null,null,null,null,null,null,null,null,null,null,null,null,null,null,null,null,"",null,null,"",null,""]
[null,null,null,null,null,null,null,null,null,null,null,null,null,null,null,null,"",null,null,"",null,""]
[null,null,null,null,null,null,null,null,null,null,null,null,null,null,null,null,"",null,null,"",null,""]
[null,null,null,null,null,null,null,null,null,null,null,null,null,null,null,null,"",null,null,"",null,""]
[null,null,null,null,null,null,null,null,null,null,null,null,null,null,null,null,"",null,null,{"$f":"IF(S4313<>\"\",S4313/9,\"\")","v":""},null,{"$f":"IF(U4313<>\"\",U4313/9,\"\")","v":""}]
[null,null,null,null,null,null,null,null,null,null,null,null,null,null,null,null,"",null,null,"",null,""]
[null,null,null,null,null,null,null,null,null,null,null,null,null,null,null,null,"",null,null,"",null,""]
[null,null,null,null,null,null,null,null,null,null,null,null,null,null,null,null,"",null,null,"",null,""]
[null,null,null,null,null,null,null,null,null,null,null,null,null,null,null,null,"",null,null,"",null,""]
[null,null,null,null,null,null,null,null,null,null,null,null,null,null,null,null,"",null,null,"",null,""]
[null,null,null,null,null,null,null,null,null,null,null,null,null,null,null,null,"",null,null,"",null,""]
[null,null,null,null,null,null,null,null,null,null,null,null,null,null,null,null,"",null,null,"",null,""]
[null,null,null,null,null,null,null,null,null,null,null,null,null,null,null,null,"",null,null,"",null,""]
[null,null,null,null,null,null,null,null,null,null,null,null,null,null,null,null,"",null,null,"",null,""]
[null,null,null,null,null,null,null,null,null,null,null,null,null,null,null,null,"",null,null,"",null,""]
[null,null,null,null,null,null,null,null,null,null,null,null,null,null,null,null,"",null,null,"",null,""]
[null,null,null,null,null,null,null,null,null,null,null,null,null,null,null,null,"",null,null,"",null,""]
[null,null,null,null,null,null,null,null,null,null,null,null,null,null,null,null,"",null,null,"",null,""]
[null,null,null,null,null,null,null,null,null,null,null,null,null,null,null,null,"",null,null,"",null,""]
[null,null,null,null,null,null,null,null,null,null,null,null,null,null,null,null,"",null,null,"",null,""]
[null,null,null,null,null,null,null,null,null,null,null,null,null,null,null,null,"",null,null,"",null,""]
[null,null,null,null,null,null,null,null,null,null,null,null,null,null,null,null,"",null,null,"",null,""]
[null,null,null,null,null,null,null,null,null,null,null,null,null,null,null,null,"",null,null,"",null,""]
[null,null,null,null,null,null,null,null,null,null,null,null,null,null,null,null,"",null,null,"",null,""]
[null,null,null,null,null,null,null,null,null,null,null,null,null,null,null,null,"",null,null,"",null,""]
[null,null,null,null,null,null,null,null,null,null,null,null,null,null,null,null,{"$f":"IF(M4349<>\"\",2,\"\")","v":""},null,null,"",null,""]
[null,null,null,null,null,null,null,null,null,null,null,null,null,null,null,null,"",null,null,"",null,""]
[null,null,null,null,null,null,null,null,null,null,null,null,null,null,null,null,"",null,null,"",null,""]
[null,null,null,null,null,null,null,null,null,null,null,null,null,null,null,null,"",null,null,"",null,""]
[null,null,null,null,null,null,null,null,null,null,null,null,null,null,null,null,"",null,null,"",null,""]
[null,null,null,null,null,null,null,null,null,null,null,null,null,null,null,null,"",null,null,"",null,""]
[null,null,null,null,null,null,null,null,null,null,null,null,null,null,null,null,"",null,null,"",null,""]
[null,null,null,null,null,null,null,null,null,null,null,null,null,null,null,null,"",null,null,"",null,""]
[null,null,null,null,null,null,null,null,null,null,null,null,null,null,null,null,"",null,null,"",null,""]
[null,null,null,null,null,null,null,null,null,null,null,null,null,null,null,null,"",null,null,"",null,""]
[null,null,null,null,null,null,null,null,null,null,null,null,null,null,null,null,"",null,null,"",null,""]
[null,null,null,null,null,null,null,null,null,null,null,null,null,null,null,null,"",null,null,"",null,""]
[null,null,null,null,null,null,null,null,null,null,null,null,null,null,null,null,"",null,null,"",null,""]
[null,null,null,null,null,null,null,null,null,null,null,null,null,null,null,null,"",null,null,"",null,""]
[null,null,null,null,null,null,null,null,null,null,null,null,null,null,null,null,"",null,null,"",null,""]
[null,null,null,null,null,null,null,null,null,null,null,null,null,null,null,null,"",null,null,"",null,""]
[null,null,null,null,null,null,null,null,null,null,null,null,null,null,null,null,"",null,null,{"$f":"IF(S4377<>\"\",S4377/9,\"\")","v":""},null,{"$f":"IF(U4377<>\"\",U4377/9,\"\")","v":""}]
[null,null,null,null,null,null,null,null,null,null,null,null,null,null,null,null,"",null,null,"",null,""]
[null,null,null,null,null,null,null,null,null,null,null,null,null,null,null,null,"",null,null,"",null,""]
[null,null,null,null,null,null,null,null,null,null,null,null,null,null,null,null,"",null,null,"",null,""]
[null,null,null,null,null,null,null,null,null,null,null,null,null,null,null,null,"",null,null,"",null,""]
[null,null,null,null,null,null,null,null,null,null,null,null,null,null,null,null,"",null,null,"",null,""]
[null,null,null,null,null,null,null,null,null,null,null,null,null,null,null,null,"",null,null,"",null,""]
[null,null,null,null,null,null,null,null,null,null,null,null,null,null,null,null,"",null,null,"",null,""]
[null,null,null,null,null,null,null,null,null,null,null,null,null,null,null,null,"",null,null,"",null,""]
[null,null,null,null,null,null,null,null,null,null,null,null,null,null,null,null,"",null,null,"",null,""]
[null,null,null,null,null,null,null,null,null,null,null,null,null,null,null,null,"",null,null,"",null,""]
[null,null,null,null,null,null,null,null,null,null,null,null,null,null,null,null,"",null,null,"",null,""]
[null,null,null,null,null,null,null,null,null,null,null,null,null,null,null,null,"",null,null,"",null,""]
[null,null,null,null,null,null,null,null,null,null,null,null,null,null,null,null,"",null,null,"",null,""]
[null,null,null,null,null,null,null,null,null,null,null,null,null,null,null,null,"",null,null,"",null,""]
[null,null,null,null,null,null,null,null,null,null,null,null,null,null,null,null,"",null,null,"",null,""]
[null,null,null,null,null,null,null,null,null,null,null,null,null,null,null,null,"",null,null,"",null,""]
[null,null,null,null,null,null,null,null,null,null,null,null,null,null,null,null,"",null,null,"",null,""]
[null,null,null,null,null,null,null,null,null,null,null,null,null,null,null,null,"",null,null,"",null,""]
[null,null,null,null,null,null,null,null,null,null,null,null,null,null,null,null,"",null,null,"",null,""]
[null,null,null,null,null,null,null,null,null,null,null,null,null,null,null,null,"",null,null,"",null,""]
[null,null,null,null,null,null,null,null,null,null,null,null,null,null,null,null,"",null,null,"",null,""]
[null,null,null,null,null,null,null,null,null,null,null,null,null,null,null,null,"",null,null,"",null,""]
[null,null,null,null,null,null,null,null,null,null,null,null,null,null,null,null,"",null,null,"",null,""]
[null,null,null,null,null,null,null,null,null,null,null,null,null,null,null,null,"",null,null,"",null,""]
[null,null,null,null,null,null,null,null,null,null,null,null,null,null,null,null,"",null,null,"",null,""]
[null,null,null,null,null,null,null,null,null,null,null,null,null,null,null,null,"",null,null,"",null,""]
[null,null,null,null,null,null,null,null,null,null,null,null,null,null,null,null,"",null,null,"",null,""]
[null,null,null,null,null,null,null,null,null,null,null,null,null,null,null,null,"",null,null,"",null,""]
[null,null,null,null,null,null,null,null,null,null,null,null,null,null,null,null,"",null,null,"",null,""]
[null,null,null,null,null,null,null,null,null,null,null,null,null,null,null,null,"",null,null,"",null,""]
[null,null,null,null,null,null,null,null,null,null,null,null,null,null,null,null,"",null,null,"",null,""]
[null,null,null,null,null,null,null,null,null,null,null,null,null,null,null,null,"",null,null,"",null,""]
[null,null,null,null,null,null,null,null,null,null,null,null,null,null,null,null,"",null,null,"",null,""]
[null,null,null,null,null,null,null,null,null,null,null,null,null,null,null,null,"",null,null,"",null,""]
[null,null,null,null,null,null,null,null,null,null,null,null,null,null,null,null,"",null,null,"",null,""]
[null,null,null,null,null,null,null,null,null,null,null,null,null,null,null,null,"",null,null,"",null,""]
[null,null,null,null,null,null,null,null,null,null,null,null,null,null,null,null,"",null,null,"",null,""]
[null,null,null,null,null,null,null,null,null,null,null,null,null,null,null,null,"",null,null,"",null,""]
[null,null,null,null,null,null,null,null,null,null,null,null,null,null,null,null,"",null,null,"",null,""]
[null,null,null,null,null,null,null,null,null,null,null,null,null,null,null,null,"",null,null,"",null,""]
[null,null,null,null,null,null,null,null,null,null,null,null,null,null,null,null,"",null,null,"",null,""]
[null,null,null,null,null,null,null,null,null,null,null,null,null,null,null,null,"",null,null,"",null,""]
[null,null,null,null,null,null,null,null,null,null,null,null,null,null,null,null,"",null,null,"",null,""]
[null,null,null,null,null,null,null,null,null,null,null,null,null,null,null,null,"",null,null,"",null,""]
[null,null,null,null,null,null,null,null,null,null,null,null,null,null,null,null,"",null,null,"",null,""]
[null,null,null,null,null,null,null,null,null,null,null,null,null,null,null,null,"",null,null,"",null,""]
[null,null,null,null,null,null,null,null,null,null,null,null,null,null,null,null,"",null,null,"",null,""]
[null,null,null,null,null,null,null,null,null,null,null,null,null,null,null,null,"",null,null,"",null,""]
[null,null,null,null,null,null,null,null,null,null,null,null,null,null,null,null,"",null,null,"",null,""]
[null,null,null,null,null,null,null,null,null,null,null,null,null,null,null,null,"",null,null,"",null,""]
[null,null,null,null,null,null,null,null,null,null,null,null,null,null,null,null,"",null,null,"",null,""]
[null,null,null,null,null,null,null,null,null,null,null,null,null,null,null,null,"",null,null,"",null,""]
[null,null,null,null,null,null,null,null,null,null,null,null,null,null,null,null,"",null,null,"",null,""]
[null,null,null,null,null,null,null,null,null,null,null,null,null,null,null,null,"",null,null,"",null,""]
[null,null,null,null,null,null,null,null,null,null,null,null,null,null,null,null,"",null,null,"",null,""]
[null,null,null,null,null,null,null,null,null,null,null,null,null,null,null,null,"",null,null,"",null,""]
[null,null,null,null,null,null,null,null,null,null,null,null,null,null,null,null,"",null,null,"",null,""]
[null,null,null,null,null,null,null,null,null,null,null,null,null,null,null,null,"",null,null,"",null,""]
[null,null,null,null,null,null,null,null,null,null,null,null,null,null,null,null,{"$f":"IF(M4477<>\"\",2,\"\")","v":""},null,null,"",null,""]
[null,null,null,null,null,null,null,null,null,null,null,null,null,null,null,null,"",null,null,"",null,""]
[null,null,null,null,null,null,null,null,null,null,null,null,null,null,null,null,"",null,null,"",null,""]
[null,null,null,null,null,null,null,null,null,null,null,null,null,null,null,null,"",null,null,"",null,""]
[null,null,null,null,null,null,null,null,null,null,null,null,null,null,null,null,"",null,null,"",null,""]
[null,null,null,null,null,null,null,null,null,null,null,null,null,null,null,null,"",null,null,"",null,""]
[null,null,null,null,null,null,null,null,null,null,null,null,null,null,null,null,"",null,null,"",null,""]
[null,null,null,null,null,null,null,null,null,null,null,null,null,null,null,null,"",null,null,"",null,""]
[null,null,null,null,null,null,null,null,null,null,null,null,null,null,null,null,"",null,null,"",null,""]
[null,null,null,null,null,null,null,null,null,null,null,null,null,null,null,null,"",null,null,"",null,""]
[null,null,null,null,null,null,null,null,null,null,null,null,null,null,null,null,"",null,null,"",null,""]
[null,null,null,null,null,null,null,null,null,null,null,null,null,null,null,null,"",null,null,"",null,""]
[null,null,null,null,null,null,null,null,null,null,null,null,null,null,null,null,"",null,null,"",null,""]
[null,null,null,null,null,null,null,null,null,null,null,null,null,null,null,null,"",null,null,"",null,""]
[null,null,null,null,null,null,null,null,null,null,null,null,null,null,null,null,"",null,null,"",null,""]
[null,null,null,null,null,null,null,null,null,null,null,null,null,null,null,null,"",null,null,"",null,""]
[null,null,null,null,null,null,null,null,null,null,null,null,null,null,null,null,"",null,null,{"$f":"IF(S4505<>\"\",S4505/9,\"\")","v":""},null,{"$f":"IF(U4505<>\"\",U4505/9,\"\")","v":""}]
[null,null,null,null,null,null,null,null,null,null,null,null,null,null,null,null,"",null,null,"",null,""]
[null,null,null,null,null,null,null,null,null,null,null,null,null,null,null,null,"",null,null,"",null,""]
[null,null,null,null,null,null,null,null,null,null,null,null,null,null,null,null,"",null,null,"",null,""]
[null,null,null,null,null,null,null,null,null,null,null,null,null,null,null,null,"",null,null,"",null,""]
[null,null,null,null,null,null,null,null,null,null,null,null,null,null,null,null,"",null,null,"",null,""]
[null,null,null,null,null,null,null,null,null,null,null,null,null,null,null,null,"",null,null,"",null,""]
[null,null,null,null,null,null,null,null,null,null,null,null,null,null,null,null,"",null,null,"",null,""]
[null,null,null,null,null,null,null,null,null,null,null,null,null,null,null,null,"",null,null,"",null,""]
[null,null,null,null,null,null,null,null,null,null,null,null,null,null,null,null,"",null,null,"",null,""]
[null,null,null,null,null,null,null,null,null,null,null,null,null,null,null,null,"",null,null,"",null,""]
[null,null,null,null,null,null,null,null,null,null,null,null,null,null,null,null,"",null,null,"",null,""]
[null,null,null,null,null,null,null,null,null,null,null,null,null,null,null,null,"",null,null,"",null,""]
[null,null,null,null,null,null,null,null,null,null,null,null,null,null,null,null,"",null,null,"",null,""]
[null,null,null,null,null,null,null,null,null,null,null,null,null,null,null,null,"",null,null,"",null,""]
[null,null,null,null,null,null,null,null,null,null,null,null,null,null,null,null,"",null,null,"",null,""]
[null,null,null,null,null,null,null,null,null,null,null,null,null,null,null,null,"",null,null,"",null,""]
[null,null,null,null,null,null,null,null,null,null,null,null,null,null,null,null,"",null,null,"",null,""]
[null,null,null,null,null,null,null,null,null,null,null,null,null,null,null,null,"",null,null,"",null,""]
[null,null,null,null,null,null,null,null,null,null,null,null,null,null,null,null,"",null,null,"",null,""]
[null,null,null,null,null,null,null,null,null,null,null,null,null,null,null,null,"",null,null,"",null,""]
[null,null,null,null,null,null,null,null,null,null,null,null,null,null,null,null,{"$f":"IF(M4541<>\"\",2,\"\")","v":""},null,null,"",null,""]
[null,null,null,null,null,null,null,null,null,null,null,null,null,null,null,null,"",null,null,"",null,""]
[null,null,null,null,null,null,null,null,null,null,null,null,null,null,null,null,"",null,null,"",null,""]
[null,null,null,null,null,null,null,null,null,null,null,null,null,null,null,null,"",null,null,"",null,""]
[null,null,null,null,null,null,null,null,null,null,null,null,null,null,null,null,"",null,null,"",null,""]
[null,null,null,null,null,null,null,null,null,null,null,null,null,null,null,null,"",null,null,"",null,""]
[null,null,null,null,null,null,null,null,null,null,null,null,null,null,null,null,"",null,null,"",null,""]
[null,null,null,null,null,null,null,null,null,null,null,null,null,null,null,null,"",null,null,"",null,""]
[null,null,null,null,null,null,null,null,null,null,null,null,null,null,null,null,"",null,null,"",null,""]
[null,null,null,null,null,null,null,null,null,null,null,null,null,null,null,null,"",null,null,"",null,""]
[null,null,null,null,null,null,null,null,null,null,null,null,null,null,null,null,"",null,null,"",null,""]
[null,null,null,null,null,null,null,null,null,null,null,null,null,null,null,null,"",null,null,"",null,""]
[null,null,null,null,null,null,null,null,null,null,null,null,null,null,null,null,"",null,null,"",null,""]
[null,null,null,null,null,null,null,null,null,null,null,null,null,null,null,null,"",null,null,"",null,""]
[null,null,null,null,null,null,null,null,null,null,null,null,null,null,null,null,"",null,null,"",null,""]
[null,null,null,null,null,null,null,null,null,null,null,null,null,null,null,null,"",null,null,"",null,""]
[null,null,null,null,null,null,null,null,null,null,null,null,null,null,null,null,"",null,null,{"$f":"IF(S4569<>\"\",S4569/9,\"\")","v":""},null,{"$f":"IF(U4569<>\"\",U4569/9,\"\")","v":""}]
[null,null,null,null,null,null,null,null,null,null,null,null,null,null,null,null,"",null,null,"",null,""]
[null,null,null,null,null,null,null,null,null,null,null,null,null,null,null,null,"",null,null,"",null,""]
[null,null,null,null,null,null,null,null,null,null,null,null,null,null,null,null,"",null,null,"",null,""]
[null,null,null,null,null,null,null,null,null,null,null,null,null,null,null,null,"",null,null,"",null,""]
[null,null,null,null,null,null,null,null,null,null,null,null,null,null,null,null,"",null,null,"",null,""]
[null,null,null,null,null,null,null,null,null,null,null,null,null,null,null,null,"",null,null,"",null,""]
[null,null,null,null,null,null,null,null,null,null,null,null,null,null,null,null,"",null,null,"",null,""]
[null,null,null,null,null,null,null,null,null,null,null,null,null,null,null,null,"",null,null,"",null,""]
[null,null,null,null,null,null,null,null,null,null,null,null,null,null,null,null,"",null,null,"",null,""]
[null,null,null,null,null,null,null,null,null,null,null,null,null,null,null,null,"",null,null,"",null,""]
[null,null,null,null,null,null,null,null,null,null,null,null,null,null,null,null,"",null,null,"",null,""]
[null,null,null,null,null,null,null,null,null,null,null,null,null,null,null,null,"",null,null,"",null,""]
[null,null,null,null,null,null,null,null,null,null,null,null,null,null,null,null,"",null,null,"",null,""]
[null,null,null,null,null,null,null,null,null,null,null,null,null,null,null,null,"",null,null,"",null,""]
[null,null,null,null,null,null,null,null,null,null,null,null,null,null,null,null,"",null,null,"",null,""]
[null,null,null,null,null,null,null,null,null,null,null,null,null,null,null,null,"",null,null,"",null,""]
[null,null,null,null,null,null,null,null,null,null,null,null,null,null,null,null,"",null,null,"",null,""]
[null,null,null,null,null,null,null,null,null,null,null,null,null,null,null,null,"",null,null,"",null,""]
[null,null,null,null,null,null,null,null,null,null,null,null,null,null,null,null,"",null,null,"",null,""]
[null,null,null,null,null,null,null,null,null,null,null,null,null,null,null,null,"",null,null,"",null,""]
[null,null,null,null,null,null,null,null,null,null,null,null,null,null,null,null,"",null,null,"",null,""]
[null,null,null,null,null,null,null,null,null,null,null,null,null,null,null,null,"",null,null,"",null,""]
[null,null,null,null,null,null,null,null,null,null,null,null,null,null,null,null,"",null,null,"",null,""]
[null,null,null,null,null,null,null,null,null,null,null,null,null,null,null,null,"",null,null,"",null,""]
[null,null,null,null,null,null,null,null,null,null,null,null,null,null,null,null,"",null,null,"",null,""]
[null,null,null,null,null,null,null,null,null,null,null,null,null,null,null,null,"",null,null,"",null,""]
[null,null,null,null,null,null,null,null,null,null,null,null,null,null,null,null,"",null,null,"",null,""]
[null,null,null,null,null,null,null,null,null,null,null,null,null,null,null,null,"",null,null,"",null,""]
[null,null,null,null,null,null,null,null,null,null,null,null,null,null,null,null,"",null,null,"",null,""]
[null,null,null,null,null,null,null,null,null,null,null,null,null,null,null,null,"",null,null,"",null,""]
[null,null,null,null,null,null,null,null,null,null,null,null,null,null,null,null,"",null,null,"",null,""]
[null,null,null,null,null,null,null,null,null,null,null,null,null,null,null,null,"",null,null,"",null,""]
[null,null,null,null,null,null,null,null,null,null,null,null,null,null,null,null,"",null,null,"",null,""]
[null,null,null,null,null,null,null,null,null,null,null,null,null,null,null,null,"",null,null,"",null,""]
[null,null,null,null,null,null,null,null,null,null,null,null,null,null,null,null,"",null,null,"",null,""]
[null,null,null,null,null,null,null,null,null,null,null,null,null,null,null,null,"",null,null,"",null,""]
[null,null,null,null,null,null,null,null,null,null,null,null,null,null,null,null,"",null,null,"",null,""]
[null,null,null,null,null,null,null,null,null,null,null,null,null,null,null,null,"",null,null,"",null,""]
[null,null,null,null,null,null,null,null,null,null,null,null,null,null,null,null,"",null,null,"",null,""]
[null,null,null,null,null,null,null,null,null,null,null,null,null,null,null,null,"",null,null,"",null,""]
[null,null,null,null,null,null,null,null,null,null,null,null,null,null,null,null,"",null,null,"",null,""]
[null,null,null,null,null,null,null,null,null,null,null,null,null,null,null,null,"",null,null,"",null,""]
[null,null,null,null,null,null,null,null,null,null,null,null,null,null,null,null,"",null,null,"",null,""]
[null,null,null,null,null,null,null,null,null,null,null,null,null,null,null,null,"",null,null,"",null,""]
[null,null,null,null,null,null,null,null,null,null,null,null,null,null,null,null,"",null,null,"",null,""]
[null,null,null,null,null,null,null,null,null,null,null,null,null,null,null,null,"",null,null,"",null,""]
[null,null,null,null,null,null,null,null,null,null,null,null,null,null,null,null,"",null,null,"",null,""]
[null,null,null,null,null,null,null,null,null,null,null,null,null,null,null,null,"",null,null,"",null,""]
[null,null,null,null,null,null,null,null,null,null,null,null,null,null,null,null,"",null,null,"",null,""]
[null,null,null,null,null,null,null,null,null,null,null,null,null,null,null,null,"",null,null,"",null,""]
[null,null,null,null,null,null,null,null,null,null,null,null,null,null,null,null,"",null,null,"",null,""]
[null,null,null,null,null,null,null,null,null,null,null,null,null,null,null,null,"",null,null,"",null,""]
[null,null,null,null,null,null,null,null,null,null,null,null,null,null,null,null,"",null,null,"",null,""]
[null,null,null,null,null,null,null,null,null,null,null,null,null,null,null,null,"",null,null,"",null,""]
[null,null,null,null,null,null,null,null,null,null,null,null,null,null,null,null,"",null,null,"",null,""]
[null,null,null,null,null,null,null,null,null,null,null,null,null,null,null,null,"",null,null,"",null,""]
[null,null,null,null,null,null,null,null,null,null,null,null,null,null,null,null,"",null,null,"",null,""]
[null,null,null,null,null,null,null,null,null,null,null,null,null,null,null,null,"",null,null,"",null,""]
[null,null,null,null,null,null,null,null,null,null,null,null,null,null,null,null,{"$f":"IF(M4669<>\"\",2,\"\")","v":""},null,null,"",null,""]
[null,null,null,null,null,null,null,null,null,null,null,null,null,null,null,null,"",null,null,"",null,""]
[null,null,null,null,null,null,null,null,null,null,null,null,null,null,null,null,"",null,null,"",null,""]
[null,null,null,null,null,null,null,null,null,null,null,null,null,null,null,null,"",null,null,"",null,""]
[null,null,null,null,null,null,null,null,null,null,null,null,null,null,null,null,"",null,null,"",null,""]
[null,null,null,null,null,null,null,null,null,null,null,null,null,null,null,null,"",null,null,"",null,""]
[null,null,null,null,null,null,null,null,null,null,null,null,null,null,null,null,"",null,null,"",null,""]
[null,null,null,null,null,null,null,null,null,null,null,null,null,null,null,null,"",null,null,"",null,""]
[null,null,null,null,null,null,null,null,null,null,null,null,null,null,null,null,"",null,null,"",null,""]
[null,null,null,null,null,null,null,null,null,null,null,null,null,null,null,null,"",null,null,"",null,""]
[null,null,null,null,null,null,null,null,null,null,null,null,null,null,null,null,"",null,null,"",null,""]
[null,null,null,null,null,null,null,null,null,null,null,null,null,null,null,null,"",null,null,"",null,""]
[null,null,null,null,null,null,null,null,null,null,null,null,null,null,null,null,"",null,null,"",null,""]
[null,null,null,null,null,null,null,null,null,null,null,null,null,null,null,null,"",null,null,"",null,""]
[null,null,null,null,null,null,null,null,null,null,null,null,null,null,null,null,"",null,null,"",null,""]
[null,null,null,null,null,null,null,null,null,null,null,null,null,null,null,null,"",null,null,"",null,""]
[null,null,null,null,null,null,null,null,null,null,null,null,null,null,null,null,"",null,null,{"$f":"IF(S4697<>\"\",S4697/9,\"\")","v":""},null,{"$f":"IF(U4697<>\"\",U4697/9,\"\")","v":""}]
[null,null,null,null,null,null,null,null,null,null,null,null,null,null,null,null,"",null,null,"",null,""]
[null,null,null,null,null,null,null,null,null,null,null,null,null,null,null,null,"",null,null,"",null,""]
[null,null,null,null,null,null,null,null,null,null,null,null,null,null,null,null,"",null,null,"",null,""]
[null,null,null,null,null,null,null,null,null,null,null,null,null,null,null,null,"",null,null,"",null,""]
[null,null,null,null,null,null,null,null,null,null,null,null,null,null,null,null,"",null,null,"",null,""]
[null,null,null,null,null,null,null,null,null,null,null,null,null,null,null,null,"",null,null,"",null,""]
[null,null,null,null,null,null,null,null,null,null,null,null,null,null,null,null,"",null,null,"",null,""]
[null,null,null,null,null,null,null,null,null,null,null,null,null,null,null,null,"",null,null,"",null,""]
[null,null,null,null,null,null,null,null,null,null,null,null,null,null,null,null,"",null,null,"",null,""]
[null,null,null,null,null,null,null,null,null,null,null,null,null,null,null,null,"",null,null,"",null,""]
[null,null,null,null,null,null,null,null,null,null,null,null,null,null,null,null,"",null,null,"",null,""]
[null,null,null,null,null,null,null,null,null,null,null,null,null,null,null,null,"",null,null,"",null,""]
[null,null,null,null,null,null,null,null,null,null,null,null,null,null,null,null,"",null,null,"",null,""]
[null,null,null,null,null,null,null,null,null,null,null,null,null,null,null,null,"",null,null,"",null,""]
[null,null,null,null,null,null,null,null,null,null,null,null,null,null,null,null,"",null,null,"",null,""]
[null,null,null,null,null,null,null,null,null,null,null,null,null,null,null,null,"",null,null,"",null,""]
[null,null,null,null,null,null,null,null,null,null,null,null,null,null,null,null,"",null,null,"",null,""]
[null,null,null,null,null,null,null,null,null,null,null,null,null,null,null,null,"",null,null,"",null,""]
[null,null,null,null,null,null,null,null,null,null,null,null,null,null,null,null,"",null,null,"",null,""]
[null,null,null,null,null,null,null,null,null,null,null,null,null,null,null,null,"",null,null,"",null,""]
[null,null,null,null,null,null,null,null,null,null,null,null,null,null,null,null,{"$f":"IF(M4733<>\"\",2,\"\")","v":""},null,null,"",null,""]
[null,null,null,null,null,null,null,null,null,null,null,null,null,null,null,null,"",null,null,"",null,""]
[null,null,null,null,null,null,null,null,null,null,null,null,null,null,null,null,"",null,null,"",null,""]
[null,null,null,null,null,null,null,null,null,null,null,null,null,null,null,null,"",null,null,"",null,""]
[null,null,null,null,null,null,null,null,null,null,null,null,null,null,null,null,"",null,null,"",null,""]
[null,null,null,null,null,null,null,null,null,null,null,null,null,null,null,null,"",null,null,"",null,""]
[null,null,null,null,null,null,null,null,null,null,null,null,null,null,null,null,"",null,null,"",null,""]
[null,null,null,null,null,null,null,null,null,null,null,null,null,null,null,null,"",null,null,"",null,""]
[null,null,null,null,null,null,null,null,null,null,null,null,null,null,null,null,"",null,null,"",null,""]
[null,null,null,null,null,null,null,null,null,null,null,null,null,null,null,null,"",null,null,"",null,""]
[null,null,null,null,null,null,null,null,null,null,null,null,null,null,null,null,"",null,null,"",null,""]
[null,null,null,null,null,null,null,null,null,null,null,null,null,null,null,null,"",null,null,"",null,""]
[null,null,null,null,null,null,null,null,null,null,null,null,null,null,null,null,"",null,null,"",null,""]
[null,null,null,null,null,null,null,null,null,null,null,null,null,null,null,null,"",null,null,"",null,""]
[null,null,null,null,null,null,null,null,null,null,null,null,null,null,null,null,"",null,null,"",null,""]
[null,null,null,null,null,null,null,null,null,null,null,null,null,null,null,null,"",null,null,"",null,""]
[null,null,null,null,null,null,null,null,null,null,null,null,null,null,null,null,"",null,null,{"$f":"IF(S4761<>\"\",S4761/9,\"\")","v":""},null,{"$f":"IF(U4761<>\"\",U4761/9,\"\")","v":""}]
[null,null,null,null,null,null,null,null,null,null,null,null,null,null,null,null,"",null,null,"",null,""]
[null,null,null,null,null,null,null,null,null,null,null,null,null,null,null,null,"",null,null,"",null,""]
[null,null,null,null,null,null,null,null,null,null,null,null,null,null,null,null,"",null,null,"",null,""]
[null,null,null,null,null,null,null,null,null,null,null,null,null,null,null,null,"",null,null,"",null,""]
[null,null,null,null,null,null,null,null,null,null,null,null,null,null,null,null,"",null,null,"",null,""]
[null,null,null,null,null,null,null,null,null,null,null,null,null,null,null,null,"",null,null,"",null,""]
[null,null,null,null,null,null,null,null,null,null,null,null,null,null,null,null,"",null,null,"",null,""]
[null,null,null,null,null,null,null,null,null,null,null,null,null,null,null,null,"",null,null,"",null,""]
[null,null,null,null,null,null,null,null,null,null,null,null,null,null,null,null,"",null,null,"",null,""]
[null,null,null,null,null,null,null,null,null,null,null,null,null,null,null,null,"",null,null,"",null,""]
[null,null,null,null,null,null,null,null,null,null,null,null,null,null,null,null,"",null,null,"",null,""]
[null,null,null,null,null,null,null,null,null,null,null,null,null,null,null,null,"",null,null,"",null,""]
[null,null,null,null,null,null,null,null,null,null,null,null,null,null,null,null,"",null,null,"",null,""]
[null,null,null,null,null,null,null,null,null,null,null,null,null,null,null,null,"",null,null,"",null,""]
[null,null,null,null,null,null,null,null,null,null,null,null,null,null,null,null,"",null,null,"",null,""]
[null,null,null,null,null,null,null,null,null,null,null,null,null,null,null,null,"",null,null,"",null,""]
[null,null,null,null,null,null,null,null,null,null,null,null,null,null,null,null,"",null,null,"",null,""]
[null,null,null,null,null,null,null,null,null,null,null,null,null,null,null,null,"",null,null,"",null,""]
[null,null,null,null,null,null,null,null,null,null,null,null,null,null,null,null,"",null,null,"",null,""]
[null,null,null,null,null,null,null,null,null,null,null,null,null,null,null,null,"",null,null,"",null,""]
[null,null,null,null,null,null,null,null,null,null,null,null,null,null,null,null,"",null,null,"",null,""]
[null,null,null,null,null,null,null,null,null,null,null,null,null,null,null,null,"",null,null,"",null,""]
[null,null,null,null,null,null,null,null,null,null,null,null,null,null,null,null,"",null,null,"",null,""]
[null,null,null,null,null,null,null,null,null,null,null,null,null,null,null,null,"",null,null,"",null,""]
[null,null,null,null,null,null,null,null,null,null,null,null,null,null,null,null,"",null,null,"",null,""]
[null,null,null,null,null,null,null,null,null,null,null,null,null,null,null,null,"",null,null,"",null,""]
[null,null,null,null,null,null,null,null,null,null,null,null,null,null,null,null,"",null,null,"",null,""]
[null,null,null,null,null,null,null,null,null,null,null,null,null,null,null,null,"",null,null,"",null,""]
[null,null,null,null,null,null,null,null,null,null,null,null,null,null,null,null,"",null,null,"",null,""]
[null,null,null,null,null,null,null,null,null,null,null,null,null,null,null,null,"",null,null,"",null,""]
[null,null,null,null,null,null,null,null,null,null,null,null,null,null,null,null,"",null,null,"",null,""]
[null,null,null,null,null,null,null,null,null,null,null,null,null,null,null,null,"",null,null,"",null,""]
[null,null,null,null,null,null,null,null,null,null,null,null,null,null,null,null,"",null,null,"",null,""]
[null,null,null,null,null,null,null,null,null,null,null,null,null,null,null,null,"",null,null,"",null,""]
[null,null,null,null,null,null,null,null,null,null,null,null,null,null,null,null,"",null,null,"",null,""]
[null,null,null,null,null,null,null,null,null,null,null,null,null,null,null,null,"",null,null,"",null,""]
[null,null,null,null,null,null,null,null,null,null,null,null,null,null,null,null,"",null,null,"",null,""]
[null,null,null,null,null,null,null,null,null,null,null,null,null,null,null,null,"",null,null,"",null,""]
[null,null,null,null,null,null,null,null,null,null,null,null,null,null,null,null,"",null,null,"",null,""]
[null,null,null,null,null,null,null,null,null,null,null,null,null,null,null,null,"",null,null,"",null,""]
[null,null,null,null,null,null,null,null,null,null,null,null,null,null,null,null,"",null,null,"",null,""]
[null,null,null,null,null,null,null,null,null,null,null,null,null,null,null,null,"",null,null,"",null,""]
[null,null,null,null,null,null,null,null,null,null,null,null,null,null,null,null,"",null,null,"",null,""]
[null,null,null,null,null,null,null,null,null,null,null,null,null,null,null,null,"",null,null,"",null,""]
[null,null,null,null,null,null,null,null,null,null,null,null,null,null,null,null,"",null,null,"",null,""]
[null,null,null,null,null,null,null,null,null,null,null,null,null,null,null,null,"",null,null,"",null,""]
[null,null,null,null,null,null,null,null,null,null,null,null,null,null,null,null,"",null,null,"",null,""]
[null,null,null,null,null,null,null,null,null,null,null,null,null,null,null,null,"",null,null,"",null,""]
[null,null,null,null,null,null,null,null,null,null,null,null,null,null,null,null,"",null,null,"",null,""]
[null,null,null,null,null,null,null,null,null,null,null,null,null,null,null,null,"",null,null,"",null,""]
[null,null,null,null,null,null,null,null,null,null,null,null,null,null,null,null,"",null,null,"",null,""]
[null,null,null,null,null,null,null,null,null,null,null,null,null,null,null,null,"",null,null,"",null,""]
[null,null,null,null,null,null,null,null,null,null,null,null,null,null,null,null,"",null,null,"",null,""]
[null,null,null,null,null,null,null,null,null,null,null,null,null,null,null,null,"",null,null,"",null,""]
[null,null,null,null,null,null,null,null,null,null,null,null,null,null,null,null,"",null,null,"",null,""]
[null,null,null,null,null,null,null,null,null,null,null,null,null,null,null,null,"",null,null,"",null,""]
[null,null,null,null,null,null,null,null,null,null,null,null,null,null,null,null,"",null,null,"",null,""]
[null,null,null,null,null,null,null,null,null,null,null,null,null,null,null,null,"",null,null,"",null,""]
[null,null,null,null,null,null,null,null,null,null,null,null,null,null,null,null,{"$f":"IF(M4861<>\"\",2,\"\")","v":""},null,null,"",null,""]
[null,null,null,null,null,null,null,null,null,null,null,null,null,null,null,null,"",null,null,"",null,""]
[null,null,null,null,null,null,null,null,null,null,null,null,null,null,null,null,"",null,null,"",null,""]
[null,null,null,null,null,null,null,null,null,null,null,null,null,null,null,null,"",null,null,"",null,""]
[null,null,null,null,null,null,null,null,null,null,null,null,null,null,null,null,"",null,null,"",null,""]
[null,null,null,null,null,null,null,null,null,null,null,null,null,null,null,null,"",null,null,"",null,""]
[null,null,null,null,null,null,null,null,null,null,null,null,null,null,null,null,"",null,null,"",null,""]
[null,null,null,null,null,null,null,null,null,null,null,null,null,null,null,null,"",null,null,"",null,""]
[null,null,null,null,null,null,null,null,null,null,null,null,null,null,null,null,"",null,null,"",null,""]
[null,null,null,null,null,null,null,null,null,null,null,null,null,null,null,null,"",null,null,"",null,""]
[null,null,null,null,null,null,null,null,null,null,null,null,null,null,null,null,"",null,null,"",null,""]
[null,null,null,null,null,null,null,null,null,null,null,null,null,null,null,null,"",null,null,"",null,""]
[null,null,null,null,null,null,null,null,null,null,null,null,null,null,null,null,"",null,null,"",null,""]
[null,null,null,null,null,null,null,null,null,null,null,null,null,null,null,null,"",null,null,"",null,""]
[null,null,null,null,null,null,null,null,null,null,null,null,null,null,null,null,"",null,null,"",null,""]
[null,null,null,null,null,null,null,null,null,null,null,null,null,null,null,null,"",null,null,"",null,""]
[null,null,null,null,null,null,null,null,null,null,null,null,null,null,null,null,"",null,null,{"$f":"IF(S4889<>\"\",S4889/9,\"\")","v":""},null,{"$f":"IF(U4889<>\"\",U4889/9,\"\")","v":""}]
[null,null,null,null,null,null,null,null,null,null,null,null,null,null,null,null,"",null,null,"",null,""]
[null,null,null,null,null,null,null,null,null,null,null,null,null,null,null,null,"",null,null,"",null,""]
[null,null,null,null,null,null,null,null,null,null,null,null,null,null,null,null,"",null,null,"",null,""]
[null,null,null,null,null,null,null,null,null,null,null,null,null,null,null,null,"",null,null,"",null,""]
[null,null,null,null,null,null,null,null,null,null,null,null,null,null,null,null,"",null,null,"",null,""]
[null,null,null,null,null,null,null,null,null,null,null,null,null,null,null,null,"",null,null,"",null,""]
[null,null,null,null,null,null,null,null,null,null,null,null,null,null,null,null,"",null,null,"",null,""]
[null,null,null,null,null,null,null,null,null,null,null,null,null,null,null,null,"",null,null,"",null,""]
[null,null,null,null,null,null,null,null,null,null,null,null,null,null,null,null,"",null,null,"",null,""]
[null,null,null,null,null,null,null,null,null,null,null,null,null,null,null,null,"",null,null,"",null,""]
[null,null,null,null,null,null,null,null,null,null,null,null,null,null,null,null,"",null,null,"",null,""]
[null,null,null,null,null,null,null,null,null,null,null,null,null,null,null,null,"",null,null,"",null,""]
[null,null,null,null,null,null,null,null,null,null,null,null,null,null,null,null,"",null,null,"",null,""]
[null,null,null,null,null,null,null,null,null,null,null,null,null,null,null,null,"",null,null,"",null,""]
[null,null,null,null,null,null,null,null,null,null,null,null,null,null,null,null,"",null,null,"",null,""]
[null,null,null,null,null,null,null,null,null,null,null,null,null,null,null,null,"",null,null,"",null,""]
[null,null,null,null,null,null,null,null,null,null,null,null,null,null,null,null,"",null,null,"",null,""]
[null,null,null,null,null,null,null,null,null,null,null,null,null,null,null,null,"",null,null,"",null,""]
[null,null,null,null,null,null,null,null,null,null,null,null,null,null,null,null,"",null,null,"",null,""]
[null,null,null,null,null,null,null,null,null,null,null,null,null,null,null,null,"",null,null,"",null,""]
[null,null,null,null,null,null,null,null,null,null,null,null,null,null,null,null,{"$f":"IF(M4925<>\"\",2,\"\")","v":""},null,null,"",null,""]
[null,null,null,null,null,null,null,null,null,null,null,null,null,null,null,null,"",null,null,"",null,""]
[null,null,null,null,null,null,null,null,null,null,null,null,null,null,null,null,"",null,null,"",null,""]
[null,null,null,null,null,null,null,null,null,null,null,null,null,null,null,null,"",null,null,"",null,""]
[null,null,null,null,null,null,null,null,null,null,null,null,null,null,null,null,"",null,null,"",null,""]
[null,null,null,null,null,null,null,null,null,null,null,null,null,null,null,null,"",null,null,"",null,""]
[null,null,null,null,null,null,null,null,null,null,null,null,null,null,null,null,"",null,null,"",null,""]
[null,null,null,null,null,null,null,null,null,null,null,null,null,null,null,null,"",null,null,"",null,""]
[null,null,null,null,null,null,null,null,null,null,null,null,null,null,null,null,"",null,null,"",null,""]
[null,null,null,null,null,null,null,null,null,null,null,null,null,null,null,null,"",null,null,"",null,""]
[null,null,null,null,null,null,null,null,null,null,null,null,null,null,null,null,"",null,null,"",null,""]
[null,null,null,null,null,null,null,null,null,null,null,null,null,null,null,null,"",null,null,"",null,""]
[null,null,null,null,null,null,null,null,null,null,null,null,null,null,null,null,"",null,null,"",null,""]
[null,null,null,null,null,null,null,null,null,null,null,null,null,null,null,null,"",null,null,"",null,""]
[null,null,null,null,null,null,null,null,null,null,null,null,null,null,null,null,"",null,null,"",null,""]
[null,null,null,null,null,null,null,null,null,null,null,null,null,null,null,null,"",null,null,"",null,""]
[null,null,null,null,null,null,null,null,null,null,null,null,null,null,null,null,"",null,null,{"$f":"IF(S4953<>\"\",S4953/9,\"\")","v":""},null,{"$f":"IF(U4953<>\"\",U4953/9,\"\")","v":""}]
[null,null,null,null,null,null,null,null,null,null,null,null,null,null,null,null,"",null,null,"",null,""]
[null,null,null,null,null,null,null,null,null,null,null,null,null,null,null,null,"",null,null,"",null,""]
[null,null,null,null,null,null,null,null,null,null,null,null,null,null,null,null,"",null,null,"",null,""]
[null,null,null,null,null,null,null,null,null,null,null,null,null,null,null,null,"",null,null,"",null,""]
[null,null,null,null,null,null,null,null,null,null,null,null,null,null,null,null,"",null,null,"",null,""]
[null,null,null,null,null,null,null,null,null,null,null,null,null,null,null,null,"",null,null,"",null,""]
[null,null,null,null,null,null,null,null,null,null,null,null,null,null,null,null,"",null,null,"",null,""]
[null,null,null,null,null,null,null,null,null,null,null,null,null,null,null,null,"",null,null,"",null,""]
[null,null,null,null,null,null,null,null,null,null,null,null,null,null,null,null,"",null,null,"",null,""]
[null,null,null,null,null,null,null,null,null,null,null,null,null,null,null,null,"",null,null,"",null,""]
[null,null,null,null,null,null,null,null,null,null,null,null,null,null,null,null,"",null,null,"",null,""]
[null,null,null,null,null,null,null,null,null,null,null,null,null,null,null,null,"",null,null,"",null,""]
[null,null,null,null,null,null,null,null,null,null,null,null,null,null,null,null,"",null,null,"",null,""]
[null,null,null,null,null,null,null,null,null,null,null,null,null,null,null,null,"",null,null,"",null,""]
[null,null,null,null,null,null,null,null,null,null,null,null,null,null,null,null,"",null,null,"",null,""]
[null,null,null,null,null,null,null,null,null,null,null,null,null,null,null,null,"",null,null,"",null,""]
[null,null,null,null,null,null,null,null,null,null,null,null,null,null,null,null,"",null,null,"",null,""]
[null,null,null,null,null,null,null,null,null,null,null,null,null,null,null,null,"",null,null,"",null,""]
[null,null,null,null,null,null,null,null,null,null,null,null,null,null,null,null,"",null,null,"",null,""]
[null,null,null,null,null,null,null,null,null,null,null,null,null,null,null,null,"",null,null,"",null,""]
[null,null,null,null,null,null,null,null,null,null,null,null,null,null,null,null,"",null,null,"",null,""]
[null,null,null,null,null,null,null,null,null,null,null,null,null,null,null,null,"",null,null,"",null,""]
[null,null,null,null,null,null,null,null,null,null,null,null,null,null,null,null,"",null,null,"",null,""]
[null,null,null,null,null,null,null,null,null,null,null,null,null,null,null,null,"",null,null,"",null,""]
[null,null,null,null,null,null,null,null,null,null,null,null,null,null,null,null,"",null,null,"",null,""]
[null,null,null,null,null,null,null,null,null,null,null,null,null,null,null,null,"",null,null,"",null,""]
[null,null,null,null,null,null,null,null,null,null,null,null,null,null,null,null,"",null,null,"",null,""]
[null,null,null,null,null,null,null,null,null,null,null,null,null,null,null,null,"",null,null,"",null,""]
[null,null,null,null,null,null,null,null,null,null,null,null,null,null,null,null,"",null,null,"",null,""]
[null,null,null,null,null,null,null,null,null,null,null,null,null,null,null,null,"",null,null,"",null,""]
[null,null,null,null,null,null,null,null,null,null,null,null,null,null,null,null,"",null,null,"",null,""]
[null,null,null,null,null,null,null,null,null,null,null,null,null,null,null,null,"",null,null,"",null,""]
[null,null,null,null,null,null,null,null,null,null,null,null,null,null,null,null,"",null,null,"",null,""]
[null,null,null,null,null,null,null,null,null,null,null,null,null,null,null,null,"",null,null,"",null,""]
[null,null,null,null,null,null,null,null,null,null,null,null,null,null,null,null,"",null,null,"",null,""]
[null,null,null,null,null,null,null,null,null,null,null,null,null,null,null,null,"",null,null,"",null,""]
[null,null,null,null,null,null,null,null,null,null,null,null,null,null,null,null,"",null,null,"",null,""]
[null,null,null,null,null,null,null,null,null,null,null,null,null,null,null,null,"",null,null,"",null,""]
[null,null,null,null,null,null,null,null,null,null,null,null,null,null,null,null,"",null,null,"",null,""]
[null,null,null,null,null,null,null,null,null,null,null,null,null,null,null,null,"",null,null,"",null,""]
[null,null,null,null,null,null,null,null,null,null,null,null,null,null,null,null,"",null,null,"",null,""]
[null,null,null,null,null,null,null,null,null,null,null,null,null,null,null,null,"",null,null,"",null,""]
[null,null,null,null,null,null,null,null,null,null,null,null,null,null,null,null,"",null,null,"",null,""]
[null,null,null,null,null,null,null,null,null,null,null,null,null,null,null,null,"",null,null,"",null,""]
[null,null,null,null,null,null,null,null,null,null,null,null,null,null,null,null,"",null,null,"",null,""]
[null,null,null,null,null,null,null,null,null,null,null,null,null,null,null,null,"",null,null,"",null,""]
[null,null,null,null,null,null,null,null,null,null,null,null,null,null,null,null,"",null,null,"",null,""]
[null,null,null,null,null,null,null,null,null,null,null,null,null,null,null,null,"",null,null,"",null,""]
[null,null,null,null,null,null,null,null,null,null,null,null,null,null,null,null,"",null,null,"",null,""]
[null,null,null,null,null,null,null,null,null,null,null,null,null,null,null,null,"",null,null,"",null,""]
[null,null,null,null,null,null,null,null,null,null,null,null,null,null,null,null,"",null,null,"",null,""]
[null,null,null,null,null,null,null,null,null,null,null,null,null,null,null,null,"",null,null,"",null,""]
[null,null,null,null,null,null,null,null,null,null,null,null,null,null,null,null,"",null,null,"",null,""]
[null,null,null,null,null,null,null,null,null,null,null,null,null,null,null,null,"",null,null,"",null,""]
[null,null,null,null,null,null,null,null,null,null,null,null,null,null,null,null,"",null,null,"",null,""]
[null,null,null,null,null,null,null,null,null,null,null,null,null,null,null,null,"",null,null,"",null,""]
[null,null,null,null,null,null,null,null,null,null,null,null,null,null,null,null,"",null,null,"",null,""]
[null,null,null,null,null,null,null,null,null,null,null,null,null,null,null,null,"",null,null,"",null,""]
[null,null,null,null,null,null,null,null,null,null,null,null,null,null,null,null,{"$f":"IF(M5053<>\"\",2,\"\")","v":""},null,null,"",null,""]
[null,null,null,null,null,null,null,null,null,null,null,null,null,null,null,null,"",null,null,"",null,""]
[null,null,null,null,null,null,null,null,null,null,null,null,null,null,null,null,"",null,null,"",null,""]
[null,null,null,null,null,null,null,null,null,null,null,null,null,null,null,null,"",null,null,"",null,""]
[null,null,null,null,null,null,null,null,null,null,null,null,null,null,null,null,"",null,null,"",null,""]
[null,null,null,null,null,null,null,null,null,null,null,null,null,null,null,null,"",null,null,"",null,""]
[null,null,null,null,null,null,null,null,null,null,null,null,null,null,null,null,"",null,null,"",null,""]
[null,null,null,null,null,null,null,null,null,null,null,null,null,null,null,null,"",null,null,"",null,""]
[null,null,null,null,null,null,null,null,null,null,null,null,null,null,null,null,"",null,null,"",null,""]
[null,null,null,null,null,null,null,null,null,null,null,null,null,null,null,null,"",null,null,"",null,""]
[null,null,null,null,null,null,null,null,null,null,null,null,null,null,null,null,"",null,null,"",null,""]
[null,null,null,null,null,null,null,null,null,null,null,null,null,null,null,null,"",null,null,"",null,""]
[null,null,null,null,null,null,null,null,null,null,null,null,null,null,null,null,"",null,null,"",null,""]
[null,null,null,null,null,null,null,null,null,null,null,null,null,null,null,null,"",null,null,"",null,""]
[null,null,null,null,null,null,null,null,null,null,null,null,null,null,null,null,"",null,null,"",null,""]
[null,null,null,null,null,null,null,null,null,null,null,null,null,null,null,null,"",null,null,"",null,""]
[null,null,null,null,null,null,null,null,null,null,null,null,null,null,null,null,"",null,null,{"$f":"IF(S5081<>\"\",S5081/9,\"\")","v":""},null,{"$f":"IF(U5081<>\"\",U5081/9,\"\")","v":""}]
[null,null,null,null,null,null,null,null,null,null,null,null,null,null,null,null,"",null,null,"",null,""]
[null,null,null,null,null,null,null,null,null,null,null,null,null,null,null,null,"",null,null,"",null,""]
[null,null,null,null,null,null,null,null,null,null,null,null,null,null,null,null,"",null,null,"",null,""]
[null,null,null,null,null,null,null,null,null,null,null,null,null,null,null,null,"",null,null,"",null,""]
[null,null,null,null,null,null,null,null,null,null,null,null,null,null,null,null,"",null,null,"",null,""]
[null,null,null,null,null,null,null,null,null,null,null,null,null,null,null,null,"",null,null,"",null,""]
[null,null,null,null,null,null,null,null,null,null,null,null,null,null,null,null,"",null,null,"",null,""]
[null,null,null,null,null,null,null,null,null,null,null,null,null,null,null,null,"",null,null,"",null,""]
[null,null,null,null,null,null,null,null,null,null,null,null,null,null,null,null,"",null,null,"",null,""]
[null,null,null,null,null,null,null,null,null,null,null,null,null,null,null,null,"",null,null,"",null,""]
[null,null,null,null,null,null,null,null,null,null,null,null,null,null,null,null,"",null,null,"",null,""]
[null,null,null,null,null,null,null,null,null,null,null,null,null,null,null,null,"",null,null,"",null,""]
[null,null,null,null,null,null,null,null,null,null,null,null,null,null,null,null,"",null,null,"",null,""]
[null,null,null,null,null,null,null,null,null,null,null,null,null,null,null,null,"",null,null,"",null,""]
[null,null,null,null,null,null,null,null,null,null,null,null,null,null,null,null,"",null,null,"",null,""]
[null,null,null,null,null,null,null,null,null,null,null,null,null,null,null,null,"",null,null,"",null,""]
[null,null,null,null,null,null,null,null,null,null,null,null,null,null,null,null,"",null,null,"",null,""]
[null,null,null,null,null,null,null,null,null,null,null,null,null,null,null,null,"",null,null,"",null,""]
[null,null,null,null,null,null,null,null,null,null,null,null,null,null,null,null,"",null,null,"",null,""]
[null,null,null,null,null,null,null,null,null,null,null,null,null,null,null,null,"",null,null,"",null,""]
[null,null,null,null,null,null,null,null,null,null,null,null,null,null,null,null,{"$f":"IF(M5117<>\"\",2,\"\")","v":""},null,null,"",null,""]
[null,null,null,null,null,null,null,null,null,null,null,null,null,null,null,null,"",null,null,"",null,""]
[null,null,null,null,null,null,null,null,null,null,null,null,null,null,null,null,"",null,null,"",null,""]
[null,null,null,null,null,null,null,null,null,null,null,null,null,null,null,null,"",null,null,"",null,""]
[null,null,null,null,null,null,null,null,null,null,null,null,null,null,null,null,"",null,null,"",null,""]
[null,null,null,null,null,null,null,null,null,null,null,null,null,null,null,null,"",null,null,"",null,""]
[null,null,null,null,null,null,null,null,null,null,null,null,null,null,null,null,"",null,null,"",null,""]
[null,null,null,null,null,null,null,null,null,null,null,null,null,null,null,null,"",null,null,"",null,""]
[null,null,null,null,null,null,null,null,null,null,null,null,null,null,null,null,"",null,null,"",null,""]
[null,null,null,null,null,null,null,null,null,null,null,null,null,null,null,null,"",null,null,"",null,""]
[null,null,null,null,null,null,null,null,null,null,null,null,null,null,null,null,"",null,null,"",null,""]
[null,null,null,null,null,null,null,null,null,null,null,null,null,null,null,null,"",null,null,"",null,""]
[null,null,null,null,null,null,null,null,null,null,null,null,null,null,null,null,"",null,null,"",null,""]
[null,null,null,null,null,null,null,null,null,null,null,null,null,null,null,null,"",null,null,"",null,""]
[null,null,null,null,null,null,null,null,null,null,null,null,null,null,null,null,"",null,null,"",null,""]
[null,null,null,null,null,null,null,null,null,null,null,null,null,null,null,null,"",null,null,"",null,""]
[null,null,null,null,null,null,null,null,null,null,null,null,null,null,null,null,"",null,null,{"$f":"IF(S5145<>\"\",S5145/9,\"\")","v":""},null,{"$f":"IF(U5145<>\"\",U5145/9,\"\")","v":""}]
[null,null,null,null,null,null,null,null,null,null,null,null,null,null,null,null,"",null,null,"",null,""]
[null,null,null,null,null,null,null,null,null,null,null,null,null,null,null,null,"",null,null,"",null,""]
[null,null,null,null,null,null,null,null,null,null,null,null,null,null,null,null,"",null,null,"",null,""]
[null,null,null,null,null,null,null,null,null,null,null,null,null,null,null,null,"",null,null,"",null,""]
[null,null,null,null,null,null,null,null,null,null,null,null,null,null,null,null,"",null,null,"",null,""]
[null,null,null,null,null,null,null,null,null,null,null,null,null,null,null,null,"",null,null,"",null,""]
[null,null,null,null,null,null,null,null,null,null,null,null,null,null,null,null,"",null,null,"",null,""]
[null,null,null,null,null,null,null,null,null,null,null,null,null,null,null,null,"",null,null,"",null,""]
[null,null,null,null,null,null,null,null,null,null,null,null,null,null,null,null,"",null,null,"",null,""]
[null,null,null,null,null,null,null,null,null,null,null,null,null,null,null,null,"",null,null,"",null,""]
[null,null,null,null,null,null,null,null,null,null,null,null,null,null,null,null,"",null,null,"",null,""]
[null,null,null,null,null,null,null,null,null,null,null,null,null,null,null,null,"",null,null,"",null,""]
[null,null,null,null,null,null,null,null,null,null,null,null,null,null,null,null,"",null,null,"",null,""]
[null,null,null,null,null,null,null,null,null,null,null,null,null,null,null,null,"",null,null,"",null,""]
[null,null,null,null,null,null,null,null,null,null,null,null,null,null,null,null,"",null,null,"",null,""]
[null,null,null,null,null,null,null,null,null,null,null,null,null,null,null,null,"",null,null,"",null,""]
[null,null,null,null,null,null,null,null,null,null,null,null,null,null,null,null,"",null,null,"",null,""]
[null,null,null,null,null,null,null,null,null,null,null,null,null,null,null,null,"",null,null,"",null,""]
[null,null,null,null,null,null,null,null,null,null,null,null,null,null,null,null,"",null,null,"",null,""]
[null,null,null,null,null,null,null,null,null,null,null,null,null,null,null,null,"",null,null,"",null,""]
[null,null,null,null,null,null,null,null,null,null,null,null,null,null,null,null,"",null,null,"",null,""]
[null,null,null,null,null,null,null,null,null,null,null,null,null,null,null,null,"",null,null,"",null,""]
[null,null,null,null,null,null,null,null,null,null,null,null,null,null,null,null,"",null,null,"",null,""]
[null,null,null,null,null,null,null,null,null,null,null,null,null,null,null,null,"",null,null,"",null,""]
[null,null,null,null,null,null,null,null,null,null,null,null,null,null,null,null,"",null,null,"",null,""]
[null,null,null,null,null,null,null,null,null,null,null,null,null,null,null,null,"",null,null,"",null,""]
[null,null,null,null,null,null,null,null,null,null,null,null,null,null,null,null,"",null,null,"",null,""]
[null,null,null,null,null,null,null,null,null,null,null,null,null,null,null,null,"",null,null,"",null,""]
[null,null,null,null,null,null,null,null,null,null,null,null,null,null,null,null,"",null,null,"",null,""]
[null,null,null,null,null,null,null,null,null,null,null,null,null,null,null,null,"",null,null,"",null,""]
[null,null,null,null,null,null,null,null,null,null,null,null,null,null,null,null,"",null,null,"",null,""]
[null,null,null,null,null,null,null,null,null,null,null,null,null,null,null,null,"",null,null,"",null,""]
[null,null,null,null,null,null,null,null,null,null,null,null,null,null,null,null,"",null,null,"",null,""]
[null,null,null,null,null,null,null,null,null,null,null,null,null,null,null,null,"",null,null,"",null,""]
[null,null,null,null,null,null,null,null,null,null,null,null,null,null,null,null,"",null,null,"",null,""]
[null,null,null,null,null,null,null,null,null,null,null,null,null,null,null,null,"",null,null,"",null,""]
[null,null,null,null,null,null,null,null,null,null,null,null,null,null,null,null,"",null,null,"",null,""]
[null,null,null,null,null,null,null,null,null,null,null,null,null,null,null,null,"",null,null,"",null,""]
[null,null,null,null,null,null,null,null,null,null,null,null,null,null,null,null,"",null,null,"",null,""]
[null,null,null,null,null,null,null,null,null,null,null,null,null,null,null,null,"",null,null,"",null,""]
[null,null,null,null,null,null,null,null,null,null,null,null,null,null,null,null,"",null,null,"",null,""]
[null,null,null,null,null,null,null,null,null,null,null,null,null,null,null,null,"",null,null,"",null,""]
[null,null,null,null,null,null,null,null,null,null,null,null,null,null,null,null,"",null,null,"",null,""]
[null,null,null,null,null,null,null,null,null,null,null,null,null,null,null,null,"",null,null,"",null,""]
[null,null,null,null,null,null,null,null,null,null,null,null,null,null,null,null,"",null,null,"",null,""]
[null,null,null,null,null,null,null,null,null,null,null,null,null,null,null,null,"",null,null,"",null,""]
[null,null,null,null,null,null,null,null,null,null,null,null,null,null,null,null,"",null,null,"",null,""]
[null,null,null,null,null,null,null,null,null,null,null,null,null,null,null,null,"",null,null,"",null,""]
[null,null,null,null,null,null,null,null,null,null,null,null,null,null,null,null,"",null,null,"",null,""]
[null,null,null,null,null,null,null,null,null,null,null,null,null,null,null,null,"",null,null,"",null,""]
[null,null,null,null,null,null,null,null,null,null,null,null,null,null,null,null,"",null,null,"",null,""]
[null,null,null,null,null,null,null,null,null,null,null,null,null,null,null,null,"",null,null,"",null,""]
[null,null,null,null,null,null,null,null,null,null,null,null,null,null,null,null,"",null,null,"",null,""]
[null,null,null,null,null,null,null,null,null,null,null,null,null,null,null,null,"",null,null,"",null,""]
[null,null,null,null,null,null,null,null,null,null,null,null,null,null,null,null,"",null,null,"",null,""]
[null,null,null,null,null,null,null,null,null,null,null,null,null,null,null,null,"",null,null,"",null,""]
[null,null,null,null,null,null,null,null,null,null,null,null,null,null,null,null,"",null,null,"",null,""]
[null,null,null,null,null,null,null,null,null,null,null,null,null,null,null,null,"",null,null,"",null,""]
[null,null,null,null,null,null,null,null,null,null,null,null,null,null,null,null,{"$f":"IF(M5245<>\"\",2,\"\")","v":""},null,null,"",null,""]
[null,null,null,null,null,null,null,null,null,null,null,null,null,null,null,null,"",null,null,"",null,""]
[null,null,null,null,null,null,null,null,null,null,null,null,null,null,null,null,"",null,null,"",null,""]
[null,null,null,null,null,null,null,null,null,null,null,null,null,null,null,null,"",null,null,"",null,""]
[null,null,null,null,null,null,null,null,null,null,null,null,null,null,null,null,"",null,null,"",null,""]
[null,null,null,null,null,null,null,null,null,null,null,null,null,null,null,null,"",null,null,"",null,""]
[null,null,null,null,null,null,null,null,null,null,null,null,null,null,null,null,"",null,null,"",null,""]
[null,null,null,null,null,null,null,null,null,null,null,null,null,null,null,null,"",null,null,"",null,""]
[null,null,null,null,null,null,null,null,null,null,null,null,null,null,null,null,"",null,null,"",null,""]
[null,null,null,null,null,null,null,null,null,null,null,null,null,null,null,null,"",null,null,"",null,""]
[null,null,null,null,null,null,null,null,null,null,null,null,null,null,null,null,"",null,null,"",null,""]
[null,null,null,null,null,null,null,null,null,null,null,null,null,null,null,null,"",null,null,"",null,""]
[null,null,null,null,null,null,null,null,null,null,null,null,null,null,null,null,"",null,null,"",null,""]
[null,null,null,null,null,null,null,null,null,null,null,null,null,null,null,null,"",null,null,"",null,""]
[null,null,null,null,null,null,null,null,null,null,null,null,null,null,null,null,"",null,null,"",null,""]
[null,null,null,null,null,null,null,null,null,null,null,null,null,null,null,null,"",null,null,"",null,""]
[null,null,null,null,null,null,null,null,null,null,null,null,null,null,null,null,"",null,null,{"$f":"IF(S5273<>\"\",S5273/9,\"\")","v":""},null,{"$f":"IF(U5273<>\"\",U5273/9,\"\")","v":""}]
[null,null,null,null,null,null,null,null,null,null,null,null,null,null,null,null,"",null,null,"",null,""]
[null,null,null,null,null,null,null,null,null,null,null,null,null,null,null,null,"",null,null,"",null,""]
[null,null,null,null,null,null,null,null,null,null,null,null,null,null,null,null,"",null,null,"",null,""]
[null,null,null,null,null,null,null,null,null,null,null,null,null,null,null,null,"",null,null,"",null,""]
[null,null,null,null,null,null,null,null,null,null,null,null,null,null,null,null,"",null,null,"",null,""]
[null,null,null,null,null,null,null,null,null,null,null,null,null,null,null,null,"",null,null,"",null,""]
[null,null,null,null,null,null,null,null,null,null,null,null,null,null,null,null,"",null,null,"",null,""]
[null,null,null,null,null,null,null,null,null,null,null,null,null,null,null,null,"",null,null,"",null,""]
[null,null,null,null,null,null,null,null,null,null,null,null,null,null,null,null,"",null,null,"",null,""]
[null,null,null,null,null,null,null,null,null,null,null,null,null,null,null,null,"",null,null,"",null,""]
[null,null,null,null,null,null,null,null,null,null,null,null,null,null,null,null,"",null,null,"",null,""]
[null,null,null,null,null,null,null,null,null,null,null,null,null,null,null,null,"",null,null,"",null,""]
[null,null,null,null,null,null,null,null,null,null,null,null,null,null,null,null,"",null,null,"",null,""]
[null,null,null,null,null,null,null,null,null,null,null,null,null,null,null,null,"",null,null,"",null,""]
[null,null,null,null,null,null,null,null,null,null,null,null,null,null,null,null,"",null,null,"",null,""]
[null,null,null,null,null,null,null,null,null,null,null,null,null,null,null,null,"",null,null,"",null,""]
[null,null,null,null,null,null,null,null,null,null,null,null,null,null,null,null,"",null,null,"",null,""]
[null,null,null,null,null,null,null,null,null,null,null,null,null,null,null,null,"",null,null,"",null,""]
[null,null,null,null,null,null,null,null,null,null,null,null,null,null,null,null,"",null,null,"",null,""]
[null,null,null,null,null,null,null,null,null,null,null,null,null,null,null,null,"",null,null,"",null,""]
[null,null,null,null,null,null,null,null,null,null,null,null,null,null,null,null,{"$f":"IF(M5309<>\"\",2,\"\")","v":""},null,null,"",null,""]
[null,null,null,null,null,null,null,null,null,null,null,null,null,null,null,null,"",null,null,"",null,""]
[null,null,null,null,null,null,null,null,null,null,null,null,null,null,null,null,"",null,null,"",null,""]
[null,null,null,null,null,null,null,null,null,null,null,null,null,null,null,null,"",null,null,"",null,""]
[null,null,null,null,null,null,null,null,null,null,null,null,null,null,null,null,"",null,null,"",null,""]
[null,null,null,null,null,null,null,null,null,null,null,null,null,null,null,null,"",null,null,"",null,""]
[null,null,null,null,null,null,null,null,null,null,null,null,null,null,null,null,"",null,null,"",null,""]
[null,null,null,null,null,null,null,null,null,null,null,null,null,null,null,null,"",null,null,"",null,""]
[null,null,null,null,null,null,null,null,null,null,null,null,null,null,null,null,"",null,null,"",null,""]
[null,null,null,null,null,null,null,null,null,null,null,null,null,null,null,null,"",null,null,"",null,""]
[null,null,null,null,null,null,null,null,null,null,null,null,null,null,null,null,"",null,null,"",null,""]
[null,null,null,null,null,null,null,null,null,null,null,null,null,null,null,null,"",null,null,"",null,""]
[null,null,null,null,null,null,null,null,null,null,null,null,null,null,null,null,"",null,null,"",null,""]
[null,null,null,null,null,null,null,null,null,null,null,null,null,null,null,null,"",null,null,"",null,""]
[null,null,null,null,null,null,null,null,null,null,null,null,null,null,null,null,"",null,null,"",null,""]
[null,null,null,null,null,null,null,null,null,null,null,null,null,null,null,null,"",null,null,"",null,""]
[null,null,null,null,null,null,null,null,null,null,null,null,null,null,null,null,"",null,null,{"$f":"IF(S5337<>\"\",S5337/9,\"\")","v":""},null,{"$f":"IF(U5337<>\"\",U5337/9,\"\")","v":""}]
[null,null,null,null,null,null,null,null,null,null,null,null,null,null,null,null,"",null,null,"",null,""]
[null,null,null,null,null,null,null,null,null,null,null,null,null,null,null,null,"",null,null,"",null,""]
[null,null,null,null,null,null,null,null,null,null,null,null,null,null,null,null,"",null,null,"",null,""]
[null,null,null,null,null,null,null,null,null,null,null,null,null,null,null,null,"",null,null,"",null,""]
[null,null,null,null,null,null,null,null,null,null,null,null,null,null,null,null,"",null,null,"",null,""]
[null,null,null,null,null,null,null,null,null,null,null,null,null,null,null,null,"",null,null,"",null,""]
[null,null,null,null,null,null,null,null,null,null,null,null,null,null,null,null,"",null,null,"",null,""]
[null,null,null,null,null,null,null,null,null,null,null,null,null,null,null,null,"",null,null,"",null,""]
[null,null,null,null,null,null,null,null,null,null,null,null,null,null,null,null,"",null,null,"",null,""]
[null,null,null,null,null,null,null,null,null,null,null,null,null,null,null,null,"",null,null,"",null,""]
[null,null,null,null,null,null,null,null,null,null,null,null,null,null,null,null,"",null,null,"",null,""]
[null,null,null,null,null,null,null,null,null,null,null,null,null,null,null,null,"",null,null,"",null,""]
[null,null,null,null,null,null,null,null,null,null,null,null,null,null,null,null,"",null,null,"",null,""]
[null,null,null,null,null,null,null,null,null,null,null,null,null,null,null,null,"",null,null,"",null,""]
[null,null,null,null,null,null,null,null,null,null,null,null,null,null,null,null,"",null,null,"",null,""]
[null,null,null,null,null,null,null,null,null,null,null,null,null,null,null,null,"",null,null,"",null,""]
[null,null,null,null,null,null,null,null,null,null,null,null,null,null,null,null,"",null,null,"",null,""]
[null,null,null,null,null,null,null,null,null,null,null,null,null,null,null,null,"",null,null,"",null,""]
[null,null,null,null,null,null,null,null,null,null,null,null,null,null,null,null,"",null,null,"",null,""]
[null,null,null,null,null,null,null,null,null,null,null,null,null,null,null,null,"",null,null,"",null,""]
[null,null,null,null,null,null,null,null,null,null,null,null,null,null,null,null,"",null,null,"",null,""]
[null,null,null,null,null,null,null,null,null,null,null,null,null,null,null,null,"",null,null,"",null,""]
[null,null,null,null,null,null,null,null,null,null,null,null,null,null,null,null,"",null,null,"",null,""]
[null,null,null,null,null,null,null,null,null,null,null,null,null,null,null,null,"",null,null,"",null,""]
[null,null,null,null,null,null,null,null,null,null,null,null,null,null,null,null,"",null,null,"",null,""]
[null,null,null,null,null,null,null,null,null,null,null,null,null,null,null,null,"",null,null,"",null,""]
[null,null,null,null,null,null,null,null,null,null,null,null,null,null,null,null,"",null,null,"",null,""]
[null,null,null,null,null,null,null,null,null,null,null,null,null,null,null,null,"",null,null,"",null,""]
[null,null,null,null,null,null,null,null,null,null,null,null,null,null,null,null,"",null,null,"",null,""]
[null,null,null,null,null,null,null,null,null,null,null,null,null,null,null,null,"",null,null,"",null,""]
[null,null,null,null,null,null,null,null,null,null,null,null,null,null,null,null,"",null,null,"",null,""]
[null,null,null,null,null,null,null,null,null,null,null,null,null,null,null,null,"",null,null,"",null,""]
[null,null,null,null,null,null,null,null,null,null,null,null,null,null,null,null,"",null,null,"",null,""]
[null,null,null,null,null,null,null,null,null,null,null,null,null,null,null,null,"",null,null,"",null,""]
[null,null,null,null,null,null,null,null,null,null,null,null,null,null,null,null,"",null,null,"",null,""]
[null,null,null,null,null,null,null,null,null,null,null,null,null,null,null,null,"",null,null,"",null,""]
[null,null,null,null,null,null,null,null,null,null,null,null,null,null,null,null,"",null,null,"",null,""]
[null,null,null,null,null,null,null,null,null,null,null,null,null,null,null,null,"",null,null,"",null,""]
[null,null,null,null,null,null,null,null,null,null,null,null,null,null,null,null,"",null,null,"",null,""]
[null,null,null,null,null,null,null,null,null,null,null,null,null,null,null,null,"",null,null,"",null,""]
[null,null,null,null,null,null,null,null,null,null,null,null,null,null,null,null,"",null,null,"",null,""]
[null,null,null,null,null,null,null,null,null,null,null,null,null,null,null,null,"",null,null,"",null,""]
[null,null,null,null,null,null,null,null,null,null,null,null,null,null,null,null,"",null,null,"",null,""]
[null,null,null,null,null,null,null,null,null,null,null,null,null,null,null,null,"",null,null,"",null,""]
[null,null,null,null,null,null,null,null,null,null,null,null,null,null,null,null,"",null,null,"",null,""]
[null,null,null,null,null,null,null,null,null,null,null,null,null,null,null,null,"",null,null,"",null,""]
[null,null,null,null,null,null,null,null,null,null,null,null,null,null,null,null,"",null,null,"",null,""]
[null,null,null,null,null,null,null,null,null,null,null,null,null,null,null,null,"",null,null,"",null,""]
[null,null,null,null,null,null,null,null,null,null,null,null,null,null,null,null,"",null,null,"",null,""]
[null,null,null,null,null,null,null,null,null,null,null,null,null,null,null,null,"",null,null,"",null,""]
[null,null,null,null,null,null,null,null,null,null,null,null,null,null,null,null,"",null,null,"",null,""]
[null,null,null,null,null,null,null,null,null,null,null,null,null,null,null,null,"",null,null,"",null,""]
[null,null,null,null,null,null,null,null,null,null,null,null,null,null,null,null,"",null,null,"",null,""]
[null,null,null,null,null,null,null,null,null,null,null,null,null,null,null,null,"",null,null,"",null,""]
[null,null,null,null,null,null,null,null,null,null,null,null,null,null,null,null,"",null,null,"",null,""]
[null,null,null,null,null,null,null,null,null,null,null,null,null,null,null,null,"",null,null,"",null,""]
[null,null,null,null,null,null,null,null,null,null,null,null,null,null,null,null,"",null,null,"",null,""]
[null,null,null,null,null,null,null,null,null,null,null,null,null,null,null,null,"",null,null,"",null,""]
[null,null,null,null,null,null,null,null,null,null,null,null,null,null,null,null,"",null,null,"",null,""]
[null,null,null,null,null,null,null,null,null,null,null,null,null,null,null,null,"",null,null,"",null,""]
[null,null,null,null,null,null,null,null,null,null,null,null,null,null,null,null,"",null,null,"",null,""]
[null,null,null,null,null,null,null,null,null,null,null,null,null,null,null,null,{"$f":"IF(M5437<>\"\",2,\"\")","v":""},null,null,"",null,""]
[null,null,null,null,null,null,null,null,null,null,null,null,null,null,null,null,"",null,null,"",null,""]
[null,null,null,null,null,null,null,null,null,null,null,null,null,null,null,null,"",null,null,"",null,""]
[null,null,null,null,null,null,null,null,null,null,null,null,null,null,null,null,"",null,null,"",null,""]
[null,null,null,null,null,null,null,null,null,null,null,null,null,null,null,null,"",null,null,"",null,""]
[null,null,null,null,null,null,null,null,null,null,null,null,null,null,null,null,"",null,null,"",null,""]
[null,null,null,null,null,null,null,null,null,null,null,null,null,null,null,null,"",null,null,"",null,""]
[null,null,null,null,null,null,null,null,null,null,null,null,null,null,null,null,"",null,null,"",null,""]
[null,null,null,null,null,null,null,null,null,null,null,null,null,null,null,null,"",null,null,"",null,""]
[null,null,null,null,null,null,null,null,null,null,null,null,null,null,null,null,"",null,null,"",null,""]
[null,null,null,null,null,null,null,null,null,null,null,null,null,null,null,null,"",null,null,"",null,""]
[null,null,null,null,null,null,null,null,null,null,null,null,null,null,null,null,"",null,null,"",null,""]
[null,null,null,null,null,null,null,null,null,null,null,null,null,null,null,null,"",null,null,"",null,""]
[null,null,null,null,null,null,null,null,null,null,null,null,null,null,null,null,"",null,null,"",null,""]
[null,null,null,null,null,null,null,null,null,null,null,null,null,null,null,null,"",null,null,"",null,""]
[null,null,null,null,null,null,null,null,null,null,null,null,null,null,null,null,"",null,null,"",null,""]
[null,null,null,null,null,null,null,null,null,null,null,null,null,null,null,null,"",null,null,"",null,""]
[null,null,null,null,null,null,null,null,null,null,null,null,null,null,null,null,"",null,null,"",null,""]
[null,null,null,null,null,null,null,null,null,null,null,null,null,null,null,null,"",null,null,"",null,""]
[null,null,null,null,null,null,null,null,null,null,null,null,null,null,null,null,"",null,null,"",null,""]
[null,null,null,null,null,null,null,null,null,null,null,null,null,null,null,null,"",null,null,"",null,""]
[null,null,null,null,null,null,null,null,null,null,null,null,null,null,null,null,"",null,null,"",null,""]
[null,null,null,null,null,null,null,null,null,null,null,null,null,null,null,null,"",null,null,"",null,""]
[null,null,null,null,null,null,null,null,null,null,null,null,null,null,null,null,"",null,null,"",null,""]
[null,null,null,null,null,null,null,null,null,null,null,null,null,null,null,null,"",null,null,"",null,""]
[null,null,null,null,null,null,null,null,null,null,null,null,null,null,null,null,"",null,null,"",null,""]
[null,null,null,null,null,null,null,null,null,null,null,null,null,null,null,null,"",null,null,"",null,""]
[null,null,null,null,null,null,null,null,null,null,null,null,null,null,null,null,"",null,null,"",null,""]
[null,null,null,null,null,null,null,null,null,null,null,null,null,null,null,null,"",null,null,{"$f":"IF(S5465<>\"\",S5465/9,\"\")","v":""},null,{"$f":"IF(U5465<>\"\",U5465/9,\"\")","v":""}]
[null,null,null,null,null,null,null,null,null,null,null,null,null,null,null,null,"",null,null,"",null,""]
[null,null,null,null,null,null,null,null,null,null,null,null,null,null,null,null,"",null,null,"",null,""]
[null,null,null,null,null,null,null,null,null,null,null,null,null,null,null,null,"",null,null,"",null,""]
[null,null,null,null,null,null,null,null,null,null,null,null,null,null,null,null,"",null,null,"",null,""]
[null,null,null,null,null,null,null,null,null,null,null,null,null,null,null,null,"",null,null,"",null,""]
[null,null,null,null,null,null,null,null,null,null,null,null,null,null,null,null,"",null,null,"",null,""]
[null,null,null,null,null,null,null,null,null,null,null,null,null,null,null,null,"",null,null,"",null,""]
[null,null,null,null,null,null,null,null,null,null,null,null,null,null,null,null,"",null,null,"",null,""]
[null,null,null,null,null,null,null,null,null,null,null,null,null,null,null,null,"",null,null,"",null,""]
[null,null,null,null,null,null,null,null,null,null,null,null,null,null,null,null,"",null,null,"",null,""]
[null,null,null,null,null,null,null,null,null,null,null,null,null,null,null,null,"",null,null,"",null,""]
[null,null,null,null,null,null,null,null,null,null,null,null,null,null,null,null,"",null,null,"",null,""]
[null,null,null,null,null,null,null,null,null,null,null,null,null,null,null,null,"",null,null,"",null,""]
[null,null,null,null,null,null,null,null,null,null,null,null,null,null,null,null,"",null,null,"",null,""]
[null,null,null,null,null,null,null,null,null,null,null,null,null,null,null,null,"",null,null,"",null,""]
[null,null,null,null,null,null,null,null,null,null,null,null,null,null,null,null,"",null,null,"",null,""]
[null,null,null,null,null,null,null,null,null,null,null,null,null,null,null,null,"",null,null,"",null,""]
[null,null,null,null,null,null,null,null,null,null,null,null,null,null,null,null,"",null,null,"",null,""]
[null,null,null,null,null,null,null,null,null,null,null,null,null,null,null,null,"",null,null,"",null,""]
[null,null,null,null,null,null,null,null,null,null,null,null,null,null,null,null,"",null,null,"",null,""]
[null,null,null,null,null,null,null,null,null,null,null,null,null,null,null,null,"",null,null,"",null,""]
[null,null,null,null,null,null,null,null,null,null,null,null,null,null,null,null,"",null,null,"",null,""]
[null,null,null,null,null,null,null,null,null,null,null,null,null,null,null,null,"",null,null,"",null,""]
[null,null,null,null,null,null,null,null,null,null,null,null,null,null,null,null,"",null,null,"",null,""]
[null,null,null,null,null,null,null,null,null,null,null,null,null,null,null,null,"",null,null,"",null,""]
[null,null,null,null,null,null,null,null,null,null,null,null,null,null,null,null,"",null,null,"",null,""]
[null,null,null,null,null,null,null,null,null,null,null,null,null,null,null,null,"",null,null,"",null,""]
[null,null,null,null,null,null,null,null,null,null,null,null,null,null,null,null,"",null,null,"",null,""]
[null,null,null,null,null,null,null,null,null,null,null,null,null,null,null,null,"",null,null,"",null,""]
[null,null,null,null,null,null,null,null,null,null,null,null,null,null,null,null,"",null,null,"",null,""]
[null,null,null,null,null,null,null,null,null,null,null,null,null,null,null,null,"",null,null,"",null,""]
[null,null,null,null,null,null,null,null,null,null,null,null,null,null,null,null,"",null,null,"",null,""]
[null,null,null,null,null,null,null,null,null,null,null,null,null,null,null,null,"",null,null,"",null,""]
[null,null,null,null,null,null,null,null,null,null,null,null,null,null,null,null,"",null,null,"",null,""]
[null,null,null,null,null,null,null,null,null,null,null,null,null,null,null,null,"",null,null,"",null,""]
[null,null,null,null,null,null,null,null,null,null,null,null,null,null,null,null,{"$f":"IF(M5501<>\"\",2,\"\")","v":""},null,null,"",null,""]
[null,null,null,null,null,null,null,null,null,null,null,null,null,null,null,null,"",null,null,"",null,""]
[null,null,null,null,null,null,null,null,null,null,null,null,null,null,null,null,"",null,null,"",null,""]
[null,null,null,null,null,null,null,null,null,null,null,null,null,null,null,null,"",null,null,"",null,""]
[null,null,null,null,null,null,null,null,null,null,null,null,null,null,null,null,"",null,null,"",null,""]
[null,null,null,null,null,null,null,null,null,null,null,null,null,null,null,null,"",null,null,"",null,""]
[null,null,null,null,null,null,null,null,null,null,null,null,null,null,null,null,"",null,null,"",null,""]
[null,null,null,null,null,null,null,null,null,null,null,null,null,null,null,null,"",null,null,"",null,""]
[null,null,null,null,null,null,null,null,null,null,null,null,null,null,null,null,"",null,null,"",null,""]
[null,null,null,null,null,null,null,null,null,null,null,null,null,null,null,null,"",null,null,"",null,""]
[null,null,null,null,null,null,null,null,null,null,null,null,null,null,null,null,"",null,null,"",null,""]
[null,null,null,null,null,null,null,null,null,null,null,null,null,null,null,null,"",null,null,"",null,""]
[null,null,null,null,null,null,null,null,null,null,null,null,null,null,null,null,"",null,null,"",null,""]
[null,null,null,null,null,null,null,null,null,null,null,null,null,null,null,null,"",null,null,"",null,""]
[null,null,null,null,null,null,null,null,null,null,null,null,null,null,null,null,"",null,null,"",null,""]
[null,null,null,null,null,null,null,null,null,null,null,null,null,null,null,null,"",null,null,"",null,""]
[null,null,null,null,null,null,null,null,null,null,null,null,null,null,null,null,"",null,null,"",null,""]
[null,null,null,null,null,null,null,null,null,null,null,null,null,null,null,null,"",null,null,"",null,""]
[null,null,null,null,null,null,null,null,null,null,null,null,null,null,null,null,"",null,null,"",null,""]
[null,null,null,null,null,null,null,null,null,null,null,null,null,null,null,null,"",null,null,"",null,""]
[null,null,null,null,null,null,null,null,null,null,null,null,null,null,null,null,"",null,null,"",null,""]
[null,null,null,null,null,null,null,null,null,null,null,null,null,null,null,null,"",null,null,"",null,""]
[null,null,null,null,null,null,null,null,null,null,null,null,null,null,null,null,"",null,null,"",null,""]
[null,null,null,null,null,null,null,null,null,null,null,null,null,null,null,null,"",null,null,"",null,""]
[null,null,null,null,null,null,null,null,null,null,null,null,null,null,null,null,"",null,null,"",null,""]
[null,null,null,null,null,null,null,null,null,null,null,null,null,null,null,null,"",null,null,"",null,""]
[null,null,null,null,null,null,null,null,null,null,null,null,null,null,null,null,"",null,null,"",null,""]
[null,null,null,null,null,null,null,null,null,null,null,null,null,null,null,null,"",null,null,"",null,""]
[null,null,null,null,null,null,null,null,null,null,null,null,null,null,null,null,"",null,null,{"$f":"IF(S5529<>\"\",S5529/9,\"\")","v":""},null,{"$f":"IF(U5529<>\"\",U5529/9,\"\")","v":""}]
[null,null,null,null,null,null,null,null,null,null,null,null,null,null,null,null,"",null,null,"",null,""]
[null,null,null,null,null,null,null,null,null,null,null,null,null,null,null,null,"",null,null,"",null,""]
[null,null,null,null,null,null,null,null,null,null,null,null,null,null,null,null,"",null,null,"",null,""]
[null,null,null,null,null,null,null,null,null,null,null,null,null,null,null,null,"",null,null,"",null,""]
[null,null,null,null,null,null,null,null,null,null,null,null,null,null,null,null,"",null,null,"",null,""]
[null,null,null,null,null,null,null,null,null,null,null,null,null,null,null,null,"",null,null,"",null,""]
[null,null,null,null,null,null,null,null,null,null,null,null,null,null,null,null,"",null,null,"",null,""]
[null,null,null,null,null,null,null,null,null,null,null,null,null,null,null,null,"",null,null,"",null,""]
[null,null,null,null,null,null,null,null,null,null,null,null,null,null,null,null,"",null,null,"",null,""]
[null,null,null,null,null,null,null,null,null,null,null,null,null,null,null,null,"",null,null,"",null,""]
[null,null,null,null,null,null,null,null,null,null,null,null,null,null,null,null,"",null,null,"",null,""]
[null,null,null,null,null,null,null,null,null,null,null,null,null,null,null,null,"",null,null,"",null,""]
[null,null,null,null,null,null,null,null,null,null,null,null,null,null,null,null,"",null,null,"",null,""]
[null,null,null,null,null,null,null,null,null,null,null,null,null,null,null,null,"",null,null,"",null,""]
[null,null,null,null,null,null,null,null,null,null,null,null,null,null,null,null,"",null,null,"",null,""]
[null,null,null,null,null,null,null,null,null,null,null,null,null,null,null,null,"",null,null,"",null,""]
[null,null,null,null,null,null,null,null,null,null,null,null,null,null,null,null,"",null,null,"",null,""]
[null,null,null,null,null,null,null,null,null,null,null,null,null,null,null,null,"",null,null,"",null,""]
[null,null,null,null,null,null,null,null,null,null,null,null,null,null,null,null,"",null,null,"",null,""]
[null,null,null,null,null,null,null,null,null,null,null,null,null,null,null,null,"",null,null,"",null,""]
[null,null,null,null,null,null,null,null,null,null,null,null,null,null,null,null,"",null,null,"",null,""]
[null,null,null,null,null,null,null,null,null,null,null,null,null,null,null,null,"",null,null,"",null,""]
[null,null,null,null,null,null,null,null,null,null,null,null,null,null,null,null,"",null,null,"",null,""]
[null,null,null,null,null,null,null,null,null,null,null,null,null,null,null,null,"",null,null,"",null,""]
[null,null,null,null,null,null,null,null,null,null,null,null,null,null,null,null,"",null,null,"",null,""]
[null,null,null,null,null,null,null,null,null,null,null,null,null,null,null,null,"",null,null,"",null,""]
[null,null,null,null,null,null,null,null,null,null,null,null,null,null,null,null,"",null,null,"",null,""]
[null,null,null,null,null,null,null,null,null,null,null,null,null,null,null,null,"",null,null,"",null,""]
[null,null,null,null,null,null,null,null,null,null,null,null,null,null,null,null,"",null,null,"",null,""]
[null,null,null,null,null,null,null,null,null,null,null,null,null,null,null,null,"",null,null,"",null,""]
[null,null,null,null,null,null,null,null,null,null,null,null,null,null,null,null,"",null,null,"",null,""]
[null,null,null,null,null,null,null,null,null,null,null,null,null,null,null,null,"",null,null,"",null,""]
[null,null,null,null,null,null,null,null,null,null,null,null,null,null,null,null,"",null,null,"",null,""]
[null,null,null,null,null,null,null,null,null,null,null,null,null,null,null,null,"",null,null,"",null,""]
[null,null,null,null,null,null,null,null,null,null,null,null,null,null,null,null,"",null,null,"",null,""]
[null,null,null,null,null,null,null,null,null,null,null,null,null,null,null,null,{"$f":"IF(M5565<>\"\",2,\"\")","v":""},null,null,"",null,""]
[null,null,null,null,null,null,null,null,null,null,null,null,null,null,null,null,"",null,null,"",null,""]
[null,null,null,null,null,null,null,null,null,null,null,null,null,null,null,null,"",null,null,"",null,""]
[null,null,null,null,null,null,null,null,null,null,null,null,null,null,null,null,"",null,null,"",null,""]
[null,null,null,null,null,null,null,null,null,null,null,null,null,null,null,null,"",null,null,"",null,""]
[null,null,null,null,null,null,null,null,null,null,null,null,null,null,null,null,"",null,null,"",null,""]
[null,null,null,null,null,null,null,null,null,null,null,null,null,null,null,null,"",null,null,"",null,""]
[null,null,null,null,null,null,null,null,null,null,null,null,null,null,null,null,"",null,null,"",null,""]
[null,null,null,null,null,null,null,null,null,null,null,null,null,null,null,null,"",null,null,"",null,""]
[null,null,null,null,null,null,null,null,null,null,null,null,null,null,null,null,"",null,null,"",null,""]
[null,null,null,null,null,null,null,null,null,null,null,null,null,null,null,null,"",null,null,"",null,""]
[null,null,null,null,null,null,null,null,null,null,null,null,null,null,null,null,"",null,null,"",null,""]
[null,null,null,null,null,null,null,null,null,null,null,null,null,null,null,null,"",null,null,"",null,""]
[null,null,null,null,null,null,null,null,null,null,null,null,null,null,null,null,"",null,null,"",null,""]
[null,null,null,null,null,null,null,null,null,null,null,null,null,null,null,null,"",null,null,"",null,""]
[null,null,null,null,null,null,null,null,null,null,null,null,null,null,null,null,"",null,null,"",null,""]
[null,null,null,null,null,null,null,null,null,null,null,null,null,null,null,null,"",null,null,"",null,""]
[null,null,null,null,null,null,null,null,null,null,null,null,null,null,null,null,"",null,null,"",null,""]
[null,null,null,null,null,null,null,null,null,null,null,null,null,null,null,null,"",null,null,"",null,""]
[null,null,null,null,null,null,null,null,null,null,null,null,null,null,null,null,"",null,null,"",null,""]
[null,null,null,null,null,null,null,null,null,null,null,null,null,null,null,null,"",null,null,"",null,""]
[null,null,null,null,null,null,null,null,null,null,null,null,null,null,null,null,"",null,null,"",null,""]
[null,null,null,null,null,null,null,null,null,null,null,null,null,null,null,null,"",null,null,"",null,""]
[null,null,null,null,null,null,null,null,null,null,null,null,null,null,null,null,"",null,null,"",null,""]
[null,null,null,null,null,null,null,null,null,null,null,null,null,null,null,null,"",null,null,"",null,""]
[null,null,null,null,null,null,null,null,null,null,null,null,null,null,null,null,"",null,null,"",null,""]
[null,null,null,null,null,null,null,null,null,null,null,null,null,null,null,null,"",null,null,"",null,""]
[null,null,null,null,null,null,null,null,null,null,null,null,null,null,null,null,"",null,null,"",null,""]
[null,null,null,null,null,null,null,null,null,null,null,null,null,null,null,null,"",null,null,{"$f":"IF(S5593<>\"\",S5593/9,\"\")","v":""},null,{"$f":"IF(U5593<>\"\",U5593/9,\"\")","v":""}]
[null,null,null,null,null,null,null,null,null,null,null,null,null,null,null,null,"",null,null,"",null,""]
[null,null,null,null,null,null,null,null,null,null,null,null,null,null,null,null,"",null,null,"",null,""]
[null,null,null,null,null,null,null,null,null,null,null,null,null,null,null,null,"",null,null,"",null,""]
[null,null,null,null,null,null,null,null,null,null,null,null,null,null,null,null,"",null,null,"",null,""]
[null,null,null,null,null,null,null,null,null,null,null,null,null,null,null,null,"",null,null,"",null,""]
[null,null,null,null,null,null,null,null,null,null,null,null,null,null,null,null,"",null,null,"",null,""]
[null,null,null,null,null,null,null,null,null,null,null,null,null,null,null,null,"",null,null,"",null,""]
[null,null,null,null,null,null,null,null,null,null,null,null,null,null,null,null,"",null,null,"",null,""]
[null,null,null,null,null,null,null,null,null,null,null,null,null,null,null,null,"",null,null,"",null,""]
[null,null,null,null,null,null,null,null,null,null,null,null,null,null,null,null,"",null,null,"",null,""]
[null,null,null,null,null,null,null,null,null,null,null,null,null,null,null,null,"",null,null,"",null,""]
[null,null,null,null,null,null,null,null,null,null,null,null,null,null,null,null,"",null,null,"",null,""]
[null,null,null,null,null,null,null,null,null,null,null,null,null,null,null,null,"",null,null,"",null,""]
[null,null,null,null,null,null,null,null,null,null,null,null,null,null,null,null,"",null,null,"",null,""]
[null,null,null,null,null,null,null,null,null,null,null,null,null,null,null,null,"",null,null,"",null,""]
[null,null,null,null,null,null,null,null,null,null,null,null,null,null,null,null,"",null,null,"",null,""]
[null,null,null,null,null,null,null,null,null,null,null,null,null,null,null,null,"",null,null,"",null,""]
[null,null,null,null,null,null,null,null,null,null,null,null,null,null,null,null,"",null,null,"",null,""]
[null,null,null,null,null,null,null,null,null,null,null,null,null,null,null,null,"",null,null,"",null,""]
[null,null,null,null,null,null,null,null,null,null,null,null,null,null,null,null,"",null,null,"",null,""]
[null,null,null,null,null,null,null,null,null,null,null,null,null,null,null,null,"",null,null,"",null,""]
[null,null,null,null,null,null,null,null,null,null,null,null,null,null,null,null,"",null,null,"",null,""]
[null,null,null,null,null,null,null,null,null,null,null,null,null,null,null,null,"",null,null,"",null,""]
[null,null,null,null,null,null,null,null,null,null,null,null,null,null,null,null,"",null,null,"",null,""]
[null,null,null,null,null,null,null,null,null,null,null,null,null,null,null,null,"",null,null,"",null,""]
[null,null,null,null,null,null,null,null,null,null,null,null,null,null,null,null,"",null,null,"",null,""]
[null,null,null,null,null,null,null,null,null,null,null,null,null,null,null,null,"",null,null,"",null,""]
[null,null,null,null,null,null,null,null,null,null,null,null,null,null,null,null,"",null,null,"",null,""]
[null,null,null,null,null,null,null,null,null,null,null,null,null,null,null,null,"",null,null,"",null,""]
[null,null,null,null,null,null,null,null,null,null,null,null,null,null,null,null,"",null,null,"",null,""]
[null,null,null,null,null,null,null,null,null,null,null,null,null,null,null,null,"",null,null,"",null,""]
[null,null,null,null,null,null,null,null,null,null,null,null,null,null,null,null,"",null,null,"",null,""]
[null,null,null,null,null,null,null,null,null,null,null,null,null,null,null,null,"",null,null,"",null,""]
[null,null,null,null,null,null,null,null,null,null,null,null,null,null,null,null,"",null,null,"",null,""]
[null,null,null,null,null,null,null,null,null,null,null,null,null,null,null,null,"",null,null,"",null,""]
[null,null,null,null,null,null,null,null,null,null,null,null,null,null,null,null,{"$f":"IF(M5629<>\"\",2,\"\")","v":""},null,null,"",null,""]
[null,null,null,null,null,null,null,null,null,null,null,null,null,null,null,null,"",null,null,"",null,""]
[null,null,null,null,null,null,null,null,null,null,null,null,null,null,null,null,"",null,null,"",null,""]
[null,null,null,null,null,null,null,null,null,null,null,null,null,null,null,null,"",null,null,"",null,""]
[null,null,null,null,null,null,null,null,null,null,null,null,null,null,null,null,"",null,null,"",null,""]
[null,null,null,null,null,null,null,null,null,null,null,null,null,null,null,null,"",null,null,"",null,""]
[null,null,null,null,null,null,null,null,null,null,null,null,null,null,null,null,"",null,null,"",null,""]
[null,null,null,null,null,null,null,null,null,null,null,null,null,null,null,null,"",null,null,"",null,""]
[null,null,null,null,null,null,null,null,null,null,null,null,null,null,null,null,"",null,null,"",null,""]
[null,null,null,null,null,null,null,null,null,null,null,null,null,null,null,null,"",null,null,"",null,""]
[null,null,null,null,null,null,null,null,null,null,null,null,null,null,null,null,"",null,null,"",null,""]
[null,null,null,null,null,null,null,null,null,null,null,null,null,null,null,null,"",null,null,"",null,""]
[null,null,null,null,null,null,null,null,null,null,null,null,null,null,null,null,"",null,null,"",null,""]
[null,null,null,null,null,null,null,null,null,null,null,null,null,null,null,null,"",null,null,"",null,""]
[null,null,null,null,null,null,null,null,null,null,null,null,null,null,null,null,"",null,null,"",null,""]
[null,null,null,null,null,null,null,null,null,null,null,null,null,null,null,null,"",null,null,"",null,""]
[null,null,null,null,null,null,null,null,null,null,null,null,null,null,null,null,"",null,null,"",null,""]
[null,null,null,null,null,null,null,null,null,null,null,null,null,null,null,null,"",null,null,"",null,""]
[null,null,null,null,null,null,null,null,null,null,null,null,null,null,null,null,"",null,null,"",null,""]
[null,null,null,null,null,null,null,null,null,null,null,null,null,null,null,null,"",null,null,"",null,""]
[null,null,null,null,null,null,null,null,null,null,null,null,null,null,null,null,"",null,null,"",null,""]
[null,null,null,null,null,null,null,null,null,null,null,null,null,null,null,null,"",null,null,"",null,""]
[null,null,null,null,null,null,null,null,null,null,null,null,null,null,null,null,"",null,null,"",null,""]
[null,null,null,null,null,null,null,null,null,null,null,null,null,null,null,null,"",null,null,"",null,""]
[null,null,null,null,null,null,null,null,null,null,null,null,null,null,null,null,"",null,null,"",null,""]
[null,null,null,null,null,null,null,null,null,null,null,null,null,null,null,null,"",null,null,"",null,""]
[null,null,null,null,null,null,null,null,null,null,null,null,null,null,null,null,"",null,null,"",null,""]
[null,null,null,null,null,null,null,null,null,null,null,null,null,null,null,null,"",null,null,"",null,""]
[null,null,null,null,null,null,null,null,null,null,null,null,null,null,null,null,"",null,null,{"$f":"IF(S5657<>\"\",S5657/9,\"\")","v":""},null,{"$f":"IF(U5657<>\"\",U5657/9,\"\")","v":""}]
[null,null,null,null,null,null,null,null,null,null,null,null,null,null,null,null,"",null,null,"",null,""]
[null,null,null,null,null,null,null,null,null,null,null,null,null,null,null,null,"",null,null,"",null,""]
[null,null,null,null,null,null,null,null,null,null,null,null,null,null,null,null,"",null,null,"",null,""]
[null,null,null,null,null,null,null,null,null,null,null,null,null,null,null,null,"",null,null,"",null,""]
[null,null,null,null,null,null,null,null,null,null,null,null,null,null,null,null,"",null,null,"",null,""]
[null,null,null,null,null,null,null,null,null,null,null,null,null,null,null,null,"",null,null,"",null,""]
[null,null,null,null,null,null,null,null,null,null,null,null,null,null,null,null,"",null,null,"",null,""]
[null,null,null,null,null,null,null,null,null,null,null,null,null,null,null,null,"",null,null,"",null,""]
[null,null,null,null,null,null,null,null,null,null,null,null,null,null,null,null,"",null,null,"",null,""]
[null,null,null,null,null,null,null,null,null,null,null,null,null,null,null,null,"",null,null,"",null,""]
[null,null,null,null,null,null,null,null,null,null,null,null,null,null,null,null,"",null,null,"",null,""]
[null,null,null,null,null,null,null,null,null,null,null,null,null,null,null,null,"",null,null,"",null,""]
[null,null,null,null,null,null,null,null,null,null,null,null,null,null,null,null,"",null,null,"",null,""]
[null,null,null,null,null,null,null,null,null,null,null,null,null,null,null,null,"",null,null,"",null,""]
[null,null,null,null,null,null,null,null,null,null,null,null,null,null,null,null,"",null,null,"",null,""]
[null,null,null,null,null,null,null,null,null,null,null,null,null,null,null,null,"",null,null,"",null,""]
[null,null,null,null,null,null,null,null,null,null,null,null,null,null,null,null,"",null,null,"",null,""]
[null,null,null,null,null,null,null,null,null,null,null,null,null,null,null,null,"",null,null,"",null,""]
[null,null,null,null,null,null,null,null,null,null,null,null,null,null,null,null,"",null,null,"",null,""]
[null,null,null,null,null,null,null,null,null,null,null,null,null,null,null,null,"",null,null,"",null,""]
[null,null,null,null,null,null,null,null,null,null,null,null,null,null,null,null,"",null,null,"",null,""]
[null,null,null,null,null,null,null,null,null,null,null,null,null,null,null,null,"",null,null,"",null,""]
[null,null,null,null,null,null,null,null,null,null,null,null,null,null,null,null,"",null,null,"",null,""]
[null,null,null,null,null,null,null,null,null,null,null,null,null,null,null,null,"",null,null,"",null,""]
[null,null,null,null,null,null,null,null,null,null,null,null,null,null,null,null,"",null,null,"",null,""]
[null,null,null,null,null,null,null,null,null,null,null,null,null,null,null,null,"",null,null,"",null,""]
[null,null,null,null,null,null,null,null,null,null,null,null,null,null,null,null,"",null,null,"",null,""]
[null,null,null,null,null,null,null,null,null,null,null,null,null,null,null,null,"",null,null,"",null,""]
[null,null,null,null,null,null,null,null,null,null,null,null,null,null,null,null,"",null,null,"",null,""]
[null,null,null,null,null,null,null,null,null,null,null,null,null,null,null,null,"",null,null,"",null,""]
[null,null,null,null,null,null,null,null,null,null,null,null,null,null,null,null,"",null,null,"",null,""]
[null,null,null,null,null,null,null,null,null,null,null,null,null,null,null,null,"",null,null,"",null,""]
[null,null,null,null,null,null,null,null,null,null,null,null,null,null,null,null,"",null,null,"",null,""]
[null,null,null,null,null,null,null,null,null,null,null,null,null,null,null,null,"",null,null,"",null,""]
[null,null,null,null,null,null,null,null,null,null,null,null,null,null,null,null,"",null,null,"",null,""]
[null,null,null,null,null,null,null,null,null,null,null,null,null,null,null,null,{"$f":"IF(M5693<>\"\",2,\"\")","v":""},null,null,"",null,""]
[null,null,null,null,null,null,null,null,null,null,null,null,null,null,null,null,"",null,null,"",null,""]
[null,null,null,null,null,null,null,null,null,null,null,null,null,null,null,null,"",null,null,"",null,""]
[null,null,null,null,null,null,null,null,null,null,null,null,null,null,null,null,"",null,null,"",null,""]
[null,null,null,null,null,null,null,null,null,null,null,null,null,null,null,null,"",null,null,"",null,""]
[null,null,null,null,null,null,null,null,null,null,null,null,null,null,null,null,"",null,null,"",null,""]
[null,null,null,null,null,null,null,null,null,null,null,null,null,null,null,null,"",null,null,"",null,""]
[null,null,null,null,null,null,null,null,null,null,null,null,null,null,null,null,"",null,null,"",null,""]
[null,null,null,null,null,null,null,null,null,null,null,null,null,null,null,null,"",null,null,"",null,""]
[null,null,null,null,null,null,null,null,null,null,null,null,null,null,null,null,"",null,null,"",null,""]
[null,null,null,null,null,null,null,null,null,null,null,null,null,null,null,null,"",null,null,"",null,""]
[null,null,null,null,null,null,null,null,null,null,null,null,null,null,null,null,"",null,null,"",null,""]
[null,null,null,null,null,null,null,null,null,null,null,null,null,null,null,null,"",null,null,"",null,""]
[null,null,null,null,null,null,null,null,null,null,null,null,null,null,null,null,"",null,null,"",null,""]
[null,null,null,null,null,null,null,null,null,null,null,null,null,null,null,null,"",null,null,"",null,""]
[null,null,null,null,null,null,null,null,null,null,null,null,null,null,null,null,"",null,null,"",null,""]
[null,null,null,null,null,null,null,null,null,null,null,null,null,null,null,null,"",null,null,"",null,""]
[null,null,null,null,null,null,null,null,null,null,null,null,null,null,null,null,"",null,null,"",null,""]
[null,null,null,null,null,null,null,null,null,null,null,null,null,null,null,null,"",null,null,"",null,""]
[null,null,null,null,null,null,null,null,null,null,null,null,null,null,null,null,"",null,null,"",null,""]
[null,null,null,null,null,null,null,null,null,null,null,null,null,null,null,null,"",null,null,"",null,""]
[null,null,null,null,null,null,null,null,null,null,null,null,null,null,null,null,"",null,null,"",null,""]
[null,null,null,null,null,null,null,null,null,null,null,null,null,null,null,null,"",null,null,"",null,""]
[null,null,null,null,null,null,null,null,null,null,null,null,null,null,null,null,"",null,null,"",null,""]
[null,null,null,null,null,null,null,null,null,null,null,null,null,null,null,null,"",null,null,"",null,""]
[null,null,null,null,null,null,null,null,null,null,null,null,null,null,null,null,"",null,null,"",null,""]
[null,null,null,null,null,null,null,null,null,null,null,null,null,null,null,null,"",null,null,"",null,""]
[null,null,null,null,null,null,null,null,null,null,null,null,null,null,null,null,"",null,null,"",null,""]
[null,null,null,null,null,null,null,null,null,null,null,null,null,null,null,null,"",null,null,{"$f":"IF(S5721<>\"\",S5721/9,\"\")","v":""},null,{"$f":"IF(U5721<>\"\",U5721/9,\"\")","v":""}]
[null,null,null,null,null,null,null,null,null,null,null,null,null,null,null,null,"",null,null,"",null,""]
[null,null,null,null,null,null,null,null,null,null,null,null,null,null,null,null,"",null,null,"",null,""]
[null,null,null,null,null,null,null,null,null,null,null,null,null,null,null,null,"",null,null,"",null,""]
[null,null,null,null,null,null,null,null,null,null,null,null,null,null,null,null,"",null,null,"",null,""]
[null,null,null,null,null,null,null,null,null,null,null,null,null,null,null,null,"",null,null,"",null,""]
[null,null,null,null,null,null,null,null,null,null,null,null,null,null,null,null,"",null,null,"",null,""]
[null,null,null,null,null,null,null,null,null,null,null,null,null,null,null,null,"",null,null,"",null,""]
[null,null,null,null,null,null,null,null,null,null,null,null,null,null,null,null,"",null,null,"",null,""]
[null,null,null,null,null,null,null,null,null,null,null,null,null,null,null,null,"",null,null,"",null,""]
[null,null,null,null,null,null,null,null,null,null,null,null,null,null,null,null,"",null,null,"",null,""]
[null,null,null,null,null,null,null,null,null,null,null,null,null,null,null,null,"",null,null,"",null,""]
[null,null,null,null,null,null,null,null,null,null,null,null,null,null,null,null,"",null,null,"",null,""]
[null,null,null,null,null,null,null,null,null,null,null,null,null,null,null,null,"",null,null,"",null,""]
[null,null,null,null,null,null,null,null,null,null,null,null,null,null,null,null,"",null,null,"",null,""]
[null,null,null,null,null,null,null,null,null,null,null,null,null,null,null,null,"",null,null,"",null,""]
[null,null,null,null,null,null,null,null,null,null,null,null,null,null,null,null,"",null,null,"",null,""]
[null,null,null,null,null,null,null,null,null,null,null,null,null,null,null,null,"",null,null,"",null,""]
[null,null,null,null,null,null,null,null,null,null,null,null,null,null,null,null,"",null,null,"",null,""]
[null,null,null,null,null,null,null,null,null,null,null,null,null,null,null,null,"",null,null,"",null,""]
[null,null,null,null,null,null,null,null,null,null,null,null,null,null,null,null,"",null,null,"",null,""]
[null,null,null,null,null,null,null,null,null,null,null,null,null,null,null,null,"",null,null,"",null,""]
[null,null,null,null,null,null,null,null,null,null,null,null,null,null,null,null,"",null,null,"",null,""]
[null,null,null,null,null,null,null,null,null,null,null,null,null,null,null,null,"",null,null,"",null,""]
[null,null,null,null,null,null,null,null,null,null,null,null,null,null,null,null,"",null,null,"",null,""]
[null,null,null,null,null,null,null,null,null,null,null,null,null,null,null,null,"",null,null,"",null,""]
[null,null,null,null,null,null,null,null,null,null,null,null,null,null,null,null,"",null,null,"",null,""]
[null,null,null,null,null,null,null,null,null,null,null,null,null,null,null,null,"",null,null,"",null,""]
[null,null,null,null,null,null,null,null,null,null,null,null,null,null,null,null,"",null,null,"",null,""]
[null,null,null,null,null,null,null,null,null,null,null,null,null,null,null,null,"",null,null,"",null,""]
[null,null,null,null,null,null,null,null,null,null,null,null,null,null,null,null,"",null,null,"",null,""]
[null,null,null,null,null,null,null,null,null,null,null,null,null,null,null,null,"",null,null,"",null,""]
[null,null,null,null,null,null,null,null,null,null,null,null,null,null,null,null,"",null,null,"",null,""]
[null,null,null,null,null,null,null,null,null,null,null,null,null,null,null,null,"",null,null,"",null,""]
[null,null,null,null,null,null,null,null,null,null,null,null,null,null,null,null,"",null,null,"",null,""]
[null,null,null,null,null,null,null,null,null,null,null,null,null,null,null,null,"",null,null,"",null,""]
[null,null,null,null,null,null,null,null,null,null,null,null,null,null,null,null,{"$f":"IF(M5757<>\"\",2,\"\")","v":""},null,null,"",null,""]
[null,null,null,null,null,null,null,null,null,null,null,null,null,null,null,null,"",null,null,"",null,""]
[null,null,null,null,null,null,null,null,null,null,null,null,null,null,null,null,"",null,null,"",null,""]
[null,null,null,null,null,null,null,null,null,null,null,null,null,null,null,null,"",null,null,"",null,""]
[null,null,null,null,null,null,null,null,null,null,null,null,null,null,null,null,"",null,null,"",null,""]
[null,null,null,null,null,null,null,null,null,null,null,null,null,null,null,null,"",null,null,"",null,""]
[null,null,null,null,null,null,null,null,null,null,null,null,null,null,null,null,"",null,null,"",null,""]
[null,null,null,null,null,null,null,null,null,null,null,null,null,null,null,null,"",null,null,"",null,""]
[null,null,null,null,null,null,null,null,null,null,null,null,null,null,null,null,"",null,null,"",null,""]
[null,null,null,null,null,null,null,null,null,null,null,null,null,null,null,null,"",null,null,"",null,""]
[null,null,null,null,null,null,null,null,null,null,null,null,null,null,null,null,"",null,null,"",null,""]
[null,null,null,null,null,null,null,null,null,null,null,null,null,null,null,null,"",null,null,"",null,""]
[null,null,null,null,null,null,null,null,null,null,null,null,null,null,null,null,"",null,null,"",null,""]
[null,null,null,null,null,null,null,null,null,null,null,null,null,null,null,null,"",null,null,"",null,""]
[null,null,null,null,null,null,null,null,null,null,null,null,null,null,null,null,"",null,null,"",null,""]
[null,null,null,null,null,null,null,null,null,null,null,null,null,null,null,null,"",null,null,"",null,""]
[null,null,null,null,null,null,null,null,null,null,null,null,null,null,null,null,"",null,null,"",null,""]
[null,null,null,null,null,null,null,null,null,null,null,null,null,null,null,null,"",null,null,"",null,""]
[null,null,null,null,null,null,null,null,null,null,null,null,null,null,null,null,"",null,null,"",null,""]
[null,null,null,null,null,null,null,null,null,null,null,null,null,null,null,null,"",null,null,"",null,""]
[null,null,null,null,null,null,null,null,null,null,null,null,null,null,null,null,"",null,null,"",null,""]
[null,null,null,null,null,null,null,null,null,null,null,null,null,null,null,null,"",null,null,"",null,""]
[null,null,null,null,null,null,null,null,null,null,null,null,null,null,null,null,"",null,null,"",null,""]
[null,null,null,null,null,null,null,null,null,null,null,null,null,null,null,null,"",null,null,"",null,""]
[null,null,null,null,null,null,null,null,null,null,null,null,null,null,null,null,"",null,null,"",null,""]
[null,null,null,null,null,null,null,null,null,null,null,null,null,null,null,null,"",null,null,"",null,""]
[null,null,null,null,null,null,null,null,null,null,null,null,null,null,null,null,"",null,null,"",null,""]
[null,null,null,null,null,null,null,null,null,null,null,null,null,null,null,null,"",null,null,"",null,""]
[null,null,null,null,null,null,null,null,null,null,null,null,null,null,null,null,"",null,null,{"$f":"IF(S5785<>\"\",S5785/9,\"\")","v":""},null,{"$f":"IF(U5785<>\"\",U5785/9,\"\")","v":""}]
[null,null,null,null,null,null,null,null,null,null,null,null,null,null,null,null,"",null,null,"",null,""]
[null,null,null,null,null,null,null,null,null,null,null,null,null,null,null,null,"",null,null,"",null,""]
[null,null,null,null,null,null,null,null,null,null,null,null,null,null,null,null,"",null,null,"",null,""]
[null,null,null,null,null,null,null,null,null,null,null,null,null,null,null,null,"",null,null,"",null,""]
[null,null,null,null,null,null,null,null,null,null,null,null,null,null,null,null,"",null,null,"",null,""]
[null,null,null,null,null,null,null,null,null,null,null,null,null,null,null,null,"",null,null,"",null,""]
[null,null,null,null,null,null,null,null,null,null,null,null,null,null,null,null,"",null,null,"",null,""]
[null,null,null,null,null,null,null,null,null,null,null,null,null,null,null,null,"",null,null,"",null,""]
[null,null,null,null,null,null,null,null,null,null,null,null,null,null,null,null,"",null,null,"",null,""]
[null,null,null,null,null,null,null,null,null,null,null,null,null,null,null,null,"",null,null,"",null,""]
[null,null,null,null,null,null,null,null,null,null,null,null,null,null,null,null,"",null,null,"",null,""]
[null,null,null,null,null,null,null,null,null,null,null,null,null,null,null,null,"",null,null,"",null,""]
[null,null,null,null,null,null,null,null,null,null,null,null,null,null,null,null,"",null,null,"",null,""]
[null,null,null,null,null,null,null,null,null,null,null,null,null,null,null,null,"",null,null,"",null,""]
[null,null,null,null,null,null,null,null,null,null,null,null,null,null,null,null,"",null,null,"",null,""]
[null,null,null,null,null,null,null,null,null,null,null,null,null,null,null,null,"",null,null,"",null,""]
[null,null,null,null,null,null,null,null,null,null,null,null,null,null,null,null,"",null,null,"",null,""]
[null,null,null,null,null,null,null,null,null,null,null,null,null,null,null,null,"",null,null,"",null,""]
[null,null,null,null,null,null,null,null,null,null,null,null,null,null,null,null,"",null,null,"",null,""]
[null,null,null,null,null,null,null,null,null,null,null,null,null,null,null,null,"",null,null,"",null,""]
[null,null,null,null,null,null,null,null,null,null,null,null,null,null,null,null,"",null,null,"",null,""]
[null,null,null,null,null,null,null,null,null,null,null,null,null,null,null,null,"",null,null,"",null,""]
[null,null,null,null,null,null,null,null,null,null,null,null,null,null,null,null,"",null,null,"",null,""]
[null,null,null,null,null,null,null,null,null,null,null,null,null,null,null,null,"",null,null,"",null,""]
[null,null,null,null,null,null,null,null,null,null,null,null,null,null,null,null,"",null,null,"",null,""]
[null,null,null,null,null,null,null,null,null,null,null,null,null,null,null,null,"",null,null,"",null,""]
[null,null,null,null,null,null,null,null,null,null,null,null,null,null,null,null,"",null,null,"",null,""]
[null,null,null,null,null,null,null,null,null,null,null,null,null,null,null,null,"",null,null,"",null,""]
[null,null,null,null,null,null,null,null,null,null,null,null,null,null,null,null,"",null,null,"",null,""]
[null,null,null,null,null,null,null,null,null,null,null,null,null,null,null,null,"",null,null,"",null,""]
[null,null,null,null,null,null,null,null,null,null,null,null,null,null,null,null,"",null,null,"",null,""]
[null,null,null,null,null,null,null,null,null,null,null,null,null,null,null,null,"",null,null,"",null,""]
[null,null,null,null,null,null,null,null,null,null,null,null,null,null,null,null,"",null,null,"",null,""]
[null,null,null,null,null,null,null,null,null,null,null,null,null,null,null,null,"",null,null,"",null,""]
[null,null,null,null,null,null,null,null,null,null,null,null,null,null,null,null,"",null,null,"",null,""]
[null,null,null,null,null,null,null,null,null,null,null,null,null,null,null,null,{"$f":"IF(M5821<>\"\",2,\"\")","v":""},null,null,"",null,""]
[null,null,null,null,null,null,null,null,null,null,null,null,null,null,null,null,"",null,null,"",null,""]
[null,null,null,null,null,null,null,null,null,null,null,null,null,null,null,null,"",null,null,"",null,""]
[null,null,null,null,null,null,null,null,null,null,null,null,null,null,null,null,"",null,null,"",null,""]
[null,null,null,null,null,null,null,null,null,null,null,null,null,null,null,null,"",null,null,"",null,""]
[null,null,null,null,null,null,null,null,null,null,null,null,null,null,null,null,"",null,null,"",null,""]
[null,null,null,null,null,null,null,null,null,null,null,null,null,null,null,null,"",null,null,"",null,""]
[null,null,null,null,null,null,null,null,null,null,null,null,null,null,null,null,"",null,null,"",null,""]
[null,null,null,null,null,null,null,null,null,null,null,null,null,null,null,null,"",null,null,"",null,""]
[null,null,null,null,null,null,null,null,null,null,null,null,null,null,null,null,"",null,null,"",null,""]
[null,null,null,null,null,null,null,null,null,null,null,null,null,null,null,null,"",null,null,"",null,""]
[null,null,null,null,null,null,null,null,null,null,null,null,null,null,null,null,"",null,null,"",null,""]
[null,null,null,null,null,null,null,null,null,null,null,null,null,null,null,null,"",null,null,"",null,""]
[null,null,null,null,null,null,null,null,null,null,null,null,null,null,null,null,"",null,null,"",null,""]
[null,null,null,null,null,null,null,null,null,null,null,null,null,null,null,null,"",null,null,"",null,""]
[null,null,null,null,null,null,null,null,null,null,null,null,null,null,null,null,"",null,null,"",null,""]
[null,null,null,null,null,null,null,null,null,null,null,null,null,null,null,null,"",null,null,"",null,""]
[null,null,null,null,null,null,null,null,null,null,null,null,null,null,null,null,"",null,null,"",null,""]
[null,null,null,null,null,null,null,null,null,null,null,null,null,null,null,null,"",null,null,"",null,""]
[null,null,null,null,null,null,null,null,null,null,null,null,null,null,null,null,"",null,null,"",null,""]
[null,null,null,null,null,null,null,null,null,null,null,null,null,null,null,null,"",null,null,"",null,""]
[null,null,null,null,null,null,null,null,null,null,null,null,null,null,null,null,"",null,null,"",null,""]
[null,null,null,null,null,null,null,null,null,null,null,null,null,null,null,null,"",null,null,"",null,""]
[null,null,null,null,null,null,null,null,null,null,null,null,null,null,null,null,"",null,null,"",null,""]
[null,null,null,null,null,null,null,null,null,null,null,null,null,null,null,null,"",null,null,"",null,""]
[null,null,null,null,null,null,null,null,null,null,null,null,null,null,null,null,"",null,null,"",null,""]
[null,null,null,null,null,null,null,null,null,null,null,null,null,null,null,null,"",null,null,"",null,""]
[null,null,null,null,null,null,null,null,null,null,null,null,null,null,null,null,"",null,null,"",null,""]
[null,null,null,null,null,null,null,null,null,null,null,null,null,null,null,null,"",null,null,{"$f":"IF(S5849<>\"\",S5849/9,\"\")","v":""},null,{"$f":"IF(U5849<>\"\",U5849/9,\"\")","v":""}]
[null,null,null,null,null,null,null,null,null,null,null,null,null,null,null,null,"",null,null,"",null,""]
[null,null,null,null,null,null,null,null,null,null,null,null,null,null,null,null,"",null,null,"",null,""]
[null,null,null,null,null,null,null,null,null,null,null,null,null,null,null,null,"",null,null,"",null,""]
[null,null,null,null,null,null,null,null,null,null,null,null,null,null,null,null,"",null,null,"",null,""]
[null,null,null,null,null,null,null,null,null,null,null,null,null,null,null,null,"",null,null,"",null,""]
[null,null,null,null,null,null,null,null,null,null,null,null,null,null,null,null,"",null,null,"",null,""]
[null,null,null,null,null,null,null,null,null,null,null,null,null,null,null,null,"",null,null,"",null,""]
[null,null,null,null,null,null,null,null,null,null,null,null,null,null,null,null,"",null,null,"",null,""]
[null,null,null,null,null,null,null,null,null,null,null,null,null,null,null,null,"",null,null,"",null,""]
[null,null,null,null,null,null,null,null,null,null,null,null,null,null,null,null,"",null,null,"",null,""]
[null,null,null,null,null,null,null,null,null,null,null,null,null,null,null,null,"",null,null,"",null,""]
[null,null,null,null,null,null,null,null,null,null,null,null,null,null,null,null,"",null,null,"",null,""]
[null,null,null,null,null,null,null,null,null,null,null,null,null,null,null,null,"",null,null,"",null,""]
[null,null,null,null,null,null,null,null,null,null,null,null,null,null,null,null,"",null,null,"",null,""]
[null,null,null,null,null,null,null,null,null,null,null,null,null,null,null,null,"",null,null,"",null,""]
[null,null,null,null,null,null,null,null,null,null,null,null,null,null,null,null,"",null,null,"",null,""]
[null,null,null,null,null,null,null,null,null,null,null,null,null,null,null,null,"",null,null,"",null,""]
[null,null,null,null,null,null,null,null,null,null,null,null,null,null,null,null,"",null,null,"",null,""]
[null,null,null,null,null,null,null,null,null,null,null,null,null,null,null,null,"",null,null,"",null,""]
[null,null,null,null,null,null,null,null,null,null,null,null,null,null,null,null,"",null,null,"",null,""]
[null,null,null,null,null,null,null,null,null,null,null,null,null,null,null,null,"",null,null,"",null,""]
[null,null,null,null,null,null,null,null,null,null,null,null,null,null,null,null,"",null,null,"",null,""]
[null,null,null,null,null,null,null,null,null,null,null,null,null,null,null,null,"",null,null,"",null,""]
[null,null,null,null,null,null,null,null,null,null,null,null,null,null,null,null,"",null,null,"",null,""]
[null,null,null,null,null,null,null,null,null,null,null,null,null,null,null,null,"",null,null,"",null,""]
[null,null,null,null,null,null,null,null,null,null,null,null,null,null,null,null,"",null,null,"",null,""]
[null,null,null,null,null,null,null,null,null,null,null,null,null,null,null,null,"",null,null,"",null,""]
[null,null,null,null,null,null,null,null,null,null,null,null,null,null,null,null,"",null,null,"",null,""]
[null,null,null,null,null,null,null,null,null,null,null,null,null,null,null,null,"",null,null,"",null,""]
[null,null,null,null,null,null,null,null,null,null,null,null,null,null,null,null,"",null,null,"",null,""]
[null,null,null,null,null,null,null,null,null,null,null,null,null,null,null,null,"",null,null,"",null,""]
[null,null,null,null,null,null,null,null,null,null,null,null,null,null,null,null,"",null,null,"",null,""]
[null,null,null,null,null,null,null,null,null,null,null,null,null,null,null,null,"",null,null,"",null,""]
[null,null,null,null,null,null,null,null,null,null,null,null,null,null,null,null,"",null,null,"",null,""]
[null,null,null,null,null,null,null,null,null,null,null,null,null,null,null,null,"",null,null,"",null,""]
[null,null,null,null,null,null,null,null,null,null,null,null,null,null,null,null,{"$f":"IF(M5885<>\"\",2,\"\")","v":""},null,null,"",null,""]
[null,null,null,null,null,null,null,null,null,null,null,null,null,null,null,null,"",null,null,"",null,""]
[null,null,null,null,null,null,null,null,null,null,null,null,null,null,null,null,"",null,null,"",null,""]
[null,null,null,null,null,null,null,null,null,null,null,null,null,null,null,null,"",null,null,"",null,""]
[null,null,null,null,null,null,null,null,null,null,null,null,null,null,null,null,"",null,null,"",null,""]
[null,null,null,null,null,null,null,null,null,null,null,null,null,null,null,null,"",null,null,"",null,""]
[null,null,null,null,null,null,null,null,null,null,null,null,null,null,null,null,"",null,null,"",null,""]
[null,null,null,null,null,null,null,null,null,null,null,null,null,null,null,null,"",null,null,"",null,""]
[null,null,null,null,null,null,null,null,null,null,null,null,null,null,null,null,"",null,null,"",null,""]
[null,null,null,null,null,null,null,null,null,null,null,null,null,null,null,null,"",null,null,"",null,""]
[null,null,null,null,null,null,null,null,null,null,null,null,null,null,null,null,"",null,null,"",null,""]
[null,null,null,null,null,null,null,null,null,null,null,null,null,null,null,null,"",null,null,"",null,""]
[null,null,null,null,null,null,null,null,null,null,null,null,null,null,null,null,"",null,null,"",null,""]
[null,null,null,null,null,null,null,null,null,null,null,null,null,null,null,null,"",null,null,"",null,""]
[null,null,null,null,null,null,null,null,null,null,null,null,null,null,null,null,"",null,null,"",null,""]
[null,null,null,null,null,null,null,null,null,null,null,null,null,null,null,null,"",null,null,"",null,""]
[null,null,null,null,null,null,null,null,null,null,null,null,null,null,null,null,"",null,null,"",null,""]
[null,null,null,null,null,null,null,null,null,null,null,null,null,null,null,null,"",null,null,"",null,""]
[null,null,null,null,null,null,null,null,null,null,null,null,null,null,null,null,"",null,null,"",null,""]
[null,null,null,null,null,null,null,null,null,null,null,null,null,null,null,null,"",null,null,"",null,""]
[null,null,null,null,null,null,null,null,null,null,null,null,null,null,null,null,"",null,null,"",null,""]
[null,null,null,null,null,null,null,null,null,null,null,null,null,null,null,null,"",null,null,"",null,""]
[null,null,null,null,null,null,null,null,null,null,null,null,null,null,null,null,"",null,null,"",null,""]
[null,null,null,null,null,null,null,null,null,null,null,null,null,null,null,null,"",null,null,"",null,""]
[null,null,null,null,null,null,null,null,null,null,null,null,null,null,null,null,"",null,null,"",null,""]
[null,null,null,null,null,null,null,null,null,null,null,null,null,null,null,null,"",null,null,"",null,""]
[null,null,null,null,null,null,null,null,null,null,null,null,null,null,null,null,"",null,null,"",null,""]
[null,null,null,null,null,null,null,null,null,null,null,null,null,null,null,null,"",null,null,"",null,""]
[null,null,null,null,null,null,null,null,null,null,null,null,null,null,null,null,"",null,null,{"$f":"IF(S5913<>\"\",S5913/9,\"\")","v":""},null,{"$f":"IF(U5913<>\"\",U5913/9,\"\")","v":""}]
[null,null,null,null,null,null,null,null,null,null,null,null,null,null,null,null,"",null,null,"",null,""]
[null,null,null,null,null,null,null,null,null,null,null,null,null,null,null,null,"",null,null,"",null,""]
[null,null,null,null,null,null,null,null,null,null,null,null,null,null,null,null,"",null,null,"",null,""]
[null,null,null,null,null,null,null,null,null,null,null,null,null,null,null,null,"",null,null,"",null,""]
[null,null,null,null,null,null,null,null,null,null,null,null,null,null,null,null,"",null,null,"",null,""]
[null,null,null,null,null,null,null,null,null,null,null,null,null,null,null,null,"",null,null,"",null,""]
[null,null,null,null,null,null,null,null,null,null,null,null,null,null,null,null,"",null,null,"",null,""]
[null,null,null,null,null,null,null,null,null,null,null,null,null,null,null,null,"",null,null,"",null,""]
[null,null,null,null,null,null,null,null,null,null,null,null,null,null,null,null,"",null,null,"",null,""]
[null,null,null,null,null,null,null,null,null,null,null,null,null,null,null,null,"",null,null,"",null,""]
[null,null,null,null,null,null,null,null,null,null,null,null,null,null,null,null,"",null,null,"",null,""]
[null,null,null,null,null,null,null,null,null,null,null,null,null,null,null,null,"",null,null,"",null,""]
[null,null,null,null,null,null,null,null,null,null,null,null,null,null,null,null,"",null,null,"",null,""]
[null,null,null,null,null,null,null,null,null,null,null,null,null,null,null,null,"",null,null,"",null,""]
[null,null,null,null,null,null,null,null,null,null,null,null,null,null,null,null,"",null,null,"",null,""]

{"sheet":"100_7","index":3,"n_rows":431,"n_cols":20,"rows_kept":431,"cut":false,"hidden":true,"merged":[[361,0,361,19],[362,0,363,19],[390,0,390,3],[395,0,395,3],[404,0,404,3],[347,0,347,3],[349,0,349,3],[355,0,355,3],[379,0,379,3],[387,0,387,3],[369,17,370,17],[365,0,365,19],[364,0,364,19],[360,0,360,19],[369,6,371,6],[369,7,370,7],[369,8,371,8],[369,18,371,18],[366,19,371,19],[368,11,368,12],[368,13,370,13],[368,14,370,14],[368,15,368,16],[366,0,366,3],[12,0,12,3],[20,0,20,3],[28,0,28,3],[30,0,30,3],[37,0,37,3],[42,0,42,3],[51,0,51,3],[55,0,55,3],[62,0,62,3],[68,0,68,3],[70,0,70,3],[72,0,72,3],[76,0,76,3],[80,0,80,3],[366,17,368,18],[369,11,370,11],[369,12,371,12],[369,15,370,15],[369,16,371,16],[279,17,280,17],[327,0,327,3],[333,0,333,3],[338,0,338,3],[367,0,367,1],[367,2,367,3],[368,0,371,0],[368,1,371,1],[368,2,371,2],[368,3,371,3],[368,5,368,6],[368,7,368,8],[368,9,370,9],[368,10,370,10],[366,4,371,4],[366,5,367,8],[366,9,367,12],[366,13,367,16],[369,5,370,5],[341,0,341,3],[344,0,344,3],[276,0,276,3],[276,4,281,4],[276,5,277,8],[276,9,277,12],[276,13,277,16],[277,0,277,1],[277,2,277,3],[278,0,281,0],[278,1,281,1],[278,2,281,2],[278,3,281,3],[278,5,278,6],[278,7,278,8],[278,9,280,9],[278,10,280,10],[278,11,278,12],[287,0,287,3],[293,0,293,3],[302,0,302,3],[317,0,317,3],[322,0,322,3],[323,0,323,3],[271,0,271,19],[272,0,273,19],[275,0,275,19],[194,0,194,3],[200,0,200,3],[207,0,207,3],[211,0,211,3],[220,0,220,3],[228,0,228,3],[231,0,231,3],[238,0,238,3],[250,0,250,3],[258,0,258,3],[274,0,274,19],[270,0,270,19],[276,17,278,18],[276,19,281,19],[278,13,280,13],[278,14,280,14],[188,10,190,10],[188,11,188,12],[188,13,190,13],[188,14,190,14],[188,15,188,16],[189,5,190,5],[189,6,191,6],[189,17,190,17],[189,18,191,18],[189,7,190,7],[189,8,191,8],[189,11,190,11],[189,12,191,12],[189,15,190,15],[189,16,191,16],[118,0,118,3],[123,0,123,3],[129,0,129,3],[139,0,139,3],[152,0,152,3],[159,0,159,3],[168,0,168,3],[185,0,185,19],[186,0,186,3],[186,4,191,4],[186,5,187,8],[186,9,187,12],[186,13,187,16],[186,17,188,18],[186,19,191,19],[187,0,187,1],[187,2,187,3],[188,0,191,0],[188,1,191,1],[188,2,191,2],[188,3,191,3],[188,5,188,6],[188,7,188,8],[188,9,190,9],[91,0,91,19],[92,0,93,19],[95,0,95,19],[96,0,96,3],[96,4,101,4],[96,5,97,8],[96,9,97,12],[96,13,97,16],[96,17,98,18],[96,19,101,19],[97,0,97,1],[97,2,97,3],[98,0,101,0],[98,1,101,1],[94,0,94,19],[99,16,101,16],[99,17,100,17],[99,18,101,18],[278,15,278,16],[279,5,280,5],[279,6,281,6],[279,7,280,7],[279,8,281,8],[279,11,280,11],[279,12,281,12],[279,15,280,15],[279,16,281,16],[279,18,281,18],[184,0,184,19],[180,0,180,19],[98,2,101,2],[98,3,101,3],[98,5,98,6],[98,7,98,8],[98,9,100,9],[98,10,100,10],[98,11,98,12],[98,13,100,13],[98,14,100,14],[98,15,98,16],[99,5,100,5],[99,6,101,6],[99,7,100,7],[99,8,101,8],[99,11,100,11],[99,12,101,12],[99,15,100,15],[181,0,181,19],[182,0,183,19],[102,0,102,3],[106,0,106,3],[111,0,111,3],[90,0,90,19],[84,0,84,3],[87,0,87,3],[8,14,10,14],[8,15,8,16],[9,15,10,15],[9,16,11,16],[6,17,8,18],[9,12,11,12],[8,9,10,9],[8,10,10,10],[8,11,8,12],[8,13,10,13],[9,5,10,5],[9,6,11,6],[9,7,10,7],[9,8,11,8],[9,11,10,11],[6,19,11,19],[7,0,7,1],[7,2,7,3],[8,0,11,0],[8,1,11,1],[8,2,11,2],[9,18,11,18],[0,0,0,19],[1,0,1,19],[2,0,3,19],[4,0,4,19],[5,0,5,19],[8,3,11,3],[8,5,8,6],[8,7,8,8],[6,0,6,3],[6,4,11,4],[6,5,7,8],[6,9,7,12],[6,13,7,16],[9,17,10,17]]}
["100-7"]
["2012-10-16"]
["FENCING"]
[]
[" * Bid Item"]
["Refer to MI-101, MI-102, MI-103, MI-104, 510-3, and 510-5"]
["Location",null,null,null,"Side","Chain Link",null,null,null,"Deer",null,null,null,"Field",null,null,null,"Channel Crossing",null,"Remarks"]
["From",null,"To"]
["Station","Offset","Station","Offset",null,"Fence",null,"Gate",null,"Fence Length*","Brace Panels*","Gate",null,"Fence Length*","Brace Panels*","Gate"]
[null,null,null,null,null,"Length*","Type","No.*","Type",null,null,"No.*","Type",null,null,"No.*","Type","Length*","Type"]
[]
[null,null,null,null,null,"LF",null,"EACH",null,"LF","EACH","EACH",null,"LF","EACH","EACH",null,"LF"]
[{"$f":"IF(OFFSET([1]DE100_7!$C$27,ROWS($C$27:C27)-1,COLUMNS($C$27:C27)-1)<>\"\",OFFSET([1]DE100_7!$C$27,ROWS($C$27:C27)-1,COLUMNS($C$27:C27)-1),\"\")","v":{"$error":"#VALUE!"}},null,null,null,{"$f":"IF(OFFSET([1]DE100_7!$G$27,ROWS($G$27:G27)-1,COLUMNS($G$27:G27)-1)<>\"\",OFFSET([1]DE100_7!$G$27,ROWS($G$27:G27)-1,COLUMNS($G$27:G27)-1),\"\")","v":{"$error":"#VALUE!"}},{"$f":"IF(OFFSET([1]DE100_7!$H$27,ROWS($H$27:H27)-1,COLUMNS($H$27:H27)-1)<>\"\",OFFSET([1]DE100_7!$H$27,ROWS($H$27:H27)-1,COLUMNS($H$27:H27)-1),\"\")","v":{"$error":"#VALUE!"}},{"$f":"IF(OFFSET([1]DE100_7!$I$27,ROWS($I$27:I27)-1,COLUMNS($I$27:I27)-1)<>\"\",OFFSET([1]DE100_7!$I$27,ROWS($I$27:I27)-1,COLUMNS($I$27:I27)-1),\"\")","v":{"$error":"#VALUE!"}},{"$f":"IF(OFFSET([1]DE100_7!$J$27,ROWS($J$27:J27)-1,COLUMNS($J$27:J27)-1)<>\"\",OFFSET([1]DE100_7!$J$27,ROWS($J$27:J27)-1,COLUMNS($J$27:J27)-1),\"\")","v":{"$error":"#VALUE!"}},{"$f":"IF(OFFSET([1]DE100_7!$K$27,ROWS($K$27:K27)-1,COLUMNS($K$27:K27)-1)<>\"\",OFFSET([1]DE100_7!$K$27,ROWS($K$27:K27)-1,COLUMNS($K$27:K27)-1),\"\")","v":{"$error":"#VALUE!"}},{"$f":"IF(OFFSET([1]DE100_7!$L$27,ROWS($L$27:L27)-1,COLUMNS($L$27:L27)-1)<>\"\",OFFSET([1]DE100_7!$L$27,ROWS($L$27:L27)-1,COLUMNS($L$27:L27)-1),\"\")","v":{"$error":"#VALUE!"}},{"$f":"IF(OFFSET([1]DE100_7!$M$27,ROWS($M$27:M27)-1,COLUMNS($M$27:M27)-1)<>\"\",OFFSET([1]DE100_7!$M$27,ROWS($M$27:M27)-1,COLUMNS($M$27:M27)-1),\"\")","v":{"$error":"#VALUE!"}},{"$f":"IF(OFFSET([1]DE100_7!$N$27,ROWS($N$27:N27)-1,COLUMNS($N$27:N27)-1)<>\"\",OFFSET([1]DE100_7!$N$27,ROWS($N$27:N27)-1,COLUMNS($N$27:N27)-1),\"\")","v":{"$error":"#VALUE!"}},{"$f":"IF(OFFSET([1]DE100_7!$O$27,ROWS($O$27:O27)-1,COLUMNS($O$27:O27)-1)<>\"\",OFFSET([1]DE100_7!$O$27,ROWS($O$27:O27)-1,COLUMNS($O$27:O27)-1),\"\")","v":{"$error":"#VALUE!"}},{"$f":"IF(OFFSET([1]DE100_7!$P$27,ROWS($P$27:P27)-1,COLUMNS($P$27:P27)-1)<>\"\",OFFSET([1]DE100_7!$P$27,ROWS($P$27:P27)-1,COLUMNS($P$27:P27)-1),\"\")","v":{"$error":"#VALUE!"}},{"$f":"IF(OFFSET([1]DE100_7!$Q$27,ROWS($Q$27:Q27)-1,COLUMNS($Q$27:Q27)-1)<>\"\",OFFSET([1]DE100_7!$Q$27,ROWS($Q$27:Q27)-1,COLUMNS($Q$27:Q27)-1),\"\")","v":{"$error":"#VALUE!"}},{"$f":"IF(OFFSET([1]DE100_7!$R$27,ROWS($R$27:R27)-1,COLUMNS($R$27:R27)-1)<>\"\",OFFSET([1]DE100_7!$R$27,ROWS($R$27:R27)-1,COLUMNS($R$27:R27)-1),\"\")","v":{"$error":"#VALUE!"}},{"$f":"IF(OFFSET([1]DE100_7!$S$27,ROWS($S$27:S27)-1,COLUMNS($S$27:S27)-1)<>\"\",OFFSET([1]DE100_7!$S$27,ROWS($S$27:S27)-1,COLUMNS($S$27:S27)-1),\"\")","v":{"$error":"#VALUE!"}},{"$f":"IF(OFFSET([1]DE100_7!$T$27,ROWS($T$27:T27)-1,COLUMNS($T$27:T27)-1)<>\"\",OFFSET([1]DE100_7!$T$27,ROWS($T$27:T27)-1,COLUMNS($T$27:T27)-1),\"\")","v":{"$error":"#VALUE!"}},{"$f":"IF(OFFSET([1]DE100_7!$U$27,ROWS($U$27:U27)-1,COLUMNS($U$27:U27)-1)<>\"\",OFFSET([1]DE100_7!$U$27,ROWS($U$27:U27)-1,COLUMNS($U$27:U27)-1),\"\")","v":{"$error":"#VALUE!"}},{"$f":"IF(OFFSET([1]DE100_7!$V$27,ROWS($V$27:V27)-1,COLUMNS($V$27:V27)-1)<>\"\",OFFSET([1]DE100_7!$V$27,ROWS($V$27:V27)-1,COLUMNS($V$27:V27)-1),\"\")","v":{"$error":"#VALUE!"}}]
[{"$f":"IF(OFFSET([1]DE100_7!$C$27,ROWS($C$27:C28)-1,COLUMNS($C$27:C28)-1)<>\"\",OFFSET([1]DE100_7!$C$27,ROWS($C$27:C28)-1,COLUMNS($C$27:C28)-1),\"\")","v":{"$error":"#VALUE!"}},{"$f":"IF(OFFSET([1]DE100_7!$D$27,ROWS($D$27:D28)-1,COLUMNS($D$27:D28)-1)<>\"\",OFFSET([1]DE100_7!$D$27,ROWS($D$27:D28)-1,COLUMNS($D$27:D28)-1),\"\")","v":{"$error":"#VALUE!"}},{"$f":"IF(OFFSET([1]DE100_7!$E$27,ROWS($E$27:E28)-1,COLUMNS($E$27:E28)-1)<>\"\",OFFSET([1]DE100_7!$E$27,ROWS($E$27:E28)-1,COLUMNS($E$27:E28)-1),\"\")","v":{"$error":"#VALUE!"}},{"$f":"IF(OFFSET([1]DE100_7!$F$27,ROWS($F$27:F28)-1,COLUMNS($F$27:F28)-1)<>\"\",OFFSET([1]DE100_7!$F$27,ROWS($F$27:F28)-1,COLUMNS($F$27:F28)-1),\"\")","v":{"$error":"#VALUE!"}},{"$f":"IF(OFFSET([1]DE100_7!$G$27,ROWS($G$27:G28)-1,COLUMNS($G$27:G28)-1)<>\"\",OFFSET([1]DE100_7!$G$27,ROWS($G$27:G28)-1,COLUMNS($G$27:G28)-1),\"\")","v":{"$error":"#VALUE!"}},{"$f":"IF(OFFSET([1]DE100_7!$H$27,ROWS($H$27:H28)-1,COLUMNS($H$27:H28)-1)<>\"\",OFFSET([1]DE100_7!$H$27,ROWS($H$27:H28)-1,COLUMNS($H$27:H28)-1),\"\")","v":{"$error":"#VALUE!"}},{"$f":"IF(OFFSET([1]DE100_7!$I$27,ROWS($I$27:I28)-1,COLUMNS($I$27:I28)-1)<>\"\",OFFSET([1]DE100_7!$I$27,ROWS($I$27:I28)-1,COLUMNS($I$27:I28)-1),\"\")","v":{"$error":"#VALUE!"}},{"$f":"IF(OFFSET([1]DE100_7!$J$27,ROWS($J$27:J28)-1,COLUMNS($J$27:J28)-1)<>\"\",OFFSET([1]DE100_7!$J$27,ROWS($J$27:J28)-1,COLUMNS($J$27:J28)-1),\"\")","v":{"$error":"#VALUE!"}},{"$f":"IF(OFFSET([1]DE100_7!$K$27,ROWS($K$27:K28)-1,COLUMNS($K$27:K28)-1)<>\"\",OFFSET([1]DE100_7!$K$27,ROWS($K$27:K28)-1,COLUMNS($K$27:K28)-1),\"\")","v":{"$error":"#VALUE!"}},{"$f":"IF(OFFSET([1]DE100_7!$L$27,ROWS($L$27:L28)-1,COLUMNS($L$27:L28)-1)<>\"\",OFFSET([1]DE100_7!$L$27,ROWS($L$27:L28)-1,COLUMNS($L$27:L28)-1),\"\")","v":{"$error":"#VALUE!"}},{"$f":"IF(OFFSET([1]DE100_7!$M$27,ROWS($M$27:M28)-1,COLUMNS($M$27:M28)-1)<>\"\",OFFSET([1]DE100_7!$M$27,ROWS($M$27:M28)-1,COLUMNS($M$27:M28)-1),\"\")","v":{"$error":"#VALUE!"}},{"$f":"IF(OFFSET([1]DE100_7!$N$27,ROWS($N$27:N28)-1,COLUMNS($N$27:N28)-1)<>\"\",OFFSET([1]DE100_7!$N$27,ROWS($N$27:N28)-1,COLUMNS($N$27:N28)-1),\"\")","v":{"$error":"#VALUE!"}},{"$f":"IF(OFFSET([1]DE100_7!$O$27,ROWS($O$27:O28)-1,COLUMNS($O$27:O28)-1)<>\"\",OFFSET([1]DE100_7!$O$27,ROWS($O$27:O28)-1,COLUMNS($O$27:O28)-1),\"\")","v":{"$error":"#VALUE!"}},{"$f":"IF(OFFSET([1]DE100_7!$P$27,ROWS($P$27:P28)-1,COLUMNS($P$27:P28)-1)<>\"\",OFFSET([1]DE100_7!$P$27,ROWS($P$27:P28)-1,COLUMNS($P$27:P28)-1),\"\")","v":{"$error":"#VALUE!"}},{"$f":"IF(OFFSET([1]DE100_7!$Q$27,ROWS($Q$27:Q28)-1,COLUMNS($Q$27:Q28)-1)<>\"\",OFFSET([1]DE100_7!$Q$27,ROWS($Q$27:Q28)-1,COLUMNS($Q$27:Q28)-1),\"\")","v":{"$error":"#VALUE!"}},{"$f":"IF(OFFSET([1]DE100_7!$R$27,ROWS($R$27:R28)-1,COLUMNS($R$27:R28)-1)<>\"\",OFFSET([1]DE100_7!$R$27,ROWS($R$27:R28)-1,COLUMNS($R$27:R28)-1),\"\")","v":{"$error":"#VALUE!"}},{"$f":"IF(OFFSET([1]DE100_7!$S$27,ROWS($S$27:S28)-1,COLUMNS($S$27:S28)-1)<>\"\",OFFSET([1]DE100_7!$S$27,ROWS($S$27:S28)-1,COLUMNS($S$27:S28)-1),\"\")","v":{"$error":"#VALUE!"}},{"$f":"IF(OFFSET([1]DE100_7!$T$27,ROWS($T$27:T28)-1,COLUMNS($T$27:T28)-1)<>\"\",OFFSET([1]DE100_7!$T$27,ROWS($T$27:T28)-1,COLUMNS($T$27:T28)-1),\"\")","v":{"$error":"#VALUE!"}},{"$f":"IF(OFFSET([1]DE100_7!$U$27,ROWS($U$27:U28)-1,COLUMNS($U$27:U28)-1)<>\"\",OFFSET([1]DE100_7!$U$27,ROWS($U$27:U28)-1,COLUMNS($U$27:U28)-1),\"\")","v":{"$error":"#VALUE!"}},{"$f":"IF(OFFSET([1]DE100_7!$V$27,ROWS($V$27:V28)-1,COLUMNS($V$27:V28)-1)<>\"\",OFFSET([1]DE100_7!$V$27,ROWS($V$27:V28)-1,COLUMNS($V$27:V28)-1),\"\")","v":{"$error":"#VALUE!"}}]
[{"$f":"IF(OFFSET([1]DE100_7!$C$27,ROWS($C$27:C29)-1,COLUMNS($C$27:C29)-1)<>\"\",OFFSET([1]DE100_7!$C$27,ROWS($C$27:C29)-1,COLUMNS($C$27:C29)-1),\"\")","v":{"$error":"#VALUE!"}},{"$f":"IF(OFFSET([1]DE100_7!$D$27,ROWS($D$27:D29)-1,COLUMNS($D$27:D29)-1)<>\"\",OFFSET([1]DE100_7!$D$27,ROWS($D$27:D29)-1,COLUMNS($D$27:D29)-1),\"\")","v":{"$error":"#VALUE!"}},{"$f":"IF(OFFSET([1]DE100_7!$E$27,ROWS($E$27:E29)-1,COLUMNS($E$27:E29)-1)<>\"\",OFFSET([1]DE100_7!$E$27,ROWS($E$27:E29)-1,COLUMNS($E$27:E29)-1),\"\")","v":{"$error":"#VALUE!"}},{"$f":"IF(OFFSET([1]DE100_7!$F$27,ROWS($F$27:F29)-1,COLUMNS($F$27:F29)-1)<>\"\",OFFSET([1]DE100_7!$F$27,ROWS($F$27:F29)-1,COLUMNS($F$27:F29)-1),\"\")","v":{"$error":"#VALUE!"}},{"$f":"IF(OFFSET([1]DE100_7!$G$27,ROWS($G$27:G29)-1,COLUMNS($G$27:G29)-1)<>\"\",OFFSET([1]DE100_7!$G$27,ROWS($G$27:G29)-1,COLUMNS($G$27:G29)-1),\"\")","v":{"$error":"#VALUE!"}},{"$f":"IF(OFFSET([1]DE100_7!$H$27,ROWS($H$27:H29)-1,COLUMNS($H$27:H29)-1)<>\"\",OFFSET([1]DE100_7!$H$27,ROWS($H$27:H29)-1,COLUMNS($H$27:H29)-1),\"\")","v":{"$error":"#VALUE!"}},{"$f":"IF(OFFSET([1]DE100_7!$I$27,ROWS($I$27:I29)-1,COLUMNS($I$27:I29)-1)<>\"\",OFFSET([1]DE100_7!$I$27,ROWS($I$27:I29)-1,COLUMNS($I$27:I29)-1),\"\")","v":{"$error":"#VALUE!"}},{"$f":"IF(OFFSET([1]DE100_7!$J$27,ROWS($J$27:J29)-1,COLUMNS($J$27:J29)-1)<>\"\",OFFSET([1]DE100_7!$J$27,ROWS($J$27:J29)-1,COLUMNS($J$27:J29)-1),\"\")","v":{"$error":"#VALUE!"}},{"$f":"IF(OFFSET([1]DE100_7!$K$27,ROWS($K$27:K29)-1,COLUMNS($K$27:K29)-1)<>\"\",OFFSET([1]DE100_7!$K$27,ROWS($K$27:K29)-1,COLUMNS($K$27:K29)-1),\"\")","v":{"$error":"#VALUE!"}},{"$f":"IF(OFFSET([1]DE100_7!$L$27,ROWS($L$27:L29)-1,COLUMNS($L$27:L29)-1)<>\"\",OFFSET([1]DE100_7!$L$27,ROWS($L$27:L29)-1,COLUMNS($L$27:L29)-1),\"\")","v":{"$error":"#VALUE!"}},{"$f":"IF(OFFSET([1]DE100_7!$M$27,ROWS($M$27:M29)-1,COLUMNS($M$27:M29)-1)<>\"\",OFFSET([1]DE100_7!$M$27,ROWS($M$27:M29)-1,COLUMNS($M$27:M29)-1),\"\")","v":{"$error":"#VALUE!"}},{"$f":"IF(OFFSET([1]DE100_7!$N$27,ROWS($N$27:N29)-1,COLUMNS($N$27:N29)-1)<>\"\",OFFSET([1]DE100_7!$N$27,ROWS($N$27:N29)-1,COLUMNS($N$27:N29)-1),\"\")","v":{"$error":"#VALUE!"}},{"$f":"IF(OFFSET([1]DE100_7!$O$27,ROWS($O$27:O29)-1,COLUMNS($O$27:O29)-1)<>\"\",OFFSET([1]DE100_7!$O$27,ROWS($O$27:O29)-1,COLUMNS($O$27:O29)-1),\"\")","v":{"$error":"#VALUE!"}},{"$f":"IF(OFFSET([1]DE100_7!$P$27,ROWS($P$27:P29)-1,COLUMNS($P$27:P29)-1)<>\"\",OFFSET([1]DE100_7!$P$27,ROWS($P$27:P29)-1,COLUMNS($P$27:P29)-1),\"\")","v":{"$error":"#VALUE!"}},{"$f":"IF(OFFSET([1]DE100_7!$Q$27,ROWS($Q$27:Q29)-1,COLUMNS($Q$27:Q29)-1)<>\"\",OFFSET([1]DE100_7!$Q$27,ROWS($Q$27:Q29)-1,COLUMNS($Q$27:Q29)-1),\"\")","v":{"$error":"#VALUE!"}},{"$f":"IF(OFFSET([1]DE100_7!$R$27,ROWS($R$27:R29)-1,COLUMNS($R$27:R29)-1)<>\"\",OFFSET([1]DE100_7!$R$27,ROWS($R$27:R29)-1,COLUMNS($R$27:R29)-1),\"\")","v":{"$error":"#VALUE!"}},{"$f":"IF(OFFSET([1]DE100_7!$S$27,ROWS($S$27:S29)-1,COLUMNS($S$27:S29)-1)<>\"\",OFFSET([1]DE100_7!$S$27,ROWS($S$27:S29)-1,COLUMNS($S$27:S29)-1),\"\")","v":{"$error":"#VALUE!"}},{"$f":"IF(OFFSET([1]DE100_7!$T$27,ROWS($T$27:T29)-1,COLUMNS($T$27:T29)-1)<>\"\",OFFSET([1]DE100_7!$T$27,ROWS($T$27:T29)-1,COLUMNS($T$27:T29)-1),\"\")","v":{"$error":"#VALUE!"}},{"$f":"IF(OFFSET([1]DE100_7!$U$27,ROWS($U$27:U29)-1,COLUMNS($U$27:U29)-1)<>\"\",OFFSET([1]DE100_7!$U$27,ROWS($U$27:U29)-1,COLUMNS($U$27:U29)-1),\"\")","v":{"$error":"#VALUE!"}},{"$f":"IF(OFFSET([1]DE100_7!$V$27,ROWS($V$27:V29)-1,COLUMNS($V$27:V29)-1)<>\"\",OFFSET([1]DE100_7!$V$27,ROWS($V$27:V29)-1,COLUMNS($V$27:V29)-1),\"\")","v":{"$error":"#VALUE!"}}]
[{"$f":"IF(OFFSET([1]DE100_7!$C$27,ROWS($C$27:C30)-1,COLUMNS($C$27:C30)-1)<>\"\",OFFSET([1]DE100_7!$C$27,ROWS($C$27:C30)-1,COLUMNS($C$27:C30)-1),\"\")","v":{"$error":"#VALUE!"}},{"$f":"IF(OFFSET([1]DE100_7!$D$27,ROWS($D$27:D30)-1,COLUMNS($D$27:D30)-1)<>\"\",OFFSET([1]DE100_7!$D$27,ROWS($D$27:D30)-1,COLUMNS($D$27:D30)-1),\"\")","v":{"$error":"#VALUE!"}},{"$f":"IF(OFFSET([1]DE100_7!$E$27,ROWS($E$27:E30)-1,COLUMNS($E$27:E30)-1)<>\"\",OFFSET([1]DE100_7!$E$27,ROWS($E$27:E30)-1,COLUMNS($E$27:E30)-1),\"\")","v":{"$error":"#VALUE!"}},{"$f":"IF(OFFSET([1]DE100_7!$F$27,ROWS($F$27:F30)-1,COLUMNS($F$27:F30)-1)<>\"\",OFFSET([1]DE100_7!$F$27,ROWS($F$27:F30)-1,COLUMNS($F$27:F30)-1),\"\")","v":{"$error":"#VALUE!"}},{"$f":"IF(OFFSET([1]DE100_7!$G$27,ROWS($G$27:G30)-1,COLUMNS($G$27:G30)-1)<>\"\",OFFSET([1]DE100_7!$G$27,ROWS($G$27:G30)-1,COLUMNS($G$27:G30)-1),\"\")","v":{"$error":"#VALUE!"}},{"$f":"IF(OFFSET([1]DE100_7!$H$27,ROWS($H$27:H30)-1,COLUMNS($H$27:H30)-1)<>\"\",OFFSET([1]DE100_7!$H$27,ROWS($H$27:H30)-1,COLUMNS($H$27:H30)-1),\"\")","v":{"$error":"#VALUE!"}},{"$f":"IF(OFFSET([1]DE100_7!$I$27,ROWS($I$27:I30)-1,COLUMNS($I$27:I30)-1)<>\"\",OFFSET([1]DE100_7!$I$27,ROWS($I$27:I30)-1,COLUMNS($I$27:I30)-1),\"\")","v":{"$error":"#VALUE!"}},{"$f":"IF(OFFSET([1]DE100_7!$J$27,ROWS($J$27:J30)-1,COLUMNS($J$27:J30)-1)<>\"\",OFFSET([1]DE100_7!$J$27,ROWS($J$27:J30)-1,COLUMNS($J$27:J30)-1),\"\")","v":{"$error":"#VALUE!"}},{"$f":"IF(OFFSET([1]DE100_7!$K$27,ROWS($K$27:K30)-1,COLUMNS($K$27:K30)-1)<>\"\",OFFSET([1]DE100_7!$K$27,ROWS($K$27:K30)-1,COLUMNS($K$27:K30)-1),\"\")","v":{"$error":"#VALUE!"}},{"$f":"IF(OFFSET([1]DE100_7!$L$27,ROWS($L$27:L30)-1,COLUMNS($L$27:L30)-1)<>\"\",OFFSET([1]DE100_7!$L$27,ROWS($L$27:L30)-1,COLUMNS($L$27:L30)-1),\"\")","v":{"$error":"#VALUE!"}},{"$f":"IF(OFFSET([1]DE100_7!$M$27,ROWS($M$27:M30)-1,COLUMNS($M$27:M30)-1)<>\"\",OFFSET([1]DE100_7!$M$27,ROWS($M$27:M30)-1,COLUMNS($M$27:M30)-1),\"\")","v":{"$error":"#VALUE!"}},{"$f":"IF(OFFSET([1]DE100_7!$N$27,ROWS($N$27:N30)-1,COLUMNS($N$27:N30)-1)<>\"\",OFFSET([1]DE100_7!$N$27,ROWS($N$27:N30)-1,COLUMNS($N$27:N30)-1),\"\")","v":{"$error":"#VALUE!"}},{"$f":"IF(OFFSET([1]DE100_7!$O$27,ROWS($O$27:O30)-1,COLUMNS($O$27:O30)-1)<>\"\",OFFSET([1]DE100_7!$O$27,ROWS($O$27:O30)-1,COLUMNS($O$27:O30)-1),\"\")","v":{"$error":"#VALUE!"}},{"$f":"IF(OFFSET([1]DE100_7!$P$27,ROWS($P$27:P30)-1,COLUMNS($P$27:P30)-1)<>\"\",OFFSET([1]DE100_7!$P$27,ROWS($P$27:P30)-1,COLUMNS($P$27:P30)-1),\"\")","v":{"$error":"#VALUE!"}},{"$f":"IF(OFFSET([1]DE100_7!$Q$27,ROWS($Q$27:Q30)-1,COLUMNS($Q$27:Q30)-1)<>\"\",OFFSET([1]DE100_7!$Q$27,ROWS($Q$27:Q30)-1,COLUMNS($Q$27:Q30)-1),\"\")","v":{"$error":"#VALUE!"}},{"$f":"IF(OFFSET([1]DE100_7!$R$27,ROWS($R$27:R30)-1,COLUMNS($R$27:R30)-1)<>\"\",OFFSET([1]DE100_7!$R$27,ROWS($R$27:R30)-1,COLUMNS($R$27:R30)-1),\"\")","v":{"$error":"#VALUE!"}},{"$f":"IF(OFFSET([1]DE100_7!$S$27,ROWS($S$27:S30)-1,COLUMNS($S$27:S30)-1)<>\"\",OFFSET([1]DE100_7!$S$27,ROWS($S$27:S30)-1,COLUMNS($S$27:S30)-1),\"\")","v":{"$error":"#VALUE!"}},{"$f":"IF(OFFSET([1]DE100_7!$T$27,ROWS($T$27:T30)-1,COLUMNS($T$27:T30)-1)<>\"\",OFFSET([1]DE100_7!$T$27,ROWS($T$27:T30)-1,COLUMNS($T$27:T30)-1),\"\")","v":{"$error":"#VALUE!"}},{"$f":"IF(OFFSET([1]DE100_7!$U$27,ROWS($U$27:U30)-1,COLUMNS($U$27:U30)-1)<>\"\",OFFSET([1]DE100_7!$U$27,ROWS($U$27:U30)-1,COLUMNS($U$27:U30)-1),\"\")","v":{"$error":"#VALUE!"}},{"$f":"IF(OFFSET([1]DE100_7!$V$27,ROWS($V$27:V30)-1,COLUMNS($V$27:V30)-1)<>\"\",OFFSET([1]DE100_7!$V$27,ROWS($V$27:V30)-1,COLUMNS($V$27:V30)-1),\"\")","v":{"$error":"#VALUE!"}}]
[{"$f":"IF(OFFSET([1]DE100_7!$C$27,ROWS($C$27:C31)-1,COLUMNS($C$27:C31)-1)<>\"\",OFFSET([1]DE100_7!$C$27,ROWS($C$27:C31)-1,COLUMNS($C$27:C31)-1),\"\")","v":{"$error":"#VALUE!"}},{"$f":"IF(OFFSET([1]DE100_7!$D$27,ROWS($D$27:D31)-1,COLUMNS($D$27:D31)-1)<>\"\",OFFSET([1]DE100_7!$D$27,ROWS($D$27:D31)-1,COLUMNS($D$27:D31)-1),\"\")","v":{"$error":"#VALUE!"}},{"$f":"IF(OFFSET([1]DE100_7!$E$27,ROWS($E$27:E31)-1,COLUMNS($E$27:E31)-1)<>\"\",OFFSET([1]DE100_7!$E$27,ROWS($E$27:E31)-1,COLUMNS($E$27:E31)-1),\"\")","v":{"$error":"#VALUE!"}},{"$f":"IF(OFFSET([1]DE100_7!$F$27,ROWS($F$27:F31)-1,COLUMNS($F$27:F31)-1)<>\"\",OFFSET([1]DE100_7!$F$27,ROWS($F$27:F31)-1,COLUMNS($F$27:F31)-1),\"\")","v":{"$error":"#VALUE!"}},{"$f":"IF(OFFSET([1]DE100_7!$G$27,ROWS($G$27:G31)-1,COLUMNS($G$27:G31)-1)<>\"\",OFFSET([1]DE100_7!$G$27,ROWS($G$27:G31)-1,COLUMNS($G$27:G31)-1),\"\")","v":{"$error":"#VALUE!"}},{"$f":"IF(OFFSET([1]DE100_7!$H$27,ROWS($H$27:H31)-1,COLUMNS($H$27:H31)-1)<>\"\",OFFSET([1]DE100_7!$H$27,ROWS($H$27:H31)-1,COLUMNS($H$27:H31)-1),\"\")","v":{"$error":"#VALUE!"}},{"$f":"IF(OFFSET([1]DE100_7!$I$27,ROWS($I$27:I31)-1,COLUMNS($I$27:I31)-1)<>\"\",OFFSET([1]DE100_7!$I$27,ROWS($I$27:I31)-1,COLUMNS($I$27:I31)-1),\"\")","v":{"$error":"#VALUE!"}},{"$f":"IF(OFFSET([1]DE100_7!$J$27,ROWS($J$27:J31)-1,COLUMNS($J$27:J31)-1)<>\"\",OFFSET([1]DE100_7!$J$27,ROWS($J$27:J31)-1,COLUMNS($J$27:J31)-1),\"\")","v":{"$error":"#VALUE!"}},{"$f":"IF(OFFSET([1]DE100_7!$K$27,ROWS($K$27:K31)-1,COLUMNS($K$27:K31)-1)<>\"\",OFFSET([1]DE100_7!$K$27,ROWS($K$27:K31)-1,COLUMNS($K$27:K31)-1),\"\")","v":{"$error":"#VALUE!"}},{"$f":"IF(OFFSET([1]DE100_7!$L$27,ROWS($L$27:L31)-1,COLUMNS($L$27:L31)-1)<>\"\",OFFSET([1]DE100_7!$L$27,ROWS($L$27:L31)-1,COLUMNS($L$27:L31)-1),\"\")","v":{"$error":"#VALUE!"}},{"$f":"IF(OFFSET([1]DE100_7!$M$27,ROWS($M$27:M31)-1,COLUMNS($M$27:M31)-1)<>\"\",OFFSET([1]DE100_7!$M$27,ROWS($M$27:M31)-1,COLUMNS($M$27:M31)-1),\"\")","v":{"$error":"#VALUE!"}},{"$f":"IF(OFFSET([1]DE100_7!$N$27,ROWS($N$27:N31)-1,COLUMNS($N$27:N31)-1)<>\"\",OFFSET([1]DE100_7!$N$27,ROWS($N$27:N31)-1,COLUMNS($N$27:N31)-1),\"\")","v":{"$error":"#VALUE!"}},{"$f":"IF(OFFSET([1]DE100_7!$O$27,ROWS($O$27:O31)-1,COLUMNS($O$27:O31)-1)<>\"\",OFFSET([1]DE100_7!$O$27,ROWS($O$27:O31)-1,COLUMNS($O$27:O31)-1),\"\")","v":{"$error":"#VALUE!"}},{"$f":"IF(OFFSET([1]DE100_7!$P$27,ROWS($P$27:P31)-1,COLUMNS($P$27:P31)-1)<>\"\",OFFSET([1]DE100_7!$P$27,ROWS($P$27:P31)-1,COLUMNS($P$27:P31)-1),\"\")","v":{"$error":"#VALUE!"}},{"$f":"IF(OFFSET([1]DE100_7!$Q$27,ROWS($Q$27:Q31)-1,COLUMNS($Q$27:Q31)-1)<>\"\",OFFSET([1]DE100_7!$Q$27,ROWS($Q$27:Q31)-1,COLUMNS($Q$27:Q31)-1),\"\")","v":{"$error":"#VALUE!"}},{"$f":"IF(OFFSET([1]DE100_7!$R$27,ROWS($R$27:R31)-1,COLUMNS($R$27:R31)-1)<>\"\",OFFSET([1]DE100_7!$R$27,ROWS($R$27:R31)-1,COLUMNS($R$27:R31)-1),\"\")","v":{"$error":"#VALUE!"}},{"$f":"IF(OFFSET([1]DE100_7!$S$27,ROWS($S$27:S31)-1,COLUMNS($S$27:S31)-1)<>\"\",OFFSET([1]DE100_7!$S$27,ROWS($S$27:S31)-1,COLUMNS($S$27:S31)-1),\"\")","v":{"$error":"#VALUE!"}},{"$f":"IF(OFFSET([1]DE100_7!$T$27,ROWS($T$27:T31)-1,COLUMNS($T$27:T31)-1)<>\"\",OFFSET([1]DE100_7!$T$27,ROWS($T$27:T31)-1,COLUMNS($T$27:T31)-1),\"\")","v":{"$error":"#VALUE!"}},{"$f":"IF(OFFSET([1]DE100_7!$U$27,ROWS($U$27:U31)-1,COLUMNS($U$27:U31)-1)<>\"\",OFFSET([1]DE100_7!$U$27,ROWS($U$27:U31)-1,COLUMNS($U$27:U31)-1),\"\")","v":{"$error":"#VALUE!"}},{"$f":"IF(OFFSET([1]DE100_7!$V$27,ROWS($V$27:V31)-1,COLUMNS($V$27:V31)-1)<>\"\",OFFSET([1]DE100_7!$V$27,ROWS($V$27:V31)-1,COLUMNS($V$27:V31)-1),\"\")","v":{"$error":"#VALUE!"}}]
[{"$f":"IF(OFFSET([1]DE100_7!$C$27,ROWS($C$27:C32)-1,COLUMNS($C$27:C32)-1)<>\"\",OFFSET([1]DE100_7!$C$27,ROWS($C$27:C32)-1,COLUMNS($C$27:C32)-1),\"\")","v":{"$error":"#VALUE!"}},{"$f":"IF(OFFSET([1]DE100_7!$D$27,ROWS($D$27:D32)-1,COLUMNS($D$27:D32)-1)<>\"\",OFFSET([1]DE100_7!$D$27,ROWS($D$27:D32)-1,COLUMNS($D$27:D32)-1),\"\")","v":{"$error":"#VALUE!"}},{"$f":"IF(OFFSET([1]DE100_7!$E$27,ROWS($E$27:E32)-1,COLUMNS($E$27:E32)-1)<>\"\",OFFSET([1]DE100_7!$E$27,ROWS($E$27:E32)-1,COLUMNS($E$27:E32)-1),\"\")","v":{"$error":"#VALUE!"}},{"$f":"IF(OFFSET([1]DE100_7!$F$27,ROWS($F$27:F32)-1,COLUMNS($F$27:F32)-1)<>\"\",OFFSET([1]DE100_7!$F$27,ROWS($F$27:F32)-1,COLUMNS($F$27:F32)-1),\"\")","v":{"$error":"#VALUE!"}},{"$f":"IF(OFFSET([1]DE100_7!$G$27,ROWS($G$27:G32)-1,COLUMNS($G$27:G32)-1)<>\"\",OFFSET([1]DE100_7!$G$27,ROWS($G$27:G32)-1,COLUMNS($G$27:G32)-1),\"\")","v":{"$error":"#VALUE!"}},{"$f":"IF(OFFSET([1]DE100_7!$H$27,ROWS($H$27:H32)-1,COLUMNS($H$27:H32)-1)<>\"\",OFFSET([1]DE100_7!$H$27,ROWS($H$27:H32)-1,COLUMNS($H$27:H32)-1),\"\")","v":{"$error":"#VALUE!"}},{"$f":"IF(OFFSET([1]DE100_7!$I$27,ROWS($I$27:I32)-1,COLUMNS($I$27:I32)-1)<>\"\",OFFSET([1]DE100_7!$I$27,ROWS($I$27:I32)-1,COLUMNS($I$27:I32)-1),\"\")","v":{"$error":"#VALUE!"}},{"$f":"IF(OFFSET([1]DE100_7!$J$27,ROWS($J$27:J32)-1,COLUMNS($J$27:J32)-1)<>\"\",OFFSET([1]DE100_7!$J$27,ROWS($J$27:J32)-1,COLUMNS($J$27:J32)-1),\"\")","v":{"$error":"#VALUE!"}},{"$f":"IF(OFFSET([1]DE100_7!$K$27,ROWS($K$27:K32)-1,COLUMNS($K$27:K32)-1)<>\"\",OFFSET([1]DE100_7!$K$27,ROWS($K$27:K32)-1,COLUMNS($K$27:K32)-1),\"\")","v":{"$error":"#VALUE!"}},{"$f":"IF(OFFSET([1]DE100_7!$L$27,ROWS($L$27:L32)-1,COLUMNS($L$27:L32)-1)<>\"\",OFFSET([1]DE100_7!$L$27,ROWS($L$27:L32)-1,COLUMNS($L$27:L32)-1),\"\")","v":{"$error":"#VALUE!"}},{"$f":"IF(OFFSET([1]DE100_7!$M$27,ROWS($M$27:M32)-1,COLUMNS($M$27:M32)-1)<>\"\",OFFSET([1]DE100_7!$M$27,ROWS($M$27:M32)-1,COLUMNS($M$27:M32)-1),\"\")","v":{"$error":"#VALUE!"}},{"$f":"IF(OFFSET([1]DE100_7!$N$27,ROWS($N$27:N32)-1,COLUMNS($N$27:N32)-1)<>\"\",OFFSET([1]DE100_7!$N$27,ROWS($N$27:N32)-1,COLUMNS($N$27:N32)-1),\"\")","v":{"$error":"#VALUE!"}},{"$f":"IF(OFFSET([1]DE100_7!$O$27,ROWS($O$27:O32)-1,COLUMNS($O$27:O32)-1)<>\"\",OFFSET([1]DE100_7!$O$27,ROWS($O$27:O32)-1,COLUMNS($O$27:O32)-1),\"\")","v":{"$error":"#VALUE!"}},{"$f":"IF(OFFSET([1]DE100_7!$P$27,ROWS($P$27:P32)-1,COLUMNS($P$27:P32)-1)<>\"\",OFFSET([1]DE100_7!$P$27,ROWS($P$27:P32)-1,COLUMNS($P$27:P32)-1),\"\")","v":{"$error":"#VALUE!"}},{"$f":"IF(OFFSET([1]DE100_7!$Q$27,ROWS($Q$27:Q32)-1,COLUMNS($Q$27:Q32)-1)<>\"\",OFFSET([1]DE100_7!$Q$27,ROWS($Q$27:Q32)-1,COLUMNS($Q$27:Q32)-1),\"\")","v":{"$error":"#VALUE!"}},{"$f":"IF(OFFSET([1]DE100_7!$R$27,ROWS($R$27:R32)-1,COLUMNS($R$27:R32)-1)<>\"\",OFFSET([1]DE100_7!$R$27,ROWS($R$27:R32)-1,COLUMNS($R$27:R32)-1),\"\")","v":{"$error":"#VALUE!"}},{"$f":"IF(OFFSET([1]DE100_7!$S$27,ROWS($S$27:S32)-1,COLUMNS($S$27:S32)-1)<>\"\",OFFSET([1]DE100_7!$S$27,ROWS($S$27:S32)-1,COLUMNS($S$27:S32)-1),\"\")","v":{"$error":"#VALUE!"}},{"$f":"IF(OFFSET([1]DE100_7!$T$27,ROWS($T$27:T32)-1,COLUMNS($T$27:T32)-1)<>\"\",OFFSET([1]DE100_7!$T$27,ROWS($T$27:T32)-1,COLUMNS($T$27:T32)-1),\"\")","v":{"$error":"#VALUE!"}},{"$f":"IF(OFFSET([1]DE100_7!$U$27,ROWS($U$27:U32)-1,COLUMNS($U$27:U32)-1)<>\"\",OFFSET([1]DE100_7!$U$27,ROWS($U$27:U32)-1,COLUMNS($U$27:U32)-1),\"\")","v":{"$error":"#VALUE!"}},{"$f":"IF(OFFSET([1]DE100_7!$V$27,ROWS($V$27:V32)-1,COLUMNS($V$27:V32)-1)<>\"\",OFFSET([1]DE100_7!$V$27,ROWS($V$27:V32)-1,COLUMNS($V$27:V32)-1),\"\")","v":{"$error":"#VALUE!"}}]
[{"$f":"IF(OFFSET([1]DE100_7!$C$27,ROWS($C$27:C33)-1,COLUMNS($C$27:C33)-1)<>\"\",OFFSET([1]DE100_7!$C$27,ROWS($C$27:C33)-1,COLUMNS($C$27:C33)-1),\"\")","v":{"$error":"#VALUE!"}},{"$f":"IF(OFFSET([1]DE100_7!$D$27,ROWS($D$27:D33)-1,COLUMNS($D$27:D33)-1)<>\"\",OFFSET([1]DE100_7!$D$27,ROWS($D$27:D33)-1,COLUMNS($D$27:D33)-1),\"\")","v":{"$error":"#VALUE!"}},{"$f":"IF(OFFSET([1]DE100_7!$E$27,ROWS($E$27:E33)-1,COLUMNS($E$27:E33)-1)<>\"\",OFFSET([1]DE100_7!$E$27,ROWS($E$27:E33)-1,COLUMNS($E$27:E33)-1),\"\")","v":{"$error":"#VALUE!"}},{"$f":"IF(OFFSET([1]DE100_7!$F$27,ROWS($F$27:F33)-1,COLUMNS($F$27:F33)-1)<>\"\",OFFSET([1]DE100_7!$F$27,ROWS($F$27:F33)-1,COLUMNS($F$27:F33)-1),\"\")","v":{"$error":"#VALUE!"}},{"$f":"IF(OFFSET([1]DE100_7!$G$27,ROWS($G$27:G33)-1,COLUMNS($G$27:G33)-1)<>\"\",OFFSET([1]DE100_7!$G$27,ROWS($G$27:G33)-1,COLUMNS($G$27:G33)-1),\"\")","v":{"$error":"#VALUE!"}},{"$f":"IF(OFFSET([1]DE100_7!$H$27,ROWS($H$27:H33)-1,COLUMNS($H$27:H33)-1)<>\"\",OFFSET([1]DE100_7!$H$27,ROWS($H$27:H33)-1,COLUMNS($H$27:H33)-1),\"\")","v":{"$error":"#VALUE!"}},{"$f":"IF(OFFSET([1]DE100_7!$I$27,ROWS($I$27:I33)-1,COLUMNS($I$27:I33)-1)<>\"\",OFFSET([1]DE100_7!$I$27,ROWS($I$27:I33)-1,COLUMNS($I$27:I33)-1),\"\")","v":{"$error":"#VALUE!"}},{"$f":"IF(OFFSET([1]DE100_7!$J$27,ROWS($J$27:J33)-1,COLUMNS($J$27:J33)-1)<>\"\",OFFSET([1]DE100_7!$J$27,ROWS($J$27:J33)-1,COLUMNS($J$27:J33)-1),\"\")","v":{"$error":"#VALUE!"}},{"$f":"IF(OFFSET([1]DE100_7!$K$27,ROWS($K$27:K33)-1,COLUMNS($K$27:K33)-1)<>\"\",OFFSET([1]DE100_7!$K$27,ROWS($K$27:K33)-1,COLUMNS($K$27:K33)-1),\"\")","v":{"$error":"#VALUE!"}},{"$f":"IF(OFFSET([1]DE100_7!$L$27,ROWS($L$27:L33)-1,COLUMNS($L$27:L33)-1)<>\"\",OFFSET([1]DE100_7!$L$27,ROWS($L$27:L33)-1,COLUMNS($L$27:L33)-1),\"\")","v":{"$error":"#VALUE!"}},{"$f":"IF(OFFSET([1]DE100_7!$M$27,ROWS($M$27:M33)-1,COLUMNS($M$27:M33)-1)<>\"\",OFFSET([1]DE100_7!$M$27,ROWS($M$27:M33)-1,COLUMNS($M$27:M33)-1),\"\")","v":{"$error":"#VALUE!"}},{"$f":"IF(OFFSET([1]DE100_7!$N$27,ROWS($N$27:N33)-1,COLUMNS($N$27:N33)-1)<>\"\",OFFSET([1]DE100_7!$N$27,ROWS($N$27:N33)-1,COLUMNS($N$27:N33)-1),\"\")","v":{"$error":"#VALUE!"}},{"$f":"IF(OFFSET([1]DE100_7!$O$27,ROWS($O$27:O33)-1,COLUMNS($O$27:O33)-1)<>\"\",OFFSET([1]DE100_7!$O$27,ROWS($O$27:O33)-1,COLUMNS($O$27:O33)-1),\"\")","v":{"$error":"#VALUE!"}},{"$f":"IF(OFFSET([1]DE100_7!$P$27,ROWS($P$27:P33)-1,COLUMNS($P$27:P33)-1)<>\"\",OFFSET([1]DE100_7!$P$27,ROWS($P$27:P33)-1,COLUMNS($P$27:P33)-1),\"\")","v":{"$error":"#VALUE!"}},{"$f":"IF(OFFSET([1]DE100_7!$Q$27,ROWS($Q$27:Q33)-1,COLUMNS($Q$27:Q33)-1)<>\"\",OFFSET([1]DE100_7!$Q$27,ROWS($Q$27:Q33)-1,COLUMNS($Q$27:Q33)-1),\"\")","v":{"$error":"#VALUE!"}},{"$f":"IF(OFFSET([1]DE100_7!$R$27,ROWS($R$27:R33)-1,COLUMNS($R$27:R33)-1)<>\"\",OFFSET([1]DE100_7!$R$27,ROWS($R$27:R33)-1,COLUMNS($R$27:R33)-1),\"\")","v":{"$error":"#VALUE!"}},{"$f":"IF(OFFSET([1]DE100_7!$S$27,ROWS($S$27:S33)-1,COLUMNS($S$27:S33)-1)<>\"\",OFFSET([1]DE100_7!$S$27,ROWS($S$27:S33)-1,COLUMNS($S$27:S33)-1),\"\")","v":{"$error":"#VALUE!"}},{"$f":"IF(OFFSET([1]DE100_7!$T$27,ROWS($T$27:T33)-1,COLUMNS($T$27:T33)-1)<>\"\",OFFSET([1]DE100_7!$T$27,ROWS($T$27:T33)-1,COLUMNS($T$27:T33)-1),\"\")","v":{"$error":"#VALUE!"}},{"$f":"IF(OFFSET([1]DE100_7!$U$27,ROWS($U$27:U33)-1,COLUMNS($U$27:U33)-1)<>\"\",OFFSET([1]DE100_7!$U$27,ROWS($U$27:U33)-1,COLUMNS($U$27:U33)-1),\"\")","v":{"$error":"#VALUE!"}},{"$f":"IF(OFFSET([1]DE100_7!$V$27,ROWS($V$27:V33)-1,COLUMNS($V$27:V33)-1)<>\"\",OFFSET([1]DE100_7!$V$27,ROWS($V$27:V33)-1,COLUMNS($V$27:V33)-1),\"\")","v":{"$error":"#VALUE!"}}]
[{"$f":"IF(OFFSET([1]DE100_7!$C$27,ROWS($C$27:C34)-1,COLUMNS($C$27:C34)-1)<>\"\",OFFSET([1]DE100_7!$C$27,ROWS($C$27:C34)-1,COLUMNS($C$27:C34)-1),\"\")","v":{"$error":"#VALUE!"}},{"$f":"IF(OFFSET([1]DE100_7!$D$27,ROWS($D$27:D34)-1,COLUMNS($D$27:D34)-1)<>\"\",OFFSET([1]DE100_7!$D$27,ROWS($D$27:D34)-1,COLUMNS($D$27:D34)-1),\"\")","v":{"$error":"#VALUE!"}},{"$f":"IF(OFFSET([1]DE100_7!$E$27,ROWS($E$27:E34)-1,COLUMNS($E$27:E34)-1)<>\"\",OFFSET([1]DE100_7!$E$27,ROWS($E$27:E34)-1,COLUMNS($E$27:E34)-1),\"\")","v":{"$error":"#VALUE!"}},{"$f":"IF(OFFSET([1]DE100_7!$F$27,ROWS($F$27:F34)-1,COLUMNS($F$27:F34)-1)<>\"\",OFFSET([1]DE100_7!$F$27,ROWS($F$27:F34)-1,COLUMNS($F$27:F34)-1),\"\")","v":{"$error":"#VALUE!"}},{"$f":"IF(OFFSET([1]DE100_7!$G$27,ROWS($G$27:G34)-1,COLUMNS($G$27:G34)-1)<>\"\",OFFSET([1]DE100_7!$G$27,ROWS($G$27:G34)-1,COLUMNS($G$27:G34)-1),\"\")","v":{"$error":"#VALUE!"}},{"$f":"IF(OFFSET([1]DE100_7!$H$27,ROWS($H$27:H34)-1,COLUMNS($H$27:H34)-1)<>\"\",OFFSET([1]DE100_7!$H$27,ROWS($H$27:H34)-1,COLUMNS($H$27:H34)-1),\"\")","v":{"$error":"#VALUE!"}},{"$f":"IF(OFFSET([1]DE100_7!$I$27,ROWS($I$27:I34)-1,COLUMNS($I$27:I34)-1)<>\"\",OFFSET([1]DE100_7!$I$27,ROWS($I$27:I34)-1,COLUMNS($I$27:I34)-1),\"\")","v":{"$error":"#VALUE!"}},{"$f":"IF(OFFSET([1]DE100_7!$J$27,ROWS($J$27:J34)-1,COLUMNS($J$27:J34)-1)<>\"\",OFFSET([1]DE100_7!$J$27,ROWS($J$27:J34)-1,COLUMNS($J$27:J34)-1),\"\")","v":{"$error":"#VALUE!"}},{"$f":"IF(OFFSET([1]DE100_7!$K$27,ROWS($K$27:K34)-1,COLUMNS($K$27:K34)-1)<>\"\",OFFSET([1]DE100_7!$K$27,ROWS($K$27:K34)-1,COLUMNS($K$27:K34)-1),\"\")","v":{"$error":"#VALUE!"}},{"$f":"IF(OFFSET([1]DE100_7!$L$27,ROWS($L$27:L34)-1,COLUMNS($L$27:L34)-1)<>\"\",OFFSET([1]DE100_7!$L$27,ROWS($L$27:L34)-1,COLUMNS($L$27:L34)-1),\"\")","v":{"$error":"#VALUE!"}},{"$f":"IF(OFFSET([1]DE100_7!$M$27,ROWS($M$27:M34)-1,COLUMNS($M$27:M34)-1)<>\"\",OFFSET([1]DE100_7!$M$27,ROWS($M$27:M34)-1,COLUMNS($M$27:M34)-1),\"\")","v":{"$error":"#VALUE!"}},{"$f":"IF(OFFSET([1]DE100_7!$N$27,ROWS($N$27:N34)-1,COLUMNS($N$27:N34)-1)<>\"\",OFFSET([1]DE100_7!$N$27,ROWS($N$27:N34)-1,COLUMNS($N$27:N34)-1),\"\")","v":{"$error":"#VALUE!"}},{"$f":"IF(OFFSET([1]DE100_7!$O$27,ROWS($O$27:O34)-1,COLUMNS($O$27:O34)-1)<>\"\",OFFSET([1]DE100_7!$O$27,ROWS($O$27:O34)-1,COLUMNS($O$27:O34)-1),\"\")","v":{"$error":"#VALUE!"}},{"$f":"IF(OFFSET([1]DE100_7!$P$27,ROWS($P$27:P34)-1,COLUMNS($P$27:P34)-1)<>\"\",OFFSET([1]DE100_7!$P$27,ROWS($P$27:P34)-1,COLUMNS($P$27:P34)-1),\"\")","v":{"$error":"#VALUE!"}},{"$f":"IF(OFFSET([1]DE100_7!$Q$27,ROWS($Q$27:Q34)-1,COLUMNS($Q$27:Q34)-1)<>\"\",OFFSET([1]DE100_7!$Q$27,ROWS($Q$27:Q34)-1,COLUMNS($Q$27:Q34)-1),\"\")","v":{"$error":"#VALUE!"}},{"$f":"IF(OFFSET([1]DE100_7!$R$27,ROWS($R$27:R34)-1,COLUMNS($R$27:R34)-1)<>\"\",OFFSET([1]DE100_7!$R$27,ROWS($R$27:R34)-1,COLUMNS($R$27:R34)-1),\"\")","v":{"$error":"#VALUE!"}},{"$f":"IF(OFFSET([1]DE100_7!$S$27,ROWS($S$27:S34)-1,COLUMNS($S$27:S34)-1)<>\"\",OFFSET([1]DE100_7!$S$27,ROWS($S$27:S34)-1,COLUMNS($S$27:S34)-1),\"\")","v":{"$error":"#VALUE!"}},{"$f":"IF(OFFSET([1]DE100_7!$T$27,ROWS($T$27:T34)-1,COLUMNS($T$27:T34)-1)<>\"\",OFFSET([1]DE100_7!$T$27,ROWS($T$27:T34)-1,COLUMNS($T$27:T34)-1),\"\")","v":{"$error":"#VALUE!"}},{"$f":"IF(OFFSET([1]DE100_7!$U$27,ROWS($U$27:U34)-1,COLUMNS($U$27:U34)-1)<>\"\",OFFSET([1]DE100_7!$U$27,ROWS($U$27:U34)-1,COLUMNS($U$27:U34)-1),\"\")","v":{"$error":"#VALUE!"}},{"$f":"IF(OFFSET([1]DE100_7!$V$27,ROWS($V$27:V34)-1,COLUMNS($V$27:V34)-1)<>\"\",OFFSET([1]DE100_7!$V$27,ROWS($V$27:V34)-1,COLUMNS($V$27:V34)-1),\"\")","v":{"$error":"#VALUE!"}}]
[{"$f":"IF(OFFSET([1]DE100_7!$C$27,ROWS($C$27:C35)-1,COLUMNS($C$27:C35)-1)<>\"\",OFFSET([1]DE100_7!$C$27,ROWS($C$27:C35)-1,COLUMNS($C$27:C35)-1),\"\")","v":{"$error":"#VALUE!"}},null,null,null,{"$f":"IF(OFFSET([1]DE100_7!$G$27,ROWS($G$27:G35)-1,COLUMNS($G$27:G35)-1)<>\"\",OFFSET([1]DE100_7!$G$27,ROWS($G$27:G35)-1,COLUMNS($G$27:G35)-1),\"\")","v":{"$error":"#VALUE!"}},{"$f":"IF(OFFSET([1]DE100_7!$H$27,ROWS($H$27:H35)-1,COLUMNS($H$27:H35)-1)<>\"\",OFFSET([1]DE100_7!$H$27,ROWS($H$27:H35)-1,COLUMNS($H$27:H35)-1),\"\")","v":{"$error":"#VALUE!"}},{"$f":"IF(OFFSET([1]DE100_7!$I$27,ROWS($I$27:I35)-1,COLUMNS($I$27:I35)-1)<>\"\",OFFSET([1]DE100_7!$I$27,ROWS($I$27:I35)-1,COLUMNS($I$27:I35)-1),\"\")","v":{"$error":"#VALUE!"}},{"$f":"IF(OFFSET([1]DE100_7!$J$27,ROWS($J$27:J35)-1,COLUMNS($J$27:J35)-1)<>\"\",OFFSET([1]DE100_7!$J$27,ROWS($J$27:J35)-1,COLUMNS($J$27:J35)-1),\"\")","v":{"$error":"#VALUE!"}},{"$f":"IF(OFFSET([1]DE100_7!$K$27,ROWS($K$27:K35)-1,COLUMNS($K$27:K35)-1)<>\"\",OFFSET([1]DE100_7!$K$27,ROWS($K$27:K35)-1,COLUMNS($K$27:K35)-1),\"\")","v":{"$error":"#VALUE!"}},{"$f":"IF(OFFSET([1]DE100_7!$L$27,ROWS($L$27:L35)-1,COLUMNS($L$27:L35)-1)<>\"\",OFFSET([1]DE100_7!$L$27,ROWS($L$27:L35)-1,COLUMNS($L$27:L35)-1),\"\")","v":{"$error":"#VALUE!"}},{"$f":"IF(OFFSET([1]DE100_7!$M$27,ROWS($M$27:M35)-1,COLUMNS($M$27:M35)-1)<>\"\",OFFSET([1]DE100_7!$M$27,ROWS($M$27:M35)-1,COLUMNS($M$27:M35)-1),\"\")","v":{"$error":"#VALUE!"}},{"$f":"IF(OFFSET([1]DE100_7!$N$27,ROWS($N$27:N35)-1,COLUMNS($N$27:N35)-1)<>\"\",OFFSET([1]DE100_7!$N$27,ROWS($N$27:N35)-1,COLUMNS($N$27:N35)-1),\"\")","v":{"$error":"#VALUE!"}},{"$f":"IF(OFFSET([1]DE100_7!$O$27,ROWS($O$27:O35)-1,COLUMNS($O$27:O35)-1)<>\"\",OFFSET([1]DE100_7!$O$27,ROWS($O$27:O35)-1,COLUMNS($O$27:O35)-1),\"\")","v":{"$error":"#VALUE!"}},{"$f":"IF(OFFSET([1]DE100_7!$P$27,ROWS($P$27:P35)-1,COLUMNS($P$27:P35)-1)<>\"\",OFFSET([1]DE100_7!$P$27,ROWS($P$27:P35)-1,COLUMNS($P$27:P35)-1),\"\")","v":{"$error":"#VALUE!"}},{"$f":"IF(OFFSET([1]DE100_7!$Q$27,ROWS($Q$27:Q35)-1,COLUMNS($Q$27:Q35)-1)<>\"\",OFFSET([1]DE100_7!$Q$27,ROWS($Q$27:Q35)-1,COLUMNS($Q$27:Q35)-1),\"\")","v":{"$error":"#VALUE!"}},{"$f":"IF(OFFSET([1]DE100_7!$R$27,ROWS($R$27:R35)-1,COLUMNS($R$27:R35)-1)<>\"\",OFFSET([1]DE100_7!$R$27,ROWS($R$27:R35)-1,COLUMNS($R$27:R35)-1),\"\")","v":{"$error":"#VALUE!"}},{"$f":"IF(OFFSET([1]DE100_7!$S$27,ROWS($S$27:S35)-1,COLUMNS($S$27:S35)-1)<>\"\",OFFSET([1]DE100_7!$S$27,ROWS($S$27:S35)-1,COLUMNS($S$27:S35)-1),\"\")","v":{"$error":"#VALUE!"}},{"$f":"IF(OFFSET([1]DE100_7!$T$27,ROWS($T$27:T35)-1,COLUMNS($T$27:T35)-1)<>\"\",OFFSET([1]DE100_7!$T$27,ROWS($T$27:T35)-1,COLUMNS($T$27:T35)-1),\"\")","v":{"$error":"#VALUE!"}},{"$f":"IF(OFFSET([1]DE100_7!$U$27,ROWS($U$27:U35)-1,COLUMNS($U$27:U35)-1)<>\"\",OFFSET([1]DE100_7!$U$27,ROWS($U$27:U35)-1,COLUMNS($U$27:U35)-1),\"\")","v":{"$error":"#VALUE!"}},{"$f":"IF(OFFSET([1]DE100_7!$V$27,ROWS($V$27:V35)-1,COLUMNS($V$27:V35)-1)<>\"\",OFFSET([1]DE100_7!$V$27,ROWS($V$27:V35)-1,COLUMNS($V$27:V35)-1),\"\")","v":{"$error":"#VALUE!"}}]
[{"$f":"IF(OFFSET([1]DE100_7!$C$27,ROWS($C$27:C36)-1,COLUMNS($C$27:C36)-1)<>\"\",OFFSET([1]DE100_7!$C$27,ROWS($C$27:C36)-1,COLUMNS($C$27:C36)-1),\"\")","v":{"$error":"#VALUE!"}},{"$f":"IF(OFFSET([1]DE100_7!$D$27,ROWS($D$27:D36)-1,COLUMNS($D$27:D36)-1)<>\"\",OFFSET([1]DE100_7!$D$27,ROWS($D$27:D36)-1,COLUMNS($D$27:D36)-1),\"\")","v":{"$error":"#VALUE!"}},{"$f":"IF(OFFSET([1]DE100_7!$E$27,ROWS($E$27:E36)-1,COLUMNS($E$27:E36)-1)<>\"\",OFFSET([1]DE100_7!$E$27,ROWS($E$27:E36)-1,COLUMNS($E$27:E36)-1),\"\")","v":{"$error":"#VALUE!"}},{"$f":"IF(OFFSET([1]DE100_7!$F$27,ROWS($F$27:F36)-1,COLUMNS($F$27:F36)-1)<>\"\",OFFSET([1]DE100_7!$F$27,ROWS($F$27:F36)-1,COLUMNS($F$27:F36)-1),\"\")","v":{"$error":"#VALUE!"}},{"$f":"IF(OFFSET([1]DE100_7!$G$27,ROWS($G$27:G36)-1,COLUMNS($G$27:G36)-1)<>\"\",OFFSET([1]DE100_7!$G$27,ROWS($G$27:G36)-1,COLUMNS($G$27:G36)-1),\"\")","v":{"$error":"#VALUE!"}},{"$f":"IF(OFFSET([1]DE100_7!$H$27,ROWS($H$27:H36)-1,COLUMNS($H$27:H36)-1)<>\"\",OFFSET([1]DE100_7!$H$27,ROWS($H$27:H36)-1,COLUMNS($H$27:H36)-1),\"\")","v":{"$error":"#VALUE!"}},{"$f":"IF(OFFSET([1]DE100_7!$I$27,ROWS($I$27:I36)-1,COLUMNS($I$27:I36)-1)<>\"\",OFFSET([1]DE100_7!$I$27,ROWS($I$27:I36)-1,COLUMNS($I$27:I36)-1),\"\")","v":{"$error":"#VALUE!"}},{"$f":"IF(OFFSET([1]DE100_7!$J$27,ROWS($J$27:J36)-1,COLUMNS($J$27:J36)-1)<>\"\",OFFSET([1]DE100_7!$J$27,ROWS($J$27:J36)-1,COLUMNS($J$27:J36)-1),\"\")","v":{"$error":"#VALUE!"}},{"$f":"IF(OFFSET([1]DE100_7!$K$27,ROWS($K$27:K36)-1,COLUMNS($K$27:K36)-1)<>\"\",OFFSET([1]DE100_7!$K$27,ROWS($K$27:K36)-1,COLUMNS($K$27:K36)-1),\"\")","v":{"$error":"#VALUE!"}},{"$f":"IF(OFFSET([1]DE100_7!$L$27,ROWS($L$27:L36)-1,COLUMNS($L$27:L36)-1)<>\"\",OFFSET([1]DE100_7!$L$27,ROWS($L$27:L36)-1,COLUMNS($L$27:L36)-1),\"\")","v":{"$error":"#VALUE!"}},{"$f":"IF(OFFSET([1]DE100_7!$M$27,ROWS($M$27:M36)-1,COLUMNS($M$27:M36)-1)<>\"\",OFFSET([1]DE100_7!$M$27,ROWS($M$27:M36)-1,COLUMNS($M$27:M36)-1),\"\")","v":{"$error":"#VALUE!"}},{"$f":"IF(OFFSET([1]DE100_7!$N$27,ROWS($N$27:N36)-1,COLUMNS($N$27:N36)-1)<>\"\",OFFSET([1]DE100_7!$N$27,ROWS($N$27:N36)-1,COLUMNS($N$27:N36)-1),\"\")","v":{"$error":"#VALUE!"}},{"$f":"IF(OFFSET([1]DE100_7!$O$27,ROWS($O$27:O36)-1,COLUMNS($O$27:O36)-1)<>\"\",OFFSET([1]DE100_7!$O$27,ROWS($O$27:O36)-1,COLUMNS($O$27:O36)-1),\"\")","v":{"$error":"#VALUE!"}},{"$f":"IF(OFFSET([1]DE100_7!$P$27,ROWS($P$27:P36)-1,COLUMNS($P$27:P36)-1)<>\"\",OFFSET([1]DE100_7!$P$27,ROWS($P$27:P36)-1,COLUMNS($P$27:P36)-1),\"\")","v":{"$error":"#VALUE!"}},{"$f":"IF(OFFSET([1]DE100_7!$Q$27,ROWS($Q$27:Q36)-1,COLUMNS($Q$27:Q36)-1)<>\"\",OFFSET([1]DE100_7!$Q$27,ROWS($Q$27:Q36)-1,COLUMNS($Q$27:Q36)-1),\"\")","v":{"$error":"#VALUE!"}},{"$f":"IF(OFFSET([1]DE100_7!$R$27,ROWS($R$27:R36)-1,COLUMNS($R$27:R36)-1)<>\"\",OFFSET([1]DE100_7!$R$27,ROWS($R$27:R36)-1,COLUMNS($R$27:R36)-1),\"\")","v":{"$error":"#VALUE!"}},{"$f":"IF(OFFSET([1]DE100_7!$S$27,ROWS($S$27:S36)-1,COLUMNS($S$27:S36)-1)<>\"\",OFFSET([1]DE100_7!$S$27,ROWS($S$27:S36)-1,COLUMNS($S$27:S36)-1),\"\")","v":{"$error":"#VALUE!"}},{"$f":"IF(OFFSET([1]DE100_7!$T$27,ROWS($T$27:T36)-1,COLUMNS($T$27:T36)-1)<>\"\",OFFSET([1]DE100_7!$T$27,ROWS($T$27:T36)-1,COLUMNS($T$27:T36)-1),\"\")","v":{"$error":"#VALUE!"}},{"$f":"IF(OFFSET([1]DE100_7!$U$27,ROWS($U$27:U36)-1,COLUMNS($U$27:U36)-1)<>\"\",OFFSET([1]DE100_7!$U$27,ROWS($U$27:U36)-1,COLUMNS($U$27:U36)-1),\"\")","v":{"$error":"#VALUE!"}},{"$f":"IF(OFFSET([1]DE100_7!$V$27,ROWS($V$27:V36)-1,COLUMNS($V$27:V36)-1)<>\"\",OFFSET([1]DE100_7!$V$27,ROWS($V$27:V36)-1,COLUMNS($V$27:V36)-1),\"\")","v":{"$error":"#VALUE!"}}]
[{"$f":"IF(OFFSET([1]DE100_7!$C$27,ROWS($C$27:C37)-1,COLUMNS($C$27:C37)-1)<>\"\",OFFSET([1]DE100_7!$C$27,ROWS($C$27:C37)-1,COLUMNS($C$27:C37)-1),\"\")","v":{"$error":"#VALUE!"}},{"$f":"IF(OFFSET([1]DE100_7!$D$27,ROWS($D$27:D37)-1,COLUMNS($D$27:D37)-1)<>\"\",OFFSET([1]DE100_7!$D$27,ROWS($D$27:D37)-1,COLUMNS($D$27:D37)-1),\"\")","v":{"$error":"#VALUE!"}},{"$f":"IF(OFFSET([1]DE100_7!$E$27,ROWS($E$27:E37)-1,COLUMNS($E$27:E37)-1)<>\"\",OFFSET([1]DE100_7!$E$27,ROWS($E$27:E37)-1,COLUMNS($E$27:E37)-1),\"\")","v":{"$error":"#VALUE!"}},{"$f":"IF(OFFSET([1]DE100_7!$F$27,ROWS($F$27:F37)-1,COLUMNS($F$27:F37)-1)<>\"\",OFFSET([1]DE100_7!$F$27,ROWS($F$27:F37)-1,COLUMNS($F$27:F37)-1),\"\")","v":{"$error":"#VALUE!"}},{"$f":"IF(OFFSET([1]DE100_7!$G$27,ROWS($G$27:G37)-1,COLUMNS($G$27:G37)-1)<>\"\",OFFSET([1]DE100_7!$G$27,ROWS($G$27:G37)-1,COLUMNS($G$27:G37)-1),\"\")","v":{"$error":"#VALUE!"}},{"$f":"IF(OFFSET([1]DE100_7!$H$27,ROWS($H$27:H37)-1,COLUMNS($H$27:H37)-1)<>\"\",OFFSET([1]DE100_7!$H$27,ROWS($H$27:H37)-1,COLUMNS($H$27:H37)-1),\"\")","v":{"$error":"#VALUE!"}},{"$f":"IF(OFFSET([1]DE100_7!$I$27,ROWS($I$27:I37)-1,COLUMNS($I$27:I37)-1)<>\"\",OFFSET([1]DE100_7!$I$27,ROWS($I$27:I37)-1,COLUMNS($I$27:I37)-1),\"\")","v":{"$error":"#VALUE!"}},{"$f":"IF(OFFSET([1]DE100_7!$J$27,ROWS($J$27:J37)-1,COLUMNS($J$27:J37)-1)<>\"\",OFFSET([1]DE100_7!$J$27,ROWS($J$27:J37)-1,COLUMNS($J$27:J37)-1),\"\")","v":{"$error":"#VALUE!"}},{"$f":"IF(OFFSET([1]DE100_7!$K$27,ROWS($K$27:K37)-1,COLUMNS($K$27:K37)-1)<>\"\",OFFSET([1]DE100_7!$K$27,ROWS($K$27:K37)-1,COLUMNS($K$27:K37)-1),\"\")","v":{"$error":"#VALUE!"}},{"$f":"IF(OFFSET([1]DE100_7!$L$27,ROWS($L$27:L37)-1,COLUMNS($L$27:L37)-1)<>\"\",OFFSET([1]DE100_7!$L$27,ROWS($L$27:L37)-1,COLUMNS($L$27:L37)-1),\"\")","v":{"$error":"#VALUE!"}},{"$f":"IF(OFFSET([1]DE100_7!$M$27,ROWS($M$27:M37)-1,COLUMNS($M$27:M37)-1)<>\"\",OFFSET([1]DE100_7!$M$27,ROWS($M$27:M37)-1,COLUMNS($M$27:M37)-1),\"\")","v":{"$error":"#VALUE!"}},{"$f":"IF(OFFSET([1]DE100_7!$N$27,ROWS($N$27:N37)-1,COLUMNS($N$27:N37)-1)<>\"\",OFFSET([1]DE100_7!$N$27,ROWS($N$27:N37)-1,COLUMNS($N$27:N37)-1),\"\")","v":{"$error":"#VALUE!"}},{"$f":"IF(OFFSET([1]DE100_7!$O$27,ROWS($O$27:O37)-1,COLUMNS($O$27:O37)-1)<>\"\",OFFSET([1]DE100_7!$O$27,ROWS($O$27:O37)-1,COLUMNS($O$27:O37)-1),\"\")","v":{"$error":"#VALUE!"}},{"$f":"IF(OFFSET([1]DE100_7!$P$27,ROWS($P$27:P37)-1,COLUMNS($P$27:P37)-1)<>\"\",OFFSET([1]DE100_7!$P$27,ROWS($P$27:P37)-1,COLUMNS($P$27:P37)-1),\"\")","v":{"$error":"#VALUE!"}},{"$f":"IF(OFFSET([1]DE100_7!$Q$27,ROWS($Q$27:Q37)-1,COLUMNS($Q$27:Q37)-1)<>\"\",OFFSET([1]DE100_7!$Q$27,ROWS($Q$27:Q37)-1,COLUMNS($Q$27:Q37)-1),\"\")","v":{"$error":"#VALUE!"}},{"$f":"IF(OFFSET([1]DE100_7!$R$27,ROWS($R$27:R37)-1,COLUMNS($R$27:R37)-1)<>\"\",OFFSET([1]DE100_7!$R$27,ROWS($R$27:R37)-1,COLUMNS($R$27:R37)-1),\"\")","v":{"$error":"#VALUE!"}},{"$f":"IF(OFFSET([1]DE100_7!$S$27,ROWS($S$27:S37)-1,COLUMNS($S$27:S37)-1)<>\"\",OFFSET([1]DE100_7!$S$27,ROWS($S$27:S37)-1,COLUMNS($S$27:S37)-1),\"\")","v":{"$error":"#VALUE!"}},{"$f":"IF(OFFSET([1]DE100_7!$T$27,ROWS($T$27:T37)-1,COLUMNS($T$27:T37)-1)<>\"\",OFFSET([1]DE100_7!$T$27,ROWS($T$27:T37)-1,COLUMNS($T$27:T37)-1),\"\")","v":{"$error":"#VALUE!"}},{"$f":"IF(OFFSET([1]DE100_7!$U$27,ROWS($U$27:U37)-1,COLUMNS($U$27:U37)-1)<>\"\",OFFSET([1]DE100_7!$U$27,ROWS($U$27:U37)-1,COLUMNS($U$27:U37)-1),\"\")","v":{"$error":"#VALUE!"}},{"$f":"IF(OFFSET([1]DE100_7!$V$27,ROWS($V$27:V37)-1,COLUMNS($V$27:V37)-1)<>\"\",OFFSET([1]DE100_7!$V$27,ROWS($V$27:V37)-1,COLUMNS($V$27:V37)-1),\"\")","v":{"$error":"#VALUE!"}}]
[{"$f":"IF(OFFSET([1]DE100_7!$C$27,ROWS($C$27:C38)-1,COLUMNS($C$27:C38)-1)<>\"\",OFFSET([1]DE100_7!$C$27,ROWS($C$27:C38)-1,COLUMNS($C$27:C38)-1),\"\")","v":{"$error":"#VALUE!"}},{"$f":"IF(OFFSET([1]DE100_7!$D$27,ROWS($D$27:D38)-1,COLUMNS($D$27:D38)-1)<>\"\",OFFSET([1]DE100_7!$D$27,ROWS($D$27:D38)-1,COLUMNS($D$27:D38)-1),\"\")","v":{"$error":"#VALUE!"}},{"$f":"IF(OFFSET([1]DE100_7!$E$27,ROWS($E$27:E38)-1,COLUMNS($E$27:E38)-1)<>\"\",OFFSET([1]DE100_7!$E$27,ROWS($E$27:E38)-1,COLUMNS($E$27:E38)-1),\"\")","v":{"$error":"#VALUE!"}},{"$f":"IF(OFFSET([1]DE100_7!$F$27,ROWS($F$27:F38)-1,COLUMNS($F$27:F38)-1)<>\"\",OFFSET([1]DE100_7!$F$27,ROWS($F$27:F38)-1,COLUMNS($F$27:F38)-1),\"\")","v":{"$error":"#VALUE!"}},{"$f":"IF(OFFSET([1]DE100_7!$G$27,ROWS($G$27:G38)-1,COLUMNS($G$27:G38)-1)<>\"\",OFFSET([1]DE100_7!$G$27,ROWS($G$27:G38)-1,COLUMNS($G$27:G38)-1),\"\")","v":{"$error":"#VALUE!"}},{"$f":"IF(OFFSET([1]DE100_7!$H$27,ROWS($H$27:H38)-1,COLUMNS($H$27:H38)-1)<>\"\",OFFSET([1]DE100_7!$H$27,ROWS($H$27:H38)-1,COLUMNS($H$27:H38)-1),\"\")","v":{"$error":"#VALUE!"}},{"$f":"IF(OFFSET([1]DE100_7!$I$27,ROWS($I$27:I38)-1,COLUMNS($I$27:I38)-1)<>\"\",OFFSET([1]DE100_7!$I$27,ROWS($I$27:I38)-1,COLUMNS($I$27:I38)-1),\"\")","v":{"$error":"#VALUE!"}},{"$f":"IF(OFFSET([1]DE100_7!$J$27,ROWS($J$27:J38)-1,COLUMNS($J$27:J38)-1)<>\"\",OFFSET([1]DE100_7!$J$27,ROWS($J$27:J38)-1,COLUMNS($J$27:J38)-1),\"\")","v":{"$error":"#VALUE!"}},{"$f":"IF(OFFSET([1]DE100_7!$K$27,ROWS($K$27:K38)-1,COLUMNS($K$27:K38)-1)<>\"\",OFFSET([1]DE100_7!$K$27,ROWS($K$27:K38)-1,COLUMNS($K$27:K38)-1),\"\")","v":{"$error":"#VALUE!"}},{"$f":"IF(OFFSET([1]DE100_7!$L$27,ROWS($L$27:L38)-1,COLUMNS($L$27:L38)-1)<>\"\",OFFSET([1]DE100_7!$L$27,ROWS($L$27:L38)-1,COLUMNS($L$27:L38)-1),\"\")","v":{"$error":"#VALUE!"}},{"$f":"IF(OFFSET([1]DE100_7!$M$27,ROWS($M$27:M38)-1,COLUMNS($M$27:M38)-1)<>\"\",OFFSET([1]DE100_7!$M$27,ROWS($M$27:M38)-1,COLUMNS($M$27:M38)-1),\"\")","v":{"$error":"#VALUE!"}},{"$f":"IF(OFFSET([1]DE100_7!$N$27,ROWS($N$27:N38)-1,COLUMNS($N$27:N38)-1)<>\"\",OFFSET([1]DE100_7!$N$27,ROWS($N$27:N38)-1,COLUMNS($N$27:N38)-1),\"\")","v":{"$error":"#VALUE!"}},{"$f":"IF(OFFSET([1]DE100_7!$O$27,ROWS($O$27:O38)-1,COLUMNS($O$27:O38)-1)<>\"\",OFFSET([1]DE100_7!$O$27,ROWS($O$27:O38)-1,COLUMNS($O$27:O38)-1),\"\")","v":{"$error":"#VALUE!"}},{"$f":"IF(OFFSET([1]DE100_7!$P$27,ROWS($P$27:P38)-1,COLUMNS($P$27:P38)-1)<>\"\",OFFSET([1]DE100_7!$P$27,ROWS($P$27:P38)-1,COLUMNS($P$27:P38)-1),\"\")","v":{"$error":"#VALUE!"}},{"$f":"IF(OFFSET([1]DE100_7!$Q$27,ROWS($Q$27:Q38)-1,COLUMNS($Q$27:Q38)-1)<>\"\",OFFSET([1]DE100_7!$Q$27,ROWS($Q$27:Q38)-1,COLUMNS($Q$27:Q38)-1),\"\")","v":{"$error":"#VALUE!"}},{"$f":"IF(OFFSET([1]DE100_7!$R$27,ROWS($R$27:R38)-1,COLUMNS($R$27:R38)-1)<>\"\",OFFSET([1]DE100_7!$R$27,ROWS($R$27:R38)-1,COLUMNS($R$27:R38)-1),\"\")","v":{"$error":"#VALUE!"}},{"$f":"IF(OFFSET([1]DE100_7!$S$27,ROWS($S$27:S38)-1,COLUMNS($S$27:S38)-1)<>\"\",OFFSET([1]DE100_7!$S$27,ROWS($S$27:S38)-1,COLUMNS($S$27:S38)-1),\"\")","v":{"$error":"#VALUE!"}},{"$f":"IF(OFFSET([1]DE100_7!$T$27,ROWS($T$27:T38)-1,COLUMNS($T$27:T38)-1)<>\"\",OFFSET([1]DE100_7!$T$27,ROWS($T$27:T38)-1,COLUMNS($T$27:T38)-1),\"\")","v":{"$error":"#VALUE!"}},{"$f":"IF(OFFSET([1]DE100_7!$U$27,ROWS($U$27:U38)-1,COLUMNS($U$27:U38)-1)<>\"\",OFFSET([1]DE100_7!$U$27,ROWS($U$27:U38)-1,COLUMNS($U$27:U38)-1),\"\")","v":{"$error":"#VALUE!"}},{"$f":"IF(OFFSET([1]DE100_7!$V$27,ROWS($V$27:V38)-1,COLUMNS($V$27:V38)-1)<>\"\",OFFSET([1]DE100_7!$V$27,ROWS($V$27:V38)-1,COLUMNS($V$27:V38)-1),\"\")","v":{"$error":"#VALUE!"}}]
[{"$f":"IF(OFFSET([1]DE100_7!$C$27,ROWS($C$27:C39)-1,COLUMNS($C$27:C39)-1)<>\"\",OFFSET([1]DE100_7!$C$27,ROWS($C$27:C39)-1,COLUMNS($C$27:C39)-1),\"\")","v":{"$error":"#VALUE!"}},{"$f":"IF(OFFSET([1]DE100_7!$D$27,ROWS($D$27:D39)-1,COLUMNS($D$27:D39)-1)<>\"\",OFFSET([1]DE100_7!$D$27,ROWS($D$27:D39)-1,COLUMNS($D$27:D39)-1),\"\")","v":{"$error":"#VALUE!"}},{"$f":"IF(OFFSET([1]DE100_7!$E$27,ROWS($E$27:E39)-1,COLUMNS($E$27:E39)-1)<>\"\",OFFSET([1]DE100_7!$E$27,ROWS($E$27:E39)-1,COLUMNS($E$27:E39)-1),\"\")","v":{"$error":"#VALUE!"}},{"$f":"IF(OFFSET([1]DE100_7!$F$27,ROWS($F$27:F39)-1,COLUMNS($F$27:F39)-1)<>\"\",OFFSET([1]DE100_7!$F$27,ROWS($F$27:F39)-1,COLUMNS($F$27:F39)-1),\"\")","v":{"$error":"#VALUE!"}},{"$f":"IF(OFFSET([1]DE100_7!$G$27,ROWS($G$27:G39)-1,COLUMNS($G$27:G39)-1)<>\"\",OFFSET([1]DE100_7!$G$27,ROWS($G$27:G39)-1,COLUMNS($G$27:G39)-1),\"\")","v":{"$error":"#VALUE!"}},{"$f":"IF(OFFSET([1]DE100_7!$H$27,ROWS($H$27:H39)-1,COLUMNS($H$27:H39)-1)<>\"\",OFFSET([1]DE100_7!$H$27,ROWS($H$27:H39)-1,COLUMNS($H$27:H39)-1),\"\")","v":{"$error":"#VALUE!"}},{"$f":"IF(OFFSET([1]DE100_7!$I$27,ROWS($I$27:I39)-1,COLUMNS($I$27:I39)-1)<>\"\",OFFSET([1]DE100_7!$I$27,ROWS($I$27:I39)-1,COLUMNS($I$27:I39)-1),\"\")","v":{"$error":"#VALUE!"}},{"$f":"IF(OFFSET([1]DE100_7!$J$27,ROWS($J$27:J39)-1,COLUMNS($J$27:J39)-1)<>\"\",OFFSET([1]DE100_7!$J$27,ROWS($J$27:J39)-1,COLUMNS($J$27:J39)-1),\"\")","v":{"$error":"#VALUE!"}},{"$f":"IF(OFFSET([1]DE100_7!$K$27,ROWS($K$27:K39)-1,COLUMNS($K$27:K39)-1)<>\"\",OFFSET([1]DE100_7!$K$27,ROWS($K$27:K39)-1,COLUMNS($K$27:K39)-1),\"\")","v":{"$error":"#VALUE!"}},{"$f":"IF(OFFSET([1]DE100_7!$L$27,ROWS($L$27:L39)-1,COLUMNS($L$27:L39)-1)<>\"\",OFFSET([1]DE100_7!$L$27,ROWS($L$27:L39)-1,COLUMNS($L$27:L39)-1),\"\")","v":{"$error":"#VALUE!"}},{"$f":"IF(OFFSET([1]DE100_7!$M$27,ROWS($M$27:M39)-1,COLUMNS($M$27:M39)-1)<>\"\",OFFSET([1]DE100_7!$M$27,ROWS($M$27:M39)-1,COLUMNS($M$27:M39)-1),\"\")","v":{"$error":"#VALUE!"}},{"$f":"IF(OFFSET([1]DE100_7!$N$27,ROWS($N$27:N39)-1,COLUMNS($N$27:N39)-1)<>\"\",OFFSET([1]DE100_7!$N$27,ROWS($N$27:N39)-1,COLUMNS($N$27:N39)-1),\"\")","v":{"$error":"#VALUE!"}},{"$f":"IF(OFFSET([1]DE100_7!$O$27,ROWS($O$27:O39)-1,COLUMNS($O$27:O39)-1)<>\"\",OFFSET([1]DE100_7!$O$27,ROWS($O$27:O39)-1,COLUMNS($O$27:O39)-1),\"\")","v":{"$error":"#VALUE!"}},{"$f":"IF(OFFSET([1]DE100_7!$P$27,ROWS($P$27:P39)-1,COLUMNS($P$27:P39)-1)<>\"\",OFFSET([1]DE100_7!$P$27,ROWS($P$27:P39)-1,COLUMNS($P$27:P39)-1),\"\")","v":{"$error":"#VALUE!"}},{"$f":"IF(OFFSET([1]DE100_7!$Q$27,ROWS($Q$27:Q39)-1,COLUMNS($Q$27:Q39)-1)<>\"\",OFFSET([1]DE100_7!$Q$27,ROWS($Q$27:Q39)-1,COLUMNS($Q$27:Q39)-1),\"\")","v":{"$error":"#VALUE!"}},{"$f":"IF(OFFSET([1]DE100_7!$R$27,ROWS($R$27:R39)-1,COLUMNS($R$27:R39)-1)<>\"\",OFFSET([1]DE100_7!$R$27,ROWS($R$27:R39)-1,COLUMNS($R$27:R39)-1),\"\")","v":{"$error":"#VALUE!"}},{"$f":"IF(OFFSET([1]DE100_7!$S$27,ROWS($S$27:S39)-1,COLUMNS($S$27:S39)-1)<>\"\",OFFSET([1]DE100_7!$S$27,ROWS($S$27:S39)-1,COLUMNS($S$27:S39)-1),\"\")","v":{"$error":"#VALUE!"}},{"$f":"IF(OFFSET([1]DE100_7!$T$27,ROWS($T$27:T39)-1,COLUMNS($T$27:T39)-1)<>\"\",OFFSET([1]DE100_7!$T$27,ROWS($T$27:T39)-1,COLUMNS($T$27:T39)-1),\"\")","v":{"$error":"#VALUE!"}},{"$f":"IF(OFFSET([1]DE100_7!$U$27,ROWS($U$27:U39)-1,COLUMNS($U$27:U39)-1)<>\"\",OFFSET([1]DE100_7!$U$27,ROWS($U$27:U39)-1,COLUMNS($U$27:U39)-1),\"\")","v":{"$error":"#VALUE!"}},{"$f":"IF(OFFSET([1]DE100_7!$V$27,ROWS($V$27:V39)-1,COLUMNS($V$27:V39)-1)<>\"\",OFFSET([1]DE100_7!$V$27,ROWS($V$27:V39)-1,COLUMNS($V$27:V39)-1),\"\")","v":{"$error":"#VALUE!"}}]
[{"$f":"IF(OFFSET([1]DE100_7!$C$27,ROWS($C$27:C40)-1,COLUMNS($C$27:C40)-1)<>\"\",OFFSET([1]DE100_7!$C$27,ROWS($C$27:C40)-1,COLUMNS($C$27:C40)-1),\"\")","v":{"$error":"#VALUE!"}},{"$f":"IF(OFFSET([1]DE100_7!$D$27,ROWS($D$27:D40)-1,COLUMNS($D$27:D40)-1)<>\"\",OFFSET([1]DE100_7!$D$27,ROWS($D$27:D40)-1,COLUMNS($D$27:D40)-1),\"\")","v":{"$error":"#VALUE!"}},{"$f":"IF(OFFSET([1]DE100_7!$E$27,ROWS($E$27:E40)-1,COLUMNS($E$27:E40)-1)<>\"\",OFFSET([1]DE100_7!$E$27,ROWS($E$27:E40)-1,COLUMNS($E$27:E40)-1),\"\")","v":{"$error":"#VALUE!"}},{"$f":"IF(OFFSET([1]DE100_7!$F$27,ROWS($F$27:F40)-1,COLUMNS($F$27:F40)-1)<>\"\",OFFSET([1]DE100_7!$F$27,ROWS($F$27:F40)-1,COLUMNS($F$27:F40)-1),\"\")","v":{"$error":"#VALUE!"}},{"$f":"IF(OFFSET([1]DE100_7!$G$27,ROWS($G$27:G40)-1,COLUMNS($G$27:G40)-1)<>\"\",OFFSET([1]DE100_7!$G$27,ROWS($G$27:G40)-1,COLUMNS($G$27:G40)-1),\"\")","v":{"$error":"#VALUE!"}},{"$f":"IF(OFFSET([1]DE100_7!$H$27,ROWS($H$27:H40)-1,COLUMNS($H$27:H40)-1)<>\"\",OFFSET([1]DE100_7!$H$27,ROWS($H$27:H40)-1,COLUMNS($H$27:H40)-1),\"\")","v":{"$error":"#VALUE!"}},{"$f":"IF(OFFSET([1]DE100_7!$I$27,ROWS($I$27:I40)-1,COLUMNS($I$27:I40)-1)<>\"\",OFFSET([1]DE100_7!$I$27,ROWS($I$27:I40)-1,COLUMNS($I$27:I40)-1),\"\")","v":{"$error":"#VALUE!"}},{"$f":"IF(OFFSET([1]DE100_7!$J$27,ROWS($J$27:J40)-1,COLUMNS($J$27:J40)-1)<>\"\",OFFSET([1]DE100_7!$J$27,ROWS($J$27:J40)-1,COLUMNS($J$27:J40)-1),\"\")","v":{"$error":"#VALUE!"}},{"$f":"IF(OFFSET([1]DE100_7!$K$27,ROWS($K$27:K40)-1,COLUMNS($K$27:K40)-1)<>\"\",OFFSET([1]DE100_7!$K$27,ROWS($K$27:K40)-1,COLUMNS($K$27:K40)-1),\"\")","v":{"$error":"#VALUE!"}},{"$f":"IF(OFFSET([1]DE100_7!$L$27,ROWS($L$27:L40)-1,COLUMNS($L$27:L40)-1)<>\"\",OFFSET([1]DE100_7!$L$27,ROWS($L$27:L40)-1,COLUMNS($L$27:L40)-1),\"\")","v":{"$error":"#VALUE!"}},{"$f":"IF(OFFSET([1]DE100_7!$M$27,ROWS($M$27:M40)-1,COLUMNS($M$27:M40)-1)<>\"\",OFFSET([1]DE100_7!$M$27,ROWS($M$27:M40)-1,COLUMNS($M$27:M40)-1),\"\")","v":{"$error":"#VALUE!"}},{"$f":"IF(OFFSET([1]DE100_7!$N$27,ROWS($N$27:N40)-1,COLUMNS($N$27:N40)-1)<>\"\",OFFSET([1]DE100_7!$N$27,ROWS($N$27:N40)-1,COLUMNS($N$27:N40)-1),\"\")","v":{"$error":"#VALUE!"}},{"$f":"IF(OFFSET([1]DE100_7!$O$27,ROWS($O$27:O40)-1,COLUMNS($O$27:O40)-1)<>\"\",OFFSET([1]DE100_7!$O$27,ROWS($O$27:O40)-1,COLUMNS($O$27:O40)-1),\"\")","v":{"$error":"#VALUE!"}},{"$f":"IF(OFFSET([1]DE100_7!$P$27,ROWS($P$27:P40)-1,COLUMNS($P$27:P40)-1)<>\"\",OFFSET([1]DE100_7!$P$27,ROWS($P$27:P40)-1,COLUMNS($P$27:P40)-1),\"\")","v":{"$error":"#VALUE!"}},{"$f":"IF(OFFSET([1]DE100_7!$Q$27,ROWS($Q$27:Q40)-1,COLUMNS($Q$27:Q40)-1)<>\"\",OFFSET([1]DE100_7!$Q$27,ROWS($Q$27:Q40)-1,COLUMNS($Q$27:Q40)-1),\"\")","v":{"$error":"#VALUE!"}},{"$f":"IF(OFFSET([1]DE100_7!$R$27,ROWS($R$27:R40)-1,COLUMNS($R$27:R40)-1)<>\"\",OFFSET([1]DE100_7!$R$27,ROWS($R$27:R40)-1,COLUMNS($R$27:R40)-1),\"\")","v":{"$error":"#VALUE!"}},{"$f":"IF(OFFSET([1]DE100_7!$S$27,ROWS($S$27:S40)-1,COLUMNS($S$27:S40)-1)<>\"\",OFFSET([1]DE100_7!$S$27,ROWS($S$27:S40)-1,COLUMNS($S$27:S40)-1),\"\")","v":{"$error":"#VALUE!"}},{"$f":"IF(OFFSET([1]DE100_7!$T$27,ROWS($T$27:T40)-1,COLUMNS($T$27:T40)-1)<>\"\",OFFSET([1]DE100_7!$T$27,ROWS($T$27:T40)-1,COLUMNS($T$27:T40)-1),\"\")","v":{"$error":"#VALUE!"}},{"$f":"IF(OFFSET([1]DE100_7!$U$27,ROWS($U$27:U40)-1,COLUMNS($U$27:U40)-1)<>\"\",OFFSET([1]DE100_7!$U$27,ROWS($U$27:U40)-1,COLUMNS($U$27:U40)-1),\"\")","v":{"$error":"#VALUE!"}},{"$f":"IF(OFFSET([1]DE100_7!$V$27,ROWS($V$27:V40)-1,COLUMNS($V$27:V40)-1)<>\"\",OFFSET([1]DE100_7!$V$27,ROWS($V$27:V40)-1,COLUMNS($V$27:V40)-1),\"\")","v":{"$error":"#VALUE!"}}]
[{"$f":"IF(OFFSET([1]DE100_7!$C$27,ROWS($C$27:C41)-1,COLUMNS($C$27:C41)-1)<>\"\",OFFSET([1]DE100_7!$C$27,ROWS($C$27:C41)-1,COLUMNS($C$27:C41)-1),\"\")","v":{"$error":"#VALUE!"}},{"$f":"IF(OFFSET([1]DE100_7!$D$27,ROWS($D$27:D41)-1,COLUMNS($D$27:D41)-1)<>\"\",OFFSET([1]DE100_7!$D$27,ROWS($D$27:D41)-1,COLUMNS($D$27:D41)-1),\"\")","v":{"$error":"#VALUE!"}},{"$f":"IF(OFFSET([1]DE100_7!$E$27,ROWS($E$27:E41)-1,COLUMNS($E$27:E41)-1)<>\"\",OFFSET([1]DE100_7!$E$27,ROWS($E$27:E41)-1,COLUMNS($E$27:E41)-1),\"\")","v":{"$error":"#VALUE!"}},{"$f":"IF(OFFSET([1]DE100_7!$F$27,ROWS($F$27:F41)-1,COLUMNS($F$27:F41)-1)<>\"\",OFFSET([1]DE100_7!$F$27,ROWS($F$27:F41)-1,COLUMNS($F$27:F41)-1),\"\")","v":{"$error":"#VALUE!"}},{"$f":"IF(OFFSET([1]DE100_7!$G$27,ROWS($G$27:G41)-1,COLUMNS($G$27:G41)-1)<>\"\",OFFSET([1]DE100_7!$G$27,ROWS($G$27:G41)-1,COLUMNS($G$27:G41)-1),\"\")","v":{"$error":"#VALUE!"}},{"$f":"IF(OFFSET([1]DE100_7!$H$27,ROWS($H$27:H41)-1,COLUMNS($H$27:H41)-1)<>\"\",OFFSET([1]DE100_7!$H$27,ROWS($H$27:H41)-1,COLUMNS($H$27:H41)-1),\"\")","v":{"$error":"#VALUE!"}},{"$f":"IF(OFFSET([1]DE100_7!$I$27,ROWS($I$27:I41)-1,COLUMNS($I$27:I41)-1)<>\"\",OFFSET([1]DE100_7!$I$27,ROWS($I$27:I41)-1,COLUMNS($I$27:I41)-1),\"\")","v":{"$error":"#VALUE!"}},{"$f":"IF(OFFSET([1]DE100_7!$J$27,ROWS($J$27:J41)-1,COLUMNS($J$27:J41)-1)<>\"\",OFFSET([1]DE100_7!$J$27,ROWS($J$27:J41)-1,COLUMNS($J$27:J41)-1),\"\")","v":{"$error":"#VALUE!"}},{"$f":"IF(OFFSET([1]DE100_7!$K$27,ROWS($K$27:K41)-1,COLUMNS($K$27:K41)-1)<>\"\",OFFSET([1]DE100_7!$K$27,ROWS($K$27:K41)-1,COLUMNS($K$27:K41)-1),\"\")","v":{"$error":"#VALUE!"}},{"$f":"IF(OFFSET([1]DE100_7!$L$27,ROWS($L$27:L41)-1,COLUMNS($L$27:L41)-1)<>\"\",OFFSET([1]DE100_7!$L$27,ROWS($L$27:L41)-1,COLUMNS($L$27:L41)-1),\"\")","v":{"$error":"#VALUE!"}},{"$f":"IF(OFFSET([1]DE100_7!$M$27,ROWS($M$27:M41)-1,COLUMNS($M$27:M41)-1)<>\"\",OFFSET([1]DE100_7!$M$27,ROWS($M$27:M41)-1,COLUMNS($M$27:M41)-1),\"\")","v":{"$error":"#VALUE!"}},{"$f":"IF(OFFSET([1]DE100_7!$N$27,ROWS($N$27:N41)-1,COLUMNS($N$27:N41)-1)<>\"\",OFFSET([1]DE100_7!$N$27,ROWS($N$27:N41)-1,COLUMNS($N$27:N41)-1),\"\")","v":{"$error":"#VALUE!"}},{"$f":"IF(OFFSET([1]DE100_7!$O$27,ROWS($O$27:O41)-1,COLUMNS($O$27:O41)-1)<>\"\",OFFSET([1]DE100_7!$O$27,ROWS($O$27:O41)-1,COLUMNS($O$27:O41)-1),\"\")","v":{"$error":"#VALUE!"}},{"$f":"IF(OFFSET([1]DE100_7!$P$27,ROWS($P$27:P41)-1,COLUMNS($P$27:P41)-1)<>\"\",OFFSET([1]DE100_7!$P$27,ROWS($P$27:P41)-1,COLUMNS($P$27:P41)-1),\"\")","v":{"$error":"#VALUE!"}},{"$f":"IF(OFFSET([1]DE100_7!$Q$27,ROWS($Q$27:Q41)-1,COLUMNS($Q$27:Q41)-1)<>\"\",OFFSET([1]DE100_7!$Q$27,ROWS($Q$27:Q41)-1,COLUMNS($Q$27:Q41)-1),\"\")","v":{"$error":"#VALUE!"}},{"$f":"IF(OFFSET([1]DE100_7!$R$27,ROWS($R$27:R41)-1,COLUMNS($R$27:R41)-1)<>\"\",OFFSET([1]DE100_7!$R$27,ROWS($R$27:R41)-1,COLUMNS($R$27:R41)-1),\"\")","v":{"$error":"#VALUE!"}},{"$f":"IF(OFFSET([1]DE100_7!$S$27,ROWS($S$27:S41)-1,COLUMNS($S$27:S41)-1)<>\"\",OFFSET([1]DE100_7!$S$27,ROWS($S$27:S41)-1,COLUMNS($S$27:S41)-1),\"\")","v":{"$error":"#VALUE!"}},{"$f":"IF(OFFSET([1]DE100_7!$T$27,ROWS($T$27:T41)-1,COLUMNS($T$27:T41)-1)<>\"\",OFFSET([1]DE100_7!$T$27,ROWS($T$27:T41)-1,COLUMNS($T$27:T41)-1),\"\")","v":{"$error":"#VALUE!"}},{"$f":"IF(OFFSET([1]DE100_7!$U$27,ROWS($U$27:U41)-1,COLUMNS($U$27:U41)-1)<>\"\",OFFSET([1]DE100_7!$U$27,ROWS($U$27:U41)-1,COLUMNS($U$27:U41)-1),\"\")","v":{"$error":"#VALUE!"}},{"$f":"IF(OFFSET([1]DE100_7!$V$27,ROWS($V$27:V41)-1,COLUMNS($V$27:V41)-1)<>\"\",OFFSET([1]DE100_7!$V$27,ROWS($V$27:V41)-1,COLUMNS($V$27:V41)-1),\"\")","v":{"$error":"#VALUE!"}}]
[{"$f":"IF(OFFSET([1]DE100_7!$C$27,ROWS($C$27:C42)-1,COLUMNS($C$27:C42)-1)<>\"\",OFFSET([1]DE100_7!$C$27,ROWS($C$27:C42)-1,COLUMNS($C$27:C42)-1),\"\")","v":{"$error":"#VALUE!"}},{"$f":"IF(OFFSET([1]DE100_7!$D$27,ROWS($D$27:D42)-1,COLUMNS($D$27:D42)-1)<>\"\",OFFSET([1]DE100_7!$D$27,ROWS($D$27:D42)-1,COLUMNS($D$27:D42)-1),\"\")","v":{"$error":"#VALUE!"}},{"$f":"IF(OFFSET([1]DE100_7!$E$27,ROWS($E$27:E42)-1,COLUMNS($E$27:E42)-1)<>\"\",OFFSET([1]DE100_7!$E$27,ROWS($E$27:E42)-1,COLUMNS($E$27:E42)-1),\"\")","v":{"$error":"#VALUE!"}},{"$f":"IF(OFFSET([1]DE100_7!$F$27,ROWS($F$27:F42)-1,COLUMNS($F$27:F42)-1)<>\"\",OFFSET([1]DE100_7!$F$27,ROWS($F$27:F42)-1,COLUMNS($F$27:F42)-1),\"\")","v":{"$error":"#VALUE!"}},{"$f":"IF(OFFSET([1]DE100_7!$G$27,ROWS($G$27:G42)-1,COLUMNS($G$27:G42)-1)<>\"\",OFFSET([1]DE100_7!$G$27,ROWS($G$27:G42)-1,COLUMNS($G$27:G42)-1),\"\")","v":{"$error":"#VALUE!"}},{"$f":"IF(OFFSET([1]DE100_7!$H$27,ROWS($H$27:H42)-1,COLUMNS($H$27:H42)-1)<>\"\",OFFSET([1]DE100_7!$H$27,ROWS($H$27:H42)-1,COLUMNS($H$27:H42)-1),\"\")","v":{"$error":"#VALUE!"}},{"$f":"IF(OFFSET([1]DE100_7!$I$27,ROWS($I$27:I42)-1,COLUMNS($I$27:I42)-1)<>\"\",OFFSET([1]DE100_7!$I$27,ROWS($I$27:I42)-1,COLUMNS($I$27:I42)-1),\"\")","v":{"$error":"#VALUE!"}},{"$f":"IF(OFFSET([1]DE100_7!$J$27,ROWS($J$27:J42)-1,COLUMNS($J$27:J42)-1)<>\"\",OFFSET([1]DE100_7!$J$27,ROWS($J$27:J42)-1,COLUMNS($J$27:J42)-1),\"\")","v":{"$error":"#VALUE!"}},{"$f":"IF(OFFSET([1]DE100_7!$K$27,ROWS($K$27:K42)-1,COLUMNS($K$27:K42)-1)<>\"\",OFFSET([1]DE100_7!$K$27,ROWS($K$27:K42)-1,COLUMNS($K$27:K42)-1),\"\")","v":{"$error":"#VALUE!"}},{"$f":"IF(OFFSET([1]DE100_7!$L$27,ROWS($L$27:L42)-1,COLUMNS($L$27:L42)-1)<>\"\",OFFSET([1]DE100_7!$L$27,ROWS($L$27:L42)-1,COLUMNS($L$27:L42)-1),\"\")","v":{"$error":"#VALUE!"}},{"$f":"IF(OFFSET([1]DE100_7!$M$27,ROWS($M$27:M42)-1,COLUMNS($M$27:M42)-1)<>\"\",OFFSET([1]DE100_7!$M$27,ROWS($M$27:M42)-1,COLUMNS($M$27:M42)-1),\"\")","v":{"$error":"#VALUE!"}},{"$f":"IF(OFFSET([1]DE100_7!$N$27,ROWS($N$27:N42)-1,COLUMNS($N$27:N42)-1)<>\"\",OFFSET([1]DE100_7!$N$27,ROWS($N$27:N42)-1,COLUMNS($N$27:N42)-1),\"\")","v":{"$error":"#VALUE!"}},{"$f":"IF(OFFSET([1]DE100_7!$O$27,ROWS($O$27:O42)-1,COLUMNS($O$27:O42)-1)<>\"\",OFFSET([1]DE100_7!$O$27,ROWS($O$27:O42)-1,COLUMNS($O$27:O42)-1),\"\")","v":{"$error":"#VALUE!"}},{"$f":"IF(OFFSET([1]DE100_7!$P$27,ROWS($P$27:P42)-1,COLUMNS($P$27:P42)-1)<>\"\",OFFSET([1]DE100_7!$P$27,ROWS($P$27:P42)-1,COLUMNS($P$27:P42)-1),\"\")","v":{"$error":"#VALUE!"}},{"$f":"IF(OFFSET([1]DE100_7!$Q$27,ROWS($Q$27:Q42)-1,COLUMNS($Q$27:Q42)-1)<>\"\",OFFSET([1]DE100_7!$Q$27,ROWS($Q$27:Q42)-1,COLUMNS($Q$27:Q42)-1),\"\")","v":{"$error":"#VALUE!"}},{"$f":"IF(OFFSET([1]DE100_7!$R$27,ROWS($R$27:R42)-1,COLUMNS($R$27:R42)-1)<>\"\",OFFSET([1]DE100_7!$R$27,ROWS($R$27:R42)-1,COLUMNS($R$27:R42)-1),\"\")","v":{"$error":"#VALUE!"}},{"$f":"IF(OFFSET([1]DE100_7!$S$27,ROWS($S$27:S42)-1,COLUMNS($S$27:S42)-1)<>\"\",OFFSET([1]DE100_7!$S$27,ROWS($S$27:S42)-1,COLUMNS($S$27:S42)-1),\"\")","v":{"$error":"#VALUE!"}},{"$f":"IF(OFFSET([1]DE100_7!$T$27,ROWS($T$27:T42)-1,COLUMNS($T$27:T42)-1)<>\"\",OFFSET([1]DE100_7!$T$27,ROWS($T$27:T42)-1,COLUMNS($T$27:T42)-1),\"\")","v":{"$error":"#VALUE!"}},{"$f":"IF(OFFSET([1]DE100_7!$U$27,ROWS($U$27:U42)-1,COLUMNS($U$27:U42)-1)<>\"\",OFFSET([1]DE100_7!$U$27,ROWS($U$27:U42)-1,COLUMNS($U$27:U42)-1),\"\")","v":{"$error":"#VALUE!"}},{"$f":"IF(OFFSET([1]DE100_7!$V$27,ROWS($V$27:V42)-1,COLUMNS($V$27:V42)-1)<>\"\",OFFSET([1]DE100_7!$V$27,ROWS($V$27:V42)-1,COLUMNS($V$27:V42)-1),\"\")","v":{"$error":"#VALUE!"}}]
[{"$f":"IF(OFFSET([1]DE100_7!$C$27,ROWS($C$27:C43)-1,COLUMNS($C$27:C43)-1)<>\"\",OFFSET([1]DE100_7!$C$27,ROWS($C$27:C43)-1,COLUMNS($C$27:C43)-1),\"\")","v":{"$error":"#VALUE!"}},null,null,null,{"$f":"IF(OFFSET([1]DE100_7!$G$27,ROWS($G$27:G43)-1,COLUMNS($G$27:G43)-1)<>\"\",OFFSET([1]DE100_7!$G$27,ROWS($G$27:G43)-1,COLUMNS($G$27:G43)-1),\"\")","v":{"$error":"#VALUE!"}},{"$f":"IF(OFFSET([1]DE100_7!$H$27,ROWS($H$27:H43)-1,COLUMNS($H$27:H43)-1)<>\"\",OFFSET([1]DE100_7!$H$27,ROWS($H$27:H43)-1,COLUMNS($H$27:H43)-1),\"\")","v":{"$error":"#VALUE!"}},{"$f":"IF(OFFSET([1]DE100_7!$I$27,ROWS($I$27:I43)-1,COLUMNS($I$27:I43)-1)<>\"\",OFFSET([1]DE100_7!$I$27,ROWS($I$27:I43)-1,COLUMNS($I$27:I43)-1),\"\")","v":{"$error":"#VALUE!"}},{"$f":"IF(OFFSET([1]DE100_7!$J$27,ROWS($J$27:J43)-1,COLUMNS($J$27:J43)-1)<>\"\",OFFSET([1]DE100_7!$J$27,ROWS($J$27:J43)-1,COLUMNS($J$27:J43)-1),\"\")","v":{"$error":"#VALUE!"}},{"$f":"IF(OFFSET([1]DE100_7!$K$27,ROWS($K$27:K43)-1,COLUMNS($K$27:K43)-1)<>\"\",OFFSET([1]DE100_7!$K$27,ROWS($K$27:K43)-1,COLUMNS($K$27:K43)-1),\"\")","v":{"$error":"#VALUE!"}},{"$f":"IF(OFFSET([1]DE100_7!$L$27,ROWS($L$27:L43)-1,COLUMNS($L$27:L43)-1)<>\"\",OFFSET([1]DE100_7!$L$27,ROWS($L$27:L43)-1,COLUMNS($L$27:L43)-1),\"\")","v":{"$error":"#VALUE!"}},{"$f":"IF(OFFSET([1]DE100_7!$M$27,ROWS($M$27:M43)-1,COLUMNS($M$27:M43)-1)<>\"\",OFFSET([1]DE100_7!$M$27,ROWS($M$27:M43)-1,COLUMNS($M$27:M43)-1),\"\")","v":{"$error":"#VALUE!"}},{"$f":"IF(OFFSET([1]DE100_7!$N$27,ROWS($N$27:N43)-1,COLUMNS($N$27:N43)-1)<>\"\",OFFSET([1]DE100_7!$N$27,ROWS($N$27:N43)-1,COLUMNS($N$27:N43)-1),\"\")","v":{"$error":"#VALUE!"}},{"$f":"IF(OFFSET([1]DE100_7!$O$27,ROWS($O$27:O43)-1,COLUMNS($O$27:O43)-1)<>\"\",OFFSET([1]DE100_7!$O$27,ROWS($O$27:O43)-1,COLUMNS($O$27:O43)-1),\"\")","v":{"$error":"#VALUE!"}},{"$f":"IF(OFFSET([1]DE100_7!$P$27,ROWS($P$27:P43)-1,COLUMNS($P$27:P43)-1)<>\"\",OFFSET([1]DE100_7!$P$27,ROWS($P$27:P43)-1,COLUMNS($P$27:P43)-1),\"\")","v":{"$error":"#VALUE!"}},{"$f":"IF(OFFSET([1]DE100_7!$Q$27,ROWS($Q$27:Q43)-1,COLUMNS($Q$27:Q43)-1)<>\"\",OFFSET([1]DE100_7!$Q$27,ROWS($Q$27:Q43)-1,COLUMNS($Q$27:Q43)-1),\"\")","v":{"$error":"#VALUE!"}},{"$f":"IF(OFFSET([1]DE100_7!$R$27,ROWS($R$27:R43)-1,COLUMNS($R$27:R43)-1)<>\"\",OFFSET([1]DE100_7!$R$27,ROWS($R$27:R43)-1,COLUMNS($R$27:R43)-1),\"\")","v":{"$error":"#VALUE!"}},{"$f":"IF(OFFSET([1]DE100_7!$S$27,ROWS($S$27:S43)-1,COLUMNS($S$27:S43)-1)<>\"\",OFFSET([1]DE100_7!$S$27,ROWS($S$27:S43)-1,COLUMNS($S$27:S43)-1),\"\")","v":{"$error":"#VALUE!"}},{"$f":"IF(OFFSET([1]DE100_7!$T$27,ROWS($T$27:T43)-1,COLUMNS($T$27:T43)-1)<>\"\",OFFSET([1]DE100_7!$T$27,ROWS($T$27:T43)-1,COLUMNS($T$27:T43)-1),\"\")","v":{"$error":"#VALUE!"}},{"$f":"IF(OFFSET([1]DE100_7!$U$27,ROWS($U$27:U43)-1,COLUMNS($U$27:U43)-1)<>\"\",OFFSET([1]DE100_7!$U$27,ROWS($U$27:U43)-1,COLUMNS($U$27:U43)-1),\"\")","v":{"$error":"#VALUE!"}},{"$f":"IF(OFFSET([1]DE100_7!$V$27,ROWS($V$27:V43)-1,COLUMNS($V$27:V43)-1)<>\"\",OFFSET([1]DE100_7!$V$27,ROWS($V$27:V43)-1,COLUMNS($V$27:V43)-1),\"\")","v":{"$error":"#VALUE!"}}]
[{"$f":"IF(OFFSET([1]DE100_7!$C$27,ROWS($C$27:C44)-1,COLUMNS($C$27:C44)-1)<>\"\",OFFSET([1]DE100_7!$C$27,ROWS($C$27:C44)-1,COLUMNS($C$27:C44)-1),\"\")","v":{"$error":"#VALUE!"}},{"$f":"IF(OFFSET([1]DE100_7!$D$27,ROWS($D$27:D44)-1,COLUMNS($D$27:D44)-1)<>\"\",OFFSET([1]DE100_7!$D$27,ROWS($D$27:D44)-1,COLUMNS($D$27:D44)-1),\"\")","v":{"$error":"#VALUE!"}},{"$f":"IF(OFFSET([1]DE100_7!$E$27,ROWS($E$27:E44)-1,COLUMNS($E$27:E44)-1)<>\"\",OFFSET([1]DE100_7!$E$27,ROWS($E$27:E44)-1,COLUMNS($E$27:E44)-1),\"\")","v":{"$error":"#VALUE!"}},{"$f":"IF(OFFSET([1]DE100_7!$F$27,ROWS($F$27:F44)-1,COLUMNS($F$27:F44)-1)<>\"\",OFFSET([1]DE100_7!$F$27,ROWS($F$27:F44)-1,COLUMNS($F$27:F44)-1),\"\")","v":{"$error":"#VALUE!"}},{"$f":"IF(OFFSET([1]DE100_7!$G$27,ROWS($G$27:G44)-1,COLUMNS($G$27:G44)-1)<>\"\",OFFSET([1]DE100_7!$G$27,ROWS($G$27:G44)-1,COLUMNS($G$27:G44)-1),\"\")","v":{"$error":"#VALUE!"}},{"$f":"IF(OFFSET([1]DE100_7!$H$27,ROWS($H$27:H44)-1,COLUMNS($H$27:H44)-1)<>\"\",OFFSET([1]DE100_7!$H$27,ROWS($H$27:H44)-1,COLUMNS($H$27:H44)-1),\"\")","v":{"$error":"#VALUE!"}},{"$f":"IF(OFFSET([1]DE100_7!$I$27,ROWS($I$27:I44)-1,COLUMNS($I$27:I44)-1)<>\"\",OFFSET([1]DE100_7!$I$27,ROWS($I$27:I44)-1,COLUMNS($I$27:I44)-1),\"\")","v":{"$error":"#VALUE!"}},{"$f":"IF(OFFSET([1]DE100_7!$J$27,ROWS($J$27:J44)-1,COLUMNS($J$27:J44)-1)<>\"\",OFFSET([1]DE100_7!$J$27,ROWS($J$27:J44)-1,COLUMNS($J$27:J44)-1),\"\")","v":{"$error":"#VALUE!"}},{"$f":"IF(OFFSET([1]DE100_7!$K$27,ROWS($K$27:K44)-1,COLUMNS($K$27:K44)-1)<>\"\",OFFSET([1]DE100_7!$K$27,ROWS($K$27:K44)-1,COLUMNS($K$27:K44)-1),\"\")","v":{"$error":"#VALUE!"}},{"$f":"IF(OFFSET([1]DE100_7!$L$27,ROWS($L$27:L44)-1,COLUMNS($L$27:L44)-1)<>\"\",OFFSET([1]DE100_7!$L$27,ROWS($L$27:L44)-1,COLUMNS($L$27:L44)-1),\"\")","v":{"$error":"#VALUE!"}},{"$f":"IF(OFFSET([1]DE100_7!$M$27,ROWS($M$27:M44)-1,COLUMNS($M$27:M44)-1)<>\"\",OFFSET([1]DE100_7!$M$27,ROWS($M$27:M44)-1,COLUMNS($M$27:M44)-1),\"\")","v":{"$error":"#VALUE!"}},{"$f":"IF(OFFSET([1]DE100_7!$N$27,ROWS($N$27:N44)-1,COLUMNS($N$27:N44)-1)<>\"\",OFFSET([1]DE100_7!$N$27,ROWS($N$27:N44)-1,COLUMNS($N$27:N44)-1),\"\")","v":{"$error":"#VALUE!"}},{"$f":"IF(OFFSET([1]DE100_7!$O$27,ROWS($O$27:O44)-1,COLUMNS($O$27:O44)-1)<>\"\",OFFSET([1]DE100_7!$O$27,ROWS($O$27:O44)-1,COLUMNS($O$27:O44)-1),\"\")","v":{"$error":"#VALUE!"}},{"$f":"IF(OFFSET([1]DE100_7!$P$27,ROWS($P$27:P44)-1,COLUMNS($P$27:P44)-1)<>\"\",OFFSET([1]DE100_7!$P$27,ROWS($P$27:P44)-1,COLUMNS($P$27:P44)-1),\"\")","v":{"$error":"#VALUE!"}},{"$f":"IF(OFFSET([1]DE100_7!$Q$27,ROWS($Q$27:Q44)-1,COLUMNS($Q$27:Q44)-1)<>\"\",OFFSET([1]DE100_7!$Q$27,ROWS($Q$27:Q44)-1,COLUMNS($Q$27:Q44)-1),\"\")","v":{"$error":"#VALUE!"}},{"$f":"IF(OFFSET([1]DE100_7!$R$27,ROWS($R$27:R44)-1,COLUMNS($R$27:R44)-1)<>\"\",OFFSET([1]DE100_7!$R$27,ROWS($R$27:R44)-1,COLUMNS($R$27:R44)-1),\"\")","v":{"$error":"#VALUE!"}},{"$f":"IF(OFFSET([1]DE100_7!$S$27,ROWS($S$27:S44)-1,COLUMNS($S$27:S44)-1)<>\"\",OFFSET([1]DE100_7!$S$27,ROWS($S$27:S44)-1,COLUMNS($S$27:S44)-1),\"\")","v":{"$error":"#VALUE!"}},{"$f":"IF(OFFSET([1]DE100_7!$T$27,ROWS($T$27:T44)-1,COLUMNS($T$27:T44)-1)<>\"\",OFFSET([1]DE100_7!$T$27,ROWS($T$27:T44)-1,COLUMNS($T$27:T44)-1),\"\")","v":{"$error":"#VALUE!"}},{"$f":"IF(OFFSET([1]DE100_7!$U$27,ROWS($U$27:U44)-1,COLUMNS($U$27:U44)-1)<>\"\",OFFSET([1]DE100_7!$U$27,ROWS($U$27:U44)-1,COLUMNS($U$27:U44)-1),\"\")","v":{"$error":"#VALUE!"}},{"$f":"IF(OFFSET([1]DE100_7!$V$27,ROWS($V$27:V44)-1,COLUMNS($V$27:V44)-1)<>\"\",OFFSET([1]DE100_7!$V$27,ROWS($V$27:V44)-1,COLUMNS($V$27:V44)-1),\"\")","v":{"$error":"#VALUE!"}}]
[{"$f":"IF(OFFSET([1]DE100_7!$C$27,ROWS($C$27:C45)-1,COLUMNS($C$27:C45)-1)<>\"\",OFFSET([1]DE100_7!$C$27,ROWS($C$27:C45)-1,COLUMNS($C$27:C45)-1),\"\")","v":{"$error":"#VALUE!"}},null,null,null,{"$f":"IF(OFFSET([1]DE100_7!$G$27,ROWS($G$27:G45)-1,COLUMNS($G$27:G45)-1)<>\"\",OFFSET([1]DE100_7!$G$27,ROWS($G$27:G45)-1,COLUMNS($G$27:G45)-1),\"\")","v":{"$error":"#VALUE!"}},{"$f":"IF(OFFSET([1]DE100_7!$H$27,ROWS($H$27:H45)-1,COLUMNS($H$27:H45)-1)<>\"\",OFFSET([1]DE100_7!$H$27,ROWS($H$27:H45)-1,COLUMNS($H$27:H45)-1),\"\")","v":{"$error":"#VALUE!"}},{"$f":"IF(OFFSET([1]DE100_7!$I$27,ROWS($I$27:I45)-1,COLUMNS($I$27:I45)-1)<>\"\",OFFSET([1]DE100_7!$I$27,ROWS($I$27:I45)-1,COLUMNS($I$27:I45)-1),\"\")","v":{"$error":"#VALUE!"}},{"$f":"IF(OFFSET([1]DE100_7!$J$27,ROWS($J$27:J45)-1,COLUMNS($J$27:J45)-1)<>\"\",OFFSET([1]DE100_7!$J$27,ROWS($J$27:J45)-1,COLUMNS($J$27:J45)-1),\"\")","v":{"$error":"#VALUE!"}},{"$f":"IF(OFFSET([1]DE100_7!$K$27,ROWS($K$27:K45)-1,COLUMNS($K$27:K45)-1)<>\"\",OFFSET([1]DE100_7!$K$27,ROWS($K$27:K45)-1,COLUMNS($K$27:K45)-1),\"\")","v":{"$error":"#VALUE!"}},{"$f":"IF(OFFSET([1]DE100_7!$L$27,ROWS($L$27:L45)-1,COLUMNS($L$27:L45)-1)<>\"\",OFFSET([1]DE100_7!$L$27,ROWS($L$27:L45)-1,COLUMNS($L$27:L45)-1),\"\")","v":{"$error":"#VALUE!"}},{"$f":"IF(OFFSET([1]DE100_7!$M$27,ROWS($M$27:M45)-1,COLUMNS($M$27:M45)-1)<>\"\",OFFSET([1]DE100_7!$M$27,ROWS($M$27:M45)-1,COLUMNS($M$27:M45)-1),\"\")","v":{"$error":"#VALUE!"}},{"$f":"IF(OFFSET([1]DE100_7!$N$27,ROWS($N$27:N45)-1,COLUMNS($N$27:N45)-1)<>\"\",OFFSET([1]DE100_7!$N$27,ROWS($N$27:N45)-1,COLUMNS($N$27:N45)-1),\"\")","v":{"$error":"#VALUE!"}},{"$f":"IF(OFFSET([1]DE100_7!$O$27,ROWS($O$27:O45)-1,COLUMNS($O$27:O45)-1)<>\"\",OFFSET([1]DE100_7!$O$27,ROWS($O$27:O45)-1,COLUMNS($O$27:O45)-1),\"\")","v":{"$error":"#VALUE!"}},{"$f":"IF(OFFSET([1]DE100_7!$P$27,ROWS($P$27:P45)-1,COLUMNS($P$27:P45)-1)<>\"\",OFFSET([1]DE100_7!$P$27,ROWS($P$27:P45)-1,COLUMNS($P$27:P45)-1),\"\")","v":{"$error":"#VALUE!"}},{"$f":"IF(OFFSET([1]DE100_7!$Q$27,ROWS($Q$27:Q45)-1,COLUMNS($Q$27:Q45)-1)<>\"\",OFFSET([1]DE100_7!$Q$27,ROWS($Q$27:Q45)-1,COLUMNS($Q$27:Q45)-1),\"\")","v":{"$error":"#VALUE!"}},{"$f":"IF(OFFSET([1]DE100_7!$R$27,ROWS($R$27:R45)-1,COLUMNS($R$27:R45)-1)<>\"\",OFFSET([1]DE100_7!$R$27,ROWS($R$27:R45)-1,COLUMNS($R$27:R45)-1),\"\")","v":{"$error":"#VALUE!"}},{"$f":"IF(OFFSET([1]DE100_7!$S$27,ROWS($S$27:S45)-1,COLUMNS($S$27:S45)-1)<>\"\",OFFSET([1]DE100_7!$S$27,ROWS($S$27:S45)-1,COLUMNS($S$27:S45)-1),\"\")","v":{"$error":"#VALUE!"}},{"$f":"IF(OFFSET([1]DE100_7!$T$27,ROWS($T$27:T45)-1,COLUMNS($T$27:T45)-1)<>\"\",OFFSET([1]DE100_7!$T$27,ROWS($T$27:T45)-1,COLUMNS($T$27:T45)-1),\"\")","v":{"$error":"#VALUE!"}},{"$f":"IF(OFFSET([1]DE100_7!$U$27,ROWS($U$27:U45)-1,COLUMNS($U$27:U45)-1)<>\"\",OFFSET([1]DE100_7!$U$27,ROWS($U$27:U45)-1,COLUMNS($U$27:U45)-1),\"\")","v":{"$error":"#VALUE!"}},{"$f":"IF(OFFSET([1]DE100_7!$V$27,ROWS($V$27:V45)-1,COLUMNS($V$27:V45)-1)<>\"\",OFFSET([1]DE100_7!$V$27,ROWS($V$27:V45)-1,COLUMNS($V$27:V45)-1),\"\")","v":{"$error":"#VALUE!"}}]
[{"$f":"IF(OFFSET([1]DE100_7!$C$27,ROWS($C$27:C46)-1,COLUMNS($C$27:C46)-1)<>\"\",OFFSET([1]DE100_7!$C$27,ROWS($C$27:C46)-1,COLUMNS($C$27:C46)-1),\"\")","v":{"$error":"#VALUE!"}},{"$f":"IF(OFFSET([1]DE100_7!$D$27,ROWS($D$27:D46)-1,COLUMNS($D$27:D46)-1)<>\"\",OFFSET([1]DE100_7!$D$27,ROWS($D$27:D46)-1,COLUMNS($D$27:D46)-1),\"\")","v":{"$error":"#VALUE!"}},{"$f":"IF(OFFSET([1]DE100_7!$E$27,ROWS($E$27:E46)-1,COLUMNS($E$27:E46)-1)<>\"\",OFFSET([1]DE100_7!$E$27,ROWS($E$27:E46)-1,COLUMNS($E$27:E46)-1),\"\")","v":{"$error":"#VALUE!"}},{"$f":"IF(OFFSET([1]DE100_7!$F$27,ROWS($F$27:F46)-1,COLUMNS($F$27:F46)-1)<>\"\",OFFSET([1]DE100_7!$F$27,ROWS($F$27:F46)-1,COLUMNS($F$27:F46)-1),\"\")","v":{"$error":"#VALUE!"}},{"$f":"IF(OFFSET([1]DE100_7!$G$27,ROWS($G$27:G46)-1,COLUMNS($G$27:G46)-1)<>\"\",OFFSET([1]DE100_7!$G$27,ROWS($G$27:G46)-1,COLUMNS($G$27:G46)-1),\"\")","v":{"$error":"#VALUE!"}},{"$f":"IF(OFFSET([1]DE100_7!$H$27,ROWS($H$27:H46)-1,COLUMNS($H$27:H46)-1)<>\"\",OFFSET([1]DE100_7!$H$27,ROWS($H$27:H46)-1,COLUMNS($H$27:H46)-1),\"\")","v":{"$error":"#VALUE!"}},{"$f":"IF(OFFSET([1]DE100_7!$I$27,ROWS($I$27:I46)-1,COLUMNS($I$27:I46)-1)<>\"\",OFFSET([1]DE100_7!$I$27,ROWS($I$27:I46)-1,COLUMNS($I$27:I46)-1),\"\")","v":{"$error":"#VALUE!"}},{"$f":"IF(OFFSET([1]DE100_7!$J$27,ROWS($J$27:J46)-1,COLUMNS($J$27:J46)-1)<>\"\",OFFSET([1]DE100_7!$J$27,ROWS($J$27:J46)-1,COLUMNS($J$27:J46)-1),\"\")","v":{"$error":"#VALUE!"}},{"$f":"IF(OFFSET([1]DE100_7!$K$27,ROWS($K$27:K46)-1,COLUMNS($K$27:K46)-1)<>\"\",OFFSET([1]DE100_7!$K$27,ROWS($K$27:K46)-1,COLUMNS($K$27:K46)-1),\"\")","v":{"$error":"#VALUE!"}},{"$f":"IF(OFFSET([1]DE100_7!$L$27,ROWS($L$27:L46)-1,COLUMNS($L$27:L46)-1)<>\"\",OFFSET([1]DE100_7!$L$27,ROWS($L$27:L46)-1,COLUMNS($L$27:L46)-1),\"\")","v":{"$error":"#VALUE!"}},{"$f":"IF(OFFSET([1]DE100_7!$M$27,ROWS($M$27:M46)-1,COLUMNS($M$27:M46)-1)<>\"\",OFFSET([1]DE100_7!$M$27,ROWS($M$27:M46)-1,COLUMNS($M$27:M46)-1),\"\")","v":{"$error":"#VALUE!"}},{"$f":"IF(OFFSET([1]DE100_7!$N$27,ROWS($N$27:N46)-1,COLUMNS($N$27:N46)-1)<>\"\",OFFSET([1]DE100_7!$N$27,ROWS($N$27:N46)-1,COLUMNS($N$27:N46)-1),\"\")","v":{"$error":"#VALUE!"}},{"$f":"IF(OFFSET([1]DE100_7!$O$27,ROWS($O$27:O46)-1,COLUMNS($O$27:O46)-1)<>\"\",OFFSET([1]DE100_7!$O$27,ROWS($O$27:O46)-1,COLUMNS($O$27:O46)-1),\"\")","v":{"$error":"#VALUE!"}},{"$f":"IF(OFFSET([1]DE100_7!$P$27,ROWS($P$27:P46)-1,COLUMNS($P$27:P46)-1)<>\"\",OFFSET([1]DE100_7!$P$27,ROWS($P$27:P46)-1,COLUMNS($P$27:P46)-1),\"\")","v":{"$error":"#VALUE!"}},{"$f":"IF(OFFSET([1]DE100_7!$Q$27,ROWS($Q$27:Q46)-1,COLUMNS($Q$27:Q46)-1)<>\"\",OFFSET([1]DE100_7!$Q$27,ROWS($Q$27:Q46)-1,COLUMNS($Q$27:Q46)-1),\"\")","v":{"$error":"#VALUE!"}},{"$f":"IF(OFFSET([1]DE100_7!$R$27,ROWS($R$27:R46)-1,COLUMNS($R$27:R46)-1)<>\"\",OFFSET([1]DE100_7!$R$27,ROWS($R$27:R46)-1,COLUMNS($R$27:R46)-1),\"\")","v":{"$error":"#VALUE!"}},{"$f":"IF(OFFSET([1]DE100_7!$S$27,ROWS($S$27:S46)-1,COLUMNS($S$27:S46)-1)<>\"\",OFFSET([1]DE100_7!$S$27,ROWS($S$27:S46)-1,COLUMNS($S$27:S46)-1),\"\")","v":{"$error":"#VALUE!"}},{"$f":"IF(OFFSET([1]DE100_7!$T$27,ROWS($T$27:T46)-1,COLUMNS($T$27:T46)-1)<>\"\",OFFSET([1]DE100_7!$T$27,ROWS($T$27:T46)-1,COLUMNS($T$27:T46)-1),\"\")","v":{"$error":"#VALUE!"}},{"$f":"IF(OFFSET([1]DE100_7!$U$27,ROWS($U$27:U46)-1,COLUMNS($U$27:U46)-1)<>\"\",OFFSET([1]DE100_7!$U$27,ROWS($U$27:U46)-1,COLUMNS($U$27:U46)-1),\"\")","v":{"$error":"#VALUE!"}},{"$f":"IF(OFFSET([1]DE100_7!$V$27,ROWS($V$27:V46)-1,COLUMNS($V$27:V46)-1)<>\"\",OFFSET([1]DE100_7!$V$27,ROWS($V$27:V46)-1,COLUMNS($V$27:V46)-1),\"\")","v":{"$error":"#VALUE!"}}]
[{"$f":"IF(OFFSET([1]DE100_7!$C$27,ROWS($C$27:C47)-1,COLUMNS($C$27:C47)-1)<>\"\",OFFSET([1]DE100_7!$C$27,ROWS($C$27:C47)-1,COLUMNS($C$27:C47)-1),\"\")","v":{"$error":"#VALUE!"}},{"$f":"IF(OFFSET([1]DE100_7!$D$27,ROWS($D$27:D47)-1,COLUMNS($D$27:D47)-1)<>\"\",OFFSET([1]DE100_7!$D$27,ROWS($D$27:D47)-1,COLUMNS($D$27:D47)-1),\"\")","v":{"$error":"#VALUE!"}},{"$f":"IF(OFFSET([1]DE100_7!$E$27,ROWS($E$27:E47)-1,COLUMNS($E$27:E47)-1)<>\"\",OFFSET([1]DE100_7!$E$27,ROWS($E$27:E47)-1,COLUMNS($E$27:E47)-1),\"\")","v":{"$error":"#VALUE!"}},{"$f":"IF(OFFSET([1]DE100_7!$F$27,ROWS($F$27:F47)-1,COLUMNS($F$27:F47)-1)<>\"\",OFFSET([1]DE100_7!$F$27,ROWS($F$27:F47)-1,COLUMNS($F$27:F47)-1),\"\")","v":{"$error":"#VALUE!"}},{"$f":"IF(OFFSET([1]DE100_7!$G$27,ROWS($G$27:G47)-1,COLUMNS($G$27:G47)-1)<>\"\",OFFSET([1]DE100_7!$G$27,ROWS($G$27:G47)-1,COLUMNS($G$27:G47)-1),\"\")","v":{"$error":"#VALUE!"}},{"$f":"IF(OFFSET([1]DE100_7!$H$27,ROWS($H$27:H47)-1,COLUMNS($H$27:H47)-1)<>\"\",OFFSET([1]DE100_7!$H$27,ROWS($H$27:H47)-1,COLUMNS($H$27:H47)-1),\"\")","v":{"$error":"#VALUE!"}},{"$f":"IF(OFFSET([1]DE100_7!$I$27,ROWS($I$27:I47)-1,COLUMNS($I$27:I47)-1)<>\"\",OFFSET([1]DE100_7!$I$27,ROWS($I$27:I47)-1,COLUMNS($I$27:I47)-1),\"\")","v":{"$error":"#VALUE!"}},{"$f":"IF(OFFSET([1]DE100_7!$J$27,ROWS($J$27:J47)-1,COLUMNS($J$27:J47)-1)<>\"\",OFFSET([1]DE100_7!$J$27,ROWS($J$27:J47)-1,COLUMNS($J$27:J47)-1),\"\")","v":{"$error":"#VALUE!"}},{"$f":"IF(OFFSET([1]DE100_7!$K$27,ROWS($K$27:K47)-1,COLUMNS($K$27:K47)-1)<>\"\",OFFSET([1]DE100_7!$K$27,ROWS($K$27:K47)-1,COLUMNS($K$27:K47)-1),\"\")","v":{"$error":"#VALUE!"}},{"$f":"IF(OFFSET([1]DE100_7!$L$27,ROWS($L$27:L47)-1,COLUMNS($L$27:L47)-1)<>\"\",OFFSET([1]DE100_7!$L$27,ROWS($L$27:L47)-1,COLUMNS($L$27:L47)-1),\"\")","v":{"$error":"#VALUE!"}},{"$f":"IF(OFFSET([1]DE100_7!$M$27,ROWS($M$27:M47)-1,COLUMNS($M$27:M47)-1)<>\"\",OFFSET([1]DE100_7!$M$27,ROWS($M$27:M47)-1,COLUMNS($M$27:M47)-1),\"\")","v":{"$error":"#VALUE!"}},{"$f":"IF(OFFSET([1]DE100_7!$N$27,ROWS($N$27:N47)-1,COLUMNS($N$27:N47)-1)<>\"\",OFFSET([1]DE100_7!$N$27,ROWS($N$27:N47)-1,COLUMNS($N$27:N47)-1),\"\")","v":{"$error":"#VALUE!"}},{"$f":"IF(OFFSET([1]DE100_7!$O$27,ROWS($O$27:O47)-1,COLUMNS($O$27:O47)-1)<>\"\",OFFSET([1]DE100_7!$O$27,ROWS($O$27:O47)-1,COLUMNS($O$27:O47)-1),\"\")","v":{"$error":"#VALUE!"}},{"$f":"IF(OFFSET([1]DE100_7!$P$27,ROWS($P$27:P47)-1,COLUMNS($P$27:P47)-1)<>\"\",OFFSET([1]DE100_7!$P$27,ROWS($P$27:P47)-1,COLUMNS($P$27:P47)-1),\"\")","v":{"$error":"#VALUE!"}},{"$f":"IF(OFFSET([1]DE100_7!$Q$27,ROWS($Q$27:Q47)-1,COLUMNS($Q$27:Q47)-1)<>\"\",OFFSET([1]DE100_7!$Q$27,ROWS($Q$27:Q47)-1,COLUMNS($Q$27:Q47)-1),\"\")","v":{"$error":"#VALUE!"}},{"$f":"IF(OFFSET([1]DE100_7!$R$27,ROWS($R$27:R47)-1,COLUMNS($R$27:R47)-1)<>\"\",OFFSET([1]DE100_7!$R$27,ROWS($R$27:R47)-1,COLUMNS($R$27:R47)-1),\"\")","v":{"$error":"#VALUE!"}},{"$f":"IF(OFFSET([1]DE100_7!$S$27,ROWS($S$27:S47)-1,COLUMNS($S$27:S47)-1)<>\"\",OFFSET([1]DE100_7!$S$27,ROWS($S$27:S47)-1,COLUMNS($S$27:S47)-1),\"\")","v":{"$error":"#VALUE!"}},{"$f":"IF(OFFSET([1]DE100_7!$T$27,ROWS($T$27:T47)-1,COLUMNS($T$27:T47)-1)<>\"\",OFFSET([1]DE100_7!$T$27,ROWS($T$27:T47)-1,COLUMNS($T$27:T47)-1),\"\")","v":{"$error":"#VALUE!"}},{"$f":"IF(OFFSET([1]DE100_7!$U$27,ROWS($U$27:U47)-1,COLUMNS($U$27:U47)-1)<>\"\",OFFSET([1]DE100_7!$U$27,ROWS($U$27:U47)-1,COLUMNS($U$27:U47)-1),\"\")","v":{"$error":"#VALUE!"}},{"$f":"IF(OFFSET([1]DE100_7!$V$27,ROWS($V$27:V47)-1,COLUMNS($V$27:V47)-1)<>\"\",OFFSET([1]DE100_7!$V$27,ROWS($V$27:V47)-1,COLUMNS($V$27:V47)-1),\"\")","v":{"$error":"#VALUE!"}}]
[{"$f":"IF(OFFSET([1]DE100_7!$C$27,ROWS($C$27:C48)-1,COLUMNS($C$27:C48)-1)<>\"\",OFFSET([1]DE100_7!$C$27,ROWS($C$27:C48)-1,COLUMNS($C$27:C48)-1),\"\")","v":{"$error":"#VALUE!"}},{"$f":"IF(OFFSET([1]DE100_7!$D$27,ROWS($D$27:D48)-1,COLUMNS($D$27:D48)-1)<>\"\",OFFSET([1]DE100_7!$D$27,ROWS($D$27:D48)-1,COLUMNS($D$27:D48)-1),\"\")","v":{"$error":"#VALUE!"}},{"$f":"IF(OFFSET([1]DE100_7!$E$27,ROWS($E$27:E48)-1,COLUMNS($E$27:E48)-1)<>\"\",OFFSET([1]DE100_7!$E$27,ROWS($E$27:E48)-1,COLUMNS($E$27:E48)-1),\"\")","v":{"$error":"#VALUE!"}},{"$f":"IF(OFFSET([1]DE100_7!$F$27,ROWS($F$27:F48)-1,COLUMNS($F$27:F48)-1)<>\"\",OFFSET([1]DE100_7!$F$27,ROWS($F$27:F48)-1,COLUMNS($F$27:F48)-1),\"\")","v":{"$error":"#VALUE!"}},{"$f":"IF(OFFSET([1]DE100_7!$G$27,ROWS($G$27:G48)-1,COLUMNS($G$27:G48)-1)<>\"\",OFFSET([1]DE100_7!$G$27,ROWS($G$27:G48)-1,COLUMNS($G$27:G48)-1),\"\")","v":{"$error":"#VALUE!"}},{"$f":"IF(OFFSET([1]DE100_7!$H$27,ROWS($H$27:H48)-1,COLUMNS($H$27:H48)-1)<>\"\",OFFSET([1]DE100_7!$H$27,ROWS($H$27:H48)-1,COLUMNS($H$27:H48)-1),\"\")","v":{"$error":"#VALUE!"}},{"$f":"IF(OFFSET([1]DE100_7!$I$27,ROWS($I$27:I48)-1,COLUMNS($I$27:I48)-1)<>\"\",OFFSET([1]DE100_7!$I$27,ROWS($I$27:I48)-1,COLUMNS($I$27:I48)-1),\"\")","v":{"$error":"#VALUE!"}},{"$f":"IF(OFFSET([1]DE100_7!$J$27,ROWS($J$27:J48)-1,COLUMNS($J$27:J48)-1)<>\"\",OFFSET([1]DE100_7!$J$27,ROWS($J$27:J48)-1,COLUMNS($J$27:J48)-1),\"\")","v":{"$error":"#VALUE!"}},{"$f":"IF(OFFSET([1]DE100_7!$K$27,ROWS($K$27:K48)-1,COLUMNS($K$27:K48)-1)<>\"\",OFFSET([1]DE100_7!$K$27,ROWS($K$27:K48)-1,COLUMNS($K$27:K48)-1),\"\")","v":{"$error":"#VALUE!"}},{"$f":"IF(OFFSET([1]DE100_7!$L$27,ROWS($L$27:L48)-1,COLUMNS($L$27:L48)-1)<>\"\",OFFSET([1]DE100_7!$L$27,ROWS($L$27:L48)-1,COLUMNS($L$27:L48)-1),\"\")","v":{"$error":"#VALUE!"}},{"$f":"IF(OFFSET([1]DE100_7!$M$27,ROWS($M$27:M48)-1,COLUMNS($M$27:M48)-1)<>\"\",OFFSET([1]DE100_7!$M$27,ROWS($M$27:M48)-1,COLUMNS($M$27:M48)-1),\"\")","v":{"$error":"#VALUE!"}},{"$f":"IF(OFFSET([1]DE100_7!$N$27,ROWS($N$27:N48)-1,COLUMNS($N$27:N48)-1)<>\"\",OFFSET([1]DE100_7!$N$27,ROWS($N$27:N48)-1,COLUMNS($N$27:N48)-1),\"\")","v":{"$error":"#VALUE!"}},{"$f":"IF(OFFSET([1]DE100_7!$O$27,ROWS($O$27:O48)-1,COLUMNS($O$27:O48)-1)<>\"\",OFFSET([1]DE100_7!$O$27,ROWS($O$27:O48)-1,COLUMNS($O$27:O48)-1),\"\")","v":{"$error":"#VALUE!"}},{"$f":"IF(OFFSET([1]DE100_7!$P$27,ROWS($P$27:P48)-1,COLUMNS($P$27:P48)-1)<>\"\",OFFSET([1]DE100_7!$P$27,ROWS($P$27:P48)-1,COLUMNS($P$27:P48)-1),\"\")","v":{"$error":"#VALUE!"}},{"$f":"IF(OFFSET([1]DE100_7!$Q$27,ROWS($Q$27:Q48)-1,COLUMNS($Q$27:Q48)-1)<>\"\",OFFSET([1]DE100_7!$Q$27,ROWS($Q$27:Q48)-1,COLUMNS($Q$27:Q48)-1),\"\")","v":{"$error":"#VALUE!"}},{"$f":"IF(OFFSET([1]DE100_7!$R$27,ROWS($R$27:R48)-1,COLUMNS($R$27:R48)-1)<>\"\",OFFSET([1]DE100_7!$R$27,ROWS($R$27:R48)-1,COLUMNS($R$27:R48)-1),\"\")","v":{"$error":"#VALUE!"}},{"$f":"IF(OFFSET([1]DE100_7!$S$27,ROWS($S$27:S48)-1,COLUMNS($S$27:S48)-1)<>\"\",OFFSET([1]DE100_7!$S$27,ROWS($S$27:S48)-1,COLUMNS($S$27:S48)-1),\"\")","v":{"$error":"#VALUE!"}},{"$f":"IF(OFFSET([1]DE100_7!$T$27,ROWS($T$27:T48)-1,COLUMNS($T$27:T48)-1)<>\"\",OFFSET([1]DE100_7!$T$27,ROWS($T$27:T48)-1,COLUMNS($T$27:T48)-1),\"\")","v":{"$error":"#VALUE!"}},{"$f":"IF(OFFSET([1]DE100_7!$U$27,ROWS($U$27:U48)-1,COLUMNS($U$27:U48)-1)<>\"\",OFFSET([1]DE100_7!$U$27,ROWS($U$27:U48)-1,COLUMNS($U$27:U48)-1),\"\")","v":{"$error":"#VALUE!"}},{"$f":"IF(OFFSET([1]DE100_7!$V$27,ROWS($V$27:V48)-1,COLUMNS($V$27:V48)-1)<>\"\",OFFSET([1]DE100_7!$V$27,ROWS($V$27:V48)-1,COLUMNS($V$27:V48)-1),\"\")","v":{"$error":"#VALUE!"}}]
[{"$f":"IF(OFFSET([1]DE100_7!$C$27,ROWS($C$27:C49)-1,COLUMNS($C$27:C49)-1)<>\"\",OFFSET([1]DE100_7!$C$27,ROWS($C$27:C49)-1,COLUMNS($C$27:C49)-1),\"\")","v":{"$error":"#VALUE!"}},{"$f":"IF(OFFSET([1]DE100_7!$D$27,ROWS($D$27:D49)-1,COLUMNS($D$27:D49)-1)<>\"\",OFFSET([1]DE100_7!$D$27,ROWS($D$27:D49)-1,COLUMNS($D$27:D49)-1),\"\")","v":{"$error":"#VALUE!"}},{"$f":"IF(OFFSET([1]DE100_7!$E$27,ROWS($E$27:E49)-1,COLUMNS($E$27:E49)-1)<>\"\",OFFSET([1]DE100_7!$E$27,ROWS($E$27:E49)-1,COLUMNS($E$27:E49)-1),\"\")","v":{"$error":"#VALUE!"}},{"$f":"IF(OFFSET([1]DE100_7!$F$27,ROWS($F$27:F49)-1,COLUMNS($F$27:F49)-1)<>\"\",OFFSET([1]DE100_7!$F$27,ROWS($F$27:F49)-1,COLUMNS($F$27:F49)-1),\"\")","v":{"$error":"#VALUE!"}},{"$f":"IF(OFFSET([1]DE100_7!$G$27,ROWS($G$27:G49)-1,COLUMNS($G$27:G49)-1)<>\"\",OFFSET([1]DE100_7!$G$27,ROWS($G$27:G49)-1,COLUMNS($G$27:G49)-1),\"\")","v":{"$error":"#VALUE!"}},{"$f":"IF(OFFSET([1]DE100_7!$H$27,ROWS($H$27:H49)-1,COLUMNS($H$27:H49)-1)<>\"\",OFFSET([1]DE100_7!$H$27,ROWS($H$27:H49)-1,COLUMNS($H$27:H49)-1),\"\")","v":{"$error":"#VALUE!"}},{"$f":"IF(OFFSET([1]DE100_7!$I$27,ROWS($I$27:I49)-1,COLUMNS($I$27:I49)-1)<>\"\",OFFSET([1]DE100_7!$I$27,ROWS($I$27:I49)-1,COLUMNS($I$27:I49)-1),\"\")","v":{"$error":"#VALUE!"}},{"$f":"IF(OFFSET([1]DE100_7!$J$27,ROWS($J$27:J49)-1,COLUMNS($J$27:J49)-1)<>\"\",OFFSET([1]DE100_7!$J$27,ROWS($J$27:J49)-1,COLUMNS($J$27:J49)-1),\"\")","v":{"$error":"#VALUE!"}},{"$f":"IF(OFFSET([1]DE100_7!$K$27,ROWS($K$27:K49)-1,COLUMNS($K$27:K49)-1)<>\"\",OFFSET([1]DE100_7!$K$27,ROWS($K$27:K49)-1,COLUMNS($K$27:K49)-1),\"\")","v":{"$error":"#VALUE!"}},{"$f":"IF(OFFSET([1]DE100_7!$L$27,ROWS($L$27:L49)-1,COLUMNS($L$27:L49)-1)<>\"\",OFFSET([1]DE100_7!$L$27,ROWS($L$27:L49)-1,COLUMNS($L$27:L49)-1),\"\")","v":{"$error":"#VALUE!"}},{"$f":"IF(OFFSET([1]DE100_7!$M$27,ROWS($M$27:M49)-1,COLUMNS($M$27:M49)-1)<>\"\",OFFSET([1]DE100_7!$M$27,ROWS($M$27:M49)-1,COLUMNS($M$27:M49)-1),\"\")","v":{"$error":"#VALUE!"}},{"$f":"IF(OFFSET([1]DE100_7!$N$27,ROWS($N$27:N49)-1,COLUMNS($N$27:N49)-1)<>\"\",OFFSET([1]DE100_7!$N$27,ROWS($N$27:N49)-1,COLUMNS($N$27:N49)-1),\"\")","v":{"$error":"#VALUE!"}},{"$f":"IF(OFFSET([1]DE100_7!$O$27,ROWS($O$27:O49)-1,COLUMNS($O$27:O49)-1)<>\"\",OFFSET([1]DE100_7!$O$27,ROWS($O$27:O49)-1,COLUMNS($O$27:O49)-1),\"\")","v":{"$error":"#VALUE!"}},{"$f":"IF(OFFSET([1]DE100_7!$P$27,ROWS($P$27:P49)-1,COLUMNS($P$27:P49)-1)<>\"\",OFFSET([1]DE100_7!$P$27,ROWS($P$27:P49)-1,COLUMNS($P$27:P49)-1),\"\")","v":{"$error":"#VALUE!"}},{"$f":"IF(OFFSET([1]DE100_7!$Q$27,ROWS($Q$27:Q49)-1,COLUMNS($Q$27:Q49)-1)<>\"\",OFFSET([1]DE100_7!$Q$27,ROWS($Q$27:Q49)-1,COLUMNS($Q$27:Q49)-1),\"\")","v":{"$error":"#VALUE!"}},{"$f":"IF(OFFSET([1]DE100_7!$R$27,ROWS($R$27:R49)-1,COLUMNS($R$27:R49)-1)<>\"\",OFFSET([1]DE100_7!$R$27,ROWS($R$27:R49)-1,COLUMNS($R$27:R49)-1),\"\")","v":{"$error":"#VALUE!"}},{"$f":"IF(OFFSET([1]DE100_7!$S$27,ROWS($S$27:S49)-1,COLUMNS($S$27:S49)-1)<>\"\",OFFSET([1]DE100_7!$S$27,ROWS($S$27:S49)-1,COLUMNS($S$27:S49)-1),\"\")","v":{"$error":"#VALUE!"}},{"$f":"IF(OFFSET([1]DE100_7!$T$27,ROWS($T$27:T49)-1,COLUMNS($T$27:T49)-1)<>\"\",OFFSET([1]DE100_7!$T$27,ROWS($T$27:T49)-1,COLUMNS($T$27:T49)-1),\"\")","v":{"$error":"#VALUE!"}},{"$f":"IF(OFFSET([1]DE100_7!$U$27,ROWS($U$27:U49)-1,COLUMNS($U$27:U49)-1)<>\"\",OFFSET([1]DE100_7!$U$27,ROWS($U$27:U49)-1,COLUMNS($U$27:U49)-1),\"\")","v":{"$error":"#VALUE!"}},{"$f":"IF(OFFSET([1]DE100_7!$V$27,ROWS($V$27:V49)-1,COLUMNS($V$27:V49)-1)<>\"\",OFFSET([1]DE100_7!$V$27,ROWS($V$27:V49)-1,COLUMNS($V$27:V49)-1),\"\")","v":{"$error":"#VALUE!"}}]
[{"$f":"IF(OFFSET([1]DE100_7!$C$27,ROWS($C$27:C50)-1,COLUMNS($C$27:C50)-1)<>\"\",OFFSET([1]DE100_7!$C$27,ROWS($C$27:C50)-1,COLUMNS($C$27:C50)-1),\"\")","v":{"$error":"#VALUE!"}},{"$f":"IF(OFFSET([1]DE100_7!$D$27,ROWS($D$27:D50)-1,COLUMNS($D$27:D50)-1)<>\"\",OFFSET([1]DE100_7!$D$27,ROWS($D$27:D50)-1,COLUMNS($D$27:D50)-1),\"\")","v":{"$error":"#VALUE!"}},{"$f":"IF(OFFSET([1]DE100_7!$E$27,ROWS($E$27:E50)-1,COLUMNS($E$27:E50)-1)<>\"\",OFFSET([1]DE100_7!$E$27,ROWS($E$27:E50)-1,COLUMNS($E$27:E50)-1),\"\")","v":{"$error":"#VALUE!"}},{"$f":"IF(OFFSET([1]DE100_7!$F$27,ROWS($F$27:F50)-1,COLUMNS($F$27:F50)-1)<>\"\",OFFSET([1]DE100_7!$F$27,ROWS($F$27:F50)-1,COLUMNS($F$27:F50)-1),\"\")","v":{"$error":"#VALUE!"}},{"$f":"IF(OFFSET([1]DE100_7!$G$27,ROWS($G$27:G50)-1,COLUMNS($G$27:G50)-1)<>\"\",OFFSET([1]DE100_7!$G$27,ROWS($G$27:G50)-1,COLUMNS($G$27:G50)-1),\"\")","v":{"$error":"#VALUE!"}},{"$f":"IF(OFFSET([1]DE100_7!$H$27,ROWS($H$27:H50)-1,COLUMNS($H$27:H50)-1)<>\"\",OFFSET([1]DE100_7!$H$27,ROWS($H$27:H50)-1,COLUMNS($H$27:H50)-1),\"\")","v":{"$error":"#VALUE!"}},{"$f":"IF(OFFSET([1]DE100_7!$I$27,ROWS($I$27:I50)-1,COLUMNS($I$27:I50)-1)<>\"\",OFFSET([1]DE100_7!$I$27,ROWS($I$27:I50)-1,COLUMNS($I$27:I50)-1),\"\")","v":{"$error":"#VALUE!"}},{"$f":"IF(OFFSET([1]DE100_7!$J$27,ROWS($J$27:J50)-1,COLUMNS($J$27:J50)-1)<>\"\",OFFSET([1]DE100_7!$J$27,ROWS($J$27:J50)-1,COLUMNS($J$27:J50)-1),\"\")","v":{"$error":"#VALUE!"}},{"$f":"IF(OFFSET([1]DE100_7!$K$27,ROWS($K$27:K50)-1,COLUMNS($K$27:K50)-1)<>\"\",OFFSET([1]DE100_7!$K$27,ROWS($K$27:K50)-1,COLUMNS($K$27:K50)-1),\"\")","v":{"$error":"#VALUE!"}},{"$f":"IF(OFFSET([1]DE100_7!$L$27,ROWS($L$27:L50)-1,COLUMNS($L$27:L50)-1)<>\"\",OFFSET([1]DE100_7!$L$27,ROWS($L$27:L50)-1,COLUMNS($L$27:L50)-1),\"\")","v":{"$error":"#VALUE!"}},{"$f":"IF(OFFSET([1]DE100_7!$M$27,ROWS($M$27:M50)-1,COLUMNS($M$27:M50)-1)<>\"\",OFFSET([1]DE100_7!$M$27,ROWS($M$27:M50)-1,COLUMNS($M$27:M50)-1),\"\")","v":{"$error":"#VALUE!"}},{"$f":"IF(OFFSET([1]DE100_7!$N$27,ROWS($N$27:N50)-1,COLUMNS($N$27:N50)-1)<>\"\",OFFSET([1]DE100_7!$N$27,ROWS($N$27:N50)-1,COLUMNS($N$27:N50)-1),\"\")","v":{"$error":"#VALUE!"}},{"$f":"IF(OFFSET([1]DE100_7!$O$27,ROWS($O$27:O50)-1,COLUMNS($O$27:O50)-1)<>\"\",OFFSET([1]DE100_7!$O$27,ROWS($O$27:O50)-1,COLUMNS($O$27:O50)-1),\"\")","v":{"$error":"#VALUE!"}},{"$f":"IF(OFFSET([1]DE100_7!$P$27,ROWS($P$27:P50)-1,COLUMNS($P$27:P50)-1)<>\"\",OFFSET([1]DE100_7!$P$27,ROWS($P$27:P50)-1,COLUMNS($P$27:P50)-1),\"\")","v":{"$error":"#VALUE!"}},{"$f":"IF(OFFSET([1]DE100_7!$Q$27,ROWS($Q$27:Q50)-1,COLUMNS($Q$27:Q50)-1)<>\"\",OFFSET([1]DE100_7!$Q$27,ROWS($Q$27:Q50)-1,COLUMNS($Q$27:Q50)-1),\"\")","v":{"$error":"#VALUE!"}},{"$f":"IF(OFFSET([1]DE100_7!$R$27,ROWS($R$27:R50)-1,COLUMNS($R$27:R50)-1)<>\"\",OFFSET([1]DE100_7!$R$27,ROWS($R$27:R50)-1,COLUMNS($R$27:R50)-1),\"\")","v":{"$error":"#VALUE!"}},{"$f":"IF(OFFSET([1]DE100_7!$S$27,ROWS($S$27:S50)-1,COLUMNS($S$27:S50)-1)<>\"\",OFFSET([1]DE100_7!$S$27,ROWS($S$27:S50)-1,COLUMNS($S$27:S50)-1),\"\")","v":{"$error":"#VALUE!"}},{"$f":"IF(OFFSET([1]DE100_7!$T$27,ROWS($T$27:T50)-1,COLUMNS($T$27:T50)-1)<>\"\",OFFSET([1]DE100_7!$T$27,ROWS($T$27:T50)-1,COLUMNS($T$27:T50)-1),\"\")","v":{"$error":"#VALUE!"}},{"$f":"IF(OFFSET([1]DE100_7!$U$27,ROWS($U$27:U50)-1,COLUMNS($U$27:U50)-1)<>\"\",OFFSET([1]DE100_7!$U$27,ROWS($U$27:U50)-1,COLUMNS($U$27:U50)-1),\"\")","v":{"$error":"#VALUE!"}},{"$f":"IF(OFFSET([1]DE100_7!$V$27,ROWS($V$27:V50)-1,COLUMNS($V$27:V50)-1)<>\"\",OFFSET([1]DE100_7!$V$27,ROWS($V$27:V50)-1,COLUMNS($V$27:V50)-1),\"\")","v":{"$error":"#VALUE!"}}]
[{"$f":"IF(OFFSET([1]DE100_7!$C$27,ROWS($C$27:C51)-1,COLUMNS($C$27:C51)-1)<>\"\",OFFSET([1]DE100_7!$C$27,ROWS($C$27:C51)-1,COLUMNS($C$27:C51)-1),\"\")","v":{"$error":"#VALUE!"}},{"$f":"IF(OFFSET([1]DE100_7!$D$27,ROWS($D$27:D51)-1,COLUMNS($D$27:D51)-1)<>\"\",OFFSET([1]DE100_7!$D$27,ROWS($D$27:D51)-1,COLUMNS($D$27:D51)-1),\"\")","v":{"$error":"#VALUE!"}},{"$f":"IF(OFFSET([1]DE100_7!$E$27,ROWS($E$27:E51)-1,COLUMNS($E$27:E51)-1)<>\"\",OFFSET([1]DE100_7!$E$27,ROWS($E$27:E51)-1,COLUMNS($E$27:E51)-1),\"\")","v":{"$error":"#VALUE!"}},{"$f":"IF(OFFSET([1]DE100_7!$F$27,ROWS($F$27:F51)-1,COLUMNS($F$27:F51)-1)<>\"\",OFFSET([1]DE100_7!$F$27,ROWS($F$27:F51)-1,COLUMNS($F$27:F51)-1),\"\")","v":{"$error":"#VALUE!"}},{"$f":"IF(OFFSET([1]DE100_7!$G$27,ROWS($G$27:G51)-1,COLUMNS($G$27:G51)-1)<>\"\",OFFSET([1]DE100_7!$G$27,ROWS($G$27:G51)-1,COLUMNS($G$27:G51)-1),\"\")","v":{"$error":"#VALUE!"}},{"$f":"IF(OFFSET([1]DE100_7!$H$27,ROWS($H$27:H51)-1,COLUMNS($H$27:H51)-1)<>\"\",OFFSET([1]DE100_7!$H$27,ROWS($H$27:H51)-1,COLUMNS($H$27:H51)-1),\"\")","v":{"$error":"#VALUE!"}},{"$f":"IF(OFFSET([1]DE100_7!$I$27,ROWS($I$27:I51)-1,COLUMNS($I$27:I51)-1)<>\"\",OFFSET([1]DE100_7!$I$27,ROWS($I$27:I51)-1,COLUMNS($I$27:I51)-1),\"\")","v":{"$error":"#VALUE!"}},{"$f":"IF(OFFSET([1]DE100_7!$J$27,ROWS($J$27:J51)-1,COLUMNS($J$27:J51)-1)<>\"\",OFFSET([1]DE100_7!$J$27,ROWS($J$27:J51)-1,COLUMNS($J$27:J51)-1),\"\")","v":{"$error":"#VALUE!"}},{"$f":"IF(OFFSET([1]DE100_7!$K$27,ROWS($K$27:K51)-1,COLUMNS($K$27:K51)-1)<>\"\",OFFSET([1]DE100_7!$K$27,ROWS($K$27:K51)-1,COLUMNS($K$27:K51)-1),\"\")","v":{"$error":"#VALUE!"}},{"$f":"IF(OFFSET([1]DE100_7!$L$27,ROWS($L$27:L51)-1,COLUMNS($L$27:L51)-1)<>\"\",OFFSET([1]DE100_7!$L$27,ROWS($L$27:L51)-1,COLUMNS($L$27:L51)-1),\"\")","v":{"$error":"#VALUE!"}},{"$f":"IF(OFFSET([1]DE100_7!$M$27,ROWS($M$27:M51)-1,COLUMNS($M$27:M51)-1)<>\"\",OFFSET([1]DE100_7!$M$27,ROWS($M$27:M51)-1,COLUMNS($M$27:M51)-1),\"\")","v":{"$error":"#VALUE!"}},{"$f":"IF(OFFSET([1]DE100_7!$N$27,ROWS($N$27:N51)-1,COLUMNS($N$27:N51)-1)<>\"\",OFFSET([1]DE100_7!$N$27,ROWS($N$27:N51)-1,COLUMNS($N$27:N51)-1),\"\")","v":{"$error":"#VALUE!"}},{"$f":"IF(OFFSET([1]DE100_7!$O$27,ROWS($O$27:O51)-1,COLUMNS($O$27:O51)-1)<>\"\",OFFSET([1]DE100_7!$O$27,ROWS($O$27:O51)-1,COLUMNS($O$27:O51)-1),\"\")","v":{"$error":"#VALUE!"}},{"$f":"IF(OFFSET([1]DE100_7!$P$27,ROWS($P$27:P51)-1,COLUMNS($P$27:P51)-1)<>\"\",OFFSET([1]DE100_7!$P$27,ROWS($P$27:P51)-1,COLUMNS($P$27:P51)-1),\"\")","v":{"$error":"#VALUE!"}},{"$f":"IF(OFFSET([1]DE100_7!$Q$27,ROWS($Q$27:Q51)-1,COLUMNS($Q$27:Q51)-1)<>\"\",OFFSET([1]DE100_7!$Q$27,ROWS($Q$27:Q51)-1,COLUMNS($Q$27:Q51)-1),\"\")","v":{"$error":"#VALUE!"}},{"$f":"IF(OFFSET([1]DE100_7!$R$27,ROWS($R$27:R51)-1,COLUMNS($R$27:R51)-1)<>\"\",OFFSET([1]DE100_7!$R$27,ROWS($R$27:R51)-1,COLUMNS($R$27:R51)-1),\"\")","v":{"$error":"#VALUE!"}},{"$f":"IF(OFFSET([1]DE100_7!$S$27,ROWS($S$27:S51)-1,COLUMNS($S$27:S51)-1)<>\"\",OFFSET([1]DE100_7!$S$27,ROWS($S$27:S51)-1,COLUMNS($S$27:S51)-1),\"\")","v":{"$error":"#VALUE!"}},{"$f":"IF(OFFSET([1]DE100_7!$T$27,ROWS($T$27:T51)-1,COLUMNS($T$27:T51)-1)<>\"\",OFFSET([1]DE100_7!$T$27,ROWS($T$27:T51)-1,COLUMNS($T$27:T51)-1),\"\")","v":{"$error":"#VALUE!"}},{"$f":"IF(OFFSET([1]DE100_7!$U$27,ROWS($U$27:U51)-1,COLUMNS($U$27:U51)-1)<>\"\",OFFSET([1]DE100_7!$U$27,ROWS($U$27:U51)-1,COLUMNS($U$27:U51)-1),\"\")","v":{"$error":"#VALUE!"}},{"$f":"IF(OFFSET([1]DE100_7!$V$27,ROWS($V$27:V51)-1,COLUMNS($V$27:V51)-1)<>\"\",OFFSET([1]DE100_7!$V$27,ROWS($V$27:V51)-1,COLUMNS($V$27:V51)-1),\"\")","v":{"$error":"#VALUE!"}}]
[{"$f":"IF(OFFSET([1]DE100_7!$C$27,ROWS($C$27:C52)-1,COLUMNS($C$27:C52)-1)<>\"\",OFFSET([1]DE100_7!$C$27,ROWS($C$27:C52)-1,COLUMNS($C$27:C52)-1),\"\")","v":{"$error":"#VALUE!"}},null,null,null,{"$f":"IF(OFFSET([1]DE100_7!$G$27,ROWS($G$27:G52)-1,COLUMNS($G$27:G52)-1)<>\"\",OFFSET([1]DE100_7!$G$27,ROWS($G$27:G52)-1,COLUMNS($G$27:G52)-1),\"\")","v":{"$error":"#VALUE!"}},{"$f":"IF(OFFSET([1]DE100_7!$H$27,ROWS($H$27:H52)-1,COLUMNS($H$27:H52)-1)<>\"\",OFFSET([1]DE100_7!$H$27,ROWS($H$27:H52)-1,COLUMNS($H$27:H52)-1),\"\")","v":{"$error":"#VALUE!"}},{"$f":"IF(OFFSET([1]DE100_7!$I$27,ROWS($I$27:I52)-1,COLUMNS($I$27:I52)-1)<>\"\",OFFSET([1]DE100_7!$I$27,ROWS($I$27:I52)-1,COLUMNS($I$27:I52)-1),\"\")","v":{"$error":"#VALUE!"}},{"$f":"IF(OFFSET([1]DE100_7!$J$27,ROWS($J$27:J52)-1,COLUMNS($J$27:J52)-1)<>\"\",OFFSET([1]DE100_7!$J$27,ROWS($J$27:J52)-1,COLUMNS($J$27:J52)-1),\"\")","v":{"$error":"#VALUE!"}},{"$f":"IF(OFFSET([1]DE100_7!$K$27,ROWS($K$27:K52)-1,COLUMNS($K$27:K52)-1)<>\"\",OFFSET([1]DE100_7!$K$27,ROWS($K$27:K52)-1,COLUMNS($K$27:K52)-1),\"\")","v":{"$error":"#VALUE!"}},{"$f":"IF(OFFSET([1]DE100_7!$L$27,ROWS($L$27:L52)-1,COLUMNS($L$27:L52)-1)<>\"\",OFFSET([1]DE100_7!$L$27,ROWS($L$27:L52)-1,COLUMNS($L$27:L52)-1),\"\")","v":{"$error":"#VALUE!"}},{"$f":"IF(OFFSET([1]DE100_7!$M$27,ROWS($M$27:M52)-1,COLUMNS($M$27:M52)-1)<>\"\",OFFSET([1]DE100_7!$M$27,ROWS($M$27:M52)-1,COLUMNS($M$27:M52)-1),\"\")","v":{"$error":"#VALUE!"}},{"$f":"IF(OFFSET([1]DE100_7!$N$27,ROWS($N$27:N52)-1,COLUMNS($N$27:N52)-1)<>\"\",OFFSET([1]DE100_7!$N$27,ROWS($N$27:N52)-1,COLUMNS($N$27:N52)-1),\"\")","v":{"$error":"#VALUE!"}},{"$f":"IF(OFFSET([1]DE100_7!$O$27,ROWS($O$27:O52)-1,COLUMNS($O$27:O52)-1)<>\"\",OFFSET([1]DE100_7!$O$27,ROWS($O$27:O52)-1,COLUMNS($O$27:O52)-1),\"\")","v":{"$error":"#VALUE!"}},{"$f":"IF(OFFSET([1]DE100_7!$P$27,ROWS($P$27:P52)-1,COLUMNS($P$27:P52)-1)<>\"\",OFFSET([1]DE100_7!$P$27,ROWS($P$27:P52)-1,COLUMNS($P$27:P52)-1),\"\")","v":{"$error":"#VALUE!"}},{"$f":"IF(OFFSET([1]DE100_7!$Q$27,ROWS($Q$27:Q52)-1,COLUMNS($Q$27:Q52)-1)<>\"\",OFFSET([1]DE100_7!$Q$27,ROWS($Q$27:Q52)-1,COLUMNS($Q$27:Q52)-1),\"\")","v":{"$error":"#VALUE!"}},{"$f":"IF(OFFSET([1]DE100_7!$R$27,ROWS($R$27:R52)-1,COLUMNS($R$27:R52)-1)<>\"\",OFFSET([1]DE100_7!$R$27,ROWS($R$27:R52)-1,COLUMNS($R$27:R52)-1),\"\")","v":{"$error":"#VALUE!"}},{"$f":"IF(OFFSET([1]DE100_7!$S$27,ROWS($S$27:S52)-1,COLUMNS($S$27:S52)-1)<>\"\",OFFSET([1]DE100_7!$S$27,ROWS($S$27:S52)-1,COLUMNS($S$27:S52)-1),\"\")","v":{"$error":"#VALUE!"}},{"$f":"IF(OFFSET([1]DE100_7!$T$27,ROWS($T$27:T52)-1,COLUMNS($T$27:T52)-1)<>\"\",OFFSET([1]DE100_7!$T$27,ROWS($T$27:T52)-1,COLUMNS($T$27:T52)-1),\"\")","v":{"$error":"#VALUE!"}},{"$f":"IF(OFFSET([1]DE100_7!$U$27,ROWS($U$27:U52)-1,COLUMNS($U$27:U52)-1)<>\"\",OFFSET([1]DE100_7!$U$27,ROWS($U$27:U52)-1,COLUMNS($U$27:U52)-1),\"\")","v":{"$error":"#VALUE!"}},{"$f":"IF(OFFSET([1]DE100_7!$V$27,ROWS($V$27:V52)-1,COLUMNS($V$27:V52)-1)<>\"\",OFFSET([1]DE100_7!$V$27,ROWS($V$27:V52)-1,COLUMNS($V$27:V52)-1),\"\")","v":{"$error":"#VALUE!"}}]
[{"$f":"IF(OFFSET([1]DE100_7!$C$27,ROWS($C$27:C53)-1,COLUMNS($C$27:C53)-1)<>\"\",OFFSET([1]DE100_7!$C$27,ROWS($C$27:C53)-1,COLUMNS($C$27:C53)-1),\"\")","v":{"$error":"#VALUE!"}},{"$f":"IF(OFFSET([1]DE100_7!$D$27,ROWS($D$27:D53)-1,COLUMNS($D$27:D53)-1)<>\"\",OFFSET([1]DE100_7!$D$27,ROWS($D$27:D53)-1,COLUMNS($D$27:D53)-1),\"\")","v":{"$error":"#VALUE!"}},{"$f":"IF(OFFSET([1]DE100_7!$E$27,ROWS($E$27:E53)-1,COLUMNS($E$27:E53)-1)<>\"\",OFFSET([1]DE100_7!$E$27,ROWS($E$27:E53)-1,COLUMNS($E$27:E53)-1),\"\")","v":{"$error":"#VALUE!"}},{"$f":"IF(OFFSET([1]DE100_7!$F$27,ROWS($F$27:F53)-1,COLUMNS($F$27:F53)-1)<>\"\",OFFSET([1]DE100_7!$F$27,ROWS($F$27:F53)-1,COLUMNS($F$27:F53)-1),\"\")","v":{"$error":"#VALUE!"}},{"$f":"IF(OFFSET([1]DE100_7!$G$27,ROWS($G$27:G53)-1,COLUMNS($G$27:G53)-1)<>\"\",OFFSET([1]DE100_7!$G$27,ROWS($G$27:G53)-1,COLUMNS($G$27:G53)-1),\"\")","v":{"$error":"#VALUE!"}},{"$f":"IF(OFFSET([1]DE100_7!$H$27,ROWS($H$27:H53)-1,COLUMNS($H$27:H53)-1)<>\"\",OFFSET([1]DE100_7!$H$27,ROWS($H$27:H53)-1,COLUMNS($H$27:H53)-1),\"\")","v":{"$error":"#VALUE!"}},{"$f":"IF(OFFSET([1]DE100_7!$I$27,ROWS($I$27:I53)-1,COLUMNS($I$27:I53)-1)<>\"\",OFFSET([1]DE100_7!$I$27,ROWS($I$27:I53)-1,COLUMNS($I$27:I53)-1),\"\")","v":{"$error":"#VALUE!"}},{"$f":"IF(OFFSET([1]DE100_7!$J$27,ROWS($J$27:J53)-1,COLUMNS($J$27:J53)-1)<>\"\",OFFSET([1]DE100_7!$J$27,ROWS($J$27:J53)-1,COLUMNS($J$27:J53)-1),\"\")","v":{"$error":"#VALUE!"}},{"$f":"IF(OFFSET([1]DE100_7!$K$27,ROWS($K$27:K53)-1,COLUMNS($K$27:K53)-1)<>\"\",OFFSET([1]DE100_7!$K$27,ROWS($K$27:K53)-1,COLUMNS($K$27:K53)-1),\"\")","v":{"$error":"#VALUE!"}},{"$f":"IF(OFFSET([1]DE100_7!$L$27,ROWS($L$27:L53)-1,COLUMNS($L$27:L53)-1)<>\"\",OFFSET([1]DE100_7!$L$27,ROWS($L$27:L53)-1,COLUMNS($L$27:L53)-1),\"\")","v":{"$error":"#VALUE!"}},{"$f":"IF(OFFSET([1]DE100_7!$M$27,ROWS($M$27:M53)-1,COLUMNS($M$27:M53)-1)<>\"\",OFFSET([1]DE100_7!$M$27,ROWS($M$27:M53)-1,COLUMNS($M$27:M53)-1),\"\")","v":{"$error":"#VALUE!"}},{"$f":"IF(OFFSET([1]DE100_7!$N$27,ROWS($N$27:N53)-1,COLUMNS($N$27:N53)-1)<>\"\",OFFSET([1]DE100_7!$N$27,ROWS($N$27:N53)-1,COLUMNS($N$27:N53)-1),\"\")","v":{"$error":"#VALUE!"}},{"$f":"IF(OFFSET([1]DE100_7!$O$27,ROWS($O$27:O53)-1,COLUMNS($O$27:O53)-1)<>\"\",OFFSET([1]DE100_7!$O$27,ROWS($O$27:O53)-1,COLUMNS($O$27:O53)-1),\"\")","v":{"$error":"#VALUE!"}},{"$f":"IF(OFFSET([1]DE100_7!$P$27,ROWS($P$27:P53)-1,COLUMNS($P$27:P53)-1)<>\"\",OFFSET([1]DE100_7!$P$27,ROWS($P$27:P53)-1,COLUMNS($P$27:P53)-1),\"\")","v":{"$error":"#VALUE!"}},{"$f":"IF(OFFSET([1]DE100_7!$Q$27,ROWS($Q$27:Q53)-1,COLUMNS($Q$27:Q53)-1)<>\"\",OFFSET([1]DE100_7!$Q$27,ROWS($Q$27:Q53)-1,COLUMNS($Q$27:Q53)-1),\"\")","v":{"$error":"#VALUE!"}},{"$f":"IF(OFFSET([1]DE100_7!$R$27,ROWS($R$27:R53)-1,COLUMNS($R$27:R53)-1)<>\"\",OFFSET([1]DE100_7!$R$27,ROWS($R$27:R53)-1,COLUMNS($R$27:R53)-1),\"\")","v":{"$error":"#VALUE!"}},{"$f":"IF(OFFSET([1]DE100_7!$S$27,ROWS($S$27:S53)-1,COLUMNS($S$27:S53)-1)<>\"\",OFFSET([1]DE100_7!$S$27,ROWS($S$27:S53)-1,COLUMNS($S$27:S53)-1),\"\")","v":{"$error":"#VALUE!"}},{"$f":"IF(OFFSET([1]DE100_7!$T$27,ROWS($T$27:T53)-1,COLUMNS($T$27:T53)-1)<>\"\",OFFSET([1]DE100_7!$T$27,ROWS($T$27:T53)-1,COLUMNS($T$27:T53)-1),\"\")","v":{"$error":"#VALUE!"}},{"$f":"IF(OFFSET([1]DE100_7!$U$27,ROWS($U$27:U53)-1,COLUMNS($U$27:U53)-1)<>\"\",OFFSET([1]DE100_7!$U$27,ROWS($U$27:U53)-1,COLUMNS($U$27:U53)-1),\"\")","v":{"$error":"#VALUE!"}},{"$f":"IF(OFFSET([1]DE100_7!$V$27,ROWS($V$27:V53)-1,COLUMNS($V$27:V53)-1)<>\"\",OFFSET([1]DE100_7!$V$27,ROWS($V$27:V53)-1,COLUMNS($V$27:V53)-1),\"\")","v":{"$error":"#VALUE!"}}]
[{"$f":"IF(OFFSET([1]DE100_7!$C$27,ROWS($C$27:C54)-1,COLUMNS($C$27:C54)-1)<>\"\",OFFSET([1]DE100_7!$C$27,ROWS($C$27:C54)-1,COLUMNS($C$27:C54)-1),\"\")","v":{"$error":"#VALUE!"}},{"$f":"IF(OFFSET([1]DE100_7!$D$27,ROWS($D$27:D54)-1,COLUMNS($D$27:D54)-1)<>\"\",OFFSET([1]DE100_7!$D$27,ROWS($D$27:D54)-1,COLUMNS($D$27:D54)-1),\"\")","v":{"$error":"#VALUE!"}},{"$f":"IF(OFFSET([1]DE100_7!$E$27,ROWS($E$27:E54)-1,COLUMNS($E$27:E54)-1)<>\"\",OFFSET([1]DE100_7!$E$27,ROWS($E$27:E54)-1,COLUMNS($E$27:E54)-1),\"\")","v":{"$error":"#VALUE!"}},{"$f":"IF(OFFSET([1]DE100_7!$F$27,ROWS($F$27:F54)-1,COLUMNS($F$27:F54)-1)<>\"\",OFFSET([1]DE100_7!$F$27,ROWS($F$27:F54)-1,COLUMNS($F$27:F54)-1),\"\")","v":{"$error":"#VALUE!"}},{"$f":"IF(OFFSET([1]DE100_7!$G$27,ROWS($G$27:G54)-1,COLUMNS($G$27:G54)-1)<>\"\",OFFSET([1]DE100_7!$G$27,ROWS($G$27:G54)-1,COLUMNS($G$27:G54)-1),\"\")","v":{"$error":"#VALUE!"}},{"$f":"IF(OFFSET([1]DE100_7!$H$27,ROWS($H$27:H54)-1,COLUMNS($H$27:H54)-1)<>\"\",OFFSET([1]DE100_7!$H$27,ROWS($H$27:H54)-1,COLUMNS($H$27:H54)-1),\"\")","v":{"$error":"#VALUE!"}},{"$f":"IF(OFFSET([1]DE100_7!$I$27,ROWS($I$27:I54)-1,COLUMNS($I$27:I54)-1)<>\"\",OFFSET([1]DE100_7!$I$27,ROWS($I$27:I54)-1,COLUMNS($I$27:I54)-1),\"\")","v":{"$error":"#VALUE!"}},{"$f":"IF(OFFSET([1]DE100_7!$J$27,ROWS($J$27:J54)-1,COLUMNS($J$27:J54)-1)<>\"\",OFFSET([1]DE100_7!$J$27,ROWS($J$27:J54)-1,COLUMNS($J$27:J54)-1),\"\")","v":{"$error":"#VALUE!"}},{"$f":"IF(OFFSET([1]DE100_7!$K$27,ROWS($K$27:K54)-1,COLUMNS($K$27:K54)-1)<>\"\",OFFSET([1]DE100_7!$K$27,ROWS($K$27:K54)-1,COLUMNS($K$27:K54)-1),\"\")","v":{"$error":"#VALUE!"}},{"$f":"IF(OFFSET([1]DE100_7!$L$27,ROWS($L$27:L54)-1,COLUMNS($L$27:L54)-1)<>\"\",OFFSET([1]DE100_7!$L$27,ROWS($L$27:L54)-1,COLUMNS($L$27:L54)-1),\"\")","v":{"$error":"#VALUE!"}},{"$f":"IF(OFFSET([1]DE100_7!$M$27,ROWS($M$27:M54)-1,COLUMNS($M$27:M54)-1)<>\"\",OFFSET([1]DE100_7!$M$27,ROWS($M$27:M54)-1,COLUMNS($M$27:M54)-1),\"\")","v":{"$error":"#VALUE!"}},{"$f":"IF(OFFSET([1]DE100_7!$N$27,ROWS($N$27:N54)-1,COLUMNS($N$27:N54)-1)<>\"\",OFFSET([1]DE100_7!$N$27,ROWS($N$27:N54)-1,COLUMNS($N$27:N54)-1),\"\")","v":{"$error":"#VALUE!"}},{"$f":"IF(OFFSET([1]DE100_7!$O$27,ROWS($O$27:O54)-1,COLUMNS($O$27:O54)-1)<>\"\",OFFSET([1]DE100_7!$O$27,ROWS($O$27:O54)-1,COLUMNS($O$27:O54)-1),\"\")","v":{"$error":"#VALUE!"}},{"$f":"IF(OFFSET([1]DE100_7!$P$27,ROWS($P$27:P54)-1,COLUMNS($P$27:P54)-1)<>\"\",OFFSET([1]DE100_7!$P$27,ROWS($P$27:P54)-1,COLUMNS($P$27:P54)-1),\"\")","v":{"$error":"#VALUE!"}},{"$f":"IF(OFFSET([1]DE100_7!$Q$27,ROWS($Q$27:Q54)-1,COLUMNS($Q$27:Q54)-1)<>\"\",OFFSET([1]DE100_7!$Q$27,ROWS($Q$27:Q54)-1,COLUMNS($Q$27:Q54)-1),\"\")","v":{"$error":"#VALUE!"}},{"$f":"IF(OFFSET([1]DE100_7!$R$27,ROWS($R$27:R54)-1,COLUMNS($R$27:R54)-1)<>\"\",OFFSET([1]DE100_7!$R$27,ROWS($R$27:R54)-1,COLUMNS($R$27:R54)-1),\"\")","v":{"$error":"#VALUE!"}},{"$f":"IF(OFFSET([1]DE100_7!$S$27,ROWS($S$27:S54)-1,COLUMNS($S$27:S54)-1)<>\"\",OFFSET([1]DE100_7!$S$27,ROWS($S$27:S54)-1,COLUMNS($S$27:S54)-1),\"\")","v":{"$error":"#VALUE!"}},{"$f":"IF(OFFSET([1]DE100_7!$T$27,ROWS($T$27:T54)-1,COLUMNS($T$27:T54)-1)<>\"\",OFFSET([1]DE100_7!$T$27,ROWS($T$27:T54)-1,COLUMNS($T$27:T54)-1),\"\")","v":{"$error":"#VALUE!"}},{"$f":"IF(OFFSET([1]DE100_7!$U$27,ROWS($U$27:U54)-1,COLUMNS($U$27:U54)-1)<>\"\",OFFSET([1]DE100_7!$U$27,ROWS($U$27:U54)-1,COLUMNS($U$27:U54)-1),\"\")","v":{"$error":"#VALUE!"}},{"$f":"IF(OFFSET([1]DE100_7!$V$27,ROWS($V$27:V54)-1,COLUMNS($V$27:V54)-1)<>\"\",OFFSET([1]DE100_7!$V$27,ROWS($V$27:V54)-1,COLUMNS($V$27:V54)-1),\"\")","v":{"$error":"#VALUE!"}}]
[{"$f":"IF(OFFSET([1]DE100_7!$C$27,ROWS($C$27:C55)-1,COLUMNS($C$27:C55)-1)<>\"\",OFFSET([1]DE100_7!$C$27,ROWS($C$27:C55)-1,COLUMNS($C$27:C55)-1),\"\")","v":{"$error":"#VALUE!"}},{"$f":"IF(OFFSET([1]DE100_7!$D$27,ROWS($D$27:D55)-1,COLUMNS($D$27:D55)-1)<>\"\",OFFSET([1]DE100_7!$D$27,ROWS($D$27:D55)-1,COLUMNS($D$27:D55)-1),\"\")","v":{"$error":"#VALUE!"}},{"$f":"IF(OFFSET([1]DE100_7!$E$27,ROWS($E$27:E55)-1,COLUMNS($E$27:E55)-1)<>\"\",OFFSET([1]DE100_7!$E$27,ROWS($E$27:E55)-1,COLUMNS($E$27:E55)-1),\"\")","v":{"$error":"#VALUE!"}},{"$f":"IF(OFFSET([1]DE100_7!$F$27,ROWS($F$27:F55)-1,COLUMNS($F$27:F55)-1)<>\"\",OFFSET([1]DE100_7!$F$27,ROWS($F$27:F55)-1,COLUMNS($F$27:F55)-1),\"\")","v":{"$error":"#VALUE!"}},{"$f":"IF(OFFSET([1]DE100_7!$G$27,ROWS($G$27:G55)-1,COLUMNS($G$27:G55)-1)<>\"\",OFFSET([1]DE100_7!$G$27,ROWS($G$27:G55)-1,COLUMNS($G$27:G55)-1),\"\")","v":{"$error":"#VALUE!"}},{"$f":"IF(OFFSET([1]DE100_7!$H$27,ROWS($H$27:H55)-1,COLUMNS($H$27:H55)-1)<>\"\",OFFSET([1]DE100_7!$H$27,ROWS($H$27:H55)-1,COLUMNS($H$27:H55)-1),\"\")","v":{"$error":"#VALUE!"}},{"$f":"IF(OFFSET([1]DE100_7!$I$27,ROWS($I$27:I55)-1,COLUMNS($I$27:I55)-1)<>\"\",OFFSET([1]DE100_7!$I$27,ROWS($I$27:I55)-1,COLUMNS($I$27:I55)-1),\"\")","v":{"$error":"#VALUE!"}},{"$f":"IF(OFFSET([1]DE100_7!$J$27,ROWS($J$27:J55)-1,COLUMNS($J$27:J55)-1)<>\"\",OFFSET([1]DE100_7!$J$27,ROWS($J$27:J55)-1,COLUMNS($J$27:J55)-1),\"\")","v":{"$error":"#VALUE!"}},{"$f":"IF(OFFSET([1]DE100_7!$K$27,ROWS($K$27:K55)-1,COLUMNS($K$27:K55)-1)<>\"\",OFFSET([1]DE100_7!$K$27,ROWS($K$27:K55)-1,COLUMNS($K$27:K55)-1),\"\")","v":{"$error":"#VALUE!"}},{"$f":"IF(OFFSET([1]DE100_7!$L$27,ROWS($L$27:L55)-1,COLUMNS($L$27:L55)-1)<>\"\",OFFSET([1]DE100_7!$L$27,ROWS($L$27:L55)-1,COLUMNS($L$27:L55)-1),\"\")","v":{"$error":"#VALUE!"}},{"$f":"IF(OFFSET([1]DE100_7!$M$27,ROWS($M$27:M55)-1,COLUMNS($M$27:M55)-1)<>\"\",OFFSET([1]DE100_7!$M$27,ROWS($M$27:M55)-1,COLUMNS($M$27:M55)-1),\"\")","v":{"$error":"#VALUE!"}},{"$f":"IF(OFFSET([1]DE100_7!$N$27,ROWS($N$27:N55)-1,COLUMNS($N$27:N55)-1)<>\"\",OFFSET([1]DE100_7!$N$27,ROWS($N$27:N55)-1,COLUMNS($N$27:N55)-1),\"\")","v":{"$error":"#VALUE!"}},{"$f":"IF(OFFSET([1]DE100_7!$O$27,ROWS($O$27:O55)-1,COLUMNS($O$27:O55)-1)<>\"\",OFFSET([1]DE100_7!$O$27,ROWS($O$27:O55)-1,COLUMNS($O$27:O55)-1),\"\")","v":{"$error":"#VALUE!"}},{"$f":"IF(OFFSET([1]DE100_7!$P$27,ROWS($P$27:P55)-1,COLUMNS($P$27:P55)-1)<>\"\",OFFSET([1]DE100_7!$P$27,ROWS($P$27:P55)-1,COLUMNS($P$27:P55)-1),\"\")","v":{"$error":"#VALUE!"}},{"$f":"IF(OFFSET([1]DE100_7!$Q$27,ROWS($Q$27:Q55)-1,COLUMNS($Q$27:Q55)-1)<>\"\",OFFSET([1]DE100_7!$Q$27,ROWS($Q$27:Q55)-1,COLUMNS($Q$27:Q55)-1),\"\")","v":{"$error":"#VALUE!"}},{"$f":"IF(OFFSET([1]DE100_7!$R$27,ROWS($R$27:R55)-1,COLUMNS($R$27:R55)-1)<>\"\",OFFSET([1]DE100_7!$R$27,ROWS($R$27:R55)-1,COLUMNS($R$27:R55)-1),\"\")","v":{"$error":"#VALUE!"}},{"$f":"IF(OFFSET([1]DE100_7!$S$27,ROWS($S$27:S55)-1,COLUMNS($S$27:S55)-1)<>\"\",OFFSET([1]DE100_7!$S$27,ROWS($S$27:S55)-1,COLUMNS($S$27:S55)-1),\"\")","v":{"$error":"#VALUE!"}},{"$f":"IF(OFFSET([1]DE100_7!$T$27,ROWS($T$27:T55)-1,COLUMNS($T$27:T55)-1)<>\"\",OFFSET([1]DE100_7!$T$27,ROWS($T$27:T55)-1,COLUMNS($T$27:T55)-1),\"\")","v":{"$error":"#VALUE!"}},{"$f":"IF(OFFSET([1]DE100_7!$U$27,ROWS($U$27:U55)-1,COLUMNS($U$27:U55)-1)<>\"\",OFFSET([1]DE100_7!$U$27,ROWS($U$27:U55)-1,COLUMNS($U$27:U55)-1),\"\")","v":{"$error":"#VALUE!"}},{"$f":"IF(OFFSET([1]DE100_7!$V$27,ROWS($V$27:V55)-1,COLUMNS($V$27:V55)-1)<>\"\",OFFSET([1]DE100_7!$V$27,ROWS($V$27:V55)-1,COLUMNS($V$27:V55)-1),\"\")","v":{"$error":"#VALUE!"}}]
[{"$f":"IF(OFFSET([1]DE100_7!$C$27,ROWS($C$27:C56)-1,COLUMNS($C$27:C56)-1)<>\"\",OFFSET([1]DE100_7!$C$27,ROWS($C$27:C56)-1,COLUMNS($C$27:C56)-1),\"\")","v":{"$error":"#VALUE!"}},{"$f":"IF(OFFSET([1]DE100_7!$D$27,ROWS($D$27:D56)-1,COLUMNS($D$27:D56)-1)<>\"\",OFFSET([1]DE100_7!$D$27,ROWS($D$27:D56)-1,COLUMNS($D$27:D56)-1),\"\")","v":{"$error":"#VALUE!"}},{"$f":"IF(OFFSET([1]DE100_7!$E$27,ROWS($E$27:E56)-1,COLUMNS($E$27:E56)-1)<>\"\",OFFSET([1]DE100_7!$E$27,ROWS($E$27:E56)-1,COLUMNS($E$27:E56)-1),\"\")","v":{"$error":"#VALUE!"}},{"$f":"IF(OFFSET([1]DE100_7!$F$27,ROWS($F$27:F56)-1,COLUMNS($F$27:F56)-1)<>\"\",OFFSET([1]DE100_7!$F$27,ROWS($F$27:F56)-1,COLUMNS($F$27:F56)-1),\"\")","v":{"$error":"#VALUE!"}},{"$f":"IF(OFFSET([1]DE100_7!$G$27,ROWS($G$27:G56)-1,COLUMNS($G$27:G56)-1)<>\"\",OFFSET([1]DE100_7!$G$27,ROWS($G$27:G56)-1,COLUMNS($G$27:G56)-1),\"\")","v":{"$error":"#VALUE!"}},{"$f":"IF(OFFSET([1]DE100_7!$H$27,ROWS($H$27:H56)-1,COLUMNS($H$27:H56)-1)<>\"\",OFFSET([1]DE100_7!$H$27,ROWS($H$27:H56)-1,COLUMNS($H$27:H56)-1),\"\")","v":{"$error":"#VALUE!"}},{"$f":"IF(OFFSET([1]DE100_7!$I$27,ROWS($I$27:I56)-1,COLUMNS($I$27:I56)-1)<>\"\",OFFSET([1]DE100_7!$I$27,ROWS($I$27:I56)-1,COLUMNS($I$27:I56)-1),\"\")","v":{"$error":"#VALUE!"}},{"$f":"IF(OFFSET([1]DE100_7!$J$27,ROWS($J$27:J56)-1,COLUMNS($J$27:J56)-1)<>\"\",OFFSET([1]DE100_7!$J$27,ROWS($J$27:J56)-1,COLUMNS($J$27:J56)-1),\"\")","v":{"$error":"#VALUE!"}},{"$f":"IF(OFFSET([1]DE100_7!$K$27,ROWS($K$27:K56)-1,COLUMNS($K$27:K56)-1)<>\"\",OFFSET([1]DE100_7!$K$27,ROWS($K$27:K56)-1,COLUMNS($K$27:K56)-1),\"\")","v":{"$error":"#VALUE!"}},{"$f":"IF(OFFSET([1]DE100_7!$L$27,ROWS($L$27:L56)-1,COLUMNS($L$27:L56)-1)<>\"\",OFFSET([1]DE100_7!$L$27,ROWS($L$27:L56)-1,COLUMNS($L$27:L56)-1),\"\")","v":{"$error":"#VALUE!"}},{"$f":"IF(OFFSET([1]DE100_7!$M$27,ROWS($M$27:M56)-1,COLUMNS($M$27:M56)-1)<>\"\",OFFSET([1]DE100_7!$M$27,ROWS($M$27:M56)-1,COLUMNS($M$27:M56)-1),\"\")","v":{"$error":"#VALUE!"}},{"$f":"IF(OFFSET([1]DE100_7!$N$27,ROWS($N$27:N56)-1,COLUMNS($N$27:N56)-1)<>\"\",OFFSET([1]DE100_7!$N$27,ROWS($N$27:N56)-1,COLUMNS($N$27:N56)-1),\"\")","v":{"$error":"#VALUE!"}},{"$f":"IF(OFFSET([1]DE100_7!$O$27,ROWS($O$27:O56)-1,COLUMNS($O$27:O56)-1)<>\"\",OFFSET([1]DE100_7!$O$27,ROWS($O$27:O56)-1,COLUMNS($O$27:O56)-1),\"\")","v":{"$error":"#VALUE!"}},{"$f":"IF(OFFSET([1]DE100_7!$P$27,ROWS($P$27:P56)-1,COLUMNS($P$27:P56)-1)<>\"\",OFFSET([1]DE100_7!$P$27,ROWS($P$27:P56)-1,COLUMNS($P$27:P56)-1),\"\")","v":{"$error":"#VALUE!"}},{"$f":"IF(OFFSET([1]DE100_7!$Q$27,ROWS($Q$27:Q56)-1,COLUMNS($Q$27:Q56)-1)<>\"\",OFFSET([1]DE100_7!$Q$27,ROWS($Q$27:Q56)-1,COLUMNS($Q$27:Q56)-1),\"\")","v":{"$error":"#VALUE!"}},{"$f":"IF(OFFSET([1]DE100_7!$R$27,ROWS($R$27:R56)-1,COLUMNS($R$27:R56)-1)<>\"\",OFFSET([1]DE100_7!$R$27,ROWS($R$27:R56)-1,COLUMNS($R$27:R56)-1),\"\")","v":{"$error":"#VALUE!"}},{"$f":"IF(OFFSET([1]DE100_7!$S$27,ROWS($S$27:S56)-1,COLUMNS($S$27:S56)-1)<>\"\",OFFSET([1]DE100_7!$S$27,ROWS($S$27:S56)-1,COLUMNS($S$27:S56)-1),\"\")","v":{"$error":"#VALUE!"}},{"$f":"IF(OFFSET([1]DE100_7!$T$27,ROWS($T$27:T56)-1,COLUMNS($T$27:T56)-1)<>\"\",OFFSET([1]DE100_7!$T$27,ROWS($T$27:T56)-1,COLUMNS($T$27:T56)-1),\"\")","v":{"$error":"#VALUE!"}},{"$f":"IF(OFFSET([1]DE100_7!$U$27,ROWS($U$27:U56)-1,COLUMNS($U$27:U56)-1)<>\"\",OFFSET([1]DE100_7!$U$27,ROWS($U$27:U56)-1,COLUMNS($U$27:U56)-1),\"\")","v":{"$error":"#VALUE!"}},{"$f":"IF(OFFSET([1]DE100_7!$V$27,ROWS($V$27:V56)-1,COLUMNS($V$27:V56)-1)<>\"\",OFFSET([1]DE100_7!$V$27,ROWS($V$27:V56)-1,COLUMNS($V$27:V56)-1),\"\")","v":{"$error":"#VALUE!"}}]
[{"$f":"IF(OFFSET([1]DE100_7!$C$27,ROWS($C$27:C57)-1,COLUMNS($C$27:C57)-1)<>\"\",OFFSET([1]DE100_7!$C$27,ROWS($C$27:C57)-1,COLUMNS($C$27:C57)-1),\"\")","v":{"$error":"#VALUE!"}},null,null,null,{"$f":"IF(OFFSET([1]DE100_7!$G$27,ROWS($G$27:G57)-1,COLUMNS($G$27:G57)-1)<>\"\",OFFSET([1]DE100_7!$G$27,ROWS($G$27:G57)-1,COLUMNS($G$27:G57)-1),\"\")","v":{"$error":"#VALUE!"}},{"$f":"IF(OFFSET([1]DE100_7!$H$27,ROWS($H$27:H57)-1,COLUMNS($H$27:H57)-1)<>\"\",OFFSET([1]DE100_7!$H$27,ROWS($H$27:H57)-1,COLUMNS($H$27:H57)-1),\"\")","v":{"$error":"#VALUE!"}},{"$f":"IF(OFFSET([1]DE100_7!$I$27,ROWS($I$27:I57)-1,COLUMNS($I$27:I57)-1)<>\"\",OFFSET([1]DE100_7!$I$27,ROWS($I$27:I57)-1,COLUMNS($I$27:I57)-1),\"\")","v":{"$error":"#VALUE!"}},{"$f":"IF(OFFSET([1]DE100_7!$J$27,ROWS($J$27:J57)-1,COLUMNS($J$27:J57)-1)<>\"\",OFFSET([1]DE100_7!$J$27,ROWS($J$27:J57)-1,COLUMNS($J$27:J57)-1),\"\")","v":{"$error":"#VALUE!"}},{"$f":"IF(OFFSET([1]DE100_7!$K$27,ROWS($K$27:K57)-1,COLUMNS($K$27:K57)-1)<>\"\",OFFSET([1]DE100_7!$K$27,ROWS($K$27:K57)-1,COLUMNS($K$27:K57)-1),\"\")","v":{"$error":"#VALUE!"}},{"$f":"IF(OFFSET([1]DE100_7!$L$27,ROWS($L$27:L57)-1,COLUMNS($L$27:L57)-1)<>\"\",OFFSET([1]DE100_7!$L$27,ROWS($L$27:L57)-1,COLUMNS($L$27:L57)-1),\"\")","v":{"$error":"#VALUE!"}},{"$f":"IF(OFFSET([1]DE100_7!$M$27,ROWS($M$27:M57)-1,COLUMNS($M$27:M57)-1)<>\"\",OFFSET([1]DE100_7!$M$27,ROWS($M$27:M57)-1,COLUMNS($M$27:M57)-1),\"\")","v":{"$error":"#VALUE!"}},{"$f":"IF(OFFSET([1]DE100_7!$N$27,ROWS($N$27:N57)-1,COLUMNS($N$27:N57)-1)<>\"\",OFFSET([1]DE100_7!$N$27,ROWS($N$27:N57)-1,COLUMNS($N$27:N57)-1),\"\")","v":{"$error":"#VALUE!"}},{"$f":"IF(OFFSET([1]DE100_7!$O$27,ROWS($O$27:O57)-1,COLUMNS($O$27:O57)-1)<>\"\",OFFSET([1]DE100_7!$O$27,ROWS($O$27:O57)-1,COLUMNS($O$27:O57)-1),\"\")","v":{"$error":"#VALUE!"}},{"$f":"IF(OFFSET([1]DE100_7!$P$27,ROWS($P$27:P57)-1,COLUMNS($P$27:P57)-1)<>\"\",OFFSET([1]DE100_7!$P$27,ROWS($P$27:P57)-1,COLUMNS($P$27:P57)-1),\"\")","v":{"$error":"#VALUE!"}},{"$f":"IF(OFFSET([1]DE100_7!$Q$27,ROWS($Q$27:Q57)-1,COLUMNS($Q$27:Q57)-1)<>\"\",OFFSET([1]DE100_7!$Q$27,ROWS($Q$27:Q57)-1,COLUMNS($Q$27:Q57)-1),\"\")","v":{"$error":"#VALUE!"}},{"$f":"IF(OFFSET([1]DE100_7!$R$27,ROWS($R$27:R57)-1,COLUMNS($R$27:R57)-1)<>\"\",OFFSET([1]DE100_7!$R$27,ROWS($R$27:R57)-1,COLUMNS($R$27:R57)-1),\"\")","v":{"$error":"#VALUE!"}},{"$f":"IF(OFFSET([1]DE100_7!$S$27,ROWS($S$27:S57)-1,COLUMNS($S$27:S57)-1)<>\"\",OFFSET([1]DE100_7!$S$27,ROWS($S$27:S57)-1,COLUMNS($S$27:S57)-1),\"\")","v":{"$error":"#VALUE!"}},{"$f":"IF(OFFSET([1]DE100_7!$T$27,ROWS($T$27:T57)-1,COLUMNS($T$27:T57)-1)<>\"\",OFFSET([1]DE100_7!$T$27,ROWS($T$27:T57)-1,COLUMNS($T$27:T57)-1),\"\")","v":{"$error":"#VALUE!"}},{"$f":"IF(OFFSET([1]DE100_7!$U$27,ROWS($U$27:U57)-1,COLUMNS($U$27:U57)-1)<>\"\",OFFSET([1]DE100_7!$U$27,ROWS($U$27:U57)-1,COLUMNS($U$27:U57)-1),\"\")","v":{"$error":"#VALUE!"}},{"$f":"IF(OFFSET([1]DE100_7!$V$27,ROWS($V$27:V57)-1,COLUMNS($V$27:V57)-1)<>\"\",OFFSET([1]DE100_7!$V$27,ROWS($V$27:V57)-1,COLUMNS($V$27:V57)-1),\"\")","v":{"$error":"#VALUE!"}}]
[{"$f":"IF(OFFSET([1]DE100_7!$C$27,ROWS($C$27:C58)-1,COLUMNS($C$27:C58)-1)<>\"\",OFFSET([1]DE100_7!$C$27,ROWS($C$27:C58)-1,COLUMNS($C$27:C58)-1),\"\")","v":{"$error":"#VALUE!"}},{"$f":"IF(OFFSET([1]DE100_7!$D$27,ROWS($D$27:D58)-1,COLUMNS($D$27:D58)-1)<>\"\",OFFSET([1]DE100_7!$D$27,ROWS($D$27:D58)-1,COLUMNS($D$27:D58)-1),\"\")","v":{"$error":"#VALUE!"}},{"$f":"IF(OFFSET([1]DE100_7!$E$27,ROWS($E$27:E58)-1,COLUMNS($E$27:E58)-1)<>\"\",OFFSET([1]DE100_7!$E$27,ROWS($E$27:E58)-1,COLUMNS($E$27:E58)-1),\"\")","v":{"$error":"#VALUE!"}},{"$f":"IF(OFFSET([1]DE100_7!$F$27,ROWS($F$27:F58)-1,COLUMNS($F$27:F58)-1)<>\"\",OFFSET([1]DE100_7!$F$27,ROWS($F$27:F58)-1,COLUMNS($F$27:F58)-1),\"\")","v":{"$error":"#VALUE!"}},{"$f":"IF(OFFSET([1]DE100_7!$G$27,ROWS($G$27:G58)-1,COLUMNS($G$27:G58)-1)<>\"\",OFFSET([1]DE100_7!$G$27,ROWS($G$27:G58)-1,COLUMNS($G$27:G58)-1),\"\")","v":{"$error":"#VALUE!"}},{"$f":"IF(OFFSET([1]DE100_7!$H$27,ROWS($H$27:H58)-1,COLUMNS($H$27:H58)-1)<>\"\",OFFSET([1]DE100_7!$H$27,ROWS($H$27:H58)-1,COLUMNS($H$27:H58)-1),\"\")","v":{"$error":"#VALUE!"}},{"$f":"IF(OFFSET([1]DE100_7!$I$27,ROWS($I$27:I58)-1,COLUMNS($I$27:I58)-1)<>\"\",OFFSET([1]DE100_7!$I$27,ROWS($I$27:I58)-1,COLUMNS($I$27:I58)-1),\"\")","v":{"$error":"#VALUE!"}},{"$f":"IF(OFFSET([1]DE100_7!$J$27,ROWS($J$27:J58)-1,COLUMNS($J$27:J58)-1)<>\"\",OFFSET([1]DE100_7!$J$27,ROWS($J$27:J58)-1,COLUMNS($J$27:J58)-1),\"\")","v":{"$error":"#VALUE!"}},{"$f":"IF(OFFSET([1]DE100_7!$K$27,ROWS($K$27:K58)-1,COLUMNS($K$27:K58)-1)<>\"\",OFFSET([1]DE100_7!$K$27,ROWS($K$27:K58)-1,COLUMNS($K$27:K58)-1),\"\")","v":{"$error":"#VALUE!"}},{"$f":"IF(OFFSET([1]DE100_7!$L$27,ROWS($L$27:L58)-1,COLUMNS($L$27:L58)-1)<>\"\",OFFSET([1]DE100_7!$L$27,ROWS($L$27:L58)-1,COLUMNS($L$27:L58)-1),\"\")","v":{"$error":"#VALUE!"}},{"$f":"IF(OFFSET([1]DE100_7!$M$27,ROWS($M$27:M58)-1,COLUMNS($M$27:M58)-1)<>\"\",OFFSET([1]DE100_7!$M$27,ROWS($M$27:M58)-1,COLUMNS($M$27:M58)-1),\"\")","v":{"$error":"#VALUE!"}},{"$f":"IF(OFFSET([1]DE100_7!$N$27,ROWS($N$27:N58)-1,COLUMNS($N$27:N58)-1)<>\"\",OFFSET([1]DE100_7!$N$27,ROWS($N$27:N58)-1,COLUMNS($N$27:N58)-1),\"\")","v":{"$error":"#VALUE!"}},{"$f":"IF(OFFSET([1]DE100_7!$O$27,ROWS($O$27:O58)-1,COLUMNS($O$27:O58)-1)<>\"\",OFFSET([1]DE100_7!$O$27,ROWS($O$27:O58)-1,COLUMNS($O$27:O58)-1),\"\")","v":{"$error":"#VALUE!"}},{"$f":"IF(OFFSET([1]DE100_7!$P$27,ROWS($P$27:P58)-1,COLUMNS($P$27:P58)-1)<>\"\",OFFSET([1]DE100_7!$P$27,ROWS($P$27:P58)-1,COLUMNS($P$27:P58)-1),\"\")","v":{"$error":"#VALUE!"}},{"$f":"IF(OFFSET([1]DE100_7!$Q$27,ROWS($Q$27:Q58)-1,COLUMNS($Q$27:Q58)-1)<>\"\",OFFSET([1]DE100_7!$Q$27,ROWS($Q$27:Q58)-1,COLUMNS($Q$27:Q58)-1),\"\")","v":{"$error":"#VALUE!"}},{"$f":"IF(OFFSET([1]DE100_7!$R$27,ROWS($R$27:R58)-1,COLUMNS($R$27:R58)-1)<>\"\",OFFSET([1]DE100_7!$R$27,ROWS($R$27:R58)-1,COLUMNS($R$27:R58)-1),\"\")","v":{"$error":"#VALUE!"}},{"$f":"IF(OFFSET([1]DE100_7!$S$27,ROWS($S$27:S58)-1,COLUMNS($S$27:S58)-1)<>\"\",OFFSET([1]DE100_7!$S$27,ROWS($S$27:S58)-1,COLUMNS($S$27:S58)-1),\"\")","v":{"$error":"#VALUE!"}},{"$f":"IF(OFFSET([1]DE100_7!$T$27,ROWS($T$27:T58)-1,COLUMNS($T$27:T58)-1)<>\"\",OFFSET([1]DE100_7!$T$27,ROWS($T$27:T58)-1,COLUMNS($T$27:T58)-1),\"\")","v":{"$error":"#VALUE!"}},{"$f":"IF(OFFSET([1]DE100_7!$U$27,ROWS($U$27:U58)-1,COLUMNS($U$27:U58)-1)<>\"\",OFFSET([1]DE100_7!$U$27,ROWS($U$27:U58)-1,COLUMNS($U$27:U58)-1),\"\")","v":{"$error":"#VALUE!"}},{"$f":"IF(OFFSET([1]DE100_7!$V$27,ROWS($V$27:V58)-1,COLUMNS($V$27:V58)-1)<>\"\",OFFSET([1]DE100_7!$V$27,ROWS($V$27:V58)-1,COLUMNS($V$27:V58)-1),\"\")","v":{"$error":"#VALUE!"}}]
[{"$f":"IF(OFFSET([1]DE100_7!$C$27,ROWS($C$27:C59)-1,COLUMNS($C$27:C59)-1)<>\"\",OFFSET([1]DE100_7!$C$27,ROWS($C$27:C59)-1,COLUMNS($C$27:C59)-1),\"\")","v":{"$error":"#VALUE!"}},{"$f":"IF(OFFSET([1]DE100_7!$D$27,ROWS($D$27:D59)-1,COLUMNS($D$27:D59)-1)<>\"\",OFFSET([1]DE100_7!$D$27,ROWS($D$27:D59)-1,COLUMNS($D$27:D59)-1),\"\")","v":{"$error":"#VALUE!"}},{"$f":"IF(OFFSET([1]DE100_7!$E$27,ROWS($E$27:E59)-1,COLUMNS($E$27:E59)-1)<>\"\",OFFSET([1]DE100_7!$E$27,ROWS($E$27:E59)-1,COLUMNS($E$27:E59)-1),\"\")","v":{"$error":"#VALUE!"}},{"$f":"IF(OFFSET([1]DE100_7!$F$27,ROWS($F$27:F59)-1,COLUMNS($F$27:F59)-1)<>\"\",OFFSET([1]DE100_7!$F$27,ROWS($F$27:F59)-1,COLUMNS($F$27:F59)-1),\"\")","v":{"$error":"#VALUE!"}},{"$f":"IF(OFFSET([1]DE100_7!$G$27,ROWS($G$27:G59)-1,COLUMNS($G$27:G59)-1)<>\"\",OFFSET([1]DE100_7!$G$27,ROWS($G$27:G59)-1,COLUMNS($G$27:G59)-1),\"\")","v":{"$error":"#VALUE!"}},{"$f":"IF(OFFSET([1]DE100_7!$H$27,ROWS($H$27:H59)-1,COLUMNS($H$27:H59)-1)<>\"\",OFFSET([1]DE100_7!$H$27,ROWS($H$27:H59)-1,COLUMNS($H$27:H59)-1),\"\")","v":{"$error":"#VALUE!"}},{"$f":"IF(OFFSET([1]DE100_7!$I$27,ROWS($I$27:I59)-1,COLUMNS($I$27:I59)-1)<>\"\",OFFSET([1]DE100_7!$I$27,ROWS($I$27:I59)-1,COLUMNS($I$27:I59)-1),\"\")","v":{"$error":"#VALUE!"}},{"$f":"IF(OFFSET([1]DE100_7!$J$27,ROWS($J$27:J59)-1,COLUMNS($J$27:J59)-1)<>\"\",OFFSET([1]DE100_7!$J$27,ROWS($J$27:J59)-1,COLUMNS($J$27:J59)-1),\"\")","v":{"$error":"#VALUE!"}},{"$f":"IF(OFFSET([1]DE100_7!$K$27,ROWS($K$27:K59)-1,COLUMNS($K$27:K59)-1)<>\"\",OFFSET([1]DE100_7!$K$27,ROWS($K$27:K59)-1,COLUMNS($K$27:K59)-1),\"\")","v":{"$error":"#VALUE!"}},{"$f":"IF(OFFSET([1]DE100_7!$L$27,ROWS($L$27:L59)-1,COLUMNS($L$27:L59)-1)<>\"\",OFFSET([1]DE100_7!$L$27,ROWS($L$27:L59)-1,COLUMNS($L$27:L59)-1),\"\")","v":{"$error":"#VALUE!"}},{"$f":"IF(OFFSET([1]DE100_7!$M$27,ROWS($M$27:M59)-1,COLUMNS($M$27:M59)-1)<>\"\",OFFSET([1]DE100_7!$M$27,ROWS($M$27:M59)-1,COLUMNS($M$27:M59)-1),\"\")","v":{"$error":"#VALUE!"}},{"$f":"IF(OFFSET([1]DE100_7!$N$27,ROWS($N$27:N59)-1,COLUMNS($N$27:N59)-1)<>\"\",OFFSET([1]DE100_7!$N$27,ROWS($N$27:N59)-1,COLUMNS($N$27:N59)-1),\"\")","v":{"$error":"#VALUE!"}},{"$f":"IF(OFFSET([1]DE100_7!$O$27,ROWS($O$27:O59)-1,COLUMNS($O$27:O59)-1)<>\"\",OFFSET([1]DE100_7!$O$27,ROWS($O$27:O59)-1,COLUMNS($O$27:O59)-1),\"\")","v":{"$error":"#VALUE!"}},{"$f":"IF(OFFSET([1]DE100_7!$P$27,ROWS($P$27:P59)-1,COLUMNS($P$27:P59)-1)<>\"\",OFFSET([1]DE100_7!$P$27,ROWS($P$27:P59)-1,COLUMNS($P$27:P59)-1),\"\")","v":{"$error":"#VALUE!"}},{"$f":"IF(OFFSET([1]DE100_7!$Q$27,ROWS($Q$27:Q59)-1,COLUMNS($Q$27:Q59)-1)<>\"\",OFFSET([1]DE100_7!$Q$27,ROWS($Q$27:Q59)-1,COLUMNS($Q$27:Q59)-1),\"\")","v":{"$error":"#VALUE!"}},{"$f":"IF(OFFSET([1]DE100_7!$R$27,ROWS($R$27:R59)-1,COLUMNS($R$27:R59)-1)<>\"\",OFFSET([1]DE100_7!$R$27,ROWS($R$27:R59)-1,COLUMNS($R$27:R59)-1),\"\")","v":{"$error":"#VALUE!"}},{"$f":"IF(OFFSET([1]DE100_7!$S$27,ROWS($S$27:S59)-1,COLUMNS($S$27:S59)-1)<>\"\",OFFSET([1]DE100_7!$S$27,ROWS($S$27:S59)-1,COLUMNS($S$27:S59)-1),\"\")","v":{"$error":"#VALUE!"}},{"$f":"IF(OFFSET([1]DE100_7!$T$27,ROWS($T$27:T59)-1,COLUMNS($T$27:T59)-1)<>\"\",OFFSET([1]DE100_7!$T$27,ROWS($T$27:T59)-1,COLUMNS($T$27:T59)-1),\"\")","v":{"$error":"#VALUE!"}},{"$f":"IF(OFFSET([1]DE100_7!$U$27,ROWS($U$27:U59)-1,COLUMNS($U$27:U59)-1)<>\"\",OFFSET([1]DE100_7!$U$27,ROWS($U$27:U59)-1,COLUMNS($U$27:U59)-1),\"\")","v":{"$error":"#VALUE!"}},{"$f":"IF(OFFSET([1]DE100_7!$V$27,ROWS($V$27:V59)-1,COLUMNS($V$27:V59)-1)<>\"\",OFFSET([1]DE100_7!$V$27,ROWS($V$27:V59)-1,COLUMNS($V$27:V59)-1),\"\")","v":{"$error":"#VALUE!"}}]
[{"$f":"IF(OFFSET([1]DE100_7!$C$27,ROWS($C$27:C60)-1,COLUMNS($C$27:C60)-1)<>\"\",OFFSET([1]DE100_7!$C$27,ROWS($C$27:C60)-1,COLUMNS($C$27:C60)-1),\"\")","v":{"$error":"#VALUE!"}},{"$f":"IF(OFFSET([1]DE100_7!$D$27,ROWS($D$27:D60)-1,COLUMNS($D$27:D60)-1)<>\"\",OFFSET([1]DE100_7!$D$27,ROWS($D$27:D60)-1,COLUMNS($D$27:D60)-1),\"\")","v":{"$error":"#VALUE!"}},{"$f":"IF(OFFSET([1]DE100_7!$E$27,ROWS($E$27:E60)-1,COLUMNS($E$27:E60)-1)<>\"\",OFFSET([1]DE100_7!$E$27,ROWS($E$27:E60)-1,COLUMNS($E$27:E60)-1),\"\")","v":{"$error":"#VALUE!"}},{"$f":"IF(OFFSET([1]DE100_7!$F$27,ROWS($F$27:F60)-1,COLUMNS($F$27:F60)-1)<>\"\",OFFSET([1]DE100_7!$F$27,ROWS($F$27:F60)-1,COLUMNS($F$27:F60)-1),\"\")","v":{"$error":"#VALUE!"}},{"$f":"IF(OFFSET([1]DE100_7!$G$27,ROWS($G$27:G60)-1,COLUMNS($G$27:G60)-1)<>\"\",OFFSET([1]DE100_7!$G$27,ROWS($G$27:G60)-1,COLUMNS($G$27:G60)-1),\"\")","v":{"$error":"#VALUE!"}},{"$f":"IF(OFFSET([1]DE100_7!$H$27,ROWS($H$27:H60)-1,COLUMNS($H$27:H60)-1)<>\"\",OFFSET([1]DE100_7!$H$27,ROWS($H$27:H60)-1,COLUMNS($H$27:H60)-1),\"\")","v":{"$error":"#VALUE!"}},{"$f":"IF(OFFSET([1]DE100_7!$I$27,ROWS($I$27:I60)-1,COLUMNS($I$27:I60)-1)<>\"\",OFFSET([1]DE100_7!$I$27,ROWS($I$27:I60)-1,COLUMNS($I$27:I60)-1),\"\")","v":{"$error":"#VALUE!"}},{"$f":"IF(OFFSET([1]DE100_7!$J$27,ROWS($J$27:J60)-1,COLUMNS($J$27:J60)-1)<>\"\",OFFSET([1]DE100_7!$J$27,ROWS($J$27:J60)-1,COLUMNS($J$27:J60)-1),\"\")","v":{"$error":"#VALUE!"}},{"$f":"IF(OFFSET([1]DE100_7!$K$27,ROWS($K$27:K60)-1,COLUMNS($K$27:K60)-1)<>\"\",OFFSET([1]DE100_7!$K$27,ROWS($K$27:K60)-1,COLUMNS($K$27:K60)-1),\"\")","v":{"$error":"#VALUE!"}},{"$f":"IF(OFFSET([1]DE100_7!$L$27,ROWS($L$27:L60)-1,COLUMNS($L$27:L60)-1)<>\"\",OFFSET([1]DE100_7!$L$27,ROWS($L$27:L60)-1,COLUMNS($L$27:L60)-1),\"\")","v":{"$error":"#VALUE!"}},{"$f":"IF(OFFSET([1]DE100_7!$M$27,ROWS($M$27:M60)-1,COLUMNS($M$27:M60)-1)<>\"\",OFFSET([1]DE100_7!$M$27,ROWS($M$27:M60)-1,COLUMNS($M$27:M60)-1),\"\")","v":{"$error":"#VALUE!"}},{"$f":"IF(OFFSET([1]DE100_7!$N$27,ROWS($N$27:N60)-1,COLUMNS($N$27:N60)-1)<>\"\",OFFSET([1]DE100_7!$N$27,ROWS($N$27:N60)-1,COLUMNS($N$27:N60)-1),\"\")","v":{"$error":"#VALUE!"}},{"$f":"IF(OFFSET([1]DE100_7!$O$27,ROWS($O$27:O60)-1,COLUMNS($O$27:O60)-1)<>\"\",OFFSET([1]DE100_7!$O$27,ROWS($O$27:O60)-1,COLUMNS($O$27:O60)-1),\"\")","v":{"$error":"#VALUE!"}},{"$f":"IF(OFFSET([1]DE100_7!$P$27,ROWS($P$27:P60)-1,COLUMNS($P$27:P60)-1)<>\"\",OFFSET([1]DE100_7!$P$27,ROWS($P$27:P60)-1,COLUMNS($P$27:P60)-1),\"\")","v":{"$error":"#VALUE!"}},{"$f":"IF(OFFSET([1]DE100_7!$Q$27,ROWS($Q$27:Q60)-1,COLUMNS($Q$27:Q60)-1)<>\"\",OFFSET([1]DE100_7!$Q$27,ROWS($Q$27:Q60)-1,COLUMNS($Q$27:Q60)-1),\"\")","v":{"$error":"#VALUE!"}},{"$f":"IF(OFFSET([1]DE100_7!$R$27,ROWS($R$27:R60)-1,COLUMNS($R$27:R60)-1)<>\"\",OFFSET([1]DE100_7!$R$27,ROWS($R$27:R60)-1,COLUMNS($R$27:R60)-1),\"\")","v":{"$error":"#VALUE!"}},{"$f":"IF(OFFSET([1]DE100_7!$S$27,ROWS($S$27:S60)-1,COLUMNS($S$27:S60)-1)<>\"\",OFFSET([1]DE100_7!$S$27,ROWS($S$27:S60)-1,COLUMNS($S$27:S60)-1),\"\")","v":{"$error":"#VALUE!"}},{"$f":"IF(OFFSET([1]DE100_7!$T$27,ROWS($T$27:T60)-1,COLUMNS($T$27:T60)-1)<>\"\",OFFSET([1]DE100_7!$T$27,ROWS($T$27:T60)-1,COLUMNS($T$27:T60)-1),\"\")","v":{"$error":"#VALUE!"}},{"$f":"IF(OFFSET([1]DE100_7!$U$27,ROWS($U$27:U60)-1,COLUMNS($U$27:U60)-1)<>\"\",OFFSET([1]DE100_7!$U$27,ROWS($U$27:U60)-1,COLUMNS($U$27:U60)-1),\"\")","v":{"$error":"#VALUE!"}},{"$f":"IF(OFFSET([1]DE100_7!$V$27,ROWS($V$27:V60)-1,COLUMNS($V$27:V60)-1)<>\"\",OFFSET([1]DE100_7!$V$27,ROWS($V$27:V60)-1,COLUMNS($V$27:V60)-1),\"\")","v":{"$error":"#VALUE!"}}]
[{"$f":"IF(OFFSET([1]DE100_7!$C$27,ROWS($C$27:C61)-1,COLUMNS($C$27:C61)-1)<>\"\",OFFSET([1]DE100_7!$C$27,ROWS($C$27:C61)-1,COLUMNS($C$27:C61)-1),\"\")","v":{"$error":"#VALUE!"}},{"$f":"IF(OFFSET([1]DE100_7!$D$27,ROWS($D$27:D61)-1,COLUMNS($D$27:D61)-1)<>\"\",OFFSET([1]DE100_7!$D$27,ROWS($D$27:D61)-1,COLUMNS($D$27:D61)-1),\"\")","v":{"$error":"#VALUE!"}},{"$f":"IF(OFFSET([1]DE100_7!$E$27,ROWS($E$27:E61)-1,COLUMNS($E$27:E61)-1)<>\"\",OFFSET([1]DE100_7!$E$27,ROWS($E$27:E61)-1,COLUMNS($E$27:E61)-1),\"\")","v":{"$error":"#VALUE!"}},{"$f":"IF(OFFSET([1]DE100_7!$F$27,ROWS($F$27:F61)-1,COLUMNS($F$27:F61)-1)<>\"\",OFFSET([1]DE100_7!$F$27,ROWS($F$27:F61)-1,COLUMNS($F$27:F61)-1),\"\")","v":{"$error":"#VALUE!"}},{"$f":"IF(OFFSET([1]DE100_7!$G$27,ROWS($G$27:G61)-1,COLUMNS($G$27:G61)-1)<>\"\",OFFSET([1]DE100_7!$G$27,ROWS($G$27:G61)-1,COLUMNS($G$27:G61)-1),\"\")","v":{"$error":"#VALUE!"}},{"$f":"IF(OFFSET([1]DE100_7!$H$27,ROWS($H$27:H61)-1,COLUMNS($H$27:H61)-1)<>\"\",OFFSET([1]DE100_7!$H$27,ROWS($H$27:H61)-1,COLUMNS($H$27:H61)-1),\"\")","v":{"$error":"#VALUE!"}},{"$f":"IF(OFFSET([1]DE100_7!$I$27,ROWS($I$27:I61)-1,COLUMNS($I$27:I61)-1)<>\"\",OFFSET([1]DE100_7!$I$27,ROWS($I$27:I61)-1,COLUMNS($I$27:I61)-1),\"\")","v":{"$error":"#VALUE!"}},{"$f":"IF(OFFSET([1]DE100_7!$J$27,ROWS($J$27:J61)-1,COLUMNS($J$27:J61)-1)<>\"\",OFFSET([1]DE100_7!$J$27,ROWS($J$27:J61)-1,COLUMNS($J$27:J61)-1),\"\")","v":{"$error":"#VALUE!"}},{"$f":"IF(OFFSET([1]DE100_7!$K$27,ROWS($K$27:K61)-1,COLUMNS($K$27:K61)-1)<>\"\",OFFSET([1]DE100_7!$K$27,ROWS($K$27:K61)-1,COLUMNS($K$27:K61)-1),\"\")","v":{"$error":"#VALUE!"}},{"$f":"IF(OFFSET([1]DE100_7!$L$27,ROWS($L$27:L61)-1,COLUMNS($L$27:L61)-1)<>\"\",OFFSET([1]DE100_7!$L$27,ROWS($L$27:L61)-1,COLUMNS($L$27:L61)-1),\"\")","v":{"$error":"#VALUE!"}},{"$f":"IF(OFFSET([1]DE100_7!$M$27,ROWS($M$27:M61)-1,COLUMNS($M$27:M61)-1)<>\"\",OFFSET([1]DE100_7!$M$27,ROWS($M$27:M61)-1,COLUMNS($M$27:M61)-1),\"\")","v":{"$error":"#VALUE!"}},{"$f":"IF(OFFSET([1]DE100_7!$N$27,ROWS($N$27:N61)-1,COLUMNS($N$27:N61)-1)<>\"\",OFFSET([1]DE100_7!$N$27,ROWS($N$27:N61)-1,COLUMNS($N$27:N61)-1),\"\")","v":{"$error":"#VALUE!"}},{"$f":"IF(OFFSET([1]DE100_7!$O$27,ROWS($O$27:O61)-1,COLUMNS($O$27:O61)-1)<>\"\",OFFSET([1]DE100_7!$O$27,ROWS($O$27:O61)-1,COLUMNS($O$27:O61)-1),\"\")","v":{"$error":"#VALUE!"}},{"$f":"IF(OFFSET([1]DE100_7!$P$27,ROWS($P$27:P61)-1,COLUMNS($P$27:P61)-1)<>\"\",OFFSET([1]DE100_7!$P$27,ROWS($P$27:P61)-1,COLUMNS($P$27:P61)-1),\"\")","v":{"$error":"#VALUE!"}},{"$f":"IF(OFFSET([1]DE100_7!$Q$27,ROWS($Q$27:Q61)-1,COLUMNS($Q$27:Q61)-1)<>\"\",OFFSET([1]DE100_7!$Q$27,ROWS($Q$27:Q61)-1,COLUMNS($Q$27:Q61)-1),\"\")","v":{"$error":"#VALUE!"}},{"$f":"IF(OFFSET([1]DE100_7!$R$27,ROWS($R$27:R61)-1,COLUMNS($R$27:R61)-1)<>\"\",OFFSET([1]DE100_7!$R$27,ROWS($R$27:R61)-1,COLUMNS($R$27:R61)-1),\"\")","v":{"$error":"#VALUE!"}},{"$f":"IF(OFFSET([1]DE100_7!$S$27,ROWS($S$27:S61)-1,COLUMNS($S$27:S61)-1)<>\"\",OFFSET([1]DE100_7!$S$27,ROWS($S$27:S61)-1,COLUMNS($S$27:S61)-1),\"\")","v":{"$error":"#VALUE!"}},{"$f":"IF(OFFSET([1]DE100_7!$T$27,ROWS($T$27:T61)-1,COLUMNS($T$27:T61)-1)<>\"\",OFFSET([1]DE100_7!$T$27,ROWS($T$27:T61)-1,COLUMNS($T$27:T61)-1),\"\")","v":{"$error":"#VALUE!"}},{"$f":"IF(OFFSET([1]DE100_7!$U$27,ROWS($U$27:U61)-1,COLUMNS($U$27:U61)-1)<>\"\",OFFSET([1]DE100_7!$U$27,ROWS($U$27:U61)-1,COLUMNS($U$27:U61)-1),\"\")","v":{"$error":"#VALUE!"}},{"$f":"IF(OFFSET([1]DE100_7!$V$27,ROWS($V$27:V61)-1,COLUMNS($V$27:V61)-1)<>\"\",OFFSET([1]DE100_7!$V$27,ROWS($V$27:V61)-1,COLUMNS($V$27:V61)-1),\"\")","v":{"$error":"#VALUE!"}}]
[{"$f":"IF(OFFSET([1]DE100_7!$C$27,ROWS($C$27:C62)-1,COLUMNS($C$27:C62)-1)<>\"\",OFFSET([1]DE100_7!$C$27,ROWS($C$27:C62)-1,COLUMNS($C$27:C62)-1),\"\")","v":{"$error":"#VALUE!"}},{"$f":"IF(OFFSET([1]DE100_7!$D$27,ROWS($D$27:D62)-1,COLUMNS($D$27:D62)-1)<>\"\",OFFSET([1]DE100_7!$D$27,ROWS($D$27:D62)-1,COLUMNS($D$27:D62)-1),\"\")","v":{"$error":"#VALUE!"}},{"$f":"IF(OFFSET([1]DE100_7!$E$27,ROWS($E$27:E62)-1,COLUMNS($E$27:E62)-1)<>\"\",OFFSET([1]DE100_7!$E$27,ROWS($E$27:E62)-1,COLUMNS($E$27:E62)-1),\"\")","v":{"$error":"#VALUE!"}},{"$f":"IF(OFFSET([1]DE100_7!$F$27,ROWS($F$27:F62)-1,COLUMNS($F$27:F62)-1)<>\"\",OFFSET([1]DE100_7!$F$27,ROWS($F$27:F62)-1,COLUMNS($F$27:F62)-1),\"\")","v":{"$error":"#VALUE!"}},{"$f":"IF(OFFSET([1]DE100_7!$G$27,ROWS($G$27:G62)-1,COLUMNS($G$27:G62)-1)<>\"\",OFFSET([1]DE100_7!$G$27,ROWS($G$27:G62)-1,COLUMNS($G$27:G62)-1),\"\")","v":{"$error":"#VALUE!"}},{"$f":"IF(OFFSET([1]DE100_7!$H$27,ROWS($H$27:H62)-1,COLUMNS($H$27:H62)-1)<>\"\",OFFSET([1]DE100_7!$H$27,ROWS($H$27:H62)-1,COLUMNS($H$27:H62)-1),\"\")","v":{"$error":"#VALUE!"}},{"$f":"IF(OFFSET([1]DE100_7!$I$27,ROWS($I$27:I62)-1,COLUMNS($I$27:I62)-1)<>\"\",OFFSET([1]DE100_7!$I$27,ROWS($I$27:I62)-1,COLUMNS($I$27:I62)-1),\"\")","v":{"$error":"#VALUE!"}},{"$f":"IF(OFFSET([1]DE100_7!$J$27,ROWS($J$27:J62)-1,COLUMNS($J$27:J62)-1)<>\"\",OFFSET([1]DE100_7!$J$27,ROWS($J$27:J62)-1,COLUMNS($J$27:J62)-1),\"\")","v":{"$error":"#VALUE!"}},{"$f":"IF(OFFSET([1]DE100_7!$K$27,ROWS($K$27:K62)-1,COLUMNS($K$27:K62)-1)<>\"\",OFFSET([1]DE100_7!$K$27,ROWS($K$27:K62)-1,COLUMNS($K$27:K62)-1),\"\")","v":{"$error":"#VALUE!"}},{"$f":"IF(OFFSET([1]DE100_7!$L$27,ROWS($L$27:L62)-1,COLUMNS($L$27:L62)-1)<>\"\",OFFSET([1]DE100_7!$L$27,ROWS($L$27:L62)-1,COLUMNS($L$27:L62)-1),\"\")","v":{"$error":"#VALUE!"}},{"$f":"IF(OFFSET([1]DE100_7!$M$27,ROWS($M$27:M62)-1,COLUMNS($M$27:M62)-1)<>\"\",OFFSET([1]DE100_7!$M$27,ROWS($M$27:M62)-1,COLUMNS($M$27:M62)-1),\"\")","v":{"$error":"#VALUE!"}},{"$f":"IF(OFFSET([1]DE100_7!$N$27,ROWS($N$27:N62)-1,COLUMNS($N$27:N62)-1)<>\"\",OFFSET([1]DE100_7!$N$27,ROWS($N$27:N62)-1,COLUMNS($N$27:N62)-1),\"\")","v":{"$error":"#VALUE!"}},{"$f":"IF(OFFSET([1]DE100_7!$O$27,ROWS($O$27:O62)-1,COLUMNS($O$27:O62)-1)<>\"\",OFFSET([1]DE100_7!$O$27,ROWS($O$27:O62)-1,COLUMNS($O$27:O62)-1),\"\")","v":{"$error":"#VALUE!"}},{"$f":"IF(OFFSET([1]DE100_7!$P$27,ROWS($P$27:P62)-1,COLUMNS($P$27:P62)-1)<>\"\",OFFSET([1]DE100_7!$P$27,ROWS($P$27:P62)-1,COLUMNS($P$27:P62)-1),\"\")","v":{"$error":"#VALUE!"}},{"$f":"IF(OFFSET([1]DE100_7!$Q$27,ROWS($Q$27:Q62)-1,COLUMNS($Q$27:Q62)-1)<>\"\",OFFSET([1]DE100_7!$Q$27,ROWS($Q$27:Q62)-1,COLUMNS($Q$27:Q62)-1),\"\")","v":{"$error":"#VALUE!"}},{"$f":"IF(OFFSET([1]DE100_7!$R$27,ROWS($R$27:R62)-1,COLUMNS($R$27:R62)-1)<>\"\",OFFSET([1]DE100_7!$R$27,ROWS($R$27:R62)-1,COLUMNS($R$27:R62)-1),\"\")","v":{"$error":"#VALUE!"}},{"$f":"IF(OFFSET([1]DE100_7!$S$27,ROWS($S$27:S62)-1,COLUMNS($S$27:S62)-1)<>\"\",OFFSET([1]DE100_7!$S$27,ROWS($S$27:S62)-1,COLUMNS($S$27:S62)-1),\"\")","v":{"$error":"#VALUE!"}},{"$f":"IF(OFFSET([1]DE100_7!$T$27,ROWS($T$27:T62)-1,COLUMNS($T$27:T62)-1)<>\"\",OFFSET([1]DE100_7!$T$27,ROWS($T$27:T62)-1,COLUMNS($T$27:T62)-1),\"\")","v":{"$error":"#VALUE!"}},{"$f":"IF(OFFSET([1]DE100_7!$U$27,ROWS($U$27:U62)-1,COLUMNS($U$27:U62)-1)<>\"\",OFFSET([1]DE100_7!$U$27,ROWS($U$27:U62)-1,COLUMNS($U$27:U62)-1),\"\")","v":{"$error":"#VALUE!"}},{"$f":"IF(OFFSET([1]DE100_7!$V$27,ROWS($V$27:V62)-1,COLUMNS($V$27:V62)-1)<>\"\",OFFSET([1]DE100_7!$V$27,ROWS($V$27:V62)-1,COLUMNS($V$27:V62)-1),\"\")","v":{"$error":"#VALUE!"}}]
[{"$f":"IF(OFFSET([1]DE100_7!$C$27,ROWS($C$27:C63)-1,COLUMNS($C$27:C63)-1)<>\"\",OFFSET([1]DE100_7!$C$27,ROWS($C$27:C63)-1,COLUMNS($C$27:C63)-1),\"\")","v":{"$error":"#VALUE!"}},{"$f":"IF(OFFSET([1]DE100_7!$D$27,ROWS($D$27:D63)-1,COLUMNS($D$27:D63)-1)<>\"\",OFFSET([1]DE100_7!$D$27,ROWS($D$27:D63)-1,COLUMNS($D$27:D63)-1),\"\")","v":{"$error":"#VALUE!"}},{"$f":"IF(OFFSET([1]DE100_7!$E$27,ROWS($E$27:E63)-1,COLUMNS($E$27:E63)-1)<>\"\",OFFSET([1]DE100_7!$E$27,ROWS($E$27:E63)-1,COLUMNS($E$27:E63)-1),\"\")","v":{"$error":"#VALUE!"}},{"$f":"IF(OFFSET([1]DE100_7!$F$27,ROWS($F$27:F63)-1,COLUMNS($F$27:F63)-1)<>\"\",OFFSET([1]DE100_7!$F$27,ROWS($F$27:F63)-1,COLUMNS($F$27:F63)-1),\"\")","v":{"$error":"#VALUE!"}},{"$f":"IF(OFFSET([1]DE100_7!$G$27,ROWS($G$27:G63)-1,COLUMNS($G$27:G63)-1)<>\"\",OFFSET([1]DE100_7!$G$27,ROWS($G$27:G63)-1,COLUMNS($G$27:G63)-1),\"\")","v":{"$error":"#VALUE!"}},{"$f":"IF(OFFSET([1]DE100_7!$H$27,ROWS($H$27:H63)-1,COLUMNS($H$27:H63)-1)<>\"\",OFFSET([1]DE100_7!$H$27,ROWS($H$27:H63)-1,COLUMNS($H$27:H63)-1),\"\")","v":{"$error":"#VALUE!"}},{"$f":"IF(OFFSET([1]DE100_7!$I$27,ROWS($I$27:I63)-1,COLUMNS($I$27:I63)-1)<>\"\",OFFSET([1]DE100_7!$I$27,ROWS($I$27:I63)-1,COLUMNS($I$27:I63)-1),\"\")","v":{"$error":"#VALUE!"}},{"$f":"IF(OFFSET([1]DE100_7!$J$27,ROWS($J$27:J63)-1,COLUMNS($J$27:J63)-1)<>\"\",OFFSET([1]DE100_7!$J$27,ROWS($J$27:J63)-1,COLUMNS($J$27:J63)-1),\"\")","v":{"$error":"#VALUE!"}},{"$f":"IF(OFFSET([1]DE100_7!$K$27,ROWS($K$27:K63)-1,COLUMNS($K$27:K63)-1)<>\"\",OFFSET([1]DE100_7!$K$27,ROWS($K$27:K63)-1,COLUMNS($K$27:K63)-1),\"\")","v":{"$error":"#VALUE!"}},{"$f":"IF(OFFSET([1]DE100_7!$L$27,ROWS($L$27:L63)-1,COLUMNS($L$27:L63)-1)<>\"\",OFFSET([1]DE100_7!$L$27,ROWS($L$27:L63)-1,COLUMNS($L$27:L63)-1),\"\")","v":{"$error":"#VALUE!"}},{"$f":"IF(OFFSET([1]DE100_7!$M$27,ROWS($M$27:M63)-1,COLUMNS($M$27:M63)-1)<>\"\",OFFSET([1]DE100_7!$M$27,ROWS($M$27:M63)-1,COLUMNS($M$27:M63)-1),\"\")","v":{"$error":"#VALUE!"}},{"$f":"IF(OFFSET([1]DE100_7!$N$27,ROWS($N$27:N63)-1,COLUMNS($N$27:N63)-1)<>\"\",OFFSET([1]DE100_7!$N$27,ROWS($N$27:N63)-1,COLUMNS($N$27:N63)-1),\"\")","v":{"$error":"#VALUE!"}},{"$f":"IF(OFFSET([1]DE100_7!$O$27,ROWS($O$27:O63)-1,COLUMNS($O$27:O63)-1)<>\"\",OFFSET([1]DE100_7!$O$27,ROWS($O$27:O63)-1,COLUMNS($O$27:O63)-1),\"\")","v":{"$error":"#VALUE!"}},{"$f":"IF(OFFSET([1]DE100_7!$P$27,ROWS($P$27:P63)-1,COLUMNS($P$27:P63)-1)<>\"\",OFFSET([1]DE100_7!$P$27,ROWS($P$27:P63)-1,COLUMNS($P$27:P63)-1),\"\")","v":{"$error":"#VALUE!"}},{"$f":"IF(OFFSET([1]DE100_7!$Q$27,ROWS($Q$27:Q63)-1,COLUMNS($Q$27:Q63)-1)<>\"\",OFFSET([1]DE100_7!$Q$27,ROWS($Q$27:Q63)-1,COLUMNS($Q$27:Q63)-1),\"\")","v":{"$error":"#VALUE!"}},{"$f":"IF(OFFSET([1]DE100_7!$R$27,ROWS($R$27:R63)-1,COLUMNS($R$27:R63)-1)<>\"\",OFFSET([1]DE100_7!$R$27,ROWS($R$27:R63)-1,COLUMNS($R$27:R63)-1),\"\")","v":{"$error":"#VALUE!"}},{"$f":"IF(OFFSET([1]DE100_7!$S$27,ROWS($S$27:S63)-1,COLUMNS($S$27:S63)-1)<>\"\",OFFSET([1]DE100_7!$S$27,ROWS($S$27:S63)-1,COLUMNS($S$27:S63)-1),\"\")","v":{"$error":"#VALUE!"}},{"$f":"IF(OFFSET([1]DE100_7!$T$27,ROWS($T$27:T63)-1,COLUMNS($T$27:T63)-1)<>\"\",OFFSET([1]DE100_7!$T$27,ROWS($T$27:T63)-1,COLUMNS($T$27:T63)-1),\"\")","v":{"$error":"#VALUE!"}},{"$f":"IF(OFFSET([1]DE100_7!$U$27,ROWS($U$27:U63)-1,COLUMNS($U$27:U63)-1)<>\"\",OFFSET([1]DE100_7!$U$27,ROWS($U$27:U63)-1,COLUMNS($U$27:U63)-1),\"\")","v":{"$error":"#VALUE!"}},{"$f":"IF(OFFSET([1]DE100_7!$V$27,ROWS($V$27:V63)-1,COLUMNS($V$27:V63)-1)<>\"\",OFFSET([1]DE100_7!$V$27,ROWS($V$27:V63)-1,COLUMNS($V$27:V63)-1),\"\")","v":{"$error":"#VALUE!"}}]
[{"$f":"IF(OFFSET([1]DE100_7!$C$27,ROWS($C$27:C64)-1,COLUMNS($C$27:C64)-1)<>\"\",OFFSET([1]DE100_7!$C$27,ROWS($C$27:C64)-1,COLUMNS($C$27:C64)-1),\"\")","v":{"$error":"#VALUE!"}},{"$f":"IF(OFFSET([1]DE100_7!$D$27,ROWS($D$27:D64)-1,COLUMNS($D$27:D64)-1)<>\"\",OFFSET([1]DE100_7!$D$27,ROWS($D$27:D64)-1,COLUMNS($D$27:D64)-1),\"\")","v":{"$error":"#VALUE!"}},{"$f":"IF(OFFSET([1]DE100_7!$E$27,ROWS($E$27:E64)-1,COLUMNS($E$27:E64)-1)<>\"\",OFFSET([1]DE100_7!$E$27,ROWS($E$27:E64)-1,COLUMNS($E$27:E64)-1),\"\")","v":{"$error":"#VALUE!"}},{"$f":"IF(OFFSET([1]DE100_7!$F$27,ROWS($F$27:F64)-1,COLUMNS($F$27:F64)-1)<>\"\",OFFSET([1]DE100_7!$F$27,ROWS($F$27:F64)-1,COLUMNS($F$27:F64)-1),\"\")","v":{"$error":"#VALUE!"}},{"$f":"IF(OFFSET([1]DE100_7!$G$27,ROWS($G$27:G64)-1,COLUMNS($G$27:G64)-1)<>\"\",OFFSET([1]DE100_7!$G$27,ROWS($G$27:G64)-1,COLUMNS($G$27:G64)-1),\"\")","v":{"$error":"#VALUE!"}},{"$f":"IF(OFFSET([1]DE100_7!$H$27,ROWS($H$27:H64)-1,COLUMNS($H$27:H64)-1)<>\"\",OFFSET([1]DE100_7!$H$27,ROWS($H$27:H64)-1,COLUMNS($H$27:H64)-1),\"\")","v":{"$error":"#VALUE!"}},{"$f":"IF(OFFSET([1]DE100_7!$I$27,ROWS($I$27:I64)-1,COLUMNS($I$27:I64)-1)<>\"\",OFFSET([1]DE100_7!$I$27,ROWS($I$27:I64)-1,COLUMNS($I$27:I64)-1),\"\")","v":{"$error":"#VALUE!"}},{"$f":"IF(OFFSET([1]DE100_7!$J$27,ROWS($J$27:J64)-1,COLUMNS($J$27:J64)-1)<>\"\",OFFSET([1]DE100_7!$J$27,ROWS($J$27:J64)-1,COLUMNS($J$27:J64)-1),\"\")","v":{"$error":"#VALUE!"}},{"$f":"IF(OFFSET([1]DE100_7!$K$27,ROWS($K$27:K64)-1,COLUMNS($K$27:K64)-1)<>\"\",OFFSET([1]DE100_7!$K$27,ROWS($K$27:K64)-1,COLUMNS($K$27:K64)-1),\"\")","v":{"$error":"#VALUE!"}},{"$f":"IF(OFFSET([1]DE100_7!$L$27,ROWS($L$27:L64)-1,COLUMNS($L$27:L64)-1)<>\"\",OFFSET([1]DE100_7!$L$27,ROWS($L$27:L64)-1,COLUMNS($L$27:L64)-1),\"\")","v":{"$error":"#VALUE!"}},{"$f":"IF(OFFSET([1]DE100_7!$M$27,ROWS($M$27:M64)-1,COLUMNS($M$27:M64)-1)<>\"\",OFFSET([1]DE100_7!$M$27,ROWS($M$27:M64)-1,COLUMNS($M$27:M64)-1),\"\")","v":{"$error":"#VALUE!"}},{"$f":"IF(OFFSET([1]DE100_7!$N$27,ROWS($N$27:N64)-1,COLUMNS($N$27:N64)-1)<>\"\",OFFSET([1]DE100_7!$N$27,ROWS($N$27:N64)-1,COLUMNS($N$27:N64)-1),\"\")","v":{"$error":"#VALUE!"}},{"$f":"IF(OFFSET([1]DE100_7!$O$27,ROWS($O$27:O64)-1,COLUMNS($O$27:O64)-1)<>\"\",OFFSET([1]DE100_7!$O$27,ROWS($O$27:O64)-1,COLUMNS($O$27:O64)-1),\"\")","v":{"$error":"#VALUE!"}},{"$f":"IF(OFFSET([1]DE100_7!$P$27,ROWS($P$27:P64)-1,COLUMNS($P$27:P64)-1)<>\"\",OFFSET([1]DE100_7!$P$27,ROWS($P$27:P64)-1,COLUMNS($P$27:P64)-1),\"\")","v":{"$error":"#VALUE!"}},{"$f":"IF(OFFSET([1]DE100_7!$Q$27,ROWS($Q$27:Q64)-1,COLUMNS($Q$27:Q64)-1)<>\"\",OFFSET([1]DE100_7!$Q$27,ROWS($Q$27:Q64)-1,COLUMNS($Q$27:Q64)-1),\"\")","v":{"$error":"#VALUE!"}},{"$f":"IF(OFFSET([1]DE100_7!$R$27,ROWS($R$27:R64)-1,COLUMNS($R$27:R64)-1)<>\"\",OFFSET([1]DE100_7!$R$27,ROWS($R$27:R64)-1,COLUMNS($R$27:R64)-1),\"\")","v":{"$error":"#VALUE!"}},{"$f":"IF(OFFSET([1]DE100_7!$S$27,ROWS($S$27:S64)-1,COLUMNS($S$27:S64)-1)<>\"\",OFFSET([1]DE100_7!$S$27,ROWS($S$27:S64)-1,COLUMNS($S$27:S64)-1),\"\")","v":{"$error":"#VALUE!"}},{"$f":"IF(OFFSET([1]DE100_7!$T$27,ROWS($T$27:T64)-1,COLUMNS($T$27:T64)-1)<>\"\",OFFSET([1]DE100_7!$T$27,ROWS($T$27:T64)-1,COLUMNS($T$27:T64)-1),\"\")","v":{"$error":"#VALUE!"}},{"$f":"IF(OFFSET([1]DE100_7!$U$27,ROWS($U$27:U64)-1,COLUMNS($U$27:U64)-1)<>\"\",OFFSET([1]DE100_7!$U$27,ROWS($U$27:U64)-1,COLUMNS($U$27:U64)-1),\"\")","v":{"$error":"#VALUE!"}},{"$f":"IF(OFFSET([1]DE100_7!$V$27,ROWS($V$27:V64)-1,COLUMNS($V$27:V64)-1)<>\"\",OFFSET([1]DE100_7!$V$27,ROWS($V$27:V64)-1,COLUMNS($V$27:V64)-1),\"\")","v":{"$error":"#VALUE!"}}]
[{"$f":"IF(OFFSET([1]DE100_7!$C$27,ROWS($C$27:C65)-1,COLUMNS($C$27:C65)-1)<>\"\",OFFSET([1]DE100_7!$C$27,ROWS($C$27:C65)-1,COLUMNS($C$27:C65)-1),\"\")","v":{"$error":"#VALUE!"}},{"$f":"IF(OFFSET([1]DE100_7!$D$27,ROWS($D$27:D65)-1,COLUMNS($D$27:D65)-1)<>\"\",OFFSET([1]DE100_7!$D$27,ROWS($D$27:D65)-1,COLUMNS($D$27:D65)-1),\"\")","v":{"$error":"#VALUE!"}},{"$f":"IF(OFFSET([1]DE100_7!$E$27,ROWS($E$27:E65)-1,COLUMNS($E$27:E65)-1)<>\"\",OFFSET([1]DE100_7!$E$27,ROWS($E$27:E65)-1,COLUMNS($E$27:E65)-1),\"\")","v":{"$error":"#VALUE!"}},{"$f":"IF(OFFSET([1]DE100_7!$F$27,ROWS($F$27:F65)-1,COLUMNS($F$27:F65)-1)<>\"\",OFFSET([1]DE100_7!$F$27,ROWS($F$27:F65)-1,COLUMNS($F$27:F65)-1),\"\")","v":{"$error":"#VALUE!"}},{"$f":"IF(OFFSET([1]DE100_7!$G$27,ROWS($G$27:G65)-1,COLUMNS($G$27:G65)-1)<>\"\",OFFSET([1]DE100_7!$G$27,ROWS($G$27:G65)-1,COLUMNS($G$27:G65)-1),\"\")","v":{"$error":"#VALUE!"}},{"$f":"IF(OFFSET([1]DE100_7!$H$27,ROWS($H$27:H65)-1,COLUMNS($H$27:H65)-1)<>\"\",OFFSET([1]DE100_7!$H$27,ROWS($H$27:H65)-1,COLUMNS($H$27:H65)-1),\"\")","v":{"$error":"#VALUE!"}},{"$f":"IF(OFFSET([1]DE100_7!$I$27,ROWS($I$27:I65)-1,COLUMNS($I$27:I65)-1)<>\"\",OFFSET([1]DE100_7!$I$27,ROWS($I$27:I65)-1,COLUMNS($I$27:I65)-1),\"\")","v":{"$error":"#VALUE!"}},{"$f":"IF(OFFSET([1]DE100_7!$J$27,ROWS($J$27:J65)-1,COLUMNS($J$27:J65)-1)<>\"\",OFFSET([1]DE100_7!$J$27,ROWS($J$27:J65)-1,COLUMNS($J$27:J65)-1),\"\")","v":{"$error":"#VALUE!"}},{"$f":"IF(OFFSET([1]DE100_7!$K$27,ROWS($K$27:K65)-1,COLUMNS($K$27:K65)-1)<>\"\",OFFSET([1]DE100_7!$K$27,ROWS($K$27:K65)-1,COLUMNS($K$27:K65)-1),\"\")","v":{"$error":"#VALUE!"}},{"$f":"IF(OFFSET([1]DE100_7!$L$27,ROWS($L$27:L65)-1,COLUMNS($L$27:L65)-1)<>\"\",OFFSET([1]DE100_7!$L$27,ROWS($L$27:L65)-1,COLUMNS($L$27:L65)-1),\"\")","v":{"$error":"#VALUE!"}},{"$f":"IF(OFFSET([1]DE100_7!$M$27,ROWS($M$27:M65)-1,COLUMNS($M$27:M65)-1)<>\"\",OFFSET([1]DE100_7!$M$27,ROWS($M$27:M65)-1,COLUMNS($M$27:M65)-1),\"\")","v":{"$error":"#VALUE!"}},{"$f":"IF(OFFSET([1]DE100_7!$N$27,ROWS($N$27:N65)-1,COLUMNS($N$27:N65)-1)<>\"\",OFFSET([1]DE100_7!$N$27,ROWS($N$27:N65)-1,COLUMNS($N$27:N65)-1),\"\")","v":{"$error":"#VALUE!"}},{"$f":"IF(OFFSET([1]DE100_7!$O$27,ROWS($O$27:O65)-1,COLUMNS($O$27:O65)-1)<>\"\",OFFSET([1]DE100_7!$O$27,ROWS($O$27:O65)-1,COLUMNS($O$27:O65)-1),\"\")","v":{"$error":"#VALUE!"}},{"$f":"IF(OFFSET([1]DE100_7!$P$27,ROWS($P$27:P65)-1,COLUMNS($P$27:P65)-1)<>\"\",OFFSET([1]DE100_7!$P$27,ROWS($P$27:P65)-1,COLUMNS($P$27:P65)-1),\"\")","v":{"$error":"#VALUE!"}},{"$f":"IF(OFFSET([1]DE100_7!$Q$27,ROWS($Q$27:Q65)-1,COLUMNS($Q$27:Q65)-1)<>\"\",OFFSET([1]DE100_7!$Q$27,ROWS($Q$27:Q65)-1,COLUMNS($Q$27:Q65)-1),\"\")","v":{"$error":"#VALUE!"}},{"$f":"IF(OFFSET([1]DE100_7!$R$27,ROWS($R$27:R65)-1,COLUMNS($R$27:R65)-1)<>\"\",OFFSET([1]DE100_7!$R$27,ROWS($R$27:R65)-1,COLUMNS($R$27:R65)-1),\"\")","v":{"$error":"#VALUE!"}},{"$f":"IF(OFFSET([1]DE100_7!$S$27,ROWS($S$27:S65)-1,COLUMNS($S$27:S65)-1)<>\"\",OFFSET([1]DE100_7!$S$27,ROWS($S$27:S65)-1,COLUMNS($S$27:S65)-1),\"\")","v":{"$error":"#VALUE!"}},{"$f":"IF(OFFSET([1]DE100_7!$T$27,ROWS($T$27:T65)-1,COLUMNS($T$27:T65)-1)<>\"\",OFFSET([1]DE100_7!$T$27,ROWS($T$27:T65)-1,COLUMNS($T$27:T65)-1),\"\")","v":{"$error":"#VALUE!"}},{"$f":"IF(OFFSET([1]DE100_7!$U$27,ROWS($U$27:U65)-1,COLUMNS($U$27:U65)-1)<>\"\",OFFSET([1]DE100_7!$U$27,ROWS($U$27:U65)-1,COLUMNS($U$27:U65)-1),\"\")","v":{"$error":"#VALUE!"}},{"$f":"IF(OFFSET([1]DE100_7!$V$27,ROWS($V$27:V65)-1,COLUMNS($V$27:V65)-1)<>\"\",OFFSET([1]DE100_7!$V$27,ROWS($V$27:V65)-1,COLUMNS($V$27:V65)-1),\"\")","v":{"$error":"#VALUE!"}}]
[{"$f":"IF(OFFSET([1]DE100_7!$C$27,ROWS($C$27:C66)-1,COLUMNS($C$27:C66)-1)<>\"\",OFFSET([1]DE100_7!$C$27,ROWS($C$27:C66)-1,COLUMNS($C$27:C66)-1),\"\")","v":{"$error":"#VALUE!"}},null,null,null,{"$f":"IF(OFFSET([1]DE100_7!$G$27,ROWS($G$27:G66)-1,COLUMNS($G$27:G66)-1)<>\"\",OFFSET([1]DE100_7!$G$27,ROWS($G$27:G66)-1,COLUMNS($G$27:G66)-1),\"\")","v":{"$error":"#VALUE!"}},{"$f":"IF(OFFSET([1]DE100_7!$H$27,ROWS($H$27:H66)-1,COLUMNS($H$27:H66)-1)<>\"\",OFFSET([1]DE100_7!$H$27,ROWS($H$27:H66)-1,COLUMNS($H$27:H66)-1),\"\")","v":{"$error":"#VALUE!"}},{"$f":"IF(OFFSET([1]DE100_7!$I$27,ROWS($I$27:I66)-1,COLUMNS($I$27:I66)-1)<>\"\",OFFSET([1]DE100_7!$I$27,ROWS($I$27:I66)-1,COLUMNS($I$27:I66)-1),\"\")","v":{"$error":"#VALUE!"}},{"$f":"IF(OFFSET([1]DE100_7!$J$27,ROWS($J$27:J66)-1,COLUMNS($J$27:J66)-1)<>\"\",OFFSET([1]DE100_7!$J$27,ROWS($J$27:J66)-1,COLUMNS($J$27:J66)-1),\"\")","v":{"$error":"#VALUE!"}},{"$f":"IF(OFFSET([1]DE100_7!$K$27,ROWS($K$27:K66)-1,COLUMNS($K$27:K66)-1)<>\"\",OFFSET([1]DE100_7!$K$27,ROWS($K$27:K66)-1,COLUMNS($K$27:K66)-1),\"\")","v":{"$error":"#VALUE!"}},{"$f":"IF(OFFSET([1]DE100_7!$L$27,ROWS($L$27:L66)-1,COLUMNS($L$27:L66)-1)<>\"\",OFFSET([1]DE100_7!$L$27,ROWS($L$27:L66)-1,COLUMNS($L$27:L66)-1),\"\")","v":{"$error":"#VALUE!"}},{"$f":"IF(OFFSET([1]DE100_7!$M$27,ROWS($M$27:M66)-1,COLUMNS($M$27:M66)-1)<>\"\",OFFSET([1]DE100_7!$M$27,ROWS($M$27:M66)-1,COLUMNS($M$27:M66)-1),\"\")","v":{"$error":"#VALUE!"}},{"$f":"IF(OFFSET([1]DE100_7!$N$27,ROWS($N$27:N66)-1,COLUMNS($N$27:N66)-1)<>\"\",OFFSET([1]DE100_7!$N$27,ROWS($N$27:N66)-1,COLUMNS($N$27:N66)-1),\"\")","v":{"$error":"#VALUE!"}},{"$f":"IF(OFFSET([1]DE100_7!$O$27,ROWS($O$27:O66)-1,COLUMNS($O$27:O66)-1)<>\"\",OFFSET([1]DE100_7!$O$27,ROWS($O$27:O66)-1,COLUMNS($O$27:O66)-1),\"\")","v":{"$error":"#VALUE!"}},{"$f":"IF(OFFSET([1]DE100_7!$P$27,ROWS($P$27:P66)-1,COLUMNS($P$27:P66)-1)<>\"\",OFFSET([1]DE100_7!$P$27,ROWS($P$27:P66)-1,COLUMNS($P$27:P66)-1),\"\")","v":{"$error":"#VALUE!"}},{"$f":"IF(OFFSET([1]DE100_7!$Q$27,ROWS($Q$27:Q66)-1,COLUMNS($Q$27:Q66)-1)<>\"\",OFFSET([1]DE100_7!$Q$27,ROWS($Q$27:Q66)-1,COLUMNS($Q$27:Q66)-1),\"\")","v":{"$error":"#VALUE!"}},{"$f":"IF(OFFSET([1]DE100_7!$R$27,ROWS($R$27:R66)-1,COLUMNS($R$27:R66)-1)<>\"\",OFFSET([1]DE100_7!$R$27,ROWS($R$27:R66)-1,COLUMNS($R$27:R66)-1),\"\")","v":{"$error":"#VALUE!"}},{"$f":"IF(OFFSET([1]DE100_7!$S$27,ROWS($S$27:S66)-1,COLUMNS($S$27:S66)-1)<>\"\",OFFSET([1]DE100_7!$S$27,ROWS($S$27:S66)-1,COLUMNS($S$27:S66)-1),\"\")","v":{"$error":"#VALUE!"}},{"$f":"IF(OFFSET([1]DE100_7!$T$27,ROWS($T$27:T66)-1,COLUMNS($T$27:T66)-1)<>\"\",OFFSET([1]DE100_7!$T$27,ROWS($T$27:T66)-1,COLUMNS($T$27:T66)-1),\"\")","v":{"$error":"#VALUE!"}},{"$f":"IF(OFFSET([1]DE100_7!$U$27,ROWS($U$27:U66)-1,COLUMNS($U$27:U66)-1)<>\"\",OFFSET([1]DE100_7!$U$27,ROWS($U$27:U66)-1,COLUMNS($U$27:U66)-1),\"\")","v":{"$error":"#VALUE!"}},{"$f":"IF(OFFSET([1]DE100_7!$V$27,ROWS($V$27:V66)-1,COLUMNS($V$27:V66)-1)<>\"\",OFFSET([1]DE100_7!$V$27,ROWS($V$27:V66)-1,COLUMNS($V$27:V66)-1),\"\")","v":{"$error":"#VALUE!"}}]
[{"$f":"IF(OFFSET([1]DE100_7!$C$27,ROWS($C$27:C67)-1,COLUMNS($C$27:C67)-1)<>\"\",OFFSET([1]DE100_7!$C$27,ROWS($C$27:C67)-1,COLUMNS($C$27:C67)-1),\"\")","v":{"$error":"#VALUE!"}},{"$f":"IF(OFFSET([1]DE100_7!$D$27,ROWS($D$27:D67)-1,COLUMNS($D$27:D67)-1)<>\"\",OFFSET([1]DE100_7!$D$27,ROWS($D$27:D67)-1,COLUMNS($D$27:D67)-1),\"\")","v":{"$error":"#VALUE!"}},{"$f":"IF(OFFSET([1]DE100_7!$E$27,ROWS($E$27:E67)-1,COLUMNS($E$27:E67)-1)<>\"\",OFFSET([1]DE100_7!$E$27,ROWS($E$27:E67)-1,COLUMNS($E$27:E67)-1),\"\")","v":{"$error":"#VALUE!"}},{"$f":"IF(OFFSET([1]DE100_7!$F$27,ROWS($F$27:F67)-1,COLUMNS($F$27:F67)-1)<>\"\",OFFSET([1]DE100_7!$F$27,ROWS($F$27:F67)-1,COLUMNS($F$27:F67)-1),\"\")","v":{"$error":"#VALUE!"}},{"$f":"IF(OFFSET([1]DE100_7!$G$27,ROWS($G$27:G67)-1,COLUMNS($G$27:G67)-1)<>\"\",OFFSET([1]DE100_7!$G$27,ROWS($G$27:G67)-1,COLUMNS($G$27:G67)-1),\"\")","v":{"$error":"#VALUE!"}},{"$f":"IF(OFFSET([1]DE100_7!$H$27,ROWS($H$27:H67)-1,COLUMNS($H$27:H67)-1)<>\"\",OFFSET([1]DE100_7!$H$27,ROWS($H$27:H67)-1,COLUMNS($H$27:H67)-1),\"\")","v":{"$error":"#VALUE!"}},{"$f":"IF(OFFSET([1]DE100_7!$I$27,ROWS($I$27:I67)-1,COLUMNS($I$27:I67)-1)<>\"\",OFFSET([1]DE100_7!$I$27,ROWS($I$27:I67)-1,COLUMNS($I$27:I67)-1),\"\")","v":{"$error":"#VALUE!"}},{"$f":"IF(OFFSET([1]DE100_7!$J$27,ROWS($J$27:J67)-1,COLUMNS($J$27:J67)-1)<>\"\",OFFSET([1]DE100_7!$J$27,ROWS($J$27:J67)-1,COLUMNS($J$27:J67)-1),\"\")","v":{"$error":"#VALUE!"}},{"$f":"IF(OFFSET([1]DE100_7!$K$27,ROWS($K$27:K67)-1,COLUMNS($K$27:K67)-1)<>\"\",OFFSET([1]DE100_7!$K$27,ROWS($K$27:K67)-1,COLUMNS($K$27:K67)-1),\"\")","v":{"$error":"#VALUE!"}},{"$f":"IF(OFFSET([1]DE100_7!$L$27,ROWS($L$27:L67)-1,COLUMNS($L$27:L67)-1)<>\"\",OFFSET([1]DE100_7!$L$27,ROWS($L$27:L67)-1,COLUMNS($L$27:L67)-1),\"\")","v":{"$error":"#VALUE!"}},{"$f":"IF(OFFSET([1]DE100_7!$M$27,ROWS($M$27:M67)-1,COLUMNS($M$27:M67)-1)<>\"\",OFFSET([1]DE100_7!$M$27,ROWS($M$27:M67)-1,COLUMNS($M$27:M67)-1),\"\")","v":{"$error":"#VALUE!"}},{"$f":"IF(OFFSET([1]DE100_7!$N$27,ROWS($N$27:N67)-1,COLUMNS($N$27:N67)-1)<>\"\",OFFSET([1]DE100_7!$N$27,ROWS($N$27:N67)-1,COLUMNS($N$27:N67)-1),\"\")","v":{"$error":"#VALUE!"}},{"$f":"IF(OFFSET([1]DE100_7!$O$27,ROWS($O$27:O67)-1,COLUMNS($O$27:O67)-1)<>\"\",OFFSET([1]DE100_7!$O$27,ROWS($O$27:O67)-1,COLUMNS($O$27:O67)-1),\"\")","v":{"$error":"#VALUE!"}},{"$f":"IF(OFFSET([1]DE100_7!$P$27,ROWS($P$27:P67)-1,COLUMNS($P$27:P67)-1)<>\"\",OFFSET([1]DE100_7!$P$27,ROWS($P$27:P67)-1,COLUMNS($P$27:P67)-1),\"\")","v":{"$error":"#VALUE!"}},{"$f":"IF(OFFSET([1]DE100_7!$Q$27,ROWS($Q$27:Q67)-1,COLUMNS($Q$27:Q67)-1)<>\"\",OFFSET([1]DE100_7!$Q$27,ROWS($Q$27:Q67)-1,COLUMNS($Q$27:Q67)-1),\"\")","v":{"$error":"#VALUE!"}},{"$f":"IF(OFFSET([1]DE100_7!$R$27,ROWS($R$27:R67)-1,COLUMNS($R$27:R67)-1)<>\"\",OFFSET([1]DE100_7!$R$27,ROWS($R$27:R67)-1,COLUMNS($R$27:R67)-1),\"\")","v":{"$error":"#VALUE!"}},{"$f":"IF(OFFSET([1]DE100_7!$S$27,ROWS($S$27:S67)-1,COLUMNS($S$27:S67)-1)<>\"\",OFFSET([1]DE100_7!$S$27,ROWS($S$27:S67)-1,COLUMNS($S$27:S67)-1),\"\")","v":{"$error":"#VALUE!"}},{"$f":"IF(OFFSET([1]DE100_7!$T$27,ROWS($T$27:T67)-1,COLUMNS($T$27:T67)-1)<>\"\",OFFSET([1]DE100_7!$T$27,ROWS($T$27:T67)-1,COLUMNS($T$27:T67)-1),\"\")","v":{"$error":"#VALUE!"}},{"$f":"IF(OFFSET([1]DE100_7!$U$27,ROWS($U$27:U67)-1,COLUMNS($U$27:U67)-1)<>\"\",OFFSET([1]DE100_7!$U$27,ROWS($U$27:U67)-1,COLUMNS($U$27:U67)-1),\"\")","v":{"$error":"#VALUE!"}},{"$f":"IF(OFFSET([1]DE100_7!$V$27,ROWS($V$27:V67)-1,COLUMNS($V$27:V67)-1)<>\"\",OFFSET([1]DE100_7!$V$27,ROWS($V$27:V67)-1,COLUMNS($V$27:V67)-1),\"\")","v":{"$error":"#VALUE!"}}]
[{"$f":"IF(OFFSET([1]DE100_7!$C$27,ROWS($C$27:C68)-1,COLUMNS($C$27:C68)-1)<>\"\",OFFSET([1]DE100_7!$C$27,ROWS($C$27:C68)-1,COLUMNS($C$27:C68)-1),\"\")","v":{"$error":"#VALUE!"}},{"$f":"IF(OFFSET([1]DE100_7!$D$27,ROWS($D$27:D68)-1,COLUMNS($D$27:D68)-1)<>\"\",OFFSET([1]DE100_7!$D$27,ROWS($D$27:D68)-1,COLUMNS($D$27:D68)-1),\"\")","v":{"$error":"#VALUE!"}},{"$f":"IF(OFFSET([1]DE100_7!$E$27,ROWS($E$27:E68)-1,COLUMNS($E$27:E68)-1)<>\"\",OFFSET([1]DE100_7!$E$27,ROWS($E$27:E68)-1,COLUMNS($E$27:E68)-1),\"\")","v":{"$error":"#VALUE!"}},{"$f":"IF(OFFSET([1]DE100_7!$F$27,ROWS($F$27:F68)-1,COLUMNS($F$27:F68)-1)<>\"\",OFFSET([1]DE100_7!$F$27,ROWS($F$27:F68)-1,COLUMNS($F$27:F68)-1),\"\")","v":{"$error":"#VALUE!"}},{"$f":"IF(OFFSET([1]DE100_7!$G$27,ROWS($G$27:G68)-1,COLUMNS($G$27:G68)-1)<>\"\",OFFSET([1]DE100_7!$G$27,ROWS($G$27:G68)-1,COLUMNS($G$27:G68)-1),\"\")","v":{"$error":"#VALUE!"}},{"$f":"IF(OFFSET([1]DE100_7!$H$27,ROWS($H$27:H68)-1,COLUMNS($H$27:H68)-1)<>\"\",OFFSET([1]DE100_7!$H$27,ROWS($H$27:H68)-1,COLUMNS($H$27:H68)-1),\"\")","v":{"$error":"#VALUE!"}},{"$f":"IF(OFFSET([1]DE100_7!$I$27,ROWS($I$27:I68)-1,COLUMNS($I$27:I68)-1)<>\"\",OFFSET([1]DE100_7!$I$27,ROWS($I$27:I68)-1,COLUMNS($I$27:I68)-1),\"\")","v":{"$error":"#VALUE!"}},{"$f":"IF(OFFSET([1]DE100_7!$J$27,ROWS($J$27:J68)-1,COLUMNS($J$27:J68)-1)<>\"\",OFFSET([1]DE100_7!$J$27,ROWS($J$27:J68)-1,COLUMNS($J$27:J68)-1),\"\")","v":{"$error":"#VALUE!"}},{"$f":"IF(OFFSET([1]DE100_7!$K$27,ROWS($K$27:K68)-1,COLUMNS($K$27:K68)-1)<>\"\",OFFSET([1]DE100_7!$K$27,ROWS($K$27:K68)-1,COLUMNS($K$27:K68)-1),\"\")","v":{"$error":"#VALUE!"}},{"$f":"IF(OFFSET([1]DE100_7!$L$27,ROWS($L$27:L68)-1,COLUMNS($L$27:L68)-1)<>\"\",OFFSET([1]DE100_7!$L$27,ROWS($L$27:L68)-1,COLUMNS($L$27:L68)-1),\"\")","v":{"$error":"#VALUE!"}},{"$f":"IF(OFFSET([1]DE100_7!$M$27,ROWS($M$27:M68)-1,COLUMNS($M$27:M68)-1)<>\"\",OFFSET([1]DE100_7!$M$27,ROWS($M$27:M68)-1,COLUMNS($M$27:M68)-1),\"\")","v":{"$error":"#VALUE!"}},{"$f":"IF(OFFSET([1]DE100_7!$N$27,ROWS($N$27:N68)-1,COLUMNS($N$27:N68)-1)<>\"\",OFFSET([1]DE100_7!$N$27,ROWS($N$27:N68)-1,COLUMNS($N$27:N68)-1),\"\")","v":{"$error":"#VALUE!"}},{"$f":"IF(OFFSET([1]DE100_7!$O$27,ROWS($O$27:O68)-1,COLUMNS($O$27:O68)-1)<>\"\",OFFSET([1]DE100_7!$O$27,ROWS($O$27:O68)-1,COLUMNS($O$27:O68)-1),\"\")","v":{"$error":"#VALUE!"}},{"$f":"IF(OFFSET([1]DE100_7!$P$27,ROWS($P$27:P68)-1,COLUMNS($P$27:P68)-1)<>\"\",OFFSET([1]DE100_7!$P$27,ROWS($P$27:P68)-1,COLUMNS($P$27:P68)-1),\"\")","v":{"$error":"#VALUE!"}},{"$f":"IF(OFFSET([1]DE100_7!$Q$27,ROWS($Q$27:Q68)-1,COLUMNS($Q$27:Q68)-1)<>\"\",OFFSET([1]DE100_7!$Q$27,ROWS($Q$27:Q68)-1,COLUMNS($Q$27:Q68)-1),\"\")","v":{"$error":"#VALUE!"}},{"$f":"IF(OFFSET([1]DE100_7!$R$27,ROWS($R$27:R68)-1,COLUMNS($R$27:R68)-1)<>\"\",OFFSET([1]DE100_7!$R$27,ROWS($R$27:R68)-1,COLUMNS($R$27:R68)-1),\"\")","v":{"$error":"#VALUE!"}},{"$f":"IF(OFFSET([1]DE100_7!$S$27,ROWS($S$27:S68)-1,COLUMNS($S$27:S68)-1)<>\"\",OFFSET([1]DE100_7!$S$27,ROWS($S$27:S68)-1,COLUMNS($S$27:S68)-1),\"\")","v":{"$error":"#VALUE!"}},{"$f":"IF(OFFSET([1]DE100_7!$T$27,ROWS($T$27:T68)-1,COLUMNS($T$27:T68)-1)<>\"\",OFFSET([1]DE100_7!$T$27,ROWS($T$27:T68)-1,COLUMNS($T$27:T68)-1),\"\")","v":{"$error":"#VALUE!"}},{"$f":"IF(OFFSET([1]DE100_7!$U$27,ROWS($U$27:U68)-1,COLUMNS($U$27:U68)-1)<>\"\",OFFSET([1]DE100_7!$U$27,ROWS($U$27:U68)-1,COLUMNS($U$27:U68)-1),\"\")","v":{"$error":"#VALUE!"}},{"$f":"IF(OFFSET([1]DE100_7!$V$27,ROWS($V$27:V68)-1,COLUMNS($V$27:V68)-1)<>\"\",OFFSET([1]DE100_7!$V$27,ROWS($V$27:V68)-1,COLUMNS($V$27:V68)-1),\"\")","v":{"$error":"#VALUE!"}}]
[{"$f":"IF(OFFSET([1]DE100_7!$C$27,ROWS($C$27:C69)-1,COLUMNS($C$27:C69)-1)<>\"\",OFFSET([1]DE100_7!$C$27,ROWS($C$27:C69)-1,COLUMNS($C$27:C69)-1),\"\")","v":{"$error":"#VALUE!"}},{"$f":"IF(OFFSET([1]DE100_7!$D$27,ROWS($D$27:D69)-1,COLUMNS($D$27:D69)-1)<>\"\",OFFSET([1]DE100_7!$D$27,ROWS($D$27:D69)-1,COLUMNS($D$27:D69)-1),\"\")","v":{"$error":"#VALUE!"}},{"$f":"IF(OFFSET([1]DE100_7!$E$27,ROWS($E$27:E69)-1,COLUMNS($E$27:E69)-1)<>\"\",OFFSET([1]DE100_7!$E$27,ROWS($E$27:E69)-1,COLUMNS($E$27:E69)-1),\"\")","v":{"$error":"#VALUE!"}},{"$f":"IF(OFFSET([1]DE100_7!$F$27,ROWS($F$27:F69)-1,COLUMNS($F$27:F69)-1)<>\"\",OFFSET([1]DE100_7!$F$27,ROWS($F$27:F69)-1,COLUMNS($F$27:F69)-1),\"\")","v":{"$error":"#VALUE!"}},{"$f":"IF(OFFSET([1]DE100_7!$G$27,ROWS($G$27:G69)-1,COLUMNS($G$27:G69)-1)<>\"\",OFFSET([1]DE100_7!$G$27,ROWS($G$27:G69)-1,COLUMNS($G$27:G69)-1),\"\")","v":{"$error":"#VALUE!"}},{"$f":"IF(OFFSET([1]DE100_7!$H$27,ROWS($H$27:H69)-1,COLUMNS($H$27:H69)-1)<>\"\",OFFSET([1]DE100_7!$H$27,ROWS($H$27:H69)-1,COLUMNS($H$27:H69)-1),\"\")","v":{"$error":"#VALUE!"}},{"$f":"IF(OFFSET([1]DE100_7!$I$27,ROWS($I$27:I69)-1,COLUMNS($I$27:I69)-1)<>\"\",OFFSET([1]DE100_7!$I$27,ROWS($I$27:I69)-1,COLUMNS($I$27:I69)-1),\"\")","v":{"$error":"#VALUE!"}},{"$f":"IF(OFFSET([1]DE100_7!$J$27,ROWS($J$27:J69)-1,COLUMNS($J$27:J69)-1)<>\"\",OFFSET([1]DE100_7!$J$27,ROWS($J$27:J69)-1,COLUMNS($J$27:J69)-1),\"\")","v":{"$error":"#VALUE!"}},{"$f":"IF(OFFSET([1]DE100_7!$K$27,ROWS($K$27:K69)-1,COLUMNS($K$27:K69)-1)<>\"\",OFFSET([1]DE100_7!$K$27,ROWS($K$27:K69)-1,COLUMNS($K$27:K69)-1),\"\")","v":{"$error":"#VALUE!"}},{"$f":"IF(OFFSET([1]DE100_7!$L$27,ROWS($L$27:L69)-1,COLUMNS($L$27:L69)-1)<>\"\",OFFSET([1]DE100_7!$L$27,ROWS($L$27:L69)-1,COLUMNS($L$27:L69)-1),\"\")","v":{"$error":"#VALUE!"}},{"$f":"IF(OFFSET([1]DE100_7!$M$27,ROWS($M$27:M69)-1,COLUMNS($M$27:M69)-1)<>\"\",OFFSET([1]DE100_7!$M$27,ROWS($M$27:M69)-1,COLUMNS($M$27:M69)-1),\"\")","v":{"$error":"#VALUE!"}},{"$f":"IF(OFFSET([1]DE100_7!$N$27,ROWS($N$27:N69)-1,COLUMNS($N$27:N69)-1)<>\"\",OFFSET([1]DE100_7!$N$27,ROWS($N$27:N69)-1,COLUMNS($N$27:N69)-1),\"\")","v":{"$error":"#VALUE!"}},{"$f":"IF(OFFSET([1]DE100_7!$O$27,ROWS($O$27:O69)-1,COLUMNS($O$27:O69)-1)<>\"\",OFFSET([1]DE100_7!$O$27,ROWS($O$27:O69)-1,COLUMNS($O$27:O69)-1),\"\")","v":{"$error":"#VALUE!"}},{"$f":"IF(OFFSET([1]DE100_7!$P$27,ROWS($P$27:P69)-1,COLUMNS($P$27:P69)-1)<>\"\",OFFSET([1]DE100_7!$P$27,ROWS($P$27:P69)-1,COLUMNS($P$27:P69)-1),\"\")","v":{"$error":"#VALUE!"}},{"$f":"IF(OFFSET([1]DE100_7!$Q$27,ROWS($Q$27:Q69)-1,COLUMNS($Q$27:Q69)-1)<>\"\",OFFSET([1]DE100_7!$Q$27,ROWS($Q$27:Q69)-1,COLUMNS($Q$27:Q69)-1),\"\")","v":{"$error":"#VALUE!"}},{"$f":"IF(OFFSET([1]DE100_7!$R$27,ROWS($R$27:R69)-1,COLUMNS($R$27:R69)-1)<>\"\",OFFSET([1]DE100_7!$R$27,ROWS($R$27:R69)-1,COLUMNS($R$27:R69)-1),\"\")","v":{"$error":"#VALUE!"}},{"$f":"IF(OFFSET([1]DE100_7!$S$27,ROWS($S$27:S69)-1,COLUMNS($S$27:S69)-1)<>\"\",OFFSET([1]DE100_7!$S$27,ROWS($S$27:S69)-1,COLUMNS($S$27:S69)-1),\"\")","v":{"$error":"#VALUE!"}},{"$f":"IF(OFFSET([1]DE100_7!$T$27,ROWS($T$27:T69)-1,COLUMNS($T$27:T69)-1)<>\"\",OFFSET([1]DE100_7!$T$27,ROWS($T$27:T69)-1,COLUMNS($T$27:T69)-1),\"\")","v":{"$error":"#VALUE!"}},{"$f":"IF(OFFSET([1]DE100_7!$U$27,ROWS($U$27:U69)-1,COLUMNS($U$27:U69)-1)<>\"\",OFFSET([1]DE100_7!$U$27,ROWS($U$27:U69)-1,COLUMNS($U$27:U69)-1),\"\")","v":{"$error":"#VALUE!"}},{"$f":"IF(OFFSET([1]DE100_7!$V$27,ROWS($V$27:V69)-1,COLUMNS($V$27:V69)-1)<>\"\",OFFSET([1]DE100_7!$V$27,ROWS($V$27:V69)-1,COLUMNS($V$27:V69)-1),\"\")","v":{"$error":"#VALUE!"}}]
[{"$f":"IF(OFFSET([1]DE100_7!$C$27,ROWS($C$27:C70)-1,COLUMNS($C$27:C70)-1)<>\"\",OFFSET([1]DE100_7!$C$27,ROWS($C$27:C70)-1,COLUMNS($C$27:C70)-1),\"\")","v":{"$error":"#VALUE!"}},null,null,null,{"$f":"IF(OFFSET([1]DE100_7!$G$27,ROWS($G$27:G70)-1,COLUMNS($G$27:G70)-1)<>\"\",OFFSET([1]DE100_7!$G$27,ROWS($G$27:G70)-1,COLUMNS($G$27:G70)-1),\"\")","v":{"$error":"#VALUE!"}},{"$f":"IF(OFFSET([1]DE100_7!$H$27,ROWS($H$27:H70)-1,COLUMNS($H$27:H70)-1)<>\"\",OFFSET([1]DE100_7!$H$27,ROWS($H$27:H70)-1,COLUMNS($H$27:H70)-1),\"\")","v":{"$error":"#VALUE!"}},{"$f":"IF(OFFSET([1]DE100_7!$I$27,ROWS($I$27:I70)-1,COLUMNS($I$27:I70)-1)<>\"\",OFFSET([1]DE100_7!$I$27,ROWS($I$27:I70)-1,COLUMNS($I$27:I70)-1),\"\")","v":{"$error":"#VALUE!"}},{"$f":"IF(OFFSET([1]DE100_7!$J$27,ROWS($J$27:J70)-1,COLUMNS($J$27:J70)-1)<>\"\",OFFSET([1]DE100_7!$J$27,ROWS($J$27:J70)-1,COLUMNS($J$27:J70)-1),\"\")","v":{"$error":"#VALUE!"}},{"$f":"IF(OFFSET([1]DE100_7!$K$27,ROWS($K$27:K70)-1,COLUMNS($K$27:K70)-1)<>\"\",OFFSET([1]DE100_7!$K$27,ROWS($K$27:K70)-1,COLUMNS($K$27:K70)-1),\"\")","v":{"$error":"#VALUE!"}},{"$f":"IF(OFFSET([1]DE100_7!$L$27,ROWS($L$27:L70)-1,COLUMNS($L$27:L70)-1)<>\"\",OFFSET([1]DE100_7!$L$27,ROWS($L$27:L70)-1,COLUMNS($L$27:L70)-1),\"\")","v":{"$error":"#VALUE!"}},{"$f":"IF(OFFSET([1]DE100_7!$M$27,ROWS($M$27:M70)-1,COLUMNS($M$27:M70)-1)<>\"\",OFFSET([1]DE100_7!$M$27,ROWS($M$27:M70)-1,COLUMNS($M$27:M70)-1),\"\")","v":{"$error":"#VALUE!"}},{"$f":"IF(OFFSET([1]DE100_7!$N$27,ROWS($N$27:N70)-1,COLUMNS($N$27:N70)-1)<>\"\",OFFSET([1]DE100_7!$N$27,ROWS($N$27:N70)-1,COLUMNS($N$27:N70)-1),\"\")","v":{"$error":"#VALUE!"}},{"$f":"IF(OFFSET([1]DE100_7!$O$27,ROWS($O$27:O70)-1,COLUMNS($O$27:O70)-1)<>\"\",OFFSET([1]DE100_7!$O$27,ROWS($O$27:O70)-1,COLUMNS($O$27:O70)-1),\"\")","v":{"$error":"#VALUE!"}},{"$f":"IF(OFFSET([1]DE100_7!$P$27,ROWS($P$27:P70)-1,COLUMNS($P$27:P70)-1)<>\"\",OFFSET([1]DE100_7!$P$27,ROWS($P$27:P70)-1,COLUMNS($P$27:P70)-1),\"\")","v":{"$error":"#VALUE!"}},{"$f":"IF(OFFSET([1]DE100_7!$Q$27,ROWS($Q$27:Q70)-1,COLUMNS($Q$27:Q70)-1)<>\"\",OFFSET([1]DE100_7!$Q$27,ROWS($Q$27:Q70)-1,COLUMNS($Q$27:Q70)-1),\"\")","v":{"$error":"#VALUE!"}},{"$f":"IF(OFFSET([1]DE100_7!$R$27,ROWS($R$27:R70)-1,COLUMNS($R$27:R70)-1)<>\"\",OFFSET([1]DE100_7!$R$27,ROWS($R$27:R70)-1,COLUMNS($R$27:R70)-1),\"\")","v":{"$error":"#VALUE!"}},{"$f":"IF(OFFSET([1]DE100_7!$S$27,ROWS($S$27:S70)-1,COLUMNS($S$27:S70)-1)<>\"\",OFFSET([1]DE100_7!$S$27,ROWS($S$27:S70)-1,COLUMNS($S$27:S70)-1),\"\")","v":{"$error":"#VALUE!"}},{"$f":"IF(OFFSET([1]DE100_7!$T$27,ROWS($T$27:T70)-1,COLUMNS($T$27:T70)-1)<>\"\",OFFSET([1]DE100_7!$T$27,ROWS($T$27:T70)-1,COLUMNS($T$27:T70)-1),\"\")","v":{"$error":"#VALUE!"}},{"$f":"IF(OFFSET([1]DE100_7!$U$27,ROWS($U$27:U70)-1,COLUMNS($U$27:U70)-1)<>\"\",OFFSET([1]DE100_7!$U$27,ROWS($U$27:U70)-1,COLUMNS($U$27:U70)-1),\"\")","v":{"$error":"#VALUE!"}},{"$f":"IF(OFFSET([1]DE100_7!$V$27,ROWS($V$27:V70)-1,COLUMNS($V$27:V70)-1)<>\"\",OFFSET([1]DE100_7!$V$27,ROWS($V$27:V70)-1,COLUMNS($V$27:V70)-1),\"\")","v":{"$error":"#VALUE!"}}]
[{"$f":"IF(OFFSET([1]DE100_7!$C$27,ROWS($C$27:C71)-1,COLUMNS($C$27:C71)-1)<>\"\",OFFSET([1]DE100_7!$C$27,ROWS($C$27:C71)-1,COLUMNS($C$27:C71)-1),\"\")","v":{"$error":"#VALUE!"}},{"$f":"IF(OFFSET([1]DE100_7!$D$27,ROWS($D$27:D71)-1,COLUMNS($D$27:D71)-1)<>\"\",OFFSET([1]DE100_7!$D$27,ROWS($D$27:D71)-1,COLUMNS($D$27:D71)-1),\"\")","v":{"$error":"#VALUE!"}},{"$f":"IF(OFFSET([1]DE100_7!$E$27,ROWS($E$27:E71)-1,COLUMNS($E$27:E71)-1)<>\"\",OFFSET([1]DE100_7!$E$27,ROWS($E$27:E71)-1,COLUMNS($E$27:E71)-1),\"\")","v":{"$error":"#VALUE!"}},{"$f":"IF(OFFSET([1]DE100_7!$F$27,ROWS($F$27:F71)-1,COLUMNS($F$27:F71)-1)<>\"\",OFFSET([1]DE100_7!$F$27,ROWS($F$27:F71)-1,COLUMNS($F$27:F71)-1),\"\")","v":{"$error":"#VALUE!"}},{"$f":"IF(OFFSET([1]DE100_7!$G$27,ROWS($G$27:G71)-1,COLUMNS($G$27:G71)-1)<>\"\",OFFSET([1]DE100_7!$G$27,ROWS($G$27:G71)-1,COLUMNS($G$27:G71)-1),\"\")","v":{"$error":"#VALUE!"}},{"$f":"IF(OFFSET([1]DE100_7!$H$27,ROWS($H$27:H71)-1,COLUMNS($H$27:H71)-1)<>\"\",OFFSET([1]DE100_7!$H$27,ROWS($H$27:H71)-1,COLUMNS($H$27:H71)-1),\"\")","v":{"$error":"#VALUE!"}},{"$f":"IF(OFFSET([1]DE100_7!$I$27,ROWS($I$27:I71)-1,COLUMNS($I$27:I71)-1)<>\"\",OFFSET([1]DE100_7!$I$27,ROWS($I$27:I71)-1,COLUMNS($I$27:I71)-1),\"\")","v":{"$error":"#VALUE!"}},{"$f":"IF(OFFSET([1]DE100_7!$J$27,ROWS($J$27:J71)-1,COLUMNS($J$27:J71)-1)<>\"\",OFFSET([1]DE100_7!$J$27,ROWS($J$27:J71)-1,COLUMNS($J$27:J71)-1),\"\")","v":{"$error":"#VALUE!"}},{"$f":"IF(OFFSET([1]DE100_7!$K$27,ROWS($K$27:K71)-1,COLUMNS($K$27:K71)-1)<>\"\",OFFSET([1]DE100_7!$K$27,ROWS($K$27:K71)-1,COLUMNS($K$27:K71)-1),\"\")","v":{"$error":"#VALUE!"}},{"$f":"IF(OFFSET([1]DE100_7!$L$27,ROWS($L$27:L71)-1,COLUMNS($L$27:L71)-1)<>\"\",OFFSET([1]DE100_7!$L$27,ROWS($L$27:L71)-1,COLUMNS($L$27:L71)-1),\"\")","v":{"$error":"#VALUE!"}},{"$f":"IF(OFFSET([1]DE100_7!$M$27,ROWS($M$27:M71)-1,COLUMNS($M$27:M71)-1)<>\"\",OFFSET([1]DE100_7!$M$27,ROWS($M$27:M71)-1,COLUMNS($M$27:M71)-1),\"\")","v":{"$error":"#VALUE!"}},{"$f":"IF(OFFSET([1]DE100_7!$N$27,ROWS($N$27:N71)-1,COLUMNS($N$27:N71)-1)<>\"\",OFFSET([1]DE100_7!$N$27,ROWS($N$27:N71)-1,COLUMNS($N$27:N71)-1),\"\")","v":{"$error":"#VALUE!"}},{"$f":"IF(OFFSET([1]DE100_7!$O$27,ROWS($O$27:O71)-1,COLUMNS($O$27:O71)-1)<>\"\",OFFSET([1]DE100_7!$O$27,ROWS($O$27:O71)-1,COLUMNS($O$27:O71)-1),\"\")","v":{"$error":"#VALUE!"}},{"$f":"IF(OFFSET([1]DE100_7!$P$27,ROWS($P$27:P71)-1,COLUMNS($P$27:P71)-1)<>\"\",OFFSET([1]DE100_7!$P$27,ROWS($P$27:P71)-1,COLUMNS($P$27:P71)-1),\"\")","v":{"$error":"#VALUE!"}},{"$f":"IF(OFFSET([1]DE100_7!$Q$27,ROWS($Q$27:Q71)-1,COLUMNS($Q$27:Q71)-1)<>\"\",OFFSET([1]DE100_7!$Q$27,ROWS($Q$27:Q71)-1,COLUMNS($Q$27:Q71)-1),\"\")","v":{"$error":"#VALUE!"}},{"$f":"IF(OFFSET([1]DE100_7!$R$27,ROWS($R$27:R71)-1,COLUMNS($R$27:R71)-1)<>\"\",OFFSET([1]DE100_7!$R$27,ROWS($R$27:R71)-1,COLUMNS($R$27:R71)-1),\"\")","v":{"$error":"#VALUE!"}},{"$f":"IF(OFFSET([1]DE100_7!$S$27,ROWS($S$27:S71)-1,COLUMNS($S$27:S71)-1)<>\"\",OFFSET([1]DE100_7!$S$27,ROWS($S$27:S71)-1,COLUMNS($S$27:S71)-1),\"\")","v":{"$error":"#VALUE!"}},{"$f":"IF(OFFSET([1]DE100_7!$T$27,ROWS($T$27:T71)-1,COLUMNS($T$27:T71)-1)<>\"\",OFFSET([1]DE100_7!$T$27,ROWS($T$27:T71)-1,COLUMNS($T$27:T71)-1),\"\")","v":{"$error":"#VALUE!"}},{"$f":"IF(OFFSET([1]DE100_7!$U$27,ROWS($U$27:U71)-1,COLUMNS($U$27:U71)-1)<>\"\",OFFSET([1]DE100_7!$U$27,ROWS($U$27:U71)-1,COLUMNS($U$27:U71)-1),\"\")","v":{"$error":"#VALUE!"}},{"$f":"IF(OFFSET([1]DE100_7!$V$27,ROWS($V$27:V71)-1,COLUMNS($V$27:V71)-1)<>\"\",OFFSET([1]DE100_7!$V$27,ROWS($V$27:V71)-1,COLUMNS($V$27:V71)-1),\"\")","v":{"$error":"#VALUE!"}}]
[{"$f":"IF(OFFSET([1]DE100_7!$C$27,ROWS($C$27:C72)-1,COLUMNS($C$27:C72)-1)<>\"\",OFFSET([1]DE100_7!$C$27,ROWS($C$27:C72)-1,COLUMNS($C$27:C72)-1),\"\")","v":{"$error":"#VALUE!"}},{"$f":"IF(OFFSET([1]DE100_7!$D$27,ROWS($D$27:D72)-1,COLUMNS($D$27:D72)-1)<>\"\",OFFSET([1]DE100_7!$D$27,ROWS($D$27:D72)-1,COLUMNS($D$27:D72)-1),\"\")","v":{"$error":"#VALUE!"}},{"$f":"IF(OFFSET([1]DE100_7!$E$27,ROWS($E$27:E72)-1,COLUMNS($E$27:E72)-1)<>\"\",OFFSET([1]DE100_7!$E$27,ROWS($E$27:E72)-1,COLUMNS($E$27:E72)-1),\"\")","v":{"$error":"#VALUE!"}},{"$f":"IF(OFFSET([1]DE100_7!$F$27,ROWS($F$27:F72)-1,COLUMNS($F$27:F72)-1)<>\"\",OFFSET([1]DE100_7!$F$27,ROWS($F$27:F72)-1,COLUMNS($F$27:F72)-1),\"\")","v":{"$error":"#VALUE!"}},{"$f":"IF(OFFSET([1]DE100_7!$G$27,ROWS($G$27:G72)-1,COLUMNS($G$27:G72)-1)<>\"\",OFFSET([1]DE100_7!$G$27,ROWS($G$27:G72)-1,COLUMNS($G$27:G72)-1),\"\")","v":{"$error":"#VALUE!"}},{"$f":"IF(OFFSET([1]DE100_7!$H$27,ROWS($H$27:H72)-1,COLUMNS($H$27:H72)-1)<>\"\",OFFSET([1]DE100_7!$H$27,ROWS($H$27:H72)-1,COLUMNS($H$27:H72)-1),\"\")","v":{"$error":"#VALUE!"}},{"$f":"IF(OFFSET([1]DE100_7!$I$27,ROWS($I$27:I72)-1,COLUMNS($I$27:I72)-1)<>\"\",OFFSET([1]DE100_7!$I$27,ROWS($I$27:I72)-1,COLUMNS($I$27:I72)-1),\"\")","v":{"$error":"#VALUE!"}},{"$f":"IF(OFFSET([1]DE100_7!$J$27,ROWS($J$27:J72)-1,COLUMNS($J$27:J72)-1)<>\"\",OFFSET([1]DE100_7!$J$27,ROWS($J$27:J72)-1,COLUMNS($J$27:J72)-1),\"\")","v":{"$error":"#VALUE!"}},{"$f":"IF(OFFSET([1]DE100_7!$K$27,ROWS($K$27:K72)-1,COLUMNS($K$27:K72)-1)<>\"\",OFFSET([1]DE100_7!$K$27,ROWS($K$27:K72)-1,COLUMNS($K$27:K72)-1),\"\")","v":{"$error":"#VALUE!"}},{"$f":"IF(OFFSET([1]DE100_7!$L$27,ROWS($L$27:L72)-1,COLUMNS($L$27:L72)-1)<>\"\",OFFSET([1]DE100_7!$L$27,ROWS($L$27:L72)-1,COLUMNS($L$27:L72)-1),\"\")","v":{"$error":"#VALUE!"}},{"$f":"IF(OFFSET([1]DE100_7!$M$27,ROWS($M$27:M72)-1,COLUMNS($M$27:M72)-1)<>\"\",OFFSET([1]DE100_7!$M$27,ROWS($M$27:M72)-1,COLUMNS($M$27:M72)-1),\"\")","v":{"$error":"#VALUE!"}},{"$f":"IF(OFFSET([1]DE100_7!$N$27,ROWS($N$27:N72)-1,COLUMNS($N$27:N72)-1)<>\"\",OFFSET([1]DE100_7!$N$27,ROWS($N$27:N72)-1,COLUMNS($N$27:N72)-1),\"\")","v":{"$error":"#VALUE!"}},{"$f":"IF(OFFSET([1]DE100_7!$O$27,ROWS($O$27:O72)-1,COLUMNS($O$27:O72)-1)<>\"\",OFFSET([1]DE100_7!$O$27,ROWS($O$27:O72)-1,COLUMNS($O$27:O72)-1),\"\")","v":{"$error":"#VALUE!"}},{"$f":"IF(OFFSET([1]DE100_7!$P$27,ROWS($P$27:P72)-1,COLUMNS($P$27:P72)-1)<>\"\",OFFSET([1]DE100_7!$P$27,ROWS($P$27:P72)-1,COLUMNS($P$27:P72)-1),\"\")","v":{"$error":"#VALUE!"}},{"$f":"IF(OFFSET([1]DE100_7!$Q$27,ROWS($Q$27:Q72)-1,COLUMNS($Q$27:Q72)-1)<>\"\",OFFSET([1]DE100_7!$Q$27,ROWS($Q$27:Q72)-1,COLUMNS($Q$27:Q72)-1),\"\")","v":{"$error":"#VALUE!"}},{"$f":"IF(OFFSET([1]DE100_7!$R$27,ROWS($R$27:R72)-1,COLUMNS($R$27:R72)-1)<>\"\",OFFSET([1]DE100_7!$R$27,ROWS($R$27:R72)-1,COLUMNS($R$27:R72)-1),\"\")","v":{"$error":"#VALUE!"}},{"$f":"IF(OFFSET([1]DE100_7!$S$27,ROWS($S$27:S72)-1,COLUMNS($S$27:S72)-1)<>\"\",OFFSET([1]DE100_7!$S$27,ROWS($S$27:S72)-1,COLUMNS($S$27:S72)-1),\"\")","v":{"$error":"#VALUE!"}},{"$f":"IF(OFFSET([1]DE100_7!$T$27,ROWS($T$27:T72)-1,COLUMNS($T$27:T72)-1)<>\"\",OFFSET([1]DE100_7!$T$27,ROWS($T$27:T72)-1,COLUMNS($T$27:T72)-1),\"\")","v":{"$error":"#VALUE!"}},{"$f":"IF(OFFSET([1]DE100_7!$U$27,ROWS($U$27:U72)-1,COLUMNS($U$27:U72)-1)<>\"\",OFFSET([1]DE100_7!$U$27,ROWS($U$27:U72)-1,COLUMNS($U$27:U72)-1),\"\")","v":{"$error":"#VALUE!"}},{"$f":"IF(OFFSET([1]DE100_7!$V$27,ROWS($V$27:V72)-1,COLUMNS($V$27:V72)-1)<>\"\",OFFSET([1]DE100_7!$V$27,ROWS($V$27:V72)-1,COLUMNS($V$27:V72)-1),\"\")","v":{"$error":"#VALUE!"}}]
[{"$f":"IF(OFFSET([1]DE100_7!$C$27,ROWS($C$27:C73)-1,COLUMNS($C$27:C73)-1)<>\"\",OFFSET([1]DE100_7!$C$27,ROWS($C$27:C73)-1,COLUMNS($C$27:C73)-1),\"\")","v":{"$error":"#VALUE!"}},{"$f":"IF(OFFSET([1]DE100_7!$D$27,ROWS($D$27:D73)-1,COLUMNS($D$27:D73)-1)<>\"\",OFFSET([1]DE100_7!$D$27,ROWS($D$27:D73)-1,COLUMNS($D$27:D73)-1),\"\")","v":{"$error":"#VALUE!"}},{"$f":"IF(OFFSET([1]DE100_7!$E$27,ROWS($E$27:E73)-1,COLUMNS($E$27:E73)-1)<>\"\",OFFSET([1]DE100_7!$E$27,ROWS($E$27:E73)-1,COLUMNS($E$27:E73)-1),\"\")","v":{"$error":"#VALUE!"}},{"$f":"IF(OFFSET([1]DE100_7!$F$27,ROWS($F$27:F73)-1,COLUMNS($F$27:F73)-1)<>\"\",OFFSET([1]DE100_7!$F$27,ROWS($F$27:F73)-1,COLUMNS($F$27:F73)-1),\"\")","v":{"$error":"#VALUE!"}},{"$f":"IF(OFFSET([1]DE100_7!$G$27,ROWS($G$27:G73)-1,COLUMNS($G$27:G73)-1)<>\"\",OFFSET([1]DE100_7!$G$27,ROWS($G$27:G73)-1,COLUMNS($G$27:G73)-1),\"\")","v":{"$error":"#VALUE!"}},{"$f":"IF(OFFSET([1]DE100_7!$H$27,ROWS($H$27:H73)-1,COLUMNS($H$27:H73)-1)<>\"\",OFFSET([1]DE100_7!$H$27,ROWS($H$27:H73)-1,COLUMNS($H$27:H73)-1),\"\")","v":{"$error":"#VALUE!"}},{"$f":"IF(OFFSET([1]DE100_7!$I$27,ROWS($I$27:I73)-1,COLUMNS($I$27:I73)-1)<>\"\",OFFSET([1]DE100_7!$I$27,ROWS($I$27:I73)-1,COLUMNS($I$27:I73)-1),\"\")","v":{"$error":"#VALUE!"}},{"$f":"IF(OFFSET([1]DE100_7!$J$27,ROWS($J$27:J73)-1,COLUMNS($J$27:J73)-1)<>\"\",OFFSET([1]DE100_7!$J$27,ROWS($J$27:J73)-1,COLUMNS($J$27:J73)-1),\"\")","v":{"$error":"#VALUE!"}},{"$f":"IF(OFFSET([1]DE100_7!$K$27,ROWS($K$27:K73)-1,COLUMNS($K$27:K73)-1)<>\"\",OFFSET([1]DE100_7!$K$27,ROWS($K$27:K73)-1,COLUMNS($K$27:K73)-1),\"\")","v":{"$error":"#VALUE!"}},{"$f":"IF(OFFSET([1]DE100_7!$L$27,ROWS($L$27:L73)-1,COLUMNS($L$27:L73)-1)<>\"\",OFFSET([1]DE100_7!$L$27,ROWS($L$27:L73)-1,COLUMNS($L$27:L73)-1),\"\")","v":{"$error":"#VALUE!"}},{"$f":"IF(OFFSET([1]DE100_7!$M$27,ROWS($M$27:M73)-1,COLUMNS($M$27:M73)-1)<>\"\",OFFSET([1]DE100_7!$M$27,ROWS($M$27:M73)-1,COLUMNS($M$27:M73)-1),\"\")","v":{"$error":"#VALUE!"}},{"$f":"IF(OFFSET([1]DE100_7!$N$27,ROWS($N$27:N73)-1,COLUMNS($N$27:N73)-1)<>\"\",OFFSET([1]DE100_7!$N$27,ROWS($N$27:N73)-1,COLUMNS($N$27:N73)-1),\"\")","v":{"$error":"#VALUE!"}},{"$f":"IF(OFFSET([1]DE100_7!$O$27,ROWS($O$27:O73)-1,COLUMNS($O$27:O73)-1)<>\"\",OFFSET([1]DE100_7!$O$27,ROWS($O$27:O73)-1,COLUMNS($O$27:O73)-1),\"\")","v":{"$error":"#VALUE!"}},{"$f":"IF(OFFSET([1]DE100_7!$P$27,ROWS($P$27:P73)-1,COLUMNS($P$27:P73)-1)<>\"\",OFFSET([1]DE100_7!$P$27,ROWS($P$27:P73)-1,COLUMNS($P$27:P73)-1),\"\")","v":{"$error":"#VALUE!"}},{"$f":"IF(OFFSET([1]DE100_7!$Q$27,ROWS($Q$27:Q73)-1,COLUMNS($Q$27:Q73)-1)<>\"\",OFFSET([1]DE100_7!$Q$27,ROWS($Q$27:Q73)-1,COLUMNS($Q$27:Q73)-1),\"\")","v":{"$error":"#VALUE!"}},{"$f":"IF(OFFSET([1]DE100_7!$R$27,ROWS($R$27:R73)-1,COLUMNS($R$27:R73)-1)<>\"\",OFFSET([1]DE100_7!$R$27,ROWS($R$27:R73)-1,COLUMNS($R$27:R73)-1),\"\")","v":{"$error":"#VALUE!"}},{"$f":"IF(OFFSET([1]DE100_7!$S$27,ROWS($S$27:S73)-1,COLUMNS($S$27:S73)-1)<>\"\",OFFSET([1]DE100_7!$S$27,ROWS($S$27:S73)-1,COLUMNS($S$27:S73)-1),\"\")","v":{"$error":"#VALUE!"}},{"$f":"IF(OFFSET([1]DE100_7!$T$27,ROWS($T$27:T73)-1,COLUMNS($T$27:T73)-1)<>\"\",OFFSET([1]DE100_7!$T$27,ROWS($T$27:T73)-1,COLUMNS($T$27:T73)-1),\"\")","v":{"$error":"#VALUE!"}},{"$f":"IF(OFFSET([1]DE100_7!$U$27,ROWS($U$27:U73)-1,COLUMNS($U$27:U73)-1)<>\"\",OFFSET([1]DE100_7!$U$27,ROWS($U$27:U73)-1,COLUMNS($U$27:U73)-1),\"\")","v":{"$error":"#VALUE!"}},{"$f":"IF(OFFSET([1]DE100_7!$V$27,ROWS($V$27:V73)-1,COLUMNS($V$27:V73)-1)<>\"\",OFFSET([1]DE100_7!$V$27,ROWS($V$27:V73)-1,COLUMNS($V$27:V73)-1),\"\")","v":{"$error":"#VALUE!"}}]
[{"$f":"IF(OFFSET([1]DE100_7!$C$27,ROWS($C$27:C74)-1,COLUMNS($C$27:C74)-1)<>\"\",OFFSET([1]DE100_7!$C$27,ROWS($C$27:C74)-1,COLUMNS($C$27:C74)-1),\"\")","v":{"$error":"#VALUE!"}},{"$f":"IF(OFFSET([1]DE100_7!$D$27,ROWS($D$27:D74)-1,COLUMNS($D$27:D74)-1)<>\"\",OFFSET([1]DE100_7!$D$27,ROWS($D$27:D74)-1,COLUMNS($D$27:D74)-1),\"\")","v":{"$error":"#VALUE!"}},{"$f":"IF(OFFSET([1]DE100_7!$E$27,ROWS($E$27:E74)-1,COLUMNS($E$27:E74)-1)<>\"\",OFFSET([1]DE100_7!$E$27,ROWS($E$27:E74)-1,COLUMNS($E$27:E74)-1),\"\")","v":{"$error":"#VALUE!"}},{"$f":"IF(OFFSET([1]DE100_7!$F$27,ROWS($F$27:F74)-1,COLUMNS($F$27:F74)-1)<>\"\",OFFSET([1]DE100_7!$F$27,ROWS($F$27:F74)-1,COLUMNS($F$27:F74)-1),\"\")","v":{"$error":"#VALUE!"}},{"$f":"IF(OFFSET([1]DE100_7!$G$27,ROWS($G$27:G74)-1,COLUMNS($G$27:G74)-1)<>\"\",OFFSET([1]DE100_7!$G$27,ROWS($G$27:G74)-1,COLUMNS($G$27:G74)-1),\"\")","v":{"$error":"#VALUE!"}},{"$f":"IF(OFFSET([1]DE100_7!$H$27,ROWS($H$27:H74)-1,COLUMNS($H$27:H74)-1)<>\"\",OFFSET([1]DE100_7!$H$27,ROWS($H$27:H74)-1,COLUMNS($H$27:H74)-1),\"\")","v":{"$error":"#VALUE!"}},{"$f":"IF(OFFSET([1]DE100_7!$I$27,ROWS($I$27:I74)-1,COLUMNS($I$27:I74)-1)<>\"\",OFFSET([1]DE100_7!$I$27,ROWS($I$27:I74)-1,COLUMNS($I$27:I74)-1),\"\")","v":{"$error":"#VALUE!"}},{"$f":"IF(OFFSET([1]DE100_7!$J$27,ROWS($J$27:J74)-1,COLUMNS($J$27:J74)-1)<>\"\",OFFSET([1]DE100_7!$J$27,ROWS($J$27:J74)-1,COLUMNS($J$27:J74)-1),\"\")","v":{"$error":"#VALUE!"}},{"$f":"IF(OFFSET([1]DE100_7!$K$27,ROWS($K$27:K74)-1,COLUMNS($K$27:K74)-1)<>\"\",OFFSET([1]DE100_7!$K$27,ROWS($K$27:K74)-1,COLUMNS($K$27:K74)-1),\"\")","v":{"$error":"#VALUE!"}},{"$f":"IF(OFFSET([1]DE100_7!$L$27,ROWS($L$27:L74)-1,COLUMNS($L$27:L74)-1)<>\"\",OFFSET([1]DE100_7!$L$27,ROWS($L$27:L74)-1,COLUMNS($L$27:L74)-1),\"\")","v":{"$error":"#VALUE!"}},{"$f":"IF(OFFSET([1]DE100_7!$M$27,ROWS($M$27:M74)-1,COLUMNS($M$27:M74)-1)<>\"\",OFFSET([1]DE100_7!$M$27,ROWS($M$27:M74)-1,COLUMNS($M$27:M74)-1),\"\")","v":{"$error":"#VALUE!"}},{"$f":"IF(OFFSET([1]DE100_7!$N$27,ROWS($N$27:N74)-1,COLUMNS($N$27:N74)-1)<>\"\",OFFSET([1]DE100_7!$N$27,ROWS($N$27:N74)-1,COLUMNS($N$27:N74)-1),\"\")","v":{"$error":"#VALUE!"}},{"$f":"IF(OFFSET([1]DE100_7!$O$27,ROWS($O$27:O74)-1,COLUMNS($O$27:O74)-1)<>\"\",OFFSET([1]DE100_7!$O$27,ROWS($O$27:O74)-1,COLUMNS($O$27:O74)-1),\"\")","v":{"$error":"#VALUE!"}},{"$f":"IF(OFFSET([1]DE100_7!$P$27,ROWS($P$27:P74)-1,COLUMNS($P$27:P74)-1)<>\"\",OFFSET([1]DE100_7!$P$27,ROWS($P$27:P74)-1,COLUMNS($P$27:P74)-1),\"\")","v":{"$error":"#VALUE!"}},{"$f":"IF(OFFSET([1]DE100_7!$Q$27,ROWS($Q$27:Q74)-1,COLUMNS($Q$27:Q74)-1)<>\"\",OFFSET([1]DE100_7!$Q$27,ROWS($Q$27:Q74)-1,COLUMNS($Q$27:Q74)-1),\"\")","v":{"$error":"#VALUE!"}},{"$f":"IF(OFFSET([1]DE100_7!$R$27,ROWS($R$27:R74)-1,COLUMNS($R$27:R74)-1)<>\"\",OFFSET([1]DE100_7!$R$27,ROWS($R$27:R74)-1,COLUMNS($R$27:R74)-1),\"\")","v":{"$error":"#VALUE!"}},{"$f":"IF(OFFSET([1]DE100_7!$S$27,ROWS($S$27:S74)-1,COLUMNS($S$27:S74)-1)<>\"\",OFFSET([1]DE100_7!$S$27,ROWS($S$27:S74)-1,COLUMNS($S$27:S74)-1),\"\")","v":{"$error":"#VALUE!"}},{"$f":"IF(OFFSET([1]DE100_7!$T$27,ROWS($T$27:T74)-1,COLUMNS($T$27:T74)-1)<>\"\",OFFSET([1]DE100_7!$T$27,ROWS($T$27:T74)-1,COLUMNS($T$27:T74)-1),\"\")","v":{"$error":"#VALUE!"}},{"$f":"IF(OFFSET([1]DE100_7!$U$27,ROWS($U$27:U74)-1,COLUMNS($U$27:U74)-1)<>\"\",OFFSET([1]DE100_7!$U$27,ROWS($U$27:U74)-1,COLUMNS($U$27:U74)-1),\"\")","v":{"$error":"#VALUE!"}},{"$f":"IF(OFFSET([1]DE100_7!$V$27,ROWS($V$27:V74)-1,COLUMNS($V$27:V74)-1)<>\"\",OFFSET([1]DE100_7!$V$27,ROWS($V$27:V74)-1,COLUMNS($V$27:V74)-1),\"\")","v":{"$error":"#VALUE!"}}]
[{"$f":"IF(OFFSET([1]DE100_7!$C$27,ROWS($C$27:C75)-1,COLUMNS($C$27:C75)-1)<>\"\",OFFSET([1]DE100_7!$C$27,ROWS($C$27:C75)-1,COLUMNS($C$27:C75)-1),\"\")","v":{"$error":"#VALUE!"}},{"$f":"IF(OFFSET([1]DE100_7!$D$27,ROWS($D$27:D75)-1,COLUMNS($D$27:D75)-1)<>\"\",OFFSET([1]DE100_7!$D$27,ROWS($D$27:D75)-1,COLUMNS($D$27:D75)-1),\"\")","v":{"$error":"#VALUE!"}},{"$f":"IF(OFFSET([1]DE100_7!$E$27,ROWS($E$27:E75)-1,COLUMNS($E$27:E75)-1)<>\"\",OFFSET([1]DE100_7!$E$27,ROWS($E$27:E75)-1,COLUMNS($E$27:E75)-1),\"\")","v":{"$error":"#VALUE!"}},{"$f":"IF(OFFSET([1]DE100_7!$F$27,ROWS($F$27:F75)-1,COLUMNS($F$27:F75)-1)<>\"\",OFFSET([1]DE100_7!$F$27,ROWS($F$27:F75)-1,COLUMNS($F$27:F75)-1),\"\")","v":{"$error":"#VALUE!"}},{"$f":"IF(OFFSET([1]DE100_7!$G$27,ROWS($G$27:G75)-1,COLUMNS($G$27:G75)-1)<>\"\",OFFSET([1]DE100_7!$G$27,ROWS($G$27:G75)-1,COLUMNS($G$27:G75)-1),\"\")","v":{"$error":"#VALUE!"}},{"$f":"IF(OFFSET([1]DE100_7!$H$27,ROWS($H$27:H75)-1,COLUMNS($H$27:H75)-1)<>\"\",OFFSET([1]DE100_7!$H$27,ROWS($H$27:H75)-1,COLUMNS($H$27:H75)-1),\"\")","v":{"$error":"#VALUE!"}},{"$f":"IF(OFFSET([1]DE100_7!$I$27,ROWS($I$27:I75)-1,COLUMNS($I$27:I75)-1)<>\"\",OFFSET([1]DE100_7!$I$27,ROWS($I$27:I75)-1,COLUMNS($I$27:I75)-1),\"\")","v":{"$error":"#VALUE!"}},{"$f":"IF(OFFSET([1]DE100_7!$J$27,ROWS($J$27:J75)-1,COLUMNS($J$27:J75)-1)<>\"\",OFFSET([1]DE100_7!$J$27,ROWS($J$27:J75)-1,COLUMNS($J$27:J75)-1),\"\")","v":{"$error":"#VALUE!"}},{"$f":"IF(OFFSET([1]DE100_7!$K$27,ROWS($K$27:K75)-1,COLUMNS($K$27:K75)-1)<>\"\",OFFSET([1]DE100_7!$K$27,ROWS($K$27:K75)-1,COLUMNS($K$27:K75)-1),\"\")","v":{"$error":"#VALUE!"}},{"$f":"IF(OFFSET([1]DE100_7!$L$27,ROWS($L$27:L75)-1,COLUMNS($L$27:L75)-1)<>\"\",OFFSET([1]DE100_7!$L$27,ROWS($L$27:L75)-1,COLUMNS($L$27:L75)-1),\"\")","v":{"$error":"#VALUE!"}},{"$f":"IF(OFFSET([1]DE100_7!$M$27,ROWS($M$27:M75)-1,COLUMNS($M$27:M75)-1)<>\"\",OFFSET([1]DE100_7!$M$27,ROWS($M$27:M75)-1,COLUMNS($M$27:M75)-1),\"\")","v":{"$error":"#VALUE!"}},{"$f":"IF(OFFSET([1]DE100_7!$N$27,ROWS($N$27:N75)-1,COLUMNS($N$27:N75)-1)<>\"\",OFFSET([1]DE100_7!$N$27,ROWS($N$27:N75)-1,COLUMNS($N$27:N75)-1),\"\")","v":{"$error":"#VALUE!"}},{"$f":"IF(OFFSET([1]DE100_7!$O$27,ROWS($O$27:O75)-1,COLUMNS($O$27:O75)-1)<>\"\",OFFSET([1]DE100_7!$O$27,ROWS($O$27:O75)-1,COLUMNS($O$27:O75)-1),\"\")","v":{"$error":"#VALUE!"}},{"$f":"IF(OFFSET([1]DE100_7!$P$27,ROWS($P$27:P75)-1,COLUMNS($P$27:P75)-1)<>\"\",OFFSET([1]DE100_7!$P$27,ROWS($P$27:P75)-1,COLUMNS($P$27:P75)-1),\"\")","v":{"$error":"#VALUE!"}},{"$f":"IF(OFFSET([1]DE100_7!$Q$27,ROWS($Q$27:Q75)-1,COLUMNS($Q$27:Q75)-1)<>\"\",OFFSET([1]DE100_7!$Q$27,ROWS($Q$27:Q75)-1,COLUMNS($Q$27:Q75)-1),\"\")","v":{"$error":"#VALUE!"}},{"$f":"IF(OFFSET([1]DE100_7!$R$27,ROWS($R$27:R75)-1,COLUMNS($R$27:R75)-1)<>\"\",OFFSET([1]DE100_7!$R$27,ROWS($R$27:R75)-1,COLUMNS($R$27:R75)-1),\"\")","v":{"$error":"#VALUE!"}},{"$f":"IF(OFFSET([1]DE100_7!$S$27,ROWS($S$27:S75)-1,COLUMNS($S$27:S75)-1)<>\"\",OFFSET([1]DE100_7!$S$27,ROWS($S$27:S75)-1,COLUMNS($S$27:S75)-1),\"\")","v":{"$error":"#VALUE!"}},{"$f":"IF(OFFSET([1]DE100_7!$T$27,ROWS($T$27:T75)-1,COLUMNS($T$27:T75)-1)<>\"\",OFFSET([1]DE100_7!$T$27,ROWS($T$27:T75)-1,COLUMNS($T$27:T75)-1),\"\")","v":{"$error":"#VALUE!"}},{"$f":"IF(OFFSET([1]DE100_7!$U$27,ROWS($U$27:U75)-1,COLUMNS($U$27:U75)-1)<>\"\",OFFSET([1]DE100_7!$U$27,ROWS($U$27:U75)-1,COLUMNS($U$27:U75)-1),\"\")","v":{"$error":"#VALUE!"}},{"$f":"IF(OFFSET([1]DE100_7!$V$27,ROWS($V$27:V75)-1,COLUMNS($V$27:V75)-1)<>\"\",OFFSET([1]DE100_7!$V$27,ROWS($V$27:V75)-1,COLUMNS($V$27:V75)-1),\"\")","v":{"$error":"#VALUE!"}}]
[{"$f":"IF(OFFSET([1]DE100_7!$C$27,ROWS($C$27:C76)-1,COLUMNS($C$27:C76)-1)<>\"\",OFFSET([1]DE100_7!$C$27,ROWS($C$27:C76)-1,COLUMNS($C$27:C76)-1),\"\")","v":{"$error":"#VALUE!"}},{"$f":"IF(OFFSET([1]DE100_7!$D$27,ROWS($D$27:D76)-1,COLUMNS($D$27:D76)-1)<>\"\",OFFSET([1]DE100_7!$D$27,ROWS($D$27:D76)-1,COLUMNS($D$27:D76)-1),\"\")","v":{"$error":"#VALUE!"}},{"$f":"IF(OFFSET([1]DE100_7!$E$27,ROWS($E$27:E76)-1,COLUMNS($E$27:E76)-1)<>\"\",OFFSET([1]DE100_7!$E$27,ROWS($E$27:E76)-1,COLUMNS($E$27:E76)-1),\"\")","v":{"$error":"#VALUE!"}},{"$f":"IF(OFFSET([1]DE100_7!$F$27,ROWS($F$27:F76)-1,COLUMNS($F$27:F76)-1)<>\"\",OFFSET([1]DE100_7!$F$27,ROWS($F$27:F76)-1,COLUMNS($F$27:F76)-1),\"\")","v":{"$error":"#VALUE!"}},{"$f":"IF(OFFSET([1]DE100_7!$G$27,ROWS($G$27:G76)-1,COLUMNS($G$27:G76)-1)<>\"\",OFFSET([1]DE100_7!$G$27,ROWS($G$27:G76)-1,COLUMNS($G$27:G76)-1),\"\")","v":{"$error":"#VALUE!"}},{"$f":"IF(OFFSET([1]DE100_7!$H$27,ROWS($H$27:H76)-1,COLUMNS($H$27:H76)-1)<>\"\",OFFSET([1]DE100_7!$H$27,ROWS($H$27:H76)-1,COLUMNS($H$27:H76)-1),\"\")","v":{"$error":"#VALUE!"}},{"$f":"IF(OFFSET([1]DE100_7!$I$27,ROWS($I$27:I76)-1,COLUMNS($I$27:I76)-1)<>\"\",OFFSET([1]DE100_7!$I$27,ROWS($I$27:I76)-1,COLUMNS($I$27:I76)-1),\"\")","v":{"$error":"#VALUE!"}},{"$f":"IF(OFFSET([1]DE100_7!$J$27,ROWS($J$27:J76)-1,COLUMNS($J$27:J76)-1)<>\"\",OFFSET([1]DE100_7!$J$27,ROWS($J$27:J76)-1,COLUMNS($J$27:J76)-1),\"\")","v":{"$error":"#VALUE!"}},{"$f":"IF(OFFSET([1]DE100_7!$K$27,ROWS($K$27:K76)-1,COLUMNS($K$27:K76)-1)<>\"\",OFFSET([1]DE100_7!$K$27,ROWS($K$27:K76)-1,COLUMNS($K$27:K76)-1),\"\")","v":{"$error":"#VALUE!"}},{"$f":"IF(OFFSET([1]DE100_7!$L$27,ROWS($L$27:L76)-1,COLUMNS($L$27:L76)-1)<>\"\",OFFSET([1]DE100_7!$L$27,ROWS($L$27:L76)-1,COLUMNS($L$27:L76)-1),\"\")","v":{"$error":"#VALUE!"}},{"$f":"IF(OFFSET([1]DE100_7!$M$27,ROWS($M$27:M76)-1,COLUMNS($M$27:M76)-1)<>\"\",OFFSET([1]DE100_7!$M$27,ROWS($M$27:M76)-1,COLUMNS($M$27:M76)-1),\"\")","v":{"$error":"#VALUE!"}},{"$f":"IF(OFFSET([1]DE100_7!$N$27,ROWS($N$27:N76)-1,COLUMNS($N$27:N76)-1)<>\"\",OFFSET([1]DE100_7!$N$27,ROWS($N$27:N76)-1,COLUMNS($N$27:N76)-1),\"\")","v":{"$error":"#VALUE!"}},{"$f":"IF(OFFSET([1]DE100_7!$O$27,ROWS($O$27:O76)-1,COLUMNS($O$27:O76)-1)<>\"\",OFFSET([1]DE100_7!$O$27,ROWS($O$27:O76)-1,COLUMNS($O$27:O76)-1),\"\")","v":{"$error":"#VALUE!"}},{"$f":"IF(OFFSET([1]DE100_7!$P$27,ROWS($P$27:P76)-1,COLUMNS($P$27:P76)-1)<>\"\",OFFSET([1]DE100_7!$P$27,ROWS($P$27:P76)-1,COLUMNS($P$27:P76)-1),\"\")","v":{"$error":"#VALUE!"}},{"$f":"IF(OFFSET([1]DE100_7!$Q$27,ROWS($Q$27:Q76)-1,COLUMNS($Q$27:Q76)-1)<>\"\",OFFSET([1]DE100_7!$Q$27,ROWS($Q$27:Q76)-1,COLUMNS($Q$27:Q76)-1),\"\")","v":{"$error":"#VALUE!"}},{"$f":"IF(OFFSET([1]DE100_7!$R$27,ROWS($R$27:R76)-1,COLUMNS($R$27:R76)-1)<>\"\",OFFSET([1]DE100_7!$R$27,ROWS($R$27:R76)-1,COLUMNS($R$27:R76)-1),\"\")","v":{"$error":"#VALUE!"}},{"$f":"IF(OFFSET([1]DE100_7!$S$27,ROWS($S$27:S76)-1,COLUMNS($S$27:S76)-1)<>\"\",OFFSET([1]DE100_7!$S$27,ROWS($S$27:S76)-1,COLUMNS($S$27:S76)-1),\"\")","v":{"$error":"#VALUE!"}},{"$f":"IF(OFFSET([1]DE100_7!$T$27,ROWS($T$27:T76)-1,COLUMNS($T$27:T76)-1)<>\"\",OFFSET([1]DE100_7!$T$27,ROWS($T$27:T76)-1,COLUMNS($T$27:T76)-1),\"\")","v":{"$error":"#VALUE!"}},{"$f":"IF(OFFSET([1]DE100_7!$U$27,ROWS($U$27:U76)-1,COLUMNS($U$27:U76)-1)<>\"\",OFFSET([1]DE100_7!$U$27,ROWS($U$27:U76)-1,COLUMNS($U$27:U76)-1),\"\")","v":{"$error":"#VALUE!"}},{"$f":"IF(OFFSET([1]DE100_7!$V$27,ROWS($V$27:V76)-1,COLUMNS($V$27:V76)-1)<>\"\",OFFSET([1]DE100_7!$V$27,ROWS($V$27:V76)-1,COLUMNS($V$27:V76)-1),\"\")","v":{"$error":"#VALUE!"}}]
[{"$f":"IF(OFFSET([1]DE100_7!$C$27,ROWS($C$27:C77)-1,COLUMNS($C$27:C77)-1)<>\"\",OFFSET([1]DE100_7!$C$27,ROWS($C$27:C77)-1,COLUMNS($C$27:C77)-1),\"\")","v":{"$error":"#VALUE!"}},null,null,null,{"$f":"IF(OFFSET([1]DE100_7!$G$27,ROWS($G$27:G77)-1,COLUMNS($G$27:G77)-1)<>\"\",OFFSET([1]DE100_7!$G$27,ROWS($G$27:G77)-1,COLUMNS($G$27:G77)-1),\"\")","v":{"$error":"#VALUE!"}},{"$f":"IF(OFFSET([1]DE100_7!$H$27,ROWS($H$27:H77)-1,COLUMNS($H$27:H77)-1)<>\"\",OFFSET([1]DE100_7!$H$27,ROWS($H$27:H77)-1,COLUMNS($H$27:H77)-1),\"\")","v":{"$error":"#VALUE!"}},{"$f":"IF(OFFSET([1]DE100_7!$I$27,ROWS($I$27:I77)-1,COLUMNS($I$27:I77)-1)<>\"\",OFFSET([1]DE100_7!$I$27,ROWS($I$27:I77)-1,COLUMNS($I$27:I77)-1),\"\")","v":{"$error":"#VALUE!"}},{"$f":"IF(OFFSET([1]DE100_7!$J$27,ROWS($J$27:J77)-1,COLUMNS($J$27:J77)-1)<>\"\",OFFSET([1]DE100_7!$J$27,ROWS($J$27:J77)-1,COLUMNS($J$27:J77)-1),\"\")","v":{"$error":"#VALUE!"}},{"$f":"IF(OFFSET([1]DE100_7!$K$27,ROWS($K$27:K77)-1,COLUMNS($K$27:K77)-1)<>\"\",OFFSET([1]DE100_7!$K$27,ROWS($K$27:K77)-1,COLUMNS($K$27:K77)-1),\"\")","v":{"$error":"#VALUE!"}},{"$f":"IF(OFFSET([1]DE100_7!$L$27,ROWS($L$27:L77)-1,COLUMNS($L$27:L77)-1)<>\"\",OFFSET([1]DE100_7!$L$27,ROWS($L$27:L77)-1,COLUMNS($L$27:L77)-1),\"\")","v":{"$error":"#VALUE!"}},{"$f":"IF(OFFSET([1]DE100_7!$M$27,ROWS($M$27:M77)-1,COLUMNS($M$27:M77)-1)<>\"\",OFFSET([1]DE100_7!$M$27,ROWS($M$27:M77)-1,COLUMNS($M$27:M77)-1),\"\")","v":{"$error":"#VALUE!"}},{"$f":"IF(OFFSET([1]DE100_7!$N$27,ROWS($N$27:N77)-1,COLUMNS($N$27:N77)-1)<>\"\",OFFSET([1]DE100_7!$N$27,ROWS($N$27:N77)-1,COLUMNS($N$27:N77)-1),\"\")","v":{"$error":"#VALUE!"}},{"$f":"IF(OFFSET([1]DE100_7!$O$27,ROWS($O$27:O77)-1,COLUMNS($O$27:O77)-1)<>\"\",OFFSET([1]DE100_7!$O$27,ROWS($O$27:O77)-1,COLUMNS($O$27:O77)-1),\"\")","v":{"$error":"#VALUE!"}},{"$f":"IF(OFFSET([1]DE100_7!$P$27,ROWS($P$27:P77)-1,COLUMNS($P$27:P77)-1)<>\"\",OFFSET([1]DE100_7!$P$27,ROWS($P$27:P77)-1,COLUMNS($P$27:P77)-1),\"\")","v":{"$error":"#VALUE!"}},{"$f":"IF(OFFSET([1]DE100_7!$Q$27,ROWS($Q$27:Q77)-1,COLUMNS($Q$27:Q77)-1)<>\"\",OFFSET([1]DE100_7!$Q$27,ROWS($Q$27:Q77)-1,COLUMNS($Q$27:Q77)-1),\"\")","v":{"$error":"#VALUE!"}},{"$f":"IF(OFFSET([1]DE100_7!$R$27,ROWS($R$27:R77)-1,COLUMNS($R$27:R77)-1)<>\"\",OFFSET([1]DE100_7!$R$27,ROWS($R$27:R77)-1,COLUMNS($R$27:R77)-1),\"\")","v":{"$error":"#VALUE!"}},{"$f":"IF(OFFSET([1]DE100_7!$S$27,ROWS($S$27:S77)-1,COLUMNS($S$27:S77)-1)<>\"\",OFFSET([1]DE100_7!$S$27,ROWS($S$27:S77)-1,COLUMNS($S$27:S77)-1),\"\")","v":{"$error":"#VALUE!"}},{"$f":"IF(OFFSET([1]DE100_7!$T$27,ROWS($T$27:T77)-1,COLUMNS($T$27:T77)-1)<>\"\",OFFSET([1]DE100_7!$T$27,ROWS($T$27:T77)-1,COLUMNS($T$27:T77)-1),\"\")","v":{"$error":"#VALUE!"}},{"$f":"IF(OFFSET([1]DE100_7!$U$27,ROWS($U$27:U77)-1,COLUMNS($U$27:U77)-1)<>\"\",OFFSET([1]DE100_7!$U$27,ROWS($U$27:U77)-1,COLUMNS($U$27:U77)-1),\"\")","v":{"$error":"#VALUE!"}},{"$f":"IF(OFFSET([1]DE100_7!$V$27,ROWS($V$27:V77)-1,COLUMNS($V$27:V77)-1)<>\"\",OFFSET([1]DE100_7!$V$27,ROWS($V$27:V77)-1,COLUMNS($V$27:V77)-1),\"\")","v":{"$error":"#VALUE!"}}]
[{"$f":"IF(OFFSET([1]DE100_7!$C$27,ROWS($C$27:C78)-1,COLUMNS($C$27:C78)-1)<>\"\",OFFSET([1]DE100_7!$C$27,ROWS($C$27:C78)-1,COLUMNS($C$27:C78)-1),\"\")","v":{"$error":"#VALUE!"}},{"$f":"IF(OFFSET([1]DE100_7!$D$27,ROWS($D$27:D78)-1,COLUMNS($D$27:D78)-1)<>\"\",OFFSET([1]DE100_7!$D$27,ROWS($D$27:D78)-1,COLUMNS($D$27:D78)-1),\"\")","v":{"$error":"#VALUE!"}},{"$f":"IF(OFFSET([1]DE100_7!$E$27,ROWS($E$27:E78)-1,COLUMNS($E$27:E78)-1)<>\"\",OFFSET([1]DE100_7!$E$27,ROWS($E$27:E78)-1,COLUMNS($E$27:E78)-1),\"\")","v":{"$error":"#VALUE!"}},{"$f":"IF(OFFSET([1]DE100_7!$F$27,ROWS($F$27:F78)-1,COLUMNS($F$27:F78)-1)<>\"\",OFFSET([1]DE100_7!$F$27,ROWS($F$27:F78)-1,COLUMNS($F$27:F78)-1),\"\")","v":{"$error":"#VALUE!"}},{"$f":"IF(OFFSET([1]DE100_7!$G$27,ROWS($G$27:G78)-1,COLUMNS($G$27:G78)-1)<>\"\",OFFSET([1]DE100_7!$G$27,ROWS($G$27:G78)-1,COLUMNS($G$27:G78)-1),\"\")","v":{"$error":"#VALUE!"}},{"$f":"IF(OFFSET([1]DE100_7!$H$27,ROWS($H$27:H78)-1,COLUMNS($H$27:H78)-1)<>\"\",OFFSET([1]DE100_7!$H$27,ROWS($H$27:H78)-1,COLUMNS($H$27:H78)-1),\"\")","v":{"$error":"#VALUE!"}},{"$f":"IF(OFFSET([1]DE100_7!$I$27,ROWS($I$27:I78)-1,COLUMNS($I$27:I78)-1)<>\"\",OFFSET([1]DE100_7!$I$27,ROWS($I$27:I78)-1,COLUMNS($I$27:I78)-1),\"\")","v":{"$error":"#VALUE!"}},{"$f":"IF(OFFSET([1]DE100_7!$J$27,ROWS($J$27:J78)-1,COLUMNS($J$27:J78)-1)<>\"\",OFFSET([1]DE100_7!$J$27,ROWS($J$27:J78)-1,COLUMNS($J$27:J78)-1),\"\")","v":{"$error":"#VALUE!"}},{"$f":"IF(OFFSET([1]DE100_7!$K$27,ROWS($K$27:K78)-1,COLUMNS($K$27:K78)-1)<>\"\",OFFSET([1]DE100_7!$K$27,ROWS($K$27:K78)-1,COLUMNS($K$27:K78)-1),\"\")","v":{"$error":"#VALUE!"}},{"$f":"IF(OFFSET([1]DE100_7!$L$27,ROWS($L$27:L78)-1,COLUMNS($L$27:L78)-1)<>\"\",OFFSET([1]DE100_7!$L$27,ROWS($L$27:L78)-1,COLUMNS($L$27:L78)-1),\"\")","v":{"$error":"#VALUE!"}},{"$f":"IF(OFFSET([1]DE100_7!$M$27,ROWS($M$27:M78)-1,COLUMNS($M$27:M78)-1)<>\"\",OFFSET([1]DE100_7!$M$27,ROWS($M$27:M78)-1,COLUMNS($M$27:M78)-1),\"\")","v":{"$error":"#VALUE!"}},{"$f":"IF(OFFSET([1]DE100_7!$N$27,ROWS($N$27:N78)-1,COLUMNS($N$27:N78)-1)<>\"\",OFFSET([1]DE100_7!$N$27,ROWS($N$27:N78)-1,COLUMNS($N$27:N78)-1),\"\")","v":{"$error":"#VALUE!"}},{"$f":"IF(OFFSET([1]DE100_7!$O$27,ROWS($O$27:O78)-1,COLUMNS($O$27:O78)-1)<>\"\",OFFSET([1]DE100_7!$O$27,ROWS($O$27:O78)-1,COLUMNS($O$27:O78)-1),\"\")","v":{"$error":"#VALUE!"}},{"$f":"IF(OFFSET([1]DE100_7!$P$27,ROWS($P$27:P78)-1,COLUMNS($P$27:P78)-1)<>\"\",OFFSET([1]DE100_7!$P$27,ROWS($P$27:P78)-1,COLUMNS($P$27:P78)-1),\"\")","v":{"$error":"#VALUE!"}},{"$f":"IF(OFFSET([1]DE100_7!$Q$27,ROWS($Q$27:Q78)-1,COLUMNS($Q$27:Q78)-1)<>\"\",OFFSET([1]DE100_7!$Q$27,ROWS($Q$27:Q78)-1,COLUMNS($Q$27:Q78)-1),\"\")","v":{"$error":"#VALUE!"}},{"$f":"IF(OFFSET([1]DE100_7!$R$27,ROWS($R$27:R78)-1,COLUMNS($R$27:R78)-1)<>\"\",OFFSET([1]DE100_7!$R$27,ROWS($R$27:R78)-1,COLUMNS($R$27:R78)-1),\"\")","v":{"$error":"#VALUE!"}},{"$f":"IF(OFFSET([1]DE100_7!$S$27,ROWS($S$27:S78)-1,COLUMNS($S$27:S78)-1)<>\"\",OFFSET([1]DE100_7!$S$27,ROWS($S$27:S78)-1,COLUMNS($S$27:S78)-1),\"\")","v":{"$error":"#VALUE!"}},{"$f":"IF(OFFSET([1]DE100_7!$T$27,ROWS($T$27:T78)-1,COLUMNS($T$27:T78)-1)<>\"\",OFFSET([1]DE100_7!$T$27,ROWS($T$27:T78)-1,COLUMNS($T$27:T78)-1),\"\")","v":{"$error":"#VALUE!"}},{"$f":"IF(OFFSET([1]DE100_7!$U$27,ROWS($U$27:U78)-1,COLUMNS($U$27:U78)-1)<>\"\",OFFSET([1]DE100_7!$U$27,ROWS($U$27:U78)-1,COLUMNS($U$27:U78)-1),\"\")","v":{"$error":"#VALUE!"}},{"$f":"IF(OFFSET([1]DE100_7!$V$27,ROWS($V$27:V78)-1,COLUMNS($V$27:V78)-1)<>\"\",OFFSET([1]DE100_7!$V$27,ROWS($V$27:V78)-1,COLUMNS($V$27:V78)-1),\"\")","v":{"$error":"#VALUE!"}}]
[{"$f":"IF(OFFSET([1]DE100_7!$C$27,ROWS($C$27:C79)-1,COLUMNS($C$27:C79)-1)<>\"\",OFFSET([1]DE100_7!$C$27,ROWS($C$27:C79)-1,COLUMNS($C$27:C79)-1),\"\")","v":{"$error":"#VALUE!"}},{"$f":"IF(OFFSET([1]DE100_7!$D$27,ROWS($D$27:D79)-1,COLUMNS($D$27:D79)-1)<>\"\",OFFSET([1]DE100_7!$D$27,ROWS($D$27:D79)-1,COLUMNS($D$27:D79)-1),\"\")","v":{"$error":"#VALUE!"}},{"$f":"IF(OFFSET([1]DE100_7!$E$27,ROWS($E$27:E79)-1,COLUMNS($E$27:E79)-1)<>\"\",OFFSET([1]DE100_7!$E$27,ROWS($E$27:E79)-1,COLUMNS($E$27:E79)-1),\"\")","v":{"$error":"#VALUE!"}},{"$f":"IF(OFFSET([1]DE100_7!$F$27,ROWS($F$27:F79)-1,COLUMNS($F$27:F79)-1)<>\"\",OFFSET([1]DE100_7!$F$27,ROWS($F$27:F79)-1,COLUMNS($F$27:F79)-1),\"\")","v":{"$error":"#VALUE!"}},{"$f":"IF(OFFSET([1]DE100_7!$G$27,ROWS($G$27:G79)-1,COLUMNS($G$27:G79)-1)<>\"\",OFFSET([1]DE100_7!$G$27,ROWS($G$27:G79)-1,COLUMNS($G$27:G79)-1),\"\")","v":{"$error":"#VALUE!"}},{"$f":"IF(OFFSET([1]DE100_7!$H$27,ROWS($H$27:H79)-1,COLUMNS($H$27:H79)-1)<>\"\",OFFSET([1]DE100_7!$H$27,ROWS($H$27:H79)-1,COLUMNS($H$27:H79)-1),\"\")","v":{"$error":"#VALUE!"}},{"$f":"IF(OFFSET([1]DE100_7!$I$27,ROWS($I$27:I79)-1,COLUMNS($I$27:I79)-1)<>\"\",OFFSET([1]DE100_7!$I$27,ROWS($I$27:I79)-1,COLUMNS($I$27:I79)-1),\"\")","v":{"$error":"#VALUE!"}},{"$f":"IF(OFFSET([1]DE100_7!$J$27,ROWS($J$27:J79)-1,COLUMNS($J$27:J79)-1)<>\"\",OFFSET([1]DE100_7!$J$27,ROWS($J$27:J79)-1,COLUMNS($J$27:J79)-1),\"\")","v":{"$error":"#VALUE!"}},{"$f":"IF(OFFSET([1]DE100_7!$K$27,ROWS($K$27:K79)-1,COLUMNS($K$27:K79)-1)<>\"\",OFFSET([1]DE100_7!$K$27,ROWS($K$27:K79)-1,COLUMNS($K$27:K79)-1),\"\")","v":{"$error":"#VALUE!"}},{"$f":"IF(OFFSET([1]DE100_7!$L$27,ROWS($L$27:L79)-1,COLUMNS($L$27:L79)-1)<>\"\",OFFSET([1]DE100_7!$L$27,ROWS($L$27:L79)-1,COLUMNS($L$27:L79)-1),\"\")","v":{"$error":"#VALUE!"}},{"$f":"IF(OFFSET([1]DE100_7!$M$27,ROWS($M$27:M79)-1,COLUMNS($M$27:M79)-1)<>\"\",OFFSET([1]DE100_7!$M$27,ROWS($M$27:M79)-1,COLUMNS($M$27:M79)-1),\"\")","v":{"$error":"#VALUE!"}},{"$f":"IF(OFFSET([1]DE100_7!$N$27,ROWS($N$27:N79)-1,COLUMNS($N$27:N79)-1)<>\"\",OFFSET([1]DE100_7!$N$27,ROWS($N$27:N79)-1,COLUMNS($N$27:N79)-1),\"\")","v":{"$error":"#VALUE!"}},{"$f":"IF(OFFSET([1]DE100_7!$O$27,ROWS($O$27:O79)-1,COLUMNS($O$27:O79)-1)<>\"\",OFFSET([1]DE100_7!$O$27,ROWS($O$27:O79)-1,COLUMNS($O$27:O79)-1),\"\")","v":{"$error":"#VALUE!"}},{"$f":"IF(OFFSET([1]DE100_7!$P$27,ROWS($P$27:P79)-1,COLUMNS($P$27:P79)-1)<>\"\",OFFSET([1]DE100_7!$P$27,ROWS($P$27:P79)-1,COLUMNS($P$27:P79)-1),\"\")","v":{"$error":"#VALUE!"}},{"$f":"IF(OFFSET([1]DE100_7!$Q$27,ROWS($Q$27:Q79)-1,COLUMNS($Q$27:Q79)-1)<>\"\",OFFSET([1]DE100_7!$Q$27,ROWS($Q$27:Q79)-1,COLUMNS($Q$27:Q79)-1),\"\")","v":{"$error":"#VALUE!"}},{"$f":"IF(OFFSET([1]DE100_7!$R$27,ROWS($R$27:R79)-1,COLUMNS($R$27:R79)-1)<>\"\",OFFSET([1]DE100_7!$R$27,ROWS($R$27:R79)-1,COLUMNS($R$27:R79)-1),\"\")","v":{"$error":"#VALUE!"}},{"$f":"IF(OFFSET([1]DE100_7!$S$27,ROWS($S$27:S79)-1,COLUMNS($S$27:S79)-1)<>\"\",OFFSET([1]DE100_7!$S$27,ROWS($S$27:S79)-1,COLUMNS($S$27:S79)-1),\"\")","v":{"$error":"#VALUE!"}},{"$f":"IF(OFFSET([1]DE100_7!$T$27,ROWS($T$27:T79)-1,COLUMNS($T$27:T79)-1)<>\"\",OFFSET([1]DE100_7!$T$27,ROWS($T$27:T79)-1,COLUMNS($T$27:T79)-1),\"\")","v":{"$error":"#VALUE!"}},{"$f":"IF(OFFSET([1]DE100_7!$U$27,ROWS($U$27:U79)-1,COLUMNS($U$27:U79)-1)<>\"\",OFFSET([1]DE100_7!$U$27,ROWS($U$27:U79)-1,COLUMNS($U$27:U79)-1),\"\")","v":{"$error":"#VALUE!"}},{"$f":"IF(OFFSET([1]DE100_7!$V$27,ROWS($V$27:V79)-1,COLUMNS($V$27:V79)-1)<>\"\",OFFSET([1]DE100_7!$V$27,ROWS($V$27:V79)-1,COLUMNS($V$27:V79)-1),\"\")","v":{"$error":"#VALUE!"}}]
[{"$f":"IF(OFFSET([1]DE100_7!$C$27,ROWS($C$27:C80)-1,COLUMNS($C$27:C80)-1)<>\"\",OFFSET([1]DE100_7!$C$27,ROWS($C$27:C80)-1,COLUMNS($C$27:C80)-1),\"\")","v":{"$error":"#VALUE!"}},{"$f":"IF(OFFSET([1]DE100_7!$D$27,ROWS($D$27:D80)-1,COLUMNS($D$27:D80)-1)<>\"\",OFFSET([1]DE100_7!$D$27,ROWS($D$27:D80)-1,COLUMNS($D$27:D80)-1),\"\")","v":{"$error":"#VALUE!"}},{"$f":"IF(OFFSET([1]DE100_7!$E$27,ROWS($E$27:E80)-1,COLUMNS($E$27:E80)-1)<>\"\",OFFSET([1]DE100_7!$E$27,ROWS($E$27:E80)-1,COLUMNS($E$27:E80)-1),\"\")","v":{"$error":"#VALUE!"}},{"$f":"IF(OFFSET([1]DE100_7!$F$27,ROWS($F$27:F80)-1,COLUMNS($F$27:F80)-1)<>\"\",OFFSET([1]DE100_7!$F$27,ROWS($F$27:F80)-1,COLUMNS($F$27:F80)-1),\"\")","v":{"$error":"#VALUE!"}},{"$f":"IF(OFFSET([1]DE100_7!$G$27,ROWS($G$27:G80)-1,COLUMNS($G$27:G80)-1)<>\"\",OFFSET([1]DE100_7!$G$27,ROWS($G$27:G80)-1,COLUMNS($G$27:G80)-1),\"\")","v":{"$error":"#VALUE!"}},{"$f":"IF(OFFSET([1]DE100_7!$H$27,ROWS($H$27:H80)-1,COLUMNS($H$27:H80)-1)<>\"\",OFFSET([1]DE100_7!$H$27,ROWS($H$27:H80)-1,COLUMNS($H$27:H80)-1),\"\")","v":{"$error":"#VALUE!"}},{"$f":"IF(OFFSET([1]DE100_7!$I$27,ROWS($I$27:I80)-1,COLUMNS($I$27:I80)-1)<>\"\",OFFSET([1]DE100_7!$I$27,ROWS($I$27:I80)-1,COLUMNS($I$27:I80)-1),\"\")","v":{"$error":"#VALUE!"}},{"$f":"IF(OFFSET([1]DE100_7!$J$27,ROWS($J$27:J80)-1,COLUMNS($J$27:J80)-1)<>\"\",OFFSET([1]DE100_7!$J$27,ROWS($J$27:J80)-1,COLUMNS($J$27:J80)-1),\"\")","v":{"$error":"#VALUE!"}},{"$f":"IF(OFFSET([1]DE100_7!$K$27,ROWS($K$27:K80)-1,COLUMNS($K$27:K80)-1)<>\"\",OFFSET([1]DE100_7!$K$27,ROWS($K$27:K80)-1,COLUMNS($K$27:K80)-1),\"\")","v":{"$error":"#VALUE!"}},{"$f":"IF(OFFSET([1]DE100_7!$L$27,ROWS($L$27:L80)-1,COLUMNS($L$27:L80)-1)<>\"\",OFFSET([1]DE100_7!$L$27,ROWS($L$27:L80)-1,COLUMNS($L$27:L80)-1),\"\")","v":{"$error":"#VALUE!"}},{"$f":"IF(OFFSET([1]DE100_7!$M$27,ROWS($M$27:M80)-1,COLUMNS($M$27:M80)-1)<>\"\",OFFSET([1]DE100_7!$M$27,ROWS($M$27:M80)-1,COLUMNS($M$27:M80)-1),\"\")","v":{"$error":"#VALUE!"}},{"$f":"IF(OFFSET([1]DE100_7!$N$27,ROWS($N$27:N80)-1,COLUMNS($N$27:N80)-1)<>\"\",OFFSET([1]DE100_7!$N$27,ROWS($N$27:N80)-1,COLUMNS($N$27:N80)-1),\"\")","v":{"$error":"#VALUE!"}},{"$f":"IF(OFFSET([1]DE100_7!$O$27,ROWS($O$27:O80)-1,COLUMNS($O$27:O80)-1)<>\"\",OFFSET([1]DE100_7!$O$27,ROWS($O$27:O80)-1,COLUMNS($O$27:O80)-1),\"\")","v":{"$error":"#VALUE!"}},{"$f":"IF(OFFSET([1]DE100_7!$P$27,ROWS($P$27:P80)-1,COLUMNS($P$27:P80)-1)<>\"\",OFFSET([1]DE100_7!$P$27,ROWS($P$27:P80)-1,COLUMNS($P$27:P80)-1),\"\")","v":{"$error":"#VALUE!"}},{"$f":"IF(OFFSET([1]DE100_7!$Q$27,ROWS($Q$27:Q80)-1,COLUMNS($Q$27:Q80)-1)<>\"\",OFFSET([1]DE100_7!$Q$27,ROWS($Q$27:Q80)-1,COLUMNS($Q$27:Q80)-1),\"\")","v":{"$error":"#VALUE!"}},{"$f":"IF(OFFSET([1]DE100_7!$R$27,ROWS($R$27:R80)-1,COLUMNS($R$27:R80)-1)<>\"\",OFFSET([1]DE100_7!$R$27,ROWS($R$27:R80)-1,COLUMNS($R$27:R80)-1),\"\")","v":{"$error":"#VALUE!"}},{"$f":"IF(OFFSET([1]DE100_7!$S$27,ROWS($S$27:S80)-1,COLUMNS($S$27:S80)-1)<>\"\",OFFSET([1]DE100_7!$S$27,ROWS($S$27:S80)-1,COLUMNS($S$27:S80)-1),\"\")","v":{"$error":"#VALUE!"}},{"$f":"IF(OFFSET([1]DE100_7!$T$27,ROWS($T$27:T80)-1,COLUMNS($T$27:T80)-1)<>\"\",OFFSET([1]DE100_7!$T$27,ROWS($T$27:T80)-1,COLUMNS($T$27:T80)-1),\"\")","v":{"$error":"#VALUE!"}},{"$f":"IF(OFFSET([1]DE100_7!$U$27,ROWS($U$27:U80)-1,COLUMNS($U$27:U80)-1)<>\"\",OFFSET([1]DE100_7!$U$27,ROWS($U$27:U80)-1,COLUMNS($U$27:U80)-1),\"\")","v":{"$error":"#VALUE!"}},{"$f":"IF(OFFSET([1]DE100_7!$V$27,ROWS($V$27:V80)-1,COLUMNS($V$27:V80)-1)<>\"\",OFFSET([1]DE100_7!$V$27,ROWS($V$27:V80)-1,COLUMNS($V$27:V80)-1),\"\")","v":{"$error":"#VALUE!"}}]
[{"$f":"IF(OFFSET([1]DE100_7!$C$27,ROWS($C$27:C81)-1,COLUMNS($C$27:C81)-1)<>\"\",OFFSET([1]DE100_7!$C$27,ROWS($C$27:C81)-1,COLUMNS($C$27:C81)-1),\"\")","v":{"$error":"#VALUE!"}},{"$f":"IF(OFFSET([1]DE100_7!$D$27,ROWS($D$27:D81)-1,COLUMNS($D$27:D81)-1)<>\"\",OFFSET([1]DE100_7!$D$27,ROWS($D$27:D81)-1,COLUMNS($D$27:D81)-1),\"\")","v":{"$error":"#VALUE!"}},{"$f":"IF(OFFSET([1]DE100_7!$E$27,ROWS($E$27:E81)-1,COLUMNS($E$27:E81)-1)<>\"\",OFFSET([1]DE100_7!$E$27,ROWS($E$27:E81)-1,COLUMNS($E$27:E81)-1),\"\")","v":{"$error":"#VALUE!"}},{"$f":"IF(OFFSET([1]DE100_7!$F$27,ROWS($F$27:F81)-1,COLUMNS($F$27:F81)-1)<>\"\",OFFSET([1]DE100_7!$F$27,ROWS($F$27:F81)-1,COLUMNS($F$27:F81)-1),\"\")","v":{"$error":"#VALUE!"}},{"$f":"IF(OFFSET([1]DE100_7!$G$27,ROWS($G$27:G81)-1,COLUMNS($G$27:G81)-1)<>\"\",OFFSET([1]DE100_7!$G$27,ROWS($G$27:G81)-1,COLUMNS($G$27:G81)-1),\"\")","v":{"$error":"#VALUE!"}},{"$f":"IF(OFFSET([1]DE100_7!$H$27,ROWS($H$27:H81)-1,COLUMNS($H$27:H81)-1)<>\"\",OFFSET([1]DE100_7!$H$27,ROWS($H$27:H81)-1,COLUMNS($H$27:H81)-1),\"\")","v":{"$error":"#VALUE!"}},{"$f":"IF(OFFSET([1]DE100_7!$I$27,ROWS($I$27:I81)-1,COLUMNS($I$27:I81)-1)<>\"\",OFFSET([1]DE100_7!$I$27,ROWS($I$27:I81)-1,COLUMNS($I$27:I81)-1),\"\")","v":{"$error":"#VALUE!"}},{"$f":"IF(OFFSET([1]DE100_7!$J$27,ROWS($J$27:J81)-1,COLUMNS($J$27:J81)-1)<>\"\",OFFSET([1]DE100_7!$J$27,ROWS($J$27:J81)-1,COLUMNS($J$27:J81)-1),\"\")","v":{"$error":"#VALUE!"}},{"$f":"IF(OFFSET([1]DE100_7!$K$27,ROWS($K$27:K81)-1,COLUMNS($K$27:K81)-1)<>\"\",OFFSET([1]DE100_7!$K$27,ROWS($K$27:K81)-1,COLUMNS($K$27:K81)-1),\"\")","v":{"$error":"#VALUE!"}},{"$f":"IF(OFFSET([1]DE100_7!$L$27,ROWS($L$27:L81)-1,COLUMNS($L$27:L81)-1)<>\"\",OFFSET([1]DE100_7!$L$27,ROWS($L$27:L81)-1,COLUMNS($L$27:L81)-1),\"\")","v":{"$error":"#VALUE!"}},{"$f":"IF(OFFSET([1]DE100_7!$M$27,ROWS($M$27:M81)-1,COLUMNS($M$27:M81)-1)<>\"\",OFFSET([1]DE100_7!$M$27,ROWS($M$27:M81)-1,COLUMNS($M$27:M81)-1),\"\")","v":{"$error":"#VALUE!"}},{"$f":"IF(OFFSET([1]DE100_7!$N$27,ROWS($N$27:N81)-1,COLUMNS($N$27:N81)-1)<>\"\",OFFSET([1]DE100_7!$N$27,ROWS($N$27:N81)-1,COLUMNS($N$27:N81)-1),\"\")","v":{"$error":"#VALUE!"}},{"$f":"IF(OFFSET([1]DE100_7!$O$27,ROWS($O$27:O81)-1,COLUMNS($O$27:O81)-1)<>\"\",OFFSET([1]DE100_7!$O$27,ROWS($O$27:O81)-1,COLUMNS($O$27:O81)-1),\"\")","v":{"$error":"#VALUE!"}},{"$f":"IF(OFFSET([1]DE100_7!$P$27,ROWS($P$27:P81)-1,COLUMNS($P$27:P81)-1)<>\"\",OFFSET([1]DE100_7!$P$27,ROWS($P$27:P81)-1,COLUMNS($P$27:P81)-1),\"\")","v":{"$error":"#VALUE!"}},{"$f":"IF(OFFSET([1]DE100_7!$Q$27,ROWS($Q$27:Q81)-1,COLUMNS($Q$27:Q81)-1)<>\"\",OFFSET([1]DE100_7!$Q$27,ROWS($Q$27:Q81)-1,COLUMNS($Q$27:Q81)-1),\"\")","v":{"$error":"#VALUE!"}},{"$f":"IF(OFFSET([1]DE100_7!$R$27,ROWS($R$27:R81)-1,COLUMNS($R$27:R81)-1)<>\"\",OFFSET([1]DE100_7!$R$27,ROWS($R$27:R81)-1,COLUMNS($R$27:R81)-1),\"\")","v":{"$error":"#VALUE!"}},{"$f":"IF(OFFSET([1]DE100_7!$S$27,ROWS($S$27:S81)-1,COLUMNS($S$27:S81)-1)<>\"\",OFFSET([1]DE100_7!$S$27,ROWS($S$27:S81)-1,COLUMNS($S$27:S81)-1),\"\")","v":{"$error":"#VALUE!"}},{"$f":"IF(OFFSET([1]DE100_7!$T$27,ROWS($T$27:T81)-1,COLUMNS($T$27:T81)-1)<>\"\",OFFSET([1]DE100_7!$T$27,ROWS($T$27:T81)-1,COLUMNS($T$27:T81)-1),\"\")","v":{"$error":"#VALUE!"}},{"$f":"IF(OFFSET([1]DE100_7!$U$27,ROWS($U$27:U81)-1,COLUMNS($U$27:U81)-1)<>\"\",OFFSET([1]DE100_7!$U$27,ROWS($U$27:U81)-1,COLUMNS($U$27:U81)-1),\"\")","v":{"$error":"#VALUE!"}},{"$f":"IF(OFFSET([1]DE100_7!$V$27,ROWS($V$27:V81)-1,COLUMNS($V$27:V81)-1)<>\"\",OFFSET([1]DE100_7!$V$27,ROWS($V$27:V81)-1,COLUMNS($V$27:V81)-1),\"\")","v":{"$error":"#VALUE!"}}]
[{"$f":"IF(OFFSET([1]DE100_7!$C$27,ROWS($C$27:C82)-1,COLUMNS($C$27:C82)-1)<>\"\",OFFSET([1]DE100_7!$C$27,ROWS($C$27:C82)-1,COLUMNS($C$27:C82)-1),\"\")","v":{"$error":"#VALUE!"}},{"$f":"IF(OFFSET([1]DE100_7!$D$27,ROWS($D$27:D82)-1,COLUMNS($D$27:D82)-1)<>\"\",OFFSET([1]DE100_7!$D$27,ROWS($D$27:D82)-1,COLUMNS($D$27:D82)-1),\"\")","v":{"$error":"#VALUE!"}},{"$f":"IF(OFFSET([1]DE100_7!$E$27,ROWS($E$27:E82)-1,COLUMNS($E$27:E82)-1)<>\"\",OFFSET([1]DE100_7!$E$27,ROWS($E$27:E82)-1,COLUMNS($E$27:E82)-1),\"\")","v":{"$error":"#VALUE!"}},{"$f":"IF(OFFSET([1]DE100_7!$F$27,ROWS($F$27:F82)-1,COLUMNS($F$27:F82)-1)<>\"\",OFFSET([1]DE100_7!$F$27,ROWS($F$27:F82)-1,COLUMNS($F$27:F82)-1),\"\")","v":{"$error":"#VALUE!"}},{"$f":"IF(OFFSET([1]DE100_7!$G$27,ROWS($G$27:G82)-1,COLUMNS($G$27:G82)-1)<>\"\",OFFSET([1]DE100_7!$G$27,ROWS($G$27:G82)-1,COLUMNS($G$27:G82)-1),\"\")","v":{"$error":"#VALUE!"}},{"$f":"IF(OFFSET([1]DE100_7!$H$27,ROWS($H$27:H82)-1,COLUMNS($H$27:H82)-1)<>\"\",OFFSET([1]DE100_7!$H$27,ROWS($H$27:H82)-1,COLUMNS($H$27:H82)-1),\"\")","v":{"$error":"#VALUE!"}},{"$f":"IF(OFFSET([1]DE100_7!$I$27,ROWS($I$27:I82)-1,COLUMNS($I$27:I82)-1)<>\"\",OFFSET([1]DE100_7!$I$27,ROWS($I$27:I82)-1,COLUMNS($I$27:I82)-1),\"\")","v":{"$error":"#VALUE!"}},{"$f":"IF(OFFSET([1]DE100_7!$J$27,ROWS($J$27:J82)-1,COLUMNS($J$27:J82)-1)<>\"\",OFFSET([1]DE100_7!$J$27,ROWS($J$27:J82)-1,COLUMNS($J$27:J82)-1),\"\")","v":{"$error":"#VALUE!"}},{"$f":"IF(OFFSET([1]DE100_7!$K$27,ROWS($K$27:K82)-1,COLUMNS($K$27:K82)-1)<>\"\",OFFSET([1]DE100_7!$K$27,ROWS($K$27:K82)-1,COLUMNS($K$27:K82)-1),\"\")","v":{"$error":"#VALUE!"}},{"$f":"IF(OFFSET([1]DE100_7!$L$27,ROWS($L$27:L82)-1,COLUMNS($L$27:L82)-1)<>\"\",OFFSET([1]DE100_7!$L$27,ROWS($L$27:L82)-1,COLUMNS($L$27:L82)-1),\"\")","v":{"$error":"#VALUE!"}},{"$f":"IF(OFFSET([1]DE100_7!$M$27,ROWS($M$27:M82)-1,COLUMNS($M$27:M82)-1)<>\"\",OFFSET([1]DE100_7!$M$27,ROWS($M$27:M82)-1,COLUMNS($M$27:M82)-1),\"\")","v":{"$error":"#VALUE!"}},{"$f":"IF(OFFSET([1]DE100_7!$N$27,ROWS($N$27:N82)-1,COLUMNS($N$27:N82)-1)<>\"\",OFFSET([1]DE100_7!$N$27,ROWS($N$27:N82)-1,COLUMNS($N$27:N82)-1),\"\")","v":{"$error":"#VALUE!"}},{"$f":"IF(OFFSET([1]DE100_7!$O$27,ROWS($O$27:O82)-1,COLUMNS($O$27:O82)-1)<>\"\",OFFSET([1]DE100_7!$O$27,ROWS($O$27:O82)-1,COLUMNS($O$27:O82)-1),\"\")","v":{"$error":"#VALUE!"}},{"$f":"IF(OFFSET([1]DE100_7!$P$27,ROWS($P$27:P82)-1,COLUMNS($P$27:P82)-1)<>\"\",OFFSET([1]DE100_7!$P$27,ROWS($P$27:P82)-1,COLUMNS($P$27:P82)-1),\"\")","v":{"$error":"#VALUE!"}},{"$f":"IF(OFFSET([1]DE100_7!$Q$27,ROWS($Q$27:Q82)-1,COLUMNS($Q$27:Q82)-1)<>\"\",OFFSET([1]DE100_7!$Q$27,ROWS($Q$27:Q82)-1,COLUMNS($Q$27:Q82)-1),\"\")","v":{"$error":"#VALUE!"}},{"$f":"IF(OFFSET([1]DE100_7!$R$27,ROWS($R$27:R82)-1,COLUMNS($R$27:R82)-1)<>\"\",OFFSET([1]DE100_7!$R$27,ROWS($R$27:R82)-1,COLUMNS($R$27:R82)-1),\"\")","v":{"$error":"#VALUE!"}},{"$f":"IF(OFFSET([1]DE100_7!$S$27,ROWS($S$27:S82)-1,COLUMNS($S$27:S82)-1)<>\"\",OFFSET([1]DE100_7!$S$27,ROWS($S$27:S82)-1,COLUMNS($S$27:S82)-1),\"\")","v":{"$error":"#VALUE!"}},{"$f":"IF(OFFSET([1]DE100_7!$T$27,ROWS($T$27:T82)-1,COLUMNS($T$27:T82)-1)<>\"\",OFFSET([1]DE100_7!$T$27,ROWS($T$27:T82)-1,COLUMNS($T$27:T82)-1),\"\")","v":{"$error":"#VALUE!"}},{"$f":"IF(OFFSET([1]DE100_7!$U$27,ROWS($U$27:U82)-1,COLUMNS($U$27:U82)-1)<>\"\",OFFSET([1]DE100_7!$U$27,ROWS($U$27:U82)-1,COLUMNS($U$27:U82)-1),\"\")","v":{"$error":"#VALUE!"}},{"$f":"IF(OFFSET([1]DE100_7!$V$27,ROWS($V$27:V82)-1,COLUMNS($V$27:V82)-1)<>\"\",OFFSET([1]DE100_7!$V$27,ROWS($V$27:V82)-1,COLUMNS($V$27:V82)-1),\"\")","v":{"$error":"#VALUE!"}}]
[{"$f":"IF(OFFSET([1]DE100_7!$C$27,ROWS($C$27:C83)-1,COLUMNS($C$27:C83)-1)<>\"\",OFFSET([1]DE100_7!$C$27,ROWS($C$27:C83)-1,COLUMNS($C$27:C83)-1),\"\")","v":{"$error":"#VALUE!"}},null,null,null,{"$f":"IF(OFFSET([1]DE100_7!$G$27,ROWS($G$27:G83)-1,COLUMNS($G$27:G83)-1)<>\"\",OFFSET([1]DE100_7!$G$27,ROWS($G$27:G83)-1,COLUMNS($G$27:G83)-1),\"\")","v":{"$error":"#VALUE!"}},{"$f":"IF(OFFSET([1]DE100_7!$H$27,ROWS($H$27:H83)-1,COLUMNS($H$27:H83)-1)<>\"\",OFFSET([1]DE100_7!$H$27,ROWS($H$27:H83)-1,COLUMNS($H$27:H83)-1),\"\")","v":{"$error":"#VALUE!"}},{"$f":"IF(OFFSET([1]DE100_7!$I$27,ROWS($I$27:I83)-1,COLUMNS($I$27:I83)-1)<>\"\",OFFSET([1]DE100_7!$I$27,ROWS($I$27:I83)-1,COLUMNS($I$27:I83)-1),\"\")","v":{"$error":"#VALUE!"}},{"$f":"IF(OFFSET([1]DE100_7!$J$27,ROWS($J$27:J83)-1,COLUMNS($J$27:J83)-1)<>\"\",OFFSET([1]DE100_7!$J$27,ROWS($J$27:J83)-1,COLUMNS($J$27:J83)-1),\"\")","v":{"$error":"#VALUE!"}},{"$f":"IF(OFFSET([1]DE100_7!$K$27,ROWS($K$27:K83)-1,COLUMNS($K$27:K83)-1)<>\"\",OFFSET([1]DE100_7!$K$27,ROWS($K$27:K83)-1,COLUMNS($K$27:K83)-1),\"\")","v":{"$error":"#VALUE!"}},{"$f":"IF(OFFSET([1]DE100_7!$L$27,ROWS($L$27:L83)-1,COLUMNS($L$27:L83)-1)<>\"\",OFFSET([1]DE100_7!$L$27,ROWS($L$27:L83)-1,COLUMNS($L$27:L83)-1),\"\")","v":{"$error":"#VALUE!"}},{"$f":"IF(OFFSET([1]DE100_7!$M$27,ROWS($M$27:M83)-1,COLUMNS($M$27:M83)-1)<>\"\",OFFSET([1]DE100_7!$M$27,ROWS($M$27:M83)-1,COLUMNS($M$27:M83)-1),\"\")","v":{"$error":"#VALUE!"}},{"$f":"IF(OFFSET([1]DE100_7!$N$27,ROWS($N$27:N83)-1,COLUMNS($N$27:N83)-1)<>\"\",OFFSET([1]DE100_7!$N$27,ROWS($N$27:N83)-1,COLUMNS($N$27:N83)-1),\"\")","v":{"$error":"#VALUE!"}},{"$f":"IF(OFFSET([1]DE100_7!$O$27,ROWS($O$27:O83)-1,COLUMNS($O$27:O83)-1)<>\"\",OFFSET([1]DE100_7!$O$27,ROWS($O$27:O83)-1,COLUMNS($O$27:O83)-1),\"\")","v":{"$error":"#VALUE!"}},{"$f":"IF(OFFSET([1]DE100_7!$P$27,ROWS($P$27:P83)-1,COLUMNS($P$27:P83)-1)<>\"\",OFFSET([1]DE100_7!$P$27,ROWS($P$27:P83)-1,COLUMNS($P$27:P83)-1),\"\")","v":{"$error":"#VALUE!"}},{"$f":"IF(OFFSET([1]DE100_7!$Q$27,ROWS($Q$27:Q83)-1,COLUMNS($Q$27:Q83)-1)<>\"\",OFFSET([1]DE100_7!$Q$27,ROWS($Q$27:Q83)-1,COLUMNS($Q$27:Q83)-1),\"\")","v":{"$error":"#VALUE!"}},{"$f":"IF(OFFSET([1]DE100_7!$R$27,ROWS($R$27:R83)-1,COLUMNS($R$27:R83)-1)<>\"\",OFFSET([1]DE100_7!$R$27,ROWS($R$27:R83)-1,COLUMNS($R$27:R83)-1),\"\")","v":{"$error":"#VALUE!"}},{"$f":"IF(OFFSET([1]DE100_7!$S$27,ROWS($S$27:S83)-1,COLUMNS($S$27:S83)-1)<>\"\",OFFSET([1]DE100_7!$S$27,ROWS($S$27:S83)-1,COLUMNS($S$27:S83)-1),\"\")","v":{"$error":"#VALUE!"}},{"$f":"IF(OFFSET([1]DE100_7!$T$27,ROWS($T$27:T83)-1,COLUMNS($T$27:T83)-1)<>\"\",OFFSET([1]DE100_7!$T$27,ROWS($T$27:T83)-1,COLUMNS($T$27:T83)-1),\"\")","v":{"$error":"#VALUE!"}},{"$f":"IF(OFFSET([1]DE100_7!$U$27,ROWS($U$27:U83)-1,COLUMNS($U$27:U83)-1)<>\"\",OFFSET([1]DE100_7!$U$27,ROWS($U$27:U83)-1,COLUMNS($U$27:U83)-1),\"\")","v":{"$error":"#VALUE!"}},{"$f":"IF(OFFSET([1]DE100_7!$V$27,ROWS($V$27:V83)-1,COLUMNS($V$27:V83)-1)<>\"\",OFFSET([1]DE100_7!$V$27,ROWS($V$27:V83)-1,COLUMNS($V$27:V83)-1),\"\")","v":{"$error":"#VALUE!"}}]
[{"$f":"IF(OFFSET([1]DE100_7!$C$27,ROWS($C$27:C84)-1,COLUMNS($C$27:C84)-1)<>\"\",OFFSET([1]DE100_7!$C$27,ROWS($C$27:C84)-1,COLUMNS($C$27:C84)-1),\"\")","v":{"$error":"#VALUE!"}},{"$f":"IF(OFFSET([1]DE100_7!$D$27,ROWS($D$27:D84)-1,COLUMNS($D$27:D84)-1)<>\"\",OFFSET([1]DE100_7!$D$27,ROWS($D$27:D84)-1,COLUMNS($D$27:D84)-1),\"\")","v":{"$error":"#VALUE!"}},{"$f":"IF(OFFSET([1]DE100_7!$E$27,ROWS($E$27:E84)-1,COLUMNS($E$27:E84)-1)<>\"\",OFFSET([1]DE100_7!$E$27,ROWS($E$27:E84)-1,COLUMNS($E$27:E84)-1),\"\")","v":{"$error":"#VALUE!"}},{"$f":"IF(OFFSET([1]DE100_7!$F$27,ROWS($F$27:F84)-1,COLUMNS($F$27:F84)-1)<>\"\",OFFSET([1]DE100_7!$F$27,ROWS($F$27:F84)-1,COLUMNS($F$27:F84)-1),\"\")","v":{"$error":"#VALUE!"}},{"$f":"IF(OFFSET([1]DE100_7!$G$27,ROWS($G$27:G84)-1,COLUMNS($G$27:G84)-1)<>\"\",OFFSET([1]DE100_7!$G$27,ROWS($G$27:G84)-1,COLUMNS($G$27:G84)-1),\"\")","v":{"$error":"#VALUE!"}},{"$f":"IF(OFFSET([1]DE100_7!$H$27,ROWS($H$27:H84)-1,COLUMNS($H$27:H84)-1)<>\"\",OFFSET([1]DE100_7!$H$27,ROWS($H$27:H84)-1,COLUMNS($H$27:H84)-1),\"\")","v":{"$error":"#VALUE!"}},{"$f":"IF(OFFSET([1]DE100_7!$I$27,ROWS($I$27:I84)-1,COLUMNS($I$27:I84)-1)<>\"\",OFFSET([1]DE100_7!$I$27,ROWS($I$27:I84)-1,COLUMNS($I$27:I84)-1),\"\")","v":{"$error":"#VALUE!"}},{"$f":"IF(OFFSET([1]DE100_7!$J$27,ROWS($J$27:J84)-1,COLUMNS($J$27:J84)-1)<>\"\",OFFSET([1]DE100_7!$J$27,ROWS($J$27:J84)-1,COLUMNS($J$27:J84)-1),\"\")","v":{"$error":"#VALUE!"}},{"$f":"IF(OFFSET([1]DE100_7!$K$27,ROWS($K$27:K84)-1,COLUMNS($K$27:K84)-1)<>\"\",OFFSET([1]DE100_7!$K$27,ROWS($K$27:K84)-1,COLUMNS($K$27:K84)-1),\"\")","v":{"$error":"#VALUE!"}},{"$f":"IF(OFFSET([1]DE100_7!$L$27,ROWS($L$27:L84)-1,COLUMNS($L$27:L84)-1)<>\"\",OFFSET([1]DE100_7!$L$27,ROWS($L$27:L84)-1,COLUMNS($L$27:L84)-1),\"\")","v":{"$error":"#VALUE!"}},{"$f":"IF(OFFSET([1]DE100_7!$M$27,ROWS($M$27:M84)-1,COLUMNS($M$27:M84)-1)<>\"\",OFFSET([1]DE100_7!$M$27,ROWS($M$27:M84)-1,COLUMNS($M$27:M84)-1),\"\")","v":{"$error":"#VALUE!"}},{"$f":"IF(OFFSET([1]DE100_7!$N$27,ROWS($N$27:N84)-1,COLUMNS($N$27:N84)-1)<>\"\",OFFSET([1]DE100_7!$N$27,ROWS($N$27:N84)-1,COLUMNS($N$27:N84)-1),\"\")","v":{"$error":"#VALUE!"}},{"$f":"IF(OFFSET([1]DE100_7!$O$27,ROWS($O$27:O84)-1,COLUMNS($O$27:O84)-1)<>\"\",OFFSET([1]DE100_7!$O$27,ROWS($O$27:O84)-1,COLUMNS($O$27:O84)-1),\"\")","v":{"$error":"#VALUE!"}},{"$f":"IF(OFFSET([1]DE100_7!$P$27,ROWS($P$27:P84)-1,COLUMNS($P$27:P84)-1)<>\"\",OFFSET([1]DE100_7!$P$27,ROWS($P$27:P84)-1,COLUMNS($P$27:P84)-1),\"\")","v":{"$error":"#VALUE!"}},{"$f":"IF(OFFSET([1]DE100_7!$Q$27,ROWS($Q$27:Q84)-1,COLUMNS($Q$27:Q84)-1)<>\"\",OFFSET([1]DE100_7!$Q$27,ROWS($Q$27:Q84)-1,COLUMNS($Q$27:Q84)-1),\"\")","v":{"$error":"#VALUE!"}},{"$f":"IF(OFFSET([1]DE100_7!$R$27,ROWS($R$27:R84)-1,COLUMNS($R$27:R84)-1)<>\"\",OFFSET([1]DE100_7!$R$27,ROWS($R$27:R84)-1,COLUMNS($R$27:R84)-1),\"\")","v":{"$error":"#VALUE!"}},{"$f":"IF(OFFSET([1]DE100_7!$S$27,ROWS($S$27:S84)-1,COLUMNS($S$27:S84)-1)<>\"\",OFFSET([1]DE100_7!$S$27,ROWS($S$27:S84)-1,COLUMNS($S$27:S84)-1),\"\")","v":{"$error":"#VALUE!"}},{"$f":"IF(OFFSET([1]DE100_7!$T$27,ROWS($T$27:T84)-1,COLUMNS($T$27:T84)-1)<>\"\",OFFSET([1]DE100_7!$T$27,ROWS($T$27:T84)-1,COLUMNS($T$27:T84)-1),\"\")","v":{"$error":"#VALUE!"}},{"$f":"IF(OFFSET([1]DE100_7!$U$27,ROWS($U$27:U84)-1,COLUMNS($U$27:U84)-1)<>\"\",OFFSET([1]DE100_7!$U$27,ROWS($U$27:U84)-1,COLUMNS($U$27:U84)-1),\"\")","v":{"$error":"#VALUE!"}},{"$f":"IF(OFFSET([1]DE100_7!$V$27,ROWS($V$27:V84)-1,COLUMNS($V$27:V84)-1)<>\"\",OFFSET([1]DE100_7!$V$27,ROWS($V$27:V84)-1,COLUMNS($V$27:V84)-1),\"\")","v":{"$error":"#VALUE!"}}]
[{"$f":"IF(OFFSET([1]DE100_7!$C$27,ROWS($C$27:C85)-1,COLUMNS($C$27:C85)-1)<>\"\",OFFSET([1]DE100_7!$C$27,ROWS($C$27:C85)-1,COLUMNS($C$27:C85)-1),\"\")","v":{"$error":"#VALUE!"}},null,null,null,{"$f":"IF(OFFSET([1]DE100_7!$G$27,ROWS($G$27:G85)-1,COLUMNS($G$27:G85)-1)<>\"\",OFFSET([1]DE100_7!$G$27,ROWS($G$27:G85)-1,COLUMNS($G$27:G85)-1),\"\")","v":{"$error":"#VALUE!"}},{"$f":"IF(OFFSET([1]DE100_7!$H$27,ROWS($H$27:H85)-1,COLUMNS($H$27:H85)-1)<>\"\",OFFSET([1]DE100_7!$H$27,ROWS($H$27:H85)-1,COLUMNS($H$27:H85)-1),\"\")","v":{"$error":"#VALUE!"}},{"$f":"IF(OFFSET([1]DE100_7!$I$27,ROWS($I$27:I85)-1,COLUMNS($I$27:I85)-1)<>\"\",OFFSET([1]DE100_7!$I$27,ROWS($I$27:I85)-1,COLUMNS($I$27:I85)-1),\"\")","v":{"$error":"#VALUE!"}},{"$f":"IF(OFFSET([1]DE100_7!$J$27,ROWS($J$27:J85)-1,COLUMNS($J$27:J85)-1)<>\"\",OFFSET([1]DE100_7!$J$27,ROWS($J$27:J85)-1,COLUMNS($J$27:J85)-1),\"\")","v":{"$error":"#VALUE!"}},{"$f":"IF(OFFSET([1]DE100_7!$K$27,ROWS($K$27:K85)-1,COLUMNS($K$27:K85)-1)<>\"\",OFFSET([1]DE100_7!$K$27,ROWS($K$27:K85)-1,COLUMNS($K$27:K85)-1),\"\")","v":{"$error":"#VALUE!"}},{"$f":"IF(OFFSET([1]DE100_7!$L$27,ROWS($L$27:L85)-1,COLUMNS($L$27:L85)-1)<>\"\",OFFSET([1]DE100_7!$L$27,ROWS($L$27:L85)-1,COLUMNS($L$27:L85)-1),\"\")","v":{"$error":"#VALUE!"}},{"$f":"IF(OFFSET([1]DE100_7!$M$27,ROWS($M$27:M85)-1,COLUMNS($M$27:M85)-1)<>\"\",OFFSET([1]DE100_7!$M$27,ROWS($M$27:M85)-1,COLUMNS($M$27:M85)-1),\"\")","v":{"$error":"#VALUE!"}},{"$f":"IF(OFFSET([1]DE100_7!$N$27,ROWS($N$27:N85)-1,COLUMNS($N$27:N85)-1)<>\"\",OFFSET([1]DE100_7!$N$27,ROWS($N$27:N85)-1,COLUMNS($N$27:N85)-1),\"\")","v":{"$error":"#VALUE!"}},{"$f":"IF(OFFSET([1]DE100_7!$O$27,ROWS($O$27:O85)-1,COLUMNS($O$27:O85)-1)<>\"\",OFFSET([1]DE100_7!$O$27,ROWS($O$27:O85)-1,COLUMNS($O$27:O85)-1),\"\")","v":{"$error":"#VALUE!"}},{"$f":"IF(OFFSET([1]DE100_7!$P$27,ROWS($P$27:P85)-1,COLUMNS($P$27:P85)-1)<>\"\",OFFSET([1]DE100_7!$P$27,ROWS($P$27:P85)-1,COLUMNS($P$27:P85)-1),\"\")","v":{"$error":"#VALUE!"}},{"$f":"IF(OFFSET([1]DE100_7!$Q$27,ROWS($Q$27:Q85)-1,COLUMNS($Q$27:Q85)-1)<>\"\",OFFSET([1]DE100_7!$Q$27,ROWS($Q$27:Q85)-1,COLUMNS($Q$27:Q85)-1),\"\")","v":{"$error":"#VALUE!"}},{"$f":"IF(OFFSET([1]DE100_7!$R$27,ROWS($R$27:R85)-1,COLUMNS($R$27:R85)-1)<>\"\",OFFSET([1]DE100_7!$R$27,ROWS($R$27:R85)-1,COLUMNS($R$27:R85)-1),\"\")","v":{"$error":"#VALUE!"}},{"$f":"IF(OFFSET([1]DE100_7!$S$27,ROWS($S$27:S85)-1,COLUMNS($S$27:S85)-1)<>\"\",OFFSET([1]DE100_7!$S$27,ROWS($S$27:S85)-1,COLUMNS($S$27:S85)-1),\"\")","v":{"$error":"#VALUE!"}},{"$f":"IF(OFFSET([1]DE100_7!$T$27,ROWS($T$27:T85)-1,COLUMNS($T$27:T85)-1)<>\"\",OFFSET([1]DE100_7!$T$27,ROWS($T$27:T85)-1,COLUMNS($T$27:T85)-1),\"\")","v":{"$error":"#VALUE!"}},{"$f":"IF(OFFSET([1]DE100_7!$U$27,ROWS($U$27:U85)-1,COLUMNS($U$27:U85)-1)<>\"\",OFFSET([1]DE100_7!$U$27,ROWS($U$27:U85)-1,COLUMNS($U$27:U85)-1),\"\")","v":{"$error":"#VALUE!"}},{"$f":"IF(OFFSET([1]DE100_7!$V$27,ROWS($V$27:V85)-1,COLUMNS($V$27:V85)-1)<>\"\",OFFSET([1]DE100_7!$V$27,ROWS($V$27:V85)-1,COLUMNS($V$27:V85)-1),\"\")","v":{"$error":"#VALUE!"}}]
[{"$f":"IF(OFFSET([1]DE100_7!$C$27,ROWS($C$27:C86)-1,COLUMNS($C$27:C86)-1)<>\"\",OFFSET([1]DE100_7!$C$27,ROWS($C$27:C86)-1,COLUMNS($C$27:C86)-1),\"\")","v":{"$error":"#VALUE!"}},{"$f":"IF(OFFSET([1]DE100_7!$D$27,ROWS($D$27:D86)-1,COLUMNS($D$27:D86)-1)<>\"\",OFFSET([1]DE100_7!$D$27,ROWS($D$27:D86)-1,COLUMNS($D$27:D86)-1),\"\")","v":{"$error":"#VALUE!"}},{"$f":"IF(OFFSET([1]DE100_7!$E$27,ROWS($E$27:E86)-1,COLUMNS($E$27:E86)-1)<>\"\",OFFSET([1]DE100_7!$E$27,ROWS($E$27:E86)-1,COLUMNS($E$27:E86)-1),\"\")","v":{"$error":"#VALUE!"}},{"$f":"IF(OFFSET([1]DE100_7!$F$27,ROWS($F$27:F86)-1,COLUMNS($F$27:F86)-1)<>\"\",OFFSET([1]DE100_7!$F$27,ROWS($F$27:F86)-1,COLUMNS($F$27:F86)-1),\"\")","v":{"$error":"#VALUE!"}},{"$f":"IF(OFFSET([1]DE100_7!$G$27,ROWS($G$27:G86)-1,COLUMNS($G$27:G86)-1)<>\"\",OFFSET([1]DE100_7!$G$27,ROWS($G$27:G86)-1,COLUMNS($G$27:G86)-1),\"\")","v":{"$error":"#VALUE!"}},{"$f":"IF(OFFSET([1]DE100_7!$H$27,ROWS($H$27:H86)-1,COLUMNS($H$27:H86)-1)<>\"\",OFFSET([1]DE100_7!$H$27,ROWS($H$27:H86)-1,COLUMNS($H$27:H86)-1),\"\")","v":{"$error":"#VALUE!"}},{"$f":"IF(OFFSET([1]DE100_7!$I$27,ROWS($I$27:I86)-1,COLUMNS($I$27:I86)-1)<>\"\",OFFSET([1]DE100_7!$I$27,ROWS($I$27:I86)-1,COLUMNS($I$27:I86)-1),\"\")","v":{"$error":"#VALUE!"}},{"$f":"IF(OFFSET([1]DE100_7!$J$27,ROWS($J$27:J86)-1,COLUMNS($J$27:J86)-1)<>\"\",OFFSET([1]DE100_7!$J$27,ROWS($J$27:J86)-1,COLUMNS($J$27:J86)-1),\"\")","v":{"$error":"#VALUE!"}},{"$f":"IF(OFFSET([1]DE100_7!$K$27,ROWS($K$27:K86)-1,COLUMNS($K$27:K86)-1)<>\"\",OFFSET([1]DE100_7!$K$27,ROWS($K$27:K86)-1,COLUMNS($K$27:K86)-1),\"\")","v":{"$error":"#VALUE!"}},{"$f":"IF(OFFSET([1]DE100_7!$L$27,ROWS($L$27:L86)-1,COLUMNS($L$27:L86)-1)<>\"\",OFFSET([1]DE100_7!$L$27,ROWS($L$27:L86)-1,COLUMNS($L$27:L86)-1),\"\")","v":{"$error":"#VALUE!"}},{"$f":"IF(OFFSET([1]DE100_7!$M$27,ROWS($M$27:M86)-1,COLUMNS($M$27:M86)-1)<>\"\",OFFSET([1]DE100_7!$M$27,ROWS($M$27:M86)-1,COLUMNS($M$27:M86)-1),\"\")","v":{"$error":"#VALUE!"}},{"$f":"IF(OFFSET([1]DE100_7!$N$27,ROWS($N$27:N86)-1,COLUMNS($N$27:N86)-1)<>\"\",OFFSET([1]DE100_7!$N$27,ROWS($N$27:N86)-1,COLUMNS($N$27:N86)-1),\"\")","v":{"$error":"#VALUE!"}},{"$f":"IF(OFFSET([1]DE100_7!$O$27,ROWS($O$27:O86)-1,COLUMNS($O$27:O86)-1)<>\"\",OFFSET([1]DE100_7!$O$27,ROWS($O$27:O86)-1,COLUMNS($O$27:O86)-1),\"\")","v":{"$error":"#VALUE!"}},{"$f":"IF(OFFSET([1]DE100_7!$P$27,ROWS($P$27:P86)-1,COLUMNS($P$27:P86)-1)<>\"\",OFFSET([1]DE100_7!$P$27,ROWS($P$27:P86)-1,COLUMNS($P$27:P86)-1),\"\")","v":{"$error":"#VALUE!"}},{"$f":"IF(OFFSET([1]DE100_7!$Q$27,ROWS($Q$27:Q86)-1,COLUMNS($Q$27:Q86)-1)<>\"\",OFFSET([1]DE100_7!$Q$27,ROWS($Q$27:Q86)-1,COLUMNS($Q$27:Q86)-1),\"\")","v":{"$error":"#VALUE!"}},{"$f":"IF(OFFSET([1]DE100_7!$R$27,ROWS($R$27:R86)-1,COLUMNS($R$27:R86)-1)<>\"\",OFFSET([1]DE100_7!$R$27,ROWS($R$27:R86)-1,COLUMNS($R$27:R86)-1),\"\")","v":{"$error":"#VALUE!"}},{"$f":"IF(OFFSET([1]DE100_7!$S$27,ROWS($S$27:S86)-1,COLUMNS($S$27:S86)-1)<>\"\",OFFSET([1]DE100_7!$S$27,ROWS($S$27:S86)-1,COLUMNS($S$27:S86)-1),\"\")","v":{"$error":"#VALUE!"}},{"$f":"IF(OFFSET([1]DE100_7!$T$27,ROWS($T$27:T86)-1,COLUMNS($T$27:T86)-1)<>\"\",OFFSET([1]DE100_7!$T$27,ROWS($T$27:T86)-1,COLUMNS($T$27:T86)-1),\"\")","v":{"$error":"#VALUE!"}},{"$f":"IF(OFFSET([1]DE100_7!$U$27,ROWS($U$27:U86)-1,COLUMNS($U$27:U86)-1)<>\"\",OFFSET([1]DE100_7!$U$27,ROWS($U$27:U86)-1,COLUMNS($U$27:U86)-1),\"\")","v":{"$error":"#VALUE!"}},{"$f":"IF(OFFSET([1]DE100_7!$V$27,ROWS($V$27:V86)-1,COLUMNS($V$27:V86)-1)<>\"\",OFFSET([1]DE100_7!$V$27,ROWS($V$27:V86)-1,COLUMNS($V$27:V86)-1),\"\")","v":{"$error":"#VALUE!"}}]
[{"$f":"IF(OFFSET([1]DE100_7!$C$27,ROWS($C$27:C87)-1,COLUMNS($C$27:C87)-1)<>\"\",OFFSET([1]DE100_7!$C$27,ROWS($C$27:C87)-1,COLUMNS($C$27:C87)-1),\"\")","v":{"$error":"#VALUE!"}},null,null,null,{"$f":"IF(OFFSET([1]DE100_7!$G$27,ROWS($G$27:G87)-1,COLUMNS($G$27:G87)-1)<>\"\",OFFSET([1]DE100_7!$G$27,ROWS($G$27:G87)-1,COLUMNS($G$27:G87)-1),\"\")","v":{"$error":"#VALUE!"}},{"$f":"IF(OFFSET([1]DE100_7!$H$27,ROWS($H$27:H87)-1,COLUMNS($H$27:H87)-1)<>\"\",OFFSET([1]DE100_7!$H$27,ROWS($H$27:H87)-1,COLUMNS($H$27:H87)-1),\"\")","v":{"$error":"#VALUE!"}},{"$f":"IF(OFFSET([1]DE100_7!$I$27,ROWS($I$27:I87)-1,COLUMNS($I$27:I87)-1)<>\"\",OFFSET([1]DE100_7!$I$27,ROWS($I$27:I87)-1,COLUMNS($I$27:I87)-1),\"\")","v":{"$error":"#VALUE!"}},{"$f":"IF(OFFSET([1]DE100_7!$J$27,ROWS($J$27:J87)-1,COLUMNS($J$27:J87)-1)<>\"\",OFFSET([1]DE100_7!$J$27,ROWS($J$27:J87)-1,COLUMNS($J$27:J87)-1),\"\")","v":{"$error":"#VALUE!"}},{"$f":"IF(OFFSET([1]DE100_7!$K$27,ROWS($K$27:K87)-1,COLUMNS($K$27:K87)-1)<>\"\",OFFSET([1]DE100_7!$K$27,ROWS($K$27:K87)-1,COLUMNS($K$27:K87)-1),\"\")","v":{"$error":"#VALUE!"}},{"$f":"IF(OFFSET([1]DE100_7!$L$27,ROWS($L$27:L87)-1,COLUMNS($L$27:L87)-1)<>\"\",OFFSET([1]DE100_7!$L$27,ROWS($L$27:L87)-1,COLUMNS($L$27:L87)-1),\"\")","v":{"$error":"#VALUE!"}},{"$f":"IF(OFFSET([1]DE100_7!$M$27,ROWS($M$27:M87)-1,COLUMNS($M$27:M87)-1)<>\"\",OFFSET([1]DE100_7!$M$27,ROWS($M$27:M87)-1,COLUMNS($M$27:M87)-1),\"\")","v":{"$error":"#VALUE!"}},{"$f":"IF(OFFSET([1]DE100_7!$N$27,ROWS($N$27:N87)-1,COLUMNS($N$27:N87)-1)<>\"\",OFFSET([1]DE100_7!$N$27,ROWS($N$27:N87)-1,COLUMNS($N$27:N87)-1),\"\")","v":{"$error":"#VALUE!"}},{"$f":"IF(OFFSET([1]DE100_7!$O$27,ROWS($O$27:O87)-1,COLUMNS($O$27:O87)-1)<>\"\",OFFSET([1]DE100_7!$O$27,ROWS($O$27:O87)-1,COLUMNS($O$27:O87)-1),\"\")","v":{"$error":"#VALUE!"}},{"$f":"IF(OFFSET([1]DE100_7!$P$27,ROWS($P$27:P87)-1,COLUMNS($P$27:P87)-1)<>\"\",OFFSET([1]DE100_7!$P$27,ROWS($P$27:P87)-1,COLUMNS($P$27:P87)-1),\"\")","v":{"$error":"#VALUE!"}},{"$f":"IF(OFFSET([1]DE100_7!$Q$27,ROWS($Q$27:Q87)-1,COLUMNS($Q$27:Q87)-1)<>\"\",OFFSET([1]DE100_7!$Q$27,ROWS($Q$27:Q87)-1,COLUMNS($Q$27:Q87)-1),\"\")","v":{"$error":"#VALUE!"}},{"$f":"IF(OFFSET([1]DE100_7!$R$27,ROWS($R$27:R87)-1,COLUMNS($R$27:R87)-1)<>\"\",OFFSET([1]DE100_7!$R$27,ROWS($R$27:R87)-1,COLUMNS($R$27:R87)-1),\"\")","v":{"$error":"#VALUE!"}},{"$f":"IF(OFFSET([1]DE100_7!$S$27,ROWS($S$27:S87)-1,COLUMNS($S$27:S87)-1)<>\"\",OFFSET([1]DE100_7!$S$27,ROWS($S$27:S87)-1,COLUMNS($S$27:S87)-1),\"\")","v":{"$error":"#VALUE!"}},{"$f":"IF(OFFSET([1]DE100_7!$T$27,ROWS($T$27:T87)-1,COLUMNS($T$27:T87)-1)<>\"\",OFFSET([1]DE100_7!$T$27,ROWS($T$27:T87)-1,COLUMNS($T$27:T87)-1),\"\")","v":{"$error":"#VALUE!"}},{"$f":"IF(OFFSET([1]DE100_7!$U$27,ROWS($U$27:U87)-1,COLUMNS($U$27:U87)-1)<>\"\",OFFSET([1]DE100_7!$U$27,ROWS($U$27:U87)-1,COLUMNS($U$27:U87)-1),\"\")","v":{"$error":"#VALUE!"}},{"$f":"IF(OFFSET([1]DE100_7!$V$27,ROWS($V$27:V87)-1,COLUMNS($V$27:V87)-1)<>\"\",OFFSET([1]DE100_7!$V$27,ROWS($V$27:V87)-1,COLUMNS($V$27:V87)-1),\"\")","v":{"$error":"#VALUE!"}}]
[{"$f":"IF(OFFSET([1]DE100_7!$C$27,ROWS($C$27:C88)-1,COLUMNS($C$27:C88)-1)<>\"\",OFFSET([1]DE100_7!$C$27,ROWS($C$27:C88)-1,COLUMNS($C$27:C88)-1),\"\")","v":{"$error":"#VALUE!"}},{"$f":"IF(OFFSET([1]DE100_7!$D$27,ROWS($D$27:D88)-1,COLUMNS($D$27:D88)-1)<>\"\",OFFSET([1]DE100_7!$D$27,ROWS($D$27:D88)-1,COLUMNS($D$27:D88)-1),\"\")","v":{"$error":"#VALUE!"}},{"$f":"IF(OFFSET([1]DE100_7!$E$27,ROWS($E$27:E88)-1,COLUMNS($E$27:E88)-1)<>\"\",OFFSET([1]DE100_7!$E$27,ROWS($E$27:E88)-1,COLUMNS($E$27:E88)-1),\"\")","v":{"$error":"#VALUE!"}},{"$f":"IF(OFFSET([1]DE100_7!$F$27,ROWS($F$27:F88)-1,COLUMNS($F$27:F88)-1)<>\"\",OFFSET([1]DE100_7!$F$27,ROWS($F$27:F88)-1,COLUMNS($F$27:F88)-1),\"\")","v":{"$error":"#VALUE!"}},{"$f":"IF(OFFSET([1]DE100_7!$G$27,ROWS($G$27:G88)-1,COLUMNS($G$27:G88)-1)<>\"\",OFFSET([1]DE100_7!$G$27,ROWS($G$27:G88)-1,COLUMNS($G$27:G88)-1),\"\")","v":{"$error":"#VALUE!"}},{"$f":"IF(OFFSET([1]DE100_7!$H$27,ROWS($H$27:H88)-1,COLUMNS($H$27:H88)-1)<>\"\",OFFSET([1]DE100_7!$H$27,ROWS($H$27:H88)-1,COLUMNS($H$27:H88)-1),\"\")","v":{"$error":"#VALUE!"}},{"$f":"IF(OFFSET([1]DE100_7!$I$27,ROWS($I$27:I88)-1,COLUMNS($I$27:I88)-1)<>\"\",OFFSET([1]DE100_7!$I$27,ROWS($I$27:I88)-1,COLUMNS($I$27:I88)-1),\"\")","v":{"$error":"#VALUE!"}},{"$f":"IF(OFFSET([1]DE100_7!$J$27,ROWS($J$27:J88)-1,COLUMNS($J$27:J88)-1)<>\"\",OFFSET([1]DE100_7!$J$27,ROWS($J$27:J88)-1,COLUMNS($J$27:J88)-1),\"\")","v":{"$error":"#VALUE!"}},{"$f":"IF(OFFSET([1]DE100_7!$K$27,ROWS($K$27:K88)-1,COLUMNS($K$27:K88)-1)<>\"\",OFFSET([1]DE100_7!$K$27,ROWS($K$27:K88)-1,COLUMNS($K$27:K88)-1),\"\")","v":{"$error":"#VALUE!"}},{"$f":"IF(OFFSET([1]DE100_7!$L$27,ROWS($L$27:L88)-1,COLUMNS($L$27:L88)-1)<>\"\",OFFSET([1]DE100_7!$L$27,ROWS($L$27:L88)-1,COLUMNS($L$27:L88)-1),\"\")","v":{"$error":"#VALUE!"}},{"$f":"IF(OFFSET([1]DE100_7!$M$27,ROWS($M$27:M88)-1,COLUMNS($M$27:M88)-1)<>\"\",OFFSET([1]DE100_7!$M$27,ROWS($M$27:M88)-1,COLUMNS($M$27:M88)-1),\"\")","v":{"$error":"#VALUE!"}},{"$f":"IF(OFFSET([1]DE100_7!$N$27,ROWS($N$27:N88)-1,COLUMNS($N$27:N88)-1)<>\"\",OFFSET([1]DE100_7!$N$27,ROWS($N$27:N88)-1,COLUMNS($N$27:N88)-1),\"\")","v":{"$error":"#VALUE!"}},{"$f":"IF(OFFSET([1]DE100_7!$O$27,ROWS($O$27:O88)-1,COLUMNS($O$27:O88)-1)<>\"\",OFFSET([1]DE100_7!$O$27,ROWS($O$27:O88)-1,COLUMNS($O$27:O88)-1),\"\")","v":{"$error":"#VALUE!"}},{"$f":"IF(OFFSET([1]DE100_7!$P$27,ROWS($P$27:P88)-1,COLUMNS($P$27:P88)-1)<>\"\",OFFSET([1]DE100_7!$P$27,ROWS($P$27:P88)-1,COLUMNS($P$27:P88)-1),\"\")","v":{"$error":"#VALUE!"}},{"$f":"IF(OFFSET([1]DE100_7!$Q$27,ROWS($Q$27:Q88)-1,COLUMNS($Q$27:Q88)-1)<>\"\",OFFSET([1]DE100_7!$Q$27,ROWS($Q$27:Q88)-1,COLUMNS($Q$27:Q88)-1),\"\")","v":{"$error":"#VALUE!"}},{"$f":"IF(OFFSET([1]DE100_7!$R$27,ROWS($R$27:R88)-1,COLUMNS($R$27:R88)-1)<>\"\",OFFSET([1]DE100_7!$R$27,ROWS($R$27:R88)-1,COLUMNS($R$27:R88)-1),\"\")","v":{"$error":"#VALUE!"}},{"$f":"IF(OFFSET([1]DE100_7!$S$27,ROWS($S$27:S88)-1,COLUMNS($S$27:S88)-1)<>\"\",OFFSET([1]DE100_7!$S$27,ROWS($S$27:S88)-1,COLUMNS($S$27:S88)-1),\"\")","v":{"$error":"#VALUE!"}},{"$f":"IF(OFFSET([1]DE100_7!$T$27,ROWS($T$27:T88)-1,COLUMNS($T$27:T88)-1)<>\"\",OFFSET([1]DE100_7!$T$27,ROWS($T$27:T88)-1,COLUMNS($T$27:T88)-1),\"\")","v":{"$error":"#VALUE!"}},{"$f":"IF(OFFSET([1]DE100_7!$U$27,ROWS($U$27:U88)-1,COLUMNS($U$27:U88)-1)<>\"\",OFFSET([1]DE100_7!$U$27,ROWS($U$27:U88)-1,COLUMNS($U$27:U88)-1),\"\")","v":{"$error":"#VALUE!"}},{"$f":"IF(OFFSET([1]DE100_7!$V$27,ROWS($V$27:V88)-1,COLUMNS($V$27:V88)-1)<>\"\",OFFSET([1]DE100_7!$V$27,ROWS($V$27:V88)-1,COLUMNS($V$27:V88)-1),\"\")","v":{"$error":"#VALUE!"}}]
[{"$f":"IF(OFFSET([1]DE100_7!$C$27,ROWS($C$27:C89)-1,COLUMNS($C$27:C89)-1)<>\"\",OFFSET([1]DE100_7!$C$27,ROWS($C$27:C89)-1,COLUMNS($C$27:C89)-1),\"\")","v":{"$error":"#VALUE!"}},{"$f":"IF(OFFSET([1]DE100_7!$D$27,ROWS($D$27:D89)-1,COLUMNS($D$27:D89)-1)<>\"\",OFFSET([1]DE100_7!$D$27,ROWS($D$27:D89)-1,COLUMNS($D$27:D89)-1),\"\")","v":{"$error":"#VALUE!"}},{"$f":"IF(OFFSET([1]DE100_7!$E$27,ROWS($E$27:E89)-1,COLUMNS($E$27:E89)-1)<>\"\",OFFSET([1]DE100_7!$E$27,ROWS($E$27:E89)-1,COLUMNS($E$27:E89)-1),\"\")","v":{"$error":"#VALUE!"}},{"$f":"IF(OFFSET([1]DE100_7!$F$27,ROWS($F$27:F89)-1,COLUMNS($F$27:F89)-1)<>\"\",OFFSET([1]DE100_7!$F$27,ROWS($F$27:F89)-1,COLUMNS($F$27:F89)-1),\"\")","v":{"$error":"#VALUE!"}},{"$f":"IF(OFFSET([1]DE100_7!$G$27,ROWS($G$27:G89)-1,COLUMNS($G$27:G89)-1)<>\"\",OFFSET([1]DE100_7!$G$27,ROWS($G$27:G89)-1,COLUMNS($G$27:G89)-1),\"\")","v":{"$error":"#VALUE!"}},{"$f":"IF(OFFSET([1]DE100_7!$H$27,ROWS($H$27:H89)-1,COLUMNS($H$27:H89)-1)<>\"\",OFFSET([1]DE100_7!$H$27,ROWS($H$27:H89)-1,COLUMNS($H$27:H89)-1),\"\")","v":{"$error":"#VALUE!"}},{"$f":"IF(OFFSET([1]DE100_7!$I$27,ROWS($I$27:I89)-1,COLUMNS($I$27:I89)-1)<>\"\",OFFSET([1]DE100_7!$I$27,ROWS($I$27:I89)-1,COLUMNS($I$27:I89)-1),\"\")","v":{"$error":"#VALUE!"}},{"$f":"IF(OFFSET([1]DE100_7!$J$27,ROWS($J$27:J89)-1,COLUMNS($J$27:J89)-1)<>\"\",OFFSET([1]DE100_7!$J$27,ROWS($J$27:J89)-1,COLUMNS($J$27:J89)-1),\"\")","v":{"$error":"#VALUE!"}},{"$f":"IF(OFFSET([1]DE100_7!$K$27,ROWS($K$27:K89)-1,COLUMNS($K$27:K89)-1)<>\"\",OFFSET([1]DE100_7!$K$27,ROWS($K$27:K89)-1,COLUMNS($K$27:K89)-1),\"\")","v":{"$error":"#VALUE!"}},{"$f":"IF(OFFSET([1]DE100_7!$L$27,ROWS($L$27:L89)-1,COLUMNS($L$27:L89)-1)<>\"\",OFFSET([1]DE100_7!$L$27,ROWS($L$27:L89)-1,COLUMNS($L$27:L89)-1),\"\")","v":{"$error":"#VALUE!"}},{"$f":"IF(OFFSET([1]DE100_7!$M$27,ROWS($M$27:M89)-1,COLUMNS($M$27:M89)-1)<>\"\",OFFSET([1]DE100_7!$M$27,ROWS($M$27:M89)-1,COLUMNS($M$27:M89)-1),\"\")","v":{"$error":"#VALUE!"}},{"$f":"IF(OFFSET([1]DE100_7!$N$27,ROWS($N$27:N89)-1,COLUMNS($N$27:N89)-1)<>\"\",OFFSET([1]DE100_7!$N$27,ROWS($N$27:N89)-1,COLUMNS($N$27:N89)-1),\"\")","v":{"$error":"#VALUE!"}},{"$f":"IF(OFFSET([1]DE100_7!$O$27,ROWS($O$27:O89)-1,COLUMNS($O$27:O89)-1)<>\"\",OFFSET([1]DE100_7!$O$27,ROWS($O$27:O89)-1,COLUMNS($O$27:O89)-1),\"\")","v":{"$error":"#VALUE!"}},{"$f":"IF(OFFSET([1]DE100_7!$P$27,ROWS($P$27:P89)-1,COLUMNS($P$27:P89)-1)<>\"\",OFFSET([1]DE100_7!$P$27,ROWS($P$27:P89)-1,COLUMNS($P$27:P89)-1),\"\")","v":{"$error":"#VALUE!"}},{"$f":"IF(OFFSET([1]DE100_7!$Q$27,ROWS($Q$27:Q89)-1,COLUMNS($Q$27:Q89)-1)<>\"\",OFFSET([1]DE100_7!$Q$27,ROWS($Q$27:Q89)-1,COLUMNS($Q$27:Q89)-1),\"\")","v":{"$error":"#VALUE!"}},{"$f":"IF(OFFSET([1]DE100_7!$R$27,ROWS($R$27:R89)-1,COLUMNS($R$27:R89)-1)<>\"\",OFFSET([1]DE100_7!$R$27,ROWS($R$27:R89)-1,COLUMNS($R$27:R89)-1),\"\")","v":{"$error":"#VALUE!"}},{"$f":"IF(OFFSET([1]DE100_7!$S$27,ROWS($S$27:S89)-1,COLUMNS($S$27:S89)-1)<>\"\",OFFSET([1]DE100_7!$S$27,ROWS($S$27:S89)-1,COLUMNS($S$27:S89)-1),\"\")","v":{"$error":"#VALUE!"}},{"$f":"IF(OFFSET([1]DE100_7!$T$27,ROWS($T$27:T89)-1,COLUMNS($T$27:T89)-1)<>\"\",OFFSET([1]DE100_7!$T$27,ROWS($T$27:T89)-1,COLUMNS($T$27:T89)-1),\"\")","v":{"$error":"#VALUE!"}},{"$f":"IF(OFFSET([1]DE100_7!$U$27,ROWS($U$27:U89)-1,COLUMNS($U$27:U89)-1)<>\"\",OFFSET([1]DE100_7!$U$27,ROWS($U$27:U89)-1,COLUMNS($U$27:U89)-1),\"\")","v":{"$error":"#VALUE!"}},{"$f":"IF(OFFSET([1]DE100_7!$V$27,ROWS($V$27:V89)-1,COLUMNS($V$27:V89)-1)<>\"\",OFFSET([1]DE100_7!$V$27,ROWS($V$27:V89)-1,COLUMNS($V$27:V89)-1),\"\")","v":{"$error":"#VALUE!"}}]
[{"$f":"IF(OFFSET([1]DE100_7!$C$27,ROWS($C$27:C90)-1,COLUMNS($C$27:C90)-1)<>\"\",OFFSET([1]DE100_7!$C$27,ROWS($C$27:C90)-1,COLUMNS($C$27:C90)-1),\"\")","v":{"$error":"#VALUE!"}},{"$f":"IF(OFFSET([1]DE100_7!$D$27,ROWS($D$27:D90)-1,COLUMNS($D$27:D90)-1)<>\"\",OFFSET([1]DE100_7!$D$27,ROWS($D$27:D90)-1,COLUMNS($D$27:D90)-1),\"\")","v":{"$error":"#VALUE!"}},{"$f":"IF(OFFSET([1]DE100_7!$E$27,ROWS($E$27:E90)-1,COLUMNS($E$27:E90)-1)<>\"\",OFFSET([1]DE100_7!$E$27,ROWS($E$27:E90)-1,COLUMNS($E$27:E90)-1),\"\")","v":{"$error":"#VALUE!"}},{"$f":"IF(OFFSET([1]DE100_7!$F$27,ROWS($F$27:F90)-1,COLUMNS($F$27:F90)-1)<>\"\",OFFSET([1]DE100_7!$F$27,ROWS($F$27:F90)-1,COLUMNS($F$27:F90)-1),\"\")","v":{"$error":"#VALUE!"}},{"$f":"IF(OFFSET([1]DE100_7!$G$27,ROWS($G$27:G90)-1,COLUMNS($G$27:G90)-1)<>\"\",OFFSET([1]DE100_7!$G$27,ROWS($G$27:G90)-1,COLUMNS($G$27:G90)-1),\"\")","v":{"$error":"#VALUE!"}},{"$f":"IF(OFFSET([1]DE100_7!$H$27,ROWS($H$27:H90)-1,COLUMNS($H$27:H90)-1)<>\"\",OFFSET([1]DE100_7!$H$27,ROWS($H$27:H90)-1,COLUMNS($H$27:H90)-1),\"\")","v":{"$error":"#VALUE!"}},{"$f":"IF(OFFSET([1]DE100_7!$I$27,ROWS($I$27:I90)-1,COLUMNS($I$27:I90)-1)<>\"\",OFFSET([1]DE100_7!$I$27,ROWS($I$27:I90)-1,COLUMNS($I$27:I90)-1),\"\")","v":{"$error":"#VALUE!"}},{"$f":"IF(OFFSET([1]DE100_7!$J$27,ROWS($J$27:J90)-1,COLUMNS($J$27:J90)-1)<>\"\",OFFSET([1]DE100_7!$J$27,ROWS($J$27:J90)-1,COLUMNS($J$27:J90)-1),\"\")","v":{"$error":"#VALUE!"}},{"$f":"IF(OFFSET([1]DE100_7!$K$27,ROWS($K$27:K90)-1,COLUMNS($K$27:K90)-1)<>\"\",OFFSET([1]DE100_7!$K$27,ROWS($K$27:K90)-1,COLUMNS($K$27:K90)-1),\"\")","v":{"$error":"#VALUE!"}},{"$f":"IF(OFFSET([1]DE100_7!$L$27,ROWS($L$27:L90)-1,COLUMNS($L$27:L90)-1)<>\"\",OFFSET([1]DE100_7!$L$27,ROWS($L$27:L90)-1,COLUMNS($L$27:L90)-1),\"\")","v":{"$error":"#VALUE!"}},{"$f":"IF(OFFSET([1]DE100_7!$M$27,ROWS($M$27:M90)-1,COLUMNS($M$27:M90)-1)<>\"\",OFFSET([1]DE100_7!$M$27,ROWS($M$27:M90)-1,COLUMNS($M$27:M90)-1),\"\")","v":{"$error":"#VALUE!"}},{"$f":"IF(OFFSET([1]DE100_7!$N$27,ROWS($N$27:N90)-1,COLUMNS($N$27:N90)-1)<>\"\",OFFSET([1]DE100_7!$N$27,ROWS($N$27:N90)-1,COLUMNS($N$27:N90)-1),\"\")","v":{"$error":"#VALUE!"}},{"$f":"IF(OFFSET([1]DE100_7!$O$27,ROWS($O$27:O90)-1,COLUMNS($O$27:O90)-1)<>\"\",OFFSET([1]DE100_7!$O$27,ROWS($O$27:O90)-1,COLUMNS($O$27:O90)-1),\"\")","v":{"$error":"#VALUE!"}},{"$f":"IF(OFFSET([1]DE100_7!$P$27,ROWS($P$27:P90)-1,COLUMNS($P$27:P90)-1)<>\"\",OFFSET([1]DE100_7!$P$27,ROWS($P$27:P90)-1,COLUMNS($P$27:P90)-1),\"\")","v":{"$error":"#VALUE!"}},{"$f":"IF(OFFSET([1]DE100_7!$Q$27,ROWS($Q$27:Q90)-1,COLUMNS($Q$27:Q90)-1)<>\"\",OFFSET([1]DE100_7!$Q$27,ROWS($Q$27:Q90)-1,COLUMNS($Q$27:Q90)-1),\"\")","v":{"$error":"#VALUE!"}},{"$f":"IF(OFFSET([1]DE100_7!$R$27,ROWS($R$27:R90)-1,COLUMNS($R$27:R90)-1)<>\"\",OFFSET([1]DE100_7!$R$27,ROWS($R$27:R90)-1,COLUMNS($R$27:R90)-1),\"\")","v":{"$error":"#VALUE!"}},{"$f":"IF(OFFSET([1]DE100_7!$S$27,ROWS($S$27:S90)-1,COLUMNS($S$27:S90)-1)<>\"\",OFFSET([1]DE100_7!$S$27,ROWS($S$27:S90)-1,COLUMNS($S$27:S90)-1),\"\")","v":{"$error":"#VALUE!"}},{"$f":"IF(OFFSET([1]DE100_7!$T$27,ROWS($T$27:T90)-1,COLUMNS($T$27:T90)-1)<>\"\",OFFSET([1]DE100_7!$T$27,ROWS($T$27:T90)-1,COLUMNS($T$27:T90)-1),\"\")","v":{"$error":"#VALUE!"}},{"$f":"IF(OFFSET([1]DE100_7!$U$27,ROWS($U$27:U90)-1,COLUMNS($U$27:U90)-1)<>\"\",OFFSET([1]DE100_7!$U$27,ROWS($U$27:U90)-1,COLUMNS($U$27:U90)-1),\"\")","v":{"$error":"#VALUE!"}},{"$f":"IF(OFFSET([1]DE100_7!$V$27,ROWS($V$27:V90)-1,COLUMNS($V$27:V90)-1)<>\"\",OFFSET([1]DE100_7!$V$27,ROWS($V$27:V90)-1,COLUMNS($V$27:V90)-1),\"\")","v":{"$error":"#VALUE!"}}]
[{"$f":"IF(OFFSET([1]DE100_7!$C$27,ROWS($C$27:C91)-1,COLUMNS($C$27:C91)-1)<>\"\",OFFSET([1]DE100_7!$C$27,ROWS($C$27:C91)-1,COLUMNS($C$27:C91)-1),\"\")","v":{"$error":"#VALUE!"}},null,null,null,{"$f":"IF(OFFSET([1]DE100_7!$G$27,ROWS($G$27:G91)-1,COLUMNS($G$27:G91)-1)<>\"\",OFFSET([1]DE100_7!$G$27,ROWS($G$27:G91)-1,COLUMNS($G$27:G91)-1),\"\")","v":{"$error":"#VALUE!"}},{"$f":"IF(OFFSET([1]DE100_7!$H$27,ROWS($H$27:H91)-1,COLUMNS($H$27:H91)-1)<>\"\",OFFSET([1]DE100_7!$H$27,ROWS($H$27:H91)-1,COLUMNS($H$27:H91)-1),\"\")","v":{"$error":"#VALUE!"}},{"$f":"IF(OFFSET([1]DE100_7!$I$27,ROWS($I$27:I91)-1,COLUMNS($I$27:I91)-1)<>\"\",OFFSET([1]DE100_7!$I$27,ROWS($I$27:I91)-1,COLUMNS($I$27:I91)-1),\"\")","v":{"$error":"#VALUE!"}},{"$f":"IF(OFFSET([1]DE100_7!$J$27,ROWS($J$27:J91)-1,COLUMNS($J$27:J91)-1)<>\"\",OFFSET([1]DE100_7!$J$27,ROWS($J$27:J91)-1,COLUMNS($J$27:J91)-1),\"\")","v":{"$error":"#VALUE!"}},{"$f":"IF(OFFSET([1]DE100_7!$K$27,ROWS($K$27:K91)-1,COLUMNS($K$27:K91)-1)<>\"\",OFFSET([1]DE100_7!$K$27,ROWS($K$27:K91)-1,COLUMNS($K$27:K91)-1),\"\")","v":{"$error":"#VALUE!"}},{"$f":"IF(OFFSET([1]DE100_7!$L$27,ROWS($L$27:L91)-1,COLUMNS($L$27:L91)-1)<>\"\",OFFSET([1]DE100_7!$L$27,ROWS($L$27:L91)-1,COLUMNS($L$27:L91)-1),\"\")","v":{"$error":"#VALUE!"}},{"$f":"IF(OFFSET([1]DE100_7!$M$27,ROWS($M$27:M91)-1,COLUMNS($M$27:M91)-1)<>\"\",OFFSET([1]DE100_7!$M$27,ROWS($M$27:M91)-1,COLUMNS($M$27:M91)-1),\"\")","v":{"$error":"#VALUE!"}},{"$f":"IF(OFFSET([1]DE100_7!$N$27,ROWS($N$27:N91)-1,COLUMNS($N$27:N91)-1)<>\"\",OFFSET([1]DE100_7!$N$27,ROWS($N$27:N91)-1,COLUMNS($N$27:N91)-1),\"\")","v":{"$error":"#VALUE!"}},{"$f":"IF(OFFSET([1]DE100_7!$O$27,ROWS($O$27:O91)-1,COLUMNS($O$27:O91)-1)<>\"\",OFFSET([1]DE100_7!$O$27,ROWS($O$27:O91)-1,COLUMNS($O$27:O91)-1),\"\")","v":{"$error":"#VALUE!"}},{"$f":"IF(OFFSET([1]DE100_7!$P$27,ROWS($P$27:P91)-1,COLUMNS($P$27:P91)-1)<>\"\",OFFSET([1]DE100_7!$P$27,ROWS($P$27:P91)-1,COLUMNS($P$27:P91)-1),\"\")","v":{"$error":"#VALUE!"}},{"$f":"IF(OFFSET([1]DE100_7!$Q$27,ROWS($Q$27:Q91)-1,COLUMNS($Q$27:Q91)-1)<>\"\",OFFSET([1]DE100_7!$Q$27,ROWS($Q$27:Q91)-1,COLUMNS($Q$27:Q91)-1),\"\")","v":{"$error":"#VALUE!"}},{"$f":"IF(OFFSET([1]DE100_7!$R$27,ROWS($R$27:R91)-1,COLUMNS($R$27:R91)-1)<>\"\",OFFSET([1]DE100_7!$R$27,ROWS($R$27:R91)-1,COLUMNS($R$27:R91)-1),\"\")","v":{"$error":"#VALUE!"}},{"$f":"IF(OFFSET([1]DE100_7!$S$27,ROWS($S$27:S91)-1,COLUMNS($S$27:S91)-1)<>\"\",OFFSET([1]DE100_7!$S$27,ROWS($S$27:S91)-1,COLUMNS($S$27:S91)-1),\"\")","v":{"$error":"#VALUE!"}},{"$f":"IF(OFFSET([1]DE100_7!$T$27,ROWS($T$27:T91)-1,COLUMNS($T$27:T91)-1)<>\"\",OFFSET([1]DE100_7!$T$27,ROWS($T$27:T91)-1,COLUMNS($T$27:T91)-1),\"\")","v":{"$error":"#VALUE!"}},{"$f":"IF(OFFSET([1]DE100_7!$U$27,ROWS($U$27:U91)-1,COLUMNS($U$27:U91)-1)<>\"\",OFFSET([1]DE100_7!$U$27,ROWS($U$27:U91)-1,COLUMNS($U$27:U91)-1),\"\")","v":{"$error":"#VALUE!"}},{"$f":"IF(OFFSET([1]DE100_7!$V$27,ROWS($V$27:V91)-1,COLUMNS($V$27:V91)-1)<>\"\",OFFSET([1]DE100_7!$V$27,ROWS($V$27:V91)-1,COLUMNS($V$27:V91)-1),\"\")","v":{"$error":"#VALUE!"}}]
[{"$f":"IF(OFFSET([1]DE100_7!$C$27,ROWS($C$27:C92)-1,COLUMNS($C$27:C92)-1)<>\"\",OFFSET([1]DE100_7!$C$27,ROWS($C$27:C92)-1,COLUMNS($C$27:C92)-1),\"\")","v":{"$error":"#VALUE!"}},{"$f":"IF(OFFSET([1]DE100_7!$D$27,ROWS($D$27:D92)-1,COLUMNS($D$27:D92)-1)<>\"\",OFFSET([1]DE100_7!$D$27,ROWS($D$27:D92)-1,COLUMNS($D$27:D92)-1),\"\")","v":{"$error":"#VALUE!"}},{"$f":"IF(OFFSET([1]DE100_7!$E$27,ROWS($E$27:E92)-1,COLUMNS($E$27:E92)-1)<>\"\",OFFSET([1]DE100_7!$E$27,ROWS($E$27:E92)-1,COLUMNS($E$27:E92)-1),\"\")","v":{"$error":"#VALUE!"}},{"$f":"IF(OFFSET([1]DE100_7!$F$27,ROWS($F$27:F92)-1,COLUMNS($F$27:F92)-1)<>\"\",OFFSET([1]DE100_7!$F$27,ROWS($F$27:F92)-1,COLUMNS($F$27:F92)-1),\"\")","v":{"$error":"#VALUE!"}},{"$f":"IF(OFFSET([1]DE100_7!$G$27,ROWS($G$27:G92)-1,COLUMNS($G$27:G92)-1)<>\"\",OFFSET([1]DE100_7!$G$27,ROWS($G$27:G92)-1,COLUMNS($G$27:G92)-1),\"\")","v":{"$error":"#VALUE!"}},{"$f":"IF(OFFSET([1]DE100_7!$H$27,ROWS($H$27:H92)-1,COLUMNS($H$27:H92)-1)<>\"\",OFFSET([1]DE100_7!$H$27,ROWS($H$27:H92)-1,COLUMNS($H$27:H92)-1),\"\")","v":{"$error":"#VALUE!"}},{"$f":"IF(OFFSET([1]DE100_7!$I$27,ROWS($I$27:I92)-1,COLUMNS($I$27:I92)-1)<>\"\",OFFSET([1]DE100_7!$I$27,ROWS($I$27:I92)-1,COLUMNS($I$27:I92)-1),\"\")","v":{"$error":"#VALUE!"}},{"$f":"IF(OFFSET([1]DE100_7!$J$27,ROWS($J$27:J92)-1,COLUMNS($J$27:J92)-1)<>\"\",OFFSET([1]DE100_7!$J$27,ROWS($J$27:J92)-1,COLUMNS($J$27:J92)-1),\"\")","v":{"$error":"#VALUE!"}},{"$f":"IF(OFFSET([1]DE100_7!$K$27,ROWS($K$27:K92)-1,COLUMNS($K$27:K92)-1)<>\"\",OFFSET([1]DE100_7!$K$27,ROWS($K$27:K92)-1,COLUMNS($K$27:K92)-1),\"\")","v":{"$error":"#VALUE!"}},{"$f":"IF(OFFSET([1]DE100_7!$L$27,ROWS($L$27:L92)-1,COLUMNS($L$27:L92)-1)<>\"\",OFFSET([1]DE100_7!$L$27,ROWS($L$27:L92)-1,COLUMNS($L$27:L92)-1),\"\")","v":{"$error":"#VALUE!"}},{"$f":"IF(OFFSET([1]DE100_7!$M$27,ROWS($M$27:M92)-1,COLUMNS($M$27:M92)-1)<>\"\",OFFSET([1]DE100_7!$M$27,ROWS($M$27:M92)-1,COLUMNS($M$27:M92)-1),\"\")","v":{"$error":"#VALUE!"}},{"$f":"IF(OFFSET([1]DE100_7!$N$27,ROWS($N$27:N92)-1,COLUMNS($N$27:N92)-1)<>\"\",OFFSET([1]DE100_7!$N$27,ROWS($N$27:N92)-1,COLUMNS($N$27:N92)-1),\"\")","v":{"$error":"#VALUE!"}},{"$f":"IF(OFFSET([1]DE100_7!$O$27,ROWS($O$27:O92)-1,COLUMNS($O$27:O92)-1)<>\"\",OFFSET([1]DE100_7!$O$27,ROWS($O$27:O92)-1,COLUMNS($O$27:O92)-1),\"\")","v":{"$error":"#VALUE!"}},{"$f":"IF(OFFSET([1]DE100_7!$P$27,ROWS($P$27:P92)-1,COLUMNS($P$27:P92)-1)<>\"\",OFFSET([1]DE100_7!$P$27,ROWS($P$27:P92)-1,COLUMNS($P$27:P92)-1),\"\")","v":{"$error":"#VALUE!"}},{"$f":"IF(OFFSET([1]DE100_7!$Q$27,ROWS($Q$27:Q92)-1,COLUMNS($Q$27:Q92)-1)<>\"\",OFFSET([1]DE100_7!$Q$27,ROWS($Q$27:Q92)-1,COLUMNS($Q$27:Q92)-1),\"\")","v":{"$error":"#VALUE!"}},{"$f":"IF(OFFSET([1]DE100_7!$R$27,ROWS($R$27:R92)-1,COLUMNS($R$27:R92)-1)<>\"\",OFFSET([1]DE100_7!$R$27,ROWS($R$27:R92)-1,COLUMNS($R$27:R92)-1),\"\")","v":{"$error":"#VALUE!"}},{"$f":"IF(OFFSET([1]DE100_7!$S$27,ROWS($S$27:S92)-1,COLUMNS($S$27:S92)-1)<>\"\",OFFSET([1]DE100_7!$S$27,ROWS($S$27:S92)-1,COLUMNS($S$27:S92)-1),\"\")","v":{"$error":"#VALUE!"}},{"$f":"IF(OFFSET([1]DE100_7!$T$27,ROWS($T$27:T92)-1,COLUMNS($T$27:T92)-1)<>\"\",OFFSET([1]DE100_7!$T$27,ROWS($T$27:T92)-1,COLUMNS($T$27:T92)-1),\"\")","v":{"$error":"#VALUE!"}},{"$f":"IF(OFFSET([1]DE100_7!$U$27,ROWS($U$27:U92)-1,COLUMNS($U$27:U92)-1)<>\"\",OFFSET([1]DE100_7!$U$27,ROWS($U$27:U92)-1,COLUMNS($U$27:U92)-1),\"\")","v":{"$error":"#VALUE!"}},{"$f":"IF(OFFSET([1]DE100_7!$V$27,ROWS($V$27:V92)-1,COLUMNS($V$27:V92)-1)<>\"\",OFFSET([1]DE100_7!$V$27,ROWS($V$27:V92)-1,COLUMNS($V$27:V92)-1),\"\")","v":{"$error":"#VALUE!"}}]
[{"$f":"IF(OFFSET([1]DE100_7!$C$27,ROWS($C$27:C93)-1,COLUMNS($C$27:C93)-1)<>\"\",OFFSET([1]DE100_7!$C$27,ROWS($C$27:C93)-1,COLUMNS($C$27:C93)-1),\"\")","v":{"$error":"#VALUE!"}},{"$f":"IF(OFFSET([1]DE100_7!$D$27,ROWS($D$27:D93)-1,COLUMNS($D$27:D93)-1)<>\"\",OFFSET([1]DE100_7!$D$27,ROWS($D$27:D93)-1,COLUMNS($D$27:D93)-1),\"\")","v":{"$error":"#VALUE!"}},{"$f":"IF(OFFSET([1]DE100_7!$E$27,ROWS($E$27:E93)-1,COLUMNS($E$27:E93)-1)<>\"\",OFFSET([1]DE100_7!$E$27,ROWS($E$27:E93)-1,COLUMNS($E$27:E93)-1),\"\")","v":{"$error":"#VALUE!"}},{"$f":"IF(OFFSET([1]DE100_7!$F$27,ROWS($F$27:F93)-1,COLUMNS($F$27:F93)-1)<>\"\",OFFSET([1]DE100_7!$F$27,ROWS($F$27:F93)-1,COLUMNS($F$27:F93)-1),\"\")","v":{"$error":"#VALUE!"}},{"$f":"IF(OFFSET([1]DE100_7!$G$27,ROWS($G$27:G93)-1,COLUMNS($G$27:G93)-1)<>\"\",OFFSET([1]DE100_7!$G$27,ROWS($G$27:G93)-1,COLUMNS($G$27:G93)-1),\"\")","v":{"$error":"#VALUE!"}},{"$f":"IF(OFFSET([1]DE100_7!$H$27,ROWS($H$27:H93)-1,COLUMNS($H$27:H93)-1)<>\"\",OFFSET([1]DE100_7!$H$27,ROWS($H$27:H93)-1,COLUMNS($H$27:H93)-1),\"\")","v":{"$error":"#VALUE!"}},{"$f":"IF(OFFSET([1]DE100_7!$I$27,ROWS($I$27:I93)-1,COLUMNS($I$27:I93)-1)<>\"\",OFFSET([1]DE100_7!$I$27,ROWS($I$27:I93)-1,COLUMNS($I$27:I93)-1),\"\")","v":{"$error":"#VALUE!"}},{"$f":"IF(OFFSET([1]DE100_7!$J$27,ROWS($J$27:J93)-1,COLUMNS($J$27:J93)-1)<>\"\",OFFSET([1]DE100_7!$J$27,ROWS($J$27:J93)-1,COLUMNS($J$27:J93)-1),\"\")","v":{"$error":"#VALUE!"}},{"$f":"IF(OFFSET([1]DE100_7!$K$27,ROWS($K$27:K93)-1,COLUMNS($K$27:K93)-1)<>\"\",OFFSET([1]DE100_7!$K$27,ROWS($K$27:K93)-1,COLUMNS($K$27:K93)-1),\"\")","v":{"$error":"#VALUE!"}},{"$f":"IF(OFFSET([1]DE100_7!$L$27,ROWS($L$27:L93)-1,COLUMNS($L$27:L93)-1)<>\"\",OFFSET([1]DE100_7!$L$27,ROWS($L$27:L93)-1,COLUMNS($L$27:L93)-1),\"\")","v":{"$error":"#VALUE!"}},{"$f":"IF(OFFSET([1]DE100_7!$M$27,ROWS($M$27:M93)-1,COLUMNS($M$27:M93)-1)<>\"\",OFFSET([1]DE100_7!$M$27,ROWS($M$27:M93)-1,COLUMNS($M$27:M93)-1),\"\")","v":{"$error":"#VALUE!"}},{"$f":"IF(OFFSET([1]DE100_7!$N$27,ROWS($N$27:N93)-1,COLUMNS($N$27:N93)-1)<>\"\",OFFSET([1]DE100_7!$N$27,ROWS($N$27:N93)-1,COLUMNS($N$27:N93)-1),\"\")","v":{"$error":"#VALUE!"}},{"$f":"IF(OFFSET([1]DE100_7!$O$27,ROWS($O$27:O93)-1,COLUMNS($O$27:O93)-1)<>\"\",OFFSET([1]DE100_7!$O$27,ROWS($O$27:O93)-1,COLUMNS($O$27:O93)-1),\"\")","v":{"$error":"#VALUE!"}},{"$f":"IF(OFFSET([1]DE100_7!$P$27,ROWS($P$27:P93)-1,COLUMNS($P$27:P93)-1)<>\"\",OFFSET([1]DE100_7!$P$27,ROWS($P$27:P93)-1,COLUMNS($P$27:P93)-1),\"\")","v":{"$error":"#VALUE!"}},{"$f":"IF(OFFSET([1]DE100_7!$Q$27,ROWS($Q$27:Q93)-1,COLUMNS($Q$27:Q93)-1)<>\"\",OFFSET([1]DE100_7!$Q$27,ROWS($Q$27:Q93)-1,COLUMNS($Q$27:Q93)-1),\"\")","v":{"$error":"#VALUE!"}},{"$f":"IF(OFFSET([1]DE100_7!$R$27,ROWS($R$27:R93)-1,COLUMNS($R$27:R93)-1)<>\"\",OFFSET([1]DE100_7!$R$27,ROWS($R$27:R93)-1,COLUMNS($R$27:R93)-1),\"\")","v":{"$error":"#VALUE!"}},{"$f":"IF(OFFSET([1]DE100_7!$S$27,ROWS($S$27:S93)-1,COLUMNS($S$27:S93)-1)<>\"\",OFFSET([1]DE100_7!$S$27,ROWS($S$27:S93)-1,COLUMNS($S$27:S93)-1),\"\")","v":{"$error":"#VALUE!"}},{"$f":"IF(OFFSET([1]DE100_7!$T$27,ROWS($T$27:T93)-1,COLUMNS($T$27:T93)-1)<>\"\",OFFSET([1]DE100_7!$T$27,ROWS($T$27:T93)-1,COLUMNS($T$27:T93)-1),\"\")","v":{"$error":"#VALUE!"}},{"$f":"IF(OFFSET([1]DE100_7!$U$27,ROWS($U$27:U93)-1,COLUMNS($U$27:U93)-1)<>\"\",OFFSET([1]DE100_7!$U$27,ROWS($U$27:U93)-1,COLUMNS($U$27:U93)-1),\"\")","v":{"$error":"#VALUE!"}},{"$f":"IF(OFFSET([1]DE100_7!$V$27,ROWS($V$27:V93)-1,COLUMNS($V$27:V93)-1)<>\"\",OFFSET([1]DE100_7!$V$27,ROWS($V$27:V93)-1,COLUMNS($V$27:V93)-1),\"\")","v":{"$error":"#VALUE!"}}]
[{"$f":"IF(OFFSET([1]DE100_7!$C$27,ROWS($C$27:C94)-1,COLUMNS($C$27:C94)-1)<>\"\",OFFSET([1]DE100_7!$C$27,ROWS($C$27:C94)-1,COLUMNS($C$27:C94)-1),\"\")","v":{"$error":"#VALUE!"}},{"$f":"IF(OFFSET([1]DE100_7!$D$27,ROWS($D$27:D94)-1,COLUMNS($D$27:D94)-1)<>\"\",OFFSET([1]DE100_7!$D$27,ROWS($D$27:D94)-1,COLUMNS($D$27:D94)-1),\"\")","v":{"$error":"#VALUE!"}},{"$f":"IF(OFFSET([1]DE100_7!$E$27,ROWS($E$27:E94)-1,COLUMNS($E$27:E94)-1)<>\"\",OFFSET([1]DE100_7!$E$27,ROWS($E$27:E94)-1,COLUMNS($E$27:E94)-1),\"\")","v":{"$error":"#VALUE!"}},{"$f":"IF(OFFSET([1]DE100_7!$F$27,ROWS($F$27:F94)-1,COLUMNS($F$27:F94)-1)<>\"\",OFFSET([1]DE100_7!$F$27,ROWS($F$27:F94)-1,COLUMNS($F$27:F94)-1),\"\")","v":{"$error":"#VALUE!"}},{"$f":"IF(OFFSET([1]DE100_7!$G$27,ROWS($G$27:G94)-1,COLUMNS($G$27:G94)-1)<>\"\",OFFSET([1]DE100_7!$G$27,ROWS($G$27:G94)-1,COLUMNS($G$27:G94)-1),\"\")","v":{"$error":"#VALUE!"}},{"$f":"IF(OFFSET([1]DE100_7!$H$27,ROWS($H$27:H94)-1,COLUMNS($H$27:H94)-1)<>\"\",OFFSET([1]DE100_7!$H$27,ROWS($H$27:H94)-1,COLUMNS($H$27:H94)-1),\"\")","v":{"$error":"#VALUE!"}},{"$f":"IF(OFFSET([1]DE100_7!$I$27,ROWS($I$27:I94)-1,COLUMNS($I$27:I94)-1)<>\"\",OFFSET([1]DE100_7!$I$27,ROWS($I$27:I94)-1,COLUMNS($I$27:I94)-1),\"\")","v":{"$error":"#VALUE!"}},{"$f":"IF(OFFSET([1]DE100_7!$J$27,ROWS($J$27:J94)-1,COLUMNS($J$27:J94)-1)<>\"\",OFFSET([1]DE100_7!$J$27,ROWS($J$27:J94)-1,COLUMNS($J$27:J94)-1),\"\")","v":{"$error":"#VALUE!"}},{"$f":"IF(OFFSET([1]DE100_7!$K$27,ROWS($K$27:K94)-1,COLUMNS($K$27:K94)-1)<>\"\",OFFSET([1]DE100_7!$K$27,ROWS($K$27:K94)-1,COLUMNS($K$27:K94)-1),\"\")","v":{"$error":"#VALUE!"}},{"$f":"IF(OFFSET([1]DE100_7!$L$27,ROWS($L$27:L94)-1,COLUMNS($L$27:L94)-1)<>\"\",OFFSET([1]DE100_7!$L$27,ROWS($L$27:L94)-1,COLUMNS($L$27:L94)-1),\"\")","v":{"$error":"#VALUE!"}},{"$f":"IF(OFFSET([1]DE100_7!$M$27,ROWS($M$27:M94)-1,COLUMNS($M$27:M94)-1)<>\"\",OFFSET([1]DE100_7!$M$27,ROWS($M$27:M94)-1,COLUMNS($M$27:M94)-1),\"\")","v":{"$error":"#VALUE!"}},{"$f":"IF(OFFSET([1]DE100_7!$N$27,ROWS($N$27:N94)-1,COLUMNS($N$27:N94)-1)<>\"\",OFFSET([1]DE100_7!$N$27,ROWS($N$27:N94)-1,COLUMNS($N$27:N94)-1),\"\")","v":{"$error":"#VALUE!"}},{"$f":"IF(OFFSET([1]DE100_7!$O$27,ROWS($O$27:O94)-1,COLUMNS($O$27:O94)-1)<>\"\",OFFSET([1]DE100_7!$O$27,ROWS($O$27:O94)-1,COLUMNS($O$27:O94)-1),\"\")","v":{"$error":"#VALUE!"}},{"$f":"IF(OFFSET([1]DE100_7!$P$27,ROWS($P$27:P94)-1,COLUMNS($P$27:P94)-1)<>\"\",OFFSET([1]DE100_7!$P$27,ROWS($P$27:P94)-1,COLUMNS($P$27:P94)-1),\"\")","v":{"$error":"#VALUE!"}},{"$f":"IF(OFFSET([1]DE100_7!$Q$27,ROWS($Q$27:Q94)-1,COLUMNS($Q$27:Q94)-1)<>\"\",OFFSET([1]DE100_7!$Q$27,ROWS($Q$27:Q94)-1,COLUMNS($Q$27:Q94)-1),\"\")","v":{"$error":"#VALUE!"}},{"$f":"IF(OFFSET([1]DE100_7!$R$27,ROWS($R$27:R94)-1,COLUMNS($R$27:R94)-1)<>\"\",OFFSET([1]DE100_7!$R$27,ROWS($R$27:R94)-1,COLUMNS($R$27:R94)-1),\"\")","v":{"$error":"#VALUE!"}},{"$f":"IF(OFFSET([1]DE100_7!$S$27,ROWS($S$27:S94)-1,COLUMNS($S$27:S94)-1)<>\"\",OFFSET([1]DE100_7!$S$27,ROWS($S$27:S94)-1,COLUMNS($S$27:S94)-1),\"\")","v":{"$error":"#VALUE!"}},{"$f":"IF(OFFSET([1]DE100_7!$T$27,ROWS($T$27:T94)-1,COLUMNS($T$27:T94)-1)<>\"\",OFFSET([1]DE100_7!$T$27,ROWS($T$27:T94)-1,COLUMNS($T$27:T94)-1),\"\")","v":{"$error":"#VALUE!"}},{"$f":"IF(OFFSET([1]DE100_7!$U$27,ROWS($U$27:U94)-1,COLUMNS($U$27:U94)-1)<>\"\",OFFSET([1]DE100_7!$U$27,ROWS($U$27:U94)-1,COLUMNS($U$27:U94)-1),\"\")","v":{"$error":"#VALUE!"}},{"$f":"IF(OFFSET([1]DE100_7!$V$27,ROWS($V$27:V94)-1,COLUMNS($V$27:V94)-1)<>\"\",OFFSET([1]DE100_7!$V$27,ROWS($V$27:V94)-1,COLUMNS($V$27:V94)-1),\"\")","v":{"$error":"#VALUE!"}}]
[{"$f":"IF(OFFSET([1]DE100_7!$C$27,ROWS($C$27:C95)-1,COLUMNS($C$27:C95)-1)<>\"\",OFFSET([1]DE100_7!$C$27,ROWS($C$27:C95)-1,COLUMNS($C$27:C95)-1),\"\")","v":{"$error":"#VALUE!"}},null,null,null,{"$f":"IF(OFFSET([1]DE100_7!$G$27,ROWS($G$27:G95)-1,COLUMNS($G$27:G95)-1)<>\"\",OFFSET([1]DE100_7!$G$27,ROWS($G$27:G95)-1,COLUMNS($G$27:G95)-1),\"\")","v":{"$error":"#VALUE!"}},{"$f":"IF(OFFSET([1]DE100_7!$H$27,ROWS($H$27:H95)-1,COLUMNS($H$27:H95)-1)<>\"\",OFFSET([1]DE100_7!$H$27,ROWS($H$27:H95)-1,COLUMNS($H$27:H95)-1),\"\")","v":{"$error":"#VALUE!"}},{"$f":"IF(OFFSET([1]DE100_7!$I$27,ROWS($I$27:I95)-1,COLUMNS($I$27:I95)-1)<>\"\",OFFSET([1]DE100_7!$I$27,ROWS($I$27:I95)-1,COLUMNS($I$27:I95)-1),\"\")","v":{"$error":"#VALUE!"}},{"$f":"IF(OFFSET([1]DE100_7!$J$27,ROWS($J$27:J95)-1,COLUMNS($J$27:J95)-1)<>\"\",OFFSET([1]DE100_7!$J$27,ROWS($J$27:J95)-1,COLUMNS($J$27:J95)-1),\"\")","v":{"$error":"#VALUE!"}},{"$f":"IF(OFFSET([1]DE100_7!$K$27,ROWS($K$27:K95)-1,COLUMNS($K$27:K95)-1)<>\"\",OFFSET([1]DE100_7!$K$27,ROWS($K$27:K95)-1,COLUMNS($K$27:K95)-1),\"\")","v":{"$error":"#VALUE!"}},{"$f":"IF(OFFSET([1]DE100_7!$L$27,ROWS($L$27:L95)-1,COLUMNS($L$27:L95)-1)<>\"\",OFFSET([1]DE100_7!$L$27,ROWS($L$27:L95)-1,COLUMNS($L$27:L95)-1),\"\")","v":{"$error":"#VALUE!"}},{"$f":"IF(OFFSET([1]DE100_7!$M$27,ROWS($M$27:M95)-1,COLUMNS($M$27:M95)-1)<>\"\",OFFSET([1]DE100_7!$M$27,ROWS($M$27:M95)-1,COLUMNS($M$27:M95)-1),\"\")","v":{"$error":"#VALUE!"}},{"$f":"IF(OFFSET([1]DE100_7!$N$27,ROWS($N$27:N95)-1,COLUMNS($N$27:N95)-1)<>\"\",OFFSET([1]DE100_7!$N$27,ROWS($N$27:N95)-1,COLUMNS($N$27:N95)-1),\"\")","v":{"$error":"#VALUE!"}},{"$f":"IF(OFFSET([1]DE100_7!$O$27,ROWS($O$27:O95)-1,COLUMNS($O$27:O95)-1)<>\"\",OFFSET([1]DE100_7!$O$27,ROWS($O$27:O95)-1,COLUMNS($O$27:O95)-1),\"\")","v":{"$error":"#VALUE!"}},{"$f":"IF(OFFSET([1]DE100_7!$P$27,ROWS($P$27:P95)-1,COLUMNS($P$27:P95)-1)<>\"\",OFFSET([1]DE100_7!$P$27,ROWS($P$27:P95)-1,COLUMNS($P$27:P95)-1),\"\")","v":{"$error":"#VALUE!"}},{"$f":"IF(OFFSET([1]DE100_7!$Q$27,ROWS($Q$27:Q95)-1,COLUMNS($Q$27:Q95)-1)<>\"\",OFFSET([1]DE100_7!$Q$27,ROWS($Q$27:Q95)-1,COLUMNS($Q$27:Q95)-1),\"\")","v":{"$error":"#VALUE!"}},{"$f":"IF(OFFSET([1]DE100_7!$R$27,ROWS($R$27:R95)-1,COLUMNS($R$27:R95)-1)<>\"\",OFFSET([1]DE100_7!$R$27,ROWS($R$27:R95)-1,COLUMNS($R$27:R95)-1),\"\")","v":{"$error":"#VALUE!"}},{"$f":"IF(OFFSET([1]DE100_7!$S$27,ROWS($S$27:S95)-1,COLUMNS($S$27:S95)-1)<>\"\",OFFSET([1]DE100_7!$S$27,ROWS($S$27:S95)-1,COLUMNS($S$27:S95)-1),\"\")","v":{"$error":"#VALUE!"}},{"$f":"IF(OFFSET([1]DE100_7!$T$27,ROWS($T$27:T95)-1,COLUMNS($T$27:T95)-1)<>\"\",OFFSET([1]DE100_7!$T$27,ROWS($T$27:T95)-1,COLUMNS($T$27:T95)-1),\"\")","v":{"$error":"#VALUE!"}},{"$f":"IF(OFFSET([1]DE100_7!$U$27,ROWS($U$27:U95)-1,COLUMNS($U$27:U95)-1)<>\"\",OFFSET([1]DE100_7!$U$27,ROWS($U$27:U95)-1,COLUMNS($U$27:U95)-1),\"\")","v":{"$error":"#VALUE!"}},{"$f":"IF(OFFSET([1]DE100_7!$V$27,ROWS($V$27:V95)-1,COLUMNS($V$27:V95)-1)<>\"\",OFFSET([1]DE100_7!$V$27,ROWS($V$27:V95)-1,COLUMNS($V$27:V95)-1),\"\")","v":{"$error":"#VALUE!"}}]
[{"$f":"IF(OFFSET([1]DE100_7!$C$27,ROWS($C$27:C96)-1,COLUMNS($C$27:C96)-1)<>\"\",OFFSET([1]DE100_7!$C$27,ROWS($C$27:C96)-1,COLUMNS($C$27:C96)-1),\"\")","v":{"$error":"#VALUE!"}},{"$f":"IF(OFFSET([1]DE100_7!$D$27,ROWS($D$27:D96)-1,COLUMNS($D$27:D96)-1)<>\"\",OFFSET([1]DE100_7!$D$27,ROWS($D$27:D96)-1,COLUMNS($D$27:D96)-1),\"\")","v":{"$error":"#VALUE!"}},{"$f":"IF(OFFSET([1]DE100_7!$E$27,ROWS($E$27:E96)-1,COLUMNS($E$27:E96)-1)<>\"\",OFFSET([1]DE100_7!$E$27,ROWS($E$27:E96)-1,COLUMNS($E$27:E96)-1),\"\")","v":{"$error":"#VALUE!"}},{"$f":"IF(OFFSET([1]DE100_7!$F$27,ROWS($F$27:F96)-1,COLUMNS($F$27:F96)-1)<>\"\",OFFSET([1]DE100_7!$F$27,ROWS($F$27:F96)-1,COLUMNS($F$27:F96)-1),\"\")","v":{"$error":"#VALUE!"}},{"$f":"IF(OFFSET([1]DE100_7!$G$27,ROWS($G$27:G96)-1,COLUMNS($G$27:G96)-1)<>\"\",OFFSET([1]DE100_7!$G$27,ROWS($G$27:G96)-1,COLUMNS($G$27:G96)-1),\"\")","v":{"$error":"#VALUE!"}},{"$f":"IF(OFFSET([1]DE100_7!$H$27,ROWS($H$27:H96)-1,COLUMNS($H$27:H96)-1)<>\"\",OFFSET([1]DE100_7!$H$27,ROWS($H$27:H96)-1,COLUMNS($H$27:H96)-1),\"\")","v":{"$error":"#VALUE!"}},{"$f":"IF(OFFSET([1]DE100_7!$I$27,ROWS($I$27:I96)-1,COLUMNS($I$27:I96)-1)<>\"\",OFFSET([1]DE100_7!$I$27,ROWS($I$27:I96)-1,COLUMNS($I$27:I96)-1),\"\")","v":{"$error":"#VALUE!"}},{"$f":"IF(OFFSET([1]DE100_7!$J$27,ROWS($J$27:J96)-1,COLUMNS($J$27:J96)-1)<>\"\",OFFSET([1]DE100_7!$J$27,ROWS($J$27:J96)-1,COLUMNS($J$27:J96)-1),\"\")","v":{"$error":"#VALUE!"}},{"$f":"IF(OFFSET([1]DE100_7!$K$27,ROWS($K$27:K96)-1,COLUMNS($K$27:K96)-1)<>\"\",OFFSET([1]DE100_7!$K$27,ROWS($K$27:K96)-1,COLUMNS($K$27:K96)-1),\"\")","v":{"$error":"#VALUE!"}},{"$f":"IF(OFFSET([1]DE100_7!$L$27,ROWS($L$27:L96)-1,COLUMNS($L$27:L96)-1)<>\"\",OFFSET([1]DE100_7!$L$27,ROWS($L$27:L96)-1,COLUMNS($L$27:L96)-1),\"\")","v":{"$error":"#VALUE!"}},{"$f":"IF(OFFSET([1]DE100_7!$M$27,ROWS($M$27:M96)-1,COLUMNS($M$27:M96)-1)<>\"\",OFFSET([1]DE100_7!$M$27,ROWS($M$27:M96)-1,COLUMNS($M$27:M96)-1),\"\")","v":{"$error":"#VALUE!"}},{"$f":"IF(OFFSET([1]DE100_7!$N$27,ROWS($N$27:N96)-1,COLUMNS($N$27:N96)-1)<>\"\",OFFSET([1]DE100_7!$N$27,ROWS($N$27:N96)-1,COLUMNS($N$27:N96)-1),\"\")","v":{"$error":"#VALUE!"}},{"$f":"IF(OFFSET([1]DE100_7!$O$27,ROWS($O$27:O96)-1,COLUMNS($O$27:O96)-1)<>\"\",OFFSET([1]DE100_7!$O$27,ROWS($O$27:O96)-1,COLUMNS($O$27:O96)-1),\"\")","v":{"$error":"#VALUE!"}},{"$f":"IF(OFFSET([1]DE100_7!$P$27,ROWS($P$27:P96)-1,COLUMNS($P$27:P96)-1)<>\"\",OFFSET([1]DE100_7!$P$27,ROWS($P$27:P96)-1,COLUMNS($P$27:P96)-1),\"\")","v":{"$error":"#VALUE!"}},{"$f":"IF(OFFSET([1]DE100_7!$Q$27,ROWS($Q$27:Q96)-1,COLUMNS($Q$27:Q96)-1)<>\"\",OFFSET([1]DE100_7!$Q$27,ROWS($Q$27:Q96)-1,COLUMNS($Q$27:Q96)-1),\"\")","v":{"$error":"#VALUE!"}},{"$f":"IF(OFFSET([1]DE100_7!$R$27,ROWS($R$27:R96)-1,COLUMNS($R$27:R96)-1)<>\"\",OFFSET([1]DE100_7!$R$27,ROWS($R$27:R96)-1,COLUMNS($R$27:R96)-1),\"\")","v":{"$error":"#VALUE!"}},{"$f":"IF(OFFSET([1]DE100_7!$S$27,ROWS($S$27:S96)-1,COLUMNS($S$27:S96)-1)<>\"\",OFFSET([1]DE100_7!$S$27,ROWS($S$27:S96)-1,COLUMNS($S$27:S96)-1),\"\")","v":{"$error":"#VALUE!"}},{"$f":"IF(OFFSET([1]DE100_7!$T$27,ROWS($T$27:T96)-1,COLUMNS($T$27:T96)-1)<>\"\",OFFSET([1]DE100_7!$T$27,ROWS($T$27:T96)-1,COLUMNS($T$27:T96)-1),\"\")","v":{"$error":"#VALUE!"}},{"$f":"IF(OFFSET([1]DE100_7!$U$27,ROWS($U$27:U96)-1,COLUMNS($U$27:U96)-1)<>\"\",OFFSET([1]DE100_7!$U$27,ROWS($U$27:U96)-1,COLUMNS($U$27:U96)-1),\"\")","v":{"$error":"#VALUE!"}},{"$f":"IF(OFFSET([1]DE100_7!$V$27,ROWS($V$27:V96)-1,COLUMNS($V$27:V96)-1)<>\"\",OFFSET([1]DE100_7!$V$27,ROWS($V$27:V96)-1,COLUMNS($V$27:V96)-1),\"\")","v":{"$error":"#VALUE!"}}]
[{"$f":"IF(OFFSET([1]DE100_7!$C$27,ROWS($C$27:C97)-1,COLUMNS($C$27:C97)-1)<>\"\",OFFSET([1]DE100_7!$C$27,ROWS($C$27:C97)-1,COLUMNS($C$27:C97)-1),\"\")","v":{"$error":"#VALUE!"}},{"$f":"IF(OFFSET([1]DE100_7!$D$27,ROWS($D$27:D97)-1,COLUMNS($D$27:D97)-1)<>\"\",OFFSET([1]DE100_7!$D$27,ROWS($D$27:D97)-1,COLUMNS($D$27:D97)-1),\"\")","v":{"$error":"#VALUE!"}},{"$f":"IF(OFFSET([1]DE100_7!$E$27,ROWS($E$27:E97)-1,COLUMNS($E$27:E97)-1)<>\"\",OFFSET([1]DE100_7!$E$27,ROWS($E$27:E97)-1,COLUMNS($E$27:E97)-1),\"\")","v":{"$error":"#VALUE!"}},{"$f":"IF(OFFSET([1]DE100_7!$F$27,ROWS($F$27:F97)-1,COLUMNS($F$27:F97)-1)<>\"\",OFFSET([1]DE100_7!$F$27,ROWS($F$27:F97)-1,COLUMNS($F$27:F97)-1),\"\")","v":{"$error":"#VALUE!"}},{"$f":"IF(OFFSET([1]DE100_7!$G$27,ROWS($G$27:G97)-1,COLUMNS($G$27:G97)-1)<>\"\",OFFSET([1]DE100_7!$G$27,ROWS($G$27:G97)-1,COLUMNS($G$27:G97)-1),\"\")","v":{"$error":"#VALUE!"}},{"$f":"IF(OFFSET([1]DE100_7!$H$27,ROWS($H$27:H97)-1,COLUMNS($H$27:H97)-1)<>\"\",OFFSET([1]DE100_7!$H$27,ROWS($H$27:H97)-1,COLUMNS($H$27:H97)-1),\"\")","v":{"$error":"#VALUE!"}},{"$f":"IF(OFFSET([1]DE100_7!$I$27,ROWS($I$27:I97)-1,COLUMNS($I$27:I97)-1)<>\"\",OFFSET([1]DE100_7!$I$27,ROWS($I$27:I97)-1,COLUMNS($I$27:I97)-1),\"\")","v":{"$error":"#VALUE!"}},{"$f":"IF(OFFSET([1]DE100_7!$J$27,ROWS($J$27:J97)-1,COLUMNS($J$27:J97)-1)<>\"\",OFFSET([1]DE100_7!$J$27,ROWS($J$27:J97)-1,COLUMNS($J$27:J97)-1),\"\")","v":{"$error":"#VALUE!"}},{"$f":"IF(OFFSET([1]DE100_7!$K$27,ROWS($K$27:K97)-1,COLUMNS($K$27:K97)-1)<>\"\",OFFSET([1]DE100_7!$K$27,ROWS($K$27:K97)-1,COLUMNS($K$27:K97)-1),\"\")","v":{"$error":"#VALUE!"}},{"$f":"IF(OFFSET([1]DE100_7!$L$27,ROWS($L$27:L97)-1,COLUMNS($L$27:L97)-1)<>\"\",OFFSET([1]DE100_7!$L$27,ROWS($L$27:L97)-1,COLUMNS($L$27:L97)-1),\"\")","v":{"$error":"#VALUE!"}},{"$f":"IF(OFFSET([1]DE100_7!$M$27,ROWS($M$27:M97)-1,COLUMNS($M$27:M97)-1)<>\"\",OFFSET([1]DE100_7!$M$27,ROWS($M$27:M97)-1,COLUMNS($M$27:M97)-1),\"\")","v":{"$error":"#VALUE!"}},{"$f":"IF(OFFSET([1]DE100_7!$N$27,ROWS($N$27:N97)-1,COLUMNS($N$27:N97)-1)<>\"\",OFFSET([1]DE100_7!$N$27,ROWS($N$27:N97)-1,COLUMNS($N$27:N97)-1),\"\")","v":{"$error":"#VALUE!"}},{"$f":"IF(OFFSET([1]DE100_7!$O$27,ROWS($O$27:O97)-1,COLUMNS($O$27:O97)-1)<>\"\",OFFSET([1]DE100_7!$O$27,ROWS($O$27:O97)-1,COLUMNS($O$27:O97)-1),\"\")","v":{"$error":"#VALUE!"}},{"$f":"IF(OFFSET([1]DE100_7!$P$27,ROWS($P$27:P97)-1,COLUMNS($P$27:P97)-1)<>\"\",OFFSET([1]DE100_7!$P$27,ROWS($P$27:P97)-1,COLUMNS($P$27:P97)-1),\"\")","v":{"$error":"#VALUE!"}},{"$f":"IF(OFFSET([1]DE100_7!$Q$27,ROWS($Q$27:Q97)-1,COLUMNS($Q$27:Q97)-1)<>\"\",OFFSET([1]DE100_7!$Q$27,ROWS($Q$27:Q97)-1,COLUMNS($Q$27:Q97)-1),\"\")","v":{"$error":"#VALUE!"}},{"$f":"IF(OFFSET([1]DE100_7!$R$27,ROWS($R$27:R97)-1,COLUMNS($R$27:R97)-1)<>\"\",OFFSET([1]DE100_7!$R$27,ROWS($R$27:R97)-1,COLUMNS($R$27:R97)-1),\"\")","v":{"$error":"#VALUE!"}},{"$f":"IF(OFFSET([1]DE100_7!$S$27,ROWS($S$27:S97)-1,COLUMNS($S$27:S97)-1)<>\"\",OFFSET([1]DE100_7!$S$27,ROWS($S$27:S97)-1,COLUMNS($S$27:S97)-1),\"\")","v":{"$error":"#VALUE!"}},{"$f":"IF(OFFSET([1]DE100_7!$T$27,ROWS($T$27:T97)-1,COLUMNS($T$27:T97)-1)<>\"\",OFFSET([1]DE100_7!$T$27,ROWS($T$27:T97)-1,COLUMNS($T$27:T97)-1),\"\")","v":{"$error":"#VALUE!"}},{"$f":"IF(OFFSET([1]DE100_7!$U$27,ROWS($U$27:U97)-1,COLUMNS($U$27:U97)-1)<>\"\",OFFSET([1]DE100_7!$U$27,ROWS($U$27:U97)-1,COLUMNS($U$27:U97)-1),\"\")","v":{"$error":"#VALUE!"}},{"$f":"IF(OFFSET([1]DE100_7!$V$27,ROWS($V$27:V97)-1,COLUMNS($V$27:V97)-1)<>\"\",OFFSET([1]DE100_7!$V$27,ROWS($V$27:V97)-1,COLUMNS($V$27:V97)-1),\"\")","v":{"$error":"#VALUE!"}}]
[{"$f":"IF(OFFSET([1]DE100_7!$C$27,ROWS($C$27:C98)-1,COLUMNS($C$27:C98)-1)<>\"\",OFFSET([1]DE100_7!$C$27,ROWS($C$27:C98)-1,COLUMNS($C$27:C98)-1),\"\")","v":{"$error":"#VALUE!"}},{"$f":"IF(OFFSET([1]DE100_7!$D$27,ROWS($D$27:D98)-1,COLUMNS($D$27:D98)-1)<>\"\",OFFSET([1]DE100_7!$D$27,ROWS($D$27:D98)-1,COLUMNS($D$27:D98)-1),\"\")","v":{"$error":"#VALUE!"}},{"$f":"IF(OFFSET([1]DE100_7!$E$27,ROWS($E$27:E98)-1,COLUMNS($E$27:E98)-1)<>\"\",OFFSET([1]DE100_7!$E$27,ROWS($E$27:E98)-1,COLUMNS($E$27:E98)-1),\"\")","v":{"$error":"#VALUE!"}},{"$f":"IF(OFFSET([1]DE100_7!$F$27,ROWS($F$27:F98)-1,COLUMNS($F$27:F98)-1)<>\"\",OFFSET([1]DE100_7!$F$27,ROWS($F$27:F98)-1,COLUMNS($F$27:F98)-1),\"\")","v":{"$error":"#VALUE!"}},{"$f":"IF(OFFSET([1]DE100_7!$G$27,ROWS($G$27:G98)-1,COLUMNS($G$27:G98)-1)<>\"\",OFFSET([1]DE100_7!$G$27,ROWS($G$27:G98)-1,COLUMNS($G$27:G98)-1),\"\")","v":{"$error":"#VALUE!"}},{"$f":"IF(OFFSET([1]DE100_7!$H$27,ROWS($H$27:H98)-1,COLUMNS($H$27:H98)-1)<>\"\",OFFSET([1]DE100_7!$H$27,ROWS($H$27:H98)-1,COLUMNS($H$27:H98)-1),\"\")","v":{"$error":"#VALUE!"}},{"$f":"IF(OFFSET([1]DE100_7!$I$27,ROWS($I$27:I98)-1,COLUMNS($I$27:I98)-1)<>\"\",OFFSET([1]DE100_7!$I$27,ROWS($I$27:I98)-1,COLUMNS($I$27:I98)-1),\"\")","v":{"$error":"#VALUE!"}},{"$f":"IF(OFFSET([1]DE100_7!$J$27,ROWS($J$27:J98)-1,COLUMNS($J$27:J98)-1)<>\"\",OFFSET([1]DE100_7!$J$27,ROWS($J$27:J98)-1,COLUMNS($J$27:J98)-1),\"\")","v":{"$error":"#VALUE!"}},{"$f":"IF(OFFSET([1]DE100_7!$K$27,ROWS($K$27:K98)-1,COLUMNS($K$27:K98)-1)<>\"\",OFFSET([1]DE100_7!$K$27,ROWS($K$27:K98)-1,COLUMNS($K$27:K98)-1),\"\")","v":{"$error":"#VALUE!"}},{"$f":"IF(OFFSET([1]DE100_7!$L$27,ROWS($L$27:L98)-1,COLUMNS($L$27:L98)-1)<>\"\",OFFSET([1]DE100_7!$L$27,ROWS($L$27:L98)-1,COLUMNS($L$27:L98)-1),\"\")","v":{"$error":"#VALUE!"}},{"$f":"IF(OFFSET([1]DE100_7!$M$27,ROWS($M$27:M98)-1,COLUMNS($M$27:M98)-1)<>\"\",OFFSET([1]DE100_7!$M$27,ROWS($M$27:M98)-1,COLUMNS($M$27:M98)-1),\"\")","v":{"$error":"#VALUE!"}},{"$f":"IF(OFFSET([1]DE100_7!$N$27,ROWS($N$27:N98)-1,COLUMNS($N$27:N98)-1)<>\"\",OFFSET([1]DE100_7!$N$27,ROWS($N$27:N98)-1,COLUMNS($N$27:N98)-1),\"\")","v":{"$error":"#VALUE!"}},{"$f":"IF(OFFSET([1]DE100_7!$O$27,ROWS($O$27:O98)-1,COLUMNS($O$27:O98)-1)<>\"\",OFFSET([1]DE100_7!$O$27,ROWS($O$27:O98)-1,COLUMNS($O$27:O98)-1),\"\")","v":{"$error":"#VALUE!"}},{"$f":"IF(OFFSET([1]DE100_7!$P$27,ROWS($P$27:P98)-1,COLUMNS($P$27:P98)-1)<>\"\",OFFSET([1]DE100_7!$P$27,ROWS($P$27:P98)-1,COLUMNS($P$27:P98)-1),\"\")","v":{"$error":"#VALUE!"}},{"$f":"IF(OFFSET([1]DE100_7!$Q$27,ROWS($Q$27:Q98)-1,COLUMNS($Q$27:Q98)-1)<>\"\",OFFSET([1]DE100_7!$Q$27,ROWS($Q$27:Q98)-1,COLUMNS($Q$27:Q98)-1),\"\")","v":{"$error":"#VALUE!"}},{"$f":"IF(OFFSET([1]DE100_7!$R$27,ROWS($R$27:R98)-1,COLUMNS($R$27:R98)-1)<>\"\",OFFSET([1]DE100_7!$R$27,ROWS($R$27:R98)-1,COLUMNS($R$27:R98)-1),\"\")","v":{"$error":"#VALUE!"}},{"$f":"IF(OFFSET([1]DE100_7!$S$27,ROWS($S$27:S98)-1,COLUMNS($S$27:S98)-1)<>\"\",OFFSET([1]DE100_7!$S$27,ROWS($S$27:S98)-1,COLUMNS($S$27:S98)-1),\"\")","v":{"$error":"#VALUE!"}},{"$f":"IF(OFFSET([1]DE100_7!$T$27,ROWS($T$27:T98)-1,COLUMNS($T$27:T98)-1)<>\"\",OFFSET([1]DE100_7!$T$27,ROWS($T$27:T98)-1,COLUMNS($T$27:T98)-1),\"\")","v":{"$error":"#VALUE!"}},{"$f":"IF(OFFSET([1]DE100_7!$U$27,ROWS($U$27:U98)-1,COLUMNS($U$27:U98)-1)<>\"\",OFFSET([1]DE100_7!$U$27,ROWS($U$27:U98)-1,COLUMNS($U$27:U98)-1),\"\")","v":{"$error":"#VALUE!"}},{"$f":"IF(OFFSET([1]DE100_7!$V$27,ROWS($V$27:V98)-1,COLUMNS($V$27:V98)-1)<>\"\",OFFSET([1]DE100_7!$V$27,ROWS($V$27:V98)-1,COLUMNS($V$27:V98)-1),\"\")","v":{"$error":"#VALUE!"}}]
[{"$f":"IF(OFFSET([1]DE100_7!$C$27,ROWS($C$27:C99)-1,COLUMNS($C$27:C99)-1)<>\"\",OFFSET([1]DE100_7!$C$27,ROWS($C$27:C99)-1,COLUMNS($C$27:C99)-1),\"\")","v":{"$error":"#VALUE!"}},null,null,null,{"$f":"IF(OFFSET([1]DE100_7!$G$27,ROWS($G$27:G99)-1,COLUMNS($G$27:G99)-1)<>\"\",OFFSET([1]DE100_7!$G$27,ROWS($G$27:G99)-1,COLUMNS($G$27:G99)-1),\"\")","v":{"$error":"#VALUE!"}},{"$f":"IF(OFFSET([1]DE100_7!$H$27,ROWS($H$27:H99)-1,COLUMNS($H$27:H99)-1)<>\"\",OFFSET([1]DE100_7!$H$27,ROWS($H$27:H99)-1,COLUMNS($H$27:H99)-1),\"\")","v":{"$error":"#VALUE!"}},{"$f":"IF(OFFSET([1]DE100_7!$I$27,ROWS($I$27:I99)-1,COLUMNS($I$27:I99)-1)<>\"\",OFFSET([1]DE100_7!$I$27,ROWS($I$27:I99)-1,COLUMNS($I$27:I99)-1),\"\")","v":{"$error":"#VALUE!"}},{"$f":"IF(OFFSET([1]DE100_7!$J$27,ROWS($J$27:J99)-1,COLUMNS($J$27:J99)-1)<>\"\",OFFSET([1]DE100_7!$J$27,ROWS($J$27:J99)-1,COLUMNS($J$27:J99)-1),\"\")","v":{"$error":"#VALUE!"}},{"$f":"IF(OFFSET([1]DE100_7!$K$27,ROWS($K$27:K99)-1,COLUMNS($K$27:K99)-1)<>\"\",OFFSET([1]DE100_7!$K$27,ROWS($K$27:K99)-1,COLUMNS($K$27:K99)-1),\"\")","v":{"$error":"#VALUE!"}},{"$f":"IF(OFFSET([1]DE100_7!$L$27,ROWS($L$27:L99)-1,COLUMNS($L$27:L99)-1)<>\"\",OFFSET([1]DE100_7!$L$27,ROWS($L$27:L99)-1,COLUMNS($L$27:L99)-1),\"\")","v":{"$error":"#VALUE!"}},{"$f":"IF(OFFSET([1]DE100_7!$M$27,ROWS($M$27:M99)-1,COLUMNS($M$27:M99)-1)<>\"\",OFFSET([1]DE100_7!$M$27,ROWS($M$27:M99)-1,COLUMNS($M$27:M99)-1),\"\")","v":{"$error":"#VALUE!"}},{"$f":"IF(OFFSET([1]DE100_7!$N$27,ROWS($N$27:N99)-1,COLUMNS($N$27:N99)-1)<>\"\",OFFSET([1]DE100_7!$N$27,ROWS($N$27:N99)-1,COLUMNS($N$27:N99)-1),\"\")","v":{"$error":"#VALUE!"}},{"$f":"IF(OFFSET([1]DE100_7!$O$27,ROWS($O$27:O99)-1,COLUMNS($O$27:O99)-1)<>\"\",OFFSET([1]DE100_7!$O$27,ROWS($O$27:O99)-1,COLUMNS($O$27:O99)-1),\"\")","v":{"$error":"#VALUE!"}},{"$f":"IF(OFFSET([1]DE100_7!$P$27,ROWS($P$27:P99)-1,COLUMNS($P$27:P99)-1)<>\"\",OFFSET([1]DE100_7!$P$27,ROWS($P$27:P99)-1,COLUMNS($P$27:P99)-1),\"\")","v":{"$error":"#VALUE!"}},{"$f":"IF(OFFSET([1]DE100_7!$Q$27,ROWS($Q$27:Q99)-1,COLUMNS($Q$27:Q99)-1)<>\"\",OFFSET([1]DE100_7!$Q$27,ROWS($Q$27:Q99)-1,COLUMNS($Q$27:Q99)-1),\"\")","v":{"$error":"#VALUE!"}},{"$f":"IF(OFFSET([1]DE100_7!$R$27,ROWS($R$27:R99)-1,COLUMNS($R$27:R99)-1)<>\"\",OFFSET([1]DE100_7!$R$27,ROWS($R$27:R99)-1,COLUMNS($R$27:R99)-1),\"\")","v":{"$error":"#VALUE!"}},{"$f":"IF(OFFSET([1]DE100_7!$S$27,ROWS($S$27:S99)-1,COLUMNS($S$27:S99)-1)<>\"\",OFFSET([1]DE100_7!$S$27,ROWS($S$27:S99)-1,COLUMNS($S$27:S99)-1),\"\")","v":{"$error":"#VALUE!"}},{"$f":"IF(OFFSET([1]DE100_7!$T$27,ROWS($T$27:T99)-1,COLUMNS($T$27:T99)-1)<>\"\",OFFSET([1]DE100_7!$T$27,ROWS($T$27:T99)-1,COLUMNS($T$27:T99)-1),\"\")","v":{"$error":"#VALUE!"}},{"$f":"IF(OFFSET([1]DE100_7!$U$27,ROWS($U$27:U99)-1,COLUMNS($U$27:U99)-1)<>\"\",OFFSET([1]DE100_7!$U$27,ROWS($U$27:U99)-1,COLUMNS($U$27:U99)-1),\"\")","v":{"$error":"#VALUE!"}},{"$f":"IF(OFFSET([1]DE100_7!$V$27,ROWS($V$27:V99)-1,COLUMNS($V$27:V99)-1)<>\"\",OFFSET([1]DE100_7!$V$27,ROWS($V$27:V99)-1,COLUMNS($V$27:V99)-1),\"\")","v":{"$error":"#VALUE!"}}]
[{"$f":"IF(OFFSET([1]DE100_7!$C$27,ROWS($C$27:C100)-1,COLUMNS($C$27:C100)-1)<>\"\",OFFSET([1]DE100_7!$C$27,ROWS($C$27:C100)-1,COLUMNS($C$27:C100)-1),\"\")","v":{"$error":"#VALUE!"}},{"$f":"IF(OFFSET([1]DE100_7!$D$27,ROWS($D$27:D100)-1,COLUMNS($D$27:D100)-1)<>\"\",OFFSET([1]DE100_7!$D$27,ROWS($D$27:D100)-1,COLUMNS($D$27:D100)-1),\"\")","v":{"$error":"#VALUE!"}},{"$f":"IF(OFFSET([1]DE100_7!$E$27,ROWS($E$27:E100)-1,COLUMNS($E$27:E100)-1)<>\"\",OFFSET([1]DE100_7!$E$27,ROWS($E$27:E100)-1,COLUMNS($E$27:E100)-1),\"\")","v":{"$error":"#VALUE!"}},{"$f":"IF(OFFSET([1]DE100_7!$F$27,ROWS($F$27:F100)-1,COLUMNS($F$27:F100)-1)<>\"\",OFFSET([1]DE100_7!$F$27,ROWS($F$27:F100)-1,COLUMNS($F$27:F100)-1),\"\")","v":{"$error":"#VALUE!"}},{"$f":"IF(OFFSET([1]DE100_7!$G$27,ROWS($G$27:G100)-1,COLUMNS($G$27:G100)-1)<>\"\",OFFSET([1]DE100_7!$G$27,ROWS($G$27:G100)-1,COLUMNS($G$27:G100)-1),\"\")","v":{"$error":"#VALUE!"}},{"$f":"IF(OFFSET([1]DE100_7!$H$27,ROWS($H$27:H100)-1,COLUMNS($H$27:H100)-1)<>\"\",OFFSET([1]DE100_7!$H$27,ROWS($H$27:H100)-1,COLUMNS($H$27:H100)-1),\"\")","v":{"$error":"#VALUE!"}},{"$f":"IF(OFFSET([1]DE100_7!$I$27,ROWS($I$27:I100)-1,COLUMNS($I$27:I100)-1)<>\"\",OFFSET([1]DE100_7!$I$27,ROWS($I$27:I100)-1,COLUMNS($I$27:I100)-1),\"\")","v":{"$error":"#VALUE!"}},{"$f":"IF(OFFSET([1]DE100_7!$J$27,ROWS($J$27:J100)-1,COLUMNS($J$27:J100)-1)<>\"\",OFFSET([1]DE100_7!$J$27,ROWS($J$27:J100)-1,COLUMNS($J$27:J100)-1),\"\")","v":{"$error":"#VALUE!"}},{"$f":"IF(OFFSET([1]DE100_7!$K$27,ROWS($K$27:K100)-1,COLUMNS($K$27:K100)-1)<>\"\",OFFSET([1]DE100_7!$K$27,ROWS($K$27:K100)-1,COLUMNS($K$27:K100)-1),\"\")","v":{"$error":"#VALUE!"}},{"$f":"IF(OFFSET([1]DE100_7!$L$27,ROWS($L$27:L100)-1,COLUMNS($L$27:L100)-1)<>\"\",OFFSET([1]DE100_7!$L$27,ROWS($L$27:L100)-1,COLUMNS($L$27:L100)-1),\"\")","v":{"$error":"#VALUE!"}},{"$f":"IF(OFFSET([1]DE100_7!$M$27,ROWS($M$27:M100)-1,COLUMNS($M$27:M100)-1)<>\"\",OFFSET([1]DE100_7!$M$27,ROWS($M$27:M100)-1,COLUMNS($M$27:M100)-1),\"\")","v":{"$error":"#VALUE!"}},{"$f":"IF(OFFSET([1]DE100_7!$N$27,ROWS($N$27:N100)-1,COLUMNS($N$27:N100)-1)<>\"\",OFFSET([1]DE100_7!$N$27,ROWS($N$27:N100)-1,COLUMNS($N$27:N100)-1),\"\")","v":{"$error":"#VALUE!"}},{"$f":"IF(OFFSET([1]DE100_7!$O$27,ROWS($O$27:O100)-1,COLUMNS($O$27:O100)-1)<>\"\",OFFSET([1]DE100_7!$O$27,ROWS($O$27:O100)-1,COLUMNS($O$27:O100)-1),\"\")","v":{"$error":"#VALUE!"}},{"$f":"IF(OFFSET([1]DE100_7!$P$27,ROWS($P$27:P100)-1,COLUMNS($P$27:P100)-1)<>\"\",OFFSET([1]DE100_7!$P$27,ROWS($P$27:P100)-1,COLUMNS($P$27:P100)-1),\"\")","v":{"$error":"#VALUE!"}},{"$f":"IF(OFFSET([1]DE100_7!$Q$27,ROWS($Q$27:Q100)-1,COLUMNS($Q$27:Q100)-1)<>\"\",OFFSET([1]DE100_7!$Q$27,ROWS($Q$27:Q100)-1,COLUMNS($Q$27:Q100)-1),\"\")","v":{"$error":"#VALUE!"}},{"$f":"IF(OFFSET([1]DE100_7!$R$27,ROWS($R$27:R100)-1,COLUMNS($R$27:R100)-1)<>\"\",OFFSET([1]DE100_7!$R$27,ROWS($R$27:R100)-1,COLUMNS($R$27:R100)-1),\"\")","v":{"$error":"#VALUE!"}},{"$f":"IF(OFFSET([1]DE100_7!$S$27,ROWS($S$27:S100)-1,COLUMNS($S$27:S100)-1)<>\"\",OFFSET([1]DE100_7!$S$27,ROWS($S$27:S100)-1,COLUMNS($S$27:S100)-1),\"\")","v":{"$error":"#VALUE!"}},{"$f":"IF(OFFSET([1]DE100_7!$T$27,ROWS($T$27:T100)-1,COLUMNS($T$27:T100)-1)<>\"\",OFFSET([1]DE100_7!$T$27,ROWS($T$27:T100)-1,COLUMNS($T$27:T100)-1),\"\")","v":{"$error":"#VALUE!"}},{"$f":"IF(OFFSET([1]DE100_7!$U$27,ROWS($U$27:U100)-1,COLUMNS($U$27:U100)-1)<>\"\",OFFSET([1]DE100_7!$U$27,ROWS($U$27:U100)-1,COLUMNS($U$27:U100)-1),\"\")","v":{"$error":"#VALUE!"}},{"$f":"IF(OFFSET([1]DE100_7!$V$27,ROWS($V$27:V100)-1,COLUMNS($V$27:V100)-1)<>\"\",OFFSET([1]DE100_7!$V$27,ROWS($V$27:V100)-1,COLUMNS($V$27:V100)-1),\"\")","v":{"$error":"#VALUE!"}}]
[{"$f":"IF(OFFSET([1]DE100_7!$C$27,ROWS($C$27:C101)-1,COLUMNS($C$27:C101)-1)<>\"\",OFFSET([1]DE100_7!$C$27,ROWS($C$27:C101)-1,COLUMNS($C$27:C101)-1),\"\")","v":{"$error":"#VALUE!"}},{"$f":"IF(OFFSET([1]DE100_7!$D$27,ROWS($D$27:D101)-1,COLUMNS($D$27:D101)-1)<>\"\",OFFSET([1]DE100_7!$D$27,ROWS($D$27:D101)-1,COLUMNS($D$27:D101)-1),\"\")","v":{"$error":"#VALUE!"}},{"$f":"IF(OFFSET([1]DE100_7!$E$27,ROWS($E$27:E101)-1,COLUMNS($E$27:E101)-1)<>\"\",OFFSET([1]DE100_7!$E$27,ROWS($E$27:E101)-1,COLUMNS($E$27:E101)-1),\"\")","v":{"$error":"#VALUE!"}},{"$f":"IF(OFFSET([1]DE100_7!$F$27,ROWS($F$27:F101)-1,COLUMNS($F$27:F101)-1)<>\"\",OFFSET([1]DE100_7!$F$27,ROWS($F$27:F101)-1,COLUMNS($F$27:F101)-1),\"\")","v":{"$error":"#VALUE!"}},{"$f":"IF(OFFSET([1]DE100_7!$G$27,ROWS($G$27:G101)-1,COLUMNS($G$27:G101)-1)<>\"\",OFFSET([1]DE100_7!$G$27,ROWS($G$27:G101)-1,COLUMNS($G$27:G101)-1),\"\")","v":{"$error":"#VALUE!"}},{"$f":"IF(OFFSET([1]DE100_7!$H$27,ROWS($H$27:H101)-1,COLUMNS($H$27:H101)-1)<>\"\",OFFSET([1]DE100_7!$H$27,ROWS($H$27:H101)-1,COLUMNS($H$27:H101)-1),\"\")","v":{"$error":"#VALUE!"}},{"$f":"IF(OFFSET([1]DE100_7!$I$27,ROWS($I$27:I101)-1,COLUMNS($I$27:I101)-1)<>\"\",OFFSET([1]DE100_7!$I$27,ROWS($I$27:I101)-1,COLUMNS($I$27:I101)-1),\"\")","v":{"$error":"#VALUE!"}},{"$f":"IF(OFFSET([1]DE100_7!$J$27,ROWS($J$27:J101)-1,COLUMNS($J$27:J101)-1)<>\"\",OFFSET([1]DE100_7!$J$27,ROWS($J$27:J101)-1,COLUMNS($J$27:J101)-1),\"\")","v":{"$error":"#VALUE!"}},{"$f":"IF(OFFSET([1]DE100_7!$K$27,ROWS($K$27:K101)-1,COLUMNS($K$27:K101)-1)<>\"\",OFFSET([1]DE100_7!$K$27,ROWS($K$27:K101)-1,COLUMNS($K$27:K101)-1),\"\")","v":{"$error":"#VALUE!"}},{"$f":"IF(OFFSET([1]DE100_7!$L$27,ROWS($L$27:L101)-1,COLUMNS($L$27:L101)-1)<>\"\",OFFSET([1]DE100_7!$L$27,ROWS($L$27:L101)-1,COLUMNS($L$27:L101)-1),\"\")","v":{"$error":"#VALUE!"}},{"$f":"IF(OFFSET([1]DE100_7!$M$27,ROWS($M$27:M101)-1,COLUMNS($M$27:M101)-1)<>\"\",OFFSET([1]DE100_7!$M$27,ROWS($M$27:M101)-1,COLUMNS($M$27:M101)-1),\"\")","v":{"$error":"#VALUE!"}},{"$f":"IF(OFFSET([1]DE100_7!$N$27,ROWS($N$27:N101)-1,COLUMNS($N$27:N101)-1)<>\"\",OFFSET([1]DE100_7!$N$27,ROWS($N$27:N101)-1,COLUMNS($N$27:N101)-1),\"\")","v":{"$error":"#VALUE!"}},{"$f":"IF(OFFSET([1]DE100_7!$O$27,ROWS($O$27:O101)-1,COLUMNS($O$27:O101)-1)<>\"\",OFFSET([1]DE100_7!$O$27,ROWS($O$27:O101)-1,COLUMNS($O$27:O101)-1),\"\")","v":{"$error":"#VALUE!"}},{"$f":"IF(OFFSET([1]DE100_7!$P$27,ROWS($P$27:P101)-1,COLUMNS($P$27:P101)-1)<>\"\",OFFSET([1]DE100_7!$P$27,ROWS($P$27:P101)-1,COLUMNS($P$27:P101)-1),\"\")","v":{"$error":"#VALUE!"}},{"$f":"IF(OFFSET([1]DE100_7!$Q$27,ROWS($Q$27:Q101)-1,COLUMNS($Q$27:Q101)-1)<>\"\",OFFSET([1]DE100_7!$Q$27,ROWS($Q$27:Q101)-1,COLUMNS($Q$27:Q101)-1),\"\")","v":{"$error":"#VALUE!"}},{"$f":"IF(OFFSET([1]DE100_7!$R$27,ROWS($R$27:R101)-1,COLUMNS($R$27:R101)-1)<>\"\",OFFSET([1]DE100_7!$R$27,ROWS($R$27:R101)-1,COLUMNS($R$27:R101)-1),\"\")","v":{"$error":"#VALUE!"}},{"$f":"IF(OFFSET([1]DE100_7!$S$27,ROWS($S$27:S101)-1,COLUMNS($S$27:S101)-1)<>\"\",OFFSET([1]DE100_7!$S$27,ROWS($S$27:S101)-1,COLUMNS($S$27:S101)-1),\"\")","v":{"$error":"#VALUE!"}},{"$f":"IF(OFFSET([1]DE100_7!$T$27,ROWS($T$27:T101)-1,COLUMNS($T$27:T101)-1)<>\"\",OFFSET([1]DE100_7!$T$27,ROWS($T$27:T101)-1,COLUMNS($T$27:T101)-1),\"\")","v":{"$error":"#VALUE!"}},{"$f":"IF(OFFSET([1]DE100_7!$U$27,ROWS($U$27:U101)-1,COLUMNS($U$27:U101)-1)<>\"\",OFFSET([1]DE100_7!$U$27,ROWS($U$27:U101)-1,COLUMNS($U$27:U101)-1),\"\")","v":{"$error":"#VALUE!"}},{"$f":"IF(OFFSET([1]DE100_7!$V$27,ROWS($V$27:V101)-1,COLUMNS($V$27:V101)-1)<>\"\",OFFSET([1]DE100_7!$V$27,ROWS($V$27:V101)-1,COLUMNS($V$27:V101)-1),\"\")","v":{"$error":"#VALUE!"}}]
[{"$f":"IF(OFFSET([1]DE100_7!$C$27,ROWS($C$27:C102)-1,COLUMNS($C$27:C102)-1)<>\"\",OFFSET([1]DE100_7!$C$27,ROWS($C$27:C102)-1,COLUMNS($C$27:C102)-1),\"\")","v":{"$error":"#VALUE!"}},null,null,null,{"$f":"IF(OFFSET([1]DE100_7!$G$27,ROWS($G$27:G102)-1,COLUMNS($G$27:G102)-1)<>\"\",OFFSET([1]DE100_7!$G$27,ROWS($G$27:G102)-1,COLUMNS($G$27:G102)-1),\"\")","v":{"$error":"#VALUE!"}},{"$f":"IF(OFFSET([1]DE100_7!$H$27,ROWS($H$27:H102)-1,COLUMNS($H$27:H102)-1)<>\"\",OFFSET([1]DE100_7!$H$27,ROWS($H$27:H102)-1,COLUMNS($H$27:H102)-1),\"\")","v":{"$error":"#VALUE!"}},{"$f":"IF(OFFSET([1]DE100_7!$I$27,ROWS($I$27:I102)-1,COLUMNS($I$27:I102)-1)<>\"\",OFFSET([1]DE100_7!$I$27,ROWS($I$27:I102)-1,COLUMNS($I$27:I102)-1),\"\")","v":{"$error":"#VALUE!"}},{"$f":"IF(OFFSET([1]DE100_7!$J$27,ROWS($J$27:J102)-1,COLUMNS($J$27:J102)-1)<>\"\",OFFSET([1]DE100_7!$J$27,ROWS($J$27:J102)-1,COLUMNS($J$27:J102)-1),\"\")","v":{"$error":"#VALUE!"}},{"$f":"IF(OFFSET([1]DE100_7!$K$27,ROWS($K$27:K102)-1,COLUMNS($K$27:K102)-1)<>\"\",OFFSET([1]DE100_7!$K$27,ROWS($K$27:K102)-1,COLUMNS($K$27:K102)-1),\"\")","v":{"$error":"#VALUE!"}},{"$f":"IF(OFFSET([1]DE100_7!$L$27,ROWS($L$27:L102)-1,COLUMNS($L$27:L102)-1)<>\"\",OFFSET([1]DE100_7!$L$27,ROWS($L$27:L102)-1,COLUMNS($L$27:L102)-1),\"\")","v":{"$error":"#VALUE!"}},{"$f":"IF(OFFSET([1]DE100_7!$M$27,ROWS($M$27:M102)-1,COLUMNS($M$27:M102)-1)<>\"\",OFFSET([1]DE100_7!$M$27,ROWS($M$27:M102)-1,COLUMNS($M$27:M102)-1),\"\")","v":{"$error":"#VALUE!"}},{"$f":"IF(OFFSET([1]DE100_7!$N$27,ROWS($N$27:N102)-1,COLUMNS($N$27:N102)-1)<>\"\",OFFSET([1]DE100_7!$N$27,ROWS($N$27:N102)-1,COLUMNS($N$27:N102)-1),\"\")","v":{"$error":"#VALUE!"}},{"$f":"IF(OFFSET([1]DE100_7!$O$27,ROWS($O$27:O102)-1,COLUMNS($O$27:O102)-1)<>\"\",OFFSET([1]DE100_7!$O$27,ROWS($O$27:O102)-1,COLUMNS($O$27:O102)-1),\"\")","v":{"$error":"#VALUE!"}},{"$f":"IF(OFFSET([1]DE100_7!$P$27,ROWS($P$27:P102)-1,COLUMNS($P$27:P102)-1)<>\"\",OFFSET([1]DE100_7!$P$27,ROWS($P$27:P102)-1,COLUMNS($P$27:P102)-1),\"\")","v":{"$error":"#VALUE!"}},{"$f":"IF(OFFSET([1]DE100_7!$Q$27,ROWS($Q$27:Q102)-1,COLUMNS($Q$27:Q102)-1)<>\"\",OFFSET([1]DE100_7!$Q$27,ROWS($Q$27:Q102)-1,COLUMNS($Q$27:Q102)-1),\"\")","v":{"$error":"#VALUE!"}},{"$f":"IF(OFFSET([1]DE100_7!$R$27,ROWS($R$27:R102)-1,COLUMNS($R$27:R102)-1)<>\"\",OFFSET([1]DE100_7!$R$27,ROWS($R$27:R102)-1,COLUMNS($R$27:R102)-1),\"\")","v":{"$error":"#VALUE!"}},{"$f":"IF(OFFSET([1]DE100_7!$S$27,ROWS($S$27:S102)-1,COLUMNS($S$27:S102)-1)<>\"\",OFFSET([1]DE100_7!$S$27,ROWS($S$27:S102)-1,COLUMNS($S$27:S102)-1),\"\")","v":{"$error":"#VALUE!"}},{"$f":"IF(OFFSET([1]DE100_7!$T$27,ROWS($T$27:T102)-1,COLUMNS($T$27:T102)-1)<>\"\",OFFSET([1]DE100_7!$T$27,ROWS($T$27:T102)-1,COLUMNS($T$27:T102)-1),\"\")","v":{"$error":"#VALUE!"}},{"$f":"IF(OFFSET([1]DE100_7!$U$27,ROWS($U$27:U102)-1,COLUMNS($U$27:U102)-1)<>\"\",OFFSET([1]DE100_7!$U$27,ROWS($U$27:U102)-1,COLUMNS($U$27:U102)-1),\"\")","v":{"$error":"#VALUE!"}},{"$f":"IF(OFFSET([1]DE100_7!$V$27,ROWS($V$27:V102)-1,COLUMNS($V$27:V102)-1)<>\"\",OFFSET([1]DE100_7!$V$27,ROWS($V$27:V102)-1,COLUMNS($V$27:V102)-1),\"\")","v":{"$error":"#VALUE!"}}]
[{"$f":"IF(OFFSET([1]DE100_7!$C$27,ROWS($C$27:C103)-1,COLUMNS($C$27:C103)-1)<>\"\",OFFSET([1]DE100_7!$C$27,ROWS($C$27:C103)-1,COLUMNS($C$27:C103)-1),\"\")","v":{"$error":"#VALUE!"}},{"$f":"IF(OFFSET([1]DE100_7!$D$27,ROWS($D$27:D103)-1,COLUMNS($D$27:D103)-1)<>\"\",OFFSET([1]DE100_7!$D$27,ROWS($D$27:D103)-1,COLUMNS($D$27:D103)-1),\"\")","v":{"$error":"#VALUE!"}},{"$f":"IF(OFFSET([1]DE100_7!$E$27,ROWS($E$27:E103)-1,COLUMNS($E$27:E103)-1)<>\"\",OFFSET([1]DE100_7!$E$27,ROWS($E$27:E103)-1,COLUMNS($E$27:E103)-1),\"\")","v":{"$error":"#VALUE!"}},{"$f":"IF(OFFSET([1]DE100_7!$F$27,ROWS($F$27:F103)-1,COLUMNS($F$27:F103)-1)<>\"\",OFFSET([1]DE100_7!$F$27,ROWS($F$27:F103)-1,COLUMNS($F$27:F103)-1),\"\")","v":{"$error":"#VALUE!"}},{"$f":"IF(OFFSET([1]DE100_7!$G$27,ROWS($G$27:G103)-1,COLUMNS($G$27:G103)-1)<>\"\",OFFSET([1]DE100_7!$G$27,ROWS($G$27:G103)-1,COLUMNS($G$27:G103)-1),\"\")","v":{"$error":"#VALUE!"}},{"$f":"IF(OFFSET([1]DE100_7!$H$27,ROWS($H$27:H103)-1,COLUMNS($H$27:H103)-1)<>\"\",OFFSET([1]DE100_7!$H$27,ROWS($H$27:H103)-1,COLUMNS($H$27:H103)-1),\"\")","v":{"$error":"#VALUE!"}},{"$f":"IF(OFFSET([1]DE100_7!$I$27,ROWS($I$27:I103)-1,COLUMNS($I$27:I103)-1)<>\"\",OFFSET([1]DE100_7!$I$27,ROWS($I$27:I103)-1,COLUMNS($I$27:I103)-1),\"\")","v":{"$error":"#VALUE!"}},{"$f":"IF(OFFSET([1]DE100_7!$J$27,ROWS($J$27:J103)-1,COLUMNS($J$27:J103)-1)<>\"\",OFFSET([1]DE100_7!$J$27,ROWS($J$27:J103)-1,COLUMNS($J$27:J103)-1),\"\")","v":{"$error":"#VALUE!"}},{"$f":"IF(OFFSET([1]DE100_7!$K$27,ROWS($K$27:K103)-1,COLUMNS($K$27:K103)-1)<>\"\",OFFSET([1]DE100_7!$K$27,ROWS($K$27:K103)-1,COLUMNS($K$27:K103)-1),\"\")","v":{"$error":"#VALUE!"}},{"$f":"IF(OFFSET([1]DE100_7!$L$27,ROWS($L$27:L103)-1,COLUMNS($L$27:L103)-1)<>\"\",OFFSET([1]DE100_7!$L$27,ROWS($L$27:L103)-1,COLUMNS($L$27:L103)-1),\"\")","v":{"$error":"#VALUE!"}},{"$f":"IF(OFFSET([1]DE100_7!$M$27,ROWS($M$27:M103)-1,COLUMNS($M$27:M103)-1)<>\"\",OFFSET([1]DE100_7!$M$27,ROWS($M$27:M103)-1,COLUMNS($M$27:M103)-1),\"\")","v":{"$error":"#VALUE!"}},{"$f":"IF(OFFSET([1]DE100_7!$N$27,ROWS($N$27:N103)-1,COLUMNS($N$27:N103)-1)<>\"\",OFFSET([1]DE100_7!$N$27,ROWS($N$27:N103)-1,COLUMNS($N$27:N103)-1),\"\")","v":{"$error":"#VALUE!"}},{"$f":"IF(OFFSET([1]DE100_7!$O$27,ROWS($O$27:O103)-1,COLUMNS($O$27:O103)-1)<>\"\",OFFSET([1]DE100_7!$O$27,ROWS($O$27:O103)-1,COLUMNS($O$27:O103)-1),\"\")","v":{"$error":"#VALUE!"}},{"$f":"IF(OFFSET([1]DE100_7!$P$27,ROWS($P$27:P103)-1,COLUMNS($P$27:P103)-1)<>\"\",OFFSET([1]DE100_7!$P$27,ROWS($P$27:P103)-1,COLUMNS($P$27:P103)-1),\"\")","v":{"$error":"#VALUE!"}},{"$f":"IF(OFFSET([1]DE100_7!$Q$27,ROWS($Q$27:Q103)-1,COLUMNS($Q$27:Q103)-1)<>\"\",OFFSET([1]DE100_7!$Q$27,ROWS($Q$27:Q103)-1,COLUMNS($Q$27:Q103)-1),\"\")","v":{"$error":"#VALUE!"}},{"$f":"IF(OFFSET([1]DE100_7!$R$27,ROWS($R$27:R103)-1,COLUMNS($R$27:R103)-1)<>\"\",OFFSET([1]DE100_7!$R$27,ROWS($R$27:R103)-1,COLUMNS($R$27:R103)-1),\"\")","v":{"$error":"#VALUE!"}},{"$f":"IF(OFFSET([1]DE100_7!$S$27,ROWS($S$27:S103)-1,COLUMNS($S$27:S103)-1)<>\"\",OFFSET([1]DE100_7!$S$27,ROWS($S$27:S103)-1,COLUMNS($S$27:S103)-1),\"\")","v":{"$error":"#VALUE!"}},{"$f":"IF(OFFSET([1]DE100_7!$T$27,ROWS($T$27:T103)-1,COLUMNS($T$27:T103)-1)<>\"\",OFFSET([1]DE100_7!$T$27,ROWS($T$27:T103)-1,COLUMNS($T$27:T103)-1),\"\")","v":{"$error":"#VALUE!"}},{"$f":"IF(OFFSET([1]DE100_7!$U$27,ROWS($U$27:U103)-1,COLUMNS($U$27:U103)-1)<>\"\",OFFSET([1]DE100_7!$U$27,ROWS($U$27:U103)-1,COLUMNS($U$27:U103)-1),\"\")","v":{"$error":"#VALUE!"}},{"$f":"IF(OFFSET([1]DE100_7!$V$27,ROWS($V$27:V103)-1,COLUMNS($V$27:V103)-1)<>\"\",OFFSET([1]DE100_7!$V$27,ROWS($V$27:V103)-1,COLUMNS($V$27:V103)-1),\"\")","v":{"$error":"#VALUE!"}}]
[{"$f":"IF(OFFSET([1]DE100_7!$C$27,ROWS($C$27:C104)-1,COLUMNS($C$27:C104)-1)<>\"\",OFFSET([1]DE100_7!$C$27,ROWS($C$27:C104)-1,COLUMNS($C$27:C104)-1),\"\")","v":{"$error":"#VALUE!"}},{"$f":"IF(OFFSET([1]DE100_7!$D$27,ROWS($D$27:D104)-1,COLUMNS($D$27:D104)-1)<>\"\",OFFSET([1]DE100_7!$D$27,ROWS($D$27:D104)-1,COLUMNS($D$27:D104)-1),\"\")","v":{"$error":"#VALUE!"}},{"$f":"IF(OFFSET([1]DE100_7!$E$27,ROWS($E$27:E104)-1,COLUMNS($E$27:E104)-1)<>\"\",OFFSET([1]DE100_7!$E$27,ROWS($E$27:E104)-1,COLUMNS($E$27:E104)-1),\"\")","v":{"$error":"#VALUE!"}},{"$f":"IF(OFFSET([1]DE100_7!$F$27,ROWS($F$27:F104)-1,COLUMNS($F$27:F104)-1)<>\"\",OFFSET([1]DE100_7!$F$27,ROWS($F$27:F104)-1,COLUMNS($F$27:F104)-1),\"\")","v":{"$error":"#VALUE!"}},{"$f":"IF(OFFSET([1]DE100_7!$G$27,ROWS($G$27:G104)-1,COLUMNS($G$27:G104)-1)<>\"\",OFFSET([1]DE100_7!$G$27,ROWS($G$27:G104)-1,COLUMNS($G$27:G104)-1),\"\")","v":{"$error":"#VALUE!"}},{"$f":"IF(OFFSET([1]DE100_7!$H$27,ROWS($H$27:H104)-1,COLUMNS($H$27:H104)-1)<>\"\",OFFSET([1]DE100_7!$H$27,ROWS($H$27:H104)-1,COLUMNS($H$27:H104)-1),\"\")","v":{"$error":"#VALUE!"}},{"$f":"IF(OFFSET([1]DE100_7!$I$27,ROWS($I$27:I104)-1,COLUMNS($I$27:I104)-1)<>\"\",OFFSET([1]DE100_7!$I$27,ROWS($I$27:I104)-1,COLUMNS($I$27:I104)-1),\"\")","v":{"$error":"#VALUE!"}},{"$f":"IF(OFFSET([1]DE100_7!$J$27,ROWS($J$27:J104)-1,COLUMNS($J$27:J104)-1)<>\"\",OFFSET([1]DE100_7!$J$27,ROWS($J$27:J104)-1,COLUMNS($J$27:J104)-1),\"\")","v":{"$error":"#VALUE!"}},{"$f":"IF(OFFSET([1]DE100_7!$K$27,ROWS($K$27:K104)-1,COLUMNS($K$27:K104)-1)<>\"\",OFFSET([1]DE100_7!$K$27,ROWS($K$27:K104)-1,COLUMNS($K$27:K104)-1),\"\")","v":{"$error":"#VALUE!"}},{"$f":"IF(OFFSET([1]DE100_7!$L$27,ROWS($L$27:L104)-1,COLUMNS($L$27:L104)-1)<>\"\",OFFSET([1]DE100_7!$L$27,ROWS($L$27:L104)-1,COLUMNS($L$27:L104)-1),\"\")","v":{"$error":"#VALUE!"}},{"$f":"IF(OFFSET([1]DE100_7!$M$27,ROWS($M$27:M104)-1,COLUMNS($M$27:M104)-1)<>\"\",OFFSET([1]DE100_7!$M$27,ROWS($M$27:M104)-1,COLUMNS($M$27:M104)-1),\"\")","v":{"$error":"#VALUE!"}},{"$f":"IF(OFFSET([1]DE100_7!$N$27,ROWS($N$27:N104)-1,COLUMNS($N$27:N104)-1)<>\"\",OFFSET([1]DE100_7!$N$27,ROWS($N$27:N104)-1,COLUMNS($N$27:N104)-1),\"\")","v":{"$error":"#VALUE!"}},{"$f":"IF(OFFSET([1]DE100_7!$O$27,ROWS($O$27:O104)-1,COLUMNS($O$27:O104)-1)<>\"\",OFFSET([1]DE100_7!$O$27,ROWS($O$27:O104)-1,COLUMNS($O$27:O104)-1),\"\")","v":{"$error":"#VALUE!"}},{"$f":"IF(OFFSET([1]DE100_7!$P$27,ROWS($P$27:P104)-1,COLUMNS($P$27:P104)-1)<>\"\",OFFSET([1]DE100_7!$P$27,ROWS($P$27:P104)-1,COLUMNS($P$27:P104)-1),\"\")","v":{"$error":"#VALUE!"}},{"$f":"IF(OFFSET([1]DE100_7!$Q$27,ROWS($Q$27:Q104)-1,COLUMNS($Q$27:Q104)-1)<>\"\",OFFSET([1]DE100_7!$Q$27,ROWS($Q$27:Q104)-1,COLUMNS($Q$27:Q104)-1),\"\")","v":{"$error":"#VALUE!"}},{"$f":"IF(OFFSET([1]DE100_7!$R$27,ROWS($R$27:R104)-1,COLUMNS($R$27:R104)-1)<>\"\",OFFSET([1]DE100_7!$R$27,ROWS($R$27:R104)-1,COLUMNS($R$27:R104)-1),\"\")","v":{"$error":"#VALUE!"}},{"$f":"IF(OFFSET([1]DE100_7!$S$27,ROWS($S$27:S104)-1,COLUMNS($S$27:S104)-1)<>\"\",OFFSET([1]DE100_7!$S$27,ROWS($S$27:S104)-1,COLUMNS($S$27:S104)-1),\"\")","v":{"$error":"#VALUE!"}},{"$f":"IF(OFFSET([1]DE100_7!$T$27,ROWS($T$27:T104)-1,COLUMNS($T$27:T104)-1)<>\"\",OFFSET([1]DE100_7!$T$27,ROWS($T$27:T104)-1,COLUMNS($T$27:T104)-1),\"\")","v":{"$error":"#VALUE!"}},{"$f":"IF(OFFSET([1]DE100_7!$U$27,ROWS($U$27:U104)-1,COLUMNS($U$27:U104)-1)<>\"\",OFFSET([1]DE100_7!$U$27,ROWS($U$27:U104)-1,COLUMNS($U$27:U104)-1),\"\")","v":{"$error":"#VALUE!"}},{"$f":"IF(OFFSET([1]DE100_7!$V$27,ROWS($V$27:V104)-1,COLUMNS($V$27:V104)-1)<>\"\",OFFSET([1]DE100_7!$V$27,ROWS($V$27:V104)-1,COLUMNS($V$27:V104)-1),\"\")","v":{"$error":"#VALUE!"}}]
["100-7"]
["2012-10-16"]
["FENCING"]
[]
[" * Bid Item"]
["Refer to MI-101, MI-102, MI-103, MI-104, 510-3, and 510-5"]
["Location",null,null,null,"Side","Chain Link",null,null,null,"Deer",null,null,null,"Field",null,null,null,"Channel Crossing",null,"Remarks"]
["From",null,"To"]
["Station","Offset","Station","Offset",null,"Fence",null,"Gate",null,"Fence Length*","Brace Panels*","Gate",null,"Fence Length*","Brace Panels*","Gate"]
[null,null,null,null,null,"Length*","Type","No.*","Type",null,null,"No.*","Type",null,null,"No.*","Type","Length*","Type"]
[]
[null,null,null,null,null,"LF",null,"EACH",null,"LF","EACH","EACH",null,"LF","EACH","EACH",null,"LF"]
[{"$f":"IF(OFFSET([1]DE100_7!$C$105,ROWS($C$105:C105)-1,COLUMNS($C$105:C105)-1)<>\"\",OFFSET([1]DE100_7!$C$105,ROWS($C$105:C105)-1,COLUMNS($C$105:C105)-1),\"\")","v":{"$error":"#VALUE!"}},null,null,null,{"$f":"IF(OFFSET([1]DE100_7!$G$105,ROWS($G$105:G105)-1,COLUMNS($G$105:G105)-1)<>\"\",OFFSET([1]DE100_7!$G$105,ROWS($G$105:G105)-1,COLUMNS($G$105:G105)-1),\"\")","v":{"$error":"#VALUE!"}},{"$f":"IF(OFFSET([1]DE100_7!$H$105,ROWS($H$105:H105)-1,COLUMNS($H$105:H105)-1)<>\"\",OFFSET([1]DE100_7!$H$105,ROWS($H$105:H105)-1,COLUMNS($H$105:H105)-1),\"\")","v":{"$error":"#VALUE!"}},{"$f":"IF(OFFSET([1]DE100_7!$I$105,ROWS($I$105:I105)-1,COLUMNS($I$105:I105)-1)<>\"\",OFFSET([1]DE100_7!$I$105,ROWS($I$105:I105)-1,COLUMNS($I$105:I105)-1),\"\")","v":{"$error":"#VALUE!"}},{"$f":"IF(OFFSET([1]DE100_7!$J$105,ROWS($J$105:J105)-1,COLUMNS($J$105:J105)-1)<>\"\",OFFSET([1]DE100_7!$J$105,ROWS($J$105:J105)-1,COLUMNS($J$105:J105)-1),\"\")","v":{"$error":"#VALUE!"}},{"$f":"IF(OFFSET([1]DE100_7!$K$105,ROWS($K$105:K105)-1,COLUMNS($K$105:K105)-1)<>\"\",OFFSET([1]DE100_7!$K$105,ROWS($K$105:K105)-1,COLUMNS($K$105:K105)-1),\"\")","v":{"$error":"#VALUE!"}},{"$f":"IF(OFFSET([1]DE100_7!$L$105,ROWS($L$105:L105)-1,COLUMNS($L$105:L105)-1)<>\"\",OFFSET([1]DE100_7!$L$105,ROWS($L$105:L105)-1,COLUMNS($L$105:L105)-1),\"\")","v":{"$error":"#VALUE!"}},{"$f":"IF(OFFSET([1]DE100_7!$M$105,ROWS($M$105:M105)-1,COLUMNS($M$105:M105)-1)<>\"\",OFFSET([1]DE100_7!$M$105,ROWS($M$105:M105)-1,COLUMNS($M$105:M105)-1),\"\")","v":{"$error":"#VALUE!"}},{"$f":"IF(OFFSET([1]DE100_7!$N$105,ROWS($N$105:N105)-1,COLUMNS($N$105:N105)-1)<>\"\",OFFSET([1]DE100_7!$N$105,ROWS($N$105:N105)-1,COLUMNS($N$105:N105)-1),\"\")","v":{"$error":"#VALUE!"}},{"$f":"IF(OFFSET([1]DE100_7!$O$105,ROWS($O$105:O105)-1,COLUMNS($O$105:O105)-1)<>\"\",OFFSET([1]DE100_7!$O$105,ROWS($O$105:O105)-1,COLUMNS($O$105:O105)-1),\"\")","v":{"$error":"#VALUE!"}},{"$f":"IF(OFFSET([1]DE100_7!$P$105,ROWS($P$105:P105)-1,COLUMNS($P$105:P105)-1)<>\"\",OFFSET([1]DE100_7!$P$105,ROWS($P$105:P105)-1,COLUMNS($P$105:P105)-1),\"\")","v":{"$error":"#VALUE!"}},{"$f":"IF(OFFSET([1]DE100_7!$Q$105,ROWS($Q$105:Q105)-1,COLUMNS($Q$105:Q105)-1)<>\"\",OFFSET([1]DE100_7!$Q$105,ROWS($Q$105:Q105)-1,COLUMNS($Q$105:Q105)-1),\"\")","v":{"$error":"#VALUE!"}},{"$f":"IF(OFFSET([1]DE100_7!$R$105,ROWS($R$105:R105)-1,COLUMNS($R$105:R105)-1)<>\"\",OFFSET([1]DE100_7!$R$105,ROWS($R$105:R105)-1,COLUMNS($R$105:R105)-1),\"\")","v":{"$error":"#VALUE!"}},{"$f":"IF(OFFSET([1]DE100_7!$S$105,ROWS($S$105:S105)-1,COLUMNS($S$105:S105)-1)<>\"\",OFFSET([1]DE100_7!$S$105,ROWS($S$105:S105)-1,COLUMNS($S$105:S105)-1),\"\")","v":{"$error":"#VALUE!"}},{"$f":"IF(OFFSET([1]DE100_7!$T$105,ROWS($T$105:T105)-1,COLUMNS($T$105:T105)-1)<>\"\",OFFSET([1]DE100_7!$T$105,ROWS($T$105:T105)-1,COLUMNS($T$105:T105)-1),\"\")","v":{"$error":"#VALUE!"}},{"$f":"IF(OFFSET([1]DE100_7!$U$105,ROWS($U$105:U105)-1,COLUMNS($U$105:U105)-1)<>\"\",OFFSET([1]DE100_7!$U$105,ROWS($U$105:U105)-1,COLUMNS($U$105:U105)-1),\"\")","v":{"$error":"#VALUE!"}},{"$f":"IF(OFFSET([1]DE100_7!$V$105,ROWS($V$105:V105)-1,COLUMNS($V$105:V105)-1)<>\"\",OFFSET([1]DE100_7!$V$105,ROWS($V$105:V105)-1,COLUMNS($V$105:V105)-1),\"\")","v":{"$error":"#VALUE!"}}]
[{"$f":"IF(OFFSET([1]DE100_7!$C$105,ROWS($C$105:C106)-1,COLUMNS($C$105:C106)-1)<>\"\",OFFSET([1]DE100_7!$C$105,ROWS($C$105:C106)-1,COLUMNS($C$105:C106)-1),\"\")","v":{"$error":"#VALUE!"}},{"$f":"IF(OFFSET([1]DE100_7!$D$105,ROWS($D$105:D106)-1,COLUMNS($D$105:D106)-1)<>\"\",OFFSET([1]DE100_7!$D$105,ROWS($D$105:D106)-1,COLUMNS($D$105:D106)-1),\"\")","v":{"$error":"#VALUE!"}},{"$f":"IF(OFFSET([1]DE100_7!$E$105,ROWS($E$105:E106)-1,COLUMNS($E$105:E106)-1)<>\"\",OFFSET([1]DE100_7!$E$105,ROWS($E$105:E106)-1,COLUMNS($E$105:E106)-1),\"\")","v":{"$error":"#VALUE!"}},{"$f":"IF(OFFSET([1]DE100_7!$F$105,ROWS($F$105:F106)-1,COLUMNS($F$105:F106)-1)<>\"\",OFFSET([1]DE100_7!$F$105,ROWS($F$105:F106)-1,COLUMNS($F$105:F106)-1),\"\")","v":{"$error":"#VALUE!"}},{"$f":"IF(OFFSET([1]DE100_7!$G$105,ROWS($G$105:G106)-1,COLUMNS($G$105:G106)-1)<>\"\",OFFSET([1]DE100_7!$G$105,ROWS($G$105:G106)-1,COLUMNS($G$105:G106)-1),\"\")","v":{"$error":"#VALUE!"}},{"$f":"IF(OFFSET([1]DE100_7!$H$105,ROWS($H$105:H106)-1,COLUMNS($H$105:H106)-1)<>\"\",OFFSET([1]DE100_7!$H$105,ROWS($H$105:H106)-1,COLUMNS($H$105:H106)-1),\"\")","v":{"$error":"#VALUE!"}},{"$f":"IF(OFFSET([1]DE100_7!$I$105,ROWS($I$105:I106)-1,COLUMNS($I$105:I106)-1)<>\"\",OFFSET([1]DE100_7!$I$105,ROWS($I$105:I106)-1,COLUMNS($I$105:I106)-1),\"\")","v":{"$error":"#VALUE!"}},{"$f":"IF(OFFSET([1]DE100_7!$J$105,ROWS($J$105:J106)-1,COLUMNS($J$105:J106)-1)<>\"\",OFFSET([1]DE100_7!$J$105,ROWS($J$105:J106)-1,COLUMNS($J$105:J106)-1),\"\")","v":{"$error":"#VALUE!"}},{"$f":"IF(OFFSET([1]DE100_7!$K$105,ROWS($K$105:K106)-1,COLUMNS($K$105:K106)-1)<>\"\",OFFSET([1]DE100_7!$K$105,ROWS($K$105:K106)-1,COLUMNS($K$105:K106)-1),\"\")","v":{"$error":"#VALUE!"}},{"$f":"IF(OFFSET([1]DE100_7!$L$105,ROWS($L$105:L106)-1,COLUMNS($L$105:L106)-1)<>\"\",OFFSET([1]DE100_7!$L$105,ROWS($L$105:L106)-1,COLUMNS($L$105:L106)-1),\"\")","v":{"$error":"#VALUE!"}},{"$f":"IF(OFFSET([1]DE100_7!$M$105,ROWS($M$105:M106)-1,COLUMNS($M$105:M106)-1)<>\"\",OFFSET([1]DE100_7!$M$105,ROWS($M$105:M106)-1,COLUMNS($M$105:M106)-1),\"\")","v":{"$error":"#VALUE!"}},{"$f":"IF(OFFSET([1]DE100_7!$N$105,ROWS($N$105:N106)-1,COLUMNS($N$105:N106)-1)<>\"\",OFFSET([1]DE100_7!$N$105,ROWS($N$105:N106)-1,COLUMNS($N$105:N106)-1),\"\")","v":{"$error":"#VALUE!"}},{"$f":"IF(OFFSET([1]DE100_7!$O$105,ROWS($O$105:O106)-1,COLUMNS($O$105:O106)-1)<>\"\",OFFSET([1]DE100_7!$O$105,ROWS($O$105:O106)-1,COLUMNS($O$105:O106)-1),\"\")","v":{"$error":"#VALUE!"}},{"$f":"IF(OFFSET([1]DE100_7!$P$105,ROWS($P$105:P106)-1,COLUMNS($P$105:P106)-1)<>\"\",OFFSET([1]DE100_7!$P$105,ROWS($P$105:P106)-1,COLUMNS($P$105:P106)-1),\"\")","v":{"$error":"#VALUE!"}},{"$f":"IF(OFFSET([1]DE100_7!$Q$105,ROWS($Q$105:Q106)-1,COLUMNS($Q$105:Q106)-1)<>\"\",OFFSET([1]DE100_7!$Q$105,ROWS($Q$105:Q106)-1,COLUMNS($Q$105:Q106)-1),\"\")","v":{"$error":"#VALUE!"}},{"$f":"IF(OFFSET([1]DE100_7!$R$105,ROWS($R$105:R106)-1,COLUMNS($R$105:R106)-1)<>\"\",OFFSET([1]DE100_7!$R$105,ROWS($R$105:R106)-1,COLUMNS($R$105:R106)-1),\"\")","v":{"$error":"#VALUE!"}},{"$f":"IF(OFFSET([1]DE100_7!$S$105,ROWS($S$105:S106)-1,COLUMNS($S$105:S106)-1)<>\"\",OFFSET([1]DE100_7!$S$105,ROWS($S$105:S106)-1,COLUMNS($S$105:S106)-1),\"\")","v":{"$error":"#VALUE!"}},{"$f":"IF(OFFSET([1]DE100_7!$T$105,ROWS($T$105:T106)-1,COLUMNS($T$105:T106)-1)<>\"\",OFFSET([1]DE100_7!$T$105,ROWS($T$105:T106)-1,COLUMNS($T$105:T106)-1),\"\")","v":{"$error":"#VALUE!"}},{"$f":"IF(OFFSET([1]DE100_7!$U$105,ROWS($U$105:U106)-1,COLUMNS($U$105:U106)-1)<>\"\",OFFSET([1]DE100_7!$U$105,ROWS($U$105:U106)-1,COLUMNS($U$105:U106)-1),\"\")","v":{"$error":"#VALUE!"}},{"$f":"IF(OFFSET([1]DE100_7!$V$105,ROWS($V$105:V106)-1,COLUMNS($V$105:V106)-1)<>\"\",OFFSET([1]DE100_7!$V$105,ROWS($V$105:V106)-1,COLUMNS($V$105:V106)-1),\"\")","v":{"$error":"#VALUE!"}}]
[{"$f":"IF(OFFSET([1]DE100_7!$C$105,ROWS($C$105:C107)-1,COLUMNS($C$105:C107)-1)<>\"\",OFFSET([1]DE100_7!$C$105,ROWS($C$105:C107)-1,COLUMNS($C$105:C107)-1),\"\")","v":{"$error":"#VALUE!"}},{"$f":"IF(OFFSET([1]DE100_7!$D$105,ROWS($D$105:D107)-1,COLUMNS($D$105:D107)-1)<>\"\",OFFSET([1]DE100_7!$D$105,ROWS($D$105:D107)-1,COLUMNS($D$105:D107)-1),\"\")","v":{"$error":"#VALUE!"}},{"$f":"IF(OFFSET([1]DE100_7!$E$105,ROWS($E$105:E107)-1,COLUMNS($E$105:E107)-1)<>\"\",OFFSET([1]DE100_7!$E$105,ROWS($E$105:E107)-1,COLUMNS($E$105:E107)-1),\"\")","v":{"$error":"#VALUE!"}},{"$f":"IF(OFFSET([1]DE100_7!$F$105,ROWS($F$105:F107)-1,COLUMNS($F$105:F107)-1)<>\"\",OFFSET([1]DE100_7!$F$105,ROWS($F$105:F107)-1,COLUMNS($F$105:F107)-1),\"\")","v":{"$error":"#VALUE!"}},{"$f":"IF(OFFSET([1]DE100_7!$G$105,ROWS($G$105:G107)-1,COLUMNS($G$105:G107)-1)<>\"\",OFFSET([1]DE100_7!$G$105,ROWS($G$105:G107)-1,COLUMNS($G$105:G107)-1),\"\")","v":{"$error":"#VALUE!"}},{"$f":"IF(OFFSET([1]DE100_7!$H$105,ROWS($H$105:H107)-1,COLUMNS($H$105:H107)-1)<>\"\",OFFSET([1]DE100_7!$H$105,ROWS($H$105:H107)-1,COLUMNS($H$105:H107)-1),\"\")","v":{"$error":"#VALUE!"}},{"$f":"IF(OFFSET([1]DE100_7!$I$105,ROWS($I$105:I107)-1,COLUMNS($I$105:I107)-1)<>\"\",OFFSET([1]DE100_7!$I$105,ROWS($I$105:I107)-1,COLUMNS($I$105:I107)-1),\"\")","v":{"$error":"#VALUE!"}},{"$f":"IF(OFFSET([1]DE100_7!$J$105,ROWS($J$105:J107)-1,COLUMNS($J$105:J107)-1)<>\"\",OFFSET([1]DE100_7!$J$105,ROWS($J$105:J107)-1,COLUMNS($J$105:J107)-1),\"\")","v":{"$error":"#VALUE!"}},{"$f":"IF(OFFSET([1]DE100_7!$K$105,ROWS($K$105:K107)-1,COLUMNS($K$105:K107)-1)<>\"\",OFFSET([1]DE100_7!$K$105,ROWS($K$105:K107)-1,COLUMNS($K$105:K107)-1),\"\")","v":{"$error":"#VALUE!"}},{"$f":"IF(OFFSET([1]DE100_7!$L$105,ROWS($L$105:L107)-1,COLUMNS($L$105:L107)-1)<>\"\",OFFSET([1]DE100_7!$L$105,ROWS($L$105:L107)-1,COLUMNS($L$105:L107)-1),\"\")","v":{"$error":"#VALUE!"}},{"$f":"IF(OFFSET([1]DE100_7!$M$105,ROWS($M$105:M107)-1,COLUMNS($M$105:M107)-1)<>\"\",OFFSET([1]DE100_7!$M$105,ROWS($M$105:M107)-1,COLUMNS($M$105:M107)-1),\"\")","v":{"$error":"#VALUE!"}},{"$f":"IF(OFFSET([1]DE100_7!$N$105,ROWS($N$105:N107)-1,COLUMNS($N$105:N107)-1)<>\"\",OFFSET([1]DE100_7!$N$105,ROWS($N$105:N107)-1,COLUMNS($N$105:N107)-1),\"\")","v":{"$error":"#VALUE!"}},{"$f":"IF(OFFSET([1]DE100_7!$O$105,ROWS($O$105:O107)-1,COLUMNS($O$105:O107)-1)<>\"\",OFFSET([1]DE100_7!$O$105,ROWS($O$105:O107)-1,COLUMNS($O$105:O107)-1),\"\")","v":{"$error":"#VALUE!"}},{"$f":"IF(OFFSET([1]DE100_7!$P$105,ROWS($P$105:P107)-1,COLUMNS($P$105:P107)-1)<>\"\",OFFSET([1]DE100_7!$P$105,ROWS($P$105:P107)-1,COLUMNS($P$105:P107)-1),\"\")","v":{"$error":"#VALUE!"}},{"$f":"IF(OFFSET([1]DE100_7!$Q$105,ROWS($Q$105:Q107)-1,COLUMNS($Q$105:Q107)-1)<>\"\",OFFSET([1]DE100_7!$Q$105,ROWS($Q$105:Q107)-1,COLUMNS($Q$105:Q107)-1),\"\")","v":{"$error":"#VALUE!"}},{"$f":"IF(OFFSET([1]DE100_7!$R$105,ROWS($R$105:R107)-1,COLUMNS($R$105:R107)-1)<>\"\",OFFSET([1]DE100_7!$R$105,ROWS($R$105:R107)-1,COLUMNS($R$105:R107)-1),\"\")","v":{"$error":"#VALUE!"}},{"$f":"IF(OFFSET([1]DE100_7!$S$105,ROWS($S$105:S107)-1,COLUMNS($S$105:S107)-1)<>\"\",OFFSET([1]DE100_7!$S$105,ROWS($S$105:S107)-1,COLUMNS($S$105:S107)-1),\"\")","v":{"$error":"#VALUE!"}},{"$f":"IF(OFFSET([1]DE100_7!$T$105,ROWS($T$105:T107)-1,COLUMNS($T$105:T107)-1)<>\"\",OFFSET([1]DE100_7!$T$105,ROWS($T$105:T107)-1,COLUMNS($T$105:T107)-1),\"\")","v":{"$error":"#VALUE!"}},{"$f":"IF(OFFSET([1]DE100_7!$U$105,ROWS($U$105:U107)-1,COLUMNS($U$105:U107)-1)<>\"\",OFFSET([1]DE100_7!$U$105,ROWS($U$105:U107)-1,COLUMNS($U$105:U107)-1),\"\")","v":{"$error":"#VALUE!"}},{"$f":"IF(OFFSET([1]DE100_7!$V$105,ROWS($V$105:V107)-1,COLUMNS($V$105:V107)-1)<>\"\",OFFSET([1]DE100_7!$V$105,ROWS($V$105:V107)-1,COLUMNS($V$105:V107)-1),\"\")","v":{"$error":"#VALUE!"}}]
[{"$f":"IF(OFFSET([1]DE100_7!$C$105,ROWS($C$105:C108)-1,COLUMNS($C$105:C108)-1)<>\"\",OFFSET([1]DE100_7!$C$105,ROWS($C$105:C108)-1,COLUMNS($C$105:C108)-1),\"\")","v":{"$error":"#VALUE!"}},{"$f":"IF(OFFSET([1]DE100_7!$D$105,ROWS($D$105:D108)-1,COLUMNS($D$105:D108)-1)<>\"\",OFFSET([1]DE100_7!$D$105,ROWS($D$105:D108)-1,COLUMNS($D$105:D108)-1),\"\")","v":{"$error":"#VALUE!"}},{"$f":"IF(OFFSET([1]DE100_7!$E$105,ROWS($E$105:E108)-1,COLUMNS($E$105:E108)-1)<>\"\",OFFSET([1]DE100_7!$E$105,ROWS($E$105:E108)-1,COLUMNS($E$105:E108)-1),\"\")","v":{"$error":"#VALUE!"}},{"$f":"IF(OFFSET([1]DE100_7!$F$105,ROWS($F$105:F108)-1,COLUMNS($F$105:F108)-1)<>\"\",OFFSET([1]DE100_7!$F$105,ROWS($F$105:F108)-1,COLUMNS($F$105:F108)-1),\"\")","v":{"$error":"#VALUE!"}},{"$f":"IF(OFFSET([1]DE100_7!$G$105,ROWS($G$105:G108)-1,COLUMNS($G$105:G108)-1)<>\"\",OFFSET([1]DE100_7!$G$105,ROWS($G$105:G108)-1,COLUMNS($G$105:G108)-1),\"\")","v":{"$error":"#VALUE!"}},{"$f":"IF(OFFSET([1]DE100_7!$H$105,ROWS($H$105:H108)-1,COLUMNS($H$105:H108)-1)<>\"\",OFFSET([1]DE100_7!$H$105,ROWS($H$105:H108)-1,COLUMNS($H$105:H108)-1),\"\")","v":{"$error":"#VALUE!"}},{"$f":"IF(OFFSET([1]DE100_7!$I$105,ROWS($I$105:I108)-1,COLUMNS($I$105:I108)-1)<>\"\",OFFSET([1]DE100_7!$I$105,ROWS($I$105:I108)-1,COLUMNS($I$105:I108)-1),\"\")","v":{"$error":"#VALUE!"}},{"$f":"IF(OFFSET([1]DE100_7!$J$105,ROWS($J$105:J108)-1,COLUMNS($J$105:J108)-1)<>\"\",OFFSET([1]DE100_7!$J$105,ROWS($J$105:J108)-1,COLUMNS($J$105:J108)-1),\"\")","v":{"$error":"#VALUE!"}},{"$f":"IF(OFFSET([1]DE100_7!$K$105,ROWS($K$105:K108)-1,COLUMNS($K$105:K108)-1)<>\"\",OFFSET([1]DE100_7!$K$105,ROWS($K$105:K108)-1,COLUMNS($K$105:K108)-1),\"\")","v":{"$error":"#VALUE!"}},{"$f":"IF(OFFSET([1]DE100_7!$L$105,ROWS($L$105:L108)-1,COLUMNS($L$105:L108)-1)<>\"\",OFFSET([1]DE100_7!$L$105,ROWS($L$105:L108)-1,COLUMNS($L$105:L108)-1),\"\")","v":{"$error":"#VALUE!"}},{"$f":"IF(OFFSET([1]DE100_7!$M$105,ROWS($M$105:M108)-1,COLUMNS($M$105:M108)-1)<>\"\",OFFSET([1]DE100_7!$M$105,ROWS($M$105:M108)-1,COLUMNS($M$105:M108)-1),\"\")","v":{"$error":"#VALUE!"}},{"$f":"IF(OFFSET([1]DE100_7!$N$105,ROWS($N$105:N108)-1,COLUMNS($N$105:N108)-1)<>\"\",OFFSET([1]DE100_7!$N$105,ROWS($N$105:N108)-1,COLUMNS($N$105:N108)-1),\"\")","v":{"$error":"#VALUE!"}},{"$f":"IF(OFFSET([1]DE100_7!$O$105,ROWS($O$105:O108)-1,COLUMNS($O$105:O108)-1)<>\"\",OFFSET([1]DE100_7!$O$105,ROWS($O$105:O108)-1,COLUMNS($O$105:O108)-1),\"\")","v":{"$error":"#VALUE!"}},{"$f":"IF(OFFSET([1]DE100_7!$P$105,ROWS($P$105:P108)-1,COLUMNS($P$105:P108)-1)<>\"\",OFFSET([1]DE100_7!$P$105,ROWS($P$105:P108)-1,COLUMNS($P$105:P108)-1),\"\")","v":{"$error":"#VALUE!"}},{"$f":"IF(OFFSET([1]DE100_7!$Q$105,ROWS($Q$105:Q108)-1,COLUMNS($Q$105:Q108)-1)<>\"\",OFFSET([1]DE100_7!$Q$105,ROWS($Q$105:Q108)-1,COLUMNS($Q$105:Q108)-1),\"\")","v":{"$error":"#VALUE!"}},{"$f":"IF(OFFSET([1]DE100_7!$R$105,ROWS($R$105:R108)-1,COLUMNS($R$105:R108)-1)<>\"\",OFFSET([1]DE100_7!$R$105,ROWS($R$105:R108)-1,COLUMNS($R$105:R108)-1),\"\")","v":{"$error":"#VALUE!"}},{"$f":"IF(OFFSET([1]DE100_7!$S$105,ROWS($S$105:S108)-1,COLUMNS($S$105:S108)-1)<>\"\",OFFSET([1]DE100_7!$S$105,ROWS($S$105:S108)-1,COLUMNS($S$105:S108)-1),\"\")","v":{"$error":"#VALUE!"}},{"$f":"IF(OFFSET([1]DE100_7!$T$105,ROWS($T$105:T108)-1,COLUMNS($T$105:T108)-1)<>\"\",OFFSET([1]DE100_7!$T$105,ROWS($T$105:T108)-1,COLUMNS($T$105:T108)-1),\"\")","v":{"$error":"#VALUE!"}},{"$f":"IF(OFFSET([1]DE100_7!$U$105,ROWS($U$105:U108)-1,COLUMNS($U$105:U108)-1)<>\"\",OFFSET([1]DE100_7!$U$105,ROWS($U$105:U108)-1,COLUMNS($U$105:U108)-1),\"\")","v":{"$error":"#VALUE!"}},{"$f":"IF(OFFSET([1]DE100_7!$V$105,ROWS($V$105:V108)-1,COLUMNS($V$105:V108)-1)<>\"\",OFFSET([1]DE100_7!$V$105,ROWS($V$105:V108)-1,COLUMNS($V$105:V108)-1),\"\")","v":{"$error":"#VALUE!"}}]
[{"$f":"IF(OFFSET([1]DE100_7!$C$105,ROWS($C$105:C109)-1,COLUMNS($C$105:C109)-1)<>\"\",OFFSET([1]DE100_7!$C$105,ROWS($C$105:C109)-1,COLUMNS($C$105:C109)-1),\"\")","v":{"$error":"#VALUE!"}},null,null,null,{"$f":"IF(OFFSET([1]DE100_7!$G$105,ROWS($G$105:G109)-1,COLUMNS($G$105:G109)-1)<>\"\",OFFSET([1]DE100_7!$G$105,ROWS($G$105:G109)-1,COLUMNS($G$105:G109)-1),\"\")","v":{"$error":"#VALUE!"}},{"$f":"IF(OFFSET([1]DE100_7!$H$105,ROWS($H$105:H109)-1,COLUMNS($H$105:H109)-1)<>\"\",OFFSET([1]DE100_7!$H$105,ROWS($H$105:H109)-1,COLUMNS($H$105:H109)-1),\"\")","v":{"$error":"#VALUE!"}},{"$f":"IF(OFFSET([1]DE100_7!$I$105,ROWS($I$105:I109)-1,COLUMNS($I$105:I109)-1)<>\"\",OFFSET([1]DE100_7!$I$105,ROWS($I$105:I109)-1,COLUMNS($I$105:I109)-1),\"\")","v":{"$error":"#VALUE!"}},{"$f":"IF(OFFSET([1]DE100_7!$J$105,ROWS($J$105:J109)-1,COLUMNS($J$105:J109)-1)<>\"\",OFFSET([1]DE100_7!$J$105,ROWS($J$105:J109)-1,COLUMNS($J$105:J109)-1),\"\")","v":{"$error":"#VALUE!"}},{"$f":"IF(OFFSET([1]DE100_7!$K$105,ROWS($K$105:K109)-1,COLUMNS($K$105:K109)-1)<>\"\",OFFSET([1]DE100_7!$K$105,ROWS($K$105:K109)-1,COLUMNS($K$105:K109)-1),\"\")","v":{"$error":"#VALUE!"}},{"$f":"IF(OFFSET([1]DE100_7!$L$105,ROWS($L$105:L109)-1,COLUMNS($L$105:L109)-1)<>\"\",OFFSET([1]DE100_7!$L$105,ROWS($L$105:L109)-1,COLUMNS($L$105:L109)-1),\"\")","v":{"$error":"#VALUE!"}},{"$f":"IF(OFFSET([1]DE100_7!$M$105,ROWS($M$105:M109)-1,COLUMNS($M$105:M109)-1)<>\"\",OFFSET([1]DE100_7!$M$105,ROWS($M$105:M109)-1,COLUMNS($M$105:M109)-1),\"\")","v":{"$error":"#VALUE!"}},{"$f":"IF(OFFSET([1]DE100_7!$N$105,ROWS($N$105:N109)-1,COLUMNS($N$105:N109)-1)<>\"\",OFFSET([1]DE100_7!$N$105,ROWS($N$105:N109)-1,COLUMNS($N$105:N109)-1),\"\")","v":{"$error":"#VALUE!"}},{"$f":"IF(OFFSET([1]DE100_7!$O$105,ROWS($O$105:O109)-1,COLUMNS($O$105:O109)-1)<>\"\",OFFSET([1]DE100_7!$O$105,ROWS($O$105:O109)-1,COLUMNS($O$105:O109)-1),\"\")","v":{"$error":"#VALUE!"}},{"$f":"IF(OFFSET([1]DE100_7!$P$105,ROWS($P$105:P109)-1,COLUMNS($P$105:P109)-1)<>\"\",OFFSET([1]DE100_7!$P$105,ROWS($P$105:P109)-1,COLUMNS($P$105:P109)-1),\"\")","v":{"$error":"#VALUE!"}},{"$f":"IF(OFFSET([1]DE100_7!$Q$105,ROWS($Q$105:Q109)-1,COLUMNS($Q$105:Q109)-1)<>\"\",OFFSET([1]DE100_7!$Q$105,ROWS($Q$105:Q109)-1,COLUMNS($Q$105:Q109)-1),\"\")","v":{"$error":"#VALUE!"}},{"$f":"IF(OFFSET([1]DE100_7!$R$105,ROWS($R$105:R109)-1,COLUMNS($R$105:R109)-1)<>\"\",OFFSET([1]DE100_7!$R$105,ROWS($R$105:R109)-1,COLUMNS($R$105:R109)-1),\"\")","v":{"$error":"#VALUE!"}},{"$f":"IF(OFFSET([1]DE100_7!$S$105,ROWS($S$105:S109)-1,COLUMNS($S$105:S109)-1)<>\"\",OFFSET([1]DE100_7!$S$105,ROWS($S$105:S109)-1,COLUMNS($S$105:S109)-1),\"\")","v":{"$error":"#VALUE!"}},{"$f":"IF(OFFSET([1]DE100_7!$T$105,ROWS($T$105:T109)-1,COLUMNS($T$105:T109)-1)<>\"\",OFFSET([1]DE100_7!$T$105,ROWS($T$105:T109)-1,COLUMNS($T$105:T109)-1),\"\")","v":{"$error":"#VALUE!"}},{"$f":"IF(OFFSET([1]DE100_7!$U$105,ROWS($U$105:U109)-1,COLUMNS($U$105:U109)-1)<>\"\",OFFSET([1]DE100_7!$U$105,ROWS($U$105:U109)-1,COLUMNS($U$105:U109)-1),\"\")","v":{"$error":"#VALUE!"}},{"$f":"IF(OFFSET([1]DE100_7!$V$105,ROWS($V$105:V109)-1,COLUMNS($V$105:V109)-1)<>\"\",OFFSET([1]DE100_7!$V$105,ROWS($V$105:V109)-1,COLUMNS($V$105:V109)-1),\"\")","v":{"$error":"#VALUE!"}}]
[{"$f":"IF(OFFSET([1]DE100_7!$C$105,ROWS($C$105:C110)-1,COLUMNS($C$105:C110)-1)<>\"\",OFFSET([1]DE100_7!$C$105,ROWS($C$105:C110)-1,COLUMNS($C$105:C110)-1),\"\")","v":{"$error":"#VALUE!"}},{"$f":"IF(OFFSET([1]DE100_7!$D$105,ROWS($D$105:D110)-1,COLUMNS($D$105:D110)-1)<>\"\",OFFSET([1]DE100_7!$D$105,ROWS($D$105:D110)-1,COLUMNS($D$105:D110)-1),\"\")","v":{"$error":"#VALUE!"}},{"$f":"IF(OFFSET([1]DE100_7!$E$105,ROWS($E$105:E110)-1,COLUMNS($E$105:E110)-1)<>\"\",OFFSET([1]DE100_7!$E$105,ROWS($E$105:E110)-1,COLUMNS($E$105:E110)-1),\"\")","v":{"$error":"#VALUE!"}},{"$f":"IF(OFFSET([1]DE100_7!$F$105,ROWS($F$105:F110)-1,COLUMNS($F$105:F110)-1)<>\"\",OFFSET([1]DE100_7!$F$105,ROWS($F$105:F110)-1,COLUMNS($F$105:F110)-1),\"\")","v":{"$error":"#VALUE!"}},{"$f":"IF(OFFSET([1]DE100_7!$G$105,ROWS($G$105:G110)-1,COLUMNS($G$105:G110)-1)<>\"\",OFFSET([1]DE100_7!$G$105,ROWS($G$105:G110)-1,COLUMNS($G$105:G110)-1),\"\")","v":{"$error":"#VALUE!"}},{"$f":"IF(OFFSET([1]DE100_7!$H$105,ROWS($H$105:H110)-1,COLUMNS($H$105:H110)-1)<>\"\",OFFSET([1]DE100_7!$H$105,ROWS($H$105:H110)-1,COLUMNS($H$105:H110)-1),\"\")","v":{"$error":"#VALUE!"}},{"$f":"IF(OFFSET([1]DE100_7!$I$105,ROWS($I$105:I110)-1,COLUMNS($I$105:I110)-1)<>\"\",OFFSET([1]DE100_7!$I$105,ROWS($I$105:I110)-1,COLUMNS($I$105:I110)-1),\"\")","v":{"$error":"#VALUE!"}},{"$f":"IF(OFFSET([1]DE100_7!$J$105,ROWS($J$105:J110)-1,COLUMNS($J$105:J110)-1)<>\"\",OFFSET([1]DE100_7!$J$105,ROWS($J$105:J110)-1,COLUMNS($J$105:J110)-1),\"\")","v":{"$error":"#VALUE!"}},{"$f":"IF(OFFSET([1]DE100_7!$K$105,ROWS($K$105:K110)-1,COLUMNS($K$105:K110)-1)<>\"\",OFFSET([1]DE100_7!$K$105,ROWS($K$105:K110)-1,COLUMNS($K$105:K110)-1),\"\")","v":{"$error":"#VALUE!"}},{"$f":"IF(OFFSET([1]DE100_7!$L$105,ROWS($L$105:L110)-1,COLUMNS($L$105:L110)-1)<>\"\",OFFSET([1]DE100_7!$L$105,ROWS($L$105:L110)-1,COLUMNS($L$105:L110)-1),\"\")","v":{"$error":"#VALUE!"}},{"$f":"IF(OFFSET([1]DE100_7!$M$105,ROWS($M$105:M110)-1,COLUMNS($M$105:M110)-1)<>\"\",OFFSET([1]DE100_7!$M$105,ROWS($M$105:M110)-1,COLUMNS($M$105:M110)-1),\"\")","v":{"$error":"#VALUE!"}},{"$f":"IF(OFFSET([1]DE100_7!$N$105,ROWS($N$105:N110)-1,COLUMNS($N$105:N110)-1)<>\"\",OFFSET([1]DE100_7!$N$105,ROWS($N$105:N110)-1,COLUMNS($N$105:N110)-1),\"\")","v":{"$error":"#VALUE!"}},{"$f":"IF(OFFSET([1]DE100_7!$O$105,ROWS($O$105:O110)-1,COLUMNS($O$105:O110)-1)<>\"\",OFFSET([1]DE100_7!$O$105,ROWS($O$105:O110)-1,COLUMNS($O$105:O110)-1),\"\")","v":{"$error":"#VALUE!"}},{"$f":"IF(OFFSET([1]DE100_7!$P$105,ROWS($P$105:P110)-1,COLUMNS($P$105:P110)-1)<>\"\",OFFSET([1]DE100_7!$P$105,ROWS($P$105:P110)-1,COLUMNS($P$105:P110)-1),\"\")","v":{"$error":"#VALUE!"}},{"$f":"IF(OFFSET([1]DE100_7!$Q$105,ROWS($Q$105:Q110)-1,COLUMNS($Q$105:Q110)-1)<>\"\",OFFSET([1]DE100_7!$Q$105,ROWS($Q$105:Q110)-1,COLUMNS($Q$105:Q110)-1),\"\")","v":{"$error":"#VALUE!"}},{"$f":"IF(OFFSET([1]DE100_7!$R$105,ROWS($R$105:R110)-1,COLUMNS($R$105:R110)-1)<>\"\",OFFSET([1]DE100_7!$R$105,ROWS($R$105:R110)-1,COLUMNS($R$105:R110)-1),\"\")","v":{"$error":"#VALUE!"}},{"$f":"IF(OFFSET([1]DE100_7!$S$105,ROWS($S$105:S110)-1,COLUMNS($S$105:S110)-1)<>\"\",OFFSET([1]DE100_7!$S$105,ROWS($S$105:S110)-1,COLUMNS($S$105:S110)-1),\"\")","v":{"$error":"#VALUE!"}},{"$f":"IF(OFFSET([1]DE100_7!$T$105,ROWS($T$105:T110)-1,COLUMNS($T$105:T110)-1)<>\"\",OFFSET([1]DE100_7!$T$105,ROWS($T$105:T110)-1,COLUMNS($T$105:T110)-1),\"\")","v":{"$error":"#VALUE!"}},{"$f":"IF(OFFSET([1]DE100_7!$U$105,ROWS($U$105:U110)-1,COLUMNS($U$105:U110)-1)<>\"\",OFFSET([1]DE100_7!$U$105,ROWS($U$105:U110)-1,COLUMNS($U$105:U110)-1),\"\")","v":{"$error":"#VALUE!"}},{"$f":"IF(OFFSET([1]DE100_7!$V$105,ROWS($V$105:V110)-1,COLUMNS($V$105:V110)-1)<>\"\",OFFSET([1]DE100_7!$V$105,ROWS($V$105:V110)-1,COLUMNS($V$105:V110)-1),\"\")","v":{"$error":"#VALUE!"}}]
[{"$f":"IF(OFFSET([1]DE100_7!$C$105,ROWS($C$105:C111)-1,COLUMNS($C$105:C111)-1)<>\"\",OFFSET([1]DE100_7!$C$105,ROWS($C$105:C111)-1,COLUMNS($C$105:C111)-1),\"\")","v":{"$error":"#VALUE!"}},{"$f":"IF(OFFSET([1]DE100_7!$D$105,ROWS($D$105:D111)-1,COLUMNS($D$105:D111)-1)<>\"\",OFFSET([1]DE100_7!$D$105,ROWS($D$105:D111)-1,COLUMNS($D$105:D111)-1),\"\")","v":{"$error":"#VALUE!"}},{"$f":"IF(OFFSET([1]DE100_7!$E$105,ROWS($E$105:E111)-1,COLUMNS($E$105:E111)-1)<>\"\",OFFSET([1]DE100_7!$E$105,ROWS($E$105:E111)-1,COLUMNS($E$105:E111)-1),\"\")","v":{"$error":"#VALUE!"}},{"$f":"IF(OFFSET([1]DE100_7!$F$105,ROWS($F$105:F111)-1,COLUMNS($F$105:F111)-1)<>\"\",OFFSET([1]DE100_7!$F$105,ROWS($F$105:F111)-1,COLUMNS($F$105:F111)-1),\"\")","v":{"$error":"#VALUE!"}},{"$f":"IF(OFFSET([1]DE100_7!$G$105,ROWS($G$105:G111)-1,COLUMNS($G$105:G111)-1)<>\"\",OFFSET([1]DE100_7!$G$105,ROWS($G$105:G111)-1,COLUMNS($G$105:G111)-1),\"\")","v":{"$error":"#VALUE!"}},{"$f":"IF(OFFSET([1]DE100_7!$H$105,ROWS($H$105:H111)-1,COLUMNS($H$105:H111)-1)<>\"\",OFFSET([1]DE100_7!$H$105,ROWS($H$105:H111)-1,COLUMNS($H$105:H111)-1),\"\")","v":{"$error":"#VALUE!"}},{"$f":"IF(OFFSET([1]DE100_7!$I$105,ROWS($I$105:I111)-1,COLUMNS($I$105:I111)-1)<>\"\",OFFSET([1]DE100_7!$I$105,ROWS($I$105:I111)-1,COLUMNS($I$105:I111)-1),\"\")","v":{"$error":"#VALUE!"}},{"$f":"IF(OFFSET([1]DE100_7!$J$105,ROWS($J$105:J111)-1,COLUMNS($J$105:J111)-1)<>\"\",OFFSET([1]DE100_7!$J$105,ROWS($J$105:J111)-1,COLUMNS($J$105:J111)-1),\"\")","v":{"$error":"#VALUE!"}},{"$f":"IF(OFFSET([1]DE100_7!$K$105,ROWS($K$105:K111)-1,COLUMNS($K$105:K111)-1)<>\"\",OFFSET([1]DE100_7!$K$105,ROWS($K$105:K111)-1,COLUMNS($K$105:K111)-1),\"\")","v":{"$error":"#VALUE!"}},{"$f":"IF(OFFSET([1]DE100_7!$L$105,ROWS($L$105:L111)-1,COLUMNS($L$105:L111)-1)<>\"\",OFFSET([1]DE100_7!$L$105,ROWS($L$105:L111)-1,COLUMNS($L$105:L111)-1),\"\")","v":{"$error":"#VALUE!"}},{"$f":"IF(OFFSET([1]DE100_7!$M$105,ROWS($M$105:M111)-1,COLUMNS($M$105:M111)-1)<>\"\",OFFSET([1]DE100_7!$M$105,ROWS($M$105:M111)-1,COLUMNS($M$105:M111)-1),\"\")","v":{"$error":"#VALUE!"}},{"$f":"IF(OFFSET([1]DE100_7!$N$105,ROWS($N$105:N111)-1,COLUMNS($N$105:N111)-1)<>\"\",OFFSET([1]DE100_7!$N$105,ROWS($N$105:N111)-1,COLUMNS($N$105:N111)-1),\"\")","v":{"$error":"#VALUE!"}},{"$f":"IF(OFFSET([1]DE100_7!$O$105,ROWS($O$105:O111)-1,COLUMNS($O$105:O111)-1)<>\"\",OFFSET([1]DE100_7!$O$105,ROWS($O$105:O111)-1,COLUMNS($O$105:O111)-1),\"\")","v":{"$error":"#VALUE!"}},{"$f":"IF(OFFSET([1]DE100_7!$P$105,ROWS($P$105:P111)-1,COLUMNS($P$105:P111)-1)<>\"\",OFFSET([1]DE100_7!$P$105,ROWS($P$105:P111)-1,COLUMNS($P$105:P111)-1),\"\")","v":{"$error":"#VALUE!"}},{"$f":"IF(OFFSET([1]DE100_7!$Q$105,ROWS($Q$105:Q111)-1,COLUMNS($Q$105:Q111)-1)<>\"\",OFFSET([1]DE100_7!$Q$105,ROWS($Q$105:Q111)-1,COLUMNS($Q$105:Q111)-1),\"\")","v":{"$error":"#VALUE!"}},{"$f":"IF(OFFSET([1]DE100_7!$R$105,ROWS($R$105:R111)-1,COLUMNS($R$105:R111)-1)<>\"\",OFFSET([1]DE100_7!$R$105,ROWS($R$105:R111)-1,COLUMNS($R$105:R111)-1),\"\")","v":{"$error":"#VALUE!"}},{"$f":"IF(OFFSET([1]DE100_7!$S$105,ROWS($S$105:S111)-1,COLUMNS($S$105:S111)-1)<>\"\",OFFSET([1]DE100_7!$S$105,ROWS($S$105:S111)-1,COLUMNS($S$105:S111)-1),\"\")","v":{"$error":"#VALUE!"}},{"$f":"IF(OFFSET([1]DE100_7!$T$105,ROWS($T$105:T111)-1,COLUMNS($T$105:T111)-1)<>\"\",OFFSET([1]DE100_7!$T$105,ROWS($T$105:T111)-1,COLUMNS($T$105:T111)-1),\"\")","v":{"$error":"#VALUE!"}},{"$f":"IF(OFFSET([1]DE100_7!$U$105,ROWS($U$105:U111)-1,COLUMNS($U$105:U111)-1)<>\"\",OFFSET([1]DE100_7!$U$105,ROWS($U$105:U111)-1,COLUMNS($U$105:U111)-1),\"\")","v":{"$error":"#VALUE!"}},{"$f":"IF(OFFSET([1]DE100_7!$V$105,ROWS($V$105:V111)-1,COLUMNS($V$105:V111)-1)<>\"\",OFFSET([1]DE100_7!$V$105,ROWS($V$105:V111)-1,COLUMNS($V$105:V111)-1),\"\")","v":{"$error":"#VALUE!"}}]
[{"$f":"IF(OFFSET([1]DE100_7!$C$105,ROWS($C$105:C112)-1,COLUMNS($C$105:C112)-1)<>\"\",OFFSET([1]DE100_7!$C$105,ROWS($C$105:C112)-1,COLUMNS($C$105:C112)-1),\"\")","v":{"$error":"#VALUE!"}},{"$f":"IF(OFFSET([1]DE100_7!$D$105,ROWS($D$105:D112)-1,COLUMNS($D$105:D112)-1)<>\"\",OFFSET([1]DE100_7!$D$105,ROWS($D$105:D112)-1,COLUMNS($D$105:D112)-1),\"\")","v":{"$error":"#VALUE!"}},{"$f":"IF(OFFSET([1]DE100_7!$E$105,ROWS($E$105:E112)-1,COLUMNS($E$105:E112)-1)<>\"\",OFFSET([1]DE100_7!$E$105,ROWS($E$105:E112)-1,COLUMNS($E$105:E112)-1),\"\")","v":{"$error":"#VALUE!"}},{"$f":"IF(OFFSET([1]DE100_7!$F$105,ROWS($F$105:F112)-1,COLUMNS($F$105:F112)-1)<>\"\",OFFSET([1]DE100_7!$F$105,ROWS($F$105:F112)-1,COLUMNS($F$105:F112)-1),\"\")","v":{"$error":"#VALUE!"}},{"$f":"IF(OFFSET([1]DE100_7!$G$105,ROWS($G$105:G112)-1,COLUMNS($G$105:G112)-1)<>\"\",OFFSET([1]DE100_7!$G$105,ROWS($G$105:G112)-1,COLUMNS($G$105:G112)-1),\"\")","v":{"$error":"#VALUE!"}},{"$f":"IF(OFFSET([1]DE100_7!$H$105,ROWS($H$105:H112)-1,COLUMNS($H$105:H112)-1)<>\"\",OFFSET([1]DE100_7!$H$105,ROWS($H$105:H112)-1,COLUMNS($H$105:H112)-1),\"\")","v":{"$error":"#VALUE!"}},{"$f":"IF(OFFSET([1]DE100_7!$I$105,ROWS($I$105:I112)-1,COLUMNS($I$105:I112)-1)<>\"\",OFFSET([1]DE100_7!$I$105,ROWS($I$105:I112)-1,COLUMNS($I$105:I112)-1),\"\")","v":{"$error":"#VALUE!"}},{"$f":"IF(OFFSET([1]DE100_7!$J$105,ROWS($J$105:J112)-1,COLUMNS($J$105:J112)-1)<>\"\",OFFSET([1]DE100_7!$J$105,ROWS($J$105:J112)-1,COLUMNS($J$105:J112)-1),\"\")","v":{"$error":"#VALUE!"}},{"$f":"IF(OFFSET([1]DE100_7!$K$105,ROWS($K$105:K112)-1,COLUMNS($K$105:K112)-1)<>\"\",OFFSET([1]DE100_7!$K$105,ROWS($K$105:K112)-1,COLUMNS($K$105:K112)-1),\"\")","v":{"$error":"#VALUE!"}},{"$f":"IF(OFFSET([1]DE100_7!$L$105,ROWS($L$105:L112)-1,COLUMNS($L$105:L112)-1)<>\"\",OFFSET([1]DE100_7!$L$105,ROWS($L$105:L112)-1,COLUMNS($L$105:L112)-1),\"\")","v":{"$error":"#VALUE!"}},{"$f":"IF(OFFSET([1]DE100_7!$M$105,ROWS($M$105:M112)-1,COLUMNS($M$105:M112)-1)<>\"\",OFFSET([1]DE100_7!$M$105,ROWS($M$105:M112)-1,COLUMNS($M$105:M112)-1),\"\")","v":{"$error":"#VALUE!"}},{"$f":"IF(OFFSET([1]DE100_7!$N$105,ROWS($N$105:N112)-1,COLUMNS($N$105:N112)-1)<>\"\",OFFSET([1]DE100_7!$N$105,ROWS($N$105:N112)-1,COLUMNS($N$105:N112)-1),\"\")","v":{"$error":"#VALUE!"}},{"$f":"IF(OFFSET([1]DE100_7!$O$105,ROWS($O$105:O112)-1,COLUMNS($O$105:O112)-1)<>\"\",OFFSET([1]DE100_7!$O$105,ROWS($O$105:O112)-1,COLUMNS($O$105:O112)-1),\"\")","v":{"$error":"#VALUE!"}},{"$f":"IF(OFFSET([1]DE100_7!$P$105,ROWS($P$105:P112)-1,COLUMNS($P$105:P112)-1)<>\"\",OFFSET([1]DE100_7!$P$105,ROWS($P$105:P112)-1,COLUMNS($P$105:P112)-1),\"\")","v":{"$error":"#VALUE!"}},{"$f":"IF(OFFSET([1]DE100_7!$Q$105,ROWS($Q$105:Q112)-1,COLUMNS($Q$105:Q112)-1)<>\"\",OFFSET([1]DE100_7!$Q$105,ROWS($Q$105:Q112)-1,COLUMNS($Q$105:Q112)-1),\"\")","v":{"$error":"#VALUE!"}},{"$f":"IF(OFFSET([1]DE100_7!$R$105,ROWS($R$105:R112)-1,COLUMNS($R$105:R112)-1)<>\"\",OFFSET([1]DE100_7!$R$105,ROWS($R$105:R112)-1,COLUMNS($R$105:R112)-1),\"\")","v":{"$error":"#VALUE!"}},{"$f":"IF(OFFSET([1]DE100_7!$S$105,ROWS($S$105:S112)-1,COLUMNS($S$105:S112)-1)<>\"\",OFFSET([1]DE100_7!$S$105,ROWS($S$105:S112)-1,COLUMNS($S$105:S112)-1),\"\")","v":{"$error":"#VALUE!"}},{"$f":"IF(OFFSET([1]DE100_7!$T$105,ROWS($T$105:T112)-1,COLUMNS($T$105:T112)-1)<>\"\",OFFSET([1]DE100_7!$T$105,ROWS($T$105:T112)-1,COLUMNS($T$105:T112)-1),\"\")","v":{"$error":"#VALUE!"}},{"$f":"IF(OFFSET([1]DE100_7!$U$105,ROWS($U$105:U112)-1,COLUMNS($U$105:U112)-1)<>\"\",OFFSET([1]DE100_7!$U$105,ROWS($U$105:U112)-1,COLUMNS($U$105:U112)-1),\"\")","v":{"$error":"#VALUE!"}},{"$f":"IF(OFFSET([1]DE100_7!$V$105,ROWS($V$105:V112)-1,COLUMNS($V$105:V112)-1)<>\"\",OFFSET([1]DE100_7!$V$105,ROWS($V$105:V112)-1,COLUMNS($V$105:V112)-1),\"\")","v":{"$error":"#VALUE!"}}]
[{"$f":"IF(OFFSET([1]DE100_7!$C$105,ROWS($C$105:C113)-1,COLUMNS($C$105:C113)-1)<>\"\",OFFSET([1]DE100_7!$C$105,ROWS($C$105:C113)-1,COLUMNS($C$105:C113)-1),\"\")","v":{"$error":"#VALUE!"}},{"$f":"IF(OFFSET([1]DE100_7!$D$105,ROWS($D$105:D113)-1,COLUMNS($D$105:D113)-1)<>\"\",OFFSET([1]DE100_7!$D$105,ROWS($D$105:D113)-1,COLUMNS($D$105:D113)-1),\"\")","v":{"$error":"#VALUE!"}},{"$f":"IF(OFFSET([1]DE100_7!$E$105,ROWS($E$105:E113)-1,COLUMNS($E$105:E113)-1)<>\"\",OFFSET([1]DE100_7!$E$105,ROWS($E$105:E113)-1,COLUMNS($E$105:E113)-1),\"\")","v":{"$error":"#VALUE!"}},{"$f":"IF(OFFSET([1]DE100_7!$F$105,ROWS($F$105:F113)-1,COLUMNS($F$105:F113)-1)<>\"\",OFFSET([1]DE100_7!$F$105,ROWS($F$105:F113)-1,COLUMNS($F$105:F113)-1),\"\")","v":{"$error":"#VALUE!"}},{"$f":"IF(OFFSET([1]DE100_7!$G$105,ROWS($G$105:G113)-1,COLUMNS($G$105:G113)-1)<>\"\",OFFSET([1]DE100_7!$G$105,ROWS($G$105:G113)-1,COLUMNS($G$105:G113)-1),\"\")","v":{"$error":"#VALUE!"}},{"$f":"IF(OFFSET([1]DE100_7!$H$105,ROWS($H$105:H113)-1,COLUMNS($H$105:H113)-1)<>\"\",OFFSET([1]DE100_7!$H$105,ROWS($H$105:H113)-1,COLUMNS($H$105:H113)-1),\"\")","v":{"$error":"#VALUE!"}},{"$f":"IF(OFFSET([1]DE100_7!$I$105,ROWS($I$105:I113)-1,COLUMNS($I$105:I113)-1)<>\"\",OFFSET([1]DE100_7!$I$105,ROWS($I$105:I113)-1,COLUMNS($I$105:I113)-1),\"\")","v":{"$error":"#VALUE!"}},{"$f":"IF(OFFSET([1]DE100_7!$J$105,ROWS($J$105:J113)-1,COLUMNS($J$105:J113)-1)<>\"\",OFFSET([1]DE100_7!$J$105,ROWS($J$105:J113)-1,COLUMNS($J$105:J113)-1),\"\")","v":{"$error":"#VALUE!"}},{"$f":"IF(OFFSET([1]DE100_7!$K$105,ROWS($K$105:K113)-1,COLUMNS($K$105:K113)-1)<>\"\",OFFSET([1]DE100_7!$K$105,ROWS($K$105:K113)-1,COLUMNS($K$105:K113)-1),\"\")","v":{"$error":"#VALUE!"}},{"$f":"IF(OFFSET([1]DE100_7!$L$105,ROWS($L$105:L113)-1,COLUMNS($L$105:L113)-1)<>\"\",OFFSET([1]DE100_7!$L$105,ROWS($L$105:L113)-1,COLUMNS($L$105:L113)-1),\"\")","v":{"$error":"#VALUE!"}},{"$f":"IF(OFFSET([1]DE100_7!$M$105,ROWS($M$105:M113)-1,COLUMNS($M$105:M113)-1)<>\"\",OFFSET([1]DE100_7!$M$105,ROWS($M$105:M113)-1,COLUMNS($M$105:M113)-1),\"\")","v":{"$error":"#VALUE!"}},{"$f":"IF(OFFSET([1]DE100_7!$N$105,ROWS($N$105:N113)-1,COLUMNS($N$105:N113)-1)<>\"\",OFFSET([1]DE100_7!$N$105,ROWS($N$105:N113)-1,COLUMNS($N$105:N113)-1),\"\")","v":{"$error":"#VALUE!"}},{"$f":"IF(OFFSET([1]DE100_7!$O$105,ROWS($O$105:O113)-1,COLUMNS($O$105:O113)-1)<>\"\",OFFSET([1]DE100_7!$O$105,ROWS($O$105:O113)-1,COLUMNS($O$105:O113)-1),\"\")","v":{"$error":"#VALUE!"}},{"$f":"IF(OFFSET([1]DE100_7!$P$105,ROWS($P$105:P113)-1,COLUMNS($P$105:P113)-1)<>\"\",OFFSET([1]DE100_7!$P$105,ROWS($P$105:P113)-1,COLUMNS($P$105:P113)-1),\"\")","v":{"$error":"#VALUE!"}},{"$f":"IF(OFFSET([1]DE100_7!$Q$105,ROWS($Q$105:Q113)-1,COLUMNS($Q$105:Q113)-1)<>\"\",OFFSET([1]DE100_7!$Q$105,ROWS($Q$105:Q113)-1,COLUMNS($Q$105:Q113)-1),\"\")","v":{"$error":"#VALUE!"}},{"$f":"IF(OFFSET([1]DE100_7!$R$105,ROWS($R$105:R113)-1,COLUMNS($R$105:R113)-1)<>\"\",OFFSET([1]DE100_7!$R$105,ROWS($R$105:R113)-1,COLUMNS($R$105:R113)-1),\"\")","v":{"$error":"#VALUE!"}},{"$f":"IF(OFFSET([1]DE100_7!$S$105,ROWS($S$105:S113)-1,COLUMNS($S$105:S113)-1)<>\"\",OFFSET([1]DE100_7!$S$105,ROWS($S$105:S113)-1,COLUMNS($S$105:S113)-1),\"\")","v":{"$error":"#VALUE!"}},{"$f":"IF(OFFSET([1]DE100_7!$T$105,ROWS($T$105:T113)-1,COLUMNS($T$105:T113)-1)<>\"\",OFFSET([1]DE100_7!$T$105,ROWS($T$105:T113)-1,COLUMNS($T$105:T113)-1),\"\")","v":{"$error":"#VALUE!"}},{"$f":"IF(OFFSET([1]DE100_7!$U$105,ROWS($U$105:U113)-1,COLUMNS($U$105:U113)-1)<>\"\",OFFSET([1]DE100_7!$U$105,ROWS($U$105:U113)-1,COLUMNS($U$105:U113)-1),\"\")","v":{"$error":"#VALUE!"}},{"$f":"IF(OFFSET([1]DE100_7!$V$105,ROWS($V$105:V113)-1,COLUMNS($V$105:V113)-1)<>\"\",OFFSET([1]DE100_7!$V$105,ROWS($V$105:V113)-1,COLUMNS($V$105:V113)-1),\"\")","v":{"$error":"#VALUE!"}}]
[{"$f":"IF(OFFSET([1]DE100_7!$C$105,ROWS($C$105:C114)-1,COLUMNS($C$105:C114)-1)<>\"\",OFFSET([1]DE100_7!$C$105,ROWS($C$105:C114)-1,COLUMNS($C$105:C114)-1),\"\")","v":{"$error":"#VALUE!"}},null,null,null,{"$f":"IF(OFFSET([1]DE100_7!$G$105,ROWS($G$105:G114)-1,COLUMNS($G$105:G114)-1)<>\"\",OFFSET([1]DE100_7!$G$105,ROWS($G$105:G114)-1,COLUMNS($G$105:G114)-1),\"\")","v":{"$error":"#VALUE!"}},{"$f":"IF(OFFSET([1]DE100_7!$H$105,ROWS($H$105:H114)-1,COLUMNS($H$105:H114)-1)<>\"\",OFFSET([1]DE100_7!$H$105,ROWS($H$105:H114)-1,COLUMNS($H$105:H114)-1),\"\")","v":{"$error":"#VALUE!"}},{"$f":"IF(OFFSET([1]DE100_7!$I$105,ROWS($I$105:I114)-1,COLUMNS($I$105:I114)-1)<>\"\",OFFSET([1]DE100_7!$I$105,ROWS($I$105:I114)-1,COLUMNS($I$105:I114)-1),\"\")","v":{"$error":"#VALUE!"}},{"$f":"IF(OFFSET([1]DE100_7!$J$105,ROWS($J$105:J114)-1,COLUMNS($J$105:J114)-1)<>\"\",OFFSET([1]DE100_7!$J$105,ROWS($J$105:J114)-1,COLUMNS($J$105:J114)-1),\"\")","v":{"$error":"#VALUE!"}},{"$f":"IF(OFFSET([1]DE100_7!$K$105,ROWS($K$105:K114)-1,COLUMNS($K$105:K114)-1)<>\"\",OFFSET([1]DE100_7!$K$105,ROWS($K$105:K114)-1,COLUMNS($K$105:K114)-1),\"\")","v":{"$error":"#VALUE!"}},{"$f":"IF(OFFSET([1]DE100_7!$L$105,ROWS($L$105:L114)-1,COLUMNS($L$105:L114)-1)<>\"\",OFFSET([1]DE100_7!$L$105,ROWS($L$105:L114)-1,COLUMNS($L$105:L114)-1),\"\")","v":{"$error":"#VALUE!"}},{"$f":"IF(OFFSET([1]DE100_7!$M$105,ROWS($M$105:M114)-1,COLUMNS($M$105:M114)-1)<>\"\",OFFSET([1]DE100_7!$M$105,ROWS($M$105:M114)-1,COLUMNS($M$105:M114)-1),\"\")","v":{"$error":"#VALUE!"}},{"$f":"IF(OFFSET([1]DE100_7!$N$105,ROWS($N$105:N114)-1,COLUMNS($N$105:N114)-1)<>\"\",OFFSET([1]DE100_7!$N$105,ROWS($N$105:N114)-1,COLUMNS($N$105:N114)-1),\"\")","v":{"$error":"#VALUE!"}},{"$f":"IF(OFFSET([1]DE100_7!$O$105,ROWS($O$105:O114)-1,COLUMNS($O$105:O114)-1)<>\"\",OFFSET([1]DE100_7!$O$105,ROWS($O$105:O114)-1,COLUMNS($O$105:O114)-1),\"\")","v":{"$error":"#VALUE!"}},{"$f":"IF(OFFSET([1]DE100_7!$P$105,ROWS($P$105:P114)-1,COLUMNS($P$105:P114)-1)<>\"\",OFFSET([1]DE100_7!$P$105,ROWS($P$105:P114)-1,COLUMNS($P$105:P114)-1),\"\")","v":{"$error":"#VALUE!"}},{"$f":"IF(OFFSET([1]DE100_7!$Q$105,ROWS($Q$105:Q114)-1,COLUMNS($Q$105:Q114)-1)<>\"\",OFFSET([1]DE100_7!$Q$105,ROWS($Q$105:Q114)-1,COLUMNS($Q$105:Q114)-1),\"\")","v":{"$error":"#VALUE!"}},{"$f":"IF(OFFSET([1]DE100_7!$R$105,ROWS($R$105:R114)-1,COLUMNS($R$105:R114)-1)<>\"\",OFFSET([1]DE100_7!$R$105,ROWS($R$105:R114)-1,COLUMNS($R$105:R114)-1),\"\")","v":{"$error":"#VALUE!"}},{"$f":"IF(OFFSET([1]DE100_7!$S$105,ROWS($S$105:S114)-1,COLUMNS($S$105:S114)-1)<>\"\",OFFSET([1]DE100_7!$S$105,ROWS($S$105:S114)-1,COLUMNS($S$105:S114)-1),\"\")","v":{"$error":"#VALUE!"}},{"$f":"IF(OFFSET([1]DE100_7!$T$105,ROWS($T$105:T114)-1,COLUMNS($T$105:T114)-1)<>\"\",OFFSET([1]DE100_7!$T$105,ROWS($T$105:T114)-1,COLUMNS($T$105:T114)-1),\"\")","v":{"$error":"#VALUE!"}},{"$f":"IF(OFFSET([1]DE100_7!$U$105,ROWS($U$105:U114)-1,COLUMNS($U$105:U114)-1)<>\"\",OFFSET([1]DE100_7!$U$105,ROWS($U$105:U114)-1,COLUMNS($U$105:U114)-1),\"\")","v":{"$error":"#VALUE!"}},{"$f":"IF(OFFSET([1]DE100_7!$V$105,ROWS($V$105:V114)-1,COLUMNS($V$105:V114)-1)<>\"\",OFFSET([1]DE100_7!$V$105,ROWS($V$105:V114)-1,COLUMNS($V$105:V114)-1),\"\")","v":{"$error":"#VALUE!"}}]
[{"$f":"IF(OFFSET([1]DE100_7!$C$105,ROWS($C$105:C115)-1,COLUMNS($C$105:C115)-1)<>\"\",OFFSET([1]DE100_7!$C$105,ROWS($C$105:C115)-1,COLUMNS($C$105:C115)-1),\"\")","v":{"$error":"#VALUE!"}},{"$f":"IF(OFFSET([1]DE100_7!$D$105,ROWS($D$105:D115)-1,COLUMNS($D$105:D115)-1)<>\"\",OFFSET([1]DE100_7!$D$105,ROWS($D$105:D115)-1,COLUMNS($D$105:D115)-1),\"\")","v":{"$error":"#VALUE!"}},{"$f":"IF(OFFSET([1]DE100_7!$E$105,ROWS($E$105:E115)-1,COLUMNS($E$105:E115)-1)<>\"\",OFFSET([1]DE100_7!$E$105,ROWS($E$105:E115)-1,COLUMNS($E$105:E115)-1),\"\")","v":{"$error":"#VALUE!"}},{"$f":"IF(OFFSET([1]DE100_7!$F$105,ROWS($F$105:F115)-1,COLUMNS($F$105:F115)-1)<>\"\",OFFSET([1]DE100_7!$F$105,ROWS($F$105:F115)-1,COLUMNS($F$105:F115)-1),\"\")","v":{"$error":"#VALUE!"}},{"$f":"IF(OFFSET([1]DE100_7!$G$105,ROWS($G$105:G115)-1,COLUMNS($G$105:G115)-1)<>\"\",OFFSET([1]DE100_7!$G$105,ROWS($G$105:G115)-1,COLUMNS($G$105:G115)-1),\"\")","v":{"$error":"#VALUE!"}},{"$f":"IF(OFFSET([1]DE100_7!$H$105,ROWS($H$105:H115)-1,COLUMNS($H$105:H115)-1)<>\"\",OFFSET([1]DE100_7!$H$105,ROWS($H$105:H115)-1,COLUMNS($H$105:H115)-1),\"\")","v":{"$error":"#VALUE!"}},{"$f":"IF(OFFSET([1]DE100_7!$I$105,ROWS($I$105:I115)-1,COLUMNS($I$105:I115)-1)<>\"\",OFFSET([1]DE100_7!$I$105,ROWS($I$105:I115)-1,COLUMNS($I$105:I115)-1),\"\")","v":{"$error":"#VALUE!"}},{"$f":"IF(OFFSET([1]DE100_7!$J$105,ROWS($J$105:J115)-1,COLUMNS($J$105:J115)-1)<>\"\",OFFSET([1]DE100_7!$J$105,ROWS($J$105:J115)-1,COLUMNS($J$105:J115)-1),\"\")","v":{"$error":"#VALUE!"}},{"$f":"IF(OFFSET([1]DE100_7!$K$105,ROWS($K$105:K115)-1,COLUMNS($K$105:K115)-1)<>\"\",OFFSET([1]DE100_7!$K$105,ROWS($K$105:K115)-1,COLUMNS($K$105:K115)-1),\"\")","v":{"$error":"#VALUE!"}},{"$f":"IF(OFFSET([1]DE100_7!$L$105,ROWS($L$105:L115)-1,COLUMNS($L$105:L115)-1)<>\"\",OFFSET([1]DE100_7!$L$105,ROWS($L$105:L115)-1,COLUMNS($L$105:L115)-1),\"\")","v":{"$error":"#VALUE!"}},{"$f":"IF(OFFSET([1]DE100_7!$M$105,ROWS($M$105:M115)-1,COLUMNS($M$105:M115)-1)<>\"\",OFFSET([1]DE100_7!$M$105,ROWS($M$105:M115)-1,COLUMNS($M$105:M115)-1),\"\")","v":{"$error":"#VALUE!"}},{"$f":"IF(OFFSET([1]DE100_7!$N$105,ROWS($N$105:N115)-1,COLUMNS($N$105:N115)-1)<>\"\",OFFSET([1]DE100_7!$N$105,ROWS($N$105:N115)-1,COLUMNS($N$105:N115)-1),\"\")","v":{"$error":"#VALUE!"}},{"$f":"IF(OFFSET([1]DE100_7!$O$105,ROWS($O$105:O115)-1,COLUMNS($O$105:O115)-1)<>\"\",OFFSET([1]DE100_7!$O$105,ROWS($O$105:O115)-1,COLUMNS($O$105:O115)-1),\"\")","v":{"$error":"#VALUE!"}},{"$f":"IF(OFFSET([1]DE100_7!$P$105,ROWS($P$105:P115)-1,COLUMNS($P$105:P115)-1)<>\"\",OFFSET([1]DE100_7!$P$105,ROWS($P$105:P115)-1,COLUMNS($P$105:P115)-1),\"\")","v":{"$error":"#VALUE!"}},{"$f":"IF(OFFSET([1]DE100_7!$Q$105,ROWS($Q$105:Q115)-1,COLUMNS($Q$105:Q115)-1)<>\"\",OFFSET([1]DE100_7!$Q$105,ROWS($Q$105:Q115)-1,COLUMNS($Q$105:Q115)-1),\"\")","v":{"$error":"#VALUE!"}},{"$f":"IF(OFFSET([1]DE100_7!$R$105,ROWS($R$105:R115)-1,COLUMNS($R$105:R115)-1)<>\"\",OFFSET([1]DE100_7!$R$105,ROWS($R$105:R115)-1,COLUMNS($R$105:R115)-1),\"\")","v":{"$error":"#VALUE!"}},{"$f":"IF(OFFSET([1]DE100_7!$S$105,ROWS($S$105:S115)-1,COLUMNS($S$105:S115)-1)<>\"\",OFFSET([1]DE100_7!$S$105,ROWS($S$105:S115)-1,COLUMNS($S$105:S115)-1),\"\")","v":{"$error":"#VALUE!"}},{"$f":"IF(OFFSET([1]DE100_7!$T$105,ROWS($T$105:T115)-1,COLUMNS($T$105:T115)-1)<>\"\",OFFSET([1]DE100_7!$T$105,ROWS($T$105:T115)-1,COLUMNS($T$105:T115)-1),\"\")","v":{"$error":"#VALUE!"}},{"$f":"IF(OFFSET([1]DE100_7!$U$105,ROWS($U$105:U115)-1,COLUMNS($U$105:U115)-1)<>\"\",OFFSET([1]DE100_7!$U$105,ROWS($U$105:U115)-1,COLUMNS($U$105:U115)-1),\"\")","v":{"$error":"#VALUE!"}},{"$f":"IF(OFFSET([1]DE100_7!$V$105,ROWS($V$105:V115)-1,COLUMNS($V$105:V115)-1)<>\"\",OFFSET([1]DE100_7!$V$105,ROWS($V$105:V115)-1,COLUMNS($V$105:V115)-1),\"\")","v":{"$error":"#VALUE!"}}]
[{"$f":"IF(OFFSET([1]DE100_7!$C$105,ROWS($C$105:C116)-1,COLUMNS($C$105:C116)-1)<>\"\",OFFSET([1]DE100_7!$C$105,ROWS($C$105:C116)-1,COLUMNS($C$105:C116)-1),\"\")","v":{"$error":"#VALUE!"}},{"$f":"IF(OFFSET([1]DE100_7!$D$105,ROWS($D$105:D116)-1,COLUMNS($D$105:D116)-1)<>\"\",OFFSET([1]DE100_7!$D$105,ROWS($D$105:D116)-1,COLUMNS($D$105:D116)-1),\"\")","v":{"$error":"#VALUE!"}},{"$f":"IF(OFFSET([1]DE100_7!$E$105,ROWS($E$105:E116)-1,COLUMNS($E$105:E116)-1)<>\"\",OFFSET([1]DE100_7!$E$105,ROWS($E$105:E116)-1,COLUMNS($E$105:E116)-1),\"\")","v":{"$error":"#VALUE!"}},{"$f":"IF(OFFSET([1]DE100_7!$F$105,ROWS($F$105:F116)-1,COLUMNS($F$105:F116)-1)<>\"\",OFFSET([1]DE100_7!$F$105,ROWS($F$105:F116)-1,COLUMNS($F$105:F116)-1),\"\")","v":{"$error":"#VALUE!"}},{"$f":"IF(OFFSET([1]DE100_7!$G$105,ROWS($G$105:G116)-1,COLUMNS($G$105:G116)-1)<>\"\",OFFSET([1]DE100_7!$G$105,ROWS($G$105:G116)-1,COLUMNS($G$105:G116)-1),\"\")","v":{"$error":"#VALUE!"}},{"$f":"IF(OFFSET([1]DE100_7!$H$105,ROWS($H$105:H116)-1,COLUMNS($H$105:H116)-1)<>\"\",OFFSET([1]DE100_7!$H$105,ROWS($H$105:H116)-1,COLUMNS($H$105:H116)-1),\"\")","v":{"$error":"#VALUE!"}},{"$f":"IF(OFFSET([1]DE100_7!$I$105,ROWS($I$105:I116)-1,COLUMNS($I$105:I116)-1)<>\"\",OFFSET([1]DE100_7!$I$105,ROWS($I$105:I116)-1,COLUMNS($I$105:I116)-1),\"\")","v":{"$error":"#VALUE!"}},{"$f":"IF(OFFSET([1]DE100_7!$J$105,ROWS($J$105:J116)-1,COLUMNS($J$105:J116)-1)<>\"\",OFFSET([1]DE100_7!$J$105,ROWS($J$105:J116)-1,COLUMNS($J$105:J116)-1),\"\")","v":{"$error":"#VALUE!"}},{"$f":"IF(OFFSET([1]DE100_7!$K$105,ROWS($K$105:K116)-1,COLUMNS($K$105:K116)-1)<>\"\",OFFSET([1]DE100_7!$K$105,ROWS($K$105:K116)-1,COLUMNS($K$105:K116)-1),\"\")","v":{"$error":"#VALUE!"}},{"$f":"IF(OFFSET([1]DE100_7!$L$105,ROWS($L$105:L116)-1,COLUMNS($L$105:L116)-1)<>\"\",OFFSET([1]DE100_7!$L$105,ROWS($L$105:L116)-1,COLUMNS($L$105:L116)-1),\"\")","v":{"$error":"#VALUE!"}},{"$f":"IF(OFFSET([1]DE100_7!$M$105,ROWS($M$105:M116)-1,COLUMNS($M$105:M116)-1)<>\"\",OFFSET([1]DE100_7!$M$105,ROWS($M$105:M116)-1,COLUMNS($M$105:M116)-1),\"\")","v":{"$error":"#VALUE!"}},{"$f":"IF(OFFSET([1]DE100_7!$N$105,ROWS($N$105:N116)-1,COLUMNS($N$105:N116)-1)<>\"\",OFFSET([1]DE100_7!$N$105,ROWS($N$105:N116)-1,COLUMNS($N$105:N116)-1),\"\")","v":{"$error":"#VALUE!"}},{"$f":"IF(OFFSET([1]DE100_7!$O$105,ROWS($O$105:O116)-1,COLUMNS($O$105:O116)-1)<>\"\",OFFSET([1]DE100_7!$O$105,ROWS($O$105:O116)-1,COLUMNS($O$105:O116)-1),\"\")","v":{"$error":"#VALUE!"}},{"$f":"IF(OFFSET([1]DE100_7!$P$105,ROWS($P$105:P116)-1,COLUMNS($P$105:P116)-1)<>\"\",OFFSET([1]DE100_7!$P$105,ROWS($P$105:P116)-1,COLUMNS($P$105:P116)-1),\"\")","v":{"$error":"#VALUE!"}},{"$f":"IF(OFFSET([1]DE100_7!$Q$105,ROWS($Q$105:Q116)-1,COLUMNS($Q$105:Q116)-1)<>\"\",OFFSET([1]DE100_7!$Q$105,ROWS($Q$105:Q116)-1,COLUMNS($Q$105:Q116)-1),\"\")","v":{"$error":"#VALUE!"}},{"$f":"IF(OFFSET([1]DE100_7!$R$105,ROWS($R$105:R116)-1,COLUMNS($R$105:R116)-1)<>\"\",OFFSET([1]DE100_7!$R$105,ROWS($R$105:R116)-1,COLUMNS($R$105:R116)-1),\"\")","v":{"$error":"#VALUE!"}},{"$f":"IF(OFFSET([1]DE100_7!$S$105,ROWS($S$105:S116)-1,COLUMNS($S$105:S116)-1)<>\"\",OFFSET([1]DE100_7!$S$105,ROWS($S$105:S116)-1,COLUMNS($S$105:S116)-1),\"\")","v":{"$error":"#VALUE!"}},{"$f":"IF(OFFSET([1]DE100_7!$T$105,ROWS($T$105:T116)-1,COLUMNS($T$105:T116)-1)<>\"\",OFFSET([1]DE100_7!$T$105,ROWS($T$105:T116)-1,COLUMNS($T$105:T116)-1),\"\")","v":{"$error":"#VALUE!"}},{"$f":"IF(OFFSET([1]DE100_7!$U$105,ROWS($U$105:U116)-1,COLUMNS($U$105:U116)-1)<>\"\",OFFSET([1]DE100_7!$U$105,ROWS($U$105:U116)-1,COLUMNS($U$105:U116)-1),\"\")","v":{"$error":"#VALUE!"}},{"$f":"IF(OFFSET([1]DE100_7!$V$105,ROWS($V$105:V116)-1,COLUMNS($V$105:V116)-1)<>\"\",OFFSET([1]DE100_7!$V$105,ROWS($V$105:V116)-1,COLUMNS($V$105:V116)-1),\"\")","v":{"$error":"#VALUE!"}}]
[{"$f":"IF(OFFSET([1]DE100_7!$C$105,ROWS($C$105:C117)-1,COLUMNS($C$105:C117)-1)<>\"\",OFFSET([1]DE100_7!$C$105,ROWS($C$105:C117)-1,COLUMNS($C$105:C117)-1),\"\")","v":{"$error":"#VALUE!"}},{"$f":"IF(OFFSET([1]DE100_7!$D$105,ROWS($D$105:D117)-1,COLUMNS($D$105:D117)-1)<>\"\",OFFSET([1]DE100_7!$D$105,ROWS($D$105:D117)-1,COLUMNS($D$105:D117)-1),\"\")","v":{"$error":"#VALUE!"}},{"$f":"IF(OFFSET([1]DE100_7!$E$105,ROWS($E$105:E117)-1,COLUMNS($E$105:E117)-1)<>\"\",OFFSET([1]DE100_7!$E$105,ROWS($E$105:E117)-1,COLUMNS($E$105:E117)-1),\"\")","v":{"$error":"#VALUE!"}},{"$f":"IF(OFFSET([1]DE100_7!$F$105,ROWS($F$105:F117)-1,COLUMNS($F$105:F117)-1)<>\"\",OFFSET([1]DE100_7!$F$105,ROWS($F$105:F117)-1,COLUMNS($F$105:F117)-1),\"\")","v":{"$error":"#VALUE!"}},{"$f":"IF(OFFSET([1]DE100_7!$G$105,ROWS($G$105:G117)-1,COLUMNS($G$105:G117)-1)<>\"\",OFFSET([1]DE100_7!$G$105,ROWS($G$105:G117)-1,COLUMNS($G$105:G117)-1),\"\")","v":{"$error":"#VALUE!"}},{"$f":"IF(OFFSET([1]DE100_7!$H$105,ROWS($H$105:H117)-1,COLUMNS($H$105:H117)-1)<>\"\",OFFSET([1]DE100_7!$H$105,ROWS($H$105:H117)-1,COLUMNS($H$105:H117)-1),\"\")","v":{"$error":"#VALUE!"}},{"$f":"IF(OFFSET([1]DE100_7!$I$105,ROWS($I$105:I117)-1,COLUMNS($I$105:I117)-1)<>\"\",OFFSET([1]DE100_7!$I$105,ROWS($I$105:I117)-1,COLUMNS($I$105:I117)-1),\"\")","v":{"$error":"#VALUE!"}},{"$f":"IF(OFFSET([1]DE100_7!$J$105,ROWS($J$105:J117)-1,COLUMNS($J$105:J117)-1)<>\"\",OFFSET([1]DE100_7!$J$105,ROWS($J$105:J117)-1,COLUMNS($J$105:J117)-1),\"\")","v":{"$error":"#VALUE!"}},{"$f":"IF(OFFSET([1]DE100_7!$K$105,ROWS($K$105:K117)-1,COLUMNS($K$105:K117)-1)<>\"\",OFFSET([1]DE100_7!$K$105,ROWS($K$105:K117)-1,COLUMNS($K$105:K117)-1),\"\")","v":{"$error":"#VALUE!"}},{"$f":"IF(OFFSET([1]DE100_7!$L$105,ROWS($L$105:L117)-1,COLUMNS($L$105:L117)-1)<>\"\",OFFSET([1]DE100_7!$L$105,ROWS($L$105:L117)-1,COLUMNS($L$105:L117)-1),\"\")","v":{"$error":"#VALUE!"}},{"$f":"IF(OFFSET([1]DE100_7!$M$105,ROWS($M$105:M117)-1,COLUMNS($M$105:M117)-1)<>\"\",OFFSET([1]DE100_7!$M$105,ROWS($M$105:M117)-1,COLUMNS($M$105:M117)-1),\"\")","v":{"$error":"#VALUE!"}},{"$f":"IF(OFFSET([1]DE100_7!$N$105,ROWS($N$105:N117)-1,COLUMNS($N$105:N117)-1)<>\"\",OFFSET([1]DE100_7!$N$105,ROWS($N$105:N117)-1,COLUMNS($N$105:N117)-1),\"\")","v":{"$error":"#VALUE!"}},{"$f":"IF(OFFSET([1]DE100_7!$O$105,ROWS($O$105:O117)-1,COLUMNS($O$105:O117)-1)<>\"\",OFFSET([1]DE100_7!$O$105,ROWS($O$105:O117)-1,COLUMNS($O$105:O117)-1),\"\")","v":{"$error":"#VALUE!"}},{"$f":"IF(OFFSET([1]DE100_7!$P$105,ROWS($P$105:P117)-1,COLUMNS($P$105:P117)-1)<>\"\",OFFSET([1]DE100_7!$P$105,ROWS($P$105:P117)-1,COLUMNS($P$105:P117)-1),\"\")","v":{"$error":"#VALUE!"}},{"$f":"IF(OFFSET([1]DE100_7!$Q$105,ROWS($Q$105:Q117)-1,COLUMNS($Q$105:Q117)-1)<>\"\",OFFSET([1]DE100_7!$Q$105,ROWS($Q$105:Q117)-1,COLUMNS($Q$105:Q117)-1),\"\")","v":{"$error":"#VALUE!"}},{"$f":"IF(OFFSET([1]DE100_7!$R$105,ROWS($R$105:R117)-1,COLUMNS($R$105:R117)-1)<>\"\",OFFSET([1]DE100_7!$R$105,ROWS($R$105:R117)-1,COLUMNS($R$105:R117)-1),\"\")","v":{"$error":"#VALUE!"}},{"$f":"IF(OFFSET([1]DE100_7!$S$105,ROWS($S$105:S117)-1,COLUMNS($S$105:S117)-1)<>\"\",OFFSET([1]DE100_7!$S$105,ROWS($S$105:S117)-1,COLUMNS($S$105:S117)-1),\"\")","v":{"$error":"#VALUE!"}},{"$f":"IF(OFFSET([1]DE100_7!$T$105,ROWS($T$105:T117)-1,COLUMNS($T$105:T117)-1)<>\"\",OFFSET([1]DE100_7!$T$105,ROWS($T$105:T117)-1,COLUMNS($T$105:T117)-1),\"\")","v":{"$error":"#VALUE!"}},{"$f":"IF(OFFSET([1]DE100_7!$U$105,ROWS($U$105:U117)-1,COLUMNS($U$105:U117)-1)<>\"\",OFFSET([1]DE100_7!$U$105,ROWS($U$105:U117)-1,COLUMNS($U$105:U117)-1),\"\")","v":{"$error":"#VALUE!"}},{"$f":"IF(OFFSET([1]DE100_7!$V$105,ROWS($V$105:V117)-1,COLUMNS($V$105:V117)-1)<>\"\",OFFSET([1]DE100_7!$V$105,ROWS($V$105:V117)-1,COLUMNS($V$105:V117)-1),\"\")","v":{"$error":"#VALUE!"}}]
[{"$f":"IF(OFFSET([1]DE100_7!$C$105,ROWS($C$105:C118)-1,COLUMNS($C$105:C118)-1)<>\"\",OFFSET([1]DE100_7!$C$105,ROWS($C$105:C118)-1,COLUMNS($C$105:C118)-1),\"\")","v":{"$error":"#VALUE!"}},{"$f":"IF(OFFSET([1]DE100_7!$D$105,ROWS($D$105:D118)-1,COLUMNS($D$105:D118)-1)<>\"\",OFFSET([1]DE100_7!$D$105,ROWS($D$105:D118)-1,COLUMNS($D$105:D118)-1),\"\")","v":{"$error":"#VALUE!"}},{"$f":"IF(OFFSET([1]DE100_7!$E$105,ROWS($E$105:E118)-1,COLUMNS($E$105:E118)-1)<>\"\",OFFSET([1]DE100_7!$E$105,ROWS($E$105:E118)-1,COLUMNS($E$105:E118)-1),\"\")","v":{"$error":"#VALUE!"}},{"$f":"IF(OFFSET([1]DE100_7!$F$105,ROWS($F$105:F118)-1,COLUMNS($F$105:F118)-1)<>\"\",OFFSET([1]DE100_7!$F$105,ROWS($F$105:F118)-1,COLUMNS($F$105:F118)-1),\"\")","v":{"$error":"#VALUE!"}},{"$f":"IF(OFFSET([1]DE100_7!$G$105,ROWS($G$105:G118)-1,COLUMNS($G$105:G118)-1)<>\"\",OFFSET([1]DE100_7!$G$105,ROWS($G$105:G118)-1,COLUMNS($G$105:G118)-1),\"\")","v":{"$error":"#VALUE!"}},{"$f":"IF(OFFSET([1]DE100_7!$H$105,ROWS($H$105:H118)-1,COLUMNS($H$105:H118)-1)<>\"\",OFFSET([1]DE100_7!$H$105,ROWS($H$105:H118)-1,COLUMNS($H$105:H118)-1),\"\")","v":{"$error":"#VALUE!"}},{"$f":"IF(OFFSET([1]DE100_7!$I$105,ROWS($I$105:I118)-1,COLUMNS($I$105:I118)-1)<>\"\",OFFSET([1]DE100_7!$I$105,ROWS($I$105:I118)-1,COLUMNS($I$105:I118)-1),\"\")","v":{"$error":"#VALUE!"}},{"$f":"IF(OFFSET([1]DE100_7!$J$105,ROWS($J$105:J118)-1,COLUMNS($J$105:J118)-1)<>\"\",OFFSET([1]DE100_7!$J$105,ROWS($J$105:J118)-1,COLUMNS($J$105:J118)-1),\"\")","v":{"$error":"#VALUE!"}},{"$f":"IF(OFFSET([1]DE100_7!$K$105,ROWS($K$105:K118)-1,COLUMNS($K$105:K118)-1)<>\"\",OFFSET([1]DE100_7!$K$105,ROWS($K$105:K118)-1,COLUMNS($K$105:K118)-1),\"\")","v":{"$error":"#VALUE!"}},{"$f":"IF(OFFSET([1]DE100_7!$L$105,ROWS($L$105:L118)-1,COLUMNS($L$105:L118)-1)<>\"\",OFFSET([1]DE100_7!$L$105,ROWS($L$105:L118)-1,COLUMNS($L$105:L118)-1),\"\")","v":{"$error":"#VALUE!"}},{"$f":"IF(OFFSET([1]DE100_7!$M$105,ROWS($M$105:M118)-1,COLUMNS($M$105:M118)-1)<>\"\",OFFSET([1]DE100_7!$M$105,ROWS($M$105:M118)-1,COLUMNS($M$105:M118)-1),\"\")","v":{"$error":"#VALUE!"}},{"$f":"IF(OFFSET([1]DE100_7!$N$105,ROWS($N$105:N118)-1,COLUMNS($N$105:N118)-1)<>\"\",OFFSET([1]DE100_7!$N$105,ROWS($N$105:N118)-1,COLUMNS($N$105:N118)-1),\"\")","v":{"$error":"#VALUE!"}},{"$f":"IF(OFFSET([1]DE100_7!$O$105,ROWS($O$105:O118)-1,COLUMNS($O$105:O118)-1)<>\"\",OFFSET([1]DE100_7!$O$105,ROWS($O$105:O118)-1,COLUMNS($O$105:O118)-1),\"\")","v":{"$error":"#VALUE!"}},{"$f":"IF(OFFSET([1]DE100_7!$P$105,ROWS($P$105:P118)-1,COLUMNS($P$105:P118)-1)<>\"\",OFFSET([1]DE100_7!$P$105,ROWS($P$105:P118)-1,COLUMNS($P$105:P118)-1),\"\")","v":{"$error":"#VALUE!"}},{"$f":"IF(OFFSET([1]DE100_7!$Q$105,ROWS($Q$105:Q118)-1,COLUMNS($Q$105:Q118)-1)<>\"\",OFFSET([1]DE100_7!$Q$105,ROWS($Q$105:Q118)-1,COLUMNS($Q$105:Q118)-1),\"\")","v":{"$error":"#VALUE!"}},{"$f":"IF(OFFSET([1]DE100_7!$R$105,ROWS($R$105:R118)-1,COLUMNS($R$105:R118)-1)<>\"\",OFFSET([1]DE100_7!$R$105,ROWS($R$105:R118)-1,COLUMNS($R$105:R118)-1),\"\")","v":{"$error":"#VALUE!"}},{"$f":"IF(OFFSET([1]DE100_7!$S$105,ROWS($S$105:S118)-1,COLUMNS($S$105:S118)-1)<>\"\",OFFSET([1]DE100_7!$S$105,ROWS($S$105:S118)-1,COLUMNS($S$105:S118)-1),\"\")","v":{"$error":"#VALUE!"}},{"$f":"IF(OFFSET([1]DE100_7!$T$105,ROWS($T$105:T118)-1,COLUMNS($T$105:T118)-1)<>\"\",OFFSET([1]DE100_7!$T$105,ROWS($T$105:T118)-1,COLUMNS($T$105:T118)-1),\"\")","v":{"$error":"#VALUE!"}},{"$f":"IF(OFFSET([1]DE100_7!$U$105,ROWS($U$105:U118)-1,COLUMNS($U$105:U118)-1)<>\"\",OFFSET([1]DE100_7!$U$105,ROWS($U$105:U118)-1,COLUMNS($U$105:U118)-1),\"\")","v":{"$error":"#VALUE!"}},{"$f":"IF(OFFSET([1]DE100_7!$V$105,ROWS($V$105:V118)-1,COLUMNS($V$105:V118)-1)<>\"\",OFFSET([1]DE100_7!$V$105,ROWS($V$105:V118)-1,COLUMNS($V$105:V118)-1),\"\")","v":{"$error":"#VALUE!"}}]
[{"$f":"IF(OFFSET([1]DE100_7!$C$105,ROWS($C$105:C119)-1,COLUMNS($C$105:C119)-1)<>\"\",OFFSET([1]DE100_7!$C$105,ROWS($C$105:C119)-1,COLUMNS($C$105:C119)-1),\"\")","v":{"$error":"#VALUE!"}},{"$f":"IF(OFFSET([1]DE100_7!$D$105,ROWS($D$105:D119)-1,COLUMNS($D$105:D119)-1)<>\"\",OFFSET([1]DE100_7!$D$105,ROWS($D$105:D119)-1,COLUMNS($D$105:D119)-1),\"\")","v":{"$error":"#VALUE!"}},{"$f":"IF(OFFSET([1]DE100_7!$E$105,ROWS($E$105:E119)-1,COLUMNS($E$105:E119)-1)<>\"\",OFFSET([1]DE100_7!$E$105,ROWS($E$105:E119)-1,COLUMNS($E$105:E119)-1),\"\")","v":{"$error":"#VALUE!"}},{"$f":"IF(OFFSET([1]DE100_7!$F$105,ROWS($F$105:F119)-1,COLUMNS($F$105:F119)-1)<>\"\",OFFSET([1]DE100_7!$F$105,ROWS($F$105:F119)-1,COLUMNS($F$105:F119)-1),\"\")","v":{"$error":"#VALUE!"}},{"$f":"IF(OFFSET([1]DE100_7!$G$105,ROWS($G$105:G119)-1,COLUMNS($G$105:G119)-1)<>\"\",OFFSET([1]DE100_7!$G$105,ROWS($G$105:G119)-1,COLUMNS($G$105:G119)-1),\"\")","v":{"$error":"#VALUE!"}},{"$f":"IF(OFFSET([1]DE100_7!$H$105,ROWS($H$105:H119)-1,COLUMNS($H$105:H119)-1)<>\"\",OFFSET([1]DE100_7!$H$105,ROWS($H$105:H119)-1,COLUMNS($H$105:H119)-1),\"\")","v":{"$error":"#VALUE!"}},{"$f":"IF(OFFSET([1]DE100_7!$I$105,ROWS($I$105:I119)-1,COLUMNS($I$105:I119)-1)<>\"\",OFFSET([1]DE100_7!$I$105,ROWS($I$105:I119)-1,COLUMNS($I$105:I119)-1),\"\")","v":{"$error":"#VALUE!"}},{"$f":"IF(OFFSET([1]DE100_7!$J$105,ROWS($J$105:J119)-1,COLUMNS($J$105:J119)-1)<>\"\",OFFSET([1]DE100_7!$J$105,ROWS($J$105:J119)-1,COLUMNS($J$105:J119)-1),\"\")","v":{"$error":"#VALUE!"}},{"$f":"IF(OFFSET([1]DE100_7!$K$105,ROWS($K$105:K119)-1,COLUMNS($K$105:K119)-1)<>\"\",OFFSET([1]DE100_7!$K$105,ROWS($K$105:K119)-1,COLUMNS($K$105:K119)-1),\"\")","v":{"$error":"#VALUE!"}},{"$f":"IF(OFFSET([1]DE100_7!$L$105,ROWS($L$105:L119)-1,COLUMNS($L$105:L119)-1)<>\"\",OFFSET([1]DE100_7!$L$105,ROWS($L$105:L119)-1,COLUMNS($L$105:L119)-1),\"\")","v":{"$error":"#VALUE!"}},{"$f":"IF(OFFSET([1]DE100_7!$M$105,ROWS($M$105:M119)-1,COLUMNS($M$105:M119)-1)<>\"\",OFFSET([1]DE100_7!$M$105,ROWS($M$105:M119)-1,COLUMNS($M$105:M119)-1),\"\")","v":{"$error":"#VALUE!"}},{"$f":"IF(OFFSET([1]DE100_7!$N$105,ROWS($N$105:N119)-1,COLUMNS($N$105:N119)-1)<>\"\",OFFSET([1]DE100_7!$N$105,ROWS($N$105:N119)-1,COLUMNS($N$105:N119)-1),\"\")","v":{"$error":"#VALUE!"}},{"$f":"IF(OFFSET([1]DE100_7!$O$105,ROWS($O$105:O119)-1,COLUMNS($O$105:O119)-1)<>\"\",OFFSET([1]DE100_7!$O$105,ROWS($O$105:O119)-1,COLUMNS($O$105:O119)-1),\"\")","v":{"$error":"#VALUE!"}},{"$f":"IF(OFFSET([1]DE100_7!$P$105,ROWS($P$105:P119)-1,COLUMNS($P$105:P119)-1)<>\"\",OFFSET([1]DE100_7!$P$105,ROWS($P$105:P119)-1,COLUMNS($P$105:P119)-1),\"\")","v":{"$error":"#VALUE!"}},{"$f":"IF(OFFSET([1]DE100_7!$Q$105,ROWS($Q$105:Q119)-1,COLUMNS($Q$105:Q119)-1)<>\"\",OFFSET([1]DE100_7!$Q$105,ROWS($Q$105:Q119)-1,COLUMNS($Q$105:Q119)-1),\"\")","v":{"$error":"#VALUE!"}},{"$f":"IF(OFFSET([1]DE100_7!$R$105,ROWS($R$105:R119)-1,COLUMNS($R$105:R119)-1)<>\"\",OFFSET([1]DE100_7!$R$105,ROWS($R$105:R119)-1,COLUMNS($R$105:R119)-1),\"\")","v":{"$error":"#VALUE!"}},{"$f":"IF(OFFSET([1]DE100_7!$S$105,ROWS($S$105:S119)-1,COLUMNS($S$105:S119)-1)<>\"\",OFFSET([1]DE100_7!$S$105,ROWS($S$105:S119)-1,COLUMNS($S$105:S119)-1),\"\")","v":{"$error":"#VALUE!"}},{"$f":"IF(OFFSET([1]DE100_7!$T$105,ROWS($T$105:T119)-1,COLUMNS($T$105:T119)-1)<>\"\",OFFSET([1]DE100_7!$T$105,ROWS($T$105:T119)-1,COLUMNS($T$105:T119)-1),\"\")","v":{"$error":"#VALUE!"}},{"$f":"IF(OFFSET([1]DE100_7!$U$105,ROWS($U$105:U119)-1,COLUMNS($U$105:U119)-1)<>\"\",OFFSET([1]DE100_7!$U$105,ROWS($U$105:U119)-1,COLUMNS($U$105:U119)-1),\"\")","v":{"$error":"#VALUE!"}},{"$f":"IF(OFFSET([1]DE100_7!$V$105,ROWS($V$105:V119)-1,COLUMNS($V$105:V119)-1)<>\"\",OFFSET([1]DE100_7!$V$105,ROWS($V$105:V119)-1,COLUMNS($V$105:V119)-1),\"\")","v":{"$error":"#VALUE!"}}]
[{"$f":"IF(OFFSET([1]DE100_7!$C$105,ROWS($C$105:C120)-1,COLUMNS($C$105:C120)-1)<>\"\",OFFSET([1]DE100_7!$C$105,ROWS($C$105:C120)-1,COLUMNS($C$105:C120)-1),\"\")","v":{"$error":"#VALUE!"}},{"$f":"IF(OFFSET([1]DE100_7!$D$105,ROWS($D$105:D120)-1,COLUMNS($D$105:D120)-1)<>\"\",OFFSET([1]DE100_7!$D$105,ROWS($D$105:D120)-1,COLUMNS($D$105:D120)-1),\"\")","v":{"$error":"#VALUE!"}},{"$f":"IF(OFFSET([1]DE100_7!$E$105,ROWS($E$105:E120)-1,COLUMNS($E$105:E120)-1)<>\"\",OFFSET([1]DE100_7!$E$105,ROWS($E$105:E120)-1,COLUMNS($E$105:E120)-1),\"\")","v":{"$error":"#VALUE!"}},{"$f":"IF(OFFSET([1]DE100_7!$F$105,ROWS($F$105:F120)-1,COLUMNS($F$105:F120)-1)<>\"\",OFFSET([1]DE100_7!$F$105,ROWS($F$105:F120)-1,COLUMNS($F$105:F120)-1),\"\")","v":{"$error":"#VALUE!"}},{"$f":"IF(OFFSET([1]DE100_7!$G$105,ROWS($G$105:G120)-1,COLUMNS($G$105:G120)-1)<>\"\",OFFSET([1]DE100_7!$G$105,ROWS($G$105:G120)-1,COLUMNS($G$105:G120)-1),\"\")","v":{"$error":"#VALUE!"}},{"$f":"IF(OFFSET([1]DE100_7!$H$105,ROWS($H$105:H120)-1,COLUMNS($H$105:H120)-1)<>\"\",OFFSET([1]DE100_7!$H$105,ROWS($H$105:H120)-1,COLUMNS($H$105:H120)-1),\"\")","v":{"$error":"#VALUE!"}},{"$f":"IF(OFFSET([1]DE100_7!$I$105,ROWS($I$105:I120)-1,COLUMNS($I$105:I120)-1)<>\"\",OFFSET([1]DE100_7!$I$105,ROWS($I$105:I120)-1,COLUMNS($I$105:I120)-1),\"\")","v":{"$error":"#VALUE!"}},{"$f":"IF(OFFSET([1]DE100_7!$J$105,ROWS($J$105:J120)-1,COLUMNS($J$105:J120)-1)<>\"\",OFFSET([1]DE100_7!$J$105,ROWS($J$105:J120)-1,COLUMNS($J$105:J120)-1),\"\")","v":{"$error":"#VALUE!"}},{"$f":"IF(OFFSET([1]DE100_7!$K$105,ROWS($K$105:K120)-1,COLUMNS($K$105:K120)-1)<>\"\",OFFSET([1]DE100_7!$K$105,ROWS($K$105:K120)-1,COLUMNS($K$105:K120)-1),\"\")","v":{"$error":"#VALUE!"}},{"$f":"IF(OFFSET([1]DE100_7!$L$105,ROWS($L$105:L120)-1,COLUMNS($L$105:L120)-1)<>\"\",OFFSET([1]DE100_7!$L$105,ROWS($L$105:L120)-1,COLUMNS($L$105:L120)-1),\"\")","v":{"$error":"#VALUE!"}},{"$f":"IF(OFFSET([1]DE100_7!$M$105,ROWS($M$105:M120)-1,COLUMNS($M$105:M120)-1)<>\"\",OFFSET([1]DE100_7!$M$105,ROWS($M$105:M120)-1,COLUMNS($M$105:M120)-1),\"\")","v":{"$error":"#VALUE!"}},{"$f":"IF(OFFSET([1]DE100_7!$N$105,ROWS($N$105:N120)-1,COLUMNS($N$105:N120)-1)<>\"\",OFFSET([1]DE100_7!$N$105,ROWS($N$105:N120)-1,COLUMNS($N$105:N120)-1),\"\")","v":{"$error":"#VALUE!"}},{"$f":"IF(OFFSET([1]DE100_7!$O$105,ROWS($O$105:O120)-1,COLUMNS($O$105:O120)-1)<>\"\",OFFSET([1]DE100_7!$O$105,ROWS($O$105:O120)-1,COLUMNS($O$105:O120)-1),\"\")","v":{"$error":"#VALUE!"}},{"$f":"IF(OFFSET([1]DE100_7!$P$105,ROWS($P$105:P120)-1,COLUMNS($P$105:P120)-1)<>\"\",OFFSET([1]DE100_7!$P$105,ROWS($P$105:P120)-1,COLUMNS($P$105:P120)-1),\"\")","v":{"$error":"#VALUE!"}},{"$f":"IF(OFFSET([1]DE100_7!$Q$105,ROWS($Q$105:Q120)-1,COLUMNS($Q$105:Q120)-1)<>\"\",OFFSET([1]DE100_7!$Q$105,ROWS($Q$105:Q120)-1,COLUMNS($Q$105:Q120)-1),\"\")","v":{"$error":"#VALUE!"}},{"$f":"IF(OFFSET([1]DE100_7!$R$105,ROWS($R$105:R120)-1,COLUMNS($R$105:R120)-1)<>\"\",OFFSET([1]DE100_7!$R$105,ROWS($R$105:R120)-1,COLUMNS($R$105:R120)-1),\"\")","v":{"$error":"#VALUE!"}},{"$f":"IF(OFFSET([1]DE100_7!$S$105,ROWS($S$105:S120)-1,COLUMNS($S$105:S120)-1)<>\"\",OFFSET([1]DE100_7!$S$105,ROWS($S$105:S120)-1,COLUMNS($S$105:S120)-1),\"\")","v":{"$error":"#VALUE!"}},{"$f":"IF(OFFSET([1]DE100_7!$T$105,ROWS($T$105:T120)-1,COLUMNS($T$105:T120)-1)<>\"\",OFFSET([1]DE100_7!$T$105,ROWS($T$105:T120)-1,COLUMNS($T$105:T120)-1),\"\")","v":{"$error":"#VALUE!"}},{"$f":"IF(OFFSET([1]DE100_7!$U$105,ROWS($U$105:U120)-1,COLUMNS($U$105:U120)-1)<>\"\",OFFSET([1]DE100_7!$U$105,ROWS($U$105:U120)-1,COLUMNS($U$105:U120)-1),\"\")","v":{"$error":"#VALUE!"}},{"$f":"IF(OFFSET([1]DE100_7!$V$105,ROWS($V$105:V120)-1,COLUMNS($V$105:V120)-1)<>\"\",OFFSET([1]DE100_7!$V$105,ROWS($V$105:V120)-1,COLUMNS($V$105:V120)-1),\"\")","v":{"$error":"#VALUE!"}}]
[{"$f":"IF(OFFSET([1]DE100_7!$C$105,ROWS($C$105:C121)-1,COLUMNS($C$105:C121)-1)<>\"\",OFFSET([1]DE100_7!$C$105,ROWS($C$105:C121)-1,COLUMNS($C$105:C121)-1),\"\")","v":{"$error":"#VALUE!"}},null,null,null,{"$f":"IF(OFFSET([1]DE100_7!$G$105,ROWS($G$105:G121)-1,COLUMNS($G$105:G121)-1)<>\"\",OFFSET([1]DE100_7!$G$105,ROWS($G$105:G121)-1,COLUMNS($G$105:G121)-1),\"\")","v":{"$error":"#VALUE!"}},{"$f":"IF(OFFSET([1]DE100_7!$H$105,ROWS($H$105:H121)-1,COLUMNS($H$105:H121)-1)<>\"\",OFFSET([1]DE100_7!$H$105,ROWS($H$105:H121)-1,COLUMNS($H$105:H121)-1),\"\")","v":{"$error":"#VALUE!"}},{"$f":"IF(OFFSET([1]DE100_7!$I$105,ROWS($I$105:I121)-1,COLUMNS($I$105:I121)-1)<>\"\",OFFSET([1]DE100_7!$I$105,ROWS($I$105:I121)-1,COLUMNS($I$105:I121)-1),\"\")","v":{"$error":"#VALUE!"}},{"$f":"IF(OFFSET([1]DE100_7!$J$105,ROWS($J$105:J121)-1,COLUMNS($J$105:J121)-1)<>\"\",OFFSET([1]DE100_7!$J$105,ROWS($J$105:J121)-1,COLUMNS($J$105:J121)-1),\"\")","v":{"$error":"#VALUE!"}},{"$f":"IF(OFFSET([1]DE100_7!$K$105,ROWS($K$105:K121)-1,COLUMNS($K$105:K121)-1)<>\"\",OFFSET([1]DE100_7!$K$105,ROWS($K$105:K121)-1,COLUMNS($K$105:K121)-1),\"\")","v":{"$error":"#VALUE!"}},{"$f":"IF(OFFSET([1]DE100_7!$L$105,ROWS($L$105:L121)-1,COLUMNS($L$105:L121)-1)<>\"\",OFFSET([1]DE100_7!$L$105,ROWS($L$105:L121)-1,COLUMNS($L$105:L121)-1),\"\")","v":{"$error":"#VALUE!"}},{"$f":"IF(OFFSET([1]DE100_7!$M$105,ROWS($M$105:M121)-1,COLUMNS($M$105:M121)-1)<>\"\",OFFSET([1]DE100_7!$M$105,ROWS($M$105:M121)-1,COLUMNS($M$105:M121)-1),\"\")","v":{"$error":"#VALUE!"}},{"$f":"IF(OFFSET([1]DE100_7!$N$105,ROWS($N$105:N121)-1,COLUMNS($N$105:N121)-1)<>\"\",OFFSET([1]DE100_7!$N$105,ROWS($N$105:N121)-1,COLUMNS($N$105:N121)-1),\"\")","v":{"$error":"#VALUE!"}},{"$f":"IF(OFFSET([1]DE100_7!$O$105,ROWS($O$105:O121)-1,COLUMNS($O$105:O121)-1)<>\"\",OFFSET([1]DE100_7!$O$105,ROWS($O$105:O121)-1,COLUMNS($O$105:O121)-1),\"\")","v":{"$error":"#VALUE!"}},{"$f":"IF(OFFSET([1]DE100_7!$P$105,ROWS($P$105:P121)-1,COLUMNS($P$105:P121)-1)<>\"\",OFFSET([1]DE100_7!$P$105,ROWS($P$105:P121)-1,COLUMNS($P$105:P121)-1),\"\")","v":{"$error":"#VALUE!"}},{"$f":"IF(OFFSET([1]DE100_7!$Q$105,ROWS($Q$105:Q121)-1,COLUMNS($Q$105:Q121)-1)<>\"\",OFFSET([1]DE100_7!$Q$105,ROWS($Q$105:Q121)-1,COLUMNS($Q$105:Q121)-1),\"\")","v":{"$error":"#VALUE!"}},{"$f":"IF(OFFSET([1]DE100_7!$R$105,ROWS($R$105:R121)-1,COLUMNS($R$105:R121)-1)<>\"\",OFFSET([1]DE100_7!$R$105,ROWS($R$105:R121)-1,COLUMNS($R$105:R121)-1),\"\")","v":{"$error":"#VALUE!"}},{"$f":"IF(OFFSET([1]DE100_7!$S$105,ROWS($S$105:S121)-1,COLUMNS($S$105:S121)-1)<>\"\",OFFSET([1]DE100_7!$S$105,ROWS($S$105:S121)-1,COLUMNS($S$105:S121)-1),\"\")","v":{"$error":"#VALUE!"}},{"$f":"IF(OFFSET([1]DE100_7!$T$105,ROWS($T$105:T121)-1,COLUMNS($T$105:T121)-1)<>\"\",OFFSET([1]DE100_7!$T$105,ROWS($T$105:T121)-1,COLUMNS($T$105:T121)-1),\"\")","v":{"$error":"#VALUE!"}},{"$f":"IF(OFFSET([1]DE100_7!$U$105,ROWS($U$105:U121)-1,COLUMNS($U$105:U121)-1)<>\"\",OFFSET([1]DE100_7!$U$105,ROWS($U$105:U121)-1,COLUMNS($U$105:U121)-1),\"\")","v":{"$error":"#VALUE!"}},{"$f":"IF(OFFSET([1]DE100_7!$V$105,ROWS($V$105:V121)-1,COLUMNS($V$105:V121)-1)<>\"\",OFFSET([1]DE100_7!$V$105,ROWS($V$105:V121)-1,COLUMNS($V$105:V121)-1),\"\")","v":{"$error":"#VALUE!"}}]
[{"$f":"IF(OFFSET([1]DE100_7!$C$105,ROWS($C$105:C122)-1,COLUMNS($C$105:C122)-1)<>\"\",OFFSET([1]DE100_7!$C$105,ROWS($C$105:C122)-1,COLUMNS($C$105:C122)-1),\"\")","v":{"$error":"#VALUE!"}},{"$f":"IF(OFFSET([1]DE100_7!$D$105,ROWS($D$105:D122)-1,COLUMNS($D$105:D122)-1)<>\"\",OFFSET([1]DE100_7!$D$105,ROWS($D$105:D122)-1,COLUMNS($D$105:D122)-1),\"\")","v":{"$error":"#VALUE!"}},{"$f":"IF(OFFSET([1]DE100_7!$E$105,ROWS($E$105:E122)-1,COLUMNS($E$105:E122)-1)<>\"\",OFFSET([1]DE100_7!$E$105,ROWS($E$105:E122)-1,COLUMNS($E$105:E122)-1),\"\")","v":{"$error":"#VALUE!"}},{"$f":"IF(OFFSET([1]DE100_7!$F$105,ROWS($F$105:F122)-1,COLUMNS($F$105:F122)-1)<>\"\",OFFSET([1]DE100_7!$F$105,ROWS($F$105:F122)-1,COLUMNS($F$105:F122)-1),\"\")","v":{"$error":"#VALUE!"}},{"$f":"IF(OFFSET([1]DE100_7!$G$105,ROWS($G$105:G122)-1,COLUMNS($G$105:G122)-1)<>\"\",OFFSET([1]DE100_7!$G$105,ROWS($G$105:G122)-1,COLUMNS($G$105:G122)-1),\"\")","v":{"$error":"#VALUE!"}},{"$f":"IF(OFFSET([1]DE100_7!$H$105,ROWS($H$105:H122)-1,COLUMNS($H$105:H122)-1)<>\"\",OFFSET([1]DE100_7!$H$105,ROWS($H$105:H122)-1,COLUMNS($H$105:H122)-1),\"\")","v":{"$error":"#VALUE!"}},{"$f":"IF(OFFSET([1]DE100_7!$I$105,ROWS($I$105:I122)-1,COLUMNS($I$105:I122)-1)<>\"\",OFFSET([1]DE100_7!$I$105,ROWS($I$105:I122)-1,COLUMNS($I$105:I122)-1),\"\")","v":{"$error":"#VALUE!"}},{"$f":"IF(OFFSET([1]DE100_7!$J$105,ROWS($J$105:J122)-1,COLUMNS($J$105:J122)-1)<>\"\",OFFSET([1]DE100_7!$J$105,ROWS($J$105:J122)-1,COLUMNS($J$105:J122)-1),\"\")","v":{"$error":"#VALUE!"}},{"$f":"IF(OFFSET([1]DE100_7!$K$105,ROWS($K$105:K122)-1,COLUMNS($K$105:K122)-1)<>\"\",OFFSET([1]DE100_7!$K$105,ROWS($K$105:K122)-1,COLUMNS($K$105:K122)-1),\"\")","v":{"$error":"#VALUE!"}},{"$f":"IF(OFFSET([1]DE100_7!$L$105,ROWS($L$105:L122)-1,COLUMNS($L$105:L122)-1)<>\"\",OFFSET([1]DE100_7!$L$105,ROWS($L$105:L122)-1,COLUMNS($L$105:L122)-1),\"\")","v":{"$error":"#VALUE!"}},{"$f":"IF(OFFSET([1]DE100_7!$M$105,ROWS($M$105:M122)-1,COLUMNS($M$105:M122)-1)<>\"\",OFFSET([1]DE100_7!$M$105,ROWS($M$105:M122)-1,COLUMNS($M$105:M122)-1),\"\")","v":{"$error":"#VALUE!"}},{"$f":"IF(OFFSET([1]DE100_7!$N$105,ROWS($N$105:N122)-1,COLUMNS($N$105:N122)-1)<>\"\",OFFSET([1]DE100_7!$N$105,ROWS($N$105:N122)-1,COLUMNS($N$105:N122)-1),\"\")","v":{"$error":"#VALUE!"}},{"$f":"IF(OFFSET([1]DE100_7!$O$105,ROWS($O$105:O122)-1,COLUMNS($O$105:O122)-1)<>\"\",OFFSET([1]DE100_7!$O$105,ROWS($O$105:O122)-1,COLUMNS($O$105:O122)-1),\"\")","v":{"$error":"#VALUE!"}},{"$f":"IF(OFFSET([1]DE100_7!$P$105,ROWS($P$105:P122)-1,COLUMNS($P$105:P122)-1)<>\"\",OFFSET([1]DE100_7!$P$105,ROWS($P$105:P122)-1,COLUMNS($P$105:P122)-1),\"\")","v":{"$error":"#VALUE!"}},{"$f":"IF(OFFSET([1]DE100_7!$Q$105,ROWS($Q$105:Q122)-1,COLUMNS($Q$105:Q122)-1)<>\"\",OFFSET([1]DE100_7!$Q$105,ROWS($Q$105:Q122)-1,COLUMNS($Q$105:Q122)-1),\"\")","v":{"$error":"#VALUE!"}},{"$f":"IF(OFFSET([1]DE100_7!$R$105,ROWS($R$105:R122)-1,COLUMNS($R$105:R122)-1)<>\"\",OFFSET([1]DE100_7!$R$105,ROWS($R$105:R122)-1,COLUMNS($R$105:R122)-1),\"\")","v":{"$error":"#VALUE!"}},{"$f":"IF(OFFSET([1]DE100_7!$S$105,ROWS($S$105:S122)-1,COLUMNS($S$105:S122)-1)<>\"\",OFFSET([1]DE100_7!$S$105,ROWS($S$105:S122)-1,COLUMNS($S$105:S122)-1),\"\")","v":{"$error":"#VALUE!"}},{"$f":"IF(OFFSET([1]DE100_7!$T$105,ROWS($T$105:T122)-1,COLUMNS($T$105:T122)-1)<>\"\",OFFSET([1]DE100_7!$T$105,ROWS($T$105:T122)-1,COLUMNS($T$105:T122)-1),\"\")","v":{"$error":"#VALUE!"}},{"$f":"IF(OFFSET([1]DE100_7!$U$105,ROWS($U$105:U122)-1,COLUMNS($U$105:U122)-1)<>\"\",OFFSET([1]DE100_7!$U$105,ROWS($U$105:U122)-1,COLUMNS($U$105:U122)-1),\"\")","v":{"$error":"#VALUE!"}},{"$f":"IF(OFFSET([1]DE100_7!$V$105,ROWS($V$105:V122)-1,COLUMNS($V$105:V122)-1)<>\"\",OFFSET([1]DE100_7!$V$105,ROWS($V$105:V122)-1,COLUMNS($V$105:V122)-1),\"\")","v":{"$error":"#VALUE!"}}]
[{"$f":"IF(OFFSET([1]DE100_7!$C$105,ROWS($C$105:C123)-1,COLUMNS($C$105:C123)-1)<>\"\",OFFSET([1]DE100_7!$C$105,ROWS($C$105:C123)-1,COLUMNS($C$105:C123)-1),\"\")","v":{"$error":"#VALUE!"}},{"$f":"IF(OFFSET([1]DE100_7!$D$105,ROWS($D$105:D123)-1,COLUMNS($D$105:D123)-1)<>\"\",OFFSET([1]DE100_7!$D$105,ROWS($D$105:D123)-1,COLUMNS($D$105:D123)-1),\"\")","v":{"$error":"#VALUE!"}},{"$f":"IF(OFFSET([1]DE100_7!$E$105,ROWS($E$105:E123)-1,COLUMNS($E$105:E123)-1)<>\"\",OFFSET([1]DE100_7!$E$105,ROWS($E$105:E123)-1,COLUMNS($E$105:E123)-1),\"\")","v":{"$error":"#VALUE!"}},{"$f":"IF(OFFSET([1]DE100_7!$F$105,ROWS($F$105:F123)-1,COLUMNS($F$105:F123)-1)<>\"\",OFFSET([1]DE100_7!$F$105,ROWS($F$105:F123)-1,COLUMNS($F$105:F123)-1),\"\")","v":{"$error":"#VALUE!"}},{"$f":"IF(OFFSET([1]DE100_7!$G$105,ROWS($G$105:G123)-1,COLUMNS($G$105:G123)-1)<>\"\",OFFSET([1]DE100_7!$G$105,ROWS($G$105:G123)-1,COLUMNS($G$105:G123)-1),\"\")","v":{"$error":"#VALUE!"}},{"$f":"IF(OFFSET([1]DE100_7!$H$105,ROWS($H$105:H123)-1,COLUMNS($H$105:H123)-1)<>\"\",OFFSET([1]DE100_7!$H$105,ROWS($H$105:H123)-1,COLUMNS($H$105:H123)-1),\"\")","v":{"$error":"#VALUE!"}},{"$f":"IF(OFFSET([1]DE100_7!$I$105,ROWS($I$105:I123)-1,COLUMNS($I$105:I123)-1)<>\"\",OFFSET([1]DE100_7!$I$105,ROWS($I$105:I123)-1,COLUMNS($I$105:I123)-1),\"\")","v":{"$error":"#VALUE!"}},{"$f":"IF(OFFSET([1]DE100_7!$J$105,ROWS($J$105:J123)-1,COLUMNS($J$105:J123)-1)<>\"\",OFFSET([1]DE100_7!$J$105,ROWS($J$105:J123)-1,COLUMNS($J$105:J123)-1),\"\")","v":{"$error":"#VALUE!"}},{"$f":"IF(OFFSET([1]DE100_7!$K$105,ROWS($K$105:K123)-1,COLUMNS($K$105:K123)-1)<>\"\",OFFSET([1]DE100_7!$K$105,ROWS($K$105:K123)-1,COLUMNS($K$105:K123)-1),\"\")","v":{"$error":"#VALUE!"}},{"$f":"IF(OFFSET([1]DE100_7!$L$105,ROWS($L$105:L123)-1,COLUMNS($L$105:L123)-1)<>\"\",OFFSET([1]DE100_7!$L$105,ROWS($L$105:L123)-1,COLUMNS($L$105:L123)-1),\"\")","v":{"$error":"#VALUE!"}},{"$f":"IF(OFFSET([1]DE100_7!$M$105,ROWS($M$105:M123)-1,COLUMNS($M$105:M123)-1)<>\"\",OFFSET([1]DE100_7!$M$105,ROWS($M$105:M123)-1,COLUMNS($M$105:M123)-1),\"\")","v":{"$error":"#VALUE!"}},{"$f":"IF(OFFSET([1]DE100_7!$N$105,ROWS($N$105:N123)-1,COLUMNS($N$105:N123)-1)<>\"\",OFFSET([1]DE100_7!$N$105,ROWS($N$105:N123)-1,COLUMNS($N$105:N123)-1),\"\")","v":{"$error":"#VALUE!"}},{"$f":"IF(OFFSET([1]DE100_7!$O$105,ROWS($O$105:O123)-1,COLUMNS($O$105:O123)-1)<>\"\",OFFSET([1]DE100_7!$O$105,ROWS($O$105:O123)-1,COLUMNS($O$105:O123)-1),\"\")","v":{"$error":"#VALUE!"}},{"$f":"IF(OFFSET([1]DE100_7!$P$105,ROWS($P$105:P123)-1,COLUMNS($P$105:P123)-1)<>\"\",OFFSET([1]DE100_7!$P$105,ROWS($P$105:P123)-1,COLUMNS($P$105:P123)-1),\"\")","v":{"$error":"#VALUE!"}},{"$f":"IF(OFFSET([1]DE100_7!$Q$105,ROWS($Q$105:Q123)-1,COLUMNS($Q$105:Q123)-1)<>\"\",OFFSET([1]DE100_7!$Q$105,ROWS($Q$105:Q123)-1,COLUMNS($Q$105:Q123)-1),\"\")","v":{"$error":"#VALUE!"}},{"$f":"IF(OFFSET([1]DE100_7!$R$105,ROWS($R$105:R123)-1,COLUMNS($R$105:R123)-1)<>\"\",OFFSET([1]DE100_7!$R$105,ROWS($R$105:R123)-1,COLUMNS($R$105:R123)-1),\"\")","v":{"$error":"#VALUE!"}},{"$f":"IF(OFFSET([1]DE100_7!$S$105,ROWS($S$105:S123)-1,COLUMNS($S$105:S123)-1)<>\"\",OFFSET([1]DE100_7!$S$105,ROWS($S$105:S123)-1,COLUMNS($S$105:S123)-1),\"\")","v":{"$error":"#VALUE!"}},{"$f":"IF(OFFSET([1]DE100_7!$T$105,ROWS($T$105:T123)-1,COLUMNS($T$105:T123)-1)<>\"\",OFFSET([1]DE100_7!$T$105,ROWS($T$105:T123)-1,COLUMNS($T$105:T123)-1),\"\")","v":{"$error":"#VALUE!"}},{"$f":"IF(OFFSET([1]DE100_7!$U$105,ROWS($U$105:U123)-1,COLUMNS($U$105:U123)-1)<>\"\",OFFSET([1]DE100_7!$U$105,ROWS($U$105:U123)-1,COLUMNS($U$105:U123)-1),\"\")","v":{"$error":"#VALUE!"}},{"$f":"IF(OFFSET([1]DE100_7!$V$105,ROWS($V$105:V123)-1,COLUMNS($V$105:V123)-1)<>\"\",OFFSET([1]DE100_7!$V$105,ROWS($V$105:V123)-1,COLUMNS($V$105:V123)-1),\"\")","v":{"$error":"#VALUE!"}}]
[{"$f":"IF(OFFSET([1]DE100_7!$C$105,ROWS($C$105:C124)-1,COLUMNS($C$105:C124)-1)<>\"\",OFFSET([1]DE100_7!$C$105,ROWS($C$105:C124)-1,COLUMNS($C$105:C124)-1),\"\")","v":{"$error":"#VALUE!"}},{"$f":"IF(OFFSET([1]DE100_7!$D$105,ROWS($D$105:D124)-1,COLUMNS($D$105:D124)-1)<>\"\",OFFSET([1]DE100_7!$D$105,ROWS($D$105:D124)-1,COLUMNS($D$105:D124)-1),\"\")","v":{"$error":"#VALUE!"}},{"$f":"IF(OFFSET([1]DE100_7!$E$105,ROWS($E$105:E124)-1,COLUMNS($E$105:E124)-1)<>\"\",OFFSET([1]DE100_7!$E$105,ROWS($E$105:E124)-1,COLUMNS($E$105:E124)-1),\"\")","v":{"$error":"#VALUE!"}},{"$f":"IF(OFFSET([1]DE100_7!$F$105,ROWS($F$105:F124)-1,COLUMNS($F$105:F124)-1)<>\"\",OFFSET([1]DE100_7!$F$105,ROWS($F$105:F124)-1,COLUMNS($F$105:F124)-1),\"\")","v":{"$error":"#VALUE!"}},{"$f":"IF(OFFSET([1]DE100_7!$G$105,ROWS($G$105:G124)-1,COLUMNS($G$105:G124)-1)<>\"\",OFFSET([1]DE100_7!$G$105,ROWS($G$105:G124)-1,COLUMNS($G$105:G124)-1),\"\")","v":{"$error":"#VALUE!"}},{"$f":"IF(OFFSET([1]DE100_7!$H$105,ROWS($H$105:H124)-1,COLUMNS($H$105:H124)-1)<>\"\",OFFSET([1]DE100_7!$H$105,ROWS($H$105:H124)-1,COLUMNS($H$105:H124)-1),\"\")","v":{"$error":"#VALUE!"}},{"$f":"IF(OFFSET([1]DE100_7!$I$105,ROWS($I$105:I124)-1,COLUMNS($I$105:I124)-1)<>\"\",OFFSET([1]DE100_7!$I$105,ROWS($I$105:I124)-1,COLUMNS($I$105:I124)-1),\"\")","v":{"$error":"#VALUE!"}},{"$f":"IF(OFFSET([1]DE100_7!$J$105,ROWS($J$105:J124)-1,COLUMNS($J$105:J124)-1)<>\"\",OFFSET([1]DE100_7!$J$105,ROWS($J$105:J124)-1,COLUMNS($J$105:J124)-1),\"\")","v":{"$error":"#VALUE!"}},{"$f":"IF(OFFSET([1]DE100_7!$K$105,ROWS($K$105:K124)-1,COLUMNS($K$105:K124)-1)<>\"\",OFFSET([1]DE100_7!$K$105,ROWS($K$105:K124)-1,COLUMNS($K$105:K124)-1),\"\")","v":{"$error":"#VALUE!"}},{"$f":"IF(OFFSET([1]DE100_7!$L$105,ROWS($L$105:L124)-1,COLUMNS($L$105:L124)-1)<>\"\",OFFSET([1]DE100_7!$L$105,ROWS($L$105:L124)-1,COLUMNS($L$105:L124)-1),\"\")","v":{"$error":"#VALUE!"}},{"$f":"IF(OFFSET([1]DE100_7!$M$105,ROWS($M$105:M124)-1,COLUMNS($M$105:M124)-1)<>\"\",OFFSET([1]DE100_7!$M$105,ROWS($M$105:M124)-1,COLUMNS($M$105:M124)-1),\"\")","v":{"$error":"#VALUE!"}},{"$f":"IF(OFFSET([1]DE100_7!$N$105,ROWS($N$105:N124)-1,COLUMNS($N$105:N124)-1)<>\"\",OFFSET([1]DE100_7!$N$105,ROWS($N$105:N124)-1,COLUMNS($N$105:N124)-1),\"\")","v":{"$error":"#VALUE!"}},{"$f":"IF(OFFSET([1]DE100_7!$O$105,ROWS($O$105:O124)-1,COLUMNS($O$105:O124)-1)<>\"\",OFFSET([1]DE100_7!$O$105,ROWS($O$105:O124)-1,COLUMNS($O$105:O124)-1),\"\")","v":{"$error":"#VALUE!"}},{"$f":"IF(OFFSET([1]DE100_7!$P$105,ROWS($P$105:P124)-1,COLUMNS($P$105:P124)-1)<>\"\",OFFSET([1]DE100_7!$P$105,ROWS($P$105:P124)-1,COLUMNS($P$105:P124)-1),\"\")","v":{"$error":"#VALUE!"}},{"$f":"IF(OFFSET([1]DE100_7!$Q$105,ROWS($Q$105:Q124)-1,COLUMNS($Q$105:Q124)-1)<>\"\",OFFSET([1]DE100_7!$Q$105,ROWS($Q$105:Q124)-1,COLUMNS($Q$105:Q124)-1),\"\")","v":{"$error":"#VALUE!"}},{"$f":"IF(OFFSET([1]DE100_7!$R$105,ROWS($R$105:R124)-1,COLUMNS($R$105:R124)-1)<>\"\",OFFSET([1]DE100_7!$R$105,ROWS($R$105:R124)-1,COLUMNS($R$105:R124)-1),\"\")","v":{"$error":"#VALUE!"}},{"$f":"IF(OFFSET([1]DE100_7!$S$105,ROWS($S$105:S124)-1,COLUMNS($S$105:S124)-1)<>\"\",OFFSET([1]DE100_7!$S$105,ROWS($S$105:S124)-1,COLUMNS($S$105:S124)-1),\"\")","v":{"$error":"#VALUE!"}},{"$f":"IF(OFFSET([1]DE100_7!$T$105,ROWS($T$105:T124)-1,COLUMNS($T$105:T124)-1)<>\"\",OFFSET([1]DE100_7!$T$105,ROWS($T$105:T124)-1,COLUMNS($T$105:T124)-1),\"\")","v":{"$error":"#VALUE!"}},{"$f":"IF(OFFSET([1]DE100_7!$U$105,ROWS($U$105:U124)-1,COLUMNS($U$105:U124)-1)<>\"\",OFFSET([1]DE100_7!$U$105,ROWS($U$105:U124)-1,COLUMNS($U$105:U124)-1),\"\")","v":{"$error":"#VALUE!"}},{"$f":"IF(OFFSET([1]DE100_7!$V$105,ROWS($V$105:V124)-1,COLUMNS($V$105:V124)-1)<>\"\",OFFSET([1]DE100_7!$V$105,ROWS($V$105:V124)-1,COLUMNS($V$105:V124)-1),\"\")","v":{"$error":"#VALUE!"}}]
[{"$f":"IF(OFFSET([1]DE100_7!$C$105,ROWS($C$105:C125)-1,COLUMNS($C$105:C125)-1)<>\"\",OFFSET([1]DE100_7!$C$105,ROWS($C$105:C125)-1,COLUMNS($C$105:C125)-1),\"\")","v":{"$error":"#VALUE!"}},{"$f":"IF(OFFSET([1]DE100_7!$D$105,ROWS($D$105:D125)-1,COLUMNS($D$105:D125)-1)<>\"\",OFFSET([1]DE100_7!$D$105,ROWS($D$105:D125)-1,COLUMNS($D$105:D125)-1),\"\")","v":{"$error":"#VALUE!"}},{"$f":"IF(OFFSET([1]DE100_7!$E$105,ROWS($E$105:E125)-1,COLUMNS($E$105:E125)-1)<>\"\",OFFSET([1]DE100_7!$E$105,ROWS($E$105:E125)-1,COLUMNS($E$105:E125)-1),\"\")","v":{"$error":"#VALUE!"}},{"$f":"IF(OFFSET([1]DE100_7!$F$105,ROWS($F$105:F125)-1,COLUMNS($F$105:F125)-1)<>\"\",OFFSET([1]DE100_7!$F$105,ROWS($F$105:F125)-1,COLUMNS($F$105:F125)-1),\"\")","v":{"$error":"#VALUE!"}},{"$f":"IF(OFFSET([1]DE100_7!$G$105,ROWS($G$105:G125)-1,COLUMNS($G$105:G125)-1)<>\"\",OFFSET([1]DE100_7!$G$105,ROWS($G$105:G125)-1,COLUMNS($G$105:G125)-1),\"\")","v":{"$error":"#VALUE!"}},{"$f":"IF(OFFSET([1]DE100_7!$H$105,ROWS($H$105:H125)-1,COLUMNS($H$105:H125)-1)<>\"\",OFFSET([1]DE100_7!$H$105,ROWS($H$105:H125)-1,COLUMNS($H$105:H125)-1),\"\")","v":{"$error":"#VALUE!"}},{"$f":"IF(OFFSET([1]DE100_7!$I$105,ROWS($I$105:I125)-1,COLUMNS($I$105:I125)-1)<>\"\",OFFSET([1]DE100_7!$I$105,ROWS($I$105:I125)-1,COLUMNS($I$105:I125)-1),\"\")","v":{"$error":"#VALUE!"}},{"$f":"IF(OFFSET([1]DE100_7!$J$105,ROWS($J$105:J125)-1,COLUMNS($J$105:J125)-1)<>\"\",OFFSET([1]DE100_7!$J$105,ROWS($J$105:J125)-1,COLUMNS($J$105:J125)-1),\"\")","v":{"$error":"#VALUE!"}},{"$f":"IF(OFFSET([1]DE100_7!$K$105,ROWS($K$105:K125)-1,COLUMNS($K$105:K125)-1)<>\"\",OFFSET([1]DE100_7!$K$105,ROWS($K$105:K125)-1,COLUMNS($K$105:K125)-1),\"\")","v":{"$error":"#VALUE!"}},{"$f":"IF(OFFSET([1]DE100_7!$L$105,ROWS($L$105:L125)-1,COLUMNS($L$105:L125)-1)<>\"\",OFFSET([1]DE100_7!$L$105,ROWS($L$105:L125)-1,COLUMNS($L$105:L125)-1),\"\")","v":{"$error":"#VALUE!"}},{"$f":"IF(OFFSET([1]DE100_7!$M$105,ROWS($M$105:M125)-1,COLUMNS($M$105:M125)-1)<>\"\",OFFSET([1]DE100_7!$M$105,ROWS($M$105:M125)-1,COLUMNS($M$105:M125)-1),\"\")","v":{"$error":"#VALUE!"}},{"$f":"IF(OFFSET([1]DE100_7!$N$105,ROWS($N$105:N125)-1,COLUMNS($N$105:N125)-1)<>\"\",OFFSET([1]DE100_7!$N$105,ROWS($N$105:N125)-1,COLUMNS($N$105:N125)-1),\"\")","v":{"$error":"#VALUE!"}},{"$f":"IF(OFFSET([1]DE100_7!$O$105,ROWS($O$105:O125)-1,COLUMNS($O$105:O125)-1)<>\"\",OFFSET([1]DE100_7!$O$105,ROWS($O$105:O125)-1,COLUMNS($O$105:O125)-1),\"\")","v":{"$error":"#VALUE!"}},{"$f":"IF(OFFSET([1]DE100_7!$P$105,ROWS($P$105:P125)-1,COLUMNS($P$105:P125)-1)<>\"\",OFFSET([1]DE100_7!$P$105,ROWS($P$105:P125)-1,COLUMNS($P$105:P125)-1),\"\")","v":{"$error":"#VALUE!"}},{"$f":"IF(OFFSET([1]DE100_7!$Q$105,ROWS($Q$105:Q125)-1,COLUMNS($Q$105:Q125)-1)<>\"\",OFFSET([1]DE100_7!$Q$105,ROWS($Q$105:Q125)-1,COLUMNS($Q$105:Q125)-1),\"\")","v":{"$error":"#VALUE!"}},{"$f":"IF(OFFSET([1]DE100_7!$R$105,ROWS($R$105:R125)-1,COLUMNS($R$105:R125)-1)<>\"\",OFFSET([1]DE100_7!$R$105,ROWS($R$105:R125)-1,COLUMNS($R$105:R125)-1),\"\")","v":{"$error":"#VALUE!"}},{"$f":"IF(OFFSET([1]DE100_7!$S$105,ROWS($S$105:S125)-1,COLUMNS($S$105:S125)-1)<>\"\",OFFSET([1]DE100_7!$S$105,ROWS($S$105:S125)-1,COLUMNS($S$105:S125)-1),\"\")","v":{"$error":"#VALUE!"}},{"$f":"IF(OFFSET([1]DE100_7!$T$105,ROWS($T$105:T125)-1,COLUMNS($T$105:T125)-1)<>\"\",OFFSET([1]DE100_7!$T$105,ROWS($T$105:T125)-1,COLUMNS($T$105:T125)-1),\"\")","v":{"$error":"#VALUE!"}},{"$f":"IF(OFFSET([1]DE100_7!$U$105,ROWS($U$105:U125)-1,COLUMNS($U$105:U125)-1)<>\"\",OFFSET([1]DE100_7!$U$105,ROWS($U$105:U125)-1,COLUMNS($U$105:U125)-1),\"\")","v":{"$error":"#VALUE!"}},{"$f":"IF(OFFSET([1]DE100_7!$V$105,ROWS($V$105:V125)-1,COLUMNS($V$105:V125)-1)<>\"\",OFFSET([1]DE100_7!$V$105,ROWS($V$105:V125)-1,COLUMNS($V$105:V125)-1),\"\")","v":{"$error":"#VALUE!"}}]
[{"$f":"IF(OFFSET([1]DE100_7!$C$105,ROWS($C$105:C126)-1,COLUMNS($C$105:C126)-1)<>\"\",OFFSET([1]DE100_7!$C$105,ROWS($C$105:C126)-1,COLUMNS($C$105:C126)-1),\"\")","v":{"$error":"#VALUE!"}},null,null,null,{"$f":"IF(OFFSET([1]DE100_7!$G$105,ROWS($G$105:G126)-1,COLUMNS($G$105:G126)-1)<>\"\",OFFSET([1]DE100_7!$G$105,ROWS($G$105:G126)-1,COLUMNS($G$105:G126)-1),\"\")","v":{"$error":"#VALUE!"}},{"$f":"IF(OFFSET([1]DE100_7!$H$105,ROWS($H$105:H126)-1,COLUMNS($H$105:H126)-1)<>\"\",OFFSET([1]DE100_7!$H$105,ROWS($H$105:H126)-1,COLUMNS($H$105:H126)-1),\"\")","v":{"$error":"#VALUE!"}},{"$f":"IF(OFFSET([1]DE100_7!$I$105,ROWS($I$105:I126)-1,COLUMNS($I$105:I126)-1)<>\"\",OFFSET([1]DE100_7!$I$105,ROWS($I$105:I126)-1,COLUMNS($I$105:I126)-1),\"\")","v":{"$error":"#VALUE!"}},{"$f":"IF(OFFSET([1]DE100_7!$J$105,ROWS($J$105:J126)-1,COLUMNS($J$105:J126)-1)<>\"\",OFFSET([1]DE100_7!$J$105,ROWS($J$105:J126)-1,COLUMNS($J$105:J126)-1),\"\")","v":{"$error":"#VALUE!"}},{"$f":"IF(OFFSET([1]DE100_7!$K$105,ROWS($K$105:K126)-1,COLUMNS($K$105:K126)-1)<>\"\",OFFSET([1]DE100_7!$K$105,ROWS($K$105:K126)-1,COLUMNS($K$105:K126)-1),\"\")","v":{"$error":"#VALUE!"}},{"$f":"IF(OFFSET([1]DE100_7!$L$105,ROWS($L$105:L126)-1,COLUMNS($L$105:L126)-1)<>\"\",OFFSET([1]DE100_7!$L$105,ROWS($L$105:L126)-1,COLUMNS($L$105:L126)-1),\"\")","v":{"$error":"#VALUE!"}},{"$f":"IF(OFFSET([1]DE100_7!$M$105,ROWS($M$105:M126)-1,COLUMNS($M$105:M126)-1)<>\"\",OFFSET([1]DE100_7!$M$105,ROWS($M$105:M126)-1,COLUMNS($M$105:M126)-1),\"\")","v":{"$error":"#VALUE!"}},{"$f":"IF(OFFSET([1]DE100_7!$N$105,ROWS($N$105:N126)-1,COLUMNS($N$105:N126)-1)<>\"\",OFFSET([1]DE100_7!$N$105,ROWS($N$105:N126)-1,COLUMNS($N$105:N126)-1),\"\")","v":{"$error":"#VALUE!"}},{"$f":"IF(OFFSET([1]DE100_7!$O$105,ROWS($O$105:O126)-1,COLUMNS($O$105:O126)-1)<>\"\",OFFSET([1]DE100_7!$O$105,ROWS($O$105:O126)-1,COLUMNS($O$105:O126)-1),\"\")","v":{"$error":"#VALUE!"}},{"$f":"IF(OFFSET([1]DE100_7!$P$105,ROWS($P$105:P126)-1,COLUMNS($P$105:P126)-1)<>\"\",OFFSET([1]DE100_7!$P$105,ROWS($P$105:P126)-1,COLUMNS($P$105:P126)-1),\"\")","v":{"$error":"#VALUE!"}},{"$f":"IF(OFFSET([1]DE100_7!$Q$105,ROWS($Q$105:Q126)-1,COLUMNS($Q$105:Q126)-1)<>\"\",OFFSET([1]DE100_7!$Q$105,ROWS($Q$105:Q126)-1,COLUMNS($Q$105:Q126)-1),\"\")","v":{"$error":"#VALUE!"}},{"$f":"IF(OFFSET([1]DE100_7!$R$105,ROWS($R$105:R126)-1,COLUMNS($R$105:R126)-1)<>\"\",OFFSET([1]DE100_7!$R$105,ROWS($R$105:R126)-1,COLUMNS($R$105:R126)-1),\"\")","v":{"$error":"#VALUE!"}},{"$f":"IF(OFFSET([1]DE100_7!$S$105,ROWS($S$105:S126)-1,COLUMNS($S$105:S126)-1)<>\"\",OFFSET([1]DE100_7!$S$105,ROWS($S$105:S126)-1,COLUMNS($S$105:S126)-1),\"\")","v":{"$error":"#VALUE!"}},{"$f":"IF(OFFSET([1]DE100_7!$T$105,ROWS($T$105:T126)-1,COLUMNS($T$105:T126)-1)<>\"\",OFFSET([1]DE100_7!$T$105,ROWS($T$105:T126)-1,COLUMNS($T$105:T126)-1),\"\")","v":{"$error":"#VALUE!"}},{"$f":"IF(OFFSET([1]DE100_7!$U$105,ROWS($U$105:U126)-1,COLUMNS($U$105:U126)-1)<>\"\",OFFSET([1]DE100_7!$U$105,ROWS($U$105:U126)-1,COLUMNS($U$105:U126)-1),\"\")","v":{"$error":"#VALUE!"}},{"$f":"IF(OFFSET([1]DE100_7!$V$105,ROWS($V$105:V126)-1,COLUMNS($V$105:V126)-1)<>\"\",OFFSET([1]DE100_7!$V$105,ROWS($V$105:V126)-1,COLUMNS($V$105:V126)-1),\"\")","v":{"$error":"#VALUE!"}}]
[{"$f":"IF(OFFSET([1]DE100_7!$C$105,ROWS($C$105:C127)-1,COLUMNS($C$105:C127)-1)<>\"\",OFFSET([1]DE100_7!$C$105,ROWS($C$105:C127)-1,COLUMNS($C$105:C127)-1),\"\")","v":{"$error":"#VALUE!"}},{"$f":"IF(OFFSET([1]DE100_7!$D$105,ROWS($D$105:D127)-1,COLUMNS($D$105:D127)-1)<>\"\",OFFSET([1]DE100_7!$D$105,ROWS($D$105:D127)-1,COLUMNS($D$105:D127)-1),\"\")","v":{"$error":"#VALUE!"}},{"$f":"IF(OFFSET([1]DE100_7!$E$105,ROWS($E$105:E127)-1,COLUMNS($E$105:E127)-1)<>\"\",OFFSET([1]DE100_7!$E$105,ROWS($E$105:E127)-1,COLUMNS($E$105:E127)-1),\"\")","v":{"$error":"#VALUE!"}},{"$f":"IF(OFFSET([1]DE100_7!$F$105,ROWS($F$105:F127)-1,COLUMNS($F$105:F127)-1)<>\"\",OFFSET([1]DE100_7!$F$105,ROWS($F$105:F127)-1,COLUMNS($F$105:F127)-1),\"\")","v":{"$error":"#VALUE!"}},{"$f":"IF(OFFSET([1]DE100_7!$G$105,ROWS($G$105:G127)-1,COLUMNS($G$105:G127)-1)<>\"\",OFFSET([1]DE100_7!$G$105,ROWS($G$105:G127)-1,COLUMNS($G$105:G127)-1),\"\")","v":{"$error":"#VALUE!"}},{"$f":"IF(OFFSET([1]DE100_7!$H$105,ROWS($H$105:H127)-1,COLUMNS($H$105:H127)-1)<>\"\",OFFSET([1]DE100_7!$H$105,ROWS($H$105:H127)-1,COLUMNS($H$105:H127)-1),\"\")","v":{"$error":"#VALUE!"}},{"$f":"IF(OFFSET([1]DE100_7!$I$105,ROWS($I$105:I127)-1,COLUMNS($I$105:I127)-1)<>\"\",OFFSET([1]DE100_7!$I$105,ROWS($I$105:I127)-1,COLUMNS($I$105:I127)-1),\"\")","v":{"$error":"#VALUE!"}},{"$f":"IF(OFFSET([1]DE100_7!$J$105,ROWS($J$105:J127)-1,COLUMNS($J$105:J127)-1)<>\"\",OFFSET([1]DE100_7!$J$105,ROWS($J$105:J127)-1,COLUMNS($J$105:J127)-1),\"\")","v":{"$error":"#VALUE!"}},{"$f":"IF(OFFSET([1]DE100_7!$K$105,ROWS($K$105:K127)-1,COLUMNS($K$105:K127)-1)<>\"\",OFFSET([1]DE100_7!$K$105,ROWS($K$105:K127)-1,COLUMNS($K$105:K127)-1),\"\")","v":{"$error":"#VALUE!"}},{"$f":"IF(OFFSET([1]DE100_7!$L$105,ROWS($L$105:L127)-1,COLUMNS($L$105:L127)-1)<>\"\",OFFSET([1]DE100_7!$L$105,ROWS($L$105:L127)-1,COLUMNS($L$105:L127)-1),\"\")","v":{"$error":"#VALUE!"}},{"$f":"IF(OFFSET([1]DE100_7!$M$105,ROWS($M$105:M127)-1,COLUMNS($M$105:M127)-1)<>\"\",OFFSET([1]DE100_7!$M$105,ROWS($M$105:M127)-1,COLUMNS($M$105:M127)-1),\"\")","v":{"$error":"#VALUE!"}},{"$f":"IF(OFFSET([1]DE100_7!$N$105,ROWS($N$105:N127)-1,COLUMNS($N$105:N127)-1)<>\"\",OFFSET([1]DE100_7!$N$105,ROWS($N$105:N127)-1,COLUMNS($N$105:N127)-1),\"\")","v":{"$error":"#VALUE!"}},{"$f":"IF(OFFSET([1]DE100_7!$O$105,ROWS($O$105:O127)-1,COLUMNS($O$105:O127)-1)<>\"\",OFFSET([1]DE100_7!$O$105,ROWS($O$105:O127)-1,COLUMNS($O$105:O127)-1),\"\")","v":{"$error":"#VALUE!"}},{"$f":"IF(OFFSET([1]DE100_7!$P$105,ROWS($P$105:P127)-1,COLUMNS($P$105:P127)-1)<>\"\",OFFSET([1]DE100_7!$P$105,ROWS($P$105:P127)-1,COLUMNS($P$105:P127)-1),\"\")","v":{"$error":"#VALUE!"}},{"$f":"IF(OFFSET([1]DE100_7!$Q$105,ROWS($Q$105:Q127)-1,COLUMNS($Q$105:Q127)-1)<>\"\",OFFSET([1]DE100_7!$Q$105,ROWS($Q$105:Q127)-1,COLUMNS($Q$105:Q127)-1),\"\")","v":{"$error":"#VALUE!"}},{"$f":"IF(OFFSET([1]DE100_7!$R$105,ROWS($R$105:R127)-1,COLUMNS($R$105:R127)-1)<>\"\",OFFSET([1]DE100_7!$R$105,ROWS($R$105:R127)-1,COLUMNS($R$105:R127)-1),\"\")","v":{"$error":"#VALUE!"}},{"$f":"IF(OFFSET([1]DE100_7!$S$105,ROWS($S$105:S127)-1,COLUMNS($S$105:S127)-1)<>\"\",OFFSET([1]DE100_7!$S$105,ROWS($S$105:S127)-1,COLUMNS($S$105:S127)-1),\"\")","v":{"$error":"#VALUE!"}},{"$f":"IF(OFFSET([1]DE100_7!$T$105,ROWS($T$105:T127)-1,COLUMNS($T$105:T127)-1)<>\"\",OFFSET([1]DE100_7!$T$105,ROWS($T$105:T127)-1,COLUMNS($T$105:T127)-1),\"\")","v":{"$error":"#VALUE!"}},{"$f":"IF(OFFSET([1]DE100_7!$U$105,ROWS($U$105:U127)-1,COLUMNS($U$105:U127)-1)<>\"\",OFFSET([1]DE100_7!$U$105,ROWS($U$105:U127)-1,COLUMNS($U$105:U127)-1),\"\")","v":{"$error":"#VALUE!"}},{"$f":"IF(OFFSET([1]DE100_7!$V$105,ROWS($V$105:V127)-1,COLUMNS($V$105:V127)-1)<>\"\",OFFSET([1]DE100_7!$V$105,ROWS($V$105:V127)-1,COLUMNS($V$105:V127)-1),\"\")","v":{"$error":"#VALUE!"}}]
[{"$f":"IF(OFFSET([1]DE100_7!$C$105,ROWS($C$105:C128)-1,COLUMNS($C$105:C128)-1)<>\"\",OFFSET([1]DE100_7!$C$105,ROWS($C$105:C128)-1,COLUMNS($C$105:C128)-1),\"\")","v":{"$error":"#VALUE!"}},{"$f":"IF(OFFSET([1]DE100_7!$D$105,ROWS($D$105:D128)-1,COLUMNS($D$105:D128)-1)<>\"\",OFFSET([1]DE100_7!$D$105,ROWS($D$105:D128)-1,COLUMNS($D$105:D128)-1),\"\")","v":{"$error":"#VALUE!"}},{"$f":"IF(OFFSET([1]DE100_7!$E$105,ROWS($E$105:E128)-1,COLUMNS($E$105:E128)-1)<>\"\",OFFSET([1]DE100_7!$E$105,ROWS($E$105:E128)-1,COLUMNS($E$105:E128)-1),\"\")","v":{"$error":"#VALUE!"}},{"$f":"IF(OFFSET([1]DE100_7!$F$105,ROWS($F$105:F128)-1,COLUMNS($F$105:F128)-1)<>\"\",OFFSET([1]DE100_7!$F$105,ROWS($F$105:F128)-1,COLUMNS($F$105:F128)-1),\"\")","v":{"$error":"#VALUE!"}},{"$f":"IF(OFFSET([1]DE100_7!$G$105,ROWS($G$105:G128)-1,COLUMNS($G$105:G128)-1)<>\"\",OFFSET([1]DE100_7!$G$105,ROWS($G$105:G128)-1,COLUMNS($G$105:G128)-1),\"\")","v":{"$error":"#VALUE!"}},{"$f":"IF(OFFSET([1]DE100_7!$H$105,ROWS($H$105:H128)-1,COLUMNS($H$105:H128)-1)<>\"\",OFFSET([1]DE100_7!$H$105,ROWS($H$105:H128)-1,COLUMNS($H$105:H128)-1),\"\")","v":{"$error":"#VALUE!"}},{"$f":"IF(OFFSET([1]DE100_7!$I$105,ROWS($I$105:I128)-1,COLUMNS($I$105:I128)-1)<>\"\",OFFSET([1]DE100_7!$I$105,ROWS($I$105:I128)-1,COLUMNS($I$105:I128)-1),\"\")","v":{"$error":"#VALUE!"}},{"$f":"IF(OFFSET([1]DE100_7!$J$105,ROWS($J$105:J128)-1,COLUMNS($J$105:J128)-1)<>\"\",OFFSET([1]DE100_7!$J$105,ROWS($J$105:J128)-1,COLUMNS($J$105:J128)-1),\"\")","v":{"$error":"#VALUE!"}},{"$f":"IF(OFFSET([1]DE100_7!$K$105,ROWS($K$105:K128)-1,COLUMNS($K$105:K128)-1)<>\"\",OFFSET([1]DE100_7!$K$105,ROWS($K$105:K128)-1,COLUMNS($K$105:K128)-1),\"\")","v":{"$error":"#VALUE!"}},{"$f":"IF(OFFSET([1]DE100_7!$L$105,ROWS($L$105:L128)-1,COLUMNS($L$105:L128)-1)<>\"\",OFFSET([1]DE100_7!$L$105,ROWS($L$105:L128)-1,COLUMNS($L$105:L128)-1),\"\")","v":{"$error":"#VALUE!"}},{"$f":"IF(OFFSET([1]DE100_7!$M$105,ROWS($M$105:M128)-1,COLUMNS($M$105:M128)-1)<>\"\",OFFSET([1]DE100_7!$M$105,ROWS($M$105:M128)-1,COLUMNS($M$105:M128)-1),\"\")","v":{"$error":"#VALUE!"}},{"$f":"IF(OFFSET([1]DE100_7!$N$105,ROWS($N$105:N128)-1,COLUMNS($N$105:N128)-1)<>\"\",OFFSET([1]DE100_7!$N$105,ROWS($N$105:N128)-1,COLUMNS($N$105:N128)-1),\"\")","v":{"$error":"#VALUE!"}},{"$f":"IF(OFFSET([1]DE100_7!$O$105,ROWS($O$105:O128)-1,COLUMNS($O$105:O128)-1)<>\"\",OFFSET([1]DE100_7!$O$105,ROWS($O$105:O128)-1,COLUMNS($O$105:O128)-1),\"\")","v":{"$error":"#VALUE!"}},{"$f":"IF(OFFSET([1]DE100_7!$P$105,ROWS($P$105:P128)-1,COLUMNS($P$105:P128)-1)<>\"\",OFFSET([1]DE100_7!$P$105,ROWS($P$105:P128)-1,COLUMNS($P$105:P128)-1),\"\")","v":{"$error":"#VALUE!"}},{"$f":"IF(OFFSET([1]DE100_7!$Q$105,ROWS($Q$105:Q128)-1,COLUMNS($Q$105:Q128)-1)<>\"\",OFFSET([1]DE100_7!$Q$105,ROWS($Q$105:Q128)-1,COLUMNS($Q$105:Q128)-1),\"\")","v":{"$error":"#VALUE!"}},{"$f":"IF(OFFSET([1]DE100_7!$R$105,ROWS($R$105:R128)-1,COLUMNS($R$105:R128)-1)<>\"\",OFFSET([1]DE100_7!$R$105,ROWS($R$105:R128)-1,COLUMNS($R$105:R128)-1),\"\")","v":{"$error":"#VALUE!"}},{"$f":"IF(OFFSET([1]DE100_7!$S$105,ROWS($S$105:S128)-1,COLUMNS($S$105:S128)-1)<>\"\",OFFSET([1]DE100_7!$S$105,ROWS($S$105:S128)-1,COLUMNS($S$105:S128)-1),\"\")","v":{"$error":"#VALUE!"}},{"$f":"IF(OFFSET([1]DE100_7!$T$105,ROWS($T$105:T128)-1,COLUMNS($T$105:T128)-1)<>\"\",OFFSET([1]DE100_7!$T$105,ROWS($T$105:T128)-1,COLUMNS($T$105:T128)-1),\"\")","v":{"$error":"#VALUE!"}},{"$f":"IF(OFFSET([1]DE100_7!$U$105,ROWS($U$105:U128)-1,COLUMNS($U$105:U128)-1)<>\"\",OFFSET([1]DE100_7!$U$105,ROWS($U$105:U128)-1,COLUMNS($U$105:U128)-1),\"\")","v":{"$error":"#VALUE!"}},{"$f":"IF(OFFSET([1]DE100_7!$V$105,ROWS($V$105:V128)-1,COLUMNS($V$105:V128)-1)<>\"\",OFFSET([1]DE100_7!$V$105,ROWS($V$105:V128)-1,COLUMNS($V$105:V128)-1),\"\")","v":{"$error":"#VALUE!"}}]
[{"$f":"IF(OFFSET([1]DE100_7!$C$105,ROWS($C$105:C129)-1,COLUMNS($C$105:C129)-1)<>\"\",OFFSET([1]DE100_7!$C$105,ROWS($C$105:C129)-1,COLUMNS($C$105:C129)-1),\"\")","v":{"$error":"#VALUE!"}},{"$f":"IF(OFFSET([1]DE100_7!$D$105,ROWS($D$105:D129)-1,COLUMNS($D$105:D129)-1)<>\"\",OFFSET([1]DE100_7!$D$105,ROWS($D$105:D129)-1,COLUMNS($D$105:D129)-1),\"\")","v":{"$error":"#VALUE!"}},{"$f":"IF(OFFSET([1]DE100_7!$E$105,ROWS($E$105:E129)-1,COLUMNS($E$105:E129)-1)<>\"\",OFFSET([1]DE100_7!$E$105,ROWS($E$105:E129)-1,COLUMNS($E$105:E129)-1),\"\")","v":{"$error":"#VALUE!"}},{"$f":"IF(OFFSET([1]DE100_7!$F$105,ROWS($F$105:F129)-1,COLUMNS($F$105:F129)-1)<>\"\",OFFSET([1]DE100_7!$F$105,ROWS($F$105:F129)-1,COLUMNS($F$105:F129)-1),\"\")","v":{"$error":"#VALUE!"}},{"$f":"IF(OFFSET([1]DE100_7!$G$105,ROWS($G$105:G129)-1,COLUMNS($G$105:G129)-1)<>\"\",OFFSET([1]DE100_7!$G$105,ROWS($G$105:G129)-1,COLUMNS($G$105:G129)-1),\"\")","v":{"$error":"#VALUE!"}},{"$f":"IF(OFFSET([1]DE100_7!$H$105,ROWS($H$105:H129)-1,COLUMNS($H$105:H129)-1)<>\"\",OFFSET([1]DE100_7!$H$105,ROWS($H$105:H129)-1,COLUMNS($H$105:H129)-1),\"\")","v":{"$error":"#VALUE!"}},{"$f":"IF(OFFSET([1]DE100_7!$I$105,ROWS($I$105:I129)-1,COLUMNS($I$105:I129)-1)<>\"\",OFFSET([1]DE100_7!$I$105,ROWS($I$105:I129)-1,COLUMNS($I$105:I129)-1),\"\")","v":{"$error":"#VALUE!"}},{"$f":"IF(OFFSET([1]DE100_7!$J$105,ROWS($J$105:J129)-1,COLUMNS($J$105:J129)-1)<>\"\",OFFSET([1]DE100_7!$J$105,ROWS($J$105:J129)-1,COLUMNS($J$105:J129)-1),\"\")","v":{"$error":"#VALUE!"}},{"$f":"IF(OFFSET([1]DE100_7!$K$105,ROWS($K$105:K129)-1,COLUMNS($K$105:K129)-1)<>\"\",OFFSET([1]DE100_7!$K$105,ROWS($K$105:K129)-1,COLUMNS($K$105:K129)-1),\"\")","v":{"$error":"#VALUE!"}},{"$f":"IF(OFFSET([1]DE100_7!$L$105,ROWS($L$105:L129)-1,COLUMNS($L$105:L129)-1)<>\"\",OFFSET([1]DE100_7!$L$105,ROWS($L$105:L129)-1,COLUMNS($L$105:L129)-1),\"\")","v":{"$error":"#VALUE!"}},{"$f":"IF(OFFSET([1]DE100_7!$M$105,ROWS($M$105:M129)-1,COLUMNS($M$105:M129)-1)<>\"\",OFFSET([1]DE100_7!$M$105,ROWS($M$105:M129)-1,COLUMNS($M$105:M129)-1),\"\")","v":{"$error":"#VALUE!"}},{"$f":"IF(OFFSET([1]DE100_7!$N$105,ROWS($N$105:N129)-1,COLUMNS($N$105:N129)-1)<>\"\",OFFSET([1]DE100_7!$N$105,ROWS($N$105:N129)-1,COLUMNS($N$105:N129)-1),\"\")","v":{"$error":"#VALUE!"}},{"$f":"IF(OFFSET([1]DE100_7!$O$105,ROWS($O$105:O129)-1,COLUMNS($O$105:O129)-1)<>\"\",OFFSET([1]DE100_7!$O$105,ROWS($O$105:O129)-1,COLUMNS($O$105:O129)-1),\"\")","v":{"$error":"#VALUE!"}},{"$f":"IF(OFFSET([1]DE100_7!$P$105,ROWS($P$105:P129)-1,COLUMNS($P$105:P129)-1)<>\"\",OFFSET([1]DE100_7!$P$105,ROWS($P$105:P129)-1,COLUMNS($P$105:P129)-1),\"\")","v":{"$error":"#VALUE!"}},{"$f":"IF(OFFSET([1]DE100_7!$Q$105,ROWS($Q$105:Q129)-1,COLUMNS($Q$105:Q129)-1)<>\"\",OFFSET([1]DE100_7!$Q$105,ROWS($Q$105:Q129)-1,COLUMNS($Q$105:Q129)-1),\"\")","v":{"$error":"#VALUE!"}},{"$f":"IF(OFFSET([1]DE100_7!$R$105,ROWS($R$105:R129)-1,COLUMNS($R$105:R129)-1)<>\"\",OFFSET([1]DE100_7!$R$105,ROWS($R$105:R129)-1,COLUMNS($R$105:R129)-1),\"\")","v":{"$error":"#VALUE!"}},{"$f":"IF(OFFSET([1]DE100_7!$S$105,ROWS($S$105:S129)-1,COLUMNS($S$105:S129)-1)<>\"\",OFFSET([1]DE100_7!$S$105,ROWS($S$105:S129)-1,COLUMNS($S$105:S129)-1),\"\")","v":{"$error":"#VALUE!"}},{"$f":"IF(OFFSET([1]DE100_7!$T$105,ROWS($T$105:T129)-1,COLUMNS($T$105:T129)-1)<>\"\",OFFSET([1]DE100_7!$T$105,ROWS($T$105:T129)-1,COLUMNS($T$105:T129)-1),\"\")","v":{"$error":"#VALUE!"}},{"$f":"IF(OFFSET([1]DE100_7!$U$105,ROWS($U$105:U129)-1,COLUMNS($U$105:U129)-1)<>\"\",OFFSET([1]DE100_7!$U$105,ROWS($U$105:U129)-1,COLUMNS($U$105:U129)-1),\"\")","v":{"$error":"#VALUE!"}},{"$f":"IF(OFFSET([1]DE100_7!$V$105,ROWS($V$105:V129)-1,COLUMNS($V$105:V129)-1)<>\"\",OFFSET([1]DE100_7!$V$105,ROWS($V$105:V129)-1,COLUMNS($V$105:V129)-1),\"\")","v":{"$error":"#VALUE!"}}]
[{"$f":"IF(OFFSET([1]DE100_7!$C$105,ROWS($C$105:C130)-1,COLUMNS($C$105:C130)-1)<>\"\",OFFSET([1]DE100_7!$C$105,ROWS($C$105:C130)-1,COLUMNS($C$105:C130)-1),\"\")","v":{"$error":"#VALUE!"}},{"$f":"IF(OFFSET([1]DE100_7!$D$105,ROWS($D$105:D130)-1,COLUMNS($D$105:D130)-1)<>\"\",OFFSET([1]DE100_7!$D$105,ROWS($D$105:D130)-1,COLUMNS($D$105:D130)-1),\"\")","v":{"$error":"#VALUE!"}},{"$f":"IF(OFFSET([1]DE100_7!$E$105,ROWS($E$105:E130)-1,COLUMNS($E$105:E130)-1)<>\"\",OFFSET([1]DE100_7!$E$105,ROWS($E$105:E130)-1,COLUMNS($E$105:E130)-1),\"\")","v":{"$error":"#VALUE!"}},{"$f":"IF(OFFSET([1]DE100_7!$F$105,ROWS($F$105:F130)-1,COLUMNS($F$105:F130)-1)<>\"\",OFFSET([1]DE100_7!$F$105,ROWS($F$105:F130)-1,COLUMNS($F$105:F130)-1),\"\")","v":{"$error":"#VALUE!"}},{"$f":"IF(OFFSET([1]DE100_7!$G$105,ROWS($G$105:G130)-1,COLUMNS($G$105:G130)-1)<>\"\",OFFSET([1]DE100_7!$G$105,ROWS($G$105:G130)-1,COLUMNS($G$105:G130)-1),\"\")","v":{"$error":"#VALUE!"}},{"$f":"IF(OFFSET([1]DE100_7!$H$105,ROWS($H$105:H130)-1,COLUMNS($H$105:H130)-1)<>\"\",OFFSET([1]DE100_7!$H$105,ROWS($H$105:H130)-1,COLUMNS($H$105:H130)-1),\"\")","v":{"$error":"#VALUE!"}},{"$f":"IF(OFFSET([1]DE100_7!$I$105,ROWS($I$105:I130)-1,COLUMNS($I$105:I130)-1)<>\"\",OFFSET([1]DE100_7!$I$105,ROWS($I$105:I130)-1,COLUMNS($I$105:I130)-1),\"\")","v":{"$error":"#VALUE!"}},{"$f":"IF(OFFSET([1]DE100_7!$J$105,ROWS($J$105:J130)-1,COLUMNS($J$105:J130)-1)<>\"\",OFFSET([1]DE100_7!$J$105,ROWS($J$105:J130)-1,COLUMNS($J$105:J130)-1),\"\")","v":{"$error":"#VALUE!"}},{"$f":"IF(OFFSET([1]DE100_7!$K$105,ROWS($K$105:K130)-1,COLUMNS($K$105:K130)-1)<>\"\",OFFSET([1]DE100_7!$K$105,ROWS($K$105:K130)-1,COLUMNS($K$105:K130)-1),\"\")","v":{"$error":"#VALUE!"}},{"$f":"IF(OFFSET([1]DE100_7!$L$105,ROWS($L$105:L130)-1,COLUMNS($L$105:L130)-1)<>\"\",OFFSET([1]DE100_7!$L$105,ROWS($L$105:L130)-1,COLUMNS($L$105:L130)-1),\"\")","v":{"$error":"#VALUE!"}},{"$f":"IF(OFFSET([1]DE100_7!$M$105,ROWS($M$105:M130)-1,COLUMNS($M$105:M130)-1)<>\"\",OFFSET([1]DE100_7!$M$105,ROWS($M$105:M130)-1,COLUMNS($M$105:M130)-1),\"\")","v":{"$error":"#VALUE!"}},{"$f":"IF(OFFSET([1]DE100_7!$N$105,ROWS($N$105:N130)-1,COLUMNS($N$105:N130)-1)<>\"\",OFFSET([1]DE100_7!$N$105,ROWS($N$105:N130)-1,COLUMNS($N$105:N130)-1),\"\")","v":{"$error":"#VALUE!"}},{"$f":"IF(OFFSET([1]DE100_7!$O$105,ROWS($O$105:O130)-1,COLUMNS($O$105:O130)-1)<>\"\",OFFSET([1]DE100_7!$O$105,ROWS($O$105:O130)-1,COLUMNS($O$105:O130)-1),\"\")","v":{"$error":"#VALUE!"}},{"$f":"IF(OFFSET([1]DE100_7!$P$105,ROWS($P$105:P130)-1,COLUMNS($P$105:P130)-1)<>\"\",OFFSET([1]DE100_7!$P$105,ROWS($P$105:P130)-1,COLUMNS($P$105:P130)-1),\"\")","v":{"$error":"#VALUE!"}},{"$f":"IF(OFFSET([1]DE100_7!$Q$105,ROWS($Q$105:Q130)-1,COLUMNS($Q$105:Q130)-1)<>\"\",OFFSET([1]DE100_7!$Q$105,ROWS($Q$105:Q130)-1,COLUMNS($Q$105:Q130)-1),\"\")","v":{"$error":"#VALUE!"}},{"$f":"IF(OFFSET([1]DE100_7!$R$105,ROWS($R$105:R130)-1,COLUMNS($R$105:R130)-1)<>\"\",OFFSET([1]DE100_7!$R$105,ROWS($R$105:R130)-1,COLUMNS($R$105:R130)-1),\"\")","v":{"$error":"#VALUE!"}},{"$f":"IF(OFFSET([1]DE100_7!$S$105,ROWS($S$105:S130)-1,COLUMNS($S$105:S130)-1)<>\"\",OFFSET([1]DE100_7!$S$105,ROWS($S$105:S130)-1,COLUMNS($S$105:S130)-1),\"\")","v":{"$error":"#VALUE!"}},{"$f":"IF(OFFSET([1]DE100_7!$T$105,ROWS($T$105:T130)-1,COLUMNS($T$105:T130)-1)<>\"\",OFFSET([1]DE100_7!$T$105,ROWS($T$105:T130)-1,COLUMNS($T$105:T130)-1),\"\")","v":{"$error":"#VALUE!"}},{"$f":"IF(OFFSET([1]DE100_7!$U$105,ROWS($U$105:U130)-1,COLUMNS($U$105:U130)-1)<>\"\",OFFSET([1]DE100_7!$U$105,ROWS($U$105:U130)-1,COLUMNS($U$105:U130)-1),\"\")","v":{"$error":"#VALUE!"}},{"$f":"IF(OFFSET([1]DE100_7!$V$105,ROWS($V$105:V130)-1,COLUMNS($V$105:V130)-1)<>\"\",OFFSET([1]DE100_7!$V$105,ROWS($V$105:V130)-1,COLUMNS($V$105:V130)-1),\"\")","v":{"$error":"#VALUE!"}}]
[{"$f":"IF(OFFSET([1]DE100_7!$C$105,ROWS($C$105:C131)-1,COLUMNS($C$105:C131)-1)<>\"\",OFFSET([1]DE100_7!$C$105,ROWS($C$105:C131)-1,COLUMNS($C$105:C131)-1),\"\")","v":{"$error":"#VALUE!"}},{"$f":"IF(OFFSET([1]DE100_7!$D$105,ROWS($D$105:D131)-1,COLUMNS($D$105:D131)-1)<>\"\",OFFSET([1]DE100_7!$D$105,ROWS($D$105:D131)-1,COLUMNS($D$105:D131)-1),\"\")","v":{"$error":"#VALUE!"}},{"$f":"IF(OFFSET([1]DE100_7!$E$105,ROWS($E$105:E131)-1,COLUMNS($E$105:E131)-1)<>\"\",OFFSET([1]DE100_7!$E$105,ROWS($E$105:E131)-1,COLUMNS($E$105:E131)-1),\"\")","v":{"$error":"#VALUE!"}},{"$f":"IF(OFFSET([1]DE100_7!$F$105,ROWS($F$105:F131)-1,COLUMNS($F$105:F131)-1)<>\"\",OFFSET([1]DE100_7!$F$105,ROWS($F$105:F131)-1,COLUMNS($F$105:F131)-1),\"\")","v":{"$error":"#VALUE!"}},{"$f":"IF(OFFSET([1]DE100_7!$G$105,ROWS($G$105:G131)-1,COLUMNS($G$105:G131)-1)<>\"\",OFFSET([1]DE100_7!$G$105,ROWS($G$105:G131)-1,COLUMNS($G$105:G131)-1),\"\")","v":{"$error":"#VALUE!"}},{"$f":"IF(OFFSET([1]DE100_7!$H$105,ROWS($H$105:H131)-1,COLUMNS($H$105:H131)-1)<>\"\",OFFSET([1]DE100_7!$H$105,ROWS($H$105:H131)-1,COLUMNS($H$105:H131)-1),\"\")","v":{"$error":"#VALUE!"}},{"$f":"IF(OFFSET([1]DE100_7!$I$105,ROWS($I$105:I131)-1,COLUMNS($I$105:I131)-1)<>\"\",OFFSET([1]DE100_7!$I$105,ROWS($I$105:I131)-1,COLUMNS($I$105:I131)-1),\"\")","v":{"$error":"#VALUE!"}},{"$f":"IF(OFFSET([1]DE100_7!$J$105,ROWS($J$105:J131)-1,COLUMNS($J$105:J131)-1)<>\"\",OFFSET([1]DE100_7!$J$105,ROWS($J$105:J131)-1,COLUMNS($J$105:J131)-1),\"\")","v":{"$error":"#VALUE!"}},{"$f":"IF(OFFSET([1]DE100_7!$K$105,ROWS($K$105:K131)-1,COLUMNS($K$105:K131)-1)<>\"\",OFFSET([1]DE100_7!$K$105,ROWS($K$105:K131)-1,COLUMNS($K$105:K131)-1),\"\")","v":{"$error":"#VALUE!"}},{"$f":"IF(OFFSET([1]DE100_7!$L$105,ROWS($L$105:L131)-1,COLUMNS($L$105:L131)-1)<>\"\",OFFSET([1]DE100_7!$L$105,ROWS($L$105:L131)-1,COLUMNS($L$105:L131)-1),\"\")","v":{"$error":"#VALUE!"}},{"$f":"IF(OFFSET([1]DE100_7!$M$105,ROWS($M$105:M131)-1,COLUMNS($M$105:M131)-1)<>\"\",OFFSET([1]DE100_7!$M$105,ROWS($M$105:M131)-1,COLUMNS($M$105:M131)-1),\"\")","v":{"$error":"#VALUE!"}},{"$f":"IF(OFFSET([1]DE100_7!$N$105,ROWS($N$105:N131)-1,COLUMNS($N$105:N131)-1)<>\"\",OFFSET([1]DE100_7!$N$105,ROWS($N$105:N131)-1,COLUMNS($N$105:N131)-1),\"\")","v":{"$error":"#VALUE!"}},{"$f":"IF(OFFSET([1]DE100_7!$O$105,ROWS($O$105:O131)-1,COLUMNS($O$105:O131)-1)<>\"\",OFFSET([1]DE100_7!$O$105,ROWS($O$105:O131)-1,COLUMNS($O$105:O131)-1),\"\")","v":{"$error":"#VALUE!"}},{"$f":"IF(OFFSET([1]DE100_7!$P$105,ROWS($P$105:P131)-1,COLUMNS($P$105:P131)-1)<>\"\",OFFSET([1]DE100_7!$P$105,ROWS($P$105:P131)-1,COLUMNS($P$105:P131)-1),\"\")","v":{"$error":"#VALUE!"}},{"$f":"IF(OFFSET([1]DE100_7!$Q$105,ROWS($Q$105:Q131)-1,COLUMNS($Q$105:Q131)-1)<>\"\",OFFSET([1]DE100_7!$Q$105,ROWS($Q$105:Q131)-1,COLUMNS($Q$105:Q131)-1),\"\")","v":{"$error":"#VALUE!"}},{"$f":"IF(OFFSET([1]DE100_7!$R$105,ROWS($R$105:R131)-1,COLUMNS($R$105:R131)-1)<>\"\",OFFSET([1]DE100_7!$R$105,ROWS($R$105:R131)-1,COLUMNS($R$105:R131)-1),\"\")","v":{"$error":"#VALUE!"}},{"$f":"IF(OFFSET([1]DE100_7!$S$105,ROWS($S$105:S131)-1,COLUMNS($S$105:S131)-1)<>\"\",OFFSET([1]DE100_7!$S$105,ROWS($S$105:S131)-1,COLUMNS($S$105:S131)-1),\"\")","v":{"$error":"#VALUE!"}},{"$f":"IF(OFFSET([1]DE100_7!$T$105,ROWS($T$105:T131)-1,COLUMNS($T$105:T131)-1)<>\"\",OFFSET([1]DE100_7!$T$105,ROWS($T$105:T131)-1,COLUMNS($T$105:T131)-1),\"\")","v":{"$error":"#VALUE!"}},{"$f":"IF(OFFSET([1]DE100_7!$U$105,ROWS($U$105:U131)-1,COLUMNS($U$105:U131)-1)<>\"\",OFFSET([1]DE100_7!$U$105,ROWS($U$105:U131)-1,COLUMNS($U$105:U131)-1),\"\")","v":{"$error":"#VALUE!"}},{"$f":"IF(OFFSET([1]DE100_7!$V$105,ROWS($V$105:V131)-1,COLUMNS($V$105:V131)-1)<>\"\",OFFSET([1]DE100_7!$V$105,ROWS($V$105:V131)-1,COLUMNS($V$105:V131)-1),\"\")","v":{"$error":"#VALUE!"}}]
[{"$f":"IF(OFFSET([1]DE100_7!$C$105,ROWS($C$105:C132)-1,COLUMNS($C$105:C132)-1)<>\"\",OFFSET([1]DE100_7!$C$105,ROWS($C$105:C132)-1,COLUMNS($C$105:C132)-1),\"\")","v":{"$error":"#VALUE!"}},null,null,null,{"$f":"IF(OFFSET([1]DE100_7!$G$105,ROWS($G$105:G132)-1,COLUMNS($G$105:G132)-1)<>\"\",OFFSET([1]DE100_7!$G$105,ROWS($G$105:G132)-1,COLUMNS($G$105:G132)-1),\"\")","v":{"$error":"#VALUE!"}},{"$f":"IF(OFFSET([1]DE100_7!$H$105,ROWS($H$105:H132)-1,COLUMNS($H$105:H132)-1)<>\"\",OFFSET([1]DE100_7!$H$105,ROWS($H$105:H132)-1,COLUMNS($H$105:H132)-1),\"\")","v":{"$error":"#VALUE!"}},{"$f":"IF(OFFSET([1]DE100_7!$I$105,ROWS($I$105:I132)-1,COLUMNS($I$105:I132)-1)<>\"\",OFFSET([1]DE100_7!$I$105,ROWS($I$105:I132)-1,COLUMNS($I$105:I132)-1),\"\")","v":{"$error":"#VALUE!"}},{"$f":"IF(OFFSET([1]DE100_7!$J$105,ROWS($J$105:J132)-1,COLUMNS($J$105:J132)-1)<>\"\",OFFSET([1]DE100_7!$J$105,ROWS($J$105:J132)-1,COLUMNS($J$105:J132)-1),\"\")","v":{"$error":"#VALUE!"}},{"$f":"IF(OFFSET([1]DE100_7!$K$105,ROWS($K$105:K132)-1,COLUMNS($K$105:K132)-1)<>\"\",OFFSET([1]DE100_7!$K$105,ROWS($K$105:K132)-1,COLUMNS($K$105:K132)-1),\"\")","v":{"$error":"#VALUE!"}},{"$f":"IF(OFFSET([1]DE100_7!$L$105,ROWS($L$105:L132)-1,COLUMNS($L$105:L132)-1)<>\"\",OFFSET([1]DE100_7!$L$105,ROWS($L$105:L132)-1,COLUMNS($L$105:L132)-1),\"\")","v":{"$error":"#VALUE!"}},{"$f":"IF(OFFSET([1]DE100_7!$M$105,ROWS($M$105:M132)-1,COLUMNS($M$105:M132)-1)<>\"\",OFFSET([1]DE100_7!$M$105,ROWS($M$105:M132)-1,COLUMNS($M$105:M132)-1),\"\")","v":{"$error":"#VALUE!"}},{"$f":"IF(OFFSET([1]DE100_7!$N$105,ROWS($N$105:N132)-1,COLUMNS($N$105:N132)-1)<>\"\",OFFSET([1]DE100_7!$N$105,ROWS($N$105:N132)-1,COLUMNS($N$105:N132)-1),\"\")","v":{"$error":"#VALUE!"}},{"$f":"IF(OFFSET([1]DE100_7!$O$105,ROWS($O$105:O132)-1,COLUMNS($O$105:O132)-1)<>\"\",OFFSET([1]DE100_7!$O$105,ROWS($O$105:O132)-1,COLUMNS($O$105:O132)-1),\"\")","v":{"$error":"#VALUE!"}},{"$f":"IF(OFFSET([1]DE100_7!$P$105,ROWS($P$105:P132)-1,COLUMNS($P$105:P132)-1)<>\"\",OFFSET([1]DE100_7!$P$105,ROWS($P$105:P132)-1,COLUMNS($P$105:P132)-1),\"\")","v":{"$error":"#VALUE!"}},{"$f":"IF(OFFSET([1]DE100_7!$Q$105,ROWS($Q$105:Q132)-1,COLUMNS($Q$105:Q132)-1)<>\"\",OFFSET([1]DE100_7!$Q$105,ROWS($Q$105:Q132)-1,COLUMNS($Q$105:Q132)-1),\"\")","v":{"$error":"#VALUE!"}},{"$f":"IF(OFFSET([1]DE100_7!$R$105,ROWS($R$105:R132)-1,COLUMNS($R$105:R132)-1)<>\"\",OFFSET([1]DE100_7!$R$105,ROWS($R$105:R132)-1,COLUMNS($R$105:R132)-1),\"\")","v":{"$error":"#VALUE!"}},{"$f":"IF(OFFSET([1]DE100_7!$S$105,ROWS($S$105:S132)-1,COLUMNS($S$105:S132)-1)<>\"\",OFFSET([1]DE100_7!$S$105,ROWS($S$105:S132)-1,COLUMNS($S$105:S132)-1),\"\")","v":{"$error":"#VALUE!"}},{"$f":"IF(OFFSET([1]DE100_7!$T$105,ROWS($T$105:T132)-1,COLUMNS($T$105:T132)-1)<>\"\",OFFSET([1]DE100_7!$T$105,ROWS($T$105:T132)-1,COLUMNS($T$105:T132)-1),\"\")","v":{"$error":"#VALUE!"}},{"$f":"IF(OFFSET([1]DE100_7!$U$105,ROWS($U$105:U132)-1,COLUMNS($U$105:U132)-1)<>\"\",OFFSET([1]DE100_7!$U$105,ROWS($U$105:U132)-1,COLUMNS($U$105:U132)-1),\"\")","v":{"$error":"#VALUE!"}},{"$f":"IF(OFFSET([1]DE100_7!$V$105,ROWS($V$105:V132)-1,COLUMNS($V$105:V132)-1)<>\"\",OFFSET([1]DE100_7!$V$105,ROWS($V$105:V132)-1,COLUMNS($V$105:V132)-1),\"\")","v":{"$error":"#VALUE!"}}]
[{"$f":"IF(OFFSET([1]DE100_7!$C$105,ROWS($C$105:C133)-1,COLUMNS($C$105:C133)-1)<>\"\",OFFSET([1]DE100_7!$C$105,ROWS($C$105:C133)-1,COLUMNS($C$105:C133)-1),\"\")","v":{"$error":"#VALUE!"}},{"$f":"IF(OFFSET([1]DE100_7!$D$105,ROWS($D$105:D133)-1,COLUMNS($D$105:D133)-1)<>\"\",OFFSET([1]DE100_7!$D$105,ROWS($D$105:D133)-1,COLUMNS($D$105:D133)-1),\"\")","v":{"$error":"#VALUE!"}},{"$f":"IF(OFFSET([1]DE100_7!$E$105,ROWS($E$105:E133)-1,COLUMNS($E$105:E133)-1)<>\"\",OFFSET([1]DE100_7!$E$105,ROWS($E$105:E133)-1,COLUMNS($E$105:E133)-1),\"\")","v":{"$error":"#VALUE!"}},{"$f":"IF(OFFSET([1]DE100_7!$F$105,ROWS($F$105:F133)-1,COLUMNS($F$105:F133)-1)<>\"\",OFFSET([1]DE100_7!$F$105,ROWS($F$105:F133)-1,COLUMNS($F$105:F133)-1),\"\")","v":{"$error":"#VALUE!"}},{"$f":"IF(OFFSET([1]DE100_7!$G$105,ROWS($G$105:G133)-1,COLUMNS($G$105:G133)-1)<>\"\",OFFSET([1]DE100_7!$G$105,ROWS($G$105:G133)-1,COLUMNS($G$105:G133)-1),\"\")","v":{"$error":"#VALUE!"}},{"$f":"IF(OFFSET([1]DE100_7!$H$105,ROWS($H$105:H133)-1,COLUMNS($H$105:H133)-1)<>\"\",OFFSET([1]DE100_7!$H$105,ROWS($H$105:H133)-1,COLUMNS($H$105:H133)-1),\"\")","v":{"$error":"#VALUE!"}},{"$f":"IF(OFFSET([1]DE100_7!$I$105,ROWS($I$105:I133)-1,COLUMNS($I$105:I133)-1)<>\"\",OFFSET([1]DE100_7!$I$105,ROWS($I$105:I133)-1,COLUMNS($I$105:I133)-1),\"\")","v":{"$error":"#VALUE!"}},{"$f":"IF(OFFSET([1]DE100_7!$J$105,ROWS($J$105:J133)-1,COLUMNS($J$105:J133)-1)<>\"\",OFFSET([1]DE100_7!$J$105,ROWS($J$105:J133)-1,COLUMNS($J$105:J133)-1),\"\")","v":{"$error":"#VALUE!"}},{"$f":"IF(OFFSET([1]DE100_7!$K$105,ROWS($K$105:K133)-1,COLUMNS($K$105:K133)-1)<>\"\",OFFSET([1]DE100_7!$K$105,ROWS($K$105:K133)-1,COLUMNS($K$105:K133)-1),\"\")","v":{"$error":"#VALUE!"}},{"$f":"IF(OFFSET([1]DE100_7!$L$105,ROWS($L$105:L133)-1,COLUMNS($L$105:L133)-1)<>\"\",OFFSET([1]DE100_7!$L$105,ROWS($L$105:L133)-1,COLUMNS($L$105:L133)-1),\"\")","v":{"$error":"#VALUE!"}},{"$f":"IF(OFFSET([1]DE100_7!$M$105,ROWS($M$105:M133)-1,COLUMNS($M$105:M133)-1)<>\"\",OFFSET([1]DE100_7!$M$105,ROWS($M$105:M133)-1,COLUMNS($M$105:M133)-1),\"\")","v":{"$error":"#VALUE!"}},{"$f":"IF(OFFSET([1]DE100_7!$N$105,ROWS($N$105:N133)-1,COLUMNS($N$105:N133)-1)<>\"\",OFFSET([1]DE100_7!$N$105,ROWS($N$105:N133)-1,COLUMNS($N$105:N133)-1),\"\")","v":{"$error":"#VALUE!"}},{"$f":"IF(OFFSET([1]DE100_7!$O$105,ROWS($O$105:O133)-1,COLUMNS($O$105:O133)-1)<>\"\",OFFSET([1]DE100_7!$O$105,ROWS($O$105:O133)-1,COLUMNS($O$105:O133)-1),\"\")","v":{"$error":"#VALUE!"}},{"$f":"IF(OFFSET([1]DE100_7!$P$105,ROWS($P$105:P133)-1,COLUMNS($P$105:P133)-1)<>\"\",OFFSET([1]DE100_7!$P$105,ROWS($P$105:P133)-1,COLUMNS($P$105:P133)-1),\"\")","v":{"$error":"#VALUE!"}},{"$f":"IF(OFFSET([1]DE100_7!$Q$105,ROWS($Q$105:Q133)-1,COLUMNS($Q$105:Q133)-1)<>\"\",OFFSET([1]DE100_7!$Q$105,ROWS($Q$105:Q133)-1,COLUMNS($Q$105:Q133)-1),\"\")","v":{"$error":"#VALUE!"}},{"$f":"IF(OFFSET([1]DE100_7!$R$105,ROWS($R$105:R133)-1,COLUMNS($R$105:R133)-1)<>\"\",OFFSET([1]DE100_7!$R$105,ROWS($R$105:R133)-1,COLUMNS($R$105:R133)-1),\"\")","v":{"$error":"#VALUE!"}},{"$f":"IF(OFFSET([1]DE100_7!$S$105,ROWS($S$105:S133)-1,COLUMNS($S$105:S133)-1)<>\"\",OFFSET([1]DE100_7!$S$105,ROWS($S$105:S133)-1,COLUMNS($S$105:S133)-1),\"\")","v":{"$error":"#VALUE!"}},{"$f":"IF(OFFSET([1]DE100_7!$T$105,ROWS($T$105:T133)-1,COLUMNS($T$105:T133)-1)<>\"\",OFFSET([1]DE100_7!$T$105,ROWS($T$105:T133)-1,COLUMNS($T$105:T133)-1),\"\")","v":{"$error":"#VALUE!"}},{"$f":"IF(OFFSET([1]DE100_7!$U$105,ROWS($U$105:U133)-1,COLUMNS($U$105:U133)-1)<>\"\",OFFSET([1]DE100_7!$U$105,ROWS($U$105:U133)-1,COLUMNS($U$105:U133)-1),\"\")","v":{"$error":"#VALUE!"}},{"$f":"IF(OFFSET([1]DE100_7!$V$105,ROWS($V$105:V133)-1,COLUMNS($V$105:V133)-1)<>\"\",OFFSET([1]DE100_7!$V$105,ROWS($V$105:V133)-1,COLUMNS($V$105:V133)-1),\"\")","v":{"$error":"#VALUE!"}}]
[{"$f":"IF(OFFSET([1]DE100_7!$C$105,ROWS($C$105:C134)-1,COLUMNS($C$105:C134)-1)<>\"\",OFFSET([1]DE100_7!$C$105,ROWS($C$105:C134)-1,COLUMNS($C$105:C134)-1),\"\")","v":{"$error":"#VALUE!"}},{"$f":"IF(OFFSET([1]DE100_7!$D$105,ROWS($D$105:D134)-1,COLUMNS($D$105:D134)-1)<>\"\",OFFSET([1]DE100_7!$D$105,ROWS($D$105:D134)-1,COLUMNS($D$105:D134)-1),\"\")","v":{"$error":"#VALUE!"}},{"$f":"IF(OFFSET([1]DE100_7!$E$105,ROWS($E$105:E134)-1,COLUMNS($E$105:E134)-1)<>\"\",OFFSET([1]DE100_7!$E$105,ROWS($E$105:E134)-1,COLUMNS($E$105:E134)-1),\"\")","v":{"$error":"#VALUE!"}},{"$f":"IF(OFFSET([1]DE100_7!$F$105,ROWS($F$105:F134)-1,COLUMNS($F$105:F134)-1)<>\"\",OFFSET([1]DE100_7!$F$105,ROWS($F$105:F134)-1,COLUMNS($F$105:F134)-1),\"\")","v":{"$error":"#VALUE!"}},{"$f":"IF(OFFSET([1]DE100_7!$G$105,ROWS($G$105:G134)-1,COLUMNS($G$105:G134)-1)<>\"\",OFFSET([1]DE100_7!$G$105,ROWS($G$105:G134)-1,COLUMNS($G$105:G134)-1),\"\")","v":{"$error":"#VALUE!"}},{"$f":"IF(OFFSET([1]DE100_7!$H$105,ROWS($H$105:H134)-1,COLUMNS($H$105:H134)-1)<>\"\",OFFSET([1]DE100_7!$H$105,ROWS($H$105:H134)-1,COLUMNS($H$105:H134)-1),\"\")","v":{"$error":"#VALUE!"}},{"$f":"IF(OFFSET([1]DE100_7!$I$105,ROWS($I$105:I134)-1,COLUMNS($I$105:I134)-1)<>\"\",OFFSET([1]DE100_7!$I$105,ROWS($I$105:I134)-1,COLUMNS($I$105:I134)-1),\"\")","v":{"$error":"#VALUE!"}},{"$f":"IF(OFFSET([1]DE100_7!$J$105,ROWS($J$105:J134)-1,COLUMNS($J$105:J134)-1)<>\"\",OFFSET([1]DE100_7!$J$105,ROWS($J$105:J134)-1,COLUMNS($J$105:J134)-1),\"\")","v":{"$error":"#VALUE!"}},{"$f":"IF(OFFSET([1]DE100_7!$K$105,ROWS($K$105:K134)-1,COLUMNS($K$105:K134)-1)<>\"\",OFFSET([1]DE100_7!$K$105,ROWS($K$105:K134)-1,COLUMNS($K$105:K134)-1),\"\")","v":{"$error":"#VALUE!"}},{"$f":"IF(OFFSET([1]DE100_7!$L$105,ROWS($L$105:L134)-1,COLUMNS($L$105:L134)-1)<>\"\",OFFSET([1]DE100_7!$L$105,ROWS($L$105:L134)-1,COLUMNS($L$105:L134)-1),\"\")","v":{"$error":"#VALUE!"}},{"$f":"IF(OFFSET([1]DE100_7!$M$105,ROWS($M$105:M134)-1,COLUMNS($M$105:M134)-1)<>\"\",OFFSET([1]DE100_7!$M$105,ROWS($M$105:M134)-1,COLUMNS($M$105:M134)-1),\"\")","v":{"$error":"#VALUE!"}},{"$f":"IF(OFFSET([1]DE100_7!$N$105,ROWS($N$105:N134)-1,COLUMNS($N$105:N134)-1)<>\"\",OFFSET([1]DE100_7!$N$105,ROWS($N$105:N134)-1,COLUMNS($N$105:N134)-1),\"\")","v":{"$error":"#VALUE!"}},{"$f":"IF(OFFSET([1]DE100_7!$O$105,ROWS($O$105:O134)-1,COLUMNS($O$105:O134)-1)<>\"\",OFFSET([1]DE100_7!$O$105,ROWS($O$105:O134)-1,COLUMNS($O$105:O134)-1),\"\")","v":{"$error":"#VALUE!"}},{"$f":"IF(OFFSET([1]DE100_7!$P$105,ROWS($P$105:P134)-1,COLUMNS($P$105:P134)-1)<>\"\",OFFSET([1]DE100_7!$P$105,ROWS($P$105:P134)-1,COLUMNS($P$105:P134)-1),\"\")","v":{"$error":"#VALUE!"}},{"$f":"IF(OFFSET([1]DE100_7!$Q$105,ROWS($Q$105:Q134)-1,COLUMNS($Q$105:Q134)-1)<>\"\",OFFSET([1]DE100_7!$Q$105,ROWS($Q$105:Q134)-1,COLUMNS($Q$105:Q134)-1),\"\")","v":{"$error":"#VALUE!"}},{"$f":"IF(OFFSET([1]DE100_7!$R$105,ROWS($R$105:R134)-1,COLUMNS($R$105:R134)-1)<>\"\",OFFSET([1]DE100_7!$R$105,ROWS($R$105:R134)-1,COLUMNS($R$105:R134)-1),\"\")","v":{"$error":"#VALUE!"}},{"$f":"IF(OFFSET([1]DE100_7!$S$105,ROWS($S$105:S134)-1,COLUMNS($S$105:S134)-1)<>\"\",OFFSET([1]DE100_7!$S$105,ROWS($S$105:S134)-1,COLUMNS($S$105:S134)-1),\"\")","v":{"$error":"#VALUE!"}},{"$f":"IF(OFFSET([1]DE100_7!$T$105,ROWS($T$105:T134)-1,COLUMNS($T$105:T134)-1)<>\"\",OFFSET([1]DE100_7!$T$105,ROWS($T$105:T134)-1,COLUMNS($T$105:T134)-1),\"\")","v":{"$error":"#VALUE!"}},{"$f":"IF(OFFSET([1]DE100_7!$U$105,ROWS($U$105:U134)-1,COLUMNS($U$105:U134)-1)<>\"\",OFFSET([1]DE100_7!$U$105,ROWS($U$105:U134)-1,COLUMNS($U$105:U134)-1),\"\")","v":{"$error":"#VALUE!"}},{"$f":"IF(OFFSET([1]DE100_7!$V$105,ROWS($V$105:V134)-1,COLUMNS($V$105:V134)-1)<>\"\",OFFSET([1]DE100_7!$V$105,ROWS($V$105:V134)-1,COLUMNS($V$105:V134)-1),\"\")","v":{"$error":"#VALUE!"}}]
[{"$f":"IF(OFFSET([1]DE100_7!$C$105,ROWS($C$105:C135)-1,COLUMNS($C$105:C135)-1)<>\"\",OFFSET([1]DE100_7!$C$105,ROWS($C$105:C135)-1,COLUMNS($C$105:C135)-1),\"\")","v":{"$error":"#VALUE!"}},{"$f":"IF(OFFSET([1]DE100_7!$D$105,ROWS($D$105:D135)-1,COLUMNS($D$105:D135)-1)<>\"\",OFFSET([1]DE100_7!$D$105,ROWS($D$105:D135)-1,COLUMNS($D$105:D135)-1),\"\")","v":{"$error":"#VALUE!"}},{"$f":"IF(OFFSET([1]DE100_7!$E$105,ROWS($E$105:E135)-1,COLUMNS($E$105:E135)-1)<>\"\",OFFSET([1]DE100_7!$E$105,ROWS($E$105:E135)-1,COLUMNS($E$105:E135)-1),\"\")","v":{"$error":"#VALUE!"}},{"$f":"IF(OFFSET([1]DE100_7!$F$105,ROWS($F$105:F135)-1,COLUMNS($F$105:F135)-1)<>\"\",OFFSET([1]DE100_7!$F$105,ROWS($F$105:F135)-1,COLUMNS($F$105:F135)-1),\"\")","v":{"$error":"#VALUE!"}},{"$f":"IF(OFFSET([1]DE100_7!$G$105,ROWS($G$105:G135)-1,COLUMNS($G$105:G135)-1)<>\"\",OFFSET([1]DE100_7!$G$105,ROWS($G$105:G135)-1,COLUMNS($G$105:G135)-1),\"\")","v":{"$error":"#VALUE!"}},{"$f":"IF(OFFSET([1]DE100_7!$H$105,ROWS($H$105:H135)-1,COLUMNS($H$105:H135)-1)<>\"\",OFFSET([1]DE100_7!$H$105,ROWS($H$105:H135)-1,COLUMNS($H$105:H135)-1),\"\")","v":{"$error":"#VALUE!"}},{"$f":"IF(OFFSET([1]DE100_7!$I$105,ROWS($I$105:I135)-1,COLUMNS($I$105:I135)-1)<>\"\",OFFSET([1]DE100_7!$I$105,ROWS($I$105:I135)-1,COLUMNS($I$105:I135)-1),\"\")","v":{"$error":"#VALUE!"}},{"$f":"IF(OFFSET([1]DE100_7!$J$105,ROWS($J$105:J135)-1,COLUMNS($J$105:J135)-1)<>\"\",OFFSET([1]DE100_7!$J$105,ROWS($J$105:J135)-1,COLUMNS($J$105:J135)-1),\"\")","v":{"$error":"#VALUE!"}},{"$f":"IF(OFFSET([1]DE100_7!$K$105,ROWS($K$105:K135)-1,COLUMNS($K$105:K135)-1)<>\"\",OFFSET([1]DE100_7!$K$105,ROWS($K$105:K135)-1,COLUMNS($K$105:K135)-1),\"\")","v":{"$error":"#VALUE!"}},{"$f":"IF(OFFSET([1]DE100_7!$L$105,ROWS($L$105:L135)-1,COLUMNS($L$105:L135)-1)<>\"\",OFFSET([1]DE100_7!$L$105,ROWS($L$105:L135)-1,COLUMNS($L$105:L135)-1),\"\")","v":{"$error":"#VALUE!"}},{"$f":"IF(OFFSET([1]DE100_7!$M$105,ROWS($M$105:M135)-1,COLUMNS($M$105:M135)-1)<>\"\",OFFSET([1]DE100_7!$M$105,ROWS($M$105:M135)-1,COLUMNS($M$105:M135)-1),\"\")","v":{"$error":"#VALUE!"}},{"$f":"IF(OFFSET([1]DE100_7!$N$105,ROWS($N$105:N135)-1,COLUMNS($N$105:N135)-1)<>\"\",OFFSET([1]DE100_7!$N$105,ROWS($N$105:N135)-1,COLUMNS($N$105:N135)-1),\"\")","v":{"$error":"#VALUE!"}},{"$f":"IF(OFFSET([1]DE100_7!$O$105,ROWS($O$105:O135)-1,COLUMNS($O$105:O135)-1)<>\"\",OFFSET([1]DE100_7!$O$105,ROWS($O$105:O135)-1,COLUMNS($O$105:O135)-1),\"\")","v":{"$error":"#VALUE!"}},{"$f":"IF(OFFSET([1]DE100_7!$P$105,ROWS($P$105:P135)-1,COLUMNS($P$105:P135)-1)<>\"\",OFFSET([1]DE100_7!$P$105,ROWS($P$105:P135)-1,COLUMNS($P$105:P135)-1),\"\")","v":{"$error":"#VALUE!"}},{"$f":"IF(OFFSET([1]DE100_7!$Q$105,ROWS($Q$105:Q135)-1,COLUMNS($Q$105:Q135)-1)<>\"\",OFFSET([1]DE100_7!$Q$105,ROWS($Q$105:Q135)-1,COLUMNS($Q$105:Q135)-1),\"\")","v":{"$error":"#VALUE!"}},{"$f":"IF(OFFSET([1]DE100_7!$R$105,ROWS($R$105:R135)-1,COLUMNS($R$105:R135)-1)<>\"\",OFFSET([1]DE100_7!$R$105,ROWS($R$105:R135)-1,COLUMNS($R$105:R135)-1),\"\")","v":{"$error":"#VALUE!"}},{"$f":"IF(OFFSET([1]DE100_7!$S$105,ROWS($S$105:S135)-1,COLUMNS($S$105:S135)-1)<>\"\",OFFSET([1]DE100_7!$S$105,ROWS($S$105:S135)-1,COLUMNS($S$105:S135)-1),\"\")","v":{"$error":"#VALUE!"}},{"$f":"IF(OFFSET([1]DE100_7!$T$105,ROWS($T$105:T135)-1,COLUMNS($T$105:T135)-1)<>\"\",OFFSET([1]DE100_7!$T$105,ROWS($T$105:T135)-1,COLUMNS($T$105:T135)-1),\"\")","v":{"$error":"#VALUE!"}},{"$f":"IF(OFFSET([1]DE100_7!$U$105,ROWS($U$105:U135)-1,COLUMNS($U$105:U135)-1)<>\"\",OFFSET([1]DE100_7!$U$105,ROWS($U$105:U135)-1,COLUMNS($U$105:U135)-1),\"\")","v":{"$error":"#VALUE!"}},{"$f":"IF(OFFSET([1]DE100_7!$V$105,ROWS($V$105:V135)-1,COLUMNS($V$105:V135)-1)<>\"\",OFFSET([1]DE100_7!$V$105,ROWS($V$105:V135)-1,COLUMNS($V$105:V135)-1),\"\")","v":{"$error":"#VALUE!"}}]
[{"$f":"IF(OFFSET([1]DE100_7!$C$105,ROWS($C$105:C136)-1,COLUMNS($C$105:C136)-1)<>\"\",OFFSET([1]DE100_7!$C$105,ROWS($C$105:C136)-1,COLUMNS($C$105:C136)-1),\"\")","v":{"$error":"#VALUE!"}},{"$f":"IF(OFFSET([1]DE100_7!$D$105,ROWS($D$105:D136)-1,COLUMNS($D$105:D136)-1)<>\"\",OFFSET([1]DE100_7!$D$105,ROWS($D$105:D136)-1,COLUMNS($D$105:D136)-1),\"\")","v":{"$error":"#VALUE!"}},{"$f":"IF(OFFSET([1]DE100_7!$E$105,ROWS($E$105:E136)-1,COLUMNS($E$105:E136)-1)<>\"\",OFFSET([1]DE100_7!$E$105,ROWS($E$105:E136)-1,COLUMNS($E$105:E136)-1),\"\")","v":{"$error":"#VALUE!"}},{"$f":"IF(OFFSET([1]DE100_7!$F$105,ROWS($F$105:F136)-1,COLUMNS($F$105:F136)-1)<>\"\",OFFSET([1]DE100_7!$F$105,ROWS($F$105:F136)-1,COLUMNS($F$105:F136)-1),\"\")","v":{"$error":"#VALUE!"}},{"$f":"IF(OFFSET([1]DE100_7!$G$105,ROWS($G$105:G136)-1,COLUMNS($G$105:G136)-1)<>\"\",OFFSET([1]DE100_7!$G$105,ROWS($G$105:G136)-1,COLUMNS($G$105:G136)-1),\"\")","v":{"$error":"#VALUE!"}},{"$f":"IF(OFFSET([1]DE100_7!$H$105,ROWS($H$105:H136)-1,COLUMNS($H$105:H136)-1)<>\"\",OFFSET([1]DE100_7!$H$105,ROWS($H$105:H136)-1,COLUMNS($H$105:H136)-1),\"\")","v":{"$error":"#VALUE!"}},{"$f":"IF(OFFSET([1]DE100_7!$I$105,ROWS($I$105:I136)-1,COLUMNS($I$105:I136)-1)<>\"\",OFFSET([1]DE100_7!$I$105,ROWS($I$105:I136)-1,COLUMNS($I$105:I136)-1),\"\")","v":{"$error":"#VALUE!"}},{"$f":"IF(OFFSET([1]DE100_7!$J$105,ROWS($J$105:J136)-1,COLUMNS($J$105:J136)-1)<>\"\",OFFSET([1]DE100_7!$J$105,ROWS($J$105:J136)-1,COLUMNS($J$105:J136)-1),\"\")","v":{"$error":"#VALUE!"}},{"$f":"IF(OFFSET([1]DE100_7!$K$105,ROWS($K$105:K136)-1,COLUMNS($K$105:K136)-1)<>\"\",OFFSET([1]DE100_7!$K$105,ROWS($K$105:K136)-1,COLUMNS($K$105:K136)-1),\"\")","v":{"$error":"#VALUE!"}},{"$f":"IF(OFFSET([1]DE100_7!$L$105,ROWS($L$105:L136)-1,COLUMNS($L$105:L136)-1)<>\"\",OFFSET([1]DE100_7!$L$105,ROWS($L$105:L136)-1,COLUMNS($L$105:L136)-1),\"\")","v":{"$error":"#VALUE!"}},{"$f":"IF(OFFSET([1]DE100_7!$M$105,ROWS($M$105:M136)-1,COLUMNS($M$105:M136)-1)<>\"\",OFFSET([1]DE100_7!$M$105,ROWS($M$105:M136)-1,COLUMNS($M$105:M136)-1),\"\")","v":{"$error":"#VALUE!"}},{"$f":"IF(OFFSET([1]DE100_7!$N$105,ROWS($N$105:N136)-1,COLUMNS($N$105:N136)-1)<>\"\",OFFSET([1]DE100_7!$N$105,ROWS($N$105:N136)-1,COLUMNS($N$105:N136)-1),\"\")","v":{"$error":"#VALUE!"}},{"$f":"IF(OFFSET([1]DE100_7!$O$105,ROWS($O$105:O136)-1,COLUMNS($O$105:O136)-1)<>\"\",OFFSET([1]DE100_7!$O$105,ROWS($O$105:O136)-1,COLUMNS($O$105:O136)-1),\"\")","v":{"$error":"#VALUE!"}},{"$f":"IF(OFFSET([1]DE100_7!$P$105,ROWS($P$105:P136)-1,COLUMNS($P$105:P136)-1)<>\"\",OFFSET([1]DE100_7!$P$105,ROWS($P$105:P136)-1,COLUMNS($P$105:P136)-1),\"\")","v":{"$error":"#VALUE!"}},{"$f":"IF(OFFSET([1]DE100_7!$Q$105,ROWS($Q$105:Q136)-1,COLUMNS($Q$105:Q136)-1)<>\"\",OFFSET([1]DE100_7!$Q$105,ROWS($Q$105:Q136)-1,COLUMNS($Q$105:Q136)-1),\"\")","v":{"$error":"#VALUE!"}},{"$f":"IF(OFFSET([1]DE100_7!$R$105,ROWS($R$105:R136)-1,COLUMNS($R$105:R136)-1)<>\"\",OFFSET([1]DE100_7!$R$105,ROWS($R$105:R136)-1,COLUMNS($R$105:R136)-1),\"\")","v":{"$error":"#VALUE!"}},{"$f":"IF(OFFSET([1]DE100_7!$S$105,ROWS($S$105:S136)-1,COLUMNS($S$105:S136)-1)<>\"\",OFFSET([1]DE100_7!$S$105,ROWS($S$105:S136)-1,COLUMNS($S$105:S136)-1),\"\")","v":{"$error":"#VALUE!"}},{"$f":"IF(OFFSET([1]DE100_7!$T$105,ROWS($T$105:T136)-1,COLUMNS($T$105:T136)-1)<>\"\",OFFSET([1]DE100_7!$T$105,ROWS($T$105:T136)-1,COLUMNS($T$105:T136)-1),\"\")","v":{"$error":"#VALUE!"}},{"$f":"IF(OFFSET([1]DE100_7!$U$105,ROWS($U$105:U136)-1,COLUMNS($U$105:U136)-1)<>\"\",OFFSET([1]DE100_7!$U$105,ROWS($U$105:U136)-1,COLUMNS($U$105:U136)-1),\"\")","v":{"$error":"#VALUE!"}},{"$f":"IF(OFFSET([1]DE100_7!$V$105,ROWS($V$105:V136)-1,COLUMNS($V$105:V136)-1)<>\"\",OFFSET([1]DE100_7!$V$105,ROWS($V$105:V136)-1,COLUMNS($V$105:V136)-1),\"\")","v":{"$error":"#VALUE!"}}]
[{"$f":"IF(OFFSET([1]DE100_7!$C$105,ROWS($C$105:C137)-1,COLUMNS($C$105:C137)-1)<>\"\",OFFSET([1]DE100_7!$C$105,ROWS($C$105:C137)-1,COLUMNS($C$105:C137)-1),\"\")","v":{"$error":"#VALUE!"}},{"$f":"IF(OFFSET([1]DE100_7!$D$105,ROWS($D$105:D137)-1,COLUMNS($D$105:D137)-1)<>\"\",OFFSET([1]DE100_7!$D$105,ROWS($D$105:D137)-1,COLUMNS($D$105:D137)-1),\"\")","v":{"$error":"#VALUE!"}},{"$f":"IF(OFFSET([1]DE100_7!$E$105,ROWS($E$105:E137)-1,COLUMNS($E$105:E137)-1)<>\"\",OFFSET([1]DE100_7!$E$105,ROWS($E$105:E137)-1,COLUMNS($E$105:E137)-1),\"\")","v":{"$error":"#VALUE!"}},{"$f":"IF(OFFSET([1]DE100_7!$F$105,ROWS($F$105:F137)-1,COLUMNS($F$105:F137)-1)<>\"\",OFFSET([1]DE100_7!$F$105,ROWS($F$105:F137)-1,COLUMNS($F$105:F137)-1),\"\")","v":{"$error":"#VALUE!"}},{"$f":"IF(OFFSET([1]DE100_7!$G$105,ROWS($G$105:G137)-1,COLUMNS($G$105:G137)-1)<>\"\",OFFSET([1]DE100_7!$G$105,ROWS($G$105:G137)-1,COLUMNS($G$105:G137)-1),\"\")","v":{"$error":"#VALUE!"}},{"$f":"IF(OFFSET([1]DE100_7!$H$105,ROWS($H$105:H137)-1,COLUMNS($H$105:H137)-1)<>\"\",OFFSET([1]DE100_7!$H$105,ROWS($H$105:H137)-1,COLUMNS($H$105:H137)-1),\"\")","v":{"$error":"#VALUE!"}},{"$f":"IF(OFFSET([1]DE100_7!$I$105,ROWS($I$105:I137)-1,COLUMNS($I$105:I137)-1)<>\"\",OFFSET([1]DE100_7!$I$105,ROWS($I$105:I137)-1,COLUMNS($I$105:I137)-1),\"\")","v":{"$error":"#VALUE!"}},{"$f":"IF(OFFSET([1]DE100_7!$J$105,ROWS($J$105:J137)-1,COLUMNS($J$105:J137)-1)<>\"\",OFFSET([1]DE100_7!$J$105,ROWS($J$105:J137)-1,COLUMNS($J$105:J137)-1),\"\")","v":{"$error":"#VALUE!"}},{"$f":"IF(OFFSET([1]DE100_7!$K$105,ROWS($K$105:K137)-1,COLUMNS($K$105:K137)-1)<>\"\",OFFSET([1]DE100_7!$K$105,ROWS($K$105:K137)-1,COLUMNS($K$105:K137)-1),\"\")","v":{"$error":"#VALUE!"}},{"$f":"IF(OFFSET([1]DE100_7!$L$105,ROWS($L$105:L137)-1,COLUMNS($L$105:L137)-1)<>\"\",OFFSET([1]DE100_7!$L$105,ROWS($L$105:L137)-1,COLUMNS($L$105:L137)-1),\"\")","v":{"$error":"#VALUE!"}},{"$f":"IF(OFFSET([1]DE100_7!$M$105,ROWS($M$105:M137)-1,COLUMNS($M$105:M137)-1)<>\"\",OFFSET([1]DE100_7!$M$105,ROWS($M$105:M137)-1,COLUMNS($M$105:M137)-1),\"\")","v":{"$error":"#VALUE!"}},{"$f":"IF(OFFSET([1]DE100_7!$N$105,ROWS($N$105:N137)-1,COLUMNS($N$105:N137)-1)<>\"\",OFFSET([1]DE100_7!$N$105,ROWS($N$105:N137)-1,COLUMNS($N$105:N137)-1),\"\")","v":{"$error":"#VALUE!"}},{"$f":"IF(OFFSET([1]DE100_7!$O$105,ROWS($O$105:O137)-1,COLUMNS($O$105:O137)-1)<>\"\",OFFSET([1]DE100_7!$O$105,ROWS($O$105:O137)-1,COLUMNS($O$105:O137)-1),\"\")","v":{"$error":"#VALUE!"}},{"$f":"IF(OFFSET([1]DE100_7!$P$105,ROWS($P$105:P137)-1,COLUMNS($P$105:P137)-1)<>\"\",OFFSET([1]DE100_7!$P$105,ROWS($P$105:P137)-1,COLUMNS($P$105:P137)-1),\"\")","v":{"$error":"#VALUE!"}},{"$f":"IF(OFFSET([1]DE100_7!$Q$105,ROWS($Q$105:Q137)-1,COLUMNS($Q$105:Q137)-1)<>\"\",OFFSET([1]DE100_7!$Q$105,ROWS($Q$105:Q137)-1,COLUMNS($Q$105:Q137)-1),\"\")","v":{"$error":"#VALUE!"}},{"$f":"IF(OFFSET([1]DE100_7!$R$105,ROWS($R$105:R137)-1,COLUMNS($R$105:R137)-1)<>\"\",OFFSET([1]DE100_7!$R$105,ROWS($R$105:R137)-1,COLUMNS($R$105:R137)-1),\"\")","v":{"$error":"#VALUE!"}},{"$f":"IF(OFFSET([1]DE100_7!$S$105,ROWS($S$105:S137)-1,COLUMNS($S$105:S137)-1)<>\"\",OFFSET([1]DE100_7!$S$105,ROWS($S$105:S137)-1,COLUMNS($S$105:S137)-1),\"\")","v":{"$error":"#VALUE!"}},{"$f":"IF(OFFSET([1]DE100_7!$T$105,ROWS($T$105:T137)-1,COLUMNS($T$105:T137)-1)<>\"\",OFFSET([1]DE100_7!$T$105,ROWS($T$105:T137)-1,COLUMNS($T$105:T137)-1),\"\")","v":{"$error":"#VALUE!"}},{"$f":"IF(OFFSET([1]DE100_7!$U$105,ROWS($U$105:U137)-1,COLUMNS($U$105:U137)-1)<>\"\",OFFSET([1]DE100_7!$U$105,ROWS($U$105:U137)-1,COLUMNS($U$105:U137)-1),\"\")","v":{"$error":"#VALUE!"}},{"$f":"IF(OFFSET([1]DE100_7!$V$105,ROWS($V$105:V137)-1,COLUMNS($V$105:V137)-1)<>\"\",OFFSET([1]DE100_7!$V$105,ROWS($V$105:V137)-1,COLUMNS($V$105:V137)-1),\"\")","v":{"$error":"#VALUE!"}}]
[{"$f":"IF(OFFSET([1]DE100_7!$C$105,ROWS($C$105:C138)-1,COLUMNS($C$105:C138)-1)<>\"\",OFFSET([1]DE100_7!$C$105,ROWS($C$105:C138)-1,COLUMNS($C$105:C138)-1),\"\")","v":{"$error":"#VALUE!"}},{"$f":"IF(OFFSET([1]DE100_7!$D$105,ROWS($D$105:D138)-1,COLUMNS($D$105:D138)-1)<>\"\",OFFSET([1]DE100_7!$D$105,ROWS($D$105:D138)-1,COLUMNS($D$105:D138)-1),\"\")","v":{"$error":"#VALUE!"}},{"$f":"IF(OFFSET([1]DE100_7!$E$105,ROWS($E$105:E138)-1,COLUMNS($E$105:E138)-1)<>\"\",OFFSET([1]DE100_7!$E$105,ROWS($E$105:E138)-1,COLUMNS($E$105:E138)-1),\"\")","v":{"$error":"#VALUE!"}},{"$f":"IF(OFFSET([1]DE100_7!$F$105,ROWS($F$105:F138)-1,COLUMNS($F$105:F138)-1)<>\"\",OFFSET([1]DE100_7!$F$105,ROWS($F$105:F138)-1,COLUMNS($F$105:F138)-1),\"\")","v":{"$error":"#VALUE!"}},{"$f":"IF(OFFSET([1]DE100_7!$G$105,ROWS($G$105:G138)-1,COLUMNS($G$105:G138)-1)<>\"\",OFFSET([1]DE100_7!$G$105,ROWS($G$105:G138)-1,COLUMNS($G$105:G138)-1),\"\")","v":{"$error":"#VALUE!"}},{"$f":"IF(OFFSET([1]DE100_7!$H$105,ROWS($H$105:H138)-1,COLUMNS($H$105:H138)-1)<>\"\",OFFSET([1]DE100_7!$H$105,ROWS($H$105:H138)-1,COLUMNS($H$105:H138)-1),\"\")","v":{"$error":"#VALUE!"}},{"$f":"IF(OFFSET([1]DE100_7!$I$105,ROWS($I$105:I138)-1,COLUMNS($I$105:I138)-1)<>\"\",OFFSET([1]DE100_7!$I$105,ROWS($I$105:I138)-1,COLUMNS($I$105:I138)-1),\"\")","v":{"$error":"#VALUE!"}},{"$f":"IF(OFFSET([1]DE100_7!$J$105,ROWS($J$105:J138)-1,COLUMNS($J$105:J138)-1)<>\"\",OFFSET([1]DE100_7!$J$105,ROWS($J$105:J138)-1,COLUMNS($J$105:J138)-1),\"\")","v":{"$error":"#VALUE!"}},{"$f":"IF(OFFSET([1]DE100_7!$K$105,ROWS($K$105:K138)-1,COLUMNS($K$105:K138)-1)<>\"\",OFFSET([1]DE100_7!$K$105,ROWS($K$105:K138)-1,COLUMNS($K$105:K138)-1),\"\")","v":{"$error":"#VALUE!"}},{"$f":"IF(OFFSET([1]DE100_7!$L$105,ROWS($L$105:L138)-1,COLUMNS($L$105:L138)-1)<>\"\",OFFSET([1]DE100_7!$L$105,ROWS($L$105:L138)-1,COLUMNS($L$105:L138)-1),\"\")","v":{"$error":"#VALUE!"}},{"$f":"IF(OFFSET([1]DE100_7!$M$105,ROWS($M$105:M138)-1,COLUMNS($M$105:M138)-1)<>\"\",OFFSET([1]DE100_7!$M$105,ROWS($M$105:M138)-1,COLUMNS($M$105:M138)-1),\"\")","v":{"$error":"#VALUE!"}},{"$f":"IF(OFFSET([1]DE100_7!$N$105,ROWS($N$105:N138)-1,COLUMNS($N$105:N138)-1)<>\"\",OFFSET([1]DE100_7!$N$105,ROWS($N$105:N138)-1,COLUMNS($N$105:N138)-1),\"\")","v":{"$error":"#VALUE!"}},{"$f":"IF(OFFSET([1]DE100_7!$O$105,ROWS($O$105:O138)-1,COLUMNS($O$105:O138)-1)<>\"\",OFFSET([1]DE100_7!$O$105,ROWS($O$105:O138)-1,COLUMNS($O$105:O138)-1),\"\")","v":{"$error":"#VALUE!"}},{"$f":"IF(OFFSET([1]DE100_7!$P$105,ROWS($P$105:P138)-1,COLUMNS($P$105:P138)-1)<>\"\",OFFSET([1]DE100_7!$P$105,ROWS($P$105:P138)-1,COLUMNS($P$105:P138)-1),\"\")","v":{"$error":"#VALUE!"}},{"$f":"IF(OFFSET([1]DE100_7!$Q$105,ROWS($Q$105:Q138)-1,COLUMNS($Q$105:Q138)-1)<>\"\",OFFSET([1]DE100_7!$Q$105,ROWS($Q$105:Q138)-1,COLUMNS($Q$105:Q138)-1),\"\")","v":{"$error":"#VALUE!"}},{"$f":"IF(OFFSET([1]DE100_7!$R$105,ROWS($R$105:R138)-1,COLUMNS($R$105:R138)-1)<>\"\",OFFSET([1]DE100_7!$R$105,ROWS($R$105:R138)-1,COLUMNS($R$105:R138)-1),\"\")","v":{"$error":"#VALUE!"}},{"$f":"IF(OFFSET([1]DE100_7!$S$105,ROWS($S$105:S138)-1,COLUMNS($S$105:S138)-1)<>\"\",OFFSET([1]DE100_7!$S$105,ROWS($S$105:S138)-1,COLUMNS($S$105:S138)-1),\"\")","v":{"$error":"#VALUE!"}},{"$f":"IF(OFFSET([1]DE100_7!$T$105,ROWS($T$105:T138)-1,COLUMNS($T$105:T138)-1)<>\"\",OFFSET([1]DE100_7!$T$105,ROWS($T$105:T138)-1,COLUMNS($T$105:T138)-1),\"\")","v":{"$error":"#VALUE!"}},{"$f":"IF(OFFSET([1]DE100_7!$U$105,ROWS($U$105:U138)-1,COLUMNS($U$105:U138)-1)<>\"\",OFFSET([1]DE100_7!$U$105,ROWS($U$105:U138)-1,COLUMNS($U$105:U138)-1),\"\")","v":{"$error":"#VALUE!"}},{"$f":"IF(OFFSET([1]DE100_7!$V$105,ROWS($V$105:V138)-1,COLUMNS($V$105:V138)-1)<>\"\",OFFSET([1]DE100_7!$V$105,ROWS($V$105:V138)-1,COLUMNS($V$105:V138)-1),\"\")","v":{"$error":"#VALUE!"}}]
[{"$f":"IF(OFFSET([1]DE100_7!$C$105,ROWS($C$105:C139)-1,COLUMNS($C$105:C139)-1)<>\"\",OFFSET([1]DE100_7!$C$105,ROWS($C$105:C139)-1,COLUMNS($C$105:C139)-1),\"\")","v":{"$error":"#VALUE!"}},{"$f":"IF(OFFSET([1]DE100_7!$D$105,ROWS($D$105:D139)-1,COLUMNS($D$105:D139)-1)<>\"\",OFFSET([1]DE100_7!$D$105,ROWS($D$105:D139)-1,COLUMNS($D$105:D139)-1),\"\")","v":{"$error":"#VALUE!"}},{"$f":"IF(OFFSET([1]DE100_7!$E$105,ROWS($E$105:E139)-1,COLUMNS($E$105:E139)-1)<>\"\",OFFSET([1]DE100_7!$E$105,ROWS($E$105:E139)-1,COLUMNS($E$105:E139)-1),\"\")","v":{"$error":"#VALUE!"}},{"$f":"IF(OFFSET([1]DE100_7!$F$105,ROWS($F$105:F139)-1,COLUMNS($F$105:F139)-1)<>\"\",OFFSET([1]DE100_7!$F$105,ROWS($F$105:F139)-1,COLUMNS($F$105:F139)-1),\"\")","v":{"$error":"#VALUE!"}},{"$f":"IF(OFFSET([1]DE100_7!$G$105,ROWS($G$105:G139)-1,COLUMNS($G$105:G139)-1)<>\"\",OFFSET([1]DE100_7!$G$105,ROWS($G$105:G139)-1,COLUMNS($G$105:G139)-1),\"\")","v":{"$error":"#VALUE!"}},{"$f":"IF(OFFSET([1]DE100_7!$H$105,ROWS($H$105:H139)-1,COLUMNS($H$105:H139)-1)<>\"\",OFFSET([1]DE100_7!$H$105,ROWS($H$105:H139)-1,COLUMNS($H$105:H139)-1),\"\")","v":{"$error":"#VALUE!"}},{"$f":"IF(OFFSET([1]DE100_7!$I$105,ROWS($I$105:I139)-1,COLUMNS($I$105:I139)-1)<>\"\",OFFSET([1]DE100_7!$I$105,ROWS($I$105:I139)-1,COLUMNS($I$105:I139)-1),\"\")","v":{"$error":"#VALUE!"}},{"$f":"IF(OFFSET([1]DE100_7!$J$105,ROWS($J$105:J139)-1,COLUMNS($J$105:J139)-1)<>\"\",OFFSET([1]DE100_7!$J$105,ROWS($J$105:J139)-1,COLUMNS($J$105:J139)-1),\"\")","v":{"$error":"#VALUE!"}},{"$f":"IF(OFFSET([1]DE100_7!$K$105,ROWS($K$105:K139)-1,COLUMNS($K$105:K139)-1)<>\"\",OFFSET([1]DE100_7!$K$105,ROWS($K$105:K139)-1,COLUMNS($K$105:K139)-1),\"\")","v":{"$error":"#VALUE!"}},{"$f":"IF(OFFSET([1]DE100_7!$L$105,ROWS($L$105:L139)-1,COLUMNS($L$105:L139)-1)<>\"\",OFFSET([1]DE100_7!$L$105,ROWS($L$105:L139)-1,COLUMNS($L$105:L139)-1),\"\")","v":{"$error":"#VALUE!"}},{"$f":"IF(OFFSET([1]DE100_7!$M$105,ROWS($M$105:M139)-1,COLUMNS($M$105:M139)-1)<>\"\",OFFSET([1]DE100_7!$M$105,ROWS($M$105:M139)-1,COLUMNS($M$105:M139)-1),\"\")","v":{"$error":"#VALUE!"}},{"$f":"IF(OFFSET([1]DE100_7!$N$105,ROWS($N$105:N139)-1,COLUMNS($N$105:N139)-1)<>\"\",OFFSET([1]DE100_7!$N$105,ROWS($N$105:N139)-1,COLUMNS($N$105:N139)-1),\"\")","v":{"$error":"#VALUE!"}},{"$f":"IF(OFFSET([1]DE100_7!$O$105,ROWS($O$105:O139)-1,COLUMNS($O$105:O139)-1)<>\"\",OFFSET([1]DE100_7!$O$105,ROWS($O$105:O139)-1,COLUMNS($O$105:O139)-1),\"\")","v":{"$error":"#VALUE!"}},{"$f":"IF(OFFSET([1]DE100_7!$P$105,ROWS($P$105:P139)-1,COLUMNS($P$105:P139)-1)<>\"\",OFFSET([1]DE100_7!$P$105,ROWS($P$105:P139)-1,COLUMNS($P$105:P139)-1),\"\")","v":{"$error":"#VALUE!"}},{"$f":"IF(OFFSET([1]DE100_7!$Q$105,ROWS($Q$105:Q139)-1,COLUMNS($Q$105:Q139)-1)<>\"\",OFFSET([1]DE100_7!$Q$105,ROWS($Q$105:Q139)-1,COLUMNS($Q$105:Q139)-1),\"\")","v":{"$error":"#VALUE!"}},{"$f":"IF(OFFSET([1]DE100_7!$R$105,ROWS($R$105:R139)-1,COLUMNS($R$105:R139)-1)<>\"\",OFFSET([1]DE100_7!$R$105,ROWS($R$105:R139)-1,COLUMNS($R$105:R139)-1),\"\")","v":{"$error":"#VALUE!"}},{"$f":"IF(OFFSET([1]DE100_7!$S$105,ROWS($S$105:S139)-1,COLUMNS($S$105:S139)-1)<>\"\",OFFSET([1]DE100_7!$S$105,ROWS($S$105:S139)-1,COLUMNS($S$105:S139)-1),\"\")","v":{"$error":"#VALUE!"}},{"$f":"IF(OFFSET([1]DE100_7!$T$105,ROWS($T$105:T139)-1,COLUMNS($T$105:T139)-1)<>\"\",OFFSET([1]DE100_7!$T$105,ROWS($T$105:T139)-1,COLUMNS($T$105:T139)-1),\"\")","v":{"$error":"#VALUE!"}},{"$f":"IF(OFFSET([1]DE100_7!$U$105,ROWS($U$105:U139)-1,COLUMNS($U$105:U139)-1)<>\"\",OFFSET([1]DE100_7!$U$105,ROWS($U$105:U139)-1,COLUMNS($U$105:U139)-1),\"\")","v":{"$error":"#VALUE!"}},{"$f":"IF(OFFSET([1]DE100_7!$V$105,ROWS($V$105:V139)-1,COLUMNS($V$105:V139)-1)<>\"\",OFFSET([1]DE100_7!$V$105,ROWS($V$105:V139)-1,COLUMNS($V$105:V139)-1),\"\")","v":{"$error":"#VALUE!"}}]
[{"$f":"IF(OFFSET([1]DE100_7!$C$105,ROWS($C$105:C140)-1,COLUMNS($C$105:C140)-1)<>\"\",OFFSET([1]DE100_7!$C$105,ROWS($C$105:C140)-1,COLUMNS($C$105:C140)-1),\"\")","v":{"$error":"#VALUE!"}},{"$f":"IF(OFFSET([1]DE100_7!$D$105,ROWS($D$105:D140)-1,COLUMNS($D$105:D140)-1)<>\"\",OFFSET([1]DE100_7!$D$105,ROWS($D$105:D140)-1,COLUMNS($D$105:D140)-1),\"\")","v":{"$error":"#VALUE!"}},{"$f":"IF(OFFSET([1]DE100_7!$E$105,ROWS($E$105:E140)-1,COLUMNS($E$105:E140)-1)<>\"\",OFFSET([1]DE100_7!$E$105,ROWS($E$105:E140)-1,COLUMNS($E$105:E140)-1),\"\")","v":{"$error":"#VALUE!"}},{"$f":"IF(OFFSET([1]DE100_7!$F$105,ROWS($F$105:F140)-1,COLUMNS($F$105:F140)-1)<>\"\",OFFSET([1]DE100_7!$F$105,ROWS($F$105:F140)-1,COLUMNS($F$105:F140)-1),\"\")","v":{"$error":"#VALUE!"}},{"$f":"IF(OFFSET([1]DE100_7!$G$105,ROWS($G$105:G140)-1,COLUMNS($G$105:G140)-1)<>\"\",OFFSET([1]DE100_7!$G$105,ROWS($G$105:G140)-1,COLUMNS($G$105:G140)-1),\"\")","v":{"$error":"#VALUE!"}},{"$f":"IF(OFFSET([1]DE100_7!$H$105,ROWS($H$105:H140)-1,COLUMNS($H$105:H140)-1)<>\"\",OFFSET([1]DE100_7!$H$105,ROWS($H$105:H140)-1,COLUMNS($H$105:H140)-1),\"\")","v":{"$error":"#VALUE!"}},{"$f":"IF(OFFSET([1]DE100_7!$I$105,ROWS($I$105:I140)-1,COLUMNS($I$105:I140)-1)<>\"\",OFFSET([1]DE100_7!$I$105,ROWS($I$105:I140)-1,COLUMNS($I$105:I140)-1),\"\")","v":{"$error":"#VALUE!"}},{"$f":"IF(OFFSET([1]DE100_7!$J$105,ROWS($J$105:J140)-1,COLUMNS($J$105:J140)-1)<>\"\",OFFSET([1]DE100_7!$J$105,ROWS($J$105:J140)-1,COLUMNS($J$105:J140)-1),\"\")","v":{"$error":"#VALUE!"}},{"$f":"IF(OFFSET([1]DE100_7!$K$105,ROWS($K$105:K140)-1,COLUMNS($K$105:K140)-1)<>\"\",OFFSET([1]DE100_7!$K$105,ROWS($K$105:K140)-1,COLUMNS($K$105:K140)-1),\"\")","v":{"$error":"#VALUE!"}},{"$f":"IF(OFFSET([1]DE100_7!$L$105,ROWS($L$105:L140)-1,COLUMNS($L$105:L140)-1)<>\"\",OFFSET([1]DE100_7!$L$105,ROWS($L$105:L140)-1,COLUMNS($L$105:L140)-1),\"\")","v":{"$error":"#VALUE!"}},{"$f":"IF(OFFSET([1]DE100_7!$M$105,ROWS($M$105:M140)-1,COLUMNS($M$105:M140)-1)<>\"\",OFFSET([1]DE100_7!$M$105,ROWS($M$105:M140)-1,COLUMNS($M$105:M140)-1),\"\")","v":{"$error":"#VALUE!"}},{"$f":"IF(OFFSET([1]DE100_7!$N$105,ROWS($N$105:N140)-1,COLUMNS($N$105:N140)-1)<>\"\",OFFSET([1]DE100_7!$N$105,ROWS($N$105:N140)-1,COLUMNS($N$105:N140)-1),\"\")","v":{"$error":"#VALUE!"}},{"$f":"IF(OFFSET([1]DE100_7!$O$105,ROWS($O$105:O140)-1,COLUMNS($O$105:O140)-1)<>\"\",OFFSET([1]DE100_7!$O$105,ROWS($O$105:O140)-1,COLUMNS($O$105:O140)-1),\"\")","v":{"$error":"#VALUE!"}},{"$f":"IF(OFFSET([1]DE100_7!$P$105,ROWS($P$105:P140)-1,COLUMNS($P$105:P140)-1)<>\"\",OFFSET([1]DE100_7!$P$105,ROWS($P$105:P140)-1,COLUMNS($P$105:P140)-1),\"\")","v":{"$error":"#VALUE!"}},{"$f":"IF(OFFSET([1]DE100_7!$Q$105,ROWS($Q$105:Q140)-1,COLUMNS($Q$105:Q140)-1)<>\"\",OFFSET([1]DE100_7!$Q$105,ROWS($Q$105:Q140)-1,COLUMNS($Q$105:Q140)-1),\"\")","v":{"$error":"#VALUE!"}},{"$f":"IF(OFFSET([1]DE100_7!$R$105,ROWS($R$105:R140)-1,COLUMNS($R$105:R140)-1)<>\"\",OFFSET([1]DE100_7!$R$105,ROWS($R$105:R140)-1,COLUMNS($R$105:R140)-1),\"\")","v":{"$error":"#VALUE!"}},{"$f":"IF(OFFSET([1]DE100_7!$S$105,ROWS($S$105:S140)-1,COLUMNS($S$105:S140)-1)<>\"\",OFFSET([1]DE100_7!$S$105,ROWS($S$105:S140)-1,COLUMNS($S$105:S140)-1),\"\")","v":{"$error":"#VALUE!"}},{"$f":"IF(OFFSET([1]DE100_7!$T$105,ROWS($T$105:T140)-1,COLUMNS($T$105:T140)-1)<>\"\",OFFSET([1]DE100_7!$T$105,ROWS($T$105:T140)-1,COLUMNS($T$105:T140)-1),\"\")","v":{"$error":"#VALUE!"}},{"$f":"IF(OFFSET([1]DE100_7!$U$105,ROWS($U$105:U140)-1,COLUMNS($U$105:U140)-1)<>\"\",OFFSET([1]DE100_7!$U$105,ROWS($U$105:U140)-1,COLUMNS($U$105:U140)-1),\"\")","v":{"$error":"#VALUE!"}},{"$f":"IF(OFFSET([1]DE100_7!$V$105,ROWS($V$105:V140)-1,COLUMNS($V$105:V140)-1)<>\"\",OFFSET([1]DE100_7!$V$105,ROWS($V$105:V140)-1,COLUMNS($V$105:V140)-1),\"\")","v":{"$error":"#VALUE!"}}]
[{"$f":"IF(OFFSET([1]DE100_7!$C$105,ROWS($C$105:C141)-1,COLUMNS($C$105:C141)-1)<>\"\",OFFSET([1]DE100_7!$C$105,ROWS($C$105:C141)-1,COLUMNS($C$105:C141)-1),\"\")","v":{"$error":"#VALUE!"}},{"$f":"IF(OFFSET([1]DE100_7!$D$105,ROWS($D$105:D141)-1,COLUMNS($D$105:D141)-1)<>\"\",OFFSET([1]DE100_7!$D$105,ROWS($D$105:D141)-1,COLUMNS($D$105:D141)-1),\"\")","v":{"$error":"#VALUE!"}},{"$f":"IF(OFFSET([1]DE100_7!$E$105,ROWS($E$105:E141)-1,COLUMNS($E$105:E141)-1)<>\"\",OFFSET([1]DE100_7!$E$105,ROWS($E$105:E141)-1,COLUMNS($E$105:E141)-1),\"\")","v":{"$error":"#VALUE!"}},{"$f":"IF(OFFSET([1]DE100_7!$F$105,ROWS($F$105:F141)-1,COLUMNS($F$105:F141)-1)<>\"\",OFFSET([1]DE100_7!$F$105,ROWS($F$105:F141)-1,COLUMNS($F$105:F141)-1),\"\")","v":{"$error":"#VALUE!"}},{"$f":"IF(OFFSET([1]DE100_7!$G$105,ROWS($G$105:G141)-1,COLUMNS($G$105:G141)-1)<>\"\",OFFSET([1]DE100_7!$G$105,ROWS($G$105:G141)-1,COLUMNS($G$105:G141)-1),\"\")","v":{"$error":"#VALUE!"}},{"$f":"IF(OFFSET([1]DE100_7!$H$105,ROWS($H$105:H141)-1,COLUMNS($H$105:H141)-1)<>\"\",OFFSET([1]DE100_7!$H$105,ROWS($H$105:H141)-1,COLUMNS($H$105:H141)-1),\"\")","v":{"$error":"#VALUE!"}},{"$f":"IF(OFFSET([1]DE100_7!$I$105,ROWS($I$105:I141)-1,COLUMNS($I$105:I141)-1)<>\"\",OFFSET([1]DE100_7!$I$105,ROWS($I$105:I141)-1,COLUMNS($I$105:I141)-1),\"\")","v":{"$error":"#VALUE!"}},{"$f":"IF(OFFSET([1]DE100_7!$J$105,ROWS($J$105:J141)-1,COLUMNS($J$105:J141)-1)<>\"\",OFFSET([1]DE100_7!$J$105,ROWS($J$105:J141)-1,COLUMNS($J$105:J141)-1),\"\")","v":{"$error":"#VALUE!"}},{"$f":"IF(OFFSET([1]DE100_7!$K$105,ROWS($K$105:K141)-1,COLUMNS($K$105:K141)-1)<>\"\",OFFSET([1]DE100_7!$K$105,ROWS($K$105:K141)-1,COLUMNS($K$105:K141)-1),\"\")","v":{"$error":"#VALUE!"}},{"$f":"IF(OFFSET([1]DE100_7!$L$105,ROWS($L$105:L141)-1,COLUMNS($L$105:L141)-1)<>\"\",OFFSET([1]DE100_7!$L$105,ROWS($L$105:L141)-1,COLUMNS($L$105:L141)-1),\"\")","v":{"$error":"#VALUE!"}},{"$f":"IF(OFFSET([1]DE100_7!$M$105,ROWS($M$105:M141)-1,COLUMNS($M$105:M141)-1)<>\"\",OFFSET([1]DE100_7!$M$105,ROWS($M$105:M141)-1,COLUMNS($M$105:M141)-1),\"\")","v":{"$error":"#VALUE!"}},{"$f":"IF(OFFSET([1]DE100_7!$N$105,ROWS($N$105:N141)-1,COLUMNS($N$105:N141)-1)<>\"\",OFFSET([1]DE100_7!$N$105,ROWS($N$105:N141)-1,COLUMNS($N$105:N141)-1),\"\")","v":{"$error":"#VALUE!"}},{"$f":"IF(OFFSET([1]DE100_7!$O$105,ROWS($O$105:O141)-1,COLUMNS($O$105:O141)-1)<>\"\",OFFSET([1]DE100_7!$O$105,ROWS($O$105:O141)-1,COLUMNS($O$105:O141)-1),\"\")","v":{"$error":"#VALUE!"}},{"$f":"IF(OFFSET([1]DE100_7!$P$105,ROWS($P$105:P141)-1,COLUMNS($P$105:P141)-1)<>\"\",OFFSET([1]DE100_7!$P$105,ROWS($P$105:P141)-1,COLUMNS($P$105:P141)-1),\"\")","v":{"$error":"#VALUE!"}},{"$f":"IF(OFFSET([1]DE100_7!$Q$105,ROWS($Q$105:Q141)-1,COLUMNS($Q$105:Q141)-1)<>\"\",OFFSET([1]DE100_7!$Q$105,ROWS($Q$105:Q141)-1,COLUMNS($Q$105:Q141)-1),\"\")","v":{"$error":"#VALUE!"}},{"$f":"IF(OFFSET([1]DE100_7!$R$105,ROWS($R$105:R141)-1,COLUMNS($R$105:R141)-1)<>\"\",OFFSET([1]DE100_7!$R$105,ROWS($R$105:R141)-1,COLUMNS($R$105:R141)-1),\"\")","v":{"$error":"#VALUE!"}},{"$f":"IF(OFFSET([1]DE100_7!$S$105,ROWS($S$105:S141)-1,COLUMNS($S$105:S141)-1)<>\"\",OFFSET([1]DE100_7!$S$105,ROWS($S$105:S141)-1,COLUMNS($S$105:S141)-1),\"\")","v":{"$error":"#VALUE!"}},{"$f":"IF(OFFSET([1]DE100_7!$T$105,ROWS($T$105:T141)-1,COLUMNS($T$105:T141)-1)<>\"\",OFFSET([1]DE100_7!$T$105,ROWS($T$105:T141)-1,COLUMNS($T$105:T141)-1),\"\")","v":{"$error":"#VALUE!"}},{"$f":"IF(OFFSET([1]DE100_7!$U$105,ROWS($U$105:U141)-1,COLUMNS($U$105:U141)-1)<>\"\",OFFSET([1]DE100_7!$U$105,ROWS($U$105:U141)-1,COLUMNS($U$105:U141)-1),\"\")","v":{"$error":"#VALUE!"}},{"$f":"IF(OFFSET([1]DE100_7!$V$105,ROWS($V$105:V141)-1,COLUMNS($V$105:V141)-1)<>\"\",OFFSET([1]DE100_7!$V$105,ROWS($V$105:V141)-1,COLUMNS($V$105:V141)-1),\"\")","v":{"$error":"#VALUE!"}}]
[{"$f":"IF(OFFSET([1]DE100_7!$C$105,ROWS($C$105:C142)-1,COLUMNS($C$105:C142)-1)<>\"\",OFFSET([1]DE100_7!$C$105,ROWS($C$105:C142)-1,COLUMNS($C$105:C142)-1),\"\")","v":{"$error":"#VALUE!"}},null,null,null,{"$f":"IF(OFFSET([1]DE100_7!$G$105,ROWS($G$105:G142)-1,COLUMNS($G$105:G142)-1)<>\"\",OFFSET([1]DE100_7!$G$105,ROWS($G$105:G142)-1,COLUMNS($G$105:G142)-1),\"\")","v":{"$error":"#VALUE!"}},{"$f":"IF(OFFSET([1]DE100_7!$H$105,ROWS($H$105:H142)-1,COLUMNS($H$105:H142)-1)<>\"\",OFFSET([1]DE100_7!$H$105,ROWS($H$105:H142)-1,COLUMNS($H$105:H142)-1),\"\")","v":{"$error":"#VALUE!"}},{"$f":"IF(OFFSET([1]DE100_7!$I$105,ROWS($I$105:I142)-1,COLUMNS($I$105:I142)-1)<>\"\",OFFSET([1]DE100_7!$I$105,ROWS($I$105:I142)-1,COLUMNS($I$105:I142)-1),\"\")","v":{"$error":"#VALUE!"}},{"$f":"IF(OFFSET([1]DE100_7!$J$105,ROWS($J$105:J142)-1,COLUMNS($J$105:J142)-1)<>\"\",OFFSET([1]DE100_7!$J$105,ROWS($J$105:J142)-1,COLUMNS($J$105:J142)-1),\"\")","v":{"$error":"#VALUE!"}},{"$f":"IF(OFFSET([1]DE100_7!$K$105,ROWS($K$105:K142)-1,COLUMNS($K$105:K142)-1)<>\"\",OFFSET([1]DE100_7!$K$105,ROWS($K$105:K142)-1,COLUMNS($K$105:K142)-1),\"\")","v":{"$error":"#VALUE!"}},{"$f":"IF(OFFSET([1]DE100_7!$L$105,ROWS($L$105:L142)-1,COLUMNS($L$105:L142)-1)<>\"\",OFFSET([1]DE100_7!$L$105,ROWS($L$105:L142)-1,COLUMNS($L$105:L142)-1),\"\")","v":{"$error":"#VALUE!"}},{"$f":"IF(OFFSET([1]DE100_7!$M$105,ROWS($M$105:M142)-1,COLUMNS($M$105:M142)-1)<>\"\",OFFSET([1]DE100_7!$M$105,ROWS($M$105:M142)-1,COLUMNS($M$105:M142)-1),\"\")","v":{"$error":"#VALUE!"}},{"$f":"IF(OFFSET([1]DE100_7!$N$105,ROWS($N$105:N142)-1,COLUMNS($N$105:N142)-1)<>\"\",OFFSET([1]DE100_7!$N$105,ROWS($N$105:N142)-1,COLUMNS($N$105:N142)-1),\"\")","v":{"$error":"#VALUE!"}},{"$f":"IF(OFFSET([1]DE100_7!$O$105,ROWS($O$105:O142)-1,COLUMNS($O$105:O142)-1)<>\"\",OFFSET([1]DE100_7!$O$105,ROWS($O$105:O142)-1,COLUMNS($O$105:O142)-1),\"\")","v":{"$error":"#VALUE!"}},{"$f":"IF(OFFSET([1]DE100_7!$P$105,ROWS($P$105:P142)-1,COLUMNS($P$105:P142)-1)<>\"\",OFFSET([1]DE100_7!$P$105,ROWS($P$105:P142)-1,COLUMNS($P$105:P142)-1),\"\")","v":{"$error":"#VALUE!"}},{"$f":"IF(OFFSET([1]DE100_7!$Q$105,ROWS($Q$105:Q142)-1,COLUMNS($Q$105:Q142)-1)<>\"\",OFFSET([1]DE100_7!$Q$105,ROWS($Q$105:Q142)-1,COLUMNS($Q$105:Q142)-1),\"\")","v":{"$error":"#VALUE!"}},{"$f":"IF(OFFSET([1]DE100_7!$R$105,ROWS($R$105:R142)-1,COLUMNS($R$105:R142)-1)<>\"\",OFFSET([1]DE100_7!$R$105,ROWS($R$105:R142)-1,COLUMNS($R$105:R142)-1),\"\")","v":{"$error":"#VALUE!"}},{"$f":"IF(OFFSET([1]DE100_7!$S$105,ROWS($S$105:S142)-1,COLUMNS($S$105:S142)-1)<>\"\",OFFSET([1]DE100_7!$S$105,ROWS($S$105:S142)-1,COLUMNS($S$105:S142)-1),\"\")","v":{"$error":"#VALUE!"}},{"$f":"IF(OFFSET([1]DE100_7!$T$105,ROWS($T$105:T142)-1,COLUMNS($T$105:T142)-1)<>\"\",OFFSET([1]DE100_7!$T$105,ROWS($T$105:T142)-1,COLUMNS($T$105:T142)-1),\"\")","v":{"$error":"#VALUE!"}},{"$f":"IF(OFFSET([1]DE100_7!$U$105,ROWS($U$105:U142)-1,COLUMNS($U$105:U142)-1)<>\"\",OFFSET([1]DE100_7!$U$105,ROWS($U$105:U142)-1,COLUMNS($U$105:U142)-1),\"\")","v":{"$error":"#VALUE!"}},{"$f":"IF(OFFSET([1]DE100_7!$V$105,ROWS($V$105:V142)-1,COLUMNS($V$105:V142)-1)<>\"\",OFFSET([1]DE100_7!$V$105,ROWS($V$105:V142)-1,COLUMNS($V$105:V142)-1),\"\")","v":{"$error":"#VALUE!"}}]
[{"$f":"IF(OFFSET([1]DE100_7!$C$105,ROWS($C$105:C143)-1,COLUMNS($C$105:C143)-1)<>\"\",OFFSET([1]DE100_7!$C$105,ROWS($C$105:C143)-1,COLUMNS($C$105:C143)-1),\"\")","v":{"$error":"#VALUE!"}},{"$f":"IF(OFFSET([1]DE100_7!$D$105,ROWS($D$105:D143)-1,COLUMNS($D$105:D143)-1)<>\"\",OFFSET([1]DE100_7!$D$105,ROWS($D$105:D143)-1,COLUMNS($D$105:D143)-1),\"\")","v":{"$error":"#VALUE!"}},{"$f":"IF(OFFSET([1]DE100_7!$E$105,ROWS($E$105:E143)-1,COLUMNS($E$105:E143)-1)<>\"\",OFFSET([1]DE100_7!$E$105,ROWS($E$105:E143)-1,COLUMNS($E$105:E143)-1),\"\")","v":{"$error":"#VALUE!"}},{"$f":"IF(OFFSET([1]DE100_7!$F$105,ROWS($F$105:F143)-1,COLUMNS($F$105:F143)-1)<>\"\",OFFSET([1]DE100_7!$F$105,ROWS($F$105:F143)-1,COLUMNS($F$105:F143)-1),\"\")","v":{"$error":"#VALUE!"}},{"$f":"IF(OFFSET([1]DE100_7!$G$105,ROWS($G$105:G143)-1,COLUMNS($G$105:G143)-1)<>\"\",OFFSET([1]DE100_7!$G$105,ROWS($G$105:G143)-1,COLUMNS($G$105:G143)-1),\"\")","v":{"$error":"#VALUE!"}},{"$f":"IF(OFFSET([1]DE100_7!$H$105,ROWS($H$105:H143)-1,COLUMNS($H$105:H143)-1)<>\"\",OFFSET([1]DE100_7!$H$105,ROWS($H$105:H143)-1,COLUMNS($H$105:H143)-1),\"\")","v":{"$error":"#VALUE!"}},{"$f":"IF(OFFSET([1]DE100_7!$I$105,ROWS($I$105:I143)-1,COLUMNS($I$105:I143)-1)<>\"\",OFFSET([1]DE100_7!$I$105,ROWS($I$105:I143)-1,COLUMNS($I$105:I143)-1),\"\")","v":{"$error":"#VALUE!"}},{"$f":"IF(OFFSET([1]DE100_7!$J$105,ROWS($J$105:J143)-1,COLUMNS($J$105:J143)-1)<>\"\",OFFSET([1]DE100_7!$J$105,ROWS($J$105:J143)-1,COLUMNS($J$105:J143)-1),\"\")","v":{"$error":"#VALUE!"}},{"$f":"IF(OFFSET([1]DE100_7!$K$105,ROWS($K$105:K143)-1,COLUMNS($K$105:K143)-1)<>\"\",OFFSET([1]DE100_7!$K$105,ROWS($K$105:K143)-1,COLUMNS($K$105:K143)-1),\"\")","v":{"$error":"#VALUE!"}},{"$f":"IF(OFFSET([1]DE100_7!$L$105,ROWS($L$105:L143)-1,COLUMNS($L$105:L143)-1)<>\"\",OFFSET([1]DE100_7!$L$105,ROWS($L$105:L143)-1,COLUMNS($L$105:L143)-1),\"\")","v":{"$error":"#VALUE!"}},{"$f":"IF(OFFSET([1]DE100_7!$M$105,ROWS($M$105:M143)-1,COLUMNS($M$105:M143)-1)<>\"\",OFFSET([1]DE100_7!$M$105,ROWS($M$105:M143)-1,COLUMNS($M$105:M143)-1),\"\")","v":{"$error":"#VALUE!"}},{"$f":"IF(OFFSET([1]DE100_7!$N$105,ROWS($N$105:N143)-1,COLUMNS($N$105:N143)-1)<>\"\",OFFSET([1]DE100_7!$N$105,ROWS($N$105:N143)-1,COLUMNS($N$105:N143)-1),\"\")","v":{"$error":"#VALUE!"}},{"$f":"IF(OFFSET([1]DE100_7!$O$105,ROWS($O$105:O143)-1,COLUMNS($O$105:O143)-1)<>\"\",OFFSET([1]DE100_7!$O$105,ROWS($O$105:O143)-1,COLUMNS($O$105:O143)-1),\"\")","v":{"$error":"#VALUE!"}},{"$f":"IF(OFFSET([1]DE100_7!$P$105,ROWS($P$105:P143)-1,COLUMNS($P$105:P143)-1)<>\"\",OFFSET([1]DE100_7!$P$105,ROWS($P$105:P143)-1,COLUMNS($P$105:P143)-1),\"\")","v":{"$error":"#VALUE!"}},{"$f":"IF(OFFSET([1]DE100_7!$Q$105,ROWS($Q$105:Q143)-1,COLUMNS($Q$105:Q143)-1)<>\"\",OFFSET([1]DE100_7!$Q$105,ROWS($Q$105:Q143)-1,COLUMNS($Q$105:Q143)-1),\"\")","v":{"$error":"#VALUE!"}},{"$f":"IF(OFFSET([1]DE100_7!$R$105,ROWS($R$105:R143)-1,COLUMNS($R$105:R143)-1)<>\"\",OFFSET([1]DE100_7!$R$105,ROWS($R$105:R143)-1,COLUMNS($R$105:R143)-1),\"\")","v":{"$error":"#VALUE!"}},{"$f":"IF(OFFSET([1]DE100_7!$S$105,ROWS($S$105:S143)-1,COLUMNS($S$105:S143)-1)<>\"\",OFFSET([1]DE100_7!$S$105,ROWS($S$105:S143)-1,COLUMNS($S$105:S143)-1),\"\")","v":{"$error":"#VALUE!"}},{"$f":"IF(OFFSET([1]DE100_7!$T$105,ROWS($T$105:T143)-1,COLUMNS($T$105:T143)-1)<>\"\",OFFSET([1]DE100_7!$T$105,ROWS($T$105:T143)-1,COLUMNS($T$105:T143)-1),\"\")","v":{"$error":"#VALUE!"}},{"$f":"IF(OFFSET([1]DE100_7!$U$105,ROWS($U$105:U143)-1,COLUMNS($U$105:U143)-1)<>\"\",OFFSET([1]DE100_7!$U$105,ROWS($U$105:U143)-1,COLUMNS($U$105:U143)-1),\"\")","v":{"$error":"#VALUE!"}},{"$f":"IF(OFFSET([1]DE100_7!$V$105,ROWS($V$105:V143)-1,COLUMNS($V$105:V143)-1)<>\"\",OFFSET([1]DE100_7!$V$105,ROWS($V$105:V143)-1,COLUMNS($V$105:V143)-1),\"\")","v":{"$error":"#VALUE!"}}]
[{"$f":"IF(OFFSET([1]DE100_7!$C$105,ROWS($C$105:C144)-1,COLUMNS($C$105:C144)-1)<>\"\",OFFSET([1]DE100_7!$C$105,ROWS($C$105:C144)-1,COLUMNS($C$105:C144)-1),\"\")","v":{"$error":"#VALUE!"}},{"$f":"IF(OFFSET([1]DE100_7!$D$105,ROWS($D$105:D144)-1,COLUMNS($D$105:D144)-1)<>\"\",OFFSET([1]DE100_7!$D$105,ROWS($D$105:D144)-1,COLUMNS($D$105:D144)-1),\"\")","v":{"$error":"#VALUE!"}},{"$f":"IF(OFFSET([1]DE100_7!$E$105,ROWS($E$105:E144)-1,COLUMNS($E$105:E144)-1)<>\"\",OFFSET([1]DE100_7!$E$105,ROWS($E$105:E144)-1,COLUMNS($E$105:E144)-1),\"\")","v":{"$error":"#VALUE!"}},{"$f":"IF(OFFSET([1]DE100_7!$F$105,ROWS($F$105:F144)-1,COLUMNS($F$105:F144)-1)<>\"\",OFFSET([1]DE100_7!$F$105,ROWS($F$105:F144)-1,COLUMNS($F$105:F144)-1),\"\")","v":{"$error":"#VALUE!"}},{"$f":"IF(OFFSET([1]DE100_7!$G$105,ROWS($G$105:G144)-1,COLUMNS($G$105:G144)-1)<>\"\",OFFSET([1]DE100_7!$G$105,ROWS($G$105:G144)-1,COLUMNS($G$105:G144)-1),\"\")","v":{"$error":"#VALUE!"}},{"$f":"IF(OFFSET([1]DE100_7!$H$105,ROWS($H$105:H144)-1,COLUMNS($H$105:H144)-1)<>\"\",OFFSET([1]DE100_7!$H$105,ROWS($H$105:H144)-1,COLUMNS($H$105:H144)-1),\"\")","v":{"$error":"#VALUE!"}},{"$f":"IF(OFFSET([1]DE100_7!$I$105,ROWS($I$105:I144)-1,COLUMNS($I$105:I144)-1)<>\"\",OFFSET([1]DE100_7!$I$105,ROWS($I$105:I144)-1,COLUMNS($I$105:I144)-1),\"\")","v":{"$error":"#VALUE!"}},{"$f":"IF(OFFSET([1]DE100_7!$J$105,ROWS($J$105:J144)-1,COLUMNS($J$105:J144)-1)<>\"\",OFFSET([1]DE100_7!$J$105,ROWS($J$105:J144)-1,COLUMNS($J$105:J144)-1),\"\")","v":{"$error":"#VALUE!"}},{"$f":"IF(OFFSET([1]DE100_7!$K$105,ROWS($K$105:K144)-1,COLUMNS($K$105:K144)-1)<>\"\",OFFSET([1]DE100_7!$K$105,ROWS($K$105:K144)-1,COLUMNS($K$105:K144)-1),\"\")","v":{"$error":"#VALUE!"}},{"$f":"IF(OFFSET([1]DE100_7!$L$105,ROWS($L$105:L144)-1,COLUMNS($L$105:L144)-1)<>\"\",OFFSET([1]DE100_7!$L$105,ROWS($L$105:L144)-1,COLUMNS($L$105:L144)-1),\"\")","v":{"$error":"#VALUE!"}},{"$f":"IF(OFFSET([1]DE100_7!$M$105,ROWS($M$105:M144)-1,COLUMNS($M$105:M144)-1)<>\"\",OFFSET([1]DE100_7!$M$105,ROWS($M$105:M144)-1,COLUMNS($M$105:M144)-1),\"\")","v":{"$error":"#VALUE!"}},{"$f":"IF(OFFSET([1]DE100_7!$N$105,ROWS($N$105:N144)-1,COLUMNS($N$105:N144)-1)<>\"\",OFFSET([1]DE100_7!$N$105,ROWS($N$105:N144)-1,COLUMNS($N$105:N144)-1),\"\")","v":{"$error":"#VALUE!"}},{"$f":"IF(OFFSET([1]DE100_7!$O$105,ROWS($O$105:O144)-1,COLUMNS($O$105:O144)-1)<>\"\",OFFSET([1]DE100_7!$O$105,ROWS($O$105:O144)-1,COLUMNS($O$105:O144)-1),\"\")","v":{"$error":"#VALUE!"}},{"$f":"IF(OFFSET([1]DE100_7!$P$105,ROWS($P$105:P144)-1,COLUMNS($P$105:P144)-1)<>\"\",OFFSET([1]DE100_7!$P$105,ROWS($P$105:P144)-1,COLUMNS($P$105:P144)-1),\"\")","v":{"$error":"#VALUE!"}},{"$f":"IF(OFFSET([1]DE100_7!$Q$105,ROWS($Q$105:Q144)-1,COLUMNS($Q$105:Q144)-1)<>\"\",OFFSET([1]DE100_7!$Q$105,ROWS($Q$105:Q144)-1,COLUMNS($Q$105:Q144)-1),\"\")","v":{"$error":"#VALUE!"}},{"$f":"IF(OFFSET([1]DE100_7!$R$105,ROWS($R$105:R144)-1,COLUMNS($R$105:R144)-1)<>\"\",OFFSET([1]DE100_7!$R$105,ROWS($R$105:R144)-1,COLUMNS($R$105:R144)-1),\"\")","v":{"$error":"#VALUE!"}},{"$f":"IF(OFFSET([1]DE100_7!$S$105,ROWS($S$105:S144)-1,COLUMNS($S$105:S144)-1)<>\"\",OFFSET([1]DE100_7!$S$105,ROWS($S$105:S144)-1,COLUMNS($S$105:S144)-1),\"\")","v":{"$error":"#VALUE!"}},{"$f":"IF(OFFSET([1]DE100_7!$T$105,ROWS($T$105:T144)-1,COLUMNS($T$105:T144)-1)<>\"\",OFFSET([1]DE100_7!$T$105,ROWS($T$105:T144)-1,COLUMNS($T$105:T144)-1),\"\")","v":{"$error":"#VALUE!"}},{"$f":"IF(OFFSET([1]DE100_7!$U$105,ROWS($U$105:U144)-1,COLUMNS($U$105:U144)-1)<>\"\",OFFSET([1]DE100_7!$U$105,ROWS($U$105:U144)-1,COLUMNS($U$105:U144)-1),\"\")","v":{"$error":"#VALUE!"}},{"$f":"IF(OFFSET([1]DE100_7!$V$105,ROWS($V$105:V144)-1,COLUMNS($V$105:V144)-1)<>\"\",OFFSET([1]DE100_7!$V$105,ROWS($V$105:V144)-1,COLUMNS($V$105:V144)-1),\"\")","v":{"$error":"#VALUE!"}}]
[{"$f":"IF(OFFSET([1]DE100_7!$C$105,ROWS($C$105:C145)-1,COLUMNS($C$105:C145)-1)<>\"\",OFFSET([1]DE100_7!$C$105,ROWS($C$105:C145)-1,COLUMNS($C$105:C145)-1),\"\")","v":{"$error":"#VALUE!"}},{"$f":"IF(OFFSET([1]DE100_7!$D$105,ROWS($D$105:D145)-1,COLUMNS($D$105:D145)-1)<>\"\",OFFSET([1]DE100_7!$D$105,ROWS($D$105:D145)-1,COLUMNS($D$105:D145)-1),\"\")","v":{"$error":"#VALUE!"}},{"$f":"IF(OFFSET([1]DE100_7!$E$105,ROWS($E$105:E145)-1,COLUMNS($E$105:E145)-1)<>\"\",OFFSET([1]DE100_7!$E$105,ROWS($E$105:E145)-1,COLUMNS($E$105:E145)-1),\"\")","v":{"$error":"#VALUE!"}},{"$f":"IF(OFFSET([1]DE100_7!$F$105,ROWS($F$105:F145)-1,COLUMNS($F$105:F145)-1)<>\"\",OFFSET([1]DE100_7!$F$105,ROWS($F$105:F145)-1,COLUMNS($F$105:F145)-1),\"\")","v":{"$error":"#VALUE!"}},{"$f":"IF(OFFSET([1]DE100_7!$G$105,ROWS($G$105:G145)-1,COLUMNS($G$105:G145)-1)<>\"\",OFFSET([1]DE100_7!$G$105,ROWS($G$105:G145)-1,COLUMNS($G$105:G145)-1),\"\")","v":{"$error":"#VALUE!"}},{"$f":"IF(OFFSET([1]DE100_7!$H$105,ROWS($H$105:H145)-1,COLUMNS($H$105:H145)-1)<>\"\",OFFSET([1]DE100_7!$H$105,ROWS($H$105:H145)-1,COLUMNS($H$105:H145)-1),\"\")","v":{"$error":"#VALUE!"}},{"$f":"IF(OFFSET([1]DE100_7!$I$105,ROWS($I$105:I145)-1,COLUMNS($I$105:I145)-1)<>\"\",OFFSET([1]DE100_7!$I$105,ROWS($I$105:I145)-1,COLUMNS($I$105:I145)-1),\"\")","v":{"$error":"#VALUE!"}},{"$f":"IF(OFFSET([1]DE100_7!$J$105,ROWS($J$105:J145)-1,COLUMNS($J$105:J145)-1)<>\"\",OFFSET([1]DE100_7!$J$105,ROWS($J$105:J145)-1,COLUMNS($J$105:J145)-1),\"\")","v":{"$error":"#VALUE!"}},{"$f":"IF(OFFSET([1]DE100_7!$K$105,ROWS($K$105:K145)-1,COLUMNS($K$105:K145)-1)<>\"\",OFFSET([1]DE100_7!$K$105,ROWS($K$105:K145)-1,COLUMNS($K$105:K145)-1),\"\")","v":{"$error":"#VALUE!"}},{"$f":"IF(OFFSET([1]DE100_7!$L$105,ROWS($L$105:L145)-1,COLUMNS($L$105:L145)-1)<>\"\",OFFSET([1]DE100_7!$L$105,ROWS($L$105:L145)-1,COLUMNS($L$105:L145)-1),\"\")","v":{"$error":"#VALUE!"}},{"$f":"IF(OFFSET([1]DE100_7!$M$105,ROWS($M$105:M145)-1,COLUMNS($M$105:M145)-1)<>\"\",OFFSET([1]DE100_7!$M$105,ROWS($M$105:M145)-1,COLUMNS($M$105:M145)-1),\"\")","v":{"$error":"#VALUE!"}},{"$f":"IF(OFFSET([1]DE100_7!$N$105,ROWS($N$105:N145)-1,COLUMNS($N$105:N145)-1)<>\"\",OFFSET([1]DE100_7!$N$105,ROWS($N$105:N145)-1,COLUMNS($N$105:N145)-1),\"\")","v":{"$error":"#VALUE!"}},{"$f":"IF(OFFSET([1]DE100_7!$O$105,ROWS($O$105:O145)-1,COLUMNS($O$105:O145)-1)<>\"\",OFFSET([1]DE100_7!$O$105,ROWS($O$105:O145)-1,COLUMNS($O$105:O145)-1),\"\")","v":{"$error":"#VALUE!"}},{"$f":"IF(OFFSET([1]DE100_7!$P$105,ROWS($P$105:P145)-1,COLUMNS($P$105:P145)-1)<>\"\",OFFSET([1]DE100_7!$P$105,ROWS($P$105:P145)-1,COLUMNS($P$105:P145)-1),\"\")","v":{"$error":"#VALUE!"}},{"$f":"IF(OFFSET([1]DE100_7!$Q$105,ROWS($Q$105:Q145)-1,COLUMNS($Q$105:Q145)-1)<>\"\",OFFSET([1]DE100_7!$Q$105,ROWS($Q$105:Q145)-1,COLUMNS($Q$105:Q145)-1),\"\")","v":{"$error":"#VALUE!"}},{"$f":"IF(OFFSET([1]DE100_7!$R$105,ROWS($R$105:R145)-1,COLUMNS($R$105:R145)-1)<>\"\",OFFSET([1]DE100_7!$R$105,ROWS($R$105:R145)-1,COLUMNS($R$105:R145)-1),\"\")","v":{"$error":"#VALUE!"}},{"$f":"IF(OFFSET([1]DE100_7!$S$105,ROWS($S$105:S145)-1,COLUMNS($S$105:S145)-1)<>\"\",OFFSET([1]DE100_7!$S$105,ROWS($S$105:S145)-1,COLUMNS($S$105:S145)-1),\"\")","v":{"$error":"#VALUE!"}},{"$f":"IF(OFFSET([1]DE100_7!$T$105,ROWS($T$105:T145)-1,COLUMNS($T$105:T145)-1)<>\"\",OFFSET([1]DE100_7!$T$105,ROWS($T$105:T145)-1,COLUMNS($T$105:T145)-1),\"\")","v":{"$error":"#VALUE!"}},{"$f":"IF(OFFSET([1]DE100_7!$U$105,ROWS($U$105:U145)-1,COLUMNS($U$105:U145)-1)<>\"\",OFFSET([1]DE100_7!$U$105,ROWS($U$105:U145)-1,COLUMNS($U$105:U145)-1),\"\")","v":{"$error":"#VALUE!"}},{"$f":"IF(OFFSET([1]DE100_7!$V$105,ROWS($V$105:V145)-1,COLUMNS($V$105:V145)-1)<>\"\",OFFSET([1]DE100_7!$V$105,ROWS($V$105:V145)-1,COLUMNS($V$105:V145)-1),\"\")","v":{"$error":"#VALUE!"}}]
[{"$f":"IF(OFFSET([1]DE100_7!$C$105,ROWS($C$105:C146)-1,COLUMNS($C$105:C146)-1)<>\"\",OFFSET([1]DE100_7!$C$105,ROWS($C$105:C146)-1,COLUMNS($C$105:C146)-1),\"\")","v":{"$error":"#VALUE!"}},{"$f":"IF(OFFSET([1]DE100_7!$D$105,ROWS($D$105:D146)-1,COLUMNS($D$105:D146)-1)<>\"\",OFFSET([1]DE100_7!$D$105,ROWS($D$105:D146)-1,COLUMNS($D$105:D146)-1),\"\")","v":{"$error":"#VALUE!"}},{"$f":"IF(OFFSET([1]DE100_7!$E$105,ROWS($E$105:E146)-1,COLUMNS($E$105:E146)-1)<>\"\",OFFSET([1]DE100_7!$E$105,ROWS($E$105:E146)-1,COLUMNS($E$105:E146)-1),\"\")","v":{"$error":"#VALUE!"}},{"$f":"IF(OFFSET([1]DE100_7!$F$105,ROWS($F$105:F146)-1,COLUMNS($F$105:F146)-1)<>\"\",OFFSET([1]DE100_7!$F$105,ROWS($F$105:F146)-1,COLUMNS($F$105:F146)-1),\"\")","v":{"$error":"#VALUE!"}},{"$f":"IF(OFFSET([1]DE100_7!$G$105,ROWS($G$105:G146)-1,COLUMNS($G$105:G146)-1)<>\"\",OFFSET([1]DE100_7!$G$105,ROWS($G$105:G146)-1,COLUMNS($G$105:G146)-1),\"\")","v":{"$error":"#VALUE!"}},{"$f":"IF(OFFSET([1]DE100_7!$H$105,ROWS($H$105:H146)-1,COLUMNS($H$105:H146)-1)<>\"\",OFFSET([1]DE100_7!$H$105,ROWS($H$105:H146)-1,COLUMNS($H$105:H146)-1),\"\")","v":{"$error":"#VALUE!"}},{"$f":"IF(OFFSET([1]DE100_7!$I$105,ROWS($I$105:I146)-1,COLUMNS($I$105:I146)-1)<>\"\",OFFSET([1]DE100_7!$I$105,ROWS($I$105:I146)-1,COLUMNS($I$105:I146)-1),\"\")","v":{"$error":"#VALUE!"}},{"$f":"IF(OFFSET([1]DE100_7!$J$105,ROWS($J$105:J146)-1,COLUMNS($J$105:J146)-1)<>\"\",OFFSET([1]DE100_7!$J$105,ROWS($J$105:J146)-1,COLUMNS($J$105:J146)-1),\"\")","v":{"$error":"#VALUE!"}},{"$f":"IF(OFFSET([1]DE100_7!$K$105,ROWS($K$105:K146)-1,COLUMNS($K$105:K146)-1)<>\"\",OFFSET([1]DE100_7!$K$105,ROWS($K$105:K146)-1,COLUMNS($K$105:K146)-1),\"\")","v":{"$error":"#VALUE!"}},{"$f":"IF(OFFSET([1]DE100_7!$L$105,ROWS($L$105:L146)-1,COLUMNS($L$105:L146)-1)<>\"\",OFFSET([1]DE100_7!$L$105,ROWS($L$105:L146)-1,COLUMNS($L$105:L146)-1),\"\")","v":{"$error":"#VALUE!"}},{"$f":"IF(OFFSET([1]DE100_7!$M$105,ROWS($M$105:M146)-1,COLUMNS($M$105:M146)-1)<>\"\",OFFSET([1]DE100_7!$M$105,ROWS($M$105:M146)-1,COLUMNS($M$105:M146)-1),\"\")","v":{"$error":"#VALUE!"}},{"$f":"IF(OFFSET([1]DE100_7!$N$105,ROWS($N$105:N146)-1,COLUMNS($N$105:N146)-1)<>\"\",OFFSET([1]DE100_7!$N$105,ROWS($N$105:N146)-1,COLUMNS($N$105:N146)-1),\"\")","v":{"$error":"#VALUE!"}},{"$f":"IF(OFFSET([1]DE100_7!$O$105,ROWS($O$105:O146)-1,COLUMNS($O$105:O146)-1)<>\"\",OFFSET([1]DE100_7!$O$105,ROWS($O$105:O146)-1,COLUMNS($O$105:O146)-1),\"\")","v":{"$error":"#VALUE!"}},{"$f":"IF(OFFSET([1]DE100_7!$P$105,ROWS($P$105:P146)-1,COLUMNS($P$105:P146)-1)<>\"\",OFFSET([1]DE100_7!$P$105,ROWS($P$105:P146)-1,COLUMNS($P$105:P146)-1),\"\")","v":{"$error":"#VALUE!"}},{"$f":"IF(OFFSET([1]DE100_7!$Q$105,ROWS($Q$105:Q146)-1,COLUMNS($Q$105:Q146)-1)<>\"\",OFFSET([1]DE100_7!$Q$105,ROWS($Q$105:Q146)-1,COLUMNS($Q$105:Q146)-1),\"\")","v":{"$error":"#VALUE!"}},{"$f":"IF(OFFSET([1]DE100_7!$R$105,ROWS($R$105:R146)-1,COLUMNS($R$105:R146)-1)<>\"\",OFFSET([1]DE100_7!$R$105,ROWS($R$105:R146)-1,COLUMNS($R$105:R146)-1),\"\")","v":{"$error":"#VALUE!"}},{"$f":"IF(OFFSET([1]DE100_7!$S$105,ROWS($S$105:S146)-1,COLUMNS($S$105:S146)-1)<>\"\",OFFSET([1]DE100_7!$S$105,ROWS($S$105:S146)-1,COLUMNS($S$105:S146)-1),\"\")","v":{"$error":"#VALUE!"}},{"$f":"IF(OFFSET([1]DE100_7!$T$105,ROWS($T$105:T146)-1,COLUMNS($T$105:T146)-1)<>\"\",OFFSET([1]DE100_7!$T$105,ROWS($T$105:T146)-1,COLUMNS($T$105:T146)-1),\"\")","v":{"$error":"#VALUE!"}},{"$f":"IF(OFFSET([1]DE100_7!$U$105,ROWS($U$105:U146)-1,COLUMNS($U$105:U146)-1)<>\"\",OFFSET([1]DE100_7!$U$105,ROWS($U$105:U146)-1,COLUMNS($U$105:U146)-1),\"\")","v":{"$error":"#VALUE!"}},{"$f":"IF(OFFSET([1]DE100_7!$V$105,ROWS($V$105:V146)-1,COLUMNS($V$105:V146)-1)<>\"\",OFFSET([1]DE100_7!$V$105,ROWS($V$105:V146)-1,COLUMNS($V$105:V146)-1),\"\")","v":{"$error":"#VALUE!"}}]
[{"$f":"IF(OFFSET([1]DE100_7!$C$105,ROWS($C$105:C147)-1,COLUMNS($C$105:C147)-1)<>\"\",OFFSET([1]DE100_7!$C$105,ROWS($C$105:C147)-1,COLUMNS($C$105:C147)-1),\"\")","v":{"$error":"#VALUE!"}},{"$f":"IF(OFFSET([1]DE100_7!$D$105,ROWS($D$105:D147)-1,COLUMNS($D$105:D147)-1)<>\"\",OFFSET([1]DE100_7!$D$105,ROWS($D$105:D147)-1,COLUMNS($D$105:D147)-1),\"\")","v":{"$error":"#VALUE!"}},{"$f":"IF(OFFSET([1]DE100_7!$E$105,ROWS($E$105:E147)-1,COLUMNS($E$105:E147)-1)<>\"\",OFFSET([1]DE100_7!$E$105,ROWS($E$105:E147)-1,COLUMNS($E$105:E147)-1),\"\")","v":{"$error":"#VALUE!"}},{"$f":"IF(OFFSET([1]DE100_7!$F$105,ROWS($F$105:F147)-1,COLUMNS($F$105:F147)-1)<>\"\",OFFSET([1]DE100_7!$F$105,ROWS($F$105:F147)-1,COLUMNS($F$105:F147)-1),\"\")","v":{"$error":"#VALUE!"}},{"$f":"IF(OFFSET([1]DE100_7!$G$105,ROWS($G$105:G147)-1,COLUMNS($G$105:G147)-1)<>\"\",OFFSET([1]DE100_7!$G$105,ROWS($G$105:G147)-1,COLUMNS($G$105:G147)-1),\"\")","v":{"$error":"#VALUE!"}},{"$f":"IF(OFFSET([1]DE100_7!$H$105,ROWS($H$105:H147)-1,COLUMNS($H$105:H147)-1)<>\"\",OFFSET([1]DE100_7!$H$105,ROWS($H$105:H147)-1,COLUMNS($H$105:H147)-1),\"\")","v":{"$error":"#VALUE!"}},{"$f":"IF(OFFSET([1]DE100_7!$I$105,ROWS($I$105:I147)-1,COLUMNS($I$105:I147)-1)<>\"\",OFFSET([1]DE100_7!$I$105,ROWS($I$105:I147)-1,COLUMNS($I$105:I147)-1),\"\")","v":{"$error":"#VALUE!"}},{"$f":"IF(OFFSET([1]DE100_7!$J$105,ROWS($J$105:J147)-1,COLUMNS($J$105:J147)-1)<>\"\",OFFSET([1]DE100_7!$J$105,ROWS($J$105:J147)-1,COLUMNS($J$105:J147)-1),\"\")","v":{"$error":"#VALUE!"}},{"$f":"IF(OFFSET([1]DE100_7!$K$105,ROWS($K$105:K147)-1,COLUMNS($K$105:K147)-1)<>\"\",OFFSET([1]DE100_7!$K$105,ROWS($K$105:K147)-1,COLUMNS($K$105:K147)-1),\"\")","v":{"$error":"#VALUE!"}},{"$f":"IF(OFFSET([1]DE100_7!$L$105,ROWS($L$105:L147)-1,COLUMNS($L$105:L147)-1)<>\"\",OFFSET([1]DE100_7!$L$105,ROWS($L$105:L147)-1,COLUMNS($L$105:L147)-1),\"\")","v":{"$error":"#VALUE!"}},{"$f":"IF(OFFSET([1]DE100_7!$M$105,ROWS($M$105:M147)-1,COLUMNS($M$105:M147)-1)<>\"\",OFFSET([1]DE100_7!$M$105,ROWS($M$105:M147)-1,COLUMNS($M$105:M147)-1),\"\")","v":{"$error":"#VALUE!"}},{"$f":"IF(OFFSET([1]DE100_7!$N$105,ROWS($N$105:N147)-1,COLUMNS($N$105:N147)-1)<>\"\",OFFSET([1]DE100_7!$N$105,ROWS($N$105:N147)-1,COLUMNS($N$105:N147)-1),\"\")","v":{"$error":"#VALUE!"}},{"$f":"IF(OFFSET([1]DE100_7!$O$105,ROWS($O$105:O147)-1,COLUMNS($O$105:O147)-1)<>\"\",OFFSET([1]DE100_7!$O$105,ROWS($O$105:O147)-1,COLUMNS($O$105:O147)-1),\"\")","v":{"$error":"#VALUE!"}},{"$f":"IF(OFFSET([1]DE100_7!$P$105,ROWS($P$105:P147)-1,COLUMNS($P$105:P147)-1)<>\"\",OFFSET([1]DE100_7!$P$105,ROWS($P$105:P147)-1,COLUMNS($P$105:P147)-1),\"\")","v":{"$error":"#VALUE!"}},{"$f":"IF(OFFSET([1]DE100_7!$Q$105,ROWS($Q$105:Q147)-1,COLUMNS($Q$105:Q147)-1)<>\"\",OFFSET([1]DE100_7!$Q$105,ROWS($Q$105:Q147)-1,COLUMNS($Q$105:Q147)-1),\"\")","v":{"$error":"#VALUE!"}},{"$f":"IF(OFFSET([1]DE100_7!$R$105,ROWS($R$105:R147)-1,COLUMNS($R$105:R147)-1)<>\"\",OFFSET([1]DE100_7!$R$105,ROWS($R$105:R147)-1,COLUMNS($R$105:R147)-1),\"\")","v":{"$error":"#VALUE!"}},{"$f":"IF(OFFSET([1]DE100_7!$S$105,ROWS($S$105:S147)-1,COLUMNS($S$105:S147)-1)<>\"\",OFFSET([1]DE100_7!$S$105,ROWS($S$105:S147)-1,COLUMNS($S$105:S147)-1),\"\")","v":{"$error":"#VALUE!"}},{"$f":"IF(OFFSET([1]DE100_7!$T$105,ROWS($T$105:T147)-1,COLUMNS($T$105:T147)-1)<>\"\",OFFSET([1]DE100_7!$T$105,ROWS($T$105:T147)-1,COLUMNS($T$105:T147)-1),\"\")","v":{"$error":"#VALUE!"}},{"$f":"IF(OFFSET([1]DE100_7!$U$105,ROWS($U$105:U147)-1,COLUMNS($U$105:U147)-1)<>\"\",OFFSET([1]DE100_7!$U$105,ROWS($U$105:U147)-1,COLUMNS($U$105:U147)-1),\"\")","v":{"$error":"#VALUE!"}},{"$f":"IF(OFFSET([1]DE100_7!$V$105,ROWS($V$105:V147)-1,COLUMNS($V$105:V147)-1)<>\"\",OFFSET([1]DE100_7!$V$105,ROWS($V$105:V147)-1,COLUMNS($V$105:V147)-1),\"\")","v":{"$error":"#VALUE!"}}]
[{"$f":"IF(OFFSET([1]DE100_7!$C$105,ROWS($C$105:C148)-1,COLUMNS($C$105:C148)-1)<>\"\",OFFSET([1]DE100_7!$C$105,ROWS($C$105:C148)-1,COLUMNS($C$105:C148)-1),\"\")","v":{"$error":"#VALUE!"}},{"$f":"IF(OFFSET([1]DE100_7!$D$105,ROWS($D$105:D148)-1,COLUMNS($D$105:D148)-1)<>\"\",OFFSET([1]DE100_7!$D$105,ROWS($D$105:D148)-1,COLUMNS($D$105:D148)-1),\"\")","v":{"$error":"#VALUE!"}},{"$f":"IF(OFFSET([1]DE100_7!$E$105,ROWS($E$105:E148)-1,COLUMNS($E$105:E148)-1)<>\"\",OFFSET([1]DE100_7!$E$105,ROWS($E$105:E148)-1,COLUMNS($E$105:E148)-1),\"\")","v":{"$error":"#VALUE!"}},{"$f":"IF(OFFSET([1]DE100_7!$F$105,ROWS($F$105:F148)-1,COLUMNS($F$105:F148)-1)<>\"\",OFFSET([1]DE100_7!$F$105,ROWS($F$105:F148)-1,COLUMNS($F$105:F148)-1),\"\")","v":{"$error":"#VALUE!"}},{"$f":"IF(OFFSET([1]DE100_7!$G$105,ROWS($G$105:G148)-1,COLUMNS($G$105:G148)-1)<>\"\",OFFSET([1]DE100_7!$G$105,ROWS($G$105:G148)-1,COLUMNS($G$105:G148)-1),\"\")","v":{"$error":"#VALUE!"}},{"$f":"IF(OFFSET([1]DE100_7!$H$105,ROWS($H$105:H148)-1,COLUMNS($H$105:H148)-1)<>\"\",OFFSET([1]DE100_7!$H$105,ROWS($H$105:H148)-1,COLUMNS($H$105:H148)-1),\"\")","v":{"$error":"#VALUE!"}},{"$f":"IF(OFFSET([1]DE100_7!$I$105,ROWS($I$105:I148)-1,COLUMNS($I$105:I148)-1)<>\"\",OFFSET([1]DE100_7!$I$105,ROWS($I$105:I148)-1,COLUMNS($I$105:I148)-1),\"\")","v":{"$error":"#VALUE!"}},{"$f":"IF(OFFSET([1]DE100_7!$J$105,ROWS($J$105:J148)-1,COLUMNS($J$105:J148)-1)<>\"\",OFFSET([1]DE100_7!$J$105,ROWS($J$105:J148)-1,COLUMNS($J$105:J148)-1),\"\")","v":{"$error":"#VALUE!"}},{"$f":"IF(OFFSET([1]DE100_7!$K$105,ROWS($K$105:K148)-1,COLUMNS($K$105:K148)-1)<>\"\",OFFSET([1]DE100_7!$K$105,ROWS($K$105:K148)-1,COLUMNS($K$105:K148)-1),\"\")","v":{"$error":"#VALUE!"}},{"$f":"IF(OFFSET([1]DE100_7!$L$105,ROWS($L$105:L148)-1,COLUMNS($L$105:L148)-1)<>\"\",OFFSET([1]DE100_7!$L$105,ROWS($L$105:L148)-1,COLUMNS($L$105:L148)-1),\"\")","v":{"$error":"#VALUE!"}},{"$f":"IF(OFFSET([1]DE100_7!$M$105,ROWS($M$105:M148)-1,COLUMNS($M$105:M148)-1)<>\"\",OFFSET([1]DE100_7!$M$105,ROWS($M$105:M148)-1,COLUMNS($M$105:M148)-1),\"\")","v":{"$error":"#VALUE!"}},{"$f":"IF(OFFSET([1]DE100_7!$N$105,ROWS($N$105:N148)-1,COLUMNS($N$105:N148)-1)<>\"\",OFFSET([1]DE100_7!$N$105,ROWS($N$105:N148)-1,COLUMNS($N$105:N148)-1),\"\")","v":{"$error":"#VALUE!"}},{"$f":"IF(OFFSET([1]DE100_7!$O$105,ROWS($O$105:O148)-1,COLUMNS($O$105:O148)-1)<>\"\",OFFSET([1]DE100_7!$O$105,ROWS($O$105:O148)-1,COLUMNS($O$105:O148)-1),\"\")","v":{"$error":"#VALUE!"}},{"$f":"IF(OFFSET([1]DE100_7!$P$105,ROWS($P$105:P148)-1,COLUMNS($P$105:P148)-1)<>\"\",OFFSET([1]DE100_7!$P$105,ROWS($P$105:P148)-1,COLUMNS($P$105:P148)-1),\"\")","v":{"$error":"#VALUE!"}},{"$f":"IF(OFFSET([1]DE100_7!$Q$105,ROWS($Q$105:Q148)-1,COLUMNS($Q$105:Q148)-1)<>\"\",OFFSET([1]DE100_7!$Q$105,ROWS($Q$105:Q148)-1,COLUMNS($Q$105:Q148)-1),\"\")","v":{"$error":"#VALUE!"}},{"$f":"IF(OFFSET([1]DE100_7!$R$105,ROWS($R$105:R148)-1,COLUMNS($R$105:R148)-1)<>\"\",OFFSET([1]DE100_7!$R$105,ROWS($R$105:R148)-1,COLUMNS($R$105:R148)-1),\"\")","v":{"$error":"#VALUE!"}},{"$f":"IF(OFFSET([1]DE100_7!$S$105,ROWS($S$105:S148)-1,COLUMNS($S$105:S148)-1)<>\"\",OFFSET([1]DE100_7!$S$105,ROWS($S$105:S148)-1,COLUMNS($S$105:S148)-1),\"\")","v":{"$error":"#VALUE!"}},{"$f":"IF(OFFSET([1]DE100_7!$T$105,ROWS($T$105:T148)-1,COLUMNS($T$105:T148)-1)<>\"\",OFFSET([1]DE100_7!$T$105,ROWS($T$105:T148)-1,COLUMNS($T$105:T148)-1),\"\")","v":{"$error":"#VALUE!"}},{"$f":"IF(OFFSET([1]DE100_7!$U$105,ROWS($U$105:U148)-1,COLUMNS($U$105:U148)-1)<>\"\",OFFSET([1]DE100_7!$U$105,ROWS($U$105:U148)-1,COLUMNS($U$105:U148)-1),\"\")","v":{"$error":"#VALUE!"}},{"$f":"IF(OFFSET([1]DE100_7!$V$105,ROWS($V$105:V148)-1,COLUMNS($V$105:V148)-1)<>\"\",OFFSET([1]DE100_7!$V$105,ROWS($V$105:V148)-1,COLUMNS($V$105:V148)-1),\"\")","v":{"$error":"#VALUE!"}}]
[{"$f":"IF(OFFSET([1]DE100_7!$C$105,ROWS($C$105:C149)-1,COLUMNS($C$105:C149)-1)<>\"\",OFFSET([1]DE100_7!$C$105,ROWS($C$105:C149)-1,COLUMNS($C$105:C149)-1),\"\")","v":{"$error":"#VALUE!"}},{"$f":"IF(OFFSET([1]DE100_7!$D$105,ROWS($D$105:D149)-1,COLUMNS($D$105:D149)-1)<>\"\",OFFSET([1]DE100_7!$D$105,ROWS($D$105:D149)-1,COLUMNS($D$105:D149)-1),\"\")","v":{"$error":"#VALUE!"}},{"$f":"IF(OFFSET([1]DE100_7!$E$105,ROWS($E$105:E149)-1,COLUMNS($E$105:E149)-1)<>\"\",OFFSET([1]DE100_7!$E$105,ROWS($E$105:E149)-1,COLUMNS($E$105:E149)-1),\"\")","v":{"$error":"#VALUE!"}},{"$f":"IF(OFFSET([1]DE100_7!$F$105,ROWS($F$105:F149)-1,COLUMNS($F$105:F149)-1)<>\"\",OFFSET([1]DE100_7!$F$105,ROWS($F$105:F149)-1,COLUMNS($F$105:F149)-1),\"\")","v":{"$error":"#VALUE!"}},{"$f":"IF(OFFSET([1]DE100_7!$G$105,ROWS($G$105:G149)-1,COLUMNS($G$105:G149)-1)<>\"\",OFFSET([1]DE100_7!$G$105,ROWS($G$105:G149)-1,COLUMNS($G$105:G149)-1),\"\")","v":{"$error":"#VALUE!"}},{"$f":"IF(OFFSET([1]DE100_7!$H$105,ROWS($H$105:H149)-1,COLUMNS($H$105:H149)-1)<>\"\",OFFSET([1]DE100_7!$H$105,ROWS($H$105:H149)-1,COLUMNS($H$105:H149)-1),\"\")","v":{"$error":"#VALUE!"}},{"$f":"IF(OFFSET([1]DE100_7!$I$105,ROWS($I$105:I149)-1,COLUMNS($I$105:I149)-1)<>\"\",OFFSET([1]DE100_7!$I$105,ROWS($I$105:I149)-1,COLUMNS($I$105:I149)-1),\"\")","v":{"$error":"#VALUE!"}},{"$f":"IF(OFFSET([1]DE100_7!$J$105,ROWS($J$105:J149)-1,COLUMNS($J$105:J149)-1)<>\"\",OFFSET([1]DE100_7!$J$105,ROWS($J$105:J149)-1,COLUMNS($J$105:J149)-1),\"\")","v":{"$error":"#VALUE!"}},{"$f":"IF(OFFSET([1]DE100_7!$K$105,ROWS($K$105:K149)-1,COLUMNS($K$105:K149)-1)<>\"\",OFFSET([1]DE100_7!$K$105,ROWS($K$105:K149)-1,COLUMNS($K$105:K149)-1),\"\")","v":{"$error":"#VALUE!"}},{"$f":"IF(OFFSET([1]DE100_7!$L$105,ROWS($L$105:L149)-1,COLUMNS($L$105:L149)-1)<>\"\",OFFSET([1]DE100_7!$L$105,ROWS($L$105:L149)-1,COLUMNS($L$105:L149)-1),\"\")","v":{"$error":"#VALUE!"}},{"$f":"IF(OFFSET([1]DE100_7!$M$105,ROWS($M$105:M149)-1,COLUMNS($M$105:M149)-1)<>\"\",OFFSET([1]DE100_7!$M$105,ROWS($M$105:M149)-1,COLUMNS($M$105:M149)-1),\"\")","v":{"$error":"#VALUE!"}},{"$f":"IF(OFFSET([1]DE100_7!$N$105,ROWS($N$105:N149)-1,COLUMNS($N$105:N149)-1)<>\"\",OFFSET([1]DE100_7!$N$105,ROWS($N$105:N149)-1,COLUMNS($N$105:N149)-1),\"\")","v":{"$error":"#VALUE!"}},{"$f":"IF(OFFSET([1]DE100_7!$O$105,ROWS($O$105:O149)-1,COLUMNS($O$105:O149)-1)<>\"\",OFFSET([1]DE100_7!$O$105,ROWS($O$105:O149)-1,COLUMNS($O$105:O149)-1),\"\")","v":{"$error":"#VALUE!"}},{"$f":"IF(OFFSET([1]DE100_7!$P$105,ROWS($P$105:P149)-1,COLUMNS($P$105:P149)-1)<>\"\",OFFSET([1]DE100_7!$P$105,ROWS($P$105:P149)-1,COLUMNS($P$105:P149)-1),\"\")","v":{"$error":"#VALUE!"}},{"$f":"IF(OFFSET([1]DE100_7!$Q$105,ROWS($Q$105:Q149)-1,COLUMNS($Q$105:Q149)-1)<>\"\",OFFSET([1]DE100_7!$Q$105,ROWS($Q$105:Q149)-1,COLUMNS($Q$105:Q149)-1),\"\")","v":{"$error":"#VALUE!"}},{"$f":"IF(OFFSET([1]DE100_7!$R$105,ROWS($R$105:R149)-1,COLUMNS($R$105:R149)-1)<>\"\",OFFSET([1]DE100_7!$R$105,ROWS($R$105:R149)-1,COLUMNS($R$105:R149)-1),\"\")","v":{"$error":"#VALUE!"}},{"$f":"IF(OFFSET([1]DE100_7!$S$105,ROWS($S$105:S149)-1,COLUMNS($S$105:S149)-1)<>\"\",OFFSET([1]DE100_7!$S$105,ROWS($S$105:S149)-1,COLUMNS($S$105:S149)-1),\"\")","v":{"$error":"#VALUE!"}},{"$f":"IF(OFFSET([1]DE100_7!$T$105,ROWS($T$105:T149)-1,COLUMNS($T$105:T149)-1)<>\"\",OFFSET([1]DE100_7!$T$105,ROWS($T$105:T149)-1,COLUMNS($T$105:T149)-1),\"\")","v":{"$error":"#VALUE!"}},{"$f":"IF(OFFSET([1]DE100_7!$U$105,ROWS($U$105:U149)-1,COLUMNS($U$105:U149)-1)<>\"\",OFFSET([1]DE100_7!$U$105,ROWS($U$105:U149)-1,COLUMNS($U$105:U149)-1),\"\")","v":{"$error":"#VALUE!"}},{"$f":"IF(OFFSET([1]DE100_7!$V$105,ROWS($V$105:V149)-1,COLUMNS($V$105:V149)-1)<>\"\",OFFSET([1]DE100_7!$V$105,ROWS($V$105:V149)-1,COLUMNS($V$105:V149)-1),\"\")","v":{"$error":"#VALUE!"}}]
[{"$f":"IF(OFFSET([1]DE100_7!$C$105,ROWS($C$105:C150)-1,COLUMNS($C$105:C150)-1)<>\"\",OFFSET([1]DE100_7!$C$105,ROWS($C$105:C150)-1,COLUMNS($C$105:C150)-1),\"\")","v":{"$error":"#VALUE!"}},{"$f":"IF(OFFSET([1]DE100_7!$D$105,ROWS($D$105:D150)-1,COLUMNS($D$105:D150)-1)<>\"\",OFFSET([1]DE100_7!$D$105,ROWS($D$105:D150)-1,COLUMNS($D$105:D150)-1),\"\")","v":{"$error":"#VALUE!"}},{"$f":"IF(OFFSET([1]DE100_7!$E$105,ROWS($E$105:E150)-1,COLUMNS($E$105:E150)-1)<>\"\",OFFSET([1]DE100_7!$E$105,ROWS($E$105:E150)-1,COLUMNS($E$105:E150)-1),\"\")","v":{"$error":"#VALUE!"}},{"$f":"IF(OFFSET([1]DE100_7!$F$105,ROWS($F$105:F150)-1,COLUMNS($F$105:F150)-1)<>\"\",OFFSET([1]DE100_7!$F$105,ROWS($F$105:F150)-1,COLUMNS($F$105:F150)-1),\"\")","v":{"$error":"#VALUE!"}},{"$f":"IF(OFFSET([1]DE100_7!$G$105,ROWS($G$105:G150)-1,COLUMNS($G$105:G150)-1)<>\"\",OFFSET([1]DE100_7!$G$105,ROWS($G$105:G150)-1,COLUMNS($G$105:G150)-1),\"\")","v":{"$error":"#VALUE!"}},{"$f":"IF(OFFSET([1]DE100_7!$H$105,ROWS($H$105:H150)-1,COLUMNS($H$105:H150)-1)<>\"\",OFFSET([1]DE100_7!$H$105,ROWS($H$105:H150)-1,COLUMNS($H$105:H150)-1),\"\")","v":{"$error":"#VALUE!"}},{"$f":"IF(OFFSET([1]DE100_7!$I$105,ROWS($I$105:I150)-1,COLUMNS($I$105:I150)-1)<>\"\",OFFSET([1]DE100_7!$I$105,ROWS($I$105:I150)-1,COLUMNS($I$105:I150)-1),\"\")","v":{"$error":"#VALUE!"}},{"$f":"IF(OFFSET([1]DE100_7!$J$105,ROWS($J$105:J150)-1,COLUMNS($J$105:J150)-1)<>\"\",OFFSET([1]DE100_7!$J$105,ROWS($J$105:J150)-1,COLUMNS($J$105:J150)-1),\"\")","v":{"$error":"#VALUE!"}},{"$f":"IF(OFFSET([1]DE100_7!$K$105,ROWS($K$105:K150)-1,COLUMNS($K$105:K150)-1)<>\"\",OFFSET([1]DE100_7!$K$105,ROWS($K$105:K150)-1,COLUMNS($K$105:K150)-1),\"\")","v":{"$error":"#VALUE!"}},{"$f":"IF(OFFSET([1]DE100_7!$L$105,ROWS($L$105:L150)-1,COLUMNS($L$105:L150)-1)<>\"\",OFFSET([1]DE100_7!$L$105,ROWS($L$105:L150)-1,COLUMNS($L$105:L150)-1),\"\")","v":{"$error":"#VALUE!"}},{"$f":"IF(OFFSET([1]DE100_7!$M$105,ROWS($M$105:M150)-1,COLUMNS($M$105:M150)-1)<>\"\",OFFSET([1]DE100_7!$M$105,ROWS($M$105:M150)-1,COLUMNS($M$105:M150)-1),\"\")","v":{"$error":"#VALUE!"}},{"$f":"IF(OFFSET([1]DE100_7!$N$105,ROWS($N$105:N150)-1,COLUMNS($N$105:N150)-1)<>\"\",OFFSET([1]DE100_7!$N$105,ROWS($N$105:N150)-1,COLUMNS($N$105:N150)-1),\"\")","v":{"$error":"#VALUE!"}},{"$f":"IF(OFFSET([1]DE100_7!$O$105,ROWS($O$105:O150)-1,COLUMNS($O$105:O150)-1)<>\"\",OFFSET([1]DE100_7!$O$105,ROWS($O$105:O150)-1,COLUMNS($O$105:O150)-1),\"\")","v":{"$error":"#VALUE!"}},{"$f":"IF(OFFSET([1]DE100_7!$P$105,ROWS($P$105:P150)-1,COLUMNS($P$105:P150)-1)<>\"\",OFFSET([1]DE100_7!$P$105,ROWS($P$105:P150)-1,COLUMNS($P$105:P150)-1),\"\")","v":{"$error":"#VALUE!"}},{"$f":"IF(OFFSET([1]DE100_7!$Q$105,ROWS($Q$105:Q150)-1,COLUMNS($Q$105:Q150)-1)<>\"\",OFFSET([1]DE100_7!$Q$105,ROWS($Q$105:Q150)-1,COLUMNS($Q$105:Q150)-1),\"\")","v":{"$error":"#VALUE!"}},{"$f":"IF(OFFSET([1]DE100_7!$R$105,ROWS($R$105:R150)-1,COLUMNS($R$105:R150)-1)<>\"\",OFFSET([1]DE100_7!$R$105,ROWS($R$105:R150)-1,COLUMNS($R$105:R150)-1),\"\")","v":{"$error":"#VALUE!"}},{"$f":"IF(OFFSET([1]DE100_7!$S$105,ROWS($S$105:S150)-1,COLUMNS($S$105:S150)-1)<>\"\",OFFSET([1]DE100_7!$S$105,ROWS($S$105:S150)-1,COLUMNS($S$105:S150)-1),\"\")","v":{"$error":"#VALUE!"}},{"$f":"IF(OFFSET([1]DE100_7!$T$105,ROWS($T$105:T150)-1,COLUMNS($T$105:T150)-1)<>\"\",OFFSET([1]DE100_7!$T$105,ROWS($T$105:T150)-1,COLUMNS($T$105:T150)-1),\"\")","v":{"$error":"#VALUE!"}},{"$f":"IF(OFFSET([1]DE100_7!$U$105,ROWS($U$105:U150)-1,COLUMNS($U$105:U150)-1)<>\"\",OFFSET([1]DE100_7!$U$105,ROWS($U$105:U150)-1,COLUMNS($U$105:U150)-1),\"\")","v":{"$error":"#VALUE!"}},{"$f":"IF(OFFSET([1]DE100_7!$V$105,ROWS($V$105:V150)-1,COLUMNS($V$105:V150)-1)<>\"\",OFFSET([1]DE100_7!$V$105,ROWS($V$105:V150)-1,COLUMNS($V$105:V150)-1),\"\")","v":{"$error":"#VALUE!"}}]
[{"$f":"IF(OFFSET([1]DE100_7!$C$105,ROWS($C$105:C151)-1,COLUMNS($C$105:C151)-1)<>\"\",OFFSET([1]DE100_7!$C$105,ROWS($C$105:C151)-1,COLUMNS($C$105:C151)-1),\"\")","v":{"$error":"#VALUE!"}},{"$f":"IF(OFFSET([1]DE100_7!$D$105,ROWS($D$105:D151)-1,COLUMNS($D$105:D151)-1)<>\"\",OFFSET([1]DE100_7!$D$105,ROWS($D$105:D151)-1,COLUMNS($D$105:D151)-1),\"\")","v":{"$error":"#VALUE!"}},{"$f":"IF(OFFSET([1]DE100_7!$E$105,ROWS($E$105:E151)-1,COLUMNS($E$105:E151)-1)<>\"\",OFFSET([1]DE100_7!$E$105,ROWS($E$105:E151)-1,COLUMNS($E$105:E151)-1),\"\")","v":{"$error":"#VALUE!"}},{"$f":"IF(OFFSET([1]DE100_7!$F$105,ROWS($F$105:F151)-1,COLUMNS($F$105:F151)-1)<>\"\",OFFSET([1]DE100_7!$F$105,ROWS($F$105:F151)-1,COLUMNS($F$105:F151)-1),\"\")","v":{"$error":"#VALUE!"}},{"$f":"IF(OFFSET([1]DE100_7!$G$105,ROWS($G$105:G151)-1,COLUMNS($G$105:G151)-1)<>\"\",OFFSET([1]DE100_7!$G$105,ROWS($G$105:G151)-1,COLUMNS($G$105:G151)-1),\"\")","v":{"$error":"#VALUE!"}},{"$f":"IF(OFFSET([1]DE100_7!$H$105,ROWS($H$105:H151)-1,COLUMNS($H$105:H151)-1)<>\"\",OFFSET([1]DE100_7!$H$105,ROWS($H$105:H151)-1,COLUMNS($H$105:H151)-1),\"\")","v":{"$error":"#VALUE!"}},{"$f":"IF(OFFSET([1]DE100_7!$I$105,ROWS($I$105:I151)-1,COLUMNS($I$105:I151)-1)<>\"\",OFFSET([1]DE100_7!$I$105,ROWS($I$105:I151)-1,COLUMNS($I$105:I151)-1),\"\")","v":{"$error":"#VALUE!"}},{"$f":"IF(OFFSET([1]DE100_7!$J$105,ROWS($J$105:J151)-1,COLUMNS($J$105:J151)-1)<>\"\",OFFSET([1]DE100_7!$J$105,ROWS($J$105:J151)-1,COLUMNS($J$105:J151)-1),\"\")","v":{"$error":"#VALUE!"}},{"$f":"IF(OFFSET([1]DE100_7!$K$105,ROWS($K$105:K151)-1,COLUMNS($K$105:K151)-1)<>\"\",OFFSET([1]DE100_7!$K$105,ROWS($K$105:K151)-1,COLUMNS($K$105:K151)-1),\"\")","v":{"$error":"#VALUE!"}},{"$f":"IF(OFFSET([1]DE100_7!$L$105,ROWS($L$105:L151)-1,COLUMNS($L$105:L151)-1)<>\"\",OFFSET([1]DE100_7!$L$105,ROWS($L$105:L151)-1,COLUMNS($L$105:L151)-1),\"\")","v":{"$error":"#VALUE!"}},{"$f":"IF(OFFSET([1]DE100_7!$M$105,ROWS($M$105:M151)-1,COLUMNS($M$105:M151)-1)<>\"\",OFFSET([1]DE100_7!$M$105,ROWS($M$105:M151)-1,COLUMNS($M$105:M151)-1),\"\")","v":{"$error":"#VALUE!"}},{"$f":"IF(OFFSET([1]DE100_7!$N$105,ROWS($N$105:N151)-1,COLUMNS($N$105:N151)-1)<>\"\",OFFSET([1]DE100_7!$N$105,ROWS($N$105:N151)-1,COLUMNS($N$105:N151)-1),\"\")","v":{"$error":"#VALUE!"}},{"$f":"IF(OFFSET([1]DE100_7!$O$105,ROWS($O$105:O151)-1,COLUMNS($O$105:O151)-1)<>\"\",OFFSET([1]DE100_7!$O$105,ROWS($O$105:O151)-1,COLUMNS($O$105:O151)-1),\"\")","v":{"$error":"#VALUE!"}},{"$f":"IF(OFFSET([1]DE100_7!$P$105,ROWS($P$105:P151)-1,COLUMNS($P$105:P151)-1)<>\"\",OFFSET([1]DE100_7!$P$105,ROWS($P$105:P151)-1,COLUMNS($P$105:P151)-1),\"\")","v":{"$error":"#VALUE!"}},{"$f":"IF(OFFSET([1]DE100_7!$Q$105,ROWS($Q$105:Q151)-1,COLUMNS($Q$105:Q151)-1)<>\"\",OFFSET([1]DE100_7!$Q$105,ROWS($Q$105:Q151)-1,COLUMNS($Q$105:Q151)-1),\"\")","v":{"$error":"#VALUE!"}},{"$f":"IF(OFFSET([1]DE100_7!$R$105,ROWS($R$105:R151)-1,COLUMNS($R$105:R151)-1)<>\"\",OFFSET([1]DE100_7!$R$105,ROWS($R$105:R151)-1,COLUMNS($R$105:R151)-1),\"\")","v":{"$error":"#VALUE!"}},{"$f":"IF(OFFSET([1]DE100_7!$S$105,ROWS($S$105:S151)-1,COLUMNS($S$105:S151)-1)<>\"\",OFFSET([1]DE100_7!$S$105,ROWS($S$105:S151)-1,COLUMNS($S$105:S151)-1),\"\")","v":{"$error":"#VALUE!"}},{"$f":"IF(OFFSET([1]DE100_7!$T$105,ROWS($T$105:T151)-1,COLUMNS($T$105:T151)-1)<>\"\",OFFSET([1]DE100_7!$T$105,ROWS($T$105:T151)-1,COLUMNS($T$105:T151)-1),\"\")","v":{"$error":"#VALUE!"}},{"$f":"IF(OFFSET([1]DE100_7!$U$105,ROWS($U$105:U151)-1,COLUMNS($U$105:U151)-1)<>\"\",OFFSET([1]DE100_7!$U$105,ROWS($U$105:U151)-1,COLUMNS($U$105:U151)-1),\"\")","v":{"$error":"#VALUE!"}},{"$f":"IF(OFFSET([1]DE100_7!$V$105,ROWS($V$105:V151)-1,COLUMNS($V$105:V151)-1)<>\"\",OFFSET([1]DE100_7!$V$105,ROWS($V$105:V151)-1,COLUMNS($V$105:V151)-1),\"\")","v":{"$error":"#VALUE!"}}]
[{"$f":"IF(OFFSET([1]DE100_7!$C$105,ROWS($C$105:C152)-1,COLUMNS($C$105:C152)-1)<>\"\",OFFSET([1]DE100_7!$C$105,ROWS($C$105:C152)-1,COLUMNS($C$105:C152)-1),\"\")","v":{"$error":"#VALUE!"}},{"$f":"IF(OFFSET([1]DE100_7!$D$105,ROWS($D$105:D152)-1,COLUMNS($D$105:D152)-1)<>\"\",OFFSET([1]DE100_7!$D$105,ROWS($D$105:D152)-1,COLUMNS($D$105:D152)-1),\"\")","v":{"$error":"#VALUE!"}},{"$f":"IF(OFFSET([1]DE100_7!$E$105,ROWS($E$105:E152)-1,COLUMNS($E$105:E152)-1)<>\"\",OFFSET([1]DE100_7!$E$105,ROWS($E$105:E152)-1,COLUMNS($E$105:E152)-1),\"\")","v":{"$error":"#VALUE!"}},{"$f":"IF(OFFSET([1]DE100_7!$F$105,ROWS($F$105:F152)-1,COLUMNS($F$105:F152)-1)<>\"\",OFFSET([1]DE100_7!$F$105,ROWS($F$105:F152)-1,COLUMNS($F$105:F152)-1),\"\")","v":{"$error":"#VALUE!"}},{"$f":"IF(OFFSET([1]DE100_7!$G$105,ROWS($G$105:G152)-1,COLUMNS($G$105:G152)-1)<>\"\",OFFSET([1]DE100_7!$G$105,ROWS($G$105:G152)-1,COLUMNS($G$105:G152)-1),\"\")","v":{"$error":"#VALUE!"}},{"$f":"IF(OFFSET([1]DE100_7!$H$105,ROWS($H$105:H152)-1,COLUMNS($H$105:H152)-1)<>\"\",OFFSET([1]DE100_7!$H$105,ROWS($H$105:H152)-1,COLUMNS($H$105:H152)-1),\"\")","v":{"$error":"#VALUE!"}},{"$f":"IF(OFFSET([1]DE100_7!$I$105,ROWS($I$105:I152)-1,COLUMNS($I$105:I152)-1)<>\"\",OFFSET([1]DE100_7!$I$105,ROWS($I$105:I152)-1,COLUMNS($I$105:I152)-1),\"\")","v":{"$error":"#VALUE!"}},{"$f":"IF(OFFSET([1]DE100_7!$J$105,ROWS($J$105:J152)-1,COLUMNS($J$105:J152)-1)<>\"\",OFFSET([1]DE100_7!$J$105,ROWS($J$105:J152)-1,COLUMNS($J$105:J152)-1),\"\")","v":{"$error":"#VALUE!"}},{"$f":"IF(OFFSET([1]DE100_7!$K$105,ROWS($K$105:K152)-1,COLUMNS($K$105:K152)-1)<>\"\",OFFSET([1]DE100_7!$K$105,ROWS($K$105:K152)-1,COLUMNS($K$105:K152)-1),\"\")","v":{"$error":"#VALUE!"}},{"$f":"IF(OFFSET([1]DE100_7!$L$105,ROWS($L$105:L152)-1,COLUMNS($L$105:L152)-1)<>\"\",OFFSET([1]DE100_7!$L$105,ROWS($L$105:L152)-1,COLUMNS($L$105:L152)-1),\"\")","v":{"$error":"#VALUE!"}},{"$f":"IF(OFFSET([1]DE100_7!$M$105,ROWS($M$105:M152)-1,COLUMNS($M$105:M152)-1)<>\"\",OFFSET([1]DE100_7!$M$105,ROWS($M$105:M152)-1,COLUMNS($M$105:M152)-1),\"\")","v":{"$error":"#VALUE!"}},{"$f":"IF(OFFSET([1]DE100_7!$N$105,ROWS($N$105:N152)-1,COLUMNS($N$105:N152)-1)<>\"\",OFFSET([1]DE100_7!$N$105,ROWS($N$105:N152)-1,COLUMNS($N$105:N152)-1),\"\")","v":{"$error":"#VALUE!"}},{"$f":"IF(OFFSET([1]DE100_7!$O$105,ROWS($O$105:O152)-1,COLUMNS($O$105:O152)-1)<>\"\",OFFSET([1]DE100_7!$O$105,ROWS($O$105:O152)-1,COLUMNS($O$105:O152)-1),\"\")","v":{"$error":"#VALUE!"}},{"$f":"IF(OFFSET([1]DE100_7!$P$105,ROWS($P$105:P152)-1,COLUMNS($P$105:P152)-1)<>\"\",OFFSET([1]DE100_7!$P$105,ROWS($P$105:P152)-1,COLUMNS($P$105:P152)-1),\"\")","v":{"$error":"#VALUE!"}},{"$f":"IF(OFFSET([1]DE100_7!$Q$105,ROWS($Q$105:Q152)-1,COLUMNS($Q$105:Q152)-1)<>\"\",OFFSET([1]DE100_7!$Q$105,ROWS($Q$105:Q152)-1,COLUMNS($Q$105:Q152)-1),\"\")","v":{"$error":"#VALUE!"}},{"$f":"IF(OFFSET([1]DE100_7!$R$105,ROWS($R$105:R152)-1,COLUMNS($R$105:R152)-1)<>\"\",OFFSET([1]DE100_7!$R$105,ROWS($R$105:R152)-1,COLUMNS($R$105:R152)-1),\"\")","v":{"$error":"#VALUE!"}},{"$f":"IF(OFFSET([1]DE100_7!$S$105,ROWS($S$105:S152)-1,COLUMNS($S$105:S152)-1)<>\"\",OFFSET([1]DE100_7!$S$105,ROWS($S$105:S152)-1,COLUMNS($S$105:S152)-1),\"\")","v":{"$error":"#VALUE!"}},{"$f":"IF(OFFSET([1]DE100_7!$T$105,ROWS($T$105:T152)-1,COLUMNS($T$105:T152)-1)<>\"\",OFFSET([1]DE100_7!$T$105,ROWS($T$105:T152)-1,COLUMNS($T$105:T152)-1),\"\")","v":{"$error":"#VALUE!"}},{"$f":"IF(OFFSET([1]DE100_7!$U$105,ROWS($U$105:U152)-1,COLUMNS($U$105:U152)-1)<>\"\",OFFSET([1]DE100_7!$U$105,ROWS($U$105:U152)-1,COLUMNS($U$105:U152)-1),\"\")","v":{"$error":"#VALUE!"}},{"$f":"IF(OFFSET([1]DE100_7!$V$105,ROWS($V$105:V152)-1,COLUMNS($V$105:V152)-1)<>\"\",OFFSET([1]DE100_7!$V$105,ROWS($V$105:V152)-1,COLUMNS($V$105:V152)-1),\"\")","v":{"$error":"#VALUE!"}}]
[{"$f":"IF(OFFSET([1]DE100_7!$C$105,ROWS($C$105:C153)-1,COLUMNS($C$105:C153)-1)<>\"\",OFFSET([1]DE100_7!$C$105,ROWS($C$105:C153)-1,COLUMNS($C$105:C153)-1),\"\")","v":{"$error":"#VALUE!"}},{"$f":"IF(OFFSET([1]DE100_7!$D$105,ROWS($D$105:D153)-1,COLUMNS($D$105:D153)-1)<>\"\",OFFSET([1]DE100_7!$D$105,ROWS($D$105:D153)-1,COLUMNS($D$105:D153)-1),\"\")","v":{"$error":"#VALUE!"}},{"$f":"IF(OFFSET([1]DE100_7!$E$105,ROWS($E$105:E153)-1,COLUMNS($E$105:E153)-1)<>\"\",OFFSET([1]DE100_7!$E$105,ROWS($E$105:E153)-1,COLUMNS($E$105:E153)-1),\"\")","v":{"$error":"#VALUE!"}},{"$f":"IF(OFFSET([1]DE100_7!$F$105,ROWS($F$105:F153)-1,COLUMNS($F$105:F153)-1)<>\"\",OFFSET([1]DE100_7!$F$105,ROWS($F$105:F153)-1,COLUMNS($F$105:F153)-1),\"\")","v":{"$error":"#VALUE!"}},{"$f":"IF(OFFSET([1]DE100_7!$G$105,ROWS($G$105:G153)-1,COLUMNS($G$105:G153)-1)<>\"\",OFFSET([1]DE100_7!$G$105,ROWS($G$105:G153)-1,COLUMNS($G$105:G153)-1),\"\")","v":{"$error":"#VALUE!"}},{"$f":"IF(OFFSET([1]DE100_7!$H$105,ROWS($H$105:H153)-1,COLUMNS($H$105:H153)-1)<>\"\",OFFSET([1]DE100_7!$H$105,ROWS($H$105:H153)-1,COLUMNS($H$105:H153)-1),\"\")","v":{"$error":"#VALUE!"}},{"$f":"IF(OFFSET([1]DE100_7!$I$105,ROWS($I$105:I153)-1,COLUMNS($I$105:I153)-1)<>\"\",OFFSET([1]DE100_7!$I$105,ROWS($I$105:I153)-1,COLUMNS($I$105:I153)-1),\"\")","v":{"$error":"#VALUE!"}},{"$f":"IF(OFFSET([1]DE100_7!$J$105,ROWS($J$105:J153)-1,COLUMNS($J$105:J153)-1)<>\"\",OFFSET([1]DE100_7!$J$105,ROWS($J$105:J153)-1,COLUMNS($J$105:J153)-1),\"\")","v":{"$error":"#VALUE!"}},{"$f":"IF(OFFSET([1]DE100_7!$K$105,ROWS($K$105:K153)-1,COLUMNS($K$105:K153)-1)<>\"\",OFFSET([1]DE100_7!$K$105,ROWS($K$105:K153)-1,COLUMNS($K$105:K153)-1),\"\")","v":{"$error":"#VALUE!"}},{"$f":"IF(OFFSET([1]DE100_7!$L$105,ROWS($L$105:L153)-1,COLUMNS($L$105:L153)-1)<>\"\",OFFSET([1]DE100_7!$L$105,ROWS($L$105:L153)-1,COLUMNS($L$105:L153)-1),\"\")","v":{"$error":"#VALUE!"}},{"$f":"IF(OFFSET([1]DE100_7!$M$105,ROWS($M$105:M153)-1,COLUMNS($M$105:M153)-1)<>\"\",OFFSET([1]DE100_7!$M$105,ROWS($M$105:M153)-1,COLUMNS($M$105:M153)-1),\"\")","v":{"$error":"#VALUE!"}},{"$f":"IF(OFFSET([1]DE100_7!$N$105,ROWS($N$105:N153)-1,COLUMNS($N$105:N153)-1)<>\"\",OFFSET([1]DE100_7!$N$105,ROWS($N$105:N153)-1,COLUMNS($N$105:N153)-1),\"\")","v":{"$error":"#VALUE!"}},{"$f":"IF(OFFSET([1]DE100_7!$O$105,ROWS($O$105:O153)-1,COLUMNS($O$105:O153)-1)<>\"\",OFFSET([1]DE100_7!$O$105,ROWS($O$105:O153)-1,COLUMNS($O$105:O153)-1),\"\")","v":{"$error":"#VALUE!"}},{"$f":"IF(OFFSET([1]DE100_7!$P$105,ROWS($P$105:P153)-1,COLUMNS($P$105:P153)-1)<>\"\",OFFSET([1]DE100_7!$P$105,ROWS($P$105:P153)-1,COLUMNS($P$105:P153)-1),\"\")","v":{"$error":"#VALUE!"}},{"$f":"IF(OFFSET([1]DE100_7!$Q$105,ROWS($Q$105:Q153)-1,COLUMNS($Q$105:Q153)-1)<>\"\",OFFSET([1]DE100_7!$Q$105,ROWS($Q$105:Q153)-1,COLUMNS($Q$105:Q153)-1),\"\")","v":{"$error":"#VALUE!"}},{"$f":"IF(OFFSET([1]DE100_7!$R$105,ROWS($R$105:R153)-1,COLUMNS($R$105:R153)-1)<>\"\",OFFSET([1]DE100_7!$R$105,ROWS($R$105:R153)-1,COLUMNS($R$105:R153)-1),\"\")","v":{"$error":"#VALUE!"}},{"$f":"IF(OFFSET([1]DE100_7!$S$105,ROWS($S$105:S153)-1,COLUMNS($S$105:S153)-1)<>\"\",OFFSET([1]DE100_7!$S$105,ROWS($S$105:S153)-1,COLUMNS($S$105:S153)-1),\"\")","v":{"$error":"#VALUE!"}},{"$f":"IF(OFFSET([1]DE100_7!$T$105,ROWS($T$105:T153)-1,COLUMNS($T$105:T153)-1)<>\"\",OFFSET([1]DE100_7!$T$105,ROWS($T$105:T153)-1,COLUMNS($T$105:T153)-1),\"\")","v":{"$error":"#VALUE!"}},{"$f":"IF(OFFSET([1]DE100_7!$U$105,ROWS($U$105:U153)-1,COLUMNS($U$105:U153)-1)<>\"\",OFFSET([1]DE100_7!$U$105,ROWS($U$105:U153)-1,COLUMNS($U$105:U153)-1),\"\")","v":{"$error":"#VALUE!"}},{"$f":"IF(OFFSET([1]DE100_7!$V$105,ROWS($V$105:V153)-1,COLUMNS($V$105:V153)-1)<>\"\",OFFSET([1]DE100_7!$V$105,ROWS($V$105:V153)-1,COLUMNS($V$105:V153)-1),\"\")","v":{"$error":"#VALUE!"}}]
[{"$f":"IF(OFFSET([1]DE100_7!$C$105,ROWS($C$105:C154)-1,COLUMNS($C$105:C154)-1)<>\"\",OFFSET([1]DE100_7!$C$105,ROWS($C$105:C154)-1,COLUMNS($C$105:C154)-1),\"\")","v":{"$error":"#VALUE!"}},{"$f":"IF(OFFSET([1]DE100_7!$D$105,ROWS($D$105:D154)-1,COLUMNS($D$105:D154)-1)<>\"\",OFFSET([1]DE100_7!$D$105,ROWS($D$105:D154)-1,COLUMNS($D$105:D154)-1),\"\")","v":{"$error":"#VALUE!"}},{"$f":"IF(OFFSET([1]DE100_7!$E$105,ROWS($E$105:E154)-1,COLUMNS($E$105:E154)-1)<>\"\",OFFSET([1]DE100_7!$E$105,ROWS($E$105:E154)-1,COLUMNS($E$105:E154)-1),\"\")","v":{"$error":"#VALUE!"}},{"$f":"IF(OFFSET([1]DE100_7!$F$105,ROWS($F$105:F154)-1,COLUMNS($F$105:F154)-1)<>\"\",OFFSET([1]DE100_7!$F$105,ROWS($F$105:F154)-1,COLUMNS($F$105:F154)-1),\"\")","v":{"$error":"#VALUE!"}},{"$f":"IF(OFFSET([1]DE100_7!$G$105,ROWS($G$105:G154)-1,COLUMNS($G$105:G154)-1)<>\"\",OFFSET([1]DE100_7!$G$105,ROWS($G$105:G154)-1,COLUMNS($G$105:G154)-1),\"\")","v":{"$error":"#VALUE!"}},{"$f":"IF(OFFSET([1]DE100_7!$H$105,ROWS($H$105:H154)-1,COLUMNS($H$105:H154)-1)<>\"\",OFFSET([1]DE100_7!$H$105,ROWS($H$105:H154)-1,COLUMNS($H$105:H154)-1),\"\")","v":{"$error":"#VALUE!"}},{"$f":"IF(OFFSET([1]DE100_7!$I$105,ROWS($I$105:I154)-1,COLUMNS($I$105:I154)-1)<>\"\",OFFSET([1]DE100_7!$I$105,ROWS($I$105:I154)-1,COLUMNS($I$105:I154)-1),\"\")","v":{"$error":"#VALUE!"}},{"$f":"IF(OFFSET([1]DE100_7!$J$105,ROWS($J$105:J154)-1,COLUMNS($J$105:J154)-1)<>\"\",OFFSET([1]DE100_7!$J$105,ROWS($J$105:J154)-1,COLUMNS($J$105:J154)-1),\"\")","v":{"$error":"#VALUE!"}},{"$f":"IF(OFFSET([1]DE100_7!$K$105,ROWS($K$105:K154)-1,COLUMNS($K$105:K154)-1)<>\"\",OFFSET([1]DE100_7!$K$105,ROWS($K$105:K154)-1,COLUMNS($K$105:K154)-1),\"\")","v":{"$error":"#VALUE!"}},{"$f":"IF(OFFSET([1]DE100_7!$L$105,ROWS($L$105:L154)-1,COLUMNS($L$105:L154)-1)<>\"\",OFFSET([1]DE100_7!$L$105,ROWS($L$105:L154)-1,COLUMNS($L$105:L154)-1),\"\")","v":{"$error":"#VALUE!"}},{"$f":"IF(OFFSET([1]DE100_7!$M$105,ROWS($M$105:M154)-1,COLUMNS($M$105:M154)-1)<>\"\",OFFSET([1]DE100_7!$M$105,ROWS($M$105:M154)-1,COLUMNS($M$105:M154)-1),\"\")","v":{"$error":"#VALUE!"}},{"$f":"IF(OFFSET([1]DE100_7!$N$105,ROWS($N$105:N154)-1,COLUMNS($N$105:N154)-1)<>\"\",OFFSET([1]DE100_7!$N$105,ROWS($N$105:N154)-1,COLUMNS($N$105:N154)-1),\"\")","v":{"$error":"#VALUE!"}},{"$f":"IF(OFFSET([1]DE100_7!$O$105,ROWS($O$105:O154)-1,COLUMNS($O$105:O154)-1)<>\"\",OFFSET([1]DE100_7!$O$105,ROWS($O$105:O154)-1,COLUMNS($O$105:O154)-1),\"\")","v":{"$error":"#VALUE!"}},{"$f":"IF(OFFSET([1]DE100_7!$P$105,ROWS($P$105:P154)-1,COLUMNS($P$105:P154)-1)<>\"\",OFFSET([1]DE100_7!$P$105,ROWS($P$105:P154)-1,COLUMNS($P$105:P154)-1),\"\")","v":{"$error":"#VALUE!"}},{"$f":"IF(OFFSET([1]DE100_7!$Q$105,ROWS($Q$105:Q154)-1,COLUMNS($Q$105:Q154)-1)<>\"\",OFFSET([1]DE100_7!$Q$105,ROWS($Q$105:Q154)-1,COLUMNS($Q$105:Q154)-1),\"\")","v":{"$error":"#VALUE!"}},{"$f":"IF(OFFSET([1]DE100_7!$R$105,ROWS($R$105:R154)-1,COLUMNS($R$105:R154)-1)<>\"\",OFFSET([1]DE100_7!$R$105,ROWS($R$105:R154)-1,COLUMNS($R$105:R154)-1),\"\")","v":{"$error":"#VALUE!"}},{"$f":"IF(OFFSET([1]DE100_7!$S$105,ROWS($S$105:S154)-1,COLUMNS($S$105:S154)-1)<>\"\",OFFSET([1]DE100_7!$S$105,ROWS($S$105:S154)-1,COLUMNS($S$105:S154)-1),\"\")","v":{"$error":"#VALUE!"}},{"$f":"IF(OFFSET([1]DE100_7!$T$105,ROWS($T$105:T154)-1,COLUMNS($T$105:T154)-1)<>\"\",OFFSET([1]DE100_7!$T$105,ROWS($T$105:T154)-1,COLUMNS($T$105:T154)-1),\"\")","v":{"$error":"#VALUE!"}},{"$f":"IF(OFFSET([1]DE100_7!$U$105,ROWS($U$105:U154)-1,COLUMNS($U$105:U154)-1)<>\"\",OFFSET([1]DE100_7!$U$105,ROWS($U$105:U154)-1,COLUMNS($U$105:U154)-1),\"\")","v":{"$error":"#VALUE!"}},{"$f":"IF(OFFSET([1]DE100_7!$V$105,ROWS($V$105:V154)-1,COLUMNS($V$105:V154)-1)<>\"\",OFFSET([1]DE100_7!$V$105,ROWS($V$105:V154)-1,COLUMNS($V$105:V154)-1),\"\")","v":{"$error":"#VALUE!"}}]
[{"$f":"IF(OFFSET([1]DE100_7!$C$105,ROWS($C$105:C155)-1,COLUMNS($C$105:C155)-1)<>\"\",OFFSET([1]DE100_7!$C$105,ROWS($C$105:C155)-1,COLUMNS($C$105:C155)-1),\"\")","v":{"$error":"#VALUE!"}},null,null,null,{"$f":"IF(OFFSET([1]DE100_7!$G$105,ROWS($G$105:G155)-1,COLUMNS($G$105:G155)-1)<>\"\",OFFSET([1]DE100_7!$G$105,ROWS($G$105:G155)-1,COLUMNS($G$105:G155)-1),\"\")","v":{"$error":"#VALUE!"}},{"$f":"IF(OFFSET([1]DE100_7!$H$105,ROWS($H$105:H155)-1,COLUMNS($H$105:H155)-1)<>\"\",OFFSET([1]DE100_7!$H$105,ROWS($H$105:H155)-1,COLUMNS($H$105:H155)-1),\"\")","v":{"$error":"#VALUE!"}},{"$f":"IF(OFFSET([1]DE100_7!$I$105,ROWS($I$105:I155)-1,COLUMNS($I$105:I155)-1)<>\"\",OFFSET([1]DE100_7!$I$105,ROWS($I$105:I155)-1,COLUMNS($I$105:I155)-1),\"\")","v":{"$error":"#VALUE!"}},{"$f":"IF(OFFSET([1]DE100_7!$J$105,ROWS($J$105:J155)-1,COLUMNS($J$105:J155)-1)<>\"\",OFFSET([1]DE100_7!$J$105,ROWS($J$105:J155)-1,COLUMNS($J$105:J155)-1),\"\")","v":{"$error":"#VALUE!"}},{"$f":"IF(OFFSET([1]DE100_7!$K$105,ROWS($K$105:K155)-1,COLUMNS($K$105:K155)-1)<>\"\",OFFSET([1]DE100_7!$K$105,ROWS($K$105:K155)-1,COLUMNS($K$105:K155)-1),\"\")","v":{"$error":"#VALUE!"}},{"$f":"IF(OFFSET([1]DE100_7!$L$105,ROWS($L$105:L155)-1,COLUMNS($L$105:L155)-1)<>\"\",OFFSET([1]DE100_7!$L$105,ROWS($L$105:L155)-1,COLUMNS($L$105:L155)-1),\"\")","v":{"$error":"#VALUE!"}},{"$f":"IF(OFFSET([1]DE100_7!$M$105,ROWS($M$105:M155)-1,COLUMNS($M$105:M155)-1)<>\"\",OFFSET([1]DE100_7!$M$105,ROWS($M$105:M155)-1,COLUMNS($M$105:M155)-1),\"\")","v":{"$error":"#VALUE!"}},{"$f":"IF(OFFSET([1]DE100_7!$N$105,ROWS($N$105:N155)-1,COLUMNS($N$105:N155)-1)<>\"\",OFFSET([1]DE100_7!$N$105,ROWS($N$105:N155)-1,COLUMNS($N$105:N155)-1),\"\")","v":{"$error":"#VALUE!"}},{"$f":"IF(OFFSET([1]DE100_7!$O$105,ROWS($O$105:O155)-1,COLUMNS($O$105:O155)-1)<>\"\",OFFSET([1]DE100_7!$O$105,ROWS($O$105:O155)-1,COLUMNS($O$105:O155)-1),\"\")","v":{"$error":"#VALUE!"}},{"$f":"IF(OFFSET([1]DE100_7!$P$105,ROWS($P$105:P155)-1,COLUMNS($P$105:P155)-1)<>\"\",OFFSET([1]DE100_7!$P$105,ROWS($P$105:P155)-1,COLUMNS($P$105:P155)-1),\"\")","v":{"$error":"#VALUE!"}},{"$f":"IF(OFFSET([1]DE100_7!$Q$105,ROWS($Q$105:Q155)-1,COLUMNS($Q$105:Q155)-1)<>\"\",OFFSET([1]DE100_7!$Q$105,ROWS($Q$105:Q155)-1,COLUMNS($Q$105:Q155)-1),\"\")","v":{"$error":"#VALUE!"}},{"$f":"IF(OFFSET([1]DE100_7!$R$105,ROWS($R$105:R155)-1,COLUMNS($R$105:R155)-1)<>\"\",OFFSET([1]DE100_7!$R$105,ROWS($R$105:R155)-1,COLUMNS($R$105:R155)-1),\"\")","v":{"$error":"#VALUE!"}},{"$f":"IF(OFFSET([1]DE100_7!$S$105,ROWS($S$105:S155)-1,COLUMNS($S$105:S155)-1)<>\"\",OFFSET([1]DE100_7!$S$105,ROWS($S$105:S155)-1,COLUMNS($S$105:S155)-1),\"\")","v":{"$error":"#VALUE!"}},{"$f":"IF(OFFSET([1]DE100_7!$T$105,ROWS($T$105:T155)-1,COLUMNS($T$105:T155)-1)<>\"\",OFFSET([1]DE100_7!$T$105,ROWS($T$105:T155)-1,COLUMNS($T$105:T155)-1),\"\")","v":{"$error":"#VALUE!"}},{"$f":"IF(OFFSET([1]DE100_7!$U$105,ROWS($U$105:U155)-1,COLUMNS($U$105:U155)-1)<>\"\",OFFSET([1]DE100_7!$U$105,ROWS($U$105:U155)-1,COLUMNS($U$105:U155)-1),\"\")","v":{"$error":"#VALUE!"}},{"$f":"IF(OFFSET([1]DE100_7!$V$105,ROWS($V$105:V155)-1,COLUMNS($V$105:V155)-1)<>\"\",OFFSET([1]DE100_7!$V$105,ROWS($V$105:V155)-1,COLUMNS($V$105:V155)-1),\"\")","v":{"$error":"#VALUE!"}}]
[{"$f":"IF(OFFSET([1]DE100_7!$C$105,ROWS($C$105:C156)-1,COLUMNS($C$105:C156)-1)<>\"\",OFFSET([1]DE100_7!$C$105,ROWS($C$105:C156)-1,COLUMNS($C$105:C156)-1),\"\")","v":{"$error":"#VALUE!"}},{"$f":"IF(OFFSET([1]DE100_7!$D$105,ROWS($D$105:D156)-1,COLUMNS($D$105:D156)-1)<>\"\",OFFSET([1]DE100_7!$D$105,ROWS($D$105:D156)-1,COLUMNS($D$105:D156)-1),\"\")","v":{"$error":"#VALUE!"}},{"$f":"IF(OFFSET([1]DE100_7!$E$105,ROWS($E$105:E156)-1,COLUMNS($E$105:E156)-1)<>\"\",OFFSET([1]DE100_7!$E$105,ROWS($E$105:E156)-1,COLUMNS($E$105:E156)-1),\"\")","v":{"$error":"#VALUE!"}},{"$f":"IF(OFFSET([1]DE100_7!$F$105,ROWS($F$105:F156)-1,COLUMNS($F$105:F156)-1)<>\"\",OFFSET([1]DE100_7!$F$105,ROWS($F$105:F156)-1,COLUMNS($F$105:F156)-1),\"\")","v":{"$error":"#VALUE!"}},{"$f":"IF(OFFSET([1]DE100_7!$G$105,ROWS($G$105:G156)-1,COLUMNS($G$105:G156)-1)<>\"\",OFFSET([1]DE100_7!$G$105,ROWS($G$105:G156)-1,COLUMNS($G$105:G156)-1),\"\")","v":{"$error":"#VALUE!"}},{"$f":"IF(OFFSET([1]DE100_7!$H$105,ROWS($H$105:H156)-1,COLUMNS($H$105:H156)-1)<>\"\",OFFSET([1]DE100_7!$H$105,ROWS($H$105:H156)-1,COLUMNS($H$105:H156)-1),\"\")","v":{"$error":"#VALUE!"}},{"$f":"IF(OFFSET([1]DE100_7!$I$105,ROWS($I$105:I156)-1,COLUMNS($I$105:I156)-1)<>\"\",OFFSET([1]DE100_7!$I$105,ROWS($I$105:I156)-1,COLUMNS($I$105:I156)-1),\"\")","v":{"$error":"#VALUE!"}},{"$f":"IF(OFFSET([1]DE100_7!$J$105,ROWS($J$105:J156)-1,COLUMNS($J$105:J156)-1)<>\"\",OFFSET([1]DE100_7!$J$105,ROWS($J$105:J156)-1,COLUMNS($J$105:J156)-1),\"\")","v":{"$error":"#VALUE!"}},{"$f":"IF(OFFSET([1]DE100_7!$K$105,ROWS($K$105:K156)-1,COLUMNS($K$105:K156)-1)<>\"\",OFFSET([1]DE100_7!$K$105,ROWS($K$105:K156)-1,COLUMNS($K$105:K156)-1),\"\")","v":{"$error":"#VALUE!"}},{"$f":"IF(OFFSET([1]DE100_7!$L$105,ROWS($L$105:L156)-1,COLUMNS($L$105:L156)-1)<>\"\",OFFSET([1]DE100_7!$L$105,ROWS($L$105:L156)-1,COLUMNS($L$105:L156)-1),\"\")","v":{"$error":"#VALUE!"}},{"$f":"IF(OFFSET([1]DE100_7!$M$105,ROWS($M$105:M156)-1,COLUMNS($M$105:M156)-1)<>\"\",OFFSET([1]DE100_7!$M$105,ROWS($M$105:M156)-1,COLUMNS($M$105:M156)-1),\"\")","v":{"$error":"#VALUE!"}},{"$f":"IF(OFFSET([1]DE100_7!$N$105,ROWS($N$105:N156)-1,COLUMNS($N$105:N156)-1)<>\"\",OFFSET([1]DE100_7!$N$105,ROWS($N$105:N156)-1,COLUMNS($N$105:N156)-1),\"\")","v":{"$error":"#VALUE!"}},{"$f":"IF(OFFSET([1]DE100_7!$O$105,ROWS($O$105:O156)-1,COLUMNS($O$105:O156)-1)<>\"\",OFFSET([1]DE100_7!$O$105,ROWS($O$105:O156)-1,COLUMNS($O$105:O156)-1),\"\")","v":{"$error":"#VALUE!"}},{"$f":"IF(OFFSET([1]DE100_7!$P$105,ROWS($P$105:P156)-1,COLUMNS($P$105:P156)-1)<>\"\",OFFSET([1]DE100_7!$P$105,ROWS($P$105:P156)-1,COLUMNS($P$105:P156)-1),\"\")","v":{"$error":"#VALUE!"}},{"$f":"IF(OFFSET([1]DE100_7!$Q$105,ROWS($Q$105:Q156)-1,COLUMNS($Q$105:Q156)-1)<>\"\",OFFSET([1]DE100_7!$Q$105,ROWS($Q$105:Q156)-1,COLUMNS($Q$105:Q156)-1),\"\")","v":{"$error":"#VALUE!"}},{"$f":"IF(OFFSET([1]DE100_7!$R$105,ROWS($R$105:R156)-1,COLUMNS($R$105:R156)-1)<>\"\",OFFSET([1]DE100_7!$R$105,ROWS($R$105:R156)-1,COLUMNS($R$105:R156)-1),\"\")","v":{"$error":"#VALUE!"}},{"$f":"IF(OFFSET([1]DE100_7!$S$105,ROWS($S$105:S156)-1,COLUMNS($S$105:S156)-1)<>\"\",OFFSET([1]DE100_7!$S$105,ROWS($S$105:S156)-1,COLUMNS($S$105:S156)-1),\"\")","v":{"$error":"#VALUE!"}},{"$f":"IF(OFFSET([1]DE100_7!$T$105,ROWS($T$105:T156)-1,COLUMNS($T$105:T156)-1)<>\"\",OFFSET([1]DE100_7!$T$105,ROWS($T$105:T156)-1,COLUMNS($T$105:T156)-1),\"\")","v":{"$error":"#VALUE!"}},{"$f":"IF(OFFSET([1]DE100_7!$U$105,ROWS($U$105:U156)-1,COLUMNS($U$105:U156)-1)<>\"\",OFFSET([1]DE100_7!$U$105,ROWS($U$105:U156)-1,COLUMNS($U$105:U156)-1),\"\")","v":{"$error":"#VALUE!"}},{"$f":"IF(OFFSET([1]DE100_7!$V$105,ROWS($V$105:V156)-1,COLUMNS($V$105:V156)-1)<>\"\",OFFSET([1]DE100_7!$V$105,ROWS($V$105:V156)-1,COLUMNS($V$105:V156)-1),\"\")","v":{"$error":"#VALUE!"}}]
[{"$f":"IF(OFFSET([1]DE100_7!$C$105,ROWS($C$105:C157)-1,COLUMNS($C$105:C157)-1)<>\"\",OFFSET([1]DE100_7!$C$105,ROWS($C$105:C157)-1,COLUMNS($C$105:C157)-1),\"\")","v":{"$error":"#VALUE!"}},{"$f":"IF(OFFSET([1]DE100_7!$D$105,ROWS($D$105:D157)-1,COLUMNS($D$105:D157)-1)<>\"\",OFFSET([1]DE100_7!$D$105,ROWS($D$105:D157)-1,COLUMNS($D$105:D157)-1),\"\")","v":{"$error":"#VALUE!"}},{"$f":"IF(OFFSET([1]DE100_7!$E$105,ROWS($E$105:E157)-1,COLUMNS($E$105:E157)-1)<>\"\",OFFSET([1]DE100_7!$E$105,ROWS($E$105:E157)-1,COLUMNS($E$105:E157)-1),\"\")","v":{"$error":"#VALUE!"}},{"$f":"IF(OFFSET([1]DE100_7!$F$105,ROWS($F$105:F157)-1,COLUMNS($F$105:F157)-1)<>\"\",OFFSET([1]DE100_7!$F$105,ROWS($F$105:F157)-1,COLUMNS($F$105:F157)-1),\"\")","v":{"$error":"#VALUE!"}},{"$f":"IF(OFFSET([1]DE100_7!$G$105,ROWS($G$105:G157)-1,COLUMNS($G$105:G157)-1)<>\"\",OFFSET([1]DE100_7!$G$105,ROWS($G$105:G157)-1,COLUMNS($G$105:G157)-1),\"\")","v":{"$error":"#VALUE!"}},{"$f":"IF(OFFSET([1]DE100_7!$H$105,ROWS($H$105:H157)-1,COLUMNS($H$105:H157)-1)<>\"\",OFFSET([1]DE100_7!$H$105,ROWS($H$105:H157)-1,COLUMNS($H$105:H157)-1),\"\")","v":{"$error":"#VALUE!"}},{"$f":"IF(OFFSET([1]DE100_7!$I$105,ROWS($I$105:I157)-1,COLUMNS($I$105:I157)-1)<>\"\",OFFSET([1]DE100_7!$I$105,ROWS($I$105:I157)-1,COLUMNS($I$105:I157)-1),\"\")","v":{"$error":"#VALUE!"}},{"$f":"IF(OFFSET([1]DE100_7!$J$105,ROWS($J$105:J157)-1,COLUMNS($J$105:J157)-1)<>\"\",OFFSET([1]DE100_7!$J$105,ROWS($J$105:J157)-1,COLUMNS($J$105:J157)-1),\"\")","v":{"$error":"#VALUE!"}},{"$f":"IF(OFFSET([1]DE100_7!$K$105,ROWS($K$105:K157)-1,COLUMNS($K$105:K157)-1)<>\"\",OFFSET([1]DE100_7!$K$105,ROWS($K$105:K157)-1,COLUMNS($K$105:K157)-1),\"\")","v":{"$error":"#VALUE!"}},{"$f":"IF(OFFSET([1]DE100_7!$L$105,ROWS($L$105:L157)-1,COLUMNS($L$105:L157)-1)<>\"\",OFFSET([1]DE100_7!$L$105,ROWS($L$105:L157)-1,COLUMNS($L$105:L157)-1),\"\")","v":{"$error":"#VALUE!"}},{"$f":"IF(OFFSET([1]DE100_7!$M$105,ROWS($M$105:M157)-1,COLUMNS($M$105:M157)-1)<>\"\",OFFSET([1]DE100_7!$M$105,ROWS($M$105:M157)-1,COLUMNS($M$105:M157)-1),\"\")","v":{"$error":"#VALUE!"}},{"$f":"IF(OFFSET([1]DE100_7!$N$105,ROWS($N$105:N157)-1,COLUMNS($N$105:N157)-1)<>\"\",OFFSET([1]DE100_7!$N$105,ROWS($N$105:N157)-1,COLUMNS($N$105:N157)-1),\"\")","v":{"$error":"#VALUE!"}},{"$f":"IF(OFFSET([1]DE100_7!$O$105,ROWS($O$105:O157)-1,COLUMNS($O$105:O157)-1)<>\"\",OFFSET([1]DE100_7!$O$105,ROWS($O$105:O157)-1,COLUMNS($O$105:O157)-1),\"\")","v":{"$error":"#VALUE!"}},{"$f":"IF(OFFSET([1]DE100_7!$P$105,ROWS($P$105:P157)-1,COLUMNS($P$105:P157)-1)<>\"\",OFFSET([1]DE100_7!$P$105,ROWS($P$105:P157)-1,COLUMNS($P$105:P157)-1),\"\")","v":{"$error":"#VALUE!"}},{"$f":"IF(OFFSET([1]DE100_7!$Q$105,ROWS($Q$105:Q157)-1,COLUMNS($Q$105:Q157)-1)<>\"\",OFFSET([1]DE100_7!$Q$105,ROWS($Q$105:Q157)-1,COLUMNS($Q$105:Q157)-1),\"\")","v":{"$error":"#VALUE!"}},{"$f":"IF(OFFSET([1]DE100_7!$R$105,ROWS($R$105:R157)-1,COLUMNS($R$105:R157)-1)<>\"\",OFFSET([1]DE100_7!$R$105,ROWS($R$105:R157)-1,COLUMNS($R$105:R157)-1),\"\")","v":{"$error":"#VALUE!"}},{"$f":"IF(OFFSET([1]DE100_7!$S$105,ROWS($S$105:S157)-1,COLUMNS($S$105:S157)-1)<>\"\",OFFSET([1]DE100_7!$S$105,ROWS($S$105:S157)-1,COLUMNS($S$105:S157)-1),\"\")","v":{"$error":"#VALUE!"}},{"$f":"IF(OFFSET([1]DE100_7!$T$105,ROWS($T$105:T157)-1,COLUMNS($T$105:T157)-1)<>\"\",OFFSET([1]DE100_7!$T$105,ROWS($T$105:T157)-1,COLUMNS($T$105:T157)-1),\"\")","v":{"$error":"#VALUE!"}},{"$f":"IF(OFFSET([1]DE100_7!$U$105,ROWS($U$105:U157)-1,COLUMNS($U$105:U157)-1)<>\"\",OFFSET([1]DE100_7!$U$105,ROWS($U$105:U157)-1,COLUMNS($U$105:U157)-1),\"\")","v":{"$error":"#VALUE!"}},{"$f":"IF(OFFSET([1]DE100_7!$V$105,ROWS($V$105:V157)-1,COLUMNS($V$105:V157)-1)<>\"\",OFFSET([1]DE100_7!$V$105,ROWS($V$105:V157)-1,COLUMNS($V$105:V157)-1),\"\")","v":{"$error":"#VALUE!"}}]
[{"$f":"IF(OFFSET([1]DE100_7!$C$105,ROWS($C$105:C158)-1,COLUMNS($C$105:C158)-1)<>\"\",OFFSET([1]DE100_7!$C$105,ROWS($C$105:C158)-1,COLUMNS($C$105:C158)-1),\"\")","v":{"$error":"#VALUE!"}},{"$f":"IF(OFFSET([1]DE100_7!$D$105,ROWS($D$105:D158)-1,COLUMNS($D$105:D158)-1)<>\"\",OFFSET([1]DE100_7!$D$105,ROWS($D$105:D158)-1,COLUMNS($D$105:D158)-1),\"\")","v":{"$error":"#VALUE!"}},{"$f":"IF(OFFSET([1]DE100_7!$E$105,ROWS($E$105:E158)-1,COLUMNS($E$105:E158)-1)<>\"\",OFFSET([1]DE100_7!$E$105,ROWS($E$105:E158)-1,COLUMNS($E$105:E158)-1),\"\")","v":{"$error":"#VALUE!"}},{"$f":"IF(OFFSET([1]DE100_7!$F$105,ROWS($F$105:F158)-1,COLUMNS($F$105:F158)-1)<>\"\",OFFSET([1]DE100_7!$F$105,ROWS($F$105:F158)-1,COLUMNS($F$105:F158)-1),\"\")","v":{"$error":"#VALUE!"}},{"$f":"IF(OFFSET([1]DE100_7!$G$105,ROWS($G$105:G158)-1,COLUMNS($G$105:G158)-1)<>\"\",OFFSET([1]DE100_7!$G$105,ROWS($G$105:G158)-1,COLUMNS($G$105:G158)-1),\"\")","v":{"$error":"#VALUE!"}},{"$f":"IF(OFFSET([1]DE100_7!$H$105,ROWS($H$105:H158)-1,COLUMNS($H$105:H158)-1)<>\"\",OFFSET([1]DE100_7!$H$105,ROWS($H$105:H158)-1,COLUMNS($H$105:H158)-1),\"\")","v":{"$error":"#VALUE!"}},{"$f":"IF(OFFSET([1]DE100_7!$I$105,ROWS($I$105:I158)-1,COLUMNS($I$105:I158)-1)<>\"\",OFFSET([1]DE100_7!$I$105,ROWS($I$105:I158)-1,COLUMNS($I$105:I158)-1),\"\")","v":{"$error":"#VALUE!"}},{"$f":"IF(OFFSET([1]DE100_7!$J$105,ROWS($J$105:J158)-1,COLUMNS($J$105:J158)-1)<>\"\",OFFSET([1]DE100_7!$J$105,ROWS($J$105:J158)-1,COLUMNS($J$105:J158)-1),\"\")","v":{"$error":"#VALUE!"}},{"$f":"IF(OFFSET([1]DE100_7!$K$105,ROWS($K$105:K158)-1,COLUMNS($K$105:K158)-1)<>\"\",OFFSET([1]DE100_7!$K$105,ROWS($K$105:K158)-1,COLUMNS($K$105:K158)-1),\"\")","v":{"$error":"#VALUE!"}},{"$f":"IF(OFFSET([1]DE100_7!$L$105,ROWS($L$105:L158)-1,COLUMNS($L$105:L158)-1)<>\"\",OFFSET([1]DE100_7!$L$105,ROWS($L$105:L158)-1,COLUMNS($L$105:L158)-1),\"\")","v":{"$error":"#VALUE!"}},{"$f":"IF(OFFSET([1]DE100_7!$M$105,ROWS($M$105:M158)-1,COLUMNS($M$105:M158)-1)<>\"\",OFFSET([1]DE100_7!$M$105,ROWS($M$105:M158)-1,COLUMNS($M$105:M158)-1),\"\")","v":{"$error":"#VALUE!"}},{"$f":"IF(OFFSET([1]DE100_7!$N$105,ROWS($N$105:N158)-1,COLUMNS($N$105:N158)-1)<>\"\",OFFSET([1]DE100_7!$N$105,ROWS($N$105:N158)-1,COLUMNS($N$105:N158)-1),\"\")","v":{"$error":"#VALUE!"}},{"$f":"IF(OFFSET([1]DE100_7!$O$105,ROWS($O$105:O158)-1,COLUMNS($O$105:O158)-1)<>\"\",OFFSET([1]DE100_7!$O$105,ROWS($O$105:O158)-1,COLUMNS($O$105:O158)-1),\"\")","v":{"$error":"#VALUE!"}},{"$f":"IF(OFFSET([1]DE100_7!$P$105,ROWS($P$105:P158)-1,COLUMNS($P$105:P158)-1)<>\"\",OFFSET([1]DE100_7!$P$105,ROWS($P$105:P158)-1,COLUMNS($P$105:P158)-1),\"\")","v":{"$error":"#VALUE!"}},{"$f":"IF(OFFSET([1]DE100_7!$Q$105,ROWS($Q$105:Q158)-1,COLUMNS($Q$105:Q158)-1)<>\"\",OFFSET([1]DE100_7!$Q$105,ROWS($Q$105:Q158)-1,COLUMNS($Q$105:Q158)-1),\"\")","v":{"$error":"#VALUE!"}},{"$f":"IF(OFFSET([1]DE100_7!$R$105,ROWS($R$105:R158)-1,COLUMNS($R$105:R158)-1)<>\"\",OFFSET([1]DE100_7!$R$105,ROWS($R$105:R158)-1,COLUMNS($R$105:R158)-1),\"\")","v":{"$error":"#VALUE!"}},{"$f":"IF(OFFSET([1]DE100_7!$S$105,ROWS($S$105:S158)-1,COLUMNS($S$105:S158)-1)<>\"\",OFFSET([1]DE100_7!$S$105,ROWS($S$105:S158)-1,COLUMNS($S$105:S158)-1),\"\")","v":{"$error":"#VALUE!"}},{"$f":"IF(OFFSET([1]DE100_7!$T$105,ROWS($T$105:T158)-1,COLUMNS($T$105:T158)-1)<>\"\",OFFSET([1]DE100_7!$T$105,ROWS($T$105:T158)-1,COLUMNS($T$105:T158)-1),\"\")","v":{"$error":"#VALUE!"}},{"$f":"IF(OFFSET([1]DE100_7!$U$105,ROWS($U$105:U158)-1,COLUMNS($U$105:U158)-1)<>\"\",OFFSET([1]DE100_7!$U$105,ROWS($U$105:U158)-1,COLUMNS($U$105:U158)-1),\"\")","v":{"$error":"#VALUE!"}},{"$f":"IF(OFFSET([1]DE100_7!$V$105,ROWS($V$105:V158)-1,COLUMNS($V$105:V158)-1)<>\"\",OFFSET([1]DE100_7!$V$105,ROWS($V$105:V158)-1,COLUMNS($V$105:V158)-1),\"\")","v":{"$error":"#VALUE!"}}]
[{"$f":"IF(OFFSET([1]DE100_7!$C$105,ROWS($C$105:C159)-1,COLUMNS($C$105:C159)-1)<>\"\",OFFSET([1]DE100_7!$C$105,ROWS($C$105:C159)-1,COLUMNS($C$105:C159)-1),\"\")","v":{"$error":"#VALUE!"}},{"$f":"IF(OFFSET([1]DE100_7!$D$105,ROWS($D$105:D159)-1,COLUMNS($D$105:D159)-1)<>\"\",OFFSET([1]DE100_7!$D$105,ROWS($D$105:D159)-1,COLUMNS($D$105:D159)-1),\"\")","v":{"$error":"#VALUE!"}},{"$f":"IF(OFFSET([1]DE100_7!$E$105,ROWS($E$105:E159)-1,COLUMNS($E$105:E159)-1)<>\"\",OFFSET([1]DE100_7!$E$105,ROWS($E$105:E159)-1,COLUMNS($E$105:E159)-1),\"\")","v":{"$error":"#VALUE!"}},{"$f":"IF(OFFSET([1]DE100_7!$F$105,ROWS($F$105:F159)-1,COLUMNS($F$105:F159)-1)<>\"\",OFFSET([1]DE100_7!$F$105,ROWS($F$105:F159)-1,COLUMNS($F$105:F159)-1),\"\")","v":{"$error":"#VALUE!"}},{"$f":"IF(OFFSET([1]DE100_7!$G$105,ROWS($G$105:G159)-1,COLUMNS($G$105:G159)-1)<>\"\",OFFSET([1]DE100_7!$G$105,ROWS($G$105:G159)-1,COLUMNS($G$105:G159)-1),\"\")","v":{"$error":"#VALUE!"}},{"$f":"IF(OFFSET([1]DE100_7!$H$105,ROWS($H$105:H159)-1,COLUMNS($H$105:H159)-1)<>\"\",OFFSET([1]DE100_7!$H$105,ROWS($H$105:H159)-1,COLUMNS($H$105:H159)-1),\"\")","v":{"$error":"#VALUE!"}},{"$f":"IF(OFFSET([1]DE100_7!$I$105,ROWS($I$105:I159)-1,COLUMNS($I$105:I159)-1)<>\"\",OFFSET([1]DE100_7!$I$105,ROWS($I$105:I159)-1,COLUMNS($I$105:I159)-1),\"\")","v":{"$error":"#VALUE!"}},{"$f":"IF(OFFSET([1]DE100_7!$J$105,ROWS($J$105:J159)-1,COLUMNS($J$105:J159)-1)<>\"\",OFFSET([1]DE100_7!$J$105,ROWS($J$105:J159)-1,COLUMNS($J$105:J159)-1),\"\")","v":{"$error":"#VALUE!"}},{"$f":"IF(OFFSET([1]DE100_7!$K$105,ROWS($K$105:K159)-1,COLUMNS($K$105:K159)-1)<>\"\",OFFSET([1]DE100_7!$K$105,ROWS($K$105:K159)-1,COLUMNS($K$105:K159)-1),\"\")","v":{"$error":"#VALUE!"}},{"$f":"IF(OFFSET([1]DE100_7!$L$105,ROWS($L$105:L159)-1,COLUMNS($L$105:L159)-1)<>\"\",OFFSET([1]DE100_7!$L$105,ROWS($L$105:L159)-1,COLUMNS($L$105:L159)-1),\"\")","v":{"$error":"#VALUE!"}},{"$f":"IF(OFFSET([1]DE100_7!$M$105,ROWS($M$105:M159)-1,COLUMNS($M$105:M159)-1)<>\"\",OFFSET([1]DE100_7!$M$105,ROWS($M$105:M159)-1,COLUMNS($M$105:M159)-1),\"\")","v":{"$error":"#VALUE!"}},{"$f":"IF(OFFSET([1]DE100_7!$N$105,ROWS($N$105:N159)-1,COLUMNS($N$105:N159)-1)<>\"\",OFFSET([1]DE100_7!$N$105,ROWS($N$105:N159)-1,COLUMNS($N$105:N159)-1),\"\")","v":{"$error":"#VALUE!"}},{"$f":"IF(OFFSET([1]DE100_7!$O$105,ROWS($O$105:O159)-1,COLUMNS($O$105:O159)-1)<>\"\",OFFSET([1]DE100_7!$O$105,ROWS($O$105:O159)-1,COLUMNS($O$105:O159)-1),\"\")","v":{"$error":"#VALUE!"}},{"$f":"IF(OFFSET([1]DE100_7!$P$105,ROWS($P$105:P159)-1,COLUMNS($P$105:P159)-1)<>\"\",OFFSET([1]DE100_7!$P$105,ROWS($P$105:P159)-1,COLUMNS($P$105:P159)-1),\"\")","v":{"$error":"#VALUE!"}},{"$f":"IF(OFFSET([1]DE100_7!$Q$105,ROWS($Q$105:Q159)-1,COLUMNS($Q$105:Q159)-1)<>\"\",OFFSET([1]DE100_7!$Q$105,ROWS($Q$105:Q159)-1,COLUMNS($Q$105:Q159)-1),\"\")","v":{"$error":"#VALUE!"}},{"$f":"IF(OFFSET([1]DE100_7!$R$105,ROWS($R$105:R159)-1,COLUMNS($R$105:R159)-1)<>\"\",OFFSET([1]DE100_7!$R$105,ROWS($R$105:R159)-1,COLUMNS($R$105:R159)-1),\"\")","v":{"$error":"#VALUE!"}},{"$f":"IF(OFFSET([1]DE100_7!$S$105,ROWS($S$105:S159)-1,COLUMNS($S$105:S159)-1)<>\"\",OFFSET([1]DE100_7!$S$105,ROWS($S$105:S159)-1,COLUMNS($S$105:S159)-1),\"\")","v":{"$error":"#VALUE!"}},{"$f":"IF(OFFSET([1]DE100_7!$T$105,ROWS($T$105:T159)-1,COLUMNS($T$105:T159)-1)<>\"\",OFFSET([1]DE100_7!$T$105,ROWS($T$105:T159)-1,COLUMNS($T$105:T159)-1),\"\")","v":{"$error":"#VALUE!"}},{"$f":"IF(OFFSET([1]DE100_7!$U$105,ROWS($U$105:U159)-1,COLUMNS($U$105:U159)-1)<>\"\",OFFSET([1]DE100_7!$U$105,ROWS($U$105:U159)-1,COLUMNS($U$105:U159)-1),\"\")","v":{"$error":"#VALUE!"}},{"$f":"IF(OFFSET([1]DE100_7!$V$105,ROWS($V$105:V159)-1,COLUMNS($V$105:V159)-1)<>\"\",OFFSET([1]DE100_7!$V$105,ROWS($V$105:V159)-1,COLUMNS($V$105:V159)-1),\"\")","v":{"$error":"#VALUE!"}}]
[{"$f":"IF(OFFSET([1]DE100_7!$C$105,ROWS($C$105:C160)-1,COLUMNS($C$105:C160)-1)<>\"\",OFFSET([1]DE100_7!$C$105,ROWS($C$105:C160)-1,COLUMNS($C$105:C160)-1),\"\")","v":{"$error":"#VALUE!"}},{"$f":"IF(OFFSET([1]DE100_7!$D$105,ROWS($D$105:D160)-1,COLUMNS($D$105:D160)-1)<>\"\",OFFSET([1]DE100_7!$D$105,ROWS($D$105:D160)-1,COLUMNS($D$105:D160)-1),\"\")","v":{"$error":"#VALUE!"}},{"$f":"IF(OFFSET([1]DE100_7!$E$105,ROWS($E$105:E160)-1,COLUMNS($E$105:E160)-1)<>\"\",OFFSET([1]DE100_7!$E$105,ROWS($E$105:E160)-1,COLUMNS($E$105:E160)-1),\"\")","v":{"$error":"#VALUE!"}},{"$f":"IF(OFFSET([1]DE100_7!$F$105,ROWS($F$105:F160)-1,COLUMNS($F$105:F160)-1)<>\"\",OFFSET([1]DE100_7!$F$105,ROWS($F$105:F160)-1,COLUMNS($F$105:F160)-1),\"\")","v":{"$error":"#VALUE!"}},{"$f":"IF(OFFSET([1]DE100_7!$G$105,ROWS($G$105:G160)-1,COLUMNS($G$105:G160)-1)<>\"\",OFFSET([1]DE100_7!$G$105,ROWS($G$105:G160)-1,COLUMNS($G$105:G160)-1),\"\")","v":{"$error":"#VALUE!"}},{"$f":"IF(OFFSET([1]DE100_7!$H$105,ROWS($H$105:H160)-1,COLUMNS($H$105:H160)-1)<>\"\",OFFSET([1]DE100_7!$H$105,ROWS($H$105:H160)-1,COLUMNS($H$105:H160)-1),\"\")","v":{"$error":"#VALUE!"}},{"$f":"IF(OFFSET([1]DE100_7!$I$105,ROWS($I$105:I160)-1,COLUMNS($I$105:I160)-1)<>\"\",OFFSET([1]DE100_7!$I$105,ROWS($I$105:I160)-1,COLUMNS($I$105:I160)-1),\"\")","v":{"$error":"#VALUE!"}},{"$f":"IF(OFFSET([1]DE100_7!$J$105,ROWS($J$105:J160)-1,COLUMNS($J$105:J160)-1)<>\"\",OFFSET([1]DE100_7!$J$105,ROWS($J$105:J160)-1,COLUMNS($J$105:J160)-1),\"\")","v":{"$error":"#VALUE!"}},{"$f":"IF(OFFSET([1]DE100_7!$K$105,ROWS($K$105:K160)-1,COLUMNS($K$105:K160)-1)<>\"\",OFFSET([1]DE100_7!$K$105,ROWS($K$105:K160)-1,COLUMNS($K$105:K160)-1),\"\")","v":{"$error":"#VALUE!"}},{"$f":"IF(OFFSET([1]DE100_7!$L$105,ROWS($L$105:L160)-1,COLUMNS($L$105:L160)-1)<>\"\",OFFSET([1]DE100_7!$L$105,ROWS($L$105:L160)-1,COLUMNS($L$105:L160)-1),\"\")","v":{"$error":"#VALUE!"}},{"$f":"IF(OFFSET([1]DE100_7!$M$105,ROWS($M$105:M160)-1,COLUMNS($M$105:M160)-1)<>\"\",OFFSET([1]DE100_7!$M$105,ROWS($M$105:M160)-1,COLUMNS($M$105:M160)-1),\"\")","v":{"$error":"#VALUE!"}},{"$f":"IF(OFFSET([1]DE100_7!$N$105,ROWS($N$105:N160)-1,COLUMNS($N$105:N160)-1)<>\"\",OFFSET([1]DE100_7!$N$105,ROWS($N$105:N160)-1,COLUMNS($N$105:N160)-1),\"\")","v":{"$error":"#VALUE!"}},{"$f":"IF(OFFSET([1]DE100_7!$O$105,ROWS($O$105:O160)-1,COLUMNS($O$105:O160)-1)<>\"\",OFFSET([1]DE100_7!$O$105,ROWS($O$105:O160)-1,COLUMNS($O$105:O160)-1),\"\")","v":{"$error":"#VALUE!"}},{"$f":"IF(OFFSET([1]DE100_7!$P$105,ROWS($P$105:P160)-1,COLUMNS($P$105:P160)-1)<>\"\",OFFSET([1]DE100_7!$P$105,ROWS($P$105:P160)-1,COLUMNS($P$105:P160)-1),\"\")","v":{"$error":"#VALUE!"}},{"$f":"IF(OFFSET([1]DE100_7!$Q$105,ROWS($Q$105:Q160)-1,COLUMNS($Q$105:Q160)-1)<>\"\",OFFSET([1]DE100_7!$Q$105,ROWS($Q$105:Q160)-1,COLUMNS($Q$105:Q160)-1),\"\")","v":{"$error":"#VALUE!"}},{"$f":"IF(OFFSET([1]DE100_7!$R$105,ROWS($R$105:R160)-1,COLUMNS($R$105:R160)-1)<>\"\",OFFSET([1]DE100_7!$R$105,ROWS($R$105:R160)-1,COLUMNS($R$105:R160)-1),\"\")","v":{"$error":"#VALUE!"}},{"$f":"IF(OFFSET([1]DE100_7!$S$105,ROWS($S$105:S160)-1,COLUMNS($S$105:S160)-1)<>\"\",OFFSET([1]DE100_7!$S$105,ROWS($S$105:S160)-1,COLUMNS($S$105:S160)-1),\"\")","v":{"$error":"#VALUE!"}},{"$f":"IF(OFFSET([1]DE100_7!$T$105,ROWS($T$105:T160)-1,COLUMNS($T$105:T160)-1)<>\"\",OFFSET([1]DE100_7!$T$105,ROWS($T$105:T160)-1,COLUMNS($T$105:T160)-1),\"\")","v":{"$error":"#VALUE!"}},{"$f":"IF(OFFSET([1]DE100_7!$U$105,ROWS($U$105:U160)-1,COLUMNS($U$105:U160)-1)<>\"\",OFFSET([1]DE100_7!$U$105,ROWS($U$105:U160)-1,COLUMNS($U$105:U160)-1),\"\")","v":{"$error":"#VALUE!"}},{"$f":"IF(OFFSET([1]DE100_7!$V$105,ROWS($V$105:V160)-1,COLUMNS($V$105:V160)-1)<>\"\",OFFSET([1]DE100_7!$V$105,ROWS($V$105:V160)-1,COLUMNS($V$105:V160)-1),\"\")","v":{"$error":"#VALUE!"}}]
[{"$f":"IF(OFFSET([1]DE100_7!$C$105,ROWS($C$105:C161)-1,COLUMNS($C$105:C161)-1)<>\"\",OFFSET([1]DE100_7!$C$105,ROWS($C$105:C161)-1,COLUMNS($C$105:C161)-1),\"\")","v":{"$error":"#VALUE!"}},{"$f":"IF(OFFSET([1]DE100_7!$D$105,ROWS($D$105:D161)-1,COLUMNS($D$105:D161)-1)<>\"\",OFFSET([1]DE100_7!$D$105,ROWS($D$105:D161)-1,COLUMNS($D$105:D161)-1),\"\")","v":{"$error":"#VALUE!"}},{"$f":"IF(OFFSET([1]DE100_7!$E$105,ROWS($E$105:E161)-1,COLUMNS($E$105:E161)-1)<>\"\",OFFSET([1]DE100_7!$E$105,ROWS($E$105:E161)-1,COLUMNS($E$105:E161)-1),\"\")","v":{"$error":"#VALUE!"}},{"$f":"IF(OFFSET([1]DE100_7!$F$105,ROWS($F$105:F161)-1,COLUMNS($F$105:F161)-1)<>\"\",OFFSET([1]DE100_7!$F$105,ROWS($F$105:F161)-1,COLUMNS($F$105:F161)-1),\"\")","v":{"$error":"#VALUE!"}},{"$f":"IF(OFFSET([1]DE100_7!$G$105,ROWS($G$105:G161)-1,COLUMNS($G$105:G161)-1)<>\"\",OFFSET([1]DE100_7!$G$105,ROWS($G$105:G161)-1,COLUMNS($G$105:G161)-1),\"\")","v":{"$error":"#VALUE!"}},{"$f":"IF(OFFSET([1]DE100_7!$H$105,ROWS($H$105:H161)-1,COLUMNS($H$105:H161)-1)<>\"\",OFFSET([1]DE100_7!$H$105,ROWS($H$105:H161)-1,COLUMNS($H$105:H161)-1),\"\")","v":{"$error":"#VALUE!"}},{"$f":"IF(OFFSET([1]DE100_7!$I$105,ROWS($I$105:I161)-1,COLUMNS($I$105:I161)-1)<>\"\",OFFSET([1]DE100_7!$I$105,ROWS($I$105:I161)-1,COLUMNS($I$105:I161)-1),\"\")","v":{"$error":"#VALUE!"}},{"$f":"IF(OFFSET([1]DE100_7!$J$105,ROWS($J$105:J161)-1,COLUMNS($J$105:J161)-1)<>\"\",OFFSET([1]DE100_7!$J$105,ROWS($J$105:J161)-1,COLUMNS($J$105:J161)-1),\"\")","v":{"$error":"#VALUE!"}},{"$f":"IF(OFFSET([1]DE100_7!$K$105,ROWS($K$105:K161)-1,COLUMNS($K$105:K161)-1)<>\"\",OFFSET([1]DE100_7!$K$105,ROWS($K$105:K161)-1,COLUMNS($K$105:K161)-1),\"\")","v":{"$error":"#VALUE!"}},{"$f":"IF(OFFSET([1]DE100_7!$L$105,ROWS($L$105:L161)-1,COLUMNS($L$105:L161)-1)<>\"\",OFFSET([1]DE100_7!$L$105,ROWS($L$105:L161)-1,COLUMNS($L$105:L161)-1),\"\")","v":{"$error":"#VALUE!"}},{"$f":"IF(OFFSET([1]DE100_7!$M$105,ROWS($M$105:M161)-1,COLUMNS($M$105:M161)-1)<>\"\",OFFSET([1]DE100_7!$M$105,ROWS($M$105:M161)-1,COLUMNS($M$105:M161)-1),\"\")","v":{"$error":"#VALUE!"}},{"$f":"IF(OFFSET([1]DE100_7!$N$105,ROWS($N$105:N161)-1,COLUMNS($N$105:N161)-1)<>\"\",OFFSET([1]DE100_7!$N$105,ROWS($N$105:N161)-1,COLUMNS($N$105:N161)-1),\"\")","v":{"$error":"#VALUE!"}},{"$f":"IF(OFFSET([1]DE100_7!$O$105,ROWS($O$105:O161)-1,COLUMNS($O$105:O161)-1)<>\"\",OFFSET([1]DE100_7!$O$105,ROWS($O$105:O161)-1,COLUMNS($O$105:O161)-1),\"\")","v":{"$error":"#VALUE!"}},{"$f":"IF(OFFSET([1]DE100_7!$P$105,ROWS($P$105:P161)-1,COLUMNS($P$105:P161)-1)<>\"\",OFFSET([1]DE100_7!$P$105,ROWS($P$105:P161)-1,COLUMNS($P$105:P161)-1),\"\")","v":{"$error":"#VALUE!"}},{"$f":"IF(OFFSET([1]DE100_7!$Q$105,ROWS($Q$105:Q161)-1,COLUMNS($Q$105:Q161)-1)<>\"\",OFFSET([1]DE100_7!$Q$105,ROWS($Q$105:Q161)-1,COLUMNS($Q$105:Q161)-1),\"\")","v":{"$error":"#VALUE!"}},{"$f":"IF(OFFSET([1]DE100_7!$R$105,ROWS($R$105:R161)-1,COLUMNS($R$105:R161)-1)<>\"\",OFFSET([1]DE100_7!$R$105,ROWS($R$105:R161)-1,COLUMNS($R$105:R161)-1),\"\")","v":{"$error":"#VALUE!"}},{"$f":"IF(OFFSET([1]DE100_7!$S$105,ROWS($S$105:S161)-1,COLUMNS($S$105:S161)-1)<>\"\",OFFSET([1]DE100_7!$S$105,ROWS($S$105:S161)-1,COLUMNS($S$105:S161)-1),\"\")","v":{"$error":"#VALUE!"}},{"$f":"IF(OFFSET([1]DE100_7!$T$105,ROWS($T$105:T161)-1,COLUMNS($T$105:T161)-1)<>\"\",OFFSET([1]DE100_7!$T$105,ROWS($T$105:T161)-1,COLUMNS($T$105:T161)-1),\"\")","v":{"$error":"#VALUE!"}},{"$f":"IF(OFFSET([1]DE100_7!$U$105,ROWS($U$105:U161)-1,COLUMNS($U$105:U161)-1)<>\"\",OFFSET([1]DE100_7!$U$105,ROWS($U$105:U161)-1,COLUMNS($U$105:U161)-1),\"\")","v":{"$error":"#VALUE!"}},{"$f":"IF(OFFSET([1]DE100_7!$V$105,ROWS($V$105:V161)-1,COLUMNS($V$105:V161)-1)<>\"\",OFFSET([1]DE100_7!$V$105,ROWS($V$105:V161)-1,COLUMNS($V$105:V161)-1),\"\")","v":{"$error":"#VALUE!"}}]
[{"$f":"IF(OFFSET([1]DE100_7!$C$105,ROWS($C$105:C162)-1,COLUMNS($C$105:C162)-1)<>\"\",OFFSET([1]DE100_7!$C$105,ROWS($C$105:C162)-1,COLUMNS($C$105:C162)-1),\"\")","v":{"$error":"#VALUE!"}},null,null,null,{"$f":"IF(OFFSET([1]DE100_7!$G$105,ROWS($G$105:G162)-1,COLUMNS($G$105:G162)-1)<>\"\",OFFSET([1]DE100_7!$G$105,ROWS($G$105:G162)-1,COLUMNS($G$105:G162)-1),\"\")","v":{"$error":"#VALUE!"}},{"$f":"IF(OFFSET([1]DE100_7!$H$105,ROWS($H$105:H162)-1,COLUMNS($H$105:H162)-1)<>\"\",OFFSET([1]DE100_7!$H$105,ROWS($H$105:H162)-1,COLUMNS($H$105:H162)-1),\"\")","v":{"$error":"#VALUE!"}},{"$f":"IF(OFFSET([1]DE100_7!$I$105,ROWS($I$105:I162)-1,COLUMNS($I$105:I162)-1)<>\"\",OFFSET([1]DE100_7!$I$105,ROWS($I$105:I162)-1,COLUMNS($I$105:I162)-1),\"\")","v":{"$error":"#VALUE!"}},{"$f":"IF(OFFSET([1]DE100_7!$J$105,ROWS($J$105:J162)-1,COLUMNS($J$105:J162)-1)<>\"\",OFFSET([1]DE100_7!$J$105,ROWS($J$105:J162)-1,COLUMNS($J$105:J162)-1),\"\")","v":{"$error":"#VALUE!"}},{"$f":"IF(OFFSET([1]DE100_7!$K$105,ROWS($K$105:K162)-1,COLUMNS($K$105:K162)-1)<>\"\",OFFSET([1]DE100_7!$K$105,ROWS($K$105:K162)-1,COLUMNS($K$105:K162)-1),\"\")","v":{"$error":"#VALUE!"}},{"$f":"IF(OFFSET([1]DE100_7!$L$105,ROWS($L$105:L162)-1,COLUMNS($L$105:L162)-1)<>\"\",OFFSET([1]DE100_7!$L$105,ROWS($L$105:L162)-1,COLUMNS($L$105:L162)-1),\"\")","v":{"$error":"#VALUE!"}},{"$f":"IF(OFFSET([1]DE100_7!$M$105,ROWS($M$105:M162)-1,COLUMNS($M$105:M162)-1)<>\"\",OFFSET([1]DE100_7!$M$105,ROWS($M$105:M162)-1,COLUMNS($M$105:M162)-1),\"\")","v":{"$error":"#VALUE!"}},{"$f":"IF(OFFSET([1]DE100_7!$N$105,ROWS($N$105:N162)-1,COLUMNS($N$105:N162)-1)<>\"\",OFFSET([1]DE100_7!$N$105,ROWS($N$105:N162)-1,COLUMNS($N$105:N162)-1),\"\")","v":{"$error":"#VALUE!"}},{"$f":"IF(OFFSET([1]DE100_7!$O$105,ROWS($O$105:O162)-1,COLUMNS($O$105:O162)-1)<>\"\",OFFSET([1]DE100_7!$O$105,ROWS($O$105:O162)-1,COLUMNS($O$105:O162)-1),\"\")","v":{"$error":"#VALUE!"}},{"$f":"IF(OFFSET([1]DE100_7!$P$105,ROWS($P$105:P162)-1,COLUMNS($P$105:P162)-1)<>\"\",OFFSET([1]DE100_7!$P$105,ROWS($P$105:P162)-1,COLUMNS($P$105:P162)-1),\"\")","v":{"$error":"#VALUE!"}},{"$f":"IF(OFFSET([1]DE100_7!$Q$105,ROWS($Q$105:Q162)-1,COLUMNS($Q$105:Q162)-1)<>\"\",OFFSET([1]DE100_7!$Q$105,ROWS($Q$105:Q162)-1,COLUMNS($Q$105:Q162)-1),\"\")","v":{"$error":"#VALUE!"}},{"$f":"IF(OFFSET([1]DE100_7!$R$105,ROWS($R$105:R162)-1,COLUMNS($R$105:R162)-1)<>\"\",OFFSET([1]DE100_7!$R$105,ROWS($R$105:R162)-1,COLUMNS($R$105:R162)-1),\"\")","v":{"$error":"#VALUE!"}},{"$f":"IF(OFFSET([1]DE100_7!$S$105,ROWS($S$105:S162)-1,COLUMNS($S$105:S162)-1)<>\"\",OFFSET([1]DE100_7!$S$105,ROWS($S$105:S162)-1,COLUMNS($S$105:S162)-1),\"\")","v":{"$error":"#VALUE!"}},{"$f":"IF(OFFSET([1]DE100_7!$T$105,ROWS($T$105:T162)-1,COLUMNS($T$105:T162)-1)<>\"\",OFFSET([1]DE100_7!$T$105,ROWS($T$105:T162)-1,COLUMNS($T$105:T162)-1),\"\")","v":{"$error":"#VALUE!"}},{"$f":"IF(OFFSET([1]DE100_7!$U$105,ROWS($U$105:U162)-1,COLUMNS($U$105:U162)-1)<>\"\",OFFSET([1]DE100_7!$U$105,ROWS($U$105:U162)-1,COLUMNS($U$105:U162)-1),\"\")","v":{"$error":"#VALUE!"}},{"$f":"IF(OFFSET([1]DE100_7!$V$105,ROWS($V$105:V162)-1,COLUMNS($V$105:V162)-1)<>\"\",OFFSET([1]DE100_7!$V$105,ROWS($V$105:V162)-1,COLUMNS($V$105:V162)-1),\"\")","v":{"$error":"#VALUE!"}}]
[{"$f":"IF(OFFSET([1]DE100_7!$C$105,ROWS($C$105:C163)-1,COLUMNS($C$105:C163)-1)<>\"\",OFFSET([1]DE100_7!$C$105,ROWS($C$105:C163)-1,COLUMNS($C$105:C163)-1),\"\")","v":{"$error":"#VALUE!"}},{"$f":"IF(OFFSET([1]DE100_7!$D$105,ROWS($D$105:D163)-1,COLUMNS($D$105:D163)-1)<>\"\",OFFSET([1]DE100_7!$D$105,ROWS($D$105:D163)-1,COLUMNS($D$105:D163)-1),\"\")","v":{"$error":"#VALUE!"}},{"$f":"IF(OFFSET([1]DE100_7!$E$105,ROWS($E$105:E163)-1,COLUMNS($E$105:E163)-1)<>\"\",OFFSET([1]DE100_7!$E$105,ROWS($E$105:E163)-1,COLUMNS($E$105:E163)-1),\"\")","v":{"$error":"#VALUE!"}},{"$f":"IF(OFFSET([1]DE100_7!$F$105,ROWS($F$105:F163)-1,COLUMNS($F$105:F163)-1)<>\"\",OFFSET([1]DE100_7!$F$105,ROWS($F$105:F163)-1,COLUMNS($F$105:F163)-1),\"\")","v":{"$error":"#VALUE!"}},{"$f":"IF(OFFSET([1]DE100_7!$G$105,ROWS($G$105:G163)-1,COLUMNS($G$105:G163)-1)<>\"\",OFFSET([1]DE100_7!$G$105,ROWS($G$105:G163)-1,COLUMNS($G$105:G163)-1),\"\")","v":{"$error":"#VALUE!"}},{"$f":"IF(OFFSET([1]DE100_7!$H$105,ROWS($H$105:H163)-1,COLUMNS($H$105:H163)-1)<>\"\",OFFSET([1]DE100_7!$H$105,ROWS($H$105:H163)-1,COLUMNS($H$105:H163)-1),\"\")","v":{"$error":"#VALUE!"}},{"$f":"IF(OFFSET([1]DE100_7!$I$105,ROWS($I$105:I163)-1,COLUMNS($I$105:I163)-1)<>\"\",OFFSET([1]DE100_7!$I$105,ROWS($I$105:I163)-1,COLUMNS($I$105:I163)-1),\"\")","v":{"$error":"#VALUE!"}},{"$f":"IF(OFFSET([1]DE100_7!$J$105,ROWS($J$105:J163)-1,COLUMNS($J$105:J163)-1)<>\"\",OFFSET([1]DE100_7!$J$105,ROWS($J$105:J163)-1,COLUMNS($J$105:J163)-1),\"\")","v":{"$error":"#VALUE!"}},{"$f":"IF(OFFSET([1]DE100_7!$K$105,ROWS($K$105:K163)-1,COLUMNS($K$105:K163)-1)<>\"\",OFFSET([1]DE100_7!$K$105,ROWS($K$105:K163)-1,COLUMNS($K$105:K163)-1),\"\")","v":{"$error":"#VALUE!"}},{"$f":"IF(OFFSET([1]DE100_7!$L$105,ROWS($L$105:L163)-1,COLUMNS($L$105:L163)-1)<>\"\",OFFSET([1]DE100_7!$L$105,ROWS($L$105:L163)-1,COLUMNS($L$105:L163)-1),\"\")","v":{"$error":"#VALUE!"}},{"$f":"IF(OFFSET([1]DE100_7!$M$105,ROWS($M$105:M163)-1,COLUMNS($M$105:M163)-1)<>\"\",OFFSET([1]DE100_7!$M$105,ROWS($M$105:M163)-1,COLUMNS($M$105:M163)-1),\"\")","v":{"$error":"#VALUE!"}},{"$f":"IF(OFFSET([1]DE100_7!$N$105,ROWS($N$105:N163)-1,COLUMNS($N$105:N163)-1)<>\"\",OFFSET([1]DE100_7!$N$105,ROWS($N$105:N163)-1,COLUMNS($N$105:N163)-1),\"\")","v":{"$error":"#VALUE!"}},{"$f":"IF(OFFSET([1]DE100_7!$O$105,ROWS($O$105:O163)-1,COLUMNS($O$105:O163)-1)<>\"\",OFFSET([1]DE100_7!$O$105,ROWS($O$105:O163)-1,COLUMNS($O$105:O163)-1),\"\")","v":{"$error":"#VALUE!"}},{"$f":"IF(OFFSET([1]DE100_7!$P$105,ROWS($P$105:P163)-1,COLUMNS($P$105:P163)-1)<>\"\",OFFSET([1]DE100_7!$P$105,ROWS($P$105:P163)-1,COLUMNS($P$105:P163)-1),\"\")","v":{"$error":"#VALUE!"}},{"$f":"IF(OFFSET([1]DE100_7!$Q$105,ROWS($Q$105:Q163)-1,COLUMNS($Q$105:Q163)-1)<>\"\",OFFSET([1]DE100_7!$Q$105,ROWS($Q$105:Q163)-1,COLUMNS($Q$105:Q163)-1),\"\")","v":{"$error":"#VALUE!"}},{"$f":"IF(OFFSET([1]DE100_7!$R$105,ROWS($R$105:R163)-1,COLUMNS($R$105:R163)-1)<>\"\",OFFSET([1]DE100_7!$R$105,ROWS($R$105:R163)-1,COLUMNS($R$105:R163)-1),\"\")","v":{"$error":"#VALUE!"}},{"$f":"IF(OFFSET([1]DE100_7!$S$105,ROWS($S$105:S163)-1,COLUMNS($S$105:S163)-1)<>\"\",OFFSET([1]DE100_7!$S$105,ROWS($S$105:S163)-1,COLUMNS($S$105:S163)-1),\"\")","v":{"$error":"#VALUE!"}},{"$f":"IF(OFFSET([1]DE100_7!$T$105,ROWS($T$105:T163)-1,COLUMNS($T$105:T163)-1)<>\"\",OFFSET([1]DE100_7!$T$105,ROWS($T$105:T163)-1,COLUMNS($T$105:T163)-1),\"\")","v":{"$error":"#VALUE!"}},{"$f":"IF(OFFSET([1]DE100_7!$U$105,ROWS($U$105:U163)-1,COLUMNS($U$105:U163)-1)<>\"\",OFFSET([1]DE100_7!$U$105,ROWS($U$105:U163)-1,COLUMNS($U$105:U163)-1),\"\")","v":{"$error":"#VALUE!"}},{"$f":"IF(OFFSET([1]DE100_7!$V$105,ROWS($V$105:V163)-1,COLUMNS($V$105:V163)-1)<>\"\",OFFSET([1]DE100_7!$V$105,ROWS($V$105:V163)-1,COLUMNS($V$105:V163)-1),\"\")","v":{"$error":"#VALUE!"}}]
[{"$f":"IF(OFFSET([1]DE100_7!$C$105,ROWS($C$105:C164)-1,COLUMNS($C$105:C164)-1)<>\"\",OFFSET([1]DE100_7!$C$105,ROWS($C$105:C164)-1,COLUMNS($C$105:C164)-1),\"\")","v":{"$error":"#VALUE!"}},{"$f":"IF(OFFSET([1]DE100_7!$D$105,ROWS($D$105:D164)-1,COLUMNS($D$105:D164)-1)<>\"\",OFFSET([1]DE100_7!$D$105,ROWS($D$105:D164)-1,COLUMNS($D$105:D164)-1),\"\")","v":{"$error":"#VALUE!"}},{"$f":"IF(OFFSET([1]DE100_7!$E$105,ROWS($E$105:E164)-1,COLUMNS($E$105:E164)-1)<>\"\",OFFSET([1]DE100_7!$E$105,ROWS($E$105:E164)-1,COLUMNS($E$105:E164)-1),\"\")","v":{"$error":"#VALUE!"}},{"$f":"IF(OFFSET([1]DE100_7!$F$105,ROWS($F$105:F164)-1,COLUMNS($F$105:F164)-1)<>\"\",OFFSET([1]DE100_7!$F$105,ROWS($F$105:F164)-1,COLUMNS($F$105:F164)-1),\"\")","v":{"$error":"#VALUE!"}},{"$f":"IF(OFFSET([1]DE100_7!$G$105,ROWS($G$105:G164)-1,COLUMNS($G$105:G164)-1)<>\"\",OFFSET([1]DE100_7!$G$105,ROWS($G$105:G164)-1,COLUMNS($G$105:G164)-1),\"\")","v":{"$error":"#VALUE!"}},{"$f":"IF(OFFSET([1]DE100_7!$H$105,ROWS($H$105:H164)-1,COLUMNS($H$105:H164)-1)<>\"\",OFFSET([1]DE100_7!$H$105,ROWS($H$105:H164)-1,COLUMNS($H$105:H164)-1),\"\")","v":{"$error":"#VALUE!"}},{"$f":"IF(OFFSET([1]DE100_7!$I$105,ROWS($I$105:I164)-1,COLUMNS($I$105:I164)-1)<>\"\",OFFSET([1]DE100_7!$I$105,ROWS($I$105:I164)-1,COLUMNS($I$105:I164)-1),\"\")","v":{"$error":"#VALUE!"}},{"$f":"IF(OFFSET([1]DE100_7!$J$105,ROWS($J$105:J164)-1,COLUMNS($J$105:J164)-1)<>\"\",OFFSET([1]DE100_7!$J$105,ROWS($J$105:J164)-1,COLUMNS($J$105:J164)-1),\"\")","v":{"$error":"#VALUE!"}},{"$f":"IF(OFFSET([1]DE100_7!$K$105,ROWS($K$105:K164)-1,COLUMNS($K$105:K164)-1)<>\"\",OFFSET([1]DE100_7!$K$105,ROWS($K$105:K164)-1,COLUMNS($K$105:K164)-1),\"\")","v":{"$error":"#VALUE!"}},{"$f":"IF(OFFSET([1]DE100_7!$L$105,ROWS($L$105:L164)-1,COLUMNS($L$105:L164)-1)<>\"\",OFFSET([1]DE100_7!$L$105,ROWS($L$105:L164)-1,COLUMNS($L$105:L164)-1),\"\")","v":{"$error":"#VALUE!"}},{"$f":"IF(OFFSET([1]DE100_7!$M$105,ROWS($M$105:M164)-1,COLUMNS($M$105:M164)-1)<>\"\",OFFSET([1]DE100_7!$M$105,ROWS($M$105:M164)-1,COLUMNS($M$105:M164)-1),\"\")","v":{"$error":"#VALUE!"}},{"$f":"IF(OFFSET([1]DE100_7!$N$105,ROWS($N$105:N164)-1,COLUMNS($N$105:N164)-1)<>\"\",OFFSET([1]DE100_7!$N$105,ROWS($N$105:N164)-1,COLUMNS($N$105:N164)-1),\"\")","v":{"$error":"#VALUE!"}},{"$f":"IF(OFFSET([1]DE100_7!$O$105,ROWS($O$105:O164)-1,COLUMNS($O$105:O164)-1)<>\"\",OFFSET([1]DE100_7!$O$105,ROWS($O$105:O164)-1,COLUMNS($O$105:O164)-1),\"\")","v":{"$error":"#VALUE!"}},{"$f":"IF(OFFSET([1]DE100_7!$P$105,ROWS($P$105:P164)-1,COLUMNS($P$105:P164)-1)<>\"\",OFFSET([1]DE100_7!$P$105,ROWS($P$105:P164)-1,COLUMNS($P$105:P164)-1),\"\")","v":{"$error":"#VALUE!"}},{"$f":"IF(OFFSET([1]DE100_7!$Q$105,ROWS($Q$105:Q164)-1,COLUMNS($Q$105:Q164)-1)<>\"\",OFFSET([1]DE100_7!$Q$105,ROWS($Q$105:Q164)-1,COLUMNS($Q$105:Q164)-1),\"\")","v":{"$error":"#VALUE!"}},{"$f":"IF(OFFSET([1]DE100_7!$R$105,ROWS($R$105:R164)-1,COLUMNS($R$105:R164)-1)<>\"\",OFFSET([1]DE100_7!$R$105,ROWS($R$105:R164)-1,COLUMNS($R$105:R164)-1),\"\")","v":{"$error":"#VALUE!"}},{"$f":"IF(OFFSET([1]DE100_7!$S$105,ROWS($S$105:S164)-1,COLUMNS($S$105:S164)-1)<>\"\",OFFSET([1]DE100_7!$S$105,ROWS($S$105:S164)-1,COLUMNS($S$105:S164)-1),\"\")","v":{"$error":"#VALUE!"}},{"$f":"IF(OFFSET([1]DE100_7!$T$105,ROWS($T$105:T164)-1,COLUMNS($T$105:T164)-1)<>\"\",OFFSET([1]DE100_7!$T$105,ROWS($T$105:T164)-1,COLUMNS($T$105:T164)-1),\"\")","v":{"$error":"#VALUE!"}},{"$f":"IF(OFFSET([1]DE100_7!$U$105,ROWS($U$105:U164)-1,COLUMNS($U$105:U164)-1)<>\"\",OFFSET([1]DE100_7!$U$105,ROWS($U$105:U164)-1,COLUMNS($U$105:U164)-1),\"\")","v":{"$error":"#VALUE!"}},{"$f":"IF(OFFSET([1]DE100_7!$V$105,ROWS($V$105:V164)-1,COLUMNS($V$105:V164)-1)<>\"\",OFFSET([1]DE100_7!$V$105,ROWS($V$105:V164)-1,COLUMNS($V$105:V164)-1),\"\")","v":{"$error":"#VALUE!"}}]
[{"$f":"IF(OFFSET([1]DE100_7!$C$105,ROWS($C$105:C165)-1,COLUMNS($C$105:C165)-1)<>\"\",OFFSET([1]DE100_7!$C$105,ROWS($C$105:C165)-1,COLUMNS($C$105:C165)-1),\"\")","v":{"$error":"#VALUE!"}},{"$f":"IF(OFFSET([1]DE100_7!$D$105,ROWS($D$105:D165)-1,COLUMNS($D$105:D165)-1)<>\"\",OFFSET([1]DE100_7!$D$105,ROWS($D$105:D165)-1,COLUMNS($D$105:D165)-1),\"\")","v":{"$error":"#VALUE!"}},{"$f":"IF(OFFSET([1]DE100_7!$E$105,ROWS($E$105:E165)-1,COLUMNS($E$105:E165)-1)<>\"\",OFFSET([1]DE100_7!$E$105,ROWS($E$105:E165)-1,COLUMNS($E$105:E165)-1),\"\")","v":{"$error":"#VALUE!"}},{"$f":"IF(OFFSET([1]DE100_7!$F$105,ROWS($F$105:F165)-1,COLUMNS($F$105:F165)-1)<>\"\",OFFSET([1]DE100_7!$F$105,ROWS($F$105:F165)-1,COLUMNS($F$105:F165)-1),\"\")","v":{"$error":"#VALUE!"}},{"$f":"IF(OFFSET([1]DE100_7!$G$105,ROWS($G$105:G165)-1,COLUMNS($G$105:G165)-1)<>\"\",OFFSET([1]DE100_7!$G$105,ROWS($G$105:G165)-1,COLUMNS($G$105:G165)-1),\"\")","v":{"$error":"#VALUE!"}},{"$f":"IF(OFFSET([1]DE100_7!$H$105,ROWS($H$105:H165)-1,COLUMNS($H$105:H165)-1)<>\"\",OFFSET([1]DE100_7!$H$105,ROWS($H$105:H165)-1,COLUMNS($H$105:H165)-1),\"\")","v":{"$error":"#VALUE!"}},{"$f":"IF(OFFSET([1]DE100_7!$I$105,ROWS($I$105:I165)-1,COLUMNS($I$105:I165)-1)<>\"\",OFFSET([1]DE100_7!$I$105,ROWS($I$105:I165)-1,COLUMNS($I$105:I165)-1),\"\")","v":{"$error":"#VALUE!"}},{"$f":"IF(OFFSET([1]DE100_7!$J$105,ROWS($J$105:J165)-1,COLUMNS($J$105:J165)-1)<>\"\",OFFSET([1]DE100_7!$J$105,ROWS($J$105:J165)-1,COLUMNS($J$105:J165)-1),\"\")","v":{"$error":"#VALUE!"}},{"$f":"IF(OFFSET([1]DE100_7!$K$105,ROWS($K$105:K165)-1,COLUMNS($K$105:K165)-1)<>\"\",OFFSET([1]DE100_7!$K$105,ROWS($K$105:K165)-1,COLUMNS($K$105:K165)-1),\"\")","v":{"$error":"#VALUE!"}},{"$f":"IF(OFFSET([1]DE100_7!$L$105,ROWS($L$105:L165)-1,COLUMNS($L$105:L165)-1)<>\"\",OFFSET([1]DE100_7!$L$105,ROWS($L$105:L165)-1,COLUMNS($L$105:L165)-1),\"\")","v":{"$error":"#VALUE!"}},{"$f":"IF(OFFSET([1]DE100_7!$M$105,ROWS($M$105:M165)-1,COLUMNS($M$105:M165)-1)<>\"\",OFFSET([1]DE100_7!$M$105,ROWS($M$105:M165)-1,COLUMNS($M$105:M165)-1),\"\")","v":{"$error":"#VALUE!"}},{"$f":"IF(OFFSET([1]DE100_7!$N$105,ROWS($N$105:N165)-1,COLUMNS($N$105:N165)-1)<>\"\",OFFSET([1]DE100_7!$N$105,ROWS($N$105:N165)-1,COLUMNS($N$105:N165)-1),\"\")","v":{"$error":"#VALUE!"}},{"$f":"IF(OFFSET([1]DE100_7!$O$105,ROWS($O$105:O165)-1,COLUMNS($O$105:O165)-1)<>\"\",OFFSET([1]DE100_7!$O$105,ROWS($O$105:O165)-1,COLUMNS($O$105:O165)-1),\"\")","v":{"$error":"#VALUE!"}},{"$f":"IF(OFFSET([1]DE100_7!$P$105,ROWS($P$105:P165)-1,COLUMNS($P$105:P165)-1)<>\"\",OFFSET([1]DE100_7!$P$105,ROWS($P$105:P165)-1,COLUMNS($P$105:P165)-1),\"\")","v":{"$error":"#VALUE!"}},{"$f":"IF(OFFSET([1]DE100_7!$Q$105,ROWS($Q$105:Q165)-1,COLUMNS($Q$105:Q165)-1)<>\"\",OFFSET([1]DE100_7!$Q$105,ROWS($Q$105:Q165)-1,COLUMNS($Q$105:Q165)-1),\"\")","v":{"$error":"#VALUE!"}},{"$f":"IF(OFFSET([1]DE100_7!$R$105,ROWS($R$105:R165)-1,COLUMNS($R$105:R165)-1)<>\"\",OFFSET([1]DE100_7!$R$105,ROWS($R$105:R165)-1,COLUMNS($R$105:R165)-1),\"\")","v":{"$error":"#VALUE!"}},{"$f":"IF(OFFSET([1]DE100_7!$S$105,ROWS($S$105:S165)-1,COLUMNS($S$105:S165)-1)<>\"\",OFFSET([1]DE100_7!$S$105,ROWS($S$105:S165)-1,COLUMNS($S$105:S165)-1),\"\")","v":{"$error":"#VALUE!"}},{"$f":"IF(OFFSET([1]DE100_7!$T$105,ROWS($T$105:T165)-1,COLUMNS($T$105:T165)-1)<>\"\",OFFSET([1]DE100_7!$T$105,ROWS($T$105:T165)-1,COLUMNS($T$105:T165)-1),\"\")","v":{"$error":"#VALUE!"}},{"$f":"IF(OFFSET([1]DE100_7!$U$105,ROWS($U$105:U165)-1,COLUMNS($U$105:U165)-1)<>\"\",OFFSET([1]DE100_7!$U$105,ROWS($U$105:U165)-1,COLUMNS($U$105:U165)-1),\"\")","v":{"$error":"#VALUE!"}},{"$f":"IF(OFFSET([1]DE100_7!$V$105,ROWS($V$105:V165)-1,COLUMNS($V$105:V165)-1)<>\"\",OFFSET([1]DE100_7!$V$105,ROWS($V$105:V165)-1,COLUMNS($V$105:V165)-1),\"\")","v":{"$error":"#VALUE!"}}]
[{"$f":"IF(OFFSET([1]DE100_7!$C$105,ROWS($C$105:C166)-1,COLUMNS($C$105:C166)-1)<>\"\",OFFSET([1]DE100_7!$C$105,ROWS($C$105:C166)-1,COLUMNS($C$105:C166)-1),\"\")","v":{"$error":"#VALUE!"}},{"$f":"IF(OFFSET([1]DE100_7!$D$105,ROWS($D$105:D166)-1,COLUMNS($D$105:D166)-1)<>\"\",OFFSET([1]DE100_7!$D$105,ROWS($D$105:D166)-1,COLUMNS($D$105:D166)-1),\"\")","v":{"$error":"#VALUE!"}},{"$f":"IF(OFFSET([1]DE100_7!$E$105,ROWS($E$105:E166)-1,COLUMNS($E$105:E166)-1)<>\"\",OFFSET([1]DE100_7!$E$105,ROWS($E$105:E166)-1,COLUMNS($E$105:E166)-1),\"\")","v":{"$error":"#VALUE!"}},{"$f":"IF(OFFSET([1]DE100_7!$F$105,ROWS($F$105:F166)-1,COLUMNS($F$105:F166)-1)<>\"\",OFFSET([1]DE100_7!$F$105,ROWS($F$105:F166)-1,COLUMNS($F$105:F166)-1),\"\")","v":{"$error":"#VALUE!"}},{"$f":"IF(OFFSET([1]DE100_7!$G$105,ROWS($G$105:G166)-1,COLUMNS($G$105:G166)-1)<>\"\",OFFSET([1]DE100_7!$G$105,ROWS($G$105:G166)-1,COLUMNS($G$105:G166)-1),\"\")","v":{"$error":"#VALUE!"}},{"$f":"IF(OFFSET([1]DE100_7!$H$105,ROWS($H$105:H166)-1,COLUMNS($H$105:H166)-1)<>\"\",OFFSET([1]DE100_7!$H$105,ROWS($H$105:H166)-1,COLUMNS($H$105:H166)-1),\"\")","v":{"$error":"#VALUE!"}},{"$f":"IF(OFFSET([1]DE100_7!$I$105,ROWS($I$105:I166)-1,COLUMNS($I$105:I166)-1)<>\"\",OFFSET([1]DE100_7!$I$105,ROWS($I$105:I166)-1,COLUMNS($I$105:I166)-1),\"\")","v":{"$error":"#VALUE!"}},{"$f":"IF(OFFSET([1]DE100_7!$J$105,ROWS($J$105:J166)-1,COLUMNS($J$105:J166)-1)<>\"\",OFFSET([1]DE100_7!$J$105,ROWS($J$105:J166)-1,COLUMNS($J$105:J166)-1),\"\")","v":{"$error":"#VALUE!"}},{"$f":"IF(OFFSET([1]DE100_7!$K$105,ROWS($K$105:K166)-1,COLUMNS($K$105:K166)-1)<>\"\",OFFSET([1]DE100_7!$K$105,ROWS($K$105:K166)-1,COLUMNS($K$105:K166)-1),\"\")","v":{"$error":"#VALUE!"}},{"$f":"IF(OFFSET([1]DE100_7!$L$105,ROWS($L$105:L166)-1,COLUMNS($L$105:L166)-1)<>\"\",OFFSET([1]DE100_7!$L$105,ROWS($L$105:L166)-1,COLUMNS($L$105:L166)-1),\"\")","v":{"$error":"#VALUE!"}},{"$f":"IF(OFFSET([1]DE100_7!$M$105,ROWS($M$105:M166)-1,COLUMNS($M$105:M166)-1)<>\"\",OFFSET([1]DE100_7!$M$105,ROWS($M$105:M166)-1,COLUMNS($M$105:M166)-1),\"\")","v":{"$error":"#VALUE!"}},{"$f":"IF(OFFSET([1]DE100_7!$N$105,ROWS($N$105:N166)-1,COLUMNS($N$105:N166)-1)<>\"\",OFFSET([1]DE100_7!$N$105,ROWS($N$105:N166)-1,COLUMNS($N$105:N166)-1),\"\")","v":{"$error":"#VALUE!"}},{"$f":"IF(OFFSET([1]DE100_7!$O$105,ROWS($O$105:O166)-1,COLUMNS($O$105:O166)-1)<>\"\",OFFSET([1]DE100_7!$O$105,ROWS($O$105:O166)-1,COLUMNS($O$105:O166)-1),\"\")","v":{"$error":"#VALUE!"}},{"$f":"IF(OFFSET([1]DE100_7!$P$105,ROWS($P$105:P166)-1,COLUMNS($P$105:P166)-1)<>\"\",OFFSET([1]DE100_7!$P$105,ROWS($P$105:P166)-1,COLUMNS($P$105:P166)-1),\"\")","v":{"$error":"#VALUE!"}},{"$f":"IF(OFFSET([1]DE100_7!$Q$105,ROWS($Q$105:Q166)-1,COLUMNS($Q$105:Q166)-1)<>\"\",OFFSET([1]DE100_7!$Q$105,ROWS($Q$105:Q166)-1,COLUMNS($Q$105:Q166)-1),\"\")","v":{"$error":"#VALUE!"}},{"$f":"IF(OFFSET([1]DE100_7!$R$105,ROWS($R$105:R166)-1,COLUMNS($R$105:R166)-1)<>\"\",OFFSET([1]DE100_7!$R$105,ROWS($R$105:R166)-1,COLUMNS($R$105:R166)-1),\"\")","v":{"$error":"#VALUE!"}},{"$f":"IF(OFFSET([1]DE100_7!$S$105,ROWS($S$105:S166)-1,COLUMNS($S$105:S166)-1)<>\"\",OFFSET([1]DE100_7!$S$105,ROWS($S$105:S166)-1,COLUMNS($S$105:S166)-1),\"\")","v":{"$error":"#VALUE!"}},{"$f":"IF(OFFSET([1]DE100_7!$T$105,ROWS($T$105:T166)-1,COLUMNS($T$105:T166)-1)<>\"\",OFFSET([1]DE100_7!$T$105,ROWS($T$105:T166)-1,COLUMNS($T$105:T166)-1),\"\")","v":{"$error":"#VALUE!"}},{"$f":"IF(OFFSET([1]DE100_7!$U$105,ROWS($U$105:U166)-1,COLUMNS($U$105:U166)-1)<>\"\",OFFSET([1]DE100_7!$U$105,ROWS($U$105:U166)-1,COLUMNS($U$105:U166)-1),\"\")","v":{"$error":"#VALUE!"}},{"$f":"IF(OFFSET([1]DE100_7!$V$105,ROWS($V$105:V166)-1,COLUMNS($V$105:V166)-1)<>\"\",OFFSET([1]DE100_7!$V$105,ROWS($V$105:V166)-1,COLUMNS($V$105:V166)-1),\"\")","v":{"$error":"#VALUE!"}}]
[{"$f":"IF(OFFSET([1]DE100_7!$C$105,ROWS($C$105:C167)-1,COLUMNS($C$105:C167)-1)<>\"\",OFFSET([1]DE100_7!$C$105,ROWS($C$105:C167)-1,COLUMNS($C$105:C167)-1),\"\")","v":{"$error":"#VALUE!"}},{"$f":"IF(OFFSET([1]DE100_7!$D$105,ROWS($D$105:D167)-1,COLUMNS($D$105:D167)-1)<>\"\",OFFSET([1]DE100_7!$D$105,ROWS($D$105:D167)-1,COLUMNS($D$105:D167)-1),\"\")","v":{"$error":"#VALUE!"}},{"$f":"IF(OFFSET([1]DE100_7!$E$105,ROWS($E$105:E167)-1,COLUMNS($E$105:E167)-1)<>\"\",OFFSET([1]DE100_7!$E$105,ROWS($E$105:E167)-1,COLUMNS($E$105:E167)-1),\"\")","v":{"$error":"#VALUE!"}},{"$f":"IF(OFFSET([1]DE100_7!$F$105,ROWS($F$105:F167)-1,COLUMNS($F$105:F167)-1)<>\"\",OFFSET([1]DE100_7!$F$105,ROWS($F$105:F167)-1,COLUMNS($F$105:F167)-1),\"\")","v":{"$error":"#VALUE!"}},{"$f":"IF(OFFSET([1]DE100_7!$G$105,ROWS($G$105:G167)-1,COLUMNS($G$105:G167)-1)<>\"\",OFFSET([1]DE100_7!$G$105,ROWS($G$105:G167)-1,COLUMNS($G$105:G167)-1),\"\")","v":{"$error":"#VALUE!"}},{"$f":"IF(OFFSET([1]DE100_7!$H$105,ROWS($H$105:H167)-1,COLUMNS($H$105:H167)-1)<>\"\",OFFSET([1]DE100_7!$H$105,ROWS($H$105:H167)-1,COLUMNS($H$105:H167)-1),\"\")","v":{"$error":"#VALUE!"}},{"$f":"IF(OFFSET([1]DE100_7!$I$105,ROWS($I$105:I167)-1,COLUMNS($I$105:I167)-1)<>\"\",OFFSET([1]DE100_7!$I$105,ROWS($I$105:I167)-1,COLUMNS($I$105:I167)-1),\"\")","v":{"$error":"#VALUE!"}},{"$f":"IF(OFFSET([1]DE100_7!$J$105,ROWS($J$105:J167)-1,COLUMNS($J$105:J167)-1)<>\"\",OFFSET([1]DE100_7!$J$105,ROWS($J$105:J167)-1,COLUMNS($J$105:J167)-1),\"\")","v":{"$error":"#VALUE!"}},{"$f":"IF(OFFSET([1]DE100_7!$K$105,ROWS($K$105:K167)-1,COLUMNS($K$105:K167)-1)<>\"\",OFFSET([1]DE100_7!$K$105,ROWS($K$105:K167)-1,COLUMNS($K$105:K167)-1),\"\")","v":{"$error":"#VALUE!"}},{"$f":"IF(OFFSET([1]DE100_7!$L$105,ROWS($L$105:L167)-1,COLUMNS($L$105:L167)-1)<>\"\",OFFSET([1]DE100_7!$L$105,ROWS($L$105:L167)-1,COLUMNS($L$105:L167)-1),\"\")","v":{"$error":"#VALUE!"}},{"$f":"IF(OFFSET([1]DE100_7!$M$105,ROWS($M$105:M167)-1,COLUMNS($M$105:M167)-1)<>\"\",OFFSET([1]DE100_7!$M$105,ROWS($M$105:M167)-1,COLUMNS($M$105:M167)-1),\"\")","v":{"$error":"#VALUE!"}},{"$f":"IF(OFFSET([1]DE100_7!$N$105,ROWS($N$105:N167)-1,COLUMNS($N$105:N167)-1)<>\"\",OFFSET([1]DE100_7!$N$105,ROWS($N$105:N167)-1,COLUMNS($N$105:N167)-1),\"\")","v":{"$error":"#VALUE!"}},{"$f":"IF(OFFSET([1]DE100_7!$O$105,ROWS($O$105:O167)-1,COLUMNS($O$105:O167)-1)<>\"\",OFFSET([1]DE100_7!$O$105,ROWS($O$105:O167)-1,COLUMNS($O$105:O167)-1),\"\")","v":{"$error":"#VALUE!"}},{"$f":"IF(OFFSET([1]DE100_7!$P$105,ROWS($P$105:P167)-1,COLUMNS($P$105:P167)-1)<>\"\",OFFSET([1]DE100_7!$P$105,ROWS($P$105:P167)-1,COLUMNS($P$105:P167)-1),\"\")","v":{"$error":"#VALUE!"}},{"$f":"IF(OFFSET([1]DE100_7!$Q$105,ROWS($Q$105:Q167)-1,COLUMNS($Q$105:Q167)-1)<>\"\",OFFSET([1]DE100_7!$Q$105,ROWS($Q$105:Q167)-1,COLUMNS($Q$105:Q167)-1),\"\")","v":{"$error":"#VALUE!"}},{"$f":"IF(OFFSET([1]DE100_7!$R$105,ROWS($R$105:R167)-1,COLUMNS($R$105:R167)-1)<>\"\",OFFSET([1]DE100_7!$R$105,ROWS($R$105:R167)-1,COLUMNS($R$105:R167)-1),\"\")","v":{"$error":"#VALUE!"}},{"$f":"IF(OFFSET([1]DE100_7!$S$105,ROWS($S$105:S167)-1,COLUMNS($S$105:S167)-1)<>\"\",OFFSET([1]DE100_7!$S$105,ROWS($S$105:S167)-1,COLUMNS($S$105:S167)-1),\"\")","v":{"$error":"#VALUE!"}},{"$f":"IF(OFFSET([1]DE100_7!$T$105,ROWS($T$105:T167)-1,COLUMNS($T$105:T167)-1)<>\"\",OFFSET([1]DE100_7!$T$105,ROWS($T$105:T167)-1,COLUMNS($T$105:T167)-1),\"\")","v":{"$error":"#VALUE!"}},{"$f":"IF(OFFSET([1]DE100_7!$U$105,ROWS($U$105:U167)-1,COLUMNS($U$105:U167)-1)<>\"\",OFFSET([1]DE100_7!$U$105,ROWS($U$105:U167)-1,COLUMNS($U$105:U167)-1),\"\")","v":{"$error":"#VALUE!"}},{"$f":"IF(OFFSET([1]DE100_7!$V$105,ROWS($V$105:V167)-1,COLUMNS($V$105:V167)-1)<>\"\",OFFSET([1]DE100_7!$V$105,ROWS($V$105:V167)-1,COLUMNS($V$105:V167)-1),\"\")","v":{"$error":"#VALUE!"}}]
[{"$f":"IF(OFFSET([1]DE100_7!$C$105,ROWS($C$105:C168)-1,COLUMNS($C$105:C168)-1)<>\"\",OFFSET([1]DE100_7!$C$105,ROWS($C$105:C168)-1,COLUMNS($C$105:C168)-1),\"\")","v":{"$error":"#VALUE!"}},{"$f":"IF(OFFSET([1]DE100_7!$D$105,ROWS($D$105:D168)-1,COLUMNS($D$105:D168)-1)<>\"\",OFFSET([1]DE100_7!$D$105,ROWS($D$105:D168)-1,COLUMNS($D$105:D168)-1),\"\")","v":{"$error":"#VALUE!"}},{"$f":"IF(OFFSET([1]DE100_7!$E$105,ROWS($E$105:E168)-1,COLUMNS($E$105:E168)-1)<>\"\",OFFSET([1]DE100_7!$E$105,ROWS($E$105:E168)-1,COLUMNS($E$105:E168)-1),\"\")","v":{"$error":"#VALUE!"}},{"$f":"IF(OFFSET([1]DE100_7!$F$105,ROWS($F$105:F168)-1,COLUMNS($F$105:F168)-1)<>\"\",OFFSET([1]DE100_7!$F$105,ROWS($F$105:F168)-1,COLUMNS($F$105:F168)-1),\"\")","v":{"$error":"#VALUE!"}},{"$f":"IF(OFFSET([1]DE100_7!$G$105,ROWS($G$105:G168)-1,COLUMNS($G$105:G168)-1)<>\"\",OFFSET([1]DE100_7!$G$105,ROWS($G$105:G168)-1,COLUMNS($G$105:G168)-1),\"\")","v":{"$error":"#VALUE!"}},{"$f":"IF(OFFSET([1]DE100_7!$H$105,ROWS($H$105:H168)-1,COLUMNS($H$105:H168)-1)<>\"\",OFFSET([1]DE100_7!$H$105,ROWS($H$105:H168)-1,COLUMNS($H$105:H168)-1),\"\")","v":{"$error":"#VALUE!"}},{"$f":"IF(OFFSET([1]DE100_7!$I$105,ROWS($I$105:I168)-1,COLUMNS($I$105:I168)-1)<>\"\",OFFSET([1]DE100_7!$I$105,ROWS($I$105:I168)-1,COLUMNS($I$105:I168)-1),\"\")","v":{"$error":"#VALUE!"}},{"$f":"IF(OFFSET([1]DE100_7!$J$105,ROWS($J$105:J168)-1,COLUMNS($J$105:J168)-1)<>\"\",OFFSET([1]DE100_7!$J$105,ROWS($J$105:J168)-1,COLUMNS($J$105:J168)-1),\"\")","v":{"$error":"#VALUE!"}},{"$f":"IF(OFFSET([1]DE100_7!$K$105,ROWS($K$105:K168)-1,COLUMNS($K$105:K168)-1)<>\"\",OFFSET([1]DE100_7!$K$105,ROWS($K$105:K168)-1,COLUMNS($K$105:K168)-1),\"\")","v":{"$error":"#VALUE!"}},{"$f":"IF(OFFSET([1]DE100_7!$L$105,ROWS($L$105:L168)-1,COLUMNS($L$105:L168)-1)<>\"\",OFFSET([1]DE100_7!$L$105,ROWS($L$105:L168)-1,COLUMNS($L$105:L168)-1),\"\")","v":{"$error":"#VALUE!"}},{"$f":"IF(OFFSET([1]DE100_7!$M$105,ROWS($M$105:M168)-1,COLUMNS($M$105:M168)-1)<>\"\",OFFSET([1]DE100_7!$M$105,ROWS($M$105:M168)-1,COLUMNS($M$105:M168)-1),\"\")","v":{"$error":"#VALUE!"}},{"$f":"IF(OFFSET([1]DE100_7!$N$105,ROWS($N$105:N168)-1,COLUMNS($N$105:N168)-1)<>\"\",OFFSET([1]DE100_7!$N$105,ROWS($N$105:N168)-1,COLUMNS($N$105:N168)-1),\"\")","v":{"$error":"#VALUE!"}},{"$f":"IF(OFFSET([1]DE100_7!$O$105,ROWS($O$105:O168)-1,COLUMNS($O$105:O168)-1)<>\"\",OFFSET([1]DE100_7!$O$105,ROWS($O$105:O168)-1,COLUMNS($O$105:O168)-1),\"\")","v":{"$error":"#VALUE!"}},{"$f":"IF(OFFSET([1]DE100_7!$P$105,ROWS($P$105:P168)-1,COLUMNS($P$105:P168)-1)<>\"\",OFFSET([1]DE100_7!$P$105,ROWS($P$105:P168)-1,COLUMNS($P$105:P168)-1),\"\")","v":{"$error":"#VALUE!"}},{"$f":"IF(OFFSET([1]DE100_7!$Q$105,ROWS($Q$105:Q168)-1,COLUMNS($Q$105:Q168)-1)<>\"\",OFFSET([1]DE100_7!$Q$105,ROWS($Q$105:Q168)-1,COLUMNS($Q$105:Q168)-1),\"\")","v":{"$error":"#VALUE!"}},{"$f":"IF(OFFSET([1]DE100_7!$R$105,ROWS($R$105:R168)-1,COLUMNS($R$105:R168)-1)<>\"\",OFFSET([1]DE100_7!$R$105,ROWS($R$105:R168)-1,COLUMNS($R$105:R168)-1),\"\")","v":{"$error":"#VALUE!"}},{"$f":"IF(OFFSET([1]DE100_7!$S$105,ROWS($S$105:S168)-1,COLUMNS($S$105:S168)-1)<>\"\",OFFSET([1]DE100_7!$S$105,ROWS($S$105:S168)-1,COLUMNS($S$105:S168)-1),\"\")","v":{"$error":"#VALUE!"}},{"$f":"IF(OFFSET([1]DE100_7!$T$105,ROWS($T$105:T168)-1,COLUMNS($T$105:T168)-1)<>\"\",OFFSET([1]DE100_7!$T$105,ROWS($T$105:T168)-1,COLUMNS($T$105:T168)-1),\"\")","v":{"$error":"#VALUE!"}},{"$f":"IF(OFFSET([1]DE100_7!$U$105,ROWS($U$105:U168)-1,COLUMNS($U$105:U168)-1)<>\"\",OFFSET([1]DE100_7!$U$105,ROWS($U$105:U168)-1,COLUMNS($U$105:U168)-1),\"\")","v":{"$error":"#VALUE!"}},{"$f":"IF(OFFSET([1]DE100_7!$V$105,ROWS($V$105:V168)-1,COLUMNS($V$105:V168)-1)<>\"\",OFFSET([1]DE100_7!$V$105,ROWS($V$105:V168)-1,COLUMNS($V$105:V168)-1),\"\")","v":{"$error":"#VALUE!"}}]
[{"$f":"IF(OFFSET([1]DE100_7!$C$105,ROWS($C$105:C169)-1,COLUMNS($C$105:C169)-1)<>\"\",OFFSET([1]DE100_7!$C$105,ROWS($C$105:C169)-1,COLUMNS($C$105:C169)-1),\"\")","v":{"$error":"#VALUE!"}},{"$f":"IF(OFFSET([1]DE100_7!$D$105,ROWS($D$105:D169)-1,COLUMNS($D$105:D169)-1)<>\"\",OFFSET([1]DE100_7!$D$105,ROWS($D$105:D169)-1,COLUMNS($D$105:D169)-1),\"\")","v":{"$error":"#VALUE!"}},{"$f":"IF(OFFSET([1]DE100_7!$E$105,ROWS($E$105:E169)-1,COLUMNS($E$105:E169)-1)<>\"\",OFFSET([1]DE100_7!$E$105,ROWS($E$105:E169)-1,COLUMNS($E$105:E169)-1),\"\")","v":{"$error":"#VALUE!"}},{"$f":"IF(OFFSET([1]DE100_7!$F$105,ROWS($F$105:F169)-1,COLUMNS($F$105:F169)-1)<>\"\",OFFSET([1]DE100_7!$F$105,ROWS($F$105:F169)-1,COLUMNS($F$105:F169)-1),\"\")","v":{"$error":"#VALUE!"}},{"$f":"IF(OFFSET([1]DE100_7!$G$105,ROWS($G$105:G169)-1,COLUMNS($G$105:G169)-1)<>\"\",OFFSET([1]DE100_7!$G$105,ROWS($G$105:G169)-1,COLUMNS($G$105:G169)-1),\"\")","v":{"$error":"#VALUE!"}},{"$f":"IF(OFFSET([1]DE100_7!$H$105,ROWS($H$105:H169)-1,COLUMNS($H$105:H169)-1)<>\"\",OFFSET([1]DE100_7!$H$105,ROWS($H$105:H169)-1,COLUMNS($H$105:H169)-1),\"\")","v":{"$error":"#VALUE!"}},{"$f":"IF(OFFSET([1]DE100_7!$I$105,ROWS($I$105:I169)-1,COLUMNS($I$105:I169)-1)<>\"\",OFFSET([1]DE100_7!$I$105,ROWS($I$105:I169)-1,COLUMNS($I$105:I169)-1),\"\")","v":{"$error":"#VALUE!"}},{"$f":"IF(OFFSET([1]DE100_7!$J$105,ROWS($J$105:J169)-1,COLUMNS($J$105:J169)-1)<>\"\",OFFSET([1]DE100_7!$J$105,ROWS($J$105:J169)-1,COLUMNS($J$105:J169)-1),\"\")","v":{"$error":"#VALUE!"}},{"$f":"IF(OFFSET([1]DE100_7!$K$105,ROWS($K$105:K169)-1,COLUMNS($K$105:K169)-1)<>\"\",OFFSET([1]DE100_7!$K$105,ROWS($K$105:K169)-1,COLUMNS($K$105:K169)-1),\"\")","v":{"$error":"#VALUE!"}},{"$f":"IF(OFFSET([1]DE100_7!$L$105,ROWS($L$105:L169)-1,COLUMNS($L$105:L169)-1)<>\"\",OFFSET([1]DE100_7!$L$105,ROWS($L$105:L169)-1,COLUMNS($L$105:L169)-1),\"\")","v":{"$error":"#VALUE!"}},{"$f":"IF(OFFSET([1]DE100_7!$M$105,ROWS($M$105:M169)-1,COLUMNS($M$105:M169)-1)<>\"\",OFFSET([1]DE100_7!$M$105,ROWS($M$105:M169)-1,COLUMNS($M$105:M169)-1),\"\")","v":{"$error":"#VALUE!"}},{"$f":"IF(OFFSET([1]DE100_7!$N$105,ROWS($N$105:N169)-1,COLUMNS($N$105:N169)-1)<>\"\",OFFSET([1]DE100_7!$N$105,ROWS($N$105:N169)-1,COLUMNS($N$105:N169)-1),\"\")","v":{"$error":"#VALUE!"}},{"$f":"IF(OFFSET([1]DE100_7!$O$105,ROWS($O$105:O169)-1,COLUMNS($O$105:O169)-1)<>\"\",OFFSET([1]DE100_7!$O$105,ROWS($O$105:O169)-1,COLUMNS($O$105:O169)-1),\"\")","v":{"$error":"#VALUE!"}},{"$f":"IF(OFFSET([1]DE100_7!$P$105,ROWS($P$105:P169)-1,COLUMNS($P$105:P169)-1)<>\"\",OFFSET([1]DE100_7!$P$105,ROWS($P$105:P169)-1,COLUMNS($P$105:P169)-1),\"\")","v":{"$error":"#VALUE!"}},{"$f":"IF(OFFSET([1]DE100_7!$Q$105,ROWS($Q$105:Q169)-1,COLUMNS($Q$105:Q169)-1)<>\"\",OFFSET([1]DE100_7!$Q$105,ROWS($Q$105:Q169)-1,COLUMNS($Q$105:Q169)-1),\"\")","v":{"$error":"#VALUE!"}},{"$f":"IF(OFFSET([1]DE100_7!$R$105,ROWS($R$105:R169)-1,COLUMNS($R$105:R169)-1)<>\"\",OFFSET([1]DE100_7!$R$105,ROWS($R$105:R169)-1,COLUMNS($R$105:R169)-1),\"\")","v":{"$error":"#VALUE!"}},{"$f":"IF(OFFSET([1]DE100_7!$S$105,ROWS($S$105:S169)-1,COLUMNS($S$105:S169)-1)<>\"\",OFFSET([1]DE100_7!$S$105,ROWS($S$105:S169)-1,COLUMNS($S$105:S169)-1),\"\")","v":{"$error":"#VALUE!"}},{"$f":"IF(OFFSET([1]DE100_7!$T$105,ROWS($T$105:T169)-1,COLUMNS($T$105:T169)-1)<>\"\",OFFSET([1]DE100_7!$T$105,ROWS($T$105:T169)-1,COLUMNS($T$105:T169)-1),\"\")","v":{"$error":"#VALUE!"}},{"$f":"IF(OFFSET([1]DE100_7!$U$105,ROWS($U$105:U169)-1,COLUMNS($U$105:U169)-1)<>\"\",OFFSET([1]DE100_7!$U$105,ROWS($U$105:U169)-1,COLUMNS($U$105:U169)-1),\"\")","v":{"$error":"#VALUE!"}},{"$f":"IF(OFFSET([1]DE100_7!$V$105,ROWS($V$105:V169)-1,COLUMNS($V$105:V169)-1)<>\"\",OFFSET([1]DE100_7!$V$105,ROWS($V$105:V169)-1,COLUMNS($V$105:V169)-1),\"\")","v":{"$error":"#VALUE!"}}]
[{"$f":"IF(OFFSET([1]DE100_7!$C$105,ROWS($C$105:C170)-1,COLUMNS($C$105:C170)-1)<>\"\",OFFSET([1]DE100_7!$C$105,ROWS($C$105:C170)-1,COLUMNS($C$105:C170)-1),\"\")","v":{"$error":"#VALUE!"}},{"$f":"IF(OFFSET([1]DE100_7!$D$105,ROWS($D$105:D170)-1,COLUMNS($D$105:D170)-1)<>\"\",OFFSET([1]DE100_7!$D$105,ROWS($D$105:D170)-1,COLUMNS($D$105:D170)-1),\"\")","v":{"$error":"#VALUE!"}},{"$f":"IF(OFFSET([1]DE100_7!$E$105,ROWS($E$105:E170)-1,COLUMNS($E$105:E170)-1)<>\"\",OFFSET([1]DE100_7!$E$105,ROWS($E$105:E170)-1,COLUMNS($E$105:E170)-1),\"\")","v":{"$error":"#VALUE!"}},{"$f":"IF(OFFSET([1]DE100_7!$F$105,ROWS($F$105:F170)-1,COLUMNS($F$105:F170)-1)<>\"\",OFFSET([1]DE100_7!$F$105,ROWS($F$105:F170)-1,COLUMNS($F$105:F170)-1),\"\")","v":{"$error":"#VALUE!"}},{"$f":"IF(OFFSET([1]DE100_7!$G$105,ROWS($G$105:G170)-1,COLUMNS($G$105:G170)-1)<>\"\",OFFSET([1]DE100_7!$G$105,ROWS($G$105:G170)-1,COLUMNS($G$105:G170)-1),\"\")","v":{"$error":"#VALUE!"}},{"$f":"IF(OFFSET([1]DE100_7!$H$105,ROWS($H$105:H170)-1,COLUMNS($H$105:H170)-1)<>\"\",OFFSET([1]DE100_7!$H$105,ROWS($H$105:H170)-1,COLUMNS($H$105:H170)-1),\"\")","v":{"$error":"#VALUE!"}},{"$f":"IF(OFFSET([1]DE100_7!$I$105,ROWS($I$105:I170)-1,COLUMNS($I$105:I170)-1)<>\"\",OFFSET([1]DE100_7!$I$105,ROWS($I$105:I170)-1,COLUMNS($I$105:I170)-1),\"\")","v":{"$error":"#VALUE!"}},{"$f":"IF(OFFSET([1]DE100_7!$J$105,ROWS($J$105:J170)-1,COLUMNS($J$105:J170)-1)<>\"\",OFFSET([1]DE100_7!$J$105,ROWS($J$105:J170)-1,COLUMNS($J$105:J170)-1),\"\")","v":{"$error":"#VALUE!"}},{"$f":"IF(OFFSET([1]DE100_7!$K$105,ROWS($K$105:K170)-1,COLUMNS($K$105:K170)-1)<>\"\",OFFSET([1]DE100_7!$K$105,ROWS($K$105:K170)-1,COLUMNS($K$105:K170)-1),\"\")","v":{"$error":"#VALUE!"}},{"$f":"IF(OFFSET([1]DE100_7!$L$105,ROWS($L$105:L170)-1,COLUMNS($L$105:L170)-1)<>\"\",OFFSET([1]DE100_7!$L$105,ROWS($L$105:L170)-1,COLUMNS($L$105:L170)-1),\"\")","v":{"$error":"#VALUE!"}},{"$f":"IF(OFFSET([1]DE100_7!$M$105,ROWS($M$105:M170)-1,COLUMNS($M$105:M170)-1)<>\"\",OFFSET([1]DE100_7!$M$105,ROWS($M$105:M170)-1,COLUMNS($M$105:M170)-1),\"\")","v":{"$error":"#VALUE!"}},{"$f":"IF(OFFSET([1]DE100_7!$N$105,ROWS($N$105:N170)-1,COLUMNS($N$105:N170)-1)<>\"\",OFFSET([1]DE100_7!$N$105,ROWS($N$105:N170)-1,COLUMNS($N$105:N170)-1),\"\")","v":{"$error":"#VALUE!"}},{"$f":"IF(OFFSET([1]DE100_7!$O$105,ROWS($O$105:O170)-1,COLUMNS($O$105:O170)-1)<>\"\",OFFSET([1]DE100_7!$O$105,ROWS($O$105:O170)-1,COLUMNS($O$105:O170)-1),\"\")","v":{"$error":"#VALUE!"}},{"$f":"IF(OFFSET([1]DE100_7!$P$105,ROWS($P$105:P170)-1,COLUMNS($P$105:P170)-1)<>\"\",OFFSET([1]DE100_7!$P$105,ROWS($P$105:P170)-1,COLUMNS($P$105:P170)-1),\"\")","v":{"$error":"#VALUE!"}},{"$f":"IF(OFFSET([1]DE100_7!$Q$105,ROWS($Q$105:Q170)-1,COLUMNS($Q$105:Q170)-1)<>\"\",OFFSET([1]DE100_7!$Q$105,ROWS($Q$105:Q170)-1,COLUMNS($Q$105:Q170)-1),\"\")","v":{"$error":"#VALUE!"}},{"$f":"IF(OFFSET([1]DE100_7!$R$105,ROWS($R$105:R170)-1,COLUMNS($R$105:R170)-1)<>\"\",OFFSET([1]DE100_7!$R$105,ROWS($R$105:R170)-1,COLUMNS($R$105:R170)-1),\"\")","v":{"$error":"#VALUE!"}},{"$f":"IF(OFFSET([1]DE100_7!$S$105,ROWS($S$105:S170)-1,COLUMNS($S$105:S170)-1)<>\"\",OFFSET([1]DE100_7!$S$105,ROWS($S$105:S170)-1,COLUMNS($S$105:S170)-1),\"\")","v":{"$error":"#VALUE!"}},{"$f":"IF(OFFSET([1]DE100_7!$T$105,ROWS($T$105:T170)-1,COLUMNS($T$105:T170)-1)<>\"\",OFFSET([1]DE100_7!$T$105,ROWS($T$105:T170)-1,COLUMNS($T$105:T170)-1),\"\")","v":{"$error":"#VALUE!"}},{"$f":"IF(OFFSET([1]DE100_7!$U$105,ROWS($U$105:U170)-1,COLUMNS($U$105:U170)-1)<>\"\",OFFSET([1]DE100_7!$U$105,ROWS($U$105:U170)-1,COLUMNS($U$105:U170)-1),\"\")","v":{"$error":"#VALUE!"}},{"$f":"IF(OFFSET([1]DE100_7!$V$105,ROWS($V$105:V170)-1,COLUMNS($V$105:V170)-1)<>\"\",OFFSET([1]DE100_7!$V$105,ROWS($V$105:V170)-1,COLUMNS($V$105:V170)-1),\"\")","v":{"$error":"#VALUE!"}}]
[{"$f":"IF(OFFSET([1]DE100_7!$C$105,ROWS($C$105:C171)-1,COLUMNS($C$105:C171)-1)<>\"\",OFFSET([1]DE100_7!$C$105,ROWS($C$105:C171)-1,COLUMNS($C$105:C171)-1),\"\")","v":{"$error":"#VALUE!"}},null,null,null,{"$f":"IF(OFFSET([1]DE100_7!$G$105,ROWS($G$105:G171)-1,COLUMNS($G$105:G171)-1)<>\"\",OFFSET([1]DE100_7!$G$105,ROWS($G$105:G171)-1,COLUMNS($G$105:G171)-1),\"\")","v":{"$error":"#VALUE!"}},{"$f":"IF(OFFSET([1]DE100_7!$H$105,ROWS($H$105:H171)-1,COLUMNS($H$105:H171)-1)<>\"\",OFFSET([1]DE100_7!$H$105,ROWS($H$105:H171)-1,COLUMNS($H$105:H171)-1),\"\")","v":{"$error":"#VALUE!"}},{"$f":"IF(OFFSET([1]DE100_7!$I$105,ROWS($I$105:I171)-1,COLUMNS($I$105:I171)-1)<>\"\",OFFSET([1]DE100_7!$I$105,ROWS($I$105:I171)-1,COLUMNS($I$105:I171)-1),\"\")","v":{"$error":"#VALUE!"}},{"$f":"IF(OFFSET([1]DE100_7!$J$105,ROWS($J$105:J171)-1,COLUMNS($J$105:J171)-1)<>\"\",OFFSET([1]DE100_7!$J$105,ROWS($J$105:J171)-1,COLUMNS($J$105:J171)-1),\"\")","v":{"$error":"#VALUE!"}},{"$f":"IF(OFFSET([1]DE100_7!$K$105,ROWS($K$105:K171)-1,COLUMNS($K$105:K171)-1)<>\"\",OFFSET([1]DE100_7!$K$105,ROWS($K$105:K171)-1,COLUMNS($K$105:K171)-1),\"\")","v":{"$error":"#VALUE!"}},{"$f":"IF(OFFSET([1]DE100_7!$L$105,ROWS($L$105:L171)-1,COLUMNS($L$105:L171)-1)<>\"\",OFFSET([1]DE100_7!$L$105,ROWS($L$105:L171)-1,COLUMNS($L$105:L171)-1),\"\")","v":{"$error":"#VALUE!"}},{"$f":"IF(OFFSET([1]DE100_7!$M$105,ROWS($M$105:M171)-1,COLUMNS($M$105:M171)-1)<>\"\",OFFSET([1]DE100_7!$M$105,ROWS($M$105:M171)-1,COLUMNS($M$105:M171)-1),\"\")","v":{"$error":"#VALUE!"}},{"$f":"IF(OFFSET([1]DE100_7!$N$105,ROWS($N$105:N171)-1,COLUMNS($N$105:N171)-1)<>\"\",OFFSET([1]DE100_7!$N$105,ROWS($N$105:N171)-1,COLUMNS($N$105:N171)-1),\"\")","v":{"$error":"#VALUE!"}},{"$f":"IF(OFFSET([1]DE100_7!$O$105,ROWS($O$105:O171)-1,COLUMNS($O$105:O171)-1)<>\"\",OFFSET([1]DE100_7!$O$105,ROWS($O$105:O171)-1,COLUMNS($O$105:O171)-1),\"\")","v":{"$error":"#VALUE!"}},{"$f":"IF(OFFSET([1]DE100_7!$P$105,ROWS($P$105:P171)-1,COLUMNS($P$105:P171)-1)<>\"\",OFFSET([1]DE100_7!$P$105,ROWS($P$105:P171)-1,COLUMNS($P$105:P171)-1),\"\")","v":{"$error":"#VALUE!"}},{"$f":"IF(OFFSET([1]DE100_7!$Q$105,ROWS($Q$105:Q171)-1,COLUMNS($Q$105:Q171)-1)<>\"\",OFFSET([1]DE100_7!$Q$105,ROWS($Q$105:Q171)-1,COLUMNS($Q$105:Q171)-1),\"\")","v":{"$error":"#VALUE!"}},{"$f":"IF(OFFSET([1]DE100_7!$R$105,ROWS($R$105:R171)-1,COLUMNS($R$105:R171)-1)<>\"\",OFFSET([1]DE100_7!$R$105,ROWS($R$105:R171)-1,COLUMNS($R$105:R171)-1),\"\")","v":{"$error":"#VALUE!"}},{"$f":"IF(OFFSET([1]DE100_7!$S$105,ROWS($S$105:S171)-1,COLUMNS($S$105:S171)-1)<>\"\",OFFSET([1]DE100_7!$S$105,ROWS($S$105:S171)-1,COLUMNS($S$105:S171)-1),\"\")","v":{"$error":"#VALUE!"}},{"$f":"IF(OFFSET([1]DE100_7!$T$105,ROWS($T$105:T171)-1,COLUMNS($T$105:T171)-1)<>\"\",OFFSET([1]DE100_7!$T$105,ROWS($T$105:T171)-1,COLUMNS($T$105:T171)-1),\"\")","v":{"$error":"#VALUE!"}},{"$f":"IF(OFFSET([1]DE100_7!$U$105,ROWS($U$105:U171)-1,COLUMNS($U$105:U171)-1)<>\"\",OFFSET([1]DE100_7!$U$105,ROWS($U$105:U171)-1,COLUMNS($U$105:U171)-1),\"\")","v":{"$error":"#VALUE!"}},{"$f":"IF(OFFSET([1]DE100_7!$V$105,ROWS($V$105:V171)-1,COLUMNS($V$105:V171)-1)<>\"\",OFFSET([1]DE100_7!$V$105,ROWS($V$105:V171)-1,COLUMNS($V$105:V171)-1),\"\")","v":{"$error":"#VALUE!"}}]
[{"$f":"IF(OFFSET([1]DE100_7!$C$105,ROWS($C$105:C172)-1,COLUMNS($C$105:C172)-1)<>\"\",OFFSET([1]DE100_7!$C$105,ROWS($C$105:C172)-1,COLUMNS($C$105:C172)-1),\"\")","v":{"$error":"#VALUE!"}},{"$f":"IF(OFFSET([1]DE100_7!$D$105,ROWS($D$105:D172)-1,COLUMNS($D$105:D172)-1)<>\"\",OFFSET([1]DE100_7!$D$105,ROWS($D$105:D172)-1,COLUMNS($D$105:D172)-1),\"\")","v":{"$error":"#VALUE!"}},{"$f":"IF(OFFSET([1]DE100_7!$E$105,ROWS($E$105:E172)-1,COLUMNS($E$105:E172)-1)<>\"\",OFFSET([1]DE100_7!$E$105,ROWS($E$105:E172)-1,COLUMNS($E$105:E172)-1),\"\")","v":{"$error":"#VALUE!"}},{"$f":"IF(OFFSET([1]DE100_7!$F$105,ROWS($F$105:F172)-1,COLUMNS($F$105:F172)-1)<>\"\",OFFSET([1]DE100_7!$F$105,ROWS($F$105:F172)-1,COLUMNS($F$105:F172)-1),\"\")","v":{"$error":"#VALUE!"}},{"$f":"IF(OFFSET([1]DE100_7!$G$105,ROWS($G$105:G172)-1,COLUMNS($G$105:G172)-1)<>\"\",OFFSET([1]DE100_7!$G$105,ROWS($G$105:G172)-1,COLUMNS($G$105:G172)-1),\"\")","v":{"$error":"#VALUE!"}},{"$f":"IF(OFFSET([1]DE100_7!$H$105,ROWS($H$105:H172)-1,COLUMNS($H$105:H172)-1)<>\"\",OFFSET([1]DE100_7!$H$105,ROWS($H$105:H172)-1,COLUMNS($H$105:H172)-1),\"\")","v":{"$error":"#VALUE!"}},{"$f":"IF(OFFSET([1]DE100_7!$I$105,ROWS($I$105:I172)-1,COLUMNS($I$105:I172)-1)<>\"\",OFFSET([1]DE100_7!$I$105,ROWS($I$105:I172)-1,COLUMNS($I$105:I172)-1),\"\")","v":{"$error":"#VALUE!"}},{"$f":"IF(OFFSET([1]DE100_7!$J$105,ROWS($J$105:J172)-1,COLUMNS($J$105:J172)-1)<>\"\",OFFSET([1]DE100_7!$J$105,ROWS($J$105:J172)-1,COLUMNS($J$105:J172)-1),\"\")","v":{"$error":"#VALUE!"}},{"$f":"IF(OFFSET([1]DE100_7!$K$105,ROWS($K$105:K172)-1,COLUMNS($K$105:K172)-1)<>\"\",OFFSET([1]DE100_7!$K$105,ROWS($K$105:K172)-1,COLUMNS($K$105:K172)-1),\"\")","v":{"$error":"#VALUE!"}},{"$f":"IF(OFFSET([1]DE100_7!$L$105,ROWS($L$105:L172)-1,COLUMNS($L$105:L172)-1)<>\"\",OFFSET([1]DE100_7!$L$105,ROWS($L$105:L172)-1,COLUMNS($L$105:L172)-1),\"\")","v":{"$error":"#VALUE!"}},{"$f":"IF(OFFSET([1]DE100_7!$M$105,ROWS($M$105:M172)-1,COLUMNS($M$105:M172)-1)<>\"\",OFFSET([1]DE100_7!$M$105,ROWS($M$105:M172)-1,COLUMNS($M$105:M172)-1),\"\")","v":{"$error":"#VALUE!"}},{"$f":"IF(OFFSET([1]DE100_7!$N$105,ROWS($N$105:N172)-1,COLUMNS($N$105:N172)-1)<>\"\",OFFSET([1]DE100_7!$N$105,ROWS($N$105:N172)-1,COLUMNS($N$105:N172)-1),\"\")","v":{"$error":"#VALUE!"}},{"$f":"IF(OFFSET([1]DE100_7!$O$105,ROWS($O$105:O172)-1,COLUMNS($O$105:O172)-1)<>\"\",OFFSET([1]DE100_7!$O$105,ROWS($O$105:O172)-1,COLUMNS($O$105:O172)-1),\"\")","v":{"$error":"#VALUE!"}},{"$f":"IF(OFFSET([1]DE100_7!$P$105,ROWS($P$105:P172)-1,COLUMNS($P$105:P172)-1)<>\"\",OFFSET([1]DE100_7!$P$105,ROWS($P$105:P172)-1,COLUMNS($P$105:P172)-1),\"\")","v":{"$error":"#VALUE!"}},{"$f":"IF(OFFSET([1]DE100_7!$Q$105,ROWS($Q$105:Q172)-1,COLUMNS($Q$105:Q172)-1)<>\"\",OFFSET([1]DE100_7!$Q$105,ROWS($Q$105:Q172)-1,COLUMNS($Q$105:Q172)-1),\"\")","v":{"$error":"#VALUE!"}},{"$f":"IF(OFFSET([1]DE100_7!$R$105,ROWS($R$105:R172)-1,COLUMNS($R$105:R172)-1)<>\"\",OFFSET([1]DE100_7!$R$105,ROWS($R$105:R172)-1,COLUMNS($R$105:R172)-1),\"\")","v":{"$error":"#VALUE!"}},{"$f":"IF(OFFSET([1]DE100_7!$S$105,ROWS($S$105:S172)-1,COLUMNS($S$105:S172)-1)<>\"\",OFFSET([1]DE100_7!$S$105,ROWS($S$105:S172)-1,COLUMNS($S$105:S172)-1),\"\")","v":{"$error":"#VALUE!"}},{"$f":"IF(OFFSET([1]DE100_7!$T$105,ROWS($T$105:T172)-1,COLUMNS($T$105:T172)-1)<>\"\",OFFSET([1]DE100_7!$T$105,ROWS($T$105:T172)-1,COLUMNS($T$105:T172)-1),\"\")","v":{"$error":"#VALUE!"}},{"$f":"IF(OFFSET([1]DE100_7!$U$105,ROWS($U$105:U172)-1,COLUMNS($U$105:U172)-1)<>\"\",OFFSET([1]DE100_7!$U$105,ROWS($U$105:U172)-1,COLUMNS($U$105:U172)-1),\"\")","v":{"$error":"#VALUE!"}},{"$f":"IF(OFFSET([1]DE100_7!$V$105,ROWS($V$105:V172)-1,COLUMNS($V$105:V172)-1)<>\"\",OFFSET([1]DE100_7!$V$105,ROWS($V$105:V172)-1,COLUMNS($V$105:V172)-1),\"\")","v":{"$error":"#VALUE!"}}]
[{"$f":"IF(OFFSET([1]DE100_7!$C$105,ROWS($C$105:C173)-1,COLUMNS($C$105:C173)-1)<>\"\",OFFSET([1]DE100_7!$C$105,ROWS($C$105:C173)-1,COLUMNS($C$105:C173)-1),\"\")","v":{"$error":"#VALUE!"}},{"$f":"IF(OFFSET([1]DE100_7!$D$105,ROWS($D$105:D173)-1,COLUMNS($D$105:D173)-1)<>\"\",OFFSET([1]DE100_7!$D$105,ROWS($D$105:D173)-1,COLUMNS($D$105:D173)-1),\"\")","v":{"$error":"#VALUE!"}},{"$f":"IF(OFFSET([1]DE100_7!$E$105,ROWS($E$105:E173)-1,COLUMNS($E$105:E173)-1)<>\"\",OFFSET([1]DE100_7!$E$105,ROWS($E$105:E173)-1,COLUMNS($E$105:E173)-1),\"\")","v":{"$error":"#VALUE!"}},{"$f":"IF(OFFSET([1]DE100_7!$F$105,ROWS($F$105:F173)-1,COLUMNS($F$105:F173)-1)<>\"\",OFFSET([1]DE100_7!$F$105,ROWS($F$105:F173)-1,COLUMNS($F$105:F173)-1),\"\")","v":{"$error":"#VALUE!"}},{"$f":"IF(OFFSET([1]DE100_7!$G$105,ROWS($G$105:G173)-1,COLUMNS($G$105:G173)-1)<>\"\",OFFSET([1]DE100_7!$G$105,ROWS($G$105:G173)-1,COLUMNS($G$105:G173)-1),\"\")","v":{"$error":"#VALUE!"}},{"$f":"IF(OFFSET([1]DE100_7!$H$105,ROWS($H$105:H173)-1,COLUMNS($H$105:H173)-1)<>\"\",OFFSET([1]DE100_7!$H$105,ROWS($H$105:H173)-1,COLUMNS($H$105:H173)-1),\"\")","v":{"$error":"#VALUE!"}},{"$f":"IF(OFFSET([1]DE100_7!$I$105,ROWS($I$105:I173)-1,COLUMNS($I$105:I173)-1)<>\"\",OFFSET([1]DE100_7!$I$105,ROWS($I$105:I173)-1,COLUMNS($I$105:I173)-1),\"\")","v":{"$error":"#VALUE!"}},{"$f":"IF(OFFSET([1]DE100_7!$J$105,ROWS($J$105:J173)-1,COLUMNS($J$105:J173)-1)<>\"\",OFFSET([1]DE100_7!$J$105,ROWS($J$105:J173)-1,COLUMNS($J$105:J173)-1),\"\")","v":{"$error":"#VALUE!"}},{"$f":"IF(OFFSET([1]DE100_7!$K$105,ROWS($K$105:K173)-1,COLUMNS($K$105:K173)-1)<>\"\",OFFSET([1]DE100_7!$K$105,ROWS($K$105:K173)-1,COLUMNS($K$105:K173)-1),\"\")","v":{"$error":"#VALUE!"}},{"$f":"IF(OFFSET([1]DE100_7!$L$105,ROWS($L$105:L173)-1,COLUMNS($L$105:L173)-1)<>\"\",OFFSET([1]DE100_7!$L$105,ROWS($L$105:L173)-1,COLUMNS($L$105:L173)-1),\"\")","v":{"$error":"#VALUE!"}},{"$f":"IF(OFFSET([1]DE100_7!$M$105,ROWS($M$105:M173)-1,COLUMNS($M$105:M173)-1)<>\"\",OFFSET([1]DE100_7!$M$105,ROWS($M$105:M173)-1,COLUMNS($M$105:M173)-1),\"\")","v":{"$error":"#VALUE!"}},{"$f":"IF(OFFSET([1]DE100_7!$N$105,ROWS($N$105:N173)-1,COLUMNS($N$105:N173)-1)<>\"\",OFFSET([1]DE100_7!$N$105,ROWS($N$105:N173)-1,COLUMNS($N$105:N173)-1),\"\")","v":{"$error":"#VALUE!"}},{"$f":"IF(OFFSET([1]DE100_7!$O$105,ROWS($O$105:O173)-1,COLUMNS($O$105:O173)-1)<>\"\",OFFSET([1]DE100_7!$O$105,ROWS($O$105:O173)-1,COLUMNS($O$105:O173)-1),\"\")","v":{"$error":"#VALUE!"}},{"$f":"IF(OFFSET([1]DE100_7!$P$105,ROWS($P$105:P173)-1,COLUMNS($P$105:P173)-1)<>\"\",OFFSET([1]DE100_7!$P$105,ROWS($P$105:P173)-1,COLUMNS($P$105:P173)-1),\"\")","v":{"$error":"#VALUE!"}},{"$f":"IF(OFFSET([1]DE100_7!$Q$105,ROWS($Q$105:Q173)-1,COLUMNS($Q$105:Q173)-1)<>\"\",OFFSET([1]DE100_7!$Q$105,ROWS($Q$105:Q173)-1,COLUMNS($Q$105:Q173)-1),\"\")","v":{"$error":"#VALUE!"}},{"$f":"IF(OFFSET([1]DE100_7!$R$105,ROWS($R$105:R173)-1,COLUMNS($R$105:R173)-1)<>\"\",OFFSET([1]DE100_7!$R$105,ROWS($R$105:R173)-1,COLUMNS($R$105:R173)-1),\"\")","v":{"$error":"#VALUE!"}},{"$f":"IF(OFFSET([1]DE100_7!$S$105,ROWS($S$105:S173)-1,COLUMNS($S$105:S173)-1)<>\"\",OFFSET([1]DE100_7!$S$105,ROWS($S$105:S173)-1,COLUMNS($S$105:S173)-1),\"\")","v":{"$error":"#VALUE!"}},{"$f":"IF(OFFSET([1]DE100_7!$T$105,ROWS($T$105:T173)-1,COLUMNS($T$105:T173)-1)<>\"\",OFFSET([1]DE100_7!$T$105,ROWS($T$105:T173)-1,COLUMNS($T$105:T173)-1),\"\")","v":{"$error":"#VALUE!"}},{"$f":"IF(OFFSET([1]DE100_7!$U$105,ROWS($U$105:U173)-1,COLUMNS($U$105:U173)-1)<>\"\",OFFSET([1]DE100_7!$U$105,ROWS($U$105:U173)-1,COLUMNS($U$105:U173)-1),\"\")","v":{"$error":"#VALUE!"}},{"$f":"IF(OFFSET([1]DE100_7!$V$105,ROWS($V$105:V173)-1,COLUMNS($V$105:V173)-1)<>\"\",OFFSET([1]DE100_7!$V$105,ROWS($V$105:V173)-1,COLUMNS($V$105:V173)-1),\"\")","v":{"$error":"#VALUE!"}}]
[{"$f":"IF(OFFSET([1]DE100_7!$C$105,ROWS($C$105:C174)-1,COLUMNS($C$105:C174)-1)<>\"\",OFFSET([1]DE100_7!$C$105,ROWS($C$105:C174)-1,COLUMNS($C$105:C174)-1),\"\")","v":{"$error":"#VALUE!"}},{"$f":"IF(OFFSET([1]DE100_7!$D$105,ROWS($D$105:D174)-1,COLUMNS($D$105:D174)-1)<>\"\",OFFSET([1]DE100_7!$D$105,ROWS($D$105:D174)-1,COLUMNS($D$105:D174)-1),\"\")","v":{"$error":"#VALUE!"}},{"$f":"IF(OFFSET([1]DE100_7!$E$105,ROWS($E$105:E174)-1,COLUMNS($E$105:E174)-1)<>\"\",OFFSET([1]DE100_7!$E$105,ROWS($E$105:E174)-1,COLUMNS($E$105:E174)-1),\"\")","v":{"$error":"#VALUE!"}},{"$f":"IF(OFFSET([1]DE100_7!$F$105,ROWS($F$105:F174)-1,COLUMNS($F$105:F174)-1)<>\"\",OFFSET([1]DE100_7!$F$105,ROWS($F$105:F174)-1,COLUMNS($F$105:F174)-1),\"\")","v":{"$error":"#VALUE!"}},{"$f":"IF(OFFSET([1]DE100_7!$G$105,ROWS($G$105:G174)-1,COLUMNS($G$105:G174)-1)<>\"\",OFFSET([1]DE100_7!$G$105,ROWS($G$105:G174)-1,COLUMNS($G$105:G174)-1),\"\")","v":{"$error":"#VALUE!"}},{"$f":"IF(OFFSET([1]DE100_7!$H$105,ROWS($H$105:H174)-1,COLUMNS($H$105:H174)-1)<>\"\",OFFSET([1]DE100_7!$H$105,ROWS($H$105:H174)-1,COLUMNS($H$105:H174)-1),\"\")","v":{"$error":"#VALUE!"}},{"$f":"IF(OFFSET([1]DE100_7!$I$105,ROWS($I$105:I174)-1,COLUMNS($I$105:I174)-1)<>\"\",OFFSET([1]DE100_7!$I$105,ROWS($I$105:I174)-1,COLUMNS($I$105:I174)-1),\"\")","v":{"$error":"#VALUE!"}},{"$f":"IF(OFFSET([1]DE100_7!$J$105,ROWS($J$105:J174)-1,COLUMNS($J$105:J174)-1)<>\"\",OFFSET([1]DE100_7!$J$105,ROWS($J$105:J174)-1,COLUMNS($J$105:J174)-1),\"\")","v":{"$error":"#VALUE!"}},{"$f":"IF(OFFSET([1]DE100_7!$K$105,ROWS($K$105:K174)-1,COLUMNS($K$105:K174)-1)<>\"\",OFFSET([1]DE100_7!$K$105,ROWS($K$105:K174)-1,COLUMNS($K$105:K174)-1),\"\")","v":{"$error":"#VALUE!"}},{"$f":"IF(OFFSET([1]DE100_7!$L$105,ROWS($L$105:L174)-1,COLUMNS($L$105:L174)-1)<>\"\",OFFSET([1]DE100_7!$L$105,ROWS($L$105:L174)-1,COLUMNS($L$105:L174)-1),\"\")","v":{"$error":"#VALUE!"}},{"$f":"IF(OFFSET([1]DE100_7!$M$105,ROWS($M$105:M174)-1,COLUMNS($M$105:M174)-1)<>\"\",OFFSET([1]DE100_7!$M$105,ROWS($M$105:M174)-1,COLUMNS($M$105:M174)-1),\"\")","v":{"$error":"#VALUE!"}},{"$f":"IF(OFFSET([1]DE100_7!$N$105,ROWS($N$105:N174)-1,COLUMNS($N$105:N174)-1)<>\"\",OFFSET([1]DE100_7!$N$105,ROWS($N$105:N174)-1,COLUMNS($N$105:N174)-1),\"\")","v":{"$error":"#VALUE!"}},{"$f":"IF(OFFSET([1]DE100_7!$O$105,ROWS($O$105:O174)-1,COLUMNS($O$105:O174)-1)<>\"\",OFFSET([1]DE100_7!$O$105,ROWS($O$105:O174)-1,COLUMNS($O$105:O174)-1),\"\")","v":{"$error":"#VALUE!"}},{"$f":"IF(OFFSET([1]DE100_7!$P$105,ROWS($P$105:P174)-1,COLUMNS($P$105:P174)-1)<>\"\",OFFSET([1]DE100_7!$P$105,ROWS($P$105:P174)-1,COLUMNS($P$105:P174)-1),\"\")","v":{"$error":"#VALUE!"}},{"$f":"IF(OFFSET([1]DE100_7!$Q$105,ROWS($Q$105:Q174)-1,COLUMNS($Q$105:Q174)-1)<>\"\",OFFSET([1]DE100_7!$Q$105,ROWS($Q$105:Q174)-1,COLUMNS($Q$105:Q174)-1),\"\")","v":{"$error":"#VALUE!"}},{"$f":"IF(OFFSET([1]DE100_7!$R$105,ROWS($R$105:R174)-1,COLUMNS($R$105:R174)-1)<>\"\",OFFSET([1]DE100_7!$R$105,ROWS($R$105:R174)-1,COLUMNS($R$105:R174)-1),\"\")","v":{"$error":"#VALUE!"}},{"$f":"IF(OFFSET([1]DE100_7!$S$105,ROWS($S$105:S174)-1,COLUMNS($S$105:S174)-1)<>\"\",OFFSET([1]DE100_7!$S$105,ROWS($S$105:S174)-1,COLUMNS($S$105:S174)-1),\"\")","v":{"$error":"#VALUE!"}},{"$f":"IF(OFFSET([1]DE100_7!$T$105,ROWS($T$105:T174)-1,COLUMNS($T$105:T174)-1)<>\"\",OFFSET([1]DE100_7!$T$105,ROWS($T$105:T174)-1,COLUMNS($T$105:T174)-1),\"\")","v":{"$error":"#VALUE!"}},{"$f":"IF(OFFSET([1]DE100_7!$U$105,ROWS($U$105:U174)-1,COLUMNS($U$105:U174)-1)<>\"\",OFFSET([1]DE100_7!$U$105,ROWS($U$105:U174)-1,COLUMNS($U$105:U174)-1),\"\")","v":{"$error":"#VALUE!"}},{"$f":"IF(OFFSET([1]DE100_7!$V$105,ROWS($V$105:V174)-1,COLUMNS($V$105:V174)-1)<>\"\",OFFSET([1]DE100_7!$V$105,ROWS($V$105:V174)-1,COLUMNS($V$105:V174)-1),\"\")","v":{"$error":"#VALUE!"}}]
[{"$f":"IF(OFFSET([1]DE100_7!$C$105,ROWS($C$105:C175)-1,COLUMNS($C$105:C175)-1)<>\"\",OFFSET([1]DE100_7!$C$105,ROWS($C$105:C175)-1,COLUMNS($C$105:C175)-1),\"\")","v":{"$error":"#VALUE!"}},{"$f":"IF(OFFSET([1]DE100_7!$D$105,ROWS($D$105:D175)-1,COLUMNS($D$105:D175)-1)<>\"\",OFFSET([1]DE100_7!$D$105,ROWS($D$105:D175)-1,COLUMNS($D$105:D175)-1),\"\")","v":{"$error":"#VALUE!"}},{"$f":"IF(OFFSET([1]DE100_7!$E$105,ROWS($E$105:E175)-1,COLUMNS($E$105:E175)-1)<>\"\",OFFSET([1]DE100_7!$E$105,ROWS($E$105:E175)-1,COLUMNS($E$105:E175)-1),\"\")","v":{"$error":"#VALUE!"}},{"$f":"IF(OFFSET([1]DE100_7!$F$105,ROWS($F$105:F175)-1,COLUMNS($F$105:F175)-1)<>\"\",OFFSET([1]DE100_7!$F$105,ROWS($F$105:F175)-1,COLUMNS($F$105:F175)-1),\"\")","v":{"$error":"#VALUE!"}},{"$f":"IF(OFFSET([1]DE100_7!$G$105,ROWS($G$105:G175)-1,COLUMNS($G$105:G175)-1)<>\"\",OFFSET([1]DE100_7!$G$105,ROWS($G$105:G175)-1,COLUMNS($G$105:G175)-1),\"\")","v":{"$error":"#VALUE!"}},{"$f":"IF(OFFSET([1]DE100_7!$H$105,ROWS($H$105:H175)-1,COLUMNS($H$105:H175)-1)<>\"\",OFFSET([1]DE100_7!$H$105,ROWS($H$105:H175)-1,COLUMNS($H$105:H175)-1),\"\")","v":{"$error":"#VALUE!"}},{"$f":"IF(OFFSET([1]DE100_7!$I$105,ROWS($I$105:I175)-1,COLUMNS($I$105:I175)-1)<>\"\",OFFSET([1]DE100_7!$I$105,ROWS($I$105:I175)-1,COLUMNS($I$105:I175)-1),\"\")","v":{"$error":"#VALUE!"}},{"$f":"IF(OFFSET([1]DE100_7!$J$105,ROWS($J$105:J175)-1,COLUMNS($J$105:J175)-1)<>\"\",OFFSET([1]DE100_7!$J$105,ROWS($J$105:J175)-1,COLUMNS($J$105:J175)-1),\"\")","v":{"$error":"#VALUE!"}},{"$f":"IF(OFFSET([1]DE100_7!$K$105,ROWS($K$105:K175)-1,COLUMNS($K$105:K175)-1)<>\"\",OFFSET([1]DE100_7!$K$105,ROWS($K$105:K175)-1,COLUMNS($K$105:K175)-1),\"\")","v":{"$error":"#VALUE!"}},{"$f":"IF(OFFSET([1]DE100_7!$L$105,ROWS($L$105:L175)-1,COLUMNS($L$105:L175)-1)<>\"\",OFFSET([1]DE100_7!$L$105,ROWS($L$105:L175)-1,COLUMNS($L$105:L175)-1),\"\")","v":{"$error":"#VALUE!"}},{"$f":"IF(OFFSET([1]DE100_7!$M$105,ROWS($M$105:M175)-1,COLUMNS($M$105:M175)-1)<>\"\",OFFSET([1]DE100_7!$M$105,ROWS($M$105:M175)-1,COLUMNS($M$105:M175)-1),\"\")","v":{"$error":"#VALUE!"}},{"$f":"IF(OFFSET([1]DE100_7!$N$105,ROWS($N$105:N175)-1,COLUMNS($N$105:N175)-1)<>\"\",OFFSET([1]DE100_7!$N$105,ROWS($N$105:N175)-1,COLUMNS($N$105:N175)-1),\"\")","v":{"$error":"#VALUE!"}},{"$f":"IF(OFFSET([1]DE100_7!$O$105,ROWS($O$105:O175)-1,COLUMNS($O$105:O175)-1)<>\"\",OFFSET([1]DE100_7!$O$105,ROWS($O$105:O175)-1,COLUMNS($O$105:O175)-1),\"\")","v":{"$error":"#VALUE!"}},{"$f":"IF(OFFSET([1]DE100_7!$P$105,ROWS($P$105:P175)-1,COLUMNS($P$105:P175)-1)<>\"\",OFFSET([1]DE100_7!$P$105,ROWS($P$105:P175)-1,COLUMNS($P$105:P175)-1),\"\")","v":{"$error":"#VALUE!"}},{"$f":"IF(OFFSET([1]DE100_7!$Q$105,ROWS($Q$105:Q175)-1,COLUMNS($Q$105:Q175)-1)<>\"\",OFFSET([1]DE100_7!$Q$105,ROWS($Q$105:Q175)-1,COLUMNS($Q$105:Q175)-1),\"\")","v":{"$error":"#VALUE!"}},{"$f":"IF(OFFSET([1]DE100_7!$R$105,ROWS($R$105:R175)-1,COLUMNS($R$105:R175)-1)<>\"\",OFFSET([1]DE100_7!$R$105,ROWS($R$105:R175)-1,COLUMNS($R$105:R175)-1),\"\")","v":{"$error":"#VALUE!"}},{"$f":"IF(OFFSET([1]DE100_7!$S$105,ROWS($S$105:S175)-1,COLUMNS($S$105:S175)-1)<>\"\",OFFSET([1]DE100_7!$S$105,ROWS($S$105:S175)-1,COLUMNS($S$105:S175)-1),\"\")","v":{"$error":"#VALUE!"}},{"$f":"IF(OFFSET([1]DE100_7!$T$105,ROWS($T$105:T175)-1,COLUMNS($T$105:T175)-1)<>\"\",OFFSET([1]DE100_7!$T$105,ROWS($T$105:T175)-1,COLUMNS($T$105:T175)-1),\"\")","v":{"$error":"#VALUE!"}},{"$f":"IF(OFFSET([1]DE100_7!$U$105,ROWS($U$105:U175)-1,COLUMNS($U$105:U175)-1)<>\"\",OFFSET([1]DE100_7!$U$105,ROWS($U$105:U175)-1,COLUMNS($U$105:U175)-1),\"\")","v":{"$error":"#VALUE!"}},{"$f":"IF(OFFSET([1]DE100_7!$V$105,ROWS($V$105:V175)-1,COLUMNS($V$105:V175)-1)<>\"\",OFFSET([1]DE100_7!$V$105,ROWS($V$105:V175)-1,COLUMNS($V$105:V175)-1),\"\")","v":{"$error":"#VALUE!"}}]
[{"$f":"IF(OFFSET([1]DE100_7!$C$105,ROWS($C$105:C176)-1,COLUMNS($C$105:C176)-1)<>\"\",OFFSET([1]DE100_7!$C$105,ROWS($C$105:C176)-1,COLUMNS($C$105:C176)-1),\"\")","v":{"$error":"#VALUE!"}},{"$f":"IF(OFFSET([1]DE100_7!$D$105,ROWS($D$105:D176)-1,COLUMNS($D$105:D176)-1)<>\"\",OFFSET([1]DE100_7!$D$105,ROWS($D$105:D176)-1,COLUMNS($D$105:D176)-1),\"\")","v":{"$error":"#VALUE!"}},{"$f":"IF(OFFSET([1]DE100_7!$E$105,ROWS($E$105:E176)-1,COLUMNS($E$105:E176)-1)<>\"\",OFFSET([1]DE100_7!$E$105,ROWS($E$105:E176)-1,COLUMNS($E$105:E176)-1),\"\")","v":{"$error":"#VALUE!"}},{"$f":"IF(OFFSET([1]DE100_7!$F$105,ROWS($F$105:F176)-1,COLUMNS($F$105:F176)-1)<>\"\",OFFSET([1]DE100_7!$F$105,ROWS($F$105:F176)-1,COLUMNS($F$105:F176)-1),\"\")","v":{"$error":"#VALUE!"}},{"$f":"IF(OFFSET([1]DE100_7!$G$105,ROWS($G$105:G176)-1,COLUMNS($G$105:G176)-1)<>\"\",OFFSET([1]DE100_7!$G$105,ROWS($G$105:G176)-1,COLUMNS($G$105:G176)-1),\"\")","v":{"$error":"#VALUE!"}},{"$f":"IF(OFFSET([1]DE100_7!$H$105,ROWS($H$105:H176)-1,COLUMNS($H$105:H176)-1)<>\"\",OFFSET([1]DE100_7!$H$105,ROWS($H$105:H176)-1,COLUMNS($H$105:H176)-1),\"\")","v":{"$error":"#VALUE!"}},{"$f":"IF(OFFSET([1]DE100_7!$I$105,ROWS($I$105:I176)-1,COLUMNS($I$105:I176)-1)<>\"\",OFFSET([1]DE100_7!$I$105,ROWS($I$105:I176)-1,COLUMNS($I$105:I176)-1),\"\")","v":{"$error":"#VALUE!"}},{"$f":"IF(OFFSET([1]DE100_7!$J$105,ROWS($J$105:J176)-1,COLUMNS($J$105:J176)-1)<>\"\",OFFSET([1]DE100_7!$J$105,ROWS($J$105:J176)-1,COLUMNS($J$105:J176)-1),\"\")","v":{"$error":"#VALUE!"}},{"$f":"IF(OFFSET([1]DE100_7!$K$105,ROWS($K$105:K176)-1,COLUMNS($K$105:K176)-1)<>\"\",OFFSET([1]DE100_7!$K$105,ROWS($K$105:K176)-1,COLUMNS($K$105:K176)-1),\"\")","v":{"$error":"#VALUE!"}},{"$f":"IF(OFFSET([1]DE100_7!$L$105,ROWS($L$105:L176)-1,COLUMNS($L$105:L176)-1)<>\"\",OFFSET([1]DE100_7!$L$105,ROWS($L$105:L176)-1,COLUMNS($L$105:L176)-1),\"\")","v":{"$error":"#VALUE!"}},{"$f":"IF(OFFSET([1]DE100_7!$M$105,ROWS($M$105:M176)-1,COLUMNS($M$105:M176)-1)<>\"\",OFFSET([1]DE100_7!$M$105,ROWS($M$105:M176)-1,COLUMNS($M$105:M176)-1),\"\")","v":{"$error":"#VALUE!"}},{"$f":"IF(OFFSET([1]DE100_7!$N$105,ROWS($N$105:N176)-1,COLUMNS($N$105:N176)-1)<>\"\",OFFSET([1]DE100_7!$N$105,ROWS($N$105:N176)-1,COLUMNS($N$105:N176)-1),\"\")","v":{"$error":"#VALUE!"}},{"$f":"IF(OFFSET([1]DE100_7!$O$105,ROWS($O$105:O176)-1,COLUMNS($O$105:O176)-1)<>\"\",OFFSET([1]DE100_7!$O$105,ROWS($O$105:O176)-1,COLUMNS($O$105:O176)-1),\"\")","v":{"$error":"#VALUE!"}},{"$f":"IF(OFFSET([1]DE100_7!$P$105,ROWS($P$105:P176)-1,COLUMNS($P$105:P176)-1)<>\"\",OFFSET([1]DE100_7!$P$105,ROWS($P$105:P176)-1,COLUMNS($P$105:P176)-1),\"\")","v":{"$error":"#VALUE!"}},{"$f":"IF(OFFSET([1]DE100_7!$Q$105,ROWS($Q$105:Q176)-1,COLUMNS($Q$105:Q176)-1)<>\"\",OFFSET([1]DE100_7!$Q$105,ROWS($Q$105:Q176)-1,COLUMNS($Q$105:Q176)-1),\"\")","v":{"$error":"#VALUE!"}},{"$f":"IF(OFFSET([1]DE100_7!$R$105,ROWS($R$105:R176)-1,COLUMNS($R$105:R176)-1)<>\"\",OFFSET([1]DE100_7!$R$105,ROWS($R$105:R176)-1,COLUMNS($R$105:R176)-1),\"\")","v":{"$error":"#VALUE!"}},{"$f":"IF(OFFSET([1]DE100_7!$S$105,ROWS($S$105:S176)-1,COLUMNS($S$105:S176)-1)<>\"\",OFFSET([1]DE100_7!$S$105,ROWS($S$105:S176)-1,COLUMNS($S$105:S176)-1),\"\")","v":{"$error":"#VALUE!"}},{"$f":"IF(OFFSET([1]DE100_7!$T$105,ROWS($T$105:T176)-1,COLUMNS($T$105:T176)-1)<>\"\",OFFSET([1]DE100_7!$T$105,ROWS($T$105:T176)-1,COLUMNS($T$105:T176)-1),\"\")","v":{"$error":"#VALUE!"}},{"$f":"IF(OFFSET([1]DE100_7!$U$105,ROWS($U$105:U176)-1,COLUMNS($U$105:U176)-1)<>\"\",OFFSET([1]DE100_7!$U$105,ROWS($U$105:U176)-1,COLUMNS($U$105:U176)-1),\"\")","v":{"$error":"#VALUE!"}},{"$f":"IF(OFFSET([1]DE100_7!$V$105,ROWS($V$105:V176)-1,COLUMNS($V$105:V176)-1)<>\"\",OFFSET([1]DE100_7!$V$105,ROWS($V$105:V176)-1,COLUMNS($V$105:V176)-1),\"\")","v":{"$error":"#VALUE!"}}]
[{"$f":"IF(OFFSET([1]DE100_7!$C$105,ROWS($C$105:C177)-1,COLUMNS($C$105:C177)-1)<>\"\",OFFSET([1]DE100_7!$C$105,ROWS($C$105:C177)-1,COLUMNS($C$105:C177)-1),\"\")","v":{"$error":"#VALUE!"}},{"$f":"IF(OFFSET([1]DE100_7!$D$105,ROWS($D$105:D177)-1,COLUMNS($D$105:D177)-1)<>\"\",OFFSET([1]DE100_7!$D$105,ROWS($D$105:D177)-1,COLUMNS($D$105:D177)-1),\"\")","v":{"$error":"#VALUE!"}},{"$f":"IF(OFFSET([1]DE100_7!$E$105,ROWS($E$105:E177)-1,COLUMNS($E$105:E177)-1)<>\"\",OFFSET([1]DE100_7!$E$105,ROWS($E$105:E177)-1,COLUMNS($E$105:E177)-1),\"\")","v":{"$error":"#VALUE!"}},{"$f":"IF(OFFSET([1]DE100_7!$F$105,ROWS($F$105:F177)-1,COLUMNS($F$105:F177)-1)<>\"\",OFFSET([1]DE100_7!$F$105,ROWS($F$105:F177)-1,COLUMNS($F$105:F177)-1),\"\")","v":{"$error":"#VALUE!"}},{"$f":"IF(OFFSET([1]DE100_7!$G$105,ROWS($G$105:G177)-1,COLUMNS($G$105:G177)-1)<>\"\",OFFSET([1]DE100_7!$G$105,ROWS($G$105:G177)-1,COLUMNS($G$105:G177)-1),\"\")","v":{"$error":"#VALUE!"}},{"$f":"IF(OFFSET([1]DE100_7!$H$105,ROWS($H$105:H177)-1,COLUMNS($H$105:H177)-1)<>\"\",OFFSET([1]DE100_7!$H$105,ROWS($H$105:H177)-1,COLUMNS($H$105:H177)-1),\"\")","v":{"$error":"#VALUE!"}},{"$f":"IF(OFFSET([1]DE100_7!$I$105,ROWS($I$105:I177)-1,COLUMNS($I$105:I177)-1)<>\"\",OFFSET([1]DE100_7!$I$105,ROWS($I$105:I177)-1,COLUMNS($I$105:I177)-1),\"\")","v":{"$error":"#VALUE!"}},{"$f":"IF(OFFSET([1]DE100_7!$J$105,ROWS($J$105:J177)-1,COLUMNS($J$105:J177)-1)<>\"\",OFFSET([1]DE100_7!$J$105,ROWS($J$105:J177)-1,COLUMNS($J$105:J177)-1),\"\")","v":{"$error":"#VALUE!"}},{"$f":"IF(OFFSET([1]DE100_7!$K$105,ROWS($K$105:K177)-1,COLUMNS($K$105:K177)-1)<>\"\",OFFSET([1]DE100_7!$K$105,ROWS($K$105:K177)-1,COLUMNS($K$105:K177)-1),\"\")","v":{"$error":"#VALUE!"}},{"$f":"IF(OFFSET([1]DE100_7!$L$105,ROWS($L$105:L177)-1,COLUMNS($L$105:L177)-1)<>\"\",OFFSET([1]DE100_7!$L$105,ROWS($L$105:L177)-1,COLUMNS($L$105:L177)-1),\"\")","v":{"$error":"#VALUE!"}},{"$f":"IF(OFFSET([1]DE100_7!$M$105,ROWS($M$105:M177)-1,COLUMNS($M$105:M177)-1)<>\"\",OFFSET([1]DE100_7!$M$105,ROWS($M$105:M177)-1,COLUMNS($M$105:M177)-1),\"\")","v":{"$error":"#VALUE!"}},{"$f":"IF(OFFSET([1]DE100_7!$N$105,ROWS($N$105:N177)-1,COLUMNS($N$105:N177)-1)<>\"\",OFFSET([1]DE100_7!$N$105,ROWS($N$105:N177)-1,COLUMNS($N$105:N177)-1),\"\")","v":{"$error":"#VALUE!"}},{"$f":"IF(OFFSET([1]DE100_7!$O$105,ROWS($O$105:O177)-1,COLUMNS($O$105:O177)-1)<>\"\",OFFSET([1]DE100_7!$O$105,ROWS($O$105:O177)-1,COLUMNS($O$105:O177)-1),\"\")","v":{"$error":"#VALUE!"}},{"$f":"IF(OFFSET([1]DE100_7!$P$105,ROWS($P$105:P177)-1,COLUMNS($P$105:P177)-1)<>\"\",OFFSET([1]DE100_7!$P$105,ROWS($P$105:P177)-1,COLUMNS($P$105:P177)-1),\"\")","v":{"$error":"#VALUE!"}},{"$f":"IF(OFFSET([1]DE100_7!$Q$105,ROWS($Q$105:Q177)-1,COLUMNS($Q$105:Q177)-1)<>\"\",OFFSET([1]DE100_7!$Q$105,ROWS($Q$105:Q177)-1,COLUMNS($Q$105:Q177)-1),\"\")","v":{"$error":"#VALUE!"}},{"$f":"IF(OFFSET([1]DE100_7!$R$105,ROWS($R$105:R177)-1,COLUMNS($R$105:R177)-1)<>\"\",OFFSET([1]DE100_7!$R$105,ROWS($R$105:R177)-1,COLUMNS($R$105:R177)-1),\"\")","v":{"$error":"#VALUE!"}},{"$f":"IF(OFFSET([1]DE100_7!$S$105,ROWS($S$105:S177)-1,COLUMNS($S$105:S177)-1)<>\"\",OFFSET([1]DE100_7!$S$105,ROWS($S$105:S177)-1,COLUMNS($S$105:S177)-1),\"\")","v":{"$error":"#VALUE!"}},{"$f":"IF(OFFSET([1]DE100_7!$T$105,ROWS($T$105:T177)-1,COLUMNS($T$105:T177)-1)<>\"\",OFFSET([1]DE100_7!$T$105,ROWS($T$105:T177)-1,COLUMNS($T$105:T177)-1),\"\")","v":{"$error":"#VALUE!"}},{"$f":"IF(OFFSET([1]DE100_7!$U$105,ROWS($U$105:U177)-1,COLUMNS($U$105:U177)-1)<>\"\",OFFSET([1]DE100_7!$U$105,ROWS($U$105:U177)-1,COLUMNS($U$105:U177)-1),\"\")","v":{"$error":"#VALUE!"}},{"$f":"IF(OFFSET([1]DE100_7!$V$105,ROWS($V$105:V177)-1,COLUMNS($V$105:V177)-1)<>\"\",OFFSET([1]DE100_7!$V$105,ROWS($V$105:V177)-1,COLUMNS($V$105:V177)-1),\"\")","v":{"$error":"#VALUE!"}}]
[{"$f":"IF(OFFSET([1]DE100_7!$C$105,ROWS($C$105:C178)-1,COLUMNS($C$105:C178)-1)<>\"\",OFFSET([1]DE100_7!$C$105,ROWS($C$105:C178)-1,COLUMNS($C$105:C178)-1),\"\")","v":{"$error":"#VALUE!"}},{"$f":"IF(OFFSET([1]DE100_7!$D$105,ROWS($D$105:D178)-1,COLUMNS($D$105:D178)-1)<>\"\",OFFSET([1]DE100_7!$D$105,ROWS($D$105:D178)-1,COLUMNS($D$105:D178)-1),\"\")","v":{"$error":"#VALUE!"}},{"$f":"IF(OFFSET([1]DE100_7!$E$105,ROWS($E$105:E178)-1,COLUMNS($E$105:E178)-1)<>\"\",OFFSET([1]DE100_7!$E$105,ROWS($E$105:E178)-1,COLUMNS($E$105:E178)-1),\"\")","v":{"$error":"#VALUE!"}},{"$f":"IF(OFFSET([1]DE100_7!$F$105,ROWS($F$105:F178)-1,COLUMNS($F$105:F178)-1)<>\"\",OFFSET([1]DE100_7!$F$105,ROWS($F$105:F178)-1,COLUMNS($F$105:F178)-1),\"\")","v":{"$error":"#VALUE!"}},{"$f":"IF(OFFSET([1]DE100_7!$G$105,ROWS($G$105:G178)-1,COLUMNS($G$105:G178)-1)<>\"\",OFFSET([1]DE100_7!$G$105,ROWS($G$105:G178)-1,COLUMNS($G$105:G178)-1),\"\")","v":{"$error":"#VALUE!"}},{"$f":"IF(OFFSET([1]DE100_7!$H$105,ROWS($H$105:H178)-1,COLUMNS($H$105:H178)-1)<>\"\",OFFSET([1]DE100_7!$H$105,ROWS($H$105:H178)-1,COLUMNS($H$105:H178)-1),\"\")","v":{"$error":"#VALUE!"}},{"$f":"IF(OFFSET([1]DE100_7!$I$105,ROWS($I$105:I178)-1,COLUMNS($I$105:I178)-1)<>\"\",OFFSET([1]DE100_7!$I$105,ROWS($I$105:I178)-1,COLUMNS($I$105:I178)-1),\"\")","v":{"$error":"#VALUE!"}},{"$f":"IF(OFFSET([1]DE100_7!$J$105,ROWS($J$105:J178)-1,COLUMNS($J$105:J178)-1)<>\"\",OFFSET([1]DE100_7!$J$105,ROWS($J$105:J178)-1,COLUMNS($J$105:J178)-1),\"\")","v":{"$error":"#VALUE!"}},{"$f":"IF(OFFSET([1]DE100_7!$K$105,ROWS($K$105:K178)-1,COLUMNS($K$105:K178)-1)<>\"\",OFFSET([1]DE100_7!$K$105,ROWS($K$105:K178)-1,COLUMNS($K$105:K178)-1),\"\")","v":{"$error":"#VALUE!"}},{"$f":"IF(OFFSET([1]DE100_7!$L$105,ROWS($L$105:L178)-1,COLUMNS($L$105:L178)-1)<>\"\",OFFSET([1]DE100_7!$L$105,ROWS($L$105:L178)-1,COLUMNS($L$105:L178)-1),\"\")","v":{"$error":"#VALUE!"}},{"$f":"IF(OFFSET([1]DE100_7!$M$105,ROWS($M$105:M178)-1,COLUMNS($M$105:M178)-1)<>\"\",OFFSET([1]DE100_7!$M$105,ROWS($M$105:M178)-1,COLUMNS($M$105:M178)-1),\"\")","v":{"$error":"#VALUE!"}},{"$f":"IF(OFFSET([1]DE100_7!$N$105,ROWS($N$105:N178)-1,COLUMNS($N$105:N178)-1)<>\"\",OFFSET([1]DE100_7!$N$105,ROWS($N$105:N178)-1,COLUMNS($N$105:N178)-1),\"\")","v":{"$error":"#VALUE!"}},{"$f":"IF(OFFSET([1]DE100_7!$O$105,ROWS($O$105:O178)-1,COLUMNS($O$105:O178)-1)<>\"\",OFFSET([1]DE100_7!$O$105,ROWS($O$105:O178)-1,COLUMNS($O$105:O178)-1),\"\")","v":{"$error":"#VALUE!"}},{"$f":"IF(OFFSET([1]DE100_7!$P$105,ROWS($P$105:P178)-1,COLUMNS($P$105:P178)-1)<>\"\",OFFSET([1]DE100_7!$P$105,ROWS($P$105:P178)-1,COLUMNS($P$105:P178)-1),\"\")","v":{"$error":"#VALUE!"}},{"$f":"IF(OFFSET([1]DE100_7!$Q$105,ROWS($Q$105:Q178)-1,COLUMNS($Q$105:Q178)-1)<>\"\",OFFSET([1]DE100_7!$Q$105,ROWS($Q$105:Q178)-1,COLUMNS($Q$105:Q178)-1),\"\")","v":{"$error":"#VALUE!"}},{"$f":"IF(OFFSET([1]DE100_7!$R$105,ROWS($R$105:R178)-1,COLUMNS($R$105:R178)-1)<>\"\",OFFSET([1]DE100_7!$R$105,ROWS($R$105:R178)-1,COLUMNS($R$105:R178)-1),\"\")","v":{"$error":"#VALUE!"}},{"$f":"IF(OFFSET([1]DE100_7!$S$105,ROWS($S$105:S178)-1,COLUMNS($S$105:S178)-1)<>\"\",OFFSET([1]DE100_7!$S$105,ROWS($S$105:S178)-1,COLUMNS($S$105:S178)-1),\"\")","v":{"$error":"#VALUE!"}},{"$f":"IF(OFFSET([1]DE100_7!$T$105,ROWS($T$105:T178)-1,COLUMNS($T$105:T178)-1)<>\"\",OFFSET([1]DE100_7!$T$105,ROWS($T$105:T178)-1,COLUMNS($T$105:T178)-1),\"\")","v":{"$error":"#VALUE!"}},{"$f":"IF(OFFSET([1]DE100_7!$U$105,ROWS($U$105:U178)-1,COLUMNS($U$105:U178)-1)<>\"\",OFFSET([1]DE100_7!$U$105,ROWS($U$105:U178)-1,COLUMNS($U$105:U178)-1),\"\")","v":{"$error":"#VALUE!"}},{"$f":"IF(OFFSET([1]DE100_7!$V$105,ROWS($V$105:V178)-1,COLUMNS($V$105:V178)-1)<>\"\",OFFSET([1]DE100_7!$V$105,ROWS($V$105:V178)-1,COLUMNS($V$105:V178)-1),\"\")","v":{"$error":"#VALUE!"}}]
[{"$f":"IF(OFFSET([1]DE100_7!$C$105,ROWS($C$105:C179)-1,COLUMNS($C$105:C179)-1)<>\"\",OFFSET([1]DE100_7!$C$105,ROWS($C$105:C179)-1,COLUMNS($C$105:C179)-1),\"\")","v":{"$error":"#VALUE!"}},{"$f":"IF(OFFSET([1]DE100_7!$D$105,ROWS($D$105:D179)-1,COLUMNS($D$105:D179)-1)<>\"\",OFFSET([1]DE100_7!$D$105,ROWS($D$105:D179)-1,COLUMNS($D$105:D179)-1),\"\")","v":{"$error":"#VALUE!"}},{"$f":"IF(OFFSET([1]DE100_7!$E$105,ROWS($E$105:E179)-1,COLUMNS($E$105:E179)-1)<>\"\",OFFSET([1]DE100_7!$E$105,ROWS($E$105:E179)-1,COLUMNS($E$105:E179)-1),\"\")","v":{"$error":"#VALUE!"}},{"$f":"IF(OFFSET([1]DE100_7!$F$105,ROWS($F$105:F179)-1,COLUMNS($F$105:F179)-1)<>\"\",OFFSET([1]DE100_7!$F$105,ROWS($F$105:F179)-1,COLUMNS($F$105:F179)-1),\"\")","v":{"$error":"#VALUE!"}},{"$f":"IF(OFFSET([1]DE100_7!$G$105,ROWS($G$105:G179)-1,COLUMNS($G$105:G179)-1)<>\"\",OFFSET([1]DE100_7!$G$105,ROWS($G$105:G179)-1,COLUMNS($G$105:G179)-1),\"\")","v":{"$error":"#VALUE!"}},{"$f":"IF(OFFSET([1]DE100_7!$H$105,ROWS($H$105:H179)-1,COLUMNS($H$105:H179)-1)<>\"\",OFFSET([1]DE100_7!$H$105,ROWS($H$105:H179)-1,COLUMNS($H$105:H179)-1),\"\")","v":{"$error":"#VALUE!"}},{"$f":"IF(OFFSET([1]DE100_7!$I$105,ROWS($I$105:I179)-1,COLUMNS($I$105:I179)-1)<>\"\",OFFSET([1]DE100_7!$I$105,ROWS($I$105:I179)-1,COLUMNS($I$105:I179)-1),\"\")","v":{"$error":"#VALUE!"}},{"$f":"IF(OFFSET([1]DE100_7!$J$105,ROWS($J$105:J179)-1,COLUMNS($J$105:J179)-1)<>\"\",OFFSET([1]DE100_7!$J$105,ROWS($J$105:J179)-1,COLUMNS($J$105:J179)-1),\"\")","v":{"$error":"#VALUE!"}},{"$f":"IF(OFFSET([1]DE100_7!$K$105,ROWS($K$105:K179)-1,COLUMNS($K$105:K179)-1)<>\"\",OFFSET([1]DE100_7!$K$105,ROWS($K$105:K179)-1,COLUMNS($K$105:K179)-1),\"\")","v":{"$error":"#VALUE!"}},{"$f":"IF(OFFSET([1]DE100_7!$L$105,ROWS($L$105:L179)-1,COLUMNS($L$105:L179)-1)<>\"\",OFFSET([1]DE100_7!$L$105,ROWS($L$105:L179)-1,COLUMNS($L$105:L179)-1),\"\")","v":{"$error":"#VALUE!"}},{"$f":"IF(OFFSET([1]DE100_7!$M$105,ROWS($M$105:M179)-1,COLUMNS($M$105:M179)-1)<>\"\",OFFSET([1]DE100_7!$M$105,ROWS($M$105:M179)-1,COLUMNS($M$105:M179)-1),\"\")","v":{"$error":"#VALUE!"}},{"$f":"IF(OFFSET([1]DE100_7!$N$105,ROWS($N$105:N179)-1,COLUMNS($N$105:N179)-1)<>\"\",OFFSET([1]DE100_7!$N$105,ROWS($N$105:N179)-1,COLUMNS($N$105:N179)-1),\"\")","v":{"$error":"#VALUE!"}},{"$f":"IF(OFFSET([1]DE100_7!$O$105,ROWS($O$105:O179)-1,COLUMNS($O$105:O179)-1)<>\"\",OFFSET([1]DE100_7!$O$105,ROWS($O$105:O179)-1,COLUMNS($O$105:O179)-1),\"\")","v":{"$error":"#VALUE!"}},{"$f":"IF(OFFSET([1]DE100_7!$P$105,ROWS($P$105:P179)-1,COLUMNS($P$105:P179)-1)<>\"\",OFFSET([1]DE100_7!$P$105,ROWS($P$105:P179)-1,COLUMNS($P$105:P179)-1),\"\")","v":{"$error":"#VALUE!"}},{"$f":"IF(OFFSET([1]DE100_7!$Q$105,ROWS($Q$105:Q179)-1,COLUMNS($Q$105:Q179)-1)<>\"\",OFFSET([1]DE100_7!$Q$105,ROWS($Q$105:Q179)-1,COLUMNS($Q$105:Q179)-1),\"\")","v":{"$error":"#VALUE!"}},{"$f":"IF(OFFSET([1]DE100_7!$R$105,ROWS($R$105:R179)-1,COLUMNS($R$105:R179)-1)<>\"\",OFFSET([1]DE100_7!$R$105,ROWS($R$105:R179)-1,COLUMNS($R$105:R179)-1),\"\")","v":{"$error":"#VALUE!"}},{"$f":"IF(OFFSET([1]DE100_7!$S$105,ROWS($S$105:S179)-1,COLUMNS($S$105:S179)-1)<>\"\",OFFSET([1]DE100_7!$S$105,ROWS($S$105:S179)-1,COLUMNS($S$105:S179)-1),\"\")","v":{"$error":"#VALUE!"}},{"$f":"IF(OFFSET([1]DE100_7!$T$105,ROWS($T$105:T179)-1,COLUMNS($T$105:T179)-1)<>\"\",OFFSET([1]DE100_7!$T$105,ROWS($T$105:T179)-1,COLUMNS($T$105:T179)-1),\"\")","v":{"$error":"#VALUE!"}},{"$f":"IF(OFFSET([1]DE100_7!$U$105,ROWS($U$105:U179)-1,COLUMNS($U$105:U179)-1)<>\"\",OFFSET([1]DE100_7!$U$105,ROWS($U$105:U179)-1,COLUMNS($U$105:U179)-1),\"\")","v":{"$error":"#VALUE!"}},{"$f":"IF(OFFSET([1]DE100_7!$V$105,ROWS($V$105:V179)-1,COLUMNS($V$105:V179)-1)<>\"\",OFFSET([1]DE100_7!$V$105,ROWS($V$105:V179)-1,COLUMNS($V$105:V179)-1),\"\")","v":{"$error":"#VALUE!"}}]
[{"$f":"IF(OFFSET([1]DE100_7!$C$105,ROWS($C$105:C180)-1,COLUMNS($C$105:C180)-1)<>\"\",OFFSET([1]DE100_7!$C$105,ROWS($C$105:C180)-1,COLUMNS($C$105:C180)-1),\"\")","v":{"$error":"#VALUE!"}},{"$f":"IF(OFFSET([1]DE100_7!$D$105,ROWS($D$105:D180)-1,COLUMNS($D$105:D180)-1)<>\"\",OFFSET([1]DE100_7!$D$105,ROWS($D$105:D180)-1,COLUMNS($D$105:D180)-1),\"\")","v":{"$error":"#VALUE!"}},{"$f":"IF(OFFSET([1]DE100_7!$E$105,ROWS($E$105:E180)-1,COLUMNS($E$105:E180)-1)<>\"\",OFFSET([1]DE100_7!$E$105,ROWS($E$105:E180)-1,COLUMNS($E$105:E180)-1),\"\")","v":{"$error":"#VALUE!"}},{"$f":"IF(OFFSET([1]DE100_7!$F$105,ROWS($F$105:F180)-1,COLUMNS($F$105:F180)-1)<>\"\",OFFSET([1]DE100_7!$F$105,ROWS($F$105:F180)-1,COLUMNS($F$105:F180)-1),\"\")","v":{"$error":"#VALUE!"}},{"$f":"IF(OFFSET([1]DE100_7!$G$105,ROWS($G$105:G180)-1,COLUMNS($G$105:G180)-1)<>\"\",OFFSET([1]DE100_7!$G$105,ROWS($G$105:G180)-1,COLUMNS($G$105:G180)-1),\"\")","v":{"$error":"#VALUE!"}},{"$f":"IF(OFFSET([1]DE100_7!$H$105,ROWS($H$105:H180)-1,COLUMNS($H$105:H180)-1)<>\"\",OFFSET([1]DE100_7!$H$105,ROWS($H$105:H180)-1,COLUMNS($H$105:H180)-1),\"\")","v":{"$error":"#VALUE!"}},{"$f":"IF(OFFSET([1]DE100_7!$I$105,ROWS($I$105:I180)-1,COLUMNS($I$105:I180)-1)<>\"\",OFFSET([1]DE100_7!$I$105,ROWS($I$105:I180)-1,COLUMNS($I$105:I180)-1),\"\")","v":{"$error":"#VALUE!"}},{"$f":"IF(OFFSET([1]DE100_7!$J$105,ROWS($J$105:J180)-1,COLUMNS($J$105:J180)-1)<>\"\",OFFSET([1]DE100_7!$J$105,ROWS($J$105:J180)-1,COLUMNS($J$105:J180)-1),\"\")","v":{"$error":"#VALUE!"}},{"$f":"IF(OFFSET([1]DE100_7!$K$105,ROWS($K$105:K180)-1,COLUMNS($K$105:K180)-1)<>\"\",OFFSET([1]DE100_7!$K$105,ROWS($K$105:K180)-1,COLUMNS($K$105:K180)-1),\"\")","v":{"$error":"#VALUE!"}},{"$f":"IF(OFFSET([1]DE100_7!$L$105,ROWS($L$105:L180)-1,COLUMNS($L$105:L180)-1)<>\"\",OFFSET([1]DE100_7!$L$105,ROWS($L$105:L180)-1,COLUMNS($L$105:L180)-1),\"\")","v":{"$error":"#VALUE!"}},{"$f":"IF(OFFSET([1]DE100_7!$M$105,ROWS($M$105:M180)-1,COLUMNS($M$105:M180)-1)<>\"\",OFFSET([1]DE100_7!$M$105,ROWS($M$105:M180)-1,COLUMNS($M$105:M180)-1),\"\")","v":{"$error":"#VALUE!"}},{"$f":"IF(OFFSET([1]DE100_7!$N$105,ROWS($N$105:N180)-1,COLUMNS($N$105:N180)-1)<>\"\",OFFSET([1]DE100_7!$N$105,ROWS($N$105:N180)-1,COLUMNS($N$105:N180)-1),\"\")","v":{"$error":"#VALUE!"}},{"$f":"IF(OFFSET([1]DE100_7!$O$105,ROWS($O$105:O180)-1,COLUMNS($O$105:O180)-1)<>\"\",OFFSET([1]DE100_7!$O$105,ROWS($O$105:O180)-1,COLUMNS($O$105:O180)-1),\"\")","v":{"$error":"#VALUE!"}},{"$f":"IF(OFFSET([1]DE100_7!$P$105,ROWS($P$105:P180)-1,COLUMNS($P$105:P180)-1)<>\"\",OFFSET([1]DE100_7!$P$105,ROWS($P$105:P180)-1,COLUMNS($P$105:P180)-1),\"\")","v":{"$error":"#VALUE!"}},{"$f":"IF(OFFSET([1]DE100_7!$Q$105,ROWS($Q$105:Q180)-1,COLUMNS($Q$105:Q180)-1)<>\"\",OFFSET([1]DE100_7!$Q$105,ROWS($Q$105:Q180)-1,COLUMNS($Q$105:Q180)-1),\"\")","v":{"$error":"#VALUE!"}},{"$f":"IF(OFFSET([1]DE100_7!$R$105,ROWS($R$105:R180)-1,COLUMNS($R$105:R180)-1)<>\"\",OFFSET([1]DE100_7!$R$105,ROWS($R$105:R180)-1,COLUMNS($R$105:R180)-1),\"\")","v":{"$error":"#VALUE!"}},{"$f":"IF(OFFSET([1]DE100_7!$S$105,ROWS($S$105:S180)-1,COLUMNS($S$105:S180)-1)<>\"\",OFFSET([1]DE100_7!$S$105,ROWS($S$105:S180)-1,COLUMNS($S$105:S180)-1),\"\")","v":{"$error":"#VALUE!"}},{"$f":"IF(OFFSET([1]DE100_7!$T$105,ROWS($T$105:T180)-1,COLUMNS($T$105:T180)-1)<>\"\",OFFSET([1]DE100_7!$T$105,ROWS($T$105:T180)-1,COLUMNS($T$105:T180)-1),\"\")","v":{"$error":"#VALUE!"}},{"$f":"IF(OFFSET([1]DE100_7!$U$105,ROWS($U$105:U180)-1,COLUMNS($U$105:U180)-1)<>\"\",OFFSET([1]DE100_7!$U$105,ROWS($U$105:U180)-1,COLUMNS($U$105:U180)-1),\"\")","v":{"$error":"#VALUE!"}},{"$f":"IF(OFFSET([1]DE100_7!$V$105,ROWS($V$105:V180)-1,COLUMNS($V$105:V180)-1)<>\"\",OFFSET([1]DE100_7!$V$105,ROWS($V$105:V180)-1,COLUMNS($V$105:V180)-1),\"\")","v":{"$error":"#VALUE!"}}]
[{"$f":"IF(OFFSET([1]DE100_7!$C$105,ROWS($C$105:C181)-1,COLUMNS($C$105:C181)-1)<>\"\",OFFSET([1]DE100_7!$C$105,ROWS($C$105:C181)-1,COLUMNS($C$105:C181)-1),\"\")","v":{"$error":"#VALUE!"}},{"$f":"IF(OFFSET([1]DE100_7!$D$105,ROWS($D$105:D181)-1,COLUMNS($D$105:D181)-1)<>\"\",OFFSET([1]DE100_7!$D$105,ROWS($D$105:D181)-1,COLUMNS($D$105:D181)-1),\"\")","v":{"$error":"#VALUE!"}},{"$f":"IF(OFFSET([1]DE100_7!$E$105,ROWS($E$105:E181)-1,COLUMNS($E$105:E181)-1)<>\"\",OFFSET([1]DE100_7!$E$105,ROWS($E$105:E181)-1,COLUMNS($E$105:E181)-1),\"\")","v":{"$error":"#VALUE!"}},{"$f":"IF(OFFSET([1]DE100_7!$F$105,ROWS($F$105:F181)-1,COLUMNS($F$105:F181)-1)<>\"\",OFFSET([1]DE100_7!$F$105,ROWS($F$105:F181)-1,COLUMNS($F$105:F181)-1),\"\")","v":{"$error":"#VALUE!"}},{"$f":"IF(OFFSET([1]DE100_7!$G$105,ROWS($G$105:G181)-1,COLUMNS($G$105:G181)-1)<>\"\",OFFSET([1]DE100_7!$G$105,ROWS($G$105:G181)-1,COLUMNS($G$105:G181)-1),\"\")","v":{"$error":"#VALUE!"}},{"$f":"IF(OFFSET([1]DE100_7!$H$105,ROWS($H$105:H181)-1,COLUMNS($H$105:H181)-1)<>\"\",OFFSET([1]DE100_7!$H$105,ROWS($H$105:H181)-1,COLUMNS($H$105:H181)-1),\"\")","v":{"$error":"#VALUE!"}},{"$f":"IF(OFFSET([1]DE100_7!$I$105,ROWS($I$105:I181)-1,COLUMNS($I$105:I181)-1)<>\"\",OFFSET([1]DE100_7!$I$105,ROWS($I$105:I181)-1,COLUMNS($I$105:I181)-1),\"\")","v":{"$error":"#VALUE!"}},{"$f":"IF(OFFSET([1]DE100_7!$J$105,ROWS($J$105:J181)-1,COLUMNS($J$105:J181)-1)<>\"\",OFFSET([1]DE100_7!$J$105,ROWS($J$105:J181)-1,COLUMNS($J$105:J181)-1),\"\")","v":{"$error":"#VALUE!"}},{"$f":"IF(OFFSET([1]DE100_7!$K$105,ROWS($K$105:K181)-1,COLUMNS($K$105:K181)-1)<>\"\",OFFSET([1]DE100_7!$K$105,ROWS($K$105:K181)-1,COLUMNS($K$105:K181)-1),\"\")","v":{"$error":"#VALUE!"}},{"$f":"IF(OFFSET([1]DE100_7!$L$105,ROWS($L$105:L181)-1,COLUMNS($L$105:L181)-1)<>\"\",OFFSET([1]DE100_7!$L$105,ROWS($L$105:L181)-1,COLUMNS($L$105:L181)-1),\"\")","v":{"$error":"#VALUE!"}},{"$f":"IF(OFFSET([1]DE100_7!$M$105,ROWS($M$105:M181)-1,COLUMNS($M$105:M181)-1)<>\"\",OFFSET([1]DE100_7!$M$105,ROWS($M$105:M181)-1,COLUMNS($M$105:M181)-1),\"\")","v":{"$error":"#VALUE!"}},{"$f":"IF(OFFSET([1]DE100_7!$N$105,ROWS($N$105:N181)-1,COLUMNS($N$105:N181)-1)<>\"\",OFFSET([1]DE100_7!$N$105,ROWS($N$105:N181)-1,COLUMNS($N$105:N181)-1),\"\")","v":{"$error":"#VALUE!"}},{"$f":"IF(OFFSET([1]DE100_7!$O$105,ROWS($O$105:O181)-1,COLUMNS($O$105:O181)-1)<>\"\",OFFSET([1]DE100_7!$O$105,ROWS($O$105:O181)-1,COLUMNS($O$105:O181)-1),\"\")","v":{"$error":"#VALUE!"}},{"$f":"IF(OFFSET([1]DE100_7!$P$105,ROWS($P$105:P181)-1,COLUMNS($P$105:P181)-1)<>\"\",OFFSET([1]DE100_7!$P$105,ROWS($P$105:P181)-1,COLUMNS($P$105:P181)-1),\"\")","v":{"$error":"#VALUE!"}},{"$f":"IF(OFFSET([1]DE100_7!$Q$105,ROWS($Q$105:Q181)-1,COLUMNS($Q$105:Q181)-1)<>\"\",OFFSET([1]DE100_7!$Q$105,ROWS($Q$105:Q181)-1,COLUMNS($Q$105:Q181)-1),\"\")","v":{"$error":"#VALUE!"}},{"$f":"IF(OFFSET([1]DE100_7!$R$105,ROWS($R$105:R181)-1,COLUMNS($R$105:R181)-1)<>\"\",OFFSET([1]DE100_7!$R$105,ROWS($R$105:R181)-1,COLUMNS($R$105:R181)-1),\"\")","v":{"$error":"#VALUE!"}},{"$f":"IF(OFFSET([1]DE100_7!$S$105,ROWS($S$105:S181)-1,COLUMNS($S$105:S181)-1)<>\"\",OFFSET([1]DE100_7!$S$105,ROWS($S$105:S181)-1,COLUMNS($S$105:S181)-1),\"\")","v":{"$error":"#VALUE!"}},{"$f":"IF(OFFSET([1]DE100_7!$T$105,ROWS($T$105:T181)-1,COLUMNS($T$105:T181)-1)<>\"\",OFFSET([1]DE100_7!$T$105,ROWS($T$105:T181)-1,COLUMNS($T$105:T181)-1),\"\")","v":{"$error":"#VALUE!"}},{"$f":"IF(OFFSET([1]DE100_7!$U$105,ROWS($U$105:U181)-1,COLUMNS($U$105:U181)-1)<>\"\",OFFSET([1]DE100_7!$U$105,ROWS($U$105:U181)-1,COLUMNS($U$105:U181)-1),\"\")","v":{"$error":"#VALUE!"}},{"$f":"IF(OFFSET([1]DE100_7!$V$105,ROWS($V$105:V181)-1,COLUMNS($V$105:V181)-1)<>\"\",OFFSET([1]DE100_7!$V$105,ROWS($V$105:V181)-1,COLUMNS($V$105:V181)-1),\"\")","v":{"$error":"#VALUE!"}}]
[{"$f":"IF(OFFSET([1]DE100_7!$C$105,ROWS($C$105:C182)-1,COLUMNS($C$105:C182)-1)<>\"\",OFFSET([1]DE100_7!$C$105,ROWS($C$105:C182)-1,COLUMNS($C$105:C182)-1),\"\")","v":{"$error":"#VALUE!"}},{"$f":"IF(OFFSET([1]DE100_7!$D$105,ROWS($D$105:D182)-1,COLUMNS($D$105:D182)-1)<>\"\",OFFSET([1]DE100_7!$D$105,ROWS($D$105:D182)-1,COLUMNS($D$105:D182)-1),\"\")","v":{"$error":"#VALUE!"}},{"$f":"IF(OFFSET([1]DE100_7!$E$105,ROWS($E$105:E182)-1,COLUMNS($E$105:E182)-1)<>\"\",OFFSET([1]DE100_7!$E$105,ROWS($E$105:E182)-1,COLUMNS($E$105:E182)-1),\"\")","v":{"$error":"#VALUE!"}},{"$f":"IF(OFFSET([1]DE100_7!$F$105,ROWS($F$105:F182)-1,COLUMNS($F$105:F182)-1)<>\"\",OFFSET([1]DE100_7!$F$105,ROWS($F$105:F182)-1,COLUMNS($F$105:F182)-1),\"\")","v":{"$error":"#VALUE!"}},{"$f":"IF(OFFSET([1]DE100_7!$G$105,ROWS($G$105:G182)-1,COLUMNS($G$105:G182)-1)<>\"\",OFFSET([1]DE100_7!$G$105,ROWS($G$105:G182)-1,COLUMNS($G$105:G182)-1),\"\")","v":{"$error":"#VALUE!"}},{"$f":"IF(OFFSET([1]DE100_7!$H$105,ROWS($H$105:H182)-1,COLUMNS($H$105:H182)-1)<>\"\",OFFSET([1]DE100_7!$H$105,ROWS($H$105:H182)-1,COLUMNS($H$105:H182)-1),\"\")","v":{"$error":"#VALUE!"}},{"$f":"IF(OFFSET([1]DE100_7!$I$105,ROWS($I$105:I182)-1,COLUMNS($I$105:I182)-1)<>\"\",OFFSET([1]DE100_7!$I$105,ROWS($I$105:I182)-1,COLUMNS($I$105:I182)-1),\"\")","v":{"$error":"#VALUE!"}},{"$f":"IF(OFFSET([1]DE100_7!$J$105,ROWS($J$105:J182)-1,COLUMNS($J$105:J182)-1)<>\"\",OFFSET([1]DE100_7!$J$105,ROWS($J$105:J182)-1,COLUMNS($J$105:J182)-1),\"\")","v":{"$error":"#VALUE!"}},{"$f":"IF(OFFSET([1]DE100_7!$K$105,ROWS($K$105:K182)-1,COLUMNS($K$105:K182)-1)<>\"\",OFFSET([1]DE100_7!$K$105,ROWS($K$105:K182)-1,COLUMNS($K$105:K182)-1),\"\")","v":{"$error":"#VALUE!"}},{"$f":"IF(OFFSET([1]DE100_7!$L$105,ROWS($L$105:L182)-1,COLUMNS($L$105:L182)-1)<>\"\",OFFSET([1]DE100_7!$L$105,ROWS($L$105:L182)-1,COLUMNS($L$105:L182)-1),\"\")","v":{"$error":"#VALUE!"}},{"$f":"IF(OFFSET([1]DE100_7!$M$105,ROWS($M$105:M182)-1,COLUMNS($M$105:M182)-1)<>\"\",OFFSET([1]DE100_7!$M$105,ROWS($M$105:M182)-1,COLUMNS($M$105:M182)-1),\"\")","v":{"$error":"#VALUE!"}},{"$f":"IF(OFFSET([1]DE100_7!$N$105,ROWS($N$105:N182)-1,COLUMNS($N$105:N182)-1)<>\"\",OFFSET([1]DE100_7!$N$105,ROWS($N$105:N182)-1,COLUMNS($N$105:N182)-1),\"\")","v":{"$error":"#VALUE!"}},{"$f":"IF(OFFSET([1]DE100_7!$O$105,ROWS($O$105:O182)-1,COLUMNS($O$105:O182)-1)<>\"\",OFFSET([1]DE100_7!$O$105,ROWS($O$105:O182)-1,COLUMNS($O$105:O182)-1),\"\")","v":{"$error":"#VALUE!"}},{"$f":"IF(OFFSET([1]DE100_7!$P$105,ROWS($P$105:P182)-1,COLUMNS($P$105:P182)-1)<>\"\",OFFSET([1]DE100_7!$P$105,ROWS($P$105:P182)-1,COLUMNS($P$105:P182)-1),\"\")","v":{"$error":"#VALUE!"}},{"$f":"IF(OFFSET([1]DE100_7!$Q$105,ROWS($Q$105:Q182)-1,COLUMNS($Q$105:Q182)-1)<>\"\",OFFSET([1]DE100_7!$Q$105,ROWS($Q$105:Q182)-1,COLUMNS($Q$105:Q182)-1),\"\")","v":{"$error":"#VALUE!"}},{"$f":"IF(OFFSET([1]DE100_7!$R$105,ROWS($R$105:R182)-1,COLUMNS($R$105:R182)-1)<>\"\",OFFSET([1]DE100_7!$R$105,ROWS($R$105:R182)-1,COLUMNS($R$105:R182)-1),\"\")","v":{"$error":"#VALUE!"}},{"$f":"IF(OFFSET([1]DE100_7!$S$105,ROWS($S$105:S182)-1,COLUMNS($S$105:S182)-1)<>\"\",OFFSET([1]DE100_7!$S$105,ROWS($S$105:S182)-1,COLUMNS($S$105:S182)-1),\"\")","v":{"$error":"#VALUE!"}},{"$f":"IF(OFFSET([1]DE100_7!$T$105,ROWS($T$105:T182)-1,COLUMNS($T$105:T182)-1)<>\"\",OFFSET([1]DE100_7!$T$105,ROWS($T$105:T182)-1,COLUMNS($T$105:T182)-1),\"\")","v":{"$error":"#VALUE!"}},{"$f":"IF(OFFSET([1]DE100_7!$U$105,ROWS($U$105:U182)-1,COLUMNS($U$105:U182)-1)<>\"\",OFFSET([1]DE100_7!$U$105,ROWS($U$105:U182)-1,COLUMNS($U$105:U182)-1),\"\")","v":{"$error":"#VALUE!"}},{"$f":"IF(OFFSET([1]DE100_7!$V$105,ROWS($V$105:V182)-1,COLUMNS($V$105:V182)-1)<>\"\",OFFSET([1]DE100_7!$V$105,ROWS($V$105:V182)-1,COLUMNS($V$105:V182)-1),\"\")","v":{"$error":"#VALUE!"}}]
["100-7"]
["2012-10-16"]
["FENCING"]
[]
[" * Bid Item"]
["Refer to MI-101, MI-102, MI-103, MI-104, 510-3, and 510-5"]
["Location",null,null,null,"Side","Chain Link",null,null,null,"Deer",null,null,null,"Field",null,null,null,"Channel Crossing",null,"Remarks"]
["From",null,"To"]
["Station","Offset","Station","Offset",null,"Fence",null,"Gate",null,"Fence Length*","Brace Panels*","Gate",null,"Fence Length*","Brace Panels*","Gate"]
[null,null,null,null,null,"Length*","Type","No.*","Type",null,null,"No.*","Type",null,null,"No.*","Type","Length*","Type"]
[]
[null,null,null,null,null,"LF",null,"EACH",null,"LF","EACH","EACH",null,"LF","EACH","EACH",null,"LF"]
[{"$f":"IF(OFFSET([1]DE100_7!$C$183,ROWS($C$183:C183)-1,COLUMNS($C$183:C183)-1)<>\"\",OFFSET([1]DE100_7!$C$183,ROWS($C$183:C183)-1,COLUMNS($C$183:C183)-1),\"\")","v":{"$error":"#VALUE!"}},{"$f":"IF(OFFSET([1]DE100_7!$D$183,ROWS($D$183:D183)-1,COLUMNS($D$183:D183)-1)<>\"\",OFFSET([1]DE100_7!$D$183,ROWS($D$183:D183)-1,COLUMNS($D$183:D183)-1),\"\")","v":{"$error":"#VALUE!"}},{"$f":"IF(OFFSET([1]DE100_7!$E$183,ROWS($E$183:E183)-1,COLUMNS($E$183:E183)-1)<>\"\",OFFSET([1]DE100_7!$E$183,ROWS($E$183:E183)-1,COLUMNS($E$183:E183)-1),\"\")","v":{"$error":"#VALUE!"}},{"$f":"IF(OFFSET([1]DE100_7!$F$183,ROWS($F$183:F183)-1,COLUMNS($F$183:F183)-1)<>\"\",OFFSET([1]DE100_7!$F$183,ROWS($F$183:F183)-1,COLUMNS($F$183:F183)-1),\"\")","v":{"$error":"#VALUE!"}},{"$f":"IF(OFFSET([1]DE100_7!$G$183,ROWS($G$183:G183)-1,COLUMNS($G$183:G183)-1)<>\"\",OFFSET([1]DE100_7!$G$183,ROWS($G$183:G183)-1,COLUMNS($G$183:G183)-1),\"\")","v":{"$error":"#VALUE!"}},{"$f":"IF(OFFSET([1]DE100_7!$H$183,ROWS($H$183:H183)-1,COLUMNS($H$183:H183)-1)<>\"\",OFFSET([1]DE100_7!$H$183,ROWS($H$183:H183)-1,COLUMNS($H$183:H183)-1),\"\")","v":{"$error":"#VALUE!"}},{"$f":"IF(OFFSET([1]DE100_7!$I$183,ROWS($I$183:I183)-1,COLUMNS($I$183:I183)-1)<>\"\",OFFSET([1]DE100_7!$I$183,ROWS($I$183:I183)-1,COLUMNS($I$183:I183)-1),\"\")","v":{"$error":"#VALUE!"}},{"$f":"IF(OFFSET([1]DE100_7!$J$183,ROWS($J$183:J183)-1,COLUMNS($J$183:J183)-1)<>\"\",OFFSET([1]DE100_7!$J$183,ROWS($J$183:J183)-1,COLUMNS($J$183:J183)-1),\"\")","v":{"$error":"#VALUE!"}},{"$f":"IF(OFFSET([1]DE100_7!$K$183,ROWS($K$183:K183)-1,COLUMNS($K$183:K183)-1)<>\"\",OFFSET([1]DE100_7!$K$183,ROWS($K$183:K183)-1,COLUMNS($K$183:K183)-1),\"\")","v":{"$error":"#VALUE!"}},{"$f":"IF(OFFSET([1]DE100_7!$L$183,ROWS($L$183:L183)-1,COLUMNS($L$183:L183)-1)<>\"\",OFFSET([1]DE100_7!$L$183,ROWS($L$183:L183)-1,COLUMNS($L$183:L183)-1),\"\")","v":{"$error":"#VALUE!"}},{"$f":"IF(OFFSET([1]DE100_7!$M$183,ROWS($M$183:M183)-1,COLUMNS($M$183:M183)-1)<>\"\",OFFSET([1]DE100_7!$M$183,ROWS($M$183:M183)-1,COLUMNS($M$183:M183)-1),\"\")","v":{"$error":"#VALUE!"}},{"$f":"IF(OFFSET([1]DE100_7!$N$183,ROWS($N$183:N183)-1,COLUMNS($N$183:N183)-1)<>\"\",OFFSET([1]DE100_7!$N$183,ROWS($N$183:N183)-1,COLUMNS($N$183:N183)-1),\"\")","v":{"$error":"#VALUE!"}},{"$f":"IF(OFFSET([1]DE100_7!$O$183,ROWS($O$183:O183)-1,COLUMNS($O$183:O183)-1)<>\"\",OFFSET([1]DE100_7!$O$183,ROWS($O$183:O183)-1,COLUMNS($O$183:O183)-1),\"\")","v":{"$error":"#VALUE!"}},{"$f":"IF(OFFSET([1]DE100_7!$P$183,ROWS($P$183:P183)-1,COLUMNS($P$183:P183)-1)<>\"\",OFFSET([1]DE100_7!$P$183,ROWS($P$183:P183)-1,COLUMNS($P$183:P183)-1),\"\")","v":{"$error":"#VALUE!"}},{"$f":"IF(OFFSET([1]DE100_7!$Q$183,ROWS($Q$183:Q183)-1,COLUMNS($Q$183:Q183)-1)<>\"\",OFFSET([1]DE100_7!$Q$183,ROWS($Q$183:Q183)-1,COLUMNS($Q$183:Q183)-1),\"\")","v":{"$error":"#VALUE!"}},{"$f":"IF(OFFSET([1]DE100_7!$R$183,ROWS($R$183:R183)-1,COLUMNS($R$183:R183)-1)<>\"\",OFFSET([1]DE100_7!$R$183,ROWS($R$183:R183)-1,COLUMNS($R$183:R183)-1),\"\")","v":{"$error":"#VALUE!"}},{"$f":"IF(OFFSET([1]DE100_7!$S$183,ROWS($S$183:S183)-1,COLUMNS($S$183:S183)-1)<>\"\",OFFSET([1]DE100_7!$S$183,ROWS($S$183:S183)-1,COLUMNS($S$183:S183)-1),\"\")","v":{"$error":"#VALUE!"}},{"$f":"IF(OFFSET([1]DE100_7!$T$183,ROWS($T$183:T183)-1,COLUMNS($T$183:T183)-1)<>\"\",OFFSET([1]DE100_7!$T$183,ROWS($T$183:T183)-1,COLUMNS($T$183:T183)-1),\"\")","v":{"$error":"#VALUE!"}},{"$f":"IF(OFFSET([1]DE100_7!$U$183,ROWS($U$183:U183)-1,COLUMNS($U$183:U183)-1)<>\"\",OFFSET([1]DE100_7!$U$183,ROWS($U$183:U183)-1,COLUMNS($U$183:U183)-1),\"\")","v":{"$error":"#VALUE!"}},{"$f":"IF(OFFSET([1]DE100_7!$V$183,ROWS($V$183:V183)-1,COLUMNS($V$183:V183)-1)<>\"\",OFFSET([1]DE100_7!$V$183,ROWS($V$183:V183)-1,COLUMNS($V$183:V183)-1),\"\")","v":{"$error":"#VALUE!"}}]
[{"$f":"IF(OFFSET([1]DE100_7!$C$183,ROWS($C$183:C184)-1,COLUMNS($C$183:C184)-1)<>\"\",OFFSET([1]DE100_7!$C$183,ROWS($C$183:C184)-1,COLUMNS($C$183:C184)-1),\"\")","v":{"$error":"#VALUE!"}},{"$f":"IF(OFFSET([1]DE100_7!$D$183,ROWS($D$183:D184)-1,COLUMNS($D$183:D184)-1)<>\"\",OFFSET([1]DE100_7!$D$183,ROWS($D$183:D184)-1,COLUMNS($D$183:D184)-1),\"\")","v":{"$error":"#VALUE!"}},{"$f":"IF(OFFSET([1]DE100_7!$E$183,ROWS($E$183:E184)-1,COLUMNS($E$183:E184)-1)<>\"\",OFFSET([1]DE100_7!$E$183,ROWS($E$183:E184)-1,COLUMNS($E$183:E184)-1),\"\")","v":{"$error":"#VALUE!"}},{"$f":"IF(OFFSET([1]DE100_7!$F$183,ROWS($F$183:F184)-1,COLUMNS($F$183:F184)-1)<>\"\",OFFSET([1]DE100_7!$F$183,ROWS($F$183:F184)-1,COLUMNS($F$183:F184)-1),\"\")","v":{"$error":"#VALUE!"}},{"$f":"IF(OFFSET([1]DE100_7!$G$183,ROWS($G$183:G184)-1,COLUMNS($G$183:G184)-1)<>\"\",OFFSET([1]DE100_7!$G$183,ROWS($G$183:G184)-1,COLUMNS($G$183:G184)-1),\"\")","v":{"$error":"#VALUE!"}},{"$f":"IF(OFFSET([1]DE100_7!$H$183,ROWS($H$183:H184)-1,COLUMNS($H$183:H184)-1)<>\"\",OFFSET([1]DE100_7!$H$183,ROWS($H$183:H184)-1,COLUMNS($H$183:H184)-1),\"\")","v":{"$error":"#VALUE!"}},{"$f":"IF(OFFSET([1]DE100_7!$I$183,ROWS($I$183:I184)-1,COLUMNS($I$183:I184)-1)<>\"\",OFFSET([1]DE100_7!$I$183,ROWS($I$183:I184)-1,COLUMNS($I$183:I184)-1),\"\")","v":{"$error":"#VALUE!"}},{"$f":"IF(OFFSET([1]DE100_7!$J$183,ROWS($J$183:J184)-1,COLUMNS($J$183:J184)-1)<>\"\",OFFSET([1]DE100_7!$J$183,ROWS($J$183:J184)-1,COLUMNS($J$183:J184)-1),\"\")","v":{"$error":"#VALUE!"}},{"$f":"IF(OFFSET([1]DE100_7!$K$183,ROWS($K$183:K184)-1,COLUMNS($K$183:K184)-1)<>\"\",OFFSET([1]DE100_7!$K$183,ROWS($K$183:K184)-1,COLUMNS($K$183:K184)-1),\"\")","v":{"$error":"#VALUE!"}},{"$f":"IF(OFFSET([1]DE100_7!$L$183,ROWS($L$183:L184)-1,COLUMNS($L$183:L184)-1)<>\"\",OFFSET([1]DE100_7!$L$183,ROWS($L$183:L184)-1,COLUMNS($L$183:L184)-1),\"\")","v":{"$error":"#VALUE!"}},{"$f":"IF(OFFSET([1]DE100_7!$M$183,ROWS($M$183:M184)-1,COLUMNS($M$183:M184)-1)<>\"\",OFFSET([1]DE100_7!$M$183,ROWS($M$183:M184)-1,COLUMNS($M$183:M184)-1),\"\")","v":{"$error":"#VALUE!"}},{"$f":"IF(OFFSET([1]DE100_7!$N$183,ROWS($N$183:N184)-1,COLUMNS($N$183:N184)-1)<>\"\",OFFSET([1]DE100_7!$N$183,ROWS($N$183:N184)-1,COLUMNS($N$183:N184)-1),\"\")","v":{"$error":"#VALUE!"}},{"$f":"IF(OFFSET([1]DE100_7!$O$183,ROWS($O$183:O184)-1,COLUMNS($O$183:O184)-1)<>\"\",OFFSET([1]DE100_7!$O$183,ROWS($O$183:O184)-1,COLUMNS($O$183:O184)-1),\"\")","v":{"$error":"#VALUE!"}},{"$f":"IF(OFFSET([1]DE100_7!$P$183,ROWS($P$183:P184)-1,COLUMNS($P$183:P184)-1)<>\"\",OFFSET([1]DE100_7!$P$183,ROWS($P$183:P184)-1,COLUMNS($P$183:P184)-1),\"\")","v":{"$error":"#VALUE!"}},{"$f":"IF(OFFSET([1]DE100_7!$Q$183,ROWS($Q$183:Q184)-1,COLUMNS($Q$183:Q184)-1)<>\"\",OFFSET([1]DE100_7!$Q$183,ROWS($Q$183:Q184)-1,COLUMNS($Q$183:Q184)-1),\"\")","v":{"$error":"#VALUE!"}},{"$f":"IF(OFFSET([1]DE100_7!$R$183,ROWS($R$183:R184)-1,COLUMNS($R$183:R184)-1)<>\"\",OFFSET([1]DE100_7!$R$183,ROWS($R$183:R184)-1,COLUMNS($R$183:R184)-1),\"\")","v":{"$error":"#VALUE!"}},{"$f":"IF(OFFSET([1]DE100_7!$S$183,ROWS($S$183:S184)-1,COLUMNS($S$183:S184)-1)<>\"\",OFFSET([1]DE100_7!$S$183,ROWS($S$183:S184)-1,COLUMNS($S$183:S184)-1),\"\")","v":{"$error":"#VALUE!"}},{"$f":"IF(OFFSET([1]DE100_7!$T$183,ROWS($T$183:T184)-1,COLUMNS($T$183:T184)-1)<>\"\",OFFSET([1]DE100_7!$T$183,ROWS($T$183:T184)-1,COLUMNS($T$183:T184)-1),\"\")","v":{"$error":"#VALUE!"}},{"$f":"IF(OFFSET([1]DE100_7!$U$183,ROWS($U$183:U184)-1,COLUMNS($U$183:U184)-1)<>\"\",OFFSET([1]DE100_7!$U$183,ROWS($U$183:U184)-1,COLUMNS($U$183:U184)-1),\"\")","v":{"$error":"#VALUE!"}},{"$f":"IF(OFFSET([1]DE100_7!$V$183,ROWS($V$183:V184)-1,COLUMNS($V$183:V184)-1)<>\"\",OFFSET([1]DE100_7!$V$183,ROWS($V$183:V184)-1,COLUMNS($V$183:V184)-1),\"\")","v":{"$error":"#VALUE!"}}]
[{"$f":"IF(OFFSET([1]DE100_7!$C$183,ROWS($C$183:C185)-1,COLUMNS($C$183:C185)-1)<>\"\",OFFSET([1]DE100_7!$C$183,ROWS($C$183:C185)-1,COLUMNS($C$183:C185)-1),\"\")","v":{"$error":"#VALUE!"}},null,null,null,{"$f":"IF(OFFSET([1]DE100_7!$G$183,ROWS($G$183:G185)-1,COLUMNS($G$183:G185)-1)<>\"\",OFFSET([1]DE100_7!$G$183,ROWS($G$183:G185)-1,COLUMNS($G$183:G185)-1),\"\")","v":{"$error":"#VALUE!"}},{"$f":"IF(OFFSET([1]DE100_7!$H$183,ROWS($H$183:H185)-1,COLUMNS($H$183:H185)-1)<>\"\",OFFSET([1]DE100_7!$H$183,ROWS($H$183:H185)-1,COLUMNS($H$183:H185)-1),\"\")","v":{"$error":"#VALUE!"}},{"$f":"IF(OFFSET([1]DE100_7!$I$183,ROWS($I$183:I185)-1,COLUMNS($I$183:I185)-1)<>\"\",OFFSET([1]DE100_7!$I$183,ROWS($I$183:I185)-1,COLUMNS($I$183:I185)-1),\"\")","v":{"$error":"#VALUE!"}},{"$f":"IF(OFFSET([1]DE100_7!$J$183,ROWS($J$183:J185)-1,COLUMNS($J$183:J185)-1)<>\"\",OFFSET([1]DE100_7!$J$183,ROWS($J$183:J185)-1,COLUMNS($J$183:J185)-1),\"\")","v":{"$error":"#VALUE!"}},{"$f":"IF(OFFSET([1]DE100_7!$K$183,ROWS($K$183:K185)-1,COLUMNS($K$183:K185)-1)<>\"\",OFFSET([1]DE100_7!$K$183,ROWS($K$183:K185)-1,COLUMNS($K$183:K185)-1),\"\")","v":{"$error":"#VALUE!"}},{"$f":"IF(OFFSET([1]DE100_7!$L$183,ROWS($L$183:L185)-1,COLUMNS($L$183:L185)-1)<>\"\",OFFSET([1]DE100_7!$L$183,ROWS($L$183:L185)-1,COLUMNS($L$183:L185)-1),\"\")","v":{"$error":"#VALUE!"}},{"$f":"IF(OFFSET([1]DE100_7!$M$183,ROWS($M$183:M185)-1,COLUMNS($M$183:M185)-1)<>\"\",OFFSET([1]DE100_7!$M$183,ROWS($M$183:M185)-1,COLUMNS($M$183:M185)-1),\"\")","v":{"$error":"#VALUE!"}},{"$f":"IF(OFFSET([1]DE100_7!$N$183,ROWS($N$183:N185)-1,COLUMNS($N$183:N185)-1)<>\"\",OFFSET([1]DE100_7!$N$183,ROWS($N$183:N185)-1,COLUMNS($N$183:N185)-1),\"\")","v":{"$error":"#VALUE!"}},{"$f":"IF(OFFSET([1]DE100_7!$O$183,ROWS($O$183:O185)-1,COLUMNS($O$183:O185)-1)<>\"\",OFFSET([1]DE100_7!$O$183,ROWS($O$183:O185)-1,COLUMNS($O$183:O185)-1),\"\")","v":{"$error":"#VALUE!"}},{"$f":"IF(OFFSET([1]DE100_7!$P$183,ROWS($P$183:P185)-1,COLUMNS($P$183:P185)-1)<>\"\",OFFSET([1]DE100_7!$P$183,ROWS($P$183:P185)-1,COLUMNS($P$183:P185)-1),\"\")","v":{"$error":"#VALUE!"}},{"$f":"IF(OFFSET([1]DE100_7!$Q$183,ROWS($Q$183:Q185)-1,COLUMNS($Q$183:Q185)-1)<>\"\",OFFSET([1]DE100_7!$Q$183,ROWS($Q$183:Q185)-1,COLUMNS($Q$183:Q185)-1),\"\")","v":{"$error":"#VALUE!"}},{"$f":"IF(OFFSET([1]DE100_7!$R$183,ROWS($R$183:R185)-1,COLUMNS($R$183:R185)-1)<>\"\",OFFSET([1]DE100_7!$R$183,ROWS($R$183:R185)-1,COLUMNS($R$183:R185)-1),\"\")","v":{"$error":"#VALUE!"}},{"$f":"IF(OFFSET([1]DE100_7!$S$183,ROWS($S$183:S185)-1,COLUMNS($S$183:S185)-1)<>\"\",OFFSET([1]DE100_7!$S$183,ROWS($S$183:S185)-1,COLUMNS($S$183:S185)-1),\"\")","v":{"$error":"#VALUE!"}},{"$f":"IF(OFFSET([1]DE100_7!$T$183,ROWS($T$183:T185)-1,COLUMNS($T$183:T185)-1)<>\"\",OFFSET([1]DE100_7!$T$183,ROWS($T$183:T185)-1,COLUMNS($T$183:T185)-1),\"\")","v":{"$error":"#VALUE!"}},{"$f":"IF(OFFSET([1]DE100_7!$U$183,ROWS($U$183:U185)-1,COLUMNS($U$183:U185)-1)<>\"\",OFFSET([1]DE100_7!$U$183,ROWS($U$183:U185)-1,COLUMNS($U$183:U185)-1),\"\")","v":{"$error":"#VALUE!"}},{"$f":"IF(OFFSET([1]DE100_7!$V$183,ROWS($V$183:V185)-1,COLUMNS($V$183:V185)-1)<>\"\",OFFSET([1]DE100_7!$V$183,ROWS($V$183:V185)-1,COLUMNS($V$183:V185)-1),\"\")","v":{"$error":"#VALUE!"}}]
[{"$f":"IF(OFFSET([1]DE100_7!$C$183,ROWS($C$183:C186)-1,COLUMNS($C$183:C186)-1)<>\"\",OFFSET([1]DE100_7!$C$183,ROWS($C$183:C186)-1,COLUMNS($C$183:C186)-1),\"\")","v":{"$error":"#VALUE!"}},{"$f":"IF(OFFSET([1]DE100_7!$D$183,ROWS($D$183:D186)-1,COLUMNS($D$183:D186)-1)<>\"\",OFFSET([1]DE100_7!$D$183,ROWS($D$183:D186)-1,COLUMNS($D$183:D186)-1),\"\")","v":{"$error":"#VALUE!"}},{"$f":"IF(OFFSET([1]DE100_7!$E$183,ROWS($E$183:E186)-1,COLUMNS($E$183:E186)-1)<>\"\",OFFSET([1]DE100_7!$E$183,ROWS($E$183:E186)-1,COLUMNS($E$183:E186)-1),\"\")","v":{"$error":"#VALUE!"}},{"$f":"IF(OFFSET([1]DE100_7!$F$183,ROWS($F$183:F186)-1,COLUMNS($F$183:F186)-1)<>\"\",OFFSET([1]DE100_7!$F$183,ROWS($F$183:F186)-1,COLUMNS($F$183:F186)-1),\"\")","v":{"$error":"#VALUE!"}},{"$f":"IF(OFFSET([1]DE100_7!$G$183,ROWS($G$183:G186)-1,COLUMNS($G$183:G186)-1)<>\"\",OFFSET([1]DE100_7!$G$183,ROWS($G$183:G186)-1,COLUMNS($G$183:G186)-1),\"\")","v":{"$error":"#VALUE!"}},{"$f":"IF(OFFSET([1]DE100_7!$H$183,ROWS($H$183:H186)-1,COLUMNS($H$183:H186)-1)<>\"\",OFFSET([1]DE100_7!$H$183,ROWS($H$183:H186)-1,COLUMNS($H$183:H186)-1),\"\")","v":{"$error":"#VALUE!"}},{"$f":"IF(OFFSET([1]DE100_7!$I$183,ROWS($I$183:I186)-1,COLUMNS($I$183:I186)-1)<>\"\",OFFSET([1]DE100_7!$I$183,ROWS($I$183:I186)-1,COLUMNS($I$183:I186)-1),\"\")","v":{"$error":"#VALUE!"}},{"$f":"IF(OFFSET([1]DE100_7!$J$183,ROWS($J$183:J186)-1,COLUMNS($J$183:J186)-1)<>\"\",OFFSET([1]DE100_7!$J$183,ROWS($J$183:J186)-1,COLUMNS($J$183:J186)-1),\"\")","v":{"$error":"#VALUE!"}},{"$f":"IF(OFFSET([1]DE100_7!$K$183,ROWS($K$183:K186)-1,COLUMNS($K$183:K186)-1)<>\"\",OFFSET([1]DE100_7!$K$183,ROWS($K$183:K186)-1,COLUMNS($K$183:K186)-1),\"\")","v":{"$error":"#VALUE!"}},{"$f":"IF(OFFSET([1]DE100_7!$L$183,ROWS($L$183:L186)-1,COLUMNS($L$183:L186)-1)<>\"\",OFFSET([1]DE100_7!$L$183,ROWS($L$183:L186)-1,COLUMNS($L$183:L186)-1),\"\")","v":{"$error":"#VALUE!"}},{"$f":"IF(OFFSET([1]DE100_7!$M$183,ROWS($M$183:M186)-1,COLUMNS($M$183:M186)-1)<>\"\",OFFSET([1]DE100_7!$M$183,ROWS($M$183:M186)-1,COLUMNS($M$183:M186)-1),\"\")","v":{"$error":"#VALUE!"}},{"$f":"IF(OFFSET([1]DE100_7!$N$183,ROWS($N$183:N186)-1,COLUMNS($N$183:N186)-1)<>\"\",OFFSET([1]DE100_7!$N$183,ROWS($N$183:N186)-1,COLUMNS($N$183:N186)-1),\"\")","v":{"$error":"#VALUE!"}},{"$f":"IF(OFFSET([1]DE100_7!$O$183,ROWS($O$183:O186)-1,COLUMNS($O$183:O186)-1)<>\"\",OFFSET([1]DE100_7!$O$183,ROWS($O$183:O186)-1,COLUMNS($O$183:O186)-1),\"\")","v":{"$error":"#VALUE!"}},{"$f":"IF(OFFSET([1]DE100_7!$P$183,ROWS($P$183:P186)-1,COLUMNS($P$183:P186)-1)<>\"\",OFFSET([1]DE100_7!$P$183,ROWS($P$183:P186)-1,COLUMNS($P$183:P186)-1),\"\")","v":{"$error":"#VALUE!"}},{"$f":"IF(OFFSET([1]DE100_7!$Q$183,ROWS($Q$183:Q186)-1,COLUMNS($Q$183:Q186)-1)<>\"\",OFFSET([1]DE100_7!$Q$183,ROWS($Q$183:Q186)-1,COLUMNS($Q$183:Q186)-1),\"\")","v":{"$error":"#VALUE!"}},{"$f":"IF(OFFSET([1]DE100_7!$R$183,ROWS($R$183:R186)-1,COLUMNS($R$183:R186)-1)<>\"\",OFFSET([1]DE100_7!$R$183,ROWS($R$183:R186)-1,COLUMNS($R$183:R186)-1),\"\")","v":{"$error":"#VALUE!"}},{"$f":"IF(OFFSET([1]DE100_7!$S$183,ROWS($S$183:S186)-1,COLUMNS($S$183:S186)-1)<>\"\",OFFSET([1]DE100_7!$S$183,ROWS($S$183:S186)-1,COLUMNS($S$183:S186)-1),\"\")","v":{"$error":"#VALUE!"}},{"$f":"IF(OFFSET([1]DE100_7!$T$183,ROWS($T$183:T186)-1,COLUMNS($T$183:T186)-1)<>\"\",OFFSET([1]DE100_7!$T$183,ROWS($T$183:T186)-1,COLUMNS($T$183:T186)-1),\"\")","v":{"$error":"#VALUE!"}},{"$f":"IF(OFFSET([1]DE100_7!$U$183,ROWS($U$183:U186)-1,COLUMNS($U$183:U186)-1)<>\"\",OFFSET([1]DE100_7!$U$183,ROWS($U$183:U186)-1,COLUMNS($U$183:U186)-1),\"\")","v":{"$error":"#VALUE!"}},{"$f":"IF(OFFSET([1]DE100_7!$V$183,ROWS($V$183:V186)-1,COLUMNS($V$183:V186)-1)<>\"\",OFFSET([1]DE100_7!$V$183,ROWS($V$183:V186)-1,COLUMNS($V$183:V186)-1),\"\")","v":{"$error":"#VALUE!"}}]
[{"$f":"IF(OFFSET([1]DE100_7!$C$183,ROWS($C$183:C187)-1,COLUMNS($C$183:C187)-1)<>\"\",OFFSET([1]DE100_7!$C$183,ROWS($C$183:C187)-1,COLUMNS($C$183:C187)-1),\"\")","v":{"$error":"#VALUE!"}},{"$f":"IF(OFFSET([1]DE100_7!$D$183,ROWS($D$183:D187)-1,COLUMNS($D$183:D187)-1)<>\"\",OFFSET([1]DE100_7!$D$183,ROWS($D$183:D187)-1,COLUMNS($D$183:D187)-1),\"\")","v":{"$error":"#VALUE!"}},{"$f":"IF(OFFSET([1]DE100_7!$E$183,ROWS($E$183:E187)-1,COLUMNS($E$183:E187)-1)<>\"\",OFFSET([1]DE100_7!$E$183,ROWS($E$183:E187)-1,COLUMNS($E$183:E187)-1),\"\")","v":{"$error":"#VALUE!"}},{"$f":"IF(OFFSET([1]DE100_7!$F$183,ROWS($F$183:F187)-1,COLUMNS($F$183:F187)-1)<>\"\",OFFSET([1]DE100_7!$F$183,ROWS($F$183:F187)-1,COLUMNS($F$183:F187)-1),\"\")","v":{"$error":"#VALUE!"}},{"$f":"IF(OFFSET([1]DE100_7!$G$183,ROWS($G$183:G187)-1,COLUMNS($G$183:G187)-1)<>\"\",OFFSET([1]DE100_7!$G$183,ROWS($G$183:G187)-1,COLUMNS($G$183:G187)-1),\"\")","v":{"$error":"#VALUE!"}},{"$f":"IF(OFFSET([1]DE100_7!$H$183,ROWS($H$183:H187)-1,COLUMNS($H$183:H187)-1)<>\"\",OFFSET([1]DE100_7!$H$183,ROWS($H$183:H187)-1,COLUMNS($H$183:H187)-1),\"\")","v":{"$error":"#VALUE!"}},{"$f":"IF(OFFSET([1]DE100_7!$I$183,ROWS($I$183:I187)-1,COLUMNS($I$183:I187)-1)<>\"\",OFFSET([1]DE100_7!$I$183,ROWS($I$183:I187)-1,COLUMNS($I$183:I187)-1),\"\")","v":{"$error":"#VALUE!"}},{"$f":"IF(OFFSET([1]DE100_7!$J$183,ROWS($J$183:J187)-1,COLUMNS($J$183:J187)-1)<>\"\",OFFSET([1]DE100_7!$J$183,ROWS($J$183:J187)-1,COLUMNS($J$183:J187)-1),\"\")","v":{"$error":"#VALUE!"}},{"$f":"IF(OFFSET([1]DE100_7!$K$183,ROWS($K$183:K187)-1,COLUMNS($K$183:K187)-1)<>\"\",OFFSET([1]DE100_7!$K$183,ROWS($K$183:K187)-1,COLUMNS($K$183:K187)-1),\"\")","v":{"$error":"#VALUE!"}},{"$f":"IF(OFFSET([1]DE100_7!$L$183,ROWS($L$183:L187)-1,COLUMNS($L$183:L187)-1)<>\"\",OFFSET([1]DE100_7!$L$183,ROWS($L$183:L187)-1,COLUMNS($L$183:L187)-1),\"\")","v":{"$error":"#VALUE!"}},{"$f":"IF(OFFSET([1]DE100_7!$M$183,ROWS($M$183:M187)-1,COLUMNS($M$183:M187)-1)<>\"\",OFFSET([1]DE100_7!$M$183,ROWS($M$183:M187)-1,COLUMNS($M$183:M187)-1),\"\")","v":{"$error":"#VALUE!"}},{"$f":"IF(OFFSET([1]DE100_7!$N$183,ROWS($N$183:N187)-1,COLUMNS($N$183:N187)-1)<>\"\",OFFSET([1]DE100_7!$N$183,ROWS($N$183:N187)-1,COLUMNS($N$183:N187)-1),\"\")","v":{"$error":"#VALUE!"}},{"$f":"IF(OFFSET([1]DE100_7!$O$183,ROWS($O$183:O187)-1,COLUMNS($O$183:O187)-1)<>\"\",OFFSET([1]DE100_7!$O$183,ROWS($O$183:O187)-1,COLUMNS($O$183:O187)-1),\"\")","v":{"$error":"#VALUE!"}},{"$f":"IF(OFFSET([1]DE100_7!$P$183,ROWS($P$183:P187)-1,COLUMNS($P$183:P187)-1)<>\"\",OFFSET([1]DE100_7!$P$183,ROWS($P$183:P187)-1,COLUMNS($P$183:P187)-1),\"\")","v":{"$error":"#VALUE!"}},{"$f":"IF(OFFSET([1]DE100_7!$Q$183,ROWS($Q$183:Q187)-1,COLUMNS($Q$183:Q187)-1)<>\"\",OFFSET([1]DE100_7!$Q$183,ROWS($Q$183:Q187)-1,COLUMNS($Q$183:Q187)-1),\"\")","v":{"$error":"#VALUE!"}},{"$f":"IF(OFFSET([1]DE100_7!$R$183,ROWS($R$183:R187)-1,COLUMNS($R$183:R187)-1)<>\"\",OFFSET([1]DE100_7!$R$183,ROWS($R$183:R187)-1,COLUMNS($R$183:R187)-1),\"\")","v":{"$error":"#VALUE!"}},{"$f":"IF(OFFSET([1]DE100_7!$S$183,ROWS($S$183:S187)-1,COLUMNS($S$183:S187)-1)<>\"\",OFFSET([1]DE100_7!$S$183,ROWS($S$183:S187)-1,COLUMNS($S$183:S187)-1),\"\")","v":{"$error":"#VALUE!"}},{"$f":"IF(OFFSET([1]DE100_7!$T$183,ROWS($T$183:T187)-1,COLUMNS($T$183:T187)-1)<>\"\",OFFSET([1]DE100_7!$T$183,ROWS($T$183:T187)-1,COLUMNS($T$183:T187)-1),\"\")","v":{"$error":"#VALUE!"}},{"$f":"IF(OFFSET([1]DE100_7!$U$183,ROWS($U$183:U187)-1,COLUMNS($U$183:U187)-1)<>\"\",OFFSET([1]DE100_7!$U$183,ROWS($U$183:U187)-1,COLUMNS($U$183:U187)-1),\"\")","v":{"$error":"#VALUE!"}},{"$f":"IF(OFFSET([1]DE100_7!$V$183,ROWS($V$183:V187)-1,COLUMNS($V$183:V187)-1)<>\"\",OFFSET([1]DE100_7!$V$183,ROWS($V$183:V187)-1,COLUMNS($V$183:V187)-1),\"\")","v":{"$error":"#VALUE!"}}]
[{"$f":"IF(OFFSET([1]DE100_7!$C$183,ROWS($C$183:C188)-1,COLUMNS($C$183:C188)-1)<>\"\",OFFSET([1]DE100_7!$C$183,ROWS($C$183:C188)-1,COLUMNS($C$183:C188)-1),\"\")","v":{"$error":"#VALUE!"}},{"$f":"IF(OFFSET([1]DE100_7!$D$183,ROWS($D$183:D188)-1,COLUMNS($D$183:D188)-1)<>\"\",OFFSET([1]DE100_7!$D$183,ROWS($D$183:D188)-1,COLUMNS($D$183:D188)-1),\"\")","v":{"$error":"#VALUE!"}},{"$f":"IF(OFFSET([1]DE100_7!$E$183,ROWS($E$183:E188)-1,COLUMNS($E$183:E188)-1)<>\"\",OFFSET([1]DE100_7!$E$183,ROWS($E$183:E188)-1,COLUMNS($E$183:E188)-1),\"\")","v":{"$error":"#VALUE!"}},{"$f":"IF(OFFSET([1]DE100_7!$F$183,ROWS($F$183:F188)-1,COLUMNS($F$183:F188)-1)<>\"\",OFFSET([1]DE100_7!$F$183,ROWS($F$183:F188)-1,COLUMNS($F$183:F188)-1),\"\")","v":{"$error":"#VALUE!"}},{"$f":"IF(OFFSET([1]DE100_7!$G$183,ROWS($G$183:G188)-1,COLUMNS($G$183:G188)-1)<>\"\",OFFSET([1]DE100_7!$G$183,ROWS($G$183:G188)-1,COLUMNS($G$183:G188)-1),\"\")","v":{"$error":"#VALUE!"}},{"$f":"IF(OFFSET([1]DE100_7!$H$183,ROWS($H$183:H188)-1,COLUMNS($H$183:H188)-1)<>\"\",OFFSET([1]DE100_7!$H$183,ROWS($H$183:H188)-1,COLUMNS($H$183:H188)-1),\"\")","v":{"$error":"#VALUE!"}},{"$f":"IF(OFFSET([1]DE100_7!$I$183,ROWS($I$183:I188)-1,COLUMNS($I$183:I188)-1)<>\"\",OFFSET([1]DE100_7!$I$183,ROWS($I$183:I188)-1,COLUMNS($I$183:I188)-1),\"\")","v":{"$error":"#VALUE!"}},{"$f":"IF(OFFSET([1]DE100_7!$J$183,ROWS($J$183:J188)-1,COLUMNS($J$183:J188)-1)<>\"\",OFFSET([1]DE100_7!$J$183,ROWS($J$183:J188)-1,COLUMNS($J$183:J188)-1),\"\")","v":{"$error":"#VALUE!"}},{"$f":"IF(OFFSET([1]DE100_7!$K$183,ROWS($K$183:K188)-1,COLUMNS($K$183:K188)-1)<>\"\",OFFSET([1]DE100_7!$K$183,ROWS($K$183:K188)-1,COLUMNS($K$183:K188)-1),\"\")","v":{"$error":"#VALUE!"}},{"$f":"IF(OFFSET([1]DE100_7!$L$183,ROWS($L$183:L188)-1,COLUMNS($L$183:L188)-1)<>\"\",OFFSET([1]DE100_7!$L$183,ROWS($L$183:L188)-1,COLUMNS($L$183:L188)-1),\"\")","v":{"$error":"#VALUE!"}},{"$f":"IF(OFFSET([1]DE100_7!$M$183,ROWS($M$183:M188)-1,COLUMNS($M$183:M188)-1)<>\"\",OFFSET([1]DE100_7!$M$183,ROWS($M$183:M188)-1,COLUMNS($M$183:M188)-1),\"\")","v":{"$error":"#VALUE!"}},{"$f":"IF(OFFSET([1]DE100_7!$N$183,ROWS($N$183:N188)-1,COLUMNS($N$183:N188)-1)<>\"\",OFFSET([1]DE100_7!$N$183,ROWS($N$183:N188)-1,COLUMNS($N$183:N188)-1),\"\")","v":{"$error":"#VALUE!"}},{"$f":"IF(OFFSET([1]DE100_7!$O$183,ROWS($O$183:O188)-1,COLUMNS($O$183:O188)-1)<>\"\",OFFSET([1]DE100_7!$O$183,ROWS($O$183:O188)-1,COLUMNS($O$183:O188)-1),\"\")","v":{"$error":"#VALUE!"}},{"$f":"IF(OFFSET([1]DE100_7!$P$183,ROWS($P$183:P188)-1,COLUMNS($P$183:P188)-1)<>\"\",OFFSET([1]DE100_7!$P$183,ROWS($P$183:P188)-1,COLUMNS($P$183:P188)-1),\"\")","v":{"$error":"#VALUE!"}},{"$f":"IF(OFFSET([1]DE100_7!$Q$183,ROWS($Q$183:Q188)-1,COLUMNS($Q$183:Q188)-1)<>\"\",OFFSET([1]DE100_7!$Q$183,ROWS($Q$183:Q188)-1,COLUMNS($Q$183:Q188)-1),\"\")","v":{"$error":"#VALUE!"}},{"$f":"IF(OFFSET([1]DE100_7!$R$183,ROWS($R$183:R188)-1,COLUMNS($R$183:R188)-1)<>\"\",OFFSET([1]DE100_7!$R$183,ROWS($R$183:R188)-1,COLUMNS($R$183:R188)-1),\"\")","v":{"$error":"#VALUE!"}},{"$f":"IF(OFFSET([1]DE100_7!$S$183,ROWS($S$183:S188)-1,COLUMNS($S$183:S188)-1)<>\"\",OFFSET([1]DE100_7!$S$183,ROWS($S$183:S188)-1,COLUMNS($S$183:S188)-1),\"\")","v":{"$error":"#VALUE!"}},{"$f":"IF(OFFSET([1]DE100_7!$T$183,ROWS($T$183:T188)-1,COLUMNS($T$183:T188)-1)<>\"\",OFFSET([1]DE100_7!$T$183,ROWS($T$183:T188)-1,COLUMNS($T$183:T188)-1),\"\")","v":{"$error":"#VALUE!"}},{"$f":"IF(OFFSET([1]DE100_7!$U$183,ROWS($U$183:U188)-1,COLUMNS($U$183:U188)-1)<>\"\",OFFSET([1]DE100_7!$U$183,ROWS($U$183:U188)-1,COLUMNS($U$183:U188)-1),\"\")","v":{"$error":"#VALUE!"}},{"$f":"IF(OFFSET([1]DE100_7!$V$183,ROWS($V$183:V188)-1,COLUMNS($V$183:V188)-1)<>\"\",OFFSET([1]DE100_7!$V$183,ROWS($V$183:V188)-1,COLUMNS($V$183:V188)-1),\"\")","v":{"$error":"#VALUE!"}}]
[{"$f":"IF(OFFSET([1]DE100_7!$C$183,ROWS($C$183:C189)-1,COLUMNS($C$183:C189)-1)<>\"\",OFFSET([1]DE100_7!$C$183,ROWS($C$183:C189)-1,COLUMNS($C$183:C189)-1),\"\")","v":{"$error":"#VALUE!"}},{"$f":"IF(OFFSET([1]DE100_7!$D$183,ROWS($D$183:D189)-1,COLUMNS($D$183:D189)-1)<>\"\",OFFSET([1]DE100_7!$D$183,ROWS($D$183:D189)-1,COLUMNS($D$183:D189)-1),\"\")","v":{"$error":"#VALUE!"}},{"$f":"IF(OFFSET([1]DE100_7!$E$183,ROWS($E$183:E189)-1,COLUMNS($E$183:E189)-1)<>\"\",OFFSET([1]DE100_7!$E$183,ROWS($E$183:E189)-1,COLUMNS($E$183:E189)-1),\"\")","v":{"$error":"#VALUE!"}},{"$f":"IF(OFFSET([1]DE100_7!$F$183,ROWS($F$183:F189)-1,COLUMNS($F$183:F189)-1)<>\"\",OFFSET([1]DE100_7!$F$183,ROWS($F$183:F189)-1,COLUMNS($F$183:F189)-1),\"\")","v":{"$error":"#VALUE!"}},{"$f":"IF(OFFSET([1]DE100_7!$G$183,ROWS($G$183:G189)-1,COLUMNS($G$183:G189)-1)<>\"\",OFFSET([1]DE100_7!$G$183,ROWS($G$183:G189)-1,COLUMNS($G$183:G189)-1),\"\")","v":{"$error":"#VALUE!"}},{"$f":"IF(OFFSET([1]DE100_7!$H$183,ROWS($H$183:H189)-1,COLUMNS($H$183:H189)-1)<>\"\",OFFSET([1]DE100_7!$H$183,ROWS($H$183:H189)-1,COLUMNS($H$183:H189)-1),\"\")","v":{"$error":"#VALUE!"}},{"$f":"IF(OFFSET([1]DE100_7!$I$183,ROWS($I$183:I189)-1,COLUMNS($I$183:I189)-1)<>\"\",OFFSET([1]DE100_7!$I$183,ROWS($I$183:I189)-1,COLUMNS($I$183:I189)-1),\"\")","v":{"$error":"#VALUE!"}},{"$f":"IF(OFFSET([1]DE100_7!$J$183,ROWS($J$183:J189)-1,COLUMNS($J$183:J189)-1)<>\"\",OFFSET([1]DE100_7!$J$183,ROWS($J$183:J189)-1,COLUMNS($J$183:J189)-1),\"\")","v":{"$error":"#VALUE!"}},{"$f":"IF(OFFSET([1]DE100_7!$K$183,ROWS($K$183:K189)-1,COLUMNS($K$183:K189)-1)<>\"\",OFFSET([1]DE100_7!$K$183,ROWS($K$183:K189)-1,COLUMNS($K$183:K189)-1),\"\")","v":{"$error":"#VALUE!"}},{"$f":"IF(OFFSET([1]DE100_7!$L$183,ROWS($L$183:L189)-1,COLUMNS($L$183:L189)-1)<>\"\",OFFSET([1]DE100_7!$L$183,ROWS($L$183:L189)-1,COLUMNS($L$183:L189)-1),\"\")","v":{"$error":"#VALUE!"}},{"$f":"IF(OFFSET([1]DE100_7!$M$183,ROWS($M$183:M189)-1,COLUMNS($M$183:M189)-1)<>\"\",OFFSET([1]DE100_7!$M$183,ROWS($M$183:M189)-1,COLUMNS($M$183:M189)-1),\"\")","v":{"$error":"#VALUE!"}},{"$f":"IF(OFFSET([1]DE100_7!$N$183,ROWS($N$183:N189)-1,COLUMNS($N$183:N189)-1)<>\"\",OFFSET([1]DE100_7!$N$183,ROWS($N$183:N189)-1,COLUMNS($N$183:N189)-1),\"\")","v":{"$error":"#VALUE!"}},{"$f":"IF(OFFSET([1]DE100_7!$O$183,ROWS($O$183:O189)-1,COLUMNS($O$183:O189)-1)<>\"\",OFFSET([1]DE100_7!$O$183,ROWS($O$183:O189)-1,COLUMNS($O$183:O189)-1),\"\")","v":{"$error":"#VALUE!"}},{"$f":"IF(OFFSET([1]DE100_7!$P$183,ROWS($P$183:P189)-1,COLUMNS($P$183:P189)-1)<>\"\",OFFSET([1]DE100_7!$P$183,ROWS($P$183:P189)-1,COLUMNS($P$183:P189)-1),\"\")","v":{"$error":"#VALUE!"}},{"$f":"IF(OFFSET([1]DE100_7!$Q$183,ROWS($Q$183:Q189)-1,COLUMNS($Q$183:Q189)-1)<>\"\",OFFSET([1]DE100_7!$Q$183,ROWS($Q$183:Q189)-1,COLUMNS($Q$183:Q189)-1),\"\")","v":{"$error":"#VALUE!"}},{"$f":"IF(OFFSET([1]DE100_7!$R$183,ROWS($R$183:R189)-1,COLUMNS($R$183:R189)-1)<>\"\",OFFSET([1]DE100_7!$R$183,ROWS($R$183:R189)-1,COLUMNS($R$183:R189)-1),\"\")","v":{"$error":"#VALUE!"}},{"$f":"IF(OFFSET([1]DE100_7!$S$183,ROWS($S$183:S189)-1,COLUMNS($S$183:S189)-1)<>\"\",OFFSET([1]DE100_7!$S$183,ROWS($S$183:S189)-1,COLUMNS($S$183:S189)-1),\"\")","v":{"$error":"#VALUE!"}},{"$f":"IF(OFFSET([1]DE100_7!$T$183,ROWS($T$183:T189)-1,COLUMNS($T$183:T189)-1)<>\"\",OFFSET([1]DE100_7!$T$183,ROWS($T$183:T189)-1,COLUMNS($T$183:T189)-1),\"\")","v":{"$error":"#VALUE!"}},{"$f":"IF(OFFSET([1]DE100_7!$U$183,ROWS($U$183:U189)-1,COLUMNS($U$183:U189)-1)<>\"\",OFFSET([1]DE100_7!$U$183,ROWS($U$183:U189)-1,COLUMNS($U$183:U189)-1),\"\")","v":{"$error":"#VALUE!"}},{"$f":"IF(OFFSET([1]DE100_7!$V$183,ROWS($V$183:V189)-1,COLUMNS($V$183:V189)-1)<>\"\",OFFSET([1]DE100_7!$V$183,ROWS($V$183:V189)-1,COLUMNS($V$183:V189)-1),\"\")","v":{"$error":"#VALUE!"}}]
[{"$f":"IF(OFFSET([1]DE100_7!$C$183,ROWS($C$183:C190)-1,COLUMNS($C$183:C190)-1)<>\"\",OFFSET([1]DE100_7!$C$183,ROWS($C$183:C190)-1,COLUMNS($C$183:C190)-1),\"\")","v":{"$error":"#VALUE!"}},{"$f":"IF(OFFSET([1]DE100_7!$D$183,ROWS($D$183:D190)-1,COLUMNS($D$183:D190)-1)<>\"\",OFFSET([1]DE100_7!$D$183,ROWS($D$183:D190)-1,COLUMNS($D$183:D190)-1),\"\")","v":{"$error":"#VALUE!"}},{"$f":"IF(OFFSET([1]DE100_7!$E$183,ROWS($E$183:E190)-1,COLUMNS($E$183:E190)-1)<>\"\",OFFSET([1]DE100_7!$E$183,ROWS($E$183:E190)-1,COLUMNS($E$183:E190)-1),\"\")","v":{"$error":"#VALUE!"}},{"$f":"IF(OFFSET([1]DE100_7!$F$183,ROWS($F$183:F190)-1,COLUMNS($F$183:F190)-1)<>\"\",OFFSET([1]DE100_7!$F$183,ROWS($F$183:F190)-1,COLUMNS($F$183:F190)-1),\"\")","v":{"$error":"#VALUE!"}},{"$f":"IF(OFFSET([1]DE100_7!$G$183,ROWS($G$183:G190)-1,COLUMNS($G$183:G190)-1)<>\"\",OFFSET([1]DE100_7!$G$183,ROWS($G$183:G190)-1,COLUMNS($G$183:G190)-1),\"\")","v":{"$error":"#VALUE!"}},{"$f":"IF(OFFSET([1]DE100_7!$H$183,ROWS($H$183:H190)-1,COLUMNS($H$183:H190)-1)<>\"\",OFFSET([1]DE100_7!$H$183,ROWS($H$183:H190)-1,COLUMNS($H$183:H190)-1),\"\")","v":{"$error":"#VALUE!"}},{"$f":"IF(OFFSET([1]DE100_7!$I$183,ROWS($I$183:I190)-1,COLUMNS($I$183:I190)-1)<>\"\",OFFSET([1]DE100_7!$I$183,ROWS($I$183:I190)-1,COLUMNS($I$183:I190)-1),\"\")","v":{"$error":"#VALUE!"}},{"$f":"IF(OFFSET([1]DE100_7!$J$183,ROWS($J$183:J190)-1,COLUMNS($J$183:J190)-1)<>\"\",OFFSET([1]DE100_7!$J$183,ROWS($J$183:J190)-1,COLUMNS($J$183:J190)-1),\"\")","v":{"$error":"#VALUE!"}},{"$f":"IF(OFFSET([1]DE100_7!$K$183,ROWS($K$183:K190)-1,COLUMNS($K$183:K190)-1)<>\"\",OFFSET([1]DE100_7!$K$183,ROWS($K$183:K190)-1,COLUMNS($K$183:K190)-1),\"\")","v":{"$error":"#VALUE!"}},{"$f":"IF(OFFSET([1]DE100_7!$L$183,ROWS($L$183:L190)-1,COLUMNS($L$183:L190)-1)<>\"\",OFFSET([1]DE100_7!$L$183,ROWS($L$183:L190)-1,COLUMNS($L$183:L190)-1),\"\")","v":{"$error":"#VALUE!"}},{"$f":"IF(OFFSET([1]DE100_7!$M$183,ROWS($M$183:M190)-1,COLUMNS($M$183:M190)-1)<>\"\",OFFSET([1]DE100_7!$M$183,ROWS($M$183:M190)-1,COLUMNS($M$183:M190)-1),\"\")","v":{"$error":"#VALUE!"}},{"$f":"IF(OFFSET([1]DE100_7!$N$183,ROWS($N$183:N190)-1,COLUMNS($N$183:N190)-1)<>\"\",OFFSET([1]DE100_7!$N$183,ROWS($N$183:N190)-1,COLUMNS($N$183:N190)-1),\"\")","v":{"$error":"#VALUE!"}},{"$f":"IF(OFFSET([1]DE100_7!$O$183,ROWS($O$183:O190)-1,COLUMNS($O$183:O190)-1)<>\"\",OFFSET([1]DE100_7!$O$183,ROWS($O$183:O190)-1,COLUMNS($O$183:O190)-1),\"\")","v":{"$error":"#VALUE!"}},{"$f":"IF(OFFSET([1]DE100_7!$P$183,ROWS($P$183:P190)-1,COLUMNS($P$183:P190)-1)<>\"\",OFFSET([1]DE100_7!$P$183,ROWS($P$183:P190)-1,COLUMNS($P$183:P190)-1),\"\")","v":{"$error":"#VALUE!"}},{"$f":"IF(OFFSET([1]DE100_7!$Q$183,ROWS($Q$183:Q190)-1,COLUMNS($Q$183:Q190)-1)<>\"\",OFFSET([1]DE100_7!$Q$183,ROWS($Q$183:Q190)-1,COLUMNS($Q$183:Q190)-1),\"\")","v":{"$error":"#VALUE!"}},{"$f":"IF(OFFSET([1]DE100_7!$R$183,ROWS($R$183:R190)-1,COLUMNS($R$183:R190)-1)<>\"\",OFFSET([1]DE100_7!$R$183,ROWS($R$183:R190)-1,COLUMNS($R$183:R190)-1),\"\")","v":{"$error":"#VALUE!"}},{"$f":"IF(OFFSET([1]DE100_7!$S$183,ROWS($S$183:S190)-1,COLUMNS($S$183:S190)-1)<>\"\",OFFSET([1]DE100_7!$S$183,ROWS($S$183:S190)-1,COLUMNS($S$183:S190)-1),\"\")","v":{"$error":"#VALUE!"}},{"$f":"IF(OFFSET([1]DE100_7!$T$183,ROWS($T$183:T190)-1,COLUMNS($T$183:T190)-1)<>\"\",OFFSET([1]DE100_7!$T$183,ROWS($T$183:T190)-1,COLUMNS($T$183:T190)-1),\"\")","v":{"$error":"#VALUE!"}},{"$f":"IF(OFFSET([1]DE100_7!$U$183,ROWS($U$183:U190)-1,COLUMNS($U$183:U190)-1)<>\"\",OFFSET([1]DE100_7!$U$183,ROWS($U$183:U190)-1,COLUMNS($U$183:U190)-1),\"\")","v":{"$error":"#VALUE!"}},{"$f":"IF(OFFSET([1]DE100_7!$V$183,ROWS($V$183:V190)-1,COLUMNS($V$183:V190)-1)<>\"\",OFFSET([1]DE100_7!$V$183,ROWS($V$183:V190)-1,COLUMNS($V$183:V190)-1),\"\")","v":{"$error":"#VALUE!"}}]
[{"$f":"IF(OFFSET([1]DE100_7!$C$183,ROWS($C$183:C191)-1,COLUMNS($C$183:C191)-1)<>\"\",OFFSET([1]DE100_7!$C$183,ROWS($C$183:C191)-1,COLUMNS($C$183:C191)-1),\"\")","v":{"$error":"#VALUE!"}},null,null,null,{"$f":"IF(OFFSET([1]DE100_7!$G$183,ROWS($G$183:G191)-1,COLUMNS($G$183:G191)-1)<>\"\",OFFSET([1]DE100_7!$G$183,ROWS($G$183:G191)-1,COLUMNS($G$183:G191)-1),\"\")","v":{"$error":"#VALUE!"}},{"$f":"IF(OFFSET([1]DE100_7!$H$183,ROWS($H$183:H191)-1,COLUMNS($H$183:H191)-1)<>\"\",OFFSET([1]DE100_7!$H$183,ROWS($H$183:H191)-1,COLUMNS($H$183:H191)-1),\"\")","v":{"$error":"#VALUE!"}},{"$f":"IF(OFFSET([1]DE100_7!$I$183,ROWS($I$183:I191)-1,COLUMNS($I$183:I191)-1)<>\"\",OFFSET([1]DE100_7!$I$183,ROWS($I$183:I191)-1,COLUMNS($I$183:I191)-1),\"\")","v":{"$error":"#VALUE!"}},{"$f":"IF(OFFSET([1]DE100_7!$J$183,ROWS($J$183:J191)-1,COLUMNS($J$183:J191)-1)<>\"\",OFFSET([1]DE100_7!$J$183,ROWS($J$183:J191)-1,COLUMNS($J$183:J191)-1),\"\")","v":{"$error":"#VALUE!"}},{"$f":"IF(OFFSET([1]DE100_7!$K$183,ROWS($K$183:K191)-1,COLUMNS($K$183:K191)-1)<>\"\",OFFSET([1]DE100_7!$K$183,ROWS($K$183:K191)-1,COLUMNS($K$183:K191)-1),\"\")","v":{"$error":"#VALUE!"}},{"$f":"IF(OFFSET([1]DE100_7!$L$183,ROWS($L$183:L191)-1,COLUMNS($L$183:L191)-1)<>\"\",OFFSET([1]DE100_7!$L$183,ROWS($L$183:L191)-1,COLUMNS($L$183:L191)-1),\"\")","v":{"$error":"#VALUE!"}},{"$f":"IF(OFFSET([1]DE100_7!$M$183,ROWS($M$183:M191)-1,COLUMNS($M$183:M191)-1)<>\"\",OFFSET([1]DE100_7!$M$183,ROWS($M$183:M191)-1,COLUMNS($M$183:M191)-1),\"\")","v":{"$error":"#VALUE!"}},{"$f":"IF(OFFSET([1]DE100_7!$N$183,ROWS($N$183:N191)-1,COLUMNS($N$183:N191)-1)<>\"\",OFFSET([1]DE100_7!$N$183,ROWS($N$183:N191)-1,COLUMNS($N$183:N191)-1),\"\")","v":{"$error":"#VALUE!"}},{"$f":"IF(OFFSET([1]DE100_7!$O$183,ROWS($O$183:O191)-1,COLUMNS($O$183:O191)-1)<>\"\",OFFSET([1]DE100_7!$O$183,ROWS($O$183:O191)-1,COLUMNS($O$183:O191)-1),\"\")","v":{"$error":"#VALUE!"}},{"$f":"IF(OFFSET([1]DE100_7!$P$183,ROWS($P$183:P191)-1,COLUMNS($P$183:P191)-1)<>\"\",OFFSET([1]DE100_7!$P$183,ROWS($P$183:P191)-1,COLUMNS($P$183:P191)-1),\"\")","v":{"$error":"#VALUE!"}},{"$f":"IF(OFFSET([1]DE100_7!$Q$183,ROWS($Q$183:Q191)-1,COLUMNS($Q$183:Q191)-1)<>\"\",OFFSET([1]DE100_7!$Q$183,ROWS($Q$183:Q191)-1,COLUMNS($Q$183:Q191)-1),\"\")","v":{"$error":"#VALUE!"}},{"$f":"IF(OFFSET([1]DE100_7!$R$183,ROWS($R$183:R191)-1,COLUMNS($R$183:R191)-1)<>\"\",OFFSET([1]DE100_7!$R$183,ROWS($R$183:R191)-1,COLUMNS($R$183:R191)-1),\"\")","v":{"$error":"#VALUE!"}},{"$f":"IF(OFFSET([1]DE100_7!$S$183,ROWS($S$183:S191)-1,COLUMNS($S$183:S191)-1)<>\"\",OFFSET([1]DE100_7!$S$183,ROWS($S$183:S191)-1,COLUMNS($S$183:S191)-1),\"\")","v":{"$error":"#VALUE!"}},{"$f":"IF(OFFSET([1]DE100_7!$T$183,ROWS($T$183:T191)-1,COLUMNS($T$183:T191)-1)<>\"\",OFFSET([1]DE100_7!$T$183,ROWS($T$183:T191)-1,COLUMNS($T$183:T191)-1),\"\")","v":{"$error":"#VALUE!"}},{"$f":"IF(OFFSET([1]DE100_7!$U$183,ROWS($U$183:U191)-1,COLUMNS($U$183:U191)-1)<>\"\",OFFSET([1]DE100_7!$U$183,ROWS($U$183:U191)-1,COLUMNS($U$183:U191)-1),\"\")","v":{"$error":"#VALUE!"}},{"$f":"IF(OFFSET([1]DE100_7!$V$183,ROWS($V$183:V191)-1,COLUMNS($V$183:V191)-1)<>\"\",OFFSET([1]DE100_7!$V$183,ROWS($V$183:V191)-1,COLUMNS($V$183:V191)-1),\"\")","v":{"$error":"#VALUE!"}}]
[{"$f":"IF(OFFSET([1]DE100_7!$C$183,ROWS($C$183:C192)-1,COLUMNS($C$183:C192)-1)<>\"\",OFFSET([1]DE100_7!$C$183,ROWS($C$183:C192)-1,COLUMNS($C$183:C192)-1),\"\")","v":{"$error":"#VALUE!"}},{"$f":"IF(OFFSET([1]DE100_7!$D$183,ROWS($D$183:D192)-1,COLUMNS($D$183:D192)-1)<>\"\",OFFSET([1]DE100_7!$D$183,ROWS($D$183:D192)-1,COLUMNS($D$183:D192)-1),\"\")","v":{"$error":"#VALUE!"}},{"$f":"IF(OFFSET([1]DE100_7!$E$183,ROWS($E$183:E192)-1,COLUMNS($E$183:E192)-1)<>\"\",OFFSET([1]DE100_7!$E$183,ROWS($E$183:E192)-1,COLUMNS($E$183:E192)-1),\"\")","v":{"$error":"#VALUE!"}},{"$f":"IF(OFFSET([1]DE100_7!$F$183,ROWS($F$183:F192)-1,COLUMNS($F$183:F192)-1)<>\"\",OFFSET([1]DE100_7!$F$183,ROWS($F$183:F192)-1,COLUMNS($F$183:F192)-1),\"\")","v":{"$error":"#VALUE!"}},{"$f":"IF(OFFSET([1]DE100_7!$G$183,ROWS($G$183:G192)-1,COLUMNS($G$183:G192)-1)<>\"\",OFFSET([1]DE100_7!$G$183,ROWS($G$183:G192)-1,COLUMNS($G$183:G192)-1),\"\")","v":{"$error":"#VALUE!"}},{"$f":"IF(OFFSET([1]DE100_7!$H$183,ROWS($H$183:H192)-1,COLUMNS($H$183:H192)-1)<>\"\",OFFSET([1]DE100_7!$H$183,ROWS($H$183:H192)-1,COLUMNS($H$183:H192)-1),\"\")","v":{"$error":"#VALUE!"}},{"$f":"IF(OFFSET([1]DE100_7!$I$183,ROWS($I$183:I192)-1,COLUMNS($I$183:I192)-1)<>\"\",OFFSET([1]DE100_7!$I$183,ROWS($I$183:I192)-1,COLUMNS($I$183:I192)-1),\"\")","v":{"$error":"#VALUE!"}},{"$f":"IF(OFFSET([1]DE100_7!$J$183,ROWS($J$183:J192)-1,COLUMNS($J$183:J192)-1)<>\"\",OFFSET([1]DE100_7!$J$183,ROWS($J$183:J192)-1,COLUMNS($J$183:J192)-1),\"\")","v":{"$error":"#VALUE!"}},{"$f":"IF(OFFSET([1]DE100_7!$K$183,ROWS($K$183:K192)-1,COLUMNS($K$183:K192)-1)<>\"\",OFFSET([1]DE100_7!$K$183,ROWS($K$183:K192)-1,COLUMNS($K$183:K192)-1),\"\")","v":{"$error":"#VALUE!"}},{"$f":"IF(OFFSET([1]DE100_7!$L$183,ROWS($L$183:L192)-1,COLUMNS($L$183:L192)-1)<>\"\",OFFSET([1]DE100_7!$L$183,ROWS($L$183:L192)-1,COLUMNS($L$183:L192)-1),\"\")","v":{"$error":"#VALUE!"}},{"$f":"IF(OFFSET([1]DE100_7!$M$183,ROWS($M$183:M192)-1,COLUMNS($M$183:M192)-1)<>\"\",OFFSET([1]DE100_7!$M$183,ROWS($M$183:M192)-1,COLUMNS($M$183:M192)-1),\"\")","v":{"$error":"#VALUE!"}},{"$f":"IF(OFFSET([1]DE100_7!$N$183,ROWS($N$183:N192)-1,COLUMNS($N$183:N192)-1)<>\"\",OFFSET([1]DE100_7!$N$183,ROWS($N$183:N192)-1,COLUMNS($N$183:N192)-1),\"\")","v":{"$error":"#VALUE!"}},{"$f":"IF(OFFSET([1]DE100_7!$O$183,ROWS($O$183:O192)-1,COLUMNS($O$183:O192)-1)<>\"\",OFFSET([1]DE100_7!$O$183,ROWS($O$183:O192)-1,COLUMNS($O$183:O192)-1),\"\")","v":{"$error":"#VALUE!"}},{"$f":"IF(OFFSET([1]DE100_7!$P$183,ROWS($P$183:P192)-1,COLUMNS($P$183:P192)-1)<>\"\",OFFSET([1]DE100_7!$P$183,ROWS($P$183:P192)-1,COLUMNS($P$183:P192)-1),\"\")","v":{"$error":"#VALUE!"}},{"$f":"IF(OFFSET([1]DE100_7!$Q$183,ROWS($Q$183:Q192)-1,COLUMNS($Q$183:Q192)-1)<>\"\",OFFSET([1]DE100_7!$Q$183,ROWS($Q$183:Q192)-1,COLUMNS($Q$183:Q192)-1),\"\")","v":{"$error":"#VALUE!"}},{"$f":"IF(OFFSET([1]DE100_7!$R$183,ROWS($R$183:R192)-1,COLUMNS($R$183:R192)-1)<>\"\",OFFSET([1]DE100_7!$R$183,ROWS($R$183:R192)-1,COLUMNS($R$183:R192)-1),\"\")","v":{"$error":"#VALUE!"}},{"$f":"IF(OFFSET([1]DE100_7!$S$183,ROWS($S$183:S192)-1,COLUMNS($S$183:S192)-1)<>\"\",OFFSET([1]DE100_7!$S$183,ROWS($S$183:S192)-1,COLUMNS($S$183:S192)-1),\"\")","v":{"$error":"#VALUE!"}},{"$f":"IF(OFFSET([1]DE100_7!$T$183,ROWS($T$183:T192)-1,COLUMNS($T$183:T192)-1)<>\"\",OFFSET([1]DE100_7!$T$183,ROWS($T$183:T192)-1,COLUMNS($T$183:T192)-1),\"\")","v":{"$error":"#VALUE!"}},{"$f":"IF(OFFSET([1]DE100_7!$U$183,ROWS($U$183:U192)-1,COLUMNS($U$183:U192)-1)<>\"\",OFFSET([1]DE100_7!$U$183,ROWS($U$183:U192)-1,COLUMNS($U$183:U192)-1),\"\")","v":{"$error":"#VALUE!"}},{"$f":"IF(OFFSET([1]DE100_7!$V$183,ROWS($V$183:V192)-1,COLUMNS($V$183:V192)-1)<>\"\",OFFSET([1]DE100_7!$V$183,ROWS($V$183:V192)-1,COLUMNS($V$183:V192)-1),\"\")","v":{"$error":"#VALUE!"}}]
[{"$f":"IF(OFFSET([1]DE100_7!$C$183,ROWS($C$183:C193)-1,COLUMNS($C$183:C193)-1)<>\"\",OFFSET([1]DE100_7!$C$183,ROWS($C$183:C193)-1,COLUMNS($C$183:C193)-1),\"\")","v":{"$error":"#VALUE!"}},{"$f":"IF(OFFSET([1]DE100_7!$D$183,ROWS($D$183:D193)-1,COLUMNS($D$183:D193)-1)<>\"\",OFFSET([1]DE100_7!$D$183,ROWS($D$183:D193)-1,COLUMNS($D$183:D193)-1),\"\")","v":{"$error":"#VALUE!"}},{"$f":"IF(OFFSET([1]DE100_7!$E$183,ROWS($E$183:E193)-1,COLUMNS($E$183:E193)-1)<>\"\",OFFSET([1]DE100_7!$E$183,ROWS($E$183:E193)-1,COLUMNS($E$183:E193)-1),\"\")","v":{"$error":"#VALUE!"}},{"$f":"IF(OFFSET([1]DE100_7!$F$183,ROWS($F$183:F193)-1,COLUMNS($F$183:F193)-1)<>\"\",OFFSET([1]DE100_7!$F$183,ROWS($F$183:F193)-1,COLUMNS($F$183:F193)-1),\"\")","v":{"$error":"#VALUE!"}},{"$f":"IF(OFFSET([1]DE100_7!$G$183,ROWS($G$183:G193)-1,COLUMNS($G$183:G193)-1)<>\"\",OFFSET([1]DE100_7!$G$183,ROWS($G$183:G193)-1,COLUMNS($G$183:G193)-1),\"\")","v":{"$error":"#VALUE!"}},{"$f":"IF(OFFSET([1]DE100_7!$H$183,ROWS($H$183:H193)-1,COLUMNS($H$183:H193)-1)<>\"\",OFFSET([1]DE100_7!$H$183,ROWS($H$183:H193)-1,COLUMNS($H$183:H193)-1),\"\")","v":{"$error":"#VALUE!"}},{"$f":"IF(OFFSET([1]DE100_7!$I$183,ROWS($I$183:I193)-1,COLUMNS($I$183:I193)-1)<>\"\",OFFSET([1]DE100_7!$I$183,ROWS($I$183:I193)-1,COLUMNS($I$183:I193)-1),\"\")","v":{"$error":"#VALUE!"}},{"$f":"IF(OFFSET([1]DE100_7!$J$183,ROWS($J$183:J193)-1,COLUMNS($J$183:J193)-1)<>\"\",OFFSET([1]DE100_7!$J$183,ROWS($J$183:J193)-1,COLUMNS($J$183:J193)-1),\"\")","v":{"$error":"#VALUE!"}},{"$f":"IF(OFFSET([1]DE100_7!$K$183,ROWS($K$183:K193)-1,COLUMNS($K$183:K193)-1)<>\"\",OFFSET([1]DE100_7!$K$183,ROWS($K$183:K193)-1,COLUMNS($K$183:K193)-1),\"\")","v":{"$error":"#VALUE!"}},{"$f":"IF(OFFSET([1]DE100_7!$L$183,ROWS($L$183:L193)-1,COLUMNS($L$183:L193)-1)<>\"\",OFFSET([1]DE100_7!$L$183,ROWS($L$183:L193)-1,COLUMNS($L$183:L193)-1),\"\")","v":{"$error":"#VALUE!"}},{"$f":"IF(OFFSET([1]DE100_7!$M$183,ROWS($M$183:M193)-1,COLUMNS($M$183:M193)-1)<>\"\",OFFSET([1]DE100_7!$M$183,ROWS($M$183:M193)-1,COLUMNS($M$183:M193)-1),\"\")","v":{"$error":"#VALUE!"}},{"$f":"IF(OFFSET([1]DE100_7!$N$183,ROWS($N$183:N193)-1,COLUMNS($N$183:N193)-1)<>\"\",OFFSET([1]DE100_7!$N$183,ROWS($N$183:N193)-1,COLUMNS($N$183:N193)-1),\"\")","v":{"$error":"#VALUE!"}},{"$f":"IF(OFFSET([1]DE100_7!$O$183,ROWS($O$183:O193)-1,COLUMNS($O$183:O193)-1)<>\"\",OFFSET([1]DE100_7!$O$183,ROWS($O$183:O193)-1,COLUMNS($O$183:O193)-1),\"\")","v":{"$error":"#VALUE!"}},{"$f":"IF(OFFSET([1]DE100_7!$P$183,ROWS($P$183:P193)-1,COLUMNS($P$183:P193)-1)<>\"\",OFFSET([1]DE100_7!$P$183,ROWS($P$183:P193)-1,COLUMNS($P$183:P193)-1),\"\")","v":{"$error":"#VALUE!"}},{"$f":"IF(OFFSET([1]DE100_7!$Q$183,ROWS($Q$183:Q193)-1,COLUMNS($Q$183:Q193)-1)<>\"\",OFFSET([1]DE100_7!$Q$183,ROWS($Q$183:Q193)-1,COLUMNS($Q$183:Q193)-1),\"\")","v":{"$error":"#VALUE!"}},{"$f":"IF(OFFSET([1]DE100_7!$R$183,ROWS($R$183:R193)-1,COLUMNS($R$183:R193)-1)<>\"\",OFFSET([1]DE100_7!$R$183,ROWS($R$183:R193)-1,COLUMNS($R$183:R193)-1),\"\")","v":{"$error":"#VALUE!"}},{"$f":"IF(OFFSET([1]DE100_7!$S$183,ROWS($S$183:S193)-1,COLUMNS($S$183:S193)-1)<>\"\",OFFSET([1]DE100_7!$S$183,ROWS($S$183:S193)-1,COLUMNS($S$183:S193)-1),\"\")","v":{"$error":"#VALUE!"}},{"$f":"IF(OFFSET([1]DE100_7!$T$183,ROWS($T$183:T193)-1,COLUMNS($T$183:T193)-1)<>\"\",OFFSET([1]DE100_7!$T$183,ROWS($T$183:T193)-1,COLUMNS($T$183:T193)-1),\"\")","v":{"$error":"#VALUE!"}},{"$f":"IF(OFFSET([1]DE100_7!$U$183,ROWS($U$183:U193)-1,COLUMNS($U$183:U193)-1)<>\"\",OFFSET([1]DE100_7!$U$183,ROWS($U$183:U193)-1,COLUMNS($U$183:U193)-1),\"\")","v":{"$error":"#VALUE!"}},{"$f":"IF(OFFSET([1]DE100_7!$V$183,ROWS($V$183:V193)-1,COLUMNS($V$183:V193)-1)<>\"\",OFFSET([1]DE100_7!$V$183,ROWS($V$183:V193)-1,COLUMNS($V$183:V193)-1),\"\")","v":{"$error":"#VALUE!"}}]
[{"$f":"IF(OFFSET([1]DE100_7!$C$183,ROWS($C$183:C194)-1,COLUMNS($C$183:C194)-1)<>\"\",OFFSET([1]DE100_7!$C$183,ROWS($C$183:C194)-1,COLUMNS($C$183:C194)-1),\"\")","v":{"$error":"#VALUE!"}},{"$f":"IF(OFFSET([1]DE100_7!$D$183,ROWS($D$183:D194)-1,COLUMNS($D$183:D194)-1)<>\"\",OFFSET([1]DE100_7!$D$183,ROWS($D$183:D194)-1,COLUMNS($D$183:D194)-1),\"\")","v":{"$error":"#VALUE!"}},{"$f":"IF(OFFSET([1]DE100_7!$E$183,ROWS($E$183:E194)-1,COLUMNS($E$183:E194)-1)<>\"\",OFFSET([1]DE100_7!$E$183,ROWS($E$183:E194)-1,COLUMNS($E$183:E194)-1),\"\")","v":{"$error":"#VALUE!"}},{"$f":"IF(OFFSET([1]DE100_7!$F$183,ROWS($F$183:F194)-1,COLUMNS($F$183:F194)-1)<>\"\",OFFSET([1]DE100_7!$F$183,ROWS($F$183:F194)-1,COLUMNS($F$183:F194)-1),\"\")","v":{"$error":"#VALUE!"}},{"$f":"IF(OFFSET([1]DE100_7!$G$183,ROWS($G$183:G194)-1,COLUMNS($G$183:G194)-1)<>\"\",OFFSET([1]DE100_7!$G$183,ROWS($G$183:G194)-1,COLUMNS($G$183:G194)-1),\"\")","v":{"$error":"#VALUE!"}},{"$f":"IF(OFFSET([1]DE100_7!$H$183,ROWS($H$183:H194)-1,COLUMNS($H$183:H194)-1)<>\"\",OFFSET([1]DE100_7!$H$183,ROWS($H$183:H194)-1,COLUMNS($H$183:H194)-1),\"\")","v":{"$error":"#VALUE!"}},{"$f":"IF(OFFSET([1]DE100_7!$I$183,ROWS($I$183:I194)-1,COLUMNS($I$183:I194)-1)<>\"\",OFFSET([1]DE100_7!$I$183,ROWS($I$183:I194)-1,COLUMNS($I$183:I194)-1),\"\")","v":{"$error":"#VALUE!"}},{"$f":"IF(OFFSET([1]DE100_7!$J$183,ROWS($J$183:J194)-1,COLUMNS($J$183:J194)-1)<>\"\",OFFSET([1]DE100_7!$J$183,ROWS($J$183:J194)-1,COLUMNS($J$183:J194)-1),\"\")","v":{"$error":"#VALUE!"}},{"$f":"IF(OFFSET([1]DE100_7!$K$183,ROWS($K$183:K194)-1,COLUMNS($K$183:K194)-1)<>\"\",OFFSET([1]DE100_7!$K$183,ROWS($K$183:K194)-1,COLUMNS($K$183:K194)-1),\"\")","v":{"$error":"#VALUE!"}},{"$f":"IF(OFFSET([1]DE100_7!$L$183,ROWS($L$183:L194)-1,COLUMNS($L$183:L194)-1)<>\"\",OFFSET([1]DE100_7!$L$183,ROWS($L$183:L194)-1,COLUMNS($L$183:L194)-1),\"\")","v":{"$error":"#VALUE!"}},{"$f":"IF(OFFSET([1]DE100_7!$M$183,ROWS($M$183:M194)-1,COLUMNS($M$183:M194)-1)<>\"\",OFFSET([1]DE100_7!$M$183,ROWS($M$183:M194)-1,COLUMNS($M$183:M194)-1),\"\")","v":{"$error":"#VALUE!"}},{"$f":"IF(OFFSET([1]DE100_7!$N$183,ROWS($N$183:N194)-1,COLUMNS($N$183:N194)-1)<>\"\",OFFSET([1]DE100_7!$N$183,ROWS($N$183:N194)-1,COLUMNS($N$183:N194)-1),\"\")","v":{"$error":"#VALUE!"}},{"$f":"IF(OFFSET([1]DE100_7!$O$183,ROWS($O$183:O194)-1,COLUMNS($O$183:O194)-1)<>\"\",OFFSET([1]DE100_7!$O$183,ROWS($O$183:O194)-1,COLUMNS($O$183:O194)-1),\"\")","v":{"$error":"#VALUE!"}},{"$f":"IF(OFFSET([1]DE100_7!$P$183,ROWS($P$183:P194)-1,COLUMNS($P$183:P194)-1)<>\"\",OFFSET([1]DE100_7!$P$183,ROWS($P$183:P194)-1,COLUMNS($P$183:P194)-1),\"\")","v":{"$error":"#VALUE!"}},{"$f":"IF(OFFSET([1]DE100_7!$Q$183,ROWS($Q$183:Q194)-1,COLUMNS($Q$183:Q194)-1)<>\"\",OFFSET([1]DE100_7!$Q$183,ROWS($Q$183:Q194)-1,COLUMNS($Q$183:Q194)-1),\"\")","v":{"$error":"#VALUE!"}},{"$f":"IF(OFFSET([1]DE100_7!$R$183,ROWS($R$183:R194)-1,COLUMNS($R$183:R194)-1)<>\"\",OFFSET([1]DE100_7!$R$183,ROWS($R$183:R194)-1,COLUMNS($R$183:R194)-1),\"\")","v":{"$error":"#VALUE!"}},{"$f":"IF(OFFSET([1]DE100_7!$S$183,ROWS($S$183:S194)-1,COLUMNS($S$183:S194)-1)<>\"\",OFFSET([1]DE100_7!$S$183,ROWS($S$183:S194)-1,COLUMNS($S$183:S194)-1),\"\")","v":{"$error":"#VALUE!"}},{"$f":"IF(OFFSET([1]DE100_7!$T$183,ROWS($T$183:T194)-1,COLUMNS($T$183:T194)-1)<>\"\",OFFSET([1]DE100_7!$T$183,ROWS($T$183:T194)-1,COLUMNS($T$183:T194)-1),\"\")","v":{"$error":"#VALUE!"}},{"$f":"IF(OFFSET([1]DE100_7!$U$183,ROWS($U$183:U194)-1,COLUMNS($U$183:U194)-1)<>\"\",OFFSET([1]DE100_7!$U$183,ROWS($U$183:U194)-1,COLUMNS($U$183:U194)-1),\"\")","v":{"$error":"#VALUE!"}},{"$f":"IF(OFFSET([1]DE100_7!$V$183,ROWS($V$183:V194)-1,COLUMNS($V$183:V194)-1)<>\"\",OFFSET([1]DE100_7!$V$183,ROWS($V$183:V194)-1,COLUMNS($V$183:V194)-1),\"\")","v":{"$error":"#VALUE!"}}]
[{"$f":"IF(OFFSET([1]DE100_7!$C$183,ROWS($C$183:C195)-1,COLUMNS($C$183:C195)-1)<>\"\",OFFSET([1]DE100_7!$C$183,ROWS($C$183:C195)-1,COLUMNS($C$183:C195)-1),\"\")","v":{"$error":"#VALUE!"}},{"$f":"IF(OFFSET([1]DE100_7!$D$183,ROWS($D$183:D195)-1,COLUMNS($D$183:D195)-1)<>\"\",OFFSET([1]DE100_7!$D$183,ROWS($D$183:D195)-1,COLUMNS($D$183:D195)-1),\"\")","v":{"$error":"#VALUE!"}},{"$f":"IF(OFFSET([1]DE100_7!$E$183,ROWS($E$183:E195)-1,COLUMNS($E$183:E195)-1)<>\"\",OFFSET([1]DE100_7!$E$183,ROWS($E$183:E195)-1,COLUMNS($E$183:E195)-1),\"\")","v":{"$error":"#VALUE!"}},{"$f":"IF(OFFSET([1]DE100_7!$F$183,ROWS($F$183:F195)-1,COLUMNS($F$183:F195)-1)<>\"\",OFFSET([1]DE100_7!$F$183,ROWS($F$183:F195)-1,COLUMNS($F$183:F195)-1),\"\")","v":{"$error":"#VALUE!"}},{"$f":"IF(OFFSET([1]DE100_7!$G$183,ROWS($G$183:G195)-1,COLUMNS($G$183:G195)-1)<>\"\",OFFSET([1]DE100_7!$G$183,ROWS($G$183:G195)-1,COLUMNS($G$183:G195)-1),\"\")","v":{"$error":"#VALUE!"}},{"$f":"IF(OFFSET([1]DE100_7!$H$183,ROWS($H$183:H195)-1,COLUMNS($H$183:H195)-1)<>\"\",OFFSET([1]DE100_7!$H$183,ROWS($H$183:H195)-1,COLUMNS($H$183:H195)-1),\"\")","v":{"$error":"#VALUE!"}},{"$f":"IF(OFFSET([1]DE100_7!$I$183,ROWS($I$183:I195)-1,COLUMNS($I$183:I195)-1)<>\"\",OFFSET([1]DE100_7!$I$183,ROWS($I$183:I195)-1,COLUMNS($I$183:I195)-1),\"\")","v":{"$error":"#VALUE!"}},{"$f":"IF(OFFSET([1]DE100_7!$J$183,ROWS($J$183:J195)-1,COLUMNS($J$183:J195)-1)<>\"\",OFFSET([1]DE100_7!$J$183,ROWS($J$183:J195)-1,COLUMNS($J$183:J195)-1),\"\")","v":{"$error":"#VALUE!"}},{"$f":"IF(OFFSET([1]DE100_7!$K$183,ROWS($K$183:K195)-1,COLUMNS($K$183:K195)-1)<>\"\",OFFSET([1]DE100_7!$K$183,ROWS($K$183:K195)-1,COLUMNS($K$183:K195)-1),\"\")","v":{"$error":"#VALUE!"}},{"$f":"IF(OFFSET([1]DE100_7!$L$183,ROWS($L$183:L195)-1,COLUMNS($L$183:L195)-1)<>\"\",OFFSET([1]DE100_7!$L$183,ROWS($L$183:L195)-1,COLUMNS($L$183:L195)-1),\"\")","v":{"$error":"#VALUE!"}},{"$f":"IF(OFFSET([1]DE100_7!$M$183,ROWS($M$183:M195)-1,COLUMNS($M$183:M195)-1)<>\"\",OFFSET([1]DE100_7!$M$183,ROWS($M$183:M195)-1,COLUMNS($M$183:M195)-1),\"\")","v":{"$error":"#VALUE!"}},{"$f":"IF(OFFSET([1]DE100_7!$N$183,ROWS($N$183:N195)-1,COLUMNS($N$183:N195)-1)<>\"\",OFFSET([1]DE100_7!$N$183,ROWS($N$183:N195)-1,COLUMNS($N$183:N195)-1),\"\")","v":{"$error":"#VALUE!"}},{"$f":"IF(OFFSET([1]DE100_7!$O$183,ROWS($O$183:O195)-1,COLUMNS($O$183:O195)-1)<>\"\",OFFSET([1]DE100_7!$O$183,ROWS($O$183:O195)-1,COLUMNS($O$183:O195)-1),\"\")","v":{"$error":"#VALUE!"}},{"$f":"IF(OFFSET([1]DE100_7!$P$183,ROWS($P$183:P195)-1,COLUMNS($P$183:P195)-1)<>\"\",OFFSET([1]DE100_7!$P$183,ROWS($P$183:P195)-1,COLUMNS($P$183:P195)-1),\"\")","v":{"$error":"#VALUE!"}},{"$f":"IF(OFFSET([1]DE100_7!$Q$183,ROWS($Q$183:Q195)-1,COLUMNS($Q$183:Q195)-1)<>\"\",OFFSET([1]DE100_7!$Q$183,ROWS($Q$183:Q195)-1,COLUMNS($Q$183:Q195)-1),\"\")","v":{"$error":"#VALUE!"}},{"$f":"IF(OFFSET([1]DE100_7!$R$183,ROWS($R$183:R195)-1,COLUMNS($R$183:R195)-1)<>\"\",OFFSET([1]DE100_7!$R$183,ROWS($R$183:R195)-1,COLUMNS($R$183:R195)-1),\"\")","v":{"$error":"#VALUE!"}},{"$f":"IF(OFFSET([1]DE100_7!$S$183,ROWS($S$183:S195)-1,COLUMNS($S$183:S195)-1)<>\"\",OFFSET([1]DE100_7!$S$183,ROWS($S$183:S195)-1,COLUMNS($S$183:S195)-1),\"\")","v":{"$error":"#VALUE!"}},{"$f":"IF(OFFSET([1]DE100_7!$T$183,ROWS($T$183:T195)-1,COLUMNS($T$183:T195)-1)<>\"\",OFFSET([1]DE100_7!$T$183,ROWS($T$183:T195)-1,COLUMNS($T$183:T195)-1),\"\")","v":{"$error":"#VALUE!"}},{"$f":"IF(OFFSET([1]DE100_7!$U$183,ROWS($U$183:U195)-1,COLUMNS($U$183:U195)-1)<>\"\",OFFSET([1]DE100_7!$U$183,ROWS($U$183:U195)-1,COLUMNS($U$183:U195)-1),\"\")","v":{"$error":"#VALUE!"}},{"$f":"IF(OFFSET([1]DE100_7!$V$183,ROWS($V$183:V195)-1,COLUMNS($V$183:V195)-1)<>\"\",OFFSET([1]DE100_7!$V$183,ROWS($V$183:V195)-1,COLUMNS($V$183:V195)-1),\"\")","v":{"$error":"#VALUE!"}}]
[{"$f":"IF(OFFSET([1]DE100_7!$C$183,ROWS($C$183:C196)-1,COLUMNS($C$183:C196)-1)<>\"\",OFFSET([1]DE100_7!$C$183,ROWS($C$183:C196)-1,COLUMNS($C$183:C196)-1),\"\")","v":{"$error":"#VALUE!"}},{"$f":"IF(OFFSET([1]DE100_7!$D$183,ROWS($D$183:D196)-1,COLUMNS($D$183:D196)-1)<>\"\",OFFSET([1]DE100_7!$D$183,ROWS($D$183:D196)-1,COLUMNS($D$183:D196)-1),\"\")","v":{"$error":"#VALUE!"}},{"$f":"IF(OFFSET([1]DE100_7!$E$183,ROWS($E$183:E196)-1,COLUMNS($E$183:E196)-1)<>\"\",OFFSET([1]DE100_7!$E$183,ROWS($E$183:E196)-1,COLUMNS($E$183:E196)-1),\"\")","v":{"$error":"#VALUE!"}},{"$f":"IF(OFFSET([1]DE100_7!$F$183,ROWS($F$183:F196)-1,COLUMNS($F$183:F196)-1)<>\"\",OFFSET([1]DE100_7!$F$183,ROWS($F$183:F196)-1,COLUMNS($F$183:F196)-1),\"\")","v":{"$error":"#VALUE!"}},{"$f":"IF(OFFSET([1]DE100_7!$G$183,ROWS($G$183:G196)-1,COLUMNS($G$183:G196)-1)<>\"\",OFFSET([1]DE100_7!$G$183,ROWS($G$183:G196)-1,COLUMNS($G$183:G196)-1),\"\")","v":{"$error":"#VALUE!"}},{"$f":"IF(OFFSET([1]DE100_7!$H$183,ROWS($H$183:H196)-1,COLUMNS($H$183:H196)-1)<>\"\",OFFSET([1]DE100_7!$H$183,ROWS($H$183:H196)-1,COLUMNS($H$183:H196)-1),\"\")","v":{"$error":"#VALUE!"}},{"$f":"IF(OFFSET([1]DE100_7!$I$183,ROWS($I$183:I196)-1,COLUMNS($I$183:I196)-1)<>\"\",OFFSET([1]DE100_7!$I$183,ROWS($I$183:I196)-1,COLUMNS($I$183:I196)-1),\"\")","v":{"$error":"#VALUE!"}},{"$f":"IF(OFFSET([1]DE100_7!$J$183,ROWS($J$183:J196)-1,COLUMNS($J$183:J196)-1)<>\"\",OFFSET([1]DE100_7!$J$183,ROWS($J$183:J196)-1,COLUMNS($J$183:J196)-1),\"\")","v":{"$error":"#VALUE!"}},{"$f":"IF(OFFSET([1]DE100_7!$K$183,ROWS($K$183:K196)-1,COLUMNS($K$183:K196)-1)<>\"\",OFFSET([1]DE100_7!$K$183,ROWS($K$183:K196)-1,COLUMNS($K$183:K196)-1),\"\")","v":{"$error":"#VALUE!"}},{"$f":"IF(OFFSET([1]DE100_7!$L$183,ROWS($L$183:L196)-1,COLUMNS($L$183:L196)-1)<>\"\",OFFSET([1]DE100_7!$L$183,ROWS($L$183:L196)-1,COLUMNS($L$183:L196)-1),\"\")","v":{"$error":"#VALUE!"}},{"$f":"IF(OFFSET([1]DE100_7!$M$183,ROWS($M$183:M196)-1,COLUMNS($M$183:M196)-1)<>\"\",OFFSET([1]DE100_7!$M$183,ROWS($M$183:M196)-1,COLUMNS($M$183:M196)-1),\"\")","v":{"$error":"#VALUE!"}},{"$f":"IF(OFFSET([1]DE100_7!$N$183,ROWS($N$183:N196)-1,COLUMNS($N$183:N196)-1)<>\"\",OFFSET([1]DE100_7!$N$183,ROWS($N$183:N196)-1,COLUMNS($N$183:N196)-1),\"\")","v":{"$error":"#VALUE!"}},{"$f":"IF(OFFSET([1]DE100_7!$O$183,ROWS($O$183:O196)-1,COLUMNS($O$183:O196)-1)<>\"\",OFFSET([1]DE100_7!$O$183,ROWS($O$183:O196)-1,COLUMNS($O$183:O196)-1),\"\")","v":{"$error":"#VALUE!"}},{"$f":"IF(OFFSET([1]DE100_7!$P$183,ROWS($P$183:P196)-1,COLUMNS($P$183:P196)-1)<>\"\",OFFSET([1]DE100_7!$P$183,ROWS($P$183:P196)-1,COLUMNS($P$183:P196)-1),\"\")","v":{"$error":"#VALUE!"}},{"$f":"IF(OFFSET([1]DE100_7!$Q$183,ROWS($Q$183:Q196)-1,COLUMNS($Q$183:Q196)-1)<>\"\",OFFSET([1]DE100_7!$Q$183,ROWS($Q$183:Q196)-1,COLUMNS($Q$183:Q196)-1),\"\")","v":{"$error":"#VALUE!"}},{"$f":"IF(OFFSET([1]DE100_7!$R$183,ROWS($R$183:R196)-1,COLUMNS($R$183:R196)-1)<>\"\",OFFSET([1]DE100_7!$R$183,ROWS($R$183:R196)-1,COLUMNS($R$183:R196)-1),\"\")","v":{"$error":"#VALUE!"}},{"$f":"IF(OFFSET([1]DE100_7!$S$183,ROWS($S$183:S196)-1,COLUMNS($S$183:S196)-1)<>\"\",OFFSET([1]DE100_7!$S$183,ROWS($S$183:S196)-1,COLUMNS($S$183:S196)-1),\"\")","v":{"$error":"#VALUE!"}},{"$f":"IF(OFFSET([1]DE100_7!$T$183,ROWS($T$183:T196)-1,COLUMNS($T$183:T196)-1)<>\"\",OFFSET([1]DE100_7!$T$183,ROWS($T$183:T196)-1,COLUMNS($T$183:T196)-1),\"\")","v":{"$error":"#VALUE!"}},{"$f":"IF(OFFSET([1]DE100_7!$U$183,ROWS($U$183:U196)-1,COLUMNS($U$183:U196)-1)<>\"\",OFFSET([1]DE100_7!$U$183,ROWS($U$183:U196)-1,COLUMNS($U$183:U196)-1),\"\")","v":{"$error":"#VALUE!"}},{"$f":"IF(OFFSET([1]DE100_7!$V$183,ROWS($V$183:V196)-1,COLUMNS($V$183:V196)-1)<>\"\",OFFSET([1]DE100_7!$V$183,ROWS($V$183:V196)-1,COLUMNS($V$183:V196)-1),\"\")","v":{"$error":"#VALUE!"}}]
[{"$f":"IF(OFFSET([1]DE100_7!$C$183,ROWS($C$183:C197)-1,COLUMNS($C$183:C197)-1)<>\"\",OFFSET([1]DE100_7!$C$183,ROWS($C$183:C197)-1,COLUMNS($C$183:C197)-1),\"\")","v":{"$error":"#VALUE!"}},{"$f":"IF(OFFSET([1]DE100_7!$D$183,ROWS($D$183:D197)-1,COLUMNS($D$183:D197)-1)<>\"\",OFFSET([1]DE100_7!$D$183,ROWS($D$183:D197)-1,COLUMNS($D$183:D197)-1),\"\")","v":{"$error":"#VALUE!"}},{"$f":"IF(OFFSET([1]DE100_7!$E$183,ROWS($E$183:E197)-1,COLUMNS($E$183:E197)-1)<>\"\",OFFSET([1]DE100_7!$E$183,ROWS($E$183:E197)-1,COLUMNS($E$183:E197)-1),\"\")","v":{"$error":"#VALUE!"}},{"$f":"IF(OFFSET([1]DE100_7!$F$183,ROWS($F$183:F197)-1,COLUMNS($F$183:F197)-1)<>\"\",OFFSET([1]DE100_7!$F$183,ROWS($F$183:F197)-1,COLUMNS($F$183:F197)-1),\"\")","v":{"$error":"#VALUE!"}},{"$f":"IF(OFFSET([1]DE100_7!$G$183,ROWS($G$183:G197)-1,COLUMNS($G$183:G197)-1)<>\"\",OFFSET([1]DE100_7!$G$183,ROWS($G$183:G197)-1,COLUMNS($G$183:G197)-1),\"\")","v":{"$error":"#VALUE!"}},{"$f":"IF(OFFSET([1]DE100_7!$H$183,ROWS($H$183:H197)-1,COLUMNS($H$183:H197)-1)<>\"\",OFFSET([1]DE100_7!$H$183,ROWS($H$183:H197)-1,COLUMNS($H$183:H197)-1),\"\")","v":{"$error":"#VALUE!"}},{"$f":"IF(OFFSET([1]DE100_7!$I$183,ROWS($I$183:I197)-1,COLUMNS($I$183:I197)-1)<>\"\",OFFSET([1]DE100_7!$I$183,ROWS($I$183:I197)-1,COLUMNS($I$183:I197)-1),\"\")","v":{"$error":"#VALUE!"}},{"$f":"IF(OFFSET([1]DE100_7!$J$183,ROWS($J$183:J197)-1,COLUMNS($J$183:J197)-1)<>\"\",OFFSET([1]DE100_7!$J$183,ROWS($J$183:J197)-1,COLUMNS($J$183:J197)-1),\"\")","v":{"$error":"#VALUE!"}},{"$f":"IF(OFFSET([1]DE100_7!$K$183,ROWS($K$183:K197)-1,COLUMNS($K$183:K197)-1)<>\"\",OFFSET([1]DE100_7!$K$183,ROWS($K$183:K197)-1,COLUMNS($K$183:K197)-1),\"\")","v":{"$error":"#VALUE!"}},{"$f":"IF(OFFSET([1]DE100_7!$L$183,ROWS($L$183:L197)-1,COLUMNS($L$183:L197)-1)<>\"\",OFFSET([1]DE100_7!$L$183,ROWS($L$183:L197)-1,COLUMNS($L$183:L197)-1),\"\")","v":{"$error":"#VALUE!"}},{"$f":"IF(OFFSET([1]DE100_7!$M$183,ROWS($M$183:M197)-1,COLUMNS($M$183:M197)-1)<>\"\",OFFSET([1]DE100_7!$M$183,ROWS($M$183:M197)-1,COLUMNS($M$183:M197)-1),\"\")","v":{"$error":"#VALUE!"}},{"$f":"IF(OFFSET([1]DE100_7!$N$183,ROWS($N$183:N197)-1,COLUMNS($N$183:N197)-1)<>\"\",OFFSET([1]DE100_7!$N$183,ROWS($N$183:N197)-1,COLUMNS($N$183:N197)-1),\"\")","v":{"$error":"#VALUE!"}},{"$f":"IF(OFFSET([1]DE100_7!$O$183,ROWS($O$183:O197)-1,COLUMNS($O$183:O197)-1)<>\"\",OFFSET([1]DE100_7!$O$183,ROWS($O$183:O197)-1,COLUMNS($O$183:O197)-1),\"\")","v":{"$error":"#VALUE!"}},{"$f":"IF(OFFSET([1]DE100_7!$P$183,ROWS($P$183:P197)-1,COLUMNS($P$183:P197)-1)<>\"\",OFFSET([1]DE100_7!$P$183,ROWS($P$183:P197)-1,COLUMNS($P$183:P197)-1),\"\")","v":{"$error":"#VALUE!"}},{"$f":"IF(OFFSET([1]DE100_7!$Q$183,ROWS($Q$183:Q197)-1,COLUMNS($Q$183:Q197)-1)<>\"\",OFFSET([1]DE100_7!$Q$183,ROWS($Q$183:Q197)-1,COLUMNS($Q$183:Q197)-1),\"\")","v":{"$error":"#VALUE!"}},{"$f":"IF(OFFSET([1]DE100_7!$R$183,ROWS($R$183:R197)-1,COLUMNS($R$183:R197)-1)<>\"\",OFFSET([1]DE100_7!$R$183,ROWS($R$183:R197)-1,COLUMNS($R$183:R197)-1),\"\")","v":{"$error":"#VALUE!"}},{"$f":"IF(OFFSET([1]DE100_7!$S$183,ROWS($S$183:S197)-1,COLUMNS($S$183:S197)-1)<>\"\",OFFSET([1]DE100_7!$S$183,ROWS($S$183:S197)-1,COLUMNS($S$183:S197)-1),\"\")","v":{"$error":"#VALUE!"}},{"$f":"IF(OFFSET([1]DE100_7!$T$183,ROWS($T$183:T197)-1,COLUMNS($T$183:T197)-1)<>\"\",OFFSET([1]DE100_7!$T$183,ROWS($T$183:T197)-1,COLUMNS($T$183:T197)-1),\"\")","v":{"$error":"#VALUE!"}},{"$f":"IF(OFFSET([1]DE100_7!$U$183,ROWS($U$183:U197)-1,COLUMNS($U$183:U197)-1)<>\"\",OFFSET([1]DE100_7!$U$183,ROWS($U$183:U197)-1,COLUMNS($U$183:U197)-1),\"\")","v":{"$error":"#VALUE!"}},{"$f":"IF(OFFSET([1]DE100_7!$V$183,ROWS($V$183:V197)-1,COLUMNS($V$183:V197)-1)<>\"\",OFFSET([1]DE100_7!$V$183,ROWS($V$183:V197)-1,COLUMNS($V$183:V197)-1),\"\")","v":{"$error":"#VALUE!"}}]
[{"$f":"IF(OFFSET([1]DE100_7!$C$183,ROWS($C$183:C198)-1,COLUMNS($C$183:C198)-1)<>\"\",OFFSET([1]DE100_7!$C$183,ROWS($C$183:C198)-1,COLUMNS($C$183:C198)-1),\"\")","v":{"$error":"#VALUE!"}},null,null,null,{"$f":"IF(OFFSET([1]DE100_7!$G$183,ROWS($G$183:G198)-1,COLUMNS($G$183:G198)-1)<>\"\",OFFSET([1]DE100_7!$G$183,ROWS($G$183:G198)-1,COLUMNS($G$183:G198)-1),\"\")","v":{"$error":"#VALUE!"}},{"$f":"IF(OFFSET([1]DE100_7!$H$183,ROWS($H$183:H198)-1,COLUMNS($H$183:H198)-1)<>\"\",OFFSET([1]DE100_7!$H$183,ROWS($H$183:H198)-1,COLUMNS($H$183:H198)-1),\"\")","v":{"$error":"#VALUE!"}},{"$f":"IF(OFFSET([1]DE100_7!$I$183,ROWS($I$183:I198)-1,COLUMNS($I$183:I198)-1)<>\"\",OFFSET([1]DE100_7!$I$183,ROWS($I$183:I198)-1,COLUMNS($I$183:I198)-1),\"\")","v":{"$error":"#VALUE!"}},{"$f":"IF(OFFSET([1]DE100_7!$J$183,ROWS($J$183:J198)-1,COLUMNS($J$183:J198)-1)<>\"\",OFFSET([1]DE100_7!$J$183,ROWS($J$183:J198)-1,COLUMNS($J$183:J198)-1),\"\")","v":{"$error":"#VALUE!"}},{"$f":"IF(OFFSET([1]DE100_7!$K$183,ROWS($K$183:K198)-1,COLUMNS($K$183:K198)-1)<>\"\",OFFSET([1]DE100_7!$K$183,ROWS($K$183:K198)-1,COLUMNS($K$183:K198)-1),\"\")","v":{"$error":"#VALUE!"}},{"$f":"IF(OFFSET([1]DE100_7!$L$183,ROWS($L$183:L198)-1,COLUMNS($L$183:L198)-1)<>\"\",OFFSET([1]DE100_7!$L$183,ROWS($L$183:L198)-1,COLUMNS($L$183:L198)-1),\"\")","v":{"$error":"#VALUE!"}},{"$f":"IF(OFFSET([1]DE100_7!$M$183,ROWS($M$183:M198)-1,COLUMNS($M$183:M198)-1)<>\"\",OFFSET([1]DE100_7!$M$183,ROWS($M$183:M198)-1,COLUMNS($M$183:M198)-1),\"\")","v":{"$error":"#VALUE!"}},{"$f":"IF(OFFSET([1]DE100_7!$N$183,ROWS($N$183:N198)-1,COLUMNS($N$183:N198)-1)<>\"\",OFFSET([1]DE100_7!$N$183,ROWS($N$183:N198)-1,COLUMNS($N$183:N198)-1),\"\")","v":{"$error":"#VALUE!"}},{"$f":"IF(OFFSET([1]DE100_7!$O$183,ROWS($O$183:O198)-1,COLUMNS($O$183:O198)-1)<>\"\",OFFSET([1]DE100_7!$O$183,ROWS($O$183:O198)-1,COLUMNS($O$183:O198)-1),\"\")","v":{"$error":"#VALUE!"}},{"$f":"IF(OFFSET([1]DE100_7!$P$183,ROWS($P$183:P198)-1,COLUMNS($P$183:P198)-1)<>\"\",OFFSET([1]DE100_7!$P$183,ROWS($P$183:P198)-1,COLUMNS($P$183:P198)-1),\"\")","v":{"$error":"#VALUE!"}},{"$f":"IF(OFFSET([1]DE100_7!$Q$183,ROWS($Q$183:Q198)-1,COLUMNS($Q$183:Q198)-1)<>\"\",OFFSET([1]DE100_7!$Q$183,ROWS($Q$183:Q198)-1,COLUMNS($Q$183:Q198)-1),\"\")","v":{"$error":"#VALUE!"}},{"$f":"IF(OFFSET([1]DE100_7!$R$183,ROWS($R$183:R198)-1,COLUMNS($R$183:R198)-1)<>\"\",OFFSET([1]DE100_7!$R$183,ROWS($R$183:R198)-1,COLUMNS($R$183:R198)-1),\"\")","v":{"$error":"#VALUE!"}},{"$f":"IF(OFFSET([1]DE100_7!$S$183,ROWS($S$183:S198)-1,COLUMNS($S$183:S198)-1)<>\"\",OFFSET([1]DE100_7!$S$183,ROWS($S$183:S198)-1,COLUMNS($S$183:S198)-1),\"\")","v":{"$error":"#VALUE!"}},{"$f":"IF(OFFSET([1]DE100_7!$T$183,ROWS($T$183:T198)-1,COLUMNS($T$183:T198)-1)<>\"\",OFFSET([1]DE100_7!$T$183,ROWS($T$183:T198)-1,COLUMNS($T$183:T198)-1),\"\")","v":{"$error":"#VALUE!"}},{"$f":"IF(OFFSET([1]DE100_7!$U$183,ROWS($U$183:U198)-1,COLUMNS($U$183:U198)-1)<>\"\",OFFSET([1]DE100_7!$U$183,ROWS($U$183:U198)-1,COLUMNS($U$183:U198)-1),\"\")","v":{"$error":"#VALUE!"}},{"$f":"IF(OFFSET([1]DE100_7!$V$183,ROWS($V$183:V198)-1,COLUMNS($V$183:V198)-1)<>\"\",OFFSET([1]DE100_7!$V$183,ROWS($V$183:V198)-1,COLUMNS($V$183:V198)-1),\"\")","v":{"$error":"#VALUE!"}}]
[{"$f":"IF(OFFSET([1]DE100_7!$C$183,ROWS($C$183:C199)-1,COLUMNS($C$183:C199)-1)<>\"\",OFFSET([1]DE100_7!$C$183,ROWS($C$183:C199)-1,COLUMNS($C$183:C199)-1),\"\")","v":{"$error":"#VALUE!"}},{"$f":"IF(OFFSET([1]DE100_7!$D$183,ROWS($D$183:D199)-1,COLUMNS($D$183:D199)-1)<>\"\",OFFSET([1]DE100_7!$D$183,ROWS($D$183:D199)-1,COLUMNS($D$183:D199)-1),\"\")","v":{"$error":"#VALUE!"}},{"$f":"IF(OFFSET([1]DE100_7!$E$183,ROWS($E$183:E199)-1,COLUMNS($E$183:E199)-1)<>\"\",OFFSET([1]DE100_7!$E$183,ROWS($E$183:E199)-1,COLUMNS($E$183:E199)-1),\"\")","v":{"$error":"#VALUE!"}},{"$f":"IF(OFFSET([1]DE100_7!$F$183,ROWS($F$183:F199)-1,COLUMNS($F$183:F199)-1)<>\"\",OFFSET([1]DE100_7!$F$183,ROWS($F$183:F199)-1,COLUMNS($F$183:F199)-1),\"\")","v":{"$error":"#VALUE!"}},{"$f":"IF(OFFSET([1]DE100_7!$G$183,ROWS($G$183:G199)-1,COLUMNS($G$183:G199)-1)<>\"\",OFFSET([1]DE100_7!$G$183,ROWS($G$183:G199)-1,COLUMNS($G$183:G199)-1),\"\")","v":{"$error":"#VALUE!"}},{"$f":"IF(OFFSET([1]DE100_7!$H$183,ROWS($H$183:H199)-1,COLUMNS($H$183:H199)-1)<>\"\",OFFSET([1]DE100_7!$H$183,ROWS($H$183:H199)-1,COLUMNS($H$183:H199)-1),\"\")","v":{"$error":"#VALUE!"}},{"$f":"IF(OFFSET([1]DE100_7!$I$183,ROWS($I$183:I199)-1,COLUMNS($I$183:I199)-1)<>\"\",OFFSET([1]DE100_7!$I$183,ROWS($I$183:I199)-1,COLUMNS($I$183:I199)-1),\"\")","v":{"$error":"#VALUE!"}},{"$f":"IF(OFFSET([1]DE100_7!$J$183,ROWS($J$183:J199)-1,COLUMNS($J$183:J199)-1)<>\"\",OFFSET([1]DE100_7!$J$183,ROWS($J$183:J199)-1,COLUMNS($J$183:J199)-1),\"\")","v":{"$error":"#VALUE!"}},{"$f":"IF(OFFSET([1]DE100_7!$K$183,ROWS($K$183:K199)-1,COLUMNS($K$183:K199)-1)<>\"\",OFFSET([1]DE100_7!$K$183,ROWS($K$183:K199)-1,COLUMNS($K$183:K199)-1),\"\")","v":{"$error":"#VALUE!"}},{"$f":"IF(OFFSET([1]DE100_7!$L$183,ROWS($L$183:L199)-1,COLUMNS($L$183:L199)-1)<>\"\",OFFSET([1]DE100_7!$L$183,ROWS($L$183:L199)-1,COLUMNS($L$183:L199)-1),\"\")","v":{"$error":"#VALUE!"}},{"$f":"IF(OFFSET([1]DE100_7!$M$183,ROWS($M$183:M199)-1,COLUMNS($M$183:M199)-1)<>\"\",OFFSET([1]DE100_7!$M$183,ROWS($M$183:M199)-1,COLUMNS($M$183:M199)-1),\"\")","v":{"$error":"#VALUE!"}},{"$f":"IF(OFFSET([1]DE100_7!$N$183,ROWS($N$183:N199)-1,COLUMNS($N$183:N199)-1)<>\"\",OFFSET([1]DE100_7!$N$183,ROWS($N$183:N199)-1,COLUMNS($N$183:N199)-1),\"\")","v":{"$error":"#VALUE!"}},{"$f":"IF(OFFSET([1]DE100_7!$O$183,ROWS($O$183:O199)-1,COLUMNS($O$183:O199)-1)<>\"\",OFFSET([1]DE100_7!$O$183,ROWS($O$183:O199)-1,COLUMNS($O$183:O199)-1),\"\")","v":{"$error":"#VALUE!"}},{"$f":"IF(OFFSET([1]DE100_7!$P$183,ROWS($P$183:P199)-1,COLUMNS($P$183:P199)-1)<>\"\",OFFSET([1]DE100_7!$P$183,ROWS($P$183:P199)-1,COLUMNS($P$183:P199)-1),\"\")","v":{"$error":"#VALUE!"}},{"$f":"IF(OFFSET([1]DE100_7!$Q$183,ROWS($Q$183:Q199)-1,COLUMNS($Q$183:Q199)-1)<>\"\",OFFSET([1]DE100_7!$Q$183,ROWS($Q$183:Q199)-1,COLUMNS($Q$183:Q199)-1),\"\")","v":{"$error":"#VALUE!"}},{"$f":"IF(OFFSET([1]DE100_7!$R$183,ROWS($R$183:R199)-1,COLUMNS($R$183:R199)-1)<>\"\",OFFSET([1]DE100_7!$R$183,ROWS($R$183:R199)-1,COLUMNS($R$183:R199)-1),\"\")","v":{"$error":"#VALUE!"}},{"$f":"IF(OFFSET([1]DE100_7!$S$183,ROWS($S$183:S199)-1,COLUMNS($S$183:S199)-1)<>\"\",OFFSET([1]DE100_7!$S$183,ROWS($S$183:S199)-1,COLUMNS($S$183:S199)-1),\"\")","v":{"$error":"#VALUE!"}},{"$f":"IF(OFFSET([1]DE100_7!$T$183,ROWS($T$183:T199)-1,COLUMNS($T$183:T199)-1)<>\"\",OFFSET([1]DE100_7!$T$183,ROWS($T$183:T199)-1,COLUMNS($T$183:T199)-1),\"\")","v":{"$error":"#VALUE!"}},{"$f":"IF(OFFSET([1]DE100_7!$U$183,ROWS($U$183:U199)-1,COLUMNS($U$183:U199)-1)<>\"\",OFFSET([1]DE100_7!$U$183,ROWS($U$183:U199)-1,COLUMNS($U$183:U199)-1),\"\")","v":{"$error":"#VALUE!"}},{"$f":"IF(OFFSET([1]DE100_7!$V$183,ROWS($V$183:V199)-1,COLUMNS($V$183:V199)-1)<>\"\",OFFSET([1]DE100_7!$V$183,ROWS($V$183:V199)-1,COLUMNS($V$183:V199)-1),\"\")","v":{"$error":"#VALUE!"}}]
[{"$f":"IF(OFFSET([1]DE100_7!$C$183,ROWS($C$183:C200)-1,COLUMNS($C$183:C200)-1)<>\"\",OFFSET([1]DE100_7!$C$183,ROWS($C$183:C200)-1,COLUMNS($C$183:C200)-1),\"\")","v":{"$error":"#VALUE!"}},{"$f":"IF(OFFSET([1]DE100_7!$D$183,ROWS($D$183:D200)-1,COLUMNS($D$183:D200)-1)<>\"\",OFFSET([1]DE100_7!$D$183,ROWS($D$183:D200)-1,COLUMNS($D$183:D200)-1),\"\")","v":{"$error":"#VALUE!"}},{"$f":"IF(OFFSET([1]DE100_7!$E$183,ROWS($E$183:E200)-1,COLUMNS($E$183:E200)-1)<>\"\",OFFSET([1]DE100_7!$E$183,ROWS($E$183:E200)-1,COLUMNS($E$183:E200)-1),\"\")","v":{"$error":"#VALUE!"}},{"$f":"IF(OFFSET([1]DE100_7!$F$183,ROWS($F$183:F200)-1,COLUMNS($F$183:F200)-1)<>\"\",OFFSET([1]DE100_7!$F$183,ROWS($F$183:F200)-1,COLUMNS($F$183:F200)-1),\"\")","v":{"$error":"#VALUE!"}},{"$f":"IF(OFFSET([1]DE100_7!$G$183,ROWS($G$183:G200)-1,COLUMNS($G$183:G200)-1)<>\"\",OFFSET([1]DE100_7!$G$183,ROWS($G$183:G200)-1,COLUMNS($G$183:G200)-1),\"\")","v":{"$error":"#VALUE!"}},{"$f":"IF(OFFSET([1]DE100_7!$H$183,ROWS($H$183:H200)-1,COLUMNS($H$183:H200)-1)<>\"\",OFFSET([1]DE100_7!$H$183,ROWS($H$183:H200)-1,COLUMNS($H$183:H200)-1),\"\")","v":{"$error":"#VALUE!"}},{"$f":"IF(OFFSET([1]DE100_7!$I$183,ROWS($I$183:I200)-1,COLUMNS($I$183:I200)-1)<>\"\",OFFSET([1]DE100_7!$I$183,ROWS($I$183:I200)-1,COLUMNS($I$183:I200)-1),\"\")","v":{"$error":"#VALUE!"}},{"$f":"IF(OFFSET([1]DE100_7!$J$183,ROWS($J$183:J200)-1,COLUMNS($J$183:J200)-1)<>\"\",OFFSET([1]DE100_7!$J$183,ROWS($J$183:J200)-1,COLUMNS($J$183:J200)-1),\"\")","v":{"$error":"#VALUE!"}},{"$f":"IF(OFFSET([1]DE100_7!$K$183,ROWS($K$183:K200)-1,COLUMNS($K$183:K200)-1)<>\"\",OFFSET([1]DE100_7!$K$183,ROWS($K$183:K200)-1,COLUMNS($K$183:K200)-1),\"\")","v":{"$error":"#VALUE!"}},{"$f":"IF(OFFSET([1]DE100_7!$L$183,ROWS($L$183:L200)-1,COLUMNS($L$183:L200)-1)<>\"\",OFFSET([1]DE100_7!$L$183,ROWS($L$183:L200)-1,COLUMNS($L$183:L200)-1),\"\")","v":{"$error":"#VALUE!"}},{"$f":"IF(OFFSET([1]DE100_7!$M$183,ROWS($M$183:M200)-1,COLUMNS($M$183:M200)-1)<>\"\",OFFSET([1]DE100_7!$M$183,ROWS($M$183:M200)-1,COLUMNS($M$183:M200)-1),\"\")","v":{"$error":"#VALUE!"}},{"$f":"IF(OFFSET([1]DE100_7!$N$183,ROWS($N$183:N200)-1,COLUMNS($N$183:N200)-1)<>\"\",OFFSET([1]DE100_7!$N$183,ROWS($N$183:N200)-1,COLUMNS($N$183:N200)-1),\"\")","v":{"$error":"#VALUE!"}},{"$f":"IF(OFFSET([1]DE100_7!$O$183,ROWS($O$183:O200)-1,COLUMNS($O$183:O200)-1)<>\"\",OFFSET([1]DE100_7!$O$183,ROWS($O$183:O200)-1,COLUMNS($O$183:O200)-1),\"\")","v":{"$error":"#VALUE!"}},{"$f":"IF(OFFSET([1]DE100_7!$P$183,ROWS($P$183:P200)-1,COLUMNS($P$183:P200)-1)<>\"\",OFFSET([1]DE100_7!$P$183,ROWS($P$183:P200)-1,COLUMNS($P$183:P200)-1),\"\")","v":{"$error":"#VALUE!"}},{"$f":"IF(OFFSET([1]DE100_7!$Q$183,ROWS($Q$183:Q200)-1,COLUMNS($Q$183:Q200)-1)<>\"\",OFFSET([1]DE100_7!$Q$183,ROWS($Q$183:Q200)-1,COLUMNS($Q$183:Q200)-1),\"\")","v":{"$error":"#VALUE!"}},{"$f":"IF(OFFSET([1]DE100_7!$R$183,ROWS($R$183:R200)-1,COLUMNS($R$183:R200)-1)<>\"\",OFFSET([1]DE100_7!$R$183,ROWS($R$183:R200)-1,COLUMNS($R$183:R200)-1),\"\")","v":{"$error":"#VALUE!"}},{"$f":"IF(OFFSET([1]DE100_7!$S$183,ROWS($S$183:S200)-1,COLUMNS($S$183:S200)-1)<>\"\",OFFSET([1]DE100_7!$S$183,ROWS($S$183:S200)-1,COLUMNS($S$183:S200)-1),\"\")","v":{"$error":"#VALUE!"}},{"$f":"IF(OFFSET([1]DE100_7!$T$183,ROWS($T$183:T200)-1,COLUMNS($T$183:T200)-1)<>\"\",OFFSET([1]DE100_7!$T$183,ROWS($T$183:T200)-1,COLUMNS($T$183:T200)-1),\"\")","v":{"$error":"#VALUE!"}},{"$f":"IF(OFFSET([1]DE100_7!$U$183,ROWS($U$183:U200)-1,COLUMNS($U$183:U200)-1)<>\"\",OFFSET([1]DE100_7!$U$183,ROWS($U$183:U200)-1,COLUMNS($U$183:U200)-1),\"\")","v":{"$error":"#VALUE!"}},{"$f":"IF(OFFSET([1]DE100_7!$V$183,ROWS($V$183:V200)-1,COLUMNS($V$183:V200)-1)<>\"\",OFFSET([1]DE100_7!$V$183,ROWS($V$183:V200)-1,COLUMNS($V$183:V200)-1),\"\")","v":{"$error":"#VALUE!"}}]
[{"$f":"IF(OFFSET([1]DE100_7!$C$183,ROWS($C$183:C201)-1,COLUMNS($C$183:C201)-1)<>\"\",OFFSET([1]DE100_7!$C$183,ROWS($C$183:C201)-1,COLUMNS($C$183:C201)-1),\"\")","v":{"$error":"#VALUE!"}},{"$f":"IF(OFFSET([1]DE100_7!$D$183,ROWS($D$183:D201)-1,COLUMNS($D$183:D201)-1)<>\"\",OFFSET([1]DE100_7!$D$183,ROWS($D$183:D201)-1,COLUMNS($D$183:D201)-1),\"\")","v":{"$error":"#VALUE!"}},{"$f":"IF(OFFSET([1]DE100_7!$E$183,ROWS($E$183:E201)-1,COLUMNS($E$183:E201)-1)<>\"\",OFFSET([1]DE100_7!$E$183,ROWS($E$183:E201)-1,COLUMNS($E$183:E201)-1),\"\")","v":{"$error":"#VALUE!"}},{"$f":"IF(OFFSET([1]DE100_7!$F$183,ROWS($F$183:F201)-1,COLUMNS($F$183:F201)-1)<>\"\",OFFSET([1]DE100_7!$F$183,ROWS($F$183:F201)-1,COLUMNS($F$183:F201)-1),\"\")","v":{"$error":"#VALUE!"}},{"$f":"IF(OFFSET([1]DE100_7!$G$183,ROWS($G$183:G201)-1,COLUMNS($G$183:G201)-1)<>\"\",OFFSET([1]DE100_7!$G$183,ROWS($G$183:G201)-1,COLUMNS($G$183:G201)-1),\"\")","v":{"$error":"#VALUE!"}},{"$f":"IF(OFFSET([1]DE100_7!$H$183,ROWS($H$183:H201)-1,COLUMNS($H$183:H201)-1)<>\"\",OFFSET([1]DE100_7!$H$183,ROWS($H$183:H201)-1,COLUMNS($H$183:H201)-1),\"\")","v":{"$error":"#VALUE!"}},{"$f":"IF(OFFSET([1]DE100_7!$I$183,ROWS($I$183:I201)-1,COLUMNS($I$183:I201)-1)<>\"\",OFFSET([1]DE100_7!$I$183,ROWS($I$183:I201)-1,COLUMNS($I$183:I201)-1),\"\")","v":{"$error":"#VALUE!"}},{"$f":"IF(OFFSET([1]DE100_7!$J$183,ROWS($J$183:J201)-1,COLUMNS($J$183:J201)-1)<>\"\",OFFSET([1]DE100_7!$J$183,ROWS($J$183:J201)-1,COLUMNS($J$183:J201)-1),\"\")","v":{"$error":"#VALUE!"}},{"$f":"IF(OFFSET([1]DE100_7!$K$183,ROWS($K$183:K201)-1,COLUMNS($K$183:K201)-1)<>\"\",OFFSET([1]DE100_7!$K$183,ROWS($K$183:K201)-1,COLUMNS($K$183:K201)-1),\"\")","v":{"$error":"#VALUE!"}},{"$f":"IF(OFFSET([1]DE100_7!$L$183,ROWS($L$183:L201)-1,COLUMNS($L$183:L201)-1)<>\"\",OFFSET([1]DE100_7!$L$183,ROWS($L$183:L201)-1,COLUMNS($L$183:L201)-1),\"\")","v":{"$error":"#VALUE!"}},{"$f":"IF(OFFSET([1]DE100_7!$M$183,ROWS($M$183:M201)-1,COLUMNS($M$183:M201)-1)<>\"\",OFFSET([1]DE100_7!$M$183,ROWS($M$183:M201)-1,COLUMNS($M$183:M201)-1),\"\")","v":{"$error":"#VALUE!"}},{"$f":"IF(OFFSET([1]DE100_7!$N$183,ROWS($N$183:N201)-1,COLUMNS($N$183:N201)-1)<>\"\",OFFSET([1]DE100_7!$N$183,ROWS($N$183:N201)-1,COLUMNS($N$183:N201)-1),\"\")","v":{"$error":"#VALUE!"}},{"$f":"IF(OFFSET([1]DE100_7!$O$183,ROWS($O$183:O201)-1,COLUMNS($O$183:O201)-1)<>\"\",OFFSET([1]DE100_7!$O$183,ROWS($O$183:O201)-1,COLUMNS($O$183:O201)-1),\"\")","v":{"$error":"#VALUE!"}},{"$f":"IF(OFFSET([1]DE100_7!$P$183,ROWS($P$183:P201)-1,COLUMNS($P$183:P201)-1)<>\"\",OFFSET([1]DE100_7!$P$183,ROWS($P$183:P201)-1,COLUMNS($P$183:P201)-1),\"\")","v":{"$error":"#VALUE!"}},{"$f":"IF(OFFSET([1]DE100_7!$Q$183,ROWS($Q$183:Q201)-1,COLUMNS($Q$183:Q201)-1)<>\"\",OFFSET([1]DE100_7!$Q$183,ROWS($Q$183:Q201)-1,COLUMNS($Q$183:Q201)-1),\"\")","v":{"$error":"#VALUE!"}},{"$f":"IF(OFFSET([1]DE100_7!$R$183,ROWS($R$183:R201)-1,COLUMNS($R$183:R201)-1)<>\"\",OFFSET([1]DE100_7!$R$183,ROWS($R$183:R201)-1,COLUMNS($R$183:R201)-1),\"\")","v":{"$error":"#VALUE!"}},{"$f":"IF(OFFSET([1]DE100_7!$S$183,ROWS($S$183:S201)-1,COLUMNS($S$183:S201)-1)<>\"\",OFFSET([1]DE100_7!$S$183,ROWS($S$183:S201)-1,COLUMNS($S$183:S201)-1),\"\")","v":{"$error":"#VALUE!"}},{"$f":"IF(OFFSET([1]DE100_7!$T$183,ROWS($T$183:T201)-1,COLUMNS($T$183:T201)-1)<>\"\",OFFSET([1]DE100_7!$T$183,ROWS($T$183:T201)-1,COLUMNS($T$183:T201)-1),\"\")","v":{"$error":"#VALUE!"}},{"$f":"IF(OFFSET([1]DE100_7!$U$183,ROWS($U$183:U201)-1,COLUMNS($U$183:U201)-1)<>\"\",OFFSET([1]DE100_7!$U$183,ROWS($U$183:U201)-1,COLUMNS($U$183:U201)-1),\"\")","v":{"$error":"#VALUE!"}},{"$f":"IF(OFFSET([1]DE100_7!$V$183,ROWS($V$183:V201)-1,COLUMNS($V$183:V201)-1)<>\"\",OFFSET([1]DE100_7!$V$183,ROWS($V$183:V201)-1,COLUMNS($V$183:V201)-1),\"\")","v":{"$error":"#VALUE!"}}]
[{"$f":"IF(OFFSET([1]DE100_7!$C$183,ROWS($C$183:C202)-1,COLUMNS($C$183:C202)-1)<>\"\",OFFSET([1]DE100_7!$C$183,ROWS($C$183:C202)-1,COLUMNS($C$183:C202)-1),\"\")","v":{"$error":"#VALUE!"}},null,null,null,{"$f":"IF(OFFSET([1]DE100_7!$G$183,ROWS($G$183:G202)-1,COLUMNS($G$183:G202)-1)<>\"\",OFFSET([1]DE100_7!$G$183,ROWS($G$183:G202)-1,COLUMNS($G$183:G202)-1),\"\")","v":{"$error":"#VALUE!"}},{"$f":"IF(OFFSET([1]DE100_7!$H$183,ROWS($H$183:H202)-1,COLUMNS($H$183:H202)-1)<>\"\",OFFSET([1]DE100_7!$H$183,ROWS($H$183:H202)-1,COLUMNS($H$183:H202)-1),\"\")","v":{"$error":"#VALUE!"}},{"$f":"IF(OFFSET([1]DE100_7!$I$183,ROWS($I$183:I202)-1,COLUMNS($I$183:I202)-1)<>\"\",OFFSET([1]DE100_7!$I$183,ROWS($I$183:I202)-1,COLUMNS($I$183:I202)-1),\"\")","v":{"$error":"#VALUE!"}},{"$f":"IF(OFFSET([1]DE100_7!$J$183,ROWS($J$183:J202)-1,COLUMNS($J$183:J202)-1)<>\"\",OFFSET([1]DE100_7!$J$183,ROWS($J$183:J202)-1,COLUMNS($J$183:J202)-1),\"\")","v":{"$error":"#VALUE!"}},{"$f":"IF(OFFSET([1]DE100_7!$K$183,ROWS($K$183:K202)-1,COLUMNS($K$183:K202)-1)<>\"\",OFFSET([1]DE100_7!$K$183,ROWS($K$183:K202)-1,COLUMNS($K$183:K202)-1),\"\")","v":{"$error":"#VALUE!"}},{"$f":"IF(OFFSET([1]DE100_7!$L$183,ROWS($L$183:L202)-1,COLUMNS($L$183:L202)-1)<>\"\",OFFSET([1]DE100_7!$L$183,ROWS($L$183:L202)-1,COLUMNS($L$183:L202)-1),\"\")","v":{"$error":"#VALUE!"}},{"$f":"IF(OFFSET([1]DE100_7!$M$183,ROWS($M$183:M202)-1,COLUMNS($M$183:M202)-1)<>\"\",OFFSET([1]DE100_7!$M$183,ROWS($M$183:M202)-1,COLUMNS($M$183:M202)-1),\"\")","v":{"$error":"#VALUE!"}},{"$f":"IF(OFFSET([1]DE100_7!$N$183,ROWS($N$183:N202)-1,COLUMNS($N$183:N202)-1)<>\"\",OFFSET([1]DE100_7!$N$183,ROWS($N$183:N202)-1,COLUMNS($N$183:N202)-1),\"\")","v":{"$error":"#VALUE!"}},{"$f":"IF(OFFSET([1]DE100_7!$O$183,ROWS($O$183:O202)-1,COLUMNS($O$183:O202)-1)<>\"\",OFFSET([1]DE100_7!$O$183,ROWS($O$183:O202)-1,COLUMNS($O$183:O202)-1),\"\")","v":{"$error":"#VALUE!"}},{"$f":"IF(OFFSET([1]DE100_7!$P$183,ROWS($P$183:P202)-1,COLUMNS($P$183:P202)-1)<>\"\",OFFSET([1]DE100_7!$P$183,ROWS($P$183:P202)-1,COLUMNS($P$183:P202)-1),\"\")","v":{"$error":"#VALUE!"}},{"$f":"IF(OFFSET([1]DE100_7!$Q$183,ROWS($Q$183:Q202)-1,COLUMNS($Q$183:Q202)-1)<>\"\",OFFSET([1]DE100_7!$Q$183,ROWS($Q$183:Q202)-1,COLUMNS($Q$183:Q202)-1),\"\")","v":{"$error":"#VALUE!"}},{"$f":"IF(OFFSET([1]DE100_7!$R$183,ROWS($R$183:R202)-1,COLUMNS($R$183:R202)-1)<>\"\",OFFSET([1]DE100_7!$R$183,ROWS($R$183:R202)-1,COLUMNS($R$183:R202)-1),\"\")","v":{"$error":"#VALUE!"}},{"$f":"IF(OFFSET([1]DE100_7!$S$183,ROWS($S$183:S202)-1,COLUMNS($S$183:S202)-1)<>\"\",OFFSET([1]DE100_7!$S$183,ROWS($S$183:S202)-1,COLUMNS($S$183:S202)-1),\"\")","v":{"$error":"#VALUE!"}},{"$f":"IF(OFFSET([1]DE100_7!$T$183,ROWS($T$183:T202)-1,COLUMNS($T$183:T202)-1)<>\"\",OFFSET([1]DE100_7!$T$183,ROWS($T$183:T202)-1,COLUMNS($T$183:T202)-1),\"\")","v":{"$error":"#VALUE!"}},{"$f":"IF(OFFSET([1]DE100_7!$U$183,ROWS($U$183:U202)-1,COLUMNS($U$183:U202)-1)<>\"\",OFFSET([1]DE100_7!$U$183,ROWS($U$183:U202)-1,COLUMNS($U$183:U202)-1),\"\")","v":{"$error":"#VALUE!"}},{"$f":"IF(OFFSET([1]DE100_7!$V$183,ROWS($V$183:V202)-1,COLUMNS($V$183:V202)-1)<>\"\",OFFSET([1]DE100_7!$V$183,ROWS($V$183:V202)-1,COLUMNS($V$183:V202)-1),\"\")","v":{"$error":"#VALUE!"}}]
[{"$f":"IF(OFFSET([1]DE100_7!$C$183,ROWS($C$183:C203)-1,COLUMNS($C$183:C203)-1)<>\"\",OFFSET([1]DE100_7!$C$183,ROWS($C$183:C203)-1,COLUMNS($C$183:C203)-1),\"\")","v":{"$error":"#VALUE!"}},{"$f":"IF(OFFSET([1]DE100_7!$D$183,ROWS($D$183:D203)-1,COLUMNS($D$183:D203)-1)<>\"\",OFFSET([1]DE100_7!$D$183,ROWS($D$183:D203)-1,COLUMNS($D$183:D203)-1),\"\")","v":{"$error":"#VALUE!"}},{"$f":"IF(OFFSET([1]DE100_7!$E$183,ROWS($E$183:E203)-1,COLUMNS($E$183:E203)-1)<>\"\",OFFSET([1]DE100_7!$E$183,ROWS($E$183:E203)-1,COLUMNS($E$183:E203)-1),\"\")","v":{"$error":"#VALUE!"}},{"$f":"IF(OFFSET([1]DE100_7!$F$183,ROWS($F$183:F203)-1,COLUMNS($F$183:F203)-1)<>\"\",OFFSET([1]DE100_7!$F$183,ROWS($F$183:F203)-1,COLUMNS($F$183:F203)-1),\"\")","v":{"$error":"#VALUE!"}},{"$f":"IF(OFFSET([1]DE100_7!$G$183,ROWS($G$183:G203)-1,COLUMNS($G$183:G203)-1)<>\"\",OFFSET([1]DE100_7!$G$183,ROWS($G$183:G203)-1,COLUMNS($G$183:G203)-1),\"\")","v":{"$error":"#VALUE!"}},{"$f":"IF(OFFSET([1]DE100_7!$H$183,ROWS($H$183:H203)-1,COLUMNS($H$183:H203)-1)<>\"\",OFFSET([1]DE100_7!$H$183,ROWS($H$183:H203)-1,COLUMNS($H$183:H203)-1),\"\")","v":{"$error":"#VALUE!"}},{"$f":"IF(OFFSET([1]DE100_7!$I$183,ROWS($I$183:I203)-1,COLUMNS($I$183:I203)-1)<>\"\",OFFSET([1]DE100_7!$I$183,ROWS($I$183:I203)-1,COLUMNS($I$183:I203)-1),\"\")","v":{"$error":"#VALUE!"}},{"$f":"IF(OFFSET([1]DE100_7!$J$183,ROWS($J$183:J203)-1,COLUMNS($J$183:J203)-1)<>\"\",OFFSET([1]DE100_7!$J$183,ROWS($J$183:J203)-1,COLUMNS($J$183:J203)-1),\"\")","v":{"$error":"#VALUE!"}},{"$f":"IF(OFFSET([1]DE100_7!$K$183,ROWS($K$183:K203)-1,COLUMNS($K$183:K203)-1)<>\"\",OFFSET([1]DE100_7!$K$183,ROWS($K$183:K203)-1,COLUMNS($K$183:K203)-1),\"\")","v":{"$error":"#VALUE!"}},{"$f":"IF(OFFSET([1]DE100_7!$L$183,ROWS($L$183:L203)-1,COLUMNS($L$183:L203)-1)<>\"\",OFFSET([1]DE100_7!$L$183,ROWS($L$183:L203)-1,COLUMNS($L$183:L203)-1),\"\")","v":{"$error":"#VALUE!"}},{"$f":"IF(OFFSET([1]DE100_7!$M$183,ROWS($M$183:M203)-1,COLUMNS($M$183:M203)-1)<>\"\",OFFSET([1]DE100_7!$M$183,ROWS($M$183:M203)-1,COLUMNS($M$183:M203)-1),\"\")","v":{"$error":"#VALUE!"}},{"$f":"IF(OFFSET([1]DE100_7!$N$183,ROWS($N$183:N203)-1,COLUMNS($N$183:N203)-1)<>\"\",OFFSET([1]DE100_7!$N$183,ROWS($N$183:N203)-1,COLUMNS($N$183:N203)-1),\"\")","v":{"$error":"#VALUE!"}},{"$f":"IF(OFFSET([1]DE100_7!$O$183,ROWS($O$183:O203)-1,COLUMNS($O$183:O203)-1)<>\"\",OFFSET([1]DE100_7!$O$183,ROWS($O$183:O203)-1,COLUMNS($O$183:O203)-1),\"\")","v":{"$error":"#VALUE!"}},{"$f":"IF(OFFSET([1]DE100_7!$P$183,ROWS($P$183:P203)-1,COLUMNS($P$183:P203)-1)<>\"\",OFFSET([1]DE100_7!$P$183,ROWS($P$183:P203)-1,COLUMNS($P$183:P203)-1),\"\")","v":{"$error":"#VALUE!"}},{"$f":"IF(OFFSET([1]DE100_7!$Q$183,ROWS($Q$183:Q203)-1,COLUMNS($Q$183:Q203)-1)<>\"\",OFFSET([1]DE100_7!$Q$183,ROWS($Q$183:Q203)-1,COLUMNS($Q$183:Q203)-1),\"\")","v":{"$error":"#VALUE!"}},{"$f":"IF(OFFSET([1]DE100_7!$R$183,ROWS($R$183:R203)-1,COLUMNS($R$183:R203)-1)<>\"\",OFFSET([1]DE100_7!$R$183,ROWS($R$183:R203)-1,COLUMNS($R$183:R203)-1),\"\")","v":{"$error":"#VALUE!"}},{"$f":"IF(OFFSET([1]DE100_7!$S$183,ROWS($S$183:S203)-1,COLUMNS($S$183:S203)-1)<>\"\",OFFSET([1]DE100_7!$S$183,ROWS($S$183:S203)-1,COLUMNS($S$183:S203)-1),\"\")","v":{"$error":"#VALUE!"}},{"$f":"IF(OFFSET([1]DE100_7!$T$183,ROWS($T$183:T203)-1,COLUMNS($T$183:T203)-1)<>\"\",OFFSET([1]DE100_7!$T$183,ROWS($T$183:T203)-1,COLUMNS($T$183:T203)-1),\"\")","v":{"$error":"#VALUE!"}},{"$f":"IF(OFFSET([1]DE100_7!$U$183,ROWS($U$183:U203)-1,COLUMNS($U$183:U203)-1)<>\"\",OFFSET([1]DE100_7!$U$183,ROWS($U$183:U203)-1,COLUMNS($U$183:U203)-1),\"\")","v":{"$error":"#VALUE!"}},{"$f":"IF(OFFSET([1]DE100_7!$V$183,ROWS($V$183:V203)-1,COLUMNS($V$183:V203)-1)<>\"\",OFFSET([1]DE100_7!$V$183,ROWS($V$183:V203)-1,COLUMNS($V$183:V203)-1),\"\")","v":{"$error":"#VALUE!"}}]
[{"$f":"IF(OFFSET([1]DE100_7!$C$183,ROWS($C$183:C204)-1,COLUMNS($C$183:C204)-1)<>\"\",OFFSET([1]DE100_7!$C$183,ROWS($C$183:C204)-1,COLUMNS($C$183:C204)-1),\"\")","v":{"$error":"#VALUE!"}},{"$f":"IF(OFFSET([1]DE100_7!$D$183,ROWS($D$183:D204)-1,COLUMNS($D$183:D204)-1)<>\"\",OFFSET([1]DE100_7!$D$183,ROWS($D$183:D204)-1,COLUMNS($D$183:D204)-1),\"\")","v":{"$error":"#VALUE!"}},{"$f":"IF(OFFSET([1]DE100_7!$E$183,ROWS($E$183:E204)-1,COLUMNS($E$183:E204)-1)<>\"\",OFFSET([1]DE100_7!$E$183,ROWS($E$183:E204)-1,COLUMNS($E$183:E204)-1),\"\")","v":{"$error":"#VALUE!"}},{"$f":"IF(OFFSET([1]DE100_7!$F$183,ROWS($F$183:F204)-1,COLUMNS($F$183:F204)-1)<>\"\",OFFSET([1]DE100_7!$F$183,ROWS($F$183:F204)-1,COLUMNS($F$183:F204)-1),\"\")","v":{"$error":"#VALUE!"}},{"$f":"IF(OFFSET([1]DE100_7!$G$183,ROWS($G$183:G204)-1,COLUMNS($G$183:G204)-1)<>\"\",OFFSET([1]DE100_7!$G$183,ROWS($G$183:G204)-1,COLUMNS($G$183:G204)-1),\"\")","v":{"$error":"#VALUE!"}},{"$f":"IF(OFFSET([1]DE100_7!$H$183,ROWS($H$183:H204)-1,COLUMNS($H$183:H204)-1)<>\"\",OFFSET([1]DE100_7!$H$183,ROWS($H$183:H204)-1,COLUMNS($H$183:H204)-1),\"\")","v":{"$error":"#VALUE!"}},{"$f":"IF(OFFSET([1]DE100_7!$I$183,ROWS($I$183:I204)-1,COLUMNS($I$183:I204)-1)<>\"\",OFFSET([1]DE100_7!$I$183,ROWS($I$183:I204)-1,COLUMNS($I$183:I204)-1),\"\")","v":{"$error":"#VALUE!"}},{"$f":"IF(OFFSET([1]DE100_7!$J$183,ROWS($J$183:J204)-1,COLUMNS($J$183:J204)-1)<>\"\",OFFSET([1]DE100_7!$J$183,ROWS($J$183:J204)-1,COLUMNS($J$183:J204)-1),\"\")","v":{"$error":"#VALUE!"}},{"$f":"IF(OFFSET([1]DE100_7!$K$183,ROWS($K$183:K204)-1,COLUMNS($K$183:K204)-1)<>\"\",OFFSET([1]DE100_7!$K$183,ROWS($K$183:K204)-1,COLUMNS($K$183:K204)-1),\"\")","v":{"$error":"#VALUE!"}},{"$f":"IF(OFFSET([1]DE100_7!$L$183,ROWS($L$183:L204)-1,COLUMNS($L$183:L204)-1)<>\"\",OFFSET([1]DE100_7!$L$183,ROWS($L$183:L204)-1,COLUMNS($L$183:L204)-1),\"\")","v":{"$error":"#VALUE!"}},{"$f":"IF(OFFSET([1]DE100_7!$M$183,ROWS($M$183:M204)-1,COLUMNS($M$183:M204)-1)<>\"\",OFFSET([1]DE100_7!$M$183,ROWS($M$183:M204)-1,COLUMNS($M$183:M204)-1),\"\")","v":{"$error":"#VALUE!"}},{"$f":"IF(OFFSET([1]DE100_7!$N$183,ROWS($N$183:N204)-1,COLUMNS($N$183:N204)-1)<>\"\",OFFSET([1]DE100_7!$N$183,ROWS($N$183:N204)-1,COLUMNS($N$183:N204)-1),\"\")","v":{"$error":"#VALUE!"}},{"$f":"IF(OFFSET([1]DE100_7!$O$183,ROWS($O$183:O204)-1,COLUMNS($O$183:O204)-1)<>\"\",OFFSET([1]DE100_7!$O$183,ROWS($O$183:O204)-1,COLUMNS($O$183:O204)-1),\"\")","v":{"$error":"#VALUE!"}},{"$f":"IF(OFFSET([1]DE100_7!$P$183,ROWS($P$183:P204)-1,COLUMNS($P$183:P204)-1)<>\"\",OFFSET([1]DE100_7!$P$183,ROWS($P$183:P204)-1,COLUMNS($P$183:P204)-1),\"\")","v":{"$error":"#VALUE!"}},{"$f":"IF(OFFSET([1]DE100_7!$Q$183,ROWS($Q$183:Q204)-1,COLUMNS($Q$183:Q204)-1)<>\"\",OFFSET([1]DE100_7!$Q$183,ROWS($Q$183:Q204)-1,COLUMNS($Q$183:Q204)-1),\"\")","v":{"$error":"#VALUE!"}},{"$f":"IF(OFFSET([1]DE100_7!$R$183,ROWS($R$183:R204)-1,COLUMNS($R$183:R204)-1)<>\"\",OFFSET([1]DE100_7!$R$183,ROWS($R$183:R204)-1,COLUMNS($R$183:R204)-1),\"\")","v":{"$error":"#VALUE!"}},{"$f":"IF(OFFSET([1]DE100_7!$S$183,ROWS($S$183:S204)-1,COLUMNS($S$183:S204)-1)<>\"\",OFFSET([1]DE100_7!$S$183,ROWS($S$183:S204)-1,COLUMNS($S$183:S204)-1),\"\")","v":{"$error":"#VALUE!"}},{"$f":"IF(OFFSET([1]DE100_7!$T$183,ROWS($T$183:T204)-1,COLUMNS($T$183:T204)-1)<>\"\",OFFSET([1]DE100_7!$T$183,ROWS($T$183:T204)-1,COLUMNS($T$183:T204)-1),\"\")","v":{"$error":"#VALUE!"}},{"$f":"IF(OFFSET([1]DE100_7!$U$183,ROWS($U$183:U204)-1,COLUMNS($U$183:U204)-1)<>\"\",OFFSET([1]DE100_7!$U$183,ROWS($U$183:U204)-1,COLUMNS($U$183:U204)-1),\"\")","v":{"$error":"#VALUE!"}},{"$f":"IF(OFFSET([1]DE100_7!$V$183,ROWS($V$183:V204)-1,COLUMNS($V$183:V204)-1)<>\"\",OFFSET([1]DE100_7!$V$183,ROWS($V$183:V204)-1,COLUMNS($V$183:V204)-1),\"\")","v":{"$error":"#VALUE!"}}]
[{"$f":"IF(OFFSET([1]DE100_7!$C$183,ROWS($C$183:C205)-1,COLUMNS($C$183:C205)-1)<>\"\",OFFSET([1]DE100_7!$C$183,ROWS($C$183:C205)-1,COLUMNS($C$183:C205)-1),\"\")","v":{"$error":"#VALUE!"}},{"$f":"IF(OFFSET([1]DE100_7!$D$183,ROWS($D$183:D205)-1,COLUMNS($D$183:D205)-1)<>\"\",OFFSET([1]DE100_7!$D$183,ROWS($D$183:D205)-1,COLUMNS($D$183:D205)-1),\"\")","v":{"$error":"#VALUE!"}},{"$f":"IF(OFFSET([1]DE100_7!$E$183,ROWS($E$183:E205)-1,COLUMNS($E$183:E205)-1)<>\"\",OFFSET([1]DE100_7!$E$183,ROWS($E$183:E205)-1,COLUMNS($E$183:E205)-1),\"\")","v":{"$error":"#VALUE!"}},{"$f":"IF(OFFSET([1]DE100_7!$F$183,ROWS($F$183:F205)-1,COLUMNS($F$183:F205)-1)<>\"\",OFFSET([1]DE100_7!$F$183,ROWS($F$183:F205)-1,COLUMNS($F$183:F205)-1),\"\")","v":{"$error":"#VALUE!"}},{"$f":"IF(OFFSET([1]DE100_7!$G$183,ROWS($G$183:G205)-1,COLUMNS($G$183:G205)-1)<>\"\",OFFSET([1]DE100_7!$G$183,ROWS($G$183:G205)-1,COLUMNS($G$183:G205)-1),\"\")","v":{"$error":"#VALUE!"}},{"$f":"IF(OFFSET([1]DE100_7!$H$183,ROWS($H$183:H205)-1,COLUMNS($H$183:H205)-1)<>\"\",OFFSET([1]DE100_7!$H$183,ROWS($H$183:H205)-1,COLUMNS($H$183:H205)-1),\"\")","v":{"$error":"#VALUE!"}},{"$f":"IF(OFFSET([1]DE100_7!$I$183,ROWS($I$183:I205)-1,COLUMNS($I$183:I205)-1)<>\"\",OFFSET([1]DE100_7!$I$183,ROWS($I$183:I205)-1,COLUMNS($I$183:I205)-1),\"\")","v":{"$error":"#VALUE!"}},{"$f":"IF(OFFSET([1]DE100_7!$J$183,ROWS($J$183:J205)-1,COLUMNS($J$183:J205)-1)<>\"\",OFFSET([1]DE100_7!$J$183,ROWS($J$183:J205)-1,COLUMNS($J$183:J205)-1),\"\")","v":{"$error":"#VALUE!"}},{"$f":"IF(OFFSET([1]DE100_7!$K$183,ROWS($K$183:K205)-1,COLUMNS($K$183:K205)-1)<>\"\",OFFSET([1]DE100_7!$K$183,ROWS($K$183:K205)-1,COLUMNS($K$183:K205)-1),\"\")","v":{"$error":"#VALUE!"}},{"$f":"IF(OFFSET([1]DE100_7!$L$183,ROWS($L$183:L205)-1,COLUMNS($L$183:L205)-1)<>\"\",OFFSET([1]DE100_7!$L$183,ROWS($L$183:L205)-1,COLUMNS($L$183:L205)-1),\"\")","v":{"$error":"#VALUE!"}},{"$f":"IF(OFFSET([1]DE100_7!$M$183,ROWS($M$183:M205)-1,COLUMNS($M$183:M205)-1)<>\"\",OFFSET([1]DE100_7!$M$183,ROWS($M$183:M205)-1,COLUMNS($M$183:M205)-1),\"\")","v":{"$error":"#VALUE!"}},{"$f":"IF(OFFSET([1]DE100_7!$N$183,ROWS($N$183:N205)-1,COLUMNS($N$183:N205)-1)<>\"\",OFFSET([1]DE100_7!$N$183,ROWS($N$183:N205)-1,COLUMNS($N$183:N205)-1),\"\")","v":{"$error":"#VALUE!"}},{"$f":"IF(OFFSET([1]DE100_7!$O$183,ROWS($O$183:O205)-1,COLUMNS($O$183:O205)-1)<>\"\",OFFSET([1]DE100_7!$O$183,ROWS($O$183:O205)-1,COLUMNS($O$183:O205)-1),\"\")","v":{"$error":"#VALUE!"}},{"$f":"IF(OFFSET([1]DE100_7!$P$183,ROWS($P$183:P205)-1,COLUMNS($P$183:P205)-1)<>\"\",OFFSET([1]DE100_7!$P$183,ROWS($P$183:P205)-1,COLUMNS($P$183:P205)-1),\"\")","v":{"$error":"#VALUE!"}},{"$f":"IF(OFFSET([1]DE100_7!$Q$183,ROWS($Q$183:Q205)-1,COLUMNS($Q$183:Q205)-1)<>\"\",OFFSET([1]DE100_7!$Q$183,ROWS($Q$183:Q205)-1,COLUMNS($Q$183:Q205)-1),\"\")","v":{"$error":"#VALUE!"}},{"$f":"IF(OFFSET([1]DE100_7!$R$183,ROWS($R$183:R205)-1,COLUMNS($R$183:R205)-1)<>\"\",OFFSET([1]DE100_7!$R$183,ROWS($R$183:R205)-1,COLUMNS($R$183:R205)-1),\"\")","v":{"$error":"#VALUE!"}},{"$f":"IF(OFFSET([1]DE100_7!$S$183,ROWS($S$183:S205)-1,COLUMNS($S$183:S205)-1)<>\"\",OFFSET([1]DE100_7!$S$183,ROWS($S$183:S205)-1,COLUMNS($S$183:S205)-1),\"\")","v":{"$error":"#VALUE!"}},{"$f":"IF(OFFSET([1]DE100_7!$T$183,ROWS($T$183:T205)-1,COLUMNS($T$183:T205)-1)<>\"\",OFFSET([1]DE100_7!$T$183,ROWS($T$183:T205)-1,COLUMNS($T$183:T205)-1),\"\")","v":{"$error":"#VALUE!"}},{"$f":"IF(OFFSET([1]DE100_7!$U$183,ROWS($U$183:U205)-1,COLUMNS($U$183:U205)-1)<>\"\",OFFSET([1]DE100_7!$U$183,ROWS($U$183:U205)-1,COLUMNS($U$183:U205)-1),\"\")","v":{"$error":"#VALUE!"}},{"$f":"IF(OFFSET([1]DE100_7!$V$183,ROWS($V$183:V205)-1,COLUMNS($V$183:V205)-1)<>\"\",OFFSET([1]DE100_7!$V$183,ROWS($V$183:V205)-1,COLUMNS($V$183:V205)-1),\"\")","v":{"$error":"#VALUE!"}}]
[{"$f":"IF(OFFSET([1]DE100_7!$C$183,ROWS($C$183:C206)-1,COLUMNS($C$183:C206)-1)<>\"\",OFFSET([1]DE100_7!$C$183,ROWS($C$183:C206)-1,COLUMNS($C$183:C206)-1),\"\")","v":{"$error":"#VALUE!"}},{"$f":"IF(OFFSET([1]DE100_7!$D$183,ROWS($D$183:D206)-1,COLUMNS($D$183:D206)-1)<>\"\",OFFSET([1]DE100_7!$D$183,ROWS($D$183:D206)-1,COLUMNS($D$183:D206)-1),\"\")","v":{"$error":"#VALUE!"}},{"$f":"IF(OFFSET([1]DE100_7!$E$183,ROWS($E$183:E206)-1,COLUMNS($E$183:E206)-1)<>\"\",OFFSET([1]DE100_7!$E$183,ROWS($E$183:E206)-1,COLUMNS($E$183:E206)-1),\"\")","v":{"$error":"#VALUE!"}},{"$f":"IF(OFFSET([1]DE100_7!$F$183,ROWS($F$183:F206)-1,COLUMNS($F$183:F206)-1)<>\"\",OFFSET([1]DE100_7!$F$183,ROWS($F$183:F206)-1,COLUMNS($F$183:F206)-1),\"\")","v":{"$error":"#VALUE!"}},{"$f":"IF(OFFSET([1]DE100_7!$G$183,ROWS($G$183:G206)-1,COLUMNS($G$183:G206)-1)<>\"\",OFFSET([1]DE100_7!$G$183,ROWS($G$183:G206)-1,COLUMNS($G$183:G206)-1),\"\")","v":{"$error":"#VALUE!"}},{"$f":"IF(OFFSET([1]DE100_7!$H$183,ROWS($H$183:H206)-1,COLUMNS($H$183:H206)-1)<>\"\",OFFSET([1]DE100_7!$H$183,ROWS($H$183:H206)-1,COLUMNS($H$183:H206)-1),\"\")","v":{"$error":"#VALUE!"}},{"$f":"IF(OFFSET([1]DE100_7!$I$183,ROWS($I$183:I206)-1,COLUMNS($I$183:I206)-1)<>\"\",OFFSET([1]DE100_7!$I$183,ROWS($I$183:I206)-1,COLUMNS($I$183:I206)-1),\"\")","v":{"$error":"#VALUE!"}},{"$f":"IF(OFFSET([1]DE100_7!$J$183,ROWS($J$183:J206)-1,COLUMNS($J$183:J206)-1)<>\"\",OFFSET([1]DE100_7!$J$183,ROWS($J$183:J206)-1,COLUMNS($J$183:J206)-1),\"\")","v":{"$error":"#VALUE!"}},{"$f":"IF(OFFSET([1]DE100_7!$K$183,ROWS($K$183:K206)-1,COLUMNS($K$183:K206)-1)<>\"\",OFFSET([1]DE100_7!$K$183,ROWS($K$183:K206)-1,COLUMNS($K$183:K206)-1),\"\")","v":{"$error":"#VALUE!"}},{"$f":"IF(OFFSET([1]DE100_7!$L$183,ROWS($L$183:L206)-1,COLUMNS($L$183:L206)-1)<>\"\",OFFSET([1]DE100_7!$L$183,ROWS($L$183:L206)-1,COLUMNS($L$183:L206)-1),\"\")","v":{"$error":"#VALUE!"}},{"$f":"IF(OFFSET([1]DE100_7!$M$183,ROWS($M$183:M206)-1,COLUMNS($M$183:M206)-1)<>\"\",OFFSET([1]DE100_7!$M$183,ROWS($M$183:M206)-1,COLUMNS($M$183:M206)-1),\"\")","v":{"$error":"#VALUE!"}},{"$f":"IF(OFFSET([1]DE100_7!$N$183,ROWS($N$183:N206)-1,COLUMNS($N$183:N206)-1)<>\"\",OFFSET([1]DE100_7!$N$183,ROWS($N$183:N206)-1,COLUMNS($N$183:N206)-1),\"\")","v":{"$error":"#VALUE!"}},{"$f":"IF(OFFSET([1]DE100_7!$O$183,ROWS($O$183:O206)-1,COLUMNS($O$183:O206)-1)<>\"\",OFFSET([1]DE100_7!$O$183,ROWS($O$183:O206)-1,COLUMNS($O$183:O206)-1),\"\")","v":{"$error":"#VALUE!"}},{"$f":"IF(OFFSET([1]DE100_7!$P$183,ROWS($P$183:P206)-1,COLUMNS($P$183:P206)-1)<>\"\",OFFSET([1]DE100_7!$P$183,ROWS($P$183:P206)-1,COLUMNS($P$183:P206)-1),\"\")","v":{"$error":"#VALUE!"}},{"$f":"IF(OFFSET([1]DE100_7!$Q$183,ROWS($Q$183:Q206)-1,COLUMNS($Q$183:Q206)-1)<>\"\",OFFSET([1]DE100_7!$Q$183,ROWS($Q$183:Q206)-1,COLUMNS($Q$183:Q206)-1),\"\")","v":{"$error":"#VALUE!"}},{"$f":"IF(OFFSET([1]DE100_7!$R$183,ROWS($R$183:R206)-1,COLUMNS($R$183:R206)-1)<>\"\",OFFSET([1]DE100_7!$R$183,ROWS($R$183:R206)-1,COLUMNS($R$183:R206)-1),\"\")","v":{"$error":"#VALUE!"}},{"$f":"IF(OFFSET([1]DE100_7!$S$183,ROWS($S$183:S206)-1,COLUMNS($S$183:S206)-1)<>\"\",OFFSET([1]DE100_7!$S$183,ROWS($S$183:S206)-1,COLUMNS($S$183:S206)-1),\"\")","v":{"$error":"#VALUE!"}},{"$f":"IF(OFFSET([1]DE100_7!$T$183,ROWS($T$183:T206)-1,COLUMNS($T$183:T206)-1)<>\"\",OFFSET([1]DE100_7!$T$183,ROWS($T$183:T206)-1,COLUMNS($T$183:T206)-1),\"\")","v":{"$error":"#VALUE!"}},{"$f":"IF(OFFSET([1]DE100_7!$U$183,ROWS($U$183:U206)-1,COLUMNS($U$183:U206)-1)<>\"\",OFFSET([1]DE100_7!$U$183,ROWS($U$183:U206)-1,COLUMNS($U$183:U206)-1),\"\")","v":{"$error":"#VALUE!"}},{"$f":"IF(OFFSET([1]DE100_7!$V$183,ROWS($V$183:V206)-1,COLUMNS($V$183:V206)-1)<>\"\",OFFSET([1]DE100_7!$V$183,ROWS($V$183:V206)-1,COLUMNS($V$183:V206)-1),\"\")","v":{"$error":"#VALUE!"}}]
[{"$f":"IF(OFFSET([1]DE100_7!$C$183,ROWS($C$183:C207)-1,COLUMNS($C$183:C207)-1)<>\"\",OFFSET([1]DE100_7!$C$183,ROWS($C$183:C207)-1,COLUMNS($C$183:C207)-1),\"\")","v":{"$error":"#VALUE!"}},{"$f":"IF(OFFSET([1]DE100_7!$D$183,ROWS($D$183:D207)-1,COLUMNS($D$183:D207)-1)<>\"\",OFFSET([1]DE100_7!$D$183,ROWS($D$183:D207)-1,COLUMNS($D$183:D207)-1),\"\")","v":{"$error":"#VALUE!"}},{"$f":"IF(OFFSET([1]DE100_7!$E$183,ROWS($E$183:E207)-1,COLUMNS($E$183:E207)-1)<>\"\",OFFSET([1]DE100_7!$E$183,ROWS($E$183:E207)-1,COLUMNS($E$183:E207)-1),\"\")","v":{"$error":"#VALUE!"}},{"$f":"IF(OFFSET([1]DE100_7!$F$183,ROWS($F$183:F207)-1,COLUMNS($F$183:F207)-1)<>\"\",OFFSET([1]DE100_7!$F$183,ROWS($F$183:F207)-1,COLUMNS($F$183:F207)-1),\"\")","v":{"$error":"#VALUE!"}},{"$f":"IF(OFFSET([1]DE100_7!$G$183,ROWS($G$183:G207)-1,COLUMNS($G$183:G207)-1)<>\"\",OFFSET([1]DE100_7!$G$183,ROWS($G$183:G207)-1,COLUMNS($G$183:G207)-1),\"\")","v":{"$error":"#VALUE!"}},{"$f":"IF(OFFSET([1]DE100_7!$H$183,ROWS($H$183:H207)-1,COLUMNS($H$183:H207)-1)<>\"\",OFFSET([1]DE100_7!$H$183,ROWS($H$183:H207)-1,COLUMNS($H$183:H207)-1),\"\")","v":{"$error":"#VALUE!"}},{"$f":"IF(OFFSET([1]DE100_7!$I$183,ROWS($I$183:I207)-1,COLUMNS($I$183:I207)-1)<>\"\",OFFSET([1]DE100_7!$I$183,ROWS($I$183:I207)-1,COLUMNS($I$183:I207)-1),\"\")","v":{"$error":"#VALUE!"}},{"$f":"IF(OFFSET([1]DE100_7!$J$183,ROWS($J$183:J207)-1,COLUMNS($J$183:J207)-1)<>\"\",OFFSET([1]DE100_7!$J$183,ROWS($J$183:J207)-1,COLUMNS($J$183:J207)-1),\"\")","v":{"$error":"#VALUE!"}},{"$f":"IF(OFFSET([1]DE100_7!$K$183,ROWS($K$183:K207)-1,COLUMNS($K$183:K207)-1)<>\"\",OFFSET([1]DE100_7!$K$183,ROWS($K$183:K207)-1,COLUMNS($K$183:K207)-1),\"\")","v":{"$error":"#VALUE!"}},{"$f":"IF(OFFSET([1]DE100_7!$L$183,ROWS($L$183:L207)-1,COLUMNS($L$183:L207)-1)<>\"\",OFFSET([1]DE100_7!$L$183,ROWS($L$183:L207)-1,COLUMNS($L$183:L207)-1),\"\")","v":{"$error":"#VALUE!"}},{"$f":"IF(OFFSET([1]DE100_7!$M$183,ROWS($M$183:M207)-1,COLUMNS($M$183:M207)-1)<>\"\",OFFSET([1]DE100_7!$M$183,ROWS($M$183:M207)-1,COLUMNS($M$183:M207)-1),\"\")","v":{"$error":"#VALUE!"}},{"$f":"IF(OFFSET([1]DE100_7!$N$183,ROWS($N$183:N207)-1,COLUMNS($N$183:N207)-1)<>\"\",OFFSET([1]DE100_7!$N$183,ROWS($N$183:N207)-1,COLUMNS($N$183:N207)-1),\"\")","v":{"$error":"#VALUE!"}},{"$f":"IF(OFFSET([1]DE100_7!$O$183,ROWS($O$183:O207)-1,COLUMNS($O$183:O207)-1)<>\"\",OFFSET([1]DE100_7!$O$183,ROWS($O$183:O207)-1,COLUMNS($O$183:O207)-1),\"\")","v":{"$error":"#VALUE!"}},{"$f":"IF(OFFSET([1]DE100_7!$P$183,ROWS($P$183:P207)-1,COLUMNS($P$183:P207)-1)<>\"\",OFFSET([1]DE100_7!$P$183,ROWS($P$183:P207)-1,COLUMNS($P$183:P207)-1),\"\")","v":{"$error":"#VALUE!"}},{"$f":"IF(OFFSET([1]DE100_7!$Q$183,ROWS($Q$183:Q207)-1,COLUMNS($Q$183:Q207)-1)<>\"\",OFFSET([1]DE100_7!$Q$183,ROWS($Q$183:Q207)-1,COLUMNS($Q$183:Q207)-1),\"\")","v":{"$error":"#VALUE!"}},{"$f":"IF(OFFSET([1]DE100_7!$R$183,ROWS($R$183:R207)-1,COLUMNS($R$183:R207)-1)<>\"\",OFFSET([1]DE100_7!$R$183,ROWS($R$183:R207)-1,COLUMNS($R$183:R207)-1),\"\")","v":{"$error":"#VALUE!"}},{"$f":"IF(OFFSET([1]DE100_7!$S$183,ROWS($S$183:S207)-1,COLUMNS($S$183:S207)-1)<>\"\",OFFSET([1]DE100_7!$S$183,ROWS($S$183:S207)-1,COLUMNS($S$183:S207)-1),\"\")","v":{"$error":"#VALUE!"}},{"$f":"IF(OFFSET([1]DE100_7!$T$183,ROWS($T$183:T207)-1,COLUMNS($T$183:T207)-1)<>\"\",OFFSET([1]DE100_7!$T$183,ROWS($T$183:T207)-1,COLUMNS($T$183:T207)-1),\"\")","v":{"$error":"#VALUE!"}},{"$f":"IF(OFFSET([1]DE100_7!$U$183,ROWS($U$183:U207)-1,COLUMNS($U$183:U207)-1)<>\"\",OFFSET([1]DE100_7!$U$183,ROWS($U$183:U207)-1,COLUMNS($U$183:U207)-1),\"\")","v":{"$error":"#VALUE!"}},{"$f":"IF(OFFSET([1]DE100_7!$V$183,ROWS($V$183:V207)-1,COLUMNS($V$183:V207)-1)<>\"\",OFFSET([1]DE100_7!$V$183,ROWS($V$183:V207)-1,COLUMNS($V$183:V207)-1),\"\")","v":{"$error":"#VALUE!"}}]
[{"$f":"IF(OFFSET([1]DE100_7!$C$183,ROWS($C$183:C208)-1,COLUMNS($C$183:C208)-1)<>\"\",OFFSET([1]DE100_7!$C$183,ROWS($C$183:C208)-1,COLUMNS($C$183:C208)-1),\"\")","v":{"$error":"#VALUE!"}},{"$f":"IF(OFFSET([1]DE100_7!$D$183,ROWS($D$183:D208)-1,COLUMNS($D$183:D208)-1)<>\"\",OFFSET([1]DE100_7!$D$183,ROWS($D$183:D208)-1,COLUMNS($D$183:D208)-1),\"\")","v":{"$error":"#VALUE!"}},{"$f":"IF(OFFSET([1]DE100_7!$E$183,ROWS($E$183:E208)-1,COLUMNS($E$183:E208)-1)<>\"\",OFFSET([1]DE100_7!$E$183,ROWS($E$183:E208)-1,COLUMNS($E$183:E208)-1),\"\")","v":{"$error":"#VALUE!"}},{"$f":"IF(OFFSET([1]DE100_7!$F$183,ROWS($F$183:F208)-1,COLUMNS($F$183:F208)-1)<>\"\",OFFSET([1]DE100_7!$F$183,ROWS($F$183:F208)-1,COLUMNS($F$183:F208)-1),\"\")","v":{"$error":"#VALUE!"}},{"$f":"IF(OFFSET([1]DE100_7!$G$183,ROWS($G$183:G208)-1,COLUMNS($G$183:G208)-1)<>\"\",OFFSET([1]DE100_7!$G$183,ROWS($G$183:G208)-1,COLUMNS($G$183:G208)-1),\"\")","v":{"$error":"#VALUE!"}},{"$f":"IF(OFFSET([1]DE100_7!$H$183,ROWS($H$183:H208)-1,COLUMNS($H$183:H208)-1)<>\"\",OFFSET([1]DE100_7!$H$183,ROWS($H$183:H208)-1,COLUMNS($H$183:H208)-1),\"\")","v":{"$error":"#VALUE!"}},{"$f":"IF(OFFSET([1]DE100_7!$I$183,ROWS($I$183:I208)-1,COLUMNS($I$183:I208)-1)<>\"\",OFFSET([1]DE100_7!$I$183,ROWS($I$183:I208)-1,COLUMNS($I$183:I208)-1),\"\")","v":{"$error":"#VALUE!"}},{"$f":"IF(OFFSET([1]DE100_7!$J$183,ROWS($J$183:J208)-1,COLUMNS($J$183:J208)-1)<>\"\",OFFSET([1]DE100_7!$J$183,ROWS($J$183:J208)-1,COLUMNS($J$183:J208)-1),\"\")","v":{"$error":"#VALUE!"}},{"$f":"IF(OFFSET([1]DE100_7!$K$183,ROWS($K$183:K208)-1,COLUMNS($K$183:K208)-1)<>\"\",OFFSET([1]DE100_7!$K$183,ROWS($K$183:K208)-1,COLUMNS($K$183:K208)-1),\"\")","v":{"$error":"#VALUE!"}},{"$f":"IF(OFFSET([1]DE100_7!$L$183,ROWS($L$183:L208)-1,COLUMNS($L$183:L208)-1)<>\"\",OFFSET([1]DE100_7!$L$183,ROWS($L$183:L208)-1,COLUMNS($L$183:L208)-1),\"\")","v":{"$error":"#VALUE!"}},{"$f":"IF(OFFSET([1]DE100_7!$M$183,ROWS($M$183:M208)-1,COLUMNS($M$183:M208)-1)<>\"\",OFFSET([1]DE100_7!$M$183,ROWS($M$183:M208)-1,COLUMNS($M$183:M208)-1),\"\")","v":{"$error":"#VALUE!"}},{"$f":"IF(OFFSET([1]DE100_7!$N$183,ROWS($N$183:N208)-1,COLUMNS($N$183:N208)-1)<>\"\",OFFSET([1]DE100_7!$N$183,ROWS($N$183:N208)-1,COLUMNS($N$183:N208)-1),\"\")","v":{"$error":"#VALUE!"}},{"$f":"IF(OFFSET([1]DE100_7!$O$183,ROWS($O$183:O208)-1,COLUMNS($O$183:O208)-1)<>\"\",OFFSET([1]DE100_7!$O$183,ROWS($O$183:O208)-1,COLUMNS($O$183:O208)-1),\"\")","v":{"$error":"#VALUE!"}},{"$f":"IF(OFFSET([1]DE100_7!$P$183,ROWS($P$183:P208)-1,COLUMNS($P$183:P208)-1)<>\"\",OFFSET([1]DE100_7!$P$183,ROWS($P$183:P208)-1,COLUMNS($P$183:P208)-1),\"\")","v":{"$error":"#VALUE!"}},{"$f":"IF(OFFSET([1]DE100_7!$Q$183,ROWS($Q$183:Q208)-1,COLUMNS($Q$183:Q208)-1)<>\"\",OFFSET([1]DE100_7!$Q$183,ROWS($Q$183:Q208)-1,COLUMNS($Q$183:Q208)-1),\"\")","v":{"$error":"#VALUE!"}},{"$f":"IF(OFFSET([1]DE100_7!$R$183,ROWS($R$183:R208)-1,COLUMNS($R$183:R208)-1)<>\"\",OFFSET([1]DE100_7!$R$183,ROWS($R$183:R208)-1,COLUMNS($R$183:R208)-1),\"\")","v":{"$error":"#VALUE!"}},{"$f":"IF(OFFSET([1]DE100_7!$S$183,ROWS($S$183:S208)-1,COLUMNS($S$183:S208)-1)<>\"\",OFFSET([1]DE100_7!$S$183,ROWS($S$183:S208)-1,COLUMNS($S$183:S208)-1),\"\")","v":{"$error":"#VALUE!"}},{"$f":"IF(OFFSET([1]DE100_7!$T$183,ROWS($T$183:T208)-1,COLUMNS($T$183:T208)-1)<>\"\",OFFSET([1]DE100_7!$T$183,ROWS($T$183:T208)-1,COLUMNS($T$183:T208)-1),\"\")","v":{"$error":"#VALUE!"}},{"$f":"IF(OFFSET([1]DE100_7!$U$183,ROWS($U$183:U208)-1,COLUMNS($U$183:U208)-1)<>\"\",OFFSET([1]DE100_7!$U$183,ROWS($U$183:U208)-1,COLUMNS($U$183:U208)-1),\"\")","v":{"$error":"#VALUE!"}},{"$f":"IF(OFFSET([1]DE100_7!$V$183,ROWS($V$183:V208)-1,COLUMNS($V$183:V208)-1)<>\"\",OFFSET([1]DE100_7!$V$183,ROWS($V$183:V208)-1,COLUMNS($V$183:V208)-1),\"\")","v":{"$error":"#VALUE!"}}]
[{"$f":"IF(OFFSET([1]DE100_7!$C$183,ROWS($C$183:C209)-1,COLUMNS($C$183:C209)-1)<>\"\",OFFSET([1]DE100_7!$C$183,ROWS($C$183:C209)-1,COLUMNS($C$183:C209)-1),\"\")","v":{"$error":"#VALUE!"}},{"$f":"IF(OFFSET([1]DE100_7!$D$183,ROWS($D$183:D209)-1,COLUMNS($D$183:D209)-1)<>\"\",OFFSET([1]DE100_7!$D$183,ROWS($D$183:D209)-1,COLUMNS($D$183:D209)-1),\"\")","v":{"$error":"#VALUE!"}},{"$f":"IF(OFFSET([1]DE100_7!$E$183,ROWS($E$183:E209)-1,COLUMNS($E$183:E209)-1)<>\"\",OFFSET([1]DE100_7!$E$183,ROWS($E$183:E209)-1,COLUMNS($E$183:E209)-1),\"\")","v":{"$error":"#VALUE!"}},{"$f":"IF(OFFSET([1]DE100_7!$F$183,ROWS($F$183:F209)-1,COLUMNS($F$183:F209)-1)<>\"\",OFFSET([1]DE100_7!$F$183,ROWS($F$183:F209)-1,COLUMNS($F$183:F209)-1),\"\")","v":{"$error":"#VALUE!"}},{"$f":"IF(OFFSET([1]DE100_7!$G$183,ROWS($G$183:G209)-1,COLUMNS($G$183:G209)-1)<>\"\",OFFSET([1]DE100_7!$G$183,ROWS($G$183:G209)-1,COLUMNS($G$183:G209)-1),\"\")","v":{"$error":"#VALUE!"}},{"$f":"IF(OFFSET([1]DE100_7!$H$183,ROWS($H$183:H209)-1,COLUMNS($H$183:H209)-1)<>\"\",OFFSET([1]DE100_7!$H$183,ROWS($H$183:H209)-1,COLUMNS($H$183:H209)-1),\"\")","v":{"$error":"#VALUE!"}},{"$f":"IF(OFFSET([1]DE100_7!$I$183,ROWS($I$183:I209)-1,COLUMNS($I$183:I209)-1)<>\"\",OFFSET([1]DE100_7!$I$183,ROWS($I$183:I209)-1,COLUMNS($I$183:I209)-1),\"\")","v":{"$error":"#VALUE!"}},{"$f":"IF(OFFSET([1]DE100_7!$J$183,ROWS($J$183:J209)-1,COLUMNS($J$183:J209)-1)<>\"\",OFFSET([1]DE100_7!$J$183,ROWS($J$183:J209)-1,COLUMNS($J$183:J209)-1),\"\")","v":{"$error":"#VALUE!"}},{"$f":"IF(OFFSET([1]DE100_7!$K$183,ROWS($K$183:K209)-1,COLUMNS($K$183:K209)-1)<>\"\",OFFSET([1]DE100_7!$K$183,ROWS($K$183:K209)-1,COLUMNS($K$183:K209)-1),\"\")","v":{"$error":"#VALUE!"}},{"$f":"IF(OFFSET([1]DE100_7!$L$183,ROWS($L$183:L209)-1,COLUMNS($L$183:L209)-1)<>\"\",OFFSET([1]DE100_7!$L$183,ROWS($L$183:L209)-1,COLUMNS($L$183:L209)-1),\"\")","v":{"$error":"#VALUE!"}},{"$f":"IF(OFFSET([1]DE100_7!$M$183,ROWS($M$183:M209)-1,COLUMNS($M$183:M209)-1)<>\"\",OFFSET([1]DE100_7!$M$183,ROWS($M$183:M209)-1,COLUMNS($M$183:M209)-1),\"\")","v":{"$error":"#VALUE!"}},{"$f":"IF(OFFSET([1]DE100_7!$N$183,ROWS($N$183:N209)-1,COLUMNS($N$183:N209)-1)<>\"\",OFFSET([1]DE100_7!$N$183,ROWS($N$183:N209)-1,COLUMNS($N$183:N209)-1),\"\")","v":{"$error":"#VALUE!"}},{"$f":"IF(OFFSET([1]DE100_7!$O$183,ROWS($O$183:O209)-1,COLUMNS($O$183:O209)-1)<>\"\",OFFSET([1]DE100_7!$O$183,ROWS($O$183:O209)-1,COLUMNS($O$183:O209)-1),\"\")","v":{"$error":"#VALUE!"}},{"$f":"IF(OFFSET([1]DE100_7!$P$183,ROWS($P$183:P209)-1,COLUMNS($P$183:P209)-1)<>\"\",OFFSET([1]DE100_7!$P$183,ROWS($P$183:P209)-1,COLUMNS($P$183:P209)-1),\"\")","v":{"$error":"#VALUE!"}},{"$f":"IF(OFFSET([1]DE100_7!$Q$183,ROWS($Q$183:Q209)-1,COLUMNS($Q$183:Q209)-1)<>\"\",OFFSET([1]DE100_7!$Q$183,ROWS($Q$183:Q209)-1,COLUMNS($Q$183:Q209)-1),\"\")","v":{"$error":"#VALUE!"}},{"$f":"IF(OFFSET([1]DE100_7!$R$183,ROWS($R$183:R209)-1,COLUMNS($R$183:R209)-1)<>\"\",OFFSET([1]DE100_7!$R$183,ROWS($R$183:R209)-1,COLUMNS($R$183:R209)-1),\"\")","v":{"$error":"#VALUE!"}},{"$f":"IF(OFFSET([1]DE100_7!$S$183,ROWS($S$183:S209)-1,COLUMNS($S$183:S209)-1)<>\"\",OFFSET([1]DE100_7!$S$183,ROWS($S$183:S209)-1,COLUMNS($S$183:S209)-1),\"\")","v":{"$error":"#VALUE!"}},{"$f":"IF(OFFSET([1]DE100_7!$T$183,ROWS($T$183:T209)-1,COLUMNS($T$183:T209)-1)<>\"\",OFFSET([1]DE100_7!$T$183,ROWS($T$183:T209)-1,COLUMNS($T$183:T209)-1),\"\")","v":{"$error":"#VALUE!"}},{"$f":"IF(OFFSET([1]DE100_7!$U$183,ROWS($U$183:U209)-1,COLUMNS($U$183:U209)-1)<>\"\",OFFSET([1]DE100_7!$U$183,ROWS($U$183:U209)-1,COLUMNS($U$183:U209)-1),\"\")","v":{"$error":"#VALUE!"}},{"$f":"IF(OFFSET([1]DE100_7!$V$183,ROWS($V$183:V209)-1,COLUMNS($V$183:V209)-1)<>\"\",OFFSET([1]DE100_7!$V$183,ROWS($V$183:V209)-1,COLUMNS($V$183:V209)-1),\"\")","v":{"$error":"#VALUE!"}}]
[{"$f":"IF(OFFSET([1]DE100_7!$C$183,ROWS($C$183:C210)-1,COLUMNS($C$183:C210)-1)<>\"\",OFFSET([1]DE100_7!$C$183,ROWS($C$183:C210)-1,COLUMNS($C$183:C210)-1),\"\")","v":{"$error":"#VALUE!"}},{"$f":"IF(OFFSET([1]DE100_7!$D$183,ROWS($D$183:D210)-1,COLUMNS($D$183:D210)-1)<>\"\",OFFSET([1]DE100_7!$D$183,ROWS($D$183:D210)-1,COLUMNS($D$183:D210)-1),\"\")","v":{"$error":"#VALUE!"}},{"$f":"IF(OFFSET([1]DE100_7!$E$183,ROWS($E$183:E210)-1,COLUMNS($E$183:E210)-1)<>\"\",OFFSET([1]DE100_7!$E$183,ROWS($E$183:E210)-1,COLUMNS($E$183:E210)-1),\"\")","v":{"$error":"#VALUE!"}},{"$f":"IF(OFFSET([1]DE100_7!$F$183,ROWS($F$183:F210)-1,COLUMNS($F$183:F210)-1)<>\"\",OFFSET([1]DE100_7!$F$183,ROWS($F$183:F210)-1,COLUMNS($F$183:F210)-1),\"\")","v":{"$error":"#VALUE!"}},{"$f":"IF(OFFSET([1]DE100_7!$G$183,ROWS($G$183:G210)-1,COLUMNS($G$183:G210)-1)<>\"\",OFFSET([1]DE100_7!$G$183,ROWS($G$183:G210)-1,COLUMNS($G$183:G210)-1),\"\")","v":{"$error":"#VALUE!"}},{"$f":"IF(OFFSET([1]DE100_7!$H$183,ROWS($H$183:H210)-1,COLUMNS($H$183:H210)-1)<>\"\",OFFSET([1]DE100_7!$H$183,ROWS($H$183:H210)-1,COLUMNS($H$183:H210)-1),\"\")","v":{"$error":"#VALUE!"}},{"$f":"IF(OFFSET([1]DE100_7!$I$183,ROWS($I$183:I210)-1,COLUMNS($I$183:I210)-1)<>\"\",OFFSET([1]DE100_7!$I$183,ROWS($I$183:I210)-1,COLUMNS($I$183:I210)-1),\"\")","v":{"$error":"#VALUE!"}},{"$f":"IF(OFFSET([1]DE100_7!$J$183,ROWS($J$183:J210)-1,COLUMNS($J$183:J210)-1)<>\"\",OFFSET([1]DE100_7!$J$183,ROWS($J$183:J210)-1,COLUMNS($J$183:J210)-1),\"\")","v":{"$error":"#VALUE!"}},{"$f":"IF(OFFSET([1]DE100_7!$K$183,ROWS($K$183:K210)-1,COLUMNS($K$183:K210)-1)<>\"\",OFFSET([1]DE100_7!$K$183,ROWS($K$183:K210)-1,COLUMNS($K$183:K210)-1),\"\")","v":{"$error":"#VALUE!"}},{"$f":"IF(OFFSET([1]DE100_7!$L$183,ROWS($L$183:L210)-1,COLUMNS($L$183:L210)-1)<>\"\",OFFSET([1]DE100_7!$L$183,ROWS($L$183:L210)-1,COLUMNS($L$183:L210)-1),\"\")","v":{"$error":"#VALUE!"}},{"$f":"IF(OFFSET([1]DE100_7!$M$183,ROWS($M$183:M210)-1,COLUMNS($M$183:M210)-1)<>\"\",OFFSET([1]DE100_7!$M$183,ROWS($M$183:M210)-1,COLUMNS($M$183:M210)-1),\"\")","v":{"$error":"#VALUE!"}},{"$f":"IF(OFFSET([1]DE100_7!$N$183,ROWS($N$183:N210)-1,COLUMNS($N$183:N210)-1)<>\"\",OFFSET([1]DE100_7!$N$183,ROWS($N$183:N210)-1,COLUMNS($N$183:N210)-1),\"\")","v":{"$error":"#VALUE!"}},{"$f":"IF(OFFSET([1]DE100_7!$O$183,ROWS($O$183:O210)-1,COLUMNS($O$183:O210)-1)<>\"\",OFFSET([1]DE100_7!$O$183,ROWS($O$183:O210)-1,COLUMNS($O$183:O210)-1),\"\")","v":{"$error":"#VALUE!"}},{"$f":"IF(OFFSET([1]DE100_7!$P$183,ROWS($P$183:P210)-1,COLUMNS($P$183:P210)-1)<>\"\",OFFSET([1]DE100_7!$P$183,ROWS($P$183:P210)-1,COLUMNS($P$183:P210)-1),\"\")","v":{"$error":"#VALUE!"}},{"$f":"IF(OFFSET([1]DE100_7!$Q$183,ROWS($Q$183:Q210)-1,COLUMNS($Q$183:Q210)-1)<>\"\",OFFSET([1]DE100_7!$Q$183,ROWS($Q$183:Q210)-1,COLUMNS($Q$183:Q210)-1),\"\")","v":{"$error":"#VALUE!"}},{"$f":"IF(OFFSET([1]DE100_7!$R$183,ROWS($R$183:R210)-1,COLUMNS($R$183:R210)-1)<>\"\",OFFSET([1]DE100_7!$R$183,ROWS($R$183:R210)-1,COLUMNS($R$183:R210)-1),\"\")","v":{"$error":"#VALUE!"}},{"$f":"IF(OFFSET([1]DE100_7!$S$183,ROWS($S$183:S210)-1,COLUMNS($S$183:S210)-1)<>\"\",OFFSET([1]DE100_7!$S$183,ROWS($S$183:S210)-1,COLUMNS($S$183:S210)-1),\"\")","v":{"$error":"#VALUE!"}},{"$f":"IF(OFFSET([1]DE100_7!$T$183,ROWS($T$183:T210)-1,COLUMNS($T$183:T210)-1)<>\"\",OFFSET([1]DE100_7!$T$183,ROWS($T$183:T210)-1,COLUMNS($T$183:T210)-1),\"\")","v":{"$error":"#VALUE!"}},{"$f":"IF(OFFSET([1]DE100_7!$U$183,ROWS($U$183:U210)-1,COLUMNS($U$183:U210)-1)<>\"\",OFFSET([1]DE100_7!$U$183,ROWS($U$183:U210)-1,COLUMNS($U$183:U210)-1),\"\")","v":{"$error":"#VALUE!"}},{"$f":"IF(OFFSET([1]DE100_7!$V$183,ROWS($V$183:V210)-1,COLUMNS($V$183:V210)-1)<>\"\",OFFSET([1]DE100_7!$V$183,ROWS($V$183:V210)-1,COLUMNS($V$183:V210)-1),\"\")","v":{"$error":"#VALUE!"}}]
[{"$f":"IF(OFFSET([1]DE100_7!$C$183,ROWS($C$183:C211)-1,COLUMNS($C$183:C211)-1)<>\"\",OFFSET([1]DE100_7!$C$183,ROWS($C$183:C211)-1,COLUMNS($C$183:C211)-1),\"\")","v":{"$error":"#VALUE!"}},null,null,null,{"$f":"IF(OFFSET([1]DE100_7!$G$183,ROWS($G$183:G211)-1,COLUMNS($G$183:G211)-1)<>\"\",OFFSET([1]DE100_7!$G$183,ROWS($G$183:G211)-1,COLUMNS($G$183:G211)-1),\"\")","v":{"$error":"#VALUE!"}},{"$f":"IF(OFFSET([1]DE100_7!$H$183,ROWS($H$183:H211)-1,COLUMNS($H$183:H211)-1)<>\"\",OFFSET([1]DE100_7!$H$183,ROWS($H$183:H211)-1,COLUMNS($H$183:H211)-1),\"\")","v":{"$error":"#VALUE!"}},{"$f":"IF(OFFSET([1]DE100_7!$I$183,ROWS($I$183:I211)-1,COLUMNS($I$183:I211)-1)<>\"\",OFFSET([1]DE100_7!$I$183,ROWS($I$183:I211)-1,COLUMNS($I$183:I211)-1),\"\")","v":{"$error":"#VALUE!"}},{"$f":"IF(OFFSET([1]DE100_7!$J$183,ROWS($J$183:J211)-1,COLUMNS($J$183:J211)-1)<>\"\",OFFSET([1]DE100_7!$J$183,ROWS($J$183:J211)-1,COLUMNS($J$183:J211)-1),\"\")","v":{"$error":"#VALUE!"}},{"$f":"IF(OFFSET([1]DE100_7!$K$183,ROWS($K$183:K211)-1,COLUMNS($K$183:K211)-1)<>\"\",OFFSET([1]DE100_7!$K$183,ROWS($K$183:K211)-1,COLUMNS($K$183:K211)-1),\"\")","v":{"$error":"#VALUE!"}},{"$f":"IF(OFFSET([1]DE100_7!$L$183,ROWS($L$183:L211)-1,COLUMNS($L$183:L211)-1)<>\"\",OFFSET([1]DE100_7!$L$183,ROWS($L$183:L211)-1,COLUMNS($L$183:L211)-1),\"\")","v":{"$error":"#VALUE!"}},{"$f":"IF(OFFSET([1]DE100_7!$M$183,ROWS($M$183:M211)-1,COLUMNS($M$183:M211)-1)<>\"\",OFFSET([1]DE100_7!$M$183,ROWS($M$183:M211)-1,COLUMNS($M$183:M211)-1),\"\")","v":{"$error":"#VALUE!"}},{"$f":"IF(OFFSET([1]DE100_7!$N$183,ROWS($N$183:N211)-1,COLUMNS($N$183:N211)-1)<>\"\",OFFSET([1]DE100_7!$N$183,ROWS($N$183:N211)-1,COLUMNS($N$183:N211)-1),\"\")","v":{"$error":"#VALUE!"}},{"$f":"IF(OFFSET([1]DE100_7!$O$183,ROWS($O$183:O211)-1,COLUMNS($O$183:O211)-1)<>\"\",OFFSET([1]DE100_7!$O$183,ROWS($O$183:O211)-1,COLUMNS($O$183:O211)-1),\"\")","v":{"$error":"#VALUE!"}},{"$f":"IF(OFFSET([1]DE100_7!$P$183,ROWS($P$183:P211)-1,COLUMNS($P$183:P211)-1)<>\"\",OFFSET([1]DE100_7!$P$183,ROWS($P$183:P211)-1,COLUMNS($P$183:P211)-1),\"\")","v":{"$error":"#VALUE!"}},{"$f":"IF(OFFSET([1]DE100_7!$Q$183,ROWS($Q$183:Q211)-1,COLUMNS($Q$183:Q211)-1)<>\"\",OFFSET([1]DE100_7!$Q$183,ROWS($Q$183:Q211)-1,COLUMNS($Q$183:Q211)-1),\"\")","v":{"$error":"#VALUE!"}},{"$f":"IF(OFFSET([1]DE100_7!$R$183,ROWS($R$183:R211)-1,COLUMNS($R$183:R211)-1)<>\"\",OFFSET([1]DE100_7!$R$183,ROWS($R$183:R211)-1,COLUMNS($R$183:R211)-1),\"\")","v":{"$error":"#VALUE!"}},{"$f":"IF(OFFSET([1]DE100_7!$S$183,ROWS($S$183:S211)-1,COLUMNS($S$183:S211)-1)<>\"\",OFFSET([1]DE100_7!$S$183,ROWS($S$183:S211)-1,COLUMNS($S$183:S211)-1),\"\")","v":{"$error":"#VALUE!"}},{"$f":"IF(OFFSET([1]DE100_7!$T$183,ROWS($T$183:T211)-1,COLUMNS($T$183:T211)-1)<>\"\",OFFSET([1]DE100_7!$T$183,ROWS($T$183:T211)-1,COLUMNS($T$183:T211)-1),\"\")","v":{"$error":"#VALUE!"}},{"$f":"IF(OFFSET([1]DE100_7!$U$183,ROWS($U$183:U211)-1,COLUMNS($U$183:U211)-1)<>\"\",OFFSET([1]DE100_7!$U$183,ROWS($U$183:U211)-1,COLUMNS($U$183:U211)-1),\"\")","v":{"$error":"#VALUE!"}},{"$f":"IF(OFFSET([1]DE100_7!$V$183,ROWS($V$183:V211)-1,COLUMNS($V$183:V211)-1)<>\"\",OFFSET([1]DE100_7!$V$183,ROWS($V$183:V211)-1,COLUMNS($V$183:V211)-1),\"\")","v":{"$error":"#VALUE!"}}]
[{"$f":"IF(OFFSET([1]DE100_7!$C$183,ROWS($C$183:C212)-1,COLUMNS($C$183:C212)-1)<>\"\",OFFSET([1]DE100_7!$C$183,ROWS($C$183:C212)-1,COLUMNS($C$183:C212)-1),\"\")","v":{"$error":"#VALUE!"}},{"$f":"IF(OFFSET([1]DE100_7!$D$183,ROWS($D$183:D212)-1,COLUMNS($D$183:D212)-1)<>\"\",OFFSET([1]DE100_7!$D$183,ROWS($D$183:D212)-1,COLUMNS($D$183:D212)-1),\"\")","v":{"$error":"#VALUE!"}},{"$f":"IF(OFFSET([1]DE100_7!$E$183,ROWS($E$183:E212)-1,COLUMNS($E$183:E212)-1)<>\"\",OFFSET([1]DE100_7!$E$183,ROWS($E$183:E212)-1,COLUMNS($E$183:E212)-1),\"\")","v":{"$error":"#VALUE!"}},{"$f":"IF(OFFSET([1]DE100_7!$F$183,ROWS($F$183:F212)-1,COLUMNS($F$183:F212)-1)<>\"\",OFFSET([1]DE100_7!$F$183,ROWS($F$183:F212)-1,COLUMNS($F$183:F212)-1),\"\")","v":{"$error":"#VALUE!"}},{"$f":"IF(OFFSET([1]DE100_7!$G$183,ROWS($G$183:G212)-1,COLUMNS($G$183:G212)-1)<>\"\",OFFSET([1]DE100_7!$G$183,ROWS($G$183:G212)-1,COLUMNS($G$183:G212)-1),\"\")","v":{"$error":"#VALUE!"}},{"$f":"IF(OFFSET([1]DE100_7!$H$183,ROWS($H$183:H212)-1,COLUMNS($H$183:H212)-1)<>\"\",OFFSET([1]DE100_7!$H$183,ROWS($H$183:H212)-1,COLUMNS($H$183:H212)-1),\"\")","v":{"$error":"#VALUE!"}},{"$f":"IF(OFFSET([1]DE100_7!$I$183,ROWS($I$183:I212)-1,COLUMNS($I$183:I212)-1)<>\"\",OFFSET([1]DE100_7!$I$183,ROWS($I$183:I212)-1,COLUMNS($I$183:I212)-1),\"\")","v":{"$error":"#VALUE!"}},{"$f":"IF(OFFSET([1]DE100_7!$J$183,ROWS($J$183:J212)-1,COLUMNS($J$183:J212)-1)<>\"\",OFFSET([1]DE100_7!$J$183,ROWS($J$183:J212)-1,COLUMNS($J$183:J212)-1),\"\")","v":{"$error":"#VALUE!"}},{"$f":"IF(OFFSET([1]DE100_7!$K$183,ROWS($K$183:K212)-1,COLUMNS($K$183:K212)-1)<>\"\",OFFSET([1]DE100_7!$K$183,ROWS($K$183:K212)-1,COLUMNS($K$183:K212)-1),\"\")","v":{"$error":"#VALUE!"}},{"$f":"IF(OFFSET([1]DE100_7!$L$183,ROWS($L$183:L212)-1,COLUMNS($L$183:L212)-1)<>\"\",OFFSET([1]DE100_7!$L$183,ROWS($L$183:L212)-1,COLUMNS($L$183:L212)-1),\"\")","v":{"$error":"#VALUE!"}},{"$f":"IF(OFFSET([1]DE100_7!$M$183,ROWS($M$183:M212)-1,COLUMNS($M$183:M212)-1)<>\"\",OFFSET([1]DE100_7!$M$183,ROWS($M$183:M212)-1,COLUMNS($M$183:M212)-1),\"\")","v":{"$error":"#VALUE!"}},{"$f":"IF(OFFSET([1]DE100_7!$N$183,ROWS($N$183:N212)-1,COLUMNS($N$183:N212)-1)<>\"\",OFFSET([1]DE100_7!$N$183,ROWS($N$183:N212)-1,COLUMNS($N$183:N212)-1),\"\")","v":{"$error":"#VALUE!"}},{"$f":"IF(OFFSET([1]DE100_7!$O$183,ROWS($O$183:O212)-1,COLUMNS($O$183:O212)-1)<>\"\",OFFSET([1]DE100_7!$O$183,ROWS($O$183:O212)-1,COLUMNS($O$183:O212)-1),\"\")","v":{"$error":"#VALUE!"}},{"$f":"IF(OFFSET([1]DE100_7!$P$183,ROWS($P$183:P212)-1,COLUMNS($P$183:P212)-1)<>\"\",OFFSET([1]DE100_7!$P$183,ROWS($P$183:P212)-1,COLUMNS($P$183:P212)-1),\"\")","v":{"$error":"#VALUE!"}},{"$f":"IF(OFFSET([1]DE100_7!$Q$183,ROWS($Q$183:Q212)-1,COLUMNS($Q$183:Q212)-1)<>\"\",OFFSET([1]DE100_7!$Q$183,ROWS($Q$183:Q212)-1,COLUMNS($Q$183:Q212)-1),\"\")","v":{"$error":"#VALUE!"}},{"$f":"IF(OFFSET([1]DE100_7!$R$183,ROWS($R$183:R212)-1,COLUMNS($R$183:R212)-1)<>\"\",OFFSET([1]DE100_7!$R$183,ROWS($R$183:R212)-1,COLUMNS($R$183:R212)-1),\"\")","v":{"$error":"#VALUE!"}},{"$f":"IF(OFFSET([1]DE100_7!$S$183,ROWS($S$183:S212)-1,COLUMNS($S$183:S212)-1)<>\"\",OFFSET([1]DE100_7!$S$183,ROWS($S$183:S212)-1,COLUMNS($S$183:S212)-1),\"\")","v":{"$error":"#VALUE!"}},{"$f":"IF(OFFSET([1]DE100_7!$T$183,ROWS($T$183:T212)-1,COLUMNS($T$183:T212)-1)<>\"\",OFFSET([1]DE100_7!$T$183,ROWS($T$183:T212)-1,COLUMNS($T$183:T212)-1),\"\")","v":{"$error":"#VALUE!"}},{"$f":"IF(OFFSET([1]DE100_7!$U$183,ROWS($U$183:U212)-1,COLUMNS($U$183:U212)-1)<>\"\",OFFSET([1]DE100_7!$U$183,ROWS($U$183:U212)-1,COLUMNS($U$183:U212)-1),\"\")","v":{"$error":"#VALUE!"}},{"$f":"IF(OFFSET([1]DE100_7!$V$183,ROWS($V$183:V212)-1,COLUMNS($V$183:V212)-1)<>\"\",OFFSET([1]DE100_7!$V$183,ROWS($V$183:V212)-1,COLUMNS($V$183:V212)-1),\"\")","v":{"$error":"#VALUE!"}}]
[{"$f":"IF(OFFSET([1]DE100_7!$C$183,ROWS($C$183:C213)-1,COLUMNS($C$183:C213)-1)<>\"\",OFFSET([1]DE100_7!$C$183,ROWS($C$183:C213)-1,COLUMNS($C$183:C213)-1),\"\")","v":{"$error":"#VALUE!"}},{"$f":"IF(OFFSET([1]DE100_7!$D$183,ROWS($D$183:D213)-1,COLUMNS($D$183:D213)-1)<>\"\",OFFSET([1]DE100_7!$D$183,ROWS($D$183:D213)-1,COLUMNS($D$183:D213)-1),\"\")","v":{"$error":"#VALUE!"}},{"$f":"IF(OFFSET([1]DE100_7!$E$183,ROWS($E$183:E213)-1,COLUMNS($E$183:E213)-1)<>\"\",OFFSET([1]DE100_7!$E$183,ROWS($E$183:E213)-1,COLUMNS($E$183:E213)-1),\"\")","v":{"$error":"#VALUE!"}},{"$f":"IF(OFFSET([1]DE100_7!$F$183,ROWS($F$183:F213)-1,COLUMNS($F$183:F213)-1)<>\"\",OFFSET([1]DE100_7!$F$183,ROWS($F$183:F213)-1,COLUMNS($F$183:F213)-1),\"\")","v":{"$error":"#VALUE!"}},{"$f":"IF(OFFSET([1]DE100_7!$G$183,ROWS($G$183:G213)-1,COLUMNS($G$183:G213)-1)<>\"\",OFFSET([1]DE100_7!$G$183,ROWS($G$183:G213)-1,COLUMNS($G$183:G213)-1),\"\")","v":{"$error":"#VALUE!"}},{"$f":"IF(OFFSET([1]DE100_7!$H$183,ROWS($H$183:H213)-1,COLUMNS($H$183:H213)-1)<>\"\",OFFSET([1]DE100_7!$H$183,ROWS($H$183:H213)-1,COLUMNS($H$183:H213)-1),\"\")","v":{"$error":"#VALUE!"}},{"$f":"IF(OFFSET([1]DE100_7!$I$183,ROWS($I$183:I213)-1,COLUMNS($I$183:I213)-1)<>\"\",OFFSET([1]DE100_7!$I$183,ROWS($I$183:I213)-1,COLUMNS($I$183:I213)-1),\"\")","v":{"$error":"#VALUE!"}},{"$f":"IF(OFFSET([1]DE100_7!$J$183,ROWS($J$183:J213)-1,COLUMNS($J$183:J213)-1)<>\"\",OFFSET([1]DE100_7!$J$183,ROWS($J$183:J213)-1,COLUMNS($J$183:J213)-1),\"\")","v":{"$error":"#VALUE!"}},{"$f":"IF(OFFSET([1]DE100_7!$K$183,ROWS($K$183:K213)-1,COLUMNS($K$183:K213)-1)<>\"\",OFFSET([1]DE100_7!$K$183,ROWS($K$183:K213)-1,COLUMNS($K$183:K213)-1),\"\")","v":{"$error":"#VALUE!"}},{"$f":"IF(OFFSET([1]DE100_7!$L$183,ROWS($L$183:L213)-1,COLUMNS($L$183:L213)-1)<>\"\",OFFSET([1]DE100_7!$L$183,ROWS($L$183:L213)-1,COLUMNS($L$183:L213)-1),\"\")","v":{"$error":"#VALUE!"}},{"$f":"IF(OFFSET([1]DE100_7!$M$183,ROWS($M$183:M213)-1,COLUMNS($M$183:M213)-1)<>\"\",OFFSET([1]DE100_7!$M$183,ROWS($M$183:M213)-1,COLUMNS($M$183:M213)-1),\"\")","v":{"$error":"#VALUE!"}},{"$f":"IF(OFFSET([1]DE100_7!$N$183,ROWS($N$183:N213)-1,COLUMNS($N$183:N213)-1)<>\"\",OFFSET([1]DE100_7!$N$183,ROWS($N$183:N213)-1,COLUMNS($N$183:N213)-1),\"\")","v":{"$error":"#VALUE!"}},{"$f":"IF(OFFSET([1]DE100_7!$O$183,ROWS($O$183:O213)-1,COLUMNS($O$183:O213)-1)<>\"\",OFFSET([1]DE100_7!$O$183,ROWS($O$183:O213)-1,COLUMNS($O$183:O213)-1),\"\")","v":{"$error":"#VALUE!"}},{"$f":"IF(OFFSET([1]DE100_7!$P$183,ROWS($P$183:P213)-1,COLUMNS($P$183:P213)-1)<>\"\",OFFSET([1]DE100_7!$P$183,ROWS($P$183:P213)-1,COLUMNS($P$183:P213)-1),\"\")","v":{"$error":"#VALUE!"}},{"$f":"IF(OFFSET([1]DE100_7!$Q$183,ROWS($Q$183:Q213)-1,COLUMNS($Q$183:Q213)-1)<>\"\",OFFSET([1]DE100_7!$Q$183,ROWS($Q$183:Q213)-1,COLUMNS($Q$183:Q213)-1),\"\")","v":{"$error":"#VALUE!"}},{"$f":"IF(OFFSET([1]DE100_7!$R$183,ROWS($R$183:R213)-1,COLUMNS($R$183:R213)-1)<>\"\",OFFSET([1]DE100_7!$R$183,ROWS($R$183:R213)-1,COLUMNS($R$183:R213)-1),\"\")","v":{"$error":"#VALUE!"}},{"$f":"IF(OFFSET([1]DE100_7!$S$183,ROWS($S$183:S213)-1,COLUMNS($S$183:S213)-1)<>\"\",OFFSET([1]DE100_7!$S$183,ROWS($S$183:S213)-1,COLUMNS($S$183:S213)-1),\"\")","v":{"$error":"#VALUE!"}},{"$f":"IF(OFFSET([1]DE100_7!$T$183,ROWS($T$183:T213)-1,COLUMNS($T$183:T213)-1)<>\"\",OFFSET([1]DE100_7!$T$183,ROWS($T$183:T213)-1,COLUMNS($T$183:T213)-1),\"\")","v":{"$error":"#VALUE!"}},{"$f":"IF(OFFSET([1]DE100_7!$U$183,ROWS($U$183:U213)-1,COLUMNS($U$183:U213)-1)<>\"\",OFFSET([1]DE100_7!$U$183,ROWS($U$183:U213)-1,COLUMNS($U$183:U213)-1),\"\")","v":{"$error":"#VALUE!"}},{"$f":"IF(OFFSET([1]DE100_7!$V$183,ROWS($V$183:V213)-1,COLUMNS($V$183:V213)-1)<>\"\",OFFSET([1]DE100_7!$V$183,ROWS($V$183:V213)-1,COLUMNS($V$183:V213)-1),\"\")","v":{"$error":"#VALUE!"}}]
[{"$f":"IF(OFFSET([1]DE100_7!$C$183,ROWS($C$183:C214)-1,COLUMNS($C$183:C214)-1)<>\"\",OFFSET([1]DE100_7!$C$183,ROWS($C$183:C214)-1,COLUMNS($C$183:C214)-1),\"\")","v":{"$error":"#VALUE!"}},{"$f":"IF(OFFSET([1]DE100_7!$D$183,ROWS($D$183:D214)-1,COLUMNS($D$183:D214)-1)<>\"\",OFFSET([1]DE100_7!$D$183,ROWS($D$183:D214)-1,COLUMNS($D$183:D214)-1),\"\")","v":{"$error":"#VALUE!"}},{"$f":"IF(OFFSET([1]DE100_7!$E$183,ROWS($E$183:E214)-1,COLUMNS($E$183:E214)-1)<>\"\",OFFSET([1]DE100_7!$E$183,ROWS($E$183:E214)-1,COLUMNS($E$183:E214)-1),\"\")","v":{"$error":"#VALUE!"}},{"$f":"IF(OFFSET([1]DE100_7!$F$183,ROWS($F$183:F214)-1,COLUMNS($F$183:F214)-1)<>\"\",OFFSET([1]DE100_7!$F$183,ROWS($F$183:F214)-1,COLUMNS($F$183:F214)-1),\"\")","v":{"$error":"#VALUE!"}},{"$f":"IF(OFFSET([1]DE100_7!$G$183,ROWS($G$183:G214)-1,COLUMNS($G$183:G214)-1)<>\"\",OFFSET([1]DE100_7!$G$183,ROWS($G$183:G214)-1,COLUMNS($G$183:G214)-1),\"\")","v":{"$error":"#VALUE!"}},{"$f":"IF(OFFSET([1]DE100_7!$H$183,ROWS($H$183:H214)-1,COLUMNS($H$183:H214)-1)<>\"\",OFFSET([1]DE100_7!$H$183,ROWS($H$183:H214)-1,COLUMNS($H$183:H214)-1),\"\")","v":{"$error":"#VALUE!"}},{"$f":"IF(OFFSET([1]DE100_7!$I$183,ROWS($I$183:I214)-1,COLUMNS($I$183:I214)-1)<>\"\",OFFSET([1]DE100_7!$I$183,ROWS($I$183:I214)-1,COLUMNS($I$183:I214)-1),\"\")","v":{"$error":"#VALUE!"}},{"$f":"IF(OFFSET([1]DE100_7!$J$183,ROWS($J$183:J214)-1,COLUMNS($J$183:J214)-1)<>\"\",OFFSET([1]DE100_7!$J$183,ROWS($J$183:J214)-1,COLUMNS($J$183:J214)-1),\"\")","v":{"$error":"#VALUE!"}},{"$f":"IF(OFFSET([1]DE100_7!$K$183,ROWS($K$183:K214)-1,COLUMNS($K$183:K214)-1)<>\"\",OFFSET([1]DE100_7!$K$183,ROWS($K$183:K214)-1,COLUMNS($K$183:K214)-1),\"\")","v":{"$error":"#VALUE!"}},{"$f":"IF(OFFSET([1]DE100_7!$L$183,ROWS($L$183:L214)-1,COLUMNS($L$183:L214)-1)<>\"\",OFFSET([1]DE100_7!$L$183,ROWS($L$183:L214)-1,COLUMNS($L$183:L214)-1),\"\")","v":{"$error":"#VALUE!"}},{"$f":"IF(OFFSET([1]DE100_7!$M$183,ROWS($M$183:M214)-1,COLUMNS($M$183:M214)-1)<>\"\",OFFSET([1]DE100_7!$M$183,ROWS($M$183:M214)-1,COLUMNS($M$183:M214)-1),\"\")","v":{"$error":"#VALUE!"}},{"$f":"IF(OFFSET([1]DE100_7!$N$183,ROWS($N$183:N214)-1,COLUMNS($N$183:N214)-1)<>\"\",OFFSET([1]DE100_7!$N$183,ROWS($N$183:N214)-1,COLUMNS($N$183:N214)-1),\"\")","v":{"$error":"#VALUE!"}},{"$f":"IF(OFFSET([1]DE100_7!$O$183,ROWS($O$183:O214)-1,COLUMNS($O$183:O214)-1)<>\"\",OFFSET([1]DE100_7!$O$183,ROWS($O$183:O214)-1,COLUMNS($O$183:O214)-1),\"\")","v":{"$error":"#VALUE!"}},{"$f":"IF(OFFSET([1]DE100_7!$P$183,ROWS($P$183:P214)-1,COLUMNS($P$183:P214)-1)<>\"\",OFFSET([1]DE100_7!$P$183,ROWS($P$183:P214)-1,COLUMNS($P$183:P214)-1),\"\")","v":{"$error":"#VALUE!"}},{"$f":"IF(OFFSET([1]DE100_7!$Q$183,ROWS($Q$183:Q214)-1,COLUMNS($Q$183:Q214)-1)<>\"\",OFFSET([1]DE100_7!$Q$183,ROWS($Q$183:Q214)-1,COLUMNS($Q$183:Q214)-1),\"\")","v":{"$error":"#VALUE!"}},{"$f":"IF(OFFSET([1]DE100_7!$R$183,ROWS($R$183:R214)-1,COLUMNS($R$183:R214)-1)<>\"\",OFFSET([1]DE100_7!$R$183,ROWS($R$183:R214)-1,COLUMNS($R$183:R214)-1),\"\")","v":{"$error":"#VALUE!"}},{"$f":"IF(OFFSET([1]DE100_7!$S$183,ROWS($S$183:S214)-1,COLUMNS($S$183:S214)-1)<>\"\",OFFSET([1]DE100_7!$S$183,ROWS($S$183:S214)-1,COLUMNS($S$183:S214)-1),\"\")","v":{"$error":"#VALUE!"}},{"$f":"IF(OFFSET([1]DE100_7!$T$183,ROWS($T$183:T214)-1,COLUMNS($T$183:T214)-1)<>\"\",OFFSET([1]DE100_7!$T$183,ROWS($T$183:T214)-1,COLUMNS($T$183:T214)-1),\"\")","v":{"$error":"#VALUE!"}},{"$f":"IF(OFFSET([1]DE100_7!$U$183,ROWS($U$183:U214)-1,COLUMNS($U$183:U214)-1)<>\"\",OFFSET([1]DE100_7!$U$183,ROWS($U$183:U214)-1,COLUMNS($U$183:U214)-1),\"\")","v":{"$error":"#VALUE!"}},{"$f":"IF(OFFSET([1]DE100_7!$V$183,ROWS($V$183:V214)-1,COLUMNS($V$183:V214)-1)<>\"\",OFFSET([1]DE100_7!$V$183,ROWS($V$183:V214)-1,COLUMNS($V$183:V214)-1),\"\")","v":{"$error":"#VALUE!"}}]
[{"$f":"IF(OFFSET([1]DE100_7!$C$183,ROWS($C$183:C215)-1,COLUMNS($C$183:C215)-1)<>\"\",OFFSET([1]DE100_7!$C$183,ROWS($C$183:C215)-1,COLUMNS($C$183:C215)-1),\"\")","v":{"$error":"#VALUE!"}},{"$f":"IF(OFFSET([1]DE100_7!$D$183,ROWS($D$183:D215)-1,COLUMNS($D$183:D215)-1)<>\"\",OFFSET([1]DE100_7!$D$183,ROWS($D$183:D215)-1,COLUMNS($D$183:D215)-1),\"\")","v":{"$error":"#VALUE!"}},{"$f":"IF(OFFSET([1]DE100_7!$E$183,ROWS($E$183:E215)-1,COLUMNS($E$183:E215)-1)<>\"\",OFFSET([1]DE100_7!$E$183,ROWS($E$183:E215)-1,COLUMNS($E$183:E215)-1),\"\")","v":{"$error":"#VALUE!"}},{"$f":"IF(OFFSET([1]DE100_7!$F$183,ROWS($F$183:F215)-1,COLUMNS($F$183:F215)-1)<>\"\",OFFSET([1]DE100_7!$F$183,ROWS($F$183:F215)-1,COLUMNS($F$183:F215)-1),\"\")","v":{"$error":"#VALUE!"}},{"$f":"IF(OFFSET([1]DE100_7!$G$183,ROWS($G$183:G215)-1,COLUMNS($G$183:G215)-1)<>\"\",OFFSET([1]DE100_7!$G$183,ROWS($G$183:G215)-1,COLUMNS($G$183:G215)-1),\"\")","v":{"$error":"#VALUE!"}},{"$f":"IF(OFFSET([1]DE100_7!$H$183,ROWS($H$183:H215)-1,COLUMNS($H$183:H215)-1)<>\"\",OFFSET([1]DE100_7!$H$183,ROWS($H$183:H215)-1,COLUMNS($H$183:H215)-1),\"\")","v":{"$error":"#VALUE!"}},{"$f":"IF(OFFSET([1]DE100_7!$I$183,ROWS($I$183:I215)-1,COLUMNS($I$183:I215)-1)<>\"\",OFFSET([1]DE100_7!$I$183,ROWS($I$183:I215)-1,COLUMNS($I$183:I215)-1),\"\")","v":{"$error":"#VALUE!"}},{"$f":"IF(OFFSET([1]DE100_7!$J$183,ROWS($J$183:J215)-1,COLUMNS($J$183:J215)-1)<>\"\",OFFSET([1]DE100_7!$J$183,ROWS($J$183:J215)-1,COLUMNS($J$183:J215)-1),\"\")","v":{"$error":"#VALUE!"}},{"$f":"IF(OFFSET([1]DE100_7!$K$183,ROWS($K$183:K215)-1,COLUMNS($K$183:K215)-1)<>\"\",OFFSET([1]DE100_7!$K$183,ROWS($K$183:K215)-1,COLUMNS($K$183:K215)-1),\"\")","v":{"$error":"#VALUE!"}},{"$f":"IF(OFFSET([1]DE100_7!$L$183,ROWS($L$183:L215)-1,COLUMNS($L$183:L215)-1)<>\"\",OFFSET([1]DE100_7!$L$183,ROWS($L$183:L215)-1,COLUMNS($L$183:L215)-1),\"\")","v":{"$error":"#VALUE!"}},{"$f":"IF(OFFSET([1]DE100_7!$M$183,ROWS($M$183:M215)-1,COLUMNS($M$183:M215)-1)<>\"\",OFFSET([1]DE100_7!$M$183,ROWS($M$183:M215)-1,COLUMNS($M$183:M215)-1),\"\")","v":{"$error":"#VALUE!"}},{"$f":"IF(OFFSET([1]DE100_7!$N$183,ROWS($N$183:N215)-1,COLUMNS($N$183:N215)-1)<>\"\",OFFSET([1]DE100_7!$N$183,ROWS($N$183:N215)-1,COLUMNS($N$183:N215)-1),\"\")","v":{"$error":"#VALUE!"}},{"$f":"IF(OFFSET([1]DE100_7!$O$183,ROWS($O$183:O215)-1,COLUMNS($O$183:O215)-1)<>\"\",OFFSET([1]DE100_7!$O$183,ROWS($O$183:O215)-1,COLUMNS($O$183:O215)-1),\"\")","v":{"$error":"#VALUE!"}},{"$f":"IF(OFFSET([1]DE100_7!$P$183,ROWS($P$183:P215)-1,COLUMNS($P$183:P215)-1)<>\"\",OFFSET([1]DE100_7!$P$183,ROWS($P$183:P215)-1,COLUMNS($P$183:P215)-1),\"\")","v":{"$error":"#VALUE!"}},{"$f":"IF(OFFSET([1]DE100_7!$Q$183,ROWS($Q$183:Q215)-1,COLUMNS($Q$183:Q215)-1)<>\"\",OFFSET([1]DE100_7!$Q$183,ROWS($Q$183:Q215)-1,COLUMNS($Q$183:Q215)-1),\"\")","v":{"$error":"#VALUE!"}},{"$f":"IF(OFFSET([1]DE100_7!$R$183,ROWS($R$183:R215)-1,COLUMNS($R$183:R215)-1)<>\"\",OFFSET([1]DE100_7!$R$183,ROWS($R$183:R215)-1,COLUMNS($R$183:R215)-1),\"\")","v":{"$error":"#VALUE!"}},{"$f":"IF(OFFSET([1]DE100_7!$S$183,ROWS($S$183:S215)-1,COLUMNS($S$183:S215)-1)<>\"\",OFFSET([1]DE100_7!$S$183,ROWS($S$183:S215)-1,COLUMNS($S$183:S215)-1),\"\")","v":{"$error":"#VALUE!"}},{"$f":"IF(OFFSET([1]DE100_7!$T$183,ROWS($T$183:T215)-1,COLUMNS($T$183:T215)-1)<>\"\",OFFSET([1]DE100_7!$T$183,ROWS($T$183:T215)-1,COLUMNS($T$183:T215)-1),\"\")","v":{"$error":"#VALUE!"}},{"$f":"IF(OFFSET([1]DE100_7!$U$183,ROWS($U$183:U215)-1,COLUMNS($U$183:U215)-1)<>\"\",OFFSET([1]DE100_7!$U$183,ROWS($U$183:U215)-1,COLUMNS($U$183:U215)-1),\"\")","v":{"$error":"#VALUE!"}},{"$f":"IF(OFFSET([1]DE100_7!$V$183,ROWS($V$183:V215)-1,COLUMNS($V$183:V215)-1)<>\"\",OFFSET([1]DE100_7!$V$183,ROWS($V$183:V215)-1,COLUMNS($V$183:V215)-1),\"\")","v":{"$error":"#VALUE!"}}]
[{"$f":"IF(OFFSET([1]DE100_7!$C$183,ROWS($C$183:C216)-1,COLUMNS($C$183:C216)-1)<>\"\",OFFSET([1]DE100_7!$C$183,ROWS($C$183:C216)-1,COLUMNS($C$183:C216)-1),\"\")","v":{"$error":"#VALUE!"}},{"$f":"IF(OFFSET([1]DE100_7!$D$183,ROWS($D$183:D216)-1,COLUMNS($D$183:D216)-1)<>\"\",OFFSET([1]DE100_7!$D$183,ROWS($D$183:D216)-1,COLUMNS($D$183:D216)-1),\"\")","v":{"$error":"#VALUE!"}},{"$f":"IF(OFFSET([1]DE100_7!$E$183,ROWS($E$183:E216)-1,COLUMNS($E$183:E216)-1)<>\"\",OFFSET([1]DE100_7!$E$183,ROWS($E$183:E216)-1,COLUMNS($E$183:E216)-1),\"\")","v":{"$error":"#VALUE!"}},{"$f":"IF(OFFSET([1]DE100_7!$F$183,ROWS($F$183:F216)-1,COLUMNS($F$183:F216)-1)<>\"\",OFFSET([1]DE100_7!$F$183,ROWS($F$183:F216)-1,COLUMNS($F$183:F216)-1),\"\")","v":{"$error":"#VALUE!"}},{"$f":"IF(OFFSET([1]DE100_7!$G$183,ROWS($G$183:G216)-1,COLUMNS($G$183:G216)-1)<>\"\",OFFSET([1]DE100_7!$G$183,ROWS($G$183:G216)-1,COLUMNS($G$183:G216)-1),\"\")","v":{"$error":"#VALUE!"}},{"$f":"IF(OFFSET([1]DE100_7!$H$183,ROWS($H$183:H216)-1,COLUMNS($H$183:H216)-1)<>\"\",OFFSET([1]DE100_7!$H$183,ROWS($H$183:H216)-1,COLUMNS($H$183:H216)-1),\"\")","v":{"$error":"#VALUE!"}},{"$f":"IF(OFFSET([1]DE100_7!$I$183,ROWS($I$183:I216)-1,COLUMNS($I$183:I216)-1)<>\"\",OFFSET([1]DE100_7!$I$183,ROWS($I$183:I216)-1,COLUMNS($I$183:I216)-1),\"\")","v":{"$error":"#VALUE!"}},{"$f":"IF(OFFSET([1]DE100_7!$J$183,ROWS($J$183:J216)-1,COLUMNS($J$183:J216)-1)<>\"\",OFFSET([1]DE100_7!$J$183,ROWS($J$183:J216)-1,COLUMNS($J$183:J216)-1),\"\")","v":{"$error":"#VALUE!"}},{"$f":"IF(OFFSET([1]DE100_7!$K$183,ROWS($K$183:K216)-1,COLUMNS($K$183:K216)-1)<>\"\",OFFSET([1]DE100_7!$K$183,ROWS($K$183:K216)-1,COLUMNS($K$183:K216)-1),\"\")","v":{"$error":"#VALUE!"}},{"$f":"IF(OFFSET([1]DE100_7!$L$183,ROWS($L$183:L216)-1,COLUMNS($L$183:L216)-1)<>\"\",OFFSET([1]DE100_7!$L$183,ROWS($L$183:L216)-1,COLUMNS($L$183:L216)-1),\"\")","v":{"$error":"#VALUE!"}},{"$f":"IF(OFFSET([1]DE100_7!$M$183,ROWS($M$183:M216)-1,COLUMNS($M$183:M216)-1)<>\"\",OFFSET([1]DE100_7!$M$183,ROWS($M$183:M216)-1,COLUMNS($M$183:M216)-1),\"\")","v":{"$error":"#VALUE!"}},{"$f":"IF(OFFSET([1]DE100_7!$N$183,ROWS($N$183:N216)-1,COLUMNS($N$183:N216)-1)<>\"\",OFFSET([1]DE100_7!$N$183,ROWS($N$183:N216)-1,COLUMNS($N$183:N216)-1),\"\")","v":{"$error":"#VALUE!"}},{"$f":"IF(OFFSET([1]DE100_7!$O$183,ROWS($O$183:O216)-1,COLUMNS($O$183:O216)-1)<>\"\",OFFSET([1]DE100_7!$O$183,ROWS($O$183:O216)-1,COLUMNS($O$183:O216)-1),\"\")","v":{"$error":"#VALUE!"}},{"$f":"IF(OFFSET([1]DE100_7!$P$183,ROWS($P$183:P216)-1,COLUMNS($P$183:P216)-1)<>\"\",OFFSET([1]DE100_7!$P$183,ROWS($P$183:P216)-1,COLUMNS($P$183:P216)-1),\"\")","v":{"$error":"#VALUE!"}},{"$f":"IF(OFFSET([1]DE100_7!$Q$183,ROWS($Q$183:Q216)-1,COLUMNS($Q$183:Q216)-1)<>\"\",OFFSET([1]DE100_7!$Q$183,ROWS($Q$183:Q216)-1,COLUMNS($Q$183:Q216)-1),\"\")","v":{"$error":"#VALUE!"}},{"$f":"IF(OFFSET([1]DE100_7!$R$183,ROWS($R$183:R216)-1,COLUMNS($R$183:R216)-1)<>\"\",OFFSET([1]DE100_7!$R$183,ROWS($R$183:R216)-1,COLUMNS($R$183:R216)-1),\"\")","v":{"$error":"#VALUE!"}},{"$f":"IF(OFFSET([1]DE100_7!$S$183,ROWS($S$183:S216)-1,COLUMNS($S$183:S216)-1)<>\"\",OFFSET([1]DE100_7!$S$183,ROWS($S$183:S216)-1,COLUMNS($S$183:S216)-1),\"\")","v":{"$error":"#VALUE!"}},{"$f":"IF(OFFSET([1]DE100_7!$T$183,ROWS($T$183:T216)-1,COLUMNS($T$183:T216)-1)<>\"\",OFFSET([1]DE100_7!$T$183,ROWS($T$183:T216)-1,COLUMNS($T$183:T216)-1),\"\")","v":{"$error":"#VALUE!"}},{"$f":"IF(OFFSET([1]DE100_7!$U$183,ROWS($U$183:U216)-1,COLUMNS($U$183:U216)-1)<>\"\",OFFSET([1]DE100_7!$U$183,ROWS($U$183:U216)-1,COLUMNS($U$183:U216)-1),\"\")","v":{"$error":"#VALUE!"}},{"$f":"IF(OFFSET([1]DE100_7!$V$183,ROWS($V$183:V216)-1,COLUMNS($V$183:V216)-1)<>\"\",OFFSET([1]DE100_7!$V$183,ROWS($V$183:V216)-1,COLUMNS($V$183:V216)-1),\"\")","v":{"$error":"#VALUE!"}}]
[{"$f":"IF(OFFSET([1]DE100_7!$C$183,ROWS($C$183:C217)-1,COLUMNS($C$183:C217)-1)<>\"\",OFFSET([1]DE100_7!$C$183,ROWS($C$183:C217)-1,COLUMNS($C$183:C217)-1),\"\")","v":{"$error":"#VALUE!"}},{"$f":"IF(OFFSET([1]DE100_7!$D$183,ROWS($D$183:D217)-1,COLUMNS($D$183:D217)-1)<>\"\",OFFSET([1]DE100_7!$D$183,ROWS($D$183:D217)-1,COLUMNS($D$183:D217)-1),\"\")","v":{"$error":"#VALUE!"}},{"$f":"IF(OFFSET([1]DE100_7!$E$183,ROWS($E$183:E217)-1,COLUMNS($E$183:E217)-1)<>\"\",OFFSET([1]DE100_7!$E$183,ROWS($E$183:E217)-1,COLUMNS($E$183:E217)-1),\"\")","v":{"$error":"#VALUE!"}},{"$f":"IF(OFFSET([1]DE100_7!$F$183,ROWS($F$183:F217)-1,COLUMNS($F$183:F217)-1)<>\"\",OFFSET([1]DE100_7!$F$183,ROWS($F$183:F217)-1,COLUMNS($F$183:F217)-1),\"\")","v":{"$error":"#VALUE!"}},{"$f":"IF(OFFSET([1]DE100_7!$G$183,ROWS($G$183:G217)-1,COLUMNS($G$183:G217)-1)<>\"\",OFFSET([1]DE100_7!$G$183,ROWS($G$183:G217)-1,COLUMNS($G$183:G217)-1),\"\")","v":{"$error":"#VALUE!"}},{"$f":"IF(OFFSET([1]DE100_7!$H$183,ROWS($H$183:H217)-1,COLUMNS($H$183:H217)-1)<>\"\",OFFSET([1]DE100_7!$H$183,ROWS($H$183:H217)-1,COLUMNS($H$183:H217)-1),\"\")","v":{"$error":"#VALUE!"}},{"$f":"IF(OFFSET([1]DE100_7!$I$183,ROWS($I$183:I217)-1,COLUMNS($I$183:I217)-1)<>\"\",OFFSET([1]DE100_7!$I$183,ROWS($I$183:I217)-1,COLUMNS($I$183:I217)-1),\"\")","v":{"$error":"#VALUE!"}},{"$f":"IF(OFFSET([1]DE100_7!$J$183,ROWS($J$183:J217)-1,COLUMNS($J$183:J217)-1)<>\"\",OFFSET([1]DE100_7!$J$183,ROWS($J$183:J217)-1,COLUMNS($J$183:J217)-1),\"\")","v":{"$error":"#VALUE!"}},{"$f":"IF(OFFSET([1]DE100_7!$K$183,ROWS($K$183:K217)-1,COLUMNS($K$183:K217)-1)<>\"\",OFFSET([1]DE100_7!$K$183,ROWS($K$183:K217)-1,COLUMNS($K$183:K217)-1),\"\")","v":{"$error":"#VALUE!"}},{"$f":"IF(OFFSET([1]DE100_7!$L$183,ROWS($L$183:L217)-1,COLUMNS($L$183:L217)-1)<>\"\",OFFSET([1]DE100_7!$L$183,ROWS($L$183:L217)-1,COLUMNS($L$183:L217)-1),\"\")","v":{"$error":"#VALUE!"}},{"$f":"IF(OFFSET([1]DE100_7!$M$183,ROWS($M$183:M217)-1,COLUMNS($M$183:M217)-1)<>\"\",OFFSET([1]DE100_7!$M$183,ROWS($M$183:M217)-1,COLUMNS($M$183:M217)-1),\"\")","v":{"$error":"#VALUE!"}},{"$f":"IF(OFFSET([1]DE100_7!$N$183,ROWS($N$183:N217)-1,COLUMNS($N$183:N217)-1)<>\"\",OFFSET([1]DE100_7!$N$183,ROWS($N$183:N217)-1,COLUMNS($N$183:N217)-1),\"\")","v":{"$error":"#VALUE!"}},{"$f":"IF(OFFSET([1]DE100_7!$O$183,ROWS($O$183:O217)-1,COLUMNS($O$183:O217)-1)<>\"\",OFFSET([1]DE100_7!$O$183,ROWS($O$183:O217)-1,COLUMNS($O$183:O217)-1),\"\")","v":{"$error":"#VALUE!"}},{"$f":"IF(OFFSET([1]DE100_7!$P$183,ROWS($P$183:P217)-1,COLUMNS($P$183:P217)-1)<>\"\",OFFSET([1]DE100_7!$P$183,ROWS($P$183:P217)-1,COLUMNS($P$183:P217)-1),\"\")","v":{"$error":"#VALUE!"}},{"$f":"IF(OFFSET([1]DE100_7!$Q$183,ROWS($Q$183:Q217)-1,COLUMNS($Q$183:Q217)-1)<>\"\",OFFSET([1]DE100_7!$Q$183,ROWS($Q$183:Q217)-1,COLUMNS($Q$183:Q217)-1),\"\")","v":{"$error":"#VALUE!"}},{"$f":"IF(OFFSET([1]DE100_7!$R$183,ROWS($R$183:R217)-1,COLUMNS($R$183:R217)-1)<>\"\",OFFSET([1]DE100_7!$R$183,ROWS($R$183:R217)-1,COLUMNS($R$183:R217)-1),\"\")","v":{"$error":"#VALUE!"}},{"$f":"IF(OFFSET([1]DE100_7!$S$183,ROWS($S$183:S217)-1,COLUMNS($S$183:S217)-1)<>\"\",OFFSET([1]DE100_7!$S$183,ROWS($S$183:S217)-1,COLUMNS($S$183:S217)-1),\"\")","v":{"$error":"#VALUE!"}},{"$f":"IF(OFFSET([1]DE100_7!$T$183,ROWS($T$183:T217)-1,COLUMNS($T$183:T217)-1)<>\"\",OFFSET([1]DE100_7!$T$183,ROWS($T$183:T217)-1,COLUMNS($T$183:T217)-1),\"\")","v":{"$error":"#VALUE!"}},{"$f":"IF(OFFSET([1]DE100_7!$U$183,ROWS($U$183:U217)-1,COLUMNS($U$183:U217)-1)<>\"\",OFFSET([1]DE100_7!$U$183,ROWS($U$183:U217)-1,COLUMNS($U$183:U217)-1),\"\")","v":{"$error":"#VALUE!"}},{"$f":"IF(OFFSET([1]DE100_7!$V$183,ROWS($V$183:V217)-1,COLUMNS($V$183:V217)-1)<>\"\",OFFSET([1]DE100_7!$V$183,ROWS($V$183:V217)-1,COLUMNS($V$183:V217)-1),\"\")","v":{"$error":"#VALUE!"}}]
[{"$f":"IF(OFFSET([1]DE100_7!$C$183,ROWS($C$183:C218)-1,COLUMNS($C$183:C218)-1)<>\"\",OFFSET([1]DE100_7!$C$183,ROWS($C$183:C218)-1,COLUMNS($C$183:C218)-1),\"\")","v":{"$error":"#VALUE!"}},{"$f":"IF(OFFSET([1]DE100_7!$D$183,ROWS($D$183:D218)-1,COLUMNS($D$183:D218)-1)<>\"\",OFFSET([1]DE100_7!$D$183,ROWS($D$183:D218)-1,COLUMNS($D$183:D218)-1),\"\")","v":{"$error":"#VALUE!"}},{"$f":"IF(OFFSET([1]DE100_7!$E$183,ROWS($E$183:E218)-1,COLUMNS($E$183:E218)-1)<>\"\",OFFSET([1]DE100_7!$E$183,ROWS($E$183:E218)-1,COLUMNS($E$183:E218)-1),\"\")","v":{"$error":"#VALUE!"}},{"$f":"IF(OFFSET([1]DE100_7!$F$183,ROWS($F$183:F218)-1,COLUMNS($F$183:F218)-1)<>\"\",OFFSET([1]DE100_7!$F$183,ROWS($F$183:F218)-1,COLUMNS($F$183:F218)-1),\"\")","v":{"$error":"#VALUE!"}},{"$f":"IF(OFFSET([1]DE100_7!$G$183,ROWS($G$183:G218)-1,COLUMNS($G$183:G218)-1)<>\"\",OFFSET([1]DE100_7!$G$183,ROWS($G$183:G218)-1,COLUMNS($G$183:G218)-1),\"\")","v":{"$error":"#VALUE!"}},{"$f":"IF(OFFSET([1]DE100_7!$H$183,ROWS($H$183:H218)-1,COLUMNS($H$183:H218)-1)<>\"\",OFFSET([1]DE100_7!$H$183,ROWS($H$183:H218)-1,COLUMNS($H$183:H218)-1),\"\")","v":{"$error":"#VALUE!"}},{"$f":"IF(OFFSET([1]DE100_7!$I$183,ROWS($I$183:I218)-1,COLUMNS($I$183:I218)-1)<>\"\",OFFSET([1]DE100_7!$I$183,ROWS($I$183:I218)-1,COLUMNS($I$183:I218)-1),\"\")","v":{"$error":"#VALUE!"}},{"$f":"IF(OFFSET([1]DE100_7!$J$183,ROWS($J$183:J218)-1,COLUMNS($J$183:J218)-1)<>\"\",OFFSET([1]DE100_7!$J$183,ROWS($J$183:J218)-1,COLUMNS($J$183:J218)-1),\"\")","v":{"$error":"#VALUE!"}},{"$f":"IF(OFFSET([1]DE100_7!$K$183,ROWS($K$183:K218)-1,COLUMNS($K$183:K218)-1)<>\"\",OFFSET([1]DE100_7!$K$183,ROWS($K$183:K218)-1,COLUMNS($K$183:K218)-1),\"\")","v":{"$error":"#VALUE!"}},{"$f":"IF(OFFSET([1]DE100_7!$L$183,ROWS($L$183:L218)-1,COLUMNS($L$183:L218)-1)<>\"\",OFFSET([1]DE100_7!$L$183,ROWS($L$183:L218)-1,COLUMNS($L$183:L218)-1),\"\")","v":{"$error":"#VALUE!"}},{"$f":"IF(OFFSET([1]DE100_7!$M$183,ROWS($M$183:M218)-1,COLUMNS($M$183:M218)-1)<>\"\",OFFSET([1]DE100_7!$M$183,ROWS($M$183:M218)-1,COLUMNS($M$183:M218)-1),\"\")","v":{"$error":"#VALUE!"}},{"$f":"IF(OFFSET([1]DE100_7!$N$183,ROWS($N$183:N218)-1,COLUMNS($N$183:N218)-1)<>\"\",OFFSET([1]DE100_7!$N$183,ROWS($N$183:N218)-1,COLUMNS($N$183:N218)-1),\"\")","v":{"$error":"#VALUE!"}},{"$f":"IF(OFFSET([1]DE100_7!$O$183,ROWS($O$183:O218)-1,COLUMNS($O$183:O218)-1)<>\"\",OFFSET([1]DE100_7!$O$183,ROWS($O$183:O218)-1,COLUMNS($O$183:O218)-1),\"\")","v":{"$error":"#VALUE!"}},{"$f":"IF(OFFSET([1]DE100_7!$P$183,ROWS($P$183:P218)-1,COLUMNS($P$183:P218)-1)<>\"\",OFFSET([1]DE100_7!$P$183,ROWS($P$183:P218)-1,COLUMNS($P$183:P218)-1),\"\")","v":{"$error":"#VALUE!"}},{"$f":"IF(OFFSET([1]DE100_7!$Q$183,ROWS($Q$183:Q218)-1,COLUMNS($Q$183:Q218)-1)<>\"\",OFFSET([1]DE100_7!$Q$183,ROWS($Q$183:Q218)-1,COLUMNS($Q$183:Q218)-1),\"\")","v":{"$error":"#VALUE!"}},{"$f":"IF(OFFSET([1]DE100_7!$R$183,ROWS($R$183:R218)-1,COLUMNS($R$183:R218)-1)<>\"\",OFFSET([1]DE100_7!$R$183,ROWS($R$183:R218)-1,COLUMNS($R$183:R218)-1),\"\")","v":{"$error":"#VALUE!"}},{"$f":"IF(OFFSET([1]DE100_7!$S$183,ROWS($S$183:S218)-1,COLUMNS($S$183:S218)-1)<>\"\",OFFSET([1]DE100_7!$S$183,ROWS($S$183:S218)-1,COLUMNS($S$183:S218)-1),\"\")","v":{"$error":"#VALUE!"}},{"$f":"IF(OFFSET([1]DE100_7!$T$183,ROWS($T$183:T218)-1,COLUMNS($T$183:T218)-1)<>\"\",OFFSET([1]DE100_7!$T$183,ROWS($T$183:T218)-1,COLUMNS($T$183:T218)-1),\"\")","v":{"$error":"#VALUE!"}},{"$f":"IF(OFFSET([1]DE100_7!$U$183,ROWS($U$183:U218)-1,COLUMNS($U$183:U218)-1)<>\"\",OFFSET([1]DE100_7!$U$183,ROWS($U$183:U218)-1,COLUMNS($U$183:U218)-1),\"\")","v":{"$error":"#VALUE!"}},{"$f":"IF(OFFSET([1]DE100_7!$V$183,ROWS($V$183:V218)-1,COLUMNS($V$183:V218)-1)<>\"\",OFFSET([1]DE100_7!$V$183,ROWS($V$183:V218)-1,COLUMNS($V$183:V218)-1),\"\")","v":{"$error":"#VALUE!"}}]
[{"$f":"IF(OFFSET([1]DE100_7!$C$183,ROWS($C$183:C219)-1,COLUMNS($C$183:C219)-1)<>\"\",OFFSET([1]DE100_7!$C$183,ROWS($C$183:C219)-1,COLUMNS($C$183:C219)-1),\"\")","v":{"$error":"#VALUE!"}},null,null,null,{"$f":"IF(OFFSET([1]DE100_7!$G$183,ROWS($G$183:G219)-1,COLUMNS($G$183:G219)-1)<>\"\",OFFSET([1]DE100_7!$G$183,ROWS($G$183:G219)-1,COLUMNS($G$183:G219)-1),\"\")","v":{"$error":"#VALUE!"}},{"$f":"IF(OFFSET([1]DE100_7!$H$183,ROWS($H$183:H219)-1,COLUMNS($H$183:H219)-1)<>\"\",OFFSET([1]DE100_7!$H$183,ROWS($H$183:H219)-1,COLUMNS($H$183:H219)-1),\"\")","v":{"$error":"#VALUE!"}},{"$f":"IF(OFFSET([1]DE100_7!$I$183,ROWS($I$183:I219)-1,COLUMNS($I$183:I219)-1)<>\"\",OFFSET([1]DE100_7!$I$183,ROWS($I$183:I219)-1,COLUMNS($I$183:I219)-1),\"\")","v":{"$error":"#VALUE!"}},{"$f":"IF(OFFSET([1]DE100_7!$J$183,ROWS($J$183:J219)-1,COLUMNS($J$183:J219)-1)<>\"\",OFFSET([1]DE100_7!$J$183,ROWS($J$183:J219)-1,COLUMNS($J$183:J219)-1),\"\")","v":{"$error":"#VALUE!"}},{"$f":"IF(OFFSET([1]DE100_7!$K$183,ROWS($K$183:K219)-1,COLUMNS($K$183:K219)-1)<>\"\",OFFSET([1]DE100_7!$K$183,ROWS($K$183:K219)-1,COLUMNS($K$183:K219)-1),\"\")","v":{"$error":"#VALUE!"}},{"$f":"IF(OFFSET([1]DE100_7!$L$183,ROWS($L$183:L219)-1,COLUMNS($L$183:L219)-1)<>\"\",OFFSET([1]DE100_7!$L$183,ROWS($L$183:L219)-1,COLUMNS($L$183:L219)-1),\"\")","v":{"$error":"#VALUE!"}},{"$f":"IF(OFFSET([1]DE100_7!$M$183,ROWS($M$183:M219)-1,COLUMNS($M$183:M219)-1)<>\"\",OFFSET([1]DE100_7!$M$183,ROWS($M$183:M219)-1,COLUMNS($M$183:M219)-1),\"\")","v":{"$error":"#VALUE!"}},{"$f":"IF(OFFSET([1]DE100_7!$N$183,ROWS($N$183:N219)-1,COLUMNS($N$183:N219)-1)<>\"\",OFFSET([1]DE100_7!$N$183,ROWS($N$183:N219)-1,COLUMNS($N$183:N219)-1),\"\")","v":{"$error":"#VALUE!"}},{"$f":"IF(OFFSET([1]DE100_7!$O$183,ROWS($O$183:O219)-1,COLUMNS($O$183:O219)-1)<>\"\",OFFSET([1]DE100_7!$O$183,ROWS($O$183:O219)-1,COLUMNS($O$183:O219)-1),\"\")","v":{"$error":"#VALUE!"}},{"$f":"IF(OFFSET([1]DE100_7!$P$183,ROWS($P$183:P219)-1,COLUMNS($P$183:P219)-1)<>\"\",OFFSET([1]DE100_7!$P$183,ROWS($P$183:P219)-1,COLUMNS($P$183:P219)-1),\"\")","v":{"$error":"#VALUE!"}},{"$f":"IF(OFFSET([1]DE100_7!$Q$183,ROWS($Q$183:Q219)-1,COLUMNS($Q$183:Q219)-1)<>\"\",OFFSET([1]DE100_7!$Q$183,ROWS($Q$183:Q219)-1,COLUMNS($Q$183:Q219)-1),\"\")","v":{"$error":"#VALUE!"}},{"$f":"IF(OFFSET([1]DE100_7!$R$183,ROWS($R$183:R219)-1,COLUMNS($R$183:R219)-1)<>\"\",OFFSET([1]DE100_7!$R$183,ROWS($R$183:R219)-1,COLUMNS($R$183:R219)-1),\"\")","v":{"$error":"#VALUE!"}},{"$f":"IF(OFFSET([1]DE100_7!$S$183,ROWS($S$183:S219)-1,COLUMNS($S$183:S219)-1)<>\"\",OFFSET([1]DE100_7!$S$183,ROWS($S$183:S219)-1,COLUMNS($S$183:S219)-1),\"\")","v":{"$error":"#VALUE!"}},{"$f":"IF(OFFSET([1]DE100_7!$T$183,ROWS($T$183:T219)-1,COLUMNS($T$183:T219)-1)<>\"\",OFFSET([1]DE100_7!$T$183,ROWS($T$183:T219)-1,COLUMNS($T$183:T219)-1),\"\")","v":{"$error":"#VALUE!"}},{"$f":"IF(OFFSET([1]DE100_7!$U$183,ROWS($U$183:U219)-1,COLUMNS($U$183:U219)-1)<>\"\",OFFSET([1]DE100_7!$U$183,ROWS($U$183:U219)-1,COLUMNS($U$183:U219)-1),\"\")","v":{"$error":"#VALUE!"}},{"$f":"IF(OFFSET([1]DE100_7!$V$183,ROWS($V$183:V219)-1,COLUMNS($V$183:V219)-1)<>\"\",OFFSET([1]DE100_7!$V$183,ROWS($V$183:V219)-1,COLUMNS($V$183:V219)-1),\"\")","v":{"$error":"#VALUE!"}}]
[{"$f":"IF(OFFSET([1]DE100_7!$C$183,ROWS($C$183:C220)-1,COLUMNS($C$183:C220)-1)<>\"\",OFFSET([1]DE100_7!$C$183,ROWS($C$183:C220)-1,COLUMNS($C$183:C220)-1),\"\")","v":{"$error":"#VALUE!"}},{"$f":"IF(OFFSET([1]DE100_7!$D$183,ROWS($D$183:D220)-1,COLUMNS($D$183:D220)-1)<>\"\",OFFSET([1]DE100_7!$D$183,ROWS($D$183:D220)-1,COLUMNS($D$183:D220)-1),\"\")","v":{"$error":"#VALUE!"}},{"$f":"IF(OFFSET([1]DE100_7!$E$183,ROWS($E$183:E220)-1,COLUMNS($E$183:E220)-1)<>\"\",OFFSET([1]DE100_7!$E$183,ROWS($E$183:E220)-1,COLUMNS($E$183:E220)-1),\"\")","v":{"$error":"#VALUE!"}},{"$f":"IF(OFFSET([1]DE100_7!$F$183,ROWS($F$183:F220)-1,COLUMNS($F$183:F220)-1)<>\"\",OFFSET([1]DE100_7!$F$183,ROWS($F$183:F220)-1,COLUMNS($F$183:F220)-1),\"\")","v":{"$error":"#VALUE!"}},{"$f":"IF(OFFSET([1]DE100_7!$G$183,ROWS($G$183:G220)-1,COLUMNS($G$183:G220)-1)<>\"\",OFFSET([1]DE100_7!$G$183,ROWS($G$183:G220)-1,COLUMNS($G$183:G220)-1),\"\")","v":{"$error":"#VALUE!"}},{"$f":"IF(OFFSET([1]DE100_7!$H$183,ROWS($H$183:H220)-1,COLUMNS($H$183:H220)-1)<>\"\",OFFSET([1]DE100_7!$H$183,ROWS($H$183:H220)-1,COLUMNS($H$183:H220)-1),\"\")","v":{"$error":"#VALUE!"}},{"$f":"IF(OFFSET([1]DE100_7!$I$183,ROWS($I$183:I220)-1,COLUMNS($I$183:I220)-1)<>\"\",OFFSET([1]DE100_7!$I$183,ROWS($I$183:I220)-1,COLUMNS($I$183:I220)-1),\"\")","v":{"$error":"#VALUE!"}},{"$f":"IF(OFFSET([1]DE100_7!$J$183,ROWS($J$183:J220)-1,COLUMNS($J$183:J220)-1)<>\"\",OFFSET([1]DE100_7!$J$183,ROWS($J$183:J220)-1,COLUMNS($J$183:J220)-1),\"\")","v":{"$error":"#VALUE!"}},{"$f":"IF(OFFSET([1]DE100_7!$K$183,ROWS($K$183:K220)-1,COLUMNS($K$183:K220)-1)<>\"\",OFFSET([1]DE100_7!$K$183,ROWS($K$183:K220)-1,COLUMNS($K$183:K220)-1),\"\")","v":{"$error":"#VALUE!"}},{"$f":"IF(OFFSET([1]DE100_7!$L$183,ROWS($L$183:L220)-1,COLUMNS($L$183:L220)-1)<>\"\",OFFSET([1]DE100_7!$L$183,ROWS($L$183:L220)-1,COLUMNS($L$183:L220)-1),\"\")","v":{"$error":"#VALUE!"}},{"$f":"IF(OFFSET([1]DE100_7!$M$183,ROWS($M$183:M220)-1,COLUMNS($M$183:M220)-1)<>\"\",OFFSET([1]DE100_7!$M$183,ROWS($M$183:M220)-1,COLUMNS($M$183:M220)-1),\"\")","v":{"$error":"#VALUE!"}},{"$f":"IF(OFFSET([1]DE100_7!$N$183,ROWS($N$183:N220)-1,COLUMNS($N$183:N220)-1)<>\"\",OFFSET([1]DE100_7!$N$183,ROWS($N$183:N220)-1,COLUMNS($N$183:N220)-1),\"\")","v":{"$error":"#VALUE!"}},{"$f":"IF(OFFSET([1]DE100_7!$O$183,ROWS($O$183:O220)-1,COLUMNS($O$183:O220)-1)<>\"\",OFFSET([1]DE100_7!$O$183,ROWS($O$183:O220)-1,COLUMNS($O$183:O220)-1),\"\")","v":{"$error":"#VALUE!"}},{"$f":"IF(OFFSET([1]DE100_7!$P$183,ROWS($P$183:P220)-1,COLUMNS($P$183:P220)-1)<>\"\",OFFSET([1]DE100_7!$P$183,ROWS($P$183:P220)-1,COLUMNS($P$183:P220)-1),\"\")","v":{"$error":"#VALUE!"}},{"$f":"IF(OFFSET([1]DE100_7!$Q$183,ROWS($Q$183:Q220)-1,COLUMNS($Q$183:Q220)-1)<>\"\",OFFSET([1]DE100_7!$Q$183,ROWS($Q$183:Q220)-1,COLUMNS($Q$183:Q220)-1),\"\")","v":{"$error":"#VALUE!"}},{"$f":"IF(OFFSET([1]DE100_7!$R$183,ROWS($R$183:R220)-1,COLUMNS($R$183:R220)-1)<>\"\",OFFSET([1]DE100_7!$R$183,ROWS($R$183:R220)-1,COLUMNS($R$183:R220)-1),\"\")","v":{"$error":"#VALUE!"}},{"$f":"IF(OFFSET([1]DE100_7!$S$183,ROWS($S$183:S220)-1,COLUMNS($S$183:S220)-1)<>\"\",OFFSET([1]DE100_7!$S$183,ROWS($S$183:S220)-1,COLUMNS($S$183:S220)-1),\"\")","v":{"$error":"#VALUE!"}},{"$f":"IF(OFFSET([1]DE100_7!$T$183,ROWS($T$183:T220)-1,COLUMNS($T$183:T220)-1)<>\"\",OFFSET([1]DE100_7!$T$183,ROWS($T$183:T220)-1,COLUMNS($T$183:T220)-1),\"\")","v":{"$error":"#VALUE!"}},{"$f":"IF(OFFSET([1]DE100_7!$U$183,ROWS($U$183:U220)-1,COLUMNS($U$183:U220)-1)<>\"\",OFFSET([1]DE100_7!$U$183,ROWS($U$183:U220)-1,COLUMNS($U$183:U220)-1),\"\")","v":{"$error":"#VALUE!"}},{"$f":"IF(OFFSET([1]DE100_7!$V$183,ROWS($V$183:V220)-1,COLUMNS($V$183:V220)-1)<>\"\",OFFSET([1]DE100_7!$V$183,ROWS($V$183:V220)-1,COLUMNS($V$183:V220)-1),\"\")","v":{"$error":"#VALUE!"}}]
[{"$f":"IF(OFFSET([1]DE100_7!$C$183,ROWS($C$183:C221)-1,COLUMNS($C$183:C221)-1)<>\"\",OFFSET([1]DE100_7!$C$183,ROWS($C$183:C221)-1,COLUMNS($C$183:C221)-1),\"\")","v":{"$error":"#VALUE!"}},{"$f":"IF(OFFSET([1]DE100_7!$D$183,ROWS($D$183:D221)-1,COLUMNS($D$183:D221)-1)<>\"\",OFFSET([1]DE100_7!$D$183,ROWS($D$183:D221)-1,COLUMNS($D$183:D221)-1),\"\")","v":{"$error":"#VALUE!"}},{"$f":"IF(OFFSET([1]DE100_7!$E$183,ROWS($E$183:E221)-1,COLUMNS($E$183:E221)-1)<>\"\",OFFSET([1]DE100_7!$E$183,ROWS($E$183:E221)-1,COLUMNS($E$183:E221)-1),\"\")","v":{"$error":"#VALUE!"}},{"$f":"IF(OFFSET([1]DE100_7!$F$183,ROWS($F$183:F221)-1,COLUMNS($F$183:F221)-1)<>\"\",OFFSET([1]DE100_7!$F$183,ROWS($F$183:F221)-1,COLUMNS($F$183:F221)-1),\"\")","v":{"$error":"#VALUE!"}},{"$f":"IF(OFFSET([1]DE100_7!$G$183,ROWS($G$183:G221)-1,COLUMNS($G$183:G221)-1)<>\"\",OFFSET([1]DE100_7!$G$183,ROWS($G$183:G221)-1,COLUMNS($G$183:G221)-1),\"\")","v":{"$error":"#VALUE!"}},{"$f":"IF(OFFSET([1]DE100_7!$H$183,ROWS($H$183:H221)-1,COLUMNS($H$183:H221)-1)<>\"\",OFFSET([1]DE100_7!$H$183,ROWS($H$183:H221)-1,COLUMNS($H$183:H221)-1),\"\")","v":{"$error":"#VALUE!"}},{"$f":"IF(OFFSET([1]DE100_7!$I$183,ROWS($I$183:I221)-1,COLUMNS($I$183:I221)-1)<>\"\",OFFSET([1]DE100_7!$I$183,ROWS($I$183:I221)-1,COLUMNS($I$183:I221)-1),\"\")","v":{"$error":"#VALUE!"}},{"$f":"IF(OFFSET([1]DE100_7!$J$183,ROWS($J$183:J221)-1,COLUMNS($J$183:J221)-1)<>\"\",OFFSET([1]DE100_7!$J$183,ROWS($J$183:J221)-1,COLUMNS($J$183:J221)-1),\"\")","v":{"$error":"#VALUE!"}},{"$f":"IF(OFFSET([1]DE100_7!$K$183,ROWS($K$183:K221)-1,COLUMNS($K$183:K221)-1)<>\"\",OFFSET([1]DE100_7!$K$183,ROWS($K$183:K221)-1,COLUMNS($K$183:K221)-1),\"\")","v":{"$error":"#VALUE!"}},{"$f":"IF(OFFSET([1]DE100_7!$L$183,ROWS($L$183:L221)-1,COLUMNS($L$183:L221)-1)<>\"\",OFFSET([1]DE100_7!$L$183,ROWS($L$183:L221)-1,COLUMNS($L$183:L221)-1),\"\")","v":{"$error":"#VALUE!"}},{"$f":"IF(OFFSET([1]DE100_7!$M$183,ROWS($M$183:M221)-1,COLUMNS($M$183:M221)-1)<>\"\",OFFSET([1]DE100_7!$M$183,ROWS($M$183:M221)-1,COLUMNS($M$183:M221)-1),\"\")","v":{"$error":"#VALUE!"}},{"$f":"IF(OFFSET([1]DE100_7!$N$183,ROWS($N$183:N221)-1,COLUMNS($N$183:N221)-1)<>\"\",OFFSET([1]DE100_7!$N$183,ROWS($N$183:N221)-1,COLUMNS($N$183:N221)-1),\"\")","v":{"$error":"#VALUE!"}},{"$f":"IF(OFFSET([1]DE100_7!$O$183,ROWS($O$183:O221)-1,COLUMNS($O$183:O221)-1)<>\"\",OFFSET([1]DE100_7!$O$183,ROWS($O$183:O221)-1,COLUMNS($O$183:O221)-1),\"\")","v":{"$error":"#VALUE!"}},{"$f":"IF(OFFSET([1]DE100_7!$P$183,ROWS($P$183:P221)-1,COLUMNS($P$183:P221)-1)<>\"\",OFFSET([1]DE100_7!$P$183,ROWS($P$183:P221)-1,COLUMNS($P$183:P221)-1),\"\")","v":{"$error":"#VALUE!"}},{"$f":"IF(OFFSET([1]DE100_7!$Q$183,ROWS($Q$183:Q221)-1,COLUMNS($Q$183:Q221)-1)<>\"\",OFFSET([1]DE100_7!$Q$183,ROWS($Q$183:Q221)-1,COLUMNS($Q$183:Q221)-1),\"\")","v":{"$error":"#VALUE!"}},{"$f":"IF(OFFSET([1]DE100_7!$R$183,ROWS($R$183:R221)-1,COLUMNS($R$183:R221)-1)<>\"\",OFFSET([1]DE100_7!$R$183,ROWS($R$183:R221)-1,COLUMNS($R$183:R221)-1),\"\")","v":{"$error":"#VALUE!"}},{"$f":"IF(OFFSET([1]DE100_7!$S$183,ROWS($S$183:S221)-1,COLUMNS($S$183:S221)-1)<>\"\",OFFSET([1]DE100_7!$S$183,ROWS($S$183:S221)-1,COLUMNS($S$183:S221)-1),\"\")","v":{"$error":"#VALUE!"}},{"$f":"IF(OFFSET([1]DE100_7!$T$183,ROWS($T$183:T221)-1,COLUMNS($T$183:T221)-1)<>\"\",OFFSET([1]DE100_7!$T$183,ROWS($T$183:T221)-1,COLUMNS($T$183:T221)-1),\"\")","v":{"$error":"#VALUE!"}},{"$f":"IF(OFFSET([1]DE100_7!$U$183,ROWS($U$183:U221)-1,COLUMNS($U$183:U221)-1)<>\"\",OFFSET([1]DE100_7!$U$183,ROWS($U$183:U221)-1,COLUMNS($U$183:U221)-1),\"\")","v":{"$error":"#VALUE!"}},{"$f":"IF(OFFSET([1]DE100_7!$V$183,ROWS($V$183:V221)-1,COLUMNS($V$183:V221)-1)<>\"\",OFFSET([1]DE100_7!$V$183,ROWS($V$183:V221)-1,COLUMNS($V$183:V221)-1),\"\")","v":{"$error":"#VALUE!"}}]
[{"$f":"IF(OFFSET([1]DE100_7!$C$183,ROWS($C$183:C222)-1,COLUMNS($C$183:C222)-1)<>\"\",OFFSET([1]DE100_7!$C$183,ROWS($C$183:C222)-1,COLUMNS($C$183:C222)-1),\"\")","v":{"$error":"#VALUE!"}},null,null,null,{"$f":"IF(OFFSET([1]DE100_7!$G$183,ROWS($G$183:G222)-1,COLUMNS($G$183:G222)-1)<>\"\",OFFSET([1]DE100_7!$G$183,ROWS($G$183:G222)-1,COLUMNS($G$183:G222)-1),\"\")","v":{"$error":"#VALUE!"}},{"$f":"IF(OFFSET([1]DE100_7!$H$183,ROWS($H$183:H222)-1,COLUMNS($H$183:H222)-1)<>\"\",OFFSET([1]DE100_7!$H$183,ROWS($H$183:H222)-1,COLUMNS($H$183:H222)-1),\"\")","v":{"$error":"#VALUE!"}},{"$f":"IF(OFFSET([1]DE100_7!$I$183,ROWS($I$183:I222)-1,COLUMNS($I$183:I222)-1)<>\"\",OFFSET([1]DE100_7!$I$183,ROWS($I$183:I222)-1,COLUMNS($I$183:I222)-1),\"\")","v":{"$error":"#VALUE!"}},{"$f":"IF(OFFSET([1]DE100_7!$J$183,ROWS($J$183:J222)-1,COLUMNS($J$183:J222)-1)<>\"\",OFFSET([1]DE100_7!$J$183,ROWS($J$183:J222)-1,COLUMNS($J$183:J222)-1),\"\")","v":{"$error":"#VALUE!"}},{"$f":"IF(OFFSET([1]DE100_7!$K$183,ROWS($K$183:K222)-1,COLUMNS($K$183:K222)-1)<>\"\",OFFSET([1]DE100_7!$K$183,ROWS($K$183:K222)-1,COLUMNS($K$183:K222)-1),\"\")","v":{"$error":"#VALUE!"}},{"$f":"IF(OFFSET([1]DE100_7!$L$183,ROWS($L$183:L222)-1,COLUMNS($L$183:L222)-1)<>\"\",OFFSET([1]DE100_7!$L$183,ROWS($L$183:L222)-1,COLUMNS($L$183:L222)-1),\"\")","v":{"$error":"#VALUE!"}},{"$f":"IF(OFFSET([1]DE100_7!$M$183,ROWS($M$183:M222)-1,COLUMNS($M$183:M222)-1)<>\"\",OFFSET([1]DE100_7!$M$183,ROWS($M$183:M222)-1,COLUMNS($M$183:M222)-1),\"\")","v":{"$error":"#VALUE!"}},{"$f":"IF(OFFSET([1]DE100_7!$N$183,ROWS($N$183:N222)-1,COLUMNS($N$183:N222)-1)<>\"\",OFFSET([1]DE100_7!$N$183,ROWS($N$183:N222)-1,COLUMNS($N$183:N222)-1),\"\")","v":{"$error":"#VALUE!"}},{"$f":"IF(OFFSET([1]DE100_7!$O$183,ROWS($O$183:O222)-1,COLUMNS($O$183:O222)-1)<>\"\",OFFSET([1]DE100_7!$O$183,ROWS($O$183:O222)-1,COLUMNS($O$183:O222)-1),\"\")","v":{"$error":"#VALUE!"}},{"$f":"IF(OFFSET([1]DE100_7!$P$183,ROWS($P$183:P222)-1,COLUMNS($P$183:P222)-1)<>\"\",OFFSET([1]DE100_7!$P$183,ROWS($P$183:P222)-1,COLUMNS($P$183:P222)-1),\"\")","v":{"$error":"#VALUE!"}},{"$f":"IF(OFFSET([1]DE100_7!$Q$183,ROWS($Q$183:Q222)-1,COLUMNS($Q$183:Q222)-1)<>\"\",OFFSET([1]DE100_7!$Q$183,ROWS($Q$183:Q222)-1,COLUMNS($Q$183:Q222)-1),\"\")","v":{"$error":"#VALUE!"}},{"$f":"IF(OFFSET([1]DE100_7!$R$183,ROWS($R$183:R222)-1,COLUMNS($R$183:R222)-1)<>\"\",OFFSET([1]DE100_7!$R$183,ROWS($R$183:R222)-1,COLUMNS($R$183:R222)-1),\"\")","v":{"$error":"#VALUE!"}},{"$f":"IF(OFFSET([1]DE100_7!$S$183,ROWS($S$183:S222)-1,COLUMNS($S$183:S222)-1)<>\"\",OFFSET([1]DE100_7!$S$183,ROWS($S$183:S222)-1,COLUMNS($S$183:S222)-1),\"\")","v":{"$error":"#VALUE!"}},{"$f":"IF(OFFSET([1]DE100_7!$T$183,ROWS($T$183:T222)-1,COLUMNS($T$183:T222)-1)<>\"\",OFFSET([1]DE100_7!$T$183,ROWS($T$183:T222)-1,COLUMNS($T$183:T222)-1),\"\")","v":{"$error":"#VALUE!"}},{"$f":"IF(OFFSET([1]DE100_7!$U$183,ROWS($U$183:U222)-1,COLUMNS($U$183:U222)-1)<>\"\",OFFSET([1]DE100_7!$U$183,ROWS($U$183:U222)-1,COLUMNS($U$183:U222)-1),\"\")","v":{"$error":"#VALUE!"}},{"$f":"IF(OFFSET([1]DE100_7!$V$183,ROWS($V$183:V222)-1,COLUMNS($V$183:V222)-1)<>\"\",OFFSET([1]DE100_7!$V$183,ROWS($V$183:V222)-1,COLUMNS($V$183:V222)-1),\"\")","v":{"$error":"#VALUE!"}}]
[{"$f":"IF(OFFSET([1]DE100_7!$C$183,ROWS($C$183:C223)-1,COLUMNS($C$183:C223)-1)<>\"\",OFFSET([1]DE100_7!$C$183,ROWS($C$183:C223)-1,COLUMNS($C$183:C223)-1),\"\")","v":{"$error":"#VALUE!"}},{"$f":"IF(OFFSET([1]DE100_7!$D$183,ROWS($D$183:D223)-1,COLUMNS($D$183:D223)-1)<>\"\",OFFSET([1]DE100_7!$D$183,ROWS($D$183:D223)-1,COLUMNS($D$183:D223)-1),\"\")","v":{"$error":"#VALUE!"}},{"$f":"IF(OFFSET([1]DE100_7!$E$183,ROWS($E$183:E223)-1,COLUMNS($E$183:E223)-1)<>\"\",OFFSET([1]DE100_7!$E$183,ROWS($E$183:E223)-1,COLUMNS($E$183:E223)-1),\"\")","v":{"$error":"#VALUE!"}},{"$f":"IF(OFFSET([1]DE100_7!$F$183,ROWS($F$183:F223)-1,COLUMNS($F$183:F223)-1)<>\"\",OFFSET([1]DE100_7!$F$183,ROWS($F$183:F223)-1,COLUMNS($F$183:F223)-1),\"\")","v":{"$error":"#VALUE!"}},{"$f":"IF(OFFSET([1]DE100_7!$G$183,ROWS($G$183:G223)-1,COLUMNS($G$183:G223)-1)<>\"\",OFFSET([1]DE100_7!$G$183,ROWS($G$183:G223)-1,COLUMNS($G$183:G223)-1),\"\")","v":{"$error":"#VALUE!"}},{"$f":"IF(OFFSET([1]DE100_7!$H$183,ROWS($H$183:H223)-1,COLUMNS($H$183:H223)-1)<>\"\",OFFSET([1]DE100_7!$H$183,ROWS($H$183:H223)-1,COLUMNS($H$183:H223)-1),\"\")","v":{"$error":"#VALUE!"}},{"$f":"IF(OFFSET([1]DE100_7!$I$183,ROWS($I$183:I223)-1,COLUMNS($I$183:I223)-1)<>\"\",OFFSET([1]DE100_7!$I$183,ROWS($I$183:I223)-1,COLUMNS($I$183:I223)-1),\"\")","v":{"$error":"#VALUE!"}},{"$f":"IF(OFFSET([1]DE100_7!$J$183,ROWS($J$183:J223)-1,COLUMNS($J$183:J223)-1)<>\"\",OFFSET([1]DE100_7!$J$183,ROWS($J$183:J223)-1,COLUMNS($J$183:J223)-1),\"\")","v":{"$error":"#VALUE!"}},{"$f":"IF(OFFSET([1]DE100_7!$K$183,ROWS($K$183:K223)-1,COLUMNS($K$183:K223)-1)<>\"\",OFFSET([1]DE100_7!$K$183,ROWS($K$183:K223)-1,COLUMNS($K$183:K223)-1),\"\")","v":{"$error":"#VALUE!"}},{"$f":"IF(OFFSET([1]DE100_7!$L$183,ROWS($L$183:L223)-1,COLUMNS($L$183:L223)-1)<>\"\",OFFSET([1]DE100_7!$L$183,ROWS($L$183:L223)-1,COLUMNS($L$183:L223)-1),\"\")","v":{"$error":"#VALUE!"}},{"$f":"IF(OFFSET([1]DE100_7!$M$183,ROWS($M$183:M223)-1,COLUMNS($M$183:M223)-1)<>\"\",OFFSET([1]DE100_7!$M$183,ROWS($M$183:M223)-1,COLUMNS($M$183:M223)-1),\"\")","v":{"$error":"#VALUE!"}},{"$f":"IF(OFFSET([1]DE100_7!$N$183,ROWS($N$183:N223)-1,COLUMNS($N$183:N223)-1)<>\"\",OFFSET([1]DE100_7!$N$183,ROWS($N$183:N223)-1,COLUMNS($N$183:N223)-1),\"\")","v":{"$error":"#VALUE!"}},{"$f":"IF(OFFSET([1]DE100_7!$O$183,ROWS($O$183:O223)-1,COLUMNS($O$183:O223)-1)<>\"\",OFFSET([1]DE100_7!$O$183,ROWS($O$183:O223)-1,COLUMNS($O$183:O223)-1),\"\")","v":{"$error":"#VALUE!"}},{"$f":"IF(OFFSET([1]DE100_7!$P$183,ROWS($P$183:P223)-1,COLUMNS($P$183:P223)-1)<>\"\",OFFSET([1]DE100_7!$P$183,ROWS($P$183:P223)-1,COLUMNS($P$183:P223)-1),\"\")","v":{"$error":"#VALUE!"}},{"$f":"IF(OFFSET([1]DE100_7!$Q$183,ROWS($Q$183:Q223)-1,COLUMNS($Q$183:Q223)-1)<>\"\",OFFSET([1]DE100_7!$Q$183,ROWS($Q$183:Q223)-1,COLUMNS($Q$183:Q223)-1),\"\")","v":{"$error":"#VALUE!"}},{"$f":"IF(OFFSET([1]DE100_7!$R$183,ROWS($R$183:R223)-1,COLUMNS($R$183:R223)-1)<>\"\",OFFSET([1]DE100_7!$R$183,ROWS($R$183:R223)-1,COLUMNS($R$183:R223)-1),\"\")","v":{"$error":"#VALUE!"}},{"$f":"IF(OFFSET([1]DE100_7!$S$183,ROWS($S$183:S223)-1,COLUMNS($S$183:S223)-1)<>\"\",OFFSET([1]DE100_7!$S$183,ROWS($S$183:S223)-1,COLUMNS($S$183:S223)-1),\"\")","v":{"$error":"#VALUE!"}},{"$f":"IF(OFFSET([1]DE100_7!$T$183,ROWS($T$183:T223)-1,COLUMNS($T$183:T223)-1)<>\"\",OFFSET([1]DE100_7!$T$183,ROWS($T$183:T223)-1,COLUMNS($T$183:T223)-1),\"\")","v":{"$error":"#VALUE!"}},{"$f":"IF(OFFSET([1]DE100_7!$U$183,ROWS($U$183:U223)-1,COLUMNS($U$183:U223)-1)<>\"\",OFFSET([1]DE100_7!$U$183,ROWS($U$183:U223)-1,COLUMNS($U$183:U223)-1),\"\")","v":{"$error":"#VALUE!"}},{"$f":"IF(OFFSET([1]DE100_7!$V$183,ROWS($V$183:V223)-1,COLUMNS($V$183:V223)-1)<>\"\",OFFSET([1]DE100_7!$V$183,ROWS($V$183:V223)-1,COLUMNS($V$183:V223)-1),\"\")","v":{"$error":"#VALUE!"}}]
[{"$f":"IF(OFFSET([1]DE100_7!$C$183,ROWS($C$183:C224)-1,COLUMNS($C$183:C224)-1)<>\"\",OFFSET([1]DE100_7!$C$183,ROWS($C$183:C224)-1,COLUMNS($C$183:C224)-1),\"\")","v":{"$error":"#VALUE!"}},{"$f":"IF(OFFSET([1]DE100_7!$D$183,ROWS($D$183:D224)-1,COLUMNS($D$183:D224)-1)<>\"\",OFFSET([1]DE100_7!$D$183,ROWS($D$183:D224)-1,COLUMNS($D$183:D224)-1),\"\")","v":{"$error":"#VALUE!"}},{"$f":"IF(OFFSET([1]DE100_7!$E$183,ROWS($E$183:E224)-1,COLUMNS($E$183:E224)-1)<>\"\",OFFSET([1]DE100_7!$E$183,ROWS($E$183:E224)-1,COLUMNS($E$183:E224)-1),\"\")","v":{"$error":"#VALUE!"}},{"$f":"IF(OFFSET([1]DE100_7!$F$183,ROWS($F$183:F224)-1,COLUMNS($F$183:F224)-1)<>\"\",OFFSET([1]DE100_7!$F$183,ROWS($F$183:F224)-1,COLUMNS($F$183:F224)-1),\"\")","v":{"$error":"#VALUE!"}},{"$f":"IF(OFFSET([1]DE100_7!$G$183,ROWS($G$183:G224)-1,COLUMNS($G$183:G224)-1)<>\"\",OFFSET([1]DE100_7!$G$183,ROWS($G$183:G224)-1,COLUMNS($G$183:G224)-1),\"\")","v":{"$error":"#VALUE!"}},{"$f":"IF(OFFSET([1]DE100_7!$H$183,ROWS($H$183:H224)-1,COLUMNS($H$183:H224)-1)<>\"\",OFFSET([1]DE100_7!$H$183,ROWS($H$183:H224)-1,COLUMNS($H$183:H224)-1),\"\")","v":{"$error":"#VALUE!"}},{"$f":"IF(OFFSET([1]DE100_7!$I$183,ROWS($I$183:I224)-1,COLUMNS($I$183:I224)-1)<>\"\",OFFSET([1]DE100_7!$I$183,ROWS($I$183:I224)-1,COLUMNS($I$183:I224)-1),\"\")","v":{"$error":"#VALUE!"}},{"$f":"IF(OFFSET([1]DE100_7!$J$183,ROWS($J$183:J224)-1,COLUMNS($J$183:J224)-1)<>\"\",OFFSET([1]DE100_7!$J$183,ROWS($J$183:J224)-1,COLUMNS($J$183:J224)-1),\"\")","v":{"$error":"#VALUE!"}},{"$f":"IF(OFFSET([1]DE100_7!$K$183,ROWS($K$183:K224)-1,COLUMNS($K$183:K224)-1)<>\"\",OFFSET([1]DE100_7!$K$183,ROWS($K$183:K224)-1,COLUMNS($K$183:K224)-1),\"\")","v":{"$error":"#VALUE!"}},{"$f":"IF(OFFSET([1]DE100_7!$L$183,ROWS($L$183:L224)-1,COLUMNS($L$183:L224)-1)<>\"\",OFFSET([1]DE100_7!$L$183,ROWS($L$183:L224)-1,COLUMNS($L$183:L224)-1),\"\")","v":{"$error":"#VALUE!"}},{"$f":"IF(OFFSET([1]DE100_7!$M$183,ROWS($M$183:M224)-1,COLUMNS($M$183:M224)-1)<>\"\",OFFSET([1]DE100_7!$M$183,ROWS($M$183:M224)-1,COLUMNS($M$183:M224)-1),\"\")","v":{"$error":"#VALUE!"}},{"$f":"IF(OFFSET([1]DE100_7!$N$183,ROWS($N$183:N224)-1,COLUMNS($N$183:N224)-1)<>\"\",OFFSET([1]DE100_7!$N$183,ROWS($N$183:N224)-1,COLUMNS($N$183:N224)-1),\"\")","v":{"$error":"#VALUE!"}},{"$f":"IF(OFFSET([1]DE100_7!$O$183,ROWS($O$183:O224)-1,COLUMNS($O$183:O224)-1)<>\"\",OFFSET([1]DE100_7!$O$183,ROWS($O$183:O224)-1,COLUMNS($O$183:O224)-1),\"\")","v":{"$error":"#VALUE!"}},{"$f":"IF(OFFSET([1]DE100_7!$P$183,ROWS($P$183:P224)-1,COLUMNS($P$183:P224)-1)<>\"\",OFFSET([1]DE100_7!$P$183,ROWS($P$183:P224)-1,COLUMNS($P$183:P224)-1),\"\")","v":{"$error":"#VALUE!"}},{"$f":"IF(OFFSET([1]DE100_7!$Q$183,ROWS($Q$183:Q224)-1,COLUMNS($Q$183:Q224)-1)<>\"\",OFFSET([1]DE100_7!$Q$183,ROWS($Q$183:Q224)-1,COLUMNS($Q$183:Q224)-1),\"\")","v":{"$error":"#VALUE!"}},{"$f":"IF(OFFSET([1]DE100_7!$R$183,ROWS($R$183:R224)-1,COLUMNS($R$183:R224)-1)<>\"\",OFFSET([1]DE100_7!$R$183,ROWS($R$183:R224)-1,COLUMNS($R$183:R224)-1),\"\")","v":{"$error":"#VALUE!"}},{"$f":"IF(OFFSET([1]DE100_7!$S$183,ROWS($S$183:S224)-1,COLUMNS($S$183:S224)-1)<>\"\",OFFSET([1]DE100_7!$S$183,ROWS($S$183:S224)-1,COLUMNS($S$183:S224)-1),\"\")","v":{"$error":"#VALUE!"}},{"$f":"IF(OFFSET([1]DE100_7!$T$183,ROWS($T$183:T224)-1,COLUMNS($T$183:T224)-1)<>\"\",OFFSET([1]DE100_7!$T$183,ROWS($T$183:T224)-1,COLUMNS($T$183:T224)-1),\"\")","v":{"$error":"#VALUE!"}},{"$f":"IF(OFFSET([1]DE100_7!$U$183,ROWS($U$183:U224)-1,COLUMNS($U$183:U224)-1)<>\"\",OFFSET([1]DE100_7!$U$183,ROWS($U$183:U224)-1,COLUMNS($U$183:U224)-1),\"\")","v":{"$error":"#VALUE!"}},{"$f":"IF(OFFSET([1]DE100_7!$V$183,ROWS($V$183:V224)-1,COLUMNS($V$183:V224)-1)<>\"\",OFFSET([1]DE100_7!$V$183,ROWS($V$183:V224)-1,COLUMNS($V$183:V224)-1),\"\")","v":{"$error":"#VALUE!"}}]
[{"$f":"IF(OFFSET([1]DE100_7!$C$183,ROWS($C$183:C225)-1,COLUMNS($C$183:C225)-1)<>\"\",OFFSET([1]DE100_7!$C$183,ROWS($C$183:C225)-1,COLUMNS($C$183:C225)-1),\"\")","v":{"$error":"#VALUE!"}},{"$f":"IF(OFFSET([1]DE100_7!$D$183,ROWS($D$183:D225)-1,COLUMNS($D$183:D225)-1)<>\"\",OFFSET([1]DE100_7!$D$183,ROWS($D$183:D225)-1,COLUMNS($D$183:D225)-1),\"\")","v":{"$error":"#VALUE!"}},{"$f":"IF(OFFSET([1]DE100_7!$E$183,ROWS($E$183:E225)-1,COLUMNS($E$183:E225)-1)<>\"\",OFFSET([1]DE100_7!$E$183,ROWS($E$183:E225)-1,COLUMNS($E$183:E225)-1),\"\")","v":{"$error":"#VALUE!"}},{"$f":"IF(OFFSET([1]DE100_7!$F$183,ROWS($F$183:F225)-1,COLUMNS($F$183:F225)-1)<>\"\",OFFSET([1]DE100_7!$F$183,ROWS($F$183:F225)-1,COLUMNS($F$183:F225)-1),\"\")","v":{"$error":"#VALUE!"}},{"$f":"IF(OFFSET([1]DE100_7!$G$183,ROWS($G$183:G225)-1,COLUMNS($G$183:G225)-1)<>\"\",OFFSET([1]DE100_7!$G$183,ROWS($G$183:G225)-1,COLUMNS($G$183:G225)-1),\"\")","v":{"$error":"#VALUE!"}},{"$f":"IF(OFFSET([1]DE100_7!$H$183,ROWS($H$183:H225)-1,COLUMNS($H$183:H225)-1)<>\"\",OFFSET([1]DE100_7!$H$183,ROWS($H$183:H225)-1,COLUMNS($H$183:H225)-1),\"\")","v":{"$error":"#VALUE!"}},{"$f":"IF(OFFSET([1]DE100_7!$I$183,ROWS($I$183:I225)-1,COLUMNS($I$183:I225)-1)<>\"\",OFFSET([1]DE100_7!$I$183,ROWS($I$183:I225)-1,COLUMNS($I$183:I225)-1),\"\")","v":{"$error":"#VALUE!"}},{"$f":"IF(OFFSET([1]DE100_7!$J$183,ROWS($J$183:J225)-1,COLUMNS($J$183:J225)-1)<>\"\",OFFSET([1]DE100_7!$J$183,ROWS($J$183:J225)-1,COLUMNS($J$183:J225)-1),\"\")","v":{"$error":"#VALUE!"}},{"$f":"IF(OFFSET([1]DE100_7!$K$183,ROWS($K$183:K225)-1,COLUMNS($K$183:K225)-1)<>\"\",OFFSET([1]DE100_7!$K$183,ROWS($K$183:K225)-1,COLUMNS($K$183:K225)-1),\"\")","v":{"$error":"#VALUE!"}},{"$f":"IF(OFFSET([1]DE100_7!$L$183,ROWS($L$183:L225)-1,COLUMNS($L$183:L225)-1)<>\"\",OFFSET([1]DE100_7!$L$183,ROWS($L$183:L225)-1,COLUMNS($L$183:L225)-1),\"\")","v":{"$error":"#VALUE!"}},{"$f":"IF(OFFSET([1]DE100_7!$M$183,ROWS($M$183:M225)-1,COLUMNS($M$183:M225)-1)<>\"\",OFFSET([1]DE100_7!$M$183,ROWS($M$183:M225)-1,COLUMNS($M$183:M225)-1),\"\")","v":{"$error":"#VALUE!"}},{"$f":"IF(OFFSET([1]DE100_7!$N$183,ROWS($N$183:N225)-1,COLUMNS($N$183:N225)-1)<>\"\",OFFSET([1]DE100_7!$N$183,ROWS($N$183:N225)-1,COLUMNS($N$183:N225)-1),\"\")","v":{"$error":"#VALUE!"}},{"$f":"IF(OFFSET([1]DE100_7!$O$183,ROWS($O$183:O225)-1,COLUMNS($O$183:O225)-1)<>\"\",OFFSET([1]DE100_7!$O$183,ROWS($O$183:O225)-1,COLUMNS($O$183:O225)-1),\"\")","v":{"$error":"#VALUE!"}},{"$f":"IF(OFFSET([1]DE100_7!$P$183,ROWS($P$183:P225)-1,COLUMNS($P$183:P225)-1)<>\"\",OFFSET([1]DE100_7!$P$183,ROWS($P$183:P225)-1,COLUMNS($P$183:P225)-1),\"\")","v":{"$error":"#VALUE!"}},{"$f":"IF(OFFSET([1]DE100_7!$Q$183,ROWS($Q$183:Q225)-1,COLUMNS($Q$183:Q225)-1)<>\"\",OFFSET([1]DE100_7!$Q$183,ROWS($Q$183:Q225)-1,COLUMNS($Q$183:Q225)-1),\"\")","v":{"$error":"#VALUE!"}},{"$f":"IF(OFFSET([1]DE100_7!$R$183,ROWS($R$183:R225)-1,COLUMNS($R$183:R225)-1)<>\"\",OFFSET([1]DE100_7!$R$183,ROWS($R$183:R225)-1,COLUMNS($R$183:R225)-1),\"\")","v":{"$error":"#VALUE!"}},{"$f":"IF(OFFSET([1]DE100_7!$S$183,ROWS($S$183:S225)-1,COLUMNS($S$183:S225)-1)<>\"\",OFFSET([1]DE100_7!$S$183,ROWS($S$183:S225)-1,COLUMNS($S$183:S225)-1),\"\")","v":{"$error":"#VALUE!"}},{"$f":"IF(OFFSET([1]DE100_7!$T$183,ROWS($T$183:T225)-1,COLUMNS($T$183:T225)-1)<>\"\",OFFSET([1]DE100_7!$T$183,ROWS($T$183:T225)-1,COLUMNS($T$183:T225)-1),\"\")","v":{"$error":"#VALUE!"}},{"$f":"IF(OFFSET([1]DE100_7!$U$183,ROWS($U$183:U225)-1,COLUMNS($U$183:U225)-1)<>\"\",OFFSET([1]DE100_7!$U$183,ROWS($U$183:U225)-1,COLUMNS($U$183:U225)-1),\"\")","v":{"$error":"#VALUE!"}},{"$f":"IF(OFFSET([1]DE100_7!$V$183,ROWS($V$183:V225)-1,COLUMNS($V$183:V225)-1)<>\"\",OFFSET([1]DE100_7!$V$183,ROWS($V$183:V225)-1,COLUMNS($V$183:V225)-1),\"\")","v":{"$error":"#VALUE!"}}]
[{"$f":"IF(OFFSET([1]DE100_7!$C$183,ROWS($C$183:C226)-1,COLUMNS($C$183:C226)-1)<>\"\",OFFSET([1]DE100_7!$C$183,ROWS($C$183:C226)-1,COLUMNS($C$183:C226)-1),\"\")","v":{"$error":"#VALUE!"}},{"$f":"IF(OFFSET([1]DE100_7!$D$183,ROWS($D$183:D226)-1,COLUMNS($D$183:D226)-1)<>\"\",OFFSET([1]DE100_7!$D$183,ROWS($D$183:D226)-1,COLUMNS($D$183:D226)-1),\"\")","v":{"$error":"#VALUE!"}},{"$f":"IF(OFFSET([1]DE100_7!$E$183,ROWS($E$183:E226)-1,COLUMNS($E$183:E226)-1)<>\"\",OFFSET([1]DE100_7!$E$183,ROWS($E$183:E226)-1,COLUMNS($E$183:E226)-1),\"\")","v":{"$error":"#VALUE!"}},{"$f":"IF(OFFSET([1]DE100_7!$F$183,ROWS($F$183:F226)-1,COLUMNS($F$183:F226)-1)<>\"\",OFFSET([1]DE100_7!$F$183,ROWS($F$183:F226)-1,COLUMNS($F$183:F226)-1),\"\")","v":{"$error":"#VALUE!"}},{"$f":"IF(OFFSET([1]DE100_7!$G$183,ROWS($G$183:G226)-1,COLUMNS($G$183:G226)-1)<>\"\",OFFSET([1]DE100_7!$G$183,ROWS($G$183:G226)-1,COLUMNS($G$183:G226)-1),\"\")","v":{"$error":"#VALUE!"}},{"$f":"IF(OFFSET([1]DE100_7!$H$183,ROWS($H$183:H226)-1,COLUMNS($H$183:H226)-1)<>\"\",OFFSET([1]DE100_7!$H$183,ROWS($H$183:H226)-1,COLUMNS($H$183:H226)-1),\"\")","v":{"$error":"#VALUE!"}},{"$f":"IF(OFFSET([1]DE100_7!$I$183,ROWS($I$183:I226)-1,COLUMNS($I$183:I226)-1)<>\"\",OFFSET([1]DE100_7!$I$183,ROWS($I$183:I226)-1,COLUMNS($I$183:I226)-1),\"\")","v":{"$error":"#VALUE!"}},{"$f":"IF(OFFSET([1]DE100_7!$J$183,ROWS($J$183:J226)-1,COLUMNS($J$183:J226)-1)<>\"\",OFFSET([1]DE100_7!$J$183,ROWS($J$183:J226)-1,COLUMNS($J$183:J226)-1),\"\")","v":{"$error":"#VALUE!"}},{"$f":"IF(OFFSET([1]DE100_7!$K$183,ROWS($K$183:K226)-1,COLUMNS($K$183:K226)-1)<>\"\",OFFSET([1]DE100_7!$K$183,ROWS($K$183:K226)-1,COLUMNS($K$183:K226)-1),\"\")","v":{"$error":"#VALUE!"}},{"$f":"IF(OFFSET([1]DE100_7!$L$183,ROWS($L$183:L226)-1,COLUMNS($L$183:L226)-1)<>\"\",OFFSET([1]DE100_7!$L$183,ROWS($L$183:L226)-1,COLUMNS($L$183:L226)-1),\"\")","v":{"$error":"#VALUE!"}},{"$f":"IF(OFFSET([1]DE100_7!$M$183,ROWS($M$183:M226)-1,COLUMNS($M$183:M226)-1)<>\"\",OFFSET([1]DE100_7!$M$183,ROWS($M$183:M226)-1,COLUMNS($M$183:M226)-1),\"\")","v":{"$error":"#VALUE!"}},{"$f":"IF(OFFSET([1]DE100_7!$N$183,ROWS($N$183:N226)-1,COLUMNS($N$183:N226)-1)<>\"\",OFFSET([1]DE100_7!$N$183,ROWS($N$183:N226)-1,COLUMNS($N$183:N226)-1),\"\")","v":{"$error":"#VALUE!"}},{"$f":"IF(OFFSET([1]DE100_7!$O$183,ROWS($O$183:O226)-1,COLUMNS($O$183:O226)-1)<>\"\",OFFSET([1]DE100_7!$O$183,ROWS($O$183:O226)-1,COLUMNS($O$183:O226)-1),\"\")","v":{"$error":"#VALUE!"}},{"$f":"IF(OFFSET([1]DE100_7!$P$183,ROWS($P$183:P226)-1,COLUMNS($P$183:P226)-1)<>\"\",OFFSET([1]DE100_7!$P$183,ROWS($P$183:P226)-1,COLUMNS($P$183:P226)-1),\"\")","v":{"$error":"#VALUE!"}},{"$f":"IF(OFFSET([1]DE100_7!$Q$183,ROWS($Q$183:Q226)-1,COLUMNS($Q$183:Q226)-1)<>\"\",OFFSET([1]DE100_7!$Q$183,ROWS($Q$183:Q226)-1,COLUMNS($Q$183:Q226)-1),\"\")","v":{"$error":"#VALUE!"}},{"$f":"IF(OFFSET([1]DE100_7!$R$183,ROWS($R$183:R226)-1,COLUMNS($R$183:R226)-1)<>\"\",OFFSET([1]DE100_7!$R$183,ROWS($R$183:R226)-1,COLUMNS($R$183:R226)-1),\"\")","v":{"$error":"#VALUE!"}},{"$f":"IF(OFFSET([1]DE100_7!$S$183,ROWS($S$183:S226)-1,COLUMNS($S$183:S226)-1)<>\"\",OFFSET([1]DE100_7!$S$183,ROWS($S$183:S226)-1,COLUMNS($S$183:S226)-1),\"\")","v":{"$error":"#VALUE!"}},{"$f":"IF(OFFSET([1]DE100_7!$T$183,ROWS($T$183:T226)-1,COLUMNS($T$183:T226)-1)<>\"\",OFFSET([1]DE100_7!$T$183,ROWS($T$183:T226)-1,COLUMNS($T$183:T226)-1),\"\")","v":{"$error":"#VALUE!"}},{"$f":"IF(OFFSET([1]DE100_7!$U$183,ROWS($U$183:U226)-1,COLUMNS($U$183:U226)-1)<>\"\",OFFSET([1]DE100_7!$U$183,ROWS($U$183:U226)-1,COLUMNS($U$183:U226)-1),\"\")","v":{"$error":"#VALUE!"}},{"$f":"IF(OFFSET([1]DE100_7!$V$183,ROWS($V$183:V226)-1,COLUMNS($V$183:V226)-1)<>\"\",OFFSET([1]DE100_7!$V$183,ROWS($V$183:V226)-1,COLUMNS($V$183:V226)-1),\"\")","v":{"$error":"#VALUE!"}}]
[{"$f":"IF(OFFSET([1]DE100_7!$C$183,ROWS($C$183:C227)-1,COLUMNS($C$183:C227)-1)<>\"\",OFFSET([1]DE100_7!$C$183,ROWS($C$183:C227)-1,COLUMNS($C$183:C227)-1),\"\")","v":{"$error":"#VALUE!"}},{"$f":"IF(OFFSET([1]DE100_7!$D$183,ROWS($D$183:D227)-1,COLUMNS($D$183:D227)-1)<>\"\",OFFSET([1]DE100_7!$D$183,ROWS($D$183:D227)-1,COLUMNS($D$183:D227)-1),\"\")","v":{"$error":"#VALUE!"}},{"$f":"IF(OFFSET([1]DE100_7!$E$183,ROWS($E$183:E227)-1,COLUMNS($E$183:E227)-1)<>\"\",OFFSET([1]DE100_7!$E$183,ROWS($E$183:E227)-1,COLUMNS($E$183:E227)-1),\"\")","v":{"$error":"#VALUE!"}},{"$f":"IF(OFFSET([1]DE100_7!$F$183,ROWS($F$183:F227)-1,COLUMNS($F$183:F227)-1)<>\"\",OFFSET([1]DE100_7!$F$183,ROWS($F$183:F227)-1,COLUMNS($F$183:F227)-1),\"\")","v":{"$error":"#VALUE!"}},{"$f":"IF(OFFSET([1]DE100_7!$G$183,ROWS($G$183:G227)-1,COLUMNS($G$183:G227)-1)<>\"\",OFFSET([1]DE100_7!$G$183,ROWS($G$183:G227)-1,COLUMNS($G$183:G227)-1),\"\")","v":{"$error":"#VALUE!"}},{"$f":"IF(OFFSET([1]DE100_7!$H$183,ROWS($H$183:H227)-1,COLUMNS($H$183:H227)-1)<>\"\",OFFSET([1]DE100_7!$H$183,ROWS($H$183:H227)-1,COLUMNS($H$183:H227)-1),\"\")","v":{"$error":"#VALUE!"}},{"$f":"IF(OFFSET([1]DE100_7!$I$183,ROWS($I$183:I227)-1,COLUMNS($I$183:I227)-1)<>\"\",OFFSET([1]DE100_7!$I$183,ROWS($I$183:I227)-1,COLUMNS($I$183:I227)-1),\"\")","v":{"$error":"#VALUE!"}},{"$f":"IF(OFFSET([1]DE100_7!$J$183,ROWS($J$183:J227)-1,COLUMNS($J$183:J227)-1)<>\"\",OFFSET([1]DE100_7!$J$183,ROWS($J$183:J227)-1,COLUMNS($J$183:J227)-1),\"\")","v":{"$error":"#VALUE!"}},{"$f":"IF(OFFSET([1]DE100_7!$K$183,ROWS($K$183:K227)-1,COLUMNS($K$183:K227)-1)<>\"\",OFFSET([1]DE100_7!$K$183,ROWS($K$183:K227)-1,COLUMNS($K$183:K227)-1),\"\")","v":{"$error":"#VALUE!"}},{"$f":"IF(OFFSET([1]DE100_7!$L$183,ROWS($L$183:L227)-1,COLUMNS($L$183:L227)-1)<>\"\",OFFSET([1]DE100_7!$L$183,ROWS($L$183:L227)-1,COLUMNS($L$183:L227)-1),\"\")","v":{"$error":"#VALUE!"}},{"$f":"IF(OFFSET([1]DE100_7!$M$183,ROWS($M$183:M227)-1,COLUMNS($M$183:M227)-1)<>\"\",OFFSET([1]DE100_7!$M$183,ROWS($M$183:M227)-1,COLUMNS($M$183:M227)-1),\"\")","v":{"$error":"#VALUE!"}},{"$f":"IF(OFFSET([1]DE100_7!$N$183,ROWS($N$183:N227)-1,COLUMNS($N$183:N227)-1)<>\"\",OFFSET([1]DE100_7!$N$183,ROWS($N$183:N227)-1,COLUMNS($N$183:N227)-1),\"\")","v":{"$error":"#VALUE!"}},{"$f":"IF(OFFSET([1]DE100_7!$O$183,ROWS($O$183:O227)-1,COLUMNS($O$183:O227)-1)<>\"\",OFFSET([1]DE100_7!$O$183,ROWS($O$183:O227)-1,COLUMNS($O$183:O227)-1),\"\")","v":{"$error":"#VALUE!"}},{"$f":"IF(OFFSET([1]DE100_7!$P$183,ROWS($P$183:P227)-1,COLUMNS($P$183:P227)-1)<>\"\",OFFSET([1]DE100_7!$P$183,ROWS($P$183:P227)-1,COLUMNS($P$183:P227)-1),\"\")","v":{"$error":"#VALUE!"}},{"$f":"IF(OFFSET([1]DE100_7!$Q$183,ROWS($Q$183:Q227)-1,COLUMNS($Q$183:Q227)-1)<>\"\",OFFSET([1]DE100_7!$Q$183,ROWS($Q$183:Q227)-1,COLUMNS($Q$183:Q227)-1),\"\")","v":{"$error":"#VALUE!"}},{"$f":"IF(OFFSET([1]DE100_7!$R$183,ROWS($R$183:R227)-1,COLUMNS($R$183:R227)-1)<>\"\",OFFSET([1]DE100_7!$R$183,ROWS($R$183:R227)-1,COLUMNS($R$183:R227)-1),\"\")","v":{"$error":"#VALUE!"}},{"$f":"IF(OFFSET([1]DE100_7!$S$183,ROWS($S$183:S227)-1,COLUMNS($S$183:S227)-1)<>\"\",OFFSET([1]DE100_7!$S$183,ROWS($S$183:S227)-1,COLUMNS($S$183:S227)-1),\"\")","v":{"$error":"#VALUE!"}},{"$f":"IF(OFFSET([1]DE100_7!$T$183,ROWS($T$183:T227)-1,COLUMNS($T$183:T227)-1)<>\"\",OFFSET([1]DE100_7!$T$183,ROWS($T$183:T227)-1,COLUMNS($T$183:T227)-1),\"\")","v":{"$error":"#VALUE!"}},{"$f":"IF(OFFSET([1]DE100_7!$U$183,ROWS($U$183:U227)-1,COLUMNS($U$183:U227)-1)<>\"\",OFFSET([1]DE100_7!$U$183,ROWS($U$183:U227)-1,COLUMNS($U$183:U227)-1),\"\")","v":{"$error":"#VALUE!"}},{"$f":"IF(OFFSET([1]DE100_7!$V$183,ROWS($V$183:V227)-1,COLUMNS($V$183:V227)-1)<>\"\",OFFSET([1]DE100_7!$V$183,ROWS($V$183:V227)-1,COLUMNS($V$183:V227)-1),\"\")","v":{"$error":"#VALUE!"}}]
[{"$f":"IF(OFFSET([1]DE100_7!$C$183,ROWS($C$183:C228)-1,COLUMNS($C$183:C228)-1)<>\"\",OFFSET([1]DE100_7!$C$183,ROWS($C$183:C228)-1,COLUMNS($C$183:C228)-1),\"\")","v":{"$error":"#VALUE!"}},{"$f":"IF(OFFSET([1]DE100_7!$D$183,ROWS($D$183:D228)-1,COLUMNS($D$183:D228)-1)<>\"\",OFFSET([1]DE100_7!$D$183,ROWS($D$183:D228)-1,COLUMNS($D$183:D228)-1),\"\")","v":{"$error":"#VALUE!"}},{"$f":"IF(OFFSET([1]DE100_7!$E$183,ROWS($E$183:E228)-1,COLUMNS($E$183:E228)-1)<>\"\",OFFSET([1]DE100_7!$E$183,ROWS($E$183:E228)-1,COLUMNS($E$183:E228)-1),\"\")","v":{"$error":"#VALUE!"}},{"$f":"IF(OFFSET([1]DE100_7!$F$183,ROWS($F$183:F228)-1,COLUMNS($F$183:F228)-1)<>\"\",OFFSET([1]DE100_7!$F$183,ROWS($F$183:F228)-1,COLUMNS($F$183:F228)-1),\"\")","v":{"$error":"#VALUE!"}},{"$f":"IF(OFFSET([1]DE100_7!$G$183,ROWS($G$183:G228)-1,COLUMNS($G$183:G228)-1)<>\"\",OFFSET([1]DE100_7!$G$183,ROWS($G$183:G228)-1,COLUMNS($G$183:G228)-1),\"\")","v":{"$error":"#VALUE!"}},{"$f":"IF(OFFSET([1]DE100_7!$H$183,ROWS($H$183:H228)-1,COLUMNS($H$183:H228)-1)<>\"\",OFFSET([1]DE100_7!$H$183,ROWS($H$183:H228)-1,COLUMNS($H$183:H228)-1),\"\")","v":{"$error":"#VALUE!"}},{"$f":"IF(OFFSET([1]DE100_7!$I$183,ROWS($I$183:I228)-1,COLUMNS($I$183:I228)-1)<>\"\",OFFSET([1]DE100_7!$I$183,ROWS($I$183:I228)-1,COLUMNS($I$183:I228)-1),\"\")","v":{"$error":"#VALUE!"}},{"$f":"IF(OFFSET([1]DE100_7!$J$183,ROWS($J$183:J228)-1,COLUMNS($J$183:J228)-1)<>\"\",OFFSET([1]DE100_7!$J$183,ROWS($J$183:J228)-1,COLUMNS($J$183:J228)-1),\"\")","v":{"$error":"#VALUE!"}},{"$f":"IF(OFFSET([1]DE100_7!$K$183,ROWS($K$183:K228)-1,COLUMNS($K$183:K228)-1)<>\"\",OFFSET([1]DE100_7!$K$183,ROWS($K$183:K228)-1,COLUMNS($K$183:K228)-1),\"\")","v":{"$error":"#VALUE!"}},{"$f":"IF(OFFSET([1]DE100_7!$L$183,ROWS($L$183:L228)-1,COLUMNS($L$183:L228)-1)<>\"\",OFFSET([1]DE100_7!$L$183,ROWS($L$183:L228)-1,COLUMNS($L$183:L228)-1),\"\")","v":{"$error":"#VALUE!"}},{"$f":"IF(OFFSET([1]DE100_7!$M$183,ROWS($M$183:M228)-1,COLUMNS($M$183:M228)-1)<>\"\",OFFSET([1]DE100_7!$M$183,ROWS($M$183:M228)-1,COLUMNS($M$183:M228)-1),\"\")","v":{"$error":"#VALUE!"}},{"$f":"IF(OFFSET([1]DE100_7!$N$183,ROWS($N$183:N228)-1,COLUMNS($N$183:N228)-1)<>\"\",OFFSET([1]DE100_7!$N$183,ROWS($N$183:N228)-1,COLUMNS($N$183:N228)-1),\"\")","v":{"$error":"#VALUE!"}},{"$f":"IF(OFFSET([1]DE100_7!$O$183,ROWS($O$183:O228)-1,COLUMNS($O$183:O228)-1)<>\"\",OFFSET([1]DE100_7!$O$183,ROWS($O$183:O228)-1,COLUMNS($O$183:O228)-1),\"\")","v":{"$error":"#VALUE!"}},{"$f":"IF(OFFSET([1]DE100_7!$P$183,ROWS($P$183:P228)-1,COLUMNS($P$183:P228)-1)<>\"\",OFFSET([1]DE100_7!$P$183,ROWS($P$183:P228)-1,COLUMNS($P$183:P228)-1),\"\")","v":{"$error":"#VALUE!"}},{"$f":"IF(OFFSET([1]DE100_7!$Q$183,ROWS($Q$183:Q228)-1,COLUMNS($Q$183:Q228)-1)<>\"\",OFFSET([1]DE100_7!$Q$183,ROWS($Q$183:Q228)-1,COLUMNS($Q$183:Q228)-1),\"\")","v":{"$error":"#VALUE!"}},{"$f":"IF(OFFSET([1]DE100_7!$R$183,ROWS($R$183:R228)-1,COLUMNS($R$183:R228)-1)<>\"\",OFFSET([1]DE100_7!$R$183,ROWS($R$183:R228)-1,COLUMNS($R$183:R228)-1),\"\")","v":{"$error":"#VALUE!"}},{"$f":"IF(OFFSET([1]DE100_7!$S$183,ROWS($S$183:S228)-1,COLUMNS($S$183:S228)-1)<>\"\",OFFSET([1]DE100_7!$S$183,ROWS($S$183:S228)-1,COLUMNS($S$183:S228)-1),\"\")","v":{"$error":"#VALUE!"}},{"$f":"IF(OFFSET([1]DE100_7!$T$183,ROWS($T$183:T228)-1,COLUMNS($T$183:T228)-1)<>\"\",OFFSET([1]DE100_7!$T$183,ROWS($T$183:T228)-1,COLUMNS($T$183:T228)-1),\"\")","v":{"$error":"#VALUE!"}},{"$f":"IF(OFFSET([1]DE100_7!$U$183,ROWS($U$183:U228)-1,COLUMNS($U$183:U228)-1)<>\"\",OFFSET([1]DE100_7!$U$183,ROWS($U$183:U228)-1,COLUMNS($U$183:U228)-1),\"\")","v":{"$error":"#VALUE!"}},{"$f":"IF(OFFSET([1]DE100_7!$V$183,ROWS($V$183:V228)-1,COLUMNS($V$183:V228)-1)<>\"\",OFFSET([1]DE100_7!$V$183,ROWS($V$183:V228)-1,COLUMNS($V$183:V228)-1),\"\")","v":{"$error":"#VALUE!"}}]
[{"$f":"IF(OFFSET([1]DE100_7!$C$183,ROWS($C$183:C229)-1,COLUMNS($C$183:C229)-1)<>\"\",OFFSET([1]DE100_7!$C$183,ROWS($C$183:C229)-1,COLUMNS($C$183:C229)-1),\"\")","v":{"$error":"#VALUE!"}},null,null,null,{"$f":"IF(OFFSET([1]DE100_7!$G$183,ROWS($G$183:G229)-1,COLUMNS($G$183:G229)-1)<>\"\",OFFSET([1]DE100_7!$G$183,ROWS($G$183:G229)-1,COLUMNS($G$183:G229)-1),\"\")","v":{"$error":"#VALUE!"}},{"$f":"IF(OFFSET([1]DE100_7!$H$183,ROWS($H$183:H229)-1,COLUMNS($H$183:H229)-1)<>\"\",OFFSET([1]DE100_7!$H$183,ROWS($H$183:H229)-1,COLUMNS($H$183:H229)-1),\"\")","v":{"$error":"#VALUE!"}},{"$f":"IF(OFFSET([1]DE100_7!$I$183,ROWS($I$183:I229)-1,COLUMNS($I$183:I229)-1)<>\"\",OFFSET([1]DE100_7!$I$183,ROWS($I$183:I229)-1,COLUMNS($I$183:I229)-1),\"\")","v":{"$error":"#VALUE!"}},{"$f":"IF(OFFSET([1]DE100_7!$J$183,ROWS($J$183:J229)-1,COLUMNS($J$183:J229)-1)<>\"\",OFFSET([1]DE100_7!$J$183,ROWS($J$183:J229)-1,COLUMNS($J$183:J229)-1),\"\")","v":{"$error":"#VALUE!"}},{"$f":"IF(OFFSET([1]DE100_7!$K$183,ROWS($K$183:K229)-1,COLUMNS($K$183:K229)-1)<>\"\",OFFSET([1]DE100_7!$K$183,ROWS($K$183:K229)-1,COLUMNS($K$183:K229)-1),\"\")","v":{"$error":"#VALUE!"}},{"$f":"IF(OFFSET([1]DE100_7!$L$183,ROWS($L$183:L229)-1,COLUMNS($L$183:L229)-1)<>\"\",OFFSET([1]DE100_7!$L$183,ROWS($L$183:L229)-1,COLUMNS($L$183:L229)-1),\"\")","v":{"$error":"#VALUE!"}},{"$f":"IF(OFFSET([1]DE100_7!$M$183,ROWS($M$183:M229)-1,COLUMNS($M$183:M229)-1)<>\"\",OFFSET([1]DE100_7!$M$183,ROWS($M$183:M229)-1,COLUMNS($M$183:M229)-1),\"\")","v":{"$error":"#VALUE!"}},{"$f":"IF(OFFSET([1]DE100_7!$N$183,ROWS($N$183:N229)-1,COLUMNS($N$183:N229)-1)<>\"\",OFFSET([1]DE100_7!$N$183,ROWS($N$183:N229)-1,COLUMNS($N$183:N229)-1),\"\")","v":{"$error":"#VALUE!"}},{"$f":"IF(OFFSET([1]DE100_7!$O$183,ROWS($O$183:O229)-1,COLUMNS($O$183:O229)-1)<>\"\",OFFSET([1]DE100_7!$O$183,ROWS($O$183:O229)-1,COLUMNS($O$183:O229)-1),\"\")","v":{"$error":"#VALUE!"}},{"$f":"IF(OFFSET([1]DE100_7!$P$183,ROWS($P$183:P229)-1,COLUMNS($P$183:P229)-1)<>\"\",OFFSET([1]DE100_7!$P$183,ROWS($P$183:P229)-1,COLUMNS($P$183:P229)-1),\"\")","v":{"$error":"#VALUE!"}},{"$f":"IF(OFFSET([1]DE100_7!$Q$183,ROWS($Q$183:Q229)-1,COLUMNS($Q$183:Q229)-1)<>\"\",OFFSET([1]DE100_7!$Q$183,ROWS($Q$183:Q229)-1,COLUMNS($Q$183:Q229)-1),\"\")","v":{"$error":"#VALUE!"}},{"$f":"IF(OFFSET([1]DE100_7!$R$183,ROWS($R$183:R229)-1,COLUMNS($R$183:R229)-1)<>\"\",OFFSET([1]DE100_7!$R$183,ROWS($R$183:R229)-1,COLUMNS($R$183:R229)-1),\"\")","v":{"$error":"#VALUE!"}},{"$f":"IF(OFFSET([1]DE100_7!$S$183,ROWS($S$183:S229)-1,COLUMNS($S$183:S229)-1)<>\"\",OFFSET([1]DE100_7!$S$183,ROWS($S$183:S229)-1,COLUMNS($S$183:S229)-1),\"\")","v":{"$error":"#VALUE!"}},{"$f":"IF(OFFSET([1]DE100_7!$T$183,ROWS($T$183:T229)-1,COLUMNS($T$183:T229)-1)<>\"\",OFFSET([1]DE100_7!$T$183,ROWS($T$183:T229)-1,COLUMNS($T$183:T229)-1),\"\")","v":{"$error":"#VALUE!"}},{"$f":"IF(OFFSET([1]DE100_7!$U$183,ROWS($U$183:U229)-1,COLUMNS($U$183:U229)-1)<>\"\",OFFSET([1]DE100_7!$U$183,ROWS($U$183:U229)-1,COLUMNS($U$183:U229)-1),\"\")","v":{"$error":"#VALUE!"}},{"$f":"IF(OFFSET([1]DE100_7!$V$183,ROWS($V$183:V229)-1,COLUMNS($V$183:V229)-1)<>\"\",OFFSET([1]DE100_7!$V$183,ROWS($V$183:V229)-1,COLUMNS($V$183:V229)-1),\"\")","v":{"$error":"#VALUE!"}}]
[{"$f":"IF(OFFSET([1]DE100_7!$C$183,ROWS($C$183:C230)-1,COLUMNS($C$183:C230)-1)<>\"\",OFFSET([1]DE100_7!$C$183,ROWS($C$183:C230)-1,COLUMNS($C$183:C230)-1),\"\")","v":{"$error":"#VALUE!"}},{"$f":"IF(OFFSET([1]DE100_7!$D$183,ROWS($D$183:D230)-1,COLUMNS($D$183:D230)-1)<>\"\",OFFSET([1]DE100_7!$D$183,ROWS($D$183:D230)-1,COLUMNS($D$183:D230)-1),\"\")","v":{"$error":"#VALUE!"}},{"$f":"IF(OFFSET([1]DE100_7!$E$183,ROWS($E$183:E230)-1,COLUMNS($E$183:E230)-1)<>\"\",OFFSET([1]DE100_7!$E$183,ROWS($E$183:E230)-1,COLUMNS($E$183:E230)-1),\"\")","v":{"$error":"#VALUE!"}},{"$f":"IF(OFFSET([1]DE100_7!$F$183,ROWS($F$183:F230)-1,COLUMNS($F$183:F230)-1)<>\"\",OFFSET([1]DE100_7!$F$183,ROWS($F$183:F230)-1,COLUMNS($F$183:F230)-1),\"\")","v":{"$error":"#VALUE!"}},{"$f":"IF(OFFSET([1]DE100_7!$G$183,ROWS($G$183:G230)-1,COLUMNS($G$183:G230)-1)<>\"\",OFFSET([1]DE100_7!$G$183,ROWS($G$183:G230)-1,COLUMNS($G$183:G230)-1),\"\")","v":{"$error":"#VALUE!"}},{"$f":"IF(OFFSET([1]DE100_7!$H$183,ROWS($H$183:H230)-1,COLUMNS($H$183:H230)-1)<>\"\",OFFSET([1]DE100_7!$H$183,ROWS($H$183:H230)-1,COLUMNS($H$183:H230)-1),\"\")","v":{"$error":"#VALUE!"}},{"$f":"IF(OFFSET([1]DE100_7!$I$183,ROWS($I$183:I230)-1,COLUMNS($I$183:I230)-1)<>\"\",OFFSET([1]DE100_7!$I$183,ROWS($I$183:I230)-1,COLUMNS($I$183:I230)-1),\"\")","v":{"$error":"#VALUE!"}},{"$f":"IF(OFFSET([1]DE100_7!$J$183,ROWS($J$183:J230)-1,COLUMNS($J$183:J230)-1)<>\"\",OFFSET([1]DE100_7!$J$183,ROWS($J$183:J230)-1,COLUMNS($J$183:J230)-1),\"\")","v":{"$error":"#VALUE!"}},{"$f":"IF(OFFSET([1]DE100_7!$K$183,ROWS($K$183:K230)-1,COLUMNS($K$183:K230)-1)<>\"\",OFFSET([1]DE100_7!$K$183,ROWS($K$183:K230)-1,COLUMNS($K$183:K230)-1),\"\")","v":{"$error":"#VALUE!"}},{"$f":"IF(OFFSET([1]DE100_7!$L$183,ROWS($L$183:L230)-1,COLUMNS($L$183:L230)-1)<>\"\",OFFSET([1]DE100_7!$L$183,ROWS($L$183:L230)-1,COLUMNS($L$183:L230)-1),\"\")","v":{"$error":"#VALUE!"}},{"$f":"IF(OFFSET([1]DE100_7!$M$183,ROWS($M$183:M230)-1,COLUMNS($M$183:M230)-1)<>\"\",OFFSET([1]DE100_7!$M$183,ROWS($M$183:M230)-1,COLUMNS($M$183:M230)-1),\"\")","v":{"$error":"#VALUE!"}},{"$f":"IF(OFFSET([1]DE100_7!$N$183,ROWS($N$183:N230)-1,COLUMNS($N$183:N230)-1)<>\"\",OFFSET([1]DE100_7!$N$183,ROWS($N$183:N230)-1,COLUMNS($N$183:N230)-1),\"\")","v":{"$error":"#VALUE!"}},{"$f":"IF(OFFSET([1]DE100_7!$O$183,ROWS($O$183:O230)-1,COLUMNS($O$183:O230)-1)<>\"\",OFFSET([1]DE100_7!$O$183,ROWS($O$183:O230)-1,COLUMNS($O$183:O230)-1),\"\")","v":{"$error":"#VALUE!"}},{"$f":"IF(OFFSET([1]DE100_7!$P$183,ROWS($P$183:P230)-1,COLUMNS($P$183:P230)-1)<>\"\",OFFSET([1]DE100_7!$P$183,ROWS($P$183:P230)-1,COLUMNS($P$183:P230)-1),\"\")","v":{"$error":"#VALUE!"}},{"$f":"IF(OFFSET([1]DE100_7!$Q$183,ROWS($Q$183:Q230)-1,COLUMNS($Q$183:Q230)-1)<>\"\",OFFSET([1]DE100_7!$Q$183,ROWS($Q$183:Q230)-1,COLUMNS($Q$183:Q230)-1),\"\")","v":{"$error":"#VALUE!"}},{"$f":"IF(OFFSET([1]DE100_7!$R$183,ROWS($R$183:R230)-1,COLUMNS($R$183:R230)-1)<>\"\",OFFSET([1]DE100_7!$R$183,ROWS($R$183:R230)-1,COLUMNS($R$183:R230)-1),\"\")","v":{"$error":"#VALUE!"}},{"$f":"IF(OFFSET([1]DE100_7!$S$183,ROWS($S$183:S230)-1,COLUMNS($S$183:S230)-1)<>\"\",OFFSET([1]DE100_7!$S$183,ROWS($S$183:S230)-1,COLUMNS($S$183:S230)-1),\"\")","v":{"$error":"#VALUE!"}},{"$f":"IF(OFFSET([1]DE100_7!$T$183,ROWS($T$183:T230)-1,COLUMNS($T$183:T230)-1)<>\"\",OFFSET([1]DE100_7!$T$183,ROWS($T$183:T230)-1,COLUMNS($T$183:T230)-1),\"\")","v":{"$error":"#VALUE!"}},{"$f":"IF(OFFSET([1]DE100_7!$U$183,ROWS($U$183:U230)-1,COLUMNS($U$183:U230)-1)<>\"\",OFFSET([1]DE100_7!$U$183,ROWS($U$183:U230)-1,COLUMNS($U$183:U230)-1),\"\")","v":{"$error":"#VALUE!"}},{"$f":"IF(OFFSET([1]DE100_7!$V$183,ROWS($V$183:V230)-1,COLUMNS($V$183:V230)-1)<>\"\",OFFSET([1]DE100_7!$V$183,ROWS($V$183:V230)-1,COLUMNS($V$183:V230)-1),\"\")","v":{"$error":"#VALUE!"}}]
[{"$f":"IF(OFFSET([1]DE100_7!$C$183,ROWS($C$183:C231)-1,COLUMNS($C$183:C231)-1)<>\"\",OFFSET([1]DE100_7!$C$183,ROWS($C$183:C231)-1,COLUMNS($C$183:C231)-1),\"\")","v":{"$error":"#VALUE!"}},{"$f":"IF(OFFSET([1]DE100_7!$D$183,ROWS($D$183:D231)-1,COLUMNS($D$183:D231)-1)<>\"\",OFFSET([1]DE100_7!$D$183,ROWS($D$183:D231)-1,COLUMNS($D$183:D231)-1),\"\")","v":{"$error":"#VALUE!"}},{"$f":"IF(OFFSET([1]DE100_7!$E$183,ROWS($E$183:E231)-1,COLUMNS($E$183:E231)-1)<>\"\",OFFSET([1]DE100_7!$E$183,ROWS($E$183:E231)-1,COLUMNS($E$183:E231)-1),\"\")","v":{"$error":"#VALUE!"}},{"$f":"IF(OFFSET([1]DE100_7!$F$183,ROWS($F$183:F231)-1,COLUMNS($F$183:F231)-1)<>\"\",OFFSET([1]DE100_7!$F$183,ROWS($F$183:F231)-1,COLUMNS($F$183:F231)-1),\"\")","v":{"$error":"#VALUE!"}},{"$f":"IF(OFFSET([1]DE100_7!$G$183,ROWS($G$183:G231)-1,COLUMNS($G$183:G231)-1)<>\"\",OFFSET([1]DE100_7!$G$183,ROWS($G$183:G231)-1,COLUMNS($G$183:G231)-1),\"\")","v":{"$error":"#VALUE!"}},{"$f":"IF(OFFSET([1]DE100_7!$H$183,ROWS($H$183:H231)-1,COLUMNS($H$183:H231)-1)<>\"\",OFFSET([1]DE100_7!$H$183,ROWS($H$183:H231)-1,COLUMNS($H$183:H231)-1),\"\")","v":{"$error":"#VALUE!"}},{"$f":"IF(OFFSET([1]DE100_7!$I$183,ROWS($I$183:I231)-1,COLUMNS($I$183:I231)-1)<>\"\",OFFSET([1]DE100_7!$I$183,ROWS($I$183:I231)-1,COLUMNS($I$183:I231)-1),\"\")","v":{"$error":"#VALUE!"}},{"$f":"IF(OFFSET([1]DE100_7!$J$183,ROWS($J$183:J231)-1,COLUMNS($J$183:J231)-1)<>\"\",OFFSET([1]DE100_7!$J$183,ROWS($J$183:J231)-1,COLUMNS($J$183:J231)-1),\"\")","v":{"$error":"#VALUE!"}},{"$f":"IF(OFFSET([1]DE100_7!$K$183,ROWS($K$183:K231)-1,COLUMNS($K$183:K231)-1)<>\"\",OFFSET([1]DE100_7!$K$183,ROWS($K$183:K231)-1,COLUMNS($K$183:K231)-1),\"\")","v":{"$error":"#VALUE!"}},{"$f":"IF(OFFSET([1]DE100_7!$L$183,ROWS($L$183:L231)-1,COLUMNS($L$183:L231)-1)<>\"\",OFFSET([1]DE100_7!$L$183,ROWS($L$183:L231)-1,COLUMNS($L$183:L231)-1),\"\")","v":{"$error":"#VALUE!"}},{"$f":"IF(OFFSET([1]DE100_7!$M$183,ROWS($M$183:M231)-1,COLUMNS($M$183:M231)-1)<>\"\",OFFSET([1]DE100_7!$M$183,ROWS($M$183:M231)-1,COLUMNS($M$183:M231)-1),\"\")","v":{"$error":"#VALUE!"}},{"$f":"IF(OFFSET([1]DE100_7!$N$183,ROWS($N$183:N231)-1,COLUMNS($N$183:N231)-1)<>\"\",OFFSET([1]DE100_7!$N$183,ROWS($N$183:N231)-1,COLUMNS($N$183:N231)-1),\"\")","v":{"$error":"#VALUE!"}},{"$f":"IF(OFFSET([1]DE100_7!$O$183,ROWS($O$183:O231)-1,COLUMNS($O$183:O231)-1)<>\"\",OFFSET([1]DE100_7!$O$183,ROWS($O$183:O231)-1,COLUMNS($O$183:O231)-1),\"\")","v":{"$error":"#VALUE!"}},{"$f":"IF(OFFSET([1]DE100_7!$P$183,ROWS($P$183:P231)-1,COLUMNS($P$183:P231)-1)<>\"\",OFFSET([1]DE100_7!$P$183,ROWS($P$183:P231)-1,COLUMNS($P$183:P231)-1),\"\")","v":{"$error":"#VALUE!"}},{"$f":"IF(OFFSET([1]DE100_7!$Q$183,ROWS($Q$183:Q231)-1,COLUMNS($Q$183:Q231)-1)<>\"\",OFFSET([1]DE100_7!$Q$183,ROWS($Q$183:Q231)-1,COLUMNS($Q$183:Q231)-1),\"\")","v":{"$error":"#VALUE!"}},{"$f":"IF(OFFSET([1]DE100_7!$R$183,ROWS($R$183:R231)-1,COLUMNS($R$183:R231)-1)<>\"\",OFFSET([1]DE100_7!$R$183,ROWS($R$183:R231)-1,COLUMNS($R$183:R231)-1),\"\")","v":{"$error":"#VALUE!"}},{"$f":"IF(OFFSET([1]DE100_7!$S$183,ROWS($S$183:S231)-1,COLUMNS($S$183:S231)-1)<>\"\",OFFSET([1]DE100_7!$S$183,ROWS($S$183:S231)-1,COLUMNS($S$183:S231)-1),\"\")","v":{"$error":"#VALUE!"}},{"$f":"IF(OFFSET([1]DE100_7!$T$183,ROWS($T$183:T231)-1,COLUMNS($T$183:T231)-1)<>\"\",OFFSET([1]DE100_7!$T$183,ROWS($T$183:T231)-1,COLUMNS($T$183:T231)-1),\"\")","v":{"$error":"#VALUE!"}},{"$f":"IF(OFFSET([1]DE100_7!$U$183,ROWS($U$183:U231)-1,COLUMNS($U$183:U231)-1)<>\"\",OFFSET([1]DE100_7!$U$183,ROWS($U$183:U231)-1,COLUMNS($U$183:U231)-1),\"\")","v":{"$error":"#VALUE!"}},{"$f":"IF(OFFSET([1]DE100_7!$V$183,ROWS($V$183:V231)-1,COLUMNS($V$183:V231)-1)<>\"\",OFFSET([1]DE100_7!$V$183,ROWS($V$183:V231)-1,COLUMNS($V$183:V231)-1),\"\")","v":{"$error":"#VALUE!"}}]
[{"$f":"IF(OFFSET([1]DE100_7!$C$183,ROWS($C$183:C232)-1,COLUMNS($C$183:C232)-1)<>\"\",OFFSET([1]DE100_7!$C$183,ROWS($C$183:C232)-1,COLUMNS($C$183:C232)-1),\"\")","v":{"$error":"#VALUE!"}},{"$f":"IF(OFFSET([1]DE100_7!$D$183,ROWS($D$183:D232)-1,COLUMNS($D$183:D232)-1)<>\"\",OFFSET([1]DE100_7!$D$183,ROWS($D$183:D232)-1,COLUMNS($D$183:D232)-1),\"\")","v":{"$error":"#VALUE!"}},{"$f":"IF(OFFSET([1]DE100_7!$E$183,ROWS($E$183:E232)-1,COLUMNS($E$183:E232)-1)<>\"\",OFFSET([1]DE100_7!$E$183,ROWS($E$183:E232)-1,COLUMNS($E$183:E232)-1),\"\")","v":{"$error":"#VALUE!"}},{"$f":"IF(OFFSET([1]DE100_7!$F$183,ROWS($F$183:F232)-1,COLUMNS($F$183:F232)-1)<>\"\",OFFSET([1]DE100_7!$F$183,ROWS($F$183:F232)-1,COLUMNS($F$183:F232)-1),\"\")","v":{"$error":"#VALUE!"}},{"$f":"IF(OFFSET([1]DE100_7!$G$183,ROWS($G$183:G232)-1,COLUMNS($G$183:G232)-1)<>\"\",OFFSET([1]DE100_7!$G$183,ROWS($G$183:G232)-1,COLUMNS($G$183:G232)-1),\"\")","v":{"$error":"#VALUE!"}},{"$f":"IF(OFFSET([1]DE100_7!$H$183,ROWS($H$183:H232)-1,COLUMNS($H$183:H232)-1)<>\"\",OFFSET([1]DE100_7!$H$183,ROWS($H$183:H232)-1,COLUMNS($H$183:H232)-1),\"\")","v":{"$error":"#VALUE!"}},{"$f":"IF(OFFSET([1]DE100_7!$I$183,ROWS($I$183:I232)-1,COLUMNS($I$183:I232)-1)<>\"\",OFFSET([1]DE100_7!$I$183,ROWS($I$183:I232)-1,COLUMNS($I$183:I232)-1),\"\")","v":{"$error":"#VALUE!"}},{"$f":"IF(OFFSET([1]DE100_7!$J$183,ROWS($J$183:J232)-1,COLUMNS($J$183:J232)-1)<>\"\",OFFSET([1]DE100_7!$J$183,ROWS($J$183:J232)-1,COLUMNS($J$183:J232)-1),\"\")","v":{"$error":"#VALUE!"}},{"$f":"IF(OFFSET([1]DE100_7!$K$183,ROWS($K$183:K232)-1,COLUMNS($K$183:K232)-1)<>\"\",OFFSET([1]DE100_7!$K$183,ROWS($K$183:K232)-1,COLUMNS($K$183:K232)-1),\"\")","v":{"$error":"#VALUE!"}},{"$f":"IF(OFFSET([1]DE100_7!$L$183,ROWS($L$183:L232)-1,COLUMNS($L$183:L232)-1)<>\"\",OFFSET([1]DE100_7!$L$183,ROWS($L$183:L232)-1,COLUMNS($L$183:L232)-1),\"\")","v":{"$error":"#VALUE!"}},{"$f":"IF(OFFSET([1]DE100_7!$M$183,ROWS($M$183:M232)-1,COLUMNS($M$183:M232)-1)<>\"\",OFFSET([1]DE100_7!$M$183,ROWS($M$183:M232)-1,COLUMNS($M$183:M232)-1),\"\")","v":{"$error":"#VALUE!"}},{"$f":"IF(OFFSET([1]DE100_7!$N$183,ROWS($N$183:N232)-1,COLUMNS($N$183:N232)-1)<>\"\",OFFSET([1]DE100_7!$N$183,ROWS($N$183:N232)-1,COLUMNS($N$183:N232)-1),\"\")","v":{"$error":"#VALUE!"}},{"$f":"IF(OFFSET([1]DE100_7!$O$183,ROWS($O$183:O232)-1,COLUMNS($O$183:O232)-1)<>\"\",OFFSET([1]DE100_7!$O$183,ROWS($O$183:O232)-1,COLUMNS($O$183:O232)-1),\"\")","v":{"$error":"#VALUE!"}},{"$f":"IF(OFFSET([1]DE100_7!$P$183,ROWS($P$183:P232)-1,COLUMNS($P$183:P232)-1)<>\"\",OFFSET([1]DE100_7!$P$183,ROWS($P$183:P232)-1,COLUMNS($P$183:P232)-1),\"\")","v":{"$error":"#VALUE!"}},{"$f":"IF(OFFSET([1]DE100_7!$Q$183,ROWS($Q$183:Q232)-1,COLUMNS($Q$183:Q232)-1)<>\"\",OFFSET([1]DE100_7!$Q$183,ROWS($Q$183:Q232)-1,COLUMNS($Q$183:Q232)-1),\"\")","v":{"$error":"#VALUE!"}},{"$f":"IF(OFFSET([1]DE100_7!$R$183,ROWS($R$183:R232)-1,COLUMNS($R$183:R232)-1)<>\"\",OFFSET([1]DE100_7!$R$183,ROWS($R$183:R232)-1,COLUMNS($R$183:R232)-1),\"\")","v":{"$error":"#VALUE!"}},{"$f":"IF(OFFSET([1]DE100_7!$S$183,ROWS($S$183:S232)-1,COLUMNS($S$183:S232)-1)<>\"\",OFFSET([1]DE100_7!$S$183,ROWS($S$183:S232)-1,COLUMNS($S$183:S232)-1),\"\")","v":{"$error":"#VALUE!"}},{"$f":"IF(OFFSET([1]DE100_7!$T$183,ROWS($T$183:T232)-1,COLUMNS($T$183:T232)-1)<>\"\",OFFSET([1]DE100_7!$T$183,ROWS($T$183:T232)-1,COLUMNS($T$183:T232)-1),\"\")","v":{"$error":"#VALUE!"}},{"$f":"IF(OFFSET([1]DE100_7!$U$183,ROWS($U$183:U232)-1,COLUMNS($U$183:U232)-1)<>\"\",OFFSET([1]DE100_7!$U$183,ROWS($U$183:U232)-1,COLUMNS($U$183:U232)-1),\"\")","v":{"$error":"#VALUE!"}},{"$f":"IF(OFFSET([1]DE100_7!$V$183,ROWS($V$183:V232)-1,COLUMNS($V$183:V232)-1)<>\"\",OFFSET([1]DE100_7!$V$183,ROWS($V$183:V232)-1,COLUMNS($V$183:V232)-1),\"\")","v":{"$error":"#VALUE!"}}]
[{"$f":"IF(OFFSET([1]DE100_7!$C$183,ROWS($C$183:C233)-1,COLUMNS($C$183:C233)-1)<>\"\",OFFSET([1]DE100_7!$C$183,ROWS($C$183:C233)-1,COLUMNS($C$183:C233)-1),\"\")","v":{"$error":"#VALUE!"}},{"$f":"IF(OFFSET([1]DE100_7!$D$183,ROWS($D$183:D233)-1,COLUMNS($D$183:D233)-1)<>\"\",OFFSET([1]DE100_7!$D$183,ROWS($D$183:D233)-1,COLUMNS($D$183:D233)-1),\"\")","v":{"$error":"#VALUE!"}},{"$f":"IF(OFFSET([1]DE100_7!$E$183,ROWS($E$183:E233)-1,COLUMNS($E$183:E233)-1)<>\"\",OFFSET([1]DE100_7!$E$183,ROWS($E$183:E233)-1,COLUMNS($E$183:E233)-1),\"\")","v":{"$error":"#VALUE!"}},{"$f":"IF(OFFSET([1]DE100_7!$F$183,ROWS($F$183:F233)-1,COLUMNS($F$183:F233)-1)<>\"\",OFFSET([1]DE100_7!$F$183,ROWS($F$183:F233)-1,COLUMNS($F$183:F233)-1),\"\")","v":{"$error":"#VALUE!"}},{"$f":"IF(OFFSET([1]DE100_7!$G$183,ROWS($G$183:G233)-1,COLUMNS($G$183:G233)-1)<>\"\",OFFSET([1]DE100_7!$G$183,ROWS($G$183:G233)-1,COLUMNS($G$183:G233)-1),\"\")","v":{"$error":"#VALUE!"}},{"$f":"IF(OFFSET([1]DE100_7!$H$183,ROWS($H$183:H233)-1,COLUMNS($H$183:H233)-1)<>\"\",OFFSET([1]DE100_7!$H$183,ROWS($H$183:H233)-1,COLUMNS($H$183:H233)-1),\"\")","v":{"$error":"#VALUE!"}},{"$f":"IF(OFFSET([1]DE100_7!$I$183,ROWS($I$183:I233)-1,COLUMNS($I$183:I233)-1)<>\"\",OFFSET([1]DE100_7!$I$183,ROWS($I$183:I233)-1,COLUMNS($I$183:I233)-1),\"\")","v":{"$error":"#VALUE!"}},{"$f":"IF(OFFSET([1]DE100_7!$J$183,ROWS($J$183:J233)-1,COLUMNS($J$183:J233)-1)<>\"\",OFFSET([1]DE100_7!$J$183,ROWS($J$183:J233)-1,COLUMNS($J$183:J233)-1),\"\")","v":{"$error":"#VALUE!"}},{"$f":"IF(OFFSET([1]DE100_7!$K$183,ROWS($K$183:K233)-1,COLUMNS($K$183:K233)-1)<>\"\",OFFSET([1]DE100_7!$K$183,ROWS($K$183:K233)-1,COLUMNS($K$183:K233)-1),\"\")","v":{"$error":"#VALUE!"}},{"$f":"IF(OFFSET([1]DE100_7!$L$183,ROWS($L$183:L233)-1,COLUMNS($L$183:L233)-1)<>\"\",OFFSET([1]DE100_7!$L$183,ROWS($L$183:L233)-1,COLUMNS($L$183:L233)-1),\"\")","v":{"$error":"#VALUE!"}},{"$f":"IF(OFFSET([1]DE100_7!$M$183,ROWS($M$183:M233)-1,COLUMNS($M$183:M233)-1)<>\"\",OFFSET([1]DE100_7!$M$183,ROWS($M$183:M233)-1,COLUMNS($M$183:M233)-1),\"\")","v":{"$error":"#VALUE!"}},{"$f":"IF(OFFSET([1]DE100_7!$N$183,ROWS($N$183:N233)-1,COLUMNS($N$183:N233)-1)<>\"\",OFFSET([1]DE100_7!$N$183,ROWS($N$183:N233)-1,COLUMNS($N$183:N233)-1),\"\")","v":{"$error":"#VALUE!"}},{"$f":"IF(OFFSET([1]DE100_7!$O$183,ROWS($O$183:O233)-1,COLUMNS($O$183:O233)-1)<>\"\",OFFSET([1]DE100_7!$O$183,ROWS($O$183:O233)-1,COLUMNS($O$183:O233)-1),\"\")","v":{"$error":"#VALUE!"}},{"$f":"IF(OFFSET([1]DE100_7!$P$183,ROWS($P$183:P233)-1,COLUMNS($P$183:P233)-1)<>\"\",OFFSET([1]DE100_7!$P$183,ROWS($P$183:P233)-1,COLUMNS($P$183:P233)-1),\"\")","v":{"$error":"#VALUE!"}},{"$f":"IF(OFFSET([1]DE100_7!$Q$183,ROWS($Q$183:Q233)-1,COLUMNS($Q$183:Q233)-1)<>\"\",OFFSET([1]DE100_7!$Q$183,ROWS($Q$183:Q233)-1,COLUMNS($Q$183:Q233)-1),\"\")","v":{"$error":"#VALUE!"}},{"$f":"IF(OFFSET([1]DE100_7!$R$183,ROWS($R$183:R233)-1,COLUMNS($R$183:R233)-1)<>\"\",OFFSET([1]DE100_7!$R$183,ROWS($R$183:R233)-1,COLUMNS($R$183:R233)-1),\"\")","v":{"$error":"#VALUE!"}},{"$f":"IF(OFFSET([1]DE100_7!$S$183,ROWS($S$183:S233)-1,COLUMNS($S$183:S233)-1)<>\"\",OFFSET([1]DE100_7!$S$183,ROWS($S$183:S233)-1,COLUMNS($S$183:S233)-1),\"\")","v":{"$error":"#VALUE!"}},{"$f":"IF(OFFSET([1]DE100_7!$T$183,ROWS($T$183:T233)-1,COLUMNS($T$183:T233)-1)<>\"\",OFFSET([1]DE100_7!$T$183,ROWS($T$183:T233)-1,COLUMNS($T$183:T233)-1),\"\")","v":{"$error":"#VALUE!"}},{"$f":"IF(OFFSET([1]DE100_7!$U$183,ROWS($U$183:U233)-1,COLUMNS($U$183:U233)-1)<>\"\",OFFSET([1]DE100_7!$U$183,ROWS($U$183:U233)-1,COLUMNS($U$183:U233)-1),\"\")","v":{"$error":"#VALUE!"}},{"$f":"IF(OFFSET([1]DE100_7!$V$183,ROWS($V$183:V233)-1,COLUMNS($V$183:V233)-1)<>\"\",OFFSET([1]DE100_7!$V$183,ROWS($V$183:V233)-1,COLUMNS($V$183:V233)-1),\"\")","v":{"$error":"#VALUE!"}}]
[{"$f":"IF(OFFSET([1]DE100_7!$C$183,ROWS($C$183:C234)-1,COLUMNS($C$183:C234)-1)<>\"\",OFFSET([1]DE100_7!$C$183,ROWS($C$183:C234)-1,COLUMNS($C$183:C234)-1),\"\")","v":{"$error":"#VALUE!"}},{"$f":"IF(OFFSET([1]DE100_7!$D$183,ROWS($D$183:D234)-1,COLUMNS($D$183:D234)-1)<>\"\",OFFSET([1]DE100_7!$D$183,ROWS($D$183:D234)-1,COLUMNS($D$183:D234)-1),\"\")","v":{"$error":"#VALUE!"}},{"$f":"IF(OFFSET([1]DE100_7!$E$183,ROWS($E$183:E234)-1,COLUMNS($E$183:E234)-1)<>\"\",OFFSET([1]DE100_7!$E$183,ROWS($E$183:E234)-1,COLUMNS($E$183:E234)-1),\"\")","v":{"$error":"#VALUE!"}},{"$f":"IF(OFFSET([1]DE100_7!$F$183,ROWS($F$183:F234)-1,COLUMNS($F$183:F234)-1)<>\"\",OFFSET([1]DE100_7!$F$183,ROWS($F$183:F234)-1,COLUMNS($F$183:F234)-1),\"\")","v":{"$error":"#VALUE!"}},{"$f":"IF(OFFSET([1]DE100_7!$G$183,ROWS($G$183:G234)-1,COLUMNS($G$183:G234)-1)<>\"\",OFFSET([1]DE100_7!$G$183,ROWS($G$183:G234)-1,COLUMNS($G$183:G234)-1),\"\")","v":{"$error":"#VALUE!"}},{"$f":"IF(OFFSET([1]DE100_7!$H$183,ROWS($H$183:H234)-1,COLUMNS($H$183:H234)-1)<>\"\",OFFSET([1]DE100_7!$H$183,ROWS($H$183:H234)-1,COLUMNS($H$183:H234)-1),\"\")","v":{"$error":"#VALUE!"}},{"$f":"IF(OFFSET([1]DE100_7!$I$183,ROWS($I$183:I234)-1,COLUMNS($I$183:I234)-1)<>\"\",OFFSET([1]DE100_7!$I$183,ROWS($I$183:I234)-1,COLUMNS($I$183:I234)-1),\"\")","v":{"$error":"#VALUE!"}},{"$f":"IF(OFFSET([1]DE100_7!$J$183,ROWS($J$183:J234)-1,COLUMNS($J$183:J234)-1)<>\"\",OFFSET([1]DE100_7!$J$183,ROWS($J$183:J234)-1,COLUMNS($J$183:J234)-1),\"\")","v":{"$error":"#VALUE!"}},{"$f":"IF(OFFSET([1]DE100_7!$K$183,ROWS($K$183:K234)-1,COLUMNS($K$183:K234)-1)<>\"\",OFFSET([1]DE100_7!$K$183,ROWS($K$183:K234)-1,COLUMNS($K$183:K234)-1),\"\")","v":{"$error":"#VALUE!"}},{"$f":"IF(OFFSET([1]DE100_7!$L$183,ROWS($L$183:L234)-1,COLUMNS($L$183:L234)-1)<>\"\",OFFSET([1]DE100_7!$L$183,ROWS($L$183:L234)-1,COLUMNS($L$183:L234)-1),\"\")","v":{"$error":"#VALUE!"}},{"$f":"IF(OFFSET([1]DE100_7!$M$183,ROWS($M$183:M234)-1,COLUMNS($M$183:M234)-1)<>\"\",OFFSET([1]DE100_7!$M$183,ROWS($M$183:M234)-1,COLUMNS($M$183:M234)-1),\"\")","v":{"$error":"#VALUE!"}},{"$f":"IF(OFFSET([1]DE100_7!$N$183,ROWS($N$183:N234)-1,COLUMNS($N$183:N234)-1)<>\"\",OFFSET([1]DE100_7!$N$183,ROWS($N$183:N234)-1,COLUMNS($N$183:N234)-1),\"\")","v":{"$error":"#VALUE!"}},{"$f":"IF(OFFSET([1]DE100_7!$O$183,ROWS($O$183:O234)-1,COLUMNS($O$183:O234)-1)<>\"\",OFFSET([1]DE100_7!$O$183,ROWS($O$183:O234)-1,COLUMNS($O$183:O234)-1),\"\")","v":{"$error":"#VALUE!"}},{"$f":"IF(OFFSET([1]DE100_7!$P$183,ROWS($P$183:P234)-1,COLUMNS($P$183:P234)-1)<>\"\",OFFSET([1]DE100_7!$P$183,ROWS($P$183:P234)-1,COLUMNS($P$183:P234)-1),\"\")","v":{"$error":"#VALUE!"}},{"$f":"IF(OFFSET([1]DE100_7!$Q$183,ROWS($Q$183:Q234)-1,COLUMNS($Q$183:Q234)-1)<>\"\",OFFSET([1]DE100_7!$Q$183,ROWS($Q$183:Q234)-1,COLUMNS($Q$183:Q234)-1),\"\")","v":{"$error":"#VALUE!"}},{"$f":"IF(OFFSET([1]DE100_7!$R$183,ROWS($R$183:R234)-1,COLUMNS($R$183:R234)-1)<>\"\",OFFSET([1]DE100_7!$R$183,ROWS($R$183:R234)-1,COLUMNS($R$183:R234)-1),\"\")","v":{"$error":"#VALUE!"}},{"$f":"IF(OFFSET([1]DE100_7!$S$183,ROWS($S$183:S234)-1,COLUMNS($S$183:S234)-1)<>\"\",OFFSET([1]DE100_7!$S$183,ROWS($S$183:S234)-1,COLUMNS($S$183:S234)-1),\"\")","v":{"$error":"#VALUE!"}},{"$f":"IF(OFFSET([1]DE100_7!$T$183,ROWS($T$183:T234)-1,COLUMNS($T$183:T234)-1)<>\"\",OFFSET([1]DE100_7!$T$183,ROWS($T$183:T234)-1,COLUMNS($T$183:T234)-1),\"\")","v":{"$error":"#VALUE!"}},{"$f":"IF(OFFSET([1]DE100_7!$U$183,ROWS($U$183:U234)-1,COLUMNS($U$183:U234)-1)<>\"\",OFFSET([1]DE100_7!$U$183,ROWS($U$183:U234)-1,COLUMNS($U$183:U234)-1),\"\")","v":{"$error":"#VALUE!"}},{"$f":"IF(OFFSET([1]DE100_7!$V$183,ROWS($V$183:V234)-1,COLUMNS($V$183:V234)-1)<>\"\",OFFSET([1]DE100_7!$V$183,ROWS($V$183:V234)-1,COLUMNS($V$183:V234)-1),\"\")","v":{"$error":"#VALUE!"}}]
[{"$f":"IF(OFFSET([1]DE100_7!$C$183,ROWS($C$183:C235)-1,COLUMNS($C$183:C235)-1)<>\"\",OFFSET([1]DE100_7!$C$183,ROWS($C$183:C235)-1,COLUMNS($C$183:C235)-1),\"\")","v":{"$error":"#VALUE!"}},{"$f":"IF(OFFSET([1]DE100_7!$D$183,ROWS($D$183:D235)-1,COLUMNS($D$183:D235)-1)<>\"\",OFFSET([1]DE100_7!$D$183,ROWS($D$183:D235)-1,COLUMNS($D$183:D235)-1),\"\")","v":{"$error":"#VALUE!"}},{"$f":"IF(OFFSET([1]DE100_7!$E$183,ROWS($E$183:E235)-1,COLUMNS($E$183:E235)-1)<>\"\",OFFSET([1]DE100_7!$E$183,ROWS($E$183:E235)-1,COLUMNS($E$183:E235)-1),\"\")","v":{"$error":"#VALUE!"}},{"$f":"IF(OFFSET([1]DE100_7!$F$183,ROWS($F$183:F235)-1,COLUMNS($F$183:F235)-1)<>\"\",OFFSET([1]DE100_7!$F$183,ROWS($F$183:F235)-1,COLUMNS($F$183:F235)-1),\"\")","v":{"$error":"#VALUE!"}},{"$f":"IF(OFFSET([1]DE100_7!$G$183,ROWS($G$183:G235)-1,COLUMNS($G$183:G235)-1)<>\"\",OFFSET([1]DE100_7!$G$183,ROWS($G$183:G235)-1,COLUMNS($G$183:G235)-1),\"\")","v":{"$error":"#VALUE!"}},{"$f":"IF(OFFSET([1]DE100_7!$H$183,ROWS($H$183:H235)-1,COLUMNS($H$183:H235)-1)<>\"\",OFFSET([1]DE100_7!$H$183,ROWS($H$183:H235)-1,COLUMNS($H$183:H235)-1),\"\")","v":{"$error":"#VALUE!"}},{"$f":"IF(OFFSET([1]DE100_7!$I$183,ROWS($I$183:I235)-1,COLUMNS($I$183:I235)-1)<>\"\",OFFSET([1]DE100_7!$I$183,ROWS($I$183:I235)-1,COLUMNS($I$183:I235)-1),\"\")","v":{"$error":"#VALUE!"}},{"$f":"IF(OFFSET([1]DE100_7!$J$183,ROWS($J$183:J235)-1,COLUMNS($J$183:J235)-1)<>\"\",OFFSET([1]DE100_7!$J$183,ROWS($J$183:J235)-1,COLUMNS($J$183:J235)-1),\"\")","v":{"$error":"#VALUE!"}},{"$f":"IF(OFFSET([1]DE100_7!$K$183,ROWS($K$183:K235)-1,COLUMNS($K$183:K235)-1)<>\"\",OFFSET([1]DE100_7!$K$183,ROWS($K$183:K235)-1,COLUMNS($K$183:K235)-1),\"\")","v":{"$error":"#VALUE!"}},{"$f":"IF(OFFSET([1]DE100_7!$L$183,ROWS($L$183:L235)-1,COLUMNS($L$183:L235)-1)<>\"\",OFFSET([1]DE100_7!$L$183,ROWS($L$183:L235)-1,COLUMNS($L$183:L235)-1),\"\")","v":{"$error":"#VALUE!"}},{"$f":"IF(OFFSET([1]DE100_7!$M$183,ROWS($M$183:M235)-1,COLUMNS($M$183:M235)-1)<>\"\",OFFSET([1]DE100_7!$M$183,ROWS($M$183:M235)-1,COLUMNS($M$183:M235)-1),\"\")","v":{"$error":"#VALUE!"}},{"$f":"IF(OFFSET([1]DE100_7!$N$183,ROWS($N$183:N235)-1,COLUMNS($N$183:N235)-1)<>\"\",OFFSET([1]DE100_7!$N$183,ROWS($N$183:N235)-1,COLUMNS($N$183:N235)-1),\"\")","v":{"$error":"#VALUE!"}},{"$f":"IF(OFFSET([1]DE100_7!$O$183,ROWS($O$183:O235)-1,COLUMNS($O$183:O235)-1)<>\"\",OFFSET([1]DE100_7!$O$183,ROWS($O$183:O235)-1,COLUMNS($O$183:O235)-1),\"\")","v":{"$error":"#VALUE!"}},{"$f":"IF(OFFSET([1]DE100_7!$P$183,ROWS($P$183:P235)-1,COLUMNS($P$183:P235)-1)<>\"\",OFFSET([1]DE100_7!$P$183,ROWS($P$183:P235)-1,COLUMNS($P$183:P235)-1),\"\")","v":{"$error":"#VALUE!"}},{"$f":"IF(OFFSET([1]DE100_7!$Q$183,ROWS($Q$183:Q235)-1,COLUMNS($Q$183:Q235)-1)<>\"\",OFFSET([1]DE100_7!$Q$183,ROWS($Q$183:Q235)-1,COLUMNS($Q$183:Q235)-1),\"\")","v":{"$error":"#VALUE!"}},{"$f":"IF(OFFSET([1]DE100_7!$R$183,ROWS($R$183:R235)-1,COLUMNS($R$183:R235)-1)<>\"\",OFFSET([1]DE100_7!$R$183,ROWS($R$183:R235)-1,COLUMNS($R$183:R235)-1),\"\")","v":{"$error":"#VALUE!"}},{"$f":"IF(OFFSET([1]DE100_7!$S$183,ROWS($S$183:S235)-1,COLUMNS($S$183:S235)-1)<>\"\",OFFSET([1]DE100_7!$S$183,ROWS($S$183:S235)-1,COLUMNS($S$183:S235)-1),\"\")","v":{"$error":"#VALUE!"}},{"$f":"IF(OFFSET([1]DE100_7!$T$183,ROWS($T$183:T235)-1,COLUMNS($T$183:T235)-1)<>\"\",OFFSET([1]DE100_7!$T$183,ROWS($T$183:T235)-1,COLUMNS($T$183:T235)-1),\"\")","v":{"$error":"#VALUE!"}},{"$f":"IF(OFFSET([1]DE100_7!$U$183,ROWS($U$183:U235)-1,COLUMNS($U$183:U235)-1)<>\"\",OFFSET([1]DE100_7!$U$183,ROWS($U$183:U235)-1,COLUMNS($U$183:U235)-1),\"\")","v":{"$error":"#VALUE!"}},{"$f":"IF(OFFSET([1]DE100_7!$V$183,ROWS($V$183:V235)-1,COLUMNS($V$183:V235)-1)<>\"\",OFFSET([1]DE100_7!$V$183,ROWS($V$183:V235)-1,COLUMNS($V$183:V235)-1),\"\")","v":{"$error":"#VALUE!"}}]
[{"$f":"IF(OFFSET([1]DE100_7!$C$183,ROWS($C$183:C236)-1,COLUMNS($C$183:C236)-1)<>\"\",OFFSET([1]DE100_7!$C$183,ROWS($C$183:C236)-1,COLUMNS($C$183:C236)-1),\"\")","v":{"$error":"#VALUE!"}},{"$f":"IF(OFFSET([1]DE100_7!$D$183,ROWS($D$183:D236)-1,COLUMNS($D$183:D236)-1)<>\"\",OFFSET([1]DE100_7!$D$183,ROWS($D$183:D236)-1,COLUMNS($D$183:D236)-1),\"\")","v":{"$error":"#VALUE!"}},{"$f":"IF(OFFSET([1]DE100_7!$E$183,ROWS($E$183:E236)-1,COLUMNS($E$183:E236)-1)<>\"\",OFFSET([1]DE100_7!$E$183,ROWS($E$183:E236)-1,COLUMNS($E$183:E236)-1),\"\")","v":{"$error":"#VALUE!"}},{"$f":"IF(OFFSET([1]DE100_7!$F$183,ROWS($F$183:F236)-1,COLUMNS($F$183:F236)-1)<>\"\",OFFSET([1]DE100_7!$F$183,ROWS($F$183:F236)-1,COLUMNS($F$183:F236)-1),\"\")","v":{"$error":"#VALUE!"}},{"$f":"IF(OFFSET([1]DE100_7!$G$183,ROWS($G$183:G236)-1,COLUMNS($G$183:G236)-1)<>\"\",OFFSET([1]DE100_7!$G$183,ROWS($G$183:G236)-1,COLUMNS($G$183:G236)-1),\"\")","v":{"$error":"#VALUE!"}},{"$f":"IF(OFFSET([1]DE100_7!$H$183,ROWS($H$183:H236)-1,COLUMNS($H$183:H236)-1)<>\"\",OFFSET([1]DE100_7!$H$183,ROWS($H$183:H236)-1,COLUMNS($H$183:H236)-1),\"\")","v":{"$error":"#VALUE!"}},{"$f":"IF(OFFSET([1]DE100_7!$I$183,ROWS($I$183:I236)-1,COLUMNS($I$183:I236)-1)<>\"\",OFFSET([1]DE100_7!$I$183,ROWS($I$183:I236)-1,COLUMNS($I$183:I236)-1),\"\")","v":{"$error":"#VALUE!"}},{"$f":"IF(OFFSET([1]DE100_7!$J$183,ROWS($J$183:J236)-1,COLUMNS($J$183:J236)-1)<>\"\",OFFSET([1]DE100_7!$J$183,ROWS($J$183:J236)-1,COLUMNS($J$183:J236)-1),\"\")","v":{"$error":"#VALUE!"}},{"$f":"IF(OFFSET([1]DE100_7!$K$183,ROWS($K$183:K236)-1,COLUMNS($K$183:K236)-1)<>\"\",OFFSET([1]DE100_7!$K$183,ROWS($K$183:K236)-1,COLUMNS($K$183:K236)-1),\"\")","v":{"$error":"#VALUE!"}},{"$f":"IF(OFFSET([1]DE100_7!$L$183,ROWS($L$183:L236)-1,COLUMNS($L$183:L236)-1)<>\"\",OFFSET([1]DE100_7!$L$183,ROWS($L$183:L236)-1,COLUMNS($L$183:L236)-1),\"\")","v":{"$error":"#VALUE!"}},{"$f":"IF(OFFSET([1]DE100_7!$M$183,ROWS($M$183:M236)-1,COLUMNS($M$183:M236)-1)<>\"\",OFFSET([1]DE100_7!$M$183,ROWS($M$183:M236)-1,COLUMNS($M$183:M236)-1),\"\")","v":{"$error":"#VALUE!"}},{"$f":"IF(OFFSET([1]DE100_7!$N$183,ROWS($N$183:N236)-1,COLUMNS($N$183:N236)-1)<>\"\",OFFSET([1]DE100_7!$N$183,ROWS($N$183:N236)-1,COLUMNS($N$183:N236)-1),\"\")","v":{"$error":"#VALUE!"}},{"$f":"IF(OFFSET([1]DE100_7!$O$183,ROWS($O$183:O236)-1,COLUMNS($O$183:O236)-1)<>\"\",OFFSET([1]DE100_7!$O$183,ROWS($O$183:O236)-1,COLUMNS($O$183:O236)-1),\"\")","v":{"$error":"#VALUE!"}},{"$f":"IF(OFFSET([1]DE100_7!$P$183,ROWS($P$183:P236)-1,COLUMNS($P$183:P236)-1)<>\"\",OFFSET([1]DE100_7!$P$183,ROWS($P$183:P236)-1,COLUMNS($P$183:P236)-1),\"\")","v":{"$error":"#VALUE!"}},{"$f":"IF(OFFSET([1]DE100_7!$Q$183,ROWS($Q$183:Q236)-1,COLUMNS($Q$183:Q236)-1)<>\"\",OFFSET([1]DE100_7!$Q$183,ROWS($Q$183:Q236)-1,COLUMNS($Q$183:Q236)-1),\"\")","v":{"$error":"#VALUE!"}},{"$f":"IF(OFFSET([1]DE100_7!$R$183,ROWS($R$183:R236)-1,COLUMNS($R$183:R236)-1)<>\"\",OFFSET([1]DE100_7!$R$183,ROWS($R$183:R236)-1,COLUMNS($R$183:R236)-1),\"\")","v":{"$error":"#VALUE!"}},{"$f":"IF(OFFSET([1]DE100_7!$S$183,ROWS($S$183:S236)-1,COLUMNS($S$183:S236)-1)<>\"\",OFFSET([1]DE100_7!$S$183,ROWS($S$183:S236)-1,COLUMNS($S$183:S236)-1),\"\")","v":{"$error":"#VALUE!"}},{"$f":"IF(OFFSET([1]DE100_7!$T$183,ROWS($T$183:T236)-1,COLUMNS($T$183:T236)-1)<>\"\",OFFSET([1]DE100_7!$T$183,ROWS($T$183:T236)-1,COLUMNS($T$183:T236)-1),\"\")","v":{"$error":"#VALUE!"}},{"$f":"IF(OFFSET([1]DE100_7!$U$183,ROWS($U$183:U236)-1,COLUMNS($U$183:U236)-1)<>\"\",OFFSET([1]DE100_7!$U$183,ROWS($U$183:U236)-1,COLUMNS($U$183:U236)-1),\"\")","v":{"$error":"#VALUE!"}},{"$f":"IF(OFFSET([1]DE100_7!$V$183,ROWS($V$183:V236)-1,COLUMNS($V$183:V236)-1)<>\"\",OFFSET([1]DE100_7!$V$183,ROWS($V$183:V236)-1,COLUMNS($V$183:V236)-1),\"\")","v":{"$error":"#VALUE!"}}]
[{"$f":"IF(OFFSET([1]DE100_7!$C$183,ROWS($C$183:C237)-1,COLUMNS($C$183:C237)-1)<>\"\",OFFSET([1]DE100_7!$C$183,ROWS($C$183:C237)-1,COLUMNS($C$183:C237)-1),\"\")","v":{"$error":"#VALUE!"}},{"$f":"IF(OFFSET([1]DE100_7!$D$183,ROWS($D$183:D237)-1,COLUMNS($D$183:D237)-1)<>\"\",OFFSET([1]DE100_7!$D$183,ROWS($D$183:D237)-1,COLUMNS($D$183:D237)-1),\"\")","v":{"$error":"#VALUE!"}},{"$f":"IF(OFFSET([1]DE100_7!$E$183,ROWS($E$183:E237)-1,COLUMNS($E$183:E237)-1)<>\"\",OFFSET([1]DE100_7!$E$183,ROWS($E$183:E237)-1,COLUMNS($E$183:E237)-1),\"\")","v":{"$error":"#VALUE!"}},{"$f":"IF(OFFSET([1]DE100_7!$F$183,ROWS($F$183:F237)-1,COLUMNS($F$183:F237)-1)<>\"\",OFFSET([1]DE100_7!$F$183,ROWS($F$183:F237)-1,COLUMNS($F$183:F237)-1),\"\")","v":{"$error":"#VALUE!"}},{"$f":"IF(OFFSET([1]DE100_7!$G$183,ROWS($G$183:G237)-1,COLUMNS($G$183:G237)-1)<>\"\",OFFSET([1]DE100_7!$G$183,ROWS($G$183:G237)-1,COLUMNS($G$183:G237)-1),\"\")","v":{"$error":"#VALUE!"}},{"$f":"IF(OFFSET([1]DE100_7!$H$183,ROWS($H$183:H237)-1,COLUMNS($H$183:H237)-1)<>\"\",OFFSET([1]DE100_7!$H$183,ROWS($H$183:H237)-1,COLUMNS($H$183:H237)-1),\"\")","v":{"$error":"#VALUE!"}},{"$f":"IF(OFFSET([1]DE100_7!$I$183,ROWS($I$183:I237)-1,COLUMNS($I$183:I237)-1)<>\"\",OFFSET([1]DE100_7!$I$183,ROWS($I$183:I237)-1,COLUMNS($I$183:I237)-1),\"\")","v":{"$error":"#VALUE!"}},{"$f":"IF(OFFSET([1]DE100_7!$J$183,ROWS($J$183:J237)-1,COLUMNS($J$183:J237)-1)<>\"\",OFFSET([1]DE100_7!$J$183,ROWS($J$183:J237)-1,COLUMNS($J$183:J237)-1),\"\")","v":{"$error":"#VALUE!"}},{"$f":"IF(OFFSET([1]DE100_7!$K$183,ROWS($K$183:K237)-1,COLUMNS($K$183:K237)-1)<>\"\",OFFSET([1]DE100_7!$K$183,ROWS($K$183:K237)-1,COLUMNS($K$183:K237)-1),\"\")","v":{"$error":"#VALUE!"}},{"$f":"IF(OFFSET([1]DE100_7!$L$183,ROWS($L$183:L237)-1,COLUMNS($L$183:L237)-1)<>\"\",OFFSET([1]DE100_7!$L$183,ROWS($L$183:L237)-1,COLUMNS($L$183:L237)-1),\"\")","v":{"$error":"#VALUE!"}},{"$f":"IF(OFFSET([1]DE100_7!$M$183,ROWS($M$183:M237)-1,COLUMNS($M$183:M237)-1)<>\"\",OFFSET([1]DE100_7!$M$183,ROWS($M$183:M237)-1,COLUMNS($M$183:M237)-1),\"\")","v":{"$error":"#VALUE!"}},{"$f":"IF(OFFSET([1]DE100_7!$N$183,ROWS($N$183:N237)-1,COLUMNS($N$183:N237)-1)<>\"\",OFFSET([1]DE100_7!$N$183,ROWS($N$183:N237)-1,COLUMNS($N$183:N237)-1),\"\")","v":{"$error":"#VALUE!"}},{"$f":"IF(OFFSET([1]DE100_7!$O$183,ROWS($O$183:O237)-1,COLUMNS($O$183:O237)-1)<>\"\",OFFSET([1]DE100_7!$O$183,ROWS($O$183:O237)-1,COLUMNS($O$183:O237)-1),\"\")","v":{"$error":"#VALUE!"}},{"$f":"IF(OFFSET([1]DE100_7!$P$183,ROWS($P$183:P237)-1,COLUMNS($P$183:P237)-1)<>\"\",OFFSET([1]DE100_7!$P$183,ROWS($P$183:P237)-1,COLUMNS($P$183:P237)-1),\"\")","v":{"$error":"#VALUE!"}},{"$f":"IF(OFFSET([1]DE100_7!$Q$183,ROWS($Q$183:Q237)-1,COLUMNS($Q$183:Q237)-1)<>\"\",OFFSET([1]DE100_7!$Q$183,ROWS($Q$183:Q237)-1,COLUMNS($Q$183:Q237)-1),\"\")","v":{"$error":"#VALUE!"}},{"$f":"IF(OFFSET([1]DE100_7!$R$183,ROWS($R$183:R237)-1,COLUMNS($R$183:R237)-1)<>\"\",OFFSET([1]DE100_7!$R$183,ROWS($R$183:R237)-1,COLUMNS($R$183:R237)-1),\"\")","v":{"$error":"#VALUE!"}},{"$f":"IF(OFFSET([1]DE100_7!$S$183,ROWS($S$183:S237)-1,COLUMNS($S$183:S237)-1)<>\"\",OFFSET([1]DE100_7!$S$183,ROWS($S$183:S237)-1,COLUMNS($S$183:S237)-1),\"\")","v":{"$error":"#VALUE!"}},{"$f":"IF(OFFSET([1]DE100_7!$T$183,ROWS($T$183:T237)-1,COLUMNS($T$183:T237)-1)<>\"\",OFFSET([1]DE100_7!$T$183,ROWS($T$183:T237)-1,COLUMNS($T$183:T237)-1),\"\")","v":{"$error":"#VALUE!"}},{"$f":"IF(OFFSET([1]DE100_7!$U$183,ROWS($U$183:U237)-1,COLUMNS($U$183:U237)-1)<>\"\",OFFSET([1]DE100_7!$U$183,ROWS($U$183:U237)-1,COLUMNS($U$183:U237)-1),\"\")","v":{"$error":"#VALUE!"}},{"$f":"IF(OFFSET([1]DE100_7!$V$183,ROWS($V$183:V237)-1,COLUMNS($V$183:V237)-1)<>\"\",OFFSET([1]DE100_7!$V$183,ROWS($V$183:V237)-1,COLUMNS($V$183:V237)-1),\"\")","v":{"$error":"#VALUE!"}}]
[{"$f":"IF(OFFSET([1]DE100_7!$C$183,ROWS($C$183:C238)-1,COLUMNS($C$183:C238)-1)<>\"\",OFFSET([1]DE100_7!$C$183,ROWS($C$183:C238)-1,COLUMNS($C$183:C238)-1),\"\")","v":{"$error":"#VALUE!"}},{"$f":"IF(OFFSET([1]DE100_7!$D$183,ROWS($D$183:D238)-1,COLUMNS($D$183:D238)-1)<>\"\",OFFSET([1]DE100_7!$D$183,ROWS($D$183:D238)-1,COLUMNS($D$183:D238)-1),\"\")","v":{"$error":"#VALUE!"}},{"$f":"IF(OFFSET([1]DE100_7!$E$183,ROWS($E$183:E238)-1,COLUMNS($E$183:E238)-1)<>\"\",OFFSET([1]DE100_7!$E$183,ROWS($E$183:E238)-1,COLUMNS($E$183:E238)-1),\"\")","v":{"$error":"#VALUE!"}},{"$f":"IF(OFFSET([1]DE100_7!$F$183,ROWS($F$183:F238)-1,COLUMNS($F$183:F238)-1)<>\"\",OFFSET([1]DE100_7!$F$183,ROWS($F$183:F238)-1,COLUMNS($F$183:F238)-1),\"\")","v":{"$error":"#VALUE!"}},{"$f":"IF(OFFSET([1]DE100_7!$G$183,ROWS($G$183:G238)-1,COLUMNS($G$183:G238)-1)<>\"\",OFFSET([1]DE100_7!$G$183,ROWS($G$183:G238)-1,COLUMNS($G$183:G238)-1),\"\")","v":{"$error":"#VALUE!"}},{"$f":"IF(OFFSET([1]DE100_7!$H$183,ROWS($H$183:H238)-1,COLUMNS($H$183:H238)-1)<>\"\",OFFSET([1]DE100_7!$H$183,ROWS($H$183:H238)-1,COLUMNS($H$183:H238)-1),\"\")","v":{"$error":"#VALUE!"}},{"$f":"IF(OFFSET([1]DE100_7!$I$183,ROWS($I$183:I238)-1,COLUMNS($I$183:I238)-1)<>\"\",OFFSET([1]DE100_7!$I$183,ROWS($I$183:I238)-1,COLUMNS($I$183:I238)-1),\"\")","v":{"$error":"#VALUE!"}},{"$f":"IF(OFFSET([1]DE100_7!$J$183,ROWS($J$183:J238)-1,COLUMNS($J$183:J238)-1)<>\"\",OFFSET([1]DE100_7!$J$183,ROWS($J$183:J238)-1,COLUMNS($J$183:J238)-1),\"\")","v":{"$error":"#VALUE!"}},{"$f":"IF(OFFSET([1]DE100_7!$K$183,ROWS($K$183:K238)-1,COLUMNS($K$183:K238)-1)<>\"\",OFFSET([1]DE100_7!$K$183,ROWS($K$183:K238)-1,COLUMNS($K$183:K238)-1),\"\")","v":{"$error":"#VALUE!"}},{"$f":"IF(OFFSET([1]DE100_7!$L$183,ROWS($L$183:L238)-1,COLUMNS($L$183:L238)-1)<>\"\",OFFSET([1]DE100_7!$L$183,ROWS($L$183:L238)-1,COLUMNS($L$183:L238)-1),\"\")","v":{"$error":"#VALUE!"}},{"$f":"IF(OFFSET([1]DE100_7!$M$183,ROWS($M$183:M238)-1,COLUMNS($M$183:M238)-1)<>\"\",OFFSET([1]DE100_7!$M$183,ROWS($M$183:M238)-1,COLUMNS($M$183:M238)-1),\"\")","v":{"$error":"#VALUE!"}},{"$f":"IF(OFFSET([1]DE100_7!$N$183,ROWS($N$183:N238)-1,COLUMNS($N$183:N238)-1)<>\"\",OFFSET([1]DE100_7!$N$183,ROWS($N$183:N238)-1,COLUMNS($N$183:N238)-1),\"\")","v":{"$error":"#VALUE!"}},{"$f":"IF(OFFSET([1]DE100_7!$O$183,ROWS($O$183:O238)-1,COLUMNS($O$183:O238)-1)<>\"\",OFFSET([1]DE100_7!$O$183,ROWS($O$183:O238)-1,COLUMNS($O$183:O238)-1),\"\")","v":{"$error":"#VALUE!"}},{"$f":"IF(OFFSET([1]DE100_7!$P$183,ROWS($P$183:P238)-1,COLUMNS($P$183:P238)-1)<>\"\",OFFSET([1]DE100_7!$P$183,ROWS($P$183:P238)-1,COLUMNS($P$183:P238)-1),\"\")","v":{"$error":"#VALUE!"}},{"$f":"IF(OFFSET([1]DE100_7!$Q$183,ROWS($Q$183:Q238)-1,COLUMNS($Q$183:Q238)-1)<>\"\",OFFSET([1]DE100_7!$Q$183,ROWS($Q$183:Q238)-1,COLUMNS($Q$183:Q238)-1),\"\")","v":{"$error":"#VALUE!"}},{"$f":"IF(OFFSET([1]DE100_7!$R$183,ROWS($R$183:R238)-1,COLUMNS($R$183:R238)-1)<>\"\",OFFSET([1]DE100_7!$R$183,ROWS($R$183:R238)-1,COLUMNS($R$183:R238)-1),\"\")","v":{"$error":"#VALUE!"}},{"$f":"IF(OFFSET([1]DE100_7!$S$183,ROWS($S$183:S238)-1,COLUMNS($S$183:S238)-1)<>\"\",OFFSET([1]DE100_7!$S$183,ROWS($S$183:S238)-1,COLUMNS($S$183:S238)-1),\"\")","v":{"$error":"#VALUE!"}},{"$f":"IF(OFFSET([1]DE100_7!$T$183,ROWS($T$183:T238)-1,COLUMNS($T$183:T238)-1)<>\"\",OFFSET([1]DE100_7!$T$183,ROWS($T$183:T238)-1,COLUMNS($T$183:T238)-1),\"\")","v":{"$error":"#VALUE!"}},{"$f":"IF(OFFSET([1]DE100_7!$U$183,ROWS($U$183:U238)-1,COLUMNS($U$183:U238)-1)<>\"\",OFFSET([1]DE100_7!$U$183,ROWS($U$183:U238)-1,COLUMNS($U$183:U238)-1),\"\")","v":{"$error":"#VALUE!"}},{"$f":"IF(OFFSET([1]DE100_7!$V$183,ROWS($V$183:V238)-1,COLUMNS($V$183:V238)-1)<>\"\",OFFSET([1]DE100_7!$V$183,ROWS($V$183:V238)-1,COLUMNS($V$183:V238)-1),\"\")","v":{"$error":"#VALUE!"}}]
[{"$f":"IF(OFFSET([1]DE100_7!$C$183,ROWS($C$183:C239)-1,COLUMNS($C$183:C239)-1)<>\"\",OFFSET([1]DE100_7!$C$183,ROWS($C$183:C239)-1,COLUMNS($C$183:C239)-1),\"\")","v":{"$error":"#VALUE!"}},{"$f":"IF(OFFSET([1]DE100_7!$D$183,ROWS($D$183:D239)-1,COLUMNS($D$183:D239)-1)<>\"\",OFFSET([1]DE100_7!$D$183,ROWS($D$183:D239)-1,COLUMNS($D$183:D239)-1),\"\")","v":{"$error":"#VALUE!"}},{"$f":"IF(OFFSET([1]DE100_7!$E$183,ROWS($E$183:E239)-1,COLUMNS($E$183:E239)-1)<>\"\",OFFSET([1]DE100_7!$E$183,ROWS($E$183:E239)-1,COLUMNS($E$183:E239)-1),\"\")","v":{"$error":"#VALUE!"}},{"$f":"IF(OFFSET([1]DE100_7!$F$183,ROWS($F$183:F239)-1,COLUMNS($F$183:F239)-1)<>\"\",OFFSET([1]DE100_7!$F$183,ROWS($F$183:F239)-1,COLUMNS($F$183:F239)-1),\"\")","v":{"$error":"#VALUE!"}},{"$f":"IF(OFFSET([1]DE100_7!$G$183,ROWS($G$183:G239)-1,COLUMNS($G$183:G239)-1)<>\"\",OFFSET([1]DE100_7!$G$183,ROWS($G$183:G239)-1,COLUMNS($G$183:G239)-1),\"\")","v":{"$error":"#VALUE!"}},{"$f":"IF(OFFSET([1]DE100_7!$H$183,ROWS($H$183:H239)-1,COLUMNS($H$183:H239)-1)<>\"\",OFFSET([1]DE100_7!$H$183,ROWS($H$183:H239)-1,COLUMNS($H$183:H239)-1),\"\")","v":{"$error":"#VALUE!"}},{"$f":"IF(OFFSET([1]DE100_7!$I$183,ROWS($I$183:I239)-1,COLUMNS($I$183:I239)-1)<>\"\",OFFSET([1]DE100_7!$I$183,ROWS($I$183:I239)-1,COLUMNS($I$183:I239)-1),\"\")","v":{"$error":"#VALUE!"}},{"$f":"IF(OFFSET([1]DE100_7!$J$183,ROWS($J$183:J239)-1,COLUMNS($J$183:J239)-1)<>\"\",OFFSET([1]DE100_7!$J$183,ROWS($J$183:J239)-1,COLUMNS($J$183:J239)-1),\"\")","v":{"$error":"#VALUE!"}},{"$f":"IF(OFFSET([1]DE100_7!$K$183,ROWS($K$183:K239)-1,COLUMNS($K$183:K239)-1)<>\"\",OFFSET([1]DE100_7!$K$183,ROWS($K$183:K239)-1,COLUMNS($K$183:K239)-1),\"\")","v":{"$error":"#VALUE!"}},{"$f":"IF(OFFSET([1]DE100_7!$L$183,ROWS($L$183:L239)-1,COLUMNS($L$183:L239)-1)<>\"\",OFFSET([1]DE100_7!$L$183,ROWS($L$183:L239)-1,COLUMNS($L$183:L239)-1),\"\")","v":{"$error":"#VALUE!"}},{"$f":"IF(OFFSET([1]DE100_7!$M$183,ROWS($M$183:M239)-1,COLUMNS($M$183:M239)-1)<>\"\",OFFSET([1]DE100_7!$M$183,ROWS($M$183:M239)-1,COLUMNS($M$183:M239)-1),\"\")","v":{"$error":"#VALUE!"}},{"$f":"IF(OFFSET([1]DE100_7!$N$183,ROWS($N$183:N239)-1,COLUMNS($N$183:N239)-1)<>\"\",OFFSET([1]DE100_7!$N$183,ROWS($N$183:N239)-1,COLUMNS($N$183:N239)-1),\"\")","v":{"$error":"#VALUE!"}},{"$f":"IF(OFFSET([1]DE100_7!$O$183,ROWS($O$183:O239)-1,COLUMNS($O$183:O239)-1)<>\"\",OFFSET([1]DE100_7!$O$183,ROWS($O$183:O239)-1,COLUMNS($O$183:O239)-1),\"\")","v":{"$error":"#VALUE!"}},{"$f":"IF(OFFSET([1]DE100_7!$P$183,ROWS($P$183:P239)-1,COLUMNS($P$183:P239)-1)<>\"\",OFFSET([1]DE100_7!$P$183,ROWS($P$183:P239)-1,COLUMNS($P$183:P239)-1),\"\")","v":{"$error":"#VALUE!"}},{"$f":"IF(OFFSET([1]DE100_7!$Q$183,ROWS($Q$183:Q239)-1,COLUMNS($Q$183:Q239)-1)<>\"\",OFFSET([1]DE100_7!$Q$183,ROWS($Q$183:Q239)-1,COLUMNS($Q$183:Q239)-1),\"\")","v":{"$error":"#VALUE!"}},{"$f":"IF(OFFSET([1]DE100_7!$R$183,ROWS($R$183:R239)-1,COLUMNS($R$183:R239)-1)<>\"\",OFFSET([1]DE100_7!$R$183,ROWS($R$183:R239)-1,COLUMNS($R$183:R239)-1),\"\")","v":{"$error":"#VALUE!"}},{"$f":"IF(OFFSET([1]DE100_7!$S$183,ROWS($S$183:S239)-1,COLUMNS($S$183:S239)-1)<>\"\",OFFSET([1]DE100_7!$S$183,ROWS($S$183:S239)-1,COLUMNS($S$183:S239)-1),\"\")","v":{"$error":"#VALUE!"}},{"$f":"IF(OFFSET([1]DE100_7!$T$183,ROWS($T$183:T239)-1,COLUMNS($T$183:T239)-1)<>\"\",OFFSET([1]DE100_7!$T$183,ROWS($T$183:T239)-1,COLUMNS($T$183:T239)-1),\"\")","v":{"$error":"#VALUE!"}},{"$f":"IF(OFFSET([1]DE100_7!$U$183,ROWS($U$183:U239)-1,COLUMNS($U$183:U239)-1)<>\"\",OFFSET([1]DE100_7!$U$183,ROWS($U$183:U239)-1,COLUMNS($U$183:U239)-1),\"\")","v":{"$error":"#VALUE!"}},{"$f":"IF(OFFSET([1]DE100_7!$V$183,ROWS($V$183:V239)-1,COLUMNS($V$183:V239)-1)<>\"\",OFFSET([1]DE100_7!$V$183,ROWS($V$183:V239)-1,COLUMNS($V$183:V239)-1),\"\")","v":{"$error":"#VALUE!"}}]
[{"$f":"IF(OFFSET([1]DE100_7!$C$183,ROWS($C$183:C240)-1,COLUMNS($C$183:C240)-1)<>\"\",OFFSET([1]DE100_7!$C$183,ROWS($C$183:C240)-1,COLUMNS($C$183:C240)-1),\"\")","v":{"$error":"#VALUE!"}},{"$f":"IF(OFFSET([1]DE100_7!$D$183,ROWS($D$183:D240)-1,COLUMNS($D$183:D240)-1)<>\"\",OFFSET([1]DE100_7!$D$183,ROWS($D$183:D240)-1,COLUMNS($D$183:D240)-1),\"\")","v":{"$error":"#VALUE!"}},{"$f":"IF(OFFSET([1]DE100_7!$E$183,ROWS($E$183:E240)-1,COLUMNS($E$183:E240)-1)<>\"\",OFFSET([1]DE100_7!$E$183,ROWS($E$183:E240)-1,COLUMNS($E$183:E240)-1),\"\")","v":{"$error":"#VALUE!"}},{"$f":"IF(OFFSET([1]DE100_7!$F$183,ROWS($F$183:F240)-1,COLUMNS($F$183:F240)-1)<>\"\",OFFSET([1]DE100_7!$F$183,ROWS($F$183:F240)-1,COLUMNS($F$183:F240)-1),\"\")","v":{"$error":"#VALUE!"}},{"$f":"IF(OFFSET([1]DE100_7!$G$183,ROWS($G$183:G240)-1,COLUMNS($G$183:G240)-1)<>\"\",OFFSET([1]DE100_7!$G$183,ROWS($G$183:G240)-1,COLUMNS($G$183:G240)-1),\"\")","v":{"$error":"#VALUE!"}},{"$f":"IF(OFFSET([1]DE100_7!$H$183,ROWS($H$183:H240)-1,COLUMNS($H$183:H240)-1)<>\"\",OFFSET([1]DE100_7!$H$183,ROWS($H$183:H240)-1,COLUMNS($H$183:H240)-1),\"\")","v":{"$error":"#VALUE!"}},{"$f":"IF(OFFSET([1]DE100_7!$I$183,ROWS($I$183:I240)-1,COLUMNS($I$183:I240)-1)<>\"\",OFFSET([1]DE100_7!$I$183,ROWS($I$183:I240)-1,COLUMNS($I$183:I240)-1),\"\")","v":{"$error":"#VALUE!"}},{"$f":"IF(OFFSET([1]DE100_7!$J$183,ROWS($J$183:J240)-1,COLUMNS($J$183:J240)-1)<>\"\",OFFSET([1]DE100_7!$J$183,ROWS($J$183:J240)-1,COLUMNS($J$183:J240)-1),\"\")","v":{"$error":"#VALUE!"}},{"$f":"IF(OFFSET([1]DE100_7!$K$183,ROWS($K$183:K240)-1,COLUMNS($K$183:K240)-1)<>\"\",OFFSET([1]DE100_7!$K$183,ROWS($K$183:K240)-1,COLUMNS($K$183:K240)-1),\"\")","v":{"$error":"#VALUE!"}},{"$f":"IF(OFFSET([1]DE100_7!$L$183,ROWS($L$183:L240)-1,COLUMNS($L$183:L240)-1)<>\"\",OFFSET([1]DE100_7!$L$183,ROWS($L$183:L240)-1,COLUMNS($L$183:L240)-1),\"\")","v":{"$error":"#VALUE!"}},{"$f":"IF(OFFSET([1]DE100_7!$M$183,ROWS($M$183:M240)-1,COLUMNS($M$183:M240)-1)<>\"\",OFFSET([1]DE100_7!$M$183,ROWS($M$183:M240)-1,COLUMNS($M$183:M240)-1),\"\")","v":{"$error":"#VALUE!"}},{"$f":"IF(OFFSET([1]DE100_7!$N$183,ROWS($N$183:N240)-1,COLUMNS($N$183:N240)-1)<>\"\",OFFSET([1]DE100_7!$N$183,ROWS($N$183:N240)-1,COLUMNS($N$183:N240)-1),\"\")","v":{"$error":"#VALUE!"}},{"$f":"IF(OFFSET([1]DE100_7!$O$183,ROWS($O$183:O240)-1,COLUMNS($O$183:O240)-1)<>\"\",OFFSET([1]DE100_7!$O$183,ROWS($O$183:O240)-1,COLUMNS($O$183:O240)-1),\"\")","v":{"$error":"#VALUE!"}},{"$f":"IF(OFFSET([1]DE100_7!$P$183,ROWS($P$183:P240)-1,COLUMNS($P$183:P240)-1)<>\"\",OFFSET([1]DE100_7!$P$183,ROWS($P$183:P240)-1,COLUMNS($P$183:P240)-1),\"\")","v":{"$error":"#VALUE!"}},{"$f":"IF(OFFSET([1]DE100_7!$Q$183,ROWS($Q$183:Q240)-1,COLUMNS($Q$183:Q240)-1)<>\"\",OFFSET([1]DE100_7!$Q$183,ROWS($Q$183:Q240)-1,COLUMNS($Q$183:Q240)-1),\"\")","v":{"$error":"#VALUE!"}},{"$f":"IF(OFFSET([1]DE100_7!$R$183,ROWS($R$183:R240)-1,COLUMNS($R$183:R240)-1)<>\"\",OFFSET([1]DE100_7!$R$183,ROWS($R$183:R240)-1,COLUMNS($R$183:R240)-1),\"\")","v":{"$error":"#VALUE!"}},{"$f":"IF(OFFSET([1]DE100_7!$S$183,ROWS($S$183:S240)-1,COLUMNS($S$183:S240)-1)<>\"\",OFFSET([1]DE100_7!$S$183,ROWS($S$183:S240)-1,COLUMNS($S$183:S240)-1),\"\")","v":{"$error":"#VALUE!"}},{"$f":"IF(OFFSET([1]DE100_7!$T$183,ROWS($T$183:T240)-1,COLUMNS($T$183:T240)-1)<>\"\",OFFSET([1]DE100_7!$T$183,ROWS($T$183:T240)-1,COLUMNS($T$183:T240)-1),\"\")","v":{"$error":"#VALUE!"}},{"$f":"IF(OFFSET([1]DE100_7!$U$183,ROWS($U$183:U240)-1,COLUMNS($U$183:U240)-1)<>\"\",OFFSET([1]DE100_7!$U$183,ROWS($U$183:U240)-1,COLUMNS($U$183:U240)-1),\"\")","v":{"$error":"#VALUE!"}},{"$f":"IF(OFFSET([1]DE100_7!$V$183,ROWS($V$183:V240)-1,COLUMNS($V$183:V240)-1)<>\"\",OFFSET([1]DE100_7!$V$183,ROWS($V$183:V240)-1,COLUMNS($V$183:V240)-1),\"\")","v":{"$error":"#VALUE!"}}]
[{"$f":"IF(OFFSET([1]DE100_7!$C$183,ROWS($C$183:C241)-1,COLUMNS($C$183:C241)-1)<>\"\",OFFSET([1]DE100_7!$C$183,ROWS($C$183:C241)-1,COLUMNS($C$183:C241)-1),\"\")","v":{"$error":"#VALUE!"}},null,null,null,{"$f":"IF(OFFSET([1]DE100_7!$G$183,ROWS($G$183:G241)-1,COLUMNS($G$183:G241)-1)<>\"\",OFFSET([1]DE100_7!$G$183,ROWS($G$183:G241)-1,COLUMNS($G$183:G241)-1),\"\")","v":{"$error":"#VALUE!"}},{"$f":"IF(OFFSET([1]DE100_7!$H$183,ROWS($H$183:H241)-1,COLUMNS($H$183:H241)-1)<>\"\",OFFSET([1]DE100_7!$H$183,ROWS($H$183:H241)-1,COLUMNS($H$183:H241)-1),\"\")","v":{"$error":"#VALUE!"}},{"$f":"IF(OFFSET([1]DE100_7!$I$183,ROWS($I$183:I241)-1,COLUMNS($I$183:I241)-1)<>\"\",OFFSET([1]DE100_7!$I$183,ROWS($I$183:I241)-1,COLUMNS($I$183:I241)-1),\"\")","v":{"$error":"#VALUE!"}},{"$f":"IF(OFFSET([1]DE100_7!$J$183,ROWS($J$183:J241)-1,COLUMNS($J$183:J241)-1)<>\"\",OFFSET([1]DE100_7!$J$183,ROWS($J$183:J241)-1,COLUMNS($J$183:J241)-1),\"\")","v":{"$error":"#VALUE!"}},{"$f":"IF(OFFSET([1]DE100_7!$K$183,ROWS($K$183:K241)-1,COLUMNS($K$183:K241)-1)<>\"\",OFFSET([1]DE100_7!$K$183,ROWS($K$183:K241)-1,COLUMNS($K$183:K241)-1),\"\")","v":{"$error":"#VALUE!"}},{"$f":"IF(OFFSET([1]DE100_7!$L$183,ROWS($L$183:L241)-1,COLUMNS($L$183:L241)-1)<>\"\",OFFSET([1]DE100_7!$L$183,ROWS($L$183:L241)-1,COLUMNS($L$183:L241)-1),\"\")","v":{"$error":"#VALUE!"}},{"$f":"IF(OFFSET([1]DE100_7!$M$183,ROWS($M$183:M241)-1,COLUMNS($M$183:M241)-1)<>\"\",OFFSET([1]DE100_7!$M$183,ROWS($M$183:M241)-1,COLUMNS($M$183:M241)-1),\"\")","v":{"$error":"#VALUE!"}},{"$f":"IF(OFFSET([1]DE100_7!$N$183,ROWS($N$183:N241)-1,COLUMNS($N$183:N241)-1)<>\"\",OFFSET([1]DE100_7!$N$183,ROWS($N$183:N241)-1,COLUMNS($N$183:N241)-1),\"\")","v":{"$error":"#VALUE!"}},{"$f":"IF(OFFSET([1]DE100_7!$O$183,ROWS($O$183:O241)-1,COLUMNS($O$183:O241)-1)<>\"\",OFFSET([1]DE100_7!$O$183,ROWS($O$183:O241)-1,COLUMNS($O$183:O241)-1),\"\")","v":{"$error":"#VALUE!"}},{"$f":"IF(OFFSET([1]DE100_7!$P$183,ROWS($P$183:P241)-1,COLUMNS($P$183:P241)-1)<>\"\",OFFSET([1]DE100_7!$P$183,ROWS($P$183:P241)-1,COLUMNS($P$183:P241)-1),\"\")","v":{"$error":"#VALUE!"}},{"$f":"IF(OFFSET([1]DE100_7!$Q$183,ROWS($Q$183:Q241)-1,COLUMNS($Q$183:Q241)-1)<>\"\",OFFSET([1]DE100_7!$Q$183,ROWS($Q$183:Q241)-1,COLUMNS($Q$183:Q241)-1),\"\")","v":{"$error":"#VALUE!"}},{"$f":"IF(OFFSET([1]DE100_7!$R$183,ROWS($R$183:R241)-1,COLUMNS($R$183:R241)-1)<>\"\",OFFSET([1]DE100_7!$R$183,ROWS($R$183:R241)-1,COLUMNS($R$183:R241)-1),\"\")","v":{"$error":"#VALUE!"}},{"$f":"IF(OFFSET([1]DE100_7!$S$183,ROWS($S$183:S241)-1,COLUMNS($S$183:S241)-1)<>\"\",OFFSET([1]DE100_7!$S$183,ROWS($S$183:S241)-1,COLUMNS($S$183:S241)-1),\"\")","v":{"$error":"#VALUE!"}},{"$f":"IF(OFFSET([1]DE100_7!$T$183,ROWS($T$183:T241)-1,COLUMNS($T$183:T241)-1)<>\"\",OFFSET([1]DE100_7!$T$183,ROWS($T$183:T241)-1,COLUMNS($T$183:T241)-1),\"\")","v":{"$error":"#VALUE!"}},{"$f":"IF(OFFSET([1]DE100_7!$U$183,ROWS($U$183:U241)-1,COLUMNS($U$183:U241)-1)<>\"\",OFFSET([1]DE100_7!$U$183,ROWS($U$183:U241)-1,COLUMNS($U$183:U241)-1),\"\")","v":{"$error":"#VALUE!"}},{"$f":"IF(OFFSET([1]DE100_7!$V$183,ROWS($V$183:V241)-1,COLUMNS($V$183:V241)-1)<>\"\",OFFSET([1]DE100_7!$V$183,ROWS($V$183:V241)-1,COLUMNS($V$183:V241)-1),\"\")","v":{"$error":"#VALUE!"}}]
[{"$f":"IF(OFFSET([1]DE100_7!$C$183,ROWS($C$183:C242)-1,COLUMNS($C$183:C242)-1)<>\"\",OFFSET([1]DE100_7!$C$183,ROWS($C$183:C242)-1,COLUMNS($C$183:C242)-1),\"\")","v":{"$error":"#VALUE!"}},{"$f":"IF(OFFSET([1]DE100_7!$D$183,ROWS($D$183:D242)-1,COLUMNS($D$183:D242)-1)<>\"\",OFFSET([1]DE100_7!$D$183,ROWS($D$183:D242)-1,COLUMNS($D$183:D242)-1),\"\")","v":{"$error":"#VALUE!"}},{"$f":"IF(OFFSET([1]DE100_7!$E$183,ROWS($E$183:E242)-1,COLUMNS($E$183:E242)-1)<>\"\",OFFSET([1]DE100_7!$E$183,ROWS($E$183:E242)-1,COLUMNS($E$183:E242)-1),\"\")","v":{"$error":"#VALUE!"}},{"$f":"IF(OFFSET([1]DE100_7!$F$183,ROWS($F$183:F242)-1,COLUMNS($F$183:F242)-1)<>\"\",OFFSET([1]DE100_7!$F$183,ROWS($F$183:F242)-1,COLUMNS($F$183:F242)-1),\"\")","v":{"$error":"#VALUE!"}},{"$f":"IF(OFFSET([1]DE100_7!$G$183,ROWS($G$183:G242)-1,COLUMNS($G$183:G242)-1)<>\"\",OFFSET([1]DE100_7!$G$183,ROWS($G$183:G242)-1,COLUMNS($G$183:G242)-1),\"\")","v":{"$error":"#VALUE!"}},{"$f":"IF(OFFSET([1]DE100_7!$H$183,ROWS($H$183:H242)-1,COLUMNS($H$183:H242)-1)<>\"\",OFFSET([1]DE100_7!$H$183,ROWS($H$183:H242)-1,COLUMNS($H$183:H242)-1),\"\")","v":{"$error":"#VALUE!"}},{"$f":"IF(OFFSET([1]DE100_7!$I$183,ROWS($I$183:I242)-1,COLUMNS($I$183:I242)-1)<>\"\",OFFSET([1]DE100_7!$I$183,ROWS($I$183:I242)-1,COLUMNS($I$183:I242)-1),\"\")","v":{"$error":"#VALUE!"}},{"$f":"IF(OFFSET([1]DE100_7!$J$183,ROWS($J$183:J242)-1,COLUMNS($J$183:J242)-1)<>\"\",OFFSET([1]DE100_7!$J$183,ROWS($J$183:J242)-1,COLUMNS($J$183:J242)-1),\"\")","v":{"$error":"#VALUE!"}},{"$f":"IF(OFFSET([1]DE100_7!$K$183,ROWS($K$183:K242)-1,COLUMNS($K$183:K242)-1)<>\"\",OFFSET([1]DE100_7!$K$183,ROWS($K$183:K242)-1,COLUMNS($K$183:K242)-1),\"\")","v":{"$error":"#VALUE!"}},{"$f":"IF(OFFSET([1]DE100_7!$L$183,ROWS($L$183:L242)-1,COLUMNS($L$183:L242)-1)<>\"\",OFFSET([1]DE100_7!$L$183,ROWS($L$183:L242)-1,COLUMNS($L$183:L242)-1),\"\")","v":{"$error":"#VALUE!"}},{"$f":"IF(OFFSET([1]DE100_7!$M$183,ROWS($M$183:M242)-1,COLUMNS($M$183:M242)-1)<>\"\",OFFSET([1]DE100_7!$M$183,ROWS($M$183:M242)-1,COLUMNS($M$183:M242)-1),\"\")","v":{"$error":"#VALUE!"}},{"$f":"IF(OFFSET([1]DE100_7!$N$183,ROWS($N$183:N242)-1,COLUMNS($N$183:N242)-1)<>\"\",OFFSET([1]DE100_7!$N$183,ROWS($N$183:N242)-1,COLUMNS($N$183:N242)-1),\"\")","v":{"$error":"#VALUE!"}},{"$f":"IF(OFFSET([1]DE100_7!$O$183,ROWS($O$183:O242)-1,COLUMNS($O$183:O242)-1)<>\"\",OFFSET([1]DE100_7!$O$183,ROWS($O$183:O242)-1,COLUMNS($O$183:O242)-1),\"\")","v":{"$error":"#VALUE!"}},{"$f":"IF(OFFSET([1]DE100_7!$P$183,ROWS($P$183:P242)-1,COLUMNS($P$183:P242)-1)<>\"\",OFFSET([1]DE100_7!$P$183,ROWS($P$183:P242)-1,COLUMNS($P$183:P242)-1),\"\")","v":{"$error":"#VALUE!"}},{"$f":"IF(OFFSET([1]DE100_7!$Q$183,ROWS($Q$183:Q242)-1,COLUMNS($Q$183:Q242)-1)<>\"\",OFFSET([1]DE100_7!$Q$183,ROWS($Q$183:Q242)-1,COLUMNS($Q$183:Q242)-1),\"\")","v":{"$error":"#VALUE!"}},{"$f":"IF(OFFSET([1]DE100_7!$R$183,ROWS($R$183:R242)-1,COLUMNS($R$183:R242)-1)<>\"\",OFFSET([1]DE100_7!$R$183,ROWS($R$183:R242)-1,COLUMNS($R$183:R242)-1),\"\")","v":{"$error":"#VALUE!"}},{"$f":"IF(OFFSET([1]DE100_7!$S$183,ROWS($S$183:S242)-1,COLUMNS($S$183:S242)-1)<>\"\",OFFSET([1]DE100_7!$S$183,ROWS($S$183:S242)-1,COLUMNS($S$183:S242)-1),\"\")","v":{"$error":"#VALUE!"}},{"$f":"IF(OFFSET([1]DE100_7!$T$183,ROWS($T$183:T242)-1,COLUMNS($T$183:T242)-1)<>\"\",OFFSET([1]DE100_7!$T$183,ROWS($T$183:T242)-1,COLUMNS($T$183:T242)-1),\"\")","v":{"$error":"#VALUE!"}},{"$f":"IF(OFFSET([1]DE100_7!$U$183,ROWS($U$183:U242)-1,COLUMNS($U$183:U242)-1)<>\"\",OFFSET([1]DE100_7!$U$183,ROWS($U$183:U242)-1,COLUMNS($U$183:U242)-1),\"\")","v":{"$error":"#VALUE!"}},{"$f":"IF(OFFSET([1]DE100_7!$V$183,ROWS($V$183:V242)-1,COLUMNS($V$183:V242)-1)<>\"\",OFFSET([1]DE100_7!$V$183,ROWS($V$183:V242)-1,COLUMNS($V$183:V242)-1),\"\")","v":{"$error":"#VALUE!"}}]
[{"$f":"IF(OFFSET([1]DE100_7!$C$183,ROWS($C$183:C243)-1,COLUMNS($C$183:C243)-1)<>\"\",OFFSET([1]DE100_7!$C$183,ROWS($C$183:C243)-1,COLUMNS($C$183:C243)-1),\"\")","v":{"$error":"#VALUE!"}},{"$f":"IF(OFFSET([1]DE100_7!$D$183,ROWS($D$183:D243)-1,COLUMNS($D$183:D243)-1)<>\"\",OFFSET([1]DE100_7!$D$183,ROWS($D$183:D243)-1,COLUMNS($D$183:D243)-1),\"\")","v":{"$error":"#VALUE!"}},{"$f":"IF(OFFSET([1]DE100_7!$E$183,ROWS($E$183:E243)-1,COLUMNS($E$183:E243)-1)<>\"\",OFFSET([1]DE100_7!$E$183,ROWS($E$183:E243)-1,COLUMNS($E$183:E243)-1),\"\")","v":{"$error":"#VALUE!"}},{"$f":"IF(OFFSET([1]DE100_7!$F$183,ROWS($F$183:F243)-1,COLUMNS($F$183:F243)-1)<>\"\",OFFSET([1]DE100_7!$F$183,ROWS($F$183:F243)-1,COLUMNS($F$183:F243)-1),\"\")","v":{"$error":"#VALUE!"}},{"$f":"IF(OFFSET([1]DE100_7!$G$183,ROWS($G$183:G243)-1,COLUMNS($G$183:G243)-1)<>\"\",OFFSET([1]DE100_7!$G$183,ROWS($G$183:G243)-1,COLUMNS($G$183:G243)-1),\"\")","v":{"$error":"#VALUE!"}},{"$f":"IF(OFFSET([1]DE100_7!$H$183,ROWS($H$183:H243)-1,COLUMNS($H$183:H243)-1)<>\"\",OFFSET([1]DE100_7!$H$183,ROWS($H$183:H243)-1,COLUMNS($H$183:H243)-1),\"\")","v":{"$error":"#VALUE!"}},{"$f":"IF(OFFSET([1]DE100_7!$I$183,ROWS($I$183:I243)-1,COLUMNS($I$183:I243)-1)<>\"\",OFFSET([1]DE100_7!$I$183,ROWS($I$183:I243)-1,COLUMNS($I$183:I243)-1),\"\")","v":{"$error":"#VALUE!"}},{"$f":"IF(OFFSET([1]DE100_7!$J$183,ROWS($J$183:J243)-1,COLUMNS($J$183:J243)-1)<>\"\",OFFSET([1]DE100_7!$J$183,ROWS($J$183:J243)-1,COLUMNS($J$183:J243)-1),\"\")","v":{"$error":"#VALUE!"}},{"$f":"IF(OFFSET([1]DE100_7!$K$183,ROWS($K$183:K243)-1,COLUMNS($K$183:K243)-1)<>\"\",OFFSET([1]DE100_7!$K$183,ROWS($K$183:K243)-1,COLUMNS($K$183:K243)-1),\"\")","v":{"$error":"#VALUE!"}},{"$f":"IF(OFFSET([1]DE100_7!$L$183,ROWS($L$183:L243)-1,COLUMNS($L$183:L243)-1)<>\"\",OFFSET([1]DE100_7!$L$183,ROWS($L$183:L243)-1,COLUMNS($L$183:L243)-1),\"\")","v":{"$error":"#VALUE!"}},{"$f":"IF(OFFSET([1]DE100_7!$M$183,ROWS($M$183:M243)-1,COLUMNS($M$183:M243)-1)<>\"\",OFFSET([1]DE100_7!$M$183,ROWS($M$183:M243)-1,COLUMNS($M$183:M243)-1),\"\")","v":{"$error":"#VALUE!"}},{"$f":"IF(OFFSET([1]DE100_7!$N$183,ROWS($N$183:N243)-1,COLUMNS($N$183:N243)-1)<>\"\",OFFSET([1]DE100_7!$N$183,ROWS($N$183:N243)-1,COLUMNS($N$183:N243)-1),\"\")","v":{"$error":"#VALUE!"}},{"$f":"IF(OFFSET([1]DE100_7!$O$183,ROWS($O$183:O243)-1,COLUMNS($O$183:O243)-1)<>\"\",OFFSET([1]DE100_7!$O$183,ROWS($O$183:O243)-1,COLUMNS($O$183:O243)-1),\"\")","v":{"$error":"#VALUE!"}},{"$f":"IF(OFFSET([1]DE100_7!$P$183,ROWS($P$183:P243)-1,COLUMNS($P$183:P243)-1)<>\"\",OFFSET([1]DE100_7!$P$183,ROWS($P$183:P243)-1,COLUMNS($P$183:P243)-1),\"\")","v":{"$error":"#VALUE!"}},{"$f":"IF(OFFSET([1]DE100_7!$Q$183,ROWS($Q$183:Q243)-1,COLUMNS($Q$183:Q243)-1)<>\"\",OFFSET([1]DE100_7!$Q$183,ROWS($Q$183:Q243)-1,COLUMNS($Q$183:Q243)-1),\"\")","v":{"$error":"#VALUE!"}},{"$f":"IF(OFFSET([1]DE100_7!$R$183,ROWS($R$183:R243)-1,COLUMNS($R$183:R243)-1)<>\"\",OFFSET([1]DE100_7!$R$183,ROWS($R$183:R243)-1,COLUMNS($R$183:R243)-1),\"\")","v":{"$error":"#VALUE!"}},{"$f":"IF(OFFSET([1]DE100_7!$S$183,ROWS($S$183:S243)-1,COLUMNS($S$183:S243)-1)<>\"\",OFFSET([1]DE100_7!$S$183,ROWS($S$183:S243)-1,COLUMNS($S$183:S243)-1),\"\")","v":{"$error":"#VALUE!"}},{"$f":"IF(OFFSET([1]DE100_7!$T$183,ROWS($T$183:T243)-1,COLUMNS($T$183:T243)-1)<>\"\",OFFSET([1]DE100_7!$T$183,ROWS($T$183:T243)-1,COLUMNS($T$183:T243)-1),\"\")","v":{"$error":"#VALUE!"}},{"$f":"IF(OFFSET([1]DE100_7!$U$183,ROWS($U$183:U243)-1,COLUMNS($U$183:U243)-1)<>\"\",OFFSET([1]DE100_7!$U$183,ROWS($U$183:U243)-1,COLUMNS($U$183:U243)-1),\"\")","v":{"$error":"#VALUE!"}},{"$f":"IF(OFFSET([1]DE100_7!$V$183,ROWS($V$183:V243)-1,COLUMNS($V$183:V243)-1)<>\"\",OFFSET([1]DE100_7!$V$183,ROWS($V$183:V243)-1,COLUMNS($V$183:V243)-1),\"\")","v":{"$error":"#VALUE!"}}]
[{"$f":"IF(OFFSET([1]DE100_7!$C$183,ROWS($C$183:C244)-1,COLUMNS($C$183:C244)-1)<>\"\",OFFSET([1]DE100_7!$C$183,ROWS($C$183:C244)-1,COLUMNS($C$183:C244)-1),\"\")","v":{"$error":"#VALUE!"}},{"$f":"IF(OFFSET([1]DE100_7!$D$183,ROWS($D$183:D244)-1,COLUMNS($D$183:D244)-1)<>\"\",OFFSET([1]DE100_7!$D$183,ROWS($D$183:D244)-1,COLUMNS($D$183:D244)-1),\"\")","v":{"$error":"#VALUE!"}},{"$f":"IF(OFFSET([1]DE100_7!$E$183,ROWS($E$183:E244)-1,COLUMNS($E$183:E244)-1)<>\"\",OFFSET([1]DE100_7!$E$183,ROWS($E$183:E244)-1,COLUMNS($E$183:E244)-1),\"\")","v":{"$error":"#VALUE!"}},{"$f":"IF(OFFSET([1]DE100_7!$F$183,ROWS($F$183:F244)-1,COLUMNS($F$183:F244)-1)<>\"\",OFFSET([1]DE100_7!$F$183,ROWS($F$183:F244)-1,COLUMNS($F$183:F244)-1),\"\")","v":{"$error":"#VALUE!"}},{"$f":"IF(OFFSET([1]DE100_7!$G$183,ROWS($G$183:G244)-1,COLUMNS($G$183:G244)-1)<>\"\",OFFSET([1]DE100_7!$G$183,ROWS($G$183:G244)-1,COLUMNS($G$183:G244)-1),\"\")","v":{"$error":"#VALUE!"}},{"$f":"IF(OFFSET([1]DE100_7!$H$183,ROWS($H$183:H244)-1,COLUMNS($H$183:H244)-1)<>\"\",OFFSET([1]DE100_7!$H$183,ROWS($H$183:H244)-1,COLUMNS($H$183:H244)-1),\"\")","v":{"$error":"#VALUE!"}},{"$f":"IF(OFFSET([1]DE100_7!$I$183,ROWS($I$183:I244)-1,COLUMNS($I$183:I244)-1)<>\"\",OFFSET([1]DE100_7!$I$183,ROWS($I$183:I244)-1,COLUMNS($I$183:I244)-1),\"\")","v":{"$error":"#VALUE!"}},{"$f":"IF(OFFSET([1]DE100_7!$J$183,ROWS($J$183:J244)-1,COLUMNS($J$183:J244)-1)<>\"\",OFFSET([1]DE100_7!$J$183,ROWS($J$183:J244)-1,COLUMNS($J$183:J244)-1),\"\")","v":{"$error":"#VALUE!"}},{"$f":"IF(OFFSET([1]DE100_7!$K$183,ROWS($K$183:K244)-1,COLUMNS($K$183:K244)-1)<>\"\",OFFSET([1]DE100_7!$K$183,ROWS($K$183:K244)-1,COLUMNS($K$183:K244)-1),\"\")","v":{"$error":"#VALUE!"}},{"$f":"IF(OFFSET([1]DE100_7!$L$183,ROWS($L$183:L244)-1,COLUMNS($L$183:L244)-1)<>\"\",OFFSET([1]DE100_7!$L$183,ROWS($L$183:L244)-1,COLUMNS($L$183:L244)-1),\"\")","v":{"$error":"#VALUE!"}},{"$f":"IF(OFFSET([1]DE100_7!$M$183,ROWS($M$183:M244)-1,COLUMNS($M$183:M244)-1)<>\"\",OFFSET([1]DE100_7!$M$183,ROWS($M$183:M244)-1,COLUMNS($M$183:M244)-1),\"\")","v":{"$error":"#VALUE!"}},{"$f":"IF(OFFSET([1]DE100_7!$N$183,ROWS($N$183:N244)-1,COLUMNS($N$183:N244)-1)<>\"\",OFFSET([1]DE100_7!$N$183,ROWS($N$183:N244)-1,COLUMNS($N$183:N244)-1),\"\")","v":{"$error":"#VALUE!"}},{"$f":"IF(OFFSET([1]DE100_7!$O$183,ROWS($O$183:O244)-1,COLUMNS($O$183:O244)-1)<>\"\",OFFSET([1]DE100_7!$O$183,ROWS($O$183:O244)-1,COLUMNS($O$183:O244)-1),\"\")","v":{"$error":"#VALUE!"}},{"$f":"IF(OFFSET([1]DE100_7!$P$183,ROWS($P$183:P244)-1,COLUMNS($P$183:P244)-1)<>\"\",OFFSET([1]DE100_7!$P$183,ROWS($P$183:P244)-1,COLUMNS($P$183:P244)-1),\"\")","v":{"$error":"#VALUE!"}},{"$f":"IF(OFFSET([1]DE100_7!$Q$183,ROWS($Q$183:Q244)-1,COLUMNS($Q$183:Q244)-1)<>\"\",OFFSET([1]DE100_7!$Q$183,ROWS($Q$183:Q244)-1,COLUMNS($Q$183:Q244)-1),\"\")","v":{"$error":"#VALUE!"}},{"$f":"IF(OFFSET([1]DE100_7!$R$183,ROWS($R$183:R244)-1,COLUMNS($R$183:R244)-1)<>\"\",OFFSET([1]DE100_7!$R$183,ROWS($R$183:R244)-1,COLUMNS($R$183:R244)-1),\"\")","v":{"$error":"#VALUE!"}},{"$f":"IF(OFFSET([1]DE100_7!$S$183,ROWS($S$183:S244)-1,COLUMNS($S$183:S244)-1)<>\"\",OFFSET([1]DE100_7!$S$183,ROWS($S$183:S244)-1,COLUMNS($S$183:S244)-1),\"\")","v":{"$error":"#VALUE!"}},{"$f":"IF(OFFSET([1]DE100_7!$T$183,ROWS($T$183:T244)-1,COLUMNS($T$183:T244)-1)<>\"\",OFFSET([1]DE100_7!$T$183,ROWS($T$183:T244)-1,COLUMNS($T$183:T244)-1),\"\")","v":{"$error":"#VALUE!"}},{"$f":"IF(OFFSET([1]DE100_7!$U$183,ROWS($U$183:U244)-1,COLUMNS($U$183:U244)-1)<>\"\",OFFSET([1]DE100_7!$U$183,ROWS($U$183:U244)-1,COLUMNS($U$183:U244)-1),\"\")","v":{"$error":"#VALUE!"}},{"$f":"IF(OFFSET([1]DE100_7!$V$183,ROWS($V$183:V244)-1,COLUMNS($V$183:V244)-1)<>\"\",OFFSET([1]DE100_7!$V$183,ROWS($V$183:V244)-1,COLUMNS($V$183:V244)-1),\"\")","v":{"$error":"#VALUE!"}}]
[{"$f":"IF(OFFSET([1]DE100_7!$C$183,ROWS($C$183:C245)-1,COLUMNS($C$183:C245)-1)<>\"\",OFFSET([1]DE100_7!$C$183,ROWS($C$183:C245)-1,COLUMNS($C$183:C245)-1),\"\")","v":{"$error":"#VALUE!"}},{"$f":"IF(OFFSET([1]DE100_7!$D$183,ROWS($D$183:D245)-1,COLUMNS($D$183:D245)-1)<>\"\",OFFSET([1]DE100_7!$D$183,ROWS($D$183:D245)-1,COLUMNS($D$183:D245)-1),\"\")","v":{"$error":"#VALUE!"}},{"$f":"IF(OFFSET([1]DE100_7!$E$183,ROWS($E$183:E245)-1,COLUMNS($E$183:E245)-1)<>\"\",OFFSET([1]DE100_7!$E$183,ROWS($E$183:E245)-1,COLUMNS($E$183:E245)-1),\"\")","v":{"$error":"#VALUE!"}},{"$f":"IF(OFFSET([1]DE100_7!$F$183,ROWS($F$183:F245)-1,COLUMNS($F$183:F245)-1)<>\"\",OFFSET([1]DE100_7!$F$183,ROWS($F$183:F245)-1,COLUMNS($F$183:F245)-1),\"\")","v":{"$error":"#VALUE!"}},{"$f":"IF(OFFSET([1]DE100_7!$G$183,ROWS($G$183:G245)-1,COLUMNS($G$183:G245)-1)<>\"\",OFFSET([1]DE100_7!$G$183,ROWS($G$183:G245)-1,COLUMNS($G$183:G245)-1),\"\")","v":{"$error":"#VALUE!"}},{"$f":"IF(OFFSET([1]DE100_7!$H$183,ROWS($H$183:H245)-1,COLUMNS($H$183:H245)-1)<>\"\",OFFSET([1]DE100_7!$H$183,ROWS($H$183:H245)-1,COLUMNS($H$183:H245)-1),\"\")","v":{"$error":"#VALUE!"}},{"$f":"IF(OFFSET([1]DE100_7!$I$183,ROWS($I$183:I245)-1,COLUMNS($I$183:I245)-1)<>\"\",OFFSET([1]DE100_7!$I$183,ROWS($I$183:I245)-1,COLUMNS($I$183:I245)-1),\"\")","v":{"$error":"#VALUE!"}},{"$f":"IF(OFFSET([1]DE100_7!$J$183,ROWS($J$183:J245)-1,COLUMNS($J$183:J245)-1)<>\"\",OFFSET([1]DE100_7!$J$183,ROWS($J$183:J245)-1,COLUMNS($J$183:J245)-1),\"\")","v":{"$error":"#VALUE!"}},{"$f":"IF(OFFSET([1]DE100_7!$K$183,ROWS($K$183:K245)-1,COLUMNS($K$183:K245)-1)<>\"\",OFFSET([1]DE100_7!$K$183,ROWS($K$183:K245)-1,COLUMNS($K$183:K245)-1),\"\")","v":{"$error":"#VALUE!"}},{"$f":"IF(OFFSET([1]DE100_7!$L$183,ROWS($L$183:L245)-1,COLUMNS($L$183:L245)-1)<>\"\",OFFSET([1]DE100_7!$L$183,ROWS($L$183:L245)-1,COLUMNS($L$183:L245)-1),\"\")","v":{"$error":"#VALUE!"}},{"$f":"IF(OFFSET([1]DE100_7!$M$183,ROWS($M$183:M245)-1,COLUMNS($M$183:M245)-1)<>\"\",OFFSET([1]DE100_7!$M$183,ROWS($M$183:M245)-1,COLUMNS($M$183:M245)-1),\"\")","v":{"$error":"#VALUE!"}},{"$f":"IF(OFFSET([1]DE100_7!$N$183,ROWS($N$183:N245)-1,COLUMNS($N$183:N245)-1)<>\"\",OFFSET([1]DE100_7!$N$183,ROWS($N$183:N245)-1,COLUMNS($N$183:N245)-1),\"\")","v":{"$error":"#VALUE!"}},{"$f":"IF(OFFSET([1]DE100_7!$O$183,ROWS($O$183:O245)-1,COLUMNS($O$183:O245)-1)<>\"\",OFFSET([1]DE100_7!$O$183,ROWS($O$183:O245)-1,COLUMNS($O$183:O245)-1),\"\")","v":{"$error":"#VALUE!"}},{"$f":"IF(OFFSET([1]DE100_7!$P$183,ROWS($P$183:P245)-1,COLUMNS($P$183:P245)-1)<>\"\",OFFSET([1]DE100_7!$P$183,ROWS($P$183:P245)-1,COLUMNS($P$183:P245)-1),\"\")","v":{"$error":"#VALUE!"}},{"$f":"IF(OFFSET([1]DE100_7!$Q$183,ROWS($Q$183:Q245)-1,COLUMNS($Q$183:Q245)-1)<>\"\",OFFSET([1]DE100_7!$Q$183,ROWS($Q$183:Q245)-1,COLUMNS($Q$183:Q245)-1),\"\")","v":{"$error":"#VALUE!"}},{"$f":"IF(OFFSET([1]DE100_7!$R$183,ROWS($R$183:R245)-1,COLUMNS($R$183:R245)-1)<>\"\",OFFSET([1]DE100_7!$R$183,ROWS($R$183:R245)-1,COLUMNS($R$183:R245)-1),\"\")","v":{"$error":"#VALUE!"}},{"$f":"IF(OFFSET([1]DE100_7!$S$183,ROWS($S$183:S245)-1,COLUMNS($S$183:S245)-1)<>\"\",OFFSET([1]DE100_7!$S$183,ROWS($S$183:S245)-1,COLUMNS($S$183:S245)-1),\"\")","v":{"$error":"#VALUE!"}},{"$f":"IF(OFFSET([1]DE100_7!$T$183,ROWS($T$183:T245)-1,COLUMNS($T$183:T245)-1)<>\"\",OFFSET([1]DE100_7!$T$183,ROWS($T$183:T245)-1,COLUMNS($T$183:T245)-1),\"\")","v":{"$error":"#VALUE!"}},{"$f":"IF(OFFSET([1]DE100_7!$U$183,ROWS($U$183:U245)-1,COLUMNS($U$183:U245)-1)<>\"\",OFFSET([1]DE100_7!$U$183,ROWS($U$183:U245)-1,COLUMNS($U$183:U245)-1),\"\")","v":{"$error":"#VALUE!"}},{"$f":"IF(OFFSET([1]DE100_7!$V$183,ROWS($V$183:V245)-1,COLUMNS($V$183:V245)-1)<>\"\",OFFSET([1]DE100_7!$V$183,ROWS($V$183:V245)-1,COLUMNS($V$183:V245)-1),\"\")","v":{"$error":"#VALUE!"}}]
[{"$f":"IF(OFFSET([1]DE100_7!$C$183,ROWS($C$183:C246)-1,COLUMNS($C$183:C246)-1)<>\"\",OFFSET([1]DE100_7!$C$183,ROWS($C$183:C246)-1,COLUMNS($C$183:C246)-1),\"\")","v":{"$error":"#VALUE!"}},{"$f":"IF(OFFSET([1]DE100_7!$D$183,ROWS($D$183:D246)-1,COLUMNS($D$183:D246)-1)<>\"\",OFFSET([1]DE100_7!$D$183,ROWS($D$183:D246)-1,COLUMNS($D$183:D246)-1),\"\")","v":{"$error":"#VALUE!"}},{"$f":"IF(OFFSET([1]DE100_7!$E$183,ROWS($E$183:E246)-1,COLUMNS($E$183:E246)-1)<>\"\",OFFSET([1]DE100_7!$E$183,ROWS($E$183:E246)-1,COLUMNS($E$183:E246)-1),\"\")","v":{"$error":"#VALUE!"}},{"$f":"IF(OFFSET([1]DE100_7!$F$183,ROWS($F$183:F246)-1,COLUMNS($F$183:F246)-1)<>\"\",OFFSET([1]DE100_7!$F$183,ROWS($F$183:F246)-1,COLUMNS($F$183:F246)-1),\"\")","v":{"$error":"#VALUE!"}},{"$f":"IF(OFFSET([1]DE100_7!$G$183,ROWS($G$183:G246)-1,COLUMNS($G$183:G246)-1)<>\"\",OFFSET([1]DE100_7!$G$183,ROWS($G$183:G246)-1,COLUMNS($G$183:G246)-1),\"\")","v":{"$error":"#VALUE!"}},{"$f":"IF(OFFSET([1]DE100_7!$H$183,ROWS($H$183:H246)-1,COLUMNS($H$183:H246)-1)<>\"\",OFFSET([1]DE100_7!$H$183,ROWS($H$183:H246)-1,COLUMNS($H$183:H246)-1),\"\")","v":{"$error":"#VALUE!"}},{"$f":"IF(OFFSET([1]DE100_7!$I$183,ROWS($I$183:I246)-1,COLUMNS($I$183:I246)-1)<>\"\",OFFSET([1]DE100_7!$I$183,ROWS($I$183:I246)-1,COLUMNS($I$183:I246)-1),\"\")","v":{"$error":"#VALUE!"}},{"$f":"IF(OFFSET([1]DE100_7!$J$183,ROWS($J$183:J246)-1,COLUMNS($J$183:J246)-1)<>\"\",OFFSET([1]DE100_7!$J$183,ROWS($J$183:J246)-1,COLUMNS($J$183:J246)-1),\"\")","v":{"$error":"#VALUE!"}},{"$f":"IF(OFFSET([1]DE100_7!$K$183,ROWS($K$183:K246)-1,COLUMNS($K$183:K246)-1)<>\"\",OFFSET([1]DE100_7!$K$183,ROWS($K$183:K246)-1,COLUMNS($K$183:K246)-1),\"\")","v":{"$error":"#VALUE!"}},{"$f":"IF(OFFSET([1]DE100_7!$L$183,ROWS($L$183:L246)-1,COLUMNS($L$183:L246)-1)<>\"\",OFFSET([1]DE100_7!$L$183,ROWS($L$183:L246)-1,COLUMNS($L$183:L246)-1),\"\")","v":{"$error":"#VALUE!"}},{"$f":"IF(OFFSET([1]DE100_7!$M$183,ROWS($M$183:M246)-1,COLUMNS($M$183:M246)-1)<>\"\",OFFSET([1]DE100_7!$M$183,ROWS($M$183:M246)-1,COLUMNS($M$183:M246)-1),\"\")","v":{"$error":"#VALUE!"}},{"$f":"IF(OFFSET([1]DE100_7!$N$183,ROWS($N$183:N246)-1,COLUMNS($N$183:N246)-1)<>\"\",OFFSET([1]DE100_7!$N$183,ROWS($N$183:N246)-1,COLUMNS($N$183:N246)-1),\"\")","v":{"$error":"#VALUE!"}},{"$f":"IF(OFFSET([1]DE100_7!$O$183,ROWS($O$183:O246)-1,COLUMNS($O$183:O246)-1)<>\"\",OFFSET([1]DE100_7!$O$183,ROWS($O$183:O246)-1,COLUMNS($O$183:O246)-1),\"\")","v":{"$error":"#VALUE!"}},{"$f":"IF(OFFSET([1]DE100_7!$P$183,ROWS($P$183:P246)-1,COLUMNS($P$183:P246)-1)<>\"\",OFFSET([1]DE100_7!$P$183,ROWS($P$183:P246)-1,COLUMNS($P$183:P246)-1),\"\")","v":{"$error":"#VALUE!"}},{"$f":"IF(OFFSET([1]DE100_7!$Q$183,ROWS($Q$183:Q246)-1,COLUMNS($Q$183:Q246)-1)<>\"\",OFFSET([1]DE100_7!$Q$183,ROWS($Q$183:Q246)-1,COLUMNS($Q$183:Q246)-1),\"\")","v":{"$error":"#VALUE!"}},{"$f":"IF(OFFSET([1]DE100_7!$R$183,ROWS($R$183:R246)-1,COLUMNS($R$183:R246)-1)<>\"\",OFFSET([1]DE100_7!$R$183,ROWS($R$183:R246)-1,COLUMNS($R$183:R246)-1),\"\")","v":{"$error":"#VALUE!"}},{"$f":"IF(OFFSET([1]DE100_7!$S$183,ROWS($S$183:S246)-1,COLUMNS($S$183:S246)-1)<>\"\",OFFSET([1]DE100_7!$S$183,ROWS($S$183:S246)-1,COLUMNS($S$183:S246)-1),\"\")","v":{"$error":"#VALUE!"}},{"$f":"IF(OFFSET([1]DE100_7!$T$183,ROWS($T$183:T246)-1,COLUMNS($T$183:T246)-1)<>\"\",OFFSET([1]DE100_7!$T$183,ROWS($T$183:T246)-1,COLUMNS($T$183:T246)-1),\"\")","v":{"$error":"#VALUE!"}},{"$f":"IF(OFFSET([1]DE100_7!$U$183,ROWS($U$183:U246)-1,COLUMNS($U$183:U246)-1)<>\"\",OFFSET([1]DE100_7!$U$183,ROWS($U$183:U246)-1,COLUMNS($U$183:U246)-1),\"\")","v":{"$error":"#VALUE!"}},{"$f":"IF(OFFSET([1]DE100_7!$V$183,ROWS($V$183:V246)-1,COLUMNS($V$183:V246)-1)<>\"\",OFFSET([1]DE100_7!$V$183,ROWS($V$183:V246)-1,COLUMNS($V$183:V246)-1),\"\")","v":{"$error":"#VALUE!"}}]
[{"$f":"IF(OFFSET([1]DE100_7!$C$183,ROWS($C$183:C247)-1,COLUMNS($C$183:C247)-1)<>\"\",OFFSET([1]DE100_7!$C$183,ROWS($C$183:C247)-1,COLUMNS($C$183:C247)-1),\"\")","v":{"$error":"#VALUE!"}},{"$f":"IF(OFFSET([1]DE100_7!$D$183,ROWS($D$183:D247)-1,COLUMNS($D$183:D247)-1)<>\"\",OFFSET([1]DE100_7!$D$183,ROWS($D$183:D247)-1,COLUMNS($D$183:D247)-1),\"\")","v":{"$error":"#VALUE!"}},{"$f":"IF(OFFSET([1]DE100_7!$E$183,ROWS($E$183:E247)-1,COLUMNS($E$183:E247)-1)<>\"\",OFFSET([1]DE100_7!$E$183,ROWS($E$183:E247)-1,COLUMNS($E$183:E247)-1),\"\")","v":{"$error":"#VALUE!"}},{"$f":"IF(OFFSET([1]DE100_7!$F$183,ROWS($F$183:F247)-1,COLUMNS($F$183:F247)-1)<>\"\",OFFSET([1]DE100_7!$F$183,ROWS($F$183:F247)-1,COLUMNS($F$183:F247)-1),\"\")","v":{"$error":"#VALUE!"}},{"$f":"IF(OFFSET([1]DE100_7!$G$183,ROWS($G$183:G247)-1,COLUMNS($G$183:G247)-1)<>\"\",OFFSET([1]DE100_7!$G$183,ROWS($G$183:G247)-1,COLUMNS($G$183:G247)-1),\"\")","v":{"$error":"#VALUE!"}},{"$f":"IF(OFFSET([1]DE100_7!$H$183,ROWS($H$183:H247)-1,COLUMNS($H$183:H247)-1)<>\"\",OFFSET([1]DE100_7!$H$183,ROWS($H$183:H247)-1,COLUMNS($H$183:H247)-1),\"\")","v":{"$error":"#VALUE!"}},{"$f":"IF(OFFSET([1]DE100_7!$I$183,ROWS($I$183:I247)-1,COLUMNS($I$183:I247)-1)<>\"\",OFFSET([1]DE100_7!$I$183,ROWS($I$183:I247)-1,COLUMNS($I$183:I247)-1),\"\")","v":{"$error":"#VALUE!"}},{"$f":"IF(OFFSET([1]DE100_7!$J$183,ROWS($J$183:J247)-1,COLUMNS($J$183:J247)-1)<>\"\",OFFSET([1]DE100_7!$J$183,ROWS($J$183:J247)-1,COLUMNS($J$183:J247)-1),\"\")","v":{"$error":"#VALUE!"}},{"$f":"IF(OFFSET([1]DE100_7!$K$183,ROWS($K$183:K247)-1,COLUMNS($K$183:K247)-1)<>\"\",OFFSET([1]DE100_7!$K$183,ROWS($K$183:K247)-1,COLUMNS($K$183:K247)-1),\"\")","v":{"$error":"#VALUE!"}},{"$f":"IF(OFFSET([1]DE100_7!$L$183,ROWS($L$183:L247)-1,COLUMNS($L$183:L247)-1)<>\"\",OFFSET([1]DE100_7!$L$183,ROWS($L$183:L247)-1,COLUMNS($L$183:L247)-1),\"\")","v":{"$error":"#VALUE!"}},{"$f":"IF(OFFSET([1]DE100_7!$M$183,ROWS($M$183:M247)-1,COLUMNS($M$183:M247)-1)<>\"\",OFFSET([1]DE100_7!$M$183,ROWS($M$183:M247)-1,COLUMNS($M$183:M247)-1),\"\")","v":{"$error":"#VALUE!"}},{"$f":"IF(OFFSET([1]DE100_7!$N$183,ROWS($N$183:N247)-1,COLUMNS($N$183:N247)-1)<>\"\",OFFSET([1]DE100_7!$N$183,ROWS($N$183:N247)-1,COLUMNS($N$183:N247)-1),\"\")","v":{"$error":"#VALUE!"}},{"$f":"IF(OFFSET([1]DE100_7!$O$183,ROWS($O$183:O247)-1,COLUMNS($O$183:O247)-1)<>\"\",OFFSET([1]DE100_7!$O$183,ROWS($O$183:O247)-1,COLUMNS($O$183:O247)-1),\"\")","v":{"$error":"#VALUE!"}},{"$f":"IF(OFFSET([1]DE100_7!$P$183,ROWS($P$183:P247)-1,COLUMNS($P$183:P247)-1)<>\"\",OFFSET([1]DE100_7!$P$183,ROWS($P$183:P247)-1,COLUMNS($P$183:P247)-1),\"\")","v":{"$error":"#VALUE!"}},{"$f":"IF(OFFSET([1]DE100_7!$Q$183,ROWS($Q$183:Q247)-1,COLUMNS($Q$183:Q247)-1)<>\"\",OFFSET([1]DE100_7!$Q$183,ROWS($Q$183:Q247)-1,COLUMNS($Q$183:Q247)-1),\"\")","v":{"$error":"#VALUE!"}},{"$f":"IF(OFFSET([1]DE100_7!$R$183,ROWS($R$183:R247)-1,COLUMNS($R$183:R247)-1)<>\"\",OFFSET([1]DE100_7!$R$183,ROWS($R$183:R247)-1,COLUMNS($R$183:R247)-1),\"\")","v":{"$error":"#VALUE!"}},{"$f":"IF(OFFSET([1]DE100_7!$S$183,ROWS($S$183:S247)-1,COLUMNS($S$183:S247)-1)<>\"\",OFFSET([1]DE100_7!$S$183,ROWS($S$183:S247)-1,COLUMNS($S$183:S247)-1),\"\")","v":{"$error":"#VALUE!"}},{"$f":"IF(OFFSET([1]DE100_7!$T$183,ROWS($T$183:T247)-1,COLUMNS($T$183:T247)-1)<>\"\",OFFSET([1]DE100_7!$T$183,ROWS($T$183:T247)-1,COLUMNS($T$183:T247)-1),\"\")","v":{"$error":"#VALUE!"}},{"$f":"IF(OFFSET([1]DE100_7!$U$183,ROWS($U$183:U247)-1,COLUMNS($U$183:U247)-1)<>\"\",OFFSET([1]DE100_7!$U$183,ROWS($U$183:U247)-1,COLUMNS($U$183:U247)-1),\"\")","v":{"$error":"#VALUE!"}},{"$f":"IF(OFFSET([1]DE100_7!$V$183,ROWS($V$183:V247)-1,COLUMNS($V$183:V247)-1)<>\"\",OFFSET([1]DE100_7!$V$183,ROWS($V$183:V247)-1,COLUMNS($V$183:V247)-1),\"\")","v":{"$error":"#VALUE!"}}]
[{"$f":"IF(OFFSET([1]DE100_7!$C$183,ROWS($C$183:C248)-1,COLUMNS($C$183:C248)-1)<>\"\",OFFSET([1]DE100_7!$C$183,ROWS($C$183:C248)-1,COLUMNS($C$183:C248)-1),\"\")","v":{"$error":"#VALUE!"}},{"$f":"IF(OFFSET([1]DE100_7!$D$183,ROWS($D$183:D248)-1,COLUMNS($D$183:D248)-1)<>\"\",OFFSET([1]DE100_7!$D$183,ROWS($D$183:D248)-1,COLUMNS($D$183:D248)-1),\"\")","v":{"$error":"#VALUE!"}},{"$f":"IF(OFFSET([1]DE100_7!$E$183,ROWS($E$183:E248)-1,COLUMNS($E$183:E248)-1)<>\"\",OFFSET([1]DE100_7!$E$183,ROWS($E$183:E248)-1,COLUMNS($E$183:E248)-1),\"\")","v":{"$error":"#VALUE!"}},{"$f":"IF(OFFSET([1]DE100_7!$F$183,ROWS($F$183:F248)-1,COLUMNS($F$183:F248)-1)<>\"\",OFFSET([1]DE100_7!$F$183,ROWS($F$183:F248)-1,COLUMNS($F$183:F248)-1),\"\")","v":{"$error":"#VALUE!"}},{"$f":"IF(OFFSET([1]DE100_7!$G$183,ROWS($G$183:G248)-1,COLUMNS($G$183:G248)-1)<>\"\",OFFSET([1]DE100_7!$G$183,ROWS($G$183:G248)-1,COLUMNS($G$183:G248)-1),\"\")","v":{"$error":"#VALUE!"}},{"$f":"IF(OFFSET([1]DE100_7!$H$183,ROWS($H$183:H248)-1,COLUMNS($H$183:H248)-1)<>\"\",OFFSET([1]DE100_7!$H$183,ROWS($H$183:H248)-1,COLUMNS($H$183:H248)-1),\"\")","v":{"$error":"#VALUE!"}},{"$f":"IF(OFFSET([1]DE100_7!$I$183,ROWS($I$183:I248)-1,COLUMNS($I$183:I248)-1)<>\"\",OFFSET([1]DE100_7!$I$183,ROWS($I$183:I248)-1,COLUMNS($I$183:I248)-1),\"\")","v":{"$error":"#VALUE!"}},{"$f":"IF(OFFSET([1]DE100_7!$J$183,ROWS($J$183:J248)-1,COLUMNS($J$183:J248)-1)<>\"\",OFFSET([1]DE100_7!$J$183,ROWS($J$183:J248)-1,COLUMNS($J$183:J248)-1),\"\")","v":{"$error":"#VALUE!"}},{"$f":"IF(OFFSET([1]DE100_7!$K$183,ROWS($K$183:K248)-1,COLUMNS($K$183:K248)-1)<>\"\",OFFSET([1]DE100_7!$K$183,ROWS($K$183:K248)-1,COLUMNS($K$183:K248)-1),\"\")","v":{"$error":"#VALUE!"}},{"$f":"IF(OFFSET([1]DE100_7!$L$183,ROWS($L$183:L248)-1,COLUMNS($L$183:L248)-1)<>\"\",OFFSET([1]DE100_7!$L$183,ROWS($L$183:L248)-1,COLUMNS($L$183:L248)-1),\"\")","v":{"$error":"#VALUE!"}},{"$f":"IF(OFFSET([1]DE100_7!$M$183,ROWS($M$183:M248)-1,COLUMNS($M$183:M248)-1)<>\"\",OFFSET([1]DE100_7!$M$183,ROWS($M$183:M248)-1,COLUMNS($M$183:M248)-1),\"\")","v":{"$error":"#VALUE!"}},{"$f":"IF(OFFSET([1]DE100_7!$N$183,ROWS($N$183:N248)-1,COLUMNS($N$183:N248)-1)<>\"\",OFFSET([1]DE100_7!$N$183,ROWS($N$183:N248)-1,COLUMNS($N$183:N248)-1),\"\")","v":{"$error":"#VALUE!"}},{"$f":"IF(OFFSET([1]DE100_7!$O$183,ROWS($O$183:O248)-1,COLUMNS($O$183:O248)-1)<>\"\",OFFSET([1]DE100_7!$O$183,ROWS($O$183:O248)-1,COLUMNS($O$183:O248)-1),\"\")","v":{"$error":"#VALUE!"}},{"$f":"IF(OFFSET([1]DE100_7!$P$183,ROWS($P$183:P248)-1,COLUMNS($P$183:P248)-1)<>\"\",OFFSET([1]DE100_7!$P$183,ROWS($P$183:P248)-1,COLUMNS($P$183:P248)-1),\"\")","v":{"$error":"#VALUE!"}},{"$f":"IF(OFFSET([1]DE100_7!$Q$183,ROWS($Q$183:Q248)-1,COLUMNS($Q$183:Q248)-1)<>\"\",OFFSET([1]DE100_7!$Q$183,ROWS($Q$183:Q248)-1,COLUMNS($Q$183:Q248)-1),\"\")","v":{"$error":"#VALUE!"}},{"$f":"IF(OFFSET([1]DE100_7!$R$183,ROWS($R$183:R248)-1,COLUMNS($R$183:R248)-1)<>\"\",OFFSET([1]DE100_7!$R$183,ROWS($R$183:R248)-1,COLUMNS($R$183:R248)-1),\"\")","v":{"$error":"#VALUE!"}},{"$f":"IF(OFFSET([1]DE100_7!$S$183,ROWS($S$183:S248)-1,COLUMNS($S$183:S248)-1)<>\"\",OFFSET([1]DE100_7!$S$183,ROWS($S$183:S248)-1,COLUMNS($S$183:S248)-1),\"\")","v":{"$error":"#VALUE!"}},{"$f":"IF(OFFSET([1]DE100_7!$T$183,ROWS($T$183:T248)-1,COLUMNS($T$183:T248)-1)<>\"\",OFFSET([1]DE100_7!$T$183,ROWS($T$183:T248)-1,COLUMNS($T$183:T248)-1),\"\")","v":{"$error":"#VALUE!"}},{"$f":"IF(OFFSET([1]DE100_7!$U$183,ROWS($U$183:U248)-1,COLUMNS($U$183:U248)-1)<>\"\",OFFSET([1]DE100_7!$U$183,ROWS($U$183:U248)-1,COLUMNS($U$183:U248)-1),\"\")","v":{"$error":"#VALUE!"}},{"$f":"IF(OFFSET([1]DE100_7!$V$183,ROWS($V$183:V248)-1,COLUMNS($V$183:V248)-1)<>\"\",OFFSET([1]DE100_7!$V$183,ROWS($V$183:V248)-1,COLUMNS($V$183:V248)-1),\"\")","v":{"$error":"#VALUE!"}}]
[{"$f":"IF(OFFSET([1]DE100_7!$C$183,ROWS($C$183:C249)-1,COLUMNS($C$183:C249)-1)<>\"\",OFFSET([1]DE100_7!$C$183,ROWS($C$183:C249)-1,COLUMNS($C$183:C249)-1),\"\")","v":{"$error":"#VALUE!"}},null,null,null,{"$f":"IF(OFFSET([1]DE100_7!$G$183,ROWS($G$183:G249)-1,COLUMNS($G$183:G249)-1)<>\"\",OFFSET([1]DE100_7!$G$183,ROWS($G$183:G249)-1,COLUMNS($G$183:G249)-1),\"\")","v":{"$error":"#VALUE!"}},{"$f":"IF(OFFSET([1]DE100_7!$H$183,ROWS($H$183:H249)-1,COLUMNS($H$183:H249)-1)<>\"\",OFFSET([1]DE100_7!$H$183,ROWS($H$183:H249)-1,COLUMNS($H$183:H249)-1),\"\")","v":{"$error":"#VALUE!"}},{"$f":"IF(OFFSET([1]DE100_7!$I$183,ROWS($I$183:I249)-1,COLUMNS($I$183:I249)-1)<>\"\",OFFSET([1]DE100_7!$I$183,ROWS($I$183:I249)-1,COLUMNS($I$183:I249)-1),\"\")","v":{"$error":"#VALUE!"}},{"$f":"IF(OFFSET([1]DE100_7!$J$183,ROWS($J$183:J249)-1,COLUMNS($J$183:J249)-1)<>\"\",OFFSET([1]DE100_7!$J$183,ROWS($J$183:J249)-1,COLUMNS($J$183:J249)-1),\"\")","v":{"$error":"#VALUE!"}},{"$f":"IF(OFFSET([1]DE100_7!$K$183,ROWS($K$183:K249)-1,COLUMNS($K$183:K249)-1)<>\"\",OFFSET([1]DE100_7!$K$183,ROWS($K$183:K249)-1,COLUMNS($K$183:K249)-1),\"\")","v":{"$error":"#VALUE!"}},{"$f":"IF(OFFSET([1]DE100_7!$L$183,ROWS($L$183:L249)-1,COLUMNS($L$183:L249)-1)<>\"\",OFFSET([1]DE100_7!$L$183,ROWS($L$183:L249)-1,COLUMNS($L$183:L249)-1),\"\")","v":{"$error":"#VALUE!"}},{"$f":"IF(OFFSET([1]DE100_7!$M$183,ROWS($M$183:M249)-1,COLUMNS($M$183:M249)-1)<>\"\",OFFSET([1]DE100_7!$M$183,ROWS($M$183:M249)-1,COLUMNS($M$183:M249)-1),\"\")","v":{"$error":"#VALUE!"}},{"$f":"IF(OFFSET([1]DE100_7!$N$183,ROWS($N$183:N249)-1,COLUMNS($N$183:N249)-1)<>\"\",OFFSET([1]DE100_7!$N$183,ROWS($N$183:N249)-1,COLUMNS($N$183:N249)-1),\"\")","v":{"$error":"#VALUE!"}},{"$f":"IF(OFFSET([1]DE100_7!$O$183,ROWS($O$183:O249)-1,COLUMNS($O$183:O249)-1)<>\"\",OFFSET([1]DE100_7!$O$183,ROWS($O$183:O249)-1,COLUMNS($O$183:O249)-1),\"\")","v":{"$error":"#VALUE!"}},{"$f":"IF(OFFSET([1]DE100_7!$P$183,ROWS($P$183:P249)-1,COLUMNS($P$183:P249)-1)<>\"\",OFFSET([1]DE100_7!$P$183,ROWS($P$183:P249)-1,COLUMNS($P$183:P249)-1),\"\")","v":{"$error":"#VALUE!"}},{"$f":"IF(OFFSET([1]DE100_7!$Q$183,ROWS($Q$183:Q249)-1,COLUMNS($Q$183:Q249)-1)<>\"\",OFFSET([1]DE100_7!$Q$183,ROWS($Q$183:Q249)-1,COLUMNS($Q$183:Q249)-1),\"\")","v":{"$error":"#VALUE!"}},{"$f":"IF(OFFSET([1]DE100_7!$R$183,ROWS($R$183:R249)-1,COLUMNS($R$183:R249)-1)<>\"\",OFFSET([1]DE100_7!$R$183,ROWS($R$183:R249)-1,COLUMNS($R$183:R249)-1),\"\")","v":{"$error":"#VALUE!"}},{"$f":"IF(OFFSET([1]DE100_7!$S$183,ROWS($S$183:S249)-1,COLUMNS($S$183:S249)-1)<>\"\",OFFSET([1]DE100_7!$S$183,ROWS($S$183:S249)-1,COLUMNS($S$183:S249)-1),\"\")","v":{"$error":"#VALUE!"}},{"$f":"IF(OFFSET([1]DE100_7!$T$183,ROWS($T$183:T249)-1,COLUMNS($T$183:T249)-1)<>\"\",OFFSET([1]DE100_7!$T$183,ROWS($T$183:T249)-1,COLUMNS($T$183:T249)-1),\"\")","v":{"$error":"#VALUE!"}},{"$f":"IF(OFFSET([1]DE100_7!$U$183,ROWS($U$183:U249)-1,COLUMNS($U$183:U249)-1)<>\"\",OFFSET([1]DE100_7!$U$183,ROWS($U$183:U249)-1,COLUMNS($U$183:U249)-1),\"\")","v":{"$error":"#VALUE!"}},{"$f":"IF(OFFSET([1]DE100_7!$V$183,ROWS($V$183:V249)-1,COLUMNS($V$183:V249)-1)<>\"\",OFFSET([1]DE100_7!$V$183,ROWS($V$183:V249)-1,COLUMNS($V$183:V249)-1),\"\")","v":{"$error":"#VALUE!"}}]
[{"$f":"IF(OFFSET([1]DE100_7!$C$183,ROWS($C$183:C250)-1,COLUMNS($C$183:C250)-1)<>\"\",OFFSET([1]DE100_7!$C$183,ROWS($C$183:C250)-1,COLUMNS($C$183:C250)-1),\"\")","v":{"$error":"#VALUE!"}},{"$f":"IF(OFFSET([1]DE100_7!$D$183,ROWS($D$183:D250)-1,COLUMNS($D$183:D250)-1)<>\"\",OFFSET([1]DE100_7!$D$183,ROWS($D$183:D250)-1,COLUMNS($D$183:D250)-1),\"\")","v":{"$error":"#VALUE!"}},{"$f":"IF(OFFSET([1]DE100_7!$E$183,ROWS($E$183:E250)-1,COLUMNS($E$183:E250)-1)<>\"\",OFFSET([1]DE100_7!$E$183,ROWS($E$183:E250)-1,COLUMNS($E$183:E250)-1),\"\")","v":{"$error":"#VALUE!"}},{"$f":"IF(OFFSET([1]DE100_7!$F$183,ROWS($F$183:F250)-1,COLUMNS($F$183:F250)-1)<>\"\",OFFSET([1]DE100_7!$F$183,ROWS($F$183:F250)-1,COLUMNS($F$183:F250)-1),\"\")","v":{"$error":"#VALUE!"}},{"$f":"IF(OFFSET([1]DE100_7!$G$183,ROWS($G$183:G250)-1,COLUMNS($G$183:G250)-1)<>\"\",OFFSET([1]DE100_7!$G$183,ROWS($G$183:G250)-1,COLUMNS($G$183:G250)-1),\"\")","v":{"$error":"#VALUE!"}},{"$f":"IF(OFFSET([1]DE100_7!$H$183,ROWS($H$183:H250)-1,COLUMNS($H$183:H250)-1)<>\"\",OFFSET([1]DE100_7!$H$183,ROWS($H$183:H250)-1,COLUMNS($H$183:H250)-1),\"\")","v":{"$error":"#VALUE!"}},{"$f":"IF(OFFSET([1]DE100_7!$I$183,ROWS($I$183:I250)-1,COLUMNS($I$183:I250)-1)<>\"\",OFFSET([1]DE100_7!$I$183,ROWS($I$183:I250)-1,COLUMNS($I$183:I250)-1),\"\")","v":{"$error":"#VALUE!"}},{"$f":"IF(OFFSET([1]DE100_7!$J$183,ROWS($J$183:J250)-1,COLUMNS($J$183:J250)-1)<>\"\",OFFSET([1]DE100_7!$J$183,ROWS($J$183:J250)-1,COLUMNS($J$183:J250)-1),\"\")","v":{"$error":"#VALUE!"}},{"$f":"IF(OFFSET([1]DE100_7!$K$183,ROWS($K$183:K250)-1,COLUMNS($K$183:K250)-1)<>\"\",OFFSET([1]DE100_7!$K$183,ROWS($K$183:K250)-1,COLUMNS($K$183:K250)-1),\"\")","v":{"$error":"#VALUE!"}},{"$f":"IF(OFFSET([1]DE100_7!$L$183,ROWS($L$183:L250)-1,COLUMNS($L$183:L250)-1)<>\"\",OFFSET([1]DE100_7!$L$183,ROWS($L$183:L250)-1,COLUMNS($L$183:L250)-1),\"\")","v":{"$error":"#VALUE!"}},{"$f":"IF(OFFSET([1]DE100_7!$M$183,ROWS($M$183:M250)-1,COLUMNS($M$183:M250)-1)<>\"\",OFFSET([1]DE100_7!$M$183,ROWS($M$183:M250)-1,COLUMNS($M$183:M250)-1),\"\")","v":{"$error":"#VALUE!"}},{"$f":"IF(OFFSET([1]DE100_7!$N$183,ROWS($N$183:N250)-1,COLUMNS($N$183:N250)-1)<>\"\",OFFSET([1]DE100_7!$N$183,ROWS($N$183:N250)-1,COLUMNS($N$183:N250)-1),\"\")","v":{"$error":"#VALUE!"}},{"$f":"IF(OFFSET([1]DE100_7!$O$183,ROWS($O$183:O250)-1,COLUMNS($O$183:O250)-1)<>\"\",OFFSET([1]DE100_7!$O$183,ROWS($O$183:O250)-1,COLUMNS($O$183:O250)-1),\"\")","v":{"$error":"#VALUE!"}},{"$f":"IF(OFFSET([1]DE100_7!$P$183,ROWS($P$183:P250)-1,COLUMNS($P$183:P250)-1)<>\"\",OFFSET([1]DE100_7!$P$183,ROWS($P$183:P250)-1,COLUMNS($P$183:P250)-1),\"\")","v":{"$error":"#VALUE!"}},{"$f":"IF(OFFSET([1]DE100_7!$Q$183,ROWS($Q$183:Q250)-1,COLUMNS($Q$183:Q250)-1)<>\"\",OFFSET([1]DE100_7!$Q$183,ROWS($Q$183:Q250)-1,COLUMNS($Q$183:Q250)-1),\"\")","v":{"$error":"#VALUE!"}},{"$f":"IF(OFFSET([1]DE100_7!$R$183,ROWS($R$183:R250)-1,COLUMNS($R$183:R250)-1)<>\"\",OFFSET([1]DE100_7!$R$183,ROWS($R$183:R250)-1,COLUMNS($R$183:R250)-1),\"\")","v":{"$error":"#VALUE!"}},{"$f":"IF(OFFSET([1]DE100_7!$S$183,ROWS($S$183:S250)-1,COLUMNS($S$183:S250)-1)<>\"\",OFFSET([1]DE100_7!$S$183,ROWS($S$183:S250)-1,COLUMNS($S$183:S250)-1),\"\")","v":{"$error":"#VALUE!"}},{"$f":"IF(OFFSET([1]DE100_7!$T$183,ROWS($T$183:T250)-1,COLUMNS($T$183:T250)-1)<>\"\",OFFSET([1]DE100_7!$T$183,ROWS($T$183:T250)-1,COLUMNS($T$183:T250)-1),\"\")","v":{"$error":"#VALUE!"}},{"$f":"IF(OFFSET([1]DE100_7!$U$183,ROWS($U$183:U250)-1,COLUMNS($U$183:U250)-1)<>\"\",OFFSET([1]DE100_7!$U$183,ROWS($U$183:U250)-1,COLUMNS($U$183:U250)-1),\"\")","v":{"$error":"#VALUE!"}},{"$f":"IF(OFFSET([1]DE100_7!$V$183,ROWS($V$183:V250)-1,COLUMNS($V$183:V250)-1)<>\"\",OFFSET([1]DE100_7!$V$183,ROWS($V$183:V250)-1,COLUMNS($V$183:V250)-1),\"\")","v":{"$error":"#VALUE!"}}]
[{"$f":"IF(OFFSET([1]DE100_7!$C$183,ROWS($C$183:C251)-1,COLUMNS($C$183:C251)-1)<>\"\",OFFSET([1]DE100_7!$C$183,ROWS($C$183:C251)-1,COLUMNS($C$183:C251)-1),\"\")","v":{"$error":"#VALUE!"}},{"$f":"IF(OFFSET([1]DE100_7!$D$183,ROWS($D$183:D251)-1,COLUMNS($D$183:D251)-1)<>\"\",OFFSET([1]DE100_7!$D$183,ROWS($D$183:D251)-1,COLUMNS($D$183:D251)-1),\"\")","v":{"$error":"#VALUE!"}},{"$f":"IF(OFFSET([1]DE100_7!$E$183,ROWS($E$183:E251)-1,COLUMNS($E$183:E251)-1)<>\"\",OFFSET([1]DE100_7!$E$183,ROWS($E$183:E251)-1,COLUMNS($E$183:E251)-1),\"\")","v":{"$error":"#VALUE!"}},{"$f":"IF(OFFSET([1]DE100_7!$F$183,ROWS($F$183:F251)-1,COLUMNS($F$183:F251)-1)<>\"\",OFFSET([1]DE100_7!$F$183,ROWS($F$183:F251)-1,COLUMNS($F$183:F251)-1),\"\")","v":{"$error":"#VALUE!"}},{"$f":"IF(OFFSET([1]DE100_7!$G$183,ROWS($G$183:G251)-1,COLUMNS($G$183:G251)-1)<>\"\",OFFSET([1]DE100_7!$G$183,ROWS($G$183:G251)-1,COLUMNS($G$183:G251)-1),\"\")","v":{"$error":"#VALUE!"}},{"$f":"IF(OFFSET([1]DE100_7!$H$183,ROWS($H$183:H251)-1,COLUMNS($H$183:H251)-1)<>\"\",OFFSET([1]DE100_7!$H$183,ROWS($H$183:H251)-1,COLUMNS($H$183:H251)-1),\"\")","v":{"$error":"#VALUE!"}},{"$f":"IF(OFFSET([1]DE100_7!$I$183,ROWS($I$183:I251)-1,COLUMNS($I$183:I251)-1)<>\"\",OFFSET([1]DE100_7!$I$183,ROWS($I$183:I251)-1,COLUMNS($I$183:I251)-1),\"\")","v":{"$error":"#VALUE!"}},{"$f":"IF(OFFSET([1]DE100_7!$J$183,ROWS($J$183:J251)-1,COLUMNS($J$183:J251)-1)<>\"\",OFFSET([1]DE100_7!$J$183,ROWS($J$183:J251)-1,COLUMNS($J$183:J251)-1),\"\")","v":{"$error":"#VALUE!"}},{"$f":"IF(OFFSET([1]DE100_7!$K$183,ROWS($K$183:K251)-1,COLUMNS($K$183:K251)-1)<>\"\",OFFSET([1]DE100_7!$K$183,ROWS($K$183:K251)-1,COLUMNS($K$183:K251)-1),\"\")","v":{"$error":"#VALUE!"}},{"$f":"IF(OFFSET([1]DE100_7!$L$183,ROWS($L$183:L251)-1,COLUMNS($L$183:L251)-1)<>\"\",OFFSET([1]DE100_7!$L$183,ROWS($L$183:L251)-1,COLUMNS($L$183:L251)-1),\"\")","v":{"$error":"#VALUE!"}},{"$f":"IF(OFFSET([1]DE100_7!$M$183,ROWS($M$183:M251)-1,COLUMNS($M$183:M251)-1)<>\"\",OFFSET([1]DE100_7!$M$183,ROWS($M$183:M251)-1,COLUMNS($M$183:M251)-1),\"\")","v":{"$error":"#VALUE!"}},{"$f":"IF(OFFSET([1]DE100_7!$N$183,ROWS($N$183:N251)-1,COLUMNS($N$183:N251)-1)<>\"\",OFFSET([1]DE100_7!$N$183,ROWS($N$183:N251)-1,COLUMNS($N$183:N251)-1),\"\")","v":{"$error":"#VALUE!"}},{"$f":"IF(OFFSET([1]DE100_7!$O$183,ROWS($O$183:O251)-1,COLUMNS($O$183:O251)-1)<>\"\",OFFSET([1]DE100_7!$O$183,ROWS($O$183:O251)-1,COLUMNS($O$183:O251)-1),\"\")","v":{"$error":"#VALUE!"}},{"$f":"IF(OFFSET([1]DE100_7!$P$183,ROWS($P$183:P251)-1,COLUMNS($P$183:P251)-1)<>\"\",OFFSET([1]DE100_7!$P$183,ROWS($P$183:P251)-1,COLUMNS($P$183:P251)-1),\"\")","v":{"$error":"#VALUE!"}},{"$f":"IF(OFFSET([1]DE100_7!$Q$183,ROWS($Q$183:Q251)-1,COLUMNS($Q$183:Q251)-1)<>\"\",OFFSET([1]DE100_7!$Q$183,ROWS($Q$183:Q251)-1,COLUMNS($Q$183:Q251)-1),\"\")","v":{"$error":"#VALUE!"}},{"$f":"IF(OFFSET([1]DE100_7!$R$183,ROWS($R$183:R251)-1,COLUMNS($R$183:R251)-1)<>\"\",OFFSET([1]DE100_7!$R$183,ROWS($R$183:R251)-1,COLUMNS($R$183:R251)-1),\"\")","v":{"$error":"#VALUE!"}},{"$f":"IF(OFFSET([1]DE100_7!$S$183,ROWS($S$183:S251)-1,COLUMNS($S$183:S251)-1)<>\"\",OFFSET([1]DE100_7!$S$183,ROWS($S$183:S251)-1,COLUMNS($S$183:S251)-1),\"\")","v":{"$error":"#VALUE!"}},{"$f":"IF(OFFSET([1]DE100_7!$T$183,ROWS($T$183:T251)-1,COLUMNS($T$183:T251)-1)<>\"\",OFFSET([1]DE100_7!$T$183,ROWS($T$183:T251)-1,COLUMNS($T$183:T251)-1),\"\")","v":{"$error":"#VALUE!"}},{"$f":"IF(OFFSET([1]DE100_7!$U$183,ROWS($U$183:U251)-1,COLUMNS($U$183:U251)-1)<>\"\",OFFSET([1]DE100_7!$U$183,ROWS($U$183:U251)-1,COLUMNS($U$183:U251)-1),\"\")","v":{"$error":"#VALUE!"}},{"$f":"IF(OFFSET([1]DE100_7!$V$183,ROWS($V$183:V251)-1,COLUMNS($V$183:V251)-1)<>\"\",OFFSET([1]DE100_7!$V$183,ROWS($V$183:V251)-1,COLUMNS($V$183:V251)-1),\"\")","v":{"$error":"#VALUE!"}}]
[{"$f":"IF(OFFSET([1]DE100_7!$C$183,ROWS($C$183:C252)-1,COLUMNS($C$183:C252)-1)<>\"\",OFFSET([1]DE100_7!$C$183,ROWS($C$183:C252)-1,COLUMNS($C$183:C252)-1),\"\")","v":{"$error":"#VALUE!"}},{"$f":"IF(OFFSET([1]DE100_7!$D$183,ROWS($D$183:D252)-1,COLUMNS($D$183:D252)-1)<>\"\",OFFSET([1]DE100_7!$D$183,ROWS($D$183:D252)-1,COLUMNS($D$183:D252)-1),\"\")","v":{"$error":"#VALUE!"}},{"$f":"IF(OFFSET([1]DE100_7!$E$183,ROWS($E$183:E252)-1,COLUMNS($E$183:E252)-1)<>\"\",OFFSET([1]DE100_7!$E$183,ROWS($E$183:E252)-1,COLUMNS($E$183:E252)-1),\"\")","v":{"$error":"#VALUE!"}},{"$f":"IF(OFFSET([1]DE100_7!$F$183,ROWS($F$183:F252)-1,COLUMNS($F$183:F252)-1)<>\"\",OFFSET([1]DE100_7!$F$183,ROWS($F$183:F252)-1,COLUMNS($F$183:F252)-1),\"\")","v":{"$error":"#VALUE!"}},{"$f":"IF(OFFSET([1]DE100_7!$G$183,ROWS($G$183:G252)-1,COLUMNS($G$183:G252)-1)<>\"\",OFFSET([1]DE100_7!$G$183,ROWS($G$183:G252)-1,COLUMNS($G$183:G252)-1),\"\")","v":{"$error":"#VALUE!"}},{"$f":"IF(OFFSET([1]DE100_7!$H$183,ROWS($H$183:H252)-1,COLUMNS($H$183:H252)-1)<>\"\",OFFSET([1]DE100_7!$H$183,ROWS($H$183:H252)-1,COLUMNS($H$183:H252)-1),\"\")","v":{"$error":"#VALUE!"}},{"$f":"IF(OFFSET([1]DE100_7!$I$183,ROWS($I$183:I252)-1,COLUMNS($I$183:I252)-1)<>\"\",OFFSET([1]DE100_7!$I$183,ROWS($I$183:I252)-1,COLUMNS($I$183:I252)-1),\"\")","v":{"$error":"#VALUE!"}},{"$f":"IF(OFFSET([1]DE100_7!$J$183,ROWS($J$183:J252)-1,COLUMNS($J$183:J252)-1)<>\"\",OFFSET([1]DE100_7!$J$183,ROWS($J$183:J252)-1,COLUMNS($J$183:J252)-1),\"\")","v":{"$error":"#VALUE!"}},{"$f":"IF(OFFSET([1]DE100_7!$K$183,ROWS($K$183:K252)-1,COLUMNS($K$183:K252)-1)<>\"\",OFFSET([1]DE100_7!$K$183,ROWS($K$183:K252)-1,COLUMNS($K$183:K252)-1),\"\")","v":{"$error":"#VALUE!"}},{"$f":"IF(OFFSET([1]DE100_7!$L$183,ROWS($L$183:L252)-1,COLUMNS($L$183:L252)-1)<>\"\",OFFSET([1]DE100_7!$L$183,ROWS($L$183:L252)-1,COLUMNS($L$183:L252)-1),\"\")","v":{"$error":"#VALUE!"}},{"$f":"IF(OFFSET([1]DE100_7!$M$183,ROWS($M$183:M252)-1,COLUMNS($M$183:M252)-1)<>\"\",OFFSET([1]DE100_7!$M$183,ROWS($M$183:M252)-1,COLUMNS($M$183:M252)-1),\"\")","v":{"$error":"#VALUE!"}},{"$f":"IF(OFFSET([1]DE100_7!$N$183,ROWS($N$183:N252)-1,COLUMNS($N$183:N252)-1)<>\"\",OFFSET([1]DE100_7!$N$183,ROWS($N$183:N252)-1,COLUMNS($N$183:N252)-1),\"\")","v":{"$error":"#VALUE!"}},{"$f":"IF(OFFSET([1]DE100_7!$O$183,ROWS($O$183:O252)-1,COLUMNS($O$183:O252)-1)<>\"\",OFFSET([1]DE100_7!$O$183,ROWS($O$183:O252)-1,COLUMNS($O$183:O252)-1),\"\")","v":{"$error":"#VALUE!"}},{"$f":"IF(OFFSET([1]DE100_7!$P$183,ROWS($P$183:P252)-1,COLUMNS($P$183:P252)-1)<>\"\",OFFSET([1]DE100_7!$P$183,ROWS($P$183:P252)-1,COLUMNS($P$183:P252)-1),\"\")","v":{"$error":"#VALUE!"}},{"$f":"IF(OFFSET([1]DE100_7!$Q$183,ROWS($Q$183:Q252)-1,COLUMNS($Q$183:Q252)-1)<>\"\",OFFSET([1]DE100_7!$Q$183,ROWS($Q$183:Q252)-1,COLUMNS($Q$183:Q252)-1),\"\")","v":{"$error":"#VALUE!"}},{"$f":"IF(OFFSET([1]DE100_7!$R$183,ROWS($R$183:R252)-1,COLUMNS($R$183:R252)-1)<>\"\",OFFSET([1]DE100_7!$R$183,ROWS($R$183:R252)-1,COLUMNS($R$183:R252)-1),\"\")","v":{"$error":"#VALUE!"}},{"$f":"IF(OFFSET([1]DE100_7!$S$183,ROWS($S$183:S252)-1,COLUMNS($S$183:S252)-1)<>\"\",OFFSET([1]DE100_7!$S$183,ROWS($S$183:S252)-1,COLUMNS($S$183:S252)-1),\"\")","v":{"$error":"#VALUE!"}},{"$f":"IF(OFFSET([1]DE100_7!$T$183,ROWS($T$183:T252)-1,COLUMNS($T$183:T252)-1)<>\"\",OFFSET([1]DE100_7!$T$183,ROWS($T$183:T252)-1,COLUMNS($T$183:T252)-1),\"\")","v":{"$error":"#VALUE!"}},{"$f":"IF(OFFSET([1]DE100_7!$U$183,ROWS($U$183:U252)-1,COLUMNS($U$183:U252)-1)<>\"\",OFFSET([1]DE100_7!$U$183,ROWS($U$183:U252)-1,COLUMNS($U$183:U252)-1),\"\")","v":{"$error":"#VALUE!"}},{"$f":"IF(OFFSET([1]DE100_7!$V$183,ROWS($V$183:V252)-1,COLUMNS($V$183:V252)-1)<>\"\",OFFSET([1]DE100_7!$V$183,ROWS($V$183:V252)-1,COLUMNS($V$183:V252)-1),\"\")","v":{"$error":"#VALUE!"}}]
[{"$f":"IF(OFFSET([1]DE100_7!$C$183,ROWS($C$183:C253)-1,COLUMNS($C$183:C253)-1)<>\"\",OFFSET([1]DE100_7!$C$183,ROWS($C$183:C253)-1,COLUMNS($C$183:C253)-1),\"\")","v":{"$error":"#VALUE!"}},{"$f":"IF(OFFSET([1]DE100_7!$D$183,ROWS($D$183:D253)-1,COLUMNS($D$183:D253)-1)<>\"\",OFFSET([1]DE100_7!$D$183,ROWS($D$183:D253)-1,COLUMNS($D$183:D253)-1),\"\")","v":{"$error":"#VALUE!"}},{"$f":"IF(OFFSET([1]DE100_7!$E$183,ROWS($E$183:E253)-1,COLUMNS($E$183:E253)-1)<>\"\",OFFSET([1]DE100_7!$E$183,ROWS($E$183:E253)-1,COLUMNS($E$183:E253)-1),\"\")","v":{"$error":"#VALUE!"}},{"$f":"IF(OFFSET([1]DE100_7!$F$183,ROWS($F$183:F253)-1,COLUMNS($F$183:F253)-1)<>\"\",OFFSET([1]DE100_7!$F$183,ROWS($F$183:F253)-1,COLUMNS($F$183:F253)-1),\"\")","v":{"$error":"#VALUE!"}},{"$f":"IF(OFFSET([1]DE100_7!$G$183,ROWS($G$183:G253)-1,COLUMNS($G$183:G253)-1)<>\"\",OFFSET([1]DE100_7!$G$183,ROWS($G$183:G253)-1,COLUMNS($G$183:G253)-1),\"\")","v":{"$error":"#VALUE!"}},{"$f":"IF(OFFSET([1]DE100_7!$H$183,ROWS($H$183:H253)-1,COLUMNS($H$183:H253)-1)<>\"\",OFFSET([1]DE100_7!$H$183,ROWS($H$183:H253)-1,COLUMNS($H$183:H253)-1),\"\")","v":{"$error":"#VALUE!"}},{"$f":"IF(OFFSET([1]DE100_7!$I$183,ROWS($I$183:I253)-1,COLUMNS($I$183:I253)-1)<>\"\",OFFSET([1]DE100_7!$I$183,ROWS($I$183:I253)-1,COLUMNS($I$183:I253)-1),\"\")","v":{"$error":"#VALUE!"}},{"$f":"IF(OFFSET([1]DE100_7!$J$183,ROWS($J$183:J253)-1,COLUMNS($J$183:J253)-1)<>\"\",OFFSET([1]DE100_7!$J$183,ROWS($J$183:J253)-1,COLUMNS($J$183:J253)-1),\"\")","v":{"$error":"#VALUE!"}},{"$f":"IF(OFFSET([1]DE100_7!$K$183,ROWS($K$183:K253)-1,COLUMNS($K$183:K253)-1)<>\"\",OFFSET([1]DE100_7!$K$183,ROWS($K$183:K253)-1,COLUMNS($K$183:K253)-1),\"\")","v":{"$error":"#VALUE!"}},{"$f":"IF(OFFSET([1]DE100_7!$L$183,ROWS($L$183:L253)-1,COLUMNS($L$183:L253)-1)<>\"\",OFFSET([1]DE100_7!$L$183,ROWS($L$183:L253)-1,COLUMNS($L$183:L253)-1),\"\")","v":{"$error":"#VALUE!"}},{"$f":"IF(OFFSET([1]DE100_7!$M$183,ROWS($M$183:M253)-1,COLUMNS($M$183:M253)-1)<>\"\",OFFSET([1]DE100_7!$M$183,ROWS($M$183:M253)-1,COLUMNS($M$183:M253)-1),\"\")","v":{"$error":"#VALUE!"}},{"$f":"IF(OFFSET([1]DE100_7!$N$183,ROWS($N$183:N253)-1,COLUMNS($N$183:N253)-1)<>\"\",OFFSET([1]DE100_7!$N$183,ROWS($N$183:N253)-1,COLUMNS($N$183:N253)-1),\"\")","v":{"$error":"#VALUE!"}},{"$f":"IF(OFFSET([1]DE100_7!$O$183,ROWS($O$183:O253)-1,COLUMNS($O$183:O253)-1)<>\"\",OFFSET([1]DE100_7!$O$183,ROWS($O$183:O253)-1,COLUMNS($O$183:O253)-1),\"\")","v":{"$error":"#VALUE!"}},{"$f":"IF(OFFSET([1]DE100_7!$P$183,ROWS($P$183:P253)-1,COLUMNS($P$183:P253)-1)<>\"\",OFFSET([1]DE100_7!$P$183,ROWS($P$183:P253)-1,COLUMNS($P$183:P253)-1),\"\")","v":{"$error":"#VALUE!"}},{"$f":"IF(OFFSET([1]DE100_7!$Q$183,ROWS($Q$183:Q253)-1,COLUMNS($Q$183:Q253)-1)<>\"\",OFFSET([1]DE100_7!$Q$183,ROWS($Q$183:Q253)-1,COLUMNS($Q$183:Q253)-1),\"\")","v":{"$error":"#VALUE!"}},{"$f":"IF(OFFSET([1]DE100_7!$R$183,ROWS($R$183:R253)-1,COLUMNS($R$183:R253)-1)<>\"\",OFFSET([1]DE100_7!$R$183,ROWS($R$183:R253)-1,COLUMNS($R$183:R253)-1),\"\")","v":{"$error":"#VALUE!"}},{"$f":"IF(OFFSET([1]DE100_7!$S$183,ROWS($S$183:S253)-1,COLUMNS($S$183:S253)-1)<>\"\",OFFSET([1]DE100_7!$S$183,ROWS($S$183:S253)-1,COLUMNS($S$183:S253)-1),\"\")","v":{"$error":"#VALUE!"}},{"$f":"IF(OFFSET([1]DE100_7!$T$183,ROWS($T$183:T253)-1,COLUMNS($T$183:T253)-1)<>\"\",OFFSET([1]DE100_7!$T$183,ROWS($T$183:T253)-1,COLUMNS($T$183:T253)-1),\"\")","v":{"$error":"#VALUE!"}},{"$f":"IF(OFFSET([1]DE100_7!$U$183,ROWS($U$183:U253)-1,COLUMNS($U$183:U253)-1)<>\"\",OFFSET([1]DE100_7!$U$183,ROWS($U$183:U253)-1,COLUMNS($U$183:U253)-1),\"\")","v":{"$error":"#VALUE!"}},{"$f":"IF(OFFSET([1]DE100_7!$V$183,ROWS($V$183:V253)-1,COLUMNS($V$183:V253)-1)<>\"\",OFFSET([1]DE100_7!$V$183,ROWS($V$183:V253)-1,COLUMNS($V$183:V253)-1),\"\")","v":{"$error":"#VALUE!"}}]
[{"$f":"IF(OFFSET([1]DE100_7!$C$183,ROWS($C$183:C254)-1,COLUMNS($C$183:C254)-1)<>\"\",OFFSET([1]DE100_7!$C$183,ROWS($C$183:C254)-1,COLUMNS($C$183:C254)-1),\"\")","v":{"$error":"#VALUE!"}},{"$f":"IF(OFFSET([1]DE100_7!$D$183,ROWS($D$183:D254)-1,COLUMNS($D$183:D254)-1)<>\"\",OFFSET([1]DE100_7!$D$183,ROWS($D$183:D254)-1,COLUMNS($D$183:D254)-1),\"\")","v":{"$error":"#VALUE!"}},{"$f":"IF(OFFSET([1]DE100_7!$E$183,ROWS($E$183:E254)-1,COLUMNS($E$183:E254)-1)<>\"\",OFFSET([1]DE100_7!$E$183,ROWS($E$183:E254)-1,COLUMNS($E$183:E254)-1),\"\")","v":{"$error":"#VALUE!"}},{"$f":"IF(OFFSET([1]DE100_7!$F$183,ROWS($F$183:F254)-1,COLUMNS($F$183:F254)-1)<>\"\",OFFSET([1]DE100_7!$F$183,ROWS($F$183:F254)-1,COLUMNS($F$183:F254)-1),\"\")","v":{"$error":"#VALUE!"}},{"$f":"IF(OFFSET([1]DE100_7!$G$183,ROWS($G$183:G254)-1,COLUMNS($G$183:G254)-1)<>\"\",OFFSET([1]DE100_7!$G$183,ROWS($G$183:G254)-1,COLUMNS($G$183:G254)-1),\"\")","v":{"$error":"#VALUE!"}},{"$f":"IF(OFFSET([1]DE100_7!$H$183,ROWS($H$183:H254)-1,COLUMNS($H$183:H254)-1)<>\"\",OFFSET([1]DE100_7!$H$183,ROWS($H$183:H254)-1,COLUMNS($H$183:H254)-1),\"\")","v":{"$error":"#VALUE!"}},{"$f":"IF(OFFSET([1]DE100_7!$I$183,ROWS($I$183:I254)-1,COLUMNS($I$183:I254)-1)<>\"\",OFFSET([1]DE100_7!$I$183,ROWS($I$183:I254)-1,COLUMNS($I$183:I254)-1),\"\")","v":{"$error":"#VALUE!"}},{"$f":"IF(OFFSET([1]DE100_7!$J$183,ROWS($J$183:J254)-1,COLUMNS($J$183:J254)-1)<>\"\",OFFSET([1]DE100_7!$J$183,ROWS($J$183:J254)-1,COLUMNS($J$183:J254)-1),\"\")","v":{"$error":"#VALUE!"}},{"$f":"IF(OFFSET([1]DE100_7!$K$183,ROWS($K$183:K254)-1,COLUMNS($K$183:K254)-1)<>\"\",OFFSET([1]DE100_7!$K$183,ROWS($K$183:K254)-1,COLUMNS($K$183:K254)-1),\"\")","v":{"$error":"#VALUE!"}},{"$f":"IF(OFFSET([1]DE100_7!$L$183,ROWS($L$183:L254)-1,COLUMNS($L$183:L254)-1)<>\"\",OFFSET([1]DE100_7!$L$183,ROWS($L$183:L254)-1,COLUMNS($L$183:L254)-1),\"\")","v":{"$error":"#VALUE!"}},{"$f":"IF(OFFSET([1]DE100_7!$M$183,ROWS($M$183:M254)-1,COLUMNS($M$183:M254)-1)<>\"\",OFFSET([1]DE100_7!$M$183,ROWS($M$183:M254)-1,COLUMNS($M$183:M254)-1),\"\")","v":{"$error":"#VALUE!"}},{"$f":"IF(OFFSET([1]DE100_7!$N$183,ROWS($N$183:N254)-1,COLUMNS($N$183:N254)-1)<>\"\",OFFSET([1]DE100_7!$N$183,ROWS($N$183:N254)-1,COLUMNS($N$183:N254)-1),\"\")","v":{"$error":"#VALUE!"}},{"$f":"IF(OFFSET([1]DE100_7!$O$183,ROWS($O$183:O254)-1,COLUMNS($O$183:O254)-1)<>\"\",OFFSET([1]DE100_7!$O$183,ROWS($O$183:O254)-1,COLUMNS($O$183:O254)-1),\"\")","v":{"$error":"#VALUE!"}},{"$f":"IF(OFFSET([1]DE100_7!$P$183,ROWS($P$183:P254)-1,COLUMNS($P$183:P254)-1)<>\"\",OFFSET([1]DE100_7!$P$183,ROWS($P$183:P254)-1,COLUMNS($P$183:P254)-1),\"\")","v":{"$error":"#VALUE!"}},{"$f":"IF(OFFSET([1]DE100_7!$Q$183,ROWS($Q$183:Q254)-1,COLUMNS($Q$183:Q254)-1)<>\"\",OFFSET([1]DE100_7!$Q$183,ROWS($Q$183:Q254)-1,COLUMNS($Q$183:Q254)-1),\"\")","v":{"$error":"#VALUE!"}},{"$f":"IF(OFFSET([1]DE100_7!$R$183,ROWS($R$183:R254)-1,COLUMNS($R$183:R254)-1)<>\"\",OFFSET([1]DE100_7!$R$183,ROWS($R$183:R254)-1,COLUMNS($R$183:R254)-1),\"\")","v":{"$error":"#VALUE!"}},{"$f":"IF(OFFSET([1]DE100_7!$S$183,ROWS($S$183:S254)-1,COLUMNS($S$183:S254)-1)<>\"\",OFFSET([1]DE100_7!$S$183,ROWS($S$183:S254)-1,COLUMNS($S$183:S254)-1),\"\")","v":{"$error":"#VALUE!"}},{"$f":"IF(OFFSET([1]DE100_7!$T$183,ROWS($T$183:T254)-1,COLUMNS($T$183:T254)-1)<>\"\",OFFSET([1]DE100_7!$T$183,ROWS($T$183:T254)-1,COLUMNS($T$183:T254)-1),\"\")","v":{"$error":"#VALUE!"}},{"$f":"IF(OFFSET([1]DE100_7!$U$183,ROWS($U$183:U254)-1,COLUMNS($U$183:U254)-1)<>\"\",OFFSET([1]DE100_7!$U$183,ROWS($U$183:U254)-1,COLUMNS($U$183:U254)-1),\"\")","v":{"$error":"#VALUE!"}},{"$f":"IF(OFFSET([1]DE100_7!$V$183,ROWS($V$183:V254)-1,COLUMNS($V$183:V254)-1)<>\"\",OFFSET([1]DE100_7!$V$183,ROWS($V$183:V254)-1,COLUMNS($V$183:V254)-1),\"\")","v":{"$error":"#VALUE!"}}]
[{"$f":"IF(OFFSET([1]DE100_7!$C$183,ROWS($C$183:C255)-1,COLUMNS($C$183:C255)-1)<>\"\",OFFSET([1]DE100_7!$C$183,ROWS($C$183:C255)-1,COLUMNS($C$183:C255)-1),\"\")","v":{"$error":"#VALUE!"}},{"$f":"IF(OFFSET([1]DE100_7!$D$183,ROWS($D$183:D255)-1,COLUMNS($D$183:D255)-1)<>\"\",OFFSET([1]DE100_7!$D$183,ROWS($D$183:D255)-1,COLUMNS($D$183:D255)-1),\"\")","v":{"$error":"#VALUE!"}},{"$f":"IF(OFFSET([1]DE100_7!$E$183,ROWS($E$183:E255)-1,COLUMNS($E$183:E255)-1)<>\"\",OFFSET([1]DE100_7!$E$183,ROWS($E$183:E255)-1,COLUMNS($E$183:E255)-1),\"\")","v":{"$error":"#VALUE!"}},{"$f":"IF(OFFSET([1]DE100_7!$F$183,ROWS($F$183:F255)-1,COLUMNS($F$183:F255)-1)<>\"\",OFFSET([1]DE100_7!$F$183,ROWS($F$183:F255)-1,COLUMNS($F$183:F255)-1),\"\")","v":{"$error":"#VALUE!"}},{"$f":"IF(OFFSET([1]DE100_7!$G$183,ROWS($G$183:G255)-1,COLUMNS($G$183:G255)-1)<>\"\",OFFSET([1]DE100_7!$G$183,ROWS($G$183:G255)-1,COLUMNS($G$183:G255)-1),\"\")","v":{"$error":"#VALUE!"}},{"$f":"IF(OFFSET([1]DE100_7!$H$183,ROWS($H$183:H255)-1,COLUMNS($H$183:H255)-1)<>\"\",OFFSET([1]DE100_7!$H$183,ROWS($H$183:H255)-1,COLUMNS($H$183:H255)-1),\"\")","v":{"$error":"#VALUE!"}},{"$f":"IF(OFFSET([1]DE100_7!$I$183,ROWS($I$183:I255)-1,COLUMNS($I$183:I255)-1)<>\"\",OFFSET([1]DE100_7!$I$183,ROWS($I$183:I255)-1,COLUMNS($I$183:I255)-1),\"\")","v":{"$error":"#VALUE!"}},{"$f":"IF(OFFSET([1]DE100_7!$J$183,ROWS($J$183:J255)-1,COLUMNS($J$183:J255)-1)<>\"\",OFFSET([1]DE100_7!$J$183,ROWS($J$183:J255)-1,COLUMNS($J$183:J255)-1),\"\")","v":{"$error":"#VALUE!"}},{"$f":"IF(OFFSET([1]DE100_7!$K$183,ROWS($K$183:K255)-1,COLUMNS($K$183:K255)-1)<>\"\",OFFSET([1]DE100_7!$K$183,ROWS($K$183:K255)-1,COLUMNS($K$183:K255)-1),\"\")","v":{"$error":"#VALUE!"}},{"$f":"IF(OFFSET([1]DE100_7!$L$183,ROWS($L$183:L255)-1,COLUMNS($L$183:L255)-1)<>\"\",OFFSET([1]DE100_7!$L$183,ROWS($L$183:L255)-1,COLUMNS($L$183:L255)-1),\"\")","v":{"$error":"#VALUE!"}},{"$f":"IF(OFFSET([1]DE100_7!$M$183,ROWS($M$183:M255)-1,COLUMNS($M$183:M255)-1)<>\"\",OFFSET([1]DE100_7!$M$183,ROWS($M$183:M255)-1,COLUMNS($M$183:M255)-1),\"\")","v":{"$error":"#VALUE!"}},{"$f":"IF(OFFSET([1]DE100_7!$N$183,ROWS($N$183:N255)-1,COLUMNS($N$183:N255)-1)<>\"\",OFFSET([1]DE100_7!$N$183,ROWS($N$183:N255)-1,COLUMNS($N$183:N255)-1),\"\")","v":{"$error":"#VALUE!"}},{"$f":"IF(OFFSET([1]DE100_7!$O$183,ROWS($O$183:O255)-1,COLUMNS($O$183:O255)-1)<>\"\",OFFSET([1]DE100_7!$O$183,ROWS($O$183:O255)-1,COLUMNS($O$183:O255)-1),\"\")","v":{"$error":"#VALUE!"}},{"$f":"IF(OFFSET([1]DE100_7!$P$183,ROWS($P$183:P255)-1,COLUMNS($P$183:P255)-1)<>\"\",OFFSET([1]DE100_7!$P$183,ROWS($P$183:P255)-1,COLUMNS($P$183:P255)-1),\"\")","v":{"$error":"#VALUE!"}},{"$f":"IF(OFFSET([1]DE100_7!$Q$183,ROWS($Q$183:Q255)-1,COLUMNS($Q$183:Q255)-1)<>\"\",OFFSET([1]DE100_7!$Q$183,ROWS($Q$183:Q255)-1,COLUMNS($Q$183:Q255)-1),\"\")","v":{"$error":"#VALUE!"}},{"$f":"IF(OFFSET([1]DE100_7!$R$183,ROWS($R$183:R255)-1,COLUMNS($R$183:R255)-1)<>\"\",OFFSET([1]DE100_7!$R$183,ROWS($R$183:R255)-1,COLUMNS($R$183:R255)-1),\"\")","v":{"$error":"#VALUE!"}},{"$f":"IF(OFFSET([1]DE100_7!$S$183,ROWS($S$183:S255)-1,COLUMNS($S$183:S255)-1)<>\"\",OFFSET([1]DE100_7!$S$183,ROWS($S$183:S255)-1,COLUMNS($S$183:S255)-1),\"\")","v":{"$error":"#VALUE!"}},{"$f":"IF(OFFSET([1]DE100_7!$T$183,ROWS($T$183:T255)-1,COLUMNS($T$183:T255)-1)<>\"\",OFFSET([1]DE100_7!$T$183,ROWS($T$183:T255)-1,COLUMNS($T$183:T255)-1),\"\")","v":{"$error":"#VALUE!"}},{"$f":"IF(OFFSET([1]DE100_7!$U$183,ROWS($U$183:U255)-1,COLUMNS($U$183:U255)-1)<>\"\",OFFSET([1]DE100_7!$U$183,ROWS($U$183:U255)-1,COLUMNS($U$183:U255)-1),\"\")","v":{"$error":"#VALUE!"}},{"$f":"IF(OFFSET([1]DE100_7!$V$183,ROWS($V$183:V255)-1,COLUMNS($V$183:V255)-1)<>\"\",OFFSET([1]DE100_7!$V$183,ROWS($V$183:V255)-1,COLUMNS($V$183:V255)-1),\"\")","v":{"$error":"#VALUE!"}}]
[{"$f":"IF(OFFSET([1]DE100_7!$C$183,ROWS($C$183:C256)-1,COLUMNS($C$183:C256)-1)<>\"\",OFFSET([1]DE100_7!$C$183,ROWS($C$183:C256)-1,COLUMNS($C$183:C256)-1),\"\")","v":{"$error":"#VALUE!"}},{"$f":"IF(OFFSET([1]DE100_7!$D$183,ROWS($D$183:D256)-1,COLUMNS($D$183:D256)-1)<>\"\",OFFSET([1]DE100_7!$D$183,ROWS($D$183:D256)-1,COLUMNS($D$183:D256)-1),\"\")","v":{"$error":"#VALUE!"}},{"$f":"IF(OFFSET([1]DE100_7!$E$183,ROWS($E$183:E256)-1,COLUMNS($E$183:E256)-1)<>\"\",OFFSET([1]DE100_7!$E$183,ROWS($E$183:E256)-1,COLUMNS($E$183:E256)-1),\"\")","v":{"$error":"#VALUE!"}},{"$f":"IF(OFFSET([1]DE100_7!$F$183,ROWS($F$183:F256)-1,COLUMNS($F$183:F256)-1)<>\"\",OFFSET([1]DE100_7!$F$183,ROWS($F$183:F256)-1,COLUMNS($F$183:F256)-1),\"\")","v":{"$error":"#VALUE!"}},{"$f":"IF(OFFSET([1]DE100_7!$G$183,ROWS($G$183:G256)-1,COLUMNS($G$183:G256)-1)<>\"\",OFFSET([1]DE100_7!$G$183,ROWS($G$183:G256)-1,COLUMNS($G$183:G256)-1),\"\")","v":{"$error":"#VALUE!"}},{"$f":"IF(OFFSET([1]DE100_7!$H$183,ROWS($H$183:H256)-1,COLUMNS($H$183:H256)-1)<>\"\",OFFSET([1]DE100_7!$H$183,ROWS($H$183:H256)-1,COLUMNS($H$183:H256)-1),\"\")","v":{"$error":"#VALUE!"}},{"$f":"IF(OFFSET([1]DE100_7!$I$183,ROWS($I$183:I256)-1,COLUMNS($I$183:I256)-1)<>\"\",OFFSET([1]DE100_7!$I$183,ROWS($I$183:I256)-1,COLUMNS($I$183:I256)-1),\"\")","v":{"$error":"#VALUE!"}},{"$f":"IF(OFFSET([1]DE100_7!$J$183,ROWS($J$183:J256)-1,COLUMNS($J$183:J256)-1)<>\"\",OFFSET([1]DE100_7!$J$183,ROWS($J$183:J256)-1,COLUMNS($J$183:J256)-1),\"\")","v":{"$error":"#VALUE!"}},{"$f":"IF(OFFSET([1]DE100_7!$K$183,ROWS($K$183:K256)-1,COLUMNS($K$183:K256)-1)<>\"\",OFFSET([1]DE100_7!$K$183,ROWS($K$183:K256)-1,COLUMNS($K$183:K256)-1),\"\")","v":{"$error":"#VALUE!"}},{"$f":"IF(OFFSET([1]DE100_7!$L$183,ROWS($L$183:L256)-1,COLUMNS($L$183:L256)-1)<>\"\",OFFSET([1]DE100_7!$L$183,ROWS($L$183:L256)-1,COLUMNS($L$183:L256)-1),\"\")","v":{"$error":"#VALUE!"}},{"$f":"IF(OFFSET([1]DE100_7!$M$183,ROWS($M$183:M256)-1,COLUMNS($M$183:M256)-1)<>\"\",OFFSET([1]DE100_7!$M$183,ROWS($M$183:M256)-1,COLUMNS($M$183:M256)-1),\"\")","v":{"$error":"#VALUE!"}},{"$f":"IF(OFFSET([1]DE100_7!$N$183,ROWS($N$183:N256)-1,COLUMNS($N$183:N256)-1)<>\"\",OFFSET([1]DE100_7!$N$183,ROWS($N$183:N256)-1,COLUMNS($N$183:N256)-1),\"\")","v":{"$error":"#VALUE!"}},{"$f":"IF(OFFSET([1]DE100_7!$O$183,ROWS($O$183:O256)-1,COLUMNS($O$183:O256)-1)<>\"\",OFFSET([1]DE100_7!$O$183,ROWS($O$183:O256)-1,COLUMNS($O$183:O256)-1),\"\")","v":{"$error":"#VALUE!"}},{"$f":"IF(OFFSET([1]DE100_7!$P$183,ROWS($P$183:P256)-1,COLUMNS($P$183:P256)-1)<>\"\",OFFSET([1]DE100_7!$P$183,ROWS($P$183:P256)-1,COLUMNS($P$183:P256)-1),\"\")","v":{"$error":"#VALUE!"}},{"$f":"IF(OFFSET([1]DE100_7!$Q$183,ROWS($Q$183:Q256)-1,COLUMNS($Q$183:Q256)-1)<>\"\",OFFSET([1]DE100_7!$Q$183,ROWS($Q$183:Q256)-1,COLUMNS($Q$183:Q256)-1),\"\")","v":{"$error":"#VALUE!"}},{"$f":"IF(OFFSET([1]DE100_7!$R$183,ROWS($R$183:R256)-1,COLUMNS($R$183:R256)-1)<>\"\",OFFSET([1]DE100_7!$R$183,ROWS($R$183:R256)-1,COLUMNS($R$183:R256)-1),\"\")","v":{"$error":"#VALUE!"}},{"$f":"IF(OFFSET([1]DE100_7!$S$183,ROWS($S$183:S256)-1,COLUMNS($S$183:S256)-1)<>\"\",OFFSET([1]DE100_7!$S$183,ROWS($S$183:S256)-1,COLUMNS($S$183:S256)-1),\"\")","v":{"$error":"#VALUE!"}},{"$f":"IF(OFFSET([1]DE100_7!$T$183,ROWS($T$183:T256)-1,COLUMNS($T$183:T256)-1)<>\"\",OFFSET([1]DE100_7!$T$183,ROWS($T$183:T256)-1,COLUMNS($T$183:T256)-1),\"\")","v":{"$error":"#VALUE!"}},{"$f":"IF(OFFSET([1]DE100_7!$U$183,ROWS($U$183:U256)-1,COLUMNS($U$183:U256)-1)<>\"\",OFFSET([1]DE100_7!$U$183,ROWS($U$183:U256)-1,COLUMNS($U$183:U256)-1),\"\")","v":{"$error":"#VALUE!"}},{"$f":"IF(OFFSET([1]DE100_7!$V$183,ROWS($V$183:V256)-1,COLUMNS($V$183:V256)-1)<>\"\",OFFSET([1]DE100_7!$V$183,ROWS($V$183:V256)-1,COLUMNS($V$183:V256)-1),\"\")","v":{"$error":"#VALUE!"}}]
[{"$f":"IF(OFFSET([1]DE100_7!$C$183,ROWS($C$183:C257)-1,COLUMNS($C$183:C257)-1)<>\"\",OFFSET([1]DE100_7!$C$183,ROWS($C$183:C257)-1,COLUMNS($C$183:C257)-1),\"\")","v":{"$error":"#VALUE!"}},{"$f":"IF(OFFSET([1]DE100_7!$D$183,ROWS($D$183:D257)-1,COLUMNS($D$183:D257)-1)<>\"\",OFFSET([1]DE100_7!$D$183,ROWS($D$183:D257)-1,COLUMNS($D$183:D257)-1),\"\")","v":{"$error":"#VALUE!"}},{"$f":"IF(OFFSET([1]DE100_7!$E$183,ROWS($E$183:E257)-1,COLUMNS($E$183:E257)-1)<>\"\",OFFSET([1]DE100_7!$E$183,ROWS($E$183:E257)-1,COLUMNS($E$183:E257)-1),\"\")","v":{"$error":"#VALUE!"}},{"$f":"IF(OFFSET([1]DE100_7!$F$183,ROWS($F$183:F257)-1,COLUMNS($F$183:F257)-1)<>\"\",OFFSET([1]DE100_7!$F$183,ROWS($F$183:F257)-1,COLUMNS($F$183:F257)-1),\"\")","v":{"$error":"#VALUE!"}},{"$f":"IF(OFFSET([1]DE100_7!$G$183,ROWS($G$183:G257)-1,COLUMNS($G$183:G257)-1)<>\"\",OFFSET([1]DE100_7!$G$183,ROWS($G$183:G257)-1,COLUMNS($G$183:G257)-1),\"\")","v":{"$error":"#VALUE!"}},{"$f":"IF(OFFSET([1]DE100_7!$H$183,ROWS($H$183:H257)-1,COLUMNS($H$183:H257)-1)<>\"\",OFFSET([1]DE100_7!$H$183,ROWS($H$183:H257)-1,COLUMNS($H$183:H257)-1),\"\")","v":{"$error":"#VALUE!"}},{"$f":"IF(OFFSET([1]DE100_7!$I$183,ROWS($I$183:I257)-1,COLUMNS($I$183:I257)-1)<>\"\",OFFSET([1]DE100_7!$I$183,ROWS($I$183:I257)-1,COLUMNS($I$183:I257)-1),\"\")","v":{"$error":"#VALUE!"}},{"$f":"IF(OFFSET([1]DE100_7!$J$183,ROWS($J$183:J257)-1,COLUMNS($J$183:J257)-1)<>\"\",OFFSET([1]DE100_7!$J$183,ROWS($J$183:J257)-1,COLUMNS($J$183:J257)-1),\"\")","v":{"$error":"#VALUE!"}},{"$f":"IF(OFFSET([1]DE100_7!$K$183,ROWS($K$183:K257)-1,COLUMNS($K$183:K257)-1)<>\"\",OFFSET([1]DE100_7!$K$183,ROWS($K$183:K257)-1,COLUMNS($K$183:K257)-1),\"\")","v":{"$error":"#VALUE!"}},{"$f":"IF(OFFSET([1]DE100_7!$L$183,ROWS($L$183:L257)-1,COLUMNS($L$183:L257)-1)<>\"\",OFFSET([1]DE100_7!$L$183,ROWS($L$183:L257)-1,COLUMNS($L$183:L257)-1),\"\")","v":{"$error":"#VALUE!"}},{"$f":"IF(OFFSET([1]DE100_7!$M$183,ROWS($M$183:M257)-1,COLUMNS($M$183:M257)-1)<>\"\",OFFSET([1]DE100_7!$M$183,ROWS($M$183:M257)-1,COLUMNS($M$183:M257)-1),\"\")","v":{"$error":"#VALUE!"}},{"$f":"IF(OFFSET([1]DE100_7!$N$183,ROWS($N$183:N257)-1,COLUMNS($N$183:N257)-1)<>\"\",OFFSET([1]DE100_7!$N$183,ROWS($N$183:N257)-1,COLUMNS($N$183:N257)-1),\"\")","v":{"$error":"#VALUE!"}},{"$f":"IF(OFFSET([1]DE100_7!$O$183,ROWS($O$183:O257)-1,COLUMNS($O$183:O257)-1)<>\"\",OFFSET([1]DE100_7!$O$183,ROWS($O$183:O257)-1,COLUMNS($O$183:O257)-1),\"\")","v":{"$error":"#VALUE!"}},{"$f":"IF(OFFSET([1]DE100_7!$P$183,ROWS($P$183:P257)-1,COLUMNS($P$183:P257)-1)<>\"\",OFFSET([1]DE100_7!$P$183,ROWS($P$183:P257)-1,COLUMNS($P$183:P257)-1),\"\")","v":{"$error":"#VALUE!"}},{"$f":"IF(OFFSET([1]DE100_7!$Q$183,ROWS($Q$183:Q257)-1,COLUMNS($Q$183:Q257)-1)<>\"\",OFFSET([1]DE100_7!$Q$183,ROWS($Q$183:Q257)-1,COLUMNS($Q$183:Q257)-1),\"\")","v":{"$error":"#VALUE!"}},{"$f":"IF(OFFSET([1]DE100_7!$R$183,ROWS($R$183:R257)-1,COLUMNS($R$183:R257)-1)<>\"\",OFFSET([1]DE100_7!$R$183,ROWS($R$183:R257)-1,COLUMNS($R$183:R257)-1),\"\")","v":{"$error":"#VALUE!"}},{"$f":"IF(OFFSET([1]DE100_7!$S$183,ROWS($S$183:S257)-1,COLUMNS($S$183:S257)-1)<>\"\",OFFSET([1]DE100_7!$S$183,ROWS($S$183:S257)-1,COLUMNS($S$183:S257)-1),\"\")","v":{"$error":"#VALUE!"}},{"$f":"IF(OFFSET([1]DE100_7!$T$183,ROWS($T$183:T257)-1,COLUMNS($T$183:T257)-1)<>\"\",OFFSET([1]DE100_7!$T$183,ROWS($T$183:T257)-1,COLUMNS($T$183:T257)-1),\"\")","v":{"$error":"#VALUE!"}},{"$f":"IF(OFFSET([1]DE100_7!$U$183,ROWS($U$183:U257)-1,COLUMNS($U$183:U257)-1)<>\"\",OFFSET([1]DE100_7!$U$183,ROWS($U$183:U257)-1,COLUMNS($U$183:U257)-1),\"\")","v":{"$error":"#VALUE!"}},{"$f":"IF(OFFSET([1]DE100_7!$V$183,ROWS($V$183:V257)-1,COLUMNS($V$183:V257)-1)<>\"\",OFFSET([1]DE100_7!$V$183,ROWS($V$183:V257)-1,COLUMNS($V$183:V257)-1),\"\")","v":{"$error":"#VALUE!"}}]
[{"$f":"IF(OFFSET([1]DE100_7!$C$183,ROWS($C$183:C258)-1,COLUMNS($C$183:C258)-1)<>\"\",OFFSET([1]DE100_7!$C$183,ROWS($C$183:C258)-1,COLUMNS($C$183:C258)-1),\"\")","v":{"$error":"#VALUE!"}},{"$f":"IF(OFFSET([1]DE100_7!$D$183,ROWS($D$183:D258)-1,COLUMNS($D$183:D258)-1)<>\"\",OFFSET([1]DE100_7!$D$183,ROWS($D$183:D258)-1,COLUMNS($D$183:D258)-1),\"\")","v":{"$error":"#VALUE!"}},{"$f":"IF(OFFSET([1]DE100_7!$E$183,ROWS($E$183:E258)-1,COLUMNS($E$183:E258)-1)<>\"\",OFFSET([1]DE100_7!$E$183,ROWS($E$183:E258)-1,COLUMNS($E$183:E258)-1),\"\")","v":{"$error":"#VALUE!"}},{"$f":"IF(OFFSET([1]DE100_7!$F$183,ROWS($F$183:F258)-1,COLUMNS($F$183:F258)-1)<>\"\",OFFSET([1]DE100_7!$F$183,ROWS($F$183:F258)-1,COLUMNS($F$183:F258)-1),\"\")","v":{"$error":"#VALUE!"}},{"$f":"IF(OFFSET([1]DE100_7!$G$183,ROWS($G$183:G258)-1,COLUMNS($G$183:G258)-1)<>\"\",OFFSET([1]DE100_7!$G$183,ROWS($G$183:G258)-1,COLUMNS($G$183:G258)-1),\"\")","v":{"$error":"#VALUE!"}},{"$f":"IF(OFFSET([1]DE100_7!$H$183,ROWS($H$183:H258)-1,COLUMNS($H$183:H258)-1)<>\"\",OFFSET([1]DE100_7!$H$183,ROWS($H$183:H258)-1,COLUMNS($H$183:H258)-1),\"\")","v":{"$error":"#VALUE!"}},{"$f":"IF(OFFSET([1]DE100_7!$I$183,ROWS($I$183:I258)-1,COLUMNS($I$183:I258)-1)<>\"\",OFFSET([1]DE100_7!$I$183,ROWS($I$183:I258)-1,COLUMNS($I$183:I258)-1),\"\")","v":{"$error":"#VALUE!"}},{"$f":"IF(OFFSET([1]DE100_7!$J$183,ROWS($J$183:J258)-1,COLUMNS($J$183:J258)-1)<>\"\",OFFSET([1]DE100_7!$J$183,ROWS($J$183:J258)-1,COLUMNS($J$183:J258)-1),\"\")","v":{"$error":"#VALUE!"}},{"$f":"IF(OFFSET([1]DE100_7!$K$183,ROWS($K$183:K258)-1,COLUMNS($K$183:K258)-1)<>\"\",OFFSET([1]DE100_7!$K$183,ROWS($K$183:K258)-1,COLUMNS($K$183:K258)-1),\"\")","v":{"$error":"#VALUE!"}},{"$f":"IF(OFFSET([1]DE100_7!$L$183,ROWS($L$183:L258)-1,COLUMNS($L$183:L258)-1)<>\"\",OFFSET([1]DE100_7!$L$183,ROWS($L$183:L258)-1,COLUMNS($L$183:L258)-1),\"\")","v":{"$error":"#VALUE!"}},{"$f":"IF(OFFSET([1]DE100_7!$M$183,ROWS($M$183:M258)-1,COLUMNS($M$183:M258)-1)<>\"\",OFFSET([1]DE100_7!$M$183,ROWS($M$183:M258)-1,COLUMNS($M$183:M258)-1),\"\")","v":{"$error":"#VALUE!"}},{"$f":"IF(OFFSET([1]DE100_7!$N$183,ROWS($N$183:N258)-1,COLUMNS($N$183:N258)-1)<>\"\",OFFSET([1]DE100_7!$N$183,ROWS($N$183:N258)-1,COLUMNS($N$183:N258)-1),\"\")","v":{"$error":"#VALUE!"}},{"$f":"IF(OFFSET([1]DE100_7!$O$183,ROWS($O$183:O258)-1,COLUMNS($O$183:O258)-1)<>\"\",OFFSET([1]DE100_7!$O$183,ROWS($O$183:O258)-1,COLUMNS($O$183:O258)-1),\"\")","v":{"$error":"#VALUE!"}},{"$f":"IF(OFFSET([1]DE100_7!$P$183,ROWS($P$183:P258)-1,COLUMNS($P$183:P258)-1)<>\"\",OFFSET([1]DE100_7!$P$183,ROWS($P$183:P258)-1,COLUMNS($P$183:P258)-1),\"\")","v":{"$error":"#VALUE!"}},{"$f":"IF(OFFSET([1]DE100_7!$Q$183,ROWS($Q$183:Q258)-1,COLUMNS($Q$183:Q258)-1)<>\"\",OFFSET([1]DE100_7!$Q$183,ROWS($Q$183:Q258)-1,COLUMNS($Q$183:Q258)-1),\"\")","v":{"$error":"#VALUE!"}},{"$f":"IF(OFFSET([1]DE100_7!$R$183,ROWS($R$183:R258)-1,COLUMNS($R$183:R258)-1)<>\"\",OFFSET([1]DE100_7!$R$183,ROWS($R$183:R258)-1,COLUMNS($R$183:R258)-1),\"\")","v":{"$error":"#VALUE!"}},{"$f":"IF(OFFSET([1]DE100_7!$S$183,ROWS($S$183:S258)-1,COLUMNS($S$183:S258)-1)<>\"\",OFFSET([1]DE100_7!$S$183,ROWS($S$183:S258)-1,COLUMNS($S$183:S258)-1),\"\")","v":{"$error":"#VALUE!"}},{"$f":"IF(OFFSET([1]DE100_7!$T$183,ROWS($T$183:T258)-1,COLUMNS($T$183:T258)-1)<>\"\",OFFSET([1]DE100_7!$T$183,ROWS($T$183:T258)-1,COLUMNS($T$183:T258)-1),\"\")","v":{"$error":"#VALUE!"}},{"$f":"IF(OFFSET([1]DE100_7!$U$183,ROWS($U$183:U258)-1,COLUMNS($U$183:U258)-1)<>\"\",OFFSET([1]DE100_7!$U$183,ROWS($U$183:U258)-1,COLUMNS($U$183:U258)-1),\"\")","v":{"$error":"#VALUE!"}},{"$f":"IF(OFFSET([1]DE100_7!$V$183,ROWS($V$183:V258)-1,COLUMNS($V$183:V258)-1)<>\"\",OFFSET([1]DE100_7!$V$183,ROWS($V$183:V258)-1,COLUMNS($V$183:V258)-1),\"\")","v":{"$error":"#VALUE!"}}]
[{"$f":"IF(OFFSET([1]DE100_7!$C$183,ROWS($C$183:C259)-1,COLUMNS($C$183:C259)-1)<>\"\",OFFSET([1]DE100_7!$C$183,ROWS($C$183:C259)-1,COLUMNS($C$183:C259)-1),\"\")","v":{"$error":"#VALUE!"}},{"$f":"IF(OFFSET([1]DE100_7!$D$183,ROWS($D$183:D259)-1,COLUMNS($D$183:D259)-1)<>\"\",OFFSET([1]DE100_7!$D$183,ROWS($D$183:D259)-1,COLUMNS($D$183:D259)-1),\"\")","v":{"$error":"#VALUE!"}},{"$f":"IF(OFFSET([1]DE100_7!$E$183,ROWS($E$183:E259)-1,COLUMNS($E$183:E259)-1)<>\"\",OFFSET([1]DE100_7!$E$183,ROWS($E$183:E259)-1,COLUMNS($E$183:E259)-1),\"\")","v":{"$error":"#VALUE!"}},{"$f":"IF(OFFSET([1]DE100_7!$F$183,ROWS($F$183:F259)-1,COLUMNS($F$183:F259)-1)<>\"\",OFFSET([1]DE100_7!$F$183,ROWS($F$183:F259)-1,COLUMNS($F$183:F259)-1),\"\")","v":{"$error":"#VALUE!"}},{"$f":"IF(OFFSET([1]DE100_7!$G$183,ROWS($G$183:G259)-1,COLUMNS($G$183:G259)-1)<>\"\",OFFSET([1]DE100_7!$G$183,ROWS($G$183:G259)-1,COLUMNS($G$183:G259)-1),\"\")","v":{"$error":"#VALUE!"}},{"$f":"IF(OFFSET([1]DE100_7!$H$183,ROWS($H$183:H259)-1,COLUMNS($H$183:H259)-1)<>\"\",OFFSET([1]DE100_7!$H$183,ROWS($H$183:H259)-1,COLUMNS($H$183:H259)-1),\"\")","v":{"$error":"#VALUE!"}},{"$f":"IF(OFFSET([1]DE100_7!$I$183,ROWS($I$183:I259)-1,COLUMNS($I$183:I259)-1)<>\"\",OFFSET([1]DE100_7!$I$183,ROWS($I$183:I259)-1,COLUMNS($I$183:I259)-1),\"\")","v":{"$error":"#VALUE!"}},{"$f":"IF(OFFSET([1]DE100_7!$J$183,ROWS($J$183:J259)-1,COLUMNS($J$183:J259)-1)<>\"\",OFFSET([1]DE100_7!$J$183,ROWS($J$183:J259)-1,COLUMNS($J$183:J259)-1),\"\")","v":{"$error":"#VALUE!"}},{"$f":"IF(OFFSET([1]DE100_7!$K$183,ROWS($K$183:K259)-1,COLUMNS($K$183:K259)-1)<>\"\",OFFSET([1]DE100_7!$K$183,ROWS($K$183:K259)-1,COLUMNS($K$183:K259)-1),\"\")","v":{"$error":"#VALUE!"}},{"$f":"IF(OFFSET([1]DE100_7!$L$183,ROWS($L$183:L259)-1,COLUMNS($L$183:L259)-1)<>\"\",OFFSET([1]DE100_7!$L$183,ROWS($L$183:L259)-1,COLUMNS($L$183:L259)-1),\"\")","v":{"$error":"#VALUE!"}},{"$f":"IF(OFFSET([1]DE100_7!$M$183,ROWS($M$183:M259)-1,COLUMNS($M$183:M259)-1)<>\"\",OFFSET([1]DE100_7!$M$183,ROWS($M$183:M259)-1,COLUMNS($M$183:M259)-1),\"\")","v":{"$error":"#VALUE!"}},{"$f":"IF(OFFSET([1]DE100_7!$N$183,ROWS($N$183:N259)-1,COLUMNS($N$183:N259)-1)<>\"\",OFFSET([1]DE100_7!$N$183,ROWS($N$183:N259)-1,COLUMNS($N$183:N259)-1),\"\")","v":{"$error":"#VALUE!"}},{"$f":"IF(OFFSET([1]DE100_7!$O$183,ROWS($O$183:O259)-1,COLUMNS($O$183:O259)-1)<>\"\",OFFSET([1]DE100_7!$O$183,ROWS($O$183:O259)-1,COLUMNS($O$183:O259)-1),\"\")","v":{"$error":"#VALUE!"}},{"$f":"IF(OFFSET([1]DE100_7!$P$183,ROWS($P$183:P259)-1,COLUMNS($P$183:P259)-1)<>\"\",OFFSET([1]DE100_7!$P$183,ROWS($P$183:P259)-1,COLUMNS($P$183:P259)-1),\"\")","v":{"$error":"#VALUE!"}},{"$f":"IF(OFFSET([1]DE100_7!$Q$183,ROWS($Q$183:Q259)-1,COLUMNS($Q$183:Q259)-1)<>\"\",OFFSET([1]DE100_7!$Q$183,ROWS($Q$183:Q259)-1,COLUMNS($Q$183:Q259)-1),\"\")","v":{"$error":"#VALUE!"}},{"$f":"IF(OFFSET([1]DE100_7!$R$183,ROWS($R$183:R259)-1,COLUMNS($R$183:R259)-1)<>\"\",OFFSET([1]DE100_7!$R$183,ROWS($R$183:R259)-1,COLUMNS($R$183:R259)-1),\"\")","v":{"$error":"#VALUE!"}},{"$f":"IF(OFFSET([1]DE100_7!$S$183,ROWS($S$183:S259)-1,COLUMNS($S$183:S259)-1)<>\"\",OFFSET([1]DE100_7!$S$183,ROWS($S$183:S259)-1,COLUMNS($S$183:S259)-1),\"\")","v":{"$error":"#VALUE!"}},{"$f":"IF(OFFSET([1]DE100_7!$T$183,ROWS($T$183:T259)-1,COLUMNS($T$183:T259)-1)<>\"\",OFFSET([1]DE100_7!$T$183,ROWS($T$183:T259)-1,COLUMNS($T$183:T259)-1),\"\")","v":{"$error":"#VALUE!"}},{"$f":"IF(OFFSET([1]DE100_7!$U$183,ROWS($U$183:U259)-1,COLUMNS($U$183:U259)-1)<>\"\",OFFSET([1]DE100_7!$U$183,ROWS($U$183:U259)-1,COLUMNS($U$183:U259)-1),\"\")","v":{"$error":"#VALUE!"}},{"$f":"IF(OFFSET([1]DE100_7!$V$183,ROWS($V$183:V259)-1,COLUMNS($V$183:V259)-1)<>\"\",OFFSET([1]DE100_7!$V$183,ROWS($V$183:V259)-1,COLUMNS($V$183:V259)-1),\"\")","v":{"$error":"#VALUE!"}}]
[{"$f":"IF(OFFSET([1]DE100_7!$C$183,ROWS($C$183:C260)-1,COLUMNS($C$183:C260)-1)<>\"\",OFFSET([1]DE100_7!$C$183,ROWS($C$183:C260)-1,COLUMNS($C$183:C260)-1),\"\")","v":{"$error":"#VALUE!"}},{"$f":"IF(OFFSET([1]DE100_7!$D$183,ROWS($D$183:D260)-1,COLUMNS($D$183:D260)-1)<>\"\",OFFSET([1]DE100_7!$D$183,ROWS($D$183:D260)-1,COLUMNS($D$183:D260)-1),\"\")","v":{"$error":"#VALUE!"}},{"$f":"IF(OFFSET([1]DE100_7!$E$183,ROWS($E$183:E260)-1,COLUMNS($E$183:E260)-1)<>\"\",OFFSET([1]DE100_7!$E$183,ROWS($E$183:E260)-1,COLUMNS($E$183:E260)-1),\"\")","v":{"$error":"#VALUE!"}},{"$f":"IF(OFFSET([1]DE100_7!$F$183,ROWS($F$183:F260)-1,COLUMNS($F$183:F260)-1)<>\"\",OFFSET([1]DE100_7!$F$183,ROWS($F$183:F260)-1,COLUMNS($F$183:F260)-1),\"\")","v":{"$error":"#VALUE!"}},{"$f":"IF(OFFSET([1]DE100_7!$G$183,ROWS($G$183:G260)-1,COLUMNS($G$183:G260)-1)<>\"\",OFFSET([1]DE100_7!$G$183,ROWS($G$183:G260)-1,COLUMNS($G$183:G260)-1),\"\")","v":{"$error":"#VALUE!"}},{"$f":"IF(OFFSET([1]DE100_7!$H$183,ROWS($H$183:H260)-1,COLUMNS($H$183:H260)-1)<>\"\",OFFSET([1]DE100_7!$H$183,ROWS($H$183:H260)-1,COLUMNS($H$183:H260)-1),\"\")","v":{"$error":"#VALUE!"}},{"$f":"IF(OFFSET([1]DE100_7!$I$183,ROWS($I$183:I260)-1,COLUMNS($I$183:I260)-1)<>\"\",OFFSET([1]DE100_7!$I$183,ROWS($I$183:I260)-1,COLUMNS($I$183:I260)-1),\"\")","v":{"$error":"#VALUE!"}},{"$f":"IF(OFFSET([1]DE100_7!$J$183,ROWS($J$183:J260)-1,COLUMNS($J$183:J260)-1)<>\"\",OFFSET([1]DE100_7!$J$183,ROWS($J$183:J260)-1,COLUMNS($J$183:J260)-1),\"\")","v":{"$error":"#VALUE!"}},{"$f":"IF(OFFSET([1]DE100_7!$K$183,ROWS($K$183:K260)-1,COLUMNS($K$183:K260)-1)<>\"\",OFFSET([1]DE100_7!$K$183,ROWS($K$183:K260)-1,COLUMNS($K$183:K260)-1),\"\")","v":{"$error":"#VALUE!"}},{"$f":"IF(OFFSET([1]DE100_7!$L$183,ROWS($L$183:L260)-1,COLUMNS($L$183:L260)-1)<>\"\",OFFSET([1]DE100_7!$L$183,ROWS($L$183:L260)-1,COLUMNS($L$183:L260)-1),\"\")","v":{"$error":"#VALUE!"}},{"$f":"IF(OFFSET([1]DE100_7!$M$183,ROWS($M$183:M260)-1,COLUMNS($M$183:M260)-1)<>\"\",OFFSET([1]DE100_7!$M$183,ROWS($M$183:M260)-1,COLUMNS($M$183:M260)-1),\"\")","v":{"$error":"#VALUE!"}},{"$f":"IF(OFFSET([1]DE100_7!$N$183,ROWS($N$183:N260)-1,COLUMNS($N$183:N260)-1)<>\"\",OFFSET([1]DE100_7!$N$183,ROWS($N$183:N260)-1,COLUMNS($N$183:N260)-1),\"\")","v":{"$error":"#VALUE!"}},{"$f":"IF(OFFSET([1]DE100_7!$O$183,ROWS($O$183:O260)-1,COLUMNS($O$183:O260)-1)<>\"\",OFFSET([1]DE100_7!$O$183,ROWS($O$183:O260)-1,COLUMNS($O$183:O260)-1),\"\")","v":{"$error":"#VALUE!"}},{"$f":"IF(OFFSET([1]DE100_7!$P$183,ROWS($P$183:P260)-1,COLUMNS($P$183:P260)-1)<>\"\",OFFSET([1]DE100_7!$P$183,ROWS($P$183:P260)-1,COLUMNS($P$183:P260)-1),\"\")","v":{"$error":"#VALUE!"}},{"$f":"IF(OFFSET([1]DE100_7!$Q$183,ROWS($Q$183:Q260)-1,COLUMNS($Q$183:Q260)-1)<>\"\",OFFSET([1]DE100_7!$Q$183,ROWS($Q$183:Q260)-1,COLUMNS($Q$183:Q260)-1),\"\")","v":{"$error":"#VALUE!"}},{"$f":"IF(OFFSET([1]DE100_7!$R$183,ROWS($R$183:R260)-1,COLUMNS($R$183:R260)-1)<>\"\",OFFSET([1]DE100_7!$R$183,ROWS($R$183:R260)-1,COLUMNS($R$183:R260)-1),\"\")","v":{"$error":"#VALUE!"}},{"$f":"IF(OFFSET([1]DE100_7!$S$183,ROWS($S$183:S260)-1,COLUMNS($S$183:S260)-1)<>\"\",OFFSET([1]DE100_7!$S$183,ROWS($S$183:S260)-1,COLUMNS($S$183:S260)-1),\"\")","v":{"$error":"#VALUE!"}},{"$f":"IF(OFFSET([1]DE100_7!$T$183,ROWS($T$183:T260)-1,COLUMNS($T$183:T260)-1)<>\"\",OFFSET([1]DE100_7!$T$183,ROWS($T$183:T260)-1,COLUMNS($T$183:T260)-1),\"\")","v":{"$error":"#VALUE!"}},{"$f":"IF(OFFSET([1]DE100_7!$U$183,ROWS($U$183:U260)-1,COLUMNS($U$183:U260)-1)<>\"\",OFFSET([1]DE100_7!$U$183,ROWS($U$183:U260)-1,COLUMNS($U$183:U260)-1),\"\")","v":{"$error":"#VALUE!"}},{"$f":"IF(OFFSET([1]DE100_7!$V$183,ROWS($V$183:V260)-1,COLUMNS($V$183:V260)-1)<>\"\",OFFSET([1]DE100_7!$V$183,ROWS($V$183:V260)-1,COLUMNS($V$183:V260)-1),\"\")","v":{"$error":"#VALUE!"}}]
["100-7"]
["2012-10-16"]
["FENCING"]
[]
[" * Bid Item"]
["Refer to MI-101, MI-102, MI-103, MI-104, 510-3, and 510-5"]
["Location",null,null,null,"Side","Chain Link",null,null,null,"Deer",null,null,null,"Field",null,null,null,"Channel Crossing",null,"Remarks"]
["From",null,"To"]
["Station","Offset","Station","Offset",null,"Fence",null,"Gate",null,"Fence Length*","Brace Panels*","Gate",null,"Fence Length*","Brace Panels*","Gate"]
[null,null,null,null,null,"Length*","Type","No.*","Type",null,null,"No.*","Type",null,null,"No.*","Type","Length*","Type"]
[]
[null,null,null,null,null,"LF",null,"EACH",null,"LF","EACH","EACH",null,"LF","EACH","EACH",null,"LF"]
[{"$f":"IF(OFFSET([1]DE100_7!$C$261,ROWS($C$261:C261)-1,COLUMNS($C$261:C261)-1)<>\"\",OFFSET([1]DE100_7!$C$261,ROWS($C$261:C261)-1,COLUMNS($C$261:C261)-1),\"\")","v":{"$error":"#VALUE!"}},{"$f":"IF(OFFSET([1]DE100_7!$D$261,ROWS($D$261:D261)-1,COLUMNS($D$261:D261)-1)<>\"\",OFFSET([1]DE100_7!$D$261,ROWS($D$261:D261)-1,COLUMNS($D$261:D261)-1),\"\")","v":{"$error":"#VALUE!"}},{"$f":"IF(OFFSET([1]DE100_7!$E$261,ROWS($E$261:E261)-1,COLUMNS($E$261:E261)-1)<>\"\",OFFSET([1]DE100_7!$E$261,ROWS($E$261:E261)-1,COLUMNS($E$261:E261)-1),\"\")","v":{"$error":"#VALUE!"}},{"$f":"IF(OFFSET([1]DE100_7!$F$261,ROWS($F$261:F261)-1,COLUMNS($F$261:F261)-1)<>\"\",OFFSET([1]DE100_7!$F$261,ROWS($F$261:F261)-1,COLUMNS($F$261:F261)-1),\"\")","v":{"$error":"#VALUE!"}},{"$f":"IF(OFFSET([1]DE100_7!$G$261,ROWS($G$261:G261)-1,COLUMNS($G$261:G261)-1)<>\"\",OFFSET([1]DE100_7!$G$261,ROWS($G$261:G261)-1,COLUMNS($G$261:G261)-1),\"\")","v":{"$error":"#VALUE!"}},{"$f":"IF(OFFSET([1]DE100_7!$H$261,ROWS($H$261:H261)-1,COLUMNS($H$261:H261)-1)<>\"\",OFFSET([1]DE100_7!$H$261,ROWS($H$261:H261)-1,COLUMNS($H$261:H261)-1),\"\")","v":{"$error":"#VALUE!"}},{"$f":"IF(OFFSET([1]DE100_7!$I$261,ROWS($I$261:I261)-1,COLUMNS($I$261:I261)-1)<>\"\",OFFSET([1]DE100_7!$I$261,ROWS($I$261:I261)-1,COLUMNS($I$261:I261)-1),\"\")","v":{"$error":"#VALUE!"}},{"$f":"IF(OFFSET([1]DE100_7!$J$261,ROWS($J$261:J261)-1,COLUMNS($J$261:J261)-1)<>\"\",OFFSET([1]DE100_7!$J$261,ROWS($J$261:J261)-1,COLUMNS($J$261:J261)-1),\"\")","v":{"$error":"#VALUE!"}},{"$f":"IF(OFFSET([1]DE100_7!$K$261,ROWS($K$261:K261)-1,COLUMNS($K$261:K261)-1)<>\"\",OFFSET([1]DE100_7!$K$261,ROWS($K$261:K261)-1,COLUMNS($K$261:K261)-1),\"\")","v":{"$error":"#VALUE!"}},{"$f":"IF(OFFSET([1]DE100_7!$L$261,ROWS($L$261:L261)-1,COLUMNS($L$261:L261)-1)<>\"\",OFFSET([1]DE100_7!$L$261,ROWS($L$261:L261)-1,COLUMNS($L$261:L261)-1),\"\")","v":{"$error":"#VALUE!"}},{"$f":"IF(OFFSET([1]DE100_7!$M$261,ROWS($M$261:M261)-1,COLUMNS($M$261:M261)-1)<>\"\",OFFSET([1]DE100_7!$M$261,ROWS($M$261:M261)-1,COLUMNS($M$261:M261)-1),\"\")","v":{"$error":"#VALUE!"}},{"$f":"IF(OFFSET([1]DE100_7!$N$261,ROWS($N$261:N261)-1,COLUMNS($N$261:N261)-1)<>\"\",OFFSET([1]DE100_7!$N$261,ROWS($N$261:N261)-1,COLUMNS($N$261:N261)-1),\"\")","v":{"$error":"#VALUE!"}},{"$f":"IF(OFFSET([1]DE100_7!$O$261,ROWS($O$261:O261)-1,COLUMNS($O$261:O261)-1)<>\"\",OFFSET([1]DE100_7!$O$261,ROWS($O$261:O261)-1,COLUMNS($O$261:O261)-1),\"\")","v":{"$error":"#VALUE!"}},{"$f":"IF(OFFSET([1]DE100_7!$P$261,ROWS($P$261:P261)-1,COLUMNS($P$261:P261)-1)<>\"\",OFFSET([1]DE100_7!$P$261,ROWS($P$261:P261)-1,COLUMNS($P$261:P261)-1),\"\")","v":{"$error":"#VALUE!"}},{"$f":"IF(OFFSET([1]DE100_7!$Q$261,ROWS($Q$261:Q261)-1,COLUMNS($Q$261:Q261)-1)<>\"\",OFFSET([1]DE100_7!$Q$261,ROWS($Q$261:Q261)-1,COLUMNS($Q$261:Q261)-1),\"\")","v":{"$error":"#VALUE!"}},{"$f":"IF(OFFSET([1]DE100_7!$R$261,ROWS($R$261:R261)-1,COLUMNS($R$261:R261)-1)<>\"\",OFFSET([1]DE100_7!$R$261,ROWS($R$261:R261)-1,COLUMNS($R$261:R261)-1),\"\")","v":{"$error":"#VALUE!"}},{"$f":"IF(OFFSET([1]DE100_7!$S$261,ROWS($S$261:S261)-1,COLUMNS($S$261:S261)-1)<>\"\",OFFSET([1]DE100_7!$S$261,ROWS($S$261:S261)-1,COLUMNS($S$261:S261)-1),\"\")","v":{"$error":"#VALUE!"}},{"$f":"IF(OFFSET([1]DE100_7!$T$261,ROWS($T$261:T261)-1,COLUMNS($T$261:T261)-1)<>\"\",OFFSET([1]DE100_7!$T$261,ROWS($T$261:T261)-1,COLUMNS($T$261:T261)-1),\"\")","v":{"$error":"#VALUE!"}},{"$f":"IF(OFFSET([1]DE100_7!$U$261,ROWS($U$261:U261)-1,COLUMNS($U$261:U261)-1)<>\"\",OFFSET([1]DE100_7!$U$261,ROWS($U$261:U261)-1,COLUMNS($U$261:U261)-1),\"\")","v":{"$error":"#VALUE!"}},{"$f":"IF(OFFSET([1]DE100_7!$V$261,ROWS($V$261:V261)-1,COLUMNS($V$261:V261)-1)<>\"\",OFFSET([1]DE100_7!$V$261,ROWS($V$261:V261)-1,COLUMNS($V$261:V261)-1),\"\")","v":{"$error":"#VALUE!"}}]
[{"$f":"IF(OFFSET([1]DE100_7!$C$261,ROWS($C$261:C262)-1,COLUMNS($C$261:C262)-1)<>\"\",OFFSET([1]DE100_7!$C$261,ROWS($C$261:C262)-1,COLUMNS($C$261:C262)-1),\"\")","v":{"$error":"#VALUE!"}},{"$f":"IF(OFFSET([1]DE100_7!$D$261,ROWS($D$261:D262)-1,COLUMNS($D$261:D262)-1)<>\"\",OFFSET([1]DE100_7!$D$261,ROWS($D$261:D262)-1,COLUMNS($D$261:D262)-1),\"\")","v":{"$error":"#VALUE!"}},{"$f":"IF(OFFSET([1]DE100_7!$E$261,ROWS($E$261:E262)-1,COLUMNS($E$261:E262)-1)<>\"\",OFFSET([1]DE100_7!$E$261,ROWS($E$261:E262)-1,COLUMNS($E$261:E262)-1),\"\")","v":{"$error":"#VALUE!"}},{"$f":"IF(OFFSET([1]DE100_7!$F$261,ROWS($F$261:F262)-1,COLUMNS($F$261:F262)-1)<>\"\",OFFSET([1]DE100_7!$F$261,ROWS($F$261:F262)-1,COLUMNS($F$261:F262)-1),\"\")","v":{"$error":"#VALUE!"}},{"$f":"IF(OFFSET([1]DE100_7!$G$261,ROWS($G$261:G262)-1,COLUMNS($G$261:G262)-1)<>\"\",OFFSET([1]DE100_7!$G$261,ROWS($G$261:G262)-1,COLUMNS($G$261:G262)-1),\"\")","v":{"$error":"#VALUE!"}},{"$f":"IF(OFFSET([1]DE100_7!$H$261,ROWS($H$261:H262)-1,COLUMNS($H$261:H262)-1)<>\"\",OFFSET([1]DE100_7!$H$261,ROWS($H$261:H262)-1,COLUMNS($H$261:H262)-1),\"\")","v":{"$error":"#VALUE!"}},{"$f":"IF(OFFSET([1]DE100_7!$I$261,ROWS($I$261:I262)-1,COLUMNS($I$261:I262)-1)<>\"\",OFFSET([1]DE100_7!$I$261,ROWS($I$261:I262)-1,COLUMNS($I$261:I262)-1),\"\")","v":{"$error":"#VALUE!"}},{"$f":"IF(OFFSET([1]DE100_7!$J$261,ROWS($J$261:J262)-1,COLUMNS($J$261:J262)-1)<>\"\",OFFSET([1]DE100_7!$J$261,ROWS($J$261:J262)-1,COLUMNS($J$261:J262)-1),\"\")","v":{"$error":"#VALUE!"}},{"$f":"IF(OFFSET([1]DE100_7!$K$261,ROWS($K$261:K262)-1,COLUMNS($K$261:K262)-1)<>\"\",OFFSET([1]DE100_7!$K$261,ROWS($K$261:K262)-1,COLUMNS($K$261:K262)-1),\"\")","v":{"$error":"#VALUE!"}},{"$f":"IF(OFFSET([1]DE100_7!$L$261,ROWS($L$261:L262)-1,COLUMNS($L$261:L262)-1)<>\"\",OFFSET([1]DE100_7!$L$261,ROWS($L$261:L262)-1,COLUMNS($L$261:L262)-1),\"\")","v":{"$error":"#VALUE!"}},{"$f":"IF(OFFSET([1]DE100_7!$M$261,ROWS($M$261:M262)-1,COLUMNS($M$261:M262)-1)<>\"\",OFFSET([1]DE100_7!$M$261,ROWS($M$261:M262)-1,COLUMNS($M$261:M262)-1),\"\")","v":{"$error":"#VALUE!"}},{"$f":"IF(OFFSET([1]DE100_7!$N$261,ROWS($N$261:N262)-1,COLUMNS($N$261:N262)-1)<>\"\",OFFSET([1]DE100_7!$N$261,ROWS($N$261:N262)-1,COLUMNS($N$261:N262)-1),\"\")","v":{"$error":"#VALUE!"}},{"$f":"IF(OFFSET([1]DE100_7!$O$261,ROWS($O$261:O262)-1,COLUMNS($O$261:O262)-1)<>\"\",OFFSET([1]DE100_7!$O$261,ROWS($O$261:O262)-1,COLUMNS($O$261:O262)-1),\"\")","v":{"$error":"#VALUE!"}},{"$f":"IF(OFFSET([1]DE100_7!$P$261,ROWS($P$261:P262)-1,COLUMNS($P$261:P262)-1)<>\"\",OFFSET([1]DE100_7!$P$261,ROWS($P$261:P262)-1,COLUMNS($P$261:P262)-1),\"\")","v":{"$error":"#VALUE!"}},{"$f":"IF(OFFSET([1]DE100_7!$Q$261,ROWS($Q$261:Q262)-1,COLUMNS($Q$261:Q262)-1)<>\"\",OFFSET([1]DE100_7!$Q$261,ROWS($Q$261:Q262)-1,COLUMNS($Q$261:Q262)-1),\"\")","v":{"$error":"#VALUE!"}},{"$f":"IF(OFFSET([1]DE100_7!$R$261,ROWS($R$261:R262)-1,COLUMNS($R$261:R262)-1)<>\"\",OFFSET([1]DE100_7!$R$261,ROWS($R$261:R262)-1,COLUMNS($R$261:R262)-1),\"\")","v":{"$error":"#VALUE!"}},{"$f":"IF(OFFSET([1]DE100_7!$S$261,ROWS($S$261:S262)-1,COLUMNS($S$261:S262)-1)<>\"\",OFFSET([1]DE100_7!$S$261,ROWS($S$261:S262)-1,COLUMNS($S$261:S262)-1),\"\")","v":{"$error":"#VALUE!"}},{"$f":"IF(OFFSET([1]DE100_7!$T$261,ROWS($T$261:T262)-1,COLUMNS($T$261:T262)-1)<>\"\",OFFSET([1]DE100_7!$T$261,ROWS($T$261:T262)-1,COLUMNS($T$261:T262)-1),\"\")","v":{"$error":"#VALUE!"}},{"$f":"IF(OFFSET([1]DE100_7!$U$261,ROWS($U$261:U262)-1,COLUMNS($U$261:U262)-1)<>\"\",OFFSET([1]DE100_7!$U$261,ROWS($U$261:U262)-1,COLUMNS($U$261:U262)-1),\"\")","v":{"$error":"#VALUE!"}},{"$f":"IF(OFFSET([1]DE100_7!$V$261,ROWS($V$261:V262)-1,COLUMNS($V$261:V262)-1)<>\"\",OFFSET([1]DE100_7!$V$261,ROWS($V$261:V262)-1,COLUMNS($V$261:V262)-1),\"\")","v":{"$error":"#VALUE!"}}]
[{"$f":"IF(OFFSET([1]DE100_7!$C$261,ROWS($C$261:C263)-1,COLUMNS($C$261:C263)-1)<>\"\",OFFSET([1]DE100_7!$C$261,ROWS($C$261:C263)-1,COLUMNS($C$261:C263)-1),\"\")","v":{"$error":"#VALUE!"}},{"$f":"IF(OFFSET([1]DE100_7!$D$261,ROWS($D$261:D263)-1,COLUMNS($D$261:D263)-1)<>\"\",OFFSET([1]DE100_7!$D$261,ROWS($D$261:D263)-1,COLUMNS($D$261:D263)-1),\"\")","v":{"$error":"#VALUE!"}},{"$f":"IF(OFFSET([1]DE100_7!$E$261,ROWS($E$261:E263)-1,COLUMNS($E$261:E263)-1)<>\"\",OFFSET([1]DE100_7!$E$261,ROWS($E$261:E263)-1,COLUMNS($E$261:E263)-1),\"\")","v":{"$error":"#VALUE!"}},{"$f":"IF(OFFSET([1]DE100_7!$F$261,ROWS($F$261:F263)-1,COLUMNS($F$261:F263)-1)<>\"\",OFFSET([1]DE100_7!$F$261,ROWS($F$261:F263)-1,COLUMNS($F$261:F263)-1),\"\")","v":{"$error":"#VALUE!"}},{"$f":"IF(OFFSET([1]DE100_7!$G$261,ROWS($G$261:G263)-1,COLUMNS($G$261:G263)-1)<>\"\",OFFSET([1]DE100_7!$G$261,ROWS($G$261:G263)-1,COLUMNS($G$261:G263)-1),\"\")","v":{"$error":"#VALUE!"}},{"$f":"IF(OFFSET([1]DE100_7!$H$261,ROWS($H$261:H263)-1,COLUMNS($H$261:H263)-1)<>\"\",OFFSET([1]DE100_7!$H$261,ROWS($H$261:H263)-1,COLUMNS($H$261:H263)-1),\"\")","v":{"$error":"#VALUE!"}},{"$f":"IF(OFFSET([1]DE100_7!$I$261,ROWS($I$261:I263)-1,COLUMNS($I$261:I263)-1)<>\"\",OFFSET([1]DE100_7!$I$261,ROWS($I$261:I263)-1,COLUMNS($I$261:I263)-1),\"\")","v":{"$error":"#VALUE!"}},{"$f":"IF(OFFSET([1]DE100_7!$J$261,ROWS($J$261:J263)-1,COLUMNS($J$261:J263)-1)<>\"\",OFFSET([1]DE100_7!$J$261,ROWS($J$261:J263)-1,COLUMNS($J$261:J263)-1),\"\")","v":{"$error":"#VALUE!"}},{"$f":"IF(OFFSET([1]DE100_7!$K$261,ROWS($K$261:K263)-1,COLUMNS($K$261:K263)-1)<>\"\",OFFSET([1]DE100_7!$K$261,ROWS($K$261:K263)-1,COLUMNS($K$261:K263)-1),\"\")","v":{"$error":"#VALUE!"}},{"$f":"IF(OFFSET([1]DE100_7!$L$261,ROWS($L$261:L263)-1,COLUMNS($L$261:L263)-1)<>\"\",OFFSET([1]DE100_7!$L$261,ROWS($L$261:L263)-1,COLUMNS($L$261:L263)-1),\"\")","v":{"$error":"#VALUE!"}},{"$f":"IF(OFFSET([1]DE100_7!$M$261,ROWS($M$261:M263)-1,COLUMNS($M$261:M263)-1)<>\"\",OFFSET([1]DE100_7!$M$261,ROWS($M$261:M263)-1,COLUMNS($M$261:M263)-1),\"\")","v":{"$error":"#VALUE!"}},{"$f":"IF(OFFSET([1]DE100_7!$N$261,ROWS($N$261:N263)-1,COLUMNS($N$261:N263)-1)<>\"\",OFFSET([1]DE100_7!$N$261,ROWS($N$261:N263)-1,COLUMNS($N$261:N263)-1),\"\")","v":{"$error":"#VALUE!"}},{"$f":"IF(OFFSET([1]DE100_7!$O$261,ROWS($O$261:O263)-1,COLUMNS($O$261:O263)-1)<>\"\",OFFSET([1]DE100_7!$O$261,ROWS($O$261:O263)-1,COLUMNS($O$261:O263)-1),\"\")","v":{"$error":"#VALUE!"}},{"$f":"IF(OFFSET([1]DE100_7!$P$261,ROWS($P$261:P263)-1,COLUMNS($P$261:P263)-1)<>\"\",OFFSET([1]DE100_7!$P$261,ROWS($P$261:P263)-1,COLUMNS($P$261:P263)-1),\"\")","v":{"$error":"#VALUE!"}},{"$f":"IF(OFFSET([1]DE100_7!$Q$261,ROWS($Q$261:Q263)-1,COLUMNS($Q$261:Q263)-1)<>\"\",OFFSET([1]DE100_7!$Q$261,ROWS($Q$261:Q263)-1,COLUMNS($Q$261:Q263)-1),\"\")","v":{"$error":"#VALUE!"}},{"$f":"IF(OFFSET([1]DE100_7!$R$261,ROWS($R$261:R263)-1,COLUMNS($R$261:R263)-1)<>\"\",OFFSET([1]DE100_7!$R$261,ROWS($R$261:R263)-1,COLUMNS($R$261:R263)-1),\"\")","v":{"$error":"#VALUE!"}},{"$f":"IF(OFFSET([1]DE100_7!$S$261,ROWS($S$261:S263)-1,COLUMNS($S$261:S263)-1)<>\"\",OFFSET([1]DE100_7!$S$261,ROWS($S$261:S263)-1,COLUMNS($S$261:S263)-1),\"\")","v":{"$error":"#VALUE!"}},{"$f":"IF(OFFSET([1]DE100_7!$T$261,ROWS($T$261:T263)-1,COLUMNS($T$261:T263)-1)<>\"\",OFFSET([1]DE100_7!$T$261,ROWS($T$261:T263)-1,COLUMNS($T$261:T263)-1),\"\")","v":{"$error":"#VALUE!"}},{"$f":"IF(OFFSET([1]DE100_7!$U$261,ROWS($U$261:U263)-1,COLUMNS($U$261:U263)-1)<>\"\",OFFSET([1]DE100_7!$U$261,ROWS($U$261:U263)-1,COLUMNS($U$261:U263)-1),\"\")","v":{"$error":"#VALUE!"}},{"$f":"IF(OFFSET([1]DE100_7!$V$261,ROWS($V$261:V263)-1,COLUMNS($V$261:V263)-1)<>\"\",OFFSET([1]DE100_7!$V$261,ROWS($V$261:V263)-1,COLUMNS($V$261:V263)-1),\"\")","v":{"$error":"#VALUE!"}}]
[{"$f":"IF(OFFSET([1]DE100_7!$C$261,ROWS($C$261:C264)-1,COLUMNS($C$261:C264)-1)<>\"\",OFFSET([1]DE100_7!$C$261,ROWS($C$261:C264)-1,COLUMNS($C$261:C264)-1),\"\")","v":{"$error":"#VALUE!"}},{"$f":"IF(OFFSET([1]DE100_7!$D$261,ROWS($D$261:D264)-1,COLUMNS($D$261:D264)-1)<>\"\",OFFSET([1]DE100_7!$D$261,ROWS($D$261:D264)-1,COLUMNS($D$261:D264)-1),\"\")","v":{"$error":"#VALUE!"}},{"$f":"IF(OFFSET([1]DE100_7!$E$261,ROWS($E$261:E264)-1,COLUMNS($E$261:E264)-1)<>\"\",OFFSET([1]DE100_7!$E$261,ROWS($E$261:E264)-1,COLUMNS($E$261:E264)-1),\"\")","v":{"$error":"#VALUE!"}},{"$f":"IF(OFFSET([1]DE100_7!$F$261,ROWS($F$261:F264)-1,COLUMNS($F$261:F264)-1)<>\"\",OFFSET([1]DE100_7!$F$261,ROWS($F$261:F264)-1,COLUMNS($F$261:F264)-1),\"\")","v":{"$error":"#VALUE!"}},{"$f":"IF(OFFSET([1]DE100_7!$G$261,ROWS($G$261:G264)-1,COLUMNS($G$261:G264)-1)<>\"\",OFFSET([1]DE100_7!$G$261,ROWS($G$261:G264)-1,COLUMNS($G$261:G264)-1),\"\")","v":{"$error":"#VALUE!"}},{"$f":"IF(OFFSET([1]DE100_7!$H$261,ROWS($H$261:H264)-1,COLUMNS($H$261:H264)-1)<>\"\",OFFSET([1]DE100_7!$H$261,ROWS($H$261:H264)-1,COLUMNS($H$261:H264)-1),\"\")","v":{"$error":"#VALUE!"}},{"$f":"IF(OFFSET([1]DE100_7!$I$261,ROWS($I$261:I264)-1,COLUMNS($I$261:I264)-1)<>\"\",OFFSET([1]DE100_7!$I$261,ROWS($I$261:I264)-1,COLUMNS($I$261:I264)-1),\"\")","v":{"$error":"#VALUE!"}},{"$f":"IF(OFFSET([1]DE100_7!$J$261,ROWS($J$261:J264)-1,COLUMNS($J$261:J264)-1)<>\"\",OFFSET([1]DE100_7!$J$261,ROWS($J$261:J264)-1,COLUMNS($J$261:J264)-1),\"\")","v":{"$error":"#VALUE!"}},{"$f":"IF(OFFSET([1]DE100_7!$K$261,ROWS($K$261:K264)-1,COLUMNS($K$261:K264)-1)<>\"\",OFFSET([1]DE100_7!$K$261,ROWS($K$261:K264)-1,COLUMNS($K$261:K264)-1),\"\")","v":{"$error":"#VALUE!"}},{"$f":"IF(OFFSET([1]DE100_7!$L$261,ROWS($L$261:L264)-1,COLUMNS($L$261:L264)-1)<>\"\",OFFSET([1]DE100_7!$L$261,ROWS($L$261:L264)-1,COLUMNS($L$261:L264)-1),\"\")","v":{"$error":"#VALUE!"}},{"$f":"IF(OFFSET([1]DE100_7!$M$261,ROWS($M$261:M264)-1,COLUMNS($M$261:M264)-1)<>\"\",OFFSET([1]DE100_7!$M$261,ROWS($M$261:M264)-1,COLUMNS($M$261:M264)-1),\"\")","v":{"$error":"#VALUE!"}},{"$f":"IF(OFFSET([1]DE100_7!$N$261,ROWS($N$261:N264)-1,COLUMNS($N$261:N264)-1)<>\"\",OFFSET([1]DE100_7!$N$261,ROWS($N$261:N264)-1,COLUMNS($N$261:N264)-1),\"\")","v":{"$error":"#VALUE!"}},{"$f":"IF(OFFSET([1]DE100_7!$O$261,ROWS($O$261:O264)-1,COLUMNS($O$261:O264)-1)<>\"\",OFFSET([1]DE100_7!$O$261,ROWS($O$261:O264)-1,COLUMNS($O$261:O264)-1),\"\")","v":{"$error":"#VALUE!"}},{"$f":"IF(OFFSET([1]DE100_7!$P$261,ROWS($P$261:P264)-1,COLUMNS($P$261:P264)-1)<>\"\",OFFSET([1]DE100_7!$P$261,ROWS($P$261:P264)-1,COLUMNS($P$261:P264)-1),\"\")","v":{"$error":"#VALUE!"}},{"$f":"IF(OFFSET([1]DE100_7!$Q$261,ROWS($Q$261:Q264)-1,COLUMNS($Q$261:Q264)-1)<>\"\",OFFSET([1]DE100_7!$Q$261,ROWS($Q$261:Q264)-1,COLUMNS($Q$261:Q264)-1),\"\")","v":{"$error":"#VALUE!"}},{"$f":"IF(OFFSET([1]DE100_7!$R$261,ROWS($R$261:R264)-1,COLUMNS($R$261:R264)-1)<>\"\",OFFSET([1]DE100_7!$R$261,ROWS($R$261:R264)-1,COLUMNS($R$261:R264)-1),\"\")","v":{"$error":"#VALUE!"}},{"$f":"IF(OFFSET([1]DE100_7!$S$261,ROWS($S$261:S264)-1,COLUMNS($S$261:S264)-1)<>\"\",OFFSET([1]DE100_7!$S$261,ROWS($S$261:S264)-1,COLUMNS($S$261:S264)-1),\"\")","v":{"$error":"#VALUE!"}},{"$f":"IF(OFFSET([1]DE100_7!$T$261,ROWS($T$261:T264)-1,COLUMNS($T$261:T264)-1)<>\"\",OFFSET([1]DE100_7!$T$261,ROWS($T$261:T264)-1,COLUMNS($T$261:T264)-1),\"\")","v":{"$error":"#VALUE!"}},{"$f":"IF(OFFSET([1]DE100_7!$U$261,ROWS($U$261:U264)-1,COLUMNS($U$261:U264)-1)<>\"\",OFFSET([1]DE100_7!$U$261,ROWS($U$261:U264)-1,COLUMNS($U$261:U264)-1),\"\")","v":{"$error":"#VALUE!"}},{"$f":"IF(OFFSET([1]DE100_7!$V$261,ROWS($V$261:V264)-1,COLUMNS($V$261:V264)-1)<>\"\",OFFSET([1]DE100_7!$V$261,ROWS($V$261:V264)-1,COLUMNS($V$261:V264)-1),\"\")","v":{"$error":"#VALUE!"}}]
[{"$f":"IF(OFFSET([1]DE100_7!$C$261,ROWS($C$261:C265)-1,COLUMNS($C$261:C265)-1)<>\"\",OFFSET([1]DE100_7!$C$261,ROWS($C$261:C265)-1,COLUMNS($C$261:C265)-1),\"\")","v":{"$error":"#VALUE!"}},{"$f":"IF(OFFSET([1]DE100_7!$D$261,ROWS($D$261:D265)-1,COLUMNS($D$261:D265)-1)<>\"\",OFFSET([1]DE100_7!$D$261,ROWS($D$261:D265)-1,COLUMNS($D$261:D265)-1),\"\")","v":{"$error":"#VALUE!"}},{"$f":"IF(OFFSET([1]DE100_7!$E$261,ROWS($E$261:E265)-1,COLUMNS($E$261:E265)-1)<>\"\",OFFSET([1]DE100_7!$E$261,ROWS($E$261:E265)-1,COLUMNS($E$261:E265)-1),\"\")","v":{"$error":"#VALUE!"}},{"$f":"IF(OFFSET([1]DE100_7!$F$261,ROWS($F$261:F265)-1,COLUMNS($F$261:F265)-1)<>\"\",OFFSET([1]DE100_7!$F$261,ROWS($F$261:F265)-1,COLUMNS($F$261:F265)-1),\"\")","v":{"$error":"#VALUE!"}},{"$f":"IF(OFFSET([1]DE100_7!$G$261,ROWS($G$261:G265)-1,COLUMNS($G$261:G265)-1)<>\"\",OFFSET([1]DE100_7!$G$261,ROWS($G$261:G265)-1,COLUMNS($G$261:G265)-1),\"\")","v":{"$error":"#VALUE!"}},{"$f":"IF(OFFSET([1]DE100_7!$H$261,ROWS($H$261:H265)-1,COLUMNS($H$261:H265)-1)<>\"\",OFFSET([1]DE100_7!$H$261,ROWS($H$261:H265)-1,COLUMNS($H$261:H265)-1),\"\")","v":{"$error":"#VALUE!"}},{"$f":"IF(OFFSET([1]DE100_7!$I$261,ROWS($I$261:I265)-1,COLUMNS($I$261:I265)-1)<>\"\",OFFSET([1]DE100_7!$I$261,ROWS($I$261:I265)-1,COLUMNS($I$261:I265)-1),\"\")","v":{"$error":"#VALUE!"}},{"$f":"IF(OFFSET([1]DE100_7!$J$261,ROWS($J$261:J265)-1,COLUMNS($J$261:J265)-1)<>\"\",OFFSET([1]DE100_7!$J$261,ROWS($J$261:J265)-1,COLUMNS($J$261:J265)-1),\"\")","v":{"$error":"#VALUE!"}},{"$f":"IF(OFFSET([1]DE100_7!$K$261,ROWS($K$261:K265)-1,COLUMNS($K$261:K265)-1)<>\"\",OFFSET([1]DE100_7!$K$261,ROWS($K$261:K265)-1,COLUMNS($K$261:K265)-1),\"\")","v":{"$error":"#VALUE!"}},{"$f":"IF(OFFSET([1]DE100_7!$L$261,ROWS($L$261:L265)-1,COLUMNS($L$261:L265)-1)<>\"\",OFFSET([1]DE100_7!$L$261,ROWS($L$261:L265)-1,COLUMNS($L$261:L265)-1),\"\")","v":{"$error":"#VALUE!"}},{"$f":"IF(OFFSET([1]DE100_7!$M$261,ROWS($M$261:M265)-1,COLUMNS($M$261:M265)-1)<>\"\",OFFSET([1]DE100_7!$M$261,ROWS($M$261:M265)-1,COLUMNS($M$261:M265)-1),\"\")","v":{"$error":"#VALUE!"}},{"$f":"IF(OFFSET([1]DE100_7!$N$261,ROWS($N$261:N265)-1,COLUMNS($N$261:N265)-1)<>\"\",OFFSET([1]DE100_7!$N$261,ROWS($N$261:N265)-1,COLUMNS($N$261:N265)-1),\"\")","v":{"$error":"#VALUE!"}},{"$f":"IF(OFFSET([1]DE100_7!$O$261,ROWS($O$261:O265)-1,COLUMNS($O$261:O265)-1)<>\"\",OFFSET([1]DE100_7!$O$261,ROWS($O$261:O265)-1,COLUMNS($O$261:O265)-1),\"\")","v":{"$error":"#VALUE!"}},{"$f":"IF(OFFSET([1]DE100_7!$P$261,ROWS($P$261:P265)-1,COLUMNS($P$261:P265)-1)<>\"\",OFFSET([1]DE100_7!$P$261,ROWS($P$261:P265)-1,COLUMNS($P$261:P265)-1),\"\")","v":{"$error":"#VALUE!"}},{"$f":"IF(OFFSET([1]DE100_7!$Q$261,ROWS($Q$261:Q265)-1,COLUMNS($Q$261:Q265)-1)<>\"\",OFFSET([1]DE100_7!$Q$261,ROWS($Q$261:Q265)-1,COLUMNS($Q$261:Q265)-1),\"\")","v":{"$error":"#VALUE!"}},{"$f":"IF(OFFSET([1]DE100_7!$R$261,ROWS($R$261:R265)-1,COLUMNS($R$261:R265)-1)<>\"\",OFFSET([1]DE100_7!$R$261,ROWS($R$261:R265)-1,COLUMNS($R$261:R265)-1),\"\")","v":{"$error":"#VALUE!"}},{"$f":"IF(OFFSET([1]DE100_7!$S$261,ROWS($S$261:S265)-1,COLUMNS($S$261:S265)-1)<>\"\",OFFSET([1]DE100_7!$S$261,ROWS($S$261:S265)-1,COLUMNS($S$261:S265)-1),\"\")","v":{"$error":"#VALUE!"}},{"$f":"IF(OFFSET([1]DE100_7!$T$261,ROWS($T$261:T265)-1,COLUMNS($T$261:T265)-1)<>\"\",OFFSET([1]DE100_7!$T$261,ROWS($T$261:T265)-1,COLUMNS($T$261:T265)-1),\"\")","v":{"$error":"#VALUE!"}},{"$f":"IF(OFFSET([1]DE100_7!$U$261,ROWS($U$261:U265)-1,COLUMNS($U$261:U265)-1)<>\"\",OFFSET([1]DE100_7!$U$261,ROWS($U$261:U265)-1,COLUMNS($U$261:U265)-1),\"\")","v":{"$error":"#VALUE!"}},{"$f":"IF(OFFSET([1]DE100_7!$V$261,ROWS($V$261:V265)-1,COLUMNS($V$261:V265)-1)<>\"\",OFFSET([1]DE100_7!$V$261,ROWS($V$261:V265)-1,COLUMNS($V$261:V265)-1),\"\")","v":{"$error":"#VALUE!"}}]
[{"$f":"IF(OFFSET([1]DE100_7!$C$261,ROWS($C$261:C266)-1,COLUMNS($C$261:C266)-1)<>\"\",OFFSET([1]DE100_7!$C$261,ROWS($C$261:C266)-1,COLUMNS($C$261:C266)-1),\"\")","v":{"$error":"#VALUE!"}},null,null,null,{"$f":"IF(OFFSET([1]DE100_7!$G$261,ROWS($G$261:G266)-1,COLUMNS($G$261:G266)-1)<>\"\",OFFSET([1]DE100_7!$G$261,ROWS($G$261:G266)-1,COLUMNS($G$261:G266)-1),\"\")","v":{"$error":"#VALUE!"}},{"$f":"IF(OFFSET([1]DE100_7!$H$261,ROWS($H$261:H266)-1,COLUMNS($H$261:H266)-1)<>\"\",OFFSET([1]DE100_7!$H$261,ROWS($H$261:H266)-1,COLUMNS($H$261:H266)-1),\"\")","v":{"$error":"#VALUE!"}},{"$f":"IF(OFFSET([1]DE100_7!$I$261,ROWS($I$261:I266)-1,COLUMNS($I$261:I266)-1)<>\"\",OFFSET([1]DE100_7!$I$261,ROWS($I$261:I266)-1,COLUMNS($I$261:I266)-1),\"\")","v":{"$error":"#VALUE!"}},{"$f":"IF(OFFSET([1]DE100_7!$J$261,ROWS($J$261:J266)-1,COLUMNS($J$261:J266)-1)<>\"\",OFFSET([1]DE100_7!$J$261,ROWS($J$261:J266)-1,COLUMNS($J$261:J266)-1),\"\")","v":{"$error":"#VALUE!"}},{"$f":"IF(OFFSET([1]DE100_7!$K$261,ROWS($K$261:K266)-1,COLUMNS($K$261:K266)-1)<>\"\",OFFSET([1]DE100_7!$K$261,ROWS($K$261:K266)-1,COLUMNS($K$261:K266)-1),\"\")","v":{"$error":"#VALUE!"}},{"$f":"IF(OFFSET([1]DE100_7!$L$261,ROWS($L$261:L266)-1,COLUMNS($L$261:L266)-1)<>\"\",OFFSET([1]DE100_7!$L$261,ROWS($L$261:L266)-1,COLUMNS($L$261:L266)-1),\"\")","v":{"$error":"#VALUE!"}},{"$f":"IF(OFFSET([1]DE100_7!$M$261,ROWS($M$261:M266)-1,COLUMNS($M$261:M266)-1)<>\"\",OFFSET([1]DE100_7!$M$261,ROWS($M$261:M266)-1,COLUMNS($M$261:M266)-1),\"\")","v":{"$error":"#VALUE!"}},{"$f":"IF(OFFSET([1]DE100_7!$N$261,ROWS($N$261:N266)-1,COLUMNS($N$261:N266)-1)<>\"\",OFFSET([1]DE100_7!$N$261,ROWS($N$261:N266)-1,COLUMNS($N$261:N266)-1),\"\")","v":{"$error":"#VALUE!"}},{"$f":"IF(OFFSET([1]DE100_7!$O$261,ROWS($O$261:O266)-1,COLUMNS($O$261:O266)-1)<>\"\",OFFSET([1]DE100_7!$O$261,ROWS($O$261:O266)-1,COLUMNS($O$261:O266)-1),\"\")","v":{"$error":"#VALUE!"}},{"$f":"IF(OFFSET([1]DE100_7!$P$261,ROWS($P$261:P266)-1,COLUMNS($P$261:P266)-1)<>\"\",OFFSET([1]DE100_7!$P$261,ROWS($P$261:P266)-1,COLUMNS($P$261:P266)-1),\"\")","v":{"$error":"#VALUE!"}},{"$f":"IF(OFFSET([1]DE100_7!$Q$261,ROWS($Q$261:Q266)-1,COLUMNS($Q$261:Q266)-1)<>\"\",OFFSET([1]DE100_7!$Q$261,ROWS($Q$261:Q266)-1,COLUMNS($Q$261:Q266)-1),\"\")","v":{"$error":"#VALUE!"}},{"$f":"IF(OFFSET([1]DE100_7!$R$261,ROWS($R$261:R266)-1,COLUMNS($R$261:R266)-1)<>\"\",OFFSET([1]DE100_7!$R$261,ROWS($R$261:R266)-1,COLUMNS($R$261:R266)-1),\"\")","v":{"$error":"#VALUE!"}},{"$f":"IF(OFFSET([1]DE100_7!$S$261,ROWS($S$261:S266)-1,COLUMNS($S$261:S266)-1)<>\"\",OFFSET([1]DE100_7!$S$261,ROWS($S$261:S266)-1,COLUMNS($S$261:S266)-1),\"\")","v":{"$error":"#VALUE!"}},{"$f":"IF(OFFSET([1]DE100_7!$T$261,ROWS($T$261:T266)-1,COLUMNS($T$261:T266)-1)<>\"\",OFFSET([1]DE100_7!$T$261,ROWS($T$261:T266)-1,COLUMNS($T$261:T266)-1),\"\")","v":{"$error":"#VALUE!"}},{"$f":"IF(OFFSET([1]DE100_7!$U$261,ROWS($U$261:U266)-1,COLUMNS($U$261:U266)-1)<>\"\",OFFSET([1]DE100_7!$U$261,ROWS($U$261:U266)-1,COLUMNS($U$261:U266)-1),\"\")","v":{"$error":"#VALUE!"}},{"$f":"IF(OFFSET([1]DE100_7!$V$261,ROWS($V$261:V266)-1,COLUMNS($V$261:V266)-1)<>\"\",OFFSET([1]DE100_7!$V$261,ROWS($V$261:V266)-1,COLUMNS($V$261:V266)-1),\"\")","v":{"$error":"#VALUE!"}}]
[{"$f":"IF(OFFSET([1]DE100_7!$C$261,ROWS($C$261:C267)-1,COLUMNS($C$261:C267)-1)<>\"\",OFFSET([1]DE100_7!$C$261,ROWS($C$261:C267)-1,COLUMNS($C$261:C267)-1),\"\")","v":{"$error":"#VALUE!"}},{"$f":"IF(OFFSET([1]DE100_7!$D$261,ROWS($D$261:D267)-1,COLUMNS($D$261:D267)-1)<>\"\",OFFSET([1]DE100_7!$D$261,ROWS($D$261:D267)-1,COLUMNS($D$261:D267)-1),\"\")","v":{"$error":"#VALUE!"}},{"$f":"IF(OFFSET([1]DE100_7!$E$261,ROWS($E$261:E267)-1,COLUMNS($E$261:E267)-1)<>\"\",OFFSET([1]DE100_7!$E$261,ROWS($E$261:E267)-1,COLUMNS($E$261:E267)-1),\"\")","v":{"$error":"#VALUE!"}},{"$f":"IF(OFFSET([1]DE100_7!$F$261,ROWS($F$261:F267)-1,COLUMNS($F$261:F267)-1)<>\"\",OFFSET([1]DE100_7!$F$261,ROWS($F$261:F267)-1,COLUMNS($F$261:F267)-1),\"\")","v":{"$error":"#VALUE!"}},{"$f":"IF(OFFSET([1]DE100_7!$G$261,ROWS($G$261:G267)-1,COLUMNS($G$261:G267)-1)<>\"\",OFFSET([1]DE100_7!$G$261,ROWS($G$261:G267)-1,COLUMNS($G$261:G267)-1),\"\")","v":{"$error":"#VALUE!"}},{"$f":"IF(OFFSET([1]DE100_7!$H$261,ROWS($H$261:H267)-1,COLUMNS($H$261:H267)-1)<>\"\",OFFSET([1]DE100_7!$H$261,ROWS($H$261:H267)-1,COLUMNS($H$261:H267)-1),\"\")","v":{"$error":"#VALUE!"}},{"$f":"IF(OFFSET([1]DE100_7!$I$261,ROWS($I$261:I267)-1,COLUMNS($I$261:I267)-1)<>\"\",OFFSET([1]DE100_7!$I$261,ROWS($I$261:I267)-1,COLUMNS($I$261:I267)-1),\"\")","v":{"$error":"#VALUE!"}},{"$f":"IF(OFFSET([1]DE100_7!$J$261,ROWS($J$261:J267)-1,COLUMNS($J$261:J267)-1)<>\"\",OFFSET([1]DE100_7!$J$261,ROWS($J$261:J267)-1,COLUMNS($J$261:J267)-1),\"\")","v":{"$error":"#VALUE!"}},{"$f":"IF(OFFSET([1]DE100_7!$K$261,ROWS($K$261:K267)-1,COLUMNS($K$261:K267)-1)<>\"\",OFFSET([1]DE100_7!$K$261,ROWS($K$261:K267)-1,COLUMNS($K$261:K267)-1),\"\")","v":{"$error":"#VALUE!"}},{"$f":"IF(OFFSET([1]DE100_7!$L$261,ROWS($L$261:L267)-1,COLUMNS($L$261:L267)-1)<>\"\",OFFSET([1]DE100_7!$L$261,ROWS($L$261:L267)-1,COLUMNS($L$261:L267)-1),\"\")","v":{"$error":"#VALUE!"}},{"$f":"IF(OFFSET([1]DE100_7!$M$261,ROWS($M$261:M267)-1,COLUMNS($M$261:M267)-1)<>\"\",OFFSET([1]DE100_7!$M$261,ROWS($M$261:M267)-1,COLUMNS($M$261:M267)-1),\"\")","v":{"$error":"#VALUE!"}},{"$f":"IF(OFFSET([1]DE100_7!$N$261,ROWS($N$261:N267)-1,COLUMNS($N$261:N267)-1)<>\"\",OFFSET([1]DE100_7!$N$261,ROWS($N$261:N267)-1,COLUMNS($N$261:N267)-1),\"\")","v":{"$error":"#VALUE!"}},{"$f":"IF(OFFSET([1]DE100_7!$O$261,ROWS($O$261:O267)-1,COLUMNS($O$261:O267)-1)<>\"\",OFFSET([1]DE100_7!$O$261,ROWS($O$261:O267)-1,COLUMNS($O$261:O267)-1),\"\")","v":{"$error":"#VALUE!"}},{"$f":"IF(OFFSET([1]DE100_7!$P$261,ROWS($P$261:P267)-1,COLUMNS($P$261:P267)-1)<>\"\",OFFSET([1]DE100_7!$P$261,ROWS($P$261:P267)-1,COLUMNS($P$261:P267)-1),\"\")","v":{"$error":"#VALUE!"}},{"$f":"IF(OFFSET([1]DE100_7!$Q$261,ROWS($Q$261:Q267)-1,COLUMNS($Q$261:Q267)-1)<>\"\",OFFSET([1]DE100_7!$Q$261,ROWS($Q$261:Q267)-1,COLUMNS($Q$261:Q267)-1),\"\")","v":{"$error":"#VALUE!"}},{"$f":"IF(OFFSET([1]DE100_7!$R$261,ROWS($R$261:R267)-1,COLUMNS($R$261:R267)-1)<>\"\",OFFSET([1]DE100_7!$R$261,ROWS($R$261:R267)-1,COLUMNS($R$261:R267)-1),\"\")","v":{"$error":"#VALUE!"}},{"$f":"IF(OFFSET([1]DE100_7!$S$261,ROWS($S$261:S267)-1,COLUMNS($S$261:S267)-1)<>\"\",OFFSET([1]DE100_7!$S$261,ROWS($S$261:S267)-1,COLUMNS($S$261:S267)-1),\"\")","v":{"$error":"#VALUE!"}},{"$f":"IF(OFFSET([1]DE100_7!$T$261,ROWS($T$261:T267)-1,COLUMNS($T$261:T267)-1)<>\"\",OFFSET([1]DE100_7!$T$261,ROWS($T$261:T267)-1,COLUMNS($T$261:T267)-1),\"\")","v":{"$error":"#VALUE!"}},{"$f":"IF(OFFSET([1]DE100_7!$U$261,ROWS($U$261:U267)-1,COLUMNS($U$261:U267)-1)<>\"\",OFFSET([1]DE100_7!$U$261,ROWS($U$261:U267)-1,COLUMNS($U$261:U267)-1),\"\")","v":{"$error":"#VALUE!"}},{"$f":"IF(OFFSET([1]DE100_7!$V$261,ROWS($V$261:V267)-1,COLUMNS($V$261:V267)-1)<>\"\",OFFSET([1]DE100_7!$V$261,ROWS($V$261:V267)-1,COLUMNS($V$261:V267)-1),\"\")","v":{"$error":"#VALUE!"}}]
[{"$f":"IF(OFFSET([1]DE100_7!$C$261,ROWS($C$261:C268)-1,COLUMNS($C$261:C268)-1)<>\"\",OFFSET([1]DE100_7!$C$261,ROWS($C$261:C268)-1,COLUMNS($C$261:C268)-1),\"\")","v":{"$error":"#VALUE!"}},{"$f":"IF(OFFSET([1]DE100_7!$D$261,ROWS($D$261:D268)-1,COLUMNS($D$261:D268)-1)<>\"\",OFFSET([1]DE100_7!$D$261,ROWS($D$261:D268)-1,COLUMNS($D$261:D268)-1),\"\")","v":{"$error":"#VALUE!"}},{"$f":"IF(OFFSET([1]DE100_7!$E$261,ROWS($E$261:E268)-1,COLUMNS($E$261:E268)-1)<>\"\",OFFSET([1]DE100_7!$E$261,ROWS($E$261:E268)-1,COLUMNS($E$261:E268)-1),\"\")","v":{"$error":"#VALUE!"}},{"$f":"IF(OFFSET([1]DE100_7!$F$261,ROWS($F$261:F268)-1,COLUMNS($F$261:F268)-1)<>\"\",OFFSET([1]DE100_7!$F$261,ROWS($F$261:F268)-1,COLUMNS($F$261:F268)-1),\"\")","v":{"$error":"#VALUE!"}},{"$f":"IF(OFFSET([1]DE100_7!$G$261,ROWS($G$261:G268)-1,COLUMNS($G$261:G268)-1)<>\"\",OFFSET([1]DE100_7!$G$261,ROWS($G$261:G268)-1,COLUMNS($G$261:G268)-1),\"\")","v":{"$error":"#VALUE!"}},{"$f":"IF(OFFSET([1]DE100_7!$H$261,ROWS($H$261:H268)-1,COLUMNS($H$261:H268)-1)<>\"\",OFFSET([1]DE100_7!$H$261,ROWS($H$261:H268)-1,COLUMNS($H$261:H268)-1),\"\")","v":{"$error":"#VALUE!"}},{"$f":"IF(OFFSET([1]DE100_7!$I$261,ROWS($I$261:I268)-1,COLUMNS($I$261:I268)-1)<>\"\",OFFSET([1]DE100_7!$I$261,ROWS($I$261:I268)-1,COLUMNS($I$261:I268)-1),\"\")","v":{"$error":"#VALUE!"}},{"$f":"IF(OFFSET([1]DE100_7!$J$261,ROWS($J$261:J268)-1,COLUMNS($J$261:J268)-1)<>\"\",OFFSET([1]DE100_7!$J$261,ROWS($J$261:J268)-1,COLUMNS($J$261:J268)-1),\"\")","v":{"$error":"#VALUE!"}},{"$f":"IF(OFFSET([1]DE100_7!$K$261,ROWS($K$261:K268)-1,COLUMNS($K$261:K268)-1)<>\"\",OFFSET([1]DE100_7!$K$261,ROWS($K$261:K268)-1,COLUMNS($K$261:K268)-1),\"\")","v":{"$error":"#VALUE!"}},{"$f":"IF(OFFSET([1]DE100_7!$L$261,ROWS($L$261:L268)-1,COLUMNS($L$261:L268)-1)<>\"\",OFFSET([1]DE100_7!$L$261,ROWS($L$261:L268)-1,COLUMNS($L$261:L268)-1),\"\")","v":{"$error":"#VALUE!"}},{"$f":"IF(OFFSET([1]DE100_7!$M$261,ROWS($M$261:M268)-1,COLUMNS($M$261:M268)-1)<>\"\",OFFSET([1]DE100_7!$M$261,ROWS($M$261:M268)-1,COLUMNS($M$261:M268)-1),\"\")","v":{"$error":"#VALUE!"}},{"$f":"IF(OFFSET([1]DE100_7!$N$261,ROWS($N$261:N268)-1,COLUMNS($N$261:N268)-1)<>\"\",OFFSET([1]DE100_7!$N$261,ROWS($N$261:N268)-1,COLUMNS($N$261:N268)-1),\"\")","v":{"$error":"#VALUE!"}},{"$f":"IF(OFFSET([1]DE100_7!$O$261,ROWS($O$261:O268)-1,COLUMNS($O$261:O268)-1)<>\"\",OFFSET([1]DE100_7!$O$261,ROWS($O$261:O268)-1,COLUMNS($O$261:O268)-1),\"\")","v":{"$error":"#VALUE!"}},{"$f":"IF(OFFSET([1]DE100_7!$P$261,ROWS($P$261:P268)-1,COLUMNS($P$261:P268)-1)<>\"\",OFFSET([1]DE100_7!$P$261,ROWS($P$261:P268)-1,COLUMNS($P$261:P268)-1),\"\")","v":{"$error":"#VALUE!"}},{"$f":"IF(OFFSET([1]DE100_7!$Q$261,ROWS($Q$261:Q268)-1,COLUMNS($Q$261:Q268)-1)<>\"\",OFFSET([1]DE100_7!$Q$261,ROWS($Q$261:Q268)-1,COLUMNS($Q$261:Q268)-1),\"\")","v":{"$error":"#VALUE!"}},{"$f":"IF(OFFSET([1]DE100_7!$R$261,ROWS($R$261:R268)-1,COLUMNS($R$261:R268)-1)<>\"\",OFFSET([1]DE100_7!$R$261,ROWS($R$261:R268)-1,COLUMNS($R$261:R268)-1),\"\")","v":{"$error":"#VALUE!"}},{"$f":"IF(OFFSET([1]DE100_7!$S$261,ROWS($S$261:S268)-1,COLUMNS($S$261:S268)-1)<>\"\",OFFSET([1]DE100_7!$S$261,ROWS($S$261:S268)-1,COLUMNS($S$261:S268)-1),\"\")","v":{"$error":"#VALUE!"}},{"$f":"IF(OFFSET([1]DE100_7!$T$261,ROWS($T$261:T268)-1,COLUMNS($T$261:T268)-1)<>\"\",OFFSET([1]DE100_7!$T$261,ROWS($T$261:T268)-1,COLUMNS($T$261:T268)-1),\"\")","v":{"$error":"#VALUE!"}},{"$f":"IF(OFFSET([1]DE100_7!$U$261,ROWS($U$261:U268)-1,COLUMNS($U$261:U268)-1)<>\"\",OFFSET([1]DE100_7!$U$261,ROWS($U$261:U268)-1,COLUMNS($U$261:U268)-1),\"\")","v":{"$error":"#VALUE!"}},{"$f":"IF(OFFSET([1]DE100_7!$V$261,ROWS($V$261:V268)-1,COLUMNS($V$261:V268)-1)<>\"\",OFFSET([1]DE100_7!$V$261,ROWS($V$261:V268)-1,COLUMNS($V$261:V268)-1),\"\")","v":{"$error":"#VALUE!"}}]
[{"$f":"IF(OFFSET([1]DE100_7!$C$261,ROWS($C$261:C269)-1,COLUMNS($C$261:C269)-1)<>\"\",OFFSET([1]DE100_7!$C$261,ROWS($C$261:C269)-1,COLUMNS($C$261:C269)-1),\"\")","v":{"$error":"#VALUE!"}},{"$f":"IF(OFFSET([1]DE100_7!$D$261,ROWS($D$261:D269)-1,COLUMNS($D$261:D269)-1)<>\"\",OFFSET([1]DE100_7!$D$261,ROWS($D$261:D269)-1,COLUMNS($D$261:D269)-1),\"\")","v":{"$error":"#VALUE!"}},{"$f":"IF(OFFSET([1]DE100_7!$E$261,ROWS($E$261:E269)-1,COLUMNS($E$261:E269)-1)<>\"\",OFFSET([1]DE100_7!$E$261,ROWS($E$261:E269)-1,COLUMNS($E$261:E269)-1),\"\")","v":{"$error":"#VALUE!"}},{"$f":"IF(OFFSET([1]DE100_7!$F$261,ROWS($F$261:F269)-1,COLUMNS($F$261:F269)-1)<>\"\",OFFSET([1]DE100_7!$F$261,ROWS($F$261:F269)-1,COLUMNS($F$261:F269)-1),\"\")","v":{"$error":"#VALUE!"}},{"$f":"IF(OFFSET([1]DE100_7!$G$261,ROWS($G$261:G269)-1,COLUMNS($G$261:G269)-1)<>\"\",OFFSET([1]DE100_7!$G$261,ROWS($G$261:G269)-1,COLUMNS($G$261:G269)-1),\"\")","v":{"$error":"#VALUE!"}},{"$f":"IF(OFFSET([1]DE100_7!$H$261,ROWS($H$261:H269)-1,COLUMNS($H$261:H269)-1)<>\"\",OFFSET([1]DE100_7!$H$261,ROWS($H$261:H269)-1,COLUMNS($H$261:H269)-1),\"\")","v":{"$error":"#VALUE!"}},{"$f":"IF(OFFSET([1]DE100_7!$I$261,ROWS($I$261:I269)-1,COLUMNS($I$261:I269)-1)<>\"\",OFFSET([1]DE100_7!$I$261,ROWS($I$261:I269)-1,COLUMNS($I$261:I269)-1),\"\")","v":{"$error":"#VALUE!"}},{"$f":"IF(OFFSET([1]DE100_7!$J$261,ROWS($J$261:J269)-1,COLUMNS($J$261:J269)-1)<>\"\",OFFSET([1]DE100_7!$J$261,ROWS($J$261:J269)-1,COLUMNS($J$261:J269)-1),\"\")","v":{"$error":"#VALUE!"}},{"$f":"IF(OFFSET([1]DE100_7!$K$261,ROWS($K$261:K269)-1,COLUMNS($K$261:K269)-1)<>\"\",OFFSET([1]DE100_7!$K$261,ROWS($K$261:K269)-1,COLUMNS($K$261:K269)-1),\"\")","v":{"$error":"#VALUE!"}},{"$f":"IF(OFFSET([1]DE100_7!$L$261,ROWS($L$261:L269)-1,COLUMNS($L$261:L269)-1)<>\"\",OFFSET([1]DE100_7!$L$261,ROWS($L$261:L269)-1,COLUMNS($L$261:L269)-1),\"\")","v":{"$error":"#VALUE!"}},{"$f":"IF(OFFSET([1]DE100_7!$M$261,ROWS($M$261:M269)-1,COLUMNS($M$261:M269)-1)<>\"\",OFFSET([1]DE100_7!$M$261,ROWS($M$261:M269)-1,COLUMNS($M$261:M269)-1),\"\")","v":{"$error":"#VALUE!"}},{"$f":"IF(OFFSET([1]DE100_7!$N$261,ROWS($N$261:N269)-1,COLUMNS($N$261:N269)-1)<>\"\",OFFSET([1]DE100_7!$N$261,ROWS($N$261:N269)-1,COLUMNS($N$261:N269)-1),\"\")","v":{"$error":"#VALUE!"}},{"$f":"IF(OFFSET([1]DE100_7!$O$261,ROWS($O$261:O269)-1,COLUMNS($O$261:O269)-1)<>\"\",OFFSET([1]DE100_7!$O$261,ROWS($O$261:O269)-1,COLUMNS($O$261:O269)-1),\"\")","v":{"$error":"#VALUE!"}},{"$f":"IF(OFFSET([1]DE100_7!$P$261,ROWS($P$261:P269)-1,COLUMNS($P$261:P269)-1)<>\"\",OFFSET([1]DE100_7!$P$261,ROWS($P$261:P269)-1,COLUMNS($P$261:P269)-1),\"\")","v":{"$error":"#VALUE!"}},{"$f":"IF(OFFSET([1]DE100_7!$Q$261,ROWS($Q$261:Q269)-1,COLUMNS($Q$261:Q269)-1)<>\"\",OFFSET([1]DE100_7!$Q$261,ROWS($Q$261:Q269)-1,COLUMNS($Q$261:Q269)-1),\"\")","v":{"$error":"#VALUE!"}},{"$f":"IF(OFFSET([1]DE100_7!$R$261,ROWS($R$261:R269)-1,COLUMNS($R$261:R269)-1)<>\"\",OFFSET([1]DE100_7!$R$261,ROWS($R$261:R269)-1,COLUMNS($R$261:R269)-1),\"\")","v":{"$error":"#VALUE!"}},{"$f":"IF(OFFSET([1]DE100_7!$S$261,ROWS($S$261:S269)-1,COLUMNS($S$261:S269)-1)<>\"\",OFFSET([1]DE100_7!$S$261,ROWS($S$261:S269)-1,COLUMNS($S$261:S269)-1),\"\")","v":{"$error":"#VALUE!"}},{"$f":"IF(OFFSET([1]DE100_7!$T$261,ROWS($T$261:T269)-1,COLUMNS($T$261:T269)-1)<>\"\",OFFSET([1]DE100_7!$T$261,ROWS($T$261:T269)-1,COLUMNS($T$261:T269)-1),\"\")","v":{"$error":"#VALUE!"}},{"$f":"IF(OFFSET([1]DE100_7!$U$261,ROWS($U$261:U269)-1,COLUMNS($U$261:U269)-1)<>\"\",OFFSET([1]DE100_7!$U$261,ROWS($U$261:U269)-1,COLUMNS($U$261:U269)-1),\"\")","v":{"$error":"#VALUE!"}},{"$f":"IF(OFFSET([1]DE100_7!$V$261,ROWS($V$261:V269)-1,COLUMNS($V$261:V269)-1)<>\"\",OFFSET([1]DE100_7!$V$261,ROWS($V$261:V269)-1,COLUMNS($V$261:V269)-1),\"\")","v":{"$error":"#VALUE!"}}]
[{"$f":"IF(OFFSET([1]DE100_7!$C$261,ROWS($C$261:C270)-1,COLUMNS($C$261:C270)-1)<>\"\",OFFSET([1]DE100_7!$C$261,ROWS($C$261:C270)-1,COLUMNS($C$261:C270)-1),\"\")","v":{"$error":"#VALUE!"}},{"$f":"IF(OFFSET([1]DE100_7!$D$261,ROWS($D$261:D270)-1,COLUMNS($D$261:D270)-1)<>\"\",OFFSET([1]DE100_7!$D$261,ROWS($D$261:D270)-1,COLUMNS($D$261:D270)-1),\"\")","v":{"$error":"#VALUE!"}},{"$f":"IF(OFFSET([1]DE100_7!$E$261,ROWS($E$261:E270)-1,COLUMNS($E$261:E270)-1)<>\"\",OFFSET([1]DE100_7!$E$261,ROWS($E$261:E270)-1,COLUMNS($E$261:E270)-1),\"\")","v":{"$error":"#VALUE!"}},{"$f":"IF(OFFSET([1]DE100_7!$F$261,ROWS($F$261:F270)-1,COLUMNS($F$261:F270)-1)<>\"\",OFFSET([1]DE100_7!$F$261,ROWS($F$261:F270)-1,COLUMNS($F$261:F270)-1),\"\")","v":{"$error":"#VALUE!"}},{"$f":"IF(OFFSET([1]DE100_7!$G$261,ROWS($G$261:G270)-1,COLUMNS($G$261:G270)-1)<>\"\",OFFSET([1]DE100_7!$G$261,ROWS($G$261:G270)-1,COLUMNS($G$261:G270)-1),\"\")","v":{"$error":"#VALUE!"}},{"$f":"IF(OFFSET([1]DE100_7!$H$261,ROWS($H$261:H270)-1,COLUMNS($H$261:H270)-1)<>\"\",OFFSET([1]DE100_7!$H$261,ROWS($H$261:H270)-1,COLUMNS($H$261:H270)-1),\"\")","v":{"$error":"#VALUE!"}},{"$f":"IF(OFFSET([1]DE100_7!$I$261,ROWS($I$261:I270)-1,COLUMNS($I$261:I270)-1)<>\"\",OFFSET([1]DE100_7!$I$261,ROWS($I$261:I270)-1,COLUMNS($I$261:I270)-1),\"\")","v":{"$error":"#VALUE!"}},{"$f":"IF(OFFSET([1]DE100_7!$J$261,ROWS($J$261:J270)-1,COLUMNS($J$261:J270)-1)<>\"\",OFFSET([1]DE100_7!$J$261,ROWS($J$261:J270)-1,COLUMNS($J$261:J270)-1),\"\")","v":{"$error":"#VALUE!"}},{"$f":"IF(OFFSET([1]DE100_7!$K$261,ROWS($K$261:K270)-1,COLUMNS($K$261:K270)-1)<>\"\",OFFSET([1]DE100_7!$K$261,ROWS($K$261:K270)-1,COLUMNS($K$261:K270)-1),\"\")","v":{"$error":"#VALUE!"}},{"$f":"IF(OFFSET([1]DE100_7!$L$261,ROWS($L$261:L270)-1,COLUMNS($L$261:L270)-1)<>\"\",OFFSET([1]DE100_7!$L$261,ROWS($L$261:L270)-1,COLUMNS($L$261:L270)-1),\"\")","v":{"$error":"#VALUE!"}},{"$f":"IF(OFFSET([1]DE100_7!$M$261,ROWS($M$261:M270)-1,COLUMNS($M$261:M270)-1)<>\"\",OFFSET([1]DE100_7!$M$261,ROWS($M$261:M270)-1,COLUMNS($M$261:M270)-1),\"\")","v":{"$error":"#VALUE!"}},{"$f":"IF(OFFSET([1]DE100_7!$N$261,ROWS($N$261:N270)-1,COLUMNS($N$261:N270)-1)<>\"\",OFFSET([1]DE100_7!$N$261,ROWS($N$261:N270)-1,COLUMNS($N$261:N270)-1),\"\")","v":{"$error":"#VALUE!"}},{"$f":"IF(OFFSET([1]DE100_7!$O$261,ROWS($O$261:O270)-1,COLUMNS($O$261:O270)-1)<>\"\",OFFSET([1]DE100_7!$O$261,ROWS($O$261:O270)-1,COLUMNS($O$261:O270)-1),\"\")","v":{"$error":"#VALUE!"}},{"$f":"IF(OFFSET([1]DE100_7!$P$261,ROWS($P$261:P270)-1,COLUMNS($P$261:P270)-1)<>\"\",OFFSET([1]DE100_7!$P$261,ROWS($P$261:P270)-1,COLUMNS($P$261:P270)-1),\"\")","v":{"$error":"#VALUE!"}},{"$f":"IF(OFFSET([1]DE100_7!$Q$261,ROWS($Q$261:Q270)-1,COLUMNS($Q$261:Q270)-1)<>\"\",OFFSET([1]DE100_7!$Q$261,ROWS($Q$261:Q270)-1,COLUMNS($Q$261:Q270)-1),\"\")","v":{"$error":"#VALUE!"}},{"$f":"IF(OFFSET([1]DE100_7!$R$261,ROWS($R$261:R270)-1,COLUMNS($R$261:R270)-1)<>\"\",OFFSET([1]DE100_7!$R$261,ROWS($R$261:R270)-1,COLUMNS($R$261:R270)-1),\"\")","v":{"$error":"#VALUE!"}},{"$f":"IF(OFFSET([1]DE100_7!$S$261,ROWS($S$261:S270)-1,COLUMNS($S$261:S270)-1)<>\"\",OFFSET([1]DE100_7!$S$261,ROWS($S$261:S270)-1,COLUMNS($S$261:S270)-1),\"\")","v":{"$error":"#VALUE!"}},{"$f":"IF(OFFSET([1]DE100_7!$T$261,ROWS($T$261:T270)-1,COLUMNS($T$261:T270)-1)<>\"\",OFFSET([1]DE100_7!$T$261,ROWS($T$261:T270)-1,COLUMNS($T$261:T270)-1),\"\")","v":{"$error":"#VALUE!"}},{"$f":"IF(OFFSET([1]DE100_7!$U$261,ROWS($U$261:U270)-1,COLUMNS($U$261:U270)-1)<>\"\",OFFSET([1]DE100_7!$U$261,ROWS($U$261:U270)-1,COLUMNS($U$261:U270)-1),\"\")","v":{"$error":"#VALUE!"}},{"$f":"IF(OFFSET([1]DE100_7!$V$261,ROWS($V$261:V270)-1,COLUMNS($V$261:V270)-1)<>\"\",OFFSET([1]DE100_7!$V$261,ROWS($V$261:V270)-1,COLUMNS($V$261:V270)-1),\"\")","v":{"$error":"#VALUE!"}}]
[{"$f":"IF(OFFSET([1]DE100_7!$C$261,ROWS($C$261:C271)-1,COLUMNS($C$261:C271)-1)<>\"\",OFFSET([1]DE100_7!$C$261,ROWS($C$261:C271)-1,COLUMNS($C$261:C271)-1),\"\")","v":{"$error":"#VALUE!"}},{"$f":"IF(OFFSET([1]DE100_7!$D$261,ROWS($D$261:D271)-1,COLUMNS($D$261:D271)-1)<>\"\",OFFSET([1]DE100_7!$D$261,ROWS($D$261:D271)-1,COLUMNS($D$261:D271)-1),\"\")","v":{"$error":"#VALUE!"}},{"$f":"IF(OFFSET([1]DE100_7!$E$261,ROWS($E$261:E271)-1,COLUMNS($E$261:E271)-1)<>\"\",OFFSET([1]DE100_7!$E$261,ROWS($E$261:E271)-1,COLUMNS($E$261:E271)-1),\"\")","v":{"$error":"#VALUE!"}},{"$f":"IF(OFFSET([1]DE100_7!$F$261,ROWS($F$261:F271)-1,COLUMNS($F$261:F271)-1)<>\"\",OFFSET([1]DE100_7!$F$261,ROWS($F$261:F271)-1,COLUMNS($F$261:F271)-1),\"\")","v":{"$error":"#VALUE!"}},{"$f":"IF(OFFSET([1]DE100_7!$G$261,ROWS($G$261:G271)-1,COLUMNS($G$261:G271)-1)<>\"\",OFFSET([1]DE100_7!$G$261,ROWS($G$261:G271)-1,COLUMNS($G$261:G271)-1),\"\")","v":{"$error":"#VALUE!"}},{"$f":"IF(OFFSET([1]DE100_7!$H$261,ROWS($H$261:H271)-1,COLUMNS($H$261:H271)-1)<>\"\",OFFSET([1]DE100_7!$H$261,ROWS($H$261:H271)-1,COLUMNS($H$261:H271)-1),\"\")","v":{"$error":"#VALUE!"}},{"$f":"IF(OFFSET([1]DE100_7!$I$261,ROWS($I$261:I271)-1,COLUMNS($I$261:I271)-1)<>\"\",OFFSET([1]DE100_7!$I$261,ROWS($I$261:I271)-1,COLUMNS($I$261:I271)-1),\"\")","v":{"$error":"#VALUE!"}},{"$f":"IF(OFFSET([1]DE100_7!$J$261,ROWS($J$261:J271)-1,COLUMNS($J$261:J271)-1)<>\"\",OFFSET([1]DE100_7!$J$261,ROWS($J$261:J271)-1,COLUMNS($J$261:J271)-1),\"\")","v":{"$error":"#VALUE!"}},{"$f":"IF(OFFSET([1]DE100_7!$K$261,ROWS($K$261:K271)-1,COLUMNS($K$261:K271)-1)<>\"\",OFFSET([1]DE100_7!$K$261,ROWS($K$261:K271)-1,COLUMNS($K$261:K271)-1),\"\")","v":{"$error":"#VALUE!"}},{"$f":"IF(OFFSET([1]DE100_7!$L$261,ROWS($L$261:L271)-1,COLUMNS($L$261:L271)-1)<>\"\",OFFSET([1]DE100_7!$L$261,ROWS($L$261:L271)-1,COLUMNS($L$261:L271)-1),\"\")","v":{"$error":"#VALUE!"}},{"$f":"IF(OFFSET([1]DE100_7!$M$261,ROWS($M$261:M271)-1,COLUMNS($M$261:M271)-1)<>\"\",OFFSET([1]DE100_7!$M$261,ROWS($M$261:M271)-1,COLUMNS($M$261:M271)-1),\"\")","v":{"$error":"#VALUE!"}},{"$f":"IF(OFFSET([1]DE100_7!$N$261,ROWS($N$261:N271)-1,COLUMNS($N$261:N271)-1)<>\"\",OFFSET([1]DE100_7!$N$261,ROWS($N$261:N271)-1,COLUMNS($N$261:N271)-1),\"\")","v":{"$error":"#VALUE!"}},{"$f":"IF(OFFSET([1]DE100_7!$O$261,ROWS($O$261:O271)-1,COLUMNS($O$261:O271)-1)<>\"\",OFFSET([1]DE100_7!$O$261,ROWS($O$261:O271)-1,COLUMNS($O$261:O271)-1),\"\")","v":{"$error":"#VALUE!"}},{"$f":"IF(OFFSET([1]DE100_7!$P$261,ROWS($P$261:P271)-1,COLUMNS($P$261:P271)-1)<>\"\",OFFSET([1]DE100_7!$P$261,ROWS($P$261:P271)-1,COLUMNS($P$261:P271)-1),\"\")","v":{"$error":"#VALUE!"}},{"$f":"IF(OFFSET([1]DE100_7!$Q$261,ROWS($Q$261:Q271)-1,COLUMNS($Q$261:Q271)-1)<>\"\",OFFSET([1]DE100_7!$Q$261,ROWS($Q$261:Q271)-1,COLUMNS($Q$261:Q271)-1),\"\")","v":{"$error":"#VALUE!"}},{"$f":"IF(OFFSET([1]DE100_7!$R$261,ROWS($R$261:R271)-1,COLUMNS($R$261:R271)-1)<>\"\",OFFSET([1]DE100_7!$R$261,ROWS($R$261:R271)-1,COLUMNS($R$261:R271)-1),\"\")","v":{"$error":"#VALUE!"}},{"$f":"IF(OFFSET([1]DE100_7!$S$261,ROWS($S$261:S271)-1,COLUMNS($S$261:S271)-1)<>\"\",OFFSET([1]DE100_7!$S$261,ROWS($S$261:S271)-1,COLUMNS($S$261:S271)-1),\"\")","v":{"$error":"#VALUE!"}},{"$f":"IF(OFFSET([1]DE100_7!$T$261,ROWS($T$261:T271)-1,COLUMNS($T$261:T271)-1)<>\"\",OFFSET([1]DE100_7!$T$261,ROWS($T$261:T271)-1,COLUMNS($T$261:T271)-1),\"\")","v":{"$error":"#VALUE!"}},{"$f":"IF(OFFSET([1]DE100_7!$U$261,ROWS($U$261:U271)-1,COLUMNS($U$261:U271)-1)<>\"\",OFFSET([1]DE100_7!$U$261,ROWS($U$261:U271)-1,COLUMNS($U$261:U271)-1),\"\")","v":{"$error":"#VALUE!"}},{"$f":"IF(OFFSET([1]DE100_7!$V$261,ROWS($V$261:V271)-1,COLUMNS($V$261:V271)-1)<>\"\",OFFSET([1]DE100_7!$V$261,ROWS($V$261:V271)-1,COLUMNS($V$261:V271)-1),\"\")","v":{"$error":"#VALUE!"}}]
[{"$f":"IF(OFFSET([1]DE100_7!$C$261,ROWS($C$261:C272)-1,COLUMNS($C$261:C272)-1)<>\"\",OFFSET([1]DE100_7!$C$261,ROWS($C$261:C272)-1,COLUMNS($C$261:C272)-1),\"\")","v":{"$error":"#VALUE!"}},null,null,null,{"$f":"IF(OFFSET([1]DE100_7!$G$261,ROWS($G$261:G272)-1,COLUMNS($G$261:G272)-1)<>\"\",OFFSET([1]DE100_7!$G$261,ROWS($G$261:G272)-1,COLUMNS($G$261:G272)-1),\"\")","v":{"$error":"#VALUE!"}},{"$f":"IF(OFFSET([1]DE100_7!$H$261,ROWS($H$261:H272)-1,COLUMNS($H$261:H272)-1)<>\"\",OFFSET([1]DE100_7!$H$261,ROWS($H$261:H272)-1,COLUMNS($H$261:H272)-1),\"\")","v":{"$error":"#VALUE!"}},{"$f":"IF(OFFSET([1]DE100_7!$I$261,ROWS($I$261:I272)-1,COLUMNS($I$261:I272)-1)<>\"\",OFFSET([1]DE100_7!$I$261,ROWS($I$261:I272)-1,COLUMNS($I$261:I272)-1),\"\")","v":{"$error":"#VALUE!"}},{"$f":"IF(OFFSET([1]DE100_7!$J$261,ROWS($J$261:J272)-1,COLUMNS($J$261:J272)-1)<>\"\",OFFSET([1]DE100_7!$J$261,ROWS($J$261:J272)-1,COLUMNS($J$261:J272)-1),\"\")","v":{"$error":"#VALUE!"}},{"$f":"IF(OFFSET([1]DE100_7!$K$261,ROWS($K$261:K272)-1,COLUMNS($K$261:K272)-1)<>\"\",OFFSET([1]DE100_7!$K$261,ROWS($K$261:K272)-1,COLUMNS($K$261:K272)-1),\"\")","v":{"$error":"#VALUE!"}},{"$f":"IF(OFFSET([1]DE100_7!$L$261,ROWS($L$261:L272)-1,COLUMNS($L$261:L272)-1)<>\"\",OFFSET([1]DE100_7!$L$261,ROWS($L$261:L272)-1,COLUMNS($L$261:L272)-1),\"\")","v":{"$error":"#VALUE!"}},{"$f":"IF(OFFSET([1]DE100_7!$M$261,ROWS($M$261:M272)-1,COLUMNS($M$261:M272)-1)<>\"\",OFFSET([1]DE100_7!$M$261,ROWS($M$261:M272)-1,COLUMNS($M$261:M272)-1),\"\")","v":{"$error":"#VALUE!"}},{"$f":"IF(OFFSET([1]DE100_7!$N$261,ROWS($N$261:N272)-1,COLUMNS($N$261:N272)-1)<>\"\",OFFSET([1]DE100_7!$N$261,ROWS($N$261:N272)-1,COLUMNS($N$261:N272)-1),\"\")","v":{"$error":"#VALUE!"}},{"$f":"IF(OFFSET([1]DE100_7!$O$261,ROWS($O$261:O272)-1,COLUMNS($O$261:O272)-1)<>\"\",OFFSET([1]DE100_7!$O$261,ROWS($O$261:O272)-1,COLUMNS($O$261:O272)-1),\"\")","v":{"$error":"#VALUE!"}},{"$f":"IF(OFFSET([1]DE100_7!$P$261,ROWS($P$261:P272)-1,COLUMNS($P$261:P272)-1)<>\"\",OFFSET([1]DE100_7!$P$261,ROWS($P$261:P272)-1,COLUMNS($P$261:P272)-1),\"\")","v":{"$error":"#VALUE!"}},{"$f":"IF(OFFSET([1]DE100_7!$Q$261,ROWS($Q$261:Q272)-1,COLUMNS($Q$261:Q272)-1)<>\"\",OFFSET([1]DE100_7!$Q$261,ROWS($Q$261:Q272)-1,COLUMNS($Q$261:Q272)-1),\"\")","v":{"$error":"#VALUE!"}},{"$f":"IF(OFFSET([1]DE100_7!$R$261,ROWS($R$261:R272)-1,COLUMNS($R$261:R272)-1)<>\"\",OFFSET([1]DE100_7!$R$261,ROWS($R$261:R272)-1,COLUMNS($R$261:R272)-1),\"\")","v":{"$error":"#VALUE!"}},{"$f":"IF(OFFSET([1]DE100_7!$S$261,ROWS($S$261:S272)-1,COLUMNS($S$261:S272)-1)<>\"\",OFFSET([1]DE100_7!$S$261,ROWS($S$261:S272)-1,COLUMNS($S$261:S272)-1),\"\")","v":{"$error":"#VALUE!"}},{"$f":"IF(OFFSET([1]DE100_7!$T$261,ROWS($T$261:T272)-1,COLUMNS($T$261:T272)-1)<>\"\",OFFSET([1]DE100_7!$T$261,ROWS($T$261:T272)-1,COLUMNS($T$261:T272)-1),\"\")","v":{"$error":"#VALUE!"}},{"$f":"IF(OFFSET([1]DE100_7!$U$261,ROWS($U$261:U272)-1,COLUMNS($U$261:U272)-1)<>\"\",OFFSET([1]DE100_7!$U$261,ROWS($U$261:U272)-1,COLUMNS($U$261:U272)-1),\"\")","v":{"$error":"#VALUE!"}},{"$f":"IF(OFFSET([1]DE100_7!$V$261,ROWS($V$261:V272)-1,COLUMNS($V$261:V272)-1)<>\"\",OFFSET([1]DE100_7!$V$261,ROWS($V$261:V272)-1,COLUMNS($V$261:V272)-1),\"\")","v":{"$error":"#VALUE!"}}]
[{"$f":"IF(OFFSET([1]DE100_7!$C$261,ROWS($C$261:C273)-1,COLUMNS($C$261:C273)-1)<>\"\",OFFSET([1]DE100_7!$C$261,ROWS($C$261:C273)-1,COLUMNS($C$261:C273)-1),\"\")","v":{"$error":"#VALUE!"}},{"$f":"IF(OFFSET([1]DE100_7!$D$261,ROWS($D$261:D273)-1,COLUMNS($D$261:D273)-1)<>\"\",OFFSET([1]DE100_7!$D$261,ROWS($D$261:D273)-1,COLUMNS($D$261:D273)-1),\"\")","v":{"$error":"#VALUE!"}},{"$f":"IF(OFFSET([1]DE100_7!$E$261,ROWS($E$261:E273)-1,COLUMNS($E$261:E273)-1)<>\"\",OFFSET([1]DE100_7!$E$261,ROWS($E$261:E273)-1,COLUMNS($E$261:E273)-1),\"\")","v":{"$error":"#VALUE!"}},{"$f":"IF(OFFSET([1]DE100_7!$F$261,ROWS($F$261:F273)-1,COLUMNS($F$261:F273)-1)<>\"\",OFFSET([1]DE100_7!$F$261,ROWS($F$261:F273)-1,COLUMNS($F$261:F273)-1),\"\")","v":{"$error":"#VALUE!"}},{"$f":"IF(OFFSET([1]DE100_7!$G$261,ROWS($G$261:G273)-1,COLUMNS($G$261:G273)-1)<>\"\",OFFSET([1]DE100_7!$G$261,ROWS($G$261:G273)-1,COLUMNS($G$261:G273)-1),\"\")","v":{"$error":"#VALUE!"}},{"$f":"IF(OFFSET([1]DE100_7!$H$261,ROWS($H$261:H273)-1,COLUMNS($H$261:H273)-1)<>\"\",OFFSET([1]DE100_7!$H$261,ROWS($H$261:H273)-1,COLUMNS($H$261:H273)-1),\"\")","v":{"$error":"#VALUE!"}},{"$f":"IF(OFFSET([1]DE100_7!$I$261,ROWS($I$261:I273)-1,COLUMNS($I$261:I273)-1)<>\"\",OFFSET([1]DE100_7!$I$261,ROWS($I$261:I273)-1,COLUMNS($I$261:I273)-1),\"\")","v":{"$error":"#VALUE!"}},{"$f":"IF(OFFSET([1]DE100_7!$J$261,ROWS($J$261:J273)-1,COLUMNS($J$261:J273)-1)<>\"\",OFFSET([1]DE100_7!$J$261,ROWS($J$261:J273)-1,COLUMNS($J$261:J273)-1),\"\")","v":{"$error":"#VALUE!"}},{"$f":"IF(OFFSET([1]DE100_7!$K$261,ROWS($K$261:K273)-1,COLUMNS($K$261:K273)-1)<>\"\",OFFSET([1]DE100_7!$K$261,ROWS($K$261:K273)-1,COLUMNS($K$261:K273)-1),\"\")","v":{"$error":"#VALUE!"}},{"$f":"IF(OFFSET([1]DE100_7!$L$261,ROWS($L$261:L273)-1,COLUMNS($L$261:L273)-1)<>\"\",OFFSET([1]DE100_7!$L$261,ROWS($L$261:L273)-1,COLUMNS($L$261:L273)-1),\"\")","v":{"$error":"#VALUE!"}},{"$f":"IF(OFFSET([1]DE100_7!$M$261,ROWS($M$261:M273)-1,COLUMNS($M$261:M273)-1)<>\"\",OFFSET([1]DE100_7!$M$261,ROWS($M$261:M273)-1,COLUMNS($M$261:M273)-1),\"\")","v":{"$error":"#VALUE!"}},{"$f":"IF(OFFSET([1]DE100_7!$N$261,ROWS($N$261:N273)-1,COLUMNS($N$261:N273)-1)<>\"\",OFFSET([1]DE100_7!$N$261,ROWS($N$261:N273)-1,COLUMNS($N$261:N273)-1),\"\")","v":{"$error":"#VALUE!"}},{"$f":"IF(OFFSET([1]DE100_7!$O$261,ROWS($O$261:O273)-1,COLUMNS($O$261:O273)-1)<>\"\",OFFSET([1]DE100_7!$O$261,ROWS($O$261:O273)-1,COLUMNS($O$261:O273)-1),\"\")","v":{"$error":"#VALUE!"}},{"$f":"IF(OFFSET([1]DE100_7!$P$261,ROWS($P$261:P273)-1,COLUMNS($P$261:P273)-1)<>\"\",OFFSET([1]DE100_7!$P$261,ROWS($P$261:P273)-1,COLUMNS($P$261:P273)-1),\"\")","v":{"$error":"#VALUE!"}},{"$f":"IF(OFFSET([1]DE100_7!$Q$261,ROWS($Q$261:Q273)-1,COLUMNS($Q$261:Q273)-1)<>\"\",OFFSET([1]DE100_7!$Q$261,ROWS($Q$261:Q273)-1,COLUMNS($Q$261:Q273)-1),\"\")","v":{"$error":"#VALUE!"}},{"$f":"IF(OFFSET([1]DE100_7!$R$261,ROWS($R$261:R273)-1,COLUMNS($R$261:R273)-1)<>\"\",OFFSET([1]DE100_7!$R$261,ROWS($R$261:R273)-1,COLUMNS($R$261:R273)-1),\"\")","v":{"$error":"#VALUE!"}},{"$f":"IF(OFFSET([1]DE100_7!$S$261,ROWS($S$261:S273)-1,COLUMNS($S$261:S273)-1)<>\"\",OFFSET([1]DE100_7!$S$261,ROWS($S$261:S273)-1,COLUMNS($S$261:S273)-1),\"\")","v":{"$error":"#VALUE!"}},{"$f":"IF(OFFSET([1]DE100_7!$T$261,ROWS($T$261:T273)-1,COLUMNS($T$261:T273)-1)<>\"\",OFFSET([1]DE100_7!$T$261,ROWS($T$261:T273)-1,COLUMNS($T$261:T273)-1),\"\")","v":{"$error":"#VALUE!"}},{"$f":"IF(OFFSET([1]DE100_7!$U$261,ROWS($U$261:U273)-1,COLUMNS($U$261:U273)-1)<>\"\",OFFSET([1]DE100_7!$U$261,ROWS($U$261:U273)-1,COLUMNS($U$261:U273)-1),\"\")","v":{"$error":"#VALUE!"}},{"$f":"IF(OFFSET([1]DE100_7!$V$261,ROWS($V$261:V273)-1,COLUMNS($V$261:V273)-1)<>\"\",OFFSET([1]DE100_7!$V$261,ROWS($V$261:V273)-1,COLUMNS($V$261:V273)-1),\"\")","v":{"$error":"#VALUE!"}}]
[{"$f":"IF(OFFSET([1]DE100_7!$C$261,ROWS($C$261:C274)-1,COLUMNS($C$261:C274)-1)<>\"\",OFFSET([1]DE100_7!$C$261,ROWS($C$261:C274)-1,COLUMNS($C$261:C274)-1),\"\")","v":{"$error":"#VALUE!"}},{"$f":"IF(OFFSET([1]DE100_7!$D$261,ROWS($D$261:D274)-1,COLUMNS($D$261:D274)-1)<>\"\",OFFSET([1]DE100_7!$D$261,ROWS($D$261:D274)-1,COLUMNS($D$261:D274)-1),\"\")","v":{"$error":"#VALUE!"}},{"$f":"IF(OFFSET([1]DE100_7!$E$261,ROWS($E$261:E274)-1,COLUMNS($E$261:E274)-1)<>\"\",OFFSET([1]DE100_7!$E$261,ROWS($E$261:E274)-1,COLUMNS($E$261:E274)-1),\"\")","v":{"$error":"#VALUE!"}},{"$f":"IF(OFFSET([1]DE100_7!$F$261,ROWS($F$261:F274)-1,COLUMNS($F$261:F274)-1)<>\"\",OFFSET([1]DE100_7!$F$261,ROWS($F$261:F274)-1,COLUMNS($F$261:F274)-1),\"\")","v":{"$error":"#VALUE!"}},{"$f":"IF(OFFSET([1]DE100_7!$G$261,ROWS($G$261:G274)-1,COLUMNS($G$261:G274)-1)<>\"\",OFFSET([1]DE100_7!$G$261,ROWS($G$261:G274)-1,COLUMNS($G$261:G274)-1),\"\")","v":{"$error":"#VALUE!"}},{"$f":"IF(OFFSET([1]DE100_7!$H$261,ROWS($H$261:H274)-1,COLUMNS($H$261:H274)-1)<>\"\",OFFSET([1]DE100_7!$H$261,ROWS($H$261:H274)-1,COLUMNS($H$261:H274)-1),\"\")","v":{"$error":"#VALUE!"}},{"$f":"IF(OFFSET([1]DE100_7!$I$261,ROWS($I$261:I274)-1,COLUMNS($I$261:I274)-1)<>\"\",OFFSET([1]DE100_7!$I$261,ROWS($I$261:I274)-1,COLUMNS($I$261:I274)-1),\"\")","v":{"$error":"#VALUE!"}},{"$f":"IF(OFFSET([1]DE100_7!$J$261,ROWS($J$261:J274)-1,COLUMNS($J$261:J274)-1)<>\"\",OFFSET([1]DE100_7!$J$261,ROWS($J$261:J274)-1,COLUMNS($J$261:J274)-1),\"\")","v":{"$error":"#VALUE!"}},{"$f":"IF(OFFSET([1]DE100_7!$K$261,ROWS($K$261:K274)-1,COLUMNS($K$261:K274)-1)<>\"\",OFFSET([1]DE100_7!$K$261,ROWS($K$261:K274)-1,COLUMNS($K$261:K274)-1),\"\")","v":{"$error":"#VALUE!"}},{"$f":"IF(OFFSET([1]DE100_7!$L$261,ROWS($L$261:L274)-1,COLUMNS($L$261:L274)-1)<>\"\",OFFSET([1]DE100_7!$L$261,ROWS($L$261:L274)-1,COLUMNS($L$261:L274)-1),\"\")","v":{"$error":"#VALUE!"}},{"$f":"IF(OFFSET([1]DE100_7!$M$261,ROWS($M$261:M274)-1,COLUMNS($M$261:M274)-1)<>\"\",OFFSET([1]DE100_7!$M$261,ROWS($M$261:M274)-1,COLUMNS($M$261:M274)-1),\"\")","v":{"$error":"#VALUE!"}},{"$f":"IF(OFFSET([1]DE100_7!$N$261,ROWS($N$261:N274)-1,COLUMNS($N$261:N274)-1)<>\"\",OFFSET([1]DE100_7!$N$261,ROWS($N$261:N274)-1,COLUMNS($N$261:N274)-1),\"\")","v":{"$error":"#VALUE!"}},{"$f":"IF(OFFSET([1]DE100_7!$O$261,ROWS($O$261:O274)-1,COLUMNS($O$261:O274)-1)<>\"\",OFFSET([1]DE100_7!$O$261,ROWS($O$261:O274)-1,COLUMNS($O$261:O274)-1),\"\")","v":{"$error":"#VALUE!"}},{"$f":"IF(OFFSET([1]DE100_7!$P$261,ROWS($P$261:P274)-1,COLUMNS($P$261:P274)-1)<>\"\",OFFSET([1]DE100_7!$P$261,ROWS($P$261:P274)-1,COLUMNS($P$261:P274)-1),\"\")","v":{"$error":"#VALUE!"}},{"$f":"IF(OFFSET([1]DE100_7!$Q$261,ROWS($Q$261:Q274)-1,COLUMNS($Q$261:Q274)-1)<>\"\",OFFSET([1]DE100_7!$Q$261,ROWS($Q$261:Q274)-1,COLUMNS($Q$261:Q274)-1),\"\")","v":{"$error":"#VALUE!"}},{"$f":"IF(OFFSET([1]DE100_7!$R$261,ROWS($R$261:R274)-1,COLUMNS($R$261:R274)-1)<>\"\",OFFSET([1]DE100_7!$R$261,ROWS($R$261:R274)-1,COLUMNS($R$261:R274)-1),\"\")","v":{"$error":"#VALUE!"}},{"$f":"IF(OFFSET([1]DE100_7!$S$261,ROWS($S$261:S274)-1,COLUMNS($S$261:S274)-1)<>\"\",OFFSET([1]DE100_7!$S$261,ROWS($S$261:S274)-1,COLUMNS($S$261:S274)-1),\"\")","v":{"$error":"#VALUE!"}},{"$f":"IF(OFFSET([1]DE100_7!$T$261,ROWS($T$261:T274)-1,COLUMNS($T$261:T274)-1)<>\"\",OFFSET([1]DE100_7!$T$261,ROWS($T$261:T274)-1,COLUMNS($T$261:T274)-1),\"\")","v":{"$error":"#VALUE!"}},{"$f":"IF(OFFSET([1]DE100_7!$U$261,ROWS($U$261:U274)-1,COLUMNS($U$261:U274)-1)<>\"\",OFFSET([1]DE100_7!$U$261,ROWS($U$261:U274)-1,COLUMNS($U$261:U274)-1),\"\")","v":{"$error":"#VALUE!"}},{"$f":"IF(OFFSET([1]DE100_7!$V$261,ROWS($V$261:V274)-1,COLUMNS($V$261:V274)-1)<>\"\",OFFSET([1]DE100_7!$V$261,ROWS($V$261:V274)-1,COLUMNS($V$261:V274)-1),\"\")","v":{"$error":"#VALUE!"}}]
[{"$f":"IF(OFFSET([1]DE100_7!$C$261,ROWS($C$261:C275)-1,COLUMNS($C$261:C275)-1)<>\"\",OFFSET([1]DE100_7!$C$261,ROWS($C$261:C275)-1,COLUMNS($C$261:C275)-1),\"\")","v":{"$error":"#VALUE!"}},{"$f":"IF(OFFSET([1]DE100_7!$D$261,ROWS($D$261:D275)-1,COLUMNS($D$261:D275)-1)<>\"\",OFFSET([1]DE100_7!$D$261,ROWS($D$261:D275)-1,COLUMNS($D$261:D275)-1),\"\")","v":{"$error":"#VALUE!"}},{"$f":"IF(OFFSET([1]DE100_7!$E$261,ROWS($E$261:E275)-1,COLUMNS($E$261:E275)-1)<>\"\",OFFSET([1]DE100_7!$E$261,ROWS($E$261:E275)-1,COLUMNS($E$261:E275)-1),\"\")","v":{"$error":"#VALUE!"}},{"$f":"IF(OFFSET([1]DE100_7!$F$261,ROWS($F$261:F275)-1,COLUMNS($F$261:F275)-1)<>\"\",OFFSET([1]DE100_7!$F$261,ROWS($F$261:F275)-1,COLUMNS($F$261:F275)-1),\"\")","v":{"$error":"#VALUE!"}},{"$f":"IF(OFFSET([1]DE100_7!$G$261,ROWS($G$261:G275)-1,COLUMNS($G$261:G275)-1)<>\"\",OFFSET([1]DE100_7!$G$261,ROWS($G$261:G275)-1,COLUMNS($G$261:G275)-1),\"\")","v":{"$error":"#VALUE!"}},{"$f":"IF(OFFSET([1]DE100_7!$H$261,ROWS($H$261:H275)-1,COLUMNS($H$261:H275)-1)<>\"\",OFFSET([1]DE100_7!$H$261,ROWS($H$261:H275)-1,COLUMNS($H$261:H275)-1),\"\")","v":{"$error":"#VALUE!"}},{"$f":"IF(OFFSET([1]DE100_7!$I$261,ROWS($I$261:I275)-1,COLUMNS($I$261:I275)-1)<>\"\",OFFSET([1]DE100_7!$I$261,ROWS($I$261:I275)-1,COLUMNS($I$261:I275)-1),\"\")","v":{"$error":"#VALUE!"}},{"$f":"IF(OFFSET([1]DE100_7!$J$261,ROWS($J$261:J275)-1,COLUMNS($J$261:J275)-1)<>\"\",OFFSET([1]DE100_7!$J$261,ROWS($J$261:J275)-1,COLUMNS($J$261:J275)-1),\"\")","v":{"$error":"#VALUE!"}},{"$f":"IF(OFFSET([1]DE100_7!$K$261,ROWS($K$261:K275)-1,COLUMNS($K$261:K275)-1)<>\"\",OFFSET([1]DE100_7!$K$261,ROWS($K$261:K275)-1,COLUMNS($K$261:K275)-1),\"\")","v":{"$error":"#VALUE!"}},{"$f":"IF(OFFSET([1]DE100_7!$L$261,ROWS($L$261:L275)-1,COLUMNS($L$261:L275)-1)<>\"\",OFFSET([1]DE100_7!$L$261,ROWS($L$261:L275)-1,COLUMNS($L$261:L275)-1),\"\")","v":{"$error":"#VALUE!"}},{"$f":"IF(OFFSET([1]DE100_7!$M$261,ROWS($M$261:M275)-1,COLUMNS($M$261:M275)-1)<>\"\",OFFSET([1]DE100_7!$M$261,ROWS($M$261:M275)-1,COLUMNS($M$261:M275)-1),\"\")","v":{"$error":"#VALUE!"}},{"$f":"IF(OFFSET([1]DE100_7!$N$261,ROWS($N$261:N275)-1,COLUMNS($N$261:N275)-1)<>\"\",OFFSET([1]DE100_7!$N$261,ROWS($N$261:N275)-1,COLUMNS($N$261:N275)-1),\"\")","v":{"$error":"#VALUE!"}},{"$f":"IF(OFFSET([1]DE100_7!$O$261,ROWS($O$261:O275)-1,COLUMNS($O$261:O275)-1)<>\"\",OFFSET([1]DE100_7!$O$261,ROWS($O$261:O275)-1,COLUMNS($O$261:O275)-1),\"\")","v":{"$error":"#VALUE!"}},{"$f":"IF(OFFSET([1]DE100_7!$P$261,ROWS($P$261:P275)-1,COLUMNS($P$261:P275)-1)<>\"\",OFFSET([1]DE100_7!$P$261,ROWS($P$261:P275)-1,COLUMNS($P$261:P275)-1),\"\")","v":{"$error":"#VALUE!"}},{"$f":"IF(OFFSET([1]DE100_7!$Q$261,ROWS($Q$261:Q275)-1,COLUMNS($Q$261:Q275)-1)<>\"\",OFFSET([1]DE100_7!$Q$261,ROWS($Q$261:Q275)-1,COLUMNS($Q$261:Q275)-1),\"\")","v":{"$error":"#VALUE!"}},{"$f":"IF(OFFSET([1]DE100_7!$R$261,ROWS($R$261:R275)-1,COLUMNS($R$261:R275)-1)<>\"\",OFFSET([1]DE100_7!$R$261,ROWS($R$261:R275)-1,COLUMNS($R$261:R275)-1),\"\")","v":{"$error":"#VALUE!"}},{"$f":"IF(OFFSET([1]DE100_7!$S$261,ROWS($S$261:S275)-1,COLUMNS($S$261:S275)-1)<>\"\",OFFSET([1]DE100_7!$S$261,ROWS($S$261:S275)-1,COLUMNS($S$261:S275)-1),\"\")","v":{"$error":"#VALUE!"}},{"$f":"IF(OFFSET([1]DE100_7!$T$261,ROWS($T$261:T275)-1,COLUMNS($T$261:T275)-1)<>\"\",OFFSET([1]DE100_7!$T$261,ROWS($T$261:T275)-1,COLUMNS($T$261:T275)-1),\"\")","v":{"$error":"#VALUE!"}},{"$f":"IF(OFFSET([1]DE100_7!$U$261,ROWS($U$261:U275)-1,COLUMNS($U$261:U275)-1)<>\"\",OFFSET([1]DE100_7!$U$261,ROWS($U$261:U275)-1,COLUMNS($U$261:U275)-1),\"\")","v":{"$error":"#VALUE!"}},{"$f":"IF(OFFSET([1]DE100_7!$V$261,ROWS($V$261:V275)-1,COLUMNS($V$261:V275)-1)<>\"\",OFFSET([1]DE100_7!$V$261,ROWS($V$261:V275)-1,COLUMNS($V$261:V275)-1),\"\")","v":{"$error":"#VALUE!"}}]
[{"$f":"IF(OFFSET([1]DE100_7!$C$261,ROWS($C$261:C276)-1,COLUMNS($C$261:C276)-1)<>\"\",OFFSET([1]DE100_7!$C$261,ROWS($C$261:C276)-1,COLUMNS($C$261:C276)-1),\"\")","v":{"$error":"#VALUE!"}},{"$f":"IF(OFFSET([1]DE100_7!$D$261,ROWS($D$261:D276)-1,COLUMNS($D$261:D276)-1)<>\"\",OFFSET([1]DE100_7!$D$261,ROWS($D$261:D276)-1,COLUMNS($D$261:D276)-1),\"\")","v":{"$error":"#VALUE!"}},{"$f":"IF(OFFSET([1]DE100_7!$E$261,ROWS($E$261:E276)-1,COLUMNS($E$261:E276)-1)<>\"\",OFFSET([1]DE100_7!$E$261,ROWS($E$261:E276)-1,COLUMNS($E$261:E276)-1),\"\")","v":{"$error":"#VALUE!"}},{"$f":"IF(OFFSET([1]DE100_7!$F$261,ROWS($F$261:F276)-1,COLUMNS($F$261:F276)-1)<>\"\",OFFSET([1]DE100_7!$F$261,ROWS($F$261:F276)-1,COLUMNS($F$261:F276)-1),\"\")","v":{"$error":"#VALUE!"}},{"$f":"IF(OFFSET([1]DE100_7!$G$261,ROWS($G$261:G276)-1,COLUMNS($G$261:G276)-1)<>\"\",OFFSET([1]DE100_7!$G$261,ROWS($G$261:G276)-1,COLUMNS($G$261:G276)-1),\"\")","v":{"$error":"#VALUE!"}},{"$f":"IF(OFFSET([1]DE100_7!$H$261,ROWS($H$261:H276)-1,COLUMNS($H$261:H276)-1)<>\"\",OFFSET([1]DE100_7!$H$261,ROWS($H$261:H276)-1,COLUMNS($H$261:H276)-1),\"\")","v":{"$error":"#VALUE!"}},{"$f":"IF(OFFSET([1]DE100_7!$I$261,ROWS($I$261:I276)-1,COLUMNS($I$261:I276)-1)<>\"\",OFFSET([1]DE100_7!$I$261,ROWS($I$261:I276)-1,COLUMNS($I$261:I276)-1),\"\")","v":{"$error":"#VALUE!"}},{"$f":"IF(OFFSET([1]DE100_7!$J$261,ROWS($J$261:J276)-1,COLUMNS($J$261:J276)-1)<>\"\",OFFSET([1]DE100_7!$J$261,ROWS($J$261:J276)-1,COLUMNS($J$261:J276)-1),\"\")","v":{"$error":"#VALUE!"}},{"$f":"IF(OFFSET([1]DE100_7!$K$261,ROWS($K$261:K276)-1,COLUMNS($K$261:K276)-1)<>\"\",OFFSET([1]DE100_7!$K$261,ROWS($K$261:K276)-1,COLUMNS($K$261:K276)-1),\"\")","v":{"$error":"#VALUE!"}},{"$f":"IF(OFFSET([1]DE100_7!$L$261,ROWS($L$261:L276)-1,COLUMNS($L$261:L276)-1)<>\"\",OFFSET([1]DE100_7!$L$261,ROWS($L$261:L276)-1,COLUMNS($L$261:L276)-1),\"\")","v":{"$error":"#VALUE!"}},{"$f":"IF(OFFSET([1]DE100_7!$M$261,ROWS($M$261:M276)-1,COLUMNS($M$261:M276)-1)<>\"\",OFFSET([1]DE100_7!$M$261,ROWS($M$261:M276)-1,COLUMNS($M$261:M276)-1),\"\")","v":{"$error":"#VALUE!"}},{"$f":"IF(OFFSET([1]DE100_7!$N$261,ROWS($N$261:N276)-1,COLUMNS($N$261:N276)-1)<>\"\",OFFSET([1]DE100_7!$N$261,ROWS($N$261:N276)-1,COLUMNS($N$261:N276)-1),\"\")","v":{"$error":"#VALUE!"}},{"$f":"IF(OFFSET([1]DE100_7!$O$261,ROWS($O$261:O276)-1,COLUMNS($O$261:O276)-1)<>\"\",OFFSET([1]DE100_7!$O$261,ROWS($O$261:O276)-1,COLUMNS($O$261:O276)-1),\"\")","v":{"$error":"#VALUE!"}},{"$f":"IF(OFFSET([1]DE100_7!$P$261,ROWS($P$261:P276)-1,COLUMNS($P$261:P276)-1)<>\"\",OFFSET([1]DE100_7!$P$261,ROWS($P$261:P276)-1,COLUMNS($P$261:P276)-1),\"\")","v":{"$error":"#VALUE!"}},{"$f":"IF(OFFSET([1]DE100_7!$Q$261,ROWS($Q$261:Q276)-1,COLUMNS($Q$261:Q276)-1)<>\"\",OFFSET([1]DE100_7!$Q$261,ROWS($Q$261:Q276)-1,COLUMNS($Q$261:Q276)-1),\"\")","v":{"$error":"#VALUE!"}},{"$f":"IF(OFFSET([1]DE100_7!$R$261,ROWS($R$261:R276)-1,COLUMNS($R$261:R276)-1)<>\"\",OFFSET([1]DE100_7!$R$261,ROWS($R$261:R276)-1,COLUMNS($R$261:R276)-1),\"\")","v":{"$error":"#VALUE!"}},{"$f":"IF(OFFSET([1]DE100_7!$S$261,ROWS($S$261:S276)-1,COLUMNS($S$261:S276)-1)<>\"\",OFFSET([1]DE100_7!$S$261,ROWS($S$261:S276)-1,COLUMNS($S$261:S276)-1),\"\")","v":{"$error":"#VALUE!"}},{"$f":"IF(OFFSET([1]DE100_7!$T$261,ROWS($T$261:T276)-1,COLUMNS($T$261:T276)-1)<>\"\",OFFSET([1]DE100_7!$T$261,ROWS($T$261:T276)-1,COLUMNS($T$261:T276)-1),\"\")","v":{"$error":"#VALUE!"}},{"$f":"IF(OFFSET([1]DE100_7!$U$261,ROWS($U$261:U276)-1,COLUMNS($U$261:U276)-1)<>\"\",OFFSET([1]DE100_7!$U$261,ROWS($U$261:U276)-1,COLUMNS($U$261:U276)-1),\"\")","v":{"$error":"#VALUE!"}},{"$f":"IF(OFFSET([1]DE100_7!$V$261,ROWS($V$261:V276)-1,COLUMNS($V$261:V276)-1)<>\"\",OFFSET([1]DE100_7!$V$261,ROWS($V$261:V276)-1,COLUMNS($V$261:V276)-1),\"\")","v":{"$error":"#VALUE!"}}]
[{"$f":"IF(OFFSET([1]DE100_7!$C$261,ROWS($C$261:C277)-1,COLUMNS($C$261:C277)-1)<>\"\",OFFSET([1]DE100_7!$C$261,ROWS($C$261:C277)-1,COLUMNS($C$261:C277)-1),\"\")","v":{"$error":"#VALUE!"}},{"$f":"IF(OFFSET([1]DE100_7!$D$261,ROWS($D$261:D277)-1,COLUMNS($D$261:D277)-1)<>\"\",OFFSET([1]DE100_7!$D$261,ROWS($D$261:D277)-1,COLUMNS($D$261:D277)-1),\"\")","v":{"$error":"#VALUE!"}},{"$f":"IF(OFFSET([1]DE100_7!$E$261,ROWS($E$261:E277)-1,COLUMNS($E$261:E277)-1)<>\"\",OFFSET([1]DE100_7!$E$261,ROWS($E$261:E277)-1,COLUMNS($E$261:E277)-1),\"\")","v":{"$error":"#VALUE!"}},{"$f":"IF(OFFSET([1]DE100_7!$F$261,ROWS($F$261:F277)-1,COLUMNS($F$261:F277)-1)<>\"\",OFFSET([1]DE100_7!$F$261,ROWS($F$261:F277)-1,COLUMNS($F$261:F277)-1),\"\")","v":{"$error":"#VALUE!"}},{"$f":"IF(OFFSET([1]DE100_7!$G$261,ROWS($G$261:G277)-1,COLUMNS($G$261:G277)-1)<>\"\",OFFSET([1]DE100_7!$G$261,ROWS($G$261:G277)-1,COLUMNS($G$261:G277)-1),\"\")","v":{"$error":"#VALUE!"}},{"$f":"IF(OFFSET([1]DE100_7!$H$261,ROWS($H$261:H277)-1,COLUMNS($H$261:H277)-1)<>\"\",OFFSET([1]DE100_7!$H$261,ROWS($H$261:H277)-1,COLUMNS($H$261:H277)-1),\"\")","v":{"$error":"#VALUE!"}},{"$f":"IF(OFFSET([1]DE100_7!$I$261,ROWS($I$261:I277)-1,COLUMNS($I$261:I277)-1)<>\"\",OFFSET([1]DE100_7!$I$261,ROWS($I$261:I277)-1,COLUMNS($I$261:I277)-1),\"\")","v":{"$error":"#VALUE!"}},{"$f":"IF(OFFSET([1]DE100_7!$J$261,ROWS($J$261:J277)-1,COLUMNS($J$261:J277)-1)<>\"\",OFFSET([1]DE100_7!$J$261,ROWS($J$261:J277)-1,COLUMNS($J$261:J277)-1),\"\")","v":{"$error":"#VALUE!"}},{"$f":"IF(OFFSET([1]DE100_7!$K$261,ROWS($K$261:K277)-1,COLUMNS($K$261:K277)-1)<>\"\",OFFSET([1]DE100_7!$K$261,ROWS($K$261:K277)-1,COLUMNS($K$261:K277)-1),\"\")","v":{"$error":"#VALUE!"}},{"$f":"IF(OFFSET([1]DE100_7!$L$261,ROWS($L$261:L277)-1,COLUMNS($L$261:L277)-1)<>\"\",OFFSET([1]DE100_7!$L$261,ROWS($L$261:L277)-1,COLUMNS($L$261:L277)-1),\"\")","v":{"$error":"#VALUE!"}},{"$f":"IF(OFFSET([1]DE100_7!$M$261,ROWS($M$261:M277)-1,COLUMNS($M$261:M277)-1)<>\"\",OFFSET([1]DE100_7!$M$261,ROWS($M$261:M277)-1,COLUMNS($M$261:M277)-1),\"\")","v":{"$error":"#VALUE!"}},{"$f":"IF(OFFSET([1]DE100_7!$N$261,ROWS($N$261:N277)-1,COLUMNS($N$261:N277)-1)<>\"\",OFFSET([1]DE100_7!$N$261,ROWS($N$261:N277)-1,COLUMNS($N$261:N277)-1),\"\")","v":{"$error":"#VALUE!"}},{"$f":"IF(OFFSET([1]DE100_7!$O$261,ROWS($O$261:O277)-1,COLUMNS($O$261:O277)-1)<>\"\",OFFSET([1]DE100_7!$O$261,ROWS($O$261:O277)-1,COLUMNS($O$261:O277)-1),\"\")","v":{"$error":"#VALUE!"}},{"$f":"IF(OFFSET([1]DE100_7!$P$261,ROWS($P$261:P277)-1,COLUMNS($P$261:P277)-1)<>\"\",OFFSET([1]DE100_7!$P$261,ROWS($P$261:P277)-1,COLUMNS($P$261:P277)-1),\"\")","v":{"$error":"#VALUE!"}},{"$f":"IF(OFFSET([1]DE100_7!$Q$261,ROWS($Q$261:Q277)-1,COLUMNS($Q$261:Q277)-1)<>\"\",OFFSET([1]DE100_7!$Q$261,ROWS($Q$261:Q277)-1,COLUMNS($Q$261:Q277)-1),\"\")","v":{"$error":"#VALUE!"}},{"$f":"IF(OFFSET([1]DE100_7!$R$261,ROWS($R$261:R277)-1,COLUMNS($R$261:R277)-1)<>\"\",OFFSET([1]DE100_7!$R$261,ROWS($R$261:R277)-1,COLUMNS($R$261:R277)-1),\"\")","v":{"$error":"#VALUE!"}},{"$f":"IF(OFFSET([1]DE100_7!$S$261,ROWS($S$261:S277)-1,COLUMNS($S$261:S277)-1)<>\"\",OFFSET([1]DE100_7!$S$261,ROWS($S$261:S277)-1,COLUMNS($S$261:S277)-1),\"\")","v":{"$error":"#VALUE!"}},{"$f":"IF(OFFSET([1]DE100_7!$T$261,ROWS($T$261:T277)-1,COLUMNS($T$261:T277)-1)<>\"\",OFFSET([1]DE100_7!$T$261,ROWS($T$261:T277)-1,COLUMNS($T$261:T277)-1),\"\")","v":{"$error":"#VALUE!"}},{"$f":"IF(OFFSET([1]DE100_7!$U$261,ROWS($U$261:U277)-1,COLUMNS($U$261:U277)-1)<>\"\",OFFSET([1]DE100_7!$U$261,ROWS($U$261:U277)-1,COLUMNS($U$261:U277)-1),\"\")","v":{"$error":"#VALUE!"}},{"$f":"IF(OFFSET([1]DE100_7!$V$261,ROWS($V$261:V277)-1,COLUMNS($V$261:V277)-1)<>\"\",OFFSET([1]DE100_7!$V$261,ROWS($V$261:V277)-1,COLUMNS($V$261:V277)-1),\"\")","v":{"$error":"#VALUE!"}}]
[{"$f":"IF(OFFSET([1]DE100_7!$C$261,ROWS($C$261:C278)-1,COLUMNS($C$261:C278)-1)<>\"\",OFFSET([1]DE100_7!$C$261,ROWS($C$261:C278)-1,COLUMNS($C$261:C278)-1),\"\")","v":{"$error":"#VALUE!"}},{"$f":"IF(OFFSET([1]DE100_7!$D$261,ROWS($D$261:D278)-1,COLUMNS($D$261:D278)-1)<>\"\",OFFSET([1]DE100_7!$D$261,ROWS($D$261:D278)-1,COLUMNS($D$261:D278)-1),\"\")","v":{"$error":"#VALUE!"}},{"$f":"IF(OFFSET([1]DE100_7!$E$261,ROWS($E$261:E278)-1,COLUMNS($E$261:E278)-1)<>\"\",OFFSET([1]DE100_7!$E$261,ROWS($E$261:E278)-1,COLUMNS($E$261:E278)-1),\"\")","v":{"$error":"#VALUE!"}},{"$f":"IF(OFFSET([1]DE100_7!$F$261,ROWS($F$261:F278)-1,COLUMNS($F$261:F278)-1)<>\"\",OFFSET([1]DE100_7!$F$261,ROWS($F$261:F278)-1,COLUMNS($F$261:F278)-1),\"\")","v":{"$error":"#VALUE!"}},{"$f":"IF(OFFSET([1]DE100_7!$G$261,ROWS($G$261:G278)-1,COLUMNS($G$261:G278)-1)<>\"\",OFFSET([1]DE100_7!$G$261,ROWS($G$261:G278)-1,COLUMNS($G$261:G278)-1),\"\")","v":{"$error":"#VALUE!"}},{"$f":"IF(OFFSET([1]DE100_7!$H$261,ROWS($H$261:H278)-1,COLUMNS($H$261:H278)-1)<>\"\",OFFSET([1]DE100_7!$H$261,ROWS($H$261:H278)-1,COLUMNS($H$261:H278)-1),\"\")","v":{"$error":"#VALUE!"}},{"$f":"IF(OFFSET([1]DE100_7!$I$261,ROWS($I$261:I278)-1,COLUMNS($I$261:I278)-1)<>\"\",OFFSET([1]DE100_7!$I$261,ROWS($I$261:I278)-1,COLUMNS($I$261:I278)-1),\"\")","v":{"$error":"#VALUE!"}},{"$f":"IF(OFFSET([1]DE100_7!$J$261,ROWS($J$261:J278)-1,COLUMNS($J$261:J278)-1)<>\"\",OFFSET([1]DE100_7!$J$261,ROWS($J$261:J278)-1,COLUMNS($J$261:J278)-1),\"\")","v":{"$error":"#VALUE!"}},{"$f":"IF(OFFSET([1]DE100_7!$K$261,ROWS($K$261:K278)-1,COLUMNS($K$261:K278)-1)<>\"\",OFFSET([1]DE100_7!$K$261,ROWS($K$261:K278)-1,COLUMNS($K$261:K278)-1),\"\")","v":{"$error":"#VALUE!"}},{"$f":"IF(OFFSET([1]DE100_7!$L$261,ROWS($L$261:L278)-1,COLUMNS($L$261:L278)-1)<>\"\",OFFSET([1]DE100_7!$L$261,ROWS($L$261:L278)-1,COLUMNS($L$261:L278)-1),\"\")","v":{"$error":"#VALUE!"}},{"$f":"IF(OFFSET([1]DE100_7!$M$261,ROWS($M$261:M278)-1,COLUMNS($M$261:M278)-1)<>\"\",OFFSET([1]DE100_7!$M$261,ROWS($M$261:M278)-1,COLUMNS($M$261:M278)-1),\"\")","v":{"$error":"#VALUE!"}},{"$f":"IF(OFFSET([1]DE100_7!$N$261,ROWS($N$261:N278)-1,COLUMNS($N$261:N278)-1)<>\"\",OFFSET([1]DE100_7!$N$261,ROWS($N$261:N278)-1,COLUMNS($N$261:N278)-1),\"\")","v":{"$error":"#VALUE!"}},{"$f":"IF(OFFSET([1]DE100_7!$O$261,ROWS($O$261:O278)-1,COLUMNS($O$261:O278)-1)<>\"\",OFFSET([1]DE100_7!$O$261,ROWS($O$261:O278)-1,COLUMNS($O$261:O278)-1),\"\")","v":{"$error":"#VALUE!"}},{"$f":"IF(OFFSET([1]DE100_7!$P$261,ROWS($P$261:P278)-1,COLUMNS($P$261:P278)-1)<>\"\",OFFSET([1]DE100_7!$P$261,ROWS($P$261:P278)-1,COLUMNS($P$261:P278)-1),\"\")","v":{"$error":"#VALUE!"}},{"$f":"IF(OFFSET([1]DE100_7!$Q$261,ROWS($Q$261:Q278)-1,COLUMNS($Q$261:Q278)-1)<>\"\",OFFSET([1]DE100_7!$Q$261,ROWS($Q$261:Q278)-1,COLUMNS($Q$261:Q278)-1),\"\")","v":{"$error":"#VALUE!"}},{"$f":"IF(OFFSET([1]DE100_7!$R$261,ROWS($R$261:R278)-1,COLUMNS($R$261:R278)-1)<>\"\",OFFSET([1]DE100_7!$R$261,ROWS($R$261:R278)-1,COLUMNS($R$261:R278)-1),\"\")","v":{"$error":"#VALUE!"}},{"$f":"IF(OFFSET([1]DE100_7!$S$261,ROWS($S$261:S278)-1,COLUMNS($S$261:S278)-1)<>\"\",OFFSET([1]DE100_7!$S$261,ROWS($S$261:S278)-1,COLUMNS($S$261:S278)-1),\"\")","v":{"$error":"#VALUE!"}},{"$f":"IF(OFFSET([1]DE100_7!$T$261,ROWS($T$261:T278)-1,COLUMNS($T$261:T278)-1)<>\"\",OFFSET([1]DE100_7!$T$261,ROWS($T$261:T278)-1,COLUMNS($T$261:T278)-1),\"\")","v":{"$error":"#VALUE!"}},{"$f":"IF(OFFSET([1]DE100_7!$U$261,ROWS($U$261:U278)-1,COLUMNS($U$261:U278)-1)<>\"\",OFFSET([1]DE100_7!$U$261,ROWS($U$261:U278)-1,COLUMNS($U$261:U278)-1),\"\")","v":{"$error":"#VALUE!"}},{"$f":"IF(OFFSET([1]DE100_7!$V$261,ROWS($V$261:V278)-1,COLUMNS($V$261:V278)-1)<>\"\",OFFSET([1]DE100_7!$V$261,ROWS($V$261:V278)-1,COLUMNS($V$261:V278)-1),\"\")","v":{"$error":"#VALUE!"}}]
[{"$f":"IF(OFFSET([1]DE100_7!$C$261,ROWS($C$261:C279)-1,COLUMNS($C$261:C279)-1)<>\"\",OFFSET([1]DE100_7!$C$261,ROWS($C$261:C279)-1,COLUMNS($C$261:C279)-1),\"\")","v":{"$error":"#VALUE!"}},{"$f":"IF(OFFSET([1]DE100_7!$D$261,ROWS($D$261:D279)-1,COLUMNS($D$261:D279)-1)<>\"\",OFFSET([1]DE100_7!$D$261,ROWS($D$261:D279)-1,COLUMNS($D$261:D279)-1),\"\")","v":{"$error":"#VALUE!"}},{"$f":"IF(OFFSET([1]DE100_7!$E$261,ROWS($E$261:E279)-1,COLUMNS($E$261:E279)-1)<>\"\",OFFSET([1]DE100_7!$E$261,ROWS($E$261:E279)-1,COLUMNS($E$261:E279)-1),\"\")","v":{"$error":"#VALUE!"}},{"$f":"IF(OFFSET([1]DE100_7!$F$261,ROWS($F$261:F279)-1,COLUMNS($F$261:F279)-1)<>\"\",OFFSET([1]DE100_7!$F$261,ROWS($F$261:F279)-1,COLUMNS($F$261:F279)-1),\"\")","v":{"$error":"#VALUE!"}},{"$f":"IF(OFFSET([1]DE100_7!$G$261,ROWS($G$261:G279)-1,COLUMNS($G$261:G279)-1)<>\"\",OFFSET([1]DE100_7!$G$261,ROWS($G$261:G279)-1,COLUMNS($G$261:G279)-1),\"\")","v":{"$error":"#VALUE!"}},{"$f":"IF(OFFSET([1]DE100_7!$H$261,ROWS($H$261:H279)-1,COLUMNS($H$261:H279)-1)<>\"\",OFFSET([1]DE100_7!$H$261,ROWS($H$261:H279)-1,COLUMNS($H$261:H279)-1),\"\")","v":{"$error":"#VALUE!"}},{"$f":"IF(OFFSET([1]DE100_7!$I$261,ROWS($I$261:I279)-1,COLUMNS($I$261:I279)-1)<>\"\",OFFSET([1]DE100_7!$I$261,ROWS($I$261:I279)-1,COLUMNS($I$261:I279)-1),\"\")","v":{"$error":"#VALUE!"}},{"$f":"IF(OFFSET([1]DE100_7!$J$261,ROWS($J$261:J279)-1,COLUMNS($J$261:J279)-1)<>\"\",OFFSET([1]DE100_7!$J$261,ROWS($J$261:J279)-1,COLUMNS($J$261:J279)-1),\"\")","v":{"$error":"#VALUE!"}},{"$f":"IF(OFFSET([1]DE100_7!$K$261,ROWS($K$261:K279)-1,COLUMNS($K$261:K279)-1)<>\"\",OFFSET([1]DE100_7!$K$261,ROWS($K$261:K279)-1,COLUMNS($K$261:K279)-1),\"\")","v":{"$error":"#VALUE!"}},{"$f":"IF(OFFSET([1]DE100_7!$L$261,ROWS($L$261:L279)-1,COLUMNS($L$261:L279)-1)<>\"\",OFFSET([1]DE100_7!$L$261,ROWS($L$261:L279)-1,COLUMNS($L$261:L279)-1),\"\")","v":{"$error":"#VALUE!"}},{"$f":"IF(OFFSET([1]DE100_7!$M$261,ROWS($M$261:M279)-1,COLUMNS($M$261:M279)-1)<>\"\",OFFSET([1]DE100_7!$M$261,ROWS($M$261:M279)-1,COLUMNS($M$261:M279)-1),\"\")","v":{"$error":"#VALUE!"}},{"$f":"IF(OFFSET([1]DE100_7!$N$261,ROWS($N$261:N279)-1,COLUMNS($N$261:N279)-1)<>\"\",OFFSET([1]DE100_7!$N$261,ROWS($N$261:N279)-1,COLUMNS($N$261:N279)-1),\"\")","v":{"$error":"#VALUE!"}},{"$f":"IF(OFFSET([1]DE100_7!$O$261,ROWS($O$261:O279)-1,COLUMNS($O$261:O279)-1)<>\"\",OFFSET([1]DE100_7!$O$261,ROWS($O$261:O279)-1,COLUMNS($O$261:O279)-1),\"\")","v":{"$error":"#VALUE!"}},{"$f":"IF(OFFSET([1]DE100_7!$P$261,ROWS($P$261:P279)-1,COLUMNS($P$261:P279)-1)<>\"\",OFFSET([1]DE100_7!$P$261,ROWS($P$261:P279)-1,COLUMNS($P$261:P279)-1),\"\")","v":{"$error":"#VALUE!"}},{"$f":"IF(OFFSET([1]DE100_7!$Q$261,ROWS($Q$261:Q279)-1,COLUMNS($Q$261:Q279)-1)<>\"\",OFFSET([1]DE100_7!$Q$261,ROWS($Q$261:Q279)-1,COLUMNS($Q$261:Q279)-1),\"\")","v":{"$error":"#VALUE!"}},{"$f":"IF(OFFSET([1]DE100_7!$R$261,ROWS($R$261:R279)-1,COLUMNS($R$261:R279)-1)<>\"\",OFFSET([1]DE100_7!$R$261,ROWS($R$261:R279)-1,COLUMNS($R$261:R279)-1),\"\")","v":{"$error":"#VALUE!"}},{"$f":"IF(OFFSET([1]DE100_7!$S$261,ROWS($S$261:S279)-1,COLUMNS($S$261:S279)-1)<>\"\",OFFSET([1]DE100_7!$S$261,ROWS($S$261:S279)-1,COLUMNS($S$261:S279)-1),\"\")","v":{"$error":"#VALUE!"}},{"$f":"IF(OFFSET([1]DE100_7!$T$261,ROWS($T$261:T279)-1,COLUMNS($T$261:T279)-1)<>\"\",OFFSET([1]DE100_7!$T$261,ROWS($T$261:T279)-1,COLUMNS($T$261:T279)-1),\"\")","v":{"$error":"#VALUE!"}},{"$f":"IF(OFFSET([1]DE100_7!$U$261,ROWS($U$261:U279)-1,COLUMNS($U$261:U279)-1)<>\"\",OFFSET([1]DE100_7!$U$261,ROWS($U$261:U279)-1,COLUMNS($U$261:U279)-1),\"\")","v":{"$error":"#VALUE!"}},{"$f":"IF(OFFSET([1]DE100_7!$V$261,ROWS($V$261:V279)-1,COLUMNS($V$261:V279)-1)<>\"\",OFFSET([1]DE100_7!$V$261,ROWS($V$261:V279)-1,COLUMNS($V$261:V279)-1),\"\")","v":{"$error":"#VALUE!"}}]
[{"$f":"IF(OFFSET([1]DE100_7!$C$261,ROWS($C$261:C280)-1,COLUMNS($C$261:C280)-1)<>\"\",OFFSET([1]DE100_7!$C$261,ROWS($C$261:C280)-1,COLUMNS($C$261:C280)-1),\"\")","v":{"$error":"#VALUE!"}},{"$f":"IF(OFFSET([1]DE100_7!$D$261,ROWS($D$261:D280)-1,COLUMNS($D$261:D280)-1)<>\"\",OFFSET([1]DE100_7!$D$261,ROWS($D$261:D280)-1,COLUMNS($D$261:D280)-1),\"\")","v":{"$error":"#VALUE!"}},{"$f":"IF(OFFSET([1]DE100_7!$E$261,ROWS($E$261:E280)-1,COLUMNS($E$261:E280)-1)<>\"\",OFFSET([1]DE100_7!$E$261,ROWS($E$261:E280)-1,COLUMNS($E$261:E280)-1),\"\")","v":{"$error":"#VALUE!"}},{"$f":"IF(OFFSET([1]DE100_7!$F$261,ROWS($F$261:F280)-1,COLUMNS($F$261:F280)-1)<>\"\",OFFSET([1]DE100_7!$F$261,ROWS($F$261:F280)-1,COLUMNS($F$261:F280)-1),\"\")","v":{"$error":"#VALUE!"}},{"$f":"IF(OFFSET([1]DE100_7!$G$261,ROWS($G$261:G280)-1,COLUMNS($G$261:G280)-1)<>\"\",OFFSET([1]DE100_7!$G$261,ROWS($G$261:G280)-1,COLUMNS($G$261:G280)-1),\"\")","v":{"$error":"#VALUE!"}},{"$f":"IF(OFFSET([1]DE100_7!$H$261,ROWS($H$261:H280)-1,COLUMNS($H$261:H280)-1)<>\"\",OFFSET([1]DE100_7!$H$261,ROWS($H$261:H280)-1,COLUMNS($H$261:H280)-1),\"\")","v":{"$error":"#VALUE!"}},{"$f":"IF(OFFSET([1]DE100_7!$I$261,ROWS($I$261:I280)-1,COLUMNS($I$261:I280)-1)<>\"\",OFFSET([1]DE100_7!$I$261,ROWS($I$261:I280)-1,COLUMNS($I$261:I280)-1),\"\")","v":{"$error":"#VALUE!"}},{"$f":"IF(OFFSET([1]DE100_7!$J$261,ROWS($J$261:J280)-1,COLUMNS($J$261:J280)-1)<>\"\",OFFSET([1]DE100_7!$J$261,ROWS($J$261:J280)-1,COLUMNS($J$261:J280)-1),\"\")","v":{"$error":"#VALUE!"}},{"$f":"IF(OFFSET([1]DE100_7!$K$261,ROWS($K$261:K280)-1,COLUMNS($K$261:K280)-1)<>\"\",OFFSET([1]DE100_7!$K$261,ROWS($K$261:K280)-1,COLUMNS($K$261:K280)-1),\"\")","v":{"$error":"#VALUE!"}},{"$f":"IF(OFFSET([1]DE100_7!$L$261,ROWS($L$261:L280)-1,COLUMNS($L$261:L280)-1)<>\"\",OFFSET([1]DE100_7!$L$261,ROWS($L$261:L280)-1,COLUMNS($L$261:L280)-1),\"\")","v":{"$error":"#VALUE!"}},{"$f":"IF(OFFSET([1]DE100_7!$M$261,ROWS($M$261:M280)-1,COLUMNS($M$261:M280)-1)<>\"\",OFFSET([1]DE100_7!$M$261,ROWS($M$261:M280)-1,COLUMNS($M$261:M280)-1),\"\")","v":{"$error":"#VALUE!"}},{"$f":"IF(OFFSET([1]DE100_7!$N$261,ROWS($N$261:N280)-1,COLUMNS($N$261:N280)-1)<>\"\",OFFSET([1]DE100_7!$N$261,ROWS($N$261:N280)-1,COLUMNS($N$261:N280)-1),\"\")","v":{"$error":"#VALUE!"}},{"$f":"IF(OFFSET([1]DE100_7!$O$261,ROWS($O$261:O280)-1,COLUMNS($O$261:O280)-1)<>\"\",OFFSET([1]DE100_7!$O$261,ROWS($O$261:O280)-1,COLUMNS($O$261:O280)-1),\"\")","v":{"$error":"#VALUE!"}},{"$f":"IF(OFFSET([1]DE100_7!$P$261,ROWS($P$261:P280)-1,COLUMNS($P$261:P280)-1)<>\"\",OFFSET([1]DE100_7!$P$261,ROWS($P$261:P280)-1,COLUMNS($P$261:P280)-1),\"\")","v":{"$error":"#VALUE!"}},{"$f":"IF(OFFSET([1]DE100_7!$Q$261,ROWS($Q$261:Q280)-1,COLUMNS($Q$261:Q280)-1)<>\"\",OFFSET([1]DE100_7!$Q$261,ROWS($Q$261:Q280)-1,COLUMNS($Q$261:Q280)-1),\"\")","v":{"$error":"#VALUE!"}},{"$f":"IF(OFFSET([1]DE100_7!$R$261,ROWS($R$261:R280)-1,COLUMNS($R$261:R280)-1)<>\"\",OFFSET([1]DE100_7!$R$261,ROWS($R$261:R280)-1,COLUMNS($R$261:R280)-1),\"\")","v":{"$error":"#VALUE!"}},{"$f":"IF(OFFSET([1]DE100_7!$S$261,ROWS($S$261:S280)-1,COLUMNS($S$261:S280)-1)<>\"\",OFFSET([1]DE100_7!$S$261,ROWS($S$261:S280)-1,COLUMNS($S$261:S280)-1),\"\")","v":{"$error":"#VALUE!"}},{"$f":"IF(OFFSET([1]DE100_7!$T$261,ROWS($T$261:T280)-1,COLUMNS($T$261:T280)-1)<>\"\",OFFSET([1]DE100_7!$T$261,ROWS($T$261:T280)-1,COLUMNS($T$261:T280)-1),\"\")","v":{"$error":"#VALUE!"}},{"$f":"IF(OFFSET([1]DE100_7!$U$261,ROWS($U$261:U280)-1,COLUMNS($U$261:U280)-1)<>\"\",OFFSET([1]DE100_7!$U$261,ROWS($U$261:U280)-1,COLUMNS($U$261:U280)-1),\"\")","v":{"$error":"#VALUE!"}},{"$f":"IF(OFFSET([1]DE100_7!$V$261,ROWS($V$261:V280)-1,COLUMNS($V$261:V280)-1)<>\"\",OFFSET([1]DE100_7!$V$261,ROWS($V$261:V280)-1,COLUMNS($V$261:V280)-1),\"\")","v":{"$error":"#VALUE!"}}]
[{"$f":"IF(OFFSET([1]DE100_7!$C$261,ROWS($C$261:C281)-1,COLUMNS($C$261:C281)-1)<>\"\",OFFSET([1]DE100_7!$C$261,ROWS($C$261:C281)-1,COLUMNS($C$261:C281)-1),\"\")","v":{"$error":"#VALUE!"}},null,null,null,{"$f":"IF(OFFSET([1]DE100_7!$G$261,ROWS($G$261:G281)-1,COLUMNS($G$261:G281)-1)<>\"\",OFFSET([1]DE100_7!$G$261,ROWS($G$261:G281)-1,COLUMNS($G$261:G281)-1),\"\")","v":{"$error":"#VALUE!"}},{"$f":"IF(OFFSET([1]DE100_7!$H$261,ROWS($H$261:H281)-1,COLUMNS($H$261:H281)-1)<>\"\",OFFSET([1]DE100_7!$H$261,ROWS($H$261:H281)-1,COLUMNS($H$261:H281)-1),\"\")","v":{"$error":"#VALUE!"}},{"$f":"IF(OFFSET([1]DE100_7!$I$261,ROWS($I$261:I281)-1,COLUMNS($I$261:I281)-1)<>\"\",OFFSET([1]DE100_7!$I$261,ROWS($I$261:I281)-1,COLUMNS($I$261:I281)-1),\"\")","v":{"$error":"#VALUE!"}},{"$f":"IF(OFFSET([1]DE100_7!$J$261,ROWS($J$261:J281)-1,COLUMNS($J$261:J281)-1)<>\"\",OFFSET([1]DE100_7!$J$261,ROWS($J$261:J281)-1,COLUMNS($J$261:J281)-1),\"\")","v":{"$error":"#VALUE!"}},{"$f":"IF(OFFSET([1]DE100_7!$K$261,ROWS($K$261:K281)-1,COLUMNS($K$261:K281)-1)<>\"\",OFFSET([1]DE100_7!$K$261,ROWS($K$261:K281)-1,COLUMNS($K$261:K281)-1),\"\")","v":{"$error":"#VALUE!"}},{"$f":"IF(OFFSET([1]DE100_7!$L$261,ROWS($L$261:L281)-1,COLUMNS($L$261:L281)-1)<>\"\",OFFSET([1]DE100_7!$L$261,ROWS($L$261:L281)-1,COLUMNS($L$261:L281)-1),\"\")","v":{"$error":"#VALUE!"}},{"$f":"IF(OFFSET([1]DE100_7!$M$261,ROWS($M$261:M281)-1,COLUMNS($M$261:M281)-1)<>\"\",OFFSET([1]DE100_7!$M$261,ROWS($M$261:M281)-1,COLUMNS($M$261:M281)-1),\"\")","v":{"$error":"#VALUE!"}},{"$f":"IF(OFFSET([1]DE100_7!$N$261,ROWS($N$261:N281)-1,COLUMNS($N$261:N281)-1)<>\"\",OFFSET([1]DE100_7!$N$261,ROWS($N$261:N281)-1,COLUMNS($N$261:N281)-1),\"\")","v":{"$error":"#VALUE!"}},{"$f":"IF(OFFSET([1]DE100_7!$O$261,ROWS($O$261:O281)-1,COLUMNS($O$261:O281)-1)<>\"\",OFFSET([1]DE100_7!$O$261,ROWS($O$261:O281)-1,COLUMNS($O$261:O281)-1),\"\")","v":{"$error":"#VALUE!"}},{"$f":"IF(OFFSET([1]DE100_7!$P$261,ROWS($P$261:P281)-1,COLUMNS($P$261:P281)-1)<>\"\",OFFSET([1]DE100_7!$P$261,ROWS($P$261:P281)-1,COLUMNS($P$261:P281)-1),\"\")","v":{"$error":"#VALUE!"}},{"$f":"IF(OFFSET([1]DE100_7!$Q$261,ROWS($Q$261:Q281)-1,COLUMNS($Q$261:Q281)-1)<>\"\",OFFSET([1]DE100_7!$Q$261,ROWS($Q$261:Q281)-1,COLUMNS($Q$261:Q281)-1),\"\")","v":{"$error":"#VALUE!"}},{"$f":"IF(OFFSET([1]DE100_7!$R$261,ROWS($R$261:R281)-1,COLUMNS($R$261:R281)-1)<>\"\",OFFSET([1]DE100_7!$R$261,ROWS($R$261:R281)-1,COLUMNS($R$261:R281)-1),\"\")","v":{"$error":"#VALUE!"}},{"$f":"IF(OFFSET([1]DE100_7!$S$261,ROWS($S$261:S281)-1,COLUMNS($S$261:S281)-1)<>\"\",OFFSET([1]DE100_7!$S$261,ROWS($S$261:S281)-1,COLUMNS($S$261:S281)-1),\"\")","v":{"$error":"#VALUE!"}},{"$f":"IF(OFFSET([1]DE100_7!$T$261,ROWS($T$261:T281)-1,COLUMNS($T$261:T281)-1)<>\"\",OFFSET([1]DE100_7!$T$261,ROWS($T$261:T281)-1,COLUMNS($T$261:T281)-1),\"\")","v":{"$error":"#VALUE!"}},{"$f":"IF(OFFSET([1]DE100_7!$U$261,ROWS($U$261:U281)-1,COLUMNS($U$261:U281)-1)<>\"\",OFFSET([1]DE100_7!$U$261,ROWS($U$261:U281)-1,COLUMNS($U$261:U281)-1),\"\")","v":{"$error":"#VALUE!"}},{"$f":"IF(OFFSET([1]DE100_7!$V$261,ROWS($V$261:V281)-1,COLUMNS($V$261:V281)-1)<>\"\",OFFSET([1]DE100_7!$V$261,ROWS($V$261:V281)-1,COLUMNS($V$261:V281)-1),\"\")","v":{"$error":"#VALUE!"}}]
[{"$f":"IF(OFFSET([1]DE100_7!$C$261,ROWS($C$261:C282)-1,COLUMNS($C$261:C282)-1)<>\"\",OFFSET([1]DE100_7!$C$261,ROWS($C$261:C282)-1,COLUMNS($C$261:C282)-1),\"\")","v":{"$error":"#VALUE!"}},{"$f":"IF(OFFSET([1]DE100_7!$D$261,ROWS($D$261:D282)-1,COLUMNS($D$261:D282)-1)<>\"\",OFFSET([1]DE100_7!$D$261,ROWS($D$261:D282)-1,COLUMNS($D$261:D282)-1),\"\")","v":{"$error":"#VALUE!"}},{"$f":"IF(OFFSET([1]DE100_7!$E$261,ROWS($E$261:E282)-1,COLUMNS($E$261:E282)-1)<>\"\",OFFSET([1]DE100_7!$E$261,ROWS($E$261:E282)-1,COLUMNS($E$261:E282)-1),\"\")","v":{"$error":"#VALUE!"}},{"$f":"IF(OFFSET([1]DE100_7!$F$261,ROWS($F$261:F282)-1,COLUMNS($F$261:F282)-1)<>\"\",OFFSET([1]DE100_7!$F$261,ROWS($F$261:F282)-1,COLUMNS($F$261:F282)-1),\"\")","v":{"$error":"#VALUE!"}},{"$f":"IF(OFFSET([1]DE100_7!$G$261,ROWS($G$261:G282)-1,COLUMNS($G$261:G282)-1)<>\"\",OFFSET([1]DE100_7!$G$261,ROWS($G$261:G282)-1,COLUMNS($G$261:G282)-1),\"\")","v":{"$error":"#VALUE!"}},{"$f":"IF(OFFSET([1]DE100_7!$H$261,ROWS($H$261:H282)-1,COLUMNS($H$261:H282)-1)<>\"\",OFFSET([1]DE100_7!$H$261,ROWS($H$261:H282)-1,COLUMNS($H$261:H282)-1),\"\")","v":{"$error":"#VALUE!"}},{"$f":"IF(OFFSET([1]DE100_7!$I$261,ROWS($I$261:I282)-1,COLUMNS($I$261:I282)-1)<>\"\",OFFSET([1]DE100_7!$I$261,ROWS($I$261:I282)-1,COLUMNS($I$261:I282)-1),\"\")","v":{"$error":"#VALUE!"}},{"$f":"IF(OFFSET([1]DE100_7!$J$261,ROWS($J$261:J282)-1,COLUMNS($J$261:J282)-1)<>\"\",OFFSET([1]DE100_7!$J$261,ROWS($J$261:J282)-1,COLUMNS($J$261:J282)-1),\"\")","v":{"$error":"#VALUE!"}},{"$f":"IF(OFFSET([1]DE100_7!$K$261,ROWS($K$261:K282)-1,COLUMNS($K$261:K282)-1)<>\"\",OFFSET([1]DE100_7!$K$261,ROWS($K$261:K282)-1,COLUMNS($K$261:K282)-1),\"\")","v":{"$error":"#VALUE!"}},{"$f":"IF(OFFSET([1]DE100_7!$L$261,ROWS($L$261:L282)-1,COLUMNS($L$261:L282)-1)<>\"\",OFFSET([1]DE100_7!$L$261,ROWS($L$261:L282)-1,COLUMNS($L$261:L282)-1),\"\")","v":{"$error":"#VALUE!"}},{"$f":"IF(OFFSET([1]DE100_7!$M$261,ROWS($M$261:M282)-1,COLUMNS($M$261:M282)-1)<>\"\",OFFSET([1]DE100_7!$M$261,ROWS($M$261:M282)-1,COLUMNS($M$261:M282)-1),\"\")","v":{"$error":"#VALUE!"}},{"$f":"IF(OFFSET([1]DE100_7!$N$261,ROWS($N$261:N282)-1,COLUMNS($N$261:N282)-1)<>\"\",OFFSET([1]DE100_7!$N$261,ROWS($N$261:N282)-1,COLUMNS($N$261:N282)-1),\"\")","v":{"$error":"#VALUE!"}},{"$f":"IF(OFFSET([1]DE100_7!$O$261,ROWS($O$261:O282)-1,COLUMNS($O$261:O282)-1)<>\"\",OFFSET([1]DE100_7!$O$261,ROWS($O$261:O282)-1,COLUMNS($O$261:O282)-1),\"\")","v":{"$error":"#VALUE!"}},{"$f":"IF(OFFSET([1]DE100_7!$P$261,ROWS($P$261:P282)-1,COLUMNS($P$261:P282)-1)<>\"\",OFFSET([1]DE100_7!$P$261,ROWS($P$261:P282)-1,COLUMNS($P$261:P282)-1),\"\")","v":{"$error":"#VALUE!"}},{"$f":"IF(OFFSET([1]DE100_7!$Q$261,ROWS($Q$261:Q282)-1,COLUMNS($Q$261:Q282)-1)<>\"\",OFFSET([1]DE100_7!$Q$261,ROWS($Q$261:Q282)-1,COLUMNS($Q$261:Q282)-1),\"\")","v":{"$error":"#VALUE!"}},{"$f":"IF(OFFSET([1]DE100_7!$R$261,ROWS($R$261:R282)-1,COLUMNS($R$261:R282)-1)<>\"\",OFFSET([1]DE100_7!$R$261,ROWS($R$261:R282)-1,COLUMNS($R$261:R282)-1),\"\")","v":{"$error":"#VALUE!"}},{"$f":"IF(OFFSET([1]DE100_7!$S$261,ROWS($S$261:S282)-1,COLUMNS($S$261:S282)-1)<>\"\",OFFSET([1]DE100_7!$S$261,ROWS($S$261:S282)-1,COLUMNS($S$261:S282)-1),\"\")","v":{"$error":"#VALUE!"}},{"$f":"IF(OFFSET([1]DE100_7!$T$261,ROWS($T$261:T282)-1,COLUMNS($T$261:T282)-1)<>\"\",OFFSET([1]DE100_7!$T$261,ROWS($T$261:T282)-1,COLUMNS($T$261:T282)-1),\"\")","v":{"$error":"#VALUE!"}},{"$f":"IF(OFFSET([1]DE100_7!$U$261,ROWS($U$261:U282)-1,COLUMNS($U$261:U282)-1)<>\"\",OFFSET([1]DE100_7!$U$261,ROWS($U$261:U282)-1,COLUMNS($U$261:U282)-1),\"\")","v":{"$error":"#VALUE!"}},{"$f":"IF(OFFSET([1]DE100_7!$V$261,ROWS($V$261:V282)-1,COLUMNS($V$261:V282)-1)<>\"\",OFFSET([1]DE100_7!$V$261,ROWS($V$261:V282)-1,COLUMNS($V$261:V282)-1),\"\")","v":{"$error":"#VALUE!"}}]
[{"$f":"IF(OFFSET([1]DE100_7!$C$261,ROWS($C$261:C283)-1,COLUMNS($C$261:C283)-1)<>\"\",OFFSET([1]DE100_7!$C$261,ROWS($C$261:C283)-1,COLUMNS($C$261:C283)-1),\"\")","v":{"$error":"#VALUE!"}},{"$f":"IF(OFFSET([1]DE100_7!$D$261,ROWS($D$261:D283)-1,COLUMNS($D$261:D283)-1)<>\"\",OFFSET([1]DE100_7!$D$261,ROWS($D$261:D283)-1,COLUMNS($D$261:D283)-1),\"\")","v":{"$error":"#VALUE!"}},{"$f":"IF(OFFSET([1]DE100_7!$E$261,ROWS($E$261:E283)-1,COLUMNS($E$261:E283)-1)<>\"\",OFFSET([1]DE100_7!$E$261,ROWS($E$261:E283)-1,COLUMNS($E$261:E283)-1),\"\")","v":{"$error":"#VALUE!"}},{"$f":"IF(OFFSET([1]DE100_7!$F$261,ROWS($F$261:F283)-1,COLUMNS($F$261:F283)-1)<>\"\",OFFSET([1]DE100_7!$F$261,ROWS($F$261:F283)-1,COLUMNS($F$261:F283)-1),\"\")","v":{"$error":"#VALUE!"}},{"$f":"IF(OFFSET([1]DE100_7!$G$261,ROWS($G$261:G283)-1,COLUMNS($G$261:G283)-1)<>\"\",OFFSET([1]DE100_7!$G$261,ROWS($G$261:G283)-1,COLUMNS($G$261:G283)-1),\"\")","v":{"$error":"#VALUE!"}},{"$f":"IF(OFFSET([1]DE100_7!$H$261,ROWS($H$261:H283)-1,COLUMNS($H$261:H283)-1)<>\"\",OFFSET([1]DE100_7!$H$261,ROWS($H$261:H283)-1,COLUMNS($H$261:H283)-1),\"\")","v":{"$error":"#VALUE!"}},{"$f":"IF(OFFSET([1]DE100_7!$I$261,ROWS($I$261:I283)-1,COLUMNS($I$261:I283)-1)<>\"\",OFFSET([1]DE100_7!$I$261,ROWS($I$261:I283)-1,COLUMNS($I$261:I283)-1),\"\")","v":{"$error":"#VALUE!"}},{"$f":"IF(OFFSET([1]DE100_7!$J$261,ROWS($J$261:J283)-1,COLUMNS($J$261:J283)-1)<>\"\",OFFSET([1]DE100_7!$J$261,ROWS($J$261:J283)-1,COLUMNS($J$261:J283)-1),\"\")","v":{"$error":"#VALUE!"}},{"$f":"IF(OFFSET([1]DE100_7!$K$261,ROWS($K$261:K283)-1,COLUMNS($K$261:K283)-1)<>\"\",OFFSET([1]DE100_7!$K$261,ROWS($K$261:K283)-1,COLUMNS($K$261:K283)-1),\"\")","v":{"$error":"#VALUE!"}},{"$f":"IF(OFFSET([1]DE100_7!$L$261,ROWS($L$261:L283)-1,COLUMNS($L$261:L283)-1)<>\"\",OFFSET([1]DE100_7!$L$261,ROWS($L$261:L283)-1,COLUMNS($L$261:L283)-1),\"\")","v":{"$error":"#VALUE!"}},{"$f":"IF(OFFSET([1]DE100_7!$M$261,ROWS($M$261:M283)-1,COLUMNS($M$261:M283)-1)<>\"\",OFFSET([1]DE100_7!$M$261,ROWS($M$261:M283)-1,COLUMNS($M$261:M283)-1),\"\")","v":{"$error":"#VALUE!"}},{"$f":"IF(OFFSET([1]DE100_7!$N$261,ROWS($N$261:N283)-1,COLUMNS($N$261:N283)-1)<>\"\",OFFSET([1]DE100_7!$N$261,ROWS($N$261:N283)-1,COLUMNS($N$261:N283)-1),\"\")","v":{"$error":"#VALUE!"}},{"$f":"IF(OFFSET([1]DE100_7!$O$261,ROWS($O$261:O283)-1,COLUMNS($O$261:O283)-1)<>\"\",OFFSET([1]DE100_7!$O$261,ROWS($O$261:O283)-1,COLUMNS($O$261:O283)-1),\"\")","v":{"$error":"#VALUE!"}},{"$f":"IF(OFFSET([1]DE100_7!$P$261,ROWS($P$261:P283)-1,COLUMNS($P$261:P283)-1)<>\"\",OFFSET([1]DE100_7!$P$261,ROWS($P$261:P283)-1,COLUMNS($P$261:P283)-1),\"\")","v":{"$error":"#VALUE!"}},{"$f":"IF(OFFSET([1]DE100_7!$Q$261,ROWS($Q$261:Q283)-1,COLUMNS($Q$261:Q283)-1)<>\"\",OFFSET([1]DE100_7!$Q$261,ROWS($Q$261:Q283)-1,COLUMNS($Q$261:Q283)-1),\"\")","v":{"$error":"#VALUE!"}},{"$f":"IF(OFFSET([1]DE100_7!$R$261,ROWS($R$261:R283)-1,COLUMNS($R$261:R283)-1)<>\"\",OFFSET([1]DE100_7!$R$261,ROWS($R$261:R283)-1,COLUMNS($R$261:R283)-1),\"\")","v":{"$error":"#VALUE!"}},{"$f":"IF(OFFSET([1]DE100_7!$S$261,ROWS($S$261:S283)-1,COLUMNS($S$261:S283)-1)<>\"\",OFFSET([1]DE100_7!$S$261,ROWS($S$261:S283)-1,COLUMNS($S$261:S283)-1),\"\")","v":{"$error":"#VALUE!"}},{"$f":"IF(OFFSET([1]DE100_7!$T$261,ROWS($T$261:T283)-1,COLUMNS($T$261:T283)-1)<>\"\",OFFSET([1]DE100_7!$T$261,ROWS($T$261:T283)-1,COLUMNS($T$261:T283)-1),\"\")","v":{"$error":"#VALUE!"}},{"$f":"IF(OFFSET([1]DE100_7!$U$261,ROWS($U$261:U283)-1,COLUMNS($U$261:U283)-1)<>\"\",OFFSET([1]DE100_7!$U$261,ROWS($U$261:U283)-1,COLUMNS($U$261:U283)-1),\"\")","v":{"$error":"#VALUE!"}},{"$f":"IF(OFFSET([1]DE100_7!$V$261,ROWS($V$261:V283)-1,COLUMNS($V$261:V283)-1)<>\"\",OFFSET([1]DE100_7!$V$261,ROWS($V$261:V283)-1,COLUMNS($V$261:V283)-1),\"\")","v":{"$error":"#VALUE!"}}]
[{"$f":"IF(OFFSET([1]DE100_7!$C$261,ROWS($C$261:C284)-1,COLUMNS($C$261:C284)-1)<>\"\",OFFSET([1]DE100_7!$C$261,ROWS($C$261:C284)-1,COLUMNS($C$261:C284)-1),\"\")","v":{"$error":"#VALUE!"}},{"$f":"IF(OFFSET([1]DE100_7!$D$261,ROWS($D$261:D284)-1,COLUMNS($D$261:D284)-1)<>\"\",OFFSET([1]DE100_7!$D$261,ROWS($D$261:D284)-1,COLUMNS($D$261:D284)-1),\"\")","v":{"$error":"#VALUE!"}},{"$f":"IF(OFFSET([1]DE100_7!$E$261,ROWS($E$261:E284)-1,COLUMNS($E$261:E284)-1)<>\"\",OFFSET([1]DE100_7!$E$261,ROWS($E$261:E284)-1,COLUMNS($E$261:E284)-1),\"\")","v":{"$error":"#VALUE!"}},{"$f":"IF(OFFSET([1]DE100_7!$F$261,ROWS($F$261:F284)-1,COLUMNS($F$261:F284)-1)<>\"\",OFFSET([1]DE100_7!$F$261,ROWS($F$261:F284)-1,COLUMNS($F$261:F284)-1),\"\")","v":{"$error":"#VALUE!"}},{"$f":"IF(OFFSET([1]DE100_7!$G$261,ROWS($G$261:G284)-1,COLUMNS($G$261:G284)-1)<>\"\",OFFSET([1]DE100_7!$G$261,ROWS($G$261:G284)-1,COLUMNS($G$261:G284)-1),\"\")","v":{"$error":"#VALUE!"}},{"$f":"IF(OFFSET([1]DE100_7!$H$261,ROWS($H$261:H284)-1,COLUMNS($H$261:H284)-1)<>\"\",OFFSET([1]DE100_7!$H$261,ROWS($H$261:H284)-1,COLUMNS($H$261:H284)-1),\"\")","v":{"$error":"#VALUE!"}},{"$f":"IF(OFFSET([1]DE100_7!$I$261,ROWS($I$261:I284)-1,COLUMNS($I$261:I284)-1)<>\"\",OFFSET([1]DE100_7!$I$261,ROWS($I$261:I284)-1,COLUMNS($I$261:I284)-1),\"\")","v":{"$error":"#VALUE!"}},{"$f":"IF(OFFSET([1]DE100_7!$J$261,ROWS($J$261:J284)-1,COLUMNS($J$261:J284)-1)<>\"\",OFFSET([1]DE100_7!$J$261,ROWS($J$261:J284)-1,COLUMNS($J$261:J284)-1),\"\")","v":{"$error":"#VALUE!"}},{"$f":"IF(OFFSET([1]DE100_7!$K$261,ROWS($K$261:K284)-1,COLUMNS($K$261:K284)-1)<>\"\",OFFSET([1]DE100_7!$K$261,ROWS($K$261:K284)-1,COLUMNS($K$261:K284)-1),\"\")","v":{"$error":"#VALUE!"}},{"$f":"IF(OFFSET([1]DE100_7!$L$261,ROWS($L$261:L284)-1,COLUMNS($L$261:L284)-1)<>\"\",OFFSET([1]DE100_7!$L$261,ROWS($L$261:L284)-1,COLUMNS($L$261:L284)-1),\"\")","v":{"$error":"#VALUE!"}},{"$f":"IF(OFFSET([1]DE100_7!$M$261,ROWS($M$261:M284)-1,COLUMNS($M$261:M284)-1)<>\"\",OFFSET([1]DE100_7!$M$261,ROWS($M$261:M284)-1,COLUMNS($M$261:M284)-1),\"\")","v":{"$error":"#VALUE!"}},{"$f":"IF(OFFSET([1]DE100_7!$N$261,ROWS($N$261:N284)-1,COLUMNS($N$261:N284)-1)<>\"\",OFFSET([1]DE100_7!$N$261,ROWS($N$261:N284)-1,COLUMNS($N$261:N284)-1),\"\")","v":{"$error":"#VALUE!"}},{"$f":"IF(OFFSET([1]DE100_7!$O$261,ROWS($O$261:O284)-1,COLUMNS($O$261:O284)-1)<>\"\",OFFSET([1]DE100_7!$O$261,ROWS($O$261:O284)-1,COLUMNS($O$261:O284)-1),\"\")","v":{"$error":"#VALUE!"}},{"$f":"IF(OFFSET([1]DE100_7!$P$261,ROWS($P$261:P284)-1,COLUMNS($P$261:P284)-1)<>\"\",OFFSET([1]DE100_7!$P$261,ROWS($P$261:P284)-1,COLUMNS($P$261:P284)-1),\"\")","v":{"$error":"#VALUE!"}},{"$f":"IF(OFFSET([1]DE100_7!$Q$261,ROWS($Q$261:Q284)-1,COLUMNS($Q$261:Q284)-1)<>\"\",OFFSET([1]DE100_7!$Q$261,ROWS($Q$261:Q284)-1,COLUMNS($Q$261:Q284)-1),\"\")","v":{"$error":"#VALUE!"}},{"$f":"IF(OFFSET([1]DE100_7!$R$261,ROWS($R$261:R284)-1,COLUMNS($R$261:R284)-1)<>\"\",OFFSET([1]DE100_7!$R$261,ROWS($R$261:R284)-1,COLUMNS($R$261:R284)-1),\"\")","v":{"$error":"#VALUE!"}},{"$f":"IF(OFFSET([1]DE100_7!$S$261,ROWS($S$261:S284)-1,COLUMNS($S$261:S284)-1)<>\"\",OFFSET([1]DE100_7!$S$261,ROWS($S$261:S284)-1,COLUMNS($S$261:S284)-1),\"\")","v":{"$error":"#VALUE!"}},{"$f":"IF(OFFSET([1]DE100_7!$T$261,ROWS($T$261:T284)-1,COLUMNS($T$261:T284)-1)<>\"\",OFFSET([1]DE100_7!$T$261,ROWS($T$261:T284)-1,COLUMNS($T$261:T284)-1),\"\")","v":{"$error":"#VALUE!"}},{"$f":"IF(OFFSET([1]DE100_7!$U$261,ROWS($U$261:U284)-1,COLUMNS($U$261:U284)-1)<>\"\",OFFSET([1]DE100_7!$U$261,ROWS($U$261:U284)-1,COLUMNS($U$261:U284)-1),\"\")","v":{"$error":"#VALUE!"}},{"$f":"IF(OFFSET([1]DE100_7!$V$261,ROWS($V$261:V284)-1,COLUMNS($V$261:V284)-1)<>\"\",OFFSET([1]DE100_7!$V$261,ROWS($V$261:V284)-1,COLUMNS($V$261:V284)-1),\"\")","v":{"$error":"#VALUE!"}}]
[{"$f":"IF(OFFSET([1]DE100_7!$C$261,ROWS($C$261:C285)-1,COLUMNS($C$261:C285)-1)<>\"\",OFFSET([1]DE100_7!$C$261,ROWS($C$261:C285)-1,COLUMNS($C$261:C285)-1),\"\")","v":{"$error":"#VALUE!"}},{"$f":"IF(OFFSET([1]DE100_7!$D$261,ROWS($D$261:D285)-1,COLUMNS($D$261:D285)-1)<>\"\",OFFSET([1]DE100_7!$D$261,ROWS($D$261:D285)-1,COLUMNS($D$261:D285)-1),\"\")","v":{"$error":"#VALUE!"}},{"$f":"IF(OFFSET([1]DE100_7!$E$261,ROWS($E$261:E285)-1,COLUMNS($E$261:E285)-1)<>\"\",OFFSET([1]DE100_7!$E$261,ROWS($E$261:E285)-1,COLUMNS($E$261:E285)-1),\"\")","v":{"$error":"#VALUE!"}},{"$f":"IF(OFFSET([1]DE100_7!$F$261,ROWS($F$261:F285)-1,COLUMNS($F$261:F285)-1)<>\"\",OFFSET([1]DE100_7!$F$261,ROWS($F$261:F285)-1,COLUMNS($F$261:F285)-1),\"\")","v":{"$error":"#VALUE!"}},{"$f":"IF(OFFSET([1]DE100_7!$G$261,ROWS($G$261:G285)-1,COLUMNS($G$261:G285)-1)<>\"\",OFFSET([1]DE100_7!$G$261,ROWS($G$261:G285)-1,COLUMNS($G$261:G285)-1),\"\")","v":{"$error":"#VALUE!"}},{"$f":"IF(OFFSET([1]DE100_7!$H$261,ROWS($H$261:H285)-1,COLUMNS($H$261:H285)-1)<>\"\",OFFSET([1]DE100_7!$H$261,ROWS($H$261:H285)-1,COLUMNS($H$261:H285)-1),\"\")","v":{"$error":"#VALUE!"}},{"$f":"IF(OFFSET([1]DE100_7!$I$261,ROWS($I$261:I285)-1,COLUMNS($I$261:I285)-1)<>\"\",OFFSET([1]DE100_7!$I$261,ROWS($I$261:I285)-1,COLUMNS($I$261:I285)-1),\"\")","v":{"$error":"#VALUE!"}},{"$f":"IF(OFFSET([1]DE100_7!$J$261,ROWS($J$261:J285)-1,COLUMNS($J$261:J285)-1)<>\"\",OFFSET([1]DE100_7!$J$261,ROWS($J$261:J285)-1,COLUMNS($J$261:J285)-1),\"\")","v":{"$error":"#VALUE!"}},{"$f":"IF(OFFSET([1]DE100_7!$K$261,ROWS($K$261:K285)-1,COLUMNS($K$261:K285)-1)<>\"\",OFFSET([1]DE100_7!$K$261,ROWS($K$261:K285)-1,COLUMNS($K$261:K285)-1),\"\")","v":{"$error":"#VALUE!"}},{"$f":"IF(OFFSET([1]DE100_7!$L$261,ROWS($L$261:L285)-1,COLUMNS($L$261:L285)-1)<>\"\",OFFSET([1]DE100_7!$L$261,ROWS($L$261:L285)-1,COLUMNS($L$261:L285)-1),\"\")","v":{"$error":"#VALUE!"}},{"$f":"IF(OFFSET([1]DE100_7!$M$261,ROWS($M$261:M285)-1,COLUMNS($M$261:M285)-1)<>\"\",OFFSET([1]DE100_7!$M$261,ROWS($M$261:M285)-1,COLUMNS($M$261:M285)-1),\"\")","v":{"$error":"#VALUE!"}},{"$f":"IF(OFFSET([1]DE100_7!$N$261,ROWS($N$261:N285)-1,COLUMNS($N$261:N285)-1)<>\"\",OFFSET([1]DE100_7!$N$261,ROWS($N$261:N285)-1,COLUMNS($N$261:N285)-1),\"\")","v":{"$error":"#VALUE!"}},{"$f":"IF(OFFSET([1]DE100_7!$O$261,ROWS($O$261:O285)-1,COLUMNS($O$261:O285)-1)<>\"\",OFFSET([1]DE100_7!$O$261,ROWS($O$261:O285)-1,COLUMNS($O$261:O285)-1),\"\")","v":{"$error":"#VALUE!"}},{"$f":"IF(OFFSET([1]DE100_7!$P$261,ROWS($P$261:P285)-1,COLUMNS($P$261:P285)-1)<>\"\",OFFSET([1]DE100_7!$P$261,ROWS($P$261:P285)-1,COLUMNS($P$261:P285)-1),\"\")","v":{"$error":"#VALUE!"}},{"$f":"IF(OFFSET([1]DE100_7!$Q$261,ROWS($Q$261:Q285)-1,COLUMNS($Q$261:Q285)-1)<>\"\",OFFSET([1]DE100_7!$Q$261,ROWS($Q$261:Q285)-1,COLUMNS($Q$261:Q285)-1),\"\")","v":{"$error":"#VALUE!"}},{"$f":"IF(OFFSET([1]DE100_7!$R$261,ROWS($R$261:R285)-1,COLUMNS($R$261:R285)-1)<>\"\",OFFSET([1]DE100_7!$R$261,ROWS($R$261:R285)-1,COLUMNS($R$261:R285)-1),\"\")","v":{"$error":"#VALUE!"}},{"$f":"IF(OFFSET([1]DE100_7!$S$261,ROWS($S$261:S285)-1,COLUMNS($S$261:S285)-1)<>\"\",OFFSET([1]DE100_7!$S$261,ROWS($S$261:S285)-1,COLUMNS($S$261:S285)-1),\"\")","v":{"$error":"#VALUE!"}},{"$f":"IF(OFFSET([1]DE100_7!$T$261,ROWS($T$261:T285)-1,COLUMNS($T$261:T285)-1)<>\"\",OFFSET([1]DE100_7!$T$261,ROWS($T$261:T285)-1,COLUMNS($T$261:T285)-1),\"\")","v":{"$error":"#VALUE!"}},{"$f":"IF(OFFSET([1]DE100_7!$U$261,ROWS($U$261:U285)-1,COLUMNS($U$261:U285)-1)<>\"\",OFFSET([1]DE100_7!$U$261,ROWS($U$261:U285)-1,COLUMNS($U$261:U285)-1),\"\")","v":{"$error":"#VALUE!"}},{"$f":"IF(OFFSET([1]DE100_7!$V$261,ROWS($V$261:V285)-1,COLUMNS($V$261:V285)-1)<>\"\",OFFSET([1]DE100_7!$V$261,ROWS($V$261:V285)-1,COLUMNS($V$261:V285)-1),\"\")","v":{"$error":"#VALUE!"}}]
[{"$f":"IF(OFFSET([1]DE100_7!$C$261,ROWS($C$261:C286)-1,COLUMNS($C$261:C286)-1)<>\"\",OFFSET([1]DE100_7!$C$261,ROWS($C$261:C286)-1,COLUMNS($C$261:C286)-1),\"\")","v":{"$error":"#VALUE!"}},{"$f":"IF(OFFSET([1]DE100_7!$D$261,ROWS($D$261:D286)-1,COLUMNS($D$261:D286)-1)<>\"\",OFFSET([1]DE100_7!$D$261,ROWS($D$261:D286)-1,COLUMNS($D$261:D286)-1),\"\")","v":{"$error":"#VALUE!"}},{"$f":"IF(OFFSET([1]DE100_7!$E$261,ROWS($E$261:E286)-1,COLUMNS($E$261:E286)-1)<>\"\",OFFSET([1]DE100_7!$E$261,ROWS($E$261:E286)-1,COLUMNS($E$261:E286)-1),\"\")","v":{"$error":"#VALUE!"}},{"$f":"IF(OFFSET([1]DE100_7!$F$261,ROWS($F$261:F286)-1,COLUMNS($F$261:F286)-1)<>\"\",OFFSET([1]DE100_7!$F$261,ROWS($F$261:F286)-1,COLUMNS($F$261:F286)-1),\"\")","v":{"$error":"#VALUE!"}},{"$f":"IF(OFFSET([1]DE100_7!$G$261,ROWS($G$261:G286)-1,COLUMNS($G$261:G286)-1)<>\"\",OFFSET([1]DE100_7!$G$261,ROWS($G$261:G286)-1,COLUMNS($G$261:G286)-1),\"\")","v":{"$error":"#VALUE!"}},{"$f":"IF(OFFSET([1]DE100_7!$H$261,ROWS($H$261:H286)-1,COLUMNS($H$261:H286)-1)<>\"\",OFFSET([1]DE100_7!$H$261,ROWS($H$261:H286)-1,COLUMNS($H$261:H286)-1),\"\")","v":{"$error":"#VALUE!"}},{"$f":"IF(OFFSET([1]DE100_7!$I$261,ROWS($I$261:I286)-1,COLUMNS($I$261:I286)-1)<>\"\",OFFSET([1]DE100_7!$I$261,ROWS($I$261:I286)-1,COLUMNS($I$261:I286)-1),\"\")","v":{"$error":"#VALUE!"}},{"$f":"IF(OFFSET([1]DE100_7!$J$261,ROWS($J$261:J286)-1,COLUMNS($J$261:J286)-1)<>\"\",OFFSET([1]DE100_7!$J$261,ROWS($J$261:J286)-1,COLUMNS($J$261:J286)-1),\"\")","v":{"$error":"#VALUE!"}},{"$f":"IF(OFFSET([1]DE100_7!$K$261,ROWS($K$261:K286)-1,COLUMNS($K$261:K286)-1)<>\"\",OFFSET([1]DE100_7!$K$261,ROWS($K$261:K286)-1,COLUMNS($K$261:K286)-1),\"\")","v":{"$error":"#VALUE!"}},{"$f":"IF(OFFSET([1]DE100_7!$L$261,ROWS($L$261:L286)-1,COLUMNS($L$261:L286)-1)<>\"\",OFFSET([1]DE100_7!$L$261,ROWS($L$261:L286)-1,COLUMNS($L$261:L286)-1),\"\")","v":{"$error":"#VALUE!"}},{"$f":"IF(OFFSET([1]DE100_7!$M$261,ROWS($M$261:M286)-1,COLUMNS($M$261:M286)-1)<>\"\",OFFSET([1]DE100_7!$M$261,ROWS($M$261:M286)-1,COLUMNS($M$261:M286)-1),\"\")","v":{"$error":"#VALUE!"}},{"$f":"IF(OFFSET([1]DE100_7!$N$261,ROWS($N$261:N286)-1,COLUMNS($N$261:N286)-1)<>\"\",OFFSET([1]DE100_7!$N$261,ROWS($N$261:N286)-1,COLUMNS($N$261:N286)-1),\"\")","v":{"$error":"#VALUE!"}},{"$f":"IF(OFFSET([1]DE100_7!$O$261,ROWS($O$261:O286)-1,COLUMNS($O$261:O286)-1)<>\"\",OFFSET([1]DE100_7!$O$261,ROWS($O$261:O286)-1,COLUMNS($O$261:O286)-1),\"\")","v":{"$error":"#VALUE!"}},{"$f":"IF(OFFSET([1]DE100_7!$P$261,ROWS($P$261:P286)-1,COLUMNS($P$261:P286)-1)<>\"\",OFFSET([1]DE100_7!$P$261,ROWS($P$261:P286)-1,COLUMNS($P$261:P286)-1),\"\")","v":{"$error":"#VALUE!"}},{"$f":"IF(OFFSET([1]DE100_7!$Q$261,ROWS($Q$261:Q286)-1,COLUMNS($Q$261:Q286)-1)<>\"\",OFFSET([1]DE100_7!$Q$261,ROWS($Q$261:Q286)-1,COLUMNS($Q$261:Q286)-1),\"\")","v":{"$error":"#VALUE!"}},{"$f":"IF(OFFSET([1]DE100_7!$R$261,ROWS($R$261:R286)-1,COLUMNS($R$261:R286)-1)<>\"\",OFFSET([1]DE100_7!$R$261,ROWS($R$261:R286)-1,COLUMNS($R$261:R286)-1),\"\")","v":{"$error":"#VALUE!"}},{"$f":"IF(OFFSET([1]DE100_7!$S$261,ROWS($S$261:S286)-1,COLUMNS($S$261:S286)-1)<>\"\",OFFSET([1]DE100_7!$S$261,ROWS($S$261:S286)-1,COLUMNS($S$261:S286)-1),\"\")","v":{"$error":"#VALUE!"}},{"$f":"IF(OFFSET([1]DE100_7!$T$261,ROWS($T$261:T286)-1,COLUMNS($T$261:T286)-1)<>\"\",OFFSET([1]DE100_7!$T$261,ROWS($T$261:T286)-1,COLUMNS($T$261:T286)-1),\"\")","v":{"$error":"#VALUE!"}},{"$f":"IF(OFFSET([1]DE100_7!$U$261,ROWS($U$261:U286)-1,COLUMNS($U$261:U286)-1)<>\"\",OFFSET([1]DE100_7!$U$261,ROWS($U$261:U286)-1,COLUMNS($U$261:U286)-1),\"\")","v":{"$error":"#VALUE!"}},{"$f":"IF(OFFSET([1]DE100_7!$V$261,ROWS($V$261:V286)-1,COLUMNS($V$261:V286)-1)<>\"\",OFFSET([1]DE100_7!$V$261,ROWS($V$261:V286)-1,COLUMNS($V$261:V286)-1),\"\")","v":{"$error":"#VALUE!"}}]
[{"$f":"IF(OFFSET([1]DE100_7!$C$261,ROWS($C$261:C287)-1,COLUMNS($C$261:C287)-1)<>\"\",OFFSET([1]DE100_7!$C$261,ROWS($C$261:C287)-1,COLUMNS($C$261:C287)-1),\"\")","v":{"$error":"#VALUE!"}},{"$f":"IF(OFFSET([1]DE100_7!$D$261,ROWS($D$261:D287)-1,COLUMNS($D$261:D287)-1)<>\"\",OFFSET([1]DE100_7!$D$261,ROWS($D$261:D287)-1,COLUMNS($D$261:D287)-1),\"\")","v":{"$error":"#VALUE!"}},{"$f":"IF(OFFSET([1]DE100_7!$E$261,ROWS($E$261:E287)-1,COLUMNS($E$261:E287)-1)<>\"\",OFFSET([1]DE100_7!$E$261,ROWS($E$261:E287)-1,COLUMNS($E$261:E287)-1),\"\")","v":{"$error":"#VALUE!"}},{"$f":"IF(OFFSET([1]DE100_7!$F$261,ROWS($F$261:F287)-1,COLUMNS($F$261:F287)-1)<>\"\",OFFSET([1]DE100_7!$F$261,ROWS($F$261:F287)-1,COLUMNS($F$261:F287)-1),\"\")","v":{"$error":"#VALUE!"}},{"$f":"IF(OFFSET([1]DE100_7!$G$261,ROWS($G$261:G287)-1,COLUMNS($G$261:G287)-1)<>\"\",OFFSET([1]DE100_7!$G$261,ROWS($G$261:G287)-1,COLUMNS($G$261:G287)-1),\"\")","v":{"$error":"#VALUE!"}},{"$f":"IF(OFFSET([1]DE100_7!$H$261,ROWS($H$261:H287)-1,COLUMNS($H$261:H287)-1)<>\"\",OFFSET([1]DE100_7!$H$261,ROWS($H$261:H287)-1,COLUMNS($H$261:H287)-1),\"\")","v":{"$error":"#VALUE!"}},{"$f":"IF(OFFSET([1]DE100_7!$I$261,ROWS($I$261:I287)-1,COLUMNS($I$261:I287)-1)<>\"\",OFFSET([1]DE100_7!$I$261,ROWS($I$261:I287)-1,COLUMNS($I$261:I287)-1),\"\")","v":{"$error":"#VALUE!"}},{"$f":"IF(OFFSET([1]DE100_7!$J$261,ROWS($J$261:J287)-1,COLUMNS($J$261:J287)-1)<>\"\",OFFSET([1]DE100_7!$J$261,ROWS($J$261:J287)-1,COLUMNS($J$261:J287)-1),\"\")","v":{"$error":"#VALUE!"}},{"$f":"IF(OFFSET([1]DE100_7!$K$261,ROWS($K$261:K287)-1,COLUMNS($K$261:K287)-1)<>\"\",OFFSET([1]DE100_7!$K$261,ROWS($K$261:K287)-1,COLUMNS($K$261:K287)-1),\"\")","v":{"$error":"#VALUE!"}},{"$f":"IF(OFFSET([1]DE100_7!$L$261,ROWS($L$261:L287)-1,COLUMNS($L$261:L287)-1)<>\"\",OFFSET([1]DE100_7!$L$261,ROWS($L$261:L287)-1,COLUMNS($L$261:L287)-1),\"\")","v":{"$error":"#VALUE!"}},{"$f":"IF(OFFSET([1]DE100_7!$M$261,ROWS($M$261:M287)-1,COLUMNS($M$261:M287)-1)<>\"\",OFFSET([1]DE100_7!$M$261,ROWS($M$261:M287)-1,COLUMNS($M$261:M287)-1),\"\")","v":{"$error":"#VALUE!"}},{"$f":"IF(OFFSET([1]DE100_7!$N$261,ROWS($N$261:N287)-1,COLUMNS($N$261:N287)-1)<>\"\",OFFSET([1]DE100_7!$N$261,ROWS($N$261:N287)-1,COLUMNS($N$261:N287)-1),\"\")","v":{"$error":"#VALUE!"}},{"$f":"IF(OFFSET([1]DE100_7!$O$261,ROWS($O$261:O287)-1,COLUMNS($O$261:O287)-1)<>\"\",OFFSET([1]DE100_7!$O$261,ROWS($O$261:O287)-1,COLUMNS($O$261:O287)-1),\"\")","v":{"$error":"#VALUE!"}},{"$f":"IF(OFFSET([1]DE100_7!$P$261,ROWS($P$261:P287)-1,COLUMNS($P$261:P287)-1)<>\"\",OFFSET([1]DE100_7!$P$261,ROWS($P$261:P287)-1,COLUMNS($P$261:P287)-1),\"\")","v":{"$error":"#VALUE!"}},{"$f":"IF(OFFSET([1]DE100_7!$Q$261,ROWS($Q$261:Q287)-1,COLUMNS($Q$261:Q287)-1)<>\"\",OFFSET([1]DE100_7!$Q$261,ROWS($Q$261:Q287)-1,COLUMNS($Q$261:Q287)-1),\"\")","v":{"$error":"#VALUE!"}},{"$f":"IF(OFFSET([1]DE100_7!$R$261,ROWS($R$261:R287)-1,COLUMNS($R$261:R287)-1)<>\"\",OFFSET([1]DE100_7!$R$261,ROWS($R$261:R287)-1,COLUMNS($R$261:R287)-1),\"\")","v":{"$error":"#VALUE!"}},{"$f":"IF(OFFSET([1]DE100_7!$S$261,ROWS($S$261:S287)-1,COLUMNS($S$261:S287)-1)<>\"\",OFFSET([1]DE100_7!$S$261,ROWS($S$261:S287)-1,COLUMNS($S$261:S287)-1),\"\")","v":{"$error":"#VALUE!"}},{"$f":"IF(OFFSET([1]DE100_7!$T$261,ROWS($T$261:T287)-1,COLUMNS($T$261:T287)-1)<>\"\",OFFSET([1]DE100_7!$T$261,ROWS($T$261:T287)-1,COLUMNS($T$261:T287)-1),\"\")","v":{"$error":"#VALUE!"}},{"$f":"IF(OFFSET([1]DE100_7!$U$261,ROWS($U$261:U287)-1,COLUMNS($U$261:U287)-1)<>\"\",OFFSET([1]DE100_7!$U$261,ROWS($U$261:U287)-1,COLUMNS($U$261:U287)-1),\"\")","v":{"$error":"#VALUE!"}},{"$f":"IF(OFFSET([1]DE100_7!$V$261,ROWS($V$261:V287)-1,COLUMNS($V$261:V287)-1)<>\"\",OFFSET([1]DE100_7!$V$261,ROWS($V$261:V287)-1,COLUMNS($V$261:V287)-1),\"\")","v":{"$error":"#VALUE!"}}]
[{"$f":"IF(OFFSET([1]DE100_7!$C$261,ROWS($C$261:C288)-1,COLUMNS($C$261:C288)-1)<>\"\",OFFSET([1]DE100_7!$C$261,ROWS($C$261:C288)-1,COLUMNS($C$261:C288)-1),\"\")","v":{"$error":"#VALUE!"}},{"$f":"IF(OFFSET([1]DE100_7!$D$261,ROWS($D$261:D288)-1,COLUMNS($D$261:D288)-1)<>\"\",OFFSET([1]DE100_7!$D$261,ROWS($D$261:D288)-1,COLUMNS($D$261:D288)-1),\"\")","v":{"$error":"#VALUE!"}},{"$f":"IF(OFFSET([1]DE100_7!$E$261,ROWS($E$261:E288)-1,COLUMNS($E$261:E288)-1)<>\"\",OFFSET([1]DE100_7!$E$261,ROWS($E$261:E288)-1,COLUMNS($E$261:E288)-1),\"\")","v":{"$error":"#VALUE!"}},{"$f":"IF(OFFSET([1]DE100_7!$F$261,ROWS($F$261:F288)-1,COLUMNS($F$261:F288)-1)<>\"\",OFFSET([1]DE100_7!$F$261,ROWS($F$261:F288)-1,COLUMNS($F$261:F288)-1),\"\")","v":{"$error":"#VALUE!"}},{"$f":"IF(OFFSET([1]DE100_7!$G$261,ROWS($G$261:G288)-1,COLUMNS($G$261:G288)-1)<>\"\",OFFSET([1]DE100_7!$G$261,ROWS($G$261:G288)-1,COLUMNS($G$261:G288)-1),\"\")","v":{"$error":"#VALUE!"}},{"$f":"IF(OFFSET([1]DE100_7!$H$261,ROWS($H$261:H288)-1,COLUMNS($H$261:H288)-1)<>\"\",OFFSET([1]DE100_7!$H$261,ROWS($H$261:H288)-1,COLUMNS($H$261:H288)-1),\"\")","v":{"$error":"#VALUE!"}},{"$f":"IF(OFFSET([1]DE100_7!$I$261,ROWS($I$261:I288)-1,COLUMNS($I$261:I288)-1)<>\"\",OFFSET([1]DE100_7!$I$261,ROWS($I$261:I288)-1,COLUMNS($I$261:I288)-1),\"\")","v":{"$error":"#VALUE!"}},{"$f":"IF(OFFSET([1]DE100_7!$J$261,ROWS($J$261:J288)-1,COLUMNS($J$261:J288)-1)<>\"\",OFFSET([1]DE100_7!$J$261,ROWS($J$261:J288)-1,COLUMNS($J$261:J288)-1),\"\")","v":{"$error":"#VALUE!"}},{"$f":"IF(OFFSET([1]DE100_7!$K$261,ROWS($K$261:K288)-1,COLUMNS($K$261:K288)-1)<>\"\",OFFSET([1]DE100_7!$K$261,ROWS($K$261:K288)-1,COLUMNS($K$261:K288)-1),\"\")","v":{"$error":"#VALUE!"}},{"$f":"IF(OFFSET([1]DE100_7!$L$261,ROWS($L$261:L288)-1,COLUMNS($L$261:L288)-1)<>\"\",OFFSET([1]DE100_7!$L$261,ROWS($L$261:L288)-1,COLUMNS($L$261:L288)-1),\"\")","v":{"$error":"#VALUE!"}},{"$f":"IF(OFFSET([1]DE100_7!$M$261,ROWS($M$261:M288)-1,COLUMNS($M$261:M288)-1)<>\"\",OFFSET([1]DE100_7!$M$261,ROWS($M$261:M288)-1,COLUMNS($M$261:M288)-1),\"\")","v":{"$error":"#VALUE!"}},{"$f":"IF(OFFSET([1]DE100_7!$N$261,ROWS($N$261:N288)-1,COLUMNS($N$261:N288)-1)<>\"\",OFFSET([1]DE100_7!$N$261,ROWS($N$261:N288)-1,COLUMNS($N$261:N288)-1),\"\")","v":{"$error":"#VALUE!"}},{"$f":"IF(OFFSET([1]DE100_7!$O$261,ROWS($O$261:O288)-1,COLUMNS($O$261:O288)-1)<>\"\",OFFSET([1]DE100_7!$O$261,ROWS($O$261:O288)-1,COLUMNS($O$261:O288)-1),\"\")","v":{"$error":"#VALUE!"}},{"$f":"IF(OFFSET([1]DE100_7!$P$261,ROWS($P$261:P288)-1,COLUMNS($P$261:P288)-1)<>\"\",OFFSET([1]DE100_7!$P$261,ROWS($P$261:P288)-1,COLUMNS($P$261:P288)-1),\"\")","v":{"$error":"#VALUE!"}},{"$f":"IF(OFFSET([1]DE100_7!$Q$261,ROWS($Q$261:Q288)-1,COLUMNS($Q$261:Q288)-1)<>\"\",OFFSET([1]DE100_7!$Q$261,ROWS($Q$261:Q288)-1,COLUMNS($Q$261:Q288)-1),\"\")","v":{"$error":"#VALUE!"}},{"$f":"IF(OFFSET([1]DE100_7!$R$261,ROWS($R$261:R288)-1,COLUMNS($R$261:R288)-1)<>\"\",OFFSET([1]DE100_7!$R$261,ROWS($R$261:R288)-1,COLUMNS($R$261:R288)-1),\"\")","v":{"$error":"#VALUE!"}},{"$f":"IF(OFFSET([1]DE100_7!$S$261,ROWS($S$261:S288)-1,COLUMNS($S$261:S288)-1)<>\"\",OFFSET([1]DE100_7!$S$261,ROWS($S$261:S288)-1,COLUMNS($S$261:S288)-1),\"\")","v":{"$error":"#VALUE!"}},{"$f":"IF(OFFSET([1]DE100_7!$T$261,ROWS($T$261:T288)-1,COLUMNS($T$261:T288)-1)<>\"\",OFFSET([1]DE100_7!$T$261,ROWS($T$261:T288)-1,COLUMNS($T$261:T288)-1),\"\")","v":{"$error":"#VALUE!"}},{"$f":"IF(OFFSET([1]DE100_7!$U$261,ROWS($U$261:U288)-1,COLUMNS($U$261:U288)-1)<>\"\",OFFSET([1]DE100_7!$U$261,ROWS($U$261:U288)-1,COLUMNS($U$261:U288)-1),\"\")","v":{"$error":"#VALUE!"}},{"$f":"IF(OFFSET([1]DE100_7!$V$261,ROWS($V$261:V288)-1,COLUMNS($V$261:V288)-1)<>\"\",OFFSET([1]DE100_7!$V$261,ROWS($V$261:V288)-1,COLUMNS($V$261:V288)-1),\"\")","v":{"$error":"#VALUE!"}}]
[{"$f":"IF(OFFSET([1]DE100_7!$C$261,ROWS($C$261:C289)-1,COLUMNS($C$261:C289)-1)<>\"\",OFFSET([1]DE100_7!$C$261,ROWS($C$261:C289)-1,COLUMNS($C$261:C289)-1),\"\")","v":{"$error":"#VALUE!"}},{"$f":"IF(OFFSET([1]DE100_7!$D$261,ROWS($D$261:D289)-1,COLUMNS($D$261:D289)-1)<>\"\",OFFSET([1]DE100_7!$D$261,ROWS($D$261:D289)-1,COLUMNS($D$261:D289)-1),\"\")","v":{"$error":"#VALUE!"}},{"$f":"IF(OFFSET([1]DE100_7!$E$261,ROWS($E$261:E289)-1,COLUMNS($E$261:E289)-1)<>\"\",OFFSET([1]DE100_7!$E$261,ROWS($E$261:E289)-1,COLUMNS($E$261:E289)-1),\"\")","v":{"$error":"#VALUE!"}},{"$f":"IF(OFFSET([1]DE100_7!$F$261,ROWS($F$261:F289)-1,COLUMNS($F$261:F289)-1)<>\"\",OFFSET([1]DE100_7!$F$261,ROWS($F$261:F289)-1,COLUMNS($F$261:F289)-1),\"\")","v":{"$error":"#VALUE!"}},{"$f":"IF(OFFSET([1]DE100_7!$G$261,ROWS($G$261:G289)-1,COLUMNS($G$261:G289)-1)<>\"\",OFFSET([1]DE100_7!$G$261,ROWS($G$261:G289)-1,COLUMNS($G$261:G289)-1),\"\")","v":{"$error":"#VALUE!"}},{"$f":"IF(OFFSET([1]DE100_7!$H$261,ROWS($H$261:H289)-1,COLUMNS($H$261:H289)-1)<>\"\",OFFSET([1]DE100_7!$H$261,ROWS($H$261:H289)-1,COLUMNS($H$261:H289)-1),\"\")","v":{"$error":"#VALUE!"}},{"$f":"IF(OFFSET([1]DE100_7!$I$261,ROWS($I$261:I289)-1,COLUMNS($I$261:I289)-1)<>\"\",OFFSET([1]DE100_7!$I$261,ROWS($I$261:I289)-1,COLUMNS($I$261:I289)-1),\"\")","v":{"$error":"#VALUE!"}},{"$f":"IF(OFFSET([1]DE100_7!$J$261,ROWS($J$261:J289)-1,COLUMNS($J$261:J289)-1)<>\"\",OFFSET([1]DE100_7!$J$261,ROWS($J$261:J289)-1,COLUMNS($J$261:J289)-1),\"\")","v":{"$error":"#VALUE!"}},{"$f":"IF(OFFSET([1]DE100_7!$K$261,ROWS($K$261:K289)-1,COLUMNS($K$261:K289)-1)<>\"\",OFFSET([1]DE100_7!$K$261,ROWS($K$261:K289)-1,COLUMNS($K$261:K289)-1),\"\")","v":{"$error":"#VALUE!"}},{"$f":"IF(OFFSET([1]DE100_7!$L$261,ROWS($L$261:L289)-1,COLUMNS($L$261:L289)-1)<>\"\",OFFSET([1]DE100_7!$L$261,ROWS($L$261:L289)-1,COLUMNS($L$261:L289)-1),\"\")","v":{"$error":"#VALUE!"}},{"$f":"IF(OFFSET([1]DE100_7!$M$261,ROWS($M$261:M289)-1,COLUMNS($M$261:M289)-1)<>\"\",OFFSET([1]DE100_7!$M$261,ROWS($M$261:M289)-1,COLUMNS($M$261:M289)-1),\"\")","v":{"$error":"#VALUE!"}},{"$f":"IF(OFFSET([1]DE100_7!$N$261,ROWS($N$261:N289)-1,COLUMNS($N$261:N289)-1)<>\"\",OFFSET([1]DE100_7!$N$261,ROWS($N$261:N289)-1,COLUMNS($N$261:N289)-1),\"\")","v":{"$error":"#VALUE!"}},{"$f":"IF(OFFSET([1]DE100_7!$O$261,ROWS($O$261:O289)-1,COLUMNS($O$261:O289)-1)<>\"\",OFFSET([1]DE100_7!$O$261,ROWS($O$261:O289)-1,COLUMNS($O$261:O289)-1),\"\")","v":{"$error":"#VALUE!"}},{"$f":"IF(OFFSET([1]DE100_7!$P$261,ROWS($P$261:P289)-1,COLUMNS($P$261:P289)-1)<>\"\",OFFSET([1]DE100_7!$P$261,ROWS($P$261:P289)-1,COLUMNS($P$261:P289)-1),\"\")","v":{"$error":"#VALUE!"}},{"$f":"IF(OFFSET([1]DE100_7!$Q$261,ROWS($Q$261:Q289)-1,COLUMNS($Q$261:Q289)-1)<>\"\",OFFSET([1]DE100_7!$Q$261,ROWS($Q$261:Q289)-1,COLUMNS($Q$261:Q289)-1),\"\")","v":{"$error":"#VALUE!"}},{"$f":"IF(OFFSET([1]DE100_7!$R$261,ROWS($R$261:R289)-1,COLUMNS($R$261:R289)-1)<>\"\",OFFSET([1]DE100_7!$R$261,ROWS($R$261:R289)-1,COLUMNS($R$261:R289)-1),\"\")","v":{"$error":"#VALUE!"}},{"$f":"IF(OFFSET([1]DE100_7!$S$261,ROWS($S$261:S289)-1,COLUMNS($S$261:S289)-1)<>\"\",OFFSET([1]DE100_7!$S$261,ROWS($S$261:S289)-1,COLUMNS($S$261:S289)-1),\"\")","v":{"$error":"#VALUE!"}},{"$f":"IF(OFFSET([1]DE100_7!$T$261,ROWS($T$261:T289)-1,COLUMNS($T$261:T289)-1)<>\"\",OFFSET([1]DE100_7!$T$261,ROWS($T$261:T289)-1,COLUMNS($T$261:T289)-1),\"\")","v":{"$error":"#VALUE!"}},{"$f":"IF(OFFSET([1]DE100_7!$U$261,ROWS($U$261:U289)-1,COLUMNS($U$261:U289)-1)<>\"\",OFFSET([1]DE100_7!$U$261,ROWS($U$261:U289)-1,COLUMNS($U$261:U289)-1),\"\")","v":{"$error":"#VALUE!"}},{"$f":"IF(OFFSET([1]DE100_7!$V$261,ROWS($V$261:V289)-1,COLUMNS($V$261:V289)-1)<>\"\",OFFSET([1]DE100_7!$V$261,ROWS($V$261:V289)-1,COLUMNS($V$261:V289)-1),\"\")","v":{"$error":"#VALUE!"}}]
[{"$f":"IF(OFFSET([1]DE100_7!$C$261,ROWS($C$261:C290)-1,COLUMNS($C$261:C290)-1)<>\"\",OFFSET([1]DE100_7!$C$261,ROWS($C$261:C290)-1,COLUMNS($C$261:C290)-1),\"\")","v":{"$error":"#VALUE!"}},{"$f":"IF(OFFSET([1]DE100_7!$D$261,ROWS($D$261:D290)-1,COLUMNS($D$261:D290)-1)<>\"\",OFFSET([1]DE100_7!$D$261,ROWS($D$261:D290)-1,COLUMNS($D$261:D290)-1),\"\")","v":{"$error":"#VALUE!"}},{"$f":"IF(OFFSET([1]DE100_7!$E$261,ROWS($E$261:E290)-1,COLUMNS($E$261:E290)-1)<>\"\",OFFSET([1]DE100_7!$E$261,ROWS($E$261:E290)-1,COLUMNS($E$261:E290)-1),\"\")","v":{"$error":"#VALUE!"}},{"$f":"IF(OFFSET([1]DE100_7!$F$261,ROWS($F$261:F290)-1,COLUMNS($F$261:F290)-1)<>\"\",OFFSET([1]DE100_7!$F$261,ROWS($F$261:F290)-1,COLUMNS($F$261:F290)-1),\"\")","v":{"$error":"#VALUE!"}},{"$f":"IF(OFFSET([1]DE100_7!$G$261,ROWS($G$261:G290)-1,COLUMNS($G$261:G290)-1)<>\"\",OFFSET([1]DE100_7!$G$261,ROWS($G$261:G290)-1,COLUMNS($G$261:G290)-1),\"\")","v":{"$error":"#VALUE!"}},{"$f":"IF(OFFSET([1]DE100_7!$H$261,ROWS($H$261:H290)-1,COLUMNS($H$261:H290)-1)<>\"\",OFFSET([1]DE100_7!$H$261,ROWS($H$261:H290)-1,COLUMNS($H$261:H290)-1),\"\")","v":{"$error":"#VALUE!"}},{"$f":"IF(OFFSET([1]DE100_7!$I$261,ROWS($I$261:I290)-1,COLUMNS($I$261:I290)-1)<>\"\",OFFSET([1]DE100_7!$I$261,ROWS($I$261:I290)-1,COLUMNS($I$261:I290)-1),\"\")","v":{"$error":"#VALUE!"}},{"$f":"IF(OFFSET([1]DE100_7!$J$261,ROWS($J$261:J290)-1,COLUMNS($J$261:J290)-1)<>\"\",OFFSET([1]DE100_7!$J$261,ROWS($J$261:J290)-1,COLUMNS($J$261:J290)-1),\"\")","v":{"$error":"#VALUE!"}},{"$f":"IF(OFFSET([1]DE100_7!$K$261,ROWS($K$261:K290)-1,COLUMNS($K$261:K290)-1)<>\"\",OFFSET([1]DE100_7!$K$261,ROWS($K$261:K290)-1,COLUMNS($K$261:K290)-1),\"\")","v":{"$error":"#VALUE!"}},{"$f":"IF(OFFSET([1]DE100_7!$L$261,ROWS($L$261:L290)-1,COLUMNS($L$261:L290)-1)<>\"\",OFFSET([1]DE100_7!$L$261,ROWS($L$261:L290)-1,COLUMNS($L$261:L290)-1),\"\")","v":{"$error":"#VALUE!"}},{"$f":"IF(OFFSET([1]DE100_7!$M$261,ROWS($M$261:M290)-1,COLUMNS($M$261:M290)-1)<>\"\",OFFSET([1]DE100_7!$M$261,ROWS($M$261:M290)-1,COLUMNS($M$261:M290)-1),\"\")","v":{"$error":"#VALUE!"}},{"$f":"IF(OFFSET([1]DE100_7!$N$261,ROWS($N$261:N290)-1,COLUMNS($N$261:N290)-1)<>\"\",OFFSET([1]DE100_7!$N$261,ROWS($N$261:N290)-1,COLUMNS($N$261:N290)-1),\"\")","v":{"$error":"#VALUE!"}},{"$f":"IF(OFFSET([1]DE100_7!$O$261,ROWS($O$261:O290)-1,COLUMNS($O$261:O290)-1)<>\"\",OFFSET([1]DE100_7!$O$261,ROWS($O$261:O290)-1,COLUMNS($O$261:O290)-1),\"\")","v":{"$error":"#VALUE!"}},{"$f":"IF(OFFSET([1]DE100_7!$P$261,ROWS($P$261:P290)-1,COLUMNS($P$261:P290)-1)<>\"\",OFFSET([1]DE100_7!$P$261,ROWS($P$261:P290)-1,COLUMNS($P$261:P290)-1),\"\")","v":{"$error":"#VALUE!"}},{"$f":"IF(OFFSET([1]DE100_7!$Q$261,ROWS($Q$261:Q290)-1,COLUMNS($Q$261:Q290)-1)<>\"\",OFFSET([1]DE100_7!$Q$261,ROWS($Q$261:Q290)-1,COLUMNS($Q$261:Q290)-1),\"\")","v":{"$error":"#VALUE!"}},{"$f":"IF(OFFSET([1]DE100_7!$R$261,ROWS($R$261:R290)-1,COLUMNS($R$261:R290)-1)<>\"\",OFFSET([1]DE100_7!$R$261,ROWS($R$261:R290)-1,COLUMNS($R$261:R290)-1),\"\")","v":{"$error":"#VALUE!"}},{"$f":"IF(OFFSET([1]DE100_7!$S$261,ROWS($S$261:S290)-1,COLUMNS($S$261:S290)-1)<>\"\",OFFSET([1]DE100_7!$S$261,ROWS($S$261:S290)-1,COLUMNS($S$261:S290)-1),\"\")","v":{"$error":"#VALUE!"}},{"$f":"IF(OFFSET([1]DE100_7!$T$261,ROWS($T$261:T290)-1,COLUMNS($T$261:T290)-1)<>\"\",OFFSET([1]DE100_7!$T$261,ROWS($T$261:T290)-1,COLUMNS($T$261:T290)-1),\"\")","v":{"$error":"#VALUE!"}},{"$f":"IF(OFFSET([1]DE100_7!$U$261,ROWS($U$261:U290)-1,COLUMNS($U$261:U290)-1)<>\"\",OFFSET([1]DE100_7!$U$261,ROWS($U$261:U290)-1,COLUMNS($U$261:U290)-1),\"\")","v":{"$error":"#VALUE!"}},{"$f":"IF(OFFSET([1]DE100_7!$V$261,ROWS($V$261:V290)-1,COLUMNS($V$261:V290)-1)<>\"\",OFFSET([1]DE100_7!$V$261,ROWS($V$261:V290)-1,COLUMNS($V$261:V290)-1),\"\")","v":{"$error":"#VALUE!"}}]
[{"$f":"IF(OFFSET([1]DE100_7!$C$261,ROWS($C$261:C291)-1,COLUMNS($C$261:C291)-1)<>\"\",OFFSET([1]DE100_7!$C$261,ROWS($C$261:C291)-1,COLUMNS($C$261:C291)-1),\"\")","v":{"$error":"#VALUE!"}},{"$f":"IF(OFFSET([1]DE100_7!$D$261,ROWS($D$261:D291)-1,COLUMNS($D$261:D291)-1)<>\"\",OFFSET([1]DE100_7!$D$261,ROWS($D$261:D291)-1,COLUMNS($D$261:D291)-1),\"\")","v":{"$error":"#VALUE!"}},{"$f":"IF(OFFSET([1]DE100_7!$E$261,ROWS($E$261:E291)-1,COLUMNS($E$261:E291)-1)<>\"\",OFFSET([1]DE100_7!$E$261,ROWS($E$261:E291)-1,COLUMNS($E$261:E291)-1),\"\")","v":{"$error":"#VALUE!"}},{"$f":"IF(OFFSET([1]DE100_7!$F$261,ROWS($F$261:F291)-1,COLUMNS($F$261:F291)-1)<>\"\",OFFSET([1]DE100_7!$F$261,ROWS($F$261:F291)-1,COLUMNS($F$261:F291)-1),\"\")","v":{"$error":"#VALUE!"}},{"$f":"IF(OFFSET([1]DE100_7!$G$261,ROWS($G$261:G291)-1,COLUMNS($G$261:G291)-1)<>\"\",OFFSET([1]DE100_7!$G$261,ROWS($G$261:G291)-1,COLUMNS($G$261:G291)-1),\"\")","v":{"$error":"#VALUE!"}},{"$f":"IF(OFFSET([1]DE100_7!$H$261,ROWS($H$261:H291)-1,COLUMNS($H$261:H291)-1)<>\"\",OFFSET([1]DE100_7!$H$261,ROWS($H$261:H291)-1,COLUMNS($H$261:H291)-1),\"\")","v":{"$error":"#VALUE!"}},{"$f":"IF(OFFSET([1]DE100_7!$I$261,ROWS($I$261:I291)-1,COLUMNS($I$261:I291)-1)<>\"\",OFFSET([1]DE100_7!$I$261,ROWS($I$261:I291)-1,COLUMNS($I$261:I291)-1),\"\")","v":{"$error":"#VALUE!"}},{"$f":"IF(OFFSET([1]DE100_7!$J$261,ROWS($J$261:J291)-1,COLUMNS($J$261:J291)-1)<>\"\",OFFSET([1]DE100_7!$J$261,ROWS($J$261:J291)-1,COLUMNS($J$261:J291)-1),\"\")","v":{"$error":"#VALUE!"}},{"$f":"IF(OFFSET([1]DE100_7!$K$261,ROWS($K$261:K291)-1,COLUMNS($K$261:K291)-1)<>\"\",OFFSET([1]DE100_7!$K$261,ROWS($K$261:K291)-1,COLUMNS($K$261:K291)-1),\"\")","v":{"$error":"#VALUE!"}},{"$f":"IF(OFFSET([1]DE100_7!$L$261,ROWS($L$261:L291)-1,COLUMNS($L$261:L291)-1)<>\"\",OFFSET([1]DE100_7!$L$261,ROWS($L$261:L291)-1,COLUMNS($L$261:L291)-1),\"\")","v":{"$error":"#VALUE!"}},{"$f":"IF(OFFSET([1]DE100_7!$M$261,ROWS($M$261:M291)-1,COLUMNS($M$261:M291)-1)<>\"\",OFFSET([1]DE100_7!$M$261,ROWS($M$261:M291)-1,COLUMNS($M$261:M291)-1),\"\")","v":{"$error":"#VALUE!"}},{"$f":"IF(OFFSET([1]DE100_7!$N$261,ROWS($N$261:N291)-1,COLUMNS($N$261:N291)-1)<>\"\",OFFSET([1]DE100_7!$N$261,ROWS($N$261:N291)-1,COLUMNS($N$261:N291)-1),\"\")","v":{"$error":"#VALUE!"}},{"$f":"IF(OFFSET([1]DE100_7!$O$261,ROWS($O$261:O291)-1,COLUMNS($O$261:O291)-1)<>\"\",OFFSET([1]DE100_7!$O$261,ROWS($O$261:O291)-1,COLUMNS($O$261:O291)-1),\"\")","v":{"$error":"#VALUE!"}},{"$f":"IF(OFFSET([1]DE100_7!$P$261,ROWS($P$261:P291)-1,COLUMNS($P$261:P291)-1)<>\"\",OFFSET([1]DE100_7!$P$261,ROWS($P$261:P291)-1,COLUMNS($P$261:P291)-1),\"\")","v":{"$error":"#VALUE!"}},{"$f":"IF(OFFSET([1]DE100_7!$Q$261,ROWS($Q$261:Q291)-1,COLUMNS($Q$261:Q291)-1)<>\"\",OFFSET([1]DE100_7!$Q$261,ROWS($Q$261:Q291)-1,COLUMNS($Q$261:Q291)-1),\"\")","v":{"$error":"#VALUE!"}},{"$f":"IF(OFFSET([1]DE100_7!$R$261,ROWS($R$261:R291)-1,COLUMNS($R$261:R291)-1)<>\"\",OFFSET([1]DE100_7!$R$261,ROWS($R$261:R291)-1,COLUMNS($R$261:R291)-1),\"\")","v":{"$error":"#VALUE!"}},{"$f":"IF(OFFSET([1]DE100_7!$S$261,ROWS($S$261:S291)-1,COLUMNS($S$261:S291)-1)<>\"\",OFFSET([1]DE100_7!$S$261,ROWS($S$261:S291)-1,COLUMNS($S$261:S291)-1),\"\")","v":{"$error":"#VALUE!"}},{"$f":"IF(OFFSET([1]DE100_7!$T$261,ROWS($T$261:T291)-1,COLUMNS($T$261:T291)-1)<>\"\",OFFSET([1]DE100_7!$T$261,ROWS($T$261:T291)-1,COLUMNS($T$261:T291)-1),\"\")","v":{"$error":"#VALUE!"}},{"$f":"IF(OFFSET([1]DE100_7!$U$261,ROWS($U$261:U291)-1,COLUMNS($U$261:U291)-1)<>\"\",OFFSET([1]DE100_7!$U$261,ROWS($U$261:U291)-1,COLUMNS($U$261:U291)-1),\"\")","v":{"$error":"#VALUE!"}},{"$f":"IF(OFFSET([1]DE100_7!$V$261,ROWS($V$261:V291)-1,COLUMNS($V$261:V291)-1)<>\"\",OFFSET([1]DE100_7!$V$261,ROWS($V$261:V291)-1,COLUMNS($V$261:V291)-1),\"\")","v":{"$error":"#VALUE!"}}]
[{"$f":"IF(OFFSET([1]DE100_7!$C$261,ROWS($C$261:C292)-1,COLUMNS($C$261:C292)-1)<>\"\",OFFSET([1]DE100_7!$C$261,ROWS($C$261:C292)-1,COLUMNS($C$261:C292)-1),\"\")","v":{"$error":"#VALUE!"}},{"$f":"IF(OFFSET([1]DE100_7!$D$261,ROWS($D$261:D292)-1,COLUMNS($D$261:D292)-1)<>\"\",OFFSET([1]DE100_7!$D$261,ROWS($D$261:D292)-1,COLUMNS($D$261:D292)-1),\"\")","v":{"$error":"#VALUE!"}},{"$f":"IF(OFFSET([1]DE100_7!$E$261,ROWS($E$261:E292)-1,COLUMNS($E$261:E292)-1)<>\"\",OFFSET([1]DE100_7!$E$261,ROWS($E$261:E292)-1,COLUMNS($E$261:E292)-1),\"\")","v":{"$error":"#VALUE!"}},{"$f":"IF(OFFSET([1]DE100_7!$F$261,ROWS($F$261:F292)-1,COLUMNS($F$261:F292)-1)<>\"\",OFFSET([1]DE100_7!$F$261,ROWS($F$261:F292)-1,COLUMNS($F$261:F292)-1),\"\")","v":{"$error":"#VALUE!"}},{"$f":"IF(OFFSET([1]DE100_7!$G$261,ROWS($G$261:G292)-1,COLUMNS($G$261:G292)-1)<>\"\",OFFSET([1]DE100_7!$G$261,ROWS($G$261:G292)-1,COLUMNS($G$261:G292)-1),\"\")","v":{"$error":"#VALUE!"}},{"$f":"IF(OFFSET([1]DE100_7!$H$261,ROWS($H$261:H292)-1,COLUMNS($H$261:H292)-1)<>\"\",OFFSET([1]DE100_7!$H$261,ROWS($H$261:H292)-1,COLUMNS($H$261:H292)-1),\"\")","v":{"$error":"#VALUE!"}},{"$f":"IF(OFFSET([1]DE100_7!$I$261,ROWS($I$261:I292)-1,COLUMNS($I$261:I292)-1)<>\"\",OFFSET([1]DE100_7!$I$261,ROWS($I$261:I292)-1,COLUMNS($I$261:I292)-1),\"\")","v":{"$error":"#VALUE!"}},{"$f":"IF(OFFSET([1]DE100_7!$J$261,ROWS($J$261:J292)-1,COLUMNS($J$261:J292)-1)<>\"\",OFFSET([1]DE100_7!$J$261,ROWS($J$261:J292)-1,COLUMNS($J$261:J292)-1),\"\")","v":{"$error":"#VALUE!"}},{"$f":"IF(OFFSET([1]DE100_7!$K$261,ROWS($K$261:K292)-1,COLUMNS($K$261:K292)-1)<>\"\",OFFSET([1]DE100_7!$K$261,ROWS($K$261:K292)-1,COLUMNS($K$261:K292)-1),\"\")","v":{"$error":"#VALUE!"}},{"$f":"IF(OFFSET([1]DE100_7!$L$261,ROWS($L$261:L292)-1,COLUMNS($L$261:L292)-1)<>\"\",OFFSET([1]DE100_7!$L$261,ROWS($L$261:L292)-1,COLUMNS($L$261:L292)-1),\"\")","v":{"$error":"#VALUE!"}},{"$f":"IF(OFFSET([1]DE100_7!$M$261,ROWS($M$261:M292)-1,COLUMNS($M$261:M292)-1)<>\"\",OFFSET([1]DE100_7!$M$261,ROWS($M$261:M292)-1,COLUMNS($M$261:M292)-1),\"\")","v":{"$error":"#VALUE!"}},{"$f":"IF(OFFSET([1]DE100_7!$N$261,ROWS($N$261:N292)-1,COLUMNS($N$261:N292)-1)<>\"\",OFFSET([1]DE100_7!$N$261,ROWS($N$261:N292)-1,COLUMNS($N$261:N292)-1),\"\")","v":{"$error":"#VALUE!"}},{"$f":"IF(OFFSET([1]DE100_7!$O$261,ROWS($O$261:O292)-1,COLUMNS($O$261:O292)-1)<>\"\",OFFSET([1]DE100_7!$O$261,ROWS($O$261:O292)-1,COLUMNS($O$261:O292)-1),\"\")","v":{"$error":"#VALUE!"}},{"$f":"IF(OFFSET([1]DE100_7!$P$261,ROWS($P$261:P292)-1,COLUMNS($P$261:P292)-1)<>\"\",OFFSET([1]DE100_7!$P$261,ROWS($P$261:P292)-1,COLUMNS($P$261:P292)-1),\"\")","v":{"$error":"#VALUE!"}},{"$f":"IF(OFFSET([1]DE100_7!$Q$261,ROWS($Q$261:Q292)-1,COLUMNS($Q$261:Q292)-1)<>\"\",OFFSET([1]DE100_7!$Q$261,ROWS($Q$261:Q292)-1,COLUMNS($Q$261:Q292)-1),\"\")","v":{"$error":"#VALUE!"}},{"$f":"IF(OFFSET([1]DE100_7!$R$261,ROWS($R$261:R292)-1,COLUMNS($R$261:R292)-1)<>\"\",OFFSET([1]DE100_7!$R$261,ROWS($R$261:R292)-1,COLUMNS($R$261:R292)-1),\"\")","v":{"$error":"#VALUE!"}},{"$f":"IF(OFFSET([1]DE100_7!$S$261,ROWS($S$261:S292)-1,COLUMNS($S$261:S292)-1)<>\"\",OFFSET([1]DE100_7!$S$261,ROWS($S$261:S292)-1,COLUMNS($S$261:S292)-1),\"\")","v":{"$error":"#VALUE!"}},{"$f":"IF(OFFSET([1]DE100_7!$T$261,ROWS($T$261:T292)-1,COLUMNS($T$261:T292)-1)<>\"\",OFFSET([1]DE100_7!$T$261,ROWS($T$261:T292)-1,COLUMNS($T$261:T292)-1),\"\")","v":{"$error":"#VALUE!"}},{"$f":"IF(OFFSET([1]DE100_7!$U$261,ROWS($U$261:U292)-1,COLUMNS($U$261:U292)-1)<>\"\",OFFSET([1]DE100_7!$U$261,ROWS($U$261:U292)-1,COLUMNS($U$261:U292)-1),\"\")","v":{"$error":"#VALUE!"}},{"$f":"IF(OFFSET([1]DE100_7!$V$261,ROWS($V$261:V292)-1,COLUMNS($V$261:V292)-1)<>\"\",OFFSET([1]DE100_7!$V$261,ROWS($V$261:V292)-1,COLUMNS($V$261:V292)-1),\"\")","v":{"$error":"#VALUE!"}}]
[{"$f":"IF(OFFSET([1]DE100_7!$C$261,ROWS($C$261:C293)-1,COLUMNS($C$261:C293)-1)<>\"\",OFFSET([1]DE100_7!$C$261,ROWS($C$261:C293)-1,COLUMNS($C$261:C293)-1),\"\")","v":{"$error":"#VALUE!"}},{"$f":"IF(OFFSET([1]DE100_7!$D$261,ROWS($D$261:D293)-1,COLUMNS($D$261:D293)-1)<>\"\",OFFSET([1]DE100_7!$D$261,ROWS($D$261:D293)-1,COLUMNS($D$261:D293)-1),\"\")","v":{"$error":"#VALUE!"}},{"$f":"IF(OFFSET([1]DE100_7!$E$261,ROWS($E$261:E293)-1,COLUMNS($E$261:E293)-1)<>\"\",OFFSET([1]DE100_7!$E$261,ROWS($E$261:E293)-1,COLUMNS($E$261:E293)-1),\"\")","v":{"$error":"#VALUE!"}},{"$f":"IF(OFFSET([1]DE100_7!$F$261,ROWS($F$261:F293)-1,COLUMNS($F$261:F293)-1)<>\"\",OFFSET([1]DE100_7!$F$261,ROWS($F$261:F293)-1,COLUMNS($F$261:F293)-1),\"\")","v":{"$error":"#VALUE!"}},{"$f":"IF(OFFSET([1]DE100_7!$G$261,ROWS($G$261:G293)-1,COLUMNS($G$261:G293)-1)<>\"\",OFFSET([1]DE100_7!$G$261,ROWS($G$261:G293)-1,COLUMNS($G$261:G293)-1),\"\")","v":{"$error":"#VALUE!"}},{"$f":"IF(OFFSET([1]DE100_7!$H$261,ROWS($H$261:H293)-1,COLUMNS($H$261:H293)-1)<>\"\",OFFSET([1]DE100_7!$H$261,ROWS($H$261:H293)-1,COLUMNS($H$261:H293)-1),\"\")","v":{"$error":"#VALUE!"}},{"$f":"IF(OFFSET([1]DE100_7!$I$261,ROWS($I$261:I293)-1,COLUMNS($I$261:I293)-1)<>\"\",OFFSET([1]DE100_7!$I$261,ROWS($I$261:I293)-1,COLUMNS($I$261:I293)-1),\"\")","v":{"$error":"#VALUE!"}},{"$f":"IF(OFFSET([1]DE100_7!$J$261,ROWS($J$261:J293)-1,COLUMNS($J$261:J293)-1)<>\"\",OFFSET([1]DE100_7!$J$261,ROWS($J$261:J293)-1,COLUMNS($J$261:J293)-1),\"\")","v":{"$error":"#VALUE!"}},{"$f":"IF(OFFSET([1]DE100_7!$K$261,ROWS($K$261:K293)-1,COLUMNS($K$261:K293)-1)<>\"\",OFFSET([1]DE100_7!$K$261,ROWS($K$261:K293)-1,COLUMNS($K$261:K293)-1),\"\")","v":{"$error":"#VALUE!"}},{"$f":"IF(OFFSET([1]DE100_7!$L$261,ROWS($L$261:L293)-1,COLUMNS($L$261:L293)-1)<>\"\",OFFSET([1]DE100_7!$L$261,ROWS($L$261:L293)-1,COLUMNS($L$261:L293)-1),\"\")","v":{"$error":"#VALUE!"}},{"$f":"IF(OFFSET([1]DE100_7!$M$261,ROWS($M$261:M293)-1,COLUMNS($M$261:M293)-1)<>\"\",OFFSET([1]DE100_7!$M$261,ROWS($M$261:M293)-1,COLUMNS($M$261:M293)-1),\"\")","v":{"$error":"#VALUE!"}},{"$f":"IF(OFFSET([1]DE100_7!$N$261,ROWS($N$261:N293)-1,COLUMNS($N$261:N293)-1)<>\"\",OFFSET([1]DE100_7!$N$261,ROWS($N$261:N293)-1,COLUMNS($N$261:N293)-1),\"\")","v":{"$error":"#VALUE!"}},{"$f":"IF(OFFSET([1]DE100_7!$O$261,ROWS($O$261:O293)-1,COLUMNS($O$261:O293)-1)<>\"\",OFFSET([1]DE100_7!$O$261,ROWS($O$261:O293)-1,COLUMNS($O$261:O293)-1),\"\")","v":{"$error":"#VALUE!"}},{"$f":"IF(OFFSET([1]DE100_7!$P$261,ROWS($P$261:P293)-1,COLUMNS($P$261:P293)-1)<>\"\",OFFSET([1]DE100_7!$P$261,ROWS($P$261:P293)-1,COLUMNS($P$261:P293)-1),\"\")","v":{"$error":"#VALUE!"}},{"$f":"IF(OFFSET([1]DE100_7!$Q$261,ROWS($Q$261:Q293)-1,COLUMNS($Q$261:Q293)-1)<>\"\",OFFSET([1]DE100_7!$Q$261,ROWS($Q$261:Q293)-1,COLUMNS($Q$261:Q293)-1),\"\")","v":{"$error":"#VALUE!"}},{"$f":"IF(OFFSET([1]DE100_7!$R$261,ROWS($R$261:R293)-1,COLUMNS($R$261:R293)-1)<>\"\",OFFSET([1]DE100_7!$R$261,ROWS($R$261:R293)-1,COLUMNS($R$261:R293)-1),\"\")","v":{"$error":"#VALUE!"}},{"$f":"IF(OFFSET([1]DE100_7!$S$261,ROWS($S$261:S293)-1,COLUMNS($S$261:S293)-1)<>\"\",OFFSET([1]DE100_7!$S$261,ROWS($S$261:S293)-1,COLUMNS($S$261:S293)-1),\"\")","v":{"$error":"#VALUE!"}},{"$f":"IF(OFFSET([1]DE100_7!$T$261,ROWS($T$261:T293)-1,COLUMNS($T$261:T293)-1)<>\"\",OFFSET([1]DE100_7!$T$261,ROWS($T$261:T293)-1,COLUMNS($T$261:T293)-1),\"\")","v":{"$error":"#VALUE!"}},{"$f":"IF(OFFSET([1]DE100_7!$U$261,ROWS($U$261:U293)-1,COLUMNS($U$261:U293)-1)<>\"\",OFFSET([1]DE100_7!$U$261,ROWS($U$261:U293)-1,COLUMNS($U$261:U293)-1),\"\")","v":{"$error":"#VALUE!"}},{"$f":"IF(OFFSET([1]DE100_7!$V$261,ROWS($V$261:V293)-1,COLUMNS($V$261:V293)-1)<>\"\",OFFSET([1]DE100_7!$V$261,ROWS($V$261:V293)-1,COLUMNS($V$261:V293)-1),\"\")","v":{"$error":"#VALUE!"}}]
[{"$f":"IF(OFFSET([1]DE100_7!$C$261,ROWS($C$261:C294)-1,COLUMNS($C$261:C294)-1)<>\"\",OFFSET([1]DE100_7!$C$261,ROWS($C$261:C294)-1,COLUMNS($C$261:C294)-1),\"\")","v":{"$error":"#VALUE!"}},{"$f":"IF(OFFSET([1]DE100_7!$D$261,ROWS($D$261:D294)-1,COLUMNS($D$261:D294)-1)<>\"\",OFFSET([1]DE100_7!$D$261,ROWS($D$261:D294)-1,COLUMNS($D$261:D294)-1),\"\")","v":{"$error":"#VALUE!"}},{"$f":"IF(OFFSET([1]DE100_7!$E$261,ROWS($E$261:E294)-1,COLUMNS($E$261:E294)-1)<>\"\",OFFSET([1]DE100_7!$E$261,ROWS($E$261:E294)-1,COLUMNS($E$261:E294)-1),\"\")","v":{"$error":"#VALUE!"}},{"$f":"IF(OFFSET([1]DE100_7!$F$261,ROWS($F$261:F294)-1,COLUMNS($F$261:F294)-1)<>\"\",OFFSET([1]DE100_7!$F$261,ROWS($F$261:F294)-1,COLUMNS($F$261:F294)-1),\"\")","v":{"$error":"#VALUE!"}},{"$f":"IF(OFFSET([1]DE100_7!$G$261,ROWS($G$261:G294)-1,COLUMNS($G$261:G294)-1)<>\"\",OFFSET([1]DE100_7!$G$261,ROWS($G$261:G294)-1,COLUMNS($G$261:G294)-1),\"\")","v":{"$error":"#VALUE!"}},{"$f":"IF(OFFSET([1]DE100_7!$H$261,ROWS($H$261:H294)-1,COLUMNS($H$261:H294)-1)<>\"\",OFFSET([1]DE100_7!$H$261,ROWS($H$261:H294)-1,COLUMNS($H$261:H294)-1),\"\")","v":{"$error":"#VALUE!"}},{"$f":"IF(OFFSET([1]DE100_7!$I$261,ROWS($I$261:I294)-1,COLUMNS($I$261:I294)-1)<>\"\",OFFSET([1]DE100_7!$I$261,ROWS($I$261:I294)-1,COLUMNS($I$261:I294)-1),\"\")","v":{"$error":"#VALUE!"}},{"$f":"IF(OFFSET([1]DE100_7!$J$261,ROWS($J$261:J294)-1,COLUMNS($J$261:J294)-1)<>\"\",OFFSET([1]DE100_7!$J$261,ROWS($J$261:J294)-1,COLUMNS($J$261:J294)-1),\"\")","v":{"$error":"#VALUE!"}},{"$f":"IF(OFFSET([1]DE100_7!$K$261,ROWS($K$261:K294)-1,COLUMNS($K$261:K294)-1)<>\"\",OFFSET([1]DE100_7!$K$261,ROWS($K$261:K294)-1,COLUMNS($K$261:K294)-1),\"\")","v":{"$error":"#VALUE!"}},{"$f":"IF(OFFSET([1]DE100_7!$L$261,ROWS($L$261:L294)-1,COLUMNS($L$261:L294)-1)<>\"\",OFFSET([1]DE100_7!$L$261,ROWS($L$261:L294)-1,COLUMNS($L$261:L294)-1),\"\")","v":{"$error":"#VALUE!"}},{"$f":"IF(OFFSET([1]DE100_7!$M$261,ROWS($M$261:M294)-1,COLUMNS($M$261:M294)-1)<>\"\",OFFSET([1]DE100_7!$M$261,ROWS($M$261:M294)-1,COLUMNS($M$261:M294)-1),\"\")","v":{"$error":"#VALUE!"}},{"$f":"IF(OFFSET([1]DE100_7!$N$261,ROWS($N$261:N294)-1,COLUMNS($N$261:N294)-1)<>\"\",OFFSET([1]DE100_7!$N$261,ROWS($N$261:N294)-1,COLUMNS($N$261:N294)-1),\"\")","v":{"$error":"#VALUE!"}},{"$f":"IF(OFFSET([1]DE100_7!$O$261,ROWS($O$261:O294)-1,COLUMNS($O$261:O294)-1)<>\"\",OFFSET([1]DE100_7!$O$261,ROWS($O$261:O294)-1,COLUMNS($O$261:O294)-1),\"\")","v":{"$error":"#VALUE!"}},{"$f":"IF(OFFSET([1]DE100_7!$P$261,ROWS($P$261:P294)-1,COLUMNS($P$261:P294)-1)<>\"\",OFFSET([1]DE100_7!$P$261,ROWS($P$261:P294)-1,COLUMNS($P$261:P294)-1),\"\")","v":{"$error":"#VALUE!"}},{"$f":"IF(OFFSET([1]DE100_7!$Q$261,ROWS($Q$261:Q294)-1,COLUMNS($Q$261:Q294)-1)<>\"\",OFFSET([1]DE100_7!$Q$261,ROWS($Q$261:Q294)-1,COLUMNS($Q$261:Q294)-1),\"\")","v":{"$error":"#VALUE!"}},{"$f":"IF(OFFSET([1]DE100_7!$R$261,ROWS($R$261:R294)-1,COLUMNS($R$261:R294)-1)<>\"\",OFFSET([1]DE100_7!$R$261,ROWS($R$261:R294)-1,COLUMNS($R$261:R294)-1),\"\")","v":{"$error":"#VALUE!"}},{"$f":"IF(OFFSET([1]DE100_7!$S$261,ROWS($S$261:S294)-1,COLUMNS($S$261:S294)-1)<>\"\",OFFSET([1]DE100_7!$S$261,ROWS($S$261:S294)-1,COLUMNS($S$261:S294)-1),\"\")","v":{"$error":"#VALUE!"}},{"$f":"IF(OFFSET([1]DE100_7!$T$261,ROWS($T$261:T294)-1,COLUMNS($T$261:T294)-1)<>\"\",OFFSET([1]DE100_7!$T$261,ROWS($T$261:T294)-1,COLUMNS($T$261:T294)-1),\"\")","v":{"$error":"#VALUE!"}},{"$f":"IF(OFFSET([1]DE100_7!$U$261,ROWS($U$261:U294)-1,COLUMNS($U$261:U294)-1)<>\"\",OFFSET([1]DE100_7!$U$261,ROWS($U$261:U294)-1,COLUMNS($U$261:U294)-1),\"\")","v":{"$error":"#VALUE!"}},{"$f":"IF(OFFSET([1]DE100_7!$V$261,ROWS($V$261:V294)-1,COLUMNS($V$261:V294)-1)<>\"\",OFFSET([1]DE100_7!$V$261,ROWS($V$261:V294)-1,COLUMNS($V$261:V294)-1),\"\")","v":{"$error":"#VALUE!"}}]
[{"$f":"IF(OFFSET([1]DE100_7!$C$261,ROWS($C$261:C295)-1,COLUMNS($C$261:C295)-1)<>\"\",OFFSET([1]DE100_7!$C$261,ROWS($C$261:C295)-1,COLUMNS($C$261:C295)-1),\"\")","v":{"$error":"#VALUE!"}},{"$f":"IF(OFFSET([1]DE100_7!$D$261,ROWS($D$261:D295)-1,COLUMNS($D$261:D295)-1)<>\"\",OFFSET([1]DE100_7!$D$261,ROWS($D$261:D295)-1,COLUMNS($D$261:D295)-1),\"\")","v":{"$error":"#VALUE!"}},{"$f":"IF(OFFSET([1]DE100_7!$E$261,ROWS($E$261:E295)-1,COLUMNS($E$261:E295)-1)<>\"\",OFFSET([1]DE100_7!$E$261,ROWS($E$261:E295)-1,COLUMNS($E$261:E295)-1),\"\")","v":{"$error":"#VALUE!"}},{"$f":"IF(OFFSET([1]DE100_7!$F$261,ROWS($F$261:F295)-1,COLUMNS($F$261:F295)-1)<>\"\",OFFSET([1]DE100_7!$F$261,ROWS($F$261:F295)-1,COLUMNS($F$261:F295)-1),\"\")","v":{"$error":"#VALUE!"}},{"$f":"IF(OFFSET([1]DE100_7!$G$261,ROWS($G$261:G295)-1,COLUMNS($G$261:G295)-1)<>\"\",OFFSET([1]DE100_7!$G$261,ROWS($G$261:G295)-1,COLUMNS($G$261:G295)-1),\"\")","v":{"$error":"#VALUE!"}},{"$f":"IF(OFFSET([1]DE100_7!$H$261,ROWS($H$261:H295)-1,COLUMNS($H$261:H295)-1)<>\"\",OFFSET([1]DE100_7!$H$261,ROWS($H$261:H295)-1,COLUMNS($H$261:H295)-1),\"\")","v":{"$error":"#VALUE!"}},{"$f":"IF(OFFSET([1]DE100_7!$I$261,ROWS($I$261:I295)-1,COLUMNS($I$261:I295)-1)<>\"\",OFFSET([1]DE100_7!$I$261,ROWS($I$261:I295)-1,COLUMNS($I$261:I295)-1),\"\")","v":{"$error":"#VALUE!"}},{"$f":"IF(OFFSET([1]DE100_7!$J$261,ROWS($J$261:J295)-1,COLUMNS($J$261:J295)-1)<>\"\",OFFSET([1]DE100_7!$J$261,ROWS($J$261:J295)-1,COLUMNS($J$261:J295)-1),\"\")","v":{"$error":"#VALUE!"}},{"$f":"IF(OFFSET([1]DE100_7!$K$261,ROWS($K$261:K295)-1,COLUMNS($K$261:K295)-1)<>\"\",OFFSET([1]DE100_7!$K$261,ROWS($K$261:K295)-1,COLUMNS($K$261:K295)-1),\"\")","v":{"$error":"#VALUE!"}},{"$f":"IF(OFFSET([1]DE100_7!$L$261,ROWS($L$261:L295)-1,COLUMNS($L$261:L295)-1)<>\"\",OFFSET([1]DE100_7!$L$261,ROWS($L$261:L295)-1,COLUMNS($L$261:L295)-1),\"\")","v":{"$error":"#VALUE!"}},{"$f":"IF(OFFSET([1]DE100_7!$M$261,ROWS($M$261:M295)-1,COLUMNS($M$261:M295)-1)<>\"\",OFFSET([1]DE100_7!$M$261,ROWS($M$261:M295)-1,COLUMNS($M$261:M295)-1),\"\")","v":{"$error":"#VALUE!"}},{"$f":"IF(OFFSET([1]DE100_7!$N$261,ROWS($N$261:N295)-1,COLUMNS($N$261:N295)-1)<>\"\",OFFSET([1]DE100_7!$N$261,ROWS($N$261:N295)-1,COLUMNS($N$261:N295)-1),\"\")","v":{"$error":"#VALUE!"}},{"$f":"IF(OFFSET([1]DE100_7!$O$261,ROWS($O$261:O295)-1,COLUMNS($O$261:O295)-1)<>\"\",OFFSET([1]DE100_7!$O$261,ROWS($O$261:O295)-1,COLUMNS($O$261:O295)-1),\"\")","v":{"$error":"#VALUE!"}},{"$f":"IF(OFFSET([1]DE100_7!$P$261,ROWS($P$261:P295)-1,COLUMNS($P$261:P295)-1)<>\"\",OFFSET([1]DE100_7!$P$261,ROWS($P$261:P295)-1,COLUMNS($P$261:P295)-1),\"\")","v":{"$error":"#VALUE!"}},{"$f":"IF(OFFSET([1]DE100_7!$Q$261,ROWS($Q$261:Q295)-1,COLUMNS($Q$261:Q295)-1)<>\"\",OFFSET([1]DE100_7!$Q$261,ROWS($Q$261:Q295)-1,COLUMNS($Q$261:Q295)-1),\"\")","v":{"$error":"#VALUE!"}},{"$f":"IF(OFFSET([1]DE100_7!$R$261,ROWS($R$261:R295)-1,COLUMNS($R$261:R295)-1)<>\"\",OFFSET([1]DE100_7!$R$261,ROWS($R$261:R295)-1,COLUMNS($R$261:R295)-1),\"\")","v":{"$error":"#VALUE!"}},{"$f":"IF(OFFSET([1]DE100_7!$S$261,ROWS($S$261:S295)-1,COLUMNS($S$261:S295)-1)<>\"\",OFFSET([1]DE100_7!$S$261,ROWS($S$261:S295)-1,COLUMNS($S$261:S295)-1),\"\")","v":{"$error":"#VALUE!"}},{"$f":"IF(OFFSET([1]DE100_7!$T$261,ROWS($T$261:T295)-1,COLUMNS($T$261:T295)-1)<>\"\",OFFSET([1]DE100_7!$T$261,ROWS($T$261:T295)-1,COLUMNS($T$261:T295)-1),\"\")","v":{"$error":"#VALUE!"}},{"$f":"IF(OFFSET([1]DE100_7!$U$261,ROWS($U$261:U295)-1,COLUMNS($U$261:U295)-1)<>\"\",OFFSET([1]DE100_7!$U$261,ROWS($U$261:U295)-1,COLUMNS($U$261:U295)-1),\"\")","v":{"$error":"#VALUE!"}},{"$f":"IF(OFFSET([1]DE100_7!$V$261,ROWS($V$261:V295)-1,COLUMNS($V$261:V295)-1)<>\"\",OFFSET([1]DE100_7!$V$261,ROWS($V$261:V295)-1,COLUMNS($V$261:V295)-1),\"\")","v":{"$error":"#VALUE!"}}]
[{"$f":"IF(OFFSET([1]DE100_7!$C$261,ROWS($C$261:C296)-1,COLUMNS($C$261:C296)-1)<>\"\",OFFSET([1]DE100_7!$C$261,ROWS($C$261:C296)-1,COLUMNS($C$261:C296)-1),\"\")","v":{"$error":"#VALUE!"}},null,null,null,{"$f":"IF(OFFSET([1]DE100_7!$G$261,ROWS($G$261:G296)-1,COLUMNS($G$261:G296)-1)<>\"\",OFFSET([1]DE100_7!$G$261,ROWS($G$261:G296)-1,COLUMNS($G$261:G296)-1),\"\")","v":{"$error":"#VALUE!"}},{"$f":"IF(OFFSET([1]DE100_7!$H$261,ROWS($H$261:H296)-1,COLUMNS($H$261:H296)-1)<>\"\",OFFSET([1]DE100_7!$H$261,ROWS($H$261:H296)-1,COLUMNS($H$261:H296)-1),\"\")","v":{"$error":"#VALUE!"}},{"$f":"IF(OFFSET([1]DE100_7!$I$261,ROWS($I$261:I296)-1,COLUMNS($I$261:I296)-1)<>\"\",OFFSET([1]DE100_7!$I$261,ROWS($I$261:I296)-1,COLUMNS($I$261:I296)-1),\"\")","v":{"$error":"#VALUE!"}},{"$f":"IF(OFFSET([1]DE100_7!$J$261,ROWS($J$261:J296)-1,COLUMNS($J$261:J296)-1)<>\"\",OFFSET([1]DE100_7!$J$261,ROWS($J$261:J296)-1,COLUMNS($J$261:J296)-1),\"\")","v":{"$error":"#VALUE!"}},{"$f":"IF(OFFSET([1]DE100_7!$K$261,ROWS($K$261:K296)-1,COLUMNS($K$261:K296)-1)<>\"\",OFFSET([1]DE100_7!$K$261,ROWS($K$261:K296)-1,COLUMNS($K$261:K296)-1),\"\")","v":{"$error":"#VALUE!"}},{"$f":"IF(OFFSET([1]DE100_7!$L$261,ROWS($L$261:L296)-1,COLUMNS($L$261:L296)-1)<>\"\",OFFSET([1]DE100_7!$L$261,ROWS($L$261:L296)-1,COLUMNS($L$261:L296)-1),\"\")","v":{"$error":"#VALUE!"}},{"$f":"IF(OFFSET([1]DE100_7!$M$261,ROWS($M$261:M296)-1,COLUMNS($M$261:M296)-1)<>\"\",OFFSET([1]DE100_7!$M$261,ROWS($M$261:M296)-1,COLUMNS($M$261:M296)-1),\"\")","v":{"$error":"#VALUE!"}},{"$f":"IF(OFFSET([1]DE100_7!$N$261,ROWS($N$261:N296)-1,COLUMNS($N$261:N296)-1)<>\"\",OFFSET([1]DE100_7!$N$261,ROWS($N$261:N296)-1,COLUMNS($N$261:N296)-1),\"\")","v":{"$error":"#VALUE!"}},{"$f":"IF(OFFSET([1]DE100_7!$O$261,ROWS($O$261:O296)-1,COLUMNS($O$261:O296)-1)<>\"\",OFFSET([1]DE100_7!$O$261,ROWS($O$261:O296)-1,COLUMNS($O$261:O296)-1),\"\")","v":{"$error":"#VALUE!"}},{"$f":"IF(OFFSET([1]DE100_7!$P$261,ROWS($P$261:P296)-1,COLUMNS($P$261:P296)-1)<>\"\",OFFSET([1]DE100_7!$P$261,ROWS($P$261:P296)-1,COLUMNS($P$261:P296)-1),\"\")","v":{"$error":"#VALUE!"}},{"$f":"IF(OFFSET([1]DE100_7!$Q$261,ROWS($Q$261:Q296)-1,COLUMNS($Q$261:Q296)-1)<>\"\",OFFSET([1]DE100_7!$Q$261,ROWS($Q$261:Q296)-1,COLUMNS($Q$261:Q296)-1),\"\")","v":{"$error":"#VALUE!"}},{"$f":"IF(OFFSET([1]DE100_7!$R$261,ROWS($R$261:R296)-1,COLUMNS($R$261:R296)-1)<>\"\",OFFSET([1]DE100_7!$R$261,ROWS($R$261:R296)-1,COLUMNS($R$261:R296)-1),\"\")","v":{"$error":"#VALUE!"}},{"$f":"IF(OFFSET([1]DE100_7!$S$261,ROWS($S$261:S296)-1,COLUMNS($S$261:S296)-1)<>\"\",OFFSET([1]DE100_7!$S$261,ROWS($S$261:S296)-1,COLUMNS($S$261:S296)-1),\"\")","v":{"$error":"#VALUE!"}},{"$f":"IF(OFFSET([1]DE100_7!$T$261,ROWS($T$261:T296)-1,COLUMNS($T$261:T296)-1)<>\"\",OFFSET([1]DE100_7!$T$261,ROWS($T$261:T296)-1,COLUMNS($T$261:T296)-1),\"\")","v":{"$error":"#VALUE!"}},{"$f":"IF(OFFSET([1]DE100_7!$U$261,ROWS($U$261:U296)-1,COLUMNS($U$261:U296)-1)<>\"\",OFFSET([1]DE100_7!$U$261,ROWS($U$261:U296)-1,COLUMNS($U$261:U296)-1),\"\")","v":{"$error":"#VALUE!"}},{"$f":"IF(OFFSET([1]DE100_7!$V$261,ROWS($V$261:V296)-1,COLUMNS($V$261:V296)-1)<>\"\",OFFSET([1]DE100_7!$V$261,ROWS($V$261:V296)-1,COLUMNS($V$261:V296)-1),\"\")","v":{"$error":"#VALUE!"}}]
[{"$f":"IF(OFFSET([1]DE100_7!$C$261,ROWS($C$261:C297)-1,COLUMNS($C$261:C297)-1)<>\"\",OFFSET([1]DE100_7!$C$261,ROWS($C$261:C297)-1,COLUMNS($C$261:C297)-1),\"\")","v":{"$error":"#VALUE!"}},{"$f":"IF(OFFSET([1]DE100_7!$D$261,ROWS($D$261:D297)-1,COLUMNS($D$261:D297)-1)<>\"\",OFFSET([1]DE100_7!$D$261,ROWS($D$261:D297)-1,COLUMNS($D$261:D297)-1),\"\")","v":{"$error":"#VALUE!"}},{"$f":"IF(OFFSET([1]DE100_7!$E$261,ROWS($E$261:E297)-1,COLUMNS($E$261:E297)-1)<>\"\",OFFSET([1]DE100_7!$E$261,ROWS($E$261:E297)-1,COLUMNS($E$261:E297)-1),\"\")","v":{"$error":"#VALUE!"}},{"$f":"IF(OFFSET([1]DE100_7!$F$261,ROWS($F$261:F297)-1,COLUMNS($F$261:F297)-1)<>\"\",OFFSET([1]DE100_7!$F$261,ROWS($F$261:F297)-1,COLUMNS($F$261:F297)-1),\"\")","v":{"$error":"#VALUE!"}},{"$f":"IF(OFFSET([1]DE100_7!$G$261,ROWS($G$261:G297)-1,COLUMNS($G$261:G297)-1)<>\"\",OFFSET([1]DE100_7!$G$261,ROWS($G$261:G297)-1,COLUMNS($G$261:G297)-1),\"\")","v":{"$error":"#VALUE!"}},{"$f":"IF(OFFSET([1]DE100_7!$H$261,ROWS($H$261:H297)-1,COLUMNS($H$261:H297)-1)<>\"\",OFFSET([1]DE100_7!$H$261,ROWS($H$261:H297)-1,COLUMNS($H$261:H297)-1),\"\")","v":{"$error":"#VALUE!"}},{"$f":"IF(OFFSET([1]DE100_7!$I$261,ROWS($I$261:I297)-1,COLUMNS($I$261:I297)-1)<>\"\",OFFSET([1]DE100_7!$I$261,ROWS($I$261:I297)-1,COLUMNS($I$261:I297)-1),\"\")","v":{"$error":"#VALUE!"}},{"$f":"IF(OFFSET([1]DE100_7!$J$261,ROWS($J$261:J297)-1,COLUMNS($J$261:J297)-1)<>\"\",OFFSET([1]DE100_7!$J$261,ROWS($J$261:J297)-1,COLUMNS($J$261:J297)-1),\"\")","v":{"$error":"#VALUE!"}},{"$f":"IF(OFFSET([1]DE100_7!$K$261,ROWS($K$261:K297)-1,COLUMNS($K$261:K297)-1)<>\"\",OFFSET([1]DE100_7!$K$261,ROWS($K$261:K297)-1,COLUMNS($K$261:K297)-1),\"\")","v":{"$error":"#VALUE!"}},{"$f":"IF(OFFSET([1]DE100_7!$L$261,ROWS($L$261:L297)-1,COLUMNS($L$261:L297)-1)<>\"\",OFFSET([1]DE100_7!$L$261,ROWS($L$261:L297)-1,COLUMNS($L$261:L297)-1),\"\")","v":{"$error":"#VALUE!"}},{"$f":"IF(OFFSET([1]DE100_7!$M$261,ROWS($M$261:M297)-1,COLUMNS($M$261:M297)-1)<>\"\",OFFSET([1]DE100_7!$M$261,ROWS($M$261:M297)-1,COLUMNS($M$261:M297)-1),\"\")","v":{"$error":"#VALUE!"}},{"$f":"IF(OFFSET([1]DE100_7!$N$261,ROWS($N$261:N297)-1,COLUMNS($N$261:N297)-1)<>\"\",OFFSET([1]DE100_7!$N$261,ROWS($N$261:N297)-1,COLUMNS($N$261:N297)-1),\"\")","v":{"$error":"#VALUE!"}},{"$f":"IF(OFFSET([1]DE100_7!$O$261,ROWS($O$261:O297)-1,COLUMNS($O$261:O297)-1)<>\"\",OFFSET([1]DE100_7!$O$261,ROWS($O$261:O297)-1,COLUMNS($O$261:O297)-1),\"\")","v":{"$error":"#VALUE!"}},{"$f":"IF(OFFSET([1]DE100_7!$P$261,ROWS($P$261:P297)-1,COLUMNS($P$261:P297)-1)<>\"\",OFFSET([1]DE100_7!$P$261,ROWS($P$261:P297)-1,COLUMNS($P$261:P297)-1),\"\")","v":{"$error":"#VALUE!"}},{"$f":"IF(OFFSET([1]DE100_7!$Q$261,ROWS($Q$261:Q297)-1,COLUMNS($Q$261:Q297)-1)<>\"\",OFFSET([1]DE100_7!$Q$261,ROWS($Q$261:Q297)-1,COLUMNS($Q$261:Q297)-1),\"\")","v":{"$error":"#VALUE!"}},{"$f":"IF(OFFSET([1]DE100_7!$R$261,ROWS($R$261:R297)-1,COLUMNS($R$261:R297)-1)<>\"\",OFFSET([1]DE100_7!$R$261,ROWS($R$261:R297)-1,COLUMNS($R$261:R297)-1),\"\")","v":{"$error":"#VALUE!"}},{"$f":"IF(OFFSET([1]DE100_7!$S$261,ROWS($S$261:S297)-1,COLUMNS($S$261:S297)-1)<>\"\",OFFSET([1]DE100_7!$S$261,ROWS($S$261:S297)-1,COLUMNS($S$261:S297)-1),\"\")","v":{"$error":"#VALUE!"}},{"$f":"IF(OFFSET([1]DE100_7!$T$261,ROWS($T$261:T297)-1,COLUMNS($T$261:T297)-1)<>\"\",OFFSET([1]DE100_7!$T$261,ROWS($T$261:T297)-1,COLUMNS($T$261:T297)-1),\"\")","v":{"$error":"#VALUE!"}},{"$f":"IF(OFFSET([1]DE100_7!$U$261,ROWS($U$261:U297)-1,COLUMNS($U$261:U297)-1)<>\"\",OFFSET([1]DE100_7!$U$261,ROWS($U$261:U297)-1,COLUMNS($U$261:U297)-1),\"\")","v":{"$error":"#VALUE!"}},{"$f":"IF(OFFSET([1]DE100_7!$V$261,ROWS($V$261:V297)-1,COLUMNS($V$261:V297)-1)<>\"\",OFFSET([1]DE100_7!$V$261,ROWS($V$261:V297)-1,COLUMNS($V$261:V297)-1),\"\")","v":{"$error":"#VALUE!"}}]
[{"$f":"IF(OFFSET([1]DE100_7!$C$261,ROWS($C$261:C298)-1,COLUMNS($C$261:C298)-1)<>\"\",OFFSET([1]DE100_7!$C$261,ROWS($C$261:C298)-1,COLUMNS($C$261:C298)-1),\"\")","v":{"$error":"#VALUE!"}},{"$f":"IF(OFFSET([1]DE100_7!$D$261,ROWS($D$261:D298)-1,COLUMNS($D$261:D298)-1)<>\"\",OFFSET([1]DE100_7!$D$261,ROWS($D$261:D298)-1,COLUMNS($D$261:D298)-1),\"\")","v":{"$error":"#VALUE!"}},{"$f":"IF(OFFSET([1]DE100_7!$E$261,ROWS($E$261:E298)-1,COLUMNS($E$261:E298)-1)<>\"\",OFFSET([1]DE100_7!$E$261,ROWS($E$261:E298)-1,COLUMNS($E$261:E298)-1),\"\")","v":{"$error":"#VALUE!"}},{"$f":"IF(OFFSET([1]DE100_7!$F$261,ROWS($F$261:F298)-1,COLUMNS($F$261:F298)-1)<>\"\",OFFSET([1]DE100_7!$F$261,ROWS($F$261:F298)-1,COLUMNS($F$261:F298)-1),\"\")","v":{"$error":"#VALUE!"}},{"$f":"IF(OFFSET([1]DE100_7!$G$261,ROWS($G$261:G298)-1,COLUMNS($G$261:G298)-1)<>\"\",OFFSET([1]DE100_7!$G$261,ROWS($G$261:G298)-1,COLUMNS($G$261:G298)-1),\"\")","v":{"$error":"#VALUE!"}},{"$f":"IF(OFFSET([1]DE100_7!$H$261,ROWS($H$261:H298)-1,COLUMNS($H$261:H298)-1)<>\"\",OFFSET([1]DE100_7!$H$261,ROWS($H$261:H298)-1,COLUMNS($H$261:H298)-1),\"\")","v":{"$error":"#VALUE!"}},{"$f":"IF(OFFSET([1]DE100_7!$I$261,ROWS($I$261:I298)-1,COLUMNS($I$261:I298)-1)<>\"\",OFFSET([1]DE100_7!$I$261,ROWS($I$261:I298)-1,COLUMNS($I$261:I298)-1),\"\")","v":{"$error":"#VALUE!"}},{"$f":"IF(OFFSET([1]DE100_7!$J$261,ROWS($J$261:J298)-1,COLUMNS($J$261:J298)-1)<>\"\",OFFSET([1]DE100_7!$J$261,ROWS($J$261:J298)-1,COLUMNS($J$261:J298)-1),\"\")","v":{"$error":"#VALUE!"}},{"$f":"IF(OFFSET([1]DE100_7!$K$261,ROWS($K$261:K298)-1,COLUMNS($K$261:K298)-1)<>\"\",OFFSET([1]DE100_7!$K$261,ROWS($K$261:K298)-1,COLUMNS($K$261:K298)-1),\"\")","v":{"$error":"#VALUE!"}},{"$f":"IF(OFFSET([1]DE100_7!$L$261,ROWS($L$261:L298)-1,COLUMNS($L$261:L298)-1)<>\"\",OFFSET([1]DE100_7!$L$261,ROWS($L$261:L298)-1,COLUMNS($L$261:L298)-1),\"\")","v":{"$error":"#VALUE!"}},{"$f":"IF(OFFSET([1]DE100_7!$M$261,ROWS($M$261:M298)-1,COLUMNS($M$261:M298)-1)<>\"\",OFFSET([1]DE100_7!$M$261,ROWS($M$261:M298)-1,COLUMNS($M$261:M298)-1),\"\")","v":{"$error":"#VALUE!"}},{"$f":"IF(OFFSET([1]DE100_7!$N$261,ROWS($N$261:N298)-1,COLUMNS($N$261:N298)-1)<>\"\",OFFSET([1]DE100_7!$N$261,ROWS($N$261:N298)-1,COLUMNS($N$261:N298)-1),\"\")","v":{"$error":"#VALUE!"}},{"$f":"IF(OFFSET([1]DE100_7!$O$261,ROWS($O$261:O298)-1,COLUMNS($O$261:O298)-1)<>\"\",OFFSET([1]DE100_7!$O$261,ROWS($O$261:O298)-1,COLUMNS($O$261:O298)-1),\"\")","v":{"$error":"#VALUE!"}},{"$f":"IF(OFFSET([1]DE100_7!$P$261,ROWS($P$261:P298)-1,COLUMNS($P$261:P298)-1)<>\"\",OFFSET([1]DE100_7!$P$261,ROWS($P$261:P298)-1,COLUMNS($P$261:P298)-1),\"\")","v":{"$error":"#VALUE!"}},{"$f":"IF(OFFSET([1]DE100_7!$Q$261,ROWS($Q$261:Q298)-1,COLUMNS($Q$261:Q298)-1)<>\"\",OFFSET([1]DE100_7!$Q$261,ROWS($Q$261:Q298)-1,COLUMNS($Q$261:Q298)-1),\"\")","v":{"$error":"#VALUE!"}},{"$f":"IF(OFFSET([1]DE100_7!$R$261,ROWS($R$261:R298)-1,COLUMNS($R$261:R298)-1)<>\"\",OFFSET([1]DE100_7!$R$261,ROWS($R$261:R298)-1,COLUMNS($R$261:R298)-1),\"\")","v":{"$error":"#VALUE!"}},{"$f":"IF(OFFSET([1]DE100_7!$S$261,ROWS($S$261:S298)-1,COLUMNS($S$261:S298)-1)<>\"\",OFFSET([1]DE100_7!$S$261,ROWS($S$261:S298)-1,COLUMNS($S$261:S298)-1),\"\")","v":{"$error":"#VALUE!"}},{"$f":"IF(OFFSET([1]DE100_7!$T$261,ROWS($T$261:T298)-1,COLUMNS($T$261:T298)-1)<>\"\",OFFSET([1]DE100_7!$T$261,ROWS($T$261:T298)-1,COLUMNS($T$261:T298)-1),\"\")","v":{"$error":"#VALUE!"}},{"$f":"IF(OFFSET([1]DE100_7!$U$261,ROWS($U$261:U298)-1,COLUMNS($U$261:U298)-1)<>\"\",OFFSET([1]DE100_7!$U$261,ROWS($U$261:U298)-1,COLUMNS($U$261:U298)-1),\"\")","v":{"$error":"#VALUE!"}},{"$f":"IF(OFFSET([1]DE100_7!$V$261,ROWS($V$261:V298)-1,COLUMNS($V$261:V298)-1)<>\"\",OFFSET([1]DE100_7!$V$261,ROWS($V$261:V298)-1,COLUMNS($V$261:V298)-1),\"\")","v":{"$error":"#VALUE!"}}]
[{"$f":"IF(OFFSET([1]DE100_7!$C$261,ROWS($C$261:C299)-1,COLUMNS($C$261:C299)-1)<>\"\",OFFSET([1]DE100_7!$C$261,ROWS($C$261:C299)-1,COLUMNS($C$261:C299)-1),\"\")","v":{"$error":"#VALUE!"}},{"$f":"IF(OFFSET([1]DE100_7!$D$261,ROWS($D$261:D299)-1,COLUMNS($D$261:D299)-1)<>\"\",OFFSET([1]DE100_7!$D$261,ROWS($D$261:D299)-1,COLUMNS($D$261:D299)-1),\"\")","v":{"$error":"#VALUE!"}},{"$f":"IF(OFFSET([1]DE100_7!$E$261,ROWS($E$261:E299)-1,COLUMNS($E$261:E299)-1)<>\"\",OFFSET([1]DE100_7!$E$261,ROWS($E$261:E299)-1,COLUMNS($E$261:E299)-1),\"\")","v":{"$error":"#VALUE!"}},{"$f":"IF(OFFSET([1]DE100_7!$F$261,ROWS($F$261:F299)-1,COLUMNS($F$261:F299)-1)<>\"\",OFFSET([1]DE100_7!$F$261,ROWS($F$261:F299)-1,COLUMNS($F$261:F299)-1),\"\")","v":{"$error":"#VALUE!"}},{"$f":"IF(OFFSET([1]DE100_7!$G$261,ROWS($G$261:G299)-1,COLUMNS($G$261:G299)-1)<>\"\",OFFSET([1]DE100_7!$G$261,ROWS($G$261:G299)-1,COLUMNS($G$261:G299)-1),\"\")","v":{"$error":"#VALUE!"}},{"$f":"IF(OFFSET([1]DE100_7!$H$261,ROWS($H$261:H299)-1,COLUMNS($H$261:H299)-1)<>\"\",OFFSET([1]DE100_7!$H$261,ROWS($H$261:H299)-1,COLUMNS($H$261:H299)-1),\"\")","v":{"$error":"#VALUE!"}},{"$f":"IF(OFFSET([1]DE100_7!$I$261,ROWS($I$261:I299)-1,COLUMNS($I$261:I299)-1)<>\"\",OFFSET([1]DE100_7!$I$261,ROWS($I$261:I299)-1,COLUMNS($I$261:I299)-1),\"\")","v":{"$error":"#VALUE!"}},{"$f":"IF(OFFSET([1]DE100_7!$J$261,ROWS($J$261:J299)-1,COLUMNS($J$261:J299)-1)<>\"\",OFFSET([1]DE100_7!$J$261,ROWS($J$261:J299)-1,COLUMNS($J$261:J299)-1),\"\")","v":{"$error":"#VALUE!"}},{"$f":"IF(OFFSET([1]DE100_7!$K$261,ROWS($K$261:K299)-1,COLUMNS($K$261:K299)-1)<>\"\",OFFSET([1]DE100_7!$K$261,ROWS($K$261:K299)-1,COLUMNS($K$261:K299)-1),\"\")","v":{"$error":"#VALUE!"}},{"$f":"IF(OFFSET([1]DE100_7!$L$261,ROWS($L$261:L299)-1,COLUMNS($L$261:L299)-1)<>\"\",OFFSET([1]DE100_7!$L$261,ROWS($L$261:L299)-1,COLUMNS($L$261:L299)-1),\"\")","v":{"$error":"#VALUE!"}},{"$f":"IF(OFFSET([1]DE100_7!$M$261,ROWS($M$261:M299)-1,COLUMNS($M$261:M299)-1)<>\"\",OFFSET([1]DE100_7!$M$261,ROWS($M$261:M299)-1,COLUMNS($M$261:M299)-1),\"\")","v":{"$error":"#VALUE!"}},{"$f":"IF(OFFSET([1]DE100_7!$N$261,ROWS($N$261:N299)-1,COLUMNS($N$261:N299)-1)<>\"\",OFFSET([1]DE100_7!$N$261,ROWS($N$261:N299)-1,COLUMNS($N$261:N299)-1),\"\")","v":{"$error":"#VALUE!"}},{"$f":"IF(OFFSET([1]DE100_7!$O$261,ROWS($O$261:O299)-1,COLUMNS($O$261:O299)-1)<>\"\",OFFSET([1]DE100_7!$O$261,ROWS($O$261:O299)-1,COLUMNS($O$261:O299)-1),\"\")","v":{"$error":"#VALUE!"}},{"$f":"IF(OFFSET([1]DE100_7!$P$261,ROWS($P$261:P299)-1,COLUMNS($P$261:P299)-1)<>\"\",OFFSET([1]DE100_7!$P$261,ROWS($P$261:P299)-1,COLUMNS($P$261:P299)-1),\"\")","v":{"$error":"#VALUE!"}},{"$f":"IF(OFFSET([1]DE100_7!$Q$261,ROWS($Q$261:Q299)-1,COLUMNS($Q$261:Q299)-1)<>\"\",OFFSET([1]DE100_7!$Q$261,ROWS($Q$261:Q299)-1,COLUMNS($Q$261:Q299)-1),\"\")","v":{"$error":"#VALUE!"}},{"$f":"IF(OFFSET([1]DE100_7!$R$261,ROWS($R$261:R299)-1,COLUMNS($R$261:R299)-1)<>\"\",OFFSET([1]DE100_7!$R$261,ROWS($R$261:R299)-1,COLUMNS($R$261:R299)-1),\"\")","v":{"$error":"#VALUE!"}},{"$f":"IF(OFFSET([1]DE100_7!$S$261,ROWS($S$261:S299)-1,COLUMNS($S$261:S299)-1)<>\"\",OFFSET([1]DE100_7!$S$261,ROWS($S$261:S299)-1,COLUMNS($S$261:S299)-1),\"\")","v":{"$error":"#VALUE!"}},{"$f":"IF(OFFSET([1]DE100_7!$T$261,ROWS($T$261:T299)-1,COLUMNS($T$261:T299)-1)<>\"\",OFFSET([1]DE100_7!$T$261,ROWS($T$261:T299)-1,COLUMNS($T$261:T299)-1),\"\")","v":{"$error":"#VALUE!"}},{"$f":"IF(OFFSET([1]DE100_7!$U$261,ROWS($U$261:U299)-1,COLUMNS($U$261:U299)-1)<>\"\",OFFSET([1]DE100_7!$U$261,ROWS($U$261:U299)-1,COLUMNS($U$261:U299)-1),\"\")","v":{"$error":"#VALUE!"}},{"$f":"IF(OFFSET([1]DE100_7!$V$261,ROWS($V$261:V299)-1,COLUMNS($V$261:V299)-1)<>\"\",OFFSET([1]DE100_7!$V$261,ROWS($V$261:V299)-1,COLUMNS($V$261:V299)-1),\"\")","v":{"$error":"#VALUE!"}}]
[{"$f":"IF(OFFSET([1]DE100_7!$C$261,ROWS($C$261:C300)-1,COLUMNS($C$261:C300)-1)<>\"\",OFFSET([1]DE100_7!$C$261,ROWS($C$261:C300)-1,COLUMNS($C$261:C300)-1),\"\")","v":{"$error":"#VALUE!"}},{"$f":"IF(OFFSET([1]DE100_7!$D$261,ROWS($D$261:D300)-1,COLUMNS($D$261:D300)-1)<>\"\",OFFSET([1]DE100_7!$D$261,ROWS($D$261:D300)-1,COLUMNS($D$261:D300)-1),\"\")","v":{"$error":"#VALUE!"}},{"$f":"IF(OFFSET([1]DE100_7!$E$261,ROWS($E$261:E300)-1,COLUMNS($E$261:E300)-1)<>\"\",OFFSET([1]DE100_7!$E$261,ROWS($E$261:E300)-1,COLUMNS($E$261:E300)-1),\"\")","v":{"$error":"#VALUE!"}},{"$f":"IF(OFFSET([1]DE100_7!$F$261,ROWS($F$261:F300)-1,COLUMNS($F$261:F300)-1)<>\"\",OFFSET([1]DE100_7!$F$261,ROWS($F$261:F300)-1,COLUMNS($F$261:F300)-1),\"\")","v":{"$error":"#VALUE!"}},{"$f":"IF(OFFSET([1]DE100_7!$G$261,ROWS($G$261:G300)-1,COLUMNS($G$261:G300)-1)<>\"\",OFFSET([1]DE100_7!$G$261,ROWS($G$261:G300)-1,COLUMNS($G$261:G300)-1),\"\")","v":{"$error":"#VALUE!"}},{"$f":"IF(OFFSET([1]DE100_7!$H$261,ROWS($H$261:H300)-1,COLUMNS($H$261:H300)-1)<>\"\",OFFSET([1]DE100_7!$H$261,ROWS($H$261:H300)-1,COLUMNS($H$261:H300)-1),\"\")","v":{"$error":"#VALUE!"}},{"$f":"IF(OFFSET([1]DE100_7!$I$261,ROWS($I$261:I300)-1,COLUMNS($I$261:I300)-1)<>\"\",OFFSET([1]DE100_7!$I$261,ROWS($I$261:I300)-1,COLUMNS($I$261:I300)-1),\"\")","v":{"$error":"#VALUE!"}},{"$f":"IF(OFFSET([1]DE100_7!$J$261,ROWS($J$261:J300)-1,COLUMNS($J$261:J300)-1)<>\"\",OFFSET([1]DE100_7!$J$261,ROWS($J$261:J300)-1,COLUMNS($J$261:J300)-1),\"\")","v":{"$error":"#VALUE!"}},{"$f":"IF(OFFSET([1]DE100_7!$K$261,ROWS($K$261:K300)-1,COLUMNS($K$261:K300)-1)<>\"\",OFFSET([1]DE100_7!$K$261,ROWS($K$261:K300)-1,COLUMNS($K$261:K300)-1),\"\")","v":{"$error":"#VALUE!"}},{"$f":"IF(OFFSET([1]DE100_7!$L$261,ROWS($L$261:L300)-1,COLUMNS($L$261:L300)-1)<>\"\",OFFSET([1]DE100_7!$L$261,ROWS($L$261:L300)-1,COLUMNS($L$261:L300)-1),\"\")","v":{"$error":"#VALUE!"}},{"$f":"IF(OFFSET([1]DE100_7!$M$261,ROWS($M$261:M300)-1,COLUMNS($M$261:M300)-1)<>\"\",OFFSET([1]DE100_7!$M$261,ROWS($M$261:M300)-1,COLUMNS($M$261:M300)-1),\"\")","v":{"$error":"#VALUE!"}},{"$f":"IF(OFFSET([1]DE100_7!$N$261,ROWS($N$261:N300)-1,COLUMNS($N$261:N300)-1)<>\"\",OFFSET([1]DE100_7!$N$261,ROWS($N$261:N300)-1,COLUMNS($N$261:N300)-1),\"\")","v":{"$error":"#VALUE!"}},{"$f":"IF(OFFSET([1]DE100_7!$O$261,ROWS($O$261:O300)-1,COLUMNS($O$261:O300)-1)<>\"\",OFFSET([1]DE100_7!$O$261,ROWS($O$261:O300)-1,COLUMNS($O$261:O300)-1),\"\")","v":{"$error":"#VALUE!"}},{"$f":"IF(OFFSET([1]DE100_7!$P$261,ROWS($P$261:P300)-1,COLUMNS($P$261:P300)-1)<>\"\",OFFSET([1]DE100_7!$P$261,ROWS($P$261:P300)-1,COLUMNS($P$261:P300)-1),\"\")","v":{"$error":"#VALUE!"}},{"$f":"IF(OFFSET([1]DE100_7!$Q$261,ROWS($Q$261:Q300)-1,COLUMNS($Q$261:Q300)-1)<>\"\",OFFSET([1]DE100_7!$Q$261,ROWS($Q$261:Q300)-1,COLUMNS($Q$261:Q300)-1),\"\")","v":{"$error":"#VALUE!"}},{"$f":"IF(OFFSET([1]DE100_7!$R$261,ROWS($R$261:R300)-1,COLUMNS($R$261:R300)-1)<>\"\",OFFSET([1]DE100_7!$R$261,ROWS($R$261:R300)-1,COLUMNS($R$261:R300)-1),\"\")","v":{"$error":"#VALUE!"}},{"$f":"IF(OFFSET([1]DE100_7!$S$261,ROWS($S$261:S300)-1,COLUMNS($S$261:S300)-1)<>\"\",OFFSET([1]DE100_7!$S$261,ROWS($S$261:S300)-1,COLUMNS($S$261:S300)-1),\"\")","v":{"$error":"#VALUE!"}},{"$f":"IF(OFFSET([1]DE100_7!$T$261,ROWS($T$261:T300)-1,COLUMNS($T$261:T300)-1)<>\"\",OFFSET([1]DE100_7!$T$261,ROWS($T$261:T300)-1,COLUMNS($T$261:T300)-1),\"\")","v":{"$error":"#VALUE!"}},{"$f":"IF(OFFSET([1]DE100_7!$U$261,ROWS($U$261:U300)-1,COLUMNS($U$261:U300)-1)<>\"\",OFFSET([1]DE100_7!$U$261,ROWS($U$261:U300)-1,COLUMNS($U$261:U300)-1),\"\")","v":{"$error":"#VALUE!"}},{"$f":"IF(OFFSET([1]DE100_7!$V$261,ROWS($V$261:V300)-1,COLUMNS($V$261:V300)-1)<>\"\",OFFSET([1]DE100_7!$V$261,ROWS($V$261:V300)-1,COLUMNS($V$261:V300)-1),\"\")","v":{"$error":"#VALUE!"}}]
[{"$f":"IF(OFFSET([1]DE100_7!$C$261,ROWS($C$261:C301)-1,COLUMNS($C$261:C301)-1)<>\"\",OFFSET([1]DE100_7!$C$261,ROWS($C$261:C301)-1,COLUMNS($C$261:C301)-1),\"\")","v":{"$error":"#VALUE!"}},null,null,null,{"$f":"IF(OFFSET([1]DE100_7!$G$261,ROWS($G$261:G301)-1,COLUMNS($G$261:G301)-1)<>\"\",OFFSET([1]DE100_7!$G$261,ROWS($G$261:G301)-1,COLUMNS($G$261:G301)-1),\"\")","v":{"$error":"#VALUE!"}},{"$f":"IF(OFFSET([1]DE100_7!$H$261,ROWS($H$261:H301)-1,COLUMNS($H$261:H301)-1)<>\"\",OFFSET([1]DE100_7!$H$261,ROWS($H$261:H301)-1,COLUMNS($H$261:H301)-1),\"\")","v":{"$error":"#VALUE!"}},{"$f":"IF(OFFSET([1]DE100_7!$I$261,ROWS($I$261:I301)-1,COLUMNS($I$261:I301)-1)<>\"\",OFFSET([1]DE100_7!$I$261,ROWS($I$261:I301)-1,COLUMNS($I$261:I301)-1),\"\")","v":{"$error":"#VALUE!"}},{"$f":"IF(OFFSET([1]DE100_7!$J$261,ROWS($J$261:J301)-1,COLUMNS($J$261:J301)-1)<>\"\",OFFSET([1]DE100_7!$J$261,ROWS($J$261:J301)-1,COLUMNS($J$261:J301)-1),\"\")","v":{"$error":"#VALUE!"}},{"$f":"IF(OFFSET([1]DE100_7!$K$261,ROWS($K$261:K301)-1,COLUMNS($K$261:K301)-1)<>\"\",OFFSET([1]DE100_7!$K$261,ROWS($K$261:K301)-1,COLUMNS($K$261:K301)-1),\"\")","v":{"$error":"#VALUE!"}},{"$f":"IF(OFFSET([1]DE100_7!$L$261,ROWS($L$261:L301)-1,COLUMNS($L$261:L301)-1)<>\"\",OFFSET([1]DE100_7!$L$261,ROWS($L$261:L301)-1,COLUMNS($L$261:L301)-1),\"\")","v":{"$error":"#VALUE!"}},{"$f":"IF(OFFSET([1]DE100_7!$M$261,ROWS($M$261:M301)-1,COLUMNS($M$261:M301)-1)<>\"\",OFFSET([1]DE100_7!$M$261,ROWS($M$261:M301)-1,COLUMNS($M$261:M301)-1),\"\")","v":{"$error":"#VALUE!"}},{"$f":"IF(OFFSET([1]DE100_7!$N$261,ROWS($N$261:N301)-1,COLUMNS($N$261:N301)-1)<>\"\",OFFSET([1]DE100_7!$N$261,ROWS($N$261:N301)-1,COLUMNS($N$261:N301)-1),\"\")","v":{"$error":"#VALUE!"}},{"$f":"IF(OFFSET([1]DE100_7!$O$261,ROWS($O$261:O301)-1,COLUMNS($O$261:O301)-1)<>\"\",OFFSET([1]DE100_7!$O$261,ROWS($O$261:O301)-1,COLUMNS($O$261:O301)-1),\"\")","v":{"$error":"#VALUE!"}},{"$f":"IF(OFFSET([1]DE100_7!$P$261,ROWS($P$261:P301)-1,COLUMNS($P$261:P301)-1)<>\"\",OFFSET([1]DE100_7!$P$261,ROWS($P$261:P301)-1,COLUMNS($P$261:P301)-1),\"\")","v":{"$error":"#VALUE!"}},{"$f":"IF(OFFSET([1]DE100_7!$Q$261,ROWS($Q$261:Q301)-1,COLUMNS($Q$261:Q301)-1)<>\"\",OFFSET([1]DE100_7!$Q$261,ROWS($Q$261:Q301)-1,COLUMNS($Q$261:Q301)-1),\"\")","v":{"$error":"#VALUE!"}},{"$f":"IF(OFFSET([1]DE100_7!$R$261,ROWS($R$261:R301)-1,COLUMNS($R$261:R301)-1)<>\"\",OFFSET([1]DE100_7!$R$261,ROWS($R$261:R301)-1,COLUMNS($R$261:R301)-1),\"\")","v":{"$error":"#VALUE!"}},{"$f":"IF(OFFSET([1]DE100_7!$S$261,ROWS($S$261:S301)-1,COLUMNS($S$261:S301)-1)<>\"\",OFFSET([1]DE100_7!$S$261,ROWS($S$261:S301)-1,COLUMNS($S$261:S301)-1),\"\")","v":{"$error":"#VALUE!"}},{"$f":"IF(OFFSET([1]DE100_7!$T$261,ROWS($T$261:T301)-1,COLUMNS($T$261:T301)-1)<>\"\",OFFSET([1]DE100_7!$T$261,ROWS($T$261:T301)-1,COLUMNS($T$261:T301)-1),\"\")","v":{"$error":"#VALUE!"}},{"$f":"IF(OFFSET([1]DE100_7!$U$261,ROWS($U$261:U301)-1,COLUMNS($U$261:U301)-1)<>\"\",OFFSET([1]DE100_7!$U$261,ROWS($U$261:U301)-1,COLUMNS($U$261:U301)-1),\"\")","v":{"$error":"#VALUE!"}},{"$f":"IF(OFFSET([1]DE100_7!$V$261,ROWS($V$261:V301)-1,COLUMNS($V$261:V301)-1)<>\"\",OFFSET([1]DE100_7!$V$261,ROWS($V$261:V301)-1,COLUMNS($V$261:V301)-1),\"\")","v":{"$error":"#VALUE!"}}]
[{"$f":"IF(OFFSET([1]DE100_7!$C$261,ROWS($C$261:C302)-1,COLUMNS($C$261:C302)-1)<>\"\",OFFSET([1]DE100_7!$C$261,ROWS($C$261:C302)-1,COLUMNS($C$261:C302)-1),\"\")","v":{"$error":"#VALUE!"}},null,null,null,{"$f":"IF(OFFSET([1]DE100_7!$G$261,ROWS($G$261:G302)-1,COLUMNS($G$261:G302)-1)<>\"\",OFFSET([1]DE100_7!$G$261,ROWS($G$261:G302)-1,COLUMNS($G$261:G302)-1),\"\")","v":{"$error":"#VALUE!"}},{"$f":"IF(OFFSET([1]DE100_7!$H$261,ROWS($H$261:H302)-1,COLUMNS($H$261:H302)-1)<>\"\",OFFSET([1]DE100_7!$H$261,ROWS($H$261:H302)-1,COLUMNS($H$261:H302)-1),\"\")","v":{"$error":"#VALUE!"}},{"$f":"IF(OFFSET([1]DE100_7!$I$261,ROWS($I$261:I302)-1,COLUMNS($I$261:I302)-1)<>\"\",OFFSET([1]DE100_7!$I$261,ROWS($I$261:I302)-1,COLUMNS($I$261:I302)-1),\"\")","v":{"$error":"#VALUE!"}},{"$f":"IF(OFFSET([1]DE100_7!$J$261,ROWS($J$261:J302)-1,COLUMNS($J$261:J302)-1)<>\"\",OFFSET([1]DE100_7!$J$261,ROWS($J$261:J302)-1,COLUMNS($J$261:J302)-1),\"\")","v":{"$error":"#VALUE!"}},{"$f":"IF(OFFSET([1]DE100_7!$K$261,ROWS($K$261:K302)-1,COLUMNS($K$261:K302)-1)<>\"\",OFFSET([1]DE100_7!$K$261,ROWS($K$261:K302)-1,COLUMNS($K$261:K302)-1),\"\")","v":{"$error":"#VALUE!"}},{"$f":"IF(OFFSET([1]DE100_7!$L$261,ROWS($L$261:L302)-1,COLUMNS($L$261:L302)-1)<>\"\",OFFSET([1]DE100_7!$L$261,ROWS($L$261:L302)-1,COLUMNS($L$261:L302)-1),\"\")","v":{"$error":"#VALUE!"}},{"$f":"IF(OFFSET([1]DE100_7!$M$261,ROWS($M$261:M302)-1,COLUMNS($M$261:M302)-1)<>\"\",OFFSET([1]DE100_7!$M$261,ROWS($M$261:M302)-1,COLUMNS($M$261:M302)-1),\"\")","v":{"$error":"#VALUE!"}},{"$f":"IF(OFFSET([1]DE100_7!$N$261,ROWS($N$261:N302)-1,COLUMNS($N$261:N302)-1)<>\"\",OFFSET([1]DE100_7!$N$261,ROWS($N$261:N302)-1,COLUMNS($N$261:N302)-1),\"\")","v":{"$error":"#VALUE!"}},{"$f":"IF(OFFSET([1]DE100_7!$O$261,ROWS($O$261:O302)-1,COLUMNS($O$261:O302)-1)<>\"\",OFFSET([1]DE100_7!$O$261,ROWS($O$261:O302)-1,COLUMNS($O$261:O302)-1),\"\")","v":{"$error":"#VALUE!"}},{"$f":"IF(OFFSET([1]DE100_7!$P$261,ROWS($P$261:P302)-1,COLUMNS($P$261:P302)-1)<>\"\",OFFSET([1]DE100_7!$P$261,ROWS($P$261:P302)-1,COLUMNS($P$261:P302)-1),\"\")","v":{"$error":"#VALUE!"}},{"$f":"IF(OFFSET([1]DE100_7!$Q$261,ROWS($Q$261:Q302)-1,COLUMNS($Q$261:Q302)-1)<>\"\",OFFSET([1]DE100_7!$Q$261,ROWS($Q$261:Q302)-1,COLUMNS($Q$261:Q302)-1),\"\")","v":{"$error":"#VALUE!"}},{"$f":"IF(OFFSET([1]DE100_7!$R$261,ROWS($R$261:R302)-1,COLUMNS($R$261:R302)-1)<>\"\",OFFSET([1]DE100_7!$R$261,ROWS($R$261:R302)-1,COLUMNS($R$261:R302)-1),\"\")","v":{"$error":"#VALUE!"}},{"$f":"IF(OFFSET([1]DE100_7!$S$261,ROWS($S$261:S302)-1,COLUMNS($S$261:S302)-1)<>\"\",OFFSET([1]DE100_7!$S$261,ROWS($S$261:S302)-1,COLUMNS($S$261:S302)-1),\"\")","v":{"$error":"#VALUE!"}},{"$f":"IF(OFFSET([1]DE100_7!$T$261,ROWS($T$261:T302)-1,COLUMNS($T$261:T302)-1)<>\"\",OFFSET([1]DE100_7!$T$261,ROWS($T$261:T302)-1,COLUMNS($T$261:T302)-1),\"\")","v":{"$error":"#VALUE!"}},{"$f":"IF(OFFSET([1]DE100_7!$U$261,ROWS($U$261:U302)-1,COLUMNS($U$261:U302)-1)<>\"\",OFFSET([1]DE100_7!$U$261,ROWS($U$261:U302)-1,COLUMNS($U$261:U302)-1),\"\")","v":{"$error":"#VALUE!"}},{"$f":"IF(OFFSET([1]DE100_7!$V$261,ROWS($V$261:V302)-1,COLUMNS($V$261:V302)-1)<>\"\",OFFSET([1]DE100_7!$V$261,ROWS($V$261:V302)-1,COLUMNS($V$261:V302)-1),\"\")","v":{"$error":"#VALUE!"}}]
[{"$f":"IF(OFFSET([1]DE100_7!$C$261,ROWS($C$261:C303)-1,COLUMNS($C$261:C303)-1)<>\"\",OFFSET([1]DE100_7!$C$261,ROWS($C$261:C303)-1,COLUMNS($C$261:C303)-1),\"\")","v":{"$error":"#VALUE!"}},{"$f":"IF(OFFSET([1]DE100_7!$D$261,ROWS($D$261:D303)-1,COLUMNS($D$261:D303)-1)<>\"\",OFFSET([1]DE100_7!$D$261,ROWS($D$261:D303)-1,COLUMNS($D$261:D303)-1),\"\")","v":{"$error":"#VALUE!"}},{"$f":"IF(OFFSET([1]DE100_7!$E$261,ROWS($E$261:E303)-1,COLUMNS($E$261:E303)-1)<>\"\",OFFSET([1]DE100_7!$E$261,ROWS($E$261:E303)-1,COLUMNS($E$261:E303)-1),\"\")","v":{"$error":"#VALUE!"}},{"$f":"IF(OFFSET([1]DE100_7!$F$261,ROWS($F$261:F303)-1,COLUMNS($F$261:F303)-1)<>\"\",OFFSET([1]DE100_7!$F$261,ROWS($F$261:F303)-1,COLUMNS($F$261:F303)-1),\"\")","v":{"$error":"#VALUE!"}},{"$f":"IF(OFFSET([1]DE100_7!$G$261,ROWS($G$261:G303)-1,COLUMNS($G$261:G303)-1)<>\"\",OFFSET([1]DE100_7!$G$261,ROWS($G$261:G303)-1,COLUMNS($G$261:G303)-1),\"\")","v":{"$error":"#VALUE!"}},{"$f":"IF(OFFSET([1]DE100_7!$H$261,ROWS($H$261:H303)-1,COLUMNS($H$261:H303)-1)<>\"\",OFFSET([1]DE100_7!$H$261,ROWS($H$261:H303)-1,COLUMNS($H$261:H303)-1),\"\")","v":{"$error":"#VALUE!"}},{"$f":"IF(OFFSET([1]DE100_7!$I$261,ROWS($I$261:I303)-1,COLUMNS($I$261:I303)-1)<>\"\",OFFSET([1]DE100_7!$I$261,ROWS($I$261:I303)-1,COLUMNS($I$261:I303)-1),\"\")","v":{"$error":"#VALUE!"}},{"$f":"IF(OFFSET([1]DE100_7!$J$261,ROWS($J$261:J303)-1,COLUMNS($J$261:J303)-1)<>\"\",OFFSET([1]DE100_7!$J$261,ROWS($J$261:J303)-1,COLUMNS($J$261:J303)-1),\"\")","v":{"$error":"#VALUE!"}},{"$f":"IF(OFFSET([1]DE100_7!$K$261,ROWS($K$261:K303)-1,COLUMNS($K$261:K303)-1)<>\"\",OFFSET([1]DE100_7!$K$261,ROWS($K$261:K303)-1,COLUMNS($K$261:K303)-1),\"\")","v":{"$error":"#VALUE!"}},{"$f":"IF(OFFSET([1]DE100_7!$L$261,ROWS($L$261:L303)-1,COLUMNS($L$261:L303)-1)<>\"\",OFFSET([1]DE100_7!$L$261,ROWS($L$261:L303)-1,COLUMNS($L$261:L303)-1),\"\")","v":{"$error":"#VALUE!"}},{"$f":"IF(OFFSET([1]DE100_7!$M$261,ROWS($M$261:M303)-1,COLUMNS($M$261:M303)-1)<>\"\",OFFSET([1]DE100_7!$M$261,ROWS($M$261:M303)-1,COLUMNS($M$261:M303)-1),\"\")","v":{"$error":"#VALUE!"}},{"$f":"IF(OFFSET([1]DE100_7!$N$261,ROWS($N$261:N303)-1,COLUMNS($N$261:N303)-1)<>\"\",OFFSET([1]DE100_7!$N$261,ROWS($N$261:N303)-1,COLUMNS($N$261:N303)-1),\"\")","v":{"$error":"#VALUE!"}},{"$f":"IF(OFFSET([1]DE100_7!$O$261,ROWS($O$261:O303)-1,COLUMNS($O$261:O303)-1)<>\"\",OFFSET([1]DE100_7!$O$261,ROWS($O$261:O303)-1,COLUMNS($O$261:O303)-1),\"\")","v":{"$error":"#VALUE!"}},{"$f":"IF(OFFSET([1]DE100_7!$P$261,ROWS($P$261:P303)-1,COLUMNS($P$261:P303)-1)<>\"\",OFFSET([1]DE100_7!$P$261,ROWS($P$261:P303)-1,COLUMNS($P$261:P303)-1),\"\")","v":{"$error":"#VALUE!"}},{"$f":"IF(OFFSET([1]DE100_7!$Q$261,ROWS($Q$261:Q303)-1,COLUMNS($Q$261:Q303)-1)<>\"\",OFFSET([1]DE100_7!$Q$261,ROWS($Q$261:Q303)-1,COLUMNS($Q$261:Q303)-1),\"\")","v":{"$error":"#VALUE!"}},{"$f":"IF(OFFSET([1]DE100_7!$R$261,ROWS($R$261:R303)-1,COLUMNS($R$261:R303)-1)<>\"\",OFFSET([1]DE100_7!$R$261,ROWS($R$261:R303)-1,COLUMNS($R$261:R303)-1),\"\")","v":{"$error":"#VALUE!"}},{"$f":"IF(OFFSET([1]DE100_7!$S$261,ROWS($S$261:S303)-1,COLUMNS($S$261:S303)-1)<>\"\",OFFSET([1]DE100_7!$S$261,ROWS($S$261:S303)-1,COLUMNS($S$261:S303)-1),\"\")","v":{"$error":"#VALUE!"}},{"$f":"IF(OFFSET([1]DE100_7!$T$261,ROWS($T$261:T303)-1,COLUMNS($T$261:T303)-1)<>\"\",OFFSET([1]DE100_7!$T$261,ROWS($T$261:T303)-1,COLUMNS($T$261:T303)-1),\"\")","v":{"$error":"#VALUE!"}},{"$f":"IF(OFFSET([1]DE100_7!$U$261,ROWS($U$261:U303)-1,COLUMNS($U$261:U303)-1)<>\"\",OFFSET([1]DE100_7!$U$261,ROWS($U$261:U303)-1,COLUMNS($U$261:U303)-1),\"\")","v":{"$error":"#VALUE!"}},{"$f":"IF(OFFSET([1]DE100_7!$V$261,ROWS($V$261:V303)-1,COLUMNS($V$261:V303)-1)<>\"\",OFFSET([1]DE100_7!$V$261,ROWS($V$261:V303)-1,COLUMNS($V$261:V303)-1),\"\")","v":{"$error":"#VALUE!"}}]
[{"$f":"IF(OFFSET([1]DE100_7!$C$261,ROWS($C$261:C304)-1,COLUMNS($C$261:C304)-1)<>\"\",OFFSET([1]DE100_7!$C$261,ROWS($C$261:C304)-1,COLUMNS($C$261:C304)-1),\"\")","v":{"$error":"#VALUE!"}},{"$f":"IF(OFFSET([1]DE100_7!$D$261,ROWS($D$261:D304)-1,COLUMNS($D$261:D304)-1)<>\"\",OFFSET([1]DE100_7!$D$261,ROWS($D$261:D304)-1,COLUMNS($D$261:D304)-1),\"\")","v":{"$error":"#VALUE!"}},{"$f":"IF(OFFSET([1]DE100_7!$E$261,ROWS($E$261:E304)-1,COLUMNS($E$261:E304)-1)<>\"\",OFFSET([1]DE100_7!$E$261,ROWS($E$261:E304)-1,COLUMNS($E$261:E304)-1),\"\")","v":{"$error":"#VALUE!"}},{"$f":"IF(OFFSET([1]DE100_7!$F$261,ROWS($F$261:F304)-1,COLUMNS($F$261:F304)-1)<>\"\",OFFSET([1]DE100_7!$F$261,ROWS($F$261:F304)-1,COLUMNS($F$261:F304)-1),\"\")","v":{"$error":"#VALUE!"}},{"$f":"IF(OFFSET([1]DE100_7!$G$261,ROWS($G$261:G304)-1,COLUMNS($G$261:G304)-1)<>\"\",OFFSET([1]DE100_7!$G$261,ROWS($G$261:G304)-1,COLUMNS($G$261:G304)-1),\"\")","v":{"$error":"#VALUE!"}},{"$f":"IF(OFFSET([1]DE100_7!$H$261,ROWS($H$261:H304)-1,COLUMNS($H$261:H304)-1)<>\"\",OFFSET([1]DE100_7!$H$261,ROWS($H$261:H304)-1,COLUMNS($H$261:H304)-1),\"\")","v":{"$error":"#VALUE!"}},{"$f":"IF(OFFSET([1]DE100_7!$I$261,ROWS($I$261:I304)-1,COLUMNS($I$261:I304)-1)<>\"\",OFFSET([1]DE100_7!$I$261,ROWS($I$261:I304)-1,COLUMNS($I$261:I304)-1),\"\")","v":{"$error":"#VALUE!"}},{"$f":"IF(OFFSET([1]DE100_7!$J$261,ROWS($J$261:J304)-1,COLUMNS($J$261:J304)-1)<>\"\",OFFSET([1]DE100_7!$J$261,ROWS($J$261:J304)-1,COLUMNS($J$261:J304)-1),\"\")","v":{"$error":"#VALUE!"}},{"$f":"IF(OFFSET([1]DE100_7!$K$261,ROWS($K$261:K304)-1,COLUMNS($K$261:K304)-1)<>\"\",OFFSET([1]DE100_7!$K$261,ROWS($K$261:K304)-1,COLUMNS($K$261:K304)-1),\"\")","v":{"$error":"#VALUE!"}},{"$f":"IF(OFFSET([1]DE100_7!$L$261,ROWS($L$261:L304)-1,COLUMNS($L$261:L304)-1)<>\"\",OFFSET([1]DE100_7!$L$261,ROWS($L$261:L304)-1,COLUMNS($L$261:L304)-1),\"\")","v":{"$error":"#VALUE!"}},{"$f":"IF(OFFSET([1]DE100_7!$M$261,ROWS($M$261:M304)-1,COLUMNS($M$261:M304)-1)<>\"\",OFFSET([1]DE100_7!$M$261,ROWS($M$261:M304)-1,COLUMNS($M$261:M304)-1),\"\")","v":{"$error":"#VALUE!"}},{"$f":"IF(OFFSET([1]DE100_7!$N$261,ROWS($N$261:N304)-1,COLUMNS($N$261:N304)-1)<>\"\",OFFSET([1]DE100_7!$N$261,ROWS($N$261:N304)-1,COLUMNS($N$261:N304)-1),\"\")","v":{"$error":"#VALUE!"}},{"$f":"IF(OFFSET([1]DE100_7!$O$261,ROWS($O$261:O304)-1,COLUMNS($O$261:O304)-1)<>\"\",OFFSET([1]DE100_7!$O$261,ROWS($O$261:O304)-1,COLUMNS($O$261:O304)-1),\"\")","v":{"$error":"#VALUE!"}},{"$f":"IF(OFFSET([1]DE100_7!$P$261,ROWS($P$261:P304)-1,COLUMNS($P$261:P304)-1)<>\"\",OFFSET([1]DE100_7!$P$261,ROWS($P$261:P304)-1,COLUMNS($P$261:P304)-1),\"\")","v":{"$error":"#VALUE!"}},{"$f":"IF(OFFSET([1]DE100_7!$Q$261,ROWS($Q$261:Q304)-1,COLUMNS($Q$261:Q304)-1)<>\"\",OFFSET([1]DE100_7!$Q$261,ROWS($Q$261:Q304)-1,COLUMNS($Q$261:Q304)-1),\"\")","v":{"$error":"#VALUE!"}},{"$f":"IF(OFFSET([1]DE100_7!$R$261,ROWS($R$261:R304)-1,COLUMNS($R$261:R304)-1)<>\"\",OFFSET([1]DE100_7!$R$261,ROWS($R$261:R304)-1,COLUMNS($R$261:R304)-1),\"\")","v":{"$error":"#VALUE!"}},{"$f":"IF(OFFSET([1]DE100_7!$S$261,ROWS($S$261:S304)-1,COLUMNS($S$261:S304)-1)<>\"\",OFFSET([1]DE100_7!$S$261,ROWS($S$261:S304)-1,COLUMNS($S$261:S304)-1),\"\")","v":{"$error":"#VALUE!"}},{"$f":"IF(OFFSET([1]DE100_7!$T$261,ROWS($T$261:T304)-1,COLUMNS($T$261:T304)-1)<>\"\",OFFSET([1]DE100_7!$T$261,ROWS($T$261:T304)-1,COLUMNS($T$261:T304)-1),\"\")","v":{"$error":"#VALUE!"}},{"$f":"IF(OFFSET([1]DE100_7!$U$261,ROWS($U$261:U304)-1,COLUMNS($U$261:U304)-1)<>\"\",OFFSET([1]DE100_7!$U$261,ROWS($U$261:U304)-1,COLUMNS($U$261:U304)-1),\"\")","v":{"$error":"#VALUE!"}},{"$f":"IF(OFFSET([1]DE100_7!$V$261,ROWS($V$261:V304)-1,COLUMNS($V$261:V304)-1)<>\"\",OFFSET([1]DE100_7!$V$261,ROWS($V$261:V304)-1,COLUMNS($V$261:V304)-1),\"\")","v":{"$error":"#VALUE!"}}]
[{"$f":"IF(OFFSET([1]DE100_7!$C$261,ROWS($C$261:C305)-1,COLUMNS($C$261:C305)-1)<>\"\",OFFSET([1]DE100_7!$C$261,ROWS($C$261:C305)-1,COLUMNS($C$261:C305)-1),\"\")","v":{"$error":"#VALUE!"}},{"$f":"IF(OFFSET([1]DE100_7!$D$261,ROWS($D$261:D305)-1,COLUMNS($D$261:D305)-1)<>\"\",OFFSET([1]DE100_7!$D$261,ROWS($D$261:D305)-1,COLUMNS($D$261:D305)-1),\"\")","v":{"$error":"#VALUE!"}},{"$f":"IF(OFFSET([1]DE100_7!$E$261,ROWS($E$261:E305)-1,COLUMNS($E$261:E305)-1)<>\"\",OFFSET([1]DE100_7!$E$261,ROWS($E$261:E305)-1,COLUMNS($E$261:E305)-1),\"\")","v":{"$error":"#VALUE!"}},{"$f":"IF(OFFSET([1]DE100_7!$F$261,ROWS($F$261:F305)-1,COLUMNS($F$261:F305)-1)<>\"\",OFFSET([1]DE100_7!$F$261,ROWS($F$261:F305)-1,COLUMNS($F$261:F305)-1),\"\")","v":{"$error":"#VALUE!"}},{"$f":"IF(OFFSET([1]DE100_7!$G$261,ROWS($G$261:G305)-1,COLUMNS($G$261:G305)-1)<>\"\",OFFSET([1]DE100_7!$G$261,ROWS($G$261:G305)-1,COLUMNS($G$261:G305)-1),\"\")","v":{"$error":"#VALUE!"}},{"$f":"IF(OFFSET([1]DE100_7!$H$261,ROWS($H$261:H305)-1,COLUMNS($H$261:H305)-1)<>\"\",OFFSET([1]DE100_7!$H$261,ROWS($H$261:H305)-1,COLUMNS($H$261:H305)-1),\"\")","v":{"$error":"#VALUE!"}},{"$f":"IF(OFFSET([1]DE100_7!$I$261,ROWS($I$261:I305)-1,COLUMNS($I$261:I305)-1)<>\"\",OFFSET([1]DE100_7!$I$261,ROWS($I$261:I305)-1,COLUMNS($I$261:I305)-1),\"\")","v":{"$error":"#VALUE!"}},{"$f":"IF(OFFSET([1]DE100_7!$J$261,ROWS($J$261:J305)-1,COLUMNS($J$261:J305)-1)<>\"\",OFFSET([1]DE100_7!$J$261,ROWS($J$261:J305)-1,COLUMNS($J$261:J305)-1),\"\")","v":{"$error":"#VALUE!"}},{"$f":"IF(OFFSET([1]DE100_7!$K$261,ROWS($K$261:K305)-1,COLUMNS($K$261:K305)-1)<>\"\",OFFSET([1]DE100_7!$K$261,ROWS($K$261:K305)-1,COLUMNS($K$261:K305)-1),\"\")","v":{"$error":"#VALUE!"}},{"$f":"IF(OFFSET([1]DE100_7!$L$261,ROWS($L$261:L305)-1,COLUMNS($L$261:L305)-1)<>\"\",OFFSET([1]DE100_7!$L$261,ROWS($L$261:L305)-1,COLUMNS($L$261:L305)-1),\"\")","v":{"$error":"#VALUE!"}},{"$f":"IF(OFFSET([1]DE100_7!$M$261,ROWS($M$261:M305)-1,COLUMNS($M$261:M305)-1)<>\"\",OFFSET([1]DE100_7!$M$261,ROWS($M$261:M305)-1,COLUMNS($M$261:M305)-1),\"\")","v":{"$error":"#VALUE!"}},{"$f":"IF(OFFSET([1]DE100_7!$N$261,ROWS($N$261:N305)-1,COLUMNS($N$261:N305)-1)<>\"\",OFFSET([1]DE100_7!$N$261,ROWS($N$261:N305)-1,COLUMNS($N$261:N305)-1),\"\")","v":{"$error":"#VALUE!"}},{"$f":"IF(OFFSET([1]DE100_7!$O$261,ROWS($O$261:O305)-1,COLUMNS($O$261:O305)-1)<>\"\",OFFSET([1]DE100_7!$O$261,ROWS($O$261:O305)-1,COLUMNS($O$261:O305)-1),\"\")","v":{"$error":"#VALUE!"}},{"$f":"IF(OFFSET([1]DE100_7!$P$261,ROWS($P$261:P305)-1,COLUMNS($P$261:P305)-1)<>\"\",OFFSET([1]DE100_7!$P$261,ROWS($P$261:P305)-1,COLUMNS($P$261:P305)-1),\"\")","v":{"$error":"#VALUE!"}},{"$f":"IF(OFFSET([1]DE100_7!$Q$261,ROWS($Q$261:Q305)-1,COLUMNS($Q$261:Q305)-1)<>\"\",OFFSET([1]DE100_7!$Q$261,ROWS($Q$261:Q305)-1,COLUMNS($Q$261:Q305)-1),\"\")","v":{"$error":"#VALUE!"}},{"$f":"IF(OFFSET([1]DE100_7!$R$261,ROWS($R$261:R305)-1,COLUMNS($R$261:R305)-1)<>\"\",OFFSET([1]DE100_7!$R$261,ROWS($R$261:R305)-1,COLUMNS($R$261:R305)-1),\"\")","v":{"$error":"#VALUE!"}},{"$f":"IF(OFFSET([1]DE100_7!$S$261,ROWS($S$261:S305)-1,COLUMNS($S$261:S305)-1)<>\"\",OFFSET([1]DE100_7!$S$261,ROWS($S$261:S305)-1,COLUMNS($S$261:S305)-1),\"\")","v":{"$error":"#VALUE!"}},{"$f":"IF(OFFSET([1]DE100_7!$T$261,ROWS($T$261:T305)-1,COLUMNS($T$261:T305)-1)<>\"\",OFFSET([1]DE100_7!$T$261,ROWS($T$261:T305)-1,COLUMNS($T$261:T305)-1),\"\")","v":{"$error":"#VALUE!"}},{"$f":"IF(OFFSET([1]DE100_7!$U$261,ROWS($U$261:U305)-1,COLUMNS($U$261:U305)-1)<>\"\",OFFSET([1]DE100_7!$U$261,ROWS($U$261:U305)-1,COLUMNS($U$261:U305)-1),\"\")","v":{"$error":"#VALUE!"}},{"$f":"IF(OFFSET([1]DE100_7!$V$261,ROWS($V$261:V305)-1,COLUMNS($V$261:V305)-1)<>\"\",OFFSET([1]DE100_7!$V$261,ROWS($V$261:V305)-1,COLUMNS($V$261:V305)-1),\"\")","v":{"$error":"#VALUE!"}}]
[{"$f":"IF(OFFSET([1]DE100_7!$C$261,ROWS($C$261:C306)-1,COLUMNS($C$261:C306)-1)<>\"\",OFFSET([1]DE100_7!$C$261,ROWS($C$261:C306)-1,COLUMNS($C$261:C306)-1),\"\")","v":{"$error":"#VALUE!"}},null,null,null,{"$f":"IF(OFFSET([1]DE100_7!$G$261,ROWS($G$261:G306)-1,COLUMNS($G$261:G306)-1)<>\"\",OFFSET([1]DE100_7!$G$261,ROWS($G$261:G306)-1,COLUMNS($G$261:G306)-1),\"\")","v":{"$error":"#VALUE!"}},{"$f":"IF(OFFSET([1]DE100_7!$H$261,ROWS($H$261:H306)-1,COLUMNS($H$261:H306)-1)<>\"\",OFFSET([1]DE100_7!$H$261,ROWS($H$261:H306)-1,COLUMNS($H$261:H306)-1),\"\")","v":{"$error":"#VALUE!"}},{"$f":"IF(OFFSET([1]DE100_7!$I$261,ROWS($I$261:I306)-1,COLUMNS($I$261:I306)-1)<>\"\",OFFSET([1]DE100_7!$I$261,ROWS($I$261:I306)-1,COLUMNS($I$261:I306)-1),\"\")","v":{"$error":"#VALUE!"}},{"$f":"IF(OFFSET([1]DE100_7!$J$261,ROWS($J$261:J306)-1,COLUMNS($J$261:J306)-1)<>\"\",OFFSET([1]DE100_7!$J$261,ROWS($J$261:J306)-1,COLUMNS($J$261:J306)-1),\"\")","v":{"$error":"#VALUE!"}},{"$f":"IF(OFFSET([1]DE100_7!$K$261,ROWS($K$261:K306)-1,COLUMNS($K$261:K306)-1)<>\"\",OFFSET([1]DE100_7!$K$261,ROWS($K$261:K306)-1,COLUMNS($K$261:K306)-1),\"\")","v":{"$error":"#VALUE!"}},{"$f":"IF(OFFSET([1]DE100_7!$L$261,ROWS($L$261:L306)-1,COLUMNS($L$261:L306)-1)<>\"\",OFFSET([1]DE100_7!$L$261,ROWS($L$261:L306)-1,COLUMNS($L$261:L306)-1),\"\")","v":{"$error":"#VALUE!"}},{"$f":"IF(OFFSET([1]DE100_7!$M$261,ROWS($M$261:M306)-1,COLUMNS($M$261:M306)-1)<>\"\",OFFSET([1]DE100_7!$M$261,ROWS($M$261:M306)-1,COLUMNS($M$261:M306)-1),\"\")","v":{"$error":"#VALUE!"}},{"$f":"IF(OFFSET([1]DE100_7!$N$261,ROWS($N$261:N306)-1,COLUMNS($N$261:N306)-1)<>\"\",OFFSET([1]DE100_7!$N$261,ROWS($N$261:N306)-1,COLUMNS($N$261:N306)-1),\"\")","v":{"$error":"#VALUE!"}},{"$f":"IF(OFFSET([1]DE100_7!$O$261,ROWS($O$261:O306)-1,COLUMNS($O$261:O306)-1)<>\"\",OFFSET([1]DE100_7!$O$261,ROWS($O$261:O306)-1,COLUMNS($O$261:O306)-1),\"\")","v":{"$error":"#VALUE!"}},{"$f":"IF(OFFSET([1]DE100_7!$P$261,ROWS($P$261:P306)-1,COLUMNS($P$261:P306)-1)<>\"\",OFFSET([1]DE100_7!$P$261,ROWS($P$261:P306)-1,COLUMNS($P$261:P306)-1),\"\")","v":{"$error":"#VALUE!"}},{"$f":"IF(OFFSET([1]DE100_7!$Q$261,ROWS($Q$261:Q306)-1,COLUMNS($Q$261:Q306)-1)<>\"\",OFFSET([1]DE100_7!$Q$261,ROWS($Q$261:Q306)-1,COLUMNS($Q$261:Q306)-1),\"\")","v":{"$error":"#VALUE!"}},{"$f":"IF(OFFSET([1]DE100_7!$R$261,ROWS($R$261:R306)-1,COLUMNS($R$261:R306)-1)<>\"\",OFFSET([1]DE100_7!$R$261,ROWS($R$261:R306)-1,COLUMNS($R$261:R306)-1),\"\")","v":{"$error":"#VALUE!"}},{"$f":"IF(OFFSET([1]DE100_7!$S$261,ROWS($S$261:S306)-1,COLUMNS($S$261:S306)-1)<>\"\",OFFSET([1]DE100_7!$S$261,ROWS($S$261:S306)-1,COLUMNS($S$261:S306)-1),\"\")","v":{"$error":"#VALUE!"}},{"$f":"IF(OFFSET([1]DE100_7!$T$261,ROWS($T$261:T306)-1,COLUMNS($T$261:T306)-1)<>\"\",OFFSET([1]DE100_7!$T$261,ROWS($T$261:T306)-1,COLUMNS($T$261:T306)-1),\"\")","v":{"$error":"#VALUE!"}},{"$f":"IF(OFFSET([1]DE100_7!$U$261,ROWS($U$261:U306)-1,COLUMNS($U$261:U306)-1)<>\"\",OFFSET([1]DE100_7!$U$261,ROWS($U$261:U306)-1,COLUMNS($U$261:U306)-1),\"\")","v":{"$error":"#VALUE!"}},{"$f":"IF(OFFSET([1]DE100_7!$V$261,ROWS($V$261:V306)-1,COLUMNS($V$261:V306)-1)<>\"\",OFFSET([1]DE100_7!$V$261,ROWS($V$261:V306)-1,COLUMNS($V$261:V306)-1),\"\")","v":{"$error":"#VALUE!"}}]
[{"$f":"IF(OFFSET([1]DE100_7!$C$261,ROWS($C$261:C307)-1,COLUMNS($C$261:C307)-1)<>\"\",OFFSET([1]DE100_7!$C$261,ROWS($C$261:C307)-1,COLUMNS($C$261:C307)-1),\"\")","v":{"$error":"#VALUE!"}},{"$f":"IF(OFFSET([1]DE100_7!$D$261,ROWS($D$261:D307)-1,COLUMNS($D$261:D307)-1)<>\"\",OFFSET([1]DE100_7!$D$261,ROWS($D$261:D307)-1,COLUMNS($D$261:D307)-1),\"\")","v":{"$error":"#VALUE!"}},{"$f":"IF(OFFSET([1]DE100_7!$E$261,ROWS($E$261:E307)-1,COLUMNS($E$261:E307)-1)<>\"\",OFFSET([1]DE100_7!$E$261,ROWS($E$261:E307)-1,COLUMNS($E$261:E307)-1),\"\")","v":{"$error":"#VALUE!"}},{"$f":"IF(OFFSET([1]DE100_7!$F$261,ROWS($F$261:F307)-1,COLUMNS($F$261:F307)-1)<>\"\",OFFSET([1]DE100_7!$F$261,ROWS($F$261:F307)-1,COLUMNS($F$261:F307)-1),\"\")","v":{"$error":"#VALUE!"}},{"$f":"IF(OFFSET([1]DE100_7!$G$261,ROWS($G$261:G307)-1,COLUMNS($G$261:G307)-1)<>\"\",OFFSET([1]DE100_7!$G$261,ROWS($G$261:G307)-1,COLUMNS($G$261:G307)-1),\"\")","v":{"$error":"#VALUE!"}},{"$f":"IF(OFFSET([1]DE100_7!$H$261,ROWS($H$261:H307)-1,COLUMNS($H$261:H307)-1)<>\"\",OFFSET([1]DE100_7!$H$261,ROWS($H$261:H307)-1,COLUMNS($H$261:H307)-1),\"\")","v":{"$error":"#VALUE!"}},{"$f":"IF(OFFSET([1]DE100_7!$I$261,ROWS($I$261:I307)-1,COLUMNS($I$261:I307)-1)<>\"\",OFFSET([1]DE100_7!$I$261,ROWS($I$261:I307)-1,COLUMNS($I$261:I307)-1),\"\")","v":{"$error":"#VALUE!"}},{"$f":"IF(OFFSET([1]DE100_7!$J$261,ROWS($J$261:J307)-1,COLUMNS($J$261:J307)-1)<>\"\",OFFSET([1]DE100_7!$J$261,ROWS($J$261:J307)-1,COLUMNS($J$261:J307)-1),\"\")","v":{"$error":"#VALUE!"}},{"$f":"IF(OFFSET([1]DE100_7!$K$261,ROWS($K$261:K307)-1,COLUMNS($K$261:K307)-1)<>\"\",OFFSET([1]DE100_7!$K$261,ROWS($K$261:K307)-1,COLUMNS($K$261:K307)-1),\"\")","v":{"$error":"#VALUE!"}},{"$f":"IF(OFFSET([1]DE100_7!$L$261,ROWS($L$261:L307)-1,COLUMNS($L$261:L307)-1)<>\"\",OFFSET([1]DE100_7!$L$261,ROWS($L$261:L307)-1,COLUMNS($L$261:L307)-1),\"\")","v":{"$error":"#VALUE!"}},{"$f":"IF(OFFSET([1]DE100_7!$M$261,ROWS($M$261:M307)-1,COLUMNS($M$261:M307)-1)<>\"\",OFFSET([1]DE100_7!$M$261,ROWS($M$261:M307)-1,COLUMNS($M$261:M307)-1),\"\")","v":{"$error":"#VALUE!"}},{"$f":"IF(OFFSET([1]DE100_7!$N$261,ROWS($N$261:N307)-1,COLUMNS($N$261:N307)-1)<>\"\",OFFSET([1]DE100_7!$N$261,ROWS($N$261:N307)-1,COLUMNS($N$261:N307)-1),\"\")","v":{"$error":"#VALUE!"}},{"$f":"IF(OFFSET([1]DE100_7!$O$261,ROWS($O$261:O307)-1,COLUMNS($O$261:O307)-1)<>\"\",OFFSET([1]DE100_7!$O$261,ROWS($O$261:O307)-1,COLUMNS($O$261:O307)-1),\"\")","v":{"$error":"#VALUE!"}},{"$f":"IF(OFFSET([1]DE100_7!$P$261,ROWS($P$261:P307)-1,COLUMNS($P$261:P307)-1)<>\"\",OFFSET([1]DE100_7!$P$261,ROWS($P$261:P307)-1,COLUMNS($P$261:P307)-1),\"\")","v":{"$error":"#VALUE!"}},{"$f":"IF(OFFSET([1]DE100_7!$Q$261,ROWS($Q$261:Q307)-1,COLUMNS($Q$261:Q307)-1)<>\"\",OFFSET([1]DE100_7!$Q$261,ROWS($Q$261:Q307)-1,COLUMNS($Q$261:Q307)-1),\"\")","v":{"$error":"#VALUE!"}},{"$f":"IF(OFFSET([1]DE100_7!$R$261,ROWS($R$261:R307)-1,COLUMNS($R$261:R307)-1)<>\"\",OFFSET([1]DE100_7!$R$261,ROWS($R$261:R307)-1,COLUMNS($R$261:R307)-1),\"\")","v":{"$error":"#VALUE!"}},{"$f":"IF(OFFSET([1]DE100_7!$S$261,ROWS($S$261:S307)-1,COLUMNS($S$261:S307)-1)<>\"\",OFFSET([1]DE100_7!$S$261,ROWS($S$261:S307)-1,COLUMNS($S$261:S307)-1),\"\")","v":{"$error":"#VALUE!"}},{"$f":"IF(OFFSET([1]DE100_7!$T$261,ROWS($T$261:T307)-1,COLUMNS($T$261:T307)-1)<>\"\",OFFSET([1]DE100_7!$T$261,ROWS($T$261:T307)-1,COLUMNS($T$261:T307)-1),\"\")","v":{"$error":"#VALUE!"}},{"$f":"IF(OFFSET([1]DE100_7!$U$261,ROWS($U$261:U307)-1,COLUMNS($U$261:U307)-1)<>\"\",OFFSET([1]DE100_7!$U$261,ROWS($U$261:U307)-1,COLUMNS($U$261:U307)-1),\"\")","v":{"$error":"#VALUE!"}},{"$f":"IF(OFFSET([1]DE100_7!$V$261,ROWS($V$261:V307)-1,COLUMNS($V$261:V307)-1)<>\"\",OFFSET([1]DE100_7!$V$261,ROWS($V$261:V307)-1,COLUMNS($V$261:V307)-1),\"\")","v":{"$error":"#VALUE!"}}]
[{"$f":"IF(OFFSET([1]DE100_7!$C$261,ROWS($C$261:C308)-1,COLUMNS($C$261:C308)-1)<>\"\",OFFSET([1]DE100_7!$C$261,ROWS($C$261:C308)-1,COLUMNS($C$261:C308)-1),\"\")","v":{"$error":"#VALUE!"}},{"$f":"IF(OFFSET([1]DE100_7!$D$261,ROWS($D$261:D308)-1,COLUMNS($D$261:D308)-1)<>\"\",OFFSET([1]DE100_7!$D$261,ROWS($D$261:D308)-1,COLUMNS($D$261:D308)-1),\"\")","v":{"$error":"#VALUE!"}},{"$f":"IF(OFFSET([1]DE100_7!$E$261,ROWS($E$261:E308)-1,COLUMNS($E$261:E308)-1)<>\"\",OFFSET([1]DE100_7!$E$261,ROWS($E$261:E308)-1,COLUMNS($E$261:E308)-1),\"\")","v":{"$error":"#VALUE!"}},{"$f":"IF(OFFSET([1]DE100_7!$F$261,ROWS($F$261:F308)-1,COLUMNS($F$261:F308)-1)<>\"\",OFFSET([1]DE100_7!$F$261,ROWS($F$261:F308)-1,COLUMNS($F$261:F308)-1),\"\")","v":{"$error":"#VALUE!"}},{"$f":"IF(OFFSET([1]DE100_7!$G$261,ROWS($G$261:G308)-1,COLUMNS($G$261:G308)-1)<>\"\",OFFSET([1]DE100_7!$G$261,ROWS($G$261:G308)-1,COLUMNS($G$261:G308)-1),\"\")","v":{"$error":"#VALUE!"}},{"$f":"IF(OFFSET([1]DE100_7!$H$261,ROWS($H$261:H308)-1,COLUMNS($H$261:H308)-1)<>\"\",OFFSET([1]DE100_7!$H$261,ROWS($H$261:H308)-1,COLUMNS($H$261:H308)-1),\"\")","v":{"$error":"#VALUE!"}},{"$f":"IF(OFFSET([1]DE100_7!$I$261,ROWS($I$261:I308)-1,COLUMNS($I$261:I308)-1)<>\"\",OFFSET([1]DE100_7!$I$261,ROWS($I$261:I308)-1,COLUMNS($I$261:I308)-1),\"\")","v":{"$error":"#VALUE!"}},{"$f":"IF(OFFSET([1]DE100_7!$J$261,ROWS($J$261:J308)-1,COLUMNS($J$261:J308)-1)<>\"\",OFFSET([1]DE100_7!$J$261,ROWS($J$261:J308)-1,COLUMNS($J$261:J308)-1),\"\")","v":{"$error":"#VALUE!"}},{"$f":"IF(OFFSET([1]DE100_7!$K$261,ROWS($K$261:K308)-1,COLUMNS($K$261:K308)-1)<>\"\",OFFSET([1]DE100_7!$K$261,ROWS($K$261:K308)-1,COLUMNS($K$261:K308)-1),\"\")","v":{"$error":"#VALUE!"}},{"$f":"IF(OFFSET([1]DE100_7!$L$261,ROWS($L$261:L308)-1,COLUMNS($L$261:L308)-1)<>\"\",OFFSET([1]DE100_7!$L$261,ROWS($L$261:L308)-1,COLUMNS($L$261:L308)-1),\"\")","v":{"$error":"#VALUE!"}},{"$f":"IF(OFFSET([1]DE100_7!$M$261,ROWS($M$261:M308)-1,COLUMNS($M$261:M308)-1)<>\"\",OFFSET([1]DE100_7!$M$261,ROWS($M$261:M308)-1,COLUMNS($M$261:M308)-1),\"\")","v":{"$error":"#VALUE!"}},{"$f":"IF(OFFSET([1]DE100_7!$N$261,ROWS($N$261:N308)-1,COLUMNS($N$261:N308)-1)<>\"\",OFFSET([1]DE100_7!$N$261,ROWS($N$261:N308)-1,COLUMNS($N$261:N308)-1),\"\")","v":{"$error":"#VALUE!"}},{"$f":"IF(OFFSET([1]DE100_7!$O$261,ROWS($O$261:O308)-1,COLUMNS($O$261:O308)-1)<>\"\",OFFSET([1]DE100_7!$O$261,ROWS($O$261:O308)-1,COLUMNS($O$261:O308)-1),\"\")","v":{"$error":"#VALUE!"}},{"$f":"IF(OFFSET([1]DE100_7!$P$261,ROWS($P$261:P308)-1,COLUMNS($P$261:P308)-1)<>\"\",OFFSET([1]DE100_7!$P$261,ROWS($P$261:P308)-1,COLUMNS($P$261:P308)-1),\"\")","v":{"$error":"#VALUE!"}},{"$f":"IF(OFFSET([1]DE100_7!$Q$261,ROWS($Q$261:Q308)-1,COLUMNS($Q$261:Q308)-1)<>\"\",OFFSET([1]DE100_7!$Q$261,ROWS($Q$261:Q308)-1,COLUMNS($Q$261:Q308)-1),\"\")","v":{"$error":"#VALUE!"}},{"$f":"IF(OFFSET([1]DE100_7!$R$261,ROWS($R$261:R308)-1,COLUMNS($R$261:R308)-1)<>\"\",OFFSET([1]DE100_7!$R$261,ROWS($R$261:R308)-1,COLUMNS($R$261:R308)-1),\"\")","v":{"$error":"#VALUE!"}},{"$f":"IF(OFFSET([1]DE100_7!$S$261,ROWS($S$261:S308)-1,COLUMNS($S$261:S308)-1)<>\"\",OFFSET([1]DE100_7!$S$261,ROWS($S$261:S308)-1,COLUMNS($S$261:S308)-1),\"\")","v":{"$error":"#VALUE!"}},{"$f":"IF(OFFSET([1]DE100_7!$T$261,ROWS($T$261:T308)-1,COLUMNS($T$261:T308)-1)<>\"\",OFFSET([1]DE100_7!$T$261,ROWS($T$261:T308)-1,COLUMNS($T$261:T308)-1),\"\")","v":{"$error":"#VALUE!"}},{"$f":"IF(OFFSET([1]DE100_7!$U$261,ROWS($U$261:U308)-1,COLUMNS($U$261:U308)-1)<>\"\",OFFSET([1]DE100_7!$U$261,ROWS($U$261:U308)-1,COLUMNS($U$261:U308)-1),\"\")","v":{"$error":"#VALUE!"}},{"$f":"IF(OFFSET([1]DE100_7!$V$261,ROWS($V$261:V308)-1,COLUMNS($V$261:V308)-1)<>\"\",OFFSET([1]DE100_7!$V$261,ROWS($V$261:V308)-1,COLUMNS($V$261:V308)-1),\"\")","v":{"$error":"#VALUE!"}}]
[{"$f":"IF(OFFSET([1]DE100_7!$C$261,ROWS($C$261:C309)-1,COLUMNS($C$261:C309)-1)<>\"\",OFFSET([1]DE100_7!$C$261,ROWS($C$261:C309)-1,COLUMNS($C$261:C309)-1),\"\")","v":{"$error":"#VALUE!"}},{"$f":"IF(OFFSET([1]DE100_7!$D$261,ROWS($D$261:D309)-1,COLUMNS($D$261:D309)-1)<>\"\",OFFSET([1]DE100_7!$D$261,ROWS($D$261:D309)-1,COLUMNS($D$261:D309)-1),\"\")","v":{"$error":"#VALUE!"}},{"$f":"IF(OFFSET([1]DE100_7!$E$261,ROWS($E$261:E309)-1,COLUMNS($E$261:E309)-1)<>\"\",OFFSET([1]DE100_7!$E$261,ROWS($E$261:E309)-1,COLUMNS($E$261:E309)-1),\"\")","v":{"$error":"#VALUE!"}},{"$f":"IF(OFFSET([1]DE100_7!$F$261,ROWS($F$261:F309)-1,COLUMNS($F$261:F309)-1)<>\"\",OFFSET([1]DE100_7!$F$261,ROWS($F$261:F309)-1,COLUMNS($F$261:F309)-1),\"\")","v":{"$error":"#VALUE!"}},{"$f":"IF(OFFSET([1]DE100_7!$G$261,ROWS($G$261:G309)-1,COLUMNS($G$261:G309)-1)<>\"\",OFFSET([1]DE100_7!$G$261,ROWS($G$261:G309)-1,COLUMNS($G$261:G309)-1),\"\")","v":{"$error":"#VALUE!"}},{"$f":"IF(OFFSET([1]DE100_7!$H$261,ROWS($H$261:H309)-1,COLUMNS($H$261:H309)-1)<>\"\",OFFSET([1]DE100_7!$H$261,ROWS($H$261:H309)-1,COLUMNS($H$261:H309)-1),\"\")","v":{"$error":"#VALUE!"}},{"$f":"IF(OFFSET([1]DE100_7!$I$261,ROWS($I$261:I309)-1,COLUMNS($I$261:I309)-1)<>\"\",OFFSET([1]DE100_7!$I$261,ROWS($I$261:I309)-1,COLUMNS($I$261:I309)-1),\"\")","v":{"$error":"#VALUE!"}},{"$f":"IF(OFFSET([1]DE100_7!$J$261,ROWS($J$261:J309)-1,COLUMNS($J$261:J309)-1)<>\"\",OFFSET([1]DE100_7!$J$261,ROWS($J$261:J309)-1,COLUMNS($J$261:J309)-1),\"\")","v":{"$error":"#VALUE!"}},{"$f":"IF(OFFSET([1]DE100_7!$K$261,ROWS($K$261:K309)-1,COLUMNS($K$261:K309)-1)<>\"\",OFFSET([1]DE100_7!$K$261,ROWS($K$261:K309)-1,COLUMNS($K$261:K309)-1),\"\")","v":{"$error":"#VALUE!"}},{"$f":"IF(OFFSET([1]DE100_7!$L$261,ROWS($L$261:L309)-1,COLUMNS($L$261:L309)-1)<>\"\",OFFSET([1]DE100_7!$L$261,ROWS($L$261:L309)-1,COLUMNS($L$261:L309)-1),\"\")","v":{"$error":"#VALUE!"}},{"$f":"IF(OFFSET([1]DE100_7!$M$261,ROWS($M$261:M309)-1,COLUMNS($M$261:M309)-1)<>\"\",OFFSET([1]DE100_7!$M$261,ROWS($M$261:M309)-1,COLUMNS($M$261:M309)-1),\"\")","v":{"$error":"#VALUE!"}},{"$f":"IF(OFFSET([1]DE100_7!$N$261,ROWS($N$261:N309)-1,COLUMNS($N$261:N309)-1)<>\"\",OFFSET([1]DE100_7!$N$261,ROWS($N$261:N309)-1,COLUMNS($N$261:N309)-1),\"\")","v":{"$error":"#VALUE!"}},{"$f":"IF(OFFSET([1]DE100_7!$O$261,ROWS($O$261:O309)-1,COLUMNS($O$261:O309)-1)<>\"\",OFFSET([1]DE100_7!$O$261,ROWS($O$261:O309)-1,COLUMNS($O$261:O309)-1),\"\")","v":{"$error":"#VALUE!"}},{"$f":"IF(OFFSET([1]DE100_7!$P$261,ROWS($P$261:P309)-1,COLUMNS($P$261:P309)-1)<>\"\",OFFSET([1]DE100_7!$P$261,ROWS($P$261:P309)-1,COLUMNS($P$261:P309)-1),\"\")","v":{"$error":"#VALUE!"}},{"$f":"IF(OFFSET([1]DE100_7!$Q$261,ROWS($Q$261:Q309)-1,COLUMNS($Q$261:Q309)-1)<>\"\",OFFSET([1]DE100_7!$Q$261,ROWS($Q$261:Q309)-1,COLUMNS($Q$261:Q309)-1),\"\")","v":{"$error":"#VALUE!"}},{"$f":"IF(OFFSET([1]DE100_7!$R$261,ROWS($R$261:R309)-1,COLUMNS($R$261:R309)-1)<>\"\",OFFSET([1]DE100_7!$R$261,ROWS($R$261:R309)-1,COLUMNS($R$261:R309)-1),\"\")","v":{"$error":"#VALUE!"}},{"$f":"IF(OFFSET([1]DE100_7!$S$261,ROWS($S$261:S309)-1,COLUMNS($S$261:S309)-1)<>\"\",OFFSET([1]DE100_7!$S$261,ROWS($S$261:S309)-1,COLUMNS($S$261:S309)-1),\"\")","v":{"$error":"#VALUE!"}},{"$f":"IF(OFFSET([1]DE100_7!$T$261,ROWS($T$261:T309)-1,COLUMNS($T$261:T309)-1)<>\"\",OFFSET([1]DE100_7!$T$261,ROWS($T$261:T309)-1,COLUMNS($T$261:T309)-1),\"\")","v":{"$error":"#VALUE!"}},{"$f":"IF(OFFSET([1]DE100_7!$U$261,ROWS($U$261:U309)-1,COLUMNS($U$261:U309)-1)<>\"\",OFFSET([1]DE100_7!$U$261,ROWS($U$261:U309)-1,COLUMNS($U$261:U309)-1),\"\")","v":{"$error":"#VALUE!"}},{"$f":"IF(OFFSET([1]DE100_7!$V$261,ROWS($V$261:V309)-1,COLUMNS($V$261:V309)-1)<>\"\",OFFSET([1]DE100_7!$V$261,ROWS($V$261:V309)-1,COLUMNS($V$261:V309)-1),\"\")","v":{"$error":"#VALUE!"}}]
[{"$f":"IF(OFFSET([1]DE100_7!$C$261,ROWS($C$261:C310)-1,COLUMNS($C$261:C310)-1)<>\"\",OFFSET([1]DE100_7!$C$261,ROWS($C$261:C310)-1,COLUMNS($C$261:C310)-1),\"\")","v":{"$error":"#VALUE!"}},{"$f":"IF(OFFSET([1]DE100_7!$D$261,ROWS($D$261:D310)-1,COLUMNS($D$261:D310)-1)<>\"\",OFFSET([1]DE100_7!$D$261,ROWS($D$261:D310)-1,COLUMNS($D$261:D310)-1),\"\")","v":{"$error":"#VALUE!"}},{"$f":"IF(OFFSET([1]DE100_7!$E$261,ROWS($E$261:E310)-1,COLUMNS($E$261:E310)-1)<>\"\",OFFSET([1]DE100_7!$E$261,ROWS($E$261:E310)-1,COLUMNS($E$261:E310)-1),\"\")","v":{"$error":"#VALUE!"}},{"$f":"IF(OFFSET([1]DE100_7!$F$261,ROWS($F$261:F310)-1,COLUMNS($F$261:F310)-1)<>\"\",OFFSET([1]DE100_7!$F$261,ROWS($F$261:F310)-1,COLUMNS($F$261:F310)-1),\"\")","v":{"$error":"#VALUE!"}},{"$f":"IF(OFFSET([1]DE100_7!$G$261,ROWS($G$261:G310)-1,COLUMNS($G$261:G310)-1)<>\"\",OFFSET([1]DE100_7!$G$261,ROWS($G$261:G310)-1,COLUMNS($G$261:G310)-1),\"\")","v":{"$error":"#VALUE!"}},{"$f":"IF(OFFSET([1]DE100_7!$H$261,ROWS($H$261:H310)-1,COLUMNS($H$261:H310)-1)<>\"\",OFFSET([1]DE100_7!$H$261,ROWS($H$261:H310)-1,COLUMNS($H$261:H310)-1),\"\")","v":{"$error":"#VALUE!"}},{"$f":"IF(OFFSET([1]DE100_7!$I$261,ROWS($I$261:I310)-1,COLUMNS($I$261:I310)-1)<>\"\",OFFSET([1]DE100_7!$I$261,ROWS($I$261:I310)-1,COLUMNS($I$261:I310)-1),\"\")","v":{"$error":"#VALUE!"}},{"$f":"IF(OFFSET([1]DE100_7!$J$261,ROWS($J$261:J310)-1,COLUMNS($J$261:J310)-1)<>\"\",OFFSET([1]DE100_7!$J$261,ROWS($J$261:J310)-1,COLUMNS($J$261:J310)-1),\"\")","v":{"$error":"#VALUE!"}},{"$f":"IF(OFFSET([1]DE100_7!$K$261,ROWS($K$261:K310)-1,COLUMNS($K$261:K310)-1)<>\"\",OFFSET([1]DE100_7!$K$261,ROWS($K$261:K310)-1,COLUMNS($K$261:K310)-1),\"\")","v":{"$error":"#VALUE!"}},{"$f":"IF(OFFSET([1]DE100_7!$L$261,ROWS($L$261:L310)-1,COLUMNS($L$261:L310)-1)<>\"\",OFFSET([1]DE100_7!$L$261,ROWS($L$261:L310)-1,COLUMNS($L$261:L310)-1),\"\")","v":{"$error":"#VALUE!"}},{"$f":"IF(OFFSET([1]DE100_7!$M$261,ROWS($M$261:M310)-1,COLUMNS($M$261:M310)-1)<>\"\",OFFSET([1]DE100_7!$M$261,ROWS($M$261:M310)-1,COLUMNS($M$261:M310)-1),\"\")","v":{"$error":"#VALUE!"}},{"$f":"IF(OFFSET([1]DE100_7!$N$261,ROWS($N$261:N310)-1,COLUMNS($N$261:N310)-1)<>\"\",OFFSET([1]DE100_7!$N$261,ROWS($N$261:N310)-1,COLUMNS($N$261:N310)-1),\"\")","v":{"$error":"#VALUE!"}},{"$f":"IF(OFFSET([1]DE100_7!$O$261,ROWS($O$261:O310)-1,COLUMNS($O$261:O310)-1)<>\"\",OFFSET([1]DE100_7!$O$261,ROWS($O$261:O310)-1,COLUMNS($O$261:O310)-1),\"\")","v":{"$error":"#VALUE!"}},{"$f":"IF(OFFSET([1]DE100_7!$P$261,ROWS($P$261:P310)-1,COLUMNS($P$261:P310)-1)<>\"\",OFFSET([1]DE100_7!$P$261,ROWS($P$261:P310)-1,COLUMNS($P$261:P310)-1),\"\")","v":{"$error":"#VALUE!"}},{"$f":"IF(OFFSET([1]DE100_7!$Q$261,ROWS($Q$261:Q310)-1,COLUMNS($Q$261:Q310)-1)<>\"\",OFFSET([1]DE100_7!$Q$261,ROWS($Q$261:Q310)-1,COLUMNS($Q$261:Q310)-1),\"\")","v":{"$error":"#VALUE!"}},{"$f":"IF(OFFSET([1]DE100_7!$R$261,ROWS($R$261:R310)-1,COLUMNS($R$261:R310)-1)<>\"\",OFFSET([1]DE100_7!$R$261,ROWS($R$261:R310)-1,COLUMNS($R$261:R310)-1),\"\")","v":{"$error":"#VALUE!"}},{"$f":"IF(OFFSET([1]DE100_7!$S$261,ROWS($S$261:S310)-1,COLUMNS($S$261:S310)-1)<>\"\",OFFSET([1]DE100_7!$S$261,ROWS($S$261:S310)-1,COLUMNS($S$261:S310)-1),\"\")","v":{"$error":"#VALUE!"}},{"$f":"IF(OFFSET([1]DE100_7!$T$261,ROWS($T$261:T310)-1,COLUMNS($T$261:T310)-1)<>\"\",OFFSET([1]DE100_7!$T$261,ROWS($T$261:T310)-1,COLUMNS($T$261:T310)-1),\"\")","v":{"$error":"#VALUE!"}},{"$f":"IF(OFFSET([1]DE100_7!$U$261,ROWS($U$261:U310)-1,COLUMNS($U$261:U310)-1)<>\"\",OFFSET([1]DE100_7!$U$261,ROWS($U$261:U310)-1,COLUMNS($U$261:U310)-1),\"\")","v":{"$error":"#VALUE!"}},{"$f":"IF(OFFSET([1]DE100_7!$V$261,ROWS($V$261:V310)-1,COLUMNS($V$261:V310)-1)<>\"\",OFFSET([1]DE100_7!$V$261,ROWS($V$261:V310)-1,COLUMNS($V$261:V310)-1),\"\")","v":{"$error":"#VALUE!"}}]
[{"$f":"IF(OFFSET([1]DE100_7!$C$261,ROWS($C$261:C311)-1,COLUMNS($C$261:C311)-1)<>\"\",OFFSET([1]DE100_7!$C$261,ROWS($C$261:C311)-1,COLUMNS($C$261:C311)-1),\"\")","v":{"$error":"#VALUE!"}},{"$f":"IF(OFFSET([1]DE100_7!$D$261,ROWS($D$261:D311)-1,COLUMNS($D$261:D311)-1)<>\"\",OFFSET([1]DE100_7!$D$261,ROWS($D$261:D311)-1,COLUMNS($D$261:D311)-1),\"\")","v":{"$error":"#VALUE!"}},{"$f":"IF(OFFSET([1]DE100_7!$E$261,ROWS($E$261:E311)-1,COLUMNS($E$261:E311)-1)<>\"\",OFFSET([1]DE100_7!$E$261,ROWS($E$261:E311)-1,COLUMNS($E$261:E311)-1),\"\")","v":{"$error":"#VALUE!"}},{"$f":"IF(OFFSET([1]DE100_7!$F$261,ROWS($F$261:F311)-1,COLUMNS($F$261:F311)-1)<>\"\",OFFSET([1]DE100_7!$F$261,ROWS($F$261:F311)-1,COLUMNS($F$261:F311)-1),\"\")","v":{"$error":"#VALUE!"}},{"$f":"IF(OFFSET([1]DE100_7!$G$261,ROWS($G$261:G311)-1,COLUMNS($G$261:G311)-1)<>\"\",OFFSET([1]DE100_7!$G$261,ROWS($G$261:G311)-1,COLUMNS($G$261:G311)-1),\"\")","v":{"$error":"#VALUE!"}},{"$f":"IF(OFFSET([1]DE100_7!$H$261,ROWS($H$261:H311)-1,COLUMNS($H$261:H311)-1)<>\"\",OFFSET([1]DE100_7!$H$261,ROWS($H$261:H311)-1,COLUMNS($H$261:H311)-1),\"\")","v":{"$error":"#VALUE!"}},{"$f":"IF(OFFSET([1]DE100_7!$I$261,ROWS($I$261:I311)-1,COLUMNS($I$261:I311)-1)<>\"\",OFFSET([1]DE100_7!$I$261,ROWS($I$261:I311)-1,COLUMNS($I$261:I311)-1),\"\")","v":{"$error":"#VALUE!"}},{"$f":"IF(OFFSET([1]DE100_7!$J$261,ROWS($J$261:J311)-1,COLUMNS($J$261:J311)-1)<>\"\",OFFSET([1]DE100_7!$J$261,ROWS($J$261:J311)-1,COLUMNS($J$261:J311)-1),\"\")","v":{"$error":"#VALUE!"}},{"$f":"IF(OFFSET([1]DE100_7!$K$261,ROWS($K$261:K311)-1,COLUMNS($K$261:K311)-1)<>\"\",OFFSET([1]DE100_7!$K$261,ROWS($K$261:K311)-1,COLUMNS($K$261:K311)-1),\"\")","v":{"$error":"#VALUE!"}},{"$f":"IF(OFFSET([1]DE100_7!$L$261,ROWS($L$261:L311)-1,COLUMNS($L$261:L311)-1)<>\"\",OFFSET([1]DE100_7!$L$261,ROWS($L$261:L311)-1,COLUMNS($L$261:L311)-1),\"\")","v":{"$error":"#VALUE!"}},{"$f":"IF(OFFSET([1]DE100_7!$M$261,ROWS($M$261:M311)-1,COLUMNS($M$261:M311)-1)<>\"\",OFFSET([1]DE100_7!$M$261,ROWS($M$261:M311)-1,COLUMNS($M$261:M311)-1),\"\")","v":{"$error":"#VALUE!"}},{"$f":"IF(OFFSET([1]DE100_7!$N$261,ROWS($N$261:N311)-1,COLUMNS($N$261:N311)-1)<>\"\",OFFSET([1]DE100_7!$N$261,ROWS($N$261:N311)-1,COLUMNS($N$261:N311)-1),\"\")","v":{"$error":"#VALUE!"}},{"$f":"IF(OFFSET([1]DE100_7!$O$261,ROWS($O$261:O311)-1,COLUMNS($O$261:O311)-1)<>\"\",OFFSET([1]DE100_7!$O$261,ROWS($O$261:O311)-1,COLUMNS($O$261:O311)-1),\"\")","v":{"$error":"#VALUE!"}},{"$f":"IF(OFFSET([1]DE100_7!$P$261,ROWS($P$261:P311)-1,COLUMNS($P$261:P311)-1)<>\"\",OFFSET([1]DE100_7!$P$261,ROWS($P$261:P311)-1,COLUMNS($P$261:P311)-1),\"\")","v":{"$error":"#VALUE!"}},{"$f":"IF(OFFSET([1]DE100_7!$Q$261,ROWS($Q$261:Q311)-1,COLUMNS($Q$261:Q311)-1)<>\"\",OFFSET([1]DE100_7!$Q$261,ROWS($Q$261:Q311)-1,COLUMNS($Q$261:Q311)-1),\"\")","v":{"$error":"#VALUE!"}},{"$f":"IF(OFFSET([1]DE100_7!$R$261,ROWS($R$261:R311)-1,COLUMNS($R$261:R311)-1)<>\"\",OFFSET([1]DE100_7!$R$261,ROWS($R$261:R311)-1,COLUMNS($R$261:R311)-1),\"\")","v":{"$error":"#VALUE!"}},{"$f":"IF(OFFSET([1]DE100_7!$S$261,ROWS($S$261:S311)-1,COLUMNS($S$261:S311)-1)<>\"\",OFFSET([1]DE100_7!$S$261,ROWS($S$261:S311)-1,COLUMNS($S$261:S311)-1),\"\")","v":{"$error":"#VALUE!"}},{"$f":"IF(OFFSET([1]DE100_7!$T$261,ROWS($T$261:T311)-1,COLUMNS($T$261:T311)-1)<>\"\",OFFSET([1]DE100_7!$T$261,ROWS($T$261:T311)-1,COLUMNS($T$261:T311)-1),\"\")","v":{"$error":"#VALUE!"}},{"$f":"IF(OFFSET([1]DE100_7!$U$261,ROWS($U$261:U311)-1,COLUMNS($U$261:U311)-1)<>\"\",OFFSET([1]DE100_7!$U$261,ROWS($U$261:U311)-1,COLUMNS($U$261:U311)-1),\"\")","v":{"$error":"#VALUE!"}},{"$f":"IF(OFFSET([1]DE100_7!$V$261,ROWS($V$261:V311)-1,COLUMNS($V$261:V311)-1)<>\"\",OFFSET([1]DE100_7!$V$261,ROWS($V$261:V311)-1,COLUMNS($V$261:V311)-1),\"\")","v":{"$error":"#VALUE!"}}]
[{"$f":"IF(OFFSET([1]DE100_7!$C$261,ROWS($C$261:C312)-1,COLUMNS($C$261:C312)-1)<>\"\",OFFSET([1]DE100_7!$C$261,ROWS($C$261:C312)-1,COLUMNS($C$261:C312)-1),\"\")","v":{"$error":"#VALUE!"}},null,null,null,{"$f":"IF(OFFSET([1]DE100_7!$G$261,ROWS($G$261:G312)-1,COLUMNS($G$261:G312)-1)<>\"\",OFFSET([1]DE100_7!$G$261,ROWS($G$261:G312)-1,COLUMNS($G$261:G312)-1),\"\")","v":{"$error":"#VALUE!"}},{"$f":"IF(OFFSET([1]DE100_7!$H$261,ROWS($H$261:H312)-1,COLUMNS($H$261:H312)-1)<>\"\",OFFSET([1]DE100_7!$H$261,ROWS($H$261:H312)-1,COLUMNS($H$261:H312)-1),\"\")","v":{"$error":"#VALUE!"}},{"$f":"IF(OFFSET([1]DE100_7!$I$261,ROWS($I$261:I312)-1,COLUMNS($I$261:I312)-1)<>\"\",OFFSET([1]DE100_7!$I$261,ROWS($I$261:I312)-1,COLUMNS($I$261:I312)-1),\"\")","v":{"$error":"#VALUE!"}},{"$f":"IF(OFFSET([1]DE100_7!$J$261,ROWS($J$261:J312)-1,COLUMNS($J$261:J312)-1)<>\"\",OFFSET([1]DE100_7!$J$261,ROWS($J$261:J312)-1,COLUMNS($J$261:J312)-1),\"\")","v":{"$error":"#VALUE!"}},{"$f":"IF(OFFSET([1]DE100_7!$K$261,ROWS($K$261:K312)-1,COLUMNS($K$261:K312)-1)<>\"\",OFFSET([1]DE100_7!$K$261,ROWS($K$261:K312)-1,COLUMNS($K$261:K312)-1),\"\")","v":{"$error":"#VALUE!"}},{"$f":"IF(OFFSET([1]DE100_7!$L$261,ROWS($L$261:L312)-1,COLUMNS($L$261:L312)-1)<>\"\",OFFSET([1]DE100_7!$L$261,ROWS($L$261:L312)-1,COLUMNS($L$261:L312)-1),\"\")","v":{"$error":"#VALUE!"}},{"$f":"IF(OFFSET([1]DE100_7!$M$261,ROWS($M$261:M312)-1,COLUMNS($M$261:M312)-1)<>\"\",OFFSET([1]DE100_7!$M$261,ROWS($M$261:M312)-1,COLUMNS($M$261:M312)-1),\"\")","v":{"$error":"#VALUE!"}},{"$f":"IF(OFFSET([1]DE100_7!$N$261,ROWS($N$261:N312)-1,COLUMNS($N$261:N312)-1)<>\"\",OFFSET([1]DE100_7!$N$261,ROWS($N$261:N312)-1,COLUMNS($N$261:N312)-1),\"\")","v":{"$error":"#VALUE!"}},{"$f":"IF(OFFSET([1]DE100_7!$O$261,ROWS($O$261:O312)-1,COLUMNS($O$261:O312)-1)<>\"\",OFFSET([1]DE100_7!$O$261,ROWS($O$261:O312)-1,COLUMNS($O$261:O312)-1),\"\")","v":{"$error":"#VALUE!"}},{"$f":"IF(OFFSET([1]DE100_7!$P$261,ROWS($P$261:P312)-1,COLUMNS($P$261:P312)-1)<>\"\",OFFSET([1]DE100_7!$P$261,ROWS($P$261:P312)-1,COLUMNS($P$261:P312)-1),\"\")","v":{"$error":"#VALUE!"}},{"$f":"IF(OFFSET([1]DE100_7!$Q$261,ROWS($Q$261:Q312)-1,COLUMNS($Q$261:Q312)-1)<>\"\",OFFSET([1]DE100_7!$Q$261,ROWS($Q$261:Q312)-1,COLUMNS($Q$261:Q312)-1),\"\")","v":{"$error":"#VALUE!"}},{"$f":"IF(OFFSET([1]DE100_7!$R$261,ROWS($R$261:R312)-1,COLUMNS($R$261:R312)-1)<>\"\",OFFSET([1]DE100_7!$R$261,ROWS($R$261:R312)-1,COLUMNS($R$261:R312)-1),\"\")","v":{"$error":"#VALUE!"}},{"$f":"IF(OFFSET([1]DE100_7!$S$261,ROWS($S$261:S312)-1,COLUMNS($S$261:S312)-1)<>\"\",OFFSET([1]DE100_7!$S$261,ROWS($S$261:S312)-1,COLUMNS($S$261:S312)-1),\"\")","v":{"$error":"#VALUE!"}},{"$f":"IF(OFFSET([1]DE100_7!$T$261,ROWS($T$261:T312)-1,COLUMNS($T$261:T312)-1)<>\"\",OFFSET([1]DE100_7!$T$261,ROWS($T$261:T312)-1,COLUMNS($T$261:T312)-1),\"\")","v":{"$error":"#VALUE!"}},{"$f":"IF(OFFSET([1]DE100_7!$U$261,ROWS($U$261:U312)-1,COLUMNS($U$261:U312)-1)<>\"\",OFFSET([1]DE100_7!$U$261,ROWS($U$261:U312)-1,COLUMNS($U$261:U312)-1),\"\")","v":{"$error":"#VALUE!"}},{"$f":"IF(OFFSET([1]DE100_7!$V$261,ROWS($V$261:V312)-1,COLUMNS($V$261:V312)-1)<>\"\",OFFSET([1]DE100_7!$V$261,ROWS($V$261:V312)-1,COLUMNS($V$261:V312)-1),\"\")","v":{"$error":"#VALUE!"}}]
[{"$f":"IF(OFFSET([1]DE100_7!$C$261,ROWS($C$261:C313)-1,COLUMNS($C$261:C313)-1)<>\"\",OFFSET([1]DE100_7!$C$261,ROWS($C$261:C313)-1,COLUMNS($C$261:C313)-1),\"\")","v":{"$error":"#VALUE!"}},{"$f":"IF(OFFSET([1]DE100_7!$D$261,ROWS($D$261:D313)-1,COLUMNS($D$261:D313)-1)<>\"\",OFFSET([1]DE100_7!$D$261,ROWS($D$261:D313)-1,COLUMNS($D$261:D313)-1),\"\")","v":{"$error":"#VALUE!"}},{"$f":"IF(OFFSET([1]DE100_7!$E$261,ROWS($E$261:E313)-1,COLUMNS($E$261:E313)-1)<>\"\",OFFSET([1]DE100_7!$E$261,ROWS($E$261:E313)-1,COLUMNS($E$261:E313)-1),\"\")","v":{"$error":"#VALUE!"}},{"$f":"IF(OFFSET([1]DE100_7!$F$261,ROWS($F$261:F313)-1,COLUMNS($F$261:F313)-1)<>\"\",OFFSET([1]DE100_7!$F$261,ROWS($F$261:F313)-1,COLUMNS($F$261:F313)-1),\"\")","v":{"$error":"#VALUE!"}},{"$f":"IF(OFFSET([1]DE100_7!$G$261,ROWS($G$261:G313)-1,COLUMNS($G$261:G313)-1)<>\"\",OFFSET([1]DE100_7!$G$261,ROWS($G$261:G313)-1,COLUMNS($G$261:G313)-1),\"\")","v":{"$error":"#VALUE!"}},{"$f":"IF(OFFSET([1]DE100_7!$H$261,ROWS($H$261:H313)-1,COLUMNS($H$261:H313)-1)<>\"\",OFFSET([1]DE100_7!$H$261,ROWS($H$261:H313)-1,COLUMNS($H$261:H313)-1),\"\")","v":{"$error":"#VALUE!"}},{"$f":"IF(OFFSET([1]DE100_7!$I$261,ROWS($I$261:I313)-1,COLUMNS($I$261:I313)-1)<>\"\",OFFSET([1]DE100_7!$I$261,ROWS($I$261:I313)-1,COLUMNS($I$261:I313)-1),\"\")","v":{"$error":"#VALUE!"}},{"$f":"IF(OFFSET([1]DE100_7!$J$261,ROWS($J$261:J313)-1,COLUMNS($J$261:J313)-1)<>\"\",OFFSET([1]DE100_7!$J$261,ROWS($J$261:J313)-1,COLUMNS($J$261:J313)-1),\"\")","v":{"$error":"#VALUE!"}},{"$f":"IF(OFFSET([1]DE100_7!$K$261,ROWS($K$261:K313)-1,COLUMNS($K$261:K313)-1)<>\"\",OFFSET([1]DE100_7!$K$261,ROWS($K$261:K313)-1,COLUMNS($K$261:K313)-1),\"\")","v":{"$error":"#VALUE!"}},{"$f":"IF(OFFSET([1]DE100_7!$L$261,ROWS($L$261:L313)-1,COLUMNS($L$261:L313)-1)<>\"\",OFFSET([1]DE100_7!$L$261,ROWS($L$261:L313)-1,COLUMNS($L$261:L313)-1),\"\")","v":{"$error":"#VALUE!"}},{"$f":"IF(OFFSET([1]DE100_7!$M$261,ROWS($M$261:M313)-1,COLUMNS($M$261:M313)-1)<>\"\",OFFSET([1]DE100_7!$M$261,ROWS($M$261:M313)-1,COLUMNS($M$261:M313)-1),\"\")","v":{"$error":"#VALUE!"}},{"$f":"IF(OFFSET([1]DE100_7!$N$261,ROWS($N$261:N313)-1,COLUMNS($N$261:N313)-1)<>\"\",OFFSET([1]DE100_7!$N$261,ROWS($N$261:N313)-1,COLUMNS($N$261:N313)-1),\"\")","v":{"$error":"#VALUE!"}},{"$f":"IF(OFFSET([1]DE100_7!$O$261,ROWS($O$261:O313)-1,COLUMNS($O$261:O313)-1)<>\"\",OFFSET([1]DE100_7!$O$261,ROWS($O$261:O313)-1,COLUMNS($O$261:O313)-1),\"\")","v":{"$error":"#VALUE!"}},{"$f":"IF(OFFSET([1]DE100_7!$P$261,ROWS($P$261:P313)-1,COLUMNS($P$261:P313)-1)<>\"\",OFFSET([1]DE100_7!$P$261,ROWS($P$261:P313)-1,COLUMNS($P$261:P313)-1),\"\")","v":{"$error":"#VALUE!"}},{"$f":"IF(OFFSET([1]DE100_7!$Q$261,ROWS($Q$261:Q313)-1,COLUMNS($Q$261:Q313)-1)<>\"\",OFFSET([1]DE100_7!$Q$261,ROWS($Q$261:Q313)-1,COLUMNS($Q$261:Q313)-1),\"\")","v":{"$error":"#VALUE!"}},{"$f":"IF(OFFSET([1]DE100_7!$R$261,ROWS($R$261:R313)-1,COLUMNS($R$261:R313)-1)<>\"\",OFFSET([1]DE100_7!$R$261,ROWS($R$261:R313)-1,COLUMNS($R$261:R313)-1),\"\")","v":{"$error":"#VALUE!"}},{"$f":"IF(OFFSET([1]DE100_7!$S$261,ROWS($S$261:S313)-1,COLUMNS($S$261:S313)-1)<>\"\",OFFSET([1]DE100_7!$S$261,ROWS($S$261:S313)-1,COLUMNS($S$261:S313)-1),\"\")","v":{"$error":"#VALUE!"}},{"$f":"IF(OFFSET([1]DE100_7!$T$261,ROWS($T$261:T313)-1,COLUMNS($T$261:T313)-1)<>\"\",OFFSET([1]DE100_7!$T$261,ROWS($T$261:T313)-1,COLUMNS($T$261:T313)-1),\"\")","v":{"$error":"#VALUE!"}},{"$f":"IF(OFFSET([1]DE100_7!$U$261,ROWS($U$261:U313)-1,COLUMNS($U$261:U313)-1)<>\"\",OFFSET([1]DE100_7!$U$261,ROWS($U$261:U313)-1,COLUMNS($U$261:U313)-1),\"\")","v":{"$error":"#VALUE!"}},{"$f":"IF(OFFSET([1]DE100_7!$V$261,ROWS($V$261:V313)-1,COLUMNS($V$261:V313)-1)<>\"\",OFFSET([1]DE100_7!$V$261,ROWS($V$261:V313)-1,COLUMNS($V$261:V313)-1),\"\")","v":{"$error":"#VALUE!"}}]
[{"$f":"IF(OFFSET([1]DE100_7!$C$261,ROWS($C$261:C314)-1,COLUMNS($C$261:C314)-1)<>\"\",OFFSET([1]DE100_7!$C$261,ROWS($C$261:C314)-1,COLUMNS($C$261:C314)-1),\"\")","v":{"$error":"#VALUE!"}},{"$f":"IF(OFFSET([1]DE100_7!$D$261,ROWS($D$261:D314)-1,COLUMNS($D$261:D314)-1)<>\"\",OFFSET([1]DE100_7!$D$261,ROWS($D$261:D314)-1,COLUMNS($D$261:D314)-1),\"\")","v":{"$error":"#VALUE!"}},{"$f":"IF(OFFSET([1]DE100_7!$E$261,ROWS($E$261:E314)-1,COLUMNS($E$261:E314)-1)<>\"\",OFFSET([1]DE100_7!$E$261,ROWS($E$261:E314)-1,COLUMNS($E$261:E314)-1),\"\")","v":{"$error":"#VALUE!"}},{"$f":"IF(OFFSET([1]DE100_7!$F$261,ROWS($F$261:F314)-1,COLUMNS($F$261:F314)-1)<>\"\",OFFSET([1]DE100_7!$F$261,ROWS($F$261:F314)-1,COLUMNS($F$261:F314)-1),\"\")","v":{"$error":"#VALUE!"}},{"$f":"IF(OFFSET([1]DE100_7!$G$261,ROWS($G$261:G314)-1,COLUMNS($G$261:G314)-1)<>\"\",OFFSET([1]DE100_7!$G$261,ROWS($G$261:G314)-1,COLUMNS($G$261:G314)-1),\"\")","v":{"$error":"#VALUE!"}},{"$f":"IF(OFFSET([1]DE100_7!$H$261,ROWS($H$261:H314)-1,COLUMNS($H$261:H314)-1)<>\"\",OFFSET([1]DE100_7!$H$261,ROWS($H$261:H314)-1,COLUMNS($H$261:H314)-1),\"\")","v":{"$error":"#VALUE!"}},{"$f":"IF(OFFSET([1]DE100_7!$I$261,ROWS($I$261:I314)-1,COLUMNS($I$261:I314)-1)<>\"\",OFFSET([1]DE100_7!$I$261,ROWS($I$261:I314)-1,COLUMNS($I$261:I314)-1),\"\")","v":{"$error":"#VALUE!"}},{"$f":"IF(OFFSET([1]DE100_7!$J$261,ROWS($J$261:J314)-1,COLUMNS($J$261:J314)-1)<>\"\",OFFSET([1]DE100_7!$J$261,ROWS($J$261:J314)-1,COLUMNS($J$261:J314)-1),\"\")","v":{"$error":"#VALUE!"}},{"$f":"IF(OFFSET([1]DE100_7!$K$261,ROWS($K$261:K314)-1,COLUMNS($K$261:K314)-1)<>\"\",OFFSET([1]DE100_7!$K$261,ROWS($K$261:K314)-1,COLUMNS($K$261:K314)-1),\"\")","v":{"$error":"#VALUE!"}},{"$f":"IF(OFFSET([1]DE100_7!$L$261,ROWS($L$261:L314)-1,COLUMNS($L$261:L314)-1)<>\"\",OFFSET([1]DE100_7!$L$261,ROWS($L$261:L314)-1,COLUMNS($L$261:L314)-1),\"\")","v":{"$error":"#VALUE!"}},{"$f":"IF(OFFSET([1]DE100_7!$M$261,ROWS($M$261:M314)-1,COLUMNS($M$261:M314)-1)<>\"\",OFFSET([1]DE100_7!$M$261,ROWS($M$261:M314)-1,COLUMNS($M$261:M314)-1),\"\")","v":{"$error":"#VALUE!"}},{"$f":"IF(OFFSET([1]DE100_7!$N$261,ROWS($N$261:N314)-1,COLUMNS($N$261:N314)-1)<>\"\",OFFSET([1]DE100_7!$N$261,ROWS($N$261:N314)-1,COLUMNS($N$261:N314)-1),\"\")","v":{"$error":"#VALUE!"}},{"$f":"IF(OFFSET([1]DE100_7!$O$261,ROWS($O$261:O314)-1,COLUMNS($O$261:O314)-1)<>\"\",OFFSET([1]DE100_7!$O$261,ROWS($O$261:O314)-1,COLUMNS($O$261:O314)-1),\"\")","v":{"$error":"#VALUE!"}},{"$f":"IF(OFFSET([1]DE100_7!$P$261,ROWS($P$261:P314)-1,COLUMNS($P$261:P314)-1)<>\"\",OFFSET([1]DE100_7!$P$261,ROWS($P$261:P314)-1,COLUMNS($P$261:P314)-1),\"\")","v":{"$error":"#VALUE!"}},{"$f":"IF(OFFSET([1]DE100_7!$Q$261,ROWS($Q$261:Q314)-1,COLUMNS($Q$261:Q314)-1)<>\"\",OFFSET([1]DE100_7!$Q$261,ROWS($Q$261:Q314)-1,COLUMNS($Q$261:Q314)-1),\"\")","v":{"$error":"#VALUE!"}},{"$f":"IF(OFFSET([1]DE100_7!$R$261,ROWS($R$261:R314)-1,COLUMNS($R$261:R314)-1)<>\"\",OFFSET([1]DE100_7!$R$261,ROWS($R$261:R314)-1,COLUMNS($R$261:R314)-1),\"\")","v":{"$error":"#VALUE!"}},{"$f":"IF(OFFSET([1]DE100_7!$S$261,ROWS($S$261:S314)-1,COLUMNS($S$261:S314)-1)<>\"\",OFFSET([1]DE100_7!$S$261,ROWS($S$261:S314)-1,COLUMNS($S$261:S314)-1),\"\")","v":{"$error":"#VALUE!"}},{"$f":"IF(OFFSET([1]DE100_7!$T$261,ROWS($T$261:T314)-1,COLUMNS($T$261:T314)-1)<>\"\",OFFSET([1]DE100_7!$T$261,ROWS($T$261:T314)-1,COLUMNS($T$261:T314)-1),\"\")","v":{"$error":"#VALUE!"}},{"$f":"IF(OFFSET([1]DE100_7!$U$261,ROWS($U$261:U314)-1,COLUMNS($U$261:U314)-1)<>\"\",OFFSET([1]DE100_7!$U$261,ROWS($U$261:U314)-1,COLUMNS($U$261:U314)-1),\"\")","v":{"$error":"#VALUE!"}},{"$f":"IF(OFFSET([1]DE100_7!$V$261,ROWS($V$261:V314)-1,COLUMNS($V$261:V314)-1)<>\"\",OFFSET([1]DE100_7!$V$261,ROWS($V$261:V314)-1,COLUMNS($V$261:V314)-1),\"\")","v":{"$error":"#VALUE!"}}]
[{"$f":"IF(OFFSET([1]DE100_7!$C$261,ROWS($C$261:C315)-1,COLUMNS($C$261:C315)-1)<>\"\",OFFSET([1]DE100_7!$C$261,ROWS($C$261:C315)-1,COLUMNS($C$261:C315)-1),\"\")","v":{"$error":"#VALUE!"}},{"$f":"IF(OFFSET([1]DE100_7!$D$261,ROWS($D$261:D315)-1,COLUMNS($D$261:D315)-1)<>\"\",OFFSET([1]DE100_7!$D$261,ROWS($D$261:D315)-1,COLUMNS($D$261:D315)-1),\"\")","v":{"$error":"#VALUE!"}},{"$f":"IF(OFFSET([1]DE100_7!$E$261,ROWS($E$261:E315)-1,COLUMNS($E$261:E315)-1)<>\"\",OFFSET([1]DE100_7!$E$261,ROWS($E$261:E315)-1,COLUMNS($E$261:E315)-1),\"\")","v":{"$error":"#VALUE!"}},{"$f":"IF(OFFSET([1]DE100_7!$F$261,ROWS($F$261:F315)-1,COLUMNS($F$261:F315)-1)<>\"\",OFFSET([1]DE100_7!$F$261,ROWS($F$261:F315)-1,COLUMNS($F$261:F315)-1),\"\")","v":{"$error":"#VALUE!"}},{"$f":"IF(OFFSET([1]DE100_7!$G$261,ROWS($G$261:G315)-1,COLUMNS($G$261:G315)-1)<>\"\",OFFSET([1]DE100_7!$G$261,ROWS($G$261:G315)-1,COLUMNS($G$261:G315)-1),\"\")","v":{"$error":"#VALUE!"}},{"$f":"IF(OFFSET([1]DE100_7!$H$261,ROWS($H$261:H315)-1,COLUMNS($H$261:H315)-1)<>\"\",OFFSET([1]DE100_7!$H$261,ROWS($H$261:H315)-1,COLUMNS($H$261:H315)-1),\"\")","v":{"$error":"#VALUE!"}},{"$f":"IF(OFFSET([1]DE100_7!$I$261,ROWS($I$261:I315)-1,COLUMNS($I$261:I315)-1)<>\"\",OFFSET([1]DE100_7!$I$261,ROWS($I$261:I315)-1,COLUMNS($I$261:I315)-1),\"\")","v":{"$error":"#VALUE!"}},{"$f":"IF(OFFSET([1]DE100_7!$J$261,ROWS($J$261:J315)-1,COLUMNS($J$261:J315)-1)<>\"\",OFFSET([1]DE100_7!$J$261,ROWS($J$261:J315)-1,COLUMNS($J$261:J315)-1),\"\")","v":{"$error":"#VALUE!"}},{"$f":"IF(OFFSET([1]DE100_7!$K$261,ROWS($K$261:K315)-1,COLUMNS($K$261:K315)-1)<>\"\",OFFSET([1]DE100_7!$K$261,ROWS($K$261:K315)-1,COLUMNS($K$261:K315)-1),\"\")","v":{"$error":"#VALUE!"}},{"$f":"IF(OFFSET([1]DE100_7!$L$261,ROWS($L$261:L315)-1,COLUMNS($L$261:L315)-1)<>\"\",OFFSET([1]DE100_7!$L$261,ROWS($L$261:L315)-1,COLUMNS($L$261:L315)-1),\"\")","v":{"$error":"#VALUE!"}},{"$f":"IF(OFFSET([1]DE100_7!$M$261,ROWS($M$261:M315)-1,COLUMNS($M$261:M315)-1)<>\"\",OFFSET([1]DE100_7!$M$261,ROWS($M$261:M315)-1,COLUMNS($M$261:M315)-1),\"\")","v":{"$error":"#VALUE!"}},{"$f":"IF(OFFSET([1]DE100_7!$N$261,ROWS($N$261:N315)-1,COLUMNS($N$261:N315)-1)<>\"\",OFFSET([1]DE100_7!$N$261,ROWS($N$261:N315)-1,COLUMNS($N$261:N315)-1),\"\")","v":{"$error":"#VALUE!"}},{"$f":"IF(OFFSET([1]DE100_7!$O$261,ROWS($O$261:O315)-1,COLUMNS($O$261:O315)-1)<>\"\",OFFSET([1]DE100_7!$O$261,ROWS($O$261:O315)-1,COLUMNS($O$261:O315)-1),\"\")","v":{"$error":"#VALUE!"}},{"$f":"IF(OFFSET([1]DE100_7!$P$261,ROWS($P$261:P315)-1,COLUMNS($P$261:P315)-1)<>\"\",OFFSET([1]DE100_7!$P$261,ROWS($P$261:P315)-1,COLUMNS($P$261:P315)-1),\"\")","v":{"$error":"#VALUE!"}},{"$f":"IF(OFFSET([1]DE100_7!$Q$261,ROWS($Q$261:Q315)-1,COLUMNS($Q$261:Q315)-1)<>\"\",OFFSET([1]DE100_7!$Q$261,ROWS($Q$261:Q315)-1,COLUMNS($Q$261:Q315)-1),\"\")","v":{"$error":"#VALUE!"}},{"$f":"IF(OFFSET([1]DE100_7!$R$261,ROWS($R$261:R315)-1,COLUMNS($R$261:R315)-1)<>\"\",OFFSET([1]DE100_7!$R$261,ROWS($R$261:R315)-1,COLUMNS($R$261:R315)-1),\"\")","v":{"$error":"#VALUE!"}},{"$f":"IF(OFFSET([1]DE100_7!$S$261,ROWS($S$261:S315)-1,COLUMNS($S$261:S315)-1)<>\"\",OFFSET([1]DE100_7!$S$261,ROWS($S$261:S315)-1,COLUMNS($S$261:S315)-1),\"\")","v":{"$error":"#VALUE!"}},{"$f":"IF(OFFSET([1]DE100_7!$T$261,ROWS($T$261:T315)-1,COLUMNS($T$261:T315)-1)<>\"\",OFFSET([1]DE100_7!$T$261,ROWS($T$261:T315)-1,COLUMNS($T$261:T315)-1),\"\")","v":{"$error":"#VALUE!"}},{"$f":"IF(OFFSET([1]DE100_7!$U$261,ROWS($U$261:U315)-1,COLUMNS($U$261:U315)-1)<>\"\",OFFSET([1]DE100_7!$U$261,ROWS($U$261:U315)-1,COLUMNS($U$261:U315)-1),\"\")","v":{"$error":"#VALUE!"}},{"$f":"IF(OFFSET([1]DE100_7!$V$261,ROWS($V$261:V315)-1,COLUMNS($V$261:V315)-1)<>\"\",OFFSET([1]DE100_7!$V$261,ROWS($V$261:V315)-1,COLUMNS($V$261:V315)-1),\"\")","v":{"$error":"#VALUE!"}}]
[{"$f":"IF(OFFSET([1]DE100_7!$C$261,ROWS($C$261:C316)-1,COLUMNS($C$261:C316)-1)<>\"\",OFFSET([1]DE100_7!$C$261,ROWS($C$261:C316)-1,COLUMNS($C$261:C316)-1),\"\")","v":{"$error":"#VALUE!"}},{"$f":"IF(OFFSET([1]DE100_7!$D$261,ROWS($D$261:D316)-1,COLUMNS($D$261:D316)-1)<>\"\",OFFSET([1]DE100_7!$D$261,ROWS($D$261:D316)-1,COLUMNS($D$261:D316)-1),\"\")","v":{"$error":"#VALUE!"}},{"$f":"IF(OFFSET([1]DE100_7!$E$261,ROWS($E$261:E316)-1,COLUMNS($E$261:E316)-1)<>\"\",OFFSET([1]DE100_7!$E$261,ROWS($E$261:E316)-1,COLUMNS($E$261:E316)-1),\"\")","v":{"$error":"#VALUE!"}},{"$f":"IF(OFFSET([1]DE100_7!$F$261,ROWS($F$261:F316)-1,COLUMNS($F$261:F316)-1)<>\"\",OFFSET([1]DE100_7!$F$261,ROWS($F$261:F316)-1,COLUMNS($F$261:F316)-1),\"\")","v":{"$error":"#VALUE!"}},{"$f":"IF(OFFSET([1]DE100_7!$G$261,ROWS($G$261:G316)-1,COLUMNS($G$261:G316)-1)<>\"\",OFFSET([1]DE100_7!$G$261,ROWS($G$261:G316)-1,COLUMNS($G$261:G316)-1),\"\")","v":{"$error":"#VALUE!"}},{"$f":"IF(OFFSET([1]DE100_7!$H$261,ROWS($H$261:H316)-1,COLUMNS($H$261:H316)-1)<>\"\",OFFSET([1]DE100_7!$H$261,ROWS($H$261:H316)-1,COLUMNS($H$261:H316)-1),\"\")","v":{"$error":"#VALUE!"}},{"$f":"IF(OFFSET([1]DE100_7!$I$261,ROWS($I$261:I316)-1,COLUMNS($I$261:I316)-1)<>\"\",OFFSET([1]DE100_7!$I$261,ROWS($I$261:I316)-1,COLUMNS($I$261:I316)-1),\"\")","v":{"$error":"#VALUE!"}},{"$f":"IF(OFFSET([1]DE100_7!$J$261,ROWS($J$261:J316)-1,COLUMNS($J$261:J316)-1)<>\"\",OFFSET([1]DE100_7!$J$261,ROWS($J$261:J316)-1,COLUMNS($J$261:J316)-1),\"\")","v":{"$error":"#VALUE!"}},{"$f":"IF(OFFSET([1]DE100_7!$K$261,ROWS($K$261:K316)-1,COLUMNS($K$261:K316)-1)<>\"\",OFFSET([1]DE100_7!$K$261,ROWS($K$261:K316)-1,COLUMNS($K$261:K316)-1),\"\")","v":{"$error":"#VALUE!"}},{"$f":"IF(OFFSET([1]DE100_7!$L$261,ROWS($L$261:L316)-1,COLUMNS($L$261:L316)-1)<>\"\",OFFSET([1]DE100_7!$L$261,ROWS($L$261:L316)-1,COLUMNS($L$261:L316)-1),\"\")","v":{"$error":"#VALUE!"}},{"$f":"IF(OFFSET([1]DE100_7!$M$261,ROWS($M$261:M316)-1,COLUMNS($M$261:M316)-1)<>\"\",OFFSET([1]DE100_7!$M$261,ROWS($M$261:M316)-1,COLUMNS($M$261:M316)-1),\"\")","v":{"$error":"#VALUE!"}},{"$f":"IF(OFFSET([1]DE100_7!$N$261,ROWS($N$261:N316)-1,COLUMNS($N$261:N316)-1)<>\"\",OFFSET([1]DE100_7!$N$261,ROWS($N$261:N316)-1,COLUMNS($N$261:N316)-1),\"\")","v":{"$error":"#VALUE!"}},{"$f":"IF(OFFSET([1]DE100_7!$O$261,ROWS($O$261:O316)-1,COLUMNS($O$261:O316)-1)<>\"\",OFFSET([1]DE100_7!$O$261,ROWS($O$261:O316)-1,COLUMNS($O$261:O316)-1),\"\")","v":{"$error":"#VALUE!"}},{"$f":"IF(OFFSET([1]DE100_7!$P$261,ROWS($P$261:P316)-1,COLUMNS($P$261:P316)-1)<>\"\",OFFSET([1]DE100_7!$P$261,ROWS($P$261:P316)-1,COLUMNS($P$261:P316)-1),\"\")","v":{"$error":"#VALUE!"}},{"$f":"IF(OFFSET([1]DE100_7!$Q$261,ROWS($Q$261:Q316)-1,COLUMNS($Q$261:Q316)-1)<>\"\",OFFSET([1]DE100_7!$Q$261,ROWS($Q$261:Q316)-1,COLUMNS($Q$261:Q316)-1),\"\")","v":{"$error":"#VALUE!"}},{"$f":"IF(OFFSET([1]DE100_7!$R$261,ROWS($R$261:R316)-1,COLUMNS($R$261:R316)-1)<>\"\",OFFSET([1]DE100_7!$R$261,ROWS($R$261:R316)-1,COLUMNS($R$261:R316)-1),\"\")","v":{"$error":"#VALUE!"}},{"$f":"IF(OFFSET([1]DE100_7!$S$261,ROWS($S$261:S316)-1,COLUMNS($S$261:S316)-1)<>\"\",OFFSET([1]DE100_7!$S$261,ROWS($S$261:S316)-1,COLUMNS($S$261:S316)-1),\"\")","v":{"$error":"#VALUE!"}},{"$f":"IF(OFFSET([1]DE100_7!$T$261,ROWS($T$261:T316)-1,COLUMNS($T$261:T316)-1)<>\"\",OFFSET([1]DE100_7!$T$261,ROWS($T$261:T316)-1,COLUMNS($T$261:T316)-1),\"\")","v":{"$error":"#VALUE!"}},{"$f":"IF(OFFSET([1]DE100_7!$U$261,ROWS($U$261:U316)-1,COLUMNS($U$261:U316)-1)<>\"\",OFFSET([1]DE100_7!$U$261,ROWS($U$261:U316)-1,COLUMNS($U$261:U316)-1),\"\")","v":{"$error":"#VALUE!"}},{"$f":"IF(OFFSET([1]DE100_7!$V$261,ROWS($V$261:V316)-1,COLUMNS($V$261:V316)-1)<>\"\",OFFSET([1]DE100_7!$V$261,ROWS($V$261:V316)-1,COLUMNS($V$261:V316)-1),\"\")","v":{"$error":"#VALUE!"}}]
[{"$f":"IF(OFFSET([1]DE100_7!$C$261,ROWS($C$261:C317)-1,COLUMNS($C$261:C317)-1)<>\"\",OFFSET([1]DE100_7!$C$261,ROWS($C$261:C317)-1,COLUMNS($C$261:C317)-1),\"\")","v":{"$error":"#VALUE!"}},null,null,null,{"$f":"IF(OFFSET([1]DE100_7!$G$261,ROWS($G$261:G317)-1,COLUMNS($G$261:G317)-1)<>\"\",OFFSET([1]DE100_7!$G$261,ROWS($G$261:G317)-1,COLUMNS($G$261:G317)-1),\"\")","v":{"$error":"#VALUE!"}},{"$f":"IF(OFFSET([1]DE100_7!$H$261,ROWS($H$261:H317)-1,COLUMNS($H$261:H317)-1)<>\"\",OFFSET([1]DE100_7!$H$261,ROWS($H$261:H317)-1,COLUMNS($H$261:H317)-1),\"\")","v":{"$error":"#VALUE!"}},{"$f":"IF(OFFSET([1]DE100_7!$I$261,ROWS($I$261:I317)-1,COLUMNS($I$261:I317)-1)<>\"\",OFFSET([1]DE100_7!$I$261,ROWS($I$261:I317)-1,COLUMNS($I$261:I317)-1),\"\")","v":{"$error":"#VALUE!"}},{"$f":"IF(OFFSET([1]DE100_7!$J$261,ROWS($J$261:J317)-1,COLUMNS($J$261:J317)-1)<>\"\",OFFSET([1]DE100_7!$J$261,ROWS($J$261:J317)-1,COLUMNS($J$261:J317)-1),\"\")","v":{"$error":"#VALUE!"}},{"$f":"IF(OFFSET([1]DE100_7!$K$261,ROWS($K$261:K317)-1,COLUMNS($K$261:K317)-1)<>\"\",OFFSET([1]DE100_7!$K$261,ROWS($K$261:K317)-1,COLUMNS($K$261:K317)-1),\"\")","v":{"$error":"#VALUE!"}},{"$f":"IF(OFFSET([1]DE100_7!$L$261,ROWS($L$261:L317)-1,COLUMNS($L$261:L317)-1)<>\"\",OFFSET([1]DE100_7!$L$261,ROWS($L$261:L317)-1,COLUMNS($L$261:L317)-1),\"\")","v":{"$error":"#VALUE!"}},{"$f":"IF(OFFSET([1]DE100_7!$M$261,ROWS($M$261:M317)-1,COLUMNS($M$261:M317)-1)<>\"\",OFFSET([1]DE100_7!$M$261,ROWS($M$261:M317)-1,COLUMNS($M$261:M317)-1),\"\")","v":{"$error":"#VALUE!"}},{"$f":"IF(OFFSET([1]DE100_7!$N$261,ROWS($N$261:N317)-1,COLUMNS($N$261:N317)-1)<>\"\",OFFSET([1]DE100_7!$N$261,ROWS($N$261:N317)-1,COLUMNS($N$261:N317)-1),\"\")","v":{"$error":"#VALUE!"}},{"$f":"IF(OFFSET([1]DE100_7!$O$261,ROWS($O$261:O317)-1,COLUMNS($O$261:O317)-1)<>\"\",OFFSET([1]DE100_7!$O$261,ROWS($O$261:O317)-1,COLUMNS($O$261:O317)-1),\"\")","v":{"$error":"#VALUE!"}},{"$f":"IF(OFFSET([1]DE100_7!$P$261,ROWS($P$261:P317)-1,COLUMNS($P$261:P317)-1)<>\"\",OFFSET([1]DE100_7!$P$261,ROWS($P$261:P317)-1,COLUMNS($P$261:P317)-1),\"\")","v":{"$error":"#VALUE!"}},{"$f":"IF(OFFSET([1]DE100_7!$Q$261,ROWS($Q$261:Q317)-1,COLUMNS($Q$261:Q317)-1)<>\"\",OFFSET([1]DE100_7!$Q$261,ROWS($Q$261:Q317)-1,COLUMNS($Q$261:Q317)-1),\"\")","v":{"$error":"#VALUE!"}},{"$f":"IF(OFFSET([1]DE100_7!$R$261,ROWS($R$261:R317)-1,COLUMNS($R$261:R317)-1)<>\"\",OFFSET([1]DE100_7!$R$261,ROWS($R$261:R317)-1,COLUMNS($R$261:R317)-1),\"\")","v":{"$error":"#VALUE!"}},{"$f":"IF(OFFSET([1]DE100_7!$S$261,ROWS($S$261:S317)-1,COLUMNS($S$261:S317)-1)<>\"\",OFFSET([1]DE100_7!$S$261,ROWS($S$261:S317)-1,COLUMNS($S$261:S317)-1),\"\")","v":{"$error":"#VALUE!"}},{"$f":"IF(OFFSET([1]DE100_7!$T$261,ROWS($T$261:T317)-1,COLUMNS($T$261:T317)-1)<>\"\",OFFSET([1]DE100_7!$T$261,ROWS($T$261:T317)-1,COLUMNS($T$261:T317)-1),\"\")","v":{"$error":"#VALUE!"}},{"$f":"IF(OFFSET([1]DE100_7!$U$261,ROWS($U$261:U317)-1,COLUMNS($U$261:U317)-1)<>\"\",OFFSET([1]DE100_7!$U$261,ROWS($U$261:U317)-1,COLUMNS($U$261:U317)-1),\"\")","v":{"$error":"#VALUE!"}},{"$f":"IF(OFFSET([1]DE100_7!$V$261,ROWS($V$261:V317)-1,COLUMNS($V$261:V317)-1)<>\"\",OFFSET([1]DE100_7!$V$261,ROWS($V$261:V317)-1,COLUMNS($V$261:V317)-1),\"\")","v":{"$error":"#VALUE!"}}]
[{"$f":"IF(OFFSET([1]DE100_7!$C$261,ROWS($C$261:C318)-1,COLUMNS($C$261:C318)-1)<>\"\",OFFSET([1]DE100_7!$C$261,ROWS($C$261:C318)-1,COLUMNS($C$261:C318)-1),\"\")","v":{"$error":"#VALUE!"}},{"$f":"IF(OFFSET([1]DE100_7!$D$261,ROWS($D$261:D318)-1,COLUMNS($D$261:D318)-1)<>\"\",OFFSET([1]DE100_7!$D$261,ROWS($D$261:D318)-1,COLUMNS($D$261:D318)-1),\"\")","v":{"$error":"#VALUE!"}},{"$f":"IF(OFFSET([1]DE100_7!$E$261,ROWS($E$261:E318)-1,COLUMNS($E$261:E318)-1)<>\"\",OFFSET([1]DE100_7!$E$261,ROWS($E$261:E318)-1,COLUMNS($E$261:E318)-1),\"\")","v":{"$error":"#VALUE!"}},{"$f":"IF(OFFSET([1]DE100_7!$F$261,ROWS($F$261:F318)-1,COLUMNS($F$261:F318)-1)<>\"\",OFFSET([1]DE100_7!$F$261,ROWS($F$261:F318)-1,COLUMNS($F$261:F318)-1),\"\")","v":{"$error":"#VALUE!"}},{"$f":"IF(OFFSET([1]DE100_7!$G$261,ROWS($G$261:G318)-1,COLUMNS($G$261:G318)-1)<>\"\",OFFSET([1]DE100_7!$G$261,ROWS($G$261:G318)-1,COLUMNS($G$261:G318)-1),\"\")","v":{"$error":"#VALUE!"}},{"$f":"IF(OFFSET([1]DE100_7!$H$261,ROWS($H$261:H318)-1,COLUMNS($H$261:H318)-1)<>\"\",OFFSET([1]DE100_7!$H$261,ROWS($H$261:H318)-1,COLUMNS($H$261:H318)-1),\"\")","v":{"$error":"#VALUE!"}},{"$f":"IF(OFFSET([1]DE100_7!$I$261,ROWS($I$261:I318)-1,COLUMNS($I$261:I318)-1)<>\"\",OFFSET([1]DE100_7!$I$261,ROWS($I$261:I318)-1,COLUMNS($I$261:I318)-1),\"\")","v":{"$error":"#VALUE!"}},{"$f":"IF(OFFSET([1]DE100_7!$J$261,ROWS($J$261:J318)-1,COLUMNS($J$261:J318)-1)<>\"\",OFFSET([1]DE100_7!$J$261,ROWS($J$261:J318)-1,COLUMNS($J$261:J318)-1),\"\")","v":{"$error":"#VALUE!"}},{"$f":"IF(OFFSET([1]DE100_7!$K$261,ROWS($K$261:K318)-1,COLUMNS($K$261:K318)-1)<>\"\",OFFSET([1]DE100_7!$K$261,ROWS($K$261:K318)-1,COLUMNS($K$261:K318)-1),\"\")","v":{"$error":"#VALUE!"}},{"$f":"IF(OFFSET([1]DE100_7!$L$261,ROWS($L$261:L318)-1,COLUMNS($L$261:L318)-1)<>\"\",OFFSET([1]DE100_7!$L$261,ROWS($L$261:L318)-1,COLUMNS($L$261:L318)-1),\"\")","v":{"$error":"#VALUE!"}},{"$f":"IF(OFFSET([1]DE100_7!$M$261,ROWS($M$261:M318)-1,COLUMNS($M$261:M318)-1)<>\"\",OFFSET([1]DE100_7!$M$261,ROWS($M$261:M318)-1,COLUMNS($M$261:M318)-1),\"\")","v":{"$error":"#VALUE!"}},{"$f":"IF(OFFSET([1]DE100_7!$N$261,ROWS($N$261:N318)-1,COLUMNS($N$261:N318)-1)<>\"\",OFFSET([1]DE100_7!$N$261,ROWS($N$261:N318)-1,COLUMNS($N$261:N318)-1),\"\")","v":{"$error":"#VALUE!"}},{"$f":"IF(OFFSET([1]DE100_7!$O$261,ROWS($O$261:O318)-1,COLUMNS($O$261:O318)-1)<>\"\",OFFSET([1]DE100_7!$O$261,ROWS($O$261:O318)-1,COLUMNS($O$261:O318)-1),\"\")","v":{"$error":"#VALUE!"}},{"$f":"IF(OFFSET([1]DE100_7!$P$261,ROWS($P$261:P318)-1,COLUMNS($P$261:P318)-1)<>\"\",OFFSET([1]DE100_7!$P$261,ROWS($P$261:P318)-1,COLUMNS($P$261:P318)-1),\"\")","v":{"$error":"#VALUE!"}},{"$f":"IF(OFFSET([1]DE100_7!$Q$261,ROWS($Q$261:Q318)-1,COLUMNS($Q$261:Q318)-1)<>\"\",OFFSET([1]DE100_7!$Q$261,ROWS($Q$261:Q318)-1,COLUMNS($Q$261:Q318)-1),\"\")","v":{"$error":"#VALUE!"}},{"$f":"IF(OFFSET([1]DE100_7!$R$261,ROWS($R$261:R318)-1,COLUMNS($R$261:R318)-1)<>\"\",OFFSET([1]DE100_7!$R$261,ROWS($R$261:R318)-1,COLUMNS($R$261:R318)-1),\"\")","v":{"$error":"#VALUE!"}},{"$f":"IF(OFFSET([1]DE100_7!$S$261,ROWS($S$261:S318)-1,COLUMNS($S$261:S318)-1)<>\"\",OFFSET([1]DE100_7!$S$261,ROWS($S$261:S318)-1,COLUMNS($S$261:S318)-1),\"\")","v":{"$error":"#VALUE!"}},{"$f":"IF(OFFSET([1]DE100_7!$T$261,ROWS($T$261:T318)-1,COLUMNS($T$261:T318)-1)<>\"\",OFFSET([1]DE100_7!$T$261,ROWS($T$261:T318)-1,COLUMNS($T$261:T318)-1),\"\")","v":{"$error":"#VALUE!"}},{"$f":"IF(OFFSET([1]DE100_7!$U$261,ROWS($U$261:U318)-1,COLUMNS($U$261:U318)-1)<>\"\",OFFSET([1]DE100_7!$U$261,ROWS($U$261:U318)-1,COLUMNS($U$261:U318)-1),\"\")","v":{"$error":"#VALUE!"}},{"$f":"IF(OFFSET([1]DE100_7!$V$261,ROWS($V$261:V318)-1,COLUMNS($V$261:V318)-1)<>\"\",OFFSET([1]DE100_7!$V$261,ROWS($V$261:V318)-1,COLUMNS($V$261:V318)-1),\"\")","v":{"$error":"#VALUE!"}}]
[{"$f":"IF(OFFSET([1]DE100_7!$C$261,ROWS($C$261:C319)-1,COLUMNS($C$261:C319)-1)<>\"\",OFFSET([1]DE100_7!$C$261,ROWS($C$261:C319)-1,COLUMNS($C$261:C319)-1),\"\")","v":{"$error":"#VALUE!"}},{"$f":"IF(OFFSET([1]DE100_7!$D$261,ROWS($D$261:D319)-1,COLUMNS($D$261:D319)-1)<>\"\",OFFSET([1]DE100_7!$D$261,ROWS($D$261:D319)-1,COLUMNS($D$261:D319)-1),\"\")","v":{"$error":"#VALUE!"}},{"$f":"IF(OFFSET([1]DE100_7!$E$261,ROWS($E$261:E319)-1,COLUMNS($E$261:E319)-1)<>\"\",OFFSET([1]DE100_7!$E$261,ROWS($E$261:E319)-1,COLUMNS($E$261:E319)-1),\"\")","v":{"$error":"#VALUE!"}},{"$f":"IF(OFFSET([1]DE100_7!$F$261,ROWS($F$261:F319)-1,COLUMNS($F$261:F319)-1)<>\"\",OFFSET([1]DE100_7!$F$261,ROWS($F$261:F319)-1,COLUMNS($F$261:F319)-1),\"\")","v":{"$error":"#VALUE!"}},{"$f":"IF(OFFSET([1]DE100_7!$G$261,ROWS($G$261:G319)-1,COLUMNS($G$261:G319)-1)<>\"\",OFFSET([1]DE100_7!$G$261,ROWS($G$261:G319)-1,COLUMNS($G$261:G319)-1),\"\")","v":{"$error":"#VALUE!"}},{"$f":"IF(OFFSET([1]DE100_7!$H$261,ROWS($H$261:H319)-1,COLUMNS($H$261:H319)-1)<>\"\",OFFSET([1]DE100_7!$H$261,ROWS($H$261:H319)-1,COLUMNS($H$261:H319)-1),\"\")","v":{"$error":"#VALUE!"}},{"$f":"IF(OFFSET([1]DE100_7!$I$261,ROWS($I$261:I319)-1,COLUMNS($I$261:I319)-1)<>\"\",OFFSET([1]DE100_7!$I$261,ROWS($I$261:I319)-1,COLUMNS($I$261:I319)-1),\"\")","v":{"$error":"#VALUE!"}},{"$f":"IF(OFFSET([1]DE100_7!$J$261,ROWS($J$261:J319)-1,COLUMNS($J$261:J319)-1)<>\"\",OFFSET([1]DE100_7!$J$261,ROWS($J$261:J319)-1,COLUMNS($J$261:J319)-1),\"\")","v":{"$error":"#VALUE!"}},{"$f":"IF(OFFSET([1]DE100_7!$K$261,ROWS($K$261:K319)-1,COLUMNS($K$261:K319)-1)<>\"\",OFFSET([1]DE100_7!$K$261,ROWS($K$261:K319)-1,COLUMNS($K$261:K319)-1),\"\")","v":{"$error":"#VALUE!"}},{"$f":"IF(OFFSET([1]DE100_7!$L$261,ROWS($L$261:L319)-1,COLUMNS($L$261:L319)-1)<>\"\",OFFSET([1]DE100_7!$L$261,ROWS($L$261:L319)-1,COLUMNS($L$261:L319)-1),\"\")","v":{"$error":"#VALUE!"}},{"$f":"IF(OFFSET([1]DE100_7!$M$261,ROWS($M$261:M319)-1,COLUMNS($M$261:M319)-1)<>\"\",OFFSET([1]DE100_7!$M$261,ROWS($M$261:M319)-1,COLUMNS($M$261:M319)-1),\"\")","v":{"$error":"#VALUE!"}},{"$f":"IF(OFFSET([1]DE100_7!$N$261,ROWS($N$261:N319)-1,COLUMNS($N$261:N319)-1)<>\"\",OFFSET([1]DE100_7!$N$261,ROWS($N$261:N319)-1,COLUMNS($N$261:N319)-1),\"\")","v":{"$error":"#VALUE!"}},{"$f":"IF(OFFSET([1]DE100_7!$O$261,ROWS($O$261:O319)-1,COLUMNS($O$261:O319)-1)<>\"\",OFFSET([1]DE100_7!$O$261,ROWS($O$261:O319)-1,COLUMNS($O$261:O319)-1),\"\")","v":{"$error":"#VALUE!"}},{"$f":"IF(OFFSET([1]DE100_7!$P$261,ROWS($P$261:P319)-1,COLUMNS($P$261:P319)-1)<>\"\",OFFSET([1]DE100_7!$P$261,ROWS($P$261:P319)-1,COLUMNS($P$261:P319)-1),\"\")","v":{"$error":"#VALUE!"}},{"$f":"IF(OFFSET([1]DE100_7!$Q$261,ROWS($Q$261:Q319)-1,COLUMNS($Q$261:Q319)-1)<>\"\",OFFSET([1]DE100_7!$Q$261,ROWS($Q$261:Q319)-1,COLUMNS($Q$261:Q319)-1),\"\")","v":{"$error":"#VALUE!"}},{"$f":"IF(OFFSET([1]DE100_7!$R$261,ROWS($R$261:R319)-1,COLUMNS($R$261:R319)-1)<>\"\",OFFSET([1]DE100_7!$R$261,ROWS($R$261:R319)-1,COLUMNS($R$261:R319)-1),\"\")","v":{"$error":"#VALUE!"}},{"$f":"IF(OFFSET([1]DE100_7!$S$261,ROWS($S$261:S319)-1,COLUMNS($S$261:S319)-1)<>\"\",OFFSET([1]DE100_7!$S$261,ROWS($S$261:S319)-1,COLUMNS($S$261:S319)-1),\"\")","v":{"$error":"#VALUE!"}},{"$f":"IF(OFFSET([1]DE100_7!$T$261,ROWS($T$261:T319)-1,COLUMNS($T$261:T319)-1)<>\"\",OFFSET([1]DE100_7!$T$261,ROWS($T$261:T319)-1,COLUMNS($T$261:T319)-1),\"\")","v":{"$error":"#VALUE!"}},{"$f":"IF(OFFSET([1]DE100_7!$U$261,ROWS($U$261:U319)-1,COLUMNS($U$261:U319)-1)<>\"\",OFFSET([1]DE100_7!$U$261,ROWS($U$261:U319)-1,COLUMNS($U$261:U319)-1),\"\")","v":{"$error":"#VALUE!"}},{"$f":"IF(OFFSET([1]DE100_7!$V$261,ROWS($V$261:V319)-1,COLUMNS($V$261:V319)-1)<>\"\",OFFSET([1]DE100_7!$V$261,ROWS($V$261:V319)-1,COLUMNS($V$261:V319)-1),\"\")","v":{"$error":"#VALUE!"}}]
[{"$f":"IF(OFFSET([1]DE100_7!$C$261,ROWS($C$261:C320)-1,COLUMNS($C$261:C320)-1)<>\"\",OFFSET([1]DE100_7!$C$261,ROWS($C$261:C320)-1,COLUMNS($C$261:C320)-1),\"\")","v":{"$error":"#VALUE!"}},null,null,null,{"$f":"IF(OFFSET([1]DE100_7!$G$261,ROWS($G$261:G320)-1,COLUMNS($G$261:G320)-1)<>\"\",OFFSET([1]DE100_7!$G$261,ROWS($G$261:G320)-1,COLUMNS($G$261:G320)-1),\"\")","v":{"$error":"#VALUE!"}},{"$f":"IF(OFFSET([1]DE100_7!$H$261,ROWS($H$261:H320)-1,COLUMNS($H$261:H320)-1)<>\"\",OFFSET([1]DE100_7!$H$261,ROWS($H$261:H320)-1,COLUMNS($H$261:H320)-1),\"\")","v":{"$error":"#VALUE!"}},{"$f":"IF(OFFSET([1]DE100_7!$I$261,ROWS($I$261:I320)-1,COLUMNS($I$261:I320)-1)<>\"\",OFFSET([1]DE100_7!$I$261,ROWS($I$261:I320)-1,COLUMNS($I$261:I320)-1),\"\")","v":{"$error":"#VALUE!"}},{"$f":"IF(OFFSET([1]DE100_7!$J$261,ROWS($J$261:J320)-1,COLUMNS($J$261:J320)-1)<>\"\",OFFSET([1]DE100_7!$J$261,ROWS($J$261:J320)-1,COLUMNS($J$261:J320)-1),\"\")","v":{"$error":"#VALUE!"}},{"$f":"IF(OFFSET([1]DE100_7!$K$261,ROWS($K$261:K320)-1,COLUMNS($K$261:K320)-1)<>\"\",OFFSET([1]DE100_7!$K$261,ROWS($K$261:K320)-1,COLUMNS($K$261:K320)-1),\"\")","v":{"$error":"#VALUE!"}},{"$f":"IF(OFFSET([1]DE100_7!$L$261,ROWS($L$261:L320)-1,COLUMNS($L$261:L320)-1)<>\"\",OFFSET([1]DE100_7!$L$261,ROWS($L$261:L320)-1,COLUMNS($L$261:L320)-1),\"\")","v":{"$error":"#VALUE!"}},{"$f":"IF(OFFSET([1]DE100_7!$M$261,ROWS($M$261:M320)-1,COLUMNS($M$261:M320)-1)<>\"\",OFFSET([1]DE100_7!$M$261,ROWS($M$261:M320)-1,COLUMNS($M$261:M320)-1),\"\")","v":{"$error":"#VALUE!"}},{"$f":"IF(OFFSET([1]DE100_7!$N$261,ROWS($N$261:N320)-1,COLUMNS($N$261:N320)-1)<>\"\",OFFSET([1]DE100_7!$N$261,ROWS($N$261:N320)-1,COLUMNS($N$261:N320)-1),\"\")","v":{"$error":"#VALUE!"}},{"$f":"IF(OFFSET([1]DE100_7!$O$261,ROWS($O$261:O320)-1,COLUMNS($O$261:O320)-1)<>\"\",OFFSET([1]DE100_7!$O$261,ROWS($O$261:O320)-1,COLUMNS($O$261:O320)-1),\"\")","v":{"$error":"#VALUE!"}},{"$f":"IF(OFFSET([1]DE100_7!$P$261,ROWS($P$261:P320)-1,COLUMNS($P$261:P320)-1)<>\"\",OFFSET([1]DE100_7!$P$261,ROWS($P$261:P320)-1,COLUMNS($P$261:P320)-1),\"\")","v":{"$error":"#VALUE!"}},{"$f":"IF(OFFSET([1]DE100_7!$Q$261,ROWS($Q$261:Q320)-1,COLUMNS($Q$261:Q320)-1)<>\"\",OFFSET([1]DE100_7!$Q$261,ROWS($Q$261:Q320)-1,COLUMNS($Q$261:Q320)-1),\"\")","v":{"$error":"#VALUE!"}},{"$f":"IF(OFFSET([1]DE100_7!$R$261,ROWS($R$261:R320)-1,COLUMNS($R$261:R320)-1)<>\"\",OFFSET([1]DE100_7!$R$261,ROWS($R$261:R320)-1,COLUMNS($R$261:R320)-1),\"\")","v":{"$error":"#VALUE!"}},{"$f":"IF(OFFSET([1]DE100_7!$S$261,ROWS($S$261:S320)-1,COLUMNS($S$261:S320)-1)<>\"\",OFFSET([1]DE100_7!$S$261,ROWS($S$261:S320)-1,COLUMNS($S$261:S320)-1),\"\")","v":{"$error":"#VALUE!"}},{"$f":"IF(OFFSET([1]DE100_7!$T$261,ROWS($T$261:T320)-1,COLUMNS($T$261:T320)-1)<>\"\",OFFSET([1]DE100_7!$T$261,ROWS($T$261:T320)-1,COLUMNS($T$261:T320)-1),\"\")","v":{"$error":"#VALUE!"}},{"$f":"IF(OFFSET([1]DE100_7!$U$261,ROWS($U$261:U320)-1,COLUMNS($U$261:U320)-1)<>\"\",OFFSET([1]DE100_7!$U$261,ROWS($U$261:U320)-1,COLUMNS($U$261:U320)-1),\"\")","v":{"$error":"#VALUE!"}},{"$f":"IF(OFFSET([1]DE100_7!$V$261,ROWS($V$261:V320)-1,COLUMNS($V$261:V320)-1)<>\"\",OFFSET([1]DE100_7!$V$261,ROWS($V$261:V320)-1,COLUMNS($V$261:V320)-1),\"\")","v":{"$error":"#VALUE!"}}]
[{"$f":"IF(OFFSET([1]DE100_7!$C$261,ROWS($C$261:C321)-1,COLUMNS($C$261:C321)-1)<>\"\",OFFSET([1]DE100_7!$C$261,ROWS($C$261:C321)-1,COLUMNS($C$261:C321)-1),\"\")","v":{"$error":"#VALUE!"}},{"$f":"IF(OFFSET([1]DE100_7!$D$261,ROWS($D$261:D321)-1,COLUMNS($D$261:D321)-1)<>\"\",OFFSET([1]DE100_7!$D$261,ROWS($D$261:D321)-1,COLUMNS($D$261:D321)-1),\"\")","v":{"$error":"#VALUE!"}},{"$f":"IF(OFFSET([1]DE100_7!$E$261,ROWS($E$261:E321)-1,COLUMNS($E$261:E321)-1)<>\"\",OFFSET([1]DE100_7!$E$261,ROWS($E$261:E321)-1,COLUMNS($E$261:E321)-1),\"\")","v":{"$error":"#VALUE!"}},{"$f":"IF(OFFSET([1]DE100_7!$F$261,ROWS($F$261:F321)-1,COLUMNS($F$261:F321)-1)<>\"\",OFFSET([1]DE100_7!$F$261,ROWS($F$261:F321)-1,COLUMNS($F$261:F321)-1),\"\")","v":{"$error":"#VALUE!"}},{"$f":"IF(OFFSET([1]DE100_7!$G$261,ROWS($G$261:G321)-1,COLUMNS($G$261:G321)-1)<>\"\",OFFSET([1]DE100_7!$G$261,ROWS($G$261:G321)-1,COLUMNS($G$261:G321)-1),\"\")","v":{"$error":"#VALUE!"}},{"$f":"IF(OFFSET([1]DE100_7!$H$261,ROWS($H$261:H321)-1,COLUMNS($H$261:H321)-1)<>\"\",OFFSET([1]DE100_7!$H$261,ROWS($H$261:H321)-1,COLUMNS($H$261:H321)-1),\"\")","v":{"$error":"#VALUE!"}},{"$f":"IF(OFFSET([1]DE100_7!$I$261,ROWS($I$261:I321)-1,COLUMNS($I$261:I321)-1)<>\"\",OFFSET([1]DE100_7!$I$261,ROWS($I$261:I321)-1,COLUMNS($I$261:I321)-1),\"\")","v":{"$error":"#VALUE!"}},{"$f":"IF(OFFSET([1]DE100_7!$J$261,ROWS($J$261:J321)-1,COLUMNS($J$261:J321)-1)<>\"\",OFFSET([1]DE100_7!$J$261,ROWS($J$261:J321)-1,COLUMNS($J$261:J321)-1),\"\")","v":{"$error":"#VALUE!"}},{"$f":"IF(OFFSET([1]DE100_7!$K$261,ROWS($K$261:K321)-1,COLUMNS($K$261:K321)-1)<>\"\",OFFSET([1]DE100_7!$K$261,ROWS($K$261:K321)-1,COLUMNS($K$261:K321)-1),\"\")","v":{"$error":"#VALUE!"}},{"$f":"IF(OFFSET([1]DE100_7!$L$261,ROWS($L$261:L321)-1,COLUMNS($L$261:L321)-1)<>\"\",OFFSET([1]DE100_7!$L$261,ROWS($L$261:L321)-1,COLUMNS($L$261:L321)-1),\"\")","v":{"$error":"#VALUE!"}},{"$f":"IF(OFFSET([1]DE100_7!$M$261,ROWS($M$261:M321)-1,COLUMNS($M$261:M321)-1)<>\"\",OFFSET([1]DE100_7!$M$261,ROWS($M$261:M321)-1,COLUMNS($M$261:M321)-1),\"\")","v":{"$error":"#VALUE!"}},{"$f":"IF(OFFSET([1]DE100_7!$N$261,ROWS($N$261:N321)-1,COLUMNS($N$261:N321)-1)<>\"\",OFFSET([1]DE100_7!$N$261,ROWS($N$261:N321)-1,COLUMNS($N$261:N321)-1),\"\")","v":{"$error":"#VALUE!"}},{"$f":"IF(OFFSET([1]DE100_7!$O$261,ROWS($O$261:O321)-1,COLUMNS($O$261:O321)-1)<>\"\",OFFSET([1]DE100_7!$O$261,ROWS($O$261:O321)-1,COLUMNS($O$261:O321)-1),\"\")","v":{"$error":"#VALUE!"}},{"$f":"IF(OFFSET([1]DE100_7!$P$261,ROWS($P$261:P321)-1,COLUMNS($P$261:P321)-1)<>\"\",OFFSET([1]DE100_7!$P$261,ROWS($P$261:P321)-1,COLUMNS($P$261:P321)-1),\"\")","v":{"$error":"#VALUE!"}},{"$f":"IF(OFFSET([1]DE100_7!$Q$261,ROWS($Q$261:Q321)-1,COLUMNS($Q$261:Q321)-1)<>\"\",OFFSET([1]DE100_7!$Q$261,ROWS($Q$261:Q321)-1,COLUMNS($Q$261:Q321)-1),\"\")","v":{"$error":"#VALUE!"}},{"$f":"IF(OFFSET([1]DE100_7!$R$261,ROWS($R$261:R321)-1,COLUMNS($R$261:R321)-1)<>\"\",OFFSET([1]DE100_7!$R$261,ROWS($R$261:R321)-1,COLUMNS($R$261:R321)-1),\"\")","v":{"$error":"#VALUE!"}},{"$f":"IF(OFFSET([1]DE100_7!$S$261,ROWS($S$261:S321)-1,COLUMNS($S$261:S321)-1)<>\"\",OFFSET([1]DE100_7!$S$261,ROWS($S$261:S321)-1,COLUMNS($S$261:S321)-1),\"\")","v":{"$error":"#VALUE!"}},{"$f":"IF(OFFSET([1]DE100_7!$T$261,ROWS($T$261:T321)-1,COLUMNS($T$261:T321)-1)<>\"\",OFFSET([1]DE100_7!$T$261,ROWS($T$261:T321)-1,COLUMNS($T$261:T321)-1),\"\")","v":{"$error":"#VALUE!"}},{"$f":"IF(OFFSET([1]DE100_7!$U$261,ROWS($U$261:U321)-1,COLUMNS($U$261:U321)-1)<>\"\",OFFSET([1]DE100_7!$U$261,ROWS($U$261:U321)-1,COLUMNS($U$261:U321)-1),\"\")","v":{"$error":"#VALUE!"}},{"$f":"IF(OFFSET([1]DE100_7!$V$261,ROWS($V$261:V321)-1,COLUMNS($V$261:V321)-1)<>\"\",OFFSET([1]DE100_7!$V$261,ROWS($V$261:V321)-1,COLUMNS($V$261:V321)-1),\"\")","v":{"$error":"#VALUE!"}}]
[{"$f":"IF(OFFSET([1]DE100_7!$C$261,ROWS($C$261:C322)-1,COLUMNS($C$261:C322)-1)<>\"\",OFFSET([1]DE100_7!$C$261,ROWS($C$261:C322)-1,COLUMNS($C$261:C322)-1),\"\")","v":{"$error":"#VALUE!"}},{"$f":"IF(OFFSET([1]DE100_7!$D$261,ROWS($D$261:D322)-1,COLUMNS($D$261:D322)-1)<>\"\",OFFSET([1]DE100_7!$D$261,ROWS($D$261:D322)-1,COLUMNS($D$261:D322)-1),\"\")","v":{"$error":"#VALUE!"}},{"$f":"IF(OFFSET([1]DE100_7!$E$261,ROWS($E$261:E322)-1,COLUMNS($E$261:E322)-1)<>\"\",OFFSET([1]DE100_7!$E$261,ROWS($E$261:E322)-1,COLUMNS($E$261:E322)-1),\"\")","v":{"$error":"#VALUE!"}},{"$f":"IF(OFFSET([1]DE100_7!$F$261,ROWS($F$261:F322)-1,COLUMNS($F$261:F322)-1)<>\"\",OFFSET([1]DE100_7!$F$261,ROWS($F$261:F322)-1,COLUMNS($F$261:F322)-1),\"\")","v":{"$error":"#VALUE!"}},{"$f":"IF(OFFSET([1]DE100_7!$G$261,ROWS($G$261:G322)-1,COLUMNS($G$261:G322)-1)<>\"\",OFFSET([1]DE100_7!$G$261,ROWS($G$261:G322)-1,COLUMNS($G$261:G322)-1),\"\")","v":{"$error":"#VALUE!"}},{"$f":"IF(OFFSET([1]DE100_7!$H$261,ROWS($H$261:H322)-1,COLUMNS($H$261:H322)-1)<>\"\",OFFSET([1]DE100_7!$H$261,ROWS($H$261:H322)-1,COLUMNS($H$261:H322)-1),\"\")","v":{"$error":"#VALUE!"}},{"$f":"IF(OFFSET([1]DE100_7!$I$261,ROWS($I$261:I322)-1,COLUMNS($I$261:I322)-1)<>\"\",OFFSET([1]DE100_7!$I$261,ROWS($I$261:I322)-1,COLUMNS($I$261:I322)-1),\"\")","v":{"$error":"#VALUE!"}},{"$f":"IF(OFFSET([1]DE100_7!$J$261,ROWS($J$261:J322)-1,COLUMNS($J$261:J322)-1)<>\"\",OFFSET([1]DE100_7!$J$261,ROWS($J$261:J322)-1,COLUMNS($J$261:J322)-1),\"\")","v":{"$error":"#VALUE!"}},{"$f":"IF(OFFSET([1]DE100_7!$K$261,ROWS($K$261:K322)-1,COLUMNS($K$261:K322)-1)<>\"\",OFFSET([1]DE100_7!$K$261,ROWS($K$261:K322)-1,COLUMNS($K$261:K322)-1),\"\")","v":{"$error":"#VALUE!"}},{"$f":"IF(OFFSET([1]DE100_7!$L$261,ROWS($L$261:L322)-1,COLUMNS($L$261:L322)-1)<>\"\",OFFSET([1]DE100_7!$L$261,ROWS($L$261:L322)-1,COLUMNS($L$261:L322)-1),\"\")","v":{"$error":"#VALUE!"}},{"$f":"IF(OFFSET([1]DE100_7!$M$261,ROWS($M$261:M322)-1,COLUMNS($M$261:M322)-1)<>\"\",OFFSET([1]DE100_7!$M$261,ROWS($M$261:M322)-1,COLUMNS($M$261:M322)-1),\"\")","v":{"$error":"#VALUE!"}},{"$f":"IF(OFFSET([1]DE100_7!$N$261,ROWS($N$261:N322)-1,COLUMNS($N$261:N322)-1)<>\"\",OFFSET([1]DE100_7!$N$261,ROWS($N$261:N322)-1,COLUMNS($N$261:N322)-1),\"\")","v":{"$error":"#VALUE!"}},{"$f":"IF(OFFSET([1]DE100_7!$O$261,ROWS($O$261:O322)-1,COLUMNS($O$261:O322)-1)<>\"\",OFFSET([1]DE100_7!$O$261,ROWS($O$261:O322)-1,COLUMNS($O$261:O322)-1),\"\")","v":{"$error":"#VALUE!"}},{"$f":"IF(OFFSET([1]DE100_7!$P$261,ROWS($P$261:P322)-1,COLUMNS($P$261:P322)-1)<>\"\",OFFSET([1]DE100_7!$P$261,ROWS($P$261:P322)-1,COLUMNS($P$261:P322)-1),\"\")","v":{"$error":"#VALUE!"}},{"$f":"IF(OFFSET([1]DE100_7!$Q$261,ROWS($Q$261:Q322)-1,COLUMNS($Q$261:Q322)-1)<>\"\",OFFSET([1]DE100_7!$Q$261,ROWS($Q$261:Q322)-1,COLUMNS($Q$261:Q322)-1),\"\")","v":{"$error":"#VALUE!"}},{"$f":"IF(OFFSET([1]DE100_7!$R$261,ROWS($R$261:R322)-1,COLUMNS($R$261:R322)-1)<>\"\",OFFSET([1]DE100_7!$R$261,ROWS($R$261:R322)-1,COLUMNS($R$261:R322)-1),\"\")","v":{"$error":"#VALUE!"}},{"$f":"IF(OFFSET([1]DE100_7!$S$261,ROWS($S$261:S322)-1,COLUMNS($S$261:S322)-1)<>\"\",OFFSET([1]DE100_7!$S$261,ROWS($S$261:S322)-1,COLUMNS($S$261:S322)-1),\"\")","v":{"$error":"#VALUE!"}},{"$f":"IF(OFFSET([1]DE100_7!$T$261,ROWS($T$261:T322)-1,COLUMNS($T$261:T322)-1)<>\"\",OFFSET([1]DE100_7!$T$261,ROWS($T$261:T322)-1,COLUMNS($T$261:T322)-1),\"\")","v":{"$error":"#VALUE!"}},{"$f":"IF(OFFSET([1]DE100_7!$U$261,ROWS($U$261:U322)-1,COLUMNS($U$261:U322)-1)<>\"\",OFFSET([1]DE100_7!$U$261,ROWS($U$261:U322)-1,COLUMNS($U$261:U322)-1),\"\")","v":{"$error":"#VALUE!"}},{"$f":"IF(OFFSET([1]DE100_7!$V$261,ROWS($V$261:V322)-1,COLUMNS($V$261:V322)-1)<>\"\",OFFSET([1]DE100_7!$V$261,ROWS($V$261:V322)-1,COLUMNS($V$261:V322)-1),\"\")","v":{"$error":"#VALUE!"}}]
[{"$f":"IF(OFFSET([1]DE100_7!$C$261,ROWS($C$261:C323)-1,COLUMNS($C$261:C323)-1)<>\"\",OFFSET([1]DE100_7!$C$261,ROWS($C$261:C323)-1,COLUMNS($C$261:C323)-1),\"\")","v":{"$error":"#VALUE!"}},null,null,null,{"$f":"IF(OFFSET([1]DE100_7!$G$261,ROWS($G$261:G323)-1,COLUMNS($G$261:G323)-1)<>\"\",OFFSET([1]DE100_7!$G$261,ROWS($G$261:G323)-1,COLUMNS($G$261:G323)-1),\"\")","v":{"$error":"#VALUE!"}},{"$f":"IF(OFFSET([1]DE100_7!$H$261,ROWS($H$261:H323)-1,COLUMNS($H$261:H323)-1)<>\"\",OFFSET([1]DE100_7!$H$261,ROWS($H$261:H323)-1,COLUMNS($H$261:H323)-1),\"\")","v":{"$error":"#VALUE!"}},{"$f":"IF(OFFSET([1]DE100_7!$I$261,ROWS($I$261:I323)-1,COLUMNS($I$261:I323)-1)<>\"\",OFFSET([1]DE100_7!$I$261,ROWS($I$261:I323)-1,COLUMNS($I$261:I323)-1),\"\")","v":{"$error":"#VALUE!"}},{"$f":"IF(OFFSET([1]DE100_7!$J$261,ROWS($J$261:J323)-1,COLUMNS($J$261:J323)-1)<>\"\",OFFSET([1]DE100_7!$J$261,ROWS($J$261:J323)-1,COLUMNS($J$261:J323)-1),\"\")","v":{"$error":"#VALUE!"}},{"$f":"IF(OFFSET([1]DE100_7!$K$261,ROWS($K$261:K323)-1,COLUMNS($K$261:K323)-1)<>\"\",OFFSET([1]DE100_7!$K$261,ROWS($K$261:K323)-1,COLUMNS($K$261:K323)-1),\"\")","v":{"$error":"#VALUE!"}},{"$f":"IF(OFFSET([1]DE100_7!$L$261,ROWS($L$261:L323)-1,COLUMNS($L$261:L323)-1)<>\"\",OFFSET([1]DE100_7!$L$261,ROWS($L$261:L323)-1,COLUMNS($L$261:L323)-1),\"\")","v":{"$error":"#VALUE!"}},{"$f":"IF(OFFSET([1]DE100_7!$M$261,ROWS($M$261:M323)-1,COLUMNS($M$261:M323)-1)<>\"\",OFFSET([1]DE100_7!$M$261,ROWS($M$261:M323)-1,COLUMNS($M$261:M323)-1),\"\")","v":{"$error":"#VALUE!"}},{"$f":"IF(OFFSET([1]DE100_7!$N$261,ROWS($N$261:N323)-1,COLUMNS($N$261:N323)-1)<>\"\",OFFSET([1]DE100_7!$N$261,ROWS($N$261:N323)-1,COLUMNS($N$261:N323)-1),\"\")","v":{"$error":"#VALUE!"}},{"$f":"IF(OFFSET([1]DE100_7!$O$261,ROWS($O$261:O323)-1,COLUMNS($O$261:O323)-1)<>\"\",OFFSET([1]DE100_7!$O$261,ROWS($O$261:O323)-1,COLUMNS($O$261:O323)-1),\"\")","v":{"$error":"#VALUE!"}},{"$f":"IF(OFFSET([1]DE100_7!$P$261,ROWS($P$261:P323)-1,COLUMNS($P$261:P323)-1)<>\"\",OFFSET([1]DE100_7!$P$261,ROWS($P$261:P323)-1,COLUMNS($P$261:P323)-1),\"\")","v":{"$error":"#VALUE!"}},{"$f":"IF(OFFSET([1]DE100_7!$Q$261,ROWS($Q$261:Q323)-1,COLUMNS($Q$261:Q323)-1)<>\"\",OFFSET([1]DE100_7!$Q$261,ROWS($Q$261:Q323)-1,COLUMNS($Q$261:Q323)-1),\"\")","v":{"$error":"#VALUE!"}},{"$f":"IF(OFFSET([1]DE100_7!$R$261,ROWS($R$261:R323)-1,COLUMNS($R$261:R323)-1)<>\"\",OFFSET([1]DE100_7!$R$261,ROWS($R$261:R323)-1,COLUMNS($R$261:R323)-1),\"\")","v":{"$error":"#VALUE!"}},{"$f":"IF(OFFSET([1]DE100_7!$S$261,ROWS($S$261:S323)-1,COLUMNS($S$261:S323)-1)<>\"\",OFFSET([1]DE100_7!$S$261,ROWS($S$261:S323)-1,COLUMNS($S$261:S323)-1),\"\")","v":{"$error":"#VALUE!"}},{"$f":"IF(OFFSET([1]DE100_7!$T$261,ROWS($T$261:T323)-1,COLUMNS($T$261:T323)-1)<>\"\",OFFSET([1]DE100_7!$T$261,ROWS($T$261:T323)-1,COLUMNS($T$261:T323)-1),\"\")","v":{"$error":"#VALUE!"}},{"$f":"IF(OFFSET([1]DE100_7!$U$261,ROWS($U$261:U323)-1,COLUMNS($U$261:U323)-1)<>\"\",OFFSET([1]DE100_7!$U$261,ROWS($U$261:U323)-1,COLUMNS($U$261:U323)-1),\"\")","v":{"$error":"#VALUE!"}},{"$f":"IF(OFFSET([1]DE100_7!$V$261,ROWS($V$261:V323)-1,COLUMNS($V$261:V323)-1)<>\"\",OFFSET([1]DE100_7!$V$261,ROWS($V$261:V323)-1,COLUMNS($V$261:V323)-1),\"\")","v":{"$error":"#VALUE!"}}]
[{"$f":"IF(OFFSET([1]DE100_7!$C$261,ROWS($C$261:C324)-1,COLUMNS($C$261:C324)-1)<>\"\",OFFSET([1]DE100_7!$C$261,ROWS($C$261:C324)-1,COLUMNS($C$261:C324)-1),\"\")","v":{"$error":"#VALUE!"}},{"$f":"IF(OFFSET([1]DE100_7!$D$261,ROWS($D$261:D324)-1,COLUMNS($D$261:D324)-1)<>\"\",OFFSET([1]DE100_7!$D$261,ROWS($D$261:D324)-1,COLUMNS($D$261:D324)-1),\"\")","v":{"$error":"#VALUE!"}},{"$f":"IF(OFFSET([1]DE100_7!$E$261,ROWS($E$261:E324)-1,COLUMNS($E$261:E324)-1)<>\"\",OFFSET([1]DE100_7!$E$261,ROWS($E$261:E324)-1,COLUMNS($E$261:E324)-1),\"\")","v":{"$error":"#VALUE!"}},{"$f":"IF(OFFSET([1]DE100_7!$F$261,ROWS($F$261:F324)-1,COLUMNS($F$261:F324)-1)<>\"\",OFFSET([1]DE100_7!$F$261,ROWS($F$261:F324)-1,COLUMNS($F$261:F324)-1),\"\")","v":{"$error":"#VALUE!"}},{"$f":"IF(OFFSET([1]DE100_7!$G$261,ROWS($G$261:G324)-1,COLUMNS($G$261:G324)-1)<>\"\",OFFSET([1]DE100_7!$G$261,ROWS($G$261:G324)-1,COLUMNS($G$261:G324)-1),\"\")","v":{"$error":"#VALUE!"}},{"$f":"IF(OFFSET([1]DE100_7!$H$261,ROWS($H$261:H324)-1,COLUMNS($H$261:H324)-1)<>\"\",OFFSET([1]DE100_7!$H$261,ROWS($H$261:H324)-1,COLUMNS($H$261:H324)-1),\"\")","v":{"$error":"#VALUE!"}},{"$f":"IF(OFFSET([1]DE100_7!$I$261,ROWS($I$261:I324)-1,COLUMNS($I$261:I324)-1)<>\"\",OFFSET([1]DE100_7!$I$261,ROWS($I$261:I324)-1,COLUMNS($I$261:I324)-1),\"\")","v":{"$error":"#VALUE!"}},{"$f":"IF(OFFSET([1]DE100_7!$J$261,ROWS($J$261:J324)-1,COLUMNS($J$261:J324)-1)<>\"\",OFFSET([1]DE100_7!$J$261,ROWS($J$261:J324)-1,COLUMNS($J$261:J324)-1),\"\")","v":{"$error":"#VALUE!"}},{"$f":"IF(OFFSET([1]DE100_7!$K$261,ROWS($K$261:K324)-1,COLUMNS($K$261:K324)-1)<>\"\",OFFSET([1]DE100_7!$K$261,ROWS($K$261:K324)-1,COLUMNS($K$261:K324)-1),\"\")","v":{"$error":"#VALUE!"}},{"$f":"IF(OFFSET([1]DE100_7!$L$261,ROWS($L$261:L324)-1,COLUMNS($L$261:L324)-1)<>\"\",OFFSET([1]DE100_7!$L$261,ROWS($L$261:L324)-1,COLUMNS($L$261:L324)-1),\"\")","v":{"$error":"#VALUE!"}},{"$f":"IF(OFFSET([1]DE100_7!$M$261,ROWS($M$261:M324)-1,COLUMNS($M$261:M324)-1)<>\"\",OFFSET([1]DE100_7!$M$261,ROWS($M$261:M324)-1,COLUMNS($M$261:M324)-1),\"\")","v":{"$error":"#VALUE!"}},{"$f":"IF(OFFSET([1]DE100_7!$N$261,ROWS($N$261:N324)-1,COLUMNS($N$261:N324)-1)<>\"\",OFFSET([1]DE100_7!$N$261,ROWS($N$261:N324)-1,COLUMNS($N$261:N324)-1),\"\")","v":{"$error":"#VALUE!"}},{"$f":"IF(OFFSET([1]DE100_7!$O$261,ROWS($O$261:O324)-1,COLUMNS($O$261:O324)-1)<>\"\",OFFSET([1]DE100_7!$O$261,ROWS($O$261:O324)-1,COLUMNS($O$261:O324)-1),\"\")","v":{"$error":"#VALUE!"}},{"$f":"IF(OFFSET([1]DE100_7!$P$261,ROWS($P$261:P324)-1,COLUMNS($P$261:P324)-1)<>\"\",OFFSET([1]DE100_7!$P$261,ROWS($P$261:P324)-1,COLUMNS($P$261:P324)-1),\"\")","v":{"$error":"#VALUE!"}},{"$f":"IF(OFFSET([1]DE100_7!$Q$261,ROWS($Q$261:Q324)-1,COLUMNS($Q$261:Q324)-1)<>\"\",OFFSET([1]DE100_7!$Q$261,ROWS($Q$261:Q324)-1,COLUMNS($Q$261:Q324)-1),\"\")","v":{"$error":"#VALUE!"}},{"$f":"IF(OFFSET([1]DE100_7!$R$261,ROWS($R$261:R324)-1,COLUMNS($R$261:R324)-1)<>\"\",OFFSET([1]DE100_7!$R$261,ROWS($R$261:R324)-1,COLUMNS($R$261:R324)-1),\"\")","v":{"$error":"#VALUE!"}},{"$f":"IF(OFFSET([1]DE100_7!$S$261,ROWS($S$261:S324)-1,COLUMNS($S$261:S324)-1)<>\"\",OFFSET([1]DE100_7!$S$261,ROWS($S$261:S324)-1,COLUMNS($S$261:S324)-1),\"\")","v":{"$error":"#VALUE!"}},{"$f":"IF(OFFSET([1]DE100_7!$T$261,ROWS($T$261:T324)-1,COLUMNS($T$261:T324)-1)<>\"\",OFFSET([1]DE100_7!$T$261,ROWS($T$261:T324)-1,COLUMNS($T$261:T324)-1),\"\")","v":{"$error":"#VALUE!"}},{"$f":"IF(OFFSET([1]DE100_7!$U$261,ROWS($U$261:U324)-1,COLUMNS($U$261:U324)-1)<>\"\",OFFSET([1]DE100_7!$U$261,ROWS($U$261:U324)-1,COLUMNS($U$261:U324)-1),\"\")","v":{"$error":"#VALUE!"}},{"$f":"IF(OFFSET([1]DE100_7!$V$261,ROWS($V$261:V324)-1,COLUMNS($V$261:V324)-1)<>\"\",OFFSET([1]DE100_7!$V$261,ROWS($V$261:V324)-1,COLUMNS($V$261:V324)-1),\"\")","v":{"$error":"#VALUE!"}}]
[{"$f":"IF(OFFSET([1]DE100_7!$C$261,ROWS($C$261:C325)-1,COLUMNS($C$261:C325)-1)<>\"\",OFFSET([1]DE100_7!$C$261,ROWS($C$261:C325)-1,COLUMNS($C$261:C325)-1),\"\")","v":{"$error":"#VALUE!"}},{"$f":"IF(OFFSET([1]DE100_7!$D$261,ROWS($D$261:D325)-1,COLUMNS($D$261:D325)-1)<>\"\",OFFSET([1]DE100_7!$D$261,ROWS($D$261:D325)-1,COLUMNS($D$261:D325)-1),\"\")","v":{"$error":"#VALUE!"}},{"$f":"IF(OFFSET([1]DE100_7!$E$261,ROWS($E$261:E325)-1,COLUMNS($E$261:E325)-1)<>\"\",OFFSET([1]DE100_7!$E$261,ROWS($E$261:E325)-1,COLUMNS($E$261:E325)-1),\"\")","v":{"$error":"#VALUE!"}},{"$f":"IF(OFFSET([1]DE100_7!$F$261,ROWS($F$261:F325)-1,COLUMNS($F$261:F325)-1)<>\"\",OFFSET([1]DE100_7!$F$261,ROWS($F$261:F325)-1,COLUMNS($F$261:F325)-1),\"\")","v":{"$error":"#VALUE!"}},{"$f":"IF(OFFSET([1]DE100_7!$G$261,ROWS($G$261:G325)-1,COLUMNS($G$261:G325)-1)<>\"\",OFFSET([1]DE100_7!$G$261,ROWS($G$261:G325)-1,COLUMNS($G$261:G325)-1),\"\")","v":{"$error":"#VALUE!"}},{"$f":"IF(OFFSET([1]DE100_7!$H$261,ROWS($H$261:H325)-1,COLUMNS($H$261:H325)-1)<>\"\",OFFSET([1]DE100_7!$H$261,ROWS($H$261:H325)-1,COLUMNS($H$261:H325)-1),\"\")","v":{"$error":"#VALUE!"}},{"$f":"IF(OFFSET([1]DE100_7!$I$261,ROWS($I$261:I325)-1,COLUMNS($I$261:I325)-1)<>\"\",OFFSET([1]DE100_7!$I$261,ROWS($I$261:I325)-1,COLUMNS($I$261:I325)-1),\"\")","v":{"$error":"#VALUE!"}},{"$f":"IF(OFFSET([1]DE100_7!$J$261,ROWS($J$261:J325)-1,COLUMNS($J$261:J325)-1)<>\"\",OFFSET([1]DE100_7!$J$261,ROWS($J$261:J325)-1,COLUMNS($J$261:J325)-1),\"\")","v":{"$error":"#VALUE!"}},{"$f":"IF(OFFSET([1]DE100_7!$K$261,ROWS($K$261:K325)-1,COLUMNS($K$261:K325)-1)<>\"\",OFFSET([1]DE100_7!$K$261,ROWS($K$261:K325)-1,COLUMNS($K$261:K325)-1),\"\")","v":{"$error":"#VALUE!"}},{"$f":"IF(OFFSET([1]DE100_7!$L$261,ROWS($L$261:L325)-1,COLUMNS($L$261:L325)-1)<>\"\",OFFSET([1]DE100_7!$L$261,ROWS($L$261:L325)-1,COLUMNS($L$261:L325)-1),\"\")","v":{"$error":"#VALUE!"}},{"$f":"IF(OFFSET([1]DE100_7!$M$261,ROWS($M$261:M325)-1,COLUMNS($M$261:M325)-1)<>\"\",OFFSET([1]DE100_7!$M$261,ROWS($M$261:M325)-1,COLUMNS($M$261:M325)-1),\"\")","v":{"$error":"#VALUE!"}},{"$f":"IF(OFFSET([1]DE100_7!$N$261,ROWS($N$261:N325)-1,COLUMNS($N$261:N325)-1)<>\"\",OFFSET([1]DE100_7!$N$261,ROWS($N$261:N325)-1,COLUMNS($N$261:N325)-1),\"\")","v":{"$error":"#VALUE!"}},{"$f":"IF(OFFSET([1]DE100_7!$O$261,ROWS($O$261:O325)-1,COLUMNS($O$261:O325)-1)<>\"\",OFFSET([1]DE100_7!$O$261,ROWS($O$261:O325)-1,COLUMNS($O$261:O325)-1),\"\")","v":{"$error":"#VALUE!"}},{"$f":"IF(OFFSET([1]DE100_7!$P$261,ROWS($P$261:P325)-1,COLUMNS($P$261:P325)-1)<>\"\",OFFSET([1]DE100_7!$P$261,ROWS($P$261:P325)-1,COLUMNS($P$261:P325)-1),\"\")","v":{"$error":"#VALUE!"}},{"$f":"IF(OFFSET([1]DE100_7!$Q$261,ROWS($Q$261:Q325)-1,COLUMNS($Q$261:Q325)-1)<>\"\",OFFSET([1]DE100_7!$Q$261,ROWS($Q$261:Q325)-1,COLUMNS($Q$261:Q325)-1),\"\")","v":{"$error":"#VALUE!"}},{"$f":"IF(OFFSET([1]DE100_7!$R$261,ROWS($R$261:R325)-1,COLUMNS($R$261:R325)-1)<>\"\",OFFSET([1]DE100_7!$R$261,ROWS($R$261:R325)-1,COLUMNS($R$261:R325)-1),\"\")","v":{"$error":"#VALUE!"}},{"$f":"IF(OFFSET([1]DE100_7!$S$261,ROWS($S$261:S325)-1,COLUMNS($S$261:S325)-1)<>\"\",OFFSET([1]DE100_7!$S$261,ROWS($S$261:S325)-1,COLUMNS($S$261:S325)-1),\"\")","v":{"$error":"#VALUE!"}},{"$f":"IF(OFFSET([1]DE100_7!$T$261,ROWS($T$261:T325)-1,COLUMNS($T$261:T325)-1)<>\"\",OFFSET([1]DE100_7!$T$261,ROWS($T$261:T325)-1,COLUMNS($T$261:T325)-1),\"\")","v":{"$error":"#VALUE!"}},{"$f":"IF(OFFSET([1]DE100_7!$U$261,ROWS($U$261:U325)-1,COLUMNS($U$261:U325)-1)<>\"\",OFFSET([1]DE100_7!$U$261,ROWS($U$261:U325)-1,COLUMNS($U$261:U325)-1),\"\")","v":{"$error":"#VALUE!"}},{"$f":"IF(OFFSET([1]DE100_7!$V$261,ROWS($V$261:V325)-1,COLUMNS($V$261:V325)-1)<>\"\",OFFSET([1]DE100_7!$V$261,ROWS($V$261:V325)-1,COLUMNS($V$261:V325)-1),\"\")","v":{"$error":"#VALUE!"}}]
[{"$f":"IF(OFFSET([1]DE100_7!$C$261,ROWS($C$261:C326)-1,COLUMNS($C$261:C326)-1)<>\"\",OFFSET([1]DE100_7!$C$261,ROWS($C$261:C326)-1,COLUMNS($C$261:C326)-1),\"\")","v":{"$error":"#VALUE!"}},null,null,null,{"$f":"IF(OFFSET([1]DE100_7!$G$261,ROWS($G$261:G326)-1,COLUMNS($G$261:G326)-1)<>\"\",OFFSET([1]DE100_7!$G$261,ROWS($G$261:G326)-1,COLUMNS($G$261:G326)-1),\"\")","v":{"$error":"#VALUE!"}},{"$f":"IF(OFFSET([1]DE100_7!$H$261,ROWS($H$261:H326)-1,COLUMNS($H$261:H326)-1)<>\"\",OFFSET([1]DE100_7!$H$261,ROWS($H$261:H326)-1,COLUMNS($H$261:H326)-1),\"\")","v":{"$error":"#VALUE!"}},{"$f":"IF(OFFSET([1]DE100_7!$I$261,ROWS($I$261:I326)-1,COLUMNS($I$261:I326)-1)<>\"\",OFFSET([1]DE100_7!$I$261,ROWS($I$261:I326)-1,COLUMNS($I$261:I326)-1),\"\")","v":{"$error":"#VALUE!"}},{"$f":"IF(OFFSET([1]DE100_7!$J$261,ROWS($J$261:J326)-1,COLUMNS($J$261:J326)-1)<>\"\",OFFSET([1]DE100_7!$J$261,ROWS($J$261:J326)-1,COLUMNS($J$261:J326)-1),\"\")","v":{"$error":"#VALUE!"}},{"$f":"IF(OFFSET([1]DE100_7!$K$261,ROWS($K$261:K326)-1,COLUMNS($K$261:K326)-1)<>\"\",OFFSET([1]DE100_7!$K$261,ROWS($K$261:K326)-1,COLUMNS($K$261:K326)-1),\"\")","v":{"$error":"#VALUE!"}},{"$f":"IF(OFFSET([1]DE100_7!$L$261,ROWS($L$261:L326)-1,COLUMNS($L$261:L326)-1)<>\"\",OFFSET([1]DE100_7!$L$261,ROWS($L$261:L326)-1,COLUMNS($L$261:L326)-1),\"\")","v":{"$error":"#VALUE!"}},{"$f":"IF(OFFSET([1]DE100_7!$M$261,ROWS($M$261:M326)-1,COLUMNS($M$261:M326)-1)<>\"\",OFFSET([1]DE100_7!$M$261,ROWS($M$261:M326)-1,COLUMNS($M$261:M326)-1),\"\")","v":{"$error":"#VALUE!"}},{"$f":"IF(OFFSET([1]DE100_7!$N$261,ROWS($N$261:N326)-1,COLUMNS($N$261:N326)-1)<>\"\",OFFSET([1]DE100_7!$N$261,ROWS($N$261:N326)-1,COLUMNS($N$261:N326)-1),\"\")","v":{"$error":"#VALUE!"}},{"$f":"IF(OFFSET([1]DE100_7!$O$261,ROWS($O$261:O326)-1,COLUMNS($O$261:O326)-1)<>\"\",OFFSET([1]DE100_7!$O$261,ROWS($O$261:O326)-1,COLUMNS($O$261:O326)-1),\"\")","v":{"$error":"#VALUE!"}},{"$f":"IF(OFFSET([1]DE100_7!$P$261,ROWS($P$261:P326)-1,COLUMNS($P$261:P326)-1)<>\"\",OFFSET([1]DE100_7!$P$261,ROWS($P$261:P326)-1,COLUMNS($P$261:P326)-1),\"\")","v":{"$error":"#VALUE!"}},{"$f":"IF(OFFSET([1]DE100_7!$Q$261,ROWS($Q$261:Q326)-1,COLUMNS($Q$261:Q326)-1)<>\"\",OFFSET([1]DE100_7!$Q$261,ROWS($Q$261:Q326)-1,COLUMNS($Q$261:Q326)-1),\"\")","v":{"$error":"#VALUE!"}},{"$f":"IF(OFFSET([1]DE100_7!$R$261,ROWS($R$261:R326)-1,COLUMNS($R$261:R326)-1)<>\"\",OFFSET([1]DE100_7!$R$261,ROWS($R$261:R326)-1,COLUMNS($R$261:R326)-1),\"\")","v":{"$error":"#VALUE!"}},{"$f":"IF(OFFSET([1]DE100_7!$S$261,ROWS($S$261:S326)-1,COLUMNS($S$261:S326)-1)<>\"\",OFFSET([1]DE100_7!$S$261,ROWS($S$261:S326)-1,COLUMNS($S$261:S326)-1),\"\")","v":{"$error":"#VALUE!"}},{"$f":"IF(OFFSET([1]DE100_7!$T$261,ROWS($T$261:T326)-1,COLUMNS($T$261:T326)-1)<>\"\",OFFSET([1]DE100_7!$T$261,ROWS($T$261:T326)-1,COLUMNS($T$261:T326)-1),\"\")","v":{"$error":"#VALUE!"}},{"$f":"IF(OFFSET([1]DE100_7!$U$261,ROWS($U$261:U326)-1,COLUMNS($U$261:U326)-1)<>\"\",OFFSET([1]DE100_7!$U$261,ROWS($U$261:U326)-1,COLUMNS($U$261:U326)-1),\"\")","v":{"$error":"#VALUE!"}},{"$f":"IF(OFFSET([1]DE100_7!$V$261,ROWS($V$261:V326)-1,COLUMNS($V$261:V326)-1)<>\"\",OFFSET([1]DE100_7!$V$261,ROWS($V$261:V326)-1,COLUMNS($V$261:V326)-1),\"\")","v":{"$error":"#VALUE!"}}]
[{"$f":"IF(OFFSET([1]DE100_7!$C$261,ROWS($C$261:C327)-1,COLUMNS($C$261:C327)-1)<>\"\",OFFSET([1]DE100_7!$C$261,ROWS($C$261:C327)-1,COLUMNS($C$261:C327)-1),\"\")","v":{"$error":"#VALUE!"}},{"$f":"IF(OFFSET([1]DE100_7!$D$261,ROWS($D$261:D327)-1,COLUMNS($D$261:D327)-1)<>\"\",OFFSET([1]DE100_7!$D$261,ROWS($D$261:D327)-1,COLUMNS($D$261:D327)-1),\"\")","v":{"$error":"#VALUE!"}},{"$f":"IF(OFFSET([1]DE100_7!$E$261,ROWS($E$261:E327)-1,COLUMNS($E$261:E327)-1)<>\"\",OFFSET([1]DE100_7!$E$261,ROWS($E$261:E327)-1,COLUMNS($E$261:E327)-1),\"\")","v":{"$error":"#VALUE!"}},{"$f":"IF(OFFSET([1]DE100_7!$F$261,ROWS($F$261:F327)-1,COLUMNS($F$261:F327)-1)<>\"\",OFFSET([1]DE100_7!$F$261,ROWS($F$261:F327)-1,COLUMNS($F$261:F327)-1),\"\")","v":{"$error":"#VALUE!"}},{"$f":"IF(OFFSET([1]DE100_7!$G$261,ROWS($G$261:G327)-1,COLUMNS($G$261:G327)-1)<>\"\",OFFSET([1]DE100_7!$G$261,ROWS($G$261:G327)-1,COLUMNS($G$261:G327)-1),\"\")","v":{"$error":"#VALUE!"}},{"$f":"IF(OFFSET([1]DE100_7!$H$261,ROWS($H$261:H327)-1,COLUMNS($H$261:H327)-1)<>\"\",OFFSET([1]DE100_7!$H$261,ROWS($H$261:H327)-1,COLUMNS($H$261:H327)-1),\"\")","v":{"$error":"#VALUE!"}},{"$f":"IF(OFFSET([1]DE100_7!$I$261,ROWS($I$261:I327)-1,COLUMNS($I$261:I327)-1)<>\"\",OFFSET([1]DE100_7!$I$261,ROWS($I$261:I327)-1,COLUMNS($I$261:I327)-1),\"\")","v":{"$error":"#VALUE!"}},{"$f":"IF(OFFSET([1]DE100_7!$J$261,ROWS($J$261:J327)-1,COLUMNS($J$261:J327)-1)<>\"\",OFFSET([1]DE100_7!$J$261,ROWS($J$261:J327)-1,COLUMNS($J$261:J327)-1),\"\")","v":{"$error":"#VALUE!"}},{"$f":"IF(OFFSET([1]DE100_7!$K$261,ROWS($K$261:K327)-1,COLUMNS($K$261:K327)-1)<>\"\",OFFSET([1]DE100_7!$K$261,ROWS($K$261:K327)-1,COLUMNS($K$261:K327)-1),\"\")","v":{"$error":"#VALUE!"}},{"$f":"IF(OFFSET([1]DE100_7!$L$261,ROWS($L$261:L327)-1,COLUMNS($L$261:L327)-1)<>\"\",OFFSET([1]DE100_7!$L$261,ROWS($L$261:L327)-1,COLUMNS($L$261:L327)-1),\"\")","v":{"$error":"#VALUE!"}},{"$f":"IF(OFFSET([1]DE100_7!$M$261,ROWS($M$261:M327)-1,COLUMNS($M$261:M327)-1)<>\"\",OFFSET([1]DE100_7!$M$261,ROWS($M$261:M327)-1,COLUMNS($M$261:M327)-1),\"\")","v":{"$error":"#VALUE!"}},{"$f":"IF(OFFSET([1]DE100_7!$N$261,ROWS($N$261:N327)-1,COLUMNS($N$261:N327)-1)<>\"\",OFFSET([1]DE100_7!$N$261,ROWS($N$261:N327)-1,COLUMNS($N$261:N327)-1),\"\")","v":{"$error":"#VALUE!"}},{"$f":"IF(OFFSET([1]DE100_7!$O$261,ROWS($O$261:O327)-1,COLUMNS($O$261:O327)-1)<>\"\",OFFSET([1]DE100_7!$O$261,ROWS($O$261:O327)-1,COLUMNS($O$261:O327)-1),\"\")","v":{"$error":"#VALUE!"}},{"$f":"IF(OFFSET([1]DE100_7!$P$261,ROWS($P$261:P327)-1,COLUMNS($P$261:P327)-1)<>\"\",OFFSET([1]DE100_7!$P$261,ROWS($P$261:P327)-1,COLUMNS($P$261:P327)-1),\"\")","v":{"$error":"#VALUE!"}},{"$f":"IF(OFFSET([1]DE100_7!$Q$261,ROWS($Q$261:Q327)-1,COLUMNS($Q$261:Q327)-1)<>\"\",OFFSET([1]DE100_7!$Q$261,ROWS($Q$261:Q327)-1,COLUMNS($Q$261:Q327)-1),\"\")","v":{"$error":"#VALUE!"}},{"$f":"IF(OFFSET([1]DE100_7!$R$261,ROWS($R$261:R327)-1,COLUMNS($R$261:R327)-1)<>\"\",OFFSET([1]DE100_7!$R$261,ROWS($R$261:R327)-1,COLUMNS($R$261:R327)-1),\"\")","v":{"$error":"#VALUE!"}},{"$f":"IF(OFFSET([1]DE100_7!$S$261,ROWS($S$261:S327)-1,COLUMNS($S$261:S327)-1)<>\"\",OFFSET([1]DE100_7!$S$261,ROWS($S$261:S327)-1,COLUMNS($S$261:S327)-1),\"\")","v":{"$error":"#VALUE!"}},{"$f":"IF(OFFSET([1]DE100_7!$T$261,ROWS($T$261:T327)-1,COLUMNS($T$261:T327)-1)<>\"\",OFFSET([1]DE100_7!$T$261,ROWS($T$261:T327)-1,COLUMNS($T$261:T327)-1),\"\")","v":{"$error":"#VALUE!"}},{"$f":"IF(OFFSET([1]DE100_7!$U$261,ROWS($U$261:U327)-1,COLUMNS($U$261:U327)-1)<>\"\",OFFSET([1]DE100_7!$U$261,ROWS($U$261:U327)-1,COLUMNS($U$261:U327)-1),\"\")","v":{"$error":"#VALUE!"}},{"$f":"IF(OFFSET([1]DE100_7!$V$261,ROWS($V$261:V327)-1,COLUMNS($V$261:V327)-1)<>\"\",OFFSET([1]DE100_7!$V$261,ROWS($V$261:V327)-1,COLUMNS($V$261:V327)-1),\"\")","v":{"$error":"#VALUE!"}}]
[{"$f":"IF(OFFSET([1]DE100_7!$C$261,ROWS($C$261:C328)-1,COLUMNS($C$261:C328)-1)<>\"\",OFFSET([1]DE100_7!$C$261,ROWS($C$261:C328)-1,COLUMNS($C$261:C328)-1),\"\")","v":{"$error":"#VALUE!"}},null,null,null,{"$f":"IF(OFFSET([1]DE100_7!$G$261,ROWS($G$261:G328)-1,COLUMNS($G$261:G328)-1)<>\"\",OFFSET([1]DE100_7!$G$261,ROWS($G$261:G328)-1,COLUMNS($G$261:G328)-1),\"\")","v":{"$error":"#VALUE!"}},{"$f":"IF(OFFSET([1]DE100_7!$H$261,ROWS($H$261:H328)-1,COLUMNS($H$261:H328)-1)<>\"\",OFFSET([1]DE100_7!$H$261,ROWS($H$261:H328)-1,COLUMNS($H$261:H328)-1),\"\")","v":{"$error":"#VALUE!"}},{"$f":"IF(OFFSET([1]DE100_7!$I$261,ROWS($I$261:I328)-1,COLUMNS($I$261:I328)-1)<>\"\",OFFSET([1]DE100_7!$I$261,ROWS($I$261:I328)-1,COLUMNS($I$261:I328)-1),\"\")","v":{"$error":"#VALUE!"}},{"$f":"IF(OFFSET([1]DE100_7!$J$261,ROWS($J$261:J328)-1,COLUMNS($J$261:J328)-1)<>\"\",OFFSET([1]DE100_7!$J$261,ROWS($J$261:J328)-1,COLUMNS($J$261:J328)-1),\"\")","v":{"$error":"#VALUE!"}},{"$f":"IF(OFFSET([1]DE100_7!$K$261,ROWS($K$261:K328)-1,COLUMNS($K$261:K328)-1)<>\"\",OFFSET([1]DE100_7!$K$261,ROWS($K$261:K328)-1,COLUMNS($K$261:K328)-1),\"\")","v":{"$error":"#VALUE!"}},{"$f":"IF(OFFSET([1]DE100_7!$L$261,ROWS($L$261:L328)-1,COLUMNS($L$261:L328)-1)<>\"\",OFFSET([1]DE100_7!$L$261,ROWS($L$261:L328)-1,COLUMNS($L$261:L328)-1),\"\")","v":{"$error":"#VALUE!"}},{"$f":"IF(OFFSET([1]DE100_7!$M$261,ROWS($M$261:M328)-1,COLUMNS($M$261:M328)-1)<>\"\",OFFSET([1]DE100_7!$M$261,ROWS($M$261:M328)-1,COLUMNS($M$261:M328)-1),\"\")","v":{"$error":"#VALUE!"}},{"$f":"IF(OFFSET([1]DE100_7!$N$261,ROWS($N$261:N328)-1,COLUMNS($N$261:N328)-1)<>\"\",OFFSET([1]DE100_7!$N$261,ROWS($N$261:N328)-1,COLUMNS($N$261:N328)-1),\"\")","v":{"$error":"#VALUE!"}},{"$f":"IF(OFFSET([1]DE100_7!$O$261,ROWS($O$261:O328)-1,COLUMNS($O$261:O328)-1)<>\"\",OFFSET([1]DE100_7!$O$261,ROWS($O$261:O328)-1,COLUMNS($O$261:O328)-1),\"\")","v":{"$error":"#VALUE!"}},{"$f":"IF(OFFSET([1]DE100_7!$P$261,ROWS($P$261:P328)-1,COLUMNS($P$261:P328)-1)<>\"\",OFFSET([1]DE100_7!$P$261,ROWS($P$261:P328)-1,COLUMNS($P$261:P328)-1),\"\")","v":{"$error":"#VALUE!"}},{"$f":"IF(OFFSET([1]DE100_7!$Q$261,ROWS($Q$261:Q328)-1,COLUMNS($Q$261:Q328)-1)<>\"\",OFFSET([1]DE100_7!$Q$261,ROWS($Q$261:Q328)-1,COLUMNS($Q$261:Q328)-1),\"\")","v":{"$error":"#VALUE!"}},{"$f":"IF(OFFSET([1]DE100_7!$R$261,ROWS($R$261:R328)-1,COLUMNS($R$261:R328)-1)<>\"\",OFFSET([1]DE100_7!$R$261,ROWS($R$261:R328)-1,COLUMNS($R$261:R328)-1),\"\")","v":{"$error":"#VALUE!"}},{"$f":"IF(OFFSET([1]DE100_7!$S$261,ROWS($S$261:S328)-1,COLUMNS($S$261:S328)-1)<>\"\",OFFSET([1]DE100_7!$S$261,ROWS($S$261:S328)-1,COLUMNS($S$261:S328)-1),\"\")","v":{"$error":"#VALUE!"}},{"$f":"IF(OFFSET([1]DE100_7!$T$261,ROWS($T$261:T328)-1,COLUMNS($T$261:T328)-1)<>\"\",OFFSET([1]DE100_7!$T$261,ROWS($T$261:T328)-1,COLUMNS($T$261:T328)-1),\"\")","v":{"$error":"#VALUE!"}},{"$f":"IF(OFFSET([1]DE100_7!$U$261,ROWS($U$261:U328)-1,COLUMNS($U$261:U328)-1)<>\"\",OFFSET([1]DE100_7!$U$261,ROWS($U$261:U328)-1,COLUMNS($U$261:U328)-1),\"\")","v":{"$error":"#VALUE!"}},{"$f":"IF(OFFSET([1]DE100_7!$V$261,ROWS($V$261:V328)-1,COLUMNS($V$261:V328)-1)<>\"\",OFFSET([1]DE100_7!$V$261,ROWS($V$261:V328)-1,COLUMNS($V$261:V328)-1),\"\")","v":{"$error":"#VALUE!"}}]
[{"$f":"IF(OFFSET([1]DE100_7!$C$261,ROWS($C$261:C329)-1,COLUMNS($C$261:C329)-1)<>\"\",OFFSET([1]DE100_7!$C$261,ROWS($C$261:C329)-1,COLUMNS($C$261:C329)-1),\"\")","v":{"$error":"#VALUE!"}},{"$f":"IF(OFFSET([1]DE100_7!$D$261,ROWS($D$261:D329)-1,COLUMNS($D$261:D329)-1)<>\"\",OFFSET([1]DE100_7!$D$261,ROWS($D$261:D329)-1,COLUMNS($D$261:D329)-1),\"\")","v":{"$error":"#VALUE!"}},{"$f":"IF(OFFSET([1]DE100_7!$E$261,ROWS($E$261:E329)-1,COLUMNS($E$261:E329)-1)<>\"\",OFFSET([1]DE100_7!$E$261,ROWS($E$261:E329)-1,COLUMNS($E$261:E329)-1),\"\")","v":{"$error":"#VALUE!"}},{"$f":"IF(OFFSET([1]DE100_7!$F$261,ROWS($F$261:F329)-1,COLUMNS($F$261:F329)-1)<>\"\",OFFSET([1]DE100_7!$F$261,ROWS($F$261:F329)-1,COLUMNS($F$261:F329)-1),\"\")","v":{"$error":"#VALUE!"}},{"$f":"IF(OFFSET([1]DE100_7!$G$261,ROWS($G$261:G329)-1,COLUMNS($G$261:G329)-1)<>\"\",OFFSET([1]DE100_7!$G$261,ROWS($G$261:G329)-1,COLUMNS($G$261:G329)-1),\"\")","v":{"$error":"#VALUE!"}},{"$f":"IF(OFFSET([1]DE100_7!$H$261,ROWS($H$261:H329)-1,COLUMNS($H$261:H329)-1)<>\"\",OFFSET([1]DE100_7!$H$261,ROWS($H$261:H329)-1,COLUMNS($H$261:H329)-1),\"\")","v":{"$error":"#VALUE!"}},{"$f":"IF(OFFSET([1]DE100_7!$I$261,ROWS($I$261:I329)-1,COLUMNS($I$261:I329)-1)<>\"\",OFFSET([1]DE100_7!$I$261,ROWS($I$261:I329)-1,COLUMNS($I$261:I329)-1),\"\")","v":{"$error":"#VALUE!"}},{"$f":"IF(OFFSET([1]DE100_7!$J$261,ROWS($J$261:J329)-1,COLUMNS($J$261:J329)-1)<>\"\",OFFSET([1]DE100_7!$J$261,ROWS($J$261:J329)-1,COLUMNS($J$261:J329)-1),\"\")","v":{"$error":"#VALUE!"}},{"$f":"IF(OFFSET([1]DE100_7!$K$261,ROWS($K$261:K329)-1,COLUMNS($K$261:K329)-1)<>\"\",OFFSET([1]DE100_7!$K$261,ROWS($K$261:K329)-1,COLUMNS($K$261:K329)-1),\"\")","v":{"$error":"#VALUE!"}},{"$f":"IF(OFFSET([1]DE100_7!$L$261,ROWS($L$261:L329)-1,COLUMNS($L$261:L329)-1)<>\"\",OFFSET([1]DE100_7!$L$261,ROWS($L$261:L329)-1,COLUMNS($L$261:L329)-1),\"\")","v":{"$error":"#VALUE!"}},{"$f":"IF(OFFSET([1]DE100_7!$M$261,ROWS($M$261:M329)-1,COLUMNS($M$261:M329)-1)<>\"\",OFFSET([1]DE100_7!$M$261,ROWS($M$261:M329)-1,COLUMNS($M$261:M329)-1),\"\")","v":{"$error":"#VALUE!"}},{"$f":"IF(OFFSET([1]DE100_7!$N$261,ROWS($N$261:N329)-1,COLUMNS($N$261:N329)-1)<>\"\",OFFSET([1]DE100_7!$N$261,ROWS($N$261:N329)-1,COLUMNS($N$261:N329)-1),\"\")","v":{"$error":"#VALUE!"}},{"$f":"IF(OFFSET([1]DE100_7!$O$261,ROWS($O$261:O329)-1,COLUMNS($O$261:O329)-1)<>\"\",OFFSET([1]DE100_7!$O$261,ROWS($O$261:O329)-1,COLUMNS($O$261:O329)-1),\"\")","v":{"$error":"#VALUE!"}},{"$f":"IF(OFFSET([1]DE100_7!$P$261,ROWS($P$261:P329)-1,COLUMNS($P$261:P329)-1)<>\"\",OFFSET([1]DE100_7!$P$261,ROWS($P$261:P329)-1,COLUMNS($P$261:P329)-1),\"\")","v":{"$error":"#VALUE!"}},{"$f":"IF(OFFSET([1]DE100_7!$Q$261,ROWS($Q$261:Q329)-1,COLUMNS($Q$261:Q329)-1)<>\"\",OFFSET([1]DE100_7!$Q$261,ROWS($Q$261:Q329)-1,COLUMNS($Q$261:Q329)-1),\"\")","v":{"$error":"#VALUE!"}},{"$f":"IF(OFFSET([1]DE100_7!$R$261,ROWS($R$261:R329)-1,COLUMNS($R$261:R329)-1)<>\"\",OFFSET([1]DE100_7!$R$261,ROWS($R$261:R329)-1,COLUMNS($R$261:R329)-1),\"\")","v":{"$error":"#VALUE!"}},{"$f":"IF(OFFSET([1]DE100_7!$S$261,ROWS($S$261:S329)-1,COLUMNS($S$261:S329)-1)<>\"\",OFFSET([1]DE100_7!$S$261,ROWS($S$261:S329)-1,COLUMNS($S$261:S329)-1),\"\")","v":{"$error":"#VALUE!"}},{"$f":"IF(OFFSET([1]DE100_7!$T$261,ROWS($T$261:T329)-1,COLUMNS($T$261:T329)-1)<>\"\",OFFSET([1]DE100_7!$T$261,ROWS($T$261:T329)-1,COLUMNS($T$261:T329)-1),\"\")","v":{"$error":"#VALUE!"}},{"$f":"IF(OFFSET([1]DE100_7!$U$261,ROWS($U$261:U329)-1,COLUMNS($U$261:U329)-1)<>\"\",OFFSET([1]DE100_7!$U$261,ROWS($U$261:U329)-1,COLUMNS($U$261:U329)-1),\"\")","v":{"$error":"#VALUE!"}},{"$f":"IF(OFFSET([1]DE100_7!$V$261,ROWS($V$261:V329)-1,COLUMNS($V$261:V329)-1)<>\"\",OFFSET([1]DE100_7!$V$261,ROWS($V$261:V329)-1,COLUMNS($V$261:V329)-1),\"\")","v":{"$error":"#VALUE!"}}]
[{"$f":"IF(OFFSET([1]DE100_7!$C$261,ROWS($C$261:C330)-1,COLUMNS($C$261:C330)-1)<>\"\",OFFSET([1]DE100_7!$C$261,ROWS($C$261:C330)-1,COLUMNS($C$261:C330)-1),\"\")","v":{"$error":"#VALUE!"}},{"$f":"IF(OFFSET([1]DE100_7!$D$261,ROWS($D$261:D330)-1,COLUMNS($D$261:D330)-1)<>\"\",OFFSET([1]DE100_7!$D$261,ROWS($D$261:D330)-1,COLUMNS($D$261:D330)-1),\"\")","v":{"$error":"#VALUE!"}},{"$f":"IF(OFFSET([1]DE100_7!$E$261,ROWS($E$261:E330)-1,COLUMNS($E$261:E330)-1)<>\"\",OFFSET([1]DE100_7!$E$261,ROWS($E$261:E330)-1,COLUMNS($E$261:E330)-1),\"\")","v":{"$error":"#VALUE!"}},{"$f":"IF(OFFSET([1]DE100_7!$F$261,ROWS($F$261:F330)-1,COLUMNS($F$261:F330)-1)<>\"\",OFFSET([1]DE100_7!$F$261,ROWS($F$261:F330)-1,COLUMNS($F$261:F330)-1),\"\")","v":{"$error":"#VALUE!"}},{"$f":"IF(OFFSET([1]DE100_7!$G$261,ROWS($G$261:G330)-1,COLUMNS($G$261:G330)-1)<>\"\",OFFSET([1]DE100_7!$G$261,ROWS($G$261:G330)-1,COLUMNS($G$261:G330)-1),\"\")","v":{"$error":"#VALUE!"}},{"$f":"IF(OFFSET([1]DE100_7!$H$261,ROWS($H$261:H330)-1,COLUMNS($H$261:H330)-1)<>\"\",OFFSET([1]DE100_7!$H$261,ROWS($H$261:H330)-1,COLUMNS($H$261:H330)-1),\"\")","v":{"$error":"#VALUE!"}},{"$f":"IF(OFFSET([1]DE100_7!$I$261,ROWS($I$261:I330)-1,COLUMNS($I$261:I330)-1)<>\"\",OFFSET([1]DE100_7!$I$261,ROWS($I$261:I330)-1,COLUMNS($I$261:I330)-1),\"\")","v":{"$error":"#VALUE!"}},{"$f":"IF(OFFSET([1]DE100_7!$J$261,ROWS($J$261:J330)-1,COLUMNS($J$261:J330)-1)<>\"\",OFFSET([1]DE100_7!$J$261,ROWS($J$261:J330)-1,COLUMNS($J$261:J330)-1),\"\")","v":{"$error":"#VALUE!"}},{"$f":"IF(OFFSET([1]DE100_7!$K$261,ROWS($K$261:K330)-1,COLUMNS($K$261:K330)-1)<>\"\",OFFSET([1]DE100_7!$K$261,ROWS($K$261:K330)-1,COLUMNS($K$261:K330)-1),\"\")","v":{"$error":"#VALUE!"}},{"$f":"IF(OFFSET([1]DE100_7!$L$261,ROWS($L$261:L330)-1,COLUMNS($L$261:L330)-1)<>\"\",OFFSET([1]DE100_7!$L$261,ROWS($L$261:L330)-1,COLUMNS($L$261:L330)-1),\"\")","v":{"$error":"#VALUE!"}},{"$f":"IF(OFFSET([1]DE100_7!$M$261,ROWS($M$261:M330)-1,COLUMNS($M$261:M330)-1)<>\"\",OFFSET([1]DE100_7!$M$261,ROWS($M$261:M330)-1,COLUMNS($M$261:M330)-1),\"\")","v":{"$error":"#VALUE!"}},{"$f":"IF(OFFSET([1]DE100_7!$N$261,ROWS($N$261:N330)-1,COLUMNS($N$261:N330)-1)<>\"\",OFFSET([1]DE100_7!$N$261,ROWS($N$261:N330)-1,COLUMNS($N$261:N330)-1),\"\")","v":{"$error":"#VALUE!"}},{"$f":"IF(OFFSET([1]DE100_7!$O$261,ROWS($O$261:O330)-1,COLUMNS($O$261:O330)-1)<>\"\",OFFSET([1]DE100_7!$O$261,ROWS($O$261:O330)-1,COLUMNS($O$261:O330)-1),\"\")","v":{"$error":"#VALUE!"}},{"$f":"IF(OFFSET([1]DE100_7!$P$261,ROWS($P$261:P330)-1,COLUMNS($P$261:P330)-1)<>\"\",OFFSET([1]DE100_7!$P$261,ROWS($P$261:P330)-1,COLUMNS($P$261:P330)-1),\"\")","v":{"$error":"#VALUE!"}},{"$f":"IF(OFFSET([1]DE100_7!$Q$261,ROWS($Q$261:Q330)-1,COLUMNS($Q$261:Q330)-1)<>\"\",OFFSET([1]DE100_7!$Q$261,ROWS($Q$261:Q330)-1,COLUMNS($Q$261:Q330)-1),\"\")","v":{"$error":"#VALUE!"}},{"$f":"IF(OFFSET([1]DE100_7!$R$261,ROWS($R$261:R330)-1,COLUMNS($R$261:R330)-1)<>\"\",OFFSET([1]DE100_7!$R$261,ROWS($R$261:R330)-1,COLUMNS($R$261:R330)-1),\"\")","v":{"$error":"#VALUE!"}},{"$f":"IF(OFFSET([1]DE100_7!$S$261,ROWS($S$261:S330)-1,COLUMNS($S$261:S330)-1)<>\"\",OFFSET([1]DE100_7!$S$261,ROWS($S$261:S330)-1,COLUMNS($S$261:S330)-1),\"\")","v":{"$error":"#VALUE!"}},{"$f":"IF(OFFSET([1]DE100_7!$T$261,ROWS($T$261:T330)-1,COLUMNS($T$261:T330)-1)<>\"\",OFFSET([1]DE100_7!$T$261,ROWS($T$261:T330)-1,COLUMNS($T$261:T330)-1),\"\")","v":{"$error":"#VALUE!"}},{"$f":"IF(OFFSET([1]DE100_7!$U$261,ROWS($U$261:U330)-1,COLUMNS($U$261:U330)-1)<>\"\",OFFSET([1]DE100_7!$U$261,ROWS($U$261:U330)-1,COLUMNS($U$261:U330)-1),\"\")","v":{"$error":"#VALUE!"}},{"$f":"IF(OFFSET([1]DE100_7!$V$261,ROWS($V$261:V330)-1,COLUMNS($V$261:V330)-1)<>\"\",OFFSET([1]DE100_7!$V$261,ROWS($V$261:V330)-1,COLUMNS($V$261:V330)-1),\"\")","v":{"$error":"#VALUE!"}}]
[{"$f":"IF(OFFSET([1]DE100_7!$C$261,ROWS($C$261:C331)-1,COLUMNS($C$261:C331)-1)<>\"\",OFFSET([1]DE100_7!$C$261,ROWS($C$261:C331)-1,COLUMNS($C$261:C331)-1),\"\")","v":{"$error":"#VALUE!"}},{"$f":"IF(OFFSET([1]DE100_7!$D$261,ROWS($D$261:D331)-1,COLUMNS($D$261:D331)-1)<>\"\",OFFSET([1]DE100_7!$D$261,ROWS($D$261:D331)-1,COLUMNS($D$261:D331)-1),\"\")","v":{"$error":"#VALUE!"}},{"$f":"IF(OFFSET([1]DE100_7!$E$261,ROWS($E$261:E331)-1,COLUMNS($E$261:E331)-1)<>\"\",OFFSET([1]DE100_7!$E$261,ROWS($E$261:E331)-1,COLUMNS($E$261:E331)-1),\"\")","v":{"$error":"#VALUE!"}},{"$f":"IF(OFFSET([1]DE100_7!$F$261,ROWS($F$261:F331)-1,COLUMNS($F$261:F331)-1)<>\"\",OFFSET([1]DE100_7!$F$261,ROWS($F$261:F331)-1,COLUMNS($F$261:F331)-1),\"\")","v":{"$error":"#VALUE!"}},{"$f":"IF(OFFSET([1]DE100_7!$G$261,ROWS($G$261:G331)-1,COLUMNS($G$261:G331)-1)<>\"\",OFFSET([1]DE100_7!$G$261,ROWS($G$261:G331)-1,COLUMNS($G$261:G331)-1),\"\")","v":{"$error":"#VALUE!"}},{"$f":"IF(OFFSET([1]DE100_7!$H$261,ROWS($H$261:H331)-1,COLUMNS($H$261:H331)-1)<>\"\",OFFSET([1]DE100_7!$H$261,ROWS($H$261:H331)-1,COLUMNS($H$261:H331)-1),\"\")","v":{"$error":"#VALUE!"}},{"$f":"IF(OFFSET([1]DE100_7!$I$261,ROWS($I$261:I331)-1,COLUMNS($I$261:I331)-1)<>\"\",OFFSET([1]DE100_7!$I$261,ROWS($I$261:I331)-1,COLUMNS($I$261:I331)-1),\"\")","v":{"$error":"#VALUE!"}},{"$f":"IF(OFFSET([1]DE100_7!$J$261,ROWS($J$261:J331)-1,COLUMNS($J$261:J331)-1)<>\"\",OFFSET([1]DE100_7!$J$261,ROWS($J$261:J331)-1,COLUMNS($J$261:J331)-1),\"\")","v":{"$error":"#VALUE!"}},{"$f":"IF(OFFSET([1]DE100_7!$K$261,ROWS($K$261:K331)-1,COLUMNS($K$261:K331)-1)<>\"\",OFFSET([1]DE100_7!$K$261,ROWS($K$261:K331)-1,COLUMNS($K$261:K331)-1),\"\")","v":{"$error":"#VALUE!"}},{"$f":"IF(OFFSET([1]DE100_7!$L$261,ROWS($L$261:L331)-1,COLUMNS($L$261:L331)-1)<>\"\",OFFSET([1]DE100_7!$L$261,ROWS($L$261:L331)-1,COLUMNS($L$261:L331)-1),\"\")","v":{"$error":"#VALUE!"}},{"$f":"IF(OFFSET([1]DE100_7!$M$261,ROWS($M$261:M331)-1,COLUMNS($M$261:M331)-1)<>\"\",OFFSET([1]DE100_7!$M$261,ROWS($M$261:M331)-1,COLUMNS($M$261:M331)-1),\"\")","v":{"$error":"#VALUE!"}},{"$f":"IF(OFFSET([1]DE100_7!$N$261,ROWS($N$261:N331)-1,COLUMNS($N$261:N331)-1)<>\"\",OFFSET([1]DE100_7!$N$261,ROWS($N$261:N331)-1,COLUMNS($N$261:N331)-1),\"\")","v":{"$error":"#VALUE!"}},{"$f":"IF(OFFSET([1]DE100_7!$O$261,ROWS($O$261:O331)-1,COLUMNS($O$261:O331)-1)<>\"\",OFFSET([1]DE100_7!$O$261,ROWS($O$261:O331)-1,COLUMNS($O$261:O331)-1),\"\")","v":{"$error":"#VALUE!"}},{"$f":"IF(OFFSET([1]DE100_7!$P$261,ROWS($P$261:P331)-1,COLUMNS($P$261:P331)-1)<>\"\",OFFSET([1]DE100_7!$P$261,ROWS($P$261:P331)-1,COLUMNS($P$261:P331)-1),\"\")","v":{"$error":"#VALUE!"}},{"$f":"IF(OFFSET([1]DE100_7!$Q$261,ROWS($Q$261:Q331)-1,COLUMNS($Q$261:Q331)-1)<>\"\",OFFSET([1]DE100_7!$Q$261,ROWS($Q$261:Q331)-1,COLUMNS($Q$261:Q331)-1),\"\")","v":{"$error":"#VALUE!"}},{"$f":"IF(OFFSET([1]DE100_7!$R$261,ROWS($R$261:R331)-1,COLUMNS($R$261:R331)-1)<>\"\",OFFSET([1]DE100_7!$R$261,ROWS($R$261:R331)-1,COLUMNS($R$261:R331)-1),\"\")","v":{"$error":"#VALUE!"}},{"$f":"IF(OFFSET([1]DE100_7!$S$261,ROWS($S$261:S331)-1,COLUMNS($S$261:S331)-1)<>\"\",OFFSET([1]DE100_7!$S$261,ROWS($S$261:S331)-1,COLUMNS($S$261:S331)-1),\"\")","v":{"$error":"#VALUE!"}},{"$f":"IF(OFFSET([1]DE100_7!$T$261,ROWS($T$261:T331)-1,COLUMNS($T$261:T331)-1)<>\"\",OFFSET([1]DE100_7!$T$261,ROWS($T$261:T331)-1,COLUMNS($T$261:T331)-1),\"\")","v":{"$error":"#VALUE!"}},{"$f":"IF(OFFSET([1]DE100_7!$U$261,ROWS($U$261:U331)-1,COLUMNS($U$261:U331)-1)<>\"\",OFFSET([1]DE100_7!$U$261,ROWS($U$261:U331)-1,COLUMNS($U$261:U331)-1),\"\")","v":{"$error":"#VALUE!"}},{"$f":"IF(OFFSET([1]DE100_7!$V$261,ROWS($V$261:V331)-1,COLUMNS($V$261:V331)-1)<>\"\",OFFSET([1]DE100_7!$V$261,ROWS($V$261:V331)-1,COLUMNS($V$261:V331)-1),\"\")","v":{"$error":"#VALUE!"}}]
[{"$f":"IF(OFFSET([1]DE100_7!$C$261,ROWS($C$261:C332)-1,COLUMNS($C$261:C332)-1)<>\"\",OFFSET([1]DE100_7!$C$261,ROWS($C$261:C332)-1,COLUMNS($C$261:C332)-1),\"\")","v":{"$error":"#VALUE!"}},{"$f":"IF(OFFSET([1]DE100_7!$D$261,ROWS($D$261:D332)-1,COLUMNS($D$261:D332)-1)<>\"\",OFFSET([1]DE100_7!$D$261,ROWS($D$261:D332)-1,COLUMNS($D$261:D332)-1),\"\")","v":{"$error":"#VALUE!"}},{"$f":"IF(OFFSET([1]DE100_7!$E$261,ROWS($E$261:E332)-1,COLUMNS($E$261:E332)-1)<>\"\",OFFSET([1]DE100_7!$E$261,ROWS($E$261:E332)-1,COLUMNS($E$261:E332)-1),\"\")","v":{"$error":"#VALUE!"}},{"$f":"IF(OFFSET([1]DE100_7!$F$261,ROWS($F$261:F332)-1,COLUMNS($F$261:F332)-1)<>\"\",OFFSET([1]DE100_7!$F$261,ROWS($F$261:F332)-1,COLUMNS($F$261:F332)-1),\"\")","v":{"$error":"#VALUE!"}},{"$f":"IF(OFFSET([1]DE100_7!$G$261,ROWS($G$261:G332)-1,COLUMNS($G$261:G332)-1)<>\"\",OFFSET([1]DE100_7!$G$261,ROWS($G$261:G332)-1,COLUMNS($G$261:G332)-1),\"\")","v":{"$error":"#VALUE!"}},{"$f":"IF(OFFSET([1]DE100_7!$H$261,ROWS($H$261:H332)-1,COLUMNS($H$261:H332)-1)<>\"\",OFFSET([1]DE100_7!$H$261,ROWS($H$261:H332)-1,COLUMNS($H$261:H332)-1),\"\")","v":{"$error":"#VALUE!"}},{"$f":"IF(OFFSET([1]DE100_7!$I$261,ROWS($I$261:I332)-1,COLUMNS($I$261:I332)-1)<>\"\",OFFSET([1]DE100_7!$I$261,ROWS($I$261:I332)-1,COLUMNS($I$261:I332)-1),\"\")","v":{"$error":"#VALUE!"}},{"$f":"IF(OFFSET([1]DE100_7!$J$261,ROWS($J$261:J332)-1,COLUMNS($J$261:J332)-1)<>\"\",OFFSET([1]DE100_7!$J$261,ROWS($J$261:J332)-1,COLUMNS($J$261:J332)-1),\"\")","v":{"$error":"#VALUE!"}},{"$f":"IF(OFFSET([1]DE100_7!$K$261,ROWS($K$261:K332)-1,COLUMNS($K$261:K332)-1)<>\"\",OFFSET([1]DE100_7!$K$261,ROWS($K$261:K332)-1,COLUMNS($K$261:K332)-1),\"\")","v":{"$error":"#VALUE!"}},{"$f":"IF(OFFSET([1]DE100_7!$L$261,ROWS($L$261:L332)-1,COLUMNS($L$261:L332)-1)<>\"\",OFFSET([1]DE100_7!$L$261,ROWS($L$261:L332)-1,COLUMNS($L$261:L332)-1),\"\")","v":{"$error":"#VALUE!"}},{"$f":"IF(OFFSET([1]DE100_7!$M$261,ROWS($M$261:M332)-1,COLUMNS($M$261:M332)-1)<>\"\",OFFSET([1]DE100_7!$M$261,ROWS($M$261:M332)-1,COLUMNS($M$261:M332)-1),\"\")","v":{"$error":"#VALUE!"}},{"$f":"IF(OFFSET([1]DE100_7!$N$261,ROWS($N$261:N332)-1,COLUMNS($N$261:N332)-1)<>\"\",OFFSET([1]DE100_7!$N$261,ROWS($N$261:N332)-1,COLUMNS($N$261:N332)-1),\"\")","v":{"$error":"#VALUE!"}},{"$f":"IF(OFFSET([1]DE100_7!$O$261,ROWS($O$261:O332)-1,COLUMNS($O$261:O332)-1)<>\"\",OFFSET([1]DE100_7!$O$261,ROWS($O$261:O332)-1,COLUMNS($O$261:O332)-1),\"\")","v":{"$error":"#VALUE!"}},{"$f":"IF(OFFSET([1]DE100_7!$P$261,ROWS($P$261:P332)-1,COLUMNS($P$261:P332)-1)<>\"\",OFFSET([1]DE100_7!$P$261,ROWS($P$261:P332)-1,COLUMNS($P$261:P332)-1),\"\")","v":{"$error":"#VALUE!"}},{"$f":"IF(OFFSET([1]DE100_7!$Q$261,ROWS($Q$261:Q332)-1,COLUMNS($Q$261:Q332)-1)<>\"\",OFFSET([1]DE100_7!$Q$261,ROWS($Q$261:Q332)-1,COLUMNS($Q$261:Q332)-1),\"\")","v":{"$error":"#VALUE!"}},{"$f":"IF(OFFSET([1]DE100_7!$R$261,ROWS($R$261:R332)-1,COLUMNS($R$261:R332)-1)<>\"\",OFFSET([1]DE100_7!$R$261,ROWS($R$261:R332)-1,COLUMNS($R$261:R332)-1),\"\")","v":{"$error":"#VALUE!"}},{"$f":"IF(OFFSET([1]DE100_7!$S$261,ROWS($S$261:S332)-1,COLUMNS($S$261:S332)-1)<>\"\",OFFSET([1]DE100_7!$S$261,ROWS($S$261:S332)-1,COLUMNS($S$261:S332)-1),\"\")","v":{"$error":"#VALUE!"}},{"$f":"IF(OFFSET([1]DE100_7!$T$261,ROWS($T$261:T332)-1,COLUMNS($T$261:T332)-1)<>\"\",OFFSET([1]DE100_7!$T$261,ROWS($T$261:T332)-1,COLUMNS($T$261:T332)-1),\"\")","v":{"$error":"#VALUE!"}},{"$f":"IF(OFFSET([1]DE100_7!$U$261,ROWS($U$261:U332)-1,COLUMNS($U$261:U332)-1)<>\"\",OFFSET([1]DE100_7!$U$261,ROWS($U$261:U332)-1,COLUMNS($U$261:U332)-1),\"\")","v":{"$error":"#VALUE!"}},{"$f":"IF(OFFSET([1]DE100_7!$V$261,ROWS($V$261:V332)-1,COLUMNS($V$261:V332)-1)<>\"\",OFFSET([1]DE100_7!$V$261,ROWS($V$261:V332)-1,COLUMNS($V$261:V332)-1),\"\")","v":{"$error":"#VALUE!"}}]
[{"$f":"IF(OFFSET([1]DE100_7!$C$261,ROWS($C$261:C333)-1,COLUMNS($C$261:C333)-1)<>\"\",OFFSET([1]DE100_7!$C$261,ROWS($C$261:C333)-1,COLUMNS($C$261:C333)-1),\"\")","v":{"$error":"#VALUE!"}},{"$f":"IF(OFFSET([1]DE100_7!$D$261,ROWS($D$261:D333)-1,COLUMNS($D$261:D333)-1)<>\"\",OFFSET([1]DE100_7!$D$261,ROWS($D$261:D333)-1,COLUMNS($D$261:D333)-1),\"\")","v":{"$error":"#VALUE!"}},{"$f":"IF(OFFSET([1]DE100_7!$E$261,ROWS($E$261:E333)-1,COLUMNS($E$261:E333)-1)<>\"\",OFFSET([1]DE100_7!$E$261,ROWS($E$261:E333)-1,COLUMNS($E$261:E333)-1),\"\")","v":{"$error":"#VALUE!"}},{"$f":"IF(OFFSET([1]DE100_7!$F$261,ROWS($F$261:F333)-1,COLUMNS($F$261:F333)-1)<>\"\",OFFSET([1]DE100_7!$F$261,ROWS($F$261:F333)-1,COLUMNS($F$261:F333)-1),\"\")","v":{"$error":"#VALUE!"}},{"$f":"IF(OFFSET([1]DE100_7!$G$261,ROWS($G$261:G333)-1,COLUMNS($G$261:G333)-1)<>\"\",OFFSET([1]DE100_7!$G$261,ROWS($G$261:G333)-1,COLUMNS($G$261:G333)-1),\"\")","v":{"$error":"#VALUE!"}},{"$f":"IF(OFFSET([1]DE100_7!$H$261,ROWS($H$261:H333)-1,COLUMNS($H$261:H333)-1)<>\"\",OFFSET([1]DE100_7!$H$261,ROWS($H$261:H333)-1,COLUMNS($H$261:H333)-1),\"\")","v":{"$error":"#VALUE!"}},{"$f":"IF(OFFSET([1]DE100_7!$I$261,ROWS($I$261:I333)-1,COLUMNS($I$261:I333)-1)<>\"\",OFFSET([1]DE100_7!$I$261,ROWS($I$261:I333)-1,COLUMNS($I$261:I333)-1),\"\")","v":{"$error":"#VALUE!"}},{"$f":"IF(OFFSET([1]DE100_7!$J$261,ROWS($J$261:J333)-1,COLUMNS($J$261:J333)-1)<>\"\",OFFSET([1]DE100_7!$J$261,ROWS($J$261:J333)-1,COLUMNS($J$261:J333)-1),\"\")","v":{"$error":"#VALUE!"}},{"$f":"IF(OFFSET([1]DE100_7!$K$261,ROWS($K$261:K333)-1,COLUMNS($K$261:K333)-1)<>\"\",OFFSET([1]DE100_7!$K$261,ROWS($K$261:K333)-1,COLUMNS($K$261:K333)-1),\"\")","v":{"$error":"#VALUE!"}},{"$f":"IF(OFFSET([1]DE100_7!$L$261,ROWS($L$261:L333)-1,COLUMNS($L$261:L333)-1)<>\"\",OFFSET([1]DE100_7!$L$261,ROWS($L$261:L333)-1,COLUMNS($L$261:L333)-1),\"\")","v":{"$error":"#VALUE!"}},{"$f":"IF(OFFSET([1]DE100_7!$M$261,ROWS($M$261:M333)-1,COLUMNS($M$261:M333)-1)<>\"\",OFFSET([1]DE100_7!$M$261,ROWS($M$261:M333)-1,COLUMNS($M$261:M333)-1),\"\")","v":{"$error":"#VALUE!"}},{"$f":"IF(OFFSET([1]DE100_7!$N$261,ROWS($N$261:N333)-1,COLUMNS($N$261:N333)-1)<>\"\",OFFSET([1]DE100_7!$N$261,ROWS($N$261:N333)-1,COLUMNS($N$261:N333)-1),\"\")","v":{"$error":"#VALUE!"}},{"$f":"IF(OFFSET([1]DE100_7!$O$261,ROWS($O$261:O333)-1,COLUMNS($O$261:O333)-1)<>\"\",OFFSET([1]DE100_7!$O$261,ROWS($O$261:O333)-1,COLUMNS($O$261:O333)-1),\"\")","v":{"$error":"#VALUE!"}},{"$f":"IF(OFFSET([1]DE100_7!$P$261,ROWS($P$261:P333)-1,COLUMNS($P$261:P333)-1)<>\"\",OFFSET([1]DE100_7!$P$261,ROWS($P$261:P333)-1,COLUMNS($P$261:P333)-1),\"\")","v":{"$error":"#VALUE!"}},{"$f":"IF(OFFSET([1]DE100_7!$Q$261,ROWS($Q$261:Q333)-1,COLUMNS($Q$261:Q333)-1)<>\"\",OFFSET([1]DE100_7!$Q$261,ROWS($Q$261:Q333)-1,COLUMNS($Q$261:Q333)-1),\"\")","v":{"$error":"#VALUE!"}},{"$f":"IF(OFFSET([1]DE100_7!$R$261,ROWS($R$261:R333)-1,COLUMNS($R$261:R333)-1)<>\"\",OFFSET([1]DE100_7!$R$261,ROWS($R$261:R333)-1,COLUMNS($R$261:R333)-1),\"\")","v":{"$error":"#VALUE!"}},{"$f":"IF(OFFSET([1]DE100_7!$S$261,ROWS($S$261:S333)-1,COLUMNS($S$261:S333)-1)<>\"\",OFFSET([1]DE100_7!$S$261,ROWS($S$261:S333)-1,COLUMNS($S$261:S333)-1),\"\")","v":{"$error":"#VALUE!"}},{"$f":"IF(OFFSET([1]DE100_7!$T$261,ROWS($T$261:T333)-1,COLUMNS($T$261:T333)-1)<>\"\",OFFSET([1]DE100_7!$T$261,ROWS($T$261:T333)-1,COLUMNS($T$261:T333)-1),\"\")","v":{"$error":"#VALUE!"}},{"$f":"IF(OFFSET([1]DE100_7!$U$261,ROWS($U$261:U333)-1,COLUMNS($U$261:U333)-1)<>\"\",OFFSET([1]DE100_7!$U$261,ROWS($U$261:U333)-1,COLUMNS($U$261:U333)-1),\"\")","v":{"$error":"#VALUE!"}},{"$f":"IF(OFFSET([1]DE100_7!$V$261,ROWS($V$261:V333)-1,COLUMNS($V$261:V333)-1)<>\"\",OFFSET([1]DE100_7!$V$261,ROWS($V$261:V333)-1,COLUMNS($V$261:V333)-1),\"\")","v":{"$error":"#VALUE!"}}]
[{"$f":"IF(OFFSET([1]DE100_7!$C$261,ROWS($C$261:C334)-1,COLUMNS($C$261:C334)-1)<>\"\",OFFSET([1]DE100_7!$C$261,ROWS($C$261:C334)-1,COLUMNS($C$261:C334)-1),\"\")","v":{"$error":"#VALUE!"}},null,null,null,{"$f":"IF(OFFSET([1]DE100_7!$G$261,ROWS($G$261:G334)-1,COLUMNS($G$261:G334)-1)<>\"\",OFFSET([1]DE100_7!$G$261,ROWS($G$261:G334)-1,COLUMNS($G$261:G334)-1),\"\")","v":{"$error":"#VALUE!"}},{"$f":"IF(OFFSET([1]DE100_7!$H$261,ROWS($H$261:H334)-1,COLUMNS($H$261:H334)-1)<>\"\",OFFSET([1]DE100_7!$H$261,ROWS($H$261:H334)-1,COLUMNS($H$261:H334)-1),\"\")","v":{"$error":"#VALUE!"}},{"$f":"IF(OFFSET([1]DE100_7!$I$261,ROWS($I$261:I334)-1,COLUMNS($I$261:I334)-1)<>\"\",OFFSET([1]DE100_7!$I$261,ROWS($I$261:I334)-1,COLUMNS($I$261:I334)-1),\"\")","v":{"$error":"#VALUE!"}},{"$f":"IF(OFFSET([1]DE100_7!$J$261,ROWS($J$261:J334)-1,COLUMNS($J$261:J334)-1)<>\"\",OFFSET([1]DE100_7!$J$261,ROWS($J$261:J334)-1,COLUMNS($J$261:J334)-1),\"\")","v":{"$error":"#VALUE!"}},{"$f":"IF(OFFSET([1]DE100_7!$K$261,ROWS($K$261:K334)-1,COLUMNS($K$261:K334)-1)<>\"\",OFFSET([1]DE100_7!$K$261,ROWS($K$261:K334)-1,COLUMNS($K$261:K334)-1),\"\")","v":{"$error":"#VALUE!"}},{"$f":"IF(OFFSET([1]DE100_7!$L$261,ROWS($L$261:L334)-1,COLUMNS($L$261:L334)-1)<>\"\",OFFSET([1]DE100_7!$L$261,ROWS($L$261:L334)-1,COLUMNS($L$261:L334)-1),\"\")","v":{"$error":"#VALUE!"}},{"$f":"IF(OFFSET([1]DE100_7!$M$261,ROWS($M$261:M334)-1,COLUMNS($M$261:M334)-1)<>\"\",OFFSET([1]DE100_7!$M$261,ROWS($M$261:M334)-1,COLUMNS($M$261:M334)-1),\"\")","v":{"$error":"#VALUE!"}},{"$f":"IF(OFFSET([1]DE100_7!$N$261,ROWS($N$261:N334)-1,COLUMNS($N$261:N334)-1)<>\"\",OFFSET([1]DE100_7!$N$261,ROWS($N$261:N334)-1,COLUMNS($N$261:N334)-1),\"\")","v":{"$error":"#VALUE!"}},{"$f":"IF(OFFSET([1]DE100_7!$O$261,ROWS($O$261:O334)-1,COLUMNS($O$261:O334)-1)<>\"\",OFFSET([1]DE100_7!$O$261,ROWS($O$261:O334)-1,COLUMNS($O$261:O334)-1),\"\")","v":{"$error":"#VALUE!"}},{"$f":"IF(OFFSET([1]DE100_7!$P$261,ROWS($P$261:P334)-1,COLUMNS($P$261:P334)-1)<>\"\",OFFSET([1]DE100_7!$P$261,ROWS($P$261:P334)-1,COLUMNS($P$261:P334)-1),\"\")","v":{"$error":"#VALUE!"}},{"$f":"IF(OFFSET([1]DE100_7!$Q$261,ROWS($Q$261:Q334)-1,COLUMNS($Q$261:Q334)-1)<>\"\",OFFSET([1]DE100_7!$Q$261,ROWS($Q$261:Q334)-1,COLUMNS($Q$261:Q334)-1),\"\")","v":{"$error":"#VALUE!"}},{"$f":"IF(OFFSET([1]DE100_7!$R$261,ROWS($R$261:R334)-1,COLUMNS($R$261:R334)-1)<>\"\",OFFSET([1]DE100_7!$R$261,ROWS($R$261:R334)-1,COLUMNS($R$261:R334)-1),\"\")","v":{"$error":"#VALUE!"}},{"$f":"IF(OFFSET([1]DE100_7!$S$261,ROWS($S$261:S334)-1,COLUMNS($S$261:S334)-1)<>\"\",OFFSET([1]DE100_7!$S$261,ROWS($S$261:S334)-1,COLUMNS($S$261:S334)-1),\"\")","v":{"$error":"#VALUE!"}},{"$f":"IF(OFFSET([1]DE100_7!$T$261,ROWS($T$261:T334)-1,COLUMNS($T$261:T334)-1)<>\"\",OFFSET([1]DE100_7!$T$261,ROWS($T$261:T334)-1,COLUMNS($T$261:T334)-1),\"\")","v":{"$error":"#VALUE!"}},{"$f":"IF(OFFSET([1]DE100_7!$U$261,ROWS($U$261:U334)-1,COLUMNS($U$261:U334)-1)<>\"\",OFFSET([1]DE100_7!$U$261,ROWS($U$261:U334)-1,COLUMNS($U$261:U334)-1),\"\")","v":{"$error":"#VALUE!"}},{"$f":"IF(OFFSET([1]DE100_7!$V$261,ROWS($V$261:V334)-1,COLUMNS($V$261:V334)-1)<>\"\",OFFSET([1]DE100_7!$V$261,ROWS($V$261:V334)-1,COLUMNS($V$261:V334)-1),\"\")","v":{"$error":"#VALUE!"}}]
[{"$f":"IF(OFFSET([1]DE100_7!$C$261,ROWS($C$261:C335)-1,COLUMNS($C$261:C335)-1)<>\"\",OFFSET([1]DE100_7!$C$261,ROWS($C$261:C335)-1,COLUMNS($C$261:C335)-1),\"\")","v":{"$error":"#VALUE!"}},{"$f":"IF(OFFSET([1]DE100_7!$D$261,ROWS($D$261:D335)-1,COLUMNS($D$261:D335)-1)<>\"\",OFFSET([1]DE100_7!$D$261,ROWS($D$261:D335)-1,COLUMNS($D$261:D335)-1),\"\")","v":{"$error":"#VALUE!"}},{"$f":"IF(OFFSET([1]DE100_7!$E$261,ROWS($E$261:E335)-1,COLUMNS($E$261:E335)-1)<>\"\",OFFSET([1]DE100_7!$E$261,ROWS($E$261:E335)-1,COLUMNS($E$261:E335)-1),\"\")","v":{"$error":"#VALUE!"}},{"$f":"IF(OFFSET([1]DE100_7!$F$261,ROWS($F$261:F335)-1,COLUMNS($F$261:F335)-1)<>\"\",OFFSET([1]DE100_7!$F$261,ROWS($F$261:F335)-1,COLUMNS($F$261:F335)-1),\"\")","v":{"$error":"#VALUE!"}},{"$f":"IF(OFFSET([1]DE100_7!$G$261,ROWS($G$261:G335)-1,COLUMNS($G$261:G335)-1)<>\"\",OFFSET([1]DE100_7!$G$261,ROWS($G$261:G335)-1,COLUMNS($G$261:G335)-1),\"\")","v":{"$error":"#VALUE!"}},{"$f":"IF(OFFSET([1]DE100_7!$H$261,ROWS($H$261:H335)-1,COLUMNS($H$261:H335)-1)<>\"\",OFFSET([1]DE100_7!$H$261,ROWS($H$261:H335)-1,COLUMNS($H$261:H335)-1),\"\")","v":{"$error":"#VALUE!"}},{"$f":"IF(OFFSET([1]DE100_7!$I$261,ROWS($I$261:I335)-1,COLUMNS($I$261:I335)-1)<>\"\",OFFSET([1]DE100_7!$I$261,ROWS($I$261:I335)-1,COLUMNS($I$261:I335)-1),\"\")","v":{"$error":"#VALUE!"}},{"$f":"IF(OFFSET([1]DE100_7!$J$261,ROWS($J$261:J335)-1,COLUMNS($J$261:J335)-1)<>\"\",OFFSET([1]DE100_7!$J$261,ROWS($J$261:J335)-1,COLUMNS($J$261:J335)-1),\"\")","v":{"$error":"#VALUE!"}},{"$f":"IF(OFFSET([1]DE100_7!$K$261,ROWS($K$261:K335)-1,COLUMNS($K$261:K335)-1)<>\"\",OFFSET([1]DE100_7!$K$261,ROWS($K$261:K335)-1,COLUMNS($K$261:K335)-1),\"\")","v":{"$error":"#VALUE!"}},{"$f":"IF(OFFSET([1]DE100_7!$L$261,ROWS($L$261:L335)-1,COLUMNS($L$261:L335)-1)<>\"\",OFFSET([1]DE100_7!$L$261,ROWS($L$261:L335)-1,COLUMNS($L$261:L335)-1),\"\")","v":{"$error":"#VALUE!"}},{"$f":"IF(OFFSET([1]DE100_7!$M$261,ROWS($M$261:M335)-1,COLUMNS($M$261:M335)-1)<>\"\",OFFSET([1]DE100_7!$M$261,ROWS($M$261:M335)-1,COLUMNS($M$261:M335)-1),\"\")","v":{"$error":"#VALUE!"}},{"$f":"IF(OFFSET([1]DE100_7!$N$261,ROWS($N$261:N335)-1,COLUMNS($N$261:N335)-1)<>\"\",OFFSET([1]DE100_7!$N$261,ROWS($N$261:N335)-1,COLUMNS($N$261:N335)-1),\"\")","v":{"$error":"#VALUE!"}},{"$f":"IF(OFFSET([1]DE100_7!$O$261,ROWS($O$261:O335)-1,COLUMNS($O$261:O335)-1)<>\"\",OFFSET([1]DE100_7!$O$261,ROWS($O$261:O335)-1,COLUMNS($O$261:O335)-1),\"\")","v":{"$error":"#VALUE!"}},{"$f":"IF(OFFSET([1]DE100_7!$P$261,ROWS($P$261:P335)-1,COLUMNS($P$261:P335)-1)<>\"\",OFFSET([1]DE100_7!$P$261,ROWS($P$261:P335)-1,COLUMNS($P$261:P335)-1),\"\")","v":{"$error":"#VALUE!"}},{"$f":"IF(OFFSET([1]DE100_7!$Q$261,ROWS($Q$261:Q335)-1,COLUMNS($Q$261:Q335)-1)<>\"\",OFFSET([1]DE100_7!$Q$261,ROWS($Q$261:Q335)-1,COLUMNS($Q$261:Q335)-1),\"\")","v":{"$error":"#VALUE!"}},{"$f":"IF(OFFSET([1]DE100_7!$R$261,ROWS($R$261:R335)-1,COLUMNS($R$261:R335)-1)<>\"\",OFFSET([1]DE100_7!$R$261,ROWS($R$261:R335)-1,COLUMNS($R$261:R335)-1),\"\")","v":{"$error":"#VALUE!"}},{"$f":"IF(OFFSET([1]DE100_7!$S$261,ROWS($S$261:S335)-1,COLUMNS($S$261:S335)-1)<>\"\",OFFSET([1]DE100_7!$S$261,ROWS($S$261:S335)-1,COLUMNS($S$261:S335)-1),\"\")","v":{"$error":"#VALUE!"}},{"$f":"IF(OFFSET([1]DE100_7!$T$261,ROWS($T$261:T335)-1,COLUMNS($T$261:T335)-1)<>\"\",OFFSET([1]DE100_7!$T$261,ROWS($T$261:T335)-1,COLUMNS($T$261:T335)-1),\"\")","v":{"$error":"#VALUE!"}},{"$f":"IF(OFFSET([1]DE100_7!$U$261,ROWS($U$261:U335)-1,COLUMNS($U$261:U335)-1)<>\"\",OFFSET([1]DE100_7!$U$261,ROWS($U$261:U335)-1,COLUMNS($U$261:U335)-1),\"\")","v":{"$error":"#VALUE!"}},{"$f":"IF(OFFSET([1]DE100_7!$V$261,ROWS($V$261:V335)-1,COLUMNS($V$261:V335)-1)<>\"\",OFFSET([1]DE100_7!$V$261,ROWS($V$261:V335)-1,COLUMNS($V$261:V335)-1),\"\")","v":{"$error":"#VALUE!"}}]
[{"$f":"IF(OFFSET([1]DE100_7!$C$261,ROWS($C$261:C336)-1,COLUMNS($C$261:C336)-1)<>\"\",OFFSET([1]DE100_7!$C$261,ROWS($C$261:C336)-1,COLUMNS($C$261:C336)-1),\"\")","v":{"$error":"#VALUE!"}},{"$f":"IF(OFFSET([1]DE100_7!$D$261,ROWS($D$261:D336)-1,COLUMNS($D$261:D336)-1)<>\"\",OFFSET([1]DE100_7!$D$261,ROWS($D$261:D336)-1,COLUMNS($D$261:D336)-1),\"\")","v":{"$error":"#VALUE!"}},{"$f":"IF(OFFSET([1]DE100_7!$E$261,ROWS($E$261:E336)-1,COLUMNS($E$261:E336)-1)<>\"\",OFFSET([1]DE100_7!$E$261,ROWS($E$261:E336)-1,COLUMNS($E$261:E336)-1),\"\")","v":{"$error":"#VALUE!"}},{"$f":"IF(OFFSET([1]DE100_7!$F$261,ROWS($F$261:F336)-1,COLUMNS($F$261:F336)-1)<>\"\",OFFSET([1]DE100_7!$F$261,ROWS($F$261:F336)-1,COLUMNS($F$261:F336)-1),\"\")","v":{"$error":"#VALUE!"}},{"$f":"IF(OFFSET([1]DE100_7!$G$261,ROWS($G$261:G336)-1,COLUMNS($G$261:G336)-1)<>\"\",OFFSET([1]DE100_7!$G$261,ROWS($G$261:G336)-1,COLUMNS($G$261:G336)-1),\"\")","v":{"$error":"#VALUE!"}},{"$f":"IF(OFFSET([1]DE100_7!$H$261,ROWS($H$261:H336)-1,COLUMNS($H$261:H336)-1)<>\"\",OFFSET([1]DE100_7!$H$261,ROWS($H$261:H336)-1,COLUMNS($H$261:H336)-1),\"\")","v":{"$error":"#VALUE!"}},{"$f":"IF(OFFSET([1]DE100_7!$I$261,ROWS($I$261:I336)-1,COLUMNS($I$261:I336)-1)<>\"\",OFFSET([1]DE100_7!$I$261,ROWS($I$261:I336)-1,COLUMNS($I$261:I336)-1),\"\")","v":{"$error":"#VALUE!"}},{"$f":"IF(OFFSET([1]DE100_7!$J$261,ROWS($J$261:J336)-1,COLUMNS($J$261:J336)-1)<>\"\",OFFSET([1]DE100_7!$J$261,ROWS($J$261:J336)-1,COLUMNS($J$261:J336)-1),\"\")","v":{"$error":"#VALUE!"}},{"$f":"IF(OFFSET([1]DE100_7!$K$261,ROWS($K$261:K336)-1,COLUMNS($K$261:K336)-1)<>\"\",OFFSET([1]DE100_7!$K$261,ROWS($K$261:K336)-1,COLUMNS($K$261:K336)-1),\"\")","v":{"$error":"#VALUE!"}},{"$f":"IF(OFFSET([1]DE100_7!$L$261,ROWS($L$261:L336)-1,COLUMNS($L$261:L336)-1)<>\"\",OFFSET([1]DE100_7!$L$261,ROWS($L$261:L336)-1,COLUMNS($L$261:L336)-1),\"\")","v":{"$error":"#VALUE!"}},{"$f":"IF(OFFSET([1]DE100_7!$M$261,ROWS($M$261:M336)-1,COLUMNS($M$261:M336)-1)<>\"\",OFFSET([1]DE100_7!$M$261,ROWS($M$261:M336)-1,COLUMNS($M$261:M336)-1),\"\")","v":{"$error":"#VALUE!"}},{"$f":"IF(OFFSET([1]DE100_7!$N$261,ROWS($N$261:N336)-1,COLUMNS($N$261:N336)-1)<>\"\",OFFSET([1]DE100_7!$N$261,ROWS($N$261:N336)-1,COLUMNS($N$261:N336)-1),\"\")","v":{"$error":"#VALUE!"}},{"$f":"IF(OFFSET([1]DE100_7!$O$261,ROWS($O$261:O336)-1,COLUMNS($O$261:O336)-1)<>\"\",OFFSET([1]DE100_7!$O$261,ROWS($O$261:O336)-1,COLUMNS($O$261:O336)-1),\"\")","v":{"$error":"#VALUE!"}},{"$f":"IF(OFFSET([1]DE100_7!$P$261,ROWS($P$261:P336)-1,COLUMNS($P$261:P336)-1)<>\"\",OFFSET([1]DE100_7!$P$261,ROWS($P$261:P336)-1,COLUMNS($P$261:P336)-1),\"\")","v":{"$error":"#VALUE!"}},{"$f":"IF(OFFSET([1]DE100_7!$Q$261,ROWS($Q$261:Q336)-1,COLUMNS($Q$261:Q336)-1)<>\"\",OFFSET([1]DE100_7!$Q$261,ROWS($Q$261:Q336)-1,COLUMNS($Q$261:Q336)-1),\"\")","v":{"$error":"#VALUE!"}},{"$f":"IF(OFFSET([1]DE100_7!$R$261,ROWS($R$261:R336)-1,COLUMNS($R$261:R336)-1)<>\"\",OFFSET([1]DE100_7!$R$261,ROWS($R$261:R336)-1,COLUMNS($R$261:R336)-1),\"\")","v":{"$error":"#VALUE!"}},{"$f":"IF(OFFSET([1]DE100_7!$S$261,ROWS($S$261:S336)-1,COLUMNS($S$261:S336)-1)<>\"\",OFFSET([1]DE100_7!$S$261,ROWS($S$261:S336)-1,COLUMNS($S$261:S336)-1),\"\")","v":{"$error":"#VALUE!"}},{"$f":"IF(OFFSET([1]DE100_7!$T$261,ROWS($T$261:T336)-1,COLUMNS($T$261:T336)-1)<>\"\",OFFSET([1]DE100_7!$T$261,ROWS($T$261:T336)-1,COLUMNS($T$261:T336)-1),\"\")","v":{"$error":"#VALUE!"}},{"$f":"IF(OFFSET([1]DE100_7!$U$261,ROWS($U$261:U336)-1,COLUMNS($U$261:U336)-1)<>\"\",OFFSET([1]DE100_7!$U$261,ROWS($U$261:U336)-1,COLUMNS($U$261:U336)-1),\"\")","v":{"$error":"#VALUE!"}},{"$f":"IF(OFFSET([1]DE100_7!$V$261,ROWS($V$261:V336)-1,COLUMNS($V$261:V336)-1)<>\"\",OFFSET([1]DE100_7!$V$261,ROWS($V$261:V336)-1,COLUMNS($V$261:V336)-1),\"\")","v":{"$error":"#VALUE!"}}]
[{"$f":"IF(OFFSET([1]DE100_7!$C$261,ROWS($C$261:C337)-1,COLUMNS($C$261:C337)-1)<>\"\",OFFSET([1]DE100_7!$C$261,ROWS($C$261:C337)-1,COLUMNS($C$261:C337)-1),\"\")","v":{"$error":"#VALUE!"}},{"$f":"IF(OFFSET([1]DE100_7!$D$261,ROWS($D$261:D337)-1,COLUMNS($D$261:D337)-1)<>\"\",OFFSET([1]DE100_7!$D$261,ROWS($D$261:D337)-1,COLUMNS($D$261:D337)-1),\"\")","v":{"$error":"#VALUE!"}},{"$f":"IF(OFFSET([1]DE100_7!$E$261,ROWS($E$261:E337)-1,COLUMNS($E$261:E337)-1)<>\"\",OFFSET([1]DE100_7!$E$261,ROWS($E$261:E337)-1,COLUMNS($E$261:E337)-1),\"\")","v":{"$error":"#VALUE!"}},{"$f":"IF(OFFSET([1]DE100_7!$F$261,ROWS($F$261:F337)-1,COLUMNS($F$261:F337)-1)<>\"\",OFFSET([1]DE100_7!$F$261,ROWS($F$261:F337)-1,COLUMNS($F$261:F337)-1),\"\")","v":{"$error":"#VALUE!"}},{"$f":"IF(OFFSET([1]DE100_7!$G$261,ROWS($G$261:G337)-1,COLUMNS($G$261:G337)-1)<>\"\",OFFSET([1]DE100_7!$G$261,ROWS($G$261:G337)-1,COLUMNS($G$261:G337)-1),\"\")","v":{"$error":"#VALUE!"}},{"$f":"IF(OFFSET([1]DE100_7!$H$261,ROWS($H$261:H337)-1,COLUMNS($H$261:H337)-1)<>\"\",OFFSET([1]DE100_7!$H$261,ROWS($H$261:H337)-1,COLUMNS($H$261:H337)-1),\"\")","v":{"$error":"#VALUE!"}},{"$f":"IF(OFFSET([1]DE100_7!$I$261,ROWS($I$261:I337)-1,COLUMNS($I$261:I337)-1)<>\"\",OFFSET([1]DE100_7!$I$261,ROWS($I$261:I337)-1,COLUMNS($I$261:I337)-1),\"\")","v":{"$error":"#VALUE!"}},{"$f":"IF(OFFSET([1]DE100_7!$J$261,ROWS($J$261:J337)-1,COLUMNS($J$261:J337)-1)<>\"\",OFFSET([1]DE100_7!$J$261,ROWS($J$261:J337)-1,COLUMNS($J$261:J337)-1),\"\")","v":{"$error":"#VALUE!"}},{"$f":"IF(OFFSET([1]DE100_7!$K$261,ROWS($K$261:K337)-1,COLUMNS($K$261:K337)-1)<>\"\",OFFSET([1]DE100_7!$K$261,ROWS($K$261:K337)-1,COLUMNS($K$261:K337)-1),\"\")","v":{"$error":"#VALUE!"}},{"$f":"IF(OFFSET([1]DE100_7!$L$261,ROWS($L$261:L337)-1,COLUMNS($L$261:L337)-1)<>\"\",OFFSET([1]DE100_7!$L$261,ROWS($L$261:L337)-1,COLUMNS($L$261:L337)-1),\"\")","v":{"$error":"#VALUE!"}},{"$f":"IF(OFFSET([1]DE100_7!$M$261,ROWS($M$261:M337)-1,COLUMNS($M$261:M337)-1)<>\"\",OFFSET([1]DE100_7!$M$261,ROWS($M$261:M337)-1,COLUMNS($M$261:M337)-1),\"\")","v":{"$error":"#VALUE!"}},{"$f":"IF(OFFSET([1]DE100_7!$N$261,ROWS($N$261:N337)-1,COLUMNS($N$261:N337)-1)<>\"\",OFFSET([1]DE100_7!$N$261,ROWS($N$261:N337)-1,COLUMNS($N$261:N337)-1),\"\")","v":{"$error":"#VALUE!"}},{"$f":"IF(OFFSET([1]DE100_7!$O$261,ROWS($O$261:O337)-1,COLUMNS($O$261:O337)-1)<>\"\",OFFSET([1]DE100_7!$O$261,ROWS($O$261:O337)-1,COLUMNS($O$261:O337)-1),\"\")","v":{"$error":"#VALUE!"}},{"$f":"IF(OFFSET([1]DE100_7!$P$261,ROWS($P$261:P337)-1,COLUMNS($P$261:P337)-1)<>\"\",OFFSET([1]DE100_7!$P$261,ROWS($P$261:P337)-1,COLUMNS($P$261:P337)-1),\"\")","v":{"$error":"#VALUE!"}},{"$f":"IF(OFFSET([1]DE100_7!$Q$261,ROWS($Q$261:Q337)-1,COLUMNS($Q$261:Q337)-1)<>\"\",OFFSET([1]DE100_7!$Q$261,ROWS($Q$261:Q337)-1,COLUMNS($Q$261:Q337)-1),\"\")","v":{"$error":"#VALUE!"}},{"$f":"IF(OFFSET([1]DE100_7!$R$261,ROWS($R$261:R337)-1,COLUMNS($R$261:R337)-1)<>\"\",OFFSET([1]DE100_7!$R$261,ROWS($R$261:R337)-1,COLUMNS($R$261:R337)-1),\"\")","v":{"$error":"#VALUE!"}},{"$f":"IF(OFFSET([1]DE100_7!$S$261,ROWS($S$261:S337)-1,COLUMNS($S$261:S337)-1)<>\"\",OFFSET([1]DE100_7!$S$261,ROWS($S$261:S337)-1,COLUMNS($S$261:S337)-1),\"\")","v":{"$error":"#VALUE!"}},{"$f":"IF(OFFSET([1]DE100_7!$T$261,ROWS($T$261:T337)-1,COLUMNS($T$261:T337)-1)<>\"\",OFFSET([1]DE100_7!$T$261,ROWS($T$261:T337)-1,COLUMNS($T$261:T337)-1),\"\")","v":{"$error":"#VALUE!"}},{"$f":"IF(OFFSET([1]DE100_7!$U$261,ROWS($U$261:U337)-1,COLUMNS($U$261:U337)-1)<>\"\",OFFSET([1]DE100_7!$U$261,ROWS($U$261:U337)-1,COLUMNS($U$261:U337)-1),\"\")","v":{"$error":"#VALUE!"}},{"$f":"IF(OFFSET([1]DE100_7!$V$261,ROWS($V$261:V337)-1,COLUMNS($V$261:V337)-1)<>\"\",OFFSET([1]DE100_7!$V$261,ROWS($V$261:V337)-1,COLUMNS($V$261:V337)-1),\"\")","v":{"$error":"#VALUE!"}}]
[{"$f":"IF(OFFSET([1]DE100_7!$C$261,ROWS($C$261:C338)-1,COLUMNS($C$261:C338)-1)<>\"\",OFFSET([1]DE100_7!$C$261,ROWS($C$261:C338)-1,COLUMNS($C$261:C338)-1),\"\")","v":{"$error":"#VALUE!"}},{"$f":"IF(OFFSET([1]DE100_7!$D$261,ROWS($D$261:D338)-1,COLUMNS($D$261:D338)-1)<>\"\",OFFSET([1]DE100_7!$D$261,ROWS($D$261:D338)-1,COLUMNS($D$261:D338)-1),\"\")","v":{"$error":"#VALUE!"}},{"$f":"IF(OFFSET([1]DE100_7!$E$261,ROWS($E$261:E338)-1,COLUMNS($E$261:E338)-1)<>\"\",OFFSET([1]DE100_7!$E$261,ROWS($E$261:E338)-1,COLUMNS($E$261:E338)-1),\"\")","v":{"$error":"#VALUE!"}},{"$f":"IF(OFFSET([1]DE100_7!$F$261,ROWS($F$261:F338)-1,COLUMNS($F$261:F338)-1)<>\"\",OFFSET([1]DE100_7!$F$261,ROWS($F$261:F338)-1,COLUMNS($F$261:F338)-1),\"\")","v":{"$error":"#VALUE!"}},{"$f":"IF(OFFSET([1]DE100_7!$G$261,ROWS($G$261:G338)-1,COLUMNS($G$261:G338)-1)<>\"\",OFFSET([1]DE100_7!$G$261,ROWS($G$261:G338)-1,COLUMNS($G$261:G338)-1),\"\")","v":{"$error":"#VALUE!"}},{"$f":"IF(OFFSET([1]DE100_7!$H$261,ROWS($H$261:H338)-1,COLUMNS($H$261:H338)-1)<>\"\",OFFSET([1]DE100_7!$H$261,ROWS($H$261:H338)-1,COLUMNS($H$261:H338)-1),\"\")","v":{"$error":"#VALUE!"}},{"$f":"IF(OFFSET([1]DE100_7!$I$261,ROWS($I$261:I338)-1,COLUMNS($I$261:I338)-1)<>\"\",OFFSET([1]DE100_7!$I$261,ROWS($I$261:I338)-1,COLUMNS($I$261:I338)-1),\"\")","v":{"$error":"#VALUE!"}},{"$f":"IF(OFFSET([1]DE100_7!$J$261,ROWS($J$261:J338)-1,COLUMNS($J$261:J338)-1)<>\"\",OFFSET([1]DE100_7!$J$261,ROWS($J$261:J338)-1,COLUMNS($J$261:J338)-1),\"\")","v":{"$error":"#VALUE!"}},{"$f":"IF(OFFSET([1]DE100_7!$K$261,ROWS($K$261:K338)-1,COLUMNS($K$261:K338)-1)<>\"\",OFFSET([1]DE100_7!$K$261,ROWS($K$261:K338)-1,COLUMNS($K$261:K338)-1),\"\")","v":{"$error":"#VALUE!"}},{"$f":"IF(OFFSET([1]DE100_7!$L$261,ROWS($L$261:L338)-1,COLUMNS($L$261:L338)-1)<>\"\",OFFSET([1]DE100_7!$L$261,ROWS($L$261:L338)-1,COLUMNS($L$261:L338)-1),\"\")","v":{"$error":"#VALUE!"}},{"$f":"IF(OFFSET([1]DE100_7!$M$261,ROWS($M$261:M338)-1,COLUMNS($M$261:M338)-1)<>\"\",OFFSET([1]DE100_7!$M$261,ROWS($M$261:M338)-1,COLUMNS($M$261:M338)-1),\"\")","v":{"$error":"#VALUE!"}},{"$f":"IF(OFFSET([1]DE100_7!$N$261,ROWS($N$261:N338)-1,COLUMNS($N$261:N338)-1)<>\"\",OFFSET([1]DE100_7!$N$261,ROWS($N$261:N338)-1,COLUMNS($N$261:N338)-1),\"\")","v":{"$error":"#VALUE!"}},{"$f":"IF(OFFSET([1]DE100_7!$O$261,ROWS($O$261:O338)-1,COLUMNS($O$261:O338)-1)<>\"\",OFFSET([1]DE100_7!$O$261,ROWS($O$261:O338)-1,COLUMNS($O$261:O338)-1),\"\")","v":{"$error":"#VALUE!"}},{"$f":"IF(OFFSET([1]DE100_7!$P$261,ROWS($P$261:P338)-1,COLUMNS($P$261:P338)-1)<>\"\",OFFSET([1]DE100_7!$P$261,ROWS($P$261:P338)-1,COLUMNS($P$261:P338)-1),\"\")","v":{"$error":"#VALUE!"}},{"$f":"IF(OFFSET([1]DE100_7!$Q$261,ROWS($Q$261:Q338)-1,COLUMNS($Q$261:Q338)-1)<>\"\",OFFSET([1]DE100_7!$Q$261,ROWS($Q$261:Q338)-1,COLUMNS($Q$261:Q338)-1),\"\")","v":{"$error":"#VALUE!"}},{"$f":"IF(OFFSET([1]DE100_7!$R$261,ROWS($R$261:R338)-1,COLUMNS($R$261:R338)-1)<>\"\",OFFSET([1]DE100_7!$R$261,ROWS($R$261:R338)-1,COLUMNS($R$261:R338)-1),\"\")","v":{"$error":"#VALUE!"}},{"$f":"IF(OFFSET([1]DE100_7!$S$261,ROWS($S$261:S338)-1,COLUMNS($S$261:S338)-1)<>\"\",OFFSET([1]DE100_7!$S$261,ROWS($S$261:S338)-1,COLUMNS($S$261:S338)-1),\"\")","v":{"$error":"#VALUE!"}},{"$f":"IF(OFFSET([1]DE100_7!$T$261,ROWS($T$261:T338)-1,COLUMNS($T$261:T338)-1)<>\"\",OFFSET([1]DE100_7!$T$261,ROWS($T$261:T338)-1,COLUMNS($T$261:T338)-1),\"\")","v":{"$error":"#VALUE!"}},{"$f":"IF(OFFSET([1]DE100_7!$U$261,ROWS($U$261:U338)-1,COLUMNS($U$261:U338)-1)<>\"\",OFFSET([1]DE100_7!$U$261,ROWS($U$261:U338)-1,COLUMNS($U$261:U338)-1),\"\")","v":{"$error":"#VALUE!"}},{"$f":"IF(OFFSET([1]DE100_7!$V$261,ROWS($V$261:V338)-1,COLUMNS($V$261:V338)-1)<>\"\",OFFSET([1]DE100_7!$V$261,ROWS($V$261:V338)-1,COLUMNS($V$261:V338)-1),\"\")","v":{"$error":"#VALUE!"}}]
["100-7"]
["2012-10-16"]
["FENCING"]
[]
[" * Bid Item"]
["Refer to MI-101, MI-102, MI-103, MI-104, 510-3, and 510-5"]
["Location",null,null,null,"Side","Chain Link",null,null,null,"Deer",null,null,null,"Field",null,null,null,"Channel Crossing",null,"Remarks"]
["From",null,"To"]
["Station","Offset","Station","Offset",null,"Fence",null,"Gate",null,"Fence Length*","Brace Panels*","Gate",null,"Fence Length*","Brace Panels*","Gate"]
[null,null,null,null,null,"Length*","Type","No.*","Type",null,null,"No.*","Type",null,null,"No.*","Type","Length*","Type"]
[]
[null,null,null,null,null,"LF",null,"EACH",null,"LF","EACH","EACH",null,"LF","EACH","EACH",null,"LF"]
[{"$f":"IF(OFFSET([1]DE100_7!$C$339,ROWS($C$339:C339)-1,COLUMNS($C$339:C339)-1)<>\"\",OFFSET([1]DE100_7!$C$339,ROWS($C$339:C339)-1,COLUMNS($C$339:C339)-1),\"\")","v":{"$error":"#VALUE!"}},{"$f":"IF(OFFSET([1]DE100_7!$D$339,ROWS($D$339:D339)-1,COLUMNS($D$339:D339)-1)<>\"\",OFFSET([1]DE100_7!$D$339,ROWS($D$339:D339)-1,COLUMNS($D$339:D339)-1),\"\")","v":{"$error":"#VALUE!"}},{"$f":"IF(OFFSET([1]DE100_7!$E$339,ROWS($E$339:E339)-1,COLUMNS($E$339:E339)-1)<>\"\",OFFSET([1]DE100_7!$E$339,ROWS($E$339:E339)-1,COLUMNS($E$339:E339)-1),\"\")","v":{"$error":"#VALUE!"}},{"$f":"IF(OFFSET([1]DE100_7!$F$339,ROWS($F$339:F339)-1,COLUMNS($F$339:F339)-1)<>\"\",OFFSET([1]DE100_7!$F$339,ROWS($F$339:F339)-1,COLUMNS($F$339:F339)-1),\"\")","v":{"$error":"#VALUE!"}},{"$f":"IF(OFFSET([1]DE100_7!$G$339,ROWS($G$339:G339)-1,COLUMNS($G$339:G339)-1)<>\"\",OFFSET([1]DE100_7!$G$339,ROWS($G$339:G339)-1,COLUMNS($G$339:G339)-1),\"\")","v":{"$error":"#VALUE!"}},{"$f":"IF(OFFSET([1]DE100_7!$H$339,ROWS($H$339:H339)-1,COLUMNS($H$339:H339)-1)<>\"\",OFFSET([1]DE100_7!$H$339,ROWS($H$339:H339)-1,COLUMNS($H$339:H339)-1),\"\")","v":{"$error":"#VALUE!"}},{"$f":"IF(OFFSET([1]DE100_7!$I$339,ROWS($I$339:I339)-1,COLUMNS($I$339:I339)-1)<>\"\",OFFSET([1]DE100_7!$I$339,ROWS($I$339:I339)-1,COLUMNS($I$339:I339)-1),\"\")","v":{"$error":"#VALUE!"}},{"$f":"IF(OFFSET([1]DE100_7!$J$339,ROWS($J$339:J339)-1,COLUMNS($J$339:J339)-1)<>\"\",OFFSET([1]DE100_7!$J$339,ROWS($J$339:J339)-1,COLUMNS($J$339:J339)-1),\"\")","v":{"$error":"#VALUE!"}},{"$f":"IF(OFFSET([1]DE100_7!$K$339,ROWS($K$339:K339)-1,COLUMNS($K$339:K339)-1)<>\"\",OFFSET([1]DE100_7!$K$339,ROWS($K$339:K339)-1,COLUMNS($K$339:K339)-1),\"\")","v":{"$error":"#VALUE!"}},{"$f":"IF(OFFSET([1]DE100_7!$L$339,ROWS($L$339:L339)-1,COLUMNS($L$339:L339)-1)<>\"\",OFFSET([1]DE100_7!$L$339,ROWS($L$339:L339)-1,COLUMNS($L$339:L339)-1),\"\")","v":{"$error":"#VALUE!"}},{"$f":"IF(OFFSET([1]DE100_7!$M$339,ROWS($M$339:M339)-1,COLUMNS($M$339:M339)-1)<>\"\",OFFSET([1]DE100_7!$M$339,ROWS($M$339:M339)-1,COLUMNS($M$339:M339)-1),\"\")","v":{"$error":"#VALUE!"}},{"$f":"IF(OFFSET([1]DE100_7!$N$339,ROWS($N$339:N339)-1,COLUMNS($N$339:N339)-1)<>\"\",OFFSET([1]DE100_7!$N$339,ROWS($N$339:N339)-1,COLUMNS($N$339:N339)-1),\"\")","v":{"$error":"#VALUE!"}},{"$f":"IF(OFFSET([1]DE100_7!$O$339,ROWS($O$339:O339)-1,COLUMNS($O$339:O339)-1)<>\"\",OFFSET([1]DE100_7!$O$339,ROWS($O$339:O339)-1,COLUMNS($O$339:O339)-1),\"\")","v":{"$error":"#VALUE!"}},{"$f":"IF(OFFSET([1]DE100_7!$P$339,ROWS($P$339:P339)-1,COLUMNS($P$339:P339)-1)<>\"\",OFFSET([1]DE100_7!$P$339,ROWS($P$339:P339)-1,COLUMNS($P$339:P339)-1),\"\")","v":{"$error":"#VALUE!"}},{"$f":"IF(OFFSET([1]DE100_7!$Q$339,ROWS($Q$339:Q339)-1,COLUMNS($Q$339:Q339)-1)<>\"\",OFFSET([1]DE100_7!$Q$339,ROWS($Q$339:Q339)-1,COLUMNS($Q$339:Q339)-1),\"\")","v":{"$error":"#VALUE!"}},{"$f":"IF(OFFSET([1]DE100_7!$R$339,ROWS($R$339:R339)-1,COLUMNS($R$339:R339)-1)<>\"\",OFFSET([1]DE100_7!$R$339,ROWS($R$339:R339)-1,COLUMNS($R$339:R339)-1),\"\")","v":{"$error":"#VALUE!"}},{"$f":"IF(OFFSET([1]DE100_7!$S$339,ROWS($S$339:S339)-1,COLUMNS($S$339:S339)-1)<>\"\",OFFSET([1]DE100_7!$S$339,ROWS($S$339:S339)-1,COLUMNS($S$339:S339)-1),\"\")","v":{"$error":"#VALUE!"}},{"$f":"IF(OFFSET([1]DE100_7!$T$339,ROWS($T$339:T339)-1,COLUMNS($T$339:T339)-1)<>\"\",OFFSET([1]DE100_7!$T$339,ROWS($T$339:T339)-1,COLUMNS($T$339:T339)-1),\"\")","v":{"$error":"#VALUE!"}},{"$f":"IF(OFFSET([1]DE100_7!$U$339,ROWS($U$339:U339)-1,COLUMNS($U$339:U339)-1)<>\"\",OFFSET([1]DE100_7!$U$339,ROWS($U$339:U339)-1,COLUMNS($U$339:U339)-1),\"\")","v":{"$error":"#VALUE!"}},{"$f":"IF(OFFSET([1]DE100_7!$V$339,ROWS($V$339:V339)-1,COLUMNS($V$339:V339)-1)<>\"\",OFFSET([1]DE100_7!$V$339,ROWS($V$339:V339)-1,COLUMNS($V$339:V339)-1),\"\")","v":{"$error":"#VALUE!"}}]
[{"$f":"IF(OFFSET([1]DE100_7!$C$339,ROWS($C$339:C340)-1,COLUMNS($C$339:C340)-1)<>\"\",OFFSET([1]DE100_7!$C$339,ROWS($C$339:C340)-1,COLUMNS($C$339:C340)-1),\"\")","v":{"$error":"#VALUE!"}},{"$f":"IF(OFFSET([1]DE100_7!$D$339,ROWS($D$339:D340)-1,COLUMNS($D$339:D340)-1)<>\"\",OFFSET([1]DE100_7!$D$339,ROWS($D$339:D340)-1,COLUMNS($D$339:D340)-1),\"\")","v":{"$error":"#VALUE!"}},{"$f":"IF(OFFSET([1]DE100_7!$E$339,ROWS($E$339:E340)-1,COLUMNS($E$339:E340)-1)<>\"\",OFFSET([1]DE100_7!$E$339,ROWS($E$339:E340)-1,COLUMNS($E$339:E340)-1),\"\")","v":{"$error":"#VALUE!"}},{"$f":"IF(OFFSET([1]DE100_7!$F$339,ROWS($F$339:F340)-1,COLUMNS($F$339:F340)-1)<>\"\",OFFSET([1]DE100_7!$F$339,ROWS($F$339:F340)-1,COLUMNS($F$339:F340)-1),\"\")","v":{"$error":"#VALUE!"}},{"$f":"IF(OFFSET([1]DE100_7!$G$339,ROWS($G$339:G340)-1,COLUMNS($G$339:G340)-1)<>\"\",OFFSET([1]DE100_7!$G$339,ROWS($G$339:G340)-1,COLUMNS($G$339:G340)-1),\"\")","v":{"$error":"#VALUE!"}},{"$f":"IF(OFFSET([1]DE100_7!$H$339,ROWS($H$339:H340)-1,COLUMNS($H$339:H340)-1)<>\"\",OFFSET([1]DE100_7!$H$339,ROWS($H$339:H340)-1,COLUMNS($H$339:H340)-1),\"\")","v":{"$error":"#VALUE!"}},{"$f":"IF(OFFSET([1]DE100_7!$I$339,ROWS($I$339:I340)-1,COLUMNS($I$339:I340)-1)<>\"\",OFFSET([1]DE100_7!$I$339,ROWS($I$339:I340)-1,COLUMNS($I$339:I340)-1),\"\")","v":{"$error":"#VALUE!"}},{"$f":"IF(OFFSET([1]DE100_7!$J$339,ROWS($J$339:J340)-1,COLUMNS($J$339:J340)-1)<>\"\",OFFSET([1]DE100_7!$J$339,ROWS($J$339:J340)-1,COLUMNS($J$339:J340)-1),\"\")","v":{"$error":"#VALUE!"}},{"$f":"IF(OFFSET([1]DE100_7!$K$339,ROWS($K$339:K340)-1,COLUMNS($K$339:K340)-1)<>\"\",OFFSET([1]DE100_7!$K$339,ROWS($K$339:K340)-1,COLUMNS($K$339:K340)-1),\"\")","v":{"$error":"#VALUE!"}},{"$f":"IF(OFFSET([1]DE100_7!$L$339,ROWS($L$339:L340)-1,COLUMNS($L$339:L340)-1)<>\"\",OFFSET([1]DE100_7!$L$339,ROWS($L$339:L340)-1,COLUMNS($L$339:L340)-1),\"\")","v":{"$error":"#VALUE!"}},{"$f":"IF(OFFSET([1]DE100_7!$M$339,ROWS($M$339:M340)-1,COLUMNS($M$339:M340)-1)<>\"\",OFFSET([1]DE100_7!$M$339,ROWS($M$339:M340)-1,COLUMNS($M$339:M340)-1),\"\")","v":{"$error":"#VALUE!"}},{"$f":"IF(OFFSET([1]DE100_7!$N$339,ROWS($N$339:N340)-1,COLUMNS($N$339:N340)-1)<>\"\",OFFSET([1]DE100_7!$N$339,ROWS($N$339:N340)-1,COLUMNS($N$339:N340)-1),\"\")","v":{"$error":"#VALUE!"}},{"$f":"IF(OFFSET([1]DE100_7!$O$339,ROWS($O$339:O340)-1,COLUMNS($O$339:O340)-1)<>\"\",OFFSET([1]DE100_7!$O$339,ROWS($O$339:O340)-1,COLUMNS($O$339:O340)-1),\"\")","v":{"$error":"#VALUE!"}},{"$f":"IF(OFFSET([1]DE100_7!$P$339,ROWS($P$339:P340)-1,COLUMNS($P$339:P340)-1)<>\"\",OFFSET([1]DE100_7!$P$339,ROWS($P$339:P340)-1,COLUMNS($P$339:P340)-1),\"\")","v":{"$error":"#VALUE!"}},{"$f":"IF(OFFSET([1]DE100_7!$Q$339,ROWS($Q$339:Q340)-1,COLUMNS($Q$339:Q340)-1)<>\"\",OFFSET([1]DE100_7!$Q$339,ROWS($Q$339:Q340)-1,COLUMNS($Q$339:Q340)-1),\"\")","v":{"$error":"#VALUE!"}},{"$f":"IF(OFFSET([1]DE100_7!$R$339,ROWS($R$339:R340)-1,COLUMNS($R$339:R340)-1)<>\"\",OFFSET([1]DE100_7!$R$339,ROWS($R$339:R340)-1,COLUMNS($R$339:R340)-1),\"\")","v":{"$error":"#VALUE!"}},{"$f":"IF(OFFSET([1]DE100_7!$S$339,ROWS($S$339:S340)-1,COLUMNS($S$339:S340)-1)<>\"\",OFFSET([1]DE100_7!$S$339,ROWS($S$339:S340)-1,COLUMNS($S$339:S340)-1),\"\")","v":{"$error":"#VALUE!"}},{"$f":"IF(OFFSET([1]DE100_7!$T$339,ROWS($T$339:T340)-1,COLUMNS($T$339:T340)-1)<>\"\",OFFSET([1]DE100_7!$T$339,ROWS($T$339:T340)-1,COLUMNS($T$339:T340)-1),\"\")","v":{"$error":"#VALUE!"}},{"$f":"IF(OFFSET([1]DE100_7!$U$339,ROWS($U$339:U340)-1,COLUMNS($U$339:U340)-1)<>\"\",OFFSET([1]DE100_7!$U$339,ROWS($U$339:U340)-1,COLUMNS($U$339:U340)-1),\"\")","v":{"$error":"#VALUE!"}},{"$f":"IF(OFFSET([1]DE100_7!$V$339,ROWS($V$339:V340)-1,COLUMNS($V$339:V340)-1)<>\"\",OFFSET([1]DE100_7!$V$339,ROWS($V$339:V340)-1,COLUMNS($V$339:V340)-1),\"\")","v":{"$error":"#VALUE!"}}]
[{"$f":"IF(OFFSET([1]DE100_7!$C$339,ROWS($C$339:C341)-1,COLUMNS($C$339:C341)-1)<>\"\",OFFSET([1]DE100_7!$C$339,ROWS($C$339:C341)-1,COLUMNS($C$339:C341)-1),\"\")","v":{"$error":"#VALUE!"}},{"$f":"IF(OFFSET([1]DE100_7!$D$339,ROWS($D$339:D341)-1,COLUMNS($D$339:D341)-1)<>\"\",OFFSET([1]DE100_7!$D$339,ROWS($D$339:D341)-1,COLUMNS($D$339:D341)-1),\"\")","v":{"$error":"#VALUE!"}},{"$f":"IF(OFFSET([1]DE100_7!$E$339,ROWS($E$339:E341)-1,COLUMNS($E$339:E341)-1)<>\"\",OFFSET([1]DE100_7!$E$339,ROWS($E$339:E341)-1,COLUMNS($E$339:E341)-1),\"\")","v":{"$error":"#VALUE!"}},{"$f":"IF(OFFSET([1]DE100_7!$F$339,ROWS($F$339:F341)-1,COLUMNS($F$339:F341)-1)<>\"\",OFFSET([1]DE100_7!$F$339,ROWS($F$339:F341)-1,COLUMNS($F$339:F341)-1),\"\")","v":{"$error":"#VALUE!"}},{"$f":"IF(OFFSET([1]DE100_7!$G$339,ROWS($G$339:G341)-1,COLUMNS($G$339:G341)-1)<>\"\",OFFSET([1]DE100_7!$G$339,ROWS($G$339:G341)-1,COLUMNS($G$339:G341)-1),\"\")","v":{"$error":"#VALUE!"}},{"$f":"IF(OFFSET([1]DE100_7!$H$339,ROWS($H$339:H341)-1,COLUMNS($H$339:H341)-1)<>\"\",OFFSET([1]DE100_7!$H$339,ROWS($H$339:H341)-1,COLUMNS($H$339:H341)-1),\"\")","v":{"$error":"#VALUE!"}},{"$f":"IF(OFFSET([1]DE100_7!$I$339,ROWS($I$339:I341)-1,COLUMNS($I$339:I341)-1)<>\"\",OFFSET([1]DE100_7!$I$339,ROWS($I$339:I341)-1,COLUMNS($I$339:I341)-1),\"\")","v":{"$error":"#VALUE!"}},{"$f":"IF(OFFSET([1]DE100_7!$J$339,ROWS($J$339:J341)-1,COLUMNS($J$339:J341)-1)<>\"\",OFFSET([1]DE100_7!$J$339,ROWS($J$339:J341)-1,COLUMNS($J$339:J341)-1),\"\")","v":{"$error":"#VALUE!"}},{"$f":"IF(OFFSET([1]DE100_7!$K$339,ROWS($K$339:K341)-1,COLUMNS($K$339:K341)-1)<>\"\",OFFSET([1]DE100_7!$K$339,ROWS($K$339:K341)-1,COLUMNS($K$339:K341)-1),\"\")","v":{"$error":"#VALUE!"}},{"$f":"IF(OFFSET([1]DE100_7!$L$339,ROWS($L$339:L341)-1,COLUMNS($L$339:L341)-1)<>\"\",OFFSET([1]DE100_7!$L$339,ROWS($L$339:L341)-1,COLUMNS($L$339:L341)-1),\"\")","v":{"$error":"#VALUE!"}},{"$f":"IF(OFFSET([1]DE100_7!$M$339,ROWS($M$339:M341)-1,COLUMNS($M$339:M341)-1)<>\"\",OFFSET([1]DE100_7!$M$339,ROWS($M$339:M341)-1,COLUMNS($M$339:M341)-1),\"\")","v":{"$error":"#VALUE!"}},{"$f":"IF(OFFSET([1]DE100_7!$N$339,ROWS($N$339:N341)-1,COLUMNS($N$339:N341)-1)<>\"\",OFFSET([1]DE100_7!$N$339,ROWS($N$339:N341)-1,COLUMNS($N$339:N341)-1),\"\")","v":{"$error":"#VALUE!"}},{"$f":"IF(OFFSET([1]DE100_7!$O$339,ROWS($O$339:O341)-1,COLUMNS($O$339:O341)-1)<>\"\",OFFSET([1]DE100_7!$O$339,ROWS($O$339:O341)-1,COLUMNS($O$339:O341)-1),\"\")","v":{"$error":"#VALUE!"}},{"$f":"IF(OFFSET([1]DE100_7!$P$339,ROWS($P$339:P341)-1,COLUMNS($P$339:P341)-1)<>\"\",OFFSET([1]DE100_7!$P$339,ROWS($P$339:P341)-1,COLUMNS($P$339:P341)-1),\"\")","v":{"$error":"#VALUE!"}},{"$f":"IF(OFFSET([1]DE100_7!$Q$339,ROWS($Q$339:Q341)-1,COLUMNS($Q$339:Q341)-1)<>\"\",OFFSET([1]DE100_7!$Q$339,ROWS($Q$339:Q341)-1,COLUMNS($Q$339:Q341)-1),\"\")","v":{"$error":"#VALUE!"}},{"$f":"IF(OFFSET([1]DE100_7!$R$339,ROWS($R$339:R341)-1,COLUMNS($R$339:R341)-1)<>\"\",OFFSET([1]DE100_7!$R$339,ROWS($R$339:R341)-1,COLUMNS($R$339:R341)-1),\"\")","v":{"$error":"#VALUE!"}},{"$f":"IF(OFFSET([1]DE100_7!$S$339,ROWS($S$339:S341)-1,COLUMNS($S$339:S341)-1)<>\"\",OFFSET([1]DE100_7!$S$339,ROWS($S$339:S341)-1,COLUMNS($S$339:S341)-1),\"\")","v":{"$error":"#VALUE!"}},{"$f":"IF(OFFSET([1]DE100_7!$T$339,ROWS($T$339:T341)-1,COLUMNS($T$339:T341)-1)<>\"\",OFFSET([1]DE100_7!$T$339,ROWS($T$339:T341)-1,COLUMNS($T$339:T341)-1),\"\")","v":{"$error":"#VALUE!"}},{"$f":"IF(OFFSET([1]DE100_7!$U$339,ROWS($U$339:U341)-1,COLUMNS($U$339:U341)-1)<>\"\",OFFSET([1]DE100_7!$U$339,ROWS($U$339:U341)-1,COLUMNS($U$339:U341)-1),\"\")","v":{"$error":"#VALUE!"}},{"$f":"IF(OFFSET([1]DE100_7!$V$339,ROWS($V$339:V341)-1,COLUMNS($V$339:V341)-1)<>\"\",OFFSET([1]DE100_7!$V$339,ROWS($V$339:V341)-1,COLUMNS($V$339:V341)-1),\"\")","v":{"$error":"#VALUE!"}}]
[{"$f":"IF(OFFSET([1]DE100_7!$C$339,ROWS($C$339:C342)-1,COLUMNS($C$339:C342)-1)<>\"\",OFFSET([1]DE100_7!$C$339,ROWS($C$339:C342)-1,COLUMNS($C$339:C342)-1),\"\")","v":{"$error":"#VALUE!"}},{"$f":"IF(OFFSET([1]DE100_7!$D$339,ROWS($D$339:D342)-1,COLUMNS($D$339:D342)-1)<>\"\",OFFSET([1]DE100_7!$D$339,ROWS($D$339:D342)-1,COLUMNS($D$339:D342)-1),\"\")","v":{"$error":"#VALUE!"}},{"$f":"IF(OFFSET([1]DE100_7!$E$339,ROWS($E$339:E342)-1,COLUMNS($E$339:E342)-1)<>\"\",OFFSET([1]DE100_7!$E$339,ROWS($E$339:E342)-1,COLUMNS($E$339:E342)-1),\"\")","v":{"$error":"#VALUE!"}},{"$f":"IF(OFFSET([1]DE100_7!$F$339,ROWS($F$339:F342)-1,COLUMNS($F$339:F342)-1)<>\"\",OFFSET([1]DE100_7!$F$339,ROWS($F$339:F342)-1,COLUMNS($F$339:F342)-1),\"\")","v":{"$error":"#VALUE!"}},{"$f":"IF(OFFSET([1]DE100_7!$G$339,ROWS($G$339:G342)-1,COLUMNS($G$339:G342)-1)<>\"\",OFFSET([1]DE100_7!$G$339,ROWS($G$339:G342)-1,COLUMNS($G$339:G342)-1),\"\")","v":{"$error":"#VALUE!"}},{"$f":"IF(OFFSET([1]DE100_7!$H$339,ROWS($H$339:H342)-1,COLUMNS($H$339:H342)-1)<>\"\",OFFSET([1]DE100_7!$H$339,ROWS($H$339:H342)-1,COLUMNS($H$339:H342)-1),\"\")","v":{"$error":"#VALUE!"}},{"$f":"IF(OFFSET([1]DE100_7!$I$339,ROWS($I$339:I342)-1,COLUMNS($I$339:I342)-1)<>\"\",OFFSET([1]DE100_7!$I$339,ROWS($I$339:I342)-1,COLUMNS($I$339:I342)-1),\"\")","v":{"$error":"#VALUE!"}},{"$f":"IF(OFFSET([1]DE100_7!$J$339,ROWS($J$339:J342)-1,COLUMNS($J$339:J342)-1)<>\"\",OFFSET([1]DE100_7!$J$339,ROWS($J$339:J342)-1,COLUMNS($J$339:J342)-1),\"\")","v":{"$error":"#VALUE!"}},{"$f":"IF(OFFSET([1]DE100_7!$K$339,ROWS($K$339:K342)-1,COLUMNS($K$339:K342)-1)<>\"\",OFFSET([1]DE100_7!$K$339,ROWS($K$339:K342)-1,COLUMNS($K$339:K342)-1),\"\")","v":{"$error":"#VALUE!"}},{"$f":"IF(OFFSET([1]DE100_7!$L$339,ROWS($L$339:L342)-1,COLUMNS($L$339:L342)-1)<>\"\",OFFSET([1]DE100_7!$L$339,ROWS($L$339:L342)-1,COLUMNS($L$339:L342)-1),\"\")","v":{"$error":"#VALUE!"}},{"$f":"IF(OFFSET([1]DE100_7!$M$339,ROWS($M$339:M342)-1,COLUMNS($M$339:M342)-1)<>\"\",OFFSET([1]DE100_7!$M$339,ROWS($M$339:M342)-1,COLUMNS($M$339:M342)-1),\"\")","v":{"$error":"#VALUE!"}},{"$f":"IF(OFFSET([1]DE100_7!$N$339,ROWS($N$339:N342)-1,COLUMNS($N$339:N342)-1)<>\"\",OFFSET([1]DE100_7!$N$339,ROWS($N$339:N342)-1,COLUMNS($N$339:N342)-1),\"\")","v":{"$error":"#VALUE!"}},{"$f":"IF(OFFSET([1]DE100_7!$O$339,ROWS($O$339:O342)-1,COLUMNS($O$339:O342)-1)<>\"\",OFFSET([1]DE100_7!$O$339,ROWS($O$339:O342)-1,COLUMNS($O$339:O342)-1),\"\")","v":{"$error":"#VALUE!"}},{"$f":"IF(OFFSET([1]DE100_7!$P$339,ROWS($P$339:P342)-1,COLUMNS($P$339:P342)-1)<>\"\",OFFSET([1]DE100_7!$P$339,ROWS($P$339:P342)-1,COLUMNS($P$339:P342)-1),\"\")","v":{"$error":"#VALUE!"}},{"$f":"IF(OFFSET([1]DE100_7!$Q$339,ROWS($Q$339:Q342)-1,COLUMNS($Q$339:Q342)-1)<>\"\",OFFSET([1]DE100_7!$Q$339,ROWS($Q$339:Q342)-1,COLUMNS($Q$339:Q342)-1),\"\")","v":{"$error":"#VALUE!"}},{"$f":"IF(OFFSET([1]DE100_7!$R$339,ROWS($R$339:R342)-1,COLUMNS($R$339:R342)-1)<>\"\",OFFSET([1]DE100_7!$R$339,ROWS($R$339:R342)-1,COLUMNS($R$339:R342)-1),\"\")","v":{"$error":"#VALUE!"}},{"$f":"IF(OFFSET([1]DE100_7!$S$339,ROWS($S$339:S342)-1,COLUMNS($S$339:S342)-1)<>\"\",OFFSET([1]DE100_7!$S$339,ROWS($S$339:S342)-1,COLUMNS($S$339:S342)-1),\"\")","v":{"$error":"#VALUE!"}},{"$f":"IF(OFFSET([1]DE100_7!$T$339,ROWS($T$339:T342)-1,COLUMNS($T$339:T342)-1)<>\"\",OFFSET([1]DE100_7!$T$339,ROWS($T$339:T342)-1,COLUMNS($T$339:T342)-1),\"\")","v":{"$error":"#VALUE!"}},{"$f":"IF(OFFSET([1]DE100_7!$U$339,ROWS($U$339:U342)-1,COLUMNS($U$339:U342)-1)<>\"\",OFFSET([1]DE100_7!$U$339,ROWS($U$339:U342)-1,COLUMNS($U$339:U342)-1),\"\")","v":{"$error":"#VALUE!"}},{"$f":"IF(OFFSET([1]DE100_7!$V$339,ROWS($V$339:V342)-1,COLUMNS($V$339:V342)-1)<>\"\",OFFSET([1]DE100_7!$V$339,ROWS($V$339:V342)-1,COLUMNS($V$339:V342)-1),\"\")","v":{"$error":"#VALUE!"}}]
[{"$f":"IF(OFFSET([1]DE100_7!$C$339,ROWS($C$339:C343)-1,COLUMNS($C$339:C343)-1)<>\"\",OFFSET([1]DE100_7!$C$339,ROWS($C$339:C343)-1,COLUMNS($C$339:C343)-1),\"\")","v":{"$error":"#VALUE!"}},{"$f":"IF(OFFSET([1]DE100_7!$D$339,ROWS($D$339:D343)-1,COLUMNS($D$339:D343)-1)<>\"\",OFFSET([1]DE100_7!$D$339,ROWS($D$339:D343)-1,COLUMNS($D$339:D343)-1),\"\")","v":{"$error":"#VALUE!"}},{"$f":"IF(OFFSET([1]DE100_7!$E$339,ROWS($E$339:E343)-1,COLUMNS($E$339:E343)-1)<>\"\",OFFSET([1]DE100_7!$E$339,ROWS($E$339:E343)-1,COLUMNS($E$339:E343)-1),\"\")","v":{"$error":"#VALUE!"}},{"$f":"IF(OFFSET([1]DE100_7!$F$339,ROWS($F$339:F343)-1,COLUMNS($F$339:F343)-1)<>\"\",OFFSET([1]DE100_7!$F$339,ROWS($F$339:F343)-1,COLUMNS($F$339:F343)-1),\"\")","v":{"$error":"#VALUE!"}},{"$f":"IF(OFFSET([1]DE100_7!$G$339,ROWS($G$339:G343)-1,COLUMNS($G$339:G343)-1)<>\"\",OFFSET([1]DE100_7!$G$339,ROWS($G$339:G343)-1,COLUMNS($G$339:G343)-1),\"\")","v":{"$error":"#VALUE!"}},{"$f":"IF(OFFSET([1]DE100_7!$H$339,ROWS($H$339:H343)-1,COLUMNS($H$339:H343)-1)<>\"\",OFFSET([1]DE100_7!$H$339,ROWS($H$339:H343)-1,COLUMNS($H$339:H343)-1),\"\")","v":{"$error":"#VALUE!"}},{"$f":"IF(OFFSET([1]DE100_7!$I$339,ROWS($I$339:I343)-1,COLUMNS($I$339:I343)-1)<>\"\",OFFSET([1]DE100_7!$I$339,ROWS($I$339:I343)-1,COLUMNS($I$339:I343)-1),\"\")","v":{"$error":"#VALUE!"}},{"$f":"IF(OFFSET([1]DE100_7!$J$339,ROWS($J$339:J343)-1,COLUMNS($J$339:J343)-1)<>\"\",OFFSET([1]DE100_7!$J$339,ROWS($J$339:J343)-1,COLUMNS($J$339:J343)-1),\"\")","v":{"$error":"#VALUE!"}},{"$f":"IF(OFFSET([1]DE100_7!$K$339,ROWS($K$339:K343)-1,COLUMNS($K$339:K343)-1)<>\"\",OFFSET([1]DE100_7!$K$339,ROWS($K$339:K343)-1,COLUMNS($K$339:K343)-1),\"\")","v":{"$error":"#VALUE!"}},{"$f":"IF(OFFSET([1]DE100_7!$L$339,ROWS($L$339:L343)-1,COLUMNS($L$339:L343)-1)<>\"\",OFFSET([1]DE100_7!$L$339,ROWS($L$339:L343)-1,COLUMNS($L$339:L343)-1),\"\")","v":{"$error":"#VALUE!"}},{"$f":"IF(OFFSET([1]DE100_7!$M$339,ROWS($M$339:M343)-1,COLUMNS($M$339:M343)-1)<>\"\",OFFSET([1]DE100_7!$M$339,ROWS($M$339:M343)-1,COLUMNS($M$339:M343)-1),\"\")","v":{"$error":"#VALUE!"}},{"$f":"IF(OFFSET([1]DE100_7!$N$339,ROWS($N$339:N343)-1,COLUMNS($N$339:N343)-1)<>\"\",OFFSET([1]DE100_7!$N$339,ROWS($N$339:N343)-1,COLUMNS($N$339:N343)-1),\"\")","v":{"$error":"#VALUE!"}},{"$f":"IF(OFFSET([1]DE100_7!$O$339,ROWS($O$339:O343)-1,COLUMNS($O$339:O343)-1)<>\"\",OFFSET([1]DE100_7!$O$339,ROWS($O$339:O343)-1,COLUMNS($O$339:O343)-1),\"\")","v":{"$error":"#VALUE!"}},{"$f":"IF(OFFSET([1]DE100_7!$P$339,ROWS($P$339:P343)-1,COLUMNS($P$339:P343)-1)<>\"\",OFFSET([1]DE100_7!$P$339,ROWS($P$339:P343)-1,COLUMNS($P$339:P343)-1),\"\")","v":{"$error":"#VALUE!"}},{"$f":"IF(OFFSET([1]DE100_7!$Q$339,ROWS($Q$339:Q343)-1,COLUMNS($Q$339:Q343)-1)<>\"\",OFFSET([1]DE100_7!$Q$339,ROWS($Q$339:Q343)-1,COLUMNS($Q$339:Q343)-1),\"\")","v":{"$error":"#VALUE!"}},{"$f":"IF(OFFSET([1]DE100_7!$R$339,ROWS($R$339:R343)-1,COLUMNS($R$339:R343)-1)<>\"\",OFFSET([1]DE100_7!$R$339,ROWS($R$339:R343)-1,COLUMNS($R$339:R343)-1),\"\")","v":{"$error":"#VALUE!"}},{"$f":"IF(OFFSET([1]DE100_7!$S$339,ROWS($S$339:S343)-1,COLUMNS($S$339:S343)-1)<>\"\",OFFSET([1]DE100_7!$S$339,ROWS($S$339:S343)-1,COLUMNS($S$339:S343)-1),\"\")","v":{"$error":"#VALUE!"}},{"$f":"IF(OFFSET([1]DE100_7!$T$339,ROWS($T$339:T343)-1,COLUMNS($T$339:T343)-1)<>\"\",OFFSET([1]DE100_7!$T$339,ROWS($T$339:T343)-1,COLUMNS($T$339:T343)-1),\"\")","v":{"$error":"#VALUE!"}},{"$f":"IF(OFFSET([1]DE100_7!$U$339,ROWS($U$339:U343)-1,COLUMNS($U$339:U343)-1)<>\"\",OFFSET([1]DE100_7!$U$339,ROWS($U$339:U343)-1,COLUMNS($U$339:U343)-1),\"\")","v":{"$error":"#VALUE!"}},{"$f":"IF(OFFSET([1]DE100_7!$V$339,ROWS($V$339:V343)-1,COLUMNS($V$339:V343)-1)<>\"\",OFFSET([1]DE100_7!$V$339,ROWS($V$339:V343)-1,COLUMNS($V$339:V343)-1),\"\")","v":{"$error":"#VALUE!"}}]
[{"$f":"IF(OFFSET([1]DE100_7!$C$339,ROWS($C$339:C344)-1,COLUMNS($C$339:C344)-1)<>\"\",OFFSET([1]DE100_7!$C$339,ROWS($C$339:C344)-1,COLUMNS($C$339:C344)-1),\"\")","v":{"$error":"#VALUE!"}},{"$f":"IF(OFFSET([1]DE100_7!$D$339,ROWS($D$339:D344)-1,COLUMNS($D$339:D344)-1)<>\"\",OFFSET([1]DE100_7!$D$339,ROWS($D$339:D344)-1,COLUMNS($D$339:D344)-1),\"\")","v":{"$error":"#VALUE!"}},{"$f":"IF(OFFSET([1]DE100_7!$E$339,ROWS($E$339:E344)-1,COLUMNS($E$339:E344)-1)<>\"\",OFFSET([1]DE100_7!$E$339,ROWS($E$339:E344)-1,COLUMNS($E$339:E344)-1),\"\")","v":{"$error":"#VALUE!"}},{"$f":"IF(OFFSET([1]DE100_7!$F$339,ROWS($F$339:F344)-1,COLUMNS($F$339:F344)-1)<>\"\",OFFSET([1]DE100_7!$F$339,ROWS($F$339:F344)-1,COLUMNS($F$339:F344)-1),\"\")","v":{"$error":"#VALUE!"}},{"$f":"IF(OFFSET([1]DE100_7!$G$339,ROWS($G$339:G344)-1,COLUMNS($G$339:G344)-1)<>\"\",OFFSET([1]DE100_7!$G$339,ROWS($G$339:G344)-1,COLUMNS($G$339:G344)-1),\"\")","v":{"$error":"#VALUE!"}},{"$f":"IF(OFFSET([1]DE100_7!$H$339,ROWS($H$339:H344)-1,COLUMNS($H$339:H344)-1)<>\"\",OFFSET([1]DE100_7!$H$339,ROWS($H$339:H344)-1,COLUMNS($H$339:H344)-1),\"\")","v":{"$error":"#VALUE!"}},{"$f":"IF(OFFSET([1]DE100_7!$I$339,ROWS($I$339:I344)-1,COLUMNS($I$339:I344)-1)<>\"\",OFFSET([1]DE100_7!$I$339,ROWS($I$339:I344)-1,COLUMNS($I$339:I344)-1),\"\")","v":{"$error":"#VALUE!"}},{"$f":"IF(OFFSET([1]DE100_7!$J$339,ROWS($J$339:J344)-1,COLUMNS($J$339:J344)-1)<>\"\",OFFSET([1]DE100_7!$J$339,ROWS($J$339:J344)-1,COLUMNS($J$339:J344)-1),\"\")","v":{"$error":"#VALUE!"}},{"$f":"IF(OFFSET([1]DE100_7!$K$339,ROWS($K$339:K344)-1,COLUMNS($K$339:K344)-1)<>\"\",OFFSET([1]DE100_7!$K$339,ROWS($K$339:K344)-1,COLUMNS($K$339:K344)-1),\"\")","v":{"$error":"#VALUE!"}},{"$f":"IF(OFFSET([1]DE100_7!$L$339,ROWS($L$339:L344)-1,COLUMNS($L$339:L344)-1)<>\"\",OFFSET([1]DE100_7!$L$339,ROWS($L$339:L344)-1,COLUMNS($L$339:L344)-1),\"\")","v":{"$error":"#VALUE!"}},{"$f":"IF(OFFSET([1]DE100_7!$M$339,ROWS($M$339:M344)-1,COLUMNS($M$339:M344)-1)<>\"\",OFFSET([1]DE100_7!$M$339,ROWS($M$339:M344)-1,COLUMNS($M$339:M344)-1),\"\")","v":{"$error":"#VALUE!"}},{"$f":"IF(OFFSET([1]DE100_7!$N$339,ROWS($N$339:N344)-1,COLUMNS($N$339:N344)-1)<>\"\",OFFSET([1]DE100_7!$N$339,ROWS($N$339:N344)-1,COLUMNS($N$339:N344)-1),\"\")","v":{"$error":"#VALUE!"}},{"$f":"IF(OFFSET([1]DE100_7!$O$339,ROWS($O$339:O344)-1,COLUMNS($O$339:O344)-1)<>\"\",OFFSET([1]DE100_7!$O$339,ROWS($O$339:O344)-1,COLUMNS($O$339:O344)-1),\"\")","v":{"$error":"#VALUE!"}},{"$f":"IF(OFFSET([1]DE100_7!$P$339,ROWS($P$339:P344)-1,COLUMNS($P$339:P344)-1)<>\"\",OFFSET([1]DE100_7!$P$339,ROWS($P$339:P344)-1,COLUMNS($P$339:P344)-1),\"\")","v":{"$error":"#VALUE!"}},{"$f":"IF(OFFSET([1]DE100_7!$Q$339,ROWS($Q$339:Q344)-1,COLUMNS($Q$339:Q344)-1)<>\"\",OFFSET([1]DE100_7!$Q$339,ROWS($Q$339:Q344)-1,COLUMNS($Q$339:Q344)-1),\"\")","v":{"$error":"#VALUE!"}},{"$f":"IF(OFFSET([1]DE100_7!$R$339,ROWS($R$339:R344)-1,COLUMNS($R$339:R344)-1)<>\"\",OFFSET([1]DE100_7!$R$339,ROWS($R$339:R344)-1,COLUMNS($R$339:R344)-1),\"\")","v":{"$error":"#VALUE!"}},{"$f":"IF(OFFSET([1]DE100_7!$S$339,ROWS($S$339:S344)-1,COLUMNS($S$339:S344)-1)<>\"\",OFFSET([1]DE100_7!$S$339,ROWS($S$339:S344)-1,COLUMNS($S$339:S344)-1),\"\")","v":{"$error":"#VALUE!"}},{"$f":"IF(OFFSET([1]DE100_7!$T$339,ROWS($T$339:T344)-1,COLUMNS($T$339:T344)-1)<>\"\",OFFSET([1]DE100_7!$T$339,ROWS($T$339:T344)-1,COLUMNS($T$339:T344)-1),\"\")","v":{"$error":"#VALUE!"}},{"$f":"IF(OFFSET([1]DE100_7!$U$339,ROWS($U$339:U344)-1,COLUMNS($U$339:U344)-1)<>\"\",OFFSET([1]DE100_7!$U$339,ROWS($U$339:U344)-1,COLUMNS($U$339:U344)-1),\"\")","v":{"$error":"#VALUE!"}},{"$f":"IF(OFFSET([1]DE100_7!$V$339,ROWS($V$339:V344)-1,COLUMNS($V$339:V344)-1)<>\"\",OFFSET([1]DE100_7!$V$339,ROWS($V$339:V344)-1,COLUMNS($V$339:V344)-1),\"\")","v":{"$error":"#VALUE!"}}]
[{"$f":"IF(OFFSET([1]DE100_7!$C$339,ROWS($C$339:C345)-1,COLUMNS($C$339:C345)-1)<>\"\",OFFSET([1]DE100_7!$C$339,ROWS($C$339:C345)-1,COLUMNS($C$339:C345)-1),\"\")","v":{"$error":"#VALUE!"}},{"$f":"IF(OFFSET([1]DE100_7!$D$339,ROWS($D$339:D345)-1,COLUMNS($D$339:D345)-1)<>\"\",OFFSET([1]DE100_7!$D$339,ROWS($D$339:D345)-1,COLUMNS($D$339:D345)-1),\"\")","v":{"$error":"#VALUE!"}},{"$f":"IF(OFFSET([1]DE100_7!$E$339,ROWS($E$339:E345)-1,COLUMNS($E$339:E345)-1)<>\"\",OFFSET([1]DE100_7!$E$339,ROWS($E$339:E345)-1,COLUMNS($E$339:E345)-1),\"\")","v":{"$error":"#VALUE!"}},{"$f":"IF(OFFSET([1]DE100_7!$F$339,ROWS($F$339:F345)-1,COLUMNS($F$339:F345)-1)<>\"\",OFFSET([1]DE100_7!$F$339,ROWS($F$339:F345)-1,COLUMNS($F$339:F345)-1),\"\")","v":{"$error":"#VALUE!"}},{"$f":"IF(OFFSET([1]DE100_7!$G$339,ROWS($G$339:G345)-1,COLUMNS($G$339:G345)-1)<>\"\",OFFSET([1]DE100_7!$G$339,ROWS($G$339:G345)-1,COLUMNS($G$339:G345)-1),\"\")","v":{"$error":"#VALUE!"}},{"$f":"IF(OFFSET([1]DE100_7!$H$339,ROWS($H$339:H345)-1,COLUMNS($H$339:H345)-1)<>\"\",OFFSET([1]DE100_7!$H$339,ROWS($H$339:H345)-1,COLUMNS($H$339:H345)-1),\"\")","v":{"$error":"#VALUE!"}},{"$f":"IF(OFFSET([1]DE100_7!$I$339,ROWS($I$339:I345)-1,COLUMNS($I$339:I345)-1)<>\"\",OFFSET([1]DE100_7!$I$339,ROWS($I$339:I345)-1,COLUMNS($I$339:I345)-1),\"\")","v":{"$error":"#VALUE!"}},{"$f":"IF(OFFSET([1]DE100_7!$J$339,ROWS($J$339:J345)-1,COLUMNS($J$339:J345)-1)<>\"\",OFFSET([1]DE100_7!$J$339,ROWS($J$339:J345)-1,COLUMNS($J$339:J345)-1),\"\")","v":{"$error":"#VALUE!"}},{"$f":"IF(OFFSET([1]DE100_7!$K$339,ROWS($K$339:K345)-1,COLUMNS($K$339:K345)-1)<>\"\",OFFSET([1]DE100_7!$K$339,ROWS($K$339:K345)-1,COLUMNS($K$339:K345)-1),\"\")","v":{"$error":"#VALUE!"}},{"$f":"IF(OFFSET([1]DE100_7!$L$339,ROWS($L$339:L345)-1,COLUMNS($L$339:L345)-1)<>\"\",OFFSET([1]DE100_7!$L$339,ROWS($L$339:L345)-1,COLUMNS($L$339:L345)-1),\"\")","v":{"$error":"#VALUE!"}},{"$f":"IF(OFFSET([1]DE100_7!$M$339,ROWS($M$339:M345)-1,COLUMNS($M$339:M345)-1)<>\"\",OFFSET([1]DE100_7!$M$339,ROWS($M$339:M345)-1,COLUMNS($M$339:M345)-1),\"\")","v":{"$error":"#VALUE!"}},{"$f":"IF(OFFSET([1]DE100_7!$N$339,ROWS($N$339:N345)-1,COLUMNS($N$339:N345)-1)<>\"\",OFFSET([1]DE100_7!$N$339,ROWS($N$339:N345)-1,COLUMNS($N$339:N345)-1),\"\")","v":{"$error":"#VALUE!"}},{"$f":"IF(OFFSET([1]DE100_7!$O$339,ROWS($O$339:O345)-1,COLUMNS($O$339:O345)-1)<>\"\",OFFSET([1]DE100_7!$O$339,ROWS($O$339:O345)-1,COLUMNS($O$339:O345)-1),\"\")","v":{"$error":"#VALUE!"}},{"$f":"IF(OFFSET([1]DE100_7!$P$339,ROWS($P$339:P345)-1,COLUMNS($P$339:P345)-1)<>\"\",OFFSET([1]DE100_7!$P$339,ROWS($P$339:P345)-1,COLUMNS($P$339:P345)-1),\"\")","v":{"$error":"#VALUE!"}},{"$f":"IF(OFFSET([1]DE100_7!$Q$339,ROWS($Q$339:Q345)-1,COLUMNS($Q$339:Q345)-1)<>\"\",OFFSET([1]DE100_7!$Q$339,ROWS($Q$339:Q345)-1,COLUMNS($Q$339:Q345)-1),\"\")","v":{"$error":"#VALUE!"}},{"$f":"IF(OFFSET([1]DE100_7!$R$339,ROWS($R$339:R345)-1,COLUMNS($R$339:R345)-1)<>\"\",OFFSET([1]DE100_7!$R$339,ROWS($R$339:R345)-1,COLUMNS($R$339:R345)-1),\"\")","v":{"$error":"#VALUE!"}},{"$f":"IF(OFFSET([1]DE100_7!$S$339,ROWS($S$339:S345)-1,COLUMNS($S$339:S345)-1)<>\"\",OFFSET([1]DE100_7!$S$339,ROWS($S$339:S345)-1,COLUMNS($S$339:S345)-1),\"\")","v":{"$error":"#VALUE!"}},{"$f":"IF(OFFSET([1]DE100_7!$T$339,ROWS($T$339:T345)-1,COLUMNS($T$339:T345)-1)<>\"\",OFFSET([1]DE100_7!$T$339,ROWS($T$339:T345)-1,COLUMNS($T$339:T345)-1),\"\")","v":{"$error":"#VALUE!"}},{"$f":"IF(OFFSET([1]DE100_7!$U$339,ROWS($U$339:U345)-1,COLUMNS($U$339:U345)-1)<>\"\",OFFSET([1]DE100_7!$U$339,ROWS($U$339:U345)-1,COLUMNS($U$339:U345)-1),\"\")","v":{"$error":"#VALUE!"}},{"$f":"IF(OFFSET([1]DE100_7!$V$339,ROWS($V$339:V345)-1,COLUMNS($V$339:V345)-1)<>\"\",OFFSET([1]DE100_7!$V$339,ROWS($V$339:V345)-1,COLUMNS($V$339:V345)-1),\"\")","v":{"$error":"#VALUE!"}}]
[{"$f":"IF(OFFSET([1]DE100_7!$C$339,ROWS($C$339:C346)-1,COLUMNS($C$339:C346)-1)<>\"\",OFFSET([1]DE100_7!$C$339,ROWS($C$339:C346)-1,COLUMNS($C$339:C346)-1),\"\")","v":{"$error":"#VALUE!"}},null,null,null,{"$f":"IF(OFFSET([1]DE100_7!$G$339,ROWS($G$339:G346)-1,COLUMNS($G$339:G346)-1)<>\"\",OFFSET([1]DE100_7!$G$339,ROWS($G$339:G346)-1,COLUMNS($G$339:G346)-1),\"\")","v":{"$error":"#VALUE!"}},{"$f":"IF(OFFSET([1]DE100_7!$H$339,ROWS($H$339:H346)-1,COLUMNS($H$339:H346)-1)<>\"\",OFFSET([1]DE100_7!$H$339,ROWS($H$339:H346)-1,COLUMNS($H$339:H346)-1),\"\")","v":{"$error":"#VALUE!"}},{"$f":"IF(OFFSET([1]DE100_7!$I$339,ROWS($I$339:I346)-1,COLUMNS($I$339:I346)-1)<>\"\",OFFSET([1]DE100_7!$I$339,ROWS($I$339:I346)-1,COLUMNS($I$339:I346)-1),\"\")","v":{"$error":"#VALUE!"}},{"$f":"IF(OFFSET([1]DE100_7!$J$339,ROWS($J$339:J346)-1,COLUMNS($J$339:J346)-1)<>\"\",OFFSET([1]DE100_7!$J$339,ROWS($J$339:J346)-1,COLUMNS($J$339:J346)-1),\"\")","v":{"$error":"#VALUE!"}},{"$f":"IF(OFFSET([1]DE100_7!$K$339,ROWS($K$339:K346)-1,COLUMNS($K$339:K346)-1)<>\"\",OFFSET([1]DE100_7!$K$339,ROWS($K$339:K346)-1,COLUMNS($K$339:K346)-1),\"\")","v":{"$error":"#VALUE!"}},{"$f":"IF(OFFSET([1]DE100_7!$L$339,ROWS($L$339:L346)-1,COLUMNS($L$339:L346)-1)<>\"\",OFFSET([1]DE100_7!$L$339,ROWS($L$339:L346)-1,COLUMNS($L$339:L346)-1),\"\")","v":{"$error":"#VALUE!"}},{"$f":"IF(OFFSET([1]DE100_7!$M$339,ROWS($M$339:M346)-1,COLUMNS($M$339:M346)-1)<>\"\",OFFSET([1]DE100_7!$M$339,ROWS($M$339:M346)-1,COLUMNS($M$339:M346)-1),\"\")","v":{"$error":"#VALUE!"}},{"$f":"IF(OFFSET([1]DE100_7!$N$339,ROWS($N$339:N346)-1,COLUMNS($N$339:N346)-1)<>\"\",OFFSET([1]DE100_7!$N$339,ROWS($N$339:N346)-1,COLUMNS($N$339:N346)-1),\"\")","v":{"$error":"#VALUE!"}},{"$f":"IF(OFFSET([1]DE100_7!$O$339,ROWS($O$339:O346)-1,COLUMNS($O$339:O346)-1)<>\"\",OFFSET([1]DE100_7!$O$339,ROWS($O$339:O346)-1,COLUMNS($O$339:O346)-1),\"\")","v":{"$error":"#VALUE!"}},{"$f":"IF(OFFSET([1]DE100_7!$P$339,ROWS($P$339:P346)-1,COLUMNS($P$339:P346)-1)<>\"\",OFFSET([1]DE100_7!$P$339,ROWS($P$339:P346)-1,COLUMNS($P$339:P346)-1),\"\")","v":{"$error":"#VALUE!"}},{"$f":"IF(OFFSET([1]DE100_7!$Q$339,ROWS($Q$339:Q346)-1,COLUMNS($Q$339:Q346)-1)<>\"\",OFFSET([1]DE100_7!$Q$339,ROWS($Q$339:Q346)-1,COLUMNS($Q$339:Q346)-1),\"\")","v":{"$error":"#VALUE!"}},{"$f":"IF(OFFSET([1]DE100_7!$R$339,ROWS($R$339:R346)-1,COLUMNS($R$339:R346)-1)<>\"\",OFFSET([1]DE100_7!$R$339,ROWS($R$339:R346)-1,COLUMNS($R$339:R346)-1),\"\")","v":{"$error":"#VALUE!"}},{"$f":"IF(OFFSET([1]DE100_7!$S$339,ROWS($S$339:S346)-1,COLUMNS($S$339:S346)-1)<>\"\",OFFSET([1]DE100_7!$S$339,ROWS($S$339:S346)-1,COLUMNS($S$339:S346)-1),\"\")","v":{"$error":"#VALUE!"}},{"$f":"IF(OFFSET([1]DE100_7!$T$339,ROWS($T$339:T346)-1,COLUMNS($T$339:T346)-1)<>\"\",OFFSET([1]DE100_7!$T$339,ROWS($T$339:T346)-1,COLUMNS($T$339:T346)-1),\"\")","v":{"$error":"#VALUE!"}},{"$f":"IF(OFFSET([1]DE100_7!$U$339,ROWS($U$339:U346)-1,COLUMNS($U$339:U346)-1)<>\"\",OFFSET([1]DE100_7!$U$339,ROWS($U$339:U346)-1,COLUMNS($U$339:U346)-1),\"\")","v":{"$error":"#VALUE!"}},{"$f":"IF(OFFSET([1]DE100_7!$V$339,ROWS($V$339:V346)-1,COLUMNS($V$339:V346)-1)<>\"\",OFFSET([1]DE100_7!$V$339,ROWS($V$339:V346)-1,COLUMNS($V$339:V346)-1),\"\")","v":{"$error":"#VALUE!"}}]
[{"$f":"IF(OFFSET([1]DE100_7!$C$339,ROWS($C$339:C347)-1,COLUMNS($C$339:C347)-1)<>\"\",OFFSET([1]DE100_7!$C$339,ROWS($C$339:C347)-1,COLUMNS($C$339:C347)-1),\"\")","v":{"$error":"#VALUE!"}},{"$f":"IF(OFFSET([1]DE100_7!$D$339,ROWS($D$339:D347)-1,COLUMNS($D$339:D347)-1)<>\"\",OFFSET([1]DE100_7!$D$339,ROWS($D$339:D347)-1,COLUMNS($D$339:D347)-1),\"\")","v":{"$error":"#VALUE!"}},{"$f":"IF(OFFSET([1]DE100_7!$E$339,ROWS($E$339:E347)-1,COLUMNS($E$339:E347)-1)<>\"\",OFFSET([1]DE100_7!$E$339,ROWS($E$339:E347)-1,COLUMNS($E$339:E347)-1),\"\")","v":{"$error":"#VALUE!"}},{"$f":"IF(OFFSET([1]DE100_7!$F$339,ROWS($F$339:F347)-1,COLUMNS($F$339:F347)-1)<>\"\",OFFSET([1]DE100_7!$F$339,ROWS($F$339:F347)-1,COLUMNS($F$339:F347)-1),\"\")","v":{"$error":"#VALUE!"}},{"$f":"IF(OFFSET([1]DE100_7!$G$339,ROWS($G$339:G347)-1,COLUMNS($G$339:G347)-1)<>\"\",OFFSET([1]DE100_7!$G$339,ROWS($G$339:G347)-1,COLUMNS($G$339:G347)-1),\"\")","v":{"$error":"#VALUE!"}},{"$f":"IF(OFFSET([1]DE100_7!$H$339,ROWS($H$339:H347)-1,COLUMNS($H$339:H347)-1)<>\"\",OFFSET([1]DE100_7!$H$339,ROWS($H$339:H347)-1,COLUMNS($H$339:H347)-1),\"\")","v":{"$error":"#VALUE!"}},{"$f":"IF(OFFSET([1]DE100_7!$I$339,ROWS($I$339:I347)-1,COLUMNS($I$339:I347)-1)<>\"\",OFFSET([1]DE100_7!$I$339,ROWS($I$339:I347)-1,COLUMNS($I$339:I347)-1),\"\")","v":{"$error":"#VALUE!"}},{"$f":"IF(OFFSET([1]DE100_7!$J$339,ROWS($J$339:J347)-1,COLUMNS($J$339:J347)-1)<>\"\",OFFSET([1]DE100_7!$J$339,ROWS($J$339:J347)-1,COLUMNS($J$339:J347)-1),\"\")","v":{"$error":"#VALUE!"}},{"$f":"IF(OFFSET([1]DE100_7!$K$339,ROWS($K$339:K347)-1,COLUMNS($K$339:K347)-1)<>\"\",OFFSET([1]DE100_7!$K$339,ROWS($K$339:K347)-1,COLUMNS($K$339:K347)-1),\"\")","v":{"$error":"#VALUE!"}},{"$f":"IF(OFFSET([1]DE100_7!$L$339,ROWS($L$339:L347)-1,COLUMNS($L$339:L347)-1)<>\"\",OFFSET([1]DE100_7!$L$339,ROWS($L$339:L347)-1,COLUMNS($L$339:L347)-1),\"\")","v":{"$error":"#VALUE!"}},{"$f":"IF(OFFSET([1]DE100_7!$M$339,ROWS($M$339:M347)-1,COLUMNS($M$339:M347)-1)<>\"\",OFFSET([1]DE100_7!$M$339,ROWS($M$339:M347)-1,COLUMNS($M$339:M347)-1),\"\")","v":{"$error":"#VALUE!"}},{"$f":"IF(OFFSET([1]DE100_7!$N$339,ROWS($N$339:N347)-1,COLUMNS($N$339:N347)-1)<>\"\",OFFSET([1]DE100_7!$N$339,ROWS($N$339:N347)-1,COLUMNS($N$339:N347)-1),\"\")","v":{"$error":"#VALUE!"}},{"$f":"IF(OFFSET([1]DE100_7!$O$339,ROWS($O$339:O347)-1,COLUMNS($O$339:O347)-1)<>\"\",OFFSET([1]DE100_7!$O$339,ROWS($O$339:O347)-1,COLUMNS($O$339:O347)-1),\"\")","v":{"$error":"#VALUE!"}},{"$f":"IF(OFFSET([1]DE100_7!$P$339,ROWS($P$339:P347)-1,COLUMNS($P$339:P347)-1)<>\"\",OFFSET([1]DE100_7!$P$339,ROWS($P$339:P347)-1,COLUMNS($P$339:P347)-1),\"\")","v":{"$error":"#VALUE!"}},{"$f":"IF(OFFSET([1]DE100_7!$Q$339,ROWS($Q$339:Q347)-1,COLUMNS($Q$339:Q347)-1)<>\"\",OFFSET([1]DE100_7!$Q$339,ROWS($Q$339:Q347)-1,COLUMNS($Q$339:Q347)-1),\"\")","v":{"$error":"#VALUE!"}},{"$f":"IF(OFFSET([1]DE100_7!$R$339,ROWS($R$339:R347)-1,COLUMNS($R$339:R347)-1)<>\"\",OFFSET([1]DE100_7!$R$339,ROWS($R$339:R347)-1,COLUMNS($R$339:R347)-1),\"\")","v":{"$error":"#VALUE!"}},{"$f":"IF(OFFSET([1]DE100_7!$S$339,ROWS($S$339:S347)-1,COLUMNS($S$339:S347)-1)<>\"\",OFFSET([1]DE100_7!$S$339,ROWS($S$339:S347)-1,COLUMNS($S$339:S347)-1),\"\")","v":{"$error":"#VALUE!"}},{"$f":"IF(OFFSET([1]DE100_7!$T$339,ROWS($T$339:T347)-1,COLUMNS($T$339:T347)-1)<>\"\",OFFSET([1]DE100_7!$T$339,ROWS($T$339:T347)-1,COLUMNS($T$339:T347)-1),\"\")","v":{"$error":"#VALUE!"}},{"$f":"IF(OFFSET([1]DE100_7!$U$339,ROWS($U$339:U347)-1,COLUMNS($U$339:U347)-1)<>\"\",OFFSET([1]DE100_7!$U$339,ROWS($U$339:U347)-1,COLUMNS($U$339:U347)-1),\"\")","v":{"$error":"#VALUE!"}},{"$f":"IF(OFFSET([1]DE100_7!$V$339,ROWS($V$339:V347)-1,COLUMNS($V$339:V347)-1)<>\"\",OFFSET([1]DE100_7!$V$339,ROWS($V$339:V347)-1,COLUMNS($V$339:V347)-1),\"\")","v":{"$error":"#VALUE!"}}]
[{"$f":"IF(OFFSET([1]DE100_7!$C$339,ROWS($C$339:C348)-1,COLUMNS($C$339:C348)-1)<>\"\",OFFSET([1]DE100_7!$C$339,ROWS($C$339:C348)-1,COLUMNS($C$339:C348)-1),\"\")","v":{"$error":"#VALUE!"}},{"$f":"IF(OFFSET([1]DE100_7!$D$339,ROWS($D$339:D348)-1,COLUMNS($D$339:D348)-1)<>\"\",OFFSET([1]DE100_7!$D$339,ROWS($D$339:D348)-1,COLUMNS($D$339:D348)-1),\"\")","v":{"$error":"#VALUE!"}},{"$f":"IF(OFFSET([1]DE100_7!$E$339,ROWS($E$339:E348)-1,COLUMNS($E$339:E348)-1)<>\"\",OFFSET([1]DE100_7!$E$339,ROWS($E$339:E348)-1,COLUMNS($E$339:E348)-1),\"\")","v":{"$error":"#VALUE!"}},{"$f":"IF(OFFSET([1]DE100_7!$F$339,ROWS($F$339:F348)-1,COLUMNS($F$339:F348)-1)<>\"\",OFFSET([1]DE100_7!$F$339,ROWS($F$339:F348)-1,COLUMNS($F$339:F348)-1),\"\")","v":{"$error":"#VALUE!"}},{"$f":"IF(OFFSET([1]DE100_7!$G$339,ROWS($G$339:G348)-1,COLUMNS($G$339:G348)-1)<>\"\",OFFSET([1]DE100_7!$G$339,ROWS($G$339:G348)-1,COLUMNS($G$339:G348)-1),\"\")","v":{"$error":"#VALUE!"}},{"$f":"IF(OFFSET([1]DE100_7!$H$339,ROWS($H$339:H348)-1,COLUMNS($H$339:H348)-1)<>\"\",OFFSET([1]DE100_7!$H$339,ROWS($H$339:H348)-1,COLUMNS($H$339:H348)-1),\"\")","v":{"$error":"#VALUE!"}},{"$f":"IF(OFFSET([1]DE100_7!$I$339,ROWS($I$339:I348)-1,COLUMNS($I$339:I348)-1)<>\"\",OFFSET([1]DE100_7!$I$339,ROWS($I$339:I348)-1,COLUMNS($I$339:I348)-1),\"\")","v":{"$error":"#VALUE!"}},{"$f":"IF(OFFSET([1]DE100_7!$J$339,ROWS($J$339:J348)-1,COLUMNS($J$339:J348)-1)<>\"\",OFFSET([1]DE100_7!$J$339,ROWS($J$339:J348)-1,COLUMNS($J$339:J348)-1),\"\")","v":{"$error":"#VALUE!"}},{"$f":"IF(OFFSET([1]DE100_7!$K$339,ROWS($K$339:K348)-1,COLUMNS($K$339:K348)-1)<>\"\",OFFSET([1]DE100_7!$K$339,ROWS($K$339:K348)-1,COLUMNS($K$339:K348)-1),\"\")","v":{"$error":"#VALUE!"}},{"$f":"IF(OFFSET([1]DE100_7!$L$339,ROWS($L$339:L348)-1,COLUMNS($L$339:L348)-1)<>\"\",OFFSET([1]DE100_7!$L$339,ROWS($L$339:L348)-1,COLUMNS($L$339:L348)-1),\"\")","v":{"$error":"#VALUE!"}},{"$f":"IF(OFFSET([1]DE100_7!$M$339,ROWS($M$339:M348)-1,COLUMNS($M$339:M348)-1)<>\"\",OFFSET([1]DE100_7!$M$339,ROWS($M$339:M348)-1,COLUMNS($M$339:M348)-1),\"\")","v":{"$error":"#VALUE!"}},{"$f":"IF(OFFSET([1]DE100_7!$N$339,ROWS($N$339:N348)-1,COLUMNS($N$339:N348)-1)<>\"\",OFFSET([1]DE100_7!$N$339,ROWS($N$339:N348)-1,COLUMNS($N$339:N348)-1),\"\")","v":{"$error":"#VALUE!"}},{"$f":"IF(OFFSET([1]DE100_7!$O$339,ROWS($O$339:O348)-1,COLUMNS($O$339:O348)-1)<>\"\",OFFSET([1]DE100_7!$O$339,ROWS($O$339:O348)-1,COLUMNS($O$339:O348)-1),\"\")","v":{"$error":"#VALUE!"}},{"$f":"IF(OFFSET([1]DE100_7!$P$339,ROWS($P$339:P348)-1,COLUMNS($P$339:P348)-1)<>\"\",OFFSET([1]DE100_7!$P$339,ROWS($P$339:P348)-1,COLUMNS($P$339:P348)-1),\"\")","v":{"$error":"#VALUE!"}},{"$f":"IF(OFFSET([1]DE100_7!$Q$339,ROWS($Q$339:Q348)-1,COLUMNS($Q$339:Q348)-1)<>\"\",OFFSET([1]DE100_7!$Q$339,ROWS($Q$339:Q348)-1,COLUMNS($Q$339:Q348)-1),\"\")","v":{"$error":"#VALUE!"}},{"$f":"IF(OFFSET([1]DE100_7!$R$339,ROWS($R$339:R348)-1,COLUMNS($R$339:R348)-1)<>\"\",OFFSET([1]DE100_7!$R$339,ROWS($R$339:R348)-1,COLUMNS($R$339:R348)-1),\"\")","v":{"$error":"#VALUE!"}},{"$f":"IF(OFFSET([1]DE100_7!$S$339,ROWS($S$339:S348)-1,COLUMNS($S$339:S348)-1)<>\"\",OFFSET([1]DE100_7!$S$339,ROWS($S$339:S348)-1,COLUMNS($S$339:S348)-1),\"\")","v":{"$error":"#VALUE!"}},{"$f":"IF(OFFSET([1]DE100_7!$T$339,ROWS($T$339:T348)-1,COLUMNS($T$339:T348)-1)<>\"\",OFFSET([1]DE100_7!$T$339,ROWS($T$339:T348)-1,COLUMNS($T$339:T348)-1),\"\")","v":{"$error":"#VALUE!"}},{"$f":"IF(OFFSET([1]DE100_7!$U$339,ROWS($U$339:U348)-1,COLUMNS($U$339:U348)-1)<>\"\",OFFSET([1]DE100_7!$U$339,ROWS($U$339:U348)-1,COLUMNS($U$339:U348)-1),\"\")","v":{"$error":"#VALUE!"}},{"$f":"IF(OFFSET([1]DE100_7!$V$339,ROWS($V$339:V348)-1,COLUMNS($V$339:V348)-1)<>\"\",OFFSET([1]DE100_7!$V$339,ROWS($V$339:V348)-1,COLUMNS($V$339:V348)-1),\"\")","v":{"$error":"#VALUE!"}}]
[{"$f":"IF(OFFSET([1]DE100_7!$C$339,ROWS($C$339:C349)-1,COLUMNS($C$339:C349)-1)<>\"\",OFFSET([1]DE100_7!$C$339,ROWS($C$339:C349)-1,COLUMNS($C$339:C349)-1),\"\")","v":{"$error":"#VALUE!"}},{"$f":"IF(OFFSET([1]DE100_7!$D$339,ROWS($D$339:D349)-1,COLUMNS($D$339:D349)-1)<>\"\",OFFSET([1]DE100_7!$D$339,ROWS($D$339:D349)-1,COLUMNS($D$339:D349)-1),\"\")","v":{"$error":"#VALUE!"}},{"$f":"IF(OFFSET([1]DE100_7!$E$339,ROWS($E$339:E349)-1,COLUMNS($E$339:E349)-1)<>\"\",OFFSET([1]DE100_7!$E$339,ROWS($E$339:E349)-1,COLUMNS($E$339:E349)-1),\"\")","v":{"$error":"#VALUE!"}},{"$f":"IF(OFFSET([1]DE100_7!$F$339,ROWS($F$339:F349)-1,COLUMNS($F$339:F349)-1)<>\"\",OFFSET([1]DE100_7!$F$339,ROWS($F$339:F349)-1,COLUMNS($F$339:F349)-1),\"\")","v":{"$error":"#VALUE!"}},{"$f":"IF(OFFSET([1]DE100_7!$G$339,ROWS($G$339:G349)-1,COLUMNS($G$339:G349)-1)<>\"\",OFFSET([1]DE100_7!$G$339,ROWS($G$339:G349)-1,COLUMNS($G$339:G349)-1),\"\")","v":{"$error":"#VALUE!"}},{"$f":"IF(OFFSET([1]DE100_7!$H$339,ROWS($H$339:H349)-1,COLUMNS($H$339:H349)-1)<>\"\",OFFSET([1]DE100_7!$H$339,ROWS($H$339:H349)-1,COLUMNS($H$339:H349)-1),\"\")","v":{"$error":"#VALUE!"}},{"$f":"IF(OFFSET([1]DE100_7!$I$339,ROWS($I$339:I349)-1,COLUMNS($I$339:I349)-1)<>\"\",OFFSET([1]DE100_7!$I$339,ROWS($I$339:I349)-1,COLUMNS($I$339:I349)-1),\"\")","v":{"$error":"#VALUE!"}},{"$f":"IF(OFFSET([1]DE100_7!$J$339,ROWS($J$339:J349)-1,COLUMNS($J$339:J349)-1)<>\"\",OFFSET([1]DE100_7!$J$339,ROWS($J$339:J349)-1,COLUMNS($J$339:J349)-1),\"\")","v":{"$error":"#VALUE!"}},{"$f":"IF(OFFSET([1]DE100_7!$K$339,ROWS($K$339:K349)-1,COLUMNS($K$339:K349)-1)<>\"\",OFFSET([1]DE100_7!$K$339,ROWS($K$339:K349)-1,COLUMNS($K$339:K349)-1),\"\")","v":{"$error":"#VALUE!"}},{"$f":"IF(OFFSET([1]DE100_7!$L$339,ROWS($L$339:L349)-1,COLUMNS($L$339:L349)-1)<>\"\",OFFSET([1]DE100_7!$L$339,ROWS($L$339:L349)-1,COLUMNS($L$339:L349)-1),\"\")","v":{"$error":"#VALUE!"}},{"$f":"IF(OFFSET([1]DE100_7!$M$339,ROWS($M$339:M349)-1,COLUMNS($M$339:M349)-1)<>\"\",OFFSET([1]DE100_7!$M$339,ROWS($M$339:M349)-1,COLUMNS($M$339:M349)-1),\"\")","v":{"$error":"#VALUE!"}},{"$f":"IF(OFFSET([1]DE100_7!$N$339,ROWS($N$339:N349)-1,COLUMNS($N$339:N349)-1)<>\"\",OFFSET([1]DE100_7!$N$339,ROWS($N$339:N349)-1,COLUMNS($N$339:N349)-1),\"\")","v":{"$error":"#VALUE!"}},{"$f":"IF(OFFSET([1]DE100_7!$O$339,ROWS($O$339:O349)-1,COLUMNS($O$339:O349)-1)<>\"\",OFFSET([1]DE100_7!$O$339,ROWS($O$339:O349)-1,COLUMNS($O$339:O349)-1),\"\")","v":{"$error":"#VALUE!"}},{"$f":"IF(OFFSET([1]DE100_7!$P$339,ROWS($P$339:P349)-1,COLUMNS($P$339:P349)-1)<>\"\",OFFSET([1]DE100_7!$P$339,ROWS($P$339:P349)-1,COLUMNS($P$339:P349)-1),\"\")","v":{"$error":"#VALUE!"}},{"$f":"IF(OFFSET([1]DE100_7!$Q$339,ROWS($Q$339:Q349)-1,COLUMNS($Q$339:Q349)-1)<>\"\",OFFSET([1]DE100_7!$Q$339,ROWS($Q$339:Q349)-1,COLUMNS($Q$339:Q349)-1),\"\")","v":{"$error":"#VALUE!"}},{"$f":"IF(OFFSET([1]DE100_7!$R$339,ROWS($R$339:R349)-1,COLUMNS($R$339:R349)-1)<>\"\",OFFSET([1]DE100_7!$R$339,ROWS($R$339:R349)-1,COLUMNS($R$339:R349)-1),\"\")","v":{"$error":"#VALUE!"}},{"$f":"IF(OFFSET([1]DE100_7!$S$339,ROWS($S$339:S349)-1,COLUMNS($S$339:S349)-1)<>\"\",OFFSET([1]DE100_7!$S$339,ROWS($S$339:S349)-1,COLUMNS($S$339:S349)-1),\"\")","v":{"$error":"#VALUE!"}},{"$f":"IF(OFFSET([1]DE100_7!$T$339,ROWS($T$339:T349)-1,COLUMNS($T$339:T349)-1)<>\"\",OFFSET([1]DE100_7!$T$339,ROWS($T$339:T349)-1,COLUMNS($T$339:T349)-1),\"\")","v":{"$error":"#VALUE!"}},{"$f":"IF(OFFSET([1]DE100_7!$U$339,ROWS($U$339:U349)-1,COLUMNS($U$339:U349)-1)<>\"\",OFFSET([1]DE100_7!$U$339,ROWS($U$339:U349)-1,COLUMNS($U$339:U349)-1),\"\")","v":{"$error":"#VALUE!"}},{"$f":"IF(OFFSET([1]DE100_7!$V$339,ROWS($V$339:V349)-1,COLUMNS($V$339:V349)-1)<>\"\",OFFSET([1]DE100_7!$V$339,ROWS($V$339:V349)-1,COLUMNS($V$339:V349)-1),\"\")","v":{"$error":"#VALUE!"}}]
[{"$f":"IF(OFFSET([1]DE100_7!$C$339,ROWS($C$339:C350)-1,COLUMNS($C$339:C350)-1)<>\"\",OFFSET([1]DE100_7!$C$339,ROWS($C$339:C350)-1,COLUMNS($C$339:C350)-1),\"\")","v":{"$error":"#VALUE!"}},{"$f":"IF(OFFSET([1]DE100_7!$D$339,ROWS($D$339:D350)-1,COLUMNS($D$339:D350)-1)<>\"\",OFFSET([1]DE100_7!$D$339,ROWS($D$339:D350)-1,COLUMNS($D$339:D350)-1),\"\")","v":{"$error":"#VALUE!"}},{"$f":"IF(OFFSET([1]DE100_7!$E$339,ROWS($E$339:E350)-1,COLUMNS($E$339:E350)-1)<>\"\",OFFSET([1]DE100_7!$E$339,ROWS($E$339:E350)-1,COLUMNS($E$339:E350)-1),\"\")","v":{"$error":"#VALUE!"}},{"$f":"IF(OFFSET([1]DE100_7!$F$339,ROWS($F$339:F350)-1,COLUMNS($F$339:F350)-1)<>\"\",OFFSET([1]DE100_7!$F$339,ROWS($F$339:F350)-1,COLUMNS($F$339:F350)-1),\"\")","v":{"$error":"#VALUE!"}},{"$f":"IF(OFFSET([1]DE100_7!$G$339,ROWS($G$339:G350)-1,COLUMNS($G$339:G350)-1)<>\"\",OFFSET([1]DE100_7!$G$339,ROWS($G$339:G350)-1,COLUMNS($G$339:G350)-1),\"\")","v":{"$error":"#VALUE!"}},{"$f":"IF(OFFSET([1]DE100_7!$H$339,ROWS($H$339:H350)-1,COLUMNS($H$339:H350)-1)<>\"\",OFFSET([1]DE100_7!$H$339,ROWS($H$339:H350)-1,COLUMNS($H$339:H350)-1),\"\")","v":{"$error":"#VALUE!"}},{"$f":"IF(OFFSET([1]DE100_7!$I$339,ROWS($I$339:I350)-1,COLUMNS($I$339:I350)-1)<>\"\",OFFSET([1]DE100_7!$I$339,ROWS($I$339:I350)-1,COLUMNS($I$339:I350)-1),\"\")","v":{"$error":"#VALUE!"}},{"$f":"IF(OFFSET([1]DE100_7!$J$339,ROWS($J$339:J350)-1,COLUMNS($J$339:J350)-1)<>\"\",OFFSET([1]DE100_7!$J$339,ROWS($J$339:J350)-1,COLUMNS($J$339:J350)-1),\"\")","v":{"$error":"#VALUE!"}},{"$f":"IF(OFFSET([1]DE100_7!$K$339,ROWS($K$339:K350)-1,COLUMNS($K$339:K350)-1)<>\"\",OFFSET([1]DE100_7!$K$339,ROWS($K$339:K350)-1,COLUMNS($K$339:K350)-1),\"\")","v":{"$error":"#VALUE!"}},{"$f":"IF(OFFSET([1]DE100_7!$L$339,ROWS($L$339:L350)-1,COLUMNS($L$339:L350)-1)<>\"\",OFFSET([1]DE100_7!$L$339,ROWS($L$339:L350)-1,COLUMNS($L$339:L350)-1),\"\")","v":{"$error":"#VALUE!"}},{"$f":"IF(OFFSET([1]DE100_7!$M$339,ROWS($M$339:M350)-1,COLUMNS($M$339:M350)-1)<>\"\",OFFSET([1]DE100_7!$M$339,ROWS($M$339:M350)-1,COLUMNS($M$339:M350)-1),\"\")","v":{"$error":"#VALUE!"}},{"$f":"IF(OFFSET([1]DE100_7!$N$339,ROWS($N$339:N350)-1,COLUMNS($N$339:N350)-1)<>\"\",OFFSET([1]DE100_7!$N$339,ROWS($N$339:N350)-1,COLUMNS($N$339:N350)-1),\"\")","v":{"$error":"#VALUE!"}},{"$f":"IF(OFFSET([1]DE100_7!$O$339,ROWS($O$339:O350)-1,COLUMNS($O$339:O350)-1)<>\"\",OFFSET([1]DE100_7!$O$339,ROWS($O$339:O350)-1,COLUMNS($O$339:O350)-1),\"\")","v":{"$error":"#VALUE!"}},{"$f":"IF(OFFSET([1]DE100_7!$P$339,ROWS($P$339:P350)-1,COLUMNS($P$339:P350)-1)<>\"\",OFFSET([1]DE100_7!$P$339,ROWS($P$339:P350)-1,COLUMNS($P$339:P350)-1),\"\")","v":{"$error":"#VALUE!"}},{"$f":"IF(OFFSET([1]DE100_7!$Q$339,ROWS($Q$339:Q350)-1,COLUMNS($Q$339:Q350)-1)<>\"\",OFFSET([1]DE100_7!$Q$339,ROWS($Q$339:Q350)-1,COLUMNS($Q$339:Q350)-1),\"\")","v":{"$error":"#VALUE!"}},{"$f":"IF(OFFSET([1]DE100_7!$R$339,ROWS($R$339:R350)-1,COLUMNS($R$339:R350)-1)<>\"\",OFFSET([1]DE100_7!$R$339,ROWS($R$339:R350)-1,COLUMNS($R$339:R350)-1),\"\")","v":{"$error":"#VALUE!"}},{"$f":"IF(OFFSET([1]DE100_7!$S$339,ROWS($S$339:S350)-1,COLUMNS($S$339:S350)-1)<>\"\",OFFSET([1]DE100_7!$S$339,ROWS($S$339:S350)-1,COLUMNS($S$339:S350)-1),\"\")","v":{"$error":"#VALUE!"}},{"$f":"IF(OFFSET([1]DE100_7!$T$339,ROWS($T$339:T350)-1,COLUMNS($T$339:T350)-1)<>\"\",OFFSET([1]DE100_7!$T$339,ROWS($T$339:T350)-1,COLUMNS($T$339:T350)-1),\"\")","v":{"$error":"#VALUE!"}},{"$f":"IF(OFFSET([1]DE100_7!$U$339,ROWS($U$339:U350)-1,COLUMNS($U$339:U350)-1)<>\"\",OFFSET([1]DE100_7!$U$339,ROWS($U$339:U350)-1,COLUMNS($U$339:U350)-1),\"\")","v":{"$error":"#VALUE!"}},{"$f":"IF(OFFSET([1]DE100_7!$V$339,ROWS($V$339:V350)-1,COLUMNS($V$339:V350)-1)<>\"\",OFFSET([1]DE100_7!$V$339,ROWS($V$339:V350)-1,COLUMNS($V$339:V350)-1),\"\")","v":{"$error":"#VALUE!"}}]
[{"$f":"IF(OFFSET([1]DE100_7!$C$339,ROWS($C$339:C351)-1,COLUMNS($C$339:C351)-1)<>\"\",OFFSET([1]DE100_7!$C$339,ROWS($C$339:C351)-1,COLUMNS($C$339:C351)-1),\"\")","v":{"$error":"#VALUE!"}},{"$f":"IF(OFFSET([1]DE100_7!$D$339,ROWS($D$339:D351)-1,COLUMNS($D$339:D351)-1)<>\"\",OFFSET([1]DE100_7!$D$339,ROWS($D$339:D351)-1,COLUMNS($D$339:D351)-1),\"\")","v":{"$error":"#VALUE!"}},{"$f":"IF(OFFSET([1]DE100_7!$E$339,ROWS($E$339:E351)-1,COLUMNS($E$339:E351)-1)<>\"\",OFFSET([1]DE100_7!$E$339,ROWS($E$339:E351)-1,COLUMNS($E$339:E351)-1),\"\")","v":{"$error":"#VALUE!"}},{"$f":"IF(OFFSET([1]DE100_7!$F$339,ROWS($F$339:F351)-1,COLUMNS($F$339:F351)-1)<>\"\",OFFSET([1]DE100_7!$F$339,ROWS($F$339:F351)-1,COLUMNS($F$339:F351)-1),\"\")","v":{"$error":"#VALUE!"}},{"$f":"IF(OFFSET([1]DE100_7!$G$339,ROWS($G$339:G351)-1,COLUMNS($G$339:G351)-1)<>\"\",OFFSET([1]DE100_7!$G$339,ROWS($G$339:G351)-1,COLUMNS($G$339:G351)-1),\"\")","v":{"$error":"#VALUE!"}},{"$f":"IF(OFFSET([1]DE100_7!$H$339,ROWS($H$339:H351)-1,COLUMNS($H$339:H351)-1)<>\"\",OFFSET([1]DE100_7!$H$339,ROWS($H$339:H351)-1,COLUMNS($H$339:H351)-1),\"\")","v":{"$error":"#VALUE!"}},{"$f":"IF(OFFSET([1]DE100_7!$I$339,ROWS($I$339:I351)-1,COLUMNS($I$339:I351)-1)<>\"\",OFFSET([1]DE100_7!$I$339,ROWS($I$339:I351)-1,COLUMNS($I$339:I351)-1),\"\")","v":{"$error":"#VALUE!"}},{"$f":"IF(OFFSET([1]DE100_7!$J$339,ROWS($J$339:J351)-1,COLUMNS($J$339:J351)-1)<>\"\",OFFSET([1]DE100_7!$J$339,ROWS($J$339:J351)-1,COLUMNS($J$339:J351)-1),\"\")","v":{"$error":"#VALUE!"}},{"$f":"IF(OFFSET([1]DE100_7!$K$339,ROWS($K$339:K351)-1,COLUMNS($K$339:K351)-1)<>\"\",OFFSET([1]DE100_7!$K$339,ROWS($K$339:K351)-1,COLUMNS($K$339:K351)-1),\"\")","v":{"$error":"#VALUE!"}},{"$f":"IF(OFFSET([1]DE100_7!$L$339,ROWS($L$339:L351)-1,COLUMNS($L$339:L351)-1)<>\"\",OFFSET([1]DE100_7!$L$339,ROWS($L$339:L351)-1,COLUMNS($L$339:L351)-1),\"\")","v":{"$error":"#VALUE!"}},{"$f":"IF(OFFSET([1]DE100_7!$M$339,ROWS($M$339:M351)-1,COLUMNS($M$339:M351)-1)<>\"\",OFFSET([1]DE100_7!$M$339,ROWS($M$339:M351)-1,COLUMNS($M$339:M351)-1),\"\")","v":{"$error":"#VALUE!"}},{"$f":"IF(OFFSET([1]DE100_7!$N$339,ROWS($N$339:N351)-1,COLUMNS($N$339:N351)-1)<>\"\",OFFSET([1]DE100_7!$N$339,ROWS($N$339:N351)-1,COLUMNS($N$339:N351)-1),\"\")","v":{"$error":"#VALUE!"}},{"$f":"IF(OFFSET([1]DE100_7!$O$339,ROWS($O$339:O351)-1,COLUMNS($O$339:O351)-1)<>\"\",OFFSET([1]DE100_7!$O$339,ROWS($O$339:O351)-1,COLUMNS($O$339:O351)-1),\"\")","v":{"$error":"#VALUE!"}},{"$f":"IF(OFFSET([1]DE100_7!$P$339,ROWS($P$339:P351)-1,COLUMNS($P$339:P351)-1)<>\"\",OFFSET([1]DE100_7!$P$339,ROWS($P$339:P351)-1,COLUMNS($P$339:P351)-1),\"\")","v":{"$error":"#VALUE!"}},{"$f":"IF(OFFSET([1]DE100_7!$Q$339,ROWS($Q$339:Q351)-1,COLUMNS($Q$339:Q351)-1)<>\"\",OFFSET([1]DE100_7!$Q$339,ROWS($Q$339:Q351)-1,COLUMNS($Q$339:Q351)-1),\"\")","v":{"$error":"#VALUE!"}},{"$f":"IF(OFFSET([1]DE100_7!$R$339,ROWS($R$339:R351)-1,COLUMNS($R$339:R351)-1)<>\"\",OFFSET([1]DE100_7!$R$339,ROWS($R$339:R351)-1,COLUMNS($R$339:R351)-1),\"\")","v":{"$error":"#VALUE!"}},{"$f":"IF(OFFSET([1]DE100_7!$S$339,ROWS($S$339:S351)-1,COLUMNS($S$339:S351)-1)<>\"\",OFFSET([1]DE100_7!$S$339,ROWS($S$339:S351)-1,COLUMNS($S$339:S351)-1),\"\")","v":{"$error":"#VALUE!"}},{"$f":"IF(OFFSET([1]DE100_7!$T$339,ROWS($T$339:T351)-1,COLUMNS($T$339:T351)-1)<>\"\",OFFSET([1]DE100_7!$T$339,ROWS($T$339:T351)-1,COLUMNS($T$339:T351)-1),\"\")","v":{"$error":"#VALUE!"}},{"$f":"IF(OFFSET([1]DE100_7!$U$339,ROWS($U$339:U351)-1,COLUMNS($U$339:U351)-1)<>\"\",OFFSET([1]DE100_7!$U$339,ROWS($U$339:U351)-1,COLUMNS($U$339:U351)-1),\"\")","v":{"$error":"#VALUE!"}},{"$f":"IF(OFFSET([1]DE100_7!$V$339,ROWS($V$339:V351)-1,COLUMNS($V$339:V351)-1)<>\"\",OFFSET([1]DE100_7!$V$339,ROWS($V$339:V351)-1,COLUMNS($V$339:V351)-1),\"\")","v":{"$error":"#VALUE!"}}]
[{"$f":"IF(OFFSET([1]DE100_7!$C$339,ROWS($C$339:C352)-1,COLUMNS($C$339:C352)-1)<>\"\",OFFSET([1]DE100_7!$C$339,ROWS($C$339:C352)-1,COLUMNS($C$339:C352)-1),\"\")","v":{"$error":"#VALUE!"}},{"$f":"IF(OFFSET([1]DE100_7!$D$339,ROWS($D$339:D352)-1,COLUMNS($D$339:D352)-1)<>\"\",OFFSET([1]DE100_7!$D$339,ROWS($D$339:D352)-1,COLUMNS($D$339:D352)-1),\"\")","v":{"$error":"#VALUE!"}},{"$f":"IF(OFFSET([1]DE100_7!$E$339,ROWS($E$339:E352)-1,COLUMNS($E$339:E352)-1)<>\"\",OFFSET([1]DE100_7!$E$339,ROWS($E$339:E352)-1,COLUMNS($E$339:E352)-1),\"\")","v":{"$error":"#VALUE!"}},{"$f":"IF(OFFSET([1]DE100_7!$F$339,ROWS($F$339:F352)-1,COLUMNS($F$339:F352)-1)<>\"\",OFFSET([1]DE100_7!$F$339,ROWS($F$339:F352)-1,COLUMNS($F$339:F352)-1),\"\")","v":{"$error":"#VALUE!"}},{"$f":"IF(OFFSET([1]DE100_7!$G$339,ROWS($G$339:G352)-1,COLUMNS($G$339:G352)-1)<>\"\",OFFSET([1]DE100_7!$G$339,ROWS($G$339:G352)-1,COLUMNS($G$339:G352)-1),\"\")","v":{"$error":"#VALUE!"}},{"$f":"IF(OFFSET([1]DE100_7!$H$339,ROWS($H$339:H352)-1,COLUMNS($H$339:H352)-1)<>\"\",OFFSET([1]DE100_7!$H$339,ROWS($H$339:H352)-1,COLUMNS($H$339:H352)-1),\"\")","v":{"$error":"#VALUE!"}},{"$f":"IF(OFFSET([1]DE100_7!$I$339,ROWS($I$339:I352)-1,COLUMNS($I$339:I352)-1)<>\"\",OFFSET([1]DE100_7!$I$339,ROWS($I$339:I352)-1,COLUMNS($I$339:I352)-1),\"\")","v":{"$error":"#VALUE!"}},{"$f":"IF(OFFSET([1]DE100_7!$J$339,ROWS($J$339:J352)-1,COLUMNS($J$339:J352)-1)<>\"\",OFFSET([1]DE100_7!$J$339,ROWS($J$339:J352)-1,COLUMNS($J$339:J352)-1),\"\")","v":{"$error":"#VALUE!"}},{"$f":"IF(OFFSET([1]DE100_7!$K$339,ROWS($K$339:K352)-1,COLUMNS($K$339:K352)-1)<>\"\",OFFSET([1]DE100_7!$K$339,ROWS($K$339:K352)-1,COLUMNS($K$339:K352)-1),\"\")","v":{"$error":"#VALUE!"}},{"$f":"IF(OFFSET([1]DE100_7!$L$339,ROWS($L$339:L352)-1,COLUMNS($L$339:L352)-1)<>\"\",OFFSET([1]DE100_7!$L$339,ROWS($L$339:L352)-1,COLUMNS($L$339:L352)-1),\"\")","v":{"$error":"#VALUE!"}},{"$f":"IF(OFFSET([1]DE100_7!$M$339,ROWS($M$339:M352)-1,COLUMNS($M$339:M352)-1)<>\"\",OFFSET([1]DE100_7!$M$339,ROWS($M$339:M352)-1,COLUMNS($M$339:M352)-1),\"\")","v":{"$error":"#VALUE!"}},{"$f":"IF(OFFSET([1]DE100_7!$N$339,ROWS($N$339:N352)-1,COLUMNS($N$339:N352)-1)<>\"\",OFFSET([1]DE100_7!$N$339,ROWS($N$339:N352)-1,COLUMNS($N$339:N352)-1),\"\")","v":{"$error":"#VALUE!"}},{"$f":"IF(OFFSET([1]DE100_7!$O$339,ROWS($O$339:O352)-1,COLUMNS($O$339:O352)-1)<>\"\",OFFSET([1]DE100_7!$O$339,ROWS($O$339:O352)-1,COLUMNS($O$339:O352)-1),\"\")","v":{"$error":"#VALUE!"}},{"$f":"IF(OFFSET([1]DE100_7!$P$339,ROWS($P$339:P352)-1,COLUMNS($P$339:P352)-1)<>\"\",OFFSET([1]DE100_7!$P$339,ROWS($P$339:P352)-1,COLUMNS($P$339:P352)-1),\"\")","v":{"$error":"#VALUE!"}},{"$f":"IF(OFFSET([1]DE100_7!$Q$339,ROWS($Q$339:Q352)-1,COLUMNS($Q$339:Q352)-1)<>\"\",OFFSET([1]DE100_7!$Q$339,ROWS($Q$339:Q352)-1,COLUMNS($Q$339:Q352)-1),\"\")","v":{"$error":"#VALUE!"}},{"$f":"IF(OFFSET([1]DE100_7!$R$339,ROWS($R$339:R352)-1,COLUMNS($R$339:R352)-1)<>\"\",OFFSET([1]DE100_7!$R$339,ROWS($R$339:R352)-1,COLUMNS($R$339:R352)-1),\"\")","v":{"$error":"#VALUE!"}},{"$f":"IF(OFFSET([1]DE100_7!$S$339,ROWS($S$339:S352)-1,COLUMNS($S$339:S352)-1)<>\"\",OFFSET([1]DE100_7!$S$339,ROWS($S$339:S352)-1,COLUMNS($S$339:S352)-1),\"\")","v":{"$error":"#VALUE!"}},{"$f":"IF(OFFSET([1]DE100_7!$T$339,ROWS($T$339:T352)-1,COLUMNS($T$339:T352)-1)<>\"\",OFFSET([1]DE100_7!$T$339,ROWS($T$339:T352)-1,COLUMNS($T$339:T352)-1),\"\")","v":{"$error":"#VALUE!"}},{"$f":"IF(OFFSET([1]DE100_7!$U$339,ROWS($U$339:U352)-1,COLUMNS($U$339:U352)-1)<>\"\",OFFSET([1]DE100_7!$U$339,ROWS($U$339:U352)-1,COLUMNS($U$339:U352)-1),\"\")","v":{"$error":"#VALUE!"}},{"$f":"IF(OFFSET([1]DE100_7!$V$339,ROWS($V$339:V352)-1,COLUMNS($V$339:V352)-1)<>\"\",OFFSET([1]DE100_7!$V$339,ROWS($V$339:V352)-1,COLUMNS($V$339:V352)-1),\"\")","v":{"$error":"#VALUE!"}}]
[{"$f":"IF(OFFSET([1]DE100_7!$C$339,ROWS($C$339:C353)-1,COLUMNS($C$339:C353)-1)<>\"\",OFFSET([1]DE100_7!$C$339,ROWS($C$339:C353)-1,COLUMNS($C$339:C353)-1),\"\")","v":{"$error":"#VALUE!"}},{"$f":"IF(OFFSET([1]DE100_7!$D$339,ROWS($D$339:D353)-1,COLUMNS($D$339:D353)-1)<>\"\",OFFSET([1]DE100_7!$D$339,ROWS($D$339:D353)-1,COLUMNS($D$339:D353)-1),\"\")","v":{"$error":"#VALUE!"}},{"$f":"IF(OFFSET([1]DE100_7!$E$339,ROWS($E$339:E353)-1,COLUMNS($E$339:E353)-1)<>\"\",OFFSET([1]DE100_7!$E$339,ROWS($E$339:E353)-1,COLUMNS($E$339:E353)-1),\"\")","v":{"$error":"#VALUE!"}},{"$f":"IF(OFFSET([1]DE100_7!$F$339,ROWS($F$339:F353)-1,COLUMNS($F$339:F353)-1)<>\"\",OFFSET([1]DE100_7!$F$339,ROWS($F$339:F353)-1,COLUMNS($F$339:F353)-1),\"\")","v":{"$error":"#VALUE!"}},{"$f":"IF(OFFSET([1]DE100_7!$G$339,ROWS($G$339:G353)-1,COLUMNS($G$339:G353)-1)<>\"\",OFFSET([1]DE100_7!$G$339,ROWS($G$339:G353)-1,COLUMNS($G$339:G353)-1),\"\")","v":{"$error":"#VALUE!"}},{"$f":"IF(OFFSET([1]DE100_7!$H$339,ROWS($H$339:H353)-1,COLUMNS($H$339:H353)-1)<>\"\",OFFSET([1]DE100_7!$H$339,ROWS($H$339:H353)-1,COLUMNS($H$339:H353)-1),\"\")","v":{"$error":"#VALUE!"}},{"$f":"IF(OFFSET([1]DE100_7!$I$339,ROWS($I$339:I353)-1,COLUMNS($I$339:I353)-1)<>\"\",OFFSET([1]DE100_7!$I$339,ROWS($I$339:I353)-1,COLUMNS($I$339:I353)-1),\"\")","v":{"$error":"#VALUE!"}},{"$f":"IF(OFFSET([1]DE100_7!$J$339,ROWS($J$339:J353)-1,COLUMNS($J$339:J353)-1)<>\"\",OFFSET([1]DE100_7!$J$339,ROWS($J$339:J353)-1,COLUMNS($J$339:J353)-1),\"\")","v":{"$error":"#VALUE!"}},{"$f":"IF(OFFSET([1]DE100_7!$K$339,ROWS($K$339:K353)-1,COLUMNS($K$339:K353)-1)<>\"\",OFFSET([1]DE100_7!$K$339,ROWS($K$339:K353)-1,COLUMNS($K$339:K353)-1),\"\")","v":{"$error":"#VALUE!"}},{"$f":"IF(OFFSET([1]DE100_7!$L$339,ROWS($L$339:L353)-1,COLUMNS($L$339:L353)-1)<>\"\",OFFSET([1]DE100_7!$L$339,ROWS($L$339:L353)-1,COLUMNS($L$339:L353)-1),\"\")","v":{"$error":"#VALUE!"}},{"$f":"IF(OFFSET([1]DE100_7!$M$339,ROWS($M$339:M353)-1,COLUMNS($M$339:M353)-1)<>\"\",OFFSET([1]DE100_7!$M$339,ROWS($M$339:M353)-1,COLUMNS($M$339:M353)-1),\"\")","v":{"$error":"#VALUE!"}},{"$f":"IF(OFFSET([1]DE100_7!$N$339,ROWS($N$339:N353)-1,COLUMNS($N$339:N353)-1)<>\"\",OFFSET([1]DE100_7!$N$339,ROWS($N$339:N353)-1,COLUMNS($N$339:N353)-1),\"\")","v":{"$error":"#VALUE!"}},{"$f":"IF(OFFSET([1]DE100_7!$O$339,ROWS($O$339:O353)-1,COLUMNS($O$339:O353)-1)<>\"\",OFFSET([1]DE100_7!$O$339,ROWS($O$339:O353)-1,COLUMNS($O$339:O353)-1),\"\")","v":{"$error":"#VALUE!"}},{"$f":"IF(OFFSET([1]DE100_7!$P$339,ROWS($P$339:P353)-1,COLUMNS($P$339:P353)-1)<>\"\",OFFSET([1]DE100_7!$P$339,ROWS($P$339:P353)-1,COLUMNS($P$339:P353)-1),\"\")","v":{"$error":"#VALUE!"}},{"$f":"IF(OFFSET([1]DE100_7!$Q$339,ROWS($Q$339:Q353)-1,COLUMNS($Q$339:Q353)-1)<>\"\",OFFSET([1]DE100_7!$Q$339,ROWS($Q$339:Q353)-1,COLUMNS($Q$339:Q353)-1),\"\")","v":{"$error":"#VALUE!"}},{"$f":"IF(OFFSET([1]DE100_7!$R$339,ROWS($R$339:R353)-1,COLUMNS($R$339:R353)-1)<>\"\",OFFSET([1]DE100_7!$R$339,ROWS($R$339:R353)-1,COLUMNS($R$339:R353)-1),\"\")","v":{"$error":"#VALUE!"}},{"$f":"IF(OFFSET([1]DE100_7!$S$339,ROWS($S$339:S353)-1,COLUMNS($S$339:S353)-1)<>\"\",OFFSET([1]DE100_7!$S$339,ROWS($S$339:S353)-1,COLUMNS($S$339:S353)-1),\"\")","v":{"$error":"#VALUE!"}},{"$f":"IF(OFFSET([1]DE100_7!$T$339,ROWS($T$339:T353)-1,COLUMNS($T$339:T353)-1)<>\"\",OFFSET([1]DE100_7!$T$339,ROWS($T$339:T353)-1,COLUMNS($T$339:T353)-1),\"\")","v":{"$error":"#VALUE!"}},{"$f":"IF(OFFSET([1]DE100_7!$U$339,ROWS($U$339:U353)-1,COLUMNS($U$339:U353)-1)<>\"\",OFFSET([1]DE100_7!$U$339,ROWS($U$339:U353)-1,COLUMNS($U$339:U353)-1),\"\")","v":{"$error":"#VALUE!"}},{"$f":"IF(OFFSET([1]DE100_7!$V$339,ROWS($V$339:V353)-1,COLUMNS($V$339:V353)-1)<>\"\",OFFSET([1]DE100_7!$V$339,ROWS($V$339:V353)-1,COLUMNS($V$339:V353)-1),\"\")","v":{"$error":"#VALUE!"}}]
[{"$f":"IF(OFFSET([1]DE100_7!$C$339,ROWS($C$339:C354)-1,COLUMNS($C$339:C354)-1)<>\"\",OFFSET([1]DE100_7!$C$339,ROWS($C$339:C354)-1,COLUMNS($C$339:C354)-1),\"\")","v":{"$error":"#VALUE!"}},null,null,null,{"$f":"IF(OFFSET([1]DE100_7!$G$339,ROWS($G$339:G354)-1,COLUMNS($G$339:G354)-1)<>\"\",OFFSET([1]DE100_7!$G$339,ROWS($G$339:G354)-1,COLUMNS($G$339:G354)-1),\"\")","v":{"$error":"#VALUE!"}},{"$f":"IF(OFFSET([1]DE100_7!$H$339,ROWS($H$339:H354)-1,COLUMNS($H$339:H354)-1)<>\"\",OFFSET([1]DE100_7!$H$339,ROWS($H$339:H354)-1,COLUMNS($H$339:H354)-1),\"\")","v":{"$error":"#VALUE!"}},{"$f":"IF(OFFSET([1]DE100_7!$I$339,ROWS($I$339:I354)-1,COLUMNS($I$339:I354)-1)<>\"\",OFFSET([1]DE100_7!$I$339,ROWS($I$339:I354)-1,COLUMNS($I$339:I354)-1),\"\")","v":{"$error":"#VALUE!"}},{"$f":"IF(OFFSET([1]DE100_7!$J$339,ROWS($J$339:J354)-1,COLUMNS($J$339:J354)-1)<>\"\",OFFSET([1]DE100_7!$J$339,ROWS($J$339:J354)-1,COLUMNS($J$339:J354)-1),\"\")","v":{"$error":"#VALUE!"}},{"$f":"IF(OFFSET([1]DE100_7!$K$339,ROWS($K$339:K354)-1,COLUMNS($K$339:K354)-1)<>\"\",OFFSET([1]DE100_7!$K$339,ROWS($K$339:K354)-1,COLUMNS($K$339:K354)-1),\"\")","v":{"$error":"#VALUE!"}},{"$f":"IF(OFFSET([1]DE100_7!$L$339,ROWS($L$339:L354)-1,COLUMNS($L$339:L354)-1)<>\"\",OFFSET([1]DE100_7!$L$339,ROWS($L$339:L354)-1,COLUMNS($L$339:L354)-1),\"\")","v":{"$error":"#VALUE!"}},{"$f":"IF(OFFSET([1]DE100_7!$M$339,ROWS($M$339:M354)-1,COLUMNS($M$339:M354)-1)<>\"\",OFFSET([1]DE100_7!$M$339,ROWS($M$339:M354)-1,COLUMNS($M$339:M354)-1),\"\")","v":{"$error":"#VALUE!"}},{"$f":"IF(OFFSET([1]DE100_7!$N$339,ROWS($N$339:N354)-1,COLUMNS($N$339:N354)-1)<>\"\",OFFSET([1]DE100_7!$N$339,ROWS($N$339:N354)-1,COLUMNS($N$339:N354)-1),\"\")","v":{"$error":"#VALUE!"}},{"$f":"IF(OFFSET([1]DE100_7!$O$339,ROWS($O$339:O354)-1,COLUMNS($O$339:O354)-1)<>\"\",OFFSET([1]DE100_7!$O$339,ROWS($O$339:O354)-1,COLUMNS($O$339:O354)-1),\"\")","v":{"$error":"#VALUE!"}},{"$f":"IF(OFFSET([1]DE100_7!$P$339,ROWS($P$339:P354)-1,COLUMNS($P$339:P354)-1)<>\"\",OFFSET([1]DE100_7!$P$339,ROWS($P$339:P354)-1,COLUMNS($P$339:P354)-1),\"\")","v":{"$error":"#VALUE!"}},{"$f":"IF(OFFSET([1]DE100_7!$Q$339,ROWS($Q$339:Q354)-1,COLUMNS($Q$339:Q354)-1)<>\"\",OFFSET([1]DE100_7!$Q$339,ROWS($Q$339:Q354)-1,COLUMNS($Q$339:Q354)-1),\"\")","v":{"$error":"#VALUE!"}},{"$f":"IF(OFFSET([1]DE100_7!$R$339,ROWS($R$339:R354)-1,COLUMNS($R$339:R354)-1)<>\"\",OFFSET([1]DE100_7!$R$339,ROWS($R$339:R354)-1,COLUMNS($R$339:R354)-1),\"\")","v":{"$error":"#VALUE!"}},{"$f":"IF(OFFSET([1]DE100_7!$S$339,ROWS($S$339:S354)-1,COLUMNS($S$339:S354)-1)<>\"\",OFFSET([1]DE100_7!$S$339,ROWS($S$339:S354)-1,COLUMNS($S$339:S354)-1),\"\")","v":{"$error":"#VALUE!"}},{"$f":"IF(OFFSET([1]DE100_7!$T$339,ROWS($T$339:T354)-1,COLUMNS($T$339:T354)-1)<>\"\",OFFSET([1]DE100_7!$T$339,ROWS($T$339:T354)-1,COLUMNS($T$339:T354)-1),\"\")","v":{"$error":"#VALUE!"}},{"$f":"IF(OFFSET([1]DE100_7!$U$339,ROWS($U$339:U354)-1,COLUMNS($U$339:U354)-1)<>\"\",OFFSET([1]DE100_7!$U$339,ROWS($U$339:U354)-1,COLUMNS($U$339:U354)-1),\"\")","v":{"$error":"#VALUE!"}},{"$f":"IF(OFFSET([1]DE100_7!$V$339,ROWS($V$339:V354)-1,COLUMNS($V$339:V354)-1)<>\"\",OFFSET([1]DE100_7!$V$339,ROWS($V$339:V354)-1,COLUMNS($V$339:V354)-1),\"\")","v":{"$error":"#VALUE!"}}]
[{"$f":"IF(OFFSET([1]DE100_7!$C$339,ROWS($C$339:C355)-1,COLUMNS($C$339:C355)-1)<>\"\",OFFSET([1]DE100_7!$C$339,ROWS($C$339:C355)-1,COLUMNS($C$339:C355)-1),\"\")","v":{"$error":"#VALUE!"}},{"$f":"IF(OFFSET([1]DE100_7!$D$339,ROWS($D$339:D355)-1,COLUMNS($D$339:D355)-1)<>\"\",OFFSET([1]DE100_7!$D$339,ROWS($D$339:D355)-1,COLUMNS($D$339:D355)-1),\"\")","v":{"$error":"#VALUE!"}},{"$f":"IF(OFFSET([1]DE100_7!$E$339,ROWS($E$339:E355)-1,COLUMNS($E$339:E355)-1)<>\"\",OFFSET([1]DE100_7!$E$339,ROWS($E$339:E355)-1,COLUMNS($E$339:E355)-1),\"\")","v":{"$error":"#VALUE!"}},{"$f":"IF(OFFSET([1]DE100_7!$F$339,ROWS($F$339:F355)-1,COLUMNS($F$339:F355)-1)<>\"\",OFFSET([1]DE100_7!$F$339,ROWS($F$339:F355)-1,COLUMNS($F$339:F355)-1),\"\")","v":{"$error":"#VALUE!"}},{"$f":"IF(OFFSET([1]DE100_7!$G$339,ROWS($G$339:G355)-1,COLUMNS($G$339:G355)-1)<>\"\",OFFSET([1]DE100_7!$G$339,ROWS($G$339:G355)-1,COLUMNS($G$339:G355)-1),\"\")","v":{"$error":"#VALUE!"}},{"$f":"IF(OFFSET([1]DE100_7!$H$339,ROWS($H$339:H355)-1,COLUMNS($H$339:H355)-1)<>\"\",OFFSET([1]DE100_7!$H$339,ROWS($H$339:H355)-1,COLUMNS($H$339:H355)-1),\"\")","v":{"$error":"#VALUE!"}},{"$f":"IF(OFFSET([1]DE100_7!$I$339,ROWS($I$339:I355)-1,COLUMNS($I$339:I355)-1)<>\"\",OFFSET([1]DE100_7!$I$339,ROWS($I$339:I355)-1,COLUMNS($I$339:I355)-1),\"\")","v":{"$error":"#VALUE!"}},{"$f":"IF(OFFSET([1]DE100_7!$J$339,ROWS($J$339:J355)-1,COLUMNS($J$339:J355)-1)<>\"\",OFFSET([1]DE100_7!$J$339,ROWS($J$339:J355)-1,COLUMNS($J$339:J355)-1),\"\")","v":{"$error":"#VALUE!"}},{"$f":"IF(OFFSET([1]DE100_7!$K$339,ROWS($K$339:K355)-1,COLUMNS($K$339:K355)-1)<>\"\",OFFSET([1]DE100_7!$K$339,ROWS($K$339:K355)-1,COLUMNS($K$339:K355)-1),\"\")","v":{"$error":"#VALUE!"}},{"$f":"IF(OFFSET([1]DE100_7!$L$339,ROWS($L$339:L355)-1,COLUMNS($L$339:L355)-1)<>\"\",OFFSET([1]DE100_7!$L$339,ROWS($L$339:L355)-1,COLUMNS($L$339:L355)-1),\"\")","v":{"$error":"#VALUE!"}},{"$f":"IF(OFFSET([1]DE100_7!$M$339,ROWS($M$339:M355)-1,COLUMNS($M$339:M355)-1)<>\"\",OFFSET([1]DE100_7!$M$339,ROWS($M$339:M355)-1,COLUMNS($M$339:M355)-1),\"\")","v":{"$error":"#VALUE!"}},{"$f":"IF(OFFSET([1]DE100_7!$N$339,ROWS($N$339:N355)-1,COLUMNS($N$339:N355)-1)<>\"\",OFFSET([1]DE100_7!$N$339,ROWS($N$339:N355)-1,COLUMNS($N$339:N355)-1),\"\")","v":{"$error":"#VALUE!"}},{"$f":"IF(OFFSET([1]DE100_7!$O$339,ROWS($O$339:O355)-1,COLUMNS($O$339:O355)-1)<>\"\",OFFSET([1]DE100_7!$O$339,ROWS($O$339:O355)-1,COLUMNS($O$339:O355)-1),\"\")","v":{"$error":"#VALUE!"}},{"$f":"IF(OFFSET([1]DE100_7!$P$339,ROWS($P$339:P355)-1,COLUMNS($P$339:P355)-1)<>\"\",OFFSET([1]DE100_7!$P$339,ROWS($P$339:P355)-1,COLUMNS($P$339:P355)-1),\"\")","v":{"$error":"#VALUE!"}},{"$f":"IF(OFFSET([1]DE100_7!$Q$339,ROWS($Q$339:Q355)-1,COLUMNS($Q$339:Q355)-1)<>\"\",OFFSET([1]DE100_7!$Q$339,ROWS($Q$339:Q355)-1,COLUMNS($Q$339:Q355)-1),\"\")","v":{"$error":"#VALUE!"}},{"$f":"IF(OFFSET([1]DE100_7!$R$339,ROWS($R$339:R355)-1,COLUMNS($R$339:R355)-1)<>\"\",OFFSET([1]DE100_7!$R$339,ROWS($R$339:R355)-1,COLUMNS($R$339:R355)-1),\"\")","v":{"$error":"#VALUE!"}},{"$f":"IF(OFFSET([1]DE100_7!$S$339,ROWS($S$339:S355)-1,COLUMNS($S$339:S355)-1)<>\"\",OFFSET([1]DE100_7!$S$339,ROWS($S$339:S355)-1,COLUMNS($S$339:S355)-1),\"\")","v":{"$error":"#VALUE!"}},{"$f":"IF(OFFSET([1]DE100_7!$T$339,ROWS($T$339:T355)-1,COLUMNS($T$339:T355)-1)<>\"\",OFFSET([1]DE100_7!$T$339,ROWS($T$339:T355)-1,COLUMNS($T$339:T355)-1),\"\")","v":{"$error":"#VALUE!"}},{"$f":"IF(OFFSET([1]DE100_7!$U$339,ROWS($U$339:U355)-1,COLUMNS($U$339:U355)-1)<>\"\",OFFSET([1]DE100_7!$U$339,ROWS($U$339:U355)-1,COLUMNS($U$339:U355)-1),\"\")","v":{"$error":"#VALUE!"}},{"$f":"IF(OFFSET([1]DE100_7!$V$339,ROWS($V$339:V355)-1,COLUMNS($V$339:V355)-1)<>\"\",OFFSET([1]DE100_7!$V$339,ROWS($V$339:V355)-1,COLUMNS($V$339:V355)-1),\"\")","v":{"$error":"#VALUE!"}}]
[{"$f":"IF(OFFSET([1]DE100_7!$C$339,ROWS($C$339:C356)-1,COLUMNS($C$339:C356)-1)<>\"\",OFFSET([1]DE100_7!$C$339,ROWS($C$339:C356)-1,COLUMNS($C$339:C356)-1),\"\")","v":{"$error":"#VALUE!"}},{"$f":"IF(OFFSET([1]DE100_7!$D$339,ROWS($D$339:D356)-1,COLUMNS($D$339:D356)-1)<>\"\",OFFSET([1]DE100_7!$D$339,ROWS($D$339:D356)-1,COLUMNS($D$339:D356)-1),\"\")","v":{"$error":"#VALUE!"}},{"$f":"IF(OFFSET([1]DE100_7!$E$339,ROWS($E$339:E356)-1,COLUMNS($E$339:E356)-1)<>\"\",OFFSET([1]DE100_7!$E$339,ROWS($E$339:E356)-1,COLUMNS($E$339:E356)-1),\"\")","v":{"$error":"#VALUE!"}},{"$f":"IF(OFFSET([1]DE100_7!$F$339,ROWS($F$339:F356)-1,COLUMNS($F$339:F356)-1)<>\"\",OFFSET([1]DE100_7!$F$339,ROWS($F$339:F356)-1,COLUMNS($F$339:F356)-1),\"\")","v":{"$error":"#VALUE!"}},{"$f":"IF(OFFSET([1]DE100_7!$G$339,ROWS($G$339:G356)-1,COLUMNS($G$339:G356)-1)<>\"\",OFFSET([1]DE100_7!$G$339,ROWS($G$339:G356)-1,COLUMNS($G$339:G356)-1),\"\")","v":{"$error":"#VALUE!"}},{"$f":"IF(OFFSET([1]DE100_7!$H$339,ROWS($H$339:H356)-1,COLUMNS($H$339:H356)-1)<>\"\",OFFSET([1]DE100_7!$H$339,ROWS($H$339:H356)-1,COLUMNS($H$339:H356)-1),\"\")","v":{"$error":"#VALUE!"}},{"$f":"IF(OFFSET([1]DE100_7!$I$339,ROWS($I$339:I356)-1,COLUMNS($I$339:I356)-1)<>\"\",OFFSET([1]DE100_7!$I$339,ROWS($I$339:I356)-1,COLUMNS($I$339:I356)-1),\"\")","v":{"$error":"#VALUE!"}},{"$f":"IF(OFFSET([1]DE100_7!$J$339,ROWS($J$339:J356)-1,COLUMNS($J$339:J356)-1)<>\"\",OFFSET([1]DE100_7!$J$339,ROWS($J$339:J356)-1,COLUMNS($J$339:J356)-1),\"\")","v":{"$error":"#VALUE!"}},{"$f":"IF(OFFSET([1]DE100_7!$K$339,ROWS($K$339:K356)-1,COLUMNS($K$339:K356)-1)<>\"\",OFFSET([1]DE100_7!$K$339,ROWS($K$339:K356)-1,COLUMNS($K$339:K356)-1),\"\")","v":{"$error":"#VALUE!"}},{"$f":"IF(OFFSET([1]DE100_7!$L$339,ROWS($L$339:L356)-1,COLUMNS($L$339:L356)-1)<>\"\",OFFSET([1]DE100_7!$L$339,ROWS($L$339:L356)-1,COLUMNS($L$339:L356)-1),\"\")","v":{"$error":"#VALUE!"}},{"$f":"IF(OFFSET([1]DE100_7!$M$339,ROWS($M$339:M356)-1,COLUMNS($M$339:M356)-1)<>\"\",OFFSET([1]DE100_7!$M$339,ROWS($M$339:M356)-1,COLUMNS($M$339:M356)-1),\"\")","v":{"$error":"#VALUE!"}},{"$f":"IF(OFFSET([1]DE100_7!$N$339,ROWS($N$339:N356)-1,COLUMNS($N$339:N356)-1)<>\"\",OFFSET([1]DE100_7!$N$339,ROWS($N$339:N356)-1,COLUMNS($N$339:N356)-1),\"\")","v":{"$error":"#VALUE!"}},{"$f":"IF(OFFSET([1]DE100_7!$O$339,ROWS($O$339:O356)-1,COLUMNS($O$339:O356)-1)<>\"\",OFFSET([1]DE100_7!$O$339,ROWS($O$339:O356)-1,COLUMNS($O$339:O356)-1),\"\")","v":{"$error":"#VALUE!"}},{"$f":"IF(OFFSET([1]DE100_7!$P$339,ROWS($P$339:P356)-1,COLUMNS($P$339:P356)-1)<>\"\",OFFSET([1]DE100_7!$P$339,ROWS($P$339:P356)-1,COLUMNS($P$339:P356)-1),\"\")","v":{"$error":"#VALUE!"}},{"$f":"IF(OFFSET([1]DE100_7!$Q$339,ROWS($Q$339:Q356)-1,COLUMNS($Q$339:Q356)-1)<>\"\",OFFSET([1]DE100_7!$Q$339,ROWS($Q$339:Q356)-1,COLUMNS($Q$339:Q356)-1),\"\")","v":{"$error":"#VALUE!"}},{"$f":"IF(OFFSET([1]DE100_7!$R$339,ROWS($R$339:R356)-1,COLUMNS($R$339:R356)-1)<>\"\",OFFSET([1]DE100_7!$R$339,ROWS($R$339:R356)-1,COLUMNS($R$339:R356)-1),\"\")","v":{"$error":"#VALUE!"}},{"$f":"IF(OFFSET([1]DE100_7!$S$339,ROWS($S$339:S356)-1,COLUMNS($S$339:S356)-1)<>\"\",OFFSET([1]DE100_7!$S$339,ROWS($S$339:S356)-1,COLUMNS($S$339:S356)-1),\"\")","v":{"$error":"#VALUE!"}},{"$f":"IF(OFFSET([1]DE100_7!$T$339,ROWS($T$339:T356)-1,COLUMNS($T$339:T356)-1)<>\"\",OFFSET([1]DE100_7!$T$339,ROWS($T$339:T356)-1,COLUMNS($T$339:T356)-1),\"\")","v":{"$error":"#VALUE!"}},{"$f":"IF(OFFSET([1]DE100_7!$U$339,ROWS($U$339:U356)-1,COLUMNS($U$339:U356)-1)<>\"\",OFFSET([1]DE100_7!$U$339,ROWS($U$339:U356)-1,COLUMNS($U$339:U356)-1),\"\")","v":{"$error":"#VALUE!"}},{"$f":"IF(OFFSET([1]DE100_7!$V$339,ROWS($V$339:V356)-1,COLUMNS($V$339:V356)-1)<>\"\",OFFSET([1]DE100_7!$V$339,ROWS($V$339:V356)-1,COLUMNS($V$339:V356)-1),\"\")","v":{"$error":"#VALUE!"}}]
[{"$f":"IF(OFFSET([1]DE100_7!$C$339,ROWS($C$339:C357)-1,COLUMNS($C$339:C357)-1)<>\"\",OFFSET([1]DE100_7!$C$339,ROWS($C$339:C357)-1,COLUMNS($C$339:C357)-1),\"\")","v":{"$error":"#VALUE!"}},null,null,null,{"$f":"IF(OFFSET([1]DE100_7!$G$339,ROWS($G$339:G357)-1,COLUMNS($G$339:G357)-1)<>\"\",OFFSET([1]DE100_7!$G$339,ROWS($G$339:G357)-1,COLUMNS($G$339:G357)-1),\"\")","v":{"$error":"#VALUE!"}},{"$f":"IF(OFFSET([1]DE100_7!$H$339,ROWS($H$339:H357)-1,COLUMNS($H$339:H357)-1)<>\"\",OFFSET([1]DE100_7!$H$339,ROWS($H$339:H357)-1,COLUMNS($H$339:H357)-1),\"\")","v":{"$error":"#VALUE!"}},{"$f":"IF(OFFSET([1]DE100_7!$I$339,ROWS($I$339:I357)-1,COLUMNS($I$339:I357)-1)<>\"\",OFFSET([1]DE100_7!$I$339,ROWS($I$339:I357)-1,COLUMNS($I$339:I357)-1),\"\")","v":{"$error":"#VALUE!"}},{"$f":"IF(OFFSET([1]DE100_7!$J$339,ROWS($J$339:J357)-1,COLUMNS($J$339:J357)-1)<>\"\",OFFSET([1]DE100_7!$J$339,ROWS($J$339:J357)-1,COLUMNS($J$339:J357)-1),\"\")","v":{"$error":"#VALUE!"}},{"$f":"IF(OFFSET([1]DE100_7!$K$339,ROWS($K$339:K357)-1,COLUMNS($K$339:K357)-1)<>\"\",OFFSET([1]DE100_7!$K$339,ROWS($K$339:K357)-1,COLUMNS($K$339:K357)-1),\"\")","v":{"$error":"#VALUE!"}},{"$f":"IF(OFFSET([1]DE100_7!$L$339,ROWS($L$339:L357)-1,COLUMNS($L$339:L357)-1)<>\"\",OFFSET([1]DE100_7!$L$339,ROWS($L$339:L357)-1,COLUMNS($L$339:L357)-1),\"\")","v":{"$error":"#VALUE!"}},{"$f":"IF(OFFSET([1]DE100_7!$M$339,ROWS($M$339:M357)-1,COLUMNS($M$339:M357)-1)<>\"\",OFFSET([1]DE100_7!$M$339,ROWS($M$339:M357)-1,COLUMNS($M$339:M357)-1),\"\")","v":{"$error":"#VALUE!"}},{"$f":"IF(OFFSET([1]DE100_7!$N$339,ROWS($N$339:N357)-1,COLUMNS($N$339:N357)-1)<>\"\",OFFSET([1]DE100_7!$N$339,ROWS($N$339:N357)-1,COLUMNS($N$339:N357)-1),\"\")","v":{"$error":"#VALUE!"}},{"$f":"IF(OFFSET([1]DE100_7!$O$339,ROWS($O$339:O357)-1,COLUMNS($O$339:O357)-1)<>\"\",OFFSET([1]DE100_7!$O$339,ROWS($O$339:O357)-1,COLUMNS($O$339:O357)-1),\"\")","v":{"$error":"#VALUE!"}},{"$f":"IF(OFFSET([1]DE100_7!$P$339,ROWS($P$339:P357)-1,COLUMNS($P$339:P357)-1)<>\"\",OFFSET([1]DE100_7!$P$339,ROWS($P$339:P357)-1,COLUMNS($P$339:P357)-1),\"\")","v":{"$error":"#VALUE!"}},{"$f":"IF(OFFSET([1]DE100_7!$Q$339,ROWS($Q$339:Q357)-1,COLUMNS($Q$339:Q357)-1)<>\"\",OFFSET([1]DE100_7!$Q$339,ROWS($Q$339:Q357)-1,COLUMNS($Q$339:Q357)-1),\"\")","v":{"$error":"#VALUE!"}},{"$f":"IF(OFFSET([1]DE100_7!$R$339,ROWS($R$339:R357)-1,COLUMNS($R$339:R357)-1)<>\"\",OFFSET([1]DE100_7!$R$339,ROWS($R$339:R357)-1,COLUMNS($R$339:R357)-1),\"\")","v":{"$error":"#VALUE!"}},{"$f":"IF(OFFSET([1]DE100_7!$S$339,ROWS($S$339:S357)-1,COLUMNS($S$339:S357)-1)<>\"\",OFFSET([1]DE100_7!$S$339,ROWS($S$339:S357)-1,COLUMNS($S$339:S357)-1),\"\")","v":{"$error":"#VALUE!"}},{"$f":"IF(OFFSET([1]DE100_7!$T$339,ROWS($T$339:T357)-1,COLUMNS($T$339:T357)-1)<>\"\",OFFSET([1]DE100_7!$T$339,ROWS($T$339:T357)-1,COLUMNS($T$339:T357)-1),\"\")","v":{"$error":"#VALUE!"}},{"$f":"IF(OFFSET([1]DE100_7!$U$339,ROWS($U$339:U357)-1,COLUMNS($U$339:U357)-1)<>\"\",OFFSET([1]DE100_7!$U$339,ROWS($U$339:U357)-1,COLUMNS($U$339:U357)-1),\"\")","v":{"$error":"#VALUE!"}},{"$f":"IF(OFFSET([1]DE100_7!$V$339,ROWS($V$339:V357)-1,COLUMNS($V$339:V357)-1)<>\"\",OFFSET([1]DE100_7!$V$339,ROWS($V$339:V357)-1,COLUMNS($V$339:V357)-1),\"\")","v":{"$error":"#VALUE!"}}]
[{"$f":"IF(OFFSET([1]DE100_7!$C$339,ROWS($C$339:C358)-1,COLUMNS($C$339:C358)-1)<>\"\",OFFSET([1]DE100_7!$C$339,ROWS($C$339:C358)-1,COLUMNS($C$339:C358)-1),\"\")","v":{"$error":"#VALUE!"}},{"$f":"IF(OFFSET([1]DE100_7!$D$339,ROWS($D$339:D358)-1,COLUMNS($D$339:D358)-1)<>\"\",OFFSET([1]DE100_7!$D$339,ROWS($D$339:D358)-1,COLUMNS($D$339:D358)-1),\"\")","v":{"$error":"#VALUE!"}},{"$f":"IF(OFFSET([1]DE100_7!$E$339,ROWS($E$339:E358)-1,COLUMNS($E$339:E358)-1)<>\"\",OFFSET([1]DE100_7!$E$339,ROWS($E$339:E358)-1,COLUMNS($E$339:E358)-1),\"\")","v":{"$error":"#VALUE!"}},{"$f":"IF(OFFSET([1]DE100_7!$F$339,ROWS($F$339:F358)-1,COLUMNS($F$339:F358)-1)<>\"\",OFFSET([1]DE100_7!$F$339,ROWS($F$339:F358)-1,COLUMNS($F$339:F358)-1),\"\")","v":{"$error":"#VALUE!"}},{"$f":"IF(OFFSET([1]DE100_7!$G$339,ROWS($G$339:G358)-1,COLUMNS($G$339:G358)-1)<>\"\",OFFSET([1]DE100_7!$G$339,ROWS($G$339:G358)-1,COLUMNS($G$339:G358)-1),\"\")","v":{"$error":"#VALUE!"}},{"$f":"IF(OFFSET([1]DE100_7!$H$339,ROWS($H$339:H358)-1,COLUMNS($H$339:H358)-1)<>\"\",OFFSET([1]DE100_7!$H$339,ROWS($H$339:H358)-1,COLUMNS($H$339:H358)-1),\"\")","v":{"$error":"#VALUE!"}},{"$f":"IF(OFFSET([1]DE100_7!$I$339,ROWS($I$339:I358)-1,COLUMNS($I$339:I358)-1)<>\"\",OFFSET([1]DE100_7!$I$339,ROWS($I$339:I358)-1,COLUMNS($I$339:I358)-1),\"\")","v":{"$error":"#VALUE!"}},{"$f":"IF(OFFSET([1]DE100_7!$J$339,ROWS($J$339:J358)-1,COLUMNS($J$339:J358)-1)<>\"\",OFFSET([1]DE100_7!$J$339,ROWS($J$339:J358)-1,COLUMNS($J$339:J358)-1),\"\")","v":{"$error":"#VALUE!"}},{"$f":"IF(OFFSET([1]DE100_7!$K$339,ROWS($K$339:K358)-1,COLUMNS($K$339:K358)-1)<>\"\",OFFSET([1]DE100_7!$K$339,ROWS($K$339:K358)-1,COLUMNS($K$339:K358)-1),\"\")","v":{"$error":"#VALUE!"}},{"$f":"IF(OFFSET([1]DE100_7!$L$339,ROWS($L$339:L358)-1,COLUMNS($L$339:L358)-1)<>\"\",OFFSET([1]DE100_7!$L$339,ROWS($L$339:L358)-1,COLUMNS($L$339:L358)-1),\"\")","v":{"$error":"#VALUE!"}},{"$f":"IF(OFFSET([1]DE100_7!$M$339,ROWS($M$339:M358)-1,COLUMNS($M$339:M358)-1)<>\"\",OFFSET([1]DE100_7!$M$339,ROWS($M$339:M358)-1,COLUMNS($M$339:M358)-1),\"\")","v":{"$error":"#VALUE!"}},{"$f":"IF(OFFSET([1]DE100_7!$N$339,ROWS($N$339:N358)-1,COLUMNS($N$339:N358)-1)<>\"\",OFFSET([1]DE100_7!$N$339,ROWS($N$339:N358)-1,COLUMNS($N$339:N358)-1),\"\")","v":{"$error":"#VALUE!"}},{"$f":"IF(OFFSET([1]DE100_7!$O$339,ROWS($O$339:O358)-1,COLUMNS($O$339:O358)-1)<>\"\",OFFSET([1]DE100_7!$O$339,ROWS($O$339:O358)-1,COLUMNS($O$339:O358)-1),\"\")","v":{"$error":"#VALUE!"}},{"$f":"IF(OFFSET([1]DE100_7!$P$339,ROWS($P$339:P358)-1,COLUMNS($P$339:P358)-1)<>\"\",OFFSET([1]DE100_7!$P$339,ROWS($P$339:P358)-1,COLUMNS($P$339:P358)-1),\"\")","v":{"$error":"#VALUE!"}},{"$f":"IF(OFFSET([1]DE100_7!$Q$339,ROWS($Q$339:Q358)-1,COLUMNS($Q$339:Q358)-1)<>\"\",OFFSET([1]DE100_7!$Q$339,ROWS($Q$339:Q358)-1,COLUMNS($Q$339:Q358)-1),\"\")","v":{"$error":"#VALUE!"}},{"$f":"IF(OFFSET([1]DE100_7!$R$339,ROWS($R$339:R358)-1,COLUMNS($R$339:R358)-1)<>\"\",OFFSET([1]DE100_7!$R$339,ROWS($R$339:R358)-1,COLUMNS($R$339:R358)-1),\"\")","v":{"$error":"#VALUE!"}},{"$f":"IF(OFFSET([1]DE100_7!$S$339,ROWS($S$339:S358)-1,COLUMNS($S$339:S358)-1)<>\"\",OFFSET([1]DE100_7!$S$339,ROWS($S$339:S358)-1,COLUMNS($S$339:S358)-1),\"\")","v":{"$error":"#VALUE!"}},{"$f":"IF(OFFSET([1]DE100_7!$T$339,ROWS($T$339:T358)-1,COLUMNS($T$339:T358)-1)<>\"\",OFFSET([1]DE100_7!$T$339,ROWS($T$339:T358)-1,COLUMNS($T$339:T358)-1),\"\")","v":{"$error":"#VALUE!"}},{"$f":"IF(OFFSET([1]DE100_7!$U$339,ROWS($U$339:U358)-1,COLUMNS($U$339:U358)-1)<>\"\",OFFSET([1]DE100_7!$U$339,ROWS($U$339:U358)-1,COLUMNS($U$339:U358)-1),\"\")","v":{"$error":"#VALUE!"}},{"$f":"IF(OFFSET([1]DE100_7!$V$339,ROWS($V$339:V358)-1,COLUMNS($V$339:V358)-1)<>\"\",OFFSET([1]DE100_7!$V$339,ROWS($V$339:V358)-1,COLUMNS($V$339:V358)-1),\"\")","v":{"$error":"#VALUE!"}}]
[{"$f":"IF(OFFSET([1]DE100_7!$C$339,ROWS($C$339:C359)-1,COLUMNS($C$339:C359)-1)<>\"\",OFFSET([1]DE100_7!$C$339,ROWS($C$339:C359)-1,COLUMNS($C$339:C359)-1),\"\")","v":{"$error":"#VALUE!"}},{"$f":"IF(OFFSET([1]DE100_7!$D$339,ROWS($D$339:D359)-1,COLUMNS($D$339:D359)-1)<>\"\",OFFSET([1]DE100_7!$D$339,ROWS($D$339:D359)-1,COLUMNS($D$339:D359)-1),\"\")","v":{"$error":"#VALUE!"}},{"$f":"IF(OFFSET([1]DE100_7!$E$339,ROWS($E$339:E359)-1,COLUMNS($E$339:E359)-1)<>\"\",OFFSET([1]DE100_7!$E$339,ROWS($E$339:E359)-1,COLUMNS($E$339:E359)-1),\"\")","v":{"$error":"#VALUE!"}},{"$f":"IF(OFFSET([1]DE100_7!$F$339,ROWS($F$339:F359)-1,COLUMNS($F$339:F359)-1)<>\"\",OFFSET([1]DE100_7!$F$339,ROWS($F$339:F359)-1,COLUMNS($F$339:F359)-1),\"\")","v":{"$error":"#VALUE!"}},{"$f":"IF(OFFSET([1]DE100_7!$G$339,ROWS($G$339:G359)-1,COLUMNS($G$339:G359)-1)<>\"\",OFFSET([1]DE100_7!$G$339,ROWS($G$339:G359)-1,COLUMNS($G$339:G359)-1),\"\")","v":{"$error":"#VALUE!"}},{"$f":"IF(OFFSET([1]DE100_7!$H$339,ROWS($H$339:H359)-1,COLUMNS($H$339:H359)-1)<>\"\",OFFSET([1]DE100_7!$H$339,ROWS($H$339:H359)-1,COLUMNS($H$339:H359)-1),\"\")","v":{"$error":"#VALUE!"}},{"$f":"IF(OFFSET([1]DE100_7!$I$339,ROWS($I$339:I359)-1,COLUMNS($I$339:I359)-1)<>\"\",OFFSET([1]DE100_7!$I$339,ROWS($I$339:I359)-1,COLUMNS($I$339:I359)-1),\"\")","v":{"$error":"#VALUE!"}},{"$f":"IF(OFFSET([1]DE100_7!$J$339,ROWS($J$339:J359)-1,COLUMNS($J$339:J359)-1)<>\"\",OFFSET([1]DE100_7!$J$339,ROWS($J$339:J359)-1,COLUMNS($J$339:J359)-1),\"\")","v":{"$error":"#VALUE!"}},{"$f":"IF(OFFSET([1]DE100_7!$K$339,ROWS($K$339:K359)-1,COLUMNS($K$339:K359)-1)<>\"\",OFFSET([1]DE100_7!$K$339,ROWS($K$339:K359)-1,COLUMNS($K$339:K359)-1),\"\")","v":{"$error":"#VALUE!"}},{"$f":"IF(OFFSET([1]DE100_7!$L$339,ROWS($L$339:L359)-1,COLUMNS($L$339:L359)-1)<>\"\",OFFSET([1]DE100_7!$L$339,ROWS($L$339:L359)-1,COLUMNS($L$339:L359)-1),\"\")","v":{"$error":"#VALUE!"}},{"$f":"IF(OFFSET([1]DE100_7!$M$339,ROWS($M$339:M359)-1,COLUMNS($M$339:M359)-1)<>\"\",OFFSET([1]DE100_7!$M$339,ROWS($M$339:M359)-1,COLUMNS($M$339:M359)-1),\"\")","v":{"$error":"#VALUE!"}},{"$f":"IF(OFFSET([1]DE100_7!$N$339,ROWS($N$339:N359)-1,COLUMNS($N$339:N359)-1)<>\"\",OFFSET([1]DE100_7!$N$339,ROWS($N$339:N359)-1,COLUMNS($N$339:N359)-1),\"\")","v":{"$error":"#VALUE!"}},{"$f":"IF(OFFSET([1]DE100_7!$O$339,ROWS($O$339:O359)-1,COLUMNS($O$339:O359)-1)<>\"\",OFFSET([1]DE100_7!$O$339,ROWS($O$339:O359)-1,COLUMNS($O$339:O359)-1),\"\")","v":{"$error":"#VALUE!"}},{"$f":"IF(OFFSET([1]DE100_7!$P$339,ROWS($P$339:P359)-1,COLUMNS($P$339:P359)-1)<>\"\",OFFSET([1]DE100_7!$P$339,ROWS($P$339:P359)-1,COLUMNS($P$339:P359)-1),\"\")","v":{"$error":"#VALUE!"}},{"$f":"IF(OFFSET([1]DE100_7!$Q$339,ROWS($Q$339:Q359)-1,COLUMNS($Q$339:Q359)-1)<>\"\",OFFSET([1]DE100_7!$Q$339,ROWS($Q$339:Q359)-1,COLUMNS($Q$339:Q359)-1),\"\")","v":{"$error":"#VALUE!"}},{"$f":"IF(OFFSET([1]DE100_7!$R$339,ROWS($R$339:R359)-1,COLUMNS($R$339:R359)-1)<>\"\",OFFSET([1]DE100_7!$R$339,ROWS($R$339:R359)-1,COLUMNS($R$339:R359)-1),\"\")","v":{"$error":"#VALUE!"}},{"$f":"IF(OFFSET([1]DE100_7!$S$339,ROWS($S$339:S359)-1,COLUMNS($S$339:S359)-1)<>\"\",OFFSET([1]DE100_7!$S$339,ROWS($S$339:S359)-1,COLUMNS($S$339:S359)-1),\"\")","v":{"$error":"#VALUE!"}},{"$f":"IF(OFFSET([1]DE100_7!$T$339,ROWS($T$339:T359)-1,COLUMNS($T$339:T359)-1)<>\"\",OFFSET([1]DE100_7!$T$339,ROWS($T$339:T359)-1,COLUMNS($T$339:T359)-1),\"\")","v":{"$error":"#VALUE!"}},{"$f":"IF(OFFSET([1]DE100_7!$U$339,ROWS($U$339:U359)-1,COLUMNS($U$339:U359)-1)<>\"\",OFFSET([1]DE100_7!$U$339,ROWS($U$339:U359)-1,COLUMNS($U$339:U359)-1),\"\")","v":{"$error":"#VALUE!"}},{"$f":"IF(OFFSET([1]DE100_7!$V$339,ROWS($V$339:V359)-1,COLUMNS($V$339:V359)-1)<>\"\",OFFSET([1]DE100_7!$V$339,ROWS($V$339:V359)-1,COLUMNS($V$339:V359)-1),\"\")","v":{"$error":"#VALUE!"}}]
[{"$f":"IF(OFFSET([1]DE100_7!$C$339,ROWS($C$339:C360)-1,COLUMNS($C$339:C360)-1)<>\"\",OFFSET([1]DE100_7!$C$339,ROWS($C$339:C360)-1,COLUMNS($C$339:C360)-1),\"\")","v":{"$error":"#VALUE!"}},{"$f":"IF(OFFSET([1]DE100_7!$D$339,ROWS($D$339:D360)-1,COLUMNS($D$339:D360)-1)<>\"\",OFFSET([1]DE100_7!$D$339,ROWS($D$339:D360)-1,COLUMNS($D$339:D360)-1),\"\")","v":{"$error":"#VALUE!"}},{"$f":"IF(OFFSET([1]DE100_7!$E$339,ROWS($E$339:E360)-1,COLUMNS($E$339:E360)-1)<>\"\",OFFSET([1]DE100_7!$E$339,ROWS($E$339:E360)-1,COLUMNS($E$339:E360)-1),\"\")","v":{"$error":"#VALUE!"}},{"$f":"IF(OFFSET([1]DE100_7!$F$339,ROWS($F$339:F360)-1,COLUMNS($F$339:F360)-1)<>\"\",OFFSET([1]DE100_7!$F$339,ROWS($F$339:F360)-1,COLUMNS($F$339:F360)-1),\"\")","v":{"$error":"#VALUE!"}},{"$f":"IF(OFFSET([1]DE100_7!$G$339,ROWS($G$339:G360)-1,COLUMNS($G$339:G360)-1)<>\"\",OFFSET([1]DE100_7!$G$339,ROWS($G$339:G360)-1,COLUMNS($G$339:G360)-1),\"\")","v":{"$error":"#VALUE!"}},{"$f":"IF(OFFSET([1]DE100_7!$H$339,ROWS($H$339:H360)-1,COLUMNS($H$339:H360)-1)<>\"\",OFFSET([1]DE100_7!$H$339,ROWS($H$339:H360)-1,COLUMNS($H$339:H360)-1),\"\")","v":{"$error":"#VALUE!"}},{"$f":"IF(OFFSET([1]DE100_7!$I$339,ROWS($I$339:I360)-1,COLUMNS($I$339:I360)-1)<>\"\",OFFSET([1]DE100_7!$I$339,ROWS($I$339:I360)-1,COLUMNS($I$339:I360)-1),\"\")","v":{"$error":"#VALUE!"}},{"$f":"IF(OFFSET([1]DE100_7!$J$339,ROWS($J$339:J360)-1,COLUMNS($J$339:J360)-1)<>\"\",OFFSET([1]DE100_7!$J$339,ROWS($J$339:J360)-1,COLUMNS($J$339:J360)-1),\"\")","v":{"$error":"#VALUE!"}},{"$f":"IF(OFFSET([1]DE100_7!$K$339,ROWS($K$339:K360)-1,COLUMNS($K$339:K360)-1)<>\"\",OFFSET([1]DE100_7!$K$339,ROWS($K$339:K360)-1,COLUMNS($K$339:K360)-1),\"\")","v":{"$error":"#VALUE!"}},{"$f":"IF(OFFSET([1]DE100_7!$L$339,ROWS($L$339:L360)-1,COLUMNS($L$339:L360)-1)<>\"\",OFFSET([1]DE100_7!$L$339,ROWS($L$339:L360)-1,COLUMNS($L$339:L360)-1),\"\")","v":{"$error":"#VALUE!"}},{"$f":"IF(OFFSET([1]DE100_7!$M$339,ROWS($M$339:M360)-1,COLUMNS($M$339:M360)-1)<>\"\",OFFSET([1]DE100_7!$M$339,ROWS($M$339:M360)-1,COLUMNS($M$339:M360)-1),\"\")","v":{"$error":"#VALUE!"}},{"$f":"IF(OFFSET([1]DE100_7!$N$339,ROWS($N$339:N360)-1,COLUMNS($N$339:N360)-1)<>\"\",OFFSET([1]DE100_7!$N$339,ROWS($N$339:N360)-1,COLUMNS($N$339:N360)-1),\"\")","v":{"$error":"#VALUE!"}},{"$f":"IF(OFFSET([1]DE100_7!$O$339,ROWS($O$339:O360)-1,COLUMNS($O$339:O360)-1)<>\"\",OFFSET([1]DE100_7!$O$339,ROWS($O$339:O360)-1,COLUMNS($O$339:O360)-1),\"\")","v":{"$error":"#VALUE!"}},{"$f":"IF(OFFSET([1]DE100_7!$P$339,ROWS($P$339:P360)-1,COLUMNS($P$339:P360)-1)<>\"\",OFFSET([1]DE100_7!$P$339,ROWS($P$339:P360)-1,COLUMNS($P$339:P360)-1),\"\")","v":{"$error":"#VALUE!"}},{"$f":"IF(OFFSET([1]DE100_7!$Q$339,ROWS($Q$339:Q360)-1,COLUMNS($Q$339:Q360)-1)<>\"\",OFFSET([1]DE100_7!$Q$339,ROWS($Q$339:Q360)-1,COLUMNS($Q$339:Q360)-1),\"\")","v":{"$error":"#VALUE!"}},{"$f":"IF(OFFSET([1]DE100_7!$R$339,ROWS($R$339:R360)-1,COLUMNS($R$339:R360)-1)<>\"\",OFFSET([1]DE100_7!$R$339,ROWS($R$339:R360)-1,COLUMNS($R$339:R360)-1),\"\")","v":{"$error":"#VALUE!"}},{"$f":"IF(OFFSET([1]DE100_7!$S$339,ROWS($S$339:S360)-1,COLUMNS($S$339:S360)-1)<>\"\",OFFSET([1]DE100_7!$S$339,ROWS($S$339:S360)-1,COLUMNS($S$339:S360)-1),\"\")","v":{"$error":"#VALUE!"}},{"$f":"IF(OFFSET([1]DE100_7!$T$339,ROWS($T$339:T360)-1,COLUMNS($T$339:T360)-1)<>\"\",OFFSET([1]DE100_7!$T$339,ROWS($T$339:T360)-1,COLUMNS($T$339:T360)-1),\"\")","v":{"$error":"#VALUE!"}},{"$f":"IF(OFFSET([1]DE100_7!$U$339,ROWS($U$339:U360)-1,COLUMNS($U$339:U360)-1)<>\"\",OFFSET([1]DE100_7!$U$339,ROWS($U$339:U360)-1,COLUMNS($U$339:U360)-1),\"\")","v":{"$error":"#VALUE!"}},{"$f":"IF(OFFSET([1]DE100_7!$V$339,ROWS($V$339:V360)-1,COLUMNS($V$339:V360)-1)<>\"\",OFFSET([1]DE100_7!$V$339,ROWS($V$339:V360)-1,COLUMNS($V$339:V360)-1),\"\")","v":{"$error":"#VALUE!"}}]
[{"$f":"IF(OFFSET([1]DE100_7!$C$339,ROWS($C$339:C361)-1,COLUMNS($C$339:C361)-1)<>\"\",OFFSET([1]DE100_7!$C$339,ROWS($C$339:C361)-1,COLUMNS($C$339:C361)-1),\"\")","v":{"$error":"#VALUE!"}},{"$f":"IF(OFFSET([1]DE100_7!$D$339,ROWS($D$339:D361)-1,COLUMNS($D$339:D361)-1)<>\"\",OFFSET([1]DE100_7!$D$339,ROWS($D$339:D361)-1,COLUMNS($D$339:D361)-1),\"\")","v":{"$error":"#VALUE!"}},{"$f":"IF(OFFSET([1]DE100_7!$E$339,ROWS($E$339:E361)-1,COLUMNS($E$339:E361)-1)<>\"\",OFFSET([1]DE100_7!$E$339,ROWS($E$339:E361)-1,COLUMNS($E$339:E361)-1),\"\")","v":{"$error":"#VALUE!"}},{"$f":"IF(OFFSET([1]DE100_7!$F$339,ROWS($F$339:F361)-1,COLUMNS($F$339:F361)-1)<>\"\",OFFSET([1]DE100_7!$F$339,ROWS($F$339:F361)-1,COLUMNS($F$339:F361)-1),\"\")","v":{"$error":"#VALUE!"}},{"$f":"IF(OFFSET([1]DE100_7!$G$339,ROWS($G$339:G361)-1,COLUMNS($G$339:G361)-1)<>\"\",OFFSET([1]DE100_7!$G$339,ROWS($G$339:G361)-1,COLUMNS($G$339:G361)-1),\"\")","v":{"$error":"#VALUE!"}},{"$f":"IF(OFFSET([1]DE100_7!$H$339,ROWS($H$339:H361)-1,COLUMNS($H$339:H361)-1)<>\"\",OFFSET([1]DE100_7!$H$339,ROWS($H$339:H361)-1,COLUMNS($H$339:H361)-1),\"\")","v":{"$error":"#VALUE!"}},{"$f":"IF(OFFSET([1]DE100_7!$I$339,ROWS($I$339:I361)-1,COLUMNS($I$339:I361)-1)<>\"\",OFFSET([1]DE100_7!$I$339,ROWS($I$339:I361)-1,COLUMNS($I$339:I361)-1),\"\")","v":{"$error":"#VALUE!"}},{"$f":"IF(OFFSET([1]DE100_7!$J$339,ROWS($J$339:J361)-1,COLUMNS($J$339:J361)-1)<>\"\",OFFSET([1]DE100_7!$J$339,ROWS($J$339:J361)-1,COLUMNS($J$339:J361)-1),\"\")","v":{"$error":"#VALUE!"}},{"$f":"IF(OFFSET([1]DE100_7!$K$339,ROWS($K$339:K361)-1,COLUMNS($K$339:K361)-1)<>\"\",OFFSET([1]DE100_7!$K$339,ROWS($K$339:K361)-1,COLUMNS($K$339:K361)-1),\"\")","v":{"$error":"#VALUE!"}},{"$f":"IF(OFFSET([1]DE100_7!$L$339,ROWS($L$339:L361)-1,COLUMNS($L$339:L361)-1)<>\"\",OFFSET([1]DE100_7!$L$339,ROWS($L$339:L361)-1,COLUMNS($L$339:L361)-1),\"\")","v":{"$error":"#VALUE!"}},{"$f":"IF(OFFSET([1]DE100_7!$M$339,ROWS($M$339:M361)-1,COLUMNS($M$339:M361)-1)<>\"\",OFFSET([1]DE100_7!$M$339,ROWS($M$339:M361)-1,COLUMNS($M$339:M361)-1),\"\")","v":{"$error":"#VALUE!"}},{"$f":"IF(OFFSET([1]DE100_7!$N$339,ROWS($N$339:N361)-1,COLUMNS($N$339:N361)-1)<>\"\",OFFSET([1]DE100_7!$N$339,ROWS($N$339:N361)-1,COLUMNS($N$339:N361)-1),\"\")","v":{"$error":"#VALUE!"}},{"$f":"IF(OFFSET([1]DE100_7!$O$339,ROWS($O$339:O361)-1,COLUMNS($O$339:O361)-1)<>\"\",OFFSET([1]DE100_7!$O$339,ROWS($O$339:O361)-1,COLUMNS($O$339:O361)-1),\"\")","v":{"$error":"#VALUE!"}},{"$f":"IF(OFFSET([1]DE100_7!$P$339,ROWS($P$339:P361)-1,COLUMNS($P$339:P361)-1)<>\"\",OFFSET([1]DE100_7!$P$339,ROWS($P$339:P361)-1,COLUMNS($P$339:P361)-1),\"\")","v":{"$error":"#VALUE!"}},{"$f":"IF(OFFSET([1]DE100_7!$Q$339,ROWS($Q$339:Q361)-1,COLUMNS($Q$339:Q361)-1)<>\"\",OFFSET([1]DE100_7!$Q$339,ROWS($Q$339:Q361)-1,COLUMNS($Q$339:Q361)-1),\"\")","v":{"$error":"#VALUE!"}},{"$f":"IF(OFFSET([1]DE100_7!$R$339,ROWS($R$339:R361)-1,COLUMNS($R$339:R361)-1)<>\"\",OFFSET([1]DE100_7!$R$339,ROWS($R$339:R361)-1,COLUMNS($R$339:R361)-1),\"\")","v":{"$error":"#VALUE!"}},{"$f":"IF(OFFSET([1]DE100_7!$S$339,ROWS($S$339:S361)-1,COLUMNS($S$339:S361)-1)<>\"\",OFFSET([1]DE100_7!$S$339,ROWS($S$339:S361)-1,COLUMNS($S$339:S361)-1),\"\")","v":{"$error":"#VALUE!"}},{"$f":"IF(OFFSET([1]DE100_7!$T$339,ROWS($T$339:T361)-1,COLUMNS($T$339:T361)-1)<>\"\",OFFSET([1]DE100_7!$T$339,ROWS($T$339:T361)-1,COLUMNS($T$339:T361)-1),\"\")","v":{"$error":"#VALUE!"}},{"$f":"IF(OFFSET([1]DE100_7!$U$339,ROWS($U$339:U361)-1,COLUMNS($U$339:U361)-1)<>\"\",OFFSET([1]DE100_7!$U$339,ROWS($U$339:U361)-1,COLUMNS($U$339:U361)-1),\"\")","v":{"$error":"#VALUE!"}},{"$f":"IF(OFFSET([1]DE100_7!$V$339,ROWS($V$339:V361)-1,COLUMNS($V$339:V361)-1)<>\"\",OFFSET([1]DE100_7!$V$339,ROWS($V$339:V361)-1,COLUMNS($V$339:V361)-1),\"\")","v":{"$error":"#VALUE!"}}]
[{"$f":"IF(OFFSET([1]DE100_7!$C$339,ROWS($C$339:C362)-1,COLUMNS($C$339:C362)-1)<>\"\",OFFSET([1]DE100_7!$C$339,ROWS($C$339:C362)-1,COLUMNS($C$339:C362)-1),\"\")","v":{"$error":"#VALUE!"}},null,null,null,{"$f":"IF(OFFSET([1]DE100_7!$G$339,ROWS($G$339:G362)-1,COLUMNS($G$339:G362)-1)<>\"\",OFFSET([1]DE100_7!$G$339,ROWS($G$339:G362)-1,COLUMNS($G$339:G362)-1),\"\")","v":{"$error":"#VALUE!"}},{"$f":"IF(OFFSET([1]DE100_7!$H$339,ROWS($H$339:H362)-1,COLUMNS($H$339:H362)-1)<>\"\",OFFSET([1]DE100_7!$H$339,ROWS($H$339:H362)-1,COLUMNS($H$339:H362)-1),\"\")","v":{"$error":"#VALUE!"}},{"$f":"IF(OFFSET([1]DE100_7!$I$339,ROWS($I$339:I362)-1,COLUMNS($I$339:I362)-1)<>\"\",OFFSET([1]DE100_7!$I$339,ROWS($I$339:I362)-1,COLUMNS($I$339:I362)-1),\"\")","v":{"$error":"#VALUE!"}},{"$f":"IF(OFFSET([1]DE100_7!$J$339,ROWS($J$339:J362)-1,COLUMNS($J$339:J362)-1)<>\"\",OFFSET([1]DE100_7!$J$339,ROWS($J$339:J362)-1,COLUMNS($J$339:J362)-1),\"\")","v":{"$error":"#VALUE!"}},{"$f":"IF(OFFSET([1]DE100_7!$K$339,ROWS($K$339:K362)-1,COLUMNS($K$339:K362)-1)<>\"\",OFFSET([1]DE100_7!$K$339,ROWS($K$339:K362)-1,COLUMNS($K$339:K362)-1),\"\")","v":{"$error":"#VALUE!"}},{"$f":"IF(OFFSET([1]DE100_7!$L$339,ROWS($L$339:L362)-1,COLUMNS($L$339:L362)-1)<>\"\",OFFSET([1]DE100_7!$L$339,ROWS($L$339:L362)-1,COLUMNS($L$339:L362)-1),\"\")","v":{"$error":"#VALUE!"}},{"$f":"IF(OFFSET([1]DE100_7!$M$339,ROWS($M$339:M362)-1,COLUMNS($M$339:M362)-1)<>\"\",OFFSET([1]DE100_7!$M$339,ROWS($M$339:M362)-1,COLUMNS($M$339:M362)-1),\"\")","v":{"$error":"#VALUE!"}},{"$f":"IF(OFFSET([1]DE100_7!$N$339,ROWS($N$339:N362)-1,COLUMNS($N$339:N362)-1)<>\"\",OFFSET([1]DE100_7!$N$339,ROWS($N$339:N362)-1,COLUMNS($N$339:N362)-1),\"\")","v":{"$error":"#VALUE!"}},{"$f":"IF(OFFSET([1]DE100_7!$O$339,ROWS($O$339:O362)-1,COLUMNS($O$339:O362)-1)<>\"\",OFFSET([1]DE100_7!$O$339,ROWS($O$339:O362)-1,COLUMNS($O$339:O362)-1),\"\")","v":{"$error":"#VALUE!"}},{"$f":"IF(OFFSET([1]DE100_7!$P$339,ROWS($P$339:P362)-1,COLUMNS($P$339:P362)-1)<>\"\",OFFSET([1]DE100_7!$P$339,ROWS($P$339:P362)-1,COLUMNS($P$339:P362)-1),\"\")","v":{"$error":"#VALUE!"}},{"$f":"IF(OFFSET([1]DE100_7!$Q$339,ROWS($Q$339:Q362)-1,COLUMNS($Q$339:Q362)-1)<>\"\",OFFSET([1]DE100_7!$Q$339,ROWS($Q$339:Q362)-1,COLUMNS($Q$339:Q362)-1),\"\")","v":{"$error":"#VALUE!"}},{"$f":"IF(OFFSET([1]DE100_7!$R$339,ROWS($R$339:R362)-1,COLUMNS($R$339:R362)-1)<>\"\",OFFSET([1]DE100_7!$R$339,ROWS($R$339:R362)-1,COLUMNS($R$339:R362)-1),\"\")","v":{"$error":"#VALUE!"}},{"$f":"IF(OFFSET([1]DE100_7!$S$339,ROWS($S$339:S362)-1,COLUMNS($S$339:S362)-1)<>\"\",OFFSET([1]DE100_7!$S$339,ROWS($S$339:S362)-1,COLUMNS($S$339:S362)-1),\"\")","v":{"$error":"#VALUE!"}},{"$f":"IF(OFFSET([1]DE100_7!$T$339,ROWS($T$339:T362)-1,COLUMNS($T$339:T362)-1)<>\"\",OFFSET([1]DE100_7!$T$339,ROWS($T$339:T362)-1,COLUMNS($T$339:T362)-1),\"\")","v":{"$error":"#VALUE!"}},{"$f":"IF(OFFSET([1]DE100_7!$U$339,ROWS($U$339:U362)-1,COLUMNS($U$339:U362)-1)<>\"\",OFFSET([1]DE100_7!$U$339,ROWS($U$339:U362)-1,COLUMNS($U$339:U362)-1),\"\")","v":{"$error":"#VALUE!"}},{"$f":"IF(OFFSET([1]DE100_7!$V$339,ROWS($V$339:V362)-1,COLUMNS($V$339:V362)-1)<>\"\",OFFSET([1]DE100_7!$V$339,ROWS($V$339:V362)-1,COLUMNS($V$339:V362)-1),\"\")","v":{"$error":"#VALUE!"}}]
[{"$f":"IF(OFFSET([1]DE100_7!$C$339,ROWS($C$339:C363)-1,COLUMNS($C$339:C363)-1)<>\"\",OFFSET([1]DE100_7!$C$339,ROWS($C$339:C363)-1,COLUMNS($C$339:C363)-1),\"\")","v":{"$error":"#VALUE!"}},{"$f":"IF(OFFSET([1]DE100_7!$D$339,ROWS($D$339:D363)-1,COLUMNS($D$339:D363)-1)<>\"\",OFFSET([1]DE100_7!$D$339,ROWS($D$339:D363)-1,COLUMNS($D$339:D363)-1),\"\")","v":{"$error":"#VALUE!"}},{"$f":"IF(OFFSET([1]DE100_7!$E$339,ROWS($E$339:E363)-1,COLUMNS($E$339:E363)-1)<>\"\",OFFSET([1]DE100_7!$E$339,ROWS($E$339:E363)-1,COLUMNS($E$339:E363)-1),\"\")","v":{"$error":"#VALUE!"}},{"$f":"IF(OFFSET([1]DE100_7!$F$339,ROWS($F$339:F363)-1,COLUMNS($F$339:F363)-1)<>\"\",OFFSET([1]DE100_7!$F$339,ROWS($F$339:F363)-1,COLUMNS($F$339:F363)-1),\"\")","v":{"$error":"#VALUE!"}},{"$f":"IF(OFFSET([1]DE100_7!$G$339,ROWS($G$339:G363)-1,COLUMNS($G$339:G363)-1)<>\"\",OFFSET([1]DE100_7!$G$339,ROWS($G$339:G363)-1,COLUMNS($G$339:G363)-1),\"\")","v":{"$error":"#VALUE!"}},{"$f":"IF(OFFSET([1]DE100_7!$H$339,ROWS($H$339:H363)-1,COLUMNS($H$339:H363)-1)<>\"\",OFFSET([1]DE100_7!$H$339,ROWS($H$339:H363)-1,COLUMNS($H$339:H363)-1),\"\")","v":{"$error":"#VALUE!"}},{"$f":"IF(OFFSET([1]DE100_7!$I$339,ROWS($I$339:I363)-1,COLUMNS($I$339:I363)-1)<>\"\",OFFSET([1]DE100_7!$I$339,ROWS($I$339:I363)-1,COLUMNS($I$339:I363)-1),\"\")","v":{"$error":"#VALUE!"}},{"$f":"IF(OFFSET([1]DE100_7!$J$339,ROWS($J$339:J363)-1,COLUMNS($J$339:J363)-1)<>\"\",OFFSET([1]DE100_7!$J$339,ROWS($J$339:J363)-1,COLUMNS($J$339:J363)-1),\"\")","v":{"$error":"#VALUE!"}},{"$f":"IF(OFFSET([1]DE100_7!$K$339,ROWS($K$339:K363)-1,COLUMNS($K$339:K363)-1)<>\"\",OFFSET([1]DE100_7!$K$339,ROWS($K$339:K363)-1,COLUMNS($K$339:K363)-1),\"\")","v":{"$error":"#VALUE!"}},{"$f":"IF(OFFSET([1]DE100_7!$L$339,ROWS($L$339:L363)-1,COLUMNS($L$339:L363)-1)<>\"\",OFFSET([1]DE100_7!$L$339,ROWS($L$339:L363)-1,COLUMNS($L$339:L363)-1),\"\")","v":{"$error":"#VALUE!"}},{"$f":"IF(OFFSET([1]DE100_7!$M$339,ROWS($M$339:M363)-1,COLUMNS($M$339:M363)-1)<>\"\",OFFSET([1]DE100_7!$M$339,ROWS($M$339:M363)-1,COLUMNS($M$339:M363)-1),\"\")","v":{"$error":"#VALUE!"}},{"$f":"IF(OFFSET([1]DE100_7!$N$339,ROWS($N$339:N363)-1,COLUMNS($N$339:N363)-1)<>\"\",OFFSET([1]DE100_7!$N$339,ROWS($N$339:N363)-1,COLUMNS($N$339:N363)-1),\"\")","v":{"$error":"#VALUE!"}},{"$f":"IF(OFFSET([1]DE100_7!$O$339,ROWS($O$339:O363)-1,COLUMNS($O$339:O363)-1)<>\"\",OFFSET([1]DE100_7!$O$339,ROWS($O$339:O363)-1,COLUMNS($O$339:O363)-1),\"\")","v":{"$error":"#VALUE!"}},{"$f":"IF(OFFSET([1]DE100_7!$P$339,ROWS($P$339:P363)-1,COLUMNS($P$339:P363)-1)<>\"\",OFFSET([1]DE100_7!$P$339,ROWS($P$339:P363)-1,COLUMNS($P$339:P363)-1),\"\")","v":{"$error":"#VALUE!"}},{"$f":"IF(OFFSET([1]DE100_7!$Q$339,ROWS($Q$339:Q363)-1,COLUMNS($Q$339:Q363)-1)<>\"\",OFFSET([1]DE100_7!$Q$339,ROWS($Q$339:Q363)-1,COLUMNS($Q$339:Q363)-1),\"\")","v":{"$error":"#VALUE!"}},{"$f":"IF(OFFSET([1]DE100_7!$R$339,ROWS($R$339:R363)-1,COLUMNS($R$339:R363)-1)<>\"\",OFFSET([1]DE100_7!$R$339,ROWS($R$339:R363)-1,COLUMNS($R$339:R363)-1),\"\")","v":{"$error":"#VALUE!"}},{"$f":"IF(OFFSET([1]DE100_7!$S$339,ROWS($S$339:S363)-1,COLUMNS($S$339:S363)-1)<>\"\",OFFSET([1]DE100_7!$S$339,ROWS($S$339:S363)-1,COLUMNS($S$339:S363)-1),\"\")","v":{"$error":"#VALUE!"}},{"$f":"IF(OFFSET([1]DE100_7!$T$339,ROWS($T$339:T363)-1,COLUMNS($T$339:T363)-1)<>\"\",OFFSET([1]DE100_7!$T$339,ROWS($T$339:T363)-1,COLUMNS($T$339:T363)-1),\"\")","v":{"$error":"#VALUE!"}},{"$f":"IF(OFFSET([1]DE100_7!$U$339,ROWS($U$339:U363)-1,COLUMNS($U$339:U363)-1)<>\"\",OFFSET([1]DE100_7!$U$339,ROWS($U$339:U363)-1,COLUMNS($U$339:U363)-1),\"\")","v":{"$error":"#VALUE!"}},{"$f":"IF(OFFSET([1]DE100_7!$V$339,ROWS($V$339:V363)-1,COLUMNS($V$339:V363)-1)<>\"\",OFFSET([1]DE100_7!$V$339,ROWS($V$339:V363)-1,COLUMNS($V$339:V363)-1),\"\")","v":{"$error":"#VALUE!"}}]
[{"$f":"IF(OFFSET([1]DE100_7!$C$339,ROWS($C$339:C364)-1,COLUMNS($C$339:C364)-1)<>\"\",OFFSET([1]DE100_7!$C$339,ROWS($C$339:C364)-1,COLUMNS($C$339:C364)-1),\"\")","v":{"$error":"#VALUE!"}},{"$f":"IF(OFFSET([1]DE100_7!$D$339,ROWS($D$339:D364)-1,COLUMNS($D$339:D364)-1)<>\"\",OFFSET([1]DE100_7!$D$339,ROWS($D$339:D364)-1,COLUMNS($D$339:D364)-1),\"\")","v":{"$error":"#VALUE!"}},{"$f":"IF(OFFSET([1]DE100_7!$E$339,ROWS($E$339:E364)-1,COLUMNS($E$339:E364)-1)<>\"\",OFFSET([1]DE100_7!$E$339,ROWS($E$339:E364)-1,COLUMNS($E$339:E364)-1),\"\")","v":{"$error":"#VALUE!"}},{"$f":"IF(OFFSET([1]DE100_7!$F$339,ROWS($F$339:F364)-1,COLUMNS($F$339:F364)-1)<>\"\",OFFSET([1]DE100_7!$F$339,ROWS($F$339:F364)-1,COLUMNS($F$339:F364)-1),\"\")","v":{"$error":"#VALUE!"}},{"$f":"IF(OFFSET([1]DE100_7!$G$339,ROWS($G$339:G364)-1,COLUMNS($G$339:G364)-1)<>\"\",OFFSET([1]DE100_7!$G$339,ROWS($G$339:G364)-1,COLUMNS($G$339:G364)-1),\"\")","v":{"$error":"#VALUE!"}},{"$f":"IF(OFFSET([1]DE100_7!$H$339,ROWS($H$339:H364)-1,COLUMNS($H$339:H364)-1)<>\"\",OFFSET([1]DE100_7!$H$339,ROWS($H$339:H364)-1,COLUMNS($H$339:H364)-1),\"\")","v":{"$error":"#VALUE!"}},{"$f":"IF(OFFSET([1]DE100_7!$I$339,ROWS($I$339:I364)-1,COLUMNS($I$339:I364)-1)<>\"\",OFFSET([1]DE100_7!$I$339,ROWS($I$339:I364)-1,COLUMNS($I$339:I364)-1),\"\")","v":{"$error":"#VALUE!"}},{"$f":"IF(OFFSET([1]DE100_7!$J$339,ROWS($J$339:J364)-1,COLUMNS($J$339:J364)-1)<>\"\",OFFSET([1]DE100_7!$J$339,ROWS($J$339:J364)-1,COLUMNS($J$339:J364)-1),\"\")","v":{"$error":"#VALUE!"}},{"$f":"IF(OFFSET([1]DE100_7!$K$339,ROWS($K$339:K364)-1,COLUMNS($K$339:K364)-1)<>\"\",OFFSET([1]DE100_7!$K$339,ROWS($K$339:K364)-1,COLUMNS($K$339:K364)-1),\"\")","v":{"$error":"#VALUE!"}},{"$f":"IF(OFFSET([1]DE100_7!$L$339,ROWS($L$339:L364)-1,COLUMNS($L$339:L364)-1)<>\"\",OFFSET([1]DE100_7!$L$339,ROWS($L$339:L364)-1,COLUMNS($L$339:L364)-1),\"\")","v":{"$error":"#VALUE!"}},{"$f":"IF(OFFSET([1]DE100_7!$M$339,ROWS($M$339:M364)-1,COLUMNS($M$339:M364)-1)<>\"\",OFFSET([1]DE100_7!$M$339,ROWS($M$339:M364)-1,COLUMNS($M$339:M364)-1),\"\")","v":{"$error":"#VALUE!"}},{"$f":"IF(OFFSET([1]DE100_7!$N$339,ROWS($N$339:N364)-1,COLUMNS($N$339:N364)-1)<>\"\",OFFSET([1]DE100_7!$N$339,ROWS($N$339:N364)-1,COLUMNS($N$339:N364)-1),\"\")","v":{"$error":"#VALUE!"}},{"$f":"IF(OFFSET([1]DE100_7!$O$339,ROWS($O$339:O364)-1,COLUMNS($O$339:O364)-1)<>\"\",OFFSET([1]DE100_7!$O$339,ROWS($O$339:O364)-1,COLUMNS($O$339:O364)-1),\"\")","v":{"$error":"#VALUE!"}},{"$f":"IF(OFFSET([1]DE100_7!$P$339,ROWS($P$339:P364)-1,COLUMNS($P$339:P364)-1)<>\"\",OFFSET([1]DE100_7!$P$339,ROWS($P$339:P364)-1,COLUMNS($P$339:P364)-1),\"\")","v":{"$error":"#VALUE!"}},{"$f":"IF(OFFSET([1]DE100_7!$Q$339,ROWS($Q$339:Q364)-1,COLUMNS($Q$339:Q364)-1)<>\"\",OFFSET([1]DE100_7!$Q$339,ROWS($Q$339:Q364)-1,COLUMNS($Q$339:Q364)-1),\"\")","v":{"$error":"#VALUE!"}},{"$f":"IF(OFFSET([1]DE100_7!$R$339,ROWS($R$339:R364)-1,COLUMNS($R$339:R364)-1)<>\"\",OFFSET([1]DE100_7!$R$339,ROWS($R$339:R364)-1,COLUMNS($R$339:R364)-1),\"\")","v":{"$error":"#VALUE!"}},{"$f":"IF(OFFSET([1]DE100_7!$S$339,ROWS($S$339:S364)-1,COLUMNS($S$339:S364)-1)<>\"\",OFFSET([1]DE100_7!$S$339,ROWS($S$339:S364)-1,COLUMNS($S$339:S364)-1),\"\")","v":{"$error":"#VALUE!"}},{"$f":"IF(OFFSET([1]DE100_7!$T$339,ROWS($T$339:T364)-1,COLUMNS($T$339:T364)-1)<>\"\",OFFSET([1]DE100_7!$T$339,ROWS($T$339:T364)-1,COLUMNS($T$339:T364)-1),\"\")","v":{"$error":"#VALUE!"}},{"$f":"IF(OFFSET([1]DE100_7!$U$339,ROWS($U$339:U364)-1,COLUMNS($U$339:U364)-1)<>\"\",OFFSET([1]DE100_7!$U$339,ROWS($U$339:U364)-1,COLUMNS($U$339:U364)-1),\"\")","v":{"$error":"#VALUE!"}},{"$f":"IF(OFFSET([1]DE100_7!$V$339,ROWS($V$339:V364)-1,COLUMNS($V$339:V364)-1)<>\"\",OFFSET([1]DE100_7!$V$339,ROWS($V$339:V364)-1,COLUMNS($V$339:V364)-1),\"\")","v":{"$error":"#VALUE!"}}]
[{"$f":"IF(OFFSET([1]DE100_7!$C$339,ROWS($C$339:C365)-1,COLUMNS($C$339:C365)-1)<>\"\",OFFSET([1]DE100_7!$C$339,ROWS($C$339:C365)-1,COLUMNS($C$339:C365)-1),\"\")","v":{"$error":"#VALUE!"}},{"$f":"IF(OFFSET([1]DE100_7!$D$339,ROWS($D$339:D365)-1,COLUMNS($D$339:D365)-1)<>\"\",OFFSET([1]DE100_7!$D$339,ROWS($D$339:D365)-1,COLUMNS($D$339:D365)-1),\"\")","v":{"$error":"#VALUE!"}},{"$f":"IF(OFFSET([1]DE100_7!$E$339,ROWS($E$339:E365)-1,COLUMNS($E$339:E365)-1)<>\"\",OFFSET([1]DE100_7!$E$339,ROWS($E$339:E365)-1,COLUMNS($E$339:E365)-1),\"\")","v":{"$error":"#VALUE!"}},{"$f":"IF(OFFSET([1]DE100_7!$F$339,ROWS($F$339:F365)-1,COLUMNS($F$339:F365)-1)<>\"\",OFFSET([1]DE100_7!$F$339,ROWS($F$339:F365)-1,COLUMNS($F$339:F365)-1),\"\")","v":{"$error":"#VALUE!"}},{"$f":"IF(OFFSET([1]DE100_7!$G$339,ROWS($G$339:G365)-1,COLUMNS($G$339:G365)-1)<>\"\",OFFSET([1]DE100_7!$G$339,ROWS($G$339:G365)-1,COLUMNS($G$339:G365)-1),\"\")","v":{"$error":"#VALUE!"}},{"$f":"IF(OFFSET([1]DE100_7!$H$339,ROWS($H$339:H365)-1,COLUMNS($H$339:H365)-1)<>\"\",OFFSET([1]DE100_7!$H$339,ROWS($H$339:H365)-1,COLUMNS($H$339:H365)-1),\"\")","v":{"$error":"#VALUE!"}},{"$f":"IF(OFFSET([1]DE100_7!$I$339,ROWS($I$339:I365)-1,COLUMNS($I$339:I365)-1)<>\"\",OFFSET([1]DE100_7!$I$339,ROWS($I$339:I365)-1,COLUMNS($I$339:I365)-1),\"\")","v":{"$error":"#VALUE!"}},{"$f":"IF(OFFSET([1]DE100_7!$J$339,ROWS($J$339:J365)-1,COLUMNS($J$339:J365)-1)<>\"\",OFFSET([1]DE100_7!$J$339,ROWS($J$339:J365)-1,COLUMNS($J$339:J365)-1),\"\")","v":{"$error":"#VALUE!"}},{"$f":"IF(OFFSET([1]DE100_7!$K$339,ROWS($K$339:K365)-1,COLUMNS($K$339:K365)-1)<>\"\",OFFSET([1]DE100_7!$K$339,ROWS($K$339:K365)-1,COLUMNS($K$339:K365)-1),\"\")","v":{"$error":"#VALUE!"}},{"$f":"IF(OFFSET([1]DE100_7!$L$339,ROWS($L$339:L365)-1,COLUMNS($L$339:L365)-1)<>\"\",OFFSET([1]DE100_7!$L$339,ROWS($L$339:L365)-1,COLUMNS($L$339:L365)-1),\"\")","v":{"$error":"#VALUE!"}},{"$f":"IF(OFFSET([1]DE100_7!$M$339,ROWS($M$339:M365)-1,COLUMNS($M$339:M365)-1)<>\"\",OFFSET([1]DE100_7!$M$339,ROWS($M$339:M365)-1,COLUMNS($M$339:M365)-1),\"\")","v":{"$error":"#VALUE!"}},{"$f":"IF(OFFSET([1]DE100_7!$N$339,ROWS($N$339:N365)-1,COLUMNS($N$339:N365)-1)<>\"\",OFFSET([1]DE100_7!$N$339,ROWS($N$339:N365)-1,COLUMNS($N$339:N365)-1),\"\")","v":{"$error":"#VALUE!"}},{"$f":"IF(OFFSET([1]DE100_7!$O$339,ROWS($O$339:O365)-1,COLUMNS($O$339:O365)-1)<>\"\",OFFSET([1]DE100_7!$O$339,ROWS($O$339:O365)-1,COLUMNS($O$339:O365)-1),\"\")","v":{"$error":"#VALUE!"}},{"$f":"IF(OFFSET([1]DE100_7!$P$339,ROWS($P$339:P365)-1,COLUMNS($P$339:P365)-1)<>\"\",OFFSET([1]DE100_7!$P$339,ROWS($P$339:P365)-1,COLUMNS($P$339:P365)-1),\"\")","v":{"$error":"#VALUE!"}},{"$f":"IF(OFFSET([1]DE100_7!$Q$339,ROWS($Q$339:Q365)-1,COLUMNS($Q$339:Q365)-1)<>\"\",OFFSET([1]DE100_7!$Q$339,ROWS($Q$339:Q365)-1,COLUMNS($Q$339:Q365)-1),\"\")","v":{"$error":"#VALUE!"}},{"$f":"IF(OFFSET([1]DE100_7!$R$339,ROWS($R$339:R365)-1,COLUMNS($R$339:R365)-1)<>\"\",OFFSET([1]DE100_7!$R$339,ROWS($R$339:R365)-1,COLUMNS($R$339:R365)-1),\"\")","v":{"$error":"#VALUE!"}},{"$f":"IF(OFFSET([1]DE100_7!$S$339,ROWS($S$339:S365)-1,COLUMNS($S$339:S365)-1)<>\"\",OFFSET([1]DE100_7!$S$339,ROWS($S$339:S365)-1,COLUMNS($S$339:S365)-1),\"\")","v":{"$error":"#VALUE!"}},{"$f":"IF(OFFSET([1]DE100_7!$T$339,ROWS($T$339:T365)-1,COLUMNS($T$339:T365)-1)<>\"\",OFFSET([1]DE100_7!$T$339,ROWS($T$339:T365)-1,COLUMNS($T$339:T365)-1),\"\")","v":{"$error":"#VALUE!"}},{"$f":"IF(OFFSET([1]DE100_7!$U$339,ROWS($U$339:U365)-1,COLUMNS($U$339:U365)-1)<>\"\",OFFSET([1]DE100_7!$U$339,ROWS($U$339:U365)-1,COLUMNS($U$339:U365)-1),\"\")","v":{"$error":"#VALUE!"}},{"$f":"IF(OFFSET([1]DE100_7!$V$339,ROWS($V$339:V365)-1,COLUMNS($V$339:V365)-1)<>\"\",OFFSET([1]DE100_7!$V$339,ROWS($V$339:V365)-1,COLUMNS($V$339:V365)-1),\"\")","v":{"$error":"#VALUE!"}}]
[{"$f":"IF(OFFSET([1]DE100_7!$C$339,ROWS($C$339:C366)-1,COLUMNS($C$339:C366)-1)<>\"\",OFFSET([1]DE100_7!$C$339,ROWS($C$339:C366)-1,COLUMNS($C$339:C366)-1),\"\")","v":{"$error":"#VALUE!"}},{"$f":"IF(OFFSET([1]DE100_7!$D$339,ROWS($D$339:D366)-1,COLUMNS($D$339:D366)-1)<>\"\",OFFSET([1]DE100_7!$D$339,ROWS($D$339:D366)-1,COLUMNS($D$339:D366)-1),\"\")","v":{"$error":"#VALUE!"}},{"$f":"IF(OFFSET([1]DE100_7!$E$339,ROWS($E$339:E366)-1,COLUMNS($E$339:E366)-1)<>\"\",OFFSET([1]DE100_7!$E$339,ROWS($E$339:E366)-1,COLUMNS($E$339:E366)-1),\"\")","v":{"$error":"#VALUE!"}},{"$f":"IF(OFFSET([1]DE100_7!$F$339,ROWS($F$339:F366)-1,COLUMNS($F$339:F366)-1)<>\"\",OFFSET([1]DE100_7!$F$339,ROWS($F$339:F366)-1,COLUMNS($F$339:F366)-1),\"\")","v":{"$error":"#VALUE!"}},{"$f":"IF(OFFSET([1]DE100_7!$G$339,ROWS($G$339:G366)-1,COLUMNS($G$339:G366)-1)<>\"\",OFFSET([1]DE100_7!$G$339,ROWS($G$339:G366)-1,COLUMNS($G$339:G366)-1),\"\")","v":{"$error":"#VALUE!"}},{"$f":"IF(OFFSET([1]DE100_7!$H$339,ROWS($H$339:H366)-1,COLUMNS($H$339:H366)-1)<>\"\",OFFSET([1]DE100_7!$H$339,ROWS($H$339:H366)-1,COLUMNS($H$339:H366)-1),\"\")","v":{"$error":"#VALUE!"}},{"$f":"IF(OFFSET([1]DE100_7!$I$339,ROWS($I$339:I366)-1,COLUMNS($I$339:I366)-1)<>\"\",OFFSET([1]DE100_7!$I$339,ROWS($I$339:I366)-1,COLUMNS($I$339:I366)-1),\"\")","v":{"$error":"#VALUE!"}},{"$f":"IF(OFFSET([1]DE100_7!$J$339,ROWS($J$339:J366)-1,COLUMNS($J$339:J366)-1)<>\"\",OFFSET([1]DE100_7!$J$339,ROWS($J$339:J366)-1,COLUMNS($J$339:J366)-1),\"\")","v":{"$error":"#VALUE!"}},{"$f":"IF(OFFSET([1]DE100_7!$K$339,ROWS($K$339:K366)-1,COLUMNS($K$339:K366)-1)<>\"\",OFFSET([1]DE100_7!$K$339,ROWS($K$339:K366)-1,COLUMNS($K$339:K366)-1),\"\")","v":{"$error":"#VALUE!"}},{"$f":"IF(OFFSET([1]DE100_7!$L$339,ROWS($L$339:L366)-1,COLUMNS($L$339:L366)-1)<>\"\",OFFSET([1]DE100_7!$L$339,ROWS($L$339:L366)-1,COLUMNS($L$339:L366)-1),\"\")","v":{"$error":"#VALUE!"}},{"$f":"IF(OFFSET([1]DE100_7!$M$339,ROWS($M$339:M366)-1,COLUMNS($M$339:M366)-1)<>\"\",OFFSET([1]DE100_7!$M$339,ROWS($M$339:M366)-1,COLUMNS($M$339:M366)-1),\"\")","v":{"$error":"#VALUE!"}},{"$f":"IF(OFFSET([1]DE100_7!$N$339,ROWS($N$339:N366)-1,COLUMNS($N$339:N366)-1)<>\"\",OFFSET([1]DE100_7!$N$339,ROWS($N$339:N366)-1,COLUMNS($N$339:N366)-1),\"\")","v":{"$error":"#VALUE!"}},{"$f":"IF(OFFSET([1]DE100_7!$O$339,ROWS($O$339:O366)-1,COLUMNS($O$339:O366)-1)<>\"\",OFFSET([1]DE100_7!$O$339,ROWS($O$339:O366)-1,COLUMNS($O$339:O366)-1),\"\")","v":{"$error":"#VALUE!"}},{"$f":"IF(OFFSET([1]DE100_7!$P$339,ROWS($P$339:P366)-1,COLUMNS($P$339:P366)-1)<>\"\",OFFSET([1]DE100_7!$P$339,ROWS($P$339:P366)-1,COLUMNS($P$339:P366)-1),\"\")","v":{"$error":"#VALUE!"}},{"$f":"IF(OFFSET([1]DE100_7!$Q$339,ROWS($Q$339:Q366)-1,COLUMNS($Q$339:Q366)-1)<>\"\",OFFSET([1]DE100_7!$Q$339,ROWS($Q$339:Q366)-1,COLUMNS($Q$339:Q366)-1),\"\")","v":{"$error":"#VALUE!"}},{"$f":"IF(OFFSET([1]DE100_7!$R$339,ROWS($R$339:R366)-1,COLUMNS($R$339:R366)-1)<>\"\",OFFSET([1]DE100_7!$R$339,ROWS($R$339:R366)-1,COLUMNS($R$339:R366)-1),\"\")","v":{"$error":"#VALUE!"}},{"$f":"IF(OFFSET([1]DE100_7!$S$339,ROWS($S$339:S366)-1,COLUMNS($S$339:S366)-1)<>\"\",OFFSET([1]DE100_7!$S$339,ROWS($S$339:S366)-1,COLUMNS($S$339:S366)-1),\"\")","v":{"$error":"#VALUE!"}},{"$f":"IF(OFFSET([1]DE100_7!$T$339,ROWS($T$339:T366)-1,COLUMNS($T$339:T366)-1)<>\"\",OFFSET([1]DE100_7!$T$339,ROWS($T$339:T366)-1,COLUMNS($T$339:T366)-1),\"\")","v":{"$error":"#VALUE!"}},{"$f":"IF(OFFSET([1]DE100_7!$U$339,ROWS($U$339:U366)-1,COLUMNS($U$339:U366)-1)<>\"\",OFFSET([1]DE100_7!$U$339,ROWS($U$339:U366)-1,COLUMNS($U$339:U366)-1),\"\")","v":{"$error":"#VALUE!"}},{"$f":"IF(OFFSET([1]DE100_7!$V$339,ROWS($V$339:V366)-1,COLUMNS($V$339:V366)-1)<>\"\",OFFSET([1]DE100_7!$V$339,ROWS($V$339:V366)-1,COLUMNS($V$339:V366)-1),\"\")","v":{"$error":"#VALUE!"}}]
[{"$f":"IF(OFFSET([1]DE100_7!$C$339,ROWS($C$339:C367)-1,COLUMNS($C$339:C367)-1)<>\"\",OFFSET([1]DE100_7!$C$339,ROWS($C$339:C367)-1,COLUMNS($C$339:C367)-1),\"\")","v":{"$error":"#VALUE!"}},{"$f":"IF(OFFSET([1]DE100_7!$D$339,ROWS($D$339:D367)-1,COLUMNS($D$339:D367)-1)<>\"\",OFFSET([1]DE100_7!$D$339,ROWS($D$339:D367)-1,COLUMNS($D$339:D367)-1),\"\")","v":{"$error":"#VALUE!"}},{"$f":"IF(OFFSET([1]DE100_7!$E$339,ROWS($E$339:E367)-1,COLUMNS($E$339:E367)-1)<>\"\",OFFSET([1]DE100_7!$E$339,ROWS($E$339:E367)-1,COLUMNS($E$339:E367)-1),\"\")","v":{"$error":"#VALUE!"}},{"$f":"IF(OFFSET([1]DE100_7!$F$339,ROWS($F$339:F367)-1,COLUMNS($F$339:F367)-1)<>\"\",OFFSET([1]DE100_7!$F$339,ROWS($F$339:F367)-1,COLUMNS($F$339:F367)-1),\"\")","v":{"$error":"#VALUE!"}},{"$f":"IF(OFFSET([1]DE100_7!$G$339,ROWS($G$339:G367)-1,COLUMNS($G$339:G367)-1)<>\"\",OFFSET([1]DE100_7!$G$339,ROWS($G$339:G367)-1,COLUMNS($G$339:G367)-1),\"\")","v":{"$error":"#VALUE!"}},{"$f":"IF(OFFSET([1]DE100_7!$H$339,ROWS($H$339:H367)-1,COLUMNS($H$339:H367)-1)<>\"\",OFFSET([1]DE100_7!$H$339,ROWS($H$339:H367)-1,COLUMNS($H$339:H367)-1),\"\")","v":{"$error":"#VALUE!"}},{"$f":"IF(OFFSET([1]DE100_7!$I$339,ROWS($I$339:I367)-1,COLUMNS($I$339:I367)-1)<>\"\",OFFSET([1]DE100_7!$I$339,ROWS($I$339:I367)-1,COLUMNS($I$339:I367)-1),\"\")","v":{"$error":"#VALUE!"}},{"$f":"IF(OFFSET([1]DE100_7!$J$339,ROWS($J$339:J367)-1,COLUMNS($J$339:J367)-1)<>\"\",OFFSET([1]DE100_7!$J$339,ROWS($J$339:J367)-1,COLUMNS($J$339:J367)-1),\"\")","v":{"$error":"#VALUE!"}},{"$f":"IF(OFFSET([1]DE100_7!$K$339,ROWS($K$339:K367)-1,COLUMNS($K$339:K367)-1)<>\"\",OFFSET([1]DE100_7!$K$339,ROWS($K$339:K367)-1,COLUMNS($K$339:K367)-1),\"\")","v":{"$error":"#VALUE!"}},{"$f":"IF(OFFSET([1]DE100_7!$L$339,ROWS($L$339:L367)-1,COLUMNS($L$339:L367)-1)<>\"\",OFFSET([1]DE100_7!$L$339,ROWS($L$339:L367)-1,COLUMNS($L$339:L367)-1),\"\")","v":{"$error":"#VALUE!"}},{"$f":"IF(OFFSET([1]DE100_7!$M$339,ROWS($M$339:M367)-1,COLUMNS($M$339:M367)-1)<>\"\",OFFSET([1]DE100_7!$M$339,ROWS($M$339:M367)-1,COLUMNS($M$339:M367)-1),\"\")","v":{"$error":"#VALUE!"}},{"$f":"IF(OFFSET([1]DE100_7!$N$339,ROWS($N$339:N367)-1,COLUMNS($N$339:N367)-1)<>\"\",OFFSET([1]DE100_7!$N$339,ROWS($N$339:N367)-1,COLUMNS($N$339:N367)-1),\"\")","v":{"$error":"#VALUE!"}},{"$f":"IF(OFFSET([1]DE100_7!$O$339,ROWS($O$339:O367)-1,COLUMNS($O$339:O367)-1)<>\"\",OFFSET([1]DE100_7!$O$339,ROWS($O$339:O367)-1,COLUMNS($O$339:O367)-1),\"\")","v":{"$error":"#VALUE!"}},{"$f":"IF(OFFSET([1]DE100_7!$P$339,ROWS($P$339:P367)-1,COLUMNS($P$339:P367)-1)<>\"\",OFFSET([1]DE100_7!$P$339,ROWS($P$339:P367)-1,COLUMNS($P$339:P367)-1),\"\")","v":{"$error":"#VALUE!"}},{"$f":"IF(OFFSET([1]DE100_7!$Q$339,ROWS($Q$339:Q367)-1,COLUMNS($Q$339:Q367)-1)<>\"\",OFFSET([1]DE100_7!$Q$339,ROWS($Q$339:Q367)-1,COLUMNS($Q$339:Q367)-1),\"\")","v":{"$error":"#VALUE!"}},{"$f":"IF(OFFSET([1]DE100_7!$R$339,ROWS($R$339:R367)-1,COLUMNS($R$339:R367)-1)<>\"\",OFFSET([1]DE100_7!$R$339,ROWS($R$339:R367)-1,COLUMNS($R$339:R367)-1),\"\")","v":{"$error":"#VALUE!"}},{"$f":"IF(OFFSET([1]DE100_7!$S$339,ROWS($S$339:S367)-1,COLUMNS($S$339:S367)-1)<>\"\",OFFSET([1]DE100_7!$S$339,ROWS($S$339:S367)-1,COLUMNS($S$339:S367)-1),\"\")","v":{"$error":"#VALUE!"}},{"$f":"IF(OFFSET([1]DE100_7!$T$339,ROWS($T$339:T367)-1,COLUMNS($T$339:T367)-1)<>\"\",OFFSET([1]DE100_7!$T$339,ROWS($T$339:T367)-1,COLUMNS($T$339:T367)-1),\"\")","v":{"$error":"#VALUE!"}},{"$f":"IF(OFFSET([1]DE100_7!$U$339,ROWS($U$339:U367)-1,COLUMNS($U$339:U367)-1)<>\"\",OFFSET([1]DE100_7!$U$339,ROWS($U$339:U367)-1,COLUMNS($U$339:U367)-1),\"\")","v":{"$error":"#VALUE!"}},{"$f":"IF(OFFSET([1]DE100_7!$V$339,ROWS($V$339:V367)-1,COLUMNS($V$339:V367)-1)<>\"\",OFFSET([1]DE100_7!$V$339,ROWS($V$339:V367)-1,COLUMNS($V$339:V367)-1),\"\")","v":{"$error":"#VALUE!"}}]
[{"$f":"IF(OFFSET([1]DE100_7!$C$339,ROWS($C$339:C368)-1,COLUMNS($C$339:C368)-1)<>\"\",OFFSET([1]DE100_7!$C$339,ROWS($C$339:C368)-1,COLUMNS($C$339:C368)-1),\"\")","v":{"$error":"#VALUE!"}},{"$f":"IF(OFFSET([1]DE100_7!$D$339,ROWS($D$339:D368)-1,COLUMNS($D$339:D368)-1)<>\"\",OFFSET([1]DE100_7!$D$339,ROWS($D$339:D368)-1,COLUMNS($D$339:D368)-1),\"\")","v":{"$error":"#VALUE!"}},{"$f":"IF(OFFSET([1]DE100_7!$E$339,ROWS($E$339:E368)-1,COLUMNS($E$339:E368)-1)<>\"\",OFFSET([1]DE100_7!$E$339,ROWS($E$339:E368)-1,COLUMNS($E$339:E368)-1),\"\")","v":{"$error":"#VALUE!"}},{"$f":"IF(OFFSET([1]DE100_7!$F$339,ROWS($F$339:F368)-1,COLUMNS($F$339:F368)-1)<>\"\",OFFSET([1]DE100_7!$F$339,ROWS($F$339:F368)-1,COLUMNS($F$339:F368)-1),\"\")","v":{"$error":"#VALUE!"}},{"$f":"IF(OFFSET([1]DE100_7!$G$339,ROWS($G$339:G368)-1,COLUMNS($G$339:G368)-1)<>\"\",OFFSET([1]DE100_7!$G$339,ROWS($G$339:G368)-1,COLUMNS($G$339:G368)-1),\"\")","v":{"$error":"#VALUE!"}},{"$f":"IF(OFFSET([1]DE100_7!$H$339,ROWS($H$339:H368)-1,COLUMNS($H$339:H368)-1)<>\"\",OFFSET([1]DE100_7!$H$339,ROWS($H$339:H368)-1,COLUMNS($H$339:H368)-1),\"\")","v":{"$error":"#VALUE!"}},{"$f":"IF(OFFSET([1]DE100_7!$I$339,ROWS($I$339:I368)-1,COLUMNS($I$339:I368)-1)<>\"\",OFFSET([1]DE100_7!$I$339,ROWS($I$339:I368)-1,COLUMNS($I$339:I368)-1),\"\")","v":{"$error":"#VALUE!"}},{"$f":"IF(OFFSET([1]DE100_7!$J$339,ROWS($J$339:J368)-1,COLUMNS($J$339:J368)-1)<>\"\",OFFSET([1]DE100_7!$J$339,ROWS($J$339:J368)-1,COLUMNS($J$339:J368)-1),\"\")","v":{"$error":"#VALUE!"}},{"$f":"IF(OFFSET([1]DE100_7!$K$339,ROWS($K$339:K368)-1,COLUMNS($K$339:K368)-1)<>\"\",OFFSET([1]DE100_7!$K$339,ROWS($K$339:K368)-1,COLUMNS($K$339:K368)-1),\"\")","v":{"$error":"#VALUE!"}},{"$f":"IF(OFFSET([1]DE100_7!$L$339,ROWS($L$339:L368)-1,COLUMNS($L$339:L368)-1)<>\"\",OFFSET([1]DE100_7!$L$339,ROWS($L$339:L368)-1,COLUMNS($L$339:L368)-1),\"\")","v":{"$error":"#VALUE!"}},{"$f":"IF(OFFSET([1]DE100_7!$M$339,ROWS($M$339:M368)-1,COLUMNS($M$339:M368)-1)<>\"\",OFFSET([1]DE100_7!$M$339,ROWS($M$339:M368)-1,COLUMNS($M$339:M368)-1),\"\")","v":{"$error":"#VALUE!"}},{"$f":"IF(OFFSET([1]DE100_7!$N$339,ROWS($N$339:N368)-1,COLUMNS($N$339:N368)-1)<>\"\",OFFSET([1]DE100_7!$N$339,ROWS($N$339:N368)-1,COLUMNS($N$339:N368)-1),\"\")","v":{"$error":"#VALUE!"}},{"$f":"IF(OFFSET([1]DE100_7!$O$339,ROWS($O$339:O368)-1,COLUMNS($O$339:O368)-1)<>\"\",OFFSET([1]DE100_7!$O$339,ROWS($O$339:O368)-1,COLUMNS($O$339:O368)-1),\"\")","v":{"$error":"#VALUE!"}},{"$f":"IF(OFFSET([1]DE100_7!$P$339,ROWS($P$339:P368)-1,COLUMNS($P$339:P368)-1)<>\"\",OFFSET([1]DE100_7!$P$339,ROWS($P$339:P368)-1,COLUMNS($P$339:P368)-1),\"\")","v":{"$error":"#VALUE!"}},{"$f":"IF(OFFSET([1]DE100_7!$Q$339,ROWS($Q$339:Q368)-1,COLUMNS($Q$339:Q368)-1)<>\"\",OFFSET([1]DE100_7!$Q$339,ROWS($Q$339:Q368)-1,COLUMNS($Q$339:Q368)-1),\"\")","v":{"$error":"#VALUE!"}},{"$f":"IF(OFFSET([1]DE100_7!$R$339,ROWS($R$339:R368)-1,COLUMNS($R$339:R368)-1)<>\"\",OFFSET([1]DE100_7!$R$339,ROWS($R$339:R368)-1,COLUMNS($R$339:R368)-1),\"\")","v":{"$error":"#VALUE!"}},{"$f":"IF(OFFSET([1]DE100_7!$S$339,ROWS($S$339:S368)-1,COLUMNS($S$339:S368)-1)<>\"\",OFFSET([1]DE100_7!$S$339,ROWS($S$339:S368)-1,COLUMNS($S$339:S368)-1),\"\")","v":{"$error":"#VALUE!"}},{"$f":"IF(OFFSET([1]DE100_7!$T$339,ROWS($T$339:T368)-1,COLUMNS($T$339:T368)-1)<>\"\",OFFSET([1]DE100_7!$T$339,ROWS($T$339:T368)-1,COLUMNS($T$339:T368)-1),\"\")","v":{"$error":"#VALUE!"}},{"$f":"IF(OFFSET([1]DE100_7!$U$339,ROWS($U$339:U368)-1,COLUMNS($U$339:U368)-1)<>\"\",OFFSET([1]DE100_7!$U$339,ROWS($U$339:U368)-1,COLUMNS($U$339:U368)-1),\"\")","v":{"$error":"#VALUE!"}},{"$f":"IF(OFFSET([1]DE100_7!$V$339,ROWS($V$339:V368)-1,COLUMNS($V$339:V368)-1)<>\"\",OFFSET([1]DE100_7!$V$339,ROWS($V$339:V368)-1,COLUMNS($V$339:V368)-1),\"\")","v":{"$error":"#VALUE!"}}]
[{"$f":"IF(OFFSET([1]DE100_7!$C$339,ROWS($C$339:C369)-1,COLUMNS($C$339:C369)-1)<>\"\",OFFSET([1]DE100_7!$C$339,ROWS($C$339:C369)-1,COLUMNS($C$339:C369)-1),\"\")","v":{"$error":"#VALUE!"}},{"$f":"IF(OFFSET([1]DE100_7!$D$339,ROWS($D$339:D369)-1,COLUMNS($D$339:D369)-1)<>\"\",OFFSET([1]DE100_7!$D$339,ROWS($D$339:D369)-1,COLUMNS($D$339:D369)-1),\"\")","v":{"$error":"#VALUE!"}},{"$f":"IF(OFFSET([1]DE100_7!$E$339,ROWS($E$339:E369)-1,COLUMNS($E$339:E369)-1)<>\"\",OFFSET([1]DE100_7!$E$339,ROWS($E$339:E369)-1,COLUMNS($E$339:E369)-1),\"\")","v":{"$error":"#VALUE!"}},{"$f":"IF(OFFSET([1]DE100_7!$F$339,ROWS($F$339:F369)-1,COLUMNS($F$339:F369)-1)<>\"\",OFFSET([1]DE100_7!$F$339,ROWS($F$339:F369)-1,COLUMNS($F$339:F369)-1),\"\")","v":{"$error":"#VALUE!"}},{"$f":"IF(OFFSET([1]DE100_7!$G$339,ROWS($G$339:G369)-1,COLUMNS($G$339:G369)-1)<>\"\",OFFSET([1]DE100_7!$G$339,ROWS($G$339:G369)-1,COLUMNS($G$339:G369)-1),\"\")","v":{"$error":"#VALUE!"}},{"$f":"IF(OFFSET([1]DE100_7!$H$339,ROWS($H$339:H369)-1,COLUMNS($H$339:H369)-1)<>\"\",OFFSET([1]DE100_7!$H$339,ROWS($H$339:H369)-1,COLUMNS($H$339:H369)-1),\"\")","v":{"$error":"#VALUE!"}},{"$f":"IF(OFFSET([1]DE100_7!$I$339,ROWS($I$339:I369)-1,COLUMNS($I$339:I369)-1)<>\"\",OFFSET([1]DE100_7!$I$339,ROWS($I$339:I369)-1,COLUMNS($I$339:I369)-1),\"\")","v":{"$error":"#VALUE!"}},{"$f":"IF(OFFSET([1]DE100_7!$J$339,ROWS($J$339:J369)-1,COLUMNS($J$339:J369)-1)<>\"\",OFFSET([1]DE100_7!$J$339,ROWS($J$339:J369)-1,COLUMNS($J$339:J369)-1),\"\")","v":{"$error":"#VALUE!"}},{"$f":"IF(OFFSET([1]DE100_7!$K$339,ROWS($K$339:K369)-1,COLUMNS($K$339:K369)-1)<>\"\",OFFSET([1]DE100_7!$K$339,ROWS($K$339:K369)-1,COLUMNS($K$339:K369)-1),\"\")","v":{"$error":"#VALUE!"}},{"$f":"IF(OFFSET([1]DE100_7!$L$339,ROWS($L$339:L369)-1,COLUMNS($L$339:L369)-1)<>\"\",OFFSET([1]DE100_7!$L$339,ROWS($L$339:L369)-1,COLUMNS($L$339:L369)-1),\"\")","v":{"$error":"#VALUE!"}},{"$f":"IF(OFFSET([1]DE100_7!$M$339,ROWS($M$339:M369)-1,COLUMNS($M$339:M369)-1)<>\"\",OFFSET([1]DE100_7!$M$339,ROWS($M$339:M369)-1,COLUMNS($M$339:M369)-1),\"\")","v":{"$error":"#VALUE!"}},{"$f":"IF(OFFSET([1]DE100_7!$N$339,ROWS($N$339:N369)-1,COLUMNS($N$339:N369)-1)<>\"\",OFFSET([1]DE100_7!$N$339,ROWS($N$339:N369)-1,COLUMNS($N$339:N369)-1),\"\")","v":{"$error":"#VALUE!"}},{"$f":"IF(OFFSET([1]DE100_7!$O$339,ROWS($O$339:O369)-1,COLUMNS($O$339:O369)-1)<>\"\",OFFSET([1]DE100_7!$O$339,ROWS($O$339:O369)-1,COLUMNS($O$339:O369)-1),\"\")","v":{"$error":"#VALUE!"}},{"$f":"IF(OFFSET([1]DE100_7!$P$339,ROWS($P$339:P369)-1,COLUMNS($P$339:P369)-1)<>\"\",OFFSET([1]DE100_7!$P$339,ROWS($P$339:P369)-1,COLUMNS($P$339:P369)-1),\"\")","v":{"$error":"#VALUE!"}},{"$f":"IF(OFFSET([1]DE100_7!$Q$339,ROWS($Q$339:Q369)-1,COLUMNS($Q$339:Q369)-1)<>\"\",OFFSET([1]DE100_7!$Q$339,ROWS($Q$339:Q369)-1,COLUMNS($Q$339:Q369)-1),\"\")","v":{"$error":"#VALUE!"}},{"$f":"IF(OFFSET([1]DE100_7!$R$339,ROWS($R$339:R369)-1,COLUMNS($R$339:R369)-1)<>\"\",OFFSET([1]DE100_7!$R$339,ROWS($R$339:R369)-1,COLUMNS($R$339:R369)-1),\"\")","v":{"$error":"#VALUE!"}},{"$f":"IF(OFFSET([1]DE100_7!$S$339,ROWS($S$339:S369)-1,COLUMNS($S$339:S369)-1)<>\"\",OFFSET([1]DE100_7!$S$339,ROWS($S$339:S369)-1,COLUMNS($S$339:S369)-1),\"\")","v":{"$error":"#VALUE!"}},{"$f":"IF(OFFSET([1]DE100_7!$T$339,ROWS($T$339:T369)-1,COLUMNS($T$339:T369)-1)<>\"\",OFFSET([1]DE100_7!$T$339,ROWS($T$339:T369)-1,COLUMNS($T$339:T369)-1),\"\")","v":{"$error":"#VALUE!"}},{"$f":"IF(OFFSET([1]DE100_7!$U$339,ROWS($U$339:U369)-1,COLUMNS($U$339:U369)-1)<>\"\",OFFSET([1]DE100_7!$U$339,ROWS($U$339:U369)-1,COLUMNS($U$339:U369)-1),\"\")","v":{"$error":"#VALUE!"}},{"$f":"IF(OFFSET([1]DE100_7!$V$339,ROWS($V$339:V369)-1,COLUMNS($V$339:V369)-1)<>\"\",OFFSET([1]DE100_7!$V$339,ROWS($V$339:V369)-1,COLUMNS($V$339:V369)-1),\"\")","v":{"$error":"#VALUE!"}}]
[{"$f":"IF(OFFSET([1]DE100_7!$C$339,ROWS($C$339:C370)-1,COLUMNS($C$339:C370)-1)<>\"\",OFFSET([1]DE100_7!$C$339,ROWS($C$339:C370)-1,COLUMNS($C$339:C370)-1),\"\")","v":{"$error":"#VALUE!"}},{"$f":"IF(OFFSET([1]DE100_7!$D$339,ROWS($D$339:D370)-1,COLUMNS($D$339:D370)-1)<>\"\",OFFSET([1]DE100_7!$D$339,ROWS($D$339:D370)-1,COLUMNS($D$339:D370)-1),\"\")","v":{"$error":"#VALUE!"}},{"$f":"IF(OFFSET([1]DE100_7!$E$339,ROWS($E$339:E370)-1,COLUMNS($E$339:E370)-1)<>\"\",OFFSET([1]DE100_7!$E$339,ROWS($E$339:E370)-1,COLUMNS($E$339:E370)-1),\"\")","v":{"$error":"#VALUE!"}},{"$f":"IF(OFFSET([1]DE100_7!$F$339,ROWS($F$339:F370)-1,COLUMNS($F$339:F370)-1)<>\"\",OFFSET([1]DE100_7!$F$339,ROWS($F$339:F370)-1,COLUMNS($F$339:F370)-1),\"\")","v":{"$error":"#VALUE!"}},{"$f":"IF(OFFSET([1]DE100_7!$G$339,ROWS($G$339:G370)-1,COLUMNS($G$339:G370)-1)<>\"\",OFFSET([1]DE100_7!$G$339,ROWS($G$339:G370)-1,COLUMNS($G$339:G370)-1),\"\")","v":{"$error":"#VALUE!"}},{"$f":"IF(OFFSET([1]DE100_7!$H$339,ROWS($H$339:H370)-1,COLUMNS($H$339:H370)-1)<>\"\",OFFSET([1]DE100_7!$H$339,ROWS($H$339:H370)-1,COLUMNS($H$339:H370)-1),\"\")","v":{"$error":"#VALUE!"}},{"$f":"IF(OFFSET([1]DE100_7!$I$339,ROWS($I$339:I370)-1,COLUMNS($I$339:I370)-1)<>\"\",OFFSET([1]DE100_7!$I$339,ROWS($I$339:I370)-1,COLUMNS($I$339:I370)-1),\"\")","v":{"$error":"#VALUE!"}},{"$f":"IF(OFFSET([1]DE100_7!$J$339,ROWS($J$339:J370)-1,COLUMNS($J$339:J370)-1)<>\"\",OFFSET([1]DE100_7!$J$339,ROWS($J$339:J370)-1,COLUMNS($J$339:J370)-1),\"\")","v":{"$error":"#VALUE!"}},{"$f":"IF(OFFSET([1]DE100_7!$K$339,ROWS($K$339:K370)-1,COLUMNS($K$339:K370)-1)<>\"\",OFFSET([1]DE100_7!$K$339,ROWS($K$339:K370)-1,COLUMNS($K$339:K370)-1),\"\")","v":{"$error":"#VALUE!"}},{"$f":"IF(OFFSET([1]DE100_7!$L$339,ROWS($L$339:L370)-1,COLUMNS($L$339:L370)-1)<>\"\",OFFSET([1]DE100_7!$L$339,ROWS($L$339:L370)-1,COLUMNS($L$339:L370)-1),\"\")","v":{"$error":"#VALUE!"}},{"$f":"IF(OFFSET([1]DE100_7!$M$339,ROWS($M$339:M370)-1,COLUMNS($M$339:M370)-1)<>\"\",OFFSET([1]DE100_7!$M$339,ROWS($M$339:M370)-1,COLUMNS($M$339:M370)-1),\"\")","v":{"$error":"#VALUE!"}},{"$f":"IF(OFFSET([1]DE100_7!$N$339,ROWS($N$339:N370)-1,COLUMNS($N$339:N370)-1)<>\"\",OFFSET([1]DE100_7!$N$339,ROWS($N$339:N370)-1,COLUMNS($N$339:N370)-1),\"\")","v":{"$error":"#VALUE!"}},{"$f":"IF(OFFSET([1]DE100_7!$O$339,ROWS($O$339:O370)-1,COLUMNS($O$339:O370)-1)<>\"\",OFFSET([1]DE100_7!$O$339,ROWS($O$339:O370)-1,COLUMNS($O$339:O370)-1),\"\")","v":{"$error":"#VALUE!"}},{"$f":"IF(OFFSET([1]DE100_7!$P$339,ROWS($P$339:P370)-1,COLUMNS($P$339:P370)-1)<>\"\",OFFSET([1]DE100_7!$P$339,ROWS($P$339:P370)-1,COLUMNS($P$339:P370)-1),\"\")","v":{"$error":"#VALUE!"}},{"$f":"IF(OFFSET([1]DE100_7!$Q$339,ROWS($Q$339:Q370)-1,COLUMNS($Q$339:Q370)-1)<>\"\",OFFSET([1]DE100_7!$Q$339,ROWS($Q$339:Q370)-1,COLUMNS($Q$339:Q370)-1),\"\")","v":{"$error":"#VALUE!"}},{"$f":"IF(OFFSET([1]DE100_7!$R$339,ROWS($R$339:R370)-1,COLUMNS($R$339:R370)-1)<>\"\",OFFSET([1]DE100_7!$R$339,ROWS($R$339:R370)-1,COLUMNS($R$339:R370)-1),\"\")","v":{"$error":"#VALUE!"}},{"$f":"IF(OFFSET([1]DE100_7!$S$339,ROWS($S$339:S370)-1,COLUMNS($S$339:S370)-1)<>\"\",OFFSET([1]DE100_7!$S$339,ROWS($S$339:S370)-1,COLUMNS($S$339:S370)-1),\"\")","v":{"$error":"#VALUE!"}},{"$f":"IF(OFFSET([1]DE100_7!$T$339,ROWS($T$339:T370)-1,COLUMNS($T$339:T370)-1)<>\"\",OFFSET([1]DE100_7!$T$339,ROWS($T$339:T370)-1,COLUMNS($T$339:T370)-1),\"\")","v":{"$error":"#VALUE!"}},{"$f":"IF(OFFSET([1]DE100_7!$U$339,ROWS($U$339:U370)-1,COLUMNS($U$339:U370)-1)<>\"\",OFFSET([1]DE100_7!$U$339,ROWS($U$339:U370)-1,COLUMNS($U$339:U370)-1),\"\")","v":{"$error":"#VALUE!"}},{"$f":"IF(OFFSET([1]DE100_7!$V$339,ROWS($V$339:V370)-1,COLUMNS($V$339:V370)-1)<>\"\",OFFSET([1]DE100_7!$V$339,ROWS($V$339:V370)-1,COLUMNS($V$339:V370)-1),\"\")","v":{"$error":"#VALUE!"}}]
[{"$f":"IF(OFFSET([1]DE100_7!$C$339,ROWS($C$339:C371)-1,COLUMNS($C$339:C371)-1)<>\"\",OFFSET([1]DE100_7!$C$339,ROWS($C$339:C371)-1,COLUMNS($C$339:C371)-1),\"\")","v":{"$error":"#VALUE!"}},null,null,null,{"$f":"IF(OFFSET([1]DE100_7!$G$339,ROWS($G$339:G371)-1,COLUMNS($G$339:G371)-1)<>\"\",OFFSET([1]DE100_7!$G$339,ROWS($G$339:G371)-1,COLUMNS($G$339:G371)-1),\"\")","v":{"$error":"#VALUE!"}},{"$f":"IF(OFFSET([1]DE100_7!$H$339,ROWS($H$339:H371)-1,COLUMNS($H$339:H371)-1)<>\"\",OFFSET([1]DE100_7!$H$339,ROWS($H$339:H371)-1,COLUMNS($H$339:H371)-1),\"\")","v":{"$error":"#VALUE!"}},{"$f":"IF(OFFSET([1]DE100_7!$I$339,ROWS($I$339:I371)-1,COLUMNS($I$339:I371)-1)<>\"\",OFFSET([1]DE100_7!$I$339,ROWS($I$339:I371)-1,COLUMNS($I$339:I371)-1),\"\")","v":{"$error":"#VALUE!"}},{"$f":"IF(OFFSET([1]DE100_7!$J$339,ROWS($J$339:J371)-1,COLUMNS($J$339:J371)-1)<>\"\",OFFSET([1]DE100_7!$J$339,ROWS($J$339:J371)-1,COLUMNS($J$339:J371)-1),\"\")","v":{"$error":"#VALUE!"}},{"$f":"IF(OFFSET([1]DE100_7!$K$339,ROWS($K$339:K371)-1,COLUMNS($K$339:K371)-1)<>\"\",OFFSET([1]DE100_7!$K$339,ROWS($K$339:K371)-1,COLUMNS($K$339:K371)-1),\"\")","v":{"$error":"#VALUE!"}},{"$f":"IF(OFFSET([1]DE100_7!$L$339,ROWS($L$339:L371)-1,COLUMNS($L$339:L371)-1)<>\"\",OFFSET([1]DE100_7!$L$339,ROWS($L$339:L371)-1,COLUMNS($L$339:L371)-1),\"\")","v":{"$error":"#VALUE!"}},{"$f":"IF(OFFSET([1]DE100_7!$M$339,ROWS($M$339:M371)-1,COLUMNS($M$339:M371)-1)<>\"\",OFFSET([1]DE100_7!$M$339,ROWS($M$339:M371)-1,COLUMNS($M$339:M371)-1),\"\")","v":{"$error":"#VALUE!"}},{"$f":"IF(OFFSET([1]DE100_7!$N$339,ROWS($N$339:N371)-1,COLUMNS($N$339:N371)-1)<>\"\",OFFSET([1]DE100_7!$N$339,ROWS($N$339:N371)-1,COLUMNS($N$339:N371)-1),\"\")","v":{"$error":"#VALUE!"}},{"$f":"IF(OFFSET([1]DE100_7!$O$339,ROWS($O$339:O371)-1,COLUMNS($O$339:O371)-1)<>\"\",OFFSET([1]DE100_7!$O$339,ROWS($O$339:O371)-1,COLUMNS($O$339:O371)-1),\"\")","v":{"$error":"#VALUE!"}},{"$f":"IF(OFFSET([1]DE100_7!$P$339,ROWS($P$339:P371)-1,COLUMNS($P$339:P371)-1)<>\"\",OFFSET([1]DE100_7!$P$339,ROWS($P$339:P371)-1,COLUMNS($P$339:P371)-1),\"\")","v":{"$error":"#VALUE!"}},{"$f":"IF(OFFSET([1]DE100_7!$Q$339,ROWS($Q$339:Q371)-1,COLUMNS($Q$339:Q371)-1)<>\"\",OFFSET([1]DE100_7!$Q$339,ROWS($Q$339:Q371)-1,COLUMNS($Q$339:Q371)-1),\"\")","v":{"$error":"#VALUE!"}},{"$f":"IF(OFFSET([1]DE100_7!$R$339,ROWS($R$339:R371)-1,COLUMNS($R$339:R371)-1)<>\"\",OFFSET([1]DE100_7!$R$339,ROWS($R$339:R371)-1,COLUMNS($R$339:R371)-1),\"\")","v":{"$error":"#VALUE!"}},{"$f":"IF(OFFSET([1]DE100_7!$S$339,ROWS($S$339:S371)-1,COLUMNS($S$339:S371)-1)<>\"\",OFFSET([1]DE100_7!$S$339,ROWS($S$339:S371)-1,COLUMNS($S$339:S371)-1),\"\")","v":{"$error":"#VALUE!"}},{"$f":"IF(OFFSET([1]DE100_7!$T$339,ROWS($T$339:T371)-1,COLUMNS($T$339:T371)-1)<>\"\",OFFSET([1]DE100_7!$T$339,ROWS($T$339:T371)-1,COLUMNS($T$339:T371)-1),\"\")","v":{"$error":"#VALUE!"}},{"$f":"IF(OFFSET([1]DE100_7!$U$339,ROWS($U$339:U371)-1,COLUMNS($U$339:U371)-1)<>\"\",OFFSET([1]DE100_7!$U$339,ROWS($U$339:U371)-1,COLUMNS($U$339:U371)-1),\"\")","v":{"$error":"#VALUE!"}},{"$f":"IF(OFFSET([1]DE100_7!$V$339,ROWS($V$339:V371)-1,COLUMNS($V$339:V371)-1)<>\"\",OFFSET([1]DE100_7!$V$339,ROWS($V$339:V371)-1,COLUMNS($V$339:V371)-1),\"\")","v":{"$error":"#VALUE!"}}]
[{"$f":"IF(OFFSET([1]DE100_7!$C$339,ROWS($C$339:C372)-1,COLUMNS($C$339:C372)-1)<>\"\",OFFSET([1]DE100_7!$C$339,ROWS($C$339:C372)-1,COLUMNS($C$339:C372)-1),\"\")","v":{"$error":"#VALUE!"}},{"$f":"IF(OFFSET([1]DE100_7!$D$339,ROWS($D$339:D372)-1,COLUMNS($D$339:D372)-1)<>\"\",OFFSET([1]DE100_7!$D$339,ROWS($D$339:D372)-1,COLUMNS($D$339:D372)-1),\"\")","v":{"$error":"#VALUE!"}},{"$f":"IF(OFFSET([1]DE100_7!$E$339,ROWS($E$339:E372)-1,COLUMNS($E$339:E372)-1)<>\"\",OFFSET([1]DE100_7!$E$339,ROWS($E$339:E372)-1,COLUMNS($E$339:E372)-1),\"\")","v":{"$error":"#VALUE!"}},{"$f":"IF(OFFSET([1]DE100_7!$F$339,ROWS($F$339:F372)-1,COLUMNS($F$339:F372)-1)<>\"\",OFFSET([1]DE100_7!$F$339,ROWS($F$339:F372)-1,COLUMNS($F$339:F372)-1),\"\")","v":{"$error":"#VALUE!"}},{"$f":"IF(OFFSET([1]DE100_7!$G$339,ROWS($G$339:G372)-1,COLUMNS($G$339:G372)-1)<>\"\",OFFSET([1]DE100_7!$G$339,ROWS($G$339:G372)-1,COLUMNS($G$339:G372)-1),\"\")","v":{"$error":"#VALUE!"}},{"$f":"IF(OFFSET([1]DE100_7!$H$339,ROWS($H$339:H372)-1,COLUMNS($H$339:H372)-1)<>\"\",OFFSET([1]DE100_7!$H$339,ROWS($H$339:H372)-1,COLUMNS($H$339:H372)-1),\"\")","v":{"$error":"#VALUE!"}},{"$f":"IF(OFFSET([1]DE100_7!$I$339,ROWS($I$339:I372)-1,COLUMNS($I$339:I372)-1)<>\"\",OFFSET([1]DE100_7!$I$339,ROWS($I$339:I372)-1,COLUMNS($I$339:I372)-1),\"\")","v":{"$error":"#VALUE!"}},{"$f":"IF(OFFSET([1]DE100_7!$J$339,ROWS($J$339:J372)-1,COLUMNS($J$339:J372)-1)<>\"\",OFFSET([1]DE100_7!$J$339,ROWS($J$339:J372)-1,COLUMNS($J$339:J372)-1),\"\")","v":{"$error":"#VALUE!"}},{"$f":"IF(OFFSET([1]DE100_7!$K$339,ROWS($K$339:K372)-1,COLUMNS($K$339:K372)-1)<>\"\",OFFSET([1]DE100_7!$K$339,ROWS($K$339:K372)-1,COLUMNS($K$339:K372)-1),\"\")","v":{"$error":"#VALUE!"}},{"$f":"IF(OFFSET([1]DE100_7!$L$339,ROWS($L$339:L372)-1,COLUMNS($L$339:L372)-1)<>\"\",OFFSET([1]DE100_7!$L$339,ROWS($L$339:L372)-1,COLUMNS($L$339:L372)-1),\"\")","v":{"$error":"#VALUE!"}},{"$f":"IF(OFFSET([1]DE100_7!$M$339,ROWS($M$339:M372)-1,COLUMNS($M$339:M372)-1)<>\"\",OFFSET([1]DE100_7!$M$339,ROWS($M$339:M372)-1,COLUMNS($M$339:M372)-1),\"\")","v":{"$error":"#VALUE!"}},{"$f":"IF(OFFSET([1]DE100_7!$N$339,ROWS($N$339:N372)-1,COLUMNS($N$339:N372)-1)<>\"\",OFFSET([1]DE100_7!$N$339,ROWS($N$339:N372)-1,COLUMNS($N$339:N372)-1),\"\")","v":{"$error":"#VALUE!"}},{"$f":"IF(OFFSET([1]DE100_7!$O$339,ROWS($O$339:O372)-1,COLUMNS($O$339:O372)-1)<>\"\",OFFSET([1]DE100_7!$O$339,ROWS($O$339:O372)-1,COLUMNS($O$339:O372)-1),\"\")","v":{"$error":"#VALUE!"}},{"$f":"IF(OFFSET([1]DE100_7!$P$339,ROWS($P$339:P372)-1,COLUMNS($P$339:P372)-1)<>\"\",OFFSET([1]DE100_7!$P$339,ROWS($P$339:P372)-1,COLUMNS($P$339:P372)-1),\"\")","v":{"$error":"#VALUE!"}},{"$f":"IF(OFFSET([1]DE100_7!$Q$339,ROWS($Q$339:Q372)-1,COLUMNS($Q$339:Q372)-1)<>\"\",OFFSET([1]DE100_7!$Q$339,ROWS($Q$339:Q372)-1,COLUMNS($Q$339:Q372)-1),\"\")","v":{"$error":"#VALUE!"}},{"$f":"IF(OFFSET([1]DE100_7!$R$339,ROWS($R$339:R372)-1,COLUMNS($R$339:R372)-1)<>\"\",OFFSET([1]DE100_7!$R$339,ROWS($R$339:R372)-1,COLUMNS($R$339:R372)-1),\"\")","v":{"$error":"#VALUE!"}},{"$f":"IF(OFFSET([1]DE100_7!$S$339,ROWS($S$339:S372)-1,COLUMNS($S$339:S372)-1)<>\"\",OFFSET([1]DE100_7!$S$339,ROWS($S$339:S372)-1,COLUMNS($S$339:S372)-1),\"\")","v":{"$error":"#VALUE!"}},{"$f":"IF(OFFSET([1]DE100_7!$T$339,ROWS($T$339:T372)-1,COLUMNS($T$339:T372)-1)<>\"\",OFFSET([1]DE100_7!$T$339,ROWS($T$339:T372)-1,COLUMNS($T$339:T372)-1),\"\")","v":{"$error":"#VALUE!"}},{"$f":"IF(OFFSET([1]DE100_7!$U$339,ROWS($U$339:U372)-1,COLUMNS($U$339:U372)-1)<>\"\",OFFSET([1]DE100_7!$U$339,ROWS($U$339:U372)-1,COLUMNS($U$339:U372)-1),\"\")","v":{"$error":"#VALUE!"}},{"$f":"IF(OFFSET([1]DE100_7!$V$339,ROWS($V$339:V372)-1,COLUMNS($V$339:V372)-1)<>\"\",OFFSET([1]DE100_7!$V$339,ROWS($V$339:V372)-1,COLUMNS($V$339:V372)-1),\"\")","v":{"$error":"#VALUE!"}}]
[{"$f":"IF(OFFSET([1]DE100_7!$C$339,ROWS($C$339:C373)-1,COLUMNS($C$339:C373)-1)<>\"\",OFFSET([1]DE100_7!$C$339,ROWS($C$339:C373)-1,COLUMNS($C$339:C373)-1),\"\")","v":{"$error":"#VALUE!"}},{"$f":"IF(OFFSET([1]DE100_7!$D$339,ROWS($D$339:D373)-1,COLUMNS($D$339:D373)-1)<>\"\",OFFSET([1]DE100_7!$D$339,ROWS($D$339:D373)-1,COLUMNS($D$339:D373)-1),\"\")","v":{"$error":"#VALUE!"}},{"$f":"IF(OFFSET([1]DE100_7!$E$339,ROWS($E$339:E373)-1,COLUMNS($E$339:E373)-1)<>\"\",OFFSET([1]DE100_7!$E$339,ROWS($E$339:E373)-1,COLUMNS($E$339:E373)-1),\"\")","v":{"$error":"#VALUE!"}},{"$f":"IF(OFFSET([1]DE100_7!$F$339,ROWS($F$339:F373)-1,COLUMNS($F$339:F373)-1)<>\"\",OFFSET([1]DE100_7!$F$339,ROWS($F$339:F373)-1,COLUMNS($F$339:F373)-1),\"\")","v":{"$error":"#VALUE!"}},{"$f":"IF(OFFSET([1]DE100_7!$G$339,ROWS($G$339:G373)-1,COLUMNS($G$339:G373)-1)<>\"\",OFFSET([1]DE100_7!$G$339,ROWS($G$339:G373)-1,COLUMNS($G$339:G373)-1),\"\")","v":{"$error":"#VALUE!"}},{"$f":"IF(OFFSET([1]DE100_7!$H$339,ROWS($H$339:H373)-1,COLUMNS($H$339:H373)-1)<>\"\",OFFSET([1]DE100_7!$H$339,ROWS($H$339:H373)-1,COLUMNS($H$339:H373)-1),\"\")","v":{"$error":"#VALUE!"}},{"$f":"IF(OFFSET([1]DE100_7!$I$339,ROWS($I$339:I373)-1,COLUMNS($I$339:I373)-1)<>\"\",OFFSET([1]DE100_7!$I$339,ROWS($I$339:I373)-1,COLUMNS($I$339:I373)-1),\"\")","v":{"$error":"#VALUE!"}},{"$f":"IF(OFFSET([1]DE100_7!$J$339,ROWS($J$339:J373)-1,COLUMNS($J$339:J373)-1)<>\"\",OFFSET([1]DE100_7!$J$339,ROWS($J$339:J373)-1,COLUMNS($J$339:J373)-1),\"\")","v":{"$error":"#VALUE!"}},{"$f":"IF(OFFSET([1]DE100_7!$K$339,ROWS($K$339:K373)-1,COLUMNS($K$339:K373)-1)<>\"\",OFFSET([1]DE100_7!$K$339,ROWS($K$339:K373)-1,COLUMNS($K$339:K373)-1),\"\")","v":{"$error":"#VALUE!"}},{"$f":"IF(OFFSET([1]DE100_7!$L$339,ROWS($L$339:L373)-1,COLUMNS($L$339:L373)-1)<>\"\",OFFSET([1]DE100_7!$L$339,ROWS($L$339:L373)-1,COLUMNS($L$339:L373)-1),\"\")","v":{"$error":"#VALUE!"}},{"$f":"IF(OFFSET([1]DE100_7!$M$339,ROWS($M$339:M373)-1,COLUMNS($M$339:M373)-1)<>\"\",OFFSET([1]DE100_7!$M$339,ROWS($M$339:M373)-1,COLUMNS($M$339:M373)-1),\"\")","v":{"$error":"#VALUE!"}},{"$f":"IF(OFFSET([1]DE100_7!$N$339,ROWS($N$339:N373)-1,COLUMNS($N$339:N373)-1)<>\"\",OFFSET([1]DE100_7!$N$339,ROWS($N$339:N373)-1,COLUMNS($N$339:N373)-1),\"\")","v":{"$error":"#VALUE!"}},{"$f":"IF(OFFSET([1]DE100_7!$O$339,ROWS($O$339:O373)-1,COLUMNS($O$339:O373)-1)<>\"\",OFFSET([1]DE100_7!$O$339,ROWS($O$339:O373)-1,COLUMNS($O$339:O373)-1),\"\")","v":{"$error":"#VALUE!"}},{"$f":"IF(OFFSET([1]DE100_7!$P$339,ROWS($P$339:P373)-1,COLUMNS($P$339:P373)-1)<>\"\",OFFSET([1]DE100_7!$P$339,ROWS($P$339:P373)-1,COLUMNS($P$339:P373)-1),\"\")","v":{"$error":"#VALUE!"}},{"$f":"IF(OFFSET([1]DE100_7!$Q$339,ROWS($Q$339:Q373)-1,COLUMNS($Q$339:Q373)-1)<>\"\",OFFSET([1]DE100_7!$Q$339,ROWS($Q$339:Q373)-1,COLUMNS($Q$339:Q373)-1),\"\")","v":{"$error":"#VALUE!"}},{"$f":"IF(OFFSET([1]DE100_7!$R$339,ROWS($R$339:R373)-1,COLUMNS($R$339:R373)-1)<>\"\",OFFSET([1]DE100_7!$R$339,ROWS($R$339:R373)-1,COLUMNS($R$339:R373)-1),\"\")","v":{"$error":"#VALUE!"}},{"$f":"IF(OFFSET([1]DE100_7!$S$339,ROWS($S$339:S373)-1,COLUMNS($S$339:S373)-1)<>\"\",OFFSET([1]DE100_7!$S$339,ROWS($S$339:S373)-1,COLUMNS($S$339:S373)-1),\"\")","v":{"$error":"#VALUE!"}},{"$f":"IF(OFFSET([1]DE100_7!$T$339,ROWS($T$339:T373)-1,COLUMNS($T$339:T373)-1)<>\"\",OFFSET([1]DE100_7!$T$339,ROWS($T$339:T373)-1,COLUMNS($T$339:T373)-1),\"\")","v":{"$error":"#VALUE!"}},{"$f":"IF(OFFSET([1]DE100_7!$U$339,ROWS($U$339:U373)-1,COLUMNS($U$339:U373)-1)<>\"\",OFFSET([1]DE100_7!$U$339,ROWS($U$339:U373)-1,COLUMNS($U$339:U373)-1),\"\")","v":{"$error":"#VALUE!"}},{"$f":"IF(OFFSET([1]DE100_7!$V$339,ROWS($V$339:V373)-1,COLUMNS($V$339:V373)-1)<>\"\",OFFSET([1]DE100_7!$V$339,ROWS($V$339:V373)-1,COLUMNS($V$339:V373)-1),\"\")","v":{"$error":"#VALUE!"}}]
[{"$f":"IF(OFFSET([1]DE100_7!$C$339,ROWS($C$339:C374)-1,COLUMNS($C$339:C374)-1)<>\"\",OFFSET([1]DE100_7!$C$339,ROWS($C$339:C374)-1,COLUMNS($C$339:C374)-1),\"\")","v":{"$error":"#VALUE!"}},{"$f":"IF(OFFSET([1]DE100_7!$D$339,ROWS($D$339:D374)-1,COLUMNS($D$339:D374)-1)<>\"\",OFFSET([1]DE100_7!$D$339,ROWS($D$339:D374)-1,COLUMNS($D$339:D374)-1),\"\")","v":{"$error":"#VALUE!"}},{"$f":"IF(OFFSET([1]DE100_7!$E$339,ROWS($E$339:E374)-1,COLUMNS($E$339:E374)-1)<>\"\",OFFSET([1]DE100_7!$E$339,ROWS($E$339:E374)-1,COLUMNS($E$339:E374)-1),\"\")","v":{"$error":"#VALUE!"}},{"$f":"IF(OFFSET([1]DE100_7!$F$339,ROWS($F$339:F374)-1,COLUMNS($F$339:F374)-1)<>\"\",OFFSET([1]DE100_7!$F$339,ROWS($F$339:F374)-1,COLUMNS($F$339:F374)-1),\"\")","v":{"$error":"#VALUE!"}},{"$f":"IF(OFFSET([1]DE100_7!$G$339,ROWS($G$339:G374)-1,COLUMNS($G$339:G374)-1)<>\"\",OFFSET([1]DE100_7!$G$339,ROWS($G$339:G374)-1,COLUMNS($G$339:G374)-1),\"\")","v":{"$error":"#VALUE!"}},{"$f":"IF(OFFSET([1]DE100_7!$H$339,ROWS($H$339:H374)-1,COLUMNS($H$339:H374)-1)<>\"\",OFFSET([1]DE100_7!$H$339,ROWS($H$339:H374)-1,COLUMNS($H$339:H374)-1),\"\")","v":{"$error":"#VALUE!"}},{"$f":"IF(OFFSET([1]DE100_7!$I$339,ROWS($I$339:I374)-1,COLUMNS($I$339:I374)-1)<>\"\",OFFSET([1]DE100_7!$I$339,ROWS($I$339:I374)-1,COLUMNS($I$339:I374)-1),\"\")","v":{"$error":"#VALUE!"}},{"$f":"IF(OFFSET([1]DE100_7!$J$339,ROWS($J$339:J374)-1,COLUMNS($J$339:J374)-1)<>\"\",OFFSET([1]DE100_7!$J$339,ROWS($J$339:J374)-1,COLUMNS($J$339:J374)-1),\"\")","v":{"$error":"#VALUE!"}},{"$f":"IF(OFFSET([1]DE100_7!$K$339,ROWS($K$339:K374)-1,COLUMNS($K$339:K374)-1)<>\"\",OFFSET([1]DE100_7!$K$339,ROWS($K$339:K374)-1,COLUMNS($K$339:K374)-1),\"\")","v":{"$error":"#VALUE!"}},{"$f":"IF(OFFSET([1]DE100_7!$L$339,ROWS($L$339:L374)-1,COLUMNS($L$339:L374)-1)<>\"\",OFFSET([1]DE100_7!$L$339,ROWS($L$339:L374)-1,COLUMNS($L$339:L374)-1),\"\")","v":{"$error":"#VALUE!"}},{"$f":"IF(OFFSET([1]DE100_7!$M$339,ROWS($M$339:M374)-1,COLUMNS($M$339:M374)-1)<>\"\",OFFSET([1]DE100_7!$M$339,ROWS($M$339:M374)-1,COLUMNS($M$339:M374)-1),\"\")","v":{"$error":"#VALUE!"}},{"$f":"IF(OFFSET([1]DE100_7!$N$339,ROWS($N$339:N374)-1,COLUMNS($N$339:N374)-1)<>\"\",OFFSET([1]DE100_7!$N$339,ROWS($N$339:N374)-1,COLUMNS($N$339:N374)-1),\"\")","v":{"$error":"#VALUE!"}},{"$f":"IF(OFFSET([1]DE100_7!$O$339,ROWS($O$339:O374)-1,COLUMNS($O$339:O374)-1)<>\"\",OFFSET([1]DE100_7!$O$339,ROWS($O$339:O374)-1,COLUMNS($O$339:O374)-1),\"\")","v":{"$error":"#VALUE!"}},{"$f":"IF(OFFSET([1]DE100_7!$P$339,ROWS($P$339:P374)-1,COLUMNS($P$339:P374)-1)<>\"\",OFFSET([1]DE100_7!$P$339,ROWS($P$339:P374)-1,COLUMNS($P$339:P374)-1),\"\")","v":{"$error":"#VALUE!"}},{"$f":"IF(OFFSET([1]DE100_7!$Q$339,ROWS($Q$339:Q374)-1,COLUMNS($Q$339:Q374)-1)<>\"\",OFFSET([1]DE100_7!$Q$339,ROWS($Q$339:Q374)-1,COLUMNS($Q$339:Q374)-1),\"\")","v":{"$error":"#VALUE!"}},{"$f":"IF(OFFSET([1]DE100_7!$R$339,ROWS($R$339:R374)-1,COLUMNS($R$339:R374)-1)<>\"\",OFFSET([1]DE100_7!$R$339,ROWS($R$339:R374)-1,COLUMNS($R$339:R374)-1),\"\")","v":{"$error":"#VALUE!"}},{"$f":"IF(OFFSET([1]DE100_7!$S$339,ROWS($S$339:S374)-1,COLUMNS($S$339:S374)-1)<>\"\",OFFSET([1]DE100_7!$S$339,ROWS($S$339:S374)-1,COLUMNS($S$339:S374)-1),\"\")","v":{"$error":"#VALUE!"}},{"$f":"IF(OFFSET([1]DE100_7!$T$339,ROWS($T$339:T374)-1,COLUMNS($T$339:T374)-1)<>\"\",OFFSET([1]DE100_7!$T$339,ROWS($T$339:T374)-1,COLUMNS($T$339:T374)-1),\"\")","v":{"$error":"#VALUE!"}},{"$f":"IF(OFFSET([1]DE100_7!$U$339,ROWS($U$339:U374)-1,COLUMNS($U$339:U374)-1)<>\"\",OFFSET([1]DE100_7!$U$339,ROWS($U$339:U374)-1,COLUMNS($U$339:U374)-1),\"\")","v":{"$error":"#VALUE!"}},{"$f":"IF(OFFSET([1]DE100_7!$V$339,ROWS($V$339:V374)-1,COLUMNS($V$339:V374)-1)<>\"\",OFFSET([1]DE100_7!$V$339,ROWS($V$339:V374)-1,COLUMNS($V$339:V374)-1),\"\")","v":{"$error":"#VALUE!"}}]
[{"$f":"IF(OFFSET([1]DE100_7!$C$339,ROWS($C$339:C375)-1,COLUMNS($C$339:C375)-1)<>\"\",OFFSET([1]DE100_7!$C$339,ROWS($C$339:C375)-1,COLUMNS($C$339:C375)-1),\"\")","v":{"$error":"#VALUE!"}},{"$f":"IF(OFFSET([1]DE100_7!$D$339,ROWS($D$339:D375)-1,COLUMNS($D$339:D375)-1)<>\"\",OFFSET([1]DE100_7!$D$339,ROWS($D$339:D375)-1,COLUMNS($D$339:D375)-1),\"\")","v":{"$error":"#VALUE!"}},{"$f":"IF(OFFSET([1]DE100_7!$E$339,ROWS($E$339:E375)-1,COLUMNS($E$339:E375)-1)<>\"\",OFFSET([1]DE100_7!$E$339,ROWS($E$339:E375)-1,COLUMNS($E$339:E375)-1),\"\")","v":{"$error":"#VALUE!"}},{"$f":"IF(OFFSET([1]DE100_7!$F$339,ROWS($F$339:F375)-1,COLUMNS($F$339:F375)-1)<>\"\",OFFSET([1]DE100_7!$F$339,ROWS($F$339:F375)-1,COLUMNS($F$339:F375)-1),\"\")","v":{"$error":"#VALUE!"}},{"$f":"IF(OFFSET([1]DE100_7!$G$339,ROWS($G$339:G375)-1,COLUMNS($G$339:G375)-1)<>\"\",OFFSET([1]DE100_7!$G$339,ROWS($G$339:G375)-1,COLUMNS($G$339:G375)-1),\"\")","v":{"$error":"#VALUE!"}},{"$f":"IF(OFFSET([1]DE100_7!$H$339,ROWS($H$339:H375)-1,COLUMNS($H$339:H375)-1)<>\"\",OFFSET([1]DE100_7!$H$339,ROWS($H$339:H375)-1,COLUMNS($H$339:H375)-1),\"\")","v":{"$error":"#VALUE!"}},{"$f":"IF(OFFSET([1]DE100_7!$I$339,ROWS($I$339:I375)-1,COLUMNS($I$339:I375)-1)<>\"\",OFFSET([1]DE100_7!$I$339,ROWS($I$339:I375)-1,COLUMNS($I$339:I375)-1),\"\")","v":{"$error":"#VALUE!"}},{"$f":"IF(OFFSET([1]DE100_7!$J$339,ROWS($J$339:J375)-1,COLUMNS($J$339:J375)-1)<>\"\",OFFSET([1]DE100_7!$J$339,ROWS($J$339:J375)-1,COLUMNS($J$339:J375)-1),\"\")","v":{"$error":"#VALUE!"}},{"$f":"IF(OFFSET([1]DE100_7!$K$339,ROWS($K$339:K375)-1,COLUMNS($K$339:K375)-1)<>\"\",OFFSET([1]DE100_7!$K$339,ROWS($K$339:K375)-1,COLUMNS($K$339:K375)-1),\"\")","v":{"$error":"#VALUE!"}},{"$f":"IF(OFFSET([1]DE100_7!$L$339,ROWS($L$339:L375)-1,COLUMNS($L$339:L375)-1)<>\"\",OFFSET([1]DE100_7!$L$339,ROWS($L$339:L375)-1,COLUMNS($L$339:L375)-1),\"\")","v":{"$error":"#VALUE!"}},{"$f":"IF(OFFSET([1]DE100_7!$M$339,ROWS($M$339:M375)-1,COLUMNS($M$339:M375)-1)<>\"\",OFFSET([1]DE100_7!$M$339,ROWS($M$339:M375)-1,COLUMNS($M$339:M375)-1),\"\")","v":{"$error":"#VALUE!"}},{"$f":"IF(OFFSET([1]DE100_7!$N$339,ROWS($N$339:N375)-1,COLUMNS($N$339:N375)-1)<>\"\",OFFSET([1]DE100_7!$N$339,ROWS($N$339:N375)-1,COLUMNS($N$339:N375)-1),\"\")","v":{"$error":"#VALUE!"}},{"$f":"IF(OFFSET([1]DE100_7!$O$339,ROWS($O$339:O375)-1,COLUMNS($O$339:O375)-1)<>\"\",OFFSET([1]DE100_7!$O$339,ROWS($O$339:O375)-1,COLUMNS($O$339:O375)-1),\"\")","v":{"$error":"#VALUE!"}},{"$f":"IF(OFFSET([1]DE100_7!$P$339,ROWS($P$339:P375)-1,COLUMNS($P$339:P375)-1)<>\"\",OFFSET([1]DE100_7!$P$339,ROWS($P$339:P375)-1,COLUMNS($P$339:P375)-1),\"\")","v":{"$error":"#VALUE!"}},{"$f":"IF(OFFSET([1]DE100_7!$Q$339,ROWS($Q$339:Q375)-1,COLUMNS($Q$339:Q375)-1)<>\"\",OFFSET([1]DE100_7!$Q$339,ROWS($Q$339:Q375)-1,COLUMNS($Q$339:Q375)-1),\"\")","v":{"$error":"#VALUE!"}},{"$f":"IF(OFFSET([1]DE100_7!$R$339,ROWS($R$339:R375)-1,COLUMNS($R$339:R375)-1)<>\"\",OFFSET([1]DE100_7!$R$339,ROWS($R$339:R375)-1,COLUMNS($R$339:R375)-1),\"\")","v":{"$error":"#VALUE!"}},{"$f":"IF(OFFSET([1]DE100_7!$S$339,ROWS($S$339:S375)-1,COLUMNS($S$339:S375)-1)<>\"\",OFFSET([1]DE100_7!$S$339,ROWS($S$339:S375)-1,COLUMNS($S$339:S375)-1),\"\")","v":{"$error":"#VALUE!"}},{"$f":"IF(OFFSET([1]DE100_7!$T$339,ROWS($T$339:T375)-1,COLUMNS($T$339:T375)-1)<>\"\",OFFSET([1]DE100_7!$T$339,ROWS($T$339:T375)-1,COLUMNS($T$339:T375)-1),\"\")","v":{"$error":"#VALUE!"}},{"$f":"IF(OFFSET([1]DE100_7!$U$339,ROWS($U$339:U375)-1,COLUMNS($U$339:U375)-1)<>\"\",OFFSET([1]DE100_7!$U$339,ROWS($U$339:U375)-1,COLUMNS($U$339:U375)-1),\"\")","v":{"$error":"#VALUE!"}},{"$f":"IF(OFFSET([1]DE100_7!$V$339,ROWS($V$339:V375)-1,COLUMNS($V$339:V375)-1)<>\"\",OFFSET([1]DE100_7!$V$339,ROWS($V$339:V375)-1,COLUMNS($V$339:V375)-1),\"\")","v":{"$error":"#VALUE!"}}]
[{"$f":"IF(OFFSET([1]DE100_7!$C$339,ROWS($C$339:C376)-1,COLUMNS($C$339:C376)-1)<>\"\",OFFSET([1]DE100_7!$C$339,ROWS($C$339:C376)-1,COLUMNS($C$339:C376)-1),\"\")","v":{"$error":"#VALUE!"}},{"$f":"IF(OFFSET([1]DE100_7!$D$339,ROWS($D$339:D376)-1,COLUMNS($D$339:D376)-1)<>\"\",OFFSET([1]DE100_7!$D$339,ROWS($D$339:D376)-1,COLUMNS($D$339:D376)-1),\"\")","v":{"$error":"#VALUE!"}},{"$f":"IF(OFFSET([1]DE100_7!$E$339,ROWS($E$339:E376)-1,COLUMNS($E$339:E376)-1)<>\"\",OFFSET([1]DE100_7!$E$339,ROWS($E$339:E376)-1,COLUMNS($E$339:E376)-1),\"\")","v":{"$error":"#VALUE!"}},{"$f":"IF(OFFSET([1]DE100_7!$F$339,ROWS($F$339:F376)-1,COLUMNS($F$339:F376)-1)<>\"\",OFFSET([1]DE100_7!$F$339,ROWS($F$339:F376)-1,COLUMNS($F$339:F376)-1),\"\")","v":{"$error":"#VALUE!"}},{"$f":"IF(OFFSET([1]DE100_7!$G$339,ROWS($G$339:G376)-1,COLUMNS($G$339:G376)-1)<>\"\",OFFSET([1]DE100_7!$G$339,ROWS($G$339:G376)-1,COLUMNS($G$339:G376)-1),\"\")","v":{"$error":"#VALUE!"}},{"$f":"IF(OFFSET([1]DE100_7!$H$339,ROWS($H$339:H376)-1,COLUMNS($H$339:H376)-1)<>\"\",OFFSET([1]DE100_7!$H$339,ROWS($H$339:H376)-1,COLUMNS($H$339:H376)-1),\"\")","v":{"$error":"#VALUE!"}},{"$f":"IF(OFFSET([1]DE100_7!$I$339,ROWS($I$339:I376)-1,COLUMNS($I$339:I376)-1)<>\"\",OFFSET([1]DE100_7!$I$339,ROWS($I$339:I376)-1,COLUMNS($I$339:I376)-1),\"\")","v":{"$error":"#VALUE!"}},{"$f":"IF(OFFSET([1]DE100_7!$J$339,ROWS($J$339:J376)-1,COLUMNS($J$339:J376)-1)<>\"\",OFFSET([1]DE100_7!$J$339,ROWS($J$339:J376)-1,COLUMNS($J$339:J376)-1),\"\")","v":{"$error":"#VALUE!"}},{"$f":"IF(OFFSET([1]DE100_7!$K$339,ROWS($K$339:K376)-1,COLUMNS($K$339:K376)-1)<>\"\",OFFSET([1]DE100_7!$K$339,ROWS($K$339:K376)-1,COLUMNS($K$339:K376)-1),\"\")","v":{"$error":"#VALUE!"}},{"$f":"IF(OFFSET([1]DE100_7!$L$339,ROWS($L$339:L376)-1,COLUMNS($L$339:L376)-1)<>\"\",OFFSET([1]DE100_7!$L$339,ROWS($L$339:L376)-1,COLUMNS($L$339:L376)-1),\"\")","v":{"$error":"#VALUE!"}},{"$f":"IF(OFFSET([1]DE100_7!$M$339,ROWS($M$339:M376)-1,COLUMNS($M$339:M376)-1)<>\"\",OFFSET([1]DE100_7!$M$339,ROWS($M$339:M376)-1,COLUMNS($M$339:M376)-1),\"\")","v":{"$error":"#VALUE!"}},{"$f":"IF(OFFSET([1]DE100_7!$N$339,ROWS($N$339:N376)-1,COLUMNS($N$339:N376)-1)<>\"\",OFFSET([1]DE100_7!$N$339,ROWS($N$339:N376)-1,COLUMNS($N$339:N376)-1),\"\")","v":{"$error":"#VALUE!"}},{"$f":"IF(OFFSET([1]DE100_7!$O$339,ROWS($O$339:O376)-1,COLUMNS($O$339:O376)-1)<>\"\",OFFSET([1]DE100_7!$O$339,ROWS($O$339:O376)-1,COLUMNS($O$339:O376)-1),\"\")","v":{"$error":"#VALUE!"}},{"$f":"IF(OFFSET([1]DE100_7!$P$339,ROWS($P$339:P376)-1,COLUMNS($P$339:P376)-1)<>\"\",OFFSET([1]DE100_7!$P$339,ROWS($P$339:P376)-1,COLUMNS($P$339:P376)-1),\"\")","v":{"$error":"#VALUE!"}},{"$f":"IF(OFFSET([1]DE100_7!$Q$339,ROWS($Q$339:Q376)-1,COLUMNS($Q$339:Q376)-1)<>\"\",OFFSET([1]DE100_7!$Q$339,ROWS($Q$339:Q376)-1,COLUMNS($Q$339:Q376)-1),\"\")","v":{"$error":"#VALUE!"}},{"$f":"IF(OFFSET([1]DE100_7!$R$339,ROWS($R$339:R376)-1,COLUMNS($R$339:R376)-1)<>\"\",OFFSET([1]DE100_7!$R$339,ROWS($R$339:R376)-1,COLUMNS($R$339:R376)-1),\"\")","v":{"$error":"#VALUE!"}},{"$f":"IF(OFFSET([1]DE100_7!$S$339,ROWS($S$339:S376)-1,COLUMNS($S$339:S376)-1)<>\"\",OFFSET([1]DE100_7!$S$339,ROWS($S$339:S376)-1,COLUMNS($S$339:S376)-1),\"\")","v":{"$error":"#VALUE!"}},{"$f":"IF(OFFSET([1]DE100_7!$T$339,ROWS($T$339:T376)-1,COLUMNS($T$339:T376)-1)<>\"\",OFFSET([1]DE100_7!$T$339,ROWS($T$339:T376)-1,COLUMNS($T$339:T376)-1),\"\")","v":{"$error":"#VALUE!"}},{"$f":"IF(OFFSET([1]DE100_7!$U$339,ROWS($U$339:U376)-1,COLUMNS($U$339:U376)-1)<>\"\",OFFSET([1]DE100_7!$U$339,ROWS($U$339:U376)-1,COLUMNS($U$339:U376)-1),\"\")","v":{"$error":"#VALUE!"}},{"$f":"IF(OFFSET([1]DE100_7!$V$339,ROWS($V$339:V376)-1,COLUMNS($V$339:V376)-1)<>\"\",OFFSET([1]DE100_7!$V$339,ROWS($V$339:V376)-1,COLUMNS($V$339:V376)-1),\"\")","v":{"$error":"#VALUE!"}}]
[{"$f":"IF(OFFSET([1]DE100_7!$C$339,ROWS($C$339:C377)-1,COLUMNS($C$339:C377)-1)<>\"\",OFFSET([1]DE100_7!$C$339,ROWS($C$339:C377)-1,COLUMNS($C$339:C377)-1),\"\")","v":{"$error":"#VALUE!"}},{"$f":"IF(OFFSET([1]DE100_7!$D$339,ROWS($D$339:D377)-1,COLUMNS($D$339:D377)-1)<>\"\",OFFSET([1]DE100_7!$D$339,ROWS($D$339:D377)-1,COLUMNS($D$339:D377)-1),\"\")","v":{"$error":"#VALUE!"}},{"$f":"IF(OFFSET([1]DE100_7!$E$339,ROWS($E$339:E377)-1,COLUMNS($E$339:E377)-1)<>\"\",OFFSET([1]DE100_7!$E$339,ROWS($E$339:E377)-1,COLUMNS($E$339:E377)-1),\"\")","v":{"$error":"#VALUE!"}},{"$f":"IF(OFFSET([1]DE100_7!$F$339,ROWS($F$339:F377)-1,COLUMNS($F$339:F377)-1)<>\"\",OFFSET([1]DE100_7!$F$339,ROWS($F$339:F377)-1,COLUMNS($F$339:F377)-1),\"\")","v":{"$error":"#VALUE!"}},{"$f":"IF(OFFSET([1]DE100_7!$G$339,ROWS($G$339:G377)-1,COLUMNS($G$339:G377)-1)<>\"\",OFFSET([1]DE100_7!$G$339,ROWS($G$339:G377)-1,COLUMNS($G$339:G377)-1),\"\")","v":{"$error":"#VALUE!"}},{"$f":"IF(OFFSET([1]DE100_7!$H$339,ROWS($H$339:H377)-1,COLUMNS($H$339:H377)-1)<>\"\",OFFSET([1]DE100_7!$H$339,ROWS($H$339:H377)-1,COLUMNS($H$339:H377)-1),\"\")","v":{"$error":"#VALUE!"}},{"$f":"IF(OFFSET([1]DE100_7!$I$339,ROWS($I$339:I377)-1,COLUMNS($I$339:I377)-1)<>\"\",OFFSET([1]DE100_7!$I$339,ROWS($I$339:I377)-1,COLUMNS($I$339:I377)-1),\"\")","v":{"$error":"#VALUE!"}},{"$f":"IF(OFFSET([1]DE100_7!$J$339,ROWS($J$339:J377)-1,COLUMNS($J$339:J377)-1)<>\"\",OFFSET([1]DE100_7!$J$339,ROWS($J$339:J377)-1,COLUMNS($J$339:J377)-1),\"\")","v":{"$error":"#VALUE!"}},{"$f":"IF(OFFSET([1]DE100_7!$K$339,ROWS($K$339:K377)-1,COLUMNS($K$339:K377)-1)<>\"\",OFFSET([1]DE100_7!$K$339,ROWS($K$339:K377)-1,COLUMNS($K$339:K377)-1),\"\")","v":{"$error":"#VALUE!"}},{"$f":"IF(OFFSET([1]DE100_7!$L$339,ROWS($L$339:L377)-1,COLUMNS($L$339:L377)-1)<>\"\",OFFSET([1]DE100_7!$L$339,ROWS($L$339:L377)-1,COLUMNS($L$339:L377)-1),\"\")","v":{"$error":"#VALUE!"}},{"$f":"IF(OFFSET([1]DE100_7!$M$339,ROWS($M$339:M377)-1,COLUMNS($M$339:M377)-1)<>\"\",OFFSET([1]DE100_7!$M$339,ROWS($M$339:M377)-1,COLUMNS($M$339:M377)-1),\"\")","v":{"$error":"#VALUE!"}},{"$f":"IF(OFFSET([1]DE100_7!$N$339,ROWS($N$339:N377)-1,COLUMNS($N$339:N377)-1)<>\"\",OFFSET([1]DE100_7!$N$339,ROWS($N$339:N377)-1,COLUMNS($N$339:N377)-1),\"\")","v":{"$error":"#VALUE!"}},{"$f":"IF(OFFSET([1]DE100_7!$O$339,ROWS($O$339:O377)-1,COLUMNS($O$339:O377)-1)<>\"\",OFFSET([1]DE100_7!$O$339,ROWS($O$339:O377)-1,COLUMNS($O$339:O377)-1),\"\")","v":{"$error":"#VALUE!"}},{"$f":"IF(OFFSET([1]DE100_7!$P$339,ROWS($P$339:P377)-1,COLUMNS($P$339:P377)-1)<>\"\",OFFSET([1]DE100_7!$P$339,ROWS($P$339:P377)-1,COLUMNS($P$339:P377)-1),\"\")","v":{"$error":"#VALUE!"}},{"$f":"IF(OFFSET([1]DE100_7!$Q$339,ROWS($Q$339:Q377)-1,COLUMNS($Q$339:Q377)-1)<>\"\",OFFSET([1]DE100_7!$Q$339,ROWS($Q$339:Q377)-1,COLUMNS($Q$339:Q377)-1),\"\")","v":{"$error":"#VALUE!"}},{"$f":"IF(OFFSET([1]DE100_7!$R$339,ROWS($R$339:R377)-1,COLUMNS($R$339:R377)-1)<>\"\",OFFSET([1]DE100_7!$R$339,ROWS($R$339:R377)-1,COLUMNS($R$339:R377)-1),\"\")","v":{"$error":"#VALUE!"}},{"$f":"IF(OFFSET([1]DE100_7!$S$339,ROWS($S$339:S377)-1,COLUMNS($S$339:S377)-1)<>\"\",OFFSET([1]DE100_7!$S$339,ROWS($S$339:S377)-1,COLUMNS($S$339:S377)-1),\"\")","v":{"$error":"#VALUE!"}},{"$f":"IF(OFFSET([1]DE100_7!$T$339,ROWS($T$339:T377)-1,COLUMNS($T$339:T377)-1)<>\"\",OFFSET([1]DE100_7!$T$339,ROWS($T$339:T377)-1,COLUMNS($T$339:T377)-1),\"\")","v":{"$error":"#VALUE!"}},{"$f":"IF(OFFSET([1]DE100_7!$U$339,ROWS($U$339:U377)-1,COLUMNS($U$339:U377)-1)<>\"\",OFFSET([1]DE100_7!$U$339,ROWS($U$339:U377)-1,COLUMNS($U$339:U377)-1),\"\")","v":{"$error":"#VALUE!"}},{"$f":"IF(OFFSET([1]DE100_7!$V$339,ROWS($V$339:V377)-1,COLUMNS($V$339:V377)-1)<>\"\",OFFSET([1]DE100_7!$V$339,ROWS($V$339:V377)-1,COLUMNS($V$339:V377)-1),\"\")","v":{"$error":"#VALUE!"}}]
[{"$f":"IF(OFFSET([1]DE100_7!$C$339,ROWS($C$339:C378)-1,COLUMNS($C$339:C378)-1)<>\"\",OFFSET([1]DE100_7!$C$339,ROWS($C$339:C378)-1,COLUMNS($C$339:C378)-1),\"\")","v":{"$error":"#VALUE!"}},{"$f":"IF(OFFSET([1]DE100_7!$D$339,ROWS($D$339:D378)-1,COLUMNS($D$339:D378)-1)<>\"\",OFFSET([1]DE100_7!$D$339,ROWS($D$339:D378)-1,COLUMNS($D$339:D378)-1),\"\")","v":{"$error":"#VALUE!"}},{"$f":"IF(OFFSET([1]DE100_7!$E$339,ROWS($E$339:E378)-1,COLUMNS($E$339:E378)-1)<>\"\",OFFSET([1]DE100_7!$E$339,ROWS($E$339:E378)-1,COLUMNS($E$339:E378)-1),\"\")","v":{"$error":"#VALUE!"}},{"$f":"IF(OFFSET([1]DE100_7!$F$339,ROWS($F$339:F378)-1,COLUMNS($F$339:F378)-1)<>\"\",OFFSET([1]DE100_7!$F$339,ROWS($F$339:F378)-1,COLUMNS($F$339:F378)-1),\"\")","v":{"$error":"#VALUE!"}},{"$f":"IF(OFFSET([1]DE100_7!$G$339,ROWS($G$339:G378)-1,COLUMNS($G$339:G378)-1)<>\"\",OFFSET([1]DE100_7!$G$339,ROWS($G$339:G378)-1,COLUMNS($G$339:G378)-1),\"\")","v":{"$error":"#VALUE!"}},{"$f":"IF(OFFSET([1]DE100_7!$H$339,ROWS($H$339:H378)-1,COLUMNS($H$339:H378)-1)<>\"\",OFFSET([1]DE100_7!$H$339,ROWS($H$339:H378)-1,COLUMNS($H$339:H378)-1),\"\")","v":{"$error":"#VALUE!"}},{"$f":"IF(OFFSET([1]DE100_7!$I$339,ROWS($I$339:I378)-1,COLUMNS($I$339:I378)-1)<>\"\",OFFSET([1]DE100_7!$I$339,ROWS($I$339:I378)-1,COLUMNS($I$339:I378)-1),\"\")","v":{"$error":"#VALUE!"}},{"$f":"IF(OFFSET([1]DE100_7!$J$339,ROWS($J$339:J378)-1,COLUMNS($J$339:J378)-1)<>\"\",OFFSET([1]DE100_7!$J$339,ROWS($J$339:J378)-1,COLUMNS($J$339:J378)-1),\"\")","v":{"$error":"#VALUE!"}},{"$f":"IF(OFFSET([1]DE100_7!$K$339,ROWS($K$339:K378)-1,COLUMNS($K$339:K378)-1)<>\"\",OFFSET([1]DE100_7!$K$339,ROWS($K$339:K378)-1,COLUMNS($K$339:K378)-1),\"\")","v":{"$error":"#VALUE!"}},{"$f":"IF(OFFSET([1]DE100_7!$L$339,ROWS($L$339:L378)-1,COLUMNS($L$339:L378)-1)<>\"\",OFFSET([1]DE100_7!$L$339,ROWS($L$339:L378)-1,COLUMNS($L$339:L378)-1),\"\")","v":{"$error":"#VALUE!"}},{"$f":"IF(OFFSET([1]DE100_7!$M$339,ROWS($M$339:M378)-1,COLUMNS($M$339:M378)-1)<>\"\",OFFSET([1]DE100_7!$M$339,ROWS($M$339:M378)-1,COLUMNS($M$339:M378)-1),\"\")","v":{"$error":"#VALUE!"}},{"$f":"IF(OFFSET([1]DE100_7!$N$339,ROWS($N$339:N378)-1,COLUMNS($N$339:N378)-1)<>\"\",OFFSET([1]DE100_7!$N$339,ROWS($N$339:N378)-1,COLUMNS($N$339:N378)-1),\"\")","v":{"$error":"#VALUE!"}},{"$f":"IF(OFFSET([1]DE100_7!$O$339,ROWS($O$339:O378)-1,COLUMNS($O$339:O378)-1)<>\"\",OFFSET([1]DE100_7!$O$339,ROWS($O$339:O378)-1,COLUMNS($O$339:O378)-1),\"\")","v":{"$error":"#VALUE!"}},{"$f":"IF(OFFSET([1]DE100_7!$P$339,ROWS($P$339:P378)-1,COLUMNS($P$339:P378)-1)<>\"\",OFFSET([1]DE100_7!$P$339,ROWS($P$339:P378)-1,COLUMNS($P$339:P378)-1),\"\")","v":{"$error":"#VALUE!"}},{"$f":"IF(OFFSET([1]DE100_7!$Q$339,ROWS($Q$339:Q378)-1,COLUMNS($Q$339:Q378)-1)<>\"\",OFFSET([1]DE100_7!$Q$339,ROWS($Q$339:Q378)-1,COLUMNS($Q$339:Q378)-1),\"\")","v":{"$error":"#VALUE!"}},{"$f":"IF(OFFSET([1]DE100_7!$R$339,ROWS($R$339:R378)-1,COLUMNS($R$339:R378)-1)<>\"\",OFFSET([1]DE100_7!$R$339,ROWS($R$339:R378)-1,COLUMNS($R$339:R378)-1),\"\")","v":{"$error":"#VALUE!"}},{"$f":"IF(OFFSET([1]DE100_7!$S$339,ROWS($S$339:S378)-1,COLUMNS($S$339:S378)-1)<>\"\",OFFSET([1]DE100_7!$S$339,ROWS($S$339:S378)-1,COLUMNS($S$339:S378)-1),\"\")","v":{"$error":"#VALUE!"}},{"$f":"IF(OFFSET([1]DE100_7!$T$339,ROWS($T$339:T378)-1,COLUMNS($T$339:T378)-1)<>\"\",OFFSET([1]DE100_7!$T$339,ROWS($T$339:T378)-1,COLUMNS($T$339:T378)-1),\"\")","v":{"$error":"#VALUE!"}},{"$f":"IF(OFFSET([1]DE100_7!$U$339,ROWS($U$339:U378)-1,COLUMNS($U$339:U378)-1)<>\"\",OFFSET([1]DE100_7!$U$339,ROWS($U$339:U378)-1,COLUMNS($U$339:U378)-1),\"\")","v":{"$error":"#VALUE!"}},{"$f":"IF(OFFSET([1]DE100_7!$V$339,ROWS($V$339:V378)-1,COLUMNS($V$339:V378)-1)<>\"\",OFFSET([1]DE100_7!$V$339,ROWS($V$339:V378)-1,COLUMNS($V$339:V378)-1),\"\")","v":{"$error":"#VALUE!"}}]
[{"$f":"IF(OFFSET([1]DE100_7!$C$339,ROWS($C$339:C379)-1,COLUMNS($C$339:C379)-1)<>\"\",OFFSET([1]DE100_7!$C$339,ROWS($C$339:C379)-1,COLUMNS($C$339:C379)-1),\"\")","v":{"$error":"#VALUE!"}},{"$f":"IF(OFFSET([1]DE100_7!$D$339,ROWS($D$339:D379)-1,COLUMNS($D$339:D379)-1)<>\"\",OFFSET([1]DE100_7!$D$339,ROWS($D$339:D379)-1,COLUMNS($D$339:D379)-1),\"\")","v":{"$error":"#VALUE!"}},{"$f":"IF(OFFSET([1]DE100_7!$E$339,ROWS($E$339:E379)-1,COLUMNS($E$339:E379)-1)<>\"\",OFFSET([1]DE100_7!$E$339,ROWS($E$339:E379)-1,COLUMNS($E$339:E379)-1),\"\")","v":{"$error":"#VALUE!"}},{"$f":"IF(OFFSET([1]DE100_7!$F$339,ROWS($F$339:F379)-1,COLUMNS($F$339:F379)-1)<>\"\",OFFSET([1]DE100_7!$F$339,ROWS($F$339:F379)-1,COLUMNS($F$339:F379)-1),\"\")","v":{"$error":"#VALUE!"}},{"$f":"IF(OFFSET([1]DE100_7!$G$339,ROWS($G$339:G379)-1,COLUMNS($G$339:G379)-1)<>\"\",OFFSET([1]DE100_7!$G$339,ROWS($G$339:G379)-1,COLUMNS($G$339:G379)-1),\"\")","v":{"$error":"#VALUE!"}},{"$f":"IF(OFFSET([1]DE100_7!$H$339,ROWS($H$339:H379)-1,COLUMNS($H$339:H379)-1)<>\"\",OFFSET([1]DE100_7!$H$339,ROWS($H$339:H379)-1,COLUMNS($H$339:H379)-1),\"\")","v":{"$error":"#VALUE!"}},{"$f":"IF(OFFSET([1]DE100_7!$I$339,ROWS($I$339:I379)-1,COLUMNS($I$339:I379)-1)<>\"\",OFFSET([1]DE100_7!$I$339,ROWS($I$339:I379)-1,COLUMNS($I$339:I379)-1),\"\")","v":{"$error":"#VALUE!"}},{"$f":"IF(OFFSET([1]DE100_7!$J$339,ROWS($J$339:J379)-1,COLUMNS($J$339:J379)-1)<>\"\",OFFSET([1]DE100_7!$J$339,ROWS($J$339:J379)-1,COLUMNS($J$339:J379)-1),\"\")","v":{"$error":"#VALUE!"}},{"$f":"IF(OFFSET([1]DE100_7!$K$339,ROWS($K$339:K379)-1,COLUMNS($K$339:K379)-1)<>\"\",OFFSET([1]DE100_7!$K$339,ROWS($K$339:K379)-1,COLUMNS($K$339:K379)-1),\"\")","v":{"$error":"#VALUE!"}},{"$f":"IF(OFFSET([1]DE100_7!$L$339,ROWS($L$339:L379)-1,COLUMNS($L$339:L379)-1)<>\"\",OFFSET([1]DE100_7!$L$339,ROWS($L$339:L379)-1,COLUMNS($L$339:L379)-1),\"\")","v":{"$error":"#VALUE!"}},{"$f":"IF(OFFSET([1]DE100_7!$M$339,ROWS($M$339:M379)-1,COLUMNS($M$339:M379)-1)<>\"\",OFFSET([1]DE100_7!$M$339,ROWS($M$339:M379)-1,COLUMNS($M$339:M379)-1),\"\")","v":{"$error":"#VALUE!"}},{"$f":"IF(OFFSET([1]DE100_7!$N$339,ROWS($N$339:N379)-1,COLUMNS($N$339:N379)-1)<>\"\",OFFSET([1]DE100_7!$N$339,ROWS($N$339:N379)-1,COLUMNS($N$339:N379)-1),\"\")","v":{"$error":"#VALUE!"}},{"$f":"IF(OFFSET([1]DE100_7!$O$339,ROWS($O$339:O379)-1,COLUMNS($O$339:O379)-1)<>\"\",OFFSET([1]DE100_7!$O$339,ROWS($O$339:O379)-1,COLUMNS($O$339:O379)-1),\"\")","v":{"$error":"#VALUE!"}},{"$f":"IF(OFFSET([1]DE100_7!$P$339,ROWS($P$339:P379)-1,COLUMNS($P$339:P379)-1)<>\"\",OFFSET([1]DE100_7!$P$339,ROWS($P$339:P379)-1,COLUMNS($P$339:P379)-1),\"\")","v":{"$error":"#VALUE!"}},{"$f":"IF(OFFSET([1]DE100_7!$Q$339,ROWS($Q$339:Q379)-1,COLUMNS($Q$339:Q379)-1)<>\"\",OFFSET([1]DE100_7!$Q$339,ROWS($Q$339:Q379)-1,COLUMNS($Q$339:Q379)-1),\"\")","v":{"$error":"#VALUE!"}},{"$f":"IF(OFFSET([1]DE100_7!$R$339,ROWS($R$339:R379)-1,COLUMNS($R$339:R379)-1)<>\"\",OFFSET([1]DE100_7!$R$339,ROWS($R$339:R379)-1,COLUMNS($R$339:R379)-1),\"\")","v":{"$error":"#VALUE!"}},{"$f":"IF(OFFSET([1]DE100_7!$S$339,ROWS($S$339:S379)-1,COLUMNS($S$339:S379)-1)<>\"\",OFFSET([1]DE100_7!$S$339,ROWS($S$339:S379)-1,COLUMNS($S$339:S379)-1),\"\")","v":{"$error":"#VALUE!"}},{"$f":"IF(OFFSET([1]DE100_7!$T$339,ROWS($T$339:T379)-1,COLUMNS($T$339:T379)-1)<>\"\",OFFSET([1]DE100_7!$T$339,ROWS($T$339:T379)-1,COLUMNS($T$339:T379)-1),\"\")","v":{"$error":"#VALUE!"}},{"$f":"IF(OFFSET([1]DE100_7!$U$339,ROWS($U$339:U379)-1,COLUMNS($U$339:U379)-1)<>\"\",OFFSET([1]DE100_7!$U$339,ROWS($U$339:U379)-1,COLUMNS($U$339:U379)-1),\"\")","v":{"$error":"#VALUE!"}},{"$f":"IF(OFFSET([1]DE100_7!$V$339,ROWS($V$339:V379)-1,COLUMNS($V$339:V379)-1)<>\"\",OFFSET([1]DE100_7!$V$339,ROWS($V$339:V379)-1,COLUMNS($V$339:V379)-1),\"\")","v":{"$error":"#VALUE!"}}]
[{"$f":"IF(OFFSET([1]DE100_7!$C$339,ROWS($C$339:C380)-1,COLUMNS($C$339:C380)-1)<>\"\",OFFSET([1]DE100_7!$C$339,ROWS($C$339:C380)-1,COLUMNS($C$339:C380)-1),\"\")","v":{"$error":"#VALUE!"}},{"$f":"IF(OFFSET([1]DE100_7!$D$339,ROWS($D$339:D380)-1,COLUMNS($D$339:D380)-1)<>\"\",OFFSET([1]DE100_7!$D$339,ROWS($D$339:D380)-1,COLUMNS($D$339:D380)-1),\"\")","v":{"$error":"#VALUE!"}},{"$f":"IF(OFFSET([1]DE100_7!$E$339,ROWS($E$339:E380)-1,COLUMNS($E$339:E380)-1)<>\"\",OFFSET([1]DE100_7!$E$339,ROWS($E$339:E380)-1,COLUMNS($E$339:E380)-1),\"\")","v":{"$error":"#VALUE!"}},{"$f":"IF(OFFSET([1]DE100_7!$F$339,ROWS($F$339:F380)-1,COLUMNS($F$339:F380)-1)<>\"\",OFFSET([1]DE100_7!$F$339,ROWS($F$339:F380)-1,COLUMNS($F$339:F380)-1),\"\")","v":{"$error":"#VALUE!"}},{"$f":"IF(OFFSET([1]DE100_7!$G$339,ROWS($G$339:G380)-1,COLUMNS($G$339:G380)-1)<>\"\",OFFSET([1]DE100_7!$G$339,ROWS($G$339:G380)-1,COLUMNS($G$339:G380)-1),\"\")","v":{"$error":"#VALUE!"}},{"$f":"IF(OFFSET([1]DE100_7!$H$339,ROWS($H$339:H380)-1,COLUMNS($H$339:H380)-1)<>\"\",OFFSET([1]DE100_7!$H$339,ROWS($H$339:H380)-1,COLUMNS($H$339:H380)-1),\"\")","v":{"$error":"#VALUE!"}},{"$f":"IF(OFFSET([1]DE100_7!$I$339,ROWS($I$339:I380)-1,COLUMNS($I$339:I380)-1)<>\"\",OFFSET([1]DE100_7!$I$339,ROWS($I$339:I380)-1,COLUMNS($I$339:I380)-1),\"\")","v":{"$error":"#VALUE!"}},{"$f":"IF(OFFSET([1]DE100_7!$J$339,ROWS($J$339:J380)-1,COLUMNS($J$339:J380)-1)<>\"\",OFFSET([1]DE100_7!$J$339,ROWS($J$339:J380)-1,COLUMNS($J$339:J380)-1),\"\")","v":{"$error":"#VALUE!"}},{"$f":"IF(OFFSET([1]DE100_7!$K$339,ROWS($K$339:K380)-1,COLUMNS($K$339:K380)-1)<>\"\",OFFSET([1]DE100_7!$K$339,ROWS($K$339:K380)-1,COLUMNS($K$339:K380)-1),\"\")","v":{"$error":"#VALUE!"}},{"$f":"IF(OFFSET([1]DE100_7!$L$339,ROWS($L$339:L380)-1,COLUMNS($L$339:L380)-1)<>\"\",OFFSET([1]DE100_7!$L$339,ROWS($L$339:L380)-1,COLUMNS($L$339:L380)-1),\"\")","v":{"$error":"#VALUE!"}},{"$f":"IF(OFFSET([1]DE100_7!$M$339,ROWS($M$339:M380)-1,COLUMNS($M$339:M380)-1)<>\"\",OFFSET([1]DE100_7!$M$339,ROWS($M$339:M380)-1,COLUMNS($M$339:M380)-1),\"\")","v":{"$error":"#VALUE!"}},{"$f":"IF(OFFSET([1]DE100_7!$N$339,ROWS($N$339:N380)-1,COLUMNS($N$339:N380)-1)<>\"\",OFFSET([1]DE100_7!$N$339,ROWS($N$339:N380)-1,COLUMNS($N$339:N380)-1),\"\")","v":{"$error":"#VALUE!"}},{"$f":"IF(OFFSET([1]DE100_7!$O$339,ROWS($O$339:O380)-1,COLUMNS($O$339:O380)-1)<>\"\",OFFSET([1]DE100_7!$O$339,ROWS($O$339:O380)-1,COLUMNS($O$339:O380)-1),\"\")","v":{"$error":"#VALUE!"}},{"$f":"IF(OFFSET([1]DE100_7!$P$339,ROWS($P$339:P380)-1,COLUMNS($P$339:P380)-1)<>\"\",OFFSET([1]DE100_7!$P$339,ROWS($P$339:P380)-1,COLUMNS($P$339:P380)-1),\"\")","v":{"$error":"#VALUE!"}},{"$f":"IF(OFFSET([1]DE100_7!$Q$339,ROWS($Q$339:Q380)-1,COLUMNS($Q$339:Q380)-1)<>\"\",OFFSET([1]DE100_7!$Q$339,ROWS($Q$339:Q380)-1,COLUMNS($Q$339:Q380)-1),\"\")","v":{"$error":"#VALUE!"}},{"$f":"IF(OFFSET([1]DE100_7!$R$339,ROWS($R$339:R380)-1,COLUMNS($R$339:R380)-1)<>\"\",OFFSET([1]DE100_7!$R$339,ROWS($R$339:R380)-1,COLUMNS($R$339:R380)-1),\"\")","v":{"$error":"#VALUE!"}},{"$f":"IF(OFFSET([1]DE100_7!$S$339,ROWS($S$339:S380)-1,COLUMNS($S$339:S380)-1)<>\"\",OFFSET([1]DE100_7!$S$339,ROWS($S$339:S380)-1,COLUMNS($S$339:S380)-1),\"\")","v":{"$error":"#VALUE!"}},{"$f":"IF(OFFSET([1]DE100_7!$T$339,ROWS($T$339:T380)-1,COLUMNS($T$339:T380)-1)<>\"\",OFFSET([1]DE100_7!$T$339,ROWS($T$339:T380)-1,COLUMNS($T$339:T380)-1),\"\")","v":{"$error":"#VALUE!"}},{"$f":"IF(OFFSET([1]DE100_7!$U$339,ROWS($U$339:U380)-1,COLUMNS($U$339:U380)-1)<>\"\",OFFSET([1]DE100_7!$U$339,ROWS($U$339:U380)-1,COLUMNS($U$339:U380)-1),\"\")","v":{"$error":"#VALUE!"}},{"$f":"IF(OFFSET([1]DE100_7!$V$339,ROWS($V$339:V380)-1,COLUMNS($V$339:V380)-1)<>\"\",OFFSET([1]DE100_7!$V$339,ROWS($V$339:V380)-1,COLUMNS($V$339:V380)-1),\"\")","v":{"$error":"#VALUE!"}}]
[{"$f":"IF(OFFSET([1]DE100_7!$C$339,ROWS($C$339:C381)-1,COLUMNS($C$339:C381)-1)<>\"\",OFFSET([1]DE100_7!$C$339,ROWS($C$339:C381)-1,COLUMNS($C$339:C381)-1),\"\")","v":{"$error":"#VALUE!"}},{"$f":"IF(OFFSET([1]DE100_7!$D$339,ROWS($D$339:D381)-1,COLUMNS($D$339:D381)-1)<>\"\",OFFSET([1]DE100_7!$D$339,ROWS($D$339:D381)-1,COLUMNS($D$339:D381)-1),\"\")","v":{"$error":"#VALUE!"}},{"$f":"IF(OFFSET([1]DE100_7!$E$339,ROWS($E$339:E381)-1,COLUMNS($E$339:E381)-1)<>\"\",OFFSET([1]DE100_7!$E$339,ROWS($E$339:E381)-1,COLUMNS($E$339:E381)-1),\"\")","v":{"$error":"#VALUE!"}},{"$f":"IF(OFFSET([1]DE100_7!$F$339,ROWS($F$339:F381)-1,COLUMNS($F$339:F381)-1)<>\"\",OFFSET([1]DE100_7!$F$339,ROWS($F$339:F381)-1,COLUMNS($F$339:F381)-1),\"\")","v":{"$error":"#VALUE!"}},{"$f":"IF(OFFSET([1]DE100_7!$G$339,ROWS($G$339:G381)-1,COLUMNS($G$339:G381)-1)<>\"\",OFFSET([1]DE100_7!$G$339,ROWS($G$339:G381)-1,COLUMNS($G$339:G381)-1),\"\")","v":{"$error":"#VALUE!"}},{"$f":"IF(OFFSET([1]DE100_7!$H$339,ROWS($H$339:H381)-1,COLUMNS($H$339:H381)-1)<>\"\",OFFSET([1]DE100_7!$H$339,ROWS($H$339:H381)-1,COLUMNS($H$339:H381)-1),\"\")","v":{"$error":"#VALUE!"}},{"$f":"IF(OFFSET([1]DE100_7!$I$339,ROWS($I$339:I381)-1,COLUMNS($I$339:I381)-1)<>\"\",OFFSET([1]DE100_7!$I$339,ROWS($I$339:I381)-1,COLUMNS($I$339:I381)-1),\"\")","v":{"$error":"#VALUE!"}},{"$f":"IF(OFFSET([1]DE100_7!$J$339,ROWS($J$339:J381)-1,COLUMNS($J$339:J381)-1)<>\"\",OFFSET([1]DE100_7!$J$339,ROWS($J$339:J381)-1,COLUMNS($J$339:J381)-1),\"\")","v":{"$error":"#VALUE!"}},{"$f":"IF(OFFSET([1]DE100_7!$K$339,ROWS($K$339:K381)-1,COLUMNS($K$339:K381)-1)<>\"\",OFFSET([1]DE100_7!$K$339,ROWS($K$339:K381)-1,COLUMNS($K$339:K381)-1),\"\")","v":{"$error":"#VALUE!"}},{"$f":"IF(OFFSET([1]DE100_7!$L$339,ROWS($L$339:L381)-1,COLUMNS($L$339:L381)-1)<>\"\",OFFSET([1]DE100_7!$L$339,ROWS($L$339:L381)-1,COLUMNS($L$339:L381)-1),\"\")","v":{"$error":"#VALUE!"}},{"$f":"IF(OFFSET([1]DE100_7!$M$339,ROWS($M$339:M381)-1,COLUMNS($M$339:M381)-1)<>\"\",OFFSET([1]DE100_7!$M$339,ROWS($M$339:M381)-1,COLUMNS($M$339:M381)-1),\"\")","v":{"$error":"#VALUE!"}},{"$f":"IF(OFFSET([1]DE100_7!$N$339,ROWS($N$339:N381)-1,COLUMNS($N$339:N381)-1)<>\"\",OFFSET([1]DE100_7!$N$339,ROWS($N$339:N381)-1,COLUMNS($N$339:N381)-1),\"\")","v":{"$error":"#VALUE!"}},{"$f":"IF(OFFSET([1]DE100_7!$O$339,ROWS($O$339:O381)-1,COLUMNS($O$339:O381)-1)<>\"\",OFFSET([1]DE100_7!$O$339,ROWS($O$339:O381)-1,COLUMNS($O$339:O381)-1),\"\")","v":{"$error":"#VALUE!"}},{"$f":"IF(OFFSET([1]DE100_7!$P$339,ROWS($P$339:P381)-1,COLUMNS($P$339:P381)-1)<>\"\",OFFSET([1]DE100_7!$P$339,ROWS($P$339:P381)-1,COLUMNS($P$339:P381)-1),\"\")","v":{"$error":"#VALUE!"}},{"$f":"IF(OFFSET([1]DE100_7!$Q$339,ROWS($Q$339:Q381)-1,COLUMNS($Q$339:Q381)-1)<>\"\",OFFSET([1]DE100_7!$Q$339,ROWS($Q$339:Q381)-1,COLUMNS($Q$339:Q381)-1),\"\")","v":{"$error":"#VALUE!"}},{"$f":"IF(OFFSET([1]DE100_7!$R$339,ROWS($R$339:R381)-1,COLUMNS($R$339:R381)-1)<>\"\",OFFSET([1]DE100_7!$R$339,ROWS($R$339:R381)-1,COLUMNS($R$339:R381)-1),\"\")","v":{"$error":"#VALUE!"}},{"$f":"IF(OFFSET([1]DE100_7!$S$339,ROWS($S$339:S381)-1,COLUMNS($S$339:S381)-1)<>\"\",OFFSET([1]DE100_7!$S$339,ROWS($S$339:S381)-1,COLUMNS($S$339:S381)-1),\"\")","v":{"$error":"#VALUE!"}},{"$f":"IF(OFFSET([1]DE100_7!$T$339,ROWS($T$339:T381)-1,COLUMNS($T$339:T381)-1)<>\"\",OFFSET([1]DE100_7!$T$339,ROWS($T$339:T381)-1,COLUMNS($T$339:T381)-1),\"\")","v":{"$error":"#VALUE!"}},{"$f":"IF(OFFSET([1]DE100_7!$U$339,ROWS($U$339:U381)-1,COLUMNS($U$339:U381)-1)<>\"\",OFFSET([1]DE100_7!$U$339,ROWS($U$339:U381)-1,COLUMNS($U$339:U381)-1),\"\")","v":{"$error":"#VALUE!"}},{"$f":"IF(OFFSET([1]DE100_7!$V$339,ROWS($V$339:V381)-1,COLUMNS($V$339:V381)-1)<>\"\",OFFSET([1]DE100_7!$V$339,ROWS($V$339:V381)-1,COLUMNS($V$339:V381)-1),\"\")","v":{"$error":"#VALUE!"}}]
[{"$f":"IF(OFFSET([1]DE100_7!$C$339,ROWS($C$339:C382)-1,COLUMNS($C$339:C382)-1)<>\"\",OFFSET([1]DE100_7!$C$339,ROWS($C$339:C382)-1,COLUMNS($C$339:C382)-1),\"\")","v":{"$error":"#VALUE!"}},{"$f":"IF(OFFSET([1]DE100_7!$D$339,ROWS($D$339:D382)-1,COLUMNS($D$339:D382)-1)<>\"\",OFFSET([1]DE100_7!$D$339,ROWS($D$339:D382)-1,COLUMNS($D$339:D382)-1),\"\")","v":{"$error":"#VALUE!"}},{"$f":"IF(OFFSET([1]DE100_7!$E$339,ROWS($E$339:E382)-1,COLUMNS($E$339:E382)-1)<>\"\",OFFSET([1]DE100_7!$E$339,ROWS($E$339:E382)-1,COLUMNS($E$339:E382)-1),\"\")","v":{"$error":"#VALUE!"}},{"$f":"IF(OFFSET([1]DE100_7!$F$339,ROWS($F$339:F382)-1,COLUMNS($F$339:F382)-1)<>\"\",OFFSET([1]DE100_7!$F$339,ROWS($F$339:F382)-1,COLUMNS($F$339:F382)-1),\"\")","v":{"$error":"#VALUE!"}},{"$f":"IF(OFFSET([1]DE100_7!$G$339,ROWS($G$339:G382)-1,COLUMNS($G$339:G382)-1)<>\"\",OFFSET([1]DE100_7!$G$339,ROWS($G$339:G382)-1,COLUMNS($G$339:G382)-1),\"\")","v":{"$error":"#VALUE!"}},{"$f":"IF(OFFSET([1]DE100_7!$H$339,ROWS($H$339:H382)-1,COLUMNS($H$339:H382)-1)<>\"\",OFFSET([1]DE100_7!$H$339,ROWS($H$339:H382)-1,COLUMNS($H$339:H382)-1),\"\")","v":{"$error":"#VALUE!"}},{"$f":"IF(OFFSET([1]DE100_7!$I$339,ROWS($I$339:I382)-1,COLUMNS($I$339:I382)-1)<>\"\",OFFSET([1]DE100_7!$I$339,ROWS($I$339:I382)-1,COLUMNS($I$339:I382)-1),\"\")","v":{"$error":"#VALUE!"}},{"$f":"IF(OFFSET([1]DE100_7!$J$339,ROWS($J$339:J382)-1,COLUMNS($J$339:J382)-1)<>\"\",OFFSET([1]DE100_7!$J$339,ROWS($J$339:J382)-1,COLUMNS($J$339:J382)-1),\"\")","v":{"$error":"#VALUE!"}},{"$f":"IF(OFFSET([1]DE100_7!$K$339,ROWS($K$339:K382)-1,COLUMNS($K$339:K382)-1)<>\"\",OFFSET([1]DE100_7!$K$339,ROWS($K$339:K382)-1,COLUMNS($K$339:K382)-1),\"\")","v":{"$error":"#VALUE!"}},{"$f":"IF(OFFSET([1]DE100_7!$L$339,ROWS($L$339:L382)-1,COLUMNS($L$339:L382)-1)<>\"\",OFFSET([1]DE100_7!$L$339,ROWS($L$339:L382)-1,COLUMNS($L$339:L382)-1),\"\")","v":{"$error":"#VALUE!"}},{"$f":"IF(OFFSET([1]DE100_7!$M$339,ROWS($M$339:M382)-1,COLUMNS($M$339:M382)-1)<>\"\",OFFSET([1]DE100_7!$M$339,ROWS($M$339:M382)-1,COLUMNS($M$339:M382)-1),\"\")","v":{"$error":"#VALUE!"}},{"$f":"IF(OFFSET([1]DE100_7!$N$339,ROWS($N$339:N382)-1,COLUMNS($N$339:N382)-1)<>\"\",OFFSET([1]DE100_7!$N$339,ROWS($N$339:N382)-1,COLUMNS($N$339:N382)-1),\"\")","v":{"$error":"#VALUE!"}},{"$f":"IF(OFFSET([1]DE100_7!$O$339,ROWS($O$339:O382)-1,COLUMNS($O$339:O382)-1)<>\"\",OFFSET([1]DE100_7!$O$339,ROWS($O$339:O382)-1,COLUMNS($O$339:O382)-1),\"\")","v":{"$error":"#VALUE!"}},{"$f":"IF(OFFSET([1]DE100_7!$P$339,ROWS($P$339:P382)-1,COLUMNS($P$339:P382)-1)<>\"\",OFFSET([1]DE100_7!$P$339,ROWS($P$339:P382)-1,COLUMNS($P$339:P382)-1),\"\")","v":{"$error":"#VALUE!"}},{"$f":"IF(OFFSET([1]DE100_7!$Q$339,ROWS($Q$339:Q382)-1,COLUMNS($Q$339:Q382)-1)<>\"\",OFFSET([1]DE100_7!$Q$339,ROWS($Q$339:Q382)-1,COLUMNS($Q$339:Q382)-1),\"\")","v":{"$error":"#VALUE!"}},{"$f":"IF(OFFSET([1]DE100_7!$R$339,ROWS($R$339:R382)-1,COLUMNS($R$339:R382)-1)<>\"\",OFFSET([1]DE100_7!$R$339,ROWS($R$339:R382)-1,COLUMNS($R$339:R382)-1),\"\")","v":{"$error":"#VALUE!"}},{"$f":"IF(OFFSET([1]DE100_7!$S$339,ROWS($S$339:S382)-1,COLUMNS($S$339:S382)-1)<>\"\",OFFSET([1]DE100_7!$S$339,ROWS($S$339:S382)-1,COLUMNS($S$339:S382)-1),\"\")","v":{"$error":"#VALUE!"}},{"$f":"IF(OFFSET([1]DE100_7!$T$339,ROWS($T$339:T382)-1,COLUMNS($T$339:T382)-1)<>\"\",OFFSET([1]DE100_7!$T$339,ROWS($T$339:T382)-1,COLUMNS($T$339:T382)-1),\"\")","v":{"$error":"#VALUE!"}},{"$f":"IF(OFFSET([1]DE100_7!$U$339,ROWS($U$339:U382)-1,COLUMNS($U$339:U382)-1)<>\"\",OFFSET([1]DE100_7!$U$339,ROWS($U$339:U382)-1,COLUMNS($U$339:U382)-1),\"\")","v":{"$error":"#VALUE!"}},{"$f":"IF(OFFSET([1]DE100_7!$V$339,ROWS($V$339:V382)-1,COLUMNS($V$339:V382)-1)<>\"\",OFFSET([1]DE100_7!$V$339,ROWS($V$339:V382)-1,COLUMNS($V$339:V382)-1),\"\")","v":{"$error":"#VALUE!"}}]
[{"$f":"IF(OFFSET([1]DE100_7!$C$339,ROWS($C$339:C383)-1,COLUMNS($C$339:C383)-1)<>\"\",OFFSET([1]DE100_7!$C$339,ROWS($C$339:C383)-1,COLUMNS($C$339:C383)-1),\"\")","v":{"$error":"#VALUE!"}},{"$f":"IF(OFFSET([1]DE100_7!$D$339,ROWS($D$339:D383)-1,COLUMNS($D$339:D383)-1)<>\"\",OFFSET([1]DE100_7!$D$339,ROWS($D$339:D383)-1,COLUMNS($D$339:D383)-1),\"\")","v":{"$error":"#VALUE!"}},{"$f":"IF(OFFSET([1]DE100_7!$E$339,ROWS($E$339:E383)-1,COLUMNS($E$339:E383)-1)<>\"\",OFFSET([1]DE100_7!$E$339,ROWS($E$339:E383)-1,COLUMNS($E$339:E383)-1),\"\")","v":{"$error":"#VALUE!"}},{"$f":"IF(OFFSET([1]DE100_7!$F$339,ROWS($F$339:F383)-1,COLUMNS($F$339:F383)-1)<>\"\",OFFSET([1]DE100_7!$F$339,ROWS($F$339:F383)-1,COLUMNS($F$339:F383)-1),\"\")","v":{"$error":"#VALUE!"}},{"$f":"IF(OFFSET([1]DE100_7!$G$339,ROWS($G$339:G383)-1,COLUMNS($G$339:G383)-1)<>\"\",OFFSET([1]DE100_7!$G$339,ROWS($G$339:G383)-1,COLUMNS($G$339:G383)-1),\"\")","v":{"$error":"#VALUE!"}},{"$f":"IF(OFFSET([1]DE100_7!$H$339,ROWS($H$339:H383)-1,COLUMNS($H$339:H383)-1)<>\"\",OFFSET([1]DE100_7!$H$339,ROWS($H$339:H383)-1,COLUMNS($H$339:H383)-1),\"\")","v":{"$error":"#VALUE!"}},{"$f":"IF(OFFSET([1]DE100_7!$I$339,ROWS($I$339:I383)-1,COLUMNS($I$339:I383)-1)<>\"\",OFFSET([1]DE100_7!$I$339,ROWS($I$339:I383)-1,COLUMNS($I$339:I383)-1),\"\")","v":{"$error":"#VALUE!"}},{"$f":"IF(OFFSET([1]DE100_7!$J$339,ROWS($J$339:J383)-1,COLUMNS($J$339:J383)-1)<>\"\",OFFSET([1]DE100_7!$J$339,ROWS($J$339:J383)-1,COLUMNS($J$339:J383)-1),\"\")","v":{"$error":"#VALUE!"}},{"$f":"IF(OFFSET([1]DE100_7!$K$339,ROWS($K$339:K383)-1,COLUMNS($K$339:K383)-1)<>\"\",OFFSET([1]DE100_7!$K$339,ROWS($K$339:K383)-1,COLUMNS($K$339:K383)-1),\"\")","v":{"$error":"#VALUE!"}},{"$f":"IF(OFFSET([1]DE100_7!$L$339,ROWS($L$339:L383)-1,COLUMNS($L$339:L383)-1)<>\"\",OFFSET([1]DE100_7!$L$339,ROWS($L$339:L383)-1,COLUMNS($L$339:L383)-1),\"\")","v":{"$error":"#VALUE!"}},{"$f":"IF(OFFSET([1]DE100_7!$M$339,ROWS($M$339:M383)-1,COLUMNS($M$339:M383)-1)<>\"\",OFFSET([1]DE100_7!$M$339,ROWS($M$339:M383)-1,COLUMNS($M$339:M383)-1),\"\")","v":{"$error":"#VALUE!"}},{"$f":"IF(OFFSET([1]DE100_7!$N$339,ROWS($N$339:N383)-1,COLUMNS($N$339:N383)-1)<>\"\",OFFSET([1]DE100_7!$N$339,ROWS($N$339:N383)-1,COLUMNS($N$339:N383)-1),\"\")","v":{"$error":"#VALUE!"}},{"$f":"IF(OFFSET([1]DE100_7!$O$339,ROWS($O$339:O383)-1,COLUMNS($O$339:O383)-1)<>\"\",OFFSET([1]DE100_7!$O$339,ROWS($O$339:O383)-1,COLUMNS($O$339:O383)-1),\"\")","v":{"$error":"#VALUE!"}},{"$f":"IF(OFFSET([1]DE100_7!$P$339,ROWS($P$339:P383)-1,COLUMNS($P$339:P383)-1)<>\"\",OFFSET([1]DE100_7!$P$339,ROWS($P$339:P383)-1,COLUMNS($P$339:P383)-1),\"\")","v":{"$error":"#VALUE!"}},{"$f":"IF(OFFSET([1]DE100_7!$Q$339,ROWS($Q$339:Q383)-1,COLUMNS($Q$339:Q383)-1)<>\"\",OFFSET([1]DE100_7!$Q$339,ROWS($Q$339:Q383)-1,COLUMNS($Q$339:Q383)-1),\"\")","v":{"$error":"#VALUE!"}},{"$f":"IF(OFFSET([1]DE100_7!$R$339,ROWS($R$339:R383)-1,COLUMNS($R$339:R383)-1)<>\"\",OFFSET([1]DE100_7!$R$339,ROWS($R$339:R383)-1,COLUMNS($R$339:R383)-1),\"\")","v":{"$error":"#VALUE!"}},{"$f":"IF(OFFSET([1]DE100_7!$S$339,ROWS($S$339:S383)-1,COLUMNS($S$339:S383)-1)<>\"\",OFFSET([1]DE100_7!$S$339,ROWS($S$339:S383)-1,COLUMNS($S$339:S383)-1),\"\")","v":{"$error":"#VALUE!"}},{"$f":"IF(OFFSET([1]DE100_7!$T$339,ROWS($T$339:T383)-1,COLUMNS($T$339:T383)-1)<>\"\",OFFSET([1]DE100_7!$T$339,ROWS($T$339:T383)-1,COLUMNS($T$339:T383)-1),\"\")","v":{"$error":"#VALUE!"}},{"$f":"IF(OFFSET([1]DE100_7!$U$339,ROWS($U$339:U383)-1,COLUMNS($U$339:U383)-1)<>\"\",OFFSET([1]DE100_7!$U$339,ROWS($U$339:U383)-1,COLUMNS($U$339:U383)-1),\"\")","v":{"$error":"#VALUE!"}},{"$f":"IF(OFFSET([1]DE100_7!$V$339,ROWS($V$339:V383)-1,COLUMNS($V$339:V383)-1)<>\"\",OFFSET([1]DE100_7!$V$339,ROWS($V$339:V383)-1,COLUMNS($V$339:V383)-1),\"\")","v":{"$error":"#VALUE!"}}]
[{"$f":"IF(OFFSET([1]DE100_7!$C$339,ROWS($C$339:C384)-1,COLUMNS($C$339:C384)-1)<>\"\",OFFSET([1]DE100_7!$C$339,ROWS($C$339:C384)-1,COLUMNS($C$339:C384)-1),\"\")","v":{"$error":"#VALUE!"}},{"$f":"IF(OFFSET([1]DE100_7!$D$339,ROWS($D$339:D384)-1,COLUMNS($D$339:D384)-1)<>\"\",OFFSET([1]DE100_7!$D$339,ROWS($D$339:D384)-1,COLUMNS($D$339:D384)-1),\"\")","v":{"$error":"#VALUE!"}},{"$f":"IF(OFFSET([1]DE100_7!$E$339,ROWS($E$339:E384)-1,COLUMNS($E$339:E384)-1)<>\"\",OFFSET([1]DE100_7!$E$339,ROWS($E$339:E384)-1,COLUMNS($E$339:E384)-1),\"\")","v":{"$error":"#VALUE!"}},{"$f":"IF(OFFSET([1]DE100_7!$F$339,ROWS($F$339:F384)-1,COLUMNS($F$339:F384)-1)<>\"\",OFFSET([1]DE100_7!$F$339,ROWS($F$339:F384)-1,COLUMNS($F$339:F384)-1),\"\")","v":{"$error":"#VALUE!"}},{"$f":"IF(OFFSET([1]DE100_7!$G$339,ROWS($G$339:G384)-1,COLUMNS($G$339:G384)-1)<>\"\",OFFSET([1]DE100_7!$G$339,ROWS($G$339:G384)-1,COLUMNS($G$339:G384)-1),\"\")","v":{"$error":"#VALUE!"}},{"$f":"IF(OFFSET([1]DE100_7!$H$339,ROWS($H$339:H384)-1,COLUMNS($H$339:H384)-1)<>\"\",OFFSET([1]DE100_7!$H$339,ROWS($H$339:H384)-1,COLUMNS($H$339:H384)-1),\"\")","v":{"$error":"#VALUE!"}},{"$f":"IF(OFFSET([1]DE100_7!$I$339,ROWS($I$339:I384)-1,COLUMNS($I$339:I384)-1)<>\"\",OFFSET([1]DE100_7!$I$339,ROWS($I$339:I384)-1,COLUMNS($I$339:I384)-1),\"\")","v":{"$error":"#VALUE!"}},{"$f":"IF(OFFSET([1]DE100_7!$J$339,ROWS($J$339:J384)-1,COLUMNS($J$339:J384)-1)<>\"\",OFFSET([1]DE100_7!$J$339,ROWS($J$339:J384)-1,COLUMNS($J$339:J384)-1),\"\")","v":{"$error":"#VALUE!"}},{"$f":"IF(OFFSET([1]DE100_7!$K$339,ROWS($K$339:K384)-1,COLUMNS($K$339:K384)-1)<>\"\",OFFSET([1]DE100_7!$K$339,ROWS($K$339:K384)-1,COLUMNS($K$339:K384)-1),\"\")","v":{"$error":"#VALUE!"}},{"$f":"IF(OFFSET([1]DE100_7!$L$339,ROWS($L$339:L384)-1,COLUMNS($L$339:L384)-1)<>\"\",OFFSET([1]DE100_7!$L$339,ROWS($L$339:L384)-1,COLUMNS($L$339:L384)-1),\"\")","v":{"$error":"#VALUE!"}},{"$f":"IF(OFFSET([1]DE100_7!$M$339,ROWS($M$339:M384)-1,COLUMNS($M$339:M384)-1)<>\"\",OFFSET([1]DE100_7!$M$339,ROWS($M$339:M384)-1,COLUMNS($M$339:M384)-1),\"\")","v":{"$error":"#VALUE!"}},{"$f":"IF(OFFSET([1]DE100_7!$N$339,ROWS($N$339:N384)-1,COLUMNS($N$339:N384)-1)<>\"\",OFFSET([1]DE100_7!$N$339,ROWS($N$339:N384)-1,COLUMNS($N$339:N384)-1),\"\")","v":{"$error":"#VALUE!"}},{"$f":"IF(OFFSET([1]DE100_7!$O$339,ROWS($O$339:O384)-1,COLUMNS($O$339:O384)-1)<>\"\",OFFSET([1]DE100_7!$O$339,ROWS($O$339:O384)-1,COLUMNS($O$339:O384)-1),\"\")","v":{"$error":"#VALUE!"}},{"$f":"IF(OFFSET([1]DE100_7!$P$339,ROWS($P$339:P384)-1,COLUMNS($P$339:P384)-1)<>\"\",OFFSET([1]DE100_7!$P$339,ROWS($P$339:P384)-1,COLUMNS($P$339:P384)-1),\"\")","v":{"$error":"#VALUE!"}},{"$f":"IF(OFFSET([1]DE100_7!$Q$339,ROWS($Q$339:Q384)-1,COLUMNS($Q$339:Q384)-1)<>\"\",OFFSET([1]DE100_7!$Q$339,ROWS($Q$339:Q384)-1,COLUMNS($Q$339:Q384)-1),\"\")","v":{"$error":"#VALUE!"}},{"$f":"IF(OFFSET([1]DE100_7!$R$339,ROWS($R$339:R384)-1,COLUMNS($R$339:R384)-1)<>\"\",OFFSET([1]DE100_7!$R$339,ROWS($R$339:R384)-1,COLUMNS($R$339:R384)-1),\"\")","v":{"$error":"#VALUE!"}},{"$f":"IF(OFFSET([1]DE100_7!$S$339,ROWS($S$339:S384)-1,COLUMNS($S$339:S384)-1)<>\"\",OFFSET([1]DE100_7!$S$339,ROWS($S$339:S384)-1,COLUMNS($S$339:S384)-1),\"\")","v":{"$error":"#VALUE!"}},{"$f":"IF(OFFSET([1]DE100_7!$T$339,ROWS($T$339:T384)-1,COLUMNS($T$339:T384)-1)<>\"\",OFFSET([1]DE100_7!$T$339,ROWS($T$339:T384)-1,COLUMNS($T$339:T384)-1),\"\")","v":{"$error":"#VALUE!"}},{"$f":"IF(OFFSET([1]DE100_7!$U$339,ROWS($U$339:U384)-1,COLUMNS($U$339:U384)-1)<>\"\",OFFSET([1]DE100_7!$U$339,ROWS($U$339:U384)-1,COLUMNS($U$339:U384)-1),\"\")","v":{"$error":"#VALUE!"}},{"$f":"IF(OFFSET([1]DE100_7!$V$339,ROWS($V$339:V384)-1,COLUMNS($V$339:V384)-1)<>\"\",OFFSET([1]DE100_7!$V$339,ROWS($V$339:V384)-1,COLUMNS($V$339:V384)-1),\"\")","v":{"$error":"#VALUE!"}}]
[{"$f":"IF(OFFSET([1]DE100_7!$C$339,ROWS($C$339:C385)-1,COLUMNS($C$339:C385)-1)<>\"\",OFFSET([1]DE100_7!$C$339,ROWS($C$339:C385)-1,COLUMNS($C$339:C385)-1),\"\")","v":{"$error":"#VALUE!"}},{"$f":"IF(OFFSET([1]DE100_7!$D$339,ROWS($D$339:D385)-1,COLUMNS($D$339:D385)-1)<>\"\",OFFSET([1]DE100_7!$D$339,ROWS($D$339:D385)-1,COLUMNS($D$339:D385)-1),\"\")","v":{"$error":"#VALUE!"}},{"$f":"IF(OFFSET([1]DE100_7!$E$339,ROWS($E$339:E385)-1,COLUMNS($E$339:E385)-1)<>\"\",OFFSET([1]DE100_7!$E$339,ROWS($E$339:E385)-1,COLUMNS($E$339:E385)-1),\"\")","v":{"$error":"#VALUE!"}},{"$f":"IF(OFFSET([1]DE100_7!$F$339,ROWS($F$339:F385)-1,COLUMNS($F$339:F385)-1)<>\"\",OFFSET([1]DE100_7!$F$339,ROWS($F$339:F385)-1,COLUMNS($F$339:F385)-1),\"\")","v":{"$error":"#VALUE!"}},{"$f":"IF(OFFSET([1]DE100_7!$G$339,ROWS($G$339:G385)-1,COLUMNS($G$339:G385)-1)<>\"\",OFFSET([1]DE100_7!$G$339,ROWS($G$339:G385)-1,COLUMNS($G$339:G385)-1),\"\")","v":{"$error":"#VALUE!"}},{"$f":"IF(OFFSET([1]DE100_7!$H$339,ROWS($H$339:H385)-1,COLUMNS($H$339:H385)-1)<>\"\",OFFSET([1]DE100_7!$H$339,ROWS($H$339:H385)-1,COLUMNS($H$339:H385)-1),\"\")","v":{"$error":"#VALUE!"}},{"$f":"IF(OFFSET([1]DE100_7!$I$339,ROWS($I$339:I385)-1,COLUMNS($I$339:I385)-1)<>\"\",OFFSET([1]DE100_7!$I$339,ROWS($I$339:I385)-1,COLUMNS($I$339:I385)-1),\"\")","v":{"$error":"#VALUE!"}},{"$f":"IF(OFFSET([1]DE100_7!$J$339,ROWS($J$339:J385)-1,COLUMNS($J$339:J385)-1)<>\"\",OFFSET([1]DE100_7!$J$339,ROWS($J$339:J385)-1,COLUMNS($J$339:J385)-1),\"\")","v":{"$error":"#VALUE!"}},{"$f":"IF(OFFSET([1]DE100_7!$K$339,ROWS($K$339:K385)-1,COLUMNS($K$339:K385)-1)<>\"\",OFFSET([1]DE100_7!$K$339,ROWS($K$339:K385)-1,COLUMNS($K$339:K385)-1),\"\")","v":{"$error":"#VALUE!"}},{"$f":"IF(OFFSET([1]DE100_7!$L$339,ROWS($L$339:L385)-1,COLUMNS($L$339:L385)-1)<>\"\",OFFSET([1]DE100_7!$L$339,ROWS($L$339:L385)-1,COLUMNS($L$339:L385)-1),\"\")","v":{"$error":"#VALUE!"}},{"$f":"IF(OFFSET([1]DE100_7!$M$339,ROWS($M$339:M385)-1,COLUMNS($M$339:M385)-1)<>\"\",OFFSET([1]DE100_7!$M$339,ROWS($M$339:M385)-1,COLUMNS($M$339:M385)-1),\"\")","v":{"$error":"#VALUE!"}},{"$f":"IF(OFFSET([1]DE100_7!$N$339,ROWS($N$339:N385)-1,COLUMNS($N$339:N385)-1)<>\"\",OFFSET([1]DE100_7!$N$339,ROWS($N$339:N385)-1,COLUMNS($N$339:N385)-1),\"\")","v":{"$error":"#VALUE!"}},{"$f":"IF(OFFSET([1]DE100_7!$O$339,ROWS($O$339:O385)-1,COLUMNS($O$339:O385)-1)<>\"\",OFFSET([1]DE100_7!$O$339,ROWS($O$339:O385)-1,COLUMNS($O$339:O385)-1),\"\")","v":{"$error":"#VALUE!"}},{"$f":"IF(OFFSET([1]DE100_7!$P$339,ROWS($P$339:P385)-1,COLUMNS($P$339:P385)-1)<>\"\",OFFSET([1]DE100_7!$P$339,ROWS($P$339:P385)-1,COLUMNS($P$339:P385)-1),\"\")","v":{"$error":"#VALUE!"}},{"$f":"IF(OFFSET([1]DE100_7!$Q$339,ROWS($Q$339:Q385)-1,COLUMNS($Q$339:Q385)-1)<>\"\",OFFSET([1]DE100_7!$Q$339,ROWS($Q$339:Q385)-1,COLUMNS($Q$339:Q385)-1),\"\")","v":{"$error":"#VALUE!"}},{"$f":"IF(OFFSET([1]DE100_7!$R$339,ROWS($R$339:R385)-1,COLUMNS($R$339:R385)-1)<>\"\",OFFSET([1]DE100_7!$R$339,ROWS($R$339:R385)-1,COLUMNS($R$339:R385)-1),\"\")","v":{"$error":"#VALUE!"}},{"$f":"IF(OFFSET([1]DE100_7!$S$339,ROWS($S$339:S385)-1,COLUMNS($S$339:S385)-1)<>\"\",OFFSET([1]DE100_7!$S$339,ROWS($S$339:S385)-1,COLUMNS($S$339:S385)-1),\"\")","v":{"$error":"#VALUE!"}},{"$f":"IF(OFFSET([1]DE100_7!$T$339,ROWS($T$339:T385)-1,COLUMNS($T$339:T385)-1)<>\"\",OFFSET([1]DE100_7!$T$339,ROWS($T$339:T385)-1,COLUMNS($T$339:T385)-1),\"\")","v":{"$error":"#VALUE!"}},{"$f":"IF(OFFSET([1]DE100_7!$U$339,ROWS($U$339:U385)-1,COLUMNS($U$339:U385)-1)<>\"\",OFFSET([1]DE100_7!$U$339,ROWS($U$339:U385)-1,COLUMNS($U$339:U385)-1),\"\")","v":{"$error":"#VALUE!"}},{"$f":"IF(OFFSET([1]DE100_7!$V$339,ROWS($V$339:V385)-1,COLUMNS($V$339:V385)-1)<>\"\",OFFSET([1]DE100_7!$V$339,ROWS($V$339:V385)-1,COLUMNS($V$339:V385)-1),\"\")","v":{"$error":"#VALUE!"}}]
[{"$f":"IF(OFFSET([1]DE100_7!$C$339,ROWS($C$339:C386)-1,COLUMNS($C$339:C386)-1)<>\"\",OFFSET([1]DE100_7!$C$339,ROWS($C$339:C386)-1,COLUMNS($C$339:C386)-1),\"\")","v":{"$error":"#VALUE!"}},{"$f":"IF(OFFSET([1]DE100_7!$D$339,ROWS($D$339:D386)-1,COLUMNS($D$339:D386)-1)<>\"\",OFFSET([1]DE100_7!$D$339,ROWS($D$339:D386)-1,COLUMNS($D$339:D386)-1),\"\")","v":{"$error":"#VALUE!"}},{"$f":"IF(OFFSET([1]DE100_7!$E$339,ROWS($E$339:E386)-1,COLUMNS($E$339:E386)-1)<>\"\",OFFSET([1]DE100_7!$E$339,ROWS($E$339:E386)-1,COLUMNS($E$339:E386)-1),\"\")","v":{"$error":"#VALUE!"}},{"$f":"IF(OFFSET([1]DE100_7!$F$339,ROWS($F$339:F386)-1,COLUMNS($F$339:F386)-1)<>\"\",OFFSET([1]DE100_7!$F$339,ROWS($F$339:F386)-1,COLUMNS($F$339:F386)-1),\"\")","v":{"$error":"#VALUE!"}},{"$f":"IF(OFFSET([1]DE100_7!$G$339,ROWS($G$339:G386)-1,COLUMNS($G$339:G386)-1)<>\"\",OFFSET([1]DE100_7!$G$339,ROWS($G$339:G386)-1,COLUMNS($G$339:G386)-1),\"\")","v":{"$error":"#VALUE!"}},{"$f":"IF(OFFSET([1]DE100_7!$H$339,ROWS($H$339:H386)-1,COLUMNS($H$339:H386)-1)<>\"\",OFFSET([1]DE100_7!$H$339,ROWS($H$339:H386)-1,COLUMNS($H$339:H386)-1),\"\")","v":{"$error":"#VALUE!"}},{"$f":"IF(OFFSET([1]DE100_7!$I$339,ROWS($I$339:I386)-1,COLUMNS($I$339:I386)-1)<>\"\",OFFSET([1]DE100_7!$I$339,ROWS($I$339:I386)-1,COLUMNS($I$339:I386)-1),\"\")","v":{"$error":"#VALUE!"}},{"$f":"IF(OFFSET([1]DE100_7!$J$339,ROWS($J$339:J386)-1,COLUMNS($J$339:J386)-1)<>\"\",OFFSET([1]DE100_7!$J$339,ROWS($J$339:J386)-1,COLUMNS($J$339:J386)-1),\"\")","v":{"$error":"#VALUE!"}},{"$f":"IF(OFFSET([1]DE100_7!$K$339,ROWS($K$339:K386)-1,COLUMNS($K$339:K386)-1)<>\"\",OFFSET([1]DE100_7!$K$339,ROWS($K$339:K386)-1,COLUMNS($K$339:K386)-1),\"\")","v":{"$error":"#VALUE!"}},{"$f":"IF(OFFSET([1]DE100_7!$L$339,ROWS($L$339:L386)-1,COLUMNS($L$339:L386)-1)<>\"\",OFFSET([1]DE100_7!$L$339,ROWS($L$339:L386)-1,COLUMNS($L$339:L386)-1),\"\")","v":{"$error":"#VALUE!"}},{"$f":"IF(OFFSET([1]DE100_7!$M$339,ROWS($M$339:M386)-1,COLUMNS($M$339:M386)-1)<>\"\",OFFSET([1]DE100_7!$M$339,ROWS($M$339:M386)-1,COLUMNS($M$339:M386)-1),\"\")","v":{"$error":"#VALUE!"}},{"$f":"IF(OFFSET([1]DE100_7!$N$339,ROWS($N$339:N386)-1,COLUMNS($N$339:N386)-1)<>\"\",OFFSET([1]DE100_7!$N$339,ROWS($N$339:N386)-1,COLUMNS($N$339:N386)-1),\"\")","v":{"$error":"#VALUE!"}},{"$f":"IF(OFFSET([1]DE100_7!$O$339,ROWS($O$339:O386)-1,COLUMNS($O$339:O386)-1)<>\"\",OFFSET([1]DE100_7!$O$339,ROWS($O$339:O386)-1,COLUMNS($O$339:O386)-1),\"\")","v":{"$error":"#VALUE!"}},{"$f":"IF(OFFSET([1]DE100_7!$P$339,ROWS($P$339:P386)-1,COLUMNS($P$339:P386)-1)<>\"\",OFFSET([1]DE100_7!$P$339,ROWS($P$339:P386)-1,COLUMNS($P$339:P386)-1),\"\")","v":{"$error":"#VALUE!"}},{"$f":"IF(OFFSET([1]DE100_7!$Q$339,ROWS($Q$339:Q386)-1,COLUMNS($Q$339:Q386)-1)<>\"\",OFFSET([1]DE100_7!$Q$339,ROWS($Q$339:Q386)-1,COLUMNS($Q$339:Q386)-1),\"\")","v":{"$error":"#VALUE!"}},{"$f":"IF(OFFSET([1]DE100_7!$R$339,ROWS($R$339:R386)-1,COLUMNS($R$339:R386)-1)<>\"\",OFFSET([1]DE100_7!$R$339,ROWS($R$339:R386)-1,COLUMNS($R$339:R386)-1),\"\")","v":{"$error":"#VALUE!"}},{"$f":"IF(OFFSET([1]DE100_7!$S$339,ROWS($S$339:S386)-1,COLUMNS($S$339:S386)-1)<>\"\",OFFSET([1]DE100_7!$S$339,ROWS($S$339:S386)-1,COLUMNS($S$339:S386)-1),\"\")","v":{"$error":"#VALUE!"}},{"$f":"IF(OFFSET([1]DE100_7!$T$339,ROWS($T$339:T386)-1,COLUMNS($T$339:T386)-1)<>\"\",OFFSET([1]DE100_7!$T$339,ROWS($T$339:T386)-1,COLUMNS($T$339:T386)-1),\"\")","v":{"$error":"#VALUE!"}},{"$f":"IF(OFFSET([1]DE100_7!$U$339,ROWS($U$339:U386)-1,COLUMNS($U$339:U386)-1)<>\"\",OFFSET([1]DE100_7!$U$339,ROWS($U$339:U386)-1,COLUMNS($U$339:U386)-1),\"\")","v":{"$error":"#VALUE!"}},{"$f":"IF(OFFSET([1]DE100_7!$V$339,ROWS($V$339:V386)-1,COLUMNS($V$339:V386)-1)<>\"\",OFFSET([1]DE100_7!$V$339,ROWS($V$339:V386)-1,COLUMNS($V$339:V386)-1),\"\")","v":{"$error":"#VALUE!"}}]
[{"$f":"IF(OFFSET([1]DE100_7!$C$339,ROWS($C$339:C387)-1,COLUMNS($C$339:C387)-1)<>\"\",OFFSET([1]DE100_7!$C$339,ROWS($C$339:C387)-1,COLUMNS($C$339:C387)-1),\"\")","v":{"$error":"#VALUE!"}},{"$f":"IF(OFFSET([1]DE100_7!$D$339,ROWS($D$339:D387)-1,COLUMNS($D$339:D387)-1)<>\"\",OFFSET([1]DE100_7!$D$339,ROWS($D$339:D387)-1,COLUMNS($D$339:D387)-1),\"\")","v":{"$error":"#VALUE!"}},{"$f":"IF(OFFSET([1]DE100_7!$E$339,ROWS($E$339:E387)-1,COLUMNS($E$339:E387)-1)<>\"\",OFFSET([1]DE100_7!$E$339,ROWS($E$339:E387)-1,COLUMNS($E$339:E387)-1),\"\")","v":{"$error":"#VALUE!"}},{"$f":"IF(OFFSET([1]DE100_7!$F$339,ROWS($F$339:F387)-1,COLUMNS($F$339:F387)-1)<>\"\",OFFSET([1]DE100_7!$F$339,ROWS($F$339:F387)-1,COLUMNS($F$339:F387)-1),\"\")","v":{"$error":"#VALUE!"}},{"$f":"IF(OFFSET([1]DE100_7!$G$339,ROWS($G$339:G387)-1,COLUMNS($G$339:G387)-1)<>\"\",OFFSET([1]DE100_7!$G$339,ROWS($G$339:G387)-1,COLUMNS($G$339:G387)-1),\"\")","v":{"$error":"#VALUE!"}},{"$f":"IF(OFFSET([1]DE100_7!$H$339,ROWS($H$339:H387)-1,COLUMNS($H$339:H387)-1)<>\"\",OFFSET([1]DE100_7!$H$339,ROWS($H$339:H387)-1,COLUMNS($H$339:H387)-1),\"\")","v":{"$error":"#VALUE!"}},{"$f":"IF(OFFSET([1]DE100_7!$I$339,ROWS($I$339:I387)-1,COLUMNS($I$339:I387)-1)<>\"\",OFFSET([1]DE100_7!$I$339,ROWS($I$339:I387)-1,COLUMNS($I$339:I387)-1),\"\")","v":{"$error":"#VALUE!"}},{"$f":"IF(OFFSET([1]DE100_7!$J$339,ROWS($J$339:J387)-1,COLUMNS($J$339:J387)-1)<>\"\",OFFSET([1]DE100_7!$J$339,ROWS($J$339:J387)-1,COLUMNS($J$339:J387)-1),\"\")","v":{"$error":"#VALUE!"}},{"$f":"IF(OFFSET([1]DE100_7!$K$339,ROWS($K$339:K387)-1,COLUMNS($K$339:K387)-1)<>\"\",OFFSET([1]DE100_7!$K$339,ROWS($K$339:K387)-1,COLUMNS($K$339:K387)-1),\"\")","v":{"$error":"#VALUE!"}},{"$f":"IF(OFFSET([1]DE100_7!$L$339,ROWS($L$339:L387)-1,COLUMNS($L$339:L387)-1)<>\"\",OFFSET([1]DE100_7!$L$339,ROWS($L$339:L387)-1,COLUMNS($L$339:L387)-1),\"\")","v":{"$error":"#VALUE!"}},{"$f":"IF(OFFSET([1]DE100_7!$M$339,ROWS($M$339:M387)-1,COLUMNS($M$339:M387)-1)<>\"\",OFFSET([1]DE100_7!$M$339,ROWS($M$339:M387)-1,COLUMNS($M$339:M387)-1),\"\")","v":{"$error":"#VALUE!"}},{"$f":"IF(OFFSET([1]DE100_7!$N$339,ROWS($N$339:N387)-1,COLUMNS($N$339:N387)-1)<>\"\",OFFSET([1]DE100_7!$N$339,ROWS($N$339:N387)-1,COLUMNS($N$339:N387)-1),\"\")","v":{"$error":"#VALUE!"}},{"$f":"IF(OFFSET([1]DE100_7!$O$339,ROWS($O$339:O387)-1,COLUMNS($O$339:O387)-1)<>\"\",OFFSET([1]DE100_7!$O$339,ROWS($O$339:O387)-1,COLUMNS($O$339:O387)-1),\"\")","v":{"$error":"#VALUE!"}},{"$f":"IF(OFFSET([1]DE100_7!$P$339,ROWS($P$339:P387)-1,COLUMNS($P$339:P387)-1)<>\"\",OFFSET([1]DE100_7!$P$339,ROWS($P$339:P387)-1,COLUMNS($P$339:P387)-1),\"\")","v":{"$error":"#VALUE!"}},{"$f":"IF(OFFSET([1]DE100_7!$Q$339,ROWS($Q$339:Q387)-1,COLUMNS($Q$339:Q387)-1)<>\"\",OFFSET([1]DE100_7!$Q$339,ROWS($Q$339:Q387)-1,COLUMNS($Q$339:Q387)-1),\"\")","v":{"$error":"#VALUE!"}},{"$f":"IF(OFFSET([1]DE100_7!$R$339,ROWS($R$339:R387)-1,COLUMNS($R$339:R387)-1)<>\"\",OFFSET([1]DE100_7!$R$339,ROWS($R$339:R387)-1,COLUMNS($R$339:R387)-1),\"\")","v":{"$error":"#VALUE!"}},{"$f":"IF(OFFSET([1]DE100_7!$S$339,ROWS($S$339:S387)-1,COLUMNS($S$339:S387)-1)<>\"\",OFFSET([1]DE100_7!$S$339,ROWS($S$339:S387)-1,COLUMNS($S$339:S387)-1),\"\")","v":{"$error":"#VALUE!"}},{"$f":"IF(OFFSET([1]DE100_7!$T$339,ROWS($T$339:T387)-1,COLUMNS($T$339:T387)-1)<>\"\",OFFSET([1]DE100_7!$T$339,ROWS($T$339:T387)-1,COLUMNS($T$339:T387)-1),\"\")","v":{"$error":"#VALUE!"}},{"$f":"IF(OFFSET([1]DE100_7!$U$339,ROWS($U$339:U387)-1,COLUMNS($U$339:U387)-1)<>\"\",OFFSET([1]DE100_7!$U$339,ROWS($U$339:U387)-1,COLUMNS($U$339:U387)-1),\"\")","v":{"$error":"#VALUE!"}},{"$f":"IF(OFFSET([1]DE100_7!$V$339,ROWS($V$339:V387)-1,COLUMNS($V$339:V387)-1)<>\"\",OFFSET([1]DE100_7!$V$339,ROWS($V$339:V387)-1,COLUMNS($V$339:V387)-1),\"\")","v":{"$error":"#VALUE!"}}]
[{"$f":"IF(OFFSET([1]DE100_7!$C$339,ROWS($C$339:C388)-1,COLUMNS($C$339:C388)-1)<>\"\",OFFSET([1]DE100_7!$C$339,ROWS($C$339:C388)-1,COLUMNS($C$339:C388)-1),\"\")","v":{"$error":"#VALUE!"}},{"$f":"IF(OFFSET([1]DE100_7!$D$339,ROWS($D$339:D388)-1,COLUMNS($D$339:D388)-1)<>\"\",OFFSET([1]DE100_7!$D$339,ROWS($D$339:D388)-1,COLUMNS($D$339:D388)-1),\"\")","v":{"$error":"#VALUE!"}},{"$f":"IF(OFFSET([1]DE100_7!$E$339,ROWS($E$339:E388)-1,COLUMNS($E$339:E388)-1)<>\"\",OFFSET([1]DE100_7!$E$339,ROWS($E$339:E388)-1,COLUMNS($E$339:E388)-1),\"\")","v":{"$error":"#VALUE!"}},{"$f":"IF(OFFSET([1]DE100_7!$F$339,ROWS($F$339:F388)-1,COLUMNS($F$339:F388)-1)<>\"\",OFFSET([1]DE100_7!$F$339,ROWS($F$339:F388)-1,COLUMNS($F$339:F388)-1),\"\")","v":{"$error":"#VALUE!"}},{"$f":"IF(OFFSET([1]DE100_7!$G$339,ROWS($G$339:G388)-1,COLUMNS($G$339:G388)-1)<>\"\",OFFSET([1]DE100_7!$G$339,ROWS($G$339:G388)-1,COLUMNS($G$339:G388)-1),\"\")","v":{"$error":"#VALUE!"}},{"$f":"IF(OFFSET([1]DE100_7!$H$339,ROWS($H$339:H388)-1,COLUMNS($H$339:H388)-1)<>\"\",OFFSET([1]DE100_7!$H$339,ROWS($H$339:H388)-1,COLUMNS($H$339:H388)-1),\"\")","v":{"$error":"#VALUE!"}},{"$f":"IF(OFFSET([1]DE100_7!$I$339,ROWS($I$339:I388)-1,COLUMNS($I$339:I388)-1)<>\"\",OFFSET([1]DE100_7!$I$339,ROWS($I$339:I388)-1,COLUMNS($I$339:I388)-1),\"\")","v":{"$error":"#VALUE!"}},{"$f":"IF(OFFSET([1]DE100_7!$J$339,ROWS($J$339:J388)-1,COLUMNS($J$339:J388)-1)<>\"\",OFFSET([1]DE100_7!$J$339,ROWS($J$339:J388)-1,COLUMNS($J$339:J388)-1),\"\")","v":{"$error":"#VALUE!"}},{"$f":"IF(OFFSET([1]DE100_7!$K$339,ROWS($K$339:K388)-1,COLUMNS($K$339:K388)-1)<>\"\",OFFSET([1]DE100_7!$K$339,ROWS($K$339:K388)-1,COLUMNS($K$339:K388)-1),\"\")","v":{"$error":"#VALUE!"}},{"$f":"IF(OFFSET([1]DE100_7!$L$339,ROWS($L$339:L388)-1,COLUMNS($L$339:L388)-1)<>\"\",OFFSET([1]DE100_7!$L$339,ROWS($L$339:L388)-1,COLUMNS($L$339:L388)-1),\"\")","v":{"$error":"#VALUE!"}},{"$f":"IF(OFFSET([1]DE100_7!$M$339,ROWS($M$339:M388)-1,COLUMNS($M$339:M388)-1)<>\"\",OFFSET([1]DE100_7!$M$339,ROWS($M$339:M388)-1,COLUMNS($M$339:M388)-1),\"\")","v":{"$error":"#VALUE!"}},{"$f":"IF(OFFSET([1]DE100_7!$N$339,ROWS($N$339:N388)-1,COLUMNS($N$339:N388)-1)<>\"\",OFFSET([1]DE100_7!$N$339,ROWS($N$339:N388)-1,COLUMNS($N$339:N388)-1),\"\")","v":{"$error":"#VALUE!"}},{"$f":"IF(OFFSET([1]DE100_7!$O$339,ROWS($O$339:O388)-1,COLUMNS($O$339:O388)-1)<>\"\",OFFSET([1]DE100_7!$O$339,ROWS($O$339:O388)-1,COLUMNS($O$339:O388)-1),\"\")","v":{"$error":"#VALUE!"}},{"$f":"IF(OFFSET([1]DE100_7!$P$339,ROWS($P$339:P388)-1,COLUMNS($P$339:P388)-1)<>\"\",OFFSET([1]DE100_7!$P$339,ROWS($P$339:P388)-1,COLUMNS($P$339:P388)-1),\"\")","v":{"$error":"#VALUE!"}},{"$f":"IF(OFFSET([1]DE100_7!$Q$339,ROWS($Q$339:Q388)-1,COLUMNS($Q$339:Q388)-1)<>\"\",OFFSET([1]DE100_7!$Q$339,ROWS($Q$339:Q388)-1,COLUMNS($Q$339:Q388)-1),\"\")","v":{"$error":"#VALUE!"}},{"$f":"IF(OFFSET([1]DE100_7!$R$339,ROWS($R$339:R388)-1,COLUMNS($R$339:R388)-1)<>\"\",OFFSET([1]DE100_7!$R$339,ROWS($R$339:R388)-1,COLUMNS($R$339:R388)-1),\"\")","v":{"$error":"#VALUE!"}},{"$f":"IF(OFFSET([1]DE100_7!$S$339,ROWS($S$339:S388)-1,COLUMNS($S$339:S388)-1)<>\"\",OFFSET([1]DE100_7!$S$339,ROWS($S$339:S388)-1,COLUMNS($S$339:S388)-1),\"\")","v":{"$error":"#VALUE!"}},{"$f":"IF(OFFSET([1]DE100_7!$T$339,ROWS($T$339:T388)-1,COLUMNS($T$339:T388)-1)<>\"\",OFFSET([1]DE100_7!$T$339,ROWS($T$339:T388)-1,COLUMNS($T$339:T388)-1),\"\")","v":{"$error":"#VALUE!"}},{"$f":"IF(OFFSET([1]DE100_7!$U$339,ROWS($U$339:U388)-1,COLUMNS($U$339:U388)-1)<>\"\",OFFSET([1]DE100_7!$U$339,ROWS($U$339:U388)-1,COLUMNS($U$339:U388)-1),\"\")","v":{"$error":"#VALUE!"}},{"$f":"IF(OFFSET([1]DE100_7!$V$339,ROWS($V$339:V388)-1,COLUMNS($V$339:V388)-1)<>\"\",OFFSET([1]DE100_7!$V$339,ROWS($V$339:V388)-1,COLUMNS($V$339:V388)-1),\"\")","v":{"$error":"#VALUE!"}}]
[{"$f":"IF(OFFSET([1]DE100_7!$C$339,ROWS($C$339:C389)-1,COLUMNS($C$339:C389)-1)<>\"\",OFFSET([1]DE100_7!$C$339,ROWS($C$339:C389)-1,COLUMNS($C$339:C389)-1),\"\")","v":{"$error":"#VALUE!"}},{"$f":"IF(OFFSET([1]DE100_7!$D$339,ROWS($D$339:D389)-1,COLUMNS($D$339:D389)-1)<>\"\",OFFSET([1]DE100_7!$D$339,ROWS($D$339:D389)-1,COLUMNS($D$339:D389)-1),\"\")","v":{"$error":"#VALUE!"}},{"$f":"IF(OFFSET([1]DE100_7!$E$339,ROWS($E$339:E389)-1,COLUMNS($E$339:E389)-1)<>\"\",OFFSET([1]DE100_7!$E$339,ROWS($E$339:E389)-1,COLUMNS($E$339:E389)-1),\"\")","v":{"$error":"#VALUE!"}},{"$f":"IF(OFFSET([1]DE100_7!$F$339,ROWS($F$339:F389)-1,COLUMNS($F$339:F389)-1)<>\"\",OFFSET([1]DE100_7!$F$339,ROWS($F$339:F389)-1,COLUMNS($F$339:F389)-1),\"\")","v":{"$error":"#VALUE!"}},{"$f":"IF(OFFSET([1]DE100_7!$G$339,ROWS($G$339:G389)-1,COLUMNS($G$339:G389)-1)<>\"\",OFFSET([1]DE100_7!$G$339,ROWS($G$339:G389)-1,COLUMNS($G$339:G389)-1),\"\")","v":{"$error":"#VALUE!"}},{"$f":"IF(OFFSET([1]DE100_7!$H$339,ROWS($H$339:H389)-1,COLUMNS($H$339:H389)-1)<>\"\",OFFSET([1]DE100_7!$H$339,ROWS($H$339:H389)-1,COLUMNS($H$339:H389)-1),\"\")","v":{"$error":"#VALUE!"}},{"$f":"IF(OFFSET([1]DE100_7!$I$339,ROWS($I$339:I389)-1,COLUMNS($I$339:I389)-1)<>\"\",OFFSET([1]DE100_7!$I$339,ROWS($I$339:I389)-1,COLUMNS($I$339:I389)-1),\"\")","v":{"$error":"#VALUE!"}},{"$f":"IF(OFFSET([1]DE100_7!$J$339,ROWS($J$339:J389)-1,COLUMNS($J$339:J389)-1)<>\"\",OFFSET([1]DE100_7!$J$339,ROWS($J$339:J389)-1,COLUMNS($J$339:J389)-1),\"\")","v":{"$error":"#VALUE!"}},{"$f":"IF(OFFSET([1]DE100_7!$K$339,ROWS($K$339:K389)-1,COLUMNS($K$339:K389)-1)<>\"\",OFFSET([1]DE100_7!$K$339,ROWS($K$339:K389)-1,COLUMNS($K$339:K389)-1),\"\")","v":{"$error":"#VALUE!"}},{"$f":"IF(OFFSET([1]DE100_7!$L$339,ROWS($L$339:L389)-1,COLUMNS($L$339:L389)-1)<>\"\",OFFSET([1]DE100_7!$L$339,ROWS($L$339:L389)-1,COLUMNS($L$339:L389)-1),\"\")","v":{"$error":"#VALUE!"}},{"$f":"IF(OFFSET([1]DE100_7!$M$339,ROWS($M$339:M389)-1,COLUMNS($M$339:M389)-1)<>\"\",OFFSET([1]DE100_7!$M$339,ROWS($M$339:M389)-1,COLUMNS($M$339:M389)-1),\"\")","v":{"$error":"#VALUE!"}},{"$f":"IF(OFFSET([1]DE100_7!$N$339,ROWS($N$339:N389)-1,COLUMNS($N$339:N389)-1)<>\"\",OFFSET([1]DE100_7!$N$339,ROWS($N$339:N389)-1,COLUMNS($N$339:N389)-1),\"\")","v":{"$error":"#VALUE!"}},{"$f":"IF(OFFSET([1]DE100_7!$O$339,ROWS($O$339:O389)-1,COLUMNS($O$339:O389)-1)<>\"\",OFFSET([1]DE100_7!$O$339,ROWS($O$339:O389)-1,COLUMNS($O$339:O389)-1),\"\")","v":{"$error":"#VALUE!"}},{"$f":"IF(OFFSET([1]DE100_7!$P$339,ROWS($P$339:P389)-1,COLUMNS($P$339:P389)-1)<>\"\",OFFSET([1]DE100_7!$P$339,ROWS($P$339:P389)-1,COLUMNS($P$339:P389)-1),\"\")","v":{"$error":"#VALUE!"}},{"$f":"IF(OFFSET([1]DE100_7!$Q$339,ROWS($Q$339:Q389)-1,COLUMNS($Q$339:Q389)-1)<>\"\",OFFSET([1]DE100_7!$Q$339,ROWS($Q$339:Q389)-1,COLUMNS($Q$339:Q389)-1),\"\")","v":{"$error":"#VALUE!"}},{"$f":"IF(OFFSET([1]DE100_7!$R$339,ROWS($R$339:R389)-1,COLUMNS($R$339:R389)-1)<>\"\",OFFSET([1]DE100_7!$R$339,ROWS($R$339:R389)-1,COLUMNS($R$339:R389)-1),\"\")","v":{"$error":"#VALUE!"}},{"$f":"IF(OFFSET([1]DE100_7!$S$339,ROWS($S$339:S389)-1,COLUMNS($S$339:S389)-1)<>\"\",OFFSET([1]DE100_7!$S$339,ROWS($S$339:S389)-1,COLUMNS($S$339:S389)-1),\"\")","v":{"$error":"#VALUE!"}},{"$f":"IF(OFFSET([1]DE100_7!$T$339,ROWS($T$339:T389)-1,COLUMNS($T$339:T389)-1)<>\"\",OFFSET([1]DE100_7!$T$339,ROWS($T$339:T389)-1,COLUMNS($T$339:T389)-1),\"\")","v":{"$error":"#VALUE!"}},{"$f":"IF(OFFSET([1]DE100_7!$U$339,ROWS($U$339:U389)-1,COLUMNS($U$339:U389)-1)<>\"\",OFFSET([1]DE100_7!$U$339,ROWS($U$339:U389)-1,COLUMNS($U$339:U389)-1),\"\")","v":{"$error":"#VALUE!"}},{"$f":"IF(OFFSET([1]DE100_7!$V$339,ROWS($V$339:V389)-1,COLUMNS($V$339:V389)-1)<>\"\",OFFSET([1]DE100_7!$V$339,ROWS($V$339:V389)-1,COLUMNS($V$339:V389)-1),\"\")","v":{"$error":"#VALUE!"}}]
[{"$f":"IF(OFFSET([1]DE100_7!$C$339,ROWS($C$339:C390)-1,COLUMNS($C$339:C390)-1)<>\"\",OFFSET([1]DE100_7!$C$339,ROWS($C$339:C390)-1,COLUMNS($C$339:C390)-1),\"\")","v":{"$error":"#VALUE!"}},{"$f":"IF(OFFSET([1]DE100_7!$D$339,ROWS($D$339:D390)-1,COLUMNS($D$339:D390)-1)<>\"\",OFFSET([1]DE100_7!$D$339,ROWS($D$339:D390)-1,COLUMNS($D$339:D390)-1),\"\")","v":{"$error":"#VALUE!"}},{"$f":"IF(OFFSET([1]DE100_7!$E$339,ROWS($E$339:E390)-1,COLUMNS($E$339:E390)-1)<>\"\",OFFSET([1]DE100_7!$E$339,ROWS($E$339:E390)-1,COLUMNS($E$339:E390)-1),\"\")","v":{"$error":"#VALUE!"}},{"$f":"IF(OFFSET([1]DE100_7!$F$339,ROWS($F$339:F390)-1,COLUMNS($F$339:F390)-1)<>\"\",OFFSET([1]DE100_7!$F$339,ROWS($F$339:F390)-1,COLUMNS($F$339:F390)-1),\"\")","v":{"$error":"#VALUE!"}},{"$f":"IF(OFFSET([1]DE100_7!$G$339,ROWS($G$339:G390)-1,COLUMNS($G$339:G390)-1)<>\"\",OFFSET([1]DE100_7!$G$339,ROWS($G$339:G390)-1,COLUMNS($G$339:G390)-1),\"\")","v":{"$error":"#VALUE!"}},{"$f":"IF(OFFSET([1]DE100_7!$H$339,ROWS($H$339:H390)-1,COLUMNS($H$339:H390)-1)<>\"\",OFFSET([1]DE100_7!$H$339,ROWS($H$339:H390)-1,COLUMNS($H$339:H390)-1),\"\")","v":{"$error":"#VALUE!"}},{"$f":"IF(OFFSET([1]DE100_7!$I$339,ROWS($I$339:I390)-1,COLUMNS($I$339:I390)-1)<>\"\",OFFSET([1]DE100_7!$I$339,ROWS($I$339:I390)-1,COLUMNS($I$339:I390)-1),\"\")","v":{"$error":"#VALUE!"}},{"$f":"IF(OFFSET([1]DE100_7!$J$339,ROWS($J$339:J390)-1,COLUMNS($J$339:J390)-1)<>\"\",OFFSET([1]DE100_7!$J$339,ROWS($J$339:J390)-1,COLUMNS($J$339:J390)-1),\"\")","v":{"$error":"#VALUE!"}},{"$f":"IF(OFFSET([1]DE100_7!$K$339,ROWS($K$339:K390)-1,COLUMNS($K$339:K390)-1)<>\"\",OFFSET([1]DE100_7!$K$339,ROWS($K$339:K390)-1,COLUMNS($K$339:K390)-1),\"\")","v":{"$error":"#VALUE!"}},{"$f":"IF(OFFSET([1]DE100_7!$L$339,ROWS($L$339:L390)-1,COLUMNS($L$339:L390)-1)<>\"\",OFFSET([1]DE100_7!$L$339,ROWS($L$339:L390)-1,COLUMNS($L$339:L390)-1),\"\")","v":{"$error":"#VALUE!"}},{"$f":"IF(OFFSET([1]DE100_7!$M$339,ROWS($M$339:M390)-1,COLUMNS($M$339:M390)-1)<>\"\",OFFSET([1]DE100_7!$M$339,ROWS($M$339:M390)-1,COLUMNS($M$339:M390)-1),\"\")","v":{"$error":"#VALUE!"}},{"$f":"IF(OFFSET([1]DE100_7!$N$339,ROWS($N$339:N390)-1,COLUMNS($N$339:N390)-1)<>\"\",OFFSET([1]DE100_7!$N$339,ROWS($N$339:N390)-1,COLUMNS($N$339:N390)-1),\"\")","v":{"$error":"#VALUE!"}},{"$f":"IF(OFFSET([1]DE100_7!$O$339,ROWS($O$339:O390)-1,COLUMNS($O$339:O390)-1)<>\"\",OFFSET([1]DE100_7!$O$339,ROWS($O$339:O390)-1,COLUMNS($O$339:O390)-1),\"\")","v":{"$error":"#VALUE!"}},{"$f":"IF(OFFSET([1]DE100_7!$P$339,ROWS($P$339:P390)-1,COLUMNS($P$339:P390)-1)<>\"\",OFFSET([1]DE100_7!$P$339,ROWS($P$339:P390)-1,COLUMNS($P$339:P390)-1),\"\")","v":{"$error":"#VALUE!"}},{"$f":"IF(OFFSET([1]DE100_7!$Q$339,ROWS($Q$339:Q390)-1,COLUMNS($Q$339:Q390)-1)<>\"\",OFFSET([1]DE100_7!$Q$339,ROWS($Q$339:Q390)-1,COLUMNS($Q$339:Q390)-1),\"\")","v":{"$error":"#VALUE!"}},{"$f":"IF(OFFSET([1]DE100_7!$R$339,ROWS($R$339:R390)-1,COLUMNS($R$339:R390)-1)<>\"\",OFFSET([1]DE100_7!$R$339,ROWS($R$339:R390)-1,COLUMNS($R$339:R390)-1),\"\")","v":{"$error":"#VALUE!"}},{"$f":"IF(OFFSET([1]DE100_7!$S$339,ROWS($S$339:S390)-1,COLUMNS($S$339:S390)-1)<>\"\",OFFSET([1]DE100_7!$S$339,ROWS($S$339:S390)-1,COLUMNS($S$339:S390)-1),\"\")","v":{"$error":"#VALUE!"}},{"$f":"IF(OFFSET([1]DE100_7!$T$339,ROWS($T$339:T390)-1,COLUMNS($T$339:T390)-1)<>\"\",OFFSET([1]DE100_7!$T$339,ROWS($T$339:T390)-1,COLUMNS($T$339:T390)-1),\"\")","v":{"$error":"#VALUE!"}},{"$f":"IF(OFFSET([1]DE100_7!$U$339,ROWS($U$339:U390)-1,COLUMNS($U$339:U390)-1)<>\"\",OFFSET([1]DE100_7!$U$339,ROWS($U$339:U390)-1,COLUMNS($U$339:U390)-1),\"\")","v":{"$error":"#VALUE!"}},{"$f":"IF(OFFSET([1]DE100_7!$V$339,ROWS($V$339:V390)-1,COLUMNS($V$339:V390)-1)<>\"\",OFFSET([1]DE100_7!$V$339,ROWS($V$339:V390)-1,COLUMNS($V$339:V390)-1),\"\")","v":{"$error":"#VALUE!"}}]
[{"$f":"IF(OFFSET([1]DE100_7!$C$339,ROWS($C$339:C391)-1,COLUMNS($C$339:C391)-1)<>\"\",OFFSET([1]DE100_7!$C$339,ROWS($C$339:C391)-1,COLUMNS($C$339:C391)-1),\"\")","v":{"$error":"#VALUE!"}},{"$f":"IF(OFFSET([1]DE100_7!$D$339,ROWS($D$339:D391)-1,COLUMNS($D$339:D391)-1)<>\"\",OFFSET([1]DE100_7!$D$339,ROWS($D$339:D391)-1,COLUMNS($D$339:D391)-1),\"\")","v":{"$error":"#VALUE!"}},{"$f":"IF(OFFSET([1]DE100_7!$E$339,ROWS($E$339:E391)-1,COLUMNS($E$339:E391)-1)<>\"\",OFFSET([1]DE100_7!$E$339,ROWS($E$339:E391)-1,COLUMNS($E$339:E391)-1),\"\")","v":{"$error":"#VALUE!"}},{"$f":"IF(OFFSET([1]DE100_7!$F$339,ROWS($F$339:F391)-1,COLUMNS($F$339:F391)-1)<>\"\",OFFSET([1]DE100_7!$F$339,ROWS($F$339:F391)-1,COLUMNS($F$339:F391)-1),\"\")","v":{"$error":"#VALUE!"}},{"$f":"IF(OFFSET([1]DE100_7!$G$339,ROWS($G$339:G391)-1,COLUMNS($G$339:G391)-1)<>\"\",OFFSET([1]DE100_7!$G$339,ROWS($G$339:G391)-1,COLUMNS($G$339:G391)-1),\"\")","v":{"$error":"#VALUE!"}},{"$f":"IF(OFFSET([1]DE100_7!$H$339,ROWS($H$339:H391)-1,COLUMNS($H$339:H391)-1)<>\"\",OFFSET([1]DE100_7!$H$339,ROWS($H$339:H391)-1,COLUMNS($H$339:H391)-1),\"\")","v":{"$error":"#VALUE!"}},{"$f":"IF(OFFSET([1]DE100_7!$I$339,ROWS($I$339:I391)-1,COLUMNS($I$339:I391)-1)<>\"\",OFFSET([1]DE100_7!$I$339,ROWS($I$339:I391)-1,COLUMNS($I$339:I391)-1),\"\")","v":{"$error":"#VALUE!"}},{"$f":"IF(OFFSET([1]DE100_7!$J$339,ROWS($J$339:J391)-1,COLUMNS($J$339:J391)-1)<>\"\",OFFSET([1]DE100_7!$J$339,ROWS($J$339:J391)-1,COLUMNS($J$339:J391)-1),\"\")","v":{"$error":"#VALUE!"}},{"$f":"IF(OFFSET([1]DE100_7!$K$339,ROWS($K$339:K391)-1,COLUMNS($K$339:K391)-1)<>\"\",OFFSET([1]DE100_7!$K$339,ROWS($K$339:K391)-1,COLUMNS($K$339:K391)-1),\"\")","v":{"$error":"#VALUE!"}},{"$f":"IF(OFFSET([1]DE100_7!$L$339,ROWS($L$339:L391)-1,COLUMNS($L$339:L391)-1)<>\"\",OFFSET([1]DE100_7!$L$339,ROWS($L$339:L391)-1,COLUMNS($L$339:L391)-1),\"\")","v":{"$error":"#VALUE!"}},{"$f":"IF(OFFSET([1]DE100_7!$M$339,ROWS($M$339:M391)-1,COLUMNS($M$339:M391)-1)<>\"\",OFFSET([1]DE100_7!$M$339,ROWS($M$339:M391)-1,COLUMNS($M$339:M391)-1),\"\")","v":{"$error":"#VALUE!"}},{"$f":"IF(OFFSET([1]DE100_7!$N$339,ROWS($N$339:N391)-1,COLUMNS($N$339:N391)-1)<>\"\",OFFSET([1]DE100_7!$N$339,ROWS($N$339:N391)-1,COLUMNS($N$339:N391)-1),\"\")","v":{"$error":"#VALUE!"}},{"$f":"IF(OFFSET([1]DE100_7!$O$339,ROWS($O$339:O391)-1,COLUMNS($O$339:O391)-1)<>\"\",OFFSET([1]DE100_7!$O$339,ROWS($O$339:O391)-1,COLUMNS($O$339:O391)-1),\"\")","v":{"$error":"#VALUE!"}},{"$f":"IF(OFFSET([1]DE100_7!$P$339,ROWS($P$339:P391)-1,COLUMNS($P$339:P391)-1)<>\"\",OFFSET([1]DE100_7!$P$339,ROWS($P$339:P391)-1,COLUMNS($P$339:P391)-1),\"\")","v":{"$error":"#VALUE!"}},{"$f":"IF(OFFSET([1]DE100_7!$Q$339,ROWS($Q$339:Q391)-1,COLUMNS($Q$339:Q391)-1)<>\"\",OFFSET([1]DE100_7!$Q$339,ROWS($Q$339:Q391)-1,COLUMNS($Q$339:Q391)-1),\"\")","v":{"$error":"#VALUE!"}},{"$f":"IF(OFFSET([1]DE100_7!$R$339,ROWS($R$339:R391)-1,COLUMNS($R$339:R391)-1)<>\"\",OFFSET([1]DE100_7!$R$339,ROWS($R$339:R391)-1,COLUMNS($R$339:R391)-1),\"\")","v":{"$error":"#VALUE!"}},{"$f":"IF(OFFSET([1]DE100_7!$S$339,ROWS($S$339:S391)-1,COLUMNS($S$339:S391)-1)<>\"\",OFFSET([1]DE100_7!$S$339,ROWS($S$339:S391)-1,COLUMNS($S$339:S391)-1),\"\")","v":{"$error":"#VALUE!"}},{"$f":"IF(OFFSET([1]DE100_7!$T$339,ROWS($T$339:T391)-1,COLUMNS($T$339:T391)-1)<>\"\",OFFSET([1]DE100_7!$T$339,ROWS($T$339:T391)-1,COLUMNS($T$339:T391)-1),\"\")","v":{"$error":"#VALUE!"}},{"$f":"IF(OFFSET([1]DE100_7!$U$339,ROWS($U$339:U391)-1,COLUMNS($U$339:U391)-1)<>\"\",OFFSET([1]DE100_7!$U$339,ROWS($U$339:U391)-1,COLUMNS($U$339:U391)-1),\"\")","v":{"$error":"#VALUE!"}},{"$f":"IF(OFFSET([1]DE100_7!$V$339,ROWS($V$339:V391)-1,COLUMNS($V$339:V391)-1)<>\"\",OFFSET([1]DE100_7!$V$339,ROWS($V$339:V391)-1,COLUMNS($V$339:V391)-1),\"\")","v":{"$error":"#VALUE!"}}]
[{"$f":"IF(OFFSET([1]DE100_7!$C$339,ROWS($C$339:C392)-1,COLUMNS($C$339:C392)-1)<>\"\",OFFSET([1]DE100_7!$C$339,ROWS($C$339:C392)-1,COLUMNS($C$339:C392)-1),\"\")","v":{"$error":"#VALUE!"}},{"$f":"IF(OFFSET([1]DE100_7!$D$339,ROWS($D$339:D392)-1,COLUMNS($D$339:D392)-1)<>\"\",OFFSET([1]DE100_7!$D$339,ROWS($D$339:D392)-1,COLUMNS($D$339:D392)-1),\"\")","v":{"$error":"#VALUE!"}},{"$f":"IF(OFFSET([1]DE100_7!$E$339,ROWS($E$339:E392)-1,COLUMNS($E$339:E392)-1)<>\"\",OFFSET([1]DE100_7!$E$339,ROWS($E$339:E392)-1,COLUMNS($E$339:E392)-1),\"\")","v":{"$error":"#VALUE!"}},{"$f":"IF(OFFSET([1]DE100_7!$F$339,ROWS($F$339:F392)-1,COLUMNS($F$339:F392)-1)<>\"\",OFFSET([1]DE100_7!$F$339,ROWS($F$339:F392)-1,COLUMNS($F$339:F392)-1),\"\")","v":{"$error":"#VALUE!"}},{"$f":"IF(OFFSET([1]DE100_7!$G$339,ROWS($G$339:G392)-1,COLUMNS($G$339:G392)-1)<>\"\",OFFSET([1]DE100_7!$G$339,ROWS($G$339:G392)-1,COLUMNS($G$339:G392)-1),\"\")","v":{"$error":"#VALUE!"}},{"$f":"IF(OFFSET([1]DE100_7!$H$339,ROWS($H$339:H392)-1,COLUMNS($H$339:H392)-1)<>\"\",OFFSET([1]DE100_7!$H$339,ROWS($H$339:H392)-1,COLUMNS($H$339:H392)-1),\"\")","v":{"$error":"#VALUE!"}},{"$f":"IF(OFFSET([1]DE100_7!$I$339,ROWS($I$339:I392)-1,COLUMNS($I$339:I392)-1)<>\"\",OFFSET([1]DE100_7!$I$339,ROWS($I$339:I392)-1,COLUMNS($I$339:I392)-1),\"\")","v":{"$error":"#VALUE!"}},{"$f":"IF(OFFSET([1]DE100_7!$J$339,ROWS($J$339:J392)-1,COLUMNS($J$339:J392)-1)<>\"\",OFFSET([1]DE100_7!$J$339,ROWS($J$339:J392)-1,COLUMNS($J$339:J392)-1),\"\")","v":{"$error":"#VALUE!"}},{"$f":"IF(OFFSET([1]DE100_7!$K$339,ROWS($K$339:K392)-1,COLUMNS($K$339:K392)-1)<>\"\",OFFSET([1]DE100_7!$K$339,ROWS($K$339:K392)-1,COLUMNS($K$339:K392)-1),\"\")","v":{"$error":"#VALUE!"}},{"$f":"IF(OFFSET([1]DE100_7!$L$339,ROWS($L$339:L392)-1,COLUMNS($L$339:L392)-1)<>\"\",OFFSET([1]DE100_7!$L$339,ROWS($L$339:L392)-1,COLUMNS($L$339:L392)-1),\"\")","v":{"$error":"#VALUE!"}},{"$f":"IF(OFFSET([1]DE100_7!$M$339,ROWS($M$339:M392)-1,COLUMNS($M$339:M392)-1)<>\"\",OFFSET([1]DE100_7!$M$339,ROWS($M$339:M392)-1,COLUMNS($M$339:M392)-1),\"\")","v":{"$error":"#VALUE!"}},{"$f":"IF(OFFSET([1]DE100_7!$N$339,ROWS($N$339:N392)-1,COLUMNS($N$339:N392)-1)<>\"\",OFFSET([1]DE100_7!$N$339,ROWS($N$339:N392)-1,COLUMNS($N$339:N392)-1),\"\")","v":{"$error":"#VALUE!"}},{"$f":"IF(OFFSET([1]DE100_7!$O$339,ROWS($O$339:O392)-1,COLUMNS($O$339:O392)-1)<>\"\",OFFSET([1]DE100_7!$O$339,ROWS($O$339:O392)-1,COLUMNS($O$339:O392)-1),\"\")","v":{"$error":"#VALUE!"}},{"$f":"IF(OFFSET([1]DE100_7!$P$339,ROWS($P$339:P392)-1,COLUMNS($P$339:P392)-1)<>\"\",OFFSET([1]DE100_7!$P$339,ROWS($P$339:P392)-1,COLUMNS($P$339:P392)-1),\"\")","v":{"$error":"#VALUE!"}},{"$f":"IF(OFFSET([1]DE100_7!$Q$339,ROWS($Q$339:Q392)-1,COLUMNS($Q$339:Q392)-1)<>\"\",OFFSET([1]DE100_7!$Q$339,ROWS($Q$339:Q392)-1,COLUMNS($Q$339:Q392)-1),\"\")","v":{"$error":"#VALUE!"}},{"$f":"IF(OFFSET([1]DE100_7!$R$339,ROWS($R$339:R392)-1,COLUMNS($R$339:R392)-1)<>\"\",OFFSET([1]DE100_7!$R$339,ROWS($R$339:R392)-1,COLUMNS($R$339:R392)-1),\"\")","v":{"$error":"#VALUE!"}},{"$f":"IF(OFFSET([1]DE100_7!$S$339,ROWS($S$339:S392)-1,COLUMNS($S$339:S392)-1)<>\"\",OFFSET([1]DE100_7!$S$339,ROWS($S$339:S392)-1,COLUMNS($S$339:S392)-1),\"\")","v":{"$error":"#VALUE!"}},{"$f":"IF(OFFSET([1]DE100_7!$T$339,ROWS($T$339:T392)-1,COLUMNS($T$339:T392)-1)<>\"\",OFFSET([1]DE100_7!$T$339,ROWS($T$339:T392)-1,COLUMNS($T$339:T392)-1),\"\")","v":{"$error":"#VALUE!"}},{"$f":"IF(OFFSET([1]DE100_7!$U$339,ROWS($U$339:U392)-1,COLUMNS($U$339:U392)-1)<>\"\",OFFSET([1]DE100_7!$U$339,ROWS($U$339:U392)-1,COLUMNS($U$339:U392)-1),\"\")","v":{"$error":"#VALUE!"}},{"$f":"IF(OFFSET([1]DE100_7!$V$339,ROWS($V$339:V392)-1,COLUMNS($V$339:V392)-1)<>\"\",OFFSET([1]DE100_7!$V$339,ROWS($V$339:V392)-1,COLUMNS($V$339:V392)-1),\"\")","v":{"$error":"#VALUE!"}}]
[{"$f":"IF(OFFSET([1]DE100_7!$C$339,ROWS($C$339:C393)-1,COLUMNS($C$339:C393)-1)<>\"\",OFFSET([1]DE100_7!$C$339,ROWS($C$339:C393)-1,COLUMNS($C$339:C393)-1),\"\")","v":{"$error":"#VALUE!"}},{"$f":"IF(OFFSET([1]DE100_7!$D$339,ROWS($D$339:D393)-1,COLUMNS($D$339:D393)-1)<>\"\",OFFSET([1]DE100_7!$D$339,ROWS($D$339:D393)-1,COLUMNS($D$339:D393)-1),\"\")","v":{"$error":"#VALUE!"}},{"$f":"IF(OFFSET([1]DE100_7!$E$339,ROWS($E$339:E393)-1,COLUMNS($E$339:E393)-1)<>\"\",OFFSET([1]DE100_7!$E$339,ROWS($E$339:E393)-1,COLUMNS($E$339:E393)-1),\"\")","v":{"$error":"#VALUE!"}},{"$f":"IF(OFFSET([1]DE100_7!$F$339,ROWS($F$339:F393)-1,COLUMNS($F$339:F393)-1)<>\"\",OFFSET([1]DE100_7!$F$339,ROWS($F$339:F393)-1,COLUMNS($F$339:F393)-1),\"\")","v":{"$error":"#VALUE!"}},{"$f":"IF(OFFSET([1]DE100_7!$G$339,ROWS($G$339:G393)-1,COLUMNS($G$339:G393)-1)<>\"\",OFFSET([1]DE100_7!$G$339,ROWS($G$339:G393)-1,COLUMNS($G$339:G393)-1),\"\")","v":{"$error":"#VALUE!"}},{"$f":"IF(OFFSET([1]DE100_7!$H$339,ROWS($H$339:H393)-1,COLUMNS($H$339:H393)-1)<>\"\",OFFSET([1]DE100_7!$H$339,ROWS($H$339:H393)-1,COLUMNS($H$339:H393)-1),\"\")","v":{"$error":"#VALUE!"}},{"$f":"IF(OFFSET([1]DE100_7!$I$339,ROWS($I$339:I393)-1,COLUMNS($I$339:I393)-1)<>\"\",OFFSET([1]DE100_7!$I$339,ROWS($I$339:I393)-1,COLUMNS($I$339:I393)-1),\"\")","v":{"$error":"#VALUE!"}},{"$f":"IF(OFFSET([1]DE100_7!$J$339,ROWS($J$339:J393)-1,COLUMNS($J$339:J393)-1)<>\"\",OFFSET([1]DE100_7!$J$339,ROWS($J$339:J393)-1,COLUMNS($J$339:J393)-1),\"\")","v":{"$error":"#VALUE!"}},{"$f":"IF(OFFSET([1]DE100_7!$K$339,ROWS($K$339:K393)-1,COLUMNS($K$339:K393)-1)<>\"\",OFFSET([1]DE100_7!$K$339,ROWS($K$339:K393)-1,COLUMNS($K$339:K393)-1),\"\")","v":{"$error":"#VALUE!"}},{"$f":"IF(OFFSET([1]DE100_7!$L$339,ROWS($L$339:L393)-1,COLUMNS($L$339:L393)-1)<>\"\",OFFSET([1]DE100_7!$L$339,ROWS($L$339:L393)-1,COLUMNS($L$339:L393)-1),\"\")","v":{"$error":"#VALUE!"}},{"$f":"IF(OFFSET([1]DE100_7!$M$339,ROWS($M$339:M393)-1,COLUMNS($M$339:M393)-1)<>\"\",OFFSET([1]DE100_7!$M$339,ROWS($M$339:M393)-1,COLUMNS($M$339:M393)-1),\"\")","v":{"$error":"#VALUE!"}},{"$f":"IF(OFFSET([1]DE100_7!$N$339,ROWS($N$339:N393)-1,COLUMNS($N$339:N393)-1)<>\"\",OFFSET([1]DE100_7!$N$339,ROWS($N$339:N393)-1,COLUMNS($N$339:N393)-1),\"\")","v":{"$error":"#VALUE!"}},{"$f":"IF(OFFSET([1]DE100_7!$O$339,ROWS($O$339:O393)-1,COLUMNS($O$339:O393)-1)<>\"\",OFFSET([1]DE100_7!$O$339,ROWS($O$339:O393)-1,COLUMNS($O$339:O393)-1),\"\")","v":{"$error":"#VALUE!"}},{"$f":"IF(OFFSET([1]DE100_7!$P$339,ROWS($P$339:P393)-1,COLUMNS($P$339:P393)-1)<>\"\",OFFSET([1]DE100_7!$P$339,ROWS($P$339:P393)-1,COLUMNS($P$339:P393)-1),\"\")","v":{"$error":"#VALUE!"}},{"$f":"IF(OFFSET([1]DE100_7!$Q$339,ROWS($Q$339:Q393)-1,COLUMNS($Q$339:Q393)-1)<>\"\",OFFSET([1]DE100_7!$Q$339,ROWS($Q$339:Q393)-1,COLUMNS($Q$339:Q393)-1),\"\")","v":{"$error":"#VALUE!"}},{"$f":"IF(OFFSET([1]DE100_7!$R$339,ROWS($R$339:R393)-1,COLUMNS($R$339:R393)-1)<>\"\",OFFSET([1]DE100_7!$R$339,ROWS($R$339:R393)-1,COLUMNS($R$339:R393)-1),\"\")","v":{"$error":"#VALUE!"}},{"$f":"IF(OFFSET([1]DE100_7!$S$339,ROWS($S$339:S393)-1,COLUMNS($S$339:S393)-1)<>\"\",OFFSET([1]DE100_7!$S$339,ROWS($S$339:S393)-1,COLUMNS($S$339:S393)-1),\"\")","v":{"$error":"#VALUE!"}},{"$f":"IF(OFFSET([1]DE100_7!$T$339,ROWS($T$339:T393)-1,COLUMNS($T$339:T393)-1)<>\"\",OFFSET([1]DE100_7!$T$339,ROWS($T$339:T393)-1,COLUMNS($T$339:T393)-1),\"\")","v":{"$error":"#VALUE!"}},{"$f":"IF(OFFSET([1]DE100_7!$U$339,ROWS($U$339:U393)-1,COLUMNS($U$339:U393)-1)<>\"\",OFFSET([1]DE100_7!$U$339,ROWS($U$339:U393)-1,COLUMNS($U$339:U393)-1),\"\")","v":{"$error":"#VALUE!"}},{"$f":"IF(OFFSET([1]DE100_7!$V$339,ROWS($V$339:V393)-1,COLUMNS($V$339:V393)-1)<>\"\",OFFSET([1]DE100_7!$V$339,ROWS($V$339:V393)-1,COLUMNS($V$339:V393)-1),\"\")","v":{"$error":"#VALUE!"}}]
[{"$f":"IF(OFFSET([1]DE100_7!$C$339,ROWS($C$339:C394)-1,COLUMNS($C$339:C394)-1)<>\"\",OFFSET([1]DE100_7!$C$339,ROWS($C$339:C394)-1,COLUMNS($C$339:C394)-1),\"\")","v":{"$error":"#VALUE!"}},{"$f":"IF(OFFSET([1]DE100_7!$D$339,ROWS($D$339:D394)-1,COLUMNS($D$339:D394)-1)<>\"\",OFFSET([1]DE100_7!$D$339,ROWS($D$339:D394)-1,COLUMNS($D$339:D394)-1),\"\")","v":{"$error":"#VALUE!"}},{"$f":"IF(OFFSET([1]DE100_7!$E$339,ROWS($E$339:E394)-1,COLUMNS($E$339:E394)-1)<>\"\",OFFSET([1]DE100_7!$E$339,ROWS($E$339:E394)-1,COLUMNS($E$339:E394)-1),\"\")","v":{"$error":"#VALUE!"}},{"$f":"IF(OFFSET([1]DE100_7!$F$339,ROWS($F$339:F394)-1,COLUMNS($F$339:F394)-1)<>\"\",OFFSET([1]DE100_7!$F$339,ROWS($F$339:F394)-1,COLUMNS($F$339:F394)-1),\"\")","v":{"$error":"#VALUE!"}},{"$f":"IF(OFFSET([1]DE100_7!$G$339,ROWS($G$339:G394)-1,COLUMNS($G$339:G394)-1)<>\"\",OFFSET([1]DE100_7!$G$339,ROWS($G$339:G394)-1,COLUMNS($G$339:G394)-1),\"\")","v":{"$error":"#VALUE!"}},{"$f":"IF(OFFSET([1]DE100_7!$H$339,ROWS($H$339:H394)-1,COLUMNS($H$339:H394)-1)<>\"\",OFFSET([1]DE100_7!$H$339,ROWS($H$339:H394)-1,COLUMNS($H$339:H394)-1),\"\")","v":{"$error":"#VALUE!"}},{"$f":"IF(OFFSET([1]DE100_7!$I$339,ROWS($I$339:I394)-1,COLUMNS($I$339:I394)-1)<>\"\",OFFSET([1]DE100_7!$I$339,ROWS($I$339:I394)-1,COLUMNS($I$339:I394)-1),\"\")","v":{"$error":"#VALUE!"}},{"$f":"IF(OFFSET([1]DE100_7!$J$339,ROWS($J$339:J394)-1,COLUMNS($J$339:J394)-1)<>\"\",OFFSET([1]DE100_7!$J$339,ROWS($J$339:J394)-1,COLUMNS($J$339:J394)-1),\"\")","v":{"$error":"#VALUE!"}},{"$f":"IF(OFFSET([1]DE100_7!$K$339,ROWS($K$339:K394)-1,COLUMNS($K$339:K394)-1)<>\"\",OFFSET([1]DE100_7!$K$339,ROWS($K$339:K394)-1,COLUMNS($K$339:K394)-1),\"\")","v":{"$error":"#VALUE!"}},{"$f":"IF(OFFSET([1]DE100_7!$L$339,ROWS($L$339:L394)-1,COLUMNS($L$339:L394)-1)<>\"\",OFFSET([1]DE100_7!$L$339,ROWS($L$339:L394)-1,COLUMNS($L$339:L394)-1),\"\")","v":{"$error":"#VALUE!"}},{"$f":"IF(OFFSET([1]DE100_7!$M$339,ROWS($M$339:M394)-1,COLUMNS($M$339:M394)-1)<>\"\",OFFSET([1]DE100_7!$M$339,ROWS($M$339:M394)-1,COLUMNS($M$339:M394)-1),\"\")","v":{"$error":"#VALUE!"}},{"$f":"IF(OFFSET([1]DE100_7!$N$339,ROWS($N$339:N394)-1,COLUMNS($N$339:N394)-1)<>\"\",OFFSET([1]DE100_7!$N$339,ROWS($N$339:N394)-1,COLUMNS($N$339:N394)-1),\"\")","v":{"$error":"#VALUE!"}},{"$f":"IF(OFFSET([1]DE100_7!$O$339,ROWS($O$339:O394)-1,COLUMNS($O$339:O394)-1)<>\"\",OFFSET([1]DE100_7!$O$339,ROWS($O$339:O394)-1,COLUMNS($O$339:O394)-1),\"\")","v":{"$error":"#VALUE!"}},{"$f":"IF(OFFSET([1]DE100_7!$P$339,ROWS($P$339:P394)-1,COLUMNS($P$339:P394)-1)<>\"\",OFFSET([1]DE100_7!$P$339,ROWS($P$339:P394)-1,COLUMNS($P$339:P394)-1),\"\")","v":{"$error":"#VALUE!"}},{"$f":"IF(OFFSET([1]DE100_7!$Q$339,ROWS($Q$339:Q394)-1,COLUMNS($Q$339:Q394)-1)<>\"\",OFFSET([1]DE100_7!$Q$339,ROWS($Q$339:Q394)-1,COLUMNS($Q$339:Q394)-1),\"\")","v":{"$error":"#VALUE!"}},{"$f":"IF(OFFSET([1]DE100_7!$R$339,ROWS($R$339:R394)-1,COLUMNS($R$339:R394)-1)<>\"\",OFFSET([1]DE100_7!$R$339,ROWS($R$339:R394)-1,COLUMNS($R$339:R394)-1),\"\")","v":{"$error":"#VALUE!"}},{"$f":"IF(OFFSET([1]DE100_7!$S$339,ROWS($S$339:S394)-1,COLUMNS($S$339:S394)-1)<>\"\",OFFSET([1]DE100_7!$S$339,ROWS($S$339:S394)-1,COLUMNS($S$339:S394)-1),\"\")","v":{"$error":"#VALUE!"}},{"$f":"IF(OFFSET([1]DE100_7!$T$339,ROWS($T$339:T394)-1,COLUMNS($T$339:T394)-1)<>\"\",OFFSET([1]DE100_7!$T$339,ROWS($T$339:T394)-1,COLUMNS($T$339:T394)-1),\"\")","v":{"$error":"#VALUE!"}},{"$f":"IF(OFFSET([1]DE100_7!$U$339,ROWS($U$339:U394)-1,COLUMNS($U$339:U394)-1)<>\"\",OFFSET([1]DE100_7!$U$339,ROWS($U$339:U394)-1,COLUMNS($U$339:U394)-1),\"\")","v":{"$error":"#VALUE!"}},{"$f":"IF(OFFSET([1]DE100_7!$V$339,ROWS($V$339:V394)-1,COLUMNS($V$339:V394)-1)<>\"\",OFFSET([1]DE100_7!$V$339,ROWS($V$339:V394)-1,COLUMNS($V$339:V394)-1),\"\")","v":{"$error":"#VALUE!"}}]
[{"$f":"IF(OFFSET([1]DE100_7!$C$339,ROWS($C$339:C395)-1,COLUMNS($C$339:C395)-1)<>\"\",OFFSET([1]DE100_7!$C$339,ROWS($C$339:C395)-1,COLUMNS($C$339:C395)-1),\"\")","v":{"$error":"#VALUE!"}},{"$f":"IF(OFFSET([1]DE100_7!$D$339,ROWS($D$339:D395)-1,COLUMNS($D$339:D395)-1)<>\"\",OFFSET([1]DE100_7!$D$339,ROWS($D$339:D395)-1,COLUMNS($D$339:D395)-1),\"\")","v":{"$error":"#VALUE!"}},{"$f":"IF(OFFSET([1]DE100_7!$E$339,ROWS($E$339:E395)-1,COLUMNS($E$339:E395)-1)<>\"\",OFFSET([1]DE100_7!$E$339,ROWS($E$339:E395)-1,COLUMNS($E$339:E395)-1),\"\")","v":{"$error":"#VALUE!"}},{"$f":"IF(OFFSET([1]DE100_7!$F$339,ROWS($F$339:F395)-1,COLUMNS($F$339:F395)-1)<>\"\",OFFSET([1]DE100_7!$F$339,ROWS($F$339:F395)-1,COLUMNS($F$339:F395)-1),\"\")","v":{"$error":"#VALUE!"}},{"$f":"IF(OFFSET([1]DE100_7!$G$339,ROWS($G$339:G395)-1,COLUMNS($G$339:G395)-1)<>\"\",OFFSET([1]DE100_7!$G$339,ROWS($G$339:G395)-1,COLUMNS($G$339:G395)-1),\"\")","v":{"$error":"#VALUE!"}},{"$f":"IF(OFFSET([1]DE100_7!$H$339,ROWS($H$339:H395)-1,COLUMNS($H$339:H395)-1)<>\"\",OFFSET([1]DE100_7!$H$339,ROWS($H$339:H395)-1,COLUMNS($H$339:H395)-1),\"\")","v":{"$error":"#VALUE!"}},{"$f":"IF(OFFSET([1]DE100_7!$I$339,ROWS($I$339:I395)-1,COLUMNS($I$339:I395)-1)<>\"\",OFFSET([1]DE100_7!$I$339,ROWS($I$339:I395)-1,COLUMNS($I$339:I395)-1),\"\")","v":{"$error":"#VALUE!"}},{"$f":"IF(OFFSET([1]DE100_7!$J$339,ROWS($J$339:J395)-1,COLUMNS($J$339:J395)-1)<>\"\",OFFSET([1]DE100_7!$J$339,ROWS($J$339:J395)-1,COLUMNS($J$339:J395)-1),\"\")","v":{"$error":"#VALUE!"}},{"$f":"IF(OFFSET([1]DE100_7!$K$339,ROWS($K$339:K395)-1,COLUMNS($K$339:K395)-1)<>\"\",OFFSET([1]DE100_7!$K$339,ROWS($K$339:K395)-1,COLUMNS($K$339:K395)-1),\"\")","v":{"$error":"#VALUE!"}},{"$f":"IF(OFFSET([1]DE100_7!$L$339,ROWS($L$339:L395)-1,COLUMNS($L$339:L395)-1)<>\"\",OFFSET([1]DE100_7!$L$339,ROWS($L$339:L395)-1,COLUMNS($L$339:L395)-1),\"\")","v":{"$error":"#VALUE!"}},{"$f":"IF(OFFSET([1]DE100_7!$M$339,ROWS($M$339:M395)-1,COLUMNS($M$339:M395)-1)<>\"\",OFFSET([1]DE100_7!$M$339,ROWS($M$339:M395)-1,COLUMNS($M$339:M395)-1),\"\")","v":{"$error":"#VALUE!"}},{"$f":"IF(OFFSET([1]DE100_7!$N$339,ROWS($N$339:N395)-1,COLUMNS($N$339:N395)-1)<>\"\",OFFSET([1]DE100_7!$N$339,ROWS($N$339:N395)-1,COLUMNS($N$339:N395)-1),\"\")","v":{"$error":"#VALUE!"}},{"$f":"IF(OFFSET([1]DE100_7!$O$339,ROWS($O$339:O395)-1,COLUMNS($O$339:O395)-1)<>\"\",OFFSET([1]DE100_7!$O$339,ROWS($O$339:O395)-1,COLUMNS($O$339:O395)-1),\"\")","v":{"$error":"#VALUE!"}},{"$f":"IF(OFFSET([1]DE100_7!$P$339,ROWS($P$339:P395)-1,COLUMNS($P$339:P395)-1)<>\"\",OFFSET([1]DE100_7!$P$339,ROWS($P$339:P395)-1,COLUMNS($P$339:P395)-1),\"\")","v":{"$error":"#VALUE!"}},{"$f":"IF(OFFSET([1]DE100_7!$Q$339,ROWS($Q$339:Q395)-1,COLUMNS($Q$339:Q395)-1)<>\"\",OFFSET([1]DE100_7!$Q$339,ROWS($Q$339:Q395)-1,COLUMNS($Q$339:Q395)-1),\"\")","v":{"$error":"#VALUE!"}},{"$f":"IF(OFFSET([1]DE100_7!$R$339,ROWS($R$339:R395)-1,COLUMNS($R$339:R395)-1)<>\"\",OFFSET([1]DE100_7!$R$339,ROWS($R$339:R395)-1,COLUMNS($R$339:R395)-1),\"\")","v":{"$error":"#VALUE!"}},{"$f":"IF(OFFSET([1]DE100_7!$S$339,ROWS($S$339:S395)-1,COLUMNS($S$339:S395)-1)<>\"\",OFFSET([1]DE100_7!$S$339,ROWS($S$339:S395)-1,COLUMNS($S$339:S395)-1),\"\")","v":{"$error":"#VALUE!"}},{"$f":"IF(OFFSET([1]DE100_7!$T$339,ROWS($T$339:T395)-1,COLUMNS($T$339:T395)-1)<>\"\",OFFSET([1]DE100_7!$T$339,ROWS($T$339:T395)-1,COLUMNS($T$339:T395)-1),\"\")","v":{"$error":"#VALUE!"}},{"$f":"IF(OFFSET([1]DE100_7!$U$339,ROWS($U$339:U395)-1,COLUMNS($U$339:U395)-1)<>\"\",OFFSET([1]DE100_7!$U$339,ROWS($U$339:U395)-1,COLUMNS($U$339:U395)-1),\"\")","v":{"$error":"#VALUE!"}},{"$f":"IF(OFFSET([1]DE100_7!$V$339,ROWS($V$339:V395)-1,COLUMNS($V$339:V395)-1)<>\"\",OFFSET([1]DE100_7!$V$339,ROWS($V$339:V395)-1,COLUMNS($V$339:V395)-1),\"\")","v":{"$error":"#VALUE!"}}]
[{"$f":"IF(OFFSET([1]DE100_7!$C$339,ROWS($C$339:C396)-1,COLUMNS($C$339:C396)-1)<>\"\",OFFSET([1]DE100_7!$C$339,ROWS($C$339:C396)-1,COLUMNS($C$339:C396)-1),\"\")","v":{"$error":"#VALUE!"}},{"$f":"IF(OFFSET([1]DE100_7!$D$339,ROWS($D$339:D396)-1,COLUMNS($D$339:D396)-1)<>\"\",OFFSET([1]DE100_7!$D$339,ROWS($D$339:D396)-1,COLUMNS($D$339:D396)-1),\"\")","v":{"$error":"#VALUE!"}},{"$f":"IF(OFFSET([1]DE100_7!$E$339,ROWS($E$339:E396)-1,COLUMNS($E$339:E396)-1)<>\"\",OFFSET([1]DE100_7!$E$339,ROWS($E$339:E396)-1,COLUMNS($E$339:E396)-1),\"\")","v":{"$error":"#VALUE!"}},{"$f":"IF(OFFSET([1]DE100_7!$F$339,ROWS($F$339:F396)-1,COLUMNS($F$339:F396)-1)<>\"\",OFFSET([1]DE100_7!$F$339,ROWS($F$339:F396)-1,COLUMNS($F$339:F396)-1),\"\")","v":{"$error":"#VALUE!"}},{"$f":"IF(OFFSET([1]DE100_7!$G$339,ROWS($G$339:G396)-1,COLUMNS($G$339:G396)-1)<>\"\",OFFSET([1]DE100_7!$G$339,ROWS($G$339:G396)-1,COLUMNS($G$339:G396)-1),\"\")","v":{"$error":"#VALUE!"}},{"$f":"IF(OFFSET([1]DE100_7!$H$339,ROWS($H$339:H396)-1,COLUMNS($H$339:H396)-1)<>\"\",OFFSET([1]DE100_7!$H$339,ROWS($H$339:H396)-1,COLUMNS($H$339:H396)-1),\"\")","v":{"$error":"#VALUE!"}},{"$f":"IF(OFFSET([1]DE100_7!$I$339,ROWS($I$339:I396)-1,COLUMNS($I$339:I396)-1)<>\"\",OFFSET([1]DE100_7!$I$339,ROWS($I$339:I396)-1,COLUMNS($I$339:I396)-1),\"\")","v":{"$error":"#VALUE!"}},{"$f":"IF(OFFSET([1]DE100_7!$J$339,ROWS($J$339:J396)-1,COLUMNS($J$339:J396)-1)<>\"\",OFFSET([1]DE100_7!$J$339,ROWS($J$339:J396)-1,COLUMNS($J$339:J396)-1),\"\")","v":{"$error":"#VALUE!"}},{"$f":"IF(OFFSET([1]DE100_7!$K$339,ROWS($K$339:K396)-1,COLUMNS($K$339:K396)-1)<>\"\",OFFSET([1]DE100_7!$K$339,ROWS($K$339:K396)-1,COLUMNS($K$339:K396)-1),\"\")","v":{"$error":"#VALUE!"}},{"$f":"IF(OFFSET([1]DE100_7!$L$339,ROWS($L$339:L396)-1,COLUMNS($L$339:L396)-1)<>\"\",OFFSET([1]DE100_7!$L$339,ROWS($L$339:L396)-1,COLUMNS($L$339:L396)-1),\"\")","v":{"$error":"#VALUE!"}},{"$f":"IF(OFFSET([1]DE100_7!$M$339,ROWS($M$339:M396)-1,COLUMNS($M$339:M396)-1)<>\"\",OFFSET([1]DE100_7!$M$339,ROWS($M$339:M396)-1,COLUMNS($M$339:M396)-1),\"\")","v":{"$error":"#VALUE!"}},{"$f":"IF(OFFSET([1]DE100_7!$N$339,ROWS($N$339:N396)-1,COLUMNS($N$339:N396)-1)<>\"\",OFFSET([1]DE100_7!$N$339,ROWS($N$339:N396)-1,COLUMNS($N$339:N396)-1),\"\")","v":{"$error":"#VALUE!"}},{"$f":"IF(OFFSET([1]DE100_7!$O$339,ROWS($O$339:O396)-1,COLUMNS($O$339:O396)-1)<>\"\",OFFSET([1]DE100_7!$O$339,ROWS($O$339:O396)-1,COLUMNS($O$339:O396)-1),\"\")","v":{"$error":"#VALUE!"}},{"$f":"IF(OFFSET([1]DE100_7!$P$339,ROWS($P$339:P396)-1,COLUMNS($P$339:P396)-1)<>\"\",OFFSET([1]DE100_7!$P$339,ROWS($P$339:P396)-1,COLUMNS($P$339:P396)-1),\"\")","v":{"$error":"#VALUE!"}},{"$f":"IF(OFFSET([1]DE100_7!$Q$339,ROWS($Q$339:Q396)-1,COLUMNS($Q$339:Q396)-1)<>\"\",OFFSET([1]DE100_7!$Q$339,ROWS($Q$339:Q396)-1,COLUMNS($Q$339:Q396)-1),\"\")","v":{"$error":"#VALUE!"}},{"$f":"IF(OFFSET([1]DE100_7!$R$339,ROWS($R$339:R396)-1,COLUMNS($R$339:R396)-1)<>\"\",OFFSET([1]DE100_7!$R$339,ROWS($R$339:R396)-1,COLUMNS($R$339:R396)-1),\"\")","v":{"$error":"#VALUE!"}},{"$f":"IF(OFFSET([1]DE100_7!$S$339,ROWS($S$339:S396)-1,COLUMNS($S$339:S396)-1)<>\"\",OFFSET([1]DE100_7!$S$339,ROWS($S$339:S396)-1,COLUMNS($S$339:S396)-1),\"\")","v":{"$error":"#VALUE!"}},{"$f":"IF(OFFSET([1]DE100_7!$T$339,ROWS($T$339:T396)-1,COLUMNS($T$339:T396)-1)<>\"\",OFFSET([1]DE100_7!$T$339,ROWS($T$339:T396)-1,COLUMNS($T$339:T396)-1),\"\")","v":{"$error":"#VALUE!"}},{"$f":"IF(OFFSET([1]DE100_7!$U$339,ROWS($U$339:U396)-1,COLUMNS($U$339:U396)-1)<>\"\",OFFSET([1]DE100_7!$U$339,ROWS($U$339:U396)-1,COLUMNS($U$339:U396)-1),\"\")","v":{"$error":"#VALUE!"}},{"$f":"IF(OFFSET([1]DE100_7!$V$339,ROWS($V$339:V396)-1,COLUMNS($V$339:V396)-1)<>\"\",OFFSET([1]DE100_7!$V$339,ROWS($V$339:V396)-1,COLUMNS($V$339:V396)-1),\"\")","v":{"$error":"#VALUE!"}}]
[{"$f":"IF(OFFSET([1]DE100_7!$C$339,ROWS($C$339:C397)-1,COLUMNS($C$339:C397)-1)<>\"\",OFFSET([1]DE100_7!$C$339,ROWS($C$339:C397)-1,COLUMNS($C$339:C397)-1),\"\")","v":{"$error":"#VALUE!"}},{"$f":"IF(OFFSET([1]DE100_7!$D$339,ROWS($D$339:D397)-1,COLUMNS($D$339:D397)-1)<>\"\",OFFSET([1]DE100_7!$D$339,ROWS($D$339:D397)-1,COLUMNS($D$339:D397)-1),\"\")","v":{"$error":"#VALUE!"}},{"$f":"IF(OFFSET([1]DE100_7!$E$339,ROWS($E$339:E397)-1,COLUMNS($E$339:E397)-1)<>\"\",OFFSET([1]DE100_7!$E$339,ROWS($E$339:E397)-1,COLUMNS($E$339:E397)-1),\"\")","v":{"$error":"#VALUE!"}},{"$f":"IF(OFFSET([1]DE100_7!$F$339,ROWS($F$339:F397)-1,COLUMNS($F$339:F397)-1)<>\"\",OFFSET([1]DE100_7!$F$339,ROWS($F$339:F397)-1,COLUMNS($F$339:F397)-1),\"\")","v":{"$error":"#VALUE!"}},{"$f":"IF(OFFSET([1]DE100_7!$G$339,ROWS($G$339:G397)-1,COLUMNS($G$339:G397)-1)<>\"\",OFFSET([1]DE100_7!$G$339,ROWS($G$339:G397)-1,COLUMNS($G$339:G397)-1),\"\")","v":{"$error":"#VALUE!"}},{"$f":"IF(OFFSET([1]DE100_7!$H$339,ROWS($H$339:H397)-1,COLUMNS($H$339:H397)-1)<>\"\",OFFSET([1]DE100_7!$H$339,ROWS($H$339:H397)-1,COLUMNS($H$339:H397)-1),\"\")","v":{"$error":"#VALUE!"}},{"$f":"IF(OFFSET([1]DE100_7!$I$339,ROWS($I$339:I397)-1,COLUMNS($I$339:I397)-1)<>\"\",OFFSET([1]DE100_7!$I$339,ROWS($I$339:I397)-1,COLUMNS($I$339:I397)-1),\"\")","v":{"$error":"#VALUE!"}},{"$f":"IF(OFFSET([1]DE100_7!$J$339,ROWS($J$339:J397)-1,COLUMNS($J$339:J397)-1)<>\"\",OFFSET([1]DE100_7!$J$339,ROWS($J$339:J397)-1,COLUMNS($J$339:J397)-1),\"\")","v":{"$error":"#VALUE!"}},{"$f":"IF(OFFSET([1]DE100_7!$K$339,ROWS($K$339:K397)-1,COLUMNS($K$339:K397)-1)<>\"\",OFFSET([1]DE100_7!$K$339,ROWS($K$339:K397)-1,COLUMNS($K$339:K397)-1),\"\")","v":{"$error":"#VALUE!"}},{"$f":"IF(OFFSET([1]DE100_7!$L$339,ROWS($L$339:L397)-1,COLUMNS($L$339:L397)-1)<>\"\",OFFSET([1]DE100_7!$L$339,ROWS($L$339:L397)-1,COLUMNS($L$339:L397)-1),\"\")","v":{"$error":"#VALUE!"}},{"$f":"IF(OFFSET([1]DE100_7!$M$339,ROWS($M$339:M397)-1,COLUMNS($M$339:M397)-1)<>\"\",OFFSET([1]DE100_7!$M$339,ROWS($M$339:M397)-1,COLUMNS($M$339:M397)-1),\"\")","v":{"$error":"#VALUE!"}},{"$f":"IF(OFFSET([1]DE100_7!$N$339,ROWS($N$339:N397)-1,COLUMNS($N$339:N397)-1)<>\"\",OFFSET([1]DE100_7!$N$339,ROWS($N$339:N397)-1,COLUMNS($N$339:N397)-1),\"\")","v":{"$error":"#VALUE!"}},{"$f":"IF(OFFSET([1]DE100_7!$O$339,ROWS($O$339:O397)-1,COLUMNS($O$339:O397)-1)<>\"\",OFFSET([1]DE100_7!$O$339,ROWS($O$339:O397)-1,COLUMNS($O$339:O397)-1),\"\")","v":{"$error":"#VALUE!"}},{"$f":"IF(OFFSET([1]DE100_7!$P$339,ROWS($P$339:P397)-1,COLUMNS($P$339:P397)-1)<>\"\",OFFSET([1]DE100_7!$P$339,ROWS($P$339:P397)-1,COLUMNS($P$339:P397)-1),\"\")","v":{"$error":"#VALUE!"}},{"$f":"IF(OFFSET([1]DE100_7!$Q$339,ROWS($Q$339:Q397)-1,COLUMNS($Q$339:Q397)-1)<>\"\",OFFSET([1]DE100_7!$Q$339,ROWS($Q$339:Q397)-1,COLUMNS($Q$339:Q397)-1),\"\")","v":{"$error":"#VALUE!"}},{"$f":"IF(OFFSET([1]DE100_7!$R$339,ROWS($R$339:R397)-1,COLUMNS($R$339:R397)-1)<>\"\",OFFSET([1]DE100_7!$R$339,ROWS($R$339:R397)-1,COLUMNS($R$339:R397)-1),\"\")","v":{"$error":"#VALUE!"}},{"$f":"IF(OFFSET([1]DE100_7!$S$339,ROWS($S$339:S397)-1,COLUMNS($S$339:S397)-1)<>\"\",OFFSET([1]DE100_7!$S$339,ROWS($S$339:S397)-1,COLUMNS($S$339:S397)-1),\"\")","v":{"$error":"#VALUE!"}},{"$f":"IF(OFFSET([1]DE100_7!$T$339,ROWS($T$339:T397)-1,COLUMNS($T$339:T397)-1)<>\"\",OFFSET([1]DE100_7!$T$339,ROWS($T$339:T397)-1,COLUMNS($T$339:T397)-1),\"\")","v":{"$error":"#VALUE!"}},{"$f":"IF(OFFSET([1]DE100_7!$U$339,ROWS($U$339:U397)-1,COLUMNS($U$339:U397)-1)<>\"\",OFFSET([1]DE100_7!$U$339,ROWS($U$339:U397)-1,COLUMNS($U$339:U397)-1),\"\")","v":{"$error":"#VALUE!"}},{"$f":"IF(OFFSET([1]DE100_7!$V$339,ROWS($V$339:V397)-1,COLUMNS($V$339:V397)-1)<>\"\",OFFSET([1]DE100_7!$V$339,ROWS($V$339:V397)-1,COLUMNS($V$339:V397)-1),\"\")","v":{"$error":"#VALUE!"}}]

{"sheet":"102_3","index":4,"n_rows":35,"n_cols":21,"rows_kept":35,"cut":false,"hidden":false,"merged":[[7,0,7,6],[0,0,0,20],[1,0,1,20],[2,0,4,20],[5,0,5,20],[6,0,6,20],[14,16,16,16],[13,0,17,0],[13,1,17,1],[14,12,16,12],[14,13,16,13],[13,2,17,2],[14,9,16,9],[13,3,16,3],[13,4,16,4],[13,5,16,5],[11,14,16,14],[14,10,16,10],[14,11,16,11],[19,0,19,1],[8,0,8,20],[10,0,10,20],[11,19,16,19],[11,20,17,20],[11,15,16,15],[11,16,13,17],[11,18,16,18],[14,17,16,17],[11,0,12,1],[11,2,12,2],[11,3,12,5],[11,6,16,6],[11,7,16,7],[11,8,16,8],[11,9,13,13]]}
["102-3M"]
["Modified"]
["ACCESS POINTS AND SAFETY RAMPS"]
[]
[]
["Refer to Cross-Sections"]
["  Length of unclassified pipe calculated is based on using Reinforced Concrete Pipe."]
["   Refer to MI-210 "]
["   Refer to EW-501."]
["   Refer to EW-501 or EW-502."]
[" *Predetermined for access point not constructed with this project."]
["Location",null,"Type","Length of Opening",null,null," "," "," ","Pipe Culvert",null,null,null,null,"Aprons","Aprons (DR-212)","Driveway Surface Area",null,"Driveway Length","Driveway Surfacing Material","Remarks"]
[]
["Station","Side","A, B, C,\nSafety Ramp,\nor Predetermined*","Case","1½\"\nDropped Curb","3\"\nDropped Curb"]
[null,null,null,null,null,null,null,null,null,0,"Size","Pipe Length","Lt.","Rt.",null,null,"HMA","PCC"]
[]
[]
[null,null,null,"1 or 2","LF","LF","FT","FT","FT","FT","IN","LF","LF","LF","No.","No.","SY","SY","LF","TON"]
[{"$f":"IF(OFFSET(DE102_3!$C$33,ROWS($C$33:C33)-1,COLUMNS($C$33:C33)-1)<>\"\",OFFSET(DE102_3!$C$33,ROWS($C$33:C33)-1,COLUMNS($C$33:C33)-1),\"\")","v":""},{"$f":"IF(OFFSET(DE102_3!$D$33,ROWS($D$33:D33)-1,COLUMNS($D$33:D33)-1)<>\"\",OFFSET(DE102_3!$D$33,ROWS($D$33:D33)-1,COLUMNS($D$33:D33)-1),\"\")","v":""},{"$f":"IF(OFFSET(DE102_3!$E$33,ROWS($E$33:E33)-1,COLUMNS($E$33:E33)-1)<>\"\",OFFSET(DE102_3!$E$33,ROWS($E$33:E33)-1,COLUMNS($E$33:E33)-1),\"\")","v":""},{"$f":"IF(OFFSET(DE102_3!$F$33,ROWS($F$33:F33)-1,COLUMNS($F$33:F33)-1)<>\"\",OFFSET(DE102_3!$F$33,ROWS($F$33:F33)-1,COLUMNS($F$33:F33)-1),\"\")","v":""},{"$f":"IF(OFFSET(DE102_3!$G$33,ROWS($G$33:G33)-1,COLUMNS($G$33:G33)-1)<>\"\",OFFSET(DE102_3!$G$33,ROWS($G$33:G33)-1,COLUMNS($G$33:G33)-1),\"\")","v":""},{"$f":"IF(OFFSET(DE102_3!$H$33,ROWS($H$33:H33)-1,COLUMNS($H$33:H33)-1)<>\"\",OFFSET(DE102_3!$H$33,ROWS($H$33:H33)-1,COLUMNS($H$33:H33)-1),\"\")","v":""},{"$f":"IF(OFFSET(DE102_3!$I$33,ROWS($I$33:I33)-1,COLUMNS($I$33:I33)-1)<>\"\",OFFSET(DE102_3!$I$33,ROWS($I$33:I33)-1,COLUMNS($I$33:I33)-1),\"\")","v":""},{"$f":"IF(OFFSET(DE102_3!$J$33,ROWS($J$33:J33)-1,COLUMNS($J$33:J33)-1)<>\"\",OFFSET(DE102_3!$J$33,ROWS($J$33:J33)-1,COLUMNS($J$33:J33)-1),\"\")","v":""},{"$f":"IF(OFFSET(DE102_3!$K$33,ROWS($K$33:K33)-1,COLUMNS($K$33:K33)-1)<>\"\",OFFSET(DE102_3!$K$33,ROWS($K$33:K33)-1,COLUMNS($K$33:K33)-1),\"\")","v":""},{"$f":"IF(OFFSET(DE102_3!$L$33,ROWS($L$33:L33)-1,COLUMNS($L$33:L33)-1)<>\"\",OFFSET(DE102_3!$L$33,ROWS($L$33:L33)-1,COLUMNS($L$33:L33)-1),\"\")","v":""},{"$f":"IF(OFFSET(DE102_3!$M$33,ROWS($M$33:M33)-1,COLUMNS($M$33:M33)-1)<>\"\",OFFSET(DE102_3!$M$33,ROWS($M$33:M33)-1,COLUMNS($M$33:M33)-1),\"\")","v":""},{"$f":"IF(OFFSET(DE102_3!$N$33,ROWS($N$33:N33)-1,COLUMNS($N$33:N33)-1)<>\"\",OFFSET(DE102_3!$N$33,ROWS($N$33:N33)-1,COLUMNS($N$33:N33)-1),\"\")","v":""},{"$f":"IF(OFFSET(DE102_3!$O$33,ROWS($O$33:O33)-1,COLUMNS($O$33:O33)-1)<>\"\",OFFSET(DE102_3!$O$33,ROWS($O$33:O33)-1,COLUMNS($O$33:O33)-1),\"\")","v":""},{"$f":"IF(OFFSET(DE102_3!$P$33,ROWS($P$33:P33)-1,COLUMNS($P$33:P33)-1)<>\"\",OFFSET(DE102_3!$P$33,ROWS($P$33:P33)-1,COLUMNS($P$33:P33)-1),\"\")","v":""},{"$f":"IF(OFFSET(DE102_3!$Q$33,ROWS($Q$33:Q33)-1,COLUMNS($Q$33:Q33)-1)<>\"\",OFFSET(DE102_3!$Q$33,ROWS($Q$33:Q33)-1,COLUMNS($Q$33:Q33)-1),\"\")","v":""},{"$f":"IF(OFFSET(DE102_3!$R$33,ROWS($R$33:R33)-1,COLUMNS($R$33:R33)-1)<>\"\",OFFSET(DE102_3!$R$33,ROWS($R$33:R33)-1,COLUMNS($R$33:R33)-1),\"\")","v":""},{"$f":"IF(OFFSET(DE102_3!$T$33,ROWS($T$33:T33)-1,COLUMNS($T$33:T33)-1)<>\"\",OFFSET(DE102_3!$T$33,ROWS($T$33:T33)-1,COLUMNS($T$33:T33)-1),\"\")","v":""},{"$f":"IF(OFFSET(DE102_3!$V$33,ROWS($V$33:V33)-1,COLUMNS($V$33:V33)-1)<>\"\",OFFSET(DE102_3!$V$33,ROWS($V$33:V33)-1,COLUMNS($V$33:V33)-1),\"\")","v":""},{"$f":"IF(OFFSET(DE102_3!$W$33,ROWS($W$33:W33)-1,COLUMNS($W$33:W33)-1)<>\"\",OFFSET(DE102_3!$W$33,ROWS($W$33:W33)-1,COLUMNS($W$33:W33)-1),\"\")","v":""},{"$f":"IF(OFFSET(DE102_3!$X$33,ROWS($X$33:X33)-1,COLUMNS($X$33:X33)-1)<>\"\",OFFSET(DE102_3!$X$33,ROWS($X$33:X33)-1,COLUMNS($X$33:X33)-1),\"\")","v":""},{"$f":"IF(OFFSET(DE102_3!$Y$33,ROWS($Y$33:Y33)-1,COLUMNS($Y$33:Y33)-1)<>\"\",OFFSET(DE102_3!$Y$33,ROWS($Y$33:Y33)-1,COLUMNS($Y$33:Y33)-1),\"\")","v":""}]
[{"$f":"IF(OFFSET(DE102_3!$C$33,ROWS($C$33:C34)-1,COLUMNS($C$33:C34)-1)<>\"\",OFFSET(DE102_3!$C$33,ROWS($C$33:C34)-1,COLUMNS($C$33:C34)-1),\"\")","v":"Ent. 182+78 Lt."},null,{"$f":"IF(OFFSET(DE102_3!$E$33,ROWS($E$33:E34)-1,COLUMNS($E$33:E34)-1)<>\"\",OFFSET(DE102_3!$E$33,ROWS($E$33:E34)-1,COLUMNS($E$33:E34)-1),\"\")","v":""},{"$f":"IF(OFFSET(DE102_3!$F$33,ROWS($F$33:F34)-1,COLUMNS($F$33:F34)-1)<>\"\",OFFSET(DE102_3!$F$33,ROWS($F$33:F34)-1,COLUMNS($F$33:F34)-1),\"\")","v":""},{"$f":"IF(OFFSET(DE102_3!$G$33,ROWS($G$33:G34)-1,COLUMNS($G$33:G34)-1)<>\"\",OFFSET(DE102_3!$G$33,ROWS($G$33:G34)-1,COLUMNS($G$33:G34)-1),\"\")","v":""},{"$f":"IF(OFFSET(DE102_3!$H$33,ROWS($H$33:H34)-1,COLUMNS($H$33:H34)-1)<>\"\",OFFSET(DE102_3!$H$33,ROWS($H$33:H34)-1,COLUMNS($H$33:H34)-1),\"\")","v":""},{"$f":"IF(OFFSET(DE102_3!$I$33,ROWS($I$33:I34)-1,COLUMNS($I$33:I34)-1)<>\"\",OFFSET(DE102_3!$I$33,ROWS($I$33:I34)-1,COLUMNS($I$33:I34)-1),\"\")","v":""},{"$f":"IF(OFFSET(DE102_3!$J$33,ROWS($J$33:J34)-1,COLUMNS($J$33:J34)-1)<>\"\",OFFSET(DE102_3!$J$33,ROWS($J$33:J34)-1,COLUMNS($J$33:J34)-1),\"\")","v":""},{"$f":"IF(OFFSET(DE102_3!$K$33,ROWS($K$33:K34)-1,COLUMNS($K$33:K34)-1)<>\"\",OFFSET(DE102_3!$K$33,ROWS($K$33:K34)-1,COLUMNS($K$33:K34)-1),\"\")","v":""},{"$f":"IF(OFFSET(DE102_3!$L$33,ROWS($L$33:L34)-1,COLUMNS($L$33:L34)-1)<>\"\",OFFSET(DE102_3!$L$33,ROWS($L$33:L34)-1,COLUMNS($L$33:L34)-1),\"\")","v":""},{"$f":"IF(OFFSET(DE102_3!$M$33,ROWS($M$33:M34)-1,COLUMNS($M$33:M34)-1)<>\"\",OFFSET(DE102_3!$M$33,ROWS($M$33:M34)-1,COLUMNS($M$33:M34)-1),\"\")","v":""},{"$f":"IF(OFFSET(DE102_3!$N$33,ROWS($N$33:N34)-1,COLUMNS($N$33:N34)-1)<>\"\",OFFSET(DE102_3!$N$33,ROWS($N$33:N34)-1,COLUMNS($N$33:N34)-1),\"\")","v":""},{"$f":"IF(OFFSET(DE102_3!$O$33,ROWS($O$33:O34)-1,COLUMNS($O$33:O34)-1)<>\"\",OFFSET(DE102_3!$O$33,ROWS($O$33:O34)-1,COLUMNS($O$33:O34)-1),\"\")","v":""},{"$f":"IF(OFFSET(DE102_3!$P$33,ROWS($P$33:P34)-1,COLUMNS($P$33:P34)-1)<>\"\",OFFSET(DE102_3!$P$33,ROWS($P$33:P34)-1,COLUMNS($P$33:P34)-1),\"\")","v":""},{"$f":"IF(OFFSET(DE102_3!$Q$33,ROWS($Q$33:Q34)-1,COLUMNS($Q$33:Q34)-1)<>\"\",OFFSET(DE102_3!$Q$33,ROWS($Q$33:Q34)-1,COLUMNS($Q$33:Q34)-1),\"\")","v":""},{"$f":"IF(OFFSET(DE102_3!$R$33,ROWS($R$33:R34)-1,COLUMNS($R$33:R34)-1)<>\"\",OFFSET(DE102_3!$R$33,ROWS($R$33:R34)-1,COLUMNS($R$33:R34)-1),\"\")","v":""},{"$f":"IF(OFFSET(DE102_3!$T$33,ROWS($T$33:T34)-1,COLUMNS($T$33:T34)-1)<>\"\",OFFSET(DE102_3!$T$33,ROWS($T$33:T34)-1,COLUMNS($T$33:T34)-1),\"\")","v":""},{"$f":"IF(OFFSET(DE102_3!$V$33,ROWS($V$33:V34)-1,COLUMNS($V$33:V34)-1)<>\"\",OFFSET(DE102_3!$V$33,ROWS($V$33:V34)-1,COLUMNS($V$33:V34)-1),\"\")","v":""},{"$f":"IF(OFFSET(DE102_3!$W$33,ROWS($W$33:W34)-1,COLUMNS($W$33:W34)-1)<>\"\",OFFSET(DE102_3!$W$33,ROWS($W$33:W34)-1,COLUMNS($W$33:W34)-1),\"\")","v":""},{"$f":"IF(OFFSET(DE102_3!$X$33,ROWS($X$33:X34)-1,COLUMNS($X$33:X34)-1)<>\"\",OFFSET(DE102_3!$X$33,ROWS($X$33:X34)-1,COLUMNS($X$33:X34)-1),\"\")","v":""},{"$f":"IF(OFFSET(DE102_3!$Y$33,ROWS($Y$33:Y34)-1,COLUMNS($Y$33:Y34)-1)<>\"\",OFFSET(DE102_3!$Y$33,ROWS($Y$33:Y34)-1,COLUMNS($Y$33:Y34)-1),\"\")","v":""}]
[{"$f":"IF(OFFSET(DE102_3!$C$33,ROWS($C$33:C35)-1,COLUMNS($C$33:C35)-1)<>\"\",OFFSET(DE102_3!$C$33,ROWS($C$33:C35)-1,COLUMNS($C$33:C35)-1),\"\")","v":47},{"$f":"IF(OFFSET(DE102_3!$D$33,ROWS($D$33:D35)-1,COLUMNS($D$33:D35)-1)<>\"\",OFFSET(DE102_3!$D$33,ROWS($D$33:D35)-1,COLUMNS($D$33:D35)-1),\"\")","v":""},{"$f":"IF(OFFSET(DE102_3!$E$33,ROWS($E$33:E35)-1,COLUMNS($E$33:E35)-1)<>\"\",OFFSET(DE102_3!$E$33,ROWS($E$33:E35)-1,COLUMNS($E$33:E35)-1),\"\")","v":""},{"$f":"IF(OFFSET(DE102_3!$F$33,ROWS($F$33:F35)-1,COLUMNS($F$33:F35)-1)<>\"\",OFFSET(DE102_3!$F$33,ROWS($F$33:F35)-1,COLUMNS($F$33:F35)-1),\"\")","v":""},{"$f":"IF(OFFSET(DE102_3!$G$33,ROWS($G$33:G35)-1,COLUMNS($G$33:G35)-1)<>\"\",OFFSET(DE102_3!$G$33,ROWS($G$33:G35)-1,COLUMNS($G$33:G35)-1),\"\")","v":""},{"$f":"IF(OFFSET(DE102_3!$H$33,ROWS($H$33:H35)-1,COLUMNS($H$33:H35)-1)<>\"\",OFFSET(DE102_3!$H$33,ROWS($H$33:H35)-1,COLUMNS($H$33:H35)-1),\"\")","v":""},{"$f":"IF(OFFSET(DE102_3!$I$33,ROWS($I$33:I35)-1,COLUMNS($I$33:I35)-1)<>\"\",OFFSET(DE102_3!$I$33,ROWS($I$33:I35)-1,COLUMNS($I$33:I35)-1),\"\")","v":24},{"$f":"IF(OFFSET(DE102_3!$J$33,ROWS($J$33:J35)-1,COLUMNS($J$33:J35)-1)<>\"\",OFFSET(DE102_3!$J$33,ROWS($J$33:J35)-1,COLUMNS($J$33:J35)-1),\"\")","v":""},{"$f":"IF(OFFSET(DE102_3!$K$33,ROWS($K$33:K35)-1,COLUMNS($K$33:K35)-1)<>\"\",OFFSET(DE102_3!$K$33,ROWS($K$33:K35)-1,COLUMNS($K$33:K35)-1),\"\")","v":""},{"$f":"IF(OFFSET(DE102_3!$L$33,ROWS($L$33:L35)-1,COLUMNS($L$33:L35)-1)<>\"\",OFFSET(DE102_3!$L$33,ROWS($L$33:L35)-1,COLUMNS($L$33:L35)-1),\"\")","v":4.5},{"$f":"IF(OFFSET(DE102_3!$M$33,ROWS($M$33:M35)-1,COLUMNS($M$33:M35)-1)<>\"\",OFFSET(DE102_3!$M$33,ROWS($M$33:M35)-1,COLUMNS($M$33:M35)-1),\"\")","v":24},{"$f":"IF(OFFSET(DE102_3!$N$33,ROWS($N$33:N35)-1,COLUMNS($N$33:N35)-1)<>\"\",OFFSET(DE102_3!$N$33,ROWS($N$33:N35)-1,COLUMNS($N$33:N35)-1),\"\")","v":52},{"$f":"IF(OFFSET(DE102_3!$O$33,ROWS($O$33:O35)-1,COLUMNS($O$33:O35)-1)<>\"\",OFFSET(DE102_3!$O$33,ROWS($O$33:O35)-1,COLUMNS($O$33:O35)-1),\"\")","v":30.3},{"$f":"IF(OFFSET(DE102_3!$P$33,ROWS($P$33:P35)-1,COLUMNS($P$33:P35)-1)<>\"\",OFFSET(DE102_3!$P$33,ROWS($P$33:P35)-1,COLUMNS($P$33:P35)-1),\"\")","v":34},{"$f":"IF(OFFSET(DE102_3!$Q$33,ROWS($Q$33:Q35)-1,COLUMNS($Q$33:Q35)-1)<>\"\",OFFSET(DE102_3!$Q$33,ROWS($Q$33:Q35)-1,COLUMNS($Q$33:Q35)-1),\"\")","v":2},{"$f":"IF(OFFSET(DE102_3!$R$33,ROWS($R$33:R35)-1,COLUMNS($R$33:R35)-1)<>\"\",OFFSET(DE102_3!$R$33,ROWS($R$33:R35)-1,COLUMNS($R$33:R35)-1),\"\")","v":""},{"$f":"IF(OFFSET(DE102_3!$T$33,ROWS($T$33:T35)-1,COLUMNS($T$33:T35)-1)<>\"\",OFFSET(DE102_3!$T$33,ROWS($T$33:T35)-1,COLUMNS($T$33:T35)-1),\"\")","v":""},{"$f":"IF(OFFSET(DE102_3!$V$33,ROWS($V$33:V35)-1,COLUMNS($V$33:V35)-1)<>\"\",OFFSET(DE102_3!$V$33,ROWS($V$33:V35)-1,COLUMNS($V$33:V35)-1),\"\")","v":""},{"$f":"IF(OFFSET(DE102_3!$W$33,ROWS($W$33:W35)-1,COLUMNS($W$33:W35)-1)<>\"\",OFFSET(DE102_3!$W$33,ROWS($W$33:W35)-1,COLUMNS($W$33:W35)-1),\"\")","v":"-"},{"$f":"IF(OFFSET(DE102_3!$X$33,ROWS($X$33:X35)-1,COLUMNS($X$33:X35)-1)<>\"\",OFFSET(DE102_3!$X$33,ROWS($X$33:X35)-1,COLUMNS($X$33:X35)-1),\"\")","v":"-"},{"$f":"IF(OFFSET(DE102_3!$Y$33,ROWS($Y$33:Y35)-1,COLUMNS($Y$33:Y35)-1)<>\"\",OFFSET(DE102_3!$Y$33,ROWS($Y$33:Y35)-1,COLUMNS($Y$33:Y35)-1),\"\")","v":"Additional pipe for 'T' Ent., Skew 22° Rt. Ah."}]
[{"$f":"IF(OFFSET(DE102_3!$C$33,ROWS($C$33:C36)-1,COLUMNS($C$33:C36)-1)<>\"\",OFFSET(DE102_3!$C$33,ROWS($C$33:C36)-1,COLUMNS($C$33:C36)-1),\"\")","v":""},{"$f":"IF(OFFSET(DE102_3!$D$33,ROWS($D$33:D36)-1,COLUMNS($D$33:D36)-1)<>\"\",OFFSET(DE102_3!$D$33,ROWS($D$33:D36)-1,COLUMNS($D$33:D36)-1),\"\")","v":""},{"$f":"IF(OFFSET(DE102_3!$E$33,ROWS($E$33:E36)-1,COLUMNS($E$33:E36)-1)<>\"\",OFFSET(DE102_3!$E$33,ROWS($E$33:E36)-1,COLUMNS($E$33:E36)-1),\"\")","v":""},{"$f":"IF(OFFSET(DE102_3!$F$33,ROWS($F$33:F36)-1,COLUMNS($F$33:F36)-1)<>\"\",OFFSET(DE102_3!$F$33,ROWS($F$33:F36)-1,COLUMNS($F$33:F36)-1),\"\")","v":""},{"$f":"IF(OFFSET(DE102_3!$G$33,ROWS($G$33:G36)-1,COLUMNS($G$33:G36)-1)<>\"\",OFFSET(DE102_3!$G$33,ROWS($G$33:G36)-1,COLUMNS($G$33:G36)-1),\"\")","v":""},{"$f":"IF(OFFSET(DE102_3!$H$33,ROWS($H$33:H36)-1,COLUMNS($H$33:H36)-1)<>\"\",OFFSET(DE102_3!$H$33,ROWS($H$33:H36)-1,COLUMNS($H$33:H36)-1),\"\")","v":""},{"$f":"IF(OFFSET(DE102_3!$I$33,ROWS($I$33:I36)-1,COLUMNS($I$33:I36)-1)<>\"\",OFFSET(DE102_3!$I$33,ROWS($I$33:I36)-1,COLUMNS($I$33:I36)-1),\"\")","v":""},{"$f":"IF(OFFSET(DE102_3!$J$33,ROWS($J$33:J36)-1,COLUMNS($J$33:J36)-1)<>\"\",OFFSET(DE102_3!$J$33,ROWS($J$33:J36)-1,COLUMNS($J$33:J36)-1),\"\")","v":""},{"$f":"IF(OFFSET(DE102_3!$K$33,ROWS($K$33:K36)-1,COLUMNS($K$33:K36)-1)<>\"\",OFFSET(DE102_3!$K$33,ROWS($K$33:K36)-1,COLUMNS($K$33:K36)-1),\"\")","v":""},{"$f":"IF(OFFSET(DE102_3!$L$33,ROWS($L$33:L36)-1,COLUMNS($L$33:L36)-1)<>\"\",OFFSET(DE102_3!$L$33,ROWS($L$33:L36)-1,COLUMNS($L$33:L36)-1),\"\")","v":""},{"$f":"IF(OFFSET(DE102_3!$M$33,ROWS($M$33:M36)-1,COLUMNS($M$33:M36)-1)<>\"\",OFFSET(DE102_3!$M$33,ROWS($M$33:M36)-1,COLUMNS($M$33:M36)-1),\"\")","v":""},{"$f":"IF(OFFSET(DE102_3!$N$33,ROWS($N$33:N36)-1,COLUMNS($N$33:N36)-1)<>\"\",OFFSET(DE102_3!$N$33,ROWS($N$33:N36)-1,COLUMNS($N$33:N36)-1),\"\")","v":""},{"$f":"IF(OFFSET(DE102_3!$O$33,ROWS($O$33:O36)-1,COLUMNS($O$33:O36)-1)<>\"\",OFFSET(DE102_3!$O$33,ROWS($O$33:O36)-1,COLUMNS($O$33:O36)-1),\"\")","v":""},{"$f":"IF(OFFSET(DE102_3!$P$33,ROWS($P$33:P36)-1,COLUMNS($P$33:P36)-1)<>\"\",OFFSET(DE102_3!$P$33,ROWS($P$33:P36)-1,COLUMNS($P$33:P36)-1),\"\")","v":""},{"$f":"IF(OFFSET(DE102_3!$Q$33,ROWS($Q$33:Q36)-1,COLUMNS($Q$33:Q36)-1)<>\"\",OFFSET(DE102_3!$Q$33,ROWS($Q$33:Q36)-1,COLUMNS($Q$33:Q36)-1),\"\")","v":""},{"$f":"IF(OFFSET(DE102_3!$R$33,ROWS($R$33:R36)-1,COLUMNS($R$33:R36)-1)<>\"\",OFFSET(DE102_3!$R$33,ROWS($R$33:R36)-1,COLUMNS($R$33:R36)-1),\"\")","v":""},{"$f":"IF(OFFSET(DE102_3!$T$33,ROWS($T$33:T36)-1,COLUMNS($T$33:T36)-1)<>\"\",OFFSET(DE102_3!$T$33,ROWS($T$33:T36)-1,COLUMNS($T$33:T36)-1),\"\")","v":""},{"$f":"IF(OFFSET(DE102_3!$V$33,ROWS($V$33:V36)-1,COLUMNS($V$33:V36)-1)<>\"\",OFFSET(DE102_3!$V$33,ROWS($V$33:V36)-1,COLUMNS($V$33:V36)-1),\"\")","v":""},{"$f":"IF(OFFSET(DE102_3!$W$33,ROWS($W$33:W36)-1,COLUMNS($W$33:W36)-1)<>\"\",OFFSET(DE102_3!$W$33,ROWS($W$33:W36)-1,COLUMNS($W$33:W36)-1),\"\")","v":""},{"$f":"IF(OFFSET(DE102_3!$X$33,ROWS($X$33:X36)-1,COLUMNS($X$33:X36)-1)<>\"\",OFFSET(DE102_3!$X$33,ROWS($X$33:X36)-1,COLUMNS($X$33:X36)-1),\"\")","v":""},{"$f":"IF(OFFSET(DE102_3!$Y$33,ROWS($Y$33:Y36)-1,COLUMNS($Y$33:Y36)-1)<>\"\",OFFSET(DE102_3!$Y$33,ROWS($Y$33:Y36)-1,COLUMNS($Y$33:Y36)-1),\"\")","v":""}]
[{"$f":"IF(OFFSET(DE102_3!$C$33,ROWS($C$33:C37)-1,COLUMNS($C$33:C37)-1)<>\"\",OFFSET(DE102_3!$C$33,ROWS($C$33:C37)-1,COLUMNS($C$33:C37)-1),\"\")","v":""},{"$f":"IF(OFFSET(DE102_3!$D$33,ROWS($D$33:D37)-1,COLUMNS($D$33:D37)-1)<>\"\",OFFSET(DE102_3!$D$33,ROWS($D$33:D37)-1,COLUMNS($D$33:D37)-1),\"\")","v":""},{"$f":"IF(OFFSET(DE102_3!$E$33,ROWS($E$33:E37)-1,COLUMNS($E$33:E37)-1)<>\"\",OFFSET(DE102_3!$E$33,ROWS($E$33:E37)-1,COLUMNS($E$33:E37)-1),\"\")","v":""},{"$f":"IF(OFFSET(DE102_3!$F$33,ROWS($F$33:F37)-1,COLUMNS($F$33:F37)-1)<>\"\",OFFSET(DE102_3!$F$33,ROWS($F$33:F37)-1,COLUMNS($F$33:F37)-1),\"\")","v":""},{"$f":"IF(OFFSET(DE102_3!$G$33,ROWS($G$33:G37)-1,COLUMNS($G$33:G37)-1)<>\"\",OFFSET(DE102_3!$G$33,ROWS($G$33:G37)-1,COLUMNS($G$33:G37)-1),\"\")","v":""},{"$f":"IF(OFFSET(DE102_3!$H$33,ROWS($H$33:H37)-1,COLUMNS($H$33:H37)-1)<>\"\",OFFSET(DE102_3!$H$33,ROWS($H$33:H37)-1,COLUMNS($H$33:H37)-1),\"\")","v":""},{"$f":"IF(OFFSET(DE102_3!$I$33,ROWS($I$33:I37)-1,COLUMNS($I$33:I37)-1)<>\"\",OFFSET(DE102_3!$I$33,ROWS($I$33:I37)-1,COLUMNS($I$33:I37)-1),\"\")","v":""},{"$f":"IF(OFFSET(DE102_3!$J$33,ROWS($J$33:J37)-1,COLUMNS($J$33:J37)-1)<>\"\",OFFSET(DE102_3!$J$33,ROWS($J$33:J37)-1,COLUMNS($J$33:J37)-1),\"\")","v":""},{"$f":"IF(OFFSET(DE102_3!$K$33,ROWS($K$33:K37)-1,COLUMNS($K$33:K37)-1)<>\"\",OFFSET(DE102_3!$K$33,ROWS($K$33:K37)-1,COLUMNS($K$33:K37)-1),\"\")","v":""},{"$f":"IF(OFFSET(DE102_3!$L$33,ROWS($L$33:L37)-1,COLUMNS($L$33:L37)-1)<>\"\",OFFSET(DE102_3!$L$33,ROWS($L$33:L37)-1,COLUMNS($L$33:L37)-1),\"\")","v":""},{"$f":"IF(OFFSET(DE102_3!$M$33,ROWS($M$33:M37)-1,COLUMNS($M$33:M37)-1)<>\"\",OFFSET(DE102_3!$M$33,ROWS($M$33:M37)-1,COLUMNS($M$33:M37)-1),\"\")","v":""},{"$f":"IF(OFFSET(DE102_3!$N$33,ROWS($N$33:N37)-1,COLUMNS($N$33:N37)-1)<>\"\",OFFSET(DE102_3!$N$33,ROWS($N$33:N37)-1,COLUMNS($N$33:N37)-1),\"\")","v":""},{"$f":"IF(OFFSET(DE102_3!$O$33,ROWS($O$33:O37)-1,COLUMNS($O$33:O37)-1)<>\"\",OFFSET(DE102_3!$O$33,ROWS($O$33:O37)-1,COLUMNS($O$33:O37)-1),\"\")","v":""},{"$f":"IF(OFFSET(DE102_3!$P$33,ROWS($P$33:P37)-1,COLUMNS($P$33:P37)-1)<>\"\",OFFSET(DE102_3!$P$33,ROWS($P$33:P37)-1,COLUMNS($P$33:P37)-1),\"\")","v":""},{"$f":"IF(OFFSET(DE102_3!$Q$33,ROWS($Q$33:Q37)-1,COLUMNS($Q$33:Q37)-1)<>\"\",OFFSET(DE102_3!$Q$33,ROWS($Q$33:Q37)-1,COLUMNS($Q$33:Q37)-1),\"\")","v":""},{"$f":"IF(OFFSET(DE102_3!$R$33,ROWS($R$33:R37)-1,COLUMNS($R$33:R37)-1)<>\"\",OFFSET(DE102_3!$R$33,ROWS($R$33:R37)-1,COLUMNS($R$33:R37)-1),\"\")","v":""},{"$f":"IF(OFFSET(DE102_3!$T$33,ROWS($T$33:T37)-1,COLUMNS($T$33:T37)-1)<>\"\",OFFSET(DE102_3!$T$33,ROWS($T$33:T37)-1,COLUMNS($T$33:T37)-1),\"\")","v":""},{"$f":"IF(OFFSET(DE102_3!$V$33,ROWS($V$33:V37)-1,COLUMNS($V$33:V37)-1)<>\"\",OFFSET(DE102_3!$V$33,ROWS($V$33:V37)-1,COLUMNS($V$33:V37)-1),\"\")","v":""},{"$f":"IF(OFFSET(DE102_3!$W$33,ROWS($W$33:W37)-1,COLUMNS($W$33:W37)-1)<>\"\",OFFSET(DE102_3!$W$33,ROWS($W$33:W37)-1,COLUMNS($W$33:W37)-1),\"\")","v":""},{"$f":"IF(OFFSET(DE102_3!$X$33,ROWS($X$33:X37)-1,COLUMNS($X$33:X37)-1)<>\"\",OFFSET(DE102_3!$X$33,ROWS($X$33:X37)-1,COLUMNS($X$33:X37)-1),\"\")","v":""},{"$f":"IF(OFFSET(DE102_3!$Y$33,ROWS($Y$33:Y37)-1,COLUMNS($Y$33:Y37)-1)<>\"\",OFFSET(DE102_3!$Y$33,ROWS($Y$33:Y37)-1,COLUMNS($Y$33:Y37)-1),\"\")","v":""}]
[{"$f":"IF(OFFSET(DE102_3!$C$33,ROWS($C$33:C38)-1,COLUMNS($C$33:C38)-1)<>\"\",OFFSET(DE102_3!$C$33,ROWS($C$33:C38)-1,COLUMNS($C$33:C38)-1),\"\")","v":"TOTALS:"},{"$f":"IF(OFFSET(DE102_3!$D$33,ROWS($D$33:D38)-1,COLUMNS($D$33:D38)-1)<>\"\",OFFSET(DE102_3!$D$33,ROWS($D$33:D38)-1,COLUMNS($D$33:D38)-1),\"\")","v":""},{"$f":"IF(OFFSET(DE102_3!$E$33,ROWS($E$33:E38)-1,COLUMNS($E$33:E38)-1)<>\"\",OFFSET(DE102_3!$E$33,ROWS($E$33:E38)-1,COLUMNS($E$33:E38)-1),\"\")","v":""},{"$f":"IF(OFFSET(DE102_3!$F$33,ROWS($F$33:F38)-1,COLUMNS($F$33:F38)-1)<>\"\",OFFSET(DE102_3!$F$33,ROWS($F$33:F38)-1,COLUMNS($F$33:F38)-1),\"\")","v":""},{"$f":"IF(OFFSET(DE102_3!$G$33,ROWS($G$33:G38)-1,COLUMNS($G$33:G38)-1)<>\"\",OFFSET(DE102_3!$G$33,ROWS($G$33:G38)-1,COLUMNS($G$33:G38)-1),\"\")","v":""},{"$f":"IF(OFFSET(DE102_3!$H$33,ROWS($H$33:H38)-1,COLUMNS($H$33:H38)-1)<>\"\",OFFSET(DE102_3!$H$33,ROWS($H$33:H38)-1,COLUMNS($H$33:H38)-1),\"\")","v":""},{"$f":"IF(OFFSET(DE102_3!$I$33,ROWS($I$33:I38)-1,COLUMNS($I$33:I38)-1)<>\"\",OFFSET(DE102_3!$I$33,ROWS($I$33:I38)-1,COLUMNS($I$33:I38)-1),\"\")","v":""},{"$f":"IF(OFFSET(DE102_3!$J$33,ROWS($J$33:J38)-1,COLUMNS($J$33:J38)-1)<>\"\",OFFSET(DE102_3!$J$33,ROWS($J$33:J38)-1,COLUMNS($J$33:J38)-1),\"\")","v":""},{"$f":"IF(OFFSET(DE102_3!$K$33,ROWS($K$33:K38)-1,COLUMNS($K$33:K38)-1)<>\"\",OFFSET(DE102_3!$K$33,ROWS($K$33:K38)-1,COLUMNS($K$33:K38)-1),\"\")","v":""},{"$f":"IF(OFFSET(DE102_3!$L$33,ROWS($L$33:L38)-1,COLUMNS($L$33:L38)-1)<>\"\",OFFSET(DE102_3!$L$33,ROWS($L$33:L38)-1,COLUMNS($L$33:L38)-1),\"\")","v":""},{"$f":"IF(OFFSET(DE102_3!$M$33,ROWS($M$33:M38)-1,COLUMNS($M$33:M38)-1)<>\"\",OFFSET(DE102_3!$M$33,ROWS($M$33:M38)-1,COLUMNS($M$33:M38)-1),\"\")","v":""},{"$f":"IF(OFFSET(DE102_3!$N$33,ROWS($N$33:N38)-1,COLUMNS($N$33:N38)-1)<>\"\",OFFSET(DE102_3!$N$33,ROWS($N$33:N38)-1,COLUMNS($N$33:N38)-1),\"\")","v":52},{"$f":"IF(OFFSET(DE102_3!$O$33,ROWS($O$33:O38)-1,COLUMNS($O$33:O38)-1)<>\"\",OFFSET(DE102_3!$O$33,ROWS($O$33:O38)-1,COLUMNS($O$33:O38)-1),\"\")","v":""},{"$f":"IF(OFFSET(DE102_3!$P$33,ROWS($P$33:P38)-1,COLUMNS($P$33:P38)-1)<>\"\",OFFSET(DE102_3!$P$33,ROWS($P$33:P38)-1,COLUMNS($P$33:P38)-1),\"\")","v":""},{"$f":"IF(OFFSET(DE102_3!$Q$33,ROWS($Q$33:Q38)-1,COLUMNS($Q$33:Q38)-1)<>\"\",OFFSET(DE102_3!$Q$33,ROWS($Q$33:Q38)-1,COLUMNS($Q$33:Q38)-1),\"\")","v":2},{"$f":"IF(OFFSET(DE102_3!$R$33,ROWS($R$33:R38)-1,COLUMNS($R$33:R38)-1)<>\"\",OFFSET(DE102_3!$R$33,ROWS($R$33:R38)-1,COLUMNS($R$33:R38)-1),\"\")","v":""},{"$f":"IF(OFFSET(DE102_3!$T$33,ROWS($T$33:T38)-1,COLUMNS($T$33:T38)-1)<>\"\",OFFSET(DE102_3!$T$33,ROWS($T$33:T38)-1,COLUMNS($T$33:T38)-1),\"\")","v":""},{"$f":"IF(OFFSET(DE102_3!$V$33,ROWS($V$33:V38)-1,COLUMNS($V$33:V38)-1)<>\"\",OFFSET(DE102_3!$V$33,ROWS($V$33:V38)-1,COLUMNS($V$33:V38)-1),\"\")","v":""},{"$f":"IF(OFFSET(DE102_3!$W$33,ROWS($W$33:W38)-1,COLUMNS($W$33:W38)-1)<>\"\",OFFSET(DE102_3!$W$33,ROWS($W$33:W38)-1,COLUMNS($W$33:W38)-1),\"\")","v":""},{"$f":"IF(OFFSET(DE102_3!$X$33,ROWS($X$33:X38)-1,COLUMNS($X$33:X38)-1)<>\"\",OFFSET(DE102_3!$X$33,ROWS($X$33:X38)-1,COLUMNS($X$33:X38)-1),\"\")","v":""},{"$f":"IF(OFFSET(DE102_3!$Y$33,ROWS($Y$33:Y38)-1,COLUMNS($Y$33:Y38)-1)<>\"\",OFFSET(DE102_3!$Y$33,ROWS($Y$33:Y38)-1,COLUMNS($Y$33:Y38)-1),\"\")","v":""}]
[{"$f":"IF(OFFSET(DE102_3!$C$33,ROWS($C$33:C39)-1,COLUMNS($C$33:C39)-1)<>\"\",OFFSET(DE102_3!$C$33,ROWS($C$33:C39)-1,COLUMNS($C$33:C39)-1),\"\")","v":""},{"$f":"IF(OFFSET(DE102_3!$D$33,ROWS($D$33:D39)-1,COLUMNS($D$33:D39)-1)<>\"\",OFFSET(DE102_3!$D$33,ROWS($D$33:D39)-1,COLUMNS($D$33:D39)-1),\"\")","v":""},{"$f":"IF(OFFSET(DE102_3!$E$33,ROWS($E$33:E39)-1,COLUMNS($E$33:E39)-1)<>\"\",OFFSET(DE102_3!$E$33,ROWS($E$33:E39)-1,COLUMNS($E$33:E39)-1),\"\")","v":""},{"$f":"IF(OFFSET(DE102_3!$F$33,ROWS($F$33:F39)-1,COLUMNS($F$33:F39)-1)<>\"\",OFFSET(DE102_3!$F$33,ROWS($F$33:F39)-1,COLUMNS($F$33:F39)-1),\"\")","v":""},{"$f":"IF(OFFSET(DE102_3!$G$33,ROWS($G$33:G39)-1,COLUMNS($G$33:G39)-1)<>\"\",OFFSET(DE102_3!$G$33,ROWS($G$33:G39)-1,COLUMNS($G$33:G39)-1),\"\")","v":""},{"$f":"IF(OFFSET(DE102_3!$H$33,ROWS($H$33:H39)-1,COLUMNS($H$33:H39)-1)<>\"\",OFFSET(DE102_3!$H$33,ROWS($H$33:H39)-1,COLUMNS($H$33:H39)-1),\"\")","v":""},{"$f":"IF(OFFSET(DE102_3!$I$33,ROWS($I$33:I39)-1,COLUMNS($I$33:I39)-1)<>\"\",OFFSET(DE102_3!$I$33,ROWS($I$33:I39)-1,COLUMNS($I$33:I39)-1),\"\")","v":""},{"$f":"IF(OFFSET(DE102_3!$J$33,ROWS($J$33:J39)-1,COLUMNS($J$33:J39)-1)<>\"\",OFFSET(DE102_3!$J$33,ROWS($J$33:J39)-1,COLUMNS($J$33:J39)-1),\"\")","v":""},{"$f":"IF(OFFSET(DE102_3!$K$33,ROWS($K$33:K39)-1,COLUMNS($K$33:K39)-1)<>\"\",OFFSET(DE102_3!$K$33,ROWS($K$33:K39)-1,COLUMNS($K$33:K39)-1),\"\")","v":""},{"$f":"IF(OFFSET(DE102_3!$L$33,ROWS($L$33:L39)-1,COLUMNS($L$33:L39)-1)<>\"\",OFFSET(DE102_3!$L$33,ROWS($L$33:L39)-1,COLUMNS($L$33:L39)-1),\"\")","v":""},{"$f":"IF(OFFSET(DE102_3!$M$33,ROWS($M$33:M39)-1,COLUMNS($M$33:M39)-1)<>\"\",OFFSET(DE102_3!$M$33,ROWS($M$33:M39)-1,COLUMNS($M$33:M39)-1),\"\")","v":""},{"$f":"IF(OFFSET(DE102_3!$N$33,ROWS($N$33:N39)-1,COLUMNS($N$33:N39)-1)<>\"\",OFFSET(DE102_3!$N$33,ROWS($N$33:N39)-1,COLUMNS($N$33:N39)-1),\"\")","v":""},{"$f":"IF(OFFSET(DE102_3!$O$33,ROWS($O$33:O39)-1,COLUMNS($O$33:O39)-1)<>\"\",OFFSET(DE102_3!$O$33,ROWS($O$33:O39)-1,COLUMNS($O$33:O39)-1),\"\")","v":""},{"$f":"IF(OFFSET(DE102_3!$P$33,ROWS($P$33:P39)-1,COLUMNS($P$33:P39)-1)<>\"\",OFFSET(DE102_3!$P$33,ROWS($P$33:P39)-1,COLUMNS($P$33:P39)-1),\"\")","v":""},{"$f":"IF(OFFSET(DE102_3!$Q$33,ROWS($Q$33:Q39)-1,COLUMNS($Q$33:Q39)-1)<>\"\",OFFSET(DE102_3!$Q$33,ROWS($Q$33:Q39)-1,COLUMNS($Q$33:Q39)-1),\"\")","v":""},{"$f":"IF(OFFSET(DE102_3!$R$33,ROWS($R$33:R39)-1,COLUMNS($R$33:R39)-1)<>\"\",OFFSET(DE102_3!$R$33,ROWS($R$33:R39)-1,COLUMNS($R$33:R39)-1),\"\")","v":""},{"$f":"IF(OFFSET(DE102_3!$T$33,ROWS($T$33:T39)-1,COLUMNS($T$33:T39)-1)<>\"\",OFFSET(DE102_3!$T$33,ROWS($T$33:T39)-1,COLUMNS($T$33:T39)-1),\"\")","v":""},{"$f":"IF(OFFSET(DE102_3!$V$33,ROWS($V$33:V39)-1,COLUMNS($V$33:V39)-1)<>\"\",OFFSET(DE102_3!$V$33,ROWS($V$33:V39)-1,COLUMNS($V$33:V39)-1),\"\")","v":""},{"$f":"IF(OFFSET(DE102_3!$W$33,ROWS($W$33:W39)-1,COLUMNS($W$33:W39)-1)<>\"\",OFFSET(DE102_3!$W$33,ROWS($W$33:W39)-1,COLUMNS($W$33:W39)-1),\"\")","v":""},{"$f":"IF(OFFSET(DE102_3!$X$33,ROWS($X$33:X39)-1,COLUMNS($X$33:X39)-1)<>\"\",OFFSET(DE102_3!$X$33,ROWS($X$33:X39)-1,COLUMNS($X$33:X39)-1),\"\")","v":""},{"$f":"IF(OFFSET(DE102_3!$Y$33,ROWS($Y$33:Y39)-1,COLUMNS($Y$33:Y39)-1)<>\"\",OFFSET(DE102_3!$Y$33,ROWS($Y$33:Y39)-1,COLUMNS($Y$33:Y39)-1),\"\")","v":""}]
[{"$f":"IF(OFFSET(DE102_3!$C$33,ROWS($C$33:C40)-1,COLUMNS($C$33:C40)-1)<>\"\",OFFSET(DE102_3!$C$33,ROWS($C$33:C40)-1,COLUMNS($C$33:C40)-1),\"\")","v":""},{"$f":"IF(OFFSET(DE102_3!$D$33,ROWS($D$33:D40)-1,COLUMNS($D$33:D40)-1)<>\"\",OFFSET(DE102_3!$D$33,ROWS($D$33:D40)-1,COLUMNS($D$33:D40)-1),\"\")","v":""},{"$f":"IF(OFFSET(DE102_3!$E$33,ROWS($E$33:E40)-1,COLUMNS($E$33:E40)-1)<>\"\",OFFSET(DE102_3!$E$33,ROWS($E$33:E40)-1,COLUMNS($E$33:E40)-1),\"\")","v":""},{"$f":"IF(OFFSET(DE102_3!$F$33,ROWS($F$33:F40)-1,COLUMNS($F$33:F40)-1)<>\"\",OFFSET(DE102_3!$F$33,ROWS($F$33:F40)-1,COLUMNS($F$33:F40)-1),\"\")","v":""},{"$f":"IF(OFFSET(DE102_3!$G$33,ROWS($G$33:G40)-1,COLUMNS($G$33:G40)-1)<>\"\",OFFSET(DE102_3!$G$33,ROWS($G$33:G40)-1,COLUMNS($G$33:G40)-1),\"\")","v":""},{"$f":"IF(OFFSET(DE102_3!$H$33,ROWS($H$33:H40)-1,COLUMNS($H$33:H40)-1)<>\"\",OFFSET(DE102_3!$H$33,ROWS($H$33:H40)-1,COLUMNS($H$33:H40)-1),\"\")","v":""},{"$f":"IF(OFFSET(DE102_3!$I$33,ROWS($I$33:I40)-1,COLUMNS($I$33:I40)-1)<>\"\",OFFSET(DE102_3!$I$33,ROWS($I$33:I40)-1,COLUMNS($I$33:I40)-1),\"\")","v":""},{"$f":"IF(OFFSET(DE102_3!$J$33,ROWS($J$33:J40)-1,COLUMNS($J$33:J40)-1)<>\"\",OFFSET(DE102_3!$J$33,ROWS($J$33:J40)-1,COLUMNS($J$33:J40)-1),\"\")","v":""},{"$f":"IF(OFFSET(DE102_3!$K$33,ROWS($K$33:K40)-1,COLUMNS($K$33:K40)-1)<>\"\",OFFSET(DE102_3!$K$33,ROWS($K$33:K40)-1,COLUMNS($K$33:K40)-1),\"\")","v":""},{"$f":"IF(OFFSET(DE102_3!$L$33,ROWS($L$33:L40)-1,COLUMNS($L$33:L40)-1)<>\"\",OFFSET(DE102_3!$L$33,ROWS($L$33:L40)-1,COLUMNS($L$33:L40)-1),\"\")","v":""},{"$f":"IF(OFFSET(DE102_3!$M$33,ROWS($M$33:M40)-1,COLUMNS($M$33:M40)-1)<>\"\",OFFSET(DE102_3!$M$33,ROWS($M$33:M40)-1,COLUMNS($M$33:M40)-1),\"\")","v":""},{"$f":"IF(OFFSET(DE102_3!$N$33,ROWS($N$33:N40)-1,COLUMNS($N$33:N40)-1)<>\"\",OFFSET(DE102_3!$N$33,ROWS($N$33:N40)-1,COLUMNS($N$33:N40)-1),\"\")","v":""},{"$f":"IF(OFFSET(DE102_3!$O$33,ROWS($O$33:O40)-1,COLUMNS($O$33:O40)-1)<>\"\",OFFSET(DE102_3!$O$33,ROWS($O$33:O40)-1,COLUMNS($O$33:O40)-1),\"\")","v":""},{"$f":"IF(OFFSET(DE102_3!$P$33,ROWS($P$33:P40)-1,COLUMNS($P$33:P40)-1)<>\"\",OFFSET(DE102_3!$P$33,ROWS($P$33:P40)-1,COLUMNS($P$33:P40)-1),\"\")","v":""},{"$f":"IF(OFFSET(DE102_3!$Q$33,ROWS($Q$33:Q40)-1,COLUMNS($Q$33:Q40)-1)<>\"\",OFFSET(DE102_3!$Q$33,ROWS($Q$33:Q40)-1,COLUMNS($Q$33:Q40)-1),\"\")","v":""},{"$f":"IF(OFFSET(DE102_3!$R$33,ROWS($R$33:R40)-1,COLUMNS($R$33:R40)-1)<>\"\",OFFSET(DE102_3!$R$33,ROWS($R$33:R40)-1,COLUMNS($R$33:R40)-1),\"\")","v":""},{"$f":"IF(OFFSET(DE102_3!$T$33,ROWS($T$33:T40)-1,COLUMNS($T$33:T40)-1)<>\"\",OFFSET(DE102_3!$T$33,ROWS($T$33:T40)-1,COLUMNS($T$33:T40)-1),\"\")","v":""},{"$f":"IF(OFFSET(DE102_3!$V$33,ROWS($V$33:V40)-1,COLUMNS($V$33:V40)-1)<>\"\",OFFSET(DE102_3!$V$33,ROWS($V$33:V40)-1,COLUMNS($V$33:V40)-1),\"\")","v":""},{"$f":"IF(OFFSET(DE102_3!$W$33,ROWS($W$33:W40)-1,COLUMNS($W$33:W40)-1)<>\"\",OFFSET(DE102_3!$W$33,ROWS($W$33:W40)-1,COLUMNS($W$33:W40)-1),\"\")","v":""},{"$f":"IF(OFFSET(DE102_3!$X$33,ROWS($X$33:X40)-1,COLUMNS($X$33:X40)-1)<>\"\",OFFSET(DE102_3!$X$33,ROWS($X$33:X40)-1,COLUMNS($X$33:X40)-1),\"\")","v":""},{"$f":"IF(OFFSET(DE102_3!$Y$33,ROWS($Y$33:Y40)-1,COLUMNS($Y$33:Y40)-1)<>\"\",OFFSET(DE102_3!$Y$33,ROWS($Y$33:Y40)-1,COLUMNS($Y$33:Y40)-1),\"\")","v":""}]
[{"$f":"IF(OFFSET(DE102_3!$C$33,ROWS($C$33:C41)-1,COLUMNS($C$33:C41)-1)<>\"\",OFFSET(DE102_3!$C$33,ROWS($C$33:C41)-1,COLUMNS($C$33:C41)-1),\"\")","v":""},{"$f":"IF(OFFSET(DE102_3!$D$33,ROWS($D$33:D41)-1,COLUMNS($D$33:D41)-1)<>\"\",OFFSET(DE102_3!$D$33,ROWS($D$33:D41)-1,COLUMNS($D$33:D41)-1),\"\")","v":""},{"$f":"IF(OFFSET(DE102_3!$E$33,ROWS($E$33:E41)-1,COLUMNS($E$33:E41)-1)<>\"\",OFFSET(DE102_3!$E$33,ROWS($E$33:E41)-1,COLUMNS($E$33:E41)-1),\"\")","v":""},{"$f":"IF(OFFSET(DE102_3!$F$33,ROWS($F$33:F41)-1,COLUMNS($F$33:F41)-1)<>\"\",OFFSET(DE102_3!$F$33,ROWS($F$33:F41)-1,COLUMNS($F$33:F41)-1),\"\")","v":""},{"$f":"IF(OFFSET(DE102_3!$G$33,ROWS($G$33:G41)-1,COLUMNS($G$33:G41)-1)<>\"\",OFFSET(DE102_3!$G$33,ROWS($G$33:G41)-1,COLUMNS($G$33:G41)-1),\"\")","v":""},{"$f":"IF(OFFSET(DE102_3!$H$33,ROWS($H$33:H41)-1,COLUMNS($H$33:H41)-1)<>\"\",OFFSET(DE102_3!$H$33,ROWS($H$33:H41)-1,COLUMNS($H$33:H41)-1),\"\")","v":""},{"$f":"IF(OFFSET(DE102_3!$I$33,ROWS($I$33:I41)-1,COLUMNS($I$33:I41)-1)<>\"\",OFFSET(DE102_3!$I$33,ROWS($I$33:I41)-1,COLUMNS($I$33:I41)-1),\"\")","v":""},{"$f":"IF(OFFSET(DE102_3!$J$33,ROWS($J$33:J41)-1,COLUMNS($J$33:J41)-1)<>\"\",OFFSET(DE102_3!$J$33,ROWS($J$33:J41)-1,COLUMNS($J$33:J41)-1),\"\")","v":""},{"$f":"IF(OFFSET(DE102_3!$K$33,ROWS($K$33:K41)-1,COLUMNS($K$33:K41)-1)<>\"\",OFFSET(DE102_3!$K$33,ROWS($K$33:K41)-1,COLUMNS($K$33:K41)-1),\"\")","v":""},{"$f":"IF(OFFSET(DE102_3!$L$33,ROWS($L$33:L41)-1,COLUMNS($L$33:L41)-1)<>\"\",OFFSET(DE102_3!$L$33,ROWS($L$33:L41)-1,COLUMNS($L$33:L41)-1),\"\")","v":""},{"$f":"IF(OFFSET(DE102_3!$M$33,ROWS($M$33:M41)-1,COLUMNS($M$33:M41)-1)<>\"\",OFFSET(DE102_3!$M$33,ROWS($M$33:M41)-1,COLUMNS($M$33:M41)-1),\"\")","v":""},{"$f":"IF(OFFSET(DE102_3!$N$33,ROWS($N$33:N41)-1,COLUMNS($N$33:N41)-1)<>\"\",OFFSET(DE102_3!$N$33,ROWS($N$33:N41)-1,COLUMNS($N$33:N41)-1),\"\")","v":""},{"$f":"IF(OFFSET(DE102_3!$O$33,ROWS($O$33:O41)-1,COLUMNS($O$33:O41)-1)<>\"\",OFFSET(DE102_3!$O$33,ROWS($O$33:O41)-1,COLUMNS($O$33:O41)-1),\"\")","v":""},{"$f":"IF(OFFSET(DE102_3!$P$33,ROWS($P$33:P41)-1,COLUMNS($P$33:P41)-1)<>\"\",OFFSET(DE102_3!$P$33,ROWS($P$33:P41)-1,COLUMNS($P$33:P41)-1),\"\")","v":""},{"$f":"IF(OFFSET(DE102_3!$Q$33,ROWS($Q$33:Q41)-1,COLUMNS($Q$33:Q41)-1)<>\"\",OFFSET(DE102_3!$Q$33,ROWS($Q$33:Q41)-1,COLUMNS($Q$33:Q41)-1),\"\")","v":""},{"$f":"IF(OFFSET(DE102_3!$R$33,ROWS($R$33:R41)-1,COLUMNS($R$33:R41)-1)<>\"\",OFFSET(DE102_3!$R$33,ROWS($R$33:R41)-1,COLUMNS($R$33:R41)-1),\"\")","v":""},{"$f":"IF(OFFSET(DE102_3!$T$33,ROWS($T$33:T41)-1,COLUMNS($T$33:T41)-1)<>\"\",OFFSET(DE102_3!$T$33,ROWS($T$33:T41)-1,COLUMNS($T$33:T41)-1),\"\")","v":""},{"$f":"IF(OFFSET(DE102_3!$V$33,ROWS($V$33:V41)-1,COLUMNS($V$33:V41)-1)<>\"\",OFFSET(DE102_3!$V$33,ROWS($V$33:V41)-1,COLUMNS($V$33:V41)-1),\"\")","v":""},{"$f":"IF(OFFSET(DE102_3!$W$33,ROWS($W$33:W41)-1,COLUMNS($W$33:W41)-1)<>\"\",OFFSET(DE102_3!$W$33,ROWS($W$33:W41)-1,COLUMNS($W$33:W41)-1),\"\")","v":""},{"$f":"IF(OFFSET(DE102_3!$X$33,ROWS($X$33:X41)-1,COLUMNS($X$33:X41)-1)<>\"\",OFFSET(DE102_3!$X$33,ROWS($X$33:X41)-1,COLUMNS($X$33:X41)-1),\"\")","v":""},{"$f":"IF(OFFSET(DE102_3!$Y$33,ROWS($Y$33:Y41)-1,COLUMNS($Y$33:Y41)-1)<>\"\",OFFSET(DE102_3!$Y$33,ROWS($Y$33:Y41)-1,COLUMNS($Y$33:Y41)-1),\"\")","v":""}]
[{"$f":"IF(OFFSET(DE102_3!$C$33,ROWS($C$33:C42)-1,COLUMNS($C$33:C42)-1)<>\"\",OFFSET(DE102_3!$C$33,ROWS($C$33:C42)-1,COLUMNS($C$33:C42)-1),\"\")","v":""},{"$f":"IF(OFFSET(DE102_3!$D$33,ROWS($D$33:D42)-1,COLUMNS($D$33:D42)-1)<>\"\",OFFSET(DE102_3!$D$33,ROWS($D$33:D42)-1,COLUMNS($D$33:D42)-1),\"\")","v":""},{"$f":"IF(OFFSET(DE102_3!$E$33,ROWS($E$33:E42)-1,COLUMNS($E$33:E42)-1)<>\"\",OFFSET(DE102_3!$E$33,ROWS($E$33:E42)-1,COLUMNS($E$33:E42)-1),\"\")","v":""},{"$f":"IF(OFFSET(DE102_3!$F$33,ROWS($F$33:F42)-1,COLUMNS($F$33:F42)-1)<>\"\",OFFSET(DE102_3!$F$33,ROWS($F$33:F42)-1,COLUMNS($F$33:F42)-1),\"\")","v":""},{"$f":"IF(OFFSET(DE102_3!$G$33,ROWS($G$33:G42)-1,COLUMNS($G$33:G42)-1)<>\"\",OFFSET(DE102_3!$G$33,ROWS($G$33:G42)-1,COLUMNS($G$33:G42)-1),\"\")","v":""},{"$f":"IF(OFFSET(DE102_3!$H$33,ROWS($H$33:H42)-1,COLUMNS($H$33:H42)-1)<>\"\",OFFSET(DE102_3!$H$33,ROWS($H$33:H42)-1,COLUMNS($H$33:H42)-1),\"\")","v":""},{"$f":"IF(OFFSET(DE102_3!$I$33,ROWS($I$33:I42)-1,COLUMNS($I$33:I42)-1)<>\"\",OFFSET(DE102_3!$I$33,ROWS($I$33:I42)-1,COLUMNS($I$33:I42)-1),\"\")","v":""},{"$f":"IF(OFFSET(DE102_3!$J$33,ROWS($J$33:J42)-1,COLUMNS($J$33:J42)-1)<>\"\",OFFSET(DE102_3!$J$33,ROWS($J$33:J42)-1,COLUMNS($J$33:J42)-1),\"\")","v":""},{"$f":"IF(OFFSET(DE102_3!$K$33,ROWS($K$33:K42)-1,COLUMNS($K$33:K42)-1)<>\"\",OFFSET(DE102_3!$K$33,ROWS($K$33:K42)-1,COLUMNS($K$33:K42)-1),\"\")","v":""},{"$f":"IF(OFFSET(DE102_3!$L$33,ROWS($L$33:L42)-1,COLUMNS($L$33:L42)-1)<>\"\",OFFSET(DE102_3!$L$33,ROWS($L$33:L42)-1,COLUMNS($L$33:L42)-1),\"\")","v":""},{"$f":"IF(OFFSET(DE102_3!$M$33,ROWS($M$33:M42)-1,COLUMNS($M$33:M42)-1)<>\"\",OFFSET(DE102_3!$M$33,ROWS($M$33:M42)-1,COLUMNS($M$33:M42)-1),\"\")","v":""},{"$f":"IF(OFFSET(DE102_3!$N$33,ROWS($N$33:N42)-1,COLUMNS($N$33:N42)-1)<>\"\",OFFSET(DE102_3!$N$33,ROWS($N$33:N42)-1,COLUMNS($N$33:N42)-1),\"\")","v":""},{"$f":"IF(OFFSET(DE102_3!$O$33,ROWS($O$33:O42)-1,COLUMNS($O$33:O42)-1)<>\"\",OFFSET(DE102_3!$O$33,ROWS($O$33:O42)-1,COLUMNS($O$33:O42)-1),\"\")","v":""},{"$f":"IF(OFFSET(DE102_3!$P$33,ROWS($P$33:P42)-1,COLUMNS($P$33:P42)-1)<>\"\",OFFSET(DE102_3!$P$33,ROWS($P$33:P42)-1,COLUMNS($P$33:P42)-1),\"\")","v":""},{"$f":"IF(OFFSET(DE102_3!$Q$33,ROWS($Q$33:Q42)-1,COLUMNS($Q$33:Q42)-1)<>\"\",OFFSET(DE102_3!$Q$33,ROWS($Q$33:Q42)-1,COLUMNS($Q$33:Q42)-1),\"\")","v":""},{"$f":"IF(OFFSET(DE102_3!$R$33,ROWS($R$33:R42)-1,COLUMNS($R$33:R42)-1)<>\"\",OFFSET(DE102_3!$R$33,ROWS($R$33:R42)-1,COLUMNS($R$33:R42)-1),\"\")","v":""},{"$f":"IF(OFFSET(DE102_3!$T$33,ROWS($T$33:T42)-1,COLUMNS($T$33:T42)-1)<>\"\",OFFSET(DE102_3!$T$33,ROWS($T$33:T42)-1,COLUMNS($T$33:T42)-1),\"\")","v":""},{"$f":"IF(OFFSET(DE102_3!$V$33,ROWS($V$33:V42)-1,COLUMNS($V$33:V42)-1)<>\"\",OFFSET(DE102_3!$V$33,ROWS($V$33:V42)-1,COLUMNS($V$33:V42)-1),\"\")","v":""},{"$f":"IF(OFFSET(DE102_3!$W$33,ROWS($W$33:W42)-1,COLUMNS($W$33:W42)-1)<>\"\",OFFSET(DE102_3!$W$33,ROWS($W$33:W42)-1,COLUMNS($W$33:W42)-1),\"\")","v":""},{"$f":"IF(OFFSET(DE102_3!$X$33,ROWS($X$33:X42)-1,COLUMNS($X$33:X42)-1)<>\"\",OFFSET(DE102_3!$X$33,ROWS($X$33:X42)-1,COLUMNS($X$33:X42)-1),\"\")","v":""},{"$f":"IF(OFFSET(DE102_3!$Y$33,ROWS($Y$33:Y42)-1,COLUMNS($Y$33:Y42)-1)<>\"\",OFFSET(DE102_3!$Y$33,ROWS($Y$33:Y42)-1,COLUMNS($Y$33:Y42)-1),\"\")","v":""}]
[{"$f":"IF(OFFSET(DE102_3!$C$33,ROWS($C$33:C43)-1,COLUMNS($C$33:C43)-1)<>\"\",OFFSET(DE102_3!$C$33,ROWS($C$33:C43)-1,COLUMNS($C$33:C43)-1),\"\")","v":""},{"$f":"IF(OFFSET(DE102_3!$D$33,ROWS($D$33:D43)-1,COLUMNS($D$33:D43)-1)<>\"\",OFFSET(DE102_3!$D$33,ROWS($D$33:D43)-1,COLUMNS($D$33:D43)-1),\"\")","v":""},{"$f":"IF(OFFSET(DE102_3!$E$33,ROWS($E$33:E43)-1,COLUMNS($E$33:E43)-1)<>\"\",OFFSET(DE102_3!$E$33,ROWS($E$33:E43)-1,COLUMNS($E$33:E43)-1),\"\")","v":""},{"$f":"IF(OFFSET(DE102_3!$F$33,ROWS($F$33:F43)-1,COLUMNS($F$33:F43)-1)<>\"\",OFFSET(DE102_3!$F$33,ROWS($F$33:F43)-1,COLUMNS($F$33:F43)-1),\"\")","v":""},{"$f":"IF(OFFSET(DE102_3!$G$33,ROWS($G$33:G43)-1,COLUMNS($G$33:G43)-1)<>\"\",OFFSET(DE102_3!$G$33,ROWS($G$33:G43)-1,COLUMNS($G$33:G43)-1),\"\")","v":""},{"$f":"IF(OFFSET(DE102_3!$H$33,ROWS($H$33:H43)-1,COLUMNS($H$33:H43)-1)<>\"\",OFFSET(DE102_3!$H$33,ROWS($H$33:H43)-1,COLUMNS($H$33:H43)-1),\"\")","v":""},{"$f":"IF(OFFSET(DE102_3!$I$33,ROWS($I$33:I43)-1,COLUMNS($I$33:I43)-1)<>\"\",OFFSET(DE102_3!$I$33,ROWS($I$33:I43)-1,COLUMNS($I$33:I43)-1),\"\")","v":""},{"$f":"IF(OFFSET(DE102_3!$J$33,ROWS($J$33:J43)-1,COLUMNS($J$33:J43)-1)<>\"\",OFFSET(DE102_3!$J$33,ROWS($J$33:J43)-1,COLUMNS($J$33:J43)-1),\"\")","v":""},{"$f":"IF(OFFSET(DE102_3!$K$33,ROWS($K$33:K43)-1,COLUMNS($K$33:K43)-1)<>\"\",OFFSET(DE102_3!$K$33,ROWS($K$33:K43)-1,COLUMNS($K$33:K43)-1),\"\")","v":""},{"$f":"IF(OFFSET(DE102_3!$L$33,ROWS($L$33:L43)-1,COLUMNS($L$33:L43)-1)<>\"\",OFFSET(DE102_3!$L$33,ROWS($L$33:L43)-1,COLUMNS($L$33:L43)-1),\"\")","v":""},{"$f":"IF(OFFSET(DE102_3!$M$33,ROWS($M$33:M43)-1,COLUMNS($M$33:M43)-1)<>\"\",OFFSET(DE102_3!$M$33,ROWS($M$33:M43)-1,COLUMNS($M$33:M43)-1),\"\")","v":""},{"$f":"IF(OFFSET(DE102_3!$N$33,ROWS($N$33:N43)-1,COLUMNS($N$33:N43)-1)<>\"\",OFFSET(DE102_3!$N$33,ROWS($N$33:N43)-1,COLUMNS($N$33:N43)-1),\"\")","v":""},{"$f":"IF(OFFSET(DE102_3!$O$33,ROWS($O$33:O43)-1,COLUMNS($O$33:O43)-1)<>\"\",OFFSET(DE102_3!$O$33,ROWS($O$33:O43)-1,COLUMNS($O$33:O43)-1),\"\")","v":""},{"$f":"IF(OFFSET(DE102_3!$P$33,ROWS($P$33:P43)-1,COLUMNS($P$33:P43)-1)<>\"\",OFFSET(DE102_3!$P$33,ROWS($P$33:P43)-1,COLUMNS($P$33:P43)-1),\"\")","v":""},{"$f":"IF(OFFSET(DE102_3!$Q$33,ROWS($Q$33:Q43)-1,COLUMNS($Q$33:Q43)-1)<>\"\",OFFSET(DE102_3!$Q$33,ROWS($Q$33:Q43)-1,COLUMNS($Q$33:Q43)-1),\"\")","v":""},{"$f":"IF(OFFSET(DE102_3!$R$33,ROWS($R$33:R43)-1,COLUMNS($R$33:R43)-1)<>\"\",OFFSET(DE102_3!$R$33,ROWS($R$33:R43)-1,COLUMNS($R$33:R43)-1),\"\")","v":""},{"$f":"IF(OFFSET(DE102_3!$T$33,ROWS($T$33:T43)-1,COLUMNS($T$33:T43)-1)<>\"\",OFFSET(DE102_3!$T$33,ROWS($T$33:T43)-1,COLUMNS($T$33:T43)-1),\"\")","v":""},{"$f":"IF(OFFSET(DE102_3!$V$33,ROWS($V$33:V43)-1,COLUMNS($V$33:V43)-1)<>\"\",OFFSET(DE102_3!$V$33,ROWS($V$33:V43)-1,COLUMNS($V$33:V43)-1),\"\")","v":""},{"$f":"IF(OFFSET(DE102_3!$W$33,ROWS($W$33:W43)-1,COLUMNS($W$33:W43)-1)<>\"\",OFFSET(DE102_3!$W$33,ROWS($W$33:W43)-1,COLUMNS($W$33:W43)-1),\"\")","v":""},{"$f":"IF(OFFSET(DE102_3!$X$33,ROWS($X$33:X43)-1,COLUMNS($X$33:X43)-1)<>\"\",OFFSET(DE102_3!$X$33,ROWS($X$33:X43)-1,COLUMNS($X$33:X43)-1),\"\")","v":""},{"$f":"IF(OFFSET(DE102_3!$Y$33,ROWS($Y$33:Y43)-1,COLUMNS($Y$33:Y43)-1)<>\"\",OFFSET(DE102_3!$Y$33,ROWS($Y$33:Y43)-1,COLUMNS($Y$33:Y43)-1),\"\")","v":""}]
[{"$f":"IF(OFFSET(DE102_3!$C$33,ROWS($C$33:C44)-1,COLUMNS($C$33:C44)-1)<>\"\",OFFSET(DE102_3!$C$33,ROWS($C$33:C44)-1,COLUMNS($C$33:C44)-1),\"\")","v":""},{"$f":"IF(OFFSET(DE102_3!$D$33,ROWS($D$33:D44)-1,COLUMNS($D$33:D44)-1)<>\"\",OFFSET(DE102_3!$D$33,ROWS($D$33:D44)-1,COLUMNS($D$33:D44)-1),\"\")","v":""},{"$f":"IF(OFFSET(DE102_3!$E$33,ROWS($E$33:E44)-1,COLUMNS($E$33:E44)-1)<>\"\",OFFSET(DE102_3!$E$33,ROWS($E$33:E44)-1,COLUMNS($E$33:E44)-1),\"\")","v":""},{"$f":"IF(OFFSET(DE102_3!$F$33,ROWS($F$33:F44)-1,COLUMNS($F$33:F44)-1)<>\"\",OFFSET(DE102_3!$F$33,ROWS($F$33:F44)-1,COLUMNS($F$33:F44)-1),\"\")","v":""},{"$f":"IF(OFFSET(DE102_3!$G$33,ROWS($G$33:G44)-1,COLUMNS($G$33:G44)-1)<>\"\",OFFSET(DE102_3!$G$33,ROWS($G$33:G44)-1,COLUMNS($G$33:G44)-1),\"\")","v":""},{"$f":"IF(OFFSET(DE102_3!$H$33,ROWS($H$33:H44)-1,COLUMNS($H$33:H44)-1)<>\"\",OFFSET(DE102_3!$H$33,ROWS($H$33:H44)-1,COLUMNS($H$33:H44)-1),\"\")","v":""},{"$f":"IF(OFFSET(DE102_3!$I$33,ROWS($I$33:I44)-1,COLUMNS($I$33:I44)-1)<>\"\",OFFSET(DE102_3!$I$33,ROWS($I$33:I44)-1,COLUMNS($I$33:I44)-1),\"\")","v":""},{"$f":"IF(OFFSET(DE102_3!$J$33,ROWS($J$33:J44)-1,COLUMNS($J$33:J44)-1)<>\"\",OFFSET(DE102_3!$J$33,ROWS($J$33:J44)-1,COLUMNS($J$33:J44)-1),\"\")","v":""},{"$f":"IF(OFFSET(DE102_3!$K$33,ROWS($K$33:K44)-1,COLUMNS($K$33:K44)-1)<>\"\",OFFSET(DE102_3!$K$33,ROWS($K$33:K44)-1,COLUMNS($K$33:K44)-1),\"\")","v":""},{"$f":"IF(OFFSET(DE102_3!$L$33,ROWS($L$33:L44)-1,COLUMNS($L$33:L44)-1)<>\"\",OFFSET(DE102_3!$L$33,ROWS($L$33:L44)-1,COLUMNS($L$33:L44)-1),\"\")","v":""},{"$f":"IF(OFFSET(DE102_3!$M$33,ROWS($M$33:M44)-1,COLUMNS($M$33:M44)-1)<>\"\",OFFSET(DE102_3!$M$33,ROWS($M$33:M44)-1,COLUMNS($M$33:M44)-1),\"\")","v":""},{"$f":"IF(OFFSET(DE102_3!$N$33,ROWS($N$33:N44)-1,COLUMNS($N$33:N44)-1)<>\"\",OFFSET(DE102_3!$N$33,ROWS($N$33:N44)-1,COLUMNS($N$33:N44)-1),\"\")","v":""},{"$f":"IF(OFFSET(DE102_3!$O$33,ROWS($O$33:O44)-1,COLUMNS($O$33:O44)-1)<>\"\",OFFSET(DE102_3!$O$33,ROWS($O$33:O44)-1,COLUMNS($O$33:O44)-1),\"\")","v":""},{"$f":"IF(OFFSET(DE102_3!$P$33,ROWS($P$33:P44)-1,COLUMNS($P$33:P44)-1)<>\"\",OFFSET(DE102_3!$P$33,ROWS($P$33:P44)-1,COLUMNS($P$33:P44)-1),\"\")","v":""},{"$f":"IF(OFFSET(DE102_3!$Q$33,ROWS($Q$33:Q44)-1,COLUMNS($Q$33:Q44)-1)<>\"\",OFFSET(DE102_3!$Q$33,ROWS($Q$33:Q44)-1,COLUMNS($Q$33:Q44)-1),\"\")","v":""},{"$f":"IF(OFFSET(DE102_3!$R$33,ROWS($R$33:R44)-1,COLUMNS($R$33:R44)-1)<>\"\",OFFSET(DE102_3!$R$33,ROWS($R$33:R44)-1,COLUMNS($R$33:R44)-1),\"\")","v":""},{"$f":"IF(OFFSET(DE102_3!$T$33,ROWS($T$33:T44)-1,COLUMNS($T$33:T44)-1)<>\"\",OFFSET(DE102_3!$T$33,ROWS($T$33:T44)-1,COLUMNS($T$33:T44)-1),\"\")","v":""},{"$f":"IF(OFFSET(DE102_3!$V$33,ROWS($V$33:V44)-1,COLUMNS($V$33:V44)-1)<>\"\",OFFSET(DE102_3!$V$33,ROWS($V$33:V44)-1,COLUMNS($V$33:V44)-1),\"\")","v":""},{"$f":"IF(OFFSET(DE102_3!$W$33,ROWS($W$33:W44)-1,COLUMNS($W$33:W44)-1)<>\"\",OFFSET(DE102_3!$W$33,ROWS($W$33:W44)-1,COLUMNS($W$33:W44)-1),\"\")","v":""},{"$f":"IF(OFFSET(DE102_3!$X$33,ROWS($X$33:X44)-1,COLUMNS($X$33:X44)-1)<>\"\",OFFSET(DE102_3!$X$33,ROWS($X$33:X44)-1,COLUMNS($X$33:X44)-1),\"\")","v":""},{"$f":"IF(OFFSET(DE102_3!$Y$33,ROWS($Y$33:Y44)-1,COLUMNS($Y$33:Y44)-1)<>\"\",OFFSET(DE102_3!$Y$33,ROWS($Y$33:Y44)-1,COLUMNS($Y$33:Y44)-1),\"\")","v":""}]
[{"$f":"IF(OFFSET(DE102_3!$C$33,ROWS($C$33:C45)-1,COLUMNS($C$33:C45)-1)<>\"\",OFFSET(DE102_3!$C$33,ROWS($C$33:C45)-1,COLUMNS($C$33:C45)-1),\"\")","v":""},{"$f":"IF(OFFSET(DE102_3!$D$33,ROWS($D$33:D45)-1,COLUMNS($D$33:D45)-1)<>\"\",OFFSET(DE102_3!$D$33,ROWS($D$33:D45)-1,COLUMNS($D$33:D45)-1),\"\")","v":""},{"$f":"IF(OFFSET(DE102_3!$E$33,ROWS($E$33:E45)-1,COLUMNS($E$33:E45)-1)<>\"\",OFFSET(DE102_3!$E$33,ROWS($E$33:E45)-1,COLUMNS($E$33:E45)-1),\"\")","v":""},{"$f":"IF(OFFSET(DE102_3!$F$33,ROWS($F$33:F45)-1,COLUMNS($F$33:F45)-1)<>\"\",OFFSET(DE102_3!$F$33,ROWS($F$33:F45)-1,COLUMNS($F$33:F45)-1),\"\")","v":""},{"$f":"IF(OFFSET(DE102_3!$G$33,ROWS($G$33:G45)-1,COLUMNS($G$33:G45)-1)<>\"\",OFFSET(DE102_3!$G$33,ROWS($G$33:G45)-1,COLUMNS($G$33:G45)-1),\"\")","v":""},{"$f":"IF(OFFSET(DE102_3!$H$33,ROWS($H$33:H45)-1,COLUMNS($H$33:H45)-1)<>\"\",OFFSET(DE102_3!$H$33,ROWS($H$33:H45)-1,COLUMNS($H$33:H45)-1),\"\")","v":""},{"$f":"IF(OFFSET(DE102_3!$I$33,ROWS($I$33:I45)-1,COLUMNS($I$33:I45)-1)<>\"\",OFFSET(DE102_3!$I$33,ROWS($I$33:I45)-1,COLUMNS($I$33:I45)-1),\"\")","v":""},{"$f":"IF(OFFSET(DE102_3!$J$33,ROWS($J$33:J45)-1,COLUMNS($J$33:J45)-1)<>\"\",OFFSET(DE102_3!$J$33,ROWS($J$33:J45)-1,COLUMNS($J$33:J45)-1),\"\")","v":""},{"$f":"IF(OFFSET(DE102_3!$K$33,ROWS($K$33:K45)-1,COLUMNS($K$33:K45)-1)<>\"\",OFFSET(DE102_3!$K$33,ROWS($K$33:K45)-1,COLUMNS($K$33:K45)-1),\"\")","v":""},{"$f":"IF(OFFSET(DE102_3!$L$33,ROWS($L$33:L45)-1,COLUMNS($L$33:L45)-1)<>\"\",OFFSET(DE102_3!$L$33,ROWS($L$33:L45)-1,COLUMNS($L$33:L45)-1),\"\")","v":""},{"$f":"IF(OFFSET(DE102_3!$M$33,ROWS($M$33:M45)-1,COLUMNS($M$33:M45)-1)<>\"\",OFFSET(DE102_3!$M$33,ROWS($M$33:M45)-1,COLUMNS($M$33:M45)-1),\"\")","v":""},{"$f":"IF(OFFSET(DE102_3!$N$33,ROWS($N$33:N45)-1,COLUMNS($N$33:N45)-1)<>\"\",OFFSET(DE102_3!$N$33,ROWS($N$33:N45)-1,COLUMNS($N$33:N45)-1),\"\")","v":""},{"$f":"IF(OFFSET(DE102_3!$O$33,ROWS($O$33:O45)-1,COLUMNS($O$33:O45)-1)<>\"\",OFFSET(DE102_3!$O$33,ROWS($O$33:O45)-1,COLUMNS($O$33:O45)-1),\"\")","v":""},{"$f":"IF(OFFSET(DE102_3!$P$33,ROWS($P$33:P45)-1,COLUMNS($P$33:P45)-1)<>\"\",OFFSET(DE102_3!$P$33,ROWS($P$33:P45)-1,COLUMNS($P$33:P45)-1),\"\")","v":""},{"$f":"IF(OFFSET(DE102_3!$Q$33,ROWS($Q$33:Q45)-1,COLUMNS($Q$33:Q45)-1)<>\"\",OFFSET(DE102_3!$Q$33,ROWS($Q$33:Q45)-1,COLUMNS($Q$33:Q45)-1),\"\")","v":""},{"$f":"IF(OFFSET(DE102_3!$R$33,ROWS($R$33:R45)-1,COLUMNS($R$33:R45)-1)<>\"\",OFFSET(DE102_3!$R$33,ROWS($R$33:R45)-1,COLUMNS($R$33:R45)-1),\"\")","v":""},{"$f":"IF(OFFSET(DE102_3!$T$33,ROWS($T$33:T45)-1,COLUMNS($T$33:T45)-1)<>\"\",OFFSET(DE102_3!$T$33,ROWS($T$33:T45)-1,COLUMNS($T$33:T45)-1),\"\")","v":""},{"$f":"IF(OFFSET(DE102_3!$V$33,ROWS($V$33:V45)-1,COLUMNS($V$33:V45)-1)<>\"\",OFFSET(DE102_3!$V$33,ROWS($V$33:V45)-1,COLUMNS($V$33:V45)-1),\"\")","v":""},{"$f":"IF(OFFSET(DE102_3!$W$33,ROWS($W$33:W45)-1,COLUMNS($W$33:W45)-1)<>\"\",OFFSET(DE102_3!$W$33,ROWS($W$33:W45)-1,COLUMNS($W$33:W45)-1),\"\")","v":""},{"$f":"IF(OFFSET(DE102_3!$X$33,ROWS($X$33:X45)-1,COLUMNS($X$33:X45)-1)<>\"\",OFFSET(DE102_3!$X$33,ROWS($X$33:X45)-1,COLUMNS($X$33:X45)-1),\"\")","v":""},{"$f":"IF(OFFSET(DE102_3!$Y$33,ROWS($Y$33:Y45)-1,COLUMNS($Y$33:Y45)-1)<>\"\",OFFSET(DE102_3!$Y$33,ROWS($Y$33:Y45)-1,COLUMNS($Y$33:Y45)-1),\"\")","v":""}]
[{"$f":"IF(OFFSET(DE102_3!$C$33,ROWS($C$33:C46)-1,COLUMNS($C$33:C46)-1)<>\"\",OFFSET(DE102_3!$C$33,ROWS($C$33:C46)-1,COLUMNS($C$33:C46)-1),\"\")","v":""},{"$f":"IF(OFFSET(DE102_3!$D$33,ROWS($D$33:D46)-1,COLUMNS($D$33:D46)-1)<>\"\",OFFSET(DE102_3!$D$33,ROWS($D$33:D46)-1,COLUMNS($D$33:D46)-1),\"\")","v":""},{"$f":"IF(OFFSET(DE102_3!$E$33,ROWS($E$33:E46)-1,COLUMNS($E$33:E46)-1)<>\"\",OFFSET(DE102_3!$E$33,ROWS($E$33:E46)-1,COLUMNS($E$33:E46)-1),\"\")","v":""},{"$f":"IF(OFFSET(DE102_3!$F$33,ROWS($F$33:F46)-1,COLUMNS($F$33:F46)-1)<>\"\",OFFSET(DE102_3!$F$33,ROWS($F$33:F46)-1,COLUMNS($F$33:F46)-1),\"\")","v":""},{"$f":"IF(OFFSET(DE102_3!$G$33,ROWS($G$33:G46)-1,COLUMNS($G$33:G46)-1)<>\"\",OFFSET(DE102_3!$G$33,ROWS($G$33:G46)-1,COLUMNS($G$33:G46)-1),\"\")","v":""},{"$f":"IF(OFFSET(DE102_3!$H$33,ROWS($H$33:H46)-1,COLUMNS($H$33:H46)-1)<>\"\",OFFSET(DE102_3!$H$33,ROWS($H$33:H46)-1,COLUMNS($H$33:H46)-1),\"\")","v":""},{"$f":"IF(OFFSET(DE102_3!$I$33,ROWS($I$33:I46)-1,COLUMNS($I$33:I46)-1)<>\"\",OFFSET(DE102_3!$I$33,ROWS($I$33:I46)-1,COLUMNS($I$33:I46)-1),\"\")","v":""},{"$f":"IF(OFFSET(DE102_3!$J$33,ROWS($J$33:J46)-1,COLUMNS($J$33:J46)-1)<>\"\",OFFSET(DE102_3!$J$33,ROWS($J$33:J46)-1,COLUMNS($J$33:J46)-1),\"\")","v":""},{"$f":"IF(OFFSET(DE102_3!$K$33,ROWS($K$33:K46)-1,COLUMNS($K$33:K46)-1)<>\"\",OFFSET(DE102_3!$K$33,ROWS($K$33:K46)-1,COLUMNS($K$33:K46)-1),\"\")","v":""},{"$f":"IF(OFFSET(DE102_3!$L$33,ROWS($L$33:L46)-1,COLUMNS($L$33:L46)-1)<>\"\",OFFSET(DE102_3!$L$33,ROWS($L$33:L46)-1,COLUMNS($L$33:L46)-1),\"\")","v":""},{"$f":"IF(OFFSET(DE102_3!$M$33,ROWS($M$33:M46)-1,COLUMNS($M$33:M46)-1)<>\"\",OFFSET(DE102_3!$M$33,ROWS($M$33:M46)-1,COLUMNS($M$33:M46)-1),\"\")","v":""},{"$f":"IF(OFFSET(DE102_3!$N$33,ROWS($N$33:N46)-1,COLUMNS($N$33:N46)-1)<>\"\",OFFSET(DE102_3!$N$33,ROWS($N$33:N46)-1,COLUMNS($N$33:N46)-1),\"\")","v":""},{"$f":"IF(OFFSET(DE102_3!$O$33,ROWS($O$33:O46)-1,COLUMNS($O$33:O46)-1)<>\"\",OFFSET(DE102_3!$O$33,ROWS($O$33:O46)-1,COLUMNS($O$33:O46)-1),\"\")","v":""},{"$f":"IF(OFFSET(DE102_3!$P$33,ROWS($P$33:P46)-1,COLUMNS($P$33:P46)-1)<>\"\",OFFSET(DE102_3!$P$33,ROWS($P$33:P46)-1,COLUMNS($P$33:P46)-1),\"\")","v":""},{"$f":"IF(OFFSET(DE102_3!$Q$33,ROWS($Q$33:Q46)-1,COLUMNS($Q$33:Q46)-1)<>\"\",OFFSET(DE102_3!$Q$33,ROWS($Q$33:Q46)-1,COLUMNS($Q$33:Q46)-1),\"\")","v":""},{"$f":"IF(OFFSET(DE102_3!$R$33,ROWS($R$33:R46)-1,COLUMNS($R$33:R46)-1)<>\"\",OFFSET(DE102_3!$R$33,ROWS($R$33:R46)-1,COLUMNS($R$33:R46)-1),\"\")","v":""},{"$f":"IF(OFFSET(DE102_3!$T$33,ROWS($T$33:T46)-1,COLUMNS($T$33:T46)-1)<>\"\",OFFSET(DE102_3!$T$33,ROWS($T$33:T46)-1,COLUMNS($T$33:T46)-1),\"\")","v":""},{"$f":"IF(OFFSET(DE102_3!$V$33,ROWS($V$33:V46)-1,COLUMNS($V$33:V46)-1)<>\"\",OFFSET(DE102_3!$V$33,ROWS($V$33:V46)-1,COLUMNS($V$33:V46)-1),\"\")","v":""},{"$f":"IF(OFFSET(DE102_3!$W$33,ROWS($W$33:W46)-1,COLUMNS($W$33:W46)-1)<>\"\",OFFSET(DE102_3!$W$33,ROWS($W$33:W46)-1,COLUMNS($W$33:W46)-1),\"\")","v":""},{"$f":"IF(OFFSET(DE102_3!$X$33,ROWS($X$33:X46)-1,COLUMNS($X$33:X46)-1)<>\"\",OFFSET(DE102_3!$X$33,ROWS($X$33:X46)-1,COLUMNS($X$33:X46)-1),\"\")","v":""},{"$f":"IF(OFFSET(DE102_3!$Y$33,ROWS($Y$33:Y46)-1,COLUMNS($Y$33:Y46)-1)<>\"\",OFFSET(DE102_3!$Y$33,ROWS($Y$33:Y46)-1,COLUMNS($Y$33:Y46)-1),\"\")","v":""}]
[{"$f":"IF(OFFSET(DE102_3!$C$33,ROWS($C$33:C47)-1,COLUMNS($C$33:C47)-1)<>\"\",OFFSET(DE102_3!$C$33,ROWS($C$33:C47)-1,COLUMNS($C$33:C47)-1),\"\")","v":""},{"$f":"IF(OFFSET(DE102_3!$D$33,ROWS($D$33:D47)-1,COLUMNS($D$33:D47)-1)<>\"\",OFFSET(DE102_3!$D$33,ROWS($D$33:D47)-1,COLUMNS($D$33:D47)-1),\"\")","v":""},{"$f":"IF(OFFSET(DE102_3!$E$33,ROWS($E$33:E47)-1,COLUMNS($E$33:E47)-1)<>\"\",OFFSET(DE102_3!$E$33,ROWS($E$33:E47)-1,COLUMNS($E$33:E47)-1),\"\")","v":""},{"$f":"IF(OFFSET(DE102_3!$F$33,ROWS($F$33:F47)-1,COLUMNS($F$33:F47)-1)<>\"\",OFFSET(DE102_3!$F$33,ROWS($F$33:F47)-1,COLUMNS($F$33:F47)-1),\"\")","v":""},{"$f":"IF(OFFSET(DE102_3!$G$33,ROWS($G$33:G47)-1,COLUMNS($G$33:G47)-1)<>\"\",OFFSET(DE102_3!$G$33,ROWS($G$33:G47)-1,COLUMNS($G$33:G47)-1),\"\")","v":""},{"$f":"IF(OFFSET(DE102_3!$H$33,ROWS($H$33:H47)-1,COLUMNS($H$33:H47)-1)<>\"\",OFFSET(DE102_3!$H$33,ROWS($H$33:H47)-1,COLUMNS($H$33:H47)-1),\"\")","v":""},{"$f":"IF(OFFSET(DE102_3!$I$33,ROWS($I$33:I47)-1,COLUMNS($I$33:I47)-1)<>\"\",OFFSET(DE102_3!$I$33,ROWS($I$33:I47)-1,COLUMNS($I$33:I47)-1),\"\")","v":""},{"$f":"IF(OFFSET(DE102_3!$J$33,ROWS($J$33:J47)-1,COLUMNS($J$33:J47)-1)<>\"\",OFFSET(DE102_3!$J$33,ROWS($J$33:J47)-1,COLUMNS($J$33:J47)-1),\"\")","v":""},{"$f":"IF(OFFSET(DE102_3!$K$33,ROWS($K$33:K47)-1,COLUMNS($K$33:K47)-1)<>\"\",OFFSET(DE102_3!$K$33,ROWS($K$33:K47)-1,COLUMNS($K$33:K47)-1),\"\")","v":""},{"$f":"IF(OFFSET(DE102_3!$L$33,ROWS($L$33:L47)-1,COLUMNS($L$33:L47)-1)<>\"\",OFFSET(DE102_3!$L$33,ROWS($L$33:L47)-1,COLUMNS($L$33:L47)-1),\"\")","v":""},{"$f":"IF(OFFSET(DE102_3!$M$33,ROWS($M$33:M47)-1,COLUMNS($M$33:M47)-1)<>\"\",OFFSET(DE102_3!$M$33,ROWS($M$33:M47)-1,COLUMNS($M$33:M47)-1),\"\")","v":""},{"$f":"IF(OFFSET(DE102_3!$N$33,ROWS($N$33:N47)-1,COLUMNS($N$33:N47)-1)<>\"\",OFFSET(DE102_3!$N$33,ROWS($N$33:N47)-1,COLUMNS($N$33:N47)-1),\"\")","v":""},{"$f":"IF(OFFSET(DE102_3!$O$33,ROWS($O$33:O47)-1,COLUMNS($O$33:O47)-1)<>\"\",OFFSET(DE102_3!$O$33,ROWS($O$33:O47)-1,COLUMNS($O$33:O47)-1),\"\")","v":""},{"$f":"IF(OFFSET(DE102_3!$P$33,ROWS($P$33:P47)-1,COLUMNS($P$33:P47)-1)<>\"\",OFFSET(DE102_3!$P$33,ROWS($P$33:P47)-1,COLUMNS($P$33:P47)-1),\"\")","v":""},{"$f":"IF(OFFSET(DE102_3!$Q$33,ROWS($Q$33:Q47)-1,COLUMNS($Q$33:Q47)-1)<>\"\",OFFSET(DE102_3!$Q$33,ROWS($Q$33:Q47)-1,COLUMNS($Q$33:Q47)-1),\"\")","v":""},{"$f":"IF(OFFSET(DE102_3!$R$33,ROWS($R$33:R47)-1,COLUMNS($R$33:R47)-1)<>\"\",OFFSET(DE102_3!$R$33,ROWS($R$33:R47)-1,COLUMNS($R$33:R47)-1),\"\")","v":""},{"$f":"IF(OFFSET(DE102_3!$T$33,ROWS($T$33:T47)-1,COLUMNS($T$33:T47)-1)<>\"\",OFFSET(DE102_3!$T$33,ROWS($T$33:T47)-1,COLUMNS($T$33:T47)-1),\"\")","v":""},{"$f":"IF(OFFSET(DE102_3!$V$33,ROWS($V$33:V47)-1,COLUMNS($V$33:V47)-1)<>\"\",OFFSET(DE102_3!$V$33,ROWS($V$33:V47)-1,COLUMNS($V$33:V47)-1),\"\")","v":""},{"$f":"IF(OFFSET(DE102_3!$W$33,ROWS($W$33:W47)-1,COLUMNS($W$33:W47)-1)<>\"\",OFFSET(DE102_3!$W$33,ROWS($W$33:W47)-1,COLUMNS($W$33:W47)-1),\"\")","v":""},{"$f":"IF(OFFSET(DE102_3!$X$33,ROWS($X$33:X47)-1,COLUMNS($X$33:X47)-1)<>\"\",OFFSET(DE102_3!$X$33,ROWS($X$33:X47)-1,COLUMNS($X$33:X47)-1),\"\")","v":""},{"$f":"IF(OFFSET(DE102_3!$Y$33,ROWS($Y$33:Y47)-1,COLUMNS($Y$33:Y47)-1)<>\"\",OFFSET(DE102_3!$Y$33,ROWS($Y$33:Y47)-1,COLUMNS($Y$33:Y47)-1),\"\")","v":""}]
[{"$f":"IF(OFFSET(DE102_3!$C$33,ROWS($C$33:C48)-1,COLUMNS($C$33:C48)-1)<>\"\",OFFSET(DE102_3!$C$33,ROWS($C$33:C48)-1,COLUMNS($C$33:C48)-1),\"\")","v":""},{"$f":"IF(OFFSET(DE102_3!$D$33,ROWS($D$33:D48)-1,COLUMNS($D$33:D48)-1)<>\"\",OFFSET(DE102_3!$D$33,ROWS($D$33:D48)-1,COLUMNS($D$33:D48)-1),\"\")","v":""},{"$f":"IF(OFFSET(DE102_3!$E$33,ROWS($E$33:E48)-1,COLUMNS($E$33:E48)-1)<>\"\",OFFSET(DE102_3!$E$33,ROWS($E$33:E48)-1,COLUMNS($E$33:E48)-1),\"\")","v":""},{"$f":"IF(OFFSET(DE102_3!$F$33,ROWS($F$33:F48)-1,COLUMNS($F$33:F48)-1)<>\"\",OFFSET(DE102_3!$F$33,ROWS($F$33:F48)-1,COLUMNS($F$33:F48)-1),\"\")","v":""},{"$f":"IF(OFFSET(DE102_3!$G$33,ROWS($G$33:G48)-1,COLUMNS($G$33:G48)-1)<>\"\",OFFSET(DE102_3!$G$33,ROWS($G$33:G48)-1,COLUMNS($G$33:G48)-1),\"\")","v":""},{"$f":"IF(OFFSET(DE102_3!$H$33,ROWS($H$33:H48)-1,COLUMNS($H$33:H48)-1)<>\"\",OFFSET(DE102_3!$H$33,ROWS($H$33:H48)-1,COLUMNS($H$33:H48)-1),\"\")","v":""},{"$f":"IF(OFFSET(DE102_3!$I$33,ROWS($I$33:I48)-1,COLUMNS($I$33:I48)-1)<>\"\",OFFSET(DE102_3!$I$33,ROWS($I$33:I48)-1,COLUMNS($I$33:I48)-1),\"\")","v":""},{"$f":"IF(OFFSET(DE102_3!$J$33,ROWS($J$33:J48)-1,COLUMNS($J$33:J48)-1)<>\"\",OFFSET(DE102_3!$J$33,ROWS($J$33:J48)-1,COLUMNS($J$33:J48)-1),\"\")","v":""},{"$f":"IF(OFFSET(DE102_3!$K$33,ROWS($K$33:K48)-1,COLUMNS($K$33:K48)-1)<>\"\",OFFSET(DE102_3!$K$33,ROWS($K$33:K48)-1,COLUMNS($K$33:K48)-1),\"\")","v":""},{"$f":"IF(OFFSET(DE102_3!$L$33,ROWS($L$33:L48)-1,COLUMNS($L$33:L48)-1)<>\"\",OFFSET(DE102_3!$L$33,ROWS($L$33:L48)-1,COLUMNS($L$33:L48)-1),\"\")","v":""},{"$f":"IF(OFFSET(DE102_3!$M$33,ROWS($M$33:M48)-1,COLUMNS($M$33:M48)-1)<>\"\",OFFSET(DE102_3!$M$33,ROWS($M$33:M48)-1,COLUMNS($M$33:M48)-1),\"\")","v":""},{"$f":"IF(OFFSET(DE102_3!$N$33,ROWS($N$33:N48)-1,COLUMNS($N$33:N48)-1)<>\"\",OFFSET(DE102_3!$N$33,ROWS($N$33:N48)-1,COLUMNS($N$33:N48)-1),\"\")","v":""},{"$f":"IF(OFFSET(DE102_3!$O$33,ROWS($O$33:O48)-1,COLUMNS($O$33:O48)-1)<>\"\",OFFSET(DE102_3!$O$33,ROWS($O$33:O48)-1,COLUMNS($O$33:O48)-1),\"\")","v":""},{"$f":"IF(OFFSET(DE102_3!$P$33,ROWS($P$33:P48)-1,COLUMNS($P$33:P48)-1)<>\"\",OFFSET(DE102_3!$P$33,ROWS($P$33:P48)-1,COLUMNS($P$33:P48)-1),\"\")","v":""},{"$f":"IF(OFFSET(DE102_3!$Q$33,ROWS($Q$33:Q48)-1,COLUMNS($Q$33:Q48)-1)<>\"\",OFFSET(DE102_3!$Q$33,ROWS($Q$33:Q48)-1,COLUMNS($Q$33:Q48)-1),\"\")","v":""},{"$f":"IF(OFFSET(DE102_3!$R$33,ROWS($R$33:R48)-1,COLUMNS($R$33:R48)-1)<>\"\",OFFSET(DE102_3!$R$33,ROWS($R$33:R48)-1,COLUMNS($R$33:R48)-1),\"\")","v":""},{"$f":"IF(OFFSET(DE102_3!$T$33,ROWS($T$33:T48)-1,COLUMNS($T$33:T48)-1)<>\"\",OFFSET(DE102_3!$T$33,ROWS($T$33:T48)-1,COLUMNS($T$33:T48)-1),\"\")","v":""},{"$f":"IF(OFFSET(DE102_3!$V$33,ROWS($V$33:V48)-1,COLUMNS($V$33:V48)-1)<>\"\",OFFSET(DE102_3!$V$33,ROWS($V$33:V48)-1,COLUMNS($V$33:V48)-1),\"\")","v":""},{"$f":"IF(OFFSET(DE102_3!$W$33,ROWS($W$33:W48)-1,COLUMNS($W$33:W48)-1)<>\"\",OFFSET(DE102_3!$W$33,ROWS($W$33:W48)-1,COLUMNS($W$33:W48)-1),\"\")","v":""},{"$f":"IF(OFFSET(DE102_3!$X$33,ROWS($X$33:X48)-1,COLUMNS($X$33:X48)-1)<>\"\",OFFSET(DE102_3!$X$33,ROWS($X$33:X48)-1,COLUMNS($X$33:X48)-1),\"\")","v":""},{"$f":"IF(OFFSET(DE102_3!$Y$33,ROWS($Y$33:Y48)-1,COLUMNS($Y$33:Y48)-1)<>\"\",OFFSET(DE102_3!$Y$33,ROWS($Y$33:Y48)-1,COLUMNS($Y$33:Y48)-1),\"\")","v":""}]
[{"$f":"IF(OFFSET(DE102_3!$C$33,ROWS($C$33:C49)-1,COLUMNS($C$33:C49)-1)<>\"\",OFFSET(DE102_3!$C$33,ROWS($C$33:C49)-1,COLUMNS($C$33:C49)-1),\"\")","v":""},{"$f":"IF(OFFSET(DE102_3!$D$33,ROWS($D$33:D49)-1,COLUMNS($D$33:D49)-1)<>\"\",OFFSET(DE102_3!$D$33,ROWS($D$33:D49)-1,COLUMNS($D$33:D49)-1),\"\")","v":""},{"$f":"IF(OFFSET(DE102_3!$E$33,ROWS($E$33:E49)-1,COLUMNS($E$33:E49)-1)<>\"\",OFFSET(DE102_3!$E$33,ROWS($E$33:E49)-1,COLUMNS($E$33:E49)-1),\"\")","v":""},{"$f":"IF(OFFSET(DE102_3!$F$33,ROWS($F$33:F49)-1,COLUMNS($F$33:F49)-1)<>\"\",OFFSET(DE102_3!$F$33,ROWS($F$33:F49)-1,COLUMNS($F$33:F49)-1),\"\")","v":""},{"$f":"IF(OFFSET(DE102_3!$G$33,ROWS($G$33:G49)-1,COLUMNS($G$33:G49)-1)<>\"\",OFFSET(DE102_3!$G$33,ROWS($G$33:G49)-1,COLUMNS($G$33:G49)-1),\"\")","v":""},{"$f":"IF(OFFSET(DE102_3!$H$33,ROWS($H$33:H49)-1,COLUMNS($H$33:H49)-1)<>\"\",OFFSET(DE102_3!$H$33,ROWS($H$33:H49)-1,COLUMNS($H$33:H49)-1),\"\")","v":""},{"$f":"IF(OFFSET(DE102_3!$I$33,ROWS($I$33:I49)-1,COLUMNS($I$33:I49)-1)<>\"\",OFFSET(DE102_3!$I$33,ROWS($I$33:I49)-1,COLUMNS($I$33:I49)-1),\"\")","v":""},{"$f":"IF(OFFSET(DE102_3!$J$33,ROWS($J$33:J49)-1,COLUMNS($J$33:J49)-1)<>\"\",OFFSET(DE102_3!$J$33,ROWS($J$33:J49)-1,COLUMNS($J$33:J49)-1),\"\")","v":""},{"$f":"IF(OFFSET(DE102_3!$K$33,ROWS($K$33:K49)-1,COLUMNS($K$33:K49)-1)<>\"\",OFFSET(DE102_3!$K$33,ROWS($K$33:K49)-1,COLUMNS($K$33:K49)-1),\"\")","v":""},{"$f":"IF(OFFSET(DE102_3!$L$33,ROWS($L$33:L49)-1,COLUMNS($L$33:L49)-1)<>\"\",OFFSET(DE102_3!$L$33,ROWS($L$33:L49)-1,COLUMNS($L$33:L49)-1),\"\")","v":""},{"$f":"IF(OFFSET(DE102_3!$M$33,ROWS($M$33:M49)-1,COLUMNS($M$33:M49)-1)<>\"\",OFFSET(DE102_3!$M$33,ROWS($M$33:M49)-1,COLUMNS($M$33:M49)-1),\"\")","v":""},{"$f":"IF(OFFSET(DE102_3!$N$33,ROWS($N$33:N49)-1,COLUMNS($N$33:N49)-1)<>\"\",OFFSET(DE102_3!$N$33,ROWS($N$33:N49)-1,COLUMNS($N$33:N49)-1),\"\")","v":""},{"$f":"IF(OFFSET(DE102_3!$O$33,ROWS($O$33:O49)-1,COLUMNS($O$33:O49)-1)<>\"\",OFFSET(DE102_3!$O$33,ROWS($O$33:O49)-1,COLUMNS($O$33:O49)-1),\"\")","v":""},{"$f":"IF(OFFSET(DE102_3!$P$33,ROWS($P$33:P49)-1,COLUMNS($P$33:P49)-1)<>\"\",OFFSET(DE102_3!$P$33,ROWS($P$33:P49)-1,COLUMNS($P$33:P49)-1),\"\")","v":""},{"$f":"IF(OFFSET(DE102_3!$Q$33,ROWS($Q$33:Q49)-1,COLUMNS($Q$33:Q49)-1)<>\"\",OFFSET(DE102_3!$Q$33,ROWS($Q$33:Q49)-1,COLUMNS($Q$33:Q49)-1),\"\")","v":""},{"$f":"IF(OFFSET(DE102_3!$R$33,ROWS($R$33:R49)-1,COLUMNS($R$33:R49)-1)<>\"\",OFFSET(DE102_3!$R$33,ROWS($R$33:R49)-1,COLUMNS($R$33:R49)-1),\"\")","v":""},{"$f":"IF(OFFSET(DE102_3!$T$33,ROWS($T$33:T49)-1,COLUMNS($T$33:T49)-1)<>\"\",OFFSET(DE102_3!$T$33,ROWS($T$33:T49)-1,COLUMNS($T$33:T49)-1),\"\")","v":""},{"$f":"IF(OFFSET(DE102_3!$V$33,ROWS($V$33:V49)-1,COLUMNS($V$33:V49)-1)<>\"\",OFFSET(DE102_3!$V$33,ROWS($V$33:V49)-1,COLUMNS($V$33:V49)-1),\"\")","v":""},{"$f":"IF(OFFSET(DE102_3!$W$33,ROWS($W$33:W49)-1,COLUMNS($W$33:W49)-1)<>\"\",OFFSET(DE102_3!$W$33,ROWS($W$33:W49)-1,COLUMNS($W$33:W49)-1),\"\")","v":""},{"$f":"IF(OFFSET(DE102_3!$X$33,ROWS($X$33:X49)-1,COLUMNS($X$33:X49)-1)<>\"\",OFFSET(DE102_3!$X$33,ROWS($X$33:X49)-1,COLUMNS($X$33:X49)-1),\"\")","v":""},{"$f":"IF(OFFSET(DE102_3!$Y$33,ROWS($Y$33:Y49)-1,COLUMNS($Y$33:Y49)-1)<>\"\",OFFSET(DE102_3!$Y$33,ROWS($Y$33:Y49)-1,COLUMNS($Y$33:Y49)-1),\"\")","v":""}]

{"sheet":"PrintSheetTemplate","index":5,"n_rows":95,"n_cols":179,"rows_kept":95,"cut":false,"hidden":true,"merged":[[93,171,93,178],[94,1,94,178],[93,101,93,106],[93,107,93,118],[93,119,93,148],[93,149,93,158],[93,159,93,164],[93,165,93,170],[93,1,93,7],[93,8,93,14],[93,15,93,21],[93,22,93,30],[93,31,93,64],[93,65,93,100]]}
[" "]
[]
[]
[]
[]
[]
[]
[]
[]
[]
[]
[]
[]
[]
[]
[]
[]
[]
[]
[]
[]
[]
[]
[]
[]
[]
[]
[]
[]
[]
[]
[]
[]
[]
[]
[]
[]
[]
[]
[]
[]
[]
[]
[]
[]
[]
[]
[]
[]
[]
[]
[]
[]
[]
[]
[]
[]
[]
[]
[]
[]
[]
[]
[]
[]
[]
[]
[]
[]
[]
[]
[]
[]
[]
[]
[]
[]
[]
[]
[]
[]
[]
[]
[]
[]
[]
[]
[]
[]
[]
[]
[]
[null,"","","","","","","","","","","","","","","","","","","","","","","","","","","","","","","","","","","","","","","","","","","","","","","","","","","","","","","","","","","","","","","","","","","","","","","","","","","","","","","","","","","","","","","","","","","","","","","","","","","","","","","","","","","","","","","","","","","","","","","","","","","","","","","","","","","","","","","","","","","","","","","","","","","","","","","",null,"","","","","","","","","","","","","","","","","","","","","","","","","",""]
[null,"FILE NO.",null,null,null,null,null,null,{"$f":"IF(ProjectInformation!$B$11<>\"\",ProjectInformation!$B$11,\"\")","v":""},null,null,null,null,null,null,{"$f":"UPPER(ProjectInformation!$B$8)","v":"ENGLISH"},null,null,null,null,null,null,"DESIGN TEAM",null,null,null,null,null,null,null,null,{"$f":"IF(AND(ProjectInformation!$B$3<>\"\",ProjectInformation!$B$4<>\"\",ProjectInformation!$B$5<>\"\"),ProjectInformation!$B$3&\"\\\"&ProjectInformation!$B$4&\"\\\"&ProjectInformation!$B$5,IF(AND(ProjectInformation!$B$3<>\"\",ProjectInformation!$B$4<>\"\"),ProjectInformation!$B$3&\"\\\"&ProjectInformation!$B$4,IF(ProjectInformation!$B$3<>\"\",ProjectInformation!$B$3,\"\")))","v":"Flattery\\Johnson"},null,null,null,null,null,null,null,null,null,null,null,null,null,null,null,null,null,null,null,null,null,null,null,null,null,null,null,null,null,null,null,null,null,{"$f":"IF(ProjectInformation!$B$6<>\"\",ProjectInformation!$B$6,\"\")","v":"TAMA"},null,null,null,null,null,null,null,null,null,null,null,null,null,null,null,null,null,null,null,null,null,null,null,null,null,null,null,null,null,null,null,null,null,null,null,"COUNTY",null,null,null,null,null,"PROJECT NUMBER",null,null,null,null,null,null,null,null,null,null,null,{"$f":"IF(ProjectInformation!$B$7<>\"\",ProjectInformation!$B$7,\"\")","v":"NHSX-030-6(189)--3H-86"},null,null,null,null,null,null,null,null,null,null,null,null,null,null,null,null,null,null,null,null,null,null,null,null,null,null,null,null,null,"SHEET NUMBER",null,null,null,null,null,null,null,null,null,null,null,null,null,null,null,{"$f":"IF(FP94<>\"\",\"REVISED\",\"\")","v":"REVISED"},null,null,null,null,null,{"$f":"IF(ProjectInformation!$B$9<>\"\",ProjectInformation!$B$9,\"\")","v":"2018-08-20"}]
[""]

{"sheet":"Note1","index":6,"n_rows":1,"n_cols":1,"rows_kept":1,"cut":false,"hidden":true,"merged":[[0,0,2,0]]}
["SEE V SHEETS FOR ADDITIONAL BID ITEMS AND QUANTITIES"]

{"sheet":"BridgeBlock","index":7,"n_rows":4,"n_cols":14,"rows_kept":4,"cut":false,"hidden":true,"merged":[[2,2,2,8],[3,2,3,7],[2,9,2,12],[3,8,3,12]]}
[2]
[null,"","","","","","","","","","","","",""]
[null,null,"Design No.",null,null,null,null,null,null,{"$f":"IF(#REF!<>\"\",#REF!,\"\")","v":{"$error":"#REF!"}}]
[null,null,"File No.",null,null,null,null,null,{"$f":"IF(#REF!<>\"\",#REF!,\"\")","v":{"$error":"#REF!"}}]

{"sheet":"Index","index":8,"n_rows":185,"n_cols":15,"rows_kept":185,"cut":false,"hidden":true,"merged":[]}
["100-0A","1997-10-28","4.5.5","ADAIR",null,"Live English File Path","W:\\Highway\\Design\\RoadDesignDetails\\ExcelTabs\\",null,"Brian R. Smith","bsmith2","Methods","ROADWAY DESIGN",null,"102_3(1)","='102_3'!$A$1:$U$35"]
["100-1A","1997-07-15","10/01/15","ADAMS",null,"Live Metric File Path","W:\\Highway\\Design\\RoadDesignDetails\\ExcelTabs\\MetricTabs\\",null,"Khyle B. Clute","kclute","Methods","ROADWAY DESIGN"]
["100-1C","2012-04-17","C","ALLAMAKEE",null,"Index File Path","W:\\Highway\\Design\\RoadDesignDetails\\PDFsandWebFiles\\Indexes\\",null,"Thomas M. Hamski","thamski","Methods","ROADWAY DESIGN"]
["100-1D","2005-10-18",null,"APPANOOSE",null,"Index File Name","TNT_EnglishIndexes.xlsx",null,"Wesley L. Mayberry","wmayber","Methods","ROADWAY DESIGN"]
["100-4A","2002-10-29",null,"AUDUBON",null,"Last Revision English File Path","W:\\Highway\\Design\\RoadDesignDetails\\Old_Details\\ExcelTabs\\",null,"John M. Narigon","jnarigo","Methods","ROADWAY DESIGN"]
["100-7","2012-10-16",null,"BENTON",null,"Last Revision Metric File Path","W:\\Highway\\Design\\RoadDesignDetails\\Old_Details\\ExcelTabs\\MetricTabs\\",null,"Christopher Poole","cpoole","Methods","ROADWAY DESIGN"]
["100-9","2017-10-17",null,"BLACK HAWK",null,"Seed Path","W:\\Highway\\Design\\CADD\\SpreadSheets\\ExcelTabulations.xltm",null,"Daniel J. Harness","dharnes","Methods","ROADWAY DESIGN"]
["100-10","2014-10-21",null,"BOONE",null,"VersionCheck Path","W:\\Highway\\Design\\CADD\\SpreadSheets\\ExcelTabulations.xlsm",null,"Jason M. Holst","jholst","Road2","ROADWAY DESIGN"]
["100-11","2017-04-18",null,"BREMER",null,"Standard Road Plan Path","W:\\Highway\\Design\\StandardRoadPlans\\PDFsAndWebFiles\\Indexes\\SRP_EnglishIndex.xls",null,"Jason R. Strum","jstrum","Road1","ROADWAY DESIGN"]
["100-12A","2008-08-01",null,"BUCHANAN",null,"Last Revision Standard Road Plan Path","W:\\Highway\\Design\\StandardRoadPlans\\PDFsAndWebFiles\\Old_Indexes\\SRP_EnglishIndex.xls",null,"Robert A. Schoenrock","rschoen","Road1","ROADWAY DESIGN"]
["100-13","2013-10-15",null,"BUENA VISTA",null,"AddIn Path","W:\\Highway\\Design\\CADD\\SpreadSheets\\ExcelTabulations.xlam",null,"Stacy M. Ryan","sryan","Road1","ROADWAY DESIGN"]
["100-14","2017-10-17",null,"BUTLER",null,"Old Files Path","W:\\Highway\\Design\\RoadDesignDetails\\Old_Details\\ExcelTabs\\",null,"Nathan A. Thede","nthede","Road1","ROADWAY DESIGN"]
["100-15","2013-10-15",null,"CALHOUN",null,null,null,null,"Yanxiao Jia","yjia","Road2","ROADWAY DESIGN"]
["100-16","2010-10-19",null,"CARROLL",null,null,null,null,"Ryan R. Miller","rmille3","Road2","ROADWAY DESIGN"]
["100-17","2010-04-20",null,"CASS",null,null,null,null,"Dustin T. Skogerboe","dskoge2","Road2","ROADWAY DESIGN"]
["100-18","2017-10-17",null,"CEDAR",null,null,null,null,"Dung T. Ta","dta","Road2","ROADWAY DESIGN"]
["100-19","2016-04-19",null,"CERRO GORDO",null,null,null,null,"Allison L. P. Smyth","asmyth","Road2","ROADWAY DESIGN"]
["100-20","2008-08-01",null,"CHEROKEE",null,null,null,null,"Paul W. Flattery","pflatte","Road3","ROADWAY DESIGN"]
["100-21","2008-08-01",null,"CHICKASAW",null,null,null,null,"Kelly C. Bell","kbell","Road3","ROADWAY DESIGN"]
["100-22","2015-04-21",null,"CLARKE",null,null,null,null,"Angela K. Johnson","ajohns1","Road3","ROADWAY DESIGN"]
["100-23","2015-04-21",null,"CLAY",null,null,null,null,"Elijah D. Gansen","egansen","Road3","ROADWAY DESIGN"]
["100-24","2015-04-21",null,"CLAYTON",null,null,null,null,"James R. Schoenrock","jschoen","Consultant","ROADWAY DESIGN"]
["100-25","2015-04-21",null,"CLINTON",null,null,null,null,"Randall E. Schlei","rschlie","Consultant","ROADWAY DESIGN"]
["100-26","2013-10-15",null,"CRAWFORD",null,null,null,null,"Mark D. Mastellar","mmastel","Roadside","ROADWAY DESIGN"]
["100-27","2009-10-20",null,"DALLAS",null,null,null,null,"Robert L. Stanley","rstanle","Soils","GEOTECHNICAL DESIGN"]
["100-28","2010-10-19",null,"DAVIS",null,null,null,null,"Stephen J. Megivern","smegive","Soils","GEOTECHNICAL DESIGN"]
["100-32","2016-10-18",null,"DECATUR",null,null,null,null,"Mark A. Dell","mdell","Soils","GEOTECHNICAL DESIGN"]
["100-33","2016-10-18",null,"DELAWARE",null,null,null,null,"David R. Claman","dclaman","Bridge","HYDRAULIC DESIGN"]
["100-34","2017-10-17",null,"DES MOINES",null,null,null,null,"Zachary K. Abrams","zabrams","TrafficAndSafety","ROADWAY DESIGN"]
["100-35","VOID",null,"DICKINSON"]
["100-36","2017-04-18",null,"DUBUQUE"]
["100-37","2017-04-18",null,"EMMET"]
["101-4","2002-04-30",null,"FAYETTE"]
["101-5","2002-04-30",null,"FLOYD"]
["101-6","2002-04-30",null,"FRANKLIN"]
["101-7","2002-04-30",null,"FREMONT"]
["101-8","2014-10-21",null,"GREENE"]
["101-10","2015-04-21",null,"GRUNDY"]
["101-16","2009-10-20",null,"GUTHRIE"]
["101-17","2011-04-19",null,"HAMILTON"]
["101-18","2011-04-19",null,"HANCOCK"]
["102-3","2013-10-15",null,"HARDIN"]
["102-4","2011-10-18",null,"HARRISON"]
["102-5","2017-04-18",null,"HENRY"]
["102-5A","2015-10-20",null,"HOWARD"]
["102-6C","2017-04-18",null,"HUMBOLDT"]
["102-10","2017-04-18",null,"IDA"]
["102-11","2017-04-18",null,"IOWA"]
["102-12","2017-04-18",null,"JACKSON"]
["102-14","2017-04-18",null,"JASPER"]
["103-1","2017-10-17",null,"JEFFERSON"]
["103-3","2012-10-16",null,"JOHNSON"]
["103-5","2013-10-15",null,"JONES"]
["103-6","2017-10-17",null,"KEOKUK"]
["103-7","2008-08-01",null,"KOSSUTH"]
["103-10","2017-04-18",null,"LEE"]
["103-11","2017-10-17",null,"LINN"]
["104-3","2017-10-17",null,"LOUISA"]
["104-4","2017-10-17",null,"LUCAS"]
["104-5A","2013-10-15",null,"LYON"]
["104-5B","2015-10-20",null,"MADISON"]
["104-5C","2017-10-17",null,"MAHASKA"]
["104-6","2017-10-17",null,"MARION"]
["104-8","2015-04-21",null,"MARSHALL"]
["104-8A","2017-10-17",null,"MILLS"]
["104-9","2017-10-17",null,"MITCHELL"]
["104-10","2008-08-01",null,"MONONA"]
["104-11","2008-08-01",null,"MONROE"]
["104-12","2017-10-17",null,"MONTGOMERY"]
["104-13","2017-04-18",null,"MUSCATINE"]
["105-1","1994-09-27",null,"O'BRIEN"]
["105-3","2005-10-18",null,"OSCEOLA"]
["105-4","2011-10-18",null,"PAGE"]
["106-1","2017-04-18",null,"PALO ALTO"]
["106-2","2017-04-18",null,"PLYMOUTH"]
["107-7","2008-08-01",null,"POCAHONTAS"]
["107-22","2013-04-16",null,"POLK"]
["107-23","2011-10-18",null,"POTTAWATTAMIE"]
["107-24","2013-10-15",null,"POWESHIEK"]
["107-25","2008-08-01",null,"RINGGOLD"]
["107-28","2015-04-21",null,"SAC"]
["107-29","2014-04-15",null,"SCOTT"]
["107-30","2014-04-15",null,"SHELBY"]
["107-31","2011-04-19",null,"SIOUX"]
["108-1","2014-10-21",null,"STORY"]
["108-2","2008-08-01",null,"TAMA"]
["108-2A","2008-08-01",null,"TAYLOR"]
["108-8A","2016-10-18",null,"UNION"]
["108-8B","2016-04-19",null,"VAN BUREN"]
["108-8C","2016-04-19",null,"WAPELLO"]
["108-8D","2016-04-19",null,"WARREN"]
["108-9A","2010-04-20",null,"WASHINGTON"]
["108-11A","2008-08-01",null,"WAYNE"]
["108-12","2014-10-21",null,"WEBSTER"]
["108-13A","2008-08-01",null,"WINNEBAGO"]
["108-15","2008-08-01",null,"WINNESHIEK"]
["108-16","2010-10-19",null,"WOODBURY"]
["108-18","2014-10-21",null,"WORTH"]
["108-18B","2012-10-16",null,"WRIGHT"]
["108-20","2014-04-15"]
["108-22","2013-04-16",null,"SeriesList.xlsx"]
["108-23A","2008-08-01"]
["108-23B","2017-10-17"]
["108-24","2015-04-21"]
["108-25","2014-10-21"]
["108-26A","2008-08-01"]
["108-27","2017-10-17"]
["108-28","2008-08-01"]
["108-29","2015-04-21"]
["108-30","2013-04-16"]
["108-33","2016-04-19"]
["108-34","2010-10-19"]
["108-35","2012-04-17"]
["110-1","2013-04-16"]
["110-2","2013-04-16"]
["110-3","2008-08-01"]
["110-4","2008-08-01"]
["110-5","2015-10-20"]
["110-6","2008-08-01"]
["110-7A","2012-04-17"]
["110-7B","2010-10-19"]
["110-8","2008-08-01"]
["110-9","2011-10-18"]
["110-10","2008-08-01"]
["110-11","2008-08-01"]
["110-12A","2017-10-17"]
["110-13","2010-04-20"]
["110-14","2013-04-16"]
["110-15","2013-04-16"]
["110-16","2013-04-16"]
["110-17","2017-04-18"]
["111-1","2012-04-17"]
["111-2","1989-02-28"]
["111-23","2017-10-17"]
["111-25","2011-10-18"]
["112-3","2013-04-16"]
["112-4","2014-10-21"]
["112-5","2015-10-20"]
["112-6","2017-04-18"]
["112-7","2010-10-19"]
["112-8","2014-04-15"]
["112-9","2013-10-15"]
["112-10","2011-04-19"]
["113-1","2013-04-16"]
["113-2","2013-04-16"]
["113-3","2011-10-18"]
["113-10","2017-04-18"]
["190-01","2013-10-15"]
["190-10","2013-10-15"]
["190-11","2013-10-15"]
["190-25","2014-10-21"]
["190-50","2013-10-15"]
["190-51","2013-10-15"]
["190-52","2017-04-18"]
["190-54","2017-04-18"]
["190-61","2013-10-15"]
["190-62","2013-10-15"]
["190-65","2013-10-15"]
["190-66","2014-10-21"]
["192-01","2017-04-18"]
["231-1","2011-10-18"]
["231-2","2012-10-16"]
["232-3A","2015-10-20"]
["232-3B","2015-10-20"]
["232-3C","2015-10-20"]
["252-1","2012-10-16"]
["253-1","2011-10-18"]
["254-1","2001-10-02"]
["259-1","2013-10-15"]
["262-3","2012-10-16"]
["262-4","2013-04-16"]
["262-5","2005-10-18"]
["262-6","2005-10-18"]
["271-1","2011-10-18"]
["271-2","1985-08-20"]
["271-4","2011-10-18"]
["271-9","1994-09-27"]
["281-1","2016-10-18"]
["281-2","2013-10-15"]
["281-3","2017-10-17"]
["281-6","2017-10-17"]
["282-1","2010-10-19"]
["282-2","2013-10-15"]
["290-1","2014-04-15"]
["290-2","2015-04-21"]